BOTTLE,20221003CCHSIOAMB
EXPOCODE,SECT_ID,STNNBR,CASTNO,SAMPNO,BTLNBR,BTLNBR_FLAG_W,DATE,TIME,LATITUDE,LONGITUDE,DEPTH,CTDRAW,CTDPRS,CTDTMP,CTDSAL,CTDSAL_FLAG_W,SALNTY,SALNTY_FLAG_W,CTDOXY,CTDOXY_FLAG_W,THETA,OXYGEN,OXYGEN_FLAG_W,SILCAT,SILCAT_FLAG_W,NITRAT,NITRAT_FLAG_W,NITRIT,NITRIT_FLAG_W,PHSPHT,PHSPHT_FLAG_W,CFC-11,CFC-11_FLAG_W,CFC-12,CFC-12_FLAG_W,CFC113,CFC113_FLAG_W,CCL4,CCL4_FLAG_W,TRITUM,TRITUM_FLAG_W,HELIUM,HELIUM_FLAG_W,DELHE3,DELHE3_FLAG_W,DELC14,DELC14_FLAG_W,DELC13,DELC13_FLAG_W,NEON,NEON_FLAG_W,TCARBN,TCARBN_FLAG_W,ALKALI,ALKALI_FLAG_W,C14ERR,HELIER,DELHER,NEONER,C13ERR,TRITER
,,,,,,,,,,,,DBAR,DBAR,ITS-90,PSS-78,,PSS-78,,UMOL/KG,,DEG C,UMOL/KG,,UMOL/KG,,UMOL/KG,,UMOL/KG,,UMOL/KG,,PMOL/KG,,PMOL/KG,,PMOL/KG,,PMOL/KG,,TU,,NMOL/KG,,PERCNT,,/MILLE,,/MILLE,,NMOL/KG,,UMOL/KG,,UMOL/KG,,/MILLE,NMOL/KG,PERCNT,NMOL/KG,/MILLE,TU
   3220CGC92_1,   P13,    20,  1,    135,   1033,2,19920826,0102, 49.5013, 165.0123, 5355,    103,      7.0,  10.0706,  32.8315,2,  32.8359,2,   -999.0,9, 10.0698,    290.6,2,    25.81,2,    14.81,2,     0.09,2,     1.40,2, -999.000,9, -999.000,9, -999.000,9, -999.000,9, -999.000,9,-999.0000,9,  -999.00,9,   -999.0,9,  -999.00,9,-999.000,9,   -999.0,9,   -999.0,9,  -999.0,-999.0000,-999.000,-999.000,  -999.0,-999.000
   3220CGC92_1,   P13,    20,  1,    136,   1106,2,19920826,0102, 49.5013, 165.0123, 5355,    103,      7.0,  10.0706,  32.8315,2,-999.0000,9,   -999.0,9, 10.0698,   -999.0,9,    25.69,2,    14.61,2,     0.11,2,     1.38,2, -999.000,9, -999.000,9, -999.000,9, -999.000,9, -999.000,9,-999.0000,9,  -999.00,9,   -999.0,9,  -999.00,9,-999.000,9,   2045.2,2,   2220.8,2,  -999.0,-999.0000,-999.000,-999.000,  -999.0,-999.000
   3220CGC92_1,   P13,    20,  1,    134,   1109,2,19920826,0102, 49.5013, 165.0123, 5355,    241,     21.0,  10.0496,  32.8333,2,  32.8575,2,    291.9,2, 10.0472,    294.8,2,    26.25,2,    15.55,2,     0.09,2,     1.43,2, -999.000,9, -999.000,9, -999.000,9, -999.000,9, -999.000,9,-999.0000,9,  -999.00,9,   -999.0,9,  -999.00,9,-999.000,9,   2049.7,6,   2228.0,6,  -999.0,-999.0000,-999.000,-999.000,  -999.0,-999.000
   3220CGC92_1,   P13,    20,  1,    133,   1031,2,19920826,0102, 49.5013, 165.0123, 5355,    499,     46.0,   5.4437,  33.0259,2,  33.1050,2,    305.1,2,  5.4401,    326.7,2,    34.12,2,    21.47,2,     0.39,2,     1.78,2, -999.000,9, -999.000,9, -999.000,9, -999.000,9, -999.000,9,-999.0000,9,  -999.00,9,   -999.0,9,  -999.00,9,-999.000,9,   2121.0,2,   2245.1,2,  -999.0,-999.0000,-999.000,-999.000,  -999.0,-999.000
   3220CGC92_1,   P13,    20,  1,    132,   1008,2,19920826,0102, 49.5013, 165.0123, 5355,    751,     72.0,   2.7663,  33.1231,2,  33.1608,2,    307.2,2,  2.7623,    310.8,2,    40.38,2,    25.87,2,     0.00,2,     1.96,2, -999.000,9, -999.000,9, -999.000,9, -999.000,9, -999.000,9,-999.0000,9,  -999.00,9,   -999.0,9,  -999.00,9,-999.000,9,   2136.4,2,   2241.6,2,  -999.0,-999.0000,-999.000,-999.000,  -999.0,-999.000
   3220CGC92_1,   P13,    20,  1,    131,   1030,2,19920826,0102, 49.5013, 165.0123, 5355,   1005,     97.0,   2.2865,  33.1885,2,  33.2732,2,    294.9,2,  2.2814,    278.0,2,    50.37,2,    29.55,2,     0.00,2,     2.18,2, -999.000,9, -999.000,9, -999.000,9, -999.000,9, -999.000,9,-999.0000,9,  -999.00,9,   -999.0,9,  -999.00,9,-999.000,9,   2165.7,2,   2251.1,2,  -999.0,-999.0000,-999.000,-999.000,  -999.0,-999.000
   3220CGC92_1,   P13,    20,  1,    130,   1032,2,19920826,0102, 49.5013, 165.0123, 5355,   1251,    121.0,   2.5664,  33.3936,2,  33.5175,2,    206.7,2,  2.5597,    177.5,2,    68.95,2,    35.58,2,     0.00,2,     2.58,2, -999.000,9, -999.000,9, -999.000,9, -999.000,9, -999.000,9,-999.0000,9,  -999.00,9,   -999.0,9,  -999.00,9,-999.000,9,   2233.6,2,   2269.6,2,  -999.0,-999.0000,-999.000,-999.000,  -999.0,-999.000
   3220CGC92_1,   P13,    20,  1,    129,   1004,2,19920826,0102, 49.5013, 165.0123, 5355,   1508,    147.0,   3.3422,  33.7061,2,  33.7708,2,     86.8,2,  3.3330,     75.1,2,    84.30,2,    40.44,2,     0.00,2,     2.89,2, -999.000,9, -999.000,9, -999.000,9, -999.000,9, -999.000,9,-999.0000,9,  -999.00,9,   -999.0,9,  -999.00,9,-999.000,9,   2297.0,2,   2308.3,3,  -999.0,-999.0000,-999.000,-999.000,  -999.0,-999.000
   3220CGC92_1,   P13,    20,  1,    128,   1028,2,19920826,0102, 49.5013, 165.0123, 5355,   1747,    171.0,   3.6001,  33.8557,2,  33.8287,2,   -999.0,9,  3.5890,     58.2,2,    89.04,2,    41.62,2,     0.00,2,     2.99,2, -999.000,9, -999.000,9, -999.000,9, -999.000,9, -999.000,9,-999.0000,9,  -999.00,9,   -999.0,9,  -999.00,9,-999.000,9,   2311.2,2,   2291.9,2,  -999.0,-999.0000,-999.000,-999.000,  -999.0,-999.000
   3220CGC92_1,   P13,    20,  1,    127,   1117,2,19920826,0102, 49.5013, 165.0123, 5355,   1996,    195.0,   3.5481,  33.8981,2,  33.8856,2,     53.5,2,  3.5355,     39.9,2,    92.90,2,    42.32,2,     0.00,2,     3.08,2, -999.000,9, -999.000,9, -999.000,9, -999.000,9, -999.000,9,-999.0000,9,  -999.00,9,   -999.0,9,  -999.00,9,-999.000,9,   2322.9,2,   2302.6,2,  -999.0,-999.0000,-999.000,-999.000,  -999.0,-999.000
   3220CGC92_1,   P13,    20,  1,    126,   1110,2,19920826,0102, 49.5013, 165.0123, 5355,   2498,    245.0,   3.6991,  33.9897,2,  33.9808,2,   -999.0,9,  3.6828,     23.9,2,   100.40,2,    42.87,2,     0.00,2,     3.07,2, -999.000,9, -999.000,9, -999.000,9, -999.000,9, -999.000,9,-999.0000,9,  -999.00,9,   -999.0,9,  -999.00,9,-999.000,9,   2337.1,2,   2311.2,2,  -999.0,-999.0000,-999.000,-999.000,  -999.0,-999.000
   3220CGC92_1,   P13,    20,  1,    125,   1035,2,19920826,0102, 49.5013, 165.0123, 5355,   3000,    295.0,   3.6181,  34.0499,2,  34.0425,2,     19.9,2,  3.5985,     20.7,2,   105.62,2,    43.22,2,     0.00,2,     3.09,2, -999.000,9, -999.000,9, -999.000,9, -999.000,9, -999.000,9,-999.0000,9,  -999.00,9,   -999.0,9,  -999.00,9,-999.000,9,   2343.3,2,   2322.9,2,  -999.0,-999.0000,-999.000,-999.000,  -999.0,-999.000
   3220CGC92_1,   P13,    20,  1,    124,   1026,2,19920826,0102, 49.5013, 165.0123, 5355,   3501,    345.0,   3.4512,  34.0837,2,  34.0946,2,     23.9,2,  3.4285,     21.9,2,   110.92,2,    42.97,2,     0.00,2,     3.07,2, -999.000,9, -999.000,9, -999.000,9, -999.000,9, -999.000,9,-999.0000,9,  -999.00,9,   -999.0,9,  -999.00,9,-999.000,9,   2346.5,2,   2328.5,2,  -999.0,-999.0000,-999.000,-999.000,  -999.0,-999.000
   3220CGC92_1,   P13,    20,  1,    123,   1014,2,19920826,0102, 49.5013, 165.0123, 5355,   3997,    395.0,   3.4422,  34.1398,2,  34.1365,2,     23.7,2,  3.4161,     19.8,2,   114.15,2,    42.95,2,     0.00,2,     3.14,2, -999.000,9, -999.000,9, -999.000,9, -999.000,9, -999.000,9,-999.0000,9,  -999.00,9,   -999.0,9,  -999.00,9,-999.000,9,   2350.1,2,   2338.2,2,  -999.0,-999.0000,-999.000,-999.000,  -999.0,-999.000
   3220CGC92_1,   P13,    20,  1,    122,   1015,2,19920826,0102, 49.5013, 165.0123, 5355,   4989,    493.0,   3.3362,  34.2049,2,  34.2117,2,     17.7,2,  3.3036,     16.4,2,   121.89,2,    43.63,2,     0.00,2,     3.18,2, -999.000,9, -999.000,9, -999.000,9, -999.000,9, -999.000,9,-999.0000,9,  -999.00,9,   -999.0,9,  -999.00,9,-999.000,9,   2356.1,2,   2346.7,2,  -999.0,-999.0000,-999.000,-999.000,  -999.0,-999.000
   3220CGC92_1,   P13,    20,  1,    121,   1235,2,19920826,0102, 49.5013, 165.0123, 5355,   5995,    594.0,   3.1612,  34.2667,2,  34.2591,2,     16.7,2,  3.1223,     17.3,2,   127.34,2,    43.72,2,     0.00,2,     3.15,2, -999.000,9, -999.000,9, -999.000,9, -999.000,9, -999.000,9,-999.0000,9,  -999.00,9,   -999.0,9,  -999.00,9,-999.000,9,   2365.1,2,   2358.5,2,  -999.0,-999.0000,-999.000,-999.000,  -999.0,-999.000
   3220CGC92_1,   P13,    20,  1,    120,   1237,2,19920826,0102, 49.5013, 165.0123, 5355,   6998,    694.0,   3.0003,  34.3158,2,  34.3073,2,   -999.0,9,  2.9550,     18.4,2,   132.70,2,    43.52,2,     0.00,2,     3.16,2, -999.000,9, -999.000,9, -999.000,9, -999.000,9, -999.000,9,-999.0000,9,  -999.00,9,   -999.0,9,  -999.00,9,-999.000,9,   2371.1,2,   2363.3,2,  -999.0,-999.0000,-999.000,-999.000,  -999.0,-999.000
   3220CGC92_1,   P13,    20,  1,    119,   1025,2,19920826,0102, 49.5013, 165.0123, 5355,   8012,    795.0,   2.8623,  34.3514,2,  34.3513,2,     19.1,2,  2.8107,     18.2,2,   138.44,2,    43.14,2,     0.00,2,     3.16,2, -999.000,9, -999.000,9, -999.000,9, -999.000,9, -999.000,9,-999.0000,9,  -999.00,9,   -999.0,9,  -999.00,9,-999.000,9,   2375.9,2,   2405.8,4,  -999.0,-999.0000,-999.000,-999.000,  -999.0,-999.000
   3220CGC92_1,   P13,    20,  1,    118,   1002,2,19920826,0102, 49.5013, 165.0123, 5355,   8999,    893.0,   2.7313,  34.3875,2,  34.3862,2,     19.6,2,  2.6735,     21.2,2,   142.88,2,    42.72,2,     0.00,2,     3.11,2, -999.000,9, -999.000,9, -999.000,9, -999.000,9, -999.000,9,-999.0000,9,  -999.00,9,   -999.0,9,  -999.00,9,-999.000,9,   2381.3,2,   2378.4,2,  -999.0,-999.0000,-999.000,-999.000,  -999.0,-999.000
   3220CGC92_1,   P13,    20,  1,    117,   1005,2,19920826,0102, 49.5013, 165.0123, 5355,   9991,    992.0,   2.5844,  34.4185,2,  34.4178,2,     21.2,2,  2.5205,     22.3,6,   147.34,2,    43.26,2,     0.00,2,     3.14,2, -999.000,9, -999.000,9, -999.000,9, -999.000,9, -999.000,9,-999.0000,9,  -999.00,9,   -999.0,9,  -999.00,9,-999.000,9,   2383.7,2,   2388.7,2,  -999.0,-999.0000,-999.000,-999.000,  -999.0,-999.000
   3220CGC92_1,   P13,    20,  1,    116,   1104,2,19920826,0102, 49.5013, 165.0123, 5355,  12005,   1194.0,   2.3664,  34.4742,2,  34.4800,2,     29.6,2,  2.2895,     29.5,2,   154.83,2,    42.92,2,     0.00,2,     3.10,2, -999.000,9, -999.000,9, -999.000,9, -999.000,9, -999.000,9,-999.0000,9,  -999.00,9,   -999.0,9,  -999.00,9,-999.000,9,   2384.4,2,   2395.3,2,  -999.0,-999.0000,-999.000,-999.000,  -999.0,-999.000
   3220CGC92_1,   P13,    20,  1,    115,   1020,2,19920826,0102, 49.5013, 165.0123, 5355,  14001,   1393.0,   2.1725,  34.5195,2,  34.5261,2,     40.9,2,  2.0825,     41.9,2,   159.95,2,    42.19,2,     0.00,2,     3.03,2, -999.000,9, -999.000,9, -999.000,9, -999.000,9, -999.000,9,-999.0000,9,  -999.00,9,   -999.0,9,  -999.00,9,-999.000,9,   2386.7,2,   2413.6,2,  -999.0,-999.0000,-999.000,-999.000,  -999.0,-999.000
   3220CGC92_1,   P13,    20,  1,    114,   1120,2,19920826,0102, 49.5013, 165.0123, 5355,  17011,   1694.0,   1.9655,  34.5677,2,  34.5747,2,     58.9,2,  1.8547,     60.5,2,   161.78,2,    40.95,2,     0.00,2,     2.96,2, -999.000,9, -999.000,9, -999.000,9, -999.000,9, -999.000,9,-999.0000,9,  -999.00,9,   -999.0,9,  -999.00,9,-999.000,9,   2379.3,2,   2410.9,2,  -999.0,-999.0000,-999.000,-999.000,  -999.0,-999.000
   3220CGC92_1,   P13,    20,  1,    113,   1112,2,19920826,0102, 49.5013, 165.0123, 5355,  19958,   1989.0,   1.8086,  34.6054,2,  34.6069,2,     77.0,2,  1.6760,     77.9,3,   161.31,2,    39.26,2,     0.00,2,     2.74,3, -999.000,9, -999.000,9, -999.000,9, -999.000,9, -999.000,9,-999.0000,9,  -999.00,9,   -999.0,9,  -999.00,9,-999.000,9,   2370.9,2,   2417.4,2,  -999.0,-999.0000,-999.000,-999.000,  -999.0,-999.000
   3220CGC92_1,   P13,    20,  1,    112,   1234,2,19920826,0102, 49.5013, 165.0123, 5355,  22988,   2293.0,   1.6976,  34.6282,2,  34.6301,2,   -999.0,9,  1.5412,     97.1,3,   158.73,2,    38.88,2,     0.00,2,     2.73,3,    0.040,4,    0.009,2, -999.000,9, -999.000,9, -999.000,9,-999.0000,9,  -999.00,9,   -999.0,9,  -999.00,9,-999.000,9,   2361.1,2,   2413.5,2,  -999.0,-999.0000,-999.000,-999.000,  -999.0,-999.000
   3220CGC92_1,   P13,    20,  1,    111,   1221,2,19920826,0102, 49.5013, 165.0123, 5355,  25997,   2594.0,   1.6176,  34.6447,2,  34.6453,2,    108.8,2,  1.4361,    109.6,2,   155.49,2,    38.89,2,     0.00,2,     2.79,2,    0.022,4,   -0.002,2, -999.000,9, -999.000,9, -999.000,9,-999.0000,9,  -999.00,9,   -999.0,9,  -999.00,9,-999.000,9,   2352.3,2,   2421.4,2,  -999.0,-999.0000,-999.000,-999.000,  -999.0,-999.000
   3220CGC92_1,   P13,    20,  1,    110,   1012,2,19920826,0102, 49.5013, 165.0123, 5355,  28995,   2895.0,   1.5506,  34.6578,2,  34.6580,2,   -999.0,9,  1.3427,    122.8,2,   153.74,2,    38.13,2,     0.00,2,     2.74,2,    0.000,6,   -0.011,6, -999.000,9, -999.000,9, -999.000,9,-999.0000,9,  -999.00,9,   -999.0,9,  -999.00,9,-999.000,9,   2343.1,2,   2418.8,2,  -999.0,-999.0000,-999.000,-999.000,  -999.0,-999.000
   3220CGC92_1,   P13,    20,  1,    109,   1041,2,19920826,0102, 49.5013, 165.0123, 5355,  31005,   3097.0,   1.5216,  34.6637,2,  34.6633,2,   -999.0,9,  1.2951,    129.6,2,   151.76,2,    37.33,2,     0.00,2,     2.68,2,    0.007,2,    0.001,2, -999.000,9, -999.000,9, -999.000,9,-999.0000,9,  -999.00,9,   -999.0,9,  -999.00,9,-999.000,9,   2338.3,2,   2421.5,2,  -999.0,-999.0000,-999.000,-999.000,  -999.0,-999.000
   3220CGC92_1,   P13,    20,  1,    108,   1003,2,19920826,0102, 49.5013, 165.0123, 5355,  34000,   3397.0,   1.4826,  34.6723,2,  34.6720,2,   -999.0,9,  1.2274,    138.4,2,   149.19,2,    36.70,2,     0.00,2,     2.61,2,    0.010,2,    0.001,2, -999.000,9, -999.000,9, -999.000,9,-999.0000,9,  -999.00,9,   -999.0,9,  -999.00,9,-999.000,9,   2333.1,2,   2417.2,2,  -999.0,-999.0000,-999.000,-999.000,  -999.0,-999.000
   3220CGC92_1,   P13,    20,  1,    107,   1013,2,19920826,0102, 49.5013, 165.0123, 5355,  36984,   3696.0,   1.4746,  34.6760,2,  34.6758,2,   -999.0,9,  1.1889,    143.8,2,   147.87,2,    36.85,2,     0.00,2,     2.62,2,   -0.002,2,    0.012,2, -999.000,9, -999.000,9, -999.000,9,-999.0000,9,  -999.00,9,   -999.0,9,  -999.00,9,-999.000,9,   2329.7,2,   2420.3,2,  -999.0,-999.0000,-999.000,-999.000,  -999.0,-999.000
   3220CGC92_1,   P13,    20,  1,    106,   1036,2,19920826,0102, 49.5013, 165.0123, 5355,  40006,   3999.0,   1.4716,  34.6807,2,  34.6790,2,   -999.0,9,  1.1536,    148.1,2,   146.71,2,    36.66,2,     0.00,2,     2.61,2,    0.003,6,    0.005,6, -999.000,9, -999.000,9, -999.000,9,-999.0000,9,  -999.00,9,   -999.0,9,  -999.00,9,-999.000,9,   2327.7,2,   2418.8,2,  -999.0,-999.0000,-999.000,-999.000,  -999.0,-999.000
   3220CGC92_1,   P13,    20,  1,    105,   1037,2,19920826,0102, 49.5013, 165.0123, 5355,  43007,   4300.0,   1.4786,  34.6824,2,  34.6842,2,   -999.0,9,  1.1271,    151.7,2,   145.90,2,    36.56,2,     0.00,2,     2.58,2, -999.000,9, -999.000,9, -999.000,9, -999.000,9, -999.000,9,-999.0000,9,  -999.00,9,   -999.0,9,  -999.00,9,-999.000,9,   2325.8,2,   2420.4,2,  -999.0,-999.0000,-999.000,-999.000,  -999.0,-999.000
   3220CGC92_1,   P13,    20,  1,    104,   1029,2,19920826,0102, 49.5013, 165.0123, 5355,  45995,   4599.0,   1.4926,  34.6853,2,  34.6850,2,    154.0,2,  1.1064,    154.1,2,   145.48,2,    36.41,2,     0.00,2,     2.56,2,   -0.003,2,   -0.002,2, -999.000,9, -999.000,9, -999.000,9,-999.0000,9,  -999.00,9,   -999.0,9,  -999.00,9,-999.000,9,   2325.5,2,   2416.1,2,  -999.0,-999.0000,-999.000,-999.000,  -999.0,-999.000
   3220CGC92_1,   P13,    20,  1,    103,   1023,2,19920826,0102, 49.5013, 165.0123, 5355,  48912,   4891.0,   1.5126,  34.6864,2,  34.6854,2,    157.0,2,  1.0911,    156.1,2,   145.26,2,    35.98,2,     0.00,2,     2.55,2, -999.000,9, -999.000,9, -999.000,9, -999.000,9, -999.000,9,-999.0000,9,  -999.00,9,   -999.0,9,  -999.00,9,-999.000,9,   2323.3,6,   2417.6,6,  -999.0,-999.0000,-999.000,-999.000,  -999.0,-999.000
   3220CGC92_1,   P13,    20,  1,    102,   2001,2,19920826,0102, 49.5013, 165.0123, 5355,  52005,   5200.0,   1.5406,  34.6863,2,  34.6855,2,    158.4,2,  1.0803,    159.9,2,   145.03,2,    35.88,2,     0.00,2,     2.48,2,   -0.002,6,    0.028,4, -999.000,9, -999.000,9, -999.000,9,-999.0000,9,  -999.00,9,   -999.0,9,  -999.00,9,-999.000,9,   -999.0,9,   -999.0,9,  -999.0,-999.0000,-999.000,-999.000,  -999.0,-999.000
   3220CGC92_1,   P13,    20,  1,    101,   1038,2,19920826,0102, 49.5013, 165.0123, 5355,  56192,   5618.0,   1.5906,  34.6868,2,  34.6890,6,    159.7,2,  1.0755,    158.6,2,   146.21,2,    35.60,2,     0.00,2,     2.49,2,    0.009,2,    0.007,2,    0.961,4,    0.014,2, -999.000,9,-999.0000,9,  -999.00,9,   -999.0,9,  -999.00,9,-999.000,9,   2320.5,2,   2418.9,6,  -999.0,-999.0000,-999.000,-999.000,  -999.0,-999.000