BOTTLE,20221003CCHSIOAMB
EXPOCODE,SECT_ID,STNNBR,CASTNO,SAMPNO,BTLNBR,BTLNBR_FLAG_W,DATE,TIME,LATITUDE,LONGITUDE,DEPTH,CTDRAW,CTDPRS,CTDTMP,CTDSAL,CTDSAL_FLAG_W,SALNTY,SALNTY_FLAG_W,CTDOXY,CTDOXY_FLAG_W,THETA,OXYGEN,OXYGEN_FLAG_W,SILCAT,SILCAT_FLAG_W,NITRAT,NITRAT_FLAG_W,NITRIT,NITRIT_FLAG_W,PHSPHT,PHSPHT_FLAG_W,CFC-11,CFC-11_FLAG_W,CFC-12,CFC-12_FLAG_W,CFC113,CFC113_FLAG_W,CCL4,CCL4_FLAG_W,TRITUM,TRITUM_FLAG_W,HELIUM,HELIUM_FLAG_W,DELHE3,DELHE3_FLAG_W,DELC14,DELC14_FLAG_W,DELC13,DELC13_FLAG_W,NEON,NEON_FLAG_W,TCARBN,TCARBN_FLAG_W,ALKALI,ALKALI_FLAG_W,C14ERR,HELIER,DELHER,NEONER,C13ERR,TRITER
,,,,,,,,,,,,DBAR,DBAR,ITS-90,PSS-78,,PSS-78,,UMOL/KG,,DEG C,UMOL/KG,,UMOL/KG,,UMOL/KG,,UMOL/KG,,UMOL/KG,,PMOL/KG,,PMOL/KG,,PMOL/KG,,PMOL/KG,,TU,,NMOL/KG,,PERCNT,,/MILLE,,/MILLE,,NMOL/KG,,UMOL/KG,,UMOL/KG,,/MILLE,NMOL/KG,PERCNT,NMOL/KG,/MILLE,TU
   3220CGC92_2,   P13,    69,  1,    136,   1106,2,19921010,2001, 10.0077, 165.0017, 4960,     92,      6.0,  29.1620,  34.3651,2,  34.3528,2,    199.4,2, 29.1605,    194.9,2,     0.71,2,     0.00,2,     0.00,2,     0.06,2,    1.586,2,    0.915,2, -999.000,9, -999.000,9, -999.000,9,-999.0000,9,  -999.00,9,    104.1,2,     1.46,2,-999.000,9,   1902.4,2,   2257.3,2,     3.4,-999.0000,-999.000,-999.000,  -999.0,-999.000
   3220CGC92_2,   P13,    69,  1,    135,   1013,2,19921010,2001, 10.0077, 165.0017, 4960,    237,     21.0,  29.1640,  34.3655,2,  34.3570,2,    199.0,2, 29.1589,    193.3,2,     0.67,2,     0.00,2,     0.00,2,     0.10,2,    1.606,2,    0.935,2, -999.000,9, -999.000,9,    1.198,2,   1.6800,2,    -1.26,2,   -999.0,5,     1.63,2,   6.518,2,   1901.9,2,   2255.4,2,  -999.0,  0.0080,   0.140,   0.029,  -999.0,   0.004
   3220CGC92_2,   P13,    69,  1,    134,   1030,2,19921010,2001, 10.0077, 165.0017, 4960,    502,     47.0,  29.1430,  34.5659,2,  34.6218,2,    200.1,2, 29.1316,    199.6,2,     0.71,2,     0.04,2,     0.00,2,     0.10,2,    1.694,2,    0.958,2, -999.000,9, -999.000,9, -999.000,9,-999.0000,9,  -999.00,9,   -999.0,5,     1.56,2,-999.000,9,   1927.4,6,   2275.1,6,  -999.0,-999.0000,-999.000,-999.000,  -999.0,-999.000
   3220CGC92_2,   P13,    69,  1,    133,   1231,2,19921010,2001, 10.0077, 165.0017, 4960,    731,     70.0,  28.5052,  34.6595,2,  34.6643,2,    201.3,2, 28.4885,    205.0,2,     0.84,2,     0.00,2,     0.00,2,     0.14,2,    1.727,2,    0.979,2, -999.000,9, -999.000,9, -999.000,9,   1.6850,2,    -0.80,2,   -999.0,5,     1.54,2,   6.545,2,   1934.0,2,   2279.3,2,  -999.0,  0.0080,   0.140,   0.029,  -999.0,-999.000
   3220CGC92_2,   P13,    69,  1,    132,   1017,2,19921010,2001, 10.0077, 165.0017, 4960,   1009,     97.0,  26.1497,  34.7097,2,  34.8461,2,    207.0,2, 26.1280,    201.2,2,     1.35,2,     0.00,2,     0.00,2,     0.20,2,    1.967,6,    1.100,6, -999.000,9, -999.000,9,    1.672,2,   1.6930,2,    -0.22,2,   -999.0,5,     1.34,2,   6.680,2,   1983.7,2,   2296.3,2,  -999.0,  0.0080,   0.140,   0.029,  -999.0,   0.005
   3220CGC92_2,   P13,    69,  1,    131,   1031,2,19921010,2001, 10.0077, 165.0017, 4960,   1246,    121.0,  19.6453,  34.8727,2,  34.8744,2,    182.0,2, 19.6232,    174.6,6,     3.73,2,     2.30,2,     0.25,2,     0.48,2,    2.049,2,    1.144,2, -999.000,9, -999.000,9,    1.905,2,   1.7110,2,     1.84,2,    100.1,2,     0.85,2,   6.880,2,   2049.7,2,   2299.0,2,     3.2,  0.0080,   0.140,   0.030,  -999.0,   0.006
   3220CGC92_2,   P13,    69,  1,    130,   1041,2,19921010,2001, 10.0077, 165.0017, 4960,   1485,    145.0,  16.3971,  34.6676,2,  34.6383,2,    143.7,2, 16.3738,    140.2,2,    10.11,2,    11.34,2,     0.00,2,     0.99,2,    1.802,2,    0.988,2, -999.000,9, -999.000,9,    1.896,2,   1.7280,2,     5.81,2,     76.0,2,     0.63,2,   7.034,2,   2100.4,2,   2281.0,2,     3.5,  0.0080,   0.140,   0.031,  -999.0,   0.006
   3220CGC92_2,   P13,    69,  1,    129,   1004,2,19921010,2001, 10.0077, 165.0017, 4960,   1753,    171.0,  13.9047,  34.5127,2,  34.4710,2,    119.0,2, 13.8802,    114.7,2,    18.29,2,    18.59,2,     0.00,2,     1.47,2,    1.324,2,    0.726,2, -999.000,9, -999.000,9,    1.546,2,   1.7610,2,     9.09,2,     28.4,2,     0.39,2,   7.247,2,   2142.9,2,   2279.2,2,     3.0,  0.0080,   0.140,   0.032,  -999.0,   0.005
   3220CGC92_2,   P13,    69,  1,    128,   1016,2,19921010,2001, 10.0077, 165.0017, 4960,   2007,    196.0,  12.0051,  34.4669,2,  34.4827,2,     90.4,2, 11.9797,     89.3,2,    23.67,2,    22.40,2,     0.23,2,     1.83,2,    0.963,2,    0.528,2, -999.000,9, -999.000,9,    1.354,2,   1.7500,2,     9.81,2,      1.3,2,     0.20,2,   7.244,2,   2174.5,2,   2280.3,2,     3.1,  0.0080,   0.140,   0.032,  -999.0,   0.014
   3220CGC92_2,   P13,    69,  1,    127,   1028,2,19921010,2001, 10.0077, 165.0017, 4960,   2493,    245.0,  10.5265,  34.5729,2,  34.5787,2,     60.1,2, 10.4972,     43.5,2,    31.45,2,    29.73,2,     0.15,2,     2.27,2,    0.341,6,    0.187,6, -999.000,9, -999.000,9,    0.687,2,   1.7640,2,     8.97,2,    -49.6,2,     0.06,2,   7.318,2,   2228.1,2,   2294.7,2,     2.9,  0.0080,   0.140,   0.032,  -999.0,   0.003
   3220CGC92_2,   P13,    69,  1,    126,   1110,2,19921010,2001, 10.0077, 165.0017, 4960,   2984,    294.0,   9.7717,  34.5999,2,  34.6119,2,     37.2,2,  9.7380,     38.3,2,    36.01,2,    32.55,2,     0.00,2,     2.52,2,    0.130,2,    0.071,2, -999.000,9, -999.000,9,    0.307,2,   1.7660,2,     7.55,2,    -81.9,2,     0.11,2,   7.443,2,   2243.9,2,   2300.1,2,     2.7,  0.0080,   0.140,   0.033,  -999.0,   0.002
   3220CGC92_2,   P13,    69,  1,    125,   1035,2,19921010,2001, 10.0077, 165.0017, 4960,   3501,    345.0,   9.3837,  34.6158,2,  34.6318,2,     39.4,2,  9.3452,     38.8,2,    36.76,2,    33.62,2,     0.00,2,     2.54,2,    0.093,6,    0.052,6, -999.000,9, -999.000,9, -999.000,9,-999.0000,9,  -999.00,9,    -95.9,2,     0.12,2,-999.000,9,   2247.6,2,   2306.5,2,     2.8,-999.0000,-999.000,-999.000,  -999.0,-999.000
   3220CGC92_2,   P13,    69,  1,    124,   1019,2,19921010,2001, 10.0077, 165.0017, 4960,   4005,    395.0,   9.0628,  34.6247,2,  34.6231,2,     33.5,2,  9.0194,     33.8,2,    40.14,2,    34.09,2,     0.19,2,     2.55,2,    0.047,2,    0.024,2, -999.000,9, -999.000,9,    0.113,2,   1.7590,2,     6.81,2,    -93.2,2,     0.11,2,   7.403,2,   2259.9,2,   2305.1,2,     3.1,  0.0080,   0.140,   0.033,  -999.0,   0.002
   3220CGC92_2,   P13,    69,  1,    123,   1014,2,19921010,2001, 10.0077, 165.0017, 4960,   5014,    496.0,   8.2130,  34.5921,2,  34.5946,2,     45.5,2,  8.1614,     44.7,2,    44.07,2,    34.82,2,     0.00,2,     2.35,2,    0.053,6,    0.022,6, -999.000,9, -999.000,9, -999.000,9,-999.0000,9,  -999.00,9,   -101.8,2,     0.16,6,-999.000,9,   2257.4,2,   2314.8,2,     2.8,-999.0000,-999.000,-999.000,  -999.0,-999.000
   3220CGC92_2,   P13,    69,  1,    122,   1015,2,19921010,2001, 10.0077, 165.0017, 4960,   5998,    594.0,   7.4362,  34.5506,2,  34.5572,2,     47.5,2,  7.3774,     48.2,2,    52.07,2,    35.83,2,     0.00,2,     2.42,2,    0.019,2,    0.013,2, -999.000,9, -999.000,9,    0.000,2,   1.8000,2,     8.97,2,   -124.4,2,     0.15,2,   7.453,2,   2267.8,2,   2316.6,2,     2.8,  0.0080,   0.140,   0.033,  -999.0,   0.009
   3220CGC92_2,   P13,    69,  1,    121,   1235,2,19921010,2001, 10.0077, 165.0017, 4960,   6985,    692.0,   6.7804,  34.5377,2,  34.5423,2,     48.0,2,  6.7149,     44.8,2,    59.96,2,    37.91,2,     0.00,2,     2.60,2,    0.010,2,    0.004,2, -999.000,9, -999.000,9, -999.000,9,-999.0000,9,  -999.00,9,   -134.0,2,     0.07,2,-999.000,9,   2281.5,2,   2328.5,2,     2.8,-999.0000,-999.000,-999.000,  -999.0,-999.000
   3220CGC92_2,   P13,    69,  1,    120,   1237,2,19921010,2001, 10.0077, 165.0017, 4960,   8007,    794.0,   6.0835,  34.5354,2,  34.5392,2,     49.5,2,  6.0120,     45.4,2,    67.79,2,    38.42,2,     0.00,2,     2.68,2,    0.002,2,    0.001,2, -999.000,9, -999.000,9,    0.024,2,-999.0000,9,  -999.00,9,   -146.3,2,     0.07,2,-999.000,9,   2291.8,2,   2332.2,2,     4.3,-999.0000,-999.000,-999.000,  -999.0,   0.001
   3220CGC92_2,   P13,    69,  1,    119,   1025,2,19921010,2001, 10.0077, 165.0017, 4960,   9007,    894.0,   5.5427,  34.5309,2,  34.5373,2,     57.3,2,  5.4651,     57.4,2,    76.62,2,    38.27,2,     0.00,2,     2.67,2,    0.002,2,   -0.002,2, -999.000,9, -999.000,9, -999.000,9,-999.0000,9,  -999.00,9,   -159.0,2,     0.08,2,-999.000,9,   2296.3,2,   2345.6,2,     3.1,-999.0000,-999.000,-999.000,  -999.0,-999.000
   3220CGC92_2,   P13,    69,  1,    118,   1118,2,19921010,2001, 10.0077, 165.0017, 4960,  10009,    994.0,   5.0078,  34.5381,2,  34.5405,2,     62.4,2,  4.9249,     63.3,2,    87.05,2,    38.65,2,     0.00,2,     2.68,2,   -0.001,2,   -0.002,2, -999.000,9, -999.000,9, -999.000,9,   1.8490,2,    15.90,2,   -177.9,2,     0.05,2,-999.000,9,   2305.8,2,   2353.7,2,     3.3,-999.0000,-999.000,-999.000,  -999.0,-999.000
   3220CGC92_2,   P13,    69,  1,    117,   1005,2,19921010,2001, 10.0077, 165.0017, 4960,  10985,   1092.0,   4.5019,  34.5441,2,  34.5475,2,     66.1,2,  4.4143,     66.1,2,    96.96,2,    38.77,2,     0.00,2,     2.67,2,    0.002,2,    0.003,2, -999.000,9, -999.000,9, -999.000,9,-999.0000,9,  -999.00,9,   -187.4,2,     0.02,2,-999.000,9,   2314.9,2,   2365.1,2,     2.6,-999.0000,-999.000,-999.000,  -999.0,-999.000
   3220CGC92_2,   P13,    69,  1,    116,   1104,2,19921010,2001, 10.0077, 165.0017, 4960,  11964,   1189.0,   4.0410,  34.5581,2,  34.5603,2,     71.7,2,  3.9489,     72.2,2,   104.28,2,    38.73,2,     0.00,2,     2.72,2,   -0.001,6,    0.000,6, -999.000,9, -999.000,9, -999.000,9,   1.8490,2,    19.20,2,   -202.3,2,     0.00,2,-999.000,9,   2320.3,2,   2372.8,2,     3.3,-999.0000,-999.000,-999.000,  -999.0,-999.000
   3220CGC92_2,   P13,    69,  1,    115,   1020,2,19921010,2001, 10.0077, 165.0017, 4960,  13014,   1294.0,   3.7311,  34.5662,2,  34.5687,2,     76.8,2,  3.6329,     76.5,2,   110.90,2,    38.81,2,     0.00,2,     2.72,2,    0.001,2,    0.002,2, -999.000,9, -999.000,9, -999.000,9,-999.0000,9,  -999.00,9,   -205.2,2,     0.00,2,-999.000,9,   2324.9,2,   2381.8,2,     2.8,-999.0000,-999.000,-999.000,  -999.0,-999.000
   3220CGC92_2,   P13,    69,  1,    114,   1012,2,19921010,2001, 10.0077, 165.0017, 4960,  14989,   1492.0,   3.1083,  34.5898,2,  34.5915,2,     85.6,2,  2.9998,     86.2,2,   122.98,2,    38.21,2,     0.00,2,     2.68,2, -999.000,9, -999.000,9, -999.000,9, -999.000,9, -999.000,9,   1.8860,2,    21.50,2,   -214.1,2,    -0.04,2,-999.000,9,   2333.4,2,   2394.1,2,     3.0,-999.0000,-999.000,-999.000,  -999.0,-999.000
   3220CGC92_2,   P13,    69,  1,    113,   1229,2,19921010,2001, 10.0077, 165.0017, 4960,  17007,   1694.0,   2.6854,  34.6059,2,  34.6098,2,     91.9,2,  2.5650,     92.9,2,   134.87,2,    38.05,2,     0.00,2,     2.65,2, -999.000,9, -999.000,9, -999.000,9, -999.000,9, -999.000,9,   1.8850,2,    22.90,2,   -231.0,2,    -0.08,2,-999.000,9,   2342.1,2,   2405.9,2,     2.5,-999.0000,-999.000,-999.000,  -999.0,-999.000
   3220CGC92_2,   P13,    69,  1,    112,   1219,2,19921010,2001, 10.0077, 165.0017, 4960,  20014,   1995.0,   2.2445,  34.6287,2,  34.6327,2,    102.3,2,  2.1047,    102.9,2,   144.28,2,    37.72,2,     0.00,2,     2.62,2,   -0.004,2,   -0.004,2, -999.000,9, -999.000,9, -999.000,9,   1.8990,2,    23.80,2,   -235.5,2,    -0.04,2,-999.000,9,   2346.1,2,   2415.6,2,     2.5,-999.0000,-999.000,-999.000,  -999.0,-999.000
   3220CGC92_2,   P13,    69,  1,    111,   1112,2,19921010,2001, 10.0077, 165.0017, 4960,  22995,   2293.0,   2.0255,  34.6450,2,  34.6494,2,   -999.0,9,  1.8634,    110.6,2,   150.21,2,    37.67,2,     0.00,2,     2.74,2, -999.000,9, -999.000,9, -999.000,9, -999.000,9, -999.000,9,   1.9220,2,    25.00,2,   -238.9,2,    -0.02,2,-999.000,9,   2348.4,2,   2423.7,2,     2.7,-999.0000,-999.000,-999.000,  -999.0,-999.000
   3220CGC92_2,   P13,    69,  1,    110,   1029,2,19921010,2001, 10.0077, 165.0017, 4960,  26012,   2596.0,   1.8556,  34.6571,2,  34.6590,2,   -999.0,9,  1.6692,    117.6,2,   153.27,2,    36.70,2,     0.00,2,     2.71,2, -999.000,9, -999.000,9, -999.000,9, -999.000,9, -999.000,9,   1.8880,2,    24.60,2,   -235.9,2,    -0.03,2,-999.000,9,   2346.9,2,   2425.0,2,     2.5,-999.0000,-999.000,-999.000,  -999.0,-999.000
   3220CGC92_2,   P13,    69,  1,    109,   1023,2,19921010,2001, 10.0077, 165.0017, 4960,  28992,   2895.0,   1.7286,  34.6664,2,  34.6672,2,   -999.0,9,  1.5168,    127.0,2,   153.71,2,    36.54,2,     0.00,2,     2.67,2, -999.000,5, -999.000,5, -999.000,9, -999.000,9, -999.000,9,   1.9180,2,    23.20,2,   -231.3,2,     0.00,2,-999.000,9,   2342.7,2,   2427.6,2,     2.5,-999.0000,-999.000,-999.000,  -999.0,-999.000
   3220CGC92_2,   P13,    69,  1,    108,   1032,2,19921010,2001, 10.0077, 165.0017, 4960,  31983,   3195.0,   1.6156,  34.6730,2,  34.6735,2,   -999.0,9,  1.3773,    136.2,2,   151.86,2,    36.39,2,     0.00,2,     2.63,2, -999.000,9, -999.000,9, -999.000,9, -999.000,9, -999.000,9,   1.8970,2,    20.70,2,   -227.2,2,     0.05,2,-999.000,9,   2335.9,2,   2424.7,2,     2.7,-999.0000,-999.000,-999.000,  -999.0,-999.000
   3220CGC92_2,   P13,    69,  1,    107,   1037,2,19921010,2001, 10.0077, 165.0017, 4960,  35003,   3497.0,   1.5266,  34.6795,2,  34.6816,2,    143.2,2,  1.2601,    144.4,6,   150.37,2,    34.98,2,     0.00,2,     2.58,2, -999.000,9, -999.000,9, -999.000,9, -999.000,9, -999.000,9,   1.9090,2,    18.70,2,   -218.2,2,    -0.36,4,-999.000,9,   2331.4,2,   2420.7,2,     2.6,-999.0000,-999.000,-999.000,  -999.0,-999.000
   3220CGC92_2,   P13,    69,  1,    106,   1022,2,19921010,2001, 10.0077, 165.0017, 4960,  37989,   3797.0,   1.4507,  34.6859,2,  34.6855,2,    154.0,2,  1.1548,    155.1,2,   146.11,2,    34.92,2,     0.00,2,     2.52,2,   -0.002,2,    0.000,2, -999.000,9, -999.000,9, -999.000,9,   1.9000,2,    16.90,2,   -210.4,2,     0.18,2,-999.000,9,   2321.5,2,   2413.6,2,     2.8,-999.0000,-999.000,-999.000,  -999.0,-999.000
   3220CGC92_2,   P13,    69,  1,    105,   1221,2,19921010,2001, 10.0077, 165.0017, 4960,  41000,   4099.0,   1.4217,  34.6913,2,  34.6897,2,   -999.0,9,  1.0941,    163.1,2,   141.75,2,    34.29,2,     0.00,2,     2.47,2, -999.000,9, -999.000,9, -999.000,9, -999.000,9, -999.000,9,   1.8940,2,    16.20,2,   -199.3,2,     0.22,2,-999.000,9,   2311.1,2,   2412.8,2,     3.0,-999.0000,-999.000,-999.000,  -999.0,-999.000
   3220CGC92_2,   P13,    69,  1,    104,   1038,2,19921010,2001, 10.0077, 165.0017, 4960,  43755,   4375.0,   1.4167,  34.6936,2,  34.6924,2,    169.2,2,  1.0584,    167.9,2,   138.84,2,    34.03,2,     0.00,2,     2.42,2, -999.000,9, -999.000,9, -999.000,9, -999.000,9, -999.000,9,   1.8980,2,    15.40,2,   -333.5,4,     0.23,2,-999.000,9,   2305.0,2,   2407.8,2,     3.4,-999.0000,-999.000,-999.000,  -999.0,-999.000
   3220CGC92_2,   P13,    69,  1,    103,   1033,2,19921010,2001, 10.0077, 165.0017, 4960,  47012,   4701.0,   1.3787,  34.6985,2,  34.6978,2,    179.0,2,  0.9840,    177.2,2,   132.66,2,    33.47,2,     0.00,2,     2.38,2,    0.002,2,   -0.001,2, -999.000,9, -999.000,9, -999.000,9,   1.8730,2,    14.30,2,   -188.3,2,     0.32,2,-999.000,9,   2295.1,2,   2395.0,2,     3.3,-999.0000,-999.000,-999.000,  -999.0,-999.000
   3220CGC92_2,   P13,    69,  1,    102,   1234,2,19921010,2001, 10.0077, 165.0017, 4960,  48995,   4899.0,   1.3577,  34.7010,2,  34.7018,2,    184.2,2,  0.9402,    182.9,2,   129.56,2,    33.27,2,     0.00,2,     2.32,2, -999.000,9, -999.000,9, -999.000,9, -999.000,9, -999.000,9,   1.8820,2,    13.30,2,   -180.8,2,     0.35,2,-999.000,9,   2287.7,2,   2394.8,2,     2.6,-999.0000,-999.000,-999.000,  -999.0,-999.000
   3220CGC92_2,   P13,    69,  1,    101,   1238,2,19921010,2001, 10.0077, 165.0017, 4960,  51485,   5139.0,   1.3787,  34.7018,2,  34.7023,6,    186.9,2,  0.9314,    182.2,2,   128.95,2,    32.35,2,     0.00,2,     2.31,2, -999.000,9, -999.000,9, -999.000,9, -999.000,9, -999.000,9,   1.8430,3,    13.00,2,   -180.3,2,     0.34,2,-999.000,9,   2288.0,6,   2393.9,6,     4.5,-999.0000,-999.000,-999.000,  -999.0,-999.000