BOTTLE,20221003CCHSIOAMB
EXPOCODE,SECT_ID,STNNBR,CASTNO,SAMPNO,BTLNBR,BTLNBR_FLAG_W,DATE,TIME,LATITUDE,LONGITUDE,DEPTH,CTDRAW,CTDPRS,CTDTMP,CTDSAL,CTDSAL_FLAG_W,SALNTY,SALNTY_FLAG_W,CTDOXY,CTDOXY_FLAG_W,THETA,OXYGEN,OXYGEN_FLAG_W,SILCAT,SILCAT_FLAG_W,NITRAT,NITRAT_FLAG_W,NITRIT,NITRIT_FLAG_W,PHSPHT,PHSPHT_FLAG_W,CFC-11,CFC-11_FLAG_W,CFC-12,CFC-12_FLAG_W,CFC113,CFC113_FLAG_W,CCL4,CCL4_FLAG_W,TRITUM,TRITUM_FLAG_W,HELIUM,HELIUM_FLAG_W,DELHE3,DELHE3_FLAG_W,DELC14,DELC14_FLAG_W,DELC13,DELC13_FLAG_W,NEON,NEON_FLAG_W,TCARBN,TCARBN_FLAG_W,ALKALI,ALKALI_FLAG_W,C14ERR,HELIER,DELHER,NEONER,C13ERR,TRITER
,,,,,,,,,,,,DBAR,DBAR,ITS-90,PSS-78,,PSS-78,,UMOL/KG,,DEG C,UMOL/KG,,UMOL/KG,,UMOL/KG,,UMOL/KG,,UMOL/KG,,PMOL/KG,,PMOL/KG,,PMOL/KG,,PMOL/KG,,TU,,NMOL/KG,,PERCNT,,/MILLE,,/MILLE,,NMOL/KG,,UMOL/KG,,UMOL/KG,,/MILLE,NMOL/KG,PERCNT,NMOL/KG,/MILLE,TU
   3220CGC92_2,   P13,    88,  1,    130,   1041,2,19921017,0312, -4.7492, 164.0042, 1796,    724,     69.0,  30.0028,  34.7846,2,  34.9601,2,    207.4,2, 29.9857,    208.4,2,     1.02,2,     0.00,2,     0.00,2,     0.08,2, -999.000,9, -999.000,9, -999.000,9, -999.000,9,    1.072,2,   1.6870,2,    -0.99,2,   -999.0,9,  -999.00,9,   6.544,2,   -999.0,9,   -999.0,9,  -999.0,  0.0080,   0.140,   0.029,  -999.0,   0.004
   3220CGC92_2,   P13,    88,  1,    129,   1004,2,19921017,0312, -4.7492, 164.0042, 1796,    976,     94.0,  28.6981,  35.0670,2,  35.1004,2,    192.7,2, 28.6755,    197.5,2,     1.34,2,     0.22,2,     0.00,2,     0.16,2, -999.000,5, -999.000,5, -999.000,9, -999.000,9,    1.056,2,   1.7080,2,    -0.50,2,   -999.0,9,  -999.00,9,   6.672,2,   -999.0,9,   -999.0,9,  -999.0,  0.0080,   0.140,   0.029,  -999.0,   0.004
   3220CGC92_2,   P13,    88,  1,    128,   1016,2,19921017,0312, -4.7492, 164.0042, 1796,   1234,    120.0,  26.6626,  35.1729,2,  35.2965,4,    152.7,2, 26.6353,    150.3,2,     2.11,2,     5.62,2,     0.72,2,     0.47,2, -999.000,9, -999.000,9, -999.000,9, -999.000,9,    1.008,2,-999.0000,9,  -999.00,9,   -999.0,9,  -999.00,9,-999.000,9,   -999.0,9,   -999.0,9,  -999.0,-999.0000,-999.000,-999.000,  -999.0,   0.004
   3220CGC92_2,   P13,    88,  1,    127,   1028,2,19921017,0312, -4.7492, 164.0042, 1796,   1468,    143.0,  25.3339,  35.5298,2,  35.5125,2,    129.4,2, 25.3025,    126.1,2,     2.48,2,     8.77,2,     0.12,2,     0.64,2,    1.493,2,    0.833,2, -999.000,9, -999.000,9, -999.000,9,-999.0000,9,  -999.00,9,   -999.0,9,  -999.00,9,-999.000,9,   -999.0,9,   -999.0,9,  -999.0,-999.0000,-999.000,-999.000,  -999.0,-999.000
   3220CGC92_2,   P13,    88,  1,    126,   1110,2,19921017,0312, -4.7492, 164.0042, 1796,   1718,    168.0,  22.8135,  35.8402,2,  35.8459,2,    115.0,2, 22.7793,    117.3,2,     3.17,2,    10.80,2,     0.00,2,     0.81,2, -999.000,5, -999.000,5, -999.000,9, -999.000,9,    0.774,2,   1.6850,2,     0.19,2,   -999.0,9,  -999.00,9,   6.681,2,   -999.0,9,   -999.0,9,  -999.0,  0.0080,   0.140,   0.029,  -999.0,   0.003
   3220CGC92_2,   P13,    88,  1,    125,   1035,4,19921017,0312, -4.7492, 164.0042, 1796,   1987,    194.0,  18.8575,  35.5363,2,-999.0000,9,    106.6,2, 18.8229,   -999.0,9,     5.60,2,    13.34,2,     0.00,2,     1.00,2,    1.542,2,    0.863,2, -999.000,9, -999.000,9, -999.000,9,-999.0000,9,  -999.00,9,   -999.0,9,  -999.00,9,-999.000,9,   -999.0,9,   -999.0,9,  -999.0,-999.0000,-999.000,-999.000,  -999.0,-999.000
   3220CGC92_2,   P13,    88,  1,    124,   1019,2,19921017,0312, -4.7492, 164.0042, 1796,   2236,    219.0,  15.5543,  35.2564,2,  35.2924,2,    100.5,2, 15.5202,     96.7,2,     9.47,2,    17.31,2,     0.00,2,     1.29,2, -999.000,9, -999.000,9, -999.000,9, -999.000,9,    0.457,2,   1.6540,2,     1.22,2,   -999.0,9,  -999.00,9,   6.853,2,   -999.0,9,   -999.0,9,  -999.0,  0.0080,   0.140,   0.030,  -999.0,   0.003
   3220CGC92_2,   P13,    88,  1,    123,   1014,2,19921017,0312, -4.7492, 164.0042, 1796,   2475,    243.0,  13.5937,  35.0668,2,  35.1384,2,     91.5,2, 13.5592,   -999.0,5,    11.66,2,    19.81,2,     0.00,2,     1.49,2,    0.768,2,    0.427,2, -999.000,9, -999.000,9,    0.391,2,   1.7350,2,     2.50,2,   -999.0,9,  -999.00,9,   7.171,2,   -999.0,9,   -999.0,9,  -999.0,  0.0080,   0.140,   0.032,  -999.0,   0.002
   3220CGC92_2,   P13,    88,  1,    122,   1015,2,19921017,0312, -4.7492, 164.0042, 1796,   2972,    293.0,  10.9714,  34.8156,2,  34.8562,2,     88.7,2, 10.9352,     86.5,2,    19.69,2,    26.06,2,     0.00,2,     1.87,2, -999.000,9, -999.000,9, -999.000,9, -999.000,9,    0.238,2,   1.7400,2,     3.71,2,   -999.0,9,  -999.00,9,   7.309,2,   -999.0,9,   -999.0,9,  -999.0,  0.0080,   0.140,   0.032,  -999.0,   0.002
   3220CGC92_2,   P13,    88,  1,    121,   1235,2,19921017,0312, -4.7492, 164.0042, 1796,   3477,    343.0,   9.7107,  34.7159,2,  34.7480,2,     89.0,2,  9.6714,     89.3,2,    23.80,2,    28.19,2,     0.06,2,     1.99,2,    0.257,2,    0.145,2, -999.000,9, -999.000,9, -999.000,9,-999.0000,9,  -999.00,9,   -999.0,9,  -999.00,9,-999.000,9,   -999.0,9,   -999.0,9,  -999.0,-999.0000,-999.000,-999.000,  -999.0,-999.000
   3220CGC92_2,   P13,    88,  1,    120,   1237,2,19921017,0312, -4.7492, 164.0042, 1796,   3982,    393.0,   9.1268,  34.6742,2,  34.6892,2,     94.1,2,  9.0834,     88.1,2,    27.14,2,    30.08,2,     0.00,2,     2.11,2, -999.000,9, -999.000,9, -999.000,9, -999.000,9,    0.120,2,   1.7590,2,     4.66,2,   -999.0,9,  -999.00,9,   7.440,2,   -999.0,9,   -999.0,9,  -999.0,  0.0080,   0.140,   0.033,  -999.0,   0.002
   3220CGC92_2,   P13,    88,  1,    119,   1025,2,19921017,0312, -4.7492, 164.0042, 1796,   4472,    442.0,   8.6209,  34.6478,2,  34.6629,2,     80.7,2,  8.5737,     80.2,2,    30.33,2,    31.50,2,     0.00,2,     2.23,2,    0.082,2,    0.049,2, -999.000,9, -999.000,9, -999.000,9,-999.0000,9,  -999.00,9,   -999.0,9,  -999.00,9,-999.000,9,   -999.0,9,   -999.0,9,  -999.0,-999.0000,-999.000,-999.000,  -999.0,-999.000
   3220CGC92_2,   P13,    88,  1,    118,   1118,2,19921017,0312, -4.7492, 164.0042, 1796,   4979,    492.0,   8.1230,  34.6144,2,  34.6233,2,     94.2,2,  8.0721,     91.7,2,    33.32,2,    31.57,2,     0.00,2,     2.19,2, -999.000,9, -999.000,9, -999.000,9, -999.000,9, -999.000,9,-999.0000,9,  -999.00,9,   -999.0,9,  -999.00,9,-999.000,9,   -999.0,9,   -999.0,9,  -999.0,-999.0000,-999.000,-999.000,  -999.0,-999.000
   3220CGC92_2,   P13,    88,  1,    117,   1112,2,19921017,0312, -4.7492, 164.0042, 1796,   5970,    591.0,   7.3972,  34.5852,2,  34.5864,2,     85.8,2,  7.3389,     82.8,2,    39.13,2,    34.37,2,     0.00,2,     2.36,2,    0.029,2,    0.017,2, -999.000,9, -999.000,9, -999.000,9,   1.7840,2,     6.87,2,   -999.0,9,  -999.00,9,   7.536,2,   -999.0,9,   -999.0,9,  -999.0,  0.0080,   0.140,   0.033,  -999.0,-999.000
   3220CGC92_2,   P13,    88,  1,    116,   1104,2,19921017,0312, -4.7492, 164.0042, 1796,   6990,    693.0,   6.5154,  34.5541,2,  34.5560,2,     86.4,2,  6.4512,     83.9,2,    48.08,2,    35.46,2,     0.00,2,     2.50,2, -999.000,9, -999.000,9, -999.000,9, -999.000,9, -999.000,9,-999.0000,9,  -999.00,9,   -999.0,9,  -999.00,9,-999.000,9,   -999.0,9,   -999.0,9,  -999.0,-999.0000,-999.000,-999.000,  -999.0,-999.000
   3220CGC92_2,   P13,    88,  1,    114,   1012,2,19921017,0312, -4.7492, 164.0042, 1796,   7968,    790.0,   5.5987,  34.5187,2,  34.5215,2,    121.5,2,  5.5304,    119.1,2,    53.73,2,    33.75,2,     0.00,2,     2.36,2,    0.018,2,    0.012,2, -999.000,9, -999.000,9,    0.024,2,   1.8100,2,    11.22,2,   -999.0,9,  -999.00,9,   7.581,2,   -999.0,9,   -999.0,9,  -999.0,  0.0090,   0.140,   0.033,  -999.0,   0.002
   3220CGC92_2,   P13,    88,  1,    112,   1219,2,19921017,0312, -4.7492, 164.0042, 1796,   8991,    893.0,   5.1628,  34.5173,2,  34.5204,2,    121.4,2,  5.0879,    119.7,6,    62.34,2,    34.57,2,     0.00,2,     2.40,2, -999.000,9, -999.000,9, -999.000,9, -999.000,9, -999.000,9,-999.0000,9,  -999.00,9,   -999.0,9,  -999.00,9,-999.000,9,   -999.0,9,   -999.0,9,  -999.0,-999.0000,-999.000,-999.000,  -999.0,-999.000
   3220CGC92_2,   P13,    88,  1,    110,   1029,2,19921017,0312, -4.7492, 164.0042, 1796,   9979,    991.0,   4.7749,  34.5262,2,  34.5278,2,    117.7,2,  4.6940,    117.6,2,    70.47,2,    35.62,2,     0.00,2,     2.53,2,    0.007,2,    0.002,2,    0.024,2,    0.055,2, -999.000,9,-999.0000,9,  -999.00,9,   -999.0,9,  -999.00,9,-999.000,9,   -999.0,9,   -999.0,9,  -999.0,-999.0000,-999.000,-999.000,  -999.0,-999.000
   3220CGC92_2,   P13,    88,  1,    109,   1023,2,19921017,0312, -4.7492, 164.0042, 1796,  10975,   1091.0,   4.3740,  34.5360,2,  34.5395,2,    116.0,2,  4.2875,    114.2,2,    79.12,2,    35.97,2,     0.00,2,     2.59,2, -999.000,9, -999.000,9, -999.000,9, -999.000,9, -999.000,9,-999.0000,9,  -999.00,9,   -999.0,9,  -999.00,9,-999.000,9,   -999.0,9,   -999.0,9,  -999.0,-999.0000,-999.000,-999.000,  -999.0,-999.000
   3220CGC92_2,   P13,    88,  1,    108,   1032,2,19921017,0312, -4.7492, 164.0042, 1796,  11974,   1191.0,   3.9321,  34.5508,2,  34.5531,2,    116.8,2,  3.8408,    115.3,2,    88.52,2,    36.25,2,     0.00,2,     2.61,2, -999.000,9, -999.000,9, -999.000,9, -999.000,9, -999.000,9,-999.0000,9,  -999.00,9,   -999.0,9,  -999.00,9,-999.000,9,   -999.0,9,   -999.0,9,  -999.0,-999.0000,-999.000,-999.000,  -999.0,-999.000
   3220CGC92_2,   P13,    88,  1,    107,   1037,2,19921017,0312, -4.7492, 164.0042, 1796,  13990,   1393.0,   3.3102,  34.5783,2,  34.5818,2,    113.4,2,  3.2079,    111.5,2,   104.82,2,    37.15,2,     0.00,2,     2.65,2,    0.017,3,    0.006,2, -999.000,9, -999.000,9, -999.000,9,-999.0000,9,  -999.00,9,   -999.0,9,  -999.00,9,-999.000,9,   -999.0,9,   -999.0,9,  -999.0,-999.0000,-999.000,-999.000,  -999.0,-999.000
   3220CGC92_2,   P13,    88,  1,    106,   1022,4,19921017,0312, -4.7492, 164.0042, 1796,  15989,   1593.0,   2.7823,  34.6032,2,-999.0000,9,    118.5,2,  2.6692,   -999.0,9,  -999.00,5,  -999.00,9,  -999.00,9,  -999.00,5, -999.000,9, -999.000,9, -999.000,9, -999.000,9, -999.000,9,-999.0000,9,  -999.00,9,   -999.0,9,  -999.00,9,-999.000,9,   -999.0,9,   -999.0,9,  -999.0,-999.0000,-999.000,-999.000,  -999.0,-999.000
   3220CGC92_2,   P13,    88,  1,    105,   1221,2,19921017,0312, -4.7492, 164.0042, 1796,  17056,   1701.0,   2.6384,  34.6112,2,  34.6123,2,    119.5,2,  2.5180,    119.7,2,   120.30,2,    36.64,2,     0.00,2,     2.66,2, -999.000,9, -999.000,9, -999.000,9, -999.000,9, -999.000,9,-999.0000,9,  -999.00,9,   -999.0,9,  -999.00,9,-999.000,9,   -999.0,9,   -999.0,9,  -999.0,-999.0000,-999.000,-999.000,  -999.0,-999.000
   3220CGC92_2,   P13,    88,  1,    101,   1238,2,19921017,0312, -4.7492, 164.0042, 1796,  18431,   1836.0,   2.4574,  34.6236,2,  34.6193,4,    121.8,2,  2.3281,   -999.0,9,  -999.00,5,  -999.00,9,  -999.00,9,  -999.00,5, -999.000,5, -999.000,5, -999.000,9, -999.000,9, -999.000,9,-999.0000,9,  -999.00,9,   -999.0,9,  -999.00,9,-999.000,9,   -999.0,9,   -999.0,9,  -999.0,-999.0000,-999.000,-999.000,  -999.0,-999.000
   3220CGC92_2,   P13,    88,  1,    102,   1234,2,19921017,0312, -4.7492, 164.0042, 1796,  18431,   1836.0,   2.4574,  34.6236,2,  34.6258,2,   -999.0,9,  2.3281,   -999.0,9,  -999.00,5,  -999.00,9,  -999.00,9,  -999.00,5, -999.000,5, -999.000,5, -999.000,9, -999.000,9, -999.000,9,-999.0000,9,  -999.00,9,   -999.0,9,  -999.00,9,-999.000,9,   -999.0,9,   -999.0,9,  -999.0,-999.0000,-999.000,-999.000,  -999.0,-999.000
   3220CGC92_2,   P13,    88,  1,    103,   1033,2,19921017,0312, -4.7492, 164.0042, 1796,  18431,   1836.0,   2.4574,  34.6236,2,  34.6245,2,   -999.0,9,  2.3281,   -999.0,9,  -999.00,5,  -999.00,9,  -999.00,9,  -999.00,5, -999.000,5, -999.000,5,    0.099,4,    0.063,2, -999.000,9,-999.0000,9,  -999.00,9,   -999.0,9,  -999.00,9,-999.000,9,   -999.0,9,   -999.0,9,  -999.0,-999.0000,-999.000,-999.000,  -999.0,-999.000
   3220CGC92_2,   P13,    88,  1,    104,   1038,2,19921017,0312, -4.7492, 164.0042, 1796,  18431,   1836.0,   2.4574,  34.6236,2,  34.6241,2,    121.8,2,  2.3281,    121.6,2,   124.99,2,    36.78,2,     0.00,2,     2.64,2,    0.004,2,   -0.001,2, -999.000,9, -999.000,9, -999.000,9,-999.0000,9,  -999.00,9,   -999.0,9,  -999.00,9,-999.000,9,   -999.0,9,   -999.0,9,  -999.0,-999.0000,-999.000,-999.000,  -999.0,-999.000