BOTTLE,20221003CCHSIOAMB
EXPOCODE,SECT_ID,STNNBR,CASTNO,SAMPNO,BTLNBR,BTLNBR_FLAG_W,DATE,TIME,LATITUDE,LONGITUDE,DEPTH,CTDRAW,CTDPRS,CTDTMP,CTDSAL,CTDSAL_FLAG_W,SALNTY,SALNTY_FLAG_W,CTDOXY,CTDOXY_FLAG_W,THETA,OXYGEN,OXYGEN_FLAG_W,SILCAT,SILCAT_FLAG_W,NITRAT,NITRAT_FLAG_W,NITRIT,NITRIT_FLAG_W,PHSPHT,PHSPHT_FLAG_W,CFC-11,CFC-11_FLAG_W,CFC-12,CFC-12_FLAG_W,CFC113,CFC113_FLAG_W,CCL4,CCL4_FLAG_W,TRITUM,TRITUM_FLAG_W,HELIUM,HELIUM_FLAG_W,DELHE3,DELHE3_FLAG_W,DELC14,DELC14_FLAG_W,DELC13,DELC13_FLAG_W,NEON,NEON_FLAG_W,TCARBN,TCARBN_FLAG_W,ALKALI,ALKALI_FLAG_W,C14ERR,HELIER,DELHER,NEONER,C13ERR,TRITER
,,,,,,,,,,,,DBAR,DBAR,ITS-90,PSS-78,,PSS-78,,UMOL/KG,,DEG C,UMOL/KG,,UMOL/KG,,UMOL/KG,,UMOL/KG,,UMOL/KG,,PMOL/KG,,PMOL/KG,,PMOL/KG,,PMOL/KG,,TU,,NMOL/KG,,PERCNT,,/MILLE,,/MILLE,,NMOL/KG,,UMOL/KG,,UMOL/KG,,/MILLE,NMOL/KG,PERCNT,NMOL/KG,/MILLE,TU
   3220CGC92_1,   P13,    39,  1,    136,   1106,2,19920902,2107, 40.0147, 165.0025, 5326,     87,      6.0,  19.5733,  33.7674,2,  33.7670,2,   -999.0,9, 19.5722,    235.4,2,     3.47,2,     0.00,2,     0.00,2,     0.00,2,    2.522,2,    1.289,2, -999.000,9, -999.000,9, -999.000,9,-999.0000,9,  -999.00,9,     65.1,2,     1.54,2,-999.000,9,   1961.5,2,   2236.9,2,     3.7,-999.0000,-999.000,-999.000,  -999.0,-999.000
   3220CGC92_1,   P13,    39,  1,    135,   1238,2,19920902,2107, 40.0147, 165.0025, 5326,    258,     23.0,  19.2414,  33.8039,2,  33.7908,2,   -999.0,9, 19.2373,    236.4,2,     3.84,2,     0.01,2,     0.00,2,     0.04,2,    2.604,2,    1.344,2, -999.000,9, -999.000,9, -999.000,9,-999.0000,9,  -999.00,9,     66.2,2,     1.76,2,-999.000,9,   -999.0,9,   -999.0,9,     5.1,-999.0000,-999.000,-999.000,  -999.0,-999.000
   3220CGC92_1,   P13,    39,  1,    134,   1030,2,19920902,2107, 40.0147, 165.0025, 5326,    505,     47.0,  12.1021,  34.2526,2,  34.0342,2,    254.3,2, 12.0960,    280.4,2,    14.12,2,     5.97,2,     0.13,2,     0.55,2,    3.630,2,    1.788,2, -999.000,9, -999.000,9, -999.000,9,-999.0000,9,  -999.00,9,     39.0,2,     1.12,2,-999.000,9,   -999.0,9,   -999.0,9,     4.1,-999.0000,-999.000,-999.000,  -999.0,-999.000
   3220CGC92_1,   P13,    39,  1,    133,   1231,2,19920902,2107, 40.0147, 165.0025, 5326,    731,     70.0,   9.8836,  34.0241,2,  34.0749,2,    272.4,2,  9.8757,    258.0,2,    18.92,2,    10.79,2,     0.26,2,     0.80,2,    3.869,2,    1.846,2, -999.000,9, -999.000,9, -999.000,9,-999.0000,9,  -999.00,9,   -999.0,5,  -999.00,5,-999.000,9,   -999.0,9,   -999.0,9,  -999.0,-999.0000,-999.000,-999.000,  -999.0,-999.000
   3220CGC92_1,   P13,    39,  1,    132,   1109,2,19920902,2107, 40.0147, 165.0025, 5326,    990,     95.0,   9.1428,  34.0622,2,  34.0010,2,    249.1,2,  9.1326,    260.9,2,    21.45,2,    12.73,2,     0.00,2,     0.92,2,    3.893,2,    1.905,2, -999.000,9, -999.000,9, -999.000,9,-999.0000,9,  -999.00,9,   -999.0,5,     0.69,2,-999.000,9,   -999.0,9,   -999.0,9,  -999.0,-999.0000,-999.000,-999.000,  -999.0,-999.000
   3220CGC92_1,   P13,    39,  1,    131,   1031,2,19920902,2107, 40.0147, 165.0025, 5326,   1243,    120.0,   8.6459,  34.0280,2,-999.0000,9,    257.5,2,  8.6334,    259.7,2,    23.67,2,    13.92,2,     0.00,2,     1.00,2,    3.949,2,    1.915,2, -999.000,9, -999.000,9, -999.000,9,-999.0000,9,  -999.00,9,     24.5,2,     0.64,2,-999.000,9,   -999.0,9,   -999.0,9,     5.1,-999.0000,-999.000,-999.000,  -999.0,-999.000
   3220CGC92_1,   P13,    39,  1,    130,   1041,2,19920902,2107, 40.0147, 165.0025, 5326,   1498,    146.0,   7.9561,  33.9689,2,  33.9765,2,    257.5,2,  7.9416,    254.6,2,    26.31,2,    15.42,2,     0.00,2,     1.10,2,    3.801,6,    1.849,6, -999.000,9, -999.000,9, -999.000,9,-999.0000,9,  -999.00,9,     28.3,2,     0.40,2,-999.000,9,   -999.0,9,   -999.0,9,     3.7,-999.0000,-999.000,-999.000,  -999.0,-999.000
   3220CGC92_1,   P13,    39,  1,    129,   1004,2,19920902,2107, 40.0147, 165.0025, 5326,   1738,    170.0,   7.3762,  33.9091,2,  33.9234,2,    261.8,2,  7.3601,    257.0,2,    27.59,2,    15.90,2,     0.00,2,     1.14,2,    3.879,2,    1.838,2, -999.000,9, -999.000,9, -999.000,9,-999.0000,9,  -999.00,9,   -999.0,5,  -999.00,9,-999.000,9,   -999.0,9,   -999.0,9,  -999.0,-999.0000,-999.000,-999.000,  -999.0,-999.000
   3220CGC92_1,   P13,    39,  1,    127,   1117,2,19920902,2107, 40.0147, 165.0025, 5326,   1987,    194.0,   6.8504,  33.8521,2,  33.8471,2,    267.1,2,  6.8328,    265.6,2,    28.63,2,    16.18,2,     0.00,2,     1.19,2,    4.069,2,    1.949,2, -999.000,9, -999.000,9, -999.000,9,-999.0000,9,  -999.00,9,    -11.0,2,     0.58,2,-999.000,9,   -999.0,9,   -999.0,9,     3.6,-999.0000,-999.000,-999.000,  -999.0,-999.000
   3220CGC92_1,   P13,    39,  1,    126,   1110,2,19920902,2107, 40.0147, 165.0025, 5326,   2489,    244.0,   6.1455,  33.8295,2,  33.8447,2,    232.8,2,  6.1246,   -999.0,9,    36.52,2,    20.66,2,     0.00,2,     1.42,2,    3.743,2,    1.766,2, -999.000,9, -999.000,9, -999.000,9,-999.0000,9,  -999.00,9,      1.1,3,     0.38,2,-999.000,9,   -999.0,9,   -999.0,9,     6.9,-999.0000,-999.000,-999.000,  -999.0,-999.000
   3220CGC92_1,   P13,    39,  1,    125,   1035,2,19920902,2107, 40.0147, 165.0025, 5326,   3001,    295.0,   5.4357,  33.8905,2,  33.9061,2,    170.2,2,  5.4119,    166.1,2,    57.08,2,    27.65,2,     0.06,2,     1.95,2,    2.546,2,    1.169,2, -999.000,9, -999.000,9, -999.000,9,-999.0000,9,  -999.00,9,    -57.6,2,     0.07,2,-999.000,9,   -999.0,9,   -999.0,9,     3.5,-999.0000,-999.000,-999.000,  -999.0,-999.000
   3220CGC92_1,   P13,    39,  1,    124,   1026,2,19920902,2107, 40.0147, 165.0025, 5326,   3492,    344.0,   4.9468,  33.9021,2,  33.9087,2,    153.5,2,  4.9203,   -999.0,9,    66.27,2,    30.28,2,     0.00,2,     2.18,2,    2.273,2,    1.038,2, -999.000,9, -999.000,9, -999.000,9,-999.0000,9,  -999.00,9,    -72.8,2,    -0.04,2,-999.000,9,   -999.0,9,   -999.0,9,     4.2,-999.0000,-999.000,-999.000,  -999.0,-999.000
   3220CGC92_1,   P13,    39,  1,    123,   1014,2,19920902,2107, 40.0147, 165.0025, 5326,   3992,    394.0,   4.6429,  33.9462,2,  33.9360,2,    116.1,2,  4.6133,    122.7,2,    75.22,2,    33.44,2,     0.00,2,     2.42,2,    1.946,2,    0.882,2, -999.000,9, -999.000,9, -999.000,9,-999.0000,9,  -999.00,9,    -87.1,2,    -0.14,2,-999.000,9,   -999.0,9,   -999.0,9,     3.1,-999.0000,-999.000,-999.000,  -999.0,-999.000
   3220CGC92_1,   P13,    39,  1,    122,   1015,2,19920902,2107, 40.0147, 165.0025, 5326,   5001,    495.0,   4.2970,  34.0456,2,  34.0673,2,     89.8,2,  4.2606,   -999.0,9,    91.28,2,    37.08,2,     0.00,2,     2.66,2,    1.141,2,    0.505,2, -999.000,9, -999.000,9, -999.000,9,-999.0000,9,  -999.00,9,   -119.9,2,    -0.31,2,-999.000,9,   -999.0,9,   -999.0,9,     3.8,-999.0000,-999.000,-999.000,  -999.0,-999.000
   3220CGC92_1,   P13,    39,  1,    121,   1235,2,19920902,2107, 40.0147, 165.0025, 5326,   6002,    594.0,   3.9630,  34.1415,2,  34.1557,2,     64.7,2,  3.9205,     60.3,2,   105.83,2,    39.78,2,     0.00,2,     2.85,2,    0.604,2,    0.273,2, -999.000,9, -999.000,9, -999.000,9,-999.0000,9,  -999.00,9,   -143.1,2,    -0.43,2,-999.000,9,   -999.0,9,   -999.0,9,     3.7,-999.0000,-999.000,-999.000,  -999.0,-999.000
   3220CGC92_1,   P13,    39,  1,    120,   1237,2,19920902,2107, 40.0147, 165.0025, 5326,   6997,    694.0,   3.7001,  34.2171,2,  34.2373,2,   -999.0,9,  3.6512,   -999.0,9,   118.29,2,    41.14,2,     0.00,2,     2.95,2,    0.324,6,    0.146,6, -999.000,9, -999.000,9, -999.000,9,-999.0000,9,  -999.00,9,   -999.0,5,    -0.50,2,-999.000,9,   -999.0,9,   -999.0,9,  -999.0,-999.0000,-999.000,-999.000,  -999.0,-999.000
   3220CGC92_1,   P13,    39,  1,    119,   1025,2,19920902,2107, 40.0147, 165.0025, 5326,   8007,    794.0,   3.5292,  34.2902,2,  34.3052,2,     43.0,2,  3.4735,     43.3,2,   125.91,2,    41.05,2,     0.00,2,     2.98,2,    0.170,3,    0.070,3, -999.000,9, -999.000,9, -999.000,9,-999.0000,9,  -999.00,9,   -181.0,2,    -0.49,2,-999.000,9,   -999.0,9,   -999.0,9,     3.4,-999.0000,-999.000,-999.000,  -999.0,-999.000
   3220CGC92_1,   P13,    39,  1,    118,   1118,2,19920902,2107, 40.0147, 165.0025, 5326,   9012,    895.0,   3.1832,  34.3574,2,  34.3584,6,     39.6,2,  3.1221,   -999.0,9,   134.53,2,    41.78,2,     0.00,2,     2.99,2,    0.065,3,    0.027,3, -999.000,9, -999.000,9, -999.000,9,-999.0000,9,  -999.00,9,   -213.7,2,    -0.52,2,-999.000,9,   -999.0,9,   -999.0,9,     2.9,-999.0000,-999.000,-999.000,  -999.0,-999.000
   3220CGC92_1,   P13,    39,  1,    117,   1005,2,19920902,2107, 40.0147, 165.0025, 5326,  10007,    994.0,   2.8673,  34.3830,2,  34.3878,2,     40.1,2,  2.8011,     39.3,2,   144.32,2,    42.12,2,     0.00,2,     3.01,2,    0.122,2,    0.051,2, -999.000,9, -999.000,9, -999.000,9,-999.0000,9,  -999.00,9,   -225.4,2,    -0.55,2,-999.000,9,   -999.0,9,   -999.0,9,     4.2,-999.0000,-999.000,-999.000,  -999.0,-999.000
   3220CGC92_1,   P13,    39,  1,    116,   1104,2,19920902,2107, 40.0147, 165.0025, 5326,  11993,   1192.0,   2.4194,  34.4397,2,  34.4419,2,     38.5,2,  2.3422,   -999.0,9,   157.25,2,    42.20,2,     0.00,2,     3.05,2,    0.097,3,    0.035,2, -999.000,9, -999.000,9, -999.000,9,-999.0000,9,  -999.00,9,   -225.5,2,    -0.56,2,-999.000,9,   -999.0,9,   -999.0,9,     3.0,-999.0000,-999.000,-999.000,  -999.0,-999.000
   3220CGC92_1,   P13,    39,  1,    115,   1020,2,19920902,2107, 40.0147, 165.0025, 5326,  14001,   1393.0,   2.3294,  34.4725,2,  34.4745,2,     42.0,2,  2.2379,     42.3,2,   160.02,2,    41.87,2,     0.00,2,     2.99,2,    0.069,3,    0.023,6, -999.000,9, -999.000,9, -999.000,9,-999.0000,9,  -999.00,9,   -215.2,2,    -0.54,2,-999.000,9,   -999.0,9,   -999.0,9,     3.1,-999.0000,-999.000,-999.000,  -999.0,-999.000
   3220CGC92_1,   P13,    39,  1,    114,   1012,4,19920902,2107, 40.0147, 165.0025, 5326,  16001,   1593.0,   2.2575,  34.5027,2,-999.0000,9,   -999.0,9,  2.1511,   -999.0,9,  -999.00,5,  -999.00,9,  -999.00,9,  -999.00,5, -999.000,9, -999.000,9, -999.000,9, -999.000,9, -999.000,9,-999.0000,9,  -999.00,9,   -999.0,9,  -999.00,9,-999.000,9,   -999.0,9,   -999.0,9,  -999.0,-999.0000,-999.000,-999.000,  -999.0,-999.000
   3220CGC92_1,   P13,    39,  1,    113,   1229,2,19920902,2107, 40.0147, 165.0025, 5326,  17994,   1793.0,   2.1315,  34.5218,2,  34.5241,2,     58.8,2,  2.0106,     57.4,3,   163.68,2,    41.01,2,     0.00,2,     2.92,2,    0.147,4,    0.013,2, -999.000,9, -999.000,9, -999.000,9,-999.0000,9,  -999.00,9,   -999.0,5,    -0.46,2,-999.000,9,   -999.0,9,   -999.0,9,  -999.0,-999.0000,-999.000,-999.000,  -999.0,-999.000
   3220CGC92_1,   P13,    39,  1,    112,   1219,2,19920902,2107, 40.0147, 165.0025, 5326,  21015,   2095.0,   1.9965,  34.5706,2,  34.5747,2,     67.4,2,  1.8523,   -999.0,9,   164.57,2,    40.71,2,     0.00,2,     2.87,2, -999.000,5, -999.000,5, -999.000,9, -999.000,9, -999.000,9,-999.0000,9,  -999.00,9,   -236.0,2,    -0.38,2,-999.000,9,   -999.0,9,   -999.0,9,     3.2,-999.0000,-999.000,-999.000,  -999.0,-999.000
   3220CGC92_1,   P13,    39,  1,    111,   1112,2,19920902,2107, 40.0147, 165.0025, 5326,  24036,   2398.0,   1.8106,  34.6161,2,  34.6166,2,     86.1,2,  1.6430,     88.8,2,   165.00,2,    40.18,2,     0.00,2,     2.87,2,    0.015,3,    0.005,2, -999.000,9, -999.000,9, -999.000,9,-999.0000,9,  -999.00,9,   -999.0,5,    -0.27,2,-999.000,9,   -999.0,9,   -999.0,9,  -999.0,-999.0000,-999.000,-999.000,  -999.0,-999.000
   3220CGC92_1,   P13,    39,  1,    110,   1029,2,19920902,2107, 40.0147, 165.0025, 5326,  27023,   2697.0,   1.6566,  34.6409,2,  34.6462,2,   -999.0,9,  1.4649,    107.3,2,   163.92,2,    38.67,2,     0.00,2,     2.75,2, -999.000,9, -999.000,9, -999.000,9, -999.000,9, -999.000,9,-999.0000,9,  -999.00,9,   -239.8,2,    -0.14,2,-999.000,9,   -999.0,9,   -999.0,9,     2.9,-999.0000,-999.000,-999.000,  -999.0,-999.000
   3220CGC92_1,   P13,    39,  1,    109,   1023,2,19920902,2107, 40.0147, 165.0025, 5326,  29996,   2995.0,   1.5746,  34.6552,2,  34.6558,2,    118.7,2,  1.3567,   -999.0,9,   160.83,2,    37.53,2,     0.00,2,     2.68,2,   -0.001,2,   -0.002,2, -999.000,9, -999.000,9, -999.000,9,-999.0000,9,  -999.00,9,   -228.7,3,    -0.09,2,-999.000,9,   -999.0,9,   -999.0,9,     5.1,-999.0000,-999.000,-999.000,  -999.0,-999.000
   3220CGC92_1,   P13,    39,  1,    108,   1032,2,19920902,2107, 40.0147, 165.0025, 5326,  32988,   3295.0,   1.5176,  34.6659,2,  34.6659,2,   -999.0,9,  1.2718,    131.1,2,   157.85,2,    37.26,2,     0.00,2,     2.63,2, -999.000,9, -999.000,9, -999.000,9, -999.000,9, -999.000,9,-999.0000,9,  -999.00,9,   -239.6,2,     0.02,2,-999.000,9,   -999.0,9,   -999.0,9,     4.3,-999.0000,-999.000,-999.000,  -999.0,-999.000
   3220CGC92_1,   P13,    39,  1,    107,   1037,2,19920902,2107, 40.0147, 165.0025, 5326,  36003,   3598.0,   1.4846,  34.6738,2,  34.6721,2,   -999.0,9,  1.2088,    139.1,2,   155.98,2,    36.89,2,     0.00,2,     2.61,2,   -0.002,2,    0.000,2, -999.000,9, -999.000,9, -999.000,9,-999.0000,9,  -999.00,9,   -231.1,2,     0.05,2,-999.000,9,   -999.0,9,   -999.0,9,     3.3,-999.0000,-999.000,-999.000,  -999.0,-999.000
   3220CGC92_1,   P13,    39,  1,    106,   1022,2,19920902,2107, 40.0147, 165.0025, 5326,  38986,   3897.0,   1.4696,  34.6784,2,  34.6792,2,   -999.0,9,  1.1627,   -999.0,9,   154.43,2,    36.19,2,     0.00,2,     2.55,2,    0.001,2,   -0.002,2, -999.000,9, -999.000,9, -999.000,9,-999.0000,9,  -999.00,9,   -999.0,5,     0.09,2,-999.000,9,   -999.0,9,   -999.0,9,  -999.0,-999.0000,-999.000,-999.000,  -999.0,-999.000
   3220CGC92_1,   P13,    39,  1,    105,   1221,2,19920902,2107, 40.0147, 165.0025, 5326,  41987,   4197.0,   1.4696,  34.6807,2,  34.6824,2,    148.3,2,  1.1299,    150.5,2,   153.14,2,    35.90,2,     0.00,2,     2.51,2, -999.000,9, -999.000,9, -999.000,9, -999.000,9, -999.000,9,-999.0000,9,  -999.00,9,   -228.8,2,     0.11,2,-999.000,9,   -999.0,9,   -999.0,9,     4.0,-999.0000,-999.000,-999.000,  -999.0,-999.000
   3220CGC92_1,   P13,    39,  1,    104,   1038,2,19920902,2107, 40.0147, 165.0025, 5326,  44974,   4497.0,   1.4786,  34.6851,2,  34.6850,2,   -999.0,9,  1.1046,   -999.0,9,   152.37,2,    36.18,2,     0.00,2,     2.54,2, -999.000,9, -999.000,9, -999.000,9, -999.000,9, -999.000,9,-999.0000,9,  -999.00,9,   -221.4,2,     0.11,2,-999.000,9,   -999.0,9,   -999.0,9,     3.3,-999.0000,-999.000,-999.000,  -999.0,-999.000
   3220CGC92_1,   P13,    39,  1,    103,   1033,2,19920902,2107, 40.0147, 165.0025, 5326,  47975,   4797.0,   1.4976,  34.6855,2,  34.6855,2,    156.4,2,  1.0879,    156.2,2,   152.51,2,    35.98,2,     0.00,2,     2.52,2,    0.000,2,   -0.002,2, -999.000,9, -999.000,9, -999.000,9,-999.0000,9,  -999.00,9,   -226.3,2,     0.15,2,-999.000,9,   -999.0,9,   -999.0,9,     3.0,-999.0000,-999.000,-999.000,  -999.0,-999.000
   3220CGC92_1,   P13,    39,  1,    102,   1234,2,19920902,2107, 40.0147, 165.0025, 5326,  50986,   5098.0,   1.5256,  34.6864,2,  34.6869,2,    159.2,2,  1.0785,    157.4,2,   152.70,2,    35.40,2,     0.00,2,     2.48,2, -999.000,9, -999.000,9, -999.000,9, -999.000,9, -999.000,9,-999.0000,9,  -999.00,9,   -215.1,2,     0.14,2,-999.000,9,   -999.0,9,   -999.0,9,     2.8,-999.0000,-999.000,-999.000,  -999.0,-999.000
   3220CGC92_1,   P13,    39,  1,    101,   1013,2,19920902,2107, 40.0147, 165.0025, 5326,  55752,   5574.0,   1.5816,  34.6870,2,  34.6876,6,    161.2,2,  1.0725,    158.3,2,   153.73,2,    35.26,2,     0.00,2,     2.49,2,   -0.001,2,    0.000,2, -999.000,9, -999.000,9, -999.000,9,-999.0000,9,  -999.00,9,   -228.9,2,     0.17,2,-999.000,9,   -999.0,9,   -999.0,9,     3.0,-999.0000,-999.000,-999.000,  -999.0,-999.000