BOTTLE,20221003CCHSIOAMB
EXPOCODE,SECT_ID,STNNBR,CASTNO,SAMPNO,BTLNBR,BTLNBR_FLAG_W,DATE,TIME,LATITUDE,LONGITUDE,DEPTH,CTDRAW,CTDPRS,CTDTMP,CTDSAL,CTDSAL_FLAG_W,SALNTY,SALNTY_FLAG_W,CTDOXY,CTDOXY_FLAG_W,THETA,OXYGEN,OXYGEN_FLAG_W,SILCAT,SILCAT_FLAG_W,NITRAT,NITRAT_FLAG_W,NITRIT,NITRIT_FLAG_W,PHSPHT,PHSPHT_FLAG_W,CFC-11,CFC-11_FLAG_W,CFC-12,CFC-12_FLAG_W,CFC113,CFC113_FLAG_W,CCL4,CCL4_FLAG_W,TRITUM,TRITUM_FLAG_W,HELIUM,HELIUM_FLAG_W,DELHE3,DELHE3_FLAG_W,DELC14,DELC14_FLAG_W,DELC13,DELC13_FLAG_W,NEON,NEON_FLAG_W,TCARBN,TCARBN_FLAG_W,ALKALI,ALKALI_FLAG_W,C14ERR,HELIER,DELHER,NEONER,C13ERR,TRITER
,,,,,,,,,,,,DBAR,DBAR,ITS-90,PSS-78,,PSS-78,,UMOL/KG,,DEG C,UMOL/KG,,UMOL/KG,,UMOL/KG,,UMOL/KG,,UMOL/KG,,PMOL/KG,,PMOL/KG,,PMOL/KG,,PMOL/KG,,TU,,NMOL/KG,,PERCNT,,/MILLE,,/MILLE,,NMOL/KG,,UMOL/KG,,UMOL/KG,,/MILLE,NMOL/KG,PERCNT,NMOL/KG,/MILLE,TU
   3220CGC92_1,   P13,    13,  1,    136,   1106,2,19920823,0931, 53.0198, 162.8972, 6017,    100,      7.0,  10.7404,  32.8747,2,  32.8762,2,    292.9,2, 10.7396,    288.0,2,    22.59,2,     9.85,2,     0.07,2,     0.97,2,    4.086,2,    2.154,2, -999.000,9, -999.000,9, -999.000,9,-999.0000,9,  -999.00,9,   -999.0,5,     1.90,2,-999.000,9,   2019.3,2,   -999.0,9,  -999.0,-999.0000,-999.000,-999.000,  -999.0,-999.000
   3220CGC92_1,   P13,    13,  1,    135,   1033,2,19920823,0931, 53.0198, 162.8972, 6017,    239,     21.0,  10.1066,  32.8852,2,  32.8717,2,   -999.0,9, 10.1042,    288.5,2,    22.68,2,    10.90,2,     0.06,2,     1.06,2, -999.000,5, -999.000,5, -999.000,9, -999.000,9, -999.000,9,-999.0000,9,  -999.00,9,   -999.0,9,  -999.00,9,-999.000,9,   2019.6,6,   2237.3,2,  -999.0,-999.0000,-999.000,-999.000,  -999.0,-999.000
   3220CGC92_1,   P13,    13,  1,    134,   1109,2,19920823,0931, 53.0198, 162.8972, 6017,    494,     46.0,   4.3320,  33.0916,2,  33.1235,2,    317.0,2,  4.3288,    323.6,2,    38.56,2,    20.96,2,     0.35,2,     1.66,2, -999.000,9, -999.000,9, -999.000,9, -999.000,9, -999.000,9,-999.0000,9,  -999.00,9,   -999.0,9,  -999.00,9,-999.000,9,   2109.5,2,   2247.3,2,  -999.0,-999.0000,-999.000,-999.000,  -999.0,-999.000
   3220CGC92_1,   P13,    13,  1,    133,   1031,2,19920823,0931, 53.0198, 162.8972, 6017,    741,     71.0,   2.0495,  33.1658,2,  33.2179,2,    290.7,2,  2.0459,    307.1,2,    49.07,2,    28.02,2,     0.00,2,     1.91,2,    6.007,6,    2.834,6, -999.000,9, -999.000,9, -999.000,9,-999.0000,9,  -999.00,9,   -999.0,9,  -999.00,9,-999.000,9,   2150.1,2,   2244.5,2,  -999.0,-999.0000,-999.000,-999.000,  -999.0,-999.000
   3220CGC92_1,   P13,    13,  1,    132,   1008,2,19920823,0931, 53.0198, 162.8972, 6017,    991,     96.0,   1.6826,  33.2470,2,  33.2655,2,   -999.0,9,  1.6780,    306.9,2,    53.14,2,    29.30,2,     0.00,2,     1.94,2, -999.000,9, -999.000,9, -999.000,9, -999.000,9, -999.000,9,-999.0000,9,  -999.00,9,   -999.0,9,  -999.00,9,-999.000,9,   2157.7,2,   2250.1,2,  -999.0,-999.0000,-999.000,-999.000,  -999.0,-999.000
   3220CGC92_1,   P13,    13,  1,    131,   1030,2,19920823,0931, 53.0198, 162.8972, 6017,   1251,    121.0,   2.3934,  33.4465,2,  33.4257,2,    259.7,2,  2.3869,    217.6,2,    64.60,2,    34.72,2,     0.00,2,     2.28,2, -999.000,9, -999.000,9, -999.000,9, -999.000,9, -999.000,9,-999.0000,9,  -999.00,9,   -999.0,9,  -999.00,9,-999.000,9,   2208.3,2,   2260.8,2,  -999.0,-999.0000,-999.000,-999.000,  -999.0,-999.000
   3220CGC92_1,   P13,    13,  1,    130,   1032,2,19920823,0931, 53.0198, 162.8972, 6017,   1462,    142.0,   3.3522,  33.7180,2,  33.7008,2,    115.0,2,  3.3433,     95.5,2,    83.22,2,    40.43,2,     0.00,2,     2.69,2,    2.472,2,    1.129,2, -999.000,9, -999.000,9, -999.000,9,-999.0000,9,  -999.00,9,   -999.0,9,  -999.00,9,-999.000,9,   2281.3,2,   2282.8,2,  -999.0,-999.0000,-999.000,-999.000,  -999.0,-999.000
   3220CGC92_1,   P13,    13,  1,    129,   1004,2,19920823,0931, 53.0198, 162.8972, 6017,   1748,    171.0,   3.5991,  33.8362,2,  33.8486,2,     58.3,2,  3.5880,     47.7,2,    92.48,2,    42.58,2,     0.00,2,     2.78,2, -999.000,9, -999.000,9, -999.000,9, -999.000,9, -999.000,9,-999.0000,9,  -999.00,9,   -999.0,9,  -999.00,9,-999.000,9,   2313.2,2,   2296.1,2,  -999.0,-999.0000,-999.000,-999.000,  -999.0,-999.000
   3220CGC92_1,   P13,    13,  1,    128,   1028,2,19920823,0931, 53.0198, 162.8972, 6017,   2006,    196.0,   3.6451,  33.8903,2,  33.8948,2,     50.0,2,  3.6323,     35.6,2,    96.24,2,    43.33,2,     0.00,2,     2.85,2, -999.000,9, -999.000,9, -999.000,9, -999.000,9, -999.000,9,-999.0000,9,  -999.00,9,   -999.0,9,  -999.00,9,-999.000,9,   2320.5,2,   2302.3,2,  -999.0,-999.0000,-999.000,-999.000,  -999.0,-999.000
   3220CGC92_1,   P13,    13,  1,    127,   1117,2,19920823,0931, 53.0198, 162.8972, 6017,   2486,    244.0,   3.6251,  33.9527,2,  33.9888,2,     27.9,2,  3.6090,     24.6,2,   102.27,2,    44.26,2,     0.00,2,     2.93,2, -999.000,9, -999.000,9, -999.000,9, -999.000,9, -999.000,9,-999.0000,9,  -999.00,9,   -999.0,9,  -999.00,9,-999.000,9,   2334.6,2,   2308.8,2,  -999.0,-999.0000,-999.000,-999.000,  -999.0,-999.000
   3220CGC92_1,   P13,    13,  1,    126,   1110,2,19920823,0931, 53.0198, 162.8972, 6017,   2987,    294.0,   3.6051,  34.0164,2,  34.0356,2,     23.3,2,  3.5856,     21.2,2,   108.14,2,    44.70,2,     0.00,2,     2.96,2,    0.698,3,    0.301,3, -999.000,9, -999.000,9, -999.000,9,-999.0000,9,  -999.00,9,   -999.0,9,  -999.00,9,-999.000,9,   2341.0,2,   2321.5,2,  -999.0,-999.0000,-999.000,-999.000,  -999.0,-999.000
   3220CGC92_1,   P13,    13,  1,    125,   1035,2,19920823,0931, 53.0198, 162.8972, 6017,   3496,    345.0,   3.5282,  34.0696,2,  34.0861,2,     20.0,2,  3.5053,     20.9,2,   112.38,2,    44.23,2,     0.00,2,     3.02,2, -999.000,9, -999.000,9, -999.000,9, -999.000,9, -999.000,9,-999.0000,9,  -999.00,9,   -999.0,9,  -999.00,9,-999.000,9,   2343.3,2,   2331.3,2,  -999.0,-999.0000,-999.000,-999.000,  -999.0,-999.000
   3220CGC92_1,   P13,    13,  1,    124,   1026,2,19920823,0931, 53.0198, 162.8972, 6017,   4041,    399.0,   3.4642,  34.1234,2,  34.1294,2,     19.7,2,  3.4378,     18.7,2,   116.02,2,    44.00,2,     0.00,2,     2.91,3, -999.000,9, -999.000,9, -999.000,9, -999.000,9, -999.000,9,-999.0000,9,  -999.00,9,   -999.0,9,  -999.00,9,-999.000,9,   2349.5,2,   2336.0,2,  -999.0,-999.0000,-999.000,-999.000,  -999.0,-999.000
   3220CGC92_1,   P13,    13,  1,    123,   1014,3,19920823,0931, 53.0198, 162.8972, 6017,   5007,    495.0,   3.3272,  34.1992,2,  34.1324,4,     15.4,2,  3.2945,     17.6,2,   122.83,2,    44.55,2,     0.00,2,     3.03,2, -999.000,9, -999.000,9, -999.000,9, -999.000,9, -999.000,9,-999.0000,9,  -999.00,9,   -999.0,9,  -999.00,9,-999.000,9,   2354.3,2,   2344.6,2,  -999.0,-999.0000,-999.000,-999.000,  -999.0,-999.000
   3220CGC92_1,   P13,    13,  1,    122,   1015,2,19920823,0931, 53.0198, 162.8972, 6017,   6019,    596.0,   3.1922,  34.2526,2,  34.2512,2,     18.4,2,  3.1530,     17.0,2,   129.47,2,    45.06,2,     0.00,2,     3.09,2,    0.184,3,    0.072,3, -999.000,9, -999.000,9, -999.000,9,-999.0000,9,  -999.00,9,   -999.0,9,  -999.00,9,-999.000,9,   2363.8,2,   2356.7,2,  -999.0,-999.0000,-999.000,-999.000,  -999.0,-999.000
   3220CGC92_1,   P13,    13,  1,    121,   1235,2,19920823,0931, 53.0198, 162.8972, 6017,   6984,    692.0,   3.0673,  34.2972,2,  34.3009,2,     18.7,2,  3.0218,     19.1,2,   134.51,2,    44.66,2,     0.00,2,     3.04,3, -999.000,9, -999.000,9, -999.000,9, -999.000,9, -999.000,9,-999.0000,9,  -999.00,9,   -999.0,9,  -999.00,9,-999.000,9,   2368.3,2,   2365.3,2,  -999.0,-999.0000,-999.000,-999.000,  -999.0,-999.000
   3220CGC92_1,   P13,    13,  1,    120,   1237,2,19920823,0931, 53.0198, 162.8972, 6017,   7995,    793.0,   2.9043,  34.3384,2,  34.3370,2,     16.5,2,  2.8526,     17.0,2,   141.18,2,    44.52,2,     0.00,2,     3.07,2, -999.000,9, -999.000,9, -999.000,9, -999.000,9, -999.000,9,-999.0000,9,  -999.00,9,   -999.0,9,  -999.00,9,-999.000,9,   2375.5,2,   2374.1,2,  -999.0,-999.0000,-999.000,-999.000,  -999.0,-999.000
   3220CGC92_1,   P13,    13,  1,    119,   1025,2,19920823,0931, 53.0198, 162.8972, 6017,   9988,    992.0,   2.6394,  34.4088,2,  34.4097,2,     20.2,2,  2.5750,     19.2,2,   150.49,2,    44.04,2,     0.00,2,     3.05,2,    0.055,2,    0.020,2, -999.000,9, -999.000,9, -999.000,9,-999.0000,9,  -999.00,9,   -999.0,9,  -999.00,9,-999.000,9,   2382.1,2,   2384.6,2,  -999.0,-999.0000,-999.000,-999.000,  -999.0,-999.000
   3220CGC92_1,   P13,    13,  1,    118,   1002,2,19920823,0931, 53.0198, 162.8972, 6017,  12004,   1193.0,   2.3914,  34.4661,2,  34.4660,2,     25.8,2,  2.3144,     26.0,2,   157.85,2,    43.46,2,     0.00,2,     3.01,2,    0.027,2,    0.009,2, -999.000,9, -999.000,9, -999.000,9,-999.0000,9,  -999.00,9,   -999.0,9,  -999.00,9,-999.000,9,   2387.7,2,   2395.2,2,  -999.0,-999.0000,-999.000,-999.000,  -999.0,-999.000
   3220CGC92_1,   P13,    13,  1,    117,   1005,2,19920823,0931, 53.0198, 162.8972, 6017,  14010,   1394.0,   2.1935,  34.5133,2,  34.5121,2,     35.5,2,  2.1032,     37.8,2,   163.70,2,    43.51,2,     0.00,2,     2.98,2,    0.023,2,    0.004,2, -999.000,9, -999.000,9, -999.000,9,-999.0000,9,  -999.00,9,   -999.0,9,  -999.00,9,-999.000,9,   2388.5,2,   2400.8,2,  -999.0,-999.0000,-999.000,-999.000,  -999.0,-999.000
   3220CGC92_1,   P13,    13,  1,    116,   1104,2,19920823,0931, 53.0198, 162.8972, 6017,  16006,   1594.0,   2.0485,  34.5476,2,  34.5501,2,     49.1,2,  1.9445,     48.9,2,   165.67,2,    42.71,2,     0.00,2,     2.92,2,    0.029,2,    0.001,2, -999.000,9, -999.000,9, -999.000,9,-999.0000,9,  -999.00,9,   -999.0,9,  -999.00,9,-999.000,9,   2384.1,2,   2409.9,2,  -999.0,-999.0000,-999.000,-999.000,  -999.0,-999.000
   3220CGC92_1,   P13,    13,  1,    115,   1020,2,19920823,0931, 53.0198, 162.8972, 6017,  18013,   1794.0,   1.9325,  34.5731,2,  34.5924,3,     59.0,2,  1.8141,     60.9,2,   166.16,2,    41.60,2,     0.00,2,     2.87,2,    0.029,2,   -0.021,2, -999.000,9, -999.000,9, -999.000,9,-999.0000,9,  -999.00,9,   -999.0,9,  -999.00,9,-999.000,9,   2377.4,2,   2414.8,2,  -999.0,-999.0000,-999.000,-999.000,  -999.0,-999.000
   3220CGC92_1,   P13,    13,  1,    114,   1120,2,19920823,0931, 53.0198, 162.8972, 6017,  20008,   1994.0,   1.8356,  34.5982,2,  34.5986,2,     72.5,2,  1.7022,     73.6,2,   167.77,2,    40.44,2,     0.00,2,     2.80,2,    0.030,2,   -0.021,2, -999.000,9, -999.000,9, -999.000,9,-999.0000,9,  -999.00,9,   -999.0,9,  -999.00,9,-999.000,9,   2373.7,2,   2414.9,2,  -999.0,-999.0000,-999.000,-999.000,  -999.0,-999.000
   3220CGC92_1,   P13,    13,  1,    113,   1112,2,19920823,0931, 53.0198, 162.8972, 6017,  23013,   2295.0,   1.7176,  34.6252,2,  34.6246,2,     91.2,2,  1.5606,     91.1,2,   158.91,2,    39.93,2,     0.00,2,     2.66,2,    0.018,2,   -0.021,2, -999.000,9, -999.000,9, -999.000,9,-999.0000,9,  -999.00,9,   -999.0,9,  -999.00,9,-999.000,9,   2363.7,2,   2419.3,2,  -999.0,-999.0000,-999.000,-999.000,  -999.0,-999.000
   3220CGC92_1,   P13,    13,  1,    112,   1234,2,19920823,0931, 53.0198, 162.8972, 6017,  25978,   2593.0,   1.6266,  34.6427,2,  34.6439,2,    107.8,2,  1.4450,    108.5,2,   159.45,2,    38.86,2,     0.00,2,     2.61,2,    0.009,2,   -0.021,2, -999.000,9, -999.000,9, -999.000,9,-999.0000,9,  -999.00,9,   -999.0,9,  -999.00,9,-999.000,9,   2347.0,2,   2413.4,2,  -999.0,-999.0000,-999.000,-999.000,  -999.0,-999.000
   3220CGC92_1,   P13,    13,  1,    111,   1221,2,19920823,0931, 53.0198, 162.8972, 6017,  29005,   2896.0,   1.5576,  34.6572,2,  34.6599,2,    120.7,2,  1.3495,    122.3,2,   156.67,2,    38.84,2,     0.00,2,     2.60,2,    0.006,2,   -0.021,2, -999.000,9, -999.000,9, -999.000,9,-999.0000,9,  -999.00,9,   -999.0,9,  -999.00,9,-999.000,9,   2344.0,2,   2418.0,2,  -999.0,-999.0000,-999.000,-999.000,  -999.0,-999.000
   3220CGC92_1,   P13,    13,  1,    110,   1118,2,19920823,0931, 53.0198, 162.8972, 6017,  33004,   3297.0,   1.5116,  34.6678,2,  34.6649,2,   -999.0,9,  1.2657,    129.6,2,   148.41,2,    37.62,2,     0.00,2,     2.57,2,    0.007,2,    0.002,2, -999.000,9, -999.000,9, -999.000,9,-999.0000,9,  -999.00,9,   -999.0,9,  -999.00,9,-999.000,9,   2339.1,2,   2423.9,2,  -999.0,-999.0000,-999.000,-999.000,  -999.0,-999.000
   3220CGC92_1,   P13,    13,  1,    109,   1113,2,19920823,0931, 53.0198, 162.8972, 6017,  37001,   3698.0,   1.4836,  34.6747,2,  34.6733,2,    319.9,4,  1.1974,    143.1,2,   146.14,2,    38.47,2,     0.00,2,     2.52,2,    0.000,2,    0.003,2, -999.000,9, -999.000,9, -999.000,9,-999.0000,9,  -999.00,9,   -999.0,9,  -999.00,9,-999.000,9,   2329.9,2,   2419.1,2,  -999.0,-999.0000,-999.000,-999.000,  -999.0,-999.000
   3220CGC92_1,   P13,    13,  1,    108,   1016,2,19920823,0931, 53.0198, 162.8972, 6017,  40996,   4098.0,   1.4756,  34.6809,2,  34.6800,2,    147.9,2,  1.1467,    150.0,2,   145.03,2,    38.51,2,     0.00,2,     2.47,2,    0.025,4,   -0.021,2, -999.000,9, -999.000,9, -999.000,9,-999.0000,9,  -999.00,9,   -999.0,9,  -999.00,9,-999.000,9,   2325.8,2,   2419.4,2,  -999.0,-999.0000,-999.000,-999.000,  -999.0,-999.000
   3220CGC92_1,   P13,    13,  1,    107,   1022,2,19920823,0931, 53.0198, 162.8972, 6017,  44994,   4499.0,   1.4836,  34.6838,2,  34.6838,2,    152.7,2,  1.1092,    155.1,2,   143.25,2,    37.86,2,     0.00,2,     2.42,2,    0.005,2,   -0.001,2, -999.000,9, -999.000,9, -999.000,9,-999.0000,9,  -999.00,9,   -999.0,9,  -999.00,9,-999.000,9,   2323.2,2,   2419.0,2,  -999.0,-999.0000,-999.000,-999.000,  -999.0,-999.000
   3220CGC92_1,   P13,    13,  1,    106,   1036,2,19920823,0931, 53.0198, 162.8972, 6017,  49009,   4900.0,   1.5086,  34.6850,2,  34.6863,2,    157.2,2,  1.0862,    157.6,2,   143.91,2,    36.73,2,     0.00,2,     2.37,2,    0.004,2,    0.002,2, -999.000,9, -999.000,9, -999.000,9,-999.0000,9,  -999.00,9,   -999.0,9,  -999.00,9,-999.000,9,   2320.0,2,   2418.4,2,  -999.0,-999.0000,-999.000,-999.000,  -999.0,-999.000
   3220CGC92_1,   P13,    13,  1,    105,   1037,2,19920823,0931, 53.0198, 162.8972, 6017,  52992,   5299.0,   1.5426,  34.6888,2,  34.6867,2,    155.5,2,  1.0699,    160.3,2,   142.94,2,    36.90,2,     0.00,2,     2.41,2,    0.007,2,   -0.002,2, -999.000,9, -999.000,9, -999.000,9,-999.0000,9,  -999.00,9,   -999.0,9,  -999.00,9,-999.000,9,   2314.4,2,   2415.1,2,  -999.0,-999.0000,-999.000,-999.000,  -999.0,-999.000
   3220CGC92_1,   P13,    13,  1,    104,      0,4,19920823,0931, 53.0198, 162.8972, 6017,  56991,   5697.0,   1.5866,  34.6875,2,-999.0000,9,    162.2,2,  1.0613,   -999.0,9,  -999.00,5,  -999.00,9,  -999.00,9,  -999.00,5, -999.000,9, -999.000,9, -999.000,9, -999.000,9, -999.000,9,-999.0000,9,  -999.00,9,   -999.0,9,  -999.00,9,-999.000,9,   -999.0,9,   -999.0,9,  -999.0,-999.0000,-999.000,-999.000,  -999.0,-999.000
   3220CGC92_1,   P13,    13,  1,    103,   1023,3,19920823,0931, 53.0198, 162.8972, 6017,  56999,   5698.0,   1.5866,  34.6883,2,  34.6872,2,    162.2,2,  1.0612,    161.9,2,   141.33,2,    36.72,2,     0.00,2,     2.46,2,    0.005,2,    0.012,2, -999.000,9, -999.000,9, -999.000,9,-999.0000,9,  -999.00,9,   -999.0,9,  -999.00,9,-999.000,9,   2315.7,6,   2413.3,6,  -999.0,-999.0000,-999.000,-999.000,  -999.0,-999.000
   3220CGC92_1,   P13,    13,  1,    101,   1038,2,19920823,0931, 53.0198, 162.8972, 6017,  59506,   5948.0,   1.6166,  34.6885,2,  34.6890,6,    161.8,2,  1.0571,    163.8,3,   140.72,2,    36.37,2,     0.00,2,     2.46,2,    0.004,6,    0.009,2,    0.047,2,    0.050,2, -999.000,9,-999.0000,9,  -999.00,9,   -999.0,9,  -999.00,9,-999.000,9,   2315.8,2,   2415.3,2,  -999.0,-999.0000,-999.000,-999.000,  -999.0,-999.000
   3220CGC92_1,   P13,    13,  1,    102,   2001,2,19920823,0931, 53.0198, 162.8972, 6017,  59506,   5948.0,   1.6166,  34.6885,2,  34.6916,3,    161.9,2,  1.0571,    163.9,2,   140.91,2,    35.91,2,     0.00,2,     2.44,2, -999.000,5, -999.000,5, -999.000,9, -999.000,9, -999.000,9,-999.0000,9,  -999.00,9,   -999.0,9,  -999.00,9,-999.000,9,   -999.0,9,   -999.0,9,  -999.0,-999.0000,-999.000,-999.000,  -999.0,-999.000