BOTTLE,20221003CCHSIOAMB
EXPOCODE,SECT_ID,STNNBR,CASTNO,SAMPNO,BTLNBR,BTLNBR_FLAG_W,DATE,TIME,LATITUDE,LONGITUDE,DEPTH,CTDRAW,CTDPRS,CTDTMP,CTDSAL,CTDSAL_FLAG_W,SALNTY,SALNTY_FLAG_W,CTDOXY,CTDOXY_FLAG_W,THETA,OXYGEN,OXYGEN_FLAG_W,SILCAT,SILCAT_FLAG_W,NITRAT,NITRAT_FLAG_W,NITRIT,NITRIT_FLAG_W,PHSPHT,PHSPHT_FLAG_W,CFC-11,CFC-11_FLAG_W,CFC-12,CFC-12_FLAG_W,CFC113,CFC113_FLAG_W,CCL4,CCL4_FLAG_W,TRITUM,TRITUM_FLAG_W,HELIUM,HELIUM_FLAG_W,DELHE3,DELHE3_FLAG_W,DELC14,DELC14_FLAG_W,DELC13,DELC13_FLAG_W,NEON,NEON_FLAG_W,TCARBN,TCARBN_FLAG_W,ALKALI,ALKALI_FLAG_W,C14ERR,HELIER,DELHER,NEONER,C13ERR,TRITER
,,,,,,,,,,,,DBAR,DBAR,ITS-90,PSS-78,,PSS-78,,UMOL/KG,,DEG C,UMOL/KG,,UMOL/KG,,UMOL/KG,,UMOL/KG,,UMOL/KG,,PMOL/KG,,PMOL/KG,,PMOL/KG,,PMOL/KG,,TU,,NMOL/KG,,PERCNT,,/MILLE,,/MILLE,,NMOL/KG,,UMOL/KG,,UMOL/KG,,/MILLE,NMOL/KG,PERCNT,NMOL/KG,/MILLE,TU
   3220CGC92_1,   P13,    38,  1,    136,   1106,2,19920902,1323, 40.5067, 165.0105, 5340,     98,      7.0,  20.2201,  33.9421,2,  33.9373,2,    233.4,2, 20.2189,   -999.0,9,     2.92,2,     0.00,2,     0.00,2,     0.00,2, -999.000,9, -999.000,9, -999.000,9, -999.000,9, -999.000,9,-999.0000,9,  -999.00,9,   -999.0,9,  -999.00,9,-999.000,9,   1961.0,6,   2247.3,6,  -999.0,-999.0000,-999.000,-999.000,  -999.0,-999.000
   3220CGC92_1,   P13,    38,  1,    134,   1030,2,19920902,1323, 40.5067, 165.0105, 5340,    242,     21.0,  17.7267,  34.1905,2,  34.1026,4,    244.7,2, 17.7232,    255.1,2,     3.62,2,     0.00,2,     0.00,2,     0.03,2, -999.000,9, -999.000,9, -999.000,9, -999.000,9, -999.000,9,-999.0000,9,  -999.00,9,   -999.0,9,  -999.00,9,-999.000,9,   1971.2,2,   2259.1,2,  -999.0,-999.0000,-999.000,-999.000,  -999.0,-999.000
   3220CGC92_1,   P13,    38,  1,    133,   1231,2,19920902,1323, 40.5067, 165.0105, 5340,    505,     47.0,  12.8969,  34.3891,2,  34.3386,2,    230.5,2, 12.8905,    228.0,2,    11.87,2,     7.48,2,     0.39,2,     0.56,2,    2.961,2,    1.474,2, -999.000,9, -999.000,9, -999.000,9,-999.0000,9,  -999.00,9,   -999.0,9,  -999.00,9,-999.000,9,   2055.6,2,   2273.4,2,  -999.0,-999.0000,-999.000,-999.000,  -999.0,-999.000
   3220CGC92_1,   P13,    38,  1,    132,   1109,2,19920902,1323, 40.5067, 165.0105, 5340,    736,     70.0,  11.1213,  34.1977,2,  34.2245,2,    235.6,2, 11.1128,    234.4,2,    15.39,2,    10.44,2,     0.00,2,     0.73,2, -999.000,9, -999.000,9, -999.000,9, -999.000,9, -999.000,9,-999.0000,9,  -999.00,9,   -999.0,9,  -999.00,9,-999.000,9,   2073.5,2,   2270.7,2,  -999.0,-999.0000,-999.000,-999.000,  -999.0,-999.000
   3220CGC92_1,   P13,    38,  1,    131,   1031,2,19920902,1323, 40.5067, 165.0105, 5340,    991,     96.0,  10.2305,  34.1565,2,  34.2274,2,    225.6,2, 10.2194,    227.7,2,    18.61,2,    11.77,2,     0.00,2,     0.80,2,    3.084,2,    1.536,2, -999.000,9, -999.000,9, -999.000,9,-999.0000,9,  -999.00,9,   -999.0,9,  -999.00,9,-999.000,9,   2085.7,2,   2271.9,2,  -999.0,-999.0000,-999.000,-999.000,  -999.0,-999.000
   3220CGC92_1,   P13,    38,  1,    130,   1041,2,19920902,1323, 40.5067, 165.0105, 5340,   1245,    121.0,   9.6677,  34.1428,2,  34.0901,2,    246.6,2,  9.6541,    250.6,2,    19.28,2,    12.01,2,     0.00,2,     0.84,2, -999.000,9, -999.000,9, -999.000,9, -999.000,9, -999.000,9,-999.0000,9,  -999.00,9,   -999.0,9,  -999.00,9,-999.000,9,   2083.8,2,   2268.7,2,  -999.0,-999.0000,-999.000,-999.000,  -999.0,-999.000
   3220CGC92_1,   P13,    38,  1,    129,   1004,2,19920902,1323, 40.5067, 165.0105, 5340,   1491,    145.0,   9.0738,  34.0833,2,  34.1405,2,    232.4,2,  9.0582,    236.0,2,    21.53,2,    13.54,2,     0.00,2,     0.93,2, -999.000,9, -999.000,9, -999.000,9, -999.000,9, -999.000,9,-999.0000,9,  -999.00,9,   -999.0,9,  -999.00,9,-999.000,9,   2094.5,2,   2270.8,2,  -999.0,-999.0000,-999.000,-999.000,  -999.0,-999.000
   3220CGC92_1,   P13,    38,  1,    127,   1117,2,19920902,1323, 40.5067, 165.0105, 5340,   1736,    170.0,   8.4930,  34.0602,2,  34.0575,2,    241.1,2,  8.4754,    236.8,2,    25.10,2,    14.83,2,     0.00,2,     1.06,2, -999.000,9, -999.000,9, -999.000,9, -999.000,9, -999.000,9,-999.0000,9,  -999.00,9,   -999.0,9,  -999.00,9,-999.000,9,   2104.8,2,   2271.0,2,  -999.0,-999.0000,-999.000,-999.000,  -999.0,-999.000
   3220CGC92_1,   P13,    38,  1,    126,   1110,2,19920902,1323, 40.5067, 165.0105, 5340,   2008,    197.0,   7.4242,  33.9417,2,  34.0363,2,    222.1,2,  7.4055,   -999.0,9,    29.65,2,    17.42,2,     0.00,2,     1.18,2,    3.117,2,    1.517,2, -999.000,9, -999.000,9, -999.000,9,-999.0000,9,  -999.00,9,   -999.0,9,  -999.00,9,-999.000,9,   2121.5,2,   2271.2,2,  -999.0,-999.0000,-999.000,-999.000,  -999.0,-999.000
   3220CGC92_1,   P13,    38,  1,    125,   1035,2,19920902,1323, 40.5067, 165.0105, 5340,   2484,    244.0,   6.3925,  33.8715,2,  33.9009,2,    231.2,2,  6.3711,    221.8,2,    37.76,2,    20.73,2,     0.00,2,     1.45,2, -999.000,9, -999.000,9, -999.000,9, -999.000,9, -999.000,9,-999.0000,9,  -999.00,9,   -999.0,9,  -999.00,9,-999.000,9,   2142.8,2,   2272.8,2,  -999.0,-999.0000,-999.000,-999.000,  -999.0,-999.000
   3220CGC92_1,   P13,    38,  1,    124,   1026,2,19920902,1323, 40.5067, 165.0105, 5340,   3001,    295.0,   5.3747,  33.8630,2,  33.8790,2,    192.4,2,  5.3511,    197.9,2,    46.47,2,    23.56,2,     0.00,2,     1.67,2, -999.000,9, -999.000,9, -999.000,9, -999.000,9, -999.000,9,-999.0000,9,  -999.00,9,   -999.0,9,  -999.00,9,-999.000,9,   2170.4,2,   2273.9,2,  -999.0,-999.0000,-999.000,-999.000,  -999.0,-999.000
   3220CGC92_1,   P13,    38,  1,    123,   1014,2,19920902,1323, 40.5067, 165.0105, 5340,   3507,    346.0,   4.6629,  33.8772,2,  33.8953,2,    159.4,2,  4.6370,   -999.0,9,    62.80,2,    30.51,2,     0.00,2,     2.20,2,    2.487,2,    1.112,2, -999.000,9, -999.000,9, -999.000,9,-999.0000,9,  -999.00,9,   -999.0,9,  -999.00,9,-999.000,9,   2216.7,2,   2288.3,2,  -999.0,-999.0000,-999.000,-999.000,  -999.0,-999.000
   3220CGC92_1,   P13,    38,  1,    122,   1015,2,19920902,1323, 40.5067, 165.0105, 5340,   4002,    395.0,   4.7729,  33.9723,2,  33.9607,2,    129.8,2,  4.7427,    127.8,2,    73.73,2,    33.07,2,     0.00,2,     2.40,2, -999.000,9, -999.000,9, -999.000,9, -999.000,9, -999.000,9,-999.0000,9,  -999.00,9,   -999.0,9,  -999.00,9,-999.000,9,   2242.5,2,   2298.5,2,  -999.0,-999.0000,-999.000,-999.000,  -999.0,-999.000
   3220CGC92_1,   P13,    38,  1,    121,   1235,2,19920902,1323, 40.5067, 165.0105, 5340,   4993,    494.0,   4.2430,  34.0443,2,  34.0261,2,     99.7,2,  4.2069,     94.6,2,    88.46,2,    36.23,2,     0.00,2,     2.63,2, -999.000,9, -999.000,9, -999.000,9, -999.000,9, -999.000,9,-999.0000,9,  -999.00,9,   -999.0,9,  -999.00,9,-999.000,9,   2277.5,2,   2313.7,2,  -999.0,-999.0000,-999.000,-999.000,  -999.0,-999.000
   3220CGC92_1,   P13,    38,  1,    120,   1237,2,19920902,1323, 40.5067, 165.0105, 5340,   5980,    592.0,   4.0180,  34.1578,2,  34.1530,2,   -999.0,9,  3.9753,   -999.0,9,   101.95,2,    38.84,2,     0.00,2,     2.78,2,    0.600,6,    0.275,6, -999.000,9, -999.000,9, -999.000,9,-999.0000,9,  -999.00,9,   -999.0,9,  -999.00,9,-999.000,9,   2308.0,2,   2329.6,2,  -999.0,-999.0000,-999.000,-999.000,  -999.0,-999.000
   3220CGC92_1,   P13,    38,  1,    119,   1025,2,19920902,1323, 40.5067, 165.0105, 5340,   6992,    693.0,   3.7381,  34.2329,2,  34.2217,2,     52.4,2,  3.6890,     50.4,2,   114.73,2,    40.79,2,     0.00,2,     2.93,2, -999.000,9, -999.000,9, -999.000,9, -999.000,9, -999.000,9,-999.0000,9,  -999.00,9,   -999.0,9,  -999.00,9,-999.000,9,   2330.1,2,   2344.9,2,  -999.0,-999.0000,-999.000,-999.000,  -999.0,-999.000
   3220CGC92_1,   P13,    38,  1,    118,   1118,2,19920902,1323, 40.5067, 165.0105, 5340,   7885,    782.0,   3.5561,  34.2934,2,  34.2923,6,     43.2,2,  3.5012,   -999.0,9,   123.27,2,    41.52,2,     0.00,2,     3.00,2, -999.000,9, -999.000,9, -999.000,9, -999.000,9, -999.000,9,-999.0000,9,  -999.00,9,   -999.0,9,  -999.00,9,-999.000,9,   2344.5,2,   2355.9,2,  -999.0,-999.0000,-999.000,-999.000,  -999.0,-999.000
   3220CGC92_1,   P13,    38,  1,    117,   1005,2,19920902,1323, 40.5067, 165.0105, 5340,   8988,    892.0,   3.2432,  34.3465,2,  34.3436,2,     37.5,2,  3.1819,     36.4,2,   132.45,2,    41.94,2,     0.00,2,     3.05,2, -999.000,9, -999.000,9, -999.000,9, -999.000,9, -999.000,9,-999.0000,9,  -999.00,9,   -999.0,9,  -999.00,9,-999.000,9,   2357.5,2,   2370.0,2,  -999.0,-999.0000,-999.000,-999.000,  -999.0,-999.000
   3220CGC92_1,   P13,    38,  1,    116,   1104,2,19920902,1323, 40.5067, 165.0105, 5340,   9987,    992.0,   3.0793,  34.3807,2,  34.3750,2,     37.0,2,  3.0116,   -999.0,9,   137.97,2,    41.90,2,     0.00,2,     3.02,2,    0.073,6,    0.032,6, -999.000,9, -999.000,9, -999.000,9,-999.0000,9,  -999.00,9,   -999.0,9,  -999.00,9,-999.000,9,   2361.7,2,   2373.9,2,  -999.0,-999.0000,-999.000,-999.000,  -999.0,-999.000
   3220CGC92_1,   P13,    38,  1,    115,   1020,2,19920902,1323, 40.5067, 165.0105, 5340,  11999,   1193.0,   2.6844,  34.4364,2,  34.4280,2,     34.8,2,  2.6046,     34.7,2,   151.05,2,    43.00,2,     0.00,2,     3.07,2, -999.000,9, -999.000,9, -999.000,9, -999.000,9, -999.000,9,-999.0000,9,  -999.00,9,   -999.0,9,  -999.00,9,-999.000,9,   2376.1,2,   2387.9,2,  -999.0,-999.0000,-999.000,-999.000,  -999.0,-999.000
   3220CGC92_1,   P13,    38,  1,    114,   1012,2,19920902,1323, 40.5067, 165.0105, 5340,  13985,   1391.0,   2.4134,  34.4811,2,  34.4819,2,     40.1,2,  2.3211,   -999.0,9,   158.42,2,    42.72,2,     0.00,2,     3.06,2, -999.000,9, -999.000,9, -999.000,9, -999.000,9, -999.000,9,-999.0000,9,  -999.00,9,   -999.0,9,  -999.00,9,-999.000,9,   2382.1,2,   2396.7,2,  -999.0,-999.0000,-999.000,-999.000,  -999.0,-999.000
   3220CGC92_1,   P13,    38,  1,    112,   1219,2,19920902,1323, 40.5067, 165.0105, 5340,  18998,   1893.0,   1.9885,  34.5768,2,  34.5723,2,     60.7,2,  1.8613,   -999.0,9,   166.20,2,    41.51,2,     0.00,2,     2.95,2,   -0.002,2,   -0.001,2, -999.000,9, -999.000,9, -999.000,9,-999.0000,9,  -999.00,9,   -999.0,9,  -999.00,9,-999.000,9,   2378.8,2,   2412.8,2,  -999.0,-999.0000,-999.000,-999.000,  -999.0,-999.000
   3220CGC92_1,   P13,    38,  1,    111,   1112,2,19920902,1323, 40.5067, 165.0105, 5340,  21982,   2192.0,   1.8186,  34.6099,2,  34.6068,2,     80.1,2,  1.6688,     80.3,2,   166.69,2,    40.70,2,     0.00,2,     2.94,2, -999.000,9, -999.000,9, -999.000,9, -999.000,9, -999.000,9,-999.0000,9,  -999.00,9,   -999.0,9,  -999.00,9,-999.000,9,   2369.8,2,   2416.2,2,  -999.0,-999.0000,-999.000,-999.000,  -999.0,-999.000
   3220CGC92_1,   P13,    38,  1,    110,   1029,2,19920902,1323, 40.5067, 165.0105, 5340,  24996,   2494.0,   1.6866,  34.6348,2,  34.6313,2,     97.0,2,  1.5127,   -999.0,9,   165.42,2,    39.79,2,     0.00,2,     2.84,2, -999.000,9, -999.000,9, -999.000,9, -999.000,9, -999.000,9,-999.0000,9,  -999.00,9,   -999.0,9,  -999.00,9,-999.000,9,   2358.8,2,   2419.6,2,  -999.0,-999.0000,-999.000,-999.000,  -999.0,-999.000
   3220CGC92_1,   P13,    38,  1,    109,   1023,2,19920902,1323, 40.5067, 165.0105, 5340,  28002,   2795.0,   1.5906,  34.6520,2,  34.6536,2,   -999.0,9,  1.3912,    114.4,2,   162.51,2,    39.21,2,     0.00,2,     2.80,2, -999.000,9, -999.000,9, -999.000,9, -999.000,9, -999.000,9,-999.0000,9,  -999.00,9,   -999.0,9,  -999.00,9,-999.000,9,   2351.3,2,   2418.2,2,  -999.0,-999.0000,-999.000,-999.000,  -999.0,-999.000
   3220CGC92_1,   P13,    38,  1,    108,   1032,2,19920902,1323, 40.5067, 165.0105, 5340,  31008,   3097.0,   1.5366,  34.6627,2,  34.6610,2,    124.1,2,  1.3097,   -999.0,9,   159.63,2,    38.57,2,     0.00,2,     2.73,2,   -0.002,2,   -0.001,2, -999.000,9, -999.000,9, -999.000,9,-999.0000,9,  -999.00,9,   -999.0,9,  -999.00,9,-999.000,9,   2344.1,2,   2419.3,2,  -999.0,-999.0000,-999.000,-999.000,  -999.0,-999.000
   3220CGC92_1,   P13,    38,  1,    107,   1037,2,19920902,1323, 40.5067, 165.0105, 5340,  33998,   3397.0,   1.4946,  34.6720,2,  34.6681,2,    135.7,2,  1.2391,    135.8,2,   157.36,2,    37.76,2,     0.00,2,     2.68,2, -999.000,9, -999.000,9, -999.000,9, -999.000,9, -999.000,9,-999.0000,9,  -999.00,9,   -999.0,9,  -999.00,9,-999.000,9,   2336.5,2,   2416.6,2,  -999.0,-999.0000,-999.000,-999.000,  -999.0,-999.000
   3220CGC92_1,   P13,    38,  1,    106,   1022,2,19920902,1323, 40.5067, 165.0105, 5340,  36993,   3697.0,   1.4726,  34.6779,2,  34.6735,2,   -999.0,9,  1.1868,    142.8,2,   155.94,2,    37.07,2,     0.00,2,     2.62,2, -999.000,9, -999.000,9, -999.000,9, -999.000,9, -999.000,9,-999.0000,9,  -999.00,9,   -999.0,9,  -999.00,9,-999.000,9,   2331.6,2,   2417.9,2,  -999.0,-999.0000,-999.000,-999.000,  -999.0,-999.000
   3220CGC92_1,   P13,    38,  1,    105,   1221,2,19920902,1323, 40.5067, 165.0105, 5340,  41000,   4099.0,   1.4636,  34.6840,2,  34.6828,2,   -999.0,9,  1.1349,    149.6,2,   153.62,2,    36.64,2,     0.00,2,     2.56,2, -999.000,9, -999.000,9, -999.000,9, -999.000,9, -999.000,9,-999.0000,9,  -999.00,9,   -999.0,9,  -999.00,9,-999.000,9,   2327.8,2,   2416.4,2,  -999.0,-999.0000,-999.000,-999.000,  -999.0,-999.000
   3220CGC92_1,   P13,    38,  1,    104,   1038,2,19920902,1323, 40.5067, 165.0105, 5340,  44987,   4498.0,   1.4756,  34.6868,2,  34.6831,2,    153.7,2,  1.1016,    154.6,2,   153.22,2,    36.80,2,     0.00,2,     2.56,2,   -0.003,2,   -0.002,2, -999.000,9, -999.000,9, -999.000,9,-999.0000,9,  -999.00,9,   -999.0,9,  -999.00,9,-999.000,9,   2324.3,2,   2418.7,2,  -999.0,-999.0000,-999.000,-999.000,  -999.0,-999.000
   3220CGC92_1,   P13,    38,  1,    103,   1033,2,19920902,1323, 40.5067, 165.0105, 5340,  49009,   4900.0,   1.5046,  34.6879,2,  34.6870,2,    157.1,2,  1.0823,    160.1,3,   153.41,2,    36.69,2,     0.00,2,     2.55,2, -999.000,9, -999.000,9, -999.000,9, -999.000,9, -999.000,9,-999.0000,9,  -999.00,9,   -999.0,9,  -999.00,9,-999.000,9,   2322.4,2,   2417.9,2,  -999.0,-999.0000,-999.000,-999.000,  -999.0,-999.000
   3220CGC92_1,   P13,    38,  1,    102,   1234,2,19920902,1323, 40.5067, 165.0105, 5340,  51982,   5198.0,   1.5346,  34.6887,2,  34.6881,2,    159.4,2,  1.0748,    157.7,2,   154.19,2,    36.06,2,     0.00,2,     2.50,2, -999.000,9, -999.000,9, -999.000,9, -999.000,9, -999.000,9,-999.0000,9,  -999.00,9,   -999.0,9,  -999.00,9,-999.000,9,   2322.4,2,   2419.8,2,  -999.0,-999.0000,-999.000,-999.000,  -999.0,-999.000
   3220CGC92_1,   P13,    38,  1,    101,   1013,2,19920902,1323, 40.5067, 165.0105, 5340,  56004,   5599.0,   1.5846,  34.6881,2,  34.6892,6,    159.8,2,  1.0721,    158.4,2,   154.80,2,    36.41,2,     0.00,2,     2.53,2, -999.000,9, -999.000,9, -999.000,9, -999.000,9, -999.000,9,-999.0000,9,  -999.00,9,   -999.0,9,  -999.00,9,-999.000,9,   2322.2,6,   2419.2,6,  -999.0,-999.0000,-999.000,-999.000,  -999.0,-999.000