BOTTLE,20221003CCHSIOAMB
EXPOCODE,SECT_ID,STNNBR,CASTNO,SAMPNO,BTLNBR,BTLNBR_FLAG_W,DATE,TIME,LATITUDE,LONGITUDE,DEPTH,CTDRAW,CTDPRS,CTDTMP,CTDSAL,CTDSAL_FLAG_W,SALNTY,SALNTY_FLAG_W,CTDOXY,CTDOXY_FLAG_W,THETA,OXYGEN,OXYGEN_FLAG_W,SILCAT,SILCAT_FLAG_W,NITRAT,NITRAT_FLAG_W,NITRIT,NITRIT_FLAG_W,PHSPHT,PHSPHT_FLAG_W,CFC-11,CFC-11_FLAG_W,CFC-12,CFC-12_FLAG_W,CFC113,CFC113_FLAG_W,CCL4,CCL4_FLAG_W,TRITUM,TRITUM_FLAG_W,HELIUM,HELIUM_FLAG_W,DELHE3,DELHE3_FLAG_W,DELC14,DELC14_FLAG_W,DELC13,DELC13_FLAG_W,NEON,NEON_FLAG_W,TCARBN,TCARBN_FLAG_W,ALKALI,ALKALI_FLAG_W,C14ERR,HELIER,DELHER,NEONER,C13ERR,TRITER
,,,,,,,,,,,,DBAR,DBAR,ITS-90,PSS-78,,PSS-78,,UMOL/KG,,DEG C,UMOL/KG,,UMOL/KG,,UMOL/KG,,UMOL/KG,,UMOL/KG,,PMOL/KG,,PMOL/KG,,PMOL/KG,,PMOL/KG,,TU,,NMOL/KG,,PERCNT,,/MILLE,,/MILLE,,NMOL/KG,,UMOL/KG,,UMOL/KG,,/MILLE,NMOL/KG,PERCNT,NMOL/KG,/MILLE,TU
   3220CGC92_1,   P13,    16,  1,    136,   1106,2,19920824,1828, 51.4945, 164.9853, 4932,     98,      7.0,   9.8456,  32.8350,2,  32.8414,2,   -999.0,9,  9.8449,    288.3,2,    24.08,2,    13.64,2,     0.00,2,     1.37,2,    4.224,2,    2.126,2, -999.000,9, -999.000,9, -999.000,9,-999.0000,9,  -999.00,9,   -999.0,9,  -999.00,9,-999.000,9,   2038.4,2,   2224.4,2,  -999.0,-999.0000,-999.000,-999.000,  -999.0,-999.000
   3220CGC92_1,   P13,    16,  1,    135,   1033,2,19920824,1828, 51.4945, 164.9853, 4932,    244,     21.0,   9.8446,  32.8358,2,  32.8581,2,    298.8,2,  9.8423,    290.9,2,    24.52,2,    14.93,2,     0.07,2,     1.40,2,    4.340,2,    2.194,2, -999.000,9, -999.000,9, -999.000,9,-999.0000,9,  -999.00,9,   -999.0,9,  -999.00,9,-999.000,9,   -999.0,9,   -999.0,9,  -999.0,-999.0000,-999.000,-999.000,  -999.0,-999.000
   3220CGC92_1,   P13,    16,  1,    134,   1109,2,19920824,1828, 51.4945, 164.9853, 4932,    497,     46.0,   3.2712,  33.0558,2,  33.0978,2,    318.0,2,  3.2685,    318.2,2,    30.93,2,    22.88,2,     0.25,2,     1.86,2,    5.807,2,    2.775,2, -999.000,9, -999.000,9, -999.000,9,-999.0000,9,  -999.00,9,   -999.0,9,  -999.00,9,-999.000,9,   -999.0,9,   -999.0,9,  -999.0,-999.0000,-999.000,-999.000,  -999.0,-999.000
   3220CGC92_1,   P13,    16,  1,    133,   1031,2,19920824,1828, 51.4945, 164.9853, 4932,    751,     72.0,   2.8303,  33.1253,2,  33.1617,2,    300.4,2,  2.8262,    307.2,2,    39.08,2,    25.90,2,     0.00,2,     1.99,2,    5.785,2,    2.768,2, -999.000,9, -999.000,9, -999.000,9,-999.0000,9,  -999.00,9,   -999.0,9,  -999.00,9,-999.000,9,   -999.0,9,   -999.0,9,  -999.0,-999.0000,-999.000,-999.000,  -999.0,-999.000
   3220CGC92_1,   P13,    16,  1,    132,   1008,2,19920824,1828, 51.4945, 164.9853, 4932,    993,     96.0,   2.5054,  33.2130,2,  33.2617,2,   -999.0,9,  2.5002,    290.4,2,    54.38,2,    28.45,2,     0.00,2,     2.20,2,    5.449,6,    2.639,6, -999.000,9, -999.000,9, -999.000,9,-999.0000,9,  -999.00,9,   -999.0,9,  -999.00,9,-999.000,9,   -999.0,9,   -999.0,9,  -999.0,-999.0000,-999.000,-999.000,  -999.0,-999.000
   3220CGC92_1,   P13,    16,  1,    131,   1030,2,19920824,1828, 51.4945, 164.9853, 4932,   1245,    121.0,   2.5664,  33.2899,2,  33.3110,2,    285.4,2,  2.5597,    285.6,2,    60.45,2,    30.08,2,     0.00,2,     2.26,2,    5.271,2,    2.563,2, -999.000,9, -999.000,9, -999.000,9,-999.0000,9,  -999.00,9,   -999.0,9,  -999.00,9,-999.000,9,   -999.0,9,   -999.0,9,  -999.0,-999.0000,-999.000,-999.000,  -999.0,-999.000
   3220CGC92_1,   P13,    16,  1,    130,   1032,2,19920824,1828, 51.4945, 164.9853, 4932,   1491,    145.0,   2.6484,  33.3095,2,  33.3390,2,    283.7,2,  2.6402,    277.3,2,    62.15,2,    30.76,2,     0.00,2,     2.29,2,    5.301,2,    2.456,2, -999.000,9, -999.000,9, -999.000,9,-999.0000,9,  -999.00,9,   -999.0,9,  -999.00,9,-999.000,9,   -999.0,9,   -999.0,9,  -999.0,-999.0000,-999.000,-999.000,  -999.0,-999.000
   3220CGC92_1,   P13,    16,  1,    129,   1004,2,19920824,1828, 51.4945, 164.9853, 4932,   1743,    170.0,   3.0783,  33.4019,2,  33.4173,2,    253.4,2,  3.0681,    230.9,2,    66.26,2,    32.77,2,     0.00,2,     2.41,2,    4.208,2,    2.057,2, -999.000,9, -999.000,9, -999.000,9,-999.0000,9,  -999.00,9,   -999.0,9,  -999.00,9,-999.000,9,   -999.0,9,   -999.0,9,  -999.0,-999.0000,-999.000,-999.000,  -999.0,-999.000
   3220CGC92_1,   P13,    16,  1,    128,   1028,2,19920824,1828, 51.4945, 164.9853, 4932,   2003,    196.0,   3.7731,  33.5664,2,  33.5737,2,    154.1,2,  3.7601,    153.5,2,    74.97,2,    35.22,2,     0.00,2,     2.58,2,    3.000,2,    1.421,2, -999.000,9, -999.000,9, -999.000,9,-999.0000,9,  -999.00,9,   -999.0,9,  -999.00,9,-999.000,9,   -999.0,9,   -999.0,9,  -999.0,-999.0000,-999.000,-999.000,  -999.0,-999.000
   3220CGC92_1,   P13,    16,  1,    127,   1117,2,19920824,1828, 51.4945, 164.9853, 4932,   2496,    245.0,   3.9361,  33.7084,2,  33.7346,2,    106.3,2,  3.9194,     99.7,2,    83.82,2,    38.38,2,     0.00,2,     2.76,2,    2.119,2,    0.970,2, -999.000,9, -999.000,9, -999.000,9,-999.0000,9,  -999.00,9,   -999.0,9,  -999.00,9,-999.000,9,   -999.0,9,   -999.0,9,  -999.0,-999.0000,-999.000,-999.000,  -999.0,-999.000
   3220CGC92_1,   P13,    16,  1,    126,   1110,2,19920824,1828, 51.4945, 164.9853, 4932,   2986,    294.0,   3.8831,  33.7930,2,  33.8304,2,     69.5,2,  3.8630,     73.3,2,    89.51,2,    39.58,2,     0.00,2,     2.84,2,    1.655,6,    0.788,6, -999.000,9, -999.000,9, -999.000,9,-999.0000,9,  -999.00,9,   -999.0,9,  -999.00,9,-999.000,9,   -999.0,9,   -999.0,9,  -999.0,-999.0000,-999.000,-999.000,  -999.0,-999.000
   3220CGC92_1,   P13,    16,  1,    125,   1035,2,19920824,1828, 51.4945, 164.9853, 4932,   3491,    344.0,   3.8131,  33.8711,2,  33.9068,2,     51.5,2,  3.7897,     52.7,2,    95.02,2,    41.21,2,     0.00,2,     2.94,2,    1.260,2,    0.561,2, -999.000,9, -999.000,9, -999.000,9,-999.0000,9,  -999.00,9,   -999.0,9,  -999.00,9,-999.000,9,   -999.0,9,   -999.0,9,  -999.0,-999.0000,-999.000,-999.000,  -999.0,-999.000
   3220CGC92_1,   P13,    16,  1,    124,   1026,2,19920824,1828, 51.4945, 164.9853, 4932,   3985,    393.0,   3.7621,  33.9315,2,  33.9638,2,     42.9,2,  3.7353,     38.8,2,    99.08,2,    42.30,2,     0.00,2,     3.01,2,    0.968,2,    0.445,2, -999.000,9, -999.000,9, -999.000,9,-999.0000,9,  -999.00,9,   -999.0,9,  -999.00,9,-999.000,9,   -999.0,9,   -999.0,9,  -999.0,-999.0000,-999.000,-999.000,  -999.0,-999.000
   3220CGC92_1,   P13,    16,  1,    123,   1014,2,19920824,1828, 51.4945, 164.9853, 4932,   4985,    493.0,   3.6711,  34.0414,2,  34.0581,2,     26.6,2,  3.6374,     27.6,2,   107.88,2,    43.69,2,     0.00,2,     3.11,2,    0.611,2,    0.277,2, -999.000,9, -999.000,9, -999.000,9,-999.0000,9,  -999.00,9,   -999.0,9,  -999.00,9,-999.000,9,   -999.0,9,   -999.0,9,  -999.0,-999.0000,-999.000,-999.000,  -999.0,-999.000
   3220CGC92_1,   P13,    16,  1,    122,   1015,2,19920824,1828, 51.4945, 164.9853, 4932,   6008,    595.0,   3.5431,  34.1237,2,  34.1377,2,     23.4,2,  3.5025,     22.8,2,   115.87,2,    43.87,2,     0.00,2,     3.13,2,    0.368,6,    0.172,6, -999.000,9, -999.000,9, -999.000,9,-999.0000,9,  -999.00,9,   -999.0,9,  -999.00,9,-999.000,9,   -999.0,9,   -999.0,9,  -999.0,-999.0000,-999.000,-999.000,  -999.0,-999.000
   3220CGC92_1,   P13,    16,  1,    121,   1235,3,19920824,1828, 51.4945, 164.9853, 4932,   7000,    694.0,   3.3972,  34.1898,2,-999.0000,9,     17.5,2,  3.3499,   -999.0,9,  -999.00,5,  -999.00,9,  -999.00,9,  -999.00,5, -999.000,9, -999.000,9, -999.000,9, -999.000,9, -999.000,9,-999.0000,9,  -999.00,9,   -999.0,9,  -999.00,9,-999.000,9,   -999.0,9,   -999.0,9,  -999.0,-999.0000,-999.000,-999.000,  -999.0,-999.000
   3220CGC92_1,   P13,    16,  1,    120,   1237,2,19920824,1828, 51.4945, 164.9853, 4932,   8010,    795.0,   3.2542,  34.2426,2,  34.2537,2,     20.0,2,  3.2003,     19.7,2,   129.38,2,    43.46,2,     0.00,2,     3.10,2,    0.170,2,    0.079,2, -999.000,9, -999.000,9, -999.000,9,-999.0000,9,  -999.00,9,   -999.0,9,  -999.00,9,-999.000,9,   -999.0,9,   -999.0,9,  -999.0,-999.0000,-999.000,-999.000,  -999.0,-999.000
   3220CGC92_1,   P13,    16,  1,    119,   1025,2,19920824,1828, 51.4945, 164.9853, 4932,   8993,    893.0,   3.0943,  34.2947,2,  34.3036,2,     19.4,2,  3.0340,     19.8,2,   135.00,2,    43.28,2,     0.00,2,     3.11,2,    0.119,2,    0.049,2, -999.000,9, -999.000,9, -999.000,9,-999.0000,9,  -999.00,9,   -999.0,9,  -999.00,9,-999.000,9,   -999.0,9,   -999.0,9,  -999.0,-999.0000,-999.000,-999.000,  -999.0,-999.000
   3220CGC92_1,   P13,    16,  1,    118,   1002,2,19920824,1828, 51.4945, 164.9853, 4932,  10010,    994.0,   2.9613,  34.3341,2,  34.3447,2,     19.8,2,  2.8944,     19.8,2,   140.12,2,    43.93,2,     0.00,2,     3.13,2,    0.067,2,    0.032,2, -999.000,9, -999.000,9, -999.000,9,-999.0000,9,  -999.00,9,   -999.0,9,  -999.00,9,-999.000,9,   -999.0,9,   -999.0,9,  -999.0,-999.0000,-999.000,-999.000,  -999.0,-999.000
   3220CGC92_1,   P13,    16,  1,    117,   1005,2,19920824,1828, 51.4945, 164.9853, 4932,  11996,   1193.0,   2.7014,  34.4031,2,  34.4119,2,     21.6,2,  2.6215,     22.8,2,   148.57,2,    43.59,2,     0.00,2,     3.12,2, -999.000,9, -999.000,9, -999.000,9, -999.000,9, -999.000,9,-999.0000,9,  -999.00,9,   -999.0,9,  -999.00,9,-999.000,9,   -999.0,9,   -999.0,9,  -999.0,-999.0000,-999.000,-999.000,  -999.0,-999.000
   3220CGC92_1,   P13,    16,  1,    116,   1104,2,19920824,1828, 51.4945, 164.9853, 4932,  13990,   1392.0,   2.4564,  34.4611,2,  34.4713,2,   -999.0,9,  2.3636,     29.2,2,   157.38,2,    43.53,2,     0.00,2,     3.09,2,    0.038,2,    0.012,2, -999.000,9, -999.000,9, -999.000,9,-999.0000,9,  -999.00,9,   -999.0,9,  -999.00,9,-999.000,9,   -999.0,9,   -999.0,9,  -999.0,-999.0000,-999.000,-999.000,  -999.0,-999.000
   3220CGC92_1,   P13,    16,  1,    115,   1020,2,19920824,1828, 51.4945, 164.9853, 4932,  15976,   1591.0,   2.2375,  34.5110,2,  34.5168,2,     37.6,2,  2.1314,     38.6,2,   161.65,2,    42.57,2,     0.00,2,     3.03,2, -999.000,9, -999.000,9, -999.000,9, -999.000,9, -999.000,9,-999.0000,9,  -999.00,9,   -999.0,9,  -999.00,9,-999.000,9,   -999.0,9,   -999.0,9,  -999.0,-999.0000,-999.000,-999.000,  -999.0,-999.000
   3220CGC92_1,   P13,    16,  1,    114,   1120,2,19920824,1828, 51.4945, 164.9853, 4932,  17986,   1792.0,   2.0585,  34.5504,2,  34.5534,2,     51.8,2,  1.9386,     50.5,2,   164.40,2,    41.79,2,     0.00,2,     2.97,2,    0.012,2,    0.003,2, -999.000,9, -999.000,9, -999.000,9,-999.0000,9,  -999.00,9,   -999.0,9,  -999.00,9,-999.000,9,   -999.0,9,   -999.0,9,  -999.0,-999.0000,-999.000,-999.000,  -999.0,-999.000
   3220CGC92_1,   P13,    16,  1,    113,   1112,2,19920824,1828, 51.4945, 164.9853, 4932,  19994,   1993.0,   1.9305,  34.5798,2,  34.5807,2,     62.6,2,  1.7959,     62.7,2,   166.59,2,    40.95,2,     0.00,2,     2.90,2, -999.000,9, -999.000,9, -999.000,9, -999.000,9, -999.000,9,-999.0000,9,  -999.00,9,   -999.0,9,  -999.00,9,-999.000,9,   -999.0,9,   -999.0,9,  -999.0,-999.0000,-999.000,-999.000,  -999.0,-999.000
   3220CGC92_1,   P13,    16,  1,    112,   1234,2,19920824,1828, 51.4945, 164.9853, 4932,  21993,   2193.0,   1.8306,  34.6021,2,  34.6001,2,     72.8,2,  1.6806,     73.3,2,   167.91,2,    40.25,2,     0.00,2,     2.85,2,    1.134,4,   -0.021,2, -999.000,9, -999.000,9, -999.000,9,-999.0000,9,  -999.00,9,   -999.0,9,  -999.00,9,-999.000,9,   -999.0,9,   -999.0,9,  -999.0,-999.0000,-999.000,-999.000,  -999.0,-999.000
   3220CGC92_1,   P13,    16,  1,    111,   1221,2,19920824,1828, 51.4945, 164.9853, 4932,  23997,   2394.0,   1.7446,  34.6201,2,  34.6172,2,   -999.0,9,  1.5786,     85.5,2,   165.86,2,    40.27,2,     0.00,2,     2.87,2, -999.000,9, -999.000,9, -999.000,9, -999.000,9, -999.000,9,-999.0000,9,  -999.00,9,   -999.0,9,  -999.00,9,-999.000,9,   -999.0,9,   -999.0,9,  -999.0,-999.0000,-999.000,-999.000,  -999.0,-999.000
   3220CGC92_1,   P13,    16,  1,    110,   1118,2,19920824,1828, 51.4945, 164.9853, 4932,  25997,   2594.0,   1.6816,  34.6339,2,  34.6313,2,   -999.0,9,  1.4989,     96.3,2,   165.15,2,    40.01,2,     0.00,2,     2.88,2, -999.000,9, -999.000,9, -999.000,9, -999.000,9, -999.000,9,-999.0000,9,  -999.00,9,   -999.0,9,  -999.00,9,-999.000,9,   -999.0,9,   -999.0,9,  -999.0,-999.0000,-999.000,-999.000,  -999.0,-999.000
   3220CGC92_1,   P13,    16,  1,    109,   1113,2,19920824,1828, 51.4945, 164.9853, 4932,  27993,   2794.0,   1.6336,  34.6429,2,  34.6460,2,    106.3,2,  1.4335,    106.7,2,   162.77,2,    39.47,2,     0.00,2,     2.81,2,    0.002,2,    0.001,2, -999.000,9, -999.000,9, -999.000,9,-999.0000,9,  -999.00,9,   -999.0,9,  -999.00,9,-999.000,9,   -999.0,9,   -999.0,9,  -999.0,-999.0000,-999.000,-999.000,  -999.0,-999.000
   3220CGC92_1,   P13,    16,  1,    108,   1016,2,19920824,1828, 51.4945, 164.9853, 4932,  29980,   2994.0,   1.5896,  34.6527,2,  34.6524,2,    119.6,2,  1.3715,    116.6,2,   158.94,2,    39.04,2,     0.00,2,     2.75,2, -999.000,9, -999.000,9, -999.000,9, -999.000,9, -999.000,9,-999.0000,9,  -999.00,9,   -999.0,9,  -999.00,9,-999.000,9,   -999.0,9,   -999.0,9,  -999.0,-999.0000,-999.000,-999.000,  -999.0,-999.000
   3220CGC92_1,   P13,    16,  1,    107,   1022,2,19920824,1828, 51.4945, 164.9853, 4932,  32506,   3247.0,   1.5456,  34.6608,2,  34.6608,2,    128.6,2,  1.3039,    126.8,2,   155.87,2,    38.56,2,     0.00,2,     2.71,2, -999.000,9, -999.000,9, -999.000,9, -999.000,9, -999.000,9,-999.0000,9,  -999.00,9,   -999.0,9,  -999.00,9,-999.000,9,   -999.0,9,   -999.0,9,  -999.0,-999.0000,-999.000,-999.000,  -999.0,-999.000
   3220CGC92_1,   P13,    16,  1,    106,   1036,2,19920824,1828, 51.4945, 164.9853, 4932,  34976,   3495.0,   1.5176,  34.6687,2,  34.6680,2,   -999.0,9,  1.2516,    134.3,2,   153.74,2,    37.70,2,     0.00,2,     2.66,2,    0.000,2,    0.004,2, -999.000,9, -999.000,9, -999.000,9,-999.0000,9,  -999.00,9,   -999.0,9,  -999.00,9,-999.000,9,   -999.0,9,   -999.0,9,  -999.0,-999.0000,-999.000,-999.000,  -999.0,-999.000
   3220CGC92_1,   P13,    16,  1,    105,   1037,2,19920824,1828, 51.4945, 164.9853, 4932,  37479,   3746.0,   1.5036,  34.6710,2,  34.6730,2,    143.9,2,  1.2119,    139.4,2,   151.80,2,    37.27,2,     0.00,2,     2.60,2, -999.000,9, -999.000,9, -999.000,9, -999.000,9, -999.000,9,-999.0000,9,  -999.00,9,   -999.0,9,  -999.00,9,-999.000,9,   -999.0,9,   -999.0,9,  -999.0,-999.0000,-999.000,-999.000,  -999.0,-999.000
   3220CGC92_1,   P13,    16,  1,    104,   1029,4,19920824,1828, 51.4945, 164.9853, 4932,  39984,   3997.0,   1.4916,  34.6758,2,-999.0000,9,    144.7,2,  1.1733,   -999.0,9,  -999.00,5,  -999.00,9,  -999.00,9,  -999.00,5,   -0.003,2,   -0.021,2, -999.000,9, -999.000,9, -999.000,9,-999.0000,9,  -999.00,9,   -999.0,9,  -999.00,9,-999.000,9,   -999.0,9,   -999.0,9,  -999.0,-999.0000,-999.000,-999.000,  -999.0,-999.000
   3220CGC92_1,   P13,    16,  1,    103,   1023,2,19920824,1828, 51.4945, 164.9853, 4932,  42992,   4298.0,   1.4936,  34.6791,2,  34.6813,2,   -999.0,9,  1.1419,    149.1,2,   148.47,2,    37.28,2,     0.00,2,     2.60,2, -999.000,5, -999.000,5, -999.000,9, -999.000,9, -999.000,9,-999.0000,9,  -999.00,9,   -999.0,9,  -999.00,9,-999.000,9,   -999.0,9,   -999.0,9,  -999.0,-999.0000,-999.000,-999.000,  -999.0,-999.000
   3220CGC92_1,   P13,    16,  1,    102,   2001,2,19920824,1828, 51.4945, 164.9853, 4932,  45995,   4599.0,   1.5056,  34.6821,2,  34.6825,2,    153.3,2,  1.1190,    152.6,2,   148.14,2,    36.66,2,     0.00,2,     2.54,2,   -0.002,2,    0.033,4, -999.000,9, -999.000,9, -999.000,9,-999.0000,9,  -999.00,9,   -999.0,9,  -999.00,9,-999.000,9,   -999.0,9,   -999.0,9,  -999.0,-999.0000,-999.000,-999.000,  -999.0,-999.000
   3220CGC92_1,   P13,    16,  1,    101,   1038,2,19920824,1828, 51.4945, 164.9853, 4932,  48572,   4857.0,   1.5186,  34.6831,2,  34.6848,6,    155.8,2,  1.1010,    154.3,2,   148.27,2,    36.48,2,     0.00,2,     2.54,2,    0.013,4,    0.057,4, -999.000,9, -999.000,9, -999.000,9,-999.0000,9,  -999.00,9,   -999.0,9,  -999.00,9,-999.000,9,   -999.0,9,   -999.0,9,  -999.0,-999.0000,-999.000,-999.000,  -999.0,-999.000