BOTTLE,20221003CCHSIOAMB
EXPOCODE,SECT_ID,STNNBR,CASTNO,SAMPNO,BTLNBR,BTLNBR_FLAG_W,DATE,TIME,LATITUDE,LONGITUDE,DEPTH,CTDRAW,CTDPRS,CTDTMP,CTDSAL,CTDSAL_FLAG_W,SALNTY,SALNTY_FLAG_W,CTDOXY,CTDOXY_FLAG_W,THETA,OXYGEN,OXYGEN_FLAG_W,SILCAT,SILCAT_FLAG_W,NITRAT,NITRAT_FLAG_W,NITRIT,NITRIT_FLAG_W,PHSPHT,PHSPHT_FLAG_W,CFC-11,CFC-11_FLAG_W,CFC-12,CFC-12_FLAG_W,CFC113,CFC113_FLAG_W,CCL4,CCL4_FLAG_W,TRITUM,TRITUM_FLAG_W,HELIUM,HELIUM_FLAG_W,DELHE3,DELHE3_FLAG_W,DELC14,DELC14_FLAG_W,DELC13,DELC13_FLAG_W,NEON,NEON_FLAG_W,TCARBN,TCARBN_FLAG_W,ALKALI,ALKALI_FLAG_W,C14ERR,HELIER,DELHER,NEONER,C13ERR,TRITER
,,,,,,,,,,,,DBAR,DBAR,ITS-90,PSS-78,,PSS-78,,UMOL/KG,,DEG C,UMOL/KG,,UMOL/KG,,UMOL/KG,,UMOL/KG,,UMOL/KG,,PMOL/KG,,PMOL/KG,,PMOL/KG,,PMOL/KG,,TU,,NMOL/KG,,PERCNT,,/MILLE,,/MILLE,,NMOL/KG,,UMOL/KG,,UMOL/KG,,/MILLE,NMOL/KG,PERCNT,NMOL/KG,/MILLE,TU
   3220CGC92_2,   P13,    65,  1,    136,   1106,2,19921005,2159, 28.0340, 164.9992, 5732,    100,      7.0,  26.0937,  35.0909,2,  35.0890,2,   -999.0,9, 26.0922,    203.9,2,     1.43,2,     0.00,2,     0.00,2,     0.00,2,    1.845,2,    1.048,2, -999.000,9, -999.000,9, -999.000,9,-999.0000,9,  -999.00,9,    113.5,2,     1.22,2,-999.000,9,   1970.2,2,   2301.8,2,     4.0,-999.0000,-999.000,-999.000,  -999.0,-999.000
   3220CGC92_2,   P13,    65,  1,    135,   1013,2,19921005,2159, 28.0340, 164.9992, 5732,    251,     22.0,  26.0987,  35.0919,2,  35.0883,2,   -999.0,9, 26.0938,    204.0,2,     1.44,2,     0.00,2,     0.00,2,     0.00,2,    1.839,2,    1.041,2, -999.000,9, -999.000,9, -999.000,9,-999.0000,9,  -999.00,9,    115.8,2,     1.31,2,-999.000,9,   1970.2,2,   2302.3,6,     4.4,-999.0000,-999.000,-999.000,  -999.0,-999.000
   3220CGC92_2,   P13,    65,  1,    134,   1030,2,19921005,2159, 28.0340, 164.9992, 5732,    478,     44.0,  26.0987,  35.0931,2,  35.0915,2,    217.4,2, 26.0889,    204.3,2,     1.55,2,     0.00,2,     0.00,2,     0.00,2,    1.811,2,    1.036,2, -999.000,9, -999.000,9, -999.000,9,-999.0000,9,  -999.00,9,    117.4,2,     1.31,2,-999.000,9,   1970.8,2,   2305.9,2,     4.3,-999.0000,-999.000,-999.000,  -999.0,-999.000
   3220CGC92_2,   P13,    65,  1,    133,   1231,2,19921005,2159, 28.0340, 164.9992, 5732,    741,     71.0,  21.5898,  34.8294,2,  34.7935,2,    247.6,2, 21.5760,    250.1,2,     1.97,2,     0.00,2,     0.00,2,     0.00,2,    2.569,2,    1.374,2, -999.000,9, -999.000,9, -999.000,9,-999.0000,9,  -999.00,9,    119.1,2,     1.29,2,-999.000,9,   1974.8,2,   2283.7,2,     8.2,-999.0000,-999.000,-999.000,  -999.0,-999.000
   3220CGC92_2,   P13,    65,  1,    132,   1109,2,19921005,2159, 28.0340, 164.9992, 5732,    966,     93.0,  17.3318,  34.7528,2,  34.7389,2,    252.2,2, 17.3163,    249.3,2,     2.99,2,     0.00,2,     0.00,2,     0.00,2,    2.679,2,    1.421,2, -999.000,9, -999.000,9, -999.000,9,-999.0000,9,  -999.00,9,    113.2,2,     1.17,2,-999.000,9,   1994.9,2,   2286.5,2,     3.4,-999.0000,-999.000,-999.000,  -999.0,-999.000
   3220CGC92_2,   P13,    65,  1,    131,   1031,2,19921005,2159, 28.0340, 164.9992, 5732,   1253,    121.0,  16.1491,  34.7086,2,  34.7228,2,    230.9,2, 16.1299,    219.1,2,     4.79,2,     2.52,2,     0.06,2,     0.18,2,    2.616,2,    1.431,2, -999.000,9, -999.000,9, -999.000,9,-999.0000,9,  -999.00,9,     97.0,2,     0.53,3,-999.000,9,   2021.1,2,   2274.3,2,     4.8,-999.0000,-999.000,-999.000,  -999.0,-999.000
   3220CGC92_2,   P13,    65,  1,    130,   1041,2,19921005,2159, 28.0340, 164.9992, 5732,   1486,    145.0,  15.8972,  34.6960,2,  34.7146,2,    218.2,2, 15.8744,    216.7,2,     5.23,2,     3.11,2,     0.00,2,     0.22,2,    2.632,6,    1.403,6, -999.000,9, -999.000,9, -999.000,9,-999.0000,9,  -999.00,9,    105.2,2,     0.80,2,-999.000,9,   2023.2,2,   2282.6,2,     3.1,-999.0000,-999.000,-999.000,  -999.0,-999.000
   3220CGC92_2,   P13,    65,  1,    129,   1004,2,19921005,2159, 28.0340, 164.9992, 5732,   1735,    169.0,  15.6812,  34.6720,2,  34.7008,2,    215.0,2, 15.6549,    214.9,2,     5.77,2,     3.56,2,     0.00,2,     0.27,2,    2.590,2,    1.375,2, -999.000,9, -999.000,9, -999.000,9,-999.0000,9,  -999.00,9,    118.6,2,     0.83,2,-999.000,9,   2026.0,2,   2278.5,2,     3.1,-999.0000,-999.000,-999.000,  -999.0,-999.000
   3220CGC92_2,   P13,    65,  1,    128,   1016,2,19921005,2159, 28.0340, 164.9992, 5732,   2003,    196.0,  15.4013,  34.6511,2,  34.6740,2,    210.6,2, 15.3712,    211.5,2,     6.59,2,     4.92,2,     0.00,2,     0.32,2,    2.495,2,    1.334,2, -999.000,9, -999.000,9, -999.000,9,-999.0000,9,  -999.00,9,    107.4,2,     0.78,2,-999.000,9,   2031.4,2,   2277.8,2,     3.4,-999.0000,-999.000,-999.000,  -999.0,-999.000
   3220CGC92_2,   P13,    65,  1,    127,   1028,2,19921005,2159, 28.0340, 164.9992, 5732,   2478,    243.0,  14.9304,  34.6087,2,  34.6382,2,   -999.0,9, 14.8938,    209.1,6,     7.76,2,     5.68,2,     0.00,2,     0.36,2,    2.515,2,    1.339,2, -999.000,9, -999.000,9, -999.000,9,-999.0000,9,  -999.00,9,    110.8,2,     0.78,2,-999.000,9,   2038.3,2,   2274.5,2,     4.0,-999.0000,-999.000,-999.000,  -999.0,-999.000
   3220CGC92_2,   P13,    65,  1,    126,   1110,2,19921005,2159, 28.0340, 164.9992, 5732,   3005,    296.0,  14.0526,  34.5349,2,  34.5464,2,    208.3,2, 14.0098,    204.9,2,    10.59,2,     8.14,2,     0.00,2,     0.52,2,    2.453,2,    1.274,2, -999.000,9, -999.000,9, -999.000,9,-999.0000,9,  -999.00,9,     95.0,2,     0.71,2,-999.000,9,   2052.9,2,   2276.1,2,     4.0,-999.0000,-999.000,-999.000,  -999.0,-999.000
   3220CGC92_2,   P13,    65,  1,    125,   1035,2,19921005,2159, 28.0340, 164.9992, 5732,   3497,    345.0,  13.5917,  34.5005,2,  34.4869,2,    208.2,2, 13.5428,    204.6,2,    12.58,2,     9.61,2,     0.00,2,     0.61,2,    2.426,2,    1.273,2, -999.000,9, -999.000,9, -999.000,9,-999.0000,9,  -999.00,9,     89.0,2,     0.71,2,-999.000,9,   2062.1,2,   2272.0,2,     3.5,-999.0000,-999.000,-999.000,  -999.0,-999.000
   3220CGC92_2,   P13,    65,  1,    124,   1019,2,19921005,2159, 28.0340, 164.9992, 5732,   3987,    394.0,  12.5060,  34.4157,2,  34.4040,2,    209.0,2, 12.4531,    208.2,2,    15.14,2,     9.84,2,     0.00,2,     0.68,2,    2.478,6,    1.280,6, -999.000,9, -999.000,9, -999.000,9,-999.0000,9,  -999.00,9,   -999.0,5,     0.64,2,-999.000,9,   2072.4,2,   2273.7,2,  -999.0,-999.0000,-999.000,-999.000,  -999.0,-999.000
   3220CGC92_2,   P13,    65,  1,    123,   1014,2,19921005,2159, 28.0340, 164.9992, 5732,   4996,    494.0,  10.5385,  34.2719,2,  34.2345,2,    197.0,2, 10.4789,    192.8,2,    26.07,2,    16.97,2,     0.00,2,     1.18,2,    2.272,2,    1.176,2, -999.000,9, -999.000,9, -999.000,9,-999.0000,9,  -999.00,9,     37.0,2,     0.50,6,-999.000,9,   2113.8,2,   2270.7,2,     5.6,-999.0000,-999.000,-999.000,  -999.0,-999.000
   3220CGC92_2,   P13,    65,  1,    122,   1015,2,19921005,2159, 28.0340, 164.9992, 5732,   5995,    594.0,   7.5562,  34.0726,2,  34.0705,2,    177.1,2,  7.4973,    170.0,2,    42.93,2,    23.35,2,     0.00,2,     1.68,2,    1.906,2,    0.974,2, -999.000,9, -999.000,9, -999.000,9,-999.0000,9,  -999.00,9,    -12.6,2,     0.24,2,-999.000,9,   2163.8,2,   2282.2,2,     3.3,-999.0000,-999.000,-999.000,  -999.0,-999.000
   3220CGC92_2,   P13,    65,  1,    121,   1235,2,19921005,2159, 28.0340, 164.9992, 5732,   7002,    694.0,   5.6187,  34.0260,2,  34.0147,2,    141.4,2,  5.5596,    137.0,2,    62.70,2,    29.02,2,     0.00,2,     2.19,2,    1.559,6,    0.782,6, -999.000,9, -999.000,9, -999.000,9,-999.0000,9,  -999.00,9,   -999.0,5,     0.01,2,-999.000,9,   2215.1,2,   2290.1,2,  -999.0,-999.0000,-999.000,-999.000,  -999.0,-999.000
   3220CGC92_2,   P13,    65,  1,    120,   1237,2,19921005,2159, 28.0340, 164.9992, 5732,   7992,    793.0,   4.7099,  34.1122,2,  34.0911,2,     91.9,2,  4.6473,     85.1,2,    85.75,2,    34.56,2,     0.00,2,     2.58,2,    0.637,2,    0.317,2, -999.000,9, -999.000,9, -999.000,9,-999.0000,9,  -999.00,9,   -999.0,5,    -0.23,2,-999.000,9,   2271.1,2,   2317.3,2,  -999.0,-999.0000,-999.000,-999.000,  -999.0,-999.000
   3220CGC92_2,   P13,    65,  1,    119,   1025,2,19921005,2159, 28.0340, 164.9992, 5732,   9001,    894.0,   4.1460,  34.2056,2,  34.1938,2,     56.8,2,  4.0785,     54.8,2,   106.85,2,    37.61,2,     0.00,2,     2.80,2,    0.270,2,    0.143,2, -999.000,9, -999.000,9, -999.000,9,-999.0000,9,  -999.00,9,   -154.4,2,    -0.37,2,-999.000,9,   2314.3,2,   2336.6,2,     3.3,-999.0000,-999.000,-999.000,  -999.0,-999.000
   3220CGC92_2,   P13,    65,  1,    118,   1118,2,19921005,2159, 28.0340, 164.9992, 5732,  10010,    994.0,   3.6781,  34.2811,2,  34.2649,6,     43.1,2,  3.6058,     42.2,2,   119.82,2,    38.93,2,     0.00,2,     2.92,2,    0.135,6,    0.069,6, -999.000,9, -999.000,9, -999.000,9,-999.0000,9,  -999.00,9,   -179.4,2,    -0.48,2,-999.000,9,   2335.3,2,   2373.8,2,     5.6,-999.0000,-999.000,-999.000,  -999.0,-999.000
   3220CGC92_2,   P13,    65,  1,    117,   1005,2,19921005,2159, 28.0340, 164.9992, 5732,  11988,   1192.0,   3.1043,  34.4046,2,  34.3946,2,     33.3,2,  3.0208,     31.4,2,   140.75,2,    40.65,2,     0.00,2,     3.07,2,    0.023,2,    0.025,2, -999.000,9, -999.000,9, -999.000,9,-999.0000,9,  -999.00,9,   -207.9,2,    -0.60,2,-999.000,9,   2364.6,2,   2376.1,2,     4.5,-999.0000,-999.000,-999.000,  -999.0,-999.000
   3220CGC92_2,   P13,    65,  1,    116,   1104,2,19921005,2159, 28.0340, 164.9992, 5732,  14005,   1393.0,   2.6874,  34.4865,2,  34.4840,2,     41.2,2,  2.5919,     39.4,2,   152.14,2,    40.34,2,     0.00,2,     3.02,2,    0.006,2,    0.017,2, -999.000,9, -999.000,9, -999.000,9,-999.0000,9,  -999.00,9,   -999.0,5,  -999.00,5,-999.000,9,   2375.6,2,   2389.8,2,  -999.0,-999.0000,-999.000,-999.000,  -999.0,-999.000
   3220CGC92_2,   P13,    65,  1,    115,   1020,2,19921005,2159, 28.0340, 164.9992, 5732,  15999,   1593.0,   2.3434,  34.5360,2,  34.5346,2,     50.9,2,  2.2359,     51.2,2,   158.66,2,    39.96,2,     0.00,2,     2.97,2,    0.010,2,    0.015,2, -999.000,9, -999.000,9, -999.000,9,-999.0000,9,  -999.00,9,   -999.0,9,  -999.00,9,-999.000,9,   2376.5,2,   2400.8,2,  -999.0,-999.0000,-999.000,-999.000,  -999.0,-999.000
   3220CGC92_2,   P13,    65,  1,    114,   1012,2,19921005,2159, 28.0340, 164.9992, 5732,  18022,   1795.0,   2.1085,  34.5748,2,  34.5757,2,     65.6,2,  1.9876,     66.4,2,   162.63,2,    39.43,2,     0.00,2,     2.89,2,   -0.001,2,   -0.001,2, -999.000,9, -999.000,9, -999.000,9,-999.0000,9,  -999.00,9,   -999.0,9,  -999.00,9,-999.000,9,   2374.2,2,   2413.9,2,  -999.0,-999.0000,-999.000,-999.000,  -999.0,-999.000
   3220CGC92_2,   P13,    65,  1,    113,   1229,2,19921005,2159, 28.0340, 164.9992, 5732,  21021,   2096.0,   1.8696,  34.6195,2,  34.6189,2,     92.2,2,  1.7271,     95.4,2,   158.56,2,    37.10,3,     0.00,2,     2.69,3, -999.000,9, -999.000,9, -999.000,9, -999.000,9, -999.000,9,-999.0000,9,  -999.00,9,   -999.0,9,  -999.00,9,-999.000,9,   2357.1,2,   2415.0,2,  -999.0,-999.0000,-999.000,-999.000,  -999.0,-999.000
   3220CGC92_2,   P13,    65,  1,    112,   1219,2,19921005,2159, 28.0340, 164.9992, 5732,  24017,   2396.0,   1.7266,  34.6426,2,  34.6419,2,    111.0,2,  1.5606,    112.0,6,   157.48,2,    35.63,3,     0.00,2,     2.66,3, -999.000,9, -999.000,9, -999.000,9, -999.000,9, -999.000,9,-999.0000,9,  -999.00,9,   -999.0,9,  -999.00,9,-999.000,9,   2348.1,2,   2421.9,2,  -999.0,-999.0000,-999.000,-999.000,  -999.0,-999.000
   3220CGC92_2,   P13,    65,  1,    111,   1112,2,19921005,2159, 28.0340, 164.9992, 5732,  27026,   2698.0,   1.6296,  34.6568,2,  34.6540,2,    122.0,2,  1.4383,    123.0,2,   155.93,2,    36.43,2,     0.00,2,     2.63,2,    0.002,2,    0.002,2, -999.000,9, -999.000,9, -999.000,9,-999.0000,9,  -999.00,9,   -999.0,9,  -999.00,9,-999.000,9,   2342.3,2,   2416.6,2,  -999.0,-999.0000,-999.000,-999.000,  -999.0,-999.000
   3220CGC92_2,   P13,    65,  1,    110,   1029,2,19921005,2159, 28.0340, 164.9992, 5732,  30020,   2998.0,   1.5656,  34.6658,2,  34.6633,2,    130.1,2,  1.3476,    130.5,2,   155.45,2,    36.13,2,     0.00,2,     2.59,2, -999.000,9, -999.000,9, -999.000,9, -999.000,9, -999.000,9,-999.0000,9,  -999.00,9,   -999.0,9,  -999.00,9,-999.000,9,   2341.5,2,   2419.9,2,  -999.0,-999.0000,-999.000,-999.000,  -999.0,-999.000
   3220CGC92_2,   P13,    65,  1,    109,   1023,2,19921005,2159, 28.0340, 164.9992, 5732,  33003,   3297.0,   1.5236,  34.6745,2,  34.6700,2,   -999.0,9,  1.2774,    136.3,2,   154.76,2,    35.58,2,     0.00,2,     2.56,2, -999.000,9, -999.000,9, -999.000,9, -999.000,9, -999.000,9,-999.0000,9,  -999.00,9,   -999.0,9,  -999.00,9,-999.000,9,   2336.1,2,   2417.5,2,  -999.0,-999.0000,-999.000,-999.000,  -999.0,-999.000
   3220CGC92_2,   P13,    65,  1,    108,   1032,2,19921005,2159, 28.0340, 164.9992, 5732,  35996,   3597.0,   1.4966,  34.6797,2,  34.6742,2,    140.9,2,  1.2206,    142.1,2,   154.00,2,    35.31,2,     0.00,2,     2.54,2,    0.017,3,    0.000,2, -999.000,9, -999.000,9, -999.000,9,-999.0000,9,  -999.00,9,   -999.0,9,  -999.00,9,-999.000,9,   2335.5,2,   2420.6,2,  -999.0,-999.0000,-999.000,-999.000,  -999.0,-999.000
   3220CGC92_2,   P13,    65,  1,    107,   1037,2,19921005,2159, 28.0340, 164.9992, 5732,  39008,   3899.0,   1.4766,  34.6846,2,  34.6801,2,   -999.0,9,  1.1693,    148.1,2,   151.59,2,    35.50,2,     0.00,2,     2.50,2, -999.000,9, -999.000,9, -999.000,9, -999.000,9, -999.000,9,-999.0000,9,  -999.00,9,   -999.0,9,  -999.00,9,-999.000,9,   2328.1,2,   2413.4,2,  -999.0,-999.0000,-999.000,-999.000,  -999.0,-999.000
   3220CGC92_2,   P13,    65,  1,    106,   1022,4,19921005,2159, 28.0340, 164.9992, 5732,  42004,   4199.0,   1.4616,  34.6881,2,-999.0000,9,   -999.0,9,  1.1219,   -999.0,9,  -999.00,5,  -999.00,9,  -999.00,9,  -999.00,5, -999.000,9, -999.000,9, -999.000,9, -999.000,9, -999.000,9,-999.0000,9,  -999.00,9,   -999.0,9,  -999.00,9,-999.000,9,   -999.0,9,   -999.0,9,  -999.0,-999.0000,-999.000,-999.000,  -999.0,-999.000
   3220CGC92_2,   P13,    65,  1,    105,   1221,2,19921005,2159, 28.0340, 164.9992, 5732,  44997,   4499.0,   1.4557,  34.6911,2,  34.6874,2,   -999.0,9,  1.0821,    159.3,2,   146.45,2,    34.52,2,     0.00,2,     2.46,2,   -0.001,2,    0.013,3, -999.000,9, -999.000,9, -999.000,9,-999.0000,9,  -999.00,9,   -999.0,9,  -999.00,9,-999.000,9,   2319.1,2,   2416.9,2,  -999.0,-999.0000,-999.000,-999.000,  -999.0,-999.000
   3220CGC92_2,   P13,    65,  1,    104,   1038,2,19921005,2159, 28.0340, 164.9992, 5732,  47999,   4799.0,   1.4596,  34.6939,2,  34.6896,2,   -999.0,9,  1.0508,    164.5,2,   143.23,2,    34.36,2,     0.00,2,     2.42,2, -999.000,9, -999.000,9, -999.000,9, -999.000,9, -999.000,9,-999.0000,9,  -999.00,9,   -999.0,9,  -999.00,9,-999.000,9,   2313.2,2,   2410.5,2,  -999.0,-999.0000,-999.000,-999.000,  -999.0,-999.000
   3220CGC92_2,   P13,    65,  1,    103,   1033,2,19921005,2159, 28.0340, 164.9992, 5732,  50999,   5099.0,   1.4656,  34.6951,2,  34.6950,2,    171.3,2,  1.0204,    169.2,2,   140.31,2,    33.77,2,     0.00,2,     2.38,2, -999.000,9, -999.000,9, -999.000,9, -999.000,9, -999.000,9,-999.0000,9,  -999.00,9,   -999.0,9,  -999.00,9,-999.000,9,   2309.3,2,   2405.5,2,  -999.0,-999.0000,-999.000,-999.000,  -999.0,-999.000
   3220CGC92_2,   P13,    65,  1,    102,   1234,2,19921005,2159, 28.0340, 164.9992, 5732,  52977,   5297.0,   1.4756,  34.6968,2,  34.6939,2,    171.8,2,  1.0055,    171.2,2,   138.56,2,    34.17,2,     0.00,2,     2.35,2,   -0.001,2,    0.007,2, -999.000,9, -999.000,9, -999.000,9,-999.0000,9,  -999.00,9,   -999.0,9,  -999.00,9,-999.000,9,   2307.4,2,   2402.5,2,  -999.0,-999.0000,-999.000,-999.000,  -999.0,-999.000
   3220CGC92_2,   P13,    65,  1,    101,   1238,2,19921005,2159, 28.0340, 164.9992, 5732,  55421,   5541.0,   1.4866,  34.6975,2,  34.6956,6,    177.5,2,  0.9852,    174.2,2,   137.03,2,    33.46,2,     0.00,2,     2.33,2, -999.000,9, -999.000,9, -999.000,9, -999.000,9, -999.000,9,-999.0000,9,  -999.00,9,   -999.0,9,  -999.00,9,-999.000,9,   2303.2,6,   2404.5,6,  -999.0,-999.0000,-999.000,-999.000,  -999.0,-999.000