BOTTLE,20221003CCHSIOAMB
EXPOCODE,SECT_ID,STNNBR,CASTNO,SAMPNO,BTLNBR,BTLNBR_FLAG_W,DATE,TIME,LATITUDE,LONGITUDE,DEPTH,CTDRAW,CTDPRS,CTDTMP,CTDSAL,CTDSAL_FLAG_W,SALNTY,SALNTY_FLAG_W,CTDOXY,CTDOXY_FLAG_W,THETA,OXYGEN,OXYGEN_FLAG_W,SILCAT,SILCAT_FLAG_W,NITRAT,NITRAT_FLAG_W,NITRIT,NITRIT_FLAG_W,PHSPHT,PHSPHT_FLAG_W,CFC-11,CFC-11_FLAG_W,CFC-12,CFC-12_FLAG_W,CFC113,CFC113_FLAG_W,CCL4,CCL4_FLAG_W,TRITUM,TRITUM_FLAG_W,HELIUM,HELIUM_FLAG_W,DELHE3,DELHE3_FLAG_W,DELC14,DELC14_FLAG_W,DELC13,DELC13_FLAG_W,NEON,NEON_FLAG_W,TCARBN,TCARBN_FLAG_W,ALKALI,ALKALI_FLAG_W,C14ERR,HELIER,DELHER,NEONER,C13ERR,TRITER
,,,,,,,,,,,,DBAR,DBAR,ITS-90,PSS-78,,PSS-78,,UMOL/KG,,DEG C,UMOL/KG,,UMOL/KG,,UMOL/KG,,UMOL/KG,,UMOL/KG,,PMOL/KG,,PMOL/KG,,PMOL/KG,,PMOL/KG,,TU,,NMOL/KG,,PERCNT,,/MILLE,,/MILLE,,NMOL/KG,,UMOL/KG,,UMOL/KG,,/MILLE,NMOL/KG,PERCNT,NMOL/KG,/MILLE,TU
   3220CGC92_2,   P13,    82,  1,    136,   1106,2,19921015,1716, -1.9975, 164.9248, 4360,    103,      7.0,  30.3537,  34.7246,2,  34.7354,2,   -999.0,9, 30.3520,    199.9,2,     0.87,2,     0.00,2,     0.00,2,     0.05,2,    1.509,2,    0.907,2, -999.000,9, -999.000,9, -999.000,9,-999.0000,9,  -999.00,9,     84.8,2,     1.73,2,-999.000,9,   1914.6,2,   2280.8,2,     4.5,-999.0000,-999.000,-999.000,  -999.0,-999.000
   3220CGC92_2,   P13,    82,  1,    135,   1013,2,19921015,1716, -1.9975, 164.9248, 4360,    256,     22.0,  30.3537,  34.7271,2,  34.7408,2,    193.0,2, 30.3482,    202.5,2,     0.91,2,     0.00,2,     0.00,2,     0.06,2,    1.527,2,    0.880,2, -999.000,9, -999.000,9,    1.103,2,   1.6740,2,    -1.26,2,     87.6,2,     1.76,2,   6.447,2,   -999.0,9,   -999.0,9,     5.4,  0.0080,   0.140,   0.028,  -999.0,   0.004
   3220CGC92_2,   P13,    82,  1,    134,   1030,2,19921015,1716, -1.9975, 164.9248, 4360,    495,     46.0,  30.3637,  34.8911,2,  34.9065,2,   -999.0,9, 30.3522,    198.6,2,     1.14,2,     0.00,2,     0.00,2,     0.08,2,    1.525,2,    0.876,2, -999.000,9, -999.000,9, -999.000,9,-999.0000,9,  -999.00,9,     89.7,2,     1.83,2,-999.000,9,   -999.0,9,   -999.0,9,     4.7,-999.0000,-999.000,-999.000,  -999.0,-999.000
   3220CGC92_2,   P13,    82,  1,    133,   1231,2,19921015,1716, -1.9975, 164.9248, 4360,    755,     72.0,  29.6849,  35.1549,2,  35.1716,2,    194.6,2, 29.6671,    208.3,2,     1.23,2,     0.00,2,     0.00,2,     0.15,2,    1.568,2,    0.889,2, -999.000,9, -999.000,9,    1.101,2,   1.6780,2,    -0.82,2,     92.8,2,     1.77,2,   6.443,2,   -999.0,9,   -999.0,9,     3.5,  0.0080,   0.140,   0.028,  -999.0,   0.004
   3220CGC92_2,   P13,    82,  1,    132,   1017,2,19921015,1716, -1.9975, 164.9248, 4360,   1010,     97.0,  24.9600,  35.0920,2,  35.2069,2,    162.8,2, 24.9390,    160.1,2,     2.32,2,     3.91,2,     0.77,2,     0.37,2,    1.577,2,    0.886,2, -999.000,9, -999.000,9,    1.060,2,   1.6950,2,    -0.06,2,     86.0,2,     1.27,2,   6.578,2,   -999.0,9,   -999.0,9,     3.6,  0.0080,   0.140,   0.029,  -999.0,   0.004
   3220CGC92_2,   P13,    82,  1,    131,   1031,2,19921015,1716, -1.9975, 164.9248, 4360,   1251,    121.0,  23.5623,  35.2523,2,  35.1966,2,    133.3,2, 23.5372,    136.8,2,     3.55,2,     6.85,2,     0.00,2,     0.48,2,    1.551,6,    0.877,6, -999.000,9, -999.000,9,    1.021,2,-999.0000,9,  -999.00,9,    105.0,2,     1.00,2,-999.000,9,   -999.0,9,   -999.0,9,     3.4,-999.0000,-999.000,-999.000,  -999.0,   0.004
   3220CGC92_2,   P13,    82,  1,    130,   1041,2,19921015,1716, -1.9975, 164.9248, 4360,   1496,    146.0,  22.6226,  35.3378,2,  35.2958,2,    134.0,2, 22.5931,    136.8,2,     4.17,2,     7.53,2,     0.00,2,     0.56,2,    1.531,2,    0.867,2, -999.000,9, -999.000,9,    0.996,2,   1.7040,2,     0.79,2,    111.0,2,     1.01,2,   6.779,2,   -999.0,9,   -999.0,9,     6.2,  0.0080,   0.140,   0.030,  -999.0,   0.004
   3220CGC92_2,   P13,    82,  1,    129,   1004,2,19921015,1716, -1.9975, 164.9248, 4360,   1752,    171.0,  21.2619,  35.5135,2,  35.3976,4,    135.8,2, 21.2288,    137.4,2,     4.06,2,     8.02,2,     0.00,2,     0.64,2,    1.474,2,    0.820,2, -999.000,9, -999.000,9, -999.000,9,   1.7050,2,     1.10,2,    112.0,2,     1.00,2,   6.749,2,   -999.0,9,   -999.0,9,     3.4,  0.0080,   0.140,   0.030,  -999.0,-999.000
   3220CGC92_2,   P13,    82,  1,    128,   1016,2,19921015,1716, -1.9975, 164.9248, 4360,   2016,    197.0,  16.2091,  35.2676,2,  35.2693,2,    134.9,2, 16.1776,    135.9,2,     7.08,2,    12.99,2,     0.00,2,     0.97,2,    1.073,2,    0.602,2,    0.066,2,    0.239,2,    0.551,2,-999.0000,9,  -999.00,9,     71.2,2,     1.01,2,-999.000,9,   -999.0,9,   -999.0,9,     3.5,-999.0000,-999.000,-999.000,  -999.0,   0.003
   3220CGC92_2,   P13,    82,  1,    127,   1028,2,19921015,1716, -1.9975, 164.9248, 4360,   2502,    246.0,  12.7919,  34.9107,2,  34.9310,2,    135.6,2, 12.7584,    134.9,2,    15.24,2,    17.75,2,     0.00,2,     1.29,2,    0.812,2,    0.447,2,    0.052,2,    0.242,2,    0.555,2,-999.0000,9,  -999.00,9,     26.1,2,     1.10,2,-999.000,9,   -999.0,9,   -999.0,9,     3.4,-999.0000,-999.000,-999.000,  -999.0,   0.003
   3220CGC92_2,   P13,    82,  1,    126,   1110,2,19921015,1716, -1.9975, 164.9248, 4360,   3007,    296.0,  11.7292,  34.8300,2,  34.8410,2,    108.7,2, 11.6910,    108.2,2,    20.13,2,    22.25,2,     0.00,2,     1.56,2,    0.527,2,    0.305,2, -999.000,9, -999.000,9,    0.441,2,   1.7490,2,     4.92,2,    -12.3,2,     0.58,2,   7.268,2,   -999.0,9,   -999.0,9,     4.4,  0.0080,   0.140,   0.032,  -999.0,   0.003
   3220CGC92_2,   P13,    82,  1,    125,   1035,2,19921015,1716, -1.9975, 164.9248, 4360,   3495,    345.0,  10.8264,  34.7750,2,  34.7831,2,     90.2,2, 10.7841,     89.7,2,    23.67,2,    25.61,2,     0.00,2,     1.82,2,    0.345,6,    0.200,6,    0.037,2,    0.150,2, -999.000,9,-999.0000,9,  -999.00,9,    -39.2,2,     0.52,2,-999.000,9,   -999.0,9,   -999.0,9,     3.4,-999.0000,-999.000,-999.000,  -999.0,-999.000
   3220CGC92_2,   P13,    82,  1,    124,   1019,2,19921015,1716, -1.9975, 164.9248, 4360,   4000,    395.0,  10.0686,  34.7269,2,  34.7413,2,    104.5,2, 10.0222,    104.0,2,    23.85,2,    25.70,2,     0.00,2,     1.77,2,    0.295,2,    0.175,2, -999.000,9, -999.000,9,    0.227,2,   1.7550,2,     4.99,2,    -49.7,2,     0.62,2,   7.342,2,   -999.0,9,   -999.0,9,     5.5,  0.0080,   0.140,   0.032,  -999.0,   0.002
   3220CGC92_2,   P13,    82,  1,    123,   1014,2,19921015,1716, -1.9975, 164.9248, 4360,   4487,    443.0,   9.1628,  34.6692,2,  34.6849,2,    107.9,2,  9.1137,    114.1,2,    25.28,2,    26.74,2,     0.00,2,     1.93,2,    0.248,2,    0.151,2, -999.000,9, -999.000,9, -999.000,9,-999.0000,9,  -999.00,9,   -999.0,5,     0.68,2,-999.000,9,   -999.0,9,   -999.0,9,  -999.0,-999.0000,-999.000,-999.000,  -999.0,-999.000
   3220CGC92_2,   P13,    82,  1,    122,   1015,2,19921015,1716, -1.9975, 164.9248, 4360,   4991,    494.0,   8.3090,  34.6178,2,  34.6415,2,    118.9,2,  8.2572,    119.1,2,    27.00,2,    27.43,2,     0.00,2,     2.01,2,    0.185,2,    0.110,2,    0.039,2,    0.166,2, -999.000,9,-999.0000,9,  -999.00,9,    -84.1,6,     0.64,6,-999.000,9,   -999.0,9,   -999.0,9,     3.8,-999.0000,-999.000,-999.000,  -999.0,-999.000
   3220CGC92_2,   P13,    82,  1,    121,   1235,2,19921015,1716, -1.9975, 164.9248, 4360,   6007,    595.0,   7.1263,  34.5588,2,  34.5626,2,    113.6,2,  7.0688,    113.3,2,    38.71,2,    30.65,2,     0.00,2,     2.28,2,    0.082,2,    0.052,2, -999.000,9, -999.000,9,    0.062,2,   1.7940,2,     8.45,2,   -104.0,2,     0.58,2,   7.570,2,   -999.0,9,   -999.0,9,     2.3,  0.0080,   0.140,   0.033,  -999.0,   0.002
   3220CGC92_2,   P13,    82,  1,    120,   1237,2,19921015,1716, -1.9975, 164.9248, 4360,   6989,    693.0,   6.3755,  34.5360,2,  34.5392,2,    110.0,2,  6.3120,    108.5,2,    47.59,2,    32.39,2,     0.00,2,     2.41,2,    0.037,2,    0.030,2, -999.000,9, -999.000,9, -999.000,9,-999.0000,9,  -999.00,9,   -127.4,2,     0.15,3,-999.000,9,   -999.0,9,   -999.0,9,     2.9,-999.0000,-999.000,-999.000,  -999.0,-999.000
   3220CGC92_2,   P13,    82,  1,    119,   1025,2,19921015,1716, -1.9975, 164.9248, 4360,   7992,    793.0,   5.6127,  34.5287,2,  34.5316,2,    104.5,2,  5.5440,    103.3,2,    58.58,2,    34.49,2,     0.00,2,     2.52,2,    0.015,2,    0.014,2,    0.022,2,    0.071,2,    0.057,2,   1.8080,2,    12.59,2,   -144.3,2,     0.41,2,   7.618,2,   -999.0,9,   -999.0,9,     4.4,  0.0080,   0.140,   0.034,  -999.0,   0.002
   3220CGC92_2,   P13,    82,  1,    118,   1118,2,19921015,1716, -1.9975, 164.9248, 4360,   9022,    896.0,   5.0138,  34.5354,2,  34.5372,6,     95.7,2,  4.9397,     93.5,6,    69.35,2,    36.29,2,     0.00,2,     2.66,2,    0.005,2,    0.006,2, -999.000,9, -999.000,9, -999.000,9,-999.0000,9,  -999.00,9,   -154.9,2,     0.28,2,-999.000,9,   -999.0,9,   -999.0,9,     3.5,-999.0000,-999.000,-999.000,  -999.0,-999.000
   3220CGC92_2,   P13,    82,  1,    117,   1112,2,19921015,1716, -1.9975, 164.9248, 4360,   9982,    991.0,   4.5809,  34.5408,2,  34.5426,2,     95.8,2,  4.5015,     95.4,2,    78.13,2,    36.30,2,     0.00,2,     2.70,2,    0.000,2,    0.000,2, -999.000,9, -999.000,9, -999.000,9,   1.8300,2,    16.60,2,   -178.2,2,    -0.05,3,-999.000,9,   -999.0,9,   -999.0,9,     7.1,-999.0000,-999.000,-999.000,  -999.0,-999.000
   3220CGC92_2,   P13,    82,  1,    116,   1104,2,19921015,1716, -1.9975, 164.9248, 4360,  10998,   1093.0,   4.1880,  34.5512,2,  34.5521,2,     99.2,2,  4.1029,     98.6,2,    87.07,2,    36.30,2,     0.00,2,     2.70,2,    0.000,2,   -0.009,2, -999.000,9, -999.000,9, -999.000,9,   1.8400,2,    18.40,2,   -184.6,2,     0.21,2,-999.000,9,   -999.0,9,   -999.0,9,     3.3,-999.0000,-999.000,-999.000,  -999.0,-999.000
   3220CGC92_2,   P13,    82,  1,    114,   1012,2,19921015,1716, -1.9975, 164.9248, 4360,  12996,   1293.0,   3.6041,  34.5728,2,  34.5776,2,    101.2,2,  3.5072,    100.1,2,   103.49,2,    36.59,2,     0.00,2,     2.71,2,   -0.001,2,    0.002,2, -999.000,9, -999.000,9, -999.000,9,-999.0000,9,  -999.00,9,   -196.8,2,     0.14,2,-999.000,9,   -999.0,9,   -999.0,9,     2.9,-999.0000,-999.000,-999.000,  -999.0,-999.000
   3220CGC92_2,   P13,    82,  1,    112,   1219,2,19921015,1716, -1.9975, 164.9248, 4360,  14993,   1492.0,   2.9933,  34.5964,2,  34.5976,2,    109.8,2,  2.8861,    109.9,2,   116.04,2,    35.99,2,     0.00,2,     2.64,2, -999.000,9, -999.000,9, -999.000,9, -999.000,9, -999.000,9,-999.0000,9,  -999.00,9,   -205.1,2,     0.09,2,-999.000,9,   -999.0,9,   -999.0,9,     2.8,-999.0000,-999.000,-999.000,  -999.0,-999.000
   3220CGC92_2,   P13,    82,  1,    110,   1029,2,19921015,1716, -1.9975, 164.9248, 4360,  17979,   1791.0,   2.4724,  34.6222,2,  34.6199,2,    116.0,2,  2.3467,    116.5,2,   127.60,2,    36.40,2,     0.00,2,     2.69,2, -999.000,9, -999.000,9, -999.000,9, -999.000,9, -999.000,9,-999.0000,9,  -999.00,9,   -999.0,5,     0.07,2,-999.000,9,   -999.0,9,   -999.0,9,  -999.0,-999.0000,-999.000,-999.000,  -999.0,-999.000
   3220CGC92_2,   P13,    82,  1,    109,   1023,2,19921015,1716, -1.9975, 164.9248, 4360,  21002,   2094.0,   2.1125,  34.6428,2,  34.6443,2,    121.5,2,  1.9663,    122.3,2,   137.30,2,    36.36,2,     0.00,2,     2.68,2,    0.000,2,   -0.001,2, -999.000,9, -999.000,9, -999.000,9,   1.9070,2,    24.50,2,   -225.7,2,     0.05,2,-999.000,9,   -999.0,9,   -999.0,9,     2.6,-999.0000,-999.000,-999.000,  -999.0,-999.000
   3220CGC92_2,   P13,    82,  1,    108,   1032,2,19921015,1716, -1.9975, 164.9248, 4360,  24003,   2395.0,   1.8895,  34.6553,2,  34.6539,2,    125.1,2,  1.7207,    125.5,2,   144.23,2,    36.17,2,     0.00,2,     2.67,2, -999.000,9, -999.000,9, -999.000,9, -999.000,9, -999.000,9,   1.9170,2,    23.30,2,   -227.8,2,     0.01,2,-999.000,9,   -999.0,9,   -999.0,9,     3.5,-999.0000,-999.000,-999.000,  -999.0,-999.000
   3220CGC92_2,   P13,    82,  1,    107,   1037,2,19921015,1716, -1.9975, 164.9248, 4360,  27008,   2696.0,   1.7536,  34.6625,2,  34.6622,2,    129.4,2,  1.5600,    131.2,2,   146.50,2,    36.01,2,     0.00,2,     2.63,2, -999.000,9, -999.000,9, -999.000,9, -999.000,9, -999.000,9,-999.0000,9,  -999.00,9,   -224.7,2,     0.06,2,-999.000,9,   -999.0,9,   -999.0,9,     2.5,-999.0000,-999.000,-999.000,  -999.0,-999.000
   3220CGC92_2,   P13,    82,  1,    106,   1022,2,19921015,1716, -1.9975, 164.9248, 4360,  29987,   2994.0,   1.6396,  34.6703,2,  34.6697,2,    136.6,2,  1.4203,    137.6,2,   147.46,2,    35.63,2,     0.00,2,     2.62,2,   -0.002,2,   -0.003,2, -999.000,9, -999.000,9, -999.000,9,   1.9120,2,    20.70,2,   -226.6,2,     0.10,2,-999.000,9,   -999.0,9,   -999.0,9,     2.8,-999.0000,-999.000,-999.000,  -999.0,-999.000
   3220CGC92_2,   P13,    82,  1,    105,   1221,2,19921015,1716, -1.9975, 164.9248, 4360,  33003,   3297.0,   1.5626,  34.6763,2,  34.6757,2,    144.3,2,  1.3154,    145.0,2,   146.51,2,    34.85,2,     0.00,2,     2.58,2, -999.000,9, -999.000,9, -999.000,9, -999.000,9, -999.000,9,-999.0000,9,  -999.00,9,   -234.6,2,     0.12,2,-999.000,9,   -999.0,9,   -999.0,9,     3.2,-999.0000,-999.000,-999.000,  -999.0,-999.000
   3220CGC92_2,   P13,    82,  1,    104,   1038,2,19921015,1716, -1.9975, 164.9248, 4360,  36012,   3599.0,   1.5146,  34.6820,2,  34.6811,2,    151.3,2,  1.2379,    151.2,6,   145.35,2,    34.41,2,     0.00,2,     2.52,2, -999.000,9, -999.000,9, -999.000,9, -999.000,9, -999.000,9,   1.9050,2,    18.40,2,   -214.0,2,     0.07,2,-999.000,9,   -999.0,9,   -999.0,9,     3.7,-999.0000,-999.000,-999.000,  -999.0,-999.000
   3220CGC92_2,   P13,    82,  1,    103,   1033,2,19921015,1716, -1.9975, 164.9248, 4360,  39010,   3899.0,   1.4437,  34.6902,2,  34.6878,2,    161.3,2,  1.1371,    162.1,2,   140.78,2,    33.83,2,     0.00,2,     2.47,2,   -0.004,2,    0.000,2, -999.000,9, -999.000,9, -999.000,9,   1.9020,2,    16.80,2,   -212.4,2,     0.22,2,-999.000,9,   -999.0,9,   -999.0,9,     3.4,-999.0000,-999.000,-999.000,  -999.0,-999.000
   3220CGC92_2,   P13,    82,  1,    102,   1234,2,19921015,1716, -1.9975, 164.9248, 4360,  42007,   4200.0,   1.4097,  34.6936,2,  34.6921,2,    169.9,2,  1.0713,    169.4,2,   137.68,2,    32.75,2,     0.00,2,     2.38,2, -999.000,9, -999.000,9, -999.000,9, -999.000,9, -999.000,9,   1.9090,3,    15.60,2,   -207.4,2,     0.24,2,-999.000,9,   -999.0,9,   -999.0,9,     2.6,-999.0000,-999.000,-999.000,  -999.0,-999.000
   3220CGC92_2,   P13,    82,  1,    101,   1238,2,19921015,1716, -1.9975, 164.9248, 4360,  45195,   4519.0,   1.3497,  34.7006,2,  34.7004,6,    183.4,2,  0.9770,    178.3,2,   131.62,2,    32.58,2,     0.00,2,     2.35,2, -999.000,9, -999.000,9, -999.000,9, -999.000,9, -999.000,9,   1.8650,2,    14.20,2,   -999.0,5,     0.29,2,-999.000,9,   -999.0,9,   -999.0,9,  -999.0,-999.0000,-999.000,-999.000,  -999.0,-999.000