BOTTLE,20221003CCHSIOAMB
# Split rows with missing pressure into residual file
# Removed rows that were completely empty (all -999 and no flag 1s) from residual file
#BOTTLE,20040330WHPSIOSA
#code : jjward hyd_to_exchange.pl 
#original files copied from HTML directory: March 30, 2004
#original HYD file: p13hy.txt   Tue Mar 30 09:03:37 2004
#original SUM file: p13su.txt   Wed Jun  4 14:02:24 2003
EXPOCODE,SECT_ID,STNNBR,CASTNO,SAMPNO,BTLNBR,BTLNBR_FLAG_W,DATE,TIME,LATITUDE,LONGITUDE,DEPTH,CTDRAW,CTDPRS,CTDTMP,CTDSAL,CTDSAL_FLAG_W,SALNTY,SALNTY_FLAG_W,CTDOXY,CTDOXY_FLAG_W,THETA,OXYGEN,OXYGEN_FLAG_W,SILCAT,SILCAT_FLAG_W,NITRAT,NITRAT_FLAG_W,NITRIT,NITRIT_FLAG_W,PHSPHT,PHSPHT_FLAG_W,CFC-11,CFC-11_FLAG_W,CFC-12,CFC-12_FLAG_W,CFC113,CFC113_FLAG_W,CCL4,CCL4_FLAG_W,TRITUM,TRITUM_FLAG_W,HELIUM,HELIUM_FLAG_W,DELHE3,DELHE3_FLAG_W,DELC14,DELC14_FLAG_W,DELC13,DELC13_FLAG_W,NEON,NEON_FLAG_W,TCARBN,TCARBN_FLAG_W,ALKALI,ALKALI_FLAG_W,C14ERR,HELIER,DELHER,NEONER,C13ERR,TRITER
,,,,,,,,,,,,DBAR,DBAR,ITS-90,PSS-78,,PSS-78,,UMOL/KG,,DEG C,UMOL/KG,,UMOL/KG,,UMOL/KG,,UMOL/KG,,UMOL/KG,,PMOL/KG,,PMOL/KG,,PMOL/KG,,PMOL/KG,,TU,,NMOL/KG,,PERCNT,,/MILLE,,/MILLE,,NMOL/KG,,UMOL/KG,,UMOL/KG,,/MILLE,NMOL/KG,PERCNT,NMOL/KG,/MILLE,TU
   3220CGC92_1,   P13,     6,  1,    109,   1113,2,19920821,0640, 54.2450, 161.1050,  204,     98,      7.0,   9.8746,  32.3994,2,  32.3777,2,    231.4,2,  9.8739,   -999.0,5,     4.41,2,     0.94,2,     0.00,2,     0.52,2,    4.528,4,    2.201,2,    0.455,2,    6.423,2, -999.000,9,-999.0000,9,  -999.00,9,   -999.0,9,  -999.00,9,-999.000,9,   1926.3,2,   2224.1,2,  -999.0,-999.0000,-999.000,-999.000,  -999.0,-999.000
   3220CGC92_1,   P13,     6,  1,    108,   1016,2,19920821,0640, 54.2450, 161.1050,  204,    249,     22.0,   4.6339,  32.8506,2,  32.7796,4,    285.3,2,  4.6323,   -999.0,5,    15.86,2,    12.82,2,     0.14,2,     1.27,2,    5.382,2,    2.586,2, -999.000,9, -999.000,9, -999.000,9,-999.0000,9,  -999.00,9,   -999.0,9,  -999.00,9,-999.000,9,   -999.0,9,   -999.0,9,  -999.0,-999.0000,-999.000,-999.000,  -999.0,-999.000
   3220CGC92_1,   P13,     6,  1,    107,   1022,2,19920821,0640, 54.2450, 161.1050,  204,    505,     48.0,   1.0757,  33.1192,2,  33.1301,2,    296.6,2,  1.0737,   -999.0,5,    43.98,2,    26.72,2,     0.42,2,     2.24,2,    5.852,2,    2.766,2, -999.000,9, -999.000,9, -999.000,9,-999.0000,9,  -999.00,9,   -999.0,9,  -999.00,9,-999.000,9,   -999.0,9,   -999.0,9,  -999.0,-999.0000,-999.000,-999.000,  -999.0,-999.000
   3220CGC92_1,   P13,     6,  1,    106,   1036,2,19920821,0640, 54.2450, 161.1050,  204,    753,     72.0,   1.2197,  33.1741,2,  33.1585,2,    324.0,2,  1.2166,    318.5,2,    50.07,2,    29.48,2,     0.16,2,     2.38,2,    6.198,2,    2.885,2,    0.647,2,    9.372,2, -999.000,9,-999.0000,9,  -999.00,9,   -999.0,9,  -999.00,9,-999.000,9,   -999.0,9,   -999.0,9,  -999.0,-999.0000,-999.000,-999.000,  -999.0,-999.000
   3220CGC92_1,   P13,     6,  1,    105,   1037,2,19920821,0640, 54.2450, 161.1050,  204,   1003,     97.0,   1.1767,  33.2004,2,  33.1917,2,    306.0,2,  1.1725,    313.5,2,    53.95,2,    31.10,2,     0.08,2,     2.41,2,    5.681,2,    2.672,2, -999.000,9, -999.000,9, -999.000,9,-999.0000,9,  -999.00,9,   -999.0,9,  -999.00,9,-999.000,9,   -999.0,9,   -999.0,9,  -999.0,-999.0000,-999.000,-999.000,  -999.0,-999.000
   3220CGC92_1,   P13,     6,  1,    104,      0,2,19920821,0640, 54.2450, 161.1050,  204,   1243,    121.0,   1.0777,  33.2152,2,-999.0000,5,    308.5,2,  1.0726,   -999.0,5,  -999.00,5,  -999.00,9,  -999.00,9,  -999.00,5, -999.000,5, -999.000,5, -999.000,9, -999.000,9, -999.000,9,-999.0000,9,  -999.00,9,   -999.0,9,  -999.00,9,-999.000,9,   -999.0,9,   -999.0,9,  -999.0,-999.0000,-999.000,-999.000,  -999.0,-999.000
   3220CGC92_1,   P13,     6,  1,    103,   1023,2,19920821,0640, 54.2450, 161.1050,  204,   1505,    147.0,   1.0787,  33.2340,2,  33.1914,2,    302.9,2,  1.0724,    315.2,2,    55.71,2,    31.38,2,     0.00,2,     2.38,2,    5.773,2,    2.755,2,    0.606,2,    9.201,2, -999.000,9,-999.0000,9,  -999.00,9,   -999.0,9,  -999.00,9,-999.000,9,   -999.0,9,   -999.0,9,  -999.0,-999.0000,-999.000,-999.000,  -999.0,-999.000
   3220CGC92_1,   P13,     6,  1,    102,   2001,2,19920821,0640, 54.2450, 161.1050,  204,   1756,    173.0,   1.0727,  33.2435,2,  33.2235,2,    304.1,2,  1.0653,   -999.0,5,    56.64,2,    32.13,2,     0.00,2,     2.42,2,    5.564,2,    2.632,2, -999.000,9, -999.000,9, -999.000,9,-999.0000,9,  -999.00,9,   -999.0,9,  -999.00,9,-999.000,9,   -999.0,9,   -999.0,9,  -999.0,-999.0000,-999.000,-999.000,  -999.0,-999.000
   3220CGC92_1,   P13,     6,  1,    101,   1038,2,19920821,0640, 54.2450, 161.1050,  204,   2063,    202.0,   1.2407,  33.2747,2,  33.2560,6,    302.3,2,  1.2316,    303.8,2,    58.70,2,    31.69,2,     0.00,2,     2.41,2,    5.606,2,    2.637,2,    0.581,2,    8.037,2, -999.000,9,-999.0000,9,  -999.00,9,   -999.0,9,  -999.00,9,-999.000,9,   -999.0,9,   -999.0,9,  -999.0,-999.0000,-999.000,-999.000,  -999.0,-999.000
   3220CGC92_1,   P13,     7,  1,    115,   1020,2,19920821,0827, 54.2190, 161.1338,  581,    103,      7.0,   9.5847,  32.3599,2,  32.3573,2,   -999.0,9,  9.5839,    330.0,2,     4.83,2,  -999.00,9,     0.00,2,     0.39,2,    4.543,2,    2.189,2,    0.491,2,    6.592,2, -999.000,9,-999.0000,9,  -999.00,9,   -999.0,9,  -999.00,9,-999.000,9,   1928.7,2,   2225.1,2,  -999.0,-999.0000,-999.000,-999.000,  -999.0,-999.000
   3220CGC92_1,   P13,     7,  1,    114,   1120,2,19920821,0827, 54.2190, 161.1338,  581,    250,     22.0,   4.7219,  32.8259,2,  32.8073,2,    308.1,2,  4.7203,    339.3,2,    15.51,2,  -999.00,9,     0.00,2,     1.22,2,    5.602,2,    2.705,2, -999.000,9, -999.000,9, -999.000,9,-999.0000,9,  -999.00,9,   -999.0,9,  -999.00,9,-999.000,9,   -999.0,9,   -999.0,9,  -999.0,-999.0000,-999.000,-999.000,  -999.0,-999.000
   3220CGC92_1,   P13,     7,  1,    113,   1112,2,19920821,0827, 54.2190, 161.1338,  581,    494,     46.0,   0.7718,  33.0533,2,  33.0844,2,    358.5,2,  0.7700,    329.3,2,    34.67,2,  -999.00,9,     0.23,2,     2.09,2,    6.320,2,    2.956,2,    0.596,2,    9.491,2, -999.000,9,-999.0000,9,  -999.00,9,   -999.0,9,  -999.00,9,-999.000,9,   -999.0,9,   -999.0,9,  -999.0,-999.0000,-999.000,-999.000,  -999.0,-999.000
   3220CGC92_1,   P13,     7,  1,    112,   1234,2,19920821,0827, 54.2190, 161.1338,  581,    751,     72.0,   0.6858,  33.1120,2,  33.1385,2,    356.0,2,  0.6830,    320.6,2,    47.65,2,  -999.00,9,     0.06,2,     2.23,2,    6.191,2,    2.875,2, -999.000,9, -999.000,9, -999.000,9,-999.0000,9,  -999.00,9,   -999.0,9,  -999.00,9,-999.000,9,   -999.0,9,   -999.0,9,  -999.0,-999.0000,-999.000,-999.000,  -999.0,-999.000
   3220CGC92_1,   P13,     7,  1,    111,   1221,2,19920821,0827, 54.2190, 161.1338,  581,   1000,     97.0,   0.7858,  33.1435,2,  33.1691,2,   -999.0,9,  0.7819,    314.0,2,    51.01,2,  -999.00,9,     0.00,2,     2.30,2,    6.006,2,    2.858,2,    0.557,2,    9.477,2, -999.000,9,-999.0000,9,  -999.00,9,   -999.0,9,  -999.00,9,-999.000,9,   -999.0,9,   -999.0,9,  -999.0,-999.0000,-999.000,-999.000,  -999.0,-999.000
   3220CGC92_1,   P13,     7,  1,    110,   1118,2,19920821,0827, 54.2190, 161.1338,  581,   1248,    121.0,   0.9138,  33.1725,2,  33.1865,2,   -999.0,9,  0.9088,    313.3,2,    53.34,2,  -999.00,9,     0.00,2,     2.24,2,    5.223,2,    2.467,2, -999.000,9, -999.000,9, -999.000,9,-999.0000,9,  -999.00,9,   -999.0,9,  -999.00,9,-999.000,9,   -999.0,9,   -999.0,9,  -999.0,-999.0000,-999.000,-999.000,  -999.0,-999.000
   3220CGC92_1,   P13,     7,  1,    109,   1113,2,19920821,0827, 54.2190, 161.1338,  581,   1503,    147.0,   1.0398,  33.1996,2,  33.1726,2,    312.0,2,  1.0335,   -999.0,5,    53.02,2,  -999.00,9,     0.00,2,     2.26,2,    5.945,2,    2.842,2, -999.000,9, -999.000,9, -999.000,9,-999.0000,9,  -999.00,9,   -999.0,9,  -999.00,9,-999.000,9,   -999.0,9,   -999.0,9,  -999.0,-999.0000,-999.000,-999.000,  -999.0,-999.000
   3220CGC92_1,   P13,     7,  1,    108,   1016,2,19920821,0827, 54.2190, 161.1338,  581,   1756,    172.0,   0.9828,  33.2088,2,  33.2130,2,   -999.0,9,  0.9755,   -999.0,5,    55.59,2,  -999.00,9,     0.00,2,     2.49,2,    5.812,2,    2.785,2, -999.000,9, -999.000,9, -999.000,9,-999.0000,9,  -999.00,9,   -999.0,9,  -999.00,9,-999.000,9,   -999.0,9,   -999.0,9,  -999.0,-999.0000,-999.000,-999.000,  -999.0,-999.000
   3220CGC92_1,   P13,     7,  1,    107,   1022,2,19920821,0827, 54.2190, 161.1338,  581,   2003,    197.0,   1.0278,  33.2211,2,  33.2192,2,    312.5,2,  1.0193,   -999.0,5,    72.32,2,  -999.00,9,     0.00,2,     2.46,2,    6.999,4,    2.806,2,    0.575,2,    8.956,2, -999.000,9,-999.0000,9,  -999.00,9,   -999.0,9,  -999.00,9,-999.000,9,   -999.0,9,   -999.0,9,  -999.0,-999.0000,-999.000,-999.000,  -999.0,-999.000
   3220CGC92_1,   P13,     7,  1,    106,   1036,2,19920821,0827, 54.2190, 161.1338,  581,   2502,    246.0,   1.3647,  33.2773,2,  33.2886,2,    285.2,2,  1.3533,    281.4,2,    60.49,2,  -999.00,9,     0.00,2,     2.55,2,    5.246,2,    2.503,2, -999.000,9, -999.000,9, -999.000,9,-999.0000,9,  -999.00,9,   -999.0,9,  -999.00,9,-999.000,9,   -999.0,9,   -999.0,9,  -999.0,-999.0000,-999.000,-999.000,  -999.0,-999.000
   3220CGC92_1,   P13,     7,  1,    105,   1037,2,19920821,0827, 54.2190, 161.1338,  581,   3002,    296.0,   2.4084,  33.4657,2,  33.4687,2,    205.3,2,  2.3919,    201.6,2,    72.31,2,  -999.00,9,     0.00,2,     2.78,2,    4.006,2,    1.885,2, -999.000,9, -999.000,9, -999.000,9,-999.0000,9,  -999.00,9,   -999.0,9,  -999.00,9,-999.000,9,   -999.0,9,   -999.0,9,  -999.0,-999.0000,-999.000,-999.000,  -999.0,-999.000
   3220CGC92_1,   P13,     7,  1,    104,      0,4,19920821,0827, 54.2190, 161.1338,  581,   3472,    343.0,   3.1752,  33.6351,2,-999.0000,9,    131.6,2,  3.1538,   -999.0,9,  -999.00,5,  -999.00,9,  -999.00,9,  -999.00,5, -999.000,9, -999.000,9, -999.000,9, -999.000,9, -999.000,9,-999.0000,9,  -999.00,9,   -999.0,9,  -999.00,9,-999.000,9,   -999.0,9,   -999.0,9,  -999.0,-999.0000,-999.000,-999.000,  -999.0,-999.000
   3220CGC92_1,   P13,     7,  1,    103,   1023,2,19920821,0827, 54.2190, 161.1338,  581,   4002,    396.0,   3.5891,  33.8146,2,  33.8099,2,     67.5,2,  3.5628,     69.3,2,    92.87,2,  -999.00,9,     0.00,2,     3.20,3,    1.716,2,    0.794,2, -999.000,9, -999.000,9, -999.000,9,-999.0000,9,  -999.00,9,   -999.0,9,  -999.00,9,-999.000,9,   -999.0,9,   -999.0,9,  -999.0,-999.0000,-999.000,-999.000,  -999.0,-999.000
   3220CGC92_1,   P13,     7,  1,    102,   2001,2,19920821,0827, 54.2190, 161.1338,  581,   4757,    472.0,   3.6581,  33.9554,2,  33.9457,2,     35.3,2,  3.6260,     37.4,2,   101.57,2,  -999.00,9,     0.00,2,     3.18,3, -999.000,5, -999.000,5, -999.000,9, -999.000,9, -999.000,9,-999.0000,9,  -999.00,9,   -999.0,9,  -999.00,9,-999.000,9,   -999.0,9,   -999.0,9,  -999.0,-999.0000,-999.000,-999.000,  -999.0,-999.000
   3220CGC92_1,   P13,     7,  1,    101,   1038,2,19920821,0827, 54.2190, 161.1338,  581,   5081,    504.0,   3.6351,  34.0067,2,  33.9952,6,     25.4,2,  3.6008,     28.7,2,   106.11,2,  -999.00,9,     0.00,2,     3.30,3,    0.806,2,    0.378,2,    0.085,2,    1.045,2, -999.000,9,-999.0000,9,  -999.00,9,   -999.0,9,  -999.00,9,-999.000,9,   -999.0,9,   -999.0,9,  -999.0,-999.0000,-999.000,-999.000,  -999.0,-999.000