BOTTLE,20221003CCHSIOAMB
EXPOCODE,SECT_ID,STNNBR,CASTNO,SAMPNO,BTLNBR,BTLNBR_FLAG_W,DATE,TIME,LATITUDE,LONGITUDE,DEPTH,CTDRAW,CTDPRS,CTDTMP,CTDSAL,CTDSAL_FLAG_W,SALNTY,SALNTY_FLAG_W,CTDOXY,CTDOXY_FLAG_W,THETA,OXYGEN,OXYGEN_FLAG_W,SILCAT,SILCAT_FLAG_W,NITRAT,NITRAT_FLAG_W,NITRIT,NITRIT_FLAG_W,PHSPHT,PHSPHT_FLAG_W,CFC-11,CFC-11_FLAG_W,CFC-12,CFC-12_FLAG_W,CFC113,CFC113_FLAG_W,CCL4,CCL4_FLAG_W,TRITUM,TRITUM_FLAG_W,HELIUM,HELIUM_FLAG_W,DELHE3,DELHE3_FLAG_W,DELC14,DELC14_FLAG_W,DELC13,DELC13_FLAG_W,NEON,NEON_FLAG_W,TCARBN,TCARBN_FLAG_W,ALKALI,ALKALI_FLAG_W,C14ERR,HELIER,DELHER,NEONER,C13ERR,TRITER
,,,,,,,,,,,,DBAR,DBAR,ITS-90,PSS-78,,PSS-78,,UMOL/KG,,DEG C,UMOL/KG,,UMOL/KG,,UMOL/KG,,UMOL/KG,,UMOL/KG,,PMOL/KG,,PMOL/KG,,PMOL/KG,,PMOL/KG,,TU,,NMOL/KG,,PERCNT,,/MILLE,,/MILLE,,NMOL/KG,,UMOL/KG,,UMOL/KG,,/MILLE,NMOL/KG,PERCNT,NMOL/KG,/MILLE,TU
   3220CGC92_1,   P13,    24,  1,    135,   1033,2,19920827,0740, 47.5010, 165.0030, 5720,    103,      7.0,  11.1213,  32.8938,2,  32.8949,2,    286.8,2, 11.1205,    287.3,2,    30.00,2,    11.96,2,     0.09,2,     1.16,2,    4.065,2,    2.015,2,    0.353,2,    5.455,2, -999.000,9,-999.0000,9,  -999.00,9,    -18.2,2,     1.77,2,-999.000,9,   -999.0,9,   -999.0,9,     2.7,-999.0000,-999.000,-999.000,  -999.0,-999.000
   3220CGC92_1,   P13,    24,  1,    136,   1106,2,19920827,0740, 47.5010, 165.0030, 5720,    103,      7.0,  11.1213,  32.8938,2,  32.8933,2,    286.8,2, 11.1205,   -999.0,9,    30.06,2,    11.46,2,     0.14,2,     1.14,2, -999.000,9, -999.000,9, -999.000,9, -999.000,9, -999.000,9,-999.0000,9,  -999.00,9,   -999.0,9,  -999.00,9,-999.000,9,   2036.5,6,   2239.2,6,  -999.0,-999.0000,-999.000,-999.000,  -999.0,-999.000
   3220CGC92_1,   P13,    24,  1,    134,   1109,2,19920827,0740, 47.5010, 165.0030, 5720,    241,     21.0,   9.9906,  32.8963,2,  32.9152,2,    296.0,2,  9.9883,    297.3,2,    30.36,2,    13.42,2,     0.10,2,     1.25,2, -999.000,5, -999.000,5, -999.000,9, -999.000,9, -999.000,9,-999.0000,9,  -999.00,9,    -16.5,2,     1.70,2,-999.000,9,   2043.8,2,   2234.8,6,     4.1,-999.0000,-999.000,-999.000,  -999.0,-999.000
   3220CGC92_1,   P13,    24,  1,    133,   1031,2,19920827,0740, 47.5010, 165.0030, 5720,    480,     45.0,   4.7289,  33.0478,2,  33.0617,2,    327.5,2,  4.7256,    331.0,2,    37.60,2,    19.20,2,     0.34,2,     1.67,2, -999.000,5, -999.000,5, -999.000,9, -999.000,9, -999.000,9,-999.0000,9,  -999.00,9,    -28.5,2,     0.98,2,-999.000,9,   2107.5,2,   2242.3,6,     2.8,-999.0000,-999.000,-999.000,  -999.0,-999.000
   3220CGC92_1,   P13,    24,  1,    132,   1008,2,19920827,0740, 47.5010, 165.0030, 5720,    753,     72.0,   2.6844,  33.0779,2,  33.0912,2,    325.1,2,  2.6804,    326.0,2,    41.42,2,    22.28,2,     0.25,2,     1.80,2, -999.000,5, -999.000,5, -999.000,9, -999.000,9, -999.000,9,-999.0000,9,  -999.00,9,    -31.6,2,     0.85,2,-999.000,9,   2119.9,2,   2239.3,2,     2.9,-999.0000,-999.000,-999.000,  -999.0,-999.000
   3220CGC92_1,   P13,    24,  1,    131,   1030,2,19920827,0740, 47.5010, 165.0030, 5720,   1001,     97.0,   2.0795,  33.0948,2,  33.1327,2,    327.0,2,  2.0746,    320.4,2,    45.61,2,    24.50,2,     0.00,2,     1.90,2,    6.434,2,    2.957,2, -999.000,9, -999.000,9, -999.000,9,-999.0000,9,  -999.00,9,    -32.8,2,     0.74,2,-999.000,9,   2131.6,2,   2243.0,2,     2.7,-999.0000,-999.000,-999.000,  -999.0,-999.000
   3220CGC92_1,   P13,    24,  1,    130,   1032,2,19920827,0740, 47.5010, 165.0030, 5720,   1258,    122.0,   1.5106,  33.1400,2,  33.3104,2,    302.4,2,  1.5050,    261.6,2,    56.86,2,    28.79,2,     0.00,2,     2.08,2, -999.000,5, -999.000,5, -999.000,9, -999.000,9, -999.000,9,-999.0000,9,  -999.00,9,    -49.5,2,     0.34,2,-999.000,9,   2173.2,2,   2255.3,2,     2.5,-999.0000,-999.000,-999.000,  -999.0,-999.000
   3220CGC92_1,   P13,    24,  1,    129,   1004,2,19920827,0740, 47.5010, 165.0030, 5720,   1500,    146.0,   2.1425,  33.3494,2,  33.5982,2,    175.5,2,  2.1349,    146.7,2,    79.18,2,    35.66,2,     0.00,2,     2.61,2, -999.000,5, -999.000,5, -999.000,9, -999.000,9, -999.000,9,-999.0000,9,  -999.00,9,    -77.1,2,    -0.26,2,-999.000,9,   2253.4,2,   2280.3,2,     2.2,-999.0000,-999.000,-999.000,  -999.0,-999.000
   3220CGC92_1,   P13,    24,  1,    127,   1117,2,19920827,0740, 47.5010, 165.0030, 5720,   2007,    196.0,   2.8333,  33.6858,2,  33.7649,2,    117.1,2,  2.8218,     90.9,2,   100.43,2,    41.35,2,     0.09,2,     2.99,2,    2.346,2,    1.042,2, -999.000,9, -999.000,9, -999.000,9,-999.0000,9,  -999.00,9,   -104.2,2,    -0.55,2,-999.000,9,   2293.2,2,   2293.5,2,     3.3,-999.0000,-999.000,-999.000,  -999.0,-999.000
   3220CGC92_1,   P13,    24,  1,    126,   1110,2,19920827,0740, 47.5010, 165.0030, 5720,   2504,    246.0,   3.0823,  33.8100,2,  33.8685,2,     76.7,2,  3.0672,     58.6,2,    91.93,2,    40.14,2,     0.00,2,     2.84,2, -999.000,5, -999.000,5, -999.000,9, -999.000,9, -999.000,9,-999.0000,9,  -999.00,9,   -999.0,5,    -0.65,2,-999.000,9,   2316.5,2,   2305.4,2,  -999.0,-999.0000,-999.000,-999.000,  -999.0,-999.000
   3220CGC92_1,   P13,    24,  1,    125,   1035,2,19920827,0740, 47.5010, 165.0030, 5720,   3004,    296.0,   3.1722,  33.8963,2,  33.9542,2,   -999.0,9,  3.1537,     46.5,2,   106.94,2,    41.76,2,     0.00,2,     2.96,2, -999.000,5, -999.000,5, -999.000,9, -999.000,9, -999.000,9,-999.0000,9,  -999.00,9,   -135.0,2,    -0.66,2,-999.000,9,   2327.0,2,   2314.4,2,     2.3,-999.0000,-999.000,-999.000,  -999.0,-999.000
   3220CGC92_1,   P13,    24,  1,    124,   1026,2,19920827,0740, 47.5010, 165.0030, 5720,   3500,    345.0,   3.2392,  33.9693,2,  34.0322,2,   -999.0,9,  3.2172,     33.1,2,   112.65,2,    42.59,2,     0.00,2,     3.03,2, -999.000,5, -999.000,5, -999.000,9, -999.000,9, -999.000,9,-999.0000,9,  -999.00,9,   -141.4,2,    -0.72,2,-999.000,9,   2337.7,2,   2323.8,2,     2.8,-999.0000,-999.000,-999.000,  -999.0,-999.000
   3220CGC92_1,   P13,    24,  1,    123,   1014,2,19920827,0740, 47.5010, 165.0030, 5720,   4014,    396.0,   3.2582,  34.0405,2,  34.1089,2,   -999.0,9,  3.2327,     22.7,2,   117.48,2,    44.21,2,     0.00,2,     3.18,2,    0.468,3,    0.188,2, -999.000,9, -999.000,9, -999.000,9,-999.0000,9,  -999.00,9,   -149.3,2,    -0.73,2,-999.000,9,   2346.5,2,   2330.4,2,     6.1,-999.0000,-999.000,-999.000,  -999.0,-999.000
   3220CGC92_1,   P13,    24,  1,    122,   1015,2,19920827,0740, 47.5010, 165.0030, 5720,   5003,    495.0,   3.1722,  34.1469,2,  34.1767,2,   -999.0,9,  3.1402,     22.8,2,   126.05,2,    43.67,2,     0.00,2,     3.16,2, -999.000,5, -999.000,5, -999.000,9, -999.000,9, -999.000,9,-999.0000,9,  -999.00,9,   -172.3,6,    -0.69,6,-999.000,9,   2354.1,2,   2344.6,2,     7.8,-999.0000,-999.000,-999.000,  -999.0,-999.000
   3220CGC92_1,   P13,    24,  1,    121,   1235,2,19920827,0740, 47.5010, 165.0030, 5720,   6004,    595.0,   3.0603,  34.2335,2,  34.2340,2,   -999.0,9,  3.0218,     26.9,2,   133.34,2,    43.39,2,     0.00,2,     3.15,2, -999.000,5, -999.000,5, -999.000,9, -999.000,9, -999.000,9,-999.0000,9,  -999.00,9,   -184.7,2,    -0.65,2,-999.000,9,   2358.0,2,   2356.1,2,     2.3,-999.0000,-999.000,-999.000,  -999.0,-999.000
   3220CGC92_1,   P13,    24,  1,    120,   1237,2,19920827,0740, 47.5010, 165.0030, 5720,   7008,    695.0,   2.9613,  34.2922,2,  34.2936,2,     21.8,2,  2.9162,     20.6,2,   141.57,2,    43.32,2,     0.00,2,     3.12,2, -999.000,5, -999.000,5, -999.000,9, -999.000,9, -999.000,9,-999.0000,9,  -999.00,9,   -190.4,2,    -0.67,2,-999.000,9,   2368.6,2,   2366.4,2,     2.6,-999.0000,-999.000,-999.000,  -999.0,-999.000
   3220CGC92_1,   P13,    24,  1,    119,   1025,2,19920827,0740, 47.5010, 165.0030, 5720,   8010,    795.0,   2.8513,  34.3424,2,  34.3397,2,     22.4,2,  2.7998,     23.7,2,   146.91,2,    43.55,2,     0.00,2,     3.14,2,    0.122,3,    0.039,3, -999.000,9, -999.000,9, -999.000,9,-999.0000,9,  -999.00,9,   -193.8,2,    -0.63,2,-999.000,9,   2374.0,2,   2374.5,2,     4.2,-999.0000,-999.000,-999.000,  -999.0,-999.000
   3220CGC92_1,   P13,    24,  1,    118,   1002,2,19920827,0740, 47.5010, 165.0030, 5720,   9004,    894.0,   2.7163,  34.3811,2,  34.3821,2,     25.3,2,  2.6586,     25.5,2,   152.14,2,    43.62,2,     0.00,2,     3.12,2, -999.000,5, -999.000,5, -999.000,9, -999.000,9, -999.000,9,-999.0000,9,  -999.00,9,   -210.1,2,    -0.66,2,-999.000,9,   2378.7,2,   2381.1,2,     2.4,-999.0000,-999.000,-999.000,  -999.0,-999.000
   3220CGC92_1,   P13,    24,  1,    117,   1005,2,19920827,0740, 47.5010, 165.0030, 5720,  10006,    994.0,   2.6044,  34.4109,2,  34.4132,2,     27.2,2,  2.5402,     27.2,2,   156.05,2,    43.55,2,     0.00,2,     3.12,2, -999.000,5, -999.000,5, -999.000,9, -999.000,9, -999.000,9,-999.0000,9,  -999.00,9,   -212.6,2,    -0.62,2,-999.000,9,   2381.1,2,   2383.9,2,     2.4,-999.0000,-999.000,-999.000,  -999.0,-999.000
   3220CGC92_1,   P13,    24,  1,    116,   1104,2,19920827,0740, 47.5010, 165.0030, 5720,  13006,   1294.0,   2.2835,  34.4926,2,  34.4957,2,     39.2,2,  2.1998,     39.1,2,   164.84,2,    42.71,2,     0.00,2,     3.08,2,    0.023,2,   -0.002,2, -999.000,9, -999.000,9, -999.000,9,-999.0000,9,  -999.00,9,   -233.4,2,    -0.58,2,-999.000,9,   2383.8,2,   2398.2,2,     2.5,-999.0000,-999.000,-999.000,  -999.0,-999.000
   3220CGC92_1,   P13,    24,  1,    115,   1020,2,19920827,0740, 47.5010, 165.0030, 5720,  16030,   1596.0,   2.0655,  34.5499,2,  34.5493,2,     53.4,2,  1.9611,     54.1,2,   168.46,2,    41.36,2,     0.00,2,     2.94,2, -999.000,5, -999.000,5, -999.000,9, -999.000,9, -999.000,9,-999.0000,9,  -999.00,9,   -999.0,9,  -999.00,9,-999.000,9,   2381.6,2,   2406.5,2,  -999.0,-999.0000,-999.000,-999.000,  -999.0,-999.000
   3220CGC92_1,   P13,    24,  1,    114,   1120,2,19920827,0740, 47.5010, 165.0030, 5720,  18996,   1893.0,   1.8885,  34.5910,2,  34.5908,2,     69.8,2,  1.7627,     71.2,2,   170.03,2,    40.74,2,     0.00,2,     2.89,2, -999.000,5, -999.000,5, -999.000,9, -999.000,9, -999.000,9,-999.0000,9,  -999.00,9,   -238.4,2,    -0.37,2,-999.000,9,   2375.8,2,   2415.2,2,     2.3,-999.0000,-999.000,-999.000,  -999.0,-999.000
   3220CGC92_1,   P13,    24,  1,    113,   1112,2,19920827,0740, 47.5010, 165.0030, 5720,  22007,   2194.0,   1.7596,  34.6175,2,  34.6183,2,     88.1,2,  1.6106,     87.3,2,   168.65,2,    39.61,2,     0.00,2,     2.76,3, -999.000,5, -999.000,5, -999.000,9, -999.000,9, -999.000,9,-999.0000,9,  -999.00,9,   -999.0,9,  -999.00,9,-999.000,9,   2364.8,2,   2418.4,2,  -999.0,-999.0000,-999.000,-999.000,  -999.0,-999.000
   3220CGC92_1,   P13,    24,  1,    112,   1234,2,19920827,0740, 47.5010, 165.0030, 5720,  25002,   2495.0,   1.6596,  34.6383,2,  34.6401,2,   -999.0,9,  1.4861,    106.1,2,   164.13,2,    39.12,2,     0.00,2,     2.70,3,   -0.001,2,   -0.006,6, -999.000,9, -999.000,9, -999.000,9,-999.0000,9,  -999.00,9,   -999.0,9,  -999.00,9,-999.000,9,   2353.7,2,   2421.8,2,  -999.0,-999.0000,-999.000,-999.000,  -999.0,-999.000
   3220CGC92_1,   P13,    24,  1,    111,   1221,2,19920827,0740, 47.5010, 165.0030, 5720,  28003,   2796.0,   1.5816,  34.6535,2,  34.6631,3,   -999.0,9,  1.3823,    117.8,2,   161.09,2,    38.79,2,     0.00,2,     2.73,2, -999.000,5, -999.000,5, -999.000,9, -999.000,9, -999.000,9,-999.0000,9,  -999.00,9,   -999.0,9,  -999.00,9,-999.000,9,   2346.3,2,   2420.8,2,  -999.0,-999.0000,-999.000,-999.000,  -999.0,-999.000
   3220CGC92_1,   P13,    24,  1,    110,   1012,2,19920827,0740, 47.5010, 165.0030, 5720,  31963,   3193.0,   1.5156,  34.6660,2,  34.6665,2,   -999.0,9,  1.2799,    132.9,2,   157.60,2,    37.73,2,     0.00,2,     2.65,2,   -0.003,2,   -0.034,3, -999.000,9, -999.000,9, -999.000,9,-999.0000,9,  -999.00,9,   -999.0,9,  -999.00,9,-999.000,9,   2338.2,2,   2420.4,2,  -999.0,-999.0000,-999.000,-999.000,  -999.0,-999.000
   3220CGC92_1,   P13,    24,  1,    109,   1041,2,19920827,0740, 47.5010, 165.0030, 5720,  35994,   3597.0,   1.4796,  34.6746,2,  34.6741,2,   -999.0,9,  1.2040,    141.9,2,   155.26,2,    37.37,2,     0.00,2,     2.61,2,   -0.005,2,   -0.011,2, -999.000,9, -999.000,9, -999.000,9,-999.0000,9,  -999.00,9,   -999.0,9,  -999.00,9,-999.000,9,   2331.5,2,   2419.2,2,  -999.0,-999.0000,-999.000,-999.000,  -999.0,-999.000
   3220CGC92_1,   P13,    24,  1,    108,   1003,2,19920827,0740, 47.5010, 165.0030, 5720,  39992,   3998.0,   1.4696,  34.6796,2,  34.6799,2,   -999.0,9,  1.1518,    149.2,2,   153.31,2,    36.76,2,     0.00,2,     2.56,2,   -0.002,2,    0.001,2, -999.000,9, -999.000,9, -999.000,9,-999.0000,9,  -999.00,9,   -999.0,9,  -999.00,9,-999.000,9,   2323.3,2,   2420.4,2,  -999.0,-999.0000,-999.000,-999.000,  -999.0,-999.000
   3220CGC92_1,   P13,    24,  1,    107,   1013,2,19920827,0740, 47.5010, 165.0030, 5720,  43999,   4399.0,   1.4776,  34.6832,2,  34.6832,2,    152.1,2,  1.1149,    153.4,2,   152.12,2,    36.22,2,     0.00,2,     2.51,2,   -0.002,2,   -0.004,2, -999.000,9, -999.000,9, -999.000,9,-999.0000,9,  -999.00,9,   -999.0,9,  -999.00,9,-999.000,9,   2322.6,2,   2418.0,2,  -999.0,-999.0000,-999.000,-999.000,  -999.0,-999.000
   3220CGC92_1,   P13,    24,  1,    106,   1036,2,19920827,0740, 47.5010, 165.0030, 5720,  47989,   4798.0,   1.4996,  34.6855,2,  34.6871,2,    154.7,2,  1.0897,    155.7,2,   151.22,2,    36.58,2,     0.00,2,     2.52,2,   -0.004,2,   -0.009,2, -999.000,9, -999.000,9, -999.000,9,-999.0000,9,  -999.00,9,   -999.0,9,  -999.00,9,-999.000,9,   2320.1,2,   2420.7,2,  -999.0,-999.0000,-999.000,-999.000,  -999.0,-999.000
   3220CGC92_1,   P13,    24,  1,    105,   1037,2,19920827,0740, 47.5010, 165.0030, 5720,  50997,   5099.0,   1.5266,  34.6862,2,  34.6874,2,    157.6,2,  1.0793,    157.8,2,   152.01,2,    36.63,2,     0.00,2,     2.52,2,    0.001,2,   -0.005,2, -999.000,9, -999.000,9, -999.000,9,-999.0000,9,  -999.00,9,   -999.0,9,  -999.00,9,-999.000,9,   2321.5,2,   2418.2,2,  -999.0,-999.0000,-999.000,-999.000,  -999.0,-999.000
   3220CGC92_1,   P13,    24,  1,    104,   1029,2,19920827,0740, 47.5010, 165.0030, 5720,  53879,   5387.0,   1.5586,  34.6858,2,  34.6873,2,    155.9,2,  1.0742,    158.1,2,   152.97,2,    36.62,2,     0.00,2,     2.53,2,    0.002,2,   -0.010,2,    0.024,2,   -0.002,2, -999.000,9,-999.0000,9,  -999.00,9,   -999.0,9,  -999.00,9,-999.000,9,   2318.2,2,   2419.7,2,  -999.0,-999.0000,-999.000,-999.000,  -999.0,-999.000
   3220CGC92_1,   P13,    24,  1,    102,      0,2,19920827,0740, 47.5010, 165.0030, 5720,  56997,   5698.0,   1.5996,  34.6859,2,  34.6893,2,    160.1,2,  1.0737,    157.1,2,   152.87,2,    35.94,2,     0.00,2,     2.46,2,   -0.002,2,   -0.002,2, -999.000,9, -999.000,9, -999.000,9,-999.0000,9,  -999.00,9,   -999.0,9,  -999.00,9,-999.000,9,   -999.0,9,   -999.0,9,  -999.0,-999.0000,-999.000,-999.000,  -999.0,-999.000
   3220CGC92_1,   P13,    24,  1,    103,   1023,2,19920827,0740, 47.5010, 165.0030, 5720,  56997,   5698.0,   1.5996,  34.6859,2,  34.6877,2,    160.1,2,  1.0737,    158.1,2,   153.32,2,    36.43,2,     0.00,2,     2.53,2, -999.000,5, -999.000,5, -999.000,9, -999.000,9, -999.000,9,-999.0000,9,  -999.00,9,   -999.0,9,  -999.00,9,-999.000,9,   2321.1,6,   2419.3,6,  -999.0,-999.0000,-999.000,-999.000,  -999.0,-999.000
   3220CGC92_1,   P13,    24,  1,    101,   1038,2,19920827,0740, 47.5010, 165.0030, 5720,  59497,   5947.0,   1.6326,  34.6855,2,  34.6913,6,    158.6,2,  1.0726,   -999.0,5,   153.27,2,    35.90,2,     0.00,2,     2.48,2,    0.000,2,   -0.006,2, -999.000,9, -999.000,9, -999.000,9,-999.0000,9,  -999.00,9,   -999.0,9,  -999.00,9,-999.000,9,   2319.6,2,   2418.9,2,  -999.0,-999.0000,-999.000,-999.000,  -999.0,-999.000