BOTTLE,20221003CCHSIOAMB
EXPOCODE,SECT_ID,STNNBR,CASTNO,SAMPNO,BTLNBR,BTLNBR_FLAG_W,DATE,TIME,LATITUDE,LONGITUDE,DEPTH,CTDRAW,CTDPRS,CTDTMP,CTDSAL,CTDSAL_FLAG_W,SALNTY,SALNTY_FLAG_W,CTDOXY,CTDOXY_FLAG_W,THETA,OXYGEN,OXYGEN_FLAG_W,SILCAT,SILCAT_FLAG_W,NITRAT,NITRAT_FLAG_W,NITRIT,NITRIT_FLAG_W,PHSPHT,PHSPHT_FLAG_W,CFC-11,CFC-11_FLAG_W,CFC-12,CFC-12_FLAG_W,CFC113,CFC113_FLAG_W,CCL4,CCL4_FLAG_W,TRITUM,TRITUM_FLAG_W,HELIUM,HELIUM_FLAG_W,DELHE3,DELHE3_FLAG_W,DELC14,DELC14_FLAG_W,DELC13,DELC13_FLAG_W,NEON,NEON_FLAG_W,TCARBN,TCARBN_FLAG_W,ALKALI,ALKALI_FLAG_W,C14ERR,HELIER,DELHER,NEONER,C13ERR,TRITER
,,,,,,,,,,,,DBAR,DBAR,ITS-90,PSS-78,,PSS-78,,UMOL/KG,,DEG C,UMOL/KG,,UMOL/KG,,UMOL/KG,,UMOL/KG,,UMOL/KG,,PMOL/KG,,PMOL/KG,,PMOL/KG,,PMOL/KG,,TU,,NMOL/KG,,PERCNT,,/MILLE,,/MILLE,,NMOL/KG,,UMOL/KG,,UMOL/KG,,/MILLE,NMOL/KG,PERCNT,NMOL/KG,/MILLE,TU
   3220CGC92_1,   P13,    30,  1,    136,   1106,2,19920830,0124, 44.4948, 165.0092, 5731,    108,      8.0,  14.2226,  32.8939,2,  32.8984,2,   -999.0,9, 14.2214,    275.3,2,    21.98,2,     7.36,2,     0.00,2,     0.82,2,    3.359,2,    1.679,2, -999.000,9, -999.000,9, -999.000,9,-999.0000,9,  -999.00,9,   -999.0,9,  -999.00,9,-999.000,9,   2003.4,2,   2220.2,2,  -999.0,-999.0000,-999.000,-999.000,  -999.0,-999.000
   3220CGC92_1,   P13,    30,  1,    135,   1238,2,19920830,0124, 44.4948, 165.0092, 5731,    221,     19.0,  11.7342,  33.0568,2,  33.0129,4,    303.1,2, 11.7318,    298.9,2,    23.54,2,     9.95,2,     0.00,2,     1.03,2,    4.082,2,    2.011,2, -999.000,9, -999.000,9, -999.000,9,-999.0000,9,  -999.00,9,   -999.0,9,  -999.00,9,-999.000,9,   -999.0,9,   -999.0,9,  -999.0,-999.0000,-999.000,-999.000,  -999.0,-999.000
   3220CGC92_1,   P13,    30,  1,    134,   1030,2,19920830,0124, 44.4948, 165.0092, 5731,    539,     50.0,   5.4757,  33.2665,2,  33.2018,2,    333.1,2,  5.4718,    324.6,2,    25.30,2,    12.68,2,     0.09,2,     1.27,2,    5.108,2,    2.439,2, -999.000,9, -999.000,9, -999.000,9,-999.0000,9,  -999.00,9,   -999.0,9,  -999.00,9,-999.000,9,   -999.0,9,   -999.0,9,  -999.0,-999.0000,-999.000,-999.000,  -999.0,-999.000
   3220CGC92_1,   P13,    30,  1,    133,   1231,2,19920830,0124, 44.4948, 165.0092, 5731,    730,     69.0,   4.5269,  33.2804,2,  33.3103,2,    310.5,2,  4.5220,    314.8,2,    28.27,2,    15.86,2,     0.28,2,     1.37,2,    5.437,2,    2.577,2, -999.000,9, -999.000,9, -999.000,9,-999.0000,9,  -999.00,9,   -999.0,9,  -999.00,9,-999.000,9,   -999.0,9,   -999.0,9,  -999.0,-999.0000,-999.000,-999.000,  -999.0,-999.000
   3220CGC92_1,   P13,    30,  1,    132,   1109,2,19920830,0124, 44.4948, 165.0092, 5731,   1006,     97.0,   3.9870,  33.3274,2,  33.3454,2,    299.2,2,  3.9806,    307.8,2,    29.24,2,    16.97,2,     0.00,2,     1.41,2,    5.423,2,    2.577,2, -999.000,9, -999.000,9, -999.000,9,-999.0000,9,  -999.00,9,   -999.0,9,  -999.00,9,-999.000,9,   -999.0,9,   -999.0,9,  -999.0,-999.0000,-999.000,-999.000,  -999.0,-999.000
   3220CGC92_1,   P13,    30,  1,    131,   1031,2,19920830,0124, 44.4948, 165.0092, 5731,   1243,    120.0,   3.8871,  33.3602,2,  33.4061,2,    299.5,2,  3.8791,    298.3,2,    32.33,2,    18.15,2,     0.00,2,     1.44,2, -999.000,9, -999.000,9, -999.000,9, -999.000,9, -999.000,9,-999.0000,9,  -999.00,9,   -999.0,9,  -999.00,9,-999.000,9,   -999.0,9,   -999.0,9,  -999.0,-999.0000,-999.000,-999.000,  -999.0,-999.000
   3220CGC92_1,   P13,    30,  1,    130,   1041,2,19920830,0124, 44.4948, 165.0092, 5731,   1512,    147.0,   4.0620,  33.4639,2,  33.5223,2,    280.1,2,  4.0520,    260.5,2,    41.18,2,    23.44,2,     0.00,2,     1.62,2,    4.481,2,    2.117,2, -999.000,9, -999.000,9, -999.000,9,-999.0000,9,  -999.00,9,   -999.0,9,  -999.00,9,-999.000,9,   -999.0,9,   -999.0,9,  -999.0,-999.0000,-999.000,-999.000,  -999.0,-999.000
   3220CGC92_1,   P13,    30,  1,    129,   1004,3,19920830,0124, 44.4948, 165.0092, 5731,   2047,    200.0,   4.0770,  33.6786,2,-999.0000,9,    228.4,2,  4.0633,   -999.0,9,  -999.00,5,  -999.00,9,  -999.00,9,  -999.00,5, -999.000,9, -999.000,9, -999.000,9, -999.000,9, -999.000,9,-999.0000,9,  -999.00,9,   -999.0,9,  -999.00,9,-999.000,9,   -999.0,9,   -999.0,9,  -999.0,-999.0000,-999.000,-999.000,  -999.0,-999.000
   3220CGC92_1,   P13,    30,  1,    127,   1117,3,19920830,0124, 44.4948, 165.0092, 5731,   2491,    245.0,   3.8911,  33.7429,2,-999.0000,9,    152.1,2,  3.8745,   -999.0,9,  -999.00,5,  -999.00,9,  -999.00,9,  -999.00,5, -999.000,9, -999.000,9, -999.000,9, -999.000,9, -999.000,9,-999.0000,9,  -999.00,9,   -999.0,9,  -999.00,9,-999.000,9,   -999.0,9,   -999.0,9,  -999.0,-999.0000,-999.000,-999.000,  -999.0,-999.000
   3220CGC92_1,   P13,    30,  1,    126,   1110,2,19920830,0124, 44.4948, 165.0092, 5731,   2987,    294.0,   3.5731,  33.7842,2,  33.8250,2,    142.6,2,  3.5538,    122.9,2,    81.47,2,    35.57,2,     0.00,2,     2.61,2,    2.345,2,    1.048,2, -999.000,9, -999.000,9, -999.000,9,-999.0000,9,  -999.00,9,   -999.0,9,  -999.00,9,-999.000,9,   -999.0,9,   -999.0,9,  -999.0,-999.0000,-999.000,-999.000,  -999.0,-999.000
   3220CGC92_1,   P13,    30,  1,    125,   1035,2,19920830,0124, 44.4948, 165.0092, 5731,   3502,    345.0,   3.5851,  33.8525,2,  33.8963,2,    115.7,2,  3.5623,     98.2,2,    89.86,2,    37.15,2,     0.00,2,     2.64,2,    1.886,2,    0.855,2, -999.000,9, -999.000,9, -999.000,9,-999.0000,9,  -999.00,9,   -999.0,9,  -999.00,9,-999.000,9,   -999.0,9,   -999.0,9,  -999.0,-999.0000,-999.000,-999.000,  -999.0,-999.000
   3220CGC92_1,   P13,    30,  1,    124,   1026,2,19920830,0124, 44.4948, 165.0092, 5731,   3996,    394.0,   3.6141,  33.9198,2,  33.9609,2,     97.4,2,  3.5877,     81.9,2,    96.28,2,    37.84,2,     0.00,2,     2.75,2,    1.491,2,    0.673,2, -999.000,9, -999.000,9, -999.000,9,-999.0000,9,  -999.00,9,   -999.0,9,  -999.00,9,-999.000,9,   -999.0,9,   -999.0,9,  -999.0,-999.0000,-999.000,-999.000,  -999.0,-999.000
   3220CGC92_1,   P13,    30,  1,    123,   1014,2,19920830,0124, 44.4948, 165.0092, 5731,   5028,    497.0,   3.6701,  34.0559,2,  34.0817,2,     64.1,2,  3.6361,     60.4,2,   109.58,2,    40.54,2,     0.00,2,     2.92,2,    0.874,2,    0.404,2, -999.000,9, -999.000,9, -999.000,9,-999.0000,9,  -999.00,9,   -999.0,9,  -999.00,9,-999.000,9,   -999.0,9,   -999.0,9,  -999.0,-999.0000,-999.000,-999.000,  -999.0,-999.000
   3220CGC92_1,   P13,    30,  1,    122,   1015,2,19920830,0124, 44.4948, 165.0092, 5731,   6015,    596.0,   3.5182,  34.1577,2,  34.1749,2,     46.5,2,  3.4775,     44.1,2,   121.39,2,    41.73,2,     0.00,2,     3.03,2, -999.000,9, -999.000,9, -999.000,9, -999.000,9, -999.000,9,-999.0000,9,  -999.00,9,   -999.0,9,  -999.00,9,-999.000,9,   -999.0,9,   -999.0,9,  -999.0,-999.0000,-999.000,-999.000,  -999.0,-999.000
   3220CGC92_1,   P13,    30,  1,    121,   1235,2,19920830,0124, 44.4948, 165.0092, 5731,   7005,    694.0,   3.3392,  34.2278,2,  34.2397,2,     39.0,2,  3.2922,     39.1,2,   121.94,2,    42.70,2,     0.00,2,     3.05,2,    0.326,6,    0.155,6, -999.000,9, -999.000,9, -999.000,9,-999.0000,9,  -999.00,9,   -999.0,9,  -999.00,9,-999.000,9,   -999.0,9,   -999.0,9,  -999.0,-999.0000,-999.000,-999.000,  -999.0,-999.000
   3220CGC92_1,   P13,    30,  1,    120,   1237,2,19920830,0124, 44.4948, 165.0092, 5731,   8005,    794.0,   3.1432,  34.2923,2,  34.2980,2,     37.9,2,  3.0900,     36.1,2,   129.52,2,    42.83,2,     0.00,2,     3.06,2, -999.000,9, -999.000,9, -999.000,9, -999.000,9, -999.000,9,-999.0000,9,  -999.00,9,   -999.0,9,  -999.00,9,-999.000,9,   -999.0,9,   -999.0,9,  -999.0,-999.0000,-999.000,-999.000,  -999.0,-999.000
   3220CGC92_1,   P13,    30,  1,    119,   1025,2,19920830,0124, 44.4948, 165.0092, 5731,   9005,    894.0,   2.9503,  34.3347,2,  34.3452,2,     34.6,2,  2.8909,     38.5,2,   135.45,2,    42.64,2,     0.00,2,     3.05,2, -999.000,9, -999.000,9, -999.000,9, -999.000,9, -999.000,9,-999.0000,9,  -999.00,9,   -999.0,9,  -999.00,9,-999.000,9,   -999.0,9,   -999.0,9,  -999.0,-999.0000,-999.000,-999.000,  -999.0,-999.000
   3220CGC92_1,   P13,    30,  1,    118,   1118,2,19920830,0124, 44.4948, 165.0092, 5731,  10011,    994.0,   2.7923,  34.3695,2,  34.3789,2,     33.7,2,  2.7267,     36.0,6,   142.92,2,    42.47,2,     0.00,2,     3.02,2,    0.122,2,    0.060,2, -999.000,9, -999.000,9, -999.000,9,-999.0000,9,  -999.00,9,   -999.0,9,  -999.00,9,-999.000,9,   -999.0,9,   -999.0,9,  -999.0,-999.0000,-999.000,-999.000,  -999.0,-999.000
   3220CGC92_1,   P13,    30,  1,    117,   1005,2,19920830,0124, 44.4948, 165.0092, 5731,  11986,   1192.0,   2.5374,  34.4361,2,  34.4408,2,     36.5,2,  2.4591,     37.1,2,   152.04,2,    42.32,2,     0.00,2,     3.01,2, -999.000,9, -999.000,9, -999.000,9, -999.000,9, -999.000,9,-999.0000,9,  -999.00,9,   -999.0,9,  -999.00,9,-999.000,9,   -999.0,9,   -999.0,9,  -999.0,-999.0000,-999.000,-999.000,  -999.0,-999.000
   3220CGC92_1,   P13,    30,  1,    116,   1104,2,19920830,0124, 44.4948, 165.0092, 5731,  14996,   1493.0,   2.2455,  34.5055,2,  34.5035,2,     45.1,2,  2.1470,     47.5,2,   159.73,2,    42.44,2,     0.00,2,     3.00,2, -999.000,9, -999.000,9, -999.000,9, -999.000,9, -999.000,9,-999.0000,9,  -999.00,9,   -999.0,9,  -999.00,9,-999.000,9,   -999.0,9,   -999.0,9,  -999.0,-999.0000,-999.000,-999.000,  -999.0,-999.000
   3220CGC92_1,   P13,    30,  1,    115,   1020,2,19920830,0124, 44.4948, 165.0092, 5731,  18023,   1795.0,   2.0525,  34.5603,2,  34.5610,2,     60.1,2,  1.9324,     59.7,2,   163.85,2,    41.65,2,     0.00,2,     2.93,2,    0.009,2,    0.001,2, -999.000,9, -999.000,9, -999.000,9,-999.0000,9,  -999.00,9,   -999.0,9,  -999.00,9,-999.000,9,   -999.0,9,   -999.0,9,  -999.0,-999.0000,-999.000,-999.000,  -999.0,-999.000
   3220CGC92_1,   P13,    30,  1,    114,   1012,2,19920830,0124, 44.4948, 165.0092, 5731,  21012,   2095.0,   1.8815,  34.5968,2,  34.5998,2,     77.6,2,  1.7391,     78.0,2,   164.32,2,    40.54,2,     0.00,2,     2.86,2, -999.000,9, -999.000,9, -999.000,9, -999.000,9, -999.000,9,-999.0000,9,  -999.00,9,   -999.0,9,  -999.00,9,-999.000,9,   -999.0,9,   -999.0,9,  -999.0,-999.0000,-999.000,-999.000,  -999.0,-999.000
   3220CGC92_1,   P13,    30,  1,    113,   1229,2,19920830,0124, 44.4948, 165.0092, 5731,  23976,   2392.0,   1.7506,  34.6233,2,  34.6247,2,     93.9,2,  1.5846,     95.7,2,   163.45,2,    38.97,2,     0.00,2,     2.73,3, -999.000,9, -999.000,9, -999.000,9, -999.000,9, -999.000,9,-999.0000,9,  -999.00,9,   -999.0,9,  -999.00,9,-999.000,9,   -999.0,9,   -999.0,9,  -999.0,-999.0000,-999.000,-999.000,  -999.0,-999.000
   3220CGC92_1,   P13,    30,  1,    112,   1219,2,19920830,0124, 44.4948, 165.0092, 5731,  26975,   2692.0,   1.6506,  34.6430,2,  34.6461,2,    107.9,2,  1.4595,    110.0,2,   160.51,2,    38.72,2,     0.00,2,     2.65,3,    0.147,4,    0.000,2, -999.000,9, -999.000,9, -999.000,9,-999.0000,9,  -999.00,9,   -999.0,9,  -999.00,9,-999.000,9,   -999.0,9,   -999.0,9,  -999.0,-999.0000,-999.000,-999.000,  -999.0,-999.000
   3220CGC92_1,   P13,    30,  1,    111,   1112,2,19920830,0124, 44.4948, 165.0092, 5731,  29980,   2994.0,   1.5846,  34.6556,2,  34.6569,2,   -999.0,9,  1.3666,    124.0,2,   159.36,2,    38.31,2,     0.00,2,     2.74,2, -999.000,9, -999.000,9, -999.000,9, -999.000,9, -999.000,9,-999.0000,9,  -999.00,9,   -999.0,9,  -999.00,9,-999.000,9,   -999.0,9,   -999.0,9,  -999.0,-999.0000,-999.000,-999.000,  -999.0,-999.000
   3220CGC92_1,   P13,    30,  1,    110,   1029,2,19920830,0124, 44.4948, 165.0092, 5731,  32985,   3295.0,   1.5336,  34.6656,2,  34.6665,2,    130.4,2,  1.2874,    133.2,2,   157.64,2,    37.86,2,     0.00,2,     2.70,2, -999.000,9, -999.000,9, -999.000,9, -999.000,9, -999.000,9,-999.0000,9,  -999.00,9,   -999.0,9,  -999.00,9,-999.000,9,   -999.0,9,   -999.0,9,  -999.0,-999.0000,-999.000,-999.000,  -999.0,-999.000
   3220CGC92_1,   P13,    30,  1,    109,   1023,2,19920830,0124, 44.4948, 165.0092, 5731,  35993,   3597.0,   1.5006,  34.6727,2,  34.6738,2,    140.2,2,  1.2245,    140.7,2,   155.56,2,    37.45,2,     0.00,2,     2.67,2, -999.000,9, -999.000,9, -999.000,9, -999.000,9, -999.000,9,-999.0000,9,  -999.00,9,   -999.0,9,  -999.00,9,-999.000,9,   -999.0,9,   -999.0,9,  -999.0,-999.0000,-999.000,-999.000,  -999.0,-999.000
   3220CGC92_1,   P13,    30,  1,    108,   1032,2,19920830,0124, 44.4948, 165.0092, 5731,  38992,   3897.0,   1.4826,  34.6788,2,  34.6768,2,   -999.0,9,  1.1753,    146.8,2,   154.49,2,    36.78,2,     0.00,2,     2.64,2, -999.000,9, -999.000,9, -999.000,9, -999.000,9, -999.000,9,-999.0000,9,  -999.00,9,   -999.0,9,  -999.00,9,-999.000,9,   -999.0,9,   -999.0,9,  -999.0,-999.0000,-999.000,-999.000,  -999.0,-999.000
   3220CGC92_1,   P13,    30,  1,    107,   1037,2,19920830,0124, 44.4948, 165.0092, 5731,  42011,   4200.0,   1.4786,  34.6817,2,  34.6821,2,   -999.0,9,  1.1383,    152.3,2,   153.25,2,    36.35,2,     0.00,2,     2.58,2,   -0.001,2,    0.003,2, -999.000,9, -999.000,9, -999.000,9,-999.0000,9,  -999.00,9,   -999.0,9,  -999.00,9,-999.000,9,   -999.0,9,   -999.0,9,  -999.0,-999.0000,-999.000,-999.000,  -999.0,-999.000
   3220CGC92_1,   P13,    30,  1,    106,   1022,2,19920830,0124, 44.4948, 165.0092, 5731,  44982,   4497.0,   1.4856,  34.6846,2,  34.6842,2,    153.8,2,  1.1114,    155.9,2,   151.80,2,    36.36,2,     0.00,2,     2.62,2, -999.000,9, -999.000,9, -999.000,9, -999.000,9, -999.000,9,-999.0000,9,  -999.00,9,   -999.0,9,  -999.00,9,-999.000,9,   -999.0,9,   -999.0,9,  -999.0,-999.0000,-999.000,-999.000,  -999.0,-999.000
   3220CGC92_1,   P13,    30,  1,    105,   1221,2,19920830,0124, 44.4948, 165.0092, 5731,  47992,   4799.0,   1.5026,  34.6863,2,  34.6862,2,    157.2,2,  1.0924,    157.7,2,   151.23,2,    36.49,2,     0.00,2,     2.62,2,    0.000,2,    0.007,2, -999.000,9, -999.000,9, -999.000,9,-999.0000,9,  -999.00,9,   -999.0,9,  -999.00,9,-999.000,9,   -999.0,9,   -999.0,9,  -999.0,-999.0000,-999.000,-999.000,  -999.0,-999.000
   3220CGC92_1,   P13,    30,  1,    104,   1038,2,19920830,0124, 44.4948, 165.0092, 5731,  50995,   5099.0,   1.5276,  34.6871,2,  34.6874,2,    160.1,2,  1.0803,    159.3,2,   151.57,2,    36.45,2,     0.00,2,     2.62,2, -999.000,9, -999.000,9, -999.000,9, -999.000,9, -999.000,9,-999.0000,9,  -999.00,9,   -999.0,9,  -999.00,9,-999.000,9,   -999.0,9,   -999.0,9,  -999.0,-999.0000,-999.000,-999.000,  -999.0,-999.000
   3220CGC92_1,   P13,    30,  1,    103,   1033,2,19920830,0124, 44.4948, 165.0092, 5731,  53999,   5399.0,   1.5606,  34.6884,2,  34.6887,2,    159.9,2,  1.0746,    160.2,2,   152.64,2,    36.08,2,     0.00,2,     2.55,2, -999.000,9, -999.000,9, -999.000,9, -999.000,9, -999.000,9,-999.0000,9,  -999.00,9,   -999.0,9,  -999.00,9,-999.000,9,   -999.0,9,   -999.0,9,  -999.0,-999.0000,-999.000,-999.000,  -999.0,-999.000
   3220CGC92_1,   P13,    30,  1,    102,   1234,2,19920830,0124, 44.4948, 165.0092, 5731,  56982,   5697.0,   1.5996,  34.6882,2,  34.6886,2,    162.5,2,  1.0739,    160.4,2,   152.55,2,    35.55,2,     0.00,2,     2.51,2, -999.000,9, -999.000,9, -999.000,9, -999.000,9, -999.000,9,-999.0000,9,  -999.00,9,   -999.0,9,  -999.00,9,-999.000,9,   -999.0,9,   -999.0,9,  -999.0,-999.0000,-999.000,-999.000,  -999.0,-999.000
   3220CGC92_1,   P13,    30,  1,    101,   1013,2,19920830,0124, 44.4948, 165.0092, 5731,  59496,   5947.0,   1.6326,  34.6874,2,  34.6890,6,    163.6,2,  1.0726,    160.7,2,   152.29,2,    34.81,3,     0.00,2,     2.48,2,    0.005,2,    0.004,2, -999.000,9, -999.000,9, -999.000,9,-999.0000,9,  -999.00,9,   -999.0,9,  -999.00,9,-999.000,9,   -999.0,9,   -999.0,9,  -999.0,-999.0000,-999.000,-999.000,  -999.0,-999.000