BOTTLE,20221003CCHSIOAMB
EXPOCODE,SECT_ID,STNNBR,CASTNO,SAMPNO,BTLNBR,BTLNBR_FLAG_W,DATE,TIME,LATITUDE,LONGITUDE,DEPTH,CTDRAW,CTDPRS,CTDTMP,CTDSAL,CTDSAL_FLAG_W,SALNTY,SALNTY_FLAG_W,CTDOXY,CTDOXY_FLAG_W,THETA,OXYGEN,OXYGEN_FLAG_W,SILCAT,SILCAT_FLAG_W,NITRAT,NITRAT_FLAG_W,NITRIT,NITRIT_FLAG_W,PHSPHT,PHSPHT_FLAG_W,CFC-11,CFC-11_FLAG_W,CFC-12,CFC-12_FLAG_W,CFC113,CFC113_FLAG_W,CCL4,CCL4_FLAG_W,TRITUM,TRITUM_FLAG_W,HELIUM,HELIUM_FLAG_W,DELHE3,DELHE3_FLAG_W,DELC14,DELC14_FLAG_W,DELC13,DELC13_FLAG_W,NEON,NEON_FLAG_W,TCARBN,TCARBN_FLAG_W,ALKALI,ALKALI_FLAG_W,C14ERR,HELIER,DELHER,NEONER,C13ERR,TRITER
,,,,,,,,,,,,DBAR,DBAR,ITS-90,PSS-78,,PSS-78,,UMOL/KG,,DEG C,UMOL/KG,,UMOL/KG,,UMOL/KG,,UMOL/KG,,UMOL/KG,,PMOL/KG,,PMOL/KG,,PMOL/KG,,PMOL/KG,,TU,,NMOL/KG,,PERCNT,,/MILLE,,/MILLE,,NMOL/KG,,UMOL/KG,,UMOL/KG,,/MILLE,NMOL/KG,PERCNT,NMOL/KG,/MILLE,TU
   3220CGC92_1,   P13,    48,  1,    136,   1106,2,19920906,0646, 35.3602, 165.0112, -999,     93,      6.0,  25.5979,  34.1726,2,  34.2252,2,    216.1,2, 25.5965,    212.2,2,     1.70,2,     0.00,2,     0.00,2,     0.00,2,    2.142,2,    1.095,2, -999.000,9, -999.000,9, -999.000,9,-999.0000,9,  -999.00,9,   -999.0,9,  -999.00,9,-999.000,9,   1955.5,2,   2254.3,2,  -999.0,-999.0000,-999.000,-999.000,  -999.0,-999.000
   3220CGC92_1,   P13,    48,  1,    135,   1013,4,19920906,0646, 35.3602, 165.0112, -999,    249,     22.0,  22.1757,  34.3181,2,-999.0000,9,    248.7,2, 22.1713,   -999.0,9,  -999.00,5,  -999.00,9,  -999.00,9,  -999.00,5, -999.000,9, -999.000,9, -999.000,9, -999.000,9, -999.000,9,-999.0000,9,  -999.00,9,   -999.0,9,  -999.00,9,-999.000,9,   -999.0,9,   -999.0,9,  -999.0,-999.0000,-999.000,-999.000,  -999.0,-999.000
   3220CGC92_1,   P13,    48,  1,    134,   1030,2,19920906,0646, 35.3602, 165.0112, -999,    499,     46.0,  16.9889,  34.5581,2,  34.5046,2,    269.0,2, 16.9814,    270.3,2,     1.58,2,     0.00,2,     0.00,2,     0.00,2,    2.876,2,    1.449,2, -999.000,9, -999.000,9, -999.000,9,-999.0000,9,  -999.00,9,   -999.0,9,  -999.00,9,-999.000,9,   -999.0,9,   -999.0,9,  -999.0,-999.0000,-999.000,-999.000,  -999.0,-999.000
   3220CGC92_1,   P13,    48,  1,    133,   1231,2,19920906,0646, 35.3602, 165.0112, -999,    743,     71.0,  14.4885,  34.5265,2,  34.5272,2,    217.9,2, 14.4781,    207.8,2,    11.60,2,     7.21,2,     0.24,2,     0.48,2,    2.557,2,    1.264,2, -999.000,9, -999.000,9, -999.000,9,-999.0000,9,  -999.00,9,   -999.0,9,  -999.00,9,-999.000,9,   -999.0,9,   -999.0,9,  -999.0,-999.0000,-999.000,-999.000,  -999.0,-999.000
   3220CGC92_1,   P13,    48,  1,    132,   1109,2,19920906,0646, 35.3602, 165.0112, -999,    986,     95.0,  13.6587,  34.4905,2,  34.4766,2,    219.8,2, 13.6453,    220.9,2,    11.97,2,     7.85,2,     0.00,2,     0.53,2,    2.869,2,    1.427,2, -999.000,9, -999.000,9, -999.000,9,-999.0000,9,  -999.00,9,   -999.0,9,  -999.00,9,-999.000,9,   -999.0,9,   -999.0,9,  -999.0,-999.0000,-999.000,-999.000,  -999.0,-999.000
   3220CGC92_1,   P13,    48,  1,    131,   1031,2,19920906,0646, 35.3602, 165.0112, -999,   1241,    120.0,  12.9309,  34.4506,2,  34.4354,2,    224.9,2, 12.9146,    225.0,2,    12.90,2,     8.29,2,     0.00,2,     0.56,2,    2.905,2,    1.447,2, -999.000,9, -999.000,9, -999.000,9,-999.0000,9,  -999.00,9,   -999.0,9,  -999.00,9,-999.000,9,   -999.0,9,   -999.0,9,  -999.0,-999.0000,-999.000,-999.000,  -999.0,-999.000
   3220CGC92_1,   P13,    48,  1,    130,   1041,2,19920906,0646, 35.3602, 165.0112, -999,   1498,    146.0,  12.2231,  34.3985,2,  34.3935,2,    218.1,2, 12.2039,    227.1,2,    14.07,2,     9.20,2,     0.00,2,     0.59,2, -999.000,9, -999.000,9, -999.000,9, -999.000,9, -999.000,9,-999.0000,9,  -999.00,9,   -999.0,9,  -999.00,9,-999.000,9,   -999.0,9,   -999.0,9,  -999.0,-999.0000,-999.000,-999.000,  -999.0,-999.000
   3220CGC92_1,   P13,    48,  1,    129,   1004,2,19920906,0646, 35.3602, 165.0112, -999,   1758,    172.0,  11.6152,  34.3469,2,  34.3392,2,    213.3,2, 11.5934,    219.3,2,    17.26,2,    10.93,2,     0.14,2,     0.71,2,    2.857,2,    1.384,2, -999.000,9, -999.000,9, -999.000,9,-999.0000,9,  -999.00,9,   -999.0,9,  -999.00,9,-999.000,9,   -999.0,9,   -999.0,9,  -999.0,-999.0000,-999.000,-999.000,  -999.0,-999.000
   3220CGC92_1,   P13,    48,  1,    127,   1117,2,19920906,0646, 35.3602, 165.0112, -999,   2002,    196.0,  11.0364,  34.2967,2,  34.2912,2,    210.7,2, 11.0123,    202.8,2,    22.33,2,    14.38,2,     0.00,2,     0.94,2,    2.566,2,    1.250,2, -999.000,9, -999.000,9, -999.000,9,-999.0000,9,  -999.00,9,   -999.0,9,  -999.00,9,-999.000,9,   -999.0,9,   -999.0,9,  -999.0,-999.0000,-999.000,-999.000,  -999.0,-999.000
   3220CGC92_1,   P13,    48,  1,    128,   1016,2,19920906,0646, 35.3602, 165.0112, -999,   2002,    196.0,  11.0364,  34.2967,2,  34.2861,2,    210.7,2, 11.0123,    208.8,2,    21.25,2,    13.37,2,     0.00,2,     0.84,2, -999.000,9, -999.000,9, -999.000,9, -999.000,9, -999.000,9,-999.0000,9,  -999.00,9,   -999.0,9,  -999.00,9,-999.000,9,   -999.0,9,   -999.0,9,  -999.0,-999.0000,-999.000,-999.000,  -999.0,-999.000
   3220CGC92_1,   P13,    48,  1,    126,   1110,2,19920906,0646, 35.3602, 165.0112, -999,   2488,    244.0,   9.6797,  34.1846,2,  34.1811,2,    203.2,2,  9.6522,    194.4,2,    29.18,2,    17.59,2,     0.00,2,     1.16,2, -999.000,9, -999.000,9, -999.000,9, -999.000,9, -999.000,9,-999.0000,9,  -999.00,9,   -999.0,9,  -999.00,9,-999.000,9,   -999.0,9,   -999.0,9,  -999.0,-999.0000,-999.000,-999.000,  -999.0,-999.000
   3220CGC92_1,   P13,    48,  1,    125,   1035,2,19920906,0646, 35.3602, 165.0112, -999,   3012,    296.0,   8.3850,  34.0995,2,  34.0914,2,    191.6,2,  8.3544,    186.8,2,    36.48,2,    20.29,2,     0.00,2,     1.33,2,    2.450,6,    1.155,6, -999.000,9, -999.000,9, -999.000,9,-999.0000,9,  -999.00,9,   -999.0,9,  -999.00,9,-999.000,9,   -999.0,9,   -999.0,9,  -999.0,-999.0000,-999.000,-999.000,  -999.0,-999.000
   3220CGC92_1,   P13,    48,  1,    124,   1026,2,19920906,0646, 35.3602, 165.0112, -999,   3462,    341.0,   7.6412,  34.0588,2,  34.0438,2,    176.4,2,  7.6077,    171.4,2,    45.32,2,    23.01,2,     0.00,2,     1.60,2, -999.000,9, -999.000,9, -999.000,9, -999.000,9, -999.000,9,-999.0000,9,  -999.00,9,   -999.0,9,  -999.00,9,-999.000,9,   -999.0,9,   -999.0,9,  -999.0,-999.0000,-999.000,-999.000,  -999.0,-999.000
   3220CGC92_1,   P13,    48,  1,    123,   1014,2,19920906,0646, 35.3602, 165.0112, -999,   4000,    395.0,   6.5554,  34.0168,2,  34.0099,2,    160.6,2,  6.5198,    154.4,2,    55.81,2,    28.00,2,     0.00,2,     1.97,2, -999.000,9, -999.000,9, -999.000,9, -999.000,9, -999.000,9,-999.0000,9,  -999.00,9,   -999.0,9,  -999.00,9,-999.000,9,   -999.0,9,   -999.0,9,  -999.0,-999.0000,-999.000,-999.000,  -999.0,-999.000
   3220CGC92_1,   P13,    48,  1,    122,   1015,2,19920906,0646, 35.3602, 165.0112, -999,   5006,    495.0,   4.8128,  33.9933,2,  33.9857,2,    133.6,2,  4.7746,    123.9,2,    76.46,2,    33.25,2,     0.00,2,     2.41,2,    1.711,2,    0.788,2, -999.000,9, -999.000,9, -999.000,9,-999.0000,9,  -999.00,9,   -999.0,9,  -999.00,9,-999.000,9,   -999.0,9,   -999.0,9,  -999.0,-999.0000,-999.000,-999.000,  -999.0,-999.000
   3220CGC92_1,   P13,    48,  1,    121,   1235,2,19920906,0646, 35.3602, 165.0112, -999,   5975,    592.0,   4.5369,  34.1077,2,  34.1092,2,     88.0,2,  4.4919,     83.8,2,    92.52,2,    36.83,2,     0.00,2,     2.68,2, -999.000,9, -999.000,9, -999.000,9, -999.000,9, -999.000,9,-999.0000,9,  -999.00,9,   -999.0,9,  -999.00,9,-999.000,9,   -999.0,9,   -999.0,9,  -999.0,-999.0000,-999.000,-999.000,  -999.0,-999.000
   3220CGC92_1,   P13,    48,  1,    120,   1237,2,19920906,0646, 35.3602, 165.0112, -999,   6998,    694.0,   4.1550,  34.1962,2,  34.2037,2,     63.7,2,  4.1036,     59.0,2,   107.26,2,    39.77,2,     0.00,2,     2.85,2, -999.000,9, -999.000,9, -999.000,9, -999.000,9, -999.000,9,-999.0000,9,  -999.00,9,   -999.0,9,  -999.00,9,-999.000,9,   -999.0,9,   -999.0,9,  -999.0,-999.0000,-999.000,-999.000,  -999.0,-999.000
   3220CGC92_1,   P13,    48,  1,    119,   1025,2,19920906,0646, 35.3602, 165.0112, -999,   7953,    789.0,   3.7581,  34.2616,2,  34.2696,2,     50.3,2,  3.7015,     45.7,2,   119.43,2,    40.84,2,     0.00,2,     2.96,2,    0.181,6,    0.089,6, -999.000,9, -999.000,9, -999.000,9,-999.0000,9,  -999.00,9,   -999.0,9,  -999.00,9,-999.000,9,   -999.0,9,   -999.0,9,  -999.0,-999.0000,-999.000,-999.000,  -999.0,-999.000
   3220CGC92_1,   P13,    48,  1,    118,   1118,2,19920906,0646, 35.3602, 165.0112, -999,   8994,    893.0,   3.3982,  34.3278,2,  34.3249,6,     42.3,2,  3.3358,     39.2,6,   129.36,2,    41.28,2,     0.00,2,     2.96,2, -999.000,9, -999.000,9, -999.000,9, -999.000,9, -999.000,9,-999.0000,9,  -999.00,9,   -999.0,9,  -999.00,9,-999.000,9,   -999.0,9,   -999.0,9,  -999.0,-999.0000,-999.000,-999.000,  -999.0,-999.000
   3220CGC92_1,   P13,    48,  1,    117,   1005,2,19920906,0646, 35.3602, 165.0112, -999,   9995,    993.0,   3.1502,  34.3722,2,  34.3819,2,     39.7,2,  3.0819,     44.7,4,   135.92,2,    41.13,2,     0.00,2,     2.96,2, -999.000,9, -999.000,9, -999.000,9, -999.000,9, -999.000,9,-999.0000,9,  -999.00,9,   -999.0,9,  -999.00,9,-999.000,9,   -999.0,9,   -999.0,9,  -999.0,-999.0000,-999.000,-999.000,  -999.0,-999.000
   3220CGC92_1,   P13,    48,  1,    116,   1104,2,19920906,0646, 35.3602, 165.0112, -999,  11006,   1094.0,   2.9583,  34.4152,2,  34.4133,2,     44.2,2,  2.8837,     37.8,2,   142.78,2,    40.83,2,     0.00,2,     3.03,2,    0.038,2,    0.009,3, -999.000,9, -999.000,9, -999.000,9,-999.0000,9,  -999.00,9,   -999.0,9,  -999.00,9,-999.000,9,   -999.0,9,   -999.0,9,  -999.0,-999.0000,-999.000,-999.000,  -999.0,-999.000
   3220CGC92_1,   P13,    48,  1,    115,   1020,2,19920906,0646, 35.3602, 165.0112, -999,  12003,   1193.0,   2.7383,  34.4442,2,  34.4447,2,     39.0,2,  2.6581,     40.0,2,   148.12,2,    41.28,2,     0.00,2,     3.02,2, -999.000,9, -999.000,9, -999.000,9, -999.000,9, -999.000,9,-999.0000,9,  -999.00,9,   -999.0,9,  -999.00,9,-999.000,9,   -999.0,9,   -999.0,9,  -999.0,-999.0000,-999.000,-999.000,  -999.0,-999.000
   3220CGC92_1,   P13,    48,  1,    114,   1012,2,19920906,0646, 35.3602, 165.0112, -999,  14013,   1394.0,   2.4574,  34.4982,2,  34.5001,2,     40.1,2,  2.3643,     40.4,2,   158.11,2,    41.13,2,     0.00,2,     3.00,2, -999.000,9, -999.000,9, -999.000,9, -999.000,9, -999.000,9,-999.0000,9,  -999.00,9,   -999.0,9,  -999.00,9,-999.000,9,   -999.0,9,   -999.0,9,  -999.0,-999.0000,-999.000,-999.000,  -999.0,-999.000
   3220CGC92_1,   P13,    48,  1,    113,   1229,2,19920906,0646, 35.3602, 165.0112, -999,  16016,   1595.0,   2.2065,  34.5434,2,  34.5442,2,     50.6,2,  2.1004,     50.3,2,   163.25,2,    41.72,2,     0.00,2,     2.92,2, -999.000,9, -999.000,9, -999.000,9, -999.000,9, -999.000,9,-999.0000,9,  -999.00,9,   -999.0,9,  -999.00,9,-999.000,9,   -999.0,9,   -999.0,9,  -999.0,-999.0000,-999.000,-999.000,  -999.0,-999.000
   3220CGC92_1,   P13,    48,  1,    112,   1219,2,19920906,0646, 35.3602, 165.0112, -999,  18010,   1794.0,   2.0495,  34.5752,2,  34.5775,2,     61.4,2,  1.9295,     63.3,2,   165.95,2,    41.23,2,     0.00,2,     2.88,2,    0.000,2,   -0.001,2, -999.000,9, -999.000,9, -999.000,9,-999.0000,9,  -999.00,9,   -999.0,9,  -999.00,9,-999.000,9,   -999.0,9,   -999.0,9,  -999.0,-999.0000,-999.000,-999.000,  -999.0,-999.000
   3220CGC92_1,   P13,    48,  1,    111,   1112,2,19920906,0646, 35.3602, 165.0112, -999,  20003,   1994.0,   1.9105,  34.6008,2,  34.6012,2,     74.6,2,  1.7760,     76.8,2,   165.61,2,    40.66,2,     0.00,2,     2.87,2, -999.000,9, -999.000,9, -999.000,9, -999.000,9, -999.000,9,-999.0000,9,  -999.00,9,   -999.0,9,  -999.00,9,-999.000,9,   -999.0,9,   -999.0,9,  -999.0,-999.0000,-999.000,-999.000,  -999.0,-999.000
   3220CGC92_1,   P13,    48,  1,    110,   1029,2,19920906,0646, 35.3602, 165.0112, -999,  22023,   2196.0,   1.8046,  34.6187,2,  34.6193,2,     85.8,2,  1.6547,     89.7,2,   165.15,2,    40.15,2,     0.00,2,     2.81,2, -999.000,9, -999.000,9, -999.000,9, -999.000,9, -999.000,9,-999.0000,9,  -999.00,9,   -999.0,9,  -999.00,9,-999.000,9,   -999.0,9,   -999.0,9,  -999.0,-999.0000,-999.000,-999.000,  -999.0,-999.000
   3220CGC92_1,   P13,    48,  1,    109,   1023,2,19920906,0646, 35.3602, 165.0112, -999,  24018,   2396.0,   1.7036,  34.6347,2,  34.6350,2,     97.6,2,  1.5381,    100.1,2,   164.87,2,    39.98,2,     0.00,2,     2.79,2, -999.000,9, -999.000,9, -999.000,9, -999.000,9, -999.000,9,-999.0000,9,  -999.00,9,   -999.0,9,  -999.00,9,-999.000,9,   -999.0,9,   -999.0,9,  -999.0,-999.0000,-999.000,-999.000,  -999.0,-999.000
   3220CGC92_1,   P13,    48,  1,    108,   1032,2,19920906,0646, 35.3602, 165.0112, -999,  27018,   2697.0,   1.6066,  34.6506,2,  34.6510,2,    110.9,2,  1.4159,    114.1,2,   162.51,2,    39.14,2,     0.00,2,     2.73,2,   -0.005,2,   -0.002,2, -999.000,9, -999.000,9, -999.000,9,-999.0000,9,  -999.00,9,   -999.0,9,  -999.00,9,-999.000,9,   -999.0,9,   -999.0,9,  -999.0,-999.0000,-999.000,-999.000,  -999.0,-999.000
   3220CGC92_1,   P13,    48,  1,    107,   1037,2,19920906,0646, 35.3602, 165.0112, -999,  29991,   2995.0,   1.5456,  34.6622,2,  34.6628,2,    120.4,2,  1.3283,    124.7,2,   160.58,2,    38.09,2,     0.00,2,     2.66,2, -999.000,9, -999.000,9, -999.000,9, -999.000,9, -999.000,9,-999.0000,9,  -999.00,9,   -999.0,9,  -999.00,9,-999.000,9,   -999.0,9,   -999.0,9,  -999.0,-999.0000,-999.000,-999.000,  -999.0,-999.000
   3220CGC92_1,   P13,    48,  1,    106,   1022,2,19920906,0646, 35.3602, 165.0112, -999,  32983,   3295.0,   1.5046,  34.6719,2,  34.6709,2,   -999.0,9,  1.2590,    133.9,2,   158.65,2,    37.55,2,     0.00,2,     2.60,2, -999.000,9, -999.000,9, -999.000,9, -999.000,9, -999.000,9,-999.0000,9,  -999.00,9,   -999.0,9,  -999.00,9,-999.000,9,   -999.0,9,   -999.0,9,  -999.0,-999.0000,-999.000,-999.000,  -999.0,-999.000
   3220CGC92_1,   P13,    48,  1,    105,   1221,2,19920906,0646, 35.3602, 165.0112, -999,  36008,   3598.0,   1.4836,  34.6768,2,  34.6763,2,    134.8,2,  1.2078,    140.6,2,   157.19,2,    37.16,2,     0.00,2,     2.57,2, -999.000,9, -999.000,9, -999.000,9, -999.000,9, -999.000,9,-999.0000,9,  -999.00,9,   -999.0,9,  -999.00,9,-999.000,9,   -999.0,9,   -999.0,9,  -999.0,-999.0000,-999.000,-999.000,  -999.0,-999.000
   3220CGC92_1,   P13,    48,  1,    104,   1038,2,19920906,0646, 35.3602, 165.0112, -999,  39012,   3899.0,   1.4696,  34.6819,2,  34.6788,2,   -999.0,9,  1.1625,    146.9,2,   154.95,2,    36.92,2,     0.00,2,     2.52,2,   -0.001,2,    0.002,2, -999.000,9, -999.000,9, -999.000,9,-999.0000,9,  -999.00,9,   -999.0,9,  -999.00,9,-999.000,9,   -999.0,9,   -999.0,9,  -999.0,-999.0000,-999.000,-999.000,  -999.0,-999.000
   3220CGC92_1,   P13,    48,  1,    103,   1033,2,19920906,0646, 35.3602, 165.0112, -999,  42011,   4200.0,   1.4696,  34.6850,2,  34.6851,2,   -999.0,9,  1.1295,    152.5,2,   151.73,2,    36.60,2,     0.00,2,     2.51,2, -999.000,9, -999.000,9, -999.000,9, -999.000,9, -999.000,9,-999.0000,9,  -999.00,9,   -999.0,9,  -999.00,9,-999.000,9,   -999.0,9,   -999.0,9,  -999.0,-999.0000,-999.000,-999.000,  -999.0,-999.000
   3220CGC92_1,   P13,    48,  1,    102,   1234,2,19920906,0646, 35.3602, 165.0112, -999,  45010,   4500.0,   1.4776,  34.6867,2,  34.6868,2,    152.6,2,  1.1033,    154.7,2,   150.84,2,    36.05,2,     0.00,2,     2.47,2, -999.000,9, -999.000,9, -999.000,9, -999.000,9, -999.000,9,-999.0000,9,  -999.00,9,   -999.0,9,  -999.00,9,-999.000,9,   -999.0,9,   -999.0,9,  -999.0,-999.0000,-999.000,-999.000,  -999.0,-999.000
   3220CGC92_1,   P13,    48,  1,    101,   1238,2,19920906,0646, 35.3602, 165.0112, -999,  47097,   4709.0,   1.4816,  34.6902,2,  34.6881,6,    155.5,2,  1.0828,    158.7,2,   149.19,2,    36.33,2,     0.00,2,     2.48,2,    0.000,2,   -0.018,2, -999.000,9, -999.000,9, -999.000,9,-999.0000,9,  -999.00,9,   -999.0,9,  -999.00,9,-999.000,9,   -999.0,9,   -999.0,9,  -999.0,-999.0000,-999.000,-999.000,  -999.0,-999.000