BOTTLE,20221003CCHSIOAMB
EXPOCODE,SECT_ID,STNNBR,CASTNO,SAMPNO,BTLNBR,BTLNBR_FLAG_W,DATE,TIME,LATITUDE,LONGITUDE,DEPTH,CTDRAW,CTDPRS,CTDTMP,CTDSAL,CTDSAL_FLAG_W,SALNTY,SALNTY_FLAG_W,CTDOXY,CTDOXY_FLAG_W,THETA,OXYGEN,OXYGEN_FLAG_W,SILCAT,SILCAT_FLAG_W,NITRAT,NITRAT_FLAG_W,NITRIT,NITRIT_FLAG_W,PHSPHT,PHSPHT_FLAG_W,CFC-11,CFC-11_FLAG_W,CFC-12,CFC-12_FLAG_W,CFC113,CFC113_FLAG_W,CCL4,CCL4_FLAG_W,TRITUM,TRITUM_FLAG_W,HELIUM,HELIUM_FLAG_W,DELHE3,DELHE3_FLAG_W,DELC14,DELC14_FLAG_W,DELC13,DELC13_FLAG_W,NEON,NEON_FLAG_W,TCARBN,TCARBN_FLAG_W,ALKALI,ALKALI_FLAG_W,C14ERR,HELIER,DELHER,NEONER,C13ERR,TRITER
,,,,,,,,,,,,DBAR,DBAR,ITS-90,PSS-78,,PSS-78,,UMOL/KG,,DEG C,UMOL/KG,,UMOL/KG,,UMOL/KG,,UMOL/KG,,UMOL/KG,,PMOL/KG,,PMOL/KG,,PMOL/KG,,PMOL/KG,,TU,,NMOL/KG,,PERCNT,,/MILLE,,/MILLE,,NMOL/KG,,UMOL/KG,,UMOL/KG,,/MILLE,NMOL/KG,PERCNT,NMOL/KG,/MILLE,TU
   3220CGC92_1,   P13,    22,  1,    136,   1106,2,19920826,1627, 48.4985, 165.0167, 5691,    101,      7.0,  10.6804,  32.8552,2,  32.8525,2,    292.3,2, 10.6796,    285.7,2,    27.51,2,    12.70,2,     0.07,2,     1.17,2,    4.059,4,    2.027,2,    0.388,2,    6.272,2, -999.000,9,-999.0000,9,  -999.00,9,   -999.0,9,  -999.00,9,-999.000,9,   2032.0,2,   2231.2,2,  -999.0,-999.0000,-999.000,-999.000,  -999.0,-999.000
   3220CGC92_1,   P13,    22,  1,    135,   1033,2,19920826,1627, 48.4985, 165.0167, 5691,    242,     21.0,  10.0766,  32.8541,2,  32.8728,2,    284.9,2, 10.0742,    289.0,2,    28.95,2,    13.08,2,     0.08,2,     1.20,2,    4.190,4,    2.110,2, -999.000,9, -999.000,9, -999.000,9,-999.0000,9,  -999.00,9,   -999.0,9,  -999.00,9,-999.000,9,   -999.0,9,   -999.0,9,  -999.0,-999.0000,-999.000,-999.000,  -999.0,-999.000
   3220CGC92_1,   P13,    22,  1,    134,   1109,2,19920826,1627, 48.4985, 165.0167, 5691,    495,     46.0,   3.2652,  33.0377,2,  33.0552,2,    353.4,2,  3.2625,    330.2,2,    35.68,2,    18.70,2,     0.22,2,     1.61,2,    6.016,4,    2.826,2, -999.000,9, -999.000,9, -999.000,9,-999.0000,9,  -999.00,9,   -999.0,9,  -999.00,9,-999.000,9,   -999.0,9,   -999.0,9,  -999.0,-999.0000,-999.000,-999.000,  -999.0,-999.000
   3220CGC92_1,   P13,    22,  1,    133,   1031,2,19920826,1627, 48.4985, 165.0167, 5691,    696,     66.0,   2.0415,  33.0576,2,  33.0686,2,    337.3,2,  2.0382,    328.7,2,    39.14,2,    21.56,2,     0.77,2,     1.80,2,    6.526,4,    3.043,2, -999.000,9, -999.000,9, -999.000,9,-999.0000,9,  -999.00,9,   -999.0,9,  -999.00,9,-999.000,9,   -999.0,9,   -999.0,9,  -999.0,-999.0000,-999.000,-999.000,  -999.0,-999.000
   3220CGC92_1,   P13,    22,  1,    132,   1008,2,19920826,1627, 48.4985, 165.0167, 5691,    993,     96.0,   1.6286,  33.0968,2,  33.1215,2,    324.9,2,  1.6241,    318.6,2,    43.02,2,    25.05,2,     0.00,2,     1.92,2,    6.216,4,    2.914,2, -999.000,9, -999.000,9, -999.000,9,-999.0000,9,  -999.00,9,   -999.0,9,  -999.00,9,-999.000,9,   -999.0,9,   -999.0,9,  -999.0,-999.0000,-999.000,-999.000,  -999.0,-999.000
   3220CGC92_1,   P13,    22,  1,    131,   1030,2,19920826,1627, 48.4985, 165.0167, 5691,   1243,    120.0,   1.6656,  33.2551,2,  33.3070,2,    327.3,2,  1.6599,    264.5,2,    56.82,2,    29.91,2,     0.00,2,     2.22,2, -999.000,9, -999.000,9, -999.000,9, -999.000,9, -999.000,9,-999.0000,9,  -999.00,9,   -999.0,9,  -999.00,9,-999.000,9,   -999.0,9,   -999.0,9,  -999.0,-999.0000,-999.000,-999.000,  -999.0,-999.000
   3220CGC92_1,   P13,    22,  1,    130,   1032,2,19920826,1627, 48.4985, 165.0167, 5691,   1475,    144.0,   2.5184,  33.5281,2,  33.5727,2,    172.0,2,  2.5104,    146.5,2,    78.25,2,    37.34,2,     0.00,2,     2.69,2,    3.282,4,    1.551,2, -999.000,9, -999.000,9, -999.000,9,-999.0000,9,  -999.00,9,   -999.0,9,  -999.00,9,-999.000,9,   -999.0,9,   -999.0,9,  -999.0,-999.0000,-999.000,-999.000,  -999.0,-999.000
   3220CGC92_1,   P13,    22,  1,    129,   1004,2,19920826,1627, 48.4985, 165.0167, 5691,   1993,    195.0,   3.4072,  33.8413,2,  33.8013,2,     85.3,2,  3.3948,     62.0,2,  -999.00,5,  -999.00,9,  -999.00,9,  -999.00,5,    1.919,4,    0.863,2, -999.000,9, -999.000,9, -999.000,9,-999.0000,9,  -999.00,9,   -999.0,9,  -999.00,9,-999.000,9,   -999.0,9,   -999.0,9,  -999.0,-999.0000,-999.000,-999.000,  -999.0,-999.000
   3220CGC92_1,   P13,    22,  1,    127,   1117,2,19920826,1627, 48.4985, 165.0167, 5691,   2488,    244.0,   3.5392,  33.9528,2,  33.9344,2,     40.7,2,  3.5232,     29.5,2,   100.93,2,    43.79,2,     0.00,2,     3.10,2, -999.000,9, -999.000,9, -999.000,9, -999.000,9, -999.000,9,-999.0000,9,  -999.00,9,   -999.0,9,  -999.00,9,-999.000,9,   -999.0,9,   -999.0,9,  -999.0,-999.0000,-999.000,-999.000,  -999.0,-999.000
   3220CGC92_1,   P13,    22,  1,    126,   1110,2,19920826,1627, 48.4985, 165.0167, 5691,   2997,    295.0,   3.2782,  33.9947,2,  33.9870,2,     30.5,2,  3.2594,     30.8,2,   109.00,2,    43.97,2,     0.00,2,     3.11,2,    1.012,4,    0.444,2, -999.000,9, -999.000,9, -999.000,9,-999.0000,9,  -999.00,9,   -999.0,9,  -999.00,9,-999.000,9,   -999.0,9,   -999.0,9,  -999.0,-999.0000,-999.000,-999.000,  -999.0,-999.000
   3220CGC92_1,   P13,    22,  1,    125,   1035,2,19920826,1627, 48.4985, 165.0167, 5691,   3500,    345.0,   3.4602,  34.0859,2,  34.0774,2,   -999.0,9,  3.4375,     20.1,2,   113.28,2,    43.52,3,     0.00,2,     3.02,2, -999.000,9, -999.000,9, -999.000,9, -999.000,9, -999.000,9,-999.0000,9,  -999.00,9,   -999.0,9,  -999.00,9,-999.000,9,   -999.0,9,   -999.0,9,  -999.0,-999.0000,-999.000,-999.000,  -999.0,-999.000
   3220CGC92_1,   P13,    22,  1,    124,   1026,2,19920826,1627, 48.4985, 165.0167, 5691,   3997,    395.0,   3.3802,  34.1310,2,  34.1247,2,     22.3,2,  3.3543,     20.4,2,   118.67,2,    43.60,3,     0.00,2,     3.09,2,    0.410,4,    0.199,6, -999.000,9, -999.000,9, -999.000,9,-999.0000,9,  -999.00,9,   -999.0,9,  -999.00,9,-999.000,9,   -999.0,9,   -999.0,9,  -999.0,-999.0000,-999.000,-999.000,  -999.0,-999.000
   3220CGC92_1,   P13,    22,  1,    123,   1014,2,19920826,1627, 48.4985, 165.0167, 5691,   5004,    495.0,   3.3312,  34.2087,2,  34.2046,2,     18.7,2,  3.2985,     17.8,2,   125.60,2,    44.05,2,     0.00,2,     3.20,2, -999.000,9, -999.000,9, -999.000,9, -999.000,9, -999.000,9,-999.0000,9,  -999.00,9,   -999.0,9,  -999.00,9,-999.000,9,   -999.0,9,   -999.0,9,  -999.0,-999.0000,-999.000,-999.000,  -999.0,-999.000
   3220CGC92_1,   P13,    22,  1,    122,   1015,2,19920826,1627, 48.4985, 165.0167, 5691,   6005,    595.0,   3.1442,  34.2618,2,  34.2572,2,     15.6,2,  3.1053,     17.1,2,   132.95,2,    44.38,2,     0.00,2,     3.25,2,    0.161,4,    0.080,2, -999.000,9, -999.000,9, -999.000,9,-999.0000,9,  -999.00,9,   -999.0,9,  -999.00,9,-999.000,9,   -999.0,9,   -999.0,9,  -999.0,-999.0000,-999.000,-999.000,  -999.0,-999.000
   3220CGC92_1,   P13,    22,  1,    121,   1235,2,19920826,1627, 48.4985, 165.0167, 5691,   6997,    694.0,   2.9833,  34.3127,2,  34.3108,2,     17.0,2,  2.9382,     17.0,2,   140.51,2,    44.64,2,     0.00,2,     3.24,2, -999.000,9, -999.000,9, -999.000,9, -999.000,9, -999.000,9,-999.0000,9,  -999.00,9,   -999.0,9,  -999.00,9,-999.000,9,   -999.0,9,   -999.0,9,  -999.0,-999.0000,-999.000,-999.000,  -999.0,-999.000
   3220CGC92_1,   P13,    22,  1,    120,   1237,2,19920826,1627, 48.4985, 165.0167, 5691,   8002,    794.0,   2.8523,  34.3535,2,  34.3536,2,     18.9,2,  2.8008,     18.5,2,   145.59,2,    44.46,2,     0.00,2,     3.21,2,    0.064,4,    0.031,2, -999.000,9, -999.000,9, -999.000,9,-999.0000,9,  -999.00,9,   -999.0,9,  -999.00,9,-999.000,9,   -999.0,9,   -999.0,9,  -999.0,-999.0000,-999.000,-999.000,  -999.0,-999.000
   3220CGC92_1,   P13,    22,  1,    119,   1025,2,19920826,1627, 48.4985, 165.0167, 5691,   8995,    893.0,   2.7083,  34.3883,2,  34.3851,2,     19.4,2,  2.6507,     19.4,2,   150.07,2,    44.06,2,     0.00,2,     3.20,2, -999.000,9, -999.000,9, -999.000,9, -999.000,9, -999.000,9,-999.0000,9,  -999.00,9,   -999.0,9,  -999.00,9,-999.000,9,   -999.0,9,   -999.0,9,  -999.0,-999.0000,-999.000,-999.000,  -999.0,-999.000
   3220CGC92_1,   P13,    22,  1,    118,   1002,2,19920826,1627, 48.4985, 165.0167, 5691,   9991,    992.0,   2.5804,  34.4211,2,  34.4164,2,     21.2,2,  2.5165,     21.6,2,   154.03,2,    43.82,2,     0.00,2,     3.16,2,    0.024,4,    0.007,2, -999.000,9, -999.000,9, -999.000,9,-999.0000,9,  -999.00,9,   -999.0,9,  -999.00,9,-999.000,9,   -999.0,9,   -999.0,9,  -999.0,-999.0000,-999.000,-999.000,  -999.0,-999.000
   3220CGC92_1,   P13,    22,  1,    117,   1005,2,19920826,1627, 48.4985, 165.0167, 5691,  11994,   1192.0,   2.3544,  34.4741,2,  34.4781,2,     30.1,2,  2.2778,     30.8,2,   161.76,2,    43.63,2,     0.00,2,     3.10,2, -999.000,9, -999.000,9, -999.000,9, -999.000,9, -999.000,9,-999.0000,9,  -999.00,9,   -999.0,9,  -999.00,9,-999.000,9,   -999.0,9,   -999.0,9,  -999.0,-999.0000,-999.000,-999.000,  -999.0,-999.000
   3220CGC92_1,   P13,    22,  1,    116,   1104,2,19920826,1627, 48.4985, 165.0167, 5691,  15000,   1493.0,   2.0925,  34.5372,2,  34.5385,2,     46.2,2,  1.9958,     46.6,2,   167.80,2,    42.79,2,     0.00,2,     3.06,2,    0.214,4,   -0.001,2, -999.000,9, -999.000,9, -999.000,9,-999.0000,9,  -999.00,9,   -999.0,9,  -999.00,9,-999.000,9,   -999.0,9,   -999.0,9,  -999.0,-999.0000,-999.000,-999.000,  -999.0,-999.000
   3220CGC92_1,   P13,    22,  1,    115,   1020,2,19920826,1627, 48.4985, 165.0167, 5691,  18008,   1794.0,   1.9175,  34.5830,2,  34.5852,2,     68.5,2,  1.7993,     65.3,2,   168.00,2,    41.48,2,     0.00,2,     2.95,2, -999.000,9, -999.000,9, -999.000,9, -999.000,9, -999.000,9,-999.0000,9,  -999.00,9,   -999.0,9,  -999.00,9,-999.000,9,   -999.0,9,   -999.0,9,  -999.0,-999.0000,-999.000,-999.000,  -999.0,-999.000
   3220CGC92_1,   P13,    22,  1,    114,   1120,2,19920826,1627, 48.4985, 165.0167, 5691,  20991,   2093.0,   1.7816,  34.6108,2,  34.6134,2,   -999.0,9,  1.6408,     83.1,2,   167.09,2,    40.28,2,     0.00,2,     2.86,2, -999.000,9, -999.000,9, -999.000,9, -999.000,9, -999.000,9,-999.0000,9,  -999.00,9,   -999.0,9,  -999.00,9,-999.000,9,   -999.0,9,   -999.0,9,  -999.0,-999.0000,-999.000,-999.000,  -999.0,-999.000
   3220CGC92_1,   P13,    22,  1,    113,   1112,2,19920826,1627, 48.4985, 165.0167, 5691,  24001,   2394.0,   1.6726,  34.6341,2,  34.6349,2,    100.7,2,  1.5078,     99.7,2,   163.80,2,    39.33,2,     0.00,2,     2.68,3,    0.026,4,   -0.002,2, -999.000,9, -999.000,9, -999.000,9,-999.0000,9,  -999.00,9,   -999.0,9,  -999.00,9,-999.000,9,   -999.0,9,   -999.0,9,  -999.0,-999.0000,-999.000,-999.000,  -999.0,-999.000
   3220CGC92_1,   P13,    22,  1,    112,   1234,2,19920826,1627, 48.4985, 165.0167, 5691,  27000,   2695.0,   1.5836,  34.6513,2,  34.6517,2,   -999.0,9,  1.3936,    115.6,2,   160.18,2,    38.19,2,     0.00,2,     2.64,3, -999.000,9, -999.000,9, -999.000,9, -999.000,9, -999.000,9,-999.0000,9,  -999.00,9,   -999.0,9,  -999.00,9,-999.000,9,   -999.0,9,   -999.0,9,  -999.0,-999.0000,-999.000,-999.000,  -999.0,-999.000
   3220CGC92_1,   P13,    22,  1,    111,   1221,2,19920826,1627, 48.4985, 165.0167, 5691,  30005,   2996.0,   1.5276,  34.6624,2,  34.6618,2,    129.6,2,  1.3106,    126.2,2,   157.48,2,    38.06,2,     0.00,2,     2.74,2, -999.000,9, -999.000,9, -999.000,9, -999.000,9, -999.000,9,-999.0000,9,  -999.00,9,   -999.0,9,  -999.00,9,-999.000,9,   -999.0,9,   -999.0,9,  -999.0,-999.0000,-999.000,-999.000,  -999.0,-999.000
   3220CGC92_1,   P13,    22,  1,    110,   1012,2,19920826,1627, 48.4985, 165.0167, 5691,  33005,   3297.0,   1.4946,  34.6692,2,  34.6684,2,    137.3,2,  1.2491,    134.3,2,   155.52,2,    37.48,2,     0.00,2,     2.66,2,    0.026,4,    0.006,2, -999.000,9, -999.000,9, -999.000,9,-999.0000,9,  -999.00,9,   -999.0,9,  -999.00,9,-999.000,9,   -999.0,9,   -999.0,9,  -999.0,-999.0000,-999.000,-999.000,  -999.0,-999.000
   3220CGC92_1,   P13,    22,  1,    109,   1041,2,19920826,1627, 48.4985, 165.0167, 5691,  36003,   3598.0,   1.4726,  34.6761,2,  34.6743,2,    142.1,2,  1.1971,    141.1,2,   153.52,2,    37.51,2,     0.00,2,     2.62,2,    0.013,4,    0.002,2, -999.000,9, -999.000,9, -999.000,9,-999.0000,9,  -999.00,9,   -999.0,9,  -999.00,9,-999.000,9,   -999.0,9,   -999.0,9,  -999.0,-999.0000,-999.000,-999.000,  -999.0,-999.000
   3220CGC92_1,   P13,    22,  1,    108,   1003,2,19920826,1627, 48.4985, 165.0167, 5691,  39003,   3898.0,   1.4666,  34.6794,2,  34.6785,2,   -999.0,9,  1.1597,    145.7,2,   152.48,2,    37.31,2,     0.00,2,     2.63,2,   -0.003,4,    0.001,2, -999.000,9, -999.000,9, -999.000,9,-999.0000,9,  -999.00,9,   -999.0,9,  -999.00,9,-999.000,9,   -999.0,9,   -999.0,9,  -999.0,-999.0000,-999.000,-999.000,  -999.0,-999.000
   3220CGC92_1,   P13,    22,  1,    107,   1013,2,19920826,1627, 48.4985, 165.0167, 5691,  42009,   4200.0,   1.4716,  34.6817,2,  34.6817,2,    150.9,2,  1.1315,    149.4,2,   151.75,2,    36.93,2,     0.00,2,     2.61,2,   -0.004,4,    0.008,2,    0.057,2,   -0.002,2, -999.000,9,-999.0000,9,  -999.00,9,   -999.0,9,  -999.00,9,-999.000,9,   -999.0,9,   -999.0,9,  -999.0,-999.0000,-999.000,-999.000,  -999.0,-999.000
   3220CGC92_1,   P13,    22,  1,    106,   1036,2,19920826,1627, 48.4985, 165.0167, 5691,  44999,   4499.0,   1.4846,  34.6848,2,  34.6832,2,    156.5,2,  1.1102,    152.4,2,   151.06,2,    36.61,2,     0.00,2,     2.58,2,    0.020,4,    0.008,2, -999.000,9, -999.000,9, -999.000,9,-999.0000,9,  -999.00,9,   -999.0,9,  -999.00,9,-999.000,9,   -999.0,9,   -999.0,9,  -999.0,-999.0000,-999.000,-999.000,  -999.0,-999.000
   3220CGC92_1,   P13,    22,  1,    105,   1037,2,19920826,1627, 48.4985, 165.0167, 5691,  47996,   4799.0,   1.5046,  34.6866,2,  34.6866,2,    156.9,2,  1.0944,    154.5,2,   150.96,2,    36.21,2,     0.00,2,     2.58,2, -999.000,9, -999.000,9, -999.000,9, -999.000,9, -999.000,9,-999.0000,9,  -999.00,9,   -999.0,9,  -999.00,9,-999.000,9,   -999.0,9,   -999.0,9,  -999.0,-999.0000,-999.000,-999.000,  -999.0,-999.000
   3220CGC92_1,   P13,    22,  1,    104,   1029,2,19920826,1627, 48.4985, 165.0167, 5691,  50999,   5099.0,   1.5306,  34.6875,2,  34.6881,2,    159.3,2,  1.0832,    155.9,2,   151.29,2,    36.29,2,     0.00,2,     2.52,2, -999.000,9, -999.000,9, -999.000,9, -999.000,9, -999.000,9,-999.0000,9,  -999.00,9,   -999.0,9,  -999.00,9,-999.000,9,   -999.0,9,   -999.0,9,  -999.0,-999.0000,-999.000,-999.000,  -999.0,-999.000
   3220CGC92_1,   P13,    22,  1,    103,   1023,3,19920826,1627, 48.4985, 165.0167, 5691,  53997,   5399.0,   1.5616,  34.6873,2,  34.6809,4,    159.8,2,  1.0756,    156.6,2,   151.70,2,    36.37,2,     0.00,2,     2.56,2, -999.000,9, -999.000,9, -999.000,9, -999.000,9, -999.000,9,-999.0000,9,  -999.00,9,   -999.0,9,  -999.00,9,-999.000,9,   -999.0,9,   -999.0,9,  -999.0,-999.0000,-999.000,-999.000,  -999.0,-999.000
   3220CGC92_1,   P13,    22,  1,    102,   2001,2,19920826,1627, 48.4985, 165.0167, 5691,  56996,   5698.0,   1.6006,  34.6880,2,  34.6908,6,    161.4,2,  1.0747,    157.4,2,   152.45,2,    36.04,2,     0.00,2,     2.51,2,   -0.003,4,    0.023,4, -999.000,9, -999.000,9, -999.000,9,-999.0000,9,  -999.00,9,   -999.0,9,  -999.00,9,-999.000,9,   -999.0,9,   -999.0,9,  -999.0,-999.0000,-999.000,-999.000,  -999.0,-999.000
   3220CGC92_1,   P13,    22,  1,    101,   1038,2,19920826,1627, 48.4985, 165.0167, 5691,  59514,   5949.0,   1.6346,  34.6870,2,  34.6880,2,    162.1,2,  1.0743,    157.8,2,   153.14,2,    36.61,2,     0.00,2,     2.54,2,    0.001,4,    0.003,2, -999.000,9, -999.000,9, -999.000,9,-999.0000,9,  -999.00,9,   -999.0,9,  -999.00,9,-999.000,9,   -999.0,9,   -999.0,9,  -999.0,-999.0000,-999.000,-999.000,  -999.0,-999.000