BOTTLE,20221003CCHSIOAMB
EXPOCODE,SECT_ID,STNNBR,CASTNO,SAMPNO,BTLNBR,BTLNBR_FLAG_W,DATE,TIME,LATITUDE,LONGITUDE,DEPTH,CTDRAW,CTDPRS,CTDTMP,CTDSAL,CTDSAL_FLAG_W,SALNTY,SALNTY_FLAG_W,CTDOXY,CTDOXY_FLAG_W,THETA,OXYGEN,OXYGEN_FLAG_W,SILCAT,SILCAT_FLAG_W,NITRAT,NITRAT_FLAG_W,NITRIT,NITRIT_FLAG_W,PHSPHT,PHSPHT_FLAG_W,CFC-11,CFC-11_FLAG_W,CFC-12,CFC-12_FLAG_W,CFC113,CFC113_FLAG_W,CCL4,CCL4_FLAG_W,TRITUM,TRITUM_FLAG_W,HELIUM,HELIUM_FLAG_W,DELHE3,DELHE3_FLAG_W,DELC14,DELC14_FLAG_W,DELC13,DELC13_FLAG_W,NEON,NEON_FLAG_W,TCARBN,TCARBN_FLAG_W,ALKALI,ALKALI_FLAG_W,C14ERR,HELIER,DELHER,NEONER,C13ERR,TRITER
,,,,,,,,,,,,DBAR,DBAR,ITS-90,PSS-78,,PSS-78,,UMOL/KG,,DEG C,UMOL/KG,,UMOL/KG,,UMOL/KG,,UMOL/KG,,UMOL/KG,,PMOL/KG,,PMOL/KG,,PMOL/KG,,PMOL/KG,,TU,,NMOL/KG,,PERCNT,,/MILLE,,/MILLE,,NMOL/KG,,UMOL/KG,,UMOL/KG,,/MILLE,NMOL/KG,PERCNT,NMOL/KG,/MILLE,TU
   3220CGC92_1,   P13,    41,  1,    136,   1106,2,19920903,1229, 39.0197, 165.0207, 5282,     95,      6.0,  21.9237,  34.1106,2,  34.0957,2,    226.0,2, 21.9226,    223.1,2,     2.46,2,     0.00,2,     0.00,2,     0.00,2,    2.350,2,    1.199,2,    0.478,4,    3.227,4, -999.000,9,-999.0000,9,  -999.00,9,   -999.0,9,  -999.00,9,-999.000,9,   1958.3,6,   2250.0,6,  -999.0,-999.0000,-999.000,-999.000,  -999.0,-999.000
   3220CGC92_1,   P13,    41,  1,    133,   1231,2,19920903,1229, 39.0197, 165.0207, 5282,    492,     46.0,  16.9679,  34.4528,2,  34.4535,2,    271.9,2, 16.9604,    255.2,2,     1.86,2,     0.00,2,     0.00,2,     0.00,2,    2.764,2,    1.409,2,    0.350,2,    2.562,2, -999.000,9,-999.0000,9,  -999.00,9,   -999.0,9,  -999.00,9,-999.000,9,   1987.0,2,   2271.6,2,  -999.0,-999.0000,-999.000,-999.000,  -999.0,-999.000
   3220CGC92_1,   P13,    41,  1,    132,   1109,2,19920903,1229, 39.0197, 165.0207, 5282,    746,     71.0,  15.5383,  34.6095,2,  34.5712,2,    175.8,2, 15.5273,    195.0,2,    10.67,2,     7.06,2,     0.31,2,     0.47,2,    2.287,2,    1.146,2,    0.144,2,    1.010,2, -999.000,9,-999.0000,9,  -999.00,9,   -999.0,9,  -999.00,9,-999.000,9,   2052.4,2,   2279.3,2,  -999.0,-999.0000,-999.000,-999.000,  -999.0,-999.000
   3220CGC92_1,   P13,    41,  1,    131,   1031,2,19920903,1229, 39.0197, 165.0207, 5282,   1001,     96.0,  13.9996,  34.4957,2,  34.5170,2,    209.0,2, 13.9859,    204.1,2,    12.69,2,     8.30,2,     0.00,2,     0.53,2,    2.579,2,    1.283,2,    0.242,2,    1.360,2, -999.000,9,-999.0000,9,  -999.00,9,   -999.0,9,  -999.00,9,-999.000,9,   -999.0,9,   -999.0,9,  -999.0,-999.0000,-999.000,-999.000,  -999.0,-999.000
   3220CGC92_1,   P13,    41,  1,    130,   1041,2,19920903,1229, 39.0197, 165.0207, 5282,   1247,    121.0,  13.3208,  34.4682,2,  34.4638,2,    222.4,2, 13.3040,    227.8,2,    11.50,2,     7.69,2,     0.00,2,     0.48,2,    2.977,6,    1.495,6, -999.000,9, -999.000,9, -999.000,9,-999.0000,9,  -999.00,9,   -999.0,9,  -999.00,9,-999.000,9,   2054.7,2,   2272.5,2,  -999.0,-999.0000,-999.000,-999.000,  -999.0,-999.000
   3220CGC92_1,   P13,    41,  1,    129,   1004,2,19920903,1229, 39.0197, 165.0207, 5282,   1486,    145.0,  12.6860,  34.4373,2,  34.4499,2,    216.4,2, 12.6665,    227.1,2,    12.67,2,     8.56,2,     0.06,2,     0.55,2,    2.937,2,    1.454,2,    0.265,6,    1.510,6, -999.000,9,-999.0000,9,  -999.00,9,   -999.0,9,  -999.00,9,-999.000,9,   2059.2,2,   2274.8,2,  -999.0,-999.0000,-999.000,-999.000,  -999.0,-999.000
   3220CGC92_1,   P13,    41,  1,    127,   1117,2,19920903,1229, 39.0197, 165.0207, 5282,   1745,    170.0,  12.1871,  34.3985,2,  34.4299,2,    220.9,2, 12.1648,    219.5,2,    14.52,2,     9.97,2,     0.00,2,     0.63,2,    2.713,2,    1.367,2,    0.260,2,    1.388,2, -999.000,9,-999.0000,9,  -999.00,9,   -999.0,9,  -999.00,9,-999.000,9,   2068.6,2,   2274.0,2,  -999.0,-999.0000,-999.000,-999.000,  -999.0,-999.000
   3220CGC92_1,   P13,    41,  1,    126,   1110,2,19920903,1229, 39.0197, 165.0207, 5282,   1990,    195.0,  11.6222,  34.3543,2,  34.3946,2,    218.8,2, 11.5975,    218.9,2,    16.00,2,    10.96,2,     0.00,2,     0.68,2,    2.772,2,    1.362,2,    0.273,2,    1.505,2, -999.000,9,-999.0000,9,  -999.00,9,   -999.0,9,  -999.00,9,-999.000,9,   2074.3,2,   2275.1,2,  -999.0,-999.0000,-999.000,-999.000,  -999.0,-999.000
   3220CGC92_1,   P13,    41,  1,    125,   1035,2,19920903,1229, 39.0197, 165.0207, 5282,   2503,    246.0,  10.2185,  34.2029,2,  34.2735,2,    191.5,2, 10.1898,    225.4,2,    18.98,2,    12.55,2,     0.00,2,     0.80,2,    2.977,2,    1.487,2,    0.238,2,    1.733,2, -999.000,9,-999.0000,9,  -999.00,9,   -999.0,9,  -999.00,9,-999.000,9,   2085.6,2,   2272.6,6,  -999.0,-999.0000,-999.000,-999.000,  -999.0,-999.000
   3220CGC92_1,   P13,    41,  1,    124,   1026,2,19920903,1229, 39.0197, 165.0207, 5282,   3007,    296.0,   9.1088,  34.1418,2,  34.1186,2,    233.2,2,  9.0766,    229.3,2,    23.70,2,    14.22,2,     0.00,2,     0.94,2,    3.235,2,    1.606,2,    0.275,2,    2.448,2, -999.000,9,-999.0000,9,  -999.00,9,   -999.0,9,  -999.00,9,-999.000,9,   2102.1,2,   2272.4,6,  -999.0,-999.0000,-999.000,-999.000,  -999.0,-999.000
   3220CGC92_1,   P13,    41,  1,    123,   1014,2,19920903,1229, 39.0197, 165.0207, 5282,   3519,    347.0,   7.9321,  34.0375,2,  34.0066,2,    217.9,2,  7.8973,    224.1,2,    31.42,2,    19.13,2,     0.00,2,     1.30,2,    3.261,2,    1.580,2,    0.256,2,    2.761,2, -999.000,9,-999.0000,9,  -999.00,9,   -999.0,9,  -999.00,9,-999.000,9,   2123.7,2,   2270.1,2,  -999.0,-999.0000,-999.000,-999.000,  -999.0,-999.000
   3220CGC92_1,   P13,    41,  1,    122,   1015,4,19920903,1229, 39.0197, 165.0207, 5282,   4022,    397.0,   6.9633,  33.9921,2,-999.0000,9,    192.5,2,  6.9263,   -999.0,9,  -999.00,5,  -999.00,9,  -999.00,9,  -999.00,5, -999.000,9, -999.000,9, -999.000,9, -999.000,9, -999.000,9,-999.0000,9,  -999.00,9,   -999.0,9,  -999.00,9,-999.000,9,   -999.0,9,   -999.0,9,  -999.0,-999.0000,-999.000,-999.000,  -999.0,-999.000
   3220CGC92_1,   P13,    41,  1,    121,   1235,2,19920903,1229, 39.0197, 165.0207, 5282,   5022,    497.0,   5.7126,  33.9951,2,  33.9987,2,    144.8,2,  5.6707,    140.0,2,    64.57,2,    30.48,2,     0.00,2,     2.16,2,    1.843,2,    0.845,2,    0.152,2,    1.801,2, -999.000,9,-999.0000,9,  -999.00,9,   -999.0,9,  -999.00,9,-999.000,9,   2220.7,2,   2295.2,2,  -999.0,-999.0000,-999.000,-999.000,  -999.0,-999.000
   3220CGC92_1,   P13,    41,  1,    120,   1237,2,19920903,1229, 39.0197, 165.0207, 5282,   6070,    601.0,   4.5059,  34.0284,2,  33.9893,2,   -999.0,9,  4.4604,    108.1,2,    84.64,2,    35.59,2,     0.00,2,     2.56,2,    1.625,2,    0.724,2,    0.147,2,    1.944,2, -999.000,9,-999.0000,9,  -999.00,9,   -999.0,9,  -999.00,9,-999.000,9,   2266.6,2,   2306.1,2,  -999.0,-999.0000,-999.000,-999.000,  -999.0,-999.000
   3220CGC92_1,   P13,    41,  1,    119,   1025,2,19920903,1229, 39.0197, 165.0207, 5282,   7024,    696.0,   4.4079,  34.1403,2,  34.1437,2,     75.4,2,  4.3551,     72.0,2,    97.01,2,    38.28,2,     0.00,2,     2.75,2,    0.630,2,    0.292,2,    0.047,2,    0.789,2, -999.000,9,-999.0000,9,  -999.00,9,   -999.0,9,  -999.00,9,-999.000,9,   2298.1,2,   2326.6,2,  -999.0,-999.0000,-999.000,-999.000,  -999.0,-999.000
   3220CGC92_1,   P13,    41,  1,    118,   1118,2,19920903,1229, 39.0197, 165.0207, 5282,   8137,    807.0,   3.9980,  34.2204,2,  34.2253,6,     55.1,2,  3.9385,     52.0,2,   111.72,2,    40.13,2,     0.00,2,     2.88,2,    0.315,2,    0.147,2,    0.054,2,    0.423,2, -999.000,9,-999.0000,9,  -999.00,9,   -999.0,9,  -999.00,9,-999.000,9,   2325.4,2,   2342.7,2,  -999.0,-999.0000,-999.000,-999.000,  -999.0,-999.000
   3220CGC92_1,   P13,    41,  1,    117,   1005,2,19920903,1229, 39.0197, 165.0207, 5282,   9025,    896.0,   3.5951,  34.2677,2,  34.2751,2,     48.8,2,  3.5312,     44.9,2,   121.96,2,    40.78,2,     0.00,2,     2.94,2,    0.234,6,    0.108,6,    0.034,2,    0.359,2, -999.000,9,-999.0000,9,  -999.00,9,   -999.0,9,  -999.00,9,-999.000,9,   2340.1,2,   2353.9,2,  -999.0,-999.0000,-999.000,-999.000,  -999.0,-999.000
   3220CGC92_1,   P13,    41,  1,    116,   1104,2,19920903,1229, 39.0197, 165.0207, 5282,  10027,    996.0,   3.2872,  34.3210,2,  34.3233,2,     42.9,2,  3.2177,     39.3,2,   130.49,2,    41.85,2,     0.00,2,     2.99,2,    0.158,2,    0.070,2,    0.033,2,    0.267,2, -999.000,9,-999.0000,9,  -999.00,9,   -999.0,9,  -999.00,9,-999.000,9,   2351.9,2,   2362.4,2,  -999.0,-999.0000,-999.000,-999.000,  -999.0,-999.000
   3220CGC92_1,   P13,    41,  1,    115,   1020,2,19920903,1229, 39.0197, 165.0207, 5282,  12020,   1195.0,   2.9363,  34.4016,2,  34.4018,2,     36.7,2,  2.8541,     35.9,2,   143.16,2,    42.02,2,     0.00,2,     3.04,2,    0.047,6,    0.025,6,    0.025,6,    0.124,6, -999.000,9,-999.0000,9,  -999.00,9,   -999.0,9,  -999.00,9,-999.000,9,   2368.6,2,   2381.1,2,  -999.0,-999.0000,-999.000,-999.000,  -999.0,-999.000
   3220CGC92_1,   P13,    41,  1,    114,   1012,2,19920903,1229, 39.0197, 165.0207, 5282,  14019,   1395.0,   2.5754,  34.4630,2,  34.4612,2,     37.4,2,  2.4810,     37.7,2,   153.39,2,    42.21,2,     0.00,2,     3.03,2,    0.028,2,    0.009,2, -999.000,9, -999.000,9, -999.000,9,-999.0000,9,  -999.00,9,   -999.0,9,  -999.00,9,-999.000,9,   2377.8,2,   2392.2,2,  -999.0,-999.0000,-999.000,-999.000,  -999.0,-999.000
   3220CGC92_1,   P13,    41,  1,    113,   1229,2,19920903,1229, 39.0197, 165.0207, 5282,  16019,   1595.0,   2.3164,  34.5111,2,  34.5045,2,   -999.0,9,  2.2091,     42.9,2,   159.66,2,    42.05,2,     0.00,2,     2.98,2,    0.014,2,    0.005,2,    0.013,2,    0.062,2, -999.000,9,-999.0000,9,  -999.00,9,   -999.0,9,  -999.00,9,-999.000,9,   2381.4,2,   2401.5,2,  -999.0,-999.0000,-999.000,-999.000,  -999.0,-999.000
   3220CGC92_1,   P13,    41,  1,    112,   1219,2,19920903,1229, 39.0197, 165.0207, 5282,  19011,   1894.0,   2.0745,  34.5629,2,  34.5578,2,     55.4,2,  1.9460,     55.8,2,   165.28,2,    41.27,2,     0.00,2,     2.92,2,    0.001,2,    0.003,2,    0.000,6,    0.054,6, -999.000,9,-999.0000,9,  -999.00,9,   -999.0,9,  -999.00,9,-999.000,9,   2380.8,2,   2408.8,2,  -999.0,-999.0000,-999.000,-999.000,  -999.0,-999.000
   3220CGC92_1,   P13,    41,  1,    111,   1112,2,19920903,1229, 39.0197, 165.0207, 5282,  22026,   2196.0,   1.8825,  34.5985,2,  34.6066,2,     72.6,2,  1.7314,     73.9,2,   166.65,2,    41.38,2,     0.00,2,     2.94,2,    0.002,2,   -0.006,2,   -0.004,2,    0.013,2, -999.000,9,-999.0000,9,  -999.00,9,   -999.0,9,  -999.00,9,-999.000,9,   2374.0,2,   2415.5,2,  -999.0,-999.0000,-999.000,-999.000,  -999.0,-999.000
   3220CGC92_1,   P13,    41,  1,    110,   1029,2,19920903,1229, 39.0197, 165.0207, 5282,  25005,   2495.0,   1.7486,  34.6259,2,  34.6301,2,     92.2,2,  1.5735,     94.0,2,   165.55,2,    40.14,2,     0.00,2,     2.84,2, -999.000,9, -999.000,9, -999.000,9, -999.000,9, -999.000,9,-999.0000,9,  -999.00,9,   -999.0,9,  -999.00,9,-999.000,9,   2363.1,2,   2417.8,2,  -999.0,-999.0000,-999.000,-999.000,  -999.0,-999.000
   3220CGC92_1,   P13,    41,  1,    109,   1023,2,19920903,1229, 39.0197, 165.0207, 5282,  27993,   2795.0,   1.6526,  34.6448,2,  34.6428,2,   -999.0,9,  1.4520,   -999.0,5,   162.30,2,    38.72,2,     0.00,2,     2.74,2, -999.000,9, -999.000,9, -999.000,9, -999.000,9, -999.000,9,-999.0000,9,  -999.00,9,   -999.0,9,  -999.00,9,-999.000,9,   2351.9,2,   2419.3,2,  -999.0,-999.0000,-999.000,-999.000,  -999.0,-999.000
   3220CGC92_1,   P13,    41,  1,    108,   1032,2,19920903,1229, 39.0197, 165.0207, 5282,  31013,   3097.0,   1.5656,  34.6586,2,  34.6597,2,    121.3,2,  1.3381,    123.3,2,   159.39,2,    38.08,2,     0.00,2,     2.68,2,   -0.001,2,    0.000,2, -999.000,9, -999.000,9, -999.000,9,-999.0000,9,  -999.00,9,   -999.0,9,  -999.00,9,-999.000,9,   2344.5,2,   2418.6,2,  -999.0,-999.0000,-999.000,-999.000,  -999.0,-999.000
   3220CGC92_1,   P13,    41,  1,    107,   1037,2,19920903,1229, 39.0197, 165.0207, 5282,  33979,   3395.0,   1.5136,  34.6684,2,  34.6710,2,   -999.0,9,  1.2578,    133.6,2,   157.02,2,    37.79,2,     0.00,2,     2.65,2, -999.000,9, -999.000,9, -999.000,9, -999.000,9, -999.000,9,-999.0000,9,  -999.00,9,   -999.0,9,  -999.00,9,-999.000,9,   2337.7,2,   2419.9,2,  -999.0,-999.0000,-999.000,-999.000,  -999.0,-999.000
   3220CGC92_1,   P13,    41,  1,    106,   1022,2,19920903,1229, 39.0197, 165.0207, 5282,  36970,   3695.0,   1.4896,  34.6740,2,  34.6773,2,   -999.0,9,  1.2036,    140.2,2,   155.43,2,    37.29,2,     0.00,2,     2.61,2, -999.000,9, -999.000,9, -999.000,9, -999.000,9, -999.000,9,-999.0000,9,  -999.00,9,   -999.0,9,  -999.00,9,-999.000,9,   2333.2,2,   2416.3,2,  -999.0,-999.0000,-999.000,-999.000,  -999.0,-999.000
   3220CGC92_1,   P13,    41,  1,    105,   1221,2,19920903,1229, 39.0197, 165.0207, 5282,  40994,   4098.0,   1.4756,  34.6813,2,  34.6794,2,   -999.0,9,  1.1467,    148.5,2,   153.58,2,    36.62,2,     0.00,2,     2.54,2,   -0.003,2,    0.002,2, -999.000,9, -999.000,9, -999.000,9,-999.0000,9,  -999.00,9,   -999.0,9,  -999.00,9,-999.000,9,   2327.7,2,   2418.7,2,  -999.0,-999.0000,-999.000,-999.000,  -999.0,-999.000
   3220CGC92_1,   P13,    41,  1,    104,   1038,2,19920903,1229, 39.0197, 165.0207, 5282,  45012,   4501.0,   1.4806,  34.6849,2,  34.6846,2,    153.4,2,  1.1061,    153.7,2,   152.05,2,    36.32,2,     0.00,2,     2.51,2, -999.000,9, -999.000,9, -999.000,9, -999.000,9, -999.000,9,-999.0000,9,  -999.00,9,   -999.0,9,  -999.00,9,-999.000,9,   2323.7,2,   2416.4,2,  -999.0,-999.0000,-999.000,-999.000,  -999.0,-999.000
   3220CGC92_1,   P13,    41,  1,    103,   1033,2,19920903,1229, 39.0197, 165.0207, 5282,  47997,   4799.0,   1.4976,  34.6870,2,  34.6860,2,    156.6,2,  1.0876,    156.2,2,   151.76,2,    36.42,2,     0.00,2,     2.52,2, -999.000,9, -999.000,9, -999.000,9, -999.000,9, -999.000,9,-999.0000,9,  -999.00,9,   -999.0,9,  -999.00,9,-999.000,9,   2322.4,2,   2416.8,2,  -999.0,-999.0000,-999.000,-999.000,  -999.0,-999.000
   3220CGC92_1,   P13,    41,  1,    102,   1234,2,19920903,1229, 39.0197, 165.0207, 5282,  50977,   5097.0,   1.5256,  34.6878,2,  34.6863,2,    155.7,2,  1.0786,   -999.0,5,   152.09,2,    36.01,2,     0.00,2,     2.47,2,    0.022,4,   -0.005,2, -999.000,9, -999.000,9, -999.000,9,-999.0000,9,  -999.00,9,   -999.0,9,  -999.00,9,-999.000,9,   2323.2,6,   2420.9,6,  -999.0,-999.0000,-999.000,-999.000,  -999.0,-999.000
   3220CGC92_1,   P13,    41,  1,    101,   1013,2,19920903,1229, 39.0197, 165.0207, 5282,  54904,   5488.0,   1.5706,  34.6888,2,  34.6876,6,    159.6,2,  1.0729,    158.5,2,   151.51,2,    36.38,2,     0.00,2,     2.49,2, -999.000,9, -999.000,9, -999.000,9, -999.000,9, -999.000,9,-999.0000,9,  -999.00,9,   -999.0,9,  -999.00,9,-999.000,9,   2321.6,2,   2416.0,6,  -999.0,-999.0000,-999.000,-999.000,  -999.0,-999.000