BOTTLE,20221003CCHSIOAMB
EXPOCODE,SECT_ID,STNNBR,CASTNO,SAMPNO,BTLNBR,BTLNBR_FLAG_W,DATE,TIME,LATITUDE,LONGITUDE,DEPTH,CTDRAW,CTDPRS,CTDTMP,CTDSAL,CTDSAL_FLAG_W,SALNTY,SALNTY_FLAG_W,CTDOXY,CTDOXY_FLAG_W,THETA,OXYGEN,OXYGEN_FLAG_W,SILCAT,SILCAT_FLAG_W,NITRAT,NITRAT_FLAG_W,NITRIT,NITRIT_FLAG_W,PHSPHT,PHSPHT_FLAG_W,CFC-11,CFC-11_FLAG_W,CFC-12,CFC-12_FLAG_W,CFC113,CFC113_FLAG_W,CCL4,CCL4_FLAG_W,TRITUM,TRITUM_FLAG_W,HELIUM,HELIUM_FLAG_W,DELHE3,DELHE3_FLAG_W,DELC14,DELC14_FLAG_W,DELC13,DELC13_FLAG_W,NEON,NEON_FLAG_W,TCARBN,TCARBN_FLAG_W,ALKALI,ALKALI_FLAG_W,C14ERR,HELIER,DELHER,NEONER,C13ERR,TRITER
,,,,,,,,,,,,DBAR,DBAR,ITS-90,PSS-78,,PSS-78,,UMOL/KG,,DEG C,UMOL/KG,,UMOL/KG,,UMOL/KG,,UMOL/KG,,UMOL/KG,,PMOL/KG,,PMOL/KG,,PMOL/KG,,PMOL/KG,,TU,,NMOL/KG,,PERCNT,,/MILLE,,/MILLE,,NMOL/KG,,UMOL/KG,,UMOL/KG,,/MILLE,NMOL/KG,PERCNT,NMOL/KG,/MILLE,TU
   3220CGC92_1,   P13,    55,  1,    135,   1013,2,19920910,0026, 30.6885, 164.9745, 5559,    108,      8.0,  27.2195,  34.9488,2,  34.9641,2,   -999.0,9, 27.2176,    223.0,2,     1.60,2,     0.00,2,     0.00,2,     0.00,2,    1.824,2,    0.997,2, -999.000,9, -999.000,9, -999.000,9,-999.0000,9,  -999.00,9,   -999.0,9,  -999.00,9,-999.000,9,   1964.5,2,   2294.3,2,  -999.0,-999.0000,-999.000,-999.000,  -999.0,-999.000
   3220CGC92_1,   P13,    55,  1,    136,   1106,4,19920910,0026, 30.6885, 164.9745, 5559,    108,      8.0,  27.2195,  34.9488,2,-999.0000,9,   -999.0,9, 27.2176,   -999.0,9,  -999.00,5,  -999.00,9,  -999.00,9,  -999.00,5, -999.000,9, -999.000,9, -999.000,9, -999.000,9, -999.000,9,-999.0000,9,  -999.00,9,   -999.0,9,  -999.00,9,-999.000,9,   -999.0,9,   -999.0,9,  -999.0,-999.0000,-999.000,-999.000,  -999.0,-999.000
   3220CGC92_1,   P13,    55,  1,    134,   1030,2,19920910,0026, 30.6885, 164.9745, 5559,    252,     22.0,  27.2255,  34.9550,2,  34.9641,2,   -999.0,9, 27.2204,    220.7,2,     1.48,2,     0.00,2,     0.00,2,     0.00,2,    1.729,2,    0.950,2, -999.000,9, -999.000,9, -999.000,9,-999.0000,9,  -999.00,9,   -999.0,9,  -999.00,9,-999.000,9,   1962.7,6,   2293.3,6,  -999.0,-999.0000,-999.000,-999.000,  -999.0,-999.000
   3220CGC92_1,   P13,    55,  1,    133,   1231,2,19920910,0026, 30.6885, 164.9745, 5559,    522,     49.0,  20.1962,  34.8342,2,  34.8754,2,    259.0,2, 20.1871,    242.0,2,     1.87,2,     0.00,2,     0.00,2,     0.00,2,    2.398,2,    1.250,2, -999.000,9, -999.000,9, -999.000,9,-999.0000,9,  -999.00,9,   -999.0,9,  -999.00,9,-999.000,9,   1974.9,2,   2286.4,2,  -999.0,-999.0000,-999.000,-999.000,  -999.0,-999.000
   3220CGC92_1,   P13,    55,  1,    132,   1109,2,19920910,0026, 30.6885, 164.9745, 5559,    755,     72.0,  19.0254,  34.8721,2,  34.8154,2,    235.4,2, 19.0126,    235.8,2,     2.10,2,     0.00,2,     0.00,2,     0.00,2,    2.489,2,    1.278,2, -999.000,9, -999.000,9, -999.000,9,-999.0000,9,  -999.00,9,   -999.0,9,  -999.00,9,-999.000,9,   1985.2,2,   2286.1,2,  -999.0,-999.0000,-999.000,-999.000,  -999.0,-999.000
   3220CGC92_1,   P13,    55,  1,    131,   1031,3,19920910,0026, 30.6885, 164.9745, 5559,   1018,     98.0,  17.9367,  34.8368,2,  34.8055,2,    230.3,2, 17.9200,    221.3,2,     2.77,2,     0.20,2,     0.06,2,     0.07,2,    2.494,2,    1.295,2, -999.000,9, -999.000,9, -999.000,9,-999.0000,9,  -999.00,9,   -999.0,9,  -999.00,9,-999.000,9,   2002.4,2,   2285.0,2,  -999.0,-999.0000,-999.000,-999.000,  -999.0,-999.000
   3220CGC92_1,   P13,    55,  1,    130,   1041,2,19920910,0026, 30.6885, 164.9745, 5559,   1246,    121.0,  17.3638,  34.7888,2,  34.8004,2,    218.6,2, 17.3436,    216.5,2,     3.20,2,     1.70,2,     0.00,2,     0.15,2,    2.519,2,    1.279,2, -999.000,9, -999.000,9, -999.000,9,-999.0000,9,  -999.00,9,   -999.0,9,  -999.00,9,-999.000,9,   2009.8,2,   2282.9,2,  -999.0,-999.0000,-999.000,-999.000,  -999.0,-999.000
   3220CGC92_1,   P13,    55,  1,    129,   1004,2,19920910,0026, 30.6885, 164.9745, 5559,   1512,    147.0,  17.0899,  34.7847,2,  34.7873,2,    215.6,2, 17.0656,    214.6,2,     3.70,2,     2.60,2,     0.00,2,     0.18,2,    2.587,2,    1.334,2, -999.000,9, -999.000,9, -999.000,9,-999.0000,9,  -999.00,9,   -999.0,9,  -999.00,9,-999.000,9,   2013.8,2,   2283.6,2,  -999.0,-999.0000,-999.000,-999.000,  -999.0,-999.000
   3220CGC92_1,   P13,    55,  1,    128,   1016,2,19920910,0026, 30.6885, 164.9745, 5559,   1766,    172.0,  16.8580,  34.7705,2,  34.7680,2,    214.1,2, 16.8298,    214.9,2,     4.27,2,     3.21,2,     0.00,2,     0.21,2,    2.477,2,    1.275,2, -999.000,9, -999.000,9, -999.000,9,-999.0000,9,  -999.00,9,   -999.0,9,  -999.00,9,-999.000,9,   2015.8,2,   2280.2,2,  -999.0,-999.0000,-999.000,-999.000,  -999.0,-999.000
   3220CGC92_1,   P13,    55,  1,    127,   1028,2,19920910,0026, 30.6885, 164.9745, 5559,   2015,    197.0,  16.6260,  34.7603,2,  34.7559,2,    215.7,2, 16.5940,    216.8,2,     4.67,2,     3.74,2,     0.00,2,     0.25,2,    2.549,2,    1.311,2, -999.000,9, -999.000,9, -999.000,9,-999.0000,9,  -999.00,9,   -999.0,9,  -999.00,9,-999.000,9,   2018.2,2,   2280.0,2,  -999.0,-999.0000,-999.000,-999.000,  -999.0,-999.000
   3220CGC92_1,   P13,    55,  1,    126,   1110,2,19920910,0026, 30.6885, 164.9745, 5559,   2526,    248.0,  16.1961,  34.7359,2,  34.7385,2,    213.4,2, 16.1565,    219.1,2,     5.24,2,     4.39,2,     0.00,2,     0.30,2, -999.000,9, -999.000,9, -999.000,9, -999.000,9, -999.000,9,-999.0000,9,  -999.00,9,   -999.0,9,  -999.00,9,-999.000,9,   2019.7,2,   2279.7,2,  -999.0,-999.0000,-999.000,-999.000,  -999.0,-999.000
   3220CGC92_1,   P13,    55,  1,    125,   1035,2,19920910,0026, 30.6885, 164.9745, 5559,   3022,    297.0,  15.7062,  34.6874,2,  34.6835,2,    209.1,2, 15.6598,    204.3,2,     7.94,2,     6.65,2,     0.00,2,     0.42,2,    2.365,6,    1.201,6, -999.000,9, -999.000,9, -999.000,9,-999.0000,9,  -999.00,9,   -999.0,9,  -999.00,9,-999.000,9,   2037.5,2,   2279.3,2,  -999.0,-999.0000,-999.000,-999.000,  -999.0,-999.000
   3220CGC92_1,   P13,    55,  1,    124,   1026,2,19920910,0026, 30.6885, 164.9745, 5559,   3519,    347.0,  14.6295,  34.5926,2,  34.5950,2,    198.6,2, 14.5778,    197.9,2,    10.71,2,     8.45,2,     0.00,2,     0.55,2, -999.000,9, -999.000,9, -999.000,9, -999.000,9, -999.000,9,-999.0000,9,  -999.00,9,   -999.0,9,  -999.00,9,-999.000,9,   2052.6,2,   2275.6,2,  -999.0,-999.0000,-999.000,-999.000,  -999.0,-999.000
   3220CGC92_1,   P13,    55,  1,    123,   1014,2,19920910,0026, 30.6885, 164.9745, 5559,   4091,    404.0,  13.3518,  34.5088,2,  34.5051,2,    200.0,2, 13.2951,    199.3,2,    14.04,2,    11.52,2,     0.00,2,     0.78,2,    2.290,2,    1.156,2, -999.000,9, -999.000,9, -999.000,9,-999.0000,9,  -999.00,9,   -999.0,9,  -999.00,9,-999.000,9,   2068.0,2,   2275.4,2,  -999.0,-999.0000,-999.000,-999.000,  -999.0,-999.000
   3220CGC92_1,   P13,    55,  1,    122,   1015,2,19920910,0026, 30.6885, 164.9745, 5559,   5002,    495.0,  10.9264,  34.3153,2,  34.3288,2,    200.7,2, 10.8652,    199.2,2,    21.51,2,    15.26,2,     0.00,2,     1.05,2,    2.360,2,    1.156,2, -999.000,9, -999.000,9, -999.000,9,-999.0000,9,  -999.00,9,   -999.0,9,  -999.00,9,-999.000,9,   2095.5,2,   2274.9,2,  -999.0,-999.0000,-999.000,-999.000,  -999.0,-999.000
   3220CGC92_1,   P13,    55,  1,    121,   1235,2,19920910,0026, 30.6885, 164.9745, 5559,   6012,    595.0,   8.3920,  34.1118,2,  34.1194,2,    192.4,2,  8.3293,    193.5,2,    33.72,2,    20.62,2,     0.00,2,     1.44,2, -999.000,9, -999.000,9, -999.000,9, -999.000,9, -999.000,9,-999.0000,9,  -999.00,9,   -999.0,9,  -999.00,9,-999.000,9,   2134.6,2,   2276.8,2,  -999.0,-999.0000,-999.000,-999.000,  -999.0,-999.000
   3220CGC92_1,   P13,    55,  1,    120,   1237,2,19920910,0026, 30.6885, 164.9745, 5559,   7000,    694.0,   6.1105,  34.0177,2,  34.0131,2,    154.4,2,  6.0489,    146.8,2,    61.10,2,    29.57,2,     0.00,2,     2.15,2,    1.862,2,    0.860,2, -999.000,9, -999.000,9, -999.000,9,-999.0000,9,  -999.00,9,   -999.0,9,  -999.00,9,-999.000,9,   2209.0,2,   2293.4,2,  -999.0,-999.0000,-999.000,-999.000,  -999.0,-999.000
   3220CGC92_1,   P13,    55,  1,    119,   1025,2,19920910,0026, 30.6885, 164.9745, 5559,   8004,    794.0,   4.9308,  34.0553,2,  34.0576,2,    109.3,2,  4.8668,    100.9,2,    82.76,2,    34.87,2,     0.00,2,     2.53,2, -999.000,9, -999.000,9, -999.000,9, -999.000,9, -999.000,9,-999.0000,9,  -999.00,9,   -999.0,9,  -999.00,9,-999.000,9,   2263.3,2,   2310.4,2,  -999.0,-999.0000,-999.000,-999.000,  -999.0,-999.000
   3220CGC92_1,   P13,    55,  1,    118,   1118,2,19920910,0026, 30.6885, 164.9745, 5559,   9002,    894.0,   4.3779,  34.1529,2,  34.1512,2,     73.2,2,  4.3089,     69.6,2,    99.72,2,    38.39,2,     0.00,2,     2.77,2,    0.551,6,    0.250,6, -999.000,9, -999.000,9, -999.000,9,-999.0000,9,  -999.00,9,   -999.0,9,  -999.00,9,-999.000,9,   2299.9,2,   2330.2,2,  -999.0,-999.0000,-999.000,-999.000,  -999.0,-999.000
   3220CGC92_1,   P13,    55,  1,    117,   1005,2,19920910,0026, 30.6885, 164.9745, 5559,  10009,    994.0,   3.9031,  34.2440,2,  34.2362,2,     52.7,2,  3.8291,     50.9,6,   114.52,2,    40.47,2,     0.00,2,     2.93,2,    0.266,2,    0.118,2, -999.000,9, -999.000,9, -999.000,9,-999.0000,9,  -999.00,9,   -999.0,9,  -999.00,9,-999.000,9,   2326.4,2,   2346.9,2,  -999.0,-999.0000,-999.000,-999.000,  -999.0,-999.000
   3220CGC92_1,   P13,    55,  1,    116,   1104,2,19920910,0026, 30.6885, 164.9745, 5559,  12010,   1194.0,   3.2362,  34.3646,2,  34.3660,2,     39.2,2,  3.1514,     36.3,2,   136.36,2,    42.20,2,     0.00,2,     3.06,2, -999.000,5, -999.000,5, -999.000,9, -999.000,9, -999.000,9,-999.0000,9,  -999.00,9,   -999.0,9,  -999.00,9,-999.000,9,   2359.2,2,   2373.8,2,  -999.0,-999.0000,-999.000,-999.000,  -999.0,-999.000
   3220CGC92_1,   P13,    55,  1,    115,   1020,2,19920910,0026, 30.6885, 164.9745, 5559,  14001,   1393.0,   2.7583,  34.4464,2,  34.4528,2,     38.5,2,  2.6622,     34.6,2,   150.76,2,    42.29,2,     0.00,2,     3.06,2,    0.012,2,    0.006,2, -999.000,9, -999.000,9, -999.000,9,-999.0000,9,  -999.00,9,   -999.0,9,  -999.00,9,-999.000,9,   2375.1,2,   2386.9,2,  -999.0,-999.0000,-999.000,-999.000,  -999.0,-999.000
   3220CGC92_1,   P13,    55,  1,    114,   1012,2,19920910,0026, 30.6885, 164.9745, 5559,  16006,   1594.0,   2.4414,  34.5046,2,  34.5108,2,   -999.0,9,  2.3327,     42.0,2,   159.66,2,    42.26,2,     0.00,2,     3.03,2, -999.000,9, -999.000,9, -999.000,9, -999.000,9, -999.000,9,-999.0000,9,  -999.00,9,   -999.0,9,  -999.00,9,-999.000,9,   2380.8,2,   2400.7,2,  -999.0,-999.0000,-999.000,-999.000,  -999.0,-999.000
   3220CGC92_1,   P13,    55,  1,    113,   1229,2,19920910,0026, 30.6885, 164.9745, 5559,  19040,   1897.0,   2.0785,  34.5719,2,  34.5754,2,   -999.0,9,  1.9496,     61.8,2,   165.29,2,    40.92,2,     0.00,2,     2.94,2,    0.001,2,    0.007,2, -999.000,9, -999.000,9, -999.000,9,-999.0000,9,  -999.00,9,   -999.0,9,  -999.00,9,-999.000,9,   2377.1,2,   2411.6,2,  -999.0,-999.0000,-999.000,-999.000,  -999.0,-999.000
   3220CGC92_1,   P13,    55,  1,    112,   1219,2,19920910,0026, 30.6885, 164.9745, 5559,  21987,   2192.0,   1.8606,  34.6104,2,  34.6113,2,     81.5,2,  1.7101,     83.1,2,   165.60,2,    40.26,2,     0.00,2,     2.84,2, -999.000,9, -999.000,9, -999.000,9, -999.000,9, -999.000,9,-999.0000,9,  -999.00,9,   -999.0,9,  -999.00,9,-999.000,9,   2367.2,2,   2418.5,2,  -999.0,-999.0000,-999.000,-999.000,  -999.0,-999.000
   3220CGC92_1,   P13,    55,  1,    111,   1112,2,19920910,0026, 30.6885, 164.9745, 5559,  24986,   2493.0,   1.7146,  34.6347,2,  34.6378,2,   -999.0,9,  1.5403,    102.9,2,   164.81,2,    39.16,2,     0.00,2,     2.81,2, -999.000,9, -999.000,9, -999.000,9, -999.000,9, -999.000,9,-999.0000,9,  -999.00,9,   -999.0,9,  -999.00,9,-999.000,9,   2357.0,2,   2419.7,2,  -999.0,-999.0000,-999.000,-999.000,  -999.0,-999.000
   3220CGC92_1,   P13,    55,  1,    110,   1029,2,19920910,0026, 30.6885, 164.9745, 5559,  27981,   2793.0,   1.6026,  34.6546,2,  34.6546,2,   -999.0,9,  1.4031,    118.4,2,   161.06,2,    37.80,2,     0.00,2,     2.69,2,    0.000,2,    0.000,2, -999.000,9, -999.000,9, -999.000,9,-999.0000,9,  -999.00,9,   -999.0,9,  -999.00,9,-999.000,9,   2347.4,2,   2420.4,2,  -999.0,-999.0000,-999.000,-999.000,  -999.0,-999.000
   3220CGC92_1,   P13,    55,  1,    109,   1023,2,19920910,0026, 30.6885, 164.9745, 5559,  31008,   3097.0,   1.5306,  34.6663,2,  34.6656,2,    127.9,2,  1.3039,    128.5,2,   158.81,2,    37.63,2,     0.00,2,     2.66,2, -999.000,9, -999.000,9, -999.000,9, -999.000,9, -999.000,9,-999.0000,9,  -999.00,9,   -999.0,9,  -999.00,9,-999.000,9,   2340.8,2,   2420.6,2,  -999.0,-999.0000,-999.000,-999.000,  -999.0,-999.000
   3220CGC92_1,   P13,    55,  1,    108,   1032,2,19920910,0026, 30.6885, 164.9745, 5559,  34013,   3398.0,   1.4946,  34.6749,2,  34.6729,2,    136.5,2,  1.2390,    138.1,2,   156.07,2,    37.13,2,     0.00,2,     2.62,2, -999.000,9, -999.000,9, -999.000,9, -999.000,9, -999.000,9,-999.0000,9,  -999.00,9,   -999.0,9,  -999.00,9,-999.000,9,   2333.9,2,   2419.5,2,  -999.0,-999.0000,-999.000,-999.000,  -999.0,-999.000
   3220CGC92_1,   P13,    55,  1,    107,   1037,2,19920910,0026, 30.6885, 164.9745, 5559,  37005,   3698.0,   1.4736,  34.6797,2,  34.6809,2,    143.5,2,  1.1877,    144.4,2,   154.48,2,    36.44,2,     0.00,2,     2.59,2,    0.004,2,   -0.002,2, -999.000,9, -999.000,9, -999.000,9,-999.0000,9,  -999.00,9,   -999.0,9,  -999.00,9,-999.000,9,   2329.2,2,   2418.6,2,  -999.0,-999.0000,-999.000,-999.000,  -999.0,-999.000
   3220CGC92_1,   P13,    55,  1,    106,   1022,2,19920910,0026, 30.6885, 164.9745, 5559,  41007,   4099.0,   1.4596,  34.6853,2,  34.6829,2,   -999.0,9,  1.1310,    152.7,2,   151.32,2,    35.88,2,     0.00,2,     2.51,2, -999.000,9, -999.000,9, -999.000,9, -999.000,9, -999.000,9,-999.0000,9,  -999.00,9,   -999.0,9,  -999.00,9,-999.000,9,   2323.5,2,   2418.4,2,  -999.0,-999.0000,-999.000,-999.000,  -999.0,-999.000
   3220CGC92_1,   P13,    55,  1,    105,   1221,2,19920910,0026, 30.6885, 164.9745, 5559,  44987,   4498.0,   1.4616,  34.6888,2,  34.6879,2,    156.7,2,  1.0880,    158.6,2,   147.84,2,    35.58,2,     0.00,2,     2.50,2,    0.006,2,   -0.001,2, -999.000,9, -999.000,9, -999.000,9,-999.0000,9,  -999.00,9,   -999.0,9,  -999.00,9,-999.000,9,   2317.6,2,   2415.2,2,  -999.0,-999.0000,-999.000,-999.000,  -999.0,-999.000
   3220CGC92_1,   P13,    55,  1,    104,   1038,2,19920910,0026, 30.6885, 164.9745, 5559,  48997,   4899.0,   1.4686,  34.6914,2,  34.6925,2,    166.3,2,  1.0476,    165.5,2,   144.74,2,    35.34,2,     0.00,2,     2.49,2, -999.000,9, -999.000,9, -999.000,9, -999.000,9, -999.000,9,-999.0000,9,  -999.00,9,   -999.0,9,  -999.00,9,-999.000,9,   2312.7,2,   2411.2,2,  -999.0,-999.0000,-999.000,-999.000,  -999.0,-999.000
   3220CGC92_1,   P13,    55,  1,    103,   1033,2,19920910,0026, 30.6885, 164.9745, 5559,  51974,   5197.0,   1.4776,  34.6936,2,  34.6935,2,    169.7,2,  1.0199,    168.9,2,   140.89,2,    35.03,2,     0.00,2,     2.44,2, -999.000,9, -999.000,9, -999.000,9, -999.000,9, -999.000,9,-999.0000,9,  -999.00,9,   -999.0,9,  -999.00,9,-999.000,9,   2308.5,2,   2405.7,2,  -999.0,-999.0000,-999.000,-999.000,  -999.0,-999.000
   3220CGC92_1,   P13,    55,  1,    102,   1234,2,19920910,0026, 30.6885, 164.9745, 5559,  54030,   5402.0,   1.4906,  34.6938,2,  34.6950,2,    175.3,2,  1.0067,    171.4,2,   139.21,2,    34.52,2,     0.00,2,     2.39,2, -999.000,9, -999.000,9, -999.000,9, -999.000,9, -999.000,9,-999.0000,9,  -999.00,9,   -999.0,9,  -999.00,9,-999.000,9,   2305.4,2,   2407.0,2,  -999.0,-999.0000,-999.000,-999.000,  -999.0,-999.000
   3220CGC92_1,   P13,    55,  1,    101,   1238,2,19920910,0026, 30.6885, 164.9745, 5559,  55801,   5579.0,   1.5066,  34.6940,2,  34.6955,6,    175.7,2,  0.9996,    172.1,2,   138.55,2,    34.64,2,     0.00,2,     2.41,2,    0.157,4,    0.008,2, -999.000,9, -999.000,9, -999.000,9,-999.0000,9,  -999.00,9,   -999.0,9,  -999.00,9,-999.000,9,   2305.4,6,   2405.5,6,  -999.0,-999.0000,-999.000,-999.000,  -999.0,-999.000