BOTTLE,20221003CCHSIOAMB
EXPOCODE,SECT_ID,STNNBR,CASTNO,SAMPNO,BTLNBR,BTLNBR_FLAG_W,DATE,TIME,LATITUDE,LONGITUDE,DEPTH,CTDRAW,CTDPRS,CTDTMP,CTDSAL,CTDSAL_FLAG_W,SALNTY,SALNTY_FLAG_W,CTDOXY,CTDOXY_FLAG_W,THETA,OXYGEN,OXYGEN_FLAG_W,SILCAT,SILCAT_FLAG_W,NITRAT,NITRAT_FLAG_W,NITRIT,NITRIT_FLAG_W,PHSPHT,PHSPHT_FLAG_W,CFC-11,CFC-11_FLAG_W,CFC-12,CFC-12_FLAG_W,CFC113,CFC113_FLAG_W,CCL4,CCL4_FLAG_W,TRITUM,TRITUM_FLAG_W,HELIUM,HELIUM_FLAG_W,DELHE3,DELHE3_FLAG_W,DELC14,DELC14_FLAG_W,DELC13,DELC13_FLAG_W,NEON,NEON_FLAG_W,TCARBN,TCARBN_FLAG_W,ALKALI,ALKALI_FLAG_W,C14ERR,HELIER,DELHER,NEONER,C13ERR,TRITER
,,,,,,,,,,,,DBAR,DBAR,ITS-90,PSS-78,,PSS-78,,UMOL/KG,,DEG C,UMOL/KG,,UMOL/KG,,UMOL/KG,,UMOL/KG,,UMOL/KG,,PMOL/KG,,PMOL/KG,,PMOL/KG,,PMOL/KG,,TU,,NMOL/KG,,PERCNT,,/MILLE,,/MILLE,,NMOL/KG,,UMOL/KG,,UMOL/KG,,/MILLE,NMOL/KG,PERCNT,NMOL/KG,/MILLE,TU
   3220CGC92_1,   P13,    12,  1,    136,   1106,2,19920823,0039, 53.4412, 162.3725, 6246,     98,      7.0,  10.4965,  32.8666,2,  32.8551,2,   -999.0,9, 10.4957,    285.1,2,    18.96,2,     7.14,2,     0.00,2,     0.86,2,    4.034,4,    1.989,2, -999.000,9, -999.000,9, -999.000,9,-999.0000,9,  -999.00,9,   -999.0,9,  -999.00,9,-999.000,9,   2011.0,2,   2237.7,2,  -999.0,-999.0000,-999.000,-999.000,  -999.0,-999.000
   3220CGC92_1,   P13,    12,  1,    135,   1033,2,19920823,0039, 53.4412, 162.3725, 6246,    256,     22.0,  10.1876,  32.8882,2,  32.8622,2,    275.9,2, 10.1851,    286.3,2,    19.62,2,     8.38,2,     0.00,2,     0.97,2,    4.114,4,    2.054,2, -999.000,9, -999.000,9,    1.778,2,   1.7650,2,    -1.38,2,   -999.0,9,  -999.00,9,   7.409,2,   -999.0,9,   -999.0,9,  -999.0,  0.0080,   0.140,   0.033,  -999.0,   0.019
   3220CGC92_1,   P13,    12,  1,    134,   1109,2,19920823,0039, 53.4412, 162.3725, 6246,    508,     47.0,   2.1575,  33.0977,2,  33.0829,2,    337.4,2,  2.1551,    328.6,2,    34.08,2,    20.79,2,     0.73,2,     1.77,2,    6.465,4,    2.924,6, -999.000,9, -999.000,9, -999.000,9,-999.0000,9,  -999.00,9,   -999.0,9,  -999.00,9,-999.000,9,   -999.0,9,   -999.0,9,  -999.0,-999.0000,-999.000,-999.000,  -999.0,-999.000
   3220CGC92_1,   P13,    12,  1,    133,   1031,2,19920823,0039, 53.4412, 162.3725, 6246,    756,     72.0,   1.5486,  33.1857,2,  33.1946,2,    289.9,2,  1.5453,    305.3,2,    48.01,2,    27.67,2,     0.00,2,     2.11,2,    6.003,4,    2.808,6, -999.000,9, -999.000,9, -999.000,9,-999.0000,9,  -999.00,9,   -999.0,9,  -999.00,9,-999.000,9,   -999.0,9,   -999.0,9,  -999.0,-999.0000,-999.000,-999.000,  -999.0,-999.000
   3220CGC92_1,   P13,    12,  1,    132,   1008,2,19920823,0039, 53.4412, 162.3725, 6246,   1010,     97.0,   1.6556,  33.2499,2,  33.2352,2,   -999.0,9,  1.6510,    302.6,2,    52.21,2,    28.92,2,     0.00,2,     2.11,2,    5.955,4,    2.772,2, -999.000,9, -999.000,9, -999.000,9,-999.0000,9,  -999.00,9,   -999.0,9,  -999.00,9,-999.000,9,   -999.0,9,   -999.0,9,  -999.0,-999.0000,-999.000,-999.000,  -999.0,-999.000
   3220CGC92_1,   P13,    12,  1,    131,   1030,2,19920823,0039, 53.4412, 162.3725, 6246,   1253,    121.0,   2.3754,  33.4247,2,  33.4958,2,    189.0,2,  2.3689,    182.7,2,    68.34,2,    35.03,2,     0.00,2,     2.47,2,    3.778,4,    1.799,2, -999.000,9, -999.000,9, -999.000,9,-999.0000,9,  -999.00,9,   -999.0,9,  -999.00,9,-999.000,9,   -999.0,9,   -999.0,9,  -999.0,-999.0000,-999.000,-999.000,  -999.0,-999.000
   3220CGC92_1,   P13,    12,  1,    130,   1032,2,19920823,0039, 53.4412, 162.3725, 6246,   1506,    147.0,   3.4242,  33.7098,2,  33.7442,2,     82.9,2,  3.4149,     77.4,2,    85.16,2,    40.85,2,     0.00,2,     2.79,2,    2.181,4,    0.979,2, -999.000,9, -999.000,9,    1.205,2,   1.8380,2,    11.76,2,   -999.0,9,  -999.00,9,   7.921,2,   -999.0,9,   -999.0,9,  -999.0,  0.0090,   0.140,   0.035,  -999.0,   0.017
   3220CGC92_1,   P13,    12,  1,    129,   1004,2,19920823,0039, 53.4412, 162.3725, 6246,   1753,    171.0,   3.6061,  33.8066,2,  33.8347,2,     76.1,2,  3.5950,     48.1,2,    90.34,2,    42.37,2,     0.00,2,     2.98,2,    1.617,4,    0.719,2, -999.000,9, -999.000,9, -999.000,9,-999.0000,9,  -999.00,9,   -999.0,9,  -999.00,9,-999.000,9,   -999.0,9,   -999.0,9,  -999.0,-999.0000,-999.000,-999.000,  -999.0,-999.000
   3220CGC92_1,   P13,    12,  1,    128,   1028,2,19920823,0039, 53.4412, 162.3725, 6246,   1996,    195.0,   3.6731,  33.8730,2,  33.8931,2,     54.8,2,  3.6603,     35.4,2,    94.32,2,    42.91,2,     0.00,2,     2.96,2,    1.341,4,    0.567,2, -999.000,9, -999.000,9,    1.090,2,   1.8410,2,    14.69,2,   -999.0,9,  -999.00,9,   7.920,2,   -999.0,9,   -999.0,9,  -999.0,  0.0090,   0.140,   0.035,  -999.0,   0.017
   3220CGC92_1,   P13,    12,  1,    127,   1117,2,19920823,0039, 53.4412, 162.3725, 6246,   2501,    246.0,   3.6611,  33.9470,2,  33.9568,2,     28.5,2,  3.6448,     23.7,2,    99.22,2,    43.74,2,     0.00,2,     3.08,2,    0.917,4,    0.411,2, -999.000,9, -999.000,9, -999.000,9,-999.0000,9,  -999.00,9,   -999.0,9,  -999.00,9,-999.000,9,   -999.0,9,   -999.0,9,  -999.0,-999.0000,-999.000,-999.000,  -999.0,-999.000
   3220CGC92_1,   P13,    12,  1,    126,   1110,2,19920823,0039, 53.4412, 162.3725, 6246,   3005,    296.0,   3.6011,  34.0140,2,  34.0169,2,     24.7,2,  3.5815,     20.4,2,   105.29,2,    43.01,2,     0.00,2,     3.11,2,    0.640,4,    0.290,2, -999.000,9, -999.000,9, -999.000,9,-999.0000,9,  -999.00,9,   -999.0,9,  -999.00,9,-999.000,9,   -999.0,9,   -999.0,9,  -999.0,-999.0000,-999.000,-999.000,  -999.0,-999.000
   3220CGC92_1,   P13,    12,  1,    125,   1035,2,19920823,0039, 53.4412, 162.3725, 6246,   3505,    346.0,   3.5551,  34.0642,2,  34.0657,2,     20.5,2,  3.5322,     19.1,2,   109.43,2,    43.31,2,     0.00,2,     3.04,3, -999.000,9, -999.000,9, -999.000,9, -999.000,9, -999.000,9,   1.8380,2,    15.99,2,   -999.0,9,  -999.00,9,   7.888,2,   -999.0,9,   -999.0,9,  -999.0,  0.0090,   0.140,   0.035,  -999.0,-999.000
   3220CGC92_1,   P13,    12,  1,    124,   1026,2,19920823,0039, 53.4412, 162.3725, 6246,   3992,    394.0,   3.4942,  34.1120,2,  34.1044,2,     22.7,2,  3.4680,     18.9,2,   113.73,2,    43.33,2,     0.00,2,     2.99,3,    0.499,4,    0.303,2, -999.000,9, -999.000,9, -999.000,9,   1.9280,2,    16.00,2,   -999.0,9,  -999.00,9,   7.979,2,   -999.0,9,   -999.0,9,  -999.0,  0.0090,   0.140,   0.035,  -999.0,-999.000
   3220CGC92_1,   P13,    12,  1,    123,   1014,2,19920823,0039, 53.4412, 162.3725, 6246,   5005,    495.0,   3.3122,  34.1756,2,  34.1828,2,     16.8,2,  3.2796,     17.4,2,   123.84,2,    43.46,2,     0.00,2,     3.11,2,    0.292,4,    0.123,2, -999.000,9, -999.000,9, -999.000,9,   1.8410,2,    15.92,2,   -999.0,9,  -999.00,9,   7.881,2,   -999.0,9,   -999.0,9,  -999.0,  0.0090,   0.140,   0.035,  -999.0,-999.000
   3220CGC92_1,   P13,    12,  1,    122,   1015,2,19920823,0039, 53.4412, 162.3725, 6246,   6008,    595.0,   3.1942,  34.2430,2,  34.2470,2,     17.1,2,  3.1551,     17.0,2,   129.87,2,    43.80,2,     0.00,2,     3.18,2,    0.192,4,    0.080,6, -999.000,9, -999.000,9, -999.000,9,-999.0000,9,  -999.00,9,   -999.0,9,  -999.00,9,-999.000,9,   -999.0,9,   -999.0,9,  -999.0,-999.0000,-999.000,-999.000,  -999.0,-999.000
   3220CGC92_1,   P13,    12,  1,    121,   1235,2,19920823,0039, 53.4412, 162.3725, 6246,   7002,    694.0,   3.0473,  34.2862,2,  34.2889,2,     16.6,2,  3.0018,     16.2,2,   136.69,2,    43.84,2,     0.00,2,     3.15,2,    0.148,4,    0.069,2, -999.000,9, -999.000,9, -999.000,9,   1.8610,2,    16.30,2,   -999.0,9,  -999.00,9,   7.887,2,   -999.0,9,   -999.0,9,  -999.0,  0.0090,   0.140,   0.035,  -999.0,-999.000
   3220CGC92_1,   P13,    12,  1,    120,   1237,2,19920823,0039, 53.4412, 162.3725, 6246,   8005,    794.0,   2.9233,  34.3304,2,  34.3260,2,     18.0,2,  2.8714,     15.9,2,   141.86,2,    43.49,2,     0.00,2,     3.13,2,    0.120,4,    0.040,2, -999.000,9, -999.000,9, -999.000,9,-999.0000,9,  -999.00,9,   -999.0,9,  -999.00,9,-999.000,9,   -999.0,9,   -999.0,9,  -999.0,-999.0000,-999.000,-999.000,  -999.0,-999.000
   3220CGC92_1,   P13,    12,  1,    119,   1025,2,19920823,0039, 53.4412, 162.3725, 6246,  10001,    993.0,   2.6484,  34.3991,2,  34.3968,2,     22.9,2,  2.5839,     19.1,2,   151.91,2,    42.77,2,     0.00,2,     3.19,2,    0.090,4,    0.020,2, -999.000,9, -999.000,9, -999.000,9,-999.0000,9,  -999.00,9,   -999.0,9,  -999.00,9,-999.000,9,   -999.0,9,   -999.0,9,  -999.0,-999.0000,-999.000,-999.000,  -999.0,-999.000
   3220CGC92_1,   P13,    12,  1,    118,   1002,2,19920823,0039, 53.4412, 162.3725, 6246,  12006,   1194.0,   2.4224,  34.4589,2,  34.4565,2,     29.3,2,  2.3450,     26.0,2,   158.41,2,    43.51,2,     0.00,2,     3.07,3,    0.028,4,    0.011,2, -999.000,9, -999.000,9, -999.000,9,-999.0000,9,  -999.00,9,   -999.0,9,  -999.00,9,-999.000,9,   -999.0,9,   -999.0,9,  -999.0,-999.0000,-999.000,-999.000,  -999.0,-999.000
   3220CGC92_1,   P13,    12,  1,    117,   1005,2,19920823,0039, 53.4412, 162.3725, 6246,  14008,   1394.0,   2.2285,  34.5023,2,  34.5065,2,     35.0,2,  2.1379,     36.5,2,   163.16,2,    41.19,2,     0.00,2,     3.15,2,    0.057,4,    0.010,2, -999.000,9, -999.000,9, -999.000,9,-999.0000,9,  -999.00,9,   -999.0,9,  -999.00,9,-999.000,9,   -999.0,9,   -999.0,9,  -999.0,-999.0000,-999.000,-999.000,  -999.0,-999.000
   3220CGC92_1,   P13,    12,  1,    116,   1104,2,19920823,0039, 53.4412, 162.3725, 6246,  16000,   1593.0,   2.0795,  34.5364,2,  34.5384,2,     52.7,2,  1.9752,     46.3,2,   167.38,2,    41.66,2,     0.00,2,     3.04,2,    0.028,4,    0.001,2, -999.000,9, -999.000,9, -999.000,9,-999.0000,9,  -999.00,9,   -999.0,9,  -999.00,9,-999.000,9,   -999.0,9,   -999.0,9,  -999.0,-999.0000,-999.000,-999.000,  -999.0,-999.000
   3220CGC92_1,   P13,    12,  1,    115,   1020,2,19920823,0039, 53.4412, 162.3725, 6246,  17998,   1793.0,   1.9615,  34.5653,2,  34.5754,2,     58.6,2,  1.8428,     60.7,2,   165.49,2,    40.82,2,     0.00,2,     2.94,2,    0.040,4,    0.004,2, -999.000,9, -999.000,9, -999.000,9,-999.0000,9,  -999.00,9,   -999.0,9,  -999.00,9,-999.000,9,   -999.0,9,   -999.0,9,  -999.0,-999.0000,-999.000,-999.000,  -999.0,-999.000
   3220CGC92_1,   P13,    12,  1,    114,   1120,2,19920823,0039, 53.4412, 162.3725, 6246,  20004,   1994.0,   1.8536,  34.5918,2,  34.5913,2,     69.9,2,  1.7200,     72.9,2,   167.59,2,    41.07,2,     0.00,2,     2.97,2,    0.022,4,    0.008,2, -999.000,9, -999.000,9, -999.000,9,-999.0000,9,  -999.00,9,   -999.0,9,  -999.00,9,-999.000,9,   -999.0,9,   -999.0,9,  -999.0,-999.0000,-999.000,-999.000,  -999.0,-999.000
   3220CGC92_1,   P13,    12,  1,    113,   1112,2,19920823,0039, 53.4412, 162.3725, 6246,  23993,   2394.0,   1.6876,  34.6260,2,  34.6282,2,   -999.0,9,  1.5226,     97.1,2,   163.68,2,    39.49,2,     0.00,2,     2.86,2,    0.048,4,    0.005,2, -999.000,9, -999.000,9, -999.000,9,-999.0000,9,  -999.00,9,   -999.0,9,  -999.00,9,-999.000,9,   -999.0,9,   -999.0,9,  -999.0,-999.0000,-999.000,-999.000,  -999.0,-999.000
   3220CGC92_1,   P13,    12,  1,    112,   1234,2,19920823,0039, 53.4412, 162.3725, 6246,  28007,   2796.0,   1.5976,  34.6454,2,  34.6441,3,    115.1,2,  1.3980,    115.9,2,   158.12,2,    39.12,2,     0.00,2,     2.73,2, -999.000,9, -999.000,9, -999.000,9, -999.000,9, -999.000,9,-999.0000,9,  -999.00,9,   -999.0,9,  -999.00,9,-999.000,9,   -999.0,9,   -999.0,9,  -999.0,-999.0000,-999.000,-999.000,  -999.0,-999.000
   3220CGC92_1,   P13,    12,  1,    111,   1221,2,19920823,0039, 53.4412, 162.3725, 6246,  31993,   3196.0,   1.5366,  34.6576,2,  34.6577,2,   -999.0,9,  1.3001,    130.5,2,   152.41,2,    37.70,2,     0.00,2,     2.67,2, -999.000,9, -999.000,9, -999.000,9, -999.000,9, -999.000,9,-999.0000,9,  -999.00,9,   -999.0,9,  -999.00,9,-999.000,9,   -999.0,9,   -999.0,9,  -999.0,-999.0000,-999.000,-999.000,  -999.0,-999.000
   3220CGC92_1,   P13,    12,  1,    110,   1118,2,19920823,0039, 53.4412, 162.3725, 6246,  36000,   3597.0,   1.4956,  34.6670,2,  34.6667,3,    139.7,2,  1.2197,    139.5,2,   150.01,2,    37.57,2,     0.00,2,     2.64,2,    0.058,4,    0.016,3, -999.000,9, -999.000,9, -999.000,9,-999.0000,9,  -999.00,9,   -999.0,9,  -999.00,9,-999.000,9,   -999.0,9,   -999.0,9,  -999.0,-999.0000,-999.000,-999.000,  -999.0,-999.000
   3220CGC92_1,   P13,    12,  1,    109,   1113,2,19920823,0039, 53.4412, 162.3725, 6246,  39999,   3998.0,   1.4706,  34.6736,2,  34.6758,2,   -999.0,9,  1.1528,    149.5,2,   147.50,2,    37.05,2,     0.00,2,     2.60,2, -999.000,9, -999.000,9, -999.000,9, -999.000,9, -999.000,9,-999.0000,9,  -999.00,9,   -999.0,9,  -999.00,9,-999.000,9,   -999.0,9,   -999.0,9,  -999.0,-999.0000,-999.000,-999.000,  -999.0,-999.000
   3220CGC92_1,   P13,    12,  1,    108,   1016,2,19920823,0039, 53.4412, 162.3725, 6246,  44002,   4399.0,   1.4736,  34.6767,2,  34.6778,3,   -999.0,9,  1.1111,    154.6,2,   145.54,2,    36.86,2,     0.00,2,     2.58,2, -999.000,9, -999.000,9, -999.000,9, -999.000,9, -999.000,9,-999.0000,9,  -999.00,9,   -999.0,9,  -999.00,9,-999.000,9,   -999.0,9,   -999.0,9,  -999.0,-999.0000,-999.000,-999.000,  -999.0,-999.000