BOTTLE,20221003CCHSIOAMB
EXPOCODE,SECT_ID,STNNBR,CASTNO,SAMPNO,BTLNBR,BTLNBR_FLAG_W,DATE,TIME,LATITUDE,LONGITUDE,DEPTH,CTDRAW,CTDPRS,CTDTMP,CTDSAL,CTDSAL_FLAG_W,SALNTY,SALNTY_FLAG_W,CTDOXY,CTDOXY_FLAG_W,THETA,OXYGEN,OXYGEN_FLAG_W,SILCAT,SILCAT_FLAG_W,NITRAT,NITRAT_FLAG_W,NITRIT,NITRIT_FLAG_W,PHSPHT,PHSPHT_FLAG_W,CFC-11,CFC-11_FLAG_W,CFC-12,CFC-12_FLAG_W,CFC113,CFC113_FLAG_W,CCL4,CCL4_FLAG_W,TRITUM,TRITUM_FLAG_W,HELIUM,HELIUM_FLAG_W,DELHE3,DELHE3_FLAG_W,DELC14,DELC14_FLAG_W,DELC13,DELC13_FLAG_W,NEON,NEON_FLAG_W,TCARBN,TCARBN_FLAG_W,ALKALI,ALKALI_FLAG_W,C14ERR,HELIER,DELHER,NEONER,C13ERR,TRITER
,,,,,,,,,,,,DBAR,DBAR,ITS-90,PSS-78,,PSS-78,,UMOL/KG,,DEG C,UMOL/KG,,UMOL/KG,,UMOL/KG,,UMOL/KG,,UMOL/KG,,PMOL/KG,,PMOL/KG,,PMOL/KG,,PMOL/KG,,TU,,NMOL/KG,,PERCNT,,/MILLE,,/MILLE,,NMOL/KG,,UMOL/KG,,UMOL/KG,,/MILLE,NMOL/KG,PERCNT,NMOL/KG,/MILLE,TU
   3220CGC92_1,   P13,    11,  1,    136,   1106,2,19920822,0443, 53.4838, 162.1727, 4837,    106,      7.0,  10.5765,  32.9010,2,  32.8854,2,    279.6,2, 10.5756,    288.9,2,    21.62,2,     8.55,2,     0.00,2,     0.99,2,    4.186,2,    2.055,2,    0.374,2,    6.485,2, -999.000,9,-999.0000,9,  -999.00,9,   -999.0,9,  -999.00,9,-999.000,9,   2019.7,2,   2241.8,2,  -999.0,-999.0000,-999.000,-999.000,  -999.0,-999.000
   3220CGC92_1,   P13,    11,  1,    135,   1033,2,19920822,0443, 53.4838, 162.1727, 4837,    256,     22.0,  10.3995,  32.9003,2,  32.8957,2,    288.0,2, 10.3970,    288.4,2,    22.58,2,     9.86,2,     0.00,2,     1.05,2,    4.214,2,    2.099,2, -999.000,9, -999.000,9, -999.000,9,-999.0000,9,  -999.00,9,   -999.0,9,  -999.00,9,-999.000,9,   2020.5,6,   2241.9,6,  -999.0,-999.0000,-999.000,-999.000,  -999.0,-999.000
   3220CGC92_1,   P13,    11,  1,    134,   1109,2,19920822,0443, 53.4838, 162.1727, 4837,    505,     47.0,   3.0973,  33.1071,2,  33.1095,2,    334.5,2,  3.0945,    331.4,2,    36.86,2,    21.02,2,     0.30,2,     1.73,2,    6.012,2,    2.835,2,    0.722,2,    9.314,2, -999.000,9,-999.0000,9,  -999.00,9,   -999.0,9,  -999.00,9,-999.000,9,   2109.5,2,   2246.5,2,  -999.0,-999.0000,-999.000,-999.000,  -999.0,-999.000
   3220CGC92_1,   P13,    11,  1,    133,   1031,2,19920822,0443, 53.4838, 162.1727, 4837,    750,     71.0,   1.8416,  33.1798,2,  33.2006,2,    305.4,2,  1.8381,    315.1,2,    47.62,2,    27.95,2,     0.00,2,     2.03,2,    6.016,2,    2.814,2, -999.000,9, -999.000,9, -999.000,9,-999.0000,9,  -999.00,9,   -999.0,9,  -999.00,9,-999.000,9,   2147.7,2,   2247.8,2,  -999.0,-999.0000,-999.000,-999.000,  -999.0,-999.000
   3220CGC92_1,   P13,    11,  1,    132,   1008,2,19920822,0443, 53.4838, 162.1727, 4837,   1000,     96.0,   1.5556,  33.2296,2,  33.2713,2,    303.8,2,  1.5512,    311.6,2,    52.75,2,    29.53,2,     0.00,2,     2.11,2,    5.818,2,    2.769,2,    0.535,2,    9.447,2, -999.000,9,-999.0000,9,  -999.00,9,   -999.0,9,  -999.00,9,-999.000,9,   2160.0,2,   2252.0,2,  -999.0,-999.0000,-999.000,-999.000,  -999.0,-999.000
   3220CGC92_1,   P13,    11,  1,    131,   1030,2,19920822,0443, 53.4838, 162.1727, 4837,   1251,    121.0,   1.9355,  33.3395,2,  33.4089,2,    226.9,2,  1.9295,    232.3,2,    62.53,2,    33.30,2,     0.00,2,     2.31,2,    4.639,2,    2.228,2,    0.403,2,    6.875,2, -999.000,9,-999.0000,9,  -999.00,9,   -999.0,9,  -999.00,9,-999.000,9,   2203.4,2,   2261.8,2,  -999.0,-999.0000,-999.000,-999.000,  -999.0,-999.000
   3220CGC92_1,   P13,    11,  1,    130,   1032,2,19920822,0443, 53.4838, 162.1727, 4837,   1512,    147.0,   3.0713,  33.6178,2,  33.7165,2,    110.6,2,  3.0624,     90.4,2,    82.61,2,    40.36,2,     0.00,2,     2.81,2,    2.340,2,    1.107,2, -999.000,9, -999.000,9, -999.000,9,-999.0000,9,  -999.00,9,   -999.0,9,  -999.00,9,-999.000,9,   2288.2,2,   2285.7,2,  -999.0,-999.0000,-999.000,-999.000,  -999.0,-999.000
   3220CGC92_1,   P13,    11,  1,    129,   1004,2,19920822,0443, 53.4838, 162.1727, 4837,   1752,    171.0,   3.6011,  33.7954,2,  33.8145,2,     64.2,2,  3.5900,     57.6,2,    88.11,2,    41.89,2,     0.00,2,     2.90,2,    1.734,2,    0.823,2,    0.143,2,    1.889,2, -999.000,9,-999.0000,9,  -999.00,9,   -999.0,9,  -999.00,9,-999.000,9,   2308.3,2,   2297.3,2,  -999.0,-999.0000,-999.000,-999.000,  -999.0,-999.000
   3220CGC92_1,   P13,    11,  1,    128,   1028,2,19920822,0443, 53.4838, 162.1727, 4837,   1983,    194.0,   3.6631,  33.8616,2,  33.8570,2,     46.6,2,  3.6504,     44.6,2,    91.15,2,    43.15,2,     0.00,2,     2.95,2,    1.485,2,    0.660,2,    0.127,2,    1.688,2, -999.000,9,-999.0000,9,  -999.00,9,   -999.0,9,  -999.00,9,-999.000,9,   2317.1,2,   2297.2,2,  -999.0,-999.0000,-999.000,-999.000,  -999.0,-999.000
   3220CGC92_1,   P13,    11,  1,    127,   1117,2,19920822,0443, 53.4838, 162.1727, 4837,   2501,    246.0,   3.6711,  33.9431,2,  33.9515,2,     28.1,2,  3.6548,     24.9,2,    98.10,2,    44.07,2,     0.00,2,     3.03,2,    1.063,2,    0.510,2,    0.141,2,    1.243,2, -999.000,9,-999.0000,9,  -999.00,9,   -999.0,9,  -999.00,9,-999.000,9,   2335.9,2,   2310.9,2,  -999.0,-999.0000,-999.000,-999.000,  -999.0,-999.000
   3220CGC92_1,   P13,    11,  1,    126,   1110,2,19920822,0443, 53.4838, 162.1727, 4837,   3002,    295.0,   3.5451,  34.0049,2,  34.0075,2,     23.0,2,  3.5257,     19.9,2,   105.31,2,    44.12,2,     0.00,2,     3.02,2,    0.791,2,    0.391,2, -999.000,9, -999.000,9, -999.000,9,-999.0000,9,  -999.00,9,   -999.0,9,  -999.00,9,-999.000,9,   2343.4,2,   2317.8,2,  -999.0,-999.0000,-999.000,-999.000,  -999.0,-999.000
   3220CGC92_1,   P13,    11,  1,    125,   1035,2,19920822,0443, 53.4838, 162.1727, 4837,   3497,    345.0,   3.4992,  34.0660,2,  34.0625,2,     20.8,2,  3.4764,     20.0,2,   110.77,2,    43.92,2,     0.00,2,     3.05,2,    0.576,2,    0.256,2, -999.000,9, -999.000,9, -999.000,9,-999.0000,9,  -999.00,9,   -999.0,9,  -999.00,9,-999.000,9,   2346.3,2,   2329.1,2,  -999.0,-999.0000,-999.000,-999.000,  -999.0,-999.000
   3220CGC92_1,   P13,    11,  1,    124,   1026,2,19920822,0443, 53.4838, 162.1727, 4837,   4000,    395.0,   3.4572,  34.1074,2,  34.1056,2,     19.5,2,  3.4311,     17.8,2,   114.85,2,    43.00,2,     0.00,2,     3.03,2,    0.464,3,    0.198,3,    0.044,2,    0.738,2, -999.000,9,-999.0000,9,  -999.00,9,   -999.0,9,  -999.00,9,-999.000,9,   2351.5,2,   2333.0,2,  -999.0,-999.0000,-999.000,-999.000,  -999.0,-999.000
   3220CGC92_1,   P13,    11,  1,    123,   1014,2,19920822,0443, 53.4838, 162.1727, 4837,   5007,    495.0,   3.3252,  34.1841,2,  34.1763,2,     15.6,2,  3.2926,     16.9,2,   121.85,2,    42.80,2,     0.00,2,     3.05,2,    0.296,2,    0.183,3,    0.137,2,    0.506,2, -999.000,9,-999.0000,9,  -999.00,9,   -999.0,9,  -999.00,9,-999.000,9,   2355.6,2,   2345.8,2,  -999.0,-999.0000,-999.000,-999.000,  -999.0,-999.000
   3220CGC92_1,   P13,    11,  1,    122,   1015,2,19920822,0443, 53.4838, 162.1727, 4837,   6007,    595.0,   3.1832,  34.2466,2,  34.2436,2,     17.7,2,  3.1441,     14.8,2,   128.81,2,    42.39,2,     0.00,2,     3.10,2,    0.181,2,    0.132,3, -999.000,9, -999.000,9, -999.000,9,-999.0000,9,  -999.00,9,   -999.0,9,  -999.00,9,-999.000,9,   2365.9,2,   2357.8,2,  -999.0,-999.0000,-999.000,-999.000,  -999.0,-999.000
   3220CGC92_1,   P13,    11,  1,    121,   1235,2,19920822,0443, 53.4838, 162.1727, 4837,   7008,    695.0,   3.0423,  34.2902,2,  34.2899,2,     15.6,2,  2.9968,     14.4,2,   135.47,2,    42.24,2,     0.00,2,     3.09,2,    0.116,2,    0.053,2,    0.078,2,    0.244,2, -999.000,9,-999.0000,9,  -999.00,9,   -999.0,9,  -999.00,9,-999.000,9,   2373.3,2,   2367.1,2,  -999.0,-999.0000,-999.000,-999.000,  -999.0,-999.000
   3220CGC92_1,   P13,    11,  1,    120,   1237,2,19920822,0443, 53.4838, 162.1727, 4837,   8009,    795.0,   2.9013,  34.3342,2,  34.3422,2,     16.0,2,  2.8494,     15.5,2,   140.53,2,    42.60,2,     0.00,2,     3.07,2,    0.072,2,    0.041,2, -999.000,9, -999.000,9, -999.000,9,-999.0000,9,  -999.00,9,   -999.0,9,  -999.00,9,-999.000,9,   2379.5,2,   2369.1,2,  -999.0,-999.0000,-999.000,-999.000,  -999.0,-999.000
   3220CGC92_1,   P13,    11,  1,    119,   1025,2,19920822,0443, 53.4838, 162.1727, 4837,  10005,    994.0,   2.6304,  34.4096,2,  34.4055,2,     19.4,2,  2.5660,     19.4,2,   148.48,2,    42.29,2,     0.00,2,     3.06,2,    0.029,2,    0.014,2,    0.010,2,    0.101,2, -999.000,9,-999.0000,9,  -999.00,9,   -999.0,9,  -999.00,9,-999.000,9,   2384.4,2,   2386.7,2,  -999.0,-999.0000,-999.000,-999.000,  -999.0,-999.000
   3220CGC92_1,   P13,    11,  1,    118,   1002,2,19920822,0443, 53.4838, 162.1727, 4837,  12003,   1193.0,   2.4204,  34.4632,2,  34.4603,2,     28.5,2,  2.3431,     26.1,2,   156.07,2,    41.90,2,     0.00,2,     2.99,2, -999.000,9, -999.000,9, -999.000,9, -999.000,9, -999.000,9,-999.0000,9,  -999.00,9,   -999.0,9,  -999.00,9,-999.000,9,   2388.6,2,   2392.9,2,  -999.0,-999.0000,-999.000,-999.000,  -999.0,-999.000
   3220CGC92_1,   P13,    11,  1,    117,   1005,2,19920822,0443, 53.4838, 162.1727, 4837,  14011,   1394.0,   2.2265,  34.5061,2,  34.5085,2,     34.3,2,  2.1359,     37.8,2,   162.27,2,    41.57,2,     0.00,2,     2.99,2,    0.034,2,    0.023,2,    0.009,2,    0.089,2, -999.000,9,-999.0000,9,  -999.00,9,   -999.0,9,  -999.00,9,-999.000,9,   2386.9,2,   2403.8,2,  -999.0,-999.0000,-999.000,-999.000,  -999.0,-999.000
   3220CGC92_1,   P13,    11,  1,    116,   1104,2,19920822,0443, 53.4838, 162.1727, 4837,  16004,   1593.0,   2.0565,  34.5429,2,  34.5476,2,     46.2,2,  1.9525,     45.8,2,   168.90,2,    40.69,2,     0.00,2,     2.96,2, -999.000,9, -999.000,9, -999.000,9, -999.000,9, -999.000,9,-999.0000,9,  -999.00,9,   -999.0,9,  -999.00,9,-999.000,9,   2388.9,2,   2411.0,2,  -999.0,-999.0000,-999.000,-999.000,  -999.0,-999.000
   3220CGC92_1,   P13,    11,  1,    115,   1020,3,19920822,0443, 53.4838, 162.1727, 4837,  18007,   1794.0,   1.9435,  34.5709,2,  34.5692,3,     58.9,2,  1.8250,     52.9,3,   173.61,2,    41.31,2,     0.00,2,     2.93,2, -999.000,9, -999.000,9, -999.000,9, -999.000,9, -999.000,9,-999.0000,9,  -999.00,9,   -999.0,9,  -999.00,9,-999.000,9,   2384.8,2,   2449.7,4,  -999.0,-999.0000,-999.000,-999.000,  -999.0,-999.000
   3220CGC92_1,   P13,    11,  1,    114,   1120,2,19920822,0443, 53.4838, 162.1727, 4837,  20003,   1994.0,   1.8556,  34.5938,2,  34.5889,3,     66.6,2,  1.7219,     67.3,2,   169.50,2,    40.23,2,     0.00,2,     2.86,2, -999.000,9, -999.000,9, -999.000,9, -999.000,9, -999.000,9,-999.0000,9,  -999.00,9,   -999.0,9,  -999.00,9,-999.000,9,   2375.3,2,   2414.1,2,  -999.0,-999.0000,-999.000,-999.000,  -999.0,-999.000
   3220CGC92_1,   P13,    11,  1,    113,   1112,2,19920822,0443, 53.4838, 162.1727, 4837,  22000,   2194.0,   1.7776,  34.6111,2,  34.6117,2,     83.1,2,  1.6283,     81.8,2,   163.16,2,    39.93,2,     0.00,2,     2.70,3,   -0.002,2,    0.005,2, -999.000,9, -999.000,9, -999.000,9,-999.0000,9,  -999.00,9,   -999.0,9,  -999.00,9,-999.000,9,   2371.2,2,   2418.1,2,  -999.0,-999.0000,-999.000,-999.000,  -999.0,-999.000
   3220CGC92_1,   P13,    11,  1,    112,   1234,2,19920822,0443, 53.4838, 162.1727, 4837,  23998,   2394.0,   1.7086,  34.6263,2,  34.6297,2,     93.8,2,  1.5432,     92.4,2,   161.51,2,    39.33,2,     0.00,2,     2.69,3, -999.000,9, -999.000,9, -999.000,9, -999.000,9, -999.000,9,-999.0000,9,  -999.00,9,   -999.0,9,  -999.00,9,-999.000,9,   2360.8,2,   2421.9,2,  -999.0,-999.0000,-999.000,-999.000,  -999.0,-999.000
   3220CGC92_1,   P13,    11,  1,    111,   1221,2,19920822,0443, 53.4838, 162.1727, 4837,  26006,   2595.0,   1.6506,  34.6381,2,  34.6369,2,    102.8,2,  1.4684,    105.5,2,   159.51,2,    39.25,2,     0.00,2,     2.77,2, -999.000,9, -999.000,9, -999.000,9, -999.000,9, -999.000,9,-999.0000,9,  -999.00,9,   -999.0,9,  -999.00,9,-999.000,9,   2355.6,2,   2421.5,2,  -999.0,-999.0000,-999.000,-999.000,  -999.0,-999.000
   3220CGC92_1,   P13,    11,  1,    110,   1118,2,19920822,0443, 53.4838, 162.1727, 4837,  27993,   2794.0,   1.6106,  34.6478,2,  34.6451,2,    110.3,2,  1.4109,    112.8,2,   157.63,2,    38.76,2,     0.00,2,     2.70,2,   -0.002,2,    0.000,2, -999.000,9, -999.000,9, -999.000,9,-999.0000,9,  -999.00,9,   -999.0,9,  -999.00,9,-999.000,9,   2352.6,2,   2420.1,6,  -999.0,-999.0000,-999.000,-999.000,  -999.0,-999.000
   3220CGC92_1,   P13,    11,  1,    109,   1113,2,19920822,0443, 53.4838, 162.1727, 4837,  29992,   2995.0,   1.5776,  34.6529,2,  34.6532,2,    122.1,2,  1.3597,    119.5,2,   157.92,2,    38.22,2,     0.00,2,     2.68,2, -999.000,9, -999.000,9, -999.000,9, -999.000,9, -999.000,9,-999.0000,9,  -999.00,9,   -999.0,9,  -999.00,9,-999.000,9,   2331.9,6,   2421.3,6,  -999.0,-999.0000,-999.000,-999.000,  -999.0,-999.000
   3220CGC92_1,   P13,    11,  1,    108,   1016,3,19920822,0443, 53.4838, 162.1727, 4837,  32491,   3246.0,   1.5436,  34.6601,2,-999.0000,9,    125.6,2,  1.3020,   -999.0,9,  -999.00,5,  -999.00,9,  -999.00,9,  -999.00,5, -999.000,9, -999.000,9, -999.000,9, -999.000,9, -999.000,9,-999.0000,9,  -999.00,9,   -999.0,9,  -999.00,9,-999.000,9,   -999.0,9,   -999.0,9,  -999.0,-999.0000,-999.000,-999.000,  -999.0,-999.000
   3220CGC92_1,   P13,    11,  1,    107,   1022,2,19920822,0443, 53.4838, 162.1727, 4837,  34996,   3497.0,   1.5196,  34.6663,2,  34.6658,2,    135.4,2,  1.2533,    133.4,2,   152.79,2,    37.70,2,     0.00,2,     2.63,2, -999.000,9, -999.000,9, -999.000,9, -999.000,9, -999.000,9,-999.0000,9,  -999.00,9,   -999.0,9,  -999.00,9,-999.000,9,   2339.6,2,   2418.3,2,  -999.0,-999.0000,-999.000,-999.000,  -999.0,-999.000
   3220CGC92_1,   P13,    11,  1,    106,   1036,2,19920822,0443, 53.4838, 162.1727, 4837,  37476,   3745.0,   1.4946,  34.6720,2,  34.6712,2,   -999.0,9,  1.2032,    141.4,2,   149.65,2,    37.26,2,     0.00,2,     2.57,2, -999.000,9, -999.000,9, -999.000,9, -999.000,9, -999.000,9,-999.0000,9,  -999.00,9,   -999.0,9,  -999.00,9,-999.000,9,   2334.7,2,   2420.8,2,  -999.0,-999.0000,-999.000,-999.000,  -999.0,-999.000
   3220CGC92_1,   P13,    11,  1,    105,   1037,2,19920822,0443, 53.4838, 162.1727, 4837,  39981,   3996.0,   1.4756,  34.6770,2,  34.6762,2,    143.1,2,  1.1578,    145.9,2,   148.87,2,    36.95,2,     0.00,2,     2.57,2, -999.000,9, -999.000,9, -999.000,9, -999.000,9, -999.000,9,-999.0000,9,  -999.00,9,   -999.0,9,  -999.00,9,-999.000,9,   2329.2,2,   2410.8,3,  -999.0,-999.0000,-999.000,-999.000,  -999.0,-999.000
   3220CGC92_1,   P13,    11,  1,    103,   1023,2,19920822,0443, 53.4838, 162.1727, 4837,  42490,   4248.0,   1.4766,  34.6798,2,  34.6789,2,    152.5,2,  1.1310,   -999.0,5,   145.10,2,    36.29,2,     0.00,2,     2.48,2,   -0.007,2,    0.004,2,    0.003,2,    0.009,2, -999.000,9,-999.0000,9,  -999.00,9,   -999.0,9,  -999.00,9,-999.000,9,   2325.9,6,   2418.0,6,  -999.0,-999.0000,-999.000,-999.000,  -999.0,-999.000
   3220CGC92_1,   P13,    11,  1,    104,      0,2,19920822,0443, 53.4838, 162.1727, 4837,  42497,   4249.0,   1.4756,  34.6792,2,  34.6792,2,    151.1,2,  1.1299,    151.7,2,   145.39,2,    36.48,2,     0.00,2,     2.48,2,    0.005,2,    0.018,2,    0.005,2,    0.018,2, -999.000,9,-999.0000,9,  -999.00,9,   -999.0,9,  -999.00,9,-999.000,9,   -999.0,9,   -999.0,9,  -999.0,-999.0000,-999.000,-999.000,  -999.0,-999.000
   3220CGC92_1,   P13,    11,  1,    102,   2001,2,19920822,0443, 53.4838, 162.1727, 4837,  45001,   4499.0,   1.4537,  34.6834,2,  34.6836,2,    156.2,2,  1.0802,   -999.0,5,   142.15,2,    36.16,2,     0.00,2,     2.42,2, -999.000,9, -999.000,9, -999.000,9, -999.000,9, -999.000,9,-999.0000,9,  -999.00,9,   -999.0,9,  -999.00,9,-999.000,9,   -999.0,9,   -999.0,9,  -999.0,-999.0000,-999.000,-999.000,  -999.0,-999.000
   3220CGC92_1,   P13,    11,  1,    101,   1038,2,19920822,0443, 53.4838, 162.1727, 4837,  47040,   4703.0,   1.4666,  34.6845,2,  34.6839,6,    159.4,2,  1.0690,    159.9,2,   140.92,2,    35.99,2,     0.00,2,     2.45,2,   -0.001,2,    0.006,2, -999.000,9, -999.000,9, -999.000,9,-999.0000,9,  -999.00,9,   -999.0,9,  -999.00,9,-999.000,9,   2318.2,2,   2416.0,2,  -999.0,-999.0000,-999.000,-999.000,  -999.0,-999.000