BOTTLE,20221003CCHSIOAMB
EXPOCODE,SECT_ID,STNNBR,CASTNO,SAMPNO,BTLNBR,BTLNBR_FLAG_W,DATE,TIME,LATITUDE,LONGITUDE,DEPTH,CTDRAW,CTDPRS,CTDTMP,CTDSAL,CTDSAL_FLAG_W,SALNTY,SALNTY_FLAG_W,CTDOXY,CTDOXY_FLAG_W,THETA,OXYGEN,OXYGEN_FLAG_W,SILCAT,SILCAT_FLAG_W,NITRAT,NITRAT_FLAG_W,NITRIT,NITRIT_FLAG_W,PHSPHT,PHSPHT_FLAG_W,CFC-11,CFC-11_FLAG_W,CFC-12,CFC-12_FLAG_W,CFC113,CFC113_FLAG_W,CCL4,CCL4_FLAG_W,TRITUM,TRITUM_FLAG_W,HELIUM,HELIUM_FLAG_W,DELHE3,DELHE3_FLAG_W,DELC14,DELC14_FLAG_W,DELC13,DELC13_FLAG_W,NEON,NEON_FLAG_W,TCARBN,TCARBN_FLAG_W,ALKALI,ALKALI_FLAG_W,C14ERR,HELIER,DELHER,NEONER,C13ERR,TRITER
,,,,,,,,,,,,DBAR,DBAR,ITS-90,PSS-78,,PSS-78,,UMOL/KG,,DEG C,UMOL/KG,,UMOL/KG,,UMOL/KG,,UMOL/KG,,UMOL/KG,,PMOL/KG,,PMOL/KG,,PMOL/KG,,PMOL/KG,,TU,,NMOL/KG,,PERCNT,,/MILLE,,/MILLE,,NMOL/KG,,UMOL/KG,,UMOL/KG,,/MILLE,NMOL/KG,PERCNT,NMOL/KG,/MILLE,TU
   3220CGC92_1,   P13,    54,  1,    135,   1013,2,19920909,1322, 31.3262, 164.9843, 5847,     97,      7.0,  27.3024,  34.9018,2,  34.8688,2,    227.9,2, 27.3008,    210.5,2,     1.46,2,     0.00,2,     0.00,2,     0.00,2,    1.761,6,    0.950,6,    0.280,2,    2.329,6, -999.000,9,-999.0000,9,  -999.00,9,    119.9,2,     1.28,2,-999.000,9,   1960.1,2,   2287.0,2,     5.8,-999.0000,-999.000,-999.000,  -999.0,-999.000
   3220CGC92_1,   P13,    54,  1,    136,   1106,4,19920909,1322, 31.3262, 164.9843, 5847,     97,      7.0,  27.3024,  34.9018,2,-999.0000,9,    228.1,2, 27.3008,   -999.0,9,  -999.00,5,  -999.00,9,  -999.00,9,  -999.00,5, -999.000,9, -999.000,9, -999.000,9, -999.000,9, -999.000,9,-999.0000,9,  -999.00,9,   -999.0,9,  -999.00,9,-999.000,9,   -999.0,9,   -999.0,9,  -999.0,-999.0000,-999.000,-999.000,  -999.0,-999.000
   3220CGC92_1,   P13,    54,  1,    134,   1030,2,19920909,1322, 31.3262, 164.9843, 5847,    246,     21.0,  27.3034,  34.8997,2,  34.8690,2,   -999.0,9, 27.2986,    209.4,2,     1.44,2,     0.00,2,     0.00,2,     0.00,2,    1.767,2,    0.971,2, -999.000,9, -999.000,9, -999.000,9,-999.0000,9,  -999.00,9,    108.5,2,     1.31,2,-999.000,9,   -999.0,9,   -999.0,9,     5.7,-999.0000,-999.000,-999.000,  -999.0,-999.000
   3220CGC92_1,   P13,    54,  1,    133,   1231,2,19920909,1322, 31.3262, 164.9843, 5847,    502,     47.0,  21.9327,  34.8442,2,  34.8875,2,    258.8,2, 21.9235,    240.9,2,     1.79,2,     0.00,2,     0.00,2,     0.00,2,    2.414,2,    1.257,2,    1.230,4,    2.067,2, -999.000,9,-999.0000,9,  -999.00,9,   -999.0,5,  -999.00,5,-999.000,9,   -999.0,9,   -999.0,9,  -999.0,-999.0000,-999.000,-999.000,  -999.0,-999.000
   3220CGC92_1,   P13,    54,  1,    132,   1109,2,19920909,1322, 31.3262, 164.9843, 5847,    749,     71.0,  19.7892,  34.9048,2,  34.8687,2,    245.7,2, 19.7763,    238.5,2,     1.92,2,     0.00,2,     0.00,2,     0.00,2,    2.466,2,    1.274,2, -999.000,9, -999.000,9, -999.000,9,-999.0000,9,  -999.00,9,    108.8,2,     1.24,2,-999.000,9,   -999.0,9,   -999.0,9,     4.1,-999.0000,-999.000,-999.000,  -999.0,-999.000
   3220CGC92_1,   P13,    54,  1,    131,   1031,2,19920909,1322, 31.3262, 164.9843, 5847,   1001,     97.0,  18.2286,  34.8487,2,  34.8399,2,    231.9,2, 18.2119,    234.8,2,     2.27,2,     0.06,2,     0.00,2,     0.00,2,    2.527,2,    1.305,2,    0.378,2,    1.700,2, -999.000,9,-999.0000,9,  -999.00,9,     91.7,2,     1.15,2,-999.000,9,   -999.0,9,   -999.0,9,     4.0,-999.0000,-999.000,-999.000,  -999.0,-999.000
   3220CGC92_1,   P13,    54,  1,    130,   1041,2,19920909,1322, 31.3262, 164.9843, 5847,   1244,    121.0,  17.6098,  34.8212,2,  34.8087,2,    220.9,2, 17.5894,    217.3,2,     2.92,2,     0.59,2,     0.08,2,     0.09,2,    2.507,2,    1.286,2,    0.191,2,    1.165,2, -999.000,9,-999.0000,9,  -999.00,9,    103.9,2,     0.95,2,-999.000,9,   -999.0,9,   -999.0,9,     3.8,-999.0000,-999.000,-999.000,  -999.0,-999.000
   3220CGC92_1,   P13,    54,  1,    129,   1004,2,19920909,1322, 31.3262, 164.9843, 5847,   1491,    145.0,  17.2948,  34.7993,2,  34.7924,2,    217.4,2, 17.2707,    215.4,2,     3.34,2,     1.84,2,     0.17,2,     0.18,2,    2.525,2,    1.307,2, -999.000,9, -999.000,9, -999.000,9,-999.0000,9,  -999.00,9,   -999.0,5,  -999.00,9,-999.000,9,   -999.0,9,   -999.0,9,  -999.0,-999.0000,-999.000,-999.000,  -999.0,-999.000
   3220CGC92_1,   P13,    54,  1,    128,   1016,2,19920909,1322, 31.3262, 164.9843, 5847,   1752,    171.0,  17.0079,  34.7837,2,  34.7802,2,    209.4,2, 16.9797,    213.8,2,     3.82,2,     2.65,2,     0.14,2,     0.21,2,    2.524,2,    1.294,2,    0.198,2,    0.939,2, -999.000,9,-999.0000,9,  -999.00,9,    105.1,2,     0.88,2,-999.000,9,   -999.0,9,   -999.0,9,     4.3,-999.0000,-999.000,-999.000,  -999.0,-999.000
   3220CGC92_1,   P13,    54,  1,    127,   1028,2,19920909,1322, 31.3262, 164.9843, 5847,   2028,    199.0,  16.6940,  34.7630,2,-999.0000,5,    207.3,2, 16.6616,    215.4,2,     4.09,2,     3.01,2,     0.15,2,     0.20,2,    2.576,2,    1.307,2,    0.269,2,    0.977,2, -999.000,9,-999.0000,9,  -999.00,9,    116.5,2,     0.87,2,-999.000,9,   -999.0,9,   -999.0,9,     3.9,-999.0000,-999.000,-999.000,  -999.0,-999.000
   3220CGC92_1,   P13,    54,  1,    126,   1110,2,19920909,1322, 31.3262, 164.9843, 5847,   2494,    245.0,  16.3611,  34.7440,2,-999.0000,5,    216.3,2, 16.3217,    209.9,2,     4.99,2,     4.04,2,     0.21,2,     0.24,2,    2.524,2,    1.279,2,    0.854,4,    0.725,2, -999.000,9,-999.0000,9,  -999.00,9,     97.6,2,     0.84,2,-999.000,9,   -999.0,9,   -999.0,9,     5.5,-999.0000,-999.000,-999.000,  -999.0,-999.000
   3220CGC92_1,   P13,    54,  1,    125,   1035,4,19920909,1322, 31.3262, 164.9843, 5847,   2962,    292.0,  15.8792,  34.6989,2,-999.0000,9,    210.4,2, 15.8332,   -999.0,9,  -999.00,5,  -999.00,9,  -999.00,9,  -999.00,5, -999.000,9, -999.000,9, -999.000,9, -999.000,9, -999.000,9,-999.0000,9,  -999.00,9,   -999.0,9,  -999.00,9,-999.000,9,   -999.0,9,   -999.0,9,  -999.0,-999.0000,-999.000,-999.000,  -999.0,-999.000
   3220CGC92_1,   P13,    54,  1,    124,   1026,2,19920909,1322, 31.3262, 164.9843, 5847,   3486,    344.0,  15.0554,  34.6207,2,  34.6283,2,    203.3,2, 15.0031,    199.9,2,     8.60,2,     6.98,2,     0.06,2,     0.43,2,    2.378,2,    1.192,2, -999.000,9, -999.000,9, -999.000,9,-999.0000,9,  -999.00,9,     97.0,2,     0.65,2,-999.000,9,   -999.0,9,   -999.0,9,     5.0,-999.0000,-999.000,-999.000,  -999.0,-999.000
   3220CGC92_1,   P13,    54,  1,    123,   1014,2,19920909,1322, 31.3262, 164.9843, 5847,   3987,    394.0,  14.0646,  34.5437,2,  34.5393,2,    201.2,2, 14.0073,    197.4,2,    11.44,2,     9.93,2,     0.12,2,     0.64,2,    2.307,2,    1.158,2,    0.113,2,    0.626,2, -999.000,9,-999.0000,9,  -999.00,9,     72.6,2,     0.70,2,-999.000,9,   -999.0,9,   -999.0,9,     4.7,-999.0000,-999.000,-999.000,  -999.0,-999.000
   3220CGC92_1,   P13,    54,  1,    122,   1015,2,19920909,1322, 31.3262, 164.9843, 5847,   5016,    496.0,  11.7912,  34.3725,2,  34.3732,2,    200.5,2, 11.7268,    194.3,2,    19.58,2,    14.48,2,     0.00,2,     0.96,2,    2.181,6,    1.088,6,    0.143,2,    0.915,2, -999.000,9,-999.0000,9,  -999.00,9,     48.3,2,     0.57,6,-999.000,9,   -999.0,9,   -999.0,9,     5.3,-999.0000,-999.000,-999.000,  -999.0,-999.000
   3220CGC92_1,   P13,    54,  1,    121,   1235,2,19920909,1322, 31.3262, 164.9843, 5847,   5993,    593.0,   9.3987,  34.1977,2,  34.1673,2,    187.3,2,  9.3318,    183.6,2,    32.78,2,    20.78,2,     0.00,2,     1.41,2,    2.169,2,    1.045,2, -999.000,9, -999.000,9, -999.000,9,-999.0000,9,  -999.00,9,     -2.2,2,     0.35,2,-999.000,9,   -999.0,9,   -999.0,9,     3.6,-999.0000,-999.000,-999.000,  -999.0,-999.000
   3220CGC92_1,   P13,    54,  1,    120,   1237,2,19920909,1322, 31.3262, 164.9843, 5847,   7957,    789.0,   5.1988,  34.0345,2,  34.0398,2,    118.3,2,  5.1336,    107.5,2,    77.54,2,    34.67,2,     0.00,2,     2.47,2,    1.138,2,    0.519,2,    0.112,2,    1.250,2, -999.000,9,-999.0000,9,  -999.00,9,   -122.2,2,    -0.15,2,-999.000,9,   -999.0,9,   -999.0,9,     3.1,-999.0000,-999.000,-999.000,  -999.0,-999.000
   3220CGC92_1,   P13,    54,  1,    119,   1025,2,19920909,1322, 31.3262, 164.9843, 5847,   9968,    990.0,   3.9950,  34.2290,2,  34.2320,2,     55.3,2,  3.9207,     49.9,2,   113.26,2,    40.40,2,     0.00,2,     2.94,2,    0.246,2,    0.113,2,    0.066,2,    0.343,2, -999.000,9,   1.8650,2,    16.20,2,   -180.7,2,    -0.44,2,-999.000,9,   -999.0,9,   -999.0,9,     3.2,-999.0000,-999.000,-999.000,  -999.0,-999.000
   3220CGC92_1,   P13,    54,  1,    118,   1118,2,19920909,1322, 31.3262, 164.9843, 5847,  12016,   1195.0,   3.2692,  34.3588,2,  34.3582,6,     39.7,2,  3.1840,     36.4,2,   134.37,2,    42.34,2,     0.00,2,     3.10,2,    0.061,2,    0.026,2,    0.083,2,    0.139,2, -999.000,9,   1.8840,2,    16.50,2,   -204.3,2,    -0.53,2,-999.000,9,   -999.0,9,   -999.0,9,     3.5,-999.0000,-999.000,-999.000,  -999.0,-999.000
   3220CGC92_1,   P13,    54,  1,    117,   1005,2,19920909,1322, 31.3262, 164.9843, 5847,  14001,   1393.0,   2.7653,  34.4468,2,  34.4441,2,     35.7,2,  2.6691,     33.7,2,   149.36,2,    42.55,2,     0.00,2,     3.06,2,    0.019,2,    0.015,2,    0.000,2,    0.074,2, -999.000,9,   1.8940,2,    17.50,2,   -227.9,2,    -0.54,2,-999.000,9,   -999.0,9,   -999.0,9,     3.0,-999.0000,-999.000,-999.000,  -999.0,-999.000
   3220CGC92_1,   P13,    54,  1,    116,   1104,2,19920909,1322, 31.3262, 164.9843, 5847,  17007,   1694.0,   2.3294,  34.5336,2,  34.5381,2,   -999.0,9,  2.2139,     47.6,2,   161.41,2,    42.37,2,     0.00,2,     3.04,2,    0.006,2,    0.006,2,    0.023,2,    0.046,2, -999.000,9,   1.8970,2,    19.20,2,   -257.4,3,    -0.47,2,-999.000,9,   -999.0,9,   -999.0,9,     3.9,-999.0000,-999.000,-999.000,  -999.0,-999.000
   3220CGC92_1,   P13,    54,  1,    115,   1020,2,19920909,1322, 31.3262, 164.9843, 5847,  19994,   1993.0,   2.0195,  34.5891,2,  34.5914,2,   -999.0,9,  1.8835,     72.5,2,   163.11,2,    41.05,2,     0.00,2,     2.90,2,   -0.003,2,    0.005,2,    0.041,2,    0.017,2, -999.000,9,   1.9030,2,    19.10,2,   -999.0,5,    -0.40,2,-999.000,9,   -999.0,9,   -999.0,9,  -999.0,-999.0000,-999.000,-999.000,  -999.0,-999.000
   3220CGC92_1,   P13,    54,  1,    114,   1012,2,19920909,1322, 31.3262, 164.9843, 5847,  22961,   2290.0,   1.8176,  34.6227,2,  34.6234,2,   -999.0,9,  1.6593,     93.0,2,   162.88,2,    39.06,2,     0.00,2,     2.82,2,    0.001,2,    0.001,2,    0.045,2,    0.014,2, -999.000,9,   1.9130,2,    18.50,2,   -999.0,9,  -999.00,9,-999.000,9,   -999.0,9,   -999.0,9,  -999.0,-999.0000,-999.000,-999.000,  -999.0,-999.000
   3220CGC92_1,   P13,    54,  1,    113,   1229,2,19920909,1322, 31.3262, 164.9843, 5847,  25981,   2593.0,   1.6826,  34.6452,2,  34.6439,2,   -999.0,9,  1.4999,    110.4,2,   160.12,2,    38.01,2,     0.00,2,     2.69,2,   -0.008,2,   -0.009,2, -999.000,9, -999.000,9, -999.000,9,   1.8990,2,    18.50,2,   -999.0,9,  -999.00,9,-999.000,9,   2353.1,2,   2419.1,2,  -999.0,-999.0000,-999.000,-999.000,  -999.0,-999.000
   3220CGC92_1,   P13,    54,  1,    112,   1219,2,19920909,1322, 31.3262, 164.9843, 5847,  28995,   2895.0,   1.5956,  34.6595,2,  34.6569,2,   -999.0,9,  1.3867,    122.8,2,   157.98,2,    37.44,2,     0.00,2,     2.63,2, -999.000,9, -999.000,9, -999.000,9, -999.000,9, -999.000,9,   1.9050,2,    17.90,2,   -999.0,9,  -999.00,9,-999.000,9,   2346.9,2,   2419.3,2,  -999.0,-999.0000,-999.000,-999.000,  -999.0,-999.000
   3220CGC92_1,   P13,    54,  1,    111,   1112,2,19920909,1322, 31.3262, 164.9843, 5847,  32003,   3197.0,   1.5426,  34.6689,2,  34.6665,2,   -999.0,9,  1.3058,    132.2,2,   155.90,2,    37.35,2,     0.00,2,     2.62,2, -999.000,9, -999.000,9, -999.000,9, -999.000,9, -999.000,9,   1.9230,2,    17.20,2,   -999.0,9,  -999.00,9,-999.000,9,   2338.6,2,   2421.7,2,  -999.0,-999.0000,-999.000,-999.000,  -999.0,-999.000
   3220CGC92_1,   P13,    54,  1,    110,   1029,2,19920909,1322, 31.3262, 164.9843, 5847,  35006,   3498.0,   1.5046,  34.6758,2,  34.6728,2,   -999.0,9,  1.2386,    139.7,2,   154.14,2,    36.72,2,     0.00,2,     2.60,2,    0.003,2,    0.010,2, -999.000,9, -999.000,9, -999.000,9,   1.9010,2,    17.30,2,   -999.0,9,  -999.00,9,-999.000,9,   2335.2,2,   2417.8,2,  -999.0,-999.0000,-999.000,-999.000,  -999.0,-999.000
   3220CGC92_1,   P13,    54,  1,    109,   1023,2,19920909,1322, 31.3262, 164.9843, 5847,  37982,   3796.0,   1.4806,  34.6807,2,  34.6790,2,   -999.0,9,  1.1842,    145.0,2,   153.21,2,    36.88,2,     0.00,2,     2.61,2, -999.000,9, -999.000,9, -999.000,9, -999.000,9, -999.000,9,   1.9100,2,    16.10,2,   -999.0,9,  -999.00,9,-999.000,9,   2332.0,2,   2418.9,2,  -999.0,-999.0000,-999.000,-999.000,  -999.0,-999.000
   3220CGC92_1,   P13,    54,  1,    108,   1032,2,19920909,1322, 31.3262, 164.9843, 5847,  41002,   4099.0,   1.4676,  34.6847,2,  34.6847,2,   -999.0,9,  1.1388,    150.9,2,   150.60,2,    36.20,2,     0.00,2,     2.58,2, -999.000,9, -999.000,9, -999.000,9, -999.000,9, -999.000,9,   1.9030,2,    15.90,2,   -999.0,9,  -999.00,9,-999.000,9,   2326.1,2,   2416.6,2,  -999.0,-999.0000,-999.000,-999.000,  -999.0,-999.000
   3220CGC92_1,   P13,    54,  1,    107,   1037,2,19920909,1322, 31.3262, 164.9843, 5847,  44996,   4499.0,   1.4646,  34.6893,2,  34.6859,2,    156.0,2,  1.0908,    157.3,2,   148.28,2,    35.76,2,     0.00,2,     2.53,2,    0.008,2,   -0.009,2,    0.039,2,    0.033,2, -999.000,9,   1.9050,2,    15.70,2,   -999.0,9,  -999.00,9,-999.000,9,   2320.3,2,   2416.0,2,  -999.0,-999.0000,-999.000,-999.000,  -999.0,-999.000
   3220CGC92_1,   P13,    54,  1,    106,   1022,2,19920909,1322, 31.3262, 164.9843, 5847,  48996,   4899.0,   1.4716,  34.6924,2,  34.6904,2,   -999.0,9,  1.0505,    164.3,2,   143.41,2,    35.00,2,     0.00,2,     2.48,2, -999.000,9, -999.000,9, -999.000,9, -999.000,9, -999.000,9,   1.9150,2,    15.00,2,   -999.0,9,  -999.00,9,-999.000,9,   2315.1,2,   2407.1,2,  -999.0,-999.0000,-999.000,-999.000,  -999.0,-999.000
   3220CGC92_1,   P13,    54,  1,    105,   1221,2,19920909,1322, 31.3262, 164.9843, 5847,  52997,   5299.0,   1.4836,  34.6941,2,  34.6929,2,   -999.0,9,  1.0129,    169.3,2,   139.45,2,    34.79,2,     0.00,2,     2.44,2, -999.000,9, -999.000,9, -999.000,9, -999.000,9, -999.000,9,   1.8950,2,    13.90,2,   -999.0,9,  -999.00,9,-999.000,9,   2308.9,2,   2407.0,2,  -999.0,-999.0000,-999.000,-999.000,  -999.0,-999.000
   3220CGC92_1,   P13,    54,  1,    104,   1038,2,19920909,1322, 31.3262, 164.9843, 5847,  57006,   5699.0,   1.5156,  34.6957,2,  34.6950,2,    185.6,2,  0.9927,    172.8,2,   136.87,2,    34.57,2,     0.00,2,     2.42,2,    0.001,2,   -0.005,2, -999.000,9, -999.000,9, -999.000,9,   1.8970,2,    14.10,2,   -999.0,9,  -999.00,9,-999.000,9,   2304.5,2,   2403.4,2,  -999.0,-999.0000,-999.000,-999.000,  -999.0,-999.000
   3220CGC92_1,   P13,    54,  1,    103,   1033,2,19920909,1322, 31.3262, 164.9843, 5847,  58026,   5801.0,   1.5286,  34.6949,2,  34.6959,4,    176.6,2,  0.9919,    172.8,2,   137.38,2,    34.85,2,     0.00,2,     2.43,2,    0.001,2,    0.014,3, -999.000,9, -999.000,9, -999.000,9,   1.8880,2,    14.10,2,   -999.0,9,  -999.00,9,-999.000,9,   2305.2,6,   2403.3,2,  -999.0,-999.0000,-999.000,-999.000,  -999.0,-999.000