BOTTLE,20221003CCHSIOAMB
EXPOCODE,SECT_ID,STNNBR,CASTNO,SAMPNO,BTLNBR,BTLNBR_FLAG_W,DATE,TIME,LATITUDE,LONGITUDE,DEPTH,CTDRAW,CTDPRS,CTDTMP,CTDSAL,CTDSAL_FLAG_W,SALNTY,SALNTY_FLAG_W,CTDOXY,CTDOXY_FLAG_W,THETA,OXYGEN,OXYGEN_FLAG_W,SILCAT,SILCAT_FLAG_W,NITRAT,NITRAT_FLAG_W,NITRIT,NITRIT_FLAG_W,PHSPHT,PHSPHT_FLAG_W,CFC-11,CFC-11_FLAG_W,CFC-12,CFC-12_FLAG_W,CFC113,CFC113_FLAG_W,CCL4,CCL4_FLAG_W,TRITUM,TRITUM_FLAG_W,HELIUM,HELIUM_FLAG_W,DELHE3,DELHE3_FLAG_W,DELC14,DELC14_FLAG_W,DELC13,DELC13_FLAG_W,NEON,NEON_FLAG_W,TCARBN,TCARBN_FLAG_W,ALKALI,ALKALI_FLAG_W,C14ERR,HELIER,DELHER,NEONER,C13ERR,TRITER
,,,,,,,,,,,,DBAR,DBAR,ITS-90,PSS-78,,PSS-78,,UMOL/KG,,DEG C,UMOL/KG,,UMOL/KG,,UMOL/KG,,UMOL/KG,,UMOL/KG,,PMOL/KG,,PMOL/KG,,PMOL/KG,,PMOL/KG,,TU,,NMOL/KG,,PERCNT,,/MILLE,,/MILLE,,NMOL/KG,,UMOL/KG,,UMOL/KG,,/MILLE,NMOL/KG,PERCNT,NMOL/KG,/MILLE,TU
   3220CGC92_1,   P13,    53,  1,    124,   1026,2,19920908,1343, 31.9995, 165.0075, -999,     98,      7.2,  26.9762,  34.9004,2,  34.8465,2,   -999.0,9, 26.9746,    223.2,2,     1.58,2,     0.00,2,     0.00,2,     0.00,2,    1.781,2,    0.966,2, -999.000,9, -999.000,9, -999.000,9,-999.0000,9,  -999.00,9,   -999.0,9,  -999.00,9,-999.000,9,   -999.0,9,   -999.0,9,  -999.0,-999.0000,-999.000,-999.000,  -999.0,-999.000
   3220CGC92_1,   P13,    53,  1,    125,   1035,2,19920908,1343, 31.9995, 165.0075, -999,     98,      7.2,  26.9762,  34.9004,2,  34.8513,2,   -999.0,9, 26.9746,   -999.0,5,     1.62,2,     0.00,2,     0.00,2,     0.00,2, -999.000,9, -999.000,9, -999.000,9, -999.000,9, -999.000,9,-999.0000,9,  -999.00,9,   -999.0,9,  -999.00,9,-999.000,9,   1961.4,6,   2286.9,6,  -999.0,-999.0000,-999.000,-999.000,  -999.0,-999.000
   3220CGC92_1,   P13,    53,  1,    123,   1014,2,19920908,1343, 31.9995, 165.0075, -999,    240,     21.2,  26.3155,  34.8870,2,  34.7875,4,   -999.0,9, 26.3107,    230.9,2,     1.68,2,     0.00,2,     0.00,2,     0.00,2,    1.869,2,    1.014,2, -999.000,9, -999.000,9, -999.000,9,-999.0000,9,  -999.00,9,   -999.0,9,  -999.00,9,-999.000,9,   1958.2,2,   2281.3,2,  -999.0,-999.0000,-999.000,-999.000,  -999.0,-999.000
   3220CGC92_1,   P13,    53,  1,    122,   1015,2,19920908,1343, 31.9995, 165.0075, -999,    487,     45.8,  22.3925,  34.7881,2,  34.7438,2,   -999.0,9, 22.3834,    246.3,2,     1.83,2,     0.00,2,     0.00,2,     0.00,2,    2.246,2,    1.164,2, -999.000,9, -999.000,9, -999.000,9,-999.0000,9,  -999.00,9,   -999.0,9,  -999.00,9,-999.000,9,   1961.4,2,   2279.1,2,  -999.0,-999.0000,-999.000,-999.000,  -999.0,-999.000
   3220CGC92_1,   P13,    53,  1,    121,   1235,2,19920908,1343, 31.9995, 165.0075, -999,    755,     72.4,  19.6953,  34.8863,2,  34.8003,4,   -999.0,9, 19.6821,    239.5,2,     2.15,2,     0.00,2,     0.00,2,     0.00,2,    2.448,2,    1.268,2, -999.000,9, -999.000,9, -999.000,9,-999.0000,9,  -999.00,9,   -999.0,9,  -999.00,9,-999.000,9,   1978.3,2,   2284.8,2,  -999.0,-999.0000,-999.000,-999.000,  -999.0,-999.000
   3220CGC92_1,   P13,    53,  1,    120,   1237,2,19920908,1343, 31.9995, 165.0075, -999,    998,     96.6,  18.1038,  34.8736,2,  34.8521,2,   -999.0,9, 18.0871,    233.4,2,     2.32,2,     0.00,2,     0.00,2,     0.00,2,    2.477,2,    1.270,2, -999.000,9, -999.000,9, -999.000,9,-999.0000,9,  -999.00,9,   -999.0,9,  -999.00,9,-999.000,9,   1995.0,2,   2287.3,2,  -999.0,-999.0000,-999.000,-999.000,  -999.0,-999.000
   3220CGC92_1,   P13,    53,  1,    119,   1025,2,19920908,1343, 31.9995, 165.0075, -999,   1239,    120.5,  17.6239,  34.8438,2,  34.7999,2,   -999.0,9, 17.6035,    219.0,2,     2.81,2,     0.00,2,     0.00,2,     0.00,2,    2.518,2,    1.295,2, -999.000,9, -999.000,9, -999.000,9,-999.0000,9,  -999.00,9,   -999.0,9,  -999.00,9,-999.000,9,   2006.2,2,   2283.8,2,  -999.0,-999.0000,-999.000,-999.000,  -999.0,-999.000
   3220CGC92_1,   P13,    53,  1,    118,   1118,2,19920908,1343, 31.9995, 165.0075, -999,   1503,    146.8,  17.2710,  34.8286,2,  34.7881,2,   -999.0,9, 17.2465,    217.1,2,     3.34,2,     0.45,2,     0.00,2,     0.05,2,    1.786,2,    0.966,2, -999.000,9, -999.000,9, -999.000,9,-999.0000,9,  -999.00,9,   -999.0,9,  -999.00,9,-999.000,9,   2010.2,2,   2283.1,2,  -999.0,-999.0000,-999.000,-999.000,  -999.0,-999.000
   3220CGC92_1,   P13,    53,  1,    117,   1005,2,19920908,1343, 31.9995, 165.0075, -999,   1752,    171.6,  17.0690,  34.8229,2,  34.7810,2,   -999.0,9, 17.0406,    216.7,2,     3.77,2,     1.06,2,     0.00,2,     0.08,2,    2.440,2,    1.260,2, -999.000,9, -999.000,9, -999.000,9,-999.0000,9,  -999.00,9,   -999.0,9,  -999.00,9,-999.000,9,   2011.3,2,   2282.1,2,  -999.0,-999.0000,-999.000,-999.000,  -999.0,-999.000
   3220CGC92_1,   P13,    53,  1,    116,   1104,2,19920908,1343, 31.9995, 165.0075, -999,   1995,    195.7,  16.8870,  34.8095,2,  34.7718,2,   -999.0,9, 16.8549,    216.5,2,     3.98,2,     1.60,2,     0.00,2,     0.09,2,    2.520,2,    1.296,2, -999.000,9, -999.000,9, -999.000,9,-999.0000,9,  -999.00,9,   -999.0,9,  -999.00,9,-999.000,9,   2014.6,2,   2283.4,2,  -999.0,-999.0000,-999.000,-999.000,  -999.0,-999.000
   3220CGC92_1,   P13,    53,  1,    115,   1020,2,19920908,1343, 31.9995, 165.0075, -999,   2498,    245.8,  16.5292,  34.7927,2,  34.7533,2,   -999.0,9, 16.4894,    218.8,2,     4.47,2,     2.18,2,     0.00,2,     0.13,2,    2.561,2,    1.316,2, -999.000,9, -999.000,9, -999.000,9,-999.0000,9,  -999.00,9,   -999.0,9,  -999.00,9,-999.000,9,   2017.7,2,   2282.8,2,  -999.0,-999.0000,-999.000,-999.000,  -999.0,-999.000
   3220CGC92_1,   P13,    53,  1,    114,   1012,2,19920908,1343, 31.9995, 165.0075, -999,   3012,    297.0,  16.1763,  34.7727,2,  34.7354,2,   -999.0,9, 16.1289,    221.5,2,     5.02,2,     2.71,2,     0.00,2,     0.18,2,    2.561,2,    1.314,2, -999.000,9, -999.000,9, -999.000,9,-999.0000,9,  -999.00,9,   -999.0,9,  -999.00,9,-999.000,9,   2020.6,2,   2282.9,2,  -999.0,-999.0000,-999.000,-999.000,  -999.0,-999.000
   3220CGC92_1,   P13,    53,  1,    113,   1229,2,19920908,1343, 31.9995, 165.0075, -999,   3477,    343.2,  15.8554,  34.7337,2,  34.6935,2,   -999.0,9, 15.8013,    211.7,2,     6.64,2,     4.09,2,     0.00,2,     0.26,2,    2.470,2,    1.272,2, -999.000,9, -999.000,9, -999.000,9,-999.0000,9,  -999.00,9,   -999.0,9,  -999.00,9,-999.000,9,   2031.3,2,   2281.5,2,  -999.0,-999.0000,-999.000,-999.000,  -999.0,-999.000
   3220CGC92_1,   P13,    53,  1,    112,   1219,2,19920908,1343, 31.9995, 165.0075, -999,   3970,    392.3,  14.8716,  34.6347,2,  34.6027,2,   -999.0,9, 14.8124,    198.5,2,     9.84,2,     8.40,2,     0.00,2,     0.56,2,    2.311,2,    1.183,2, -999.000,9, -999.000,9, -999.000,9,-999.0000,9,  -999.00,9,   -999.0,9,  -999.00,9,-999.000,9,   2051.7,2,   2278.0,2,  -999.0,-999.0000,-999.000,-999.000,  -999.0,-999.000
   3220CGC92_1,   P13,    53,  1,    111,   1112,2,19920908,1343, 31.9995, 165.0075, -999,   4993,    494.2,  11.8834,  34.4130,2,  34.3845,2,   -999.0,9, 11.8190,    193.8,2,    19.23,2,    13.52,2,     0.00,2,     0.91,2,    2.229,2,    1.099,2, -999.000,9, -999.000,9, -999.000,9,-999.0000,9,  -999.00,9,   -999.0,9,  -999.00,9,-999.000,9,   2091.4,2,   2276.0,2,  -999.0,-999.0000,-999.000,-999.000,  -999.0,-999.000
   3220CGC92_1,   P13,    53,  1,    110,   1029,2,19920908,1343, 31.9995, 165.0075, -999,   6017,    596.3,   8.8504,  34.1625,2,  34.1368,2,   -999.0,9,  8.7855,    192.0,2,    32.06,2,    19.00,2,     0.00,2,     1.34,2,    2.386,6,    1.153,6, -999.000,9, -999.000,9, -999.000,9,-999.0000,9,  -999.00,9,   -999.0,9,  -999.00,9,-999.000,9,   2131.4,2,   2276.4,2,  -999.0,-999.0000,-999.000,-999.000,  -999.0,-999.000
   3220CGC92_1,   P13,    53,  1,    109,   1023,3,19920908,1343, 31.9995, 165.0075, -999,   6990,    693.4,   6.6799,  34.0219,2,  34.0207,2,   -999.0,9,  6.6153,    162.1,3,    51.63,2,    25.87,2,     0.00,2,     1.94,2,    2.072,2,    0.970,2, -999.000,9, -999.000,9, -999.000,9,-999.0000,9,  -999.00,9,   -999.0,9,  -999.00,9,-999.000,9,   2188.2,2,   2286.6,2,  -999.0,-999.0000,-999.000,-999.000,  -999.0,-999.000
   3220CGC92_1,   P13,    53,  1,    108,   1032,3,19920908,1343, 31.9995, 165.0075, -999,   8002,    794.3,   5.0084,  34.0557,2,  34.3082,4,   -999.0,9,  4.9439,    147.7,4,    44.84,2,    21.78,2,     0.00,2,     1.46,2, -999.000,9, -999.000,9, -999.000,9, -999.000,9, -999.000,9,-999.0000,9,  -999.00,9,   -999.0,9,  -999.00,9,-999.000,9,   2170.0,2,   2292.8,2,  -999.0,-999.0000,-999.000,-999.000,  -999.0,-999.000
   3220CGC92_1,   P13,    53,  1,    107,   1037,2,19920908,1343, 31.9995, 165.0075, -999,   8973,    891.2,   4.4885,  34.1511,2,  34.1334,2,   -999.0,9,  4.4190,     77.0,2,    96.16,2,    37.60,2,     0.00,2,     2.73,2,    0.720,2,    0.341,2, -999.000,9, -999.000,9, -999.000,9,-999.0000,9,  -999.00,9,   -999.0,9,  -999.00,9,-999.000,9,   2292.2,2,   2324.4,2,  -999.0,-999.0000,-999.000,-999.000,  -999.0,-999.000
   3220CGC92_1,   P13,    53,  1,    106,   1022,2,19920908,1343, 31.9995, 165.0075, -999,   9997,    993.4,   3.9836,  34.2447,2,  34.2262,2,   -999.0,9,  3.9091,     52.0,6,   112.44,2,    40.07,2,     0.00,2,     2.89,2,    0.285,2,    0.131,2, -999.000,9, -999.000,9, -999.000,9,-999.0000,9,  -999.00,9,   -999.0,9,  -999.00,9,-999.000,9,   2325.0,2,   2342.5,2,  -999.0,-999.0000,-999.000,-999.000,  -999.0,-999.000
   3220CGC92_1,   P13,    53,  1,    105,   1221,2,19920908,1343, 31.9995, 165.0075, -999,  12015,   1195.1,   3.2889,  34.3693,2,  34.3529,2,   -999.0,9,  3.2035,     37.5,2,   133.63,2,    41.61,2,     0.00,2,     3.07,2,    0.064,2,    0.026,2, -999.000,9, -999.000,9, -999.000,9,-999.0000,9,  -999.00,9,   -999.0,9,  -999.00,9,-999.000,9,   2356.3,2,   2369.5,2,  -999.0,-999.0000,-999.000,-999.000,  -999.0,-999.000
   3220CGC92_1,   P13,    53,  1,    104,   1038,2,19920908,1343, 31.9995, 165.0075, -999,  14010,   1394.6,   2.8120,  34.4478,2,  34.4355,2,   -999.0,9,  2.7152,     35.6,2,   148.28,2,    42.37,2,     0.00,2,     3.13,2,    0.018,2,    0.011,2, -999.000,9, -999.000,9, -999.000,9,-999.0000,9,  -999.00,9,   -999.0,9,  -999.00,9,-999.000,9,   2373.8,2,   2387.4,2,  -999.0,-999.0000,-999.000,-999.000,  -999.0,-999.000
   3220CGC92_1,   P13,    53,  1,    103,   1033,2,19920908,1343, 31.9995, 165.0075, -999,  16972,   1691.3,   2.3201,  34.5339,2,  34.5225,2,   -999.0,9,  2.2050,     45.7,2,   161.35,2,    42.40,2,     0.00,2,     3.08,2, -999.000,5, -999.000,5, -999.000,9, -999.000,9, -999.000,9,-999.0000,9,  -999.00,9,   -999.0,9,  -999.00,9,-999.000,9,   2382.3,6,   2404.1,6,  -999.0,-999.0000,-999.000,-999.000,  -999.0,-999.000
   3220CGC92_1,   P13,    53,  1,    102,   1234,2,19920908,1343, 31.9995, 165.0075, -999,  19985,   1993.8,   1.9952,  34.5886,2,  34.5837,6,   -999.0,9,  1.8595,     67.4,2,   166.38,2,    41.27,2,     0.00,2,     2.96,2,   -0.002,6,    0.002,2, -999.000,9, -999.000,9, -999.000,9,-999.0000,9,  -999.00,9,   -999.0,9,  -999.00,9,-999.000,9,   2375.3,2,   2413.9,2,  -999.0,-999.0000,-999.000,-999.000,  -999.0,-999.000
   3220CGC92_1,   P13,    53,  1,    101,   1238,4,19920908,1343, 31.9995, 165.0075, -999,  21996,   2196.5,   1.8603,  34.6152,2,-999.0000,9,   -999.0,9,  1.7094,   -999.0,9,  -999.00,5,  -999.00,9,  -999.00,9,  -999.00,5, -999.000,9, -999.000,9, -999.000,9, -999.000,9, -999.000,9,-999.0000,9,  -999.00,9,   -999.0,9,  -999.00,9,-999.000,9,   -999.0,9,   -999.0,9,  -999.0,-999.0000,-999.000,-999.000,  -999.0,-999.000