BOTTLE,20221003CCHSIOAMB
EXPOCODE,SECT_ID,STNNBR,CASTNO,SAMPNO,BTLNBR,BTLNBR_FLAG_W,DATE,TIME,LATITUDE,LONGITUDE,DEPTH,CTDRAW,CTDPRS,CTDTMP,CTDSAL,CTDSAL_FLAG_W,SALNTY,SALNTY_FLAG_W,CTDOXY,CTDOXY_FLAG_W,THETA,OXYGEN,OXYGEN_FLAG_W,SILCAT,SILCAT_FLAG_W,NITRAT,NITRAT_FLAG_W,NITRIT,NITRIT_FLAG_W,PHSPHT,PHSPHT_FLAG_W,CFC-11,CFC-11_FLAG_W,CFC-12,CFC-12_FLAG_W,CFC113,CFC113_FLAG_W,CCL4,CCL4_FLAG_W,TRITUM,TRITUM_FLAG_W,HELIUM,HELIUM_FLAG_W,DELHE3,DELHE3_FLAG_W,DELC14,DELC14_FLAG_W,DELC13,DELC13_FLAG_W,NEON,NEON_FLAG_W,TCARBN,TCARBN_FLAG_W,ALKALI,ALKALI_FLAG_W,C14ERR,HELIER,DELHER,NEONER,C13ERR,TRITER
,,,,,,,,,,,,DBAR,DBAR,ITS-90,PSS-78,,PSS-78,,UMOL/KG,,DEG C,UMOL/KG,,UMOL/KG,,UMOL/KG,,UMOL/KG,,UMOL/KG,,PMOL/KG,,PMOL/KG,,PMOL/KG,,PMOL/KG,,TU,,NMOL/KG,,PERCNT,,/MILLE,,/MILLE,,NMOL/KG,,UMOL/KG,,UMOL/KG,,/MILLE,NMOL/KG,PERCNT,NMOL/KG,/MILLE,TU
   3220CGC92_2,   P13,    77,  1,    136,   1106,2,19921014,0330,  0.5047, 164.9828, 4253,     93,      6.0,  30.2417,  34.6778,2,  34.6269,2,    190.7,2, 30.2402,    192.7,2,     0.81,2,     0.00,2,     0.00,2,     0.02,2,    1.542,2,    0.921,2, -999.000,9, -999.000,9, -999.000,9,-999.0000,9,  -999.00,9,   -999.0,9,  -999.00,9,-999.000,9,   1912.6,2,   2277.1,2,  -999.0,-999.0000,-999.000,-999.000,  -999.0,-999.000
   3220CGC92_2,   P13,    77,  1,    135,   1013,2,19921014,0330,  0.5047, 164.9828, 4253,    241,     21.0,  30.2187,  34.6820,2,  34.6372,2,    187.9,2, 30.2135,    193.0,2,     0.86,2,     0.00,2,     0.00,2,     0.02,2, -999.000,9, -999.000,9, -999.000,9, -999.000,9, -999.000,9,-999.0000,9,  -999.00,9,   -999.0,9,  -999.00,9,-999.000,9,   -999.0,9,   -999.0,9,  -999.0,-999.0000,-999.000,-999.000,  -999.0,-999.000
   3220CGC92_2,   P13,    77,  1,    134,   1030,2,19921014,0330,  0.5047, 164.9828, 4253,    514,     48.0,  30.2277,  34.7507,2,  34.6927,4,   -999.0,9, 30.2158,    194.1,2,     0.90,2,     0.00,2,     0.00,2,     0.03,2,    1.537,2,    0.907,2, -999.000,9, -999.000,9, -999.000,9,-999.0000,9,  -999.00,9,   -999.0,9,  -999.00,9,-999.000,9,   -999.0,9,   -999.0,9,  -999.0,-999.0000,-999.000,-999.000,  -999.0,-999.000
   3220CGC92_2,   P13,    77,  1,    133,   1231,2,19921014,0330,  0.5047, 164.9828, 4253,    741,     71.0,  28.4542,  35.0360,2,  35.0066,2,    184.9,2, 28.4372,    191.6,2,     1.29,2,     0.00,2,     0.00,2,     0.12,2, -999.000,9, -999.000,9, -999.000,9, -999.000,9, -999.000,9,-999.0000,9,  -999.00,9,   -999.0,9,  -999.00,9,-999.000,9,   -999.0,9,   -999.0,9,  -999.0,-999.0000,-999.000,-999.000,  -999.0,-999.000
   3220CGC92_2,   P13,    77,  1,    132,   1017,2,19921014,0330,  0.5047, 164.9828, 4253,    964,     93.0,  23.9942,  35.1047,2,  35.0599,2,    128.3,2, 23.9747,    128.6,2,     4.47,2,     8.01,2,     0.13,2,     0.53,2,    1.534,2,    0.890,2, -999.000,9, -999.000,9, -999.000,9,-999.0000,9,  -999.00,9,   -999.0,9,  -999.00,9,-999.000,9,   -999.0,9,   -999.0,9,  -999.0,-999.0000,-999.000,-999.000,  -999.0,-999.000
   3220CGC92_2,   P13,    77,  1,    131,   1031,2,19921014,0330,  0.5047, 164.9828, 4253,   1248,    121.0,  22.3126,  35.1397,2,  35.1367,2,    123.8,2, 22.2885,    128.2,2,     5.62,2,     8.95,2,     0.00,2,     0.56,2, -999.000,9, -999.000,9, -999.000,9, -999.000,9, -999.000,9,-999.0000,9,  -999.00,9,   -999.0,9,  -999.00,9,-999.000,9,   -999.0,9,   -999.0,9,  -999.0,-999.0000,-999.000,-999.000,  -999.0,-999.000
   3220CGC92_2,   P13,    77,  1,    130,   1041,2,19921014,0330,  0.5047, 164.9828, 4253,   1508,    147.0,  21.5548,  35.1865,2,  35.1970,2,    125.0,2, 21.5261,    127.8,2,     5.97,2,     9.62,2,     0.00,2,     0.60,2,    1.474,2,    0.839,2, -999.000,9, -999.000,9, -999.000,9,-999.0000,9,  -999.00,9,   -999.0,9,  -999.00,9,-999.000,9,   -999.0,9,   -999.0,9,  -999.0,-999.0000,-999.000,-999.000,  -999.0,-999.000
   3220CGC92_2,   P13,    77,  1,    129,   1004,2,19921014,0330,  0.5047, 164.9828, 4253,   1761,    172.0,  17.5728,  34.8846,2,  34.8190,4,    141.7,2, 17.5438,    145.2,6,    11.27,2,    10.62,2,     0.00,2,     0.70,2, -999.000,9, -999.000,9, -999.000,9, -999.000,9, -999.000,9,-999.0000,9,  -999.00,9,   -999.0,9,  -999.00,9,-999.000,9,   -999.0,9,   -999.0,9,  -999.0,-999.0000,-999.000,-999.000,  -999.0,-999.000
   3220CGC92_2,   P13,    77,  1,    128,   1016,2,19921014,0330,  0.5047, 164.9828, 4253,   2011,    197.0,  15.2703,  34.8055,2,  34.8088,2,    138.8,2, 15.2402,    140.4,2,    15.31,2,    14.28,2,     0.00,2,     0.92,2,    1.355,2,    0.753,2, -999.000,9, -999.000,9, -999.000,9,-999.0000,9,  -999.00,9,   -999.0,9,  -999.00,9,-999.000,9,   -999.0,9,   -999.0,9,  -999.0,-999.0000,-999.000,-999.000,  -999.0,-999.000
   3220CGC92_2,   P13,    77,  1,    127,   1028,2,19921014,0330,  0.5047, 164.9828, 4253,   2485,    244.0,  13.1468,  34.8381,2,  34.8131,2,    132.3,2, 13.1130,    134.8,2,    18.28,2,    17.90,2,     0.00,2,     1.20,2, -999.000,9, -999.000,9, -999.000,9, -999.000,9, -999.000,9,-999.0000,9,  -999.00,9,   -999.0,9,  -999.00,9,-999.000,9,   -999.0,9,   -999.0,9,  -999.0,-999.0000,-999.000,-999.000,  -999.0,-999.000
   3220CGC92_2,   P13,    77,  1,    126,   1110,2,19921014,0330,  0.5047, 164.9828, 4253,   2995,    295.0,  12.4360,  34.8665,2,  34.9086,2,    129.4,2, 12.3965,    130.5,2,    16.00,2,    19.02,2,     0.00,2,     1.23,2,    0.771,2,    0.459,2, -999.000,9, -999.000,9, -999.000,9,-999.0000,9,  -999.00,9,   -999.0,9,  -999.00,9,-999.000,9,   -999.0,9,   -999.0,9,  -999.0,-999.0000,-999.000,-999.000,  -999.0,-999.000
   3220CGC92_2,   P13,    77,  1,    125,   1035,2,19921014,0330,  0.5047, 164.9828, 4253,   3462,    341.0,  11.1433,  34.7867,2,  34.7977,2,     81.5,2, 11.1008,     82.7,2,    23.74,2,    26.62,2,     0.00,2,     1.79,2, -999.000,9, -999.000,9, -999.000,9, -999.000,9, -999.000,9,-999.0000,9,  -999.00,9,   -999.0,9,  -999.00,9,-999.000,9,   -999.0,9,   -999.0,9,  -999.0,-999.0000,-999.000,-999.000,  -999.0,-999.000
   3220CGC92_2,   P13,    77,  1,    124,   1019,2,19921014,0330,  0.5047, 164.9828, 4253,   3999,    395.0,   9.9746,  34.6983,2,  34.7185,6,     97.6,2,  9.9285,     98.3,2,    26.63,2,    26.76,2,     0.00,2,     1.78,2,    0.316,2,    0.195,2, -999.000,9, -999.000,9, -999.000,9,-999.0000,9,  -999.00,9,   -999.0,9,  -999.00,9,-999.000,9,   -999.0,9,   -999.0,9,  -999.0,-999.0000,-999.000,-999.000,  -999.0,-999.000
   3220CGC92_2,   P13,    77,  1,    123,   1014,2,19921014,0330,  0.5047, 164.9828, 4253,   4498,    444.0,   9.1968,  34.6666,2,  34.6714,2,     83.4,2,  9.1474,     80.3,2,    31.95,2,    31.34,2,     0.00,2,     2.08,2, -999.000,9, -999.000,9, -999.000,9, -999.000,9, -999.000,9,-999.0000,9,  -999.00,9,   -999.0,9,  -999.00,9,-999.000,9,   -999.0,9,   -999.0,9,  -999.0,-999.0000,-999.000,-999.000,  -999.0,-999.000
   3220CGC92_2,   P13,    77,  1,    122,   1015,2,19921014,0330,  0.5047, 164.9828, 4253,   4979,    492.0,   8.6109,  34.6263,2,  34.6320,2,     83.1,2,  8.5582,    103.1,2,    32.37,2,    30.16,3,     0.00,2,     2.06,2,    0.186,2,    0.116,2, -999.000,9, -999.000,9, -999.000,9,-999.0000,9,  -999.00,9,   -999.0,9,  -999.00,9,-999.000,9,   -999.0,9,   -999.0,9,  -999.0,-999.0000,-999.000,-999.000,  -999.0,-999.000
   3220CGC92_2,   P13,    77,  1,    121,   1235,2,19921014,0330,  0.5047, 164.9828, 4253,   5757,    570.0,   7.5942,  34.5765,2,  34.5805,2,    112.1,2,  7.5372,    115.8,2,    35.47,2,    31.00,3,     0.00,2,     2.12,2, -999.000,9, -999.000,9, -999.000,9, -999.000,9, -999.000,9,-999.0000,9,  -999.00,9,   -999.0,9,  -999.00,9,-999.000,9,   -999.0,9,   -999.0,9,  -999.0,-999.0000,-999.000,-999.000,  -999.0,-999.000
   3220CGC92_2,   P13,    77,  1,    120,   1237,2,19921014,0330,  0.5047, 164.9828, 4253,   7060,    700.0,   6.4335,  34.5449,2,  34.5529,2,     92.5,2,  6.3690,     90.2,2,    49.64,2,    35.48,2,     0.00,2,     2.45,2,    0.067,2,    0.057,2, -999.000,9, -999.000,9, -999.000,9,-999.0000,9,  -999.00,9,   -999.0,9,  -999.00,9,-999.000,9,   -999.0,9,   -999.0,9,  -999.0,-999.0000,-999.000,-999.000,  -999.0,-999.000
   3220CGC92_2,   P13,    77,  1,    119,   1025,2,19921014,0330,  0.5047, 164.9828, 4253,   7990,    793.0,   5.5767,  34.5343,2,  34.5374,2,     96.1,2,  5.5082,     96.2,2,    62.00,2,    35.94,2,     0.00,2,     2.52,2, -999.000,9, -999.000,9, -999.000,9, -999.000,9, -999.000,9,-999.0000,9,  -999.00,9,   -999.0,9,  -999.00,9,-999.000,9,   -999.0,9,   -999.0,9,  -999.0,-999.0000,-999.000,-999.000,  -999.0,-999.000
   3220CGC92_2,   P13,    77,  1,    118,   1118,2,19921014,0330,  0.5047, 164.9828, 4253,   8973,    891.0,   5.1558,  34.5361,2,  34.5396,2,     93.3,2,  5.0811,     93.5,2,    71.72,2,    37.28,2,     0.00,2,     2.59,2, -999.000,9, -999.000,9, -999.000,9, -999.000,9, -999.000,9,-999.0000,9,  -999.00,9,   -999.0,9,  -999.00,9,-999.000,9,   -999.0,9,   -999.0,9,  -999.0,-999.0000,-999.000,-999.000,  -999.0,-999.000
   3220CGC92_2,   P13,    77,  1,    117,   1112,2,19921014,0330,  0.5047, 164.9828, 4253,   9998,    993.0,   4.6719,  34.5438,2,  34.5476,2,     91.3,2,  4.5916,     90.6,2,    81.66,2,    37.18,2,     0.00,2,     2.67,2,    0.002,2,    0.002,2, -999.000,9, -999.000,9, -999.000,9,-999.0000,9,  -999.00,9,   -999.0,9,  -999.00,9,-999.000,9,   -999.0,9,   -999.0,9,  -999.0,-999.0000,-999.000,-999.000,  -999.0,-999.000
   3220CGC92_2,   P13,    77,  1,    116,   1104,2,19921014,0330,  0.5047, 164.9828, 4253,  11036,   1097.0,   4.2590,  34.5545,2,  34.5565,2,     93.6,2,  4.1729,     92.0,6,    90.53,2,    37.71,2,     0.00,2,     2.72,2, -999.000,9, -999.000,9, -999.000,9, -999.000,9, -999.000,9,-999.0000,9,  -999.00,9,   -999.0,9,  -999.00,9,-999.000,9,   -999.0,9,   -999.0,9,  -999.0,-999.0000,-999.000,-999.000,  -999.0,-999.000
   3220CGC92_2,   P13,    77,  1,    114,   1012,2,19921014,0330,  0.5047, 164.9828, 4253,  13005,   1293.0,   3.5821,  34.5764,2,  34.5759,2,     95.2,2,  3.4854,     95.0,2,   105.17,2,    38.31,2,     0.00,2,     2.64,2, -999.000,9, -999.000,9, -999.000,9, -999.000,9, -999.000,9,-999.0000,9,  -999.00,9,   -999.0,9,  -999.00,9,-999.000,9,   -999.0,9,   -999.0,9,  -999.0,-999.0000,-999.000,-999.000,  -999.0,-999.000
   3220CGC92_2,   P13,    77,  1,    112,   1219,2,19921014,0330,  0.5047, 164.9828, 4253,  14976,   1491.0,   3.1272,  34.5919,2,  34.5952,2,    103.2,2,  3.0187,    104.7,2,   115.07,2,    37.73,2,     0.00,2,     2.63,2, -999.000,9, -999.000,9, -999.000,9, -999.000,9, -999.000,9,-999.0000,9,  -999.00,9,   -999.0,9,  -999.00,9,-999.000,9,   -999.0,9,   -999.0,9,  -999.0,-999.0000,-999.000,-999.000,  -999.0,-999.000
   3220CGC92_2,   P13,    77,  1,    110,   1029,2,19921014,0330,  0.5047, 164.9828, 4253,  17994,   1793.0,   2.4684,  34.6225,2,  34.6235,2,    110.7,2,  2.3426,    112.2,2,   130.65,2,    37.90,2,     0.00,2,     2.69,2, -999.000,9, -999.000,9, -999.000,9, -999.000,9, -999.000,9,-999.0000,9,  -999.00,9,   -999.0,9,  -999.00,9,-999.000,9,   -999.0,9,   -999.0,9,  -999.0,-999.0000,-999.000,-999.000,  -999.0,-999.000
   3220CGC92_2,   P13,    77,  1,    109,   1023,2,19921014,0330,  0.5047, 164.9828, 4253,  20925,   2086.0,   2.1515,  34.6425,2,  34.6079,4,    114.7,2,  2.0053,    106.2,3,   123.04,3,    38.04,2,     0.00,2,     2.69,2, -999.000,9, -999.000,9, -999.000,9, -999.000,9, -999.000,9,-999.0000,9,  -999.00,9,   -999.0,9,  -999.00,9,-999.000,9,   -999.0,9,   -999.0,9,  -999.0,-999.0000,-999.000,-999.000,  -999.0,-999.000
   3220CGC92_2,   P13,    77,  1,    108,   1032,2,19921014,0330,  0.5047, 164.9828, 4253,  22961,   2290.0,   1.9935,  34.6495,2,  34.6495,2,    119.5,2,  1.8322,    121.1,2,   142.67,2,    37.64,2,     0.00,2,     2.64,2, -999.000,9, -999.000,9, -999.000,9, -999.000,9, -999.000,9,-999.0000,9,  -999.00,9,   -999.0,9,  -999.00,9,-999.000,9,   -999.0,9,   -999.0,9,  -999.0,-999.0000,-999.000,-999.000,  -999.0,-999.000
   3220CGC92_2,   P13,    77,  1,    107,   1037,2,19921014,0330,  0.5047, 164.9828, 4253,  25973,   2592.0,   1.8126,  34.6603,2,  34.6605,2,   -999.0,9,  1.6274,    127.2,2,   146.87,2,    37.41,2,     0.00,2,     2.59,2, -999.000,9, -999.000,9, -999.000,9, -999.000,9, -999.000,9,-999.0000,9,  -999.00,9,   -999.0,9,  -999.00,9,-999.000,9,   -999.0,9,   -999.0,9,  -999.0,-999.0000,-999.000,-999.000,  -999.0,-999.000
   3220CGC92_2,   P13,    77,  1,    106,   1022,2,19921014,0330,  0.5047, 164.9828, 4253,  28963,   2892.0,   1.6866,  34.6667,2,  34.6673,2,    133.4,2,  1.4760,    133.8,2,   147.69,2,    37.04,2,     0.00,2,     2.56,2, -999.000,9, -999.000,9, -999.000,9, -999.000,9, -999.000,9,-999.0000,9,  -999.00,9,   -999.0,9,  -999.00,9,-999.000,9,   -999.0,9,   -999.0,9,  -999.0,-999.0000,-999.000,-999.000,  -999.0,-999.000
   3220CGC92_2,   P13,    77,  1,    105,   1221,2,19921014,0330,  0.5047, 164.9828, 4253,  31970,   3193.0,   1.5656,  34.6751,2,  34.6749,2,   -999.0,9,  1.3286,    142.9,2,   146.94,2,    36.58,2,     0.00,2,     2.53,2, -999.000,9, -999.000,9, -999.000,9, -999.000,9, -999.000,9,-999.0000,9,  -999.00,9,   -999.0,9,  -999.00,9,-999.000,9,   -999.0,9,   -999.0,9,  -999.0,-999.0000,-999.000,-999.000,  -999.0,-999.000
   3220CGC92_2,   P13,    77,  1,    104,   1038,2,19921014,0330,  0.5047, 164.9828, 4253,  34992,   3496.0,   1.5296,  34.6800,2,  34.6790,2,    148.7,2,  1.2631,    153.4,3,   145.99,2,    35.77,2,     0.00,2,     2.49,2, -999.000,9, -999.000,9, -999.000,9, -999.000,9, -999.000,9,-999.0000,9,  -999.00,9,   -999.0,9,  -999.00,9,-999.000,9,   -999.0,9,   -999.0,9,  -999.0,-999.0000,-999.000,-999.000,  -999.0,-999.000
   3220CGC92_2,   P13,    77,  1,    103,   1033,2,19921014,0330,  0.5047, 164.9828, 4253,  37968,   3795.0,   1.4876,  34.6838,2,  34.6836,2,    156.2,2,  1.1911,    148.9,3,   144.10,2,    35.27,2,     0.00,2,     2.43,2, -999.000,9, -999.000,9, -999.000,9, -999.000,9, -999.000,9,-999.0000,9,  -999.00,9,   -999.0,9,  -999.00,9,-999.000,9,   -999.0,9,   -999.0,9,  -999.0,-999.0000,-999.000,-999.000,  -999.0,-999.000
   3220CGC92_2,   P13,    77,  1,    102,   1234,2,19921014,0330,  0.5047, 164.9828, 4253,  40971,   4096.0,   1.3947,  34.6924,2,  34.6925,2,    168.8,2,  1.0682,    168.6,2,   137.25,2,    34.57,2,     0.00,2,     2.31,2, -999.000,9, -999.000,9, -999.000,9, -999.000,9, -999.000,9,-999.0000,9,  -999.00,9,   -999.0,9,  -999.00,9,-999.000,9,   -999.0,9,   -999.0,9,  -999.0,-999.0000,-999.000,-999.000,  -999.0,-999.000
   3220CGC92_2,   P13,    77,  1,    101,   1238,2,19921014,0330,  0.5047, 164.9828, 4253,  44269,   4423.0,   1.3377,  34.6992,2,  34.6986,6,    182.7,2,  0.9764,    180.9,2,   131.23,2,    33.57,2,     0.00,2,     2.27,2, -999.000,9, -999.000,9, -999.000,9, -999.000,9, -999.000,9,-999.0000,9,  -999.00,9,   -999.0,9,  -999.00,9,-999.000,9,   -999.0,9,   -999.0,9,  -999.0,-999.0000,-999.000,-999.000,  -999.0,-999.000