BOTTLE,20221003CCHSIOAMB
EXPOCODE,SECT_ID,STNNBR,CASTNO,SAMPNO,BTLNBR,BTLNBR_FLAG_W,DATE,TIME,LATITUDE,LONGITUDE,DEPTH,CTDRAW,CTDPRS,CTDTMP,CTDSAL,CTDSAL_FLAG_W,SALNTY,SALNTY_FLAG_W,CTDOXY,CTDOXY_FLAG_W,THETA,OXYGEN,OXYGEN_FLAG_W,SILCAT,SILCAT_FLAG_W,NITRAT,NITRAT_FLAG_W,NITRIT,NITRIT_FLAG_W,PHSPHT,PHSPHT_FLAG_W,CFC-11,CFC-11_FLAG_W,CFC-12,CFC-12_FLAG_W,CFC113,CFC113_FLAG_W,CCL4,CCL4_FLAG_W,TRITUM,TRITUM_FLAG_W,HELIUM,HELIUM_FLAG_W,DELHE3,DELHE3_FLAG_W,DELC14,DELC14_FLAG_W,DELC13,DELC13_FLAG_W,NEON,NEON_FLAG_W,TCARBN,TCARBN_FLAG_W,ALKALI,ALKALI_FLAG_W,C14ERR,HELIER,DELHER,NEONER,C13ERR,TRITER
,,,,,,,,,,,,DBAR,DBAR,ITS-90,PSS-78,,PSS-78,,UMOL/KG,,DEG C,UMOL/KG,,UMOL/KG,,UMOL/KG,,UMOL/KG,,UMOL/KG,,PMOL/KG,,PMOL/KG,,PMOL/KG,,PMOL/KG,,TU,,NMOL/KG,,PERCNT,,/MILLE,,/MILLE,,NMOL/KG,,UMOL/KG,,UMOL/KG,,/MILLE,NMOL/KG,PERCNT,NMOL/KG,/MILLE,TU
   3220CGC92_1,   P13,    17,  1,    135,   1033,2,19920825,0205, 50.9845, 164.9613, 4375,    111,      8.0,   9.8266,  32.8252,2,  32.8431,2,   -999.0,9,  9.8258,    288.6,2,    25.46,2,    14.51,2,     0.00,2,     1.32,2,    4.165,2,    2.110,2, -999.000,9, -999.000,9, -999.000,9,-999.0000,9,  -999.00,9,   -999.0,9,  -999.00,9,-999.000,9,   2040.4,2,   2227.8,2,  -999.0,-999.0000,-999.000,-999.000,  -999.0,-999.000
   3220CGC92_1,   P13,    17,  1,    136,   1106,2,19920825,0205, 50.9845, 164.9613, 4375,    111,      8.0,   9.8266,  32.8252,2,  32.8429,2,   -999.0,9,  9.8258,   -999.0,9,    25.22,2,    13.78,2,     0.07,2,     1.30,2, -999.000,9, -999.000,9, -999.000,9, -999.000,9, -999.000,9,-999.0000,9,  -999.00,9,    -23.3,2,     1.61,2,-999.000,9,   2040.2,6,   2225.6,6,     3.4,-999.0000,-999.000,-999.000,  -999.0,-999.000
   3220CGC92_1,   P13,    17,  1,    134,   1109,2,19920825,0205, 50.9845, 164.9613, 4375,    255,     22.0,   9.7976,  32.8270,2,  32.8471,2,   -999.0,9,  9.7952,    290.4,2,    25.50,2,    14.74,2,     0.07,2,     1.34,2, -999.000,9, -999.000,9, -999.000,9, -999.000,9, -999.000,9,-999.0000,9,  -999.00,9,   -999.0,9,  -999.00,9,-999.000,9,   2041.1,2,   2229.1,2,  -999.0,-999.0000,-999.000,-999.000,  -999.0,-999.000
   3220CGC92_1,   P13,    17,  1,    133,   1031,2,19920825,0205, 50.9845, 164.9613, 4375,    504,     47.0,   3.4732,  33.0428,2,  33.0174,2,    313.9,2,  3.4703,    322.3,2,    28.39,2,    19.08,2,     0.34,2,     1.58,2,    5.933,2,    2.824,2, -999.000,9, -999.000,9, -999.000,9,-999.0000,9,  -999.00,9,   -999.0,9,  -999.00,9,-999.000,9,   2097.8,2,   2235.1,2,  -999.0,-999.0000,-999.000,-999.000,  -999.0,-999.000
   3220CGC92_1,   P13,    17,  1,    132,   1008,2,19920825,0205, 50.9845, 164.9613, 4375,    759,     72.0,   2.8713,  33.1229,2,  33.0617,2,   -999.0,9,  2.8672,    323.5,2,    30.14,2,    21.29,2,     0.09,2,     1.66,2, -999.000,9, -999.000,9, -999.000,9, -999.000,9, -999.000,9,-999.0000,9,  -999.00,9,   -999.0,9,  -999.00,9,-999.000,9,   2111.3,2,   2241.0,2,  -999.0,-999.0000,-999.000,-999.000,  -999.0,-999.000
   3220CGC92_1,   P13,    17,  1,    131,   1030,2,19920825,0205, 50.9845, 164.9613, 4375,   1004,     97.0,   2.5524,  33.2076,2,  33.1466,2,   -999.0,9,  2.5471,    305.0,2,    43.17,2,    25.81,2,     0.00,2,     1.87,2,    5.879,2,    2.844,2, -999.000,9, -999.000,9, -999.000,9,-999.0000,9,  -999.00,9,   -999.0,9,  -999.00,9,-999.000,9,   2136.9,2,   2240.8,2,  -999.0,-999.0000,-999.000,-999.000,  -999.0,-999.000
   3220CGC92_1,   P13,    17,  1,    130,   1032,2,19920825,0205, 50.9845, 164.9613, 4375,   1252,    121.0,   2.5584,  33.2843,2,  33.2572,2,   -999.0,9,  2.5517,    282.6,2,    54.99,2,    28.67,2,     0.00,2,     2.13,2, -999.000,9, -999.000,9, -999.000,9, -999.000,9, -999.000,9,-999.0000,9,  -999.00,9,   -999.0,9,  -999.00,9,-999.000,9,   2162.6,2,   2251.7,2,  -999.0,-999.0000,-999.000,-999.000,  -999.0,-999.000
   3220CGC92_1,   P13,    17,  1,    129,   1004,2,19920825,0205, 50.9845, 164.9613, 4375,   1498,    146.0,   2.7103,  33.3190,2,  33.2763,2,   -999.0,9,  2.7021,    279.8,2,    56.29,2,    29.63,2,     0.00,2,     2.11,2, -999.000,9, -999.000,9, -999.000,9, -999.000,9, -999.000,9,-999.0000,9,  -999.00,9,   -999.0,9,  -999.00,9,-999.000,9,   2167.6,2,   2251.1,2,  -999.0,-999.0000,-999.000,-999.000,  -999.0,-999.000
   3220CGC92_1,   P13,    17,  1,    128,   1028,2,19920825,0205, 50.9845, 164.9613, 4375,   1758,    172.0,   3.5142,  33.4936,2,  33.3183,2,   -999.0,9,  3.5032,    262.0,2,    60.38,2,    30.70,2,     0.00,2,     2.21,2, -999.000,9, -999.000,9, -999.000,9, -999.000,9, -999.000,9,-999.0000,9,  -999.00,9,   -999.0,9,  -999.00,9,-999.000,9,   2181.3,2,   2330.9,4,  -999.0,-999.0000,-999.000,-999.000,  -999.0,-999.000
   3220CGC92_1,   P13,    17,  1,    127,   1117,2,19920825,0205, 50.9845, 164.9613, 4375,   2007,    196.0,   3.8371,  33.6183,2,  33.5381,2,   -999.0,9,  3.8240,    165.6,2,    72.13,2,    34.66,2,     0.00,2,     2.39,2,    3.281,2,    1.577,2, -999.000,9, -999.000,9, -999.000,9,-999.0000,9,  -999.00,9,   -999.0,9,  -999.00,9,-999.000,9,   2231.6,2,   2270.8,2,  -999.0,-999.0000,-999.000,-999.000,  -999.0,-999.000
   3220CGC92_1,   P13,    17,  1,    126,   1110,2,19920825,0205, 50.9845, 164.9613, 4375,   2496,    245.0,   3.9541,  33.7762,2,  33.7745,2,   -999.0,9,  3.9373,     84.2,2,    84.07,2,    38.36,2,     0.00,2,     2.68,2, -999.000,9, -999.000,9, -999.000,9, -999.000,9, -999.000,9,-999.0000,9,  -999.00,9,   -999.0,9,  -999.00,9,-999.000,9,   2281.6,2,   2284.5,2,  -999.0,-999.0000,-999.000,-999.000,  -999.0,-999.000
   3220CGC92_1,   P13,    17,  1,    125,   1035,2,19920825,0205, 50.9845, 164.9613, 4375,   2991,    294.0,   3.8771,  33.8667,2,  33.8662,2,     58.4,2,  3.8570,     54.3,2,    89.30,2,    40.00,2,     0.00,2,     2.81,2, -999.000,9, -999.000,9, -999.000,9, -999.000,9, -999.000,9,-999.0000,9,  -999.00,9,   -999.0,9,  -999.00,9,-999.000,9,   2302.0,2,   2340.4,4,  -999.0,-999.0000,-999.000,-999.000,  -999.0,-999.000
   3220CGC92_1,   P13,    17,  1,    124,   1026,2,19920825,0205, 50.9845, 164.9613, 4375,   3502,    345.0,   3.8041,  33.9379,2,  33.7767,4,     34.4,2,  3.7806,     34.2,2,    96.00,2,    42.24,2,     0.00,2,     2.96,2,    0.992,2,    0.466,2, -999.000,9, -999.000,9, -999.000,9,-999.0000,9,  -999.00,9,   -999.0,9,  -999.00,9,-999.000,9,   2323.1,2,   2304.0,2,  -999.0,-999.0000,-999.000,-999.000,  -999.0,-999.000
   3220CGC92_1,   P13,    17,  1,    123,   1014,2,19920825,0205, 50.9845, 164.9613, 4375,   4005,    395.0,   3.7431,  33.9987,2,  34.0007,2,     28.0,2,  3.7162,     26.6,2,   101.11,2,    43.22,2,     0.00,2,     3.08,2, -999.000,9, -999.000,9, -999.000,9, -999.000,9, -999.000,9,-999.0000,9,  -999.00,9,   -999.0,9,  -999.00,9,-999.000,9,   2331.5,2,   2317.4,2,  -999.0,-999.0000,-999.000,-999.000,  -999.0,-999.000
   3220CGC92_1,   P13,    17,  1,    122,   1015,2,19920825,0205, 50.9845, 164.9613, 4375,   5002,    495.0,   3.6121,  34.0883,2,  34.0862,2,     24.6,2,  3.5784,     23.5,2,   110.14,2,    43.42,2,     0.00,2,     3.10,2, -999.000,9, -999.000,9, -999.000,9, -999.000,9, -999.000,9,-999.0000,9,  -999.00,9,   -999.0,9,  -999.00,9,-999.000,9,   2342.0,2,   2323.4,2,  -999.0,-999.0000,-999.000,-999.000,  -999.0,-999.000
   3220CGC92_1,   P13,    17,  1,    121,   1235,2,19920825,0205, 50.9845, 164.9613, 4375,   6004,    595.0,   3.4702,  34.1625,2,  34.1701,2,     20.3,2,  3.4298,     20.9,2,   118.84,2,    43.09,2,     0.00,2,     3.09,2, -999.000,9, -999.000,9, -999.000,9, -999.000,9, -999.000,9,-999.0000,9,  -999.00,9,   -999.0,9,  -999.00,9,-999.000,9,   2347.2,2,   2342.8,2,  -999.0,-999.0000,-999.000,-999.000,  -999.0,-999.000
   3220CGC92_1,   P13,    17,  1,    120,   1237,2,19920825,0205, 50.9845, 164.9613, 4375,   7003,    694.0,   3.3012,  34.2264,2,  34.2238,2,     19.1,2,  3.2544,     18.5,2,   125.76,2,    43.11,2,     0.00,2,     3.10,2,    0.186,2,    0.093,2, -999.000,9, -999.000,9, -999.000,9,-999.0000,9,  -999.00,9,   -999.0,9,  -999.00,9,-999.000,9,   2359.2,2,   2349.0,2,  -999.0,-999.0000,-999.000,-999.000,  -999.0,-999.000
   3220CGC92_1,   P13,    17,  1,    119,   1025,2,19920825,0205, 50.9845, 164.9613, 4375,   7999,    794.0,   3.1652,  34.2724,2,  34.2759,2,     16.7,2,  3.1119,     18.7,2,   131.25,2,    42.57,2,     0.00,2,     3.07,2, -999.000,9, -999.000,9, -999.000,9, -999.000,9, -999.000,9,-999.0000,9,  -999.00,9,   -999.0,9,  -999.00,9,-999.000,9,   2365.4,2,   2362.5,2,  -999.0,-999.0000,-999.000,-999.000,  -999.0,-999.000
   3220CGC92_1,   P13,    17,  1,    118,   1002,2,19920825,0205, 50.9845, 164.9613, 4375,   9001,    894.0,   3.0273,  34.3149,2,  34.3184,2,     19.4,2,  2.9674,     18.2,2,   137.86,2,    43.61,2,     0.00,2,     3.09,2, -999.000,9, -999.000,9, -999.000,9, -999.000,9, -999.000,9,-999.0000,9,  -999.00,9,   -999.0,9,  -999.00,9,-999.000,9,   2372.0,2,   2366.7,2,  -999.0,-999.0000,-999.000,-999.000,  -999.0,-999.000
   3220CGC92_1,   P13,    17,  1,    117,   1005,2,19920825,0205, 50.9845, 164.9613, 4375,  10002,    993.0,   2.8683,  34.3488,2,  34.3575,2,     17.6,2,  2.8022,     16.9,2,   145.19,2,    43.41,2,     0.00,2,     3.10,2, -999.000,9, -999.000,9, -999.000,9, -999.000,9, -999.000,9,-999.0000,9,  -999.00,9,   -999.0,9,  -999.00,9,-999.000,9,   2378.4,2,   2377.0,2,  -999.0,-999.0000,-999.000,-999.000,  -999.0,-999.000
   3220CGC92_1,   P13,    17,  1,    116,   1104,2,19920825,0205, 50.9845, 164.9613, 4375,  11001,   1093.0,   2.7353,  34.3818,2,  34.4059,2,     21.5,2,  2.6628,     20.1,2,   147.88,2,    43.22,2,     0.00,2,     3.06,2, -999.000,9, -999.000,9, -999.000,9, -999.000,9, -999.000,9,-999.0000,9,  -999.00,9,   -999.0,9,  -999.00,9,-999.000,9,   2379.0,2,   2379.2,2,  -999.0,-999.0000,-999.000,-999.000,  -999.0,-999.000
   3220CGC92_1,   P13,    17,  1,    115,   1020,2,19920825,0205, 50.9845, 164.9613, 4375,  12001,   1193.0,   2.6214,  34.4193,2,  34.4255,2,     21.6,2,  2.5422,     22.7,2,   151.34,2,    42.64,2,     0.00,2,     3.05,2, -999.000,9, -999.000,9, -999.000,9, -999.000,9, -999.000,9,-999.0000,9,  -999.00,9,   -999.0,9,  -999.00,9,-999.000,9,   2390.4,2,   2389.4,2,  -999.0,-999.0000,-999.000,-999.000,  -999.0,-999.000
   3220CGC92_1,   P13,    17,  1,    114,   1120,2,19920825,0205, 50.9845, 164.9613, 4375,  14020,   1395.0,   2.3844,  34.4746,2,  34.4792,2,     29.6,2,  2.2921,     30.5,2,   157.60,2,    42.23,2,     0.00,2,     2.98,2, -999.000,9, -999.000,9, -999.000,9, -999.000,9, -999.000,9,-999.0000,9,  -999.00,9,   -999.0,9,  -999.00,9,-999.000,9,   2386.6,2,   2396.6,2,  -999.0,-999.0000,-999.000,-999.000,  -999.0,-999.000
   3220CGC92_1,   P13,    17,  1,    113,   1112,2,19920825,0205, 50.9845, 164.9613, 4375,  16008,   1594.0,   2.1865,  34.5218,2,  34.5239,2,     40.9,2,  2.0808,     40.5,2,   162.05,2,    41.91,2,     0.00,2,     2.91,2, -999.000,9, -999.000,9, -999.000,9, -999.000,9, -999.000,9,-999.0000,9,  -999.00,9,   -999.0,9,  -999.00,9,-999.000,9,   2383.4,2,   2407.0,2,  -999.0,-999.0000,-999.000,-999.000,  -999.0,-999.000
   3220CGC92_1,   P13,    17,  1,    112,   1234,2,19920825,0205, 50.9845, 164.9613, 4375,  17987,   1792.0,   2.0445,  34.5528,2,  34.5552,2,     49.4,2,  1.9248,     51.6,2,   163.52,2,    41.52,2,     0.00,2,     2.90,2, -999.000,9, -999.000,9, -999.000,9, -999.000,9, -999.000,9,-999.0000,9,  -999.00,9,   -999.0,9,  -999.00,9,-999.000,9,   2380.2,2,   2405.4,2,  -999.0,-999.0000,-999.000,-999.000,  -999.0,-999.000
   3220CGC92_1,   P13,    17,  1,    111,   1221,2,19920825,0205, 50.9845, 164.9613, 4375,  20995,   2093.0,   1.8606,  34.5940,2,  34.5912,2,     68.8,2,  1.7186,     69.3,2,   166.15,2,    41.03,2,     0.00,2,     2.90,2,    0.013,3,   -0.003,2, -999.000,9, -999.000,9, -999.000,9,-999.0000,9,  -999.00,9,   -999.0,9,  -999.00,9,-999.000,9,   2373.0,2,   2416.9,2,  -999.0,-999.0000,-999.000,-999.000,  -999.0,-999.000
   3220CGC92_1,   P13,    17,  1,    110,   1118,2,19920825,0205, 50.9845, 164.9613, 4375,  24012,   2395.0,   1.7366,  34.6204,2,  34.6183,2,     84.9,2,  1.5706,     88.2,2,   165.21,2,    39.42,2,     0.00,2,     2.82,2, -999.000,9, -999.000,9, -999.000,9, -999.000,9, -999.000,9,-999.0000,9,  -999.00,9,   -999.0,9,  -999.00,9,-999.000,9,   2363.4,2,   2413.6,2,  -999.0,-999.0000,-999.000,-999.000,  -999.0,-999.000
   3220CGC92_1,   P13,    17,  1,    109,   1113,2,19920825,0205, 50.9845, 164.9613, 4375,  27008,   2696.0,   1.6426,  34.6406,2,  34.6399,2,    102.5,2,  1.4513,    105.7,2,   162.09,2,    39.04,2,     0.00,2,     2.75,2,    0.021,4,    0.001,2, -999.000,9, -999.000,9, -999.000,9,-999.0000,9,  -999.00,9,   -999.0,9,  -999.00,9,-999.000,9,   2355.3,2,   2421.8,2,  -999.0,-999.0000,-999.000,-999.000,  -999.0,-999.000
   3220CGC92_1,   P13,    17,  1,    108,   1016,2,19920825,0205, 50.9845, 164.9613, 4375,  29996,   2995.0,   1.5766,  34.6547,2,  34.6536,2,    116.6,2,  1.3587,    117.8,2,   158.47,2,    37.72,2,     0.00,2,     2.67,2, -999.000,9, -999.000,9, -999.000,9, -999.000,9, -999.000,9,-999.0000,9,  -999.00,9,   -999.0,9,  -999.00,9,-999.000,9,   2346.7,2,   2416.5,2,  -999.0,-999.0000,-999.000,-999.000,  -999.0,-999.000
   3220CGC92_1,   P13,    17,  1,    107,   1022,2,19920825,0205, 50.9845, 164.9613, 4375,  33011,   3298.0,   1.5286,  34.6656,2,  34.6618,2,   -999.0,9,  1.2822,    128.6,2,   155.05,2,    37.37,2,     0.00,2,     2.58,2,    0.003,2,    0.003,2, -999.000,9, -999.000,9, -999.000,9,-999.0000,9,  -999.00,9,   -999.0,9,  -999.00,9,-999.000,9,   2339.2,2,   2421.4,2,  -999.0,-999.0000,-999.000,-999.000,  -999.0,-999.000
   3220CGC92_1,   P13,    17,  1,    106,   1036,2,19920825,0205, 50.9845, 164.9613, 4375,  36000,   3597.0,   1.4966,  34.6729,2,  34.6703,2,   -999.0,9,  1.2206,    137.8,2,   152.01,2,    36.21,2,     0.00,2,     2.58,2, -999.000,9, -999.000,9, -999.000,9, -999.000,9, -999.000,9,-999.0000,9,  -999.00,9,   -999.0,9,  -999.00,9,-999.000,9,   2331.6,2,   2417.2,2,  -999.0,-999.0000,-999.000,-999.000,  -999.0,-999.000
   3220CGC92_1,   P13,    17,  1,    105,   1037,2,19920825,0205, 50.9845, 164.9613, 4375,  39001,   3898.0,   1.4866,  34.6762,2,  34.6760,2,    143.7,2,  1.1791,    143.8,2,   150.41,2,    36.93,2,     0.00,2,     2.55,2,    0.004,2,    0.006,2, -999.000,9, -999.000,9, -999.000,9,-999.0000,9,  -999.00,9,   -999.0,9,  -999.00,9,-999.000,9,   2328.3,2,   2420.5,2,  -999.0,-999.0000,-999.000,-999.000,  -999.0,-999.000
   3220CGC92_1,   P13,    17,  1,    103,   1023,2,19920825,0205, 50.9845, 164.9613, 4375,  42006,   4199.0,   1.4866,  34.6806,2,  34.6782,2,    146.7,2,  1.1462,    148.3,2,   149.11,2,    36.65,2,     0.00,2,     2.52,2,    0.004,2,    0.001,2, -999.000,9, -999.000,9, -999.000,9,-999.0000,9,  -999.00,9,   -999.0,9,  -999.00,9,-999.000,9,   2327.2,6,   2417.8,6,  -999.0,-999.0000,-999.000,-999.000,  -999.0,-999.000
   3220CGC92_1,   P13,    17,  1,    104,   1029,4,19920825,0205, 50.9845, 164.9613, 4375,  42007,   4200.0,   1.4866,  34.6802,2,-999.0000,9,    146.7,2,  1.1461,   -999.0,9,  -999.00,5,  -999.00,9,  -999.00,9,  -999.00,5, -999.000,9, -999.000,9, -999.000,9, -999.000,9, -999.000,9,-999.0000,9,  -999.00,9,   -999.0,9,  -999.00,9,-999.000,9,   -999.0,9,   -999.0,9,  -999.0,-999.0000,-999.000,-999.000,  -999.0,-999.000
   3220CGC92_1,   P13,    17,  1,    102,   2001,2,19920825,0205, 50.9845, 164.9613, 4375,  44997,   4499.0,   1.4936,  34.6823,2,  34.6820,2,     97.6,4,  1.1189,    152.6,2,   148.13,2,    36.16,2,     0.00,2,     2.46,2,   -0.005,2,    0.038,4, -999.000,9, -999.000,9, -999.000,9,-999.0000,9,  -999.00,9,   -999.0,9,  -999.00,9,-999.000,9,   -999.0,9,   -999.0,9,  -999.0,-999.0000,-999.000,-999.000,  -999.0,-999.000
   3220CGC92_1,   P13,    17,  1,    101,   1038,2,19920825,0205, 50.9845, 164.9613, 4375,  47811,   4780.0,   1.5086,  34.6847,2,  34.6830,2,    154.2,2,  1.1005,    153.9,2,   148.79,2,    35.58,2,     0.00,2,     2.44,2,   -0.003,2,    0.000,2, -999.000,9, -999.000,9, -999.000,9,-999.0000,9,  -999.00,9,   -999.0,9,  -999.00,9,-999.000,9,   2321.3,2,   2420.4,2,  -999.0,-999.0000,-999.000,-999.000,  -999.0,-999.000