BOTTLE,20221003CCHSIOAMB
EXPOCODE,SECT_ID,STNNBR,CASTNO,SAMPNO,BTLNBR,BTLNBR_FLAG_W,DATE,TIME,LATITUDE,LONGITUDE,DEPTH,CTDRAW,CTDPRS,CTDTMP,CTDSAL,CTDSAL_FLAG_W,SALNTY,SALNTY_FLAG_W,CTDOXY,CTDOXY_FLAG_W,THETA,OXYGEN,OXYGEN_FLAG_W,SILCAT,SILCAT_FLAG_W,NITRAT,NITRAT_FLAG_W,NITRIT,NITRIT_FLAG_W,PHSPHT,PHSPHT_FLAG_W,CFC-11,CFC-11_FLAG_W,CFC-12,CFC-12_FLAG_W,CFC113,CFC113_FLAG_W,CCL4,CCL4_FLAG_W,TRITUM,TRITUM_FLAG_W,HELIUM,HELIUM_FLAG_W,DELHE3,DELHE3_FLAG_W,DELC14,DELC14_FLAG_W,DELC13,DELC13_FLAG_W,NEON,NEON_FLAG_W,TCARBN,TCARBN_FLAG_W,ALKALI,ALKALI_FLAG_W,C14ERR,HELIER,DELHER,NEONER,C13ERR,TRITER
,,,,,,,,,,,,DBAR,DBAR,ITS-90,PSS-78,,PSS-78,,UMOL/KG,,DEG C,UMOL/KG,,UMOL/KG,,UMOL/KG,,UMOL/KG,,UMOL/KG,,PMOL/KG,,PMOL/KG,,PMOL/KG,,PMOL/KG,,TU,,NMOL/KG,,PERCNT,,/MILLE,,/MILLE,,NMOL/KG,,UMOL/KG,,UMOL/KG,,/MILLE,NMOL/KG,PERCNT,NMOL/KG,/MILLE,TU
   3220CGC92_1,   P13,    40,  1,    134,   1030,2,19920903,0459, 39.4957, 165.0190, 5106,    499,     46.0,  16.3321,  34.4113,2,  34.4637,2,    251.3,2, 16.3248,    230.1,2,     6.31,2,     2.15,2,     0.18,2,     0.19,2, -999.000,9, -999.000,9, -999.000,9, -999.000,9, -999.000,9,-999.0000,9,  -999.00,9,   -999.0,9,  -999.00,9,-999.000,9,   -999.0,9,   -999.0,9,  -999.0,-999.0000,-999.000,-999.000,  -999.0,-999.000
   3220CGC92_1,   P13,    40,  1,    133,   1231,2,19920903,0459, 39.4957, 165.0190, 5106,    743,     71.0,  14.6105,  34.5073,2,  34.4978,2,    189.1,2, 14.6000,    192.1,2,    13.14,2,     8.63,2,     0.26,2,     0.58,2,    2.282,2,    1.140,2, -999.000,9, -999.000,9, -999.000,9,-999.0000,9,  -999.00,9,   -999.0,9,  -999.00,9,-999.000,9,   -999.0,9,   -999.0,9,  -999.0,-999.0000,-999.000,-999.000,  -999.0,-999.000
   3220CGC92_1,   P13,    40,  1,    132,   1109,2,19920903,0459, 39.4957, 165.0190, 5106,   1014,     98.0,  13.0699,  34.4171,2,  34.4563,2,    188.3,2, 13.0565,    209.4,2,    14.02,2,     9.79,2,     0.00,2,     0.64,2, -999.000,9, -999.000,9, -999.000,9, -999.000,9, -999.000,9,-999.0000,9,  -999.00,9,   -999.0,9,  -999.00,9,-999.000,9,   -999.0,9,   -999.0,9,  -999.0,-999.0000,-999.000,-999.000,  -999.0,-999.000
   3220CGC92_1,   P13,    40,  1,    131,   1031,2,19920903,0459, 39.4957, 165.0190, 5106,   1236,    120.0,  11.9661,  34.3393,2,  34.3795,2,    209.8,2, 11.9507,    206.5,4,    17.85,2,    11.88,2,     0.00,2,     0.80,2, -999.000,9, -999.000,9, -999.000,9, -999.000,9, -999.000,9,-999.0000,9,  -999.00,9,   -999.0,9,  -999.00,9,-999.000,9,   -999.0,9,   -999.0,9,  -999.0,-999.0000,-999.000,-999.000,  -999.0,-999.000
   3220CGC92_1,   P13,    40,  1,    130,   1041,2,19920903,0459, 39.4957, 165.0190, 5106,   1493,    145.0,  11.4872,  34.3506,2,  34.3971,2,    205.4,2, 11.4690,    203.4,2,    18.65,2,    12.17,2,     0.00,2,     0.81,2,    2.421,2,    1.189,2, -999.000,9, -999.000,9, -999.000,9,-999.0000,9,  -999.00,9,   -999.0,9,  -999.00,9,-999.000,9,   -999.0,9,   -999.0,9,  -999.0,-999.0000,-999.000,-999.000,  -999.0,-999.000
   3220CGC92_1,   P13,    40,  1,    129,   1004,2,19920903,0459, 39.4957, 165.0190, 5106,   1765,    172.0,  10.5395,  34.2556,2,  34.1879,2,    203.8,2, 10.5190,    232.7,2,    18.00,2,    11.90,2,     0.08,2,     0.82,2, -999.000,9, -999.000,9, -999.000,9, -999.000,9, -999.000,9,-999.0000,9,  -999.00,9,   -999.0,9,  -999.00,9,-999.000,9,   -999.0,9,   -999.0,9,  -999.0,-999.0000,-999.000,-999.000,  -999.0,-999.000
   3220CGC92_1,   P13,    40,  1,    127,   1117,2,19920903,0459, 39.4957, 165.0190, 5106,   2038,    200.0,   9.5477,  34.1660,2,  34.1186,2,    207.9,2,  9.5254,    239.3,2,    19.77,2,    12.37,2,     0.00,2,     0.90,2,    3.291,2,    1.644,2, -999.000,9, -999.000,9, -999.000,9,-999.0000,9,  -999.00,9,   -999.0,9,  -999.00,9,-999.000,9,   -999.0,9,   -999.0,9,  -999.0,-999.0000,-999.000,-999.000,  -999.0,-999.000
   3220CGC92_1,   P13,    40,  1,    126,   1110,2,19920903,0459, 39.4957, 165.0190, 5106,   2501,    246.0,   8.1990,  34.0408,2,  34.1201,2,    218.0,2,  8.1740,    227.4,2,    25.09,2,    15.82,2,     0.00,2,     1.06,2, -999.000,9, -999.000,9, -999.000,9, -999.000,9, -999.000,9,-999.0000,9,  -999.00,9,   -999.0,9,  -999.00,9,-999.000,9,   -999.0,9,   -999.0,9,  -999.0,-999.0000,-999.000,-999.000,  -999.0,-999.000
   3220CGC92_1,   P13,    40,  1,    125,   1035,2,19920903,0459, 39.4957, 165.0190, 5106,   2991,    294.0,   6.9683,  33.9665,2,  34.0241,2,   -999.0,9,  6.9411,    222.3,2,    31.27,2,    18.02,2,     0.00,2,     1.19,2, -999.000,9, -999.000,9, -999.000,9, -999.000,9, -999.000,9,-999.0000,9,  -999.00,9,   -999.0,9,  -999.00,9,-999.000,9,   -999.0,9,   -999.0,9,  -999.0,-999.0000,-999.000,-999.000,  -999.0,-999.000
   3220CGC92_1,   P13,    40,  1,    124,   1026,2,19920903,0459, 39.4957, 165.0190, 5106,   3491,    344.0,   6.4495,  33.9871,2,  33.9985,2,   -999.0,9,  6.4189,    180.5,2,    45.07,2,    22.95,2,     0.00,2,     1.64,2, -999.000,9, -999.000,9, -999.000,9, -999.000,9, -999.000,9,-999.0000,9,  -999.00,9,   -999.0,9,  -999.00,9,-999.000,9,   -999.0,9,   -999.0,9,  -999.0,-999.0000,-999.000,-999.000,  -999.0,-999.000
   3220CGC92_1,   P13,    40,  1,    123,   1014,2,19920903,0459, 39.4957, 165.0190, 5106,   4005,    395.0,   5.4417,  33.9436,2,  33.9337,2,    151.9,2,  5.4095,    166.6,2,    56.29,2,    28.04,2,     0.00,2,     2.02,2,    2.457,2,    1.159,2, -999.000,9, -999.000,9, -999.000,9,-999.0000,9,  -999.00,9,   -999.0,9,  -999.00,9,-999.000,9,   -999.0,9,   -999.0,9,  -999.0,-999.0000,-999.000,-999.000,  -999.0,-999.000
   3220CGC92_1,   P13,    40,  1,    122,   1015,2,19920903,0459, 39.4957, 165.0190, 5106,   4989,    493.0,   4.7479,  33.9964,2,  34.0061,2,    126.5,2,  4.7100,    115.7,2,    77.86,2,    34.36,2,     0.00,2,     2.49,2, -999.000,9, -999.000,9, -999.000,9, -999.000,9, -999.000,9,-999.0000,9,  -999.00,9,   -999.0,9,  -999.00,9,-999.000,9,   -999.0,9,   -999.0,9,  -999.0,-999.0000,-999.000,-999.000,  -999.0,-999.000
   3220CGC92_1,   P13,    40,  1,    121,   1235,2,19920903,0459, 39.4957, 165.0190, 5106,   6000,    594.0,   4.0530,  34.0483,2,  34.0481,2,   -999.0,9,  4.0101,     77.8,2,    97.61,2,    38.54,2,     0.00,2,     2.85,2, -999.000,9, -999.000,9, -999.000,9, -999.000,9, -999.000,9,-999.0000,9,  -999.00,9,   -999.0,9,  -999.00,9,-999.000,9,   -999.0,9,   -999.0,9,  -999.0,-999.0000,-999.000,-999.000,  -999.0,-999.000
   3220CGC92_1,   P13,    40,  1,    120,   1237,2,19920903,0459, 39.4957, 165.0190, 5106,   7003,    694.0,   3.9321,  34.1871,2,  34.1723,2,     58.8,2,  3.8819,     57.5,2,   108.38,2,    39.42,2,     0.00,2,     2.88,2, -999.000,9, -999.000,9, -999.000,9, -999.000,9, -999.000,9,-999.0000,9,  -999.00,9,   -999.0,9,  -999.00,9,-999.000,9,   -999.0,9,   -999.0,9,  -999.0,-999.0000,-999.000,-999.000,  -999.0,-999.000
   3220CGC92_1,   P13,    40,  1,    119,   1025,2,19920903,0459, 39.4957, 165.0190, 5106,   7990,    793.0,   3.7201,  34.2558,2,  34.2538,2,     49.6,2,  3.6634,     48.8,2,   118.18,2,    40.38,2,     0.00,2,     2.94,2,    0.278,2,    0.130,2, -999.000,9, -999.000,9, -999.000,9,-999.0000,9,  -999.00,9,   -999.0,9,  -999.00,9,-999.000,9,   -999.0,9,   -999.0,9,  -999.0,-999.0000,-999.000,-999.000,  -999.0,-999.000
   3220CGC92_1,   P13,    40,  1,    118,   1118,2,19920903,0459, 39.4957, 165.0190, 5106,   9009,    894.0,   3.4612,  34.3085,2,  34.3124,6,     44.1,2,  3.3983,     44.7,6,   126.71,2,    41.51,2,     0.00,2,     3.03,2, -999.000,9, -999.000,9, -999.000,9, -999.000,9, -999.000,9,-999.0000,9,  -999.00,9,   -999.0,9,  -999.00,9,-999.000,9,   -999.0,9,   -999.0,9,  -999.0,-999.0000,-999.000,-999.000,  -999.0,-999.000
   3220CGC92_1,   P13,    40,  1,    117,   1005,2,19920903,0459, 39.4957, 165.0190, 5106,  10005,    994.0,   3.1652,  34.3576,2,  34.3586,2,     39.5,2,  3.0968,     38.5,2,   134.73,2,    41.48,2,     0.00,2,     3.04,2, -999.000,9, -999.000,9, -999.000,9, -999.000,9, -999.000,9,-999.0000,9,  -999.00,9,   -999.0,9,  -999.00,9,-999.000,9,   -999.0,9,   -999.0,9,  -999.0,-999.0000,-999.000,-999.000,  -999.0,-999.000
   3220CGC92_1,   P13,    40,  1,    116,   1104,2,19920903,0459, 39.4957, 165.0190, 5106,  11994,   1192.0,   2.7943,  34.4272,2,  34.4244,2,     36.1,2,  2.7137,     35.7,2,   146.71,2,    42.09,2,     0.00,2,     3.08,2, -999.000,9, -999.000,9, -999.000,9, -999.000,9, -999.000,9,-999.0000,9,  -999.00,9,   -999.0,9,  -999.00,9,-999.000,9,   -999.0,9,   -999.0,9,  -999.0,-999.0000,-999.000,-999.000,  -999.0,-999.000
   3220CGC92_1,   P13,    40,  1,    115,   1020,2,19920903,0459, 39.4957, 165.0190, 5106,  13994,   1392.0,   2.5134,  34.4718,2,  34.4752,2,     40.1,2,  2.4199,     39.0,2,   155.58,2,    42.32,2,     0.00,2,     3.05,2,    0.035,2,    0.020,2, -999.000,9, -999.000,9, -999.000,9,-999.0000,9,  -999.00,9,   -999.0,9,  -999.00,9,-999.000,9,   -999.0,9,   -999.0,9,  -999.0,-999.0000,-999.000,-999.000,  -999.0,-999.000
   3220CGC92_1,   P13,    40,  1,    114,   1012,2,19920903,0459, 39.4957, 165.0190, 5106,  15991,   1592.0,   2.3154,  34.5162,2,  34.5251,2,     44.0,2,  2.2084,     45.1,2,   160.62,2,    42.14,2,     0.00,2,     3.05,2, -999.000,9, -999.000,9, -999.000,9, -999.000,9, -999.000,9,-999.0000,9,  -999.00,9,   -999.0,9,  -999.00,9,-999.000,9,   -999.0,9,   -999.0,9,  -999.0,-999.0000,-999.000,-999.000,  -999.0,-999.000
   3220CGC92_1,   P13,    40,  1,    113,   1229,2,19920903,0459, 39.4957, 165.0190, 5106,  18002,   1793.0,   2.1285,  34.5520,2,  34.5557,2,     53.0,2,  2.0075,     53.8,2,   164.60,2,    40.96,2,     0.00,2,     2.92,2, -999.000,9, -999.000,9, -999.000,9, -999.000,9, -999.000,9,-999.0000,9,  -999.00,9,   -999.0,9,  -999.00,9,-999.000,9,   -999.0,9,   -999.0,9,  -999.0,-999.0000,-999.000,-999.000,  -999.0,-999.000
   3220CGC92_1,   P13,    40,  1,    112,   1219,2,19920903,0459, 39.4957, 165.0190, 5106,  21013,   2095.0,   1.9025,  34.5958,2,  34.5921,2,     69.9,2,  1.7597,     72.0,2,   167.16,2,    40.53,2,     0.00,2,     2.92,2, -999.000,9, -999.000,9, -999.000,9, -999.000,9, -999.000,9,-999.0000,9,  -999.00,9,   -999.0,9,  -999.00,9,-999.000,9,   -999.0,9,   -999.0,9,  -999.0,-999.0000,-999.000,-999.000,  -999.0,-999.000
   3220CGC92_1,   P13,    40,  1,    111,   1112,2,19920903,0459, 39.4957, 165.0190, 5106,  23997,   2394.0,   1.7466,  34.6246,2,  34.6231,2,     89.0,2,  1.5805,     91.3,2,   165.06,2,    39.61,2,     0.00,2,     2.81,2,   -0.003,2,   -0.004,2, -999.000,9, -999.000,9, -999.000,9,-999.0000,9,  -999.00,9,   -999.0,9,  -999.00,9,-999.000,9,   -999.0,9,   -999.0,9,  -999.0,-999.0000,-999.000,-999.000,  -999.0,-999.000
   3220CGC92_1,   P13,    40,  1,    110,   1029,2,19920903,0459, 39.4957, 165.0190, 5106,  27003,   2695.0,   1.6486,  34.6429,2,  34.6479,2,   -999.0,9,  1.4573,    109.3,2,   162.70,2,    38.86,2,     0.00,2,     2.75,2, -999.000,9, -999.000,9, -999.000,9, -999.000,9, -999.000,9,-999.0000,9,  -999.00,9,   -999.0,9,  -999.00,9,-999.000,9,   -999.0,9,   -999.0,9,  -999.0,-999.0000,-999.000,-999.000,  -999.0,-999.000
   3220CGC92_1,   P13,    40,  1,    109,   1023,2,19920903,0459, 39.4957, 165.0190, 5106,  30003,   2996.0,   1.5676,  34.6572,2,  34.6588,2,    120.5,2,  1.3498,    123.0,2,   159.81,2,    37.81,2,     0.00,2,     2.68,2, -999.000,9, -999.000,9, -999.000,9, -999.000,9, -999.000,9,-999.0000,9,  -999.00,9,   -999.0,9,  -999.00,9,-999.000,9,   -999.0,9,   -999.0,9,  -999.0,-999.0000,-999.000,-999.000,  -999.0,-999.000
   3220CGC92_1,   P13,    40,  1,    108,   1032,2,19920903,0459, 39.4957, 165.0190, 5106,  33002,   3297.0,   1.5096,  34.6673,2,  34.6668,2,    130.3,2,  1.2637,    134.3,2,   157.18,2,    36.89,2,     0.00,2,     2.62,2, -999.000,9, -999.000,9, -999.000,9, -999.000,9, -999.000,9,-999.0000,9,  -999.00,9,   -999.0,9,  -999.00,9,-999.000,9,   -999.0,9,   -999.0,9,  -999.0,-999.0000,-999.000,-999.000,  -999.0,-999.000
   3220CGC92_1,   P13,    40,  1,    107,   1037,2,19920903,0459, 39.4957, 165.0190, 5106,  36002,   3598.0,   1.4776,  34.6750,2,  34.6756,2,    140.4,2,  1.2020,    141.7,2,   155.08,2,    36.74,2,     0.00,2,     2.55,2,    0.000,2,    0.002,2, -999.000,9, -999.000,9, -999.000,9,-999.0000,9,  -999.00,9,   -999.0,9,  -999.00,9,-999.000,9,   -999.0,9,   -999.0,9,  -999.0,-999.0000,-999.000,-999.000,  -999.0,-999.000
   3220CGC92_1,   P13,    40,  1,    106,   1022,2,19920903,0459, 39.4957, 165.0190, 5106,  38996,   3898.0,   1.4636,  34.6805,2,  34.6794,2,    147.4,2,  1.1567,    147.6,2,   153.51,2,    36.64,2,     0.00,2,     2.57,2, -999.000,9, -999.000,9, -999.000,9, -999.000,9, -999.000,9,-999.0000,9,  -999.00,9,   -999.0,9,  -999.00,9,-999.000,9,   -999.0,9,   -999.0,9,  -999.0,-999.0000,-999.000,-999.000,  -999.0,-999.000
   3220CGC92_1,   P13,    40,  1,    105,   1221,2,19920903,0459, 39.4957, 165.0190, 5106,  41995,   4198.0,   1.4606,  34.6824,2,  34.6827,2,   -999.0,9,  1.1210,    152.4,2,   152.13,2,    36.22,2,     0.00,2,     2.51,2, -999.000,9, -999.000,9, -999.000,9, -999.000,9, -999.000,9,-999.0000,9,  -999.00,9,   -999.0,9,  -999.00,9,-999.000,9,   -999.0,9,   -999.0,9,  -999.0,-999.0000,-999.000,-999.000,  -999.0,-999.000
   3220CGC92_1,   P13,    40,  1,    104,   1038,2,19920903,0459, 39.4957, 165.0190, 5106,  44987,   4498.0,   1.4696,  34.6867,2,  34.6873,2,    154.0,2,  1.0958,    156.8,2,   151.98,2,    35.82,2,     0.00,2,     2.50,2, -999.000,9, -999.000,9, -999.000,9, -999.000,9, -999.000,9,-999.0000,9,  -999.00,9,   -999.0,9,  -999.00,9,-999.000,9,   -999.0,9,   -999.0,9,  -999.0,-999.0000,-999.000,-999.000,  -999.0,-999.000
   3220CGC92_1,   P13,    40,  1,    103,   1033,2,19920903,0459, 39.4957, 165.0190, 5106,  47987,   4798.0,   1.4926,  34.6867,2,  34.6889,2,    155.9,2,  1.0829,    158.1,2,   151.64,2,    35.48,2,     0.00,2,     2.48,2,   -0.001,2,    0.000,2, -999.000,9, -999.000,9, -999.000,9,-999.0000,9,  -999.00,9,   -999.0,9,  -999.00,9,-999.000,9,   -999.0,9,   -999.0,9,  -999.0,-999.0000,-999.000,-999.000,  -999.0,-999.000
   3220CGC92_1,   P13,    40,  1,    102,   1234,2,19920903,0459, 39.4957, 165.0190, 5106,  50997,   5099.0,   1.5206,  34.6887,2,  34.6891,2,    159.0,2,  1.0735,    158.1,2,   152.25,2,    35.71,2,     0.00,2,     2.47,2, -999.000,9, -999.000,9, -999.000,9, -999.000,9, -999.000,9,-999.0000,9,  -999.00,9,   -999.0,9,  -999.00,9,-999.000,9,   -999.0,9,   -999.0,9,  -999.0,-999.0000,-999.000,-999.000,  -999.0,-999.000
   3220CGC92_1,   P13,    40,  1,    101,   1013,2,19920903,0459, 39.4957, 165.0190, 5106,  53215,   5320.0,   1.5446,  34.6890,2,  34.6926,6,    160.3,2,  1.0692,    159.2,2,   150.93,2,    35.55,2,     0.00,2,     2.46,2, -999.000,9, -999.000,9, -999.000,9, -999.000,9, -999.000,9,-999.0000,9,  -999.00,9,   -999.0,9,  -999.00,9,-999.000,9,   -999.0,9,   -999.0,9,  -999.0,-999.0000,-999.000,-999.000,  -999.0,-999.000