BOTTLE,20221003CCHSIOAMB
EXPOCODE,SECT_ID,STNNBR,CASTNO,SAMPNO,BTLNBR,BTLNBR_FLAG_W,DATE,TIME,LATITUDE,LONGITUDE,DEPTH,CTDRAW,CTDPRS,CTDTMP,CTDSAL,CTDSAL_FLAG_W,SALNTY,SALNTY_FLAG_W,CTDOXY,CTDOXY_FLAG_W,THETA,OXYGEN,OXYGEN_FLAG_W,SILCAT,SILCAT_FLAG_W,NITRAT,NITRAT_FLAG_W,NITRIT,NITRIT_FLAG_W,PHSPHT,PHSPHT_FLAG_W,CFC-11,CFC-11_FLAG_W,CFC-12,CFC-12_FLAG_W,CFC113,CFC113_FLAG_W,CCL4,CCL4_FLAG_W,TRITUM,TRITUM_FLAG_W,HELIUM,HELIUM_FLAG_W,DELHE3,DELHE3_FLAG_W,DELC14,DELC14_FLAG_W,DELC13,DELC13_FLAG_W,NEON,NEON_FLAG_W,TCARBN,TCARBN_FLAG_W,ALKALI,ALKALI_FLAG_W,C14ERR,HELIER,DELHER,NEONER,C13ERR,TRITER
,,,,,,,,,,,,DBAR,DBAR,ITS-90,PSS-78,,PSS-78,,UMOL/KG,,DEG C,UMOL/KG,,UMOL/KG,,UMOL/KG,,UMOL/KG,,UMOL/KG,,PMOL/KG,,PMOL/KG,,PMOL/KG,,PMOL/KG,,TU,,NMOL/KG,,PERCNT,,/MILLE,,/MILLE,,NMOL/KG,,UMOL/KG,,UMOL/KG,,/MILLE,NMOL/KG,PERCNT,NMOL/KG,/MILLE,TU
   3220CGC92_1,   P13,    27,  1,    118,   1002,2,19920828,0616, 45.9955, 164.9998, 5603,   9935,    987.0,   2.7593,  34.3854,2,  34.3965,2,     37.2,2,  2.6945,     35.6,2,   148.17,2,    42.23,2,     0.00,2,     3.21,2,    0.105,2,    0.051,2, -999.000,9, -999.000,9, -999.000,9,-999.0000,9,  -999.00,9,   -999.0,9,  -999.00,9,-999.000,9,   -999.0,9,   -999.0,9,  -999.0,-999.0000,-999.000,-999.000,  -999.0,-999.000
   3220CGC92_1,   P13,    27,  1,    117,   1005,4,19920828,0616, 45.9955, 164.9998, 5603,  11988,   1192.0,   2.4864,  34.4467,2,-999.0000,9,     39.0,2,  2.4086,   -999.0,9,  -999.00,5,  -999.00,9,  -999.00,9,  -999.00,5, -999.000,9, -999.000,9, -999.000,9, -999.000,9, -999.000,9,-999.0000,9,  -999.00,9,   -999.0,9,  -999.00,9,-999.000,9,   -999.0,9,   -999.0,9,  -999.0,-999.0000,-999.000,-999.000,  -999.0,-999.000
   3220CGC92_1,   P13,    27,  1,    116,   1104,2,19920828,0616, 45.9955, 164.9998, 5603,  15011,   1494.0,   2.2315,  34.5093,2,  34.5183,2,     47.0,2,  2.1331,     50.2,2,   165.64,2,    41.96,2,     0.00,2,     3.18,2, -999.000,9, -999.000,9, -999.000,9, -999.000,9, -999.000,9,-999.0000,9,  -999.00,9,   -999.0,9,  -999.00,9,-999.000,9,   -999.0,9,   -999.0,9,  -999.0,-999.0000,-999.000,-999.000,  -999.0,-999.000
   3220CGC92_1,   P13,    27,  1,    115,   1020,2,19920828,0616, 45.9955, 164.9998, 5603,  17993,   1792.0,   2.0175,  34.5664,2,  34.5675,2,     60.0,2,  1.8981,     62.5,2,   168.58,2,    41.00,2,     0.00,2,     3.10,2, -999.000,9, -999.000,9, -999.000,9, -999.000,9, -999.000,9,-999.0000,9,  -999.00,9,   -999.0,9,  -999.00,9,-999.000,9,   -999.0,9,   -999.0,9,  -999.0,-999.0000,-999.000,-999.000,  -999.0,-999.000
   3220CGC92_1,   P13,    27,  1,    114,   1120,2,19920828,0616, 45.9955, 164.9998, 5603,  21008,   2094.0,   1.8606,  34.6004,2,  34.6034,2,     77.8,2,  1.7185,     77.7,2,   168.79,2,    39.75,2,     0.00,2,     3.00,2, -999.000,9, -999.000,9, -999.000,9, -999.000,9, -999.000,9,-999.0000,9,  -999.00,9,   -999.0,9,  -999.00,9,-999.000,9,   -999.0,9,   -999.0,9,  -999.0,-999.0000,-999.000,-999.000,  -999.0,-999.000
   3220CGC92_1,   P13,    27,  1,    113,   1112,2,19920828,0616, 45.9955, 164.9998, 5603,  23988,   2393.0,   1.7386,  34.6274,2,  34.6278,2,     93.7,2,  1.5727,     94.6,2,   166.59,2,    39.14,2,     0.00,2,     2.90,2, -999.000,9, -999.000,9, -999.000,9, -999.000,9, -999.000,9,-999.0000,9,  -999.00,9,   -999.0,9,  -999.00,9,-999.000,9,   -999.0,9,   -999.0,9,  -999.0,-999.0000,-999.000,-999.000,  -999.0,-999.000
   3220CGC92_1,   P13,    27,  1,    112,   1234,2,19920828,0616, 45.9955, 164.9998, 5603,  27000,   2695.0,   1.6316,  34.6474,2,  34.6462,2,    112.4,2,  1.4406,    111.6,2,   163.32,2,    38.28,2,     0.00,2,     2.82,2,    0.002,2,   -0.003,2, -999.000,9, -999.000,9, -999.000,9,-999.0000,9,  -999.00,9,   -999.0,9,  -999.00,9,-999.000,9,   -999.0,9,   -999.0,9,  -999.0,-999.0000,-999.000,-999.000,  -999.0,-999.000
   3220CGC92_1,   P13,    27,  1,    111,   1221,2,19920828,0616, 45.9955, 164.9998, 5603,  30036,   2999.0,   1.5706,  34.6600,2,  34.6604,2,   -999.0,9,  1.3524,    124.0,2,   160.21,2,    37.32,2,     0.00,2,     2.71,2, -999.000,9, -999.000,9, -999.000,9, -999.000,9, -999.000,9,-999.0000,9,  -999.00,9,   -999.0,9,  -999.00,9,-999.000,9,   -999.0,9,   -999.0,9,  -999.0,-999.0000,-999.000,-999.000,  -999.0,-999.000
   3220CGC92_1,   P13,    27,  1,    110,   1012,4,19920828,0616, 45.9955, 164.9998, 5603,  32985,   3295.0,   1.5226,  34.6679,2,-999.0000,9,   -999.0,9,  1.2766,   -999.0,9,  -999.00,5,  -999.00,9,  -999.00,9,  -999.00,5, -999.000,9, -999.000,9, -999.000,9, -999.000,9, -999.000,9,-999.0000,9,  -999.00,9,   -999.0,9,  -999.00,9,-999.000,9,   -999.0,9,   -999.0,9,  -999.0,-999.0000,-999.000,-999.000,  -999.0,-999.000
   3220CGC92_1,   P13,    27,  1,    109,   1041,2,19920828,0616, 45.9955, 164.9998, 5603,  36007,   3598.0,   1.4906,  34.6759,2,  34.6810,3,    140.8,2,  1.2147,    141.2,2,   155.54,2,    37.28,2,     0.00,2,     2.73,2, -999.000,9, -999.000,9, -999.000,9, -999.000,9, -999.000,9,-999.0000,9,  -999.00,9,   -999.0,9,  -999.00,9,-999.000,9,   -999.0,9,   -999.0,9,  -999.0,-999.0000,-999.000,-999.000,  -999.0,-999.000
   3220CGC92_1,   P13,    27,  1,    108,   1003,2,19920828,0616, 45.9955, 164.9998, 5603,  38991,   3897.0,   1.4766,  34.6819,2,  34.6789,2,    145.9,2,  1.1695,    147.1,2,   154.30,2,    36.74,2,     0.00,2,     2.72,2, -999.000,9, -999.000,9, -999.000,9, -999.000,9, -999.000,9,-999.0000,9,  -999.00,9,   -999.0,9,  -999.00,9,-999.000,9,   -999.0,9,   -999.0,9,  -999.0,-999.0000,-999.000,-999.000,  -999.0,-999.000
   3220CGC92_1,   P13,    27,  1,    107,   1013,2,19920828,0616, 45.9955, 164.9998, 5603,  41995,   4198.0,   1.4746,  34.6847,2,  34.6850,2,    149.9,2,  1.1346,    157.1,3,   153.67,2,    36.26,2,     0.00,2,     2.66,2,    0.000,6,   -0.004,6, -999.000,9, -999.000,9, -999.000,9,-999.0000,9,  -999.00,9,   -999.0,9,  -999.00,9,-999.000,9,   -999.0,9,   -999.0,9,  -999.0,-999.0000,-999.000,-999.000,  -999.0,-999.000
   3220CGC92_1,   P13,    27,  1,    106,   1036,2,19920828,0616, 45.9955, 164.9998, 5603,  46006,   4600.0,   1.4876,  34.6878,2,  34.6864,2,    154.1,2,  1.1014,    151.9,2,   152.61,2,    36.32,2,     0.00,2,     2.67,2, -999.000,9, -999.000,9, -999.000,9, -999.000,9, -999.000,9,-999.0000,9,  -999.00,9,   -999.0,9,  -999.00,9,-999.000,9,   -999.0,9,   -999.0,9,  -999.0,-999.0000,-999.000,-999.000,  -999.0,-999.000
   3220CGC92_1,   P13,    27,  1,    105,   1037,2,19920828,0616, 45.9955, 164.9998, 5603,  49994,   4999.0,   1.5176,  34.6903,2,  34.6879,2,    156.5,2,  1.0828,    162.8,4,   152.25,2,    36.03,2,     0.00,2,     2.66,2, -999.000,9, -999.000,9, -999.000,9, -999.000,9, -999.000,9,-999.0000,9,  -999.00,9,   -999.0,9,  -999.00,9,-999.000,9,   -999.0,9,   -999.0,9,  -999.0,-999.0000,-999.000,-999.000,  -999.0,-999.000
   3220CGC92_1,   P13,    27,  1,    104,   1029,2,19920828,0616, 45.9955, 164.9998, 5603,  53985,   5398.0,   1.5606,  34.6904,2,  34.6978,3,    157.9,2,  1.0747,    159.8,2,   154.11,2,    35.81,2,     0.00,2,     2.67,2, -999.000,9, -999.000,9, -999.000,9, -999.000,9, -999.000,9,-999.0000,9,  -999.00,9,   -999.0,9,  -999.00,9,-999.000,9,   -999.0,9,   -999.0,9,  -999.0,-999.0000,-999.000,-999.000,  -999.0,-999.000
   3220CGC92_1,   P13,    27,  1,    102,      0,3,19920828,0616, 45.9955, 164.9998, 5603,  56990,   5697.0,   1.5996,  34.6898,2,  34.6951,3,    161.2,2,  1.0738,    160.4,2,   153.96,2,    35.74,2,     0.00,2,     2.62,2,    0.006,2,    0.005,2, -999.000,9, -999.000,9, -999.000,9,-999.0000,9,  -999.00,9,   -999.0,9,  -999.00,9,-999.000,9,   -999.0,9,   -999.0,9,  -999.0,-999.0000,-999.000,-999.000,  -999.0,-999.000
   3220CGC92_1,   P13,    27,  1,    103,   1023,2,19920828,0616, 45.9955, 164.9998, 5603,  56989,   5697.0,   1.5996,  34.6898,2,  34.6946,3,    161.0,2,  1.0738,    158.6,2,   154.30,2,    35.64,2,     0.00,2,     2.68,2, -999.000,9, -999.000,9, -999.000,9, -999.000,9, -999.000,9,-999.0000,9,  -999.00,9,   -999.0,9,  -999.00,9,-999.000,9,   -999.0,9,   -999.0,9,  -999.0,-999.0000,-999.000,-999.000,  -999.0,-999.000
   3220CGC92_1,   P13,    27,  1,    101,   1038,2,19920828,0616, 45.9955, 164.9998, 5603,  59042,   5902.0,   1.6266,  34.6896,2,  34.6966,3,    159.8,2,  1.0728,    158.4,2,   154.40,2,    35.81,2,     0.00,2,     2.62,2,    0.002,2,    0.001,2, -999.000,9, -999.000,9, -999.000,9,-999.0000,9,  -999.00,9,   -999.0,9,  -999.00,9,-999.000,9,   -999.0,9,   -999.0,9,  -999.0,-999.0000,-999.000,-999.000,  -999.0,-999.000
   3220CGC92_1,   P13,    28,  1,    112,   2012,2,19920828,1641, 45.4972, 164.9782, -999,     92,      9.0,  13.5357,  33.2024,2,-999.0000,5,    279.8,2, 13.5345,    322.6,3,  -999.00,5,  -999.00,9,  -999.00,9,  -999.00,5,    5.135,4,    2.693,4,    0.507,2,    7.754,2, -999.000,9,-999.0000,9,  -999.00,9,   -999.0,9,  -999.00,9,-999.000,9,   2080.4,2,   2251.6,6,  -999.0,-999.0000,-999.000,-999.000,  -999.0,-999.000
   3220CGC92_1,   P13,    28,  1,    111,   2011,2,19920828,1641, 45.4972, 164.9782, -999,    485,     48.1,   5.9546,  33.3598,2,  33.4225,4,    335.4,2,  5.9506,    306.8,2,    28.12,2,    16.35,2,     0.00,2,     1.41,2,    5.311,2,    2.584,2,    0.499,2,    7.784,2,    1.797,2,-999.0000,9,  -999.00,9,   -999.0,9,  -999.00,9,-999.000,9,   -999.0,9,   -999.0,9,  -999.0,-999.0000,-999.000,-999.000,  -999.0,   0.020
   3220CGC92_1,   P13,    28,  1,    110,   2010,2,19920828,1641, 45.4972, 164.9782, -999,    991,     98.5,   4.4969,  33.4310,2,  33.4236,2,    313.8,2,  4.4899,    306.8,2,    28.13,2,    16.95,2,     0.00,2,     1.43,2,    5.323,6,    2.578,6, -999.000,9, -999.000,9,    1.741,2,   1.8060,2,    -1.34,2,   -999.0,9,  -999.00,9,   7.834,2,   -999.0,9,   -999.0,9,  -999.0,  0.0080,   0.140,   0.034,  -999.0,   0.021
   3220CGC92_1,   P13,    28,  1,    109,   2009,2,19920828,1641, 45.4972, 164.9782, -999,   1993,    198.4,   4.4479,  33.6638,2,  33.6406,2,    282.4,2,  4.4337,    233.4,2,    46.04,2,    22.26,2,     0.00,2,     1.83,2,    4.076,2,    1.975,2, -999.000,9, -999.000,9, -999.000,9,-999.0000,9,  -999.00,9,   -999.0,9,  -999.00,9,-999.000,9,   -999.0,9,   -999.0,9,  -999.0,-999.0000,-999.000,-999.000,  -999.0,-999.000
   3220CGC92_1,   P13,    28,  1,    108,   2008,2,19920828,1641, 45.4972, 164.9782, -999,   4002,    398.6,   3.6631,  33.9280,2,  33.9276,2,    102.1,2,  3.6362,     99.3,2,    92.03,2,    37.74,2,     0.00,2,     2.78,2,    1.694,2,    0.865,2,    0.132,2,    1.926,2,    1.094,2,   1.8340,2,    12.94,2,   -999.0,9,  -999.00,9,   7.903,2,   -999.0,9,   -999.0,9,  -999.0,  0.0090,   0.140,   0.035,  -999.0,   0.019
   3220CGC92_1,   P13,    28,  1,    107,   2007,2,19920828,1641, 45.4972, 164.9782, -999,   7988,    796.2,   3.0603,  34.2900,2,  34.2896,2,     39.5,2,  3.0074,     41.0,2,   135.94,2,    41.30,2,     0.00,2,     3.09,2,    0.241,2,    0.200,2,    0.029,2,    0.387,2,    0.292,2,   1.8670,2,    16.06,2,   -999.0,9,  -999.00,9,   7.970,2,   -999.0,9,   -999.0,9,  -999.0,  0.0090,   0.140,   0.035,  -999.0,   0.016
   3220CGC92_1,   P13,    28,  1,    106,   2006,2,19920828,1641, 45.4972, 164.9782, -999,  11996,   1196.5,   2.5224,  34.4388,2,  34.4395,2,     43.0,2,  2.4439,     43.5,2,   155.95,2,    43.27,2,     0.00,2,     3.19,2, -999.000,5, -999.000,5, -999.000,9, -999.000,9, -999.000,9,-999.0000,9,  -999.00,9,   -999.0,9,  -999.00,9,-999.000,9,   -999.0,9,   -999.0,9,  -999.0,-999.0000,-999.000,-999.000,  -999.0,-999.000
   3220CGC92_1,   P13,    28,  1,    105,   2005,2,19920828,1641, 45.4972, 164.9782, -999,  15976,   1594.5,   2.1755,  34.5266,2,  34.5263,2,     49.5,2,  2.0699,     46.3,2,   167.55,2,    42.50,2,     0.00,2,     3.15,2,    0.126,4,    0.177,4,    0.008,2,    0.038,2, -999.000,9,-999.0000,9,  -999.00,9,   -999.0,9,  -999.00,9,-999.000,9,   -999.0,9,   -999.0,9,  -999.0,-999.0000,-999.000,-999.000,  -999.0,-999.000
   3220CGC92_1,   P13,    28,  1,    104,   2004,2,19920828,1641, 45.4972, 164.9782, -999,  25978,   2595.7,   1.6716,  34.6395,2,  34.6424,2,    107.2,2,  1.4889,    104.5,2,   165.21,2,    39.38,2,     0.00,2,     2.89,2,    0.001,2,    0.013,2, -999.000,9, -999.000,9, -999.000,9,-999.0000,9,  -999.00,9,   -999.0,9,  -999.00,9,-999.000,9,   -999.0,9,   -999.0,9,  -999.0,-999.0000,-999.000,-999.000,  -999.0,-999.000
   3220CGC92_1,   P13,    28,  1,    103,   2003,2,19920828,1641, 45.4972, 164.9782, -999,  35973,   3596.9,   1.5006,  34.6732,2,  34.6733,6,   -999.0,9,  1.2245,    139.3,2,   157.11,2,    37.53,2,     0.00,2,     2.70,2,    0.001,2,    0.073,4,    0.002,2,    0.012,2, -999.000,9,-999.0000,9,  -999.00,9,   -999.0,9,  -999.00,9,-999.000,9,   -999.0,9,   -999.0,9,  -999.0,-999.0000,-999.000,-999.000,  -999.0,-999.000
   3220CGC92_1,   P13,    28,  1,    102,   2002,2,19920828,1641, 45.4972, 164.9782, -999,  46009,   4601.9,   1.4946,  34.6855,2,  34.6862,6,    158.5,2,  1.1079,    155.6,2,   153.13,2,    36.43,2,     0.00,2,     2.60,2,    0.001,2,    0.017,2,    0.000,2,    0.008,2, -999.000,9,-999.0000,9,  -999.00,9,   -999.0,9,  -999.00,9,-999.000,9,   -999.0,9,   -999.0,9,  -999.0,-999.0000,-999.000,-999.000,  -999.0,-999.000
   3220CGC92_1,   P13,    28,  1,    101,   2001,2,19920828,1641, 45.4972, 164.9782, -999,  50001,   5001.2,   1.5216,  34.6885,2,  34.6896,6,    161.4,2,  1.0864,    157.3,2,   152.83,2,    36.43,2,     0.00,2,     2.55,2,    0.000,2,    0.024,4,    0.004,2,    0.005,2, -999.000,9,-999.0000,9,  -999.00,9,   -999.0,9,  -999.00,9,-999.000,9,   -999.0,9,   -999.0,9,  -999.0,-999.0000,-999.000,-999.000,  -999.0,-999.000