BOTTLE,20221003CCHSIOAMB
EXPOCODE,SECT_ID,STNNBR,CASTNO,SAMPNO,BTLNBR,BTLNBR_FLAG_W,DATE,TIME,LATITUDE,LONGITUDE,DEPTH,CTDRAW,CTDPRS,CTDTMP,CTDSAL,CTDSAL_FLAG_W,SALNTY,SALNTY_FLAG_W,CTDOXY,CTDOXY_FLAG_W,THETA,OXYGEN,OXYGEN_FLAG_W,SILCAT,SILCAT_FLAG_W,NITRAT,NITRAT_FLAG_W,NITRIT,NITRIT_FLAG_W,PHSPHT,PHSPHT_FLAG_W,CFC-11,CFC-11_FLAG_W,CFC-12,CFC-12_FLAG_W,CFC113,CFC113_FLAG_W,CCL4,CCL4_FLAG_W,TRITUM,TRITUM_FLAG_W,HELIUM,HELIUM_FLAG_W,DELHE3,DELHE3_FLAG_W,DELC14,DELC14_FLAG_W,DELC13,DELC13_FLAG_W,NEON,NEON_FLAG_W,TCARBN,TCARBN_FLAG_W,ALKALI,ALKALI_FLAG_W,C14ERR,HELIER,DELHER,NEONER,C13ERR,TRITER
,,,,,,,,,,,,DBAR,DBAR,ITS-90,PSS-78,,PSS-78,,UMOL/KG,,DEG C,UMOL/KG,,UMOL/KG,,UMOL/KG,,UMOL/KG,,UMOL/KG,,PMOL/KG,,PMOL/KG,,PMOL/KG,,PMOL/KG,,TU,,NMOL/KG,,PERCNT,,/MILLE,,/MILLE,,NMOL/KG,,UMOL/KG,,UMOL/KG,,/MILLE,NMOL/KG,PERCNT,NMOL/KG,/MILLE,TU
   3220CGC92_2,   P13,    85,  1,    136,   1106,2,19921016,1306, -3.5713, 164.5392, 3219,     98,      7.0,  30.1518,  34.6802,2,  34.7046,2,   -999.0,9, 30.1500,    196.2,2,     1.08,2,     0.00,2,     0.00,2,     0.00,2, -999.000,9, -999.000,9, -999.000,9, -999.000,9, -999.000,9,-999.0000,9,  -999.00,9,   -999.0,9,  -999.00,9,-999.000,9,   1915.2,2,   2281.6,2,  -999.0,-999.0000,-999.000,-999.000,  -999.0,-999.000
   3220CGC92_2,   P13,    85,  1,    135,   1013,2,19921016,1306, -3.5713, 164.5392, 3219,    246,     21.0,  30.1658,  34.6851,2,  34.6923,2,   -999.0,9, 30.1605,    193.6,2,     1.05,2,     0.00,2,     0.00,2,     0.01,2, -999.000,9, -999.000,9, -999.000,9, -999.000,9, -999.000,9,-999.0000,9,  -999.00,9,   -999.0,9,  -999.00,9,-999.000,9,   -999.0,9,   -999.0,9,  -999.0,-999.0000,-999.000,-999.000,  -999.0,-999.000
   3220CGC92_2,   P13,    85,  1,    134,   1030,2,19921016,1306, -3.5713, 164.5392, 3219,    490,     46.0,  30.1748,  34.6912,2,  34.7107,2,    198.8,2, 30.1633,    194.0,2,     1.41,2,     0.00,2,     0.00,2,     0.03,2, -999.000,9, -999.000,9, -999.000,9, -999.000,9, -999.000,9,-999.0000,9,  -999.00,9,   -999.0,9,  -999.00,9,-999.000,9,   -999.0,9,   -999.0,9,  -999.0,-999.0000,-999.000,-999.000,  -999.0,-999.000
   3220CGC92_2,   P13,    85,  1,    133,   1231,2,19921016,1306, -3.5713, 164.5392, 3219,    734,     70.0,  30.0398,  35.0425,2,  35.1180,2,    203.2,2, 30.0224,    198.6,2,     1.44,2,     0.00,2,     0.00,2,     0.10,2, -999.000,9, -999.000,9, -999.000,9, -999.000,9, -999.000,9,-999.0000,9,  -999.00,9,   -999.0,9,  -999.00,9,-999.000,9,   -999.0,9,   -999.0,9,  -999.0,-999.0000,-999.000,-999.000,  -999.0,-999.000
   3220CGC92_2,   P13,    85,  1,    132,   1017,2,19921016,1306, -3.5713, 164.5392, 3219,    998,     96.0,  28.3852,  35.2841,2,  35.2872,2,    182.1,2, 28.3623,    179.5,2,     1.91,2,     1.90,2,     0.46,2,     0.27,2, -999.000,9, -999.000,9, -999.000,9, -999.000,9, -999.000,9,-999.0000,9,  -999.00,9,   -999.0,9,  -999.00,9,-999.000,9,   -999.0,9,   -999.0,9,  -999.0,-999.0000,-999.000,-999.000,  -999.0,-999.000
   3220CGC92_2,   P13,    85,  1,    131,   1031,2,19921016,1306, -3.5713, 164.5392, 3219,   1234,    120.0,  26.4546,  35.1198,2,  35.1494,2,    162.4,2, 26.4275,    160.7,2,     2.23,2,     3.14,2,     0.85,2,     0.34,2, -999.000,9, -999.000,9, -999.000,9, -999.000,9, -999.000,9,-999.0000,9,  -999.00,9,   -999.0,9,  -999.00,9,-999.000,9,   -999.0,9,   -999.0,9,  -999.0,-999.0000,-999.000,-999.000,  -999.0,-999.000
   3220CGC92_2,   P13,    85,  1,    130,   1041,2,19921016,1306, -3.5713, 164.5392, 3219,   1497,    146.0,  24.1812,  35.2683,2,  35.2318,2,    134.6,2, 24.1502,    137.3,2,     2.99,2,     6.73,2,     0.00,2,     0.47,2, -999.000,9, -999.000,9, -999.000,9, -999.000,9, -999.000,9,-999.0000,9,  -999.00,9,   -999.0,9,  -999.00,9,-999.000,9,   -999.0,9,   -999.0,9,  -999.0,-999.0000,-999.000,-999.000,  -999.0,-999.000
   3220CGC92_2,   P13,    85,  1,    129,   1004,2,19921016,1306, -3.5713, 164.5392, 3219,   1743,    170.0,  22.1737,  35.6317,2,  35.5798,2,    130.0,2, 22.1397,    120.6,2,     3.39,2,     9.61,2,     0.00,2,     0.71,2, -999.000,9, -999.000,9, -999.000,9, -999.000,9, -999.000,9,-999.0000,9,  -999.00,9,   -999.0,9,  -999.00,9,-999.000,9,   -999.0,9,   -999.0,9,  -999.0,-999.0000,-999.000,-999.000,  -999.0,-999.000
   3220CGC92_2,   P13,    85,  1,    128,   1016,2,19921016,1306, -3.5713, 164.5392, 3219,   2015,    197.0,  19.5973,  35.6350,2,  35.6713,2,    109.0,2, 19.5612,    111.8,2,     4.84,2,    12.12,2,     0.00,2,     0.94,2, -999.000,9, -999.000,9, -999.000,9, -999.000,9, -999.000,9,-999.0000,9,  -999.00,9,   -999.0,9,  -999.00,9,-999.000,9,   -999.0,9,   -999.0,9,  -999.0,-999.0000,-999.000,-999.000,  -999.0,-999.000
   3220CGC92_2,   P13,    85,  1,    127,   1028,2,19921016,1306, -3.5713, 164.5392, 3219,   2493,    245.0,  13.6887,  35.0639,2,  35.1794,2,    101.5,2, 13.6538,     91.9,2,    12.03,2,    18.80,2,     0.00,2,     1.44,2, -999.000,9, -999.000,9, -999.000,9, -999.000,9, -999.000,9,-999.0000,9,  -999.00,9,   -999.0,9,  -999.00,9,-999.000,9,   -999.0,9,   -999.0,9,  -999.0,-999.0000,-999.000,-999.000,  -999.0,-999.000
   3220CGC92_2,   P13,    85,  1,    126,   1110,2,19921016,1306, -3.5713, 164.5392, 3219,   3004,    296.0,  10.7104,  34.7931,2,  34.8626,2,     87.1,2, 10.6745,     89.4,2,    19.24,2,    24.32,2,     0.00,2,     1.74,2, -999.000,9, -999.000,9, -999.000,9, -999.000,9, -999.000,9,-999.0000,9,  -999.00,9,   -999.0,9,  -999.00,9,-999.000,9,   -999.0,9,   -999.0,9,  -999.0,-999.0000,-999.000,-999.000,  -999.0,-999.000
   3220CGC92_2,   P13,    85,  1,    125,   1035,2,19921016,1306, -3.5713, 164.5392, 3219,   3487,    344.0,   9.6867,  34.7092,2,  34.7724,2,   -999.0,9,  9.6474,     94.1,2,    22.29,2,    26.02,2,     0.00,2,     1.84,2, -999.000,9, -999.000,9, -999.000,9, -999.000,9, -999.000,9,-999.0000,9,  -999.00,9,   -999.0,9,  -999.00,9,-999.000,9,   -999.0,9,   -999.0,9,  -999.0,-999.0000,-999.000,-999.000,  -999.0,-999.000
   3220CGC92_2,   P13,    85,  1,    124,   1019,2,19921016,1306, -3.5713, 164.5392, 3219,   3964,    391.0,   9.0458,  34.6698,2,  34.7080,2,   -999.0,9,  9.0029,    102.6,6,    24.31,2,    26.76,2,     0.00,2,     1.86,2, -999.000,9, -999.000,9, -999.000,9, -999.000,9, -999.000,9,-999.0000,9,  -999.00,9,   -999.0,9,  -999.00,9,-999.000,9,   -999.0,9,   -999.0,9,  -999.0,-999.0000,-999.000,-999.000,  -999.0,-999.000
   3220CGC92_2,   P13,    85,  1,    123,   1014,2,19921016,1306, -3.5713, 164.5392, 3219,   4491,    444.0,   8.3640,  34.6260,2,  34.6577,2,   -999.0,9,  8.3174,     97.3,2,    28.37,2,    29.49,2,     0.00,2,     2.13,2, -999.000,9, -999.000,9, -999.000,9, -999.000,9, -999.000,9,-999.0000,9,  -999.00,9,   -999.0,9,  -999.00,9,-999.000,9,   -999.0,9,   -999.0,9,  -999.0,-999.0000,-999.000,-999.000,  -999.0,-999.000
   3220CGC92_2,   P13,    85,  1,    122,   1015,2,19921016,1306, -3.5713, 164.5392, 3219,   4987,    493.0,   7.9621,  34.6051,2,  34.6227,2,   -999.0,9,  7.9117,    105.6,2,    30.33,2,    29.55,2,     0.00,2,     2.14,2, -999.000,9, -999.000,9, -999.000,9, -999.000,9, -999.000,9,-999.0000,9,  -999.00,9,   -999.0,9,  -999.00,9,-999.000,9,   -999.0,9,   -999.0,9,  -999.0,-999.0000,-999.000,-999.000,  -999.0,-999.000
   3220CGC92_2,   P13,    85,  1,    121,   1235,2,19921016,1306, -3.5713, 164.5392, 3219,   5998,    594.0,   6.6264,  34.5517,2,  34.5523,2,    116.0,2,  6.5712,    115.6,2,    39.70,2,    30.90,2,     0.00,2,     2.28,2, -999.000,9, -999.000,9, -999.000,9, -999.000,9, -999.000,9,-999.0000,9,  -999.00,9,   -999.0,9,  -999.00,9,-999.000,9,   -999.0,9,   -999.0,9,  -999.0,-999.0000,-999.000,-999.000,  -999.0,-999.000
   3220CGC92_2,   P13,    85,  1,    120,   1237,2,19921016,1306, -3.5713, 164.5392, 3219,   6993,    693.0,   5.9996,  34.5436,2,  34.5494,2,     79.3,2,  5.9380,     78.6,2,    54.68,2,    35.61,2,     0.00,2,     2.66,2, -999.000,9, -999.000,9, -999.000,9, -999.000,9, -999.000,9,-999.0000,9,  -999.00,9,   -999.0,9,  -999.00,9,-999.000,9,   -999.0,9,   -999.0,9,  -999.0,-999.0000,-999.000,-999.000,  -999.0,-999.000
   3220CGC92_2,   P13,    85,  1,    119,   1025,2,19921016,1306, -3.5713, 164.5392, 3219,   7997,    793.0,   5.4137,  34.5349,2,  34.5383,2,     90.8,2,  5.3463,     91.2,2,    63.35,2,    35.72,2,     0.00,2,     2.65,2, -999.000,9, -999.000,9, -999.000,9, -999.000,9, -999.000,9,-999.0000,9,  -999.00,9,   -999.0,9,  -999.00,9,-999.000,9,   -999.0,9,   -999.0,9,  -999.0,-999.0000,-999.000,-999.000,  -999.0,-999.000
   3220CGC92_2,   P13,    85,  1,    118,   1118,2,19921016,1306, -3.5713, 164.5392, 3219,   9005,    894.0,   4.9408,  34.5351,2,  34.5385,6,     97.7,2,  4.8674,     97.5,2,    72.21,2,    35.84,2,     0.00,2,     2.62,2, -999.000,9, -999.000,9, -999.000,9, -999.000,9, -999.000,9,-999.0000,9,  -999.00,9,   -999.0,9,  -999.00,9,-999.000,9,   -999.0,9,   -999.0,9,  -999.0,-999.0000,-999.000,-999.000,  -999.0,-999.000
   3220CGC92_2,   P13,    85,  1,    117,   1112,2,19921016,1306, -3.5713, 164.5392, 3219,   9998,    993.0,   4.5639,  34.5431,2,  34.5457,2,     95.6,2,  4.4845,     94.1,2,    79.87,2,    36.02,2,     0.00,2,     2.68,2, -999.000,9, -999.000,9, -999.000,9, -999.000,9, -999.000,9,-999.0000,9,  -999.00,9,   -999.0,9,  -999.00,9,-999.000,9,   -999.0,9,   -999.0,9,  -999.0,-999.0000,-999.000,-999.000,  -999.0,-999.000
   3220CGC92_2,   P13,    85,  1,    116,   1104,2,19921016,1306, -3.5713, 164.5392, 3219,  10996,   1093.0,   4.1230,  34.5493,2,  34.5529,2,    100.5,2,  4.0384,     98.5,2,    90.19,2,    35.71,2,     0.00,2,     2.68,2, -999.000,9, -999.000,9, -999.000,9, -999.000,9, -999.000,9,-999.0000,9,  -999.00,9,   -999.0,9,  -999.00,9,-999.000,9,   -999.0,9,   -999.0,9,  -999.0,-999.0000,-999.000,-999.000,  -999.0,-999.000
   3220CGC92_2,   P13,    85,  1,    114,   1012,2,19921016,1306, -3.5713, 164.5392, 3219,  12001,   1193.0,   3.9471,  34.5546,2,  34.5613,2,    109.7,2,  3.8554,    110.1,2,    87.49,2,    36.38,2,     0.00,2,     2.64,2, -999.000,9, -999.000,9, -999.000,9, -999.000,9, -999.000,9,-999.0000,9,  -999.00,9,   -999.0,9,  -999.00,9,-999.000,9,   -999.0,9,   -999.0,9,  -999.0,-999.0000,-999.000,-999.000,  -999.0,-999.000
   3220CGC92_2,   P13,    85,  1,    112,   1219,2,19921016,1306, -3.5713, 164.5392, 3219,  13971,   1390.0,   3.4722,  34.5770,2,  34.5756,2,    101.1,2,  3.3684,    100.4,2,   103.12,2,    36.37,2,     0.00,2,     2.66,2, -999.000,9, -999.000,9, -999.000,9, -999.000,9, -999.000,9,-999.0000,9,  -999.00,9,   -999.0,9,  -999.00,9,-999.000,9,   -999.0,9,   -999.0,9,  -999.0,-999.0000,-999.000,-999.000,  -999.0,-999.000
   3220CGC92_2,   P13,    85,  1,    110,   1029,2,19921016,1306, -3.5713, 164.5392, 3219,  15981,   1591.0,   2.9043,  34.5986,2,  34.5988,2,    117.3,2,  2.7899,    116.7,2,   113.44,2,    35.64,2,     0.00,2,     2.68,2, -999.000,9, -999.000,9, -999.000,9, -999.000,9, -999.000,9,-999.0000,9,  -999.00,9,   -999.0,9,  -999.00,9,-999.000,9,   -999.0,9,   -999.0,9,  -999.0,-999.0000,-999.000,-999.000,  -999.0,-999.000
   3220CGC92_2,   P13,    85,  1,    109,   1023,2,19921016,1306, -3.5713, 164.5392, 3219,  17981,   1791.0,   2.4514,  34.6234,2,  34.5952,4,    118.2,2,  2.3260,    111.4,3,   113.00,3,    36.14,2,     0.00,2,     2.68,2, -999.000,9, -999.000,9, -999.000,9, -999.000,9, -999.000,9,-999.0000,9,  -999.00,9,   -999.0,9,  -999.00,9,-999.000,9,   -999.0,9,   -999.0,9,  -999.0,-999.0000,-999.000,-999.000,  -999.0,-999.000
   3220CGC92_2,   P13,    85,  1,    108,   1032,2,19921016,1306, -3.5713, 164.5392, 3219,  20034,   1997.0,   2.1565,  34.6406,2,  34.6389,2,    123.4,2,  2.0179,    124.7,2,   134.20,2,    35.95,2,     0.00,2,     2.65,2, -999.000,9, -999.000,9, -999.000,9, -999.000,9, -999.000,9,-999.0000,9,  -999.00,9,   -999.0,9,  -999.00,9,-999.000,9,   -999.0,9,   -999.0,9,  -999.0,-999.0000,-999.000,-999.000,  -999.0,-999.000
   3220CGC92_2,   P13,    85,  1,    107,   1037,2,19921016,1306, -3.5713, 164.5392, 3219,  21972,   2191.0,   1.9985,  34.6493,2,  34.6474,2,   -999.0,9,  1.8457,    127.1,2,   138.90,2,    35.59,2,     0.00,2,     2.65,2, -999.000,9, -999.000,9, -999.000,9, -999.000,9, -999.000,9,-999.0000,9,  -999.00,9,   -999.0,9,  -999.00,9,-999.000,9,   -999.0,9,   -999.0,9,  -999.0,-999.0000,-999.000,-999.000,  -999.0,-999.000
   3220CGC92_2,   P13,    85,  1,    106,   1022,2,19921016,1306, -3.5713, 164.5392, 3219,  23988,   2393.0,   1.8486,  34.6591,2,  34.6572,2,    128.4,2,  1.6806,    129.9,6,   143.38,2,    35.03,2,     0.00,2,     2.63,2, -999.000,9, -999.000,9, -999.000,9, -999.000,9, -999.000,9,-999.0000,9,  -999.00,9,   -999.0,9,  -999.00,9,-999.000,9,   -999.0,9,   -999.0,9,  -999.0,-999.0000,-999.000,-999.000,  -999.0,-999.000
   3220CGC92_2,   P13,    85,  1,    105,   1221,2,19921016,1306, -3.5713, 164.5392, 3219,  26007,   2596.0,   1.7576,  34.6644,2,  34.6626,2,    132.2,2,  1.5731,    131.7,2,   145.76,2,    34.77,2,     0.00,2,     2.61,2,   -0.002,2,    0.000,2,    0.015,2,    0.044,2, -999.000,9,-999.0000,9,  -999.00,9,   -999.0,9,  -999.00,9,-999.000,9,   -999.0,9,   -999.0,9,  -999.0,-999.0000,-999.000,-999.000,  -999.0,-999.000
   3220CGC92_2,   P13,    85,  1,    104,   1038,2,19921016,1306, -3.5713, 164.5392, 3219,  27978,   2793.0,   1.6996,  34.6670,2,  34.6659,2,    134.9,2,  1.4981,    134.8,2,   147.10,2,    34.81,2,     0.00,2,     2.59,2,   -0.003,2,   -0.003,2,    0.009,2,    0.008,2, -999.000,9,-999.0000,9,  -999.00,9,   -999.0,9,  -999.00,9,-999.000,9,   -999.0,9,   -999.0,9,  -999.0,-999.0000,-999.000,-999.000,  -999.0,-999.000
   3220CGC92_2,   P13,    85,  1,    103,   1033,2,19921016,1306, -3.5713, 164.5392, 3219,  29993,   2996.0,   1.6326,  34.6728,2,  34.6699,2,    139.2,2,  1.4132,    138.6,2,   146.96,2,    34.87,2,     0.00,2,     2.57,2,   -0.001,2,    0.000,2,    0.010,2,    0.015,2, -999.000,9,-999.0000,9,  -999.00,9,   -999.0,9,  -999.00,9,-999.000,9,   -999.0,9,   -999.0,9,  -999.0,-999.0000,-999.000,-999.000,  -999.0,-999.000
   3220CGC92_2,   P13,    85,  1,    102,   1234,2,19921016,1306, -3.5713, 164.5392, 3219,  32001,   3198.0,   1.5916,  34.6748,2,  34.6741,2,    143.3,2,  1.3535,    142.3,2,   146.40,2,    33.90,2,     0.00,2,     2.53,2,   -0.002,2,   -0.002,2,    0.026,2,    0.011,2, -999.000,9,-999.0000,9,  -999.00,9,   -999.0,9,  -999.00,9,-999.000,9,   -999.0,9,   -999.0,9,  -999.0,-999.0000,-999.000,-999.000,  -999.0,-999.000
   3220CGC92_2,   P13,    85,  1,    101,   1238,2,19921016,1306, -3.5713, 164.5392, 3219,  32880,   3286.0,   1.5556,  34.6784,2,  34.6782,4,    147.0,2,  1.3097,   -999.0,5,   146.24,2,    34.13,2,     0.00,2,     2.52,2,    0.000,2,    0.001,2, -999.000,9, -999.000,9, -999.000,9,-999.0000,9,  -999.00,9,   -999.0,9,  -999.00,9,-999.000,9,   -999.0,9,   -999.0,9,  -999.0,-999.0000,-999.000,-999.000,  -999.0,-999.000