BOTTLE,20221003CCHSIOAMB
EXPOCODE,SECT_ID,STNNBR,CASTNO,SAMPNO,BTLNBR,BTLNBR_FLAG_W,DATE,TIME,LATITUDE,LONGITUDE,DEPTH,CTDRAW,CTDPRS,CTDTMP,CTDSAL,CTDSAL_FLAG_W,SALNTY,SALNTY_FLAG_W,CTDOXY,CTDOXY_FLAG_W,THETA,OXYGEN,OXYGEN_FLAG_W,SILCAT,SILCAT_FLAG_W,NITRAT,NITRAT_FLAG_W,NITRIT,NITRIT_FLAG_W,PHSPHT,PHSPHT_FLAG_W,CFC-11,CFC-11_FLAG_W,CFC-12,CFC-12_FLAG_W,CFC113,CFC113_FLAG_W,CCL4,CCL4_FLAG_W,TRITUM,TRITUM_FLAG_W,HELIUM,HELIUM_FLAG_W,DELHE3,DELHE3_FLAG_W,DELC14,DELC14_FLAG_W,DELC13,DELC13_FLAG_W,NEON,NEON_FLAG_W,TCARBN,TCARBN_FLAG_W,ALKALI,ALKALI_FLAG_W,C14ERR,HELIER,DELHER,NEONER,C13ERR,TRITER
,,,,,,,,,,,,DBAR,DBAR,ITS-90,PSS-78,,PSS-78,,UMOL/KG,,DEG C,UMOL/KG,,UMOL/KG,,UMOL/KG,,UMOL/KG,,UMOL/KG,,PMOL/KG,,PMOL/KG,,PMOL/KG,,PMOL/KG,,TU,,NMOL/KG,,PERCNT,,/MILLE,,/MILLE,,NMOL/KG,,UMOL/KG,,UMOL/KG,,/MILLE,NMOL/KG,PERCNT,NMOL/KG,/MILLE,TU
   3220CGC92_1,   P13,    25,  1,    136,   1106,3,19920827,1520, 46.9975, 164.9870, 5691,    103,      7.0,  11.4952,  32.9188,2,  32.9926,2,   -999.0,9, 11.4944,    282.0,2,    28.76,2,    10.26,2,     0.09,2,     1.06,2,    3.871,2,    1.973,2, -999.000,9, -999.000,9, -999.000,9,-999.0000,9,  -999.00,9,   -999.0,9,  -999.00,9,-999.000,9,   2022.2,2,   2234.6,2,  -999.0,-999.0000,-999.000,-999.000,  -999.0,-999.000
   3220CGC92_1,   P13,    25,  1,    135,   1033,2,19920827,1520, 46.9975, 164.9870, 5691,    246,     21.0,  11.2803,  33.0350,2,  33.0296,2,    292.5,2, 11.2777,    289.8,2,    27.73,2,    10.36,2,     0.06,2,     1.03,2,    3.899,2,    1.980,2, -999.000,9, -999.000,9, -999.000,9,-999.0000,9,  -999.00,9,   -999.0,9,  -999.00,9,-999.000,9,   -999.0,9,   -999.0,9,  -999.0,-999.0000,-999.000,-999.000,  -999.0,-999.000
   3220CGC92_1,   P13,    25,  1,    134,   1109,2,19920827,1520, 46.9975, 164.9870, 5691,    497,     46.0,   4.3600,  33.0368,2,  33.0558,2,    333.0,2,  4.3568,    338.5,2,    35.76,2,    17.16,2,     0.00,2,     1.61,2,    6.014,2,    2.810,2, -999.000,9, -999.000,9, -999.000,9,-999.0000,9,  -999.00,9,   -999.0,9,  -999.00,9,-999.000,9,   -999.0,9,   -999.0,9,  -999.0,-999.0000,-999.000,-999.000,  -999.0,-999.000
   3220CGC92_1,   P13,    25,  1,    133,   1031,2,19920827,1520, 46.9975, 164.9870, 5691,    748,     71.0,   2.6694,  33.0497,2,  33.0742,2,    315.9,2,  2.6654,    328.5,2,    42.70,2,    22.07,2,     0.44,2,     1.89,2, -999.000,9, -999.000,9, -999.000,9, -999.000,9, -999.000,9,-999.0000,9,  -999.00,9,   -999.0,9,  -999.00,9,-999.000,9,   -999.0,9,   -999.0,9,  -999.0,-999.0000,-999.000,-999.000,  -999.0,-999.000
   3220CGC92_1,   P13,    25,  1,    132,   1008,2,19920827,1520, 46.9975, 164.9870, 5691,    996,     96.0,   2.0735,  33.0866,2,  33.1061,2,    319.4,2,  2.0686,    321.2,2,    45.87,2,    23.70,2,     0.00,2,     1.90,2,    6.216,6,    2.938,6, -999.000,9, -999.000,9, -999.000,9,-999.0000,9,  -999.00,9,   -999.0,9,  -999.00,9,-999.000,9,   -999.0,9,   -999.0,9,  -999.0,-999.0000,-999.000,-999.000,  -999.0,-999.000
   3220CGC92_1,   P13,    25,  1,    131,   1030,2,19920827,1520, 46.9975, 164.9870, 5691,   1252,    121.0,   1.5786,  33.1599,2,  33.1608,2,   -999.0,9,  1.5730,    302.9,2,    50.68,2,    26.29,2,     0.00,2,     2.07,2, -999.000,9, -999.000,9, -999.000,9, -999.000,9, -999.000,9,-999.0000,9,  -999.00,9,   -999.0,9,  -999.00,9,-999.000,9,   -999.0,9,   -999.0,9,  -999.0,-999.0000,-999.000,-999.000,  -999.0,-999.000
   3220CGC92_1,   P13,    25,  1,    130,   1032,2,19920827,1520, 46.9975, 164.9870, 5691,   1496,    146.0,   2.1215,  33.3913,2,  33.3121,2,    282.9,2,  2.1139,    248.8,2,    60.98,2,    30.44,2,     0.00,2,     2.29,2,    4.906,2,    2.384,2, -999.000,9, -999.000,9, -999.000,9,-999.0000,9,  -999.00,9,   -999.0,9,  -999.00,9,-999.000,9,   -999.0,9,   -999.0,9,  -999.0,-999.0000,-999.000,-999.000,  -999.0,-999.000
   3220CGC92_1,   P13,    25,  1,    129,   1004,2,19920827,1520, 46.9975, 164.9870, 5691,   1748,    171.0,   2.7183,  33.6227,2,  33.5929,2,    143.1,2,  2.7085,    138.4,2,    82.07,2,    37.34,2,     0.00,2,     2.76,2, -999.000,9, -999.000,9, -999.000,9, -999.000,9, -999.000,9,-999.0000,9,  -999.00,9,   -999.0,9,  -999.00,9,-999.000,9,   -999.0,9,   -999.0,9,  -999.0,-999.0000,-999.000,-999.000,  -999.0,-999.000
   3220CGC92_1,   P13,    25,  1,    128,   1028,2,19920827,1520, 46.9975, 164.9870, 5691,   1993,    195.0,   2.9183,  33.7171,2,  33.7275,2,     80.9,2,  2.9067,     89.5,2,    91.46,2,    40.04,2,     0.00,2,     2.94,2,    2.373,2,    1.102,2, -999.000,9, -999.000,9, -999.000,9,-999.0000,9,  -999.00,9,   -999.0,9,  -999.00,9,-999.000,9,   -999.0,9,   -999.0,9,  -999.0,-999.0000,-999.000,-999.000,  -999.0,-999.000
   3220CGC92_1,   P13,    25,  1,    127,   1117,2,19920827,1520, 46.9975, 164.9870, 5691,   2494,    245.0,   3.1482,  33.8422,2,  33.8311,2,     54.4,2,  3.1331,     58.5,2,    98.83,2,    41.67,2,     0.00,2,     3.02,2, -999.000,9, -999.000,9, -999.000,9, -999.000,9, -999.000,9,-999.0000,9,  -999.00,9,   -999.0,9,  -999.00,9,-999.000,9,   -999.0,9,   -999.0,9,  -999.0,-999.0000,-999.000,-999.000,  -999.0,-999.000
   3220CGC92_1,   P13,    25,  1,    126,   1110,2,19920827,1520, 46.9975, 164.9870, 5691,   2997,    295.0,   3.2272,  33.9107,2,  33.9275,2,   -999.0,9,  3.2086,     46.0,2,   105.50,2,    42.54,2,     0.00,2,     3.06,2, -999.000,5, -999.000,5, -999.000,9, -999.000,9, -999.000,9,-999.0000,9,  -999.00,9,   -999.0,9,  -999.00,9,-999.000,9,   -999.0,9,   -999.0,9,  -999.0,-999.0000,-999.000,-999.000,  -999.0,-999.000
   3220CGC92_1,   P13,    25,  1,    125,   1035,2,19920827,1520, 46.9975, 164.9870, 5691,   3501,    345.0,   3.2832,  33.9981,2,  34.0045,2,   -999.0,9,  3.2611,     26.0,2,   112.23,2,    43.31,2,     0.00,2,     3.08,2,    1.187,2,    0.563,2, -999.000,9, -999.000,9, -999.000,9,-999.0000,9,  -999.00,9,   -999.0,9,  -999.00,9,-999.000,9,   -999.0,9,   -999.0,9,  -999.0,-999.0000,-999.000,-999.000,  -999.0,-999.000
   3220CGC92_1,   P13,    25,  1,    124,   1026,2,19920827,1520, 46.9975, 164.9870, 5691,   3999,    395.0,   3.2512,  34.0532,2,  34.0691,2,   -999.0,9,  3.2258,     20.5,2,   117.37,2,    43.48,2,     0.00,2,     3.11,2,    0.607,2,    0.289,2, -999.000,9, -999.000,9, -999.000,9,-999.0000,9,  -999.00,9,   -999.0,9,  -999.00,9,-999.000,9,   -999.0,9,   -999.0,9,  -999.0,-999.0000,-999.000,-999.000,  -999.0,-999.000
   3220CGC92_1,   P13,    25,  1,    123,   1014,2,19920827,1520, 46.9975, 164.9870, 5691,   5014,    496.0,   3.1912,  34.1566,2,  34.1580,2,   -999.0,9,  3.1591,     17.8,2,   126.59,2,    43.76,2,     0.00,2,     3.24,2, -999.000,9, -999.000,9, -999.000,9, -999.000,9, -999.000,9,-999.0000,9,  -999.00,9,   -999.0,9,  -999.00,9,-999.000,9,   -999.0,9,   -999.0,9,  -999.0,-999.0000,-999.000,-999.000,  -999.0,-999.000
   3220CGC92_1,   P13,    25,  1,    122,   1015,2,19920827,1520, 46.9975, 164.9870, 5691,   5994,    594.0,   3.0813,  34.2215,2,  34.2226,2,   -999.0,9,  3.0427,     15.4,2,   133.70,2,    43.47,2,     0.00,2,     3.25,2,    0.206,6,    0.094,6, -999.000,9, -999.000,9, -999.000,9,-999.0000,9,  -999.00,9,   -999.0,9,  -999.00,9,-999.000,9,   -999.0,9,   -999.0,9,  -999.0,-999.0000,-999.000,-999.000,  -999.0,-999.000
   3220CGC92_1,   P13,    25,  1,    121,   1235,2,19920827,1520, 46.9975, 164.9870, 5691,   6993,    693.0,   3.0023,  34.2791,2,  34.2827,2,     22.8,2,  2.9572,     20.9,2,   140.80,2,    43.12,2,     0.00,2,     3.23,2, -999.000,9, -999.000,9, -999.000,9, -999.000,9, -999.000,9,-999.0000,9,  -999.00,9,   -999.0,9,  -999.00,9,-999.000,9,   -999.0,9,   -999.0,9,  -999.0,-999.0000,-999.000,-999.000,  -999.0,-999.000
   3220CGC92_1,   P13,    25,  1,    120,   1237,2,19920827,1520, 46.9975, 164.9870, 5691,   7998,    793.0,   2.8753,  34.3265,2,  34.3340,2,     23.2,2,  2.8238,     20.8,2,   146.19,2,    43.52,2,     0.00,2,     3.20,2,    0.120,3,    0.052,3, -999.000,9, -999.000,9, -999.000,9,-999.0000,9,  -999.00,9,   -999.0,9,  -999.00,9,-999.000,9,   -999.0,9,   -999.0,9,  -999.0,-999.0000,-999.000,-999.000,  -999.0,-999.000
   3220CGC92_1,   P13,    25,  1,    119,   1025,2,19920827,1520, 46.9975, 164.9870, 5691,   8992,    893.0,   2.7463,  34.3680,2,  34.3762,2,     23.7,2,  2.6884,     22.2,2,   151.80,2,    43.13,2,     0.00,2,     3.21,2, -999.000,9, -999.000,9, -999.000,9, -999.000,9, -999.000,9,-999.0000,9,  -999.00,9,   -999.0,9,  -999.00,9,-999.000,9,   -999.0,9,   -999.0,9,  -999.0,-999.0000,-999.000,-999.000,  -999.0,-999.000
   3220CGC92_1,   P13,    25,  1,    118,   1002,3,19920827,1520, 46.9975, 164.9870, 5691,  10003,    994.0,   2.6124,  34.4048,2,-999.0000,9,     25.6,2,  2.5481,   -999.0,9,  -999.00,5,  -999.00,9,  -999.00,9,  -999.00,5,    0.079,6,    0.036,6, -999.000,9, -999.000,9, -999.000,9,-999.0000,9,  -999.00,9,   -999.0,9,  -999.00,9,-999.000,9,   -999.0,9,   -999.0,9,  -999.0,-999.0000,-999.000,-999.000,  -999.0,-999.000
   3220CGC92_1,   P13,    25,  1,    117,   1005,2,19920827,1520, 46.9975, 164.9870, 5691,  12053,   1198.0,   2.3954,  34.4633,2,  34.4751,2,     29.7,2,  2.3179,     36.3,6,   161.23,2,    42.20,2,     0.00,2,     3.11,2, -999.000,5, -999.000,5, -999.000,9, -999.000,9, -999.000,9,-999.0000,9,  -999.00,9,   -999.0,9,  -999.00,9,-999.000,9,   -999.0,9,   -999.0,9,  -999.0,-999.0000,-999.000,-999.000,  -999.0,-999.000
   3220CGC92_1,   P13,    25,  1,    116,   1104,2,19920827,1520, 46.9975, 164.9870, 5691,  14991,   1492.0,   2.1405,  34.5288,2,  34.5306,2,     47.9,2,  2.0433,     50.2,2,   165.42,2,    41.90,2,     0.00,2,     3.05,2,    0.027,2,    0.014,2, -999.000,9, -999.000,9, -999.000,9,-999.0000,9,  -999.00,9,   -999.0,9,  -999.00,9,-999.000,9,   -999.0,9,   -999.0,9,  -999.0,-999.0000,-999.000,-999.000,  -999.0,-999.000
   3220CGC92_1,   P13,    25,  1,    115,   1020,2,19920827,1520, 46.9975, 164.9870, 5691,  17994,   1793.0,   1.9555,  34.5755,2,  34.5771,2,     64.2,2,  1.8369,     62.0,2,   169.20,2,    41.08,2,     0.00,2,     2.99,2, -999.000,9, -999.000,9, -999.000,9, -999.000,9, -999.000,9,-999.0000,9,  -999.00,9,   -999.0,9,  -999.00,9,-999.000,9,   -999.0,9,   -999.0,9,  -999.0,-999.0000,-999.000,-999.000,  -999.0,-999.000
   3220CGC92_1,   P13,    25,  1,    114,   1120,2,19920827,1520, 46.9975, 164.9870, 5691,  21000,   2094.0,   1.8086,  34.6091,2,  34.6088,2,     80.7,2,  1.6673,     80.1,2,   168.30,2,    39.71,2,     0.00,2,     2.87,2,    0.006,2,    0.003,2, -999.000,9, -999.000,9, -999.000,9,-999.0000,9,  -999.00,9,   -999.0,9,  -999.00,9,-999.000,9,   -999.0,9,   -999.0,9,  -999.0,-999.0000,-999.000,-999.000,  -999.0,-999.000
   3220CGC92_1,   P13,    25,  1,    113,   1112,2,19920827,1520, 46.9975, 164.9870, 5691,  23993,   2394.0,   1.6886,  34.6323,2,  34.6325,2,     97.6,2,  1.5235,     97.4,2,   166.12,2,    38.85,2,     0.00,2,     2.73,3, -999.000,9, -999.000,9, -999.000,9, -999.000,9, -999.000,9,-999.0000,9,  -999.00,9,   -999.0,9,  -999.00,9,-999.000,9,   -999.0,9,   -999.0,9,  -999.0,-999.0000,-999.000,-999.000,  -999.0,-999.000
   3220CGC92_1,   P13,    25,  1,    112,   1234,2,19920827,1520, 46.9975, 164.9870, 5691,  26996,   2695.0,   1.6116,  34.6478,2,  34.6499,6,    112.7,2,  1.4210,    112.2,2,   163.06,2,    37.85,2,     0.00,2,     2.66,3,    0.002,2,    0.000,2, -999.000,9, -999.000,9, -999.000,9,-999.0000,9,  -999.00,9,   -999.0,9,  -999.00,9,-999.000,9,   -999.0,9,   -999.0,9,  -999.0,-999.0000,-999.000,-999.000,  -999.0,-999.000
   3220CGC92_1,   P13,    25,  1,    111,   1221,2,19920827,1520, 46.9975, 164.9870, 5691,  29970,   2993.0,   1.5556,  34.6590,2,  34.6597,2,    125.9,2,  1.3383,    122.7,2,   160.28,2,    38.17,2,     0.00,2,     2.68,2, -999.000,9, -999.000,9, -999.000,9, -999.000,9, -999.000,9,-999.0000,9,  -999.00,9,   -999.0,9,  -999.00,9,-999.000,9,   -999.0,9,   -999.0,9,  -999.0,-999.0000,-999.000,-999.000,  -999.0,-999.000
   3220CGC92_1,   P13,    25,  1,    110,   1012,2,19920827,1520, 46.9975, 164.9870, 5691,  32743,   3271.0,   1.5166,  34.6666,2,  34.6683,2,   -999.0,9,  1.2732,    132.4,2,   158.31,2,    37.79,2,     0.00,2,     2.66,2,    0.003,2,   -0.003,2, -999.000,9, -999.000,9, -999.000,9,-999.0000,9,  -999.00,9,   -999.0,9,  -999.00,9,-999.000,9,   -999.0,9,   -999.0,9,  -999.0,-999.0000,-999.000,-999.000,  -999.0,-999.000
   3220CGC92_1,   P13,    25,  1,    109,   1041,2,19920827,1520, 46.9975, 164.9870, 5691,  36026,   3600.0,   1.4856,  34.6742,2,  34.6739,2,   -999.0,9,  1.2096,    139.4,2,   155.98,2,    37.31,2,     0.00,2,     2.62,2, -999.000,9, -999.000,9, -999.000,9, -999.000,9, -999.000,9,-999.0000,9,  -999.00,9,   -999.0,9,  -999.00,9,-999.000,9,   -999.0,9,   -999.0,9,  -999.0,-999.0000,-999.000,-999.000,  -999.0,-999.000
   3220CGC92_1,   P13,    25,  1,    108,   1003,2,19920827,1520, 46.9975, 164.9870, 5691,  39045,   3903.0,   1.4746,  34.6791,2,  34.6787,2,   -999.0,9,  1.1669,    145.4,2,   154.65,2,    36.67,2,     0.00,2,     2.60,2,    0.005,6,   -0.002,6, -999.000,9, -999.000,9, -999.000,9,-999.0000,9,  -999.00,9,   -999.0,9,  -999.00,9,-999.000,9,   -999.0,9,   -999.0,9,  -999.0,-999.0000,-999.000,-999.000,  -999.0,-999.000
   3220CGC92_1,   P13,    25,  1,    107,   1013,2,19920827,1520, 46.9975, 164.9870, 5691,  41994,   4198.0,   1.4746,  34.6823,2,  34.6816,2,    149.4,2,  1.1346,    149.7,2,   153.54,2,    36.37,2,     0.00,2,     2.55,2, -999.000,9, -999.000,9, -999.000,9, -999.000,9, -999.000,9,-999.0000,9,  -999.00,9,   -999.0,9,  -999.00,9,-999.000,9,   -999.0,9,   -999.0,9,  -999.0,-999.0000,-999.000,-999.000,  -999.0,-999.000
   3220CGC92_1,   P13,    25,  1,    106,   1036,2,19920827,1520, 46.9975, 164.9870, 5691,  44991,   4498.0,   1.4866,  34.6836,2,  34.6835,2,   -999.0,9,  1.1123,    152.6,2,   152.49,2,    36.59,2,     0.00,2,     2.55,2,    0.017,3,    0.005,2, -999.000,9, -999.000,9, -999.000,9,-999.0000,9,  -999.00,9,   -999.0,9,  -999.00,9,-999.000,9,   -999.0,9,   -999.0,9,  -999.0,-999.0000,-999.000,-999.000,  -999.0,-999.000
   3220CGC92_1,   P13,    25,  1,    105,   1037,2,19920827,1520, 46.9975, 164.9870, 5691,  47991,   4799.0,   1.5036,  34.6870,2,  34.6864,2,    154.1,2,  1.0934,    154.6,2,   152.39,2,    36.62,2,     0.00,2,     2.56,2, -999.000,9, -999.000,9, -999.000,9, -999.000,9, -999.000,9,-999.0000,9,  -999.00,9,   -999.0,9,  -999.00,9,-999.000,9,   -999.0,9,   -999.0,9,  -999.0,-999.0000,-999.000,-999.000,  -999.0,-999.000
   3220CGC92_1,   P13,    25,  1,    104,   1029,2,19920827,1520, 46.9975, 164.9870, 5691,  50977,   5097.0,   1.5286,  34.6873,2,  34.6870,2,    156.5,2,  1.0815,    156.3,2,   152.57,2,    36.53,2,     0.00,2,     2.57,2,    0.002,2,    0.006,2, -999.000,9, -999.000,9, -999.000,9,-999.0000,9,  -999.00,9,   -999.0,9,  -999.00,9,-999.000,9,   -999.0,9,   -999.0,9,  -999.0,-999.0000,-999.000,-999.000,  -999.0,-999.000
   3220CGC92_1,   P13,    25,  1,    103,   1023,2,19920827,1520, 46.9975, 164.9870, 5691,  53989,   5398.0,   1.5606,  34.6868,2,  34.6876,2,    154.1,2,  1.0748,    156.6,2,   154.06,2,    36.21,2,     0.00,2,     2.56,2, -999.000,9, -999.000,9, -999.000,9, -999.000,9, -999.000,9,-999.0000,9,  -999.00,9,   -999.0,9,  -999.00,9,-999.000,9,   -999.0,9,   -999.0,9,  -999.0,-999.0000,-999.000,-999.000,  -999.0,-999.000
   3220CGC92_1,   P13,    25,  1,    102,      0,2,19920827,1520, 46.9975, 164.9870, 5691,  56975,   5696.0,   1.5996,  34.6878,2,  34.6885,2,    157.4,2,  1.0740,    156.9,2,   153.59,2,    36.37,2,     0.00,2,     2.52,2,    0.006,2,    0.005,2, -999.000,9, -999.000,9, -999.000,9,-999.0000,9,  -999.00,9,   -999.0,9,  -999.00,9,-999.000,9,   -999.0,9,   -999.0,9,  -999.0,-999.0000,-999.000,-999.000,  -999.0,-999.000
   3220CGC92_1,   P13,    25,  1,    101,   1038,2,19920827,1520, 46.9975, 164.9870, 5691,  59517,   5949.0,   1.6336,  34.6874,2,  34.6890,2,    157.7,2,  1.0733,    158.0,2,   154.15,2,    36.96,2,     0.00,2,     2.51,2,    0.007,2,    0.007,2, -999.000,9, -999.000,9, -999.000,9,-999.0000,9,  -999.00,9,   -999.0,9,  -999.00,9,-999.000,9,   -999.0,9,   -999.0,9,  -999.0,-999.0000,-999.000,-999.000,  -999.0,-999.000