BOTTLE,20221003CCHSIOAMB
EXPOCODE,SECT_ID,STNNBR,CASTNO,SAMPNO,BTLNBR,BTLNBR_FLAG_W,DATE,TIME,LATITUDE,LONGITUDE,DEPTH,CTDRAW,CTDPRS,CTDTMP,CTDSAL,CTDSAL_FLAG_W,SALNTY,SALNTY_FLAG_W,CTDOXY,CTDOXY_FLAG_W,THETA,OXYGEN,OXYGEN_FLAG_W,SILCAT,SILCAT_FLAG_W,NITRAT,NITRAT_FLAG_W,NITRIT,NITRIT_FLAG_W,PHSPHT,PHSPHT_FLAG_W,CFC-11,CFC-11_FLAG_W,CFC-12,CFC-12_FLAG_W,CFC113,CFC113_FLAG_W,CCL4,CCL4_FLAG_W,TRITUM,TRITUM_FLAG_W,HELIUM,HELIUM_FLAG_W,DELHE3,DELHE3_FLAG_W,DELC14,DELC14_FLAG_W,DELC13,DELC13_FLAG_W,NEON,NEON_FLAG_W,TCARBN,TCARBN_FLAG_W,ALKALI,ALKALI_FLAG_W,C14ERR,HELIER,DELHER,NEONER,C13ERR,TRITER
,,,,,,,,,,,,DBAR,DBAR,ITS-90,PSS-78,,PSS-78,,UMOL/KG,,DEG C,UMOL/KG,,UMOL/KG,,UMOL/KG,,UMOL/KG,,UMOL/KG,,PMOL/KG,,PMOL/KG,,PMOL/KG,,PMOL/KG,,TU,,NMOL/KG,,PERCNT,,/MILLE,,/MILLE,,NMOL/KG,,UMOL/KG,,UMOL/KG,,/MILLE,NMOL/KG,PERCNT,NMOL/KG,/MILLE,TU
   3220CGC92_2,   P13,    57,  1,    136,   1106,4,19920930,2213, 21.3197, 165.0082, 5572,     41,      1.0,  27.6244,  34.7920,2,-999.0000,9,   -999.0,9, 27.6241,   -999.0,9,  -999.00,5,  -999.00,9,  -999.00,9,  -999.00,5, -999.000,9, -999.000,9, -999.000,9, -999.000,9, -999.000,9,-999.0000,9,  -999.00,9,   -999.0,9,  -999.00,9,-999.000,9,   -999.0,9,   -999.0,9,  -999.0,-999.0000,-999.000,-999.000,  -999.0,-999.000
   3220CGC92_2,   P13,    57,  1,    135,   1013,2,19920930,2213, 21.3197, 165.0082, 5572,    278,     25.0,  27.6374,  35.1900,2,  35.1693,2,    202.2,2, 27.6315,    202.9,2,     0.00,2,     0.00,2,     0.00,2,     0.00,2,    1.785,2,    1.003,2, -999.000,9, -999.000,9, -999.000,9,-999.0000,9,  -999.00,9,   -999.0,9,  -999.00,9,-999.000,9,   1948.9,2,   2301.4,2,  -999.0,-999.0000,-999.000,-999.000,  -999.0,-999.000
   3220CGC92_2,   P13,    57,  1,    134,   1030,2,19920930,2213, 21.3197, 165.0082, 5572,    312,     28.0,  27.6374,  35.1912,2,  35.1634,2,    211.3,2, 27.6308,    212.9,2,     0.66,2,     0.00,2,     0.00,2,     0.00,2,    1.894,2,    1.091,2, -999.000,9, -999.000,9, -999.000,9,-999.0000,9,  -999.00,9,   -999.0,9,  -999.00,9,-999.000,9,   1966.8,2,   2311.9,2,  -999.0,-999.0000,-999.000,-999.000,  -999.0,-999.000
   3220CGC92_2,   P13,    57,  1,    133,   1231,2,19920930,2213, 21.3197, 165.0082, 5572,    735,     70.0,  23.3494,  35.1348,2,  35.1431,2,    223.0,2, 23.3349,    222.0,2,     1.17,2,     0.00,2,     0.00,2,     0.00,2, -999.000,9, -999.000,9, -999.000,9, -999.000,9, -999.000,9,-999.0000,9,  -999.00,9,   -999.0,9,  -999.00,9,-999.000,9,   1978.9,6,   2309.2,6,  -999.0,-999.0000,-999.000,-999.000,  -999.0,-999.000
   3220CGC92_2,   P13,    57,  1,    132,   1109,4,19920930,2213, 21.3197, 165.0082, 5572,    965,     93.0,  20.7060,  35.1090,2,-999.0000,9,    215.4,2, 20.6884,   -999.0,9,  -999.00,5,  -999.00,9,  -999.00,9,  -999.00,5, -999.000,9, -999.000,9, -999.000,9, -999.000,9, -999.000,9,-999.0000,9,  -999.00,9,   -999.0,9,  -999.00,9,-999.000,9,   -999.0,9,   -999.0,9,  -999.0,-999.0000,-999.000,-999.000,  -999.0,-999.000
   3220CGC92_2,   P13,    57,  1,    131,   1031,2,19920930,2213, 21.3197, 165.0082, 5572,   1215,    118.0,  19.5193,  35.0381,2,  35.0736,2,    194.7,2, 19.4979,    203.1,2,     1.79,2,     0.00,2,     0.00,2,     0.00,2, -999.000,9, -999.000,9, -999.000,9, -999.000,9, -999.000,9,-999.0000,9,  -999.00,9,   -999.0,9,  -999.00,9,-999.000,9,   2014.8,2,   2303.8,2,  -999.0,-999.0000,-999.000,-999.000,  -999.0,-999.000
   3220CGC92_2,   P13,    57,  1,    130,   1041,2,19920930,2213, 21.3197, 165.0082, 5572,   1480,    144.0,  18.6285,  34.9430,2,  34.9409,2,    201.4,2, 18.6032,    212.5,2,     2.13,2,     0.00,2,     0.00,2,     0.00,2, -999.000,5, -999.000,5, -999.000,9, -999.000,9, -999.000,9,-999.0000,9,  -999.00,9,   -999.0,9,  -999.00,9,-999.000,9,   2012.6,2,   2299.6,2,  -999.0,-999.0000,-999.000,-999.000,  -999.0,-999.000
   3220CGC92_2,   P13,    57,  1,    129,   1004,2,19920930,2213, 21.3197, 165.0082, 5572,   1711,    167.0,  18.0357,  34.8879,2,  34.8568,2,    203.4,2, 18.0070,    214.9,6,     2.68,2,     1.00,2,     0.00,2,     0.04,2, -999.000,9, -999.000,9, -999.000,9, -999.000,9, -999.000,9,-999.0000,9,  -999.00,9,   -999.0,9,  -999.00,9,-999.000,9,   2012.6,2,   2288.1,2,  -999.0,-999.0000,-999.000,-999.000,  -999.0,-999.000
   3220CGC92_2,   P13,    57,  1,    128,   1016,2,19920930,2213, 21.3197, 165.0082, 5572,   1988,    195.0,  17.2888,  34.8138,2,  34.7990,2,    206.2,2, 17.2563,    216.7,2,     3.44,2,     2.03,2,     0.00,2,     0.08,2,    2.520,2,    1.397,2, -999.000,9, -999.000,9, -999.000,9,-999.0000,9,  -999.00,9,   -999.0,9,  -999.00,9,-999.000,9,   2014.5,2,   2286.6,2,  -999.0,-999.0000,-999.000,-999.000,  -999.0,-999.000
   3220CGC92_2,   P13,    57,  1,    127,   1028,4,19920930,2213, 21.3197, 165.0082, 5572,   2295,    225.0,  16.4980,  34.7495,2,-999.0000,9,    207.2,2, 16.4617,   -999.0,9,  -999.00,5,  -999.00,9,  -999.00,9,  -999.00,5, -999.000,9, -999.000,9, -999.000,9, -999.000,9, -999.000,9,-999.0000,9,  -999.00,9,   -999.0,9,  -999.00,9,-999.000,9,   -999.0,9,   -999.0,9,  -999.0,-999.0000,-999.000,-999.000,  -999.0,-999.000
   3220CGC92_2,   P13,    57,  1,    126,   1110,2,19920930,2213, 21.3197, 165.0082, 5572,   2981,    293.0,  14.7135,  34.5895,2,  34.5655,2,    197.3,2, 14.6697,    199.3,2,     8.90,2,     7.06,2,     0.00,2,     0.44,2,    2.314,2,    1.222,2, -999.000,9, -999.000,9, -999.000,9,-999.0000,9,  -999.00,9,   -999.0,9,  -999.00,9,-999.000,9,   2056.8,2,   2273.3,2,  -999.0,-999.0000,-999.000,-999.000,  -999.0,-999.000
   3220CGC92_2,   P13,    57,  1,    125,   1035,3,19920930,2213, 21.3197, 165.0082, 5572,   3471,    342.0,  13.1538,  34.4501,2,  34.4095,2,    195.7,2, 13.1064,    196.1,2,    13.43,2,    10.51,2,     0.13,2,     0.65,2,    2.238,2,    1.161,2, -999.000,9, -999.000,9, -999.000,9,-999.0000,9,  -999.00,9,   -999.0,9,  -999.00,9,-999.000,9,   2077.5,2,   2271.2,2,  -999.0,-999.0000,-999.000,-999.000,  -999.0,-999.000
   3220CGC92_2,   P13,    57,  1,    124,   1026,2,19920930,2213, 21.3197, 165.0082, 5572,   3995,    394.0,  11.6872,  34.3328,2,  34.2859,2,    192.6,2, 11.6366,    191.6,2,    18.56,2,    13.80,2,     0.00,2,     0.91,2,    2.079,2,    1.078,2, -999.000,9, -999.000,9, -999.000,9,-999.0000,9,  -999.00,9,   -999.0,9,  -999.00,9,-999.000,9,   2097.4,2,   2265.8,2,  -999.0,-999.0000,-999.000,-999.000,  -999.0,-999.000
   3220CGC92_2,   P13,    57,  1,    123,   1014,2,19920930,2213, 21.3197, 165.0082, 5572,   4982,    493.0,   8.7259,  34.1334,2,  34.1157,2,    154.4,2,  8.6730,    149.8,2,    38.68,2,    24.44,2,     0.00,2,     1.73,2,    1.273,2,    0.684,2, -999.000,9, -999.000,9, -999.000,9,-999.0000,9,  -999.00,9,   -999.0,9,  -999.00,9,-999.000,9,   2168.2,2,   2277.0,2,  -999.0,-999.0000,-999.000,-999.000,  -999.0,-999.000
   3220CGC92_2,   P13,    57,  1,    122,   1015,2,19920930,2213, 21.3197, 165.0082, 5572,   6015,    596.0,   6.7204,  34.1063,2,  34.1137,2,    101.5,2,  6.6650,     92.2,2,    62.33,2,    32.04,2,     0.00,2,     2.38,2,    0.485,6,    0.276,6, -999.000,9, -999.000,9, -999.000,9,-999.0000,9,  -999.00,9,   -999.0,9,  -999.00,9,-999.000,9,   2238.3,2,   2295.0,2,  -999.0,-999.0000,-999.000,-999.000,  -999.0,-999.000
   3220CGC92_2,   P13,    57,  1,    121,   1235,3,19920930,2213, 21.3197, 165.0082, 5572,   6957,    690.0,   5.4637,  34.2459,2,  34.2419,2,     60.6,2,  5.4056,     55.2,2,    80.64,2,    35.30,2,     0.00,2,     2.69,2,    0.108,2,    0.075,2, -999.000,9, -999.000,9, -999.000,9,-999.0000,9,  -999.00,9,   -999.0,9,  -999.00,9,-999.000,9,   2288.4,2,   2320.0,2,  -999.0,-999.0000,-999.000,-999.000,  -999.0,-999.000
   3220CGC92_2,   P13,    57,  1,    120,   1237,2,19920930,2213, 21.3197, 165.0082, 5572,   7980,    792.0,   4.8098,  34.3531,2,  34.3219,2,     49.6,2,  4.7464,     46.8,2,    92.61,2,    38.20,2,     0.00,2,     2.85,2,    0.028,2,    0.031,6, -999.000,9, -999.000,9, -999.000,9,-999.0000,9,  -999.00,9,   -999.0,9,  -999.00,9,-999.000,9,   2312.5,2,   2339.3,2,  -999.0,-999.0000,-999.000,-999.000,  -999.0,-999.000
   3220CGC92_2,   P13,    57,  1,    119,   1025,2,19920930,2213, 21.3197, 165.0082, 5572,   8994,    893.0,   4.4199,  34.4278,2,  34.4006,2,   -999.0,9,  4.3503,     51.7,2,    99.84,2,    38.81,2,     0.00,2,     2.89,2,    0.009,2,    0.017,3, -999.000,9, -999.000,9, -999.000,9,-999.0000,9,  -999.00,9,   -999.0,9,  -999.00,9,-999.000,9,   2314.2,2,   2354.2,2,  -999.0,-999.0000,-999.000,-999.000,  -999.0,-999.000
   3220CGC92_2,   P13,    57,  1,    118,   1118,2,19920930,2213, 21.3197, 165.0082, 5572,   9990,    992.0,   4.0040,  34.4766,2,  34.4515,6,   -999.0,9,  3.9290,     55.5,6,   109.05,2,    38.58,2,     0.00,2,     2.83,2, -999.000,9, -999.000,9, -999.000,9, -999.000,9, -999.000,9,-999.0000,9,  -999.00,9,   -999.0,9,  -999.00,9,-999.000,9,   2330.4,2,   2367.5,2,  -999.0,-999.0000,-999.000,-999.000,  -999.0,-999.000
   3220CGC92_2,   P13,    57,  1,    117,   1005,2,19920930,2213, 21.3197, 165.0082, 5572,  12008,   1194.0,   3.4322,  34.5315,2,  34.5108,2,   -999.0,9,  3.3452,     67.3,2,   120.41,2,    38.43,2,     0.00,2,     2.78,2,    0.003,2,    0.006,2, -999.000,9, -999.000,9, -999.000,9,-999.0000,9,  -999.00,9,   -999.0,9,  -999.00,9,-999.000,9,   2335.9,2,   2383.0,2,  -999.0,-999.0000,-999.000,-999.000,  -999.0,-999.000
   3220CGC92_2,   P13,    57,  1,    116,   1104,2,19920930,2213, 21.3197, 165.0082, 5572,  13938,   1387.0,   2.9773,  34.5570,2,  34.5442,2,   -999.0,9,  2.8790,     75.2,2,   128.36,2,    37.77,2,     0.00,2,     2.77,2, -999.000,9, -999.000,9, -999.000,9, -999.000,9, -999.000,9,-999.0000,9,  -999.00,9,   -999.0,9,  -999.00,9,-999.000,9,   2342.1,2,   2390.5,2,  -999.0,-999.0000,-999.000,-999.000,  -999.0,-999.000
   3220CGC92_2,   P13,    57,  1,    115,   1020,2,19920930,2213, 21.3197, 165.0082, 5572,  15969,   1590.0,   2.5764,  34.5781,2,  34.5734,2,   -999.0,9,  2.4661,     82.9,2,   138.01,2,    38.47,2,     0.00,2,     2.79,2, -999.000,9, -999.000,9, -999.000,9, -999.000,9, -999.000,9,-999.0000,9,  -999.00,9,   -999.0,9,  -999.00,9,-999.000,9,   2348.6,2,   2400.9,2,  -999.0,-999.0000,-999.000,-999.000,  -999.0,-999.000
   3220CGC92_2,   P13,    57,  1,    114,   1012,3,19920930,2213, 21.3197, 165.0082, 5572,  18014,   1795.0,   2.2625,  34.6034,2,  34.5978,2,   -999.0,9,  2.1393,     93.8,2,   144.64,2,    37.34,3,     0.00,2,     2.69,2,    0.008,2,    0.007,2, -999.000,9, -999.000,9, -999.000,9,-999.0000,9,  -999.00,9,   -999.0,9,  -999.00,9,-999.000,9,   2351.0,2,   2407.7,2,  -999.0,-999.0000,-999.000,-999.000,  -999.0,-999.000
   3220CGC92_2,   P13,    57,  1,    113,   1229,2,19920930,2213, 21.3197, 165.0082, 5572,  20995,   2093.0,   2.0215,  34.6238,2,  34.6211,2,   -999.0,9,  1.8769,    114.0,3,   151.52,2,    36.76,2,     0.00,2,     2.59,2, -999.000,9, -999.000,9, -999.000,9, -999.000,9, -999.000,9,-999.0000,9,  -999.00,9,   -999.0,9,  -999.00,9,-999.000,9,   2349.6,2,   2414.1,2,  -999.0,-999.0000,-999.000,-999.000,  -999.0,-999.000
   3220CGC92_2,   P13,    57,  1,    112,   1219,2,19920930,2213, 21.3197, 165.0082, 5572,  23957,   2390.0,   1.8466,  34.6408,2,  34.6396,2,    111.7,2,  1.6790,    122.3,3,   153.75,2,    36.12,2,     0.00,2,     2.57,2, -999.000,9, -999.000,9, -999.000,9, -999.000,9, -999.000,9,-999.0000,9,  -999.00,9,   -999.0,9,  -999.00,9,-999.000,9,   2347.6,2,   2417.9,2,  -999.0,-999.0000,-999.000,-999.000,  -999.0,-999.000
   3220CGC92_2,   P13,    57,  1,    111,   1112,2,19920930,2213, 21.3197, 165.0082, 5572,  26963,   2691.0,   1.7006,  34.6536,2,  34.6525,2,    119.6,2,  1.5086,   -999.0,5,   152.87,2,    36.72,2,     0.00,2,     2.68,2,    0.027,4,   -0.009,2, -999.000,9, -999.000,9, -999.000,9,-999.0000,9,  -999.00,9,   -999.0,9,  -999.00,9,-999.000,9,   2344.2,2,   2420.6,2,  -999.0,-999.0000,-999.000,-999.000,  -999.0,-999.000
   3220CGC92_2,   P13,    57,  1,    110,   1029,2,19920930,2213, 21.3197, 165.0082, 5572,  29932,   2989.0,   1.6146,  34.6647,2,  34.6625,2,   -999.0,9,  1.3964,    129.9,2,   153.84,2,    35.99,2,     0.00,2,     2.64,2, -999.000,9, -999.000,9, -999.000,9, -999.000,9, -999.000,9,-999.0000,9,  -999.00,9,   -999.0,9,  -999.00,9,-999.000,9,   2341.5,2,   2421.6,2,  -999.0,-999.0000,-999.000,-999.000,  -999.0,-999.000
   3220CGC92_2,   P13,    57,  1,    109,   1023,2,19920930,2213, 21.3197, 165.0082, 5572,  33010,   3298.0,   1.5526,  34.6718,2,  34.6692,2,   -999.0,9,  1.3056,    135.9,2,   154.97,4,    34.19,4,     0.00,2,     2.13,4, -999.000,9, -999.000,9, -999.000,9, -999.000,9, -999.000,9,-999.0000,9,  -999.00,9,   -999.0,9,  -999.00,9,-999.000,9,   2337.6,2,   2421.0,2,  -999.0,-999.0000,-999.000,-999.000,  -999.0,-999.000
   3220CGC92_2,   P13,    57,  1,    108,   1032,2,19920930,2213, 21.3197, 165.0082, 5572,  35992,   3597.0,   1.5196,  34.6765,2,  34.6748,2,    140.3,2,  1.2430,    143.0,2,   154.25,2,    35.19,2,     0.00,2,     2.54,2,    0.005,2,    0.002,2, -999.000,9, -999.000,9, -999.000,9,-999.0000,9,  -999.00,9,   -999.0,9,  -999.00,9,-999.000,9,   2333.9,2,   2418.9,2,  -999.0,-999.0000,-999.000,-999.000,  -999.0,-999.000
   3220CGC92_2,   P13,    57,  1,    107,   1037,2,19920930,2213, 21.3197, 165.0082, 5572,  39008,   3899.0,   1.4876,  34.6818,2,  34.6793,2,    147.4,2,  1.1800,    148.3,2,   151.30,2,    35.17,2,     0.00,2,     2.53,2, -999.000,9, -999.000,9, -999.000,9, -999.000,9, -999.000,9,-999.0000,9,  -999.00,9,   -999.0,9,  -999.00,9,-999.000,9,   2328.6,2,   2417.6,2,  -999.0,-999.0000,-999.000,-999.000,  -999.0,-999.000
   3220CGC92_2,   P13,    57,  1,    106,   1022,2,19920930,2213, 21.3197, 165.0082, 5572,  42012,   4200.0,   1.4626,  34.6844,2,  34.6856,2,    152.7,2,  1.1227,    155.7,2,   147.09,2,    34.38,2,     0.00,2,     2.49,2, -999.000,9, -999.000,9, -999.000,9, -999.000,9, -999.000,9,-999.0000,9,  -999.00,9,   -999.0,9,  -999.00,9,-999.000,9,   2322.3,2,   2415.1,2,  -999.0,-999.0000,-999.000,-999.000,  -999.0,-999.000
   3220CGC92_2,   P13,    57,  1,    105,   1221,2,19920930,2213, 21.3197, 165.0082, 5572,  44977,   4497.0,   1.4407,  34.6897,2,  34.6897,2,    160.9,2,  1.0678,    162.7,2,   143.73,2,    34.40,2,     0.00,2,     2.46,2,    0.001,2,    0.018,3, -999.000,9, -999.000,9, -999.000,9,-999.0000,9,  -999.00,9,   -999.0,9,  -999.00,9,-999.000,9,   2316.4,2,   2411.9,2,  -999.0,-999.0000,-999.000,-999.000,  -999.0,-999.000
   3220CGC92_2,   P13,    57,  1,    104,   1038,2,19920930,2213, 21.3197, 165.0082, 5572,  48002,   4800.0,   1.4317,  34.6916,2,  34.6930,2,   -999.0,9,  1.0236,    170.9,2,   140.90,2,    33.98,2,     0.00,2,     2.35,2, -999.000,9, -999.000,9, -999.000,9, -999.000,9, -999.000,9,-999.0000,9,  -999.00,9,   -999.0,9,  -999.00,9,-999.000,9,   2308.7,2,   2408.3,2,  -999.0,-999.0000,-999.000,-999.000,  -999.0,-999.000
   3220CGC92_2,   P13,    57,  1,    103,   1033,2,19920930,2213, 21.3197, 165.0082, 5572,  50990,   5098.0,   1.4297,  34.6947,2,  34.6856,4,   -999.0,9,  0.9857,    175.0,2,   137.90,2,    33.55,2,     0.00,2,     2.35,2, -999.000,9, -999.000,9, -999.000,9, -999.000,9, -999.000,9,-999.0000,9,  -999.00,9,   -999.0,9,  -999.00,9,-999.000,9,   2302.7,2,   2403.8,2,  -999.0,-999.0000,-999.000,-999.000,  -999.0,-999.000
   3220CGC92_2,   P13,    57,  1,    102,   1234,3,19920930,2213, 21.3197, 165.0082, 5572,  54022,   5401.0,   1.4487,  34.6961,2,  34.6967,2,    180.3,2,  0.9664,    176.4,2,   133.60,2,    33.44,2,     0.00,2,     2.34,2,    0.017,3,    0.021,3, -999.000,9, -999.000,9, -999.000,9,-999.0000,9,  -999.00,9,   -999.0,9,  -999.00,9,-999.000,9,   2300.9,2,   2399.4,2,  -999.0,-999.0000,-999.000,-999.000,  -999.0,-999.000
   3220CGC92_2,   P13,    57,  1,    101,   1238,3,19920930,2213, 21.3197, 165.0082, 5572,  56879,   5686.0,   1.4816,  34.6972,2,  34.6971,6,    181.4,2,  0.9616,    177.2,2,   133.21,2,    33.75,2,     0.00,2,     2.36,2, -999.000,9, -999.000,9, -999.000,9, -999.000,9, -999.000,9,-999.0000,9,  -999.00,9,   -999.0,9,  -999.00,9,-999.000,9,   2300.1,6,   2402.9,6,  -999.0,-999.0000,-999.000,-999.000,  -999.0,-999.000