BOTTLE,20221003CCHSIOAMB
EXPOCODE,SECT_ID,STNNBR,CASTNO,SAMPNO,BTLNBR,BTLNBR_FLAG_W,DATE,TIME,LATITUDE,LONGITUDE,DEPTH,CTDRAW,CTDPRS,CTDTMP,CTDSAL,CTDSAL_FLAG_W,SALNTY,SALNTY_FLAG_W,CTDOXY,CTDOXY_FLAG_W,THETA,OXYGEN,OXYGEN_FLAG_W,SILCAT,SILCAT_FLAG_W,NITRAT,NITRAT_FLAG_W,NITRIT,NITRIT_FLAG_W,PHSPHT,PHSPHT_FLAG_W,CFC-11,CFC-11_FLAG_W,CFC-12,CFC-12_FLAG_W,CFC113,CFC113_FLAG_W,CCL4,CCL4_FLAG_W,TRITUM,TRITUM_FLAG_W,HELIUM,HELIUM_FLAG_W,DELHE3,DELHE3_FLAG_W,DELC14,DELC14_FLAG_W,DELC13,DELC13_FLAG_W,NEON,NEON_FLAG_W,TCARBN,TCARBN_FLAG_W,ALKALI,ALKALI_FLAG_W,C14ERR,HELIER,DELHER,NEONER,C13ERR,TRITER
,,,,,,,,,,,,DBAR,DBAR,ITS-90,PSS-78,,PSS-78,,UMOL/KG,,DEG C,UMOL/KG,,UMOL/KG,,UMOL/KG,,UMOL/KG,,UMOL/KG,,PMOL/KG,,PMOL/KG,,PMOL/KG,,PMOL/KG,,TU,,NMOL/KG,,PERCNT,,/MILLE,,/MILLE,,NMOL/KG,,UMOL/KG,,UMOL/KG,,/MILLE,NMOL/KG,PERCNT,NMOL/KG,/MILLE,TU
   3220CGC92_2,   P13,    73,  1,    133,   1231,2,19921012,2349,  3.0018, 164.9927, 4120,     90,      6.0,  29.6129,  33.9105,2,  33.9078,2,   -999.0,9, 29.6114,    194.7,2,     2.00,2,     0.00,2,     0.00,2,     0.08,2,    1.570,2,    0.879,2, -999.000,9, -999.000,9, -999.000,9,-999.0000,9,  -999.00,9,    103.4,2,     1.69,2,-999.000,9,   1867.1,2,   2229.6,2,     3.4,-999.0000,-999.000,-999.000,  -999.0,-999.000
   3220CGC92_2,   P13,    73,  1,    132,   1017,2,19921012,2349,  3.0018, 164.9927, 4120,    237,     21.0,  29.6059,  33.9120,2,  33.8767,4,   -999.0,9, 29.6007,   -999.0,5,     0.48,2,     0.00,2,     0.00,2,     0.01,2, -999.000,5, -999.000,5, -999.000,9, -999.000,9, -999.000,9,-999.0000,9,  -999.00,9,   -999.0,9,  -999.00,9,-999.000,9,   -999.0,9,   -999.0,9,  -999.0,-999.0000,-999.000,-999.000,  -999.0,-999.000
   3220CGC92_2,   P13,    73,  1,    131,   1031,2,19921012,2349,  3.0018, 164.9927, 4120,    483,     45.0,  29.4619,  34.0803,2,  33.9990,2,    201.2,2, 29.4509,    196.5,2,     4.63,2,     6.32,2,     0.00,2,     0.48,2,    1.545,2,    0.869,2, -999.000,9, -999.000,9, -999.000,9,-999.0000,9,  -999.00,9,     92.4,2,     1.76,2,-999.000,9,   1881.7,2,   2233.8,2,     3.1,-999.0000,-999.000,-999.000,  -999.0,-999.000
   3220CGC92_2,   P13,    73,  1,    130,   1041,2,19921012,2349,  3.0018, 164.9927, 4120,    738,     70.0,  27.2475,  34.6898,2,  34.6839,2,    198.2,2, 27.2313,    193.6,2,     6.57,2,     7.53,2,     0.00,2,     0.57,2,    1.639,2,    0.920,2, -999.000,9, -999.000,9, -999.000,9,-999.0000,9,  -999.00,9,    102.1,2,     1.45,2,-999.000,9,   1961.0,6,   2282.0,6,     3.9,-999.0000,-999.000,-999.000,  -999.0,-999.000
   3220CGC92_2,   P13,    73,  1,    129,   1004,2,19921012,2349,  3.0018, 164.9927, 4120,    996,     96.0,  24.6651,  34.8623,2,  34.9470,2,    154.7,2, 24.6445,    154.0,2,    10.28,2,     9.71,2,     0.00,2,     0.68,2,    1.603,6,    0.899,6, -999.000,9, -999.000,9, -999.000,9,-999.0000,9,  -999.00,9,     67.1,2,     1.11,2,-999.000,9,   2017.8,2,   2297.5,2,     3.6,-999.0000,-999.000,-999.000,  -999.0,-999.000
   3220CGC92_2,   P13,    73,  1,    128,   1016,2,19921012,2349,  3.0018, 164.9927, 4120,   1232,    119.0,  23.3924,  34.9861,2,  35.0558,2,    140.0,2, 23.3678,    141.6,2,    12.72,2,    11.37,2,     0.00,2,     0.76,2,    1.578,2,    0.876,2, -999.000,9, -999.000,9, -999.000,9,-999.0000,9,  -999.00,9,     98.4,2,     1.01,2,-999.000,9,   2039.5,2,   2302.4,2,     6.5,-999.0000,-999.000,-999.000,  -999.0,-999.000
   3220CGC92_2,   P13,    73,  1,    127,   1028,2,19921012,2349,  3.0018, 164.9927, 4120,   1481,    144.0,  21.4039,  34.9697,2,  34.9785,2,    143.7,2, 21.3759,    143.6,2,    20.16,2,    16.44,2,     0.09,2,     1.11,2,    1.620,2,    0.877,2, -999.000,9, -999.000,9, -999.000,9,-999.0000,9,  -999.00,9,     91.5,2,     0.89,2,-999.000,9,   2057.0,2,   2301.8,2,     7.6,-999.0000,-999.000,-999.000,  -999.0,-999.000
   3220CGC92_2,   P13,    73,  1,    126,   1110,2,19921012,2349,  3.0018, 164.9927, 4120,   1732,    169.0,  18.5505,  34.8284,2,  34.8220,2,    143.8,2, 18.5210,    146.6,2,    25.31,2,    19.82,2,     0.00,2,     1.38,2,    1.594,2,    0.866,2, -999.000,9, -999.000,9, -999.000,9,-999.0000,9,  -999.00,9,     65.2,2,     0.76,2,-999.000,9,   2075.7,2,   2295.3,2,     3.4,-999.0000,-999.000,-999.000,  -999.0,-999.000
   3220CGC92_2,   P13,    73,  1,    125,   1035,2,19921012,2349,  3.0018, 164.9927, 4120,   2008,    197.0,  17.3538,  34.7398,2,  34.7131,2,    150.4,2, 17.3209,    149.9,6,    29.56,2,    23.01,2,     0.00,2,     1.55,2,    1.649,2,    0.864,2, -999.000,9, -999.000,9, -999.000,9,-999.0000,9,  -999.00,9,     58.1,2,     0.67,2,-999.000,9,   2085.7,2,   2291.2,2,     2.9,-999.0000,-999.000,-999.000,  -999.0,-999.000
   3220CGC92_2,   P13,    73,  1,    124,   1019,2,19921012,2349,  3.0018, 164.9927, 4120,   2239,    220.0,  14.2806,  34.7034,2,  34.6418,2,    134.3,2, 14.2484,    133.4,2,    29.49,2,    23.50,2,     0.00,2,     1.68,2,    1.280,6,    0.710,6, -999.000,9, -999.000,9, -999.000,9,-999.0000,9,  -999.00,9,   -999.0,9,  -999.00,9,-999.000,9,   2124.6,2,   2291.9,2,  -999.0,-999.0000,-999.000,-999.000,  -999.0,-999.000
   3220CGC92_2,   P13,    73,  1,    123,   1014,2,19921012,2349,  3.0018, 164.9927, 4120,   2481,    244.0,  12.2301,  34.5545,2,  34.6045,2,    125.0,2, 12.1979,    126.6,2,    38.45,2,    30.76,2,     0.00,2,     2.16,2,    0.982,2,    0.520,2, -999.000,9, -999.000,9, -999.000,9,-999.0000,9,  -999.00,9,     -3.8,2,     0.51,2,-999.000,9,   2151.2,2,   2296.2,2,     2.6,-999.0000,-999.000,-999.000,  -999.0,-999.000
   3220CGC92_2,   P13,    73,  1,    122,   1015,2,19921012,2349,  3.0018, 164.9927, 4120,   2985,    294.0,  10.8814,  34.6423,2,  34.6424,2,    124.9,2, 10.8454,    123.0,2,    41.65,2,    32.00,2,     0.00,2,     2.30,2,    0.661,2,    0.353,2, -999.000,9, -999.000,9, -999.000,9,-999.0000,9,  -999.00,9,    -30.6,2,     0.58,2,-999.000,9,   2172.1,2,   2304.1,2,     2.6,-999.0000,-999.000,-999.000,  -999.0,-999.000
   3220CGC92_2,   P13,    73,  1,    121,   1235,2,19921012,2349,  3.0018, 164.9927, 4120,   3481,    343.0,  10.1536,  34.6506,2,  34.6538,2,    123.7,2, 10.1133,    121.7,2,    40.55,2,    31.54,3,     0.00,2,     2.21,2,    0.501,2,    0.269,2, -999.000,9, -999.000,9, -999.000,9,-999.0000,9,  -999.00,9,   -999.0,5,     0.63,2,-999.000,9,   -999.0,9,   -999.0,9,  -999.0,-999.0000,-999.000,-999.000,  -999.0,-999.000
   3220CGC92_2,   P13,    73,  1,    120,   1237,2,19921012,2349,  3.0018, 164.9927, 4120,   3992,    394.0,   9.2538,  34.6015,2,  34.5868,2,     95.7,2,  9.2100,     80.1,2,    50.57,2,    34.80,2,     0.00,2,     2.57,2,    0.242,2,    0.130,2, -999.000,9, -999.000,9, -999.000,9,-999.0000,9,  -999.00,9,   -999.0,5,     0.35,2,-999.000,9,   2219.0,2,   2310.4,2,  -999.0,-999.0000,-999.000,-999.000,  -999.0,-999.000
   3220CGC92_2,   P13,    73,  1,    119,   1025,2,19921012,2349,  3.0018, 164.9927, 4120,   4475,    442.0,   8.7399,  34.5835,2,  34.5778,2,     73.6,2,  8.6923,     73.3,2,    59.68,2,    37.83,2,     0.00,2,     2.78,2,    0.132,2,    0.070,2, -999.000,9, -999.000,9, -999.000,9,-999.0000,9,  -999.00,9,   -999.0,9,  -999.00,9,-999.000,9,   2237.2,2,   2326.8,3,  -999.0,-999.0000,-999.000,-999.000,  -999.0,-999.000
   3220CGC92_2,   P13,    73,  1,    118,   1118,2,19921012,2349,  3.0018, 164.9927, 4120,   4963,    491.0,   8.0341,  34.5652,2,  34.5663,2,    103.3,2,  7.9836,    105.4,2,  -999.00,5,  -999.00,9,  -999.00,9,  -999.00,5,    0.138,2,    0.082,2, -999.000,9, -999.000,9, -999.000,9,-999.0000,9,  -999.00,9,    -99.0,6,     0.54,6,-999.000,9,   2220.2,2,   2311.6,2,     6.6,-999.0000,-999.000,-999.000,  -999.0,-999.000
   3220CGC92_2,   P13,    73,  1,    117,   1112,2,19921012,2349,  3.0018, 164.9927, 4120,   5959,    590.0,   7.2613,  34.5695,2,  34.5623,2,   -999.0,9,  7.2037,     67.2,2,    79.03,2,    38.77,2,     0.00,2,     2.76,2,    0.024,2,    0.017,2, -999.000,9, -999.000,9, -999.000,9,-999.0000,9,  -999.00,9,   -171.7,3,     0.30,2,-999.000,9,   2257.6,2,   2318.6,2,     4.9,-999.0000,-999.000,-999.000,  -999.0,-999.000
   3220CGC92_2,   P13,    73,  1,    116,   1104,2,19921012,2349,  3.0018, 164.9927, 4120,   6975,    691.0,   6.4924,  34.5527,2,  34.5523,2,     62.2,2,  6.4285,     60.2,2,  -999.00,5,  -999.00,9,  -999.00,9,  -999.00,5,    0.008,2,    0.004,2, -999.000,9, -999.000,9, -999.000,9,-999.0000,9,  -999.00,9,   -999.0,9,  -999.00,9,-999.000,9,   2277.0,2,   2325.3,2,  -999.0,-999.0000,-999.000,-999.000,  -999.0,-999.000
   3220CGC92_2,   P13,    73,  1,    114,   1012,2,19921012,2349,  3.0018, 164.9927, 4120,   8967,    890.0,   5.0618,  34.5462,2,  34.5472,2,     79.8,2,  4.9879,     75.9,6,   102.44,2,    38.04,2,     0.00,2,     2.75,2,    0.000,2,    0.003,2, -999.000,9, -999.000,9, -999.000,9,-999.0000,9,  -999.00,9,   -999.0,9,  -999.00,9,-999.000,9,   2291.8,2,   2348.7,2,  -999.0,-999.0000,-999.000,-999.000,  -999.0,-999.000
   3220CGC92_2,   P13,    73,  1,    112,   1219,2,19921012,2349,  3.0018, 164.9927, 4120,  11973,   1190.0,   3.9151,  34.5685,2,  34.5696,2,     85.5,2,  3.8240,     84.3,2,  -999.00,5,  -999.00,9,  -999.00,9,  -999.00,5,    0.008,2,    0.002,2, -999.000,9, -999.000,9, -999.000,9,-999.0000,9,  -999.00,9,   -200.5,2,     0.10,2,-999.000,9,   2314.6,2,   2376.6,2,     2.4,-999.0000,-999.000,-999.000,  -999.0,-999.000
   3220CGC92_2,   P13,    73,  1,    110,   1029,2,19921012,2349,  3.0018, 164.9927, 4120,  16985,   1692.0,   2.7503,  34.6116,2,  34.6094,2,    100.7,2,  2.6293,    101.8,2,   128.20,2,    38.05,2,     0.00,2,     2.77,2, -999.000,9, -999.000,9, -999.000,9, -999.000,9, -999.000,9,-999.0000,9,  -999.00,9,   -999.0,9,  -999.00,9,-999.000,9,   2332.2,2,   2400.5,2,  -999.0,-999.0000,-999.000,-999.000,  -999.0,-999.000
   3220CGC92_2,   P13,    73,  1,    109,   1023,2,19921012,2349,  3.0018, 164.9927, 4120,  19987,   1992.0,   2.2905,  34.6323,2,  34.6314,2,   -999.0,9,  2.1503,    111.4,2,   138.00,2,    38.01,2,     0.00,2,     2.70,2, -999.000,9, -999.000,9, -999.000,9, -999.000,9, -999.000,9,-999.0000,9,  -999.00,9,   -999.0,9,  -999.00,9,-999.000,9,   2337.6,2,   2412.9,2,  -999.0,-999.0000,-999.000,-999.000,  -999.0,-999.000
   3220CGC92_2,   P13,    73,  1,    108,   1032,2,19921012,2349,  3.0018, 164.9927, 4120,  22998,   2294.0,   2.0065,  34.6485,2,  34.6487,2,    118.2,2,  1.8446,    118.7,2,   144.23,2,    36.87,2,     0.00,2,     2.69,2, -999.000,9, -999.000,9, -999.000,9, -999.000,9, -999.000,9,-999.0000,9,  -999.00,9,   -999.0,9,  -999.00,9,-999.000,9,   2340.4,2,   2420.2,2,  -999.0,-999.0000,-999.000,-999.000,  -999.0,-999.000
   3220CGC92_2,   P13,    73,  1,    107,   1037,2,19921012,2349,  3.0018, 164.9927, 4120,  25993,   2594.0,   1.8136,  34.6607,2,  34.6594,2,    122.9,2,  1.6282,    124.4,2,   148.85,2,    35.49,2,     0.00,2,     2.65,2, -999.000,9, -999.000,9, -999.000,9, -999.000,9, -999.000,9,-999.0000,9,  -999.00,9,   -999.0,9,  -999.00,9,-999.000,9,   2342.1,2,   2424.5,2,  -999.0,-999.0000,-999.000,-999.000,  -999.0,-999.000
   3220CGC92_2,   P13,    73,  1,    106,   1022,2,19921012,2349,  3.0018, 164.9927, 4120,  28995,   2895.0,   1.6896,  34.6682,2,  34.6673,2,    131.5,2,  1.4787,    131.8,2,   149.43,2,    36.47,2,     0.00,2,     2.57,2, -999.000,9, -999.000,9, -999.000,9, -999.000,9, -999.000,9,-999.0000,9,  -999.00,9,   -999.0,9,  -999.00,9,-999.000,9,   2336.5,2,   2424.4,2,  -999.0,-999.0000,-999.000,-999.000,  -999.0,-999.000
   3220CGC92_2,   P13,    73,  1,    105,   1221,2,19921012,2349,  3.0018, 164.9927, 4120,  31998,   3196.0,   1.6106,  34.6738,2,  34.6715,2,    138.9,2,  1.3723,    140.1,2,   148.21,2,    35.42,2,     0.00,2,     2.54,2, -999.000,9, -999.000,9, -999.000,9, -999.000,9, -999.000,9,-999.0000,9,  -999.00,9,   -999.0,9,  -999.00,9,-999.000,9,   2330.3,6,   2425.8,2,  -999.0,-999.0000,-999.000,-999.000,  -999.0,-999.000
   3220CGC92_2,   P13,    73,  1,    104,   1038,2,19921012,2349,  3.0018, 164.9927, 4120,  35006,   3498.0,   1.5426,  34.6802,2,  34.6786,2,    146.7,2,  1.2756,    146.5,2,   147.65,2,    35.20,2,     0.00,2,     2.50,2, -999.000,9, -999.000,9, -999.000,9, -999.000,9, -999.000,9,-999.0000,9,  -999.00,9,   -999.0,9,  -999.00,9,-999.000,9,   2325.3,2,   2424.6,2,  -999.0,-999.0000,-999.000,-999.000,  -999.0,-999.000
   3220CGC92_2,   P13,    73,  1,    103,   1033,2,19921012,2349,  3.0018, 164.9927, 4120,  37986,   3797.0,   1.4596,  34.6884,2,  34.6844,2,    156.6,2,  1.1636,    155.6,2,   144.26,2,    36.01,2,     0.00,2,     2.41,2, -999.000,9, -999.000,9, -999.000,9, -999.000,9, -999.000,9,-999.0000,9,  -999.00,9,   -999.0,9,  -999.00,9,-999.000,9,   2318.5,2,   2413.2,2,  -999.0,-999.0000,-999.000,-999.000,  -999.0,-999.000
   3220CGC92_2,   P13,    73,  1,    102,   1234,2,19921012,2349,  3.0018, 164.9927, 4120,  40999,   4099.0,   1.4367,  34.6923,2,  34.6897,2,    164.1,2,  1.1086,    164.1,2,   140.51,2,    34.01,2,     0.00,2,     2.41,2, -999.000,9, -999.000,9, -999.000,9, -999.000,9, -999.000,9,-999.0000,9,  -999.00,9,   -999.0,9,  -999.00,9,-999.000,9,   2311.1,2,   2414.2,2,  -999.0,-999.0000,-999.000,-999.000,  -999.0,-999.000
   3220CGC92_2,   P13,    73,  1,    101,   1238,2,19921012,2349,  3.0018, 164.9927, 4120,  42791,   4278.0,   1.4117,  34.6956,2,  34.6928,6,    169.9,2,  1.0645,    168.3,2,   137.99,2,    33.47,2,     0.00,2,     2.36,2, -999.000,9, -999.000,9, -999.000,9, -999.000,9, -999.000,9,-999.0000,9,  -999.00,9,   -999.0,9,  -999.00,9,-999.000,9,   2308.3,6,   2407.9,2,  -999.0,-999.0000,-999.000,-999.000,  -999.0,-999.000