BOTTLE,20221003CCHSIOAMB
EXPOCODE,SECT_ID,STNNBR,CASTNO,SAMPNO,BTLNBR,BTLNBR_FLAG_W,DATE,TIME,LATITUDE,LONGITUDE,DEPTH,CTDRAW,CTDPRS,CTDTMP,CTDSAL,CTDSAL_FLAG_W,SALNTY,SALNTY_FLAG_W,CTDOXY,CTDOXY_FLAG_W,THETA,OXYGEN,OXYGEN_FLAG_W,SILCAT,SILCAT_FLAG_W,NITRAT,NITRAT_FLAG_W,NITRIT,NITRIT_FLAG_W,PHSPHT,PHSPHT_FLAG_W,CFC-11,CFC-11_FLAG_W,CFC-12,CFC-12_FLAG_W,CFC113,CFC113_FLAG_W,CCL4,CCL4_FLAG_W,TRITUM,TRITUM_FLAG_W,HELIUM,HELIUM_FLAG_W,DELHE3,DELHE3_FLAG_W,DELC14,DELC14_FLAG_W,DELC13,DELC13_FLAG_W,NEON,NEON_FLAG_W,TCARBN,TCARBN_FLAG_W,ALKALI,ALKALI_FLAG_W,C14ERR,HELIER,DELHER,NEONER,C13ERR,TRITER
,,,,,,,,,,,,DBAR,DBAR,ITS-90,PSS-78,,PSS-78,,UMOL/KG,,DEG C,UMOL/KG,,UMOL/KG,,UMOL/KG,,UMOL/KG,,UMOL/KG,,PMOL/KG,,PMOL/KG,,PMOL/KG,,PMOL/KG,,TU,,NMOL/KG,,PERCNT,,/MILLE,,/MILLE,,NMOL/KG,,UMOL/KG,,UMOL/KG,,/MILLE,NMOL/KG,PERCNT,NMOL/KG,/MILLE,TU
   3220CGC92_1,   P13,    32,  1,    135,   1238,2,19920831,1612, 43.5033, 165.0177, 5399,     95,      6.0,  15.3083,  32.7643,2,  32.7507,2,    301.5,2, 15.3074,    267.6,2,    11.45,2,     3.61,2,     0.00,2,     0.57,2,    3.126,6,    1.594,6,    0.314,2,    4.208,2, -999.000,9,-999.0000,9,  -999.00,9,   -999.0,9,  -999.00,9,-999.000,9,   -999.0,9,   -999.0,9,  -999.0,-999.0000,-999.000,-999.000,  -999.0,-999.000
   3220CGC92_1,   P13,    32,  1,    136,   1106,2,19920831,1612, 43.5033, 165.0177, 5399,     95,      6.0,  15.3083,  32.7643,2,  32.7431,2,    301.6,2, 15.3074,   -999.0,9,    11.30,2,     2.99,2,     0.00,2,     0.51,2, -999.000,9, -999.000,9, -999.000,9, -999.000,9, -999.000,9,-999.0000,9,  -999.00,9,   -999.0,9,  -999.00,9,-999.000,9,   1969.0,6,   2218.7,6,  -999.0,-999.0000,-999.000,-999.000,  -999.0,-999.000
   3220CGC92_1,   P13,    32,  1,    134,   1030,2,19920831,1612, 43.5033, 165.0177, 5399,    247,     21.0,  10.5475,  33.0148,2,  32.8429,4,    307.2,2, 10.5450,    281.4,2,    14.53,2,     6.55,2,     0.07,2,     0.80,2, -999.000,9, -999.000,9, -999.000,9, -999.000,9, -999.000,9,-999.0000,9,  -999.00,9,   -999.0,9,  -999.00,9,-999.000,9,   1993.0,2,   2223.7,2,  -999.0,-999.0000,-999.000,-999.000,  -999.0,-999.000
   3220CGC92_1,   P13,    32,  1,    133,   1231,2,19920831,1612, 43.5033, 165.0177, 5399,    497,     46.0,   6.2225,  33.2026,2,  33.2097,2,    322.8,2,  6.2187,    313.9,2,    26.51,2,    13.57,2,     0.10,2,     1.37,2,    5.050,2,    2.444,2, -999.000,9, -999.000,9, -999.000,9,-999.0000,9,  -999.00,9,   -999.0,9,  -999.00,9,-999.000,9,   2080.1,2,   2249.2,2,  -999.0,-999.0000,-999.000,-999.000,  -999.0,-999.000
   3220CGC92_1,   P13,    32,  1,    132,   1109,2,19920831,1612, 43.5033, 165.0177, 5399,    745,     71.0,   4.7339,  33.2446,2,  33.2637,2,    313.5,2,  4.7287,    311.4,2,    29.03,2,    16.07,2,     0.23,2,     1.45,2, -999.000,9, -999.000,9, -999.000,9, -999.000,9, -999.000,9,-999.0000,9,  -999.00,9,   -999.0,9,  -999.00,9,-999.000,9,   2095.9,2,   2244.3,2,  -999.0,-999.0000,-999.000,-999.000,  -999.0,-999.000
   3220CGC92_1,   P13,    32,  1,    131,   1031,2,19920831,1612, 43.5033, 165.0177, 5399,    991,     96.0,   4.0110,  33.3019,2,  33.3070,2,    297.4,2,  4.0046,    299.8,2,    32.27,2,    18.44,2,     0.00,2,     1.51,2,    5.178,2,    2.514,2, -999.000,9, -999.000,9, -999.000,9,-999.0000,9,  -999.00,9,   -999.0,9,  -999.00,9,-999.000,9,   2111.6,2,   2248.4,2,  -999.0,-999.0000,-999.000,-999.000,  -999.0,-999.000
   3220CGC92_1,   P13,    32,  1,    130,   1041,2,19920831,1612, 43.5033, 165.0177, 5399,   1244,    121.0,   3.9231,  33.3724,2,  33.3856,2,    297.4,2,  3.9150,    285.9,2,    35.12,2,    20.18,2,     0.00,2,     1.60,2, -999.000,9, -999.000,9, -999.000,9, -999.000,9, -999.000,9,-999.0000,9,  -999.00,9,   -999.0,9,  -999.00,9,-999.000,9,   2120.8,2,   2249.6,2,  -999.0,-999.0000,-999.000,-999.000,  -999.0,-999.000
   3220CGC92_1,   P13,    32,  1,    129,   1004,2,19920831,1612, 43.5033, 165.0177, 5399,   1500,    146.0,   4.0110,  33.4758,2,  33.5181,2,    275.5,2,  4.0012,    245.8,2,    45.41,2,    24.24,2,     0.00,2,     1.84,2,    4.360,6,    2.102,6, -999.000,9, -999.000,9, -999.000,9,-999.0000,9,  -999.00,9,   -999.0,9,  -999.00,9,-999.000,9,   2155.6,2,   2262.8,2,  -999.0,-999.0000,-999.000,-999.000,  -999.0,-999.000
   3220CGC92_1,   P13,    32,  1,    127,   1117,2,19920831,1612, 43.5033, 165.0177, 5399,   1731,    169.0,   3.9421,  33.5580,2,  33.6269,2,    204.2,2,  3.9307,    197.9,2,    58.56,2,    28.04,2,     0.00,2,     2.15,2, -999.000,9, -999.000,9, -999.000,9, -999.000,9, -999.000,9,-999.0000,9,  -999.00,9,   -999.0,9,  -999.00,9,-999.000,9,   2196.7,2,   2271.1,2,  -999.0,-999.0000,-999.000,-999.000,  -999.0,-999.000
   3220CGC92_1,   P13,    32,  1,    126,   1110,2,19920831,1612, 43.5033, 165.0177, 5399,   1988,    195.0,   3.7541,  33.6397,2,  33.6953,2,    170.3,2,  3.7412,    166.6,2,    67.99,2,    31.94,2,     0.00,2,     2.37,2,    3.219,2,    1.479,2, -999.000,9, -999.000,9, -999.000,9,-999.0000,9,  -999.00,9,   -999.0,9,  -999.00,9,-999.000,9,   2224.9,2,   2283.0,2,  -999.0,-999.0000,-999.000,-999.000,  -999.0,-999.000
   3220CGC92_1,   P13,    32,  1,    125,   1035,2,19920831,1612, 43.5033, 165.0177, 5399,   2498,    245.0,   3.5292,  33.7367,2,  33.7720,2,    150.2,2,  3.5133,    132.5,2,    78.34,2,    34.61,2,     0.00,2,     2.51,2, -999.000,9, -999.000,9, -999.000,9, -999.000,9, -999.000,9,-999.0000,9,  -999.00,9,   -999.0,9,  -999.00,9,-999.000,9,   2253.5,2,   2289.0,2,  -999.0,-999.0000,-999.000,-999.000,  -999.0,-999.000
   3220CGC92_1,   P13,    32,  1,    124,   1026,2,19920831,1612, 43.5033, 165.0177, 5399,   2996,    295.0,   3.5591,  33.8157,2,  33.8483,2,    133.8,2,  3.5398,    108.8,2,    86.11,2,    36.02,2,     0.00,2,     2.62,2,    2.168,2,    0.992,2, -999.000,9, -999.000,9, -999.000,9,-999.0000,9,  -999.00,9,   -999.0,9,  -999.00,9,-999.000,9,   2273.0,2,   2301.2,2,  -999.0,-999.0000,-999.000,-999.000,  -999.0,-999.000
   3220CGC92_1,   P13,    32,  1,    123,   1014,2,19920831,1612, 43.5033, 165.0177, 5399,   3499,    345.0,   3.5362,  33.8778,2,  33.9228,2,     93.3,2,  3.5134,     90.1,2,    92.34,2,    37.96,2,     0.00,2,     2.81,2, -999.000,9, -999.000,9, -999.000,9, -999.000,9, -999.000,9,-999.0000,9,  -999.00,9,   -999.0,9,  -999.00,9,-999.000,9,   2286.6,2,   2305.1,2,  -999.0,-999.0000,-999.000,-999.000,  -999.0,-999.000
   3220CGC92_1,   P13,    32,  1,    122,   1015,2,19920831,1612, 43.5033, 165.0177, 5399,   4001,    395.0,   3.6401,  33.9671,2,  33.9831,2,     80.1,2,  3.6135,     74.8,2,    98.75,2,    39.75,2,     0.00,2,     2.93,2,    1.389,2,    0.621,2, -999.000,9, -999.000,9, -999.000,9,-999.0000,9,  -999.00,9,   -999.0,9,  -999.00,9,-999.000,9,   2301.5,2,   2315.9,2,  -999.0,-999.0000,-999.000,-999.000,  -999.0,-999.000
   3220CGC92_1,   P13,    32,  1,    121,   1235,2,19920831,1612, 43.5033, 165.0177, 5399,   4990,    493.0,   3.4972,  34.0752,2,  34.0899,2,     63.4,2,  3.4641,     51.2,2,   111.56,2,    41.33,2,     0.00,2,     3.05,2, -999.000,9, -999.000,9, -999.000,9, -999.000,9, -999.000,9,-999.0000,9,  -999.00,9,   -999.0,9,  -999.00,9,-999.000,9,   2326.8,2,   2328.1,2,  -999.0,-999.0000,-999.000,-999.000,  -999.0,-999.000
   3220CGC92_1,   P13,    32,  1,    120,   1237,2,19920831,1612, 43.5033, 165.0177, 5399,   5963,    590.0,   3.4232,  34.1699,2,  34.1950,2,     43.7,2,  3.3834,     40.0,2,   122.20,2,    41.76,2,     0.00,2,     3.08,2,    0.446,6,    0.203,6, -999.000,9, -999.000,9, -999.000,9,-999.0000,9,  -999.00,9,   -999.0,9,  -999.00,9,-999.000,9,   2341.5,2,   2346.8,2,  -999.0,-999.0000,-999.000,-999.000,  -999.0,-999.000
   3220CGC92_1,   P13,    32,  1,    119,   1025,3,19920831,1612, 43.5033, 165.0177, 5399,   7005,    694.0,   3.3042,  34.2629,2,  34.2631,2,     38.8,2,  3.2574,     38.2,2,   128.85,2,    41.58,2,     0.00,2,     3.09,2, -999.000,9, -999.000,9, -999.000,9, -999.000,9, -999.000,9,-999.0000,9,  -999.00,9,   -999.0,9,  -999.00,9,-999.000,9,   2348.9,2,   2356.5,2,  -999.0,-999.0000,-999.000,-999.000,  -999.0,-999.000
   3220CGC92_1,   P13,    32,  1,    118,   1118,2,19920831,1612, 43.5033, 165.0177, 5399,   8008,    794.0,   3.1213,  34.3126,2,  34.3106,2,     35.5,2,  3.0681,     33.1,2,   136.76,2,    42.09,2,     0.00,2,     3.12,2,    0.188,3,    0.081,3, -999.000,9, -999.000,9, -999.000,9,-999.0000,9,  -999.00,9,   -999.0,9,  -999.00,9,-999.000,9,   2360.3,2,   2367.6,2,  -999.0,-999.0000,-999.000,-999.000,  -999.0,-999.000
   3220CGC92_1,   P13,    32,  1,    117,   1005,2,19920831,1612, 43.5033, 165.0177, 5399,   8990,    892.0,   2.9333,  34.3533,2,  34.3505,2,     34.2,2,  2.8742,     33.1,2,   142.43,2,    42.61,2,     0.00,2,     3.16,2, -999.000,9, -999.000,9, -999.000,9, -999.000,9, -999.000,9,-999.0000,9,  -999.00,9,   -999.0,9,  -999.00,9,-999.000,9,   2365.8,2,   2372.6,2,  -999.0,-999.0000,-999.000,-999.000,  -999.0,-999.000
   3220CGC92_1,   P13,    32,  1,    116,   1104,2,19920831,1612, 43.5033, 165.0177, 5399,   9999,    993.0,   2.7453,  34.3853,2,  34.3921,2,     34.0,2,  2.6801,     32.8,2,   147.94,2,    42.75,2,     0.00,2,     3.18,2,    0.096,6,    0.042,6, -999.000,9, -999.000,9, -999.000,9,-999.0000,9,  -999.00,9,   -999.0,9,  -999.00,9,-999.000,9,   2370.9,2,   2381.2,2,  -999.0,-999.0000,-999.000,-999.000,  -999.0,-999.000
   3220CGC92_1,   P13,    32,  1,    115,   1020,2,19920831,1612, 43.5033, 165.0177, 5399,  11991,   1192.0,   2.5014,  34.4495,2,  34.4478,2,     35.4,2,  2.4234,     35.8,2,   154.99,2,    42.60,2,     0.00,2,     3.15,2, -999.000,9, -999.000,9, -999.000,9, -999.000,9, -999.000,9,-999.0000,9,  -999.00,9,   -999.0,9,  -999.00,9,-999.000,9,   2378.1,2,   2392.6,2,  -999.0,-999.0000,-999.000,-999.000,  -999.0,-999.000
   3220CGC92_1,   P13,    32,  1,    114,   1012,2,19920831,1612, 43.5033, 165.0177, 5399,  13999,   1393.0,   2.3124,  34.4995,2,  34.5005,2,     43.1,2,  2.2210,     44.8,2,   159.31,2,    42.14,2,     0.00,2,     3.11,2, -999.000,9, -999.000,9, -999.000,9, -999.000,9, -999.000,9,-999.0000,9,  -999.00,9,   -999.0,9,  -999.00,9,-999.000,9,   2378.3,2,   2402.3,2,  -999.0,-999.0000,-999.000,-999.000,  -999.0,-999.000
   3220CGC92_1,   P13,    32,  1,    113,   1229,2,19920831,1612, 43.5033, 165.0177, 5399,  16978,   1691.0,   2.0975,  34.5529,2,  34.5510,2,     54.8,2,  1.9852,     55.2,2,   163.76,2,    41.42,2,     0.00,2,     3.02,2, -999.000,9, -999.000,9, -999.000,9, -999.000,9, -999.000,9,-999.0000,9,  -999.00,9,   -999.0,9,  -999.00,9,-999.000,9,   2377.4,2,   2407.8,2,  -999.0,-999.0000,-999.000,-999.000,  -999.0,-999.000
   3220CGC92_1,   P13,    32,  1,    112,   1219,2,19920831,1612, 43.5033, 165.0177, 5399,  19985,   1992.0,   1.9045,  34.5941,2,  34.5922,2,   -999.0,9,  1.7703,     72.3,2,   164.76,2,    40.66,2,     0.00,2,     2.94,2,    0.002,2,   -0.002,2, -999.000,9, -999.000,9, -999.000,9,-999.0000,9,  -999.00,9,   -999.0,9,  -999.00,9,-999.000,9,   2371.9,2,   2415.4,2,  -999.0,-999.0000,-999.000,-999.000,  -999.0,-999.000
   3220CGC92_1,   P13,    32,  1,    111,   1112,2,19920831,1612, 43.5033, 165.0177, 5399,  23007,   2295.0,   1.7626,  34.6236,2,  34.6238,2,     87.2,2,  1.6049,     90.5,2,   164.91,2,    40.45,2,     0.00,2,     2.93,2, -999.000,9, -999.000,9, -999.000,9, -999.000,9, -999.000,9,-999.0000,9,  -999.00,9,   -999.0,9,  -999.00,9,-999.000,9,   2361.9,2,   2417.1,2,  -999.0,-999.0000,-999.000,-999.000,  -999.0,-999.000
   3220CGC92_1,   P13,    32,  1,    110,   1029,2,19920831,1612, 43.5033, 165.0177, 5399,  25995,   2594.0,   1.6446,  34.6446,2,  34.6435,2,    106.2,2,  1.4625,    107.8,2,   162.05,2,    39.27,2,     0.00,2,     2.79,2, -999.000,9, -999.000,9, -999.000,9, -999.000,9, -999.000,9,-999.0000,9,  -999.00,9,   -999.0,9,  -999.00,9,-999.000,9,   2352.1,2,   2420.7,2,  -999.0,-999.0000,-999.000,-999.000,  -999.0,-999.000
   3220CGC92_1,   P13,    32,  1,    109,   1023,2,19920831,1612, 43.5033, 165.0177, 5399,  29005,   2896.0,   1.5736,  34.6578,2,  34.6594,2,    120.1,2,  1.3651,    120.5,2,   159.17,2,    38.91,2,     0.00,2,     2.74,2, -999.000,9, -999.000,9, -999.000,9, -999.000,9, -999.000,9,-999.0000,9,  -999.00,9,   -999.0,9,  -999.00,9,-999.000,9,   2345.4,2,   2420.8,2,  -999.0,-999.0000,-999.000,-999.000,  -999.0,-999.000
   3220CGC92_1,   P13,    32,  1,    108,   1032,2,19920831,1612, 43.5033, 165.0177, 5399,  30998,   3096.0,   1.5386,  34.6649,2,  34.6637,2,    127.5,2,  1.3118,    128.0,2,   157.41,2,    38.69,2,     0.00,2,     2.69,2,   -0.003,2,   -0.004,2, -999.000,9, -999.000,9, -999.000,9,-999.0000,9,  -999.00,9,   -999.0,9,  -999.00,9,-999.000,9,   2339.5,2,   2421.3,2,  -999.0,-999.0000,-999.000,-999.000,  -999.0,-999.000
   3220CGC92_1,   P13,    32,  1,    107,   1037,2,19920831,1612, 43.5033, 165.0177, 5399,  34018,   3399.0,   1.5016,  34.6712,2,  34.6704,2,    135.8,2,  1.2457,    136.3,2,   155.30,2,    38.20,2,     0.00,2,     2.62,2, -999.000,9, -999.000,9, -999.000,9, -999.000,9, -999.000,9,-999.0000,9,  -999.00,9,   -999.0,9,  -999.00,9,-999.000,9,   2335.9,2,   2419.1,2,  -999.0,-999.0000,-999.000,-999.000,  -999.0,-999.000
   3220CGC92_1,   P13,    32,  1,    106,   1022,2,19920831,1612, 43.5033, 165.0177, 5399,  36998,   3697.0,   1.4806,  34.6769,2,  34.6765,2,    142.2,2,  1.1946,    142.9,2,   153.39,2,    37.77,2,     0.00,2,     2.60,2, -999.000,9, -999.000,9, -999.000,9, -999.000,9, -999.000,9,-999.0000,9,  -999.00,9,   -999.0,9,  -999.00,9,-999.000,9,   2329.4,2,   2421.1,2,  -999.0,-999.0000,-999.000,-999.000,  -999.0,-999.000
   3220CGC92_1,   P13,    32,  1,    105,   1221,2,19920831,1612, 43.5033, 165.0177, 5399,  39977,   3996.0,   1.4696,  34.6820,2,  34.6806,2,    146.2,2,  1.1520,    147.8,2,   152.36,2,    37.34,2,     0.00,2,     2.56,2, -999.000,9, -999.000,9, -999.000,9, -999.000,9, -999.000,9,-999.0000,9,  -999.00,9,   -999.0,9,  -999.00,9,-999.000,9,   2326.6,2,   2416.8,2,  -999.0,-999.0000,-999.000,-999.000,  -999.0,-999.000
   3220CGC92_1,   P13,    32,  1,    104,   1038,2,19920831,1612, 43.5033, 165.0177, 5399,  43997,   4399.0,   1.4746,  34.6855,2,  34.6852,2,    154.5,2,  1.1120,    153.3,2,   151.03,2,    36.75,2,     0.00,2,     2.49,2,    0.009,2,   -0.001,2, -999.000,9, -999.000,9, -999.000,9,-999.0000,9,  -999.00,9,   -999.0,9,  -999.00,9,-999.000,9,   2323.6,2,   2419.7,2,  -999.0,-999.0000,-999.000,-999.000,  -999.0,-999.000
   3220CGC92_1,   P13,    32,  1,    103,   1033,2,19920831,1612, 43.5033, 165.0177, 5399,  47992,   4799.0,   1.4966,  34.6873,2,  34.6872,2,    157.3,2,  1.0866,    156.4,2,   150.48,2,    36.59,2,     0.00,2,     2.47,2, -999.000,9, -999.000,9, -999.000,9, -999.000,9, -999.000,9,-999.0000,9,  -999.00,9,   -999.0,9,  -999.00,9,-999.000,9,   2320.2,2,   2417.5,2,  -999.0,-999.0000,-999.000,-999.000,  -999.0,-999.000
   3220CGC92_1,   P13,    32,  1,    102,   1234,2,19920831,1612, 43.5033, 165.0177, 5399,  51990,   5198.0,   1.5326,  34.6886,2,  34.6890,2,    160.0,2,  1.0728,    157.9,2,   151.79,2,    36.46,2,     0.00,2,     2.45,2, -999.000,9, -999.000,9, -999.000,9, -999.000,9, -999.000,9,-999.0000,9,  -999.00,9,   -999.0,9,  -999.00,9,-999.000,9,   2318.2,2,   2419.6,2,  -999.0,-999.0000,-999.000,-999.000,  -999.0,-999.000
   3220CGC92_1,   P13,    32,  1,    101,   1013,2,19920831,1612, 43.5033, 165.0177, 5399,  56619,   5658.0,   1.5826,  34.6894,2,  34.6913,6,    163.8,2,  1.0626,   -999.0,5,   150.37,2,    36.62,2,     0.00,2,     2.46,2,    0.010,2,    0.006,2, -999.000,9, -999.000,9, -999.000,9,-999.0000,9,  -999.00,9,   -999.0,9,  -999.00,9,-999.000,9,   2318.3,6,   2417.6,6,  -999.0,-999.0000,-999.000,-999.000,  -999.0,-999.000