BOTTLE,20221003CCHSIOAMB
EXPOCODE,SECT_ID,STNNBR,CASTNO,SAMPNO,BTLNBR,BTLNBR_FLAG_W,DATE,TIME,LATITUDE,LONGITUDE,DEPTH,CTDRAW,CTDPRS,CTDTMP,CTDSAL,CTDSAL_FLAG_W,SALNTY,SALNTY_FLAG_W,CTDOXY,CTDOXY_FLAG_W,THETA,OXYGEN,OXYGEN_FLAG_W,SILCAT,SILCAT_FLAG_W,NITRAT,NITRAT_FLAG_W,NITRIT,NITRIT_FLAG_W,PHSPHT,PHSPHT_FLAG_W,CFC-11,CFC-11_FLAG_W,CFC-12,CFC-12_FLAG_W,CFC113,CFC113_FLAG_W,CCL4,CCL4_FLAG_W,TRITUM,TRITUM_FLAG_W,HELIUM,HELIUM_FLAG_W,DELHE3,DELHE3_FLAG_W,DELC14,DELC14_FLAG_W,DELC13,DELC13_FLAG_W,NEON,NEON_FLAG_W,TCARBN,TCARBN_FLAG_W,ALKALI,ALKALI_FLAG_W,C14ERR,HELIER,DELHER,NEONER,C13ERR,TRITER
,,,,,,,,,,,,DBAR,DBAR,ITS-90,PSS-78,,PSS-78,,UMOL/KG,,DEG C,UMOL/KG,,UMOL/KG,,UMOL/KG,,UMOL/KG,,UMOL/KG,,PMOL/KG,,PMOL/KG,,PMOL/KG,,PMOL/KG,,TU,,NMOL/KG,,PERCNT,,/MILLE,,/MILLE,,NMOL/KG,,UMOL/KG,,UMOL/KG,,/MILLE,NMOL/KG,PERCNT,NMOL/KG,/MILLE,TU
   3220CGC92_1,   P13,    35,  1,    136,   1106,2,19920901,1300, 42.0113, 165.0313, 4611,     87,      6.0,  17.1119,  32.9188,2,  32.9368,2,    263.2,2, 17.1109,    262.5,2,    15.97,2,     3.77,2,     0.00,2,     0.49,2,    3.059,2,    1.554,2,    0.340,2,    4.253,2, -999.000,9,-999.0000,9,  -999.00,9,      4.0,2,     1.66,2,-999.000,9,   1967.8,2,   2218.1,2,     4.5,-999.0000,-999.000,-999.000,  -999.0,-999.000
   3220CGC92_1,   P13,    35,  1,    135,   1238,2,19920901,1300, 42.0113, 165.0313, 4611,    250,     22.0,   9.5447,  33.2107,2,  33.1329,2,    302.9,2,  9.5423,    308.1,2,    20.82,2,     9.24,2,     0.00,2,     0.96,2,    4.056,2,    1.999,2, -999.000,9, -999.000,9,    1.842,2,   1.7330,2,    -1.29,2,   -999.0,9,  -999.00,9,   7.343,2,   -999.0,9,   -999.0,9,  -999.0,  0.0080,   0.140,   0.032,  -999.0,   0.020
   3220CGC92_1,   P13,    35,  1,    134,   1030,2,19920901,1300, 42.0113, 165.0313, 4611,    497,     46.0,   6.7584,  33.3955,2,  33.4394,2,    312.8,2,  6.7543,    307.8,2,    24.98,2,    12.61,2,     0.13,2,     1.21,2,    4.855,2,    2.380,2,    0.487,2,    7.180,2, -999.000,9,-999.0000,9,  -999.00,9,   -999.0,9,  -999.00,9,-999.000,9,   -999.0,9,   -999.0,9,  -999.0,-999.0000,-999.000,-999.000,  -999.0,-999.000
   3220CGC92_1,   P13,    35,  1,    133,   1231,2,19920901,1300, 42.0113, 165.0313, 4611,    734,     70.0,   5.3997,  33.4119,2,  33.4033,2,    294.0,2,  5.3943,    304.3,2,    27.72,2,    16.41,2,     0.00,2,     1.36,2,    5.089,2,    2.417,2,    0.560,2,    7.758,2, -999.000,9,-999.0000,9,  -999.00,9,   -999.0,9,  -999.00,9,-999.000,9,   -999.0,9,   -999.0,9,  -999.0,-999.0000,-999.000,-999.000,  -999.0,-999.000
   3220CGC92_1,   P13,    35,  1,    132,   1109,2,19920901,1300, 42.0113, 165.0313, 4611,    993,     96.0,   4.5229,  33.4037,2,  33.4373,2,    284.0,2,  4.5161,    302.0,2,    28.05,2,    16.42,2,     0.00,2,     1.33,2,    5.092,2,    2.462,2,    0.523,2,    7.596,2, -999.000,9,-999.0000,9,  -999.00,9,   -999.0,9,  -999.00,9,-999.000,9,   -999.0,9,   -999.0,9,  -999.0,-999.0000,-999.000,-999.000,  -999.0,-999.000
   3220CGC92_1,   P13,    35,  1,    131,   1031,2,19920901,1300, 42.0113, 165.0313, 4611,   1237,    120.0,   4.4649,  33.4382,2,  33.6003,2,    280.6,2,  4.4564,    289.7,2,    28.96,2,    16.73,2,     0.00,2,     1.32,2,    4.727,2,    2.307,2, -999.000,9, -999.000,9, -999.000,9,-999.0000,9,  -999.00,9,   -999.0,9,  -999.00,9,-999.000,9,   -999.0,9,   -999.0,9,  -999.0,-999.0000,-999.000,-999.000,  -999.0,-999.000
   3220CGC92_1,   P13,    35,  1,    130,   1041,2,19920901,1300, 42.0113, 165.0313, 4611,   1481,    144.0,   5.2597,  33.6265,2,  33.6704,2,   -999.0,9,  5.2486,    284.5,2,    29.84,2,    17.83,2,     0.00,2,     1.30,2,    4.567,2,    2.212,2, -999.000,9, -999.000,9, -999.000,9,-999.0000,9,  -999.00,9,   -999.0,9,  -999.00,9,-999.000,9,   -999.0,9,   -999.0,9,  -999.0,-999.0000,-999.000,-999.000,  -999.0,-999.000
   3220CGC92_1,   P13,    35,  1,    129,   1004,2,19920901,1300, 42.0113, 165.0313, 4611,   2002,    196.0,   4.8308,  33.7248,2,  33.7055,2,    254.7,2,  4.8162,    226.1,2,    45.84,2,    24.04,2,     0.00,2,     1.75,2,    3.808,6,    1.839,6,    0.312,2,    4.656,2,    1.658,2,   1.8060,2,     3.87,2,   -999.0,9,  -999.00,9,   7.770,2,   -999.0,9,   -999.0,9,  -999.0,  0.0080,   0.140,   0.034,  -999.0,   0.020
   3220CGC92_1,   P13,    35,  1,    127,   1117,3,19920901,1300, 42.0113, 165.0313, 4611,   2443,    240.0,   4.2050,  33.7461,2,  33.7498,2,    178.0,2,  4.1881,    166.1,2,    64.57,2,    30.35,2,     0.00,2,     2.22,2,    3.008,2,    1.383,2, -999.000,9, -999.000,9, -999.000,9,-999.0000,9,  -999.00,9,   -999.0,9,  -999.00,9,-999.000,9,   -999.0,9,   -999.0,9,  -999.0,-999.0000,-999.000,-999.000,  -999.0,-999.000
   3220CGC92_1,   P13,    35,  1,    126,   1110,2,19920901,1300, 42.0113, 165.0313, 4611,   2990,    294.0,   3.7791,  33.7969,2,  33.8008,2,    139.0,2,  3.7593,    136.2,2,    75.66,2,    34.07,2,     0.00,2,     2.48,2,    2.501,2,    1.145,2,    0.202,2,    2.770,2,    1.385,2,-999.0000,9,  -999.00,9,   -999.0,9,  -999.00,9,-999.000,9,   -999.0,9,   -999.0,9,  -999.0,-999.0000,-999.000,-999.000,  -999.0,   0.005
   3220CGC92_1,   P13,    35,  1,    125,   1035,2,19920901,1300, 42.0113, 165.0313, 4611,   3485,    344.0,   3.9610,  33.8918,2,  33.9399,2,    116.8,2,  3.9372,    109.4,2,    82.25,2,    35.27,2,     0.00,2,     2.53,2,    1.768,2,    0.791,2, -999.000,9, -999.000,9,    1.333,2,   1.8200,2,    12.53,2,   -999.0,9,  -999.00,9,   7.836,2,   -999.0,9,   -999.0,9,  -999.0,  0.0090,   0.140,   0.034,  -999.0,   0.004
   3220CGC92_1,   P13,    35,  1,    124,   1026,2,19920901,1300, 42.0113, 165.0313, 4611,   3997,    395.0,   4.3390,  34.0371,2,  33.9826,2,   -999.0,9,  4.3101,     90.8,2,    90.23,2,    37.01,2,     0.00,2,     2.67,2,    1.455,2,    0.660,2,    0.116,2,    1.638,2,    1.018,2,-999.0000,9,  -999.00,9,   -999.0,9,  -999.00,9,-999.000,9,   -999.0,9,   -999.0,9,  -999.0,-999.0000,-999.000,-999.000,  -999.0,   0.004
   3220CGC92_1,   P13,    35,  1,    123,   1014,2,19920901,1300, 42.0113, 165.0313, 4611,   4982,    493.0,   4.0050,  34.1203,2,  34.0933,2,     67.0,2,  3.9699,     67.5,2,   103.61,2,    38.97,2,     0.00,2,     2.88,2,    0.910,3,    0.385,3, -999.000,9, -999.000,9,    0.760,2,   1.8400,2,    14.89,2,   -999.0,9,  -999.00,9,   7.851,2,   -999.0,9,   -999.0,9,  -999.0,  0.0090,   0.140,   0.035,  -999.0,   0.003
   3220CGC92_1,   P13,    35,  1,    122,   1015,2,19920901,1300, 42.0113, 165.0313, 4611,   5994,    594.0,   3.8111,  34.2147,2,  34.2033,2,     56.1,2,  3.7691,     53.3,2,   114.04,2,    40.35,2,     0.00,2,     2.97,2,    0.405,6,    0.185,6, -999.000,9, -999.000,9,    0.542,2,   1.8390,2,    15.79,2,   -999.0,9,  -999.00,9,   7.828,2,   -999.0,9,   -999.0,9,  -999.0,  0.0090,   0.140,   0.034,  -999.0,   0.003
   3220CGC92_1,   P13,    35,  1,    121,   1235,2,19920901,1300, 42.0113, 165.0313, 4611,   6990,    693.0,   3.5242,  34.2720,2,  34.2677,2,     46.3,2,  3.4762,     44.0,2,   121.55,2,    41.51,2,     0.00,2,     3.03,2,    0.234,3,    0.097,3,    0.053,2,    0.380,2,    0.388,2,   1.8450,2,    16.00,2,   -999.0,9,  -999.00,9,   7.834,2,   -999.0,9,   -999.0,9,  -999.0,  0.0090,   0.140,   0.034,  -999.0,   0.002
   3220CGC92_1,   P13,    35,  1,    120,   1237,2,19920901,1300, 42.0113, 165.0313, 4611,   8009,    795.0,   3.2762,  34.3219,2,  34.3192,2,     40.6,2,  3.2220,     39.6,2,   124.85,2,    41.98,2,     0.00,2,     3.07,2,    0.120,2,    0.068,2, -999.000,9, -999.000,9,    0.278,2,   1.8540,2,    16.14,2,   -999.0,9,  -999.00,9,   7.880,2,   -999.0,9,   -999.0,9,  -999.0,  0.0090,   0.140,   0.035,  -999.0,   0.002
   3220CGC92_1,   P13,    35,  1,    119,   1025,2,19920901,1300, 42.0113, 165.0313, 4611,   9019,    895.0,   3.0523,  34.3622,2,  34.3624,2,     37.8,2,  2.9921,     36.6,2,   134.03,2,    41.98,2,     0.00,2,     3.10,2,    0.086,2,    0.044,2,    0.021,2,    0.181,2,    0.242,2,   1.8560,2,    16.66,2,   -999.0,9,  -999.00,9,   7.890,2,   -999.0,9,   -999.0,9,  -999.0,  0.0090,   0.140,   0.035,  -999.0,   0.002
   3220CGC92_1,   P13,    35,  1,    118,   1118,2,19920901,1300, 42.0113, 165.0313, 4611,   9994,    993.0,   2.8423,  34.3986,2,  34.3953,6,     35.4,2,  2.7763,     34.5,6,   139.91,2,    42.23,2,     0.00,2,     3.10,2,    0.057,2,    0.025,2, -999.000,9, -999.000,9,    0.151,2,   1.8640,2,    17.04,2,   -999.0,9,  -999.00,9,   7.912,2,   -999.0,9,   -999.0,9,  -999.0,  0.0090,   0.140,   0.035,  -999.0,   0.002
   3220CGC92_1,   P13,    35,  1,    117,   1005,2,19920901,1300, 42.0113, 165.0313, 4611,  11994,   1192.0,   2.5504,  34.4492,2,  34.4520,2,     36.7,2,  2.4719,     36.3,2,   150.57,2,    42.71,2,     0.00,2,     3.11,2,    0.042,6,    0.016,6,    0.020,2,    0.109,2,    0.144,2,-999.0000,9,  -999.00,9,   -999.0,9,  -999.00,9,-999.000,9,   -999.0,9,   -999.0,9,  -999.0,-999.0000,-999.000,-999.000,  -999.0,   0.002
   3220CGC92_1,   P13,    35,  1,    116,   1104,2,19920901,1300, 42.0113, 165.0313, 4611,  14016,   1395.0,   2.3284,  34.4966,2,  34.5013,2,     42.1,2,  2.2367,     42.9,2,   157.61,2,    42.69,2,     0.00,2,     3.08,2,    0.024,2,    0.010,2, -999.000,9, -999.000,9,    0.089,2,-999.0000,9,  -999.00,9,   -999.0,9,  -999.00,9,-999.000,9,   -999.0,9,   -999.0,9,  -999.0,-999.0000,-999.000,-999.000,  -999.0,   0.002
   3220CGC92_1,   P13,    35,  1,    115,   1020,2,19920901,1300, 42.0113, 165.0313, 4611,  16048,   1598.0,   2.1685,  34.5344,2,  34.5388,2,   -999.0,9,  2.0627,     51.8,2,   160.77,2,    41.82,2,     0.00,2,     3.04,2,    0.010,2,    0.004,2, -999.000,9, -999.000,9,    0.140,2,-999.0000,9,  -999.00,9,   -999.0,9,  -999.00,9,-999.000,9,   -999.0,9,   -999.0,9,  -999.0,-999.0000,-999.000,-999.000,  -999.0,   0.002
   3220CGC92_1,   P13,    35,  1,    114,   1012,2,19920901,1300, 42.0113, 165.0313, 4611,  18060,   1799.0,   2.0095,  34.5710,2,  34.5708,2,     63.0,2,  1.8897,     63.3,2,   163.33,2,    40.74,2,     0.00,2,     2.94,2,    0.002,2,    0.000,2, -999.000,9, -999.000,9,    0.074,2,-999.0000,9,  -999.00,9,   -999.0,9,  -999.00,9,-999.000,9,   -999.0,9,   -999.0,9,  -999.0,-999.0000,-999.000,-999.000,  -999.0,   0.002
   3220CGC92_1,   P13,    35,  1,    113,   1229,2,19920901,1300, 42.0113, 165.0313, 4611,  20017,   1995.0,   1.9035,  34.5930,2,  34.5944,2,     73.8,2,  1.7691,     74.2,2,   164.95,2,    40.42,2,     0.00,2,     2.89,2,    0.005,2,   -0.004,2,    0.039,2,    0.028,2, -999.000,9,-999.0000,9,  -999.00,9,   -999.0,9,  -999.00,9,-999.000,9,   -999.0,9,   -999.0,9,  -999.0,-999.0000,-999.000,-999.000,  -999.0,-999.000
   3220CGC92_1,   P13,    35,  1,    112,   1219,2,19920901,1300, 42.0113, 165.0313, 4611,  22477,   2242.0,   1.7846,  34.6151,2,  34.6202,2,     87.4,2,  1.6311,     88.0,2,   163.91,2,    39.69,2,     0.00,2,     2.82,2, -999.000,9, -999.000,9, -999.000,9, -999.000,9, -999.000,9,-999.0000,9,  -999.00,9,   -999.0,9,  -999.00,9,-999.000,9,   -999.0,9,   -999.0,9,  -999.0,-999.0000,-999.000,-999.000,  -999.0,-999.000
   3220CGC92_1,   P13,    35,  1,    111,   1112,2,19920901,1300, 42.0113, 165.0313, 4611,  25012,   2496.0,   1.6726,  34.6359,2,  34.6391,2,    103.7,2,  1.4988,    103.9,2,   163.50,2,    39.35,2,     0.00,2,     2.83,2, -999.000,9, -999.000,9, -999.000,9, -999.000,9, -999.000,9,-999.0000,9,  -999.00,9,   -999.0,9,  -999.00,9,-999.000,9,   -999.0,9,   -999.0,9,  -999.0,-999.0000,-999.000,-999.000,  -999.0,-999.000
   3220CGC92_1,   P13,    35,  1,    110,   1029,2,19920901,1300, 42.0113, 165.0313, 4611,  27496,   2745.0,   1.5966,  34.6511,2,  34.6498,2,    113.7,2,  1.4017,    115.2,2,   161.98,2,    38.46,2,     0.00,2,     2.76,2,   -0.001,2,    0.003,2, -999.000,9, -999.000,9, -999.000,9,-999.0000,9,  -999.00,9,   -999.0,9,  -999.00,9,-999.000,9,   -999.0,9,   -999.0,9,  -999.0,-999.0000,-999.000,-999.000,  -999.0,-999.000
   3220CGC92_1,   P13,    35,  1,    109,   1023,2,19920901,1300, 42.0113, 165.0313, 4611,  30005,   2996.0,   1.5436,  34.6602,2,  34.6599,2,    125.2,2,  1.3263,    126.2,2,   159.32,2,    37.75,2,     0.00,2,     2.67,2, -999.000,9, -999.000,9, -999.000,9, -999.000,9, -999.000,9,-999.0000,9,  -999.00,9,   -999.0,9,  -999.00,9,-999.000,9,   -999.0,9,   -999.0,9,  -999.0,-999.0000,-999.000,-999.000,  -999.0,-999.000
   3220CGC92_1,   P13,    35,  1,    108,   1032,2,19920901,1300, 42.0113, 165.0313, 4611,  32471,   3244.0,   1.5026,  34.6686,2,  34.6691,2,    131.9,2,  1.2621,    133.6,2,   157.20,2,    37.65,2,     0.00,2,     2.66,2, -999.000,9, -999.000,9, -999.000,9, -999.000,9, -999.000,9,-999.0000,9,  -999.00,9,   -999.0,9,  -999.00,9,-999.000,9,   -999.0,9,   -999.0,9,  -999.0,-999.0000,-999.000,-999.000,  -999.0,-999.000
   3220CGC92_1,   P13,    35,  1,    107,   1037,2,19920901,1300, 42.0113, 165.0313, 4611,  34999,   3497.0,   1.4726,  34.6751,2,  34.6745,2,    139.4,2,  1.2075,    141.6,2,   155.28,2,    37.28,2,     0.00,2,     2.64,2,    0.000,2,    0.003,2, -999.000,9, -999.000,9, -999.000,9,-999.0000,9,  -999.00,9,   -999.0,9,  -999.00,9,-999.000,9,   -999.0,9,   -999.0,9,  -999.0,-999.0000,-999.000,-999.000,  -999.0,-999.000
   3220CGC92_1,   P13,    35,  1,    106,   1022,2,19920901,1300, 42.0113, 165.0313, 4611,  37429,   3741.0,   1.4527,  34.6795,2,  34.6780,2,    146.1,2,  1.1627,    146.7,2,   153.96,2,    36.77,2,     0.00,2,     2.61,2, -999.000,9, -999.000,9, -999.000,9, -999.000,9, -999.000,9,-999.0000,9,  -999.00,9,   -999.0,9,  -999.00,9,-999.000,9,   -999.0,9,   -999.0,9,  -999.0,-999.0000,-999.000,-999.000,  -999.0,-999.000
   3220CGC92_1,   P13,    35,  1,    105,   1221,2,19920901,1300, 42.0113, 165.0313, 4611,  39991,   3997.0,   1.4457,  34.6829,2,  34.6823,2,    148.5,2,  1.1286,    151.7,2,   153.14,2,    36.11,2,     0.00,2,     2.54,2, -999.000,9, -999.000,9, -999.000,9, -999.000,9, -999.000,9,-999.0000,9,  -999.00,9,   -999.0,9,  -999.00,9,-999.000,9,   -999.0,9,   -999.0,9,  -999.0,-999.0000,-999.000,-999.000,  -999.0,-999.000
   3220CGC92_1,   P13,    35,  1,    104,   1038,2,19920901,1300, 42.0113, 165.0313, 4611,  42460,   4245.0,   1.4507,  34.6853,2,  34.6847,2,    153.6,2,  1.1061,    154.6,2,   152.88,2,    36.32,2,     0.00,2,     2.55,2,    0.006,2,    0.003,2, -999.000,9, -999.000,9, -999.000,9,-999.0000,9,  -999.00,9,   -999.0,9,  -999.00,9,-999.000,9,   -999.0,9,   -999.0,9,  -999.0,-999.0000,-999.000,-999.000,  -999.0,-999.000
   3220CGC92_1,   P13,    35,  1,    103,   1033,2,19920901,1300, 42.0113, 165.0313, 4611,  44947,   4494.0,   1.4666,  34.6863,2,  34.6861,2,    156.0,2,  1.0933,    156.1,2,   153.27,2,    36.49,2,     0.00,2,     2.54,2, -999.000,9, -999.000,9, -999.000,9, -999.000,9, -999.000,9,-999.0000,9,  -999.00,9,   -999.0,9,  -999.00,9,-999.000,9,   -999.0,9,   -999.0,9,  -999.0,-999.0000,-999.000,-999.000,  -999.0,-999.000
   3220CGC92_1,   P13,    35,  1,    102,   1234,2,19920901,1300, 42.0113, 165.0313, 4611,  46987,   4698.0,   1.4866,  34.6871,2,  34.6867,2,    156.7,2,  1.0889,    153.9,4,   153.69,2,    35.78,2,     0.00,2,     2.51,2, -999.000,9, -999.000,9, -999.000,9, -999.000,9, -999.000,9,-999.0000,9,  -999.00,9,   -999.0,9,  -999.00,9,-999.000,9,   -999.0,9,   -999.0,9,  -999.0,-999.0000,-999.000,-999.000,  -999.0,-999.000
   3220CGC92_1,   P13,    35,  1,    101,   1013,2,19920901,1300, 42.0113, 165.0313, 4611,  49191,   4918.0,   1.5126,  34.6877,2,  34.6885,6,    157.8,2,  1.0878,    156.9,2,   153.89,2,    36.35,2,     0.00,2,     2.55,2,   -0.001,2,   -0.001,2,    0.009,2,    0.031,2, -999.000,9,-999.0000,9,  -999.00,9,   -999.0,9,  -999.00,9,-999.000,9,   -999.0,9,   -999.0,9,  -999.0,-999.0000,-999.000,-999.000,  -999.0,-999.000