BOTTLE,20221003CCHSIOAMB
EXPOCODE,SECT_ID,STNNBR,CASTNO,SAMPNO,BTLNBR,BTLNBR_FLAG_W,DATE,TIME,LATITUDE,LONGITUDE,DEPTH,CTDRAW,CTDPRS,CTDTMP,CTDSAL,CTDSAL_FLAG_W,SALNTY,SALNTY_FLAG_W,CTDOXY,CTDOXY_FLAG_W,THETA,OXYGEN,OXYGEN_FLAG_W,SILCAT,SILCAT_FLAG_W,NITRAT,NITRAT_FLAG_W,NITRIT,NITRIT_FLAG_W,PHSPHT,PHSPHT_FLAG_W,CFC-11,CFC-11_FLAG_W,CFC-12,CFC-12_FLAG_W,CFC113,CFC113_FLAG_W,CCL4,CCL4_FLAG_W,TRITUM,TRITUM_FLAG_W,HELIUM,HELIUM_FLAG_W,DELHE3,DELHE3_FLAG_W,DELC14,DELC14_FLAG_W,DELC13,DELC13_FLAG_W,NEON,NEON_FLAG_W,TCARBN,TCARBN_FLAG_W,ALKALI,ALKALI_FLAG_W,C14ERR,HELIER,DELHER,NEONER,C13ERR,TRITER
,,,,,,,,,,,,DBAR,DBAR,ITS-90,PSS-78,,PSS-78,,UMOL/KG,,DEG C,UMOL/KG,,UMOL/KG,,UMOL/KG,,UMOL/KG,,UMOL/KG,,PMOL/KG,,PMOL/KG,,PMOL/KG,,PMOL/KG,,TU,,NMOL/KG,,PERCNT,,/MILLE,,/MILLE,,NMOL/KG,,UMOL/KG,,UMOL/KG,,/MILLE,NMOL/KG,PERCNT,NMOL/KG,/MILLE,TU
   3220CGC92_1,   P13,    33,  1,    136,   1106,2,19920831,2322, 43.0083, 164.9998, 5253,     98,      7.0,  15.4783,  32.7771,2,  32.8014,2,   -999.0,9, 15.4772,    272.2,2,    11.64,2,     4.49,2,     0.08,2,     0.52,2,    3.089,2,    1.560,2,    0.328,2,    4.377,2, -999.000,9,-999.0000,9,  -999.00,9,      2.2,2,     2.18,2,-999.000,9,   1968.0,2,   2219.9,2,     3.3,-999.0000,-999.000,-999.000,  -999.0,-999.000
   3220CGC92_1,   P13,    33,  1,    135,   1238,2,19920831,2322, 43.0083, 164.9998, 5253,    242,     21.0,  11.0623,  33.0268,2,  33.1188,2,    310.9,2, 11.0598,    309.4,2,    22.92,2,    12.41,2,     0.08,2,     1.22,2,    4.641,2,    2.283,2, -999.000,9, -999.000,9, -999.000,9,-999.0000,9,  -999.00,9,   -999.0,9,  -999.00,9,-999.000,9,   -999.0,9,   -999.0,9,  -999.0,-999.0000,-999.000,-999.000,  -999.0,-999.000
   3220CGC92_1,   P13,    33,  1,    134,   1030,2,19920831,2322, 43.0083, 164.9998, 5253,    498,     46.0,   5.7586,  33.2178,2,  33.2225,2,    313.3,2,  5.7549,    313.8,2,    27.43,2,    14.69,2,     0.26,2,     1.30,2,    5.124,2,    2.457,2,    0.506,2,    7.623,2, -999.000,9,-999.0000,9,  -999.00,9,   -999.0,9,  -999.00,9,-999.000,9,   -999.0,9,   -999.0,9,  -999.0,-999.0000,-999.000,-999.000,  -999.0,-999.000
   3220CGC92_1,   P13,    33,  1,    133,   1231,2,19920831,2322, 43.0083, 164.9998, 5253,    756,     72.0,   4.2500,  33.2433,2,  33.2659,2,    297.6,2,  4.2451,    304.2,2,    30.98,2,    18.14,2,     0.00,2,     1.41,2,    5.401,2,    2.548,2, -999.000,9, -999.000,9, -999.000,9,-999.0000,9,  -999.00,9,   -999.0,9,  -999.00,9,-999.000,9,   -999.0,9,   -999.0,9,  -999.0,-999.0000,-999.000,-999.000,  -999.0,-999.000
   3220CGC92_1,   P13,    33,  1,    132,   1109,2,19920831,2322, 43.0083, 164.9998, 5253,   1001,     96.0,   3.8471,  33.3096,2,  33.3382,2,    289.7,2,  3.8408,    296.8,2,    33.98,2,    19.62,2,     0.00,2,     1.50,2,    5.163,2,    2.444,2,    0.502,2,    7.751,2, -999.000,9,-999.0000,9,  -999.00,9,   -999.0,9,  -999.00,9,-999.000,9,   -999.0,9,   -999.0,9,  -999.0,-999.0000,-999.000,-999.000,  -999.0,-999.000
   3220CGC92_1,   P13,    33,  1,    131,   1031,2,19920831,2322, 43.0083, 164.9998, 5253,   1258,    122.0,   3.8891,  33.4170,2,  33.4421,2,    261.6,2,  3.8810,    269.2,2,    40.01,2,    21.91,2,     0.00,2,     1.63,2,    4.625,2,    2.230,2, -999.000,9, -999.000,9, -999.000,9,-999.0000,9,  -999.00,9,   -999.0,9,  -999.00,9,-999.000,9,   -999.0,9,   -999.0,9,  -999.0,-999.0000,-999.000,-999.000,  -999.0,-999.000
   3220CGC92_1,   P13,    33,  1,    130,   1041,2,19920831,2322, 43.0083, 164.9998, 5253,   1488,    145.0,   3.9660,  33.5304,2,  33.5665,2,    258.5,2,  3.9563,    227.4,2,    51.07,2,    26.00,2,     0.00,2,     1.86,2,    4.016,2,    1.915,2, -999.000,9, -999.000,9, -999.000,9,-999.0000,9,  -999.00,9,   -999.0,9,  -999.00,9,-999.000,9,   -999.0,9,   -999.0,9,  -999.0,-999.0000,-999.000,-999.000,  -999.0,-999.000
   3220CGC92_1,   P13,    33,  1,    129,   1004,2,19920831,2322, 43.0083, 164.9998, 5253,   1753,    171.0,   3.6021,  33.6033,2,  33.6409,2,    205.0,2,  3.5911,   -999.0,5,    65.19,2,    30.87,2,     0.00,2,     2.20,2,    3.445,2,    1.609,2, -999.000,9, -999.000,9, -999.000,9,-999.0000,9,  -999.00,9,   -999.0,9,  -999.00,9,-999.000,9,   -999.0,9,   -999.0,9,  -999.0,-999.0000,-999.000,-999.000,  -999.0,-999.000
   3220CGC92_1,   P13,    33,  1,    127,   1117,2,19920831,2322, 43.0083, 164.9998, 5253,   1987,    194.0,   3.4542,  33.6528,2,  33.6880,2,    178.4,2,  3.4418,    159.9,2,    72.05,2,    32.31,2,     0.00,2,     2.35,2,    3.160,2,    1.450,2,    0.262,2,    3.668,2, -999.000,9,-999.0000,9,  -999.00,9,   -999.0,9,  -999.00,9,-999.000,9,   -999.0,9,   -999.0,9,  -999.0,-999.0000,-999.000,-999.000,  -999.0,-999.000
   3220CGC92_1,   P13,    33,  1,    126,   1110,2,19920831,2322, 43.0083, 164.9998, 5253,   2494,    245.0,   3.3392,  33.7448,2,  33.7692,2,    148.1,2,  3.3237,    126.9,2,    82.10,2,    36.23,2,     0.00,2,     2.58,2,    2.595,2,    1.179,2, -999.000,9, -999.000,9, -999.000,9,-999.0000,9,  -999.00,9,   -999.0,9,  -999.00,9,-999.000,9,   -999.0,9,   -999.0,9,  -999.0,-999.0000,-999.000,-999.000,  -999.0,-999.000
   3220CGC92_1,   P13,    33,  1,    125,   1035,2,19920831,2322, 43.0083, 164.9998, 5253,   2989,    294.0,   3.3382,  33.8088,2,  33.8377,2,    115.6,2,  3.3194,    121.6,4,    89.32,2,    37.22,2,     0.00,2,     2.64,2,    2.191,3,    0.943,3,    0.181,2,    2.550,2, -999.000,9,-999.0000,9,  -999.00,9,   -999.0,9,  -999.00,9,-999.000,9,   -999.0,9,   -999.0,9,  -999.0,-999.0000,-999.000,-999.000,  -999.0,-999.000
   3220CGC92_1,   P13,    33,  1,    124,   1026,2,19920831,2322, 43.0083, 164.9998, 5253,   3499,    345.0,   3.5242,  33.9104,2,  33.9359,2,     93.3,2,  3.5014,     85.6,2,    96.15,2,    38.71,2,     0.00,2,     2.80,2,    1.606,2,    0.723,2, -999.000,9, -999.000,9, -999.000,9,-999.0000,9,  -999.00,9,   -999.0,9,  -999.00,9,-999.000,9,   -999.0,9,   -999.0,9,  -999.0,-999.0000,-999.000,-999.000,  -999.0,-999.000
   3220CGC92_1,   P13,    33,  1,    123,   1014,2,19920831,2322, 43.0083, 164.9998, 5253,   4001,    395.0,   3.4952,  33.9741,2,  33.9935,2,   -999.0,9,  3.4690,     68.0,2,   102.76,2,    40.07,2,     0.00,2,     2.92,2, -999.000,5, -999.000,5, -999.000,9, -999.000,9, -999.000,9,-999.0000,9,  -999.00,9,   -999.0,9,  -999.00,9,-999.000,9,   -999.0,9,   -999.0,9,  -999.0,-999.0000,-999.000,-999.000,  -999.0,-999.000
   3220CGC92_1,   P13,    33,  1,    122,   1015,2,19920831,2322, 43.0083, 164.9998, 5253,   4998,    494.0,   3.6821,  34.1243,2,  34.1502,2,   -999.0,9,  3.6482,     51.2,2,   112.48,2,    41.31,2,     0.00,2,     2.97,2,    0.577,2,    0.261,2,    0.059,2,    0.749,2, -999.000,9,-999.0000,9,  -999.00,9,   -999.0,9,  -999.00,9,-999.000,9,   -999.0,9,   -999.0,9,  -999.0,-999.0000,-999.000,-999.000,  -999.0,-999.000
   3220CGC92_1,   P13,    33,  1,    121,   1235,2,19920831,2322, 43.0083, 164.9998, 5253,   5988,    593.0,   3.3992,  34.1848,2,  34.2125,2,   -999.0,9,  3.3593,     39.9,2,   124.83,2,    42.20,2,     0.00,2,     3.06,2,    0.394,6,    0.181,6, -999.000,9, -999.000,9, -999.000,9,-999.0000,9,  -999.00,9,   -999.0,9,  -999.00,9,-999.000,9,   -999.0,9,   -999.0,9,  -999.0,-999.0000,-999.000,-999.000,  -999.0,-999.000
   3220CGC92_1,   P13,    33,  1,    120,   1237,2,19920831,2322, 43.0083, 164.9998, 5253,   6977,    692.0,   3.2022,  34.2528,2,  34.2793,2,   -999.0,9,  3.1561,     35.0,2,   133.04,2,    41.98,2,     0.00,2,     3.08,2,    0.233,2,    0.108,2,    0.041,2,    0.358,2, -999.000,9,-999.0000,9,  -999.00,9,   -999.0,9,  -999.00,9,-999.000,9,   -999.0,9,   -999.0,9,  -999.0,-999.0000,-999.000,-999.000,  -999.0,-999.000
   3220CGC92_1,   P13,    33,  1,    119,   1025,2,19920831,2322, 43.0083, 164.9998, 5253,   7989,    793.0,   3.0753,  34.3094,2,  34.3327,2,   -999.0,9,  3.0225,     34.0,6,   139.02,2,    42.42,2,     0.00,2,     3.07,2,    0.143,2,    0.063,2, -999.000,9, -999.000,9, -999.000,9,-999.0000,9,  -999.00,9,   -999.0,9,  -999.00,9,-999.000,9,   -999.0,9,   -999.0,9,  -999.0,-999.0000,-999.000,-999.000,  -999.0,-999.000
   3220CGC92_1,   P13,    33,  1,    118,   1118,2,19920831,2322, 43.0083, 164.9998, 5253,   8987,    892.0,   2.9283,  34.3510,2,  34.3719,6,   -999.0,9,  2.8692,   -999.0,9,   144.46,2,    42.89,2,     0.00,2,     3.11,2,    0.107,2,    0.048,2, -999.000,9, -999.000,9, -999.000,9,-999.0000,9,  -999.00,9,   -999.0,9,  -999.00,9,-999.000,9,   -999.0,9,   -999.0,9,  -999.0,-999.0000,-999.000,-999.000,  -999.0,-999.000
   3220CGC92_1,   P13,    33,  1,    117,   1005,2,19920831,2322, 43.0083, 164.9998, 5253,   9994,    993.0,   2.7683,  34.3838,2,  34.4021,2,   -999.0,9,  2.7030,     35.5,2,   149.98,2,    42.96,2,     0.00,2,     3.10,2,    0.089,6,    0.038,6, -999.000,9, -999.000,9, -999.000,9,-999.0000,9,  -999.00,9,   -999.0,9,  -999.00,9,-999.000,9,   -999.0,9,   -999.0,9,  -999.0,-999.0000,-999.000,-999.000,  -999.0,-999.000
   3220CGC92_1,   P13,    33,  1,    116,   1104,2,19920831,2322, 43.0083, 164.9998, 5253,  11996,   1193.0,   2.4944,  34.4452,2,  34.4578,2,   -999.0,9,  2.4164,   -999.0,9,   157.15,2,    42.44,2,     0.00,2,     3.07,2,    0.047,2,    0.017,2, -999.000,9, -999.000,9, -999.000,9,-999.0000,9,  -999.00,9,   -999.0,9,  -999.00,9,-999.000,9,   -999.0,9,   -999.0,9,  -999.0,-999.0000,-999.000,-999.000,  -999.0,-999.000
   3220CGC92_1,   P13,    33,  1,    115,   1020,2,19920831,2322, 43.0083, 164.9998, 5253,  13991,   1392.0,   2.3014,  34.4980,2,  34.5010,2,     43.4,2,  2.2102,   -999.0,9,   161.34,2,    41.95,2,     0.00,2,     3.00,2,    0.023,2,    0.005,2, -999.000,9, -999.000,9, -999.000,9,-999.0000,9,  -999.00,9,   -999.0,9,  -999.00,9,-999.000,9,   -999.0,9,   -999.0,9,  -999.0,-999.0000,-999.000,-999.000,  -999.0,-999.000
   3220CGC92_1,   P13,    33,  1,    114,   1012,2,19920831,2322, 43.0083, 164.9998, 5253,  15995,   1593.0,   2.1555,  34.5354,2,  34.5354,2,     51.5,2,  2.0502,     52.5,2,   163.46,2,    42.03,2,     0.00,2,     2.98,2,    0.007,2,    0.000,2, -999.000,9, -999.000,9, -999.000,9,-999.0000,9,  -999.00,9,   -999.0,9,  -999.00,9,-999.000,9,   -999.0,9,   -999.0,9,  -999.0,-999.0000,-999.000,-999.000,  -999.0,-999.000
   3220CGC92_1,   P13,    33,  1,    113,   1229,2,19920831,2322, 43.0083, 164.9998, 5253,  17994,   1793.0,   2.0165,  34.5671,2,  34.5692,2,     61.5,2,  1.8971,   -999.0,9,   164.43,2,    40.08,2,     0.00,2,     2.81,2,    0.004,2,    0.002,2, -999.000,9, -999.000,9, -999.000,9,-999.0000,9,  -999.00,9,   -999.0,9,  -999.00,9,-999.000,9,   -999.0,9,   -999.0,9,  -999.0,-999.0000,-999.000,-999.000,  -999.0,-999.000
   3220CGC92_1,   P13,    33,  1,    112,   1219,2,19920831,2322, 43.0083, 164.9998, 5253,  21003,   2094.0,   1.8486,  34.6047,2,  34.6050,2,     78.9,2,  1.7066,   -999.0,9,   165.36,2,    39.82,2,     0.00,2,     2.93,2,    0.002,2,   -0.003,2, -999.000,9, -999.000,9, -999.000,9,-999.0000,9,  -999.00,9,   -999.0,9,  -999.00,9,-999.000,9,   -999.0,9,   -999.0,9,  -999.0,-999.0000,-999.000,-999.000,  -999.0,-999.000
   3220CGC92_1,   P13,    33,  1,    111,   1112,2,19920831,2322, 43.0083, 164.9998, 5253,  23993,   2394.0,   1.7096,  34.6309,2,  34.6295,2,     96.7,2,  1.5442,   -999.0,9,   163.50,2,    39.13,2,     0.00,2,     2.79,2, -999.000,9, -999.000,9, -999.000,9, -999.000,9, -999.000,9,-999.0000,9,  -999.00,9,   -999.0,9,  -999.00,9,-999.000,9,   -999.0,9,   -999.0,9,  -999.0,-999.0000,-999.000,-999.000,  -999.0,-999.000
   3220CGC92_1,   P13,    33,  1,    110,   1029,2,19920831,2322, 43.0083, 164.9998, 5253,  27006,   2696.0,   1.6096,  34.6484,2,  34.6494,2,    112.9,2,  1.4190,   -999.0,9,   160.57,2,    38.55,2,     0.00,2,     2.72,2, -999.000,9, -999.000,9, -999.000,9, -999.000,9, -999.000,9,-999.0000,9,  -999.00,9,   -999.0,9,  -999.00,9,-999.000,9,   -999.0,9,   -999.0,9,  -999.0,-999.0000,-999.000,-999.000,  -999.0,-999.000
   3220CGC92_1,   P13,    33,  1,    109,   1023,2,19920831,2322, 43.0083, 164.9998, 5253,  30018,   2998.0,   1.5486,  34.6606,2,  34.6604,2,    124.0,2,  1.3310,    126.4,2,   158.17,2,    38.18,2,     0.00,2,     2.69,2,    0.002,2,   -0.004,2, -999.000,9, -999.000,9, -999.000,9,-999.0000,9,  -999.00,9,   -999.0,9,  -999.00,9,-999.000,9,   -999.0,9,   -999.0,9,  -999.0,-999.0000,-999.000,-999.000,  -999.0,-999.000
   3220CGC92_1,   P13,    33,  1,    108,   1032,2,19920831,2322, 43.0083, 164.9998, 5253,  32987,   3295.0,   1.5006,  34.6693,2,  34.6687,2,    133.9,2,  1.2551,   -999.0,9,   155.78,2,    37.64,2,     0.00,2,     2.61,2, -999.000,9, -999.000,9, -999.000,9, -999.000,9, -999.000,9,-999.0000,9,  -999.00,9,   -999.0,9,  -999.00,9,-999.000,9,   -999.0,9,   -999.0,9,  -999.0,-999.0000,-999.000,-999.000,  -999.0,-999.000
   3220CGC92_1,   P13,    33,  1,    107,   1037,2,19920831,2322, 43.0083, 164.9998, 5253,  36000,   3597.0,   1.4786,  34.6757,2,  34.6748,2,    142.1,2,  1.2031,   -999.0,9,   153.80,2,    36.93,2,     0.00,2,     2.60,2, -999.000,9, -999.000,9, -999.000,9, -999.000,9, -999.000,9,-999.0000,9,  -999.00,9,   -999.0,9,  -999.00,9,-999.000,9,   -999.0,9,   -999.0,9,  -999.0,-999.0000,-999.000,-999.000,  -999.0,-999.000
   3220CGC92_1,   P13,    33,  1,    106,   1022,2,19920831,2322, 43.0083, 164.9998, 5253,  38992,   3897.0,   1.4646,  34.6800,2,  34.6792,2,   -999.0,9,  1.1578,    149.0,2,   152.42,2,    36.29,2,     0.00,2,     2.51,2,    0.002,2,    0.002,2, -999.000,9, -999.000,9, -999.000,9,-999.0000,9,  -999.00,9,   -999.0,9,  -999.00,9,-999.000,9,   -999.0,9,   -999.0,9,  -999.0,-999.0000,-999.000,-999.000,  -999.0,-999.000
   3220CGC92_1,   P13,    33,  1,    105,   1221,2,19920831,2322, 43.0083, 164.9998, 5253,  41992,   4198.0,   1.4646,  34.6832,2,  34.6830,2,    151.2,2,  1.1249,   -999.0,9,   150.95,2,    36.47,2,     0.00,2,     2.52,2, -999.000,9, -999.000,9, -999.000,9, -999.000,9, -999.000,9,-999.0000,9,  -999.00,9,   -999.0,9,  -999.00,9,-999.000,9,   -999.0,9,   -999.0,9,  -999.0,-999.0000,-999.000,-999.000,  -999.0,-999.000
   3220CGC92_1,   P13,    33,  1,    104,   1038,2,19920831,2322, 43.0083, 164.9998, 5253,  44994,   4499.0,   1.4746,  34.6873,2,  34.6857,2,   -999.0,9,  1.1005,   -999.0,9,   150.19,2,    36.47,2,     0.00,2,     2.52,2, -999.000,9, -999.000,9, -999.000,9, -999.000,9, -999.000,9,-999.0000,9,  -999.00,9,   -999.0,9,  -999.00,9,-999.000,9,   -999.0,9,   -999.0,9,  -999.0,-999.0000,-999.000,-999.000,  -999.0,-999.000
   3220CGC92_1,   P13,    33,  1,    103,   1033,2,19920831,2322, 43.0083, 164.9998, 5253,  47995,   4799.0,   1.4926,  34.6889,2,  34.6864,2,    157.0,2,  1.0828,    158.4,2,   150.34,2,    36.08,2,     0.00,2,     2.50,2,    0.003,2,    0.000,2, -999.000,9, -999.000,9, -999.000,9,-999.0000,9,  -999.00,9,   -999.0,9,  -999.00,9,-999.000,9,   -999.0,9,   -999.0,9,  -999.0,-999.0000,-999.000,-999.000,  -999.0,-999.000
   3220CGC92_1,   P13,    33,  1,    102,   1234,2,19920831,2322, 43.0083, 164.9998, 5253,  50979,   5097.0,   1.5186,  34.6881,2,  34.6882,2,    159.5,2,  1.0718,   -999.0,9,   150.39,2,    35.57,2,     0.00,2,     2.43,2, -999.000,9, -999.000,9, -999.000,9, -999.000,9, -999.000,9,-999.0000,9,  -999.00,9,   -999.0,9,  -999.00,9,-999.000,9,   -999.0,9,   -999.0,9,  -999.0,-999.0000,-999.000,-999.000,  -999.0,-999.000
   3220CGC92_1,   P13,    33,  1,    101,   1013,2,19920831,2322, 43.0083, 164.9998, 5253,  55167,   5515.0,   1.5616,  34.6897,2,  34.6887,6,    162.3,2,  1.0608,    162.1,2,   149.76,2,    35.51,2,     0.00,2,     2.43,2,    0.007,2,    0.004,2,    0.006,2,    0.023,2, -999.000,9,-999.0000,9,  -999.00,9,   -999.0,9,  -999.00,9,-999.000,9,   -999.0,9,   -999.0,9,  -999.0,-999.0000,-999.000,-999.000,  -999.0,-999.000