BOTTLE,20221003CCHSIOAMB
EXPOCODE,SECT_ID,STNNBR,CASTNO,SAMPNO,BTLNBR,BTLNBR_FLAG_W,DATE,TIME,LATITUDE,LONGITUDE,DEPTH,CTDRAW,CTDPRS,CTDTMP,CTDSAL,CTDSAL_FLAG_W,SALNTY,SALNTY_FLAG_W,CTDOXY,CTDOXY_FLAG_W,THETA,OXYGEN,OXYGEN_FLAG_W,SILCAT,SILCAT_FLAG_W,NITRAT,NITRAT_FLAG_W,NITRIT,NITRIT_FLAG_W,PHSPHT,PHSPHT_FLAG_W,CFC-11,CFC-11_FLAG_W,CFC-12,CFC-12_FLAG_W,CFC113,CFC113_FLAG_W,CCL4,CCL4_FLAG_W,TRITUM,TRITUM_FLAG_W,HELIUM,HELIUM_FLAG_W,DELHE3,DELHE3_FLAG_W,DELC14,DELC14_FLAG_W,DELC13,DELC13_FLAG_W,NEON,NEON_FLAG_W,TCARBN,TCARBN_FLAG_W,ALKALI,ALKALI_FLAG_W,C14ERR,HELIER,DELHER,NEONER,C13ERR,TRITER
,,,,,,,,,,,,DBAR,DBAR,ITS-90,PSS-78,,PSS-78,,UMOL/KG,,DEG C,UMOL/KG,,UMOL/KG,,UMOL/KG,,UMOL/KG,,UMOL/KG,,PMOL/KG,,PMOL/KG,,PMOL/KG,,PMOL/KG,,TU,,NMOL/KG,,PERCNT,,/MILLE,,/MILLE,,NMOL/KG,,UMOL/KG,,UMOL/KG,,/MILLE,NMOL/KG,PERCNT,NMOL/KG,/MILLE,TU
   3220CGC92_2,   P13,    70,  1,    136,   1106,2,19921011,1050,  8.0138, 165.0213, 5077,     93,      6.0,  29.5029,  34.1186,2,  34.1135,2,   -999.0,9, 29.5015,    193.1,2,     0.52,2,     0.00,2,     0.00,2,     0.00,2,    1.594,2,    0.921,2,    1.131,4,    2.041,2, -999.000,9,-999.0000,9,  -999.00,9,   -999.0,5,     1.67,2,-999.000,9,   1888.5,2,   2242.9,2,  -999.0,-999.0000,-999.000,-999.000,  -999.0,-999.000
   3220CGC92_2,   P13,    70,  1,    135,   1013,2,19921011,1050,  8.0138, 165.0213, 5077,    239,     21.0,  29.4999,  34.1206,2,  34.1154,2,   -999.0,9, 29.4948,    193.9,2,     0.53,2,     0.00,2,     0.00,2,     0.00,2,    1.566,2,    0.929,2,    0.245,2,    2.063,2,    1.182,2,-999.0000,9,  -999.00,9,     99.1,2,     1.66,2,-999.000,9,   1888.6,6,   2242.9,6,     3.5,-999.0000,-999.000,-999.000,  -999.0,   0.004
   3220CGC92_2,   P13,    70,  1,    134,   1030,2,19921011,1050,  8.0138, 165.0213, 5077,    500,     47.0,  29.5119,  34.1517,2,  34.1296,2,    200.3,2, 29.5004,    193.2,2,     0.56,2,     0.00,2,     0.00,2,     0.00,2,    1.557,6,    0.922,6,    0.268,2,    2.056,2, -999.000,9,-999.0000,9,  -999.00,9,     84.9,2,     1.66,2,-999.000,9,   1888.4,2,   2241.6,2,     3.4,-999.0000,-999.000,-999.000,  -999.0,-999.000
   3220CGC92_2,   P13,    70,  1,    133,   1231,2,19921011,1050,  8.0138, 165.0213, 5077,    750,     71.0,  28.7641,  34.8310,2,  34.8304,2,    202.3,2, 28.7470,    200.2,2,     0.74,2,     0.00,2,     0.00,2,     0.01,2,    1.666,2,    0.925,2, -999.000,9, -999.000,9,    1.255,2,   1.6810,2,    -0.83,2,     99.7,2,     1.64,2,   6.576,2,   1940.5,2,   2288.7,2,     4.5,  0.0080,   0.140,   0.029,  -999.0,   0.004
   3220CGC92_2,   P13,    70,  1,    132,   1017,2,19921011,1050,  8.0138, 165.0213, 5077,    999,     96.0,  26.4327,  34.7570,2,  34.7770,2,    202.4,2, 26.4110,    193.9,2,     1.69,2,     0.00,2,     0.00,2,     0.10,2,    1.773,6,    0.991,6,    0.301,6,    1.074,6,    1.465,2,-999.0000,9,  -999.00,9,     89.0,2,     1.41,2,-999.000,9,   1972.6,2,   2290.3,2,     6.5,-999.0000,-999.000,-999.000,  -999.0,   0.015
   3220CGC92_2,   P13,    70,  1,    131,   1031,2,19921011,1050,  8.0138, 165.0213, 5077,   1253,    121.0,  20.6470,  34.8007,2,  34.7972,2,    176.6,2, 20.6242,    166.9,2,     5.01,2,     3.63,2,     0.40,2,     0.43,2,    1.911,6,    1.059,6,    0.162,6,    0.480,6,    1.888,2,   1.7130,2,     2.87,2,   -999.0,5,     0.97,2,   6.951,2,   2050.5,2,   2293.3,2,  -999.0,  0.0080,   0.140,   0.031,  -999.0,   0.006
   3220CGC92_2,   P13,    70,  1,    130,   1041,2,19921011,1050,  8.0138, 165.0213, 5077,   1495,    146.0,  16.4590,  34.6859,2,  34.5870,2,    147.9,2, 16.4356,    129.3,2,    12.47,2,    13.96,2,     0.00,2,     0.99,2,    1.652,2,    0.897,2, -999.000,9, -999.000,9,    1.831,2,   1.7360,2,     6.79,2,     48.7,2,     0.55,2,   7.160,2,   2114.1,2,   2283.8,2,     3.2,  0.0080,   0.140,   0.032,  -999.0,   0.006
   3220CGC92_2,   P13,    70,  1,    129,   1004,2,19921011,1050,  8.0138, 165.0213, 5077,   1753,    171.0,  12.4700,  34.4955,2,  34.5021,2,     90.0,2, 12.4473,     81.1,2,    24.10,2,    23.99,2,     0.00,2,     1.64,2,    0.894,2,    0.497,2, -999.000,9, -999.000,9,    1.283,2,   1.7570,2,     9.80,2,   -999.0,5,     0.22,2,   7.344,2,   2180.4,2,   2286.6,2,  -999.0,  0.0080,   0.140,   0.032,  -999.0,   0.004
   3220CGC92_2,   P13,    70,  1,    128,   1016,2,19921011,1050,  8.0138, 165.0213, 5077,   1998,    196.0,  11.0653,  34.5355,2,  34.5489,2,     66.2,2, 11.0412,     58.1,2,    29.66,2,    27.25,2,     0.14,2,     1.91,2,    0.494,6,    0.272,6,    0.055,6,    0.147,6,    0.876,2,   1.8060,2,     9.34,2,    -59.9,2,     0.11,2,   7.545,2,   2212.5,2,   2292.6,2,     3.0,  0.0080,   0.140,   0.033,  -999.0,   0.003
   3220CGC92_2,   P13,    70,  1,    127,   1028,2,19921011,1050,  8.0138, 165.0213, 5077,   2243,    220.0,  10.4975,  34.5935,2,  34.5813,2,     43.8,2, 10.4712,     47.0,6,    32.69,2,    29.84,2,     0.17,2,     2.03,2,    0.326,2,    0.161,2, -999.000,9, -999.000,9, -999.000,9,-999.0000,9,  -999.00,9,    -87.7,3,     0.05,2,-999.000,9,   2230.7,2,   2297.9,2,     4.0,-999.0000,-999.000,-999.000,  -999.0,-999.000
   3220CGC92_2,   P13,    70,  1,    126,   1110,2,19921011,1050,  8.0138, 165.0213, 5077,   2494,    245.0,  10.0786,  34.6169,2,  34.6287,2,     41.3,2, 10.0501,     40.9,2,    34.36,2,    31.86,2,     0.07,2,     2.17,2,    0.161,2,    0.093,2,    0.034,2,    0.087,2,    0.371,2,-999.0000,9,  -999.00,9,    -72.6,2,     0.11,2,-999.000,9,   2241.8,2,   2303.5,2,     4.0,-999.0000,-999.000,-999.000,  -999.0,   0.002
   3220CGC92_2,   P13,    70,  1,    125,   1035,2,19921011,1050,  8.0138, 165.0213, 5077,   2992,    295.0,   9.4957,  34.6146,2,  34.6328,2,     38.0,2,  9.4626,     37.7,2,    36.50,2,    33.90,2,     0.00,2,     2.22,2,    0.097,2,    0.055,2,    0.029,2,    0.080,2,    0.220,2,   1.7690,2,     6.98,2,   -999.0,5,     0.09,2,   7.251,2,   2249.6,2,   2306.7,2,  -999.0,  0.0080,   0.140,   0.032,  -999.0,   0.002
   3220CGC92_2,   P13,    70,  1,    124,   1019,2,19921011,1050,  8.0138, 165.0213, 5077,   3494,    344.0,   9.1538,  34.6164,2,  34.6292,2,     41.3,2,  9.1159,     39.5,2,    38.40,2,    32.80,2,     0.19,2,     2.18,2,    0.067,6,    0.036,6,    0.041,2,    0.056,2, -999.000,9,-999.0000,9,  -999.00,9,   -999.0,5,     0.09,2,-999.000,9,   2253.9,2,   2307.1,2,  -999.0,-999.0000,-999.000,-999.000,  -999.0,-999.000
   3220CGC92_2,   P13,    70,  1,    123,   1014,2,19921011,1050,  8.0138, 165.0213, 5077,   4000,    395.0,   8.8779,  34.6120,2,  34.6237,2,     42.5,2,  8.8350,     43.6,2,    40.12,2,    33.86,2,     0.07,2,     2.56,2,    0.087,3,    0.034,2, -999.000,9, -999.000,9,    0.125,2,   1.7730,2,     6.70,2,   -999.0,5,     0.18,2,   7.485,2,   2255.8,2,   2309.7,2,  -999.0,  0.0080,   0.140,   0.033,  -999.0,   0.002
   3220CGC92_2,   P13,    70,  1,    122,   1015,2,19921011,1050,  8.0138, 165.0213, 5077,   5004,    495.0,   8.3020,  34.5959,2,  34.5953,2,     51.4,2,  8.2501,     45.9,2,    44.47,2,    34.78,2,     0.00,2,     2.61,2,    0.036,6,    0.021,6,    0.018,2,    0.050,2, -999.000,9,-999.0000,9,  -999.00,9,   -110.6,2,     0.19,6,-999.000,9,   2260.8,2,   2309.9,2,     3.1,-999.0000,-999.000,-999.000,  -999.0,-999.000
   3220CGC92_2,   P13,    70,  1,    121,   1235,2,19921011,1050,  8.0138, 165.0213, 5077,   6010,    595.0,   7.4452,  34.5543,2,  34.5496,2,     48.6,2,  7.3863,     47.5,2,    55.09,2,    37.44,2,     0.00,2,     2.81,2,    0.016,2,    0.004,2, -999.000,9, -999.000,9,    0.059,2,   1.7800,2,     9.39,2,   -133.2,2,     0.13,2,   7.570,2,   2272.1,2,   2322.5,2,     3.3,  0.0080,   0.140,   0.033,  -999.0,   0.002
   3220CGC92_2,   P13,    70,  1,    120,   1237,2,19921011,1050,  8.0138, 165.0213, 5077,   6992,    693.0,   6.6534,  34.5432,2,  34.5467,2,     46.7,2,  6.5884,     40.3,2,    63.52,2,    39.12,2,     0.00,2,     2.91,2,    0.001,2,    0.000,2, -999.000,9, -999.000,9, -999.000,9,-999.0000,9,  -999.00,9,   -157.1,2,     0.05,2,-999.000,9,   2290.1,2,   2329.3,2,     3.9,-999.0000,-999.000,-999.000,  -999.0,-999.000
   3220CGC92_2,   P13,    70,  1,    119,   1025,2,19921011,1050,  8.0138, 165.0213, 5077,   8013,    795.0,   5.8756,  34.5357,2,  34.5382,2,     49.9,2,  5.8052,     50.4,2,    73.66,2,    39.93,2,     0.00,2,     2.92,2,    0.000,2,   -0.002,2, -999.000,9, -999.000,9,    0.037,2,   1.8150,2,    13.02,2,   -999.0,5,     0.02,2,   7.701,2,   2298.6,2,   2340.3,2,  -999.0,  0.0090,   0.140,   0.034,  -999.0,   0.010
   3220CGC92_2,   P13,    70,  1,    118,   1118,2,19921011,1050,  8.0138, 165.0213, 5077,   8998,    893.0,   5.2587,  34.5334,2,  34.5400,2,     62.5,2,  5.1832,     59.4,2,    83.23,2,    39.36,2,     0.00,2,     2.94,2,   -0.002,2,   -0.003,2, -999.000,9, -999.000,9, -999.000,9,-999.0000,9,  -999.00,9,   -999.0,9,  -999.00,9,-999.000,9,   2312.8,2,   2348.6,2,  -999.0,-999.0000,-999.000,-999.000,  -999.0,-999.000
   3220CGC92_2,   P13,    70,  1,    117,   1005,2,19921011,1050,  8.0138, 165.0213, 5077,   9992,    992.0,   4.7139,  34.5407,2,  34.5505,2,     71.8,2,  4.6334,     70.8,2,    94.18,2,    38.85,2,     0.00,2,     2.79,2,    0.003,2,    0.005,2, -999.000,9, -999.000,9, -999.000,9,   1.8810,2,    17.30,2,   -999.0,9,  -999.00,9,-999.000,9,   2311.4,2,   2359.8,2,  -999.0,-999.0000,-999.000,-999.000,  -999.0,-999.000
   3220CGC92_2,   P13,    70,  1,    116,   1104,2,19921011,1050,  8.0138, 165.0213, 5077,  10993,   1092.0,   4.1720,  34.5524,2,  34.5606,2,     76.5,2,  4.0871,     76.1,2,   102.89,2,    38.46,2,     0.00,2,     2.72,2,   -0.002,2,   -0.001,2,    0.013,2,    0.007,2, -999.000,9,-999.0000,9,  -999.00,9,   -999.0,9,  -999.00,9,-999.000,9,   2315.2,2,   2369.7,2,  -999.0,-999.0000,-999.000,-999.000,  -999.0,-999.000
   3220CGC92_2,   P13,    70,  1,    115,   1020,2,19921011,1050,  8.0138, 165.0213, 5077,  12996,   1293.0,   3.5781,  34.5715,2,  34.5776,2,     85.6,2,  3.4815,     84.0,2,   114.70,2,    38.82,2,     0.00,2,     2.72,2,    0.001,2,   -0.001,2, -999.000,9, -999.000,9, -999.000,9,   1.8770,2,    21.10,2,   -999.0,9,  -999.00,9,-999.000,9,   2325.7,2,   -999.0,9,  -999.0,-999.0000,-999.000,-999.000,  -999.0,-999.000
   3220CGC92_2,   P13,    70,  1,    114,   1012,2,19921011,1050,  8.0138, 165.0213, 5077,  14996,   1493.0,   3.1173,  34.5872,2,  34.5950,2,     87.3,2,  3.0086,     85.5,2,   125.52,2,    38.62,2,     0.00,2,     2.70,2,   -0.001,2,   -0.002,2, -999.000,9, -999.000,9, -999.000,9,-999.0000,9,  -999.00,9,   -999.0,9,  -999.00,9,-999.000,9,   2336.6,2,   2391.6,2,  -999.0,-999.0000,-999.000,-999.000,  -999.0,-999.000
   3220CGC92_2,   P13,    70,  1,    113,   1229,2,19921011,1050,  8.0138, 165.0213, 5077,  16988,   1692.0,   2.6374,  34.6045,2,  34.5993,2,     93.7,2,  2.5178,     88.9,6,   129.12,2,    38.61,2,     0.00,2,     2.69,2, -999.000,9, -999.000,9, -999.000,9, -999.000,9, -999.000,9,   1.8660,3,    22.20,2,   -999.0,9,  -999.00,9,-999.000,9,   2337.2,2,   2399.6,2,  -999.0,-999.0000,-999.000,-999.000,  -999.0,-999.000
   3220CGC92_2,   P13,    70,  1,    112,   1219,2,19921011,1050,  8.0138, 165.0213, 5077,  18970,   1890.0,   2.2964,  34.6240,2,  34.6263,2,   -999.0,9,  2.1649,    100.2,2,   141.62,2,    38.00,2,     0.00,2,     2.57,3, -999.000,9, -999.000,9, -999.000,9, -999.000,9, -999.000,9,-999.0000,5,    23.30,3,   -999.0,9,  -999.00,9,-999.000,9,   2345.7,2,   2412.6,2,  -999.0,-999.0000,-999.000,-999.000,  -999.0,-999.000
   3220CGC92_2,   P13,    70,  1,    111,   1112,2,19921011,1050,  8.0138, 165.0213, 5077,  21973,   2191.0,   1.9955,  34.6417,2,  34.6452,2,   -999.0,9,  1.8428,    109.3,2,   148.31,2,    37.86,2,     0.00,2,     2.75,2,   -0.003,2,   -0.002,2, -999.000,9, -999.000,9, -999.000,9,   1.8690,3,    24.70,2,   -999.0,9,  -999.00,9,-999.000,9,   2347.4,2,   2421.9,2,  -999.0,-999.0000,-999.000,-999.000,  -999.0,-999.000
   3220CGC92_2,   P13,    70,  1,    110,   1029,2,19921011,1050,  8.0138, 165.0213, 5077,  24988,   2493.0,   1.8116,  34.6546,2,  34.6569,2,   -999.0,9,  1.6354,    119.2,2,   151.04,2,    37.53,2,     0.00,2,     2.74,2, -999.000,9, -999.000,9, -999.000,9, -999.000,9, -999.000,9,   1.8780,3,    23.50,2,   -999.0,9,  -999.00,9,-999.000,9,   2343.8,2,   2421.9,2,  -999.0,-999.0000,-999.000,-999.000,  -999.0,-999.000
   3220CGC92_2,   P13,    70,  1,    109,   1023,2,19921011,1050,  8.0138, 165.0213, 5077,  27991,   2794.0,   1.6936,  34.6633,2,  34.6643,2,   -999.0,9,  1.4921,    128.6,2,   151.39,2,    36.19,2,     0.00,2,     2.65,2, -999.000,9, -999.000,9, -999.000,9, -999.000,9, -999.000,9,   1.9060,2,    22.40,2,   -999.0,9,  -999.00,9,-999.000,9,   2339.6,2,   2426.5,2,  -999.0,-999.0000,-999.000,-999.000,  -999.0,-999.000
   3220CGC92_2,   P13,    70,  1,    108,   1032,2,19921011,1050,  8.0138, 165.0213, 5077,  30988,   3095.0,   1.5876,  34.6708,2,  34.6717,2,    133.8,2,  1.3597,    136.4,2,   151.23,2,    36.26,2,     0.00,2,     2.61,2,    0.002,2,    0.003,2, -999.000,9, -999.000,9, -999.000,9,-999.0000,9,  -999.00,9,   -999.0,9,  -999.00,9,-999.000,9,   2334.9,2,   2416.8,3,  -999.0,-999.0000,-999.000,-999.000,  -999.0,-999.000
   3220CGC92_2,   P13,    70,  1,    107,   1037,2,19921011,1050,  8.0138, 165.0213, 5077,  33992,   3396.0,   1.5146,  34.6781,2,  34.6775,2,   -999.0,9,  1.2587,    145.7,2,   148.99,2,    36.31,2,     0.00,2,     2.55,2, -999.000,9, -999.000,9, -999.000,9, -999.000,9, -999.000,9,   1.9080,2,    19.00,2,   -999.0,9,  -999.00,9,-999.000,9,   2327.7,2,   2422.8,2,  -999.0,-999.0000,-999.000,-999.000,  -999.0,-999.000
   3220CGC92_2,   P13,    70,  1,    106,   1022,2,19921011,1050,  8.0138, 165.0213, 5077,  36999,   3698.0,   1.4557,  34.6843,2,  34.6839,2,    153.6,2,  1.1701,    153.9,2,   145.51,2,    34.52,2,     0.00,2,     2.48,2, -999.000,9, -999.000,9, -999.000,9, -999.000,9, -999.000,9,-999.0000,9,  -999.00,9,   -999.0,9,  -999.00,9,-999.000,9,   2320.1,2,   2417.9,2,  -999.0,-999.0000,-999.000,-999.000,  -999.0,-999.000
   3220CGC92_2,   P13,    70,  1,    105,   1221,2,19921011,1050,  8.0138, 165.0213, 5077,  39996,   3998.0,   1.4257,  34.6869,2,  34.6878,2,    162.4,2,  1.1090,    160.3,2,   141.96,2,    35.09,2,     0.00,2,     2.48,2,   -0.003,2,    0.000,2, -999.000,9, -999.000,9, -999.000,9,-999.0000,5,    16.40,2,   -999.0,9,  -999.00,9,-999.000,9,   2313.7,2,   2413.7,2,  -999.0,-999.0000,-999.000,-999.000,  -999.0,-999.000
   3220CGC92_2,   P13,    70,  1,    104,   1038,2,19921011,1050,  8.0138, 165.0213, 5077,  42996,   4299.0,   1.4007,  34.6929,2,  34.6924,2,   -999.0,9,  1.0515,    168.4,2,   138.14,2,    34.39,2,     0.00,2,     2.43,2, -999.000,9, -999.000,9, -999.000,9, -999.000,9, -999.000,9,-999.0000,9,  -999.00,9,   -999.0,9,  -999.00,9,-999.000,9,   2306.1,2,   2407.6,2,  -999.0,-999.0000,-999.000,-999.000,  -999.0,-999.000
   3220CGC92_2,   P13,    70,  1,    103,   1033,2,19921011,1050,  8.0138, 165.0213, 5077,  45987,   4598.0,   1.3887,  34.6964,2,  34.6957,2,    178.4,2,  1.0057,    176.5,2,   134.29,2,    32.78,2,     0.00,2,     2.30,2, -999.000,9, -999.000,9, -999.000,9, -999.000,9, -999.000,9,   1.9010,3,    14.10,2,   -999.0,9,  -999.00,9,-999.000,9,   2298.9,2,   2402.3,2,  -999.0,-999.0000,-999.000,-999.000,  -999.0,-999.000
   3220CGC92_2,   P13,    70,  1,    102,   1234,2,19921011,1050,  8.0138, 165.0213, 5077,  48997,   4899.0,   1.3777,  34.6984,2,  34.7015,2,    183.7,2,  0.9596,    180.1,2,   131.35,2,    33.96,2,     0.00,2,     2.21,2,   -0.002,2,   -0.001,2, -999.000,9, -999.000,9, -999.000,9,-999.0000,9,  -999.00,9,   -999.0,9,  -999.00,9,-999.000,9,   2291.7,2,   2398.6,2,  -999.0,-999.0000,-999.000,-999.000,  -999.0,-999.000
   3220CGC92_2,   P13,    70,  1,    101,   1238,2,19921011,1050,  8.0138, 165.0213, 5077,  52627,   5262.0,   1.3957,  34.7017,2,  34.7018,6,    190.5,2,  0.9326,    181.6,3,   129.92,2,    33.57,2,     0.00,2,     2.24,2, -999.000,9, -999.000,9, -999.000,9, -999.000,9, -999.000,9,   1.8500,2,    12.90,2,   -999.0,9,  -999.00,9,-999.000,9,   2289.1,6,   2398.4,2,  -999.0,-999.0000,-999.000,-999.000,  -999.0,-999.000