BOTTLE,20221003CCHSIOAMB
EXPOCODE,SECT_ID,STNNBR,CASTNO,SAMPNO,BTLNBR,BTLNBR_FLAG_W,DATE,TIME,LATITUDE,LONGITUDE,DEPTH,CTDRAW,CTDPRS,CTDTMP,CTDSAL,CTDSAL_FLAG_W,SALNTY,SALNTY_FLAG_W,CTDOXY,CTDOXY_FLAG_W,THETA,OXYGEN,OXYGEN_FLAG_W,SILCAT,SILCAT_FLAG_W,NITRAT,NITRAT_FLAG_W,NITRIT,NITRIT_FLAG_W,PHSPHT,PHSPHT_FLAG_W,CFC-11,CFC-11_FLAG_W,CFC-12,CFC-12_FLAG_W,CFC113,CFC113_FLAG_W,CCL4,CCL4_FLAG_W,TRITUM,TRITUM_FLAG_W,HELIUM,HELIUM_FLAG_W,DELHE3,DELHE3_FLAG_W,DELC14,DELC14_FLAG_W,DELC13,DELC13_FLAG_W,NEON,NEON_FLAG_W,TCARBN,TCARBN_FLAG_W,ALKALI,ALKALI_FLAG_W,C14ERR,HELIER,DELHER,NEONER,C13ERR,TRITER
,,,,,,,,,,,,DBAR,DBAR,ITS-90,PSS-78,,PSS-78,,UMOL/KG,,DEG C,UMOL/KG,,UMOL/KG,,UMOL/KG,,UMOL/KG,,UMOL/KG,,PMOL/KG,,PMOL/KG,,PMOL/KG,,PMOL/KG,,TU,,NMOL/KG,,PERCNT,,/MILLE,,/MILLE,,NMOL/KG,,UMOL/KG,,UMOL/KG,,/MILLE,NMOL/KG,PERCNT,NMOL/KG,/MILLE,TU
   3220CGC92_1,   P13,    34,  1,    136,   1106,2,19920901,0611, 42.4992, 164.9895, 4853,     98,      7.0,  15.4643,  32.7975,2,  32.7925,2,    276.0,2, 15.4632,    279.0,2,    16.97,2,     4.96,2,     0.00,2,     0.60,2,    3.155,2,    1.601,2, -999.000,9, -999.000,9, -999.000,9,-999.0000,9,  -999.00,9,      4.6,2,     2.13,2,-999.000,9,   1969.1,2,   2221.3,2,     2.4,-999.0000,-999.000,-999.000,  -999.0,-999.000
   3220CGC92_1,   P13,    34,  1,    135,   1238,2,19920901,0611, 42.4992, 164.9895, 4853,    205,     17.0,  11.4702,  32.9993,2,  32.8336,2,    277.3,2, 11.4682,    286.4,2,    18.39,2,     6.80,2,     0.00,2,     0.72,2,    3.404,4,    1.708,4, -999.000,9, -999.000,9, -999.000,9,-999.0000,9,  -999.00,9,   -999.0,9,  -999.00,9,-999.000,9,   -999.0,9,   -999.0,9,  -999.0,-999.0000,-999.000,-999.000,  -999.0,-999.000
   3220CGC92_1,   P13,    34,  1,    134,   1030,2,19920901,0611, 42.4992, 164.9895, 4853,    297,     26.0,   7.5192,  33.2051,2,  33.1379,2,    310.9,2,  7.5168,    316.4,2,    24.82,2,    12.80,2,     0.08,2,     1.25,2,    4.810,2,    2.332,2, -999.000,9, -999.000,9, -999.000,9,-999.0000,9,  -999.00,9,      5.3,2,     1.36,2,-999.000,9,   -999.0,9,   -999.0,9,     3.7,-999.0000,-999.000,-999.000,  -999.0,-999.000
   3220CGC92_1,   P13,    34,  1,    133,   1231,2,19920901,0611, 42.4992, 164.9895, 4853,    499,     46.0,   5.4297,  33.2357,2,  33.2394,2,    316.4,2,  5.4261,    318.8,2,    27.91,2,    14.35,2,     0.18,2,     1.26,2,    5.016,2,    2.452,2, -999.000,9, -999.000,9, -999.000,9,-999.0000,9,  -999.00,9,     29.8,2,     1.15,2,-999.000,9,   -999.0,9,   -999.0,9,     8.1,-999.0000,-999.000,-999.000,  -999.0,-999.000
   3220CGC92_1,   P13,    34,  1,    132,   1109,2,19920901,0611, 42.4992, 164.9895, 4853,    751,     72.0,   4.0050,  33.2776,2,  33.2878,2,    310.7,2,  4.0003,    307.5,2,    31.00,2,    18.13,2,     0.00,2,     1.44,2,    5.226,2,    2.518,2, -999.000,9, -999.000,9, -999.000,9,-999.0000,9,  -999.00,9,    -13.5,2,     0.61,2,-999.000,9,   -999.0,9,   -999.0,9,     2.8,-999.0000,-999.000,-999.000,  -999.0,-999.000
   3220CGC92_1,   P13,    34,  1,    131,   1031,2,19920901,0611, 42.4992, 164.9895, 4853,   1004,     97.0,   3.9940,  33.3502,2,  33.3460,2,    295.6,2,  3.9876,    303.9,2,    31.66,2,    18.51,2,     0.00,2,     1.44,2,    5.122,2,    2.502,2, -999.000,9, -999.000,9, -999.000,9,-999.0000,9,  -999.00,9,     12.0,2,     0.81,2,-999.000,9,   -999.0,9,   -999.0,9,     2.7,-999.0000,-999.000,-999.000,  -999.0,-999.000
   3220CGC92_1,   P13,    34,  1,    130,   1041,2,19920901,0611, 42.4992, 164.9895, 4853,   1244,    121.0,   4.0280,  33.4131,2,  33.4424,2,    288.6,2,  4.0199,    281.9,2,    36.84,2,    20.82,2,     0.00,2,     1.53,2,    4.749,2,    2.330,2, -999.000,9, -999.000,9, -999.000,9,-999.0000,9,  -999.00,9,     -1.7,2,     0.63,2,-999.000,9,   -999.0,9,   -999.0,9,     3.7,-999.0000,-999.000,-999.000,  -999.0,-999.000
   3220CGC92_1,   P13,    34,  1,    129,   1004,2,19920901,0611, 42.4992, 164.9895, 4853,   1498,    146.0,   4.0910,  33.5038,2,  33.5473,2,    277.7,2,  4.0811,    251.6,2,    44.18,2,    23.14,2,     0.00,2,     1.67,2,    4.360,2,    2.113,2, -999.000,9, -999.000,9, -999.000,9,-999.0000,9,  -999.00,9,     -3.9,2,     0.45,2,-999.000,9,   -999.0,9,   -999.0,9,     3.4,-999.0000,-999.000,-999.000,  -999.0,-999.000
   3220CGC92_1,   P13,    34,  1,    127,   1117,3,19920901,0611, 42.4992, 164.9895, 4853,   1737,    170.0,   3.9880,  33.6142,2,  33.6406,2,    199.6,2,  3.9765,    199.2,2,    59.12,2,    28.73,2,     0.00,2,     2.08,2,    3.656,2,    1.692,2, -999.000,9, -999.000,9, -999.000,9,-999.0000,9,  -999.00,9,   -999.0,9,  -999.00,9,-999.000,9,   -999.0,9,   -999.0,9,  -999.0,-999.0000,-999.000,-999.000,  -999.0,-999.000
   3220CGC92_1,   P13,    34,  1,    126,   1110,2,19920901,0611, 42.4992, 164.9895, 4853,   1998,    196.0,   3.5891,  33.6679,2,  33.7155,2,   -999.0,9,  3.5764,    174.5,2,    66.16,2,    31.51,2,     0.00,2,     2.23,2, -999.000,5, -999.000,5, -999.000,9, -999.000,9, -999.000,9,-999.0000,9,  -999.00,9,    -35.3,2,    -0.02,2,-999.000,9,   -999.0,9,   -999.0,9,     4.2,-999.0000,-999.000,-999.000,  -999.0,-999.000
   3220CGC92_1,   P13,    34,  1,    125,   1035,2,19920901,0611, 42.4992, 164.9895, 4853,   2500,    246.0,   3.4322,  33.7498,2,  33.7854,2,   -999.0,9,  3.4164,   -999.0,9,    76.30,2,    33.87,2,     0.00,2,     2.38,2,    3.148,2,    1.456,2, -999.000,9, -999.000,9, -999.000,9,-999.0000,9,  -999.00,9,    -72.4,2,    -0.16,2,-999.000,9,   -999.0,9,   -999.0,9,     2.4,-999.0000,-999.000,-999.000,  -999.0,-999.000
   3220CGC92_1,   P13,    34,  1,    124,   1026,2,19920901,0611, 42.4992, 164.9895, 4853,   2991,    294.0,   3.6241,  33.8394,2,  33.8546,2,    126.0,2,  3.6047,    110.5,2,    86.60,2,    36.32,2,     0.00,2,     2.59,2,    2.138,2,    0.963,2, -999.000,9, -999.000,9, -999.000,9,-999.0000,9,  -999.00,9,    -94.5,2,    -0.34,2,-999.000,9,   -999.0,9,   -999.0,9,     2.3,-999.0000,-999.000,-999.000,  -999.0,-999.000
   3220CGC92_1,   P13,    34,  1,    123,   1014,2,19920901,0611, 42.4992, 164.9895, 4853,   3502,    345.0,   3.5701,  33.8983,2,  33.9228,2,     98.0,2,  3.5473,   -999.0,9,    94.42,2,    38.62,2,     0.00,2,     2.77,2, -999.000,9, -999.000,9, -999.000,9, -999.000,9, -999.000,9,-999.0000,9,  -999.00,9,   -101.7,2,    -0.40,2,-999.000,9,   -999.0,9,   -999.0,9,     3.9,-999.0000,-999.000,-999.000,  -999.0,-999.000
   3220CGC92_1,   P13,    34,  1,    122,   1015,2,19920901,0611, 42.4992, 164.9895, 4853,   3997,    395.0,   3.4712,  33.9628,2,  33.9828,2,   -999.0,9,  3.4451,     69.3,2,   103.04,2,    40.63,2,     0.00,2,     2.90,2,    1.329,6,    0.604,6, -999.000,9, -999.000,9, -999.000,9,-999.0000,9,  -999.00,9,   -140.0,2,    -0.50,2,-999.000,9,   -999.0,9,   -999.0,9,     2.8,-999.0000,-999.000,-999.000,  -999.0,-999.000
   3220CGC92_1,   P13,    34,  1,    121,   1235,2,19920901,0611, 42.4992, 164.9895, 4853,   4996,    494.0,   3.4632,  34.0773,2,  34.0990,2,     53.9,2,  3.4301,   -999.0,9,   114.41,2,    41.92,2,     0.00,2,     2.97,2, -999.000,9, -999.000,9, -999.000,9, -999.000,9, -999.000,9,-999.0000,9,  -999.00,9,   -148.4,6,    -0.56,6,-999.000,9,   -999.0,9,   -999.0,9,     5.8,-999.0000,-999.000,-999.000,  -999.0,-999.000
   3220CGC92_1,   P13,    34,  1,    120,   1237,2,19920901,0611, 42.4992, 164.9895, 4853,   6005,    595.0,   3.4152,  34.1871,2,  34.1915,6,     43.3,2,  3.3750,     41.1,2,   122.36,2,    41.92,2,     0.00,2,     3.00,2, -999.000,9, -999.000,9, -999.000,9, -999.000,9, -999.000,9,-999.0000,9,  -999.00,9,   -150.0,2,    -0.57,2,-999.000,9,   -999.0,9,   -999.0,9,     3.9,-999.0000,-999.000,-999.000,  -999.0,-999.000
   3220CGC92_1,   P13,    34,  1,    119,   1025,2,19920901,0611, 42.4992, 164.9895, 4853,   6988,    693.0,   3.2042,  34.2512,2,  34.2554,2,     37.1,2,  3.1580,   -999.0,9,   130.81,2,    42.06,2,     0.00,2,     3.01,2,    0.270,2,    0.122,2, -999.000,9, -999.000,9, -999.000,9,-999.0000,9,  -999.00,9,   -177.9,2,    -0.57,2,-999.000,9,   -999.0,9,   -999.0,9,     2.8,-999.0000,-999.000,-999.000,  -999.0,-999.000
   3220CGC92_1,   P13,    34,  1,    118,   1118,2,19920901,0611, 42.4992, 164.9895, 4853,   7990,    793.0,   3.0253,  34.3062,2,  34.3043,2,     34.0,2,  2.9728,     33.4,6,   137.17,2,    42.93,2,     0.00,2,     3.01,2, -999.000,9, -999.000,9, -999.000,9, -999.000,9, -999.000,9,-999.0000,9,  -999.00,9,   -186.0,2,    -0.57,2,-999.000,9,   -999.0,9,   -999.0,9,     2.5,-999.0000,-999.000,-999.000,  -999.0,-999.000
   3220CGC92_1,   P13,    34,  1,    117,   1005,2,19920901,0611, 42.4992, 164.9895, 4853,   9001,    894.0,   2.8643,  34.3555,2,  34.3533,2,     33.9,2,  2.8055,   -999.0,9,   143.06,2,    42.89,2,     0.00,2,     3.05,2, -999.000,9, -999.000,9, -999.000,9, -999.000,9, -999.000,9,-999.0000,9,  -999.00,9,   -203.5,2,    -0.59,2,-999.000,9,   -999.0,9,   -999.0,9,     3.6,-999.0000,-999.000,-999.000,  -999.0,-999.000
   3220CGC92_1,   P13,    34,  1,    116,   1104,2,19920901,0611, 42.4992, 164.9895, 4853,   9998,    993.0,   2.7423,  34.3904,2,  34.3907,2,     33.8,2,  2.6772,     36.7,4,   147.55,2,    42.66,2,     0.00,2,     3.04,2,    0.089,6,    0.040,6, -999.000,9, -999.000,9, -999.000,9,-999.0000,9,  -999.00,9,   -207.1,2,    -0.56,2,-999.000,9,   -999.0,9,   -999.0,9,     2.5,-999.0000,-999.000,-999.000,  -999.0,-999.000
   3220CGC92_1,   P13,    34,  1,    115,   1020,2,19920901,0611, 42.4992, 164.9895, 4853,  12009,   1194.0,   2.4694,  34.4490,2,  34.4459,2,     38.9,2,  2.3916,   -999.0,9,   155.43,2,    42.10,2,     0.00,2,     3.02,2, -999.000,9, -999.000,9, -999.000,9, -999.000,9, -999.000,9,-999.0000,9,  -999.00,9,   -217.1,2,    -0.54,2,-999.000,9,   -999.0,9,   -999.0,9,     2.8,-999.0000,-999.000,-999.000,  -999.0,-999.000
   3220CGC92_1,   P13,    34,  1,    114,   1012,2,19920901,0611, 42.4992, 164.9895, 4853,  13991,   1392.0,   2.2785,  34.4977,2,  34.4948,2,     44.1,2,  2.1875,     45.0,2,   160.71,2,    41.87,2,     0.00,2,     2.97,2, -999.000,9, -999.000,9, -999.000,9, -999.000,9, -999.000,9,-999.0000,9,  -999.00,9,   -999.0,9,  -999.00,9,-999.000,9,   -999.0,9,   -999.0,9,  -999.0,-999.0000,-999.000,-999.000,  -999.0,-999.000
   3220CGC92_1,   P13,    34,  1,    113,   1229,2,19920901,0611, 42.4992, 164.9895, 4853,  16010,   1594.0,   2.1405,  34.5359,2,  34.5364,2,     52.4,2,  2.0354,   -999.0,9,   163.67,2,    41.79,2,     0.00,2,     2.91,2, -999.000,9, -999.000,9, -999.000,9, -999.000,9, -999.000,9,-999.0000,9,  -999.00,9,   -999.0,9,  -999.00,9,-999.000,9,   -999.0,9,   -999.0,9,  -999.0,-999.0000,-999.000,-999.000,  -999.0,-999.000
   3220CGC92_1,   P13,    34,  1,    112,   1219,2,19920901,0611, 42.4992, 164.9895, 4853,  18008,   1794.0,   2.0175,  34.5677,2,  34.5689,2,     62.5,2,  1.8980,     62.9,2,   165.18,2,    41.31,2,     0.00,2,     2.88,2,    0.006,2,   -0.002,2, -999.000,9, -999.000,9, -999.000,9,-999.0000,9,  -999.00,9,   -999.0,9,  -999.00,9,-999.000,9,   -999.0,9,   -999.0,9,  -999.0,-999.0000,-999.000,-999.000,  -999.0,-999.000
   3220CGC92_1,   P13,    34,  1,    111,   1112,2,19920901,0611, 42.4992, 164.9895, 4853,  19972,   1991.0,   1.8925,  34.5922,2,  34.5891,3,     70.5,2,  1.7586,   -999.0,9,   166.84,2,    40.72,2,     0.00,2,     2.92,2, -999.000,9, -999.000,9, -999.000,9, -999.000,9, -999.000,9,-999.0000,9,  -999.00,9,   -218.2,3,    -0.34,2,-999.000,9,   -999.0,9,   -999.0,9,     4.2,-999.0000,-999.000,-999.000,  -999.0,-999.000
   3220CGC92_1,   P13,    34,  1,    110,   1029,2,19920901,0611, 42.4992, 164.9895, 4853,  23003,   2294.0,   1.7436,  34.6229,2,  34.6202,3,   -999.0,9,  1.5863,     91.7,2,   164.06,2,    39.39,2,     0.00,2,     2.80,2, -999.000,9, -999.000,9, -999.000,9, -999.000,9, -999.000,9,-999.0000,9,  -999.00,9,   -999.0,9,  -999.00,9,-999.000,9,   -999.0,9,   -999.0,9,  -999.0,-999.0000,-999.000,-999.000,  -999.0,-999.000
   3220CGC92_1,   P13,    34,  1,    109,   1023,2,19920901,0611, 42.4992, 164.9895, 4853,  25978,   2593.0,   1.6356,  34.6431,2,  34.6436,2,   -999.0,9,  1.4538,   -999.0,9,   161.59,2,    38.81,2,     0.00,2,     2.71,2, -999.000,9, -999.000,9, -999.000,9, -999.000,9, -999.000,9,-999.0000,9,  -999.00,9,   -999.0,9,  -999.00,9,-999.000,9,   -999.0,9,   -999.0,9,  -999.0,-999.0000,-999.000,-999.000,  -999.0,-999.000
   3220CGC92_1,   P13,    34,  1,    108,   1032,2,19920901,0611, 42.4992, 164.9895, 4853,  28987,   2894.0,   1.5636,  34.6553,2,  34.6600,2,    121.4,2,  1.3555,    122.0,2,   159.05,2,    38.29,2,     0.00,2,     2.69,2,   -0.001,2,   -0.001,2, -999.000,9, -999.000,9, -999.000,9,-999.0000,9,  -999.00,9,   -999.0,9,  -999.00,9,-999.000,9,   -999.0,9,   -999.0,9,  -999.0,-999.0000,-999.000,-999.000,  -999.0,-999.000
   3220CGC92_1,   P13,    34,  1,    107,   1037,2,19920901,0611, 42.4992, 164.9895, 4853,  32010,   3197.0,   1.5126,  34.6647,2,  34.6657,2,    130.5,2,  1.2765,   -999.0,9,   156.81,2,    37.66,2,     0.00,2,     2.63,2, -999.000,9, -999.000,9, -999.000,9, -999.000,9, -999.000,9,-999.0000,9,  -999.00,9,   -999.0,9,  -999.00,9,-999.000,9,   -999.0,9,   -999.0,9,  -999.0,-999.0000,-999.000,-999.000,  -999.0,-999.000
   3220CGC92_1,   P13,    34,  1,    106,   1022,2,19920901,0611, 42.4992, 164.9895, 4853,  34997,   3497.0,   1.4786,  34.6727,2,  34.6728,2,   -999.0,9,  1.2133,    143.5,2,   154.96,2,    36.72,2,     0.00,2,     2.56,2, -999.000,9, -999.000,9, -999.000,9, -999.000,9, -999.000,9,-999.0000,9,  -999.00,9,   -999.0,9,  -999.00,9,-999.000,9,   -999.0,9,   -999.0,9,  -999.0,-999.0000,-999.000,-999.000,  -999.0,-999.000
   3220CGC92_1,   P13,    34,  1,    105,   1221,2,19920901,0611, 42.4992, 164.9895, 4853,  38002,   3798.0,   1.4547,  34.6800,2,  34.6786,2,   -999.0,9,  1.1587,   -999.0,9,   152.82,2,    36.34,2,     0.00,2,     2.51,2,    0.002,2,   -0.002,2, -999.000,9, -999.000,9, -999.000,9,-999.0000,9,  -999.00,9,   -999.0,9,  -999.00,9,-999.000,9,   -999.0,9,   -999.0,9,  -999.0,-999.0000,-999.000,-999.000,  -999.0,-999.000
   3220CGC92_1,   P13,    34,  1,    104,   1038,2,19920901,0611, 42.4992, 164.9895, 4853,  41001,   4099.0,   1.4626,  34.6811,2,  34.6819,2,    150.8,2,  1.1339,    151.6,2,   152.40,2,    36.71,2,     0.00,2,     2.52,2, -999.000,9, -999.000,9, -999.000,9, -999.000,9, -999.000,9,-999.0000,9,  -999.00,9,   -999.0,9,  -999.00,9,-999.000,9,   -999.0,9,   -999.0,9,  -999.0,-999.0000,-999.000,-999.000,  -999.0,-999.000
   3220CGC92_1,   P13,    34,  1,    103,   1033,2,19920901,0611, 42.4992, 164.9895, 4853,  44002,   4399.0,   1.4716,  34.6845,2,  34.6853,2,   -999.0,9,  1.1091,   -999.0,9,   151.52,2,    36.58,2,     0.00,2,     2.50,2, -999.000,9, -999.000,9, -999.000,9, -999.000,9, -999.000,9,-999.0000,9,  -999.00,9,   -999.0,9,  -999.00,9,-999.000,9,   -999.0,9,   -999.0,9,  -999.0,-999.0000,-999.000,-999.000,  -999.0,-999.000
   3220CGC92_1,   P13,    34,  1,    102,   1234,2,19920901,0611, 42.4992, 164.9895, 4853,  46997,   4699.0,   1.4886,  34.6861,2,  34.6865,2,    156.7,2,  1.0908,    157.9,2,   152.04,2,    35.63,2,     0.00,2,     2.43,2, -999.000,9, -999.000,9, -999.000,9, -999.000,9, -999.000,9,-999.0000,9,  -999.00,9,   -999.0,9,  -999.00,9,-999.000,9,   -999.0,9,   -999.0,9,  -999.0,-999.0000,-999.000,-999.000,  -999.0,-999.000
   3220CGC92_1,   P13,    34,  1,    101,   1013,2,19920901,0611, 42.4992, 164.9895, 4853,  50777,   5076.0,   1.5196,  34.6888,2,  34.6874,6,    159.3,2,  1.0754,    158.6,2,   154.22,2,    36.03,2,     0.00,2,     2.48,2,    0.004,2,   -0.003,2, -999.000,9, -999.000,9, -999.000,9,-999.0000,9,  -999.00,9,   -999.0,9,  -999.00,9,-999.000,9,   -999.0,9,   -999.0,9,  -999.0,-999.0000,-999.000,-999.000,  -999.0,-999.000