BOTTLE,20221003CCHSIOAMB
EXPOCODE,SECT_ID,STNNBR,CASTNO,SAMPNO,BTLNBR,BTLNBR_FLAG_W,DATE,TIME,LATITUDE,LONGITUDE,DEPTH,CTDRAW,CTDPRS,CTDTMP,CTDSAL,CTDSAL_FLAG_W,SALNTY,SALNTY_FLAG_W,CTDOXY,CTDOXY_FLAG_W,THETA,OXYGEN,OXYGEN_FLAG_W,SILCAT,SILCAT_FLAG_W,NITRAT,NITRAT_FLAG_W,NITRIT,NITRIT_FLAG_W,PHSPHT,PHSPHT_FLAG_W,CFC-11,CFC-11_FLAG_W,CFC-12,CFC-12_FLAG_W,CFC113,CFC113_FLAG_W,CCL4,CCL4_FLAG_W,TRITUM,TRITUM_FLAG_W,HELIUM,HELIUM_FLAG_W,DELHE3,DELHE3_FLAG_W,DELC14,DELC14_FLAG_W,DELC13,DELC13_FLAG_W,NEON,NEON_FLAG_W,TCARBN,TCARBN_FLAG_W,ALKALI,ALKALI_FLAG_W,C14ERR,HELIER,DELHER,NEONER,C13ERR,TRITER
,,,,,,,,,,,,DBAR,DBAR,ITS-90,PSS-78,,PSS-78,,UMOL/KG,,DEG C,UMOL/KG,,UMOL/KG,,UMOL/KG,,UMOL/KG,,UMOL/KG,,PMOL/KG,,PMOL/KG,,PMOL/KG,,PMOL/KG,,TU,,NMOL/KG,,PERCNT,,/MILLE,,/MILLE,,NMOL/KG,,UMOL/KG,,UMOL/KG,,/MILLE,NMOL/KG,PERCNT,NMOL/KG,/MILLE,TU
   3220CGC92_2,   P13,    74,  1,    136,   1106,2,19921013,0807,  1.9963, 164.9898, 4067,    100,      7.0,  30.0408,  34.2317,2,  34.2271,2,    194.7,2, 30.0391,    197.6,2,     0.55,2,     0.00,2,     0.00,2,     0.00,2,    1.549,2,    0.911,2,    0.776,4,    1.963,2, -999.000,9,-999.0000,9,  -999.00,9,     90.6,2,     1.73,2,-999.000,9,   1891.8,2,   2250.4,2,     5.2,-999.0000,-999.000,-999.000,  -999.0,-999.000
   3220CGC92_2,   P13,    74,  1,    135,   1013,2,19921013,0807,  1.9963, 164.9898, 4067,    236,     20.0,  29.9308,  34.2282,2,  34.2235,2,    192.7,2, 29.9259,    199.5,2,     0.62,2,     0.00,2,     0.00,2,     0.00,2,    1.534,2,    0.921,2, -999.000,9, -999.000,9,    1.129,2,   1.6780,2,    -1.04,2,    102.2,2,     1.75,2,   6.451,2,   -999.0,9,   -999.0,9,     6.7,  0.0080,   0.140,   0.028,  -999.0,   0.004
   3220CGC92_2,   P13,    74,  1,    134,   1030,2,19921013,0807,  1.9963, 164.9898, 4067,    490,     46.0,  29.9008,  34.2321,2,  34.2441,2,    187.1,2, 29.8895,    199.5,2,     0.74,2,     0.00,2,     0.00,2,     0.01,2,    1.544,2,    0.904,2,    0.267,2,    1.923,2, -999.000,9,-999.0000,9,  -999.00,9,     88.7,2,     1.64,2,-999.000,9,   -999.0,9,   -999.0,9,     3.0,-999.0000,-999.000,-999.000,  -999.0,-999.000
   3220CGC92_2,   P13,    74,  1,    133,   1231,2,19921013,0807,  1.9963, 164.9898, 4067,    738,     70.0,  28.1202,  34.8612,2,  34.8488,2,    189.6,2, 28.1037,    199.3,2,     1.12,2,     0.00,2,     0.00,2,     0.10,2,    1.598,2,    0.939,2, -999.000,9, -999.000,9,    1.115,2,-999.0000,9,  -999.00,9,   -999.0,5,     1.61,2,-999.000,9,   -999.0,9,   -999.0,9,  -999.0,-999.0000,-999.000,-999.000,  -999.0,   0.004
   3220CGC92_2,   P13,    74,  1,    132,   1017,2,19921013,0807,  1.9963, 164.9898, 4067,    995,     96.0,  24.2332,  34.9876,2,  34.9507,2,    131.9,2, 24.2128,    130.7,2,     5.17,2,     7.35,2,     0.57,2,     0.56,2,    1.500,6,    0.891,6,    0.120,6,    0.419,6,    1.277,2,-999.0000,9,  -999.00,9,    101.6,2,     0.91,2,-999.000,9,   -999.0,9,   -999.0,9,     3.5,-999.0000,-999.000,-999.000,  -999.0,   0.004
   3220CGC92_2,   P13,    74,  1,    131,   1031,2,19921013,0807,  1.9963, 164.9898, 4067,   1242,    120.0,  22.6006,  34.9170,2,  34.9153,2,    125.5,2, 22.5764,    130.7,2,     6.82,2,     8.64,2,     0.00,2,     0.58,2,    1.540,2,    0.890,2, -999.000,9, -999.000,9,    1.255,2,   1.6990,2,     1.67,2,     82.5,2,     0.87,2,   6.789,2,   -999.0,9,   -999.0,9,     4.2,  0.0080,   0.140,   0.030,  -999.0,   0.004
   3220CGC92_2,   P13,    74,  1,    130,   1041,3,19921013,0807,  1.9963, 164.9898, 4067,   1500,    146.0,  20.9000,  34.8828,2,  34.8885,2,    127.4,2, 20.8722,    131.7,2,     7.97,2,     9.09,2,     0.00,2,     0.61,2,    1.447,2,    0.847,2,    0.147,2,    0.321,2,    1.349,2,-999.0000,9,  -999.00,9,     86.8,2,     0.79,2,-999.000,9,   -999.0,9,   -999.0,9,     5.1,-999.0000,-999.000,-999.000,  -999.0,   0.005
   3220CGC92_2,   P13,    74,  1,    129,   1004,2,19921013,0807,  1.9963, 164.9898, 4067,   1738,    170.0,  18.4776,  34.8640,2,  34.9404,4,    135.1,2, 18.4479,    140.2,2,     8.91,2,    10.26,2,     0.00,2,     0.67,2,    1.573,2,    0.894,2, -999.000,9, -999.000,9,    1.377,2,   1.7170,2,     3.37,2,   -999.0,5,     0.79,2,   6.980,2,   -999.0,9,   -999.0,9,  -999.0,  0.0080,   0.140,   0.031,  -999.0,   0.005
   3220CGC92_2,   P13,    74,  1,    128,   1016,2,19921013,0807,  1.9963, 164.9898, 4067,   1998,    196.0,  15.8772,  34.6932,2,  34.6860,2,    145.6,2, 15.8464,    147.6,6,    14.34,2,    12.11,2,     0.00,2,     0.80,2,    1.574,2,    0.893,2,    0.084,2,    0.318,2,    1.637,2,   1.7270,2,     5.81,2,    -16.5,3,     0.65,2,   7.145,2,   -999.0,9,   -999.0,9,     6.4,  0.0080,   0.140,   0.031,  -999.0,   0.005
   3220CGC92_2,   P13,    74,  1,    127,   1028,2,19921013,0807,  1.9963, 164.9898, 4067,   2499,    245.0,  12.6820,  34.8952,2,  34.8899,2,    131.4,2, 12.6488,    129.9,2,    16.74,2,    19.56,2,     0.00,2,     1.30,2,    0.756,2,    0.418,2,    0.036,2,    0.234,2,    0.584,2,-999.0000,9,  -999.00,9,      9.8,2,     0.78,2,-999.000,9,   -999.0,9,   -999.0,9,     2.6,-999.0000,-999.000,-999.000,  -999.0,   0.003
   3220CGC92_2,   P13,    74,  1,    126,   1110,2,19921013,0807,  1.9963, 164.9898, 4067,   3002,    295.0,  11.7162,  34.8281,2,  34.8411,2,    116.2,2, 11.6782,    114.9,2,    19.96,2,    22.50,2,     0.00,2,     1.51,2,    0.559,6,    0.336,6,    0.047,6,    0.190,6,    0.510,2,   1.7500,2,     4.96,2,    -12.9,2,     0.70,2,   7.273,2,   -999.0,9,   -999.0,9,     3.0,  0.0080,   0.140,   0.032,  -999.0,   0.003
   3220CGC92_2,   P13,    74,  1,    125,   1035,2,19921013,0807,  1.9963, 164.9898, 4067,   3486,    344.0,  10.7024,  34.7588,2,  34.7665,2,     97.0,2, 10.6606,     96.8,2,    24.45,2,    25.56,2,     0.00,2,     1.75,2,    0.374,2,    0.223,2,    0.045,2,    0.173,2, -999.000,9,-999.0000,9,  -999.00,9,    -37.6,2,     0.56,2,-999.000,9,   -999.0,9,   -999.0,9,     2.9,-999.0000,-999.000,-999.000,  -999.0,-999.000
   3220CGC92_2,   P13,    74,  1,    124,   1019,2,19921013,0807,  1.9963, 164.9898, 4067,   4007,    396.0,   9.8696,  34.7030,2,  34.7081,2,     92.9,2,  9.8238,     92.2,2,    27.98,2,    28.06,2,     0.00,2,     1.89,2,    0.260,2,    0.155,2,    0.028,2,    0.143,2,    0.270,2,-999.0000,9,  -999.00,9,    -57.0,2,     0.54,2,-999.000,9,   -999.0,9,   -999.0,9,     3.0,-999.0000,-999.000,-999.000,  -999.0,   0.002
   3220CGC92_2,   P13,    74,  1,    123,   1014,2,19921013,0807,  1.9963, 164.9898, 4067,   4496,    444.0,   9.1208,  34.6547,2,  34.6553,2,    104.9,2,  9.0717,    105.2,2,    30.53,2,    28.73,2,     0.00,2,     1.96,2,    0.224,2,    0.167,2, -999.000,9, -999.000,9, -999.000,9,-999.0000,9,  -999.00,9,    -54.8,2,     0.61,2,-999.000,9,   -999.0,9,   -999.0,9,     3.2,-999.0000,-999.000,-999.000,  -999.0,-999.000
   3220CGC92_2,   P13,    74,  1,    122,   1015,2,19921013,0807,  1.9963, 164.9898, 4067,   5005,    495.0,   8.2080,  34.5924,2,  34.5864,2,    108.2,2,  8.1565,    107.1,2,    37.85,2,    30.42,2,     0.00,2,     2.06,2,    0.180,2,    0.113,2,    0.020,2,    0.160,2, -999.000,9,-999.0000,9,  -999.00,9,    -90.5,6,     0.52,6,-999.000,9,   -999.0,9,   -999.0,9,     2.0,-999.0000,-999.000,-999.000,  -999.0,-999.000
   3220CGC92_2,   P13,    74,  1,    121,   1235,2,19921013,0807,  1.9963, 164.9898, 4067,   5992,    593.0,   7.0903,  34.5576,2,  34.5588,2,     94.7,2,  7.0332,     90.6,2,    47.09,2,    33.88,2,     0.00,2,     2.38,2,    0.050,2,    0.039,2, -999.000,9, -999.000,9, -999.000,9,-999.0000,9,  -999.00,9,   -999.0,5,     0.42,2,-999.000,9,   -999.0,9,   -999.0,9,  -999.0,-999.0000,-999.000,-999.000,  -999.0,-999.000
   3220CGC92_2,   P13,    74,  1,    120,   1237,2,19921013,0807,  1.9963, 164.9898, 4067,   7005,    694.0,   5.9736,  34.5373,2,  34.5457,2,     83.4,2,  5.9121,     80.5,2,    59.49,2,    36.22,2,     0.00,2,     2.57,2,    0.012,3,    0.017,2,    0.015,2,    0.052,2, -999.000,9,-999.0000,9,  -999.00,9,   -144.9,2,     0.30,2,-999.000,9,   -999.0,9,   -999.0,9,     2.5,-999.0000,-999.000,-999.000,  -999.0,-999.000
   3220CGC92_2,   P13,    74,  1,    119,   1025,2,19921013,0807,  1.9963, 164.9898, 4067,   7988,    792.0,   5.4377,  34.5369,2,  34.5386,2,   -999.0,9,  5.3702,     89.6,2,    66.37,2,    36.20,2,     0.00,2,     2.53,2,    0.011,2,    0.008,2,    0.011,2,    0.047,2,    0.032,2,   1.8210,2,    13.17,2,   -144.6,2,     0.30,2,   7.632,2,   -999.0,9,   -999.0,9,     2.6,  0.0090,   0.140,   0.034,  -999.0,   0.002
   3220CGC92_2,   P13,    74,  1,    118,   1118,2,19921013,0807,  1.9963, 164.9898, 4067,   8990,    892.0,   4.8988,  34.5417,2,  34.5443,6,     98.8,2,  4.8258,     98.0,2,    76.63,2,    36.96,2,     0.00,2,     2.55,2,    0.005,2,    0.008,2, -999.000,9, -999.000,9, -999.000,9,-999.0000,9,  -999.00,9,   -164.8,2,     0.29,2,-999.000,9,   -999.0,9,   -999.0,9,     3.3,-999.0000,-999.000,-999.000,  -999.0,-999.000
   3220CGC92_2,   P13,    74,  1,    117,   1112,2,19921013,0807,  1.9963, 164.9898, 4067,   9992,    992.0,   4.6019,  34.5462,2,  34.5478,2,     95.8,2,  4.5222,     94.6,2,    83.69,2,    37.72,2,     0.00,2,     2.63,2,    0.001,2,    0.001,2, -999.000,9, -999.000,9, -999.000,9,   1.8580,2,    17.20,2,   -166.9,2,     0.23,2,-999.000,9,   -999.0,9,   -999.0,9,     2.8,-999.0000,-999.000,-999.000,  -999.0,-999.000
   3220CGC92_2,   P13,    74,  1,    116,   1104,2,19921013,0807,  1.9963, 164.9898, 4067,  10985,   1092.0,   4.2730,  34.5564,2,  34.5581,2,     93.6,2,  4.1872,     93.6,2,    92.37,2,    37.86,2,     0.00,2,     2.64,2,   -0.001,2,    0.004,2, -999.000,9, -999.000,9, -999.000,9,-999.0000,9,  -999.00,9,   -180.9,2,     0.16,2,-999.000,9,   -999.0,9,   -999.0,9,     2.9,-999.0000,-999.000,-999.000,  -999.0,-999.000
   3220CGC92_2,   P13,    74,  1,    114,   1012,2,19921013,0807,  1.9963, 164.9898, 4067,  13011,   1294.0,   3.6181,  34.5778,2,  34.5777,2,     94.2,2,  3.5210,     94.1,2,   107.66,2,    38.30,2,     0.00,2,     2.65,2,    0.000,2,    0.005,2, -999.000,9, -999.000,9, -999.000,9,-999.0000,9,  -999.00,9,   -195.3,2,     0.15,2,-999.000,9,   -999.0,9,   -999.0,9,     4.5,-999.0000,-999.000,-999.000,  -999.0,-999.000
   3220CGC92_2,   P13,    74,  1,    112,   1219,2,19921013,0807,  1.9963, 164.9898, 4067,  14974,   1490.0,   3.1382,  34.5941,2,  34.5947,2,    100.3,2,  3.0296,     99.1,6,   118.65,2,    38.24,2,     0.00,2,     2.64,2,   -0.005,2,    0.000,2,    0.036,2,    0.004,2, -999.000,9,   1.8930,2,    22.40,2,   -211.6,2,     0.07,2,-999.000,9,   -999.0,9,   -999.0,9,     4.7,-999.0000,-999.000,-999.000,  -999.0,-999.000
   3220CGC92_2,   P13,    74,  1,    110,   1029,2,19921013,0807,  1.9963, 164.9898, 4067,  17970,   1790.0,   2.5364,  34.6193,2,  34.6213,2,    107.8,2,  2.4099,    107.1,2,   132.67,2,    38.73,2,     0.00,2,     2.72,2, -999.000,9, -999.000,9, -999.000,9, -999.000,9, -999.000,9,   1.9050,2,    23.50,2,   -221.1,2,     0.04,2,-999.000,9,   -999.0,9,   -999.0,9,     2.2,-999.0000,-999.000,-999.000,  -999.0,-999.000
   3220CGC92_2,   P13,    74,  1,    109,   1023,2,19921013,0807,  1.9963, 164.9898, 4067,  19997,   1993.0,   2.2675,  34.6334,2,  34.6368,2,   -999.0,9,  2.1275,    112.9,2,   139.15,2,    38.13,2,     0.00,2,     2.68,2, -999.000,9, -999.000,9, -999.000,9, -999.000,9, -999.000,9,   1.9080,2,    23.80,2,   -230.8,2,     0.01,2,-999.000,9,   -999.0,9,   -999.0,9,     2.5,-999.0000,-999.000,-999.000,  -999.0,-999.000
   3220CGC92_2,   P13,    74,  1,    108,   1032,2,19921013,0807,  1.9963, 164.9898, 4067,  21991,   2193.0,   2.1035,  34.6433,2,  34.6461,2,    117.6,2,  1.9488,    118.1,2,   142.45,2,    37.51,2,     0.00,2,     2.63,2, -999.000,9, -999.000,9, -999.000,9, -999.000,9, -999.000,9,   1.9070,2,    23.50,2,   -999.0,5,     0.04,2,-999.000,9,   -999.0,9,   -999.0,9,  -999.0,-999.0000,-999.000,-999.000,  -999.0,-999.000
   3220CGC92_2,   P13,    74,  1,    107,   1037,2,19921013,0807,  1.9963, 164.9898, 4067,  23996,   2394.0,   1.8995,  34.6547,2,  34.6534,2,   -999.0,9,  1.7306,    122.1,2,   145.41,2,    37.69,2,     0.00,2,     2.63,2, -999.000,9, -999.000,9, -999.000,9, -999.000,9, -999.000,9,   1.9100,2,    23.40,2,   -229.9,2,    -0.01,2,-999.000,9,   -999.0,9,   -999.0,9,     2.4,-999.0000,-999.000,-999.000,  -999.0,-999.000
   3220CGC92_2,   P13,    74,  1,    106,   1022,2,19921013,0807,  1.9963, 164.9898, 4067,  27000,   2695.0,   1.7816,  34.6624,2,  34.6635,2,   -999.0,9,  1.5875,    127.9,2,   148.59,2,    37.55,2,     0.00,2,     2.58,2, -999.000,9, -999.000,9, -999.000,9, -999.000,9, -999.000,9,-999.0000,9,  -999.00,9,   -234.9,2,     0.04,2,-999.000,9,   -999.0,9,   -999.0,9,     2.6,-999.0000,-999.000,-999.000,  -999.0,-999.000
   3220CGC92_2,   P13,    74,  1,    105,   1221,2,19921013,0807,  1.9963, 164.9898, 4067,  29981,   2994.0,   1.6686,  34.6700,2,  34.6685,2,   -999.0,9,  1.4487,    135.6,2,   148.39,2,    36.86,2,     0.00,2,     2.54,2, -999.000,9, -999.000,9, -999.000,9, -999.000,9, -999.000,9,-999.0000,9,  -999.00,9,   -230.4,2,     0.14,2,-999.000,9,   -999.0,9,   -999.0,9,     2.3,-999.0000,-999.000,-999.000,  -999.0,-999.000
   3220CGC92_2,   P13,    74,  1,    104,   1038,2,19921013,0807,  1.9963, 164.9898, 4067,  33002,   3297.0,   1.5826,  34.6758,2,  34.6748,2,   -999.0,9,  1.3349,    143.1,2,   147.12,2,    36.07,2,     0.00,2,     2.53,2, -999.000,9, -999.000,9, -999.000,9, -999.000,9, -999.000,9,-999.0000,9,  -999.00,9,   -224.3,2,     0.11,2,-999.000,9,   -999.0,9,   -999.0,9,     2.8,-999.0000,-999.000,-999.000,  -999.0,-999.000
   3220CGC92_2,   P13,    74,  1,    103,   1033,2,19921013,0807,  1.9963, 164.9898, 4067,  35977,   3595.0,   1.5236,  34.6815,2,  34.6801,2,   -999.0,9,  1.2471,    149.4,2,   145.85,2,    35.47,2,     0.00,2,     2.47,2, -999.000,9, -999.000,9, -999.000,9, -999.000,9, -999.000,9,-999.0000,9,  -999.00,9,   -206.4,2,     0.15,2,-999.000,9,   -999.0,9,   -999.0,9,     2.8,-999.0000,-999.000,-999.000,  -999.0,-999.000
   3220CGC92_2,   P13,    74,  1,    102,   1234,2,19921013,0807,  1.9963, 164.9898, 4067,  38997,   3898.0,   1.4606,  34.6898,2,  34.6871,2,    157.4,2,  1.1538,    159.5,2,   142.33,2,    34.64,2,     0.00,2,     2.41,2, -999.000,9, -999.000,9, -999.000,9, -999.000,9, -999.000,9,-999.0000,9,  -999.00,9,   -216.3,2,     0.19,2,-999.000,9,   -999.0,9,   -999.0,9,     2.4,-999.0000,-999.000,-999.000,  -999.0,-999.000
   3220CGC92_2,   P13,    74,  1,    101,   1238,2,19921013,0807,  1.9963, 164.9898, 4067,  42260,   4225.0,   1.3237,  34.7008,2,  34.6977,6,    178.9,2,  0.9850,    177.8,2,   132.31,2,    34.04,2,     0.00,2,     2.31,2, -999.000,9, -999.000,9, -999.000,9, -999.000,9, -999.000,9,-999.0000,9,  -999.00,9,   -189.8,2,     0.29,2,-999.000,9,   -999.0,9,   -999.0,9,     2.5,-999.0000,-999.000,-999.000,  -999.0,-999.000