BOTTLE,20221003CCHSIOAMB
EXPOCODE,SECT_ID,STNNBR,CASTNO,SAMPNO,BTLNBR,BTLNBR_FLAG_W,DATE,TIME,LATITUDE,LONGITUDE,DEPTH,CTDRAW,CTDPRS,CTDTMP,CTDSAL,CTDSAL_FLAG_W,SALNTY,SALNTY_FLAG_W,CTDOXY,CTDOXY_FLAG_W,THETA,OXYGEN,OXYGEN_FLAG_W,SILCAT,SILCAT_FLAG_W,NITRAT,NITRAT_FLAG_W,NITRIT,NITRIT_FLAG_W,PHSPHT,PHSPHT_FLAG_W,CFC-11,CFC-11_FLAG_W,CFC-12,CFC-12_FLAG_W,CFC113,CFC113_FLAG_W,CCL4,CCL4_FLAG_W,TRITUM,TRITUM_FLAG_W,HELIUM,HELIUM_FLAG_W,DELHE3,DELHE3_FLAG_W,DELC14,DELC14_FLAG_W,DELC13,DELC13_FLAG_W,NEON,NEON_FLAG_W,TCARBN,TCARBN_FLAG_W,ALKALI,ALKALI_FLAG_W,C14ERR,HELIER,DELHER,NEONER,C13ERR,TRITER
,,,,,,,,,,,,DBAR,DBAR,ITS-90,PSS-78,,PSS-78,,UMOL/KG,,DEG C,UMOL/KG,,UMOL/KG,,UMOL/KG,,UMOL/KG,,UMOL/KG,,PMOL/KG,,PMOL/KG,,PMOL/KG,,PMOL/KG,,TU,,NMOL/KG,,PERCNT,,/MILLE,,/MILLE,,NMOL/KG,,UMOL/KG,,UMOL/KG,,/MILLE,NMOL/KG,PERCNT,NMOL/KG,/MILLE,TU
   3220CGC92_2,   P13,    86,  1,    132,   1017,2,19921016,1752, -3.9750, 164.3583, 2151,     98,      7.0,  30.1528,  34.7663,2,  34.7736,2,   -999.0,9, 30.1510,    193.9,2,     0.95,2,     0.00,2,     0.00,2,     0.02,2,    1.507,2,    0.905,2, -999.000,9, -999.000,9, -999.000,9,-999.0000,9,  -999.00,9,     92.2,2,     1.82,2,-999.000,9,   -999.0,9,   2286.6,2,     3.4,-999.0000,-999.000,-999.000,  -999.0,-999.000
   3220CGC92_2,   P13,    86,  1,    131,   1031,2,19921016,1752, -3.9750, 164.3583, 2151,    255,     22.0,  30.1558,  34.7787,2,  34.7785,2,    195.6,2, 30.1503,    191.8,2,     0.97,2,     0.00,2,     0.00,2,     0.01,2,    1.516,2,    0.871,2,    0.221,2,    1.937,2,    1.109,2,-999.0000,9,  -999.00,9,     86.6,2,     1.83,2,-999.000,9,   -999.0,9,   -999.0,9,     3.5,-999.0000,-999.000,-999.000,  -999.0,   0.004
   3220CGC92_2,   P13,    86,  1,    130,   1041,2,19921016,1752, -3.9750, 164.3583, 2151,    504,     47.0,  30.1648,  34.7835,2,  34.8034,2,    188.8,2, 30.1531,    193.1,2,     1.02,2,     0.00,2,     0.00,2,     0.08,2,    1.508,2,    0.871,2,    0.221,2,    1.887,2, -999.000,9,-999.0000,9,  -999.00,9,     83.5,2,     1.79,2,-999.000,9,   -999.0,9,   -999.0,9,     3.5,-999.0000,-999.000,-999.000,  -999.0,-999.000
   3220CGC92_2,   P13,    86,  1,    129,   1004,2,19921016,1752, -3.9750, 164.3583, 2151,    719,     68.0,  29.3130,  35.1749,2,  35.2121,2,    192.9,2, 29.2964,    185.6,2,     1.39,2,     0.00,2,     0.09,2,     0.19,2,    1.561,2,    0.909,2,    0.212,2,    1.140,2,    1.054,2,   1.6700,2,    -1.13,2,     88.7,2,     1.61,2,   6.523,2,   -999.0,9,   -999.0,9,     4.1,  0.0080,   0.140,   0.029,  -999.0,   0.004
   3220CGC92_2,   P13,    86,  1,    128,   1016,2,19921016,1752, -3.9750, 164.3583, 2151,   1008,     97.0,  27.4394,  35.1992,2,  35.1442,2,    169.4,2, 27.4169,    162.1,2,     2.03,2,     1.70,2,     0.81,2,     0.28,2,    1.533,2,    0.864,2,    0.112,2,    0.749,2,    1.042,2,-999.0000,9,  -999.00,9,     88.8,2,     1.38,2,-999.000,9,   -999.0,9,   -999.0,9,     3.5,-999.0000,-999.000,-999.000,  -999.0,   0.004
   3220CGC92_2,   P13,    86,  1,    127,   1028,2,19921016,1752, -3.9750, 164.3583, 2151,   1261,    122.0,  25.3689,  35.3257,2,  35.3325,2,    136.0,2, 25.3421,    129.2,2,     2.73,2,     7.71,2,     0.00,2,     0.52,2,    1.527,6,    0.867,6,    0.137,2,    0.520,2,    0.994,2,   1.6800,2,     0.02,2,     97.3,2,     1.03,2,   6.670,2,   -999.0,9,   -999.0,9,     3.6,  0.0080,   0.140,   0.029,  -999.0,   0.004
   3220CGC92_2,   P13,    86,  1,    126,   1110,2,19921016,1752, -3.9750, 164.3583, 2151,   1498,    146.0,  24.5811,  35.4275,2,  35.4080,2,    126.9,2, 24.5498,    126.7,2,     2.88,2,     8.02,2,     0.00,2,     0.60,2,    1.523,2,    0.855,2, -999.000,9, -999.000,9,    0.961,2,   1.6830,2,     0.01,2,   -999.0,5,     1.04,2,   6.687,2,   -999.0,9,   -999.0,9,  -999.0,  0.0080,   0.140,   0.029,  -999.0,   0.004
   3220CGC92_2,   P13,    86,  1,    125,   1035,2,19921016,1752, -3.9750, 164.3583, 2151,   1757,    172.0,  21.2949,  35.6235,2,  35.6146,2,    119.6,2, 21.2615,    113.8,2,     4.15,2,    10.76,2,     0.21,2,     0.73,2,    1.372,2,    0.781,2, -999.000,9, -999.000,9,    0.754,2,   1.6920,2,     0.57,2,     91.5,2,     0.96,2,   6.807,2,   -999.0,9,   -999.0,9,     3.5,  0.0080,   0.140,   0.030,  -999.0,   0.003
   3220CGC92_2,   P13,    86,  1,    124,   1019,2,19921016,1752, -3.9750, 164.3583, 2151,   2002,    196.0,  18.1456,  35.4786,2,  35.4882,2,    110.6,2, 18.1117,    108.5,2,     6.64,2,    13.25,2,     0.00,2,     1.04,2,    1.184,2,    0.666,2, -999.000,9, -999.000,9,    0.572,2,-999.0000,9,  -999.00,9,     76.3,2,     0.90,2,-999.000,9,   -999.0,9,   -999.0,9,     4.0,-999.0000,-999.000,-999.000,  -999.0,   0.003
   3220CGC92_2,   P13,    86,  1,    123,   1014,2,19921016,1752, -3.9750, 164.3583, 2151,   2251,    221.0,  14.9104,  35.1938,2,  35.1946,2,    104.5,2, 14.8770,     92.0,2,    11.72,2,    18.35,2,     0.00,2,     1.48,2,    0.851,2,    0.470,2,    0.066,2,    0.195,2, -999.000,9,-999.0000,9,  -999.00,9,     37.3,2,     0.77,2,-999.000,9,   -999.0,9,   -999.0,9,     5.3,-999.0000,-999.000,-999.000,  -999.0,-999.000
   3220CGC92_2,   P13,    86,  1,    122,   1015,2,19921016,1752, -3.9750, 164.3583, 2151,   2514,    247.0,  12.6240,  34.9741,2,  35.0102,2,    105.6,2, 12.5906,    105.4,2,    13.72,2,    19.98,2,     0.00,2,     1.58,2,    0.641,6,    0.369,6,    0.050,6,    0.189,6,    0.341,2,   1.7290,2,     2.86,2,      5.7,2,     0.78,2,   7.176,2,   -999.0,9,   -999.0,9,     3.4,  0.0080,   0.140,   0.032,  -999.0,   0.002
   3220CGC92_2,   P13,    86,  1,    121,   1235,2,19921016,1752, -3.9750, 164.3583, 2151,   2994,    295.0,  10.3255,  34.7641,2,  34.7713,2,    106.4,2, 10.2905,    106.3,2,    21.06,2,    24.04,2,     0.00,2,     1.73,2,    0.327,2,    0.190,2, -999.000,9, -999.000,9,    0.214,2,   1.7440,2,     3.99,2,    -34.7,2,     0.70,2,   7.236,2,   -999.0,9,   -999.0,9,     3.5,  0.0080,   0.140,   0.032,  -999.0,   0.002
   3220CGC92_2,   P13,    86,  1,    120,   1237,2,19921016,1752, -3.9750, 164.3583, 2151,   3501,    345.0,   9.8026,  34.7242,2,  34.7255,2,    100.4,2,  9.7629,    100.5,2,    23.70,2,    25.68,2,     0.00,2,     1.96,2,    0.233,2,    0.137,2,    0.054,2,    0.171,2, -999.000,9,-999.0000,9,  -999.00,9,    -51.3,2,     0.63,2,-999.000,9,   -999.0,9,   -999.0,9,     3.2,-999.0000,-999.000,-999.000,  -999.0,-999.000
   3220CGC92_2,   P13,    86,  1,    119,   1025,2,19921016,1752, -3.9750, 164.3583, 2151,   4010,    396.0,   9.1828,  34.6833,2,  34.6759,2,     90.9,2,  9.1389,     86.2,2,    28.29,2,    28.30,2,     0.00,2,     2.14,2,    0.116,6,    0.067,6,    0.000,4,    0.111,2,    0.101,2,-999.0000,9,  -999.00,9,   -999.0,5,     0.54,2,-999.000,9,   -999.0,9,   -999.0,9,  -999.0,-999.0000,-999.000,-999.000,  -999.0,   0.002
   3220CGC92_2,   P13,    86,  1,    118,   1118,2,19921016,1752, -3.9750, 164.3583, 2151,   4498,    444.0,   8.3700,  34.6285,2,  34.6261,2,    107.0,2,  8.3234,    108.1,2,    29.35,2,    28.23,2,     0.00,2,     2.10,2,    0.133,2,    0.082,2, -999.000,9, -999.000,9, -999.000,9,-999.0000,9,  -999.00,9,    -85.3,2,     0.60,2,-999.000,9,   -999.0,9,   -999.0,9,     3.2,-999.0000,-999.000,-999.000,  -999.0,-999.000
   3220CGC92_2,   P13,    86,  1,    117,   1112,2,19921016,1752, -3.9750, 164.3583, 2151,   5011,    496.0,   7.8841,  34.6023,2,  34.6044,2,    104.0,2,  7.8337,    102.0,2,    32.60,2,    29.58,2,     0.00,2,     2.16,2,    0.081,2,    0.050,2, -999.000,9, -999.000,9, -999.000,9,-999.0000,9,  -999.00,9,    -91.9,2,     0.60,6,-999.000,9,   -999.0,9,   -999.0,9,     3.7,-999.0000,-999.000,-999.000,  -999.0,-999.000
   3220CGC92_2,   P13,    86,  1,    116,   1104,2,19921016,1752, -3.9750, 164.3583, 2151,   5985,    593.0,   6.9763,  34.5558,2,  34.5565,2,    113.0,2,  6.9197,    109.7,2,    40.15,2,    30.01,2,     0.00,2,     2.20,2,    0.062,2,    0.037,2,    0.014,2,    0.090,2,    0.047,2,-999.0000,9,  -999.00,9,   -999.0,5,     0.61,2,-999.000,9,   -999.0,9,   -999.0,9,  -999.0,-999.0000,-999.000,-999.000,  -999.0,   0.002
   3220CGC92_2,   P13,    86,  1,    114,   1012,2,19921016,1752, -3.9750, 164.3583, 2151,   7000,    694.0,   6.1895,  34.5477,2,  34.5493,2,     87.1,2,  6.1269,     82.4,2,    52.76,2,    33.86,2,     0.00,2,     2.53,2,    0.012,2,    0.005,2,    0.010,2,    0.082,2, -999.000,9,-999.0000,9,  -999.00,9,   -999.0,5,     0.40,2,-999.000,9,   -999.0,9,   -999.0,9,  -999.0,-999.0000,-999.000,-999.000,  -999.0,-999.000
   3220CGC92_2,   P13,    86,  1,    112,   1219,2,19921016,1752, -3.9750, 164.3583, 2151,   7989,    793.0,   5.5847,  34.5352,2,  34.5372,2,     95.4,2,  5.5162,     94.1,2,    59.63,2,    33.98,2,     0.00,2,     2.44,2,    0.009,2,    0.004,2,    0.020,2,    0.070,2,    0.016,2,   1.8030,2,    12.26,2,   -140.8,2,     0.39,2,   7.659,2,   -999.0,9,   -999.0,9,     3.0,  0.0080,   0.140,   0.034,  -999.0,   0.001
   3220CGC92_2,   P13,    86,  1,    110,   1029,2,19921016,1752, -3.9750, 164.3583, 2151,   9012,    895.0,   4.9818,  34.5395,2,  34.5405,2,     89.8,2,  4.9080,     89.4,2,    72.51,2,    35.61,2,     0.00,2,     2.71,2,   -0.001,2,    0.000,2, -999.000,9, -999.000,9, -999.000,9,-999.0000,9,  -999.00,9,   -999.0,5,    -0.03,3,-999.000,9,   -999.0,9,   -999.0,9,  -999.0,-999.0000,-999.000,-999.000,  -999.0,-999.000
   3220CGC92_2,   P13,    86,  1,    109,   1023,2,19921016,1752, -3.9750, 164.3583, 2151,   9988,    992.0,   4.5179,  34.5411,2,  34.5442,2,    103.4,2,  4.4389,     98.9,3,    79.84,2,    35.28,2,     0.00,2,     2.67,2,    0.001,2,   -0.002,2, -999.000,9, -999.000,9, -999.000,9,   1.8530,2,    16.90,2,   -168.0,2,     0.28,2,-999.000,9,   -999.0,9,   -999.0,9,     2.8,-999.0000,-999.000,-999.000,  -999.0,-999.000
   3220CGC92_2,   P13,    86,  1,    108,   1032,2,19921016,1752, -3.9750, 164.3583, 2151,  10994,   1093.0,   4.2120,  34.5515,2,  34.5544,2,     99.9,2,  4.1267,     96.9,2,    87.75,2,    35.05,2,     0.00,2,     2.76,2,    0.000,2,   -0.003,2,    0.007,2,    0.040,2, -999.000,9,   1.8700,2,    18.60,2,   -180.3,2,     0.22,2,-999.000,9,   -999.0,9,   -999.0,9,     2.9,-999.0000,-999.000,-999.000,  -999.0,-999.000
   3220CGC92_2,   P13,    86,  1,    107,   1037,2,19921016,1752, -3.9750, 164.3583, 2151,  11998,   1193.0,   3.9670,  34.5572,2,  34.5601,2,     99.5,2,  3.8752,     97.7,3,    92.48,2,    35.24,2,     0.00,2,     2.75,2, -999.000,9, -999.000,9, -999.000,9, -999.000,9, -999.000,9,-999.0000,9,  -999.00,9,   -999.0,5,     0.03,2,-999.000,9,   -999.0,9,   -999.0,9,  -999.0,-999.0000,-999.000,-999.000,  -999.0,-999.000
   3220CGC92_2,   P13,    86,  1,    106,   1022,2,19921016,1752, -3.9750, 164.3583, 2151,  14019,   1395.0,   3.3782,  34.5789,2,  34.5765,2,   -999.0,9,  3.2750,    111.4,2,   103.17,2,    35.06,2,     0.00,2,     2.64,2, -999.000,9, -999.000,9, -999.000,9, -999.000,9, -999.000,9,   1.8900,2,    22.20,2,   -999.0,5,     0.20,2,-999.000,9,   -999.0,9,   -999.0,9,  -999.0,-999.0000,-999.000,-999.000,  -999.0,-999.000
   3220CGC92_2,   P13,    86,  1,    105,   1221,2,19921016,1752, -3.9750, 164.3583, 2151,  15996,   1593.0,   2.9093,  34.5982,2,  34.5965,2,   -999.0,9,  2.7947,    116.0,2,   112.97,2,    35.38,2,     0.00,2,     2.67,2, -999.000,9, -999.000,9, -999.000,9, -999.000,9, -999.000,9,   1.9030,2,    24.50,2,   -212.8,2,    -0.10,3,-999.000,9,   -999.0,9,   -999.0,9,     2.9,-999.0000,-999.000,-999.000,  -999.0,-999.000
   3220CGC92_2,   P13,    86,  1,    104,   1038,2,19921016,1752, -3.9750, 164.3583, 2151,  18004,   1794.0,   2.4904,  34.6230,2,  34.6207,2,    120.0,2,  2.3642,    120.1,2,   124.74,2,    35.23,2,     0.00,2,     2.45,3,   -0.002,2,   -0.003,2, -999.000,9, -999.000,9, -999.000,9,   1.9040,2,    25.70,2,   -999.0,5,     0.13,2,-999.000,9,   -999.0,9,   -999.0,9,  -999.0,-999.0000,-999.000,-999.000,  -999.0,-999.000
   3220CGC92_2,   P13,    86,  1,    103,   1033,2,19921016,1752, -3.9750, 164.3583, 2151,  20011,   1996.0,   2.1845,  34.6404,2,  34.6378,2,    122.0,2,  2.0455,    123.1,2,   133.50,2,    34.89,2,     0.00,2,     2.66,2, -999.000,9, -999.000,9, -999.000,9, -999.000,9, -999.000,9,   1.9080,2,    25.40,2,   -224.5,2,     0.11,2,-999.000,9,   -999.0,9,   -999.0,9,     2.8,-999.0000,-999.000,-999.000,  -999.0,-999.000
   3220CGC92_2,   P13,    86,  1,    102,   1234,2,19921016,1752, -3.9750, 164.3583, 2151,  20903,   2086.0,   2.0755,  34.6464,2,  34.6454,2,    125.7,2,  1.9305,    125.8,2,   136.12,2,    34.25,2,     0.00,2,     2.57,3, -999.000,9, -999.000,9, -999.000,9, -999.000,9, -999.000,9,   1.9070,2,    24.30,2,   -224.7,2,     0.81,3,-999.000,9,   -999.0,9,   -999.0,9,     3.0,-999.0000,-999.000,-999.000,  -999.0,-999.000
   3220CGC92_2,   P13,    86,  1,    101,   1238,2,19921016,1752, -3.9750, 164.3583, 2151,  22248,   2221.0,   1.9295,  34.6543,2,  34.6533,2,    128.3,2,  1.7753,    128.5,2,   139.90,2,    34.09,2,     0.00,2,     2.45,3,   -0.004,2,    0.000,2,    0.017,2,    0.009,2, -999.000,9,   1.9200,2,    23.30,2,   -999.0,5,     0.04,2,-999.000,9,   -999.0,9,   -999.0,9,  -999.0,-999.0000,-999.000,-999.000,  -999.0,-999.000