BOTTLE,20221003CCHSIOAMB
EXPOCODE,SECT_ID,STNNBR,CASTNO,SAMPNO,BTLNBR,BTLNBR_FLAG_W,DATE,TIME,LATITUDE,LONGITUDE,DEPTH,CTDRAW,CTDPRS,CTDTMP,CTDSAL,CTDSAL_FLAG_W,SALNTY,SALNTY_FLAG_W,CTDOXY,CTDOXY_FLAG_W,THETA,OXYGEN,OXYGEN_FLAG_W,SILCAT,SILCAT_FLAG_W,NITRAT,NITRAT_FLAG_W,NITRIT,NITRIT_FLAG_W,PHSPHT,PHSPHT_FLAG_W,CFC-11,CFC-11_FLAG_W,CFC-12,CFC-12_FLAG_W,CFC113,CFC113_FLAG_W,CCL4,CCL4_FLAG_W,TRITUM,TRITUM_FLAG_W,HELIUM,HELIUM_FLAG_W,DELHE3,DELHE3_FLAG_W,DELC14,DELC14_FLAG_W,DELC13,DELC13_FLAG_W,NEON,NEON_FLAG_W,TCARBN,TCARBN_FLAG_W,ALKALI,ALKALI_FLAG_W,C14ERR,HELIER,DELHER,NEONER,C13ERR,TRITER
,,,,,,,,,,,,DBAR,DBAR,ITS-90,PSS-78,,PSS-78,,UMOL/KG,,DEG C,UMOL/KG,,UMOL/KG,,UMOL/KG,,UMOL/KG,,UMOL/KG,,PMOL/KG,,PMOL/KG,,PMOL/KG,,PMOL/KG,,TU,,NMOL/KG,,PERCNT,,/MILLE,,/MILLE,,NMOL/KG,,UMOL/KG,,UMOL/KG,,/MILLE,NMOL/KG,PERCNT,NMOL/KG,/MILLE,TU
   3220CGC92_2,   P13,    61,  1,    136,   1106,2,19921002,1332, 19.5382, 165.0368, -999,     76,      4.0,  28.7911,  35.0418,2,  35.0203,2,    207.1,2, 28.7901,   -999.0,9,     0.24,2,     0.00,2,     0.00,2,     0.00,2, -999.000,9, -999.000,9, -999.000,9, -999.000,9, -999.000,9,-999.0000,9,  -999.00,9,   -999.0,9,  -999.00,9,-999.000,9,   -999.0,9,   -999.0,9,  -999.0,-999.0000,-999.000,-999.000,  -999.0,-999.000
   3220CGC92_2,   P13,    61,  1,    134,   1030,2,19921002,1332, 19.5382, 165.0368, -999,     98,      7.0,  28.7921,  35.0409,2,  35.0212,2,    206.9,2, 28.7904,    216.7,2,     0.34,2,     0.00,2,     0.00,2,     0.00,2,    1.634,2,    0.954,2, -999.000,9, -999.000,9, -999.000,9,-999.0000,9,  -999.00,9,   -999.0,9,  -999.00,9,-999.000,9,   1937.9,2,   2297.8,2,  -999.0,-999.0000,-999.000,-999.000,  -999.0,-999.000
   3220CGC92_2,   P13,    61,  1,    135,   1013,2,19921002,1332, 19.5382, 165.0368, -999,     98,      7.0,  28.7921,  35.0409,2,  35.0205,2,    206.9,2, 28.7904,    212.4,2,     0.35,2,     0.00,2,     0.00,2,     0.00,2, -999.000,9, -999.000,9, -999.000,9, -999.000,9, -999.000,9,-999.0000,9,  -999.00,9,   -999.0,9,  -999.00,9,-999.000,9,   -999.0,9,   -999.0,9,  -999.0,-999.0000,-999.000,-999.000,  -999.0,-999.000
   3220CGC92_2,   P13,    61,  1,    133,   1231,2,19921002,1332, 19.5382, 165.0368, -999,    240,     21.0,  28.7951,  35.0429,2,  35.0194,2,   -999.0,9, 28.7900,    210.2,2,     0.35,2,     0.00,2,     0.00,2,     0.00,2,    1.658,2,    1.015,2, -999.000,9, -999.000,9, -999.000,9,-999.0000,9,  -999.00,9,   -999.0,9,  -999.00,9,-999.000,9,   -999.0,9,   -999.0,9,  -999.0,-999.0000,-999.000,-999.000,  -999.0,-999.000
   3220CGC92_2,   P13,    61,  1,    132,   1109,2,19921002,1332, 19.5382, 165.0368, -999,    503,     47.0,  27.2805,  35.1363,2,  35.1234,2,    213.4,2, 27.2696,    216.0,2,     0.67,2,     0.00,2,     0.00,2,     0.00,2,    1.799,2,    1.054,2, -999.000,9, -999.000,9, -999.000,9,-999.0000,9,  -999.00,9,   -999.0,9,  -999.00,9,-999.000,9,   -999.0,9,   -999.0,9,  -999.0,-999.0000,-999.000,-999.000,  -999.0,-999.000
   3220CGC92_2,   P13,    61,  1,    131,   1031,2,19921002,1332, 19.5382, 165.0368, -999,    746,     71.0,  25.1010,  35.2052,2,  35.1876,2,    213.7,2, 25.0855,    216.1,2,     1.15,2,     0.00,2,     0.00,2,     0.00,2,    1.900,2,    1.109,2, -999.000,9, -999.000,9, -999.000,9,-999.0000,9,  -999.00,9,   -999.0,9,  -999.00,9,-999.000,9,   -999.0,9,   -999.0,9,  -999.0,-999.0000,-999.000,-999.000,  -999.0,-999.000
   3220CGC92_2,   P13,    61,  1,    130,   1041,4,19921002,1332, 19.5382, 165.0368, -999,   1011,     97.0,  24.0592,  35.2551,2,-999.0000,9,    206.1,2, 24.0388,   -999.0,9,  -999.00,5,  -999.00,9,  -999.00,9,  -999.00,5, -999.000,9, -999.000,9, -999.000,9, -999.000,9, -999.000,9,-999.0000,9,  -999.00,9,   -999.0,9,  -999.00,9,-999.000,9,   -999.0,9,   -999.0,9,  -999.0,-999.0000,-999.000,-999.000,  -999.0,-999.000
   3220CGC92_2,   P13,    61,  1,    129,   1004,2,19921002,1332, 19.5382, 165.0368, -999,   1258,    122.0,  22.7175,  35.2340,2,  35.3172,2,    194.9,2, 22.6928,    200.8,6,     1.33,2,     0.00,2,     0.00,2,     0.00,2,    2.015,6,    1.153,6, -999.000,9, -999.000,9, -999.000,9,-999.0000,9,  -999.00,9,   -999.0,9,  -999.00,9,-999.000,9,   -999.0,9,   -999.0,9,  -999.0,-999.0000,-999.000,-999.000,  -999.0,-999.000
   3220CGC92_2,   P13,    61,  1,    128,   1016,4,19921002,1332, 19.5382, 165.0368, -999,   1495,    146.0,  20.6880,  35.1123,2,-999.0000,9,    189.6,2, 20.6604,   -999.0,9,  -999.00,5,  -999.00,9,  -999.00,9,  -999.00,5, -999.000,9, -999.000,9, -999.000,9, -999.000,9, -999.000,9,-999.0000,9,  -999.00,9,   -999.0,9,  -999.00,9,-999.000,9,   -999.0,9,   -999.0,9,  -999.0,-999.0000,-999.000,-999.000,  -999.0,-999.000
   3220CGC92_2,   P13,    61,  1,    127,   1028,2,19921002,1332, 19.5382, 165.0368, -999,   2002,    196.0,  18.0657,  34.8975,2,  35.0135,2,   -999.0,9, 18.0319,    190.3,2,     2.90,2,     0.72,2,     0.00,2,     0.08,2,    2.284,2,    1.297,2, -999.000,9, -999.000,9, -999.000,9,-999.0000,9,  -999.00,9,   -999.0,9,  -999.00,9,-999.000,9,   -999.0,9,   -999.0,9,  -999.0,-999.0000,-999.000,-999.000,  -999.0,-999.000
   3220CGC92_2,   P13,    61,  1,    126,   1110,2,19921002,1332, 19.5382, 165.0368, -999,   2491,    245.0,  16.0292,  34.6995,2,  34.7864,2,    191.3,2, 15.9904,    196.1,2,     4.74,2,     3.52,2,     0.00,2,     0.21,2,    2.394,2,    1.304,2, -999.000,9, -999.000,9, -999.000,9,-999.0000,9,  -999.00,9,   -999.0,9,  -999.00,9,-999.000,9,   -999.0,9,   -999.0,9,  -999.0,-999.0000,-999.000,-999.000,  -999.0,-999.000
   3220CGC92_2,   P13,    61,  1,    125,   1035,2,19921002,1332, 19.5382, 165.0368, -999,   2990,    294.0,  14.2226,  34.5274,2,  34.5926,2,    194.6,2, 14.1797,    196.3,2,     8.10,2,     7.09,2,     0.00,2,     0.42,2,    2.369,2,    1.232,2, -999.000,9, -999.000,9, -999.000,9,-999.0000,9,  -999.00,9,   -999.0,9,  -999.00,9,-999.000,9,   -999.0,9,   -999.0,9,  -999.0,-999.0000,-999.000,-999.000,  -999.0,-999.000
   3220CGC92_2,   P13,    61,  1,    124,   1026,2,19921002,1332, 19.5382, 165.0368, -999,   3490,    344.0,  11.5472,  34.3001,2,  34.4092,2,    187.5,2, 11.5035,    192.6,2,    13.00,2,     9.82,2,     0.00,2,     0.67,2,    2.232,2,    1.175,2, -999.000,9, -999.000,9, -999.000,9,-999.0000,9,  -999.00,9,   -999.0,9,  -999.00,9,-999.000,9,   -999.0,9,   -999.0,9,  -999.0,-999.0000,-999.000,-999.000,  -999.0,-999.000
   3220CGC92_2,   P13,    61,  1,    123,   1014,2,19921002,1332, 19.5382, 165.0368, -999,   4054,    400.0,   9.8606,  34.1910,2,  34.2348,2,    175.6,2,  9.8146,    183.0,2,    21.98,2,    17.63,2,     0.00,2,     1.20,2,    1.929,2,    0.995,2, -999.000,9, -999.000,9, -999.000,9,-999.0000,9,  -999.00,9,   -999.0,9,  -999.00,9,-999.000,9,   -999.0,9,   -999.0,9,  -999.0,-999.0000,-999.000,-999.000,  -999.0,-999.000
   3220CGC92_2,   P13,    61,  1,    122,   1015,2,19921002,1332, 19.5382, 165.0368, -999,   5019,    496.0,   7.4932,  34.1010,2,  34.1141,2,    140.4,2,  7.4446,    129.6,2,    45.16,2,    27.12,2,     0.00,2,     1.93,2,    0.951,2,    0.511,2, -999.000,9, -999.000,9, -999.000,9,-999.0000,9,  -999.00,9,   -999.0,9,  -999.00,9,-999.000,9,   -999.0,9,   -999.0,9,  -999.0,-999.0000,-999.000,-999.000,  -999.0,-999.000
   3220CGC92_2,   P13,    61,  1,    121,   1235,2,19921002,1332, 19.5382, 165.0368, -999,   5965,    591.0,   6.0865,  34.1594,2,  34.1538,2,     82.3,2,  6.0345,     73.9,2,    68.30,2,    33.65,2,     0.00,2,     2.52,2,    0.298,6,    0.171,6, -999.000,9, -999.000,9, -999.000,9,-999.0000,9,  -999.00,9,   -999.0,9,  -999.00,9,-999.000,9,   -999.0,9,   -999.0,9,  -999.0,-999.0000,-999.000,-999.000,  -999.0,-999.000
   3220CGC92_2,   P13,    61,  1,    120,   1237,2,19921002,1332, 19.5382, 165.0368, -999,   6958,    690.0,   5.1828,  34.2464,2,  34.2684,2,     55.3,2,  5.1261,     49.7,2,    87.36,2,    37.47,2,     0.00,2,     2.78,2,    0.066,2,    0.036,2, -999.000,9, -999.000,9, -999.000,9,-999.0000,9,  -999.00,9,   -999.0,9,  -999.00,9,-999.000,9,   -999.0,9,   -999.0,9,  -999.0,-999.0000,-999.000,-999.000,  -999.0,-999.000
   3220CGC92_2,   P13,    61,  1,    119,   1025,2,19921002,1332, 19.5382, 165.0368, -999,   7985,    792.0,   4.9078,  34.3962,2,  34.4113,2,     50.9,2,  4.8437,     51.0,2,    94.90,2,    38.26,2,     0.00,2,     2.81,2,    0.008,6,    0.007,6, -999.000,9, -999.000,9, -999.000,9,-999.0000,9,  -999.00,9,   -999.0,9,  -999.00,9,-999.000,9,   -999.0,9,   -999.0,9,  -999.0,-999.0000,-999.000,-999.000,  -999.0,-999.000
   3220CGC92_2,   P13,    61,  1,    118,   1118,2,19921002,1332, 19.5382, 165.0368, -999,   8987,    892.0,   4.4779,  34.4610,2,  34.4659,6,     57.6,2,  4.4079,     57.7,2,   102.08,2,    38.50,2,     0.00,2,     2.81,2,    0.004,2,    0.007,2, -999.000,9, -999.000,9, -999.000,9,-999.0000,9,  -999.00,9,   -999.0,9,  -999.00,9,-999.000,9,   -999.0,9,   -999.0,9,  -999.0,-999.0000,-999.000,-999.000,  -999.0,-999.000
   3220CGC92_2,   P13,    61,  1,    117,   1005,2,19921002,1332, 19.5382, 165.0368, -999,   9999,    993.0,   4.1060,  34.4988,2,  34.4964,2,     66.9,2,  4.0301,     68.0,2,   108.87,2,    38.16,2,     0.00,2,     2.79,2,    0.013,2,    0.005,2, -999.000,9, -999.000,9, -999.000,9,-999.0000,9,  -999.00,9,   -999.0,9,  -999.00,9,-999.000,9,   -999.0,9,   -999.0,9,  -999.0,-999.0000,-999.000,-999.000,  -999.0,-999.000
   3220CGC92_2,   P13,    61,  1,    116,   1104,2,19921002,1332, 19.5382, 165.0368, -999,  10978,   1091.0,   3.7421,  34.5210,2,  34.5181,2,     70.8,2,  3.6609,     71.8,2,   116.19,2,    38.07,2,     0.00,2,     2.76,2,    0.000,2,    0.000,2, -999.000,9, -999.000,9, -999.000,9,-999.0000,9,  -999.00,9,   -999.0,9,  -999.00,9,-999.000,9,   -999.0,9,   -999.0,9,  -999.0,-999.0000,-999.000,-999.000,  -999.0,-999.000
   3220CGC92_2,   P13,    61,  1,    115,   1020,2,19921002,1332, 19.5382, 165.0368, -999,  11986,   1192.0,   3.4912,  34.5392,2,  34.5392,2,     77.2,2,  3.4038,     76.1,2,   121.75,2,    37.92,2,     0.00,2,     2.74,2,    0.010,2,    0.006,2, -999.000,9, -999.000,9, -999.000,9,-999.0000,9,  -999.00,9,   -999.0,9,  -999.00,9,-999.000,9,   -999.0,9,   -999.0,9,  -999.0,-999.0000,-999.000,-999.000,  -999.0,-999.000
   3220CGC92_2,   P13,    61,  1,    114,   1012,2,19921002,1332, 19.5382, 165.0368, -999,  14001,   1393.0,   3.0143,  34.5626,2,  34.5620,2,     80.4,2,  2.9151,     81.6,2,   132.25,2,    38.01,2,     0.00,2,     2.74,2,    0.002,2,    0.007,2, -999.000,9, -999.000,9, -999.000,9,-999.0000,9,  -999.00,9,   -999.0,9,  -999.00,9,-999.000,9,   -999.0,9,   -999.0,9,  -999.0,-999.0000,-999.000,-999.000,  -999.0,-999.000
   3220CGC92_2,   P13,    61,  1,    113,   1229,2,19921002,1332, 19.5382, 165.0368, -999,  16016,   1595.0,   2.5804,  34.5854,2,  34.5866,2,     87.8,2,  2.4696,     88.5,6,   140.84,2,    37.74,2,     0.00,2,     2.64,2, -999.000,9, -999.000,9, -999.000,9, -999.000,9, -999.000,9,-999.0000,9,  -999.00,9,   -999.0,9,  -999.00,9,-999.000,9,   -999.0,9,   -999.0,9,  -999.0,-999.0000,-999.000,-999.000,  -999.0,-999.000
   3220CGC92_2,   P13,    61,  1,    112,   1219,2,19921002,1332, 19.5382, 165.0368, -999,  17988,   1792.0,   2.2954,  34.6034,2,  34.6072,2,   -999.0,9,  2.1721,     97.0,2,   146.94,2,    37.57,2,     0.00,2,     2.66,2,   -0.002,2,   -0.002,2, -999.000,9, -999.000,9, -999.000,9,-999.0000,9,  -999.00,9,   -999.0,9,  -999.00,9,-999.000,9,   -999.0,9,   -999.0,9,  -999.0,-999.0000,-999.000,-999.000,  -999.0,-999.000
   3220CGC92_2,   P13,    61,  1,    111,   1112,2,19921002,1332, 19.5382, 165.0368, -999,  19948,   1988.0,   2.0675,  34.6220,2,  34.6239,2,    102.2,2,  1.9311,    104.4,2,   150.14,2,    37.56,2,     0.00,2,     2.71,2, -999.000,9, -999.000,9, -999.000,9, -999.000,9, -999.000,9,-999.0000,9,  -999.00,9,   -999.0,9,  -999.00,9,-999.000,9,   -999.0,9,   -999.0,9,  -999.0,-999.0000,-999.000,-999.000,  -999.0,-999.000
   3220CGC92_2,   P13,    61,  1,    110,   1029,2,19921002,1332, 19.5382, 165.0368, -999,  21977,   2191.0,   1.8985,  34.6366,2,  34.6369,2,   -999.0,9,  1.7475,    111.7,2,   153.54,2,    36.84,2,     0.00,2,     2.63,2,   -0.002,2,    0.014,2, -999.000,9, -999.000,9, -999.000,9,-999.0000,9,  -999.00,9,   -999.0,9,  -999.00,9,-999.000,9,   -999.0,9,   -999.0,9,  -999.0,-999.0000,-999.000,-999.000,  -999.0,-999.000
   3220CGC92_2,   P13,    61,  1,    109,   1023,2,19921002,1332, 19.5382, 165.0368, -999,  25035,   2498.0,   1.7266,  34.6526,2,  34.6510,2,    119.2,2,  1.5515,    120.0,2,   154.29,2,    36.63,2,     0.00,2,     2.60,2, -999.000,9, -999.000,9, -999.000,9, -999.000,9, -999.000,9,-999.0000,9,  -999.00,9,   -999.0,9,  -999.00,9,-999.000,9,   -999.0,9,   -999.0,9,  -999.0,-999.0000,-999.000,-999.000,  -999.0,-999.000
   3220CGC92_2,   P13,    61,  1,    108,   1032,2,19921002,1332, 19.5382, 165.0368, -999,  28001,   2795.0,   1.6446,  34.6629,2,  34.6605,2,   -999.0,9,  1.4440,    127.7,2,   154.24,2,    36.75,2,     0.00,2,     2.60,2,    0.001,2,    0.003,2, -999.000,9, -999.000,9, -999.000,9,-999.0000,9,  -999.00,9,   -999.0,9,  -999.00,9,-999.000,9,   -999.0,9,   -999.0,9,  -999.0,-999.0000,-999.000,-999.000,  -999.0,-999.000
   3220CGC92_2,   P13,    61,  1,    107,   1037,2,19921002,1332, 19.5382, 165.0368, -999,  30988,   3095.0,   1.5736,  34.6704,2,  34.6682,2,    133.7,2,  1.3460,    134.7,2,   153.66,2,    35.92,2,     0.00,2,     2.54,2, -999.000,9, -999.000,9, -999.000,9, -999.000,9, -999.000,9,-999.0000,9,  -999.00,9,   -999.0,9,  -999.00,9,-999.000,9,   -999.0,9,   -999.0,9,  -999.0,-999.0000,-999.000,-999.000,  -999.0,-999.000
   3220CGC92_2,   P13,    61,  1,    106,   1022,2,19921002,1332, 19.5382, 165.0368, -999,  33994,   3396.0,   1.5236,  34.6767,2,  34.6742,2,   -999.0,9,  1.2674,    141.4,2,   152.56,2,    35.28,2,     0.00,2,     2.51,2,    0.057,4,    0.013,2, -999.000,9, -999.000,9, -999.000,9,-999.0000,9,  -999.00,9,   -999.0,9,  -999.00,9,-999.000,9,   -999.0,9,   -999.0,9,  -999.0,-999.0000,-999.000,-999.000,  -999.0,-999.000
   3220CGC92_2,   P13,    61,  1,    105,   1221,2,19921002,1332, 19.5382, 165.0368, -999,  36976,   3695.0,   1.4926,  34.6802,2,  34.6780,2,   -999.0,9,  1.2065,    147.8,2,   150.72,2,    35.10,2,     0.00,2,     2.49,2, -999.000,9, -999.000,9, -999.000,9, -999.000,9, -999.000,9,-999.0000,9,  -999.00,9,   -999.0,9,  -999.00,9,-999.000,9,   -999.0,9,   -999.0,9,  -999.0,-999.0000,-999.000,-999.000,  -999.0,-999.000
   3220CGC92_2,   P13,    61,  1,    104,   1038,2,19921002,1332, 19.5382, 165.0368, -999,  39988,   3997.0,   1.4576,  34.6848,2,  34.6845,2,   -999.0,9,  1.1402,    154.6,2,   147.92,2,    34.72,2,     0.00,2,     2.41,2,    0.000,2,    0.011,2, -999.000,9, -999.000,9, -999.000,9,-999.0000,9,  -999.00,9,   -999.0,9,  -999.00,9,-999.000,9,   -999.0,9,   -999.0,9,  -999.0,-999.0000,-999.000,-999.000,  -999.0,-999.000
   3220CGC92_2,   P13,    61,  1,    103,   1033,2,19921002,1332, 19.5382, 165.0368, -999,  42992,   4298.0,   1.4347,  34.6900,2,  34.6875,2,    160.1,2,  1.0846,    160.8,2,   145.73,2,    34.88,2,     0.00,2,     2.41,2, -999.000,9, -999.000,9, -999.000,9, -999.000,9, -999.000,9,-999.0000,9,  -999.00,9,   -999.0,9,  -999.00,9,-999.000,9,   -999.0,9,   -999.0,9,  -999.0,-999.0000,-999.000,-999.000,  -999.0,-999.000
   3220CGC92_2,   P13,    61,  1,    102,   1234,2,19921002,1332, 19.5382, 165.0368, -999,  44009,   4400.0,   1.4297,  34.6901,2,  34.6888,2,   -999.0,9,  1.0682,    163.9,2,   143.57,2,    34.33,2,     0.00,2,     2.37,2,    0.003,2,   -0.009,2, -999.000,9, -999.000,9, -999.000,9,-999.0000,9,  -999.00,9,   -999.0,9,  -999.00,9,-999.000,9,   -999.0,9,   -999.0,9,  -999.0,-999.0000,-999.000,-999.000,  -999.0,-999.000
   3220CGC92_2,   P13,    61,  1,    101,   1238,2,19921002,1332, 19.5382, 165.0368, -999,  45397,   4539.0,   1.4167,  34.6938,2,  34.6924,6,    167.5,2,  1.0397,    168.2,2,   141.71,2,    34.69,2,     0.00,2,     2.40,2, -999.000,9, -999.000,9, -999.000,9, -999.000,9, -999.000,9,-999.0000,9,  -999.00,9,   -999.0,9,  -999.00,9,-999.000,9,   -999.0,9,   -999.0,9,  -999.0,-999.0000,-999.000,-999.000,  -999.0,-999.000