BOTTLE,20221003CCHSIOAMB
EXPOCODE,SECT_ID,STNNBR,CASTNO,SAMPNO,BTLNBR,BTLNBR_FLAG_W,DATE,TIME,LATITUDE,LONGITUDE,DEPTH,CTDRAW,CTDPRS,CTDTMP,CTDSAL,CTDSAL_FLAG_W,SALNTY,SALNTY_FLAG_W,CTDOXY,CTDOXY_FLAG_W,THETA,OXYGEN,OXYGEN_FLAG_W,SILCAT,SILCAT_FLAG_W,NITRAT,NITRAT_FLAG_W,NITRIT,NITRIT_FLAG_W,PHSPHT,PHSPHT_FLAG_W,CFC-11,CFC-11_FLAG_W,CFC-12,CFC-12_FLAG_W,CFC113,CFC113_FLAG_W,CCL4,CCL4_FLAG_W,TRITUM,TRITUM_FLAG_W,HELIUM,HELIUM_FLAG_W,DELHE3,DELHE3_FLAG_W,DELC14,DELC14_FLAG_W,DELC13,DELC13_FLAG_W,NEON,NEON_FLAG_W,TCARBN,TCARBN_FLAG_W,ALKALI,ALKALI_FLAG_W,C14ERR,HELIER,DELHER,NEONER,C13ERR,TRITER
,,,,,,,,,,,,DBAR,DBAR,ITS-90,PSS-78,,PSS-78,,UMOL/KG,,DEG C,UMOL/KG,,UMOL/KG,,UMOL/KG,,UMOL/KG,,UMOL/KG,,PMOL/KG,,PMOL/KG,,PMOL/KG,,PMOL/KG,,TU,,NMOL/KG,,PERCNT,,/MILLE,,/MILLE,,NMOL/KG,,UMOL/KG,,UMOL/KG,,/MILLE,NMOL/KG,PERCNT,NMOL/KG,/MILLE,TU
   3220CGC92_2,   P13,    58,  1,    134,   1030,2,19921001,0742, 20.6647, 164.9872, 5502,    505,     47.0,  26.7886,  35.2771,2,  35.1013,2,    205.8,2, 26.7778,    203.7,2,     0.55,2,     0.00,2,     0.00,2,     0.16,2, -999.000,9, -999.000,9, -999.000,9, -999.000,9, -999.000,9,-999.0000,9,  -999.00,9,   -999.0,9,  -999.00,9,-999.000,9,   -999.0,9,   -999.0,9,  -999.0,-999.0000,-999.000,-999.000,  -999.0,-999.000
   3220CGC92_2,   P13,    58,  1,    133,   1231,2,19921001,0742, 20.6647, 164.9872, 5502,    748,     71.0,  23.9113,  35.2493,2,  35.2633,2,    223.8,2, 23.8963,    220.2,2,     1.16,2,     0.00,2,     0.00,2,     0.16,2,    2.025,2,    1.195,3, -999.000,9, -999.000,9, -999.000,9,-999.0000,9,  -999.00,9,   -999.0,9,  -999.00,9,-999.000,9,   -999.0,9,   -999.0,9,  -999.0,-999.0000,-999.000,-999.000,  -999.0,-999.000
   3220CGC92_2,   P13,    58,  1,    132,   1109,2,19921001,0742, 20.6647, 164.9872, 5502,   1024,     99.0,  21.9017,  35.1941,2,  35.2101,2,    206.2,2, 21.8822,    208.0,2,     1.40,2,     0.00,2,     0.00,2,     0.17,2, -999.000,9, -999.000,9, -999.000,9, -999.000,9, -999.000,9,-999.0000,9,  -999.00,9,   -999.0,9,  -999.00,9,-999.000,9,   -999.0,9,   -999.0,9,  -999.0,-999.0000,-999.000,-999.000,  -999.0,-999.000
   3220CGC92_2,   P13,    58,  1,    131,   1031,2,19921001,0742, 20.6647, 164.9872, 5502,   1238,    120.0,  20.9240,  35.1451,2,  35.1426,2,    183.1,2, 20.9011,    186.5,2,     1.99,2,     0.03,2,     0.00,2,     0.25,2, -999.000,9, -999.000,9, -999.000,9, -999.000,9, -999.000,9,-999.0000,9,  -999.00,9,   -999.0,9,  -999.00,9,-999.000,9,   -999.0,9,   -999.0,9,  -999.0,-999.0000,-999.000,-999.000,  -999.0,-999.000
   3220CGC92_2,   P13,    58,  1,    130,   1041,2,19921001,0742, 20.6647, 164.9872, 5502,   1412,    137.0,  20.1342,  35.1078,2,  35.0801,2,    190.1,2, 20.1087,    196.8,2,     2.33,2,     0.02,2,     0.00,2,     0.23,2, -999.000,5, -999.000,5, -999.000,9, -999.000,9, -999.000,9,-999.0000,9,  -999.00,9,   -999.0,9,  -999.00,9,-999.000,9,   -999.0,9,   -999.0,9,  -999.0,-999.0000,-999.000,-999.000,  -999.0,-999.000
   3220CGC92_2,   P13,    58,  1,    129,   1004,2,19921001,0742, 20.6647, 164.9872, 5502,   1730,    169.0,  18.5975,  34.9604,2,  34.9703,2,    186.9,2, 18.5679,    192.5,6,     3.09,2,     1.12,2,     0.00,2,     0.26,2, -999.000,9, -999.000,9, -999.000,9, -999.000,9, -999.000,9,-999.0000,9,  -999.00,9,   -999.0,9,  -999.00,9,-999.000,9,   -999.0,9,   -999.0,9,  -999.0,-999.0000,-999.000,-999.000,  -999.0,-999.000
   3220CGC92_2,   P13,    58,  1,    128,   1016,2,19921001,0742, 20.6647, 164.9872, 5502,   1993,    195.0,  17.6828,  34.8635,2,  34.8678,2,    191.2,2, 17.6497,    196.0,2,     3.72,2,     2.76,2,     0.00,2,     0.34,2, -999.000,9, -999.000,9, -999.000,9, -999.000,9, -999.000,9,-999.0000,9,  -999.00,9,   -999.0,9,  -999.00,9,-999.000,9,   -999.0,9,   -999.0,9,  -999.0,-999.0000,-999.000,-999.000,  -999.0,-999.000
   3220CGC92_2,   P13,    58,  1,    127,   1028,2,19921001,0742, 20.6647, 164.9872, 5502,   2494,    245.0,  15.7562,  34.6719,2,  34.7086,2,    191.8,2, 15.7179,    196.9,2,     5.81,2,     5.36,2,     0.00,2,     0.44,2,    2.382,2,    1.329,2, -999.000,9, -999.000,9, -999.000,9,-999.0000,9,  -999.00,9,   -999.0,9,  -999.00,9,-999.000,9,   -999.0,9,   -999.0,9,  -999.0,-999.0000,-999.000,-999.000,  -999.0,-999.000
   3220CGC92_2,   P13,    58,  1,    126,   1110,2,19921001,0742, 20.6647, 164.9872, 5502,   3002,    296.0,  13.5288,  34.4686,2,  34.5448,2,    193.8,2, 13.4870,    195.1,2,     9.31,2,     8.11,2,     0.00,2,     0.53,2, -999.000,9, -999.000,9, -999.000,9, -999.000,9, -999.000,9,-999.0000,9,  -999.00,9,   -999.0,9,  -999.00,9,-999.000,9,   -999.0,9,   -999.0,9,  -999.0,-999.0000,-999.000,-999.000,  -999.0,-999.000
   3220CGC92_2,   P13,    58,  1,    125,   1035,2,19921001,0742, 20.6647, 164.9872, 5502,   3506,    346.0,  11.9311,  34.3399,2,  34.3821,2,    188.9,2, 11.8862,    189.9,2,    13.69,2,    11.66,2,     0.00,2,     0.86,2, -999.000,9, -999.000,9, -999.000,9, -999.000,9, -999.000,9,-999.0000,9,  -999.00,9,   -999.0,9,  -999.00,9,-999.000,9,   -999.0,9,   -999.0,9,  -999.0,-999.0000,-999.000,-999.000,  -999.0,-999.000
   3220CGC92_2,   P13,    58,  1,    124,   1026,2,19921001,0742, 20.6647, 164.9872, 5502,   4002,    395.0,  10.8814,  34.2618,2,  34.2677,2,    188.4,2, 10.8330,    190.1,2,    19.15,2,    14.10,2,     0.00,2,     1.01,2,    2.026,2,    1.105,2, -999.000,9, -999.000,9, -999.000,9,-999.0000,9,  -999.00,9,   -999.0,9,  -999.00,9,-999.000,9,   -999.0,9,   -999.0,9,  -999.0,-999.0000,-999.000,-999.000,  -999.0,-999.000
   3220CGC92_2,   P13,    58,  1,    123,   1014,2,19921001,0742, 20.6647, 164.9872, 5502,   5018,    496.0,   8.0301,  34.1206,2,  34.1116,2,    140.3,2,  7.9794,    137.8,2,    41.83,2,    25.84,2,     0.00,2,     1.48,3, -999.000,9, -999.000,9, -999.000,9, -999.000,9, -999.000,9,-999.0000,9,  -999.00,9,   -999.0,9,  -999.00,9,-999.000,9,   -999.0,9,   -999.0,9,  -999.0,-999.0000,-999.000,-999.000,  -999.0,-999.000
   3220CGC92_2,   P13,    58,  1,    122,   1015,2,19921001,0742, 20.6647, 164.9872, 5502,   5990,    593.0,   6.0595,  34.1576,2,  34.1404,2,     92.1,2,  6.0074,     82.2,2,    66.51,2,    33.28,2,     0.00,2,     2.11,3, -999.000,9, -999.000,9, -999.000,9, -999.000,9, -999.000,9,-999.0000,9,  -999.00,9,   -999.0,9,  -999.00,9,-999.000,9,   -999.0,9,   -999.0,9,  -999.0,-999.0000,-999.000,-999.000,  -999.0,-999.000
   3220CGC92_2,   P13,    58,  1,    121,   1235,2,19921001,0742, 20.6647, 164.9872, 5502,   7017,    696.0,   5.2907,  34.2572,2,  34.2417,2,     57.2,2,  5.2330,     53.5,2,    83.45,2,    36.11,2,     0.00,2,     2.98,3,    0.094,2,    0.061,2, -999.000,9, -999.000,9, -999.000,9,-999.0000,9,  -999.00,9,   -999.0,9,  -999.00,9,-999.000,9,   -999.0,9,   -999.0,9,  -999.0,-999.0000,-999.000,-999.000,  -999.0,-999.000
   3220CGC92_2,   P13,    58,  1,    120,   1237,2,19921001,0742, 20.6647, 164.9872, 5502,   7993,    793.0,   4.8338,  34.3494,2,  34.3384,2,     49.9,2,  4.7702,     47.7,2,    93.93,2,    38.15,2,     0.00,2,     2.61,2, -999.000,9, -999.000,9, -999.000,9, -999.000,9, -999.000,9,-999.0000,9,  -999.00,9,   -999.0,9,  -999.00,9,-999.000,9,   -999.0,9,   -999.0,9,  -999.0,-999.0000,-999.000,-999.000,  -999.0,-999.000
   3220CGC92_2,   P13,    58,  1,    119,   1025,2,19921001,0742, 20.6647, 164.9872, 5502,   9004,    894.0,   4.4079,  34.4229,2,  34.4278,2,     53.8,2,  4.3383,     53.2,2,   104.67,2,    39.39,2,     0.00,2,     2.98,3, -999.000,9, -999.000,9, -999.000,9, -999.000,9, -999.000,9,-999.0000,9,  -999.00,9,   -999.0,9,  -999.00,9,-999.000,9,   -999.0,9,   -999.0,9,  -999.0,-999.0000,-999.000,-999.000,  -999.0,-999.000
   3220CGC92_2,   P13,    58,  1,    118,   1118,2,19921001,0742, 20.6647, 164.9872, 5502,  10007,    994.0,   4.1030,  34.4874,2,  34.4871,6,     66.5,2,  4.0271,     65.9,6,   109.98,2,    38.42,2,     0.00,2,     2.68,2,    0.031,2,    0.090,4, -999.000,9, -999.000,9, -999.000,9,-999.0000,9,  -999.00,9,   -999.0,9,  -999.00,9,-999.000,9,   -999.0,9,   -999.0,9,  -999.0,-999.0000,-999.000,-999.000,  -999.0,-999.000
   3220CGC92_2,   P13,    58,  1,    117,   1005,2,19921001,0742, 20.6647, 164.9872, 5502,  12035,   1197.0,   3.3402,  34.5317,2,  34.5301,2,     72.1,2,  3.2539,     72.1,2,   123.56,2,    38.32,2,     0.00,2,     2.90,2, -999.000,9, -999.000,9, -999.000,9, -999.000,9, -999.000,9,-999.0000,9,  -999.00,9,   -999.0,9,  -999.00,9,-999.000,9,   -999.0,9,   -999.0,9,  -999.0,-999.0000,-999.000,-999.000,  -999.0,-999.000
   3220CGC92_2,   P13,    58,  1,    116,   1104,2,19921001,0742, 20.6647, 164.9872, 5502,  13986,   1392.0,   2.8973,  34.5577,2,  34.5593,2,     79.7,2,  2.7995,     79.8,2,   131.57,2,    37.70,2,     0.00,2,     2.98,3, -999.000,9, -999.000,9, -999.000,9, -999.000,9, -999.000,9,-999.0000,9,  -999.00,9,   -999.0,9,  -999.00,9,-999.000,9,   -999.0,9,   -999.0,9,  -999.0,-999.0000,-999.000,-999.000,  -999.0,-999.000
   3220CGC92_2,   P13,    58,  1,    115,   1020,2,19921001,0742, 20.6647, 164.9872, 5502,  15999,   1593.0,   2.5054,  34.5821,2,  34.5821,2,     83.6,2,  2.3957,     86.2,2,   140.17,2,    38.67,2,     0.00,2,     2.98,3,    0.013,2,   -0.009,2, -999.000,9, -999.000,9, -999.000,9,-999.0000,9,  -999.00,9,   -999.0,9,  -999.00,9,-999.000,9,   -999.0,9,   -999.0,9,  -999.0,-999.0000,-999.000,-999.000,  -999.0,-999.000
   3220CGC92_2,   P13,    58,  1,    114,   1012,2,19921001,0742, 20.6647, 164.9872, 5502,  17995,   1793.0,   2.2185,  34.6030,2,  34.6048,2,   -999.0,9,  2.0961,     94.4,2,   145.54,2,    38.21,2,     0.00,2,     2.94,3, -999.000,9, -999.000,9, -999.000,9, -999.000,9, -999.000,9,-999.0000,9,  -999.00,9,   -999.0,9,  -999.00,9,-999.000,9,   -999.0,9,   -999.0,9,  -999.0,-999.0000,-999.000,-999.000,  -999.0,-999.000
   3220CGC92_2,   P13,    58,  1,    113,   1229,2,19921001,0742, 20.6647, 164.9872, 5502,  20990,   2093.0,   1.9515,  34.6279,2,  34.6275,2,   -999.0,9,  1.8080,    105.7,2,   150.87,2,    36.96,2,     0.00,2,     2.82,3, -999.000,9, -999.000,9, -999.000,9, -999.000,9, -999.000,9,-999.0000,9,  -999.00,9,   -999.0,9,  -999.00,9,-999.000,9,   -999.0,9,   -999.0,9,  -999.0,-999.0000,-999.000,-999.000,  -999.0,-999.000
   3220CGC92_2,   P13,    58,  1,    112,   1219,2,19921001,0742, 20.6647, 164.9872, 5502,  24005,   2395.0,   1.8056,  34.6422,2,  34.6473,2,   -999.0,9,  1.6383,    115.9,2,   153.28,2,    35.87,3,     0.00,2,     2.71,2,   -0.002,2,   -0.009,2, -999.000,9, -999.000,9, -999.000,9,-999.0000,9,  -999.00,9,   -999.0,9,  -999.00,9,-999.000,9,   -999.0,9,   -999.0,9,  -999.0,-999.0000,-999.000,-999.000,  -999.0,-999.000
   3220CGC92_2,   P13,    58,  1,    111,   1112,2,19921001,0742, 20.6647, 164.9872, 5502,  26987,   2694.0,   1.6796,  34.6556,2,  34.6605,2,   -999.0,9,  1.4877,    124.4,2,   154.64,2,    36.52,2,     0.00,2,     2.80,3, -999.000,9, -999.000,9, -999.000,9, -999.000,9, -999.000,9,-999.0000,9,  -999.00,9,   -999.0,9,  -999.00,9,-999.000,9,   -999.0,9,   -999.0,9,  -999.0,-999.0000,-999.000,-999.000,  -999.0,-999.000
   3220CGC92_2,   P13,    58,  1,    110,   1029,2,19921001,0742, 20.6647, 164.9872, 5502,  29983,   2994.0,   1.6166,  34.6635,2,  34.6663,2,   -999.0,9,  1.3978,    130.2,2,   154.13,2,    36.39,2,     0.00,2,     2.71,2, -999.000,9, -999.000,9, -999.000,9, -999.000,9, -999.000,9,-999.0000,9,  -999.00,9,   -999.0,9,  -999.00,9,-999.000,9,   -999.0,9,   -999.0,9,  -999.0,-999.0000,-999.000,-999.000,  -999.0,-999.000
   3220CGC92_2,   P13,    58,  1,    109,   1023,2,19921001,0742, 20.6647, 164.9872, 5502,  32993,   3296.0,   1.5696,  34.6688,2,  34.6713,2,   -999.0,9,  1.3224,    137.1,2,   153.14,2,    36.19,2,     0.00,2,     2.63,2,   -0.008,2,    0.009,2, -999.000,9, -999.000,9, -999.000,9,-999.0000,9,  -999.00,9,   -999.0,9,  -999.00,9,-999.000,9,   -999.0,9,   -999.0,9,  -999.0,-999.0000,-999.000,-999.000,  -999.0,-999.000
   3220CGC92_2,   P13,    58,  1,    108,   1032,2,19921001,0742, 20.6647, 164.9872, 5502,  35985,   3596.0,   1.5106,  34.6748,2,  34.6769,2,   -999.0,9,  1.2343,    144.4,2,   151.75,2,    36.10,2,     0.00,2,     2.78,3, -999.000,9, -999.000,9, -999.000,9, -999.000,9, -999.000,9,-999.0000,9,  -999.00,9,   -999.0,9,  -999.00,9,-999.000,9,   -999.0,9,   -999.0,9,  -999.0,-999.0000,-999.000,-999.000,  -999.0,-999.000
   3220CGC92_2,   P13,    58,  1,    107,   1037,2,19921001,0742, 20.6647, 164.9872, 5502,  39003,   3898.0,   1.4776,  34.6800,2,  34.6820,2,   -999.0,9,  1.1704,    149.5,2,   149.72,2,    35.48,2,     0.00,2,     2.66,3, -999.000,9, -999.000,9, -999.000,9, -999.000,9, -999.000,9,-999.0000,9,  -999.00,9,   -999.0,9,  -999.00,9,-999.000,9,   -999.0,9,   -999.0,9,  -999.0,-999.0000,-999.000,-999.000,  -999.0,-999.000
   3220CGC92_2,   P13,    58,  1,    106,   1022,2,19921001,0742, 20.6647, 164.9872, 5502,  41994,   4198.0,   1.4537,  34.6845,2,  34.6870,2,   -999.0,9,  1.1142,    155.5,2,   147.14,2,    34.39,2,     0.00,2,     2.51,2,    0.000,2,   -0.009,2, -999.000,9, -999.000,9, -999.000,9,-999.0000,9,  -999.00,9,   -999.0,9,  -999.00,9,-999.000,9,   -999.0,9,   -999.0,9,  -999.0,-999.0000,-999.000,-999.000,  -999.0,-999.000
   3220CGC92_2,   P13,    58,  1,    105,   1221,2,19921001,0742, 20.6647, 164.9872, 5502,  44997,   4499.0,   1.4457,  34.6880,2,  34.6916,2,   -999.0,9,  1.0724,    161.2,2,   143.41,2,    34.63,2,     0.00,2,     2.35,2, -999.000,9, -999.000,9, -999.000,9, -999.000,9, -999.000,9,-999.0000,9,  -999.00,9,   -999.0,9,  -999.00,9,-999.000,9,   -999.0,9,   -999.0,9,  -999.0,-999.0000,-999.000,-999.000,  -999.0,-999.000
   3220CGC92_2,   P13,    58,  1,    104,   1038,2,19921001,0742, 20.6647, 164.9872, 5502,  47992,   4799.0,   1.4497,  34.6920,2,  34.6936,2,   -999.0,9,  1.0412,    167.6,2,   140.46,2,    34.45,2,     0.00,2,     2.58,3, -999.000,9, -999.000,9, -999.000,9, -999.000,9, -999.000,9,-999.0000,9,  -999.00,9,   -999.0,9,  -999.00,9,-999.000,9,   -999.0,9,   -999.0,9,  -999.0,-999.0000,-999.000,-999.000,  -999.0,-999.000
   3220CGC92_2,   P13,    58,  1,    103,   1033,2,19921001,0742, 20.6647, 164.9872, 5502,  50991,   5099.0,   1.4567,  34.6934,2,  34.6938,2,   -999.0,9,  1.0117,    171.7,2,   138.28,2,    33.22,3,     0.00,2,     2.23,3,    0.007,2,    0.004,2, -999.000,9, -999.000,9, -999.000,9,-999.0000,9,  -999.00,9,   -999.0,9,  -999.00,9,-999.000,9,   -999.0,9,   -999.0,9,  -999.0,-999.0000,-999.000,-999.000,  -999.0,-999.000
   3220CGC92_2,   P13,    58,  1,    102,   1234,2,19921001,0742, 20.6647, 164.9872, 5502,  53996,   5399.0,   1.4606,  34.6947,2,  34.6950,2,    179.5,2,  0.9782,    175.5,2,   136.04,2,    32.48,3,     0.00,2,     2.29,2, -999.000,9, -999.000,9, -999.000,9, -999.000,9, -999.000,9,-999.0000,9,  -999.00,9,   -999.0,9,  -999.00,9,-999.000,9,   -999.0,9,   -999.0,9,  -999.0,-999.0000,-999.000,-999.000,  -999.0,-999.000
   3220CGC92_2,   P13,    58,  1,    101,   1238,2,19921001,0742, 20.6647, 164.9872, 5502,  56315,   5630.0,   1.4806,  34.6963,2,  34.6977,6,    182.2,2,  0.9679,    176.9,2,   135.21,2,    33.55,2,     0.00,2,     2.20,3, -999.000,9, -999.000,9, -999.000,9, -999.000,9, -999.000,9,-999.0000,9,  -999.00,9,   -999.0,9,  -999.00,9,-999.000,9,   -999.0,9,   -999.0,9,  -999.0,-999.0000,-999.000,-999.000,  -999.0,-999.000