BOTTLE,20221003CCHSIOAMB
EXPOCODE,SECT_ID,STNNBR,CASTNO,SAMPNO,BTLNBR,BTLNBR_FLAG_W,DATE,TIME,LATITUDE,LONGITUDE,DEPTH,CTDRAW,CTDPRS,CTDTMP,CTDSAL,CTDSAL_FLAG_W,SALNTY,SALNTY_FLAG_W,CTDOXY,CTDOXY_FLAG_W,THETA,OXYGEN,OXYGEN_FLAG_W,SILCAT,SILCAT_FLAG_W,NITRAT,NITRAT_FLAG_W,NITRIT,NITRIT_FLAG_W,PHSPHT,PHSPHT_FLAG_W,CFC-11,CFC-11_FLAG_W,CFC-12,CFC-12_FLAG_W,CFC113,CFC113_FLAG_W,CCL4,CCL4_FLAG_W,TRITUM,TRITUM_FLAG_W,HELIUM,HELIUM_FLAG_W,DELHE3,DELHE3_FLAG_W,DELC14,DELC14_FLAG_W,DELC13,DELC13_FLAG_W,NEON,NEON_FLAG_W,TCARBN,TCARBN_FLAG_W,ALKALI,ALKALI_FLAG_W,C14ERR,HELIER,DELHER,NEONER,C13ERR,TRITER
,,,,,,,,,,,,DBAR,DBAR,ITS-90,PSS-78,,PSS-78,,UMOL/KG,,DEG C,UMOL/KG,,UMOL/KG,,UMOL/KG,,UMOL/KG,,UMOL/KG,,PMOL/KG,,PMOL/KG,,PMOL/KG,,PMOL/KG,,TU,,NMOL/KG,,PERCNT,,/MILLE,,/MILLE,,NMOL/KG,,UMOL/KG,,UMOL/KG,,/MILLE,NMOL/KG,PERCNT,NMOL/KG,/MILLE,TU
   3220CGC92_1,   P13,    47,  1,    135,   1013,2,19920905,2136, 36.0127, 165.0083, 5330,    106,      7.0,  23.1854,  34.2706,2,  34.2779,2,   -999.0,9, 23.1840,    220.6,2,     2.01,2,     0.00,2,     0.00,2,     0.00,2,    2.187,2,    1.167,2,    0.282,2,    3.013,2, -999.000,9,-999.0000,9,  -999.00,9,     98.8,2,     1.37,2,-999.000,9,   -999.0,9,   -999.0,9,     3.3,-999.0000,-999.000,-999.000,  -999.0,-999.000
   3220CGC92_1,   P13,    47,  1,    136,   1106,2,19920905,2136, 36.0127, 165.0083, 5330,    106,      7.0,  23.1854,  34.2706,2,  34.2829,2,   -999.0,9, 23.1840,   -999.0,9,  -999.00,5,  -999.00,9,  -999.00,9,  -999.00,5, -999.000,9, -999.000,9, -999.000,9, -999.000,9, -999.000,9,-999.0000,9,  -999.00,9,   -999.0,9,  -999.00,9,-999.000,9,   1968.7,6,   2259.4,6,  -999.0,-999.0000,-999.000,-999.000,  -999.0,-999.000
   3220CGC92_1,   P13,    47,  1,    134,   1030,2,19920905,2136, 36.0127, 165.0083, 5330,    232,     20.0,  20.9660,  34.0973,2,  34.1374,2,    242.3,2, 20.9622,    230.9,2,     2.33,2,     0.00,2,     0.00,2,     0.00,2,    2.390,2,    1.257,2,    0.310,2,    3.167,2, -999.000,9,-999.0000,9,  -999.00,9,     83.5,2,     1.49,2,-999.000,9,   1966.7,2,   2253.4,2,     3.2,-999.0000,-999.000,-999.000,  -999.0,-999.000
   3220CGC92_1,   P13,    47,  1,    133,   1231,2,19920905,2136, 36.0127, 165.0083, 5330,    483,     45.0,  14.7115,  34.5348,2,  34.4990,2,    273.0,2, 14.7048,    257.6,2,     3.70,2,     0.07,2,     0.00,2,     0.01,2,    2.812,2,    1.417,2,    0.365,2,    2.495,2, -999.000,9,-999.0000,9,  -999.00,9,     93.1,2,     1.26,2,-999.000,9,   1996.8,2,   2275.4,2,     3.6,-999.0000,-999.000,-999.000,  -999.0,-999.000
   3220CGC92_1,   P13,    47,  1,    132,   1109,2,19920905,2136, 36.0127, 165.0083, 5330,    748,     71.0,  13.7867,  34.4989,2,  34.5137,2,    235.7,2, 13.7766,    225.4,2,     9.40,2,     5.91,2,     0.00,2,     0.38,2,    3.041,2,    1.474,2,    0.301,2,    1.624,2, -999.000,9,-999.0000,9,  -999.00,9,     80.6,2,     0.76,2,-999.000,9,   2045.7,2,   2275.6,2,     3.5,-999.0000,-999.000,-999.000,  -999.0,-999.000
   3220CGC92_1,   P13,    47,  1,    131,   1031,2,19920905,2136, 36.0127, 165.0083, 5330,   1011,     97.0,  13.0629,  34.4492,2,  34.4622,2,    232.5,2, 13.0496,    228.2,2,    11.23,2,     6.77,2,     0.00,2,     0.42,2,    2.915,2,    1.473,2, -999.000,9, -999.000,9, -999.000,9,-999.0000,9,  -999.00,9,     75.1,2,     0.77,2,-999.000,9,   2052.8,2,   2273.9,2,     3.3,-999.0000,-999.000,-999.000,  -999.0,-999.000
   3220CGC92_1,   P13,    47,  1,    130,   1041,2,19920905,2136, 36.0127, 165.0083, 5330,   1217,    118.0,  12.5590,  34.4253,2,  34.4366,2,    232.5,2, 12.5433,    230.3,2,    11.97,2,     7.73,2,     0.00,2,     0.47,2,    3.004,2,    1.504,2,    0.259,2,    1.657,2, -999.000,9,-999.0000,9,  -999.00,9,   -999.0,5,     0.72,2,-999.000,9,   2056.9,2,   2272.3,2,  -999.0,-999.0000,-999.000,-999.000,  -999.0,-999.000
   3220CGC92_1,   P13,    47,  1,    129,   1004,2,19920905,2136, 36.0127, 165.0083, 5330,   1488,    145.0,  12.2571,  34.4078,2,  34.4142,2,    228.8,2, 12.2380,    231.7,2,    12.72,2,     8.21,2,     0.09,2,     0.52,2,    2.940,6,    1.457,6,    0.268,2,    1.542,2, -999.000,9,-999.0000,9,  -999.00,9,     55.2,2,     0.68,2,-999.000,9,   2060.8,2,   2271.4,2,     3.4,-999.0000,-999.000,-999.000,  -999.0,-999.000
   3220CGC92_1,   P13,    47,  1,    127,   1117,2,19920905,2136, 36.0127, 165.0083, 5330,   1722,    168.0,  12.0451,  34.4037,2,  34.4083,2,    233.5,2, 12.0233,    240.1,3,    11.75,2,     7.86,2,     0.00,2,     0.48,2,    3.103,2,    1.581,2,    0.311,2,    1.518,2, -999.000,9,-999.0000,9,  -999.00,9,   -999.0,9,  -999.00,9,-999.000,9,   2056.5,2,   2270.5,2,  -999.0,-999.0000,-999.000,-999.000,  -999.0,-999.000
   3220CGC92_1,   P13,    47,  1,    128,   1016,4,19920905,2136, 36.0127, 165.0083, 5330,   1722,    168.0,  12.0451,  34.4037,2,-999.0000,9,    233.6,2, 12.0233,   -999.0,9,  -999.00,5,  -999.00,9,  -999.00,9,  -999.00,5, -999.000,9, -999.000,9, -999.000,9, -999.000,9, -999.000,9,-999.0000,9,  -999.00,9,   -999.0,9,  -999.00,9,-999.000,9,   -999.0,9,   -999.0,9,  -999.0,-999.0000,-999.000,-999.000,  -999.0,-999.000
   3220CGC92_1,   P13,    47,  1,    126,   1110,2,19920905,2136, 36.0127, 165.0083, 5330,   1992,    195.0,  11.7522,  34.3715,2,  34.3742,2,    234.7,2, 11.7273,    233.2,2,    14.08,2,     9.81,2,     0.00,2,     0.58,2,    2.962,2,    1.477,2, -999.000,9, -999.000,9, -999.000,9,-999.0000,9,  -999.00,9,     57.0,2,     0.67,2,-999.000,9,   2066.3,2,   2271.4,2,     3.6,-999.0000,-999.000,-999.000,  -999.0,-999.000
   3220CGC92_1,   P13,    47,  1,    125,   1035,2,19920905,2136, 36.0127, 165.0083, 5330,   2496,    245.0,  10.9934,  34.3068,2,  34.3060,2,    229.0,2, 10.9633,    228.1,2,    17.16,2,    11.81,2,     0.00,2,     0.72,2,    2.977,2,    1.471,2, -999.000,9, -999.000,9, -999.000,9,-999.0000,9,  -999.00,9,     44.6,2,     0.59,2,-999.000,9,   2079.2,2,   2271.4,2,     4.2,-999.0000,-999.000,-999.000,  -999.0,-999.000
   3220CGC92_1,   P13,    47,  1,    124,   1026,2,19920905,2136, 36.0127, 165.0083, 5330,   2997,    295.0,   9.9406,  34.2137,2,  34.2234,2,    217.6,2,  9.9067,    211.8,2,    23.31,2,    14.56,2,     0.00,2,     0.93,2,    2.817,2,    1.372,2, -999.000,9, -999.000,9, -999.000,9,-999.0000,9,  -999.00,9,     22.3,2,     0.48,2,-999.000,9,   2103.6,2,   2273.0,2,     4.9,-999.0000,-999.000,-999.000,  -999.0,-999.000
   3220CGC92_1,   P13,    47,  1,    123,   1014,2,19920905,2136, 36.0127, 165.0083, 5330,   3454,    340.0,   8.9479,  34.1324,2,  34.1458,2,    205.0,2,  8.9112,    209.9,2,    27.68,2,    16.76,2,     0.07,2,     1.10,2,    2.908,2,    1.354,2,    0.214,2,    2.225,2, -999.000,9,-999.0000,9,  -999.00,9,      7.2,2,     0.44,2,-999.000,9,   2118.2,2,   2273.1,2,     3.5,-999.0000,-999.000,-999.000,  -999.0,-999.000
   3220CGC92_1,   P13,    47,  1,    122,   1015,2,19920905,2136, 36.0127, 165.0083, 5330,   3995,    394.0,   7.8241,  34.0570,2,  34.0655,2,    199.1,2,  7.7848,    197.4,2,    36.24,2,    21.35,2,     0.00,2,     1.45,2,    2.955,3,    1.258,3,    0.185,2,    2.454,2, -999.000,9,-999.0000,9,  -999.00,9,    -15.0,2,     0.35,2,-999.000,9,   2144.1,2,   2276.7,2,     5.7,-999.0000,-999.000,-999.000,  -999.0,-999.000
   3220CGC92_1,   P13,    47,  1,    121,   1235,2,19920905,2136, 36.0127, 165.0083, 5330,   4988,    493.0,   5.8626,  33.9983,2,  34.0032,2,    155.5,2,  5.8205,    151.2,2,    58.48,2,    28.95,2,     0.00,2,     2.01,2,    1.906,2,    0.890,2,    0.170,2,    1.902,2, -999.000,9,-999.0000,9,  -999.00,9,    -61.0,2,     0.09,6,-999.000,9,   2206.2,2,   2291.1,2,     4.3,-999.0000,-999.000,-999.000,  -999.0,-999.000
   3220CGC92_1,   P13,    47,  1,    120,   1237,2,19920905,2136, 36.0127, 165.0083, 5330,   6007,    595.0,   4.5569,  34.0230,2,  34.0148,2,    113.1,2,  4.5116,    111.8,2,    79.52,2,    34.26,2,     0.00,2,     2.42,2,    4.261,4,    0.653,2, -999.000,9, -999.000,9, -999.000,9,-999.0000,9,  -999.00,9,   -101.2,2,    -0.18,2,-999.000,9,   2257.6,2,   2304.7,2,     3.8,-999.0000,-999.000,-999.000,  -999.0,-999.000
   3220CGC92_1,   P13,    47,  1,    119,   1025,2,19920905,2136, 36.0127, 165.0083, 5330,   7013,    695.0,   4.3410,  34.1448,2,  34.1264,2,     78.5,2,  4.2885,     74.8,2,    96.00,2,    37.29,2,     0.00,2,     2.63,2,    0.681,2,    0.316,6, -999.000,9, -999.000,9, -999.000,9,-999.0000,9,  -999.00,9,   -136.6,2,    -0.37,2,-999.000,9,   2293.6,2,   2323.9,2,     2.8,-999.0000,-999.000,-999.000,  -999.0,-999.000
   3220CGC92_1,   P13,    47,  1,    118,   1118,2,19920905,2136, 36.0127, 165.0083, 5330,   7993,    793.0,   3.9301,  34.2196,2,  34.2138,6,     57.4,2,  3.8721,     52.8,2,   111.00,2,    39.28,2,     0.00,2,     2.76,2,    0.330,2,    0.162,2,    0.057,2,    0.471,2, -999.000,9,-999.0000,9,  -999.00,9,   -167.9,2,    -0.45,2,-999.000,9,   2324.5,2,   2342.5,2,     2.9,-999.0000,-999.000,-999.000,  -999.0,-999.000
   3220CGC92_1,   P13,    47,  1,    117,   1005,2,19920905,2136, 36.0127, 165.0083, 5330,   9003,    894.0,   3.6571,  34.2859,2,  34.2837,2,     48.0,2,  3.5929,     46.3,6,   121.04,2,    40.83,2,     0.00,2,     2.91,2,    0.171,2,    0.095,2,    0.029,2,    0.301,2, -999.000,9,-999.0000,9,  -999.00,9,   -183.6,2,    -0.47,2,-999.000,9,   2339.1,2,   2355.0,2,     2.8,-999.0000,-999.000,-999.000,  -999.0,-999.000
   3220CGC92_1,   P13,    47,  1,    116,   1104,2,19920905,2136, 36.0127, 165.0083, 5330,   9997,    993.0,   3.3632,  34.3336,2,  34.3379,2,     41.0,2,  3.2933,     39.4,2,   130.37,2,    41.07,2,     0.00,2,     2.92,2,    0.095,6,    0.047,6,    0.023,2,    0.207,2, -999.000,9,-999.0000,9,  -999.00,9,   -194.5,2,    -0.59,2,-999.000,9,   2352.5,2,   2366.7,2,     4.0,-999.0000,-999.000,-999.000,  -999.0,-999.000
   3220CGC92_1,   P13,    47,  1,    115,   1020,2,19920905,2136, 36.0127, 165.0083, 5330,  11990,   1192.0,   2.9063,  34.4139,2,  34.4191,2,     37.6,2,  2.8246,     35.6,2,   144.46,2,    41.54,2,     0.00,2,     2.97,2,    0.036,2,    0.019,2, -999.000,9, -999.000,9, -999.000,9,-999.0000,9,  -999.00,9,   -999.0,9,    -0.55,2,-999.000,9,   2371.5,2,   2384.7,2,  -999.0,-999.0000,-999.000,-999.000,  -999.0,-999.000
   3220CGC92_1,   P13,    47,  1,    114,   1012,2,19920905,2136, 36.0127, 165.0083, 5330,  14008,   1394.0,   2.5454,  34.4805,2,  34.4796,2,     38.3,2,  2.4514,     38.9,2,   153.89,2,    41.53,2,     0.00,2,     2.93,2,    0.563,4,    0.011,2,    0.006,2,    0.065,2, -999.000,9,-999.0000,9,  -999.00,9,   -999.0,9,  -999.00,9,-999.000,9,   2382.9,2,   2395.8,2,  -999.0,-999.0000,-999.000,-999.000,  -999.0,-999.000
   3220CGC92_1,   P13,    47,  1,    113,   1229,2,19920905,2136, 36.0127, 165.0083, 5330,  17003,   1693.0,   2.2085,  34.5410,2,  34.5419,2,     49.9,2,  2.0946,     51.5,2,   162.69,2,    41.00,2,     0.00,2,     2.85,2, -999.000,5, -999.000,5, -999.000,9, -999.000,9, -999.000,9,-999.0000,9,  -999.00,9,   -999.0,9,  -999.00,9,-999.000,9,   2381.7,2,   2408.9,2,  -999.0,-999.0000,-999.000,-999.000,  -999.0,-999.000
   3220CGC92_1,   P13,    47,  1,    112,   1219,2,19920905,2136, 36.0127, 165.0083, 5330,  20000,   1993.0,   1.9835,  34.5850,2,  34.5877,2,   -999.0,9,  1.8481,     69.0,2,   165.21,2,    40.49,2,     0.00,2,     2.77,2,   -0.003,2,   -0.018,2, -999.000,9, -999.000,9, -999.000,9,-999.0000,9,  -999.00,9,   -250.7,2,    -0.40,2,-999.000,9,   2377.0,2,   2415.3,2,     2.8,-999.0000,-999.000,-999.000,  -999.0,-999.000
   3220CGC92_1,   P13,    47,  1,    111,   1112,2,19920905,2136, 36.0127, 165.0083, 5330,  22992,   2293.0,   1.7866,  34.6192,2,  34.6180,3,     85.2,2,  1.6286,     88.1,2,   165.75,2,    39.99,2,     0.00,2,     2.83,2,   -0.006,2,   -0.018,2, -999.000,9, -999.000,9, -999.000,9,-999.0000,9,  -999.00,9,   -999.0,9,  -999.00,9,-999.000,9,   2367.7,2,   2418.5,2,  -999.0,-999.0000,-999.000,-999.000,  -999.0,-999.000
   3220CGC92_1,   P13,    47,  1,    110,   1029,2,19920905,2136, 36.0127, 165.0083, 5330,  25972,   2592.0,   1.6686,  34.6390,2,  34.6424,2,    100.7,2,  1.4863,    105.0,2,   164.73,2,    38.83,2,     0.00,2,     2.74,2, -999.000,9, -999.000,9, -999.000,9, -999.000,9, -999.000,9,-999.0000,9,  -999.00,9,   -999.0,9,  -999.00,9,-999.000,9,   2358.4,2,   2421.0,2,  -999.0,-999.0000,-999.000,-999.000,  -999.0,-999.000
   3220CGC92_1,   P13,    47,  1,    109,   1023,2,19920905,2136, 36.0127, 165.0083, 5330,  28993,   2895.0,   1.5846,  34.6545,2,  34.6545,2,    113.7,2,  1.3760,    118.9,2,   162.39,2,    38.08,2,     0.00,2,     2.67,2,   -0.003,2,    0.002,2,   -0.016,2,    0.009,2, -999.000,9,-999.0000,9,  -999.00,9,   -999.0,9,  -999.00,9,-999.000,9,   2349.7,2,   2418.7,2,  -999.0,-999.0000,-999.000,-999.000,  -999.0,-999.000
   3220CGC92_1,   P13,    47,  1,    108,   1032,2,19920905,2136, 36.0127, 165.0083, 5330,  31998,   3196.0,   1.5226,  34.6666,2,  34.6650,2,    124.9,2,  1.2864,    129.5,2,   160.03,2,    37.52,2,     0.00,2,     2.60,2, -999.000,9, -999.000,9, -999.000,9, -999.000,9, -999.000,9,-999.0000,9,  -999.00,9,   -999.0,9,  -999.00,9,-999.000,9,   2343.4,2,   2421.7,2,  -999.0,-999.0000,-999.000,-999.000,  -999.0,-999.000
   3220CGC92_1,   P13,    47,  1,    107,   1037,2,19920905,2136, 36.0127, 165.0083, 5330,  34997,   3497.0,   1.4856,  34.6749,2,  34.6737,2,    134.6,2,  1.2202,    138.3,2,   157.88,2,    37.25,2,     0.00,2,     2.54,2, -999.000,9, -999.000,9, -999.000,9, -999.000,9, -999.000,9,-999.0000,9,  -999.00,9,   -999.0,9,  -999.00,9,-999.000,9,   2336.2,2,   2416.9,2,  -999.0,-999.0000,-999.000,-999.000,  -999.0,-999.000
   3220CGC92_1,   P13,    47,  1,    106,   1022,2,19920905,2136, 36.0127, 165.0083, 5330,  37969,   3795.0,   1.4686,  34.6797,2,  34.6786,2,    142.0,2,  1.1726,    145.0,2,   156.12,2,    36.83,2,     0.00,2,     2.53,2,   -0.003,2,    0.002,2,   -0.025,2,    0.007,2, -999.000,9,-999.0000,9,  -999.00,9,   -999.0,9,  -999.00,9,-999.000,9,   2332.1,2,   2420.2,2,  -999.0,-999.0000,-999.000,-999.000,  -999.0,-999.000
   3220CGC92_1,   P13,    47,  1,    105,   1221,2,19920905,2136, 36.0127, 165.0083, 5330,  40986,   4097.0,   1.4666,  34.6835,2,  34.6833,2,    145.6,2,  1.1380,    150.8,2,   154.75,2,    36.47,2,     0.00,2,     2.51,2, -999.000,9, -999.000,9, -999.000,9, -999.000,9, -999.000,9,-999.0000,9,  -999.00,9,   -999.0,9,  -999.00,9,-999.000,9,   2327.7,2,   2421.5,2,  -999.0,-999.0000,-999.000,-999.000,  -999.0,-999.000
   3220CGC92_1,   P13,    47,  1,    104,   1038,2,19920905,2136, 36.0127, 165.0083, 5330,  44010,   4400.0,   1.4706,  34.6860,2,  34.6856,2,    150.2,2,  1.1080,    153.5,2,   154.11,2,    36.28,2,     0.00,2,     2.48,2, -999.000,9, -999.000,9, -999.000,9, -999.000,9, -999.000,9,-999.0000,9,  -999.00,9,   -999.0,9,  -999.00,9,-999.000,9,   2326.3,2,   2421.8,2,  -999.0,-999.0000,-999.000,-999.000,  -999.0,-999.000
   3220CGC92_1,   P13,    47,  1,    103,   1033,2,19920905,2136, 36.0127, 165.0083, 5330,  46984,   4698.0,   1.4886,  34.6886,2,  34.6870,2,    153.7,2,  1.0909,    155.9,2,   153.68,2,    35.60,2,     0.00,2,     2.42,2,    0.011,3,    0.000,2, -999.000,9, -999.000,9, -999.000,9,-999.0000,9,  -999.00,9,   -999.0,9,  -999.00,9,-999.000,9,   2321.7,2,   2416.8,2,  -999.0,-999.0000,-999.000,-999.000,  -999.0,-999.000
   3220CGC92_1,   P13,    47,  1,    102,   1234,2,19920905,2136, 36.0127, 165.0083, 5330,  50007,   5000.0,   1.5146,  34.6889,2,  34.6880,2,    157.1,2,  1.0798,    157.4,2,   152.67,2,    36.07,2,     0.00,2,     2.42,2, -999.000,9, -999.000,9, -999.000,9, -999.000,9, -999.000,9,-999.0000,9,  -999.00,9,   -999.0,9,  -999.00,9,-999.000,9,   2322.8,2,   2418.7,2,  -999.0,-999.0000,-999.000,-999.000,  -999.0,-999.000
   3220CGC92_1,   P13,    47,  1,    101,   1238,2,19920905,2136, 36.0127, 165.0083, 5330,  55936,   5592.0,   1.5286,  34.6928,2,  34.6935,6,    170.1,2,  1.0191,    168.6,2,   141.25,2,    34.94,2,     0.00,2,     2.31,3, -999.000,9, -999.000,9, -999.000,9, -999.000,9, -999.000,9,-999.0000,9,  -999.00,9,   -999.0,9,  -999.00,9,-999.000,9,   2312.4,6,   2409.3,6,  -999.0,-999.0000,-999.000,-999.000,  -999.0,-999.000