BOTTLE,20221003CCHSIOAMB
EXPOCODE,SECT_ID,STNNBR,CASTNO,SAMPNO,BTLNBR,BTLNBR_FLAG_W,DATE,TIME,LATITUDE,LONGITUDE,DEPTH,CTDRAW,CTDPRS,CTDTMP,CTDSAL,CTDSAL_FLAG_W,SALNTY,SALNTY_FLAG_W,CTDOXY,CTDOXY_FLAG_W,THETA,OXYGEN,OXYGEN_FLAG_W,SILCAT,SILCAT_FLAG_W,NITRAT,NITRAT_FLAG_W,NITRIT,NITRIT_FLAG_W,PHSPHT,PHSPHT_FLAG_W,CFC-11,CFC-11_FLAG_W,CFC-12,CFC-12_FLAG_W,CFC113,CFC113_FLAG_W,CCL4,CCL4_FLAG_W,TRITUM,TRITUM_FLAG_W,HELIUM,HELIUM_FLAG_W,DELHE3,DELHE3_FLAG_W,DELC14,DELC14_FLAG_W,DELC13,DELC13_FLAG_W,NEON,NEON_FLAG_W,TCARBN,TCARBN_FLAG_W,ALKALI,ALKALI_FLAG_W,C14ERR,HELIER,DELHER,NEONER,C13ERR,TRITER
,,,,,,,,,,,,DBAR,DBAR,ITS-90,PSS-78,,PSS-78,,UMOL/KG,,DEG C,UMOL/KG,,UMOL/KG,,UMOL/KG,,UMOL/KG,,UMOL/KG,,PMOL/KG,,PMOL/KG,,PMOL/KG,,PMOL/KG,,TU,,NMOL/KG,,PERCNT,,/MILLE,,/MILLE,,NMOL/KG,,UMOL/KG,,UMOL/KG,,/MILLE,NMOL/KG,PERCNT,NMOL/KG,/MILLE,TU
   3220CGC92_1,   P13,     8,  1,    125,   1035,2,19920821,1114, 54.1287, 161.1638, 1897,     88,      6.0,   9.4377,  32.3147,2,  32.2652,2,    358.2,2,  9.4371,    344.1,2,     4.52,2,     0.00,2,     0.00,2,     0.22,2,    4.618,2,    2.231,2,    0.434,2,    6.842,2, -999.000,9,-999.0000,9,  -999.00,9,   -999.0,5,  -999.00,5,-999.000,9,   1917.7,2,   2220.5,2,  -999.0,-999.0000,-999.000,-999.000,  -999.0,-999.000
   3220CGC92_1,   P13,     8,  1,    124,   1026,2,19920821,1114, 54.1287, 161.1638, 1897,    240,     21.0,   4.2570,  32.8760,2,  32.8681,2,    398.3,2,  4.2556,    325.8,2,    19.71,2,     9.01,2,     0.00,2,     0.92,2,    5.028,2,    2.440,2, -999.000,9, -999.000,9, -999.000,9,-999.0000,9,  -999.00,9,   -999.0,9,  -999.00,9,-999.000,9,   2020.2,6,   2244.4,6,  -999.0,-999.0000,-999.000,-999.000,  -999.0,-999.000
   3220CGC92_1,   P13,     8,  1,    123,   1014,2,19920821,1114, 54.1287, 161.1638, 1897,    499,     46.0,   1.3237,  33.0894,2,  33.1039,2,    329.3,2,  1.3217,    327.3,2,    37.48,2,    20.90,2,     0.35,2,     1.87,2,    6.328,2,    2.948,2,    0.617,2,    9.417,2, -999.000,9,-999.0000,9,  -999.00,9,   -999.0,9,  -999.00,9,-999.000,9,   2133.2,2,   2255.1,2,  -999.0,-999.0000,-999.000,-999.000,  -999.0,-999.000
   3220CGC92_1,   P13,     8,  1,    122,   1015,2,19920821,1114, 54.1287, 161.1638, 1897,    743,     71.0,   1.2167,  33.1362,2,  33.1479,2,    332.9,2,  1.2136,    321.5,2,    46.60,2,    23.95,2,     0.18,2,     1.98,2,    6.272,2,    2.954,2, -999.000,9, -999.000,9, -999.000,9,-999.0000,9,  -999.00,9,   -999.0,9,  -999.00,9,-999.000,9,   2140.5,2,   2246.8,2,  -999.0,-999.0000,-999.000,-999.000,  -999.0,-999.000
   3220CGC92_1,   P13,     8,  1,    121,   1235,2,19920821,1114, 54.1287, 161.1638, 1897,   1001,     96.0,   1.1507,  33.1690,2,  33.1769,2,    314.2,2,  1.1466,    310.6,2,    51.44,2,    27.45,2,     0.00,2,     2.00,2,    6.149,2,    2.837,2,    0.000,4,    9.295,2, -999.000,9,-999.0000,9,  -999.00,9,   -999.0,9,  -999.00,9,-999.000,9,   2148.9,2,   2257.0,2,  -999.0,-999.0000,-999.000,-999.000,  -999.0,-999.000
   3220CGC92_1,   P13,     8,  1,    120,   1237,2,19920821,1114, 54.1287, 161.1638, 1897,   1243,    120.0,   1.0747,  33.1900,2,  33.1920,2,    310.6,2,  1.0696,    314.3,2,    53.72,2,    28.40,2,     0.00,2,     2.10,2,    5.995,2,    2.768,2, -999.000,9, -999.000,9, -999.000,9,-999.0000,9,  -999.00,9,   -999.0,9,  -999.00,9,-999.000,9,   2150.8,2,   2244.5,2,  -999.0,-999.0000,-999.000,-999.000,  -999.0,-999.000
   3220CGC92_1,   P13,     8,  1,    119,   1025,3,19920821,1114, 54.1287, 161.1638, 1897,   1491,    145.0,   1.0437,  33.2061,2,  33.2076,2,    309.8,2,  1.0376,    317.0,3,    54.76,2,    28.72,2,     0.00,2,     2.07,2,    5.967,6,    2.802,6,    0.602,2,    9.075,2, -999.000,9,-999.0000,9,  -999.00,9,   -999.0,9,  -999.00,9,-999.000,9,   2149.6,2,   2250.6,2,  -999.0,-999.0000,-999.000,-999.000,  -999.0,-999.000
   3220CGC92_1,   P13,     8,  1,    118,   1002,2,19920821,1114, 54.1287, 161.1638, 1897,   1991,    195.0,   1.2137,  33.2466,2,  33.2316,2,    318.1,2,  1.2050,    314.1,4,    55.34,2,    29.20,2,     0.00,2,     2.01,2,    6.018,2,    2.805,2,    0.562,2,    9.289,2, -999.000,9,-999.0000,9,  -999.00,9,   -999.0,9,  -999.00,9,-999.000,9,   2151.0,2,   2249.8,2,  -999.0,-999.0000,-999.000,-999.000,  -999.0,-999.000
   3220CGC92_1,   P13,     8,  1,    117,   1005,2,19920821,1114, 54.1287, 161.1638, 1897,   2489,    244.0,   2.0355,  33.3919,2,  33.4478,2,    236.9,2,  2.0228,    210.8,2,    71.26,2,    34.07,2,     0.00,2,     2.37,2,    4.218,2,    1.933,2, -999.000,9, -999.000,9, -999.000,9,-999.0000,9,  -999.00,9,   -999.0,9,  -999.00,9,-999.000,9,   2212.4,2,   2268.1,2,  -999.0,-999.0000,-999.000,-999.000,  -999.0,-999.000
   3220CGC92_1,   P13,     8,  1,    116,   1104,2,19920821,1114, 54.1287, 161.1638, 1897,   3002,    295.0,   3.2932,  33.6742,2,  33.6909,2,    116.7,2,  3.2746,    110.0,2,    87.82,2,    40.51,2,     0.00,2,     2.83,2,    2.495,2,    1.111,2,    0.314,2,    3.010,2, -999.000,9,-999.0000,9,  -999.00,9,   -999.0,9,  -999.00,9,-999.000,9,   2271.6,2,   2288.0,2,  -999.0,-999.0000,-999.000,-999.000,  -999.0,-999.000
   3220CGC92_1,   P13,     8,  1,    115,   1020,2,19920821,1114, 54.1287, 161.1638, 1897,   3490,    344.0,   3.5691,  33.8022,2,  33.8130,2,     77.9,2,  3.5464,     68.8,2,    95.17,2,    43.06,2,     0.00,2,     2.97,2,    1.755,2,    0.797,2, -999.000,9, -999.000,9, -999.000,9,-999.0000,9,  -999.00,9,   -999.0,9,  -999.00,9,-999.000,9,   2298.8,2,   2299.0,2,  -999.0,-999.0000,-999.000,-999.000,  -999.0,-999.000
   3220CGC92_1,   P13,     8,  1,    114,   1120,2,19920821,1114, 54.1287, 161.1638, 1897,   4002,    395.0,   3.6641,  33.8935,2,  33.8976,2,     53.4,2,  3.6375,     45.3,2,   100.99,2,    43.10,2,     0.00,2,     3.05,2,    1.298,2,    0.574,2, -999.000,9, -999.000,9, -999.000,9,-999.0000,9,  -999.00,9,   -999.0,9,  -999.00,9,-999.000,9,   2308.2,2,   2305.1,2,  -999.0,-999.0000,-999.000,-999.000,  -999.0,-999.000
   3220CGC92_1,   P13,     8,  1,    113,   1112,2,19920821,1114, 54.1287, 161.1638, 1897,   4493,    444.0,   3.6631,  33.9691,2,  33.9786,2,     26.6,2,  3.6330,     28.3,2,   106.81,2,    44.04,2,     0.00,2,     3.09,2,    0.888,6,    0.410,6,    0.080,2,    1.154,2, -999.000,9,-999.0000,9,  -999.00,9,   -999.0,9,  -999.00,9,-999.000,9,   2332.1,2,   2316.5,2,  -999.0,-999.0000,-999.000,-999.000,  -999.0,-999.000
   3220CGC92_1,   P13,     8,  1,    112,   1234,2,19920821,1114, 54.1287, 161.1638, 1897,   4997,    494.0,   3.6021,  34.0409,2,  34.0396,2,     25.4,2,  3.5686,     23.6,2,   112.75,2,    44.97,2,     0.00,2,     3.09,2,    0.658,2,    0.297,2, -999.000,9, -999.000,9, -999.000,9,-999.0000,9,  -999.00,9,   -999.0,9,  -999.00,9,-999.000,9,   2338.2,2,   2324.0,2,  -999.0,-999.0000,-999.000,-999.000,  -999.0,-999.000
   3220CGC92_1,   P13,     8,  1,    111,   1221,2,19920821,1114, 54.1287, 161.1638, 1897,   6000,    594.0,   3.4942,  34.1238,2,  34.1256,2,     19.7,2,  3.4538,     19.1,2,   121.40,2,    44.01,3,     0.00,2,     3.06,2,    0.402,2,    0.181,2,    0.055,2,    0.639,2, -999.000,9,-999.0000,9,  -999.00,9,   -999.0,9,  -999.00,9,-999.000,9,   2351.4,2,   2335.6,2,  -999.0,-999.0000,-999.000,-999.000,  -999.0,-999.000
   3220CGC92_1,   P13,     8,  1,    110,   1118,2,19920821,1114, 54.1287, 161.1638, 1897,   6993,    693.0,   3.3502,  34.1938,2,  34.1985,2,     15.8,2,  3.3033,     16.5,2,   128.76,2,    43.95,3,     0.00,2,     2.97,3,    0.246,2,    0.113,2, -999.000,9, -999.000,9, -999.000,9,-999.0000,9,  -999.00,9,   -999.0,9,  -999.00,9,-999.000,9,   2356.7,2,   2348.7,2,  -999.0,-999.0000,-999.000,-999.000,  -999.0,-999.000
   3220CGC92_1,   P13,     8,  1,    109,   1113,2,19920821,1114, 54.1287, 161.1638, 1897,   7994,    793.0,   3.2082,  34.2593,2,  34.2612,2,     22.0,2,  3.1547,     16.5,2,   135.17,2,    44.77,2,     0.00,2,     3.00,3,    0.147,3,    0.062,3,    0.023,2,    0.314,2, -999.000,9,-999.0000,9,  -999.00,9,   -999.0,9,  -999.00,9,-999.000,9,   2364.8,2,   2353.7,2,  -999.0,-999.0000,-999.000,-999.000,  -999.0,-999.000
   3220CGC92_1,   P13,     8,  1,    108,   1016,3,19920821,1114, 54.1287, 161.1638, 1897,   8988,    892.0,   3.0553,  34.3095,2,  34.3029,2,     19.3,2,  2.9954,     41.0,4,   140.64,2,    44.33,2,     0.00,2,     3.10,2,    0.340,4,    0.206,4, -999.000,9, -999.000,9, -999.000,9,-999.0000,9,  -999.00,9,   -999.0,9,  -999.00,9,-999.000,9,   2366.7,2,   2366.1,2,  -999.0,-999.0000,-999.000,-999.000,  -999.0,-999.000
   3220CGC92_1,   P13,     8,  1,    107,   1022,2,19920821,1114, 54.1287, 161.1638, 1897,  10006,    994.0,   2.9303,  34.3497,2,  34.3380,2,     20.1,2,  2.8636,     17.4,2,   145.71,2,    44.20,2,     0.00,2,     3.11,2,    0.067,2,    0.037,2, -999.000,9, -999.000,9, -999.000,9,-999.0000,9,  -999.00,9,   -999.0,9,  -999.00,9,-999.000,9,   2374.2,2,   2373.8,2,  -999.0,-999.0000,-999.000,-999.000,  -999.0,-999.000
   3220CGC92_1,   P13,     8,  1,    106,   1036,2,19920821,1114, 54.1287, 161.1638, 1897,  11011,   1095.0,   2.7843,  34.3801,2,  34.3711,2,     17.3,2,  2.7112,     16.4,2,   154.21,2,    43.33,3,     0.00,2,     3.11,2,    0.072,3,    0.024,2, -999.000,9, -999.000,9, -999.000,9,-999.0000,9,  -999.00,9,   -999.0,9,  -999.00,9,-999.000,9,   2381.1,2,   2379.2,2,  -999.0,-999.0000,-999.000,-999.000,  -999.0,-999.000
   3220CGC92_1,   P13,     8,  1,    105,   1037,2,19920821,1114, 54.1287, 161.1638, 1897,  12488,   1242.0,   2.6294,  34.4211,2,  34.4156,2,     21.0,2,  2.5464,     19.2,2,   159.94,2,    43.38,3,     0.00,2,     3.07,2,    0.026,2,    0.021,2, -999.000,9, -999.000,9, -999.000,9,-999.0000,9,  -999.00,9,   -999.0,9,  -999.00,9,-999.000,9,   2387.3,2,   2387.2,2,  -999.0,-999.0000,-999.000,-999.000,  -999.0,-999.000
   3220CGC92_1,   P13,     8,  1,    104,      0,2,19920821,1114, 54.1287, 161.1638, 1897,  14001,   1394.0,   2.4194,  34.4734,2,  34.4668,2,     29.2,2,  2.3268,     24.7,2,   167.08,2,    44.37,2,     0.00,2,     3.06,2,    0.013,2,    0.007,2, -999.000,9, -999.000,9, -999.000,9,-999.0000,9,  -999.00,9,   -999.0,9,  -999.00,9,-999.000,9,   2387.5,2,   2397.1,2,  -999.0,-999.0000,-999.000,-999.000,  -999.0,-999.000
   3220CGC92_1,   P13,     8,  1,    103,   1023,3,19920821,1114, 54.1287, 161.1638, 1897,  15500,   1544.0,   2.2375,  34.5111,2,  34.5056,2,     30.8,2,  2.1351,     31.3,2,   178.55,2,    43.32,2,     0.00,2,     3.04,2, -999.000,9, -999.000,9, -999.000,9, -999.000,9, -999.000,9,-999.0000,9,  -999.00,9,   -999.0,9,  -999.00,9,-999.000,9,   2390.1,6,   2402.8,6,  -999.0,-999.0000,-999.000,-999.000,  -999.0,-999.000
   3220CGC92_1,   P13,     8,  1,    102,   2001,2,19920821,1114, 54.1287, 161.1638, 1897,  17005,   1695.0,   2.0935,  34.5454,2,-999.0000,9,     38.7,2,  1.9809,     39.3,2,   183.17,2,    42.11,2,     0.00,2,     2.93,3,    0.001,2,    0.019,3, -999.000,9, -999.000,9, -999.000,9,-999.0000,9,  -999.00,9,   -999.0,9,  -999.00,9,-999.000,9,   -999.0,9,   2408.7,2,  -999.0,-999.0000,-999.000,-999.000,  -999.0,-999.000
   3220CGC92_1,   P13,     8,  1,    101,   1038,2,19920821,1114, 54.1287, 161.1638, 1897,  18201,   1816.0,   2.0035,  34.5660,2,  34.5573,6,     45.4,2,  1.8824,     46.6,2,   187.55,2,    41.46,2,     0.00,2,     2.97,2,    0.002,2,    0.000,2, -999.000,9, -999.000,9, -999.000,9,-999.0000,9,  -999.00,9,   -999.0,9,  -999.00,9,-999.000,9,   2391.7,6,   2414.1,2,  -999.0,-999.0000,-999.000,-999.000,  -999.0,-999.000