BOTTLE,20221003CCHSIOAMB
EXPOCODE,SECT_ID,STNNBR,CASTNO,SAMPNO,BTLNBR,BTLNBR_FLAG_W,DATE,TIME,LATITUDE,LONGITUDE,DEPTH,CTDRAW,CTDPRS,CTDTMP,CTDSAL,CTDSAL_FLAG_W,SALNTY,SALNTY_FLAG_W,CTDOXY,CTDOXY_FLAG_W,THETA,OXYGEN,OXYGEN_FLAG_W,SILCAT,SILCAT_FLAG_W,NITRAT,NITRAT_FLAG_W,NITRIT,NITRIT_FLAG_W,PHSPHT,PHSPHT_FLAG_W,CFC-11,CFC-11_FLAG_W,CFC-12,CFC-12_FLAG_W,CFC113,CFC113_FLAG_W,CCL4,CCL4_FLAG_W,TRITUM,TRITUM_FLAG_W,HELIUM,HELIUM_FLAG_W,DELHE3,DELHE3_FLAG_W,DELC14,DELC14_FLAG_W,DELC13,DELC13_FLAG_W,NEON,NEON_FLAG_W,TCARBN,TCARBN_FLAG_W,ALKALI,ALKALI_FLAG_W,C14ERR,HELIER,DELHER,NEONER,C13ERR,TRITER
,,,,,,,,,,,,DBAR,DBAR,ITS-90,PSS-78,,PSS-78,,UMOL/KG,,DEG C,UMOL/KG,,UMOL/KG,,UMOL/KG,,UMOL/KG,,UMOL/KG,,PMOL/KG,,PMOL/KG,,PMOL/KG,,PMOL/KG,,TU,,NMOL/KG,,PERCNT,,/MILLE,,/MILLE,,NMOL/KG,,UMOL/KG,,UMOL/KG,,/MILLE,NMOL/KG,PERCNT,NMOL/KG,/MILLE,TU
   3220CGC92_1,   P13,    42,  1,    136,   1106,2,19920903,2023, 38.4798, 165.0395, 4533,     97,      7.0,  22.1707,  34.3960,2,  34.3867,2,    218.1,2, 22.1693,   -999.0,5,     1.82,2,     0.00,2,     0.00,2,     0.00,2, -999.000,9, -999.000,9, -999.000,9, -999.000,9, -999.000,9,-999.0000,9,  -999.00,9,     85.9,2,     1.33,2,-999.000,9,   1970.8,2,   2263.5,6,     5.9,-999.0000,-999.000,-999.000,  -999.0,-999.000
   3220CGC92_1,   P13,    42,  1,    135,   1238,2,19920903,2023, 38.4798, 165.0395, 4533,    242,     21.0,  22.1437,  34.4010,2,  34.3893,2,    233.8,2, 22.1395,    224.6,2,     1.79,2,     0.00,2,     0.00,2,     0.00,2, -999.000,9, -999.000,9, -999.000,9, -999.000,9,    1.882,2,   1.8600,2,    -1.36,2,   -999.0,9,  -999.00,9,   7.271,2,   -999.0,9,   -999.0,9,  -999.0,  0.0090,   0.140,   0.032,  -999.0,   0.015
   3220CGC92_1,   P13,    42,  1,    134,   1030,2,19920903,2023, 38.4798, 165.0395, 4533,    489,     46.0,  17.0829,  34.5278,2,  34.5585,2,    252.1,2, 17.0753,    252.3,2,     2.35,2,     0.05,2,     0.00,2,     0.01,2, -999.000,9, -999.000,9, -999.000,9, -999.000,9, -999.000,9,-999.0000,9,  -999.00,9,   -999.0,9,  -999.00,9,-999.000,9,   -999.0,9,   -999.0,9,  -999.0,-999.0000,-999.000,-999.000,  -999.0,-999.000
   3220CGC92_1,   P13,    42,  1,    133,   1231,2,19920903,2023, 38.4798, 165.0395, 4533,    745,     71.0,  15.4873,  34.5877,2,  34.6250,2,    229.4,2, 15.4764,    226.9,2,     5.95,2,     2.93,2,     0.55,2,     0.26,2, -999.000,9, -999.000,9, -999.000,9, -999.000,9, -999.000,9,-999.0000,9,  -999.00,9,   -999.0,9,  -999.00,9,-999.000,9,   -999.0,9,   -999.0,9,  -999.0,-999.0000,-999.000,-999.000,  -999.0,-999.000
   3220CGC92_1,   P13,    42,  1,    132,   1109,2,19920903,2023, 38.4798, 165.0395, 4533,    998,     96.0,  14.4175,  34.5456,2,  34.5444,2,    214.3,2, 14.4035,    220.7,2,     8.84,2,     5.90,2,     0.00,2,     0.42,2, -999.000,9, -999.000,9, -999.000,9, -999.000,9,    1.844,2,   1.7750,2,     0.44,2,   -999.0,9,  -999.00,9,   7.147,2,   -999.0,9,   -999.0,9,  -999.0,  0.0080,   0.140,   0.031,  -999.0,   0.017
   3220CGC92_1,   P13,    42,  1,    131,   1031,2,19920903,2023, 38.4798, 165.0395, 4533,   1241,    120.0,  13.5957,  34.4889,2,  34.4936,2,    220.3,2, 13.5789,    226.6,2,    10.24,2,     6.18,2,     0.00,2,     0.42,2, -999.000,9, -999.000,9, -999.000,9, -999.000,9, -999.000,9,-999.0000,9,  -999.00,9,   -999.0,9,  -999.00,9,-999.000,9,   -999.0,9,   -999.0,9,  -999.0,-999.0000,-999.000,-999.000,  -999.0,-999.000
   3220CGC92_1,   P13,    42,  1,    130,   1041,2,19920903,2023, 38.4798, 165.0395, 4533,   1493,    145.0,  13.0089,  34.4499,2,  34.4556,2,    226.6,2, 12.9891,    236.0,2,    10.64,2,     6.45,2,     0.00,2,     0.44,2, -999.000,9, -999.000,9, -999.000,9, -999.000,9,    1.878,2,   1.7420,2,    -0.06,2,   -999.0,9,  -999.00,9,   7.166,2,   -999.0,9,   -999.0,9,  -999.0,  0.0080,   0.140,   0.032,  -999.0,   0.018
   3220CGC92_1,   P13,    42,  1,    129,   1004,2,19920903,2023, 38.4798, 165.0395, 4533,   1751,    171.0,  12.6860,  34.4359,2,  34.4368,2,    229.5,2, 12.6630,    239.7,2,    10.98,2,     7.03,2,     0.06,2,     0.48,2, -999.000,9, -999.000,9, -999.000,9, -999.000,9, -999.000,9,-999.0000,9,  -999.00,9,   -999.0,9,  -999.00,9,-999.000,9,   -999.0,9,   -999.0,9,  -999.0,-999.0000,-999.000,-999.000,  -999.0,-999.000
   3220CGC92_1,   P13,    42,  1,    127,   1117,2,19920903,2023, 38.4798, 165.0395, 4533,   2001,    196.0,  12.4250,  34.4255,2,  34.4207,2,    238.4,2, 12.3990,    239.8,2,    11.33,2,     7.61,2,     0.07,2,     0.51,2, -999.000,9, -999.000,9, -999.000,9, -999.000,9,    1.869,2,   1.7420,2,    -0.21,2,   -999.0,9,  -999.00,9,   7.216,2,   -999.0,9,   -999.0,9,  -999.0,  0.0080,   0.140,   0.032,  -999.0,   0.006
   3220CGC92_1,   P13,    42,  1,    126,   1110,2,19920903,2023, 38.4798, 165.0395, 4533,   2501,    246.0,  12.1171,  34.4130,2,  34.4242,2,    237.4,2, 12.0849,    247.1,2,    10.41,2,     7.46,2,     0.00,2,     0.47,2, -999.000,9, -999.000,9, -999.000,9, -999.000,9,    1.900,2,   1.7570,2,    -0.65,2,   -999.0,9,  -999.00,9,   7.260,2,   -999.0,9,   -999.0,9,  -999.0,  0.0080,   0.140,   0.032,  -999.0,   0.006
   3220CGC92_1,   P13,    42,  1,    125,   1035,2,19920903,2023, 38.4798, 165.0395, 4533,   2991,    294.0,  11.7762,  34.3851,2,  34.3823,2,    236.5,2, 11.7384,    240.9,2,    12.73,2,     9.01,2,     0.06,2,     0.57,2, -999.000,9, -999.000,9, -999.000,9, -999.000,9,    1.884,2,   1.7530,2,     0.36,2,   -999.0,9,  -999.00,9,   7.244,2,   -999.0,9,   -999.0,9,  -999.0,  0.0080,   0.140,   0.032,  -999.0,   0.006
   3220CGC92_1,   P13,    42,  1,    124,   1026,2,19920903,2023, 38.4798, 165.0395, 4533,   3491,    344.0,  11.2273,  34.3328,2,  34.3282,2,    229.9,2, 11.1844,    231.6,2,    15.84,2,    10.48,2,     0.00,2,     0.67,2, -999.000,9, -999.000,9, -999.000,9, -999.000,9,    1.842,2,-999.0000,9,  -999.00,9,   -999.0,9,  -999.00,9,-999.000,9,   -999.0,9,   -999.0,9,  -999.0,-999.0000,-999.000,-999.000,  -999.0,   0.005
   3220CGC92_1,   P13,    42,  1,    123,   1014,2,19920903,2023, 38.4798, 165.0395, 4533,   3997,    395.0,  10.3225,  34.2518,2,  34.2395,2,    214.9,2, 10.2757,    214.9,2,    22.05,2,    15.22,2,     0.06,2,     1.02,2, -999.000,9, -999.000,9, -999.000,9, -999.000,9,    1.796,2,-999.0000,9,  -999.00,9,   -999.0,9,  -999.00,9,-999.000,9,   -999.0,9,   -999.0,9,  -999.0,-999.0000,-999.000,-999.000,  -999.0,   0.005
   3220CGC92_1,   P13,    42,  1,    122,   1015,2,19920903,2023, 38.4798, 165.0395, 4533,   5000,    494.0,   8.4090,  34.1166,2,  34.0770,2,    183.9,2,  8.3572,    197.2,2,    34.61,2,    21.08,2,     0.00,2,     1.45,2, -999.000,9, -999.000,9, -999.000,9, -999.000,9,    1.702,2,-999.0000,9,  -999.00,9,   -999.0,9,  -999.00,9,-999.000,9,   -999.0,9,   -999.0,9,  -999.0,-999.0000,-999.000,-999.000,  -999.0,   0.005
   3220CGC92_1,   P13,    42,  1,    121,   1235,2,19920903,2023, 38.4798, 165.0395, 4533,   5993,    593.0,   6.2485,  34.0091,2,  34.0123,2,    162.3,2,  6.1956,    157.0,2,    53.96,2,    27.84,2,     0.00,2,     1.96,2, -999.000,9, -999.000,9, -999.000,9, -999.000,9,    1.354,2,   1.8090,2,    11.65,2,   -999.0,9,  -999.00,9,   7.714,2,   -999.0,9,   -999.0,9,  -999.0,  0.0090,   0.140,   0.034,  -999.0,   0.005
   3220CGC92_1,   P13,    42,  1,    120,   1237,2,19920903,2023, 38.4798, 165.0395, 4533,   6989,    693.0,   5.0878,  34.0282,2,  34.0316,2,    114.5,2,  5.0317,    111.1,2,    76.86,2,    33.71,2,     0.00,2,     2.41,2, -999.000,9, -999.000,9, -999.000,9, -999.000,9,    1.093,2,   1.8270,2,    14.07,2,   -999.0,9,  -999.00,9,   7.808,2,   -999.0,9,   -999.0,9,  -999.0,  0.0090,   0.140,   0.034,  -999.0,   0.004
   3220CGC92_1,   P13,    42,  1,    119,   1025,2,19920903,2023, 38.4798, 165.0395, 4533,   7993,    793.0,   4.4029,  34.1257,2,  34.1199,2,     81.7,2,  4.3422,     75.7,2,    94.57,2,    37.25,2,     0.00,2,     2.69,2, -999.000,9, -999.000,9, -999.000,9, -999.000,9,    0.783,2,   1.8370,2,    15.59,2,   -999.0,9,  -999.00,9,   7.853,2,   -999.0,9,   -999.0,9,  -999.0,  0.0090,   0.140,   0.035,  -999.0,   0.003
   3220CGC92_1,   P13,    42,  1,    118,   1118,2,19920903,2023, 38.4798, 165.0395, 4533,   8995,    893.0,   4.0150,  34.2159,2,  34.1854,6,     61.5,2,  3.9485,     58.8,2,   104.88,2,    39.23,2,     0.00,2,     2.83,2, -999.000,9, -999.000,9, -999.000,9, -999.000,9,    0.552,2,   1.8530,2,    15.97,2,   -999.0,9,  -999.00,9,   7.885,2,   -999.0,9,   -999.0,9,  -999.0,  0.0090,   0.140,   0.035,  -999.0,   0.003
   3220CGC92_1,   P13,    42,  1,    117,   1005,2,19920903,2023, 38.4798, 165.0395, 4533,  10020,    995.0,   3.7191,  34.2726,2,  34.2551,2,     50.2,2,  3.6464,     47.8,2,   116.09,2,    40.34,2,     0.00,2,     2.88,2,    0.212,2,    0.097,6, -999.000,9, -999.000,9,    0.379,2,   1.8630,2,    16.50,2,   -999.0,9,  -999.00,9,-999.000,9,   -999.0,9,   -999.0,9,  -999.0,-999.0000,-999.000,-999.000,  -999.0,   0.002
   3220CGC92_1,   P13,    42,  1,    116,   1104,2,19920903,2023, 38.4798, 165.0395, 4533,  11016,   1095.0,   3.4042,  34.3253,2,  34.3223,2,     39.4,2,  3.3259,     38.8,2,   127.98,2,    41.17,2,     0.00,2,     2.96,2, -999.000,9, -999.000,9, -999.000,9, -999.000,9, -999.000,9,-999.0000,9,  -999.00,9,   -999.0,9,  -999.00,9,-999.000,9,   -999.0,9,   -999.0,9,  -999.0,-999.0000,-999.000,-999.000,  -999.0,-999.000
   3220CGC92_1,   P13,    42,  1,    115,   1020,2,19920903,2023, 38.4798, 165.0395, 4533,  11990,   1192.0,   3.1572,  34.3755,2,  34.3681,2,     37.9,2,  3.0733,     36.3,2,   135.17,2,    41.98,2,     0.00,2,     2.98,2, -999.000,9, -999.000,9, -999.000,9, -999.000,9,    0.144,2,   1.8760,2,    16.70,2,   -999.0,9,  -999.00,9,-999.000,9,   -999.0,9,   -999.0,9,  -999.0,-999.0000,-999.000,-999.000,  -999.0,   0.002
   3220CGC92_1,   P13,    42,  1,    114,   1012,2,19920903,2023, 38.4798, 165.0395, 4533,  12998,   1293.0,   2.9423,  34.4071,2,  34.4074,2,     35.7,2,  2.8523,     36.9,2,   141.52,2,    42.29,2,     0.00,2,     3.00,2, -999.000,9, -999.000,9, -999.000,9, -999.000,9, -999.000,9,-999.0000,9,  -999.00,9,   -999.0,9,  -999.00,9,-999.000,9,   -999.0,9,   -999.0,9,  -999.0,-999.0000,-999.000,-999.000,  -999.0,-999.000
   3220CGC92_1,   P13,    42,  1,    113,   1229,2,19920903,2023, 38.4798, 165.0395, 4533,  13988,   1392.0,   2.7663,  34.4387,2,  34.4353,2,     33.7,2,  2.6702,     33.9,2,   147.06,2,    41.96,2,     0.00,2,     2.98,2, -999.000,9, -999.000,9, -999.000,9, -999.000,9,    0.057,2,   1.8900,2,    17.10,2,   -999.0,9,  -999.00,9,-999.000,9,   -999.0,9,   -999.0,9,  -999.0,-999.0000,-999.000,-999.000,  -999.0,   0.002
   3220CGC92_1,   P13,    42,  1,    112,   1219,2,19920903,2023, 38.4798, 165.0395, 4533,  16009,   1594.0,   2.4914,  34.4895,2,  34.4852,2,     37.3,2,  2.3821,     38.6,2,   154.84,2,    42.51,2,     0.00,2,     3.01,2, -999.000,9, -999.000,9, -999.000,9, -999.000,9, -999.000,9,   1.8910,2,    17.50,2,   -999.0,9,  -999.00,9,-999.000,9,   -999.0,9,   -999.0,9,  -999.0,-999.0000,-999.000,-999.000,  -999.0,-999.000
   3220CGC92_1,   P13,    42,  1,    111,   1112,2,19920903,2023, 38.4798, 165.0395, 4533,  17983,   1791.0,   2.2765,  34.5278,2,  34.5301,2,     46.2,2,  2.1537,   -999.0,5,   160.78,2,    42.30,2,     0.00,2,     3.00,2,    0.008,2,    0.000,2, -999.000,9, -999.000,9, -999.000,9,   1.8990,2,    18.60,2,   -999.0,9,  -999.00,9,-999.000,9,   -999.0,9,   -999.0,9,  -999.0,-999.0000,-999.000,-999.000,  -999.0,-999.000
   3220CGC92_1,   P13,    42,  1,    110,   1029,2,19920903,2023, 38.4798, 165.0395, 4533,  19984,   1992.0,   2.1185,  34.5586,2,  34.5657,2,   -999.0,9,  1.9811,     58.6,2,   164.80,2,    42.50,2,     0.00,2,     2.99,2, -999.000,9, -999.000,9, -999.000,9, -999.000,9, -999.000,9,   1.9010,2,    19.00,2,   -999.0,9,  -999.00,9,-999.000,9,   -999.0,9,   -999.0,9,  -999.0,-999.0000,-999.000,-999.000,  -999.0,-999.000
   3220CGC92_1,   P13,    42,  1,    109,   1023,2,19920903,2023, 38.4798, 165.0395, 4533,  21986,   2192.0,   1.9485,  34.5904,2,  34.5910,2,     72.7,2,  1.7967,     71.1,2,   165.87,2,    41.56,2,     0.00,2,     2.95,2,   -0.001,2,   -0.018,2, -999.000,9, -999.000,9, -999.000,9,   1.8900,2,    18.60,2,   -999.0,9,  -999.00,9,-999.000,9,   -999.0,9,   -999.0,9,  -999.0,-999.0000,-999.000,-999.000,  -999.0,-999.000
   3220CGC92_1,   P13,    42,  1,    108,   1032,2,19920903,2023, 38.4798, 165.0395, 4533,  25006,   2495.0,   1.7866,  34.6211,2,  34.6212,2,     90.0,2,  1.6108,     90.8,2,   164.82,2,    40.02,2,     0.00,2,     2.82,2, -999.000,9, -999.000,9, -999.000,9, -999.000,9, -999.000,9,   1.9060,2,    18.20,2,   -999.0,9,  -999.00,9,-999.000,9,   -999.0,9,   -999.0,9,  -999.0,-999.0000,-999.000,-999.000,  -999.0,-999.000
   3220CGC92_1,   P13,    42,  1,    107,   1037,2,19920903,2023, 38.4798, 165.0395, 4533,  27988,   2794.0,   1.6666,  34.6426,2,  34.6428,2,   -999.0,9,  1.4658,    109.7,2,   161.75,2,    38.61,2,     0.00,2,     2.72,2,    2.045,4,   -0.003,2, -999.000,9, -999.000,9, -999.000,9,   1.9040,2,    18.10,2,   -999.0,9,  -999.00,9,-999.000,9,   -999.0,9,   -999.0,9,  -999.0,-999.0000,-999.000,-999.000,  -999.0,-999.000
   3220CGC92_1,   P13,    42,  1,    106,   1022,2,19920903,2023, 38.4798, 165.0395, 4533,  31003,   3096.0,   1.5826,  34.6582,2,  34.6578,2,   -999.0,9,  1.3548,    123.2,2,   158.67,2,    38.19,2,     0.00,2,     2.65,2, -999.000,9, -999.000,9, -999.000,9, -999.000,9, -999.000,9,   1.9070,2,    17.80,2,   -999.0,9,  -999.00,9,-999.000,9,   -999.0,9,   -999.0,9,  -999.0,-999.0000,-999.000,-999.000,  -999.0,-999.000
   3220CGC92_1,   P13,    42,  1,    105,   1221,2,19920903,2023, 38.4798, 165.0395, 4533,  33992,   3396.0,   1.5236,  34.6684,2,  34.6659,2,    129.7,2,  1.2675,    133.6,2,   156.43,2,    37.79,2,     0.00,2,     2.60,2,    0.001,2,   -0.018,2, -999.000,9, -999.000,9, -999.000,9,   1.9080,2,    16.90,2,   -999.0,9,  -999.00,9,-999.000,9,   -999.0,9,   -999.0,9,  -999.0,-999.0000,-999.000,-999.000,  -999.0,-999.000
   3220CGC92_1,   P13,    42,  1,    104,   1038,2,19920903,2023, 38.4798, 165.0395, 4533,  37014,   3699.0,   1.4906,  34.6749,2,  34.6726,2,    138.3,2,  1.2041,    141.0,2,   154.65,2,    37.25,2,     0.00,2,     2.58,2, -999.000,9, -999.000,9, -999.000,9, -999.000,9, -999.000,9,   1.8980,2,    16.90,2,   -999.0,9,  -999.00,9,-999.000,9,   -999.0,9,   -999.0,9,  -999.0,-999.0000,-999.000,-999.000,  -999.0,-999.000
   3220CGC92_1,   P13,    42,  1,    103,   1033,2,19920903,2023, 38.4798, 165.0395, 4533,  40002,   3999.0,   1.4796,  34.6783,2,  34.6792,2,   -999.0,9,  1.1614,    147.8,2,   152.93,2,    36.40,2,     0.00,2,     2.52,2, -999.000,9, -999.000,9, -999.000,9, -999.000,9, -999.000,9,-999.0000,9,  -999.00,9,   -999.0,9,  -999.00,9,-999.000,9,   -999.0,9,   -999.0,9,  -999.0,-999.0000,-999.000,-999.000,  -999.0,-999.000
   3220CGC92_1,   P13,    42,  1,    102,   1234,2,19920903,2023, 38.4798, 165.0395, 4533,  43020,   4301.0,   1.4716,  34.6832,2,  34.6840,2,   -999.0,9,  1.1202,    151.3,2,   151.90,2,    36.35,2,     0.00,2,     2.47,2, -999.000,9, -999.000,9, -999.000,9, -999.000,9, -999.000,9,   1.9010,2,    15.80,2,   -999.0,9,  -999.00,9,-999.000,9,   -999.0,9,   -999.0,9,  -999.0,-999.0000,-999.000,-999.000,  -999.0,-999.000
   3220CGC92_1,   P13,    42,  1,    101,   1013,2,19920903,2023, 38.4798, 165.0395, 4533,  46765,   4676.0,   1.4886,  34.6843,2,  34.6859,6,    155.5,2,  1.0935,    156.1,2,   150.81,2,    35.81,2,     0.00,2,     2.45,2, -999.000,9, -999.000,9, -999.000,9, -999.000,9, -999.000,9,   1.8980,2,    15.70,2,   -999.0,9,  -999.00,9,-999.000,9,   -999.0,9,   -999.0,9,  -999.0,-999.0000,-999.000,-999.000,  -999.0,-999.000