BOTTLE,20221003CCHSIOAMB
EXPOCODE,SECT_ID,STNNBR,CASTNO,SAMPNO,BTLNBR,BTLNBR_FLAG_W,DATE,TIME,LATITUDE,LONGITUDE,DEPTH,CTDRAW,CTDPRS,CTDTMP,CTDSAL,CTDSAL_FLAG_W,SALNTY,SALNTY_FLAG_W,CTDOXY,CTDOXY_FLAG_W,THETA,OXYGEN,OXYGEN_FLAG_W,SILCAT,SILCAT_FLAG_W,NITRAT,NITRAT_FLAG_W,NITRIT,NITRIT_FLAG_W,PHSPHT,PHSPHT_FLAG_W,CFC-11,CFC-11_FLAG_W,CFC-12,CFC-12_FLAG_W,CFC113,CFC113_FLAG_W,CCL4,CCL4_FLAG_W,TRITUM,TRITUM_FLAG_W,HELIUM,HELIUM_FLAG_W,DELHE3,DELHE3_FLAG_W,DELC14,DELC14_FLAG_W,DELC13,DELC13_FLAG_W,NEON,NEON_FLAG_W,TCARBN,TCARBN_FLAG_W,ALKALI,ALKALI_FLAG_W,C14ERR,HELIER,DELHER,NEONER,C13ERR,TRITER
,,,,,,,,,,,,DBAR,DBAR,ITS-90,PSS-78,,PSS-78,,UMOL/KG,,DEG C,UMOL/KG,,UMOL/KG,,UMOL/KG,,UMOL/KG,,UMOL/KG,,PMOL/KG,,PMOL/KG,,PMOL/KG,,PMOL/KG,,TU,,NMOL/KG,,PERCNT,,/MILLE,,/MILLE,,NMOL/KG,,UMOL/KG,,UMOL/KG,,/MILLE,NMOL/KG,PERCNT,NMOL/KG,/MILLE,TU
   3220CGC92_2,   P13,    64,  1,    135,   1013,2,19921005,0502, 26.0178, 165.0645, 5895,    102,      7.0,  26.3947,  35.2542,2,  35.2765,2,   -999.0,9, 26.3931,    206.8,2,     0.60,2,     0.00,2,     0.00,2,     0.00,2,    1.801,6,    1.036,6,    0.377,6,    2.132,6,    1.883,2,-999.0000,9,  -999.00,9,   -999.0,5,    -5.99,4,-999.000,9,   1966.7,6,   2311.5,6,  -999.0,-999.0000,-999.000,-999.000,  -999.0,   0.018
   3220CGC92_2,   P13,    64,  1,    136,   1106,2,19921005,0502, 26.0178, 165.0645, 5895,    102,      7.0,  26.3947,  35.2542,2,  35.2750,2,   -999.0,9, 26.3931,    205.9,2,     0.59,2,     0.00,2,     0.00,2,     0.00,2,    1.815,2,    0.998,2,    0.720,4,    2.015,2, -999.000,9,-999.0000,9,  -999.00,9,    128.6,2,     1.41,2,-999.000,9,   1967.3,2,   2312.5,2,     3.1,-999.0000,-999.000,-999.000,  -999.0,-999.000
   3220CGC92_2,   P13,    64,  1,    134,   1030,2,19921005,0502, 26.0178, 165.0645, 5895,    252,     22.0,  26.3477,  35.2558,2,  35.2807,2,   -999.0,9, 26.3427,    207.5,2,     0.61,2,     0.00,2,     0.00,2,     0.00,2,    1.800,2,    1.035,2,    0.369,2,    1.961,2, -999.000,9,-999.0000,9,  -999.00,9,    107.9,2,     1.40,2,-999.000,9,   1966.6,2,   2316.8,2,     3.0,-999.0000,-999.000,-999.000,  -999.0,-999.000
   3220CGC92_2,   P13,    64,  1,    133,   1231,2,19921005,0502, 26.0178, 165.0645, 5895,    488,     45.0,  26.2807,  35.2768,2,  35.2911,2,   -999.0,9, 26.2706,    208.2,2,     0.66,2,     0.00,2,     0.00,2,     0.00,2,   -0.008,4,    1.051,4,    0.746,4,    2.050,2, -999.000,9,-999.0000,9,  -999.00,9,   -999.0,5,     1.40,2,-999.000,9,   1967.1,2,   2308.8,2,  -999.0,-999.0000,-999.000,-999.000,  -999.0,-999.000
   3220CGC92_2,   P13,    64,  1,    132,   1109,2,19921005,0502, 26.0178, 165.0645, 5895,    746,     71.0,  23.0575,  35.3423,2,  35.3316,2,    205.7,2, 23.0429,    209.3,2,     0.70,2,     0.00,2,     0.00,2,     0.00,2,    1.822,2,    1.028,2,    0.419,2,    1.897,2,    1.636,2,-999.0000,9,  -999.00,9,    114.0,2,     1.38,2,-999.000,9,   1971.0,2,   2320.6,2,     4.0,-999.0000,-999.000,-999.000,  -999.0,   0.018
   3220CGC92_2,   P13,    64,  1,    131,   1031,2,19921005,0502, 26.0178, 165.0645, 5895,    986,     95.0,  22.0947,  35.3027,2,  35.3007,2,    220.8,2, 22.0758,    224.4,2,     1.24,2,     0.00,2,     0.00,2,     0.00,2,    2.127,2,    1.185,2,    0.830,4,    1.604,2, -999.000,9,-999.0000,9,  -999.00,9,    105.2,2,     1.34,2,-999.000,9,   1984.8,2,   2316.4,2,     6.0,-999.0000,-999.000,-999.000,  -999.0,-999.000
   3220CGC92_2,   P13,    64,  1,    130,   1041,2,19921005,0502, 26.0178, 165.0645, 5895,   1226,    119.0,  20.8190,  35.1832,2,  35.2628,2,    215.2,2, 20.7964,    217.4,2,     1.43,2,     0.00,2,     0.00,2,     0.00,2,    2.207,2,    1.192,2,    0.455,2,    1.486,2,    1.728,2,-999.0000,9,  -999.00,9,    123.2,2,     1.24,2,-999.000,9,   1998.3,2,   2316.9,2,     3.2,-999.0000,-999.000,-999.000,  -999.0,   0.018
   3220CGC92_2,   P13,    64,  1,    129,   1004,2,19921005,0502, 26.0178, 165.0645, 5895,   1482,    144.0,  19.2444,  35.0545,2,  35.0968,2,    203.8,2, 19.2185,    202.4,2,     2.05,2,     0.10,2,     0.00,2,     0.02,2,    2.271,2,    1.228,2, -999.000,9, -999.000,9, -999.000,9,-999.0000,9,  -999.00,9,    113.2,2,     1.05,2,-999.000,9,   2017.4,2,   2304.0,2,     3.3,-999.0000,-999.000,-999.000,  -999.0,-999.000
   3220CGC92_2,   P13,    64,  1,    128,   1016,2,19921005,0502, 26.0178, 165.0645, 5895,   1748,    171.0,  18.5266,  34.9663,2,  34.9909,2,    208.1,2, 18.4966,    209.2,2,     2.45,2,     0.20,2,     0.00,2,     0.07,2,    2.415,2,    1.308,2,    0.231,2,    1.262,2,    1.863,2,-999.0000,9,  -999.00,9,    129.2,2,     0.98,2,-999.000,9,   2014.5,2,   2298.9,2,     3.6,-999.0000,-999.000,-999.000,  -999.0,   0.006
   3220CGC92_2,   P13,    64,  1,    127,   1028,2,19921005,0502, 26.0178, 165.0645, 5895,   1992,    195.0,  17.8577,  34.9021,2,  34.9030,2,    206.3,2, 17.8244,    207.5,2,     2.95,2,     1.48,2,     0.00,2,     0.14,2,    2.440,2,    1.316,2,    0.216,2,    1.056,2, -999.000,9,-999.0000,9,  -999.00,9,    129.4,2,     0.93,2,-999.000,9,   2019.8,2,   2288.2,2,     3.1,-999.0000,-999.000,-999.000,  -999.0,-999.000
   3220CGC92_2,   P13,    64,  1,    126,   1110,2,19921005,0502, 26.0178, 165.0645, 5895,   2495,    245.0,  16.6730,  34.7563,2,  34.7505,2,    207.0,2, 16.6331,    206.8,6,     4.53,2,     4.00,2,     0.00,2,     0.27,2,    2.468,2,    1.319,2, -999.000,9, -999.000,9,    1.765,2,-999.0000,9,  -999.00,9,   -999.0,5,     0.84,2,-999.000,9,   2024.5,2,   2282.8,2,  -999.0,-999.0000,-999.000,-999.000,  -999.0,   0.005
   3220CGC92_2,   P13,    64,  1,    125,   1035,2,19921005,0502, 26.0178, 165.0645, 5895,   2982,    294.0,  15.5633,  34.6550,2,  34.6731,2,    203.6,2, 15.5176,    203.1,2,     6.38,2,     5.92,2,     0.00,2,     0.38,2,    2.442,6,    1.297,6,    0.119,2,    0.614,2,    1.957,2,-999.0000,9,  -999.00,9,    107.6,2,     0.80,2,-999.000,9,   2037.9,2,   2275.9,2,     3.5,-999.0000,-999.000,-999.000,  -999.0,   0.006
   3220CGC92_2,   P13,    64,  1,    124,   1026,2,19921005,0502, 26.0178, 165.0645, 5895,   3480,    343.0,  14.2746,  34.5410,2,  34.5721,2,    203.2,2, 14.2243,    200.8,2,     8.86,2,     6.92,2,     0.00,2,     0.42,2,    2.400,2,    1.271,2,    0.108,2,    0.579,2,    1.930,2,-999.0000,9,  -999.00,9,   -999.0,9,  -999.00,5,-999.000,9,   2051.8,2,   2276.8,2,  -999.0,-999.0000,-999.000,-999.000,  -999.0,   0.019
   3220CGC92_2,   P13,    64,  1,    123,   1014,2,19921005,0502, 26.0178, 165.0645, 5895,   4000,    395.0,  12.9279,  34.4350,2,  34.4911,2,   -999.0,9, 12.8737,    199.9,2,    11.57,2,    10.31,2,     0.00,2,     0.72,2,    2.392,2,    1.240,2,    0.138,2,    0.582,2,    1.998,2,-999.0000,9,  -999.00,9,   -999.0,9,  -999.00,9,-999.000,9,   2063.6,2,   2270.9,2,  -999.0,-999.0000,-999.000,-999.000,  -999.0,   0.006
   3220CGC92_2,   P13,    64,  1,    122,   1015,2,19921005,0502, 26.0178, 165.0645, 5895,   5000,    494.0,  10.4035,  34.2445,2,  34.2847,2,    199.4,2, 10.3444,    196.2,2,    20.25,2,    15.27,2,     0.00,2,     1.05,2,    2.248,6,    1.147,6,    0.068,6,    0.743,6,    1.928,2,   1.7420,2,     7.65,2,     45.8,6,     0.51,6,   7.342,2,   2095.8,2,   2273.3,2,     2.7,  0.0080,   0.140,   0.032,  -999.0,   0.018
   3220CGC92_2,   P13,    64,  1,    121,   1235,2,19921005,0502, 26.0178, 165.0645, 5895,   5944,    589.0,   7.9081,  34.0850,2,  34.1232,2,    186.2,2,  7.8482,    176.7,2,    33.64,2,    21.66,2,     0.00,2,     1.54,2,    1.855,2,    0.912,2, -999.000,9, -999.000,9, -999.000,9,   1.7840,2,    12.19,2,      1.3,2,     0.36,2,   7.522,2,   2138.1,6,   2271.9,2,     3.7,  0.0080,   0.140,   0.033,  -999.0,-999.000
   3220CGC92_2,   P13,    64,  1,    120,   1237,2,19921005,0502, 26.0178, 165.0645, 5895,   6917,    686.0,   6.1175,  34.0348,2,  34.0381,2,    146.8,2,  6.0566,    134.9,2,    57.08,2,    28.58,2,     0.00,2,     2.11,2,    1.262,6,    0.625,6,    0.174,2,    1.124,2,    1.387,2,   1.8560,2,    13.96,2,    -58.7,2,     0.04,2,   7.861,2,   2206.2,2,   2291.0,2,     3.1,  0.0090,   0.140,   0.035,  -999.0,   0.005
   3220CGC92_2,   P13,    64,  1,    119,   1025,2,19921005,0502, 26.0178, 165.0645, 5895,   7967,    790.0,   5.0218,  34.1030,2,  34.0697,4,     95.4,2,  4.9576,     85.1,2,    80.71,2,    33.69,2,     0.00,2,     2.55,2,    0.525,2,    0.260,2,    0.040,2,    0.669,2,    0.809,2,   1.8120,2,    14.61,2,   -118.6,2,    -0.22,2,   7.775,2,   2266.3,2,   2305.9,2,     2.9,  0.0090,   0.140,   0.034,  -999.0,   0.003
   3220CGC92_2,   P13,    64,  1,    118,   1118,2,19921005,0502, 26.0178, 165.0645, 5895,   8916,    885.0,   4.3140,  34.1941,2,  34.1774,2,   -999.0,9,  4.2461,     56.3,2,   100.03,2,    37.89,2,     0.00,2,     2.82,2,    0.228,2,    0.116,2,    0.035,2,    0.342,2,    0.467,2,-999.0000,9,  -999.00,9,   -152.6,2,    -0.37,2,-999.000,9,   2307.3,2,   2333.2,2,     3.0,-999.0000,-999.000,-999.000,  -999.0,   0.003
   3220CGC92_2,   P13,    64,  1,    117,   1005,2,19921005,0502, 26.0178, 165.0645, 5895,   9982,    991.0,   3.8501,  34.2864,2,  34.2674,2,   -999.0,9,  3.7767,     39.6,2,   114.53,2,    39.06,2,     0.00,2,     2.97,2,    0.071,2,    0.034,2, -999.000,9, -999.000,9,    0.221,2,-999.0000,9,  -999.00,9,   -183.8,2,    -0.46,2,-999.000,9,   2333.8,2,   2346.8,2,     2.8,-999.0000,-999.000,-999.000,  -999.0,   0.002
   3220CGC92_2,   P13,    64,  1,    116,   1104,2,19921005,0502, 26.0178, 165.0645, 5895,  10980,   1091.0,   3.4682,  34.3571,2,  34.3414,2,     34.7,2,  3.3896,     34.1,2,   125.61,2,    39.70,2,     0.00,2,     3.05,2,    0.027,2,    0.013,2, -999.000,9, -999.000,9,    0.168,2,-999.0000,9,  -999.00,9,   -186.5,2,    -0.51,2,-999.000,9,   2350.3,2,   2366.8,2,     2.6,-999.0000,-999.000,-999.000,  -999.0,   0.002
   3220CGC92_2,   P13,    64,  1,    115,   1020,2,19921005,0502, 26.0178, 165.0645, 5895,  12005,   1194.0,   3.1592,  34.4229,2,  34.4124,2,     35.1,2,  3.0750,     35.9,2,   135.88,2,    40.75,2,     0.00,2,     3.06,2,    0.025,2,    0.007,2,    0.017,2,    0.041,2,    0.042,2,-999.0000,9,  -999.00,9,   -219.9,2,    -0.49,2,-999.000,9,   2362.2,2,   2372.6,2,     2.7,-999.0000,-999.000,-999.000,  -999.0,   0.002
   3220CGC92_2,   P13,    64,  1,    114,   1012,2,19921005,0502, 26.0178, 165.0645, 5895,  12995,   1292.0,   2.9603,  34.4611,2,  34.4521,2,     39.7,2,  2.8701,     39.1,2,   141.86,2,    40.03,2,     0.00,2,     3.04,2,    0.004,2,    0.002,2, -999.000,9, -999.000,9,    0.034,2,-999.0000,9,  -999.00,9,   -222.1,2,    -0.48,2,-999.000,9,   2367.0,2,   2386.8,2,     3.0,-999.0000,-999.000,-999.000,  -999.0,   0.002
   3220CGC92_2,   P13,    64,  1,    113,   1229,2,19921005,0502, 26.0178, 165.0645, 5895,  13996,   1393.0,   2.7163,  34.5020,2,  34.4972,2,     47.0,2,  2.6206,     47.2,6,   147.30,2,    40.10,2,     0.00,2,     2.98,2,    0.032,4,    0.011,2,    0.047,2,    0.021,2, -999.000,9,-999.0000,9,  -999.00,9,   -221.7,2,    -0.42,2,-999.000,9,   2367.7,2,   2387.5,2,     2.8,-999.0000,-999.000,-999.000,  -999.0,-999.000
   3220CGC92_2,   P13,    64,  1,    112,   1219,2,19921005,0502, 26.0178, 165.0645, 5895,  16003,   1593.0,   2.3794,  34.5493,2,  34.5437,2,     60.6,2,  2.2714,     60.9,2,   153.17,2,    39.99,2,     0.00,2,     2.94,2,    0.002,2,   -0.002,2, -999.000,9, -999.000,9, -999.000,9,-999.0000,9,  -999.00,9,   -232.7,2,    -0.34,2,-999.000,9,   2367.3,2,   2405.1,2,     3.1,-999.0000,-999.000,-999.000,  -999.0,-999.000
   3220CGC92_2,   P13,    64,  1,    111,   1112,2,19921005,0502, 26.0178, 165.0645, 5895,  17984,   1792.0,   2.1205,  34.5821,2,  34.5798,2,     72.8,2,  1.9996,     74.1,2,   158.79,2,    38.66,2,     0.00,2,     2.91,2,   -0.003,2,   -0.002,2, -999.000,9, -999.000,9, -999.000,9,-999.0000,9,  -999.00,9,   -235.2,2,    -0.11,3,-999.000,9,   2366.3,2,   2388.2,4,     2.8,-999.0000,-999.000,-999.000,  -999.0,-999.000
   3220CGC92_2,   P13,    64,  1,    110,   1029,2,19921005,0502, 26.0178, 165.0645, 5895,  20016,   1995.0,   1.9545,  34.6081,2,  34.6120,2,     90.8,2,  1.8193,     90.4,2,   159.20,2,    38.24,2,     0.00,2,     2.83,2,    0.001,2,   -0.009,2, -999.000,9, -999.000,9, -999.000,9,-999.0000,9,  -999.00,9,   -236.9,2,    -0.36,3,-999.000,9,   2359.1,2,   2416.1,2,     2.7,-999.0000,-999.000,-999.000,  -999.0,-999.000
   3220CGC92_2,   P13,    64,  1,    109,   1023,2,19921005,0502, 26.0178, 165.0645, 5895,  21987,   2192.0,   1.8326,  34.6257,2,  34.6250,2,    101.3,2,  1.6825,    101.7,2,   158.17,2,    38.00,2,     0.00,2,     2.78,2,    0.029,4,    0.001,2, -999.000,9, -999.000,9, -999.000,9,-999.0000,9,  -999.00,9,   -999.0,5,  -999.00,5,-999.000,9,   2353.3,2,   2410.9,2,  -999.0,-999.0000,-999.000,-999.000,  -999.0,-999.000
   3220CGC92_2,   P13,    64,  1,    108,   1032,2,19921005,0502, 26.0178, 165.0645, 5895,  25003,   2495.0,   1.6886,  34.6470,2,  34.6460,2,    114.6,2,  1.5146,    115.6,2,   156.68,2,    37.84,2,     0.00,2,     2.74,2,   -0.001,2,    0.000,2,    0.014,2,    0.013,2, -999.000,9,-999.0000,9,  -999.00,9,   -236.3,2,    -0.07,2,-999.000,9,   2347.0,2,   2421.1,2,     2.5,-999.0000,-999.000,-999.000,  -999.0,-999.000
   3220CGC92_2,   P13,    64,  1,    107,   1037,2,19921005,0502, 26.0178, 165.0645, 5895,  27975,   2793.0,   1.6046,  34.6601,2,  34.6574,2,    122.6,2,  1.4051,    125.2,2,   156.36,2,    37.30,2,     0.00,2,     2.67,2,   -0.005,2,    0.001,2, -999.000,9, -999.000,9, -999.000,9,-999.0000,9,  -999.00,9,   -240.2,2,    -0.01,2,-999.000,9,   2342.5,2,   2415.0,2,     2.6,-999.0000,-999.000,-999.000,  -999.0,-999.000
   3220CGC92_2,   P13,    64,  1,    106,   1022,2,19921005,0502, 26.0178, 165.0645, 5895,  30990,   3095.0,   1.5436,  34.6696,2,  34.6674,2,    132.5,2,  1.3167,    133.2,2,   155.64,2,    36.38,2,     0.00,2,     2.63,2,   -0.003,2,   -0.002,2, -999.000,9, -999.000,9, -999.000,9,-999.0000,9,  -999.00,9,   -229.5,2,    -0.01,2,-999.000,9,   2338.2,2,   2421.4,2,     2.8,-999.0000,-999.000,-999.000,  -999.0,-999.000
   3220CGC92_2,   P13,    64,  1,    105,   1221,2,19921005,0502, 26.0178, 165.0645, 5895,  33999,   3397.0,   1.5066,  34.6763,2,  34.6735,2,   -999.0,9,  1.2508,    140.5,2,   154.12,2,    36.09,2,     0.00,2,     2.57,2,    0.001,2,    0.002,2, -999.000,9, -999.000,9, -999.000,9,-999.0000,9,  -999.00,9,   -227.9,2,     0.06,2,-999.000,9,   2332.6,2,   2417.9,2,     2.8,-999.0000,-999.000,-999.000,  -999.0,-999.000
   3220CGC92_2,   P13,    64,  1,    104,   1038,2,19921005,0502, 26.0178, 165.0645, 5895,  37024,   3700.0,   1.4796,  34.6825,2,  34.6796,2,   -999.0,9,  1.1933,    147.0,2,   152.08,2,    35.78,2,     0.00,2,     2.54,2,   -0.007,2,   -0.009,2, -999.000,9, -999.000,9, -999.000,9,-999.0000,9,  -999.00,9,   -223.7,2,     0.12,2,-999.000,9,   2327.7,2,   2422.1,2,     2.5,-999.0000,-999.000,-999.000,  -999.0,-999.000
   3220CGC92_2,   P13,    64,  1,    103,   1033,2,19921005,0502, 26.0178, 165.0645, 5895,  40005,   3999.0,   1.4626,  34.6853,2,  34.6864,2,   -999.0,9,  1.1448,    152.0,2,   146.45,2,    35.41,2,     0.00,2,     2.51,2,   -0.003,2,    0.004,2, -999.000,9, -999.000,9, -999.000,9,-999.0000,9,  -999.00,9,   -223.2,2,     0.14,2,-999.000,9,   2324.8,2,   2410.4,2,     2.6,-999.0000,-999.000,-999.000,  -999.0,-999.000
   3220CGC92_2,   P13,    64,  1,    102,   1234,2,19921005,0502, 26.0178, 165.0645, 5895,  42990,   4298.0,   1.4477,  34.6889,2,  34.6860,2,   -999.0,9,  1.0972,    157.9,2,   150.63,2,    35.21,2,     0.00,2,     2.48,2,   -0.003,2,    0.001,2,    0.044,2,    0.016,2, -999.000,9,-999.0000,9,  -999.00,9,   -214.6,2,     0.19,2,-999.000,9,   2318.8,2,   2415.2,2,     3.6,-999.0000,-999.000,-999.000,  -999.0,-999.000