BOTTLE,20221003CCHSIOAMB
EXPOCODE,SECT_ID,STNNBR,CASTNO,SAMPNO,BTLNBR,BTLNBR_FLAG_W,DATE,TIME,LATITUDE,LONGITUDE,DEPTH,CTDRAW,CTDPRS,CTDTMP,CTDSAL,CTDSAL_FLAG_W,SALNTY,SALNTY_FLAG_W,CTDOXY,CTDOXY_FLAG_W,THETA,OXYGEN,OXYGEN_FLAG_W,SILCAT,SILCAT_FLAG_W,NITRAT,NITRAT_FLAG_W,NITRIT,NITRIT_FLAG_W,PHSPHT,PHSPHT_FLAG_W,CFC-11,CFC-11_FLAG_W,CFC-12,CFC-12_FLAG_W,CFC113,CFC113_FLAG_W,CCL4,CCL4_FLAG_W,TRITUM,TRITUM_FLAG_W,HELIUM,HELIUM_FLAG_W,DELHE3,DELHE3_FLAG_W,DELC14,DELC14_FLAG_W,DELC13,DELC13_FLAG_W,NEON,NEON_FLAG_W,TCARBN,TCARBN_FLAG_W,ALKALI,ALKALI_FLAG_W,C14ERR,HELIER,DELHER,NEONER,C13ERR,TRITER
,,,,,,,,,,,,DBAR,DBAR,ITS-90,PSS-78,,PSS-78,,UMOL/KG,,DEG C,UMOL/KG,,UMOL/KG,,UMOL/KG,,UMOL/KG,,UMOL/KG,,PMOL/KG,,PMOL/KG,,PMOL/KG,,PMOL/KG,,TU,,NMOL/KG,,PERCNT,,/MILLE,,/MILLE,,NMOL/KG,,UMOL/KG,,UMOL/KG,,/MILLE,NMOL/KG,PERCNT,NMOL/KG,/MILLE,TU
   3220CGC92_2,   P13,    62,  1,    133,   1231,2,19921002,2329, 18.6648, 164.5983, 5238,    234,     20.0,  28.8201,  35.0424,2,  35.0363,2,   -999.0,9, 28.8153,    205.9,2,     0.35,2,     0.00,2,     0.00,2,     0.00,2,    1.627,2,    0.928,2, -999.000,9, -999.000,9, -999.000,9,-999.0000,9,  -999.00,9,    110.2,2,     1.51,2,-999.000,9,   1937.7,2,   2307.0,2,     3.6,-999.0000,-999.000,-999.000,  -999.0,-999.000
   3220CGC92_2,   P13,    62,  1,    132,   1109,2,19921002,2329, 18.6648, 164.5983, 5238,    493,     46.0,  28.8201,  35.0445,2,  35.0380,2,   -999.0,9, 28.8090,    208.2,2,     0.41,2,     0.01,2,     0.00,2,     0.00,2,    1.633,2,    0.946,2, -999.000,9, -999.000,9, -999.000,9,-999.0000,9,  -999.00,9,   -999.0,9,  -999.00,9,-999.000,9,   1937.1,2,   2300.1,2,  -999.0,-999.0000,-999.000,-999.000,  -999.0,-999.000
   3220CGC92_2,   P13,    62,  1,    131,   1031,2,19921002,2329, 18.6648, 164.5983, 5238,    745,     71.0,  27.7463,  35.1389,2,  35.1379,2,    207.3,2, 27.7297,    223.9,2,     1.05,2,     0.01,2,     0.00,2,     0.00,2,    1.894,2,    1.074,2, -999.000,9, -999.000,9, -999.000,9,-999.0000,9,  -999.00,9,   -999.0,9,  -999.00,9,-999.000,9,   1953.4,2,   2325.0,2,  -999.0,-999.0000,-999.000,-999.000,  -999.0,-999.000
   3220CGC92_2,   P13,    62,  1,    130,   1041,2,19921002,2329, 18.6648, 164.5983, 5238,    994,     96.0,  24.7641,  35.2388,2,  35.2363,2,    201.9,2, 24.7434,    224.4,2,     1.08,2,     0.01,2,     0.00,2,     0.00,2,    1.908,2,    1.057,2, -999.000,9, -999.000,9, -999.000,9,-999.0000,9,  -999.00,9,   -999.0,9,  -999.00,9,-999.000,9,   1969.9,2,   2312.1,2,  -999.0,-999.0000,-999.000,-999.000,  -999.0,-999.000
   3220CGC92_2,   P13,    62,  1,    129,   1004,2,19921002,2329, 18.6648, 164.5983, 5238,   1258,    122.0,  23.5064,  35.2831,2,  35.3086,2,    194.1,2, 23.4810,    207.9,2,     1.14,2,     0.01,2,     0.00,2,     0.04,2,    1.927,2,    1.105,2, -999.000,9, -999.000,9, -999.000,9,-999.0000,9,  -999.00,9,   -999.0,9,  -999.00,9,-999.000,9,   1983.6,2,   2318.9,2,  -999.0,-999.0000,-999.000,-999.000,  -999.0,-999.000
   3220CGC92_2,   P13,    62,  1,    128,   1016,2,19921002,2329, 18.6648, 164.5983, 5238,   1483,    144.0,  21.4928,  35.1691,2,  35.2824,2,    190.8,2, 21.4648,    198.5,2,     1.46,2,     0.05,2,     0.09,2,     0.07,2,    2.048,2,    1.115,2, -999.000,9, -999.000,9, -999.000,9,-999.0000,9,  -999.00,9,   -999.0,9,  -999.00,9,-999.000,9,   2003.0,2,   2316.9,2,  -999.0,-999.0000,-999.000,-999.000,  -999.0,-999.000
   3220CGC92_2,   P13,    62,  1,    127,   1028,2,19921002,2329, 18.6648, 164.5983, 5238,   1763,    172.0,  19.5883,  35.0505,2,  35.1457,2,    184.9,2, 19.5570,    190.3,2,     2.16,2,     0.47,2,     0.00,2,     0.17,2,    2.157,2,    1.159,2, -999.000,9, -999.000,9, -999.000,9,-999.0000,9,  -999.00,9,   -999.0,9,  -999.00,9,-999.000,9,   2024.3,2,   2335.4,4,  -999.0,-999.0000,-999.000,-999.000,  -999.0,-999.000
   3220CGC92_2,   P13,    62,  1,    126,   1110,2,19921002,2329, 18.6648, 164.5983, 5238,   2001,    196.0,  17.8867,  34.8800,2,  35.0006,2,    186.8,2, 17.8532,    192.6,6,     2.85,2,     1.99,2,     0.00,2,     0.26,2,    2.316,2,    1.229,2, -999.000,9, -999.000,9, -999.000,9,-999.0000,9,  -999.00,9,   -999.0,9,  -999.00,9,-999.000,9,   2027.1,2,   2308.0,4,  -999.0,-999.0000,-999.000,-999.000,  -999.0,-999.000
   3220CGC92_2,   P13,    62,  1,    125,   1035,2,19921002,2329, 18.6648, 164.5983, 5238,   2506,    246.0,  16.2411,  34.7155,2,  34.8064,2,   -999.0,9, 16.2018,    198.1,2,     4.48,2,     4.26,2,     0.00,2,     0.34,2,    2.402,2,    1.269,2, -999.000,9, -999.000,9, -999.000,9,-999.0000,9,  -999.00,9,   -999.0,9,  -999.00,9,-999.000,9,   2033.2,2,   2286.7,2,  -999.0,-999.0000,-999.000,-999.000,  -999.0,-999.000
   3220CGC92_2,   P13,    62,  1,    124,   1026,2,19921002,2329, 18.6648, 164.5983, 5238,   3002,    296.0,  13.8287,  34.4793,2,  34.6157,2,   -999.0,9, 13.7863,    189.9,2,     7.74,2,     6.40,2,     0.00,2,     0.54,2,    2.317,6,    1.211,6, -999.000,9, -999.000,9, -999.000,9,-999.0000,9,  -999.00,9,   -999.0,9,  -999.00,9,-999.000,9,   2056.6,2,   2276.7,2,  -999.0,-999.0000,-999.000,-999.000,  -999.0,-999.000
   3220CGC92_2,   P13,    62,  1,    123,   1014,2,19921002,2329, 18.6648, 164.5983, 5238,   3472,    342.0,  11.9571,  34.3307,2,  34.3970,2,    190.7,2, 11.9127,    187.1,2,    13.36,2,    12.01,2,     0.00,2,     0.83,2,    2.273,2,    1.145,2, -999.000,9, -999.000,9, -999.000,9,-999.0000,9,  -999.00,9,   -999.0,9,  -999.00,9,-999.000,9,   2080.7,2,   2260.2,2,  -999.0,-999.0000,-999.000,-999.000,  -999.0,-999.000
   3220CGC92_2,   P13,    62,  1,    122,   1015,2,19921002,2329, 18.6648, 164.5983, 5238,   3997,    395.0,  10.2655,  34.2118,2,  34.2752,2,    193.1,2, 10.2189,    191.4,2,    18.33,2,    15.45,2,     0.00,2,     1.02,2,    2.131,2,    1.067,2, -999.000,9, -999.000,9, -999.000,9,-999.0000,9,  -999.00,9,   -999.0,9,  -999.00,9,-999.000,9,   2095.5,2,   2265.0,2,  -999.0,-999.0000,-999.000,-999.000,  -999.0,-999.000
   3220CGC92_2,   P13,    62,  1,    121,   1235,2,19921002,2329, 18.6648, 164.5983, 5238,   4991,    494.0,   7.4692,  34.0937,2,  34.1152,2,   -999.0,9,  7.4209,    148.8,2,    38.20,2,    24.58,2,     0.00,2,     1.70,2,    1.258,2,    0.661,2, -999.000,9, -999.000,9, -999.000,9,-999.0000,9,  -999.00,9,   -999.0,9,  -999.00,9,-999.000,9,   2165.0,2,   2273.7,2,  -999.0,-999.0000,-999.000,-999.000,  -999.0,-999.000
   3220CGC92_2,   P13,    62,  1,    120,   1237,2,19921002,2329, 18.6648, 164.5983, 5238,   6002,    594.0,   5.9506,  34.1470,2,  34.1393,2,     87.2,2,  5.8988,     80.2,2,    68.47,2,    33.85,2,     0.00,2,     2.48,2,    0.343,2,    0.180,2, -999.000,9, -999.000,9, -999.000,9,-999.0000,9,  -999.00,9,   -999.0,9,  -999.00,9,-999.000,9,   2252.7,2,   2301.0,2,  -999.0,-999.0000,-999.000,-999.000,  -999.0,-999.000
   3220CGC92_2,   P13,    62,  1,    119,   1025,2,19921002,2329, 18.6648, 164.5983, 5238,   6988,    693.0,   5.1308,  34.2884,2,  34.2989,2,     52.3,2,  5.0741,     49.2,2,    89.50,2,    37.48,2,     0.00,2,     2.78,2,    0.042,2,    0.025,2, -999.000,9, -999.000,9, -999.000,9,-999.0000,9,  -999.00,9,   -999.0,9,  -999.00,9,-999.000,9,   2302.4,2,   2334.0,2,  -999.0,-999.0000,-999.000,-999.000,  -999.0,-999.000
   3220CGC92_2,   P13,    62,  1,    118,   1118,2,19921002,2329, 18.6648, 164.5983, 5238,   7989,    793.0,   4.8948,  34.3984,2,  34.4128,6,     56.3,2,  4.8307,     57.5,2,    95.02,2,    37.13,2,     0.00,2,     2.80,2,    0.013,6,    0.009,6, -999.000,9, -999.000,9, -999.000,9,-999.0000,9,  -999.00,9,   -999.0,9,  -999.00,9,-999.000,9,   2307.2,2,   2347.6,2,  -999.0,-999.0000,-999.000,-999.000,  -999.0,-999.000
   3220CGC92_2,   P13,    62,  1,    117,   1005,2,19921002,2329, 18.6648, 164.5983, 5238,   8983,    892.0,   4.4849,  34.4476,2,  34.4616,2,     64.1,2,  4.4149,     63.8,2,   103.01,2,    37.62,2,     0.00,2,     2.78,2,    0.007,2,    0.005,2, -999.000,9, -999.000,9, -999.000,9,-999.0000,9,  -999.00,9,   -999.0,9,  -999.00,9,-999.000,9,   2315.5,2,   2358.8,2,  -999.0,-999.0000,-999.000,-999.000,  -999.0,-999.000
   3220CGC92_2,   P13,    62,  1,    116,   1104,2,19921002,2329, 18.6648, 164.5983, 5238,   9967,    990.0,   4.0390,  34.4885,2,  34.4978,2,     69.3,2,  3.9639,     67.7,2,   111.57,2,    37.36,2,     0.00,2,     2.81,2,    0.003,2,   -0.001,2, -999.000,9, -999.000,9, -999.000,9,-999.0000,9,  -999.00,9,   -999.0,9,  -999.00,9,-999.000,9,   2323.8,2,   2369.1,2,  -999.0,-999.0000,-999.000,-999.000,  -999.0,-999.000
   3220CGC92_2,   P13,    62,  1,    115,   1020,2,19921002,2329, 18.6648, 164.5983, 5238,  12013,   1194.0,   3.3292,  34.5361,2,  34.5461,2,     78.4,2,  3.2432,     78.2,2,   125.53,2,    38.15,2,     0.00,2,     2.80,2,    0.002,2,    0.001,2, -999.000,9, -999.000,9, -999.000,9,-999.0000,9,  -999.00,9,   -999.0,9,  -999.00,9,-999.000,9,   2335.1,2,   2386.5,2,  -999.0,-999.0000,-999.000,-999.000,  -999.0,-999.000
   3220CGC92_2,   P13,    62,  1,    114,   1012,2,19921002,2329, 18.6648, 164.5983, 5238,  13975,   1390.0,   2.8633,  34.5617,2,  34.5668,2,     83.3,2,  2.7660,     85.2,6,   134.65,2,    37.23,2,     0.00,2,     2.80,2,    0.000,2,    0.001,2, -999.000,9, -999.000,9, -999.000,9,-999.0000,9,  -999.00,9,   -999.0,9,  -999.00,9,-999.000,9,   2342.1,2,   2395.6,2,  -999.0,-999.0000,-999.000,-999.000,  -999.0,-999.000
   3220CGC92_2,   P13,    62,  1,    113,   1229,2,19921002,2329, 18.6648, 164.5983, 5238,  15981,   1591.0,   2.5374,  34.5828,2,  34.5884,2,     88.6,2,  2.4275,     89.9,2,   140.19,2,    36.85,2,     0.00,2,     2.76,2,    0.001,2,    0.000,2, -999.000,9, -999.000,9, -999.000,9,-999.0000,9,  -999.00,9,   -999.0,9,  -999.00,9,-999.000,9,   2343.9,2,   2401.7,2,  -999.0,-999.0000,-999.000,-999.000,  -999.0,-999.000
   3220CGC92_2,   P13,    62,  1,    112,   1219,2,19921002,2329, 18.6648, 164.5983, 5238,  17967,   1790.0,   2.2795,  34.6053,2,  34.6089,2,     96.4,2,  2.1565,     96.8,2,   144.67,2,    37.11,2,     0.00,2,     2.76,2,    0.017,2,   -0.009,2, -999.000,9, -999.000,9, -999.000,9,-999.0000,9,  -999.00,9,   -999.0,9,  -999.00,9,-999.000,9,   2346.7,2,   2405.8,2,  -999.0,-999.0000,-999.000,-999.000,  -999.0,-999.000
   3220CGC92_2,   P13,    62,  1,    111,   1112,2,19921002,2329, 18.6648, 164.5983, 5238,  21012,   2095.0,   1.9495,  34.6262,2,  34.6292,2,    106.5,2,  1.8059,    108.0,2,   151.39,2,    37.03,2,     0.00,2,     2.64,2,    0.001,2,    0.003,2, -999.000,9, -999.000,9, -999.000,9,-999.0000,9,  -999.00,9,   -999.0,9,  -999.00,9,-999.000,9,   2345.9,2,   2414.0,2,  -999.0,-999.0000,-999.000,-999.000,  -999.0,-999.000
   3220CGC92_2,   P13,    62,  1,    110,   1029,2,19921002,2329, 18.6648, 164.5983, 5238,  23992,   2393.0,   1.7626,  34.6370,2,  34.6465,3,   -999.0,9,  1.5963,    117.7,2,   153.55,2,    37.10,2,     0.00,2,     2.62,2,   -0.002,2,   -0.002,2, -999.000,9, -999.000,9, -999.000,9,-999.0000,9,  -999.00,9,   -999.0,9,  -999.00,9,-999.000,9,   2343.6,2,   2421.0,2,  -999.0,-999.0000,-999.000,-999.000,  -999.0,-999.000
   3220CGC92_2,   P13,    62,  1,    109,   1023,2,19921002,2329, 18.6648, 164.5983, 5238,  27007,   2696.0,   1.6556,  34.6577,2,  34.6588,2,    124.4,2,  1.4640,    125.5,2,   154.32,2,    36.61,2,     0.00,2,     2.58,2,    0.003,2,    0.000,2, -999.000,9, -999.000,9, -999.000,9,-999.0000,9,  -999.00,9,   -999.0,9,  -999.00,9,-999.000,9,   2340.5,2,   2421.3,2,  -999.0,-999.0000,-999.000,-999.000,  -999.0,-999.000
   3220CGC92_2,   P13,    62,  1,    108,   1032,2,19921002,2329, 18.6648, 164.5983, 5238,  30002,   2996.0,   1.5806,  34.6661,2,  34.6695,2,   -999.0,9,  1.3624,    133.3,2,   154.47,2,    36.07,2,     0.00,2,     2.55,2,   -0.001,2,    0.000,2, -999.000,9, -999.000,9, -999.000,9,-999.0000,9,  -999.00,9,   -999.0,9,  -999.00,9,-999.000,9,   2337.8,2,   2422.8,2,  -999.0,-999.0000,-999.000,-999.000,  -999.0,-999.000
   3220CGC92_2,   P13,    62,  1,    107,   1037,2,19921002,2329, 18.6648, 164.5983, 5238,  33006,   3297.0,   1.5256,  34.6730,2,  34.6733,2,    137.3,2,  1.2793,    139.9,2,   153.14,2,    35.15,2,     0.00,2,     2.51,2,   -0.001,2,    0.000,2, -999.000,9, -999.000,9, -999.000,9,-999.0000,9,  -999.00,9,   -999.0,9,  -999.00,9,-999.000,9,   2333.7,2,   2420.3,2,  -999.0,-999.0000,-999.000,-999.000,  -999.0,-999.000
   3220CGC92_2,   P13,    62,  1,    106,   1022,2,19921002,2329, 18.6648, 164.5983, 5238,  36005,   3598.0,   1.4976,  34.6776,2,  34.6779,2,    143.0,2,  1.2215,    145.7,2,   151.16,2,    34.77,2,     0.00,2,     2.47,2,   -0.003,2,    0.001,2, -999.000,9, -999.000,9, -999.000,9,-999.0000,9,  -999.00,9,   -999.0,9,  -999.00,9,-999.000,9,   2330.0,2,   2421.5,2,  -999.0,-999.0000,-999.000,-999.000,  -999.0,-999.000
   3220CGC92_2,   P13,    62,  1,    105,   1221,2,19921002,2329, 18.6648, 164.5983, 5238,  38998,   3898.0,   1.4656,  34.6813,2,  34.6828,2,   -999.0,9,  1.1587,    151.6,2,   148.51,2,    35.00,2,     0.00,2,     2.47,2,   -0.001,2,    0.000,2, -999.000,9, -999.000,9, -999.000,9,-999.0000,9,  -999.00,9,   -999.0,9,  -999.00,9,-999.000,9,   2322.9,2,   2416.9,2,  -999.0,-999.0000,-999.000,-999.000,  -999.0,-999.000
   3220CGC92_2,   P13,    62,  1,    104,   1038,2,19921002,2329, 18.6648, 164.5983, 5238,  42001,   4199.0,   1.4307,  34.6859,2,  34.6868,2,   -999.0,9,  1.0918,    159.4,2,   144.93,2,    34.79,2,     0.00,2,     2.43,2,   -0.002,2,    0.002,2, -999.000,9, -999.000,9, -999.000,9,-999.0000,9,  -999.00,9,   -999.0,9,  -999.00,9,-999.000,9,   2316.2,2,   2415.1,2,  -999.0,-999.0000,-999.000,-999.000,  -999.0,-999.000
   3220CGC92_2,   P13,    62,  1,    103,   1033,2,19921002,2329, 18.6648, 164.5983, 5238,  44999,   4499.0,   1.4107,  34.6916,2,  34.6927,2,   -999.0,9,  1.0385,    168.0,3,   139.99,2,    34.31,2,     0.00,2,     2.39,2,   -0.002,2,    0.006,2, -999.000,9, -999.000,9, -999.000,9,-999.0000,9,  -999.00,9,   -999.0,9,  -999.00,9,-999.000,9,   2307.7,2,   2406.4,2,  -999.0,-999.0000,-999.000,-999.000,  -999.0,-999.000
   3220CGC92_2,   P13,    62,  1,    102,   1234,2,19921002,2329, 18.6648, 164.5983, 5238,  47992,   4799.0,   1.3937,  34.6945,2,  34.6962,2,   -999.0,9,  0.9870,    175.4,3,   135.73,2,    33.44,2,     0.00,2,     2.34,2,   -0.002,2,   -0.001,2, -999.000,9, -999.000,9, -999.000,9,-999.0000,9,  -999.00,9,   -999.0,9,  -999.00,9,-999.000,9,   2301.3,2,   2404.0,2,  -999.0,-999.0000,-999.000,-999.000,  -999.0,-999.000
   3220CGC92_2,   P13,    62,  1,    101,   1238,2,19921002,2329, 18.6648, 164.5983, 5238,  51491,   5148.0,   1.3887,  34.6969,2,  34.6985,6,    180.0,2,  0.9400,    180.8,2,   133.35,2,    33.38,2,     0.00,2,     2.33,2,    0.007,2,    0.003,2, -999.000,9, -999.000,9, -999.000,9,-999.0000,9,  -999.00,9,   -999.0,9,  -999.00,9,-999.000,9,   2294.0,6,   2397.0,6,  -999.0,-999.0000,-999.000,-999.000,  -999.0,-999.000