BOTTLE,20221003CCHSIOAMB
EXPOCODE,SECT_ID,STNNBR,CASTNO,SAMPNO,BTLNBR,BTLNBR_FLAG_W,DATE,TIME,LATITUDE,LONGITUDE,DEPTH,CTDRAW,CTDPRS,CTDTMP,CTDSAL,CTDSAL_FLAG_W,SALNTY,SALNTY_FLAG_W,CTDOXY,CTDOXY_FLAG_W,THETA,OXYGEN,OXYGEN_FLAG_W,SILCAT,SILCAT_FLAG_W,NITRAT,NITRAT_FLAG_W,NITRIT,NITRIT_FLAG_W,PHSPHT,PHSPHT_FLAG_W,CFC-11,CFC-11_FLAG_W,CFC-12,CFC-12_FLAG_W,CFC113,CFC113_FLAG_W,CCL4,CCL4_FLAG_W,TRITUM,TRITUM_FLAG_W,HELIUM,HELIUM_FLAG_W,DELHE3,DELHE3_FLAG_W,DELC14,DELC14_FLAG_W,DELC13,DELC13_FLAG_W,NEON,NEON_FLAG_W,TCARBN,TCARBN_FLAG_W,ALKALI,ALKALI_FLAG_W,C14ERR,HELIER,DELHER,NEONER,C13ERR,TRITER
,,,,,,,,,,,,DBAR,DBAR,ITS-90,PSS-78,,PSS-78,,UMOL/KG,,DEG C,UMOL/KG,,UMOL/KG,,UMOL/KG,,UMOL/KG,,UMOL/KG,,PMOL/KG,,PMOL/KG,,PMOL/KG,,PMOL/KG,,TU,,NMOL/KG,,PERCNT,,/MILLE,,/MILLE,,NMOL/KG,,UMOL/KG,,UMOL/KG,,/MILLE,NMOL/KG,PERCNT,NMOL/KG,/MILLE,TU
   3220CGC92_2,   P13,    66,  1,    136,   1106,2,19921008,1448, 16.0090, 164.9922, 5224,    107,      8.0,  28.5921,  34.7013,2,  34.7020,2,   -999.0,9, 28.5902,    195.9,2,     0.58,2,     0.00,2,     0.00,2,     0.00,2,    1.646,2,    0.926,2,    0.966,4,    2.079,2, -999.000,9,-999.0000,9,  -999.00,9,   -999.0,5,     1.49,2,-999.000,9,   1929.0,2,   2331.5,4,  -999.0,-999.0000,-999.000,-999.000,  -999.0,-999.000
   3220CGC92_2,   P13,    66,  1,    135,   1013,2,19921008,1448, 16.0090, 164.9922, 5224,    242,     21.0,  28.6031,  34.7026,2,  34.7062,2,   -999.0,9, 28.5981,    195.8,2,     0.59,2,     0.00,2,     0.00,2,     0.00,2,    1.617,2,    0.935,2,    0.280,2,    2.078,2,    1.439,2,-999.0000,9,  -999.00,9,    112.5,2,     1.49,2,-999.000,9,   1928.7,6,   2283.3,2,     3.9,-999.0000,-999.000,-999.000,  -999.0,   0.017
   3220CGC92_2,   P13,    66,  1,    134,   1030,2,19921008,1448, 16.0090, 164.9922, 5224,    505,     47.0,  28.6081,  34.7011,2,  34.7038,2,    202.4,2, 28.5969,    195.8,2,     0.57,2,     0.00,2,     0.00,2,     0.00,2,    1.685,2,    0.985,2, -999.000,9, -999.000,9, -999.000,9,-999.0000,9,  -999.00,9,    104.7,2,     1.49,2,-999.000,9,   1929.2,2,   2279.8,2,     3.9,-999.0000,-999.000,-999.000,  -999.0,-999.000
   3220CGC92_2,   P13,    66,  1,    133,   1231,2,19921008,1448, 16.0090, 164.9922, 5224,    738,     70.0,  27.0655,  34.9145,2,  34.7100,2,   -999.0,9, 27.0494,    196.1,2,     0.61,2,     0.00,2,     0.00,2,     0.00,2,    1.646,2,    0.934,2,    0.944,4,    2.121,2, -999.000,9,-999.0000,9,  -999.00,9,    124.8,2,     1.49,2,-999.000,9,   1928.9,2,   2282.4,2,     5.0,-999.0000,-999.000,-999.000,  -999.0,-999.000
   3220CGC92_2,   P13,    66,  1,    132,   1017,2,19921008,1448, 16.0090, 164.9922, 5224,    986,     95.0,  25.5949,  35.2189,2,  35.1043,2,    212.6,2, 25.5739,    212.7,2,     0.88,2,     0.00,2,     0.00,2,     0.00,2,    1.847,2,    1.070,2, -999.000,9, -999.000,9,    1.526,2,   1.6960,2,    -1.14,2,    116.6,2,     1.49,2,   6.636,2,   1952.1,2,   2305.5,2,     5.0,  0.0080,   0.140,   0.029,  -999.0,   0.017
   3220CGC92_2,   P13,    66,  1,    131,   1031,2,19921008,1448, 16.0090, 164.9922, 5224,   1266,    123.0,  23.8993,  35.2661,2,  35.2578,2,    203.4,2, 23.8734,    205.2,2,     0.94,2,     0.00,2,     0.00,2,     0.00,2,    1.958,2,    1.121,2,    0.397,2,    1.276,2, -999.000,9,-999.0000,9,  -999.00,9,   -999.0,5,     1.35,2,-999.000,9,   1976.4,2,   2316.6,2,  -999.0,-999.0000,-999.000,-999.000,  -999.0,-999.000
   3220CGC92_2,   P13,    66,  1,    130,   1041,2,19921008,1448, 16.0090, 164.9922, 5224,   1510,    147.0,  22.5626,  35.2227,2,  35.2384,2,    188.0,2, 22.5329,    195.0,2,     1.28,2,     0.07,2,     0.00,2,     0.02,2,    2.038,6,    1.109,6,    0.275,2,    1.119,2,    1.691,2,   1.7070,2,    -0.59,2,    129.2,2,     1.19,2,   6.766,2,   1998.1,2,   2313.6,2,     3.8,  0.0080,   0.140,   0.030,  -999.0,   0.018
   3220CGC92_2,   P13,    66,  1,    129,   1004,2,19921008,1448, 16.0090, 164.9922, 5224,   1763,    172.0,  19.2774,  34.8733,2,  34.9268,2,    180.9,2, 19.2464,    177.7,6,     2.91,2,     1.45,2,     0.00,2,     0.27,2,    2.091,2,    1.144,2, -999.000,9, -999.000,9, -999.000,9,-999.0000,9,  -999.00,9,    118.5,2,     1.04,2,-999.000,9,   2041.5,2,   2303.1,2,     4.0,-999.0000,-999.000,-999.000,  -999.0,-999.000
   3220CGC92_2,   P13,    66,  1,    128,   1016,2,19921008,1448, 16.0090, 164.9922, 5224,   2006,    196.0,  17.1699,  34.7316,2,  34.8468,2,    165.8,2, 17.1374,    167.1,2,     4.49,2,     4.24,2,     0.10,2,     0.38,2,    2.097,2,    1.125,2,    0.164,2,    0.368,2,    1.837,2,   1.7260,2,     2.66,2,     97.3,2,     0.85,2,   6.982,2,   2060.6,2,   2294.1,2,     3.7,  0.0080,   0.140,   0.031,  -999.0,   0.022
   3220CGC92_2,   P13,    66,  1,    127,   1028,2,19921008,1448, 16.0090, 164.9922, 5224,   2500,    246.0,  13.7397,  34.4554,2,  34.4958,2,    156.0,2, 13.7047,    156.2,2,    11.25,2,    11.56,2,     0.00,2,     0.79,2,    1.936,2,    1.013,2, -999.000,9, -999.000,9,    1.984,2,   1.7620,2,     6.32,2,     81.8,2,     0.59,2,   7.224,2,   2095.4,2,   2275.4,2,     3.7,  0.0080,   0.140,   0.032,  -999.0,   0.006
   3220CGC92_2,   P13,    66,  1,    126,   1110,2,19921008,1448, 16.0090, 164.9922, 5224,   3001,    295.0,  11.5772,  34.3140,2,  34.3004,2,    141.1,2, 11.5397,    139.4,2,    22.95,2,    19.70,2,     0.06,2,     1.40,2,    1.396,2,    0.732,2, -999.000,9, -999.000,9,    1.741,2,   1.7630,2,    10.83,2,     36.0,2,     0.34,2,   7.392,2,   2143.8,2,   2269.5,4,     3.3,  0.0080,   0.140,   0.033,  -999.0,   0.005
   3220CGC92_2,   P13,    66,  1,    125,   1035,2,19921008,1448, 16.0090, 164.9922, 5224,   3502,    345.0,   9.6647,  34.2898,2,  34.2609,2,     90.8,2,  9.6255,    125.1,3,    34.83,2,    24.70,2,     0.00,2,     1.82,2,    0.934,2,    0.539,2,    0.062,2,    0.500,2,    1.361,2,   1.7780,2,    12.11,2,   -999.0,5,     0.15,2,   7.507,2,   2184.6,2,   2283.0,2,  -999.0,  0.0080,   0.140,   0.033,  -999.0,   0.005
   3220CGC92_2,   P13,    66,  1,    124,   1019,2,19921008,1448, 16.0090, 164.9922, 5224,   4011,    396.0,   8.6599,  34.3406,2,  34.3221,2,     75.5,2,  8.6178,     77.0,2,    42.54,2,    27.77,2,     0.15,2,     2.05,2,    0.454,2,    0.240,2, -999.000,9, -999.000,9,    0.931,2,-999.0000,9,  -999.00,9,    -55.4,2,     0.00,2,-999.000,9,   2220.3,2,   2292.0,2,     4.7,-999.0000,-999.000,-999.000,  -999.0,   0.004
   3220CGC92_2,   P13,    66,  1,    123,   1014,2,19921008,1448, 16.0090, 164.9922, 5224,   5013,    496.0,   7.5292,  34.4377,2,-999.0000,9,     46.2,2,  7.4802,     41.6,2,    54.61,2,    34.44,2,     0.00,2,     2.60,2,    0.095,3,    0.030,6,    0.042,6,    0.068,6,    0.234,2,   1.7900,2,     9.33,2,   -115.1,2,    -0.05,6,   7.544,2,   2266.3,2,   2312.4,2,     3.2,  0.0080,   0.140,   0.033,  -999.0,   0.002
   3220CGC92_2,   P13,    66,  1,    122,   1015,2,19921008,1448, 16.0090, 164.9922, 5224,   6002,    594.0,   6.7324,  34.4761,2,  34.4780,2,     49.1,2,  6.6768,     47.3,2,    64.12,2,    36.46,2,     0.00,2,     2.71,2,    0.015,2,    0.009,2, -999.000,9, -999.000,9,    0.120,2,-999.0000,9,  -999.00,9,   -137.9,2,     0.03,2,-999.000,9,   2277.3,2,   2322.5,2,     3.6,-999.0000,-999.000,-999.000,  -999.0,   0.002
   3220CGC92_2,   P13,    66,  1,    121,   1235,2,19921008,1448, 16.0090, 164.9922, 5224,   7015,    695.0,   5.9946,  34.4895,2,  34.4935,2,     52.3,2,  5.9329,     51.2,2,    73.05,2,    37.44,2,     0.00,2,     2.83,2,    0.010,6,    0.006,6,    0.049,6,    0.014,6,    0.070,2,   1.8040,2,    12.27,2,   -159.8,2,     0.00,2,   7.588,2,   2289.2,2,   2337.1,2,     3.3,  0.0080,   0.140,   0.033,  -999.0,   0.002
   3220CGC92_2,   P13,    66,  1,    120,   1237,2,19921008,1448, 16.0090, 164.9922, 5224,   7980,    792.0,   5.5267,  34.4982,2,  34.5012,2,     50.8,2,  5.4587,     48.6,2,    81.18,2,    37.56,2,     0.00,2,     2.88,2,    0.003,2,    0.001,2, -999.000,9, -999.000,9,    0.076,2,   1.8190,2,    13.99,2,   -165.3,2,    -0.06,2,   7.628,2,   2301.6,2,   2344.4,2,     4.0,  0.0090,   0.140,   0.034,  -999.0,   0.002
   3220CGC92_2,   P13,    66,  1,    119,   1025,2,19921008,1448, 16.0090, 164.9922, 5224,   9011,    895.0,   5.0508,  34.5139,2,  34.5145,2,     54.2,2,  4.9765,     49.5,2,    88.67,2,    38.27,2,     0.00,2,     2.93,2,    0.029,4,    0.000,2, -999.000,9, -999.000,9,    0.020,2,   1.8260,2,    15.71,2,   -163.8,3,    -0.08,2,   7.678,2,   2313.6,2,   2354.3,2,     4.2,  0.0090,   0.140,   0.034,  -999.0,   0.002
   3220CGC92_2,   P13,    66,  1,    118,   1118,2,19921008,1448, 16.0090, 164.9922, 5224,   9994,    993.0,   4.6229,  34.5261,2,  34.5270,6,     55.3,2,  4.5430,     53.3,2,    95.54,2,    38.71,2,     0.00,2,     2.94,2,    0.001,2,   -0.001,2, -999.000,9, -999.000,9,    0.059,2,   1.8520,2,    17.30,2,   -169.7,3,    -0.08,2,-999.000,9,   2319.9,2,   2358.9,2,     3.2,-999.0000,-999.000,-999.000,  -999.0,   0.002
   3220CGC92_2,   P13,    66,  1,    117,   1005,2,19921008,1448, 16.0090, 164.9922, 5224,  11021,   1095.0,   4.2280,  34.5382,2,  34.5384,2,     57.5,2,  4.1424,     58.9,2,   102.74,2,    37.84,2,     0.00,2,     2.92,2,    0.003,2,    0.004,2, -999.000,9, -999.000,9, -999.000,9,-999.0000,9,  -999.00,9,   -204.9,2,    -0.09,2,-999.000,9,   2324.9,2,   2369.9,2,     5.6,-999.0000,-999.000,-999.000,  -999.0,-999.000
   3220CGC92_2,   P13,    66,  1,    116,   1104,2,19921008,1448, 16.0090, 164.9922, 5224,  11993,   1192.0,   3.8401,  34.5444,2,  34.5470,2,     69.3,2,  3.7495,     68.1,2,   111.12,2,    37.38,2,     0.00,2,     2.88,2,    0.037,4,    0.002,2, -999.000,9, -999.000,9,    0.017,2,   1.8550,2,    19.40,2,   -208.1,2,    -0.12,2,-999.000,9,   2327.1,2,   2375.0,2,     2.8,-999.0000,-999.000,-999.000,  -999.0,   0.002
   3220CGC92_2,   P13,    66,  1,    115,   1020,2,19921008,1448, 16.0090, 164.9922, 5224,  12991,   1292.0,   3.5621,  34.5565,2,  34.5576,2,     73.2,2,  3.4658,     72.9,2,   118.92,2,    37.13,2,     0.00,2,     2.82,2,   -0.001,2,    0.001,2,    0.002,2,    0.138,4,    0.017,2,   1.8740,2,    20.60,2,   -999.0,5,    -3.29,4,-999.000,9,   2331.1,2,   2386.9,2,  -999.0,-999.0000,-999.000,-999.000,  -999.0,   0.001
   3220CGC92_2,   P13,    66,  1,    114,   1012,3,19921008,1448, 16.0090, 164.9922, 5224,  15003,   1493.0,   3.0343,  34.5759,2,  34.5812,2,     80.3,2,  2.9266,   -999.0,9,   118.46,4,    35.48,4,     0.00,2,     2.59,4, -999.000,9, -999.000,9, -999.000,9, -999.000,9,    0.074,2,-999.0000,9,  -999.00,9,   -217.5,4,    -0.10,2,-999.000,9,   -999.0,9,   -999.0,9,     3.3,-999.0000,-999.000,-999.000,  -999.0,   0.002
   3220CGC92_2,   P13,    66,  1,    113,   1229,2,19921008,1448, 16.0090, 164.9922, 5224,  17015,   1695.0,   2.6644,  34.5936,2,  34.5949,2,     89.7,2,  2.5442,     89.0,2,   138.36,2,    36.70,2,     0.00,2,     2.73,2,   -0.001,2,   -0.002,2, -999.000,9, -999.000,9, -999.000,9,   1.8940,2,    21.80,2,   -233.9,2,    -0.14,2,-999.000,9,   2344.8,2,   2407.1,2,     3.0,-999.0000,-999.000,-999.000,  -999.0,-999.000
   3220CGC92_2,   P13,    66,  1,    112,   1219,2,19921008,1448, 16.0090, 164.9922, 5224,  20019,   1995.0,   2.2325,  34.6194,2,  34.6212,2,    100.0,2,  2.0929,    100.8,2,   145.64,2,    37.42,2,     0.00,2,     2.69,2,    0.036,4,    0.002,2, -999.000,9, -999.000,9, -999.000,9,   1.9000,2,    21.60,2,   -999.0,5,    -0.08,2,-999.000,9,   2346.5,2,   2419.1,2,  -999.0,-999.0000,-999.000,-999.000,  -999.0,-999.000
   3220CGC92_2,   P13,    66,  1,    111,   1112,2,19921008,1448, 16.0090, 164.9922, 5224,  22983,   2292.0,   1.9665,  34.6395,2,  34.6424,2,    109.6,2,  1.8055,    110.9,2,   149.96,2,    36.35,2,     0.00,2,     2.67,2,    0.000,2,    0.000,2, -999.000,9, -999.000,9, -999.000,9,   1.8650,3,    22.50,2,   -220.8,3,    -0.06,2,-999.000,9,   2347.0,2,   2418.1,2,     4.8,-999.0000,-999.000,-999.000,  -999.0,-999.000
   3220CGC92_2,   P13,    66,  1,    110,   1029,2,19921008,1448, 16.0090, 164.9922, 5224,  26000,   2595.0,   1.8036,  34.6539,2,  34.6555,2,    116.8,2,  1.6183,    119.3,6,   153.15,2,    36.05,2,     0.00,2,     2.63,2,    0.001,2,    0.000,2, -999.000,9, -999.000,9, -999.000,9,   1.9030,2,    22.10,2,   -235.0,2,    -0.10,2,-999.000,9,   2345.7,2,   2425.7,2,     3.1,-999.0000,-999.000,-999.000,  -999.0,-999.000
   3220CGC92_2,   P13,    66,  1,    109,   1023,4,19921008,1448, 16.0090, 164.9922, 5224,  28993,   2895.0,   1.6986,  34.6613,2,-999.0000,9,    125.4,2,  1.4875,   -999.0,9,  -999.00,5,  -999.00,9,  -999.00,9,  -999.00,5,    0.000,2,    0.000,2, -999.000,9, -999.000,9, -999.000,9,-999.0000,9,  -999.00,9,   -999.0,9,  -999.00,9,-999.000,9,   -999.0,9,   -999.0,9,  -999.0,-999.0000,-999.000,-999.000,  -999.0,-999.000
   3220CGC92_2,   P13,    66,  1,    108,   1032,2,19921008,1448, 16.0090, 164.9922, 5224,  32002,   3196.0,   1.5886,  34.6692,2,  34.6708,2,    132.1,2,  1.3508,    134.3,2,   155.97,2,    35.09,2,     0.00,2,     2.57,2,    0.012,3,    0.002,2, -999.000,9, -999.000,9, -999.000,9,   1.9100,2,    19.20,2,   -234.5,2,    -0.06,2,-999.000,9,   2338.7,2,   2421.9,2,     3.1,-999.0000,-999.000,-999.000,  -999.0,-999.000
   3220CGC92_2,   P13,    66,  1,    107,   1037,2,19921008,1448, 16.0090, 164.9922, 5224,  35009,   3498.0,   1.5326,  34.6751,2,  34.6756,2,   -999.0,9,  1.2659,    141.4,2,   153.63,2,    34.58,2,     0.00,2,     2.52,2,    0.001,2,    0.002,2, -999.000,9, -999.000,9, -999.000,9,   1.8940,2,    18.30,2,   -227.8,2,     0.04,2,-999.000,9,   2332.8,2,   2424.9,2,     3.8,-999.0000,-999.000,-999.000,  -999.0,-999.000
   3220CGC92_2,   P13,    66,  1,    106,   1022,2,19921008,1448, 16.0090, 164.9922, 5224,  37993,   3797.0,   1.4996,  34.6805,2,  34.6808,2,   -999.0,9,  1.2025,    147.7,2,   151.11,2,    34.42,2,     0.00,2,     2.49,2,    0.005,2,   -0.001,2, -999.000,9, -999.000,9, -999.000,9,   1.9000,2,    17.50,2,   -223.6,2,     0.08,2,-999.000,9,   2327.3,2,   2417.3,2,     4.0,-999.0000,-999.000,-999.000,  -999.0,-999.000
   3220CGC92_2,   P13,    66,  1,    105,   1221,2,19921008,1448, 16.0090, 164.9922, 5224,  41005,   4099.0,   1.4676,  34.6842,2,  34.6845,2,   -999.0,9,  1.1388,    154.5,2,   148.20,2,    34.27,2,     0.00,2,     2.43,2,   -0.003,2,   -0.003,2, -999.000,9, -999.000,9, -999.000,9,   1.9090,2,    16.40,2,   -219.0,2,     0.14,2,-999.000,9,   2321.0,2,   2418.2,2,     3.3,-999.0000,-999.000,-999.000,  -999.0,-999.000
   3220CGC92_2,   P13,    66,  1,    104,   1038,2,19921008,1448, 16.0090, 164.9922, 5224,  44012,   4400.0,   1.4377,  34.6892,2,  34.6897,2,    159.0,2,  1.0760,    162.3,2,   144.01,2,    33.25,2,     0.00,2,     2.39,2,   -0.001,2,    0.005,2, -999.000,9, -999.000,9, -999.000,9,   1.8880,2,    15.50,2,   -226.4,3,     0.19,2,-999.000,9,   2314.7,2,   2408.6,2,     3.5,-999.0000,-999.000,-999.000,  -999.0,-999.000
   3220CGC92_2,   P13,    66,  1,    103,   1033,2,19921008,1448, 16.0090, 164.9922, 5224,  46994,   4699.0,   1.4157,  34.6920,2,  34.6946,2,    170.3,2,  1.0201,    171.2,2,   138.36,2,    32.55,2,     0.00,2,     2.35,2,   -0.001,2,    0.004,2, -999.000,9, -999.000,9, -999.000,9,   1.8850,2,    14.60,2,   -195.9,2,     0.24,2,-999.000,9,   2304.0,2,   2407.3,2,     2.9,-999.0000,-999.000,-999.000,  -999.0,-999.000
   3220CGC92_2,   P13,    66,  1,    102,   1234,2,19921008,1448, 16.0090, 164.9922, 5224,  49001,   4900.0,   1.4137,  34.6953,2,  34.6967,2,    174.3,2,  0.9943,    175.1,2,   135.56,2,    32.47,2,     0.00,2,     2.31,2,    0.001,2,    0.003,2, -999.000,9, -999.000,9, -999.000,9,-999.0000,9,  -999.00,9,   -190.7,2,     0.27,2,-999.000,9,   2298.6,2,   2400.4,2,     2.9,-999.0000,-999.000,-999.000,  -999.0,-999.000
   3220CGC92_2,   P13,    66,  1,    101,   1238,2,19921008,1448, 16.0090, 164.9922, 5224,  51142,   5112.0,   1.4157,  34.6963,2,  34.6980,6,    175.8,2,  0.9705,    176.1,2,   134.66,2,    32.35,2,     0.00,2,     2.29,2,    0.002,2,    0.001,2, -999.000,9, -999.000,9, -999.000,9,   1.8510,3,    14.20,2,   -198.8,2,     0.31,2,-999.000,9,   2294.5,6,   2401.3,6,     3.8,-999.0000,-999.000,-999.000,  -999.0,-999.000