BOTTLE,20221003CCHSIOAMB
EXPOCODE,SECT_ID,STNNBR,CASTNO,SAMPNO,BTLNBR,BTLNBR_FLAG_W,DATE,TIME,LATITUDE,LONGITUDE,DEPTH,CTDRAW,CTDPRS,CTDTMP,CTDSAL,CTDSAL_FLAG_W,SALNTY,SALNTY_FLAG_W,CTDOXY,CTDOXY_FLAG_W,THETA,OXYGEN,OXYGEN_FLAG_W,SILCAT,SILCAT_FLAG_W,NITRAT,NITRAT_FLAG_W,NITRIT,NITRIT_FLAG_W,PHSPHT,PHSPHT_FLAG_W,CFC-11,CFC-11_FLAG_W,CFC-12,CFC-12_FLAG_W,CFC113,CFC113_FLAG_W,CCL4,CCL4_FLAG_W,TRITUM,TRITUM_FLAG_W,HELIUM,HELIUM_FLAG_W,DELHE3,DELHE3_FLAG_W,DELC14,DELC14_FLAG_W,DELC13,DELC13_FLAG_W,NEON,NEON_FLAG_W,TCARBN,TCARBN_FLAG_W,ALKALI,ALKALI_FLAG_W,C14ERR,HELIER,DELHER,NEONER,C13ERR,TRITER
,,,,,,,,,,,,DBAR,DBAR,ITS-90,PSS-78,,PSS-78,,UMOL/KG,,DEG C,UMOL/KG,,UMOL/KG,,UMOL/KG,,UMOL/KG,,UMOL/KG,,PMOL/KG,,PMOL/KG,,PMOL/KG,,PMOL/KG,,TU,,NMOL/KG,,PERCNT,,/MILLE,,/MILLE,,NMOL/KG,,UMOL/KG,,UMOL/KG,,/MILLE,NMOL/KG,PERCNT,NMOL/KG,/MILLE,TU
   3220CGC92_1,   P13,    37,  1,    136,   1106,2,19920902,0429, 41.0218, 164.9900, 5135,     98,      7.0,  19.1754,  33.7349,2,  33.7112,2,    241.5,2, 19.1742,    242.9,2,     3.29,2,     0.01,2,     0.00,2,     0.00,2,    2.674,2,    1.343,2, -999.000,9, -999.000,9, -999.000,9,-999.0000,9,  -999.00,9,     58.7,2,     1.59,2,-999.000,9,   1958.5,2,   2241.0,2,     3.4,-999.0000,-999.000,-999.000,  -999.0,-999.000
   3220CGC92_1,   P13,    37,  1,    135,   1238,2,19920902,0429, 41.0218, 164.9900, 5135,    240,     21.0,  18.7865,  33.9834,2,  33.9181,2,    249.7,2, 18.7828,    248.0,2,     3.72,2,     0.01,2,     0.00,2,     0.04,2,    2.719,2,    1.380,2, -999.000,9, -999.000,9, -999.000,9,-999.0000,9,  -999.00,9,   -999.0,9,  -999.00,9,-999.000,9,   -999.0,9,   -999.0,9,  -999.0,-999.0000,-999.000,-999.000,  -999.0,-999.000
   3220CGC92_1,   P13,    37,  1,    134,   1030,2,19920902,0429, 41.0218, 164.9900, 5135,    509,     47.0,  11.5262,  34.2551,2,  34.2615,2,    248.9,2, 11.5203,    248.6,2,    12.63,2,     7.13,2,     0.15,2,     0.53,2,    3.296,2,    1.617,2, -999.000,9, -999.000,9, -999.000,9,-999.0000,9,  -999.00,9,   -999.0,9,  -999.00,9,-999.000,9,   -999.0,9,   -999.0,9,  -999.0,-999.0000,-999.000,-999.000,  -999.0,-999.000
   3220CGC92_1,   P13,    37,  1,    133,   1231,2,19920902,0429, 41.0218, 164.9900, 5135,    748,     71.0,  10.8324,  34.2254,2,  34.2281,2,    234.7,2, 10.8239,    234.1,2,    17.23,2,    10.77,2,     0.18,2,     0.73,2,    3.276,2,    1.625,2, -999.000,9, -999.000,9, -999.000,9,-999.0000,9,  -999.00,9,   -999.0,9,  -999.00,9,-999.000,9,   -999.0,9,   -999.0,9,  -999.0,-999.0000,-999.000,-999.000,  -999.0,-999.000
   3220CGC92_1,   P13,    37,  1,    132,   1109,2,19920902,0429, 41.0218, 164.9900, 5135,    990,     95.0,   9.6177,  34.0942,2,  34.1240,2,    249.7,2,  9.6071,    248.2,2,    18.86,2,    11.60,2,     0.00,2,     0.79,2,    3.645,6,    1.743,6, -999.000,9, -999.000,9, -999.000,9,-999.0000,9,  -999.00,9,   -999.0,9,  -999.00,9,-999.000,9,   -999.0,9,   -999.0,9,  -999.0,-999.0000,-999.000,-999.000,  -999.0,-999.000
   3220CGC92_1,   P13,    37,  1,    131,   1031,2,19920902,0429, 41.0218, 164.9900, 5135,   1272,    123.0,   9.1868,  34.1169,2,  34.1272,2,    258.3,2,  9.1735,    240.2,2,    21.54,2,    13.18,2,     0.00,2,     0.89,2,    3.431,2,    1.656,2, -999.000,9, -999.000,9, -999.000,9,-999.0000,9,  -999.00,9,   -999.0,9,  -999.00,9,-999.000,9,   -999.0,9,   -999.0,9,  -999.0,-999.0000,-999.000,-999.000,  -999.0,-999.000
   3220CGC92_1,   P13,    37,  1,    130,   1041,2,19920902,0429, 41.0218, 164.9900, 5135,   1483,    144.0,   8.6799,  34.0719,2,  34.1247,2,    234.6,2,  8.6649,    220.0,2,    26.88,2,    15.19,2,     0.59,2,     1.12,2,    3.028,2,    1.483,2, -999.000,9, -999.000,9, -999.000,9,-999.0000,9,  -999.00,9,   -999.0,9,  -999.00,9,-999.000,9,   -999.0,9,   -999.0,9,  -999.0,-999.0000,-999.000,-999.000,  -999.0,-999.000
   3220CGC92_1,   P13,    37,  1,    129,   1004,2,19920902,0429, 41.0218, 164.9900, 5135,   1756,    171.0,   7.8321,  33.9768,2,  33.9792,2,    237.2,2,  7.8153,    257.4,2,    27.13,2,    15.83,2,     0.00,2,     1.10,2,    3.858,2,    1.842,2, -999.000,9, -999.000,9, -999.000,9,-999.0000,9,  -999.00,9,   -999.0,9,  -999.00,9,-999.000,9,   -999.0,9,   -999.0,9,  -999.0,-999.0000,-999.000,-999.000,  -999.0,-999.000
   3220CGC92_1,   P13,    37,  1,    127,   1117,2,19920902,0429, 41.0218, 164.9900, 5135,   2008,    197.0,   6.9653,  33.8698,2,  33.9068,2,    258.6,2,  6.9473,    261.7,2,    29.62,2,    17.00,2,     0.00,2,     1.20,2,    3.956,2,    1.904,2, -999.000,9, -999.000,9, -999.000,9,-999.0000,9,  -999.00,9,   -999.0,9,  -999.00,9,-999.000,9,   -999.0,9,   -999.0,9,  -999.0,-999.0000,-999.000,-999.000,  -999.0,-999.000
   3220CGC92_1,   P13,    37,  1,    126,   1110,2,19920902,0429, 41.0218, 164.9900, 5135,   2507,    246.0,   6.3535,  33.8291,2,  33.8051,2,    272.0,2,  6.3320,    270.5,3,    29.65,2,    18.04,2,     0.00,2,     1.23,2,    4.221,2,    2.047,2, -999.000,9, -999.000,9, -999.000,9,-999.0000,9,  -999.00,9,   -999.0,9,  -999.00,9,-999.000,9,   -999.0,9,   -999.0,9,  -999.0,-999.0000,-999.000,-999.000,  -999.0,-999.000
   3220CGC92_1,   P13,    37,  1,    125,   1035,3,19920902,0429, 41.0218, 164.9900, 5135,   3002,    295.0,   5.7016,  33.8589,2,  33.8881,2,    193.6,2,  5.6773,    191.2,2,    48.43,2,    24.81,2,     0.00,2,     1.72,2,    2.917,2,    1.339,2, -999.000,9, -999.000,9, -999.000,9,-999.0000,9,  -999.00,9,   -999.0,9,  -999.00,9,-999.000,9,   -999.0,9,   -999.0,9,  -999.0,-999.0000,-999.000,-999.000,  -999.0,-999.000
   3220CGC92_1,   P13,    37,  1,    124,   1026,2,19920902,0429, 41.0218, 164.9900, 5135,   3482,    343.0,   5.2327,  33.8826,2,  33.9772,2,   -999.0,9,  5.2055,   -999.0,9,    62.19,2,    29.17,2,     0.00,2,     2.07,2,    1.968,6,    0.903,6, -999.000,9, -999.000,9, -999.000,9,-999.0000,9,  -999.00,9,   -999.0,9,  -999.00,9,-999.000,9,   -999.0,9,   -999.0,9,  -999.0,-999.0000,-999.000,-999.000,  -999.0,-999.000
   3220CGC92_1,   P13,    37,  1,    123,   1014,2,19920902,0429, 41.0218, 164.9900, 5135,   3989,    394.0,   5.2967,  34.0041,2,  34.0116,2,    132.0,2,  5.2651,    124.5,2,    71.41,2,    32.67,2,     0.00,2,     2.31,2,    1.534,2,    0.701,2, -999.000,9, -999.000,9, -999.000,9,-999.0000,9,  -999.00,9,   -999.0,9,  -999.00,9,-999.000,9,   -999.0,9,   -999.0,9,  -999.0,-999.0000,-999.000,-999.000,  -999.0,-999.000
   3220CGC92_1,   P13,    37,  1,    122,   1015,2,19920902,0429, 41.0218, 164.9900, 5135,   5006,    495.0,   4.2510,  34.0439,2,  34.0578,2,     99.1,2,  4.2148,   -999.0,9,    88.72,2,    37.16,2,     0.00,2,     2.64,2,    1.137,2,    0.495,2, -999.000,9, -999.000,9, -999.000,9,-999.0000,9,  -999.00,9,   -999.0,9,  -999.00,9,-999.000,9,   -999.0,9,   -999.0,9,  -999.0,-999.0000,-999.000,-999.000,  -999.0,-999.000
   3220CGC92_1,   P13,    37,  1,    121,   1235,2,19920902,0429, 41.0218, 164.9900, 5135,   6010,    595.0,   4.1440,  34.1641,2,  34.1640,2,     70.1,2,  4.1005,     66.2,2,   102.66,2,    39.22,2,     0.00,2,     2.82,2,    0.584,2,    0.276,2, -999.000,9, -999.000,9, -999.000,9,-999.0000,9,  -999.00,9,   -999.0,9,  -999.00,9,-999.000,9,   -999.0,9,   -999.0,9,  -999.0,-999.0000,-999.000,-999.000,  -999.0,-999.000
   3220CGC92_1,   P13,    37,  1,    120,   1237,2,19920902,0429, 41.0218, 164.9900, 5135,   6980,    692.0,   3.8401,  34.2308,2,  34.2316,2,     53.0,2,  3.7905,     52.9,2,   114.98,2,    40.52,2,     0.00,2,     2.90,2,    0.341,2,    0.155,2, -999.000,9, -999.000,9, -999.000,9,-999.0000,9,  -999.00,9,   -999.0,9,  -999.00,9,-999.000,9,   -999.0,9,   -999.0,9,  -999.0,-999.0000,-999.000,-999.000,  -999.0,-999.000
   3220CGC92_1,   P13,    37,  1,    119,   1025,2,19920902,0429, 41.0218, 164.9900, 5135,   8004,    794.0,   3.5022,  34.2925,2,  34.2920,2,     45.4,2,  3.4467,   -999.0,9,   124.72,2,    41.79,2,     0.00,2,     2.98,2,    0.197,3,    0.083,3, -999.000,9, -999.000,9, -999.000,9,-999.0000,9,  -999.00,9,   -999.0,9,  -999.00,9,-999.000,9,   -999.0,9,   -999.0,9,  -999.0,-999.0000,-999.000,-999.000,  -999.0,-999.000
   3220CGC92_1,   P13,    37,  1,    118,   1118,2,19920902,0429, 41.0218, 164.9900, 5135,   9004,    894.0,   3.2372,  34.3375,2,  34.3383,6,     40.8,2,  3.1758,     39.3,6,   133.21,2,    42.49,2,     0.00,2,     3.05,2,    0.579,4,    0.048,2, -999.000,9, -999.000,9, -999.000,9,-999.0000,9,  -999.00,9,   -999.0,9,  -999.00,9,-999.000,9,   -999.0,9,   -999.0,9,  -999.0,-999.0000,-999.000,-999.000,  -999.0,-999.000
   3220CGC92_1,   P13,    37,  1,    117,   1005,2,19920902,0429, 41.0218, 164.9900, 5135,   9990,    992.0,   2.9883,  34.3801,2,  34.3799,2,     36.4,2,  2.9213,   -999.0,9,   140.85,2,    42.22,2,     0.00,2,     3.03,2,    0.069,2,    0.026,2, -999.000,9, -999.000,9, -999.000,9,-999.0000,9,  -999.00,9,   -999.0,9,  -999.00,9,-999.000,9,   -999.0,9,   -999.0,9,  -999.0,-999.0000,-999.000,-999.000,  -999.0,-999.000
   3220CGC92_1,   P13,    37,  1,    116,   1104,2,19920902,0429, 41.0218, 164.9900, 5135,  10991,   1092.0,   2.8353,  34.4102,2,  34.4089,2,     36.5,2,  2.7620,     37.0,2,   145.21,2,    42.34,2,     0.00,2,     3.04,2,    0.053,6,    0.020,6, -999.000,9, -999.000,9, -999.000,9,-999.0000,9,  -999.00,9,   -999.0,9,  -999.00,9,-999.000,9,   -999.0,9,   -999.0,9,  -999.0,-999.0000,-999.000,-999.000,  -999.0,-999.000
   3220CGC92_1,   P13,    37,  1,    115,   1020,2,19920902,0429, 41.0218, 164.9900, 5135,  12021,   1195.0,   2.6574,  34.4386,2,  34.4462,2,     36.3,2,  2.5777,   -999.0,9,   150.81,2,    43.00,2,     0.00,2,     3.07,2,    0.032,2,    0.014,2, -999.000,9, -999.000,9, -999.000,9,-999.0000,9,  -999.00,9,   -999.0,9,  -999.00,9,-999.000,9,   -999.0,9,   -999.0,9,  -999.0,-999.0000,-999.000,-999.000,  -999.0,-999.000
   3220CGC92_1,   P13,    37,  1,    114,   1012,2,19920902,0429, 41.0218, 164.9900, 5135,  15021,   1495.0,   2.3284,  34.5077,2,  34.5137,2,     40.7,2,  2.2289,     42.1,2,   160.96,2,    42.02,2,     0.00,2,     3.04,2,    0.014,2,    0.002,2, -999.000,9, -999.000,9, -999.000,9,-999.0000,9,  -999.00,9,   -999.0,9,  -999.00,9,-999.000,9,   -999.0,9,   -999.0,9,  -999.0,-999.0000,-999.000,-999.000,  -999.0,-999.000
   3220CGC92_1,   P13,    37,  1,    113,   1229,2,19920902,0429, 41.0218, 164.9900, 5135,  17975,   1791.0,   2.0825,  34.5582,2,  34.5595,2,     57.9,2,  1.9623,     57.8,2,   166.56,2,    41.82,2,     0.00,2,     2.96,2,    0.005,6,   -0.001,6, -999.000,9, -999.000,9, -999.000,9,-999.0000,9,  -999.00,9,   -999.0,9,  -999.00,9,-999.000,9,   -999.0,9,   -999.0,9,  -999.0,-999.0000,-999.000,-999.000,  -999.0,-999.000
   3220CGC92_1,   P13,    37,  1,    112,   1219,3,19920902,0429, 41.0218, 164.9900, 5135,  20981,   2092.0,   1.8845,  34.5971,2,-999.0000,9,     74.8,2,  1.7423,   -999.0,9,  -999.00,5,  -999.00,9,  -999.00,9,  -999.00,5, -999.000,9, -999.000,9, -999.000,9, -999.000,9, -999.000,9,-999.0000,9,  -999.00,9,   -999.0,9,  -999.00,9,-999.000,9,   -999.0,9,   -999.0,9,  -999.0,-999.0000,-999.000,-999.000,  -999.0,-999.000
   3220CGC92_1,   P13,    37,  1,    111,   1112,2,19920902,0429, 41.0218, 164.9900, 5135,  24015,   2396.0,   1.7286,  34.6285,2,  34.6263,2,     92.1,2,  1.5626,     95.1,2,   165.88,2,    40.04,2,     0.00,2,     2.84,2,    0.000,6,   -0.003,6, -999.000,9, -999.000,9, -999.000,9,-999.0000,9,  -999.00,9,   -999.0,9,  -999.00,9,-999.000,9,   -999.0,9,   -999.0,9,  -999.0,-999.0000,-999.000,-999.000,  -999.0,-999.000
   3220CGC92_1,   P13,    37,  1,    110,   1029,3,19920902,0429, 41.0218, 164.9900, 5135,  26991,   2694.0,   1.6226,  34.6468,2,-999.0000,9,    108.4,2,  1.4319,   -999.0,9,  -999.00,5,  -999.00,9,  -999.00,9,  -999.00,5, -999.000,9, -999.000,9, -999.000,9, -999.000,9, -999.000,9,-999.0000,9,  -999.00,9,   -999.0,9,  -999.00,9,-999.000,9,   -999.0,9,   -999.0,9,  -999.0,-999.0000,-999.000,-999.000,  -999.0,-999.000
   3220CGC92_1,   P13,    37,  1,    109,   1023,2,19920902,0429, 41.0218, 164.9900, 5135,  29981,   2994.0,   1.5586,  34.6595,2,  34.6580,2,    120.2,2,  1.3411,    122.6,2,   160.44,2,    38.47,2,     0.00,2,     2.65,2,    0.002,2,   -0.004,2, -999.000,9, -999.000,9, -999.000,9,-999.0000,9,  -999.00,9,   -999.0,9,  -999.00,9,-999.000,9,   -999.0,9,   -999.0,9,  -999.0,-999.0000,-999.000,-999.000,  -999.0,-999.000
   3220CGC92_1,   P13,    37,  1,    108,   1032,2,19920902,0429, 41.0218, 164.9900, 5135,  33024,   3299.0,   1.5116,  34.6696,2,  34.6655,2,    130.4,2,  1.2655,   -999.0,9,   157.75,2,    37.40,2,     0.00,2,     2.63,2, -999.000,9, -999.000,9, -999.000,9, -999.000,9, -999.000,9,-999.0000,9,  -999.00,9,   -999.0,9,  -999.00,9,-999.000,9,   -999.0,9,   -999.0,9,  -999.0,-999.0000,-999.000,-999.000,  -999.0,-999.000
   3220CGC92_1,   P13,    37,  1,    107,   1037,2,19920902,0429, 41.0218, 164.9900, 5135,  35984,   3596.0,   1.4836,  34.6748,2,  34.6716,2,    134.9,2,  1.2080,    150.0,3,   155.51,2,    36.70,2,     0.00,2,     2.56,2,   -0.004,2,    0.000,2, -999.000,9, -999.000,9, -999.000,9,-999.0000,9,  -999.00,9,   -999.0,9,  -999.00,9,-999.000,9,   -999.0,9,   -999.0,9,  -999.0,-999.0000,-999.000,-999.000,  -999.0,-999.000
   3220CGC92_1,   P13,    37,  1,    106,   1022,2,19920902,0429, 41.0218, 164.9900, 5135,  38995,   3898.0,   1.4686,  34.6818,2,  34.6819,2,    142.0,2,  1.1616,   -999.0,9,   153.83,2,    36.78,2,     0.00,2,     2.55,2, -999.000,9, -999.000,9, -999.000,9, -999.000,9, -999.000,9,-999.0000,9,  -999.00,9,   -999.0,9,  -999.00,9,-999.000,9,   -999.0,9,   -999.0,9,  -999.0,-999.0000,-999.000,-999.000,  -999.0,-999.000
   3220CGC92_1,   P13,    37,  1,    105,   1221,2,19920902,0429, 41.0218, 164.9900, 5135,  42002,   4199.0,   1.4676,  34.6848,2,  34.6837,2,    150.5,2,  1.1277,    142.2,4,   152.86,2,    36.77,2,     0.00,2,     2.53,2,   -0.002,2,   -0.005,2, -999.000,9, -999.000,9, -999.000,9,-999.0000,9,  -999.00,9,   -999.0,9,  -999.00,9,-999.000,9,   -999.0,9,   -999.0,9,  -999.0,-999.0000,-999.000,-999.000,  -999.0,-999.000
   3220CGC92_1,   P13,    37,  1,    104,   1038,2,19920902,0429, 41.0218, 164.9900, 5135,  45032,   4503.0,   1.4776,  34.6865,2,  34.6855,2,    154.4,2,  1.1029,   -999.0,9,   152.50,2,    36.58,2,     0.00,2,     2.52,2, -999.000,9, -999.000,9, -999.000,9, -999.000,9, -999.000,9,-999.0000,9,  -999.00,9,   -999.0,9,  -999.00,9,-999.000,9,   -999.0,9,   -999.0,9,  -999.0,-999.0000,-999.000,-999.000,  -999.0,-999.000
   3220CGC92_1,   P13,    37,  1,    103,   1033,2,19920902,0429, 41.0218, 164.9900, 5135,  47991,   4799.0,   1.4996,  34.6879,2,  34.6862,2,    156.3,2,  1.0895,   -999.0,9,   152.23,2,    36.27,2,     0.00,2,     2.50,2,   -0.001,2,   -0.004,2, -999.000,9, -999.000,9, -999.000,9,-999.0000,9,  -999.00,9,   -999.0,9,  -999.00,9,-999.000,9,   -999.0,9,   -999.0,9,  -999.0,-999.0000,-999.000,-999.000,  -999.0,-999.000
   3220CGC92_1,   P13,    37,  1,    102,   1234,2,19920902,0429, 41.0218, 164.9900, 5135,  51001,   5099.0,   1.5256,  34.6888,2,  34.6897,2,    162.3,2,  1.0783,    157.6,2,   152.42,2,    35.78,2,     0.00,2,     2.43,2,    0.000,2,   -0.003,2, -999.000,9, -999.000,9, -999.000,9,-999.0000,9,  -999.00,9,   -999.0,9,  -999.00,9,-999.000,9,   -999.0,9,   -999.0,9,  -999.0,-999.0000,-999.000,-999.000,  -999.0,-999.000
   3220CGC92_1,   P13,    37,  1,    101,   1013,2,19920902,0429, 41.0218, 164.9900, 5135,  53617,   5361.0,   1.5516,  34.6885,2,  34.6883,6,    161.2,2,  1.0708,    159.3,2,   153.83,2,    35.69,2,     0.00,2,     2.46,2,    0.856,4,    0.000,2, -999.000,9, -999.000,9, -999.000,9,-999.0000,9,  -999.00,9,   -999.0,9,  -999.00,9,-999.000,9,   -999.0,9,   -999.0,9,  -999.0,-999.0000,-999.000,-999.000,  -999.0,-999.000