BOTTLE,20221003CCHSIOAMB
EXPOCODE,SECT_ID,STNNBR,CASTNO,SAMPNO,BTLNBR,BTLNBR_FLAG_W,DATE,TIME,LATITUDE,LONGITUDE,DEPTH,CTDRAW,CTDPRS,CTDTMP,CTDSAL,CTDSAL_FLAG_W,SALNTY,SALNTY_FLAG_W,CTDOXY,CTDOXY_FLAG_W,THETA,OXYGEN,OXYGEN_FLAG_W,SILCAT,SILCAT_FLAG_W,NITRAT,NITRAT_FLAG_W,NITRIT,NITRIT_FLAG_W,PHSPHT,PHSPHT_FLAG_W,CFC-11,CFC-11_FLAG_W,CFC-12,CFC-12_FLAG_W,CFC113,CFC113_FLAG_W,CCL4,CCL4_FLAG_W,TRITUM,TRITUM_FLAG_W,HELIUM,HELIUM_FLAG_W,DELHE3,DELHE3_FLAG_W,DELC14,DELC14_FLAG_W,DELC13,DELC13_FLAG_W,NEON,NEON_FLAG_W,TCARBN,TCARBN_FLAG_W,ALKALI,ALKALI_FLAG_W,C14ERR,HELIER,DELHER,NEONER,C13ERR,TRITER
,,,,,,,,,,,,DBAR,DBAR,ITS-90,PSS-78,,PSS-78,,UMOL/KG,,DEG C,UMOL/KG,,UMOL/KG,,UMOL/KG,,UMOL/KG,,UMOL/KG,,PMOL/KG,,PMOL/KG,,PMOL/KG,,PMOL/KG,,TU,,NMOL/KG,,PERCNT,,/MILLE,,/MILLE,,NMOL/KG,,UMOL/KG,,UMOL/KG,,/MILLE,NMOL/KG,PERCNT,NMOL/KG,/MILLE,TU
   3220CGC92_1,   P13,    21,  1,    135,   1033,2,19920826,0853, 48.9940, 164.9717, 5341,    103,      7.0,  10.3665,  32.8741,2,  32.8756,2,    286.1,2, 10.3657,    286.5,2,    29.60,2,    15.87,2,     0.10,2,     1.42,2,    4.065,2,    2.065,2,    0.385,2,    6.292,2, -999.000,9,-999.0000,9,  -999.00,9,    -10.5,2,     1.63,2,-999.000,9,   2042.5,2,   2228.9,2,     3.7,-999.0000,-999.000,-999.000,  -999.0,-999.000
   3220CGC92_1,   P13,    21,  1,    134,   1109,2,19920826,0853, 48.9940, 164.9717, 5341,    246,     21.0,   9.8976,  32.8906,2,  32.8875,2,    288.8,2,  9.8953,    289.4,2,    30.12,2,    16.59,2,     0.09,2,     1.44,2, -999.000,5, -999.000,5,    0.452,2,    6.420,2, -999.000,9,-999.0000,9,  -999.00,9,   -999.0,9,  -999.00,9,-999.000,9,   -999.0,9,   -999.0,9,  -999.0,-999.0000,-999.000,-999.000,  -999.0,-999.000
   3220CGC92_1,   P13,    21,  1,    133,   1031,2,19920826,0853, 48.9940, 164.9717, 5341,    499,     46.0,   4.2950,  33.0754,2,  33.0738,2,    326.7,2,  4.2918,    318.5,2,    34.09,2,    20.60,2,     0.14,2,     1.73,2,    5.572,2,    2.662,2, -999.000,9, -999.000,9, -999.000,9,-999.0000,9,  -999.00,9,   -999.0,9,  -999.00,9,-999.000,9,   -999.0,9,   -999.0,9,  -999.0,-999.0000,-999.000,-999.000,  -999.0,-999.000
   3220CGC92_1,   P13,    21,  1,    132,   1008,2,19920826,0853, 48.9940, 164.9717, 5341,    754,     72.0,   2.5864,  33.1502,2,  33.1574,2,    314.1,2,  2.5824,    320.1,2,    40.84,2,    25.56,2,     0.12,2,     1.93,2,    6.103,2,    2.892,2, -999.000,9, -999.000,9, -999.000,9,-999.0000,9,  -999.00,9,   -999.0,9,  -999.00,9,-999.000,9,   -999.0,9,   -999.0,9,  -999.0,-999.0000,-999.000,-999.000,  -999.0,-999.000
   3220CGC92_1,   P13,    21,  1,    131,   1030,2,19920826,0853, 48.9940, 164.9717, 5341,   1003,     97.0,   2.1215,  33.2209,2,  33.2207,2,    297.8,2,  2.1165,    306.0,2,    46.71,2,    28.57,2,     0.00,2,     2.01,2,    5.831,2,    2.756,2, -999.000,9, -999.000,9, -999.000,9,-999.0000,9,  -999.00,9,   -999.0,9,  -999.00,9,-999.000,9,   -999.0,9,   -999.0,9,  -999.0,-999.0000,-999.000,-999.000,  -999.0,-999.000
   3220CGC92_1,   P13,    21,  1,    130,   1032,2,19920826,0853, 48.9940, 164.9717, 5341,   1498,    146.0,   3.6341,  33.7983,2,  33.7908,2,     57.5,2,  3.6246,     67.0,2,    86.10,2,    41.10,2,     0.00,2,     2.95,2, -999.000,5, -999.000,5, -999.000,9, -999.000,9, -999.000,9,-999.0000,9,  -999.00,9,   -999.0,9,  -999.00,9,-999.000,9,   -999.0,9,   -999.0,9,  -999.0,-999.0000,-999.000,-999.000,  -999.0,-999.000
   3220CGC92_1,   P13,    21,  1,    128,   1028,4,19920826,0853, 48.9940, 164.9717, 5341,   1993,    195.0,   3.6121,  33.9171,2,-999.0000,9,     42.5,2,  3.5994,   -999.0,9,  -999.00,5,  -999.00,9,  -999.00,9,  -999.00,5, -999.000,9, -999.000,9, -999.000,9, -999.000,9, -999.000,9,-999.0000,9,  -999.00,9,   -999.0,9,  -999.00,9,-999.000,9,   -999.0,9,   -999.0,9,  -999.0,-999.0000,-999.000,-999.000,  -999.0,-999.000
   3220CGC92_1,   P13,    21,  1,    129,   1004,2,19920826,0853, 48.9940, 164.9717, 5341,   1993,    195.0,   3.6121,  33.9171,2,  33.9050,2,     42.5,2,  3.5994,     33.3,2,    95.89,2,    43.18,2,     0.00,2,     3.11,2, -999.000,9, -999.000,9, -999.000,9, -999.000,9, -999.000,9,-999.0000,9,  -999.00,9,   -999.0,9,  -999.00,9,-999.000,9,   -999.0,9,   -999.0,9,  -999.0,-999.0000,-999.000,-999.000,  -999.0,-999.000
   3220CGC92_1,   P13,    21,  1,    127,   1117,2,19920826,0853, 48.9940, 164.9717, 5341,   2497,    245.0,   3.6651,  33.9957,2,  33.9990,2,     26.5,2,  3.6489,     21.0,2,   102.05,2,    43.63,2,     0.00,2,     3.13,2,    0.773,2,    0.344,2, -999.000,9, -999.000,9, -999.000,9,-999.0000,9,  -999.00,9,   -999.0,9,  -999.00,9,-999.000,9,   -999.0,9,   -999.0,9,  -999.0,-999.0000,-999.000,-999.000,  -999.0,-999.000
   3220CGC92_1,   P13,    21,  1,    126,   1110,2,19920826,0853, 48.9940, 164.9717, 5341,   2997,    295.0,   3.5961,  34.0481,2,  34.0506,2,     20.3,2,  3.5766,     20.7,2,   107.35,2,    43.56,2,     0.00,2,     3.12,2, -999.000,9, -999.000,9, -999.000,9, -999.000,9, -999.000,9,-999.0000,9,  -999.00,9,   -999.0,9,  -999.00,9,-999.000,9,   -999.0,9,   -999.0,9,  -999.0,-999.0000,-999.000,-999.000,  -999.0,-999.000
   3220CGC92_1,   P13,    21,  1,    125,   1035,2,19920826,0853, 48.9940, 164.9717, 5341,   3494,    344.0,   3.5232,  34.1031,2,  34.1024,2,     20.1,2,  3.5004,     18.5,2,   112.43,2,    43.16,2,     0.00,2,     3.08,2, -999.000,9, -999.000,9, -999.000,9, -999.000,9, -999.000,9,-999.0000,9,  -999.00,9,   -999.0,9,  -999.00,9,-999.000,9,   -999.0,9,   -999.0,9,  -999.0,-999.0000,-999.000,-999.000,  -999.0,-999.000
   3220CGC92_1,   P13,    21,  1,    124,   1026,2,19920826,0853, 48.9940, 164.9717, 5341,   3997,    395.0,   3.4332,  34.1389,2,  34.1421,2,     20.1,2,  3.4071,     19.1,2,   117.11,2,    42.98,2,     0.00,2,     3.08,2,    0.347,2,    0.160,2, -999.000,9, -999.000,9, -999.000,9,-999.0000,9,  -999.00,9,   -999.0,9,  -999.00,9,-999.000,9,   -999.0,9,   -999.0,9,  -999.0,-999.0000,-999.000,-999.000,  -999.0,-999.000
   3220CGC92_1,   P13,    21,  1,    123,   1014,2,19920826,0853, 48.9940, 164.9717, 5341,   4998,    494.0,   3.1662,  34.1965,2,  34.1972,2,     22.0,2,  3.1343,     20.8,2,   126.61,2,    43.51,2,     0.00,2,     3.22,2, -999.000,9, -999.000,9, -999.000,9, -999.000,9, -999.000,9,-999.0000,9,  -999.00,9,   -999.0,9,  -999.00,9,-999.000,9,   -999.0,9,   -999.0,9,  -999.0,-999.0000,-999.000,-999.000,  -999.0,-999.000
   3220CGC92_1,   P13,    21,  1,    122,   1015,2,19920826,0853, 48.9940, 164.9717, 5341,   6005,    595.0,   3.0523,  34.2629,2,  34.2650,2,     21.5,2,  3.0138,     20.1,2,   133.42,2,    43.63,2,     0.00,2,     3.23,2, -999.000,9, -999.000,9, -999.000,9, -999.000,9, -999.000,9,-999.0000,9,  -999.00,9,   -999.0,9,  -999.00,9,-999.000,9,   -999.0,9,   -999.0,9,  -999.0,-999.0000,-999.000,-999.000,  -999.0,-999.000
   3220CGC92_1,   P13,    21,  1,    121,   1235,2,19920826,0853, 48.9940, 164.9717, 5341,   7002,    694.0,   2.9403,  34.3129,2,  34.3200,2,     20.0,2,  2.8954,     20.6,2,   139.57,2,    43.11,2,     0.00,2,     3.21,2,    0.118,2,    0.050,2, -999.000,9, -999.000,9, -999.000,9,-999.0000,9,  -999.00,9,   -999.0,9,  -999.00,9,-999.000,9,   -999.0,9,   -999.0,9,  -999.0,-999.0000,-999.000,-999.000,  -999.0,-999.000
   3220CGC92_1,   P13,    21,  1,    120,   1237,2,19920826,0853, 48.9940, 164.9717, 5341,   8000,    794.0,   2.7943,  34.3538,2,  34.3551,2,     21.1,2,  2.7432,     21.7,2,   144.25,2,    43.03,2,     0.00,2,     3.18,2, -999.000,9, -999.000,9, -999.000,9, -999.000,9, -999.000,9,-999.0000,9,  -999.00,9,   -999.0,9,  -999.00,9,-999.000,9,   -999.0,9,   -999.0,9,  -999.0,-999.0000,-999.000,-999.000,  -999.0,-999.000
   3220CGC92_1,   P13,    21,  1,    119,   1025,2,19920826,0853, 48.9940, 164.9717, 5341,   8997,    893.0,   2.6664,  34.3899,2,  34.3917,2,     23.6,2,  2.6090,     23.4,2,   148.56,2,    43.17,2,     0.00,2,     3.16,2, -999.000,9, -999.000,9, -999.000,9, -999.000,9, -999.000,9,-999.0000,9,  -999.00,9,   -999.0,9,  -999.00,9,-999.000,9,   -999.0,9,   -999.0,9,  -999.0,-999.0000,-999.000,-999.000,  -999.0,-999.000
   3220CGC92_1,   P13,    21,  1,    118,   1002,2,19920826,0853, 48.9940, 164.9717, 5341,   9994,    993.0,   2.5394,  34.4247,2,  34.4239,2,     27.1,2,  2.4757,     27.7,6,   152.18,2,    43.26,2,     0.00,2,     3.15,2,    0.048,2,    0.018,2, -999.000,9, -999.000,9, -999.000,9,-999.0000,9,  -999.00,9,   -999.0,9,  -999.00,9,-999.000,9,   -999.0,9,   -999.0,9,  -999.0,-999.0000,-999.000,-999.000,  -999.0,-999.000
   3220CGC92_1,   P13,    21,  1,    117,   1005,2,19920826,0853, 48.9940, 164.9717, 5341,  12005,   1194.0,   2.3434,  34.4746,2,  34.4815,2,     32.9,2,  2.2667,     34.4,2,   158.50,2,    42.53,2,     0.00,2,     3.11,2, -999.000,9, -999.000,9, -999.000,9, -999.000,9, -999.000,9,-999.0000,9,  -999.00,9,   -999.0,9,  -999.00,9,-999.000,9,   -999.0,9,   -999.0,9,  -999.0,-999.0000,-999.000,-999.000,  -999.0,-999.000
   3220CGC92_1,   P13,    21,  1,    116,   1104,2,19920826,0853, 48.9940, 164.9717, 5341,  14006,   1394.0,   2.1795,  34.5181,2,  34.5220,2,     41.8,2,  2.0894,     42.0,2,   162.53,2,    42.27,2,     0.00,2,     3.08,2, -999.000,9, -999.000,9, -999.000,9, -999.000,9, -999.000,9,-999.0000,9,  -999.00,9,   -999.0,9,  -999.00,9,-999.000,9,   -999.0,9,   -999.0,9,  -999.0,-999.0000,-999.000,-999.000,  -999.0,-999.000
   3220CGC92_1,   P13,    21,  1,    115,   1020,2,19920826,0853, 48.9940, 164.9717, 5341,  15999,   1593.0,   2.0395,  34.5537,2,  34.5629,2,     51.4,2,  1.9356,     52.2,2,   164.85,2,    41.30,2,     0.00,2,     3.03,2,    0.015,2,    0.005,2, -999.000,9, -999.000,9, -999.000,9,-999.0000,9,  -999.00,9,   -999.0,9,  -999.00,9,-999.000,9,   -999.0,9,   -999.0,9,  -999.0,-999.0000,-999.000,-999.000,  -999.0,-999.000
   3220CGC92_1,   P13,    21,  1,    114,   1120,2,19920826,0853, 48.9940, 164.9717, 5341,  18002,   1793.0,   1.9175,  34.5832,2,  34.5832,2,     62.3,2,  1.7994,     64.0,2,   166.13,2,    40.49,2,     0.00,2,     2.92,2, -999.000,9, -999.000,9, -999.000,9, -999.000,9, -999.000,9,-999.0000,9,  -999.00,9,   -999.0,9,  -999.00,9,-999.000,9,   -999.0,9,   -999.0,9,  -999.0,-999.0000,-999.000,-999.000,  -999.0,-999.000
   3220CGC92_1,   P13,    21,  1,    113,   1112,2,19920826,0853, 48.9940, 164.9717, 5341,  20001,   1994.0,   1.8066,  34.6067,2,  34.6109,2,     79.4,2,  1.6736,     76.8,2,   165.36,2,    40.11,2,     0.00,2,     2.83,2, -999.000,9, -999.000,9, -999.000,9, -999.000,9, -999.000,9,-999.0000,9,  -999.00,9,   -999.0,9,  -999.00,9,-999.000,9,   -999.0,9,   -999.0,9,  -999.0,-999.0000,-999.000,-999.000,  -999.0,-999.000
   3220CGC92_1,   P13,    21,  1,    112,   1234,2,19920826,0853, 48.9940, 164.9717, 5341,  23000,   2294.0,   1.6886,  34.6316,2,  34.6298,2,     94.3,2,  1.5322,     94.9,2,   162.44,2,    39.20,2,     0.00,2,     2.75,3,    0.002,2,   -0.001,2, -999.000,9, -999.000,9, -999.000,9,-999.0000,9,  -999.00,9,   -999.0,9,  -999.00,9,-999.000,9,   -999.0,9,   -999.0,9,  -999.0,-999.0000,-999.000,-999.000,  -999.0,-999.000
   3220CGC92_1,   P13,    21,  1,    111,   1221,2,19920826,0853, 48.9940, 164.9717, 5341,  26001,   2595.0,   1.6046,  34.6486,2,  34.6462,2,    109.4,2,  1.4232,    109.0,2,   159.97,2,    39.06,2,     0.00,2,     2.79,2, -999.000,9, -999.000,9, -999.000,9, -999.000,9, -999.000,9,-999.0000,9,  -999.00,9,   -999.0,9,  -999.00,9,-999.000,9,   -999.0,9,   -999.0,9,  -999.0,-999.0000,-999.000,-999.000,  -999.0,-999.000
   3220CGC92_1,   P13,    21,  1,    110,   1012,2,19920826,0853, 48.9940, 164.9717, 5341,  29005,   2896.0,   1.5496,  34.6600,2,  34.6638,3,    121.7,2,  1.3416,    121.9,2,   156.30,2,    38.36,2,     0.00,2,     2.71,2,   -0.004,2,    0.001,2, -999.000,9, -999.000,9, -999.000,9,-999.0000,9,  -999.00,9,   -999.0,9,  -999.00,9,-999.000,9,   -999.0,9,   -999.0,9,  -999.0,-999.0000,-999.000,-999.000,  -999.0,-999.000
   3220CGC92_1,   P13,    21,  1,    109,   1041,2,19920826,0853, 48.9940, 164.9717, 5341,  31995,   3196.0,   1.5086,  34.6675,2,  34.6660,2,    128.1,2,  1.2727,    131.4,2,   153.69,2,    37.68,2,     0.00,2,     2.67,2, -999.000,9, -999.000,9, -999.000,9, -999.000,9, -999.000,9,-999.0000,9,  -999.00,9,   -999.0,9,  -999.00,9,-999.000,9,   -999.0,9,   -999.0,9,  -999.0,-999.0000,-999.000,-999.000,  -999.0,-999.000
   3220CGC92_1,   P13,    21,  1,    108,   1003,2,19920826,0853, 48.9940, 164.9717, 5341,  34996,   3497.0,   1.4796,  34.6746,2,  34.6725,2,   -999.0,9,  1.2143,    138.7,2,   152.07,2,    36.92,2,     0.00,2,     2.62,2,    0.001,2,    0.002,2, -999.000,9, -999.000,9, -999.000,9,-999.0000,9,  -999.00,9,   -999.0,9,  -999.00,9,-999.000,9,   -999.0,9,   -999.0,9,  -999.0,-999.0000,-999.000,-999.000,  -999.0,-999.000
   3220CGC92_1,   P13,    21,  1,    107,   1013,2,19920826,0853, 48.9940, 164.9717, 5341,  38004,   3798.0,   1.4726,  34.6799,2,  34.6776,2,    141.8,2,  1.1762,    144.2,2,   150.56,2,    36.70,2,     0.00,2,     2.59,2, -999.000,9, -999.000,9, -999.000,9, -999.000,9, -999.000,9,-999.0000,9,  -999.00,9,   -999.0,9,  -999.00,9,-999.000,9,   -999.0,9,   -999.0,9,  -999.0,-999.0000,-999.000,-999.000,  -999.0,-999.000
   3220CGC92_1,   P13,    21,  1,    106,   1036,2,19920826,0853, 48.9940, 164.9717, 5341,  40989,   4097.0,   1.4706,  34.6826,2,  34.6793,2,   -999.0,9,  1.1419,    149.2,2,   149.04,2,    36.78,2,     0.00,2,     2.58,2,    0.002,6,    0.002,6, -999.000,9, -999.000,9, -999.000,9,-999.0000,9,  -999.00,9,   -999.0,9,  -999.00,9,-999.000,9,   -999.0,9,   -999.0,9,  -999.0,-999.0000,-999.000,-999.000,  -999.0,-999.000
   3220CGC92_1,   P13,    21,  1,    105,   1037,2,19920826,0853, 48.9940, 164.9717, 5341,  43995,   4399.0,   1.4806,  34.6853,2,  34.6847,2,   -999.0,9,  1.1178,    152.3,2,   148.30,2,    36.64,2,     0.00,2,     2.57,2, -999.000,9, -999.000,9, -999.000,9, -999.000,9, -999.000,9,-999.0000,9,  -999.00,9,   -999.0,9,  -999.00,9,-999.000,9,   -999.0,9,   -999.0,9,  -999.0,-999.0000,-999.000,-999.000,  -999.0,-999.000
   3220CGC92_1,   P13,    21,  1,    104,   1029,2,19920826,0853, 48.9940, 164.9717, 5341,  47000,   4699.0,   1.4926,  34.6873,2,  34.6904,3,    155.5,2,  1.0946,    155.4,2,   148.17,2,    36.24,2,     0.00,2,     2.54,2,    0.393,4,    0.001,2, -999.000,9, -999.000,9, -999.000,9,-999.0000,9,  -999.00,9,   -999.0,9,  -999.00,9,-999.000,9,   -999.0,9,   -999.0,9,  -999.0,-999.0000,-999.000,-999.000,  -999.0,-999.000
   3220CGC92_1,   P13,    21,  1,    103,   1023,2,19920826,0853, 48.9940, 164.9717, 5341,  50002,   5000.0,   1.5176,  34.6879,2,  34.6889,2,    157.5,2,  1.0827,    156.8,2,   148.23,2,    35.87,2,     0.00,2,     2.51,2, -999.000,9, -999.000,9, -999.000,9, -999.000,9, -999.000,9,-999.0000,9,  -999.00,9,   -999.0,9,  -999.00,9,-999.000,9,   -999.0,9,   -999.0,9,  -999.0,-999.0000,-999.000,-999.000,  -999.0,-999.000
   3220CGC92_1,   P13,    21,  1,    102,   2001,2,19920826,0853, 48.9940, 164.9717, 5341,  53002,   5299.0,   1.5496,  34.6885,2,  34.6902,2,    159.3,2,  1.0766,    158.5,2,   148.36,2,    36.05,2,     0.00,2,     2.49,2,   -0.001,2,    0.039,4, -999.000,9, -999.000,9, -999.000,9,-999.0000,9,  -999.00,9,   -999.0,9,  -999.00,9,-999.000,9,   -999.0,9,   -999.0,9,  -999.0,-999.0000,-999.000,-999.000,  -999.0,-999.000
   3220CGC92_1,   P13,    21,  1,    101,   1038,2,19920826,0853, 48.9940, 164.9717, 5341,  56695,   5668.0,   1.5966,  34.6882,2,  34.6894,6,    160.3,2,  1.0747,    158.1,2,   149.28,2,    35.99,2,     0.00,2,     2.49,2,   -0.002,6,    0.007,6, -999.000,9, -999.000,9, -999.000,9,-999.0000,9,  -999.00,9,   -999.0,9,  -999.00,9,-999.000,9,   -999.0,9,   -999.0,9,  -999.0,-999.0000,-999.000,-999.000,  -999.0,-999.000