BOTTLE,20221003CCHSIOAMB
EXPOCODE,SECT_ID,STNNBR,CASTNO,SAMPNO,BTLNBR,BTLNBR_FLAG_W,DATE,TIME,LATITUDE,LONGITUDE,DEPTH,CTDRAW,CTDPRS,CTDTMP,CTDSAL,CTDSAL_FLAG_W,SALNTY,SALNTY_FLAG_W,CTDOXY,CTDOXY_FLAG_W,THETA,OXYGEN,OXYGEN_FLAG_W,SILCAT,SILCAT_FLAG_W,NITRAT,NITRAT_FLAG_W,NITRIT,NITRIT_FLAG_W,PHSPHT,PHSPHT_FLAG_W,CFC-11,CFC-11_FLAG_W,CFC-12,CFC-12_FLAG_W,CFC113,CFC113_FLAG_W,CCL4,CCL4_FLAG_W,TRITUM,TRITUM_FLAG_W,HELIUM,HELIUM_FLAG_W,DELHE3,DELHE3_FLAG_W,DELC14,DELC14_FLAG_W,DELC13,DELC13_FLAG_W,NEON,NEON_FLAG_W,TCARBN,TCARBN_FLAG_W,ALKALI,ALKALI_FLAG_W,C14ERR,HELIER,DELHER,NEONER,C13ERR,TRITER
,,,,,,,,,,,,DBAR,DBAR,ITS-90,PSS-78,,PSS-78,,UMOL/KG,,DEG C,UMOL/KG,,UMOL/KG,,UMOL/KG,,UMOL/KG,,UMOL/KG,,PMOL/KG,,PMOL/KG,,PMOL/KG,,PMOL/KG,,TU,,NMOL/KG,,PERCNT,,/MILLE,,/MILLE,,NMOL/KG,,UMOL/KG,,UMOL/KG,,/MILLE,NMOL/KG,PERCNT,NMOL/KG,/MILLE,TU
   3220CGC92_2,   P13,    63,  1,    135,   1013,2,19921004,0811, 24.0425, 164.9848, 5876,    108,      8.0,  27.2335,  35.1666,2,  35.1543,2,    211.7,2, 27.2316,    201.6,2,     1.07,2,     0.00,2,     0.00,2,     0.00,2,    1.719,2,    0.996,2, -999.000,9, -999.000,9, -999.000,9,-999.0000,9,  -999.00,9,    106.1,2,     1.42,2,-999.000,9,   1954.0,6,   2308.4,6,     3.7,-999.0000,-999.000,-999.000,  -999.0,-999.000
   3220CGC92_2,   P13,    63,  1,    136,   1106,2,19921004,0811, 24.0425, 164.9848, 5876,    108,      8.0,  27.2335,  35.1666,2,  35.1548,2,    211.9,2, 27.2316,    200.9,2,     1.00,2,     0.00,2,     0.00,2,     0.00,2, -999.000,5, -999.000,5, -999.000,9, -999.000,9, -999.000,9,-999.0000,9,  -999.00,9,   -999.0,5,     1.44,2,-999.000,9,   1953.5,2,   2308.3,2,  -999.0,-999.0000,-999.000,-999.000,  -999.0,-999.000
   3220CGC92_2,   P13,    63,  1,    134,   1030,2,19921004,0811, 24.0425, 164.9848, 5876,    239,     21.0,  27.1335,  35.1662,2,  35.1549,2,    213.9,2, 27.1287,    200.5,2,     1.16,2,     0.00,2,     0.00,2,     0.00,2,    1.734,2,    0.977,2, -999.000,9, -999.000,9, -999.000,9,-999.0000,9,  -999.00,9,    104.3,2,     1.43,2,-999.000,9,   1953.3,2,   2312.9,2,     3.7,-999.0000,-999.000,-999.000,  -999.0,-999.000
   3220CGC92_2,   P13,    63,  1,    133,   1231,2,19921004,0811, 24.0425, 164.9848, 5876,    478,     44.0,  27.0325,  35.1755,2,  35.1543,2,    212.5,2, 27.0224,   -999.0,5,     1.17,2,     0.00,2,     0.00,2,     0.00,2,    1.746,2,    1.015,2, -999.000,9, -999.000,9, -999.000,9,-999.0000,9,  -999.00,9,   -999.0,5,    -1.46,4,-999.000,9,   1953.0,2,   2307.0,2,  -999.0,-999.0000,-999.000,-999.000,  -999.0,-999.000
   3220CGC92_2,   P13,    63,  1,    132,   1109,2,19921004,0811, 24.0425, 164.9848, 5876,    630,     60.0,  25.8528,  35.2840,2,  35.2879,4,    213.7,2, 25.8395,    210.1,2,     1.30,2,     0.00,2,     0.00,2,     0.00,2,    1.888,2,    1.077,2, -999.000,9, -999.000,9, -999.000,9,-999.0000,9,  -999.00,9,    107.5,2,     1.34,2,-999.000,9,   1967.8,2,   2319.5,2,     6.5,-999.0000,-999.000,-999.000,  -999.0,-999.000
   3220CGC92_2,   P13,    63,  1,    131,   1031,2,19921004,0811, 24.0425, 164.9848, 5876,   1006,     97.0,  22.0307,  35.2779,2,  35.2715,2,    215.3,2, 22.0115,    209.9,2,     1.88,2,     0.00,2,     0.00,2,     0.00,2,    2.189,2,    1.226,2, -999.000,9, -999.000,9, -999.000,9,-999.0000,9,  -999.00,9,   -999.0,5,     0.85,3,-999.000,9,   2001.5,2,   2314.9,2,  -999.0,-999.0000,-999.000,-999.000,  -999.0,-999.000
   3220CGC92_2,   P13,    63,  1,    130,   1041,2,19921004,0811, 24.0425, 164.9848, 5876,   1262,    122.0,  19.8112,  35.0903,2,  35.1509,2,    201.0,2, 19.7888,    201.5,2,     2.46,2,     0.08,2,     0.00,2,     0.01,2, -999.000,5, -999.000,5, -999.000,9, -999.000,9, -999.000,9,-999.0000,9,  -999.00,9,    108.1,2,     1.09,2,-999.000,9,   2015.9,2,   2365.3,4,     3.8,-999.0000,-999.000,-999.000,  -999.0,-999.000
   3220CGC92_2,   P13,    63,  1,    129,   1004,2,19921004,0811, 24.0425, 164.9848, 5876,   1506,    147.0,  19.0514,  35.0595,2,  35.0194,2,    205.7,2, 19.0252,    209.6,2,     2.77,2,     0.00,2,     0.00,2,     0.01,2,    2.410,6,    1.313,6, -999.000,9, -999.000,9, -999.000,9,-999.0000,9,  -999.00,9,     95.7,2,     1.04,2,-999.000,9,   2012.2,2,   2292.2,2,     5.1,-999.0000,-999.000,-999.000,  -999.0,-999.000
   3220CGC92_2,   P13,    63,  1,    128,   1016,2,19921004,0811, 24.0425, 164.9848, 5876,   1751,    171.0,  17.8667,  34.8976,2,  34.9812,2,    209.3,2, 17.8375,    210.8,6,     3.19,2,     0.43,2,     0.00,2,     0.08,2,    2.427,2,    1.300,2, -999.000,9, -999.000,9, -999.000,9,-999.0000,9,  -999.00,9,    115.6,2,     0.98,2,-999.000,9,   2015.4,2,   2296.4,2,     3.7,-999.0000,-999.000,-999.000,  -999.0,-999.000
   3220CGC92_2,   P13,    63,  1,    127,   1028,2,19921004,0811, 24.0425, 164.9848, 5876,   2012,    197.0,  17.0559,  34.7855,2,  34.8777,2,    211.0,2, 17.0234,    210.2,2,     3.70,2,     1.36,2,     0.00,2,     0.12,2,    2.469,2,    1.358,2, -999.000,9, -999.000,9, -999.000,9,-999.0000,9,  -999.00,9,    116.0,2,     0.94,2,-999.000,9,   2019.6,2,   2286.0,2,     3.7,-999.0000,-999.000,-999.000,  -999.0,-999.000
   3220CGC92_2,   P13,    63,  1,    126,   1110,2,19921004,0811, 24.0425, 164.9848, 5876,   2255,    221.0,  16.7680,  34.7684,2,  34.8107,2,    211.4,2, 16.7319,    199.5,2,     4.40,2,     2.67,2,     0.00,2,     0.19,2,    2.506,2,    1.321,2, -999.000,9, -999.000,9, -999.000,9,-999.0000,9,  -999.00,9,    116.3,2,     0.86,2,-999.000,9,   2023.0,2,   2285.5,2,     7.1,-999.0000,-999.000,-999.000,  -999.0,-999.000
   3220CGC92_2,   P13,    63,  1,    125,   1035,2,19921004,0811, 24.0425, 164.9848, 5876,   2500,    246.0,  16.3701,  34.7330,2,  34.7551,2,    204.6,2, 16.3305,    209.9,2,     5.07,2,     4.20,2,     0.00,2,     0.25,2,    2.487,2,    1.349,2, -999.000,9, -999.000,9, -999.000,9,-999.0000,9,  -999.00,9,    133.0,2,     0.80,2,-999.000,9,   2023.9,2,   2283.8,2,     4.0,-999.0000,-999.000,-999.000,  -999.0,-999.000
   3220CGC92_2,   P13,    63,  1,    124,   1026,2,19921004,0811, 24.0425, 164.9848, 5876,   3016,    297.0,  15.5553,  34.6584,2,  34.6785,2,    211.8,2, 15.5091,    202.6,2,     6.84,2,     5.03,2,     0.00,2,     0.33,2,    2.431,2,    1.259,2, -999.000,9, -999.000,9, -999.000,9,-999.0000,9,  -999.00,9,    117.4,2,     0.77,2,-999.000,9,   2042.5,2,   2277.8,2,     3.7,-999.0000,-999.000,-999.000,  -999.0,-999.000
   3220CGC92_2,   P13,    63,  1,    123,   1014,2,19921004,0811, 24.0425, 164.9848, 5876,   3521,    347.0,  14.2156,  34.5460,2,  34.5520,2,    202.3,2, 14.1649,    200.6,2,    10.37,2,     8.76,2,     0.00,2,     0.63,2,    2.400,2,    1.266,2, -999.000,9, -999.000,9, -999.000,9,-999.0000,9,  -999.00,9,     99.4,2,     0.74,6,-999.000,9,   2054.5,2,   2269.7,2,     4.0,-999.0000,-999.000,-999.000,  -999.0,-999.000
   3220CGC92_2,   P13,    63,  1,    122,   1015,2,19921004,0811, 24.0425, 164.9848, 5876,   3909,    386.0,  12.8199,  34.4217,2,  34.4235,2,    203.2,2, 12.7672,    200.3,2,    13.77,2,    11.38,2,     0.00,2,     0.75,2,    2.339,6,    1.222,6, -999.000,9, -999.000,9, -999.000,9,-999.0000,9,  -999.00,9,     86.1,2,     0.64,2,-999.000,9,   2071.6,2,   2270.6,2,     4.1,-999.0000,-999.000,-999.000,  -999.0,-999.000
   3220CGC92_2,   P13,    63,  1,    121,   1235,2,19921004,0811, 24.0425, 164.9848, 5876,   5001,    495.0,   9.5397,  34.1722,2,  34.1873,2,    193.1,2,  9.4836,    187.8,2,    25.92,2,    18.93,2,     0.00,2,     1.29,2,    2.001,2,    1.025,2, -999.000,9, -999.000,9, -999.000,9,-999.0000,9,  -999.00,9,     28.5,2,     0.44,2,-999.000,9,   2119.1,2,   2266.4,2,     4.8,-999.0000,-999.000,-999.000,  -999.0,-999.000
   3220CGC92_2,   P13,    63,  1,    120,   1237,2,19921004,0811, 24.0425, 164.9848, 5876,   6010,    595.0,   7.5342,  34.0810,2,  34.0953,2,    167.1,2,  7.4753,    157.3,2,    39.86,2,    23.99,2,     0.00,2,     1.71,2,    1.497,6,    0.750,6, -999.000,9, -999.000,9, -999.000,9,-999.0000,9,  -999.00,9,    -13.5,2,     0.23,2,-999.000,9,   2164.7,2,   2276.5,2,     3.8,-999.0000,-999.000,-999.000,  -999.0,-999.000
   3220CGC92_2,   P13,    63,  1,    119,   1025,2,19921004,0811, 24.0425, 164.9848, 5876,   7040,    698.0,   5.7236,  34.0941,2,  34.0787,2,   -999.0,9,  5.6636,    104.1,6,    65.07,2,    31.22,2,     0.00,2,     2.32,2,    0.649,2,    0.342,2, -999.000,9, -999.000,9, -999.000,9,-999.0000,9,  -999.00,9,    -87.0,2,    -0.08,2,-999.000,9,   2234.3,2,   2292.7,2,     4.1,-999.0000,-999.000,-999.000,  -999.0,-999.000
   3220CGC92_2,   P13,    63,  1,    118,   1118,2,19921004,0811, 24.0425, 164.9848, 5876,   8024,    796.0,   4.9168,  34.1898,2,  34.1534,2,     62.3,2,  4.8526,     63.5,2,    89.92,2,    36.00,2,     0.00,2,     2.74,2,    0.237,2,    0.109,2, -999.000,9, -999.000,9, -999.000,9,-999.0000,9,  -999.00,9,   -141.1,2,    -0.33,2,-999.000,9,   2290.2,2,   2321.3,2,     3.4,-999.0000,-999.000,-999.000,  -999.0,-999.000
   3220CGC92_2,   P13,    63,  1,    117,   1005,2,19921004,0811, 24.0425, 164.9848, 5876,   9034,    897.0,   4.2010,  34.2778,2,  34.2573,2,     45.9,2,  4.1328,     43.2,2,   107.53,2,    38.59,2,     0.00,2,     2.96,2,    0.065,2,    0.032,2, -999.000,9, -999.000,9, -999.000,9,   1.8480,2,    14.50,2,   -999.0,5,    -0.53,2,-999.000,9,   2321.1,6,   2341.9,2,  -999.0,-999.0000,-999.000,-999.000,  -999.0,-999.000
   3220CGC92_2,   P13,    63,  1,    116,   1104,2,19921004,0811, 24.0425, 164.9848, 5876,  10047,    998.0,   3.8441,  34.3615,2,  34.3496,2,     39.4,2,  3.7700,     36.5,2,   121.39,2,    39.71,2,     0.00,2,     3.04,2,    0.015,2,    0.005,2, -999.000,9, -999.000,9, -999.000,9,-999.0000,9,  -999.00,9,   -999.0,5,    -0.43,2,-999.000,9,   2347.0,2,   2361.6,2,  -999.0,-999.0000,-999.000,-999.000,  -999.0,-999.000
   3220CGC92_2,   P13,    63,  1,    115,   1020,2,19921004,0811, 24.0425, 164.9848, 5876,  11985,   1192.0,   3.2342,  34.4461,2,  34.4684,2,   -999.0,9,  3.1494,     46.3,2,   137.57,2,    39.41,2,     0.00,2,     2.99,2,   -0.001,2,   -0.002,2, -999.000,9, -999.000,9, -999.000,9,   1.8730,2,    18.00,2,   -999.0,9,  -999.00,9,-999.000,9,   2363.0,2,   2383.3,2,  -999.0,-999.0000,-999.000,-999.000,  -999.0,-999.000
   3220CGC92_2,   P13,    63,  1,    114,   1012,2,19921004,0811, 24.0425, 164.9848, 5876,  13988,   1392.0,   2.7813,  34.5176,2,  34.5323,2,     59.0,2,  2.6849,     66.7,2,   143.91,2,    38.05,2,     0.00,2,     2.89,2, -999.000,9, -999.000,9, -999.000,9, -999.000,9, -999.000,9,-999.0000,9,  -999.00,9,   -999.0,9,  -999.00,9,-999.000,9,   2359.1,2,   2396.8,2,  -999.0,-999.0000,-999.000,-999.000,  -999.0,-999.000
   3220CGC92_2,   P13,    63,  1,    113,   1229,2,19921004,0811, 24.0425, 164.9848, 5876,  17028,   1696.0,   2.2934,  34.5820,2,  34.5835,2,     84.4,2,  2.1781,     83.1,2,   151.97,2,    37.05,2,     0.00,2,     2.77,2,   -0.004,2,   -0.003,2, -999.000,9, -999.000,9, -999.000,9,   1.8680,2,    19.80,2,   -999.0,9,  -999.00,9,-999.000,9,   2360.4,2,   2407.8,2,  -999.0,-999.0000,-999.000,-999.000,  -999.0,-999.000
   3220CGC92_2,   P13,    63,  1,    112,   1219,2,19921004,0811, 24.0425, 164.9848, 5876,  20019,   1995.0,   1.9855,  34.6158,2,  34.6170,2,   -999.0,9,  1.8498,     99.8,2,   155.81,2,    36.25,2,     0.00,2,     2.70,2, -999.000,9, -999.000,9, -999.000,9, -999.000,9, -999.000,9,   1.8850,2,    19.60,2,   -999.0,9,  -999.00,9,-999.000,9,   2356.1,2,   2416.6,2,  -999.0,-999.0000,-999.000,-999.000,  -999.0,-999.000
   3220CGC92_2,   P13,    63,  1,    111,   1112,2,19921004,0811, 24.0425, 164.9848, 5876,  22992,   2293.0,   1.8036,  34.6375,2,  34.6366,2,   -999.0,9,  1.6453,    109.4,2,   157.50,2,    37.34,2,     0.00,2,     2.72,2,    0.006,2,   -0.003,2, -999.000,9, -999.000,9, -999.000,9,   1.8900,2,    19.20,2,   -999.0,9,  -999.00,9,-999.000,9,   2353.2,2,   2409.0,3,  -999.0,-999.0000,-999.000,-999.000,  -999.0,-999.000
   3220CGC92_2,   P13,    63,  1,    110,   1029,2,19921004,0811, 24.0425, 164.9848, 5876,  26021,   2597.0,   1.6876,  34.6515,2,  34.6506,2,    116.7,2,  1.5044,    120.5,2,   156.18,2,    37.03,2,     0.00,2,     2.66,2, -999.000,9, -999.000,9, -999.000,9, -999.000,9, -999.000,9,   1.8640,3,    18.80,2,   -999.0,9,  -999.00,9,-999.000,9,   2347.6,2,   2421.6,2,  -999.0,-999.0000,-999.000,-999.000,  -999.0,-999.000
   3220CGC92_2,   P13,    63,  1,    109,   1023,2,19921004,0811, 24.0425, 164.9848, 5876,  29003,   2896.0,   1.6186,  34.6604,2,  34.6680,3,    124.0,2,  1.4091,    134.6,3,   154.87,2,    35.15,2,     0.00,2,     2.60,2,   -0.003,2,   -0.004,2, -999.000,9, -999.000,9, -999.000,9,   1.8880,2,    17.90,2,   -999.0,9,  -999.00,9,-999.000,9,   2339.4,2,   2418.7,2,  -999.0,-999.0000,-999.000,-999.000,  -999.0,-999.000
   3220CGC92_2,   P13,    63,  1,    108,   1032,2,19921004,0811, 24.0425, 164.9848, 5876,  32003,   3197.0,   1.5676,  34.6694,2,  34.6736,2,    131.9,2,  1.3302,    142.8,3,   153.57,2,    34.91,2,     0.00,2,     2.57,2, -999.000,9, -999.000,9, -999.000,9, -999.000,9, -999.000,9,   1.9000,2,    16.90,2,   -999.0,9,  -999.00,9,-999.000,9,   2334.2,2,   2422.2,2,  -999.0,-999.0000,-999.000,-999.000,  -999.0,-999.000
   3220CGC92_2,   P13,    63,  1,    107,   1037,2,19921004,0811, 24.0425, 164.9848, 5876,  35994,   3597.0,   1.5226,  34.6758,2,  34.6796,2,    140.3,2,  1.2459,    149.9,3,   150.62,2,    35.05,2,     0.00,2,     2.52,2,   -0.001,2,   -0.002,2, -999.000,9, -999.000,9, -999.000,9,   1.8910,2,    16.80,2,   -999.0,9,  -999.00,9,-999.000,9,   2328.4,2,   2416.9,2,  -999.0,-999.0000,-999.000,-999.000,  -999.0,-999.000
   3220CGC92_2,   P13,    63,  1,    106,   1022,2,19921004,0811, 24.0425, 164.9848, 5876,  39997,   3998.0,   1.4986,  34.6821,2,  34.6865,2,    147.8,2,  1.1799,    158.2,3,   146.16,2,    34.38,2,     0.00,2,     2.45,2, -999.000,9, -999.000,9, -999.000,9, -999.000,9, -999.000,9,   1.8870,2,    16.10,2,   -999.0,9,  -999.00,9,-999.000,9,   2322.8,2,   2415.6,2,  -999.0,-999.0000,-999.000,-999.000,  -999.0,-999.000
   3220CGC92_2,   P13,    63,  1,    105,   1221,2,19921004,0811, 24.0425, 164.9848, 5876,  44001,   4399.0,   1.4696,  34.6868,2,  34.6894,2,   -999.0,9,  1.1071,    165.3,3,   142.34,2,    33.94,2,     0.00,2,     2.40,2,    0.044,4,    0.003,2, -999.000,9, -999.000,9, -999.000,9,   1.8950,2,    15.40,2,   -999.0,9,  -999.00,9,-999.000,9,   2314.5,2,   2408.5,2,  -999.0,-999.0000,-999.000,-999.000,  -999.0,-999.000
   3220CGC92_2,   P13,    63,  1,    104,   1038,2,19921004,0811, 24.0425, 164.9848, 5876,  47965,   4796.0,   1.4596,  34.6918,2,  34.6941,2,    164.4,2,  1.0512,    163.9,2,   138.81,2,    32.79,2,     0.00,2,     2.33,2, -999.000,9, -999.000,9, -999.000,9, -999.000,9, -999.000,9,-999.0000,5,    14.50,2,   -999.0,9,  -999.00,9,-999.000,9,   2309.0,2,   2407.6,2,  -999.0,-999.0000,-999.000,-999.000,  -999.0,-999.000
   3220CGC92_2,   P13,    63,  1,    103,   1033,2,19921004,0811, 24.0425, 164.9848, 5876,  50970,   5096.0,   1.4537,  34.6946,2,  34.6950,2,    173.1,2,  1.0091,    174.4,2,   136.42,2,    33.23,2,     0.00,2,     2.28,2,   -0.002,2,    0.002,2, -999.000,9, -999.000,9, -999.000,9,   1.8810,2,    14.30,2,   -999.0,9,  -999.00,9,-999.000,9,   2301.3,2,   2400.6,2,  -999.0,-999.0000,-999.000,-999.000,  -999.0,-999.000
   3220CGC92_2,   P13,    63,  1,    102,   1234,2,19921004,0811, 24.0425, 164.9848, 5876,  54019,   5401.0,   1.4676,  34.6956,2,  34.6958,2,   -999.0,9,  0.9847,    175.6,2,   135.74,2,    33.32,2,     0.00,2,     2.28,2, -999.000,9, -999.000,9, -999.000,9, -999.000,9, -999.000,9,-999.0000,9,  -999.00,9,   -999.0,9,  -999.00,9,-999.000,9,   2301.7,2,   2404.1,2,  -999.0,-999.0000,-999.000,-999.000,  -999.0,-999.000
   3220CGC92_2,   P13,    63,  1,    101,   1238,2,19921004,0811, 24.0425, 164.9848, 5876,  54984,   5497.0,   1.4736,  34.6961,2,  34.6972,6,    176.6,2,  0.9783,    178.3,2,   134.64,2,    33.51,2,     0.00,2,     2.27,2,    0.001,2,    0.001,2, -999.000,9, -999.000,9, -999.000,9,   1.8790,2,    13.90,2,   -999.0,9,  -999.00,9,-999.000,9,   2298.6,6,   2401.2,6,  -999.0,-999.0000,-999.000,-999.000,  -999.0,-999.000