BOTTLE,20221003CCHSIOAMB
EXPOCODE,SECT_ID,STNNBR,CASTNO,SAMPNO,BTLNBR,BTLNBR_FLAG_W,DATE,TIME,LATITUDE,LONGITUDE,DEPTH,CTDRAW,CTDPRS,CTDTMP,CTDSAL,CTDSAL_FLAG_W,SALNTY,SALNTY_FLAG_W,CTDOXY,CTDOXY_FLAG_W,THETA,OXYGEN,OXYGEN_FLAG_W,SILCAT,SILCAT_FLAG_W,NITRAT,NITRAT_FLAG_W,NITRIT,NITRIT_FLAG_W,PHSPHT,PHSPHT_FLAG_W,CFC-11,CFC-11_FLAG_W,CFC-12,CFC-12_FLAG_W,CFC113,CFC113_FLAG_W,CCL4,CCL4_FLAG_W,TRITUM,TRITUM_FLAG_W,HELIUM,HELIUM_FLAG_W,DELHE3,DELHE3_FLAG_W,DELC14,DELC14_FLAG_W,DELC13,DELC13_FLAG_W,NEON,NEON_FLAG_W,TCARBN,TCARBN_FLAG_W,ALKALI,ALKALI_FLAG_W,C14ERR,HELIER,DELHER,NEONER,C13ERR,TRITER
,,,,,,,,,,,,DBAR,DBAR,ITS-90,PSS-78,,PSS-78,,UMOL/KG,,DEG C,UMOL/KG,,UMOL/KG,,UMOL/KG,,UMOL/KG,,UMOL/KG,,PMOL/KG,,PMOL/KG,,PMOL/KG,,PMOL/KG,,TU,,NMOL/KG,,PERCNT,,/MILLE,,/MILLE,,NMOL/KG,,UMOL/KG,,UMOL/KG,,/MILLE,NMOL/KG,PERCNT,NMOL/KG,/MILLE,TU
   3220CGC92_1,   P13,     9,  1,    130,   1032,2,19920821,1531, 54.0425, 161.3663, 2568,    101,      7.0,   9.5437,  32.1041,2,  32.3012,2,    324.6,2,  9.5430,    343.0,2,     7.10,2,     0.00,2,     0.00,2,     0.20,2,    4.451,2,    2.163,2,    0.442,2,    6.359,2, -999.000,9,-999.0000,9,  -999.00,9,   -999.0,9,  -999.00,9,-999.000,9,   1910.7,2,   2222.7,2,  -999.0,-999.0000,-999.000,-999.000,  -999.0,-999.000
   3220CGC92_1,   P13,     9,  1,    129,   1004,2,19920821,1531, 54.0425, 161.3663, 2568,    237,     20.0,   8.9948,  32.5591,2,  32.7830,2,    361.8,2,  8.9928,    328.6,2,    12.05,2,     3.34,2,     0.00,2,     0.68,2,    4.847,6,    2.349,6,    0.483,2,    6.797,2,    1.786,2,   1.7880,2,    -1.46,2,   -999.0,9,  -999.00,9,   7.638,2,   -999.0,9,   -999.0,9,  -999.0,  0.0080,   0.140,   0.034,  -999.0,   0.018
   3220CGC92_1,   P13,     9,  1,    128,   1028,2,19920821,1531, 54.0425, 161.3663, 2568,    495,     46.0,   1.5406,  33.0869,2,  33.1161,2,    351.8,2,  1.5385,    338.0,2,    33.80,2,    19.05,2,     0.34,2,     1.72,2,    6.121,2,    2.840,2, -999.000,9, -999.000,9, -999.000,9,-999.0000,9,  -999.00,9,   -999.0,9,  -999.00,9,-999.000,9,   -999.0,9,   -999.0,9,  -999.0,-999.0000,-999.000,-999.000,  -999.0,-999.000
   3220CGC92_1,   P13,     9,  1,    127,   1117,2,19920821,1531, 54.0425, 161.3663, 2568,    749,     71.0,   1.2667,  33.1486,2,  33.1737,2,    335.4,2,  1.2636,    324.4,2,    49.89,2,    27.23,2,     0.23,2,     2.03,2,    6.255,2,    2.997,2, -999.000,9, -999.000,9, -999.000,9,-999.0000,9,  -999.00,9,   -999.0,9,  -999.00,9,-999.000,9,   -999.0,9,   -999.0,9,  -999.0,-999.0000,-999.000,-999.000,  -999.0,-999.000
   3220CGC92_1,   P13,     9,  1,    126,   1110,2,19920821,1531, 54.0425, 161.3663, 2568,    996,     96.0,   1.2477,  33.1890,2,  33.1978,2,    309.4,2,  1.2435,    318.7,2,    53.26,2,    28.92,2,     0.00,2,     2.10,2,    6.117,2,    2.851,2, -999.000,9, -999.000,9,    1.569,2,   1.8460,2,    -1.31,2,   -999.0,9,  -999.00,9,   8.140,2,   -999.0,9,   -999.0,9,  -999.0,  0.0090,   0.140,   0.036,  -999.0,   0.018
   3220CGC92_1,   P13,     9,  1,    125,   1035,2,19920821,1531, 54.0425, 161.3663, 2568,   1245,    121.0,   1.1487,  33.2122,2,  33.2173,2,    304.4,2,  1.1435,    321.4,2,    54.49,2,    29.09,2,     0.00,2,     2.09,2,    6.043,2,    2.841,2, -999.000,9, -999.000,9, -999.000,9,-999.0000,9,  -999.00,9,   -999.0,9,  -999.00,9,-999.000,9,   -999.0,9,   -999.0,9,  -999.0,-999.0000,-999.000,-999.000,  -999.0,-999.000
   3220CGC92_1,   P13,     9,  1,    124,   1026,2,19920821,1531, 54.0425, 161.3663, 2568,   1496,    146.0,   1.0557,  33.2175,2,  33.2190,2,   -999.0,9,  1.0495,    327.0,2,    53.96,2,    29.11,2,     0.00,2,     2.04,2,    6.065,2,    2.838,2, -999.000,9, -999.000,9,    1.563,2,   1.8490,2,    -0.97,2,   -999.0,9,  -999.00,9,   8.126,2,   -999.0,9,   -999.0,9,  -999.0,  0.0090,   0.140,   0.036,  -999.0,   0.018
   3220CGC92_1,   P13,     9,  1,    123,   1014,2,19920821,1531, 54.0425, 161.3663, 2568,   2000,    196.0,   2.0385,  33.3731,2,  33.3971,2,    245.0,2,  2.0284,    234.6,2,    68.48,2,    34.46,2,     0.00,2,     2.31,2,    4.532,2,    2.129,2, -999.000,9, -999.000,9,    1.454,2,-999.0000,9,  -999.00,9,   -999.0,9,  -999.00,9,-999.000,9,   -999.0,9,   -999.0,9,  -999.0,-999.0000,-999.000,-999.000,  -999.0,   0.019
   3220CGC92_1,   P13,     9,  1,    122,   1015,2,19920821,1531, 54.0425, 161.3663, 2568,   2496,    245.0,   3.4842,  33.7127,2,  33.7251,2,    111.0,2,  3.4684,     96.2,2,    89.28,2,    41.34,2,     0.00,2,     2.76,2,    2.134,6,    0.982,6, -999.000,9, -999.000,9, -999.000,9,   1.8270,2,    11.03,2,   -999.0,9,  -999.00,9,   7.853,2,   -999.0,9,   -999.0,9,  -999.0,  0.0090,   0.140,   0.035,  -999.0,-999.000
   3220CGC92_1,   P13,     9,  1,    121,   1235,2,19920821,1531, 54.0425, 161.3663, 2568,   2996,    295.0,   3.5841,  33.8033,2,  33.8335,2,     73.6,2,  3.5647,     62.5,2,    96.21,2,    43.17,2,     0.00,2,     2.82,3, -999.000,5, -999.000,5, -999.000,9, -999.000,9, -999.000,9,-999.0000,9,  -999.00,9,   -999.0,9,  -999.00,9,-999.000,9,   -999.0,9,   -999.0,9,  -999.0,-999.0000,-999.000,-999.000,  -999.0,-999.000
   3220CGC92_1,   P13,     9,  1,    120,   1237,2,19920821,1531, 54.0425, 161.3663, 2568,   3497,    345.0,   3.6581,  33.8988,2,  33.9129,2,     62.8,2,  3.6350,     42.4,2,   101.26,2,    43.90,2,     0.00,2,     2.83,3,    1.222,2,    0.564,2, -999.000,9, -999.000,9, -999.000,9,-999.0000,9,  -999.00,9,   -999.0,9,  -999.00,9,-999.000,9,   -999.0,9,   -999.0,9,  -999.0,-999.0000,-999.000,-999.000,  -999.0,-999.000
   3220CGC92_1,   P13,     9,  1,    119,   1025,2,19920821,1531, 54.0425, 161.3663, 2568,   3992,    394.0,   3.6551,  33.9741,2,  33.9711,2,     29.0,2,  3.6286,     30.8,2,   104.90,2,    44.27,2,     0.00,2,     2.73,3,    0.883,2,    0.403,2, -999.000,9, -999.000,9, -999.000,9,   1.8340,2,    15.11,2,   -999.0,9,  -999.00,9,   7.826,2,   -999.0,9,   -999.0,9,  -999.0,  0.0090,   0.140,   0.034,  -999.0,-999.000
   3220CGC92_1,   P13,     9,  1,    118,   1002,2,19920821,1531, 54.0425, 161.3663, 2568,   4495,    444.0,   3.6041,  34.0235,2,  34.0153,2,     25.1,2,  3.5742,     26.7,2,   110.53,2,    45.61,2,     0.00,2,     3.11,2, -999.000,9, -999.000,9, -999.000,9, -999.000,9, -999.000,9,-999.0000,9,  -999.00,9,   -999.0,9,  -999.00,9,-999.000,9,   -999.0,9,   -999.0,9,  -999.0,-999.0000,-999.000,-999.000,  -999.0,-999.000
   3220CGC92_1,   P13,     9,  1,    117,   1005,2,19920821,1531, 54.0425, 161.3663, 2568,   4996,    494.0,   3.5332,  34.0747,2,  34.0691,2,     24.7,2,  3.4999,     23.5,6,   115.54,2,    46.37,2,     0.00,2,     3.09,2,    0.623,2,    0.288,2, -999.000,9, -999.000,9, -999.000,9,   1.8380,2,    15.89,2,   -999.0,9,  -999.00,9,   7.853,2,   -999.0,9,   -999.0,9,  -999.0,  0.0090,   0.140,   0.035,  -999.0,-999.000
   3220CGC92_1,   P13,     9,  1,    116,   1104,2,19920821,1531, 54.0425, 161.3663, 2568,   5940,    588.0,   3.4432,  34.1445,2,  34.1458,2,     19.0,2,  3.4035,     18.4,2,   122.82,2,    45.51,3,     0.00,2,     3.05,2,    0.357,3,    0.153,3, -999.000,9, -999.000,9,    0.537,2,   1.8510,2,    15.93,2,   -999.0,9,  -999.00,9,   7.897,2,   -999.0,9,   -999.0,9,  -999.0,  0.0090,   0.140,   0.035,  -999.0,   0.003
   3220CGC92_1,   P13,     9,  1,    115,   1020,2,19920821,1531, 54.0425, 161.3663, 2568,   6994,    693.0,   3.3152,  34.2187,2,  34.2182,2,     17.3,2,  3.2684,     16.9,2,   129.62,2,    46.03,2,     0.00,2,     3.08,2,    0.205,3,    0.088,3, -999.000,9, -999.000,9,    0.371,2,   1.8450,2,    15.95,2,   -999.0,9,  -999.00,9,   7.884,2,   -999.0,9,   -999.0,9,  -999.0,  0.0090,   0.140,   0.035,  -999.0,   0.002
   3220CGC92_1,   P13,     9,  1,    114,   1120,2,19920821,1531, 54.0425, 161.3663, 2568,   7997,    793.0,   3.1242,  34.2694,2,  34.2702,2,     19.2,2,  3.0712,     15.7,2,   137.31,2,    45.57,2,     0.00,2,     3.08,2,    0.147,3,    0.064,3, -999.000,9, -999.000,9,    0.271,2,-999.0000,9,  -999.00,9,   -999.0,9,  -999.00,9,-999.000,9,   -999.0,9,   -999.0,9,  -999.0,-999.0000,-999.000,-999.000,  -999.0,   0.002
   3220CGC92_1,   P13,     9,  1,    113,   1112,2,19920821,1531, 54.0425, 161.3663, 2568,   8910,    884.0,   3.0213,  34.3122,2,  34.3140,2,     17.6,2,  2.9622,     17.1,2,   142.31,2,    45.82,2,     0.00,2,     3.05,3, -999.000,9, -999.000,9, -999.000,9, -999.000,9,    0.212,2,   2.0360,2,    14.78,2,   -999.0,9,  -999.00,9,   8.551,2,   -999.0,9,   -999.0,9,  -999.0,  0.0100,   0.140,   0.038,  -999.0,   0.002
   3220CGC92_1,   P13,     9,  1,    112,   1234,2,19920821,1531, 54.0425, 161.3663, 2568,   9992,    992.0,   2.8753,  34.3556,2,  34.3562,2,     18.7,2,  2.8092,     17.9,6,   148.00,2,    45.33,2,     0.00,2,     2.98,3,    0.054,2,    0.020,2, -999.000,9, -999.000,9,    0.128,2,   1.8780,2,    16.50,2,   -999.0,9,  -999.00,9,-999.000,9,   -999.0,9,   -999.0,9,  -999.0,-999.0000,-999.000,-999.000,  -999.0,   0.002
   3220CGC92_1,   P13,     9,  1,    111,   1221,2,19920821,1531, 54.0425, 161.3663, 2568,  12001,   1193.0,   2.6164,  34.4200,2,  34.4193,2,     20.8,2,  2.5373,     20.7,2,   156.85,2,    45.22,2,     0.00,2,     2.86,3,    0.025,2,    0.007,2, -999.000,9, -999.000,9,    0.088,2,   1.8860,2,    16.80,2,   -999.0,9,  -999.00,9,-999.000,9,   -999.0,9,   -999.0,9,  -999.0,-999.0000,-999.000,-999.000,  -999.0,   0.002
   3220CGC92_1,   P13,     9,  1,    110,   1118,2,19920821,1531, 54.0425, 161.3663, 2568,  13991,   1392.0,   2.3794,  34.4743,2,  34.4750,2,     29.9,2,  2.2874,     27.0,2,   165.82,2,    44.90,2,     0.00,2,     2.89,3,    0.022,2,    0.007,2, -999.000,9, -999.000,9,    0.049,2,   1.8830,2,    17.60,2,   -999.0,9,  -999.00,9,-999.000,9,   -999.0,9,   -999.0,9,  -999.0,-999.0000,-999.000,-999.000,  -999.0,   0.002
   3220CGC92_1,   P13,     9,  1,    109,   1113,2,19920821,1531, 54.0425, 161.3663, 2568,  16001,   1593.0,   2.1945,  34.5164,2,  34.5190,2,     34.1,2,  2.0888,     37.8,2,   171.66,2,    44.70,2,     0.00,2,     3.07,2,    0.004,2,   -0.002,2, -999.000,9, -999.000,9, -999.000,9,   1.8900,2,    17.50,2,   -999.0,9,  -999.00,9,-999.000,9,   -999.0,9,   -999.0,9,  -999.0,-999.0000,-999.000,-999.000,  -999.0,-999.000
   3220CGC92_1,   P13,     9,  1,    108,   1016,2,19920821,1531, 54.0425, 161.3663, 2568,  18012,   1795.0,   2.0605,  34.5491,2,  34.5514,2,     48.5,2,  1.9403,     47.0,2,   177.29,2,    44.17,2,     0.00,2,     3.04,2, -999.000,9, -999.000,9, -999.000,9, -999.000,9, -999.000,9,   1.8910,2,    17.50,2,   -999.0,9,  -999.00,9,-999.000,9,   -999.0,9,   -999.0,9,  -999.0,-999.0000,-999.000,-999.000,  -999.0,-999.000
   3220CGC92_1,   P13,     9,  1,    107,   1022,2,19920821,1531, 54.0425, 161.3663, 2568,  19983,   1992.0,   1.9195,  34.5808,2,  34.5806,2,     57.8,2,  1.7851,     58.7,2,   182.33,2,    43.29,2,     0.00,2,     3.00,2,   -0.003,2,   -0.001,2, -999.000,9, -999.000,9, -999.000,9,   1.8900,2,    17.60,2,   -999.0,9,  -999.00,9,-999.000,9,   -999.0,9,   -999.0,9,  -999.0,-999.0000,-999.000,-999.000,  -999.0,-999.000
   3220CGC92_1,   P13,     9,  1,    106,   1036,2,19920821,1531, 54.0425, 161.3663, 2568,  22001,   2195.0,   1.8296,  34.5996,2,  34.6019,2,     70.5,2,  1.6794,     68.4,2,   186.60,2,    42.27,2,     0.00,2,     2.96,2, -999.000,9, -999.000,9, -999.000,9, -999.000,9, -999.000,9,   1.8990,2,    17.80,2,   -999.0,9,  -999.00,9,-999.000,9,   -999.0,9,   -999.0,9,  -999.0,-999.0000,-999.000,-999.000,  -999.0,-999.000
   3220CGC92_1,   P13,     9,  1,    104,      0,4,19920821,1531, 54.0425, 161.3663, 2568,  23996,   2395.0,   1.7516,  34.6182,2,-999.0000,9,     77.9,2,  1.5854,   -999.0,9,  -999.00,5,  -999.00,9,  -999.00,9,  -999.00,5, -999.000,9, -999.000,9, -999.000,9, -999.000,9, -999.000,9,-999.0000,9,  -999.00,9,   -999.0,9,  -999.00,9,-999.000,9,   -999.0,9,   -999.0,9,  -999.0,-999.0000,-999.000,-999.000,  -999.0,-999.000
   3220CGC92_1,   P13,     9,  1,    105,   1037,2,19920821,1531, 54.0425, 161.3663, 2568,  23996,   2395.0,   1.7516,  34.6182,2,  34.6168,2,     77.9,2,  1.5854,     78.3,2,   188.35,2,    41.29,2,     0.00,2,     2.93,2,    0.001,2,    0.000,2, -999.000,9, -999.000,9, -999.000,9,   1.9030,2,    17.60,2,   -999.0,9,  -999.00,9,-999.000,9,   -999.0,9,   -999.0,9,  -999.0,-999.0000,-999.000,-999.000,  -999.0,-999.000
   3220CGC92_1,   P13,     9,  1,    103,   1023,2,19920821,1531, 54.0425, 161.3663, 2568,  24988,   2495.0,   1.7086,  34.6286,2,  34.6279,2,     89.2,2,  1.5343,     90.6,2,   178.28,2,    41.42,2,     0.00,2,     2.77,3, -999.000,9, -999.000,9, -999.000,9, -999.000,9, -999.000,9,   1.9010,2,    18.20,2,   -999.0,9,  -999.00,9,-999.000,9,   -999.0,9,   -999.0,9,  -999.0,-999.0000,-999.000,-999.000,  -999.0,-999.000
   3220CGC92_1,   P13,     9,  1,    102,   2001,2,19920821,1531, 54.0425, 161.3663, 2568,  24997,   2496.0,   1.7086,  34.6281,2,  34.6310,2,     91.1,2,  1.5342,     92.8,3,   179.14,2,    40.74,2,     0.00,2,     2.70,3,   -0.006,2,    0.026,4,    0.000,2,    0.011,2, -999.000,9,-999.0000,9,  -999.00,9,   -999.0,9,  -999.00,9,-999.000,9,   -999.0,9,   -999.0,9,  -999.0,-999.0000,-999.000,-999.000,  -999.0,-999.000
   3220CGC92_1,   P13,     9,  1,    101,   1038,2,19920821,1531, 54.0425, 161.3663, 2568,  26023,   2599.0,   1.6876,  34.6324,2,  34.6338,6,     89.4,2,  1.5043,     92.0,2,   183.76,2,    40.86,2,     0.00,2,     2.78,2,   -0.003,2,   -0.005,2,    0.013,2,    0.008,2, -999.000,9,   1.8960,2,    17.50,2,   -999.0,9,  -999.00,9,-999.000,9,   -999.0,9,   -999.0,9,  -999.0,-999.0000,-999.000,-999.000,  -999.0,-999.000