BOTTLE,20221003CCHSIOAMB
EXPOCODE,SECT_ID,STNNBR,CASTNO,SAMPNO,BTLNBR,BTLNBR_FLAG_W,DATE,TIME,LATITUDE,LONGITUDE,DEPTH,CTDRAW,CTDPRS,CTDTMP,CTDSAL,CTDSAL_FLAG_W,SALNTY,SALNTY_FLAG_W,CTDOXY,CTDOXY_FLAG_W,THETA,OXYGEN,OXYGEN_FLAG_W,SILCAT,SILCAT_FLAG_W,NITRAT,NITRAT_FLAG_W,NITRIT,NITRIT_FLAG_W,PHSPHT,PHSPHT_FLAG_W,CFC-11,CFC-11_FLAG_W,CFC-12,CFC-12_FLAG_W,CFC113,CFC113_FLAG_W,CCL4,CCL4_FLAG_W,TRITUM,TRITUM_FLAG_W,HELIUM,HELIUM_FLAG_W,DELHE3,DELHE3_FLAG_W,DELC14,DELC14_FLAG_W,DELC13,DELC13_FLAG_W,NEON,NEON_FLAG_W,TCARBN,TCARBN_FLAG_W,ALKALI,ALKALI_FLAG_W,C14ERR,HELIER,DELHER,NEONER,C13ERR,TRITER
,,,,,,,,,,,,DBAR,DBAR,ITS-90,PSS-78,,PSS-78,,UMOL/KG,,DEG C,UMOL/KG,,UMOL/KG,,UMOL/KG,,UMOL/KG,,UMOL/KG,,PMOL/KG,,PMOL/KG,,PMOL/KG,,PMOL/KG,,TU,,NMOL/KG,,PERCNT,,/MILLE,,/MILLE,,NMOL/KG,,UMOL/KG,,UMOL/KG,,/MILLE,NMOL/KG,PERCNT,NMOL/KG,/MILLE,TU
   3220CGC92_1,   P13,    46,  1,    112,   2012,2,19920905,1307, 36.5302, 165.0058, 5399,     88,      8.7,  22.9255,  34.1986,2,  34.1961,2,   -999.0,9, 22.9237,    219.8,2,  -999.00,5,  -999.00,9,  -999.00,9,  -999.00,5,    2.215,2,    1.192,2, -999.000,9, -999.000,9, -999.000,9,-999.0000,9,  -999.00,9,   -999.0,9,  -999.00,9,-999.000,9,   1966.6,2,   2252.0,2,  -999.0,-999.0000,-999.000,-999.000,  -999.0,-999.000
   3220CGC92_1,   P13,    46,  1,    111,   2011,2,19920905,1307, 36.5302, 165.0058, 5399,   1037,    103.1,  12.9549,  34.4482,2,  34.4498,2,    222.5,2, 12.9409,    230.6,2,    11.88,2,     6.89,2,     0.00,2,     0.52,2,    3.051,2,    1.531,2, -999.000,9, -999.000,9, -999.000,9,-999.0000,9,  -999.00,9,   -999.0,9,  -999.00,9,-999.000,9,   -999.0,9,   -999.0,9,  -999.0,-999.0000,-999.000,-999.000,  -999.0,-999.000
   3220CGC92_1,   P13,    46,  1,    110,   2010,2,19920905,1307, 36.5302, 165.0058, 5399,   2020,    201.0,  11.8741,  34.3842,2,  34.3825,2,    228.2,2, 11.8483,    237.3,2,    13.25,2,     8.80,2,     0.00,2,     0.65,2,    3.070,2,    1.567,2, -999.000,9, -999.000,9, -999.000,9,-999.0000,9,  -999.00,9,   -999.0,9,  -999.00,9,-999.000,9,   -999.0,9,   -999.0,9,  -999.0,-999.0000,-999.000,-999.000,  -999.0,-999.000
   3220CGC92_1,   P13,    46,  1,    109,   2009,2,19920905,1307, 36.5302, 165.0058, 5399,   3992,    397.6,   7.8411,  34.0675,2,  34.0665,2,    194.4,2,  7.8014,    189.0,2,    38.84,2,    19.13,2,     0.00,2,     1.53,3,    2.343,2,    1.179,2, -999.000,9, -999.000,9, -999.000,9,-999.0000,9,  -999.00,9,   -999.0,9,  -999.00,9,-999.000,9,   -999.0,9,   -999.0,9,  -999.0,-999.0000,-999.000,-999.000,  -999.0,-999.000
   3220CGC92_1,   P13,    46,  1,    108,   2008,2,19920905,1307, 36.5302, 165.0058, 5399,   7028,    700.4,   4.3869,  34.1327,2,  34.1340,2,     74.5,2,  4.3339,     72.6,2,    97.69,2,    36.70,2,     0.00,2,     2.76,3,    0.645,2,    0.353,2, -999.000,9, -999.000,9, -999.000,9,-999.0000,9,  -999.00,9,   -999.0,9,  -999.00,9,-999.000,9,   -999.0,9,   -999.0,9,  -999.0,-999.0000,-999.000,-999.000,  -999.0,-999.000
   3220CGC92_1,   P13,    46,  1,    107,   2007,2,19920905,1307, 36.5302, 165.0058, 5399,   9995,    996.6,   3.3752,  34.3279,2,  34.3269,2,     38.4,2,  3.3049,     38.5,2,   130.56,2,    40.16,2,     0.00,2,     3.05,3,    0.105,2,    0.050,2, -999.000,9, -999.000,9, -999.000,9,-999.0000,9,  -999.00,9,   -999.0,9,  -999.00,9,-999.000,9,   -999.0,9,   -999.0,9,  -999.0,-999.0000,-999.000,-999.000,  -999.0,-999.000
   3220CGC92_1,   P13,    46,  1,    106,   2006,2,19920905,1307, 36.5302, 165.0058, 5399,  14996,   1496.4,   2.4434,  34.4977,2,  34.4964,2,     39.2,2,  2.3425,     40.0,2,   159.80,2,    42.51,2,     0.00,2,     3.12,3,    0.005,2,    0.008,2, -999.000,9, -999.000,9, -999.000,9,-999.0000,9,  -999.00,9,   -999.0,9,  -999.00,9,-999.000,9,   -999.0,9,   -999.0,9,  -999.0,-999.0000,-999.000,-999.000,  -999.0,-999.000
   3220CGC92_1,   P13,    46,  1,    105,   2005,2,19920905,1307, 36.5302, 165.0058, 5399,  19998,   1996.9,   1.9665,  34.5843,2,  34.5838,3,     65.3,2,  1.8310,     66.9,2,   168.86,2,    41.69,2,     0.00,2,     3.01,3,   -0.004,2,    0.004,2, -999.000,9, -999.000,9, -999.000,9,-999.0000,9,  -999.00,9,   -999.0,9,  -999.00,9,-999.000,9,   -999.0,9,   -999.0,9,  -999.0,-999.0000,-999.000,-999.000,  -999.0,-999.000
   3220CGC92_1,   P13,    46,  1,    104,   2004,2,19920905,1307, 36.5302, 165.0058, 5399,  30002,   2998.7,   1.5496,  34.6605,2,  34.6597,2,    122.1,2,  1.3319,    123.8,2,   161.70,2,    37.64,2,     0.00,2,     2.69,2,   -0.001,2,    0.062,4, -999.000,9, -999.000,9, -999.000,9,-999.0000,9,  -999.00,9,   -999.0,9,  -999.00,9,-999.000,9,   -999.0,9,   -999.0,9,  -999.0,-999.0000,-999.000,-999.000,  -999.0,-999.000
   3220CGC92_1,   P13,    46,  1,    103,   2003,2,19920905,1307, 36.5302, 165.0058, 5399,  40009,   4001.2,   1.4586,  34.6825,2,  34.6817,2,    147.8,2,  1.1407,    149.7,2,   154.63,2,    35.65,2,     0.00,2,     2.53,2,    0.002,2,    0.073,4, -999.000,9, -999.000,9, -999.000,9,-999.0000,9,  -999.00,9,   -999.0,9,  -999.00,9,-999.000,9,   -999.0,9,   -999.0,9,  -999.0,-999.0000,-999.000,-999.000,  -999.0,-999.000
   3220CGC92_1,   P13,    46,  1,    102,   2002,2,19920905,1307, 36.5302, 165.0058, 5399,  50002,   5001.4,   1.5106,  34.6890,2,  34.6901,2,    158.3,2,  1.0758,    158.4,2,   152.23,2,    35.25,2,     0.00,2,     2.46,2,   -0.002,2,   -0.018,2, -999.000,9, -999.000,9, -999.000,9,-999.0000,9,  -999.00,9,   -999.0,9,  -999.00,9,-999.000,9,   -999.0,9,   -999.0,9,  -999.0,-999.0000,-999.000,-999.000,  -999.0,-999.000
   3220CGC92_1,   P13,    46,  1,    101,   2001,2,19920905,1307, 36.5302, 165.0058, 5399,  56252,   5625.9,   1.5206,  34.6948,2,  34.6950,2,    171.0,2,  1.0070,    170.9,2,  -999.00,5,  -999.00,9,  -999.00,9,  -999.00,5,    0.005,2,    0.029,4, -999.000,9, -999.000,9, -999.000,9,-999.0000,9,  -999.00,9,   -999.0,9,  -999.00,9,-999.000,9,   -999.0,9,   -999.0,9,  -999.0,-999.0000,-999.000,-999.000,  -999.0,-999.000