BOTTLE,20221003CCHSIOAMB
EXPOCODE,SECT_ID,STNNBR,CASTNO,SAMPNO,BTLNBR,BTLNBR_FLAG_W,DATE,TIME,LATITUDE,LONGITUDE,DEPTH,CTDRAW,CTDPRS,CTDTMP,CTDSAL,CTDSAL_FLAG_W,SALNTY,SALNTY_FLAG_W,CTDOXY,CTDOXY_FLAG_W,THETA,OXYGEN,OXYGEN_FLAG_W,SILCAT,SILCAT_FLAG_W,NITRAT,NITRAT_FLAG_W,NITRIT,NITRIT_FLAG_W,PHSPHT,PHSPHT_FLAG_W,CFC-11,CFC-11_FLAG_W,CFC-12,CFC-12_FLAG_W,CFC113,CFC113_FLAG_W,CCL4,CCL4_FLAG_W,TRITUM,TRITUM_FLAG_W,HELIUM,HELIUM_FLAG_W,DELHE3,DELHE3_FLAG_W,DELC14,DELC14_FLAG_W,DELC13,DELC13_FLAG_W,NEON,NEON_FLAG_W,TCARBN,TCARBN_FLAG_W,ALKALI,ALKALI_FLAG_W,C14ERR,HELIER,DELHER,NEONER,C13ERR,TRITER
,,,,,,,,,,,,DBAR,DBAR,ITS-90,PSS-78,,PSS-78,,UMOL/KG,,DEG C,UMOL/KG,,UMOL/KG,,UMOL/KG,,UMOL/KG,,UMOL/KG,,PMOL/KG,,PMOL/KG,,PMOL/KG,,PMOL/KG,,TU,,NMOL/KG,,PERCNT,,/MILLE,,/MILLE,,NMOL/KG,,UMOL/KG,,UMOL/KG,,/MILLE,NMOL/KG,PERCNT,NMOL/KG,/MILLE,TU
   3220CGC92_1,   P13,    31,  1,    136,   1106,2,19920831,0847, 44.0027, 164.9633, 5516,     96,      6.0,  14.3186,  32.9029,2,  32.8987,2,    262.7,2, 14.3177,    275.1,2,    24.91,2,     8.66,2,     0.09,2,     0.85,2,    3.384,2,    1.704,2, -999.000,9, -999.000,9, -999.000,9,-999.0000,9,  -999.00,9,     39.5,2,     1.84,2,-999.000,9,   2007.9,2,   2226.3,2,     3.3,-999.0000,-999.000,-999.000,  -999.0,-999.000
   3220CGC92_1,   P13,    31,  1,    135,   1238,2,19920831,0847, 44.0027, 164.9633, 5516,    242,     21.0,   8.3510,  33.1961,2,  33.1340,4,    303.4,2,  8.3489,    304.0,2,    27.64,2,    12.17,2,     0.08,2,     1.15,2,    4.477,6,    2.183,6, -999.000,9, -999.000,9, -999.000,9,-999.0000,9,  -999.00,9,   -999.0,9,  -999.00,9,-999.000,9,   -999.0,9,   -999.0,9,  -999.0,-999.0000,-999.000,-999.000,  -999.0,-999.000
   3220CGC92_1,   P13,    31,  1,    134,   1030,2,19920831,0847, 44.0027, 164.9633, 5516,    497,     46.0,   5.4867,  33.2860,2,  33.3005,2,    323.3,2,  5.4831,    317.4,2,    27.01,2,    13.41,2,     0.21,2,     1.21,2,    5.137,2,    2.500,2, -999.000,9, -999.000,9, -999.000,9,-999.0000,9,  -999.00,9,   -999.0,9,  -999.00,9,-999.000,9,   -999.0,9,   -999.0,9,  -999.0,-999.0000,-999.000,-999.000,  -999.0,-999.000
   3220CGC92_1,   P13,    31,  1,    133,   1231,2,19920831,0847, 44.0027, 164.9633, 5516,    736,     70.0,   4.5119,  33.3252,2,  33.3454,2,    305.0,2,  4.5070,    310.3,2,    28.84,2,    16.01,2,     0.29,2,     1.30,2,    5.324,6,    2.557,6, -999.000,9, -999.000,9, -999.000,9,-999.0000,9,  -999.00,9,   -999.0,9,  -999.00,9,-999.000,9,   -999.0,9,   -999.0,9,  -999.0,-999.0000,-999.000,-999.000,  -999.0,-999.000
   3220CGC92_1,   P13,    31,  1,    132,   1109,2,19920831,0847, 44.0027, 164.9633, 5516,    991,     96.0,   3.8031,  33.3382,2,  33.3511,2,    304.1,2,  3.7968,    307.4,2,    29.52,2,    16.94,2,     0.00,2,     1.33,2,    5.309,2,    2.516,2, -999.000,9, -999.000,9, -999.000,9,-999.0000,9,  -999.00,9,   -999.0,9,  -999.00,9,-999.000,9,   -999.0,9,   -999.0,9,  -999.0,-999.0000,-999.000,-999.000,  -999.0,-999.000
   3220CGC92_1,   P13,    31,  1,    131,   1031,2,19920831,0847, 44.0027, 164.9633, 5516,   1243,    120.0,   4.1740,  33.4312,2,  33.3555,2,   -999.0,9,  4.1658,    305.3,2,    31.04,2,    17.49,2,     0.00,2,     1.33,2,    5.289,2,    2.539,2, -999.000,9, -999.000,9, -999.000,9,-999.0000,9,  -999.00,9,   -999.0,9,  -999.00,9,-999.000,9,   -999.0,9,   -999.0,9,  -999.0,-999.0000,-999.000,-999.000,  -999.0,-999.000
   3220CGC92_1,   P13,    31,  1,    130,   1041,2,19920831,0847, 44.0027, 164.9633, 5516,   1498,    146.0,   4.3340,  33.5104,2,  33.4578,2,    298.8,2,  4.3237,    296.1,2,    32.06,2,    18.55,2,     0.00,2,     1.35,2,    5.168,2,    2.435,2, -999.000,9, -999.000,9, -999.000,9,-999.0000,9,  -999.00,9,   -999.0,9,  -999.00,9,-999.000,9,   -999.0,9,   -999.0,9,  -999.0,-999.0000,-999.000,-999.000,  -999.0,-999.000
   3220CGC92_1,   P13,    31,  1,    129,   1004,2,19920831,0847, 44.0027, 164.9633, 5516,   1727,    169.0,   4.3540,  33.6248,2,  33.5492,2,    282.0,2,  4.3420,    280.9,2,    35.08,2,    20.11,2,     0.00,2,     1.42,2,    4.704,2,    2.277,2, -999.000,9, -999.000,9, -999.000,9,-999.0000,9,  -999.00,9,   -999.0,9,  -999.00,9,-999.000,9,   -999.0,9,   -999.0,9,  -999.0,-999.0000,-999.000,-999.000,  -999.0,-999.000
   3220CGC92_1,   P13,    31,  1,    127,   1117,2,19920831,0847, 44.0027, 164.9633, 5516,   2007,    196.0,   4.1440,  33.7052,2,  33.6678,2,    236.2,2,  4.1304,    210.9,2,    52.80,2,    25.59,2,     0.00,2,     1.91,2,    3.759,2,    1.785,2, -999.000,9, -999.000,9, -999.000,9,-999.0000,9,  -999.00,9,   -999.0,9,  -999.00,9,-999.000,9,   -999.0,9,   -999.0,9,  -999.0,-999.0000,-999.000,-999.000,  -999.0,-999.000
   3220CGC92_1,   P13,    31,  1,    126,   1110,2,19920831,0847, 44.0027, 164.9633, 5516,   2501,    246.0,   3.8201,  33.7749,2,  33.7637,2,    160.7,2,  3.8035,    154.5,2,    70.00,2,    32.83,2,     0.00,2,     2.29,2,    2.873,2,    1.311,2, -999.000,9, -999.000,9, -999.000,9,-999.0000,9,  -999.00,9,   -999.0,9,  -999.00,9,-999.000,9,   -999.0,9,   -999.0,9,  -999.0,-999.0000,-999.000,-999.000,  -999.0,-999.000
   3220CGC92_1,   P13,    31,  1,    125,   1035,2,19920831,0847, 44.0027, 164.9633, 5516,   2992,    294.0,   3.7471,  33.8298,2,  33.8265,2,    134.2,2,  3.7274,    127.8,2,    78.74,2,    34.63,2,     0.00,2,     2.40,2,    2.398,2,    1.100,2, -999.000,9, -999.000,9, -999.000,9,-999.0000,9,  -999.00,9,   -999.0,9,  -999.00,9,-999.000,9,   -999.0,9,   -999.0,9,  -999.0,-999.0000,-999.000,-999.000,  -999.0,-999.000
   3220CGC92_1,   P13,    31,  1,    124,   1026,2,19920831,0847, 44.0027, 164.9633, 5516,   3494,    344.0,   3.7131,  33.8970,2,  33.9084,2,    120.2,2,  3.6899,     99.7,2,    88.49,2,    36.35,2,     0.00,2,     2.58,2,    1.796,2,    0.842,2, -999.000,9, -999.000,9, -999.000,9,-999.0000,9,  -999.00,9,   -999.0,9,  -999.00,9,-999.000,9,   -999.0,9,   -999.0,9,  -999.0,-999.0000,-999.000,-999.000,  -999.0,-999.000
   3220CGC92_1,   P13,    31,  1,    123,   1014,2,19920831,0847, 44.0027, 164.9633, 5516,   3992,    394.0,   3.7111,  33.9730,2,  33.9746,2,     96.8,2,  3.6844,     81.4,2,    95.43,2,    39.97,2,     0.00,2,     2.82,2,    1.436,2,    0.625,2, -999.000,9, -999.000,9, -999.000,9,-999.0000,9,  -999.00,9,   -999.0,9,  -999.00,9,-999.000,9,   -999.0,9,   -999.0,9,  -999.0,-999.0000,-999.000,-999.000,  -999.0,-999.000
   3220CGC92_1,   P13,    31,  1,    122,   1015,2,19920831,0847, 44.0027, 164.9633, 5516,   4994,    494.0,   3.6201,  34.0938,2,  34.0977,2,     54.5,2,  3.5865,     54.6,2,   109.34,2,    41.20,2,     0.00,2,     2.92,2,    0.825,2,    0.377,2, -999.000,9, -999.000,9, -999.000,9,-999.0000,9,  -999.00,9,   -999.0,9,  -999.00,9,-999.000,9,   -999.0,9,   -999.0,9,  -999.0,-999.0000,-999.000,-999.000,  -999.0,-999.000
   3220CGC92_1,   P13,    31,  1,    121,   1235,2,19920831,0847, 44.0027, 164.9633, 5516,   5963,    590.0,   3.4862,  34.1713,2,  34.1702,2,     46.0,2,  3.4461,     43.0,2,   118.15,2,    42.21,2,     0.00,2,     3.01,2,    0.502,2,    0.229,2, -999.000,9, -999.000,9, -999.000,9,-999.0000,9,  -999.00,9,   -999.0,9,  -999.00,9,-999.000,9,   -999.0,9,   -999.0,9,  -999.0,-999.0000,-999.000,-999.000,  -999.0,-999.000
   3220CGC92_1,   P13,    31,  1,    120,   1237,2,19920831,0847, 44.0027, 164.9633, 5516,   7000,    694.0,   3.2892,  34.2392,2,  34.2399,2,     39.0,2,  3.2425,     35.8,2,   127.21,2,    42.99,2,     0.00,2,     3.04,2,    0.308,2,    0.134,2, -999.000,9, -999.000,9, -999.000,9,-999.0000,9,  -999.00,9,   -999.0,9,  -999.00,9,-999.000,9,   -999.0,9,   -999.0,9,  -999.0,-999.0000,-999.000,-999.000,  -999.0,-999.000
   3220CGC92_1,   P13,    31,  1,    119,   1025,2,19920831,0847, 44.0027, 164.9633, 5516,   8005,    794.0,   3.1143,  34.2961,2,  34.2994,2,     35.0,2,  3.0612,     33.2,2,   134.77,2,    43.29,2,     0.00,2,     3.03,2,    0.190,2,    0.084,2, -999.000,9, -999.000,9, -999.000,9,-999.0000,9,  -999.00,9,   -999.0,9,  -999.00,9,-999.000,9,   -999.0,9,   -999.0,9,  -999.0,-999.0000,-999.000,-999.000,  -999.0,-999.000
   3220CGC92_1,   P13,    31,  1,    118,   1118,2,19920831,0847, 44.0027, 164.9633, 5516,   8998,    893.0,   2.9553,  34.3431,2,  34.3478,2,     33.8,2,  2.8960,     33.0,6,   140.53,2,    43.34,2,     0.00,2,     3.05,2,    0.135,3,    0.058,3, -999.000,9, -999.000,9, -999.000,9,-999.0000,9,  -999.00,9,   -999.0,9,  -999.00,9,-999.000,9,   -999.0,9,   -999.0,9,  -999.0,-999.0000,-999.000,-999.000,  -999.0,-999.000
   3220CGC92_1,   P13,    31,  1,    117,   1005,2,19920831,0847, 44.0027, 164.9633, 5516,   9995,    993.0,   2.7953,  34.3825,2,  34.3878,2,     34.7,2,  2.7297,     33.9,2,   145.91,2,    43.37,2,     0.00,2,     3.05,2,    0.096,2,    0.045,2, -999.000,9, -999.000,9, -999.000,9,   1.8820,2,    16.70,2,   -999.0,9,  -999.00,9,-999.000,9,   -999.0,9,   -999.0,9,  -999.0,-999.0000,-999.000,-999.000,  -999.0,-999.000
   3220CGC92_1,   P13,    31,  1,    116,   1104,2,19920831,0847, 44.0027, 164.9633, 5516,  11991,   1192.0,   2.5174,  34.4425,2,  34.4468,2,     36.5,2,  2.4393,     35.4,2,   155.30,2,    43.22,2,     0.00,2,     3.01,2,    0.053,2,    0.029,2, -999.000,9, -999.000,9, -999.000,9,-999.0000,9,  -999.00,9,   -999.0,9,  -999.00,9,-999.000,9,   -999.0,9,   -999.0,9,  -999.0,-999.0000,-999.000,-999.000,  -999.0,-999.000
   3220CGC92_1,   P13,    31,  1,    115,   1020,2,19920831,0847, 44.0027, 164.9633, 5516,  14001,   1393.0,   2.3234,  34.4917,2,  34.4961,2,     40.6,2,  2.2319,     40.7,2,   161.63,2,    42.63,2,     0.00,2,     3.00,2,    0.030,2,    0.012,2, -999.000,9, -999.000,9, -999.000,9,-999.0000,9,  -999.00,9,   -999.0,9,  -999.00,9,-999.000,9,   -999.0,9,   -999.0,9,  -999.0,-999.0000,-999.000,-999.000,  -999.0,-999.000
   3220CGC92_1,   P13,    31,  1,    114,   1012,2,19920831,0847, 44.0027, 164.9633, 5516,  17002,   1693.0,   2.1135,  34.5462,2,  34.5498,2,     53.7,2,  2.0008,     53.7,2,   165.36,2,    41.90,2,     0.00,2,     2.95,2,    0.007,2,    0.001,2, -999.000,9, -999.000,9, -999.000,9,   1.9040,2,    18.60,2,   -999.0,9,  -999.00,9,-999.000,9,   -999.0,9,   -999.0,9,  -999.0,-999.0000,-999.000,-999.000,  -999.0,-999.000
   3220CGC92_1,   P13,    31,  1,    113,   1229,2,19920831,0847, 44.0027, 164.9633, 5516,  19996,   1993.0,   1.9345,  34.5877,2,  34.5928,2,     70.5,2,  1.7998,     71.5,2,   165.01,2,    40.81,2,     0.00,2,     2.83,2,   -0.002,2,   -0.001,2, -999.000,9, -999.000,9, -999.000,9,   1.8960,2,    18.90,2,   -999.0,9,  -999.00,9,-999.000,9,   -999.0,9,   -999.0,9,  -999.0,-999.0000,-999.000,-999.000,  -999.0,-999.000
   3220CGC92_1,   P13,    31,  1,    112,   1219,2,19920831,0847, 44.0027, 164.9633, 5516,  22993,   2293.0,   1.7866,  34.6164,2,  34.6225,2,   -999.0,9,  1.6286,     88.8,2,   166.93,2,    40.27,2,     0.00,2,     2.77,2,   -0.001,2,   -0.003,2, -999.000,9, -999.000,9, -999.000,9,   1.8960,2,    18.90,2,   -999.0,9,  -999.00,9,-999.000,9,   -999.0,9,   -999.0,9,  -999.0,-999.0000,-999.000,-999.000,  -999.0,-999.000
   3220CGC92_1,   P13,    31,  1,    111,   1112,2,19920831,0847, 44.0027, 164.9633, 5516,  25998,   2594.0,   1.6606,  34.6327,2,  34.6420,2,    105.3,2,  1.4783,    105.8,2,   164.13,2,    39.30,2,     0.00,2,     2.73,2,   -0.001,2,   -0.003,2, -999.000,9, -999.000,9, -999.000,9,   1.8990,2,    18.40,2,   -999.0,9,  -999.00,9,-999.000,9,   -999.0,9,   -999.0,9,  -999.0,-999.0000,-999.000,-999.000,  -999.0,-999.000
   3220CGC92_1,   P13,    31,  1,    110,   1029,2,19920831,0847, 44.0027, 164.9633, 5516,  28992,   2895.0,   1.5826,  34.6551,2,  34.6544,2,    118.3,2,  1.3740,    118.7,2,   160.99,2,    38.69,2,     0.00,2,     2.67,2, -999.000,9, -999.000,9, -999.000,9, -999.000,9, -999.000,9,   1.9010,2,    18.20,2,   -999.0,9,  -999.00,9,-999.000,9,   -999.0,9,   -999.0,9,  -999.0,-999.0000,-999.000,-999.000,  -999.0,-999.000
   3220CGC92_1,   P13,    31,  1,    109,   1023,2,19920831,0847, 44.0027, 164.9633, 5516,  30993,   3095.0,   1.5416,  34.6623,2,  34.6643,2,    125.5,2,  1.3148,    126.7,2,   159.13,2,    38.47,2,     0.00,2,     2.64,2,    0.001,2,    0.005,2, -999.000,9, -999.000,9, -999.000,9,-999.0000,9,  -999.00,9,   -999.0,9,  -999.00,9,-999.000,9,   -999.0,9,   -999.0,9,  -999.0,-999.0000,-999.000,-999.000,  -999.0,-999.000
   3220CGC92_1,   P13,    31,  1,    108,   1032,2,19920831,0847, 44.0027, 164.9633, 5516,  33991,   3396.0,   1.5026,  34.6705,2,  34.6693,2,    135.6,2,  1.2470,    135.7,2,   157.30,2,    38.10,2,     0.00,2,     2.61,2, -999.000,9, -999.000,9, -999.000,9, -999.000,9, -999.000,9,-999.0000,9,  -999.00,9,   -999.0,9,  -999.00,9,-999.000,9,   -999.0,9,   -999.0,9,  -999.0,-999.0000,-999.000,-999.000,  -999.0,-999.000
   3220CGC92_1,   P13,    31,  1,    107,   1037,2,19920831,0847, 44.0027, 164.9633, 5516,  36989,   3697.0,   1.4796,  34.6758,2,  34.6762,2,    142.5,2,  1.1936,    142.5,2,   154.70,2,    37.75,2,     0.00,2,     2.56,2,    0.000,2,    0.003,2, -999.000,9, -999.000,9, -999.000,9,-999.0000,9,  -999.00,9,   -999.0,9,  -999.00,9,-999.000,9,   -999.0,9,   -999.0,9,  -999.0,-999.0000,-999.000,-999.000,  -999.0,-999.000
   3220CGC92_1,   P13,    31,  1,    106,   1022,2,19920831,0847, 44.0027, 164.9633, 5516,  39997,   3998.0,   1.4726,  34.6806,2,  34.6796,2,    146.5,2,  1.1547,    147.9,2,   153.07,2,    37.52,2,     0.00,2,     2.53,2,   -0.004,2,   -0.003,2, -999.000,9, -999.000,9, -999.000,9,-999.0000,9,  -999.00,9,   -999.0,9,  -999.00,9,-999.000,9,   -999.0,9,   -999.0,9,  -999.0,-999.0000,-999.000,-999.000,  -999.0,-999.000
   3220CGC92_1,   P13,    31,  1,    105,   1221,2,19920831,0847, 44.0027, 164.9633, 5516,  43990,   4398.0,   1.4786,  34.6843,2,  34.6853,2,    232.0,2,  1.1160,    153.2,2,   151.74,2,    37.00,2,     0.00,2,     2.51,2,    0.000,2,    0.001,2, -999.000,9, -999.000,9, -999.000,9,-999.0000,9,  -999.00,9,   -999.0,9,  -999.00,9,-999.000,9,   -999.0,9,   -999.0,9,  -999.0,-999.0000,-999.000,-999.000,  -999.0,-999.000
   3220CGC92_1,   P13,    31,  1,    104,   1038,2,19920831,0847, 44.0027, 164.9633, 5516,  47984,   4798.0,   1.4976,  34.6869,2,  34.6863,2,    153.4,2,  1.0877,   -999.0,5,   151.27,2,    36.38,2,     0.00,2,     2.47,2, -999.000,9, -999.000,9, -999.000,9, -999.000,9, -999.000,9,-999.0000,9,  -999.00,9,   -999.0,9,  -999.00,9,-999.000,9,   -999.0,9,   -999.0,9,  -999.0,-999.0000,-999.000,-999.000,  -999.0,-999.000
   3220CGC92_1,   P13,    31,  1,    103,   1033,2,19920831,0847, 44.0027, 164.9633, 5516,  51989,   5198.0,   1.5346,  34.6879,2,  34.6885,2,    159.8,2,  1.0748,    158.2,2,   151.63,2,    36.38,2,     0.00,2,     2.45,2,    0.002,2,    0.004,2, -999.000,9, -999.000,9, -999.000,9,-999.0000,9,  -999.00,9,   -999.0,9,  -999.00,9,-999.000,9,   -999.0,9,   -999.0,9,  -999.0,-999.0000,-999.000,-999.000,  -999.0,-999.000
   3220CGC92_1,   P13,    31,  1,    102,   1234,2,19920831,0847, 44.0027, 164.9633, 5516,  54982,   5497.0,   1.5686,  34.6895,2,  34.6887,2,    163.4,2,  1.0698,    158.5,2,   151.68,2,    36.43,2,     0.00,2,     2.45,2,    0.004,2,    0.003,2, -999.000,9, -999.000,9, -999.000,9,-999.0000,9,  -999.00,9,   -999.0,9,  -999.00,9,-999.000,9,   -999.0,9,   -999.0,9,  -999.0,-999.0000,-999.000,-999.000,  -999.0,-999.000
   3220CGC92_1,   P13,    31,  1,    101,   1013,2,19920831,0847, 44.0027, 164.9633, 5516,  58046,   5803.0,   1.6026,  34.6889,2,  34.6899,6,    165.1,2,  1.0628,    160.4,2,   150.68,2,    36.54,2,     0.00,2,     2.44,2,    0.006,2,    0.004,2, -999.000,9, -999.000,9, -999.000,9,-999.0000,9,  -999.00,9,   -999.0,9,  -999.00,9,-999.000,9,   -999.0,9,   -999.0,9,  -999.0,-999.0000,-999.000,-999.000,  -999.0,-999.000