BOTTLE,20221003CCHSIOAMB
EXPOCODE,SECT_ID,STNNBR,CASTNO,SAMPNO,BTLNBR,BTLNBR_FLAG_W,DATE,TIME,LATITUDE,LONGITUDE,DEPTH,CTDRAW,CTDPRS,CTDTMP,CTDSAL,CTDSAL_FLAG_W,SALNTY,SALNTY_FLAG_W,CTDOXY,CTDOXY_FLAG_W,THETA,OXYGEN,OXYGEN_FLAG_W,SILCAT,SILCAT_FLAG_W,NITRAT,NITRAT_FLAG_W,NITRIT,NITRIT_FLAG_W,PHSPHT,PHSPHT_FLAG_W,CFC-11,CFC-11_FLAG_W,CFC-12,CFC-12_FLAG_W,CFC113,CFC113_FLAG_W,CCL4,CCL4_FLAG_W,TRITUM,TRITUM_FLAG_W,HELIUM,HELIUM_FLAG_W,DELHE3,DELHE3_FLAG_W,DELC14,DELC14_FLAG_W,DELC13,DELC13_FLAG_W,NEON,NEON_FLAG_W,TCARBN,TCARBN_FLAG_W,ALKALI,ALKALI_FLAG_W,C14ERR,HELIER,DELHER,NEONER,C13ERR,TRITER
,,,,,,,,,,,,DBAR,DBAR,ITS-90,PSS-78,,PSS-78,,UMOL/KG,,DEG C,UMOL/KG,,UMOL/KG,,UMOL/KG,,UMOL/KG,,UMOL/KG,,PMOL/KG,,PMOL/KG,,PMOL/KG,,PMOL/KG,,TU,,NMOL/KG,,PERCNT,,/MILLE,,/MILLE,,NMOL/KG,,UMOL/KG,,UMOL/KG,,/MILLE,NMOL/KG,PERCNT,NMOL/KG,/MILLE,TU
   3220CGC92_1,   P13,    14,  1,    136,   1106,2,19920823,1940, 52.5220, 163.5873, 5048,    107,      8.0,  10.3745,  32.9263,2,  32.9255,2,    288.2,2, 10.3736,    284.6,2,    27.86,2,    11.03,2,     0.09,2,     1.40,2,    4.210,2,    2.048,2, -999.000,9, -999.000,9, -999.000,9,-999.0000,9,  -999.00,9,    -30.6,2,     1.85,2,-999.000,9,   2032.1,2,   2239.5,6,     3.2,-999.0000,-999.000,-999.000,  -999.0,-999.000
   3220CGC92_1,   P13,    14,  1,    135,   1033,2,19920823,1940, 52.5220, 163.5873, 5048,    245,     21.0,  10.3615,  32.9273,2,  32.9264,2,   -999.0,9, 10.3591,    283.2,2,    38.71,2,    11.93,2,     0.07,2,     1.40,2,    4.122,2,    2.042,2, -999.000,9, -999.000,9, -999.000,9,-999.0000,9,  -999.00,9,    -13.2,2,     1.76,2,-999.000,9,   -999.0,9,   -999.0,9,     3.3,-999.0000,-999.000,-999.000,  -999.0,-999.000
   3220CGC92_1,   P13,    14,  1,    134,   1109,2,19920823,1940, 52.5220, 163.5873, 5048,    494,     46.0,   4.3919,  33.0767,2,  33.1207,2,    329.3,2,  4.3888,    324.5,2,    49.98,2,    20.82,2,     0.36,2,     1.96,2,    5.995,6,    2.812,6,    0.686,2,    8.505,2, -999.000,9,-999.0000,9,  -999.00,9,    -36.2,2,     0.90,2,-999.000,9,   -999.0,9,   -999.0,9,     3.2,-999.0000,-999.000,-999.000,  -999.0,-999.000
   3220CGC92_1,   P13,    14,  1,    133,   1031,2,19920823,1940, 52.5220, 163.5873, 5048,    754,     72.0,   1.7636,  33.1851,2,  33.2259,2,    304.9,2,  1.7601,    308.3,4,    52.55,2,    28.26,2,     0.00,2,     2.28,2,    5.951,2,    2.784,2, -999.000,9, -999.000,9, -999.000,9,-999.0000,9,  -999.00,9,    -56.4,2,     0.47,2,-999.000,9,   -999.0,9,   -999.0,9,     3.1,-999.0000,-999.000,-999.000,  -999.0,-999.000
   3220CGC92_1,   P13,    14,  1,    132,   1008,2,19920823,1940, 52.5220, 163.5873, 5048,    996,     96.0,   1.6496,  33.2412,2,  33.2670,2,    269.2,2,  1.6451,    308.3,2,    72.47,2,    29.33,2,     0.00,2,     2.33,2,    5.891,2,    2.772,2,    0.579,2,    9.304,2, -999.000,9,-999.0000,9,  -999.00,9,    -19.6,2,     0.47,2,-999.000,9,   -999.0,9,   -999.0,9,     3.6,-999.0000,-999.000,-999.000,  -999.0,-999.000
   3220CGC92_1,   P13,    14,  1,    131,   1030,2,19920823,1940, 52.5220, 163.5873, 5048,   1242,    120.0,   2.6554,  33.4838,2,  33.5545,2,    159.0,2,  2.6486,    159.8,2,    87.69,2,    36.31,2,     0.00,2,     2.77,2,    3.463,2,    1.630,2, -999.000,9, -999.000,9, -999.000,9,-999.0000,9,  -999.00,9,    -84.9,2,    -0.42,2,-999.000,9,   -999.0,9,   -999.0,9,     3.3,-999.0000,-999.000,-999.000,  -999.0,-999.000
   3220CGC92_1,   P13,    14,  1,    130,   1032,2,19920823,1940, 52.5220, 163.5873, 5048,   1498,    146.0,   3.4872,  33.7417,2,  33.7913,2,     77.8,2,  3.4779,     63.8,2,    92.37,2,    40.66,2,     0.00,2,     3.04,2,    1.902,2,    0.847,2, -999.000,9, -999.000,9, -999.000,9,-999.0000,9,  -999.00,9,    -86.4,2,    -0.64,2,-999.000,9,   -999.0,9,   -999.0,9,     3.3,-999.0000,-999.000,-999.000,  -999.0,-999.000
   3220CGC92_1,   P13,    14,  1,    129,   1004,2,19920823,1940, 52.5220, 163.5873, 5048,   1737,    170.0,   3.6511,  33.8207,2,  33.8672,2,     55.2,2,  3.6400,     42.3,2,    95.28,2,    42.68,2,     0.00,2,     3.17,2,    1.421,2,    0.636,2,    0.144,2,    1.828,2, -999.000,9,-999.0000,9,  -999.00,9,    -96.5,2,    -0.74,2,-999.000,9,   -999.0,9,   -999.0,9,     3.1,-999.0000,-999.000,-999.000,  -999.0,-999.000
   3220CGC92_1,   P13,    14,  1,    128,   1028,2,19920823,1940, 52.5220, 163.5873, 5048,   1998,    196.0,   3.6741,  33.8765,2,  33.9068,2,     53.4,2,  3.6612,     33.8,2,   101.27,2,    42.84,2,     0.00,2,     3.17,2,    1.235,6,    0.546,6, -999.000,9, -999.000,9, -999.000,9,-999.0000,9,  -999.00,9,   -121.2,2,    -0.79,2,-999.000,9,   -999.0,9,   -999.0,9,     4.9,-999.0000,-999.000,-999.000,  -999.0,-999.000
   3220CGC92_1,   P13,    14,  1,    127,   1117,2,19920823,1940, 52.5220, 163.5873, 5048,   2499,    245.0,   3.6681,  33.9537,2,  33.9761,2,     22.6,2,  3.6519,     22.3,2,   105.83,2,    43.51,2,     0.00,2,     3.22,2,    0.864,2,    0.385,2, -999.000,9, -999.000,9, -999.000,9,-999.0000,9,  -999.00,9,   -131.3,2,    -0.79,2,-999.000,9,   -999.0,9,   -999.0,9,     3.9,-999.0000,-999.000,-999.000,  -999.0,-999.000
   3220CGC92_1,   P13,    14,  1,    126,   1110,2,19920823,1940, 52.5220, 163.5873, 5048,   2992,    295.0,   3.6171,  34.0221,2,  34.0275,2,     21.0,2,  3.5975,     20.3,2,   113.92,2,    43.23,2,     0.00,2,     3.18,3,    0.684,2,    0.312,2,    0.077,2,    1.039,2, -999.000,9,-999.0000,9,  -999.00,9,   -136.5,2,    -0.77,2,-999.000,9,   -999.0,9,   -999.0,9,     2.7,-999.0000,-999.000,-999.000,  -999.0,-999.000
   3220CGC92_1,   P13,    14,  1,    125,   1035,2,19920823,1940, 52.5220, 163.5873, 5048,   3490,    344.0,   3.5631,  34.0704,2,  34.0745,2,     21.8,2,  3.5403,     20.2,2,   110.12,2,    42.78,3,     0.00,2,     3.15,3,    0.528,2,    0.237,2, -999.000,9, -999.000,9, -999.000,9,-999.0000,9,  -999.00,9,   -145.9,2,    -0.75,2,-999.000,9,   -999.0,9,   -999.0,9,     4.9,-999.0000,-999.000,-999.000,  -999.0,-999.000
   3220CGC92_1,   P13,    14,  1,    124,   1026,2,19920823,1940, 52.5220, 163.5873, 5048,   3987,    394.0,   3.4932,  34.1181,2,  34.1171,2,     20.6,2,  3.4670,     19.5,2,   113.84,2,    43.34,2,     0.00,2,     3.14,3,    0.413,2,    0.188,2, -999.000,9, -999.000,9, -999.000,9,-999.0000,9,  -999.00,9,   -166.7,2,    -0.74,2,-999.000,9,   -999.0,9,   -999.0,9,     3.2,-999.0000,-999.000,-999.000,  -999.0,-999.000
   3220CGC92_1,   P13,    14,  1,    123,   1014,2,19920823,1940, 52.5220, 163.5873, 5048,   4994,    494.0,   3.3542,  34.1878,2,  34.1891,2,     17.4,2,  3.3215,     17.1,2,   122.42,2,    43.88,2,     0.00,2,     3.22,2,    0.260,2,    0.116,2, -999.000,9, -999.000,9, -999.000,9,-999.0000,9,  -999.00,9,   -177.7,2,    -0.72,2,-999.000,9,   -999.0,9,   -999.0,9,     2.8,-999.0000,-999.000,-999.000,  -999.0,-999.000
   3220CGC92_1,   P13,    14,  1,    122,   1015,2,19920823,1940, 52.5220, 163.5873, 5048,   5993,    593.0,   3.2002,  34.2452,2,  34.2466,2,     17.3,2,  3.1612,     16.5,2,   129.85,2,    44.18,2,     0.00,2,     3.18,2,    0.169,6,    0.083,2, -999.000,9, -999.000,9, -999.000,9,-999.0000,9,  -999.00,9,   -186.6,2,    -0.68,2,-999.000,9,   -999.0,9,   -999.0,9,     3.2,-999.0000,-999.000,-999.000,  -999.0,-999.000
   3220CGC92_1,   P13,    14,  1,    121,   1235,2,19920823,1940, 52.5220, 163.5873, 5048,   7003,    694.0,   3.0573,  34.2917,2,  34.2972,2,     16.7,2,  3.0118,     16.9,2,   135.76,2,    43.68,2,     0.00,2,     3.20,2,    0.119,2,    0.052,2, -999.000,9, -999.000,9, -999.000,9,-999.0000,9,  -999.00,9,   -197.0,2,    -0.70,2,-999.000,9,   -999.0,9,   -999.0,9,     2.9,-999.0000,-999.000,-999.000,  -999.0,-999.000
   3220CGC92_1,   P13,    14,  1,    120,   1237,2,19920823,1940, 52.5220, 163.5873, 5048,   7987,    792.0,   2.9203,  34.3313,2,  34.3331,2,     17.1,2,  2.8685,     16.7,2,   141.41,2,    44.08,2,     0.00,2,     3.20,2,    0.082,2,    0.035,2, -999.000,9, -999.000,9, -999.000,9,-999.0000,9,  -999.00,9,   -201.2,2,    -0.70,2,-999.000,9,   -999.0,9,   -999.0,9,     2.8,-999.0000,-999.000,-999.000,  -999.0,-999.000
   3220CGC92_1,   P13,    14,  1,    119,   1025,2,19920823,1940, 52.5220, 163.5873, 5048,   8982,    892.0,   2.7813,  34.3686,2,  34.3728,2,     21.7,2,  2.7233,     17.6,2,   146.61,2,    44.02,2,     0.00,2,     3.19,2,    0.051,2,    0.026,2, -999.000,9, -999.000,9, -999.000,9,-999.0000,9,  -999.00,9,   -198.6,2,    -0.69,2,-999.000,9,   -999.0,9,   -999.0,9,     3.9,-999.0000,-999.000,-999.000,  -999.0,-999.000
   3220CGC92_1,   P13,    14,  1,    118,   1002,2,19920823,1940, 52.5220, 163.5873, 5048,   9998,    993.0,   2.6554,  34.3993,2,  34.4068,2,     21.6,2,  2.5908,     18.7,2,   152.89,2,    43.70,2,     0.00,2,     3.19,2,    0.047,2,    0.018,2, -999.000,9, -999.000,9, -999.000,9,-999.0000,9,  -999.00,9,   -214.3,2,    -0.67,2,-999.000,9,   -999.0,9,   -999.0,9,     2.9,-999.0000,-999.000,-999.000,  -999.0,-999.000
   3220CGC92_1,   P13,    14,  1,    117,   1005,2,19920823,1940, 52.5220, 163.5873, 5048,  12025,   1196.0,   2.4014,  34.4609,2,  34.4646,2,     26.0,2,  2.3240,     26.4,2,   160.20,2,    42.98,2,     0.00,2,     3.14,2,    0.031,2,    0.014,2, -999.000,9, -999.000,9, -999.000,9,-999.0000,9,  -999.00,9,   -235.8,2,    -0.64,2,-999.000,9,   -999.0,9,   -999.0,9,     3.0,-999.0000,-999.000,-999.000,  -999.0,-999.000
   3220CGC92_1,   P13,    14,  1,    116,   1104,2,19920823,1940, 52.5220, 163.5873, 5048,  13998,   1393.0,   2.2045,  34.5078,2,  34.5096,2,     34.8,2,  2.1142,     35.7,6,   164.00,2,    42.74,2,     0.00,2,     3.10,2, -999.000,9, -999.000,9, -999.000,9, -999.000,9, -999.000,9,-999.0000,9,  -999.00,9,   -999.0,9,  -999.00,9,-999.000,9,   -999.0,9,   -999.0,9,  -999.0,-999.0000,-999.000,-999.000,  -999.0,-999.000
   3220CGC92_1,   P13,    14,  1,    115,   1020,2,19920823,1940, 52.5220, 163.5873, 5048,  16004,   1593.0,   2.0615,  34.5436,2,  34.5434,2,     46.2,2,  1.9574,     46.1,2,   167.16,2,    42.44,2,     0.00,2,     3.07,2,    0.018,2,    0.004,2, -999.000,9, -999.000,9, -999.000,9,-999.0000,9,  -999.00,9,   -999.0,9,  -999.00,9,-999.000,9,   -999.0,9,   -999.0,9,  -999.0,-999.0000,-999.000,-999.000,  -999.0,-999.000
   3220CGC92_1,   P13,    14,  1,    114,   1120,2,19920823,1940, 52.5220, 163.5873, 5048,  18005,   1794.0,   1.9355,  34.5719,2,  34.5727,2,     57.9,2,  1.8171,     56.2,2,   170.54,2,    41.98,2,     0.00,2,     3.01,2, -999.000,9, -999.000,9, -999.000,9, -999.000,9, -999.000,9,-999.0000,9,  -999.00,9,   -999.0,9,  -999.00,9,-999.000,9,   -999.0,9,   -999.0,9,  -999.0,-999.0000,-999.000,-999.000,  -999.0,-999.000
   3220CGC92_1,   P13,    14,  1,    113,   1112,2,19920823,1940, 52.5220, 163.5873, 5048,  19987,   1992.0,   1.8386,  34.5956,2,  34.5951,2,     69.1,2,  1.7053,     68.7,2,   169.88,2,    40.08,2,     0.00,2,     2.88,2,    0.015,2,   -0.007,2, -999.000,9, -999.000,9, -999.000,9,-999.0000,9,  -999.00,9,   -238.4,2,    -0.39,2,-999.000,9,   -999.0,9,   -999.0,9,     3.1,-999.0000,-999.000,-999.000,  -999.0,-999.000
   3220CGC92_1,   P13,    14,  1,    112,   1234,2,19920823,1940, 52.5220, 163.5873, 5048,  22986,   2293.0,   1.7226,  34.6229,2,  34.6212,2,   -999.0,9,  1.5657,     87.8,2,   166.23,2,    39.76,2,     0.00,2,     2.86,2, -999.000,9, -999.000,9, -999.000,9, -999.000,9, -999.000,9,-999.0000,9,  -999.00,9,   -999.0,9,  -999.00,9,-999.000,9,   -999.0,9,   -999.0,9,  -999.0,-999.0000,-999.000,-999.000,  -999.0,-999.000
   3220CGC92_1,   P13,    14,  1,    111,   1221,2,19920823,1940, 52.5220, 163.5873, 5048,  25987,   2593.0,   1.6446,  34.6403,2,  34.6475,3,    104.7,2,  1.4627,    104.3,2,   162.57,2,    38.96,2,     0.00,2,     2.84,2, -999.000,9, -999.000,9, -999.000,9, -999.000,9, -999.000,9,-999.0000,9,  -999.00,9,   -999.0,9,  -999.00,9,-999.000,9,   -999.0,9,   -999.0,9,  -999.0,-999.0000,-999.000,-999.000,  -999.0,-999.000
   3220CGC92_1,   P13,    14,  1,    110,   1118,2,19920823,1940, 52.5220, 163.5873, 5048,  29021,   2898.0,   1.5766,  34.6540,2,  34.6533,2,    117.3,2,  1.3679,    118.1,2,   157.92,2,    38.64,2,     0.00,2,     2.73,2,    0.000,2,    0.000,2, -999.000,9, -999.000,9, -999.000,9,-999.0000,9,  -999.00,9,   -999.0,9,  -999.00,9,-999.000,9,   -999.0,9,   -999.0,9,  -999.0,-999.0000,-999.000,-999.000,  -999.0,-999.000
   3220CGC92_1,   P13,    14,  1,    109,   1113,3,19920823,1940, 52.5220, 163.5873, 5048,  31982,   3194.0,   1.5306,  34.6627,2,-999.0000,9,    127.6,2,  1.2944,   -999.0,9,  -999.00,5,  -999.00,9,  -999.00,9,  -999.00,5, -999.000,9, -999.000,9, -999.000,9, -999.000,9, -999.000,9,-999.0000,9,  -999.00,9,   -999.0,9,  -999.00,9,-999.000,9,   -999.0,9,   -999.0,9,  -999.0,-999.0000,-999.000,-999.000,  -999.0,-999.000
   3220CGC92_1,   P13,    14,  1,    108,   1016,2,19920823,1940, 52.5220, 163.5873, 5048,  35007,   3498.0,   1.4986,  34.6706,2,  34.6701,2,   -999.0,9,  1.2327,    136.9,2,   151.71,2,    37.51,2,     0.00,2,     2.61,2, -999.000,9, -999.000,9, -999.000,9, -999.000,9, -999.000,9,-999.0000,9,  -999.00,9,   -999.0,9,  -999.00,9,-999.000,9,   -999.0,9,   -999.0,9,  -999.0,-999.0000,-999.000,-999.000,  -999.0,-999.000
   3220CGC92_1,   P13,    14,  1,    107,   1022,2,19920823,1940, 52.5220, 163.5873, 5048,  37981,   3796.0,   1.4836,  34.6761,2,  34.6761,2,   -999.0,9,  1.1871,    143.3,2,   149.05,2,    37.23,2,     0.00,2,     2.59,2,    0.007,2,    0.003,2, -999.000,9, -999.000,9, -999.000,9,-999.0000,9,  -999.00,9,   -999.0,9,  -999.00,9,-999.000,9,   -999.0,9,   -999.0,9,  -999.0,-999.0000,-999.000,-999.000,  -999.0,-999.000
   3220CGC92_1,   P13,    14,  1,    106,   1036,2,19920823,1940, 52.5220, 163.5873, 5048,  40977,   4096.0,   1.4756,  34.6800,2,  34.6786,2,   -999.0,9,  1.1469,    148.6,2,   147.02,2,    36.63,2,     0.00,2,     2.53,2, -999.000,9, -999.000,9, -999.000,9, -999.000,9, -999.000,9,-999.0000,9,  -999.00,9,   -999.0,9,  -999.00,9,-999.000,9,   -999.0,9,   -999.0,9,  -999.0,-999.0000,-999.000,-999.000,  -999.0,-999.000
   3220CGC92_1,   P13,    14,  1,    105,   1037,2,19920823,1940, 52.5220, 163.5873, 5048,  43997,   4399.0,   1.4796,  34.6828,2,  34.6824,2,   -999.0,9,  1.1168,    152.0,2,   147.15,2,    36.89,2,     0.00,2,     2.52,2, -999.000,9, -999.000,9, -999.000,9, -999.000,9, -999.000,9,-999.0000,9,  -999.00,9,   -999.0,9,  -999.00,9,-999.000,9,   -999.0,9,   -999.0,9,  -999.0,-999.0000,-999.000,-999.000,  -999.0,-999.000
   3220CGC92_1,   P13,    14,  1,    104,   1029,2,19920823,1940, 52.5220, 163.5873, 5048,  46985,   4698.0,   1.4946,  34.6847,2,  34.6840,2,    156.3,2,  1.0967,    155.4,2,   147.60,2,    36.59,2,     0.00,2,     2.61,3,    0.005,2,    0.008,2, -999.000,9, -999.000,9, -999.000,9,-999.0000,9,  -999.00,9,   -999.0,9,  -999.00,9,-999.000,9,   -999.0,9,   -999.0,9,  -999.0,-999.0000,-999.000,-999.000,  -999.0,-999.000
   3220CGC92_1,   P13,    14,  1,    103,   1023,2,19920823,1940, 52.5220, 163.5873, 5048,  49991,   4998.0,   1.5136,  34.6862,2,  34.6859,2,    161.3,2,  1.0791,    158.9,2,   144.86,2,    36.06,2,     0.00,2,     2.62,3, -999.000,9, -999.000,9, -999.000,9, -999.000,9, -999.000,9,-999.0000,9,  -999.00,9,   -999.0,9,  -999.00,9,-999.000,9,   -999.0,9,   -999.0,9,  -999.0,-999.0000,-999.000,-999.000,  -999.0,-999.000
   3220CGC92_1,   P13,    14,  1,    101,   1038,2,19920823,1940, 52.5220, 163.5873, 5048,  52527,   5252.0,   1.5236,  34.6881,2,  34.6894,6,    163.2,2,  1.0574,   -999.0,5,   141.75,2,    35.74,2,     0.00,2,     2.56,2,    0.006,2,    0.005,2, -999.000,9, -999.000,9, -999.000,9,-999.0000,9,  -999.00,9,   -999.0,9,  -999.00,9,-999.000,9,   -999.0,9,   -999.0,9,  -999.0,-999.0000,-999.000,-999.000,  -999.0,-999.000
   3220CGC92_1,   P13,    14,  1,    102,   2001,2,19920823,1940, 52.5220, 163.5873, 5048,  52527,   5252.0,   1.5236,  34.6881,2,  34.6887,2,    163.2,2,  1.0574,    164.2,3,   141.94,2,    35.91,2,     0.00,2,     2.54,2, -999.000,9, -999.000,9, -999.000,9, -999.000,9, -999.000,9,-999.0000,9,  -999.00,9,   -999.0,9,  -999.00,9,-999.000,9,   -999.0,9,   -999.0,9,  -999.0,-999.0000,-999.000,-999.000,  -999.0,-999.000