BOTTLE,20221003CCHSIOAMB
EXPOCODE,SECT_ID,STNNBR,CASTNO,SAMPNO,BTLNBR,BTLNBR_FLAG_W,DATE,TIME,LATITUDE,LONGITUDE,DEPTH,CTDRAW,CTDPRS,CTDTMP,CTDSAL,CTDSAL_FLAG_W,SALNTY,SALNTY_FLAG_W,CTDOXY,CTDOXY_FLAG_W,THETA,OXYGEN,OXYGEN_FLAG_W,SILCAT,SILCAT_FLAG_W,NITRAT,NITRAT_FLAG_W,NITRIT,NITRIT_FLAG_W,PHSPHT,PHSPHT_FLAG_W,CFC-11,CFC-11_FLAG_W,CFC-12,CFC-12_FLAG_W,CFC113,CFC113_FLAG_W,CCL4,CCL4_FLAG_W,TRITUM,TRITUM_FLAG_W,HELIUM,HELIUM_FLAG_W,DELHE3,DELHE3_FLAG_W,DELC14,DELC14_FLAG_W,DELC13,DELC13_FLAG_W,NEON,NEON_FLAG_W,TCARBN,TCARBN_FLAG_W,ALKALI,ALKALI_FLAG_W,C14ERR,HELIER,DELHER,NEONER,C13ERR,TRITER
,,,,,,,,,,,,DBAR,DBAR,ITS-90,PSS-78,,PSS-78,,UMOL/KG,,DEG C,UMOL/KG,,UMOL/KG,,UMOL/KG,,UMOL/KG,,UMOL/KG,,PMOL/KG,,PMOL/KG,,PMOL/KG,,PMOL/KG,,TU,,NMOL/KG,,PERCNT,,/MILLE,,/MILLE,,NMOL/KG,,UMOL/KG,,UMOL/KG,,/MILLE,NMOL/KG,PERCNT,NMOL/KG,/MILLE,TU
   3220CGC92_2,   P13,    79,  1,    136,   1106,2,19921014,2150, -0.4978, 164.9982, 4308,     98,      7.0,  30.2307,  34.7457,2,  34.7514,2,    197.0,2, 30.2290,    193.6,3,     0.85,2,     0.00,2,     0.00,2,     0.01,2,    1.522,2,    0.900,2, -999.000,9, -999.000,9, -999.000,9,-999.0000,9,  -999.00,9,   -999.0,9,  -999.00,9,-999.000,9,   1922.3,2,   2286.4,2,  -999.0,-999.0000,-999.000,-999.000,  -999.0,-999.000
   3220CGC92_2,   P13,    79,  1,    135,   1013,2,19921014,2150, -0.4978, 164.9982, 4308,    251,     22.0,  30.1038,  34.7502,2,  34.7952,2,   -999.0,9, 30.0983,    193.3,2,     0.93,2,     0.00,2,     0.00,2,     0.04,2, -999.000,9, -999.000,9, -999.000,9, -999.000,9, -999.000,9,-999.0000,9,  -999.00,9,   -999.0,9,  -999.00,9,-999.000,9,   -999.0,9,   -999.0,9,  -999.0,-999.0000,-999.000,-999.000,  -999.0,-999.000
   3220CGC92_2,   P13,    79,  1,    134,   1030,2,19921014,2150, -0.4978, 164.9982, 4308,    510,     48.0,  30.0888,  34.7570,2,  34.7715,2,    194.7,2, 30.0769,    194.4,2,     1.01,2,     0.00,2,     0.00,2,     0.07,2,    1.536,2,    0.884,2, -999.000,9, -999.000,9, -999.000,9,-999.0000,9,  -999.00,9,   -999.0,9,  -999.00,9,-999.000,9,   -999.0,9,   -999.0,9,  -999.0,-999.0000,-999.000,-999.000,  -999.0,-999.000
   3220CGC92_2,   P13,    79,  1,    133,   1231,2,19921014,2150, -0.4978, 164.9982, 4308,    736,     70.0,  29.9988,  34.7607,2,  34.9702,2,    192.3,2, 29.9814,    193.9,6,     1.21,2,     0.01,2,     0.00,2,     0.12,2, -999.000,9, -999.000,9, -999.000,9, -999.000,9, -999.000,9,-999.0000,9,  -999.00,9,   -999.0,9,  -999.00,9,-999.000,9,   -999.0,9,   -999.0,9,  -999.0,-999.0000,-999.000,-999.000,  -999.0,-999.000
   3220CGC92_2,   P13,    79,  1,    132,   1017,2,19921014,2150, -0.4978, 164.9982, 4308,   1000,     96.0,  24.1762,  35.0487,2,  35.0848,2,    134.0,2, 24.1559,    129.9,2,     4.21,2,     7.84,2,     0.16,2,     0.52,2,    1.556,2,    0.908,2, -999.000,9, -999.000,9, -999.000,9,-999.0000,9,  -999.00,9,   -999.0,9,  -999.00,9,-999.000,9,   -999.0,9,   -999.0,9,  -999.0,-999.0000,-999.000,-999.000,  -999.0,-999.000
   3220CGC92_2,   P13,    79,  1,    131,   1031,2,19921014,2150, -0.4978, 164.9982, 4308,   1259,    122.0,  23.3864,  35.0966,2,  35.1026,2,    128.0,2, 23.3612,    127.9,2,     4.76,2,     8.18,2,     0.23,2,     0.54,2, -999.000,9, -999.000,9, -999.000,9, -999.000,9, -999.000,9,-999.0000,9,  -999.00,9,   -999.0,9,  -999.00,9,-999.000,9,   -999.0,9,   -999.0,9,  -999.0,-999.0000,-999.000,-999.000,  -999.0,-999.000
   3220CGC92_2,   P13,    79,  1,    130,   1041,2,19921014,2150, -0.4978, 164.9982, 4308,   1488,    145.0,  22.3456,  35.2321,2,  35.2066,2,    129.6,2, 22.3166,    130.2,2,     5.15,2,     8.73,2,     0.00,2,     0.58,2,    1.524,2,    0.861,2, -999.000,9, -999.000,9, -999.000,9,-999.0000,9,  -999.00,9,   -999.0,9,  -999.00,9,-999.000,9,   -999.0,9,   -999.0,9,  -999.0,-999.0000,-999.000,-999.000,  -999.0,-999.000
   3220CGC92_2,   P13,    79,  1,    129,   1004,2,19921014,2150, -0.4978, 164.9982, 4308,   1758,    172.0,  18.6945,  35.1526,2,  35.1835,2,    137.7,2, 18.6642,    137.1,2,     7.19,2,    10.07,2,     0.00,2,     0.70,2, -999.000,9, -999.000,9, -999.000,9, -999.000,9, -999.000,9,-999.0000,9,  -999.00,9,   -999.0,9,  -999.00,9,-999.000,9,   -999.0,9,   -999.0,9,  -999.0,-999.0000,-999.000,-999.000,  -999.0,-999.000
   3220CGC92_2,   P13,    79,  1,    128,   1016,2,19921014,2150, -0.4978, 164.9982, 4308,   1993,    195.0,  17.1309,  35.0784,2,  35.1383,2,    138.5,2, 17.0985,    138.6,2,     9.29,2,    11.94,2,     0.00,2,     0.83,2,    1.331,2,    0.751,2, -999.000,9, -999.000,9, -999.000,9,-999.0000,9,  -999.00,9,   -999.0,9,  -999.00,9,-999.000,9,   -999.0,9,   -999.0,9,  -999.0,-999.0000,-999.000,-999.000,  -999.0,-999.000
   3220CGC92_2,   P13,    79,  1,    127,   1028,2,19921014,2150, -0.4978, 164.9982, 4308,   2486,    244.0,  13.2938,  34.9106,2,  34.9573,2,    139.4,2, 13.2597,    139.2,2,    14.16,2,    16.20,2,     0.08,2,     1.12,2, -999.000,9, -999.000,9, -999.000,9, -999.000,9, -999.000,9,-999.0000,9,  -999.00,9,   -999.0,9,  -999.00,9,-999.000,9,   -999.0,9,   -999.0,9,  -999.0,-999.0000,-999.000,-999.000,  -999.0,-999.000
   3220CGC92_2,   P13,    79,  1,    126,   1110,2,19921014,2150, -0.4978, 164.9982, 4308,   3007,    296.0,  12.4660,  34.8746,2,  34.8920,2,    131.4,2, 12.4263,    127.0,2,    16.97,2,    19.68,2,     0.00,2,     1.31,2,    0.724,2,    0.402,2, -999.000,9, -999.000,9, -999.000,9,-999.0000,9,  -999.00,9,   -999.0,9,  -999.00,9,-999.000,9,   -999.0,9,   -999.0,9,  -999.0,-999.0000,-999.000,-999.000,  -999.0,-999.000
   3220CGC92_2,   P13,    79,  1,    125,   1035,2,19921014,2150, -0.4978, 164.9982, 4308,   3497,    345.0,  11.3843,  34.8092,2,  34.8120,2,     95.0,2, 11.3406,     89.6,2,    22.68,2,    25.75,2,     0.00,2,     1.73,2, -999.000,9, -999.000,9, -999.000,9, -999.000,9, -999.000,9,-999.0000,9,  -999.00,9,   -999.0,9,  -999.00,9,-999.000,9,   -999.0,9,   -999.0,9,  -999.0,-999.0000,-999.000,-999.000,  -999.0,-999.000
   3220CGC92_2,   P13,    79,  1,    124,   1019,2,19921014,2150, -0.4978, 164.9982, 4308,   3995,    394.0,  10.3405,  34.7429,2,  34.7440,2,     83.3,2, 10.2935,     79.9,2,    26.37,2,    28.19,2,     0.06,2,     1.91,2,    0.247,2,    0.154,2, -999.000,9, -999.000,9, -999.000,9,-999.0000,9,  -999.00,9,   -999.0,9,  -999.00,9,-999.000,9,   -999.0,9,   -999.0,9,  -999.0,-999.0000,-999.000,-999.000,  -999.0,-999.000
   3220CGC92_2,   P13,    79,  1,    123,   1014,2,19921014,2150, -0.4978, 164.9982, 4308,   4497,    444.0,   9.6807,  34.6992,2,  34.6987,2,     98.1,2,  9.6297,     97.3,2,    31.00,2,    30.24,2,     0.00,2,     2.12,2, -999.000,9, -999.000,9, -999.000,9, -999.000,9, -999.000,9,-999.0000,9,  -999.00,9,   -999.0,9,  -999.00,9,-999.000,9,   -999.0,9,   -999.0,9,  -999.0,-999.0000,-999.000,-999.000,  -999.0,-999.000
   3220CGC92_2,   P13,    79,  1,    122,   1015,2,19921014,2150, -0.4978, 164.9982, 4308,   4997,    494.0,   9.0228,  34.6571,2,  34.6571,2,     78.2,2,  8.9684,     87.5,2,    31.09,2,    30.25,2,     0.00,2,     2.12,2,    0.133,2,    0.109,2, -999.000,9, -999.000,9, -999.000,9,-999.0000,9,  -999.00,9,   -999.0,9,  -999.00,9,-999.000,9,   -999.0,9,   -999.0,9,  -999.0,-999.0000,-999.000,-999.000,  -999.0,-999.000
   3220CGC92_2,   P13,    79,  1,    121,   1235,2,19921014,2150, -0.4978, 164.9982, 4308,   5990,    593.0,   7.2303,  34.5656,2,  34.5720,2,     96.6,2,  7.1725,     93.3,2,    42.37,2,    33.51,2,     0.00,2,     2.37,2, -999.000,9, -999.000,9, -999.000,9, -999.000,9, -999.000,9,-999.0000,9,  -999.00,9,   -999.0,9,  -999.00,9,-999.000,9,   -999.0,9,   -999.0,9,  -999.0,-999.0000,-999.000,-999.000,  -999.0,-999.000
   3220CGC92_2,   P13,    79,  1,    120,   1237,2,19921014,2150, -0.4978, 164.9982, 4308,   6985,    692.0,   6.2445,  34.5365,2,  34.5451,2,     99.8,2,  6.1818,     92.0,2,    53.29,2,    35.07,2,     0.00,2,     2.50,2,    0.018,2,    0.023,2, -999.000,9, -999.000,9, -999.000,9,-999.0000,9,  -999.00,9,   -999.0,9,  -999.00,9,-999.000,9,   -999.0,9,   -999.0,9,  -999.0,-999.0000,-999.000,-999.000,  -999.0,-999.000
   3220CGC92_2,   P13,    79,  1,    119,   1025,2,19921014,2150, -0.4978, 164.9982, 4308,   8015,    795.0,   5.5167,  34.5296,2,  34.5380,2,     98.7,2,  5.4484,     94.4,2,    68.84,2,    36.12,2,     0.00,2,     2.57,2, -999.000,9, -999.000,9, -999.000,9, -999.000,9, -999.000,9,-999.0000,9,  -999.00,9,   -999.0,9,  -999.00,9,-999.000,9,   -999.0,9,   -999.0,9,  -999.0,-999.0000,-999.000,-999.000,  -999.0,-999.000
   3220CGC92_2,   P13,    79,  1,    118,   1118,2,19921014,2150, -0.4978, 164.9982, 4308,   8991,    893.0,   5.1138,  34.5332,2,  34.5369,2,     99.7,2,  5.0392,     99.3,2,    68.99,2,    36.28,2,     0.00,2,     2.58,2,    0.007,2,    0.008,2, -999.000,9, -999.000,9, -999.000,9,-999.0000,9,  -999.00,9,   -999.0,9,  -999.00,9,-999.000,9,   -999.0,9,   -999.0,9,  -999.0,-999.0000,-999.000,-999.000,  -999.0,-999.000
   3220CGC92_2,   P13,    79,  1,    117,   1112,2,19921014,2150, -0.4978, 164.9982, 4308,  10004,    994.0,   4.6589,  34.5403,2,  34.5457,2,     93.7,2,  4.5786,     93.4,6,    78.72,2,    36.77,2,     0.00,2,     2.65,2, -999.000,9, -999.000,9, -999.000,9, -999.000,9, -999.000,9,-999.0000,9,  -999.00,9,   -999.0,9,  -999.00,9,-999.000,9,   -999.0,9,   -999.0,9,  -999.0,-999.0000,-999.000,-999.000,  -999.0,-999.000
   3220CGC92_2,   P13,    79,  1,    116,   1104,2,19921014,2150, -0.4978, 164.9982, 4308,  11011,   1094.0,   4.2330,  34.5512,2,  34.5567,2,   -999.0,9,  4.1474,     90.8,2,    88.68,2,    37.01,2,     0.00,2,     2.68,2,   -0.003,2,    0.004,2, -999.000,9, -999.000,9, -999.000,9,-999.0000,9,  -999.00,9,   -999.0,9,  -999.00,9,-999.000,9,   -999.0,9,   -999.0,9,  -999.0,-999.0000,-999.000,-999.000,  -999.0,-999.000
   3220CGC92_2,   P13,    79,  1,    114,   1012,2,19921014,2150, -0.4978, 164.9982, 4308,  13010,   1294.0,   3.5741,  34.5745,2,  34.5799,2,   -999.0,9,  3.4774,     92.0,2,   106.53,2,    37.65,2,     0.00,2,     2.69,2, -999.000,9, -999.000,9, -999.000,9, -999.000,9, -999.000,9,-999.0000,9,  -999.00,9,   -999.0,9,  -999.00,9,-999.000,9,   -999.0,9,   -999.0,9,  -999.0,-999.0000,-999.000,-999.000,  -999.0,-999.000
   3220CGC92_2,   P13,    79,  1,    112,   1219,2,19921014,2150, -0.4978, 164.9982, 4308,  15010,   1494.0,   2.9793,  34.5950,2,  34.5951,2,   -999.0,9,  2.8721,    106.0,2,   115.35,2,    37.14,2,     0.00,2,     2.65,2,    0.001,2,    0.004,2, -999.000,9, -999.000,9, -999.000,9,-999.0000,9,  -999.00,9,   -999.0,9,  -999.00,9,-999.000,9,   -999.0,9,   -999.0,9,  -999.0,-999.0000,-999.000,-999.000,  -999.0,-999.000
   3220CGC92_2,   P13,    79,  1,    110,   1029,2,19921014,2150, -0.4978, 164.9982, 4308,  18001,   1793.0,   2.4604,  34.6210,2,  34.6223,2,   -999.0,9,  2.3347,    111.2,2,   129.91,2,    37.82,2,     0.00,2,     2.70,2, -999.000,9, -999.000,9, -999.000,9, -999.000,9, -999.000,9,-999.0000,9,  -999.00,9,   -999.0,9,  -999.00,9,-999.000,9,   -999.0,9,   -999.0,9,  -999.0,-999.0000,-999.000,-999.000,  -999.0,-999.000
   3220CGC92_2,   P13,    79,  1,    109,   1023,2,19921014,2150, -0.4978, 164.9982, 4308,  19990,   1992.0,   2.2245,  34.6337,2,  34.6319,2,   -999.0,9,  2.0853,    114.1,2,   134.77,2,    37.54,2,     0.00,2,     2.67,2, -999.000,9, -999.000,9, -999.000,9, -999.000,9, -999.000,9,-999.0000,9,  -999.00,9,   -999.0,9,  -999.00,9,-999.000,9,   -999.0,9,   -999.0,9,  -999.0,-999.0000,-999.000,-999.000,  -999.0,-999.000
   3220CGC92_2,   P13,    79,  1,    108,   1032,2,19921014,2150, -0.4978, 164.9982, 4308,  22996,   2294.0,   1.9725,  34.6489,2,  34.6505,2,   -999.0,9,  1.8112,    122.6,2,   141.59,2,    37.01,2,     0.00,2,     2.68,2, -999.000,9, -999.000,9, -999.000,9, -999.000,9, -999.000,9,-999.0000,9,  -999.00,9,   -999.0,9,  -999.00,9,-999.000,9,   -999.0,9,   -999.0,9,  -999.0,-999.0000,-999.000,-999.000,  -999.0,-999.000
   3220CGC92_2,   P13,    79,  1,    107,   1037,2,19921014,2150, -0.4978, 164.9982, 4308,  26008,   2595.0,   1.7756,  34.6600,2,  34.6603,2,    535.4,2,  1.5908,    128.5,2,   145.68,2,    36.75,2,     0.00,2,     2.62,2, -999.000,9, -999.000,9, -999.000,9, -999.000,9, -999.000,9,-999.0000,9,  -999.00,9,   -999.0,9,  -999.00,9,-999.000,9,   -999.0,9,   -999.0,9,  -999.0,-999.0000,-999.000,-999.000,  -999.0,-999.000
   3220CGC92_2,   P13,    79,  1,    106,   1022,2,19921014,2150, -0.4978, 164.9982, 4308,  28993,   2895.0,   1.6816,  34.6667,2,  34.6660,2,   -999.0,9,  1.4708,    133.3,2,   147.59,2,    36.47,2,     0.00,2,     2.57,2, -999.000,9, -999.000,9, -999.000,9, -999.000,9, -999.000,9,-999.0000,9,  -999.00,9,   -999.0,9,  -999.00,9,-999.000,9,   -999.0,9,   -999.0,9,  -999.0,-999.0000,-999.000,-999.000,  -999.0,-999.000
   3220CGC92_2,   P13,    79,  1,    105,   1221,2,19921014,2150, -0.4978, 164.9982, 4308,  31991,   3195.0,   1.5766,  34.6733,2,  34.6753,2,    140.5,2,  1.3392,    142.0,2,   147.11,2,    36.11,2,     0.00,2,     2.53,2, -999.000,9, -999.000,9, -999.000,9, -999.000,9, -999.000,9,-999.0000,9,  -999.00,9,   -999.0,9,  -999.00,9,-999.000,9,   -999.0,9,   -999.0,9,  -999.0,-999.0000,-999.000,-999.000,  -999.0,-999.000
   3220CGC92_2,   P13,    79,  1,    104,   1038,2,19921014,2150, -0.4978, 164.9982, 4308,  34998,   3497.0,   1.5176,  34.6786,2,  34.6798,2,    149.5,2,  1.2513,    149.6,2,   145.48,2,    35.88,2,     0.00,2,     2.50,2, -999.000,9, -999.000,9, -999.000,9, -999.000,9, -999.000,9,-999.0000,9,  -999.00,9,   -999.0,9,  -999.00,9,-999.000,9,   -999.0,9,   -999.0,9,  -999.0,-999.0000,-999.000,-999.000,  -999.0,-999.000
   3220CGC92_2,   P13,    79,  1,    103,   1033,2,19921014,2150, -0.4978, 164.9982, 4308,  37992,   3797.0,   1.4527,  34.6855,2,  34.6866,2,    159.7,2,  1.1568,    158.8,2,   141.62,2,    35.17,2,     0.00,2,     2.43,2, -999.000,9, -999.000,9, -999.000,9, -999.000,9, -999.000,9,-999.0000,9,  -999.00,9,   -999.0,9,  -999.00,9,-999.000,9,   -999.0,9,   -999.0,9,  -999.0,-999.0000,-999.000,-999.000,  -999.0,-999.000
   3220CGC92_2,   P13,    79,  1,    102,   1234,2,19921014,2150, -0.4978, 164.9982, 4308,  41000,   4099.0,   1.4097,  34.6921,2,  34.6929,2,    169.0,2,  1.0824,    167.7,2,   137.93,2,    33.99,2,     0.00,2,     2.31,2, -999.000,9, -999.000,9, -999.000,9, -999.000,9, -999.000,9,-999.0000,9,  -999.00,9,   -999.0,9,  -999.00,9,-999.000,9,   -999.0,9,   -999.0,9,  -999.0,-999.0000,-999.000,-999.000,  -999.0,-999.000
   3220CGC92_2,   P13,    79,  1,    101,   1238,2,19921014,2150, -0.4978, 164.9982, 4308,  44820,   4481.0,   1.3417,  34.6992,2,  34.6990,6,    182.4,2,  0.9736,    179.1,2,   130.97,2,    33.66,2,     0.00,2,     2.33,2, -999.000,9, -999.000,9, -999.000,9, -999.000,9, -999.000,9,-999.0000,9,  -999.00,9,   -999.0,9,  -999.00,9,-999.000,9,   -999.0,9,   -999.0,9,  -999.0,-999.0000,-999.000,-999.000,  -999.0,-999.000