BOTTLE,20221003CCHSIOAMB
EXPOCODE,SECT_ID,STNNBR,CASTNO,SAMPNO,BTLNBR,BTLNBR_FLAG_W,DATE,TIME,LATITUDE,LONGITUDE,DEPTH,CTDRAW,CTDPRS,CTDTMP,CTDSAL,CTDSAL_FLAG_W,SALNTY,SALNTY_FLAG_W,CTDOXY,CTDOXY_FLAG_W,THETA,OXYGEN,OXYGEN_FLAG_W,SILCAT,SILCAT_FLAG_W,NITRAT,NITRAT_FLAG_W,NITRIT,NITRIT_FLAG_W,PHSPHT,PHSPHT_FLAG_W,CFC-11,CFC-11_FLAG_W,CFC-12,CFC-12_FLAG_W,CFC113,CFC113_FLAG_W,CCL4,CCL4_FLAG_W,TRITUM,TRITUM_FLAG_W,HELIUM,HELIUM_FLAG_W,DELHE3,DELHE3_FLAG_W,DELC14,DELC14_FLAG_W,DELC13,DELC13_FLAG_W,NEON,NEON_FLAG_W,TCARBN,TCARBN_FLAG_W,ALKALI,ALKALI_FLAG_W,C14ERR,HELIER,DELHER,NEONER,C13ERR,TRITER
,,,,,,,,,,,,DBAR,DBAR,ITS-90,PSS-78,,PSS-78,,UMOL/KG,,DEG C,UMOL/KG,,UMOL/KG,,UMOL/KG,,UMOL/KG,,UMOL/KG,,PMOL/KG,,PMOL/KG,,PMOL/KG,,PMOL/KG,,TU,,NMOL/KG,,PERCNT,,/MILLE,,/MILLE,,NMOL/KG,,UMOL/KG,,UMOL/KG,,/MILLE,NMOL/KG,PERCNT,NMOL/KG,/MILLE,TU
   3220CGC92_1,   P13,    52,  1,    136,   1106,2,19920908,0153, 32.6982, 165.0247, 6019,     98,      7.0,  26.8116,  34.3797,2,  34.3801,2,   -999.0,9, 26.8100,    228.5,2,     1.33,2,     0.00,2,     0.00,2,     0.00,2,    1.842,2,    0.990,2, -999.000,9, -999.000,9, -999.000,9,-999.0000,9,  -999.00,9,    131.6,2,     1.35,2,-999.000,9,   1927.1,2,   2259.5,2,     5.0,-999.0000,-999.000,-999.000,  -999.0,-999.000
   3220CGC92_1,   P13,    52,  1,    135,   1013,2,19920908,0153, 32.6982, 165.0247, 6019,    247,     21.0,  26.7916,  34.3796,2,  34.3750,2,    219.2,2, 26.7868,    225.1,2,     1.28,2,     0.00,2,     0.00,2,     0.00,2,    1.857,2,    0.975,2, -999.000,9, -999.000,9, -999.000,9,-999.0000,9,  -999.00,9,   -999.0,9,  -999.00,9,-999.000,9,   -999.0,9,   -999.0,9,  -999.0,-999.0000,-999.000,-999.000,  -999.0,-999.000
   3220CGC92_1,   P13,    52,  1,    134,   1030,2,19920908,0153, 32.6982, 165.0247, 6019,    510,     48.0,  22.2487,  34.5762,2,  34.6144,2,    237.1,2, 22.2391,    234.1,2,     1.73,2,     0.00,2,     0.00,2,     0.00,2,    2.229,2,    1.162,2, -999.000,9, -999.000,9, -999.000,9,-999.0000,9,  -999.00,9,   -999.0,9,  -999.00,9,-999.000,9,   -999.0,9,   -999.0,9,  -999.0,-999.0000,-999.000,-999.000,  -999.0,-999.000
   3220CGC92_1,   P13,    52,  1,    133,   1231,2,19920908,0153, 32.6982, 165.0247, 6019,    926,     89.0,  19.0604,  34.7992,2,  34.7918,2,    211.9,2, 19.0446,    212.4,2,     3.00,2,     0.05,2,     0.51,2,     0.00,2,    2.327,2,    1.193,2, -999.000,9, -999.000,9, -999.000,9,-999.0000,9,  -999.00,9,   -999.0,9,  -999.00,9,-999.000,9,   -999.0,9,   -999.0,9,  -999.0,-999.0000,-999.000,-999.000,  -999.0,-999.000
   3220CGC92_1,   P13,    52,  1,    132,   1109,4,19920908,0153, 32.6982, 165.0247, 6019,   1005,     97.0,  18.7995,  34.8011,2,-999.0000,9,    203.0,2, 18.7824,   -999.0,9,  -999.00,5,  -999.00,9,  -999.00,9,  -999.00,5, -999.000,9, -999.000,9, -999.000,9, -999.000,9, -999.000,9,-999.0000,9,  -999.00,9,   -999.0,9,  -999.00,9,-999.000,9,   -999.0,9,   -999.0,9,  -999.0,-999.0000,-999.000,-999.000,  -999.0,-999.000
   3220CGC92_1,   P13,    52,  1,    131,   1031,2,19920908,0153, 32.6982, 165.0247, 6019,   1238,    120.0,  18.0727,  34.7925,2,  34.7908,2,    209.6,2, 18.0521,    213.8,2,     2.90,2,     0.59,2,     0.17,2,     0.03,2,    2.505,2,    1.284,2, -999.000,9, -999.000,9, -999.000,9,-999.0000,9,  -999.00,9,   -999.0,9,  -999.00,9,-999.000,9,   -999.0,9,   -999.0,9,  -999.0,-999.0000,-999.000,-999.000,  -999.0,-999.000
   3220CGC92_1,   P13,    52,  1,    130,   1041,2,19920908,0153, 32.6982, 165.0247, 6019,   1506,    147.0,  17.5988,  34.7876,2,  34.7846,2,    205.8,2, 17.5740,    213.4,2,     3.70,2,     1.70,2,     0.00,2,     0.10,2,    2.465,6,    1.254,6, -999.000,9, -999.000,9, -999.000,9,-999.0000,9,  -999.00,9,   -999.0,9,  -999.00,9,-999.000,9,   -999.0,9,   -999.0,9,  -999.0,-999.0000,-999.000,-999.000,  -999.0,-999.000
   3220CGC92_1,   P13,    52,  1,    129,   1004,2,19920908,0153, 32.6982, 165.0247, 6019,   1743,    170.0,  17.3228,  34.7868,2,  34.7921,2,    208.5,2, 17.2945,    219.0,2,     3.33,2,     1.81,2,     0.11,2,     0.10,2,    2.560,2,    1.317,2, -999.000,9, -999.000,9, -999.000,9,-999.0000,9,  -999.00,9,   -999.0,9,  -999.00,9,-999.000,9,   -999.0,9,   -999.0,9,  -999.0,-999.0000,-999.000,-999.000,  -999.0,-999.000
   3220CGC92_1,   P13,    52,  1,    128,   1016,2,19920908,0153, 32.6982, 165.0247, 6019,   2013,    197.0,  17.0839,  34.7878,2,  34.7792,2,    209.3,2, 17.0513,    216.9,2,     3.85,2,     2.79,2,     0.00,2,     0.12,2,    2.544,2,    1.304,2, -999.000,9, -999.000,9, -999.000,9,-999.0000,9,  -999.00,9,   -999.0,9,  -999.00,9,-999.000,9,   -999.0,9,   -999.0,9,  -999.0,-999.0000,-999.000,-999.000,  -999.0,-999.000
   3220CGC92_1,   P13,    52,  1,    127,   1028,2,19920908,0153, 32.6982, 165.0247, 6019,   2515,    247.0,  16.5200,  34.7446,2,  34.7341,2,    190.5,2, 16.4801,    200.2,2,     6.47,2,     5.41,2,     0.06,2,     0.29,2,    2.329,2,    1.190,2, -999.000,9, -999.000,9, -999.000,9,-999.0000,9,  -999.00,9,   -999.0,9,  -999.00,9,-999.000,9,   -999.0,9,   -999.0,9,  -999.0,-999.0000,-999.000,-999.000,  -999.0,-999.000
   3220CGC92_1,   P13,    52,  1,    126,   1110,2,19920908,0153, 32.6982, 165.0247, 6019,   3027,    298.0,  15.4823,  34.6623,2,  34.6485,2,    182.0,2, 15.4362,    190.3,2,    10.75,2,     8.68,2,     0.11,2,     0.51,2,    2.071,2,    1.041,2, -999.000,9, -999.000,9, -999.000,9,-999.0000,9,  -999.00,9,   -999.0,9,  -999.00,9,-999.000,9,   -999.0,9,   -999.0,9,  -999.0,-999.0000,-999.000,-999.000,  -999.0,-999.000
   3220CGC92_1,   P13,    52,  1,    125,   1035,2,19920908,0153, 32.6982, 165.0247, 6019,   3511,    346.0,  14.2786,  34.5803,2,  34.5495,2,    174.3,2, 14.2278,    177.1,2,    16.32,2,    11.86,2,     0.00,2,     0.70,2, -999.000,9, -999.000,9, -999.000,9, -999.000,9, -999.000,9,-999.0000,9,  -999.00,9,   -999.0,9,  -999.00,9,-999.000,9,   -999.0,9,   -999.0,9,  -999.0,-999.0000,-999.000,-999.000,  -999.0,-999.000
   3220CGC92_1,   P13,    52,  1,    124,   1026,2,19920908,0153, 32.6982, 165.0247, 6019,   3992,    394.0,  12.8739,  34.4898,2,  34.4409,2,    166.8,2, 12.8199,    171.4,2,    23.67,2,    14.41,2,     0.00,2,     0.93,2,    1.783,2,    0.884,2, -999.000,9, -999.000,9, -999.000,9,-999.0000,9,  -999.00,9,   -999.0,9,  -999.00,9,-999.000,9,   -999.0,9,   -999.0,9,  -999.0,-999.0000,-999.000,-999.000,  -999.0,-999.000
   3220CGC92_1,   P13,    52,  1,    123,   1014,2,19920908,0153, 32.6982, 165.0247, 6019,   5035,    498.0,   9.3708,  34.1669,2,  34.1577,2,    208.4,2,  9.3150,    205.3,2,    28.29,2,    18.18,2,     0.00,2,     1.21,2,    2.727,2,    1.300,2, -999.000,9, -999.000,9, -999.000,9,-999.0000,9,  -999.00,9,   -999.0,9,  -999.00,9,-999.000,9,   -999.0,9,   -999.0,9,  -999.0,-999.0000,-999.000,-999.000,  -999.0,-999.000
   3220CGC92_1,   P13,    52,  1,    122,   1015,2,19920908,0153, 32.6982, 165.0247, 6019,   6025,    597.0,   6.9523,  34.0356,2,  33.9884,2,    170.2,2,  6.8959,    172.8,2,    50.64,2,    25.89,2,     0.00,2,     1.83,2,    2.320,6,    1.072,6, -999.000,9, -999.000,9, -999.000,9,-999.0000,9,  -999.00,9,   -999.0,9,  -999.00,9,-999.000,9,   -999.0,9,   -999.0,9,  -999.0,-999.0000,-999.000,-999.000,  -999.0,-999.000
   3220CGC92_1,   P13,    52,  1,    121,   1235,2,19920908,0153, 32.6982, 165.0247, 6019,   7044,    698.0,   5.1448,  33.9948,2,  33.9921,2,    136.6,2,  5.0879,    131.6,2,    71.92,2,    32.16,2,     0.00,2,     2.31,2,    1.766,2,    0.806,2, -999.000,9, -999.000,9, -999.000,9,-999.0000,9,  -999.00,9,   -999.0,9,  -999.00,9,-999.000,9,   -999.0,9,   -999.0,9,  -999.0,-999.0000,-999.000,-999.000,  -999.0,-999.000
   3220CGC92_1,   P13,    52,  1,    120,   1237,2,19920908,0153, 32.6982, 165.0247, 6019,   7938,    787.0,   4.6489,  34.0985,2,  34.1117,2,    100.2,2,  4.5872,     87.2,2,    91.49,2,    36.99,2,     0.00,2,     2.65,2,    0.906,2,    0.402,2, -999.000,9, -999.000,9, -999.000,9,-999.0000,9,  -999.00,9,   -999.0,9,  -999.00,9,-999.000,9,   -999.0,9,   -999.0,9,  -999.0,-999.0000,-999.000,-999.000,  -999.0,-999.000
   3220CGC92_1,   P13,    52,  1,    119,   1025,2,19920908,0153, 32.6982, 165.0247, 6019,  10012,    994.0,   3.7751,  34.2701,2,  34.2767,2,     50.9,2,  3.7020,     47.8,6,   120.64,2,    40.67,2,     0.00,2,     2.94,2,    0.223,2,    0.078,3, -999.000,9, -999.000,9, -999.000,9,-999.0000,9,  -999.00,9,   -999.0,9,  -999.00,9,-999.000,9,   2335.1,2,   2354.4,2,  -999.0,-999.0000,-999.000,-999.000,  -999.0,-999.000
   3220CGC92_1,   P13,    52,  1,    118,   1118,2,19920908,0153, 32.6982, 165.0247, 6019,  12015,   1195.0,   3.1482,  34.3771,2,  34.3869,6,     40.2,2,  3.0642,     41.7,2,   138.10,2,    41.14,2,     0.00,2,     2.92,2,    0.059,2,    0.028,2, -999.000,9, -999.000,9, -999.000,9,-999.0000,9,  -999.00,9,   -999.0,9,  -999.00,9,-999.000,9,   2360.0,2,   2375.7,2,  -999.0,-999.0000,-999.000,-999.000,  -999.0,-999.000
   3220CGC92_1,   P13,    52,  1,    117,   1005,2,19920908,0153, 32.6982, 165.0247, 6019,  13981,   1391.0,   2.7393,  34.4480,2,  34.4586,2,   -999.0,9,  2.6436,     35.9,2,   151.26,2,    42.63,2,     0.00,2,     3.05,2,    0.009,2,   -0.001,2, -999.000,9, -999.000,9, -999.000,9,-999.0000,9,  -999.00,9,   -999.0,9,  -999.00,9,-999.000,9,   2377.4,2,   2392.2,2,  -999.0,-999.0000,-999.000,-999.000,  -999.0,-999.000
   3220CGC92_1,   P13,    52,  1,    116,   1104,2,19920908,0153, 32.6982, 165.0247, 6019,  15986,   1592.0,   2.4244,  34.5101,2,  34.5121,2,     44.4,2,  2.3160,     42.8,2,   159.02,2,    42.46,2,     0.00,2,     3.03,2,    0.002,2,   -0.002,2, -999.000,9, -999.000,9, -999.000,9,-999.0000,9,  -999.00,9,   -999.0,9,  -999.00,9,-999.000,9,   2381.9,2,   2401.4,2,  -999.0,-999.0000,-999.000,-999.000,  -999.0,-999.000
   3220CGC92_1,   P13,    52,  1,    115,   1020,2,19920908,0153, 32.6982, 165.0247, 6019,  21068,   2100.0,   1.9365,  34.5986,2,  34.5993,2,   -999.0,9,  1.7927,     76.5,2,   165.83,2,    40.00,2,     0.00,2,     2.81,2,   -0.002,2,   -0.007,2, -999.000,9, -999.000,9, -999.000,9,-999.0000,9,  -999.00,9,   -999.0,9,  -999.00,9,-999.000,9,   2371.8,2,   2416.8,2,  -999.0,-999.0000,-999.000,-999.000,  -999.0,-999.000
   3220CGC92_1,   P13,    52,  1,    114,   1012,2,19920908,0153, 32.6982, 165.0247, 6019,  26013,   2596.0,   1.6936,  34.6401,2,  34.6402,2,   -999.0,9,  1.5104,    107.4,3,   161.86,2,    37.98,2,     0.00,2,     2.67,2,   -0.004,2,   -0.018,2, -999.000,9, -999.000,9, -999.000,9,-999.0000,9,  -999.00,9,   -999.0,9,  -999.00,9,-999.000,9,   2354.3,2,   2421.5,2,  -999.0,-999.0000,-999.000,-999.000,  -999.0,-999.000
   3220CGC92_1,   P13,    52,  1,    113,   1229,2,19920908,0153, 32.6982, 165.0247, 6019,  31003,   3096.0,   1.5706,  34.6622,2,  34.6620,2,   -999.0,9,  1.3431,    125.7,2,   159.05,2,    37.21,2,     0.00,2,     2.56,2, -999.000,9, -999.000,9, -999.000,9, -999.000,9, -999.000,9,-999.0000,9,  -999.00,9,   -999.0,9,  -999.00,9,-999.000,9,   2343.5,2,   2422.9,2,  -999.0,-999.0000,-999.000,-999.000,  -999.0,-999.000
   3220CGC92_1,   P13,    52,  1,    112,   1219,2,19920908,0153, 32.6982, 165.0247, 6019,  35990,   3596.0,   1.5076,  34.6744,2,  34.6729,2,   -999.0,9,  1.2314,    139.3,2,   155.76,2,    36.60,2,     0.00,2,     2.51,2,   -0.004,2,   -0.004,2, -999.000,9, -999.000,9, -999.000,9,-999.0000,9,  -999.00,9,   -999.0,9,  -999.00,9,-999.000,9,   2336.3,2,   2416.7,2,  -999.0,-999.0000,-999.000,-999.000,  -999.0,-999.000
   3220CGC92_1,   P13,    52,  1,    111,   1112,2,19920908,0153, 32.6982, 165.0247, 6019,  41012,   4100.0,   1.4906,  34.6814,2,  34.6810,2,   -999.0,9,  1.1610,    148.7,2,   152.10,2,    36.12,2,     0.00,2,     2.53,2, -999.000,9, -999.000,9, -999.000,9, -999.000,9, -999.000,9,-999.0000,9,  -999.00,9,   -999.0,9,  -999.00,9,-999.000,9,   2327.8,2,   2419.1,2,  -999.0,-999.0000,-999.000,-999.000,  -999.0,-999.000
   3220CGC92_1,   P13,    52,  1,    110,   1029,2,19920908,0153, 32.6982, 165.0247, 6019,  45984,   4598.0,   1.4916,  34.6863,2,  34.6863,2,   -999.0,9,  1.1055,    156.2,2,   148.86,2,    35.26,2,     0.00,2,     2.45,2,   -0.003,2,   -0.004,2, -999.000,9, -999.000,9, -999.000,9,-999.0000,9,  -999.00,9,   -999.0,9,  -999.00,9,-999.000,9,   2321.3,2,   2415.2,2,  -999.0,-999.0000,-999.000,-999.000,  -999.0,-999.000
   3220CGC92_1,   P13,    52,  1,    105,   1221,2,19920908,0153, 32.6982, 165.0247, 6019,  47992,   4799.0,   1.4956,  34.6887,2,  34.6878,2,   -999.0,9,  1.0857,    159.1,2,   147.83,2,    35.34,2,     0.00,2,     2.42,2, -999.000,9, -999.000,9, -999.000,9, -999.000,9, -999.000,9,-999.0000,9,  -999.00,9,   -999.0,9,  -999.00,9,-999.000,9,   -999.0,9,   -999.0,9,  -999.0,-999.0000,-999.000,-999.000,  -999.0,-999.000
   3220CGC92_1,   P13,    52,  1,    109,   1023,2,19920908,0153, 32.6982, 165.0247, 6019,  49994,   4999.0,   1.5006,  34.6893,2,  34.6887,2,   -999.0,9,  1.0664,    162.3,2,   145.50,2,    35.12,2,     0.00,2,     2.44,2, -999.000,9, -999.000,9, -999.000,9, -999.000,9, -999.000,9,-999.0000,9,  -999.00,9,   -999.0,9,  -999.00,9,-999.000,9,   2314.0,6,   2413.3,2,  -999.0,-999.0000,-999.000,-999.000,  -999.0,-999.000
   3220CGC92_1,   P13,    52,  1,    104,   1038,2,19920908,0153, 32.6982, 165.0247, 6019,  51034,   5103.0,   1.5036,  34.6899,2,  34.6902,2,   -999.0,9,  1.0566,    163.6,2,   144.41,2,    35.17,2,     0.00,2,     2.44,2, -999.000,9, -999.000,9, -999.000,9, -999.000,9, -999.000,9,-999.0000,9,  -999.00,9,   -999.0,9,  -999.00,9,-999.000,9,   -999.0,9,   -999.0,9,  -999.0,-999.0000,-999.000,-999.000,  -999.0,-999.000
   3220CGC92_1,   P13,    52,  1,    108,   1032,2,19920908,0153, 32.6982, 165.0247, 6019,  53979,   5397.0,   1.5146,  34.6910,2,  34.6920,2,   -999.0,9,  1.0305,    168.2,2,   140.44,2,    34.80,2,     0.00,2,     2.40,2,    0.002,2,    0.000,2, -999.000,9, -999.000,9, -999.000,9,-999.0000,9,  -999.00,9,   -999.0,9,  -999.00,9,-999.000,9,   2309.2,2,   2409.3,2,  -999.0,-999.0000,-999.000,-999.000,  -999.0,-999.000
   3220CGC92_1,   P13,    52,  1,    103,   1033,2,19920908,0153, 32.6982, 165.0247, 6019,  54001,   5399.0,   1.5146,  34.6915,2,  34.6917,2,   -999.0,9,  1.0303,    168.5,2,   140.57,2,    34.77,2,     0.00,2,     2.39,2,    0.001,6,    0.001,6, -999.000,9, -999.000,9, -999.000,9,-999.0000,9,  -999.00,9,   -999.0,9,  -999.00,9,-999.000,9,   -999.0,9,   -999.0,9,  -999.0,-999.0000,-999.000,-999.000,  -999.0,-999.000
   3220CGC92_1,   P13,    52,  1,    102,   1234,2,19920908,0153, 32.6982, 165.0247, 6019,  56976,   5696.0,   1.5326,  34.6930,2,  34.6938,2,   -999.0,9,  1.0095,    171.6,2,   139.26,2,    34.30,2,     0.00,2,     2.33,2, -999.000,9, -999.000,9, -999.000,9, -999.000,9, -999.000,9,-999.0000,9,  -999.00,9,   -999.0,9,  -999.00,9,-999.000,9,   -999.0,9,   -999.0,9,  -999.0,-999.0000,-999.000,-999.000,  -999.0,-999.000
   3220CGC92_1,   P13,    52,  1,    107,   1037,2,19920908,0153, 32.6982, 165.0247, 6019,  57992,   5797.0,   1.5416,  34.6930,2,  34.6937,2,   -999.0,9,  1.0049,    171.6,2,   137.73,2,    34.50,2,     0.00,2,     2.37,2, -999.000,9, -999.000,9, -999.000,9, -999.000,9, -999.000,9,-999.0000,9,  -999.00,9,   -999.0,9,  -999.00,9,-999.000,9,   2304.5,2,   2407.3,2,  -999.0,-999.0000,-999.000,-999.000,  -999.0,-999.000
   3220CGC92_1,   P13,    52,  1,    101,   1238,2,19920908,0153, 32.6982, 165.0247, 6019,  59336,   5931.0,   1.5536,  34.6943,2,  34.6955,6,   -999.0,9,  0.9987,   -999.0,5,   138.12,2,    34.49,2,     0.00,2,     2.35,2,   -0.001,2,   -0.001,2, -999.000,9, -999.000,9, -999.000,9,-999.0000,9,  -999.00,9,   -999.0,9,  -999.00,9,-999.000,9,   -999.0,9,   -999.0,9,  -999.0,-999.0000,-999.000,-999.000,  -999.0,-999.000
   3220CGC92_1,   P13,    52,  1,    106,   1022,2,19920908,0153, 32.6982, 165.0247, 6019,  61040,   6101.0,   1.5696,  34.6950,2,  34.6959,2,    177.2,2,  0.9913,    173.2,2,   137.48,2,    34.43,2,     0.00,2,     2.37,2,    0.000,2,   -0.007,2, -999.000,9, -999.000,9, -999.000,9,-999.0000,9,  -999.00,9,   -999.0,9,  -999.00,9,-999.000,9,   2303.7,2,   2402.5,2,  -999.0,-999.0000,-999.000,-999.000,  -999.0,-999.000