BOTTLE,20221003CCHSIOAMB
EXPOCODE,SECT_ID,STNNBR,CASTNO,SAMPNO,BTLNBR,BTLNBR_FLAG_W,DATE,TIME,LATITUDE,LONGITUDE,DEPTH,CTDRAW,CTDPRS,CTDTMP,CTDSAL,CTDSAL_FLAG_W,SALNTY,SALNTY_FLAG_W,CTDOXY,CTDOXY_FLAG_W,THETA,OXYGEN,OXYGEN_FLAG_W,SILCAT,SILCAT_FLAG_W,NITRAT,NITRAT_FLAG_W,NITRIT,NITRIT_FLAG_W,PHSPHT,PHSPHT_FLAG_W,CFC-11,CFC-11_FLAG_W,CFC-12,CFC-12_FLAG_W,CFC113,CFC113_FLAG_W,CCL4,CCL4_FLAG_W,TRITUM,TRITUM_FLAG_W,HELIUM,HELIUM_FLAG_W,DELHE3,DELHE3_FLAG_W,DELC14,DELC14_FLAG_W,DELC13,DELC13_FLAG_W,NEON,NEON_FLAG_W,TCARBN,TCARBN_FLAG_W,ALKALI,ALKALI_FLAG_W,C14ERR,HELIER,DELHER,NEONER,C13ERR,TRITER
,,,,,,,,,,,,DBAR,DBAR,ITS-90,PSS-78,,PSS-78,,UMOL/KG,,DEG C,UMOL/KG,,UMOL/KG,,UMOL/KG,,UMOL/KG,,UMOL/KG,,PMOL/KG,,PMOL/KG,,PMOL/KG,,PMOL/KG,,TU,,NMOL/KG,,PERCNT,,/MILLE,,/MILLE,,NMOL/KG,,UMOL/KG,,UMOL/KG,,/MILLE,NMOL/KG,PERCNT,NMOL/KG,/MILLE,TU
   3220CGC92_2,   P13,    71,  1,    136,   1106,2,19921012,0126,  6.0035, 165.0180, 4864,     96,      6.0,  29.5319,  34.0411,2,  34.0392,2,   -999.0,9, 29.5304,    195.2,2,     0.38,2,     0.00,2,     0.00,2,     0.01,2,    1.574,2,    0.954,2, -999.000,9, -999.000,9, -999.000,9,-999.0000,9,  -999.00,9,     88.6,2,     1.71,2,-999.000,9,   1883.6,2,   2236.3,2,     3.8,-999.0000,-999.000,-999.000,  -999.0,-999.000
   3220CGC92_2,   P13,    71,  1,    135,   1013,2,19921012,0126,  6.0035, 165.0180, 4864,    235,     20.0,  29.5329,  34.0467,2,  34.0374,2,    199.1,2, 29.5280,    196.4,2,     0.45,2,     0.00,2,     0.00,2,     0.04,2,    1.555,2,    0.879,2, -999.000,9, -999.000,9,    1.168,2,   1.6750,2,    -1.28,2,     86.2,2,     1.71,2,   6.460,2,   1882.9,6,   2235.9,6,     3.2,  0.0080,   0.140,   0.028,  -999.0,   0.004
   3220CGC92_2,   P13,    71,  1,    134,   1030,2,19921012,0126,  6.0035, 165.0180, 4864,    494,     46.0,  29.6419,  34.1884,2,  34.1818,2,    196.6,2, 29.6306,    196.6,2,     0.51,2,     0.00,2,     0.00,2,     0.04,2,    1.570,2,    0.939,2, -999.000,9, -999.000,9, -999.000,9,-999.0000,9,  -999.00,9,   -999.0,5,  -999.00,5,-999.000,9,   1891.0,2,   2245.9,2,  -999.0,-999.0000,-999.000,-999.000,  -999.0,-999.000
   3220CGC92_2,   P13,    71,  1,    133,   1231,2,19921012,0126,  6.0035, 165.0180, 4864,    740,     70.0,  28.9211,  34.7756,2,  34.7811,2,    200.4,2, 28.9042,    204.5,2,     0.56,2,     0.00,2,     0.00,2,     0.03,2,    1.621,2,    0.932,2, -999.000,9, -999.000,9,    1.198,2,   1.6810,2,    -0.77,2,     93.1,3,     1.67,2,   6.551,2,   1934.7,2,   2285.8,2,     3.0,  0.0080,   0.140,   0.029,  -999.0,   0.004
   3220CGC92_2,   P13,    71,  1,    132,   1017,2,19921012,0126,  6.0035, 165.0180, 4864,    986,     95.0,  26.5296,  34.7638,2,  34.7595,2,    188.5,2, 26.5081,    185.6,2,     1.61,2,     0.00,2,     0.00,2,     0.16,2,    1.634,2,    0.925,2, -999.000,9, -999.000,9, -999.000,9,   1.6840,2,     0.10,2,     95.9,2,     1.40,2,   6.608,2,   1968.0,2,   2284.5,2,     3.0,  0.0080,   0.140,   0.029,  -999.0,-999.000
   3220CGC92_2,   P13,    71,  1,    131,   1031,2,19921012,0126,  6.0035, 165.0180, 4864,   1237,    120.0,  22.0157,  34.7260,2,  34.7560,2,    162.8,2, 21.9920,    157.3,2,     4.42,2,     3.67,2,     0.38,2,     0.39,2,    1.681,2,    0.934,2, -999.000,9, -999.000,9,    1.523,2,   1.7090,2,     2.12,2,     95.0,2,     1.03,2,   6.810,2,   2022.0,2,   2284.1,2,     3.2,  0.0080,   0.140,   0.030,  -999.0,   0.005
   3220CGC92_2,   P13,    71,  1,    130,   1041,2,19921012,0126,  6.0035, 165.0180, 4864,   1488,    145.0,  19.0244,  34.7778,2,  34.7669,2,    156.1,2, 18.9986,    148.7,2,     7.31,2,     7.41,2,     0.40,2,     0.62,2,    1.776,2,    0.984,2, -999.000,9, -999.000,9,    1.792,2,   1.6920,2,     4.12,2,     95.2,2,     0.82,2,   6.933,2,   2068.8,6,   2292.1,2,     3.1,  0.0080,   0.140,   0.031,  -999.0,   0.005
   3220CGC92_2,   P13,    71,  1,    129,   1004,2,19921012,0126,  6.0035, 165.0180, 4864,   1736,    170.0,  14.9474,  34.5812,2,  34.5696,2,    137.0,2, 14.9218,    121.0,2,    14.85,2,    15.87,2,     0.00,2,     1.12,2,    1.459,2,    0.793,2, -999.000,9, -999.000,9,    1.715,2,   1.7440,2,     8.01,2,     55.5,2,     0.45,2,   7.218,2,   2070.8,2,   2282.9,2,     2.9,  0.0080,   0.140,   0.032,  -999.0,   0.005
   3220CGC92_2,   P13,    71,  1,    128,   1016,2,19921012,0126,  6.0035, 165.0180, 4864,   1998,    196.0,  12.0141,  34.5125,2,  34.5150,2,     99.0,2, 11.9887,     81.4,2,    24.20,2,    22.77,2,     0.26,2,     1.66,2,    0.867,6,    0.471,6, -999.000,9, -999.000,9,    1.250,2,-999.0000,9,  -999.00,9,     -4.3,2,     0.21,2,-999.000,9,   2183.7,2,   2282.4,2,     3.8,-999.0000,-999.000,-999.000,  -999.0,   0.004
   3220CGC92_2,   P13,    71,  1,    127,   1028,2,19921012,0126,  6.0035, 165.0180, 4864,   2247,    220.0,  11.0873,  34.5572,2,  34.5668,2,     65.4,2, 11.0602,     55.4,6,    29.23,2,    27.62,2,     0.20,2,     1.97,2,    0.475,2,    0.259,2, -999.000,9, -999.000,9, -999.000,9,-999.0000,9,  -999.00,9,   -999.0,9,  -999.00,9,-999.000,9,   2213.9,2,   2289.9,2,  -999.0,-999.0000,-999.000,-999.000,  -999.0,-999.000
   3220CGC92_2,   P13,    71,  1,    126,   1110,2,19921012,0126,  6.0035, 165.0180, 4864,   2484,    244.0,  10.4015,  34.6175,2,  34.6364,2,     58.5,2, 10.3725,     40.6,2,    32.24,2,    29.80,2,     0.08,2,     2.21,2,    0.218,2,    0.129,2, -999.000,9, -999.000,9,    0.440,2,   1.7620,2,     8.14,2,    -59.5,2,     0.12,2,   7.404,2,   2235.0,2,   2300.8,2,     2.7,  0.0080,   0.140,   0.033,  -999.0,   0.002
   3220CGC92_2,   P13,    71,  1,    125,   1035,2,19921012,0126,  6.0035, 165.0180, 4864,   2731,    269.0,   9.8786,  34.6218,2,  34.6298,2,     50.2,2,  9.8477,     48.2,3,    34.11,2,    31.25,2,     0.00,2,     2.24,2,    0.189,6,    0.112,6, -999.000,9, -999.000,9, -999.000,9,-999.0000,9,  -999.00,9,   -999.0,9,  -999.00,9,-999.000,9,   2236.0,2,   2306.0,2,  -999.0,-999.0000,-999.000,-999.000,  -999.0,-999.000
   3220CGC92_2,   P13,    71,  1,    124,   1019,2,19921012,0126,  6.0035, 165.0180, 4864,   2997,    295.0,   9.4497,  34.6250,2,  34.6330,2,     49.5,2,  9.4167,     52.4,2,    34.88,2,    30.98,2,     0.17,2,     2.20,2,    0.164,2,    0.096,2, -999.000,9, -999.000,9,    0.284,2,   1.7580,2,     7.24,2,    -76.9,2,     0.17,2,   7.431,2,   2237.8,2,   2304.1,2,     2.9,  0.0080,   0.140,   0.033,  -999.0,   0.002
   3220CGC92_2,   P13,    71,  1,    123,   1014,2,19921012,0126,  6.0035, 165.0180, 4864,   3484,    343.0,   8.9838,  34.6212,2,  34.6291,2,     58.3,2,  8.9465,     57.2,2,    36.88,2,    30.47,2,     0.06,2,     2.26,2,    0.206,3,    0.072,2, -999.000,9, -999.000,9, -999.000,9,-999.0000,9,  -999.00,9,   -999.0,9,  -999.00,9,-999.000,9,   2238.7,2,   2308.7,2,  -999.0,-999.0000,-999.000,-999.000,  -999.0,-999.000
   3220CGC92_2,   P13,    71,  1,    122,   1015,2,19921012,0126,  6.0035, 165.0180, 4864,   3992,    394.0,   8.5190,  34.6035,2,  34.6245,2,   -999.0,9,  8.4773,     53.7,2,    38.55,2,    32.99,2,     0.00,2,     2.35,2,    0.086,2,    0.055,2, -999.000,9, -999.000,9,    0.150,2,-999.0000,9,  -999.00,9,   -105.2,2,     0.22,2,-999.000,9,   2248.6,2,   2310.4,2,     4.5,-999.0000,-999.000,-999.000,  -999.0,   0.002
   3220CGC92_2,   P13,    71,  1,    121,   1235,2,19921012,0126,  6.0035, 165.0180, 4864,   4491,    444.0,   8.0711,  34.5878,2,  34.6064,2,     51.0,2,  8.0254,     48.7,2,    42.08,2,    34.80,2,     0.00,2,     2.50,2,    0.055,2,    0.025,2, -999.000,9, -999.000,9, -999.000,9,-999.0000,9,  -999.00,9,   -999.0,9,  -999.00,9,-999.000,9,   2254.7,2,   2308.1,2,  -999.0,-999.0000,-999.000,-999.000,  -999.0,-999.000
   3220CGC92_2,   P13,    71,  1,    120,   1237,2,19921012,0126,  6.0035, 165.0180, 4864,   4972,    492.0,   7.7571,  34.5764,2,  34.5924,2,   -999.0,9,  7.7076,     43.8,2,    45.28,2,    33.75,2,     0.00,2,     2.56,2,    0.029,2,    0.024,2, -999.000,9, -999.000,9, -999.000,9,-999.0000,9,  -999.00,9,   -120.2,6,     0.15,6,-999.000,9,   2263.0,2,   2315.0,2,     1.8,-999.0000,-999.000,-999.000,  -999.0,-999.000
   3220CGC92_2,   P13,    71,  1,    119,   1025,2,19921012,0126,  6.0035, 165.0180, 4864,   5973,    591.0,   6.9843,  34.5550,2,  34.5672,2,   -999.0,9,  6.9279,     39.9,2,    53.06,2,    36.28,2,     0.00,2,     2.70,2,    0.010,2,    0.012,2, -999.000,9, -999.000,9, -999.000,9,   1.7830,2,     8.93,2,   -137.2,2,     0.04,2,   7.566,2,   2276.1,2,   2318.5,2,     2.6,  0.0080,   0.140,   0.033,  -999.0,-999.000
   3220CGC92_2,   P13,    71,  1,    118,   1118,2,19921012,0126,  6.0035, 165.0180, 4864,   6970,    691.0,   6.2425,  34.5380,2,  34.5508,6,   -999.0,9,  6.1799,     34.7,2,    63.57,2,    38.86,2,     0.00,2,     2.86,2,    0.002,2,    0.009,2, -999.000,9, -999.000,9, -999.000,9,-999.0000,9,  -999.00,9,   -999.0,9,  -999.00,9,-999.000,9,   2295.7,2,   2330.1,2,  -999.0,-999.0000,-999.000,-999.000,  -999.0,-999.000
   3220CGC92_2,   P13,    71,  1,    117,   1005,2,19921012,0126,  6.0035, 165.0180, 4864,   7990,    793.0,   5.5747,  34.5332,2,  34.5384,2,     52.6,2,  5.5063,     52.9,2,    74.92,2,    38.44,2,     0.00,2,     2.80,2,    0.001,2,    0.007,2, -999.000,9, -999.000,9,    0.022,2,   1.8240,2,    13.47,2,   -159.1,2,     0.01,2,   7.686,2,   2299.0,2,   2345.2,2,     2.9,  0.0090,   0.140,   0.034,  -999.0,   0.001
   3220CGC92_2,   P13,    71,  1,    116,   1104,2,19921012,0126,  6.0035, 165.0180, 4864,   8990,    892.0,   5.0328,  34.5377,2,  34.5422,2,     66.0,2,  4.9589,     66.1,2,    81.23,2,    38.51,2,     0.00,2,     2.74,2, -999.000,9, -999.000,9, -999.000,9, -999.000,9, -999.000,9,-999.0000,9,  -999.00,9,   -999.0,9,  -999.00,9,-999.000,9,   2298.6,2,   2350.7,2,  -999.0,-999.0000,-999.000,-999.000,  -999.0,-999.000
   3220CGC92_2,   P13,    71,  1,    115,   1020,2,19921012,0126,  6.0035, 165.0180, 4864,   9987,    992.0,   4.6229,  34.5456,2,  34.5495,2,   -999.0,9,  4.5431,     76.9,2,    88.67,2,    37.69,2,     0.00,2,     2.74,2,    0.005,2,    0.007,2, -999.000,9, -999.000,9, -999.000,9,   1.8420,2,    16.10,2,   -999.0,9,  -999.00,9,-999.000,9,   2301.7,2,   2359.5,2,  -999.0,-999.0000,-999.000,-999.000,  -999.0,-999.000
   3220CGC92_2,   P13,    71,  1,    114,   1012,2,19921012,0126,  6.0035, 165.0180, 4864,  11995,   1193.0,   3.9840,  34.5617,2,  34.5651,2,     82.2,2,  3.8921,     81.3,2,   101.64,2,    37.93,2,     0.00,2,     2.77,2, -999.000,9, -999.000,9, -999.000,9, -999.000,9, -999.000,9,-999.0000,9,  -999.00,9,   -999.0,9,  -999.00,9,-999.000,9,   2314.2,2,   2375.7,2,  -999.0,-999.0000,-999.000,-999.000,  -999.0,-999.000
   3220CGC92_2,   P13,    71,  1,    113,   1229,2,19921012,0126,  6.0035, 165.0180, 4864,  14966,   1490.0,   3.0953,  34.5916,2,  34.5796,4,   -999.0,9,  2.9871,     82.2,6,   112.51,2,    37.81,2,     0.00,2,     2.77,2, -999.000,9, -999.000,9, -999.000,9, -999.000,9, -999.000,9,-999.0000,5,    21.10,3,   -999.0,9,  -999.00,9,-999.000,9,   2324.8,2,   2386.2,2,  -999.0,-999.0000,-999.000,-999.000,  -999.0,-999.000
   3220CGC92_2,   P13,    71,  1,    112,   1219,2,19921012,0126,  6.0035, 165.0180, 4864,  17966,   1790.0,   2.5274,  34.6145,2,  34.6169,2,   -999.0,9,  2.4010,     95.8,2,   135.85,2,    37.55,2,     0.00,2,     2.71,2,    0.003,2,    0.011,2, -999.000,9, -999.000,9, -999.000,9,   1.8800,3,    23.80,2,   -999.0,9,  -999.00,9,-999.000,9,   2341.1,2,   2410.8,2,  -999.0,-999.0000,-999.000,-999.000,  -999.0,-999.000
   3220CGC92_2,   P13,    71,  1,    111,   1112,2,19921012,0126,  6.0035, 165.0180, 4864,  20956,   2089.0,   2.1215,  34.6370,2,  34.6386,2,   -999.0,9,  1.9756,    108.2,2,   144.14,2,    38.51,2,     0.00,2,     2.74,2, -999.000,9, -999.000,9, -999.000,9, -999.000,9, -999.000,9,   1.9090,2,    25.10,2,   -999.0,9,  -999.00,9,-999.000,9,   2344.5,2,   2419.6,2,  -999.0,-999.0000,-999.000,-999.000,  -999.0,-999.000
   3220CGC92_2,   P13,    71,  1,    110,   1029,2,19921012,0126,  6.0035, 165.0180, 4864,  23967,   2391.0,   1.9065,  34.6514,2,  34.6540,2,   -999.0,9,  1.7378,    115.6,2,   149.69,2,    37.84,2,     0.00,2,     2.70,2, -999.000,9, -999.000,9, -999.000,9, -999.000,9, -999.000,9,   1.9200,2,    24.90,2,   -999.0,9,  -999.00,9,-999.000,9,   2346.3,2,   2426.2,2,  -999.0,-999.0000,-999.000,-999.000,  -999.0,-999.000
   3220CGC92_2,   P13,    71,  1,    109,   1023,2,19921012,0126,  6.0035, 165.0180, 4864,  26978,   2693.0,   1.7746,  34.6601,2,  34.6619,2,    123.1,2,  1.5808,    122.7,2,   150.91,2,    36.62,2,     0.00,2,     2.63,2, -999.000,9, -999.000,9, -999.000,9, -999.000,9, -999.000,9,   1.8850,3,    23.30,2,   -999.0,9,  -999.00,9,-999.000,9,   2342.9,2,   2428.0,2,  -999.0,-999.0000,-999.000,-999.000,  -999.0,-999.000
   3220CGC92_2,   P13,    71,  1,    108,   1032,2,19921012,0126,  6.0035, 165.0180, 4864,  29960,   2992.0,   1.6826,  34.6661,2,  34.6683,2,    130.6,2,  1.4626,    131.7,2,   150.73,2,    35.58,2,     0.00,2,     2.59,2, -999.000,9, -999.000,9, -999.000,9, -999.000,9, -999.000,9,   1.9140,2,    21.90,2,   -999.0,9,  -999.00,9,-999.000,9,   2338.8,2,   2424.6,2,  -999.0,-999.0000,-999.000,-999.000,  -999.0,-999.000
   3220CGC92_2,   P13,    71,  1,    107,   1037,2,19921012,0126,  6.0035, 165.0180, 4864,  32976,   3294.0,   1.5916,  34.6740,2,  34.6748,2,   -999.0,9,  1.3440,    140.0,2,   149.04,2,    36.14,2,     0.00,2,     2.51,2, -999.000,9, -999.000,9, -999.000,9, -999.000,9, -999.000,9,-999.0000,9,  -999.00,9,   -999.0,9,  -999.00,9,-999.000,9,   2331.8,2,   2425.6,2,  -999.0,-999.0000,-999.000,-999.000,  -999.0,-999.000
   3220CGC92_2,   P13,    71,  1,    106,   1022,2,19921012,0126,  6.0035, 165.0180, 4864,  35980,   3595.0,   1.5076,  34.6803,2,  34.6803,2,    148.3,2,  1.2315,    149.1,2,   146.80,2,    35.90,2,     0.00,2,     2.46,2, -999.000,9, -999.000,9, -999.000,9, -999.000,9, -999.000,9,   1.9200,3,    18.00,2,   -999.0,9,  -999.00,9,-999.000,9,   2326.3,2,   2421.3,2,  -999.0,-999.0000,-999.000,-999.000,  -999.0,-999.000
   3220CGC92_2,   P13,    71,  1,    105,   1221,2,19921012,0126,  6.0035, 165.0180, 4864,  38962,   3894.0,   1.4567,  34.6862,2,  34.6857,2,    158.6,2,  1.1503,    157.8,2,   143.41,2,    34.16,2,     0.00,2,     2.43,2, -999.000,9, -999.000,9, -999.000,9, -999.000,9, -999.000,9,-999.0000,9,  -999.00,9,   -999.0,9,  -999.00,9,-999.000,9,   2319.5,2,   2418.8,2,  -999.0,-999.0000,-999.000,-999.000,  -999.0,-999.000
   3220CGC92_2,   P13,    71,  1,    104,   1038,2,19921012,0126,  6.0035, 165.0180, 4864,  41989,   4198.0,   1.4177,  34.6913,2,  34.6903,2,   -999.0,9,  1.0793,    166.7,2,   139.34,2,    34.79,2,     0.00,2,     2.39,2, -999.000,9, -999.000,9, -999.000,9, -999.000,9, -999.000,9,-999.0000,9,  -999.00,9,   -999.0,9,  -999.00,9,-999.000,9,   2310.6,2,   2411.1,2,  -999.0,-999.0000,-999.000,-999.000,  -999.0,-999.000
   3220CGC92_2,   P13,    71,  1,    103,   1033,2,19921012,0126,  6.0035, 165.0180, 4864,  44972,   4497.0,   1.3987,  34.6962,2,  34.6941,2,   -999.0,9,  1.0270,    173.1,2,   135.37,2,    33.91,2,     0.00,2,     2.36,2, -999.000,9, -999.000,9, -999.000,9, -999.000,9, -999.000,9,-999.0000,9,  -999.00,9,   -999.0,9,  -999.00,9,-999.000,9,   2315.7,2,   2406.5,2,  -999.0,-999.0000,-999.000,-999.000,  -999.0,-999.000
   3220CGC92_2,   P13,    71,  1,    102,   1234,2,19921012,0126,  6.0035, 165.0180, 4864,  47966,   4796.0,   1.3777,  34.6989,2,  34.6983,2,   -999.0,9,  0.9718,    179.9,2,   131.89,2,    33.52,2,     0.00,2,     2.28,2, -999.000,9, -999.000,9, -999.000,9, -999.000,9, -999.000,9,-999.0000,9,  -999.00,9,   -999.0,9,  -999.00,9,-999.000,9,   2293.9,2,   2399.8,2,  -999.0,-999.0000,-999.000,-999.000,  -999.0,-999.000
   3220CGC92_2,   P13,    71,  1,    101,   1238,2,19921012,0126,  6.0035, 165.0180, 4864,  49420,   4939.0,   1.3607,  34.7009,2,  34.7004,6,    187.6,2,  0.9383,    183.2,2,   129.96,2,    32.55,2,     0.00,2,     2.27,2, -999.000,9, -999.000,9, -999.000,9, -999.000,9, -999.000,9,-999.0000,9,  -999.00,9,   -999.0,9,  -999.00,9,-999.000,9,   2289.9,6,   2395.2,6,  -999.0,-999.0000,-999.000,-999.000,  -999.0,-999.000