BOTTLE,20221003CCHSIOAMB
EXPOCODE,SECT_ID,STNNBR,CASTNO,SAMPNO,BTLNBR,BTLNBR_FLAG_W,DATE,TIME,LATITUDE,LONGITUDE,DEPTH,CTDRAW,CTDPRS,CTDTMP,CTDSAL,CTDSAL_FLAG_W,SALNTY,SALNTY_FLAG_W,CTDOXY,CTDOXY_FLAG_W,THETA,OXYGEN,OXYGEN_FLAG_W,SILCAT,SILCAT_FLAG_W,NITRAT,NITRAT_FLAG_W,NITRIT,NITRIT_FLAG_W,PHSPHT,PHSPHT_FLAG_W,CFC-11,CFC-11_FLAG_W,CFC-12,CFC-12_FLAG_W,CFC113,CFC113_FLAG_W,CCL4,CCL4_FLAG_W,TRITUM,TRITUM_FLAG_W,HELIUM,HELIUM_FLAG_W,DELHE3,DELHE3_FLAG_W,DELC14,DELC14_FLAG_W,DELC13,DELC13_FLAG_W,NEON,NEON_FLAG_W,TCARBN,TCARBN_FLAG_W,ALKALI,ALKALI_FLAG_W,C14ERR,HELIER,DELHER,NEONER,C13ERR,TRITER
,,,,,,,,,,,,DBAR,DBAR,ITS-90,PSS-78,,PSS-78,,UMOL/KG,,DEG C,UMOL/KG,,UMOL/KG,,UMOL/KG,,UMOL/KG,,UMOL/KG,,PMOL/KG,,PMOL/KG,,PMOL/KG,,PMOL/KG,,TU,,NMOL/KG,,PERCNT,,/MILLE,,/MILLE,,NMOL/KG,,UMOL/KG,,UMOL/KG,,/MILLE,NMOL/KG,PERCNT,NMOL/KG,/MILLE,TU
   3220CGC92_2,   P13,    84,  1,    136,   1106,2,19921016,0725, -3.1907, 164.7258, 3640,    106,      7.0,  30.2187,  34.8453,2,  34.7793,2,    203.6,2, 30.2170,    202.9,2,     0.87,2,     0.00,2,     0.00,2,     0.03,2,    1.521,2,    0.863,2, -999.000,9, -999.000,9, -999.000,9,-999.0000,9,  -999.00,9,   -999.0,9,  -999.00,9,-999.000,9,   1922.6,2,   2286.6,2,  -999.0,-999.0000,-999.000,-999.000,  -999.0,-999.000
   3220CGC92_2,   P13,    84,  1,    135,   1013,2,19921016,0725, -3.1907, 164.7258, 3640,    245,     21.0,  30.1858,  34.8455,2,  34.7839,2,    203.3,2, 30.1805,    195.2,2,     0.96,2,     0.00,2,     0.00,2,     0.07,2,    1.522,2,    0.898,2, -999.000,9, -999.000,9, -999.000,9,-999.0000,9,  -999.00,9,   -999.0,9,  -999.00,9,-999.000,9,   -999.0,9,   -999.0,9,  -999.0,-999.0000,-999.000,-999.000,  -999.0,-999.000
   3220CGC92_2,   P13,    84,  1,    134,   1030,2,19921016,0725, -3.1907, 164.7258, 3640,    505,     47.0,  30.0398,  35.0763,2,  34.9985,2,    204.6,2, 30.0281,    199.1,2,     1.18,2,     0.00,2,     0.00,2,     0.11,2,    1.544,2,    0.884,2, -999.000,9, -999.000,9, -999.000,9,-999.0000,9,  -999.00,9,   -999.0,9,  -999.00,9,-999.000,9,   -999.0,9,   -999.0,9,  -999.0,-999.0000,-999.000,-999.000,  -999.0,-999.000
   3220CGC92_2,   P13,    84,  1,    133,   1231,2,19921016,0725, -3.1907, 164.7258, 3640,    754,     72.0,  29.3939,  35.0938,2,  35.0714,2,    198.4,2, 29.3764,    197.2,2,     1.39,2,     0.00,2,     0.00,2,     0.16,2,    1.539,2,    0.870,2, -999.000,9, -999.000,9,    1.097,2,   1.8290,2,    -0.59,2,   -999.0,9,  -999.00,9,   7.031,2,   -999.0,9,   -999.0,9,  -999.0,  0.0090,   0.140,   0.031,  -999.0,   0.004
   3220CGC92_2,   P13,    84,  1,    132,   1017,2,19921016,0725, -3.1907, 164.7258, 3640,   1006,     97.0,  27.6574,  35.3963,2,  35.2014,2,    159.1,2, 27.6347,   -999.0,5,     2.18,2,     3.76,2,     0.99,2,     0.38,2, -999.000,5, -999.000,5, -999.000,9, -999.000,9, -999.000,9,-999.0000,9,  -999.00,9,   -999.0,9,  -999.00,9,-999.000,9,   -999.0,9,   -999.0,9,  -999.0,-999.0000,-999.000,-999.000,  -999.0,-999.000
   3220CGC92_2,   P13,    84,  1,    131,   1031,2,19921016,0725, -3.1907, 164.7258, 3640,   1245,    121.0,  25.2959,  35.2283,2,  35.1292,2,    141.5,2, 25.2694,    141.5,6,     2.82,2,     5.70,2,     0.08,2,     0.42,2,    1.509,6,    0.854,6, -999.000,9, -999.000,9,    1.026,2,-999.0000,9,  -999.00,9,   -999.0,9,  -999.00,9,-999.000,9,   -999.0,9,   -999.0,9,  -999.0,-999.0000,-999.000,-999.000,  -999.0,   0.004
   3220CGC92_2,   P13,    84,  1,    130,   1041,2,19921016,0725, -3.1907, 164.7258, 3640,   1503,    146.0,  24.4111,  35.4002,2,  35.3684,2,    136.5,2, 24.3800,    134.3,2,     2.69,2,     6.91,2,     0.00,2,     0.53,2,    1.542,2,    0.890,2, -999.000,9, -999.000,9,    0.955,2,   1.6900,2,     0.21,2,   -999.0,9,  -999.00,9,   6.689,2,   -999.0,9,   -999.0,9,  -999.0,  0.0080,   0.140,   0.029,  -999.0,   0.004
   3220CGC92_2,   P13,    84,  1,    129,   1004,2,19921016,0725, -3.1907, 164.7258, 3640,   1730,    169.0,  23.0645,  35.6201,2,  35.5851,2,    123.9,2, 23.0298,    124.6,2,     3.62,2,     9.40,2,     0.00,2,     0.76,2,    1.426,2,    0.823,2, -999.000,9, -999.000,9,    0.794,2,   1.7010,2,     0.69,2,   -999.0,9,  -999.00,9,   6.780,2,   -999.0,9,   -999.0,9,  -999.0,  0.0080,   0.140,   0.030,  -999.0,   0.003
   3220CGC92_2,   P13,    84,  1,    128,   1016,2,19921016,0725, -3.1907, 164.7258, 3640,   2003,    196.0,  18.9105,  35.4783,2,  35.4420,2,    122.6,2, 18.8755,    121.0,2,     6.36,2,    12.83,2,     0.00,2,     1.01,2,    1.212,2,    0.689,2, -999.000,9, -999.000,9,    0.577,2,   1.7200,2,     1.43,2,   -999.0,9,  -999.00,9,   6.994,2,   -999.0,9,   -999.0,9,  -999.0,  0.0080,   0.140,   0.031,  -999.0,   0.003
   3220CGC92_2,   P13,    84,  1,    127,   1028,2,19921016,0725, -3.1907, 164.7258, 3640,   2508,    246.0,  15.0034,  35.2428,2,  35.0980,2,    106.9,2, 14.9660,    106.5,2,    11.93,2,    18.58,2,     0.00,2,     1.39,2,    0.743,6,    0.426,6, -999.000,9, -999.000,9,    0.398,2,-999.0000,9,  -999.00,9,   -999.0,9,  -999.00,9,-999.000,9,   -999.0,9,   -999.0,9,  -999.0,-999.0000,-999.000,-999.000,  -999.0,   0.002
   3220CGC92_2,   P13,    84,  1,    126,   1110,2,19921016,0725, -3.1907, 164.7258, 3640,   3006,    296.0,  11.7682,  34.9394,2,  34.8763,2,    131.1,2, 11.7299,    134.3,2,    14.70,2,    19.78,2,     0.00,2,     1.38,2,    0.587,2,    0.336,2, -999.000,9, -999.000,9,    0.323,2,   1.7160,2,     4.07,2,   -999.0,9,  -999.00,9,   6.952,2,   -999.0,9,   -999.0,9,  -999.0,  0.0080,   0.140,   0.031,  -999.0,   0.002
   3220CGC92_2,   P13,    84,  1,    125,   1035,2,19921016,0725, -3.1907, 164.7258, 3640,   3496,    345.0,  10.3035,  34.8149,2,  34.7644,2,     92.3,2, 10.2625,     85.0,2,    23.56,2,    26.76,2,     0.00,2,     1.91,2,    0.215,2,    0.135,2, -999.000,9, -999.000,9, -999.000,9,-999.0000,9,  -999.00,9,   -999.0,9,  -999.00,9,-999.000,9,   -999.0,9,   -999.0,9,  -999.0,-999.0000,-999.000,-999.000,  -999.0,-999.000
   3220CGC92_2,   P13,    84,  1,    124,   1019,2,19921016,0725, -3.1907, 164.7258, 3640,   3982,    393.0,   9.6027,  34.7549,2,  34.7170,2,    102.1,2,  9.5579,    100.7,2,    24.01,2,    26.81,2,     0.00,2,     1.87,2,    0.207,6,    0.123,6, -999.000,9, -999.000,9,    0.154,2,   1.7610,2,     4.54,2,   -999.0,9,  -999.00,9,   7.380,2,   -999.0,9,   -999.0,9,  -999.0,  0.0080,   0.140,   0.032,  -999.0,   0.002
   3220CGC92_2,   P13,    84,  1,    123,   1014,2,19921016,0725, -3.1907, 164.7258, 3640,   4505,    445.0,   8.7049,  34.6967,2,  34.6643,2,     97.2,2,  8.6570,     95.5,2,    28.21,2,    29.87,2,     0.00,2,     2.15,2,    0.124,2,    0.080,2, -999.000,9, -999.000,9, -999.000,9,-999.0000,9,  -999.00,9,   -999.0,9,  -999.00,9,-999.000,9,   -999.0,9,   -999.0,9,  -999.0,-999.0000,-999.000,-999.000,  -999.0,-999.000
   3220CGC92_2,   P13,    84,  1,    122,   1015,2,19921016,0725, -3.1907, 164.7258, 3640,   5020,    496.0,   7.9401,  34.6494,2,  34.6079,2,    102.3,2,  7.8894,     99.8,6,    32.72,2,    30.90,2,     0.00,2,     2.24,2,    0.079,2,    0.052,2, -999.000,9, -999.000,9, -999.000,9,-999.0000,9,  -999.00,9,   -999.0,9,  -999.00,9,-999.000,9,   -999.0,9,   -999.0,9,  -999.0,-999.0000,-999.000,-999.000,  -999.0,-999.000
   3220CGC92_2,   P13,    84,  1,    121,   1235,2,19921016,0725, -3.1907, 164.7258, 3640,   5972,    591.0,   6.8484,  34.5877,2,  34.5555,2,    110.3,2,  6.7925,    113.3,2,    39.36,2,    31.44,2,     0.00,2,     2.29,2,    0.062,2,    0.041,2, -999.000,9, -999.000,9,    0.045,2,-999.0000,9,  -999.00,9,   -999.0,9,  -999.00,9,-999.000,9,   -999.0,9,   -999.0,9,  -999.0,-999.0000,-999.000,-999.000,  -999.0,   0.002
   3220CGC92_2,   P13,    84,  1,    120,   1237,2,19921016,0725, -3.1907, 164.7258, 3640,   6990,    693.0,   6.0326,  34.5846,2,  34.5450,2,     76.5,2,  5.9708,     82.2,2,    54.56,2,    36.11,2,     0.00,2,     2.63,2,    0.008,2,    0.005,2, -999.000,9, -999.000,9, -999.000,9,-999.0000,9,  -999.00,9,   -999.0,9,  -999.00,9,-999.000,9,   -999.0,9,   -999.0,9,  -999.0,-999.0000,-999.000,-999.000,  -999.0,-999.000
   3220CGC92_2,   P13,    84,  1,    119,   1025,2,19921016,0725, -3.1907, 164.7258, 3640,   7993,    793.0,   5.3517,  34.5680,2,  34.5397,2,     86.7,2,  5.2846,     85.2,2,    65.18,2,    37.13,2,     0.00,2,     2.71,2,    0.003,2,    0.002,2, -999.000,9, -999.000,9,    0.013,2,-999.0000,9,  -999.00,9,   -999.0,9,  -999.00,9,-999.000,9,   -999.0,9,   -999.0,9,  -999.0,-999.0000,-999.000,-999.000,  -999.0,   0.001
   3220CGC92_2,   P13,    84,  1,    118,   1118,2,19921016,0725, -3.1907, 164.7258, 3640,   8985,    892.0,   4.9148,  34.5725,2,  34.5407,6,     90.4,2,  4.8417,     87.6,2,    73.41,2,    37.19,2,     0.00,2,     2.73,2, -999.000,9, -999.000,9, -999.000,9, -999.000,9, -999.000,9,-999.0000,9,  -999.00,9,   -999.0,9,  -999.00,9,-999.000,9,   -999.0,9,   -999.0,9,  -999.0,-999.0000,-999.000,-999.000,  -999.0,-999.000
   3220CGC92_2,   P13,    84,  1,    117,   1112,2,19921016,0725, -3.1907, 164.7258, 3640,   9992,    992.0,   4.5199,  34.5756,2,  34.5466,2,     93.8,2,  4.4408,     92.0,2,    81.78,2,    36.59,2,     0.00,2,     2.74,2,    0.002,2,    0.000,2, -999.000,9, -999.000,9, -999.000,9,-999.0000,9,  -999.00,9,   -999.0,9,  -999.00,9,-999.000,9,   -999.0,9,   -999.0,9,  -999.0,-999.0000,-999.000,-999.000,  -999.0,-999.000
   3220CGC92_2,   P13,    84,  1,    116,   1104,2,19921016,0725, -3.1907, 164.7258, 3640,  11021,   1095.0,   4.2520,  34.5797,2,  34.5540,2,     95.4,2,  4.1661,     92.9,2,    88.44,2,    36.64,2,     0.00,2,     2.70,2, -999.000,9, -999.000,9, -999.000,9, -999.000,9, -999.000,9,-999.0000,9,  -999.00,9,   -999.0,9,  -999.00,9,-999.000,9,   -999.0,9,   -999.0,9,  -999.0,-999.0000,-999.000,-999.000,  -999.0,-999.000
   3220CGC92_2,   P13,    84,  1,    114,   1012,2,19921016,0725, -3.1907, 164.7258, 3640,  14013,   1394.0,   3.3282,  34.6040,2,  34.5850,2,    104.1,2,  3.2255,    104.3,2,   108.41,2,    36.55,2,     0.00,2,     2.67,2, -999.000,9, -999.000,9, -999.000,9, -999.000,9, -999.000,9,-999.0000,9,  -999.00,9,   -999.0,9,  -999.00,9,-999.000,9,   -999.0,9,   -999.0,9,  -999.0,-999.0000,-999.000,-999.000,  -999.0,-999.000
   3220CGC92_2,   P13,    84,  1,    112,   1219,2,19921016,0725, -3.1907, 164.7258, 3640,  17016,   1695.0,   2.5844,  34.6300,2,  34.6155,2,    117.9,2,  2.4652,    119.2,2,   123.01,2,    35.15,2,     0.00,2,     2.58,3,   -0.002,2,   -0.003,2, -999.000,9, -999.000,9, -999.000,9,-999.0000,9,  -999.00,9,   -999.0,9,  -999.00,9,-999.000,9,   -999.0,9,   -999.0,9,  -999.0,-999.0000,-999.000,-999.000,  -999.0,-999.000
   3220CGC92_2,   P13,    84,  1,    110,   1029,2,19921016,0725, -3.1907, 164.7258, 3640,  19992,   1993.0,   2.1645,  34.6492,2,  34.6393,2,    123.2,2,  2.0261,    124.0,2,   134.71,2,    35.95,2,     0.00,2,     2.66,2, -999.000,9, -999.000,9, -999.000,9, -999.000,9, -999.000,9,-999.0000,9,  -999.00,9,   -999.0,9,  -999.00,9,-999.000,9,   -999.0,9,   -999.0,9,  -999.0,-999.0000,-999.000,-999.000,  -999.0,-999.000
   3220CGC92_2,   P13,    84,  1,    109,   1023,2,19921016,0725, -3.1907, 164.7258, 3640,  21988,   2193.0,   1.9725,  34.6582,2,  34.6485,2,    125.7,2,  1.8200,    127.0,2,   139.39,2,    35.82,2,     0.00,2,     2.66,2, -999.000,9, -999.000,9, -999.000,9, -999.000,9, -999.000,9,-999.0000,9,  -999.00,9,   -999.0,9,  -999.00,9,-999.000,9,   -999.0,9,   -999.0,9,  -999.0,-999.0000,-999.000,-999.000,  -999.0,-999.000
   3220CGC92_2,   P13,    84,  1,    108,   1032,2,19921016,0725, -3.1907, 164.7258, 3640,  24011,   2395.0,   1.8366,  34.6641,2,  34.6597,2,    129.0,2,  1.6686,    132.0,2,   142.07,2,    35.14,2,     0.00,2,     2.67,2,   -0.001,2,    0.002,2, -999.000,9, -999.000,9, -999.000,9,-999.0000,9,  -999.00,9,   -999.0,9,  -999.00,9,-999.000,9,   -999.0,9,   -999.0,9,  -999.0,-999.0000,-999.000,-999.000,  -999.0,-999.000
   3220CGC92_2,   P13,    84,  1,    107,   1037,2,19921016,0725, -3.1907, 164.7258, 3640,  25973,   2592.0,   1.7846,  34.6651,2,  34.6614,2,    131.0,2,  1.5999,    130.3,2,   145.78,2,    35.21,2,     0.00,2,     2.63,2, -999.000,9, -999.000,9, -999.000,9, -999.000,9, -999.000,9,-999.0000,9,  -999.00,9,   -999.0,9,  -999.00,9,-999.000,9,   -999.0,9,   -999.0,9,  -999.0,-999.0000,-999.000,-999.000,  -999.0,-999.000
   3220CGC92_2,   P13,    84,  1,    106,   1022,2,19921016,0725, -3.1907, 164.7258, 3640,  27980,   2793.0,   1.7186,  34.6669,2,  34.6658,2,    132.1,2,  1.5167,    133.8,2,   146.59,2,    35.18,2,     0.00,2,     2.61,2, -999.000,9, -999.000,9, -999.000,9, -999.000,9, -999.000,9,-999.0000,9,  -999.00,9,   -999.0,9,  -999.00,9,-999.000,9,   -999.0,9,   -999.0,9,  -999.0,-999.0000,-999.000,-999.000,  -999.0,-999.000
   3220CGC92_2,   P13,    84,  1,    105,   1221,2,19921016,0725, -3.1907, 164.7258, 3640,  30005,   2996.0,   1.6256,  34.6709,2,  34.6696,2,    138.4,2,  1.4064,    135.6,2,   146.66,2,    35.14,2,     0.00,2,     2.57,2,    0.000,2,   -0.001,2, -999.000,9, -999.000,9, -999.000,9,-999.0000,9,  -999.00,9,   -999.0,9,  -999.00,9,-999.000,9,   -999.0,9,   -999.0,9,  -999.0,-999.0000,-999.000,-999.000,  -999.0,-999.000
   3220CGC92_2,   P13,    84,  1,    104,   1038,2,19921016,0725, -3.1907, 164.7258, 3640,  31993,   3196.0,   1.5726,  34.6731,2,  34.6740,2,   -999.0,9,  1.3352,    143.4,2,   146.45,2,    34.84,2,     0.00,2,     2.54,2, -999.000,9, -999.000,9, -999.000,9, -999.000,9, -999.000,9,-999.0000,9,  -999.00,9,   -999.0,9,  -999.00,9,-999.000,9,   -999.0,9,   -999.0,9,  -999.0,-999.0000,-999.000,-999.000,  -999.0,-999.000
   3220CGC92_2,   P13,    84,  1,    103,   1033,2,19921016,0725, -3.1907, 164.7258, 3640,  34027,   3400.0,   1.5136,  34.6776,2,  34.6799,2,    149.5,2,  1.2573,    149.7,2,   145.04,2,    34.16,2,     0.00,2,     2.51,2, -999.000,9, -999.000,9, -999.000,9, -999.000,9, -999.000,9,-999.0000,9,  -999.00,9,   -999.0,9,  -999.00,9,-999.000,9,   -999.0,9,   -999.0,9,  -999.0,-999.0000,-999.000,-999.000,  -999.0,-999.000
   3220CGC92_2,   P13,    84,  1,    102,   1234,2,19921016,0725, -3.1907, 164.7258, 3640,  35992,   3597.0,   1.4826,  34.6789,2,  34.6824,2,    154.9,2,  1.2069,    154.4,2,   144.08,2,    33.59,2,     0.00,2,     2.43,2,   -0.001,2,   -0.002,2, -999.000,9, -999.000,9, -999.000,9,-999.0000,9,  -999.00,9,   -999.0,9,  -999.00,9,-999.000,9,   -999.0,9,   -999.0,9,  -999.0,-999.0000,-999.000,-999.000,  -999.0,-999.000
   3220CGC92_2,   P13,    84,  1,    101,   1238,2,19921016,0725, -3.1907, 164.7258, 3640,  37811,   3780.0,   1.4766,  34.6793,2,  34.6856,6,    157.6,2,  1.1820,    155.9,2,   143.07,2,    33.46,2,     0.00,2,     2.47,2,    0.003,2,    0.001,2, -999.000,9, -999.000,9, -999.000,9,-999.0000,9,  -999.00,9,   -999.0,9,  -999.00,9,-999.000,9,   -999.0,9,   -999.0,9,  -999.0,-999.0000,-999.000,-999.000,  -999.0,-999.000