BOTTLE,20221003CCHSIOAMB
EXPOCODE,SECT_ID,STNNBR,CASTNO,SAMPNO,BTLNBR,BTLNBR_FLAG_W,DATE,TIME,LATITUDE,LONGITUDE,DEPTH,CTDRAW,CTDPRS,CTDTMP,CTDSAL,CTDSAL_FLAG_W,SALNTY,SALNTY_FLAG_W,CTDOXY,CTDOXY_FLAG_W,THETA,OXYGEN,OXYGEN_FLAG_W,SILCAT,SILCAT_FLAG_W,NITRAT,NITRAT_FLAG_W,NITRIT,NITRIT_FLAG_W,PHSPHT,PHSPHT_FLAG_W,CFC-11,CFC-11_FLAG_W,CFC-12,CFC-12_FLAG_W,CFC113,CFC113_FLAG_W,CCL4,CCL4_FLAG_W,TRITUM,TRITUM_FLAG_W,HELIUM,HELIUM_FLAG_W,DELHE3,DELHE3_FLAG_W,DELC14,DELC14_FLAG_W,DELC13,DELC13_FLAG_W,NEON,NEON_FLAG_W,TCARBN,TCARBN_FLAG_W,ALKALI,ALKALI_FLAG_W,C14ERR,HELIER,DELHER,NEONER,C13ERR,TRITER
,,,,,,,,,,,,DBAR,DBAR,ITS-90,PSS-78,,PSS-78,,UMOL/KG,,DEG C,UMOL/KG,,UMOL/KG,,UMOL/KG,,UMOL/KG,,UMOL/KG,,PMOL/KG,,PMOL/KG,,PMOL/KG,,PMOL/KG,,TU,,NMOL/KG,,PERCNT,,/MILLE,,/MILLE,,NMOL/KG,,UMOL/KG,,UMOL/KG,,/MILLE,NMOL/KG,PERCNT,NMOL/KG,/MILLE,TU
   3220CGC92_2,   P13,    87,  1,    132,   1017,2,19921016,2231, -4.3597, 164.1733, 2322,    107,      8.0,  30.1038,  34.6850,2,  34.7264,2,    206.5,2, 30.1018,    192.1,2,     0.78,2,  -999.00,9,  -999.00,9,     0.00,2, -999.000,9, -999.000,9, -999.000,9, -999.000,9, -999.000,9,-999.0000,9,  -999.00,9,   -999.0,9,  -999.00,9,-999.000,9,   1917.0,2,   2282.9,2,  -999.0,-999.0000,-999.000,-999.000,  -999.0,-999.000
   3220CGC92_2,   P13,    87,  1,    131,   1031,2,19921016,2231, -4.3597, 164.1733, 2322,    251,     22.0,  30.1268,  34.6983,2,  34.7261,2,    208.4,2, 30.1213,    192.4,2,     0.82,2,  -999.00,9,  -999.00,9,     0.00,2, -999.000,9, -999.000,9, -999.000,9, -999.000,9, -999.000,9,-999.0000,9,  -999.00,9,   -999.0,9,  -999.00,9,-999.000,9,   1917.6,6,   2281.4,6,  -999.0,-999.0000,-999.000,-999.000,  -999.0,-999.000
   3220CGC92_2,   P13,    87,  1,    130,   1041,2,19921016,2231, -4.3597, 164.1733, 2322,    499,     46.0,  30.1418,  34.7085,2,  34.7274,2,    206.3,2, 30.1303,   -999.0,5,     0.84,2,  -999.00,9,  -999.00,9,     0.03,2, -999.000,9, -999.000,9, -999.000,9, -999.000,9, -999.000,9,-999.0000,9,  -999.00,9,   -999.0,9,  -999.00,9,-999.000,9,   1915.7,2,   2285.0,2,  -999.0,-999.0000,-999.000,-999.000,  -999.0,-999.000
   3220CGC92_2,   P13,    87,  1,    129,   1004,2,19921016,2231, -4.3597, 164.1733, 2322,    756,     72.0,  30.0828,  34.8790,2,  35.0395,2,    203.8,2, 30.0649,    196.2,2,     0.97,2,  -999.00,9,  -999.00,9,     0.09,2,    1.560,2,    0.877,2, -999.000,9, -999.000,9, -999.000,9,-999.0000,9,  -999.00,9,   -999.0,9,  -999.00,9,-999.000,9,   1949.1,2,   2313.3,2,  -999.0,-999.0000,-999.000,-999.000,  -999.0,-999.000
   3220CGC92_2,   P13,    87,  1,    128,   1016,2,19921016,2231, -4.3597, 164.1733, 2322,   1005,     97.0,  27.9563,  35.1754,2,  35.1732,2,    171.5,2, 27.9334,    160.5,2,     1.84,2,  -999.00,9,  -999.00,9,     0.33,2, -999.000,9, -999.000,9, -999.000,9, -999.000,9, -999.000,9,-999.0000,9,  -999.00,9,   -999.0,9,  -999.00,9,-999.000,9,   2003.8,2,   2314.3,2,  -999.0,-999.0000,-999.000,-999.000,  -999.0,-999.000
   3220CGC92_2,   P13,    87,  1,    127,   1028,2,19921016,2231, -4.3597, 164.1733, 2322,   1246,    121.0,  26.5376,  35.1707,2,  35.4209,2,    134.5,2, 26.5102,    126.8,2,     2.54,2,  -999.00,9,  -999.00,9,     0.63,2, -999.000,9, -999.000,9, -999.000,9, -999.000,9, -999.000,9,-999.0000,9,  -999.00,9,   -999.0,9,  -999.00,9,-999.000,9,   2050.7,2,   2324.1,2,  -999.0,-999.0000,-999.000,-999.000,  -999.0,-999.000
   3220CGC92_2,   P13,    87,  1,    126,   1110,2,19921016,2231, -4.3597, 164.1733, 2322,   1498,    146.0,  25.1300,  35.6513,2,  35.7230,2,    117.2,2, 25.0981,    116.3,2,     2.79,2,  -999.00,9,  -999.00,9,     0.73,2, -999.000,9, -999.000,9, -999.000,9, -999.000,9, -999.000,9,-999.0000,9,  -999.00,9,   -999.0,9,  -999.00,9,-999.000,9,   2088.3,2,   2355.4,2,  -999.0,-999.0000,-999.000,-999.000,  -999.0,-999.000
   3220CGC92_2,   P13,    87,  1,    125,   1035,2,19921016,2231, -4.3597, 164.1733, 2322,   1743,    170.0,  20.9510,  35.6121,2,  35.6120,2,    118.2,2, 20.9184,    112.2,2,     4.36,2,  -999.00,9,  -999.00,9,     0.85,2, -999.000,9, -999.000,9, -999.000,9, -999.000,9, -999.000,9,-999.0000,9,  -999.00,9,   -999.0,9,  -999.00,9,-999.000,9,   2114.1,2,   2340.5,2,  -999.0,-999.0000,-999.000,-999.000,  -999.0,-999.000
   3220CGC92_2,   P13,    87,  1,    124,   1019,2,19921016,2231, -4.3597, 164.1733, 2322,   1990,    195.0,  16.5520,  35.3324,2,  35.5937,2,    114.3,2, 16.5204,    107.7,2,     5.86,2,  -999.00,9,  -999.00,9,     1.01,2, -999.000,9, -999.000,9, -999.000,9, -999.000,9, -999.000,9,-999.0000,9,  -999.00,9,   -999.0,9,  -999.00,9,-999.000,9,   2138.3,2,   2344.7,2,  -999.0,-999.0000,-999.000,-999.000,  -999.0,-999.000
   3220CGC92_2,   P13,    87,  1,    123,   1014,2,19921016,2231, -4.3597, 164.1733, 2322,   2249,    221.0,  13.8637,  35.0625,2,  35.2344,2,    111.3,2, 13.8319,    108.7,2,     9.78,2,  -999.00,9,  -999.00,9,     1.43,2, -999.000,9, -999.000,9, -999.000,9, -999.000,9, -999.000,9,-999.0000,9,  -999.00,9,   -999.0,9,  -999.00,9,-999.000,9,   2153.2,2,   2321.8,2,  -999.0,-999.0000,-999.000,-999.000,  -999.0,-999.000
   3220CGC92_2,   P13,    87,  1,    122,   1015,2,19921016,2231, -4.3597, 164.1733, 2322,   2499,    245.0,  12.5240,  34.9493,2,  35.0304,2,    124.6,2, 12.4911,    115.1,2,    12.44,2,  -999.00,9,  -999.00,9,     1.45,2, -999.000,9, -999.000,9, -999.000,9, -999.000,9, -999.000,9,-999.0000,9,  -999.00,9,   -999.0,9,  -999.00,9,-999.000,9,   2159.1,2,   2314.2,2,  -999.0,-999.0000,-999.000,-999.000,  -999.0,-999.000
   3220CGC92_2,   P13,    87,  1,    121,   1235,2,19921016,2231, -4.3597, 164.1733, 2322,   3005,    296.0,  10.4795,  34.7672,2,  34.8041,2,     98.9,2, 10.4440,     99.1,6,    20.13,2,  -999.00,9,  -999.00,9,     1.84,2, -999.000,9, -999.000,9, -999.000,9, -999.000,9, -999.000,9,-999.0000,9,  -999.00,9,   -999.0,9,  -999.00,9,-999.000,9,   2189.7,2,   2310.9,2,  -999.0,-999.0000,-999.000,-999.000,  -999.0,-999.000
   3220CGC92_2,   P13,    87,  1,    120,   1237,2,19921016,2231, -4.3597, 164.1733, 2322,   3507,    346.0,   9.5887,  34.6995,2,  34.7160,2,    114.6,2,  9.5494,    111.3,2,    23.03,2,  -999.00,9,  -999.00,9,     1.88,2, -999.000,9, -999.000,9, -999.000,9, -999.000,9, -999.000,9,-999.0000,9,  -999.00,9,   -999.0,9,  -999.00,9,-999.000,9,   2191.0,2,   2306.0,2,  -999.0,-999.0000,-999.000,-999.000,  -999.0,-999.000
   3220CGC92_2,   P13,    87,  1,    119,   1025,2,19921016,2231, -4.3597, 164.1733, 2322,   4004,    395.0,   8.8709,  34.6517,2,  34.6646,2,    113.7,2,  8.8280,    112.1,2,    25.72,2,  -999.00,9,  -999.00,9,     1.99,2, -999.000,9, -999.000,9, -999.000,9, -999.000,9, -999.000,9,-999.0000,9,  -999.00,9,   -999.0,9,  -999.00,9,-999.000,9,   2200.8,2,   2305.0,2,  -999.0,-999.0000,-999.000,-999.000,  -999.0,-999.000
   3220CGC92_2,   P13,    87,  1,    118,   1118,2,19921016,2231, -4.3597, 164.1733, 2322,   4511,    446.0,   8.4460,  34.6282,2,  34.6378,2,    106.3,2,  8.3989,    103.4,2,    28.88,2,  -999.00,9,  -999.00,9,     2.11,2, -999.000,9, -999.000,9, -999.000,9, -999.000,9, -999.000,9,-999.0000,9,  -999.00,9,   -999.0,9,  -999.00,9,-999.000,9,   2211.9,2,   2307.5,2,  -999.0,-999.0000,-999.000,-999.000,  -999.0,-999.000
   3220CGC92_2,   P13,    87,  1,    117,   1112,2,19921016,2231, -4.3597, 164.1733, 2322,   5005,    495.0,   7.9661,  34.6064,2,  34.6077,2,     92.5,2,  7.9154,     91.3,2,    34.64,2,    28.80,2,     0.00,2,     2.24,3, -999.000,9, -999.000,9, -999.000,9, -999.000,9, -999.000,9,-999.0000,9,  -999.00,9,   -999.0,9,  -999.00,9,-999.000,9,   2226.9,2,   2310.2,2,  -999.0,-999.0000,-999.000,-999.000,  -999.0,-999.000
   3220CGC92_2,   P13,    87,  1,    116,   1104,2,19921016,2231, -4.3597, 164.1733, 2322,   6000,    594.0,   6.9873,  34.5574,2,  34.5575,2,    103.9,2,  6.9305,    104.8,2,    41.39,2,    31.17,2,     0.00,2,     2.32,2, -999.000,9, -999.000,9, -999.000,9, -999.000,9, -999.000,9,-999.0000,9,  -999.00,9,   -999.0,9,  -999.00,9,-999.000,9,   2232.4,2,   2317.5,2,  -999.0,-999.0000,-999.000,-999.000,  -999.0,-999.000
   3220CGC92_2,   P13,    87,  1,    114,   1012,2,19921016,2231, -4.3597, 164.1733, 2322,   7007,    695.0,   6.2985,  34.5464,2,  34.5507,2,     86.4,2,  6.2352,     85.4,2,    50.44,2,    34.25,2,     0.00,2,     2.48,2, -999.000,9, -999.000,9, -999.000,9, -999.000,9, -999.000,9,-999.0000,9,  -999.00,9,   -999.0,9,  -999.00,9,-999.000,9,   2255.8,2,   2322.6,2,  -999.0,-999.0000,-999.000,-999.000,  -999.0,-999.000
   3220CGC92_2,   P13,    87,  1,    112,   1219,2,19921016,2231, -4.3597, 164.1733, 2322,   8005,    794.0,   5.5247,  34.5288,2,  34.5320,2,    100.1,2,  5.4565,     98.2,2,    58.61,2,    34.31,2,     0.00,2,     2.49,2, -999.000,9, -999.000,9, -999.000,9, -999.000,9, -999.000,9,-999.0000,9,  -999.00,9,   -999.0,9,  -999.00,9,-999.000,9,   2258.2,2,   2332.5,2,  -999.0,-999.0000,-999.000,-999.000,  -999.0,-999.000
   3220CGC92_2,   P13,    87,  1,    110,   1029,2,19921016,2231, -4.3597, 164.1733, 2322,   8996,    893.0,   5.0418,  34.5338,2,  34.5366,2,     96.6,2,  4.9677,     94.2,2,    69.18,2,    35.95,2,     0.00,2,     2.70,2, -999.000,9, -999.000,9, -999.000,9, -999.000,9, -999.000,9,-999.0000,9,  -999.00,9,   -999.0,9,  -999.00,9,-999.000,9,   2274.0,2,   2341.4,2,  -999.0,-999.0000,-999.000,-999.000,  -999.0,-999.000
   3220CGC92_2,   P13,    87,  1,    109,   1023,2,19921016,2231, -4.3597, 164.1733, 2322,  10004,    994.0,   4.6829,  34.5399,2,  34.5413,2,    103.2,2,  4.6024,     98.5,2,    75.86,2,    36.09,2,     0.00,2,     2.69,2, -999.000,9, -999.000,9, -999.000,9, -999.000,9, -999.000,9,-999.0000,9,  -999.00,9,   -999.0,9,  -999.00,9,-999.000,9,   2279.7,2,   2350.4,2,  -999.0,-999.0000,-999.000,-999.000,  -999.0,-999.000
   3220CGC92_2,   P13,    87,  1,    108,   1032,2,19921016,2231, -4.3597, 164.1733, 2322,  10996,   1093.0,   4.3650,  34.5456,2,  34.5470,2,     95.4,2,  4.2784,     96.4,2,    82.42,2,    36.19,2,     0.00,2,     2.79,2, -999.000,9, -999.000,9, -999.000,9, -999.000,9, -999.000,9,-999.0000,9,  -999.00,9,   -999.0,9,  -999.00,9,-999.000,9,   2288.4,2,   2356.4,2,  -999.0,-999.0000,-999.000,-999.000,  -999.0,-999.000
   3220CGC92_2,   P13,    87,  1,    107,   1037,2,19921016,2231, -4.3597, 164.1733, 2322,  12009,   1194.0,   3.9640,  34.5550,2,  34.5553,2,    110.5,2,  3.8722,    110.1,2,    90.09,2,    35.74,2,     0.00,2,     2.68,2, -999.000,9, -999.000,9, -999.000,9, -999.000,9, -999.000,9,-999.0000,9,  -999.00,9,   -999.0,9,  -999.00,9,-999.000,9,   2290.5,2,   2368.8,2,  -999.0,-999.0000,-999.000,-999.000,  -999.0,-999.000
   3220CGC92_2,   P13,    87,  1,    106,   1022,2,19921016,2231, -4.3597, 164.1733, 2322,  13999,   1393.0,   3.2942,  34.5774,2,  34.5769,2,    115.9,2,  3.1920,    115.3,2,   102.21,2,    35.71,2,     0.00,2,     2.67,2, -999.000,9, -999.000,9, -999.000,9, -999.000,9, -999.000,9,-999.0000,9,  -999.00,9,   -999.0,9,  -999.00,9,-999.000,9,   2301.3,2,   2378.6,2,  -999.0,-999.0000,-999.000,-999.000,  -999.0,-999.000
   3220CGC92_2,   P13,    87,  1,    105,   1221,2,19921016,2231, -4.3597, 164.1733, 2322,  15979,   1591.0,   2.7643,  34.6040,2,  34.6045,2,    118.0,2,  2.6516,    117.3,2,   117.14,2,    35.40,2,     0.00,2,     2.68,2, -999.000,9, -999.000,9, -999.000,9, -999.000,9, -999.000,9,-999.0000,9,  -999.00,9,   -999.0,9,  -999.00,9,-999.000,9,   2315.7,2,   2396.3,2,  -999.0,-999.0000,-999.000,-999.000,  -999.0,-999.000
   3220CGC92_2,   P13,    87,  1,    104,   1038,2,19921016,2231, -4.3597, 164.1733, 2322,  17997,   1793.0,   2.4044,  34.6247,2,  34.6279,2,    122.1,2,  2.2795,    121.1,6,   127.94,2,    35.00,2,     0.00,2,     2.69,2, -999.000,9, -999.000,9, -999.000,9, -999.000,9, -999.000,9,-999.0000,9,  -999.00,9,   -999.0,9,  -999.00,9,-999.000,9,   2325.8,2,   2413.2,2,  -999.0,-999.0000,-999.000,-999.000,  -999.0,-999.000
   3220CGC92_2,   P13,    87,  1,    103,   1033,2,19921016,2231, -4.3597, 164.1733, 2322,  20011,   1995.0,   2.1905,  34.6368,2,  34.6400,2,    123.6,2,  2.0515,    124.6,2,   133.35,2,    35.47,2,     0.00,2,     2.66,2, -999.000,9, -999.000,9, -999.000,9, -999.000,9, -999.000,9,-999.0000,9,  -999.00,9,   -999.0,9,  -999.00,9,-999.000,9,   2329.8,2,   2412.8,2,  -999.0,-999.0000,-999.000,-999.000,  -999.0,-999.000
   3220CGC92_2,   P13,    87,  1,    102,   1234,2,19921016,2231, -4.3597, 164.1733, 2322,  21998,   2195.0,   2.0265,  34.6479,2,  34.6504,2,    128.5,2,  1.8729,    127.3,2,   137.87,2,    35.39,2,     0.00,2,     2.59,2, -999.000,9, -999.000,9, -999.000,9, -999.000,9, -999.000,9,-999.0000,9,  -999.00,9,   -999.0,9,  -999.00,9,-999.000,9,   2331.6,2,   2417.1,2,  -999.0,-999.0000,-999.000,-999.000,  -999.0,-999.000
   3220CGC92_2,   P13,    87,  1,    101,   1238,2,19921016,2231, -4.3597, 164.1733, 2322,  23911,   2388.0,   1.8795,  34.6552,2,  34.6577,2,    129.3,2,  1.7115,    130.2,2,   141.45,2,    35.04,2,     0.00,2,     2.60,2, -999.000,9, -999.000,9, -999.000,9, -999.000,9, -999.000,9,-999.0000,9,  -999.00,9,   -999.0,9,  -999.00,9,-999.000,9,   2333.0,6,   2418.7,2,  -999.0,-999.0000,-999.000,-999.000,  -999.0,-999.000