BOTTLE,20221003CCHSIOAMB
EXPOCODE,SECT_ID,STNNBR,CASTNO,SAMPNO,BTLNBR,BTLNBR_FLAG_W,DATE,TIME,LATITUDE,LONGITUDE,DEPTH,CTDRAW,CTDPRS,CTDTMP,CTDSAL,CTDSAL_FLAG_W,SALNTY,SALNTY_FLAG_W,CTDOXY,CTDOXY_FLAG_W,THETA,OXYGEN,OXYGEN_FLAG_W,SILCAT,SILCAT_FLAG_W,NITRAT,NITRAT_FLAG_W,NITRIT,NITRIT_FLAG_W,PHSPHT,PHSPHT_FLAG_W,CFC-11,CFC-11_FLAG_W,CFC-12,CFC-12_FLAG_W,CFC113,CFC113_FLAG_W,CCL4,CCL4_FLAG_W,TRITUM,TRITUM_FLAG_W,HELIUM,HELIUM_FLAG_W,DELHE3,DELHE3_FLAG_W,DELC14,DELC14_FLAG_W,DELC13,DELC13_FLAG_W,NEON,NEON_FLAG_W,TCARBN,TCARBN_FLAG_W,ALKALI,ALKALI_FLAG_W,C14ERR,HELIER,DELHER,NEONER,C13ERR,TRITER
,,,,,,,,,,,,DBAR,DBAR,ITS-90,PSS-78,,PSS-78,,UMOL/KG,,DEG C,UMOL/KG,,UMOL/KG,,UMOL/KG,,UMOL/KG,,UMOL/KG,,PMOL/KG,,PMOL/KG,,PMOL/KG,,PMOL/KG,,TU,,NMOL/KG,,PERCNT,,/MILLE,,/MILLE,,NMOL/KG,,UMOL/KG,,UMOL/KG,,/MILLE,NMOL/KG,PERCNT,NMOL/KG,/MILLE,TU
   3220CGC92_2,   P13,    76,  1,    136,   1106,2,19921013,2102,  0.9998, 164.9870, 4214,    111,      8.0,  30.1828,  34.5022,2,  34.5213,2,    199.4,2, 30.1808,    193.3,2,     0.80,2,     0.00,2,     0.00,2,     0.02,2,    1.539,2,    0.875,2, -999.000,9, -999.000,9, -999.000,9,-999.0000,9,  -999.00,9,     88.9,2,     1.77,2,-999.000,9,   1906.2,2,   2270.8,2,     2.9,-999.0000,-999.000,-999.000,  -999.0,-999.000
   3220CGC92_2,   P13,    76,  1,    135,   1013,2,19921013,2102,  0.9998, 164.9870, 4214,    254,     22.0,  30.1928,  34.5067,2,  34.5218,2,   -999.0,9, 30.1873,    193.0,2,     0.82,2,     0.00,2,     0.00,2,     0.04,2,    1.499,2,    0.886,2, -999.000,9, -999.000,9,    1.107,2,   1.6700,2,    -1.25,2,    108.9,2,     1.77,2,   6.365,2,   -999.0,9,   -999.0,9,     4.5,  0.0080,   0.140,   0.028,  -999.0,   0.004
   3220CGC92_2,   P13,    76,  1,    134,   1030,2,19921013,2102,  0.9998, 164.9870, 4214,    495,     46.0,  30.2067,  34.5412,2,  34.5923,2,    189.1,2, 30.1953,    193.6,6,     0.95,2,     0.00,2,     0.00,2,     0.08,2,    1.512,2,    0.914,2, -999.000,9, -999.000,9, -999.000,9,-999.0000,9,  -999.00,9,    111.5,2,     1.76,2,-999.000,9,   -999.0,9,   -999.0,9,     2.9,-999.0000,-999.000,-999.000,  -999.0,-999.000
   3220CGC92_2,   P13,    76,  1,    133,   1231,2,19921013,2102,  0.9998, 164.9870, 4214,    756,     72.0,  27.6244,  35.0452,2,  35.0725,4,    183.5,2, 27.6076,    165.0,2,     2.16,2,     2.38,2,     0.20,2,     0.30,2,    1.514,2,    0.863,2, -999.000,9, -999.000,9,    1.084,2,   1.6860,2,     0.18,2,    124.1,2,     1.32,2,   6.554,2,   -999.0,9,   -999.0,9,     5.1,  0.0080,   0.140,   0.029,  -999.0,   0.004
   3220CGC92_2,   P13,    76,  1,    132,   1017,2,19921013,2102,  0.9998, 164.9870, 4214,   1010,     97.0,  24.2052,  35.0155,2,  35.0200,2,    125.0,2, 24.1846,    124.4,2,     5.10,2,     8.42,2,     0.15,2,     0.61,2,    1.527,6,    0.867,6, -999.000,9, -999.000,9,    1.171,2,   1.7010,2,     1.41,2,     98.5,3,     0.88,2,   6.676,2,   -999.0,9,   -999.0,9,     2.8,  0.0080,   0.140,   0.029,  -999.0,   0.004
   3220CGC92_2,   P13,    76,  1,    131,   1031,2,19921013,2102,  0.9998, 164.9870, 4214,   1238,    120.0,  22.3036,  35.1005,2,  35.0349,2,    127.9,2, 22.2797,    129.2,2,     6.68,2,     8.84,2,     0.00,2,     0.63,2,    1.520,2,    0.858,2, -999.000,9, -999.000,9,    1.165,2,   1.7090,2,     1.83,2,    113.5,2,     0.85,2,   6.707,2,   -999.0,9,   -999.0,9,     5.1,  0.0080,   0.140,   0.030,  -999.0,   0.004
   3220CGC92_2,   P13,    76,  1,    130,   1041,2,19921013,2102,  0.9998, 164.9870, 4214,   1498,    146.0,  20.9870,  35.1371,2,  35.1216,4,    124.2,2, 20.9590,    129.6,2,     7.24,2,     9.65,2,     0.08,2,     0.71,2,    1.478,2,    0.853,2, -999.000,9, -999.000,9,    1.097,2,   1.7120,2,     2.34,2,     89.9,2,     0.84,2,   6.818,2,   -999.0,9,   -999.0,9,     2.7,  0.0080,   0.140,   0.030,  -999.0,   0.004
   3220CGC92_2,   P13,    76,  1,    129,   1004,2,19921013,2102,  0.9998, 164.9870, 4214,   1771,    173.0,  17.4018,  34.7500,2,  34.7559,2,    143.9,2, 17.3729,    146.6,2,    12.13,2,    10.29,2,     0.00,2,     0.76,2,    1.584,2,    0.899,2, -999.000,9, -999.000,9,    1.526,2,   1.9070,2,     4.46,2,     74.0,2,     0.69,2,   7.610,2,   -999.0,9,   -999.0,9,     3.4,  0.0090,   0.140,   0.033,  -999.0,   0.005
   3220CGC92_2,   P13,    76,  1,    128,   1016,2,19921013,2102,  0.9998, 164.9870, 4214,   1993,    195.0,  15.3683,  34.7775,2,  34.8202,2,    140.0,2, 15.3383,    141.9,2,    14.04,2,    12.30,2,     0.00,2,     0.90,2,    1.419,6,    0.791,6, -999.000,9, -999.000,9,    1.302,2,   1.7340,2,     5.44,2,     72.7,2,     0.69,2,   7.075,2,   -999.0,9,   -999.0,9,     2.8,  0.0080,   0.140,   0.031,  -999.0,   0.004
   3220CGC92_2,   P13,    76,  1,    127,   1028,2,19921013,2102,  0.9998, 164.9870, 4214,   2250,    221.0,  14.3965,  34.7692,2,  34.7815,2,    134.9,2, 14.3640,    135.4,2,    17.75,2,    15.64,2,     0.00,2,     1.12,2,    1.180,2,    0.652,2, -999.000,9, -999.000,9, -999.000,9,-999.0000,9,  -999.00,9,   -999.0,9,  -999.00,9,-999.000,9,   -999.0,9,   -999.0,9,  -999.0,-999.0000,-999.000,-999.000,  -999.0,-999.000
   3220CGC92_2,   P13,    76,  1,    126,   1110,2,19921013,2102,  0.9998, 164.9870, 4214,   2510,    247.0,  12.9759,  34.8818,2,  34.8352,2,    132.9,2, 12.9419,    135.2,2,    17.93,2,    17.13,2,     0.00,2,     1.28,2,    0.893,2,    0.551,2, -999.000,9, -999.000,9,    0.808,2,   1.7490,2,     5.53,2,     16.4,2,     0.68,2,   7.229,2,   -999.0,9,   -999.0,9,     2.9,  0.0080,   0.140,   0.032,  -999.0,   0.003
   3220CGC92_2,   P13,    76,  1,    125,   1035,2,19921013,2102,  0.9998, 164.9870, 4214,   2997,    295.0,  12.2910,  34.8611,2,  34.8811,2,    131.6,2, 12.2519,    132.0,2,    16.95,2,    18.02,2,     0.00,2,     1.34,2,    0.767,2,    0.426,2, -999.000,9, -999.000,9,    0.555,2,   1.7490,2,     4.91,2,     10.5,2,     0.78,2,   7.272,2,   -999.0,9,   -999.0,9,     3.2,  0.0080,   0.140,   0.032,  -999.0,   0.003
   3220CGC92_2,   P13,    76,  1,    124,   1019,2,19921013,2102,  0.9998, 164.9870, 4214,   3492,    344.0,  10.7814,  34.7548,2,  34.7756,2,     98.4,2, 10.7394,     98.1,2,    23.73,2,    23.49,2,     0.00,2,     1.73,2,    0.395,2,    0.240,2, -999.000,9, -999.000,9, -999.000,9,-999.0000,9,  -999.00,9,    -34.2,2,     0.58,2,-999.000,9,   -999.0,9,   -999.0,9,     2.5,-999.0000,-999.000,-999.000,  -999.0,-999.000
   3220CGC92_2,   P13,    76,  1,    123,   1014,2,19921013,2102,  0.9998, 164.9870, 4214,   4007,    396.0,   9.7807,  34.6826,2,  34.7180,2,     98.0,2,  9.7350,     97.6,2,    27.05,2,    26.56,2,     0.00,2,     1.91,2,    0.321,2,    0.191,2, -999.000,9, -999.000,9,    0.294,2,   1.7620,2,     6.03,2,    -46.0,2,     0.54,2,   7.392,2,   -999.0,9,   -999.0,9,     2.5,  0.0080,   0.140,   0.033,  -999.0,   0.002
   3220CGC92_2,   P13,    76,  1,    122,   1015,2,19921013,2102,  0.9998, 164.9870, 4214,   4499,    445.0,   9.1308,  34.6575,2,  34.6780,2,   -999.0,9,  9.0816,     80.3,2,    31.13,2,    29.81,2,     0.00,2,     2.11,2,    0.216,2,    0.126,2, -999.000,9, -999.000,9, -999.000,9,-999.0000,9,  -999.00,9,   -999.0,9,  -999.00,9,-999.000,9,   -999.0,9,   -999.0,9,  -999.0,-999.0000,-999.000,-999.000,  -999.0,-999.000
   3220CGC92_2,   P13,    76,  1,    121,   1235,2,19921013,2102,  0.9998, 164.9870, 4214,   5012,    496.0,   8.2170,  34.6038,2,  34.6252,2,   -999.0,9,  8.1653,    108.4,2,    32.56,2,    28.52,2,     0.00,2,     2.03,2,    0.203,2,    0.125,2, -999.000,9, -999.000,9, -999.000,9,-999.0000,9,  -999.00,9,    -74.4,6,     0.57,6,-999.000,9,   -999.0,9,   -999.0,9,     5.6,-999.0000,-999.000,-999.000,  -999.0,-999.000
   3220CGC92_2,   P13,    76,  1,    120,   1237,2,19921013,2102,  0.9998, 164.9870, 4214,   6002,    594.0,   7.0093,  34.5609,2,  34.5769,2,   -999.0,9,  6.9524,     97.3,2,    41.10,2,    30.95,2,     0.00,2,     2.29,2,    0.067,2,    0.051,2, -999.000,9, -999.000,9, -999.000,9,   1.7340,2,     7.69,2,   -104.3,2,     0.49,2,   7.473,2,   -999.0,9,   -999.0,9,     2.4,  0.0080,   0.140,   0.033,  -999.0,-999.000
   3220CGC92_2,   P13,    76,  1,    119,   1025,2,19921013,2102,  0.9998, 164.9870, 4214,   7004,    694.0,   6.1885,  34.5378,2,  34.5510,2,   -999.0,9,  6.1259,     85.4,2,    53.03,2,    35.25,2,     0.00,2,     2.55,2,    0.016,2,    0.025,2, -999.000,9, -999.000,9, -999.000,9,-999.0000,9,  -999.00,9,   -999.0,9,  -999.00,9,-999.000,9,   -999.0,9,   -999.0,9,  -999.0,-999.0000,-999.000,-999.000,  -999.0,-999.000
   3220CGC92_2,   P13,    76,  1,    118,   1118,2,19921013,2102,  0.9998, 164.9870, 4214,   8005,    794.0,   5.6616,  34.5345,2,  34.5389,6,     94.5,2,  5.5926,     94.2,2,    59.40,2,    35.04,2,     0.00,2,     2.52,2,    0.010,2,    0.013,2, -999.000,9, -999.000,9,    0.059,2,   1.8130,2,    11.98,2,   -141.4,2,     0.36,2,   7.621,2,   -999.0,9,   -999.0,9,     2.4,  0.0090,   0.140,   0.034,  -999.0,   0.002
   3220CGC92_2,   P13,    76,  1,    117,   1112,2,19921013,2102,  0.9998, 164.9870, 4214,   8999,    893.0,   5.1188,  34.5354,2,  34.5407,2,     95.8,2,  5.0442,     94.4,6,    70.02,2,    36.52,2,     0.00,2,     2.62,2,    0.004,2,    0.011,2, -999.000,9, -999.000,9, -999.000,9,-999.0000,9,  -999.00,9,   -999.0,9,  -999.00,9,-999.000,9,   -999.0,9,   -999.0,9,  -999.0,-999.0000,-999.000,-999.000,  -999.0,-999.000
   3220CGC92_2,   P13,    76,  1,    116,   1104,2,19921013,2102,  0.9998, 164.9870, 4214,  10018,    995.0,   4.6739,  34.5444,2,  34.5474,2,     98.1,2,  4.5934,     97.9,2,    81.72,2,    36.47,2,     0.00,2,     2.64,2,    0.002,2,    0.015,2, -999.000,9, -999.000,9, -999.000,9,-999.0000,9,  -999.00,9,   -999.0,9,  -999.00,9,-999.000,9,   -999.0,9,   -999.0,9,  -999.0,-999.0000,-999.000,-999.000,  -999.0,-999.000
   3220CGC92_2,   P13,    76,  1,    114,   1012,2,19921013,2102,  0.9998, 164.9870, 4214,  12001,   1193.0,   3.8961,  34.5666,2,  34.5682,2,     95.2,2,  3.8049,     95.3,2,   100.31,2,    36.79,2,     0.00,2,     2.69,2,   -0.002,2,    0.010,2, -999.000,9, -999.000,9, -999.000,9,-999.0000,9,  -999.00,9,   -999.0,9,  -999.00,9,-999.000,9,   -999.0,9,   -999.0,9,  -999.0,-999.0000,-999.000,-999.000,  -999.0,-999.000
   3220CGC92_2,   P13,    76,  1,    112,   1219,2,19921013,2102,  0.9998, 164.9870, 4214,  14015,   1394.0,   3.3422,  34.5852,2,  34.5866,2,     95.5,2,  3.2394,     95.2,2,   112.52,2,    37.39,2,     0.00,2,     2.74,2,   -0.005,2,    0.006,2, -999.000,9, -999.000,9, -999.000,9,-999.0000,9,  -999.00,9,   -999.0,9,  -999.00,9,-999.000,9,   -999.0,9,   -999.0,9,  -999.0,-999.0000,-999.000,-999.000,  -999.0,-999.000
   3220CGC92_2,   P13,    76,  1,    110,   1029,2,19921013,2102,  0.9998, 164.9870, 4214,  16992,   1692.0,   2.6314,  34.6150,2,  34.6159,2,    106.2,2,  2.5119,    107.8,2,   128.29,2,    37.68,2,     0.00,2,     2.71,2,   -0.008,2,    0.008,2, -999.000,9, -999.000,9, -999.000,9,-999.0000,9,  -999.00,9,   -999.0,9,  -999.00,9,-999.000,9,   -999.0,9,   -999.0,9,  -999.0,-999.0000,-999.000,-999.000,  -999.0,-999.000
   3220CGC92_2,   P13,    76,  1,    109,   1023,2,19921013,2102,  0.9998, 164.9870, 4214,  20019,   1995.0,   2.2565,  34.6340,2,  34.6349,2,    112.8,2,  2.1165,    115.3,2,   136.37,2,    37.90,2,     0.00,2,     2.70,2, -999.000,9, -999.000,9, -999.000,9, -999.000,9, -999.000,9,-999.0000,9,  -999.00,9,   -999.0,9,  -999.00,9,-999.000,9,   -999.0,9,   -999.0,9,  -999.0,-999.0000,-999.000,-999.000,  -999.0,-999.000
   3220CGC92_2,   P13,    76,  1,    108,   1032,2,19921013,2102,  0.9998, 164.9870, 4214,  22998,   2294.0,   1.9685,  34.6511,2,  34.6502,2,    120.2,2,  1.8072,    122.8,2,   142.99,2,    37.63,2,     0.00,2,     2.67,2, -999.000,9, -999.000,9, -999.000,9, -999.000,9, -999.000,9,-999.0000,9,  -999.00,9,   -999.0,9,  -999.00,9,-999.000,9,   -999.0,9,   -999.0,9,  -999.0,-999.0000,-999.000,-999.000,  -999.0,-999.000
   3220CGC92_2,   P13,    76,  1,    107,   1037,2,19921013,2102,  0.9998, 164.9870, 4214,  26008,   2595.0,   1.8096,  34.6610,2,  34.6600,2,    126.4,2,  1.6242,    127.6,2,   147.23,2,    36.39,2,     0.00,2,     2.63,2, -999.000,9, -999.000,9, -999.000,9, -999.000,9, -999.000,9,-999.0000,9,  -999.00,9,   -999.0,9,  -999.00,9,-999.000,9,   -999.0,9,   -999.0,9,  -999.0,-999.0000,-999.000,-999.000,  -999.0,-999.000
   3220CGC92_2,   P13,    76,  1,    106,   1022,2,19921013,2102,  0.9998, 164.9870, 4214,  28998,   2895.0,   1.6836,  34.6674,2,-999.0000,5,    133.6,2,  1.4728,    134.4,2,   147.95,2,    36.73,2,     0.00,2,     2.58,2, -999.000,9, -999.000,9, -999.000,9, -999.000,9, -999.000,9,-999.0000,9,  -999.00,9,   -999.0,9,  -999.00,9,-999.000,9,   -999.0,9,   -999.0,9,  -999.0,-999.0000,-999.000,-999.000,  -999.0,-999.000
   3220CGC92_2,   P13,    76,  1,    105,   1221,2,19921013,2102,  0.9998, 164.9870, 4214,  31997,   3196.0,   1.5916,  34.6732,2,  34.6757,2,    140.7,2,  1.3537,    142.1,2,   147.22,2,    35.09,2,     0.00,2,     2.51,2, -999.000,9, -999.000,9, -999.000,9, -999.000,9, -999.000,9,-999.0000,9,  -999.00,9,   -999.0,9,  -999.00,9,-999.000,9,   -999.0,9,   -999.0,9,  -999.0,-999.0000,-999.000,-999.000,  -999.0,-999.000
   3220CGC92_2,   P13,    76,  1,    104,   1038,2,19921013,2102,  0.9998, 164.9870, 4214,  35010,   3498.0,   1.5296,  34.6793,2,  34.6797,2,    148.5,2,  1.2629,    149.0,2,   145.97,2,    35.10,2,     0.00,2,     2.44,2, -999.000,9, -999.000,9, -999.000,9, -999.000,9, -999.000,9,-999.0000,9,  -999.00,9,   -999.0,9,  -999.00,9,-999.000,9,   -999.0,9,   -999.0,9,  -999.0,-999.0000,-999.000,-999.000,  -999.0,-999.000
   3220CGC92_2,   P13,    76,  1,    103,   1033,2,19921013,2102,  0.9998, 164.9870, 4214,  38026,   3801.0,   1.4636,  34.6860,2,  34.6868,2,    156.2,2,  1.1671,    156.8,2,   143.04,2,    34.49,2,     0.00,2,     2.41,2, -999.000,9, -999.000,9, -999.000,9, -999.000,9, -999.000,9,-999.0000,9,  -999.00,9,   -999.0,9,  -999.00,9,-999.000,9,   -999.0,9,   -999.0,9,  -999.0,-999.0000,-999.000,-999.000,  -999.0,-999.000
   3220CGC92_2,   P13,    76,  1,    102,   1234,2,19921013,2102,  0.9998, 164.9870, 4214,  40994,   4098.0,   1.3707,  34.6950,2,  34.6948,2,    173.0,2,  1.0446,    171.7,2,   135.93,2,    33.09,2,     0.00,2,     2.32,2, -999.000,9, -999.000,9, -999.000,9, -999.000,9, -999.000,9,-999.0000,9,  -999.00,9,   -999.0,9,  -999.00,9,-999.000,9,   -999.0,9,   -999.0,9,  -999.0,-999.0000,-999.000,-999.000,  -999.0,-999.000
   3220CGC92_2,   P13,    76,  1,    101,   1238,2,19921013,2102,  0.9998, 164.9870, 4214,  43751,   4374.0,   1.3317,  34.6988,2,  34.6984,6,    180.7,2,  0.9761,    179.4,2,   131.51,2,    32.61,2,     0.00,2,     2.26,2, -999.000,9, -999.000,9, -999.000,9, -999.000,9, -999.000,9,-999.0000,9,  -999.00,9,   -999.0,9,  -999.00,9,-999.000,9,   -999.0,9,   -999.0,9,  -999.0,-999.0000,-999.000,-999.000,  -999.0,-999.000