BOTTLE,20221003CCHSIOAMB
EXPOCODE,SECT_ID,STNNBR,CASTNO,SAMPNO,BTLNBR,BTLNBR_FLAG_W,DATE,TIME,LATITUDE,LONGITUDE,DEPTH,CTDRAW,CTDPRS,CTDTMP,CTDSAL,CTDSAL_FLAG_W,SALNTY,SALNTY_FLAG_W,CTDOXY,CTDOXY_FLAG_W,THETA,OXYGEN,OXYGEN_FLAG_W,SILCAT,SILCAT_FLAG_W,NITRAT,NITRAT_FLAG_W,NITRIT,NITRIT_FLAG_W,PHSPHT,PHSPHT_FLAG_W,CFC-11,CFC-11_FLAG_W,CFC-12,CFC-12_FLAG_W,CFC113,CFC113_FLAG_W,CCL4,CCL4_FLAG_W,TRITUM,TRITUM_FLAG_W,HELIUM,HELIUM_FLAG_W,DELHE3,DELHE3_FLAG_W,DELC14,DELC14_FLAG_W,DELC13,DELC13_FLAG_W,NEON,NEON_FLAG_W,TCARBN,TCARBN_FLAG_W,ALKALI,ALKALI_FLAG_W,C14ERR,HELIER,DELHER,NEONER,C13ERR,TRITER
,,,,,,,,,,,,DBAR,DBAR,ITS-90,PSS-78,,PSS-78,,UMOL/KG,,DEG C,UMOL/KG,,UMOL/KG,,UMOL/KG,,UMOL/KG,,UMOL/KG,,PMOL/KG,,PMOL/KG,,PMOL/KG,,PMOL/KG,,TU,,NMOL/KG,,PERCNT,,/MILLE,,/MILLE,,NMOL/KG,,UMOL/KG,,UMOL/KG,,/MILLE,NMOL/KG,PERCNT,NMOL/KG,/MILLE,TU
   3220CGC92_2,   P13,    83,  1,    136,   1106,2,19921016,0137, -2.7972, 164.9133, 3255,     68,      4.0,  30.0948,  34.6810,2,  34.8677,4,   -999.0,9, 30.0938,    125.9,4,    20.38,4,    18.07,4,     0.00,4,     1.22,4,    0.642,4,    0.374,4, -999.000,9, -999.000,9, -999.000,9,-999.0000,9,  -999.00,9,   -999.0,9,  -999.00,9,-999.000,9,   -999.0,9,   -999.0,9,  -999.0,-999.0000,-999.000,-999.000,  -999.0,-999.000
   3220CGC92_2,   P13,    83,  1,    135,   1013,2,19921016,0137, -2.7972, 164.9133, 3255,    240,     21.0,  30.0988,  34.6848,2,  34.6912,4,    195.2,2, 30.0936,    193.4,2,     0.83,2,     0.00,2,     0.00,2,     0.06,2, -999.000,9, -999.000,9, -999.000,9, -999.000,9, -999.000,9,-999.0000,9,  -999.00,9,     84.7,2,     1.77,2,-999.000,9,   1917.4,6,   2281.5,6,     5.8,-999.0000,-999.000,-999.000,  -999.0,-999.000
   3220CGC92_2,   P13,    83,  1,    134,   1030,2,19921016,0137, -2.7972, 164.9133, 3255,    494,     46.0,  30.1078,  34.6909,2,  34.9789,4,    196.4,2, 30.0963,    141.2,4,    10.52,4,    10.84,4,     0.00,4,     0.75,4,    0.882,4,    0.512,4, -999.000,9, -999.000,9, -999.000,9,-999.0000,9,  -999.00,9,   -999.0,9,  -999.00,9,-999.000,9,   -999.0,9,   -999.0,9,  -999.0,-999.0000,-999.000,-999.000,  -999.0,-999.000
   3220CGC92_2,   P13,    83,  1,    133,   1231,2,19921016,0137, -2.7972, 164.9133, 3255,    726,     69.0,  29.7689,  35.1693,2,  35.1117,4,    201.7,2, 29.7518,    139.6,4,     7.57,4,     8.94,4,     0.28,4,     0.63,4, -999.000,9, -999.000,9, -999.000,9, -999.000,9, -999.000,9,-999.0000,9,  -999.00,9,   -999.0,9,  -999.00,9,-999.000,9,   -999.0,9,   -999.0,9,  -999.0,-999.0000,-999.000,-999.000,  -999.0,-999.000
   3220CGC92_2,   P13,    83,  1,    132,   1017,2,19921016,0137, -2.7972, 164.9133, 3255,    996,     96.0,  28.5312,  35.2606,2,  35.2731,2,    179.7,2, 28.5082,    177.5,2,     1.57,2,     1.66,2,     1.04,2,     0.27,2,    1.587,2,    0.897,2, -999.000,9, -999.000,9, -999.000,9,-999.0000,9,  -999.00,9,     79.5,2,     1.49,2,-999.000,9,   2000.8,2,   2320.0,2,     4.3,-999.0000,-999.000,-999.000,  -999.0,-999.000
   3220CGC92_2,   P13,    83,  1,    131,   1031,2,19921016,0137, -2.7972, 164.9133, 3255,   1230,    119.0,  24.7621,  35.0789,2,  35.0840,2,    139.6,2, 24.7364,    138.2,2,     3.27,2,     6.20,2,     0.09,2,     0.43,2, -999.000,9, -999.000,9, -999.000,9, -999.000,9, -999.000,9,-999.0000,9,  -999.00,9,     90.5,2,     1.05,2,-999.000,9,   2031.8,2,   2300.9,2,     4.4,-999.0000,-999.000,-999.000,  -999.0,-999.000
   3220CGC92_2,   P13,    83,  1,    130,   1041,2,19921016,0137, -2.7972, 164.9133, 3255,   1482,    144.0,  24.3502,  35.2264,2,  35.2602,2,    135.9,2, 24.3195,    137.5,2,     2.96,2,     6.35,2,     0.00,2,     0.47,2,    1.520,2,    0.864,2, -999.000,9, -999.000,9, -999.000,9,-999.0000,9,  -999.00,9,     94.0,2,     1.05,2,-999.000,9,   2042.3,2,   2313.0,2,     3.9,-999.0000,-999.000,-999.000,  -999.0,-999.000
   3220CGC92_2,   P13,    83,  1,    129,   1004,2,19921016,0137, -2.7972, 164.9133, 3255,   1740,    170.0,  22.5366,  35.5239,2,  35.5405,2,    132.7,2, 22.5023,    130.8,6,     2.98,2,     7.86,2,     0.00,2,     0.59,2, -999.000,9, -999.000,9, -999.000,9, -999.000,9, -999.000,9,-999.0000,9,  -999.00,9,     86.2,2,     1.04,2,-999.000,9,   2075.2,2,   2333.2,2,     3.4,-999.0000,-999.000,-999.000,  -999.0,-999.000
   3220CGC92_2,   P13,    83,  1,    128,   1016,2,19921016,0137, -2.7972, 164.9133, 3255,   1975,    193.0,  17.3348,  35.3516,2,  35.3403,4,    123.0,2, 17.3025,    125.0,2,     7.00,2,    13.46,2,     0.14,2,     0.98,2,    1.084,6,    0.607,6, -999.000,9, -999.000,9, -999.000,9,-999.0000,9,  -999.00,9,     63.2,2,     0.94,2,-999.000,9,   2129.4,2,   2326.5,2,     3.6,-999.0000,-999.000,-999.000,  -999.0,-999.000
   3220CGC92_2,   P13,    83,  1,    127,   1028,2,19921016,0137, -2.7972, 164.9133, 3255,   2395,    235.0,  12.2940,  34.9073,2,  34.9211,2,    131.2,2, 12.2629,    132.2,2,    14.71,2,    19.05,2,     0.30,2,     1.30,2, -999.000,9, -999.000,9, -999.000,9, -999.000,9, -999.000,9,-999.0000,9,  -999.00,9,     -1.3,2,     0.82,2,-999.000,9,   2155.7,2,   2308.9,2,     3.7,-999.0000,-999.000,-999.000,  -999.0,-999.000
   3220CGC92_2,   P13,    83,  1,    126,   1110,2,19921016,0137, -2.7972, 164.9133, 3255,   2972,    293.0,  11.1053,  34.7882,2,  34.8034,2,     95.4,2, 11.0689,     96.4,2,    22.23,2,    24.22,2,     0.00,2,     1.68,2,    0.382,2,    0.219,2, -999.000,9, -999.000,9, -999.000,9,-999.0000,9,  -999.00,9,    -28.8,2,     0.59,2,-999.000,9,   2191.9,2,   2303.7,2,     2.6,-999.0000,-999.000,-999.000,  -999.0,-999.000
   3220CGC92_2,   P13,    83,  1,    125,   1035,4,19921016,0137, -2.7972, 164.9133, 3255,   3481,    343.0,  10.5915,  34.7580,2,-999.0000,9,     99.2,2, 10.5500,   -999.0,9,  -999.00,5,  -999.00,9,  -999.00,9,  -999.00,5, -999.000,9, -999.000,9, -999.000,9, -999.000,9, -999.000,9,-999.0000,9,  -999.00,9,   -999.0,9,  -999.00,9,-999.000,9,   -999.0,9,   -999.0,9,  -999.0,-999.0000,-999.000,-999.000,  -999.0,-999.000
   3220CGC92_2,   P13,    83,  1,    124,   1019,2,19921016,0137, -2.7972, 164.9133, 3255,   3972,    392.0,  10.0196,  34.7282,2,  34.7245,2,    126.3,2,  9.9737,    130.1,2,    26.20,2,    27.26,2,     0.00,2,     1.89,2,    0.371,6,    0.214,6, -999.000,9, -999.000,9, -999.000,9,-999.0000,9,  -999.00,9,    -60.4,2,     0.77,2,-999.000,9,   2180.5,2,   2302.2,2,     3.5,-999.0000,-999.000,-999.000,  -999.0,-999.000
   3220CGC92_2,   P13,    83,  1,    123,   1014,2,19921016,0137, -2.7972, 164.9133, 3255,   4477,    442.0,   8.9998,  34.6579,2,  34.6629,2,    115.5,2,  8.9513,    110.2,2,    26.58,2,    28.14,2,     0.00,2,     2.02,2, -999.000,9, -999.000,9, -999.000,9, -999.000,9, -999.000,9,-999.0000,9,  -999.00,9,   -999.0,9,  -999.00,9,-999.000,9,   2204.9,2,   2307.4,2,  -999.0,-999.0000,-999.000,-999.000,  -999.0,-999.000
   3220CGC92_2,   P13,    83,  1,    122,   1015,2,19921016,0137, -2.7972, 164.9133, 3255,   4977,    492.0,   8.2960,  34.6175,2,  34.6245,2,    105.3,2,  8.2445,    103.0,2,    30.55,2,    30.01,2,     0.00,2,     2.15,2,    0.109,2,    0.070,2, -999.000,9, -999.000,9, -999.000,9,-999.0000,9,  -999.00,9,    -91.8,6,     0.60,6,-999.000,9,   2215.8,2,   2307.4,2,     5.2,-999.0000,-999.000,-999.000,  -999.0,-999.000
   3220CGC92_2,   P13,    83,  1,    121,   1235,2,19921016,0137, -2.7972, 164.9133, 3255,   5960,    590.0,   6.9193,  34.5510,2,  34.5720,2,    100.8,2,  6.8633,    104.8,2,    37.34,2,    32.18,2,     0.00,2,     2.28,2, -999.000,9, -999.000,9, -999.000,9, -999.000,9, -999.000,9,-999.0000,9,  -999.00,9,   -113.1,2,     0.40,2,-999.000,9,   2228.3,2,   2310.9,2,     2.5,-999.0000,-999.000,-999.000,  -999.0,-999.000
   3220CGC92_2,   P13,    83,  1,    120,   1237,2,19921016,0137, -2.7972, 164.9133, 3255,   6955,    689.0,   6.1985,  34.5359,2,  34.5384,2,    100.8,2,  6.1363,    104.7,2,    50.44,2,    34.73,2,     0.00,2,     2.46,2,    0.020,2,    0.012,2, -999.000,9, -999.000,9, -999.000,9,-999.0000,9,  -999.00,9,   -999.0,9,  -999.00,9,-999.000,9,   2248.1,2,   2321.9,2,  -999.0,-999.0000,-999.000,-999.000,  -999.0,-999.000
   3220CGC92_2,   P13,    83,  1,    119,   1025,2,19921016,0137, -2.7972, 164.9133, 3255,   7978,    791.0,   5.4497,  34.5290,2,  34.5354,2,     96.4,2,  5.3822,     95.4,2,    62.80,2,    36.16,2,     0.00,2,     2.58,2, -999.000,9, -999.000,9, -999.000,9, -999.000,9, -999.000,9,-999.0000,9,  -999.00,9,   -145.9,2,     0.36,2,-999.000,9,   2265.9,2,   2333.9,2,     4.0,-999.0000,-999.000,-999.000,  -999.0,-999.000
   3220CGC92_2,   P13,    83,  1,    118,   1118,2,19921016,0137, -2.7972, 164.9133, 3255,   8978,    891.0,   5.0148,  34.5332,2,  34.5396,6,    100.0,2,  4.9411,     94.1,2,    70.90,2,    36.45,2,     0.00,2,     2.65,2,    0.002,2,    0.006,2, -999.000,9, -999.000,9, -999.000,9,-999.0000,9,  -999.00,9,   -999.0,9,  -999.00,9,-999.000,9,   2275.1,2,   2342.5,2,  -999.0,-999.0000,-999.000,-999.000,  -999.0,-999.000
   3220CGC92_2,   P13,    83,  1,    117,   1112,2,19921016,0137, -2.7972, 164.9133, 3255,   9979,    991.0,   4.6289,  34.5410,2,  34.5478,2,     90.8,2,  4.5491,     88.8,6,    80.07,2,    36.97,2,     0.00,2,     2.70,2, -999.000,9, -999.000,9, -999.000,9, -999.000,9, -999.000,9,-999.0000,9,  -999.00,9,   -999.0,9,  -999.00,9,-999.000,9,   2294.9,2,   2352.2,2,  -999.0,-999.0000,-999.000,-999.000,  -999.0,-999.000
   3220CGC92_2,   P13,    83,  1,    116,   1104,2,19921016,0137, -2.7972, 164.9133, 3255,  10966,   1090.0,   4.3020,  34.5464,2,  34.5533,2,     94.9,2,  4.2162,     92.9,2,    87.59,2,    37.24,2,     0.00,2,     2.69,2,    0.001,2,   -0.002,2, -999.000,9, -999.000,9, -999.000,9,-999.0000,9,  -999.00,9,   -999.0,9,  -999.00,9,-999.000,9,   2294.6,2,   2361.1,2,  -999.0,-999.0000,-999.000,-999.000,  -999.0,-999.000
   3220CGC92_2,   P13,    83,  1,    114,   1012,2,19921016,0137, -2.7972, 164.9133, 3255,  11966,   1190.0,   3.9421,  34.5580,2,  34.5653,2,     95.7,2,  3.8507,     95.1,2,    96.15,2,    37.31,2,     0.00,2,     2.66,2, -999.000,9, -999.000,9, -999.000,9, -999.000,9, -999.000,9,-999.0000,9,  -999.00,9,   -999.0,9,  -999.00,9,-999.000,9,   2302.8,2,   2370.7,2,  -999.0,-999.0000,-999.000,-999.000,  -999.0,-999.000
   3220CGC92_2,   P13,    83,  1,    112,   1219,2,19921016,0137, -2.7972, 164.9133, 3255,  13981,   1391.0,   3.2552,  34.5829,2,  34.5945,2,    105.7,2,  3.1536,    106.2,2,   111.29,2,    36.09,2,     0.00,2,     2.62,2, -999.000,9, -999.000,9, -999.000,9, -999.000,9, -999.000,9,-999.0000,9,  -999.00,9,   -999.0,9,  -999.00,9,-999.000,9,   2313.4,2,   2387.1,2,  -999.0,-999.0000,-999.000,-999.000,  -999.0,-999.000
   3220CGC92_2,   P13,    83,  1,    110,   1029,2,19921016,0137, -2.7972, 164.9133, 3255,  15980,   1591.0,   2.8183,  34.6005,2,  34.6063,2,    112.2,2,  2.7050,    112.9,2,   120.41,2,    36.61,2,     0.00,2,     2.70,2, -999.000,9, -999.000,9, -999.000,9, -999.000,9, -999.000,9,-999.0000,9,  -999.00,9,   -999.0,9,  -999.00,9,-999.000,9,   2319.9,2,   2397.6,2,  -999.0,-999.0000,-999.000,-999.000,  -999.0,-999.000
   3220CGC92_2,   P13,    83,  1,    109,   1023,2,19921016,0137, -2.7972, 164.9133, 3255,  17960,   1789.0,   2.4524,  34.6212,2,  34.6251,2,    116.0,2,  2.3271,    115.7,2,   129.78,2,    36.61,2,     0.00,2,     2.69,2, -999.000,9, -999.000,9, -999.000,9, -999.000,9, -999.000,9,-999.0000,9,  -999.00,9,   -999.0,9,  -999.00,9,-999.000,9,   2328.5,2,   2407.4,2,  -999.0,-999.0000,-999.000,-999.000,  -999.0,-999.000
   3220CGC92_2,   P13,    83,  1,    108,   1032,2,19921016,0137, -2.7972, 164.9133, 3255,  19967,   1990.0,   2.1905,  34.6362,2,  34.6419,2,   -999.0,9,  2.0520,    120.5,2,   137.22,2,    36.80,2,     0.00,2,     2.66,2, -999.000,9, -999.000,9, -999.000,9, -999.000,9, -999.000,9,-999.0000,9,  -999.00,9,   -999.0,9,  -999.00,9,-999.000,9,   2333.7,2,   2415.1,2,  -999.0,-999.0000,-999.000,-999.000,  -999.0,-999.000
   3220CGC92_2,   P13,    83,  1,    107,   1037,2,19921016,0137, -2.7972, 164.9133, 3255,  21960,   2190.0,   1.9805,  34.6484,2,  34.6512,2,   -999.0,9,  1.8281,    126.5,2,   140.38,2,    36.43,2,     0.00,2,     2.65,2, -999.000,9, -999.000,9, -999.000,9, -999.000,9, -999.000,9,-999.0000,9,  -999.00,9,   -999.0,9,  -999.00,9,-999.000,9,   2333.0,2,   2417.0,2,  -999.0,-999.0000,-999.000,-999.000,  -999.0,-999.000
   3220CGC92_2,   P13,    83,  1,    106,   1022,2,19921016,0137, -2.7972, 164.9133, 3255,  23988,   2393.0,   1.8406,  34.6568,2,  34.6584,2,    126.7,2,  1.6728,    127.3,2,   145.24,2,    36.12,2,     0.00,2,     2.65,2, -999.000,9, -999.000,9, -999.000,9, -999.000,9, -999.000,9,-999.0000,9,  -999.00,9,   -999.0,9,  -999.00,9,-999.000,9,   2338.3,2,   2419.9,2,  -999.0,-999.0000,-999.000,-999.000,  -999.0,-999.000
   3220CGC92_2,   P13,    83,  1,    105,   1221,2,19921016,0137, -2.7972, 164.9133, 3255,  25962,   2591.0,   1.7856,  34.6630,2,  34.6611,2,    127.6,2,  1.6010,    128.3,2,   146.09,2,    35.70,2,     0.00,2,     2.62,2, -999.000,9, -999.000,9, -999.000,9, -999.000,9, -999.000,9,-999.0000,9,  -999.00,9,   -999.0,9,  -999.00,9,-999.000,9,   2335.4,2,   2422.3,2,  -999.0,-999.0000,-999.000,-999.000,  -999.0,-999.000
   3220CGC92_2,   P13,    83,  1,    104,   1038,2,19921016,0137, -2.7972, 164.9133, 3255,  27987,   2794.0,   1.7026,  34.6673,2,  34.6662,2,    134.3,2,  1.5009,    134.8,2,   146.16,2,    35.41,2,     0.00,2,     2.61,2, -999.000,9, -999.000,9, -999.000,9, -999.000,9, -999.000,9,-999.0000,9,  -999.00,9,   -999.0,9,  -999.00,9,-999.000,9,   2333.3,2,   2423.0,2,  -999.0,-999.0000,-999.000,-999.000,  -999.0,-999.000
   3220CGC92_2,   P13,    83,  1,    103,   1033,2,19921016,0137, -2.7972, 164.9133, 3255,  29976,   2994.0,   1.6386,  34.6713,2,  34.6699,2,    137.4,2,  1.4193,    136.6,2,   148.05,2,    35.47,2,     0.00,2,     2.57,2, -999.000,9, -999.000,9, -999.000,9, -999.000,9, -999.000,9,-999.0000,9,  -999.00,9,   -999.0,9,  -999.00,9,-999.000,9,   2334.2,2,   2423.8,2,  -999.0,-999.0000,-999.000,-999.000,  -999.0,-999.000
   3220CGC92_2,   P13,    83,  1,    102,   1234,2,19921016,0137, -2.7972, 164.9133, 3255,  31742,   3172.0,   1.5806,  34.6752,2,  34.6744,2,    141.2,2,  1.3453,    142.5,2,   146.98,2,    34.73,2,     0.00,2,     2.51,2, -999.000,9, -999.000,9, -999.000,9, -999.000,9, -999.000,9,-999.0000,9,  -999.00,9,   -999.0,9,  -999.00,9,-999.000,9,   2330.0,2,   2424.0,2,  -999.0,-999.0000,-999.000,-999.000,  -999.0,-999.000
   3220CGC92_2,   P13,    83,  1,    101,   1238,2,19921016,0137, -2.7972, 164.9133, 3255,  32761,   3274.0,   1.5736,  34.6772,2,  34.6760,6,    142.9,2,  1.3284,    143.1,2,   146.89,2,    35.12,2,     0.00,2,     2.52,2, -999.000,9, -999.000,9, -999.000,9, -999.000,9, -999.000,9,-999.0000,9,  -999.00,9,   -999.0,9,  -999.00,9,-999.000,9,   2330.2,6,   2422.2,6,  -999.0,-999.0000,-999.000,-999.000,  -999.0,-999.000