BOTTLE,20221003CCHSIOAMB
EXPOCODE,SECT_ID,STNNBR,CASTNO,SAMPNO,BTLNBR,BTLNBR_FLAG_W,DATE,TIME,LATITUDE,LONGITUDE,DEPTH,CTDRAW,CTDPRS,CTDTMP,CTDSAL,CTDSAL_FLAG_W,SALNTY,SALNTY_FLAG_W,CTDOXY,CTDOXY_FLAG_W,THETA,OXYGEN,OXYGEN_FLAG_W,SILCAT,SILCAT_FLAG_W,NITRAT,NITRAT_FLAG_W,NITRIT,NITRIT_FLAG_W,PHSPHT,PHSPHT_FLAG_W,CFC-11,CFC-11_FLAG_W,CFC-12,CFC-12_FLAG_W,CFC113,CFC113_FLAG_W,CCL4,CCL4_FLAG_W,TRITUM,TRITUM_FLAG_W,HELIUM,HELIUM_FLAG_W,DELHE3,DELHE3_FLAG_W,DELC14,DELC14_FLAG_W,DELC13,DELC13_FLAG_W,NEON,NEON_FLAG_W,TCARBN,TCARBN_FLAG_W,ALKALI,ALKALI_FLAG_W,C14ERR,HELIER,DELHER,NEONER,C13ERR,TRITER
,,,,,,,,,,,,DBAR,DBAR,ITS-90,PSS-78,,PSS-78,,UMOL/KG,,DEG C,UMOL/KG,,UMOL/KG,,UMOL/KG,,UMOL/KG,,UMOL/KG,,PMOL/KG,,PMOL/KG,,PMOL/KG,,PMOL/KG,,TU,,NMOL/KG,,PERCNT,,/MILLE,,/MILLE,,NMOL/KG,,UMOL/KG,,UMOL/KG,,/MILLE,NMOL/KG,PERCNT,NMOL/KG,/MILLE,TU
   3220CGC92_1,   P13,    23,  1,    136,   1106,2,19920826,2356, 47.9895, 165.0015, 5669,     91,      6.0,  10.9054,  32.8562,2,  32.8853,2,   -999.0,9, 10.9047,    288.5,2,    28.83,2,    12.15,2,     0.07,2,     1.25,2,    4.011,2,    2.015,2, -999.000,9, -999.000,9, -999.000,9,-999.0000,9,  -999.00,9,     -1.4,2,     1.82,2,-999.000,9,   2032.5,2,   2233.3,2,     3.7,-999.0000,-999.000,-999.000,  -999.0,-999.000
   3220CGC92_1,   P13,    23,  1,    135,   1033,2,19920826,2356, 47.9895, 165.0015, 5669,    242,     21.0,   9.9206,  32.9069,2,  32.9092,2,    303.4,2,  9.9183,    293.8,2,    28.32,2,    12.50,2,     0.06,2,     1.25,2,    4.135,2,    2.056,2, -999.000,9, -999.000,9, -999.000,9,-999.0000,9,  -999.00,9,   -999.0,9,  -999.00,9,-999.000,9,   -999.0,9,   -999.0,9,  -999.0,-999.0000,-999.000,-999.000,  -999.0,-999.000
   3220CGC92_1,   P13,    23,  1,    134,   1109,2,19920826,2356, 47.9895, 165.0015, 5669,    493,     46.0,   4.3340,  33.0497,2,  33.0606,2,    337.5,2,  4.3308,    333.5,2,    36.81,2,    19.21,2,     0.41,2,     1.78,2,    6.350,4,    2.895,2, -999.000,9, -999.000,9, -999.000,9,-999.0000,9,  -999.00,9,   -999.0,9,  -999.00,9,-999.000,9,   -999.0,9,   -999.0,9,  -999.0,-999.0000,-999.000,-999.000,  -999.0,-999.000
   3220CGC92_1,   P13,    23,  1,    133,   1031,2,19920826,2356, 47.9895, 165.0015, 5669,    745,     71.0,   2.2285,  33.0495,2,  33.0707,2,    331.6,2,  2.2248,    328.5,2,    39.84,2,    22.06,2,     0.66,2,     1.90,2,    6.549,2,    2.970,2, -999.000,9, -999.000,9, -999.000,9,-999.0000,9,  -999.00,9,   -999.0,9,  -999.00,9,-999.000,9,   -999.0,9,   -999.0,9,  -999.0,-999.0000,-999.000,-999.000,  -999.0,-999.000
   3220CGC92_1,   P13,    23,  1,    132,   1008,2,19920826,2356, 47.9895, 165.0015, 5669,    984,     95.0,   1.8726,  33.0857,2,  33.1028,2,    320.7,2,  1.8679,    326.7,2,    43.49,2,    23.91,2,     0.00,2,     2.02,2,    6.525,2,    2.962,2, -999.000,9, -999.000,9, -999.000,9,-999.0000,9,  -999.00,9,   -999.0,9,  -999.00,9,-999.000,9,   -999.0,9,   -999.0,9,  -999.0,-999.0000,-999.000,-999.000,  -999.0,-999.000
   3220CGC92_1,   P13,    23,  1,    131,   1030,2,19920826,2356, 47.9895, 165.0015, 5669,   1240,    120.0,   1.6126,  33.1648,2,  33.1743,2,   -999.0,9,  1.6070,    311.2,2,    48.55,2,    26.60,2,     0.00,2,     2.15,2,    6.692,4,    2.805,2, -999.000,9, -999.000,9, -999.000,9,-999.0000,9,  -999.00,9,   -999.0,9,  -999.00,9,-999.000,9,   -999.0,9,   -999.0,9,  -999.0,-999.0000,-999.000,-999.000,  -999.0,-999.000
   3220CGC92_1,   P13,    23,  1,    130,   1032,2,19920826,2356, 47.9895, 165.0015, 5669,   1505,    147.0,   2.2045,  33.4054,2,  33.5348,2,    203.3,2,  2.1967,    163.7,2,    74.52,2,    35.21,2,     0.00,2,     2.77,2,    3.524,2,    1.659,2, -999.000,9, -999.000,9, -999.000,9,-999.0000,9,  -999.00,9,   -999.0,9,  -999.00,9,-999.000,9,   -999.0,9,   -999.0,9,  -999.0,-999.0000,-999.000,-999.000,  -999.0,-999.000
   3220CGC92_1,   P13,    23,  1,    129,   1004,2,19920826,2356, 47.9895, 165.0015, 5669,   1751,    171.0,   3.0743,  33.6825,2,  33.7142,2,    124.5,2,  3.0639,     95.5,2,    87.64,2,    39.88,2,     0.00,2,     2.79,2,    2.454,2,    1.103,2, -999.000,9, -999.000,9, -999.000,9,-999.0000,9,  -999.00,9,   -999.0,9,  -999.00,9,-999.000,9,   -999.0,9,   -999.0,9,  -999.0,-999.0000,-999.000,-999.000,  -999.0,-999.000
   3220CGC92_1,   P13,    23,  1,    128,   1028,2,19920826,2356, 47.9895, 165.0015, 5669,   2076,    203.0,   3.2362,  33.7861,2,  33.8135,2,     98.2,2,  3.2236,     63.4,2,    95.01,2,    42.17,2,     0.00,2,     2.94,2,    1.912,2,    0.841,2, -999.000,9, -999.000,9, -999.000,9,-999.0000,9,  -999.00,9,   -999.0,9,  -999.00,9,-999.000,9,   -999.0,9,   -999.0,9,  -999.0,-999.0000,-999.000,-999.000,  -999.0,-999.000
   3220CGC92_1,   P13,    23,  1,    127,   1117,2,19920826,2356, 47.9895, 165.0015, 5669,   2500,    246.0,   3.3642,  33.8806,2,  33.8917,2,     74.6,2,  3.3485,     46.0,2,   100.74,2,    43.13,2,     0.00,2,     3.03,2, -999.000,9, -999.000,9, -999.000,9, -999.000,9, -999.000,9,-999.0000,9,  -999.00,9,   -999.0,9,  -999.00,9,-999.000,9,   -999.0,9,   -999.0,9,  -999.0,-999.0000,-999.000,-999.000,  -999.0,-999.000
   3220CGC92_1,   P13,    23,  1,    126,   1110,2,19920826,2356, 47.9895, 165.0015, 5669,   3002,    296.0,   3.4502,  33.9628,2,  33.9561,2,   -999.0,9,  3.4309,     37.6,2,   107.10,2,    43.53,2,     0.00,2,     3.05,2,    1.163,2,    0.506,2, -999.000,9, -999.000,9, -999.000,9,-999.0000,9,  -999.00,9,   -999.0,9,  -999.00,9,-999.000,9,   -999.0,9,   -999.0,9,  -999.0,-999.0000,-999.000,-999.000,  -999.0,-999.000
   3220CGC92_1,   P13,    23,  1,    125,   1035,2,19920826,2356, 47.9895, 165.0015, 5669,   3502,    345.0,   3.3232,  34.0091,2,  34.0428,2,     35.3,2,  3.3010,     25.7,2,   112.34,2,    43.10,3,     0.00,2,     3.04,2, -999.000,9, -999.000,9, -999.000,9, -999.000,9, -999.000,9,-999.0000,9,  -999.00,9,   -999.0,9,  -999.00,9,-999.000,9,   -999.0,9,   -999.0,9,  -999.0,-999.0000,-999.000,-999.000,  -999.0,-999.000
   3220CGC92_1,   P13,    23,  1,    124,   1026,2,19920826,2356, 47.9895, 165.0015, 5669,   3996,    394.0,   3.4772,  34.0879,2,  34.0919,2,     30.9,2,  3.4511,     26.2,2,   116.18,2,    42.78,3,     0.00,2,     3.06,2, -999.000,5, -999.000,5, -999.000,9, -999.000,9, -999.000,9,-999.0000,9,  -999.00,9,   -999.0,9,  -999.00,9,-999.000,9,   -999.0,9,   -999.0,9,  -999.0,-999.0000,-999.000,-999.000,  -999.0,-999.000
   3220CGC92_1,   P13,    23,  1,    123,   1014,2,19920826,2356, 47.9895, 165.0015, 5669,   4995,    494.0,   3.2132,  34.1633,2,  34.1648,2,     33.5,2,  3.1811,     35.8,2,   123.65,2,    42.35,3,     0.00,2,     3.10,2,    0.514,2,    0.234,2, -999.000,9, -999.000,9, -999.000,9,-999.0000,9,  -999.00,9,   -999.0,9,  -999.00,9,-999.000,9,   -999.0,9,   -999.0,9,  -999.0,-999.0000,-999.000,-999.000,  -999.0,-999.000
   3220CGC92_1,   P13,    23,  1,    122,   1015,2,19920826,2356, 47.9895, 165.0015, 5669,   6002,    594.0,   3.0913,  34.2313,2,  34.2326,2,     28.9,2,  3.0527,     23.3,2,   132.75,2,    43.14,2,     0.00,2,     3.20,2,    0.272,2,    0.127,2, -999.000,9, -999.000,9, -999.000,9,-999.0000,9,  -999.00,9,   -999.0,9,  -999.00,9,-999.000,9,   -999.0,9,   -999.0,9,  -999.0,-999.0000,-999.000,-999.000,  -999.0,-999.000
   3220CGC92_1,   P13,    23,  1,    121,   1235,2,19920826,2356, 47.9895, 165.0015, 5669,   6997,    694.0,   2.9793,  34.2892,2,  34.3025,2,   -999.0,9,  2.9342,     18.6,2,   138.37,2,    43.49,2,     0.00,2,     3.19,2,    0.104,2,    0.050,2, -999.000,9, -999.000,9, -999.000,9,-999.0000,9,  -999.00,9,   -999.0,9,  -999.00,9,-999.000,9,   -999.0,9,   -999.0,9,  -999.0,-999.0000,-999.000,-999.000,  -999.0,-999.000
   3220CGC92_1,   P13,    23,  1,    120,   1237,2,19920826,2356, 47.9895, 165.0015, 5669,   7995,    793.0,   2.8863,  34.3390,2,  34.3409,2,     21.4,2,  2.8347,     21.7,2,   144.44,2,    43.16,2,     0.00,2,     3.16,2,    0.079,6,    0.035,6, -999.000,9, -999.000,9, -999.000,9,-999.0000,9,  -999.00,9,   -999.0,9,  -999.00,9,-999.000,9,   -999.0,9,   -999.0,9,  -999.0,-999.0000,-999.000,-999.000,  -999.0,-999.000
   3220CGC92_1,   P13,    23,  1,    119,   1025,2,19920826,2356, 47.9895, 165.0015, 5669,   9005,    894.0,   2.7473,  34.3771,2,  34.3811,2,     22.0,2,  2.6893,     21.5,2,   148.98,2,    42.90,2,     0.00,2,     3.15,2,    0.039,2,    0.016,2, -999.000,9, -999.000,9, -999.000,9,-999.0000,9,  -999.00,9,   -999.0,9,  -999.00,9,-999.000,9,   -999.0,9,   -999.0,9,  -999.0,-999.0000,-999.000,-999.000,  -999.0,-999.000
   3220CGC92_1,   P13,    23,  1,    118,   1002,2,19920826,2356, 47.9895, 165.0015, 5669,  10000,    993.0,   2.5964,  34.4111,2,  34.4118,2,     23.0,2,  2.5323,     23.5,2,   154.84,2,    43.13,2,     0.00,2,     3.11,2,    0.056,2,    0.031,2, -999.000,9, -999.000,9, -999.000,9,   1.8830,2,    16.90,2,   -999.0,9,  -999.00,9,-999.000,9,   -999.0,9,   -999.0,9,  -999.0,-999.0000,-999.000,-999.000,  -999.0,-999.000
   3220CGC92_1,   P13,    23,  1,    117,   1005,2,19920826,2356, 47.9895, 165.0015, 5669,  12004,   1193.0,   2.3584,  34.4683,2,  34.4692,2,     32.3,2,  2.2817,     31.7,2,   160.91,2,    42.62,2,     0.00,2,     3.10,2,    0.037,2,    0.014,2, -999.000,9, -999.000,9, -999.000,9,   1.8850,2,    17.70,2,   -999.0,9,  -999.00,9,-999.000,9,   -999.0,9,   -999.0,9,  -999.0,-999.0000,-999.000,-999.000,  -999.0,-999.000
   3220CGC92_1,   P13,    23,  1,    116,   1104,2,19920826,2356, 47.9895, 165.0015, 5669,  14996,   1493.0,   2.0935,  34.5364,2,  34.5319,2,   -999.0,9,  1.9968,     45.4,2,   166.03,2,    41.99,2,     0.00,2,     3.03,2,    0.013,2,    0.000,2, -999.000,9, -999.000,9, -999.000,9,   1.8950,2,    17.80,2,   -999.0,9,  -999.00,9,-999.000,9,   -999.0,9,   -999.0,9,  -999.0,-999.0000,-999.000,-999.000,  -999.0,-999.000
   3220CGC92_1,   P13,    23,  1,    115,   1020,2,19920826,2356, 47.9895, 165.0015, 5669,  18003,   1793.0,   1.9185,  34.5790,2,  34.5783,2,   -999.0,9,  1.8004,     63.5,2,   168.23,2,    40.97,2,     0.00,2,     2.92,2,    0.006,2,   -0.002,2, -999.000,9, -999.000,9, -999.000,9,   1.8910,2,    18.00,2,   -999.0,9,  -999.00,9,-999.000,9,   -999.0,9,   -999.0,9,  -999.0,-999.0000,-999.000,-999.000,  -999.0,-999.000
   3220CGC92_1,   P13,    23,  1,    114,   1120,2,19920826,2356, 47.9895, 165.0015, 5669,  21001,   2094.0,   1.7676,  34.6120,2,  34.6091,3,   -999.0,9,  1.6269,     80.8,2,   168.17,2,    39.89,2,     0.00,2,     2.84,2, -999.000,9, -999.000,9, -999.000,9, -999.000,9, -999.000,9,   1.8910,2,    18.30,2,   -999.0,9,  -999.00,9,-999.000,9,   -999.0,9,   -999.0,9,  -999.0,-999.0000,-999.000,-999.000,  -999.0,-999.000
   3220CGC92_1,   P13,    23,  1,    113,   1112,2,19920826,2356, 47.9895, 165.0015, 5669,  24001,   2394.0,   1.6666,  34.6345,2,  34.6338,2,     99.6,2,  1.5019,    100.3,2,   163.82,2,    38.23,2,     0.00,2,     2.66,3,    0.001,2,    0.001,2, -999.000,9, -999.000,9, -999.000,9,   1.8990,2,    17.70,2,   -999.0,9,  -999.00,9,-999.000,9,   -999.0,9,   -999.0,9,  -999.0,-999.0000,-999.000,-999.000,  -999.0,-999.000
   3220CGC92_1,   P13,    23,  1,    112,   1234,2,19920826,2356, 47.9895, 165.0015, 5669,  26986,   2694.0,   1.5886,  34.6492,2,  34.6515,2,    113.6,2,  1.3986,    113.5,2,   161.19,2,    37.93,2,     0.00,2,     2.63,3, -999.000,9, -999.000,9, -999.000,9, -999.000,9, -999.000,9,   1.9000,2,    17.90,2,   -999.0,9,  -999.00,9,-999.000,9,   -999.0,9,   -999.0,9,  -999.0,-999.0000,-999.000,-999.000,  -999.0,-999.000
   3220CGC92_1,   P13,    23,  1,    111,   1221,2,19920826,2356, 47.9895, 165.0015, 5669,  29962,   2992.0,   1.5336,  34.6605,2,  34.6612,2,    126.2,2,  1.3169,    125.8,2,   157.79,2,    38.00,2,     0.00,2,     2.71,2, -999.000,9, -999.000,9, -999.000,9, -999.000,9, -999.000,9,   1.9010,2,    17.40,2,   -999.0,9,  -999.00,9,-999.000,9,   -999.0,9,   -999.0,9,  -999.0,-999.0000,-999.000,-999.000,  -999.0,-999.000
   3220CGC92_1,   P13,    23,  1,    110,   1012,2,19920826,2356, 47.9895, 165.0015, 5669,  32983,   3295.0,   1.4966,  34.6695,2,  34.6688,2,    135.1,2,  1.2512,    134.6,2,   155.59,2,    37.49,2,     0.00,2,     2.65,2,    0.002,2,   -0.002,2, -999.000,9, -999.000,9, -999.000,9,   1.8980,2,    17.30,2,   -999.0,9,  -999.00,9,-999.000,9,   -999.0,9,   -999.0,9,  -999.0,-999.0000,-999.000,-999.000,  -999.0,-999.000
   3220CGC92_1,   P13,    23,  1,    109,   1041,2,19920826,2356, 47.9895, 165.0015, 5669,  36006,   3598.0,   1.4746,  34.6755,2,  34.6735,2,   -999.0,9,  1.1991,    140.6,2,   153.81,2,    36.92,2,     0.00,2,     2.58,2, -999.000,9, -999.000,9, -999.000,9, -999.000,9, -999.000,9,   1.8960,2,    16.60,2,   -999.0,9,  -999.00,9,-999.000,9,   -999.0,9,   -999.0,9,  -999.0,-999.0000,-999.000,-999.000,  -999.0,-999.000
   3220CGC92_1,   P13,    23,  1,    108,   1003,2,19920826,2356, 47.9895, 165.0015, 5669,  38980,   3896.0,   1.4656,  34.6791,2,  34.6790,2,   -999.0,9,  1.1589,    139.0,4,   152.32,2,    36.25,2,     0.00,2,     2.58,2,   -0.001,2,    0.002,2, -999.000,9, -999.000,9, -999.000,9,   1.8970,2,    16.50,2,   -999.0,9,  -999.00,9,-999.000,9,   -999.0,9,   -999.0,9,  -999.0,-999.0000,-999.000,-999.000,  -999.0,-999.000
   3220CGC92_1,   P13,    23,  1,    107,   1013,2,19920826,2356, 47.9895, 165.0015, 5669,  41984,   4197.0,   1.4676,  34.6825,2,  34.6811,2,   -999.0,9,  1.1279,   -999.0,5,   151.00,2,    36.35,2,     0.00,2,     2.53,2,    0.002,2,    0.003,2, -999.000,9, -999.000,9, -999.000,9,   1.9050,2,    16.10,2,   -999.0,9,  -999.00,9,-999.000,9,   -999.0,9,   -999.0,9,  -999.0,-999.0000,-999.000,-999.000,  -999.0,-999.000
   3220CGC92_1,   P13,    23,  1,    106,   1036,2,19920826,2356, 47.9895, 165.0015, 5669,  44980,   4497.0,   1.4806,  34.6839,2,  34.6838,2,    155.0,2,  1.1066,    153.7,2,   150.41,2,    36.28,2,     0.00,2,     2.51,2, -999.000,9, -999.000,9, -999.000,9, -999.000,9, -999.000,9,   1.9020,2,    15.90,2,   -999.0,9,  -999.00,9,-999.000,9,   -999.0,9,   -999.0,9,  -999.0,-999.0000,-999.000,-999.000,  -999.0,-999.000
   3220CGC92_1,   P13,    23,  1,    105,   1037,2,19920826,2356, 47.9895, 165.0015, 5669,  47991,   4799.0,   1.5006,  34.6862,2,  34.6863,2,    156.7,2,  1.0905,    155.4,2,   149.96,2,    36.04,2,     0.00,2,     2.51,2,    0.005,2,    0.004,6, -999.000,9, -999.000,9, -999.000,9,   1.9000,2,    16.00,2,   -999.0,9,  -999.00,9,-999.000,9,   -999.0,9,   -999.0,9,  -999.0,-999.0000,-999.000,-999.000,  -999.0,-999.000
   3220CGC92_1,   P13,    23,  1,    104,   1029,2,19920826,2356, 47.9895, 165.0015, 5669,  50991,   5099.0,   1.5276,  34.6873,2,  34.6887,2,    157.2,2,  1.0803,    159.3,2,   150.35,2,    36.01,2,     0.00,2,     2.48,2,    0.078,4,    0.135,4, -999.000,9, -999.000,9, -999.000,9,   1.8910,2,    15.20,2,   -999.0,9,  -999.00,9,-999.000,9,   -999.0,9,   -999.0,9,  -999.0,-999.0000,-999.000,-999.000,  -999.0,-999.000
   3220CGC92_1,   P13,    23,  1,    103,   1023,2,19920826,2356, 47.9895, 165.0015, 5669,  53977,   5397.0,   1.5606,  34.6869,2,  34.6830,4,    158.0,2,  1.0749,    157.4,2,   151.40,2,    35.64,2,     0.00,2,     2.47,2, -999.000,9, -999.000,9, -999.000,9, -999.000,9, -999.000,9,   1.9020,2,    15.40,2,   -999.0,9,  -999.00,9,-999.000,9,   -999.0,9,   -999.0,9,  -999.0,-999.0000,-999.000,-999.000,  -999.0,-999.000
   3220CGC92_1,   P13,    23,  1,    102,   2001,2,19920826,2356, 47.9895, 165.0015, 5669,  56999,   5698.0,   1.5996,  34.6880,2,  34.6889,2,    157.7,2,  1.0737,    158.4,2,   151.68,2,    36.19,2,     0.00,2,     2.43,2,   -0.003,2,    0.032,4, -999.000,9, -999.000,9, -999.000,9,   1.9020,2,    15.60,2,   -999.0,9,  -999.00,9,-999.000,9,   -999.0,9,   -999.0,9,  -999.0,-999.0000,-999.000,-999.000,  -999.0,-999.000
   3220CGC92_1,   P13,    23,  1,    101,   1038,2,19920826,2356, 47.9895, 165.0015, 5669,  59516,   5949.0,   1.6336,  34.6871,2,  34.6856,2,    157.8,2,  1.0733,     68.9,4,   152.53,2,    35.79,2,     0.00,2,     2.44,2,    0.004,2,    0.005,2, -999.000,9, -999.000,9, -999.000,9,   1.8970,2,    15.50,2,   -999.0,9,  -999.00,9,-999.000,9,   -999.0,9,   -999.0,9,  -999.0,-999.0000,-999.000,-999.000,  -999.0,-999.000