BOTTLE,20221003CCHSIOAMB
EXPOCODE,SECT_ID,STNNBR,CASTNO,SAMPNO,BTLNBR,BTLNBR_FLAG_W,DATE,TIME,LATITUDE,LONGITUDE,DEPTH,CTDRAW,CTDPRS,CTDTMP,CTDSAL,CTDSAL_FLAG_W,SALNTY,SALNTY_FLAG_W,CTDOXY,CTDOXY_FLAG_W,THETA,OXYGEN,OXYGEN_FLAG_W,SILCAT,SILCAT_FLAG_W,NITRAT,NITRAT_FLAG_W,NITRIT,NITRIT_FLAG_W,PHSPHT,PHSPHT_FLAG_W,CFC-11,CFC-11_FLAG_W,CFC-12,CFC-12_FLAG_W,CFC113,CFC113_FLAG_W,CCL4,CCL4_FLAG_W,TRITUM,TRITUM_FLAG_W,HELIUM,HELIUM_FLAG_W,DELHE3,DELHE3_FLAG_W,DELC14,DELC14_FLAG_W,DELC13,DELC13_FLAG_W,NEON,NEON_FLAG_W,TCARBN,TCARBN_FLAG_W,ALKALI,ALKALI_FLAG_W,C14ERR,HELIER,DELHER,NEONER,C13ERR,TRITER
,,,,,,,,,,,,DBAR,DBAR,ITS-90,PSS-78,,PSS-78,,UMOL/KG,,DEG C,UMOL/KG,,UMOL/KG,,UMOL/KG,,UMOL/KG,,UMOL/KG,,PMOL/KG,,PMOL/KG,,PMOL/KG,,PMOL/KG,,TU,,NMOL/KG,,PERCNT,,/MILLE,,/MILLE,,NMOL/KG,,UMOL/KG,,UMOL/KG,,/MILLE,NMOL/KG,PERCNT,NMOL/KG,/MILLE,TU
   3220CGC92_1,   P13,    10,  1,    132,   1008,2,19920821,2250, 53.5560, 162.0613, 3386,     98,      7.0,  10.3745,  32.8524,2,  32.8701,2,   -999.0,9, 10.3737,    294.4,2,    21.39,2,     6.21,2,     0.00,2,     0.75,2,    4.135,2,    2.028,2,    0.415,2,    6.131,2, -999.000,9,-999.0000,9,  -999.00,9,   -999.0,9,  -999.00,9,-999.000,9,   2013.7,2,   2240.5,2,  -999.0,-999.0000,-999.000,-999.000,  -999.0,-999.000
   3220CGC92_1,   P13,    10,  1,    131,   1030,2,19920821,2250, 53.5560, 162.0613, 3386,    249,     22.0,  10.0006,  32.8854,2,  32.8858,2,    268.8,2,  9.9981,    297.4,2,    22.65,2,     8.69,2,     0.00,2,     0.84,2,    4.295,2,    2.129,2,    0.428,2,    6.212,2, -999.000,9,-999.0000,9,  -999.00,9,   -999.0,9,  -999.00,9,-999.000,9,   -999.0,9,   -999.0,9,  -999.0,-999.0000,-999.000,-999.000,  -999.0,-999.000
   3220CGC92_1,   P13,    10,  1,    130,   1032,2,19920821,2250, 53.5560, 162.0613, 3386,    503,     47.0,   2.6574,  33.1277,2,  33.1080,2,    322.1,2,  2.6548,    335.0,2,    39.06,2,    20.27,2,     0.28,2,     1.64,2,    5.842,2,    2.763,2,    0.564,2,    9.190,2, -999.000,9,-999.0000,9,  -999.00,9,   -999.0,9,  -999.00,9,-999.000,9,   -999.0,9,   -999.0,9,  -999.0,-999.0000,-999.000,-999.000,  -999.0,-999.000
   3220CGC92_1,   P13,    10,  1,    129,   1004,2,19920821,2250, 53.5560, 162.0613, 3386,    750,     71.0,   1.7596,  33.2046,2,  33.1667,2,    329.5,2,  1.7562,    315.9,2,    46.46,2,    26.75,2,     0.00,2,     1.94,2,    5.986,2,    2.806,2,    0.569,2,    9.318,2, -999.000,9,-999.0000,9,  -999.00,9,   -999.0,9,  -999.00,9,-999.000,9,   -999.0,9,   -999.0,9,  -999.0,-999.0000,-999.000,-999.000,  -999.0,-999.000
   3220CGC92_1,   P13,    10,  1,    128,   1028,2,19920821,2250, 53.5560, 162.0613, 3386,   1001,     96.0,   1.6786,  33.2583,2,  33.2385,2,   -999.0,9,  1.6740,    308.7,4,    54.52,2,    29.11,2,     0.00,2,     2.03,2,    5.901,2,    2.786,2,    0.585,2,    9.438,2, -999.000,9,-999.0000,9,  -999.00,9,   -999.0,9,  -999.00,9,-999.000,9,   -999.0,9,   -999.0,9,  -999.0,-999.0000,-999.000,-999.000,  -999.0,-999.000
   3220CGC92_1,   P13,    10,  1,    127,   1117,2,19920821,2250, 53.5560, 162.0613, 3386,   1249,    121.0,   2.2954,  33.4111,2,  33.3889,4,    264.9,2,  2.2890,    239.4,2,    65.00,2,    33.69,2,     0.00,2,     2.31,2,    4.724,2,    2.235,2,    0.505,2,    6.916,2, -999.000,9,-999.0000,9,  -999.00,9,   -999.0,9,  -999.00,9,-999.000,9,   -999.0,9,   -999.0,9,  -999.0,-999.0000,-999.000,-999.000,  -999.0,-999.000
   3220CGC92_1,   P13,    10,  1,    126,   1110,2,19920821,2250, 53.5560, 162.0613, 3386,   1503,    146.0,   3.3112,  33.6933,2,  33.6696,2,    113.4,2,  3.3021,    109.3,2,    84.56,2,    40.20,2,     0.00,2,     2.76,2,    2.655,2,    1.212,2,    0.272,2,    3.152,2, -999.000,9,-999.0000,9,  -999.00,9,   -999.0,9,  -999.00,9,-999.000,9,   -999.0,9,   -999.0,9,  -999.0,-999.0000,-999.000,-999.000,  -999.0,-999.000
   3220CGC92_1,   P13,    10,  1,    125,   1035,2,19920821,2250, 53.5560, 162.0613, 3386,   2003,    196.0,   3.6051,  33.8772,2,  33.8676,2,     47.9,2,  3.5923,     39.7,2,    98.48,2,    43.55,2,     0.00,2,     2.99,2,    1.464,2,    0.647,2, -999.000,9, -999.000,9, -999.000,9,-999.0000,9,  -999.00,9,   -999.0,9,  -999.00,9,-999.000,9,   -999.0,9,   -999.0,9,  -999.0,-999.0000,-999.000,-999.000,  -999.0,-999.000
   3220CGC92_1,   P13,    10,  1,    124,   1026,2,19920821,2250, 53.5560, 162.0613, 3386,   2496,    245.0,   3.5661,  33.9480,2,  33.9402,2,   -999.0,9,  3.5501,     26.0,2,   104.86,2,    44.33,2,     0.00,2,     3.06,2,    1.060,2,    0.480,2,    0.092,2,    1.308,2, -999.000,9,-999.0000,9,  -999.00,9,   -999.0,9,  -999.00,9,-999.000,9,   -999.0,9,   -999.0,9,  -999.0,-999.0000,-999.000,-999.000,  -999.0,-999.000
   3220CGC92_1,   P13,    10,  1,    123,   1014,2,19920821,2250, 53.5560, 162.0613, 3386,   3004,    296.0,   3.5741,  34.0216,2,  34.0070,2,   -999.0,9,  3.5546,     23.1,2,   110.48,2,    44.89,2,     0.00,2,     3.05,2,    0.771,2,    0.361,2,    0.093,2,    0.985,2, -999.000,9,-999.0000,9,  -999.00,9,   -999.0,9,  -999.00,9,-999.000,9,   -999.0,9,   -999.0,9,  -999.0,-999.0000,-999.000,-999.000,  -999.0,-999.000
   3220CGC92_1,   P13,    10,  1,    122,   1015,2,19920821,2250, 53.5560, 162.0613, 3386,   3506,    346.0,   3.5332,  34.0726,2,  34.0605,2,     20.1,2,  3.5102,     21.4,2,   116.15,2,    44.69,2,     0.00,2,     3.07,2,    0.591,2,    0.280,2, -999.000,9, -999.000,9, -999.000,9,-999.0000,9,  -999.00,9,   -999.0,9,  -999.00,9,-999.000,9,   -999.0,9,   -999.0,9,  -999.0,-999.0000,-999.000,-999.000,  -999.0,-999.000
   3220CGC92_1,   P13,    10,  1,    121,   1235,2,19920821,2250, 53.5560, 162.0613, 3386,   3994,    394.0,   3.4852,  34.1152,2,  34.1133,2,     19.6,2,  3.4590,     18.9,2,   120.34,2,    44.15,2,     0.00,2,     3.25,2,    0.432,2,    0.200,2, -999.000,9, -999.000,9, -999.000,9,-999.0000,9,  -999.00,9,   -999.0,9,  -999.00,9,-999.000,9,   -999.0,9,   -999.0,9,  -999.0,-999.0000,-999.000,-999.000,  -999.0,-999.000
   3220CGC92_1,   P13,    10,  1,    120,   1237,2,19920821,2250, 53.5560, 162.0613, 3386,   4492,    444.0,   3.4112,  34.1565,2,  34.1566,2,     16.2,2,  3.3818,     17.5,2,   124.91,2,    44.39,2,     0.00,2,     3.24,2,    0.314,2,    0.148,2, -999.000,9, -999.000,9, -999.000,9,-999.0000,9,  -999.00,9,   -999.0,9,  -999.00,9,-999.000,9,   -999.0,9,   -999.0,9,  -999.0,-999.0000,-999.000,-999.000,  -999.0,-999.000
   3220CGC92_1,   P13,    10,  1,    119,   1025,2,19920821,2250, 53.5560, 162.0613, 3386,   4997,    494.0,   3.3302,  34.1884,2,  34.1894,2,     16.5,2,  3.2976,     17.1,2,   128.86,2,    44.02,2,     0.00,2,     3.25,2,    0.250,2,    0.115,2,    0.044,2,    0.448,2, -999.000,9,-999.0000,9,  -999.00,9,   -999.0,9,  -999.00,9,-999.000,9,   -999.0,9,   -999.0,9,  -999.0,-999.0000,-999.000,-999.000,  -999.0,-999.000
   3220CGC92_1,   P13,    10,  1,    118,   1002,2,19920821,2250, 53.5560, 162.0613, 3386,   6005,    595.0,   3.1952,  34.2418,2,  34.2407,2,     16.0,2,  3.1561,     16.6,2,   134.29,2,    43.68,2,     0.00,2,     3.17,3,    0.196,3,    0.077,3,    0.027,2,    0.352,2, -999.000,9,-999.0000,9,  -999.00,9,   -999.0,9,  -999.00,9,-999.000,9,   -999.0,9,   -999.0,9,  -999.0,-999.0000,-999.000,-999.000,  -999.0,-999.000
   3220CGC92_1,   P13,    10,  1,    117,   1005,2,19920821,2250, 53.5560, 162.0613, 3386,   6965,    690.0,   3.0463,  34.2893,2,  34.2922,2,     15.4,2,  3.0011,     16.6,2,   142.17,2,    44.02,2,     0.00,2,     3.20,2,    0.114,2,    0.058,2, -999.000,9, -999.000,9, -999.000,9,-999.0000,9,  -999.00,9,   -999.0,9,  -999.00,9,-999.000,9,   -999.0,9,   -999.0,9,  -999.0,-999.0000,-999.000,-999.000,  -999.0,-999.000
   3220CGC92_1,   P13,    10,  1,    116,   1104,2,19920821,2250, 53.5560, 162.0613, 3386,   8000,    794.0,   2.9143,  34.3278,2,  34.3306,2,     15.9,2,  2.8624,     17.0,2,   148.58,2,    43.35,2,     0.00,2,     3.19,2,    0.074,2,    0.066,3, -999.000,9, -999.000,9, -999.000,9,-999.0000,9,  -999.00,9,   -999.0,9,  -999.00,9,-999.000,9,   -999.0,9,   -999.0,9,  -999.0,-999.0000,-999.000,-999.000,  -999.0,-999.000
   3220CGC92_1,   P13,    10,  1,    115,   1020,2,19920821,2250, 53.5560, 162.0613, 3386,   9000,    893.0,   2.7883,  34.3691,2,  34.3660,2,     18.3,2,  2.7301,     18.4,2,   152.19,2,    43.45,2,     0.00,2,     3.17,2,    0.055,2,    0.025,2, -999.000,9, -999.000,9, -999.000,9,-999.0000,9,  -999.00,9,   -999.0,9,  -999.00,9,-999.000,9,   -999.0,9,   -999.0,9,  -999.0,-999.0000,-999.000,-999.000,  -999.0,-999.000
   3220CGC92_1,   P13,    10,  1,    114,   1120,2,19920821,2250, 53.5560, 162.0613, 3386,  10004,    994.0,   2.6704,  34.4036,2,  34.4002,2,     23.2,2,  2.6056,     21.7,2,   154.57,2,    43.18,2,     0.00,2,     3.08,3,    0.157,4,    0.024,2, -999.000,9, -999.000,9, -999.000,9,-999.0000,9,  -999.00,9,   -999.0,9,  -999.00,9,-999.000,9,   -999.0,9,   -999.0,9,  -999.0,-999.0000,-999.000,-999.000,  -999.0,-999.000
   3220CGC92_1,   P13,    10,  1,    113,   1112,2,19920821,2250, 53.5560, 162.0613, 3386,  12001,   1193.0,   2.4244,  34.4625,2,  34.4551,2,     25.6,2,  2.3470,     26.2,2,   162.53,2,    42.43,2,     0.00,2,     3.08,3,    0.015,2,    0.007,2, -999.000,9, -999.000,9, -999.000,9,-999.0000,9,  -999.00,9,   -999.0,9,  -999.00,9,-999.000,9,   -999.0,9,   -999.0,9,  -999.0,-999.0000,-999.000,-999.000,  -999.0,-999.000
   3220CGC92_1,   P13,    10,  1,    112,   1234,2,19920821,2250, 53.5560, 162.0613, 3386,  14003,   1393.0,   2.2275,  34.5055,2,  34.5009,2,     31.9,2,  2.1369,     34.9,2,   172.55,2,    42.90,2,     0.00,2,     3.23,3,    0.008,2,   -0.021,2, -999.000,9, -999.000,9, -999.000,9,-999.0000,9,  -999.00,9,   -999.0,9,  -999.00,9,-999.000,9,   -999.0,9,   -999.0,9,  -999.0,-999.0000,-999.000,-999.000,  -999.0,-999.000
   3220CGC92_1,   P13,    10,  1,    111,   1221,2,19920821,2250, 53.5560, 162.0613, 3386,  16000,   1593.0,   2.0725,  34.5418,2,  34.5422,2,     44.9,2,  1.9683,     45.4,2,   178.62,2,    42.43,2,     0.00,2,     3.13,2,    0.002,2,   -0.021,2, -999.000,9, -999.000,9, -999.000,9,-999.0000,9,  -999.00,9,   -999.0,9,  -999.00,9,-999.000,9,   -999.0,9,   -999.0,9,  -999.0,-999.0000,-999.000,-999.000,  -999.0,-999.000
   3220CGC92_1,   P13,    10,  1,    110,   1118,2,19920821,2250, 53.5560, 162.0613, 3386,  17990,   1792.0,   1.9655,  34.5694,2,  34.5693,2,     57.5,2,  1.8468,     56.5,2,   180.41,2,    41.80,2,     0.00,2,     3.12,2,    0.006,2,   -0.021,2, -999.000,9, -999.000,9, -999.000,9,-999.0000,9,  -999.00,9,   -999.0,9,  -999.00,9,-999.000,9,   -999.0,9,   -999.0,9,  -999.0,-999.0000,-999.000,-999.000,  -999.0,-999.000
   3220CGC92_1,   P13,    10,  1,    109,   1113,2,19920821,2250, 53.5560, 162.0613, 3386,  19987,   1992.0,   1.8716,  34.5925,2,  34.5904,2,     69.3,2,  1.7378,     68.6,2,   178.63,2,    41.65,2,     0.00,2,     3.07,2,    0.006,2,   -0.021,2, -999.000,9, -999.000,9, -999.000,9,-999.0000,9,  -999.00,9,   -999.0,9,  -999.00,9,-999.000,9,   -999.0,9,   -999.0,9,  -999.0,-999.0000,-999.000,-999.000,  -999.0,-999.000
   3220CGC92_1,   P13,    10,  1,    108,   1016,2,19920821,2250, 53.5560, 162.0613, 3386,  21997,   2194.0,   1.7856,  34.6111,2,  34.6153,2,     83.3,2,  1.6362,     84.1,2,   174.23,2,    40.16,2,     0.00,2,     2.98,2,    0.007,2,    0.010,2, -999.000,9, -999.000,9, -999.000,9,-999.0000,9,  -999.00,9,   -999.0,9,  -999.00,9,-999.000,9,   -999.0,9,   -999.0,9,  -999.0,-999.0000,-999.000,-999.000,  -999.0,-999.000
   3220CGC92_1,   P13,    10,  1,    107,   1022,2,19920821,2250, 53.5560, 162.0613, 3386,  24018,   2396.0,   1.7156,  34.6276,2,  34.6299,2,   -999.0,9,  1.5499,     96.0,2,   171.22,2,    39.77,2,     0.00,2,     2.86,3,   -0.005,2,    0.009,2, -999.000,9, -999.000,9, -999.000,9,-999.0000,9,  -999.00,9,   -999.0,9,  -999.00,9,-999.000,9,   -999.0,9,   -999.0,9,  -999.0,-999.0000,-999.000,-999.000,  -999.0,-999.000
   3220CGC92_1,   P13,    10,  1,    106,   1036,2,19920821,2250, 53.5560, 162.0613, 3386,  26002,   2595.0,   1.6516,  34.6405,2,  34.6360,2,    102.9,2,  1.4693,    106.9,2,   168.44,2,    39.50,2,     0.00,2,     2.89,2,   -0.005,2,   -0.006,2,    0.087,4,    0.061,2, -999.000,9,-999.0000,9,  -999.00,9,   -999.0,9,  -999.00,9,-999.000,9,   -999.0,9,   -999.0,9,  -999.0,-999.0000,-999.000,-999.000,  -999.0,-999.000
   3220CGC92_1,   P13,    10,  1,    105,   1037,2,19920821,2250, 53.5560, 162.0613, 3386,  29002,   2896.0,   1.5876,  34.6530,2,  34.6497,2,    111.8,2,  1.3788,    115.7,2,   172.44,2,    38.32,2,     0.00,2,     2.84,2,    0.001,6,    0.005,2, -999.000,9, -999.000,9, -999.000,9,-999.0000,9,  -999.00,9,   -999.0,9,  -999.00,9,-999.000,9,   -999.0,9,   -999.0,9,  -999.0,-999.0000,-999.000,-999.000,  -999.0,-999.000
   3220CGC92_1,   P13,    10,  1,    104,      0,4,19920821,2250, 53.5560, 162.0613, 3386,  29998,   2996.0,   1.5746,  34.6552,2,-999.0000,9,    112.2,2,  1.3566,   -999.0,9,  -999.00,5,  -999.00,9,  -999.00,9,  -999.00,5, -999.000,9, -999.000,9, -999.000,9, -999.000,9, -999.000,9,-999.0000,9,  -999.00,9,   -999.0,9,  -999.00,9,-999.000,9,   -999.0,9,   -999.0,9,  -999.0,-999.0000,-999.000,-999.000,  -999.0,-999.000
   3220CGC92_1,   P13,    10,  1,    103,   1023,2,19920821,2250, 53.5560, 162.0613, 3386,  32000,   3197.0,   1.5476,  34.6614,2,  34.6684,4,    121.2,2,  1.3107,   -999.0,5,  -999.00,5,  -999.00,9,  -999.00,9,  -999.00,5, -999.000,5, -999.000,5, -999.000,9, -999.000,9, -999.000,9,-999.0000,9,  -999.00,9,   -999.0,9,  -999.00,9,-999.000,9,   -999.0,9,   -999.0,9,  -999.0,-999.0000,-999.000,-999.000,  -999.0,-999.000
   3220CGC92_1,   P13,    10,  1,    102,   2001,2,19920821,2250, 53.5560, 162.0613, 3386,  33002,   3298.0,   1.5386,  34.6625,2,  34.6614,2,    122.8,2,  1.2920,    126.3,2,   172.22,2,    37.76,2,     0.00,2,     2.71,2,   -0.005,2,    0.032,4, -999.000,9, -999.000,9, -999.000,9,-999.0000,9,  -999.00,9,   -999.0,9,  -999.00,9,-999.000,9,   -999.0,9,   -999.0,9,  -999.0,-999.0000,-999.000,-999.000,  -999.0,-999.000
   3220CGC92_1,   P13,    10,  1,    101,   1038,2,19920821,2250, 53.5560, 162.0613, 3386,  35321,   3529.0,   1.4896,  34.6723,2,  34.6699,6,    134.9,2,  1.2208,    137.6,2,   164.37,2,    37.46,2,     0.00,2,     2.68,2,    0.006,2,   -0.021,2,    0.000,2,    0.045,2, -999.000,9,-999.0000,9,  -999.00,9,   -999.0,9,  -999.00,9,-999.000,9,   -999.0,9,   -999.0,9,  -999.0,-999.0000,-999.000,-999.000,  -999.0,-999.000