BOTTLE,20221003CCHSIOAMB
EXPOCODE,SECT_ID,STNNBR,CASTNO,SAMPNO,BTLNBR,BTLNBR_FLAG_W,DATE,TIME,LATITUDE,LONGITUDE,DEPTH,CTDRAW,CTDPRS,CTDTMP,CTDSAL,CTDSAL_FLAG_W,SALNTY,SALNTY_FLAG_W,CTDOXY,CTDOXY_FLAG_W,THETA,OXYGEN,OXYGEN_FLAG_W,SILCAT,SILCAT_FLAG_W,NITRAT,NITRAT_FLAG_W,NITRIT,NITRIT_FLAG_W,PHSPHT,PHSPHT_FLAG_W,CFC-11,CFC-11_FLAG_W,CFC-12,CFC-12_FLAG_W,CFC113,CFC113_FLAG_W,CCL4,CCL4_FLAG_W,TRITUM,TRITUM_FLAG_W,HELIUM,HELIUM_FLAG_W,DELHE3,DELHE3_FLAG_W,DELC14,DELC14_FLAG_W,DELC13,DELC13_FLAG_W,NEON,NEON_FLAG_W,TCARBN,TCARBN_FLAG_W,ALKALI,ALKALI_FLAG_W,C14ERR,HELIER,DELHER,NEONER,C13ERR,TRITER
,,,,,,,,,,,,DBAR,DBAR,ITS-90,PSS-78,,PSS-78,,UMOL/KG,,DEG C,UMOL/KG,,UMOL/KG,,UMOL/KG,,UMOL/KG,,UMOL/KG,,PMOL/KG,,PMOL/KG,,PMOL/KG,,PMOL/KG,,TU,,NMOL/KG,,PERCNT,,/MILLE,,/MILLE,,NMOL/KG,,UMOL/KG,,UMOL/KG,,/MILLE,NMOL/KG,PERCNT,NMOL/KG,/MILLE,TU
   3220CGC92_1,   P13,    26,  1,    135,   1033,2,19920827,2247, 46.4997, 165.0177, 5650,     98,      7.0,  12.7329,  32.8710,2,  32.8977,2,    269.1,2, 12.7320,    278.9,2,    27.39,2,     9.27,2,     0.08,2,     1.09,2, -999.000,9, -999.000,9, -999.000,9, -999.000,9, -999.000,9,-999.0000,9,  -999.00,9,   -999.0,9,  -999.00,9,-999.000,9,   -999.0,9,   -999.0,9,  -999.0,-999.0000,-999.000,-999.000,  -999.0,-999.000
   3220CGC92_1,   P13,    26,  1,    136,   1106,2,19920827,2247, 46.4997, 165.0177, 5650,     98,      7.0,  12.7329,  32.8710,2,-999.0000,9,    269.1,2, 12.7320,   -999.0,9,  -999.00,5,  -999.00,9,  -999.00,9,  -999.00,5, -999.000,9, -999.000,9, -999.000,9, -999.000,9, -999.000,9,-999.0000,9,  -999.00,9,   -999.0,9,  -999.00,9,-999.000,9,   2015.2,6,   2236.1,6,  -999.0,-999.0000,-999.000,-999.000,  -999.0,-999.000
   3220CGC92_1,   P13,    26,  1,    134,   1109,2,19920827,2247, 46.4997, 165.0177, 5650,    242,     21.0,  11.0823,  32.9574,2,  32.9559,2,    285.5,2, 11.0798,    286.9,2,    27.55,2,     9.85,2,     0.12,2,     1.12,2, -999.000,9, -999.000,9, -999.000,9, -999.000,9, -999.000,9,-999.0000,9,  -999.00,9,   -999.0,9,  -999.00,9,-999.000,9,   2017.7,2,   2237.9,2,  -999.0,-999.0000,-999.000,-999.000,  -999.0,-999.000
   3220CGC92_1,   P13,    26,  1,    133,   1031,2,19920827,2247, 46.4997, 165.0177, 5650,    498,     46.0,   3.3852,  33.1001,2,  33.3898,2,    323.3,2,  3.3824,    323.0,2,    29.67,2,    14.06,2,     0.15,2,     1.34,2, -999.000,9, -999.000,9, -999.000,9, -999.000,9, -999.000,9,-999.0000,9,  -999.00,9,   -999.0,9,  -999.00,9,-999.000,9,   2086.9,2,   2254.2,2,  -999.0,-999.0000,-999.000,-999.000,  -999.0,-999.000
   3220CGC92_1,   P13,    26,  1,    132,   1008,2,19920827,2247, 46.4997, 165.0177, 5650,    746,     71.0,   2.4514,  33.0795,2,  33.4130,2,   -999.0,9,  2.4476,    308.9,2,    31.23,2,    16.24,2,     0.50,2,     1.46,2, -999.000,9, -999.000,9, -999.000,9, -999.000,9, -999.000,9,-999.0000,9,  -999.00,9,   -999.0,9,  -999.00,9,-999.000,9,   2102.8,2,   2254.1,2,  -999.0,-999.0000,-999.000,-999.000,  -999.0,-999.000
   3220CGC92_1,   P13,    26,  1,    131,   1030,2,19920827,2247, 46.4997, 165.0177, 5650,   1004,     97.0,   1.8666,  33.1300,2,  33.4467,4,   -999.0,9,  1.8618,    298.8,2,    33.31,2,    18.42,2,     0.00,2,     1.52,2, -999.000,9, -999.000,9, -999.000,9, -999.000,9, -999.000,9,-999.0000,9,  -999.00,9,   -999.0,9,  -999.00,9,-999.000,9,   2112.7,2,   2251.0,2,  -999.0,-999.0000,-999.000,-999.000,  -999.0,-999.000
   3220CGC92_1,   P13,    26,  1,    130,   1032,2,19920827,2247, 46.4997, 165.0177, 5650,   1240,    120.0,   2.0905,  33.2588,2,-999.0000,5,   -999.0,9,  2.0844,    289.0,2,    36.68,2,    19.56,2,     0.00,2,     1.59,2, -999.000,9, -999.000,9, -999.000,9, -999.000,9, -999.000,9,-999.0000,9,  -999.00,9,   -999.0,9,  -999.00,9,-999.000,9,   2125.0,2,   2257.6,2,  -999.0,-999.0000,-999.000,-999.000,  -999.0,-999.000
   3220CGC92_1,   P13,    26,  1,    129,   1004,2,19920827,2247, 46.4997, 165.0177, 5650,   1498,    146.0,   2.3844,  33.4010,2,-999.0000,5,   -999.0,9,  2.3765,    254.0,2,    42.18,2,    22.09,2,     0.00,2,     1.72,2, -999.000,9, -999.000,9, -999.000,9, -999.000,9, -999.000,9,-999.0000,9,  -999.00,9,   -999.0,9,  -999.00,9,-999.000,9,   2147.6,2,   2263.3,2,  -999.0,-999.0000,-999.000,-999.000,  -999.0,-999.000
   3220CGC92_1,   P13,    26,  1,    128,   1028,2,19920827,2247, 46.4997, 165.0177, 5650,   1738,    170.0,   2.7014,  33.5453,2,-999.0000,5,   -999.0,9,  2.6916,    195.1,2,    59.15,2,    28.40,2,     0.00,2,     2.19,2, -999.000,9, -999.000,9, -999.000,9, -999.000,9, -999.000,9,-999.0000,9,  -999.00,9,   -999.0,9,  -999.00,9,-999.000,9,   2199.6,2,   2277.0,2,  -999.0,-999.0000,-999.000,-999.000,  -999.0,-999.000
   3220CGC92_1,   P13,    26,  1,    127,   1117,2,19920827,2247, 46.4997, 165.0177, 5650,   1998,    196.0,   3.1193,  33.6782,2,-999.0000,5,   -999.0,9,  3.1073,    166.6,2,    70.23,2,    32.19,2,     0.00,2,     2.48,2, -999.000,9, -999.000,9, -999.000,9, -999.000,9, -999.000,9,-999.0000,9,  -999.00,9,   -999.0,9,  -999.00,9,-999.000,9,   2230.6,2,   2279.9,2,  -999.0,-999.0000,-999.000,-999.000,  -999.0,-999.000
   3220CGC92_1,   P13,    26,  1,    126,   1110,2,19920827,2247, 46.4997, 165.0177, 5650,   2494,    245.0,   3.2832,  33.7885,2,-999.0000,5,    142.0,2,  3.2678,    169.1,3,    69.63,2,    32.35,2,     0.00,2,     2.46,2, -999.000,9, -999.000,9, -999.000,9, -999.000,9, -999.000,9,-999.0000,9,  -999.00,9,   -999.0,9,  -999.00,9,-999.000,9,   2228.2,2,   2306.1,2,  -999.0,-999.0000,-999.000,-999.000,  -999.0,-999.000
   3220CGC92_1,   P13,    26,  1,    125,   1035,2,19920827,2247, 46.4997, 165.0177, 5650,   3001,    295.0,   3.1242,  33.8452,2,-999.0000,5,    113.5,2,  3.1059,    100.3,2,    90.74,2,    37.17,2,     0.09,2,     2.81,2, -999.000,9, -999.000,9, -999.000,9, -999.000,9, -999.000,9,-999.0000,9,  -999.00,9,   -999.0,9,  -999.00,9,-999.000,9,   2284.5,2,   2304.6,2,  -999.0,-999.0000,-999.000,-999.000,  -999.0,-999.000
   3220CGC92_1,   P13,    26,  1,    124,   1026,2,19920827,2247, 46.4997, 165.0177, 5650,   3487,    344.0,   3.1173,  33.9159,2,  33.9322,2,     62.7,2,  3.0957,     81.0,2,    98.74,2,    38.62,2,     0.00,2,     2.94,2, -999.000,9, -999.000,9, -999.000,9, -999.000,9, -999.000,9,-999.0000,9,  -999.00,9,   -999.0,9,  -999.00,9,-999.000,9,   2302.0,2,   2313.3,2,  -999.0,-999.0000,-999.000,-999.000,  -999.0,-999.000
   3220CGC92_1,   P13,    26,  1,    123,   1014,2,19920827,2247, 46.4997, 165.0177, 5650,   4004,    395.0,   3.2762,  33.9956,2,  33.9836,2,     64.1,2,  3.2508,     58.1,2,   108.50,2,    41.57,2,     0.00,2,     3.24,2, -999.000,9, -999.000,9, -999.000,9, -999.000,9, -999.000,9,-999.0000,9,  -999.00,9,   -999.0,9,  -999.00,9,-999.000,9,   2323.5,2,   2321.2,2,  -999.0,-999.0000,-999.000,-999.000,  -999.0,-999.000
   3220CGC92_1,   P13,    26,  1,    122,   1015,3,19920827,2247, 46.4997, 165.0177, 5650,   5007,    495.0,   3.2962,  34.1181,2,-999.0000,9,     45.8,2,  3.2637,   -999.0,9,  -999.00,5,  -999.00,9,  -999.00,9,  -999.00,5, -999.000,9, -999.000,9, -999.000,9, -999.000,9, -999.000,9,-999.0000,9,  -999.00,9,   -999.0,9,  -999.00,9,-999.000,9,   -999.0,9,   -999.0,9,  -999.0,-999.0000,-999.000,-999.000,  -999.0,-999.000
   3220CGC92_1,   P13,    26,  1,    121,   1235,2,19920827,2247, 46.4997, 165.0177, 5650,   5973,    591.0,   3.1782,  34.1936,2,  34.2302,2,   -999.0,9,  3.1395,     43.4,2,   121.73,2,    41.64,2,     0.00,2,     3.21,2, -999.000,9, -999.000,9, -999.000,9, -999.000,9, -999.000,9,-999.0000,9,  -999.00,9,   -999.0,9,  -999.00,9,-999.000,9,   2340.5,2,   2349.2,2,  -999.0,-999.0000,-999.000,-999.000,  -999.0,-999.000
   3220CGC92_1,   P13,    26,  1,    120,   1237,2,19920827,2247, 46.4997, 165.0177, 5650,   6999,    694.0,   3.0583,  34.2655,2,  34.2663,2,   -999.0,9,  3.0128,     35.3,2,   133.04,2,    42.20,2,     0.00,2,     3.23,2, -999.000,9, -999.000,9, -999.000,9, -999.000,9, -999.000,9,-999.0000,9,  -999.00,9,   -999.0,9,  -999.00,9,-999.000,9,   2356.7,2,   2358.2,2,  -999.0,-999.0000,-999.000,-999.000,  -999.0,-999.000
   3220CGC92_1,   P13,    26,  1,    119,   1025,2,19920827,2247, 46.4997, 165.0177, 5650,   8003,    794.0,   2.9033,  34.3098,2,  34.3015,2,   -999.0,9,  2.8515,     31.9,2,   141.04,2,    42.22,2,     0.00,2,     3.28,2, -999.000,9, -999.000,9, -999.000,9, -999.000,9, -999.000,9,-999.0000,9,  -999.00,9,   -999.0,9,  -999.00,9,-999.000,9,   2366.4,2,   2363.9,2,  -999.0,-999.0000,-999.000,-999.000,  -999.0,-999.000
   3220CGC92_1,   P13,    26,  1,    118,   1002,3,19920827,2247, 46.4997, 165.0177, 5650,   9006,    894.0,   2.8303,  34.3661,2,-999.0000,9,     37.5,2,  2.7718,   -999.0,9,  -999.00,5,  -999.00,9,  -999.00,9,  -999.00,5, -999.000,9, -999.000,9, -999.000,9, -999.000,9, -999.000,9,-999.0000,9,  -999.00,9,   -999.0,9,  -999.00,9,-999.000,9,   -999.0,9,   -999.0,9,  -999.0,-999.0000,-999.000,-999.000,  -999.0,-999.000
   3220CGC92_1,   P13,    26,  1,    117,   1005,2,19920827,2247, 46.4997, 165.0177, 5650,  10006,    994.0,   2.6624,  34.4006,2,  34.3970,2,   -999.0,9,  2.5977,     36.4,2,   149.06,2,    42.21,2,     0.00,2,     3.27,2, -999.000,9, -999.000,9, -999.000,9, -999.000,9, -999.000,9,-999.0000,9,  -999.00,9,   -999.0,9,  -999.00,9,-999.000,9,   2373.6,2,   -999.0,9,  -999.0,-999.0000,-999.000,-999.000,  -999.0,-999.000
   3220CGC92_1,   P13,    26,  1,    116,   1104,2,19920827,2247, 46.4997, 165.0177, 5650,  13021,   1295.0,   2.3284,  34.4809,2,  34.4811,2,     43.6,2,  2.2443,     41.6,2,   160.31,2,    41.94,2,     0.00,2,     3.25,2, -999.000,9, -999.000,9, -999.000,9, -999.000,9, -999.000,9,-999.0000,9,  -999.00,9,   -999.0,9,  -999.00,9,-999.000,9,   2381.8,2,   2399.4,2,  -999.0,-999.0000,-999.000,-999.000,  -999.0,-999.000
   3220CGC92_1,   P13,    26,  1,    115,   1020,2,19920827,2247, 46.4997, 165.0177, 5650,  15994,   1592.0,   2.1205,  34.5362,2,  34.5389,2,     53.1,2,  2.0158,     50.9,2,   166.54,2,    41.35,2,     0.00,2,     3.19,2, -999.000,9, -999.000,9, -999.000,9, -999.000,9, -999.000,9,-999.0000,9,  -999.00,9,   -999.0,9,  -999.00,9,-999.000,9,   2382.3,2,   2403.3,2,  -999.0,-999.0000,-999.000,-999.000,  -999.0,-999.000
   3220CGC92_1,   P13,    26,  1,    114,   1120,2,19920827,2247, 46.4997, 165.0177, 5650,  18993,   1893.0,   1.9195,  34.5837,2,  34.5793,3,   -999.0,9,  1.7933,     63.0,2,   169.41,2,    40.05,2,     0.00,2,     3.09,2, -999.000,9, -999.000,9, -999.000,9, -999.000,9, -999.000,9,-999.0000,9,  -999.00,9,   -999.0,9,  -999.00,9,-999.000,9,   2378.2,2,   2413.4,2,  -999.0,-999.0000,-999.000,-999.000,  -999.0,-999.000
   3220CGC92_1,   P13,    26,  1,    113,   1112,3,19920827,2247, 46.4997, 165.0177, 5650,  22003,   2194.0,   1.7726,  34.6147,2,-999.0000,9,     83.1,2,  1.6234,   -999.0,9,  -999.00,5,  -999.00,9,  -999.00,9,  -999.00,5, -999.000,9, -999.000,9, -999.000,9, -999.000,9, -999.000,9,-999.0000,9,  -999.00,9,   -999.0,9,  -999.00,9,-999.000,9,   -999.0,9,   -999.0,9,  -999.0,-999.0000,-999.000,-999.000,  -999.0,-999.000
   3220CGC92_1,   P13,    26,  1,    112,   1234,2,19920827,2247, 46.4997, 165.0177, 5650,  24991,   2494.0,   1.6666,  34.6362,2,  34.6373,2,    102.9,2,  1.4931,    102.2,2,   165.47,2,    38.51,2,     0.00,2,     2.89,2,    0.000,6,    0.001,6, -999.000,9, -999.000,9, -999.000,9,-999.0000,9,  -999.00,9,   -999.0,9,  -999.00,9,-999.000,9,   2358.4,2,   2418.4,2,  -999.0,-999.0000,-999.000,-999.000,  -999.0,-999.000
   3220CGC92_1,   P13,    26,  1,    111,   1221,2,19920827,2247, 46.4997, 165.0177, 5650,  27997,   2795.0,   1.5906,  34.6518,2,  34.6598,3,    116.1,2,  1.3912,    116.7,2,   162.15,2,    38.30,2,     0.00,2,     2.85,2,    0.014,3,    0.009,2, -999.000,9, -999.000,9, -999.000,9,-999.0000,9,  -999.00,9,   -999.0,9,  -999.00,9,-999.000,9,   2349.3,2,   2420.2,2,  -999.0,-999.0000,-999.000,-999.000,  -999.0,-999.000
   3220CGC92_1,   P13,    26,  1,    110,   1012,3,19920827,2247, 46.4997, 165.0177, 5650,  32025,   3199.0,   1.5196,  34.6663,2,-999.0000,9,    132.0,2,  1.2832,   -999.0,9,  -999.00,5,  -999.00,9,  -999.00,9,  -999.00,5, -999.000,9, -999.000,9, -999.000,9, -999.000,9, -999.000,9,-999.0000,9,  -999.00,9,   -999.0,9,  -999.00,9,-999.000,9,   -999.0,9,   -999.0,9,  -999.0,-999.0000,-999.000,-999.000,  -999.0,-999.000
   3220CGC92_1,   P13,    26,  1,    109,   1041,2,19920827,2247, 46.4997, 165.0177, 5650,  35989,   3596.0,   1.4806,  34.6752,2,  34.6779,3,    141.0,2,  1.2051,    140.6,2,   155.61,2,    36.90,2,     0.00,2,     2.70,2,    0.115,4,    0.006,6, -999.000,9, -999.000,9, -999.000,9,-999.0000,9,  -999.00,9,   -999.0,9,  -999.00,9,-999.000,9,   2332.6,2,   2419.1,2,  -999.0,-999.0000,-999.000,-999.000,  -999.0,-999.000
   3220CGC92_1,   P13,    26,  1,    108,   1003,2,19920827,2247, 46.4997, 165.0177, 5650,  39996,   3998.0,   1.4706,  34.6798,2,  34.6831,3,    147.1,2,  1.1528,    147.8,2,   153.66,2,    36.16,2,     0.00,2,     2.67,2,    0.003,6,    0.005,6, -999.000,9, -999.000,9, -999.000,9,-999.0000,9,  -999.00,9,   -999.0,9,  -999.00,9,-999.000,9,   2326.4,2,   2419.7,2,  -999.0,-999.0000,-999.000,-999.000,  -999.0,-999.000
   3220CGC92_1,   P13,    26,  1,    107,   1013,2,19920827,2247, 46.4997, 165.0177, 5650,  43982,   4397.0,   1.4806,  34.6845,2,  34.6836,2,    150.8,2,  1.1180,    152.1,2,   152.26,2,    36.08,2,     0.00,2,     2.62,2,   -0.001,2,    0.004,2, -999.000,9, -999.000,9, -999.000,9,-999.0000,9,  -999.00,9,   -999.0,9,  -999.00,9,-999.000,9,   2323.4,2,   2416.9,2,  -999.0,-999.0000,-999.000,-999.000,  -999.0,-999.000
   3220CGC92_1,   P13,    26,  1,    106,   1036,2,19920827,2247, 46.4997, 165.0177, 5650,  48022,   4802.0,   1.5036,  34.6870,2,  34.6856,2,    157.4,2,  1.0931,    155.6,2,   151.68,2,    36.11,2,     0.00,2,     2.62,2,    0.005,2,    0.000,2, -999.000,9, -999.000,9, -999.000,9,-999.0000,9,  -999.00,9,   -999.0,9,  -999.00,9,-999.000,9,   2319.6,2,   2419.1,2,  -999.0,-999.0000,-999.000,-999.000,  -999.0,-999.000
   3220CGC92_1,   P13,    26,  1,    105,   1037,2,19920827,2247, 46.4997, 165.0177, 5650,  50975,   5097.0,   1.5286,  34.6873,2,  34.6889,2,    155.8,2,  1.0815,    157.1,2,   151.91,2,    36.05,2,     0.00,2,     2.60,2,    0.000,2,    0.001,2, -999.000,9, -999.000,9, -999.000,9,-999.0000,9,  -999.00,9,   -999.0,9,  -999.00,9,-999.000,9,   2318.8,2,   2418.1,2,  -999.0,-999.0000,-999.000,-999.000,  -999.0,-999.000
   3220CGC92_1,   P13,    26,  1,    104,   1029,2,19920827,2247, 46.4997, 165.0177, 5650,  53991,   5398.0,   1.5606,  34.6880,2,  34.6897,2,    158.5,2,  1.0748,    157.3,2,   153.52,2,    35.85,2,     0.00,2,     2.60,2,    0.069,4,   -0.004,2, -999.000,9, -999.000,9, -999.000,9,-999.0000,9,  -999.00,9,   -999.0,9,  -999.00,9,-999.000,9,   2320.9,2,   2420.3,2,  -999.0,-999.0000,-999.000,-999.000,  -999.0,-999.000
   3220CGC92_1,   P13,    26,  1,    102,      0,2,19920827,2247, 46.4997, 165.0177, 5650,  56985,   5697.0,   1.5996,  34.6875,2,  34.6854,4,    157.9,2,  1.0739,    158.3,2,   153.39,2,    35.67,2,     0.00,2,     2.53,2,    0.054,4,    0.010,2, -999.000,9, -999.000,9, -999.000,9,-999.0000,9,  -999.00,9,   -999.0,9,  -999.00,9,-999.000,9,   -999.0,9,   -999.0,9,  -999.0,-999.0000,-999.000,-999.000,  -999.0,-999.000
   3220CGC92_1,   P13,    26,  1,    103,   1023,2,19920827,2247, 46.4997, 165.0177, 5650,  56987,   5697.0,   1.5996,  34.6875,2,  34.6904,2,    157.7,2,  1.0739,    157.5,2,   153.66,2,    35.45,2,     0.00,2,     2.58,2, -999.000,9, -999.000,9, -999.000,9, -999.000,9, -999.000,9,-999.0000,9,  -999.00,9,   -999.0,9,  -999.00,9,-999.000,9,   2322.3,6,   2418.3,6,  -999.0,-999.0000,-999.000,-999.000,  -999.0,-999.000
   3220CGC92_1,   P13,    26,  1,    101,   1038,2,19920827,2247, 46.4997, 165.0177, 5650,  59532,   5947.0,   1.6316,  34.6878,2,  34.6905,2,    160.1,2,  1.0716,   -999.0,5,   153.43,2,    35.63,2,     0.00,2,     2.57,2,    0.007,2,    0.011,2, -999.000,9, -999.000,9, -999.000,9,-999.0000,9,  -999.00,9,   -999.0,9,  -999.00,9,-999.000,9,   2320.9,2,   2418.1,6,  -999.0,-999.0000,-999.000,-999.000,  -999.0,-999.000