BOTTLE,20221003CCHSIOAMB
EXPOCODE,SECT_ID,STNNBR,CASTNO,SAMPNO,BTLNBR,BTLNBR_FLAG_W,DATE,TIME,LATITUDE,LONGITUDE,DEPTH,CTDRAW,CTDPRS,CTDTMP,CTDSAL,CTDSAL_FLAG_W,SALNTY,SALNTY_FLAG_W,CTDOXY,CTDOXY_FLAG_W,THETA,OXYGEN,OXYGEN_FLAG_W,SILCAT,SILCAT_FLAG_W,NITRAT,NITRAT_FLAG_W,NITRIT,NITRIT_FLAG_W,PHSPHT,PHSPHT_FLAG_W,CFC-11,CFC-11_FLAG_W,CFC-12,CFC-12_FLAG_W,CFC113,CFC113_FLAG_W,CCL4,CCL4_FLAG_W,TRITUM,TRITUM_FLAG_W,HELIUM,HELIUM_FLAG_W,DELHE3,DELHE3_FLAG_W,DELC14,DELC14_FLAG_W,DELC13,DELC13_FLAG_W,NEON,NEON_FLAG_W,TCARBN,TCARBN_FLAG_W,ALKALI,ALKALI_FLAG_W,C14ERR,HELIER,DELHER,NEONER,C13ERR,TRITER
,,,,,,,,,,,,DBAR,DBAR,ITS-90,PSS-78,,PSS-78,,UMOL/KG,,DEG C,UMOL/KG,,UMOL/KG,,UMOL/KG,,UMOL/KG,,UMOL/KG,,PMOL/KG,,PMOL/KG,,PMOL/KG,,PMOL/KG,,TU,,NMOL/KG,,PERCNT,,/MILLE,,/MILLE,,NMOL/KG,,UMOL/KG,,UMOL/KG,,/MILLE,NMOL/KG,PERCNT,NMOL/KG,/MILLE,TU
   3220CGC92_1,   P13,    50,  1,    135,   1013,2,19920907,0224, 34.0420, 165.0527, 6070,    102,      7.0,  26.5626,  34.3162,2,  34.3007,2,   -999.0,9, 26.5610,    208.5,2,     1.33,2,     0.00,2,     0.00,2,     0.00,2,    1.892,2,    0.993,2, -999.000,9, -999.000,9, -999.000,9,-999.0000,9,  -999.00,9,    109.8,2,     1.36,2,-999.000,9,   1919.7,2,   2251.6,2,     3.2,-999.0000,-999.000,-999.000,  -999.0,-999.000
   3220CGC92_1,   P13,    50,  1,    136,   1106,4,19920907,0224, 34.0420, 165.0527, 6070,    102,      7.0,  26.5626,  34.3162,2,-999.0000,9,   -999.0,9, 26.5610,   -999.0,9,  -999.00,9,  -999.00,9,  -999.00,9,  -999.00,9, -999.000,9, -999.000,9, -999.000,9, -999.000,9, -999.000,9,-999.0000,9,  -999.00,9,   -999.0,9,  -999.00,9,-999.000,9,   -999.0,9,   -999.0,9,  -999.0,-999.0000,-999.000,-999.000,  -999.0,-999.000
   3220CGC92_1,   P13,    50,  1,    134,   1030,2,19920907,0224, 34.0420, 165.0527, 6070,    246,     21.0,  26.5256,  34.3179,2,  34.2981,2,    209.3,2, 26.5209,    213.9,2,     1.35,2,     0.00,2,     0.00,2,     0.00,2,    1.829,2,    0.992,2, -999.000,9, -999.000,9,    1.666,2,   1.7000,2,    -0.98,2,    115.6,2,     1.35,2,   6.591,2,   -999.0,9,   -999.0,9,     4.1,  0.0080,   0.140,   0.029,  -999.0,   0.016
   3220CGC92_1,   P13,    50,  1,    133,   1231,2,19920907,0224, 34.0420, 165.0527, 6070,    517,     48.0,  22.9465,  34.5889,2,  34.5955,2,    229.1,2, 22.9367,    219.1,2,     1.82,2,     0.00,2,     0.00,2,     0.00,2,    2.105,2,    1.115,2, -999.000,9, -999.000,9, -999.000,9,-999.0000,9,  -999.00,9,   -999.0,5,     1.34,2,-999.000,9,   -999.0,9,   -999.0,9,  -999.0,-999.0000,-999.000,-999.000,  -999.0,-999.000
   3220CGC92_1,   P13,    50,  1,    132,   1109,2,19920907,0224, 34.0420, 165.0527, 6070,    754,     72.0,  20.4491,  34.7213,2,  34.7291,2,    197.1,2, 20.4356,    191.8,2,     4.43,2,     1.83,2,     0.00,2,     0.12,2,    2.125,2,    1.107,2, -999.000,9, -999.000,9, -999.000,9,-999.0000,9,  -999.00,9,    109.6,2,     0.93,2,-999.000,9,   -999.0,9,   -999.0,9,     4.1,-999.0000,-999.000,-999.000,  -999.0,-999.000
   3220CGC92_1,   P13,    50,  1,    131,   1031,2,19920907,0224, 34.0420, 165.0527, 6070,   1024,     99.0,  19.0664,  34.7310,2,  34.7499,4,    195.8,2, 19.0488,    189.8,2,     5.95,2,     3.00,2,     0.11,2,     0.20,2,    2.224,2,    1.146,2, -999.000,9, -999.000,9,    1.752,2,   1.7180,2,     1.47,2,    118.0,2,     0.87,2,   6.881,2,   -999.0,9,   -999.0,9,     4.0,  0.0080,   0.140,   0.030,  -999.0,   0.015
   3220CGC92_1,   P13,    50,  1,    130,   1041,2,19920907,0224, 34.0420, 165.0527, 6070,   1262,    122.0,  17.6698,  34.7247,2,  34.7593,2,    190.8,2, 17.6491,    185.7,2,     6.73,2,     4.77,2,     0.00,2,     0.29,2,    2.151,2,    1.107,2, -999.000,9, -999.000,9, -999.000,9,-999.0000,9,  -999.00,9,    109.9,2,     0.84,2,-999.000,9,   -999.0,9,   -999.0,9,     3.3,-999.0000,-999.000,-999.000,  -999.0,-999.000
   3220CGC92_1,   P13,    50,  1,    129,   1004,2,19920907,0224, 34.0420, 165.0527, 6070,   1498,    146.0,  17.1449,  34.7308,2,  34.7098,2,    184.7,2, 17.1207,    181.8,2,     9.09,2,     5.96,2,     0.33,2,     0.38,2,    2.066,2,    1.061,2, -999.000,9, -999.000,9,    1.855,2,   1.7280,2,     3.61,2,    100.7,2,     0.77,2,   6.993,2,   -999.0,9,   -999.0,9,     3.4,  0.0080,   0.140,   0.031,  -999.0,   0.016
   3220CGC92_1,   P13,    50,  1,    128,   1016,2,19920907,0224, 34.0420, 165.0527, 6070,   1746,    171.0,  16.1471,  34.6825,2,  34.6489,2,    183.3,2, 16.1200,    184.2,2,    10.84,2,     7.51,2,     0.00,2,     0.47,2,    2.109,2,    1.068,2, -999.000,9, -999.000,9, -999.000,9,-999.0000,9,  -999.00,9,     92.6,2,     0.76,2,-999.000,9,   -999.0,9,   -999.0,9,     3.3,-999.0000,-999.000,-999.000,  -999.0,-999.000
   3220CGC92_1,   P13,    50,  1,    127,   1028,2,19920907,0224, 34.0420, 165.0527, 6070,   1992,    195.0,  15.5203,  34.6590,2,  34.6469,2,    182.2,2, 15.4901,    182.7,2,    11.50,2,     8.37,2,     0.07,2,     0.52,2,    2.072,6,    1.024,6, -999.000,9, -999.000,9,    1.921,2,   1.7370,2,     4.91,2,     81.3,2,     0.70,2,   7.067,2,   -999.0,9,   -999.0,9,     4.0,  0.0080,   0.140,   0.031,  -999.0,   0.006
   3220CGC92_1,   P13,    50,  1,    126,   1110,2,19920907,0224, 34.0420, 165.0527, 6070,   2522,    248.0,  13.4218,  34.4767,2,  34.4860,2,    206.6,2, 13.3870,    223.9,2,    11.02,2,     7.28,2,     0.15,2,     0.47,2,    2.962,2,    1.455,2, -999.000,9, -999.000,9,    1.850,2,-999.0000,9,  -999.00,9,     79.0,2,     0.75,2,-999.000,9,   -999.0,9,   -999.0,9,     3.1,-999.0000,-999.000,-999.000,  -999.0,   0.005
   3220CGC92_1,   P13,    50,  1,    125,   1035,2,19920907,0224, 34.0420, 165.0527, 6070,   2995,    295.0,  12.6370,  34.4320,2,  34.4195,2,    210.7,2, 12.5972,    216.6,2,    14.63,2,    10.11,2,     0.10,2,     0.62,2,    2.791,2,    1.376,2, -999.000,9, -999.000,9,    1.890,2,   1.7500,2,     1.87,2,     75.6,2,     0.67,2,   7.226,2,   -999.0,9,   -999.0,9,     3.4,  0.0080,   0.140,   0.032,  -999.0,   0.006
   3220CGC92_1,   P13,    50,  1,    124,   1026,2,19920907,0224, 34.0420, 165.0527, 6070,   3497,    345.0,  11.4612,  34.3394,2,  34.3387,2,    216.0,2, 11.4176,    212.1,2,    18.19,2,    11.64,2,     0.00,2,     0.74,2,    2.730,2,    1.338,2, -999.000,9, -999.000,9,    1.862,2,   1.7600,2,     3.60,2,     60.0,2,     0.62,2,   7.272,2,   -999.0,9,   -999.0,9,     3.2,  0.0080,   0.140,   0.032,  -999.0,   0.005
   3220CGC92_1,   P13,    50,  1,    123,   1014,2,19920907,0224, 34.0420, 165.0527, 6070,   3999,    395.0,  10.1386,  34.2287,2,  34.2797,2,    208.0,2, 10.0923,    188.4,2,    26.86,2,    16.85,2,     0.00,2,     1.11,2,    2.253,2,    1.102,2, -999.000,9, -999.000,9,    1.774,2,-999.0000,9,  -999.00,9,     27.2,2,     0.43,2,-999.000,9,   -999.0,9,   -999.0,9,     3.8,-999.0000,-999.000,-999.000,  -999.0,   0.005
   3220CGC92_1,   P13,    50,  1,    122,   1015,2,19920907,0224, 34.0420, 165.0527, 6070,   4973,    492.0,   6.9253,  34.0041,2,  34.0035,2,    186.0,2,  6.8793,    186.6,2,    42.72,2,    23.13,2,     0.00,2,     1.57,2,    2.464,2,    1.149,2, -999.000,9, -999.000,9,    1.623,2,   1.7950,2,     8.92,2,    -19.6,2,     0.31,2,   7.569,2,   -999.0,9,   -999.0,9,     3.1,  0.0080,   0.140,   0.033,  -999.0,   0.005
   3220CGC92_1,   P13,    50,  1,    121,   1235,2,19920907,0224, 34.0420, 165.0527, 6070,   6014,    596.0,   5.4007,  34.0077,2,  34.0016,2,    141.8,2,  5.3514,    134.0,2,    67.19,2,    31.29,2,     0.00,2,     2.20,2,    1.668,2,    0.784,2, -999.000,9, -999.000,9,    1.274,2,-999.0000,9,  -999.00,9,   -112.1,2,    -0.92,3,-999.000,9,   -999.0,9,   -999.0,9,     2.8,-999.0000,-999.000,-999.000,  -999.0,   0.004
   3220CGC92_1,   P13,    50,  1,    120,   1237,2,19920907,0224, 34.0420, 165.0527, 6070,   7033,    697.0,   4.6149,  34.0709,2,  34.0695,2,    100.1,2,  4.5609,     94.8,2,    87.96,2,    35.80,2,     0.00,2,     2.57,2,    1.121,2,    0.505,2, -999.000,9, -999.000,9,    0.906,2,-999.0000,9,  -999.00,9,   -130.1,2,    -0.85,3,-999.000,9,   -999.0,9,   -999.0,9,     2.9,-999.0000,-999.000,-999.000,  -999.0,   0.004
   3220CGC92_1,   P13,    50,  1,    119,   1025,2,19920907,0224, 34.0420, 165.0527, 6070,   7980,    792.0,   4.2370,  34.1682,2,  34.1807,2,     73.3,2,  4.1773,     66.5,2,   103.49,2,    38.04,2,     0.00,2,     2.71,2,    0.528,6,    0.250,6, -999.000,9, -999.000,9, -999.000,9,   1.8400,2,    15.32,2,   -147.0,2,    -0.35,2,   7.764,2,   -999.0,9,   -999.0,9,     2.6,  0.0090,   0.140,   0.034,  -999.0,-999.000
   3220CGC92_1,   P13,    50,  1,    118,   1118,2,19920907,0224, 34.0420, 165.0527, 6070,   9031,    896.0,   3.8251,  34.2684,2,  34.2656,2,     52.3,2,  3.7596,     47.6,2,   118.53,2,    39.85,2,     0.00,2,     2.79,2,    0.206,2,    0.101,2, -999.000,9, -999.000,9,    0.354,2,   1.8530,2,    15.89,2,   -177.1,2,    -0.49,2,   7.814,2,   -999.0,9,   -999.0,9,     2.7,  0.0090,   0.140,   0.034,  -999.0,   0.002
   3220CGC92_1,   P13,    50,  1,    117,   1005,4,19920907,0224, 34.0420, 165.0527, 6070,  10016,    995.0,   3.4392,  34.3254,2,-999.0000,9,     42.1,2,  3.3685,   -999.0,9,  -999.00,5,  -999.00,9,  -999.00,9,  -999.00,5, -999.000,9, -999.000,9, -999.000,9, -999.000,9, -999.000,9,-999.0000,9,  -999.00,9,   -999.0,9,  -999.00,9,-999.000,9,   -999.0,9,   -999.0,9,  -999.0,-999.0000,-999.000,-999.000,  -999.0,-999.000
   3220CGC92_1,   P13,    50,  1,    116,   1104,2,19920907,0224, 34.0420, 165.0527, 6070,  12001,   1193.0,   2.8833,  34.4201,2,  34.4130,2,     35.2,2,  2.8017,     34.4,2,   143.58,2,    42.46,2,     0.00,2,     2.98,2,    0.029,2,    0.013,2, -999.000,9, -999.000,9,    0.141,2,-999.0000,9,  -999.00,9,   -208.1,2,    -0.53,2,-999.000,9,   -999.0,9,   -999.0,9,     2.7,-999.0000,-999.000,-999.000,  -999.0,   0.002
   3220CGC92_1,   P13,    50,  1,    115,   1020,2,19920907,0224, 34.0420, 165.0527, 6070,  13958,   1389.0,   2.5734,  34.4758,2,  34.4738,2,     37.3,2,  2.4795,   -999.0,5,   154.54,2,    42.31,2,     0.00,2,     3.01,2,    0.008,2,    0.012,2, -999.000,9, -999.000,9,    0.041,2,-999.0000,9,  -999.00,9,   -228.5,2,    -0.97,3,-999.000,9,   -999.0,9,   -999.0,9,     2.9,-999.0000,-999.000,-999.000,  -999.0,   0.002
   3220CGC92_1,   P13,    50,  1,    114,   1012,2,19920907,0224, 34.0420, 165.0527, 6070,  17008,   1694.0,   2.2015,  34.5523,2,  34.5516,2,     49.7,2,  2.0876,     53.6,6,   161.88,2,    41.00,2,     0.00,2,     2.89,3,    0.000,2,   -0.004,2, -999.000,9, -999.000,9, -999.000,9,-999.0000,9,  -999.00,9,   -240.3,2,    -0.42,2,-999.000,9,   -999.0,9,   -999.0,9,     2.5,-999.0000,-999.000,-999.000,  -999.0,-999.000
   3220CGC92_1,   P13,    50,  1,    113,   1229,2,19920907,0224, 34.0420, 165.0527, 6070,  20011,   1995.0,   1.9585,  34.5916,2,  34.5951,2,     70.2,2,  1.8232,     71.6,2,   165.71,2,    40.02,2,     0.00,2,     2.82,3,   -0.004,2,   -0.003,2, -999.000,9, -999.000,9, -999.000,9,-999.0000,9,  -999.00,9,   -243.1,2,    -0.31,2,-999.000,9,   -999.0,9,   -999.0,9,     3.6,-999.0000,-999.000,-999.000,  -999.0,-999.000
   3220CGC92_1,   P13,    50,  1,    112,   1219,2,19920907,0224, 34.0420, 165.0527, 6070,  23023,   2296.0,   1.7526,  34.6263,2,  34.6233,2,     90.6,2,  1.5949,     91.4,2,   165.74,2,    39.60,2,     0.00,2,     2.71,3,    0.001,2,    0.001,2, -999.000,9, -999.000,9, -999.000,9,-999.0000,9,  -999.00,9,   -235.7,2,    -0.23,2,-999.000,9,   -999.0,9,   -999.0,9,     2.6,-999.0000,-999.000,-999.000,  -999.0,-999.000
   3220CGC92_1,   P13,    50,  1,    111,   1112,4,19920907,0224, 34.0420, 165.0527, 6070,  25981,   2593.0,   1.6336,  34.6457,2,-999.0000,9,    104.9,2,  1.4518,   -999.0,9,  -999.00,5,  -999.00,9,  -999.00,9,  -999.00,5, -999.000,9, -999.000,9, -999.000,9, -999.000,9, -999.000,9,-999.0000,9,  -999.00,9,   -999.0,9,  -999.00,9,-999.000,9,   -999.0,9,   -999.0,9,  -999.0,-999.0000,-999.000,-999.000,  -999.0,-999.000
   3220CGC92_1,   P13,    50,  1,    110,   1029,2,19920907,0224, 34.0420, 165.0527, 6070,  29036,   2899.0,   1.5526,  34.6615,2,  34.6578,2,    116.0,2,  1.3443,    120.7,2,   160.75,2,    38.02,2,     0.00,2,     2.67,2,   -0.005,2,   -0.018,2, -999.000,9, -999.000,9, -999.000,9,-999.0000,9,  -999.00,9,   -999.0,5,    -0.07,2,-999.000,9,   -999.0,9,   -999.0,9,  -999.0,-999.0000,-999.000,-999.000,  -999.0,-999.000
   3220CGC92_1,   P13,    50,  1,    109,   1023,2,19920907,0224, 34.0420, 165.0527, 6070,  31998,   3196.0,   1.5026,  34.6700,2,  34.6668,2,   -999.0,9,  1.2669,    131.2,2,   157.94,2,    37.51,2,     0.00,2,     2.60,2,   -0.002,2,    0.002,2, -999.000,9, -999.000,9, -999.000,9,-999.0000,9,  -999.00,9,   -235.9,2,  -999.00,5,-999.000,9,   -999.0,9,   -999.0,9,     2.6,-999.0000,-999.000,-999.000,  -999.0,-999.000
   3220CGC92_1,   P13,    50,  1,    108,   1032,2,19920907,0224, 34.0420, 165.0527, 6070,  35999,   3597.0,   1.4756,  34.6765,2,  34.6806,3,    137.8,2,  1.2001,    142.1,2,   154.19,2,    36.50,2,     0.00,2,     2.52,2, -999.000,9, -999.000,9, -999.000,9, -999.000,9, -999.000,9,-999.0000,9,  -999.00,9,   -254.3,2,    -1.11,4,-999.000,9,   -999.0,9,   -999.0,9,     2.3,-999.0000,-999.000,-999.000,  -999.0,-999.000
   3220CGC92_1,   P13,    50,  1,    107,   1037,2,19920907,0224, 34.0420, 165.0527, 6070,  40042,   4003.0,   1.4636,  34.6827,2,  34.6814,2,   -999.0,9,  1.1454,    148.8,2,   151.73,2,    36.35,2,     0.00,2,     2.51,2,   -0.004,2,   -0.018,2, -999.000,9, -999.000,9, -999.000,9,-999.0000,9,  -999.00,9,   -215.7,2,     0.14,2,-999.000,9,   -999.0,9,   -999.0,9,     2.6,-999.0000,-999.000,-999.000,  -999.0,-999.000
   3220CGC92_1,   P13,    50,  1,    106,   1022,2,19920907,0224, 34.0420, 165.0527, 6070,  44007,   4400.0,   1.4676,  34.6861,2,  34.6856,2,   -999.0,9,  1.1051,    154.4,2,   149.60,2,    35.77,2,     0.00,2,     2.47,2, -999.000,9, -999.000,9, -999.000,9, -999.000,9, -999.000,9,-999.0000,9,  -999.00,9,   -222.4,2,    -0.14,3,-999.000,9,   -999.0,9,   -999.0,9,     2.6,-999.0000,-999.000,-999.000,  -999.0,-999.000
   3220CGC92_1,   P13,    50,  1,    105,   1221,2,19920907,0224, 34.0420, 165.0527, 6070,  48010,   4800.0,   1.4746,  34.6903,2,  34.6888,2,   -999.0,9,  1.0652,    160.2,2,   145.80,2,    35.15,2,     0.00,2,     2.41,2,    0.000,6,   -0.004,6, -999.000,9, -999.000,9, -999.000,9,-999.0000,9,  -999.00,9,   -207.1,2,     0.18,2,-999.000,9,   -999.0,9,   -999.0,9,     3.3,-999.0000,-999.000,-999.000,  -999.0,-999.000
   3220CGC92_1,   P13,    50,  1,    104,   1038,2,19920907,0224, 34.0420, 165.0527, 6070,  51007,   5100.0,   1.4866,  34.6912,2,  34.6915,2,   -999.0,9,  1.0405,    164.7,2,   142.52,2,    34.92,2,     0.00,2,     2.41,2, -999.000,9, -999.000,9, -999.000,9, -999.000,9, -999.000,9,-999.0000,9,  -999.00,9,   -209.0,2,     0.24,2,-999.000,9,   -999.0,9,   -999.0,9,     2.4,-999.0000,-999.000,-999.000,  -999.0,-999.000
   3220CGC92_1,   P13,    50,  1,    103,   1033,2,19920907,0224, 34.0420, 165.0527, 6070,  53969,   5396.0,   1.5016,  34.6934,2,  34.6942,2,    170.6,2,  1.0181,    168.9,2,   139.79,2,    34.55,2,     0.00,2,     2.35,2,    0.001,2,    0.007,2, -999.000,9, -999.000,9, -999.000,9,-999.0000,9,  -999.00,9,   -201.4,2,     0.24,2,-999.000,9,   -999.0,9,   -999.0,9,     3.6,-999.0000,-999.000,-999.000,  -999.0,-999.000
   3220CGC92_1,   P13,    50,  1,    102,   1234,2,19920907,0224, 34.0420, 165.0527, 6070,  56000,   5599.0,   1.5136,  34.6931,2,  34.6956,2,    171.0,2,  1.0037,    170.9,2,   138.77,2,    34.36,2,     0.00,2,     2.34,2, -999.000,9, -999.000,9, -999.000,9, -999.000,9, -999.000,9,-999.0000,9,  -999.00,9,   -999.0,5,     0.25,2,-999.000,9,   -999.0,9,   -999.0,9,  -999.0,-999.0000,-999.000,-999.000,  -999.0,-999.000
   3220CGC92_1,   P13,    50,  1,    101,   1238,2,19920907,0224, 34.0420, 165.0527, 6070,  57552,   5751.0,   1.5266,  34.6944,2,  34.6957,6,    175.1,2,  0.9965,    172.2,2,   137.69,2,    34.57,2,     0.00,2,     2.33,2,   -0.003,2,   -0.002,2, -999.000,9, -999.000,9, -999.000,9,-999.0000,9,  -999.00,9,   -199.6,2,     0.24,2,-999.000,9,   -999.0,9,   -999.0,9,     2.5,-999.0000,-999.000,-999.000,  -999.0,-999.000