BOTTLE,20221003CCHSIOAMB
EXPOCODE,SECT_ID,STNNBR,CASTNO,SAMPNO,BTLNBR,BTLNBR_FLAG_W,DATE,TIME,LATITUDE,LONGITUDE,DEPTH,CTDRAW,CTDPRS,CTDTMP,CTDSAL,CTDSAL_FLAG_W,SALNTY,SALNTY_FLAG_W,CTDOXY,CTDOXY_FLAG_W,THETA,OXYGEN,OXYGEN_FLAG_W,SILCAT,SILCAT_FLAG_W,NITRAT,NITRAT_FLAG_W,NITRIT,NITRIT_FLAG_W,PHSPHT,PHSPHT_FLAG_W,CFC-11,CFC-11_FLAG_W,CFC-12,CFC-12_FLAG_W,CFC113,CFC113_FLAG_W,CCL4,CCL4_FLAG_W,TRITUM,TRITUM_FLAG_W,HELIUM,HELIUM_FLAG_W,DELHE3,DELHE3_FLAG_W,DELC14,DELC14_FLAG_W,DELC13,DELC13_FLAG_W,NEON,NEON_FLAG_W,TCARBN,TCARBN_FLAG_W,ALKALI,ALKALI_FLAG_W,C14ERR,HELIER,DELHER,NEONER,C13ERR,TRITER
,,,,,,,,,,,,DBAR,DBAR,ITS-90,PSS-78,,PSS-78,,UMOL/KG,,DEG C,UMOL/KG,,UMOL/KG,,UMOL/KG,,UMOL/KG,,UMOL/KG,,PMOL/KG,,PMOL/KG,,PMOL/KG,,PMOL/KG,,TU,,NMOL/KG,,PERCNT,,/MILLE,,/MILLE,,NMOL/KG,,UMOL/KG,,UMOL/KG,,/MILLE,NMOL/KG,PERCNT,NMOL/KG,/MILLE,TU
   3220CGC92_2,   P13,    56,  1,    136,   1106,2,19920930,1259, 21.9667, 165.0103, 5374,     98,      7.0,  27.6294,  35.2265,2,  35.1828,2,    212.6,2, 27.6277,    217.6,2,     0.34,2,     0.07,2,     0.00,2,     0.00,2,    1.748,2,    0.993,2,    0.514,4,    2.088,2, -999.000,9,-999.0000,9,  -999.00,9,    117.8,2,     1.44,2,-999.000,9,   1955.4,2,   2307.8,2,     3.7,-999.0000,-999.000,-999.000,  -999.0,-999.000
   3220CGC92_2,   P13,    56,  1,    134,   1030,2,19920930,1259, 21.9667, 165.0103, 5374,    500,     47.0,  24.5721,  35.1876,2,  35.1519,2,    226.9,2, 24.5620,    229.7,2,     1.16,2,     0.06,2,     0.00,2,     0.00,2,    1.988,2,    1.137,2,    0.661,4,    1.852,2,    1.674,2,-999.0000,9,  -999.00,9,    129.3,2,     1.38,2,-999.000,9,   -999.0,9,   -999.0,9,     3.9,-999.0000,-999.000,-999.000,  -999.0,   0.018
   3220CGC92_2,   P13,    56,  1,    133,   1231,2,19920930,1259, 21.9667, 165.0103, 5374,    745,     71.0,  21.0889,  35.1787,2,  35.1284,2,    227.8,2, 21.0753,    228.5,2,     1.64,2,     0.06,2,     0.00,2,     0.00,2,    2.315,2,    1.271,2,    0.593,4,    1.555,2, -999.000,9,-999.0000,9,  -999.00,9,    113.2,2,     1.28,2,-999.000,9,   -999.0,9,   -999.0,9,     3.8,-999.0000,-999.000,-999.000,  -999.0,-999.000
   3220CGC92_2,   P13,    56,  1,    132,   1109,2,19920930,1259, 21.9667, 165.0103, 5374,   1008,     97.0,  19.5893,  35.0845,2,  35.0914,2,    211.8,2, 19.5716,    217.7,2,     2.02,2,     0.04,2,     0.00,2,     0.00,2,    2.355,6,    1.304,6,    0.361,6,    1.542,6,    1.816,2,-999.0000,9,  -999.00,9,   -999.0,5,     0.99,2,-999.000,9,   -999.0,9,   -999.0,9,  -999.0,-999.0000,-999.000,-999.000,  -999.0,   0.018
   3220CGC92_2,   P13,    56,  1,    131,   1031,2,19920930,1259, 21.9667, 165.0103, 5374,   1258,    122.0,  18.8285,  35.0501,2,  34.8805,2,    208.9,2, 18.8069,    212.3,2,     2.82,2,     0.68,2,     0.00,2,     0.13,2,    2.444,2,    1.339,2, -999.000,9, -999.000,9, -999.000,9,-999.0000,9,  -999.00,9,    111.5,2,     0.91,2,-999.000,9,   -999.0,9,   -999.0,9,     3.6,-999.0000,-999.000,-999.000,  -999.0,-999.000
   3220CGC92_2,   P13,    56,  1,    130,   1041,2,19920930,1259, 21.9667, 165.0103, 5374,   1498,    146.0,  17.5968,  34.8532,2,  34.8160,2,    210.5,2, 17.5721,    213.3,2,     3.38,2,     1.90,2,     0.00,2,     0.16,2,    2.428,2,    1.307,2,    0.233,2,    1.103,2, -999.000,9,-999.0000,9,  -999.00,9,    107.9,2,     0.76,2,-999.000,9,   -999.0,9,   -999.0,9,     3.8,-999.0000,-999.000,-999.000,  -999.0,-999.000
   3220CGC92_2,   P13,    56,  1,    129,   1004,2,19920930,1259, 21.9667, 165.0103, 5374,   1771,    173.0,  17.0929,  34.8218,2,  34.7709,2,    207.2,2, 17.0643,    210.5,6,     4.67,2,     6.29,2,     0.06,2,     0.23,2,    2.432,2,    1.331,2,    0.184,2,    0.793,2, -999.000,9,-999.0000,9,  -999.00,9,    117.4,2,     0.88,2,-999.000,9,   -999.0,9,   -999.0,9,     3.4,-999.0000,-999.000,-999.000,  -999.0,-999.000
   3220CGC92_2,   P13,    56,  1,    128,   1016,2,19920930,1259, 21.9667, 165.0103, 5374,   1998,    196.0,  16.6500,  34.7809,2,  34.6709,4,    209.9,2, 16.6182,    137.6,4,   152.40,4,    32.73,4,     0.00,4,     2.39,4,    0.006,4,   -0.002,4, -999.000,9, -999.000,9, -999.000,9,   1.8830,3,    16.84,3,   -228.2,4,     0.07,3,   8.000,2,   -999.0,9,   -999.0,9,     2.8,  0.0090,   0.140,   0.035,  -999.0,-999.000
   3220CGC92_2,   P13,    56,  1,    126,   1110,2,19920930,1259, 21.9667, 165.0103, 5374,   3012,    296.0,  14.7075,  34.6019,2,  34.5276,2,    196.5,2, 14.6632,    197.1,2,    10.41,2,     8.82,2,     0.00,2,     0.57,2,    2.288,6,    1.231,6,    0.146,6,    0.575,6, -999.000,9,-999.0000,9,  -999.00,9,     92.5,2,     0.70,2,-999.000,9,   -999.0,9,   -999.0,9,     3.2,-999.0000,-999.000,-999.000,  -999.0,-999.000
   3220CGC92_2,   P13,    56,  1,    125,   1035,2,19920930,1259, 21.9667, 165.0103, 5374,   3527,    348.0,  12.8229,  34.4526,2,  34.4098,2,    199.8,2, 12.7755,   -999.0,5,    14.66,2,    11.16,2,     0.00,2,     0.68,2,    2.303,2,    1.200,2,    0.185,2,    0.659,2,    1.941,2,   1.7530,2,     5.64,2,     81.3,2,     0.61,2,   7.288,2,   -999.0,9,   -999.0,9,     3.9,  0.0080,   0.140,   0.032,  -999.0,   0.006
   3220CGC92_2,   P13,    56,  1,    124,   1026,2,19920930,1259, 21.9667, 165.0103, 5374,   4012,    396.0,  11.2463,  34.3173,2,  34.3136,2,   -999.0,9, 11.1967,    196.6,2,    17.58,2,    12.98,2,     0.00,2,     0.91,2,    2.209,2,    1.128,2,    0.133,2,    0.651,2,    1.986,2,   1.7580,2,     7.40,2,     63.5,2,     0.57,2,   7.352,2,   -999.0,9,   -999.0,9,     3.1,  0.0080,   0.140,   0.032,  -999.0,   0.006
   3220CGC92_2,   P13,    56,  1,    123,   1014,2,19920930,1259, 21.9667, 165.0103, 5374,   5018,    496.0,   8.5969,  34.1459,2,  34.1350,2,    168.7,2,  8.5442,    161.7,2,    34.09,2,    22.65,2,     0.00,2,     1.53,2,    1.478,2,    0.731,2, -999.000,9, -999.000,9, -999.000,9,   1.7740,2,    14.06,2,      0.6,6,     0.27,6,   7.436,2,   -999.0,9,   -999.0,9,     5.4,  0.0080,   0.140,   0.033,  -999.0,-999.000
   3220CGC92_2,   P13,    56,  1,    122,   1015,2,19920930,1259, 21.9667, 165.0103, 5374,   6014,    596.0,   6.5824,  34.1071,2,  34.1211,2,    101.5,2,  6.5277,     91.5,2,    64.15,2,    32.49,2,     0.00,2,     2.38,2,    0.474,6,    0.258,6,    0.113,2,    0.457,2,    0.958,2,   1.8040,2,    15.37,2,    -95.2,2,    -0.12,2,   7.607,2,   -999.0,9,   -999.0,9,     2.8,  0.0080,   0.140,   0.033,  -999.0,   0.004
   3220CGC92_2,   P13,    56,  1,    121,   1235,2,19920930,1259, 21.9667, 165.0103, 5374,   6984,    692.0,   5.5547,  34.2039,2,  34.2171,2,     63.3,2,  5.4959,     55.7,2,    82.91,2,    35.86,2,     0.00,2,     2.55,2,    0.193,3,    0.064,3,    1.963,4,    0.205,2,    0.393,2,   1.8160,2,    13.37,2,   -141.5,2,    -0.28,2,   7.639,2,   -999.0,9,   -999.0,9,     2.8,  0.0090,   0.140,   0.034,  -999.0,   0.002
   3220CGC92_2,   P13,    56,  1,    120,   1237,2,19920930,1259, 21.9667, 165.0103, 5374,   8005,    794.0,   4.9158,  34.3103,2,  34.3270,2,     49.9,2,  4.8516,     46.0,2,    97.19,2,    37.75,3,     0.00,2,     2.60,2,    0.168,4,    0.013,2,    0.181,2,    0.074,2,    0.117,2,-999.0000,9,  -999.00,9,   -165.6,2,    -0.27,2,-999.000,9,   -999.0,9,   -999.0,9,     2.8,-999.0000,-999.000,-999.000,  -999.0,   0.002
   3220CGC92_2,   P13,    56,  1,    119,   1025,2,19920930,1259, 21.9667, 165.0103, 5374,   8967,    890.0,   4.3979,  34.3973,2,  34.4043,2,     48.9,2,  4.3288,     48.7,2,   105.61,2,    38.94,2,     0.00,2,     2.88,2,    0.023,2,    0.001,2,    0.036,2,    0.040,2,    0.092,2,-999.0000,9,  -999.00,9,   -180.7,2,    -0.22,2,-999.000,9,   -999.0,9,   -999.0,9,     2.7,-999.0000,-999.000,-999.000,  -999.0,   0.002
   3220CGC92_2,   P13,    56,  1,    118,   1118,2,19920930,1259, 21.9667, 165.0103, 5374,   9994,    993.0,   4.0870,  34.4682,2,  34.4616,6,     58.6,2,  4.0113,     57.3,2,   112.03,2,    37.57,3,     0.00,2,     2.46,3,    0.021,6,    0.000,6, -999.000,9, -999.000,9,    0.022,2,-999.0000,9,  -999.00,9,   -192.6,2,    -0.19,2,-999.000,9,   -999.0,9,   -999.0,9,     2.7,-999.0000,-999.000,-999.000,  -999.0,   0.002
   3220CGC92_2,   P13,    56,  1,    117,   1005,2,19920930,1259, 21.9667, 165.0103, 5374,  12003,   1193.0,   3.4922,  34.5272,2,  34.5175,2,     69.5,2,  3.4048,     69.4,6,   122.06,2,    38.09,2,     0.00,2,     2.69,3,    0.009,2,    0.000,2, -999.000,9, -999.000,9,    0.027,2,-999.0000,9,  -999.00,9,   -221.8,2,    -0.13,2,-999.000,9,   -999.0,9,   -999.0,9,     2.9,-999.0000,-999.000,-999.000,  -999.0,   0.002
   3220CGC92_2,   P13,    56,  1,    116,   1104,2,19920930,1259, 21.9667, 165.0103, 5374,  13985,   1391.0,   2.9863,  34.5478,2,  34.5466,2,     73.2,2,  2.8876,     75.2,2,   134.11,2,    37.85,3,     0.00,2,     2.41,3,    0.005,2,   -0.009,2, -999.000,9, -999.000,9,    0.013,2,-999.0000,9,  -999.00,9,   -218.5,2,    -0.18,2,-999.000,9,   -999.0,9,   -999.0,9,     2.5,-999.0000,-999.000,-999.000,  -999.0,   0.001
   3220CGC92_2,   P13,    56,  1,    115,   1020,2,19920930,1259, 21.9667, 165.0103, 5374,  16021,   1595.0,   2.5374,  34.5746,2,  34.5763,2,     84.1,2,  2.4272,     84.6,2,   143.22,2,    38.29,2,     0.00,2,     2.74,3,    0.010,2,   -0.007,2, -999.000,9, -999.000,9, -999.000,9,-999.0000,9,  -999.00,9,   -229.2,2,    -0.16,2,-999.000,9,   -999.0,9,   -999.0,9,     2.6,-999.0000,-999.000,-999.000,  -999.0,-999.000
   3220CGC92_2,   P13,    56,  1,    114,   1012,3,19920930,1259, 21.9667, 165.0103, 5374,  17985,   1792.0,   2.2525,  34.5982,2,  34.5990,2,     93.1,2,  2.1297,     93.7,2,   149.17,2,    37.19,2,     0.00,2,     2.55,3, -999.000,9, -999.000,9, -999.000,9, -999.000,9, -999.000,9,-999.0000,9,  -999.00,9,   -227.9,2,    -0.15,2,-999.000,9,   -999.0,9,   -999.0,9,     2.9,-999.0000,-999.000,-999.000,  -999.0,-999.000
   3220CGC92_2,   P13,    56,  1,    113,   1229,2,19920930,1259, 21.9667, 165.0103, 5374,  21003,   2094.0,   1.9595,  34.6262,2,  34.6245,2,    103.9,2,  1.8158,    105.0,2,   153.56,2,    36.39,2,     0.00,2,     2.30,3,   -0.003,2,   -0.009,2, -999.000,9, -999.000,9, -999.000,9,-999.0000,9,  -999.00,9,   -240.3,2,    -0.08,2,-999.000,9,   -999.0,9,   -999.0,9,     2.6,-999.0000,-999.000,-999.000,  -999.0,-999.000
   3220CGC92_2,   P13,    56,  1,    112,   1219,2,19920930,1259, 21.9667, 165.0103, 5374,  24013,   2396.0,   1.7806,  34.6450,2,  34.6465,2,   -999.0,9,  1.6136,    115.8,2,   157.11,2,    35.60,3,     0.00,2,     2.29,3, -999.000,9, -999.000,9, -999.000,9, -999.000,9, -999.000,9,-999.0000,9,  -999.00,9,   -234.6,2,    -0.03,2,-999.000,9,   -999.0,9,   -999.0,9,     3.4,-999.0000,-999.000,-999.000,  -999.0,-999.000
   3220CGC92_2,   P13,    56,  1,    111,   1112,2,19920930,1259, 21.9667, 165.0103, 5374,  26975,   2692.0,   1.6926,  34.6551,2,  34.6548,2,   -999.0,9,  1.5006,    123.9,6,   155.54,2,    36.40,3,     0.00,2,     2.39,3, -999.000,9, -999.000,9, -999.000,9, -999.000,9, -999.000,9,-999.0000,9,  -999.00,9,   -235.7,2,    -0.01,2,-999.000,9,   -999.0,9,   -999.0,9,     2.5,-999.0000,-999.000,-999.000,  -999.0,-999.000
   3220CGC92_2,   P13,    56,  1,    110,   1029,2,19920930,1259, 21.9667, 165.0103, 5374,  29971,   2993.0,   1.6186,  34.6645,2,  34.6636,2,   -999.0,9,  1.3999,    130.9,2,   154.99,2,    36.04,3,     0.00,2,     2.33,3,    0.000,2,   -0.003,2,    0.023,2,    0.013,2, -999.000,9,-999.0000,9,  -999.00,9,   -233.1,2,     0.03,2,-999.000,9,   -999.0,9,   -999.0,9,     2.5,-999.0000,-999.000,-999.000,  -999.0,-999.000
   3220CGC92_2,   P13,    56,  1,    109,   1023,4,19920930,1259, 21.9667, 165.0103, 5374,  32979,   3294.0,   1.5506,  34.6706,2,-999.0000,9,   -999.0,9,  1.3040,   -999.0,9,  -999.00,5,  -999.00,9,  -999.00,9,  -999.00,5, -999.000,9, -999.000,9, -999.000,9, -999.000,9, -999.000,9,-999.0000,9,  -999.00,9,   -999.0,9,  -999.00,9,-999.000,9,   -999.0,9,   -999.0,9,  -999.0,-999.0000,-999.000,-999.000,  -999.0,-999.000
   3220CGC92_2,   P13,    56,  1,    108,   1032,2,19920930,1259, 21.9667, 165.0103, 5374,  35979,   3595.0,   1.5076,  34.6779,2,  34.6766,2,   -999.0,9,  1.2315,    144.1,2,   154.98,2,    34.77,2,     0.00,2,     2.40,3, -999.000,9, -999.000,9, -999.000,9, -999.000,9, -999.000,9,-999.0000,9,  -999.00,9,   -232.5,2,     0.10,2,-999.000,9,   -999.0,9,   -999.0,9,     3.5,-999.0000,-999.000,-999.000,  -999.0,-999.000
   3220CGC92_2,   P13,    56,  1,    107,   1037,2,19920930,1259, 21.9667, 165.0103, 5374,  39005,   3899.0,   1.4776,  34.6842,2,  34.6849,2,   -999.0,9,  1.1702,    150.0,2,   152.24,2,    35.23,2,     0.00,2,     2.53,2,    0.011,2,    0.000,2, -999.000,9, -999.000,9, -999.000,9,-999.0000,9,  -999.00,9,   -214.4,2,     0.14,2,-999.000,9,   -999.0,9,   -999.0,9,     2.6,-999.0000,-999.000,-999.000,  -999.0,-999.000
   3220CGC92_2,   P13,    56,  1,    106,   1022,2,19920930,1259, 21.9667, 165.0103, 5374,  42002,   4199.0,   1.4576,  34.6883,2,  34.6887,2,   -999.0,9,  1.1180,    157.2,2,   147.45,2,    34.66,3,     0.00,2,     2.25,3, -999.000,9, -999.000,9, -999.000,9, -999.000,9, -999.000,9,-999.0000,9,  -999.00,9,   -210.2,2,     0.19,2,-999.000,9,   -999.0,9,   -999.0,9,     2.9,-999.0000,-999.000,-999.000,  -999.0,-999.000
   3220CGC92_2,   P13,    56,  1,    105,   1221,2,19920930,1259, 21.9667, 165.0103, 5374,  45012,   4501.0,   1.4417,  34.6916,2,  34.6909,2,    161.4,2,  1.0683,    163.1,2,   143.68,2,    34.32,2,     0.00,2,     2.23,3, -999.000,9, -999.000,9, -999.000,9, -999.000,9, -999.000,9,-999.0000,9,  -999.00,9,   -214.5,2,     0.22,2,-999.000,9,   -999.0,9,   -999.0,9,     2.5,-999.0000,-999.000,-999.000,  -999.0,-999.000
   3220CGC92_2,   P13,    56,  1,    104,   1038,4,19920930,1259, 21.9667, 165.0103, 5374,  48007,   4800.0,   1.4297,  34.6961,2,-999.0000,9,    167.1,2,  1.0217,   -999.0,9,  -999.00,5,  -999.00,9,  -999.00,9,  -999.00,5, -999.000,9, -999.000,9, -999.000,9, -999.000,9, -999.000,9,-999.0000,9,  -999.00,9,   -999.0,9,  -999.00,9,-999.000,9,   -999.0,9,   -999.0,9,  -999.0,-999.0000,-999.000,-999.000,  -999.0,-999.000
   3220CGC92_2,   P13,    56,  1,    103,   1033,2,19920930,1259, 21.9667, 165.0103, 5374,  50997,   5099.0,   1.4297,  34.6994,2,  34.6927,2,   -999.0,9,  0.9856,    174.2,2,   138.47,2,    33.35,2,     0.00,2,     2.17,3,    0.013,2,    0.002,2, -999.000,9, -999.000,9, -999.000,9,-999.0000,9,  -999.00,9,   -192.6,2,     0.31,2,-999.000,9,   -999.0,9,   -999.0,9,     2.8,-999.0000,-999.000,-999.000,  -999.0,-999.000
   3220CGC92_2,   P13,    56,  1,    102,   1234,2,19920930,1259, 21.9667, 165.0103, 5374,  53009,   5300.0,   1.4447,  34.6998,2,  34.6934,2,    176.9,2,  0.9752,    176.3,2,   138.06,2,    33.49,2,     0.00,2,     2.35,2, -999.000,9, -999.000,9, -999.000,9, -999.000,9, -999.000,9,-999.0000,9,  -999.00,9,   -201.2,2,     0.30,2,-999.000,9,   -999.0,9,   -999.0,9,     2.7,-999.0000,-999.000,-999.000,  -999.0,-999.000
   3220CGC92_2,   P13,    56,  1,    101,   1238,2,19920930,1259, 21.9667, 165.0103, 5374,  53546,   5353.0,   1.4477,  34.6998,2,  34.6968,6,    176.6,2,  0.9714,    176.0,2,   136.61,2,    33.83,2,     0.00,2,     2.36,2,    0.016,6,    0.002,6,    0.417,4,    0.010,2, -999.000,9,-999.0000,9,  -999.00,9,   -196.7,2,     0.31,2,-999.000,9,   -999.0,9,   -999.0,9,     2.6,-999.0000,-999.000,-999.000,  -999.0,-999.000