BOTTLE,20221003CCHSIOAMB
EXPOCODE,SECT_ID,STNNBR,CASTNO,SAMPNO,BTLNBR,BTLNBR_FLAG_W,DATE,TIME,LATITUDE,LONGITUDE,DEPTH,CTDRAW,CTDPRS,CTDTMP,CTDSAL,CTDSAL_FLAG_W,SALNTY,SALNTY_FLAG_W,CTDOXY,CTDOXY_FLAG_W,THETA,OXYGEN,OXYGEN_FLAG_W,SILCAT,SILCAT_FLAG_W,NITRAT,NITRAT_FLAG_W,NITRIT,NITRIT_FLAG_W,PHSPHT,PHSPHT_FLAG_W,CFC-11,CFC-11_FLAG_W,CFC-12,CFC-12_FLAG_W,CFC113,CFC113_FLAG_W,CCL4,CCL4_FLAG_W,TRITUM,TRITUM_FLAG_W,HELIUM,HELIUM_FLAG_W,DELHE3,DELHE3_FLAG_W,DELC14,DELC14_FLAG_W,DELC13,DELC13_FLAG_W,NEON,NEON_FLAG_W,TCARBN,TCARBN_FLAG_W,ALKALI,ALKALI_FLAG_W,C14ERR,HELIER,DELHER,NEONER,C13ERR,TRITER
,,,,,,,,,,,,DBAR,DBAR,ITS-90,PSS-78,,PSS-78,,UMOL/KG,,DEG C,UMOL/KG,,UMOL/KG,,UMOL/KG,,UMOL/KG,,UMOL/KG,,PMOL/KG,,PMOL/KG,,PMOL/KG,,PMOL/KG,,TU,,NMOL/KG,,PERCNT,,/MILLE,,/MILLE,,NMOL/KG,,UMOL/KG,,UMOL/KG,,/MILLE,NMOL/KG,PERCNT,NMOL/KG,/MILLE,TU
   3220CGC92_2,   P13,    81,  1,    136,   1106,2,19921015,1054, -1.4983, 164.9860, 4345,     95,      6.0,  30.2767,  34.5731,2,  34.5140,2,   -999.0,9, 30.2752,    194.7,2,     0.83,2,     0.00,2,     0.00,2,     0.05,2,    1.528,2,    0.907,2, -999.000,9, -999.000,9, -999.000,9,-999.0000,9,  -999.00,9,   -999.0,9,  -999.00,9,-999.000,9,   1906.3,2,   2270.4,2,  -999.0,-999.0000,-999.000,-999.000,  -999.0,-999.000
   3220CGC92_2,   P13,    81,  1,    135,   1013,2,19921015,1054, -1.4983, 164.9860, 4345,    255,     22.0,  30.2557,  34.5862,2,  34.5990,4,    193.7,2, 30.2503,    193.7,2,     0.87,2,     0.00,2,     0.00,2,     0.06,2, -999.000,9, -999.000,9, -999.000,9, -999.000,9, -999.000,9,-999.0000,9,  -999.00,9,   -999.0,9,  -999.00,9,-999.000,9,   1910.0,6,   2275.1,6,  -999.0,-999.0000,-999.000,-999.000,  -999.0,-999.000
   3220CGC92_2,   P13,    81,  1,    134,   1030,2,19921015,1054, -1.4983, 164.9860, 4345,    494,     46.0,  30.1478,  34.8033,2,  34.8700,2,    195.6,2, 30.1363,    198.3,2,     1.03,2,     0.00,2,     0.00,2,     0.09,2,    1.535,2,    0.902,2, -999.000,9, -999.000,9, -999.000,9,-999.0000,9,  -999.00,9,   -999.0,9,  -999.00,9,-999.000,9,   1930.3,2,   2294.8,2,  -999.0,-999.0000,-999.000,-999.000,  -999.0,-999.000
   3220CGC92_2,   P13,    81,  1,    133,   1231,2,19921015,1054, -1.4983, 164.9860, 4345,    748,     71.0,  29.0970,  35.2367,2,  35.2901,2,    186.9,2, 29.0798,    185.8,2,     1.53,2,     1.44,2,     0.57,2,     0.29,2, -999.000,9, -999.000,9, -999.000,9, -999.000,9, -999.000,9,-999.0000,9,  -999.00,9,   -999.0,9,  -999.00,9,-999.000,9,   1991.8,2,   2320.2,2,  -999.0,-999.0000,-999.000,-999.000,  -999.0,-999.000
   3220CGC92_2,   P13,    81,  1,    132,   1017,2,19921015,1054, -1.4983, 164.9860, 4345,    991,     96.0,  25.1880,  35.0764,2,  35.0919,2,    136.2,2, 25.1670,    136.6,2,     3.59,2,     6.27,2,     0.32,2,     0.46,2,    1.516,2,    0.854,2, -999.000,9, -999.000,9, -999.000,9,-999.0000,9,  -999.00,9,   -999.0,9,  -999.00,9,-999.000,9,   2034.8,2,   2303.6,2,  -999.0,-999.0000,-999.000,-999.000,  -999.0,-999.000
   3220CGC92_2,   P13,    81,  1,    131,   1031,3,19921015,1054, -1.4983, 164.9860, 4345,   1250,    121.0,  24.0302,  35.1204,2,  35.1812,2,    132.3,2, 24.0047,    134.4,2,     3.96,2,     7.35,2,     0.00,2,     0.51,2, -999.000,9, -999.000,9, -999.000,9, -999.000,9, -999.000,9,-999.0000,9,  -999.00,9,   -999.0,9,  -999.00,9,-999.000,9,   2047.4,2,   2308.1,2,  -999.0,-999.0000,-999.000,-999.000,  -999.0,-999.000
   3220CGC92_2,   P13,    81,  1,    130,   1041,2,19921015,1054, -1.4983, 164.9860, 4345,   1511,    147.0,  22.8885,  35.2203,2,  35.2445,4,    135.8,2, 22.8586,    137.1,2,     5.78,2,     8.80,2,     0.00,2,     0.64,2,    1.499,2,    0.848,2, -999.000,9, -999.000,9, -999.000,9,-999.0000,9,  -999.00,9,   -999.0,9,  -999.00,9,-999.000,9,   2072.6,2,   2316.9,2,  -999.0,-999.0000,-999.000,-999.000,  -999.0,-999.000
   3220CGC92_2,   P13,    81,  1,    129,   1004,2,19921015,1054, -1.4983, 164.9860, 4345,   1736,    170.0,  20.2501,  35.3177,2,  35.2447,2,    136.1,2, 20.2184,    137.2,6,     6.90,2,    10.41,2,     0.00,2,     0.76,2, -999.000,9, -999.000,9, -999.000,9, -999.000,9, -999.000,9,-999.0000,9,  -999.00,9,   -999.0,9,  -999.00,9,-999.000,9,   2094.0,2,   2317.6,2,  -999.0,-999.0000,-999.000,-999.000,  -999.0,-999.000
   3220CGC92_2,   P13,    81,  1,    128,   1016,2,19921015,1054, -1.4983, 164.9860, 4345,   1993,    195.0,  17.9157,  35.4372,2,  35.0988,2,    140.3,2, 17.8822,    141.0,2,    10.09,2,    14.63,2,     0.00,2,     1.08,2,    0.956,2,    0.524,2, -999.000,9, -999.000,9, -999.000,9,-999.0000,9,  -999.00,9,   -999.0,9,  -999.00,9,-999.000,9,   2132.3,2,   2315.9,2,  -999.0,-999.0000,-999.000,-999.000,  -999.0,-999.000
   3220CGC92_2,   P13,    81,  1,    127,   1028,2,19921015,1054, -1.4983, 164.9860, 4345,   2475,    243.0,  13.1808,  34.9168,2,  34.9178,2,    133.9,2, 13.1471,    135.8,2,    15.28,2,    17.65,2,     0.00,2,     1.24,2, -999.000,9, -999.000,9, -999.000,9, -999.000,9, -999.000,9,-999.0000,9,  -999.00,9,   -999.0,9,  -999.00,9,-999.000,9,   2146.8,2,   2310.5,2,  -999.0,-999.0000,-999.000,-999.000,  -999.0,-999.000
   3220CGC92_2,   P13,    81,  1,    126,   1110,2,19921015,1054, -1.4983, 164.9860, 4345,   2987,    294.0,  12.2001,  34.8661,2,  34.8585,2,    113.7,2, 12.1612,    112.4,2,    19.07,2,    21.56,2,     0.00,2,     1.50,2,    0.548,2,    0.319,2, -999.000,9, -999.000,9, -999.000,9,-999.0000,9,  -999.00,9,   -999.0,9,  -999.00,9,-999.000,9,   2172.2,2,   2309.2,2,  -999.0,-999.0000,-999.000,-999.000,  -999.0,-999.000
   3220CGC92_2,   P13,    81,  1,    125,   1035,2,19921015,1054, -1.4983, 164.9860, 4345,   3522,    347.0,  10.8504,  34.7755,2,  34.7770,2,     96.1,2, 10.8078,     93.9,2,    23.49,2,    25.58,2,     0.00,2,     1.74,2, -999.000,9, -999.000,9, -999.000,9, -999.000,9, -999.000,9,-999.0000,9,  -999.00,9,   -999.0,9,  -999.00,9,-999.000,9,   2197.4,2,   2306.6,2,  -999.0,-999.0000,-999.000,-999.000,  -999.0,-999.000
   3220CGC92_2,   P13,    81,  1,    124,   1019,2,19921015,1054, -1.4983, 164.9860, 4345,   3985,    393.0,  10.2405,  34.7402,2,  34.7483,2,     96.6,2, 10.1939,     97.9,2,    24.16,2,    25.81,2,     0.00,2,     1.77,2,    0.300,2,    0.187,2, -999.000,9, -999.000,9, -999.000,9,-999.0000,9,  -999.00,9,   -999.0,9,  -999.00,9,-999.000,9,   2198.4,2,   2307.5,2,  -999.0,-999.0000,-999.000,-999.000,  -999.0,-999.000
   3220CGC92_2,   P13,    81,  1,    123,   1014,2,19921015,1054, -1.4983, 164.9860, 4345,   4486,    443.0,   9.6897,  34.7031,2,  34.7123,2,    106.6,2,  9.6388,    108.5,2,    24.89,2,    26.78,2,     0.00,2,     1.91,2, -999.000,9, -999.000,9, -999.000,9, -999.000,9, -999.000,9,-999.0000,9,  -999.00,9,   -999.0,9,  -999.00,9,-999.000,9,   2197.9,2,   2317.8,3,  -999.0,-999.0000,-999.000,-999.000,  -999.0,-999.000
   3220CGC92_2,   P13,    81,  1,    122,   1015,2,19921015,1054, -1.4983, 164.9860, 4345,   4976,    492.0,   8.7539,  34.6452,2,  34.6436,2,    111.6,2,  8.7007,    110.2,2,    28.58,2,    28.66,2,     0.00,2,     2.01,2,    0.152,2,    0.097,2, -999.000,9, -999.000,9, -999.000,9,-999.0000,9,  -999.00,9,   -999.0,9,  -999.00,9,-999.000,9,   2209.5,2,   2307.6,2,  -999.0,-999.0000,-999.000,-999.000,  -999.0,-999.000
   3220CGC92_2,   P13,    81,  1,    121,   1235,2,19921015,1054, -1.4983, 164.9860, 4345,   5985,    593.0,   7.0023,  34.5622,2,  34.5657,2,     94.8,2,  6.9456,     89.4,2,    45.24,2,    33.55,2,     0.00,2,     2.43,2, -999.000,9, -999.000,9, -999.000,9, -999.000,9, -999.000,9,-999.0000,9,  -999.00,9,   -999.0,9,  -999.00,9,-999.000,9,   2245.6,2,   2316.6,2,  -999.0,-999.0000,-999.000,-999.000,  -999.0,-999.000
   3220CGC92_2,   P13,    81,  1,    120,   1237,2,19921015,1054, -1.4983, 164.9860, 4345,   6978,    692.0,   6.1905,  34.5372,2,  34.5438,2,     95.4,2,  6.1281,     94.8,2,    53.50,2,    34.71,2,     0.00,2,     2.49,2,    0.017,2,    0.017,2, -999.000,9, -999.000,9, -999.000,9,-999.0000,9,  -999.00,9,   -999.0,9,  -999.00,9,-999.000,9,   2254.2,2,   2326.5,2,  -999.0,-999.0000,-999.000,-999.000,  -999.0,-999.000
   3220CGC92_2,   P13,    81,  1,    119,   1025,2,19921015,1054, -1.4983, 164.9860, 4345,   7994,    793.0,   5.6167,  34.5338,2,  34.5373,2,     98.4,2,  5.5480,     96.1,6,    61.66,2,    35.55,2,     0.00,2,     2.54,2, -999.000,9, -999.000,9, -999.000,9, -999.000,9, -999.000,9,-999.0000,9,  -999.00,9,   -999.0,9,  -999.00,9,-999.000,9,   2264.6,2,   2332.6,2,  -999.0,-999.0000,-999.000,-999.000,  -999.0,-999.000
   3220CGC92_2,   P13,    81,  1,    118,   1118,2,19921015,1054, -1.4983, 164.9860, 4345,   8993,    893.0,   5.0758,  34.5307,2,  34.5339,6,    102.5,2,  5.0015,    104.4,2,    65.82,2,    35.51,2,     0.00,2,     2.53,2,    0.008,2,    0.008,2, -999.000,9, -999.000,9, -999.000,9,-999.0000,9,  -999.00,9,   -999.0,9,  -999.00,9,-999.000,9,   2266.3,2,   2337.7,2,  -999.0,-999.0000,-999.000,-999.000,  -999.0,-999.000
   3220CGC92_2,   P13,    81,  1,    117,   1112,2,19921015,1054, -1.4983, 164.9860, 4345,  10010,    994.0,   4.5819,  34.5384,2,  34.5424,2,   -999.0,9,  4.5022,     99.2,2,    77.66,2,    36.21,2,     0.00,2,     2.61,2, -999.000,9, -999.000,9, -999.000,9, -999.000,9, -999.000,9,-999.0000,9,  -999.00,9,   -999.0,9,  -999.00,9,-999.000,9,   2282.6,2,   2348.9,2,  -999.0,-999.0000,-999.000,-999.000,  -999.0,-999.000
   3220CGC92_2,   P13,    81,  1,    116,   1104,2,19921015,1054, -1.4983, 164.9860, 4345,  11021,   1095.0,   4.1490,  34.5487,2,  34.5512,2,   -999.0,9,  4.0640,    101.2,2,    86.43,2,    36.10,2,     0.00,2,     2.63,2, -999.000,9, -999.000,9, -999.000,9, -999.000,9, -999.000,9,-999.0000,9,  -999.00,9,   -999.0,9,  -999.00,9,-999.000,9,   2291.9,2,   2358.4,2,  -999.0,-999.0000,-999.000,-999.000,  -999.0,-999.000
   3220CGC92_2,   P13,    81,  1,    114,   1012,2,19921015,1054, -1.4983, 164.9860, 4345,  12996,   1293.0,   3.4242,  34.5787,2,  34.5831,2,     97.7,2,  3.3290,     97.3,2,   109.00,2,    36.95,2,     0.00,2,     2.65,2, -999.000,9, -999.000,9, -999.000,9, -999.000,9, -999.000,9,-999.0000,9,  -999.00,9,   -999.0,9,  -999.00,9,-999.000,9,   2318.1,2,   2380.8,2,  -999.0,-999.0000,-999.000,-999.000,  -999.0,-999.000
   3220CGC92_2,   P13,    81,  1,    112,   1219,2,19921015,1054, -1.4983, 164.9860, 4345,  14990,   1492.0,   3.0253,  34.5916,2,  34.5965,2,    109.2,2,  2.9178,    110.1,2,   114.36,2,    36.54,2,     0.00,2,     2.56,3, -999.000,9, -999.000,9, -999.000,9, -999.000,9, -999.000,9,-999.0000,9,  -999.00,9,   -999.0,9,  -999.00,9,-999.000,9,   2318.1,2,   2390.1,2,  -999.0,-999.0000,-999.000,-999.000,  -999.0,-999.000
   3220CGC92_2,   P13,    81,  1,    110,   1029,2,19921015,1054, -1.4983, 164.9860, 4345,  17996,   1793.0,   2.4974,  34.6191,2,  34.6229,2,    111.6,2,  2.3712,    114.3,2,   129.39,2,    36.78,2,     0.00,2,     2.68,2, -999.000,9, -999.000,9, -999.000,9, -999.000,9, -999.000,9,-999.0000,9,  -999.00,9,   -999.0,9,  -999.00,9,-999.000,9,   2328.1,2,   2405.8,2,  -999.0,-999.0000,-999.000,-999.000,  -999.0,-999.000
   3220CGC92_2,   P13,    81,  1,    109,   1023,2,19921015,1054, -1.4983, 164.9860, 4345,  21017,   2095.0,   2.1535,  34.6391,2,  34.6432,2,    115.0,2,  2.0065,    118.1,2,   138.87,2,    36.58,2,     0.00,2,     2.65,2, -999.000,9, -999.000,9, -999.000,9, -999.000,9, -999.000,9,-999.0000,9,  -999.00,9,   -999.0,9,  -999.00,9,-999.000,9,   2338.1,2,   2416.9,2,  -999.0,-999.0000,-999.000,-999.000,  -999.0,-999.000
   3220CGC92_2,   P13,    81,  1,    108,   1032,2,19921015,1054, -1.4983, 164.9860, 4345,  24006,   2395.0,   1.8965,  34.6529,2,  34.6540,2,    125.0,2,  1.7276,   -999.0,5,   143.24,2,    36.59,2,     0.00,2,     2.62,2, -999.000,9, -999.000,9, -999.000,9, -999.000,9, -999.000,9,-999.0000,9,  -999.00,9,   -999.0,9,  -999.00,9,-999.000,9,   2336.4,2,   2418.4,2,  -999.0,-999.0000,-999.000,-999.000,  -999.0,-999.000
   3220CGC92_2,   P13,    81,  1,    107,   1037,2,19921015,1054, -1.4983, 164.9860, 4345,  27003,   2695.0,   1.7576,  34.6613,2,  34.6624,2,    128.0,2,  1.5640,    130.4,2,   147.20,2,    36.39,2,     0.00,2,     2.63,2, -999.000,9, -999.000,9, -999.000,9, -999.000,9, -999.000,9,-999.0000,9,  -999.00,9,   -999.0,9,  -999.00,9,-999.000,9,   2340.1,2,   2422.9,2,  -999.0,-999.0000,-999.000,-999.000,  -999.0,-999.000
   3220CGC92_2,   P13,    81,  1,    106,   1022,2,19921015,1054, -1.4983, 164.9860, 4345,  30010,   2997.0,   1.6526,  34.6675,2,  34.6701,2,    136.7,2,  1.4327,    136.8,2,   147.32,2,    35.60,2,     0.00,2,     2.62,2, -999.000,9, -999.000,9, -999.000,9, -999.000,9, -999.000,9,-999.0000,9,  -999.00,9,   -999.0,9,  -999.00,9,-999.000,9,   2336.7,2,   2422.6,2,  -999.0,-999.0000,-999.000,-999.000,  -999.0,-999.000
   3220CGC92_2,   P13,    81,  1,    105,   1221,2,19921015,1054, -1.4983, 164.9860, 4345,  32987,   3295.0,   1.5626,  34.6748,2,  34.6769,2,    145.1,2,  1.3156,    144.9,2,   146.62,2,    34.83,2,     0.00,2,     2.53,2, -999.000,9, -999.000,9, -999.000,9, -999.000,9, -999.000,9,-999.0000,9,  -999.00,9,   -999.0,9,  -999.00,9,-999.000,9,   2329.5,2,   2438.2,4,  -999.0,-999.0000,-999.000,-999.000,  -999.0,-999.000
   3220CGC92_2,   P13,    81,  1,    104,   1038,2,19921015,1054, -1.4983, 164.9860, 4345,  35998,   3597.0,   1.5096,  34.6809,2,  34.6818,2,    151.4,2,  1.2332,    152.5,2,   144.73,2,    34.48,2,     0.00,2,     2.47,2, -999.000,9, -999.000,9, -999.000,9, -999.000,9, -999.000,9,-999.0000,9,  -999.00,9,   -999.0,9,  -999.00,9,-999.000,9,   2324.4,2,   2419.2,2,  -999.0,-999.0000,-999.000,-999.000,  -999.0,-999.000
   3220CGC92_2,   P13,    81,  1,    103,   1033,2,19921015,1054, -1.4983, 164.9860, 4345,  38991,   3897.0,   1.4367,  34.6875,2,  34.6889,2,    163.4,2,  1.1306,    163.2,2,   140.21,2,    33.99,2,     0.00,2,     2.41,2, -999.000,9, -999.000,9, -999.000,9, -999.000,9, -999.000,9,-999.0000,9,  -999.00,9,   -999.0,9,  -999.00,9,-999.000,9,   2314.7,2,   2412.8,2,  -999.0,-999.0000,-999.000,-999.000,  -999.0,-999.000
   3220CGC92_2,   P13,    81,  1,    102,   1234,2,19921015,1054, -1.4983, 164.9860, 4345,  41972,   4196.0,   1.3677,  34.6945,2,  34.6954,2,    173.2,2,  1.0309,    174.4,2,   134.17,2,    33.23,2,     0.00,2,     2.35,2, -999.000,9, -999.000,9, -999.000,9, -999.000,9, -999.000,9,-999.0000,9,  -999.00,9,   -999.0,9,  -999.00,9,-999.000,9,   2301.9,2,   2403.9,2,  -999.0,-999.0000,-999.000,-999.000,  -999.0,-999.000
   3220CGC92_2,   P13,    81,  1,    101,   1238,2,19921015,1054, -1.4983, 164.9860, 4345,  44987,   4498.0,   1.3467,  34.6990,2,  34.6989,6,    182.9,2,  0.9765,    179.5,2,   131.18,2,    33.00,2,     0.00,2,     2.31,2, -999.000,9, -999.000,9, -999.000,9, -999.000,9, -999.000,9,-999.0000,9,  -999.00,9,   -999.0,9,  -999.00,9,-999.000,9,   2296.8,6,   2400.4,6,  -999.0,-999.0000,-999.000,-999.000,  -999.0,-999.000