BOTTLE,20221003CCHSIOAMB
EXPOCODE,SECT_ID,STNNBR,CASTNO,SAMPNO,BTLNBR,BTLNBR_FLAG_W,DATE,TIME,LATITUDE,LONGITUDE,DEPTH,CTDRAW,CTDPRS,CTDTMP,CTDSAL,CTDSAL_FLAG_W,SALNTY,SALNTY_FLAG_W,CTDOXY,CTDOXY_FLAG_W,THETA,OXYGEN,OXYGEN_FLAG_W,SILCAT,SILCAT_FLAG_W,NITRAT,NITRAT_FLAG_W,NITRIT,NITRIT_FLAG_W,PHSPHT,PHSPHT_FLAG_W,CFC-11,CFC-11_FLAG_W,CFC-12,CFC-12_FLAG_W,CFC113,CFC113_FLAG_W,CCL4,CCL4_FLAG_W,TRITUM,TRITUM_FLAG_W,HELIUM,HELIUM_FLAG_W,DELHE3,DELHE3_FLAG_W,DELC14,DELC14_FLAG_W,DELC13,DELC13_FLAG_W,NEON,NEON_FLAG_W,TCARBN,TCARBN_FLAG_W,ALKALI,ALKALI_FLAG_W,C14ERR,HELIER,DELHER,NEONER,C13ERR,TRITER
,,,,,,,,,,,,DBAR,DBAR,ITS-90,PSS-78,,PSS-78,,UMOL/KG,,DEG C,UMOL/KG,,UMOL/KG,,UMOL/KG,,UMOL/KG,,UMOL/KG,,PMOL/KG,,PMOL/KG,,PMOL/KG,,PMOL/KG,,TU,,NMOL/KG,,PERCNT,,/MILLE,,/MILLE,,NMOL/KG,,UMOL/KG,,UMOL/KG,,/MILLE,NMOL/KG,PERCNT,NMOL/KG,/MILLE,TU
   3220CGC92_1,   P13,    29,  1,    136,   1106,2,19920830,1744, 44.9907, 164.9808, 5720,     88,      6.0,  13.4738,  33.2137,2,  33.2082,2,    290.4,2, 13.4729,    273.2,2,    18.98,2,     9.16,2,     0.08,2,     0.95,2,    3.435,2,    1.724,2,    0.379,2,    5.005,2, -999.000,9,-999.0000,9,  -999.00,9,     11.4,2,     1.54,2,-999.000,9,   2033.0,2,   2240.5,2,     4.8,-999.0000,-999.000,-999.000,  -999.0,-999.000
   3220CGC92_1,   P13,    29,  1,    135,   1238,2,19920830,1744, 44.9907, 164.9808, 5720,    194,     16.0,  13.4758,  33.2136,2,  33.2137,2,    289.4,2, 13.4736,    276.9,2,    19.29,2,     9.74,2,     0.06,2,     1.26,2,    3.417,2,    1.733,2, -999.000,9, -999.000,9, -999.000,9,-999.0000,9,  -999.00,9,     -1.7,2,     1.58,2,-999.000,9,   2033.9,6,   2243.5,6,     6.4,-999.0000,-999.000,-999.000,  -999.0,-999.000
   3220CGC92_1,   P13,    29,  1,    134,   1030,2,19920830,1744, 44.9907, 164.9808, 5720,    499,     46.0,   5.6536,  33.3676,2,  33.4162,2,    340.6,2,  5.6500,    320.5,2,    29.39,2,    14.10,2,     0.19,2,     1.31,3,    5.066,2,    2.463,2, -999.000,9, -999.000,9, -999.000,9,-999.0000,9,  -999.00,9,      5.8,2,     1.00,2,-999.000,9,   2091.5,2,   2255.5,2,     6.2,-999.0000,-999.000,-999.000,  -999.0,-999.000
   3220CGC92_1,   P13,    29,  1,    133,   1231,2,19920830,1744, 44.9907, 164.9808, 5720,    734,     70.0,   4.6709,  33.3916,2,  33.5036,2,    335.5,2,  4.6658,    304.2,2,    30.30,2,    16.17,2,     0.12,2,     1.30,2,    4.917,2,    2.387,2,    0.487,2,    7.520,2, -999.000,9,-999.0000,9,  -999.00,9,      2.5,2,     0.80,2,-999.000,9,   2104.1,2,   2250.9,2,     5.2,-999.0000,-999.000,-999.000,  -999.0,-999.000
   3220CGC92_1,   P13,    29,  1,    132,   1109,2,19920830,1744, 44.9907, 164.9808, 5720,    986,     95.0,   4.4889,  33.4364,2,  33.5235,2,   -999.0,9,  4.4822,    301.9,2,    29.50,2,    16.54,2,     0.00,2,     1.30,2,    4.948,2,    2.408,2,    0.498,2,    7.673,2, -999.000,9,-999.0000,9,  -999.00,9,    -11.0,2,     0.75,2,-999.000,9,   2106.4,2,   2256.7,2,     5.8,-999.0000,-999.000,-999.000,  -999.0,-999.000
   3220CGC92_1,   P13,    29,  1,    131,   1031,2,19920830,1744, 44.9907, 164.9808, 5720,   1241,    120.0,   4.5169,  33.4734,2,  33.5969,2,   -999.0,9,  4.5084,    294.2,2,    31.37,2,    17.06,2,     0.00,2,     1.40,2,    4.814,2,    2.359,2,    0.457,2,    6.904,2, -999.000,9,-999.0000,9,  -999.00,9,      7.7,2,     0.72,2,-999.000,9,   2111.0,2,   2253.6,2,     3.3,-999.0000,-999.000,-999.000,  -999.0,-999.000
   3220CGC92_1,   P13,    29,  1,    130,   1041,2,19920830,1744, 44.9907, 164.9808, 5720,   1493,    145.0,   4.9528,  33.5792,2,  33.6431,2,    284.2,2,  4.9419,    283.2,2,    34.61,2,    18.54,2,     0.00,2,     1.50,2,    4.589,2,    2.268,2,    0.416,2,    6.559,2, -999.000,9,-999.0000,9,  -999.00,9,      4.2,2,     0.58,2,-999.000,9,   2119.6,2,   2262.2,2,     3.4,-999.0000,-999.000,-999.000,  -999.0,-999.000
   3220CGC92_1,   P13,    29,  1,    129,   1004,3,19920830,1744, 44.9907, 164.9808, 5720,   1741,    170.0,   5.2028,  33.6627,2,  33.6631,2,    266.4,2,  5.1896,   -999.0,5,    37.92,2,    21.01,2,     0.00,2,     2.41,2, -999.000,5, -999.000,5, -999.000,9, -999.000,9, -999.000,9,-999.0000,9,  -999.00,9,   -999.0,9,  -999.00,9,-999.000,9,   2131.6,2,   2259.5,2,  -999.0,-999.0000,-999.000,-999.000,  -999.0,-999.000
   3220CGC92_1,   P13,    29,  1,    127,   1117,2,19920830,1744, 44.9907, 164.9808, 5720,   2485,    244.0,   3.9890,  33.7306,2,  33.7466,2,    188.0,2,  3.9723,    170.1,2,    66.31,2,    30.76,2,     0.06,2,     2.25,2,    3.070,2,    1.423,2, -999.000,9, -999.000,9,    1.439,2,-999.0000,9,  -999.00,9,    -56.3,2,    -0.02,2,-999.000,9,   2220.6,2,   2283.0,2,     4.4,-999.0000,-999.000,-999.000,  -999.0,   0.005
   3220CGC92_1,   P13,    29,  1,    126,   1110,2,19920830,1744, 44.9907, 164.9808, 5720,   2994,    295.0,   3.8611,  33.8071,2,  33.8072,2,    152.2,2,  3.8410,    141.6,2,    75.16,2,    33.11,2,     0.00,2,     2.45,2,    2.587,2,    1.187,2, -999.000,9, -999.000,9,    1.289,2,-999.0000,9,  -999.00,9,   -999.0,5,    -0.39,2,-999.000,9,   2244.3,2,   2288.6,2,  -999.0,-999.0000,-999.000,-999.000,  -999.0,   0.004
   3220CGC92_1,   P13,    29,  1,    125,   1035,3,19920830,1744, 44.9907, 164.9808, 5720,   3495,    345.0,   3.7431,  33.8694,2,  33.8725,2,    127.4,2,  3.7198,    116.2,2,    83.48,2,    35.55,2,     0.00,2,     2.56,2,    2.095,2,    0.961,2, -999.000,9, -999.000,9, -999.000,9,-999.0000,9,  -999.00,9,   -999.0,9,  -999.00,9,-999.000,9,   2266.2,2,   2302.1,2,  -999.0,-999.0000,-999.000,-999.000,  -999.0,-999.000
   3220CGC92_1,   P13,    29,  1,    124,   1026,2,19920830,1744, 44.9907, 164.9808, 5720,   3991,    394.0,   3.8201,  33.9461,2,  33.9383,2,    104.3,2,  3.7930,     94.9,2,    90.86,2,    37.15,2,     0.00,2,     2.70,2,    1.674,2,    0.785,2,    0.143,2,    1.923,2,    1.080,2,-999.0000,9,  -999.00,9,   -114.0,2,    -0.37,2,-999.000,9,   2284.1,2,   2300.8,2,     4.0,-999.0000,-999.000,-999.000,  -999.0,   0.004
   3220CGC92_1,   P13,    29,  1,    123,   1014,2,19920830,1744, 44.9907, 164.9808, 5720,   4994,    494.0,   3.5941,  34.0532,2,  34.0425,2,     72.7,2,  3.5606,     64.5,2,   105.24,2,    40.78,2,     0.00,2,     2.97,2,    1.098,2,    0.501,2, -999.000,9, -999.000,9,    0.795,2,-999.0000,9,  -999.00,9,   -138.3,2,    -0.50,2,-999.000,9,   2311.6,2,   2324.6,2,     4.1,-999.0000,-999.000,-999.000,  -999.0,   0.003
   3220CGC92_1,   P13,    29,  1,    122,   1015,2,19920830,1744, 44.9907, 164.9808, 5720,   5995,    594.0,   3.4912,  34.1512,2,  34.1359,2,     51.0,2,  3.4508,     49.5,2,   115.21,2,    41.90,2,     0.00,2,     3.03,2,    0.650,2,    0.298,2,    0.081,2,    0.846,2,    0.619,2,-999.0000,9,  -999.00,9,   -999.0,5,    -0.54,2,-999.000,9,   2330.7,2,   2334.3,2,  -999.0,-999.0000,-999.000,-999.000,  -999.0,   0.003
   3220CGC92_1,   P13,    29,  1,    121,   1235,2,19920830,1744, 44.9907, 164.9808, 5720,   6993,    693.0,   3.2862,  34.2240,2,  34.2180,2,     41.2,2,  3.2396,     39.3,2,   125.96,2,    42.50,2,     0.00,2,     3.10,2,    0.399,2,    0.185,2,    0.125,2,    0.539,2,    0.430,2,-999.0000,9,  -999.00,9,   -171.5,2,    -0.58,2,-999.000,9,   2345.7,2,   2352.1,2,     3.2,-999.0000,-999.000,-999.000,  -999.0,   0.002
   3220CGC92_1,   P13,    29,  1,    120,   1237,2,19920830,1744, 44.9907, 164.9808, 5720,   7995,    793.0,   3.1193,  34.2857,2,  34.2751,2,   -999.0,9,  3.0662,     36.3,2,   132.98,2,    42.57,2,     0.00,2,     3.12,2,    0.267,6,    0.132,6,    0.054,2,    0.415,2,    0.386,2,-999.0000,9,  -999.00,9,   -178.8,2,    -0.58,2,-999.000,9,   2356.5,2,   2357.3,2,     5.4,-999.0000,-999.000,-999.000,  -999.0,   0.002
   3220CGC92_1,   P13,    29,  1,    119,   1025,2,19920830,1744, 44.9907, 164.9808, 5720,   9004,    894.0,   2.9573,  34.3335,2,  34.3274,2,   -999.0,9,  2.8979,     34.5,2,   138.81,2,    42.52,2,     0.00,2,     3.10,2,    0.190,2,    0.086,2,    0.035,2,    0.309,2,    0.261,2,-999.0000,9,  -999.00,9,   -204.0,2,    -0.58,2,-999.000,9,   2362.9,2,   2370.5,2,     3.9,-999.0000,-999.000,-999.000,  -999.0,   0.002
   3220CGC92_1,   P13,    29,  1,    118,   1118,2,19920830,1744, 44.9907, 164.9808, 5720,  10007,    994.0,   2.7923,  34.3709,2,  34.3624,2,   -999.0,9,  2.7267,     35.1,2,   143.92,2,    43.20,2,     0.00,2,     3.12,2,    0.135,6,    0.069,6,    0.033,2,    0.238,2, -999.000,9,-999.0000,9,  -999.00,9,   -202.4,2,    -0.57,2,-999.000,9,   2368.6,2,   2373.0,2,     3.7,-999.0000,-999.000,-999.000,  -999.0,-999.000
   3220CGC92_1,   P13,    29,  1,    117,   1005,2,19920830,1744, 44.9907, 164.9808, 5720,  11984,   1191.0,   2.5224,  34.4320,2,  34.4244,2,     32.8,2,  2.4443,     30.2,2,   156.61,2,    43.50,2,     0.00,2,     3.14,2,    0.068,2,    0.041,2, -999.000,9, -999.000,9,    0.166,2,-999.0000,9,  -999.00,9,   -214.1,2,    -0.63,2,-999.000,9,   2382.0,2,   2390.5,2,     3.1,-999.0000,-999.000,-999.000,  -999.0,   0.002
   3220CGC92_1,   P13,    29,  1,    116,   1104,2,19920830,1744, 44.9907, 164.9808, 5720,  14976,   1491.0,   2.2435,  34.5064,2,  34.5065,2,     42.8,2,  2.1452,     42.3,2,   164.84,2,    42.63,2,     0.00,2,     3.10,2,    0.042,2,    0.022,2,    0.041,2,    0.067,2, -999.000,9,-999.0000,9,  -999.00,9,   -229.2,2,    -0.54,2,-999.000,9,   2384.6,2,   2400.4,2,     4.5,-999.0000,-999.000,-999.000,  -999.0,-999.000
   3220CGC92_1,   P13,    29,  1,    115,   1020,2,19920830,1744, 44.9907, 164.9808, 5720,  18006,   1794.0,   2.0555,  34.5602,2,  34.5607,2,     60.1,2,  1.9355,     59.9,2,   166.53,2,    41.56,2,     0.00,2,     2.99,2,    0.008,2,    0.011,2, -999.000,9, -999.000,9, -999.000,9,-999.0000,9,  -999.00,9,   -243.3,2,    -0.44,2,-999.000,9,   2379.7,2,   2413.4,2,     3.2,-999.0000,-999.000,-999.000,  -999.0,-999.000
   3220CGC92_1,   P13,    29,  1,    114,   1012,2,19920830,1744, 44.9907, 164.9808, 5720,  20958,   2090.0,   1.8875,  34.5955,2,  34.5980,2,     76.4,2,  1.7454,     74.9,2,   168.00,2,    41.02,2,     0.00,2,     2.93,2, -999.000,5, -999.000,5, -999.000,9, -999.000,9, -999.000,9,-999.0000,9,  -999.00,9,   -240.3,2,    -0.35,2,-999.000,9,   2372.4,2,   2413.2,2,     3.2,-999.0000,-999.000,-999.000,  -999.0,-999.000
   3220CGC92_1,   P13,    29,  1,    113,   1229,2,19920830,1744, 44.9907, 164.9808, 5720,  23997,   2394.0,   1.7406,  34.6258,2,  34.6268,2,     93.6,2,  1.5746,     95.0,2,   166.15,2,    39.31,2,     0.00,2,     2.82,2,    0.002,2,    0.004,2, -999.000,9, -999.000,9, -999.000,9,-999.0000,9,  -999.00,9,   -241.5,2,    -0.22,2,-999.000,9,   2362.7,2,   2421.2,2,     2.5,-999.0000,-999.000,-999.000,  -999.0,-999.000
   3220CGC92_1,   P13,    29,  1,    112,   1219,2,19920830,1744, 44.9907, 164.9808, 5720,  27028,   2698.0,   1.6386,  34.6457,2,  34.6451,2,    107.9,2,  1.4472,    109.0,2,   162.79,2,    39.10,2,     0.00,2,     2.76,2,   -0.001,2,    0.004,2, -999.000,9, -999.000,9, -999.000,9,-999.0000,9,  -999.00,9,   -241.4,2,    -0.13,2,-999.000,9,   2353.4,2,   2417.6,2,     2.8,-999.0000,-999.000,-999.000,  -999.0,-999.000
   3220CGC92_1,   P13,    29,  1,    111,   1112,2,19920830,1744, 44.9907, 164.9808, 5720,  30005,   2996.0,   1.5736,  34.6579,2,  34.6566,2,    122.3,2,  1.3556,    122.7,2,   160.06,2,    38.54,2,     0.00,2,     2.76,2,    0.001,2,    0.005,2, -999.000,9, -999.000,9, -999.000,9,-999.0000,9,  -999.00,9,   -232.2,2,    -0.07,2,-999.000,9,   2345.3,2,   2423.2,2,     4.5,-999.0000,-999.000,-999.000,  -999.0,-999.000
   3220CGC92_1,   P13,    29,  1,    110,   1029,2,19920830,1744, 44.9907, 164.9808, 5720,  33002,   3297.0,   1.5266,  34.6674,2,  34.6671,2,   -999.0,9,  1.2803,    133.4,2,   158.14,2,    38.46,2,     0.00,2,     2.77,2,   -0.003,2,    0.009,2,    0.021,2,    0.033,2, -999.000,9,-999.0000,9,  -999.00,9,   -231.8,2,     0.02,2,-999.000,9,   2339.8,2,   2415.8,6,     3.4,-999.0000,-999.000,-999.000,  -999.0,-999.000
   3220CGC92_1,   P13,    29,  1,    109,   1023,2,19920830,1744, 44.9907, 164.9808, 5720,  35999,   3597.0,   1.4986,  34.6750,2,  34.6716,2,   -999.0,9,  1.2226,    139.1,2,   156.08,2,    38.06,2,     0.00,2,     2.68,2,    0.000,2,    0.001,2, -999.000,9, -999.000,9, -999.000,9,-999.0000,9,  -999.00,9,   -226.1,2,     0.01,2,-999.000,9,   2333.6,2,   2422.4,6,     3.1,-999.0000,-999.000,-999.000,  -999.0,-999.000
   3220CGC92_1,   P13,    29,  1,    108,   1032,2,19920830,1744, 44.9907, 164.9808, 5720,  39018,   3900.0,   1.4846,  34.3593,4,  34.6767,2,   -999.0,9,  1.1790,    145.1,2,   154.53,2,    37.39,2,     0.00,2,     2.64,2,    0.001,2,    0.002,2, -999.000,9, -999.000,9, -999.000,9,-999.0000,9,  -999.00,9,   -216.6,2,     0.10,2,-999.000,9,   2327.0,2,   2417.7,2,     2.4,-999.0000,-999.000,-999.000,  -999.0,-999.000
   3220CGC92_1,   P13,    29,  1,    107,   1037,2,19920830,1744, 44.9907, 164.9808, 5720,  42010,   4200.0,   1.4806,  34.6834,2,  34.6815,2,   -999.0,9,  1.1402,    150.3,2,   153.16,2,    36.95,2,     0.00,2,     2.57,2,    0.016,3,    0.006,2, -999.000,9, -999.000,9, -999.000,9,-999.0000,9,  -999.00,9,   -999.0,5,     0.08,2,-999.000,9,   2325.1,2,   2419.8,2,  -999.0,-999.0000,-999.000,-999.000,  -999.0,-999.000
   3220CGC92_1,   P13,    29,  1,    106,   1022,3,19920830,1744, 44.9907, 164.9808, 5720,  45950,   4594.0,   1.4916,  34.6869,2,  34.6843,2,   -999.0,9,  1.1060,    162.0,3,   151.48,2,    36.97,2,     0.00,2,     2.59,2,    0.015,3,    0.016,3, -999.000,9, -999.000,9, -999.000,9,-999.0000,9,  -999.00,9,   -220.6,2,    -0.08,3,-999.000,9,   2322.1,2,   2416.2,2,     3.3,-999.0000,-999.000,-999.000,  -999.0,-999.000
   3220CGC92_1,   P13,    29,  1,    105,   1221,2,19920830,1744, 44.9907, 164.9808, 5720,  50005,   5000.0,   1.5196,  34.6888,2,  34.6875,2,    160.0,2,  1.0846,    156.3,3,   151.46,2,    36.92,2,     0.00,2,     2.57,2,    0.014,3,    0.003,2, -999.000,9, -999.000,9, -999.000,9,-999.0000,9,  -999.00,9,   -210.6,2,     0.07,2,-999.000,9,   2321.3,2,   2418.6,2,     3.9,-999.0000,-999.000,-999.000,  -999.0,-999.000
   3220CGC92_1,   P13,    29,  1,    104,   1038,2,19920830,1744, 44.9907, 164.9808, 5720,  53985,   5398.0,   1.5606,  34.6901,2,  34.6883,2,    160.0,2,  1.0747,    160.6,2,   152.75,2,    36.71,2,     0.00,2,     2.58,2,    0.003,2,    0.010,2, -999.000,9, -999.000,9, -999.000,9,-999.0000,9,  -999.00,9,   -208.0,2,     0.18,2,-999.000,9,   2320.9,2,   2414.0,2,     3.4,-999.0000,-999.000,-999.000,  -999.0,-999.000
   3220CGC92_1,   P13,    29,  1,    103,   1033,2,19920830,1744, 44.9907, 164.9808, 5720,  55932,   5592.0,   1.5846,  34.6903,2,  34.6907,2,    161.5,2,  1.0730,    158.3,2,   153.42,2,    36.39,2,     0.00,2,     2.55,2,    0.003,2,    0.009,2, -999.000,9, -999.000,9, -999.000,9,-999.0000,9,  -999.00,9,   -205.0,2,     0.17,2,-999.000,9,   2321.5,2,   2421.4,2,     3.1,-999.0000,-999.000,-999.000,  -999.0,-999.000
   3220CGC92_1,   P13,    29,  1,    102,   1234,2,19920830,1744, 44.9907, 164.9808, 5720,  59514,   5949.0,   1.6306,  34.6902,2,  34.6897,6,    163.1,2,  1.0704,   -999.0,5,   153.19,2,    36.50,2,     0.00,2,     2.54,2,    0.004,6,    0.011,6,    0.060,2,    0.027,2, -999.000,9,-999.0000,9,  -999.00,9,   -217.6,2,     0.18,2,-999.000,9,   2321.7,6,   2418.7,2,     3.8,-999.0000,-999.000,-999.000,  -999.0,-999.000