BOTTLE,20221003CCHSIOAMB
EXPOCODE,SECT_ID,STNNBR,CASTNO,SAMPNO,BTLNBR,BTLNBR_FLAG_W,DATE,TIME,LATITUDE,LONGITUDE,DEPTH,CTDRAW,CTDPRS,CTDTMP,CTDSAL,CTDSAL_FLAG_W,SALNTY,SALNTY_FLAG_W,CTDOXY,CTDOXY_FLAG_W,THETA,OXYGEN,OXYGEN_FLAG_W,SILCAT,SILCAT_FLAG_W,NITRAT,NITRAT_FLAG_W,NITRIT,NITRIT_FLAG_W,PHSPHT,PHSPHT_FLAG_W,CFC-11,CFC-11_FLAG_W,CFC-12,CFC-12_FLAG_W,CFC113,CFC113_FLAG_W,CCL4,CCL4_FLAG_W,TRITUM,TRITUM_FLAG_W,HELIUM,HELIUM_FLAG_W,DELHE3,DELHE3_FLAG_W,DELC14,DELC14_FLAG_W,DELC13,DELC13_FLAG_W,NEON,NEON_FLAG_W,TCARBN,TCARBN_FLAG_W,ALKALI,ALKALI_FLAG_W,C14ERR,HELIER,DELHER,NEONER,C13ERR,TRITER
,,,,,,,,,,,,DBAR,DBAR,ITS-90,PSS-78,,PSS-78,,UMOL/KG,,DEG C,UMOL/KG,,UMOL/KG,,UMOL/KG,,UMOL/KG,,UMOL/KG,,PMOL/KG,,PMOL/KG,,PMOL/KG,,PMOL/KG,,TU,,NMOL/KG,,PERCNT,,/MILLE,,/MILLE,,NMOL/KG,,UMOL/KG,,UMOL/KG,,/MILLE,NMOL/KG,PERCNT,NMOL/KG,/MILLE,TU
   3220CGC92_1,   P13,    15,  1,    136,   1106,2,19920824,0833, 52.0157, 164.2887, 4369,     98,      7.0,  10.3045,  32.8282,2,  32.8427,2,    290.8,2, 10.3037,    288.3,2,    25.77,2,    12.47,2,     0.09,2,     1.25,2,    4.025,2,    2.022,2, -999.000,9, -999.000,9, -999.000,9,-999.0000,9,  -999.00,9,     -8.4,2,     1.68,2,-999.000,9,   2035.2,2,   2223.7,6,     3.5,-999.0000,-999.000,-999.000,  -999.0,-999.000
   3220CGC92_1,   P13,    15,  1,    135,   1033,2,19920824,0833, 52.0157, 164.2887, 4369,    244,     21.0,  10.3065,  32.8294,2,  32.8381,2,   -999.0,9, 10.3041,    287.6,2,    25.84,2,    12.90,2,     0.06,2,     1.25,2,    4.139,2,    2.042,2, -999.000,9, -999.000,9, -999.000,9,-999.0000,9,  -999.00,9,   -999.0,9,  -999.00,9,-999.000,9,   -999.0,9,   -999.0,9,  -999.0,-999.0000,-999.000,-999.000,  -999.0,-999.000
   3220CGC92_1,   P13,    15,  1,    134,   1109,2,19920824,0833, 52.0157, 164.2887, 4369,    490,     46.0,   4.6729,  32.9783,2,  33.0212,2,    318.1,2,  4.6696,    318.2,2,    30.87,2,    18.72,2,     0.42,2,     1.64,2,    5.815,6,    2.748,6, -999.000,9, -999.000,9, -999.000,9,-999.0000,9,  -999.00,9,   -999.0,9,  -999.00,9,-999.000,9,   -999.0,9,   -999.0,9,  -999.0,-999.0000,-999.000,-999.000,  -999.0,-999.000
   3220CGC92_1,   P13,    15,  1,    133,   1031,2,19920824,0833, 52.0157, 164.2887, 4369,    741,     71.0,   2.7343,  33.0795,2,  33.0783,2,    293.6,2,  2.7304,    315.4,2,    33.50,2,    22.79,2,     0.00,2,     1.80,2,    5.981,2,    2.787,2, -999.000,9, -999.000,9, -999.000,9,-999.0000,9,  -999.00,9,   -999.0,9,  -999.00,9,-999.000,9,   -999.0,9,   -999.0,9,  -999.0,-999.0000,-999.000,-999.000,  -999.0,-999.000
   3220CGC92_1,   P13,    15,  1,    132,   1008,2,19920824,0833, 52.0157, 164.2887, 4369,   1008,     97.0,   2.2285,  33.1708,2,  33.1537,2,    285.3,2,  2.2234,    303.1,2,    41.80,2,    25.02,2,     0.00,2,     1.93,2,    5.735,2,    2.726,2, -999.000,9, -999.000,9, -999.000,9,-999.0000,9,  -999.00,9,   -999.0,9,  -999.00,9,-999.000,9,   -999.0,9,   -999.0,9,  -999.0,-999.0000,-999.000,-999.000,  -999.0,-999.000
   3220CGC92_1,   P13,    15,  1,    131,   1030,2,19920824,0833, 52.0157, 164.2887, 4369,   1247,    121.0,   2.2795,  33.2532,2,  33.2360,2,    291.9,2,  2.2731,    289.2,2,    52.11,2,    28.13,2,     0.00,2,     2.11,2,    5.081,2,    2.473,2, -999.000,9, -999.000,9, -999.000,9,-999.0000,9,  -999.00,9,   -999.0,9,  -999.00,9,-999.000,9,   -999.0,9,   -999.0,9,  -999.0,-999.0000,-999.000,-999.000,  -999.0,-999.000
   3220CGC92_1,   P13,    15,  1,    130,   1032,2,19920824,0833, 52.0157, 164.2887, 4369,   1517,    148.0,   2.7963,  33.3822,2,  33.3309,2,    261.9,2,  2.7878,    260.8,2,    58.43,2,    30.13,2,     0.00,2,     2.25,2, -999.000,9, -999.000,9, -999.000,9, -999.000,9, -999.000,9,-999.0000,9,  -999.00,9,   -999.0,9,  -999.00,9,-999.000,9,   -999.0,9,   -999.0,9,  -999.0,-999.0000,-999.000,-999.000,  -999.0,-999.000
   3220CGC92_1,   P13,    15,  1,    129,   1004,2,19920824,0833, 52.0157, 164.2887, 4369,   1753,    171.0,   3.4372,  33.5752,2,  33.5409,2,    151.8,2,  3.4264,    162.7,2,    69.55,2,    34.73,2,     0.00,2,     2.50,2,    3.327,2,    1.585,2, -999.000,9, -999.000,9, -999.000,9,-999.0000,9,  -999.00,9,   -999.0,9,  -999.00,9,-999.000,9,   -999.0,9,   -999.0,9,  -999.0,-999.0000,-999.000,-999.000,  -999.0,-999.000
   3220CGC92_1,   P13,    15,  1,    128,   1028,2,19920824,0833, 52.0157, 164.2887, 4369,   2006,    196.0,   3.7101,  33.7114,2,  33.6796,2,    113.7,2,  3.6972,    111.4,2,    77.45,2,    36.99,2,     0.00,2,     2.69,2, -999.000,9, -999.000,9, -999.000,9, -999.000,9, -999.000,9,-999.0000,9,  -999.00,9,   -999.0,9,  -999.00,9,-999.000,9,   -999.0,9,   -999.0,9,  -999.0,-999.0000,-999.000,-999.000,  -999.0,-999.000
   3220CGC92_1,   P13,    15,  1,    127,   1117,2,19920824,0833, 52.0157, 164.2887, 4369,   2482,    244.0,   3.7861,  33.8627,2,  33.8569,2,   -999.0,9,  3.7697,     58.4,2,    85.50,2,    40.04,2,     0.00,2,     2.86,2,    1.497,6,    0.666,6, -999.000,9, -999.000,9, -999.000,9,-999.0000,9,  -999.00,9,   -999.0,9,  -999.00,9,-999.000,9,   -999.0,9,   -999.0,9,  -999.0,-999.0000,-999.000,-999.000,  -999.0,-999.000
   3220CGC92_1,   P13,    15,  1,    126,   1110,2,19920824,0833, 52.0157, 164.2887, 4369,   2995,    295.0,   3.7751,  33.9484,2,  33.9326,2,     35.5,2,  3.7552,     35.8,2,    94.50,2,    41.35,2,     0.00,2,     2.99,2, -999.000,9, -999.000,9, -999.000,9, -999.000,9, -999.000,9,-999.0000,9,  -999.00,9,   -999.0,9,  -999.00,9,-999.000,9,   -999.0,9,   -999.0,9,  -999.0,-999.0000,-999.000,-999.000,  -999.0,-999.000
   3220CGC92_1,   P13,    15,  1,    125,   1035,2,19920824,0833, 52.0157, 164.2887, 4369,   3472,    342.0,   3.7401,  34.0040,2,  33.9841,2,   -999.0,9,  3.7169,     27.0,2,   100.06,2,    42.04,2,     0.00,2,     2.99,2,    0.887,2,    0.391,2, -999.000,9, -999.000,9, -999.000,9,-999.0000,9,  -999.00,9,   -999.0,9,  -999.00,9,-999.000,9,   -999.0,9,   -999.0,9,  -999.0,-999.0000,-999.000,-999.000,  -999.0,-999.000
   3220CGC92_1,   P13,    15,  1,    124,   1026,2,19920824,0833, 52.0157, 164.2887, 4369,   3997,    395.0,   3.6781,  34.0572,2,  34.0574,2,   -999.0,9,  3.6514,     25.6,2,   103.79,2,    42.01,2,     0.00,2,     3.02,2, -999.000,9, -999.000,9, -999.000,9, -999.000,9, -999.000,9,-999.0000,9,  -999.00,9,   -999.0,9,  -999.00,9,-999.000,9,   -999.0,9,   -999.0,9,  -999.0,-999.0000,-999.000,-999.000,  -999.0,-999.000
   3220CGC92_1,   P13,    15,  1,    123,   1014,2,19920824,0833, 52.0157, 164.2887, 4369,   5011,    496.0,   3.4882,  34.1303,2,  34.1370,2,     22.4,2,  3.4549,     21.7,2,   115.65,2,    42.80,2,     0.00,2,     3.18,2,    0.359,2,    0.168,2, -999.000,9, -999.000,9, -999.000,9,-999.0000,9,  -999.00,9,   -999.0,9,  -999.00,9,-999.000,9,   -999.0,9,   -999.0,9,  -999.0,-999.0000,-999.000,-999.000,  -999.0,-999.000
   3220CGC92_1,   P13,    15,  1,    122,   1015,4,19920824,0833, 52.0157, 164.2887, 4369,   5998,    594.0,   3.3712,  34.1999,2,-999.0000,9,     19.1,2,  3.3313,   -999.0,9,  -999.00,5,  -999.00,9,  -999.00,9,  -999.00,5, -999.000,9, -999.000,9, -999.000,9, -999.000,9, -999.000,9,-999.0000,9,  -999.00,9,   -999.0,9,  -999.00,9,-999.000,9,   -999.0,9,   -999.0,9,  -999.0,-999.0000,-999.000,-999.000,  -999.0,-999.000
   3220CGC92_1,   P13,    15,  1,    121,   1235,2,19920824,0833, 52.0157, 164.2887, 4369,   6980,    692.0,   3.1972,  34.2528,2,  34.2409,2,     20.4,2,  3.1511,     18.0,2,   128.06,2,    43.40,2,     0.00,2,     3.17,2,    0.176,6,    0.079,2, -999.000,9, -999.000,9, -999.000,9,-999.0000,9,  -999.00,9,   -999.0,9,  -999.00,9,-999.000,9,   -999.0,9,   -999.0,9,  -999.0,-999.0000,-999.000,-999.000,  -999.0,-999.000
   3220CGC92_1,   P13,    15,  1,    120,   1237,2,19920824,0833, 52.0157, 164.2887, 4369,   7975,    791.0,   3.0613,  34.3030,2,  33.4057,4,   -999.0,9,  3.0087,    202.5,4,    62.08,4,    31.41,4,     0.00,2,     2.26,4, -999.000,9, -999.000,9, -999.000,9, -999.000,9, -999.000,9,-999.0000,9,  -999.00,9,   -999.0,9,  -999.00,9,-999.000,9,   -999.0,9,   -999.0,9,  -999.0,-999.0000,-999.000,-999.000,  -999.0,-999.000
   3220CGC92_1,   P13,    15,  1,    119,   1025,2,19920824,0833, 52.0157, 164.2887, 4369,   9002,    894.0,   2.9303,  34.3414,2,  34.3391,2,     19.5,2,  2.8711,     20.1,2,   138.79,2,    43.13,2,     0.00,2,     3.16,2,    0.072,2,    0.024,2, -999.000,9, -999.000,9, -999.000,9,-999.0000,9,  -999.00,9,   -999.0,9,  -999.00,9,-999.000,9,   -999.0,9,   -999.0,9,  -999.0,-999.0000,-999.000,-999.000,  -999.0,-999.000
   3220CGC92_1,   P13,    15,  1,    118,   1002,2,19920824,0833, 52.0157, 164.2887, 4369,   9984,    992.0,   2.7903,  34.3789,2,  34.3705,2,     21.6,2,  2.7249,     20.0,2,   142.73,2,    43.12,2,     0.00,2,     3.15,2, -999.000,9, -999.000,9, -999.000,9, -999.000,9, -999.000,9,-999.0000,9,  -999.00,9,   -999.0,9,  -999.00,9,-999.000,9,   -999.0,9,   -999.0,9,  -999.0,-999.0000,-999.000,-999.000,  -999.0,-999.000
   3220CGC92_1,   P13,    15,  1,    117,   1005,2,19920824,0833, 52.0157, 164.2887, 4369,  12003,   1193.0,   2.5204,  34.4452,2,  34.4375,2,   -999.0,9,  2.4422,     25.7,2,   151.41,2,    42.69,2,     0.00,2,     3.15,2,    0.023,2,    0.003,2, -999.000,9, -999.000,9, -999.000,9,-999.0000,9,  -999.00,9,   -999.0,9,  -999.00,9,-999.000,9,   -999.0,9,   -999.0,9,  -999.0,-999.0000,-999.000,-999.000,  -999.0,-999.000
   3220CGC92_1,   P13,    15,  1,    116,   1104,2,19920824,0833, 52.0157, 164.2887, 4369,  14010,   1394.0,   2.2915,  34.4937,2,  34.4925,2,     31.8,2,  2.2002,     32.3,2,   158.70,2,    42.06,2,     0.00,2,     3.05,2, -999.000,9, -999.000,9, -999.000,9, -999.000,9, -999.000,9,-999.0000,9,  -999.00,9,   -999.0,9,  -999.00,9,-999.000,9,   -999.0,9,   -999.0,9,  -999.0,-999.0000,-999.000,-999.000,  -999.0,-999.000
   3220CGC92_1,   P13,    15,  1,    115,   1020,2,19920824,0833, 52.0157, 164.2887, 4369,  15979,   1591.0,   2.1305,  34.5356,2,  34.5329,2,     43.4,2,  2.0257,     43.4,2,   161.05,2,    42.01,2,     0.00,2,     3.01,2,    0.092,4,   -0.021,2, -999.000,9, -999.000,9, -999.000,9,-999.0000,9,  -999.00,9,   -999.0,9,  -999.00,9,-999.000,9,   -999.0,9,   -999.0,9,  -999.0,-999.0000,-999.000,-999.000,  -999.0,-999.000
   3220CGC92_1,   P13,    15,  1,    114,   1120,2,19920824,0833, 52.0157, 164.2887, 4369,  18029,   1796.0,   1.9875,  34.5666,2,  34.5666,2,     56.6,2,  1.8682,     55.4,2,   164.15,2,    41.14,2,     0.00,2,     2.96,2, -999.000,9, -999.000,9, -999.000,9, -999.000,9, -999.000,9,-999.0000,9,  -999.00,9,   -999.0,9,  -999.00,9,-999.000,9,   -999.0,9,   -999.0,9,  -999.0,-999.0000,-999.000,-999.000,  -999.0,-999.000
   3220CGC92_1,   P13,    15,  1,    113,   1112,2,19920824,0833, 52.0157, 164.2887, 4369,  19992,   1993.0,   1.8865,  34.5913,2,  34.5910,2,     69.5,2,  1.7525,     68.4,2,   165.15,2,    39.42,2,     0.00,2,     2.86,3,    0.010,2,   -0.021,2, -999.000,9, -999.000,9, -999.000,9,-999.0000,9,  -999.00,9,   -999.0,9,  -999.00,9,-999.000,9,   -999.0,9,   -999.0,9,  -999.0,-999.0000,-999.000,-999.000,  -999.0,-999.000
   3220CGC92_1,   P13,    15,  1,    112,   1234,2,19920824,0833, 52.0157, 164.2887, 4369,  22002,   2194.0,   1.7986,  34.6113,2,  34.6104,2,     82.4,2,  1.6490,     81.2,2,   163.70,2,    39.35,2,     0.00,2,     2.82,3, -999.000,9, -999.000,9, -999.000,9, -999.000,9, -999.000,9,-999.0000,9,  -999.00,9,   -999.0,9,  -999.00,9,-999.000,9,   -999.0,9,   -999.0,9,  -999.0,-999.0000,-999.000,-999.000,  -999.0,-999.000
   3220CGC92_1,   P13,    15,  1,    111,   1221,2,19920824,0833, 52.0157, 164.2887, 4369,  23988,   2393.0,   1.7166,  34.6285,2,  34.6286,2,     93.2,2,  1.5511,     92.3,2,   162.61,2,    39.58,2,     0.00,2,     2.88,2,    0.005,2,   -0.021,2, -999.000,9, -999.000,9, -999.000,9,-999.0000,9,  -999.00,9,   -999.0,9,  -999.00,9,-999.000,9,   -999.0,9,   -999.0,9,  -999.0,-999.0000,-999.000,-999.000,  -999.0,-999.000
   3220CGC92_1,   P13,    15,  1,    110,   1118,4,19920824,0833, 52.0157, 164.2887, 4369,  25993,   2594.0,   1.6576,  34.6399,2,-999.0000,9,    103.5,2,  1.4753,   -999.0,9,  -999.00,5,  -999.00,9,  -999.00,9,  -999.00,5, -999.000,9, -999.000,9, -999.000,9, -999.000,9, -999.000,9,-999.0000,9,  -999.00,9,   -999.0,9,  -999.00,9,-999.000,9,   -999.0,9,   -999.0,9,  -999.0,-999.0000,-999.000,-999.000,  -999.0,-999.000
   3220CGC92_1,   P13,    15,  1,    109,   1113,2,19920824,0833, 52.0157, 164.2887, 4369,  28516,   2847.0,   1.5986,  34.6520,2,  34.6519,2,    116.6,2,  1.3942,    114.0,2,   158.16,2,    38.37,2,     0.00,2,     2.77,2,    0.003,2,   -0.005,2, -999.000,9, -999.000,9, -999.000,9,-999.0000,9,  -999.00,9,   -999.0,9,  -999.00,9,-999.000,9,   -999.0,9,   -999.0,9,  -999.0,-999.0000,-999.000,-999.000,  -999.0,-999.000
   3220CGC92_1,   P13,    15,  1,    108,   1016,2,19920824,0833, 52.0157, 164.2887, 4369,  31007,   3097.0,   1.5496,  34.6619,2,  34.6619,2,    124.2,2,  1.3224,    123.0,2,   155.85,2,    37.73,2,     0.00,2,     2.73,2, -999.000,9, -999.000,9, -999.000,9, -999.000,9, -999.000,9,-999.0000,9,  -999.00,9,   -999.0,9,  -999.00,9,-999.000,9,   -999.0,9,   -999.0,9,  -999.0,-999.0000,-999.000,-999.000,  -999.0,-999.000
   3220CGC92_1,   P13,    15,  1,    107,   1022,2,19920824,0833, 52.0157, 164.2887, 4369,  33506,   3347.0,   1.5156,  34.6690,2,  34.6702,2,   -999.0,9,  1.2646,    131.6,2,   153.61,2,    37.86,2,     0.00,2,     2.72,2,    0.012,2,    0.004,2, -999.000,9, -999.000,9, -999.000,9,-999.0000,9,  -999.00,9,   -999.0,9,  -999.00,9,-999.000,9,   -999.0,9,   -999.0,9,  -999.0,-999.0000,-999.000,-999.000,  -999.0,-999.000
   3220CGC92_1,   P13,    15,  1,    106,   1036,2,19920824,0833, 52.0157, 164.2887, 4369,  36035,   3601.0,   1.4946,  34.6737,2,  34.6713,2,   -999.0,9,  1.2182,    138.6,2,   151.18,2,    37.20,2,     0.00,2,     2.70,2, -999.000,9, -999.000,9, -999.000,9, -999.000,9, -999.000,9,-999.0000,9,  -999.00,9,   -999.0,9,  -999.00,9,-999.000,9,   -999.0,9,   -999.0,9,  -999.0,-999.0000,-999.000,-999.000,  -999.0,-999.000
   3220CGC92_1,   P13,    15,  1,    105,   1037,2,19920824,0833, 52.0157, 164.2887, 4369,  38491,   3847.0,   1.4906,  34.6771,2,  34.6753,2,    139.2,2,  1.1885,    142.7,2,   149.90,2,    37.09,2,     0.00,2,     2.64,2,    0.007,2,    0.003,2, -999.000,9, -999.000,9, -999.000,9,-999.0000,9,  -999.00,9,   -999.0,9,  -999.00,9,-999.000,9,   -999.0,9,   -999.0,9,  -999.0,-999.0000,-999.000,-999.000,  -999.0,-999.000
   3220CGC92_1,   P13,    15,  1,    104,   1029,3,19920824,0833, 52.0157, 164.2887, 4369,  40972,   4096.0,   1.4936,  34.6799,2,-999.0000,9,   -999.0,9,  1.1644,    263.2,4,  -999.00,5,  -999.00,9,  -999.00,9,  -999.00,5, -999.000,9, -999.000,9, -999.000,9, -999.000,9, -999.000,9,-999.0000,9,  -999.00,9,   -999.0,9,  -999.00,9,-999.000,9,   -999.0,9,   -999.0,9,  -999.0,-999.0000,-999.000,-999.000,  -999.0,-999.000
   3220CGC92_1,   P13,    15,  1,    103,   1023,2,19920824,0833, 52.0157, 164.2887, 4369,  44476,   4447.0,   1.5026,  34.6821,2,  34.6803,2,    150.9,2,  1.1336,    149.9,2,   148.10,2,    36.28,2,     0.00,2,     2.63,2,   -0.004,2,    0.002,2, -999.000,9, -999.000,9, -999.000,9,-999.0000,9,  -999.00,9,   -999.0,9,  -999.00,9,-999.000,9,   -999.0,9,   -999.0,9,  -999.0,-999.0000,-999.000,-999.000,  -999.0,-999.000
   3220CGC92_1,   P13,    15,  1,    102,   2001,2,19920824,0833, 52.0157, 164.2887, 4369,  46976,   4697.0,   1.5106,  34.6842,2,  34.6839,2,    152.6,2,  1.1123,   -999.0,5,   148.11,2,    36.05,2,     0.00,2,     2.60,2, -999.000,9, -999.000,9, -999.000,9, -999.000,9, -999.000,9,-999.0000,9,  -999.00,9,   -999.0,9,  -999.00,9,-999.000,9,   -999.0,9,   -999.0,9,  -999.0,-999.0000,-999.000,-999.000,  -999.0,-999.000
   3220CGC92_1,   P13,    15,  1,    101,   1038,2,19920824,0833, 52.0157, 164.2887, 4369,  50042,   5003.0,   1.5336,  34.6849,2,  34.6919,3,    154.8,2,  1.0978,    155.1,2,   149.13,2,    35.90,2,     0.00,2,     2.58,2,   -0.003,2,    0.001,2, -999.000,9, -999.000,9, -999.000,9,-999.0000,9,  -999.00,9,   -999.0,9,  -999.00,9,-999.000,9,   -999.0,9,   -999.0,9,  -999.0,-999.0000,-999.000,-999.000,  -999.0,-999.000