BOTTLE,20221003CCHSIOAMB
EXPOCODE,SECT_ID,STNNBR,CASTNO,SAMPNO,BTLNBR,BTLNBR_FLAG_W,DATE,TIME,LATITUDE,LONGITUDE,DEPTH,CTDRAW,CTDPRS,CTDTMP,CTDSAL,CTDSAL_FLAG_W,SALNTY,SALNTY_FLAG_W,CTDOXY,CTDOXY_FLAG_W,THETA,OXYGEN,OXYGEN_FLAG_W,SILCAT,SILCAT_FLAG_W,NITRAT,NITRAT_FLAG_W,NITRIT,NITRIT_FLAG_W,PHSPHT,PHSPHT_FLAG_W,CFC-11,CFC-11_FLAG_W,CFC-12,CFC-12_FLAG_W,CFC113,CFC113_FLAG_W,CCL4,CCL4_FLAG_W,TRITUM,TRITUM_FLAG_W,HELIUM,HELIUM_FLAG_W,DELHE3,DELHE3_FLAG_W,DELC14,DELC14_FLAG_W,DELC13,DELC13_FLAG_W,NEON,NEON_FLAG_W,TCARBN,TCARBN_FLAG_W,ALKALI,ALKALI_FLAG_W,C14ERR,HELIER,DELHER,NEONER,C13ERR,TRITER
,,,,,,,,,,,,DBAR,DBAR,ITS-90,PSS-78,,PSS-78,,UMOL/KG,,DEG C,UMOL/KG,,UMOL/KG,,UMOL/KG,,UMOL/KG,,UMOL/KG,,PMOL/KG,,PMOL/KG,,PMOL/KG,,PMOL/KG,,TU,,NMOL/KG,,PERCNT,,/MILLE,,/MILLE,,NMOL/KG,,UMOL/KG,,UMOL/KG,,/MILLE,NMOL/KG,PERCNT,NMOL/KG,/MILLE,TU
   3220CGC92_2,   P13,    78,  1,    136,   1106,2,19921014,1605,  0.0242, 164.9075, 4301,     91,      6.0,  30.3627,  34.7344,2,  34.7466,2,    202.9,2, 30.3612,    194.2,2,     1.14,2,     0.00,2,     0.00,2,     0.00,2,    1.539,2,    0.918,2,    0.968,4,    1.826,2, -999.000,9,-999.0000,9,  -999.00,9,   -999.0,5,     1.79,2,-999.000,9,   1925.9,2,   2285.5,2,  -999.0,-999.0000,-999.000,-999.000,  -999.0,-999.000
   3220CGC92_2,   P13,    78,  1,    135,   1013,2,19921014,1605,  0.0242, 164.9075, 4301,    237,     21.0,  30.1418,  34.7201,2,  34.7402,2,    204.5,2, 30.1365,    194.2,2,     3.09,2,     0.00,2,     0.00,2,     0.00,2,    1.521,2,    0.913,2,    0.260,2,    1.749,2,    1.097,2,   1.6720,2,    -1.12,2,   -999.0,5,     1.77,2,   6.421,2,   1924.9,6,   2284.3,6,  -999.0,  0.0080,   0.140,   0.028,  -999.0,   0.004
   3220CGC92_2,   P13,    78,  1,    134,   1030,2,19921014,1605,  0.0242, 164.9075, 4301,    494,     46.0,  30.1298,  34.7243,2,  34.7368,2,    197.9,2, 30.1183,    194.1,2,     1.17,2,     0.00,2,     0.00,2,     0.00,2,    1.525,2,    0.906,2,    0.327,2,    1.824,2, -999.000,9,-999.0000,9,  -999.00,9,   -999.0,5,     1.77,2,-999.000,9,   1922.8,2,   2286.3,2,  -999.0,-999.0000,-999.000,-999.000,  -999.0,-999.000
   3220CGC92_2,   P13,    78,  1,    133,   1231,2,19921014,1605,  0.0242, 164.9075, 4301,    721,     69.0,  30.1108,  34.7281,2,  35.0027,2,    200.1,2, 30.0936,    191.0,2,     1.65,2,     0.09,2,     0.00,2,     0.04,2,    1.544,2,    0.893,2,    0.677,4,    1.116,2,    1.091,2,   1.6880,2,    -0.41,2,   -999.0,5,     1.65,2,   6.590,2,   1964.3,2,   2300.1,2,  -999.0,  0.0080,   0.140,   0.029,  -999.0,   0.004
   3220CGC92_2,   P13,    78,  1,    132,   1017,2,19921014,1605,  0.0242, 164.9075, 4301,    986,     95.0,  23.8263,  35.0674,2,  35.0872,2,    134.1,2, 23.8064,    129.6,2,     4.75,2,     8.13,2,     0.18,2,     0.46,2,    1.516,2,    0.862,2, -999.000,9, -999.000,9,    1.097,2,   1.7010,2,     1.25,2,    101.6,2,     0.95,2,   6.707,2,   2048.5,2,   2299.8,2,     5.3,  0.0080,   0.140,   0.030,  -999.0,   0.004
   3220CGC92_2,   P13,    78,  1,    131,   1031,2,19921014,1605,  0.0242, 164.9075, 4301,   1242,    120.0,  22.5956,  35.0882,2,  35.1183,2,    128.2,2, 22.5714,    128.0,2,     5.70,2,     8.41,2,     0.10,2,     0.51,2,    1.504,2,    0.871,2, -999.000,9, -999.000,9,    1.092,2,   1.7060,2,     1.50,2,   -999.0,5,    -4.25,4,   6.803,2,   2062.3,2,   2308.2,2,  -999.0,  0.0080,   0.140,   0.030,  -999.0,   0.004
   3220CGC92_2,   P13,    78,  1,    130,   1041,2,19921014,1605,  0.0242, 164.9075, 4301,   1493,    145.0,  21.2939,  35.2969,2,  35.2589,2,    131.6,2, 21.2658,    132.5,2,     5.57,2,     9.15,2,     0.00,2,     0.56,2,    1.482,6,    0.852,6,    0.145,6,    0.269,6,    0.994,2,   1.7090,2,     1.49,2,   -999.0,5,     0.96,2,   6.834,2,   2070.3,2,   2317.1,2,  -999.0,  0.0080,   0.140,   0.030,  -999.0,   0.004
   3220CGC92_2,   P13,    78,  1,    129,   1004,2,19921014,1605,  0.0242, 164.9075, 4301,   1745,    170.0,  17.5218,  35.0998,2,  35.0320,2,    140.5,2, 17.4931,    140.9,2,     9.52,2,    10.78,2,     0.00,2,     0.68,2,    1.470,2,    0.823,2, -999.000,9, -999.000,9,    1.197,2,   1.7540,2,     2.59,2,     72.9,2,     0.82,2,   7.324,2,   2089.4,2,   2308.6,2,     3.8,  0.0080,   0.140,   0.032,  -999.0,   0.004
   3220CGC92_2,   P13,    78,  1,    128,   1016,2,19921014,1605,  0.0242, 164.9075, 4301,   1983,    194.0,  15.0384,  34.9341,2,  34.9291,2,    140.5,2, 15.0090,    140.3,2,    13.33,2,    13.28,2,     0.00,2,     0.85,2,    1.305,2,    0.747,2, -999.000,9, -999.000,9,    1.110,2,   1.7350,2,     4.82,2,   -999.0,5,     0.76,2,   7.080,2,   2111.8,2,   2305.4,2,  -999.0,  0.0080,   0.140,   0.031,  -999.0,   0.004
   3220CGC92_2,   P13,    78,  1,    127,   1028,2,19921014,1605,  0.0242, 164.9075, 4301,   2500,    246.0,  13.2158,  34.8431,2,  34.8687,2,    137.9,2, 13.1816,    137.4,2,    16.89,2,    17.44,2,     0.07,2,     1.12,2,    0.969,2,    0.537,2, -999.000,9, -999.000,9,    0.771,2,-999.0000,9,  -999.00,9,   -999.0,5,     0.78,2,-999.000,9,   2139.6,2,   2310.5,2,  -999.0,-999.0000,-999.000,-999.000,  -999.0,   0.003
   3220CGC92_2,   P13,    78,  1,    126,   1110,2,19921014,1605,  0.0242, 164.9075, 4301,   2990,    294.0,  12.8219,  34.9044,2,  34.8991,2,    130.2,2, 12.7817,    129.2,2,    16.48,2,    18.77,2,     0.00,2,     1.27,2,    0.747,6,    0.436,6,    0.072,6,    0.234,6,    0.545,2,   1.7510,2,     4.75,2,     17.6,2,     0.79,2,   7.229,2,   2153.5,2,   2310.0,2,     3.6,  0.0080,   0.140,   0.032,  -999.0,   0.003
   3220CGC92_2,   P13,    78,  1,    125,   1035,2,19921014,1605,  0.0242, 164.9075, 4301,   3489,    344.0,  11.1843,  34.7952,2,  34.8006,2,     84.3,2, 11.1413,     79.0,2,    24.04,2,    26.11,2,     0.00,2,     1.82,2,    0.351,2,    0.218,2, -999.000,9, -999.000,9, -999.000,9,-999.0000,9,  -999.00,9,   -999.0,5,  -999.00,5,-999.000,9,   2203.1,2,   2309.4,2,  -999.0,-999.0000,-999.000,-999.000,  -999.0,-999.000
   3220CGC92_2,   P13,    78,  1,    124,   1019,2,19921014,1605,  0.0242, 164.9075, 4301,   3989,    394.0,  10.2995,  34.7275,2,  34.7295,2,     80.0,2, 10.2526,     78.6,2,    27.74,2,    28.49,2,     0.00,2,     1.91,2,    0.262,2,    0.167,2,    0.044,2,    0.122,2,    0.279,2,-999.0000,9,  -999.00,9,   -999.0,5,     0.42,2,-999.000,9,   2213.6,2,   2306.8,2,  -999.0,-999.0000,-999.000,-999.000,  -999.0,   0.002
   3220CGC92_2,   P13,    78,  1,    123,   1014,2,19921014,1605,  0.0242, 164.9075, 4301,   4495,    444.0,   9.1908,  34.6651,2,  34.6714,2,     73.1,2,  9.1415,     69.4,2,    33.00,2,    32.02,2,     0.00,2,     2.27,2,    0.136,2,    0.092,2, -999.000,9, -999.000,9, -999.000,9,-999.0000,9,  -999.00,9,   -999.0,5,     0.40,2,-999.000,9,   2230.1,2,   2311.1,2,  -999.0,-999.0000,-999.000,-999.000,  -999.0,-999.000
   3220CGC92_2,   P13,    78,  1,    122,   1015,2,19921014,1605,  0.0242, 164.9075, 4301,   4991,    494.0,   8.8229,  34.6404,2,  34.6455,2,     94.6,2,  8.7692,     92.9,2,    31.92,2,    30.13,2,     0.00,2,     2.14,2,    0.152,6,    0.099,6, -999.000,9, -999.000,9, -999.000,9,-999.0000,9,  -999.00,9,    -82.5,6,     0.52,6,-999.000,9,   2219.4,2,   2309.4,2,     4.5,-999.0000,-999.000,-999.000,  -999.0,-999.000
   3220CGC92_2,   P13,    78,  1,    121,   1235,2,19921014,1605,  0.0242, 164.9075, 4301,   5974,    592.0,   7.3402,  34.5743,2,  34.5737,2,     95.4,2,  7.2821,     91.4,2,    42.09,2,    32.92,2,     0.00,2,     2.41,2,    0.049,2,    0.038,2, -999.000,9, -999.000,9,    0.049,2,   1.7960,2,     8.33,2,   -113.2,2,     0.45,2,   7.563,2,   2239.8,2,   2318.6,2,     5.4,  0.0080,   0.140,   0.033,  -999.0,   0.002
   3220CGC92_2,   P13,    78,  1,    120,   1237,2,19921014,1605,  0.0242, 164.9075, 4301,   6974,    691.0,   6.4025,  34.5470,2,  34.5486,2,     87.9,2,  6.3390,     88.0,2,    52.95,2,    36.09,2,     0.00,2,     2.54,2,    0.015,2,    0.016,2,    0.047,2,    0.067,2, -999.000,9,-999.0000,9,  -999.00,9,   -999.0,5,     0.34,2,-999.000,9,   2257.4,2,   2325.7,2,  -999.0,-999.0000,-999.000,-999.000,  -999.0,-999.000
   3220CGC92_2,   P13,    78,  1,    119,   1025,2,19921014,1605,  0.0242, 164.9075, 4301,   7998,    793.0,   5.6556,  34.5375,2,  34.5400,2,     89.4,2,  5.5867,     92.0,2,    62.96,2,    36.15,2,     0.00,2,     2.61,2,    0.005,2,    0.012,2, -999.000,9, -999.000,9,    0.024,2,   1.8200,2,    13.18,2,   -147.1,2,     0.34,2,   7.705,2,   2267.6,2,   2330.5,2,     3.2,  0.0090,   0.140,   0.034,  -999.0,   0.001
   3220CGC92_2,   P13,    78,  1,    118,   1118,2,19921014,1605,  0.0242, 164.9075, 4301,   8975,    891.0,   5.0688,  34.5381,2,  34.5403,6,     93.8,2,  4.9947,     93.3,6,    71.36,2,    36.65,2,     0.00,2,     2.66,2,    0.002,2,    0.003,2,    0.029,2,    0.046,2, -999.000,9,-999.0000,9,  -999.00,9,   -171.4,2,     0.31,2,-999.000,9,   2276.5,2,   2344.2,2,     6.8,-999.0000,-999.000,-999.000,  -999.0,-999.000
   3220CGC92_2,   P13,    78,  1,    117,   1112,2,19921014,1605,  0.0242, 164.9075, 4301,  10004,    994.0,   4.6559,  34.5458,2,  34.5483,2,     93.5,2,  4.5756,     89.7,2,    80.86,2,    37.81,2,     0.00,2,     2.71,2,   -0.001,2,    0.004,2, -999.000,9, -999.000,9, -999.000,9,   1.8190,2,    16.60,2,   -999.0,5,     0.24,2,-999.000,9,   2288.7,2,   2353.6,2,  -999.0,-999.0000,-999.000,-999.000,  -999.0,-999.000
   3220CGC92_2,   P13,    78,  1,    116,   1104,2,19921014,1605,  0.0242, 164.9075, 4301,  10990,   1092.0,   4.2630,  34.5539,2,  34.5592,2,     91.9,2,  4.1773,     91.2,2,    88.98,2,    37.49,2,     0.00,2,     2.76,2,   -0.002,2,    0.009,2, -999.000,9, -999.000,9, -999.000,9,-999.0000,9,  -999.00,9,   -185.1,2,     0.18,2,-999.000,9,   2298.6,2,   2362.6,2,     2.9,-999.0000,-999.000,-999.000,  -999.0,-999.000
   3220CGC92_2,   P13,    78,  1,    114,   1012,2,19921014,1605,  0.0242, 164.9075, 4301,  13001,   1293.0,   3.5941,  34.5767,2,  34.5792,2,     93.6,2,  3.4973,     92.5,2,   106.39,2,    38.47,2,     0.00,2,     2.76,2,   -0.004,2,    0.007,2,    0.000,2,    0.033,2, -999.000,9,   1.8860,2,    22.00,2,   -197.0,2,     0.09,2,-999.000,9,   2318.3,2,   2382.0,2,     3.9,-999.0000,-999.000,-999.000,  -999.0,-999.000
   3220CGC92_2,   P13,    78,  1,    112,   1219,2,19921014,1605,  0.0242, 164.9075, 4301,  14988,   1492.0,   3.1742,  34.5909,2,  34.5930,2,    101.8,2,  3.0650,    102.7,2,   114.48,2,    38.23,2,     0.00,2,     2.67,2, -999.000,9, -999.000,9, -999.000,9, -999.000,9, -999.000,9,   1.8910,2,    22.60,2,   -999.0,5,     0.08,2,-999.000,9,   2320.8,2,   2391.2,2,  -999.0,-999.0000,-999.000,-999.000,  -999.0,-999.000
   3220CGC92_2,   P13,    78,  1,    110,   1029,2,19921014,1605,  0.0242, 164.9075, 4301,  17987,   1792.0,   2.4544,  34.6219,2,  34.6220,2,    111.3,2,  2.3289,    113.5,2,   129.05,2,    38.54,2,     0.00,2,     2.73,2,   -0.005,2,    0.000,2,    0.123,4,    0.031,2, -999.000,9,   1.9140,2,    24.50,2,   -999.0,5,     0.07,2,-999.000,9,   2330.7,2,   2406.3,2,  -999.0,-999.0000,-999.000,-999.000,  -999.0,-999.000
   3220CGC92_2,   P13,    78,  1,    109,   1023,2,19921014,1605,  0.0242, 164.9075, 4301,  20992,   2093.0,   2.1195,  34.6400,2,  34.6447,2,    115.3,2,  1.9732,    116.6,2,   140.59,2,    38.19,2,     0.00,2,     2.70,2, -999.000,9, -999.000,9, -999.000,9, -999.000,9, -999.000,9,   1.9070,2,    25.10,2,   -226.2,2,     0.01,2,-999.000,9,   2341.0,2,   2412.7,2,     2.8,-999.0000,-999.000,-999.000,  -999.0,-999.000
   3220CGC92_2,   P13,    78,  1,    108,   1032,2,19921014,1605,  0.0242, 164.9075, 4301,  22972,   2291.0,   1.9995,  34.6486,2,  34.6527,2,    119.6,2,  1.8380,    121.2,2,   142.82,2,    37.86,2,     0.00,2,     2.67,2,   -0.005,2,    0.005,2, -999.000,9, -999.000,9, -999.000,9,   1.9190,2,    24.30,2,   -227.2,2,     0.01,2,-999.000,9,   2338.9,2,   2419.8,2,     2.9,-999.0000,-999.000,-999.000,  -999.0,-999.000
   3220CGC92_2,   P13,    78,  1,    107,   1037,2,19921014,1605,  0.0242, 164.9075, 4301,  25998,   2594.0,   1.7966,  34.6603,2,  34.6610,2,    126.9,2,  1.6115,    127.9,2,   146.88,2,    37.19,2,     0.00,2,     2.63,2, -999.000,9, -999.000,9, -999.000,9, -999.000,9, -999.000,9,   1.8980,2,    22.90,2,   -223.1,2,     0.00,2,-999.000,9,   2337.3,2,   2422.4,2,     4.9,-999.0000,-999.000,-999.000,  -999.0,-999.000
   3220CGC92_2,   P13,    78,  1,    106,   1022,2,19921014,1605,  0.0242, 164.9075, 4301,  28992,   2895.0,   1.6796,  34.6677,2,  34.6669,2,    132.9,2,  1.4689,    134.3,2,   147.72,2,    37.61,2,     0.00,2,     2.59,2,   -0.003,2,    0.000,2,    0.033,2,    0.034,2, -999.000,9,   1.9060,2,    20.90,2,   -999.0,5,     0.05,2,-999.000,9,   2335.9,2,   2424.9,2,  -999.0,-999.0000,-999.000,-999.000,  -999.0,-999.000
   3220CGC92_2,   P13,    78,  1,    105,   1221,2,19921014,1605,  0.0242, 164.9075, 4301,  31996,   3196.0,   1.5556,  34.6756,2,  34.6752,2,    142.5,2,  1.3186,    144.0,2,   146.92,2,    35.14,3,     0.00,2,     2.55,2, -999.000,9, -999.000,9, -999.000,9, -999.000,9, -999.000,9,   1.9080,2,    18.90,2,   -219.7,2,     0.09,2,-999.000,9,   2328.2,2,   2421.4,2,     2.8,-999.0000,-999.000,-999.000,  -999.0,-999.000
   3220CGC92_2,   P13,    78,  1,    104,   1038,2,19921014,1605,  0.0242, 164.9075, 4301,  34999,   3497.0,   1.5026,  34.6811,2,  34.6797,2,    149.3,2,  1.2367,    149.5,2,   145.34,2,    36.41,2,     0.00,2,     2.51,2,   -0.005,2,    0.001,2, -999.000,9, -999.000,9, -999.000,9,   1.8960,2,    18.40,2,   -999.0,5,  -999.00,5,-999.000,9,   2319.2,2,   2418.3,2,  -999.0,-999.0000,-999.000,-999.000,  -999.0,-999.000
   3220CGC92_2,   P13,    78,  1,    103,   1033,2,19921014,1605,  0.0242, 164.9075, 4301,  37993,   3797.0,   1.4656,  34.6866,2,  34.6898,3,    156.2,2,  1.1694,    154.3,2,   142.81,2,    35.54,2,     0.00,2,     2.45,2, -999.000,9, -999.000,9, -999.000,9, -999.000,9, -999.000,9,-999.0000,9,  -999.00,9,   -999.0,5,     0.17,2,-999.000,9,   2321.6,2,   2417.5,2,  -999.0,-999.0000,-999.000,-999.000,  -999.0,-999.000
   3220CGC92_2,   P13,    78,  1,    102,   1234,2,19921014,1605,  0.0242, 164.9075, 4301,  41007,   4099.0,   1.3797,  34.6946,2,  34.6946,2,    170.4,2,  1.0533,    170.1,2,   136.71,2,    34.23,2,     0.00,2,     2.34,2, -999.000,9, -999.000,9, -999.000,9, -999.000,9, -999.000,9,   1.8870,2,    15.40,2,   -206.1,2,     0.25,2,-999.000,9,   2308.5,2,   2410.9,2,     2.9,-999.0000,-999.000,-999.000,  -999.0,-999.000
   3220CGC92_2,   P13,    78,  1,    101,   1238,2,19921014,1605,  0.0242, 164.9075, 4301,  44297,   4429.0,   1.3327,  34.6995,2,  34.6996,6,    182.8,2,  0.9708,    179.2,2,   131.31,2,    33.82,2,     0.00,2,     2.29,2,   -0.006,2,    0.000,2,    0.107,4,    0.044,2, -999.000,9,   1.8800,2,    14.30,2,   -181.1,3,     0.32,2,-999.000,9,   2300.0,6,   2394.5,6,     3.0,-999.0000,-999.000,-999.000,  -999.0,-999.000