BOTTLE,20221003CCHSIOAMB
EXPOCODE,SECT_ID,STNNBR,CASTNO,SAMPNO,BTLNBR,BTLNBR_FLAG_W,DATE,TIME,LATITUDE,LONGITUDE,DEPTH,CTDRAW,CTDPRS,CTDTMP,CTDSAL,CTDSAL_FLAG_W,SALNTY,SALNTY_FLAG_W,CTDOXY,CTDOXY_FLAG_W,THETA,OXYGEN,OXYGEN_FLAG_W,SILCAT,SILCAT_FLAG_W,NITRAT,NITRAT_FLAG_W,NITRIT,NITRIT_FLAG_W,PHSPHT,PHSPHT_FLAG_W,CFC-11,CFC-11_FLAG_W,CFC-12,CFC-12_FLAG_W,CFC113,CFC113_FLAG_W,CCL4,CCL4_FLAG_W,TRITUM,TRITUM_FLAG_W,HELIUM,HELIUM_FLAG_W,DELHE3,DELHE3_FLAG_W,DELC14,DELC14_FLAG_W,DELC13,DELC13_FLAG_W,NEON,NEON_FLAG_W,TCARBN,TCARBN_FLAG_W,ALKALI,ALKALI_FLAG_W,C14ERR,HELIER,DELHER,NEONER,C13ERR,TRITER
,,,,,,,,,,,,DBAR,DBAR,ITS-90,PSS-78,,PSS-78,,UMOL/KG,,DEG C,UMOL/KG,,UMOL/KG,,UMOL/KG,,UMOL/KG,,UMOL/KG,,PMOL/KG,,PMOL/KG,,PMOL/KG,,PMOL/KG,,TU,,NMOL/KG,,PERCNT,,/MILLE,,/MILLE,,NMOL/KG,,UMOL/KG,,UMOL/KG,,/MILLE,NMOL/KG,PERCNT,NMOL/KG,/MILLE,TU
   3220CGC92_2,   P13,    75,  1,    136,   1106,2,19921013,1451,  1.5030, 164.9873, 4155,    110,      8.0,  30.1348,  34.3730,2,  34.3873,2,    196.3,2, 30.1328,    193.4,2,     0.60,2,     0.00,2,     0.00,2,     0.06,2,    1.542,2,    0.870,2, -999.000,9, -999.000,9, -999.000,9,-999.0000,9,  -999.00,9,   -999.0,9,  -999.00,9,-999.000,9,   1905.6,2,   2261.6,2,  -999.0,-999.0000,-999.000,-999.000,  -999.0,-999.000
   3220CGC92_2,   P13,    75,  1,    135,   1013,2,19921013,1451,  1.5030, 164.9873, 4155,    259,     23.0,  30.1418,  34.3753,2,  34.3899,2,    192.1,2, 30.1360,    193.0,2,     0.59,2,     0.00,2,     0.00,2,     0.06,2, -999.000,9, -999.000,9, -999.000,9, -999.000,9, -999.000,9,-999.0000,9,  -999.00,9,   -999.0,9,  -999.00,9,-999.000,9,   1906.1,6,   2262.6,6,  -999.0,-999.0000,-999.000,-999.000,  -999.0,-999.000
   3220CGC92_2,   P13,    75,  1,    134,   1030,2,19921013,1451,  1.5030, 164.9873, 4155,    509,     47.0,  30.1598,  34.5570,2,  34.4338,2,    193.8,2, 30.1481,    193.7,2,     0.73,2,     0.00,2,     0.00,2,     0.07,2,    1.530,2,    0.859,2, -999.000,9, -999.000,9, -999.000,9,-999.0000,9,  -999.00,9,   -999.0,9,  -999.00,9,-999.000,9,   1903.3,2,   2265.9,2,  -999.0,-999.0000,-999.000,-999.000,  -999.0,-999.000
   3220CGC92_2,   P13,    75,  1,    133,   1231,2,19921013,1451,  1.5030, 164.9873, 4155,    750,     71.0,  27.3874,  34.8846,2,  34.9002,2,    197.8,2, 27.3710,    196.1,2,     1.05,2,     0.00,2,     0.00,2,     0.15,2, -999.000,9, -999.000,9, -999.000,9, -999.000,9, -999.000,9,-999.0000,9,  -999.00,9,   -999.0,9,  -999.00,9,-999.000,9,   1943.2,2,   2295.3,2,  -999.0,-999.0000,-999.000,-999.000,  -999.0,-999.000
   3220CGC92_2,   P13,    75,  1,    132,   1017,2,19921013,1451,  1.5030, 164.9873, 4155,   1011,     97.0,  23.3874,  34.9890,2,  34.9855,2,    157.8,2, 23.3673,    148.3,2,     2.80,2,     4.03,2,     0.25,2,     0.41,2,    1.553,2,    0.879,2, -999.000,9, -999.000,9, -999.000,9,-999.0000,9,  -999.00,9,   -999.0,9,  -999.00,9,-999.000,9,   2017.1,2,   2297.5,2,  -999.0,-999.0000,-999.000,-999.000,  -999.0,-999.000
   3220CGC92_2,   P13,    75,  1,    131,   1031,2,19921013,1451,  1.5030, 164.9873, 4155,   1249,    121.0,  22.3416,  35.0674,2,  35.0603,2,    124.8,2, 22.3174,    124.7,2,     5.92,2,     9.52,2,     0.00,2,     0.66,2, -999.000,9, -999.000,9, -999.000,9, -999.000,9, -999.000,9,-999.0000,9,  -999.00,9,   -999.0,9,  -999.00,9,-999.000,9,   2063.2,2,   2300.0,2,  -999.0,-999.0000,-999.000,-999.000,  -999.0,-999.000
   3220CGC92_2,   P13,    75,  1,    130,   1041,2,19921013,1451,  1.5030, 164.9873, 4155,   1513,    147.0,  20.7470,  34.9956,2,  35.0113,2,    129.6,2, 20.7191,    131.0,2,     7.85,2,    10.15,2,     0.00,2,     0.70,2,    1.520,2,    0.848,2, -999.000,9, -999.000,9, -999.000,9,-999.0000,9,  -999.00,9,   -999.0,9,  -999.00,9,-999.000,9,   2073.5,2,   2302.8,2,  -999.0,-999.0000,-999.000,-999.000,  -999.0,-999.000
   3220CGC92_2,   P13,    75,  1,    129,   1004,2,19921013,1451,  1.5030, 164.9873, 4155,   1812,    177.0,  18.7175,  34.8451,2,  34.7658,4,    144.8,2, 18.6863,    147.1,2,    11.41,2,    10.56,2,     0.00,2,     0.75,2, -999.000,9, -999.000,9, -999.000,9, -999.000,9, -999.000,9,-999.0000,9,  -999.00,9,   -999.0,9,  -999.00,9,-999.000,9,   2075.1,2,   2292.7,2,  -999.0,-999.0000,-999.000,-999.000,  -999.0,-999.000
   3220CGC92_2,   P13,    75,  1,    128,   1016,2,19921013,1451,  1.5030, 164.9873, 4155,   2008,    197.0,  15.7842,  34.7703,2,  34.7644,2,    145.4,2, 15.7534,    142.7,2,    14.82,2,    13.84,2,     0.00,2,     0.95,2,    1.413,6,    0.761,6, -999.000,9, -999.000,9, -999.000,9,-999.0000,9,  -999.00,9,   -999.0,9,  -999.00,9,-999.000,9,   2103.1,2,   2296.9,2,  -999.0,-999.0000,-999.000,-999.000,  -999.0,-999.000
   3220CGC92_2,   P13,    75,  1,    127,   1028,2,19921013,1451,  1.5030, 164.9873, 4155,   2493,    245.0,  12.7769,  34.8694,2,  34.8968,2,    134.0,2, 12.7436,    134.9,2,    16.14,2,    18.25,2,     0.00,2,     1.28,2, -999.000,9, -999.000,9, -999.000,9, -999.000,9, -999.000,9,-999.0000,9,  -999.00,9,   -999.0,9,  -999.00,9,-999.000,9,   2147.3,2,   2307.6,2,  -999.0,-999.0000,-999.000,-999.000,  -999.0,-999.000
   3220CGC92_2,   P13,    75,  1,    126,   1110,2,19921013,1451,  1.5030, 164.9873, 4155,   3012,    296.0,  11.6742,  34.8187,2,  34.8255,2,    106.3,2, 11.6362,    104.3,2,    21.09,2,    23.61,2,     0.00,2,     1.59,2,    0.493,2,    0.304,2, -999.000,9, -999.000,9, -999.000,9,-999.0000,9,  -999.00,9,   -999.0,9,  -999.00,9,-999.000,9,   2182.8,2,   2308.5,2,  -999.0,-999.0000,-999.000,-999.000,  -999.0,-999.000
   3220CGC92_2,   P13,    75,  1,    125,   1035,2,19921013,1451,  1.5030, 164.9873, 4155,   3499,    345.0,  10.5975,  34.7434,2,  34.7540,2,     96.3,2, 10.5558,     93.6,2,    25.00,2,    26.36,2,     0.00,2,     1.81,2, -999.000,9, -999.000,9, -999.000,9, -999.000,9, -999.000,9,-999.0000,9,  -999.00,9,   -999.0,9,  -999.00,9,-999.000,9,   2199.5,2,   2307.4,2,  -999.0,-999.0000,-999.000,-999.000,  -999.0,-999.000
   3220CGC92_2,   P13,    75,  1,    124,   1019,2,19921013,1451,  1.5030, 164.9873, 4155,   4004,    395.0,   9.9886,  34.7046,2,  34.7139,2,     94.9,2,  9.9425,     95.9,2,    27.09,2,    27.59,2,     0.00,2,     1.84,2,    0.286,2,    0.167,2, -999.000,9, -999.000,9, -999.000,9,-999.0000,9,  -999.00,9,   -999.0,9,  -999.00,9,-999.000,9,   2202.4,2,   2306.9,2,  -999.0,-999.0000,-999.000,-999.000,  -999.0,-999.000
   3220CGC92_2,   P13,    75,  1,    123,   1014,2,19921013,1451,  1.5030, 164.9873, 4155,   4503,    445.0,   8.9149,  34.6346,2,  34.6505,2,    103.8,2,  8.8663,    105.4,2,    30.89,2,    29.24,2,     0.00,2,     2.00,2, -999.000,9, -999.000,9, -999.000,9, -999.000,9, -999.000,9,-999.0000,9,  -999.00,9,   -999.0,9,  -999.00,9,-999.000,9,   2207.6,2,   2308.6,2,  -999.0,-999.0000,-999.000,-999.000,  -999.0,-999.000
   3220CGC92_2,   P13,    75,  1,    122,   1015,2,19921013,1451,  1.5030, 164.9873, 4155,   5007,    495.0,   8.1820,  34.5813,2,  34.5921,2,    109.4,2,  8.1306,    108.1,2,    36.99,2,    29.65,2,     0.00,2,     2.06,2,    0.177,2,    0.106,2, -999.000,9, -999.000,9, -999.000,9,-999.0000,9,  -999.00,9,   -999.0,9,  -999.00,9,-999.000,9,   2217.9,2,   2309.5,2,  -999.0,-999.0000,-999.000,-999.000,  -999.0,-999.000
   3220CGC92_2,   P13,    75,  1,    121,   1235,2,19921013,1451,  1.5030, 164.9873, 4155,   5998,    594.0,   7.0093,  34.5512,2,  34.5633,2,     87.8,2,  6.9524,     84.4,2,    47.07,2,    33.92,2,     0.00,2,     2.43,2, -999.000,9, -999.000,9, -999.000,9, -999.000,9, -999.000,9,-999.0000,9,  -999.00,9,   -999.0,9,  -999.00,9,-999.000,9,   2248.1,2,   2319.1,2,  -999.0,-999.0000,-999.000,-999.000,  -999.0,-999.000
   3220CGC92_2,   P13,    75,  1,    120,   1237,2,19921013,1451,  1.5030, 164.9873, 4155,   7009,    695.0,   6.0495,  34.5348,2,  34.5397,2,     96.0,2,  5.9876,     94.8,2,    56.83,2,    36.02,2,     0.00,2,     2.53,2,    0.015,2,    0.013,2, -999.000,9, -999.000,9, -999.000,9,-999.0000,9,  -999.00,9,   -999.0,9,  -999.00,9,-999.000,9,   2258.0,2,   2328.9,2,  -999.0,-999.0000,-999.000,-999.000,  -999.0,-999.000
   3220CGC92_2,   P13,    75,  1,    119,   1025,2,19921013,1451,  1.5030, 164.9873, 4155,   8013,    795.0,   5.5397,  34.5328,2,  34.5373,2,     98.8,2,  5.4713,     97.8,2,    65.94,2,    36.30,2,     0.00,2,     2.53,2, -999.000,9, -999.000,9, -999.000,9, -999.000,9, -999.000,9,-999.0000,9,  -999.00,9,   -999.0,9,  -999.00,9,-999.000,9,   2268.0,2,   2338.3,2,  -999.0,-999.0000,-999.000,-999.000,  -999.0,-999.000
   3220CGC92_2,   P13,    75,  1,    118,   1118,2,19921013,1451,  1.5030, 164.9873, 4155,   8988,    892.0,   4.9498,  34.5385,2,  34.5448,6,     95.6,2,  4.8765,     95.3,2,    78.73,2,    37.07,2,     0.00,2,     2.62,2,    0.013,3,    0.001,2, -999.000,9, -999.000,9, -999.000,9,-999.0000,9,  -999.00,9,   -999.0,9,  -999.00,9,-999.000,9,   2283.5,2,   2350.8,2,  -999.0,-999.0000,-999.000,-999.000,  -999.0,-999.000
   3220CGC92_2,   P13,    75,  1,    117,   1112,2,19921013,1451,  1.5030, 164.9873, 4155,   9994,    993.0,   4.6179,  34.5443,2,  34.5515,2,     96.1,2,  4.5380,     95.6,2,    85.28,2,    37.47,2,     0.00,2,     2.64,2, -999.000,9, -999.000,9, -999.000,9, -999.000,9, -999.000,9,-999.0000,9,  -999.00,9,   -999.0,9,  -999.00,9,-999.000,9,   2290.0,2,   2356.6,2,  -999.0,-999.0000,-999.000,-999.000,  -999.0,-999.000
   3220CGC92_2,   P13,    75,  1,    116,   1104,2,19921013,1451,  1.5030, 164.9873, 4155,  11001,   1093.0,   4.3300,  34.5531,2,  34.5586,2,     95.4,2,  4.2436,     95.5,2,    92.14,2,    37.08,2,     0.00,2,     2.63,2, -999.000,9, -999.000,9, -999.000,9, -999.000,9, -999.000,9,-999.0000,9,  -999.00,9,   -999.0,9,  -999.00,9,-999.000,9,   2296.6,2,   2365.6,2,  -999.0,-999.0000,-999.000,-999.000,  -999.0,-999.000
   3220CGC92_2,   P13,    75,  1,    112,   1219,2,19921013,1451,  1.5030, 164.9873, 4155,  12995,   1292.0,   3.5821,  34.5759,2,  34.5799,2,     97.1,2,  3.4855,     96.2,2,   108.21,2,    37.51,2,     0.00,2,     2.68,2,   -0.001,2,    0.004,2, -999.000,9, -999.000,9, -999.000,9,-999.0000,9,  -999.00,9,   -999.0,9,  -999.00,9,-999.000,9,   2314.8,2,   2382.3,2,  -999.0,-999.0000,-999.000,-999.000,  -999.0,-999.000
   3220CGC92_2,   P13,    75,  1,    114,   1012,4,19921013,1451,  1.5030, 164.9873, 4155,  12996,   1293.0,   3.5781,  34.5761,2,-999.0000,9,     97.0,2,  3.4815,   -999.0,9,  -999.00,5,  -999.00,9,  -999.00,9,  -999.00,5, -999.000,9, -999.000,9, -999.000,9, -999.000,9, -999.000,9,-999.0000,9,  -999.00,9,   -999.0,9,  -999.00,9,-999.000,9,   -999.0,9,   -999.0,9,  -999.0,-999.0000,-999.000,-999.000,  -999.0,-999.000
   3220CGC92_2,   P13,    75,  1,    110,   1029,2,19921013,1451,  1.5030, 164.9873, 4155,  16994,   1692.0,   2.7503,  34.6089,2,  34.6096,2,    103.9,2,  2.6293,    104.1,2,   126.72,2,    38.29,2,     0.00,2,     2.76,2, -999.000,9, -999.000,9, -999.000,9, -999.000,9, -999.000,9,-999.0000,9,  -999.00,9,   -999.0,9,  -999.00,9,-999.000,9,   2330.3,2,   2403.4,2,  -999.0,-999.0000,-999.000,-999.000,  -999.0,-999.000
   3220CGC92_2,   P13,    75,  1,    109,   1023,2,19921013,1451,  1.5030, 164.9873, 4155,  20002,   1994.0,   2.2335,  34.6347,2,  34.6346,2,   -999.0,9,  2.0940,    114.8,3,   136.63,2,    37.50,2,     0.00,2,     2.68,2,   -0.005,2,    0.003,2, -999.000,9, -999.000,9, -999.000,9,-999.0000,9,  -999.00,9,   -999.0,9,  -999.00,9,-999.000,9,   2334.8,2,   2413.4,2,  -999.0,-999.0000,-999.000,-999.000,  -999.0,-999.000
   3220CGC92_2,   P13,    75,  1,    108,   1032,2,19921013,1451,  1.5030, 164.9873, 4155,  22990,   2293.0,   1.9925,  34.6482,2,  34.6476,2,   -999.0,9,  1.8309,    120.0,2,   142.77,2,    37.20,2,     0.00,2,     2.64,2, -999.000,9, -999.000,9, -999.000,9, -999.000,9, -999.000,9,-999.0000,9,  -999.00,9,   -999.0,9,  -999.00,9,-999.000,9,   2339.6,2,   2419.0,2,  -999.0,-999.0000,-999.000,-999.000,  -999.0,-999.000
   3220CGC92_2,   P13,    75,  1,    107,   1037,2,19921013,1451,  1.5030, 164.9873, 4155,  25980,   2593.0,   1.8176,  34.6609,2,  34.6593,2,   -999.0,9,  1.6322,    125.5,2,   147.10,2,    36.20,2,     0.00,2,     2.61,2, -999.000,9, -999.000,9, -999.000,9, -999.000,9, -999.000,9,-999.0000,9,  -999.00,9,   -999.0,9,  -999.00,9,-999.000,9,   2349.7,2,   2422.6,2,  -999.0,-999.0000,-999.000,-999.000,  -999.0,-999.000
   3220CGC92_2,   P13,    75,  1,    106,   1022,2,19921013,1451,  1.5030, 164.9873, 4155,  28996,   2895.0,   1.6906,  34.6662,2,  34.6664,2,   -999.0,9,  1.4796,    133.0,2,   148.59,2,    36.52,2,     0.00,2,     2.58,2, -999.000,9, -999.000,9, -999.000,9, -999.000,9, -999.000,9,-999.0000,9,  -999.00,9,   -999.0,9,  -999.00,9,-999.000,9,   2337.4,2,   2425.2,2,  -999.0,-999.0000,-999.000,-999.000,  -999.0,-999.000
   3220CGC92_2,   P13,    75,  1,    105,   1221,2,19921013,1451,  1.5030, 164.9873, 4155,  32003,   3197.0,   1.6066,  34.6729,2,  34.6692,3,   -999.0,9,  1.3683,    140.4,2,   147.80,2,    36.54,2,     0.00,2,     2.53,2,   -0.004,2,    0.003,2, -999.000,9, -999.000,9, -999.000,9,-999.0000,9,  -999.00,9,   -999.0,9,  -999.00,9,-999.000,9,   2332.8,2,   2422.1,2,  -999.0,-999.0000,-999.000,-999.000,  -999.0,-999.000
   3220CGC92_2,   P13,    75,  1,    104,   1038,2,19921013,1451,  1.5030, 164.9873, 4155,  35015,   3499.0,   1.5436,  34.6788,2,  34.6758,2,    146.8,2,  1.2765,    146.7,2,   146.67,2,    35.11,2,     0.00,2,     2.50,2, -999.000,9, -999.000,9, -999.000,9, -999.000,9, -999.000,9,-999.0000,9,  -999.00,9,   -999.0,9,  -999.00,9,-999.000,9,   2328.3,2,   2423.4,2,  -999.0,-999.0000,-999.000,-999.000,  -999.0,-999.000
   3220CGC92_2,   P13,    75,  1,    103,   1033,2,19921013,1451,  1.5030, 164.9873, 4155,  37978,   3796.0,   1.4946,  34.6836,2,  34.6810,2,    154.0,2,  1.1978,    153.7,2,   144.61,2,    35.45,2,     0.00,2,     2.47,2, -999.000,9, -999.000,9, -999.000,9, -999.000,9, -999.000,9,-999.0000,9,  -999.00,9,   -999.0,9,  -999.00,9,-999.000,9,   2322.8,2,   2419.5,2,  -999.0,-999.0000,-999.000,-999.000,  -999.0,-999.000
   3220CGC92_2,   P13,    75,  1,    102,   1234,2,19921013,1451,  1.5030, 164.9873, 4155,  40996,   4098.0,   1.3837,  34.6949,2,  34.6948,2,    169.1,2,  1.0573,    171.1,2,   136.37,2,    33.49,2,     0.00,2,     2.35,2, -999.000,9, -999.000,9, -999.000,9, -999.000,9, -999.000,9,-999.0000,9,  -999.00,9,   -999.0,9,  -999.00,9,-999.000,9,   2305.3,2,   2409.7,2,  -999.0,-999.0000,-999.000,-999.000,  -999.0,-999.000
   3220CGC92_2,   P13,    75,  1,    101,   1238,2,19921013,1451,  1.5030, 164.9873, 4155,  43084,   4308.0,   1.3307,  34.6990,2,  34.6983,6,    179.3,2,  0.9825,    177.0,2,   132.29,2,    33.83,2,     0.00,2,     2.31,2, -999.000,9, -999.000,9, -999.000,9, -999.000,9, -999.000,9,-999.0000,9,  -999.00,9,   -999.0,9,  -999.00,9,-999.000,9,   2295.6,6,   2398.5,6,  -999.0,-999.0000,-999.000,-999.000,  -999.0,-999.000