BOTTLE,20221003CCHSIOAMB
EXPOCODE,SECT_ID,STNNBR,CASTNO,SAMPNO,BTLNBR,BTLNBR_FLAG_W,DATE,TIME,LATITUDE,LONGITUDE,DEPTH,CTDRAW,CTDPRS,CTDTMP,CTDSAL,CTDSAL_FLAG_W,SALNTY,SALNTY_FLAG_W,CTDOXY,CTDOXY_FLAG_W,THETA,OXYGEN,OXYGEN_FLAG_W,SILCAT,SILCAT_FLAG_W,NITRAT,NITRAT_FLAG_W,NITRIT,NITRIT_FLAG_W,PHSPHT,PHSPHT_FLAG_W,CFC-11,CFC-11_FLAG_W,CFC-12,CFC-12_FLAG_W,CFC113,CFC113_FLAG_W,CCL4,CCL4_FLAG_W,TRITUM,TRITUM_FLAG_W,HELIUM,HELIUM_FLAG_W,DELHE3,DELHE3_FLAG_W,DELC14,DELC14_FLAG_W,DELC13,DELC13_FLAG_W,NEON,NEON_FLAG_W,TCARBN,TCARBN_FLAG_W,ALKALI,ALKALI_FLAG_W,C14ERR,HELIER,DELHER,NEONER,C13ERR,TRITER
,,,,,,,,,,,,DBAR,DBAR,ITS-90,PSS-78,,PSS-78,,UMOL/KG,,DEG C,UMOL/KG,,UMOL/KG,,UMOL/KG,,UMOL/KG,,UMOL/KG,,PMOL/KG,,PMOL/KG,,PMOL/KG,,PMOL/KG,,TU,,NMOL/KG,,PERCNT,,/MILLE,,/MILLE,,NMOL/KG,,UMOL/KG,,UMOL/KG,,/MILLE,NMOL/KG,PERCNT,NMOL/KG,/MILLE,TU
   3220CGC92_2,   P13,    67,  1,    136,   1106,2,19921009,0700, 14.0083, 164.9900, 5308,    100,      7.0,  28.8091,  34.5988,2,  34.5986,2,    210.9,2, 28.8074,    194.5,2,     0.54,2,     0.00,2,     0.00,2,     0.06,2,    1.616,2,    0.941,2, -999.000,9, -999.000,9, -999.000,9,-999.0000,9,  -999.00,9,   -999.0,5,     1.53,2,-999.000,9,   1922.8,2,   2275.8,2,  -999.0,-999.0000,-999.000,-999.000,  -999.0,-999.000
   3220CGC92_2,   P13,    67,  1,    135,   1013,2,19921009,0700, 14.0083, 164.9900, 5308,    251,     22.0,  28.8211,  34.6044,2,  34.6060,2,   -999.0,9, 28.8158,    194.3,2,     0.57,2,     0.00,2,     0.00,2,     0.06,2,    1.601,2,    0.925,2, -999.000,9, -999.000,9,    1.313,2,-999.0000,9,  -999.00,9,   -999.0,5,     1.52,2,-999.000,9,   1924.2,6,   2272.9,6,  -999.0,-999.0000,-999.000,-999.000,  -999.0,   0.004
   3220CGC92_2,   P13,    67,  1,    134,   1030,2,19921009,0700, 14.0083, 164.9900, 5308,    489,     46.0,  28.6731,  34.6575,2,  34.6689,2,    207.6,2, 28.6621,    194.7,2,     0.66,2,     0.00,2,     0.00,2,     0.06,2,    1.583,2,    0.927,2, -999.000,9, -999.000,9, -999.000,9,-999.0000,9,  -999.00,9,    110.2,2,     1.52,2,-999.000,9,   1928.1,2,   2278.4,2,     3.3,-999.0000,-999.000,-999.000,  -999.0,-999.000
   3220CGC92_2,   P13,    67,  1,    133,   1231,2,19921009,0700, 14.0083, 164.9900, 5308,    746,     71.0,  28.0073,  34.7104,2,  34.7193,2,    206.1,2, 27.9906,    204.5,2,     0.72,2,     0.00,2,     0.00,2,     0.07,2,    1.746,2,    1.018,2, -999.000,9, -999.000,9, -999.000,9,   1.6870,2,    -1.20,2,     85.8,2,     1.52,2,   6.548,2,   1937.3,2,   2283.5,2,     3.4,  0.0080,   0.140,   0.029,  -999.0,-999.000
   3220CGC92_2,   P13,    67,  1,    132,   1017,2,19921009,0700, 14.0083, 164.9900, 5308,    995,     96.0,  26.3537,  34.7549,2,  34.6885,2,    209.2,2, 26.3321,    205.9,2,     1.06,2,     0.00,2,     0.00,2,     0.11,2,    1.807,2,    1.021,2, -999.000,9, -999.000,9,    1.462,2,-999.0000,9,  -999.00,9,     89.9,2,     1.50,2,-999.000,9,   1943.7,2,   2282.1,2,     3.9,-999.0000,-999.000,-999.000,  -999.0,   0.005
   3220CGC92_2,   P13,    67,  1,    131,   1031,2,19921009,0700, 14.0083, 164.9900, 5308,   1253,    121.0,  25.2499,  35.0396,2,  35.0452,2,    200.2,2, 25.2235,    202.5,2,     1.05,2,     0.00,2,     0.00,2,     0.16,2,    1.894,2,    1.080,2, -999.000,9, -999.000,9,    1.591,2,-999.0000,9,  -999.00,9,    104.7,2,     1.40,2,-999.000,9,   1971.4,2,   2306.2,2,     3.3,-999.0000,-999.000,-999.000,  -999.0,   0.005
   3220CGC92_2,   P13,    67,  1,    130,   1041,2,19921009,0700, 14.0083, 164.9900, 5308,   1493,    145.0,  23.0845,  35.1099,2,  35.0939,2,    187.9,2, 23.0548,    190.6,2,     1.38,2,     0.04,2,     0.00,2,     0.25,2,    2.002,6,    1.129,6, -999.000,9, -999.000,9,    1.769,2,   1.7060,2,    -0.23,2,    110.6,2,     1.07,2,   6.794,2,   2008.4,2,   2308.6,2,     3.4,  0.0080,   0.140,   0.030,  -999.0,   0.005
   3220CGC92_2,   P13,    67,  1,    129,   1004,2,19921009,0700, 14.0083, 164.9900, 5308,   1727,    169.0,  21.2319,  34.9974,2,  34.9818,2,    173.6,2, 21.1993,    177.4,2,     2.79,2,     1.34,2,     0.00,2,     0.43,2,    2.086,2,    1.151,2, -999.000,9, -999.000,9,    1.898,2,   1.7180,2,     1.17,2,     99.3,2,     1.01,2,   6.879,2,   2045.1,2,   2303.9,2,     4.7,  0.0080,   0.140,   0.030,  -999.0,   0.006
   3220CGC92_2,   P13,    67,  1,    128,   1016,2,19921009,0700, 14.0083, 164.9900, 5308,   1987,    194.0,  18.3826,  34.8827,2,  34.8358,2,    169.7,2, 18.3488,    169.3,2,     4.79,2,     4.54,2,     0.00,2,     0.64,2,    2.119,2,    1.158,2, -999.000,9, -999.000,9, -999.000,9,   1.7260,2,     2.57,2,   -999.0,5,  -999.00,5,   6.993,2,   2065.4,2,   2291.8,2,  -999.0,  0.0080,   0.140,   0.031,  -999.0,-999.000
   3220CGC92_2,   P13,    67,  1,    127,   1028,2,19921009,0700, 14.0083, 164.9900, 5308,   2482,    244.0,  13.9666,  34.4850,2,  34.5807,2,    178.7,2, 13.9315,    186.8,2,     8.47,2,     8.45,2,     0.00,2,     0.79,2,    2.280,2,    1.204,2, -999.000,9, -999.000,9,    1.962,2,   1.7090,2,     4.07,2,     88.2,2,     0.55,2,   7.021,2,   2061.4,2,   2276.2,2,     5.1,  0.0080,   0.140,   0.031,  -999.0,   0.006
   3220CGC92_2,   P13,    67,  1,    126,   1110,2,19921009,0700, 14.0083, 164.9900, 5308,   3002,    295.0,  10.4715,  34.2899,2,  34.2980,2,    141.2,2, 10.4364,    138.1,2,    21.64,2,    18.98,2,     0.00,2,     1.62,2,    1.449,2,    0.766,2, -999.000,9, -999.000,9,    1.795,2,-999.0000,9,  -999.00,9,     10.5,2,     0.26,2,-999.000,9,   2140.2,2,   2269.1,2,     3.2,-999.0000,-999.000,-999.000,  -999.0,   0.005
   3220CGC92_2,   P13,    67,  1,    125,   1035,2,19921009,0700, 14.0083, 164.9900, 5308,   3495,    345.0,   9.4147,  34.3820,2,  34.3533,2,     97.7,2,  9.3762,     84.5,6,    34.92,2,    26.41,2,     0.00,2,     2.23,3,    0.624,2,    0.331,2, -999.000,9, -999.000,9, -999.000,9,-999.0000,9,  -999.00,9,   -999.0,5,  -999.00,5,-999.000,9,   2205.3,2,   2283.6,2,  -999.0,-999.0000,-999.000,-999.000,  -999.0,-999.000
   3220CGC92_2,   P13,    67,  1,    124,   1019,2,19921009,0700, 14.0083, 164.9900, 5308,   4054,    400.0,   8.3220,  34.4207,2,  34.3577,2,     65.8,2,  8.2804,     63.5,2,    42.35,2,    28.45,2,     0.09,2,     2.46,3,    0.340,6,    0.187,6, -999.000,9, -999.000,9,    0.803,2,   1.7660,2,    12.10,2,    -91.5,2,    -0.12,2,   7.424,2,   2231.9,2,   2292.5,2,     2.7,  0.0080,   0.140,   0.033,  -999.0,   0.003
   3220CGC92_2,   P13,    67,  1,    123,   1014,2,19921009,0700, 14.0083, 164.9900, 5308,   5004,    495.0,   7.3892,  34.4671,2,  34.4794,2,   -999.0,9,  7.3408,     39.8,2,    52.15,2,    34.32,2,     0.00,2,     2.70,2,    0.050,2,    0.029,2, -999.000,9, -999.000,9, -999.000,9,-999.0000,9,  -999.00,9,   -135.5,6,    -0.06,6,-999.000,9,   2268.2,2,   2313.1,2,    14.6,-999.0000,-999.000,-999.000,  -999.0,-999.000
   3220CGC92_2,   P13,    67,  1,    122,   1015,2,19921009,0700, 14.0083, 164.9900, 5308,   5992,    593.0,   6.6644,  34.4883,2,  34.4796,2,     50.5,2,  6.6092,     50.4,2,    63.33,2,    35.29,2,     0.00,2,     2.81,2,    0.016,6,    0.007,6, -999.000,9, -999.000,9,    0.081,2,   1.7800,2,    10.28,2,   -142.8,2,    -0.04,2,   7.488,2,   2281.0,2,   2323.8,2,     4.1,  0.0080,   0.140,   0.033,  -999.0,   0.002
   3220CGC92_2,   P13,    67,  1,    121,   1235,2,19921009,0700, 14.0083, 164.9900, 5308,   6992,    693.0,   6.0855,  34.4983,2,  34.4960,2,     61.1,2,  6.0236,     48.0,2,    72.07,2,    38.12,2,     0.00,2,     2.95,2,    0.004,2,    0.005,2, -999.000,9, -999.000,9, -999.000,9,-999.0000,9,  -999.00,9,   -172.1,2,     0.00,2,-999.000,9,   2291.5,2,   2336.5,2,     2.8,-999.0000,-999.000,-999.000,  -999.0,-999.000
   3220CGC92_2,   P13,    67,  1,    120,   1237,2,19921009,0700, 14.0083, 164.9900, 5308,   7990,    793.0,   5.5187,  34.5093,2,  34.5035,2,     58.4,2,  5.4506,     52.3,2,    79.08,2,    37.67,3,     0.00,2,     2.95,2,    0.001,2,    0.003,2, -999.000,9, -999.000,9,    0.032,2,   1.7650,2,    13.49,2,   -172.2,2,     0.01,2,   7.425,2,   2300.8,2,   2342.4,2,     3.9,  0.0080,   0.140,   0.033,  -999.0,   0.002
   3220CGC92_2,   P13,    67,  1,    119,   1025,2,19921009,0700, 14.0083, 164.9900, 5308,   8999,    893.0,   5.0048,  34.5241,2,  34.5175,2,     53.3,2,  4.9310,     51.8,2,    87.26,2,    38.93,2,     0.00,2,     3.04,2,   -0.001,2,   -0.001,2, -999.000,9, -999.000,9, -999.000,9,-999.0000,9,  -999.00,9,   -188.8,2,    -0.03,2,-999.000,9,   2309.9,2,   2353.0,2,     2.6,-999.0000,-999.000,-999.000,  -999.0,-999.000
   3220CGC92_2,   P13,    67,  1,    118,   1118,2,19921009,0700, 14.0083, 164.9900, 5308,   9997,    993.0,   4.6719,  34.5300,2,  34.5327,6,     55.5,2,  4.5916,     54.4,2,    95.65,2,    38.99,2,     0.00,2,     3.04,2,    0.002,2,   -0.001,2, -999.000,9, -999.000,9, -999.000,9,-999.0000,9,  -999.00,9,   -198.1,2,    -0.05,2,-999.000,9,   2319.9,2,   2359.7,2,     2.6,-999.0000,-999.000,-999.000,  -999.0,-999.000
   3220CGC92_2,   P13,    67,  1,    117,   1005,2,19921009,0700, 14.0083, 164.9900, 5308,  11284,   1121.0,   4.2260,  34.5449,2,  34.5438,2,     60.4,2,  4.1381,     57.5,6,   104.85,2,    39.35,2,     0.00,2,     3.11,2,    0.004,2,   -0.006,2, -999.000,9, -999.000,9, -999.000,9,-999.0000,9,  -999.00,9,   -214.9,2,    -0.07,2,-999.000,9,   2329.1,2,   2368.5,2,     2.9,-999.0000,-999.000,-999.000,  -999.0,-999.000
   3220CGC92_2,   P13,    67,  1,    116,   1104,2,19921009,0700, 14.0083, 164.9900, 5308,  12983,   1291.0,   3.6441,  34.5637,2,  34.5619,2,     67.7,2,  3.5470,     68.0,2,   116.07,2,    38.77,2,     0.00,2,     3.10,2,   -0.003,2,   -0.002,2, -999.000,9, -999.000,9, -999.000,9,-999.0000,9,  -999.00,9,   -208.8,2,    -0.14,2,-999.000,9,   2334.9,2,   2381.8,2,     3.0,-999.0000,-999.000,-999.000,  -999.0,-999.000
   3220CGC92_2,   P13,    67,  1,    115,   1020,2,19921009,0700, 14.0083, 164.9900, 5308,  14989,   1492.0,   3.0903,  34.5810,2,  34.5846,2,     77.5,2,  2.9820,     77.8,2,   130.07,2,    38.07,2,     0.00,2,     3.03,2,    0.003,2,   -0.001,2, -999.000,9, -999.000,9, -999.000,9,-999.0000,9,  -999.00,9,   -999.0,9,  -999.00,9,-999.000,9,   2342.9,2,   2397.7,2,  -999.0,-999.0000,-999.000,-999.000,  -999.0,-999.000
   3220CGC92_2,   P13,    67,  1,    114,   1012,2,19921009,0700, 14.0083, 164.9900, 5308,  16964,   1689.0,   2.6174,  34.6027,2,  34.6049,2,     87.5,2,  2.4983,     89.3,2,   138.78,2,    38.07,2,     0.00,2,     3.01,2, -999.000,9, -999.000,9, -999.000,9, -999.000,9, -999.000,9,-999.0000,9,  -999.00,9,   -999.0,9,  -999.00,9,-999.000,9,   2346.7,2,   2409.1,2,  -999.0,-999.0000,-999.000,-999.000,  -999.0,-999.000
   3220CGC92_2,   P13,    67,  1,    113,   1229,2,19921009,0700, 14.0083, 164.9900, 5308,  19057,   1899.0,   2.2775,  34.6212,2,  34.6205,2,     97.2,2,  2.1454,     97.5,2,   144.49,2,    36.71,2,     0.00,2,     2.93,2,   -0.001,2,   -0.001,2, -999.000,9, -999.000,9, -999.000,9,-999.0000,9,  -999.00,9,   -999.0,9,  -999.00,9,-999.000,9,   2348.2,2,   2414.3,2,  -999.0,-999.0000,-999.000,-999.000,  -999.0,-999.000
   3220CGC92_2,   P13,    67,  1,    112,   1219,2,19921009,0700, 14.0083, 164.9900, 5308,  21993,   2193.0,   2.0405,  34.6379,2,  34.6407,2,    109.8,2,  1.8869,    109.5,2,   149.50,2,    37.60,2,     0.00,2,     2.91,2, -999.000,9, -999.000,9, -999.000,9, -999.000,9, -999.000,9,-999.0000,9,  -999.00,9,   -999.0,9,  -999.00,9,-999.000,9,   2348.1,2,   2419.0,2,  -999.0,-999.0000,-999.000,-999.000,  -999.0,-999.000
   3220CGC92_2,   P13,    67,  1,    111,   1112,2,19921009,0700, 14.0083, 164.9900, 5308,  23850,   2379.0,   1.8975,  34.6491,2,  34.6502,2,    112.3,2,  1.7300,    113.6,2,   151.66,2,    36.70,2,     0.00,2,     2.82,2,    0.000,2,    0.000,2, -999.000,9, -999.000,9, -999.000,9,-999.0000,9,  -999.00,9,   -999.0,9,  -999.00,9,-999.000,9,   2346.5,2,   2423.6,2,  -999.0,-999.0000,-999.000,-999.000,  -999.0,-999.000
   3220CGC92_2,   P13,    67,  1,    110,   1029,2,19921009,0700, 14.0083, 164.9900, 5308,  26011,   2596.0,   1.8036,  34.6559,2,  34.6563,2,    117.2,2,  1.6182,    118.0,2,   153.54,2,    36.44,2,     0.00,2,     2.81,2, -999.000,9, -999.000,9, -999.000,9, -999.000,9, -999.000,9,-999.0000,9,  -999.00,9,   -999.0,9,  -999.00,9,-999.000,9,   2345.6,2,   2424.6,2,  -999.0,-999.0000,-999.000,-999.000,  -999.0,-999.000
   3220CGC92_2,   P13,    67,  1,    109,   1023,2,19921009,0700, 14.0083, 164.9900, 5308,  27992,   2794.0,   1.6986,  34.6626,2,  34.6610,2,    124.4,2,  1.4970,    122.7,2,   154.30,2,    36.43,2,     0.00,2,     2.81,2, -999.000,9, -999.000,9, -999.000,9, -999.000,9, -999.000,9,-999.0000,9,  -999.00,9,   -999.0,9,  -999.00,9,-999.000,9,   2344.1,2,   2426.2,2,  -999.0,-999.0000,-999.000,-999.000,  -999.0,-999.000
   3220CGC92_2,   P13,    67,  1,    108,   1032,2,19921009,0700, 14.0083, 164.9900, 5308,  30980,   3094.0,   1.6086,  34.6695,2,  34.6696,2,    129.8,2,  1.3803,    130.8,2,   154.95,2,    36.31,2,     0.00,2,     2.76,2,    0.013,3,   -0.001,2, -999.000,9, -999.000,9, -999.000,9,-999.0000,9,  -999.00,9,   -999.0,9,  -999.00,9,-999.000,9,   2339.2,2,   2425.8,2,  -999.0,-999.0000,-999.000,-999.000,  -999.0,-999.000
   3220CGC92_2,   P13,    67,  1,    107,   1037,2,19921009,0700, 14.0083, 164.9900, 5308,  33987,   3396.0,   1.5336,  34.6761,2,  34.6765,2,   -999.0,9,  1.2772,    139.4,2,   153.84,2,    34.44,2,     0.00,2,     2.73,2, -999.000,9, -999.000,9, -999.000,9, -999.000,9, -999.000,9,-999.0000,9,  -999.00,9,   -999.0,9,  -999.00,9,-999.000,9,   2334.8,2,   2425.8,2,  -999.0,-999.0000,-999.000,-999.000,  -999.0,-999.000
   3220CGC92_2,   P13,    67,  1,    106,   1022,2,19921009,0700, 14.0083, 164.9900, 5308,  37010,   3699.0,   1.4936,  34.6813,2,  34.6815,2,    145.2,2,  1.2070,    145.4,2,   151.58,2,    34.35,2,     0.00,2,     2.70,2, -999.000,9, -999.000,9, -999.000,9, -999.000,9, -999.000,9,-999.0000,9,  -999.00,9,   -999.0,9,  -999.00,9,-999.000,9,   2328.0,2,   2422.5,2,  -999.0,-999.0000,-999.000,-999.000,  -999.0,-999.000
   3220CGC92_2,   P13,    67,  1,    105,   1221,2,19921009,0700, 14.0083, 164.9900, 5308,  40011,   3999.0,   1.4606,  34.6847,2,  34.6864,2,    153.6,2,  1.1429,    154.1,2,   148.66,2,    33.91,2,     0.00,2,     2.66,2,   -0.002,2,   -0.005,2, -999.000,9, -999.000,9, -999.000,9,-999.0000,9,  -999.00,9,   -999.0,9,  -999.00,9,-999.000,9,   2321.6,2,   2420.2,2,  -999.0,-999.0000,-999.000,-999.000,  -999.0,-999.000
   3220CGC92_2,   P13,    67,  1,    104,   1038,2,19921009,0700, 14.0083, 164.9900, 5308,  43001,   4299.0,   1.4387,  34.6892,2,  34.6910,2,   -999.0,9,  1.0884,    159.0,2,   145.09,2,    34.03,2,     0.00,2,     2.64,2, -999.000,9, -999.000,9, -999.000,9, -999.000,9, -999.000,9,-999.0000,9,  -999.00,9,   -999.0,9,  -999.00,9,-999.000,9,   2315.8,2,   2412.9,2,  -999.0,-999.0000,-999.000,-999.000,  -999.0,-999.000
   3220CGC92_2,   P13,    67,  1,    103,   1033,2,19921009,0700, 14.0083, 164.9900, 5308,  45987,   4598.0,   1.4197,  34.6927,2,  34.6942,2,    169.7,2,  1.0357,    167.7,2,   138.94,2,    33.22,2,     0.00,2,     2.60,2, -999.000,9, -999.000,9, -999.000,9, -999.000,9, -999.000,9,-999.0000,9,  -999.00,9,   -999.0,9,  -999.00,9,-999.000,9,   2305.2,2,   2409.3,2,  -999.0,-999.0000,-999.000,-999.000,  -999.0,-999.000
   3220CGC92_2,   P13,    67,  1,    102,   1234,2,19921009,0700, 14.0083, 164.9900, 5308,  48997,   4899.0,   1.4077,  34.6959,2,  34.6969,2,    176.0,2,  0.9886,    174.5,2,   136.18,2,    32.85,2,     0.00,2,     2.53,2,   -0.002,2,   -0.004,2, -999.000,9, -999.000,9, -999.000,9,-999.0000,9,  -999.00,9,   -999.0,9,  -999.00,9,-999.000,9,   2299.3,2,   2401.9,2,  -999.0,-999.0000,-999.000,-999.000,  -999.0,-999.000
   3220CGC92_2,   P13,    67,  1,    101,   1238,2,19921009,0700, 14.0083, 164.9900, 5308,  53200,   5317.0,   1.3947,  34.7012,2,  34.6995,6,    181.9,2,  0.9248,    180.7,2,   131.99,2,    33.24,2,     0.00,2,     2.51,2, -999.000,9, -999.000,9, -999.000,9, -999.000,9, -999.000,9,-999.0000,9,  -999.00,9,   -999.0,9,  -999.00,9,-999.000,9,   2292.0,6,   2397.6,6,  -999.0,-999.0000,-999.000,-999.000,  -999.0,-999.000