BOTTLE,20221003CCHSIOAMB
EXPOCODE,SECT_ID,STNNBR,CASTNO,SAMPNO,BTLNBR,BTLNBR_FLAG_W,DATE,TIME,LATITUDE,LONGITUDE,DEPTH,CTDRAW,CTDPRS,CTDTMP,CTDSAL,CTDSAL_FLAG_W,SALNTY,SALNTY_FLAG_W,CTDOXY,CTDOXY_FLAG_W,THETA,OXYGEN,OXYGEN_FLAG_W,SILCAT,SILCAT_FLAG_W,NITRAT,NITRAT_FLAG_W,NITRIT,NITRIT_FLAG_W,PHSPHT,PHSPHT_FLAG_W,CFC-11,CFC-11_FLAG_W,CFC-12,CFC-12_FLAG_W,CFC113,CFC113_FLAG_W,CCL4,CCL4_FLAG_W,TRITUM,TRITUM_FLAG_W,HELIUM,HELIUM_FLAG_W,DELHE3,DELHE3_FLAG_W,DELC14,DELC14_FLAG_W,DELC13,DELC13_FLAG_W,NEON,NEON_FLAG_W,TCARBN,TCARBN_FLAG_W,ALKALI,ALKALI_FLAG_W,C14ERR,HELIER,DELHER,NEONER,C13ERR,TRITER
,,,,,,,,,,,,DBAR,DBAR,ITS-90,PSS-78,,PSS-78,,UMOL/KG,,DEG C,UMOL/KG,,UMOL/KG,,UMOL/KG,,UMOL/KG,,UMOL/KG,,PMOL/KG,,PMOL/KG,,PMOL/KG,,PMOL/KG,,TU,,NMOL/KG,,PERCNT,,/MILLE,,/MILLE,,NMOL/KG,,UMOL/KG,,UMOL/KG,,/MILLE,NMOL/KG,PERCNT,NMOL/KG,/MILLE,TU
   3220CGC92_1,   P13,    36,  1,    136,   1106,2,19920901,2040, 41.4975, 165.0078, 4961,    101,      7.0,  19.0294,  33.5026,2,  33.5058,2,    236.1,2, 19.0282,    238.1,2,     3.86,2,     0.01,2,     0.00,2,     0.07,2,    2.565,2,    1.323,2, -999.000,9, -999.000,9, -999.000,9,-999.0000,9,  -999.00,9,   -999.0,9,  -999.00,9,-999.000,9,   1950.7,2,   2225.7,2,  -999.0,-999.0000,-999.000,-999.000,  -999.0,-999.000
   3220CGC92_1,   P13,    36,  1,    135,   1238,2,19920901,2040, 41.4975, 165.0078, 4961,    236,     20.0,  18.4726,  33.6055,2,  33.8806,4,    259.6,2, 18.4691,    287.4,2,     7.37,2,     0.03,2,     0.00,2,     0.20,2, -999.000,9, -999.000,9, -999.000,9, -999.000,9, -999.000,9,-999.0000,9,  -999.00,9,   -999.0,9,  -999.00,9,-999.000,9,   1980.2,6,   2253.1,6,  -999.0,-999.0000,-999.000,-999.000,  -999.0,-999.000
   3220CGC92_1,   P13,    36,  1,    134,   1030,2,19920901,2040, 41.4975, 165.0078, 4961,    500,     47.0,  10.3985,  34.0313,2,  34.1335,2,    266.5,2, 10.3930,    258.7,2,    17.32,2,     9.84,2,     0.20,2,     0.76,2,    3.524,2,    1.787,2, -999.000,9, -999.000,9, -999.000,9,-999.0000,9,  -999.00,9,   -999.0,9,  -999.00,9,-999.000,9,   2070.8,2,   2267.1,2,  -999.0,-999.0000,-999.000,-999.000,  -999.0,-999.000
   3220CGC92_1,   P13,    36,  1,    133,   1231,2,19920901,2040, 41.4975, 165.0078, 4961,    754,     72.0,   9.9046,  34.1093,2,  33.9993,2,    236.0,2,  9.8965,    263.3,2,    21.42,2,    12.15,2,     0.17,2,     0.93,2, -999.000,9, -999.000,9, -999.000,9, -999.000,9, -999.000,9,-999.0000,9,  -999.00,9,   -999.0,9,  -999.00,9,-999.000,9,   2088.3,2,   2267.1,2,  -999.0,-999.0000,-999.000,-999.000,  -999.0,-999.000
   3220CGC92_1,   P13,    36,  1,    132,   1109,2,19920901,2040, 41.4975, 165.0078, 4961,    995,     96.0,   9.0558,  34.0557,2,  33.9712,2,   -999.0,9,  9.0455,    263.3,4,    23.96,2,    14.05,2,     0.00,2,     1.03,2,    3.556,2,    1.785,2, -999.000,9, -999.000,9, -999.000,9,-999.0000,9,  -999.00,9,   -999.0,9,  -999.00,9,-999.000,9,   2099.1,2,   2265.7,2,  -999.0,-999.0000,-999.000,-999.000,  -999.0,-999.000
   3220CGC92_1,   P13,    36,  1,    131,   1031,2,19920901,2040, 41.4975, 165.0078, 4961,   1259,    122.0,   8.5779,  34.0476,2,  33.9840,2,    240.8,2,  8.5653,    239.9,2,    28.20,2,    16.06,2,     0.00,2,     1.18,2, -999.000,9, -999.000,9, -999.000,9, -999.000,9, -999.000,9,-999.0000,9,  -999.00,9,   -999.0,9,  -999.00,9,-999.000,9,   2114.1,2,   2269.8,2,  -999.0,-999.0000,-999.000,-999.000,  -999.0,-999.000
   3220CGC92_1,   P13,    36,  1,    130,   1041,2,19920901,2040, 41.4975, 165.0078, 4961,   1498,    146.0,   7.9841,  33.9915,2,  33.9285,2,    242.0,2,  7.9696,    257.2,2,    27.44,2,    16.13,2,     0.00,2,     1.16,2,    3.856,2,    1.906,2, -999.000,9, -999.000,9, -999.000,9,-999.0000,9,  -999.00,9,   -999.0,9,  -999.00,9,-999.000,9,   2110.1,2,   2266.8,2,  -999.0,-999.0000,-999.000,-999.000,  -999.0,-999.000
   3220CGC92_1,   P13,    36,  1,    129,   1004,2,19920901,2040, 41.4975, 165.0078, 4961,   1746,    171.0,   7.3722,  33.9228,2,  33.8696,2,    252.2,2,  7.3560,    262.2,2,    28.98,2,    16.67,2,     0.00,2,     1.20,2, -999.000,9, -999.000,9, -999.000,9, -999.000,9, -999.000,9,-999.0000,9,  -999.00,9,   -999.0,9,  -999.00,9,-999.000,9,   2113.1,2,   2265.9,2,  -999.0,-999.0000,-999.000,-999.000,  -999.0,-999.000
   3220CGC92_1,   P13,    36,  1,    127,   1117,2,19920901,2040, 41.4975, 165.0078, 4961,   2013,    197.0,   6.7974,  33.8548,2,  33.8439,2,   -999.0,9,  6.7796,    256.1,2,    31.61,2,    17.66,2,     0.00,2,     1.30,2,    3.852,2,    1.918,2, -999.000,9, -999.000,9, -999.000,9,-999.0000,9,  -999.00,9,   -999.0,9,  -999.00,9,-999.000,9,   2121.0,2,   2266.4,2,  -999.0,-999.0000,-999.000,-999.000,  -999.0,-999.000
   3220CGC92_1,   P13,    36,  1,    126,   1110,2,19920901,2040, 41.4975, 165.0078, 4961,   2496,    245.0,   6.4085,  33.9012,2,  33.9296,2,    207.3,2,  6.3870,    191.4,2,    45.81,2,    24.54,2,     0.00,2,     1.73,2, -999.000,9, -999.000,9, -999.000,9, -999.000,9, -999.000,9,-999.0000,9,  -999.00,9,   -999.0,9,  -999.00,9,-999.000,9,   2170.0,2,   2279.0,2,  -999.0,-999.0000,-999.000,-999.000,  -999.0,-999.000
   3220CGC92_1,   P13,    36,  1,    125,   1035,2,19920901,2040, 41.4975, 165.0078, 4961,   2986,    294.0,   5.6017,  33.9146,2,  33.9207,2,    162.8,2,  5.5776,   -999.0,9,    60.77,2,    29.03,2,     0.00,2,     2.06,2,    2.292,2,    1.076,2, -999.000,9, -999.000,9, -999.000,9,-999.0000,9,  -999.00,9,   -999.0,9,  -999.00,9,-999.000,9,   2211.0,2,   2288.1,2,  -999.0,-999.0000,-999.000,-999.000,  -999.0,-999.000
   3220CGC92_1,   P13,    36,  1,    124,   1026,2,19920901,2040, 41.4975, 165.0078, 4961,   3516,    347.0,   4.9608,  33.9435,2,  33.9541,2,    138.0,2,  4.9340,    132.9,2,    69.99,2,    31.55,2,     0.00,2,     2.27,2, -999.000,9, -999.000,9, -999.000,9, -999.000,9, -999.000,9,-999.0000,9,  -999.00,9,   -999.0,9,  -999.00,9,-999.000,9,   2235.7,2,   2297.2,2,  -999.0,-999.0000,-999.000,-999.000,  -999.0,-999.000
   3220CGC92_1,   P13,    36,  1,    123,   1014,2,19920901,2040, 41.4975, 165.0078, 4961,   3995,    394.0,   4.7599,  33.9795,2,  34.0021,2,    111.1,2,  4.7299,   -999.0,9,    81.24,2,    35.33,2,     0.00,2,     2.59,2,    1.469,2,    0.677,2, -999.000,9, -999.000,9, -999.000,9,-999.0000,9,  -999.00,9,   -999.0,9,  -999.00,9,-999.000,9,   2261.9,2,   2306.3,2,  -999.0,-999.0000,-999.000,-999.000,  -999.0,-999.000
   3220CGC92_1,   P13,    36,  1,    122,   1015,2,19920901,2040, 41.4975, 165.0078, 4961,   4990,    493.0,   4.4259,  34.0879,2,  34.1081,2,     81.7,2,  4.3892,     76.7,2,    95.69,2,    37.93,2,     0.00,2,     2.75,2, -999.000,9, -999.000,9, -999.000,9, -999.000,9, -999.000,9,-999.0000,9,  -999.00,9,   -999.0,9,  -999.00,9,-999.000,9,   2294.0,2,   2324.2,2,  -999.0,-999.0000,-999.000,-999.000,  -999.0,-999.000
   3220CGC92_1,   P13,    36,  1,    121,   1235,2,19920901,2040, 41.4975, 165.0078, 4961,   5998,    594.0,   3.9850,  34.1606,2,  34.1880,2,     68.7,2,  3.9423,   -999.0,9,   107.99,2,    39.39,2,     0.00,2,     2.91,2,    1.857,4,    0.206,2, -999.000,9, -999.000,9, -999.000,9,-999.0000,9,  -999.00,9,   -999.0,9,  -999.00,9,-999.000,9,   2316.0,2,   2337.4,2,  -999.0,-999.0000,-999.000,-999.000,  -999.0,-999.000
   3220CGC92_1,   P13,    36,  1,    120,   1237,2,19920901,2040, 41.4975, 165.0078, 4961,   6988,    693.0,   3.7871,  34.2440,2,  34.2561,2,     52.6,2,  3.7377,     47.4,2,   118.25,2,    41.06,2,     0.00,2,     3.00,2, -999.000,9, -999.000,9, -999.000,9, -999.000,9, -999.000,9,-999.0000,9,  -999.00,9,   -999.0,9,  -999.00,9,-999.000,9,   2333.5,2,   2351.1,2,  -999.0,-999.0000,-999.000,-999.000,  -999.0,-999.000
   3220CGC92_1,   P13,    36,  1,    119,   1025,2,19920901,2040, 41.4975, 165.0078, 4961,   7994,    793.0,   3.4862,  34.3028,2,  34.3047,2,     46.6,2,  3.4308,   -999.0,9,   126.64,2,    41.49,2,     0.00,2,     3.05,2,    0.176,2,    0.078,2, -999.000,9, -999.000,9, -999.000,9,-999.0000,9,  -999.00,9,   -999.0,9,  -999.00,9,-999.000,9,   2345.4,2,   2359.6,2,  -999.0,-999.0000,-999.000,-999.000,  -999.0,-999.000
   3220CGC92_1,   P13,    36,  1,    118,   1118,2,19920901,2040, 41.4975, 165.0078, 4961,   8996,    893.0,   3.1742,  34.3419,2,  34.3502,6,     39.2,2,  3.1134,     36.1,2,   136.10,2,    42.04,2,     0.00,2,     3.06,2, -999.000,9, -999.000,9, -999.000,9, -999.000,9, -999.000,9,-999.0000,9,  -999.00,9,   -999.0,9,  -999.00,9,-999.000,9,   2358.2,2,   2370.7,2,  -999.0,-999.0000,-999.000,-999.000,  -999.0,-999.000
   3220CGC92_1,   P13,    36,  1,    117,   1005,2,19920901,2040, 41.4975, 165.0078, 4961,   9995,    993.0,   3.0023,  34.3760,2,  34.4009,2,     37.4,2,  2.9351,   -999.0,9,   142.63,2,    42.38,2,     0.00,2,     3.10,2,    0.059,2,    0.024,2, -999.000,9, -999.000,9, -999.000,9,-999.0000,9,  -999.00,9,   -999.0,9,  -999.00,9,-999.000,9,   2366.0,2,   2379.4,2,  -999.0,-999.0000,-999.000,-999.000,  -999.0,-999.000
   3220CGC92_1,   P13,    36,  1,    116,   1104,2,19920901,2040, 41.4975, 165.0078, 4961,  10998,   1093.0,   2.7913,  34.4078,2,  34.4238,2,     36.3,2,  2.7183,     34.8,2,   148.55,2,    42.84,2,     0.00,2,     3.12,2, -999.000,9, -999.000,9, -999.000,9, -999.000,9, -999.000,9,-999.0000,9,  -999.00,9,   -999.0,9,  -999.00,9,-999.000,9,   2372.2,2,   2385.6,2,  -999.0,-999.0000,-999.000,-999.000,  -999.0,-999.000
   3220CGC92_1,   P13,    36,  1,    115,   1020,2,19920901,2040, 41.4975, 165.0078, 4961,  11984,   1191.0,   2.6664,  34.4350,2,  34.4486,2,   -999.0,9,  2.5869,   -999.0,9,   153.64,2,    42.94,2,     0.00,2,     3.10,2, -999.000,9, -999.000,9, -999.000,9, -999.000,9, -999.000,9,-999.0000,9,  -999.00,9,   -999.0,9,  -999.00,9,-999.000,9,   2377.9,2,   2390.5,2,  -999.0,-999.0000,-999.000,-999.000,  -999.0,-999.000
   3220CGC92_1,   P13,    36,  1,    114,   1012,2,19920901,2040, 41.4975, 165.0078, 4961,  13006,   1294.0,   2.5374,  34.4592,2,  34.4694,2,   -999.0,9,  2.4513,     38.4,2,   156.67,2,    42.54,2,     0.00,2,     3.10,2,    0.027,2,    0.005,2, -999.000,9, -999.000,9, -999.000,9,-999.0000,9,  -999.00,9,   -999.0,9,  -999.00,9,-999.000,9,   2374.5,2,   2395.6,2,  -999.0,-999.0000,-999.000,-999.000,  -999.0,-999.000
   3220CGC92_1,   P13,    36,  1,    113,   1229,2,19920901,2040, 41.4975, 165.0078, 4961,  14986,   1492.0,   2.3054,  34.4996,2,  34.5137,2,     43.9,2,  2.2064,   -999.0,9,   165.94,2,    41.52,2,     0.00,2,     3.01,2, -999.000,9, -999.000,9, -999.000,9, -999.000,9, -999.000,9,-999.0000,9,  -999.00,9,   -999.0,9,  -999.00,9,-999.000,9,   2382.0,2,   2404.1,2,  -999.0,-999.0000,-999.000,-999.000,  -999.0,-999.000
   3220CGC92_1,   P13,    36,  1,    112,   1219,2,19920901,2040, 41.4975, 165.0078, 4961,  16988,   1692.0,   2.1585,  34.5380,2,  34.5495,2,   -999.0,9,  2.0453,     52.3,2,  -999.00,5,  -999.00,9,  -999.00,9,  -999.00,5, -999.000,9, -999.000,9, -999.000,9, -999.000,9, -999.000,9,-999.0000,9,  -999.00,9,   -999.0,9,  -999.00,9,-999.000,9,   2382.0,2,   2409.6,2,  -999.0,-999.0000,-999.000,-999.000,  -999.0,-999.000
   3220CGC92_1,   P13,    36,  1,    111,   1112,2,19920901,2040, 41.4975, 165.0078, 4961,  18997,   1893.0,   2.0165,  34.5682,2,  34.5778,2,   -999.0,9,  1.8889,   -999.0,9,   166.87,2,    40.70,2,     0.00,2,     2.92,2,    0.000,2,   -0.002,2, -999.000,9, -999.000,9, -999.000,9,-999.0000,9,  -999.00,9,   -999.0,9,  -999.00,9,-999.000,9,   2377.9,2,   2414.0,2,  -999.0,-999.0000,-999.000,-999.000,  -999.0,-999.000
   3220CGC92_1,   P13,    36,  1,    110,   1029,2,19920901,2040, 41.4975, 165.0078, 4961,  22001,   2194.0,   1.8366,  34.6037,2,  34.6123,2,   -999.0,9,  1.6864,     83.1,2,  -999.00,5,  -999.00,9,  -999.00,9,  -999.00,5, -999.000,9, -999.000,9, -999.000,9, -999.000,9, -999.000,9,-999.0000,9,  -999.00,9,   -999.0,9,  -999.00,9,-999.000,9,   2369.7,2,   2417.5,2,  -999.0,-999.0000,-999.000,-999.000,  -999.0,-999.000
   3220CGC92_1,   P13,    36,  1,    109,   1023,2,19920901,2040, 41.4975, 165.0078, 4961,  25008,   2495.0,   1.6936,  34.6322,2,  34.6367,2,   -999.0,9,  1.5195,   -999.0,9,   167.27,2,    39.68,2,     0.00,2,     2.84,2, -999.000,9, -999.000,9, -999.000,9, -999.000,9, -999.000,9,-999.0000,9,  -999.00,9,   -999.0,9,  -999.00,9,-999.000,9,   2358.4,2,   2417.5,2,  -999.0,-999.0000,-999.000,-999.000,  -999.0,-999.000
   3220CGC92_1,   P13,    36,  1,    108,   1032,2,19920901,2040, 41.4975, 165.0078, 4961,  27983,   2793.0,   1.5996,  34.6499,2,  34.6506,2,    114.9,2,  1.4002,    115.8,2,   161.64,2,    38.61,2,     0.00,2,     2.76,2, -999.000,9, -999.000,9, -999.000,9, -999.000,9, -999.000,9,-999.0000,9,  -999.00,9,   -999.0,9,  -999.00,9,-999.000,9,   2350.5,2,   2419.5,2,  -999.0,-999.0000,-999.000,-999.000,  -999.0,-999.000
   3220CGC92_1,   P13,    36,  1,    107,   1037,2,19920901,2040, 41.4975, 165.0078, 4961,  31000,   3096.0,   1.5406,  34.6605,2,  34.6610,2,    126.2,2,  1.3138,   -999.0,9,   158.73,2,    37.66,2,     0.00,2,     2.66,2, -999.000,9, -999.000,9, -999.000,9, -999.000,9, -999.000,9,-999.0000,9,  -999.00,9,   -999.0,9,  -999.00,9,-999.000,9,   2342.9,2,   2419.2,2,  -999.0,-999.0000,-999.000,-999.000,  -999.0,-999.000
   3220CGC92_1,   P13,    36,  1,    106,   1022,2,19920901,2040, 41.4975, 165.0078, 4961,  33981,   3395.0,   1.4956,  34.6698,2,  34.6699,2,    137.3,2,  1.2403,    136.5,2,   155.83,2,    37.33,2,     0.00,2,     2.64,2, -999.000,9, -999.000,9, -999.000,9, -999.000,9, -999.000,9,-999.0000,9,  -999.00,9,   -999.0,9,  -999.00,9,-999.000,9,   2336.4,2,   2420.6,2,  -999.0,-999.0000,-999.000,-999.000,  -999.0,-999.000
   3220CGC92_1,   P13,    36,  1,    105,   1221,2,19920901,2040, 41.4975, 165.0078, 4961,  36997,   3697.0,   1.4706,  34.6755,2,  34.6748,2,   -999.0,9,  1.1849,   -999.0,9,   154.69,2,    37.12,2,     0.00,2,     2.60,2, -999.000,9, -999.000,9, -999.000,9, -999.000,9, -999.000,9,-999.0000,9,  -999.00,9,   -999.0,9,  -999.00,9,-999.000,9,   2331.1,2,   2416.7,2,  -999.0,-999.0000,-999.000,-999.000,  -999.0,-999.000
   3220CGC92_1,   P13,    36,  1,    104,   1038,2,19920901,2040, 41.4975, 165.0078, 4961,  39990,   3997.0,   1.4557,  34.6807,2,  34.6803,2,    149.4,2,  1.1383,    150.1,2,   153.12,2,    36.69,2,     0.00,2,     2.59,2, -999.000,9, -999.000,9, -999.000,9, -999.000,9, -999.000,9,-999.0000,9,  -999.00,9,   -999.0,9,  -999.00,9,-999.000,9,   2326.4,2,   2419.0,2,  -999.0,-999.0000,-999.000,-999.000,  -999.0,-999.000
   3220CGC92_1,   P13,    36,  1,    103,   1033,2,19920901,2040, 41.4975, 165.0078, 4961,  42999,   4299.0,   1.4567,  34.6846,2,  34.6842,2,   -999.0,9,  1.1058,    153.6,2,   152.70,2,    36.14,2,     0.00,2,     2.52,2, -999.000,9, -999.000,9, -999.000,9, -999.000,9, -999.000,9,-999.0000,9,  -999.00,9,   -999.0,9,  -999.00,9,-999.000,9,   2324.6,2,   2416.6,2,  -999.0,-999.0000,-999.000,-999.000,  -999.0,-999.000
   3220CGC92_1,   P13,    36,  1,    102,   1234,2,19920901,2040, 41.4975, 165.0078, 4961,  46994,   4699.0,   1.4846,  34.6874,2,  34.6872,2,    157.5,2,  1.0869,    156.2,2,   153.09,2,    36.26,2,     0.00,2,     2.54,2, -999.000,9, -999.000,9, -999.000,9, -999.000,9, -999.000,9,-999.0000,9,  -999.00,9,   -999.0,9,  -999.00,9,-999.000,9,   2322.6,2,   2418.6,2,  -999.0,-999.0000,-999.000,-999.000,  -999.0,-999.000
   3220CGC92_1,   P13,    36,  1,    101,   1013,2,19920901,2040, 41.4975, 165.0078, 4961,  48637,   4861.0,   1.5006,  34.6870,2,  34.6880,6,    150.9,2,  1.0831,    156.8,2,   154.46,2,    36.11,2,     0.00,2,     2.50,2, -999.000,9, -999.000,9, -999.000,9, -999.000,9, -999.000,9,-999.0000,9,  -999.00,9,   -999.0,9,  -999.00,9,-999.000,9,   2323.4,6,   2419.1,6,  -999.0,-999.0000,-999.000,-999.000,  -999.0,-999.000