BOTTLE,20221003CCHSIOAMB
EXPOCODE,SECT_ID,STNNBR,CASTNO,SAMPNO,BTLNBR,BTLNBR_FLAG_W,DATE,TIME,LATITUDE,LONGITUDE,DEPTH,CTDRAW,CTDPRS,CTDTMP,CTDSAL,CTDSAL_FLAG_W,SALNTY,SALNTY_FLAG_W,CTDOXY,CTDOXY_FLAG_W,THETA,OXYGEN,OXYGEN_FLAG_W,SILCAT,SILCAT_FLAG_W,NITRAT,NITRAT_FLAG_W,NITRIT,NITRIT_FLAG_W,PHSPHT,PHSPHT_FLAG_W,CFC-11,CFC-11_FLAG_W,CFC-12,CFC-12_FLAG_W,CFC113,CFC113_FLAG_W,CCL4,CCL4_FLAG_W,TRITUM,TRITUM_FLAG_W,HELIUM,HELIUM_FLAG_W,DELHE3,DELHE3_FLAG_W,DELC14,DELC14_FLAG_W,DELC13,DELC13_FLAG_W,NEON,NEON_FLAG_W,TCARBN,TCARBN_FLAG_W,ALKALI,ALKALI_FLAG_W,C14ERR,HELIER,DELHER,NEONER,C13ERR,TRITER
,,,,,,,,,,,,DBAR,DBAR,ITS-90,PSS-78,,PSS-78,,UMOL/KG,,DEG C,UMOL/KG,,UMOL/KG,,UMOL/KG,,UMOL/KG,,UMOL/KG,,PMOL/KG,,PMOL/KG,,PMOL/KG,,PMOL/KG,,TU,,NMOL/KG,,PERCNT,,/MILLE,,/MILLE,,NMOL/KG,,UMOL/KG,,UMOL/KG,,/MILLE,NMOL/KG,PERCNT,NMOL/KG,/MILLE,TU
   3220CGC92_2,   P13,    80,  1,    136,   1106,2,19921015,0410, -0.9913, 164.9942, 4312,    102,      7.0,  30.2177,  34.6149,2,  34.5778,2,   -999.0,9, 30.2160,    202.6,2,     0.99,2,     0.06,2,     0.00,2,     0.08,2,    1.524,2,    0.889,2, -999.000,9, -999.000,9, -999.000,9,-999.0000,9,  -999.00,9,     72.4,2,     1.46,2,-999.000,9,   1908.7,2,   2272.7,2,     3.6,-999.0000,-999.000,-999.000,  -999.0,-999.000
   3220CGC92_2,   P13,    80,  1,    135,   1013,2,19921015,0410, -0.9913, 164.9942, 4312,    247,     21.0,  30.2187,  34.6507,2,  34.8382,4,    197.8,2, 30.2135,    128.7,4,    27.76,4,    16.01,4,     0.00,4,     1.10,4,    0.688,4,    0.396,4, -999.000,9, -999.000,9, -999.000,9,   1.7770,2,     6.55,2,   -999.0,9,  -999.00,9,   7.328,2,   -999.0,9,   -999.0,9,  -999.0,  0.0080,   0.140,   0.032,  -999.0,-999.000
   3220CGC92_2,   P13,    80,  1,    134,   1030,2,19921015,0410, -0.9913, 164.9942, 4312,    459,     43.0,  30.2017,  34.7158,2,  34.7826,2,    185.1,2, 30.1910,    196.7,2,     1.00,2,     0.00,2,     0.00,2,     0.08,2,    1.497,2,    0.874,2, -999.000,9, -999.000,9, -999.000,9,-999.0000,9,  -999.00,9,     80.0,2,     1.80,2,-999.000,9,   -999.0,9,   -999.0,9,     3.3,-999.0000,-999.000,-999.000,  -999.0,-999.000
   3220CGC92_2,   P13,    80,  1,    133,   1231,2,19921015,0410, -0.9913, 164.9942, 4312,    751,     72.0,  29.1910,  34.9472,2,  35.0968,2,    154.8,2, 29.1735,    145.3,2,     3.12,2,     5.45,2,     0.31,2,     0.42,2,    1.535,2,    0.878,2, -999.000,9, -999.000,9,    1.079,2,-999.0000,9,  -999.00,9,   -999.0,5,     1.14,2,-999.000,9,   -999.0,9,   -999.0,9,  -999.0,-999.0000,-999.000,-999.000,  -999.0,   0.004
   3220CGC92_2,   P13,    80,  1,    132,   1017,2,19921015,0410, -0.9913, 164.9942, 4312,    991,     96.0,  24.2172,  35.0722,2,  35.0784,2,    131.4,2, 24.1968,    131.3,2,     4.21,2,     7.37,2,     0.26,2,     0.53,2,    1.536,2,    0.876,2, -999.000,9, -999.000,9,    1.086,2,   1.6950,2,     0.76,2,     95.5,2,     1.01,2,   6.709,2,   -999.0,9,   -999.0,9,     2.9,  0.0080,   0.140,   0.030,  -999.0,   0.004
   3220CGC92_2,   P13,    80,  1,    131,   1031,2,19921015,0410, -0.9913, 164.9942, 4312,   1249,    121.0,  23.5373,  35.0817,2,  35.1607,2,    125.9,2, 23.5122,    130.1,2,     4.93,2,     8.13,2,     0.10,2,     0.56,2,    1.529,6,    0.868,6, -999.000,9, -999.000,9, -999.000,9,-999.0000,9,  -999.00,9,     98.9,2,     0.94,2,-999.000,9,   -999.0,9,   -999.0,9,     3.8,-999.0000,-999.000,-999.000,  -999.0,-999.000
   3220CGC92_2,   P13,    80,  1,    130,   1041,2,19921015,0410, -0.9913, 164.9942, 4312,   1496,    146.0,  22.3586,  35.2789,2,  35.2109,2,    134.1,2, 22.3294,    136.9,2,     5.90,2,     8.60,2,     0.00,2,     0.63,2,    1.512,2,    0.844,2, -999.000,9, -999.000,9,    1.047,2,   1.7000,2,     1.62,2,     99.8,2,     0.93,2,   6.810,2,   -999.0,9,   -999.0,9,     3.0,  0.0080,   0.140,   0.030,  -999.0,   0.004
   3220CGC92_2,   P13,    80,  1,    129,   1004,2,19921015,0410, -0.9913, 164.9942, 4312,   1743,    170.0,  20.1672,  35.1733,2,  35.1744,2,    134.3,2, 20.1355,    137.1,6,     7.15,2,     9.64,2,     0.00,2,     0.69,2,    1.467,2,    0.832,2, -999.000,9, -999.000,9,    1.035,2,-999.0000,9,  -999.00,9,     74.3,2,     0.89,2,-999.000,9,   -999.0,9,   -999.0,9,     3.4,-999.0000,-999.000,-999.000,  -999.0,   0.004
   3220CGC92_2,   P13,    80,  1,    128,   1016,2,19921015,0410, -0.9913, 164.9942, 4312,   1996,    195.0,  18.2706,  35.1824,2,  35.2121,2,    135.2,2, 18.2367,    137.5,2,     7.83,2,    11.10,2,     0.00,2,     0.78,2,    1.360,2,    0.734,2, -999.000,9, -999.000,9,    0.898,2,-999.0000,9,  -999.00,9,     61.1,2,     0.92,2,-999.000,9,   -999.0,9,   -999.0,9,     5.5,-999.0000,-999.000,-999.000,  -999.0,   0.004
   3220CGC92_2,   P13,    80,  1,    127,   1028,2,19921015,0410, -0.9913, 164.9942, 4312,   2487,    244.0,  13.2298,  34.9133,2,  34.9266,2,    134.8,2, 13.1958,    136.3,2,    15.36,2,    17.40,2,     0.00,2,     1.19,2,    0.888,2,    0.491,2, -999.000,9, -999.000,9,    0.635,2,-999.0000,9,  -999.00,9,     -1.9,2,     0.81,2,-999.000,9,   -999.0,9,   -999.0,9,     5.8,-999.0000,-999.000,-999.000,  -999.0,   0.003
   3220CGC92_2,   P13,    80,  1,    126,   1110,2,19921015,0410, -0.9913, 164.9942, 4312,   2982,    294.0,  12.2351,  34.8724,2,  34.8662,2,    116.6,2, 12.1961,    113.4,2,    18.95,2,    21.57,2,     0.00,2,     1.46,2,    0.590,6,    0.340,6, -999.000,9, -999.000,9,    0.459,2,-999.0000,9,  -999.00,9,     -5.8,2,     0.69,2,-999.000,9,   -999.0,9,   -999.0,9,     3.0,-999.0000,-999.000,-999.000,  -999.0,   0.003
   3220CGC92_2,   P13,    80,  1,    125,   1035,2,19921015,0410, -0.9913, 164.9942, 4312,   3480,    343.0,  11.3683,  34.8122,2,  34.7971,2,    117.3,2, 11.3249,    118.0,2,    19.86,2,    22.82,2,     0.00,2,     1.59,2,    0.448,2,    0.260,2, -999.000,9, -999.000,9, -999.000,9,-999.0000,9,  -999.00,9,    -27.3,2,     0.76,2,-999.000,9,   -999.0,9,   -999.0,9,     3.2,-999.0000,-999.000,-999.000,  -999.0,-999.000
   3220CGC92_2,   P13,    80,  1,    124,   1019,2,19921015,0410, -0.9913, 164.9942, 4312,   3986,    393.0,  10.1596,  34.7335,2,  34.7272,2,    109.7,2, 10.1132,    113.5,2,    22.92,2,    25.32,2,     0.00,2,     1.73,2,    0.322,2,    0.190,2, -999.000,9, -999.000,9,    0.225,2,   1.7650,2,     4.99,2,    -65.9,2,     0.70,2,   7.389,2,   -999.0,9,   -999.0,9,     5.5,  0.0080,   0.140,   0.033,  -999.0,   0.002
   3220CGC92_2,   P13,    80,  1,    123,   1014,2,19921015,0410, -0.9913, 164.9942, 4312,   4478,    442.0,   9.7337,  34.7065,2,  34.7043,2,    112.8,2,  9.6828,    116.8,2,    23.82,2,    25.81,2,     0.00,2,     1.81,2,    0.292,2,    0.188,2, -999.000,9, -999.000,9, -999.000,9,-999.0000,9,  -999.00,9,   -999.0,9,  -999.00,9,-999.000,9,   -999.0,9,   -999.0,9,  -999.0,-999.0000,-999.000,-999.000,  -999.0,-999.000
   3220CGC92_2,   P13,    80,  1,    122,   1015,2,19921015,0410, -0.9913, 164.9942, 4312,   4982,    493.0,   9.0258,  34.6608,2,  34.6382,2,    103.7,2,  8.9715,     98.6,2,    31.03,2,    29.97,2,     0.00,2,     2.07,2,    0.130,2,    0.086,2, -999.000,9, -999.000,9, -999.000,9,-999.0000,9,  -999.00,9,    -80.8,6,     0.58,6,-999.000,9,   -999.0,9,   -999.0,9,     2.0,-999.0000,-999.000,-999.000,  -999.0,-999.000
   3220CGC92_2,   P13,    80,  1,    121,   1235,2,19921015,0410, -0.9913, 164.9942, 4312,   5977,    592.0,   7.1253,  34.5637,2,  34.5625,2,     90.9,2,  7.0681,     90.1,2,    45.71,2,    33.99,2,     0.00,2,     2.37,2,    0.039,2,    0.027,2, -999.000,9, -999.000,9,    0.041,2,   1.7950,2,     9.09,2,   -114.7,2,     0.42,2,   7.555,2,   -999.0,9,   -999.0,9,     3.4,  0.0080,   0.140,   0.033,  -999.0,   0.002
   3220CGC92_2,   P13,    80,  1,    120,   1237,2,19921015,0410, -0.9913, 164.9942, 4312,   7042,    698.0,   6.2115,  34.5400,2,  34.5402,2,     94.4,2,  6.1484,     97.8,3,    53.65,2,    34.02,2,     0.00,2,     2.42,2,    0.020,2,    0.019,2, -999.000,9, -999.000,9, -999.000,9,-999.0000,9,  -999.00,9,   -999.0,9,  -999.00,9,-999.000,9,   -999.0,9,   -999.0,9,  -999.0,-999.0000,-999.000,-999.000,  -999.0,-999.000
   3220CGC92_2,   P13,    80,  1,    119,   1025,2,19921015,0410, -0.9913, 164.9942, 4312,   7993,    793.0,   5.5857,  34.5338,2,  34.5394,2,     95.2,2,  5.5172,     91.5,3,    64.10,2,    36.06,2,     0.00,2,     2.51,2,    0.004,2,    0.015,3, -999.000,9, -999.000,9,    0.018,2,   1.9170,2,    12.76,2,   -148.1,2,     0.35,2,   7.996,2,   -999.0,9,   -999.0,9,     2.7,  0.0090,   0.140,   0.035,  -999.0,   0.002
   3220CGC92_2,   P13,    80,  1,    118,   1118,2,19921015,0410, -0.9913, 164.9942, 4312,   8985,    892.0,   5.0418,  34.5341,2,  34.5379,6,     98.9,2,  4.9678,     99.0,2,    71.78,2,    36.14,2,     0.00,2,     2.57,2,    0.005,2,    0.006,2, -999.000,9, -999.000,9, -999.000,9,-999.0000,9,  -999.00,9,   -999.0,9,  -999.00,9,-999.000,9,   -999.0,9,   -999.0,9,  -999.0,-999.0000,-999.000,-999.000,  -999.0,-999.000
   3220CGC92_2,   P13,    80,  1,    117,   1112,2,19921015,0410, -0.9913, 164.9942, 4312,   9993,    993.0,   4.5229,  34.5455,2,  34.5493,2,     96.1,2,  4.4438,     94.1,2,    83.71,2,    36.55,2,     0.00,2,     2.58,2,    0.000,2,    0.003,2, -999.000,9, -999.000,9, -999.000,9,-999.0000,9,  -999.00,9,   -999.0,9,  -999.00,9,-999.000,9,   -999.0,9,   -999.0,9,  -999.0,-999.0000,-999.000,-999.000,  -999.0,-999.000
   3220CGC92_2,   P13,    80,  1,    116,   1104,2,19921015,0410, -0.9913, 164.9942, 4312,  10995,   1093.0,   4.2160,  34.5540,2,  34.5589,2,     97.0,2,  4.1306,     93.5,6,    91.51,2,    36.79,2,     0.00,2,     2.61,2, -999.000,9, -999.000,9, -999.000,9, -999.000,9, -999.000,9,-999.0000,9,  -999.00,9,   -999.0,9,  -999.00,9,-999.000,9,   -999.0,9,   -999.0,9,  -999.0,-999.0000,-999.000,-999.000,  -999.0,-999.000
   3220CGC92_2,   P13,    80,  1,    114,   1012,2,19921015,0410, -0.9913, 164.9942, 4312,  12995,   1292.0,   3.5062,  34.5777,2,  34.5771,2,     99.0,2,  3.4103,     96.2,2,   105.55,2,    36.74,2,     0.00,2,     2.68,2,   -0.001,2,    0.006,2, -999.000,9, -999.000,9, -999.000,9,-999.0000,9,  -999.00,9,   -999.0,9,  -999.00,9,-999.000,9,   -999.0,9,   -999.0,9,  -999.0,-999.0000,-999.000,-999.000,  -999.0,-999.000
   3220CGC92_2,   P13,    80,  1,    112,   1219,2,19921015,0410, -0.9913, 164.9942, 4312,  15980,   1591.0,   2.7513,  34.6090,2,  34.6062,2,   -999.0,9,  2.6388,    106.1,2,   122.19,2,    37.04,2,     0.00,2,     2.63,2, -999.000,9, -999.000,9, -999.000,9, -999.000,9, -999.000,9,-999.0000,9,  -999.00,9,   -999.0,9,  -999.00,9,-999.000,9,   -999.0,9,   -999.0,9,  -999.0,-999.0000,-999.000,-999.000,  -999.0,-999.000
   3220CGC92_2,   P13,    80,  1,    110,   1029,2,19921015,0410, -0.9913, 164.9942, 4312,  18997,   1893.0,   2.3164,  34.6307,2,  34.6317,2,   -999.0,9,  2.1843,    114.2,2,   134.55,2,    36.37,2,     0.00,2,     2.67,2, -999.000,9, -999.000,9, -999.000,9, -999.000,9, -999.000,9,-999.0000,9,  -999.00,9,   -999.0,9,  -999.00,9,-999.000,9,   -999.0,9,   -999.0,9,  -999.0,-999.0000,-999.000,-999.000,  -999.0,-999.000
   3220CGC92_2,   P13,    80,  1,    109,   1023,2,19921015,0410, -0.9913, 164.9942, 4312,  20998,   2093.0,   2.1065,  34.6438,2,  34.6420,2,   -999.0,9,  1.9604,    118.2,2,   138.79,2,    37.03,2,     0.00,2,     2.65,2,   -0.004,2,    0.003,2, -999.000,9, -999.000,9, -999.000,9,-999.0000,9,  -999.00,9,   -999.0,9,  -999.00,9,-999.000,9,   -999.0,9,   -999.0,9,  -999.0,-999.0000,-999.000,-999.000,  -999.0,-999.000
   3220CGC92_2,   P13,    80,  1,    108,   1032,2,19921015,0410, -0.9913, 164.9942, 4312,  22990,   2293.0,   1.9605,  34.6510,2,  34.6504,2,    120.8,2,  1.7995,    122.5,2,   141.88,2,    36.96,2,     0.00,2,     2.63,2, -999.000,9, -999.000,9, -999.000,9, -999.000,9, -999.000,9,-999.0000,9,  -999.00,9,   -999.0,9,  -999.00,9,-999.000,9,   -999.0,9,   -999.0,9,  -999.0,-999.0000,-999.000,-999.000,  -999.0,-999.000
   3220CGC92_2,   P13,    80,  1,    107,   1037,2,19921015,0410, -0.9913, 164.9942, 4312,  25997,   2594.0,   1.8016,  34.6609,2,  34.6608,2,    126.0,2,  1.6164,    128.1,2,   146.03,2,    36.53,2,     0.00,2,     2.63,2, -999.000,9, -999.000,9, -999.000,9, -999.000,9, -999.000,9,-999.0000,9,  -999.00,9,   -999.0,9,  -999.00,9,-999.000,9,   -999.0,9,   -999.0,9,  -999.0,-999.0000,-999.000,-999.000,  -999.0,-999.000
   3220CGC92_2,   P13,    80,  1,    106,   1022,2,19921015,0410, -0.9913, 164.9942, 4312,  29008,   2896.0,   1.6896,  34.6674,2,  34.6665,2,    133.4,2,  1.4786,    133.7,2,   147.55,2,    36.10,2,     0.00,2,     2.60,2, -999.000,9, -999.000,9, -999.000,9, -999.000,9, -999.000,9,-999.0000,9,  -999.00,9,   -999.0,9,  -999.00,9,-999.000,9,   -999.0,9,   -999.0,9,  -999.0,-999.0000,-999.000,-999.000,  -999.0,-999.000
   3220CGC92_2,   P13,    80,  1,    105,   1221,2,19921015,0410, -0.9913, 164.9942, 4312,  31930,   3189.0,   1.5896,  34.6743,2,  34.6727,2,    140.2,2,  1.3525,    141.9,2,   147.07,2,    35.35,2,     0.00,2,     2.54,2, -999.000,9, -999.000,9, -999.000,9, -999.000,9, -999.000,9,-999.0000,9,  -999.00,9,   -999.0,9,  -999.00,9,-999.000,9,   -999.0,9,   -999.0,9,  -999.0,-999.0000,-999.000,-999.000,  -999.0,-999.000
   3220CGC92_2,   P13,    80,  1,    104,   1038,2,19921015,0410, -0.9913, 164.9942, 4312,  35004,   3498.0,   1.5296,  34.6800,2,  34.6790,2,    146.6,2,  1.2629,    148.4,2,   146.01,2,    35.10,2,     0.00,2,     2.48,2, -999.000,9, -999.000,9, -999.000,9, -999.000,9, -999.000,9,-999.0000,9,  -999.00,9,   -999.0,9,  -999.00,9,-999.000,9,   -999.0,9,   -999.0,9,  -999.0,-999.0000,-999.000,-999.000,  -999.0,-999.000
   3220CGC92_2,   P13,    80,  1,    103,   1033,2,19921015,0410, -0.9913, 164.9942, 4312,  37993,   3797.0,   1.4596,  34.6878,2,  34.6858,2,    156.5,2,  1.1636,    158.4,2,   142.30,2,    34.51,2,     0.00,2,     2.43,2, -999.000,9, -999.000,9, -999.000,9, -999.000,9, -999.000,9,-999.0000,9,  -999.00,9,   -999.0,9,  -999.00,9,-999.000,9,   -999.0,9,   -999.0,9,  -999.0,-999.0000,-999.000,-999.000,  -999.0,-999.000
   3220CGC92_2,   P13,    80,  1,    102,   1234,2,19921015,0410, -0.9913, 164.9942, 4312,  40962,   4095.0,   1.3937,  34.6935,2,  34.6927,2,    168.7,2,  1.0673,    169.5,2,   136.82,2,    33.46,2,     0.00,2,     2.36,2, -999.000,9, -999.000,9, -999.000,9, -999.000,9, -999.000,9,-999.0000,9,  -999.00,9,   -999.0,9,  -999.00,9,-999.000,9,   -999.0,9,   -999.0,9,  -999.0,-999.0000,-999.000,-999.000,  -999.0,-999.000
   3220CGC92_2,   P13,    80,  1,    101,   1238,2,19921015,0410, -0.9913, 164.9942, 4312,  44832,   4483.0,   1.3427,  34.6996,2,  34.6992,6,    182.5,2,  0.9744,    179.1,2,   131.01,2,    33.12,2,     0.00,2,     2.30,2, -999.000,9, -999.000,9, -999.000,9, -999.000,9, -999.000,9,-999.0000,9,  -999.00,9,   -999.0,9,  -999.00,9,-999.000,9,   -999.0,9,   -999.0,9,  -999.0,-999.0000,-999.000,-999.000,  -999.0,-999.000