BOTTLE,20221003CCHSIOAMB
EXPOCODE,SECT_ID,STNNBR,CASTNO,SAMPNO,BTLNBR,BTLNBR_FLAG_W,DATE,TIME,LATITUDE,LONGITUDE,DEPTH,CTDRAW,CTDPRS,CTDTMP,CTDSAL,CTDSAL_FLAG_W,SALNTY,SALNTY_FLAG_W,CTDOXY,CTDOXY_FLAG_W,THETA,OXYGEN,OXYGEN_FLAG_W,SILCAT,SILCAT_FLAG_W,NITRAT,NITRAT_FLAG_W,NITRIT,NITRIT_FLAG_W,PHSPHT,PHSPHT_FLAG_W,CFC-11,CFC-11_FLAG_W,CFC-12,CFC-12_FLAG_W,CFC113,CFC113_FLAG_W,CCL4,CCL4_FLAG_W,TRITUM,TRITUM_FLAG_W,HELIUM,HELIUM_FLAG_W,DELHE3,DELHE3_FLAG_W,DELC14,DELC14_FLAG_W,DELC13,DELC13_FLAG_W,NEON,NEON_FLAG_W,TCARBN,TCARBN_FLAG_W,ALKALI,ALKALI_FLAG_W,C14ERR,HELIER,DELHER,NEONER,C13ERR,TRITER
,,,,,,,,,,,,DBAR,DBAR,ITS-90,PSS-78,,PSS-78,,UMOL/KG,,DEG C,UMOL/KG,,UMOL/KG,,UMOL/KG,,UMOL/KG,,UMOL/KG,,PMOL/KG,,PMOL/KG,,PMOL/KG,,PMOL/KG,,TU,,NMOL/KG,,PERCNT,,/MILLE,,/MILLE,,NMOL/KG,,UMOL/KG,,UMOL/KG,,/MILLE,NMOL/KG,PERCNT,NMOL/KG,/MILLE,TU
   3220CGC92_2,   P13,    72,  1,    136,   1106,2,19921012,1502,  4.0008, 165.0047, 4365,    103,      7.0,  29.5959,  33.9687,2,  33.9589,2,    193.4,2, 29.5942,    195.9,2,     0.61,2,     0.00,2,     0.00,2,     0.00,2,    1.579,2,    0.904,2,    0.827,4,    2.049,2, -999.000,9,-999.0000,9,  -999.00,9,     76.7,2,     1.53,2,-999.000,9,   1878.1,2,   2233.2,2,     4.2,-999.0000,-999.000,-999.000,  -999.0,-999.000
   3220CGC92_2,   P13,    72,  1,    135,   1013,2,19921012,1502,  4.0008, 165.0047, 4365,    251,     22.0,  29.5699,  33.9686,2,  33.9616,2,   -999.0,9, 29.5645,    195.1,2,     0.65,2,     0.00,2,     0.00,2,     0.00,2,    1.612,2,    0.908,2, -999.000,9, -999.000,9,    1.166,2,   1.6760,2,    -1.34,2,     83.2,2,     1.67,2,   6.488,2,   -999.0,9,   -999.0,9,     4.2,  0.0080,   0.140,   0.029,  -999.0,   0.004
   3220CGC92_2,   P13,    72,  1,    134,   1030,2,19921012,1502,  4.0008, 165.0047, 4365,    505,     47.0,  29.3919,  34.1516,2,  34.0897,4,    192.7,2, 29.3805,    197.4,6,     0.73,2,     0.00,2,     0.00,2,     0.00,2,    1.579,2,    0.904,2,    0.263,2,    1.938,2, -999.000,9,-999.0000,9,  -999.00,9,   -999.0,5,  -999.00,5,-999.000,9,   -999.0,9,   -999.0,9,  -999.0,-999.0000,-999.000,-999.000,  -999.0,-999.000
   3220CGC92_2,   P13,    72,  1,    133,   1231,2,19921012,1502,  4.0008, 165.0047, 4365,    759,     72.0,  27.2755,  34.7796,2,  34.7653,2,    196.0,2, 27.2588,    197.2,2,     1.21,2,     0.00,2,     0.00,2,     0.00,2,    1.622,2,    0.927,2, -999.000,9, -999.000,9,    1.235,2,   1.6900,2,    -0.30,2,    102.7,2,     1.59,2,   6.569,2,   -999.0,9,   -999.0,9,     3.3,  0.0080,   0.140,   0.029,  -999.0,   0.004
   3220CGC92_2,   P13,    72,  1,    132,   1017,2,19921012,1502,  4.0008, 165.0047, 4365,   1005,     97.0,  23.7983,  34.7202,2,  34.7485,2,    181.9,2, 23.7780,    183.7,2,     2.61,2,     0.00,2,     0.00,2,     0.06,2,    1.606,2,    0.910,2,    0.170,2,    0.859,2,    1.338,2,   1.6830,2,     0.17,2,     90.2,2,     1.31,2,   6.673,2,   -999.0,9,   -999.0,9,     3.7,  0.0080,   0.140,   0.029,  -999.0,   0.004
   3220CGC92_2,   P13,    72,  1,    131,   1031,2,19921012,1502,  4.0008, 165.0047, 4365,   1244,    121.0,  22.1167,  34.7486,2,  34.7452,2,    156.3,2, 22.0927,    157.9,2,     5.13,2,     4.20,2,     0.22,2,     0.28,2,    1.679,2,    0.925,2, -999.000,9, -999.000,9,    1.480,2,   1.7130,2,     1.42,2,   -999.0,5,     1.67,2,   6.808,2,   -999.0,9,   -999.0,9,  -999.0,  0.0080,   0.140,   0.030,  -999.0,   0.005
   3220CGC92_2,   P13,    72,  1,    130,   1041,2,19921012,1502,  4.0008, 165.0047, 4365,   1498,    146.0,  19.7203,  34.7963,2,  34.7910,2,    154.9,2, 19.6936,    154.3,2,     6.42,2,     5.92,2,     0.00,2,     0.37,2,    1.744,2,    0.946,2,    0.146,2,    0.436,2,    1.622,2,-999.0000,9,  -999.00,9,   -999.0,5,     0.88,2,-999.000,9,   -999.0,9,   -999.0,9,  -999.0,-999.0000,-999.000,-999.000,  -999.0,   0.005
   3220CGC92_2,   P13,    72,  1,    129,   1004,2,19921012,1502,  4.0008, 165.0047, 4365,   1752,    171.0,  17.0219,  34.7038,2,  34.7598,2,    149.0,2, 16.9937,    145.1,2,     9.57,2,     9.22,2,     0.00,2,     0.57,2,    1.628,2,    0.892,2, -999.000,9, -999.000,9,    1.669,2,   1.7220,2,     4.30,2,     90.7,2,     0.71,2,   6.956,2,   -999.0,9,   -999.0,9,     5.1,  0.0080,   0.140,   0.031,  -999.0,   0.005
   3220CGC92_2,   P13,    72,  1,    128,   1016,2,19921012,1502,  4.0008, 165.0047, 4365,   1993,    195.0,  15.4383,  34.6628,2,  34.7071,2,    137.0,2, 15.4083,    137.6,2,    14.62,2,    12.95,2,     0.00,2,     0.83,2, -999.000,5, -999.000,5, -999.000,9, -999.000,9,    1.589,2,   1.7380,2,     6.23,2,     40.3,2,     0.60,2,   7.119,2,   -999.0,9,   -999.0,9,     4.1,  0.0080,   0.140,   0.031,  -999.0,   0.005
   3220CGC92_2,   P13,    72,  1,    127,   1028,2,19921012,1502,  4.0008, 165.0047, 4365,   2250,    221.0,  13.5467,  34.5699,2,  34.6073,2,    134.0,2, 13.5156,    135.5,2,    18.54,2,    15.11,2,     0.14,2,     0.99,2,    1.287,2,    0.660,2, -999.000,9, -999.000,9, -999.000,9,-999.0000,9,  -999.00,9,   -999.0,5,     0.53,2,-999.000,9,   -999.0,9,   -999.0,9,  -999.0,-999.0000,-999.000,-999.000,  -999.0,-999.000
   3220CGC92_2,   P13,    72,  1,    126,   1110,2,19921012,1502,  4.0008, 165.0047, 4365,   2508,    246.0,  11.9971,  34.5187,2,  34.5384,2,    128.6,2, 11.9651,    125.5,2,    24.44,2,    19.61,2,     0.00,2,     1.25,2,    1.090,2,    0.585,2,    0.062,2,    0.260,2,    1.389,2,   1.7570,2,     9.38,2,     13.2,2,     0.43,2,   7.310,2,   -999.0,9,   -999.0,9,     3.9,  0.0080,   0.140,   0.032,  -999.0,   0.005
   3220CGC92_2,   P13,    72,  1,    125,   1035,2,19921012,1502,  4.0008, 165.0047, 4365,   2989,    294.0,  10.1036,  34.6122,2,  34.6147,2,     57.4,2, 10.0692,     50.6,2,    34.19,2,    30.46,2,     0.00,2,     2.10,2,    0.229,6,    0.134,6, -999.000,9, -999.000,9,    0.471,2,-999.0000,9,  -999.00,9,    -88.9,2,     0.15,2,-999.000,9,   -999.0,9,   -999.0,9,     3.0,-999.0000,-999.000,-999.000,  -999.0,   0.003
   3220CGC92_2,   P13,    72,  1,    124,   1019,2,19921012,1502,  4.0008, 165.0047, 4365,   3505,    346.0,   8.9219,  34.5934,2,  34.6098,2,     70.7,2,  8.8843,     64.3,2,    37.59,2,    30.69,2,     0.14,2,     2.12,2,    0.157,2,    0.087,2, -999.000,9, -999.000,9, -999.000,9,-999.0000,9,  -999.00,9,   -999.0,5,     0.29,2,-999.000,9,   -999.0,9,   -999.0,9,  -999.0,-999.0000,-999.000,-999.000,  -999.0,-999.000
   3220CGC92_2,   P13,    72,  1,    123,   1014,2,19921012,1502,  4.0008, 165.0047, 4365,   4002,    395.0,   8.4680,  34.6035,2,  34.6098,2,     68.0,2,  8.4263,     56.3,2,    40.18,2,    33.80,2,     0.00,2,     2.33,2,    0.073,2,    0.052,2,    0.022,2,    0.076,2,    0.127,2,   1.7840,2,     7.21,2,   -999.0,5,     0.25,2,   7.515,2,   -999.0,9,   -999.0,9,  -999.0,  0.0080,   0.140,   0.033,  -999.0,   0.002
   3220CGC92_2,   P13,    72,  1,    122,   1015,2,19921012,1502,  4.0008, 165.0047, 4365,   4505,    445.0,   8.0681,  34.5905,2,  34.6018,2,     52.3,2,  8.0223,     46.9,2,    43.55,2,    35.21,2,     0.00,2,     2.47,2,    0.037,2,    0.020,2, -999.000,9, -999.000,9, -999.000,9,-999.0000,9,  -999.00,9,   -111.2,2,     0.19,2,-999.000,9,   -999.0,9,   -999.0,9,     4.9,-999.0000,-999.000,-999.000,  -999.0,-999.000
   3220CGC92_2,   P13,    72,  1,    121,   1235,2,19921012,1502,  4.0008, 165.0047, 4365,   5004,    495.0,   7.6872,  34.5766,2,  34.5863,2,     70.7,2,  7.6376,     69.6,2,    43.93,2,    34.81,2,     0.00,2,     2.41,2,    0.053,2,    0.028,2, -999.000,9, -999.000,9, -999.000,9,-999.0000,9,  -999.00,9,   -112.6,6,     0.34,6,-999.000,9,   -999.0,9,   -999.0,9,     6.3,-999.0000,-999.000,-999.000,  -999.0,-999.000
   3220CGC92_2,   P13,    72,  1,    120,   1237,2,19921012,1502,  4.0008, 165.0047, 4365,   6005,    595.0,   6.8714,  34.5542,2,  34.5607,2,     55.7,2,  6.8150,     53.0,2,    54.57,2,    36.87,2,     0.00,2,     2.65,2,    0.007,2,    0.024,3, -999.000,9, -999.000,9,    0.037,2,   1.7510,2,     9.48,2,   -141.6,2,     0.20,2,   7.420,2,   -999.0,9,   -999.0,9,     4.8,  0.0080,   0.140,   0.033,  -999.0,   0.002
   3220CGC92_2,   P13,    72,  1,    119,   1025,2,19921012,1502,  4.0008, 165.0047, 4365,   7010,    695.0,   6.0465,  34.5408,2,  34.5476,2,     63.4,2,  5.9846,     62.5,2,    63.45,2,    38.18,2,     0.00,2,     2.69,2,    0.002,2,    0.000,2, -999.000,9, -999.000,9, -999.000,9,-999.0000,9,  -999.00,9,   -144.6,2,     0.20,2,-999.000,9,   -999.0,9,   -999.0,9,     3.0,-999.0000,-999.000,-999.000,  -999.0,-999.000
   3220CGC92_2,   P13,    72,  1,    118,   1118,2,19921012,1502,  4.0008, 165.0047, 4365,   8003,    794.0,   5.5777,  34.5367,2,  34.5430,6,     72.0,2,  5.5091,     71.3,2,    70.15,2,    38.31,2,     0.00,2,     2.68,2, -999.000,5, -999.000,5, -999.000,9, -999.000,9,    0.018,2,   1.8140,2,    13.48,2,   -156.1,2,     0.20,2,   7.673,2,   -999.0,9,   -999.0,9,     5.9,  0.0090,   0.140,   0.034,  -999.0,   0.001
   3220CGC92_2,   P13,    72,  1,    117,   1112,2,19921012,1502,  4.0008, 165.0047, 4365,   9003,    894.0,   5.0878,  34.5379,2,  34.5436,2,     79.8,2,  5.0133,     78.6,6,    77.97,2,    38.30,2,     0.00,2,     2.65,2, -999.000,9, -999.000,9, -999.000,9, -999.000,9, -999.000,9,-999.0000,9,  -999.00,9,   -191.8,4,     0.18,2,-999.000,9,   -999.0,9,   -999.0,9,     3.3,-999.0000,-999.000,-999.000,  -999.0,-999.000
   3220CGC92_2,   P13,    72,  1,    116,   1104,2,19921012,1502,  4.0008, 165.0047, 4365,   9991,    992.0,   4.7149,  34.5436,2,  34.5506,2,     81.3,2,  4.6344,     80.7,2,    85.56,2,    38.48,2,     0.00,2,     2.68,2,    0.005,2,    0.006,2,    0.085,2,    0.011,2, -999.000,9,   1.8640,2,    16.60,2,   -173.5,2,     0.16,2,-999.000,9,   -999.0,9,   -999.0,9,     2.6,-999.0000,-999.000,-999.000,  -999.0,-999.000
   3220CGC92_2,   P13,    72,  1,    114,   1012,2,19921012,1502,  4.0008, 165.0047, 4365,  11996,   1193.0,   3.9271,  34.5624,2,  34.5700,2,     92.4,2,  3.8356,     94.1,2,   101.58,2,    37.89,2,     0.00,2,     2.67,2, -999.000,9, -999.000,9, -999.000,9, -999.000,9, -999.000,9,   1.8820,2,    19.70,2,   -193.6,2,     0.13,2,-999.000,9,   -999.0,9,   -999.0,9,     2.6,-999.0000,-999.000,-999.000,  -999.0,-999.000
   3220CGC92_2,   P13,    72,  1,    112,   1219,2,19921012,1502,  4.0008, 165.0047, 4365,  13996,   1393.0,   3.4342,  34.5791,2,  34.5851,2,     90.0,2,  3.3305,     88.9,2,   114.79,2,    38.38,2,     0.00,2,     2.73,2, -999.000,9, -999.000,9, -999.000,9, -999.000,9, -999.000,9,   1.8870,2,    21.50,2,   -206.1,2,     0.03,2,-999.000,9,   -999.0,9,   -999.0,9,     2.7,-999.0000,-999.000,-999.000,  -999.0,-999.000
   3220CGC92_2,   P13,    72,  1,    110,   1029,2,19921012,1502,  4.0008, 165.0047, 4365,  16993,   1692.0,   2.6864,  34.6088,2,  34.6152,2,     95.0,2,  2.5662,     96.9,2,   132.03,2,    39.61,2,     0.00,2,     2.77,2, -999.000,9, -999.000,9, -999.000,9, -999.000,9, -999.000,9,   1.8990,2,    23.70,2,   -231.6,2,    -0.02,2,-999.000,9,   -999.0,9,   -999.0,9,     2.6,-999.0000,-999.000,-999.000,  -999.0,-999.000
   3220CGC92_2,   P13,    72,  1,    109,   1023,2,19921012,1502,  4.0008, 165.0047, 4365,  19982,   1992.0,   2.1965,  34.6342,2,  34.6383,2,    105.8,2,  2.0577,    108.4,2,   143.48,2,    38.98,2,     0.00,2,     2.69,2, -999.000,9, -999.000,9, -999.000,9, -999.000,9, -999.000,9,   1.9100,2,    25.00,2,   -242.6,2,    -0.03,2,-999.000,9,   -999.0,9,   -999.0,9,     2.6,-999.0000,-999.000,-999.000,  -999.0,-999.000
   3220CGC92_2,   P13,    72,  1,    108,   1032,2,19921012,1502,  4.0008, 165.0047, 4365,  22978,   2292.0,   1.8985,  34.6513,2,  34.6543,2,    115.5,2,  1.7386,    118.2,2,   148.59,2,    38.22,2,     0.00,2,     2.67,2, -999.000,9, -999.000,9, -999.000,9, -999.000,9, -999.000,9,   1.9080,2,    24.70,2,   -241.1,2,     0.01,2,-999.000,9,   -999.0,9,   -999.0,9,     2.8,-999.0000,-999.000,-999.000,  -999.0,-999.000
   3220CGC92_2,   P13,    72,  1,    107,   1037,2,19921012,1502,  4.0008, 165.0047, 4365,  25997,   2594.0,   1.7566,  34.6597,2,  34.6623,2,   -999.0,9,  1.5723,    125.3,2,   150.76,2,    36.48,2,     0.00,2,     2.59,2, -999.000,9, -999.000,9, -999.000,9, -999.000,9, -999.000,9,   1.9110,2,    23.20,2,   -235.5,2,     0.00,2,-999.000,9,   -999.0,9,   -999.0,9,     3.1,-999.0000,-999.000,-999.000,  -999.0,-999.000
   3220CGC92_2,   P13,    72,  1,    106,   1022,2,19921012,1502,  4.0008, 165.0047, 4365,  28983,   2894.0,   1.6756,  34.6648,2,  34.6667,2,    131.1,2,  1.4651,    133.2,2,   149.41,2,    37.20,2,     0.00,2,     2.54,2, -999.000,9, -999.000,9, -999.000,9, -999.000,9, -999.000,9,   1.9100,2,    21.50,2,   -228.7,2,     0.05,2,-999.000,9,   -999.0,9,   -999.0,9,     2.6,-999.0000,-999.000,-999.000,  -999.0,-999.000
   3220CGC92_2,   P13,    72,  1,    105,   1221,2,19921012,1502,  4.0008, 165.0047, 4365,  31990,   3195.0,   1.5956,  34.6715,2,  34.6734,2,    138.9,2,  1.3578,    141.6,2,   148.25,2,    36.61,2,     0.00,2,     2.50,2, -999.000,9, -999.000,9, -999.000,9, -999.000,9, -999.000,9,   1.8960,2,    19.50,2,   -225.5,2,     0.09,2,-999.000,9,   -999.0,9,   -999.0,9,     3.7,-999.0000,-999.000,-999.000,  -999.0,-999.000
   3220CGC92_2,   P13,    72,  1,    104,   1038,2,19921012,1502,  4.0008, 165.0047, 4365,  34994,   3497.0,   1.5176,  34.6786,2,  34.6804,2,    145.8,2,  1.2513,    148.8,2,   146.70,2,    36.42,2,     0.00,2,     2.47,2, -999.000,9, -999.000,9, -999.000,9, -999.000,9, -999.000,9,   1.8990,2,    18.60,2,   -220.3,2,     0.14,2,-999.000,9,   -999.0,9,   -999.0,9,     2.9,-999.0000,-999.000,-999.000,  -999.0,-999.000
   3220CGC92_2,   P13,    72,  1,    103,   1033,2,19921012,1502,  4.0008, 165.0047, 4365,  37987,   3797.0,   1.4676,  34.6832,2,  34.6843,2,    156.0,2,  1.1714,   -999.0,5,   143.59,2,    35.35,2,     0.00,2,     2.44,2, -999.000,9, -999.000,9, -999.000,9, -999.000,9, -999.000,9,   1.8820,2,    17.70,2,   -999.0,5,     0.18,2,-999.000,9,   -999.0,9,   -999.0,9,  -999.0,-999.0000,-999.000,-999.000,  -999.0,-999.000
   3220CGC92_2,   P13,    72,  1,    102,   1234,2,19921012,1502,  4.0008, 165.0047, 4365,  40999,   4099.0,   1.4756,  34.6862,2,  34.6860,2,   -999.0,9,  1.1465,    159.1,2,   142.59,2,    34.90,2,     0.00,2,     2.40,2, -999.000,9, -999.000,9, -999.000,9, -999.000,9, -999.000,9,   1.8920,2,    16.80,2,   -211.2,2,     0.21,2,-999.000,9,   -999.0,9,   -999.0,9,     3.7,-999.0000,-999.000,-999.000,  -999.0,-999.000
   3220CGC92_2,   P13,    72,  1,    101,   1238,2,19921012,1502,  4.0008, 165.0047, 4365,  44867,   4486.0,   1.4127,  34.6947,2,  34.6932,2,    171.4,2,  1.0419,    172.2,2,   136.50,2,    34.38,2,     0.00,2,     2.33,2, -999.000,9, -999.000,9, -999.000,9, -999.000,9, -999.000,9,   1.8720,2,    15.20,2,   -204.9,2,     0.26,2,-999.000,9,   -999.0,9,   -999.0,9,     3.4,-999.0000,-999.000,-999.000,  -999.0,-999.000