BOTTLE,20221003CCHSIOAMB
EXPOCODE,SECT_ID,STNNBR,CASTNO,SAMPNO,BTLNBR,BTLNBR_FLAG_W,DATE,TIME,LATITUDE,LONGITUDE,DEPTH,CTDRAW,CTDPRS,CTDTMP,CTDSAL,CTDSAL_FLAG_W,SALNTY,SALNTY_FLAG_W,CTDOXY,CTDOXY_FLAG_W,THETA,OXYGEN,OXYGEN_FLAG_W,SILCAT,SILCAT_FLAG_W,NITRAT,NITRAT_FLAG_W,NITRIT,NITRIT_FLAG_W,PHSPHT,PHSPHT_FLAG_W,CFC-11,CFC-11_FLAG_W,CFC-12,CFC-12_FLAG_W,CFC113,CFC113_FLAG_W,CCL4,CCL4_FLAG_W,TRITUM,TRITUM_FLAG_W,HELIUM,HELIUM_FLAG_W,DELHE3,DELHE3_FLAG_W,DELC14,DELC14_FLAG_W,DELC13,DELC13_FLAG_W,NEON,NEON_FLAG_W,TCARBN,TCARBN_FLAG_W,ALKALI,ALKALI_FLAG_W,C14ERR,HELIER,DELHER,NEONER,C13ERR,TRITER
,,,,,,,,,,,,DBAR,DBAR,ITS-90,PSS-78,,PSS-78,,UMOL/KG,,DEG C,UMOL/KG,,UMOL/KG,,UMOL/KG,,UMOL/KG,,UMOL/KG,,PMOL/KG,,PMOL/KG,,PMOL/KG,,PMOL/KG,,TU,,NMOL/KG,,PERCNT,,/MILLE,,/MILLE,,NMOL/KG,,UMOL/KG,,UMOL/KG,,/MILLE,NMOL/KG,PERCNT,NMOL/KG,/MILLE,TU
   3220CGC92_1,   P13,    19,  1,    135,   1033,2,19920825,1738, 49.9845, 165.0023, 5355,    101,      7.0,   9.8736,  32.8637,2,  32.8746,2,    287.0,2,  9.8729,    289.5,2,    28.12,2,    14.69,2,     0.09,2,     1.34,2,    4.146,2,    2.119,2, -999.000,9, -999.000,9, -999.000,9,-999.0000,9,  -999.00,9,    -10.7,2,     1.64,2,-999.000,9,   -999.0,9,   -999.0,9,     3.4,-999.0000,-999.000,-999.000,  -999.0,-999.000
   3220CGC92_1,   P13,    19,  1,    136,   1106,2,19920825,1738, 49.9845, 165.0023, 5355,    101,      7.0,   9.8736,  32.8637,2,  32.8742,2,    287.0,2,  9.8729,    289.7,2,    28.23,2,    14.64,2,     0.09,2,     1.35,2,    4.214,6,    2.134,6, -999.000,9, -999.000,9, -999.000,9,-999.0000,9,  -999.00,9,   -999.0,9,  -999.00,9,-999.000,9,   2040.3,2,   2229.0,2,  -999.0,-999.0000,-999.000,-999.000,  -999.0,-999.000
   3220CGC92_1,   P13,    19,  1,    134,   1109,2,19920825,1738, 49.9845, 165.0023, 5355,    244,     21.0,   9.8686,  32.8713,2,  32.8821,2,    289.0,2,  9.8663,    293.8,2,    28.33,2,    15.70,2,     0.12,2,     1.38,2,    4.351,2,    2.183,2, -999.000,9, -999.000,9, -999.000,9,-999.0000,9,  -999.00,9,    -17.7,2,     1.59,2,-999.000,9,   -999.0,9,   -999.0,9,     5.1,-999.0000,-999.000,-999.000,  -999.0,-999.000
   3220CGC92_1,   P13,    19,  1,    133,   1031,2,19920825,1738, 49.9845, 165.0023, 5355,    497,     46.0,   5.1178,  33.0772,2,  33.0112,2,    314.1,2,  5.1143,    313.8,2,    33.12,2,    20.20,2,     0.38,2,     1.69,2,    5.763,2,    2.778,2, -999.000,9, -999.000,9, -999.000,9,-999.0000,9,  -999.00,9,    -12.1,2,     1.05,2,-999.000,9,   -999.0,9,   -999.0,9,     4.8,-999.0000,-999.000,-999.000,  -999.0,-999.000
   3220CGC92_1,   P13,    19,  1,    132,   1008,2,19920825,1738, 49.9845, 165.0023, 5355,    745,     71.0,   3.3512,  33.0980,2,  33.1204,2,    317.8,2,  3.3469,    320.6,2,    38.46,2,    23.09,2,     0.53,2,     1.85,2, -999.000,9, -999.000,9, -999.000,9, -999.000,9, -999.000,9,-999.0000,9,  -999.00,9,    -25.6,2,     0.82,2,-999.000,9,   -999.0,9,   -999.0,9,     5.8,-999.0000,-999.000,-999.000,  -999.0,-999.000
   3220CGC92_1,   P13,    19,  1,    131,   1030,2,19920825,1738, 49.9845, 165.0023, 5355,    998,     96.0,   2.3014,  33.1593,2,  33.2033,2,    292.9,2,  2.2964,    305.8,2,    45.62,2,    27.07,2,     0.00,2,     2.03,2,    5.841,6,    2.773,6, -999.000,9, -999.000,9,    1.569,2,   1.8170,2,    -0.51,2,    -25.2,2,     0.54,2,   8.001,2,   -999.0,9,   -999.0,9,     3.4,  0.0090,   0.140,   0.035,  -999.0,   0.020
   3220CGC92_1,   P13,    19,  1,    130,   1032,2,19920825,1738, 49.9845, 165.0023, 5355,   1247,    121.0,   2.2375,  33.2942,2,  33.3471,2,    297.7,2,  2.2311,    253.5,2,    56.83,2,    31.17,2,     0.00,2,     2.27,2, -999.000,9, -999.000,9, -999.000,9, -999.000,9, -999.000,9,-999.0000,9,  -999.00,9,    -50.1,2,     0.21,2,-999.000,9,   -999.0,9,   -999.0,9,     4.7,-999.0000,-999.000,-999.000,  -999.0,-999.000
   3220CGC92_1,   P13,    19,  1,    129,   1004,2,19920825,1738, 49.9845, 165.0023, 5355,   1502,    146.0,   2.5774,  33.5230,2,  33.6368,2,    123.0,2,  2.5692,    125.0,2,    77.90,2,    38.03,2,     0.00,2,     2.75,2,    2.963,2,    1.381,2, -999.000,9, -999.000,9,    1.336,2,   1.8280,2,     9.06,2,    -78.7,2,    -0.38,2,   7.962,2,   -999.0,9,   -999.0,9,     5.1,  0.0090,   0.140,   0.035,  -999.0,   0.019
   3220CGC92_1,   P13,    19,  1,    128,   1028,2,19920825,1738, 49.9845, 165.0023, 5355,   1745,    170.0,   3.0003,  33.7114,2,  33.7780,2,     96.4,2,  2.9901,     74.7,2,    88.68,2,    41.12,2,     0.00,2,     2.94,2, -999.000,9, -999.000,9, -999.000,9, -999.000,9, -999.000,9,-999.0000,9,  -999.00,9,   -999.0,5,    -0.63,2,-999.000,9,   -999.0,9,   -999.0,9,  -999.0,-999.0000,-999.000,-999.000,  -999.0,-999.000
   3220CGC92_1,   P13,    19,  1,    127,   1117,2,19920825,1738, 49.9845, 165.0023, 5355,   1995,    195.0,   3.3032,  33.8157,2,  33.8353,2,     91.0,2,  3.2910,     58.6,2,    92.86,2,    42.20,2,     0.00,2,     3.01,2,    1.816,2,    0.797,2, -999.000,9, -999.000,9,    1.126,2,-999.0000,9,  -999.00,9,    -99.5,2,    -0.68,2,-999.000,9,   -999.0,9,   -999.0,9,     3.6,-999.0000,-999.000,-999.000,  -999.0,   0.004
   3220CGC92_1,   P13,    19,  1,    126,   1110,2,19920825,1738, 49.9845, 165.0023, 5355,   2499,    245.0,   3.4032,  33.9245,2,  33.9234,2,     47.8,2,  3.3875,     39.2,2,    98.10,2,    43.07,2,     0.00,2,     3.07,2,    1.287,2,    0.566,2, -999.000,9, -999.000,9,    1.059,2,-999.0000,9,  -999.00,9,   -125.5,2,    -0.77,2,-999.000,9,   -999.0,9,   -999.0,9,     3.6,-999.0000,-999.000,-999.000,  -999.0,   0.004
   3220CGC92_1,   P13,    19,  1,    125,   1035,2,19920825,1738, 49.9845, 165.0023, 5355,   2989,    294.0,   3.4762,  33.9965,2,  33.9990,2,   -999.0,9,  3.4570,     26.9,2,   104.05,2,    42.96,2,     0.00,2,     3.02,2,    0.900,2,    0.400,2, -999.000,9, -999.000,9, -999.000,9,-999.0000,9,  -999.00,9,   -141.4,2,    -0.79,2,-999.000,9,   -999.0,9,   -999.0,9,     3.0,-999.0000,-999.000,-999.000,  -999.0,-999.000
   3220CGC92_1,   P13,    19,  1,    124,   1026,2,19920825,1738, 49.9845, 165.0023, 5355,   3492,    344.0,   3.4682,  34.0587,2,  34.0585,2,   -999.0,9,  3.4456,     22.6,2,   109.25,2,    43.67,2,     0.00,2,     3.11,2,    0.640,2,    0.290,2, -999.000,9, -999.000,9,    0.699,2,   1.8390,2,    15.75,2,   -999.0,5,    -0.86,2,   7.863,2,   -999.0,9,   -999.0,9,  -999.0,  0.0090,   0.140,   0.035,  -999.0,   0.003
   3220CGC92_1,   P13,    19,  1,    123,   1014,2,19920825,1738, 49.9845, 165.0023, 5355,   3992,    394.0,   3.4942,  34.1058,2,  34.1168,2,     22.0,2,  3.4680,     20.0,2,   113.59,2,    43.80,2,     0.00,2,     3.17,2,    0.433,2,    0.205,2, -999.000,9, -999.000,9,    0.587,2,   1.8430,2,    16.20,2,   -156.6,2,    -0.74,2,   7.907,2,   -999.0,9,   -999.0,9,     5.8,  0.0090,   0.140,   0.035,  -999.0,   0.003
   3220CGC92_1,   P13,    19,  1,    122,   1015,2,19920825,1738, 49.9845, 165.0023, 5355,   5001,    495.0,   3.3652,  34.1958,2,  34.1850,2,     17.3,2,  3.3324,     16.9,2,   120.88,2,    44.20,2,     0.00,2,     3.16,2, -999.000,9, -999.000,9, -999.000,9, -999.000,9,    0.445,2,   1.8520,2,    15.78,2,   -176.9,2,    -0.73,2,   7.951,2,   -999.0,9,   -999.0,9,     2.9,  0.0090,   0.140,   0.035,  -999.0,   0.003
   3220CGC92_1,   P13,    19,  1,    121,   1235,2,19920825,1738, 49.9845, 165.0023, 5355,   5999,    594.0,   3.2062,  34.2562,2,  34.2582,2,     16.7,2,  3.1671,     16.4,2,   127.28,2,    43.73,2,     0.00,2,     3.17,2,    0.131,6,    0.060,2, -999.000,9, -999.000,9,    0.272,2,   1.8570,2,    15.92,2,   -192.6,2,    -0.70,2,   7.932,2,   -999.0,9,   -999.0,9,     2.7,  0.0090,   0.140,   0.035,  -999.0,   0.002
   3220CGC92_1,   P13,    19,  1,    120,   1237,2,19920825,1738, 49.9845, 165.0023, 5355,   7002,    694.0,   3.0563,  34.3010,2,  34.3059,2,     18.0,2,  3.0107,     17.2,2,   133.20,2,    43.88,2,     0.00,2,     3.16,2, -999.000,9, -999.000,9, -999.000,9, -999.000,9, -999.000,9,   1.8610,2,    16.17,2,   -195.3,2,    -0.67,2,   7.951,2,   -999.0,9,   -999.0,9,     2.7,  0.0090,   0.140,   0.035,  -999.0,-999.000
   3220CGC92_1,   P13,    19,  1,    119,   1025,2,19920825,1738, 49.9845, 165.0023, 5355,   8009,    795.0,   2.9093,  34.3424,2,  34.3489,2,     19.1,2,  2.8574,     19.1,2,   138.59,2,    43.64,2,     0.00,2,     3.15,2,    0.052,2,    0.027,2, -999.000,9, -999.000,9, -999.000,9,   1.8660,2,    16.31,2,   -210.2,2,    -0.70,2,   7.926,2,   -999.0,9,   -999.0,9,     3.6,  0.0090,   0.140,   0.035,  -999.0,-999.000
   3220CGC92_1,   P13,    19,  1,    118,   1002,2,19920825,1738, 49.9845, 165.0023, 5355,   8992,    893.0,   2.7863,  34.3750,2,  34.3810,2,     22.0,2,  2.7281,     19.1,2,   142.77,2,    43.16,2,     0.00,2,     3.11,2, -999.000,9, -999.000,9, -999.000,9, -999.000,9, -999.000,9,   1.8670,2,    16.56,2,   -202.4,2,    -0.65,2,   7.977,2,   -999.0,9,   -999.0,9,     2.9,  0.0090,   0.140,   0.035,  -999.0,-999.000
   3220CGC92_1,   P13,    19,  1,    117,   1005,2,19920825,1738, 49.9845, 165.0023, 5355,   9990,    992.0,   2.6544,  34.4071,2,  34.4146,2,     21.3,2,  2.5899,     22.9,6,   146.58,2,    43.48,2,     0.00,2,     3.13,2,    0.026,2,    0.022,2, -999.000,9, -999.000,9, -999.000,9,-999.0000,9,  -999.00,9,   -206.3,2,    -0.37,3,-999.000,9,   -999.0,9,   -999.0,9,     3.5,-999.0000,-999.000,-999.000,  -999.0,-999.000
   3220CGC92_1,   P13,    19,  1,    116,   1104,2,19920825,1738, 49.9845, 165.0023, 5355,  11998,   1193.0,   2.3894,  34.4693,2,  34.4762,2,     29.3,2,  2.3124,     28.7,2,   154.31,2,    43.17,2,     0.00,2,     3.09,2, -999.000,9, -999.000,9, -999.000,9, -999.000,9, -999.000,9,-999.0000,9,  -999.00,9,   -219.1,2,    -0.61,2,-999.000,9,   -999.0,9,   -999.0,9,     2.8,-999.0000,-999.000,-999.000,  -999.0,-999.000
   3220CGC92_1,   P13,    19,  1,    115,   1020,2,19920825,1738, 49.9845, 165.0023, 5355,  14005,   1393.0,   2.1895,  34.5143,2,  34.5233,2,     37.7,2,  2.0993,     39.7,2,   159.22,2,    42.45,2,     0.00,2,     3.05,2,    0.010,2,    0.002,2, -999.000,9, -999.000,9,    0.047,2,-999.0000,9,  -999.00,9,   -221.4,2,    -0.56,2,-999.000,9,   -999.0,9,   -999.0,9,     2.8,-999.0000,-999.000,-999.000,  -999.0,   0.002
   3220CGC92_1,   P13,    19,  1,    114,   1120,3,19920825,1738, 49.9845, 165.0023, 5355,  15996,   1593.0,   2.0245,  34.5515,2,  34.1319,4,   -999.0,9,  1.9208,    107.3,4,   124.22,4,    38.70,4,     0.00,2,     2.81,4, -999.000,9, -999.000,9, -999.000,9, -999.000,9, -999.000,9,-999.0000,9,  -999.00,9,   -999.0,5,    -0.30,3,-999.000,9,   -999.0,9,   -999.0,9,  -999.0,-999.0000,-999.000,-999.000,  -999.0,-999.000
   3220CGC92_1,   P13,    19,  1,    113,   1112,2,19920825,1738, 49.9845, 165.0023, 5355,  18005,   1794.0,   1.9015,  34.5778,2,  34.5832,2,     64.4,2,  1.7836,     63.1,2,   163.79,2,    40.43,2,     0.00,2,     2.88,2,    0.007,2,    0.000,2, -999.000,9, -999.000,9, -999.000,9,-999.0000,9,  -999.00,9,   -225.8,2,    -0.41,2,-999.000,9,   -999.0,9,   -999.0,9,     3.0,-999.0000,-999.000,-999.000,  -999.0,-999.000
   3220CGC92_1,   P13,    19,  1,    112,   1234,2,19920825,1738, 49.9845, 165.0023, 5355,  20005,   1994.0,   1.7996,  34.5996,2,  34.6045,2,     73.5,2,  1.6668,     75.7,2,   164.26,2,    40.00,2,     0.00,2,     2.86,2, -999.000,9, -999.000,9, -999.000,9, -999.000,9, -999.000,9,-999.0000,9,  -999.00,9,   -227.5,2,    -0.31,2,-999.000,9,   -999.0,9,   -999.0,9,     2.8,-999.0000,-999.000,-999.000,  -999.0,-999.000
   3220CGC92_1,   P13,    19,  1,    111,   1221,2,19920825,1738, 49.9845, 165.0023, 5355,  22993,   2293.0,   1.6836,  34.6265,2,  34.6289,2,   -999.0,9,  1.5274,     94.4,2,   160.76,2,    38.67,2,     0.00,2,     2.82,2, -999.000,9, -999.000,9, -999.000,9, -999.000,9, -999.000,9,-999.0000,9,  -999.00,9,   -230.3,2,    -0.23,2,-999.000,9,   -999.0,9,   -999.0,9,     2.9,-999.0000,-999.000,-999.000,  -999.0,-999.000
   3220CGC92_1,   P13,    19,  1,    110,   1012,2,19920825,1738, 49.9845, 165.0023, 5355,  26007,   2595.0,   1.6006,  34.6445,2,  34.6445,2,    110.0,2,  1.4193,    109.5,2,   157.39,2,    38.76,2,     0.00,2,     2.76,2,    0.016,3,    0.005,2, -999.000,9, -999.000,9, -999.000,9,-999.0000,9,  -999.00,9,   -229.2,2,    -0.14,2,-999.000,9,   -999.0,9,   -999.0,9,     2.9,-999.0000,-999.000,-999.000,  -999.0,-999.000
   3220CGC92_1,   P13,    19,  1,    109,   1041,2,19920825,1738, 49.9845, 165.0023, 5355,  28993,   2895.0,   1.5406,  34.6555,2,  34.6574,2,    118.6,2,  1.3329,    121.6,2,   153.76,2,    37.88,2,     0.00,2,     2.71,2,    0.024,4,    0.008,2, -999.000,9, -999.000,9, -999.000,9,-999.0000,9,  -999.00,9,   -230.1,2,    -0.06,2,-999.000,9,   -999.0,9,   -999.0,9,     3.1,-999.0000,-999.000,-999.000,  -999.0,-999.000
   3220CGC92_1,   P13,    19,  1,    108,   1003,2,19920825,1738, 49.9845, 165.0023, 5355,  32005,   3197.0,   1.4986,  34.6644,2,  34.6650,2,    132.6,2,  1.2629,    132.2,2,   150.89,2,    37.03,2,     0.00,2,     2.64,2,    0.006,2,    0.000,2, -999.000,9, -999.000,9, -999.000,9,-999.0000,9,  -999.00,9,   -223.6,2,     0.01,2,-999.000,9,   -999.0,9,   -999.0,9,     2.9,-999.0000,-999.000,-999.000,  -999.0,-999.000
   3220CGC92_1,   P13,    19,  1,    107,   1013,2,19920825,1738, 49.9845, 165.0023, 5355,  34991,   3496.0,   1.4776,  34.6713,2,  34.6716,2,   -999.0,9,  1.2125,    139.6,2,   148.60,2,    36.49,2,     0.00,2,     2.55,2,    0.013,3,    0.014,3, -999.000,9, -999.000,9, -999.000,9,-999.0000,9,  -999.00,9,   -183.9,4,     0.06,2,-999.000,9,   -999.0,9,   -999.0,9,     4.8,-999.0000,-999.000,-999.000,  -999.0,-999.000
   3220CGC92_1,   P13,    19,  1,    106,   1036,2,19920825,1738, 49.9845, 165.0023, 5355,  37986,   3796.0,   1.4666,  34.6763,2,  34.6766,2,   -999.0,9,  1.1706,    145.3,2,   146.79,2,    36.31,2,     0.00,2,     2.57,2, -999.000,9, -999.000,9, -999.000,9, -999.000,9, -999.000,9,-999.0000,9,  -999.00,9,   -221.7,2,     0.06,2,-999.000,9,   -999.0,9,   -999.0,9,     5.4,-999.0000,-999.000,-999.000,  -999.0,-999.000
   3220CGC92_1,   P13,    19,  1,    105,   1037,2,19920825,1738, 49.9845, 165.0023, 5355,  40992,   4098.0,   1.4686,  34.6796,2,  34.6794,2,    149.0,2,  1.1399,    148.8,2,   146.12,2,    36.60,2,     0.00,2,     2.55,2, -999.000,9, -999.000,9, -999.000,9, -999.000,9, -999.000,9,-999.0000,9,  -999.00,9,   -205.6,3,     0.24,3,-999.000,9,   -999.0,9,   -999.0,9,     3.0,-999.0000,-999.000,-999.000,  -999.0,-999.000
   3220CGC92_1,   P13,    19,  1,    104,   1029,2,19920825,1738, 49.9845, 165.0023, 5355,  43999,   4399.0,   1.4786,  34.6803,2,  34.6825,2,    149.5,2,  1.1159,    152.3,2,   145.29,2,    36.40,2,     0.00,2,     2.53,2,    0.000,2,    0.004,2, -999.000,9, -999.000,9, -999.000,9,-999.0000,9,  -999.00,9,   -999.0,5,     1.38,4,-999.000,9,   -999.0,9,   -999.0,9,  -999.0,-999.0000,-999.000,-999.000,  -999.0,-999.000
   3220CGC92_1,   P13,    19,  1,    103,   1023,2,19920825,1738, 49.9845, 165.0023, 5355,  46996,   4699.0,   1.4956,  34.6819,2,  34.6840,2,    159.7,2,  1.0976,    154.8,2,   144.67,2,    36.15,2,     0.00,2,     2.53,2, -999.000,9, -999.000,9, -999.000,9, -999.000,9, -999.000,9,-999.0000,9,  -999.00,9,   -223.4,2,     0.17,2,-999.000,9,   -999.0,9,   -999.0,9,     3.9,-999.0000,-999.000,-999.000,  -999.0,-999.000
   3220CGC92_1,   P13,    19,  1,    102,   2001,2,19920825,1738, 49.9845, 165.0023, 5355,  49997,   4999.0,   1.5186,  34.6850,2,-999.0000,9,    159.6,2,  1.0838,    159.6,2,   144.74,2,    35.25,2,     0.00,2,     2.43,3,   -0.003,2,    0.034,4, -999.000,9, -999.000,9, -999.000,9,-999.0000,9,  -999.00,9,   -999.0,9,  -999.00,9,-999.000,9,   -999.0,9,   -999.0,9,  -999.0,-999.0000,-999.000,-999.000,  -999.0,-999.000
   3220CGC92_1,   P13,    19,  1,    101,   1038,2,19920825,1738, 49.9845, 165.0023, 5355,  55872,   5581.0,   1.5806,  34.6848,2,  34.6871,2,    160.9,2,  1.0706,    158.8,2,   146.17,2,    35.91,2,     0.00,2,     2.50,2,   -0.001,2,    0.008,2, -999.000,9, -999.000,9, -999.000,9,-999.0000,9,  -999.00,9,   -222.7,2,     0.14,2,-999.000,9,   -999.0,9,   -999.0,9,     5.7,-999.0000,-999.000,-999.000,  -999.0,-999.000