BOTTLE,20221003CCHSIOAMB
EXPOCODE,SECT_ID,STNNBR,CASTNO,SAMPNO,BTLNBR,BTLNBR_FLAG_W,DATE,TIME,LATITUDE,LONGITUDE,DEPTH,CTDRAW,CTDPRS,CTDTMP,CTDSAL,CTDSAL_FLAG_W,SALNTY,SALNTY_FLAG_W,CTDOXY,CTDOXY_FLAG_W,THETA,OXYGEN,OXYGEN_FLAG_W,SILCAT,SILCAT_FLAG_W,NITRAT,NITRAT_FLAG_W,NITRIT,NITRIT_FLAG_W,PHSPHT,PHSPHT_FLAG_W,CFC-11,CFC-11_FLAG_W,CFC-12,CFC-12_FLAG_W,CFC113,CFC113_FLAG_W,CCL4,CCL4_FLAG_W,TRITUM,TRITUM_FLAG_W,HELIUM,HELIUM_FLAG_W,DELHE3,DELHE3_FLAG_W,DELC14,DELC14_FLAG_W,DELC13,DELC13_FLAG_W,NEON,NEON_FLAG_W,TCARBN,TCARBN_FLAG_W,ALKALI,ALKALI_FLAG_W,C14ERR,HELIER,DELHER,NEONER,C13ERR,TRITER
,,,,,,,,,,,,DBAR,DBAR,ITS-90,PSS-78,,PSS-78,,UMOL/KG,,DEG C,UMOL/KG,,UMOL/KG,,UMOL/KG,,UMOL/KG,,UMOL/KG,,PMOL/KG,,PMOL/KG,,PMOL/KG,,PMOL/KG,,TU,,NMOL/KG,,PERCNT,,/MILLE,,/MILLE,,NMOL/KG,,UMOL/KG,,UMOL/KG,,/MILLE,NMOL/KG,PERCNT,NMOL/KG,/MILLE,TU
   3220CGC92_1,   P13,    51,  1,    135,   1013,2,19920907,1454, 33.3770, 165.0158, 6056,     93,      6.0,  26.5836,  34.3349,2,  34.3456,2,    216.7,2, 26.5823,    205.2,2,     1.45,2,     0.00,2,     0.00,2,     0.00,2,    2.548,4,    1.011,2,   41.024,4,    2.415,2, -999.000,9,-999.0000,9,  -999.00,9,   -999.0,9,  -999.00,9,-999.000,9,   -999.0,9,   -999.0,9,  -999.0,-999.0000,-999.000,-999.000,  -999.0,-999.000
   3220CGC92_1,   P13,    51,  1,    136,   1106,2,19920907,1454, 33.3770, 165.0158, 6056,     93,      6.0,  26.5836,  34.3349,2,  34.3461,2,    216.8,2, 26.5823,   -999.0,9,     1.38,2,     0.00,2,     0.00,2,     0.00,2, -999.000,9, -999.000,9, -999.000,9, -999.000,9, -999.000,9,-999.0000,9,  -999.00,9,   -999.0,9,  -999.00,9,-999.000,9,   1929.8,6,   2257.7,6,  -999.0,-999.0000,-999.000,-999.000,  -999.0,-999.000
   3220CGC92_1,   P13,    51,  1,    134,   1030,2,19920907,1454, 33.3770, 165.0158, 6056,    239,     21.0,  26.5656,  34.3538,2,  34.3481,2,    216.3,2, 26.5609,    207.2,2,     1.51,2,     0.01,2,     0.00,2,     0.00,2,    1.820,2,    0.988,2,    0.256,2,    2.259,2, -999.000,9,-999.0000,9,  -999.00,9,   -999.0,9,  -999.00,9,-999.000,9,   1928.6,2,   2253.7,2,  -999.0,-999.0000,-999.000,-999.000,  -999.0,-999.000
   3220CGC92_1,   P13,    51,  1,    133,   1231,2,19920907,1454, 33.3770, 165.0158, 6056,    485,     45.0,  23.4384,  34.5847,2,  34.5919,2,    227.6,2, 23.4291,    224.2,2,     1.82,2,     0.00,2,     0.00,2,     0.00,2,    2.132,2,    1.114,2,    0.608,4,    1.849,2, -999.000,9,-999.0000,9,  -999.00,9,   -999.0,9,  -999.00,9,-999.000,9,   1952.0,2,   2272.7,2,  -999.0,-999.0000,-999.000,-999.000,  -999.0,-999.000
   3220CGC92_1,   P13,    51,  1,    132,   1109,2,19920907,1454, 33.3770, 165.0158, 6056,    733,     70.0,  20.6680,  34.7729,2,  34.7801,2,    214.5,2, 20.6548,    203.0,2,     3.30,2,     0.05,2,     0.11,2,     0.00,2,    2.188,2,    1.147,2, -999.000,9, -999.000,9, -999.000,9,-999.0000,9,  -999.00,9,   -999.0,9,  -999.00,9,-999.000,9,   1993.3,2,   2283.0,2,  -999.0,-999.0000,-999.000,-999.000,  -999.0,-999.000
   3220CGC92_1,   P13,    51,  1,    131,   1031,2,19920907,1454, 33.3770, 165.0158, 6056,    991,     95.0,  19.3004,  34.7814,2,  34.7797,2,    200.2,2, 19.2833,    193.6,2,     4.79,2,     0.82,2,     0.15,2,     0.09,2,    2.188,2,    1.150,2,    0.174,2,    0.742,2, -999.000,9,-999.0000,9,  -999.00,9,   -999.0,9,  -999.00,9,-999.000,9,   2012.2,2,   2284.6,2,  -999.0,-999.0000,-999.000,-999.000,  -999.0,-999.000
   3220CGC92_1,   P13,    51,  1,    130,   1041,2,19920907,1454, 33.3770, 165.0158, 6056,   1243,    120.0,  18.6065,  34.8386,2,  34.8081,2,    201.0,2, 18.5855,    197.7,2,     4.23,2,     1.37,2,     0.00,2,     0.10,2,    2.287,2,    1.182,2, -999.000,9, -999.000,9, -999.000,9,-999.0000,9,  -999.00,9,   -999.0,9,  -999.00,9,-999.000,9,   2014.2,2,   2283.4,2,  -999.0,-999.0000,-999.000,-999.000,  -999.0,-999.000
   3220CGC92_1,   P13,    51,  1,    129,   1004,2,19920907,1454, 33.3770, 165.0158, 6056,   1503,    146.0,  17.7987,  34.7881,2,  34.7842,2,    208.1,2, 17.7739,    204.2,2,     4.15,2,     1.27,2,     0.27,2,     0.13,2,    2.366,6,    1.241,6, -999.000,9, -999.000,9, -999.000,9,-999.0000,9,  -999.00,9,   -999.0,9,  -999.00,9,-999.000,9,   2013.7,2,   2283.9,2,  -999.0,-999.0000,-999.000,-999.000,  -999.0,-999.000
   3220CGC92_1,   P13,    51,  1,    128,   1016,2,19920907,1454, 33.3770, 165.0158, 6056,   1753,    171.0,  17.2978,  34.7786,2,  34.7711,2,    204.6,2, 17.2693,    206.5,2,     4.60,2,     2.40,2,     0.00,2,     0.19,2,    2.416,2,    1.237,2,    0.210,2,    0.759,2, -999.000,9,-999.0000,9,  -999.00,9,   -999.0,9,  -999.00,9,-999.000,9,   2016.0,2,   2282.2,2,  -999.0,-999.0000,-999.000,-999.000,  -999.0,-999.000
   3220CGC92_1,   P13,    51,  1,    127,   1028,2,19920907,1454, 33.3770, 165.0158, 6056,   1998,    196.0,  16.8150,  34.7571,2,  34.7576,2,    199.9,2, 16.7829,    201.9,2,     5.81,2,     3.56,2,     0.00,2,     0.24,2,    2.322,2,    1.197,2, -999.000,9, -999.000,9, -999.000,9,-999.0000,9,  -999.00,9,   -999.0,9,  -999.00,9,-999.000,9,   2025.3,2,   2283.7,2,  -999.0,-999.0000,-999.000,-999.000,  -999.0,-999.000
   3220CGC92_1,   P13,    51,  1,    126,   1110,2,19920907,1454, 33.3770, 165.0158, 6056,   2506,    246.0,  15.3223,  34.6387,2,  34.6908,2,    191.0,2, 15.2846,    190.0,2,     8.64,2,     5.39,2,     0.16,2,     0.37,2,    2.128,2,    1.097,2, -999.000,9, -999.000,9, -999.000,9,-999.0000,9,  -999.00,9,   -999.0,9,  -999.00,9,-999.000,9,   2045.1,2,   2279.7,2,  -999.0,-999.0000,-999.000,-999.000,  -999.0,-999.000
   3220CGC92_1,   P13,    51,  1,    125,   1035,2,19920907,1454, 33.3770, 165.0158, 6056,   2990,    294.0,  14.1596,  34.5670,2,  34.5750,2,    178.1,2, 14.1168,    178.5,2,    15.07,2,    10.68,2,     0.00,2,     0.76,2,    1.934,2,    0.984,2,    0.133,2,    0.501,2, -999.000,9,-999.0000,9,  -999.00,9,   -999.0,9,  -999.00,9,-999.000,9,   2073.9,2,   2282.2,2,  -999.0,-999.0000,-999.000,-999.000,  -999.0,-999.000
   3220CGC92_1,   P13,    51,  1,    124,   1026,2,19920907,1454, 33.3770, 165.0158, 6056,   3484,    343.0,  12.3120,  34.4237,2,  34.4170,2,    171.8,2, 12.2665,    221.0,3,    14.44,2,     9.56,2,     0.00,2,     0.74,2,    2.820,2,    1.420,2, -999.000,9, -999.000,9, -999.000,9,-999.0000,9,  -999.00,9,   -999.0,9,  -999.00,9,-999.000,9,   2065.8,2,   2272.9,2,  -999.0,-999.0000,-999.000,-999.000,  -999.0,-999.000
   3220CGC92_1,   P13,    51,  1,    123,   1014,2,19920907,1454, 33.3770, 165.0158, 6056,   4000,    395.0,  11.2833,  34.3345,2,  34.3314,2,    223.4,2, 11.2337,    253.9,3,    18.77,2,    12.72,2,     0.00,2,     0.89,2,    2.694,2,    1.368,2,    0.263,2,    1.421,2, -999.000,9,-999.0000,9,  -999.00,9,   -999.0,9,  -999.00,9,-999.000,9,   2084.4,2,   2274.9,2,  -999.0,-999.0000,-999.000,-999.000,  -999.0,-999.000
   3220CGC92_1,   P13,    51,  1,    122,   1015,2,19920907,1454, 33.3770, 165.0158, 6056,   4995,    494.0,   8.1181,  34.0767,2,  34.0842,2,    192.8,2,  8.0673,    197.3,2,    33.91,2,    18.88,2,     0.00,2,     1.45,2,    2.676,2,    1.300,2,    0.221,2,    2.083,2, -999.000,9,-999.0000,9,  -999.00,9,   -999.0,9,  -999.00,9,-999.000,9,   2135.8,2,   2275.1,2,  -999.0,-999.0000,-999.000,-999.000,  -999.0,-999.000
   3220CGC92_1,   P13,    51,  1,    121,   1235,2,19920907,1454, 33.3770, 165.0158, 6056,   6003,    594.0,   5.7296,  33.9917,2,  33.9818,2,    165.3,2,  5.6790,    161.6,2,    19.05,2,    15.14,2,     0.00,2,     0.89,3,    2.046,2,    0.969,2, -999.000,9, -999.000,9, -999.000,9,-999.0000,9,  -999.00,9,   -999.0,9,  -999.00,9,-999.000,9,   2203.5,2,   2290.1,2,  -999.0,-999.0000,-999.000,-999.000,  -999.0,-999.000
   3220CGC92_1,   P13,    51,  1,    120,   1237,2,19920907,1454, 33.3770, 165.0158, 6056,   7007,    695.0,   4.7249,  34.0878,2,  34.0449,2,    112.5,2,  4.6704,    108.9,2,    80.79,2,    34.14,2,     0.00,2,     2.56,2,    1.257,2,    0.588,2,    0.120,2,    1.351,2, -999.000,9,-999.0000,9,  -999.00,9,   -999.0,9,  -999.00,9,-999.000,9,   2257.6,2,   2306.4,2,  -999.0,-999.0000,-999.000,-999.000,  -999.0,-999.000
   3220CGC92_1,   P13,    51,  1,    119,   1025,2,19920907,1454, 33.3770, 165.0158, 6056,   8003,    794.0,   4.2590,  34.1851,2,  34.1381,2,   -999.0,9,  4.1990,     75.6,2,    97.92,2,    37.67,2,     0.00,2,     2.78,2,    0.740,6,    0.345,6,    0.067,2,    0.875,2, -999.000,9,-999.0000,9,  -999.00,9,   -999.0,9,  -999.00,9,-999.000,9,   2294.6,2,   2326.8,2,  -999.0,-999.0000,-999.000,-999.000,  -999.0,-999.000
   3220CGC92_1,   P13,    51,  1,    118,   1118,2,19920907,1454, 33.3770, 165.0158, 6056,   8876,    881.0,   3.8891,  34.2552,2,  34.2342,2,     59.0,2,  3.8243,     50.7,6,   114.31,2,    39.53,2,     0.00,2,     3.00,2, -999.000,9, -999.000,9, -999.000,9, -999.000,9, -999.000,9,-999.0000,9,  -999.00,9,   -999.0,9,  -999.00,9,-999.000,9,   2327.8,6,   2344.8,6,  -999.0,-999.0000,-999.000,-999.000,  -999.0,-999.000
   3220CGC92_1,   P13,    51,  1,    117,   1005,2,19920907,1454, 33.3770, 165.0158, 6056,  10001,    993.0,   3.4902,  34.3156,2,  34.3034,6,     45.2,2,  3.4193,     37.7,2,   126.04,2,    41.27,2,     0.00,2,     3.12,2,    0.088,2,    0.052,2,    0.044,2,    0.212,2, -999.000,9,-999.0000,9,  -999.00,9,   -999.0,9,  -999.00,9,-999.000,9,   2348.6,2,   2360.1,2,  -999.0,-999.0000,-999.000,-999.000,  -999.0,-999.000
   3220CGC92_1,   P13,    51,  1,    116,   1104,4,19920907,1454, 33.3770, 165.0158, 6056,  12016,   1195.0,   2.9623,  34.4054,2,-999.0000,9,     37.0,2,  2.8799,   -999.0,9,  -999.00,9,  -999.00,9,  -999.00,9,  -999.00,9, -999.000,9, -999.000,9, -999.000,9, -999.000,9, -999.000,9,-999.0000,9,  -999.00,9,   -999.0,9,  -999.00,9,-999.000,9,   -999.0,9,   -999.0,9,  -999.0,-999.0000,-999.000,-999.000,  -999.0,-999.000
   3220CGC92_1,   P13,    51,  1,    115,   1020,4,19920907,1454, 33.3770, 165.0158, 6056,  13998,   1393.0,   2.5834,  34.4749,2,-999.0000,9,     37.3,2,  2.4891,   -999.0,9,  -999.00,9,  -999.00,9,  -999.00,9,  -999.00,9, -999.000,9, -999.000,9, -999.000,9, -999.000,9, -999.000,9,-999.0000,9,  -999.00,9,   -999.0,9,  -999.00,9,-999.000,9,   -999.0,9,   -999.0,9,  -999.0,-999.0000,-999.000,-999.000,  -999.0,-999.000
   3220CGC92_1,   P13,    51,  1,    114,   1012,4,19920907,1454, 33.3770, 165.0158, 6056,  17030,   1696.0,   2.2065,  34.5516,2,-999.0000,9,     52.0,2,  2.0923,   -999.0,9,  -999.00,9,  -999.00,9,  -999.00,9,  -999.00,9, -999.000,9, -999.000,9, -999.000,9, -999.000,9, -999.000,9,-999.0000,9,  -999.00,9,   -999.0,9,  -999.00,9,-999.000,9,   -999.0,9,   -999.0,9,  -999.0,-999.0000,-999.000,-999.000,  -999.0,-999.000
   3220CGC92_1,   P13,    51,  1,    113,   1229,4,19920907,1454, 33.3770, 165.0158, 6056,  20002,   1994.0,   1.9565,  34.5951,2,-999.0000,9,   -999.0,9,  1.8214,   -999.0,9,  -999.00,9,  -999.00,9,  -999.00,9,  -999.00,9, -999.000,9, -999.000,9, -999.000,9, -999.000,9, -999.000,9,-999.0000,9,  -999.00,9,   -999.0,9,  -999.00,9,-999.000,9,   -999.0,9,   -999.0,9,  -999.0,-999.0000,-999.000,-999.000,  -999.0,-999.000
   3220CGC92_1,   P13,    51,  1,    112,   1219,4,19920907,1454, 33.3770, 165.0158, 6056,  22998,   2294.0,   1.7796,  34.6276,2,-999.0000,9,     97.1,2,  1.6216,   -999.0,9,  -999.00,9,  -999.00,9,  -999.00,9,  -999.00,9, -999.000,9, -999.000,9, -999.000,9, -999.000,9, -999.000,9,-999.0000,9,  -999.00,9,   -999.0,9,  -999.00,9,-999.000,9,   -999.0,9,   -999.0,9,  -999.0,-999.0000,-999.000,-999.000,  -999.0,-999.000
   3220CGC92_1,   P13,    51,  1,    111,   1112,4,19920907,1454, 33.3770, 165.0158, 6056,  26015,   2596.0,   1.6526,  34.6495,2,-999.0000,9,   -999.0,9,  1.4702,   -999.0,9,  -999.00,9,  -999.00,9,  -999.00,9,  -999.00,9, -999.000,9, -999.000,9, -999.000,9, -999.000,9, -999.000,9,-999.0000,9,  -999.00,9,   -999.0,9,  -999.00,9,-999.000,9,   -999.0,9,   -999.0,9,  -999.0,-999.0000,-999.000,-999.000,  -999.0,-999.000
   3220CGC92_1,   P13,    51,  1,    110,   1029,4,19920907,1454, 33.3770, 165.0158, 6056,  29012,   2897.0,   1.5896,  34.6595,2,-999.0000,9,    121.2,2,  1.3807,   -999.0,9,  -999.00,9,  -999.00,9,  -999.00,9,  -999.00,9, -999.000,9, -999.000,9, -999.000,9, -999.000,9, -999.000,9,-999.0000,9,  -999.00,9,   -999.0,9,  -999.00,9,-999.000,9,   -999.0,9,   -999.0,9,  -999.0,-999.0000,-999.000,-999.000,  -999.0,-999.000
   3220CGC92_1,   P13,    51,  1,    109,   1023,4,19920907,1454, 33.3770, 165.0158, 6056,  31987,   3195.0,   1.5456,  34.6674,2,-999.0000,9,   -999.0,9,  1.3090,   -999.0,9,  -999.00,9,  -999.00,9,  -999.00,9,  -999.00,9, -999.000,9, -999.000,9, -999.000,9, -999.000,9, -999.000,9,-999.0000,9,  -999.00,9,   -999.0,9,  -999.00,9,-999.000,9,   -999.0,9,   -999.0,9,  -999.0,-999.0000,-999.000,-999.000,  -999.0,-999.000
   3220CGC92_1,   P13,    51,  1,    108,   1032,4,19920907,1454, 33.3770, 165.0158, 6056,  35993,   3597.0,   1.5086,  34.6742,2,-999.0000,9,    137.1,2,  1.2323,   -999.0,9,  -999.00,9,  -999.00,9,  -999.00,9,  -999.00,9, -999.000,9, -999.000,9, -999.000,9, -999.000,9, -999.000,9,-999.0000,9,  -999.00,9,   -999.0,9,  -999.00,9,-999.000,9,   -999.0,9,   -999.0,9,  -999.0,-999.0000,-999.000,-999.000,  -999.0,-999.000
   3220CGC92_1,   P13,    51,  1,    107,   1037,4,19920907,1454, 33.3770, 165.0158, 6056,  40013,   4000.0,   1.4926,  34.6798,2,-999.0000,9,    145.5,2,  1.1739,   -999.0,9,  -999.00,9,  -999.00,9,  -999.00,9,  -999.00,9, -999.000,9, -999.000,9, -999.000,9, -999.000,9, -999.000,9,-999.0000,9,  -999.00,9,   -999.0,9,  -999.00,9,-999.000,9,   -999.0,9,   -999.0,9,  -999.0,-999.0000,-999.000,-999.000,  -999.0,-999.000
   3220CGC92_1,   P13,    51,  1,    106,   1022,4,19920907,1454, 33.3770, 165.0158, 6056,  43967,   4396.0,   1.4896,  34.6836,2,-999.0000,9,   -999.0,9,  1.1269,   -999.0,9,  -999.00,9,  -999.00,9,  -999.00,9,  -999.00,9, -999.000,9, -999.000,9, -999.000,9, -999.000,9, -999.000,9,-999.0000,9,  -999.00,9,   -999.0,9,  -999.00,9,-999.000,9,   -999.0,9,   -999.0,9,  -999.0,-999.0000,-999.000,-999.000,  -999.0,-999.000
   3220CGC92_1,   P13,    51,  1,    105,   1221,4,19920907,1454, 33.3770, 165.0158, 6056,  47985,   4798.0,   1.4936,  34.6877,2,-999.0000,9,   -999.0,9,  1.0839,   -999.0,9,  -999.00,9,  -999.00,9,  -999.00,9,  -999.00,9, -999.000,9, -999.000,9, -999.000,9, -999.000,9, -999.000,9,-999.0000,9,  -999.00,9,   -999.0,9,  -999.00,9,-999.000,9,   -999.0,9,   -999.0,9,  -999.0,-999.0000,-999.000,-999.000,  -999.0,-999.000
   3220CGC92_1,   P13,    51,  1,    104,   1038,4,19920907,1454, 33.3770, 165.0158, 6056,  50975,   5097.0,   1.4986,  34.6903,2,-999.0000,9,    163.5,2,  1.0525,   -999.0,9,  -999.00,9,  -999.00,9,  -999.00,9,  -999.00,9, -999.000,9, -999.000,9, -999.000,9, -999.000,9, -999.000,9,-999.0000,9,  -999.00,9,   -999.0,9,  -999.00,9,-999.000,9,   -999.0,9,   -999.0,9,  -999.0,-999.0000,-999.000,-999.000,  -999.0,-999.000
   3220CGC92_1,   P13,    51,  1,    103,   1033,4,19920907,1454, 33.3770, 165.0158, 6056,  53977,   5397.0,   1.5096,  34.6915,2,-999.0000,9,    170.4,2,  1.0257,   -999.0,9,  -999.00,9,  -999.00,9,  -999.00,9,  -999.00,9, -999.000,9, -999.000,9, -999.000,9, -999.000,9, -999.000,9,-999.0000,9,  -999.00,9,   -999.0,9,  -999.00,9,-999.000,9,   -999.0,9,   -999.0,9,  -999.0,-999.0000,-999.000,-999.000,  -999.0,-999.000
   3220CGC92_1,   P13,    51,  1,    102,   1234,4,19920907,1454, 33.3770, 165.0158, 6056,  56977,   5696.0,   1.5306,  34.6928,2,-999.0000,9,    173.7,2,  1.0075,   -999.0,9,  -999.00,9,  -999.00,9,  -999.00,9,  -999.00,9, -999.000,9, -999.000,9, -999.000,9, -999.000,9, -999.000,9,-999.0000,9,  -999.00,9,   -999.0,9,  -999.00,9,-999.000,9,   -999.0,9,   -999.0,9,  -999.0,-999.0000,-999.000,-999.000,  -999.0,-999.000
   3220CGC92_1,   P13,    51,  1,    101,   1238,4,19920907,1454, 33.3770, 165.0158, 6056,  59496,   5947.0,   1.5506,  34.6931,2,-999.0000,9,    175.2,2,  0.9937,   -999.0,9,  -999.00,9,  -999.00,9,  -999.00,9,  -999.00,9, -999.000,9, -999.000,9, -999.000,9, -999.000,9, -999.000,9,-999.0000,9,  -999.00,9,   -999.0,9,  -999.00,9,-999.000,9,   -999.0,9,   -999.0,9,  -999.0,-999.0000,-999.000,-999.000,  -999.0,-999.000