BOTTLE,20221003CCHSIOAMB
EXPOCODE,SECT_ID,STNNBR,CASTNO,SAMPNO,BTLNBR,BTLNBR_FLAG_W,DATE,TIME,LATITUDE,LONGITUDE,DEPTH,CTDRAW,CTDPRS,CTDTMP,CTDSAL,CTDSAL_FLAG_W,SALNTY,SALNTY_FLAG_W,CTDOXY,CTDOXY_FLAG_W,THETA,OXYGEN,OXYGEN_FLAG_W,SILCAT,SILCAT_FLAG_W,NITRAT,NITRAT_FLAG_W,NITRIT,NITRIT_FLAG_W,PHSPHT,PHSPHT_FLAG_W,CFC-11,CFC-11_FLAG_W,CFC-12,CFC-12_FLAG_W,CFC113,CFC113_FLAG_W,CCL4,CCL4_FLAG_W,TRITUM,TRITUM_FLAG_W,HELIUM,HELIUM_FLAG_W,DELHE3,DELHE3_FLAG_W,DELC14,DELC14_FLAG_W,DELC13,DELC13_FLAG_W,NEON,NEON_FLAG_W,TCARBN,TCARBN_FLAG_W,ALKALI,ALKALI_FLAG_W,C14ERR,HELIER,DELHER,NEONER,C13ERR,TRITER
,,,,,,,,,,,,DBAR,DBAR,ITS-90,PSS-78,,PSS-78,,UMOL/KG,,DEG C,UMOL/KG,,UMOL/KG,,UMOL/KG,,UMOL/KG,,UMOL/KG,,PMOL/KG,,PMOL/KG,,PMOL/KG,,PMOL/KG,,TU,,NMOL/KG,,PERCNT,,/MILLE,,/MILLE,,NMOL/KG,,UMOL/KG,,UMOL/KG,,/MILLE,NMOL/KG,PERCNT,NMOL/KG,/MILLE,TU
   3220CGC92_2,   P13,    59,  1,    136,   1106,4,19921001,1645, 19.9880, 165.0053, 5308,    105,      7.0,  28.6941,  35.0626,2,-999.0000,9,    210.7,2, 28.6924,   -999.0,9,  -999.00,5,  -999.00,9,  -999.00,9,  -999.00,5, -999.000,9, -999.000,9, -999.000,9, -999.000,9, -999.000,9,-999.0000,9,  -999.00,9,   -999.0,9,  -999.00,9,-999.000,9,   -999.0,9,   -999.0,9,  -999.0,-999.0000,-999.000,-999.000,  -999.0,-999.000
   3220CGC92_2,   P13,    59,  1,    135,   1013,4,19921001,1645, 19.9880, 165.0053, 5308,    211,     18.0,  28.6871,  35.0611,2,-999.0000,9,   -999.0,9, 28.6828,   -999.0,9,  -999.00,5,  -999.00,9,  -999.00,9,  -999.00,5, -999.000,9, -999.000,9, -999.000,9, -999.000,9, -999.000,9,-999.0000,9,  -999.00,9,   -999.0,9,  -999.00,9,-999.000,9,   -999.0,9,   -999.0,9,  -999.0,-999.0000,-999.000,-999.000,  -999.0,-999.000
   3220CGC92_2,   P13,    59,  1,    134,   1030,2,19921001,1645, 19.9880, 165.0053, 5308,    497,     46.0,  28.5911,  35.0876,2,  35.1856,2,    212.6,2, 28.5801,   -999.0,5,     0.69,2,     0.00,2,     0.00,2,     0.00,2, -999.000,5, -999.000,5, -999.000,9, -999.000,9, -999.000,9,-999.0000,9,  -999.00,9,   -999.0,5,     1.35,2,-999.000,9,   1949.5,2,   2307.7,2,  -999.0,-999.0000,-999.000,-999.000,  -999.0,-999.000
   3220CGC92_2,   P13,    59,  1,    133,   1231,2,19921001,1645, 19.9880, 165.0053, 5308,    754,     72.0,  25.4589,  35.2906,2,  35.1683,2,    221.6,2, 25.4431,    218.1,6,     1.23,2,     0.00,2,     0.00,2,     0.00,2,    2.083,2,    1.167,2, -999.000,9, -999.000,9, -999.000,9,-999.0000,9,  -999.00,9,   -999.0,5,     1.47,2,-999.000,9,   1970.7,6,   2305.0,2,  -999.0,-999.0000,-999.000,-999.000,  -999.0,-999.000
   3220CGC92_2,   P13,    59,  1,    132,   1109,2,19921001,1645, 19.9880, 165.0053, 5308,   1000,     96.0,  23.5014,  35.2600,2,  35.2276,2,    209.3,2, 23.4814,    213.9,2,     1.24,2,     0.00,2,     0.00,2,     0.00,2,    2.081,2,    1.180,2, -999.000,9, -999.000,9, -999.000,9,-999.0000,9,  -999.00,9,    110.5,2,     1.20,2,-999.000,9,   1991.2,2,   2311.9,2,     3.6,-999.0000,-999.000,-999.000,  -999.0,-999.000
   3220CGC92_2,   P13,    59,  1,    131,   1031,2,19921001,1645, 19.9880, 165.0053, 5308,   1240,    120.0,  21.2449,  35.1614,2,  35.1617,2,    191.6,2, 21.2217,    191.0,2,     1.90,2,     0.00,2,     0.00,2,     0.08,2,    2.187,2,    1.228,2, -999.000,9, -999.000,9, -999.000,9,-999.0000,9,  -999.00,9,   -999.0,5,     1.03,2,-999.000,9,   2018.2,2,   2309.3,2,  -999.0,-999.0000,-999.000,-999.000,  -999.0,-999.000
   3220CGC92_2,   P13,    59,  1,    130,   1041,2,19921001,1645, 19.9880, 165.0053, 5308,   1498,    146.0,  20.4711,  35.1452,2,  35.0708,2,    193.3,2, 20.4436,    196.3,2,     2.29,2,     0.00,2,     0.00,2,     0.06,2,    2.313,6,    1.248,6, -999.000,9, -999.000,9, -999.000,9,-999.0000,9,  -999.00,9,    127.7,2,     0.98,2,-999.000,9,   2018.6,2,   2302.4,2,     4.1,-999.0000,-999.000,-999.000,  -999.0,-999.000
   3220CGC92_2,   P13,    59,  1,    129,   1004,2,19921001,1645, 19.9880, 165.0053, 5308,   1696,    166.0,  19.3614,  35.0354,2,  34.9642,2,    192.7,2, 19.3314,    197.0,2,     2.88,2,     0.64,2,     0.00,2,     0.08,2,    2.377,2,    1.314,2, -999.000,9, -999.000,9, -999.000,9,-999.0000,9,  -999.00,9,    119.5,2,     0.93,2,-999.000,9,   2023.2,2,   2297.4,2,     3.7,-999.0000,-999.000,-999.000,  -999.0,-999.000
   3220CGC92_2,   P13,    59,  1,    128,   1016,2,19921001,1645, 19.9880, 165.0053, 5308,   1991,    195.0,  17.8597,  34.8669,2,  34.8418,2,    197.4,2, 17.8264,    199.2,2,     3.78,2,     2.85,2,     0.00,2,     0.20,2,    2.360,2,    1.256,2, -999.000,9, -999.000,9, -999.000,9,-999.0000,9,  -999.00,9,    118.2,2,     0.86,2,-999.000,9,   2025.3,2,   2286.3,2,     5.0,-999.0000,-999.000,-999.000,  -999.0,-999.000
   3220CGC92_2,   P13,    59,  1,    127,   1028,2,19921001,1645, 19.9880, 165.0053, 5308,   2506,    246.0,  16.0591,  34.7058,2,  34.6925,2,    195.4,2, 16.0201,    196.4,2,     6.05,2,     5.27,2,     0.00,2,     0.36,2,    2.347,2,    1.249,2, -999.000,9, -999.000,9, -999.000,9,-999.0000,9,  -999.00,9,    111.3,2,     0.80,2,-999.000,9,   2042.4,2,   2277.0,2,     3.4,-999.0000,-999.000,-999.000,  -999.0,-999.000
   3220CGC92_2,   P13,    59,  1,    126,   1110,2,19921001,1645, 19.9880, 165.0053, 5308,   3009,    296.0,  14.3186,  34.5471,2,  34.5175,2,    191.9,2, 14.2752,    197.1,2,     9.81,2,     8.31,2,     0.00,2,     0.51,2,    2.405,6,    1.247,6, -999.000,9, -999.000,9, -999.000,9,-999.0000,9,  -999.00,9,     78.3,2,     0.70,2,-999.000,9,   2059.8,2,   2270.5,2,     4.0,-999.0000,-999.000,-999.000,  -999.0,-999.000
   3220CGC92_2,   P13,    59,  1,    125,   1035,2,19921001,1645, 19.9880, 165.0053, 5308,   3477,    343.0,  12.8009,  34.4123,2,  34.3706,2,    187.8,2, 12.7542,    190.9,2,    14.31,2,    12.06,2,     0.00,2,     0.81,2,    2.206,2,    1.121,2, -999.000,9, -999.000,9, -999.000,9,-999.0000,9,  -999.00,9,   -999.0,5,     0.60,2,-999.000,9,   2083.5,2,   2282.4,3,  -999.0,-999.0000,-999.000,-999.000,  -999.0,-999.000
   3220CGC92_2,   P13,    59,  1,    124,   1026,2,19921001,1645, 19.9880, 165.0053, 5308,   3982,    393.0,  11.3123,  34.2944,2,  34.2445,2,    185.6,2, 11.2629,    188.1,2,    20.65,2,    13.99,2,     0.00,2,     0.94,2,    2.040,2,    1.041,2, -999.000,9, -999.000,9, -999.000,9,-999.0000,9,  -999.00,9,     37.2,2,     0.50,2,-999.000,9,   2103.8,2,   2266.9,2,     3.3,-999.0000,-999.000,-999.000,  -999.0,-999.000
   3220CGC92_2,   P13,    59,  1,    123,   1014,2,19921001,1645, 19.9880, 165.0053, 5308,   4981,    493.0,   8.0471,  34.1168,2,  34.1160,2,    152.4,2,  7.9967,    141.0,2,    40.80,2,    25.63,2,     0.00,2,     1.78,2,    1.110,2,    0.580,2, -999.000,9, -999.000,9, -999.000,9,-999.0000,9,  -999.00,9,    -45.4,2,     0.17,6,-999.000,9,   2174.1,2,   2276.2,2,     6.5,-999.0000,-999.000,-999.000,  -999.0,-999.000
   3220CGC92_2,   P13,    59,  1,    122,   1015,2,19921001,1645, 19.9880, 165.0053, 5308,   5994,    594.0,   6.0625,  34.1558,2,  34.1170,2,     95.3,2,  6.0103,     89.7,2,    64.32,2,    32.73,2,     0.00,2,     2.39,2,    0.452,6,    0.251,6, -999.000,9, -999.000,9, -999.000,9,-999.0000,9,  -999.00,9,   -999.0,5,    -0.14,2,-999.000,9,   2241.5,2,   2296.0,2,  -999.0,-999.0000,-999.000,-999.000,  -999.0,-999.000
   3220CGC92_2,   P13,    59,  1,    121,   1235,2,19921001,1645, 19.9880, 165.0053, 5308,   6987,    693.0,   5.2957,  34.2555,2,  34.2420,2,     57.2,2,  5.2382,     53.2,2,    84.36,2,    37.53,2,     0.00,2,     2.81,2,    0.087,2,    0.048,2, -999.000,9, -999.000,9, -999.000,9,-999.0000,9,  -999.00,9,   -153.6,2,    -0.33,2,-999.000,9,   2293.0,2,   2325.0,2,     2.9,-999.0000,-999.000,-999.000,  -999.0,-999.000
   3220CGC92_2,   P13,    59,  1,    120,   1237,2,19921001,1645, 19.9880, 165.0053, 5308,   8005,    794.0,   4.8128,  34.3630,2,  34.3541,2,     50.1,2,  4.7492,     48.9,2,    95.75,2,    38.59,2,     0.00,2,     2.87,2,    0.017,6,    0.016,6, -999.000,9, -999.000,9, -999.000,9,-999.0000,9,  -999.00,9,   -999.0,5,    -0.28,2,-999.000,9,   2312.4,2,   2341.6,2,  -999.0,-999.0000,-999.000,-999.000,  -999.0,-999.000
   3220CGC92_2,   P13,    59,  1,    119,   1025,2,19921001,1645, 19.9880, 165.0053, 5308,   8972,    891.0,   4.4419,  34.4377,2,  34.4379,2,     57.2,2,  4.3723,     56.2,2,   103.16,2,    38.54,2,     0.00,2,     2.89,2,    0.007,2,    0.003,2, -999.000,9, -999.000,9, -999.000,9,-999.0000,9,  -999.00,9,   -194.9,2,    -0.20,2,-999.000,9,   2318.8,2,   2357.4,2,     3.2,-999.0000,-999.000,-999.000,  -999.0,-999.000
   3220CGC92_2,   P13,    59,  1,    118,   1118,2,19921001,1645, 19.9880, 165.0053, 5308,  10008,    994.0,   4.0840,  34.4832,2,  34.4922,6,     62.3,2,  4.0082,     67.6,2,   109.05,2,    38.58,2,     0.00,2,     2.82,2,    0.006,2,    0.007,2, -999.000,9, -999.000,9, -999.000,9,-999.0000,9,  -999.00,9,   -999.0,5,    -0.09,2,-999.000,9,   2322.0,2,   2366.5,2,  -999.0,-999.0000,-999.000,-999.000,  -999.0,-999.000
   3220CGC92_2,   P13,    59,  1,    117,   1005,2,19921001,1645, 19.9880, 165.0053, 5308,  11010,   1094.0,   3.7451,  34.5135,2,  34.5161,2,     70.3,2,  3.6637,     70.4,2,   117.18,2,    39.04,2,     0.00,2,     2.86,2,    0.048,4,    0.008,2, -999.000,9, -999.000,9, -999.000,9,-999.0000,9,  -999.00,9,   -999.0,5,    -0.13,2,-999.000,9,   2329.4,2,   2394.6,3,  -999.0,-999.0000,-999.000,-999.000,  -999.0,-999.000
   3220CGC92_2,   P13,    59,  1,    116,   1104,2,19921001,1645, 19.9880, 165.0053, 5308,  13005,   1293.0,   3.1662,  34.5460,2,  34.5489,2,     76.0,2,  3.0737,     77.9,2,   128.31,2,    38.76,2,     0.00,2,     2.86,2,   -0.004,2,    0.001,2, -999.000,9, -999.000,9, -999.000,9,-999.0000,9,  -999.00,9,   -999.0,5,    -0.17,2,-999.000,9,   2339.7,2,   2391.2,2,  -999.0,-999.0000,-999.000,-999.000,  -999.0,-999.000
   3220CGC92_2,   P13,    59,  1,    115,   1020,2,19921001,1645, 19.9880, 165.0053, 5308,  15001,   1493.0,   2.7733,  34.5723,2,  34.5716,2,     84.1,2,  2.6687,     84.7,6,   136.43,2,    38.53,2,     0.00,2,     2.80,2,    0.004,2,    0.003,2, -999.000,9, -999.000,9, -999.000,9,-999.0000,9,  -999.00,9,   -999.0,5,    -0.14,2,-999.000,9,   2343.9,2,   2408.4,3,  -999.0,-999.0000,-999.000,-999.000,  -999.0,-999.000
   3220CGC92_2,   P13,    59,  1,    114,   1012,2,19921001,1645, 19.9880, 165.0053, 5308,  17000,   1693.0,   2.4354,  34.5901,2,  34.5925,2,     89.8,2,  2.3184,     91.3,2,   142.87,2,    38.15,2,     0.00,2,     2.76,2, -999.000,9, -999.000,9, -999.000,9, -999.000,9, -999.000,9,-999.0000,9,  -999.00,9,   -999.0,5,    -0.15,2,-999.000,9,   2346.6,2,   2405.4,2,  -999.0,-999.0000,-999.000,-999.000,  -999.0,-999.000
   3220CGC92_2,   P13,    59,  1,    113,   1229,2,19921001,1645, 19.9880, 165.0053, 5308,  18998,   1893.0,   2.1845,  34.6099,2,  34.6073,2,     96.2,2,  2.0543,     97.8,2,   147.55,2,    37.69,2,     0.00,2,     2.67,2,   -0.003,2,    0.002,2, -999.000,9, -999.000,9, -999.000,9,-999.0000,9,  -999.00,9,   -999.0,5,    -0.11,2,-999.000,9,   2348.8,2,   2409.3,2,  -999.0,-999.0000,-999.000,-999.000,  -999.0,-999.000
   3220CGC92_2,   P13,    59,  1,    112,   1219,2,19921001,1645, 19.9880, 165.0053, 5308,  21963,   2190.0,   1.9085,  34.6358,2,  34.6326,2,   -999.0,9,  1.7574,    107.7,2,   152.83,2,    37.56,2,     0.00,2,     2.67,2, -999.000,9, -999.000,9, -999.000,9, -999.000,9, -999.000,9,-999.0000,9,  -999.00,9,   -235.6,2,    -0.09,2,-999.000,9,   2346.9,2,   2415.6,2,     3.2,-999.0000,-999.000,-999.000,  -999.0,-999.000
   3220CGC92_2,   P13,    59,  1,    111,   1112,2,19921001,1645, 19.9880, 165.0053, 5308,  25013,   2496.0,   1.7326,  34.6504,2,  34.6494,2,   -999.0,9,  1.5576,    118.4,2,   154.40,2,    37.95,2,     0.00,2,     2.73,2, -999.000,5, -999.000,5, -999.000,9, -999.000,9, -999.000,9,-999.0000,9,  -999.00,9,   -237.8,2,    -0.07,2,-999.000,9,   2344.1,2,   2420.4,2,     2.9,-999.0000,-999.000,-999.000,  -999.0,-999.000
   3220CGC92_2,   P13,    59,  1,    110,   1029,2,19921001,1645, 19.9880, 165.0053, 5308,  28003,   2795.0,   1.6396,  34.6604,2,  34.6591,2,    124.8,2,  1.4392,    127.0,2,   154.58,2,    36.91,2,     0.00,2,     2.66,2, -999.000,9, -999.000,9, -999.000,9, -999.000,9, -999.000,9,-999.0000,9,  -999.00,9,   -238.6,2,    -0.04,2,-999.000,9,   2338.2,2,   2421.9,2,     3.7,-999.0000,-999.000,-999.000,  -999.0,-999.000
   3220CGC92_2,   P13,    59,  1,    109,   1023,2,19921001,1645, 19.9880, 165.0053, 5308,  30957,   3092.0,   1.5706,  34.6672,2,  34.6660,2,    131.6,2,  1.3434,    133.3,2,   154.12,2,    36.64,2,     0.00,2,     2.61,2,   -0.002,2,    0.002,2, -999.000,9, -999.000,9, -999.000,9,-999.0000,9,  -999.00,9,   -231.8,2,     0.03,2,-999.000,9,   2335.9,2,   2420.6,2,     3.7,-999.0000,-999.000,-999.000,  -999.0,-999.000
   3220CGC92_2,   P13,    59,  1,    108,   1032,2,19921001,1645, 19.9880, 165.0053, 5308,  34016,   3398.0,   1.5146,  34.6751,2,  34.6702,2,   -999.0,9,  1.2585,    142.1,2,   152.44,2,    35.68,2,     0.00,2,     2.60,2, -999.000,9, -999.000,9, -999.000,9, -999.000,9, -999.000,9,-999.0000,9,  -999.00,9,   -237.8,2,    -0.05,2,-999.000,9,   2330.8,2,   2419.3,2,     2.7,-999.0000,-999.000,-999.000,  -999.0,-999.000
   3220CGC92_2,   P13,    59,  1,    107,   1037,2,19921001,1645, 19.9880, 165.0053, 5308,  37026,   3700.0,   1.4786,  34.6802,2,  34.6795,2,   -999.0,9,  1.1923,    148.4,2,   150.38,2,    35.75,2,     0.00,2,     2.54,2,    0.000,2,    0.008,2, -999.000,9, -999.000,9, -999.000,9,-999.0000,9,  -999.00,9,   -233.7,2,     0.11,2,-999.000,9,   2302.9,2,   2418.4,2,     2.7,-999.0000,-999.000,-999.000,  -999.0,-999.000
   3220CGC92_2,   P13,    59,  1,    106,   1022,2,19921001,1645, 19.9880, 165.0053, 5308,  39983,   3997.0,   1.4547,  34.6851,2,  34.6889,2,   -999.0,9,  1.1373,    154.5,2,   148.25,2,    35.26,2,     0.00,2,     2.48,2, -999.000,9, -999.000,9, -999.000,9, -999.000,9, -999.000,9,-999.0000,9,  -999.00,9,   -216.4,2,     0.11,2,-999.000,9,   2294.1,2,   2415.9,2,     2.8,-999.0000,-999.000,-999.000,  -999.0,-999.000
   3220CGC92_2,   P13,    59,  1,    105,   1221,2,19921001,1645, 19.9880, 165.0053, 5308,  43010,   4300.0,   1.4317,  34.6882,2,  34.6904,2,   -999.0,9,  1.0815,    160.6,2,   143.80,2,    34.77,2,     0.00,2,     2.41,2,    0.126,4,    0.010,2, -999.000,9, -999.000,9, -999.000,9,-999.0000,9,  -999.00,9,   -217.9,2,     0.20,2,-999.000,9,   2290.5,2,   2411.6,2,     3.4,-999.0000,-999.000,-999.000,  -999.0,-999.000
   3220CGC92_2,   P13,    59,  1,    104,   1038,2,19921001,1645, 19.9880, 165.0053, 5308,  45997,   4599.0,   1.4147,  34.6933,2,  34.6917,2,    168.1,2,  1.0308,    170.6,2,   139.59,2,    34.83,2,     0.00,2,     2.43,2, -999.000,9, -999.000,9, -999.000,9, -999.000,9, -999.000,9,-999.0000,9,  -999.00,9,   -218.6,2,     0.24,2,-999.000,9,   2297.5,2,   2407.5,2,     3.4,-999.0000,-999.000,-999.000,  -999.0,-999.000
   3220CGC92_2,   P13,    59,  1,    103,   1033,2,19921001,1645, 19.9880, 165.0053, 5308,  49004,   4900.0,   1.4057,  34.6957,2,  34.6957,2,    176.5,2,  0.9865,    175.4,2,   135.32,2,    34.09,2,     0.00,2,     2.36,2,    0.001,2,    0.008,2, -999.000,9, -999.000,9, -999.000,9,-999.0000,9,  -999.00,9,   -999.0,5,     0.30,2,-999.000,9,   2300.1,2,   2400.0,2,  -999.0,-999.0000,-999.000,-999.000,  -999.0,-999.000
   3220CGC92_2,   P13,    59,  1,    102,   1234,2,19921001,1645, 19.9880, 165.0053, 5308,  51017,   5101.0,   1.4147,  34.6973,2,  34.6962,2,    180.6,2,  0.9709,    178.0,2,   134.60,2,    33.59,2,     0.00,2,     2.31,2, -999.000,9, -999.000,9, -999.000,9, -999.000,9, -999.000,9,-999.0000,9,  -999.00,9,   -201.9,2,     0.28,2,-999.000,9,   2297.0,2,   2400.8,2,     2.9,-999.0000,-999.000,-999.000,  -999.0,-999.000
   3220CGC92_2,   P13,    59,  1,    101,   1238,2,19921001,1645, 19.9880, 165.0053, 5308,  54161,   5415.0,   1.4387,  34.6967,2,  34.6972,6,    183.1,2,  0.9550,    179.4,2,   133.25,2,    33.84,2,     0.00,2,     2.29,2,    0.007,2,    0.005,2, -999.000,9, -999.000,9, -999.000,9,-999.0000,9,  -999.00,9,   -202.6,2,     0.30,2,-999.000,9,   2295.9,6,   2398.7,6,     4.5,-999.0000,-999.000,-999.000,  -999.0,-999.000