BOTTLE,20221003CCHSIOAMB
EXPOCODE,SECT_ID,STNNBR,CASTNO,SAMPNO,BTLNBR,BTLNBR_FLAG_W,DATE,TIME,LATITUDE,LONGITUDE,DEPTH,CTDRAW,CTDPRS,CTDTMP,CTDSAL,CTDSAL_FLAG_W,SALNTY,SALNTY_FLAG_W,CTDOXY,CTDOXY_FLAG_W,THETA,OXYGEN,OXYGEN_FLAG_W,SILCAT,SILCAT_FLAG_W,NITRAT,NITRAT_FLAG_W,NITRIT,NITRIT_FLAG_W,PHSPHT,PHSPHT_FLAG_W,CFC-11,CFC-11_FLAG_W,CFC-12,CFC-12_FLAG_W,CFC113,CFC113_FLAG_W,CCL4,CCL4_FLAG_W,TRITUM,TRITUM_FLAG_W,HELIUM,HELIUM_FLAG_W,DELHE3,DELHE3_FLAG_W,DELC14,DELC14_FLAG_W,DELC13,DELC13_FLAG_W,NEON,NEON_FLAG_W,TCARBN,TCARBN_FLAG_W,ALKALI,ALKALI_FLAG_W,C14ERR,HELIER,DELHER,NEONER,C13ERR,TRITER
,,,,,,,,,,,,DBAR,DBAR,ITS-90,PSS-78,,PSS-78,,UMOL/KG,,DEG C,UMOL/KG,,UMOL/KG,,UMOL/KG,,UMOL/KG,,UMOL/KG,,PMOL/KG,,PMOL/KG,,PMOL/KG,,PMOL/KG,,TU,,NMOL/KG,,PERCNT,,/MILLE,,/MILLE,,NMOL/KG,,UMOL/KG,,UMOL/KG,,/MILLE,NMOL/KG,PERCNT,NMOL/KG,/MILLE,TU
   3220CGC92_1,   P13,    49,  1,    136,   1106,4,19920906,1548, 34.6998, 165.0535, 5574,     88,      6.0,  26.5076,  34.2365,2,-999.0000,9,    225.4,2, 26.5063,   -999.0,9,  -999.00,5,  -999.00,9,  -999.00,9,  -999.00,5, -999.000,9, -999.000,9, -999.000,9, -999.000,9, -999.000,9,-999.0000,9,  -999.00,9,   -999.0,9,  -999.00,9,-999.000,9,   -999.0,9,   -999.0,9,  -999.0,-999.0000,-999.000,-999.000,  -999.0,-999.000
   3220CGC92_1,   P13,    49,  1,    135,   1013,2,19920906,1548, 34.6998, 165.0535, 5574,    245,     21.0,  26.2797,  34.2175,2,  34.2252,2,   -999.0,9, 26.2750,    206.9,2,     2.02,2,     0.00,2,     0.00,2,     0.00,2,    1.933,2,    1.036,2, -999.000,9, -999.000,9, -999.000,9,-999.0000,9,  -999.00,9,   -999.0,9,  -999.00,9,-999.000,9,   1950.2,2,   2253.6,2,  -999.0,-999.0000,-999.000,-999.000,  -999.0,-999.000
   3220CGC92_1,   P13,    49,  1,    134,   1030,2,19920906,1548, 34.6998, 165.0535, 5574,    477,     44.0,  20.3671,  34.5537,2,  34.2509,2,    242.5,2, 20.3589,    235.1,2,     2.29,2,     0.00,2,     0.00,2,     0.00,2,    2.448,2,    1.270,2, -999.000,9, -999.000,9, -999.000,9,-999.0000,9,  -999.00,9,   -999.0,9,  -999.00,9,-999.000,9,   1966.6,2,   2258.2,2,  -999.0,-999.0000,-999.000,-999.000,  -999.0,-999.000
   3220CGC92_1,   P13,    49,  1,    133,   1231,2,19920906,1548, 34.6998, 165.0535, 5574,    706,     67.0,  18.1456,  34.7106,2,  34.4227,2,    199.2,2, 18.1341,    253.7,2,     2.73,2,     0.00,2,     0.00,2,     0.00,2,    2.816,2,    1.416,2, -999.000,9, -999.000,9, -999.000,9,-999.0000,9,  -999.00,9,   -999.0,9,  -999.00,9,-999.000,9,   1980.7,6,   2269.2,6,  -999.0,-999.0000,-999.000,-999.000,  -999.0,-999.000
   3220CGC92_1,   P13,    49,  1,    132,   1109,2,19920906,1548, 34.6998, 165.0535, 5574,   1014,     98.0,  15.6342,  34.6364,2,  34.5536,2,    184.9,2, 15.6191,    258.3,2,     2.80,2,     0.54,2,     0.00,2,     0.09,2,    2.778,2,    1.401,2, -999.000,9, -999.000,9, -999.000,9,-999.0000,9,  -999.00,9,   -999.0,9,  -999.00,9,-999.000,9,   2003.7,2,   2276.9,2,  -999.0,-999.0000,-999.000,-999.000,  -999.0,-999.000
   3220CGC92_1,   P13,    49,  1,    131,   1031,2,19920906,1548, 34.6998, 165.0535, 5574,   1209,    117.0,  14.2416,  34.5267,2,  34.5038,2,    211.1,2, 14.2246,    225.6,2,     9.83,2,     5.57,2,     0.40,2,     0.38,2,    2.941,2,    1.492,2, -999.000,9, -999.000,9, -999.000,9,-999.0000,9,  -999.00,9,   -999.0,9,  -999.00,9,-999.000,9,   2046.5,2,   2275.9,2,  -999.0,-999.0000,-999.000,-999.000,  -999.0,-999.000
   3220CGC92_1,   P13,    49,  1,    130,   1041,2,19920906,1548, 34.6998, 165.0535, 5574,   1462,    142.0,  13.0569,  34.4477,2,  34.4598,2,    217.0,2, 13.0374,    227.5,2,    11.55,2,     7.76,2,     0.00,2,     0.49,2,    2.974,6,    1.493,6, -999.000,9, -999.000,9, -999.000,9,-999.0000,9,  -999.00,9,   -999.0,9,  -999.00,9,-999.000,9,   2053.3,2,   2271.8,2,  -999.0,-999.0000,-999.000,-999.000,  -999.0,-999.000
   3220CGC92_1,   P13,    49,  1,    129,   1004,2,19920906,1548, 34.6998, 165.0535, 5574,   1752,    171.0,  12.4640,  34.4085,2,  34.4318,2,    219.9,2, 12.4413,    218.4,2,    14.17,2,     9.52,2,     0.19,2,     0.64,2,    2.795,2,    1.389,2, -999.000,9, -999.000,9, -999.000,9,-999.0000,9,  -999.00,9,   -999.0,9,  -999.00,9,-999.000,9,   2065.4,2,   2274.5,2,  -999.0,-999.0000,-999.000,-999.000,  -999.0,-999.000
   3220CGC92_1,   P13,    49,  1,    128,   1016,2,19920906,1548, 34.6998, 165.0535, 5574,   2010,    197.0,  11.8821,  34.3714,2,  34.3866,2,    214.4,2, 11.8568,    215.2,2,    16.29,2,    10.97,2,     0.00,2,     0.71,2,    2.760,2,    1.379,2, -999.000,9, -999.000,9, -999.000,9,-999.0000,9,  -999.00,9,   -999.0,9,  -999.00,9,-999.000,9,   2075.7,2,   2274.4,2,  -999.0,-999.0000,-999.000,-999.000,  -999.0,-999.000
   3220CGC92_1,   P13,    49,  1,    127,   1117,3,19920906,1548, 34.6998, 165.0535, 5574,   2439,    239.0,  11.0553,  34.3050,2,  34.3298,2,    209.3,2, 11.0260,    214.9,2,    18.84,2,    12.43,2,     0.00,2,     0.80,2,    2.717,2,    1.348,2, -999.000,9, -999.000,9, -999.000,9,-999.0000,9,  -999.00,9,   -999.0,9,  -999.00,9,-999.000,9,   2085.2,2,   2274.6,2,  -999.0,-999.0000,-999.000,-999.000,  -999.0,-999.000
   3220CGC92_1,   P13,    49,  1,    126,   1110,2,19920906,1548, 34.6998, 165.0535, 5574,   3012,    296.0,   9.8116,  34.2011,2,  34.2252,2,    206.8,2,  9.7779,    203.6,2,    24.85,2,    15.46,2,     0.06,2,     1.00,2,    2.615,2,    1.282,2, -999.000,9, -999.000,9, -999.000,9,-999.0000,9,  -999.00,9,   -999.0,9,  -999.00,9,-999.000,9,   2107.8,2,   2276.7,2,  -999.0,-999.0000,-999.000,-999.000,  -999.0,-999.000
   3220CGC92_1,   P13,    49,  1,    125,   1035,2,19920906,1548, 34.6998, 165.0535, 5574,   3492,    344.0,   8.5300,  34.1045,2,  34.1240,2,    203.8,2,  8.4939,    190.7,2,    33.44,2,    19.14,2,     0.00,2,     1.28,2,    2.571,2,    1.247,2, -999.000,9, -999.000,9, -999.000,9,-999.0000,9,  -999.00,9,   -999.0,9,  -999.00,9,-999.000,9,   2134.4,2,   2280.1,2,  -999.0,-999.0000,-999.000,-999.000,  -999.0,-999.000
   3220CGC92_1,   P13,    49,  1,    124,   1026,2,19920906,1548, 34.6998, 165.0535, 5574,   4001,    395.0,   7.2383,  34.0331,2,  34.0404,2,    179.7,2,  7.2006,    177.2,2,    42.93,2,    21.10,2,     0.00,2,     1.57,2,   -0.008,4,   -0.018,4, -999.000,9, -999.000,9, -999.000,9,-999.0000,9,  -999.00,9,   -999.0,9,  -999.00,9,-999.000,9,   2163.6,2,   2280.6,2,  -999.0,-999.0000,-999.000,-999.000,  -999.0,-999.000
   3220CGC92_1,   P13,    49,  1,    123,   1014,2,19920906,1548, 34.6998, 165.0535, 5574,   4997,    494.0,   5.4027,  33.9989,2,  33.9699,2,    136.0,2,  5.3622,    140.1,2,    66.02,2,    30.11,2,     0.00,2,     2.15,2,    1.982,2,    0.905,2, -999.000,9, -999.000,9, -999.000,9,-999.0000,9,  -999.00,9,   -999.0,9,  -999.00,9,-999.000,9,   2223.5,2,   2295.5,2,  -999.0,-999.0000,-999.000,-999.000,  -999.0,-999.000
   3220CGC92_1,   P13,    49,  1,    122,   1015,2,19920906,1548, 34.6998, 165.0535, 5574,   6010,    595.0,   4.7129,  34.0808,2,  34.0630,2,    104.9,2,  4.6668,     99.7,2,    66.78,2,    30.96,2,     0.00,2,     2.19,2,    1.181,2,    0.547,2, -999.000,9, -999.000,9, -999.000,9,-999.0000,9,  -999.00,9,   -999.0,9,  -999.00,9,-999.000,9,   2265.0,2,   2311.8,2,  -999.0,-999.0000,-999.000,-999.000,  -999.0,-999.000
   3220CGC92_1,   P13,    49,  1,    121,   1235,2,19920906,1548, 34.6998, 165.0535, 5574,   7017,    696.0,   4.2690,  34.1705,2,  34.2788,4,     78.3,2,  4.2168,     70.6,2,    99.79,2,    37.75,2,     0.00,2,     2.70,2,    0.601,6,    0.278,6, -999.000,9, -999.000,9, -999.000,9,-999.0000,9,  -999.00,9,   -999.0,9,  -999.00,9,-999.000,9,   2299.1,2,   2331.1,2,  -999.0,-999.0000,-999.000,-999.000,  -999.0,-999.000
   3220CGC92_1,   P13,    49,  1,    120,   1237,2,19920906,1548, 34.6998, 165.0535, 5574,   8005,    794.0,   3.9600,  34.2565,2,  34.2504,2,     58.7,2,  3.9018,     52.3,2,   114.00,2,    39.65,2,     0.00,2,     2.86,2,    0.289,2,    0.136,2, -999.000,9, -999.000,9, -999.000,9,-999.0000,9,  -999.00,9,   -999.0,9,  -999.00,9,-999.000,9,   2326.2,2,   2345.6,2,  -999.0,-999.0000,-999.000,-999.000,  -999.0,-999.000
   3220CGC92_1,   P13,    49,  1,    119,   1025,2,19920906,1548, 34.6998, 165.0535, 5574,   9003,    894.0,   3.5262,  34.3095,2,  34.3035,2,     44.7,2,  3.4628,     40.2,2,   124.21,2,    40.86,2,     0.00,2,     2.93,2,    0.116,2,    0.049,2, -999.000,9, -999.000,9, -999.000,9,-999.0000,9,  -999.00,9,   -999.0,9,  -999.00,9,-999.000,9,   2346.1,2,   2358.8,2,  -999.0,-999.0000,-999.000,-999.000,  -999.0,-999.000
   3220CGC92_1,   P13,    49,  1,    118,   1118,2,19920906,1548, 34.6998, 165.0535, 5574,   9989,    992.0,   3.2532,  34.3572,2,  34.3519,6,     40.3,2,  3.1842,     37.3,2,   132.93,2,    41.51,2,     0.00,2,     2.96,2,    0.072,2,    0.033,2, -999.000,9, -999.000,9, -999.000,9,-999.0000,9,  -999.00,9,   -999.0,9,  -999.00,9,-999.000,9,   2356.1,2,   2371.1,2,  -999.0,-999.0000,-999.000,-999.000,  -999.0,-999.000
   3220CGC92_1,   P13,    49,  1,    117,   1005,2,19920906,1548, 34.6998, 165.0535, 5574,  12014,   1194.0,   2.7913,  34.4363,2,  34.4354,2,     37.7,2,  2.7105,     38.3,2,   145.37,2,    41.73,2,     0.00,2,     2.95,2,    0.029,6,    0.017,6, -999.000,9, -999.000,9, -999.000,9,-999.0000,9,  -999.00,9,   -999.0,9,  -999.00,9,-999.000,9,   2368.5,2,   2387.8,2,  -999.0,-999.0000,-999.000,-999.000,  -999.0,-999.000
   3220CGC92_1,   P13,    49,  1,    116,   1104,2,19920906,1548, 34.6998, 165.0535, 5574,  14018,   1395.0,   2.4914,  34.4910,2,  34.4900,2,     38.7,2,  2.3979,     37.2,2,   155.23,2,    42.12,2,     0.00,2,     2.99,2,    0.004,2,   -0.001,2, -999.000,9, -999.000,9, -999.000,9,-999.0000,9,  -999.00,9,   -999.0,9,  -999.00,9,-999.000,9,   2381.7,2,   2398.2,2,  -999.0,-999.0000,-999.000,-999.000,  -999.0,-999.000
   3220CGC92_1,   P13,    49,  1,    115,   1020,2,19920906,1548, 34.6998, 165.0535, 5574,  16980,   1691.0,   2.1505,  34.5549,2,  34.5543,2,     52.4,2,  2.0375,     53.1,2,   163.03,2,    41.31,2,     0.00,2,     2.92,2,    0.000,2,    0.001,2, -999.000,9, -999.000,9, -999.000,9,-999.0000,9,  -999.00,9,   -999.0,9,  -999.00,9,-999.000,9,   2381.1,2,   2410.8,2,  -999.0,-999.0000,-999.000,-999.000,  -999.0,-999.000
   3220CGC92_1,   P13,    49,  1,    114,   1012,2,19920906,1548, 34.6998, 165.0535, 5574,  20018,   1995.0,   1.9115,  34.5982,2,  34.5986,2,     73.0,2,  1.7770,     74.4,2,   164.83,2,    40.34,2,     0.00,2,     2.78,3,   -0.003,2,   -0.018,2, -999.000,9, -999.000,9, -999.000,9,-999.0000,9,  -999.00,9,   -999.0,9,  -999.00,9,-999.000,9,   2372.8,2,   2413.1,2,  -999.0,-999.0000,-999.000,-999.000,  -999.0,-999.000
   3220CGC92_1,   P13,    49,  1,    113,   1229,2,19920906,1548, 34.6998, 165.0535, 5574,  22763,   2270.0,   1.7336,  34.6267,2,  34.6267,2,     90.6,2,  1.5785,     93.1,2,   164.50,2,    38.93,2,     0.00,2,     2.72,3, -999.000,9, -999.000,9, -999.000,9, -999.000,9, -999.000,9,-999.0000,9,  -999.00,9,   -999.0,9,  -999.00,9,-999.000,9,   2364.1,2,   2421.2,2,  -999.0,-999.0000,-999.000,-999.000,  -999.0,-999.000
   3220CGC92_1,   P13,    49,  1,    112,   1219,2,19920906,1548, 34.6998, 165.0535, 5574,  26028,   2597.0,   1.6216,  34.6462,2,  34.6464,2,    108.0,2,  1.4397,    110.5,2,   161.57,2,    38.59,2,     0.00,2,     2.63,3,    0.012,2,    0.003,2, -999.000,9, -999.000,9, -999.000,9,-999.0000,9,  -999.00,9,   -999.0,9,  -999.00,9,-999.000,9,   2351.0,2,   2418.1,2,  -999.0,-999.0000,-999.000,-999.000,  -999.0,-999.000
   3220CGC92_1,   P13,    49,  1,    111,   1112,2,19920906,1548, 34.6998, 165.0535, 5574,  28993,   2895.0,   1.5496,  34.6587,2,  34.6596,2,    118.6,2,  1.3417,    121.6,2,   159.75,2,    37.81,2,     0.00,2,     2.69,2, -999.000,9, -999.000,9, -999.000,9, -999.000,9, -999.000,9,-999.0000,9,  -999.00,9,   -999.0,9,  -999.00,9,-999.000,9,   2341.7,2,   2420.1,2,  -999.0,-999.0000,-999.000,-999.000,  -999.0,-999.000
   3220CGC92_1,   P13,    49,  1,    110,   1029,2,19920906,1548, 34.6998, 165.0535, 5574,  31958,   3192.0,   1.5066,  34.6671,2,  34.6673,2,    129.8,2,  1.2712,    131.8,2,   157.94,2,    37.45,2,     0.00,2,     2.62,2, -999.000,9, -999.000,9, -999.000,9, -999.000,9, -999.000,9,-999.0000,9,  -999.00,9,   -999.0,9,  -999.00,9,-999.000,9,   2337.5,2,   2417.6,2,  -999.0,-999.0000,-999.000,-999.000,  -999.0,-999.000
   3220CGC92_1,   P13,    49,  1,    109,   1023,2,19920906,1548, 34.6998, 165.0535, 5574,  34971,   3494.0,   1.4786,  34.6739,2,  34.6740,2,   -999.0,9,  1.2136,    139.6,2,   156.22,2,    37.02,2,     0.00,2,     2.59,2, -999.000,9, -999.000,9, -999.000,9, -999.000,9, -999.000,9,-999.0000,9,  -999.00,9,   -999.0,9,  -999.00,9,-999.000,9,   2338.2,2,   2420.8,2,  -999.0,-999.0000,-999.000,-999.000,  -999.0,-999.000
   3220CGC92_1,   P13,    49,  1,    108,   1032,2,19920906,1548, 34.6998, 165.0535, 5574,  37946,   3792.0,   1.4636,  34.6803,2,  34.6782,2,    142.6,2,  1.1680,    145.7,2,   153.59,2,    36.68,2,     0.00,2,     2.54,2,   -0.003,2,   -0.002,2, -999.000,9, -999.000,9, -999.000,9,-999.0000,9,  -999.00,9,   -999.0,9,  -999.00,9,-999.000,9,   2329.5,2,   2419.5,2,  -999.0,-999.0000,-999.000,-999.000,  -999.0,-999.000
   3220CGC92_1,   P13,    49,  1,    107,   1037,2,19920906,1548, 34.6998, 165.0535, 5574,  40990,   4098.0,   1.4626,  34.6825,2,  34.6833,2,   -999.0,9,  1.1340,    151.3,2,   151.36,2,    36.16,2,     0.00,2,     2.58,2, -999.000,9, -999.000,9, -999.000,9, -999.000,9, -999.000,9,-999.0000,9,  -999.00,9,   -999.0,9,  -999.00,9,-999.000,9,   2325.6,2,   2420.0,2,  -999.0,-999.0000,-999.000,-999.000,  -999.0,-999.000
   3220CGC92_1,   P13,    49,  1,    106,   1022,2,19920906,1548, 34.6998, 165.0535, 5574,  44007,   4400.0,   1.4636,  34.6862,2,  34.3210,4,   -999.0,9,  1.1012,    210.6,4,    23.19,4,    12.37,4,     0.00,2,     0.72,4, -999.000,9, -999.000,9, -999.000,9, -999.000,9, -999.000,9,-999.0000,9,  -999.00,9,   -999.0,9,  -999.00,9,-999.000,9,   2056.6,4,   -999.0,9,  -999.0,-999.0000,-999.000,-999.000,  -999.0,-999.000
   3220CGC92_1,   P13,    49,  1,    105,   1221,2,19920906,1548, 34.6998, 165.0535, 5574,  46987,   4698.0,   1.4716,  34.6882,2,  34.6878,2,    161.0,2,  1.0744,    158.8,2,   148.95,2,    35.68,2,     0.00,2,     2.47,2,    0.001,2,    0.001,2, -999.000,9, -999.000,9, -999.000,9,-999.0000,9,  -999.00,9,   -999.0,9,  -999.00,9,-999.000,9,   2317.7,2,   2412.9,2,  -999.0,-999.0000,-999.000,-999.000,  -999.0,-999.000
   3220CGC92_1,   P13,    49,  1,    104,   1038,2,19920906,1548, 34.6998, 165.0535, 5574,  50002,   5000.0,   1.4776,  34.6901,2,  34.6910,2,    164.5,2,  1.0441,    164.6,2,   143.99,2,    35.24,2,     0.00,2,     2.46,2, -999.000,9, -999.000,9, -999.000,9, -999.000,9, -999.000,9,-999.0000,9,  -999.00,9,   -999.0,9,  -999.00,9,-999.000,9,   2312.8,2,   2412.3,2,  -999.0,-999.0000,-999.000,-999.000,  -999.0,-999.000
   3220CGC92_1,   P13,    49,  1,    103,   1033,2,19920906,1548, 34.6998, 165.0535, 5574,  52991,   5298.0,   1.4906,  34.6915,2,  34.6928,2,   -999.0,9,  1.0198,    169.1,2,   140.49,2,    34.82,2,     0.00,2,     2.40,2, -999.000,9, -999.000,9, -999.000,9, -999.000,9, -999.000,9,-999.0000,9,  -999.00,9,   -999.0,9,  -999.00,9,-999.000,9,   2307.6,2,   2406.9,2,  -999.0,-999.0000,-999.000,-999.000,  -999.0,-999.000
   3220CGC92_1,   P13,    49,  1,    102,   1234,2,19920906,1548, 34.6998, 165.0535, 5574,  54990,   5498.0,   1.5016,  34.6939,2,  34.6941,2,    172.6,2,  1.0051,    170.8,2,   138.89,2,    34.83,2,     0.00,2,     2.38,2,   -0.008,2,   -0.018,2, -999.000,9, -999.000,9, -999.000,9,-999.0000,9,  -999.00,9,   -999.0,9,  -999.00,9,-999.000,9,   2304.6,2,   2409.1,2,  -999.0,-999.0000,-999.000,-999.000,  -999.0,-999.000
   3220CGC92_1,   P13,    49,  1,    101,   1238,2,19920906,1548, 34.6998, 165.0535, 5574,  56500,   5648.0,   1.5146,  34.6918,2,  34.6955,6,    174.6,2,  0.9984,    172.4,2,   138.16,2,    34.86,2,     0.00,2,     2.41,2, -999.000,9, -999.000,9, -999.000,9, -999.000,9, -999.000,9,-999.0000,9,  -999.00,9,   -999.0,9,  -999.00,9,-999.000,9,   2306.0,6,   2406.6,6,  -999.0,-999.0000,-999.000,-999.000,  -999.0,-999.000