BOTTLE,20221003CCHSIOAMB
EXPOCODE,SECT_ID,STNNBR,CASTNO,SAMPNO,BTLNBR,BTLNBR_FLAG_W,DATE,TIME,LATITUDE,LONGITUDE,DEPTH,CTDRAW,CTDPRS,CTDTMP,CTDSAL,CTDSAL_FLAG_W,SALNTY,SALNTY_FLAG_W,CTDOXY,CTDOXY_FLAG_W,THETA,OXYGEN,OXYGEN_FLAG_W,SILCAT,SILCAT_FLAG_W,NITRAT,NITRAT_FLAG_W,NITRIT,NITRIT_FLAG_W,PHSPHT,PHSPHT_FLAG_W,CFC-11,CFC-11_FLAG_W,CFC-12,CFC-12_FLAG_W,CFC113,CFC113_FLAG_W,CCL4,CCL4_FLAG_W,TRITUM,TRITUM_FLAG_W,HELIUM,HELIUM_FLAG_W,DELHE3,DELHE3_FLAG_W,DELC14,DELC14_FLAG_W,DELC13,DELC13_FLAG_W,NEON,NEON_FLAG_W,TCARBN,TCARBN_FLAG_W,ALKALI,ALKALI_FLAG_W,C14ERR,HELIER,DELHER,NEONER,C13ERR,TRITER
,,,,,,,,,,,,DBAR,DBAR,ITS-90,PSS-78,,PSS-78,,UMOL/KG,,DEG C,UMOL/KG,,UMOL/KG,,UMOL/KG,,UMOL/KG,,UMOL/KG,,PMOL/KG,,PMOL/KG,,PMOL/KG,,PMOL/KG,,TU,,NMOL/KG,,PERCNT,,/MILLE,,/MILLE,,NMOL/KG,,UMOL/KG,,UMOL/KG,,/MILLE,NMOL/KG,PERCNT,NMOL/KG,/MILLE,TU
   3220CGC92_1,   P13,    18,  1,    136,   1106,2,19920825,0942, 50.5125, 164.9540, 5428,     98,      7.0,  10.0716,  32.7747,2,  32.7625,2,   -999.0,9, 10.0708,    286.9,2,    21.98,2,    12.17,2,     0.07,2,     1.21,2,   14.098,4,    2.060,6, -999.000,9, -999.000,9, -999.000,9,-999.0000,9,  -999.00,9,   -999.0,9,  -999.00,9,-999.000,9,   2026.5,2,   2211.7,2,  -999.0,-999.0000,-999.000,-999.000,  -999.0,-999.000
   3220CGC92_1,   P13,    18,  1,    135,   1033,2,19920825,0942, 50.5125, 164.9540, 5428,    247,     22.0,  10.0726,  32.7763,2,  32.7664,2,   -999.0,9, 10.0701,    286.5,2,    22.10,2,    12.78,2,     0.09,2,     1.17,2,    4.007,2,    2.048,2, -999.000,9, -999.000,9, -999.000,9,-999.0000,9,  -999.00,9,   -999.0,9,  -999.00,9,-999.000,9,   -999.0,9,   -999.0,9,  -999.0,-999.0000,-999.000,-999.000,  -999.0,-999.000
   3220CGC92_1,   P13,    18,  1,    134,   1109,2,19920825,0942, 50.5125, 164.9540, 5428,    504,     47.0,   4.6149,  32.9439,2,  32.9389,2,    318.3,2,  4.6116,    314.6,2,    30.10,2,    18.42,2,     0.35,2,     1.59,2,    5.421,2,    2.651,2, -999.000,9, -999.000,9, -999.000,9,-999.0000,9,  -999.00,9,   -999.0,9,  -999.00,9,-999.000,9,   -999.0,9,   -999.0,9,  -999.0,-999.0000,-999.000,-999.000,  -999.0,-999.000
   3220CGC92_1,   P13,    18,  1,    133,   1031,2,19920825,0942, 50.5125, 164.9540, 5428,    751,     72.0,   3.3992,  33.0527,2,  33.0464,2,    301.8,2,  3.3948,    302.0,2,    35.04,2,    23.23,2,     0.18,2,     1.80,2,    5.535,2,    2.584,2, -999.000,9, -999.000,9, -999.000,9,-999.0000,9,  -999.00,9,   -999.0,9,  -999.00,9,-999.000,9,   -999.0,9,   -999.0,9,  -999.0,-999.0000,-999.000,-999.000,  -999.0,-999.000
   3220CGC92_1,   P13,    18,  1,    132,   1008,2,19920825,0942, 50.5125, 164.9540, 5428,    995,     96.0,   2.9923,  33.2090,2,  33.1982,2,    280.4,2,  2.9867,    261.4,2,    45.00,2,    28.15,2,     0.00,2,     2.08,2,    4.964,2,    2.369,2, -999.000,9, -999.000,9, -999.000,9,-999.0000,9,  -999.00,9,   -999.0,9,  -999.00,9,-999.000,9,   -999.0,9,   -999.0,9,  -999.0,-999.0000,-999.000,-999.000,  -999.0,-999.000
   3220CGC92_1,   P13,    18,  1,    131,   1030,2,19920825,0942, 50.5125, 164.9540, 5428,   1245,    121.0,   3.4632,  33.4973,2,  33.5260,2,    172.4,2,  3.4556,    157.6,2,    64.21,2,    34.76,2,     0.00,2,     2.52,2,    3.220,2,    1.547,2, -999.000,9, -999.000,9, -999.000,9,-999.0000,9,  -999.00,9,   -999.0,9,  -999.00,9,-999.000,9,   -999.0,9,   -999.0,9,  -999.0,-999.0000,-999.000,-999.000,  -999.0,-999.000
   3220CGC92_1,   P13,    18,  1,    130,   1032,2,19920825,0942, 50.5125, 164.9540, 5428,   1493,    145.0,   3.8611,  33.7213,2,  33.6898,2,    125.7,2,  3.8514,    106.0,2,    76.20,2,    38.07,2,     0.00,2,     2.72,2,    2.454,2,    1.099,2, -999.000,9, -999.000,9, -999.000,9,-999.0000,9,  -999.00,9,   -999.0,9,  -999.00,9,-999.000,9,   -999.0,9,   -999.0,9,  -999.0,-999.0000,-999.000,-999.000,  -999.0,-999.000
   3220CGC92_1,   P13,    18,  1,    129,   1004,2,19920825,0942, 50.5125, 164.9540, 5428,   1745,    170.0,   3.6961,  33.7866,2,  33.7958,2,     91.2,2,  3.6850,     71.2,2,    81.34,2,    40.62,2,     0.00,2,     2.88,2,    1.848,2,    0.849,2, -999.000,9, -999.000,9, -999.000,9,-999.0000,9,  -999.00,9,   -999.0,9,  -999.00,9,-999.000,9,   -999.0,9,   -999.0,9,  -999.0,-999.0000,-999.000,-999.000,  -999.0,-999.000
   3220CGC92_1,   P13,    18,  1,    128,   1028,2,19920825,0942, 50.5125, 164.9540, 5428,   2008,    197.0,   3.8311,  33.8771,2,  33.8558,2,     50.2,2,  3.8179,     56.0,2,    84.83,2,    41.77,2,     0.00,2,     2.94,2, -999.000,9, -999.000,9, -999.000,9, -999.000,9, -999.000,9,-999.0000,9,  -999.00,9,   -999.0,9,  -999.00,9,-999.000,9,   -999.0,9,   -999.0,9,  -999.0,-999.0000,-999.000,-999.000,  -999.0,-999.000
   3220CGC92_1,   P13,    18,  1,    127,   1117,2,19920825,0942, 50.5125, 164.9540, 5428,   2487,    244.0,   3.8411,  33.9478,2,  33.9293,2,     28.3,2,  3.8246,     41.5,2,    90.91,2,    42.66,2,     0.00,2,     3.00,2,    1.134,2,    0.505,2, -999.000,9, -999.000,9, -999.000,9,-999.0000,9,  -999.00,9,   -999.0,9,  -999.00,9,-999.000,9,   -999.0,9,   -999.0,9,  -999.0,-999.0000,-999.000,-999.000,  -999.0,-999.000
   3220CGC92_1,   P13,    18,  1,    126,   1110,2,19920825,0942, 50.5125, 164.9540, 5428,   2997,    295.0,   3.7721,  34.0090,2,  33.9983,2,     28.9,2,  3.7521,     28.4,2,    95.47,2,    43.19,2,     0.00,2,     3.05,2, -999.000,9, -999.000,9, -999.000,9, -999.000,9, -999.000,9,-999.0000,9,  -999.00,9,   -999.0,9,  -999.00,9,-999.000,9,   -999.0,9,   -999.0,9,  -999.0,-999.0000,-999.000,-999.000,  -999.0,-999.000
   3220CGC92_1,   P13,    18,  1,    125,   1035,2,19920825,0942, 50.5125, 164.9540, 5428,   3487,    344.0,   3.6221,  34.0556,2,  34.0400,2,   -999.0,9,  3.5991,     24.5,2,   100.20,2,    42.86,2,     0.00,2,     3.02,2,    0.632,2,    0.292,2, -999.000,9, -999.000,9, -999.000,9,-999.0000,9,  -999.00,9,   -999.0,9,  -999.00,9,-999.000,9,   -999.0,9,   -999.0,9,  -999.0,-999.0000,-999.000,-999.000,  -999.0,-999.000
   3220CGC92_1,   P13,    18,  1,    124,   1026,2,19920825,0942, 50.5125, 164.9540, 5428,   3994,    394.0,   3.6191,  34.1124,2,  34.1064,2,     21.0,2,  3.5926,     20.2,2,   105.69,2,    43.45,2,     0.00,2,     3.09,2, -999.000,9, -999.000,9, -999.000,9, -999.000,9, -999.000,9,-999.0000,9,  -999.00,9,   -999.0,9,  -999.00,9,-999.000,9,   -999.0,9,   -999.0,9,  -999.0,-999.0000,-999.000,-999.000,  -999.0,-999.000
   3220CGC92_1,   P13,    18,  1,    123,   1014,2,19920825,0942, 50.5125, 164.9540, 5428,   4998,    494.0,   3.4232,  34.1829,2,  34.1606,2,   -999.0,9,  3.3902,     19.1,2,   113.37,2,    44.31,2,     0.00,2,     3.24,2,    0.293,2,    0.142,2, -999.000,9, -999.000,9, -999.000,9,-999.0000,9,  -999.00,9,   -999.0,9,  -999.00,9,-999.000,9,   -999.0,9,   -999.0,9,  -999.0,-999.0000,-999.000,-999.000,  -999.0,-999.000
   3220CGC92_1,   P13,    18,  1,    122,   1015,2,19920825,0942, 50.5125, 164.9540, 5428,   5999,    594.0,   3.2702,  34.2365,2,  34.2273,2,   -999.0,9,  3.2308,     18.9,2,   120.91,2,    44.39,2,     0.00,2,     3.21,2,    0.196,6,    0.096,2, -999.000,9, -999.000,9, -999.000,9,-999.0000,9,  -999.00,9,   -999.0,9,  -999.00,9,-999.000,9,   -999.0,9,   -999.0,9,  -999.0,-999.0000,-999.000,-999.000,  -999.0,-999.000
   3220CGC92_1,   P13,    18,  1,    121,   1235,2,19920825,0942, 50.5125, 164.9540, 5428,   6999,    694.0,   3.1242,  34.2867,2,  34.2695,2,   -999.0,9,  3.0784,     18.3,2,   126.46,2,    43.97,2,     0.00,2,     3.25,2,    0.145,2,    0.064,2, -999.000,9, -999.000,9, -999.000,9,-999.0000,9,  -999.00,9,   -999.0,9,  -999.00,9,-999.000,9,   -999.0,9,   -999.0,9,  -999.0,-999.0000,-999.000,-999.000,  -999.0,-999.000
   3220CGC92_1,   P13,    18,  1,    120,   1237,2,19920825,0942, 50.5125, 164.9540, 5428,   7995,    793.0,   2.9753,  34.3276,2,  34.3165,2,   -999.0,9,  2.9231,     18.4,2,   131.71,2,    44.69,2,     0.00,2,     3.25,2,    0.079,2,    0.027,2, -999.000,9, -999.000,9, -999.000,9,-999.0000,9,  -999.00,9,   -999.0,9,  -999.00,9,-999.000,9,   -999.0,9,   -999.0,9,  -999.0,-999.0000,-999.000,-999.000,  -999.0,-999.000
   3220CGC92_1,   P13,    18,  1,    119,   1025,2,19920825,0942, 50.5125, 164.9540, 5428,   8984,    892.0,   2.8173,  34.3602,2,  34.3580,2,   -999.0,9,  2.7590,     19.8,2,   137.20,2,    43.75,2,     0.00,2,     3.23,2,    0.055,2,    0.018,2, -999.000,9, -999.000,9, -999.000,9,-999.0000,9,  -999.00,9,   -999.0,9,  -999.00,9,-999.000,9,   -999.0,9,   -999.0,9,  -999.0,-999.0000,-999.000,-999.000,  -999.0,-999.000
   3220CGC92_1,   P13,    18,  1,    118,   1002,2,19920825,0942, 50.5125, 164.9540, 5428,   9988,    992.0,   2.7014,  34.4017,2,  34.3936,2,   -999.0,9,  2.6365,     22.5,6,   141.28,2,    44.03,2,     0.00,2,     3.23,2,    0.030,2,    0.015,2, -999.000,9, -999.000,9, -999.000,9,-999.0000,9,  -999.00,9,   -999.0,9,  -999.00,9,-999.000,9,   -999.0,9,   -999.0,9,  -999.0,-999.0000,-999.000,-999.000,  -999.0,-999.000
   3220CGC92_1,   P13,    18,  1,    117,   1005,2,19920825,0942, 50.5125, 164.9540, 5428,  11989,   1192.0,   2.4434,  34.4619,2,  34.4554,2,   -999.0,9,  2.3659,     26.0,2,   148.31,2,    43.89,2,     0.00,2,     3.14,2,    0.015,2,   -0.014,2, -999.000,9, -999.000,9, -999.000,9,-999.0000,9,  -999.00,9,   -999.0,9,  -999.00,9,-999.000,9,   -999.0,9,   -999.0,9,  -999.0,-999.0000,-999.000,-999.000,  -999.0,-999.000
   3220CGC92_1,   P13,    18,  1,    116,   1104,2,19920825,0942, 50.5125, 164.9540, 5428,  13993,   1392.0,   2.2285,  34.5107,2,  34.5061,2,     34.0,2,  2.1380,     35.0,2,   154.67,2,    43.75,2,     0.00,2,     3.15,2,    0.006,2,   -0.013,2, -999.000,9, -999.000,9, -999.000,9,-999.0000,9,  -999.00,9,   -999.0,9,  -999.00,9,-999.000,9,   -999.0,9,   -999.0,9,  -999.0,-999.0000,-999.000,-999.000,  -999.0,-999.000
   3220CGC92_1,   P13,    18,  1,    115,   1020,2,19920825,0942, 50.5125, 164.9540, 5428,  16994,   1692.0,   1.9945,  34.5636,2,  34.5585,2,     52.1,2,  1.8834,     52.7,2,   158.95,2,    42.64,2,     0.00,2,     3.04,2,    0.008,2,   -0.010,2, -999.000,9, -999.000,9, -999.000,9,-999.0000,9,  -999.00,9,   -999.0,9,  -999.00,9,-999.000,9,   -999.0,9,   -999.0,9,  -999.0,-999.0000,-999.000,-999.000,  -999.0,-999.000
   3220CGC92_1,   P13,    18,  1,    114,   1120,2,19920825,0942, 50.5125, 164.9540, 5428,  19999,   1993.0,   1.8346,  34.5978,2,  34.5960,2,     72.6,2,  1.7013,     70.5,2,   161.07,2,    41.29,2,     0.00,2,     2.95,2,   -0.001,2,    0.028,3, -999.000,9, -999.000,9, -999.000,9,-999.0000,9,  -999.00,9,   -999.0,9,  -999.00,9,-999.000,9,   -999.0,9,   -999.0,9,  -999.0,-999.0000,-999.000,-999.000,  -999.0,-999.000
   3220CGC92_1,   P13,    18,  1,    113,   1112,2,19920825,0942, 50.5125, 164.9540, 5428,  22995,   2293.0,   1.7106,  34.6242,2,  34.6223,2,     87.8,2,  1.5539,     88.9,2,   159.42,2,    39.56,2,     0.00,2,     2.78,2,    0.006,2,   -0.021,2, -999.000,9, -999.000,9, -999.000,9,-999.0000,9,  -999.00,9,   -999.0,9,  -999.00,9,-999.000,9,   -999.0,9,   -999.0,9,  -999.0,-999.0000,-999.000,-999.000,  -999.0,-999.000
   3220CGC92_1,   P13,    18,  1,    112,   1234,2,19920825,0942, 50.5125, 164.9540, 5428,  25998,   2594.0,   1.6306,  34.6419,2,  34.6437,2,    108.1,2,  1.4488,    104.7,2,   157.24,2,    39.15,2,     0.00,2,     2.77,2,    0.002,2,   -0.004,2, -999.000,9, -999.000,9, -999.000,9,-999.0000,9,  -999.00,9,   -999.0,9,  -999.00,9,-999.000,9,   -999.0,9,   -999.0,9,  -999.0,-999.0000,-999.000,-999.000,  -999.0,-999.000
   3220CGC92_1,   P13,    18,  1,    111,   1221,2,19920825,0942, 50.5125, 164.9540, 5428,  29000,   2895.0,   1.5676,  34.6557,2,  34.6561,2,   -999.0,9,  1.3593,    118.5,2,   153.56,2,    38.94,2,     0.00,2,     2.79,2,    0.003,2,   -0.021,6, -999.000,9, -999.000,9, -999.000,9,-999.0000,9,  -999.00,9,   -999.0,9,  -999.00,9,-999.000,9,   -999.0,9,   -999.0,9,  -999.0,-999.0000,-999.000,-999.000,  -999.0,-999.000
   3220CGC92_1,   P13,    18,  1,    110,   1012,2,19920825,0942, 50.5125, 164.9540, 5428,  31001,   3096.0,   1.5356,  34.6615,2,  34.6604,2,   -999.0,9,  1.3089,    125.9,2,   151.67,2,    38.27,2,     0.00,2,     2.74,2,    0.004,2,   -0.005,2, -999.000,9, -999.000,9, -999.000,9,-999.0000,9,  -999.00,9,   -999.0,9,  -999.00,9,-999.000,9,   -999.0,9,   -999.0,9,  -999.0,-999.0000,-999.000,-999.000,  -999.0,-999.000
   3220CGC92_1,   P13,    18,  1,    109,   1041,2,19920825,0942, 50.5125, 164.9540, 5428,  33999,   3397.0,   1.4956,  34.6695,2,  34.6704,2,   -999.0,9,  1.2401,    135.1,2,   148.50,2,    38.34,2,     0.00,2,     2.68,2,    0.001,2,   -0.021,2, -999.000,9, -999.000,9, -999.000,9,-999.0000,9,  -999.00,9,   -999.0,9,  -999.00,9,-999.000,9,   -999.0,9,   -999.0,9,  -999.0,-999.0000,-999.000,-999.000,  -999.0,-999.000
   3220CGC92_1,   P13,    18,  1,    108,   1003,3,19920825,0942, 50.5125, 164.9540, 5428,  36984,   3696.0,   1.4816,  34.6735,2,-999.0000,9,    139.6,2,  1.1957,   -999.0,9,  -999.00,5,  -999.00,9,  -999.00,9,  -999.00,5,   -0.004,2,    0.010,2, -999.000,9, -999.000,9, -999.000,9,-999.0000,9,  -999.00,9,   -999.0,9,  -999.00,9,-999.000,9,   -999.0,9,   -999.0,9,  -999.0,-999.0000,-999.000,-999.000,  -999.0,-999.000
   3220CGC92_1,   P13,    18,  1,    107,   1013,2,19920825,0942, 50.5125, 164.9540, 5428,  39998,   3998.0,   1.4796,  34.6775,2,  34.6790,2,    145.8,2,  1.1615,    145.8,2,   145.12,2,    37.53,2,     0.00,2,     2.64,2,    0.001,6,   -0.021,6, -999.000,9, -999.000,9, -999.000,9,-999.0000,9,  -999.00,9,   -999.0,9,  -999.00,9,-999.000,9,   -999.0,9,   -999.0,9,  -999.0,-999.0000,-999.000,-999.000,  -999.0,-999.000
   3220CGC92_1,   P13,    18,  1,    105,   1037,2,19920825,0942, 50.5125, 164.9540, 5428,  42999,   4299.0,   1.4866,  34.6804,2,  34.6813,2,    150.1,2,  1.1350,    149.4,2,   144.42,2,    37.28,2,     0.00,2,     2.60,2,   -0.003,2,   -0.021,2, -999.000,9, -999.000,9, -999.000,9,-999.0000,9,  -999.00,9,   -999.0,9,  -999.00,9,-999.000,9,   -999.0,9,   -999.0,9,  -999.0,-999.0000,-999.000,-999.000,  -999.0,-999.000
   3220CGC92_1,   P13,    18,  1,    106,   1036,2,19920825,0942, 50.5125, 164.9540, 5428,  43000,   4299.0,   1.4866,  34.6804,2,  34.6796,2,    150.1,2,  1.1350,   -999.0,9,  -999.00,5,  -999.00,9,  -999.00,9,  -999.00,5,    0.001,2,   -0.021,2, -999.000,9, -999.000,9, -999.000,9,-999.0000,9,  -999.00,9,   -999.0,9,  -999.00,9,-999.000,9,   -999.0,9,   -999.0,9,  -999.0,-999.0000,-999.000,-999.000,  -999.0,-999.000
   3220CGC92_1,   P13,    18,  1,    104,   1029,2,19920825,0942, 50.5125, 164.9540, 5428,  45999,   4599.0,   1.4996,  34.6816,2,  34.6832,2,    152.2,2,  1.1132,    152.4,2,   144.13,2,    37.02,2,     0.00,2,     2.59,2,    0.001,2,   -0.003,2, -999.000,9, -999.000,9, -999.000,9,-999.0000,9,  -999.00,9,   -999.0,9,  -999.00,9,-999.000,9,   -999.0,9,   -999.0,9,  -999.0,-999.0000,-999.000,-999.000,  -999.0,-999.000
   3220CGC92_1,   P13,    18,  1,    103,   1023,2,19920825,0942, 50.5125, 164.9540, 5428,  48997,   4899.0,   1.5176,  34.6841,2,  34.6860,2,    154.9,2,  1.0950,    155.2,2,   143.41,2,    37.00,2,     0.00,2,     2.58,2,   -0.001,2,   -0.009,6, -999.000,9, -999.000,9, -999.000,9,-999.0000,9,  -999.00,9,   -999.0,9,  -999.00,9,-999.000,9,   -999.0,9,   -999.0,9,  -999.0,-999.0000,-999.000,-999.000,  -999.0,-999.000
   3220CGC92_1,   P13,    18,  1,    102,   2001,2,19920825,0942, 50.5125, 164.9540, 5428,  52997,   5299.0,   1.5516,  34.6847,2,  34.6912,3,    157.8,2,  1.0786,    159.7,2,   142.14,2,    36.48,2,     0.00,2,     2.57,2,   -0.001,6,   -0.021,2, -999.000,9, -999.000,9, -999.000,9,-999.0000,9,  -999.00,9,   -999.0,9,  -999.00,9,-999.000,9,   -999.0,9,   -999.0,9,  -999.0,-999.0000,-999.000,-999.000,  -999.0,-999.000
   3220CGC92_1,   P13,    18,  1,    101,   1038,2,19920825,0942, 50.5125, 164.9540, 5428,  56747,   5670.0,   1.5926,  34.6851,2,  34.6882,2,    160.4,2,  1.0707,    159.0,2,   142.09,2,    36.70,2,     0.00,2,     2.55,2,    0.002,2,    0.001,2, -999.000,9, -999.000,9, -999.000,9,-999.0000,9,  -999.00,9,   -999.0,9,  -999.00,9,-999.000,9,   -999.0,9,   -999.0,9,  -999.0,-999.0000,-999.000,-999.000,  -999.0,-999.000