BOTTLE,20221003CCHSIOAMB
EXPOCODE,SECT_ID,STNNBR,CASTNO,SAMPNO,BTLNBR,BTLNBR_FLAG_W,DATE,TIME,LATITUDE,LONGITUDE,DEPTH,CTDRAW,CTDPRS,CTDTMP,CTDSAL,CTDSAL_FLAG_W,SALNTY,SALNTY_FLAG_W,CTDOXY,CTDOXY_FLAG_W,THETA,OXYGEN,OXYGEN_FLAG_W,SILCAT,SILCAT_FLAG_W,NITRAT,NITRAT_FLAG_W,NITRIT,NITRIT_FLAG_W,PHSPHT,PHSPHT_FLAG_W,CFC-11,CFC-11_FLAG_W,CFC-12,CFC-12_FLAG_W,CFC113,CFC113_FLAG_W,CCL4,CCL4_FLAG_W,TRITUM,TRITUM_FLAG_W,HELIUM,HELIUM_FLAG_W,DELHE3,DELHE3_FLAG_W,DELC14,DELC14_FLAG_W,DELC13,DELC13_FLAG_W,NEON,NEON_FLAG_W,TCARBN,TCARBN_FLAG_W,ALKALI,ALKALI_FLAG_W,C14ERR,HELIER,DELHER,NEONER,C13ERR,TRITER
,,,,,,,,,,,,DBAR,DBAR,ITS-90,PSS-78,,PSS-78,,UMOL/KG,,DEG C,UMOL/KG,,UMOL/KG,,UMOL/KG,,UMOL/KG,,UMOL/KG,,PMOL/KG,,PMOL/KG,,PMOL/KG,,PMOL/KG,,TU,,NMOL/KG,,PERCNT,,/MILLE,,/MILLE,,NMOL/KG,,UMOL/KG,,UMOL/KG,,/MILLE,NMOL/KG,PERCNT,NMOL/KG,/MILLE,TU
   3220CGC92_2,   P13,    68,  1,    135,   1013,2,19921009,2329, 12.5897, 165.3670, 4879,     90,      6.0,  28.9361,  34.4989,2,  34.3814,2,   -999.0,9, 28.9346,    194.1,2,     0.54,2,     0.00,2,     0.00,2,     0.04,2,    1.590,2,    0.940,2, -999.000,9, -999.000,9, -999.000,9,-999.0000,9,  -999.00,9,    101.8,2,     1.51,2,-999.000,9,   1906.9,6,   2259.6,6,     4.1,-999.0000,-999.000,-999.000,  -999.0,-999.000
   3220CGC92_2,   P13,    68,  1,    136,   1106,2,19921009,2329, 12.5897, 165.3670, 4879,     93,      6.0,  28.9361,  34.4989,2,  34.3817,2,   -999.0,9, 28.9346,    195.2,2,     0.57,2,     0.00,2,     0.00,2,     0.03,2,    1.577,2,    0.916,2,    0.813,4,    2.118,2, -999.000,9,-999.0000,9,  -999.00,9,    110.3,2,     1.50,2,-999.000,9,   1907.8,2,   2260.9,2,     4.2,-999.0000,-999.000,-999.000,  -999.0,-999.000
   3220CGC92_2,   P13,    68,  1,    134,   1030,2,19921009,2329, 12.5897, 165.3670, 4879,    254,     22.0,  28.9720,  34.5096,2,  34.5000,2,    207.8,2, 28.9667,    194.1,2,     0.71,2,     0.00,2,     0.00,2,     0.06,2,    1.559,2,    0.959,2,    0.277,2,    1.992,2, -999.000,9,-999.0000,9,  -999.00,9,    103.3,2,     1.53,2,-999.000,9,   1914.7,2,   2265.9,2,     3.8,-999.0000,-999.000,-999.000,  -999.0,-999.000
   3220CGC92_2,   P13,    68,  1,    133,   1231,2,19921009,2329, 12.5897, 165.3670, 4879,    483,     45.0,  29.0510,  34.6157,2,  34.5644,2,    203.2,2, 29.0401,    195.2,2,     0.74,2,     0.00,2,     0.00,2,     0.06,2,    1.608,2,    0.939,2, -999.000,9, -999.000,9, -999.000,9,-999.0000,9,  -999.00,9,   -999.0,5,     1.52,2,-999.000,9,   1918.4,2,   2272.2,2,  -999.0,-999.0000,-999.000,-999.000,  -999.0,-999.000
   3220CGC92_2,   P13,    68,  1,    132,   1017,2,19921009,2329, 12.5897, 165.3670, 4879,    741,     71.0,  27.7323,  34.6912,2,  34.7089,2,    205.7,2, 27.7157,    203.2,2,     0.88,2,     0.00,2,     0.00,2,     0.05,2,    1.707,6,    1.003,6,    0.576,4,    1.796,2, -999.000,9,-999.0000,9,  -999.00,9,     80.5,3,     1.52,2,-999.000,9,   1933.3,2,   2280.1,2,     3.8,-999.0000,-999.000,-999.000,  -999.0,-999.000
   3220CGC92_2,   P13,    68,  1,    131,   1031,2,19921009,2329, 12.5897, 165.3670, 4879,    986,     95.0,  25.8208,  34.7192,2,  34.6673,2,    209.4,2, 25.7997,    209.1,2,     0.97,2,     0.00,2,     0.00,2,     0.08,2,    1.788,2,    1.054,2, -999.000,9, -999.000,9, -999.000,9,-999.0000,9,  -999.00,9,   -999.0,5,     1.49,2,-999.000,9,   1938.7,2,   2282.6,2,  -999.0,-999.0000,-999.000,-999.000,  -999.0,-999.000
   3220CGC92_2,   P13,    68,  1,    130,   1041,2,19921009,2329, 12.5897, 165.3670, 4879,   1239,    120.0,  23.0685,  34.8328,2,  34.7636,2,    201.9,2, 23.0439,    206.3,2,     1.08,2,     0.00,2,     0.00,2,     0.15,2,    1.859,2,    1.082,2,    0.455,2,    1.351,2, -999.000,9,-999.0000,9,  -999.00,9,    106.1,2,     1.42,2,-999.000,9,   1955.8,2,   2287.2,2,     4.5,-999.0000,-999.000,-999.000,  -999.0,-999.000
   3220CGC92_2,   P13,    68,  1,    129,   1004,2,19921009,2329, 12.5897, 165.3670, 4879,   1503,    146.0,  18.6905,  34.8365,2,  34.8702,2,    188.5,2, 18.6648,    185.9,6,     2.65,2,     0.36,2,     0.13,2,     0.34,2,    1.964,2,    1.084,2, -999.000,9, -999.000,9, -999.000,9,-999.0000,9,  -999.00,9,   -999.0,9,  -999.00,9,-999.000,9,   2023.8,2,   2300.8,2,  -999.0,-999.0000,-999.000,-999.000,  -999.0,-999.000
   3220CGC92_2,   P13,    68,  1,    128,   1016,3,19921009,2329, 12.5897, 165.3670, 4879,   1793,    175.0,  15.8412,  34.6394,2,  34.7417,2,    160.2,2, 15.8138,    162.0,2,     6.42,2,     7.03,2,     0.00,2,     0.67,2,    2.023,6,    1.128,6,    0.186,6,    0.488,6, -999.000,9,-999.0000,9,  -999.00,9,   -999.0,9,  -999.00,9,-999.000,9,   2071.5,2,   2287.1,2,  -999.0,-999.0000,-999.000,-999.000,  -999.0,-999.000
   3220CGC92_2,   P13,    68,  1,    127,   1028,2,19921009,2329, 12.5897, 165.3670, 4879,   2371,    233.0,  11.7792,  34.3550,2,  34.3731,4,    143.1,2, 11.7493,    134.3,2,    19.78,2,    16.99,2,     0.07,2,     1.37,2,    1.478,2,    0.789,2, -999.000,9, -999.000,9, -999.000,9,-999.0000,9,  -999.00,9,     41.1,2,     0.34,2,-999.000,9,   2133.6,2,   2273.5,2,     3.5,-999.0000,-999.000,-999.000,  -999.0,-999.000
   3220CGC92_2,   P13,    68,  1,    126,   1110,2,19921009,2329, 12.5897, 165.3670, 4879,   2987,    294.0,   9.3018,  34.3198,2,  34.4028,2,     86.1,2,  9.2693,     86.4,2,    32.70,2,    26.24,2,     0.00,2,     2.01,2,    0.644,6,    0.356,6, -999.000,9, -999.000,9, -999.000,9,-999.0000,9,  -999.00,9,    -40.6,2,     0.11,2,-999.000,9,   2196.1,2,   2285.0,2,     3.6,-999.0000,-999.000,-999.000,  -999.0,-999.000
   3220CGC92_2,   P13,    68,  1,    125,   1035,2,19921009,2329, 12.5897, 165.3670, 4879,   3474,    342.0,   8.3830,  34.3831,2,  34.4046,2,     61.1,2,  8.3474,     66.3,2,    42.11,2,    30.39,2,     0.00,2,     2.34,2,    0.304,2,    0.164,2, -999.000,9, -999.000,9, -999.000,9,-999.0000,9,  -999.00,9,    -85.0,2,     0.00,2,-999.000,9,   2237.3,2,   2299.5,2,     3.5,-999.0000,-999.000,-999.000,  -999.0,-999.000
   3220CGC92_2,   P13,    68,  1,    124,   1019,2,19921009,2329, 12.5897, 165.3670, 4879,   3980,    393.0,   8.2140,  34.4955,2,  34.4511,2,     58.6,2,  8.1734,     55.8,3,    48.28,2,    31.70,2,     0.12,2,     2.48,2,    0.132,6,    0.073,6,    0.027,2,    0.100,2, -999.000,9,-999.0000,9,  -999.00,9,   -101.7,2,     0.04,2,-999.000,9,   2248.1,2,   2305.5,2,     3.2,-999.0000,-999.000,-999.000,  -999.0,-999.000
   3220CGC92_2,   P13,    68,  1,    123,   1014,2,19921009,2329, 12.5897, 165.3670, 4879,   4986,    493.0,   7.1433,  34.4836,2,  34.4890,2,     67.6,2,  7.0960,     65.3,2,    56.38,2,    32.71,2,     0.00,2,     2.57,2,    0.189,4,    0.040,2, -999.000,9, -999.000,9, -999.000,9,-999.0000,9,  -999.00,9,   -124.1,2,     0.10,6,-999.000,9,   2253.7,2,   2311.3,2,     3.3,-999.0000,-999.000,-999.000,  -999.0,-999.000
   3220CGC92_2,   P13,    68,  1,    122,   1015,2,19921009,2329, 12.5897, 165.3670, 4879,   5979,    592.0,   6.5284,  34.4857,2,  34.4931,2,     71.9,2,  6.4740,     72.6,2,    63.93,2,    33.95,2,     0.00,2,     2.53,2,    0.038,6,    0.018,6,    0.029,6,    0.053,6, -999.000,9,-999.0000,9,  -999.00,9,   -999.0,9,  -999.00,9,-999.000,9,   2263.8,2,   2304.1,3,  -999.0,-999.0000,-999.000,-999.000,  -999.0,-999.000
   3220CGC92_2,   P13,    68,  1,    121,   1235,2,19921009,2329, 12.5897, 165.3670, 4879,   6980,    692.0,   5.9226,  34.4998,2,  34.5070,2,     75.5,2,  5.8616,     73.0,2,    71.35,2,    35.28,2,     0.00,2,     2.73,2,    0.018,2,    0.007,2, -999.000,9, -999.000,9, -999.000,9,-999.0000,9,  -999.00,9,   -999.0,5,     0.11,2,-999.000,9,   2272.9,2,   2336.7,2,  -999.0,-999.0000,-999.000,-999.000,  -999.0,-999.000
   3220CGC92_2,   P13,    68,  1,    120,   1237,2,19921009,2329, 12.5897, 165.3670, 4879,   8002,    794.0,   5.4877,  34.5131,2,  34.5192,2,     73.8,2,  5.4197,     72.2,2,    78.09,2,    35.88,2,     0.00,2,     2.75,2,    0.008,2,    0.004,2, -999.000,9, -999.000,9, -999.000,9,-999.0000,9,  -999.00,9,   -159.0,2,     0.09,2,-999.000,9,   2281.1,2,   2341.4,2,     3.1,-999.0000,-999.000,-999.000,  -999.0,-999.000
   3220CGC92_2,   P13,    68,  1,    119,   1025,2,19921009,2329, 12.5897, 165.3670, 4879,   8990,    892.0,   5.0638,  34.5227,2,  34.5268,2,     75.5,2,  4.9897,     73.0,2,    86.20,2,    36.80,2,     0.00,2,     2.79,2,    0.004,2,    0.006,2,    0.006,2,    0.042,2, -999.000,9,-999.0000,9,  -999.00,9,   -176.6,2,     0.05,2,-999.000,9,   2291.2,2,   2354.9,2,     3.0,-999.0000,-999.000,-999.000,  -999.0,-999.000
   3220CGC92_2,   P13,    68,  1,    118,   1118,2,19921009,2329, 12.5897, 165.3670, 4879,   9989,    992.0,   4.6039,  34.5404,2,  34.5393,6,     69.9,2,  4.5242,     71.8,2,    94.43,2,    36.90,2,     0.00,2,     2.88,2,    0.001,2,    0.002,2, -999.000,9, -999.000,9, -999.000,9,   1.8520,2,    17.00,2,   -205.7,3,     0.02,2,-999.000,9,   2302.2,2,   2359.6,2,     3.3,-999.0000,-999.000,-999.000,  -999.0,-999.000
   3220CGC92_2,   P13,    68,  1,    117,   1005,2,19921009,2329, 12.5897, 165.3670, 4879,  11008,   1094.0,   4.2420,  34.5488,2,  34.5531,2,     69.9,2,  4.1563,     70.3,2,   101.93,2,    37.03,2,     0.00,2,     2.95,2,    0.001,2,   -0.002,2, -999.000,9, -999.000,9, -999.000,9,   1.8700,2,    18.50,2,   -197.9,2,     0.00,2,-999.000,9,   2314.1,2,   2368.8,2,     3.0,-999.0000,-999.000,-999.000,  -999.0,-999.000
   3220CGC92_2,   P13,    68,  1,    116,   1104,2,19921009,2329, 12.5897, 165.3670, 4879,  11996,   1193.0,   3.8311,  34.5604,2,  34.5647,2,     74.0,2,  3.7405,     73.0,2,   111.07,2,    37.79,2,     0.00,2,     2.95,2,   -0.002,2,   -0.001,2, -999.000,9, -999.000,9, -999.000,9,-999.0000,9,  -999.00,9,   -209.9,2,    -0.05,2,-999.000,9,   2324.1,2,   2381.2,2,     3.0,-999.0000,-999.000,-999.000,  -999.0,-999.000
   3220CGC92_2,   P13,    68,  1,    115,   1020,2,19921009,2329, 12.5897, 165.3670, 4879,  12974,   1290.0,   3.4532,  34.5730,2,  34.5748,2,     78.4,2,  3.3580,     77.9,6,   117.82,2,    38.06,2,     0.00,2,     2.94,2, -999.000,9, -999.000,9, -999.000,9, -999.000,9, -999.000,9,   1.8520,3,    20.40,2,   -208.7,2,    -0.06,2,-999.000,9,   2325.8,2,   2388.0,2,     3.8,-999.0000,-999.000,-999.000,  -999.0,-999.000
   3220CGC92_2,   P13,    68,  1,    114,   1012,2,19921009,2329, 12.5897, 165.3670, 4879,  14010,   1394.0,   3.1262,  34.5837,2,  34.5843,2,     82.9,2,  3.0258,     82.8,2,   125.03,2,    37.79,2,     0.00,2,     2.94,2, -999.000,9, -999.000,9, -999.000,9, -999.000,9, -999.000,9,-999.0000,9,  -999.00,9,   -215.0,2,    -0.10,2,-999.000,9,   2332.3,2,   2391.2,2,     3.0,-999.0000,-999.000,-999.000,  -999.0,-999.000
   3220CGC92_2,   P13,    68,  1,    113,   1229,2,19921009,2329, 12.5897, 165.3670, 4879,  16001,   1593.0,   2.6954,  34.5982,2,  34.5974,2,     85.3,2,  2.5833,     87.2,2,   133.80,2,    36.76,2,     0.00,2,     2.87,2,   -0.003,2,   -0.003,2, -999.000,9, -999.000,9, -999.000,9,-999.0000,5,    21.40,3,   -999.0,9,  -999.00,9,-999.000,9,   2337.3,2,   2403.2,2,  -999.0,-999.0000,-999.000,-999.000,  -999.0,-999.000
   3220CGC92_2,   P13,    68,  1,    112,   1219,2,19921009,2329, 12.5897, 165.3670, 4879,  17990,   1792.0,   2.4534,  34.6126,2,  34.6131,2,   -999.0,9,  2.3279,     94.4,2,   139.93,2,    37.08,2,     0.00,2,     2.87,2, -999.000,9, -999.000,9, -999.000,9, -999.000,9, -999.000,9,-999.0000,5,    21.90,3,   -999.0,9,  -999.00,9,-999.000,9,   2339.9,2,   2407.0,2,  -999.0,-999.0000,-999.000,-999.000,  -999.0,-999.000
   3220CGC92_2,   P13,    68,  1,    111,   1112,2,19921009,2329, 12.5897, 165.3670, 4879,  19990,   1992.0,   2.1875,  34.6309,2,  34.6322,2,   -999.0,9,  2.0488,    103.6,2,   145.52,2,    37.37,2,     0.00,2,     2.82,2, -999.000,9, -999.000,9, -999.000,9, -999.000,9, -999.000,9,   1.8970,2,    23.50,2,   -999.0,9,  -999.00,9,-999.000,9,   2341.9,2,   2417.2,2,  -999.0,-999.0000,-999.000,-999.000,  -999.0,-999.000
   3220CGC92_2,   P13,    68,  1,    110,   1029,2,19921009,2329, 12.5897, 165.3670, 4879,  22005,   2194.0,   2.0215,  34.6430,2,  34.6432,2,   -999.0,9,  1.8681,    109.4,2,   148.22,2,    37.19,2,     0.00,2,     2.80,2,    0.002,2,    0.000,2, -999.000,9, -999.000,9, -999.000,9,   1.9030,2,    23.70,2,   -999.0,9,  -999.00,9,-999.000,9,   2343.5,2,   2424.1,2,  -999.0,-999.0000,-999.000,-999.000,  -999.0,-999.000
   3220CGC92_2,   P13,    68,  1,    109,   1023,2,19921009,2329, 12.5897, 165.3670, 4879,  24968,   2491.0,   1.8636,  34.6528,2,  34.6519,2,   -999.0,9,  1.6866,    116.2,2,   151.10,2,    37.11,2,     0.00,2,     2.76,2, -999.000,9, -999.000,9, -999.000,9, -999.000,9, -999.000,9,   1.9070,2,    23.30,2,   -999.0,9,  -999.00,9,-999.000,9,   2342.0,2,   2424.0,2,  -999.0,-999.0000,-999.000,-999.000,  -999.0,-999.000
   3220CGC92_2,   P13,    68,  1,    108,   1032,2,19921009,2329, 12.5897, 165.3670, 4879,  28005,   2796.0,   1.7466,  34.6610,2,  34.6628,2,    125.0,2,  1.5438,    124.3,2,   153.74,2,    36.24,2,     0.00,2,     2.71,2, -999.000,9, -999.000,9, -999.000,9, -999.000,9, -999.000,9,   1.9090,2,    22.40,2,   -999.0,9,  -999.00,9,-999.000,9,   2339.5,2,   2425.1,2,  -999.0,-999.0000,-999.000,-999.000,  -999.0,-999.000
   3220CGC92_2,   P13,    68,  1,    107,   1037,2,19921009,2329, 12.5897, 165.3670, 4879,  31003,   3096.0,   1.6496,  34.6693,2,  34.6707,2,    131.1,2,  1.4202,    131.6,2,   154.36,2,    35.59,2,     0.00,2,     2.68,2,   -0.001,2,   -0.002,2,    0.026,2,    0.015,2, -999.000,9,   1.9090,2,    21.60,2,   -999.0,9,  -999.00,9,-999.000,9,   2337.9,2,   2424.0,2,  -999.0,-999.0000,-999.000,-999.000,  -999.0,-999.000
   3220CGC92_2,   P13,    68,  1,    106,   1022,2,19921009,2329, 12.5897, 165.3670, 4879,  33991,   3396.0,   1.5616,  34.6759,2,  34.6761,2,    139.4,2,  1.3045,    139.0,2,   153.36,2,    35.50,2,     0.00,2,     2.64,2, -999.000,9, -999.000,9, -999.000,9, -999.000,9, -999.000,9,-999.0000,9,  -999.00,9,   -999.0,9,  -999.00,9,-999.000,9,   2329.9,2,   2424.8,2,  -999.0,-999.0000,-999.000,-999.000,  -999.0,-999.000
   3220CGC92_2,   P13,    68,  1,    105,   1221,2,19921009,2329, 12.5897, 165.3670, 4879,  37012,   3699.0,   1.5036,  34.6806,2,  34.6817,2,   -999.0,9,  1.2168,    147.6,2,   150.68,2,    35.59,2,     0.00,2,     2.61,2, -999.000,9, -999.000,9, -999.000,9, -999.000,9, -999.000,9,   1.9080,2,    17.70,2,   -999.0,9,  -999.00,9,-999.000,9,   2324.6,2,   2425.7,2,  -999.0,-999.0000,-999.000,-999.000,  -999.0,-999.000
   3220CGC92_2,   P13,    68,  1,    104,   1038,2,19921009,2329, 12.5897, 165.3670, 4879,  39992,   3998.0,   1.4547,  34.6854,2,  34.6879,2,   -999.0,9,  1.1372,    156.6,2,   146.96,2,    35.01,2,     0.00,2,     2.57,2,   -0.002,2,    0.000,2, -999.000,9, -999.000,9, -999.000,9,-999.0000,9,  -999.00,9,   -999.0,9,  -999.00,9,-999.000,9,   2316.1,2,   2424.5,2,  -999.0,-999.0000,-999.000,-999.000,  -999.0,-999.000
   3220CGC92_2,   P13,    68,  1,    103,   1033,2,19921009,2329, 12.5897, 165.3670, 4879,  42987,   4298.0,   1.4307,  34.6896,2,  34.6912,2,   -999.0,9,  1.0807,    162.7,2,   143.05,2,    33.99,2,     0.00,2,     2.46,2, -999.000,9, -999.000,9, -999.000,9, -999.000,9, -999.000,9,   1.8760,2,    15.90,2,   -999.0,9,  -999.00,9,-999.000,9,   2311.6,2,   2413.9,2,  -999.0,-999.0000,-999.000,-999.000,  -999.0,-999.000
   3220CGC92_2,   P13,    68,  1,    102,   1234,2,19921009,2329, 12.5897, 165.3670, 4879,  44982,   4498.0,   1.4247,  34.6924,2,  34.6929,2,   -999.0,9,  1.0521,    167.2,2,   139.69,2,    34.31,2,     0.00,2,     2.48,2, -999.000,9, -999.000,9, -999.000,9, -999.000,9, -999.000,9,-999.0000,9,  -999.00,9,   -999.0,9,  -999.00,9,-999.000,9,   2306.1,2,   2408.4,2,  -999.0,-999.0000,-999.000,-999.000,  -999.0,-999.000
   3220CGC92_2,   P13,    68,  1,    101,   1238,2,19921009,2329, 12.5897, 165.3670, 4879,  47532,   4753.0,   1.4277,  34.6933,2,  34.6948,6,   -999.0,9,  1.0253,    170.2,2,   138.84,2,    33.47,2,     0.00,2,     2.47,2,   -0.003,2,   -0.002,2, -999.000,9, -999.000,9, -999.000,9,-999.0000,9,  -999.00,9,   -999.0,9,  -999.00,9,-999.000,9,   2303.1,6,   2408.2,6,  -999.0,-999.0000,-999.000,-999.000,  -999.0,-999.000