BOTTLE,20221003CCHSIOAMB
EXPOCODE,SECT_ID,STNNBR,CASTNO,SAMPNO,BTLNBR,BTLNBR_FLAG_W,DATE,TIME,LATITUDE,LONGITUDE,DEPTH,CTDRAW,CTDPRS,CTDTMP,CTDSAL,CTDSAL_FLAG_W,SALNTY,SALNTY_FLAG_W,CTDOXY,CTDOXY_FLAG_W,THETA,OXYGEN,OXYGEN_FLAG_W,SILCAT,SILCAT_FLAG_W,NITRAT,NITRAT_FLAG_W,NITRIT,NITRIT_FLAG_W,PHSPHT,PHSPHT_FLAG_W,CFC-11,CFC-11_FLAG_W,CFC-12,CFC-12_FLAG_W,CFC113,CFC113_FLAG_W,CCL4,CCL4_FLAG_W,TRITUM,TRITUM_FLAG_W,HELIUM,HELIUM_FLAG_W,DELHE3,DELHE3_FLAG_W,DELC14,DELC14_FLAG_W,DELC13,DELC13_FLAG_W,NEON,NEON_FLAG_W,TCARBN,TCARBN_FLAG_W,ALKALI,ALKALI_FLAG_W,C14ERR,HELIER,DELHER,NEONER,C13ERR,TRITER
,,,,,,,,,,,,DBAR,DBAR,ITS-90,PSS-78,,PSS-78,,UMOL/KG,,DEG C,UMOL/KG,,UMOL/KG,,UMOL/KG,,UMOL/KG,,UMOL/KG,,PMOL/KG,,PMOL/KG,,PMOL/KG,,PMOL/KG,,TU,,NMOL/KG,,PERCNT,,/MILLE,,/MILLE,,NMOL/KG,,UMOL/KG,,UMOL/KG,,/MILLE,NMOL/KG,PERCNT,NMOL/KG,/MILLE,TU
   3220CGC92_1,   P13,    43,  1,    112,   2012,2,19920904,1119, 37.9897, 165.0067, 5276,    110,     10.8,  22.1847,  34.4252,2,  34.4293,2,   -999.0,9, 22.1825,    221.7,2,     2.03,2,     0.02,2,     0.00,2,     0.00,2,    2.282,2,    1.311,2, -999.000,9, -999.000,9, -999.000,9,-999.0000,9,  -999.00,9,   -999.0,9,  -999.00,9,-999.000,9,   -999.0,9,   -999.0,9,  -999.0,-999.0000,-999.000,-999.000,  -999.0,-999.000
   3220CGC92_1,   P13,    43,  1,    111,   2011,2,19920904,1119, 37.9897, 165.0067, 5276,    251,     24.8,  21.8867,  34.4496,2,  34.4326,2,   -999.0,9, 21.8819,    223.1,2,     2.09,2,     0.03,2,     0.00,2,     0.00,2,    2.370,2,    1.275,2, -999.000,9, -999.000,9, -999.000,9,-999.0000,9,  -999.00,9,   -999.0,9,  -999.00,9,-999.000,9,   -999.0,9,   -999.0,9,  -999.0,-999.0000,-999.000,-999.000,  -999.0,-999.000
   3220CGC92_1,   P13,    43,  1,    110,   2010,2,19920904,1119, 37.9897, 165.0067, 5276,    477,     47.3,  16.8689,  34.7142,2,  34.6876,2,   -999.0,9, 16.8612,    247.0,2,     2.64,2,     0.06,2,     0.00,2,     0.04,2,    2.788,2,    1.470,2, -999.000,9, -999.000,9, -999.000,9,-999.0000,9,  -999.00,9,   -999.0,9,  -999.00,9,-999.000,9,   -999.0,9,   -999.0,9,  -999.0,-999.0000,-999.000,-999.000,  -999.0,-999.000
   3220CGC92_1,   P13,    43,  1,    109,   2009,4,19920904,1119, 37.9897, 165.0067, 5276,   1003,     99.7,  15.5783,  34.6909,2,-999.0000,9,   -999.0,9, 15.5628,   -999.0,9,  -999.00,5,  -999.00,9,  -999.00,9,  -999.00,5, -999.000,9, -999.000,9, -999.000,9, -999.000,9, -999.000,9,-999.0000,9,  -999.00,9,   -999.0,9,  -999.00,9,-999.000,9,   -999.0,9,   -999.0,9,  -999.0,-999.0000,-999.000,-999.000,  -999.0,-999.000
   3220CGC92_1,   P13,    43,  1,    108,   2008,2,19920904,1119, 37.9897, 165.0067, 5276,   2003,    199.4,  13.1438,  34.4605,2,  34.4594,2,   -999.0,9, 13.1164,    233.1,2,    11.02,2,     5.87,2,     0.00,2,     0.41,2,    3.044,2,    1.653,2, -999.000,9, -999.000,9, -999.000,9,-999.0000,9,  -999.00,9,   -999.0,9,  -999.00,9,-999.000,9,   -999.0,9,   -999.0,9,  -999.0,-999.0000,-999.000,-999.000,  -999.0,-999.000
   3220CGC92_1,   P13,    43,  1,    107,   2007,4,19920904,1119, 37.9897, 165.0067, 5276,   3989,    397.2,  11.4722,  34.3516,2,-999.0000,9,   -999.0,9, 11.4218,   -999.0,9,  -999.00,5,  -999.00,9,  -999.00,9,  -999.00,5, -999.000,9, -999.000,9, -999.000,9, -999.000,9, -999.000,9,-999.0000,9,  -999.00,9,   -999.0,9,  -999.00,9,-999.000,9,   -999.0,9,   -999.0,9,  -999.0,-999.0000,-999.000,-999.000,  -999.0,-999.000
   3220CGC92_1,   P13,    43,  1,    106,   2006,2,19920904,1119, 37.9897, 165.0067, 5276,   7988,    796.2,   4.7529,  34.0668,2,  34.0677,2,   -999.0,9,  4.6898,     96.9,2,    84.82,2,    35.38,2,     0.00,2,     2.59,2,    1.065,6,    0.515,6, -999.000,9, -999.000,9, -999.000,9,-999.0000,9,  -999.00,9,   -999.0,9,  -999.00,9,-999.000,9,   -999.0,9,   -999.0,9,  -999.0,-999.0000,-999.000,-999.000,  -999.0,-999.000
   3220CGC92_1,   P13,    43,  1,    105,   2005,2,19920904,1119, 37.9897, 165.0067, 5276,  11990,   1195.9,   3.3152,  34.3434,2,  34.3395,2,   -999.0,9,  3.2296,     39.2,2,   131.87,2,    41.88,2,     0.00,2,     3.09,2,    0.078,2,    0.068,2, -999.000,9, -999.000,9, -999.000,9,-999.0000,9,  -999.00,9,   -999.0,9,  -999.00,9,-999.000,9,   -999.0,9,   -999.0,9,  -999.0,-999.0000,-999.000,-999.000,  -999.0,-999.000
   3220CGC92_1,   P13,    43,  1,    104,   2004,2,19920904,1119, 37.9897, 165.0067, 5276,  19983,   1995.4,   2.1035,  34.5593,2,  34.5589,2,   -999.0,9,  1.9661,     57.8,2,   165.25,2,    42.07,2,     0.00,2,     3.06,2,    0.004,2,    0.040,2, -999.000,9, -999.000,9, -999.000,9,-999.0000,9,  -999.00,9,   -999.0,9,  -999.00,9,-999.000,9,   -999.0,9,   -999.0,9,  -999.0,-999.0000,-999.000,-999.000,  -999.0,-999.000
   3220CGC92_1,   P13,    43,  1,    103,   2003,2,19920904,1119, 37.9897, 165.0067, 5276,  27998,   2798.0,   1.6776,  34.6415,2,  34.6390,2,   -999.0,9,  1.4762,    107.2,2,   162.76,2,    38.79,2,     0.00,2,     2.81,2,    0.003,2,    0.009,2, -999.000,9, -999.000,9, -999.000,9,-999.0000,9,  -999.00,9,   -999.0,9,  -999.00,9,-999.000,9,   -999.0,9,   -999.0,9,  -999.0,-999.0000,-999.000,-999.000,  -999.0,-999.000
   3220CGC92_1,   P13,    43,  1,    102,   2002,2,19920904,1119, 37.9897, 165.0067, 5276,  38031,   3803.1,   1.4966,  34.6764,2,  34.6874,3,   -999.0,9,  1.1990,    143.8,2,   154.90,2,    35.94,2,     0.00,2,     2.54,2,    0.006,2,    0.019,2, -999.000,9, -999.000,9, -999.000,9,-999.0000,9,  -999.00,9,   -999.0,9,  -999.00,9,-999.000,9,   -999.0,9,   -999.0,9,  -999.0,-999.0000,-999.000,-999.000,  -999.0,-999.000
   3220CGC92_1,   P13,    43,  1,    101,   2001,2,19920904,1119, 37.9897, 165.0067, 5276,  47085,   4709.5,   1.4946,  34.6876,2,  34.6825,6,    154.6,2,  1.0953,    156.4,2,   151.44,2,    35.26,2,     0.00,2,     2.49,2,    0.005,2,    0.055,4, -999.000,9, -999.000,9, -999.000,9,-999.0000,9,  -999.00,9,   -999.0,9,  -999.00,9,-999.000,9,   -999.0,9,   -999.0,9,  -999.0,-999.0000,-999.000,-999.000,  -999.0,-999.000
   3220CGC92_1,   P13,    44,  1,    112,   2012,2,19920904,1924, 37.5153, 165.0185, 5501,    107,     10.5,  21.4059,  34.2795,2,  34.2789,2,    229.0,2, 21.4038,    225.1,2,     2.35,2,     0.00,2,     0.00,2,     0.00,2,    2.181,2,    1.250,2, -999.000,9, -999.000,9, -999.000,9,-999.0000,9,  -999.00,9,   -999.0,9,  -999.00,9,-999.000,9,   -999.0,9,   -999.0,9,  -999.0,-999.0000,-999.000,-999.000,  -999.0,-999.000
   3220CGC92_1,   P13,    44,  1,    111,   2011,2,19920904,1924, 37.5153, 165.0185, 5501,    235,     23.2,  21.3839,  34.2784,2,  34.2780,2,    225.1,2, 21.3794,    225.3,2,     2.34,2,     0.00,2,     0.00,2,     0.00,2,    2.377,2,    1.264,2, -999.000,9, -999.000,9, -999.000,9,-999.0000,9,  -999.00,9,   -999.0,9,  -999.00,9,-999.000,9,   -999.0,9,   -999.0,9,  -999.0,-999.0000,-999.000,-999.000,  -999.0,-999.000
   3220CGC92_1,   P13,    44,  1,    110,   2010,2,19920904,1924, 37.5153, 165.0185, 5501,    510,     50.7,  16.6400,  34.5471,2,  34.5461,2,    251.0,2, 16.6318,    254.3,2,     3.33,2,     0.00,2,     0.00,2,     0.00,2,    2.651,2,    1.457,2, -999.000,9, -999.000,9, -999.000,9,-999.0000,9,  -999.00,9,   -999.0,9,  -999.00,9,-999.000,9,   -999.0,9,   -999.0,9,  -999.0,-999.0000,-999.000,-999.000,  -999.0,-999.000
   3220CGC92_1,   P13,    44,  1,    109,   2009,2,19920904,1924, 37.5153, 165.0185, 5501,   1001,     99.6,  14.1736,  34.5238,2,  34.5218,2,    226.6,2, 14.1592,    222.9,2,     9.54,2,     5.93,2,     0.11,2,     0.40,2,    2.950,2,    1.513,2, -999.000,9, -999.000,9, -999.000,9,-999.0000,9,  -999.00,9,   -999.0,9,  -999.00,9,-999.000,9,   -999.0,9,   -999.0,9,  -999.0,-999.0000,-999.000,-999.000,  -999.0,-999.000
   3220CGC92_1,   P13,    44,  1,    108,   2008,3,19920904,1924, 37.5153, 165.0185, 5501,   2022,    201.2,  12.2581,  34.4240,2,  34.4212,2,    249.4,2, 12.2316,   -999.0,9,  -999.00,5,  -999.00,9,  -999.00,9,  -999.00,5, -999.000,9, -999.000,9, -999.000,9, -999.000,9, -999.000,9,-999.0000,9,  -999.00,9,   -999.0,9,  -999.00,9,-999.000,9,   -999.0,9,   -999.0,9,  -999.0,-999.0000,-999.000,-999.000,  -999.0,-999.000
   3220CGC92_1,   P13,    44,  1,    107,   2007,2,19920904,1924, 37.5153, 165.0185, 5501,   4007,    399.1,  10.2355,  34.2380,2,  34.2353,2,    223.7,2, 10.1885,    219.5,2,    21.26,2,    12.50,2,     0.00,2,     0.90,2,    2.758,2,    1.464,2, -999.000,9, -999.000,9, -999.000,9,-999.0000,9,  -999.00,9,   -999.0,9,  -999.00,9,-999.000,9,   -999.0,9,   -999.0,9,  -999.0,-999.0000,-999.000,-999.000,  -999.0,-999.000
   3220CGC92_1,   P13,    44,  1,    106,   2006,2,19920904,1924, 37.5153, 165.0185, 5501,   7013,    698.9,   4.9548,  34.0353,2,  34.0335,2,    107.8,2,  4.8989,    110.1,2,    78.21,2,    34.66,2,     0.00,2,     2.45,2,    1.287,2,    0.617,2, -999.000,9, -999.000,9, -999.000,9,-999.0000,9,  -999.00,9,   -999.0,9,  -999.00,9,-999.000,9,   -999.0,9,   -999.0,9,  -999.0,-999.0000,-999.000,-999.000,  -999.0,-999.000
   3220CGC92_1,   P13,    44,  1,    105,   2005,2,19920904,1924, 37.5153, 165.0185, 5501,  10011,    998.2,   3.6691,  34.2750,2,  34.2721,2,     44.9,2,  3.5965,     44.2,2,   119.82,2,    41.90,2,     0.00,2,     2.99,2,    0.162,2,    0.100,2, -999.000,9, -999.000,9, -999.000,9,-999.0000,9,  -999.00,9,   -999.0,9,  -999.00,9,-999.000,9,   -999.0,9,   -999.0,9,  -999.0,-999.0000,-999.000,-999.000,  -999.0,-999.000
   3220CGC92_1,   P13,    44,  1,    104,   2004,2,19920904,1924, 37.5153, 165.0185, 5501,  14984,   1495.2,   2.5924,  34.4705,2,  34.4673,2,     36.7,2,  2.4899,     35.8,2,   153.21,2,    43.38,2,     0.00,2,     3.12,2,    0.007,2,    0.066,2, -999.000,9, -999.000,9, -999.000,9,-999.0000,9,  -999.00,9,   -999.0,9,  -999.00,9,-999.000,9,   -999.0,9,   -999.0,9,  -999.0,-999.0000,-999.000,-999.000,  -999.0,-999.000
   3220CGC92_1,   P13,    44,  1,    103,   2003,2,19920904,1924, 37.5153, 165.0185, 5501,  20015,   1998.6,   2.0425,  34.5749,2,  34.5726,2,     61.2,2,  1.9057,     61.4,2,   165.25,2,    41.29,2,     0.00,2,     3.00,2,    0.003,2,    0.008,2, -999.000,9, -999.000,9, -999.000,9,-999.0000,9,  -999.00,9,   -999.0,9,  -999.00,9,-999.000,9,   -999.0,9,   -999.0,9,  -999.0,-999.0000,-999.000,-999.000,  -999.0,-999.000
   3220CGC92_1,   P13,    44,  1,    102,   2002,3,19920904,1924, 37.5153, 165.0185, 5501,  27970,   2795.2,   1.6416,  34.6492,2,  34.6437,2,    109.0,2,  1.4411,    110.0,2,   161.33,2,    38.82,2,     0.00,2,     2.73,2,    0.006,2,    0.008,2, -999.000,9, -999.000,9, -999.000,9,-999.0000,9,  -999.00,9,   -999.0,9,  -999.00,9,-999.000,9,   -999.0,9,   -999.0,9,  -999.0,-999.0000,-999.000,-999.000,  -999.0,-999.000
   3220CGC92_1,   P13,    44,  1,    101,   2001,2,19920904,1924, 37.5153, 165.0185, 5501,  33995,   3398.8,   1.5066,  34.6732,2,  34.6701,2,    134.2,2,  1.2506,    134.8,2,   156.12,3,    37.46,2,     0.00,2,     2.57,2,    0.029,4,    0.033,4, -999.000,9, -999.000,9, -999.000,9,-999.0000,9,  -999.00,9,   -999.0,9,  -999.00,9,-999.000,9,   -999.0,9,   -999.0,9,  -999.0,-999.0000,-999.000,-999.000,  -999.0,-999.000
   3220CGC92_1,   P13,    45,  1,    112,   2012,2,19920905,0357, 37.0145, 164.9980, 5559,     92,      9.0,  21.8258,  34.2477,2,  34.2464,2,    229.1,2, 21.8240,    226.1,2,     2.30,2,     0.00,2,     0.00,2,     0.00,2, -999.000,9, -999.000,9, -999.000,9, -999.000,9, -999.000,9,-999.0000,9,  -999.00,9,   -999.0,9,  -999.00,9,-999.000,9,   1969.3,2,   2254.7,2,  -999.0,-999.0000,-999.000,-999.000,  -999.0,-999.000
   3220CGC92_1,   P13,    45,  1,    111,   2011,2,19920905,0357, 37.0145, 164.9980, 5559,    245,     24.2,  19.7323,  34.2368,2,  34.2417,2,    242.8,2, 19.7279,    239.6,2,     2.26,2,     0.00,2,     0.00,2,     0.00,2, -999.000,9, -999.000,9, -999.000,9, -999.000,9, -999.000,9,-999.0000,9,  -999.00,9,   -999.0,9,  -999.00,9,-999.000,9,   1968.5,2,   2256.1,2,  -999.0,-999.0000,-999.000,-999.000,  -999.0,-999.000
   3220CGC92_1,   P13,    45,  1,    110,   2010,2,19920905,0357, 37.0145, 164.9980, 5559,    516,     51.2,  15.0484,  34.5287,2,-999.0000,9,    251.1,2, 15.0407,    244.1,2,     5.34,2,     1.31,2,     0.20,2,     0.16,2, -999.000,9, -999.000,9, -999.000,9, -999.000,9, -999.000,9,-999.0000,9,  -999.00,9,   -999.0,9,  -999.00,9,-999.000,9,   2075.0,2,   2276.4,2,  -999.0,-999.0000,-999.000,-999.000,  -999.0,-999.000
   3220CGC92_1,   P13,    45,  1,    109,   2009,2,19920905,0357, 37.0145, 164.9980, 5559,   1009,    100.3,  13.2718,  34.4662,2,  34.4683,2,    223.4,2, 13.2579,    230.9,2,    10.97,2,     6.20,2,     0.00,2,     0.43,2, -999.000,9, -999.000,9, -999.000,9, -999.000,9, -999.000,9,-999.0000,9,  -999.00,9,   -999.0,9,  -999.00,9,-999.000,9,   2051.8,2,   2273.0,2,  -999.0,-999.0000,-999.000,-999.000,  -999.0,-999.000
   3220CGC92_1,   P13,    45,  1,    108,   2008,2,19920905,0357, 37.0145, 164.9980, 5559,   1993,    198.4,  12.0031,  34.4037,2,  34.4056,2,    234.4,2, 11.9774,    243.1,2,    11.64,2,     7.75,2,     0.00,2,     0.46,2, -999.000,9, -999.000,9, -999.000,9, -999.000,9, -999.000,9,-999.0000,9,  -999.00,9,   -999.0,9,  -999.00,9,-999.000,9,   2056.2,2,   2271.8,2,  -999.0,-999.0000,-999.000,-999.000,  -999.0,-999.000
   3220CGC92_1,   P13,    45,  1,    107,   2007,2,19920905,0357, 37.0145, 164.9980, 5559,   3996,    397.9,   7.9791,  34.0478,2,  34.0478,2,    205.5,2,  7.9389,    208.2,2,    33.35,2,    17.66,2,     0.00,2,     1.28,2, -999.000,9, -999.000,9, -999.000,9, -999.000,9, -999.000,9,-999.0000,9,  -999.00,9,   -999.0,9,  -999.00,9,-999.000,9,   2137.7,2,   2274.1,2,  -999.0,-999.0000,-999.000,-999.000,  -999.0,-999.000
   3220CGC92_1,   P13,    45,  1,    106,   2006,2,19920905,0357, 37.0145, 164.9980, 5559,   8013,    798.7,   4.1020,  34.1951,2,  34.1978,2,     59.2,2,  4.0426,     59.5,2,   106.25,2,    39.51,2,     0.00,2,     2.80,2, -999.000,9, -999.000,9, -999.000,9, -999.000,9, -999.000,9,-999.0000,9,  -999.00,9,   -999.0,9,  -999.00,9,-999.000,9,   2316.4,2,   2336.3,2,  -999.0,-999.0000,-999.000,-999.000,  -999.0,-999.000
   3220CGC92_1,   P13,    45,  1,    105,   2005,2,19920905,0357, 37.0145, 164.9980, 5559,  14003,   1397.1,   2.6204,  34.4637,2,  34.4633,2,     36.2,2,  2.5254,     36.1,2,   152.13,2,    42.99,2,     0.00,2,     3.08,2, -999.000,9, -999.000,9, -999.000,9, -999.000,9, -999.000,9,-999.0000,9,  -999.00,9,   -999.0,9,  -999.00,9,-999.000,9,   2381.8,2,   2392.3,2,  -999.0,-999.0000,-999.000,-999.000,  -999.0,-999.000
   3220CGC92_1,   P13,    45,  1,    104,   2004,2,19920905,0357, 37.0145, 164.9980, 5559,  20024,   1999.5,   1.9915,  34.5785,2,  34.5789,2,     66.1,2,  1.8554,     64.6,2,   165.87,2,    41.09,2,     0.00,2,     2.98,2, -999.000,9, -999.000,9, -999.000,9, -999.000,9, -999.000,9,-999.0000,9,  -999.00,9,   -999.0,9,  -999.00,9,-999.000,9,   2379.0,2,   2412.1,2,  -999.0,-999.0000,-999.000,-999.000,  -999.0,-999.000
   3220CGC92_1,   P13,    45,  1,    103,   2003,2,19920905,0357, 37.0145, 164.9980, 5559,  29962,   2994.7,   1.5476,  34.6620,2,  34.6607,2,    124.2,2,  1.3303,    124.3,2,   159.35,2,    37.22,2,     0.00,2,     2.64,2, -999.000,9, -999.000,9, -999.000,9, -999.000,9, -999.000,9,-999.0000,9,  -999.00,9,   -999.0,9,  -999.00,9,-999.000,9,   2345.3,2,   2418.8,2,  -999.0,-999.0000,-999.000,-999.000,  -999.0,-999.000
   3220CGC92_1,   P13,    45,  1,    102,   2002,2,19920905,0357, 37.0145, 164.9980, 5559,  40010,   4001.3,   1.4576,  34.6847,2,  34.6827,2,    148.9,2,  1.1397,    150.3,2,   152.33,2,    35.98,2,     0.00,2,     2.48,2, -999.000,9, -999.000,9, -999.000,9, -999.000,9, -999.000,9,-999.0000,9,  -999.00,9,   -999.0,9,  -999.00,9,-999.000,9,   2328.3,2,   2419.2,2,  -999.0,-999.0000,-999.000,-999.000,  -999.0,-999.000
   3220CGC92_1,   P13,    45,  1,    101,   2001,2,19920905,0357, 37.0145, 164.9980, 5559,  45505,   4551.4,   1.4636,  34.6909,2,  34.6874,2,    157.1,2,  1.0838,    156.3,2,   150.97,2,    35.27,2,     0.00,2,     2.41,2, -999.000,9, -999.000,9, -999.000,9, -999.000,9, -999.000,9,-999.0000,9,  -999.00,9,   -999.0,9,  -999.00,9,-999.000,9,   2322.7,2,   2417.5,2,  -999.0,-999.0000,-999.000,-999.000,  -999.0,-999.000