BOTTLE,20220930CCHSIOAMB
EXPOCODE,SECT_ID,STNNBR,CASTNO,SAMPNO,BTLNBR,BTLNBR_FLAG_W,DATE,TIME,LATITUDE,LONGITUDE,DEPTH,CTDPRS,CTDTMP,CTDSAL,CTDSAL_FLAG_W,SALNTY,SALNTY_FLAG_W,OXYGEN,OXYGEN_FLAG_W,NITRAT,NITRAT_FLAG_W,NITRIT,NITRIT_FLAG_W,PHSPHT,PHSPHT_FLAG_W,THETA
,,,,,,,,,,,,DBAR,DEG C,PSS-78,,PSS-78,,UMOL/KG,,UMOL/KG,,UMOL/KG,,UMOL/KG,,DEG C
    49RY9011_2,  PR02,RY7843,  1,      1,      1,2,19901122,1827, 12.9667, 136.9833, 4673,      1.0,  28.7010,  34.0730,2,-999.0000,9,    197.0,2,     0.10,2,     0.05,2,     0.07,2, 28.7010
    49RY9011_2,  PR02,RY7843,  1,      2,      2,2,19901122,1827, 12.9667, 136.9833, 4673,     10.0,  28.7020,  34.0730,2,-999.0000,9,    198.0,2,     0.00,2,     0.00,2,     0.06,2, 28.7000
    49RY9011_2,  PR02,RY7843,  1,      3,      3,2,19901122,1827, 12.9667, 136.9833, 4673,     25.0,  28.7110,  34.0730,2,-999.0000,9,    199.0,2,     0.00,2,     0.00,2,     0.05,2, 28.7050
    49RY9011_2,  PR02,RY7843,  1,      4,      4,2,19901122,1827, 12.9667, 136.9833, 4673,     49.0,  28.7210,  34.0800,2,-999.0000,9,    198.0,2,     0.00,2,     0.00,2,     0.07,2, 28.7090
    49RY9011_2,  PR02,RY7843,  1,      5,      5,2,19901122,1827, 12.9667, 136.9833, 4673,     76.0,  26.6230,  34.6900,2,-999.0000,9,    196.0,2,     0.00,2,     0.00,2,     0.11,2, 26.6060
    49RY9011_2,  PR02,RY7843,  1,      6,      6,2,19901122,1827, 12.9667, 136.9833, 4673,    100.0,  24.4190,  34.7650,2,-999.0000,9,    180.0,2,     0.30,2,     0.05,2,     0.20,2, 24.3980
    49RY9011_2,  PR02,RY7843,  1,      7,      7,2,19901122,1827, 12.9667, 136.9833, 4673,    151.0,  18.3680,  34.7640,2,-999.0000,9,   -999.0,5,     8.10,2,     0.03,2,     0.76,2, 18.3420
    49RY9011_2,  PR02,RY7843,  1,      8,      8,2,19901122,1827, 12.9667, 136.9833, 4673,    177.0,  16.1280,  34.6670,2,-999.0000,9,    148.0,2,    11.00,2,     0.02,2,     0.96,2, 16.1000
    49RY9011_2,  PR02,RY7843,  1,      9,      9,2,19901122,1827, 12.9667, 136.9833, 4673,    202.0,  14.1240,  34.5490,2,-999.0000,9,    149.0,2,    13.60,2,     0.01,2,     1.12,2, 14.0950
    49RY9011_2,  PR02,RY7843,  1,     10,     10,2,19901122,1827, 12.9667, 136.9833, 4673,    250.0,  11.0880,  34.3700,2,-999.0000,9,    140.0,2,    19.30,2,     0.00,2,     1.50,2, 11.0570
    49RY9011_2,  PR02,RY7843,  1,     11,     11,2,19901122,1827, 12.9667, 136.9833, 4673,    302.0,   9.3480,  34.3890,2,-999.0000,9,     96.0,2,    27.10,2,     0.01,2,     2.04,2,  9.3140
    49RY9011_2,  PR02,RY7843,  1,     12,     12,2,19901122,1827, 12.9667, 136.9833, 4673,    400.0,   8.0020,  34.4340,2,-999.0000,9,     70.0,2,    32.50,2,     0.01,2,     2.40,2,  7.9610
    49RY9011_2,  PR02,RY7843,  1,     13,     13,2,19901122,1827, 12.9667, 136.9833, 4673,    503.0,   6.8980,  34.4640,2,-999.0000,9,     68.0,2,    35.10,2,     0.00,2,     2.56,2,  6.8510
    49RY9011_2,  PR02,RY7843,  2,     14,     14,2,19901122,2004, 12.9667, 136.9833, 4673,    604.0,   6.1020,  34.4950,2,-999.0000,9,     76.0,2,    36.10,2,     0.01,2,     2.61,2,  6.0480
    49RY9011_2,  PR02,RY7843,  2,     15,     15,2,19901122,2004, 12.9667, 136.9833, 4673,    706.0,   5.5460,  34.5130,2,-999.0000,9,     80.0,2,    36.70,2,     0.00,2,     2.64,2,  5.4860
    49RY9011_2,  PR02,RY7843,  2,     16,     16,2,19901122,2004, 12.9667, 136.9833, 4673,    807.0,   5.1110,  34.5250,2,-999.0000,9,     81.0,2,    37.70,2,     0.01,2,     2.71,2,  5.0440
    49RY9011_2,  PR02,RY7843,  2,     17,     17,2,19901122,2004, 12.9667, 136.9833, 4673,    907.0,   4.6530,  34.5380,2,-999.0000,9,     81.0,2,    38.20,2,     0.00,2,     2.74,2,  4.5800
    49RY9011_2,  PR02,RY7843,  2,     18,     18,2,19901122,2004, 12.9667, 136.9833, 4673,   1008.0,   4.2490,  34.5460,2,-999.0000,9,     87.0,2,    38.30,2,     0.00,2,     2.72,2,  4.1710
    49RY9011_2,  PR02,RY7843,  2,     19,     19,2,19901122,2004, 12.9667, 136.9833, 4673,   1262.0,   3.3400,  34.5760,2,-999.0000,9,     94.0,2,    38.40,2,     0.01,2,     2.74,2,  3.2480
    49RY9011_2,  PR02,RY7843,  2,     20,     20,2,19901122,2004, 12.9667, 136.9833, 4673,   1516.0,   2.8290,  34.6000,2,-999.0000,9,     98.0,2,    38.60,2,     0.00,2,     2.74,2,  2.7220
    49RY9011_2,  PR02,RY7843,  2,     21,     21,2,19901122,2004, 12.9667, 136.9833, 4673,   2020.0,   2.1290,  34.6370,2,-999.0000,9,    115.0,2,    37.90,2,     0.00,2,     2.66,2,  1.9890
    49RY9011_2,  PR02,RY7843,  2,     22,     22,2,19901122,2004, 12.9667, 136.9833, 4673,   2530.0,   1.7590,  34.6610,2,-999.0000,9,    130.0,2,    37.50,2,     0.00,2,     2.59,2,  1.5800
    49RY9011_2,  PR02,RY7843,  2,     23,     23,2,19901122,2004, 12.9667, 136.9833, 4673,   3037.0,   1.6090,  34.6760,2,-999.0000,9,    141.0,2,    36.50,2,     0.00,2,     2.52,2,  1.3860
    49RY9011_2,  PR02,RY7843,  2,     24,     24,2,19901122,2004, 12.9667, 136.9833, 4673,   4065.0,   1.4980,  34.6910,2,-999.0000,9,    154.0,2,    35.60,2,     0.00,2,     2.45,2,  1.1720
    49RY9011_2,  PR02,RY7844,  1,      1,      1,2,19901123,1110,  9.9833, 137.0000, 5009,      2.0,  28.4830,  34.0180,2,  34.0200,2,    197.0,2,     0.00,2,     0.00,2,     0.01,2, 28.4830
    49RY9011_2,  PR02,RY7844,  1,      2,      2,2,19901123,1110,  9.9833, 137.0000, 5009,     10.0,  28.4860,  34.0190,2,  34.0190,2,    199.0,2,     0.00,2,     0.00,2,     0.01,2, 28.4840
    49RY9011_2,  PR02,RY7844,  1,      3,      3,2,19901123,1110,  9.9833, 137.0000, 5009,     26.0,  28.4830,  34.0220,2,  34.0190,2,    200.0,2,     0.00,2,     0.00,2,     0.02,2, 28.4770
    49RY9011_2,  PR02,RY7844,  1,      4,      4,2,19901123,1110,  9.9833, 137.0000, 5009,     51.0,  28.1430,  34.0950,2,  34.0790,2,    199.0,2,     0.00,2,     0.00,2,     0.02,2, 28.1310
    49RY9011_2,  PR02,RY7844,  1,      5,      5,2,19901123,1110,  9.9833, 137.0000, 5009,     72.0,  27.1660,  34.2500,2,  34.2560,2,    200.0,2,     0.00,2,     0.00,2,     0.03,2, 27.1490
    49RY9011_2,  PR02,RY7844,  1,      6,      6,2,19901123,1110,  9.9833, 137.0000, 5009,    100.0,  22.8670,  34.7950,2,  34.8010,2,    167.0,2,     2.30,2,     0.23,2,     0.28,2, 22.8470
    49RY9011_2,  PR02,RY7844,  1,      7,      7,2,19901123,1110,  9.9833, 137.0000, 5009,    127.0,  19.0030,  34.8240,2,  34.8340,2,    157.0,2,     6.00,2,     0.08,2,     0.46,2, 18.9800
    49RY9011_2,  PR02,RY7844,  1,      8,      8,2,19901123,1110,  9.9833, 137.0000, 5009,    152.0,  17.0060,  34.7370,2,  34.7320,2,    155.0,2,     8.80,2,     0.01,2,     0.68,2, 16.9810
    49RY9011_2,  PR02,RY7844,  1,      9,      9,2,19901123,1110,  9.9833, 137.0000, 5009,    175.0,  15.2150,  34.6380,2,  34.6340,2,    157.0,2,    11.00,2,     0.00,2,     0.69,2, 15.1880
    49RY9011_2,  PR02,RY7844,  1,     10,     10,2,19901123,1110,  9.9833, 137.0000, 5009,    201.0,  13.0490,  34.4640,2,  34.4670,2,    175.0,2,    11.90,2,     0.00,2,     0.88,2, 13.0210
    49RY9011_2,  PR02,RY7844,  1,     11,     11,2,19901123,1110,  9.9833, 137.0000, 5009,    253.0,  10.3470,  34.3540,2,  34.3470,2,    128.0,2,    21.60,2,     0.00,2,     1.57,2, 10.3170
    49RY9011_2,  PR02,RY7844,  1,     12,     12,2,19901123,1110,  9.9833, 137.0000, 5009,    300.0,   9.2910,  34.4020,2,  34.4100,2,     90.0,2,    27.50,2,     0.00,2,     1.99,2,  9.2580
    49RY9011_2,  PR02,RY7844,  1,     13,     13,2,19901123,1110,  9.9833, 137.0000, 5009,    403.0,   7.5660,  34.4300,2,  34.4370,2,     70.0,2,    33.20,2,     0.00,2,     2.37,2,  7.5260
    49RY9011_2,  PR02,RY7844,  2,     14,     14,2,19901123,1253,  9.9833, 137.0000, 5009,    505.0,   6.7120,  34.4460,2,  34.4440,2,     78.0,2,    34.40,2,     0.00,2,     2.44,2,  6.6650
    49RY9011_2,  PR02,RY7844,  2,     15,     15,2,19901123,1253,  9.9833, 137.0000, 5009,    605.0,   6.0050,  34.4870,2,  34.4870,2,     79.0,2,    35.80,2,     0.00,2,     2.52,2,  5.9520
    49RY9011_2,  PR02,RY7844,  2,     16,     16,2,19901123,1253,  9.9833, 137.0000, 5009,    707.0,   5.4740,  34.5120,2,  34.5150,2,     83.0,2,    36.50,2,     0.00,2,     2.59,2,  5.4140
    49RY9011_2,  PR02,RY7844,  2,     17,     17,2,19901123,1253,  9.9833, 137.0000, 5009,    807.0,   4.9250,  34.5260,2,  34.5250,2,     89.0,2,    36.70,2,     0.00,2,     2.60,2,  4.8590
    49RY9011_2,  PR02,RY7844,  2,     18,     18,2,19901123,1253,  9.9833, 137.0000, 5009,    907.0,   4.4870,  34.5430,2,  34.5430,2,     88.0,2,    37.50,2,     0.00,2,     2.66,2,  4.4160
    49RY9011_2,  PR02,RY7844,  2,     19,     19,2,19901123,1253,  9.9833, 137.0000, 5009,   1008.0,   4.0870,  34.5580,2,  34.5580,2,     94.0,2,    37.50,2,     0.00,2,     2.66,2,  4.0100
    49RY9011_2,  PR02,RY7844,  2,     20,     20,2,19901123,1253,  9.9833, 137.0000, 5009,   1262.0,   3.4080,  34.5850,2,  34.5860,2,     99.0,2,    37.80,2,     0.00,2,     2.68,2,  3.3160
    49RY9011_2,  PR02,RY7844,  2,     21,     21,2,19901123,1253,  9.9833, 137.0000, 5009,   1514.0,   2.8950,  34.6010,2,  34.5990,2,    104.0,2,    37.80,2,     0.00,2,     2.63,2,  2.7870
    49RY9011_2,  PR02,RY7844,  2,     22,     22,2,19901123,1253,  9.9833, 137.0000, 5009,   2022.0,   2.1640,  34.6400,2,  34.6390,2,    116.0,2,    37.40,2,     0.00,2,     2.61,2,  2.0230
    49RY9011_2,  PR02,RY7844,  2,     23,     23,2,19901123,1253,  9.9833, 137.0000, 5009,   2532.0,   1.7740,  34.6620,2,  34.6630,2,    134.0,2,    36.70,2,     0.00,2,     2.54,2,  1.5950
    49RY9011_2,  PR02,RY7844,  2,     24,     24,2,19901123,1253,  9.9833, 137.0000, 5009,   3041.0,   1.5710,  34.6780,2,  34.6820,2,    146.0,2,    35.50,2,     0.00,2,     2.43,2,  1.3490
    49RY9011_2,  PR02,RY7844,  2,     25,     25,2,19901123,1253,  9.9833, 137.0000, 5009,   4065.0,   1.5100,  34.6900,2,  34.6870,2,    157.0,2,    35.00,2,     0.00,2,     2.39,2,  1.1840
    49RY9011_2,  PR02,RY7845,  1,      1,      1,2,19901123,1900,  9.0000, 137.0333, 3885,      2.0,  28.6280,  34.0390,2,-999.0000,9,    197.0,2,     0.00,2,     0.00,2,     0.00,2, 28.6280
    49RY9011_2,  PR02,RY7845,  1,      2,      2,2,19901123,1900,  9.0000, 137.0333, 3885,     11.0,  28.6300,  34.0390,2,-999.0000,9,    197.0,2,     0.00,2,     0.00,2,     0.00,2, 28.6270
    49RY9011_2,  PR02,RY7845,  1,      3,      3,2,19901123,1900,  9.0000, 137.0333, 3885,     25.0,  28.6340,  34.0400,2,-999.0000,9,    198.0,2,     0.00,2,     0.00,2,     0.00,2, 28.6280
    49RY9011_2,  PR02,RY7845,  1,      4,      4,2,19901123,1900,  9.0000, 137.0333, 3885,     50.0,  28.0670,  34.1800,2,-999.0000,9,    196.0,2,     0.00,2,     0.00,2,     0.00,2, 28.0550
    49RY9011_2,  PR02,RY7845,  1,      5,      5,2,19901123,1900,  9.0000, 137.0333, 3885,     75.0,  25.1200,  34.6700,2,-999.0000,9,    183.0,2,     0.00,2,     0.00,2,     0.05,2, 25.1040
    49RY9011_2,  PR02,RY7845,  1,      6,      6,2,19901123,1900,  9.0000, 137.0333, 3885,    102.0,  21.0390,  34.8430,2,-999.0000,9,    158.0,2,     4.30,2,     0.09,2,     0.35,2, 21.0190
    49RY9011_2,  PR02,RY7845,  1,      7,      7,2,19901123,1900,  9.0000, 137.0333, 3885,    125.0,  19.8260,  34.8250,2,-999.0000,9,    155.0,2,     5.60,2,     0.06,2,     0.48,2, 19.8030
    49RY9011_2,  PR02,RY7845,  1,      8,      8,2,19901123,1900,  9.0000, 137.0333, 3885,    151.0,  17.3160,  34.7460,2,-999.0000,9,    147.0,2,     9.30,2,     0.04,2,     0.70,2, 17.2910
    49RY9011_2,  PR02,RY7845,  1,      9,      9,2,19901123,1900,  9.0000, 137.0333, 3885,    177.0,  14.4300,  34.6220,2,-999.0000,9,    137.0,2,    14.30,2,     0.03,2,     1.05,2, 14.4040
    49RY9011_2,  PR02,RY7845,  1,     10,     10,2,19901123,1900,  9.0000, 137.0333, 3885,    204.0,  12.0470,  34.5200,2,-999.0000,9,    115.0,2,    19.90,2,     0.03,2,     1.46,2, 12.0200
    49RY9011_2,  PR02,RY7845,  1,     11,     11,2,19901123,1900,  9.0000, 137.0333, 3885,    252.0,   9.8540,  34.5160,2,-999.0000,9,     79.0,2,    27.60,2,     0.03,2,     1.98,2,  9.8250
    49RY9011_2,  PR02,RY7845,  1,     12,     12,2,19901123,1900,  9.0000, 137.0333, 3885,    301.0,   9.1780,  34.5440,2,-999.0000,9,     69.0,2,    30.40,2,     0.04,2,     2.17,2,  9.1450
    49RY9011_2,  PR02,RY7845,  1,     13,     13,2,19901123,1900,  9.0000, 137.0333, 3885,    400.0,   8.3590,  34.5560,2,-999.0000,9,     69.0,2,    32.00,2,     0.02,2,     2.28,2,  8.3170
    49RY9011_2,  PR02,RY7845,  2,     14,     14,2,19901123,2036,  9.0000, 137.0333, 3885,    504.0,   7.3280,  34.5440,2,-999.0000,9,     82.0,2,    33.30,2,     0.01,2,     2.37,2,  7.2790
    49RY9011_2,  PR02,RY7845,  2,     15,     15,2,19901123,2036,  9.0000, 137.0333, 3885,    605.0,   6.5740,  34.5320,2,-999.0000,9,     86.0,2,    34.10,2,     0.00,2,     2.45,2,  6.5180
    49RY9011_2,  PR02,RY7845,  2,     16,     16,2,19901123,2036,  9.0000, 137.0333, 3885,    705.0,   5.9760,  34.5250,2,-999.0000,9,     93.0,2,    34.70,2,     0.01,2,     2.47,2,  5.9130
    49RY9011_2,  PR02,RY7845,  2,     17,     17,2,19901123,2036,  9.0000, 137.0333, 3885,    807.0,   5.3520,  34.5370,2,-999.0000,9,     85.0,2,    36.30,2,     0.00,2,     2.59,2,  5.2840
    49RY9011_2,  PR02,RY7845,  2,     18,     18,2,19901123,2036,  9.0000, 137.0333, 3885,    907.0,   4.8590,  34.5470,2,-999.0000,9,     85.0,2,    37.00,2,     0.00,2,     2.63,2,  4.7850
    49RY9011_2,  PR02,RY7845,  2,     19,     19,2,19901123,2036,  9.0000, 137.0333, 3885,   1006.0,   4.3600,  34.5580,2,-999.0000,9,     87.0,2,    37.60,2,     0.00,2,     2.67,2,  4.2810
    49RY9011_2,  PR02,RY7845,  2,     20,     20,2,19901123,2036,  9.0000, 137.0333, 3885,   1260.0,   3.4350,  34.5840,2,-999.0000,9,     96.0,2,    37.50,2,     0.00,2,     2.67,2,  3.3430
    49RY9011_2,  PR02,RY7845,  2,     21,     21,2,19901123,2036,  9.0000, 137.0333, 3885,   1515.0,   2.8830,  34.6040,2,-999.0000,9,    104.0,2,    37.60,2,     0.00,2,     2.64,2,  2.7750
    49RY9011_2,  PR02,RY7845,  2,     22,     22,2,19901123,2036,  9.0000, 137.0333, 3885,   2021.0,   2.1210,  34.6410,2,-999.0000,9,    119.0,2,    37.00,2,     0.00,2,     2.59,2,  1.9810
    49RY9011_2,  PR02,RY7845,  2,     23,     23,2,19901123,2036,  9.0000, 137.0333, 3885,   2530.0,   1.7240,  34.6650,2,-999.0000,9,    135.0,2,    36.20,2,     0.00,2,     2.50,2,  1.5460
    49RY9011_2,  PR02,RY7845,  2,     24,     24,2,19901123,2036,  9.0000, 137.0333, 3885,   3035.0,   1.5800,  34.6770,2,-999.0000,9,    146.0,2,    35.30,2,     0.00,2,     2.43,2,  1.3580
    49RY9011_2,  PR02,RY7845,  2,     25,     25,2,19901123,2036,  9.0000, 137.0333, 3885,   3563.0,   1.5170,  34.6850,2,-999.0000,9,    153.0,2,    34.80,2,     0.00,2,     2.42,2,  1.2440
    49RY9011_2,  PR02,RY7846,  1,      1,      1,2,19901124,0303,  8.0000, 137.0333, 2847,      1.0,  28.4890,  34.0590,2,-999.0000,9,    195.0,2,     0.00,2,     0.00,2,     0.09,2, 28.4890
    49RY9011_2,  PR02,RY7846,  1,      2,      2,2,19901124,0303,  8.0000, 137.0333, 2847,      9.0,  28.4880,  34.0590,2,-999.0000,9,    196.0,2,     0.00,2,     0.00,2,     0.07,2, 28.4860
    49RY9011_2,  PR02,RY7846,  1,      3,      3,2,19901124,0303,  8.0000, 137.0333, 2847,     25.0,  28.4900,  34.0600,2,-999.0000,9,    198.0,2,     0.00,2,     0.00,2,     0.03,2, 28.4840
    49RY9011_2,  PR02,RY7846,  1,      4,      4,2,19901124,0303,  8.0000, 137.0333, 2847,     49.0,  26.7100,  34.4480,2,-999.0000,9,    192.0,2,     0.00,2,     0.00,2,     0.09,2, 26.6990
    49RY9011_2,  PR02,RY7846,  1,      5,      5,2,19901124,0303,  8.0000, 137.0333, 2847,     76.0,  24.0790,  34.8120,2,-999.0000,9,    163.0,2,     2.00,2,     0.26,2,     0.28,2, 24.0630
    49RY9011_2,  PR02,RY7846,  1,      6,      6,2,19901124,0303,  8.0000, 137.0333, 2847,    100.0,  22.4350,  34.9060,2,-999.0000,9,    150.0,2,     4.80,2,     0.31,2,     0.54,2, 22.4150
    49RY9011_2,  PR02,RY7846,  1,      7,      7,2,19901124,0303,  8.0000, 137.0333, 2847,    127.0,  18.9820,  34.8200,2,-999.0000,9,    150.0,2,     7.30,2,     0.06,2,     0.69,2, 18.9590
    49RY9011_2,  PR02,RY7846,  1,      8,      8,2,19901124,0303,  8.0000, 137.0333, 2847,    150.0,  16.8970,  34.6960,2,-999.0000,9,    147.0,2,    10.00,2,     0.03,2,     0.89,2, 16.8720
    49RY9011_2,  PR02,RY7846,  1,      9,      9,2,19901124,0303,  8.0000, 137.0333, 2847,    176.0,  13.2690,  34.5790,2,-999.0000,9,    122.0,2,    17.60,2,     0.02,2,     1.35,2, 13.2450
    49RY9011_2,  PR02,RY7846,  1,     10,     10,2,19901124,0303,  8.0000, 137.0333, 2847,    201.0,  12.2340,  34.5470,2,-999.0000,9,    111.0,2,    20.50,2,     0.02,2,     1.59,2, 12.2080
    49RY9011_2,  PR02,RY7846,  1,     11,     11,2,19901124,0303,  8.0000, 137.0333, 2847,    250.0,  10.3720,  34.5280,2,-999.0000,9,     88.0,2,    26.10,2,     0.01,2,     2.00,2, 10.3420
    49RY9011_2,  PR02,RY7846,  1,     12,     12,2,19901124,0303,  8.0000, 137.0333, 2847,    300.0,   9.0360,  34.5680,2,-999.0000,9,     65.0,2,    31.40,2,     0.01,2,     2.33,2,  9.0030
    49RY9011_2,  PR02,RY7846,  2,     13,     13,2,19901124,0416,  8.0000, 137.0333, 2847,    403.0,   8.3560,  34.5690,2,-999.0000,9,     67.0,2,    32.70,2,     0.01,2,     2.44,2,  8.3140
    49RY9011_2,  PR02,RY7846,  2,     14,     14,2,19901124,0416,  8.0000, 137.0333, 2847,    503.0,   7.4680,  34.5500,2,-999.0000,9,     72.0,2,    33.90,2,     0.00,2,     2.50,2,  7.4180
    49RY9011_2,  PR02,RY7846,  2,     15,     15,2,19901124,0416,  8.0000, 137.0333, 2847,    602.0,   6.7550,  34.5360,2,-999.0000,9,     77.0,2,    34.70,2,     0.00,2,     2.60,2,  6.6980
    49RY9011_2,  PR02,RY7846,  2,     16,     16,2,19901124,0416,  8.0000, 137.0333, 2847,    707.0,   5.9610,  34.5350,2,-999.0000,9,     80.0,2,    36.10,2,     0.00,2,     2.67,2,  5.8980
    49RY9011_2,  PR02,RY7846,  2,     17,     17,2,19901124,0416,  8.0000, 137.0333, 2847,    805.0,   5.2960,  34.5420,2,-999.0000,9,     82.0,2,    37.00,2,     0.00,2,     2.73,2,  5.2280
    49RY9011_2,  PR02,RY7846,  2,     18,     18,2,19901124,0416,  8.0000, 137.0333, 2847,    907.0,   4.8840,  34.5470,2,-999.0000,9,     86.0,2,    37.50,2,     0.00,2,     2.73,2,  4.8100
    49RY9011_2,  PR02,RY7846,  2,     19,     19,2,19901124,0416,  8.0000, 137.0333, 2847,   1008.0,   4.3300,  34.5620,2,-999.0000,9,     89.0,2,    37.80,2,     0.00,2,     2.77,2,  4.2510
    49RY9011_2,  PR02,RY7846,  2,     20,     20,2,19901124,0416,  8.0000, 137.0333, 2847,   1260.0,   3.3730,  34.5850,2,-999.0000,9,     98.0,2,    37.90,2,     0.00,2,     2.77,2,  3.2810
    49RY9011_2,  PR02,RY7846,  2,     21,     21,2,19901124,0416,  8.0000, 137.0333, 2847,   1515.0,   2.7470,  34.6110,2,-999.0000,9,    108.0,2,    37.90,2,     0.00,2,     2.73,2,  2.6410
    49RY9011_2,  PR02,RY7846,  2,     22,     22,2,19901124,0416,  8.0000, 137.0333, 2847,   2022.0,   2.1690,  34.6430,2,-999.0000,9,    119.0,2,    37.40,2,     0.00,2,     2.66,2,  2.0280
    49RY9011_2,  PR02,RY7846,  2,     23,     23,2,19901124,0416,  8.0000, 137.0333, 2847,   2530.0,   1.7220,  34.6670,2,-999.0000,9,    138.0,2,    36.30,2,     0.00,2,     2.58,2,  1.5440