BOTTLE,20220930CCHSIOAMB
EXPOCODE,SECT_ID,STNNBR,CASTNO,SAMPNO,BTLNBR,BTLNBR_FLAG_W,DATE,TIME,LATITUDE,LONGITUDE,DEPTH,CTDPRS,CTDTMP,CTDSAL,CTDSAL_FLAG_W,SALNTY,SALNTY_FLAG_W,OXYGEN,OXYGEN_FLAG_W,NITRAT,NITRAT_FLAG_W,NITRIT,NITRIT_FLAG_W,PHSPHT,PHSPHT_FLAG_W,THETA
,,,,,,,,,,,,DBAR,DEG C,PSS-78,,PSS-78,,UMOL/KG,,UMOL/KG,,UMOL/KG,,UMOL/KG,,DEG C
    49RY9011_2,  PR02,RY7847,  1,      1,      1,2,19901124,1045,  7.0000, 137.0167, 4189,      2.0,  28.4380,  34.0480,2,  34.0550,2,    197.0,2,     0.00,2,     0.00,2,     0.03,2, 28.4380
    49RY9011_2,  PR02,RY7847,  1,      2,      2,2,19901124,1045,  7.0000, 137.0167, 4189,     12.0,  28.4430,  34.0480,2,  34.0470,2,    197.0,2,     0.00,2,     0.00,2,     0.03,2, 28.4400
    49RY9011_2,  PR02,RY7847,  1,      3,      3,2,19901124,1045,  7.0000, 137.0167, 4189,     24.0,  28.4430,  34.0480,2,  34.0470,2,    198.0,2,     0.00,2,     0.00,2,     0.01,2, 28.4370
    49RY9011_2,  PR02,RY7847,  1,      4,      4,2,19901124,1045,  7.0000, 137.0167, 4189,     50.0,  28.1840,  34.1280,2,  34.1130,2,    197.0,2,     0.00,2,     0.00,2,     0.01,2, 28.1720
    49RY9011_2,  PR02,RY7847,  1,      5,      5,2,19901124,1045,  7.0000, 137.0167, 4189,     74.0,  22.8430,  34.8190,2,  34.8190,2,    166.0,2,     2.20,2,     0.23,2,     0.32,2, 22.8280
    49RY9011_2,  PR02,RY7847,  1,      6,      6,2,19901124,1045,  7.0000, 137.0167, 4189,    101.0,  19.7590,  34.8740,2,  34.8640,2,    143.0,2,     7.60,2,     0.01,2,     0.71,2, 19.7410
    49RY9011_2,  PR02,RY7847,  1,      7,      7,2,19901124,1045,  7.0000, 137.0167, 4189,    126.0,  16.9380,  34.7240,2,  34.7250,2,    140.0,2,    10.60,2,     0.00,2,     0.93,2, 16.9170
    49RY9011_2,  PR02,RY7847,  1,      8,      8,2,19901124,1045,  7.0000, 137.0167, 4189,    150.0,  14.6610,  34.6390,2,  34.6470,2,    132.0,2,    13.90,2,     0.00,2,     1.17,2, 14.6390
    49RY9011_2,  PR02,RY7847,  1,      9,      9,2,19901124,1045,  7.0000, 137.0167, 4189,    176.0,  11.8440,  34.5470,2,  34.5490,2,    113.0,2,    20.30,2,     0.00,2,     1.61,2, 11.8210
    49RY9011_2,  PR02,RY7847,  1,     10,     10,2,19901124,1045,  7.0000, 137.0167, 4189,    199.0,  10.8920,  34.5000,2,  34.5030,2,    109.0,2,    22.40,2,     0.00,2,     1.81,2, 10.8680
    49RY9011_2,  PR02,RY7847,  1,     11,     11,2,19901124,1045,  7.0000, 137.0167, 4189,    251.0,   9.8100,  34.5610,2,  34.5590,2,     83.0,2,    27.50,2,     0.00,2,     2.10,2,  9.7810
    49RY9011_2,  PR02,RY7847,  1,     12,     12,2,19901124,1045,  7.0000, 137.0167, 4189,    300.0,   9.0660,  34.5780,2,  34.5820,2,     69.0,2,    30.20,2,     0.00,2,     2.29,2,  9.0330
    49RY9011_2,  PR02,RY7847,  1,     13,     13,2,19901124,1045,  7.0000, 137.0167, 4189,    402.0,   8.0840,  34.5770,2,  34.5850,2,     86.0,2,    30.80,2,     0.00,2,     2.30,2,  8.0430
    49RY9011_2,  PR02,RY7847,  2,     14,     14,2,19901124,1219,  7.0000, 137.0167, 4189,    504.0,   7.6720,  34.5730,2,  34.5700,2,     84.0,2,    31.80,2,     0.00,2,     2.38,2,  7.6220
    49RY9011_2,  PR02,RY7847,  2,     15,     15,2,19901124,1219,  7.0000, 137.0167, 4189,    603.0,   6.7660,  34.5420,2,  34.5440,2,     80.0,2,    33.80,2,     0.00,2,     2.52,2,  6.7090
    49RY9011_2,  PR02,RY7847,  2,     16,     16,2,19901124,1219,  7.0000, 137.0167, 4189,    707.0,   6.0550,  34.5330,2,  34.5300,2,     82.0,2,    34.80,2,     0.00,2,     2.60,2,  5.9920
    49RY9011_2,  PR02,RY7847,  2,     17,     17,2,19901124,1219,  7.0000, 137.0167, 4189,    808.0,   5.4120,  34.5400,2,  34.5390,2,     87.0,2,    35.70,2,     0.00,2,     2.65,2,  5.3430
    49RY9011_2,  PR02,RY7847,  2,     18,     18,2,19901124,1219,  7.0000, 137.0167, 4189,    907.0,   4.9510,  34.5470,2,  34.5450,2,     89.0,2,    36.20,2,     0.00,2,     2.69,2,  4.8760
    49RY9011_2,  PR02,RY7847,  2,     19,     19,2,19901124,1219,  7.0000, 137.0167, 4189,   1009.0,   4.3690,  34.5590,2,  34.5620,2,     87.0,2,    37.10,2,     0.00,2,     2.74,2,  4.2900
    49RY9011_2,  PR02,RY7847,  2,     20,     20,2,19901124,1219,  7.0000, 137.0167, 4189,   1262.0,   3.4090,  34.5870,2,  34.6030,2,     97.0,2,    36.80,2,     0.00,2,     2.71,2,  3.3170
    49RY9011_2,  PR02,RY7847,  2,     21,     21,2,19901124,1219,  7.0000, 137.0167, 4189,   1515.0,   2.9050,  34.6050,2,  34.6050,2,    108.0,2,    37.00,2,     0.00,2,     2.71,2,  2.7970
    49RY9011_2,  PR02,RY7847,  2,     22,     22,2,19901124,1219,  7.0000, 137.0167, 4189,   2022.0,   2.1360,  34.6410,2,  34.6400,2,    120.0,2,    36.40,2,     0.00,2,     2.67,2,  1.9960
    49RY9011_2,  PR02,RY7847,  2,     23,     23,2,19901124,1219,  7.0000, 137.0167, 4189,   2532.0,   1.7060,  34.6670,2,  34.6600,2,    134.0,2,    35.60,2,     0.00,2,     2.58,2,  1.5280
    49RY9011_2,  PR02,RY7847,  2,     24,     24,2,19901124,1219,  7.0000, 137.0167, 4189,   3041.0,   1.5600,  34.6800,2,  34.6450,3,    130.0,2,    35.80,2,     0.00,2,     2.56,2,  1.3380
    49RY9011_2,  PR02,RY7848,  1,      1,      1,2,19901124,1843,  6.0333, 137.0333, 4583,      2.0,  28.5600,  33.9510,2,-999.0000,9,    200.0,2,     0.20,2,     0.05,2,     0.05,2, 28.5600
    49RY9011_2,  PR02,RY7848,  1,      2,      2,2,19901124,1843,  6.0333, 137.0333, 4583,     10.0,  28.5670,  33.9500,2,-999.0000,9,    199.0,2,     0.00,2,     0.00,2,     0.00,2, 28.5650
    49RY9011_2,  PR02,RY7848,  1,      3,      3,2,19901124,1843,  6.0333, 137.0333, 4583,     25.0,  28.5650,  33.9500,2,-999.0000,9,    199.0,2,     0.00,2,     0.00,2,     0.00,2, 28.5590
    49RY9011_2,  PR02,RY7848,  1,      4,      4,2,19901124,1843,  6.0333, 137.0333, 4583,     51.0,  27.3640,  34.3730,2,-999.0000,9,    194.0,2,     0.00,2,     0.01,2,     0.00,2, 27.3520
    49RY9011_2,  PR02,RY7848,  1,      5,      5,2,19901124,1843,  6.0333, 137.0333, 4583,     77.0,  23.8300,  34.7930,2,-999.0000,9,    178.0,2,     0.50,2,     0.10,2,     0.20,2, 23.8140
    49RY9011_2,  PR02,RY7848,  1,      6,      6,2,19901124,1843,  6.0333, 137.0333, 4583,    100.0,  20.0320,  34.8480,2,-999.0000,9,    158.0,2,     5.60,2,     0.07,2,     0.54,2, 20.0140
    49RY9011_2,  PR02,RY7848,  1,      7,      7,2,19901124,1843,  6.0333, 137.0333, 4583,    126.0,  17.0280,  34.7490,2,-999.0000,9,    155.0,2,     9.50,2,     0.03,2,     0.81,2, 17.0070
    49RY9011_2,  PR02,RY7848,  1,      8,      8,2,19901124,1843,  6.0333, 137.0333, 4583,    151.0,  13.7940,  34.6140,2,-999.0000,9,    138.0,2,    15.70,2,     0.01,2,     1.24,2, 13.7730
    49RY9011_2,  PR02,RY7848,  1,      9,      9,2,19901124,1843,  6.0333, 137.0333, 4583,    176.0,  11.9880,  34.5560,2,-999.0000,9,    129.0,2,    20.10,2,     0.01,2,     1.56,2, 11.9650
    49RY9011_2,  PR02,RY7848,  1,     10,     10,2,19901124,1843,  6.0333, 137.0333, 4583,    201.0,  10.3030,  34.5460,2,-999.0000,9,     95.0,2,    25.60,2,     0.01,2,     2.02,2, 10.2790
    49RY9011_2,  PR02,RY7848,  1,     11,     11,2,19901124,1843,  6.0333, 137.0333, 4583,    251.0,   8.8040,  34.5340,2,-999.0000,9,     79.0,2,    29.80,2,     0.00,2,     2.28,2,  8.7770
    49RY9011_2,  PR02,RY7848,  1,     12,     12,2,19901124,1843,  6.0333, 137.0333, 4583,    302.0,   8.4730,  34.5760,2,-999.0000,9,     77.0,2,    31.10,2,     0.00,2,     2.33,2,  8.4410
    49RY9011_2,  PR02,RY7848,  1,     13,     13,2,19901124,1843,  6.0333, 137.0333, 4583,    402.0,   7.6670,  34.5640,2,-999.0000,9,     89.0,2,    31.40,2,     0.01,2,     2.33,2,  7.6270
    49RY9011_2,  PR02,RY7848,  2,     14,     14,2,19901124,2031,  6.0333, 137.0333, 4583,    504.0,   6.9120,  34.5530,2,-999.0000,9,     98.0,2,    32.50,2,     0.00,2,     2.40,2,  6.8640
    49RY9011_2,  PR02,RY7848,  2,     15,     15,2,19901124,2031,  6.0333, 137.0333, 4583,    604.0,   6.4870,  34.5490,2,-999.0000,9,     99.0,2,    33.20,2,     0.01,2,     2.48,2,  6.4320
    49RY9011_2,  PR02,RY7848,  2,     16,     16,2,19901124,2031,  6.0333, 137.0333, 4583,    705.0,   6.1060,  34.5460,2,-999.0000,9,    100.0,2,    33.80,2,     0.00,2,     2.50,2,  6.0430
    49RY9011_2,  PR02,RY7848,  2,     17,     17,2,19901124,2031,  6.0333, 137.0333, 4583,    806.0,   5.7510,  34.5450,2,-999.0000,9,     98.0,2,    34.50,2,     0.00,2,     2.57,2,  5.6800
    49RY9011_2,  PR02,RY7848,  2,     18,     18,2,19901124,2031,  6.0333, 137.0333, 4583,    908.0,   5.2550,  34.5480,2,-999.0000,9,    103.0,2,    35.30,2,     0.00,2,     2.61,2,  5.1780
    49RY9011_2,  PR02,RY7848,  2,     19,     19,2,19901124,2031,  6.0333, 137.0333, 4583,   1008.0,   4.8050,  34.5530,2,-999.0000,9,     90.0,2,    36.50,2,     0.00,2,     2.73,2,  4.7220
    49RY9011_2,  PR02,RY7848,  2,     20,     20,2,19901124,2031,  6.0333, 137.0333, 4583,   1264.0,   3.8720,  34.5750,2,-999.0000,9,     97.0,2,    36.70,2,     0.00,2,     2.71,2,  3.7750
    49RY9011_2,  PR02,RY7848,  2,     21,     21,2,19901124,2031,  6.0333, 137.0333, 4583,   1513.0,   3.0790,  34.5970,2,-999.0000,9,    102.0,2,    37.10,2,     0.00,2,     2.71,2,  2.9690
    49RY9011_2,  PR02,RY7848,  2,     22,     22,2,19901124,2031,  6.0333, 137.0333, 4583,   2022.0,   2.2470,  34.6380,2,-999.0000,9,    116.0,2,    36.90,2,     0.00,2,     2.69,2,  2.1050
    49RY9011_2,  PR02,RY7848,  2,     23,     23,2,19901124,2031,  6.0333, 137.0333, 4583,   2530.0,   1.7680,  34.6660,2,-999.0000,9,    134.0,2,    35.90,2,     0.00,2,     2.59,2,  1.5890
    49RY9011_2,  PR02,RY7848,  2,     24,     24,2,19901124,2031,  6.0333, 137.0333, 4583,   3040.0,   1.5860,  34.6780,2,-999.0000,9,    144.0,2,    35.10,2,     0.00,2,     2.45,2,  1.3630
    49RY9011_2,  PR02,RY7848,  2,     25,     25,2,19901124,2031,  6.0333, 137.0333, 4583,   4063.0,   1.5090,  34.6910,2,-999.0000,9,    157.0,2,    34.40,2,     0.00,2,     2.57,2,  1.1830
    49RY9011_2,  PR02,RY7849,  1,      1,      1,2,19901125,0340,  5.0333, 137.0667, 5705,      3.0,  28.5290,  34.1200,2,-999.0000,9,    198.0,2,     0.00,2,     0.00,2,     0.00,2, 28.5280
    49RY9011_2,  PR02,RY7849,  1,      2,      2,2,19901125,0340,  5.0333, 137.0667, 5705,      9.0,  28.5160,  34.1220,2,-999.0000,9,    198.0,2,     0.00,2,     0.00,2,     0.00,2, 28.5140
    49RY9011_2,  PR02,RY7849,  1,      3,      3,2,19901125,0340,  5.0333, 137.0667, 5705,     25.0,  28.4150,  34.1230,2,-999.0000,9,    196.0,2,     0.00,2,     0.00,2,     0.00,2, 28.4090
    49RY9011_2,  PR02,RY7849,  1,      4,      4,2,19901125,0340,  5.0333, 137.0667, 5705,     49.0,  26.4000,  34.6130,2,-999.0000,9,    199.0,2,     0.10,2,     0.00,2,     0.04,2, 26.3890
    49RY9011_2,  PR02,RY7849,  1,      5,      5,2,19901125,0340,  5.0333, 137.0667, 5705,     74.0,  24.3540,  34.8910,2,-999.0000,9,    191.0,2,     0.10,2,     0.00,2,     0.09,2, 24.3380
    49RY9011_2,  PR02,RY7849,  1,      6,      6,2,19901125,0340,  5.0333, 137.0667, 5705,     99.0,  22.5090,  34.8620,2,-999.0000,9,    175.0,2,     2.30,2,     0.23,2,     0.27,2, 22.4890
    49RY9011_2,  PR02,RY7849,  1,      7,      7,2,19901125,0340,  5.0333, 137.0667, 5705,    125.0,  19.6420,  34.8770,2,-999.0000,9,    164.0,2,     5.40,2,     0.04,2,     0.50,2, 19.6190
    49RY9011_2,  PR02,RY7849,  1,      8,      8,2,19901125,0340,  5.0333, 137.0667, 5705,    152.0,  16.5690,  34.7120,2,-999.0000,9,    144.0,2,    11.30,2,     0.02,2,     0.91,2, 16.5440
    49RY9011_2,  PR02,RY7849,  1,      9,      9,2,19901125,0340,  5.0333, 137.0667, 5705,    177.0,  14.0740,  34.6320,2,-999.0000,9,    139.0,2,    15.60,2,     0.01,2,     1.21,2, 14.0480
    49RY9011_2,  PR02,RY7849,  1,     10,     10,2,19901125,0340,  5.0333, 137.0667, 5705,    202.0,  11.5650,  34.5550,2,-999.0000,9,    115.0,2,    21.90,2,     0.00,2,     1.68,2, 11.5390
    49RY9011_2,  PR02,RY7849,  1,     11,     11,2,19901125,0340,  5.0333, 137.0667, 5705,    252.0,   9.7030,  34.6010,2,-999.0000,9,     78.0,2,    28.90,2,     0.00,2,     2.16,2,  9.6740
    49RY9011_2,  PR02,RY7849,  1,     12,     12,2,19901125,0340,  5.0333, 137.0667, 5705,    302.0,   8.6000,  34.5800,2,-999.0000,9,     73.0,2,    31.80,2,     0.01,2,     2.33,2,  8.5680
    49RY9011_2,  PR02,RY7849,  1,     13,     13,2,19901125,0340,  5.0333, 137.0667, 5705,    401.0,   7.4140,  34.5640,2,-999.0000,9,    109.0,2,    30.50,2,     0.00,2,     2.25,2,  7.3750
    49RY9011_2,  PR02,RY7849,  2,     14,     14,2,19901125,0517,  5.0333, 137.0667, 5705,    505.0,   6.9430,  34.5620,2,-999.0000,9,    129.0,2,    30.50,2,     0.00,2,     2.20,2,  6.8950
    49RY9011_2,  PR02,RY7849,  2,     15,     15,2,19901125,0517,  5.0333, 137.0667, 5705,    604.0,   6.4310,  34.5470,2,-999.0000,9,    115.0,2,    32.80,2,     0.00,2,     2.41,2,  6.3760
    49RY9011_2,  PR02,RY7849,  2,     16,     16,2,19901125,0517,  5.0333, 137.0667, 5705,    706.0,   6.2430,  34.5460,2,-999.0000,9,    111.0,2,    33.70,2,     0.00,2,     2.45,2,  6.1790
    49RY9011_2,  PR02,RY7849,  2,     17,     17,2,19901125,0517,  5.0333, 137.0667, 5705,    806.0,   6.0070,  34.5430,2,-999.0000,9,    110.0,2,    34.30,2,     0.00,2,     2.50,2,  5.9350
    49RY9011_2,  PR02,RY7849,  2,     18,     18,2,19901125,0517,  5.0333, 137.0667, 5705,    907.0,   5.4720,  34.5480,2,-999.0000,9,     96.0,2,    35.90,2,     0.00,2,     2.63,2,  5.3940
    49RY9011_2,  PR02,RY7849,  2,     19,     19,2,19901125,0517,  5.0333, 137.0667, 5705,   1008.0,   4.8720,  34.5540,2,-999.0000,9,     86.0,2,    37.70,2,     0.00,2,     2.75,2,  4.7890
    49RY9011_2,  PR02,RY7849,  2,     20,     20,2,19901125,0517,  5.0333, 137.0667, 5705,   1263.0,   3.8640,  34.5780,2,-999.0000,9,     98.0,2,    37.80,2,     0.00,2,     2.76,2,  3.7670
    49RY9011_2,  PR02,RY7849,  2,     21,     21,2,19901125,0517,  5.0333, 137.0667, 5705,   1515.0,   3.1230,  34.6000,2,-999.0000,9,    101.0,2,    38.10,2,     0.00,2,     2.77,2,  3.0120
    49RY9011_2,  PR02,RY7849,  2,     22,     22,2,19901125,0517,  5.0333, 137.0667, 5705,   2021.0,   2.2230,  34.6400,2,-999.0000,9,    115.0,2,    37.70,2,     0.00,2,     2.71,2,  2.0810
    49RY9011_2,  PR02,RY7849,  2,     23,     23,2,19901125,0517,  5.0333, 137.0667, 5705,   2529.0,   1.7760,  34.6650,2,-999.0000,9,    127.0,2,    36.80,2,     0.00,2,     2.63,2,  1.5970
    49RY9011_2,  PR02,RY7849,  2,     24,     24,2,19901125,0517,  5.0333, 137.0667, 5705,   3039.0,   1.5880,  34.6790,2,-999.0000,9,    130.0,2,    36.30,2,     0.00,2,     2.63,2,  1.3660