BOTTLE,20220930CCHSIOAMB
# Extracted station with no pressure into residual file. The sumfile has a max pressure of something like half the uncorrected depth (for the one cast with max pressure. This has the "smell" of aborted casts.
#BOTTLE,20020816WHPSIOHLB
#code : jjward hyd_to_exchange.pl 
#original files copied from HTML directory: 20020816
#original HYD file: pr02_bhy.txt   Fri Aug 16 15:31:30 2002
#original SUM file: pr02_bsu.txt   Fri Aug 16 15:31:26 2002
EXPOCODE,SECT_ID,STNNBR,CASTNO,SAMPNO,BTLNBR,BTLNBR_FLAG_W,DATE,TIME,LATITUDE,LONGITUDE,DEPTH,CTDPRS,CTDTMP,CTDSAL,CTDSAL_FLAG_W,SALNTY,SALNTY_FLAG_W,OXYGEN,OXYGEN_FLAG_W,NITRAT,NITRAT_FLAG_W,NITRIT,NITRIT_FLAG_W,PHSPHT,PHSPHT_FLAG_W,THETA
,,,,,,,,,,,,DBAR,DEG C,PSS-78,,PSS-78,,UMOL/KG,,UMOL/KG,,UMOL/KG,,UMOL/KG,,DEG C
    49RY9011_1,  PR02,RY7822,  1,      1,      1,2,19901103,1041, 34.0000, 137.0167, 1166,      3.0,  21.8750,  34.0010,2,-999.0000,9,    223.0,2,     0.00,2,     0.10,2,     0.10,2, 21.8740
    49RY9011_1,  PR02,RY7822,  1,      2,      2,2,19901103,1041, 34.0000, 137.0167, 1166,     10.0,  21.9110,  34.0120,2,-999.0000,9,    227.0,2,     0.00,2,     0.08,2,     0.11,2, 21.9090
    49RY9011_1,  PR02,RY7822,  1,      3,      3,2,19901103,1041, 34.0000, 137.0167, 1166,     25.0,  21.8860,  34.0020,2,-999.0000,9,    228.0,2,     0.00,2,     0.07,2,     0.10,2, 21.8810
    49RY9011_1,  PR02,RY7822,  1,      4,      4,2,19901103,1041, 34.0000, 137.0167, 1166,     50.0,  21.8800,  34.0010,2,-999.0000,9,    225.0,2,     0.00,2,     0.09,2,     0.08,2, 21.8700
    49RY9011_1,  PR02,RY7822,  1,      5,      5,2,19901103,1041, 34.0000, 137.0167, 1166,     75.0,  21.8040,  34.1360,2,-999.0000,9,    208.0,2,     0.80,2,     0.19,2,     0.18,2, 21.7890
    49RY9011_1,  PR02,RY7822,  1,      6,      6,2,19901103,1041, 34.0000, 137.0167, 1166,    100.0,  18.3590,  34.5830,2,-999.0000,9,    179.0,2,     6.90,2,     0.04,2,     0.62,2, 18.3420
    49RY9011_1,  PR02,RY7822,  1,      7,      7,2,19901103,1041, 34.0000, 137.0167, 1166,    125.0,  15.9980,  34.5970,2,-999.0000,9,    175.0,2,     9.80,2,     0.02,2,     0.81,2, 15.9780
    49RY9011_1,  PR02,RY7822,  1,      8,      8,2,19901103,1041, 34.0000, 137.0167, 1166,    150.0,  14.6960,  34.5690,2,-999.0000,9,    172.0,2,    11.70,2,     0.00,2,     0.94,2, 14.6740
    49RY9011_1,  PR02,RY7822,  1,      9,      9,2,19901103,1041, 34.0000, 137.0167, 1166,    175.0,  13.8550,  34.5340,2,-999.0000,9,    168.0,2,    13.10,2,     0.00,2,     1.04,2, 13.8300
    49RY9011_1,  PR02,RY7822,  1,     10,     10,2,19901103,1041, 34.0000, 137.0167, 1166,    202.0,  12.9940,  34.4930,2,-999.0000,9,    164.0,2,    15.00,2,     0.00,2,     1.17,2, 12.9660
    49RY9011_1,  PR02,RY7822,  1,     11,     11,2,19901103,1041, 34.0000, 137.0167, 1166,    251.0,  11.5280,  34.4260,2,-999.0000,9,    155.0,2,    18.10,2,     0.02,2,     1.40,2, 11.4960
    49RY9011_1,  PR02,RY7822,  1,     12,     12,2,19901103,1041, 34.0000, 137.0167, 1166,    301.0,  10.2350,  34.3630,2,-999.0000,9,    148.0,2,    21.20,2,     0.05,2,     1.61,2, 10.2000
    49RY9011_1,  PR02,RY7822,  2,     13,     13,2,19901103,1143, 34.0000, 137.0167, 1166,    403.0,   8.1530,  34.2850,2,-999.0000,9,    130.0,2,    26.70,2,     0.00,2,     1.79,2,  8.1120
    49RY9011_1,  PR02,RY7822,  2,     14,     14,2,19901103,1143, 34.0000, 137.0167, 1166,    504.0,   6.2770,  34.2740,2,-999.0000,9,    103.0,2,    32.60,2,     0.00,2,     2.25,2,  6.2320
    49RY9011_1,  PR02,RY7822,  2,     15,     15,2,19901103,1143, 34.0000, 137.0167, 1166,    605.0,   5.5670,  34.2870,2,-999.0000,9,     92.0,2,    34.80,2,     0.00,2,     2.42,2,  5.5160
    49RY9011_1,  PR02,RY7822,  2,     16,     16,2,19901103,1143, 34.0000, 137.0167, 1166,    704.0,   4.7110,  34.3260,2,-999.0000,9,     80.0,2,    37.40,2,     0.00,2,     2.56,2,  4.6560
    49RY9011_1,  PR02,RY7822,  2,     17,     17,2,19901103,1143, 34.0000, 137.0167, 1166,    805.0,   4.2110,  34.3590,2,-999.0000,9,     72.0,2,    38.60,2,     0.00,2,     2.80,2,  4.1500
    49RY9011_1,  PR02,RY7822,  2,     18,     18,2,19901103,1143, 34.0000, 137.0167, 1166,    905.0,   3.7060,  34.4040,2,-999.0000,9,     73.0,2,    39.40,2,     0.00,2,     2.88,2,  3.6400
    49RY9011_1,  PR02,RY7822,  2,     19,     19,2,19901103,1143, 34.0000, 137.0167, 1166,   1006.0,   3.3120,  34.4390,2,-999.0000,9,     73.0,2,    40.10,2,     0.00,2,     2.90,2,  3.2410
    49RY9011_1,  PR02,RY7823,  1,      1,      1,2,19901103,1719, 32.9333, 137.0167, 3991,      3.0,  24.5010,  34.4020,2,  34.4010,2,    211.0,2,     0.60,2,     0.08,2,     0.02,2, 24.5000
    49RY9011_1,  PR02,RY7823,  1,      2,      2,2,19901103,1719, 32.9333, 137.0167, 3991,     10.0,  24.5020,  34.3990,2,  34.3980,2,    212.0,2,     0.00,2,     0.00,2,     0.02,2, 24.5000
    49RY9011_1,  PR02,RY7823,  1,      3,      3,2,19901103,1719, 32.9333, 137.0167, 3991,     24.0,  24.5060,  34.4010,2,  34.4000,2,    211.0,2,     0.00,2,     0.01,2,     0.01,2, 24.5010
    49RY9011_1,  PR02,RY7823,  1,      4,      4,2,19901103,1719, 32.9333, 137.0167, 3991,     51.0,  24.0760,  34.3270,2,  34.3300,2,    210.0,2,     0.20,2,     0.10,2,     0.02,2, 24.0650
    49RY9011_1,  PR02,RY7823,  1,      5,      5,2,19901103,1719, 32.9333, 137.0167, 3991,     74.0,  23.2160,  34.2000,2,  34.2020,2,    208.0,2,     0.30,2,     0.18,2,     0.05,2, 23.2010
    49RY9011_1,  PR02,RY7823,  1,      6,      6,2,19901103,1719, 32.9333, 137.0167, 3991,    101.0,  22.2160,  34.1390,2,  34.1390,2,    192.0,2,     0.70,2,     0.22,2,     0.12,2, 22.1960
    49RY9011_1,  PR02,RY7823,  1,      7,      7,2,19901103,1719, 32.9333, 137.0167, 3991,    125.0,  20.1820,  34.4600,2,  34.4560,2,    180.0,2,     5.30,2,     0.12,2,     0.42,2, 20.1590
    49RY9011_1,  PR02,RY7823,  1,      8,      8,2,19901103,1719, 32.9333, 137.0167, 3991,    152.0,  17.1590,  34.5870,2,  34.5850,2,    175.0,2,     8.40,2,     0.03,2,     0.66,2, 17.1340
    49RY9011_1,  PR02,RY7823,  1,      9,      9,2,19901103,1719, 32.9333, 137.0167, 3991,    176.0,  15.0970,  34.5910,2,  34.5920,2,    170.0,2,    11.30,2,     0.00,2,     0.87,2, 15.0700
    49RY9011_1,  PR02,RY7823,  1,     10,     10,2,19901103,1719, 32.9333, 137.0167, 3991,    202.0,  14.0170,  34.5660,2,  34.5500,2,    166.0,2,    13.10,2,     0.00,2,     1.01,2, 13.9880
    49RY9011_1,  PR02,RY7823,  1,     11,     11,2,19901103,1719, 32.9333, 137.0167, 3991,    252.0,  12.0310,  34.4590,2,  34.4590,2,    158.0,2,    17.00,2,     0.01,2,     1.27,2, 11.9980
    49RY9011_1,  PR02,RY7823,  1,     12,     12,2,19901103,1719, 32.9333, 137.0167, 3991,    302.0,  10.6720,  34.3940,2,  34.4350,2,    148.0,2,    20.20,2,     0.00,2,     1.50,2, 10.6360
    49RY9011_1,  PR02,RY7823,  1,     13,     13,2,19901103,1719, 32.9333, 137.0167, 3991,    402.0,   8.2060,  34.2980,2,  34.3080,2,    128.0,2,    26.40,2,     0.02,2,     1.94,2,  8.1650
    49RY9011_1,  PR02,RY7823,  2,     14,     14,2,19901103,1937, 32.9333, 137.0167, 3991,    504.0,   6.8280,  34.3020,2,  34.3030,2,    106.0,2,    31.20,2,     0.00,2,     2.28,2,  6.7810
    49RY9011_1,  PR02,RY7823,  2,     15,     15,2,19901103,1937, 32.9333, 137.0167, 3991,    606.0,   5.1380,  34.2310,2,  34.2400,2,     82.0,2,    36.20,2,     0.00,2,     2.64,2,  5.0890
    49RY9011_1,  PR02,RY7823,  2,     16,     16,2,19901103,1937, 32.9333, 137.0167, 3991,    706.0,   4.7700,  34.3220,2,  34.3220,2,     81.0,2,    37.30,2,     0.00,2,     2.71,2,  4.7140
    49RY9011_1,  PR02,RY7823,  2,     17,     17,2,19901103,1937, 32.9333, 137.0167, 3991,    807.0,   4.1070,  34.3620,2,  34.3630,2,     68.0,2,    39.00,2,     0.00,2,     2.84,2,  4.0470
    49RY9011_1,  PR02,RY7823,  2,     18,     18,2,19901103,1937, 32.9333, 137.0167, 3991,    910.0,   3.7130,  34.4000,2,  34.4000,2,     70.0,2,    39.40,2,     0.00,2,     2.86,2,  3.6470
    49RY9011_1,  PR02,RY7823,  2,     19,     19,2,19901103,1937, 32.9333, 137.0167, 3991,   1011.0,   3.4380,  34.4280,2,  34.4290,2,     70.0,2,    39.80,2,     0.00,2,     2.87,2,  3.3660
    49RY9011_1,  PR02,RY7823,  2,     20,     20,2,19901103,1937, 32.9333, 137.0167, 3991,   1263.0,   2.9240,  34.4830,2,  34.4840,2,     75.0,2,    40.00,2,     0.00,2,     2.88,2,  2.8360
    49RY9011_1,  PR02,RY7823,  2,     21,     21,2,19901103,1937, 32.9333, 137.0167, 3991,   1516.0,   2.5610,  34.5270,2,  34.5300,2,     86.0,2,    39.80,2,     0.00,2,     2.88,2,  2.4570
    49RY9011_1,  PR02,RY7823,  2,     22,     22,2,19901103,1937, 32.9333, 137.0167, 3991,   2024.0,   1.9980,  34.6010,2,  34.6020,2,    114.0,2,    38.50,2,     0.00,2,     2.76,2,  1.8600
    49RY9011_1,  PR02,RY7823,  2,     23,     23,2,19901103,1937, 32.9333, 137.0167, 3991,   2530.0,   1.6820,  34.6460,2,  34.6480,2,    137.0,2,    37.20,2,     0.00,2,     2.65,2,  1.5050
    49RY9011_1,  PR02,RY7823,  2,     24,     24,2,19901103,1937, 32.9333, 137.0167, 3991,   3041.0,   1.5320,  34.6680,2,  34.6680,2,    150.0,2,    36.50,2,     0.00,2,     2.60,2,  1.3110
    49RY9011_1,  PR02,RY7825,  1,      1,      1,2,19901104,1456, 31.0000, 137.1667, 4199,      2.0,  25.0500,  34.6420,2,-999.0000,9,    208.0,2,     0.00,2,  -999.00,9,     0.07,2, 25.0500
    49RY9011_1,  PR02,RY7825,  1,      2,      2,2,19901104,1456, 31.0000, 137.1667, 4199,     12.0,  25.0660,  34.6420,2,-999.0000,9,    208.0,2,     0.00,2,  -999.00,9,     0.06,2, 25.0630
    49RY9011_1,  PR02,RY7825,  1,      3,      3,2,19901104,1456, 31.0000, 137.1667, 4199,     26.0,  25.0640,  34.6420,2,-999.0000,9,    209.0,2,     0.00,2,  -999.00,9,     0.05,2, 25.0580
    49RY9011_1,  PR02,RY7825,  1,      4,      4,2,19901104,1456, 31.0000, 137.1667, 4199,     51.0,  25.0600,  34.6430,2,-999.0000,9,    208.0,2,     0.00,2,  -999.00,9,     0.04,2, 25.0490
    49RY9011_1,  PR02,RY7825,  1,      5,      5,2,19901104,1456, 31.0000, 137.1667, 4199,     78.0,  24.9430,  34.6080,2,-999.0000,9,    207.0,2,     0.00,2,  -999.00,9,     0.06,2, 24.9260
    49RY9011_1,  PR02,RY7825,  1,      6,      6,2,19901104,1456, 31.0000, 137.1667, 4199,    102.0,  21.9820,  34.8280,2,-999.0000,9,    216.0,2,     0.10,2,  -999.00,9,     0.10,2, 21.9620
    49RY9011_1,  PR02,RY7825,  1,      7,      7,2,19901104,1456, 31.0000, 137.1667, 4199,    126.0,  20.5820,  34.8450,2,-999.0000,9,    206.0,2,     0.80,2,  -999.00,9,     0.08,2, 20.5580
    49RY9011_1,  PR02,RY7825,  1,      8,      8,2,19901104,1456, 31.0000, 137.1667, 4199,    152.0,  19.9320,  34.8380,2,-999.0000,9,    208.0,2,     1.20,2,  -999.00,9,     0.10,2, 19.9040
    49RY9011_1,  PR02,RY7825,  1,      9,      9,2,19901104,1456, 31.0000, 137.1667, 4199,    177.0,  19.4020,  34.8420,2,-999.0000,9,    207.0,2,     1.60,2,  -999.00,9,     0.10,2, 19.3700
    49RY9011_1,  PR02,RY7825,  1,     10,     10,2,19901104,1456, 31.0000, 137.1667, 4199,    203.0,  18.9320,  34.8320,2,-999.0000,9,    205.0,2,     1.90,2,  -999.00,9,     0.08,2, 18.8960
    49RY9011_1,  PR02,RY7825,  1,     11,     11,2,19901104,1456, 31.0000, 137.1667, 4199,    252.0,  18.1000,  34.8120,2,-999.0000,9,    198.0,2,     3.70,2,  -999.00,9,     0.26,2, 18.0570
    49RY9011_1,  PR02,RY7825,  1,     12,     12,2,19901104,1456, 31.0000, 137.1667, 4199,    303.0,  17.4610,  34.7890,2,-999.0000,9,    195.0,2,     4.70,2,  -999.00,9,     0.31,2, 17.4100
    49RY9011_1,  PR02,RY7825,  1,     13,     13,2,19901104,1456, 31.0000, 137.1667, 4199,    404.0,  15.9690,  34.6950,2,-999.0000,9,    189.0,2,     7.20,2,  -999.00,9,     0.46,2, 15.9050
    49RY9011_1,  PR02,RY7825,  2,     14,     14,2,19901104,1703, 31.0000, 137.1667, 4199,    505.0,  13.6230,  34.5290,2,-999.0000,9,    181.0,2,    12.00,2,  -999.00,9,     0.87,2, 13.5510
    49RY9011_1,  PR02,RY7825,  2,     15,     15,2,19901104,1703, 31.0000, 137.1667, 4199,    606.0,  10.9900,  34.3550,2,-999.0000,9,    166.0,2,    17.90,2,  -999.00,9,     1.29,2, 10.9140
    49RY9011_1,  PR02,RY7825,  2,     16,     16,2,19901104,1703, 31.0000, 137.1667, 4199,    707.0,   8.9510,  34.2540,2,-999.0000,9,    145.0,2,    23.10,2,  -999.00,9,     1.55,2,  8.8730
    49RY9011_1,  PR02,RY7825,  2,     17,     17,2,19901104,1703, 31.0000, 137.1667, 4199,    809.0,   7.1500,  34.2080,2,-999.0000,9,    120.0,2,    29.00,2,  -999.00,9,     2.17,2,  7.0710
    49RY9011_1,  PR02,RY7825,  2,     18,     18,2,19901104,1703, 31.0000, 137.1667, 4199,    907.0,   5.8920,  34.2380,2,-999.0000,9,     95.0,2,    33.50,2,  -999.00,9,     2.46,2,  5.8110
    49RY9011_1,  PR02,RY7825,  2,     19,     19,2,19901104,1703, 31.0000, 137.1667, 4199,   1009.0,   4.6990,  34.3030,2,-999.0000,9,     74.0,2,    37.30,2,  -999.00,9,     2.77,2,  4.6180
    49RY9011_1,  PR02,RY7825,  2,     20,     20,2,19901104,1703, 31.0000, 137.1667, 4199,   1262.0,   3.4470,  34.4310,2,-999.0000,9,     69.0,2,    39.20,2,  -999.00,9,     2.90,2,  3.3550
    49RY9011_1,  PR02,RY7825,  2,     21,     21,2,19901104,1703, 31.0000, 137.1667, 4199,   1514.0,   2.9080,  34.4890,2,-999.0000,9,     80.0,2,    39.20,2,  -999.00,9,     2.84,2,  2.8000
    49RY9011_1,  PR02,RY7825,  2,     22,     22,2,19901104,1703, 31.0000, 137.1667, 4199,   2021.0,   2.1450,  34.5830,2,-999.0000,9,    105.0,2,    38.70,2,  -999.00,9,     2.82,2,  2.0050
    49RY9011_1,  PR02,RY7825,  2,     23,     23,2,19901104,1703, 31.0000, 137.1667, 4199,   2530.0,   1.7820,  34.6330,2,-999.0000,9,    127.0,2,    37.00,2,  -999.00,9,     2.69,2,  1.6030
    49RY9011_1,  PR02,RY7825,  2,     24,     24,2,19901104,1703, 31.0000, 137.1667, 4199,   3041.0,   1.5940,  34.6600,2,-999.0000,9,    142.0,2,    36.30,2,  -999.00,9,     2.63,2,  1.3710
    49RY9011_1,  PR02,RY7825,  2,     25,     25,2,19901104,1703, 31.0000, 137.1667, 4199,   4065.0,   1.5400,  34.6780,2,-999.0000,9,    155.0,2,    35.60,2,  -999.00,9,     2.59,2,  1.2130
    49RY9011_1,  PR02,RY7826,  1,      1,      1,2,19901104,2340, 30.0000, 137.0167, 4519,      2.0,  24.8970,  34.6890,2,  34.7030,2,    209.0,2,     0.10,2,     0.06,2,     0.04,2, 24.8970
    49RY9011_1,  PR02,RY7826,  1,      2,      2,2,19901104,2340, 30.0000, 137.0167, 4519,     10.0,  24.8970,  34.6890,2,  34.6950,2,    210.0,2,     0.00,2,     0.00,2,     0.07,2, 24.8950
    49RY9011_1,  PR02,RY7826,  1,      3,      3,2,19901104,2340, 30.0000, 137.0167, 4519,     25.0,  24.9060,  34.6890,2,  34.6870,2,    208.0,2,     0.00,2,     0.00,2,     0.05,2, 24.9010
    49RY9011_1,  PR02,RY7826,  1,      4,      4,2,19901104,2340, 30.0000, 137.0167, 4519,     49.0,  24.9100,  34.6880,2,  34.6890,2,    207.0,2,     0.00,2,     0.00,2,     0.03,2, 24.8990
    49RY9011_1,  PR02,RY7826,  1,      5,      5,2,19901104,2340, 30.0000, 137.0167, 4519,     76.0,  24.9120,  34.6890,2,  34.6870,2,    207.0,2,     0.00,2,     0.00,2,     0.06,2, 24.8960
    49RY9011_1,  PR02,RY7826,  1,      6,      6,2,19901104,2340, 30.0000, 137.0167, 4519,    101.0,  21.9340,  34.8010,2,  34.8010,2,    212.0,2,     0.20,2,     0.12,2,     0.08,2, 21.9140
    49RY9011_1,  PR02,RY7826,  1,      7,      7,2,19901104,2340, 30.0000, 137.0167, 4519,    125.0,  20.7360,  34.8370,2,  34.8400,2,    201.0,2,     0.90,2,     0.05,2,     0.14,2, 20.7120
    49RY9011_1,  PR02,RY7826,  1,      8,      8,2,19901104,2340, 30.0000, 137.0167, 4519,    151.0,  19.8330,  34.8350,2,  34.8370,2,    203.0,2,     1.40,2,     0.02,2,     0.18,2, 19.8050
    49RY9011_1,  PR02,RY7826,  1,      9,      9,2,19901104,2340, 30.0000, 137.0167, 4519,    176.0,  19.2020,  34.8310,2,  34.8320,2,    204.0,2,     1.90,2,     0.01,2,     0.21,2, 19.1700
    49RY9011_1,  PR02,RY7826,  1,     10,     10,2,19901104,2340, 30.0000, 137.0167, 4519,    200.0,  18.7360,  34.8290,2,  34.8290,2,    200.0,2,     2.70,2,     0.01,2,     0.26,2, 18.7010
    49RY9011_1,  PR02,RY7826,  1,     11,     11,2,19901104,2340, 30.0000, 137.0167, 4519,    253.0,  17.8180,  34.8010,2,  34.8020,2,    205.0,2,     3.00,2,     0.01,2,     0.34,2, 17.7750
    49RY9011_1,  PR02,RY7826,  1,     12,     12,2,19901104,2340, 30.0000, 137.0167, 4519,    301.0,  17.1150,  34.7710,2,  34.7770,2,    195.0,2,     5.20,2,     0.00,2,     0.47,2, 17.0650
    49RY9011_1,  PR02,RY7826,  1,     13,     13,2,19901104,2340, 30.0000, 137.0167, 4519,    403.0,  15.5430,  34.6660,2,  34.6710,2,    188.0,2,     7.90,2,     0.01,2,     0.68,2, 15.4800
    49RY9011_1,  PR02,RY7826,  2,     14,     14,2,19901105,0117, 30.0000, 137.0167, 4519,    504.0,  13.4210,  34.5130,2,  34.5110,2,    180.0,2,    12.30,2,     0.00,2,     0.97,2, 13.3500
    49RY9011_1,  PR02,RY7826,  2,     15,     15,2,19901105,0117, 30.0000, 137.0167, 4519,    603.0,  10.8850,  34.3270,2,  34.3180,2,    169.0,2,    17.40,2,     0.00,2,     1.31,2, 10.8100
    49RY9011_1,  PR02,RY7826,  2,     16,     16,2,19901105,0117, 30.0000, 137.0167, 4519,    704.0,   8.7800,  34.2200,2,  34.2140,2,    148.0,2,    23.40,2,     0.00,2,     1.81,2,  8.7030
    49RY9011_1,  PR02,RY7826,  2,     17,     17,2,19901105,0117, 30.0000, 137.0167, 4519,    806.0,   7.1060,  34.2290,2,  34.2350,2,    115.0,2,    29.60,2,     0.00,2,     2.25,2,  7.0280
    49RY9011_1,  PR02,RY7826,  2,     18,     18,2,19901105,0117, 30.0000, 137.0167, 4519,    908.0,   5.7620,  34.2690,2,  34.2680,2,     90.0,2,    34.10,2,     0.00,2,     2.60,2,  5.6820
    49RY9011_1,  PR02,RY7826,  2,     19,     19,2,19901105,0117, 30.0000, 137.0167, 4519,   1008.0,   4.6660,  34.3210,2,  34.3250,2,     74.0,2,    37.30,2,     0.00,2,     2.76,2,  4.5850
    49RY9011_1,  PR02,RY7826,  2,     20,     20,2,19901105,0117, 30.0000, 137.0167, 4519,   1260.0,   3.3160,  34.4420,2,  34.4400,2,     70.0,2,    39.60,2,     0.00,2,     2.97,2,  3.2250
    49RY9011_1,  PR02,RY7826,  2,     21,     21,2,19901105,0117, 30.0000, 137.0167, 4519,   1515.0,   2.7780,  34.5010,2,  34.4970,2,     80.0,2,    39.70,2,     0.00,2,     2.93,2,  2.6720
    49RY9011_1,  PR02,RY7826,  2,     22,     22,2,19901105,0117, 30.0000, 137.0167, 4519,   2021.0,   2.2070,  34.5740,2,  34.5740,2,    101.0,2,    38.60,2,     0.00,2,     2.87,2,  2.0660
    49RY9011_1,  PR02,RY7826,  2,     23,     23,2,19901105,0117, 30.0000, 137.0167, 4519,   2533.0,   1.8040,  34.6300,2,  34.6300,2,    127.0,2,    37.50,2,     0.00,2,     2.78,2,  1.6240
    49RY9011_1,  PR02,RY7826,  2,     24,     24,2,19901105,0117, 30.0000, 137.0167, 4519,   3039.0,   1.6260,  34.6580,2,  34.6570,2,    142.0,2,    36.60,2,     0.00,2,     2.68,2,  1.4030
    49RY9011_1,  PR02,RY7826,  2,     25,     25,2,19901105,0117, 30.0000, 137.0167, 4519,   4063.0,   1.5410,  34.6770,2,  34.6750,2,    157.0,2,    35.70,2,     0.00,2,     2.62,2,  1.2140