BOTTLE,20220930CCHSIOAMB
EXPOCODE,SECT_ID,STNNBR,CASTNO,SAMPNO,BTLNBR,BTLNBR_FLAG_W,DATE,TIME,LATITUDE,LONGITUDE,DEPTH,CTDPRS,CTDTMP,CTDSAL,CTDSAL_FLAG_W,SALNTY,SALNTY_FLAG_W,OXYGEN,OXYGEN_FLAG_W,NITRAT,NITRAT_FLAG_W,NITRIT,NITRIT_FLAG_W,PHSPHT,PHSPHT_FLAG_W,THETA
,,,,,,,,,,,,DBAR,DEG C,PSS-78,,PSS-78,,UMOL/KG,,UMOL/KG,,UMOL/KG,,UMOL/KG,,DEG C
    49RY9011_2,  PR02,RY7839,  1,      1,      1,2,19901121,1129, 17.0000, 137.0000, 4473,      2.0,  28.2600,  34.2750,2,-999.0000,9,    201.0,2,     0.10,2,     0.00,2,     0.05,2, 28.2600
    49RY9011_2,  PR02,RY7839,  1,      2,      2,2,19901121,1129, 17.0000, 137.0000, 4473,     11.0,  28.2700,  34.2750,2,-999.0000,9,    199.0,2,     0.10,2,     0.00,2,     0.03,2, 28.2670
    49RY9011_2,  PR02,RY7839,  1,      3,      3,2,19901121,1129, 17.0000, 137.0000, 4473,     25.0,  28.2750,  34.2770,2,-999.0000,9,    199.0,2,     0.10,2,     0.01,2,     0.04,2, 28.2690
    49RY9011_2,  PR02,RY7839,  1,      4,      4,2,19901121,1129, 17.0000, 137.0000, 4473,     50.0,  28.2710,  34.2840,2,-999.0000,9,    198.0,2,     0.10,2,     0.03,2,     0.03,2, 28.2590
    49RY9011_2,  PR02,RY7839,  1,      5,      5,2,19901121,1129, 17.0000, 137.0000, 4473,     76.0,  27.5540,  34.6290,2,-999.0000,9,    204.0,2,     0.00,2,     0.00,2,     0.04,2, 27.5360
    49RY9011_2,  PR02,RY7839,  1,      6,      6,2,19901121,1129, 17.0000, 137.0000, 4473,    101.0,  24.9390,  34.9510,2,-999.0000,9,    198.0,2,     0.00,2,     0.00,2,     0.04,2, 24.9170
    49RY9011_2,  PR02,RY7839,  1,      7,      7,2,19901121,1129, 17.0000, 137.0000, 4473,    126.0,  23.6750,  34.9920,2,-999.0000,9,    191.0,2,     0.10,2,     0.01,2,     0.05,2, 23.6490
    49RY9011_2,  PR02,RY7839,  1,      8,      8,2,19901121,1129, 17.0000, 137.0000, 4473,    153.0,  21.5470,  35.0230,2,-999.0000,9,    196.0,2,     0.30,2,     0.13,2,     0.05,2, 21.5170
    49RY9011_2,  PR02,RY7839,  1,      9,      9,2,19901121,1129, 17.0000, 137.0000, 4473,    174.0,  19.8830,  34.9680,2,-999.0000,9,    186.0,2,     2.30,2,     0.01,2,     0.18,2, 19.8510
    49RY9011_2,  PR02,RY7839,  1,     10,     10,2,19901121,1129, 17.0000, 137.0000, 4473,    199.0,  18.5790,  34.9030,2,-999.0000,9,    193.0,2,     2.90,2,     0.01,2,     0.33,2, 18.5440
    49RY9011_2,  PR02,RY7839,  1,     11,     11,2,19901121,1129, 17.0000, 137.0000, 4473,    250.0,  16.4100,  34.7520,2,-999.0000,9,    198.0,2,     5.60,2,     0.00,2,     0.48,2, 16.3700
    49RY9011_2,  PR02,RY7839,  1,     12,     12,2,19901121,1129, 17.0000, 137.0000, 4473,    302.0,  14.4870,  34.5900,2,-999.0000,9,    194.0,2,     8.80,2,     0.00,2,     0.61,2, 14.4420
    49RY9011_2,  PR02,RY7839,  1,     13,     13,2,19901121,1129, 17.0000, 137.0000, 4473,    403.0,   9.8550,  34.2510,2,-999.0000,9,    156.0,2,    20.80,2,     0.01,2,     1.52,2,  9.8090
    49RY9011_2,  PR02,RY7839,  2,     14,     14,2,19901121,1303, 17.0000, 137.0000, 4473,    503.0,   7.7650,  34.2460,2,-999.0000,9,    104.0,2,    30.00,2,     0.00,2,     2.20,2,  7.7150
    49RY9011_2,  PR02,RY7839,  2,     15,     15,2,19901121,1303, 17.0000, 137.0000, 4473,    605.0,   6.4590,  34.3540,2,-999.0000,9,     72.0,2,    35.30,2,     0.01,2,     2.58,2,  6.4040
    49RY9011_2,  PR02,RY7839,  2,     16,     16,2,19901121,1303, 17.0000, 137.0000, 4473,    706.0,   5.8200,  34.4160,2,-999.0000,9,     70.0,2,    36.90,2,     0.01,2,     2.67,2,  5.7580
    49RY9011_2,  PR02,RY7839,  2,     17,     17,2,19901121,1303, 17.0000, 137.0000, 4473,    805.0,   5.0680,  34.4750,2,-999.0000,9,     79.0,2,    38.80,2,     0.00,2,     2.71,2,  5.0020
    49RY9011_2,  PR02,RY7839,  2,     18,     18,2,19901121,1303, 17.0000, 137.0000, 4473,    907.0,   4.6690,  34.5000,2,-999.0000,9,     82.0,2,    38.20,2,     0.00,2,     2.72,2,  4.5960
    49RY9011_2,  PR02,RY7839,  2,     19,     19,2,19901121,1303, 17.0000, 137.0000, 4473,   1009.0,   4.1670,  34.5260,2,-999.0000,9,     87.0,2,    38.40,2,     0.00,2,     2.74,2,  4.0890
    49RY9011_2,  PR02,RY7839,  2,     20,     20,2,19901121,1303, 17.0000, 137.0000, 4473,   1261.0,   3.3310,  34.5630,2,-999.0000,9,     96.0,2,    38.90,2,     0.00,2,     2.72,2,  3.2390
    49RY9011_2,  PR02,RY7839,  2,     21,     21,2,19901121,1303, 17.0000, 137.0000, 4473,   1516.0,   2.7210,  34.5900,2,-999.0000,9,    104.0,2,    38.90,2,     0.00,2,     2.71,2,  2.6150
    49RY9011_2,  PR02,RY7839,  2,     22,     22,2,19901121,1303, 17.0000, 137.0000, 4473,   2023.0,   2.0830,  34.6280,2,-999.0000,9,    116.0,2,    39.50,2,     0.00,2,     2.66,2,  1.9430
    49RY9011_2,  PR02,RY7839,  2,     23,     23,2,19901121,1303, 17.0000, 137.0000, 4473,   2534.0,   1.7480,  34.6610,2,-999.0000,9,    132.0,2,    38.00,2,     0.00,2,     2.58,2,  1.5690
    49RY9011_2,  PR02,RY7839,  2,     24,     24,2,19901121,1303, 17.0000, 137.0000, 4473,   3040.0,   1.6170,  34.6730,2,-999.0000,9,    143.0,2,    37.40,2,     0.00,2,     2.50,2,  1.3940
    49RY9011_2,  PR02,RY7839,  2,     25,     25,2,19901121,1303, 17.0000, 137.0000, 4473,   4064.0,   1.5000,  34.6900,2,-999.0000,9,    158.0,2,    37.40,2,     0.00,2,     2.43,2,  1.1740
    49RY9011_2,  PR02,RY7840,  1,      1,      1,2,19901121,1851, 15.9667, 136.9667, 5254,      3.0,  28.3450,  34.3400,2,-999.0000,9,    200.0,2,     0.40,2,     0.05,2,     0.05,2, 28.3440
    49RY9011_2,  PR02,RY7840,  1,      2,      2,2,19901121,1851, 15.9667, 136.9667, 5254,     10.0,  28.3580,  34.3400,2,-999.0000,9,    199.0,2,     0.00,2,     0.00,2,     0.01,2, 28.3560
    49RY9011_2,  PR02,RY7840,  1,      3,      3,2,19901121,1851, 15.9667, 136.9667, 5254,     26.0,  28.3610,  34.3390,2,-999.0000,9,    199.0,2,     0.00,2,     0.00,2,     0.01,2, 28.3550
    49RY9011_2,  PR02,RY7840,  1,      4,      4,2,19901121,1851, 15.9667, 136.9667, 5254,     51.0,  28.3640,  34.3410,2,-999.0000,9,    199.0,2,     0.10,2,     0.00,2,     0.01,2, 28.3520
    49RY9011_2,  PR02,RY7840,  1,      5,      5,2,19901121,1851, 15.9667, 136.9667, 5254,     76.0,  27.4790,  34.7560,2,-999.0000,9,    208.0,2,     0.00,2,     0.00,2,     0.03,2, 27.4610
    49RY9011_2,  PR02,RY7840,  1,      6,      6,2,19901121,1851, 15.9667, 136.9667, 5254,    100.0,  26.1100,  34.9110,2,-999.0000,9,    203.0,2,     0.10,2,     0.00,2,     0.06,2, 26.0880
    49RY9011_2,  PR02,RY7840,  1,      7,      7,2,19901121,1851, 15.9667, 136.9667, 5254,    127.0,  24.3990,  35.0120,2,-999.0000,9,    194.0,2,     0.30,2,     0.16,2,     0.05,2, 24.3720
    49RY9011_2,  PR02,RY7840,  1,      8,      8,2,19901121,1851, 15.9667, 136.9667, 5254,    152.0,  23.0300,  35.0610,2,-999.0000,9,    180.0,2,     0.50,2,     0.02,2,     0.10,2, 22.9990
    49RY9011_2,  PR02,RY7840,  1,      9,      9,2,19901121,1851, 15.9667, 136.9667, 5254,    176.0,  20.2250,  34.9870,2,-999.0000,9,    177.0,2,     2.90,2,     0.01,2,     0.24,2, 20.1920
    49RY9011_2,  PR02,RY7840,  1,     10,     10,2,19901121,1851, 15.9667, 136.9667, 5254,    203.0,  18.1360,  34.8390,2,-999.0000,9,    164.0,2,     6.20,2,     0.02,2,     0.58,2, 18.1010
    49RY9011_2,  PR02,RY7840,  1,     11,     11,2,19901121,1851, 15.9667, 136.9667, 5254,    251.0,  15.7120,  34.6740,2,-999.0000,9,    178.0,2,     8.30,2,     0.02,2,     0.70,2, 15.6730
    49RY9011_2,  PR02,RY7840,  1,     12,     12,2,19901121,1851, 15.9667, 136.9667, 5254,    301.0,  13.1450,  34.4750,2,-999.0000,9,    160.0,2,    14.00,2,     0.00,2,     1.06,2, 13.1030
    49RY9011_2,  PR02,RY7840,  1,     13,     13,2,19901121,1851, 15.9667, 136.9667, 5254,    402.0,   9.4760,  34.2560,2,-999.0000,9,    136.0,2,    22.90,2,     0.01,2,     1.77,2,  9.4310
    49RY9011_2,  PR02,RY7840,  2,     14,     14,2,19901121,2046, 15.9667, 136.9667, 5254,    503.0,   6.9000,  34.3160,2,-999.0000,9,     71.0,2,    34.40,2,     0.00,2,     2.61,2,  6.8530
    49RY9011_2,  PR02,RY7840,  2,     15,     15,2,19901121,2046, 15.9667, 136.9667, 5254,    605.0,   6.0650,  34.4100,2,-999.0000,9,     70.0,2,    36.90,2,     0.01,2,     2.73,2,  6.0110
    49RY9011_2,  PR02,RY7840,  2,     16,     16,2,19901121,2046, 15.9667, 136.9667, 5254,    706.0,   5.4470,  34.4720,2,-999.0000,9,     75.0,2,    37.90,2,     0.01,2,     2.80,2,  5.3870
    49RY9011_2,  PR02,RY7840,  2,     17,     17,2,19901121,2046, 15.9667, 136.9667, 5254,    807.0,   4.9640,  34.4970,2,-999.0000,9,     81.0,2,    38.20,2,     0.00,2,     2.81,2,  4.8980
    49RY9011_2,  PR02,RY7840,  2,     18,     18,2,19901121,2046, 15.9667, 136.9667, 5254,    909.0,   4.5420,  34.5190,2,-999.0000,9,     84.0,2,    38.60,2,     0.00,2,     2.83,2,  4.4700
    49RY9011_2,  PR02,RY7840,  2,     19,     19,2,19901121,2046, 15.9667, 136.9667, 5254,   1010.0,   4.1660,  34.5370,2,-999.0000,9,     88.0,2,    38.90,2,     0.00,2,     2.85,2,  4.0880
    49RY9011_2,  PR02,RY7840,  2,     20,     20,2,19901121,2046, 15.9667, 136.9667, 5254,   1261.0,   3.4080,  34.5630,2,-999.0000,9,     94.0,2,    39.00,2,     0.00,2,     2.84,2,  3.3160
    49RY9011_2,  PR02,RY7840,  2,     21,     21,2,19901121,2046, 15.9667, 136.9667, 5254,   1514.0,   2.7790,  34.5870,2,-999.0000,9,    100.0,2,    39.30,2,     0.00,2,     2.84,2,  2.6730
    49RY9011_2,  PR02,RY7840,  2,     22,     22,2,19901121,2046, 15.9667, 136.9667, 5254,   2022.0,   2.0520,  34.6310,2,-999.0000,9,    117.0,2,    38.60,2,     0.00,2,     2.79,2,  1.9130
    49RY9011_2,  PR02,RY7840,  2,     23,     23,2,19901121,2046, 15.9667, 136.9667, 5254,   2530.0,   1.7380,  34.6580,2,-999.0000,9,    131.0,2,    38.00,2,     0.00,2,     2.69,2,  1.5600
    49RY9011_2,  PR02,RY7840,  2,     24,     24,2,19901121,2046, 15.9667, 136.9667, 5254,   3041.0,   1.6110,  34.6740,2,-999.0000,9,    139.0,2,    37.40,2,     0.00,2,     2.64,2,  1.3880
    49RY9011_2,  PR02,RY7840,  2,     25,     25,2,19901121,2046, 15.9667, 136.9667, 5254,   4059.0,   1.4970,  34.6890,2,-999.0000,9,    158.0,2,    36.00,2,     0.01,2,     2.50,2,  1.1720
    49RY9011_2,  PR02,RY7841,  1,      1,      1,2,19901122,0244, 14.9667, 136.9667, 5537,      1.0,  28.4090,  34.2420,2,  34.2490,2,    199.0,2,     0.00,2,     0.00,2,     0.01,2, 28.4090
    49RY9011_2,  PR02,RY7841,  1,      2,      2,2,19901122,0244, 14.9667, 136.9667, 5537,     11.0,  28.4060,  34.2420,2,  34.2420,2,    198.0,2,     0.00,2,     0.00,2,     0.03,2, 28.4030
    49RY9011_2,  PR02,RY7841,  1,      3,      3,2,19901122,0244, 14.9667, 136.9667, 5537,     26.0,  28.4120,  34.2420,2,  34.2430,2,    196.0,2,     0.00,2,     0.00,2,     0.01,2, 28.4060
    49RY9011_2,  PR02,RY7841,  1,      4,      4,2,19901122,0244, 14.9667, 136.9667, 5537,     49.0,  28.3970,  34.2420,2,  34.2420,2,    195.0,2,     0.00,2,     0.00,2,     0.01,2, 28.3850
    49RY9011_2,  PR02,RY7841,  1,      5,      5,2,19901122,0244, 14.9667, 136.9667, 5537,     75.0,  28.3900,  34.2480,2,  34.2500,2,    197.0,2,     0.00,2,     0.00,2,     0.03,2, 28.3720
    49RY9011_2,  PR02,RY7841,  1,      6,      6,2,19901122,0244, 14.9667, 136.9667, 5537,    100.0,  25.4890,  34.9310,2,  34.9410,2,    195.0,2,     0.00,2,     0.00,2,     0.06,2, 25.4670
    49RY9011_2,  PR02,RY7841,  1,      7,      7,2,19901122,0244, 14.9667, 136.9667, 5537,    127.0,  23.6500,  35.0580,2,  35.0580,2,    189.0,2,     0.20,2,     0.13,2,     0.08,2, 23.6240
    49RY9011_2,  PR02,RY7841,  1,      8,      8,2,19901122,0244, 14.9667, 136.9667, 5537,    151.0,  21.7130,  35.0660,2,  35.0450,2,    178.0,2,     1.40,2,     0.02,2,     0.20,2, 21.6830
    49RY9011_2,  PR02,RY7841,  1,      9,      9,2,19901122,0244, 14.9667, 136.9667, 5537,    176.0,  18.9520,  34.8800,2,  34.8820,2,    164.0,2,     5.20,2,     0.01,2,     0.59,2, 18.9210
    49RY9011_2,  PR02,RY7841,  1,     10,     10,2,19901122,0244, 14.9667, 136.9667, 5537,    201.0,  16.7930,  34.7420,2,  34.7280,2,    160.0,2,     8.50,2,     0.02,2,     0.83,2, 16.7600
    49RY9011_2,  PR02,RY7841,  1,     11,     11,2,19901122,0244, 14.9667, 136.9667, 5537,    252.0,  14.0500,  34.5450,2,  34.5460,2,    163.0,2,    12.20,2,     0.00,2,     1.01,2, 14.0140
    49RY9011_2,  PR02,RY7841,  1,     12,     12,2,19901122,0244, 14.9667, 136.9667, 5537,    302.0,  11.7430,  34.3800,2,  34.3770,2,    166.0,2,    15.70,2,     0.00,2,     1.28,2, 11.7040
    49RY9011_2,  PR02,RY7841,  1,     13,     13,2,19901122,0244, 14.9667, 136.9667, 5537,    401.0,   8.5530,  34.3120,2,  34.3130,2,     80.0,2,    27.80,2,     0.00,2,     2.16,2,  8.5110
    49RY9011_2,  PR02,RY7841,  2,     14,     14,2,19901122,0456, 14.9667, 136.9667, 5537,    506.0,   6.9790,  34.4040,2,  34.4030,2,     69.0,2,    34.20,2,     0.00,2,     2.55,2,  6.9310
    49RY9011_2,  PR02,RY7841,  2,     15,     15,2,19901122,0456, 14.9667, 136.9667, 5537,    604.0,   6.0010,  34.4560,2,  34.4540,2,     73.0,2,    36.10,2,     0.00,2,     2.67,2,  5.9480
    49RY9011_2,  PR02,RY7841,  2,     16,     16,2,19901122,0456, 14.9667, 136.9667, 5537,    706.0,   5.3570,  34.4880,2,  34.4840,2,     79.0,2,    37.00,2,     0.00,2,     2.72,2,  5.2980
    49RY9011_2,  PR02,RY7841,  2,     17,     17,2,19901122,0456, 14.9667, 136.9667, 5537,    808.0,   4.8350,  34.5130,2,  34.5150,2,     83.0,2,    37.40,2,     0.00,2,     2.78,2,  4.7700
    49RY9011_2,  PR02,RY7841,  2,     18,     18,2,19901122,0456, 14.9667, 136.9667, 5537,    906.0,   4.3920,  34.5370,2,  34.5370,2,     86.0,2,    37.90,2,     0.00,2,     2.76,2,  4.3210
    49RY9011_2,  PR02,RY7841,  2,     19,     19,2,19901122,0456, 14.9667, 136.9667, 5537,   1009.0,   4.0640,  34.5460,2,  34.5420,2,     90.0,2,    38.10,2,     0.00,2,     2.78,2,  3.9870
    49RY9011_2,  PR02,RY7841,  2,     20,     20,2,19901122,0456, 14.9667, 136.9667, 5537,   1260.0,   3.3230,  34.5700,2,  34.5680,2,     94.0,2,    38.20,2,     0.00,2,     2.77,2,  3.2320
    49RY9011_2,  PR02,RY7841,  2,     21,     21,2,19901122,0456, 14.9667, 136.9667, 5537,   1515.0,   2.7900,  34.5950,2,  34.5880,2,    101.0,2,    38.30,2,     0.00,2,     2.74,2,  2.6830
    49RY9011_2,  PR02,RY7841,  2,     22,     22,2,19901122,0456, 14.9667, 136.9667, 5537,   2023.0,   2.0830,  34.6360,2,  34.6340,2,    115.0,2,    37.90,2,     0.00,2,     2.71,2,  1.9430
    49RY9011_2,  PR02,RY7841,  2,     23,     23,2,19901122,0456, 14.9667, 136.9667, 5537,   2530.0,   1.7660,  34.6610,2,  34.6550,2,    131.0,2,    37.40,2,     0.00,2,     2.65,2,  1.5870
    49RY9011_2,  PR02,RY7841,  2,     24,     24,2,19901122,0456, 14.9667, 136.9667, 5537,   3039.0,   1.6310,  34.6730,2,  34.6700,2,    142.0,2,    36.60,2,     0.00,2,     2.59,2,  1.4080
    49RY9011_2,  PR02,RY7841,  2,     25,     25,2,19901122,0456, 14.9667, 136.9667, 5537,   4063.0,   1.4880,  34.6910,2,  34.6880,2,    158.0,2,    35.30,2,     0.00,2,     2.54,2,  1.1630
    49RY9011_2,  PR02,RY7842,  1,      1,      1,2,19901122,1050, 13.9833, 136.9833, 5001,      2.0,  28.6220,  34.0940,2,-999.0000,9,    197.0,2,     0.00,2,     0.00,2,     0.05,2, 28.6220
    49RY9011_2,  PR02,RY7842,  1,      2,      2,2,19901122,1050, 13.9833, 136.9833, 5001,     10.0,  28.6320,  34.0940,2,-999.0000,9,    196.0,2,     0.00,2,     0.00,2,     0.05,2, 28.6300
    49RY9011_2,  PR02,RY7842,  1,      3,      3,2,19901122,1050, 13.9833, 136.9833, 5001,     24.0,  28.6340,  34.0960,2,-999.0000,9,    199.0,2,     0.00,2,     0.00,2,     0.06,2, 28.6280
    49RY9011_2,  PR02,RY7842,  1,      4,      4,2,19901122,1050, 13.9833, 136.9833, 5001,     50.0,  28.6360,  34.0990,2,-999.0000,9,    196.0,2,     0.00,2,     0.00,2,     0.04,2, 28.6240
    49RY9011_2,  PR02,RY7842,  1,      5,      5,2,19901122,1050, 13.9833, 136.9833, 5001,     76.0,  27.7660,  34.5640,2,-999.0000,9,    198.0,2,     0.00,2,     0.00,2,     0.07,2, 27.7480
    49RY9011_2,  PR02,RY7842,  1,      6,      6,2,19901122,1050, 13.9833, 136.9833, 5001,    100.0,  25.7620,  34.8610,2,-999.0000,9,    194.0,2,     0.00,2,     0.00,2,     0.07,2, 25.7400
    49RY9011_2,  PR02,RY7842,  1,      7,      7,2,19901122,1050, 13.9833, 136.9833, 5001,    125.0,  22.8110,  34.9250,2,-999.0000,9,    171.0,2,     1.30,2,     0.11,2,     0.30,2, 22.7860
    49RY9011_2,  PR02,RY7842,  1,      8,      8,2,19901122,1050, 13.9833, 136.9833, 5001,    150.0,  20.5210,  34.8940,2,-999.0000,9,    161.0,2,     4.00,2,     0.04,2,     0.50,2, 20.4930
    49RY9011_2,  PR02,RY7842,  1,      9,      9,2,19901122,1050, 13.9833, 136.9833, 5001,    175.0,  18.2360,  34.7870,2,-999.0000,9,    151.0,2,     7.60,2,     0.03,2,     0.71,2, 18.2060
    49RY9011_2,  PR02,RY7842,  1,     10,     10,2,19901122,1050, 13.9833, 136.9833, 5001,    202.0,  15.9140,  34.6550,2,-999.0000,9,    152.0,2,    10.40,2,     0.02,2,     0.79,2, 15.8820
    49RY9011_2,  PR02,RY7842,  1,     11,     11,2,19901122,1050, 13.9833, 136.9833, 5001,    251.0,  12.8320,  34.4700,2,-999.0000,9,    149.0,2,    15.30,2,     0.02,2,     1.19,2, 12.7980
    49RY9011_2,  PR02,RY7842,  1,     12,     12,2,19901122,1050, 13.9833, 136.9833, 5001,    301.0,  10.6170,  34.3470,2,-999.0000,9,    135.0,2,    20.20,2,     0.01,2,     1.58,2, 10.5810
    49RY9011_2,  PR02,RY7842,  1,     13,     13,2,19901122,1050, 13.9833, 136.9833, 5001,    402.0,   7.8500,  34.3220,2,-999.0000,9,     83.0,2,    30.40,2,     0.03,2,     2.31,2,  7.8100
    49RY9011_2,  PR02,RY7842,  2,     14,     14,2,19901122,1232, 13.9833, 136.9833, 5001,    505.0,   6.6970,  34.4310,2,-999.0000,9,     74.0,2,    34.10,2,     0.02,2,     2.56,2,  6.6500
    49RY9011_2,  PR02,RY7842,  2,     15,     15,2,19901122,1232, 13.9833, 136.9833, 5001,    605.0,   5.9890,  34.4810,2,-999.0000,9,     79.0,2,    35.40,2,     0.01,2,     2.62,2,  5.9360
    49RY9011_2,  PR02,RY7842,  2,     16,     16,2,19901122,1232, 13.9833, 136.9833, 5001,    706.0,   5.4660,  34.5070,2,-999.0000,9,     86.0,2,    36.20,2,     0.00,2,     2.67,2,  5.4060
    49RY9011_2,  PR02,RY7842,  2,     17,     17,2,19901122,1232, 13.9833, 136.9833, 5001,    807.0,   4.9900,  34.5210,2,-999.0000,9,     87.0,2,    36.60,2,     0.01,2,     2.71,2,  4.9240
    49RY9011_2,  PR02,RY7842,  2,     18,     18,2,19901122,1232, 13.9833, 136.9833, 5001,    908.0,   4.4800,  34.5320,2,-999.0000,9,     91.0,2,    37.10,2,     0.00,2,     2.73,2,  4.4090
    49RY9011_2,  PR02,RY7842,  2,     19,     19,2,19901122,1232, 13.9833, 136.9833, 5001,   1009.0,   4.1240,  34.5480,2,-999.0000,9,     91.0,2,    37.60,2,     0.00,2,     2.75,2,  4.0470
    49RY9011_2,  PR02,RY7842,  2,     20,     20,2,19901122,1232, 13.9833, 136.9833, 5001,   1261.0,   3.3570,  34.5730,2,-999.0000,9,     96.0,2,    37.90,2,     0.00,2,     2.75,2,  3.2650
    49RY9011_2,  PR02,RY7842,  2,     21,     21,2,19901122,1232, 13.9833, 136.9833, 5001,   1517.0,   2.7590,  34.5980,2,-999.0000,9,    103.0,2,    38.00,2,     0.00,2,     2.74,2,  2.6520
    49RY9011_2,  PR02,RY7842,  2,     22,     22,2,19901122,1232, 13.9833, 136.9833, 5001,   2021.0,   2.0760,  34.6390,2,-999.0000,9,    121.0,2,    37.70,2,     0.00,2,     2.67,2,  1.9370
    49RY9011_2,  PR02,RY7842,  2,     23,     23,2,19901122,1232, 13.9833, 136.9833, 5001,   2534.0,   1.7740,  34.6600,2,-999.0000,9,    129.0,2,    37.10,2,     0.00,2,     2.62,2,  1.5950
    49RY9011_2,  PR02,RY7842,  2,     24,     24,2,19901122,1232, 13.9833, 136.9833, 5001,   3042.0,   1.6160,  34.6750,2,-999.0000,9,    140.0,2,    36.30,2,     0.00,2,     2.56,2,  1.3930
    49RY9011_2,  PR02,RY7842,  2,     25,     25,2,19901122,1232, 13.9833, 136.9833, 5001,   4066.0,   1.5070,  34.6900,2,-999.0000,9,    150.0,2,    35.40,2,     0.00,2,     2.51,2,  1.1810