BOTTLE,20220930CCHSIOAMB
EXPOCODE,SECT_ID,STNNBR,CASTNO,SAMPNO,BTLNBR,BTLNBR_FLAG_W,DATE,TIME,LATITUDE,LONGITUDE,DEPTH,CTDPRS,CTDTMP,CTDSAL,CTDSAL_FLAG_W,SALNTY,SALNTY_FLAG_W,OXYGEN,OXYGEN_FLAG_W,NITRAT,NITRAT_FLAG_W,NITRIT,NITRIT_FLAG_W,PHSPHT,PHSPHT_FLAG_W,THETA
,,,,,,,,,,,,DBAR,DEG C,PSS-78,,PSS-78,,UMOL/KG,,UMOL/KG,,UMOL/KG,,UMOL/KG,,DEG C
    49RY9011_2,  PR02,RY7835,  1,      1,      1,2,19901120,0439, 21.0000, 136.9833, 4821,      2.0,  27.4610,  34.6720,2,-999.0000,9,    205.0,2,     0.10,2,     0.00,2,     0.03,2, 27.4610
    49RY9011_2,  PR02,RY7835,  1,      2,      2,2,19901120,0439, 21.0000, 136.9833, 4821,     11.0,  27.4640,  34.6720,2,-999.0000,9,    209.0,2,     0.00,2,     0.00,2,     0.01,2, 27.4610
    49RY9011_2,  PR02,RY7835,  1,      3,      3,2,19901120,0439, 21.0000, 136.9833, 4821,     25.0,  27.4670,  34.6720,2,-999.0000,9,    205.0,2,     0.00,2,     0.00,2,     0.01,2, 27.4610
    49RY9011_2,  PR02,RY7835,  1,      4,      4,2,19901120,0439, 21.0000, 136.9833, 4821,     51.0,  27.4690,  34.6720,2,-999.0000,9,    203.0,2,     0.00,2,     0.00,2,     0.02,2, 27.4570
    49RY9011_2,  PR02,RY7835,  1,      5,      5,2,19901120,0439, 21.0000, 136.9833, 4821,     75.0,  27.4450,  34.6750,2,-999.0000,9,    202.0,2,     0.00,2,     0.00,2,     0.04,2, 27.4280
    49RY9011_2,  PR02,RY7835,  1,      6,      6,2,19901120,0439, 21.0000, 136.9833, 4821,    100.0,  23.0100,  34.9730,2,-999.0000,9,    207.0,2,     0.00,2,     0.00,2,     0.04,2, 22.9900
    49RY9011_2,  PR02,RY7835,  1,      7,      7,2,19901120,0439, 21.0000, 136.9833, 4821,    127.0,  21.5420,  34.9660,2,-999.0000,9,    203.0,2,     0.20,2,     0.05,2,     0.04,2, 21.5170
    49RY9011_2,  PR02,RY7835,  1,      8,      8,2,19901120,0439, 21.0000, 136.9833, 4821,    151.0,  19.8850,  34.9260,2,-999.0000,9,    200.0,2,     1.00,2,     0.01,2,     0.09,2, 19.8570
    49RY9011_2,  PR02,RY7835,  1,      9,      9,2,19901120,0439, 21.0000, 136.9833, 4821,    177.0,  18.7930,  34.8810,2,-999.0000,9,    199.0,2,     2.20,2,     0.00,2,     0.13,2, 18.7620
    49RY9011_2,  PR02,RY7835,  1,     10,     10,2,19901120,0439, 21.0000, 136.9833, 4821,    200.0,  17.9450,  34.8290,2,-999.0000,9,    201.0,2,     2.90,2,     0.00,2,     0.19,2, 17.9110
    49RY9011_2,  PR02,RY7835,  1,     11,     11,2,19901120,0439, 21.0000, 136.9833, 4821,    251.0,  16.6840,  34.7670,2,-999.0000,9,    198.0,2,     4.90,2,     0.00,2,     0.29,2, 16.6430
    49RY9011_2,  PR02,RY7835,  1,     12,     12,2,19901120,0439, 21.0000, 136.9833, 4821,    301.0,  15.6320,  34.7020,2,-999.0000,9,    196.0,2,     6.50,2,     0.00,2,     0.38,2, 15.5850
    49RY9011_2,  PR02,RY7835,  1,     13,     13,2,19901120,0439, 21.0000, 136.9833, 4821,    403.0,  12.8510,  34.4530,2,-999.0000,9,    171.0,2,    11.40,2,     0.00,2,     0.75,2, 12.7960
    49RY9011_2,  PR02,RY7835,  2,     14,     14,2,19901120,0622, 21.0000, 136.9833, 4821,    502.0,   9.9000,  34.2490,2,-999.0000,9,    169.0,2,    18.80,2,     0.00,2,     1.27,2,  9.8420
    49RY9011_2,  PR02,RY7835,  2,     15,     15,2,19901120,0622, 21.0000, 136.9833, 4821,    602.0,   7.4770,  34.1560,2,-999.0000,9,    120.0,2,    28.00,2,     0.00,2,     2.07,2,  7.4180
    49RY9011_2,  PR02,RY7835,  2,     16,     16,2,19901120,0622, 21.0000, 136.9833, 4821,    705.0,   5.8820,  34.1970,2,-999.0000,9,     80.0,2,    34.80,2,     0.00,2,     2.57,2,  5.8200
    49RY9011_2,  PR02,RY7835,  2,     17,     17,2,19901120,0622, 21.0000, 136.9833, 4821,    806.0,   4.7780,  34.2840,2,-999.0000,9,     62.0,2,    38.20,2,     0.00,2,     2.67,2,  4.7140
    49RY9011_2,  PR02,RY7835,  2,     18,     18,2,19901120,0622, 21.0000, 136.9833, 4821,    909.0,   4.1090,  34.3140,2,-999.0000,9,     59.0,2,    39.60,2,     0.00,2,     2.87,2,  4.0400
    49RY9011_2,  PR02,RY7835,  2,     19,     19,2,19901120,0622, 21.0000, 136.9833, 4821,   1010.0,   3.7510,  34.3990,2,-999.0000,9,     58.0,2,    40.10,2,     0.00,2,     2.81,2,  3.6770
    49RY9011_2,  PR02,RY7835,  2,     20,     20,2,19901120,0622, 21.0000, 136.9833, 4821,   1262.0,   2.9370,  34.5090,2,-999.0000,9,     75.0,2,    39.90,2,     0.00,2,     2.86,2,  2.8490
    49RY9011_2,  PR02,RY7835,  2,     21,     21,2,19901120,0622, 21.0000, 136.9833, 4821,   1515.0,   2.4880,  34.5740,2,-999.0000,9,     95.0,2,    38.60,2,     0.00,2,     2.73,2,  2.3850
    49RY9011_2,  PR02,RY7835,  2,     22,     22,2,19901120,0622, 21.0000, 136.9833, 4821,   2020.0,   2.0130,  34.6320,2,-999.0000,9,    117.0,2,    37.60,2,     0.00,2,     2.60,2,  1.8750
    49RY9011_2,  PR02,RY7835,  2,     23,     23,2,19901120,0622, 21.0000, 136.9833, 4821,   2529.0,   1.7400,  34.6570,2,-999.0000,9,    132.0,2,    36.70,2,     0.00,2,     2.55,2,  1.5620
    49RY9011_2,  PR02,RY7835,  2,     24,     24,2,19901120,0622, 21.0000, 136.9833, 4821,   3037.0,   1.6210,  34.6720,2,-999.0000,9,    142.0,2,    36.30,2,     0.00,2,     2.55,2,  1.3980
    49RY9011_2,  PR02,RY7835,  2,     25,     25,2,19901120,0622, 21.0000, 136.9833, 4821,   4063.0,   1.5090,  34.6890,2,-999.0000,9,    158.0,2,    35.10,2,     0.00,2,     2.39,2,  1.1830
    49RY9011_2,  PR02,RY7836,  1,      1,      1,2,19901121,1218, 20.0000, 136.9667, 4540,      2.0,  27.4940,  34.6410,2,  34.6600,2,    200.0,2,     0.00,2,     0.00,2,     0.04,2, 27.4940
    49RY9011_2,  PR02,RY7836,  1,      2,      2,2,19901121,1218, 20.0000, 136.9667, 4540,     10.0,  27.4990,  34.6400,2,  34.6420,2,    201.0,2,     0.00,2,     0.00,2,     0.01,2, 27.4970
    49RY9011_2,  PR02,RY7836,  1,      3,      3,2,19901121,1218, 20.0000, 136.9667, 4540,     23.0,  27.5030,  34.6400,2,  34.6420,2,    201.0,2,     0.00,2,     0.00,2,     0.04,2, 27.4980
    49RY9011_2,  PR02,RY7836,  1,      4,      4,2,19901121,1218, 20.0000, 136.9667, 4540,     50.0,  27.5110,  34.6400,2,  34.6420,2,    201.0,2,     0.00,2,     0.00,2,     0.02,2, 27.4990
    49RY9011_2,  PR02,RY7836,  1,      5,      5,2,19901121,1218, 20.0000, 136.9667, 4540,     77.0,  27.4060,  34.6500,2,  34.6660,2,    203.0,2,     0.00,2,     0.00,2,     0.02,2, 27.3880
    49RY9011_2,  PR02,RY7836,  1,      6,      6,2,19901121,1218, 20.0000, 136.9667, 4540,    100.0,  23.7620,  34.9660,2,  34.9930,2,    203.0,2,     0.00,2,     0.00,2,     0.01,2, 23.7410
    49RY9011_2,  PR02,RY7836,  1,      7,      7,2,19901121,1218, 20.0000, 136.9667, 4540,    124.0,  21.3450,  34.9720,2,  34.9660,2,    196.0,2,     0.80,2,     0.06,2,     0.08,2, 21.3210
    49RY9011_2,  PR02,RY7836,  1,      8,      8,2,19901121,1218, 20.0000, 136.9667, 4540,    150.0,  19.7150,  34.8720,2,  34.8800,2,    203.0,2,     1.20,2,     0.02,2,     0.08,2, 19.6880
    49RY9011_2,  PR02,RY7836,  1,      9,      9,2,19901121,1218, 20.0000, 136.9667, 4540,    173.0,  18.8490,  34.8550,2,  34.8590,2,    202.0,2,     2.10,2,     0.03,2,     0.11,2, 18.8180
    49RY9011_2,  PR02,RY7836,  1,     10,     10,2,19901121,1218, 20.0000, 136.9667, 4540,    201.0,  18.3650,  34.8400,2,  34.8570,2,    201.0,2,     2.70,2,     0.03,2,     0.17,2, 18.3300
    49RY9011_2,  PR02,RY7836,  1,     11,     11,2,19901121,1218, 20.0000, 136.9667, 4540,    255.0,  16.8470,  34.7750,2,  34.7830,2,    199.0,2,     4.90,2,     0.00,2,     0.30,2, 16.8050
    49RY9011_2,  PR02,RY7836,  1,     12,     12,2,19901121,1218, 20.0000, 136.9667, 4540,    300.0,  15.8920,  34.7050,2,  34.7100,2,    196.0,2,     6.60,2,     0.00,2,     0.45,2, 15.8450
    49RY9011_2,  PR02,RY7836,  1,     13,     13,2,19901121,1218, 20.0000, 136.9667, 4540,    405.0,  12.4800,  34.4250,2,  34.4450,2,    189.0,2,    12.60,2,     0.02,2,     0.92,2, 12.4260
    49RY9011_2,  PR02,RY7836,  2,     14,     14,2,19901121,1415, 20.0000, 136.9667, 4540,    504.0,   9.3480,  34.2580,2,  34.2580,2,    137.0,2,    23.20,2,     0.00,2,     1.74,2,  9.2920
    49RY9011_2,  PR02,RY7836,  2,     15,     15,2,19901121,1415, 20.0000, 136.9667, 4540,    605.0,   7.4560,  34.2220,2,  34.2200,2,    103.0,2,    30.20,2,     0.00,2,     2.27,2,  7.3960
    49RY9011_2,  PR02,RY7836,  2,     16,     16,2,19901121,1415, 20.0000, 136.9667, 4540,    706.0,   6.1290,  34.2780,2,  34.2840,2,     75.0,2,    35.60,2,     0.00,2,     2.64,2,  6.0660
    49RY9011_2,  PR02,RY7836,  2,     17,     17,2,19901121,1415, 20.0000, 136.9667, 4540,    806.0,   5.0400,  34.3140,2,  34.3200,2,     67.0,2,    38.30,2,     0.00,2,     2.79,2,  4.9740
    49RY9011_2,  PR02,RY7836,  2,     18,     18,2,19901121,1415, 20.0000, 136.9667, 4540,    907.0,   4.3100,  34.4040,2,  34.4030,2,     66.0,2,    38.70,2,     0.00,2,     2.85,2,  4.2400
    49RY9011_2,  PR02,RY7836,  2,     19,     19,2,19901121,1415, 20.0000, 136.9667, 4540,   1008.0,   3.7010,  34.4540,2,  34.4560,2,     68.0,2,    39.80,2,     0.00,2,     2.90,2,  3.6270
    49RY9011_2,  PR02,RY7836,  2,     20,     20,2,19901121,1415, 20.0000, 136.9667, 4540,   1260.0,   3.0140,  34.5310,2,  34.5310,2,     86.0,2,    39.40,2,     0.00,2,     2.86,2,  2.9260
    49RY9011_2,  PR02,RY7836,  2,     21,     21,2,19901121,1415, 20.0000, 136.9667, 4540,   1513.0,   2.5620,  34.5810,2,  34.5820,2,    100.0,2,    38.70,2,     0.00,2,     2.77,2,  2.4580
    49RY9011_2,  PR02,RY7836,  2,     22,     22,2,19901121,1415, 20.0000, 136.9667, 4540,   2022.0,   2.0280,  34.6310,2,  34.6330,2,    120.0,2,    37.90,2,     0.00,2,     2.67,2,  1.8890
    49RY9011_2,  PR02,RY7836,  2,     23,     23,2,19901121,1415, 20.0000, 136.9667, 4540,   2531.0,   1.7510,  34.6560,2,  34.6580,2,    132.0,2,    37.20,2,     0.00,2,     2.60,2,  1.5730
    49RY9011_2,  PR02,RY7836,  2,     24,     24,2,19901121,1415, 20.0000, 136.9667, 4540,   3041.0,   1.6230,  34.6720,2,  34.6720,2,    144.0,2,    36.50,2,     0.00,2,     2.55,2,  1.4000
    49RY9011_2,  PR02,RY7836,  2,     25,     25,2,19901121,1415, 20.0000, 136.9667, 4540,   4063.0,   1.5110,  34.6890,2,  34.6940,3,    161.0,2,    35.60,2,     0.00,2,     2.46,2,  1.1850
    49RY9011_2,  PR02,RY7837,  1,      1,      1,2,19901120,2022, 18.9833, 136.9833, 4683,      2.0,  27.7330,  34.5510,2,-999.0000,9,    200.0,2,     0.20,2,     0.04,2,     0.04,2, 27.7330
    49RY9011_2,  PR02,RY7837,  1,      2,      2,2,19901120,2022, 18.9833, 136.9833, 4683,      9.0,  27.7340,  34.5510,2,-999.0000,9,    201.0,2,     0.00,2,     0.00,2,     0.02,2, 27.7320
    49RY9011_2,  PR02,RY7837,  1,      3,      3,2,19901120,2022, 18.9833, 136.9833, 4683,     26.0,  27.7380,  34.5510,2,-999.0000,9,    201.0,2,     0.00,2,     0.00,2,     0.03,2, 27.7320
    49RY9011_2,  PR02,RY7837,  1,      4,      4,2,19901120,2022, 18.9833, 136.9833, 4683,     50.0,  27.7390,  34.5500,2,-999.0000,9,    202.0,2,     0.00,2,     0.00,2,     0.01,2, 27.7270
    49RY9011_2,  PR02,RY7837,  1,      5,      5,2,19901120,2022, 18.9833, 136.9833, 4683,     73.0,  27.4790,  34.6120,2,-999.0000,9,    202.0,2,     0.00,2,     0.00,2,     0.01,2, 27.4620
    49RY9011_2,  PR02,RY7837,  1,      6,      6,2,19901120,2022, 18.9833, 136.9833, 4683,     98.0,  24.0190,  34.9900,2,-999.0000,9,    202.0,2,     0.00,2,     0.00,2,     0.02,2, 23.9980
    49RY9011_2,  PR02,RY7837,  1,      7,      7,2,19901120,2022, 18.9833, 136.9833, 4683,    126.0,  21.8980,  35.0250,2,-999.0000,9,    190.0,2,     0.70,2,     0.06,2,     0.05,2, 21.8730
    49RY9011_2,  PR02,RY7837,  1,      8,      8,2,19901120,2022, 18.9833, 136.9833, 4683,    151.0,  20.3290,  34.9520,2,-999.0000,9,    199.0,2,     0.90,2,     0.03,2,     0.06,2, 20.3010
    49RY9011_2,  PR02,RY7837,  1,      9,      9,2,19901120,2022, 18.9833, 136.9833, 4683,    175.0,  19.0210,  34.8750,2,-999.0000,9,    203.0,2,     1.60,2,     0.01,2,     0.09,2, 18.9900
    49RY9011_2,  PR02,RY7837,  1,     10,     10,2,19901120,2022, 18.9833, 136.9833, 4683,    201.0,  18.2740,  34.8800,2,-999.0000,9,    198.0,2,     2.70,2,     0.00,2,     0.17,2, 18.2390
    49RY9011_2,  PR02,RY7837,  1,     11,     11,2,19901120,2022, 18.9833, 136.9833, 4683,    252.0,  16.8860,  34.7840,2,-999.0000,9,    200.0,2,     4.50,2,     0.00,2,     0.30,2, 16.8450
    49RY9011_2,  PR02,RY7837,  1,     12,     12,2,19901120,2022, 18.9833, 136.9833, 4683,    302.0,  15.5820,  34.6750,2,-999.0000,9,    194.0,2,     6.90,2,     0.02,2,     0.42,2, 15.5350
    49RY9011_2,  PR02,RY7837,  1,     13,     13,2,19901120,2022, 18.9833, 136.9833, 4683,    403.0,  11.9390,  34.3780,2,-999.0000,9,    183.0,2,    13.90,2,     0.00,2,     1.07,2, 11.8860
    49RY9011_2,  PR02,RY7837,  2,     14,     14,2,19901120,2212, 18.9833, 136.9833, 4683,    504.0,   8.7180,  34.2150,2,-999.0000,9,    135.0,2,    24.60,2,     0.00,2,     1.84,2,  8.6640
    49RY9011_2,  PR02,RY7837,  2,     15,     15,2,19901120,2212, 18.9833, 136.9833, 4683,    605.0,   6.7750,  34.2220,2,-999.0000,9,     92.0,2,    32.70,2,     0.00,2,     2.40,2,  6.7180
    49RY9011_2,  PR02,RY7837,  2,     16,     16,2,19901120,2212, 18.9833, 136.9833, 4683,    706.0,   5.5810,  34.3100,2,-999.0000,9,     70.0,2,    37.00,2,     0.00,2,     2.67,2,  5.5210
    49RY9011_2,  PR02,RY7837,  2,     17,     17,2,19901120,2212, 18.9833, 136.9833, 4683,    809.0,   4.9440,  34.3890,2,-999.0000,9,     71.0,2,    38.30,2,     0.00,2,     2.74,2,  4.8780
    49RY9011_2,  PR02,RY7837,  2,     18,     18,2,19901120,2212, 18.9833, 136.9833, 4683,    906.0,   4.1850,  34.4600,2,-999.0000,9,     76.0,2,    38.90,2,     0.00,2,     2.79,2,  4.1160
    49RY9011_2,  PR02,RY7837,  2,     19,     19,2,19901120,2212, 18.9833, 136.9833, 4683,   1009.0,   3.7900,  34.4930,2,-999.0000,9,     80.0,2,    39.20,2,     0.00,2,     2.78,2,  3.7150
    49RY9011_2,  PR02,RY7837,  2,     20,     20,2,19901120,2212, 18.9833, 136.9833, 4683,   1262.0,   3.1220,  34.5570,2,-999.0000,9,     95.0,2,    38.60,2,     0.00,2,     2.73,2,  3.0320
    49RY9011_2,  PR02,RY7837,  2,     21,     21,2,19901120,2212, 18.9833, 136.9833, 4683,   1515.0,   2.6410,  34.5880,2,-999.0000,9,    102.0,2,    38.80,2,     0.00,2,     2.71,2,  2.5360
    49RY9011_2,  PR02,RY7837,  2,     22,     22,2,19901120,2212, 18.9833, 136.9833, 4683,   2023.0,   2.0290,  34.6320,2,-999.0000,9,    117.0,2,    38.40,2,     0.00,2,     2.65,2,  1.8900
    49RY9011_2,  PR02,RY7837,  2,     23,     23,2,19901120,2212, 18.9833, 136.9833, 4683,   2529.0,   1.7530,  34.6570,2,-999.0000,9,    131.0,2,    37.80,2,     0.00,2,     2.58,2,  1.5750
    49RY9011_2,  PR02,RY7837,  2,     24,     24,2,19901120,2212, 18.9833, 136.9833, 4683,   3040.0,   1.6250,  34.6720,2,-999.0000,9,    141.0,2,    37.20,2,     0.00,2,     2.53,2,  1.4020
    49RY9011_2,  PR02,RY7837,  2,     25,     25,2,19901120,2212, 18.9833, 136.9833, 4683,   4065.0,   1.4920,  34.6910,2,-999.0000,9,    160.0,2,    35.70,2,     0.00,2,     2.45,2,  1.1660
    49RY9011_2,  PR02,RY7838,  1,      1,      1,2,19901121,0401, 17.9833, 136.9667, 4826,      3.0,  28.0560,  34.3880,2,-999.0000,9,    199.0,2,     0.00,2,     0.00,2,     0.02,2, 28.0550
    49RY9011_2,  PR02,RY7838,  1,      2,      2,2,19901121,0401, 17.9833, 136.9667, 4826,     11.0,  28.0400,  34.3870,2,-999.0000,9,    198.0,2,     0.00,2,     0.00,2,     0.02,2, 28.0370
    49RY9011_2,  PR02,RY7838,  1,      3,      3,2,19901121,0401, 17.9833, 136.9667, 4826,     26.0,  28.0110,  34.3860,2,-999.0000,9,    197.0,2,     0.00,2,     0.00,2,     0.03,2, 28.0050
    49RY9011_2,  PR02,RY7838,  1,      4,      4,2,19901121,0401, 17.9833, 136.9667, 4826,     52.0,  27.9900,  34.3900,2,-999.0000,9,    197.0,2,     0.00,2,     0.00,2,     0.01,2, 27.9780
    49RY9011_2,  PR02,RY7838,  1,      5,      5,2,19901121,0401, 17.9833, 136.9667, 4826,     77.0,  24.6820,  34.9810,2,-999.0000,9,    206.0,2,     0.00,2,     0.00,2,     0.01,2, 24.6650
    49RY9011_2,  PR02,RY7838,  1,      6,      6,2,19901121,0401, 17.9833, 136.9667, 4826,    103.0,  22.7630,  35.0420,2,-999.0000,9,    197.0,2,     0.00,2,     0.00,2,     0.03,2, 22.7420
    49RY9011_2,  PR02,RY7838,  1,      7,      7,2,19901121,0401, 17.9833, 136.9667, 4826,    127.0,  21.5610,  35.0080,2,-999.0000,9,    192.0,2,     0.60,2,     0.10,2,     0.07,2, 21.5360
    49RY9011_2,  PR02,RY7838,  1,      8,      8,2,19901121,0401, 17.9833, 136.9667, 4826,    151.0,  19.6140,  34.9310,2,-999.0000,9,    193.0,2,     1.80,2,     0.02,2,     0.14,2, 19.5860
    49RY9011_2,  PR02,RY7838,  1,      9,      9,2,19901121,0401, 17.9833, 136.9667, 4826,    175.0,  18.7010,  34.9110,2,-999.0000,9,    187.0,2,     3.00,2,     0.01,2,     0.21,2, 18.6700
    49RY9011_2,  PR02,RY7838,  1,     10,     10,2,19901121,0401, 17.9833, 136.9667, 4826,    199.0,  17.7360,  34.8490,2,-999.0000,9,    192.0,2,     3.90,2,     0.01,2,     0.29,2, 17.7020
    49RY9011_2,  PR02,RY7838,  1,     11,     11,2,19901121,0401, 17.9833, 136.9667, 4826,    250.0,  16.2700,  34.7370,2,-999.0000,9,    196.0,2,     5.90,2,     0.01,2,     0.48,2, 16.2300
    49RY9011_2,  PR02,RY7838,  1,     12,     12,2,19901121,0401, 17.9833, 136.9667, 4826,    302.0,  14.3430,  34.5690,2,-999.0000,9,    187.0,2,     9.20,2,     0.01,2,     0.72,2, 14.2990
    49RY9011_2,  PR02,RY7838,  1,     13,     13,2,19901121,0401, 17.9833, 136.9667, 4826,    402.0,  10.5570,  34.2850,2,-999.0000,9,    167.0,2,    17.50,2,     0.01,2,     1.34,2, 10.5090
    49RY9011_2,  PR02,RY7838,  2,     14,     14,2,19901121,0536, 17.9833, 136.9667, 4826,    503.0,   7.7030,  34.1820,2,-999.0000,9,    115.0,2,    28.20,2,     0.01,2,     2.11,2,  7.6530
    49RY9011_2,  PR02,RY7838,  2,     15,     15,2,19901121,0536, 17.9833, 136.9667, 4826,    604.0,   6.5860,  34.2710,2,-999.0000,9,     81.0,2,    33.50,2,     0.00,2,     2.50,2,  6.5300
    49RY9011_2,  PR02,RY7838,  2,     16,     16,2,19901121,0536, 17.9833, 136.9667, 4826,    707.0,   5.3450,  34.3210,2,-999.0000,9,     70.0,2,    36.90,2,     0.00,2,     2.72,2,  5.2860
    49RY9011_2,  PR02,RY7838,  2,     17,     17,2,19901121,0536, 17.9833, 136.9667, 4826,    807.0,   4.8630,  34.3880,2,-999.0000,9,     69.0,2,    37.70,2,     0.00,2,     2.76,2,  4.7980
    49RY9011_2,  PR02,RY7838,  2,     18,     18,2,19901121,0536, 17.9833, 136.9667, 4826,    908.0,   4.3180,  34.4520,2,-999.0000,9,     76.0,2,    38.20,2,     0.00,2,     2.77,2,  4.2480
    49RY9011_2,  PR02,RY7838,  2,     19,     19,2,19901121,0536, 17.9833, 136.9667, 4826,   1009.0,   3.7630,  34.5030,2,-999.0000,9,     82.0,2,    38.20,2,     0.00,2,     2.77,2,  3.6880
    49RY9011_2,  PR02,RY7838,  2,     20,     20,2,19901121,0536, 17.9833, 136.9667, 4826,   1260.0,   2.9740,  34.5600,2,-999.0000,9,     94.0,2,    38.40,2,     0.00,2,     2.77,2,  2.8860
    49RY9011_2,  PR02,RY7838,  2,     21,     21,2,19901121,0536, 17.9833, 136.9667, 4826,   1516.0,   2.5100,  34.5990,2,-999.0000,9,    105.0,2,    38.10,2,     0.00,2,     2.73,2,  2.4060
    49RY9011_2,  PR02,RY7838,  2,     22,     22,2,19901121,0536, 17.9833, 136.9667, 4826,   2023.0,   1.9860,  34.6350,2,-999.0000,9,    121.0,2,    37.80,2,     0.00,2,     2.67,2,  1.8480
    49RY9011_2,  PR02,RY7838,  2,     23,     23,2,19901121,0536, 17.9833, 136.9667, 4826,   2532.0,   1.7230,  34.6600,2,-999.0000,9,    132.0,2,    36.80,2,     0.00,2,     2.58,2,  1.5450
    49RY9011_2,  PR02,RY7838,  2,     24,     24,2,19901121,0536, 17.9833, 136.9667, 4826,   3040.0,   1.5960,  34.6750,2,-999.0000,9,    144.0,2,    36.40,2,     0.00,2,     2.55,2,  1.3730
    49RY9011_2,  PR02,RY7838,  2,     25,     25,2,19901121,0536, 17.9833, 136.9667, 4826,   4062.0,   1.4880,  34.6890,2,-999.0000,9,    160.0,2,    35.10,2,     0.00,2,     2.47,2,  1.1630