BOTTLE,20220930CCHSIOAMB
EXPOCODE,SECT_ID,STNNBR,CASTNO,SAMPNO,BTLNBR,BTLNBR_FLAG_W,DATE,TIME,LATITUDE,LONGITUDE,DEPTH,CTDPRS,CTDTMP,CTDSAL,CTDSAL_FLAG_W,SALNTY,SALNTY_FLAG_W,OXYGEN,OXYGEN_FLAG_W,NITRAT,NITRAT_FLAG_W,NITRIT,NITRIT_FLAG_W,PHSPHT,PHSPHT_FLAG_W,THETA
,,,,,,,,,,,,DBAR,DEG C,PSS-78,,PSS-78,,UMOL/KG,,UMOL/KG,,UMOL/KG,,UMOL/KG,,DEG C
    49RY9011_1,  PR02,RY7831,  1,      1,      1,2,19901106,1459, 25.0000, 137.0000, 5280,      2.0,  27.1330,  34.6020,2,  34.4910,2,    205.0,2,     0.00,2,     0.00,2,     0.04,2, 27.1330
    49RY9011_1,  PR02,RY7831,  1,      2,      2,2,19901106,1459, 25.0000, 137.0000, 5280,     11.0,  27.1850,  34.7250,2,  34.7260,2,    203.0,2,     0.00,2,     0.00,2,     0.02,2, 27.1820
    49RY9011_1,  PR02,RY7831,  1,      3,      3,2,19901106,1459, 25.0000, 137.0000, 5280,     26.0,  27.1850,  34.7270,2,  34.7240,2,    203.0,2,     0.00,2,     0.00,2,     0.03,2, 27.1790
    49RY9011_1,  PR02,RY7831,  1,      4,      4,2,19901106,1459, 25.0000, 137.0000, 5280,     50.0,  27.1710,  34.7300,2,  34.7220,2,    202.0,2,     0.00,2,     0.00,2,     0.05,2, 27.1590
    49RY9011_1,  PR02,RY7831,  1,      5,      5,2,19901106,1459, 25.0000, 137.0000, 5280,     75.0,  25.2110,  34.9130,2,  34.8930,2,    211.0,2,     0.00,2,     0.00,2,     0.03,2, 25.1950
    49RY9011_1,  PR02,RY7831,  1,      6,      6,2,19901106,1459, 25.0000, 137.0000, 5280,    101.0,  23.1270,  34.9660,2,  34.9630,2,    208.0,2,     0.00,2,     0.00,2,     0.03,2, 23.1060
    49RY9011_1,  PR02,RY7831,  1,      7,      7,2,19901106,1459, 25.0000, 137.0000, 5280,    126.0,  21.4020,  34.8430,2,  34.8400,2,    216.0,2,     0.10,2,     0.02,2,     0.03,2, 21.3780
    49RY9011_1,  PR02,RY7831,  1,      8,      8,2,19901106,1459, 25.0000, 137.0000, 5280,    151.0,  20.1720,  34.8490,2,  34.8430,2,    208.0,2,     0.70,2,     0.04,2,     0.08,2, 20.1440
    49RY9011_1,  PR02,RY7831,  1,      9,      9,2,19901106,1459, 25.0000, 137.0000, 5280,    176.0,  19.4230,  34.8340,2,  34.8340,2,    205.0,2,     1.60,2,     0.01,2,     0.10,2, 19.3910
    49RY9011_1,  PR02,RY7831,  1,     10,     10,2,19901106,1459, 25.0000, 137.0000, 5280,    201.0,  18.9290,  34.8370,2,  34.8380,2,    204.0,2,     2.00,2,     0.01,2,     0.12,2, 18.8930
    49RY9011_1,  PR02,RY7831,  1,     11,     11,2,19901106,1459, 25.0000, 137.0000, 5280,    252.0,  17.9530,  34.8120,2,  34.8110,2,    203.0,2,     3.00,2,     0.00,2,     0.27,2, 17.9100
    49RY9011_1,  PR02,RY7831,  1,     12,     12,2,19901106,1459, 25.0000, 137.0000, 5280,    302.0,  17.2820,  34.7830,2,  34.7830,2,    202.0,2,     4.10,2,     0.00,2,     0.35,2, 17.2320
    49RY9011_1,  PR02,RY7831,  1,     13,     13,2,19901106,1459, 25.0000, 137.0000, 5280,    402.0,  15.2100,  34.6370,2,  34.6400,2,    195.0,2,     7.50,2,     0.01,2,     0.59,2, 15.1480
    49RY9011_1,  PR02,RY7831,  2,     14,     14,2,19901106,1712, 25.0000, 137.0000, 5280,    504.0,  12.3520,  34.4240,2,  34.4240,2,    186.0,2,    13.20,2,     0.00,2,     1.01,2, 12.2850
    49RY9011_1,  PR02,RY7831,  2,     15,     15,2,19901106,1712, 25.0000, 137.0000, 5280,    604.0,   9.6020,  34.2390,2,  34.2430,2,    167.0,2,    19.60,2,     0.00,2,     1.48,2,  9.5330
    49RY9011_1,  PR02,RY7831,  2,     16,     16,2,19901106,1712, 25.0000, 137.0000, 5280,    704.0,   7.2350,  34.1230,2,  34.1240,2,    143.0,2,    26.40,2,     0.00,2,     1.97,2,  7.1660
    49RY9011_1,  PR02,RY7831,  2,     17,     17,2,19901106,1712, 25.0000, 137.0000, 5280,    806.0,   5.7820,  34.1410,2,  34.1410,2,    104.0,2,    32.60,2,     0.00,2,     2.36,2,  5.7120
    49RY9011_1,  PR02,RY7831,  2,     18,     18,2,19901106,1712, 25.0000, 137.0000, 5280,    906.0,   4.9380,  34.1950,2,  34.1910,2,     80.0,2,    36.20,2,     0.00,2,     2.63,2,  4.8640
    49RY9011_1,  PR02,RY7831,  2,     19,     19,2,19901106,1712, 25.0000, 137.0000, 5280,   1008.0,   4.2860,  34.2650,2,  34.2610,2,     68.0,2,    38.40,2,     0.00,2,     2.77,2,  4.2080
    49RY9011_1,  PR02,RY7831,  2,     20,     20,2,19901106,1712, 25.0000, 137.0000, 5280,   1261.0,   3.1150,  34.4300,2,  34.4250,2,     60.0,2,    40.80,2,     0.00,2,     2.93,2,  3.0260
    49RY9011_1,  PR02,RY7831,  2,     21,     21,2,19901106,1712, 25.0000, 137.0000, 5280,   1514.0,   2.5570,  34.5150,2,  34.5110,2,     73.0,2,    40.30,2,     0.00,2,     2.86,2,  2.4530
    49RY9011_1,  PR02,RY7831,  2,     22,     22,2,19901106,1712, 25.0000, 137.0000, 5280,   2021.0,   1.9750,  34.6080,2,  34.6050,2,    113.0,2,    37.90,2,     0.00,2,     2.67,2,  1.8370
    49RY9011_1,  PR02,RY7831,  2,     23,     23,2,19901106,1712, 25.0000, 137.0000, 5280,   2531.0,   1.7520,  34.6430,2,  34.6400,2,    130.0,2,    37.00,2,     0.00,2,     2.57,2,  1.5740
    49RY9011_1,  PR02,RY7831,  2,     24,     24,2,19901106,1712, 25.0000, 137.0000, 5280,   3042.0,   1.6240,  34.6610,2,  34.6560,2,    141.0,2,    36.20,2,     0.00,2,     2.51,2,  1.4010
    49RY9011_1,  PR02,RY7831,  2,     25,     25,2,19901106,1712, 25.0000, 137.0000, 5280,   4064.0,   1.5210,  34.6800,2,  34.6770,2,    157.0,2,    35.20,2,     0.00,2,     2.42,2,  1.1950
    49RY9011_1,  PR02,RY7832,  1,      1,      1,2,19901106,2319, 24.0000, 136.9667, 3671,      3.0,  27.7870,  34.7620,2,-999.0000,9,    201.0,2,     0.00,2,     0.00,2,     0.06,2, 27.7860
    49RY9011_1,  PR02,RY7832,  1,      2,      2,2,19901106,2319, 24.0000, 136.9667, 3671,     11.0,  27.7640,  34.7680,2,-999.0000,9,    200.0,2,     0.00,2,     0.00,2,     0.08,2, 27.7610
    49RY9011_1,  PR02,RY7832,  1,      3,      3,2,19901106,2319, 24.0000, 136.9667, 3671,     26.0,  27.8040,  34.8480,2,-999.0000,9,    199.0,2,     0.00,2,     0.00,2,     0.08,2, 27.7980
    49RY9011_1,  PR02,RY7832,  1,      4,      4,2,19901106,2319, 24.0000, 136.9667, 3671,     51.0,  27.8340,  34.8860,2,-999.0000,9,    199.0,2,     0.00,2,     0.00,2,     0.06,2, 27.8220
    49RY9011_1,  PR02,RY7832,  1,      5,      5,2,19901106,2319, 24.0000, 136.9667, 3671,     75.0,  25.9860,  34.9210,2,-999.0000,9,    210.0,2,     0.00,2,     0.00,2,     0.05,2, 25.9690
    49RY9011_1,  PR02,RY7832,  1,      6,      6,2,19901106,2319, 24.0000, 136.9667, 3671,    100.0,  23.5700,  35.0400,2,-999.0000,9,    208.0,2,     0.00,2,     0.00,2,     0.04,2, 23.5490
    49RY9011_1,  PR02,RY7832,  1,      7,      7,2,19901106,2319, 24.0000, 136.9667, 3671,    126.0,  22.0100,  35.0280,2,-999.0000,9,    201.0,2,     0.30,2,     0.04,2,     0.09,2, 21.9850
    49RY9011_1,  PR02,RY7832,  1,      8,      8,2,19901106,2319, 24.0000, 136.9667, 3671,    152.0,  20.7810,  34.9880,2,-999.0000,9,    200.0,2,     0.70,2,     0.01,2,     0.12,2, 20.7520
    49RY9011_1,  PR02,RY7832,  1,      9,      9,2,19901106,2319, 24.0000, 136.9667, 3671,    176.0,  19.4670,  34.9290,2,-999.0000,9,    203.0,2,     1.30,2,     0.00,2,     0.16,2, 19.4350
    49RY9011_1,  PR02,RY7832,  1,     10,     10,2,19901106,2319, 24.0000, 136.9667, 3671,    201.0,  18.6920,  34.8810,2,-999.0000,9,    203.0,2,     1.70,2,     0.02,2,     0.19,2, 18.6570
    49RY9011_1,  PR02,RY7832,  1,     11,     11,2,19901106,2319, 24.0000, 136.9667, 3671,    252.0,  17.3610,  34.8060,2,-999.0000,9,    201.0,2,     3.80,2,     0.00,2,     0.38,2, 17.3190
    49RY9011_1,  PR02,RY7832,  1,     12,     12,2,19901106,2319, 24.0000, 136.9667, 3671,    302.0,  16.6140,  34.7580,2,-999.0000,9,    198.0,2,     5.10,2,     0.00,2,     0.48,2, 16.5650
    49RY9011_1,  PR02,RY7832,  1,     13,     13,2,19901106,2319, 24.0000, 136.9667, 3671,    401.0,  13.9000,  34.5280,2,-999.0000,9,    195.0,2,     9.10,2,     0.00,2,     0.77,2, 13.8420
    49RY9011_1,  PR02,RY7832,  2,     14,     14,2,19901107,0046, 24.0000, 136.9667, 3671,    504.0,  11.7230,  34.3790,2,-999.0000,9,    185.0,2,    14.60,2,     0.00,2,     1.17,2, 11.6580
    49RY9011_1,  PR02,RY7832,  2,     15,     15,2,19901107,0046, 24.0000, 136.9667, 3671,    605.0,   9.1250,  34.2040,2,-999.0000,9,    165.0,2,    21.10,2,     0.00,2,     1.59,2,  9.0580
    49RY9011_1,  PR02,RY7832,  2,     16,     16,2,19901107,0046, 24.0000, 136.9667, 3671,    706.0,   7.0130,  34.1260,2,-999.0000,9,    135.0,2,    27.90,2,     0.00,2,     2.10,2,  6.9450
    49RY9011_1,  PR02,RY7832,  2,     17,     17,2,19901107,0046, 24.0000, 136.9667, 3671,    805.0,   5.6030,  34.1370,2,-999.0000,9,    100.0,2,    33.60,2,     0.00,2,     2.50,2,  5.5340
    49RY9011_1,  PR02,RY7832,  2,     18,     18,2,19901107,0046, 24.0000, 136.9667, 3671,    907.0,   4.6190,  34.2170,2,-999.0000,9,     73.0,2,    37.70,2,     0.00,2,     2.78,2,  4.5470
    49RY9011_1,  PR02,RY7832,  2,     19,     19,2,19901107,0046, 24.0000, 136.9667, 3671,   1009.0,   4.0250,  34.3120,2,-999.0000,9,     59.0,2,    40.10,2,     0.00,2,     2.92,2,  3.9490
    49RY9011_1,  PR02,RY7832,  2,     20,     20,2,19901107,0046, 24.0000, 136.9667, 3671,   1262.0,   3.0350,  34.4630,2,-999.0000,9,     67.0,2,    40.60,2,     0.00,2,     2.95,2,  2.9460
    49RY9011_1,  PR02,RY7832,  2,     21,     21,2,19901107,0046, 24.0000, 136.9667, 3671,   1515.0,   2.5260,  34.5320,2,-999.0000,9,     85.0,2,    39.80,2,     0.00,2,     2.88,2,  2.4230
    49RY9011_1,  PR02,RY7832,  2,     22,     22,2,19901107,0046, 24.0000, 136.9667, 3671,   2021.0,   2.0090,  34.6090,2,-999.0000,9,    115.0,2,    38.30,2,     0.00,2,     2.73,2,  1.8710
    49RY9011_1,  PR02,RY7832,  2,     23,     23,2,19901107,0046, 24.0000, 136.9667, 3671,   2531.0,   1.7540,  34.6430,2,-999.0000,9,    132.0,2,    37.20,2,     0.00,2,     2.64,2,  1.5760
    49RY9011_1,  PR02,RY7832,  2,     24,     24,2,19901107,0046, 24.0000, 136.9667, 3671,   3041.0,   1.6240,  34.6610,2,-999.0000,9,    142.0,2,    36.60,2,     0.00,2,     2.57,2,  1.4010
    49RY9011_1,  PR02,RY7833,  1,      1,      1,2,19901107,0641, 23.0000, 136.9667, 2559,      2.0,  27.9740,  34.7050,2,-999.0000,9,    200.0,2,     0.00,2,     0.00,2,     0.07,2, 27.9740
    49RY9011_1,  PR02,RY7833,  1,      2,      2,2,19901107,0641, 23.0000, 136.9667, 2559,     10.0,  28.0580,  34.8500,2,-999.0000,9,    201.0,2,     0.00,2,     0.00,2,     0.05,2, 28.0560
    49RY9011_1,  PR02,RY7833,  1,      3,      3,2,19901107,0641, 23.0000, 136.9667, 2559,     25.0,  28.0330,  34.8540,2,-999.0000,9,    203.0,2,     0.00,2,     0.00,2,     0.04,2, 28.0270
    49RY9011_1,  PR02,RY7833,  1,      4,      4,2,19901107,0641, 23.0000, 136.9667, 2559,     51.0,  27.9900,  34.8690,2,-999.0000,9,    203.0,2,     0.00,2,     0.00,2,     0.06,2, 27.9780
    49RY9011_1,  PR02,RY7833,  1,      5,      5,2,19901107,0641, 23.0000, 136.9667, 2559,     74.0,  26.2920,  34.8900,2,-999.0000,9,    212.0,2,     0.00,2,     0.00,2,     0.04,2, 26.2750
    49RY9011_1,  PR02,RY7833,  1,      6,      6,2,19901107,0641, 23.0000, 136.9667, 2559,    100.0,  23.3570,  35.0300,2,-999.0000,9,    220.0,2,     0.00,2,     0.00,2,     0.05,2, 23.3360
    49RY9011_1,  PR02,RY7833,  1,      7,      7,2,19901107,0641, 23.0000, 136.9667, 2559,    125.0,  21.1730,  35.0180,2,-999.0000,9,    219.0,2,     0.00,2,     0.03,2,     0.07,2, 21.1490
    49RY9011_1,  PR02,RY7833,  1,      8,      8,2,19901107,0641, 23.0000, 136.9667, 2559,    151.0,  19.3650,  34.9280,2,-999.0000,9,    207.0,2,     1.00,2,     0.03,2,     0.11,2, 19.3380
    49RY9011_1,  PR02,RY7833,  1,      9,      9,2,19901107,0641, 23.0000, 136.9667, 2559,    176.0,  18.6440,  34.8800,2,-999.0000,9,    205.0,2,     1.60,2,     0.02,2,     0.17,2, 18.6130
    49RY9011_1,  PR02,RY7833,  1,     10,     10,2,19901107,0641, 23.0000, 136.9667, 2559,    201.0,  17.8700,  34.8190,2,-999.0000,9,    208.0,2,     2.40,2,     0.01,2,     0.22,2, 17.8360
    49RY9011_1,  PR02,RY7833,  1,     11,     11,2,19901107,0641, 23.0000, 136.9667, 2559,    251.0,  16.8560,  34.7670,2,-999.0000,9,    204.0,2,     4.40,2,     0.01,2,     0.29,2, 16.8150
    49RY9011_1,  PR02,RY7833,  1,     12,     12,2,19901107,0641, 23.0000, 136.9667, 2559,    303.0,  15.8470,  34.6920,2,-999.0000,9,    203.0,2,     6.30,2,     0.01,2,     0.54,2, 15.7990
    49RY9011_1,  PR02,RY7833,  1,     13,     13,2,19901107,0641, 23.0000, 136.9667, 2559,    403.0,  13.3960,  34.4840,2,-999.0000,9,    196.0,2,    10.20,2,     0.02,2,     0.80,2, 13.3390
    49RY9011_1,  PR02,RY7833,  2,     14,     14,2,19901107,0808, 23.0000, 136.9667, 2559,    504.0,  10.5910,  34.2830,2,-999.0000,9,    184.0,2,    16.10,2,     0.00,2,     1.28,2, 10.5300
    49RY9011_1,  PR02,RY7833,  2,     15,     15,2,19901107,0808, 23.0000, 136.9667, 2559,    605.0,   8.0560,  34.1400,2,-999.0000,9,    153.0,2,    24.00,2,     0.00,2,     1.81,2,  7.9940
    49RY9011_1,  PR02,RY7833,  2,     16,     16,2,19901107,0808, 23.0000, 136.9667, 2559,    704.0,   6.0850,  34.1460,2,-999.0000,9,     97.0,2,    32.70,2,     0.00,2,     2.48,2,  6.0220
    49RY9011_1,  PR02,RY7833,  2,     17,     17,2,19901107,0808, 23.0000, 136.9667, 2559,    805.0,   5.1340,  34.2370,2,-999.0000,9,     69.0,2,    37.20,2,     0.00,2,     2.76,2,  5.0680
    49RY9011_1,  PR02,RY7833,  2,     18,     18,2,19901107,0808, 23.0000, 136.9667, 2559,    909.0,   4.4260,  34.3190,2,-999.0000,9,     63.0,2,    38.80,2,     0.00,2,     2.87,2,  4.3550
    49RY9011_1,  PR02,RY7833,  2,     19,     19,2,19901107,0808, 23.0000, 136.9667, 2559,   1009.0,   3.8350,  34.3580,2,-999.0000,9,     63.0,2,    39.90,2,     0.00,2,     2.93,2,  3.7600
    49RY9011_1,  PR02,RY7833,  2,     20,     20,2,19901107,0808, 23.0000, 136.9667, 2559,   1262.0,   2.9770,  34.4710,2,-999.0000,9,     70.0,2,    40.00,2,     0.00,2,     2.91,2,  2.8890
    49RY9011_1,  PR02,RY7833,  2,     21,     21,2,19901107,0808, 23.0000, 136.9667, 2559,   1516.0,   2.4870,  34.5420,2,-999.0000,9,     88.0,2,    39.10,2,     0.00,2,     2.84,2,  2.3840
    49RY9011_1,  PR02,RY7833,  2,     22,     22,2,19901107,0808, 23.0000, 136.9667, 2559,   2022.0,   2.0440,  34.6120,2,-999.0000,9,    117.0,2,    37.60,2,     0.00,2,     2.69,2,  1.9050
    49RY9011_1,  PR02,RY7834,  1,      1,      1,2,19901107,2304, 21.9667, 137.0000, 4402,      2.0,  27.8850,  34.8180,2,  34.8180,2,    203.0,2,     0.00,2,     0.00,2,     0.07,2, 27.8850
    49RY9011_1,  PR02,RY7834,  1,      2,      2,2,19901107,2304, 21.9667, 137.0000, 4402,     11.0,  27.8830,  34.8190,2,  34.8200,2,    203.0,2,     0.00,2,     0.00,2,     0.05,2, 27.8800
    49RY9011_1,  PR02,RY7834,  1,      3,      3,2,19901107,2304, 21.9667, 137.0000, 4402,     26.0,  27.8850,  34.8230,2,  34.8240,2,    202.0,2,     0.00,2,     0.00,2,     0.04,2, 27.8790
    49RY9011_1,  PR02,RY7834,  1,      4,      4,2,19901107,2304, 21.9667, 137.0000, 4402,     49.0,  27.8620,  34.8440,2,  34.8450,2,    202.0,2,     0.00,2,     0.00,2,     0.04,2, 27.8510
    49RY9011_1,  PR02,RY7834,  1,      5,      5,2,19901107,2304, 21.9667, 137.0000, 4402,     76.0,  25.6330,  34.8930,2,  34.8830,2,    215.0,2,     0.00,2,     0.00,2,     0.06,2, 25.6160
    49RY9011_1,  PR02,RY7834,  1,      6,      6,2,19901107,2304, 21.9667, 137.0000, 4402,    101.0,  21.5240,  34.9990,2,  34.9980,2,    213.0,2,     0.00,2,     0.00,2,     0.06,2, 21.5040
    49RY9011_1,  PR02,RY7834,  1,      7,      7,2,19901107,2304, 21.9667, 137.0000, 4402,    126.0,  20.3430,  34.9760,2,  34.9800,2,    203.0,2,     0.20,2,     0.09,2,     0.09,2, 20.3190
    49RY9011_1,  PR02,RY7834,  1,      8,      8,2,19901107,2304, 21.9667, 137.0000, 4402,    150.0,  19.1760,  34.9250,2,  34.9280,2,    195.0,2,     1.90,2,     0.02,2,     0.19,2, 19.1490
    49RY9011_1,  PR02,RY7834,  1,      9,      9,2,19901107,2304, 21.9667, 137.0000, 4402,    176.0,  18.3010,  34.8770,2,  34.8820,2,    196.0,2,     2.80,2,     0.02,2,     0.24,2, 18.2700
    49RY9011_1,  PR02,RY7834,  1,     10,     10,2,19901107,2304, 21.9667, 137.0000, 4402,    201.0,  17.6370,  34.8320,2,  34.8370,2,    196.0,2,     3.70,2,     0.01,2,     0.29,2, 17.6030
    49RY9011_1,  PR02,RY7834,  1,     11,     11,2,19901107,2304, 21.9667, 137.0000, 4402,    250.0,  16.3100,  34.7320,2,  34.7360,2,    199.0,2,     5.60,2,     0.00,2,     0.49,2, 16.2700
    49RY9011_1,  PR02,RY7834,  1,     12,     12,2,19901107,2304, 21.9667, 137.0000, 4402,    302.0,  15.1140,  34.6350,2,  34.6410,2,    194.0,2,     7.90,2,     0.00,2,     0.67,2, 15.0680
    49RY9011_1,  PR02,RY7834,  1,     13,     13,2,19901107,2304, 21.9667, 137.0000, 4402,    402.0,  12.5360,  34.4260,2,  34.4320,2,    191.0,2,    12.20,2,     0.01,2,     0.99,2, 12.4820
    49RY9011_1,  PR02,RY7834,  2,     14,     14,2,19901108,0042, 21.9667, 137.0000, 4402,    503.0,   9.8460,  34.2340,2,  34.2310,2,    172.0,2,    18.80,2,     0.00,2,     1.48,2,  9.7880
    49RY9011_1,  PR02,RY7834,  2,     15,     15,2,19901108,0042, 21.9667, 137.0000, 4402,    603.0,   7.5750,  34.1360,2,  34.1410,2,    129.0,2,    27.10,2,     0.00,2,     2.06,2,  7.5150
    49RY9011_1,  PR02,RY7834,  2,     16,     16,2,19901108,0042, 21.9667, 137.0000, 4402,    705.0,   5.8390,  34.1670,2,  34.1670,2,     97.0,2,    34.70,2,     0.00,2,     2.61,2,  5.7780
    49RY9011_1,  PR02,RY7834,  2,     17,     17,2,19901108,0042, 21.9667, 137.0000, 4402,    805.0,   4.9720,  34.2590,2,  34.2560,2,     66.0,2,    38.30,2,     0.00,2,     2.84,2,  4.9070
    49RY9011_1,  PR02,RY7834,  2,     18,     18,2,19901108,0042, 21.9667, 137.0000, 4402,    906.0,   4.2970,  34.3100,2,  34.3090,2,     61.0,2,    39.50,2,     0.00,2,     2.93,2,  4.2270
    49RY9011_1,  PR02,RY7834,  2,     19,     19,2,19901108,0042, 21.9667, 137.0000, 4402,   1008.0,   3.8130,  34.3930,2,  34.3920,2,     61.0,2,    40.40,2,     0.00,2,     2.96,2,  3.7380
    49RY9011_1,  PR02,RY7834,  2,     20,     20,2,19901108,0042, 21.9667, 137.0000, 4402,   1261.0,   2.8870,  34.4790,2,  34.4780,2,     68.0,2,    40.80,2,     0.00,2,     2.95,2,  2.8000
    49RY9011_1,  PR02,RY7834,  2,     21,     21,2,19901108,0042, 21.9667, 137.0000, 4402,   1514.0,   2.4300,  34.5530,2,  34.5500,2,     89.0,2,    39.60,2,     0.00,2,     2.85,2,  2.3280
    49RY9011_1,  PR02,RY7834,  2,     22,     22,2,19901108,0042, 21.9667, 137.0000, 4402,   2022.0,   1.9810,  34.6200,2,  34.6200,2,    118.0,2,    38.00,2,     0.00,2,     2.72,2,  1.8430
    49RY9011_1,  PR02,RY7834,  2,     23,     23,2,19901108,0042, 21.9667, 137.0000, 4402,   2531.0,   1.7100,  34.6490,2,  34.6460,2,    134.0,2,    36.90,2,     0.00,2,     2.62,2,  1.5320
    49RY9011_1,  PR02,RY7834,  2,     24,     24,2,19901108,0042, 21.9667, 137.0000, 4402,   3041.0,   1.5970,  34.6630,2,  34.6620,2,    145.0,2,    36.40,2,     0.00,2,     2.58,2,  1.3740
    49RY9011_1,  PR02,RY7834,  2,     25,     25,2,19901108,0042, 21.9667, 137.0000, 4402,   4065.0,   1.5240,  34.6800,2,  34.6750,2,    158.0,2,    35.40,2,     0.00,2,     2.52,2,  1.1970