BOTTLE,20220930CCHSIOAMB
EXPOCODE,SECT_ID,STNNBR,CASTNO,SAMPNO,BTLNBR,BTLNBR_FLAG_W,DATE,TIME,LATITUDE,LONGITUDE,DEPTH,CTDPRS,CTDTMP,CTDSAL,CTDSAL_FLAG_W,SALNTY,SALNTY_FLAG_W,CTDOXY,OXYGEN,OXYGEN_FLAG_W,CFC-11,CFC-11_FLAG_W,CFC-12,CFC-12_FLAG_W,CTDRAW,THETA
,,,,,,,,,,,,DBAR,DEG C,PSS-78,,PSS-78,,UMOL/KG,UMOL/KG,,PMOL/KG,,PMOL/KG,,,DEG C
      06MT32_1,  ISS2,   128,  1,     12,     12,2,19950328,1311, 12.6747,  51.3297, 1642,      9.6,  28.8346,  35.4005,2,  35.3917,2,    201.4,    198.9,2, -999.000,9,    0.947,2,    9.6, 28.8359
      06MT32_1,  ISS2,   128,  1,     11,     11,2,19950328,1311, 12.6747,  51.3297, 1642,    100.3,  24.9612,  36.1223,2,  36.1136,2,    180.8,    178.9,2, -999.000,9,    1.013,2,  100.6, 24.9273
      06MT32_1,  ISS2,   128,  1,     10,     10,2,19950328,1311, 12.6747,  51.3297, 1642,    296.0,  14.6124,  35.5905,2,-999.0000,9,     24.4,     23.7,2, -999.000,9,    0.390,2,  296.9, 14.5625
      06MT32_1,  ISS2,   128,  1,      9,      9,2,19950328,1311, 12.6747,  51.3297, 1642,    500.8,  12.8161,  35.7215,2,  35.7125,2,     19.8,   -999.0,9, -999.000,9,    0.216,2,  502.1, 12.7466
      06MT32_1,  ISS2,   128,  1,      8,      8,2,19950328,1311, 12.6747,  51.3297, 1642,    627.5,  12.4555,  35.8554,2,-999.0000,9,     16.6,      0.0,4, -999.000,9,    0.156,2,  628.9, 12.3695
      06MT32_1,  ISS2,   128,  1,      7,      7,2,19950328,1311, 12.6747,  51.3297, 1642,    783.2,  12.2078,  36.0340,2,-999.0000,9,     17.5,     16.2,2, -999.000,9,    0.148,2,  784.8, 12.1010
      06MT32_1,  ISS2,   128,  1,      6,      6,2,19950328,1311, 12.6747,  51.3297, 1642,    896.0,  11.3729,  35.9239,2,-999.0000,9,     17.4,   -999.0,9, -999.000,9,    0.111,2,  897.6, 11.2556
      06MT32_1,  ISS2,   128,  1,      5,      5,2,19950328,1311, 12.6747,  51.3297, 1642,    997.1,  10.0496,  35.6901,2,-999.0000,9,     17.5,   -999.0,9, -999.000,9,    0.076,2,  998.8,  9.9280
      06MT32_1,  ISS2,   128,  1,      4,      4,2,19950328,1311, 12.6747,  51.3297, 1642,   1197.5,   8.0722,  35.4136,2,  35.4093,2,     24.6,     24.4,2, -999.000,9, -999.000,9, 1199.1,  7.9421
      06MT32_1,  ISS2,   128,  1,      2,      2,2,19950328,1311, 12.6747,  51.3297, 1642,   1560.3,   5.0151,  35.0266,2,-999.0000,9,     57.4,   -999.0,9, -999.000,9, -999.000,9, 1561.6,  4.8775
      06MT32_1,  ISS2,   128,  1,      3,      3,2,19950328,1311, 12.6747,  51.3297, 1642,   1562.8,   5.0001,  35.0261,2,  35.0220,2,     57.6,     56.0,2, -999.000,9,    0.014,2, 1564.1,  4.8624
      06MT32_1,  ISS2,   128,  1,      1,      1,2,19950328,1311, 12.6747,  51.3297, 1642,   1564.3,   4.9971,  35.0260,2,-999.0000,9,     57.5,   -999.0,9, -999.000,9, -999.000,9, 1565.6,  4.8593
      06MT32_1,  ISS2,   129,  1,     10,     10,2,19950328,1709, 12.3050,  51.5148, 1046,     10.5,  28.6057,  35.4655,2,-999.0000,9,    204.9,    201.0,2, -999.000,9, -999.000,9,   10.5, 28.6054
      06MT32_1,  ISS2,   129,  1,      9,      9,2,19950328,1709, 12.3050,  51.5148, 1046,     87.9,  25.0808,  36.1284,2,-999.0000,9,    180.7,   -999.0,9, -999.000,9,    1.026,2,   88.2, 25.0569
      06MT32_1,  ISS2,   129,  1,      8,      8,2,19950328,1709, 12.3050,  51.5148, 1046,    299.3,  14.2355,  35.5710,2,-999.0000,9,     30.5,     29.0,2, -999.000,9,    0.368,2,  300.2, 14.1835
      06MT32_1,  ISS2,   129,  1,      7,      7,2,19950328,1709, 12.3050,  51.5148, 1046,    442.2,  13.2965,  35.7288,2,-999.0000,9,     21.3,   -999.0,9, -999.000,9,    0.231,2,  443.4, 13.2338
      06MT32_1,  ISS2,   129,  1,      6,      6,2,19950328,1709, 12.3050,  51.5148, 1046,    604.0,  12.0181,  35.7176,2,-999.0000,9,     19.3,   -999.0,9, -999.000,9,    0.116,2,  605.4, 11.9374
      06MT32_1,  ISS2,   129,  1,      5,      5,2,19950328,1709, 12.3050,  51.5148, 1046,    672.4,  12.4755,  35.9764,2,-999.0000,9,     17.4,   -999.0,9, -999.000,9,    0.149,2,  673.9, 12.3830
      06MT32_1,  ISS2,   129,  1,      4,      4,2,19950328,1709, 12.3050,  51.5148, 1046,    805.0,  11.5017,  35.8679,2,  35.8536,4,     18.2,     20.4,2, -999.000,9,    0.113,2,  806.6, 11.3960
      06MT32_1,  ISS2,   129,  1,      3,      3,2,19950328,1709, 12.3050,  51.5148, 1046,    899.3,  11.4308,  35.9600,2,-999.0000,9,     17.5,   -999.0,9, -999.000,9, -999.000,9,  900.9, 11.3126
      06MT32_1,  ISS2,   129,  1,      1,      1,2,19950328,1709, 12.3050,  51.5148, 1046,    997.8,   9.9427,  35.7243,2,-999.0000,9,     19.4,   -999.0,9, -999.000,9, -999.000,9,  999.5,  9.8218
      06MT32_1,  ISS2,   129,  1,      2,      2,2,19950328,1709, 12.3050,  51.5148, 1046,   1004.4,   9.9457,  35.7223,2,  35.7201,2,     18.9,     18.5,2, -999.000,9,    0.076,2, 1006.1,  9.8239
      06MT32_1,  ISS2,   130,  1,     10,     11,2,19950328,2132, 11.9700,  51.9717, 1099,      9.9,  28.8663,  35.3832,2,-999.0000,9,    200.3,   -999.0,9, -999.000,9,    0.980,2,    9.9, 28.8593
      06MT32_1,  ISS2,   130,  1,      9,     10,2,19950328,2132, 11.9700,  51.9717, 1099,     99.1,  24.7635,  36.0427,2,-999.0000,9,    171.1,   -999.0,9, -999.000,9,    0.985,2,   99.4, 24.7611
      06MT32_1,  ISS2,   130,  1,      8,      9,2,19950328,2132, 11.9700,  51.9717, 1099,    298.5,  14.3503,  35.5686,2,-999.0000,9,     63.5,   -999.0,9, -999.000,9,    0.402,2,  299.4, 14.3075
      06MT32_1,  ISS2,   130,  1,      7,      8,2,19950328,2132, 11.9700,  51.9717, 1099,    445.4,  13.1038,  35.7066,2,-999.0000,9,     21.7,   -999.0,9, -999.000,9,    0.228,2,  446.6, 13.0413
      06MT32_1,  ISS2,   130,  1,      6,      7,2,19950328,2132, 11.9700,  51.9717, 1099,    598.4,  12.5834,  35.7483,2,-999.0000,9,     20.7,   -999.0,9, -999.000,9,    0.177,2,  599.8, 12.5011
      06MT32_1,  ISS2,   130,  1,      5,      6,2,19950328,2132, 11.9700,  51.9717, 1099,    702.1,  11.6016,  35.7348,2,-999.0000,9,     18.6,   -999.0,9, -999.000,9,    0.115,2,  703.6, 11.5094
      06MT32_1,  ISS2,   130,  1,      4,      5,2,19950328,2132, 11.9700,  51.9717, 1099,    805.1,  11.3499,  35.8467,2,  35.8389,2,     17.7,     16.4,2, -999.000,9,    0.113,2,  806.7, 11.2451
      06MT32_1,  ISS2,   130,  1,      3,      3,2,19950328,2132, 11.9700,  51.9717, 1099,    906.0,  10.6358,  35.7724,2,-999.0000,9,     18.1,   -999.0,9, -999.000,9,    0.096,2,  907.6, 10.5220
      06MT32_1,  ISS2,   130,  1,      2,      2,2,19950328,2132, 11.9700,  51.9717, 1099,    985.5,   8.6664,  35.3791,2,  35.3635,4,     26.0,     26.8,2, -999.000,9,    0.035,2,  987.2,  8.5565
      06MT32_1,  ISS2,   130,  1,      1,      1,2,19950328,2132, 11.9700,  51.9717, 1099,   1006.5,   8.4886,  35.3729,2,-999.0000,9,     28.2,   -999.0,9, -999.000,9,    0.034,2, 1008.2,  8.3775
      06MT32_1,  ISS2,   132,  1,     10,     10,2,19950329,0107, 11.8417,  51.8283, 1061,      9.4,  28.7107,  35.4083,2,-999.0000,9,    176.3,   -999.0,9, -999.000,9,    0.948,2,    9.4, 28.7046
      06MT32_1,  ISS2,   132,  1,      9,      9,2,19950329,0107, 11.8417,  51.8283, 1061,     99.8,  25.0509,  36.1291,2,-999.0000,9,    185.5,   -999.0,9, -999.000,9, -999.000,9,  100.1, 25.0294
      06MT32_1,  ISS2,   132,  1,      8,      8,2,19950329,0107, 11.8417,  51.8283, 1061,    299.1,  14.0532,  35.3546,2,-999.0000,9,     59.3,   -999.0,9, -999.000,9,    0.456,2,  300.0, 14.0092
      06MT32_1,  ISS2,   132,  1,      7,      7,2,19950329,0107, 11.8417,  51.8283, 1061,    438.7,  11.8723,  35.3644,2,-999.0000,9,     39.7,     38.6,2, -999.000,9,    0.219,2,  439.8, 11.8147
      06MT32_1,  ISS2,   132,  1,      6,      6,2,19950329,0107, 11.8417,  51.8283, 1061,    596.2,  11.8053,  35.5692,2,-999.0000,9,     22.5,     39.0,4, -999.000,9, -999.000,9,  597.6, 11.7267
      06MT32_1,  ISS2,   132,  1,      5,      5,2,19950329,0107, 11.8417,  51.8283, 1061,    811.6,  12.1269,  36.0080,2,-999.0000,9,     16.8,     16.4,2, -999.000,9,    0.143,2,  813.2, 12.0166
      06MT32_1,  ISS2,   132,  1,      3,      3,2,19950329,0107, 11.8417,  51.8283, 1061,    899.1,  11.2271,  35.8813,2,-999.0000,9,     17.7,   -999.0,9, -999.000,9, -999.000,9,  900.7, 11.1103
      06MT32_1,  ISS2,   132,  1,      4,      4,2,19950329,0107, 11.8417,  51.8283, 1061,    921.5,  11.1342,  35.8896,2,-999.0000,9,     17.7,   -999.0,9, -999.000,9,    0.112,2,  923.1, 11.0150
      06MT32_1,  ISS2,   132,  1,      1,      1,2,19950329,0107, 11.8417,  51.8283, 1061,    958.2,  10.7357,  35.8113,2,-999.0000,9,     18.2,   -999.0,9, -999.000,9, -999.000,9,  959.9, 10.6143
      06MT32_1,  ISS2,   132,  1,      2,      2,2,19950329,0107, 11.8417,  51.8283, 1061,    973.3,  10.8016,  35.8322,2,  35.8308,2,     18.2,     17.2,2, -999.000,9,    0.110,2,  975.0, 10.6777
      06MT32_1,  ISS2,   132,  1,     11,     14,2,19950329,0107, 11.8417,  51.8283, 1061,    995.4,   8.7822,  35.3951,2,-999.0000,9,     24.7,   -999.0,9, -999.000,9, -999.000,9,  997.1,  8.6703
      06MT32_1,  ISS2,   132,  1,     12,     15,2,19950329,0107, 11.8417,  51.8283, 1061,   1006.0,   8.6584,  35.3889,2,-999.0000,9,     26.2,   -999.0,9, -999.000,9, -999.000,9, 1007.7,  8.5461
      06MT32_1,  ISS2,   132,  1,     13,     20,2,19950329,0107, 11.8417,  51.8283, 1061,   1008.3,   8.5455,  35.3779,2,-999.0000,9,     26.9,   -999.0,9, -999.000,9, -999.000,9, 1010.0,  8.4338
      06MT32_1,  ISS2,   137,  1,      9,     12,2,19950329,1522, 12.1087,  52.1000,  845,      8.6,  28.7825,  35.4016,2,-999.0000,9,    180.8,   -999.0,9, -999.000,9, -999.000,9,    8.6, 28.7753
      06MT32_1,  ISS2,   137,  1,     24,     15,2,19950329,1522, 12.1087,  52.1000,  845,     10.6,  28.8407,  35.3807,2,  35.4009,4,    191.0,    198.4,3, -999.000,9, -999.000,9,   10.6, 28.8313
      06MT32_1,  ISS2,   137,  1,     23,     14,2,19950329,1522, 12.1087,  52.1000,  845,     99.1,  24.8641,  36.0647,2,-999.0000,9,    172.8,    169.7,2, -999.000,9,    1.179,2,   99.4, 24.8375
      06MT32_1,  ISS2,   137,  1,      8,     11,2,19950329,1522, 12.1087,  52.1000,  845,    149.3,  19.7348,  35.5369,2,-999.0000,9,    101.4,     88.9,4, -999.000,9, -999.000,9,  149.8, 19.7031
      06MT32_1,  ISS2,   137,  1,     22,     13,2,19950329,1522, 12.1087,  52.1000,  845,    221.7,  15.2205,  35.3546,2,-999.0000,9,     59.1,     57.5,2, -999.000,9,    0.562,2,  222.4, 15.1816
      06MT32_1,  ISS2,   137,  1,      7,     10,2,19950329,1522, 12.1087,  52.1000,  845,    249.4,  14.3474,  35.4093,2,-999.0000,9,     56.5,     49.8,3, -999.000,9,    0.191,2,  250.1, 14.2929
      06MT32_1,  ISS2,   137,  1,     21,     12,2,19950329,1522, 12.1087,  52.1000,  845,    249.5,  14.3796,  35.3549,2,-999.0000,9,     63.4,     52.4,4, -999.000,9, -999.000,9,  250.2, 14.3566
      06MT32_1,  ISS2,   137,  1,      6,      9,2,19950329,1522, 12.1087,  52.1000,  845,    398.7,  13.0674,  35.5910,2,  35.5819,2,     27.7,     25.1,2, -999.000,9,    0.150,2,  399.8, 13.0105
      06MT32_1,  ISS2,   137,  1,     20,     11,2,19950329,1522, 12.1087,  52.1000,  845,    398.9,  13.3457,  35.6715,2,-999.0000,9,     22.4,     21.5,2, -999.000,9, -999.000,9,  400.0, 13.2867
      06MT32_1,  ISS2,   137,  1,     19,     10,2,19950329,1522, 12.1087,  52.1000,  845,    483.4,  11.4937,  35.3714,2,-999.0000,9,     34.8,   -999.0,9, -999.000,9,    0.191,2,  484.6, 11.4314
      06MT32_1,  ISS2,   137,  1,      5,      7,2,19950329,1522, 12.1087,  52.1000,  845,    496.6,  12.1969,  35.5677,2,-999.0000,9,     24.9,   -999.0,9, -999.000,9,    0.137,2,  497.8, 12.1303
      06MT32_1,  ISS2,   137,  1,     18,      9,2,19950329,1522, 12.1087,  52.1000,  845,    608.1,  12.1030,  35.6816,2,-999.0000,9,     21.2,   -999.0,9, -999.000,9,    0.150,2,  609.5, 12.0214
      06MT32_1,  ISS2,   137,  1,      4,      5,2,19950329,1522, 12.1087,  52.1000,  845,    610.5,  12.6773,  35.8628,2,-999.0000,9,     18.0,   -999.0,9, -999.000,9,    0.092,2,  611.9, 12.5928
      06MT32_1,  ISS2,   137,  1,     16,      7,2,19950329,1522, 12.1087,  52.1000,  845,    684.5,  11.7154,  35.7075,2,-999.0000,9,     19.0,   -999.0,9, -999.000,9,    0.137,2,  686.0, 11.6251
      06MT32_1,  ISS2,   137,  1,     15,      6,2,19950329,1522, 12.1087,  52.1000,  845,    695.6,  11.7594,  35.7302,2,-999.0000,9,     18.6,   -999.0,9, -999.000,9, -999.000,9,  697.1, 11.6674
      06MT32_1,  ISS2,   137,  1,      3,      4,2,19950329,1522, 12.1087,  52.1000,  845,    708.1,  11.8483,  35.7988,2,-999.0000,9,     18.5,   -999.0,9, -999.000,9,    0.104,2,  709.6, 11.7540
      06MT32_1,  ISS2,   137,  1,     17,      8,2,19950329,1522, 12.1087,  52.1000,  845,    721.7,  11.7174,  35.7658,2,-999.0000,9,     18.7,   -999.0,9, -999.000,9, -999.000,9,  723.2, 11.6220
      06MT32_1,  ISS2,   137,  1,     14,      5,2,19950329,1522, 12.1087,  52.1000,  845,    777.3,  10.8625,  35.6251,2,-999.0000,9,     20.1,     19.4,2, -999.000,9,    0.092,2,  778.9, 10.7643
      06MT32_1,  ISS2,   137,  1,      1,      1,2,19950329,1522, 12.1087,  52.1000,  845,    788.4,  11.7594,  35.8779,2,-999.0000,9,     18.0,   -999.0,9, -999.000,9, -999.000,9,  790.0, 11.6545
      06MT32_1,  ISS2,   137,  1,      2,      2,2,19950329,1522, 12.1087,  52.1000,  845,    794.0,  11.7584,  35.8784,2,-999.0000,9,     18.0,   -999.0,9, -999.000,9, -999.000,9,  795.6, 11.6528
      06MT32_1,  ISS2,   137,  1,     13,      4,2,19950329,1522, 12.1087,  52.1000,  845,    909.8,  10.8356,  35.8146,2,-999.0000,9,     18.0,   -999.0,9, -999.000,9,    0.104,2,  911.4, 10.7199
      06MT32_1,  ISS2,   137,  1,     10,      1,2,19950329,1522, 12.1087,  52.1000,  845,   1001.3,   8.8841,  35.4212,2,-999.0000,9,     24.7,   -999.0,9, -999.000,9, -999.000,9, 1003.0,  8.7707
      06MT32_1,  ISS2,   137,  1,     11,      2,2,19950329,1522, 12.1087,  52.1000,  845,   1007.2,   8.7473,  35.3945,2,  35.3935,2,     26.0,   -999.0,9, -999.000,9, -999.000,9, 1008.9,  8.6342
      06MT32_1,  ISS2,   137,  1,     12,      3,2,19950329,1522, 12.1087,  52.1000,  845,   1013.3,   8.7243,  35.3871,2,-999.0000,9,     26.1,     25.3,2, -999.000,9,    0.039,2, 1015.0,  8.6107
      06MT32_1,  ISS2,   140,  1,     10,     14,2,19950329,2313, 11.5917,  52.3800, 1441,     10.0,  27.7044,  35.6975,2,-999.0000,9,    208.3,    208.8,2, -999.000,9,    0.995,2,   10.0, 27.7112
      06MT32_1,  ISS2,   140,  1,      9,     13,2,19950329,2313, 11.5917,  52.3800, 1441,    149.4,  20.5078,  35.6619,2,-999.0000,9,     95.0,   -999.0,9, -999.000,9,    0.858,2,  149.9, 20.4853
      06MT32_1,  ISS2,   140,  1,      8,     11,2,19950329,2313, 11.5917,  52.3800, 1441,    199.6,  17.7971,  35.5119,2,-999.0000,9,     59.9,   -999.0,9, -999.000,9,    0.643,2,  200.2, 17.7516
      06MT32_1,  ISS2,   140,  1,      7,     10,2,19950329,2313, 11.5917,  52.3800, 1441,    448.4,  12.2028,  35.4746,2,-999.0000,9,     31.3,   -999.0,9, -999.000,9,    0.204,2,  449.6, 12.1428
      06MT32_1,  ISS2,   140,  1,      6,      9,2,19950329,2313, 11.5917,  52.3800, 1441,    597.4,  11.1232,  35.4244,2,-999.0000,9,     29.9,   -999.0,9, -999.000,9,    0.118,2,  598.8, 11.0474
      06MT32_1,  ISS2,   140,  1,      5,      8,2,19950329,2313, 11.5917,  52.3800, 1441,    599.5,  11.1222,  35.4291,2,-999.0000,9,     29.4,   -999.0,9, -999.000,9, -999.000,9,  600.9, 11.0461
      06MT32_1,  ISS2,   140,  1,      4,      6,2,19950329,2313, 11.5917,  52.3800, 1441,    693.7,  10.8505,  35.4798,2,-999.0000,9,     23.2,   -999.0,9, -999.000,9,    0.090,2,  695.2, 10.7634
      06MT32_1,  ISS2,   140,  1,      3,      5,2,19950329,2313, 11.5917,  52.3800, 1441,    793.0,   9.8748,  35.4153,2,-999.0000,9,     21.9,   -999.0,9, -999.000,9, -999.000,9,  794.6,  9.7804
      06MT32_1,  ISS2,   140,  1,      2,      4,2,19950329,2313, 11.5917,  52.3800, 1441,   1013.3,  10.2293,  35.6804,2,-999.0000,9,     20.3,   -999.0,9, -999.000,9, -999.000,9, 1015.0, 10.1044
      06MT32_1,  ISS2,   140,  1,      1,      1,2,19950329,2313, 11.5917,  52.3800, 1441,   1409.0,   5.8371,  35.0520,2,-999.0000,9,     53.4,   -999.0,9, -999.000,9,    0.028,2, 1410.5,  5.7058
      06MT32_1,  ISS2,   146,  1,     10,     11,2,19950331,0759, 11.3333,  53.0250,  819,     10.2,  28.5243,  35.5720,2,  35.5792,2,    342.6,   -999.0,9, -999.000,9,    1.042,2,   10.2, 28.5249
      06MT32_1,  ISS2,   146,  1,      9,     10,2,19950331,0759, 11.3333,  53.0250,  819,     50.0,  26.1409,  36.0179,2,-999.0000,9,    205.9,   -999.0,9, -999.000,9,    1.129,2,   50.2, 26.1389
      06MT32_1,  ISS2,   146,  1,      8,      9,2,19950331,0759, 11.3333,  53.0250,  819,     99.9,  23.9566,  35.9686,2,  35.9514,4,    161.2,   -999.0,9, -999.000,9,    1.049,2,  100.2, 23.9404
      06MT32_1,  ISS2,   146,  1,      7,      8,2,19950331,0759, 11.3333,  53.0250,  819,    199.8,  15.8108,  35.5308,2,-999.0000,9,     46.8,   -999.0,9, -999.000,9,    0.525,2,  200.4, 15.8188
      06MT32_1,  ISS2,   146,  1,      6,      7,2,19950331,0759, 11.3333,  53.0250,  819,    249.9,  14.3645,  35.4771,2,-999.0000,9,     39.8,   -999.0,9, -999.000,9,    0.456,2,  250.6, 14.3290
      06MT32_1,  ISS2,   146,  1,      5,      6,2,19950331,0759, 11.3333,  53.0250,  819,    349.6,  13.3683,  35.5805,2,-999.0000,9,     27.8,     23.0,3, -999.000,9,    0.271,2,  350.6, 13.3171
      06MT32_1,  ISS2,   146,  1,      4,      5,2,19950331,0759, 11.3333,  53.0250,  819,    448.9,  12.9020,  35.7072,2,-999.0000,9,     21.7,   -999.0,9, -999.000,9,    0.214,2,  450.1, 12.8396
      06MT32_1,  ISS2,   146,  1,      3,      4,2,19950331,0759, 11.3333,  53.0250,  819,    599.0,  11.5746,  35.6259,2,-999.0000,9,     13.6,      8.3,3, -999.000,9,    0.089,2,  600.4, 11.4965
      06MT32_1,  ISS2,   146,  1,      2,      3,2,19950331,0759, 11.3333,  53.0250,  819,    699.1,  10.5689,  35.4973,2,-999.0000,9,     19.4,   -999.0,9, -999.000,9,    0.067,2,  700.6, 10.4825
      06MT32_1,  ISS2,   146,  1,      1,      1,2,19950331,0759, 11.3333,  53.0250,  819,    792.5,  10.4171,  35.5639,2,-999.0000,9,     18.6,   -999.0,9, -999.000,9,    0.065,2,  794.1, 10.3195