BOTTLE,20220930CCHSIOAMB
EXPOCODE,SECT_ID,STNNBR,CASTNO,SAMPNO,BTLNBR,BTLNBR_FLAG_W,DATE,TIME,LATITUDE,LONGITUDE,DEPTH,CTDPRS,CTDTMP,CTDSAL,CTDSAL_FLAG_W,SALNTY,SALNTY_FLAG_W,CTDOXY,OXYGEN,OXYGEN_FLAG_W,CFC-11,CFC-11_FLAG_W,CFC-12,CFC-12_FLAG_W,CTDRAW,THETA
,,,,,,,,,,,,DBAR,DEG C,PSS-78,,PSS-78,,UMOL/KG,UMOL/KG,,PMOL/KG,,PMOL/KG,,,DEG C
      06MT32_1,  ISS2,   217,  1,     17,     17,2,19950424,1827, 24.1793,  58.6307, 3279,     10.1,  26.6267,  36.7153,2,  36.6969,4,    205.6,   -999.0,9, -999.000,9,    1.162,2,   10.1, 26.5938
      06MT32_1,  ISS2,   217,  1,     16,     16,2,19950424,1827, 24.1793,  58.6307, 3279,     79.8,  23.4451,  36.6318,2,-999.0000,9,    159.1,   -999.0,9, -999.000,9,    1.061,2,   80.1, 23.4311
      06MT32_1,  ISS2,   217,  1,     15,     15,2,19950424,1827, 24.1793,  58.6307, 3279,    139.7,  20.7568,  36.4057,2,-999.0000,9,     28.0,     17.6,4, -999.000,9,    0.746,2,  140.1, 20.7270
      06MT32_1,  ISS2,   217,  1,     14,     14,2,19950424,1827, 24.1793,  58.6307, 3279,    179.5,  21.0609,  37.0135,2,-999.0000,9,     33.3,   -999.0,9, -999.000,9,    0.807,2,  180.1, 21.0312
      06MT32_1,  ISS2,   217,  1,     13,     13,2,19950424,1827, 24.1793,  58.6307, 3279,    219.4,  20.9919,  37.3690,2,-999.0000,9,     54.2,     65.5,4, -999.000,9,    0.856,2,  220.1, 20.9475
      06MT32_1,  ISS2,   217,  1,     12,     12,2,19950424,1827, 24.1793,  58.6307, 3279,    259.2,  21.1973,  37.7308,2,-999.0000,9,     77.1,   -999.0,9, -999.000,9,    0.975,2,  260.0, 21.1453
      06MT32_1,  ISS2,   217,  1,     11,     11,2,19950424,1827, 24.1793,  58.6307, 3279,    299.6,  17.8789,  36.8818,2,-999.0000,9,     38.9,   -999.0,9, -999.000,9,    0.629,2,  300.5, 17.8262
      06MT32_1,  ISS2,   217,  1,     10,     10,2,19950424,1827, 24.1793,  58.6307, 3279,    399.2,  13.8685,  35.9631,2,-999.0000,9,      2.4,      0.0,2, -999.000,9,    0.187,2,  400.3, 13.8264
      06MT32_1,  ISS2,   217,  1,      9,      9,2,19950424,1827, 24.1793,  58.6307, 3279,    501.7,  12.7072,  35.7972,2,  35.7880,2,      1.8,      0.0,2, -999.000,9,    0.099,2,  503.0, 12.6379
      06MT32_1,  ISS2,   217,  1,      8,      8,2,19950424,1827, 24.1793,  58.6307, 3279,    600.0,  11.7534,  35.6801,2,-999.0000,9,      2.0,      0.0,2, -999.000,9,    0.048,2,  601.4, 11.6744
      06MT32_1,  ISS2,   217,  1,      7,      7,2,19950424,1827, 24.1793,  58.6307, 3279,    796.1,  10.2693,  35.5461,2,  35.5409,2,      1.7,      0.0,2, -999.000,9,    0.032,2,  797.7, 10.1721
      06MT32_1,  ISS2,   217,  1,      6,      6,2,19950424,1827, 24.1793,  58.6307, 3279,   1011.4,   8.7792,  35.4060,2,  35.3979,2,      2.6,      0.0,2, -999.000,9,    0.011,2, 1013.1,  8.6654
      06MT32_1,  ISS2,   217,  1,      5,      5,2,19950424,1827, 24.1793,  58.6307, 3279,   1500.4,   5.7032,  35.0854,2,  35.0785,2,     28.0,     29.2,2, -999.000,9, -999.000,9, 1501.8,  5.5638
      06MT32_1,  ISS2,   217,  1,      4,      4,2,19950424,1827, 24.1793,  58.6307, 3279,   2014.8,   3.2511,  34.8627,2,  34.8574,2,     75.5,   -999.0,9, -999.000,9, -999.000,9, 2015.3,  3.0936
      06MT32_1,  ISS2,   217,  1,      3,      3,2,19950424,1827, 24.1793,  58.6307, 3279,   2499.3,   2.2222,  34.7811,2,  34.7754,2,    103.5,    102.1,2, -999.000,9, -999.000,9, 2498.7,  2.0372
      06MT32_1,  ISS2,   217,  1,      2,      2,2,19950424,1827, 24.1793,  58.6307, 3279,   3001.2,   1.8546,  34.7543,2,  34.7482,2,    112.8,    109.1,2, -999.000,9, -999.000,9, 2999.1,  1.6294
      06MT32_1,  ISS2,   217,  1,      1,      1,2,19950424,1827, 24.1793,  58.6307, 3279,   3201.9,   1.8176,  34.7500,2,  34.7451,2,    110.1,   -999.0,9, -999.000,9, -999.000,9, 3199.2,  1.5734
      06MT32_1,  ISS2,   218,  1,     13,     14,2,19950424,2319, 24.4288,  58.0840, 2885,     10.9,  26.3478,  36.7558,2,  36.7476,2,    347.2,   -999.0,9, -999.000,9,    1.104,2,   10.9, 26.2725
      06MT32_1,  ISS2,   218,  1,     12,     13,2,19950424,2319, 24.4288,  58.0840, 2885,     81.3,  23.1943,  36.5787,2,-999.0000,9,    129.6,    135.9,3, -999.000,9,    1.031,2,   81.6, 23.1733
      06MT32_1,  ISS2,   218,  1,     11,     12,2,19950424,2319, 24.4288,  58.0840, 2885,    122.2,  21.3317,  36.2949,2,-999.0000,9,     21.3,   -999.0,9, -999.000,9,    0.786,2,  122.6, 21.3064
      06MT32_1,  ISS2,   218,  1,     10,     11,2,19950424,2319, 24.4288,  58.0840, 2885,    179.0,  20.3335,  36.6838,2,-999.0000,9,     14.2,      0.0,4, -999.000,9,    0.734,2,  179.6, 20.3139
      06MT32_1,  ISS2,   218,  1,      9,     10,2,19950424,2319, 24.4288,  58.0840, 2885,    219.2,  20.5419,  37.2055,2,-999.0000,9,     55.7,     57.4,2, -999.000,9,    0.827,2,  219.9, 20.4976
      06MT32_1,  ISS2,   218,  1,      8,      9,2,19950424,2319, 24.4288,  58.0840, 2885,    249.4,  19.9687,  37.2559,2,-999.0000,9,     64.8,   -999.0,9, -999.000,9,    0.781,2,  250.1, 19.9254
      06MT32_1,  ISS2,   218,  1,      7,      8,2,19950424,2319, 24.4288,  58.0840, 2885,    300.3,  18.2251,  36.9840,2,-999.0000,9,     42.0,   -999.0,9, -999.000,9,    0.618,2,  301.2, 18.1659
      06MT32_1,  ISS2,   218,  1,      6,      7,2,19950424,2319, 24.4288,  58.0840, 2885,    399.4,  14.3123,  36.0598,2,-999.0000,9,      3.6,      0.0,2, -999.000,9,    0.236,2,  400.5, 14.2509
      06MT32_1,  ISS2,   218,  1,      5,      6,2,19950424,2319, 24.4288,  58.0840, 2885,    497.3,  12.7542,  35.7982,2,  35.7910,2,      2.2,      0.0,2, -999.000,9,    0.110,2,  498.6, 12.6854
      06MT32_1,  ISS2,   218,  1,      4,      5,2,19950424,2319, 24.4288,  58.0840, 2885,    616.7,  11.7139,  35.6736,2,-999.0000,9,      2.0,      0.0,2, -999.000,9,    0.056,2,  618.1, 11.6328
      06MT32_1,  ISS2,   218,  1,      3,      4,2,19950424,2319, 24.4288,  58.0840, 2885,    796.1,  10.1649,  35.5375,2,  35.5291,2,      1.7,      0.6,2, -999.000,9,    0.022,2,  797.7, 10.0683
      06MT32_1,  ISS2,   218,  1,      2,      3,2,19950424,2319, 24.4288,  58.0840, 2885,    998.3,   8.7363,  35.3979,2,-999.0000,9,      2.5,      0.0,2, -999.000,9, -999.000,9, 1000.0,  8.6244
      06MT32_1,  ISS2,   218,  1,      1,      1,2,19950424,2319, 24.4288,  58.0840, 2885,   1200.0,   7.4520,  35.2617,2,-999.0000,9,      8.5,      0.0,3, -999.000,9, -999.000,9, 1201.6,  7.3273
      06MT32_1,  ISS2,   219,  1,     15,     15,2,19950425,0325, 24.6700,  57.5773, 1825,     10.4,  25.9254,  36.7272,2,  36.7246,2,    195.9,   -999.0,9, -999.000,9,    1.096,2,   10.4, 25.9181
      06MT32_1,  ISS2,   219,  1,     14,     14,2,19950425,0325, 24.6700,  57.5773, 1825,     79.5,  23.4281,  36.6076,2,  36.6051,2,    153.9,    154.6,2, -999.000,9,    1.061,2,   79.8, 23.4160
      06MT32_1,  ISS2,   219,  1,     13,     13,2,19950425,0325, 24.6700,  57.5773, 1825,    149.4,  19.7857,  36.0524,2,-999.0000,9,      2.7,      0.0,2, -999.000,9,    0.642,2,  149.9, 19.7607
      06MT32_1,  ISS2,   219,  1,     12,     12,2,19950425,0325, 24.6700,  57.5773, 1825,    198.9,  19.9423,  36.7492,2,-999.0000,9,     27.5,   -999.0,9, -999.000,9,    0.694,2,  199.5, 19.9276
      06MT32_1,  ISS2,   219,  1,     11,     11,2,19950425,0325, 24.6700,  57.5773, 1825,    239.1,  20.1930,  37.1952,2,-999.0000,9,     51.5,     49.7,2, -999.000,9,    0.744,2,  239.8, 20.1454
      06MT32_1,  ISS2,   219,  1,     10,     10,2,19950425,0325, 24.6700,  57.5773, 1825,    269.3,  18.3672,  36.8451,2,-999.0000,9,     35.0,   -999.0,9, -999.000,9,    0.600,2,  270.1, 18.3146
      06MT32_1,  ISS2,   219,  1,      9,      9,2,19950425,0325, 24.6700,  57.5773, 1825,    319.2,  17.2197,  36.6704,2,-999.0000,9,     25.5,   -999.0,9, -999.000,9,    0.510,2,  320.1, 17.1834
      06MT32_1,  ISS2,   219,  1,      8,      8,2,19950425,0325, 24.6700,  57.5773, 1825,    398.6,  14.1176,  36.0129,2,-999.0000,9,      2.4,      0.1,2, -999.000,9,    0.201,2,  399.7, 14.0578
      06MT32_1,  ISS2,   219,  1,      7,      7,2,19950425,0325, 24.6700,  57.5773, 1825,    498.7,  12.9130,  35.8261,2,-999.0000,9,      1.8,      0.0,2, -999.000,9, -999.000,9,  500.0, 12.8434
      06MT32_1,  ISS2,   219,  1,      6,      6,2,19950425,0325, 24.6700,  57.5773, 1825,    595.3,  11.9047,  35.6977,2,-999.0000,9,      1.9,      0.0,2, -999.000,9,    0.065,2,  596.7, 11.8257
      06MT32_1,  ISS2,   219,  1,      5,      5,2,19950425,0325, 24.6700,  57.5773, 1825,    798.1,  10.5020,  35.5655,2,  35.5577,2,      1.1,      0.0,2, -999.000,9,    0.024,2,  799.7, 10.4032
      06MT32_1,  ISS2,   219,  1,      4,      4,2,19950425,0325, 24.6700,  57.5773, 1825,    995.8,   8.8446,  35.4096,2,-999.0000,9,      1.9,      1.3,2, -999.000,9,    0.008,2,  997.5,  8.7322
      06MT32_1,  ISS2,   219,  1,      3,      3,2,19950425,0325, 24.6700,  57.5773, 1825,   1213.1,   7.3241,  35.2493,2,  35.2416,2,      8.4,      0.0,3, -999.000,9, -999.000,9, 1214.7,  7.1991
      06MT32_1,  ISS2,   219,  1,      2,      2,2,19950425,0325, 24.6700,  57.5773, 1825,   1497.8,   5.4356,  35.0592,2,  35.0526,2,     31.5,     32.2,2, -999.000,9, -999.000,9, 1499.2,  5.2995
      06MT32_1,  ISS2,   219,  1,      1,      1,2,19950425,0325, 24.6700,  57.5773, 1825,   1754.0,   4.2640,  34.9500,2,  34.9457,2,     53.2,     53.0,2, -999.000,9, -999.000,9, 1755.0,  4.1169
      06MT32_1,  ISS2,   221,  1,      8,      8,2,19950425,0747, 24.4257,  57.3993,  772,      8.4,  26.2465,  36.7604,2,  36.7595,2,    199.7,    212.2,4, -999.000,9,    1.054,2,    8.4, 26.2447
      06MT32_1,  ISS2,   221,  1,      7,      7,2,19950425,0747, 24.4257,  57.3993,  772,     59.8,  23.4992,  36.6062,2,  36.5920,4,    156.1,    157.9,2, -999.000,9,    1.061,2,   60.0, 23.4826
      06MT32_1,  ISS2,   221,  1,      6,      6,2,19950425,0747, 24.4257,  57.3993,  772,    129.3,  20.9618,  36.3645,2,-999.0000,9,     17.5,     15.0,2, -999.000,9,    0.742,2,  129.7, 20.9289
      06MT32_1,  ISS2,   221,  1,      5,      5,2,19950425,0747, 24.4257,  57.3993,  772,    209.1,  20.2792,  37.1016,2,-999.0000,9,     43.2,   -999.0,9, -999.000,9,    0.733,2,  209.7, 20.2359
      06MT32_1,  ISS2,   221,  1,      4,      4,2,19950425,0747, 24.4257,  57.3993,  772,    306.0,  16.2781,  36.3872,2,-999.0000,9,      6.2,      0.0,3, -999.000,9,    0.394,2,  306.9, 16.1692
      06MT32_1,  ISS2,   221,  1,      3,      3,2,19950425,0747, 24.4257,  57.3993,  772,    335.6,  15.3765,  36.2252,2,-999.0000,9,      3.4,      1.4,2, -999.000,9,    0.316,2,  336.5, 15.3269
      06MT32_1,  ISS2,   221,  1,      2,      2,2,19950425,0747, 24.4257,  57.3993,  772,    491.8,  13.0009,  35.8465,2,-999.0000,9,      1.8,      0.0,2, -999.000,9, -999.000,9,  493.0, 12.9320
      06MT32_1,  ISS2,   221,  1,      1,      1,2,19950425,0747, 24.4257,  57.3993,  772,    707.7,  11.0143,  35.6101,2,  35.6017,2,      1.6,      0.0,2, -999.000,9, -999.000,9,  709.2, 10.9244
      06MT32_1,  ISS2,   222,  1,      7,      7,2,19950425,0916, 24.3493,  57.3442,  643,     11.9,  26.2391,  36.7469,2,-999.0000,9,    200.0,    211.6,4, -999.000,9,    1.073,2,   11.9, 26.2396
      06MT32_1,  ISS2,   222,  1,      6,      6,2,19950425,0916, 24.3493,  57.3442,  643,     60.8,  23.5276,  36.6246,2,-999.0000,9,    162.1,    164.6,2, -999.000,9,    1.077,2,   61.0, 23.5190
      06MT32_1,  ISS2,   222,  1,      5,      5,2,19950425,0916, 24.3493,  57.3442,  643,    129.5,  20.9266,  36.4107,2,-999.0000,9,     18.7,   -999.0,9, -999.000,9,    0.740,2,  129.9, 20.9024
      06MT32_1,  ISS2,   222,  1,      4,      4,2,19950425,0916, 24.3493,  57.3442,  643,    199.0,  20.5867,  37.0268,2,-999.0000,9,     40.2,     39.6,2, -999.000,9,    0.759,2,  199.6, 20.5481
      06MT32_1,  ISS2,   222,  1,      3,      3,2,19950425,0916, 24.3493,  57.3442,  643,    249.1,  21.2568,  37.6845,2,-999.0000,9,     88.0,     82.3,3, -999.000,9,    1.321,2,  249.8, 21.1994
      06MT32_1,  ISS2,   222,  1,      2,      2,2,19950425,0916, 24.3493,  57.3442,  643,    298.5,  17.3091,  36.6690,2,-999.0000,9,     19.2,     17.5,2, -999.000,9,    0.604,2,  299.4, 17.2628
      06MT32_1,  ISS2,   222,  1,      1,      1,2,19950425,0916, 24.3493,  57.3442,  643,    399.4,  14.7070,  36.1613,2,-999.0000,9,      7.1,      3.3,2, -999.000,9,    0.268,2,  400.5, 14.6531
      06MT32_1,  ISS2,   223,  1,      8,      8,2,19950425,1038, 24.2827,  57.2885,  423,     11.6,  26.6595,  36.7831,2,-999.0000,9,    200.5,    212.4,4, -999.000,9,    1.024,2,   11.6, 26.6608
      06MT32_1,  ISS2,   223,  1,      7,      7,2,19950425,1038, 24.2827,  57.2885,  423,     60.3,  23.4109,  36.6393,2,-999.0000,9,    158.2,    142.2,4, -999.000,9,    1.018,2,   60.5, 23.4017
      06MT32_1,  ISS2,   223,  1,      6,      6,2,19950425,1038, 24.2827,  57.2885,  423,    120.5,  21.1370,  36.3459,2,-999.0000,9,     18.5,     13.7,3, -999.000,9,    0.740,2,  120.9, 21.1213
      06MT32_1,  ISS2,   223,  1,      5,      5,2,19950425,1038, 24.2827,  57.2885,  423,    180.4,  20.7537,  36.8532,2,-999.0000,9,     37.6,     36.2,2, -999.000,9,    0.792,2,  181.0, 20.7165
      06MT32_1,  ISS2,   223,  1,      4,      4,2,19950425,1038, 24.2827,  57.2885,  423,    241.5,  22.2615,  38.0682,2,-999.0000,9,    113.9,    123.4,4, -999.000,9,    2.452,2,  242.2, 22.2095
      06MT32_1,  ISS2,   223,  1,      3,      3,2,19950425,1038, 24.2827,  57.2885,  423,    279.7,  22.4339,  38.3177,2,-999.0000,9,    128.8,    129.5,2, -999.000,9,    3.060,2,  280.5, 22.3811
      06MT32_1,  ISS2,   223,  1,      2,      2,2,19950425,1038, 24.2827,  57.2885,  423,    340.6,  22.2652,  38.4065,2,-999.0000,9,    122.1,    115.7,3, -999.000,9,    2.626,2,  341.6, 22.1920
      06MT32_1,  ISS2,   223,  1,      1,      1,2,19950425,1038, 24.2827,  57.2885,  423,    379.7,  15.5892,  36.3482,2,-999.0000,9,     15.0,      9.1,3, -999.000,9,    0.369,2,  380.7, 15.5226
      06MT32_1,  ISS2,   224,  1,      7,      7,2,19950425,1154, 24.2168,  57.2273,  349,      9.6,  26.9288,  36.8037,2,-999.0000,9,    193.9,   -999.0,9, -999.000,9,    1.012,2,    9.6, 26.9249
      06MT32_1,  ISS2,   224,  1,      6,      6,2,19950425,1154, 24.2168,  57.2273,  349,     60.2,  23.2399,  36.6410,2,-999.0000,9,    127.3,    123.2,2, -999.000,9,    1.014,2,   60.4, 23.2302
      06MT32_1,  ISS2,   224,  1,      5,      5,2,19950425,1154, 24.2168,  57.2273,  349,    116.8,  21.3741,  36.4093,2,-999.0000,9,     20.9,     20.4,2, -999.000,9,    0.749,2,  117.2, 21.3529
      06MT32_1,  ISS2,   224,  1,      4,      4,2,19950425,1154, 24.2168,  57.2273,  349,    168.9,  22.3211,  37.3900,2,-999.0000,9,     99.7,    103.7,2, -999.000,9,    1.500,2,  169.4, 22.2894
      06MT32_1,  ISS2,   224,  1,      3,      3,2,19950425,1154, 24.2168,  57.2273,  349,    239.7,  22.2979,  37.9333,2,-999.0000,9,    110.1,    113.6,2, -999.000,9,    2.189,2,  240.4, 22.2448
      06MT32_1,  ISS2,   224,  1,      2,      2,2,19950425,1154, 24.2168,  57.2273,  349,    296.9,  22.1477,  38.1839,2,-999.0000,9,    119.3,    116.6,2, -999.000,9,    2.397,2,  297.8, 22.0868
      06MT32_1,  ISS2,   224,  1,      1,      1,2,19950425,1154, 24.2168,  57.2273,  349,    325.8,  22.1327,  38.3028,2,-999.0000,9,    115.6,    121.3,3, -999.000,9,    2.824,2,  326.7, 22.0621