BOTTLE,20220930CCHSIOAMB
EXPOCODE,SECT_ID,STNNBR,CASTNO,SAMPNO,BTLNBR,BTLNBR_FLAG_W,DATE,TIME,LATITUDE,LONGITUDE,DEPTH,CTDPRS,CTDTMP,CTDSAL,CTDSAL_FLAG_W,SALNTY,SALNTY_FLAG_W,CTDOXY,OXYGEN,OXYGEN_FLAG_W,CFC-11,CFC-11_FLAG_W,CFC-12,CFC-12_FLAG_W,CTDRAW,THETA
,,,,,,,,,,,,DBAR,DEG C,PSS-78,,PSS-78,,UMOL/KG,UMOL/KG,,PMOL/KG,,PMOL/KG,,,DEG C
      06MT32_1,  ISS2,   148,  1,     14,     15,2,19950331,1930, 11.1705,  53.1260, 2737,     11.1,  28.0945,  35.8448,2,-999.0000,5,    213.4,    207.4,3, -999.000,9,    0.991,2,   11.1, 28.0938
      06MT32_1,  ISS2,   148,  1,     13,     13,2,19950331,1930, 11.1705,  53.1260, 2737,     99.3,  23.4394,  35.8839,2,-999.0000,9,    143.2,   -999.0,9, -999.000,9,    0.940,2,   99.6, 23.4134
      06MT32_1,  ISS2,   148,  1,     12,     12,2,19950331,1930, 11.1705,  53.1260, 2737,    254.8,  14.4916,  35.4771,2,-999.0000,9,     42.8,   -999.0,9, -999.000,9, -999.000,9,  255.6, 14.4514
      06MT32_1,  ISS2,   148,  1,     11,     11,2,19950331,1930, 11.1705,  53.1260, 2737,    404.0,  11.8283,  35.3265,2,-999.0000,9,     44.4,   -999.0,9, -999.000,9,    0.193,2,  405.1, 11.7755
      06MT32_1,  ISS2,   148,  1,     10,     10,2,19950331,1930, 11.1705,  53.1260, 2737,    499.2,  11.2970,  35.3417,2,-999.0000,9,     38.9,     31.4,3, -999.000,9,    0.138,2,  500.5, 11.2334
      06MT32_1,  ISS2,   148,  1,      9,      9,2,19950331,1930, 11.1705,  53.1260, 2737,    657.0,  10.8306,  35.4637,2,-999.0000,9,     24.1,   -999.0,9, -999.000,9,    0.099,2,  658.5, 10.7484
      06MT32_1,  ISS2,   148,  1,      8,      8,2,19950331,1930, 11.1705,  53.1260, 2737,    794.0,   9.8179,  35.4224,2,  35.4261,2,     23.1,   -999.0,9, -999.000,9,    0.044,2,  795.6,  9.7237
      06MT32_1,  ISS2,   148,  1,      7,      7,2,19950331,1930, 11.1705,  53.1260, 2737,   1000.9,   9.4703,  35.5359,2,-999.0000,9,     21.5,   -999.0,9, -999.000,9, -999.000,9, 1002.6,  9.3526
      06MT32_1,  ISS2,   148,  1,      6,      6,2,19950331,1930, 11.1705,  53.1260, 2737,   1188.6,   6.7419,  35.0965,2,-999.0000,9,     45.1,     42.2,2, -999.000,9, -999.000,9, 1190.2,  6.6249
      06MT32_1,  ISS2,   148,  1,      5,      5,2,19950331,1930, 11.1705,  53.1260, 2737,   1491.6,   4.9242,  34.9682,2,  34.9660,2,     69.2,   -999.0,9, -999.000,9,    0.011,2, 1493.0,  4.7945
      06MT32_1,  ISS2,   148,  1,      4,      4,2,19950331,1930, 11.1705,  53.1260, 2737,   1986.7,   3.0903,  34.8395,2,  34.8391,2,    101.2,     99.0,2, -999.000,9, -999.000,9, 1987.3,  2.9379
      06MT32_1,  ISS2,   148,  1,      3,      3,2,19950331,1930, 11.1705,  53.1260, 2737,   2495.1,   2.2013,  34.7769,2,-999.0000,9,    132.3,   -999.0,9, -999.000,9, -999.000,9, 2494.5,  2.0171
      06MT32_1,  ISS2,   148,  1,      1,      1,2,19950331,1930, 11.1705,  53.1260, 2737,   2720.6,   1.9285,  34.7588,2,-999.0000,9,    143.9,   -999.0,9, -999.000,9, -999.000,9, 2719.3,  1.7286
      06MT32_1,  ISS2,   148,  1,      2,      2,2,19950331,1930, 11.1705,  53.1260, 2737,   2727.5,   1.9235,  34.7596,2,  34.7557,2,    142.8,    139.7,2, -999.000,9, -999.000,9, 2726.2,  1.7230
      06MT32_1,  ISS2,   149,  1,     13,     17,2,19950331,2358, 10.9880,  53.2383, 3821,     10.3,  28.3144,  35.8674,2,  35.8568,4,    198.7,    199.8,2, -999.000,9,    1.047,2,   10.3, 28.3066
      06MT32_1,  ISS2,   149,  1,     12,     16,2,19950331,2358, 10.9880,  53.2383, 3821,     85.2,  23.5258,  35.8285,2,-999.0000,9,    140.4,   -999.0,9, -999.000,9, -999.000,9,   85.5, 23.5090
      06MT32_1,  ISS2,   149,  1,     11,     15,2,19950331,2358, 10.9880,  53.2383, 3821,    214.2,  15.4624,  35.5852,2,-999.0000,9,     26.4,     24.1,2, -999.000,9,    0.435,2,  214.9, 15.4317
      06MT32_1,  ISS2,   149,  1,     10,     13,2,19950331,2358, 10.9880,  53.2383, 3821,    386.5,  13.0278,  35.6518,2,-999.0000,9,     24.0,     21.6,2, -999.000,9,    0.237,2,  387.6, 12.9761
      06MT32_1,  ISS2,   149,  1,      9,     12,2,19950331,2358, 10.9880,  53.2383, 3821,    490.5,  11.1202,  35.3352,2,-999.0000,9,     36.0,   -999.0,9, -999.000,9, -999.000,9,  491.7, 11.0583
      06MT32_1,  ISS2,   149,  1,      8,     11,2,19950331,2358, 10.9880,  53.2383, 3821,    585.2,  11.7324,  35.6213,2,-999.0000,9,     22.6,   -999.0,9, -999.000,9, -999.000,9,  586.6, 11.6555
      06MT32_1,  ISS2,   149,  1,      7,     10,2,19950331,2358, 10.9880,  53.2383, 3821,    700.1,  12.2478,  35.9118,2,-999.0000,9,     17.8,   -999.0,9, -999.000,9, -999.000,9,  701.6, 12.1526
      06MT32_1,  ISS2,   149,  1,      6,      9,2,19950331,2358, 10.9880,  53.2383, 3821,    890.8,  10.6058,  35.7291,2,-999.0000,9,     19.3,   -999.0,9, -999.000,9, -999.000,9,  892.4, 10.4942
      06MT32_1,  ISS2,   149,  1,      5,      8,2,19950331,2358, 10.9880,  53.2383, 3821,   1052.8,   7.8035,  35.2034,2,-999.0000,9,     33.4,   -999.0,9, -999.000,9,    0.025,2, 1054.5,  7.6925
      06MT32_1,  ISS2,   149,  1,      4,      7,2,19950331,2358, 10.9880,  53.2383, 3821,   1204.0,   6.5282,  35.0596,2,-999.0000,9,     46.2,     47.2,2, -999.000,9,    0.009,2, 1205.6,  6.4115
      06MT32_1,  ISS2,   149,  1,      3,      6,2,19950331,2358, 10.9880,  53.2383, 3821,   1488.3,   4.9771,  34.9507,2,  34.9559,2,     67.8,     68.2,2, -999.000,9, -999.000,9, 1489.7,  4.8472
      06MT32_1,  ISS2,   149,  1,      2,      4,2,19950331,2358, 10.9880,  53.2383, 3821,   2485.6,   2.1643,  34.7726,2,  34.7626,2,    137.7,    133.3,3, -999.000,9,    0.008,2, 2485.0,  1.9817
      06MT32_1,  ISS2,   149,  1,      1,      1,2,19950331,2358, 10.9880,  53.2383, 3821,   3764.0,   1.6788,  34.7406,2,-999.0000,9,    164.8,   -999.0,9, -999.000,9, -999.000,9, 3759.6,  1.3801
      06MT32_1,  ISS2,   150,  1,     15,     18,2,19950401,0951, 10.5717,  53.4443, 4083,     11.6,  28.2197,  35.8436,2,-999.0000,9,    197.8,    204.7,3, -999.000,9, -999.000,9,   11.6, 28.2214
      06MT32_1,  ISS2,   150,  1,     14,     17,2,19950401,0951, 10.5717,  53.4443, 4083,     98.9,  22.3955,  35.7938,2,-999.0000,9,    116.8,   -999.0,9, -999.000,9,    0.914,2,   99.2, 22.3790
      06MT32_1,  ISS2,   150,  1,     13,     16,2,19950401,0951, 10.5717,  53.4443, 4083,    198.6,  16.1128,  35.5708,2,-999.0000,9,     31.0,   -999.0,9, -999.000,9,    0.497,2,  199.2, 16.0834
      06MT32_1,  ISS2,   150,  1,     12,     15,2,19950401,0951, 10.5717,  53.4443, 4083,    299.1,  13.2147,  35.3564,2,-999.0000,9,     59.0,   -999.0,9, -999.000,9,    0.365,2,  300.0, 13.1711
      06MT32_1,  ISS2,   150,  1,     11,     14,2,19950401,0951, 10.5717,  53.4443, 4083,    398.8,  12.0553,  35.4028,2,-999.0000,9,     39.0,     35.0,2, -999.000,9,    0.221,2,  399.9, 12.0007
      06MT32_1,  ISS2,   150,  1,      9,     12,2,19950401,0951, 10.5717,  53.4443, 4083,    504.8,  11.7694,  35.4998,2,-999.0000,9,     27.4,   -999.0,9, -999.000,9, -999.000,9,  506.1, 11.7032
      06MT32_1,  ISS2,   150,  1,     10,     13,2,19950401,0951, 10.5717,  53.4443, 4083,    511.9,  11.7324,  35.5119,2,-999.0000,9,     23.1,   -999.0,9, -999.000,9, -999.000,9,  513.2, 11.6654
      06MT32_1,  ISS2,   150,  1,      8,     11,2,19950401,0951, 10.5717,  53.4443, 4083,    579.5,  11.7724,  35.6362,2,-999.0000,9,     21.1,   -999.0,9, -999.000,9,    0.113,2,  580.9, 11.6961
      06MT32_1,  ISS2,   150,  1,      7,     10,2,19950401,0951, 10.5717,  53.4443, 4083,    687.0,  11.1132,  35.6088,2,  35.5886,4,     18.1,   -999.0,9, -999.000,9,    0.120,2,  688.5, 11.0256
      06MT32_1,  ISS2,   150,  1,      6,      8,2,19950401,0951, 10.5717,  53.4443, 4083,    797.4,   9.5982,  35.3694,2,-999.0000,9,     27.3,   -999.0,9, -999.000,9,    0.030,2,  799.0,  9.5049
      06MT32_1,  ISS2,   150,  1,      5,      7,2,19950401,0951, 10.5717,  53.4443, 4083,    902.1,   8.6604,  35.2663,2,-999.0000,9,     30.4,   -999.0,9, -999.000,9,    0.064,2,  903.7,  8.5605
      06MT32_1,  ISS2,   150,  1,      4,      6,2,19950401,0951, 10.5717,  53.4443, 4083,   1013.8,   8.0831,  35.2297,2,-999.0000,9,     33.4,   -999.0,9, -999.000,9, -999.000,9, 1015.5,  7.9744
      06MT32_1,  ISS2,   150,  1,      3,      5,2,19950401,0951, 10.5717,  53.4443, 4083,   1227.4,   6.4782,  35.0511,2,  35.0329,4,     51.5,   -999.0,9, -999.000,9,    0.000,2, 1229.0,  6.3595
      06MT32_1,  ISS2,   150,  1,      1,      1,2,19950401,0951, 10.5717,  53.4443, 4083,   4005.2,   1.5259,  34.7310,2,-999.0000,9,    175.0,   -999.0,9, -999.000,9, -999.000,9, 4000.2,  1.2054
      06MT32_1,  ISS2,   150,  1,      2,      2,2,19950401,0951, 10.5717,  53.4443, 4083,   4009.2,   1.5239,  34.7314,2,  34.7278,2,    175.2,    171.1,2, -999.000,9,    0.005,2, 4004.2,  1.2030
      06MT32_1,  ISS2,   152,  1,     18,     19,2,19950401,1735, 10.8040,  53.3748, 3942,      8.9,  28.2334,  35.8411,2,  35.8319,2,      0.0,   -999.0,9, -999.000,9, -999.000,9,    8.9, 28.2368
      06MT32_1,  ISS2,   152,  1,     17,     18,2,19950401,1735, 10.8040,  53.3748, 3942,     76.6,  25.0484,  36.1093,2,-999.0000,9,      0.0,   -999.0,9, -999.000,9,    1.112,2,   76.9, 25.0316
      06MT32_1,  ISS2,   152,  1,     16,     17,2,19950401,1735, 10.8040,  53.3748, 3942,    195.8,  16.4547,  35.6003,2,-999.0000,9,     32.3,   -999.0,9, -999.000,9,    0.490,2,  196.4, 16.4072
      06MT32_1,  ISS2,   152,  1,     15,     16,2,19950401,1735, 10.8040,  53.3748, 3942,    295.5,  13.3144,  35.4085,2,-999.0000,9,     38.3,   -999.0,9, -999.000,9,    0.383,2,  296.4, 13.2789
      06MT32_1,  ISS2,   152,  1,     14,     15,2,19950401,1735, 10.8040,  53.3748, 3942,    399.4,  12.8428,  35.6369,2,-999.0000,9,     28.1,     20.5,3, -999.000,9, -999.000,9,  400.5, 12.7915
      06MT32_1,  ISS2,   152,  1,     13,     14,2,19950401,1735, 10.8040,  53.3748, 3942,    493.4,  11.6316,  35.4923,2,-999.0000,9,     31.1,   -999.0,9, -999.000,9,    0.147,2,  494.6, 11.5675
      06MT32_1,  ISS2,   152,  1,     12,     13,2,19950401,1735, 10.8040,  53.3748, 3942,    592.8,  11.7973,  35.6264,2,-999.0000,9,     21.6,   -999.0,9, -999.000,9,    0.153,2,  594.2, 11.7191
      06MT32_1,  ISS2,   152,  1,     11,     12,2,19950401,1735, 10.8040,  53.3748, 3942,    681.0,  12.3277,  35.9280,2,  35.9113,4,     18.2,   -999.0,9, -999.000,9,    0.151,2,  682.5, 12.2347
      06MT32_1,  ISS2,   152,  1,     10,     11,2,19950401,1735, 10.8040,  53.3748, 3942,    782.6,  10.5989,  35.6035,2,-999.0000,9,     20.4,   -999.0,9, -999.000,9,    0.087,2,  784.2, 10.5015
      06MT32_1,  ISS2,   152,  1,      9,     10,2,19950401,1735, 10.8040,  53.3748, 3942,    874.9,   8.9550,  35.3183,2,-999.0000,9,     31.1,   -999.0,9, -999.000,9,    0.079,2,  876.5,  8.8563
      06MT32_1,  ISS2,   152,  1,      8,      9,2,19950401,1735, 10.8040,  53.3748, 3942,    982.8,   8.2110,  35.2583,2,-999.0000,9,     28.6,   -999.0,9, -999.000,9, -999.000,9,  984.5,  8.1048
      06MT32_1,  ISS2,   152,  1,      7,      8,2,19950401,1735, 10.8040,  53.3748, 3942,   1167.3,   6.8448,  35.1029,2,-999.0000,9,     45.4,     40.1,3, -999.000,9,    0.014,2, 1168.9,  6.7292
      06MT32_1,  ISS2,   152,  1,      6,      7,2,19950401,1735, 10.8040,  53.3748, 3942,   1514.5,   5.0121,  34.9700,2,  34.9467,4,     70.1,   -999.0,9, -999.000,9,    0.019,2, 1515.9,  4.8792
      06MT32_1,  ISS2,   152,  1,      5,      6,2,19950401,1735, 10.8040,  53.3748, 3942,   1990.2,   3.2472,  34.8411,2,  34.8379,2,    106.4,    102.4,2, -999.000,9,    0.013,2, 1990.8,  3.0921
      06MT32_1,  ISS2,   152,  1,      4,      5,2,19950401,1735, 10.8040,  53.3748, 3942,   2493.4,   2.1793,  34.7745,2,  34.7697,2,    133.2,   -999.0,9, -999.000,9, -999.000,9, 2492.8,  1.9957
      06MT32_1,  ISS2,   152,  1,      3,      4,2,19950401,1735, 10.8040,  53.3748, 3942,   3001.1,   1.9015,  34.7567,2,  34.7506,2,    146.3,    144.6,2, -999.000,9,    0.011,2, 2999.0,  1.6753
      06MT32_1,  ISS2,   152,  1,      2,      3,2,19950401,1735, 10.8040,  53.3748, 3942,   3502.6,   1.7527,  34.7458,2,  34.7410,2,    158.8,    155.6,2, -999.000,9, -999.000,9, 3499.0,  1.4795
      06MT32_1,  ISS2,   152,  1,      1,      1,2,19950401,1735, 10.8040,  53.3748, 3942,   3903.3,   1.5509,  34.7345,2,  34.7341,2,    173.4,   -999.0,9, -999.000,9,    0.001,2, 3898.6,  1.2407
      06MT32_1,  ISS2,   153,  1,     20,     20,2,19950402,0102, 10.2005,  53.6292, 4315,      9.9,  27.8786,  35.8717,2,-999.0000,9,    195.4,   -999.0,9, -999.000,9, -999.000,9,    9.9, 27.8682
      06MT32_1,  ISS2,   153,  1,     19,     19,2,19950402,0102, 10.2005,  53.6292, 4315,     99.4,  22.5646,  35.5030,2,-999.0000,9,    146.8,   -999.0,9, -999.000,9,    0.908,2,   99.7, 22.5306
      06MT32_1,  ISS2,   153,  1,     18,     18,2,19950402,0102, 10.2005,  53.6292, 4315,    198.9,  15.2063,  35.3862,2,-999.0000,9,     55.8,   -999.0,9, -999.000,9,    0.497,2,  199.5, 15.1753
      06MT32_1,  ISS2,   153,  1,     17,     17,2,19950402,0102, 10.2005,  53.6292, 4315,    298.6,  12.8073,  35.3474,2,-999.0000,9,     53.1,   -999.0,9, -999.000,9,    0.344,2,  299.5, 12.7698
      06MT32_1,  ISS2,   153,  1,     16,     16,2,19950402,0102, 10.2005,  53.6292, 4315,    399.1,  11.1767,  35.2035,2,-999.0000,9,     57.3,     57.9,2, -999.000,9,    0.243,2,  400.2, 11.1616
      06MT32_1,  ISS2,   153,  1,     15,     15,2,19950402,0102, 10.2005,  53.6292, 4315,    507.5,  11.2560,  35.3708,2,-999.0000,9,     38.6,   -999.0,9, -999.000,9,    0.143,2,  508.8, 11.1914
      06MT32_1,  ISS2,   153,  1,     14,     14,2,19950402,0102, 10.2005,  53.6292, 4315,    610.8,  10.1494,  35.2254,2,-999.0000,9,     45.7,   -999.0,9, -999.000,9, -999.000,9,  612.2, 10.0763
      06MT32_1,  ISS2,   153,  1,     13,     13,2,19950402,0102, 10.2005,  53.6292, 4315,    692.9,  10.3761,  35.4041,2,  35.4022,2,     24.9,   -999.0,9, -999.000,9,    0.064,2,  694.4, 10.2915
      06MT32_1,  ISS2,   153,  1,     12,     12,2,19950402,0102, 10.2005,  53.6292, 4315,    805.5,   9.4264,  35.3355,2,-999.0000,9,     24.8,   -999.0,9, -999.000,9,    0.092,2,  807.1,  9.3331
      06MT32_1,  ISS2,   153,  1,     11,     11,2,19950402,0102, 10.2005,  53.6292, 4315,    896.9,   8.9780,  35.3185,2,-999.0000,9,     26.4,   -999.0,9, -999.000,9,    0.068,2,  898.5,  8.8765
      06MT32_1,  ISS2,   153,  1,     10,     10,2,19950402,0102, 10.2005,  53.6292, 4315,    999.3,   8.1211,  35.2110,2,-999.0000,9,     33.9,   -999.0,9, -999.000,9, -999.000,9, 1001.0,  8.0138
      06MT32_1,  ISS2,   153,  1,      9,      9,2,19950402,0102, 10.2005,  53.6292, 4315,   1002.0,   8.1141,  35.2101,2,-999.0000,9,     34.0,   -999.0,9, -999.000,9, -999.000,9, 1003.7,  8.0065
      06MT32_1,  ISS2,   153,  1,      8,      8,2,19950402,0102, 10.2005,  53.6292, 4315,   1201.5,   7.0155,  35.1430,2,  35.1364,2,     40.8,     38.3,2, -999.000,9, -999.000,9, 1203.1,  6.8947
      06MT32_1,  ISS2,   153,  1,      7,      7,2,19950402,0102, 10.2005,  53.6292, 4315,   1503.1,   5.1190,  34.9493,2,  34.9486,2,     67.2,   -999.0,9, -999.000,9,    0.009,2, 1504.5,  4.9861
      06MT32_1,  ISS2,   153,  1,      6,      6,2,19950402,0102, 10.2005,  53.6292, 4315,   1998.4,   3.3490,  34.8441,2,-999.0000,9,    103.7,    100.5,2, -999.000,9, -999.000,9, 1999.0,  3.1917
      06MT32_1,  ISS2,   153,  1,      5,      5,2,19950402,0102, 10.2005,  53.6292, 4315,   2505.9,   2.2682,  34.7782,2,  34.7706,2,    135.0,   -999.0,9, -999.000,9, -999.000,9, 2505.2,  2.0818
      06MT32_1,  ISS2,   153,  1,      4,      4,2,19950402,0102, 10.2005,  53.6292, 4315,   3001.2,   1.9115,  34.7570,2,  34.7515,2,    146.3,    142.1,2, -999.000,9,    0.000,2, 2999.1,  1.6850
      06MT32_1,  ISS2,   153,  1,      3,      3,2,19950402,0102, 10.2005,  53.6292, 4315,   3502.8,   1.7247,  34.7449,2,  34.7386,2,    162.0,    156.8,3, -999.000,9, -999.000,9, 3499.2,  1.4522
      06MT32_1,  ISS2,   153,  1,      2,      2,2,19950402,0102, 10.2005,  53.6292, 4315,   4004.6,   1.5309,  34.7322,2,-999.0000,9,    176.1,   -999.0,9, -999.000,9, -999.000,9, 3999.6,  1.2103
      06MT32_1,  ISS2,   153,  1,      1,      1,2,19950402,0102, 10.2005,  53.6292, 4315,   4275.5,   1.3890,  34.7259,2,  34.7286,2,    183.1,    176.7,3, -999.000,9, -999.000,9, 4269.8,  1.0427
      06MT32_1,  ISS2,   155,  1,     18,     20,2,19950402,1308, 10.3562,  53.5272, 4204,      9.7,  28.0957,  35.7785,2,-999.0000,9,    194.5,   -999.0,9, -999.000,9,    1.078,2,    9.7, 28.1044
      06MT32_1,  ISS2,   155,  1,     17,     19,2,19950402,1308, 10.3562,  53.5272, 4204,     59.4,  25.2818,  36.1161,2,  36.0922,4,    192.1,    184.6,3, -999.000,9,    1.021,2,   59.6, 25.2737
      06MT32_1,  ISS2,   155,  1,     16,     18,2,19950402,1308, 10.3562,  53.5272, 4204,    188.0,  16.2081,  35.5674,2,-999.0000,9,     25.3,   -999.0,9, -999.000,9,    0.491,2,  188.6, 16.1677
      06MT32_1,  ISS2,   155,  1,     15,     16,2,19950402,1308, 10.3562,  53.5272, 4204,    299.1,  13.1299,  35.3965,2,-999.0000,9,     47.5,   -999.0,9, -999.000,9,    0.364,2,  300.0, 13.1071
      06MT32_1,  ISS2,   155,  1,     14,     15,2,19950402,1308, 10.3562,  53.5272, 4204,    396.7,  11.9368,  35.3767,2,-999.0000,9,     41.5,   -999.0,9, -999.000,9,    0.265,2,  397.8, 11.8824
      06MT32_1,  ISS2,   155,  1,     13,     14,2,19950402,1308, 10.3562,  53.5272, 4204,    495.6,  10.8425,  35.2113,2,-999.0000,9,     53.6,   -999.0,9, -999.000,9,    0.251,2,  496.8, 10.7811
      06MT32_1,  ISS2,   155,  1,     12,     13,2,19950402,1308, 10.3562,  53.5272, 4204,    598.2,  10.5334,  35.3200,2,-999.0000,9,     38.6,   -999.0,9, -999.000,9, -999.000,9,  599.6, 10.4601
      06MT32_1,  ISS2,   155,  1,     11,     12,2,19950402,1308, 10.3562,  53.5272, 4204,    712.1,  10.2623,  35.3994,2,  35.3806,4,     23.4,   -999.0,9, -999.000,9,    0.055,2,  713.6, 10.1759
      06MT32_1,  ISS2,   155,  1,     10,     11,2,19950402,1308, 10.3562,  53.5272, 4204,    811.9,   9.3120,  35.2856,2,-999.0000,9,     32.0,     29.5,2, -999.000,9,    0.043,2,  813.5,  9.2187
      06MT32_1,  ISS2,   155,  1,      9,      9,2,19950402,1308, 10.3562,  53.5272, 4204,    959.5,   8.4786,  35.2556,2,-999.0000,9,     29.3,   -999.0,9, -999.000,9, -999.000,9,  961.2,  8.3732
      06MT32_1,  ISS2,   155,  1,      8,      8,2,19950402,1308, 10.3562,  53.5272, 4204,   1186.2,   6.7868,  35.0888,2,-999.0000,9,     44.5,   -999.0,9, -999.000,9,    0.005,2, 1187.8,  6.6697
      06MT32_1,  ISS2,   155,  1,      7,      7,2,19950402,1308, 10.3562,  53.5272, 4204,   1488.2,   5.5514,  35.0180,2,-999.0000,9,     61.0,   -999.0,9, -999.000,9, -999.000,9, 1489.6,  5.4151
      06MT32_1,  ISS2,   155,  1,      6,      6,2,19950402,1308, 10.3562,  53.5272, 4204,   2028.9,   3.4679,  34.8683,2,  34.8536,4,     93.0,   -999.0,9, -999.000,9, -999.000,9, 2029.4,  3.3059
      06MT32_1,  ISS2,   155,  1,      5,      5,2,19950402,1308, 10.3562,  53.5272, 4204,   2512.5,   2.2577,  34.7772,2,  34.7728,2,    131.8,   -999.0,9, -999.000,9, -999.000,9, 2511.8,  2.0708
      06MT32_1,  ISS2,   155,  1,      4,      4,2,19950402,1308, 10.3562,  53.5272, 4204,   3001.5,   1.8866,  34.7543,2,  34.7492,2,    147.7,    145.3,2, -999.000,9, -999.000,9, 2999.4,  1.6607
      06MT32_1,  ISS2,   155,  1,      3,      3,2,19950402,1308, 10.3562,  53.5272, 4204,   3503.6,   1.7332,  34.7442,2,  34.7398,2,    162.0,    156.4,3, -999.000,9, -999.000,9, 3500.0,  1.4604
      06MT32_1,  ISS2,   155,  1,      2,      2,2,19950402,1308, 10.3562,  53.5272, 4204,   4004.8,   1.5329,  34.7314,2,  34.7286,2,    176.1,    171.1,3, -999.000,9,    0.017,2, 3999.8,  1.2122
      06MT32_1,  ISS2,   155,  1,      1,      1,2,19950402,1308, 10.3562,  53.5272, 4204,   4155.5,   1.4540,  34.7282,2,-999.0000,9,    179.4,   -999.0,9, -999.000,9, -999.000,9, 4150.1,  1.1191