BOTTLE,20220930CCHSIOAMB
EXPOCODE,SECT_ID,STNNBR,CASTNO,SAMPNO,BTLNBR,BTLNBR_FLAG_W,DATE,TIME,LATITUDE,LONGITUDE,DEPTH,CTDPRS,CTDTMP,CTDSAL,CTDSAL_FLAG_W,SALNTY,SALNTY_FLAG_W,CTDOXY,OXYGEN,OXYGEN_FLAG_W,CFC-11,CFC-11_FLAG_W,CFC-12,CFC-12_FLAG_W,CTDRAW,THETA
,,,,,,,,,,,,DBAR,DEG C,PSS-78,,PSS-78,,UMOL/KG,UMOL/KG,,PMOL/KG,,PMOL/KG,,,DEG C
      06MT32_1,  ISS2,   192,  1,     16,     19,2,19950415,1824, -2.0007,  57.5115, 4462,      9.8,  29.9502,  35.3483,2,  35.3486,2,    190.7,   -999.0,9, -999.000,9,    0.917,2,    9.8, 29.9482
      06MT32_1,  ISS2,   192,  1,     15,     17,2,19950415,1824, -2.0007,  57.5115, 4462,     69.9,  27.2426,  35.3610,2,-999.0000,9,    196.0,   -999.0,9, -999.000,9,    0.989,2,   70.1, 27.2315
      06MT32_1,  ISS2,   192,  1,     14,     16,2,19950415,1824, -2.0007,  57.5115, 4462,    148.9,  15.4013,  35.2233,2,  35.2067,4,    124.1,    124.7,2, -999.000,9, -999.000,9,  149.4, 15.3752
      06MT32_1,  ISS2,   192,  1,     13,     14,2,19950415,1824, -2.0007,  57.5115, 4462,    197.6,  13.4298,  35.1327,2,-999.0000,9,    116.1,   -999.0,9, -999.000,9,    0.635,2,  198.2, 13.4013
      06MT32_1,  ISS2,   192,  1,     12,     13,2,19950415,1824, -2.0007,  57.5115, 4462,    299.1,  11.7348,  35.0535,2,  35.0451,2,    108.4,   -999.0,9, -999.000,9,    0.490,2,  300.0, 11.6932
      06MT32_1,  ISS2,   192,  1,     11,     12,2,19950415,1824, -2.0007,  57.5115, 4462,    399.0,  10.4960,  34.9627,2,-999.0000,9,    134.2,    121.3,4, -999.000,9,    0.435,2,  400.1, 10.4521
      06MT32_1,  ISS2,   192,  1,     10,     11,2,19950415,1824, -2.0007,  57.5115, 4462,    498.2,   9.7250,  34.9407,2,-999.0000,9,    100.6,   -999.0,9, -999.000,9,    0.254,2,  499.5,  9.6674
      06MT32_1,  ISS2,   192,  1,      9,     10,2,19950415,1824, -2.0007,  57.5115, 4462,    607.1,   8.7158,  34.9233,2,-999.0000,9,     89.1,   -999.0,9, -999.000,9,    0.119,2,  608.5,  8.6497
      06MT32_1,  ISS2,   192,  1,      8,      9,2,19950415,1824, -2.0007,  57.5115, 4462,    686.6,   8.4257,  34.9783,2,-999.0000,9,     72.7,   -999.0,9, -999.000,9,    0.058,2,  688.1,  8.3520
      06MT32_1,  ISS2,   192,  1,      7,      8,2,19950415,1824, -2.0007,  57.5115, 4462,    827.9,   8.0287,  35.0328,2,  35.0262,2,     55.9,     53.5,2, -999.000,9,    0.033,2,  829.5,  7.9414
      06MT32_1,  ISS2,   192,  1,      6,      7,2,19950415,1824, -2.0007,  57.5115, 4462,    927.5,   6.9601,  34.9343,2,-999.0000,9,     60.9,   -999.0,9, -999.000,9,    0.011,2,  929.1,  6.8692
      06MT32_1,  ISS2,   192,  1,      5,      6,2,19950415,1824, -2.0007,  57.5115, 4462,   1026.9,   6.5541,  34.9383,2,  34.9292,2,     64.8,     64.3,2, -999.000,9,    0.013,2, 1028.6,  6.4558
      06MT32_1,  ISS2,   192,  1,      4,      5,2,19950415,1824, -2.0007,  57.5115, 4462,   1221.6,   5.5844,  34.8718,2,-999.0000,9,     74.4,   -999.0,9, -999.000,9,    0.000,2, 1223.2,  5.4747
      06MT32_1,  ISS2,   192,  1,      3,      4,2,19950415,1824, -2.0007,  57.5115, 4462,   1503.8,   4.0158,  34.8182,2,  34.8188,2,    104.6,    102.3,2, -999.000,9,    0.004,2, 1505.2,  3.8954
      06MT32_1,  ISS2,   192,  1,      2,      3,2,19950415,1824, -2.0007,  57.5115, 4462,   1998.7,   2.6238,  34.7747,2,  34.7728,2,    135.0,    133.7,2, -999.000,9, -999.000,9, 1999.3,  2.4774
      06MT32_1,  ISS2,   192,  1,      1,      1,2,19950415,1824, -2.0007,  57.5115, 4462,   2523.8,   2.0914,  34.7508,2,-999.0000,9,    151.0,    151.4,2, -999.000,9, -999.000,9, 2523.1,  1.9067
      06MT32_1,  ISS2,   193,  1,     15,     17,2,19950416,0350, -0.4977,  57.5058, 4599,     10.0,  29.8135,  35.2921,2,-999.0000,9,    187.9,    199.9,4, -999.000,9,    0.970,2,   10.0, 29.8153
      06MT32_1,  ISS2,   193,  1,     14,     16,2,19950416,0350, -0.4977,  57.5058, 4599,     49.4,  28.0162,  35.4103,2,-999.0000,9,    190.3,    206.2,4, -999.000,9,    0.989,2,   49.6, 28.0013
      06MT32_1,  ISS2,   193,  1,     13,     14,2,19950416,0350, -0.4977,  57.5058, 4599,    148.6,  15.7144,  35.2111,2,-999.0000,9,    117.6,    127.0,4, -999.000,9,    0.775,2,  149.1, 15.6923
      06MT32_1,  ISS2,   193,  1,     12,     13,2,19950416,0350, -0.4977,  57.5058, 4599,    198.9,  13.5831,  35.1562,2,-999.0000,9,    127.6,    116.0,4, -999.000,9,    0.730,2,  199.5, 13.5485
      06MT32_1,  ISS2,   193,  1,     11,     12,2,19950416,0350, -0.4977,  57.5058, 4599,    298.6,  11.7869,  35.0616,2,-999.0000,9,    105.6,   -999.0,9, -999.000,9,    0.447,2,  299.5, 11.7517
      06MT32_1,  ISS2,   193,  1,     10,     11,2,19950416,0350, -0.4977,  57.5058, 4599,    399.2,  10.4906,  34.9910,2,  34.9884,2,     98.8,   -999.0,9, -999.000,9,    0.302,2,  400.3, 10.4451
      06MT32_1,  ISS2,   193,  1,      9,     10,2,19950416,0350, -0.4977,  57.5058, 4599,    470.3,   9.8578,  34.9757,2,-999.0000,9,     85.8,     79.6,3, -999.000,9,    0.144,2,  471.5,  9.8030
      06MT32_1,  ISS2,   193,  1,      8,      9,2,19950416,0350, -0.4977,  57.5058, 4599,    602.0,   9.3515,  35.0225,2,-999.0000,9,     67.5,   -999.0,9, -999.000,9,    0.087,2,  603.4,  9.2831
      06MT32_1,  ISS2,   193,  1,      7,      8,2,19950416,0350, -0.4977,  57.5058, 4599,    698.4,   8.6184,  35.0242,2,-999.0000,9,     57.4,   -999.0,9, -999.000,9,    0.037,2,  699.9,  8.5424
      06MT32_1,  ISS2,   193,  1,      6,      7,2,19950416,0350, -0.4977,  57.5058, 4599,    789.1,   8.1805,  35.0490,2,-999.0000,9,     49.4,   -999.0,9, -999.000,9,    0.018,2,  790.7,  8.0966
      06MT32_1,  ISS2,   193,  1,      5,      6,2,19950416,0350, -0.4977,  57.5058, 4599,    888.6,   7.2932,  34.9860,2,-999.0000,9,     49.2,   -999.0,9, -999.000,9,    0.001,2,  890.2,  7.2040
      06MT32_1,  ISS2,   193,  1,      4,      5,2,19950416,0350, -0.4977,  57.5058, 4599,    997.4,   6.7449,  34.9566,2,  34.9571,2,     54.7,     52.3,2, -999.000,9,    0.003,2,  999.1,  6.6482
      06MT32_1,  ISS2,   193,  1,      3,      4,2,19950416,0350, -0.4977,  57.5058, 4599,   1177.8,   6.1077,  34.9359,2,-999.0000,9,     63.8,   -999.0,9, -999.000,9,    0.003,2, 1179.4,  5.9976
      06MT32_1,  ISS2,   193,  1,      2,      3,2,19950416,0350, -0.4977,  57.5058, 4599,   1477.7,   4.3814,  34.8467,2,  34.8485,2,     92.1,     91.9,2, -999.000,9,    0.003,2, 1479.1,  4.2593
      06MT32_1,  ISS2,   193,  1,      1,      1,2,19950416,0350, -0.4977,  57.5058, 4599,   2001.0,   2.7757,  34.7828,2,-999.0000,9,    128.1,   -999.0,9, -999.000,9, -999.000,9, 2001.5,  2.6269
      06MT32_1,  ISS2,   194,  1,     16,     17,2,19950416,1039,  0.5057,  57.5065, 4771,     10.9,  29.3704,  35.2113,2,  35.2091,2,    189.3,   -999.0,9, -999.000,9,    0.947,2,   10.9, 29.3706
      06MT32_1,  ISS2,   194,  1,     15,     16,2,19950416,1039,  0.5057,  57.5065, 4771,     50.3,  27.7537,  35.4473,2,-999.0000,9,    194.2,   -999.0,9, -999.000,9,    0.930,2,   50.5, 27.7454
      06MT32_1,  ISS2,   194,  1,     14,     15,2,19950416,1039,  0.5057,  57.5065, 4771,    108.9,  23.1278,  35.4620,2,  35.4423,4,    155.2,   -999.0,9, -999.000,9,    1.000,2,  109.3, 23.1262
      06MT32_1,  ISS2,   194,  1,     13,     14,2,19950416,1039,  0.5057,  57.5065, 4771,    149.6,  15.7342,  35.2379,2,-999.0000,9,    116.6,   -999.0,9, -999.000,9,    0.947,2,  150.1, 15.7215
      06MT32_1,  ISS2,   194,  1,     12,     13,2,19950416,1039,  0.5057,  57.5065, 4771,    199.7,  13.7548,  35.1682,2,-999.0000,9,    129.5,   -999.0,9, -999.000,9,    0.751,2,  200.3, 13.7240
      06MT32_1,  ISS2,   194,  1,     11,     12,2,19950416,1039,  0.5057,  57.5065, 4771,    301.2,  11.4658,  35.0470,2,-999.0000,9,     98.7,   -999.0,9, -999.000,9,    0.759,2,  302.1, 11.4261
      06MT32_1,  ISS2,   194,  1,     10,     11,2,19950416,1039,  0.5057,  57.5065, 4771,    399.9,  10.5044,  35.0179,2,-999.0000,9,     91.9,   -999.0,9, -999.000,9,    0.400,2,  401.0, 10.4538
      06MT32_1,  ISS2,   194,  1,      9,     10,2,19950416,1039,  0.5057,  57.5065, 4771,    489.1,   9.9757,  35.0200,2,  35.0100,4,     74.6,   -999.0,9, -999.000,9,    0.237,2,  490.3,  9.9183
      06MT32_1,  ISS2,   194,  1,      8,      9,2,19950416,1039,  0.5057,  57.5065, 4771,    594.6,   9.3834,  35.0414,2,-999.0000,9,     62.7,   -999.0,9, -999.000,9,    0.082,2,  596.0,  9.3157
      06MT32_1,  ISS2,   194,  1,      7,      8,2,19950416,1039,  0.5057,  57.5065, 4771,    696.4,   8.8691,  35.0685,2,-999.0000,9,     56.0,   -999.0,9, -999.000,9,    0.051,2,  697.9,  8.7920
      06MT32_1,  ISS2,   194,  1,      6,      7,2,19950416,1039,  0.5057,  57.5065, 4771,    792.1,   7.8544,  35.0690,2,-999.0000,9,     46.4,   -999.0,9, -999.000,9,    0.032,2,  793.7,  7.7721
      06MT32_1,  ISS2,   194,  1,      5,      6,2,19950416,1039,  0.5057,  57.5065, 4771,    897.9,   7.2547,  34.9930,2,-999.0000,9,     49.6,   -999.0,9, -999.000,9, -999.000,9,  899.5,  7.1648
      06MT32_1,  ISS2,   194,  1,      4,      5,2,19950416,1039,  0.5057,  57.5065, 4771,    997.8,   6.9411,  34.9909,2,  34.9917,2,     52.3,   -999.0,9, -999.000,9,    0.021,2,  999.5,  6.8428
      06MT32_1,  ISS2,   194,  1,      3,      4,2,19950416,1039,  0.5057,  57.5065, 4771,   1200.5,   5.8141,  34.9445,2,-999.0000,9,     64.0,   -999.0,9, -999.000,9,    0.004,2, 1202.1,  5.7043
      06MT32_1,  ISS2,   194,  1,      2,      3,2,19950416,1039,  0.5057,  57.5065, 4771,   1503.7,   4.3384,  34.8527,2,  34.8546,2,     92.7,   -999.0,9, -999.000,9,    0.001,2, 1505.1,  4.2144
      06MT32_1,  ISS2,   194,  1,      1,      1,2,19950416,1039,  0.5057,  57.5065, 4771,   2001.4,   2.8241,  34.7845,2,-999.0000,9,    126.3,   -999.0,9, -999.000,9, -999.000,9, 2001.9,  2.6745
      06MT32_1,  ISS2,   195,  1,     14,     16,2,19950416,1540,  1.0052,  57.5070, 4752,      9.9,  29.3003,  35.1170,2,  35.1177,2,    173.1,   -999.0,9, -999.000,9,    0.936,2,    9.9, 29.3009
      06MT32_1,  ISS2,   195,  1,     13,     14,2,19950416,1540,  1.0052,  57.5070, 4752,     99.3,  23.6163,  35.6879,2,-999.0000,9,    151.4,   -999.0,9, -999.000,9,    0.956,2,   99.6, 23.6039
      06MT32_1,  ISS2,   195,  1,     12,     13,2,19950416,1540,  1.0052,  57.5070, 4752,    199.7,  13.6015,  35.1588,2,-999.0000,9,    131.3,    129.6,2, -999.000,9,    0.760,2,  200.3, 13.5781
      06MT32_1,  ISS2,   195,  1,     11,     12,2,19950416,1540,  1.0052,  57.5070, 4752,    298.6,  11.3854,  35.0423,2,  35.0350,2,    101.7,   -999.0,9, -999.000,9,    0.377,2,  299.5, 11.3467
      06MT32_1,  ISS2,   195,  1,     10,     11,2,19950416,1540,  1.0052,  57.5070, 4752,    398.1,  10.4735,  35.0090,2,-999.0000,9,     94.0,   -999.0,9, -999.000,9,    0.271,2,  399.2, 10.4213
      06MT32_1,  ISS2,   195,  1,      9,     10,2,19950416,1540,  1.0052,  57.5070, 4752,    498.2,   9.9197,  35.0318,2,-999.0000,9,     70.9,     68.2,2, -999.000,9,    0.142,2,  499.5,  9.8613
      06MT32_1,  ISS2,   195,  1,      8,      9,2,19950416,1540,  1.0052,  57.5070, 4752,    596.6,   9.4488,  35.0495,2,  35.0451,2,     62.4,   -999.0,9, -999.000,9,    0.093,2,  598.0,  9.3806
      06MT32_1,  ISS2,   195,  1,      7,      8,2,19950416,1540,  1.0052,  57.5070, 4752,    698.1,   9.1637,  35.0484,2,-999.0000,9,     59.3,   -999.0,9, -999.000,9,    0.069,2,  699.6,  9.0849
      06MT32_1,  ISS2,   195,  1,      6,      7,2,19950416,1540,  1.0052,  57.5070, 4752,    801.6,   8.3418,  35.1277,2,-999.0000,9,     44.1,   -999.0,9, -999.000,9,    0.034,2,  803.2,  8.2555
      06MT32_1,  ISS2,   195,  1,      5,      6,2,19950416,1540,  1.0052,  57.5070, 4752,    899.9,   7.5219,  35.0488,2,-999.0000,9,     48.5,   -999.0,9, -999.000,9,    0.037,2,  901.5,  7.4300
      06MT32_1,  ISS2,   195,  1,      4,      5,2,19950416,1540,  1.0052,  57.5070, 4752,    997.2,   7.0280,  34.9851,2,  34.9888,2,     51.3,     50.2,2, -999.000,9,    0.009,2,  998.9,  6.9292
      06MT32_1,  ISS2,   195,  1,      3,      4,2,19950416,1540,  1.0052,  57.5070, 4752,   1203.1,   5.7651,  34.9452,2,-999.0000,9,     61.1,   -999.0,9, -999.000,9,    0.005,2, 1204.7,  5.6555
      06MT32_1,  ISS2,   195,  1,      2,      3,2,19950416,1540,  1.0052,  57.5070, 4752,   1499.0,   4.4428,  34.8593,2,  34.8572,2,     88.9,     90.4,2, -999.000,9, -999.000,9, 1500.4,  4.3180
      06MT32_1,  ISS2,   195,  1,      1,      2,2,19950416,1540,  1.0052,  57.5070, 4752,   2005.6,   2.7876,  34.7781,2,  34.7817,2,    127.9,    126.8,2, -999.000,9, -999.000,9, 2006.1,  2.6382
      06MT32_1,  ISS2,   196,  1,     15,     16,2,19950416,2013,  1.4998,  57.5045, 4600,      8.6,  29.4566,  35.0360,2,  35.0339,2,    187.4,    199.9,4, -999.000,9,    0.942,2,    8.6, 29.4587
      06MT32_1,  ISS2,   196,  1,     14,     15,2,19950416,2013,  1.4998,  57.5045, 4600,     90.1,  26.1914,  35.5793,2,-999.0000,9,    173.8,    174.4,2, -999.000,9,    1.008,2,   90.4, 26.1668
      06MT32_1,  ISS2,   196,  1,     13,     14,2,19950416,2013,  1.4998,  57.5045, 4600,    198.5,  13.8309,  35.1739,2,-999.0000,9,    128.3,   -999.0,9, -999.000,9,    0.742,2,  199.1, 13.8092
      06MT32_1,  ISS2,   196,  1,     12,     13,2,19950416,2013,  1.4998,  57.5045, 4600,    299.2,  11.5804,  35.0460,2,  35.0382,2,    120.8,    121.8,2, -999.000,9,    0.535,2,  300.1, 11.5408
      06MT32_1,  ISS2,   196,  1,     11,     12,2,19950416,2013,  1.4998,  57.5045, 4600,    399.6,  10.5664,  35.0061,2,-999.0000,9,     99.1,   -999.0,9, -999.000,9,    0.334,2,  400.7, 10.5129
      06MT32_1,  ISS2,   196,  1,     10,     11,2,19950416,2013,  1.4998,  57.5045, 4600,    500.3,  10.1205,  35.0304,2,-999.0000,9,     75.6,   -999.0,9, -999.000,9,    0.178,2,  501.6, 10.0612
      06MT32_1,  ISS2,   196,  1,      9,     10,2,19950416,2013,  1.4998,  57.5045, 4600,    598.8,   9.5997,  35.0422,2,-999.0000,9,     65.8,     64.3,2, -999.000,9,    0.110,2,  600.2,  9.5306
      06MT32_1,  ISS2,   196,  1,      8,      9,2,19950416,2013,  1.4998,  57.5045, 4600,    696.8,   9.5158,  35.1506,2,  35.1520,2,     54.4,   -999.0,9, -999.000,9,    0.072,2,  698.3,  9.4353
      06MT32_1,  ISS2,   196,  1,      7,      8,2,19950416,2013,  1.4998,  57.5045, 4600,    797.3,   8.6344,  35.1736,2,-999.0000,9,     39.3,   -999.0,9, -999.000,9,    0.032,2,  798.9,  8.5468
      06MT32_1,  ISS2,   196,  1,      6,      7,2,19950416,2013,  1.4998,  57.5045, 4600,    894.1,   7.4350,  35.0409,2,-999.0000,9,     48.1,   -999.0,9, -999.000,9,    0.020,2,  895.7,  7.3443
      06MT32_1,  ISS2,   196,  1,      5,      6,2,19950416,2013,  1.4998,  57.5045, 4600,   1001.7,   7.0610,  35.0084,2,-999.0000,9,     51.2,   -999.0,9, -999.000,9,    0.016,2, 1003.4,  6.9614
      06MT32_1,  ISS2,   196,  1,      4,      5,2,19950416,2013,  1.4998,  57.5045, 4600,   1192.1,   5.6678,  34.9387,2,  34.9380,2,     62.5,     65.2,2, -999.000,9,    0.011,2, 1193.7,  5.5601
      06MT32_1,  ISS2,   196,  1,      3,      3,2,19950416,2013,  1.4998,  57.5045, 4600,   1523.1,   4.2310,  34.8482,2,  34.8471,2,     94.5,     93.7,2, -999.000,9,    0.009,2, 1524.4,  4.1064
      06MT32_1,  ISS2,   196,  1,      1,      1,2,19950416,2013,  1.4998,  57.5045, 4600,   2000.3,   2.8066,  34.7842,2,-999.0000,9,    127.7,   -999.0,9, -999.000,9, -999.000,9, 2000.9,  2.6573
      06MT32_1,  ISS2,   196,  1,      2,      2,2,19950416,2013,  1.4998,  57.5045, 4600,   2001.7,   2.8026,  34.7861,2,  34.7813,2,    127.2,    126.8,2, -999.000,9, -999.000,9, 2002.2,  2.6533
      06MT32_1,  ISS2,   197,  1,     20,     20,2,19950418,0315,  7.0092,  56.1437, 4912,      9.9,  29.4666,  35.1672,2,  35.1715,2,    169.7,   -999.0,9, -999.000,9,    0.938,2,    9.9, 29.4744
      06MT32_1,  ISS2,   197,  1,     19,     19,2,19950418,0315,  7.0092,  56.1437, 4912,     89.6,  24.7532,  35.7545,2,-999.0000,9,    171.8,   -999.0,9, -999.000,9,    1.010,2,   89.9, 24.7284
      06MT32_1,  ISS2,   197,  1,     18,     18,2,19950418,0315,  7.0092,  56.1437, 4912,    148.7,  19.8002,  35.4237,2,-999.0000,9,    101.6,   -999.0,9, -999.000,9,    0.787,2,  149.2, 19.7793
      06MT32_1,  ISS2,   197,  1,     17,     17,2,19950418,0315,  7.0092,  56.1437, 4912,    199.4,  15.9903,  35.3169,2,  35.3194,2,     65.9,     56.2,4, -999.000,9,    0.551,2,  200.0, 15.9595
      06MT32_1,  ISS2,   197,  1,     16,     16,2,19950418,0315,  7.0092,  56.1437, 4912,    300.2,  13.0732,  35.2403,2,-999.0000,9,     80.5,   -999.0,9, -999.000,9,    0.474,2,  301.1, 13.0275
      06MT32_1,  ISS2,   197,  1,     15,     15,2,19950418,0315,  7.0092,  56.1437, 4912,    398.9,  11.4396,  35.1625,2,  35.1543,2,     73.9,     71.0,2, -999.000,9,    0.292,2,  400.0, 11.3883
      06MT32_1,  ISS2,   197,  1,     14,     14,2,19950418,0315,  7.0092,  56.1437, 4912,    489.3,  10.9120,  35.2133,2,-999.0000,9,     59.8,   -999.0,9, -999.000,9,    0.168,2,  490.5, 10.8511
      06MT32_1,  ISS2,   197,  1,     13,     13,2,19950418,0315,  7.0092,  56.1437, 4912,    599.3,  10.7951,  35.3365,2,-999.0000,9,     38.4,   -999.0,9, -999.000,9,    0.088,2,  600.7, 10.7205
      06MT32_1,  ISS2,   197,  1,     12,     12,2,19950418,0315,  7.0092,  56.1437, 4912,    711.6,  10.2558,  35.3566,2,-999.0000,9,     27.2,     26.6,2, -999.000,9,    0.052,2,  713.1, 10.1695
      06MT32_1,  ISS2,   197,  1,     11,     11,2,19950418,0315,  7.0092,  56.1437, 4912,    828.2,   9.2786,  35.2857,2,-999.0000,9,     25.0,   -999.0,9, -999.000,9,    0.017,2,  829.8,  9.1835
      06MT32_1,  ISS2,   197,  1,     10,     10,2,19950418,0315,  7.0092,  56.1437, 4912,    926.4,   8.5475,  35.2247,2,-999.0000,9,     27.1,   -999.0,9, -999.000,9,    0.011,2,  928.0,  8.4455
      06MT32_1,  ISS2,   197,  1,      9,      9,2,19950418,0315,  7.0092,  56.1437, 4912,   1028.5,   7.8564,  35.1695,2,  35.1638,2,     31.9,   -999.0,9, -999.000,9,    0.007,2, 1030.2,  7.7478
      06MT32_1,  ISS2,   197,  1,      8,      8,2,19950418,0315,  7.0092,  56.1437, 4912,   1226.9,   6.4882,  35.0571,2,-999.0000,9,     45.6,   -999.0,9, -999.000,9,    0.006,2, 1228.5,  6.3695
      06MT32_1,  ISS2,   197,  1,      7,      7,2,19950418,0315,  7.0092,  56.1437, 4912,   1490.8,   4.7429,  34.9250,2,  34.9254,2,     75.9,     75.4,2, -999.000,9,    0.018,2, 1492.2,  4.6154
      06MT32_1,  ISS2,   197,  1,      6,      6,2,19950418,0315,  7.0092,  56.1437, 4912,   2470.2,   2.1578,  34.7670,2,-999.0000,9,    140.0,   -999.0,9, -999.000,9, -999.000,9, 2469.6,  1.9767
      06MT32_1,  ISS2,   197,  1,      5,      5,2,19950418,0315,  7.0092,  56.1437, 4912,   2986.6,   1.9080,  34.7520,2,  34.7496,2,    149.7,    149.9,2, -999.000,9, -999.000,9, 2984.6,  1.6831
      06MT32_1,  ISS2,   197,  1,      4,      4,2,19950418,0315,  7.0092,  56.1437, 4912,   3502.2,   1.6907,  34.7399,2,  34.7370,2,    163.6,    161.8,2, -999.000,9, -999.000,9, 3498.6,  1.4191
      06MT32_1,  ISS2,   197,  1,      3,      3,2,19950418,0315,  7.0092,  56.1437, 4912,   4004.5,   1.5199,  34.7304,2,  34.7288,2,    174.7,    172.4,2, -999.000,9, -999.000,9, 3999.5,  1.1996
      06MT32_1,  ISS2,   197,  1,      2,      2,2,19950418,0315,  7.0092,  56.1437, 4912,   4405.1,   1.4155,  34.7239,2,  34.7227,2,    182.1,    180.6,2, -999.000,9, -999.000,9, 4399.1,  1.0538
      06MT32_1,  ISS2,   197,  1,      1,      1,2,19950418,0315,  7.0092,  56.1437, 4912,   4836.3,   1.3770,  34.7205,2,  34.7184,2,    185.9,    185.0,2, -999.000,9, -999.000,9, 4829.5,  0.9664