BOTTLE,20220930CCHSIOAMB
EXPOCODE,SECT_ID,STNNBR,CASTNO,SAMPNO,BTLNBR,BTLNBR_FLAG_W,DATE,TIME,LATITUDE,LONGITUDE,DEPTH,CTDPRS,CTDTMP,CTDSAL,CTDSAL_FLAG_W,SALNTY,SALNTY_FLAG_W,CTDOXY,OXYGEN,OXYGEN_FLAG_W,CFC-11,CFC-11_FLAG_W,CFC-12,CFC-12_FLAG_W,CTDRAW,THETA
,,,,,,,,,,,,DBAR,DEG C,PSS-78,,PSS-78,,UMOL/KG,UMOL/KG,,PMOL/KG,,PMOL/KG,,,DEG C
      06MT32_1,  ISS2,   204,  1,     19,     20,2,19950420,0654, 11.0738,  59.3012, 4548,      9.5,  28.9891,  36.0974,2,-999.0000,5,    181.9,    199.0,4, -999.000,9,    0.955,2,    9.5, 28.9888
      06MT32_1,  ISS2,   204,  1,     39,     20,2,19950420,0654, 11.0738,  59.3012, 4548,     10.0,  28.3978,  36.4199,2,  36.4216,2,    186.7,    201.9,4, -999.000,9, -999.000,9,   10.0, 28.3881
      06MT32_1,  ISS2,   204,  1,     38,     19,2,19950420,0654, 11.0738,  59.3012, 4548,     59.7,  25.3505,  36.1312,2,-999.0000,9,    187.4,   -999.0,9, -999.000,9,    1.006,2,   59.9, 25.3225
      06MT32_1,  ISS2,   204,  1,     18,     19,2,19950420,0654, 11.0738,  59.3012, 4548,     60.2,  25.1335,  36.1928,2,-999.0000,9,    167.7,    165.9,2, -999.000,9,    0.999,2,   60.4, 25.1128
      06MT32_1,  ISS2,   204,  1,     37,     18,2,19950420,0654, 11.0738,  59.3012, 4548,     99.6,  24.2287,  36.2768,2,-999.0000,9,    153.1,   -999.0,9, -999.000,9,    1.030,2,   99.9, 24.2039
      06MT32_1,  ISS2,   204,  1,     17,     18,2,19950420,0654, 11.0738,  59.3012, 4548,    119.5,  20.8622,  35.7005,2,-999.0000,9,     55.5,   -999.0,9, -999.000,9,    0.748,2,  119.9, 20.8232
      06MT32_1,  ISS2,   204,  1,     36,     17,2,19950420,0654, 11.0738,  59.3012, 4548,    179.5,  17.9709,  35.7864,2,-999.0000,9,     12.1,     10.3,2, -999.000,9,    0.544,2,  180.1, 17.9344
      06MT32_1,  ISS2,   204,  1,     16,     17,2,19950420,0654, 11.0738,  59.3012, 4548,    199.9,  15.5303,  35.5627,2,  35.5523,4,     17.6,     19.4,2, -999.000,9,    0.460,2,  200.5, 15.4905
      06MT32_1,  ISS2,   204,  1,     35,     16,2,19950420,0654, 11.0738,  59.3012, 4548,    299.5,  14.3662,  35.6742,2,  35.6678,2,     13.2,      0.0,4, -999.000,9,    0.363,2,  300.4, 14.3258
      06MT32_1,  ISS2,   204,  1,     15,     16,2,19950420,0654, 11.0738,  59.3012, 4548,    299.9,  13.3404,  35.4416,2,-999.0000,9,     30.4,   -999.0,9, -999.000,9,    0.337,2,  300.8, 13.2990
      06MT32_1,  ISS2,   204,  1,     34,     15,2,19950420,0654, 11.0738,  59.3012, 4548,    399.1,  13.1255,  35.6840,2,-999.0000,9,      4.7,      2.7,2, -999.000,9,    0.162,2,  400.2, 13.0682
      06MT32_1,  ISS2,   204,  1,     14,     14,2,19950420,0654, 11.0738,  59.3012, 4548,    484.1,  11.6540,  35.4466,2,-999.0000,9,     27.6,     22.3,3, -999.000,9,    0.123,2,  485.3, 11.5911
      06MT32_1,  ISS2,   204,  1,     33,     14,2,19950420,0654, 11.0738,  59.3012, 4548,    496.9,  12.2608,  35.6282,2,  35.6255,2,      7.9,      0.0,3, -999.000,9,    0.108,2,  498.1, 12.1939
      06MT32_1,  ISS2,   204,  1,     32,     13,2,19950420,0654, 11.0738,  59.3012, 4548,    601.8,  11.7839,  35.6432,2,-999.0000,9,      7.5,      0.0,3, -999.000,9,    0.079,2,  603.2, 11.7045
      06MT32_1,  ISS2,   204,  1,     13,     13,2,19950420,0654, 11.0738,  59.3012, 4548,    610.0,  10.8785,  35.4371,2,  35.4377,2,     20.4,   -999.0,9, -999.000,9,    0.072,2,  611.4, 10.8021
      06MT32_1,  ISS2,   204,  1,     12,     12,2,19950420,0654, 11.0738,  59.3012, 4548,    705.6,  10.4610,  35.4425,2,-999.0000,9,     18.7,   -999.0,9, -999.000,9,    0.058,2,  707.1, 10.3744
      06MT32_1,  ISS2,   204,  1,     31,     12,2,19950420,0654, 11.0738,  59.3012, 4548,    707.4,  11.1237,  35.6264,2,-999.0000,9,      9.0,      9.0,2, -999.000,9,    0.069,2,  708.9, 11.0333
      06MT32_1,  ISS2,   204,  1,     30,     11,2,19950420,0654, 11.0738,  59.3012, 4548,    791.9,  10.5524,  35.5998,2,  35.5922,2,     10.0,      9.0,2, -999.000,9,    0.056,2,  793.5, 10.4541
      06MT32_1,  ISS2,   204,  1,     11,     11,2,19950420,0654, 11.0738,  59.3012, 4548,    817.8,   9.8328,  35.4126,2,-999.0000,9,     18.0,   -999.0,9, -999.000,9,    0.038,2,  819.4,  9.7355
      06MT32_1,  ISS2,   204,  1,     29,     10,2,19950420,0654, 11.0738,  59.3012, 4548,    884.0,   9.6376,  35.4909,2,-999.0000,9,     15.8,      0.0,4, -999.000,9,    0.054,2,  885.6,  9.5333
      06MT32_1,  ISS2,   204,  1,     10,     10,2,19950420,0654, 11.0738,  59.3012, 4548,    896.7,   9.0619,  35.3400,2,  35.3340,2,     19.5,     20.1,2, -999.000,9,    0.034,2,  898.3,  8.9599
      06MT32_1,  ISS2,   204,  1,     28,      9,2,19950420,0654, 11.0738,  59.3012, 4548,    979.2,   8.7183,  35.3786,2,-999.0000,9,     20.0,   -999.0,9, -999.000,9,    0.033,2,  980.9,  8.6088
      06MT32_1,  ISS2,   204,  1,      9,      9,2,19950420,0654, 11.0738,  59.3012, 4548,    987.2,   8.3203,  35.2864,2,-999.0000,9,     22.4,   -999.0,9, -999.000,9,    0.021,2,  988.9,  8.2128
      06MT32_1,  ISS2,   204,  1,     27,      8,2,19950420,0654, 11.0738,  59.3012, 4548,   1184.6,   7.1858,  35.1957,2,  35.1977,2,     30.9,   -999.0,9, -999.000,9,    0.010,2, 1186.2,  7.0652
      06MT32_1,  ISS2,   204,  1,      8,      8,2,19950420,0654, 11.0738,  59.3012, 4548,   1187.1,   6.9731,  35.1503,2,-999.0000,9,     34.2,   -999.0,9, -999.000,9,    0.018,2, 1188.7,  6.8542
      06MT32_1,  ISS2,   204,  1,     26,      7,2,19950420,0654, 11.0738,  59.3012, 4548,   1382.6,   6.0138,  35.0919,2,-999.0000,9,     42.4,     42.1,2, -999.000,9,    0.010,2, 1384.1,  5.8833
      06MT32_1,  ISS2,   204,  1,      7,      7,2,19950420,0654, 11.0738,  59.3012, 4548,   1468.5,   5.2848,  35.0006,2,-999.0000,9,     56.2,   -999.0,9, -999.000,9,    0.011,2, 1469.9,  5.1534
      06MT32_1,  ISS2,   204,  1,      6,      6,2,19950420,0654, 11.0738,  59.3012, 4548,   2002.3,   3.1423,  34.8349,2,  34.8332,2,    101.0,    102.6,2, -999.000,9, -999.000,9, 2002.8,  2.9877
      06MT32_1,  ISS2,   204,  1,     25,      6,2,19950420,0654, 11.0738,  59.3012, 4548,   2009.4,   3.1213,  34.8401,2,  34.8383,2,     95.0,     95.9,2, -999.000,9, -999.000,9, 2009.9,  2.9663
      06MT32_1,  ISS2,   204,  1,     24,      5,2,19950420,0654, 11.0738,  59.3012, 4548,   2504.0,   2.1588,  34.7737,2,  34.7716,2,    116.4,    117.2,2, -999.000,9, -999.000,9, 2503.3,  1.9746
      06MT32_1,  ISS2,   204,  1,      5,      5,2,19950420,0654, 11.0738,  59.3012, 4548,   2510.5,   2.1503,  34.7722,2,-999.0000,9,    123.4,   -999.0,9, -999.000,9, -999.000,9, 2509.8,  1.9656
      06MT32_1,  ISS2,   204,  1,     23,      4,2,19950420,0654, 11.0738,  59.3012, 4548,   3004.9,   1.8046,  34.7486,2,  34.7459,2,    134.7,    133.5,2, -999.000,9, -999.000,9, 3002.8,  1.5802
      06MT32_1,  ISS2,   204,  1,      4,      4,2,19950420,0654, 11.0738,  59.3012, 4548,   3023.5,   1.8291,  34.7457,2,  34.7476,2,    141.2,    144.9,2, -999.000,9, -999.000,9, 3021.4,  1.6023
      06MT32_1,  ISS2,   204,  1,      3,      3,2,19950420,0654, 11.0738,  59.3012, 4548,   3502.6,   1.7192,  34.7365,2,-999.0000,9,    151.2,   -999.0,9, -999.000,9, -999.000,9, 3499.0,  1.4469
      06MT32_1,  ISS2,   204,  1,     22,      3,2,19950420,0654, 11.0738,  59.3012, 4548,   3502.8,   1.7232,  34.7410,2,  34.7396,2,    147.0,    145.2,2, -999.000,9, -999.000,9, 3499.2,  1.4508
      06MT32_1,  ISS2,   204,  1,      2,      2,2,19950420,0654, 11.0738,  59.3012, 4548,   4004.1,   1.6463,  34.7304,2,  34.7347,2,    158.8,    159.8,2, -999.000,9, -999.000,9, 3999.1,  1.3225
      06MT32_1,  ISS2,   204,  1,     21,      2,2,19950420,0654, 11.0738,  59.3012, 4548,   4005.3,   1.6758,  34.7367,2,  34.7339,2,    157.5,    156.6,2, -999.000,9, -999.000,9, 4000.3,  1.3510
      06MT32_1,  ISS2,   204,  1,     20,      1,2,19950420,0654, 11.0738,  59.3012, 4548,   4216.9,   1.6173,  34.7330,2,  34.7305,2,    156.7,    154.9,2, -999.000,9, -999.000,9, 4211.3,  1.2707
      06MT32_1,  ISS2,   204,  1,      1,      1,2,19950420,0654, 11.0738,  59.3012, 4548,   4496.0,   1.6138,  34.7315,2,  34.7294,2,    166.5,    167.4,2, -999.000,9, -999.000,9, 4489.8,  1.2355
      06MT32_1,  ISS2,   206,  1,     16,     17,2,19950421,1331, 15.5055,  60.7540, 4125,      9.7,  28.3706,  36.3464,2,  36.3417,2,    182.7,   -999.0,9, -999.000,9,    1.051,2,    9.7, 28.3718
      06MT32_1,  ISS2,   206,  1,     15,     16,2,19950421,1331, 15.5055,  60.7540, 4125,     79.3,  24.9228,  36.1707,2,  36.1638,2,    172.3,    177.1,3, -999.000,9,    1.027,2,   79.6, 24.9080
      06MT32_1,  ISS2,   206,  1,     14,     15,2,19950421,1331, 15.5055,  60.7540, 4125,    149.6,  19.7302,  35.7721,2,-999.0000,9,     11.8,      0.0,4, -999.000,9,    0.681,2,  150.1, 19.7043
      06MT32_1,  ISS2,   206,  1,     13,     14,2,19950421,1331, 15.5055,  60.7540, 4125,    199.6,  17.1778,  35.7768,2,-999.0000,9,      2.0,      0.0,2, -999.000,9,    0.450,2,  200.2, 17.1470
      06MT32_1,  ISS2,   206,  1,     12,     13,2,19950421,1331, 15.5055,  60.7540, 4125,    253.7,  15.5644,  35.8442,2,-999.0000,9,      1.8,      0.0,2, -999.000,9,    0.352,2,  254.5, 15.5279
      06MT32_1,  ISS2,   206,  1,     11,     12,2,19950421,1331, 15.5055,  60.7540, 4125,    307.4,  13.9231,  35.6524,2,-999.0000,9,      2.0,      1.2,2, -999.000,9,    0.194,2,  308.3, 13.8921
      06MT32_1,  ISS2,   206,  1,     10,     11,2,19950421,1331, 15.5055,  60.7540, 4125,    399.1,  12.7961,  35.5962,2,-999.0000,9,      2.2,      0.0,2, -999.000,9,    0.116,2,  400.2, 12.7369
      06MT32_1,  ISS2,   206,  1,      9,     10,2,19950421,1331, 15.5055,  60.7540, 4125,    481.8,  12.1604,  35.5875,2,  35.5841,2,      2.3,      2.0,2, -999.000,9,    0.087,2,  483.0, 12.0959
      06MT32_1,  ISS2,   206,  1,      8,      9,2,19950421,1331, 15.5055,  60.7540, 4125,    582.3,  11.7045,  35.6209,2,-999.0000,9,      3.0,      0.0,2, -999.000,9,    0.054,2,  583.7, 11.6281
      06MT32_1,  ISS2,   206,  1,      7,      8,2,19950421,1331, 15.5055,  60.7540, 4125,    698.2,  11.1122,  35.6208,2,  35.6139,2,      6.9,      5.7,2, -999.000,9,    0.048,2,  699.7, 11.0231
      06MT32_1,  ISS2,   206,  1,      6,      7,2,19950421,1331, 15.5055,  60.7540, 4125,    787.5,   9.6985,  35.4067,2,-999.0000,9,      6.3,      0.0,3, -999.000,9,    0.018,2,  789.1,  9.6057
      06MT32_1,  ISS2,   206,  1,      5,      6,2,19950421,1331, 15.5055,  60.7540, 4125,    897.8,   8.9280,  35.3544,2,-999.0000,9,      9.8,      0.0,4, -999.000,9,    0.025,2,  899.4,  8.8267
      06MT32_1,  ISS2,   206,  1,      4,      5,2,19950421,1331, 15.5055,  60.7540, 4125,    996.3,   8.3173,  35.3009,2,  35.3005,2,     12.9,     12.6,2, -999.000,9,    0.006,2,  998.0,  8.2087
      06MT32_1,  ISS2,   206,  1,      3,      4,2,19950421,1331, 15.5055,  60.7540, 4125,   1194.3,   7.2932,  35.2381,2,-999.0000,9,     21.4,   -999.0,9, -999.000,9,    0.007,2, 1195.9,  7.1705
      06MT32_1,  ISS2,   206,  1,      2,      3,2,19950421,1331, 15.5055,  60.7540, 4125,   1499.5,   5.4845,  35.0461,2,  35.0531,2,     42.3,     43.3,2, -999.000,9,    0.008,2, 1500.9,  5.3477
      06MT32_1,  ISS2,   206,  1,      1,      1,2,19950421,1331, 15.5055,  60.7540, 4125,   2002.1,   3.1932,  34.8478,2,-999.0000,9,     87.8,   -999.0,9, -999.000,9, -999.000,9, 2002.6,  3.0378
      06MT32_1,  ISS2,   207,  1,     20,     21,2,19950421,2338, 16.9970,  60.9997, 3990,      9.2,  28.1159,  36.5186,2,-999.0000,9,    186.0,   -999.0,9, -999.000,9,    0.974,3,    9.2, 28.1736
      06MT32_1,  ISS2,   207,  1,     19,     20,2,19950421,2338, 16.9970,  60.9997, 3990,     60.0,  25.3642,  36.3366,2,-999.0000,9,    187.6,    194.4,3, -999.000,9,    1.037,2,   60.2, 25.3526
      06MT32_1,  ISS2,   207,  1,     18,     19,2,19950421,2338, 16.9970,  60.9997, 3990,    120.1,  24.1054,  36.2573,2,-999.0000,9,    132.9,   -999.0,9, -999.000,9,    0.995,2,  120.5, 24.0761
      06MT32_1,  ISS2,   207,  1,     17,     18,2,19950421,2338, 16.9970,  60.9997, 3990,    199.9,  17.4351,  35.7561,2,-999.0000,9,      4.3,      1.8,2, -999.000,9,    0.473,2,  200.5, 17.3990
      06MT32_1,  ISS2,   207,  1,     16,     17,2,19950421,2338, 16.9970,  60.9997, 3990,    249.8,  15.6144,  35.7536,2,-999.0000,9,      2.2,      0.0,2, -999.000,9,    0.328,2,  250.5, 15.5785
      06MT32_1,  ISS2,   207,  1,     15,     16,2,19950421,2338, 16.9970,  60.9997, 3990,    299.0,  15.0688,  35.7824,2,-999.0000,9,      1.9,      0.0,2, -999.000,9,    0.304,2,  299.9, 15.0271
      06MT32_1,  ISS2,   207,  1,     14,     15,2,19950421,2338, 16.9970,  60.9997, 3990,    399.2,  13.1890,  35.6171,2,  35.6111,2,      1.7,      0.4,2, -999.000,9,    0.153,2,  400.3, 13.1288
      06MT32_1,  ISS2,   207,  1,     13,     14,2,19950421,2338, 16.9970,  60.9997, 3990,    498.1,  12.2628,  35.5773,2,-999.0000,9,      1.9,      0.0,2, -999.000,9,    0.070,2,  499.4, 12.1958
      06MT32_1,  ISS2,   207,  1,     12,     13,2,19950421,2338, 16.9970,  60.9997, 3990,    599.0,  11.7040,  35.5830,2,-999.0000,9,      3.0,      2.0,2, -999.000,9,    0.060,2,  600.4, 11.6254
      06MT32_1,  ISS2,   207,  1,     11,     12,2,19950421,2338, 16.9970,  60.9997, 3990,    709.7,  10.9744,  35.5412,2,  35.5298,4,      3.2,      0.0,2, -999.000,9,    0.028,2,  711.2, 10.8845
      06MT32_1,  ISS2,   207,  1,     10,     11,2,19950421,2338, 16.9970,  60.9997, 3990,    799.8,  10.2593,  35.4872,2,-999.0000,9,      3.9,      0.0,2, -999.000,9,    0.019,2,  801.4, 10.1617
      06MT32_1,  ISS2,   207,  1,      9,     10,2,19950421,2338, 16.9970,  60.9997, 3990,    901.6,   9.9187,  35.5034,2,  35.4985,2,      4.1,      0.0,2, -999.000,9,    0.033,2,  903.2,  9.8104
      06MT32_1,  ISS2,   207,  1,      8,      9,2,19950421,2338, 16.9970,  60.9997, 3990,   1001.5,   9.2082,  35.4458,2,-999.0000,9,      8.0,      6.0,2, -999.000,9,    0.018,2, 1003.2,  9.0924
      06MT32_1,  ISS2,   207,  1,      7,      8,2,19950421,2338, 16.9970,  60.9997, 3990,   1186.2,   7.7980,  35.2994,2,-999.0000,9,     15.7,      0.0,4, -999.000,9,    0.015,2, 1187.8,  7.6718
      06MT32_1,  ISS2,   207,  1,      6,      7,2,19950421,2338, 16.9970,  60.9997, 3990,   1503.9,   5.5519,  35.0572,2,  35.0555,2,     37.0,     38.2,2, -999.000,9,    0.005,2, 1505.3,  5.4139
      06MT32_1,  ISS2,   207,  1,      5,      6,2,19950421,2338, 16.9970,  60.9997, 3990,   2016.5,   3.2067,  34.8529,2,  34.8515,2,     82.6,     83.7,2, -999.000,9, -999.000,9, 2017.0,  3.0498
      06MT32_1,  ISS2,   207,  1,      4,      5,2,19950421,2338, 16.9970,  60.9997, 3990,   2506.4,   2.2192,  34.7779,2,  34.7762,2,    107.1,    109.2,2, -999.000,9, -999.000,9, 2505.7,  2.0336
      06MT32_1,  ISS2,   207,  1,      3,      4,2,19950421,2338, 16.9970,  60.9997, 3990,   3001.2,   1.8261,  34.7497,2,  34.7476,2,    122.9,    124.6,2, -999.000,9, -999.000,9, 2999.1,  1.6015
      06MT32_1,  ISS2,   207,  1,      2,      3,2,19950421,2338, 16.9970,  60.9997, 3990,   3503.2,   1.7447,  34.7426,2,  34.7402,2,    133.6,    134.3,2, -999.000,9, -999.000,9, 3499.6,  1.4717
      06MT32_1,  ISS2,   207,  1,      1,      1,2,19950421,2338, 16.9970,  60.9997, 3990,   3919.2,   1.6648,  34.7375,2,-999.0000,9,    148.3,   -999.0,9, -999.000,9, -999.000,9, 3914.4,  1.3497
      06MT32_1,  ISS2,   208,  1,     17,     18,2,19950422,0947, 18.4947,  61.2527, 3793,     10.6,  28.3381,  36.1525,2,  36.1486,2,    361.9,   -999.0,9, -999.000,9,    0.999,2,   10.6, 28.3311
      06MT32_1,  ISS2,   208,  1,     16,     17,2,19950422,0947, 18.4947,  61.2527, 3793,     60.1,  25.2878,  36.0507,2,-999.0000,9,      0.0,   -999.0,9, -999.000,9,    1.007,2,   60.3, 25.2773
      06MT32_1,  ISS2,   208,  1,     15,     16,2,19950422,0947, 18.4947,  61.2527, 3793,    120.3,  23.2822,  36.2806,2,  36.2847,2,    102.9,    100.3,2, -999.000,9,    0.937,2,  120.7, 23.2590
      06MT32_1,  ISS2,   208,  1,     14,     15,2,19950422,0947, 18.4947,  61.2527, 3793,    160.2,  19.6722,  35.8932,2,-999.0000,9,     10.4,      2.9,3, -999.000,9,    0.668,2,  160.7, 19.6260
      06MT32_1,  ISS2,   208,  1,     13,     14,2,19950422,0947, 18.4947,  61.2527, 3793,    219.3,  17.2363,  35.8577,2,-999.0000,9,      9.1,      0.0,4, -999.000,9,    0.477,2,  220.0, 17.2529
      06MT32_1,  ISS2,   208,  1,     12,     13,2,19950422,0947, 18.4947,  61.2527, 3793,    279.6,  16.4386,  36.0286,2,-999.0000,9,      3.9,      0.0,2, -999.000,9,    0.406,2,  280.4, 16.3984
      06MT32_1,  ISS2,   208,  1,     11,     12,2,19950422,0947, 18.4947,  61.2527, 3793,    359.7,  14.7488,  35.9527,2,-999.0000,9,      2.4,      0.0,2, -999.000,9,    0.253,2,  360.7, 14.6890
      06MT32_1,  ISS2,   208,  1,     10,     11,2,19950422,0947, 18.4947,  61.2527, 3793,    411.9,  13.9588,  35.8406,2,-999.0000,9,      2.5,      0.0,2, -999.000,9,    0.198,2,  413.0, 13.8985
      06MT32_1,  ISS2,   208,  1,      9,     10,2,19950422,0947, 18.4947,  61.2527, 3793,    510.7,  13.0054,  35.7786,2,-999.0000,9,      2.7,      1.0,2, -999.000,9,    0.120,2,  512.0, 12.9338
      06MT32_1,  ISS2,   208,  1,      8,      9,2,19950422,0947, 18.4947,  61.2527, 3793,    603.6,  12.0580,  35.6719,2,-999.0000,9,      2.9,      1.3,2, -999.000,9,    0.071,2,  605.0, 11.9772
      06MT32_1,  ISS2,   208,  1,      7,      8,2,19950422,0947, 18.4947,  61.2527, 3793,    697.7,  11.4528,  35.6479,2,  35.6435,2,      3.1,      0.0,2, -999.000,9,    0.057,2,  699.2, 11.3621
      06MT32_1,  ISS2,   208,  1,      6,      7,2,19950422,0947, 18.4947,  61.2527, 3793,    801.5,  10.7017,  35.5816,2,  35.5746,2,      2.7,      0.0,2, -999.000,9,    0.029,2,  803.1, 10.6013
      06MT32_1,  ISS2,   208,  1,      5,      6,2,19950422,0947, 18.4947,  61.2527, 3793,    890.3,   9.9457,  35.5239,2,  35.5208,2,      4.1,      0.0,2, -999.000,9,    0.033,2,  891.9,  9.8386
      06MT32_1,  ISS2,   208,  1,      4,      5,2,19950422,0947, 18.4947,  61.2527, 3793,    994.8,   9.0913,  35.4373,2,  35.4338,2,      4.3,      2.7,2, -999.000,9,    0.020,2,  996.5,  8.9772
      06MT32_1,  ISS2,   208,  1,      3,      4,2,19950422,0947, 18.4947,  61.2527, 3793,   1197.6,   7.6497,  35.2821,2,  35.2755,2,     11.7,     11.6,2, -999.000,9,    0.005,2, 1199.2,  7.5235
      06MT32_1,  ISS2,   208,  1,      2,      3,2,19950422,0947, 18.4947,  61.2527, 3793,   1499.2,   5.7846,  35.0831,2,  35.0797,2,     31.9,     32.3,2, -999.000,9, -999.000,9, 1500.6,  5.6444
      06MT32_1,  ISS2,   208,  1,      1,      1,2,19950422,0947, 18.4947,  61.2527, 3793,   1999.3,   3.2696,  34.8582,2,  34.8582,2,     78.1,   -999.0,9, -999.000,9, -999.000,9, 1999.9,  3.1133