BOTTLE,20220930CCHSIOAMB
EXPOCODE,SECT_ID,STNNBR,CASTNO,SAMPNO,BTLNBR,BTLNBR_FLAG_W,DATE,TIME,LATITUDE,LONGITUDE,DEPTH,CTDPRS,CTDTMP,CTDSAL,CTDSAL_FLAG_W,SALNTY,SALNTY_FLAG_W,CTDOXY,OXYGEN,OXYGEN_FLAG_W,CFC-11,CFC-11_FLAG_W,CFC-12,CFC-12_FLAG_W,CTDRAW,THETA
,,,,,,,,,,,,DBAR,DEG C,PSS-78,,PSS-78,,UMOL/KG,UMOL/KG,,PMOL/KG,,PMOL/KG,,,DEG C
      06MT32_1,  ISS2,   187,  1,     19,     19,2,19950413,1658,  2.0012,  57.5043, 4676,     10.1,  29.3148,  34.9567,2,  34.9636,2,    186.8,    199.6,4, -999.000,9,    0.928,2,   10.1, 29.3171
      06MT32_1,  ISS2,   187,  1,     18,     18,2,19950413,1658,  2.0012,  57.5043, 4676,     99.2,  23.8690,  35.6908,2,-999.0000,9,    154.6,   -999.0,9, -999.000,9,    0.911,2,   99.5, 24.0099
      06MT32_1,  ISS2,   187,  1,     17,     17,2,19950413,1658,  2.0012,  57.5043, 4676,    198.9,  13.2910,  35.1501,2,-999.0000,9,    125.2,    124.8,2, -999.000,9,    0.697,2,  199.5, 13.2670
      06MT32_1,  ISS2,   187,  1,     16,     16,2,19950413,1658,  2.0012,  57.5043, 4676,    298.7,  10.7055,  35.0110,2,-999.0000,9,    111.1,   -999.0,9, -999.000,9,    0.369,2,  299.6, 10.6739
      06MT32_1,  ISS2,   187,  1,     15,     15,2,19950413,1658,  2.0012,  57.5043, 4676,    399.1,  10.2416,  35.0031,2,  34.9988,2,     85.4,     84.2,2, -999.000,9,    0.250,2,  400.2, 10.1991
      06MT32_1,  ISS2,   187,  1,     14,     14,2,19950413,1658,  2.0012,  57.5043, 4676,    521.7,   9.9547,  35.0182,2,-999.0000,9,     73.3,   -999.0,9, -999.000,9,    0.168,2,  523.0,  9.8934
      06MT32_1,  ISS2,   187,  1,     13,     13,2,19950413,1658,  2.0012,  57.5043, 4676,    598.3,   9.6516,  35.0493,2,-999.0000,9,     67.2,   -999.0,9, -999.000,9,    0.141,2,  599.7,  9.5823
      06MT32_1,  ISS2,   187,  1,     12,     12,2,19950413,1658,  2.0012,  57.5043, 4676,    751.5,   9.0698,  35.2125,2,  35.2020,4,     37.2,     35.8,2, -999.000,9,    0.042,2,  753.1,  8.9851
      06MT32_1,  ISS2,   187,  1,     11,     11,2,19950413,1658,  2.0012,  57.5043, 4676,    895.4,   7.7246,  35.1025,2,-999.0000,9,     43.8,   -999.0,9, -999.000,9,    0.020,2,  897.0,  7.6317
      06MT32_1,  ISS2,   187,  1,     10,     10,2,19950413,1658,  2.0012,  57.5043, 4676,   1089.8,   6.6745,  35.0140,2,-999.0000,9,     51.5,   -999.0,9, -999.000,9,    0.009,2, 1091.5,  6.5686
      06MT32_1,  ISS2,   187,  1,      9,      9,2,19950413,1658,  2.0012,  57.5043, 4676,   1192.1,   5.9984,  34.9661,2,-999.0000,9,     57.9,   -999.0,9, -999.000,9,    0.012,2, 1193.7,  5.8878
      06MT32_1,  ISS2,   187,  1,      8,      8,2,19950413,1658,  2.0012,  57.5043, 4676,   1498.7,   4.5337,  34.8800,2,  34.8821,2,     86.3,     85.3,2, -999.000,9, -999.000,9, 1500.1,  4.4079
      06MT32_1,  ISS2,   187,  1,      7,      7,2,19950413,1658,  2.0012,  57.5043, 4676,   1983.4,   2.8291,  34.7969,2,-999.0000,9,    121.6,   -999.0,9, -999.000,9, -999.000,9, 1984.0,  2.6810
      06MT32_1,  ISS2,   187,  1,      6,      6,2,19950413,1658,  2.0012,  57.5043, 4676,   2478.1,   2.1378,  34.7585,2,-999.0000,9,    144.8,   -999.0,9, -999.000,9, -999.000,9, 2477.5,  1.9564
      06MT32_1,  ISS2,   187,  1,      5,      5,2,19950413,1658,  2.0012,  57.5043, 4676,   3001.1,   1.8421,  34.7443,2,  34.7425,2,    154.2,    155.6,2, -999.000,9, -999.000,9, 2999.0,  1.6172
      06MT32_1,  ISS2,   187,  1,      4,      4,2,19950413,1658,  2.0012,  57.5043, 4676,   3502.6,   1.6173,  34.7332,2,-999.0000,9,    168.1,   -999.0,9, -999.000,9, -999.000,9, 3499.0,  1.3476
      06MT32_1,  ISS2,   187,  1,      3,      3,2,19950413,1658,  2.0012,  57.5043, 4676,   4004.3,   1.4839,  34.7272,2,  34.7325,2,    175.3,    173.4,2, -999.000,9, -999.000,9, 3999.3,  1.1647
      06MT32_1,  ISS2,   187,  1,      2,      2,2,19950413,1658,  2.0012,  57.5043, 4676,   4506.5,   1.3655,  34.7208,2,-999.0000,9,    183.6,   -999.0,9, -999.000,9, -999.000,9, 4500.3,  0.9938
      06MT32_1,  ISS2,   187,  1,      1,      1,2,19950413,1658,  2.0012,  57.5043, 4676,   4625.9,   1.3481,  34.7189,2,  34.7186,2,    185.3,    184.4,2, -999.000,9, -999.000,9, 4619.5,  0.9632
      06MT32_1,  ISS2,   188,  1,     21,     21,2,19950414,0522,  1.0062,  57.5030, 4788,      9.5,  29.2998,  34.9932,2,-999.0000,9,    191.9,   -999.0,9, -999.000,9,    0.946,2,    9.5, 29.2935
      06MT32_1,  ISS2,   188,  1,     20,     20,2,19950414,0522,  1.0062,  57.5030, 4788,     98.5,  25.8632,  35.5268,2,-999.0000,9,    172.3,    176.2,2, -999.000,9,    0.992,2,   98.8, 25.8227
      06MT32_1,  ISS2,   188,  1,     19,     19,2,19950414,0522,  1.0062,  57.5030, 4788,    199.5,  13.8334,  35.1727,2,-999.0000,9,    131.0,   -999.0,9, -999.000,9,    0.521,2,  200.1, 13.8010
      06MT32_1,  ISS2,   188,  1,     18,     18,2,19950414,0522,  1.0062,  57.5030, 4788,    298.2,  11.5512,  35.0480,2,-999.0000,9,    111.4,   -999.0,9, -999.000,9, -999.000,9,  299.1, 11.5131
      06MT32_1,  ISS2,   188,  1,     17,     17,2,19950414,0522,  1.0062,  57.5030, 4788,    398.2,  10.4503,  34.9994,2,  34.9941,2,    101.9,     98.8,2, -999.000,9, -999.000,9,  399.3, 10.3987
      06MT32_1,  ISS2,   188,  1,     16,     16,2,19950414,0522,  1.0062,  57.5030, 4788,    485.8,   9.9981,  35.0256,2,-999.0000,9,     75.5,   -999.0,9, -999.000,9,    0.323,2,  487.0,  9.9410
      06MT32_1,  ISS2,   188,  1,     15,     15,2,19950414,0522,  1.0062,  57.5030, 4788,    584.3,   9.4713,  35.0529,2,-999.0000,9,     64.0,   -999.0,9, -999.000,9,    0.134,2,  585.7,  9.4044
      06MT32_1,  ISS2,   188,  1,     14,     14,2,19950414,0522,  1.0062,  57.5030, 4788,    709.0,   9.3839,  35.1361,2,-999.0000,9,     53.1,   -999.0,9, -999.000,9,    0.070,2,  710.5,  9.3026
      06MT32_1,  ISS2,   188,  1,     13,     13,2,19950414,0522,  1.0062,  57.5030, 4788,    817.6,   8.3034,  35.1281,2,-999.0000,9,     42.9,   -999.0,9, -999.000,9,    0.040,2,  819.2,  8.2155
      06MT32_1,  ISS2,   188,  1,     12,     12,2,19950414,0522,  1.0062,  57.5030, 4788,    922.0,   7.5648,  35.0559,2,-999.0000,9,     47.8,   -999.0,9, -999.000,9,    0.029,2,  923.6,  7.4702
      06MT32_1,  ISS2,   188,  1,     11,     11,2,19950414,0522,  1.0062,  57.5030, 4788,   1009.2,   7.0710,  34.9944,2,-999.0000,9,     50.5,     49.3,2, -999.000,9,    0.020,2, 1010.9,  6.9706
      06MT32_1,  ISS2,   188,  1,     10,     10,2,19950414,0522,  1.0062,  57.5030, 4788,   1180.1,   6.3664,  34.9960,2,-999.0000,9,     53.9,   -999.0,9, -999.000,9, -999.000,9, 1181.7,  6.2537
      06MT32_1,  ISS2,   188,  1,      9,      9,2,19950414,0522,  1.0062,  57.5030, 4788,   1326.6,   5.1804,  34.9013,2,-999.0000,9,     74.5,   -999.0,9, -999.000,9,    0.012,2, 1328.1,  5.0642
      06MT32_1,  ISS2,   188,  1,      8,      8,2,19950414,0522,  1.0062,  57.5030, 4788,   1524.5,   4.2665,  34.8542,2,  34.8517,2,     93.3,     94.6,2, -999.000,9,    0.011,2, 1525.8,  4.1413
      06MT32_1,  ISS2,   188,  1,      7,      7,2,19950414,0522,  1.0062,  57.5030, 4788,   1999.2,   2.7372,  34.7806,2,  34.7791,2,    128.7,    129.2,2, -999.000,9, -999.000,9, 1999.8,  2.5891
      06MT32_1,  ISS2,   188,  1,      6,      6,2,19950414,0522,  1.0062,  57.5030, 4788,   2502.1,   2.1158,  34.7579,2,  34.7557,2,    144.3,    146.4,2, -999.000,9, -999.000,9, 2501.4,  1.9326
      06MT32_1,  ISS2,   188,  1,      5,      5,2,19950414,0522,  1.0062,  57.5030, 4788,   3001.2,   1.8171,  34.7428,2,  34.7400,2,    158.4,    158.2,2, -999.000,9, -999.000,9, 2999.1,  1.5928
      06MT32_1,  ISS2,   188,  1,      4,      4,2,19950414,0522,  1.0062,  57.5030, 4788,   3525.1,   1.6103,  34.7333,2,  34.7321,2,    167.7,    168.7,2, -999.000,9, -999.000,9, 3521.4,  1.3384
      06MT32_1,  ISS2,   188,  1,      3,      3,2,19950414,0522,  1.0062,  57.5030, 4788,   4004.9,   1.4380,  34.7256,2,  34.7245,2,    178.6,    177.6,2, -999.000,9, -999.000,9, 3999.9,  1.1200
      06MT32_1,  ISS2,   188,  1,      2,      2,2,19950414,0522,  1.0062,  57.5030, 4788,   4504.5,   1.3650,  34.7210,2,-999.0000,9,    183.5,   -999.0,9, -999.000,9, -999.000,9, 4498.3,  0.9935
      06MT32_1,  ISS2,   188,  1,      1,      1,2,19950414,0522,  1.0062,  57.5030, 4788,   4707.1,   1.3680,  34.7203,2,  34.7186,2,    185.7,    184.0,2, -999.000,9, -999.000,9, 4700.5,  0.9730
      06MT32_1,  ISS2,   189,  1,     20,     20,2,19950414,1747,  0.0053,  57.5123, 4778,     10.0,  29.5429,  35.1943,2,  35.2028,2,    183.9,    199.8,4, -999.000,9,    0.953,2,   10.0, 29.5375
      06MT32_1,  ISS2,   189,  1,     19,     19,2,19950414,1747,  0.0053,  57.5123, 4778,     50.2,  27.7062,  35.4569,2,  35.4545,2,    196.8,    203.9,3, -999.000,9,    0.996,2,   50.4, 27.6979
      06MT32_1,  ISS2,   189,  1,     18,     18,2,19950414,1747,  0.0053,  57.5123, 4778,    118.6,  21.2737,  35.2818,2,-999.0000,9,    141.4,   -999.0,9, -999.000,9,    0.948,2,  119.0, 21.2610
      06MT32_1,  ISS2,   189,  1,     17,     17,2,19950414,1747,  0.0053,  57.5123, 4778,    200.0,  13.8100,  35.1687,2,-999.0000,9,    128.9,    128.0,2, -999.000,9,    0.745,2,  200.6, 13.7839
      06MT32_1,  ISS2,   189,  1,     16,     16,2,19950414,1747,  0.0053,  57.5123, 4778,    299.2,  11.5826,  35.0494,2,-999.0000,9,    104.3,   -999.0,9, -999.000,9,    0.464,2,  300.1, 11.5491
      06MT32_1,  ISS2,   189,  1,     15,     15,2,19950414,1747,  0.0053,  57.5123, 4778,    399.1,  10.3781,  35.0098,2,-999.0000,9,     90.7,   -999.0,9, -999.000,9,    0.249,2,  400.2, 10.3322
      06MT32_1,  ISS2,   189,  1,     14,     14,2,19950414,1747,  0.0053,  57.5123, 4778,    504.8,   9.9232,  35.0235,2,  35.0211,2,     75.2,     68.3,3, -999.000,9,    0.138,2,  506.1,  9.8640
      06MT32_1,  ISS2,   189,  1,     13,     13,2,19950414,1747,  0.0053,  57.5123, 4778,    625.8,   9.3380,  35.0277,2,-999.0000,9,     66.4,   -999.0,9, -999.000,9,    0.099,2,  627.2,  9.2669
      06MT32_1,  ISS2,   189,  1,     12,     12,2,19950414,1747,  0.0053,  57.5123, 4778,    712.7,   8.7303,  35.0369,2,-999.0000,9,     56.6,   -999.0,9, -999.000,9,    0.055,2,  714.2,  8.6520
      06MT32_1,  ISS2,   189,  1,     11,     11,2,19950414,1747,  0.0053,  57.5123, 4778,    821.9,   8.2604,  35.0972,2,-999.0000,9,     47.3,   -999.0,9, -999.000,9,    0.031,2,  823.5,  8.1723
      06MT32_1,  ISS2,   189,  1,     10,     10,2,19950414,1747,  0.0053,  57.5123, 4778,    921.6,   7.4330,  35.0036,2,-999.0000,9,     48.7,   -999.0,9, -999.000,9,    0.015,2,  923.2,  7.3394
      06MT32_1,  ISS2,   189,  1,      9,      9,2,19950414,1747,  0.0053,  57.5123, 4778,   1015.0,   6.8637,  34.9700,2,  34.9713,2,     53.2,     51.8,2, -999.000,9,    0.016,2, 1016.7,  6.7642
      06MT32_1,  ISS2,   189,  1,      8,      8,2,19950414,1747,  0.0053,  57.5123, 4778,   1498.0,   4.3579,  34.8464,2,-999.0000,9,     92.4,     92.5,2, -999.000,9,    0.010,2, 1499.4,  4.2342
      06MT32_1,  ISS2,   189,  1,      7,      7,2,19950414,1747,  0.0053,  57.5123, 4778,   1999.4,   2.8246,  34.7844,2,  34.7838,2,    127.3,    126.2,2, -999.000,9, -999.000,9, 2000.0,  2.6752
      06MT32_1,  ISS2,   189,  1,      6,      6,2,19950414,1747,  0.0053,  57.5123, 4778,   2484.7,   2.1243,  34.7567,2,-999.0000,9,    147.7,    146.3,2, -999.000,9, -999.000,9, 2484.1,  1.9425
      06MT32_1,  ISS2,   189,  1,      5,      5,2,19950414,1747,  0.0053,  57.5123, 4778,   3001.1,   1.7882,  34.7408,2,  34.7388,2,    159.9,    160.1,2, -999.000,9, -999.000,9, 2999.0,  1.5645
      06MT32_1,  ISS2,   189,  1,      4,      4,2,19950414,1747,  0.0053,  57.5123, 4778,   3502.2,   1.6698,  34.7354,2,  34.7337,2,    167.8,    165.4,2, -999.000,9, -999.000,9, 3498.6,  1.3988
      06MT32_1,  ISS2,   189,  1,      3,      3,2,19950414,1747,  0.0053,  57.5123, 4778,   4004.1,   1.4575,  34.7262,2,  34.7250,2,    178.4,    176.1,2, -999.000,9, -999.000,9, 3999.1,  1.1391
      06MT32_1,  ISS2,   189,  1,      2,      2,2,19950414,1747,  0.0053,  57.5123, 4778,   4504.8,   1.3683,  34.7212,2,-999.0000,9,    185.1,   -999.0,9, -999.000,9, -999.000,9, 4498.6,  0.9967
      06MT32_1,  ISS2,   189,  1,      1,      1,2,19950414,1747,  0.0053,  57.5123, 4778,   4715.8,   1.3645,  34.7194,2,  34.7184,2,    187.7,    184.5,2, -999.000,9, -999.000,9, 4709.2,  0.9686
      06MT32_1,  ISS2,   190,  1,     15,     21,2,19950415,0730, -1.0217,  57.5035, 4617,      9.6,  30.0085,  35.3958,2,-999.0000,9,    177.2,   -999.0,9, -999.000,9,    0.907,2,    9.6, 30.0014
      06MT32_1,  ISS2,   190,  1,     14,     20,2,19950415,0730, -1.0217,  57.5035, 4617,     48.8,  27.9133,  35.3478,2,  35.3490,2,    191.2,    206.4,4, -999.000,9,    0.930,2,   49.0, 27.8927
      06MT32_1,  ISS2,   190,  1,     13,     19,2,19950415,0730, -1.0217,  57.5035, 4617,     98.4,  23.4312,  35.2574,2,-999.0000,9,    162.6,   -999.0,9, -999.000,9,    0.898,2,   98.7, 23.3941
      06MT32_1,  ISS2,   190,  1,     12,     18,2,19950415,0730, -1.0217,  57.5035, 4617,    197.7,  13.7162,  35.1620,2,-999.0000,9,    122.3,    124.3,2, -999.000,9,    0.687,2,  198.3, 13.6844
      06MT32_1,  ISS2,   190,  1,     11,     17,2,19950415,0730, -1.0217,  57.5035, 4617,    296.3,  11.7464,  35.0604,2,-999.0000,9,     99.1,   -999.0,9, -999.000,9,    0.428,2,  297.2, 11.7042
      06MT32_1,  ISS2,   190,  1,     10,     16,2,19950415,0730, -1.0217,  57.5035, 4617,    398.3,  10.6125,  34.9934,2,-999.0000,9,    104.7,   -999.0,9, -999.000,9,    0.321,2,  399.4, 10.5649
      06MT32_1,  ISS2,   190,  1,      9,     15,2,19950415,0730, -1.0217,  57.5035, 4617,    489.6,   9.8478,  34.9744,2,  34.9965,4,     87.0,     73.3,4, -999.000,9,    0.137,2,  490.8,  9.7908
      06MT32_1,  ISS2,   190,  1,      8,     14,2,19950415,0730, -1.0217,  57.5035, 4617,    606.0,   9.2281,  35.0210,2,-999.0000,9,     67.6,   -999.0,9, -999.000,9, -999.000,9,  607.4,  9.1598
      06MT32_1,  ISS2,   190,  1,      7,     13,2,19950415,0730, -1.0217,  57.5035, 4617,    720.0,   8.5775,  35.0194,2,-999.0000,9,     60.5,   -999.0,9, -999.000,9,    0.060,2,  721.5,  8.4992
      06MT32_1,  ISS2,   190,  1,      6,     12,2,19950415,0730, -1.0217,  57.5035, 4617,    810.9,   7.8340,  34.9912,2,-999.0000,9,     55.6,   -999.0,9, -999.000,9,    0.021,2,  812.5,  7.7498
      06MT32_1,  ISS2,   190,  1,      5,     11,2,19950415,0730, -1.0217,  57.5035, 4617,    907.9,   7.2662,  34.9931,2,  34.9919,2,     50.7,     48.4,2, -999.000,9,    0.015,2,  909.5,  7.1752
      06MT32_1,  ISS2,   190,  1,      4,     10,2,19950415,0730, -1.0217,  57.5035, 4617,    998.8,   6.8278,  34.9797,2,-999.0000,9,     52.5,   -999.0,9, -999.000,9,    0.013,2, 1000.5,  6.7303
      06MT32_1,  ISS2,   190,  1,      3,      9,2,19950415,0730, -1.0217,  57.5035, 4617,   1253.1,   5.3222,  34.8762,2,  34.8764,2,     78.0,     78.2,2, -999.000,9,    0.008,2, 1254.7,  5.2118
      06MT32_1,  ISS2,   190,  1,      2,      8,2,19950415,0730, -1.0217,  57.5035, 4617,   1482.8,   4.1946,  34.8378,2,-999.0000,9,     98.2,   -999.0,9, -999.000,9,    0.009,2, 1484.2,  4.0741
      06MT32_1,  ISS2,   190,  1,      1,      7,2,19950415,0730, -1.0217,  57.5035, 4617,   2002.5,   2.8406,  34.7854,2,  34.7826,2,    127.5,    133.8,3, -999.000,9, -999.000,9, 2003.0,  2.6906
      06MT32_1,  ISS2,   191,  1,     16,     18,2,19950415,1340, -1.4998,  57.5125, 4519,      9.7,  29.9460,  35.3555,2,  35.3543,2,    185.2,    198.0,4, -999.000,9,    0.923,2,    9.7, 29.9478
      06MT32_1,  ISS2,   191,  1,     15,     17,2,19950415,1340, -1.4998,  57.5125, 4519,     79.3,  25.8978,  35.3652,2,-999.0000,9,    174.4,   -999.0,9, -999.000,9, -999.000,9,   79.6, 25.8865
      06MT32_1,  ISS2,   191,  1,     14,     16,2,19950415,1340, -1.4998,  57.5125, 4519,    146.6,  15.7731,  35.2052,2,-999.0000,9,    120.0,   -999.0,9, -999.000,9,    0.785,2,  147.1, 15.7553
      06MT32_1,  ISS2,   191,  1,     13,     14,2,19950415,1340, -1.4998,  57.5125, 4519,    198.7,  13.5033,  35.1504,2,-999.0000,9,    120.9,    121.7,2, -999.000,9,    0.678,2,  199.3, 13.4758
      06MT32_1,  ISS2,   191,  1,     12,     13,2,19950415,1340, -1.4998,  57.5125, 4519,    299.6,  11.3765,  35.0273,2,  35.0199,2,    119.6,   -999.0,9, -999.000,9,    0.493,2,  300.5, 11.3336
      06MT32_1,  ISS2,   191,  1,     11,     12,2,19950415,1340, -1.4998,  57.5125, 4519,    399.1,  10.0764,  34.9275,2,-999.0000,9,    126.1,   -999.0,9, -999.000,9,    0.405,2,  400.2, 10.0344
      06MT32_1,  ISS2,   191,  1,     10,     11,2,19950415,1340, -1.4998,  57.5125, 4519,    493.4,   9.8328,  34.9889,2,-999.0000,9,     86.4,     81.2,3, -999.000,9,    0.183,2,  494.6,  9.7754
      06MT32_1,  ISS2,   191,  1,      9,     10,2,19950415,1340, -1.4998,  57.5125, 4519,    598.5,   8.8262,  34.9423,2,-999.0000,9,     82.0,   -999.0,9, -999.000,9,    0.108,2,  599.9,  8.7606
      06MT32_1,  ISS2,   191,  1,      8,      9,2,19950415,1340, -1.4998,  57.5125, 4519,    692.6,   8.5995,  35.0257,2,  35.0254,2,     64.0,     64.8,2, -999.000,9,    0.054,2,  694.1,  8.5242
      06MT32_1,  ISS2,   191,  1,      7,      8,2,19950415,1340, -1.4998,  57.5125, 4519,    790.6,   7.7795,  34.9612,2,-999.0000,9,     66.0,   -999.0,9, -999.000,9,    0.038,2,  792.2,  7.6979
      06MT32_1,  ISS2,   191,  1,      6,      7,2,19950415,1340, -1.4998,  57.5125, 4519,    903.8,   7.1279,  34.9508,2,-999.0000,9,     65.2,   -999.0,9, -999.000,9,    0.020,2,  905.4,  7.0383
      06MT32_1,  ISS2,   191,  1,      5,      6,2,19950415,1340, -1.4998,  57.5125, 4519,    998.4,   6.8153,  34.9684,2,  34.9687,2,     54.2,     52.4,2, -999.000,9,    0.004,2, 1000.1,  6.7179
      06MT32_1,  ISS2,   191,  1,      4,      5,2,19950415,1340, -1.4998,  57.5125, 4519,   1199.5,   6.0433,  34.9284,2,-999.0000,9,     65.2,   -999.0,9, -999.000,9,    0.026,2, 1201.1,  5.9316
      06MT32_1,  ISS2,   191,  1,      3,      4,2,19950415,1340, -1.4998,  57.5125, 4519,   1495.0,   4.0932,  34.8311,2,  34.8351,2,    101.3,     99.1,2, -999.000,9,    0.005,2, 1496.4,  3.9728
      06MT32_1,  ISS2,   191,  1,      1,      1,2,19950415,1340, -1.4998,  57.5125, 4519,   2002.3,   2.7672,  34.7814,2,-999.0000,9,    129.2,   -999.0,9, -999.000,9, -999.000,9, 2002.8,  2.6184
      06MT32_1,  ISS2,   191,  1,      2,      2,2,19950415,1340, -1.4998,  57.5125, 4519,   2003.5,   2.7637,  34.7829,2,  34.7803,2,    129.0,    127.8,2, -999.000,9, -999.000,9, 2004.0,  2.6148