BOTTLE,20220930CCHSIOAMB
EXPOCODE,SECT_ID,STNNBR,CASTNO,SAMPNO,BTLNBR,BTLNBR_FLAG_W,DATE,TIME,LATITUDE,LONGITUDE,DEPTH,CTDPRS,CTDTMP,CTDSAL,CTDSAL_FLAG_W,SALNTY,SALNTY_FLAG_W,CTDOXY,OXYGEN,OXYGEN_FLAG_W,CFC-11,CFC-11_FLAG_W,CFC-12,CFC-12_FLAG_W,CTDRAW,THETA
,,,,,,,,,,,,DBAR,DEG C,PSS-78,,PSS-78,,UMOL/KG,UMOL/KG,,PMOL/KG,,PMOL/KG,,,DEG C
      06MT32_1,  ISS2,   162,  1,     19,     21,2,19950405,1040, 10.5608,  58.9678, 4043,      9.5,  28.2916,  35.9724,2,  35.9823,2,    203.2,    197.8,3, -999.000,9,    0.962,2,    9.5, 28.2896
      06MT32_1,  ISS2,   162,  1,     18,     20,2,19950405,1040, 10.5608,  58.9678, 4043,     49.6,  26.3303,  36.4836,2,-999.0000,9,    208.3,    194.1,4, -999.000,9, -999.000,9,   49.8, 26.3198
      06MT32_1,  ISS2,   162,  1,     17,     19,2,19950405,1040, 10.5608,  58.9678, 4043,     99.7,  24.0610,  36.1165,2,-999.0000,9,    143.2,   -999.0,9, -999.000,9,    0.865,2,  100.0, 24.0549
      06MT32_1,  ISS2,   162,  1,     16,     18,2,19950405,1040, 10.5608,  58.9678, 4043,    199.6,  14.7699,  35.4040,2,-999.0000,9,     17.8,     19.2,2, -999.000,9,    0.293,2,  200.2, 14.7344
      06MT32_1,  ISS2,   162,  1,     15,     16,2,19950405,1040, 10.5608,  58.9678, 4043,    299.5,  12.3569,  35.2748,2,-999.0000,9,     32.6,     30.9,2, -999.000,9,    0.194,2,  300.4, 12.3216
      06MT32_1,  ISS2,   162,  1,     14,     15,2,19950405,1040, 10.5608,  58.9678, 4043,    398.8,  11.3990,  35.2185,2,  35.2076,4,     30.1,   -999.0,9, -999.000,9,    0.121,2,  399.9, 11.3512
      06MT32_1,  ISS2,   162,  1,     13,     14,2,19950405,1040, 10.5608,  58.9678, 4043,    480.9,  10.9539,  35.2645,2,-999.0000,9,     23.5,   -999.0,9, -999.000,9, -999.000,9,  482.1, 10.8939
      06MT32_1,  ISS2,   162,  1,     12,     13,2,19950405,1040, 10.5608,  58.9678, 4043,    600.0,  10.5160,  35.3292,2,-999.0000,9,     18.2,   -999.0,9, -999.000,9,    0.032,2,  601.4, 10.4425
      06MT32_1,  ISS2,   162,  1,     11,     12,2,19950405,1040, 10.5608,  58.9678, 4043,    677.5,  10.3377,  35.3656,2,-999.0000,9,     20.4,   -999.0,9, -999.000,9,    0.042,2,  679.0, 10.2553
      06MT32_1,  ISS2,   162,  1,     10,     10,2,19950405,1040, 10.5608,  58.9678, 4043,    789.5,   9.5842,  35.3304,2,  35.3151,4,     19.9,     19.6,2, -999.000,9,    0.032,2,  791.1,  9.4919
      06MT32_1,  ISS2,   162,  1,      8,      8,2,19950405,1040, 10.5608,  58.9678, 4043,    898.0,   9.1987,  35.3262,2,-999.0000,9,     21.4,   -999.0,9, -999.000,9,    0.005,2,  899.6,  9.0957
      06MT32_1,  ISS2,   162,  1,      9,      9,2,19950405,1040, 10.5608,  58.9678, 4043,    901.8,   9.1937,  35.3258,2,-999.0000,9,     21.4,   -999.0,9, -999.000,9, -999.000,9,  903.4,  9.0902
      06MT32_1,  ISS2,   162,  1,      7,      7,2,19950405,1040, 10.5608,  58.9678, 4043,    990.5,   8.6070,  35.2698,2,-999.0000,9,     23.6,   -999.0,9, -999.000,9,    0.013,2,  992.2,  8.4971
      06MT32_1,  ISS2,   162,  1,      6,      6,2,19950405,1040, 10.5608,  58.9678, 4043,   1178.1,   7.1419,  35.1377,2,-999.0000,9,     36.6,   -999.0,9, -999.000,9, -999.000,9, 1179.7,  7.0225
      06MT32_1,  ISS2,   162,  1,      5,      5,2,19950405,1040, 10.5608,  58.9678, 4043,   1985.5,   3.1343,  34.8257,2,  34.8235,2,    107.5,    108.0,2, -999.000,9, -999.000,9, 1986.1,  2.9814
      06MT32_1,  ISS2,   162,  1,      4,      4,2,19950405,1040, 10.5608,  58.9678, 4043,   2347.1,   2.3621,  34.7828,2,  34.7798,2,    127.0,    123.9,2, -999.000,9, -999.000,9, 2346.8,  2.1886
      06MT32_1,  ISS2,   162,  1,      3,      3,2,19950405,1040, 10.5608,  58.9678, 4043,   3002.5,   1.8141,  34.7484,2,  34.7471,2,    145.9,    145.5,2, -999.000,9, -999.000,9, 3000.4,  1.5897
      06MT32_1,  ISS2,   162,  1,      2,      2,2,19950405,1040, 10.5608,  58.9678, 4043,   3509.4,   1.6838,  34.7398,2,  34.7379,2,    157.0,   -999.0,9, -999.000,9, -999.000,9, 3505.8,  1.4117
      06MT32_1,  ISS2,   162,  1,      1,      1,2,19950405,1040, 10.5608,  58.9678, 4043,   4011.6,   1.6053,  34.7330,2,-999.0000,9,    166.9,    158.2,4, -999.000,9, -999.000,9, 4006.6,  1.2818
      06MT32_1,  ISS2,   163,  1,     17,     19,2,19950405,1520, 10.7200,  59.0367, 4126,     10.1,  28.1527,  36.0255,2,-999.0000,9,    199.6,   -999.0,9, -999.000,9, -999.000,9,   10.1, 28.1487
      06MT32_1,  ISS2,   163,  1,     16,     18,2,19950405,1520, 10.7200,  59.0367, 4126,     50.0,  26.4388,  36.4942,2,-999.0000,9,    208.9,   -999.0,9, -999.000,9, -999.000,9,   50.2, 26.4253
      06MT32_1,  ISS2,   163,  1,     15,     17,2,19950405,1520, 10.7200,  59.0367, 4126,     75.7,  25.6178,  36.3903,2,-999.0000,9,    174.8,   -999.0,9, -999.000,9, -999.000,9,   76.0, 25.5931
      06MT32_1,  ISS2,   163,  1,     14,     15,2,19950405,1520, 10.7200,  59.0367, 4126,    199.1,  14.7052,  35.3961,2,-999.0000,9,     22.1,   -999.0,9, -999.000,9, -999.000,9,  199.7, 14.6613
      06MT32_1,  ISS2,   163,  1,     13,     14,2,19950405,1520, 10.7200,  59.0367, 4126,    299.1,  12.4832,  35.2984,2,-999.0000,9,     35.8,   -999.0,9, -999.000,9, -999.000,9,  300.0, 12.4452
      06MT32_1,  ISS2,   163,  1,     12,     13,2,19950405,1520, 10.7200,  59.0367, 4126,    399.3,  11.6067,  35.2597,2,-999.0000,9,     28.5,   -999.0,9, -999.000,9, -999.000,9,  400.4, 11.5521
      06MT32_1,  ISS2,   163,  1,     11,     12,2,19950405,1520, 10.7200,  59.0367, 4126,    485.3,  11.1087,  35.3212,2,-999.0000,9,     27.8,   -999.0,9, -999.000,9, -999.000,9,  486.5, 11.0476
      06MT32_1,  ISS2,   163,  1,     10,     10,2,19950405,1520, 10.7200,  59.0367, 4126,    604.7,  10.5919,  35.3263,2,-999.0000,9,     18.6,   -999.0,9, -999.000,9, -999.000,9,  606.1, 10.5175
      06MT32_1,  ISS2,   163,  1,      9,      9,2,19950405,1520, 10.7200,  59.0367, 4126,    685.9,  10.4625,  35.3842,2,-999.0000,9,     20.9,   -999.0,9, -999.000,9, -999.000,9,  687.4, 10.3784
      06MT32_1,  ISS2,   163,  1,      8,      8,2,19950405,1520, 10.7200,  59.0367, 4126,    772.3,   9.7754,  35.3430,2,-999.0000,9,     20.2,   -999.0,9, -999.000,9, -999.000,9,  773.9,  9.6842
      06MT32_1,  ISS2,   163,  1,      7,      7,2,19950405,1520, 10.7200,  59.0367, 4126,    875.6,   9.2576,  35.3266,2,-999.0000,9,     20.5,   -999.0,9, -999.000,9, -999.000,9,  877.2,  9.1569
      06MT32_1,  ISS2,   163,  1,      6,      6,2,19950405,1520, 10.7200,  59.0367, 4126,    989.3,   8.2679,  35.2408,2,-999.0000,9,     28.4,   -999.0,9, -999.000,9, -999.000,9,  991.0,  8.1606
      06MT32_1,  ISS2,   163,  1,      5,      5,2,19950405,1520, 10.7200,  59.0367, 4126,   2011.1,   3.0579,  34.8255,2,-999.0000,9,    107.5,   -999.0,9, -999.000,9, -999.000,9, 2011.6,  2.9038
      06MT32_1,  ISS2,   163,  1,      4,      4,2,19950405,1520, 10.7200,  59.0367, 4126,   2504.8,   2.1888,  34.7725,2,-999.0000,9,    131.4,   -999.0,9, -999.000,9, -999.000,9, 2504.1,  2.0039
      06MT32_1,  ISS2,   163,  1,      3,      3,2,19950405,1520, 10.7200,  59.0367, 4126,   3011.4,   1.8276,  34.7508,2,-999.0000,9,    144.8,   -999.0,9, -999.000,9, -999.000,9, 3009.3,  1.6020
      06MT32_1,  ISS2,   163,  1,      2,      2,2,19950405,1520, 10.7200,  59.0367, 4126,   3503.4,   1.7037,  34.7408,2,-999.0000,9,    154.0,   -999.0,9, -999.000,9, -999.000,9, 3499.8,  1.4317
      06MT32_1,  ISS2,   163,  1,      1,      1,2,19950405,1520, 10.7200,  59.0367, 4126,   4053.6,   1.5754,  34.7324,2,-999.0000,9,    168.1,   -999.0,9, -999.000,9, -999.000,9, 4048.5,  1.2482
      06MT32_1,  ISS2,   164,  1,     20,     20,2,19950405,2033, 10.8767,  59.1493, 4535,     10.1,  28.2195,  36.0265,2,-999.0000,5,    191.5,    198.9,3, -999.000,9,    1.016,2,   10.1, 28.2343
      06MT32_1,  ISS2,   164,  1,     19,     19,2,19950405,2033, 10.8767,  59.1493, 4535,     80.0,  23.9009,  36.1284,2,-999.0000,9,    124.3,   -999.0,9, -999.000,9,    0.911,2,   80.3, 23.8939
      06MT32_1,  ISS2,   164,  1,     18,     18,2,19950405,2033, 10.8767,  59.1493, 4535,    150.4,  17.1524,  35.5587,2,-999.0000,9,     26.6,   -999.0,9, -999.000,9,    0.520,2,  150.9, 17.1257
      06MT32_1,  ISS2,   164,  1,     17,     17,2,19950405,2033, 10.8767,  59.1493, 4535,    200.1,  14.9447,  35.4858,2,-999.0000,9,     34.3,   -999.0,9, -999.000,9,    0.248,2,  200.7, 14.9239
      06MT32_1,  ISS2,   164,  1,     16,     16,2,19950405,2033, 10.8767,  59.1493, 4535,    300.0,  12.3963,  35.3005,2,-999.0000,9,     38.9,     37.9,2, -999.000,9,    0.143,2,  300.9, 12.3516
      06MT32_1,  ISS2,   164,  1,     15,     15,2,19950405,2033, 10.8767,  59.1493, 4535,    399.3,  11.7507,  35.3598,2,-999.0000,9,     34.2,     29.0,3, -999.000,9,    0.114,2,  400.4, 11.6176
      06MT32_1,  ISS2,   164,  1,     14,     14,2,19950405,2033, 10.8767,  59.1493, 4535,    473.9,  11.2261,  35.3602,2,-999.0000,9,     27.3,   -999.0,9, -999.000,9,    0.109,2,  475.1, 11.1660
      06MT32_1,  ISS2,   164,  1,     13,     13,2,19950405,2033, 10.8767,  59.1493, 4535,    584.2,  10.7926,  35.3991,2,-999.0000,9,     22.1,   -999.0,9, -999.000,9,    0.077,2,  585.6, 10.7199
      06MT32_1,  ISS2,   164,  1,     11,     11,2,19950405,2033, 10.8767,  59.1493, 4535,    674.7,  10.2273,  35.3841,2,-999.0000,9,     20.0,   -999.0,9, -999.000,9,    0.058,2,  676.2, 10.1457
      06MT32_1,  ISS2,   164,  1,     12,     12,2,19950405,2033, 10.8767,  59.1493, 4535,    675.9,  10.2248,  35.3841,2,-999.0000,9,     19.4,   -999.0,9, -999.000,9, -999.000,9,  677.4, 10.1431
      06MT32_1,  ISS2,   164,  1,     10,     10,2,19950405,2033, 10.8767,  59.1493, 4535,    796.3,   9.7080,  35.3641,2,-999.0000,9,     19.3,   -999.0,9, -999.000,9, -999.000,9,  797.9,  9.6142
      06MT32_1,  ISS2,   164,  1,      9,      9,2,19950405,2033, 10.8767,  59.1493, 4535,    798.1,   9.7060,  35.3642,2,-999.0000,9,     19.3,   -999.0,9, -999.000,9,    0.027,2,  799.7,  9.6120
      06MT32_1,  ISS2,   164,  1,      8,      8,2,19950405,2033, 10.8767,  59.1493, 4535,    909.4,   8.7872,  35.2687,2,-999.0000,9,     22.4,   -999.0,9, -999.000,9,    0.039,2,  911.0,  8.6856
      06MT32_1,  ISS2,   164,  1,      7,      7,2,19950405,2033, 10.8767,  59.1493, 4535,   1009.7,   8.2190,  35.2380,2,  35.2555,4,     28.7,     28.0,2, -999.000,9,    0.046,2, 1011.4,  8.1097
      06MT32_1,  ISS2,   164,  1,      6,      6,2,19950405,2033, 10.8767,  59.1493, 4535,   2013.7,   3.1937,  34.8349,2,  34.8525,4,    105.0,    102.9,2, -999.000,9,    0.008,2, 2014.2,  3.0373
      06MT32_1,  ISS2,   164,  1,      5,      5,2,19950405,2033, 10.8767,  59.1493, 4535,   2499.9,   2.2157,  34.7750,2,  34.7708,2,    130.9,    128.0,2, -999.000,9, -999.000,9, 2499.3,  2.0308
      06MT32_1,  ISS2,   164,  1,      4,      4,2,19950405,2033, 10.8767,  59.1493, 4535,   3001.7,   1.8166,  34.7498,2,  34.7620,4,    145.9,    143.6,2, -999.000,9, -999.000,9, 2999.6,  1.5922
      06MT32_1,  ISS2,   164,  1,      3,      3,2,19950405,2033, 10.8767,  59.1493, 4535,   3475.1,   1.7037,  34.7400,2,  34.7383,2,    154.7,    150.9,2, -999.000,9, -999.000,9, 3471.6,  1.4346
      06MT32_1,  ISS2,   164,  1,      2,      2,2,19950405,2033, 10.8767,  59.1493, 4535,   4003.6,   1.6078,  34.7336,2,  34.7312,2,    166.7,    161.7,3, -999.000,9, -999.000,9, 3998.6,  1.2851
      06MT32_1,  ISS2,   164,  1,      1,      1,2,19950405,2033, 10.8767,  59.1493, 4535,   4501.5,   1.6088,  34.7313,2,  34.7302,2,    170.2,    168.2,2, -999.000,9, -999.000,9, 4495.3,  1.2300
      06MT32_1,  ISS2,   165,  1,     10,     10,2,19950406,0130, 11.0723,  59.2998, 4538,      9.5,  28.2628,  35.7120,2,  35.7083,2,    187.1,    195.9,4, -999.000,9, -999.000,9,    9.5, 28.2572
      06MT32_1,  ISS2,   165,  1,      9,      9,2,19950406,0130, 11.0723,  59.2998, 4538,    398.9,  12.1447,  35.4193,2,  35.4087,4,     33.7,     32.7,2, -999.000,9, -999.000,9,  400.0, 12.0928
      06MT32_1,  ISS2,   165,  1,      8,      8,2,19950406,0130, 11.0723,  59.2998, 4538,   1026.1,   8.2170,  35.2364,2,  35.2284,2,     28.0,     25.9,2, -999.000,9, -999.000,9, 1027.8,  8.1058
      06MT32_1,  ISS2,   165,  1,      7,      7,2,19950406,0130, 11.0723,  59.2998, 4538,   1528.6,   5.2188,  34.9797,2,  34.9717,2,     60.2,     60.1,2, -999.000,9, -999.000,9, 1529.9,  5.0822
      06MT32_1,  ISS2,   165,  1,      6,      6,2,19950406,0130, 11.0723,  59.2998, 4538,   1987.7,   3.1358,  34.8303,2,-999.0000,9,    106.3,    104.7,2, -999.000,9, -999.000,9, 1988.3,  2.9827
      06MT32_1,  ISS2,   165,  1,      5,      5,2,19950406,0130, 11.0723,  59.2998, 4538,   2474.3,   2.2312,  34.7770,2,-999.0000,9,    125.8,    122.1,2, -999.000,9, -999.000,9, 2473.7,  2.0484
      06MT32_1,  ISS2,   165,  1,      4,      4,2,19950406,0130, 11.0723,  59.2998, 4538,   2998.4,   1.8321,  34.7496,2,  34.7469,2,    143.2,    138.9,2, -999.000,9, -999.000,9, 2996.3,  1.6077
      06MT32_1,  ISS2,   165,  1,      3,      3,2,19950406,0130, 11.0723,  59.2998, 4538,   3502.8,   1.7152,  34.7412,2,  34.7381,2,    155.6,    151.3,2, -999.000,9, -999.000,9, 3499.2,  1.4430
      06MT32_1,  ISS2,   165,  1,      2,      2,2,19950406,0130, 11.0723,  59.2998, 4538,   3985.5,   1.6693,  34.7364,2,  34.7340,2,    160.0,    156.5,2, -999.000,9, -999.000,9, 3980.5,  1.3469
      06MT32_1,  ISS2,   165,  1,      1,      1,2,19950406,0130, 11.0723,  59.2998, 4538,   4506.0,   1.6068,  34.7304,2,  34.7287,2,    170.0,    167.6,2, -999.000,9, -999.000,9, 4499.8,  1.2276
      06MT32_1,  ISS2,   166,  1,     19,     21,2,19950406,0649, 11.3338,  59.5012, 4451,      9.9,  28.3084,  35.6411,2,-999.0000,9,    190.4,   -999.0,9, -999.000,9,    0.964,2,    9.9, 28.3104
      06MT32_1,  ISS2,   166,  1,     18,     20,2,19950406,0649, 11.3338,  59.5012, 4451,     79.2,  25.3306,  36.3440,2,  36.3239,4,    160.8,    151.9,4, -999.000,9,    0.982,2,   79.5, 25.3092
      06MT32_1,  ISS2,   166,  1,     17,     19,2,19950406,0649, 11.3338,  59.5012, 4451,    149.3,  18.6012,  35.5674,2,-999.0000,9,     38.0,   -999.0,9, -999.000,9,    0.657,2,  149.8, 18.5898
      06MT32_1,  ISS2,   166,  1,     16,     18,2,19950406,0649, 11.3338,  59.5012, 4451,    199.8,  16.0285,  35.5592,2,-999.0000,9,     20.7,   -999.0,9, -999.000,9,    0.533,2,  200.4, 15.9924
      06MT32_1,  ISS2,   166,  1,     15,     17,2,19950406,0649, 11.3338,  59.5012, 4451,    299.8,  13.5440,  35.5466,2,-999.0000,9,     28.8,   -999.0,9, -999.000,9,    0.288,2,  300.7, 13.5007
      06MT32_1,  ISS2,   166,  1,     14,     16,2,19950406,0649, 11.3338,  59.5012, 4451,    399.8,  12.6117,  35.5517,2,-999.0000,9,     26.9,   -999.0,9, -999.000,9,    0.221,2,  400.9, 12.5583
      06MT32_1,  ISS2,   166,  1,     13,     15,2,19950406,0649, 11.3338,  59.5012, 4451,    514.0,  11.8103,  35.5397,2,-999.0000,9,     20.5,   -999.0,9, -999.000,9,    0.173,2,  515.3, 11.7427
      06MT32_1,  ISS2,   166,  1,     12,     14,2,19950406,0649, 11.3338,  59.5012, 4451,    652.6,  11.1282,  35.5391,2,-999.0000,9,     18.4,   -999.0,9, -999.000,9,    0.085,2,  654.1, 11.0451
      06MT32_1,  ISS2,   166,  1,     11,     13,2,19950406,0649, 11.3338,  59.5012, 4451,    744.6,  10.7577,  35.5471,2,-999.0000,9,     18.1,   -999.0,9, -999.000,9,    0.060,2,  746.1, 10.6644
      06MT32_1,  ISS2,   166,  1,     10,     11,2,19950406,0649, 11.3338,  59.5012, 4451,    862.9,   9.6681,  35.4102,2,-999.0000,9,     20.0,   -999.0,9, -999.000,9,    0.057,2,  864.5,  9.5663
      06MT32_1,  ISS2,   166,  1,      9,      9,2,19950406,0649, 11.3338,  59.5012, 4451,    998.3,   8.5860,  35.2954,2,-999.0000,9,     21.5,     16.3,3, -999.000,9,    0.041,2, 1000.0,  8.4753
      06MT32_1,  ISS2,   166,  1,      8,      8,2,19950406,0649, 11.3338,  59.5012, 4451,   1100.1,   7.8345,  35.2309,2,-999.0000,9,     27.5,     26.2,2, -999.000,9,    0.031,2, 1101.8,  7.7179
      06MT32_1,  ISS2,   166,  1,      7,      7,2,19950406,0649, 11.3338,  59.5012, 4451,   1508.4,   5.2668,  34.9902,2,  34.9888,2,     60.1,   -999.0,9, -999.000,9,    0.000,2, 1509.8,  5.1316
      06MT32_1,  ISS2,   166,  1,      6,      6,2,19950406,0649, 11.3338,  59.5012, 4451,   2001.2,   3.1772,  34.8367,2,  34.8296,2,    104.6,    104.2,2, -999.000,9,    0.009,2, 2001.7,  3.0222
      06MT32_1,  ISS2,   166,  1,      5,      5,2,19950406,0649, 11.3338,  59.5012, 4451,   2470.5,   2.2197,  34.7753,2,  34.7732,2,    124.4,    122.7,2, -999.000,9, -999.000,9, 2469.9,  2.0374
      06MT32_1,  ISS2,   166,  1,      4,      4,2,19950406,0649, 11.3338,  59.5012, 4451,   3002.0,   1.8356,  34.7504,2,  34.7459,2,    140.4,    139.7,2, -999.000,9, -999.000,9, 2999.9,  1.6107
      06MT32_1,  ISS2,   166,  1,      3,      3,2,19950406,0649, 11.3338,  59.5012, 4451,   3503.4,   1.7257,  34.7408,2,  34.7382,2,    155.6,    153.2,2, -999.000,9, -999.000,9, 3499.8,  1.4531
      06MT32_1,  ISS2,   166,  1,      2,      2,2,19950406,0649, 11.3338,  59.5012, 4451,   3904.3,   1.6808,  34.7368,2,  34.7347,2,    159.1,    162.0,2, -999.000,9, -999.000,9, 3899.6,  1.3669
      06MT32_1,  ISS2,   166,  1,      1,      1,2,19950406,0649, 11.3338,  59.5012, 4451,   4405.8,   1.5903,  34.7302,2,  34.7282,2,    169.5,   -999.0,9, -999.000,9, -999.000,9, 4399.8,  1.2231