BOTTLE,20220930CCHSIOAMB
# Removed duplicate empty station 118, cast 1, sample 1
#BOTTLE,20030324WHPSIODMB
#code : jjward hyd_to_exchange.pl 
#original files copied from HTML directory: 20030324
#original HYD file: iss2_dhy.txt   Mon Mar 24 14:46:17 2003
#original SUM file: iss2_dsu.txt   Mon Mar 24 14:17:33 2003
EXPOCODE,SECT_ID,STNNBR,CASTNO,SAMPNO,BTLNBR,BTLNBR_FLAG_W,DATE,TIME,LATITUDE,LONGITUDE,DEPTH,CTDPRS,CTDTMP,CTDSAL,CTDSAL_FLAG_W,SALNTY,SALNTY_FLAG_W,CTDOXY,OXYGEN,OXYGEN_FLAG_W,CFC-11,CFC-11_FLAG_W,CFC-12,CFC-12_FLAG_W,CTDRAW,THETA
,,,,,,,,,,,,DBAR,DEG C,PSS-78,,PSS-78,,UMOL/KG,UMOL/KG,,PMOL/KG,,PMOL/KG,,,DEG C
      06MT32_1,  ISS2,   118,  1,      1,      2,2,19950326,0019, 12.8013,  43.1648,   44,     35.2,  26.9700,  36.2687,2,  36.2694,4,    191.3,    201.2,4, -999.000,9,    0.943,2,   35.3, 26.9703
      06MT32_1,  ISS2,   119,  1,      5,      8,2,19950326,0113, 12.8047,  43.2160,  172,     10.7,  27.1750,  36.2570,2,  36.2587,2,    207.9,    203.0,3, -999.000,9,    0.956,2,   10.7, 27.1689
      06MT32_1,  ISS2,   119,  1,      4,      7,2,19950326,0113, 12.8047,  43.2160,  172,     40.6,  26.8413,  36.2763,2,  36.2733,2,    209.4,    201.5,3, -999.000,9,    0.954,2,   40.7, 26.8355
      06MT32_1,  ISS2,   119,  1,      3,      6,2,19950326,0113, 12.8047,  43.2160,  172,     79.7,  26.2660,  36.7089,2,  36.7112,2,    190.0,    183.7,3, -999.000,9,    0.948,2,   80.0, 26.2506
      06MT32_1,  ISS2,   119,  1,      2,      5,2,19950326,0113, 12.8047,  43.2160,  172,    120.9,  23.8389,  39.0171,2,-999.0000,9,    128.4,   -999.0,9, -999.000,9,    0.802,2,  121.3, 23.8071
      06MT32_1,  ISS2,   119,  1,      1,      4,2,19950326,0113, 12.8047,  43.2160,  172,    159.6,  22.5315,  40.0389,2,-999.0000,9,     74.5,   -999.0,9, -999.000,9, -999.000,9,  160.1, 22.5030
      06MT32_1,  ISS2,   120,  1,      5,     13,2,19950326,0204, 12.8037,  43.2518,  172,     10.4,  26.9157,  36.1298,2,-999.0000,5,    186.1,    202.2,4, -999.000,9,    0.952,2,   10.4, 26.9620
      06MT32_1,  ISS2,   120,  1,      4,     12,2,19950326,0204, 12.8037,  43.2518,  172,     40.9,  27.0757,  36.2418,2,  36.2402,2,    207.7,    202.1,3, -999.000,9, -999.000,9,   41.0, 27.0666
      06MT32_1,  ISS2,   120,  1,      3,     11,2,19950326,0204, 12.8037,  43.2518,  172,     89.3,  26.2060,  36.7597,2,  36.7705,4,    189.7,   -999.0,9, -999.000,9,    0.917,2,   89.6, 26.1813
      06MT32_1,  ISS2,   120,  1,      2,     10,2,19950326,0204, 12.8037,  43.2518,  172,    120.8,  24.7608,  38.1755,2,-999.0000,9,    155.0,    142.6,4, -999.000,9, -999.000,9,  121.2, 24.7490
      06MT32_1,  ISS2,   120,  1,      1,      9,2,19950326,0204, 12.8037,  43.2518,  172,    164.6,  22.4863,  40.0739,2,-999.0000,9,     66.5,     68.9,2, -999.000,9,    0.664,2,  165.1, 22.4524
      06MT32_1,  ISS2,   121,  1,      5,     18,2,19950326,0256, 12.8012,  43.2847,  179,     10.4,  26.8383,  36.1325,2,  36.1316,2,    202.4,    198.1,2, -999.000,9,    0.953,2,   10.4, 26.8409
      06MT32_1,  ISS2,   121,  1,      4,     17,2,19950326,0256, 12.8012,  43.2847,  179,     40.2,  26.8503,  36.1498,2,  36.1497,2,    204.8,   -999.0,9, -999.000,9,    0.949,2,   40.3, 26.8386
      06MT32_1,  ISS2,   121,  1,      3,     16,2,19950326,0256, 12.8012,  43.2847,  179,     90.6,  26.5867,  36.3246,2,  36.3455,4,    202.3,    194.5,3, -999.000,9,    0.963,2,   90.9, 26.5610
      06MT32_1,  ISS2,   121,  1,      2,     15,2,19950326,0256, 12.8012,  43.2847,  179,    120.1,  25.1528,  37.7522,2,  37.7762,4,    159.4,   -999.0,9, -999.000,9, -999.000,9,  120.5, 25.1337
      06MT32_1,  ISS2,   121,  1,      1,     14,2,19950326,0256, 12.8012,  43.2847,  179,    166.7,  22.3780,  40.1005,2,-999.0000,9,     59.0,     60.2,2, -999.000,9,    0.630,2,  167.2, 22.3442
      06MT32_1,  ISS2,   122,  1,      2,     21,2,19950326,0351, 12.8163,  43.3517,   46,     10.7,  26.9150,  36.1525,2,  36.1535,2,    206.2,    201.6,3, -999.000,9, -999.000,9,   10.7, 26.9079
      06MT32_1,  ISS2,   122,  1,      1,     19,2,19950326,0351, 12.8163,  43.3517,   46,     39.5,  26.8156,  36.1786,2,  36.1768,2,    196.7,   -999.0,9, -999.000,9, -999.000,9,   39.6, 26.8054
      06MT32_1,  ISS2,   123,  1,     12,     12,2,19950326,0930, 12.4383,  43.6580,  383,     10.3,  27.2794,  36.2582,2,  36.2585,2,    195.3,    204.0,3, -999.000,9,    0.989,2,   10.3, 27.2728
      06MT32_1,  ISS2,   123,  1,     11,     11,2,19950326,0930, 12.4383,  43.6580,  383,     40.6,  26.9766,  36.2612,2,  36.2596,2,    202.6,   -999.0,9, -999.000,9,    0.979,2,   40.7, 26.9644
      06MT32_1,  ISS2,   123,  1,     10,     10,2,19950326,0930, 12.4383,  43.6580,  383,     79.7,  26.2582,  36.3418,2,-999.0000,9,    194.4,    193.8,2, -999.000,9,    0.996,2,   80.0, 26.2381
      06MT32_1,  ISS2,   123,  1,      9,      9,2,19950326,0930, 12.4383,  43.6580,  383,    120.1,  24.7380,  37.3559,2,  37.3623,2,    143.0,    143.2,2, -999.000,9,    0.920,2,  120.5, 24.7160
      06MT32_1,  ISS2,   123,  1,      8,      8,2,19950326,0930, 12.4383,  43.6580,  383,    159.8,  23.3494,  37.9638,2,  37.9707,2,    109.7,    108.2,2, -999.000,9,    0.808,2,  160.3, 23.3109
      06MT32_1,  ISS2,   123,  1,      7,      7,2,19950326,0930, 12.4383,  43.6580,  383,    199.7,  23.9690,  38.4406,2,-999.0000,9,    115.7,   -999.0,9, -999.000,9,    0.794,2,  200.3, 23.8624
      06MT32_1,  ISS2,   123,  1,      6,      6,2,19950326,0930, 12.4383,  43.6580,  383,    241.3,  22.6449,  38.3696,2,-999.0000,5,     91.1,     92.3,2, -999.000,9,    0.757,2,  242.0, 22.6318
      06MT32_1,  ISS2,   123,  1,      4,      4,2,19950326,0930, 12.4383,  43.6580,  383,    289.5,  22.7796,  38.9487,2,-999.0000,9,     87.6,   -999.0,9, -999.000,9, -999.000,9,  290.3, 22.7193
      06MT32_1,  ISS2,   123,  1,      5,      5,2,19950326,0930, 12.4383,  43.6580,  383,    292.3,  22.7898,  38.9740,2,-999.0000,9,     86.8,   -999.0,9, -999.000,9, -999.000,9,  293.1, 22.7262
      06MT32_1,  ISS2,   123,  1,      3,      3,2,19950326,0930, 12.4383,  43.6580,  383,    316.0,  22.7778,  39.6580,2,  39.6564,2,     79.3,     76.6,2, -999.000,9,    0.737,2,  316.9, 22.7090
      06MT32_1,  ISS2,   123,  1,      2,      2,2,19950326,0930, 12.4383,  43.6580,  383,    334.2,  22.6585,  39.9103,2,-999.0000,9,     69.3,   -999.0,9, -999.000,9, -999.000,9,  335.1, 22.5930
      06MT32_1,  ISS2,   123,  1,      1,      1,2,19950326,0930, 12.4383,  43.6580,  383,    340.6,  22.6604,  39.9093,2,  39.9124,2,     70.0,     69.3,2, -999.000,9,    0.683,2,  341.6, 22.5936
      06MT32_1,  ISS2,   124,  1,     15,     20,2,19950326,1349, 12.0007,  44.1023, 1355,     19.8,  27.4513,  36.2921,2,-999.0000,9,    201.7,    202.8,2, -999.000,9,    0.998,2,   19.9, 27.4405
      06MT32_1,  ISS2,   124,  1,     14,     19,2,19950326,1349, 12.0007,  44.1023, 1355,     79.9,  26.3105,  36.2699,2,-999.0000,9,    202.0,   -999.0,9, -999.000,9,    0.982,2,   80.2, 26.2888
      06MT32_1,  ISS2,   124,  1,     13,     18,2,19950326,1349, 12.0007,  44.1023, 1355,    200.0,  15.7730,  35.6366,2,-999.0000,9,     14.5,     13.4,2, -999.000,9,    0.439,2,  200.6, 15.7431
      06MT32_1,  ISS2,   124,  1,     12,     17,2,19950326,1349, 12.0007,  44.1023, 1355,    299.5,  14.9737,  35.8987,2,-999.0000,9,     24.7,   -999.0,9, -999.000,9,    0.384,2,  300.3, 14.9241
      06MT32_1,  ISS2,   124,  1,     11,     16,2,19950326,1349, 12.0007,  44.1023, 1355,    451.6,  19.2157,  37.8223,2,-999.0000,9,     37.2,     53.4,4, -999.000,9,    0.561,2,  452.8, 19.1325
      06MT32_1,  ISS2,   124,  1,     10,     15,2,19950326,1349, 12.0007,  44.1023, 1355,    498.5,  19.4235,  37.9118,2,-999.0000,9,     60.0,     56.3,2, -999.000,9,    0.589,2,  499.8, 19.3309
      06MT32_1,  ISS2,   124,  1,      9,     14,2,19950326,1349, 12.0007,  44.1023, 1355,    599.8,  20.1520,  38.3700,2,-999.0000,9,     68.3,     61.1,3, -999.000,9,    0.616,2,  601.2, 20.0372
      06MT32_1,  ISS2,   124,  1,      8,      9,2,19950326,1349, 12.0007,  44.1023, 1355,    650.2,  20.2569,  38.4659,2,-999.0000,9,     66.2,   -999.0,9, -999.000,9,    0.641,2,  651.7, 20.1318
      06MT32_1,  ISS2,   124,  1,      7,      8,2,19950326,1349, 12.0007,  44.1023, 1355,    718.9,  19.9651,  38.4244,2,-999.0000,9,     60.1,     63.7,2, -999.000,9,    0.570,2,  720.4, 19.8280
      06MT32_1,  ISS2,   124,  1,      6,      7,2,19950326,1349, 12.0007,  44.1023, 1355,    811.9,  19.8012,  38.4480,2,-999.0000,9,     59.4,     54.4,3, -999.000,9,    0.566,2,  813.5, 19.6470
      06MT32_1,  ISS2,   124,  1,      5,      6,2,19950326,1349, 12.0007,  44.1023, 1355,    948.3,  18.5682,  38.2142,2,-999.0000,9,     33.5,     30.3,2, -999.000,9,    0.455,2,  950.0, 18.3953
      06MT32_1,  ISS2,   124,  1,      4,      5,2,19950326,1349, 12.0007,  44.1023, 1355,   1046.3,  17.5131,  37.9063,2,-999.0000,9,     18.9,     16.5,2, -999.000,9,    0.376,2, 1048.0, 17.3294
      06MT32_1,  ISS2,   124,  1,      3,      4,2,19950326,1349, 12.0007,  44.1023, 1355,   1148.6,  17.0935,  37.7709,2,  37.7711,2,     15.1,     14.2,2, -999.000,9,    0.347,2, 1150.2, 16.8948
      06MT32_1,  ISS2,   124,  1,      2,      3,2,19950326,1349, 12.0007,  44.1023, 1355,   1256.4,  17.0466,  37.7504,2,  37.7478,2,     15.1,     13.6,2, -999.000,9,    0.351,2, 1258.0, 16.8291
      06MT32_1,  ISS2,   124,  1,      1,      1,2,19950326,1349, 12.0007,  44.1023, 1355,   1288.8,  17.0316,  37.7442,2,-999.0000,9,     14.8,      0.0,4, -999.000,9,    0.353,2, 1290.4, 16.8084
      06MT32_1,  ISS2,   125,  1,     17,     19,2,19950327,0355, 12.1610,  46.2167, 1696,     10.2,  27.1701,  36.0886,2,-999.0000,5,    201.3,    203.8,2, -999.000,9,    1.006,2,   10.2, 27.1594
      06MT32_1,  ISS2,   125,  1,     16,     18,2,19950327,0355, 12.1610,  46.2167, 1696,     49.7,  25.9194,  36.1342,2,-999.0000,9,    204.7,   -999.0,9, -999.000,9,    1.046,2,   49.9, 25.9081
      06MT32_1,  ISS2,   125,  1,     15,     17,2,19950327,0355, 12.1610,  46.2167, 1696,    149.6,  16.9593,  35.5961,2,-999.0000,9,     22.5,   -999.0,9, -999.000,9, -999.000,9,  150.1, 16.9332
      06MT32_1,  ISS2,   125,  1,     14,     16,2,19950327,0355, 12.1610,  46.2167, 1696,    199.8,  15.1897,  35.5771,2,  35.5915,4,     23.5,     18.9,3, -999.000,9,    0.549,2,  200.4, 15.1627
      06MT32_1,  ISS2,   125,  1,     13,     15,2,19950327,0355, 12.1610,  46.2167, 1696,    349.1,  14.8843,  36.1018,2,-999.0000,9,     21.8,   -999.0,9, -999.000,9,    0.436,2,  350.1, 14.8345
      06MT32_1,  ISS2,   125,  1,     12,     14,2,19950327,0355, 12.1610,  46.2167, 1696,    497.2,  14.6410,  36.3296,2,-999.0000,9,     19.8,   -999.0,9, -999.000,9,    0.338,2,  498.4, 14.5654
      06MT32_1,  ISS2,   125,  1,     11,     13,2,19950327,0355, 12.1610,  46.2167, 1696,    590.3,  13.6981,  36.2350,2,-999.0000,9,     19.6,   -999.0,9, -999.000,9,    0.276,2,  591.7, 13.6120
      06MT32_1,  ISS2,   125,  1,     10,     12,2,19950327,0355, 12.1610,  46.2167, 1696,    746.5,  12.9200,  36.1980,2,  36.1975,2,     17.1,     17.2,2, -999.000,9,    0.225,2,  748.1, 12.8145
      06MT32_1,  ISS2,   125,  1,      9,     11,2,19950327,0355, 12.1610,  46.2167, 1696,    852.9,  12.2857,  36.1535,2,-999.0000,9,     17.5,   -999.0,9, -999.000,9,    0.169,2,  854.5, 12.1685
      06MT32_1,  ISS2,   125,  1,      8,     10,2,19950327,0355, 12.1610,  46.2167, 1696,    955.0,  11.2480,  36.0300,2,  36.0200,2,     17.5,   -999.0,9, -999.000,9,    0.129,2,  956.7, 11.1233
      06MT32_1,  ISS2,   125,  1,      7,      9,2,19950327,0355, 12.1610,  46.2167, 1696,   1102.0,   9.2137,  35.6850,2,  35.6791,2,     20.9,     20.8,2, -999.000,9,    0.093,2, 1103.7,  9.0852
      06MT32_1,  ISS2,   125,  1,      6,      8,2,19950327,0355, 12.1610,  46.2167, 1696,   1202.5,   8.3518,  35.5299,2,  35.5264,2,     24.9,   -999.0,9, -999.000,9,    0.059,2, 1204.1,  8.2185
      06MT32_1,  ISS2,   125,  1,      5,      7,2,19950327,0355, 12.1610,  46.2167, 1696,   1307.2,   7.3191,  35.3595,2,-999.0000,9,     30.2,   -999.0,9, -999.000,9,    0.037,2, 1308.8,  7.1834
      06MT32_1,  ISS2,   125,  1,      4,      5,2,19950327,0355, 12.1610,  46.2167, 1696,   1404.0,   6.4473,  35.2270,2,  35.2256,2,     36.7,   -999.0,9, -999.000,9,    0.029,2, 1405.5,  6.3098
      06MT32_1,  ISS2,   125,  1,      3,      4,2,19950327,0355, 12.1610,  46.2167, 1696,   1492.2,   5.7042,  35.1233,2,  35.1207,2,     44.3,     43.8,2, -999.000,9, -999.000,9, 1493.6,  5.5655
      06MT32_1,  ISS2,   125,  1,      2,      3,2,19950327,0355, 12.1610,  46.2167, 1696,   1602.7,   4.9731,  35.0356,2,  35.0347,2,     53.7,   -999.0,9, -999.000,9,    0.021,2, 1603.9,  4.8318
      06MT32_1,  ISS2,   125,  1,      1,      1,2,19950327,0355, 12.1610,  46.2167, 1696,   1641.1,   4.7974,  35.0163,2,-999.0000,9,     55.8,   -999.0,9, -999.000,9,    0.022,2, 1642.3,  4.6544
      06MT32_1,  ISS2,   126,  1,     14,     15,2,19950327,1632, 12.6675,  48.3233, 2466,      9.5,  27.1556,  36.0357,2,-999.0000,9,    209.0,   -999.0,9, -999.000,9,    0.993,2,    9.5, 27.1544
      06MT32_1,  ISS2,   126,  1,     13,     14,2,19950327,1632, 12.6675,  48.3233, 2466,    100.0,  19.8444,  35.6084,2,-999.0000,9,     81.4,     65.4,4, -999.000,9,    0.766,2,  100.3, 19.8018
      06MT32_1,  ISS2,   126,  1,     12,     13,2,19950327,1632, 12.6675,  48.3233, 2466,    199.9,  15.3678,  35.6370,2,-999.0000,9,     22.2,     18.3,2, -999.000,9,    0.430,2,  200.5, 15.3402
      06MT32_1,  ISS2,   126,  1,     11,     12,2,19950327,1632, 12.6675,  48.3233, 2466,    348.3,  14.4700,  35.9315,2,-999.0000,9,     21.0,     19.8,2, -999.000,9, -999.000,9,  349.3, 14.4154
      06MT32_1,  ISS2,   126,  1,     10,     11,2,19950327,1632, 12.6675,  48.3233, 2466,    489.9,  14.3493,  36.2223,2,-999.0000,9,     19.7,   -999.0,9, -999.000,9,    0.253,2,  491.1, 14.2759
      06MT32_1,  ISS2,   126,  1,      9,     10,2,19950327,1632, 12.6675,  48.3233, 2466,    585.8,  13.0988,  35.9826,2,-999.0000,9,     22.1,   -999.0,9, -999.000,9,    0.191,2,  587.2, 13.0159
      06MT32_1,  ISS2,   126,  1,      8,      9,2,19950327,1632, 12.6675,  48.3233, 2466,    681.7,  13.4903,  36.2339,2,  36.2288,2,     18.6,     16.9,2, -999.000,9,    0.196,2,  683.2, 13.3915
      06MT32_1,  ISS2,   126,  1,      7,      8,2,19950327,1632, 12.6675,  48.3233, 2466,    793.3,  13.0059,  36.2411,2,-999.0000,9,     17.4,      0.0,4, -999.000,9,    0.173,2,  794.9, 12.8931
      06MT32_1,  ISS2,   126,  1,      6,      7,2,19950327,1632, 12.6675,  48.3233, 2466,    893.9,  13.0229,  36.3408,2,-999.0000,9,     18.3,   -999.0,9, -999.000,9,    0.189,2,  895.5, 12.8951
      06MT32_1,  ISS2,   126,  1,      5,      6,2,19950327,1632, 12.6675,  48.3233, 2466,    999.0,  12.0121,  36.1996,2,-999.0000,9,     18.2,   -999.0,9, -999.000,9,    0.146,2, 1000.7, 11.8759
      06MT32_1,  ISS2,   126,  1,      4,      5,2,19950327,1632, 12.6675,  48.3233, 2466,   1191.6,   8.5116,  35.5152,2,  35.5126,2,     23.1,     22.6,2, -999.000,9,    0.056,2, 1193.2,  8.3783
      06MT32_1,  ISS2,   126,  1,      3,      4,2,19950327,1632, 12.6675,  48.3233, 2466,   1387.8,   6.9117,  35.2747,2,-999.0000,9,     34.3,   -999.0,9, -999.000,9,    0.030,2, 1389.3,  6.7712
      06MT32_1,  ISS2,   126,  1,      2,      3,2,19950327,1632, 12.6675,  48.3233, 2466,   1590.9,   5.2478,  35.0607,2,-999.0000,9,     51.9,   -999.0,9, -999.000,9,    0.015,2, 1592.2,  5.1044
      06MT32_1,  ISS2,   126,  1,      1,      1,2,19950327,1632, 12.6675,  48.3233, 2466,   2001.5,   3.4030,  34.8797,2,-999.0000,9,     78.7,   -999.0,9, -999.000,9,    0.020,2, 2002.0,  3.2445
      06MT32_1,  ISS2,   127,  1,     14,     15,2,19950328,0507, 13.1633,  50.4150, 2487,      9.9,  26.9906,  35.5934,2,-999.0000,9,     49.0,   -999.0,9, -999.000,9,    0.983,2,    9.9, 26.9883
      06MT32_1,  ISS2,   127,  1,     13,     14,2,19950328,0507, 13.1633,  50.4150, 2487,    100.0,  19.2697,  35.6384,2,-999.0000,9,     64.0,     47.3,4, -999.000,9,    0.714,2,  100.3, 19.2502
      06MT32_1,  ISS2,   127,  1,     12,     13,2,19950328,0507, 13.1633,  50.4150, 2487,    199.9,  15.6143,  35.5948,2,-999.0000,9,     19.0,     20.5,2, -999.000,9,    0.464,2,  200.5, 15.5804
      06MT32_1,  ISS2,   127,  1,     11,     12,2,19950328,0507, 13.1633,  50.4150, 2487,    299.5,  14.1972,  35.6181,2,  35.6073,4,     25.3,     23.0,2, -999.000,9,    0.350,2,  300.4, 14.1493
      06MT32_1,  ISS2,   127,  1,     10,     11,2,19950328,0507, 13.1633,  50.4150, 2487,    499.2,  13.0868,  35.8216,2,-999.0000,9,     19.5,     17.3,2, -999.000,9,    0.197,2,  500.5, 13.0166
      06MT32_1,  ISS2,   127,  1,      9,     10,2,19950328,0507, 13.1633,  50.4150, 2487,    598.7,  12.2937,  35.7679,2,-999.0000,9,     15.7,     15.0,2, -999.000,9,    0.134,2,  600.1, 12.2125
      06MT32_1,  ISS2,   127,  1,      8,      9,2,19950328,0507, 13.1633,  50.4150, 2487,    698.4,  12.1579,  35.8945,2,-999.0000,9,     15.7,      0.0,4, -999.000,9,    0.132,2,  699.9, 12.0634
      06MT32_1,  ISS2,   127,  1,      7,      8,2,19950328,0507, 13.1633,  50.4150, 2487,    798.5,  11.9072,  35.9531,2,-999.0000,9,     16.2,     16.0,2, -999.000,9,    0.122,2,  800.1, 11.8000
      06MT32_1,  ISS2,   127,  1,      6,      7,2,19950328,0507, 13.1633,  50.4150, 2487,    898.3,  10.9614,  35.8271,2,-999.0000,9,     16.6,      0.0,4, -999.000,9,    0.097,2,  899.9, 10.8465
      06MT32_1,  ISS2,   127,  1,      5,      6,2,19950328,0507, 13.1633,  50.4150, 2487,   1002.6,  10.2923,  35.7644,2,-999.0000,9,     17.5,   -999.0,9, -999.000,9,    0.085,2, 1004.3, 10.1682
      06MT32_1,  ISS2,   127,  1,      4,      5,2,19950328,0507, 13.1633,  50.4150, 2487,   1296.8,   7.7965,  35.4070,2,  35.4009,2,     27.0,     27.0,2, -999.000,9,    0.040,2, 1298.4,  7.6574
      06MT32_1,  ISS2,   127,  1,      3,      4,2,19950328,0507, 13.1633,  50.4150, 2487,   1501.1,   5.6703,  35.1028,2,  35.0961,2,     46.8,   -999.0,9, -999.000,9,    0.009,2, 1502.5,  5.5311
      06MT32_1,  ISS2,   127,  1,      2,      3,2,19950328,0507, 13.1633,  50.4150, 2487,   1598.5,   5.0990,  35.0371,2,-999.0000,9,     55.8,     53.5,2, -999.000,9,    0.021,2, 1599.7,  4.9566
      06MT32_1,  ISS2,   127,  1,      1,      1,2,19950328,0507, 13.1633,  50.4150, 2487,   2000.6,   3.3650,  34.8750,2,-999.0000,9,     83.9,   -999.0,9, -999.000,9,    0.022,2, 2001.2,  3.2071