BOTTLE,20220930CCHSIOAMB
EXPOCODE,SECT_ID,STNNBR,CASTNO,SAMPNO,BTLNBR,BTLNBR_FLAG_W,DATE,TIME,LATITUDE,LONGITUDE,DEPTH,CTDPRS,CTDTMP,CTDSAL,CTDSAL_FLAG_W,SALNTY,SALNTY_FLAG_W,CTDOXY,OXYGEN,OXYGEN_FLAG_W,CFC-11,CFC-11_FLAG_W,CFC-12,CFC-12_FLAG_W,CTDRAW,THETA
,,,,,,,,,,,,DBAR,DEG C,PSS-78,,PSS-78,,UMOL/KG,UMOL/KG,,PMOL/KG,,PMOL/KG,,,DEG C
      06MT32_1,  ISS2,   182,  1,     20,     20,2,19950411,2141,  7.1430,  54.6752, 5207,     10.8,  28.9606,  35.0850,2,  35.0817,2,    196.8,    197.7,2, -999.000,9,    0.933,2,   10.8, 28.9673
      06MT32_1,  ISS2,   182,  1,     19,     19,2,19950411,2141,  7.1430,  54.6752, 5207,     80.1,  25.4582,  36.0451,2,-999.0000,9,    185.0,   -999.0,9, -999.000,9,    1.034,2,   80.4, 25.4488
      06MT32_1,  ISS2,   182,  1,     18,     18,2,19950411,2141,  7.1430,  54.6752, 5207,    150.8,  18.6161,  35.4561,2,-999.0000,9,     84.4,   -999.0,9, -999.000,9,    0.731,2,  151.3, 18.5877
      06MT32_1,  ISS2,   182,  1,     17,     17,2,19950411,2141,  7.1430,  54.6752, 5207,    298.5,  12.6971,  35.2747,2,-999.0000,9,     76.6,   -999.0,9, -999.000,9,    0.406,2,  299.4, 12.6612
      06MT32_1,  ISS2,   182,  1,     16,     16,2,19950411,2141,  7.1430,  54.6752, 5207,    398.8,  11.8465,  35.3613,2,-999.0000,9,     39.9,   -999.0,9, -999.000,9,    0.218,2,  399.9, 11.7972
      06MT32_1,  ISS2,   182,  1,     15,     15,2,19950411,2141,  7.1430,  54.6752, 5207,    497.2,  10.9454,  35.3148,2,-999.0000,9,     39.0,   -999.0,9, -999.000,9,    0.144,2,  498.4, 10.8833
      06MT32_1,  ISS2,   182,  1,     14,     14,2,19950411,2141,  7.1430,  54.6752, 5207,    593.3,  10.4216,  35.3471,2,-999.0000,9,     31.2,   -999.0,9, -999.000,9,    0.077,2,  594.7, 10.3494
      06MT32_1,  ISS2,   182,  1,     13,     13,2,19950411,2141,  7.1430,  54.6752, 5207,    699.5,   9.8343,  35.3423,2,-999.0000,9,     24.4,   -999.0,9, -999.000,9,    0.035,2,  701.0,  9.7517
      06MT32_1,  ISS2,   182,  1,     12,     12,2,19950411,2141,  7.1430,  54.6752, 5207,    804.2,   9.1622,  35.3089,2,  35.3039,2,     25.1,     26.0,2, -999.000,9,    0.025,2,  805.8,  9.0706
      06MT32_1,  ISS2,   182,  1,     11,     11,2,19950411,2141,  7.1430,  54.6752, 5207,    909.8,   8.2804,  35.2077,2,-999.0000,9,     32.4,   -999.0,9, -999.000,9,    0.029,2,  911.4,  8.1821
      06MT32_1,  ISS2,   182,  1,     10,     10,2,19950411,2141,  7.1430,  54.6752, 5207,   1012.8,   7.4145,  35.1288,2,-999.0000,9,     39.9,   -999.0,9, -999.000,9,    0.022,2, 1014.5,  7.3109
      06MT32_1,  ISS2,   182,  1,      9,      9,2,19950411,2141,  7.1430,  54.6752, 5207,   1097.5,   7.0135,  35.0977,2,-999.0000,9,     43.6,   -999.0,9, -999.000,9,    0.008,2, 1099.2,  6.9039
      06MT32_1,  ISS2,   182,  1,      8,      8,2,19950411,2141,  7.1430,  54.6752, 5207,   1511.8,   4.7834,  34.9279,2,  34.9174,4,     77.9,     77.0,2, -999.000,9,    0.003,2, 1513.2,  4.6534
      06MT32_1,  ISS2,   182,  1,      7,      7,2,19950411,2141,  7.1430,  54.6752, 5207,   1980.7,   2.8451,  34.8076,2,  34.8056,2,    119.2,   -999.0,9, -999.000,9, -999.000,9, 1981.3,  2.6970
      06MT32_1,  ISS2,   182,  1,      6,      6,2,19950411,2141,  7.1430,  54.6752, 5207,   2494.6,   2.1228,  34.7658,2,  34.7655,2,    143.3,    140.9,2, -999.000,9, -999.000,9, 2494.0,  1.9401
      06MT32_1,  ISS2,   182,  1,      5,      5,2,19950411,2141,  7.1430,  54.6752, 5207,   2992.5,   1.8156,  34.7492,2,  34.7484,2,    154.1,    152.6,2, -999.000,9, -999.000,9, 2990.4,  1.5921
      06MT32_1,  ISS2,   182,  1,      4,      4,2,19950411,2141,  7.1430,  54.6752, 5207,   3490.7,   1.5988,  34.7369,2,  34.7341,2,    168.3,    165.0,2, -999.000,9, -999.000,9, 3487.1,  1.3307
      06MT32_1,  ISS2,   182,  1,      3,      3,2,19950411,2141,  7.1430,  54.6752, 5207,   4003.6,   1.4275,  34.7269,2,  34.7258,2,    179.0,    175.8,2, -999.000,9, -999.000,9, 3998.6,  1.1100
      06MT32_1,  ISS2,   182,  1,      2,      2,2,19950411,2141,  7.1430,  54.6752, 5207,   4505.7,   1.3670,  34.7228,2,  34.7209,2,    186.8,    181.3,3, -999.000,9, -999.000,9, 4499.5,  0.9953
      06MT32_1,  ISS2,   182,  1,      1,      1,2,19950411,2141,  7.1430,  54.6752, 5207,   5009.0,   1.3900,  34.7214,2,  34.7182,2,    187.1,    182.7,3, -999.000,9, -999.000,9, 5002.0,  0.9583
      06MT32_1,  ISS2,   183,  1,     17,     18,2,19950412,0748,  6.0053,  55.3683, 4878,      9.0,  29.3287,  35.0056,2,-999.0000,5,    193.7,    195.4,2, -999.000,9,    0.948,2,    9.0, 29.3171
      06MT32_1,  ISS2,   183,  1,     16,     17,2,19950412,0748,  6.0053,  55.3683, 4878,     69.4,  27.0453,  35.5159,2,  35.5543,3,    200.4,   -999.0,9, -999.000,9,    0.995,2,   69.6, 27.0195
      06MT32_1,  ISS2,   183,  1,     15,     16,2,19950412,0748,  6.0053,  55.3683, 4878,    100.4,  24.1950,  35.7329,2,-999.0000,9,    173.1,   -999.0,9, -999.000,9,    1.008,2,  100.7, 24.2100
      06MT32_1,  ISS2,   183,  1,     14,     15,2,19950412,0748,  6.0053,  55.3683, 4878,    200.3,  15.7279,  35.3000,2,  35.2911,2,     84.5,     82.3,2, -999.000,9,    0.709,2,  200.9, 15.7008
      06MT32_1,  ISS2,   183,  1,     13,     14,2,19950412,0748,  6.0053,  55.3683, 4878,    299.0,  13.1612,  35.3188,2,-999.0000,9,     69.2,   -999.0,9, -999.000,9,    0.433,2,  299.9, 13.1166
      06MT32_1,  ISS2,   183,  1,     12,     13,2,19950412,0748,  6.0053,  55.3683, 4878,    398.8,  11.7652,  35.2680,2,-999.0000,9,     47.6,   -999.0,9, -999.000,9,    0.300,2,  399.9, 11.7168
      06MT32_1,  ISS2,   183,  1,     11,     12,2,19950412,0748,  6.0053,  55.3683, 4878,    485.8,  11.0308,  35.2969,2,-999.0000,9,     49.9,   -999.0,9, -999.000,9,    0.164,2,  487.0, 10.9699
      06MT32_1,  ISS2,   183,  1,     10,     11,2,19950412,0748,  6.0053,  55.3683, 4878,    583.9,  10.4466,  35.3377,2,-999.0000,9,     33.0,   -999.0,9, -999.000,9,    0.093,2,  585.3, 10.3754
      06MT32_1,  ISS2,   183,  1,      8,      9,2,19950412,0748,  6.0053,  55.3683, 4878,    681.5,   9.5787,  35.2411,2,-999.0000,9,     36.3,     33.9,2, -999.000,9,    0.076,2,  683.0,  9.4996
      06MT32_1,  ISS2,   183,  1,      9,     10,2,19950412,0748,  6.0053,  55.3683, 4878,    683.4,   9.5692,  35.2406,2,  35.2377,2,     36.4,   -999.0,9, -999.000,9, -999.000,9,  684.9,  9.4899
      06MT32_1,  ISS2,   183,  1,      7,      8,2,19950412,0748,  6.0053,  55.3683, 4878,    787.9,   9.3090,  35.2779,2,-999.0000,9,     30.8,   -999.0,9, -999.000,9,    0.045,2,  789.5,  9.2185
      06MT32_1,  ISS2,   183,  1,      6,      7,2,19950412,0748,  6.0053,  55.3683, 4878,    886.8,   8.7433,  35.2971,2,-999.0000,9,     28.6,   -999.0,9, -999.000,9,    0.035,2,  888.4,  8.6446
      06MT32_1,  ISS2,   183,  1,      5,      6,2,19950412,0748,  6.0053,  55.3683, 4878,    996.3,   7.7631,  35.1629,2,  35.1581,2,     37.7,     35.7,2, -999.000,9,    0.027,2,  998.0,  7.6588
      06MT32_1,  ISS2,   183,  1,      4,      5,2,19950412,0748,  6.0053,  55.3683, 4878,   1098.7,   7.0775,  35.1004,2,-999.0000,9,     44.8,   -999.0,9, -999.000,9,    0.010,2, 1100.4,  6.9673
      06MT32_1,  ISS2,   183,  1,      3,      4,2,19950412,0748,  6.0053,  55.3683, 4878,   1197.6,   6.4138,  35.0410,2,-999.0000,9,     51.6,   -999.0,9, -999.000,9, -999.000,9, 1199.2,  6.2988
      06MT32_1,  ISS2,   183,  1,      2,      3,2,19950412,0748,  6.0053,  55.3683, 4878,   1500.8,   4.8013,  34.9297,2,  34.9284,2,     76.7,     74.2,2, -999.000,9,    0.014,2, 1502.2,  4.6722
      06MT32_1,  ISS2,   183,  1,      1,      1,2,19950412,0748,  6.0053,  55.3683, 4878,   2001.0,   2.8341,  34.8074,2,-999.0000,9,    120.1,   -999.0,9, -999.000,9, -999.000,9, 2001.5,  2.6843
      06MT32_1,  ISS2,   184,  1,     15,     16,2,19950412,1609,  5.0033,  55.9110, 4914,      9.6,  29.5044,  34.9567,2,-999.0000,9,    170.1,   -999.0,9, -999.000,9,    0.934,2,    9.6, 29.5048
      06MT32_1,  ISS2,   184,  1,     14,     15,2,19950412,1609,  5.0033,  55.9110, 4914,     99.4,  26.3657,  35.8159,2,  35.8096,2,    157.8,    151.8,3, -999.000,9,    0.887,2,   99.7, 26.3755
      06MT32_1,  ISS2,   184,  1,     13,     14,2,19950412,1609,  5.0033,  55.9110, 4914,    162.8,  16.3961,  35.3097,2,-999.0000,9,     49.5,   -999.0,9, -999.000,9,    0.579,2,  163.3, 16.3705
      06MT32_1,  ISS2,   184,  1,     12,     13,2,19950412,1609,  5.0033,  55.9110, 4914,    199.9,  14.5153,  35.2318,2,  35.2227,2,     66.9,     65.8,2, -999.000,9,    0.497,2,  200.5, 14.4904
      06MT32_1,  ISS2,   184,  1,     11,     12,2,19950412,1609,  5.0033,  55.9110, 4914,    298.8,  12.2457,  35.2045,2,-999.0000,9,     72.2,   -999.0,9, -999.000,9,    0.390,2,  299.7, 12.2051
      06MT32_1,  ISS2,   184,  1,     10,     11,2,19950412,1609,  5.0033,  55.9110, 4914,    398.8,  10.7497,  35.1246,2,-999.0000,9,     67.9,   -999.0,9, -999.000,9,    0.236,2,  399.9, 10.6987
      06MT32_1,  ISS2,   184,  1,      9,     10,2,19950412,1609,  5.0033,  55.9110, 4914,    492.6,  10.2278,  35.1349,2,-999.0000,9,     59.2,   -999.0,9, -999.000,9,    0.128,2,  493.8, 10.1690
      06MT32_1,  ISS2,   184,  1,      8,      9,2,19950412,1609,  5.0033,  55.9110, 4914,    588.1,   9.9422,  35.2104,2,-999.0000,9,     45.9,   -999.0,9, -999.000,9,    0.084,2,  589.5,  9.8728
      06MT32_1,  ISS2,   184,  1,      7,      8,2,19950412,1609,  5.0033,  55.9110, 4914,    702.4,   9.2931,  35.1657,2,  35.1612,2,     43.7,     42.6,2, -999.000,9,    0.054,2,  703.9,  9.2130
      06MT32_1,  ISS2,   184,  1,      6,      7,2,19950412,1609,  5.0033,  55.9110, 4914,    789.4,   9.3475,  35.2922,2,-999.0000,9,     30.3,   -999.0,9, -999.000,9,    0.036,2,  791.0,  9.2566
      06MT32_1,  ISS2,   184,  1,      5,      6,2,19950412,1609,  5.0033,  55.9110, 4914,    893.4,   8.6104,  35.2294,2,-999.0000,9,     32.1,   -999.0,9, -999.000,9,    0.019,2,  895.0,  8.5118
      06MT32_1,  ISS2,   184,  1,      4,      5,2,19950412,1609,  5.0033,  55.9110, 4914,    996.7,   7.6577,  35.1220,2,  35.1181,2,     37.5,     36.4,2, -999.000,9,    0.009,2,  998.4,  7.5541
      06MT32_1,  ISS2,   184,  1,      3,      4,2,19950412,1609,  5.0033,  55.9110, 4914,   1208.5,   6.4902,  35.0427,2,-999.0000,9,     47.3,   -999.0,9, -999.000,9,    0.005,2, 1210.1,  6.3734
      06MT32_1,  ISS2,   184,  1,      2,      3,2,19950412,1609,  5.0033,  55.9110, 4914,   1497.0,   4.8338,  34.9346,2,  34.9339,2,     75.9,     73.6,2, -999.000,9, -999.000,9, 1498.4,  4.7047
      06MT32_1,  ISS2,   184,  1,      1,      1,2,19950412,1609,  5.0033,  55.9110, 4914,   1999.1,   2.7916,  34.7973,2,-999.0000,9,    122.3,   -999.0,9, -999.000,9, -999.000,9, 1999.7,  2.6426
      06MT32_1,  ISS2,   185,  1,     15,     16,2,19950413,0013,  4.0057,  56.4553, 4830,      9.3,  29.5108,  34.9324,2,  34.9360,2,    185.8,    198.3,4, -999.000,9,    0.925,2,    9.3, 29.5133
      06MT32_1,  ISS2,   185,  1,     14,     15,2,19950413,0013,  4.0057,  56.4553, 4830,     99.3,  25.3102,  35.9205,2,  35.9166,2,    118.2,    109.0,4, -999.000,9,    0.844,2,   99.6, 25.3149
      06MT32_1,  ISS2,   185,  1,     13,     14,2,19950413,0013,  4.0057,  56.4553, 4830,    162.5,  15.6415,  35.3106,2,-999.0000,9,     50.7,   -999.0,9, -999.000,9,    0.531,2,  163.0, 15.6233
      06MT32_1,  ISS2,   185,  1,     12,     13,2,19950413,0013,  4.0057,  56.4553, 4830,    199.4,  13.7623,  35.2124,2,  35.2091,2,     82.1,     84.2,2, -999.000,9,    0.536,2,  200.0, 13.7317
      06MT32_1,  ISS2,   185,  1,     11,     12,2,19950413,0013,  4.0057,  56.4553, 4830,    298.5,  11.3872,  35.1013,2,-999.0000,9,     85.7,   -999.0,9, -999.000,9,    0.350,2,  299.4, 11.3534
      06MT32_1,  ISS2,   185,  1,     10,     11,2,19950413,0013,  4.0057,  56.4553, 4830,    399.4,  10.5246,  35.1040,2,-999.0000,9,     70.4,   -999.0,9, -999.000,9,    0.205,2,  400.5, 10.4787
      06MT32_1,  ISS2,   185,  1,      9,     10,2,19950413,0013,  4.0057,  56.4553, 4830,    497.7,  10.2643,  35.1749,2,-999.0000,9,     54.3,   -999.0,9, -999.000,9,    0.130,2,  499.0, 10.2047
      06MT32_1,  ISS2,   185,  1,      8,      9,2,19950413,0013,  4.0057,  56.4553, 4830,    579.8,   9.7859,  35.1468,2,-999.0000,9,     52.2,   -999.0,9, -999.000,9,    0.094,2,  581.2,  9.7182
      06MT32_1,  ISS2,   185,  1,      7,      8,2,19950413,0013,  4.0057,  56.4553, 4830,    689.4,   9.2726,  35.1942,2,  35.1880,2,     35.5,     33.6,2, -999.000,9,    0.032,2,  690.9,  9.1941
      06MT32_1,  ISS2,   185,  1,      6,      7,2,19950413,0013,  4.0057,  56.4553, 4830,    794.1,   8.6299,  35.1672,2,-999.0000,9,     33.8,   -999.0,9, -999.000,9,    0.042,2,  795.7,  8.5427
      06MT32_1,  ISS2,   185,  1,      5,      6,2,19950413,0013,  4.0057,  56.4553, 4830,    897.3,   8.0317,  35.1398,2,-999.0000,9,     34.9,   -999.0,9, -999.000,9,    0.016,2,  898.9,  7.9366
      06MT32_1,  ISS2,   185,  1,      4,      5,2,19950413,0013,  4.0057,  56.4553, 4830,    994.7,   7.1104,  35.0824,2,  35.0827,2,     42.6,     43.2,2, -999.000,9,    0.010,2,  996.4,  7.0111
      06MT32_1,  ISS2,   185,  1,      3,      4,2,19950413,0013,  4.0057,  56.4553, 4830,   1198.0,   5.9155,  34.9638,2,-999.0000,9,     60.7,   -999.0,9, -999.000,9,    0.006,2, 1199.6,  5.8050
      06MT32_1,  ISS2,   185,  1,      2,      3,2,19950413,0013,  4.0057,  56.4553, 4830,   1510.2,   4.6380,  34.8925,2,  34.8981,2,     81.2,     81.5,2, -999.000,9, -999.000,9, 1511.6,  4.5099
      06MT32_1,  ISS2,   185,  1,      1,      1,2,19950413,0013,  4.0057,  56.4553, 4830,   1998.9,   2.8166,  34.7879,2,-999.0000,9,    125.3,   -999.0,9, -999.000,9, -999.000,9, 1999.5,  2.6673
      06MT32_1,  ISS2,   186,  1,     16,     16,2,19950413,0810,  2.9997,  56.9872, 3212,     10.4,  29.6254,  34.9260,2,  34.9345,2,    183.1,    195.9,4, -999.000,9,    0.949,2,   10.4, 29.6272
      06MT32_1,  ISS2,   186,  1,     15,     15,2,19950413,0810,  2.9997,  56.9872, 3212,     68.9,  28.4794,  35.1283,2,-999.0000,9,    185.2,    182.4,2, -999.000,9,    0.934,2,   69.1, 28.4681
      06MT32_1,  ISS2,   186,  1,     14,     14,2,19950413,0810,  2.9997,  56.9872, 3212,    149.2,  16.5833,  35.2883,2,-999.0000,9,     68.6,     69.2,2, -999.000,9,    0.630,2,  149.7, 16.5747
      06MT32_1,  ISS2,   186,  1,     13,     13,2,19950413,0810,  2.9997,  56.9872, 3212,    199.5,  13.6112,  35.2839,2,-999.0000,9,     99.7,   -999.0,9, -999.000,9,    0.527,2,  200.1, 13.5857
      06MT32_1,  ISS2,   186,  1,     12,     12,2,19950413,0810,  2.9997,  56.9872, 3212,    298.6,  10.9277,  35.0592,2,-999.0000,9,     99.8,   -999.0,9, -999.000,9,    0.419,2,  299.5, 10.8947
      06MT32_1,  ISS2,   186,  1,     11,     11,2,19950413,0810,  2.9997,  56.9872, 3212,    399.2,  10.5847,  35.1240,2,  35.1124,4,     70.8,   -999.0,9, -999.000,9,    0.214,2,  400.3, 10.5339
      06MT32_1,  ISS2,   186,  1,     10,     10,2,19950413,0810,  2.9997,  56.9872, 3212,    499.7,   9.9237,  35.0505,2,-999.0000,9,     72.3,   -999.0,9, -999.000,9,    0.174,2,  501.0,  9.8651
      06MT32_1,  ISS2,   186,  1,      9,      9,2,19950413,0810,  2.9997,  56.9872, 3212,    602.6,   9.7440,  35.1324,2,-999.0000,9,     53.0,   -999.0,9, -999.000,9,    0.107,2,  604.0,  9.6737
      06MT32_1,  ISS2,   186,  1,      8,      8,2,19950413,0810,  2.9997,  56.9872, 3212,    699.4,   9.4049,  35.1294,2,  35.1240,2,     51.8,     50.1,2, -999.000,9,    0.078,2,  700.9,  9.3247
      06MT32_1,  ISS2,   186,  1,      7,      7,2,19950413,0810,  2.9997,  56.9872, 3212,    774.0,   8.9250,  35.1742,2,-999.0000,9,     39.9,   -999.0,9, -999.000,9,    0.039,2,  775.6,  8.8385
      06MT32_1,  ISS2,   186,  1,      6,      6,2,19950413,0810,  2.9997,  56.9872, 3212,    899.8,   7.7081,  35.0982,2,-999.0000,9,     44.4,   -999.0,9, -999.000,9,    0.027,2,  901.4,  7.6149
      06MT32_1,  ISS2,   186,  1,      5,      5,2,19950413,0810,  2.9997,  56.9872, 3212,   1003.0,   6.9901,  35.0447,2,  35.0437,2,     46.9,     48.0,2, -999.000,9,    0.015,2, 1004.7,  6.8909
      06MT32_1,  ISS2,   186,  1,      4,      4,2,19950413,0810,  2.9997,  56.9872, 3212,   1203.4,   5.9274,  34.9587,2,-999.0000,9,     62.0,   -999.0,9, -999.000,9,    0.012,2, 1205.0,  5.8163
      06MT32_1,  ISS2,   186,  1,      3,      3,2,19950413,0810,  2.9997,  56.9872, 3212,   1516.8,   4.6226,  34.8925,2,  34.8912,2,     82.1,     82.6,2, -999.000,9, -999.000,9, 1518.2,  4.4940
      06MT32_1,  ISS2,   186,  1,      2,      2,2,19950413,0810,  2.9997,  56.9872, 3212,   1998.0,   2.9175,  34.7946,2,-999.0000,9,    121.7,    122.4,2, -999.000,9, -999.000,9, 1998.6,  2.7668
      06MT32_1,  ISS2,   186,  1,      1,      1,2,19950413,0810,  2.9997,  56.9872, 3212,   2000.1,   2.9150,  34.7950,2,  34.7937,2,    121.8,   -999.0,9, -999.000,9, -999.000,9, 2000.7,  2.7641