BOTTLE,20220930CCHSIOAMB
EXPOCODE,SECT_ID,STNNBR,CASTNO,SAMPNO,BTLNBR,BTLNBR_FLAG_W,DATE,TIME,LATITUDE,LONGITUDE,DEPTH,CTDPRS,CTDTMP,CTDSAL,CTDSAL_FLAG_W,SALNTY,SALNTY_FLAG_W,CTDOXY,OXYGEN,OXYGEN_FLAG_W,CFC-11,CFC-11_FLAG_W,CFC-12,CFC-12_FLAG_W,CTDRAW,THETA
,,,,,,,,,,,,DBAR,DEG C,PSS-78,,PSS-78,,UMOL/KG,UMOL/KG,,PMOL/KG,,PMOL/KG,,,DEG C
      06MT32_1,  ISS2,   199,  1,     15,     16,2,19950418,1649,  7.9687,  56.6417, 3809,      9.1,  29.5741,  35.1504,2,  35.1490,2,    184.7,    196.3,4, -999.000,9,    0.933,2,    9.1, 29.5668
      06MT32_1,  ISS2,   199,  1,     14,     15,2,19950418,1649,  7.9687,  56.6417, 3809,     79.8,  24.9092,  35.7929,2,-999.0000,9,    184.5,    170.1,4, -999.000,9,    1.016,2,   80.1, 24.8879
      06MT32_1,  ISS2,   199,  1,     13,     14,2,19950418,1649,  7.9687,  56.6417, 3809,    118.8,  21.0879,  35.5739,2,-999.0000,9,    104.1,   -999.0,9, -999.000,9,    0.838,2,  119.2, 21.0683
      06MT32_1,  ISS2,   199,  1,     12,     13,2,19950418,1649,  7.9687,  56.6417, 3809,    198.2,  15.4718,  35.3674,2,-999.0000,9,     64.3,     75.0,4, -999.000,9,    0.583,2,  198.8, 15.4456
      06MT32_1,  ISS2,   199,  1,     11,     12,2,19950418,1649,  7.9687,  56.6417, 3809,    299.0,  12.6043,  35.3010,2,-999.0000,9,     66.3,   -999.0,9, -999.000,9,    0.375,2,  299.9, 12.5685
      06MT32_1,  ISS2,   199,  1,     10,     11,2,19950418,1649,  7.9687,  56.6417, 3809,    399.2,  11.4244,  35.2104,2,  35.2028,2,     60.8,     59.8,2, -999.000,9,    0.256,2,  400.3, 11.3777
      06MT32_1,  ISS2,   199,  1,      9,     10,2,19950418,1649,  7.9687,  56.6417, 3809,    503.0,  10.9404,  35.2652,2,-999.0000,9,     42.8,   -999.0,9, -999.000,9,    0.133,2,  504.3, 10.8776
      06MT32_1,  ISS2,   199,  1,      8,      9,2,19950418,1649,  7.9687,  56.6417, 3809,    600.1,  10.5634,  35.3486,2,-999.0000,9,     29.4,   -999.0,9, -999.000,9,    0.070,2,  601.5, 10.4897
      06MT32_1,  ISS2,   199,  1,      7,      8,2,19950418,1649,  7.9687,  56.6417, 3809,    706.1,   9.8583,  35.3249,2,-999.0000,9,     24.4,     24.6,2, -999.000,9,    0.043,2,  707.6,  9.7748
      06MT32_1,  ISS2,   199,  1,      6,      7,2,19950418,1649,  7.9687,  56.6417, 3809,    795.6,   9.3715,  35.2846,2,-999.0000,9,     24.9,   -999.0,9, -999.000,9,    0.027,2,  797.2,  9.2798
      06MT32_1,  ISS2,   199,  1,      5,      6,2,19950418,1649,  7.9687,  56.6417, 3809,    895.6,   8.8526,  35.2652,2,  35.2617,2,     28.0,   -999.0,9, -999.000,9,    0.024,2,  897.2,  8.7522
      06MT32_1,  ISS2,   199,  1,      4,      5,2,19950418,1649,  7.9687,  56.6417, 3809,    972.9,   8.3348,  35.2377,2,-999.0000,9,     30.3,     29.9,2, -999.000,9,    0.024,2,  974.6,  8.2289
      06MT32_1,  ISS2,   199,  1,      3,      4,2,19950418,1649,  7.9687,  56.6417, 3809,   1207.3,   6.7639,  35.0788,2,-999.0000,9,     46.3,   -999.0,9, -999.000,9,    0.013,2, 1208.9,  6.6448
      06MT32_1,  ISS2,   199,  1,      2,      3,2,19950418,1649,  7.9687,  56.6417, 3809,   1486.1,   5.0231,  34.9545,2,  34.9547,2,     67.9,     68.3,2, -999.000,9,    0.007,2, 1487.5,  4.8929
      06MT32_1,  ISS2,   199,  1,      1,      1,2,19950418,1649,  7.9687,  56.6417, 3809,   2000.4,   2.9705,  34.8169,2,-999.0000,9,    113.9,   -999.0,9, -999.000,9, -999.000,9, 2001.0,  2.8187
      06MT32_1,  ISS2,   200,  1,     15,     16,2,19950419,0001,  8.9375,  57.1155, 2839,      9.4,  29.2692,  35.6415,2,  35.6625,4,    187.9,    199.3,4, -999.000,9,    0.952,2,    9.4, 29.1420
      06MT32_1,  ISS2,   200,  1,     14,     15,2,19950419,0001,  8.9375,  57.1155, 2839,     80.0,  24.2783,  35.9306,2,-999.0000,9,    154.9,    154.2,2, -999.000,9,    0.991,2,   80.3, 24.2423
      06MT32_1,  ISS2,   200,  1,     13,     14,2,19950419,0001,  8.9375,  57.1155, 2839,    120.4,  19.9306,  35.5617,2,-999.0000,9,     84.6,   -999.0,9, -999.000,9,    0.779,2,  120.8, 19.9027
      06MT32_1,  ISS2,   200,  1,     12,     13,2,19950419,0001,  8.9375,  57.1155, 2839,    199.9,  15.3007,  35.3734,2,-999.0000,9,     55.7,     54.0,2, -999.000,9,    0.537,2,  200.5, 15.2746
      06MT32_1,  ISS2,   200,  1,     11,     12,2,19950419,0001,  8.9375,  57.1155, 2839,    300.5,  12.5352,  35.3536,2,-999.0000,9,     45.8,   -999.0,9, -999.000,9,    0.302,2,  301.4, 12.4958
      06MT32_1,  ISS2,   200,  1,     10,     11,2,19950419,0001,  8.9375,  57.1155, 2839,    417.0,  11.5037,  35.2710,2,  35.2787,2,     47.4,     50.0,2, -999.000,9,    0.203,2,  418.1, 11.4502
      06MT32_1,  ISS2,   200,  1,      9,     10,2,19950419,0001,  8.9375,  57.1155, 2839,    499.7,  10.8755,  35.2754,2,-999.0000,9,     42.5,   -999.0,9, -999.000,9,    0.128,2,  501.0, 10.8134
      06MT32_1,  ISS2,   200,  1,      8,      9,2,19950419,0001,  8.9375,  57.1155, 2839,    602.6,  10.2208,  35.2772,2,-999.0000,9,     30.2,   -999.0,9, -999.000,9,    0.060,2,  604.0, 10.1483
      06MT32_1,  ISS2,   200,  1,      7,      8,2,19950419,0001,  8.9375,  57.1155, 2839,    693.5,   9.8074,  35.2938,2,-999.0000,9,     24.3,     24.1,2, -999.000,9,    0.034,2,  695.0,  9.7257
      06MT32_1,  ISS2,   200,  1,      6,      7,2,19950419,0001,  8.9375,  57.1155, 2839,    788.1,   9.1153,  35.2656,2,-999.0000,9,     25.6,   -999.0,9, -999.000,9,    0.025,2,  789.7,  9.0259
      06MT32_1,  ISS2,   200,  1,      5,      6,2,19950419,0001,  8.9375,  57.1155, 2839,    897.9,   8.7907,  35.2843,2,  35.2820,2,     26.1,   -999.0,9, -999.000,9,    0.018,2,  899.5,  8.6904
      06MT32_1,  ISS2,   200,  1,      4,      5,2,19950419,0001,  8.9375,  57.1155, 2839,   1015.8,   8.1885,  35.2301,2,-999.0000,9,     28.8,     29.6,2, -999.000,9,    0.019,2, 1017.5,  8.0787
      06MT32_1,  ISS2,   200,  1,      3,      4,2,19950419,0001,  8.9375,  57.1155, 2839,   1202.0,   6.5941,  35.0777,2,-999.0000,9,     45.3,   -999.0,9, -999.000,9,    0.014,2, 1203.6,  6.4770
      06MT32_1,  ISS2,   200,  1,      2,      3,2,19950419,0001,  8.9375,  57.1155, 2839,   1486.1,   5.0880,  34.9639,2,  34.9642,2,     64.6,     64.1,2, -999.000,9, -999.000,9, 1487.5,  4.9571
      06MT32_1,  ISS2,   200,  1,      1,      1,2,19950419,0001,  8.9375,  57.1155, 2839,   2002.0,   3.0644,  34.8221,2,-999.0000,9,    110.6,   -999.0,9, -999.000,9, -999.000,9, 2002.5,  2.9110
      06MT32_1,  ISS2,   201,  1,     20,     20,2,19950419,0811,  9.9213,  57.6088, 4215,     14.3,  28.8372,  35.9966,2,  35.9971,2,    188.1,    197.9,4, -999.000,9,    0.961,2,   14.3, 28.8412
      06MT32_1,  ISS2,   201,  1,     19,     19,2,19950419,0811,  9.9213,  57.6088, 4215,     59.5,  26.1300,  36.4736,2,-999.0000,9,    182.2,    186.1,2, -999.000,9,    1.004,2,   59.7, 26.1212
      06MT32_1,  ISS2,   201,  1,     18,     18,2,19950419,0811,  9.9213,  57.6088, 4215,    119.4,  20.0554,  35.6413,2,-999.0000,9,     52.4,   -999.0,9, -999.000,9,    0.729,2,  119.8, 20.0378
      06MT32_1,  ISS2,   201,  1,     17,     17,2,19950419,0811,  9.9213,  57.6088, 4215,    199.0,  14.9171,  35.4048,2,-999.0000,9,     20.3,   -999.0,9, -999.000,9,    0.344,2,  199.6, 14.8909
      06MT32_1,  ISS2,   201,  1,     16,     16,2,19950419,0811,  9.9213,  57.6088, 4215,    299.1,  13.2422,  35.4858,2,  35.4805,2,     27.6,     30.0,2, -999.000,9,    0.295,2,  300.0, 13.2015
      06MT32_1,  ISS2,   201,  1,     15,     15,2,19950419,0811,  9.9213,  57.6088, 4215,    398.6,  11.8944,  35.3496,2,-999.0000,9,     34.4,   -999.0,9, -999.000,9,    0.195,2,  399.7, 11.8425
      06MT32_1,  ISS2,   201,  1,     14,     14,2,19950419,0811,  9.9213,  57.6088, 4215,    488.3,  11.2845,  35.3662,2,  35.3626,2,     27.4,   -999.0,9, -999.000,9,    0.106,2,  489.5, 11.2223
      06MT32_1,  ISS2,   201,  1,     13,     13,2,19950419,0811,  9.9213,  57.6088, 4215,    604.0,  10.4850,  35.3160,2,-999.0000,9,     28.0,     26.8,2, -999.000,9,    0.076,2,  605.4, 10.4112
      06MT32_1,  ISS2,   201,  1,     12,     12,2,19950419,0811,  9.9213,  57.6088, 4215,    694.0,  10.3267,  35.3708,2,  35.3717,2,     23.0,   -999.0,9, -999.000,9,    0.052,2,  695.5, 10.2423
      06MT32_1,  ISS2,   201,  1,     11,     11,2,19950419,0811,  9.9213,  57.6088, 4215,    774.1,   9.8718,  35.3674,2,-999.0000,9,     20.0,   -999.0,9, -999.000,9,    0.038,2,  775.7,  9.7798
      06MT32_1,  ISS2,   201,  1,     10,     10,2,19950419,0811,  9.9213,  57.6088, 4215,    883.1,   8.8931,  35.2970,2,-999.0000,9,     22.6,     22.6,2, -999.000,9,    0.024,2,  884.7,  8.7938
      06MT32_1,  ISS2,   201,  1,      9,      9,2,19950419,0811,  9.9213,  57.6088, 4215,   1015.0,   8.2969,  35.2630,2,  35.2593,2,     25.2,   -999.0,9, -999.000,9,    0.024,2, 1016.7,  8.1864
      06MT32_1,  ISS2,   201,  1,      8,      8,2,19950419,0811,  9.9213,  57.6088, 4215,   1220.2,   6.8972,  35.1234,2,  35.1221,2,     36.5,   -999.0,9, -999.000,9,    0.026,2, 1221.8,  6.7754
      06MT32_1,  ISS2,   201,  1,      7,      7,2,19950419,0811,  9.9213,  57.6088, 4215,   1502.7,   4.9487,  34.9546,2,  34.9557,2,     65.5,   -999.0,9, -999.000,9,    0.011,2, 1504.1,  4.8177
      06MT32_1,  ISS2,   201,  1,      6,      6,2,19950419,0811,  9.9213,  57.6088, 4215,   2008.5,   2.9295,  34.8200,2,  34.8188,2,    107.7,    109.4,2, -999.000,9, -999.000,9, 2009.0,  2.7776
      06MT32_1,  ISS2,   201,  1,      5,      5,2,19950419,0811,  9.9213,  57.6088, 4215,   2529.7,   2.2092,  34.7708,2,  34.7693,2,    132.6,   -999.0,9, -999.000,9, -999.000,9, 2529.0,  2.0217
      06MT32_1,  ISS2,   201,  1,      4,      4,2,19950419,0811,  9.9213,  57.6088, 4215,   2965.8,   1.8176,  34.7488,2,  34.7476,2,    149.8,    151.5,2, -999.000,9, -999.000,9, 2963.8,  1.5967
      06MT32_1,  ISS2,   201,  1,      3,      3,2,19950419,0811,  9.9213,  57.6088, 4215,   3489.9,   1.6783,  34.7402,2,  34.7378,2,    159.3,    160.4,2, -999.000,9, -999.000,9, 3486.3,  1.4083
      06MT32_1,  ISS2,   201,  1,      2,      2,2,19950419,0811,  9.9213,  57.6088, 4215,   4004.7,   1.6028,  34.7345,2,  34.7321,2,    165.3,    164.7,2, -999.000,9, -999.000,9, 3999.7,  1.2802
      06MT32_1,  ISS2,   201,  1,      1,      1,2,19950419,0811,  9.9213,  57.6088, 4215,   4174.5,   1.6038,  34.7327,2,  34.7305,2,    166.4,    167.9,2, -999.000,9, -999.000,9, 4169.0,  1.2624
      06MT32_1,  ISS2,   202,  1,     19,     19,2,19950419,2030, 10.5532,  58.9778, 4067,     10.9,  28.8647,  35.9707,2,  35.9700,2,    191.7,    197.9,3, -999.000,9,    0.926,2,   10.9, 28.7702
      06MT32_1,  ISS2,   202,  1,     18,     18,2,19950419,2030, 10.5532,  58.9778, 4067,     50.3,  26.6058,  36.4343,2,-999.0000,9,    209.6,   -999.0,9, -999.000,9,    0.988,2,   50.5, 26.6014
      06MT32_1,  ISS2,   202,  1,     17,     17,2,19950419,2030, 10.5532,  58.9778, 4067,    150.1,  18.0023,  35.5773,2,-999.0000,9,     16.8,     13.2,2, -999.000,9,    0.506,2,  150.6, 17.9716
      06MT32_1,  ISS2,   202,  1,     16,     16,2,19950419,2030, 10.5532,  58.9778, 4067,    199.3,  14.7876,  35.4794,2,  35.4756,2,     30.5,   -999.0,9, -999.000,9,    0.404,2,  199.9, 14.7620
      06MT32_1,  ISS2,   202,  1,     15,     15,2,19950419,2030, 10.5532,  58.9778, 4067,    299.4,  12.8445,  35.3920,2,-999.0000,9,     29.2,     32.5,2, -999.000,9,    0.255,2,  300.3, 12.8095
      06MT32_1,  ISS2,   202,  1,     14,     14,2,19950419,2030, 10.5532,  58.9778, 4067,    398.8,  11.6517,  35.3348,2,-999.0000,9,     34.6,   -999.0,9, -999.000,9, -999.000,9,  399.9, 11.6028
      06MT32_1,  ISS2,   202,  1,     13,     13,2,19950419,2030, 10.5532,  58.9778, 4067,    500.5,  11.1866,  35.3530,2,-999.0000,9,     25.7,   -999.0,9, -999.000,9,    0.108,2,  501.8, 11.1232
      06MT32_1,  ISS2,   202,  1,     12,     12,2,19950419,2030, 10.5532,  58.9778, 4067,    599.8,  10.6453,  35.3710,2,  35.3668,2,     21.3,   -999.0,9, -999.000,9,    0.050,2,  601.2, 10.5713
      06MT32_1,  ISS2,   202,  1,     11,     11,2,19950419,2030, 10.5532,  58.9778, 4067,    718.0,  10.0930,  35.3358,2,-999.0000,9,     19.2,     19.4,2, -999.000,9,    0.046,2,  719.5, 10.0068
      06MT32_1,  ISS2,   202,  1,     10,     10,2,19950419,2030, 10.5532,  58.9778, 4067,    828.8,   9.6021,  35.3363,2,-999.0000,9,     20.1,   -999.0,9, -999.000,9,    0.027,2,  830.4,  9.5049
      06MT32_1,  ISS2,   202,  1,      9,      9,2,19950419,2030, 10.5532,  58.9778, 4067,    925.6,   8.9160,  35.2908,2,-999.0000,9,     21.1,   -999.0,9, -999.000,9,    0.016,2,  927.2,  8.8116
      06MT32_1,  ISS2,   202,  1,      8,      8,2,19950419,2030, 10.5532,  58.9778, 4067,   1005.9,   8.1790,  35.2312,2,-999.0000,9,     26.0,     26.1,2, -999.000,9,    0.014,2, 1007.6,  8.0704
      06MT32_1,  ISS2,   202,  1,      7,      7,2,19950419,2030, 10.5532,  58.9778, 4067,   1188.0,   6.9976,  35.1233,2,  35.1193,2,     37.0,   -999.0,9, -999.000,9, -999.000,9, 1189.6,  6.8784
      06MT32_1,  ISS2,   202,  1,      6,      6,2,19950419,2030, 10.5532,  58.9778, 4067,   1509.6,   5.2446,  34.9998,2,-999.0000,9,     56.8,   -999.0,9, -999.000,9, -999.000,9, 1511.0,  5.1095
      06MT32_1,  ISS2,   202,  1,      5,      5,2,19950419,2030, 10.5532,  58.9778, 4067,   1978.5,   3.0798,  34.8256,2,  34.8226,2,    108.6,    107.9,2, -999.000,9, -999.000,9, 1979.1,  2.9283
      06MT32_1,  ISS2,   202,  1,      4,      4,2,19950419,2030, 10.5532,  58.9778, 4067,   2480.9,   2.1853,  34.7739,2,-999.0000,9,    128.7,   -999.0,9, -999.000,9, -999.000,9, 2480.3,  2.0027
      06MT32_1,  ISS2,   202,  1,      3,      3,2,19950419,2030, 10.5532,  58.9778, 4067,   3003.3,   1.8186,  34.7512,2,  34.7484,2,    142.1,    141.6,2, -999.000,9, -999.000,9, 3001.2,  1.5940
      06MT32_1,  ISS2,   202,  1,      2,      2,2,19950419,2030, 10.5532,  58.9778, 4067,   3502.9,   1.6897,  34.7418,2,  34.7392,2,    154.4,    153.4,2, -999.000,9, -999.000,9, 3499.3,  1.4181
      06MT32_1,  ISS2,   202,  1,      1,      1,2,19950419,2030, 10.5532,  58.9778, 4067,   4040.9,   1.6153,  34.7353,2,  34.7333,2,    163.1,    163.7,2, -999.000,9, -999.000,9, 4035.8,  1.2883
      06MT32_1,  ISS2,   203,  1,     19,     19,2,19950420,0201, 10.8770,  59.1553, 4534,      9.6,  28.7441,  36.0394,2,-999.0000,9,    183.5,   -999.0,9, -999.000,9,    0.981,2,    9.6, 28.7831
      06MT32_1,  ISS2,   203,  1,     18,     18,2,19950420,0201, 10.8770,  59.1553, 4534,     49.6,  25.9892,  36.1336,2,-999.0000,9,    205.2,    210.0,3, -999.000,9,    0.994,2,   49.8, 25.9599
      06MT32_1,  ISS2,   203,  1,     17,     17,2,19950420,0201, 10.8770,  59.1553, 4534,    149.6,  17.5004,  35.5471,2,-999.0000,9,     13.9,      0.0,4, -999.000,9,    0.519,2,  150.1, 17.4895
      06MT32_1,  ISS2,   203,  1,     16,     16,2,19950420,0201, 10.8770,  59.1553, 4534,    199.3,  15.0138,  35.4641,2,  35.4547,2,     34.2,     35.5,2, -999.000,9,    0.457,2,  199.9, 14.9885
      06MT32_1,  ISS2,   203,  1,     15,     15,2,19950420,0201, 10.8770,  59.1553, 4534,    299.3,  13.1262,  35.4353,2,-999.0000,9,     37.9,   -999.0,9, -999.000,9,    0.322,2,  300.2, 13.0879
      06MT32_1,  ISS2,   203,  1,     14,     14,2,19950420,0201, 10.8770,  59.1553, 4534,    399.2,  12.3432,  35.4941,2,-999.0000,9,     23.9,     23.0,2, -999.000,9,    0.199,2,  400.3, 12.2868
      06MT32_1,  ISS2,   203,  1,     13,     13,2,19950420,0201, 10.8770,  59.1553, 4534,    477.8,  11.7065,  35.4500,2,-999.0000,9,     28.3,   -999.0,9, -999.000,9,    0.132,2,  479.0, 11.6442
      06MT32_1,  ISS2,   203,  1,     12,     12,2,19950420,0201, 10.8770,  59.1553, 4534,    602.1,  10.7407,  35.3730,2,  35.3681,2,     21.5,   -999.0,9, -999.000,9,    0.070,2,  603.5, 10.6660
      06MT32_1,  ISS2,   203,  1,     11,     11,2,19950420,0201, 10.8770,  59.1553, 4534,    724.1,  10.2473,  35.4025,2,-999.0000,9,     18.9,     19.1,2, -999.000,9,    0.046,2,  725.6, 10.1595
      06MT32_1,  ISS2,   203,  1,     10,     10,2,19950420,0201, 10.8770,  59.1553, 4534,    828.9,   9.6151,  35.3550,2,-999.0000,9,     20.5,   -999.0,9, -999.000,9,    0.044,2,  830.5,  9.5178
      06MT32_1,  ISS2,   203,  1,      9,      9,2,19950420,0201, 10.8770,  59.1553, 4534,    928.3,   8.9360,  35.3148,2,-999.0000,9,     21.6,   -999.0,9, -999.000,9,    0.023,2,  929.9,  8.8311
      06MT32_1,  ISS2,   203,  1,      8,      8,2,19950420,0201, 10.8770,  59.1553, 4534,   1027.0,   8.5985,  35.2998,2,-999.0000,9,     22.5,     23.9,2, -999.000,9,    0.020,2, 1028.7,  8.4843
      06MT32_1,  ISS2,   203,  1,      7,      7,2,19950420,0201, 10.8770,  59.1553, 4534,   1227.7,   7.2133,  35.1740,2,  35.1622,4,     31.8,   -999.0,9, -999.000,9, -999.000,9, 1229.3,  7.0878
      06MT32_1,  ISS2,   203,  1,      6,      6,2,19950420,0201, 10.8770,  59.1553, 4534,   1526.9,   4.9052,  34.9527,2,-999.0000,9,     65.1,   -999.0,9, -999.000,9, -999.000,9, 1528.2,  4.7723
      06MT32_1,  ISS2,   203,  1,      5,      5,2,19950420,0201, 10.8770,  59.1553, 4534,   1997.3,   3.0783,  34.8292,2,  34.8277,2,    102.9,    105.1,2, -999.000,9, -999.000,9, 1997.9,  2.9251
      06MT32_1,  ISS2,   203,  1,      4,      4,2,19950420,0201, 10.8770,  59.1553, 4534,   2506.4,   2.1683,  34.7746,2,  34.7722,2,    121.2,    119.6,2, -999.000,9, -999.000,9, 2505.7,  1.9837
      06MT32_1,  ISS2,   203,  1,      3,      3,2,19950420,0201, 10.8770,  59.1553, 4534,   3000.9,   1.8156,  34.7496,2,  34.7471,2,    142.1,    142.0,2, -999.000,9, -999.000,9, 2998.8,  1.5913
      06MT32_1,  ISS2,   203,  1,      2,      2,2,19950420,0201, 10.8770,  59.1553, 4534,   3909.3,   1.6508,  34.7366,2,  34.7374,2,    158.3,    159.4,2, -999.000,9, -999.000,9, 3904.5,  1.3372
      06MT32_1,  ISS2,   203,  1,      1,      1,2,19950420,0201, 10.8770,  59.1553, 4534,   4511.7,   1.6098,  34.7317,2,  34.7294,2,    168.5,    168.6,2, -999.000,9, -999.000,9, 4505.5,  1.2298