BOTTLE,20220930CCHSIOAMB
EXPOCODE,SECT_ID,STNNBR,CASTNO,SAMPNO,BTLNBR,BTLNBR_FLAG_W,DATE,TIME,LATITUDE,LONGITUDE,DEPTH,CTDPRS,CTDTMP,CTDSAL,CTDSAL_FLAG_W,SALNTY,SALNTY_FLAG_W,CTDOXY,OXYGEN,OXYGEN_FLAG_W,CFC-11,CFC-11_FLAG_W,CFC-12,CFC-12_FLAG_W,CTDRAW,THETA
,,,,,,,,,,,,DBAR,DEG C,PSS-78,,PSS-78,,UMOL/KG,UMOL/KG,,PMOL/KG,,PMOL/KG,,,DEG C
      06MT32_1,  ISS2,   156,  1,     18,     21,2,19950402,2308,  9.9085,  53.7917, 4530,      9.9,  28.3221,  35.7744,2,  35.7730,2,    197.0,    203.3,3, -999.000,9,    0.974,2,    9.9, 28.3193
      06MT32_1,  ISS2,   156,  1,     17,     20,2,19950402,2308,  9.9085,  53.7917, 4530,     69.3,  24.8706,  36.0146,2,  36.0182,2,    180.7,    175.3,3, -999.000,9,    0.981,2,   69.5, 24.8673
      06MT32_1,  ISS2,   156,  1,     16,     19,2,19950402,2308,  9.9085,  53.7917, 4530,    199.1,  15.1795,  35.4241,2,-999.0000,9,     48.1,   -999.0,9, -999.000,9,    0.539,2,  199.7, 15.1232
      06MT32_1,  ISS2,   156,  1,     15,     18,2,19950402,2308,  9.9085,  53.7917, 4530,    299.3,  12.8239,  35.2867,2,-999.0000,9,     76.9,   -999.0,9, -999.000,9, -999.000,9,  300.2, 12.7794
      06MT32_1,  ISS2,   156,  1,     14,     16,2,19950402,2308,  9.9085,  53.7917, 4530,    398.8,  11.8281,  35.3360,2,-999.0000,9,     56.4,   -999.0,9, -999.000,9,    0.231,2,  399.9, 11.7758
      06MT32_1,  ISS2,   156,  1,     13,     15,2,19950402,2308,  9.9085,  53.7917, 4530,    481.9,  11.2390,  35.3558,2,-999.0000,9,     36.5,   -999.0,9, -999.000,9,    0.149,2,  483.1, 11.1778
      06MT32_1,  ISS2,   156,  1,     12,     14,2,19950402,2308,  9.9085,  53.7917, 4530,    603.0,  10.9040,  35.4111,2,-999.0000,9,     30.0,   -999.0,9, -999.000,9, -999.000,9,  604.4, 10.8284
      06MT32_1,  ISS2,   156,  1,     11,     13,2,19950402,2308,  9.9085,  53.7917, 4530,    727.2,  10.0306,  35.3446,2,  35.3372,2,     24.2,   -999.0,9, -999.000,9,    0.053,2,  728.7,  9.9435
      06MT32_1,  ISS2,   156,  1,     10,     12,2,19950402,2308,  9.9085,  53.7917, 4530,    818.3,   9.4149,  35.3238,2,-999.0000,9,     24.9,     23.7,2, -999.000,9,    0.062,2,  819.9,  9.3201
      06MT32_1,  ISS2,   156,  1,      9,      9,2,19950402,2308,  9.9085,  53.7917, 4530,    879.0,   8.8861,  35.2775,2,-999.0000,9,     25.7,   -999.0,9, -999.000,9,    0.029,2,  880.6,  8.7874
      06MT32_1,  ISS2,   156,  1,      8,      8,2,19950402,2308,  9.9085,  53.7917, 4530,   1176.4,   7.0220,  35.1335,2,-999.0000,9,     42.7,     38.6,2, -999.000,9, -999.000,9, 1178.0,  6.9038
      06MT32_1,  ISS2,   156,  1,      7,      7,2,19950402,2308,  9.9085,  53.7917, 4530,   1475.9,   5.1949,  34.9573,2,-999.0000,9,     67.9,   -999.0,9, -999.000,9,    0.000,2, 1477.3,  5.0638
      06MT32_1,  ISS2,   156,  1,      6,      6,2,19950402,2308,  9.9085,  53.7917, 4530,   2005.9,   3.1533,  34.8220,2,  34.8151,2,    114.0,    112.5,2, -999.000,9,    0.017,2, 2006.4,  2.9983
      06MT32_1,  ISS2,   156,  1,      5,      5,2,19950402,2308,  9.9085,  53.7917, 4530,   2514.3,   2.2567,  34.7775,2,  34.7724,2,    133.2,   -999.0,9, -999.000,9,   -0.001,2, 2513.6,  2.0697
      06MT32_1,  ISS2,   156,  1,      4,      4,2,19950402,2308,  9.9085,  53.7917, 4530,   3012.7,   1.9280,  34.7568,2,  34.7516,2,    145.2,    142.8,2, -999.000,9,    0.008,2, 3010.6,  1.7001
      06MT32_1,  ISS2,   156,  1,      3,      3,2,19950402,2308,  9.9085,  53.7917, 4530,   3503.9,   1.7307,  34.7431,2,  34.7408,2,    159.3,    156.7,2, -999.000,9, -999.000,9, 3500.3,  1.4579
      06MT32_1,  ISS2,   156,  1,      2,      2,2,19950402,2308,  9.9085,  53.7917, 4530,   4008.9,   1.5374,  34.7317,2,-999.0000,9,    174.7,   -999.0,9, -999.000,9, -999.000,9, 4003.9,  1.2162
      06MT32_1,  ISS2,   156,  1,      1,      1,2,19950402,2308,  9.9085,  53.7917, 4530,   4515.8,   1.3556,  34.7227,2,-999.0000,9,    183.9,    171.1,4, -999.000,9, -999.000,9, 4509.6,  0.9831
      06MT32_1,  ISS2,   158,  1,     19,     21,2,19950403,0916,  9.6487,  53.9507, 4651,     11.1,  28.2854,  35.8712,2,-999.0000,5,    244.3,   -999.0,9, -999.000,9,    1.006,2,   11.1, 28.2864
      06MT32_1,  ISS2,   158,  1,     18,     20,2,19950403,0916,  9.6487,  53.9507, 4651,     79.5,  24.8159,  36.0505,2,-999.0000,9,    189.4,   -999.0,9, -999.000,9,    1.138,2,   79.8, 24.8066
      06MT32_1,  ISS2,   158,  1,     17,     19,2,19950403,0916,  9.6487,  53.9507, 4651,    145.3,  18.6298,  35.5447,2,-999.0000,9,     61.0,   -999.0,9, -999.000,9, -999.000,9,  145.8, 18.6089
      06MT32_1,  ISS2,   158,  1,     15,     16,2,19950403,0916,  9.6487,  53.9507, 4651,    398.6,  11.8713,  35.3970,2,-999.0000,9,     37.7,   -999.0,9, -999.000,9,    0.280,2,  399.7, 11.8215
      06MT32_1,  ISS2,   158,  1,     14,     15,2,19950403,0916,  9.6487,  53.9507, 4651,    508.2,  11.1172,  35.4034,2,-999.0000,9,     28.4,   -999.0,9, -999.000,9,    0.105,2,  509.5, 11.0530
      06MT32_1,  ISS2,   158,  1,     13,     14,2,19950403,0916,  9.6487,  53.9507, 4651,    597.5,  10.5085,  35.3662,2,-999.0000,9,     25.3,   -999.0,9, -999.000,9,    0.050,2,  598.9, 10.4354
      06MT32_1,  ISS2,   158,  1,     12,     13,2,19950403,0916,  9.6487,  53.9507, 4651,    705.1,  10.1424,  35.4043,2,  35.3904,4,     22.3,   -999.0,9, -999.000,9,    0.060,2,  706.6, 10.0575
      06MT32_1,  ISS2,   158,  1,     11,     12,2,19950403,0916,  9.6487,  53.9507, 4651,    770.6,   9.4948,  35.3609,2,-999.0000,9,     25.0,     26.7,2, -999.000,9,    0.034,2,  772.2,  9.4053
      06MT32_1,  ISS2,   158,  1,     10,     11,2,19950403,0916,  9.6487,  53.9507, 4651,    882.5,   8.5420,  35.2445,2,-999.0000,9,     32.9,   -999.0,9, -999.000,9, -999.000,9,  884.1,  8.4451
      06MT32_1,  ISS2,   158,  1,      9,      9,2,19950403,0916,  9.6487,  53.9507, 4651,    995.9,   7.4460,  35.1061,2,-999.0000,9,     43.6,   -999.0,9, -999.000,9,    0.024,2,  997.6,  7.3441
      06MT32_1,  ISS2,   158,  1,      8,      8,2,19950403,0916,  9.6487,  53.9507, 4651,   1190.8,   6.4373,  35.0373,2,-999.0000,9,     50.7,     50.8,2, -999.000,9,    0.019,2, 1192.4,  6.3228
      06MT32_1,  ISS2,   158,  1,      7,      7,2,19950403,0916,  9.6487,  53.9507, 4651,   1494.6,   5.1574,  34.9348,2,-999.0000,9,     71.2,   -999.0,9, -999.000,9,    0.016,2, 1496.0,  5.0249
      06MT32_1,  ISS2,   158,  1,      6,      6,2,19950403,0916,  9.6487,  53.9507, 4651,   1985.6,   3.3415,  34.8445,2,  34.8393,2,    102.3,    101.4,2, -999.000,9, -999.000,9, 1986.2,  3.1855
      06MT32_1,  ISS2,   158,  1,      5,      5,2,19950403,0916,  9.6487,  53.9507, 4651,   2516.7,   2.2867,  34.7762,2,  34.7720,2,    134.0,   -999.0,9, -999.000,9,    0.030,2, 2516.0,  2.0989
      06MT32_1,  ISS2,   158,  1,      4,      4,2,19950403,0916,  9.6487,  53.9507, 4651,   3005.3,   1.9425,  34.7567,2,  34.7524,2,    144.9,    143.5,2, -999.000,9,    0.010,2, 3003.2,  1.7150
      06MT32_1,  ISS2,   158,  1,      3,      3,2,19950403,0916,  9.6487,  53.9507, 4651,   3501.3,   1.7437,  34.7440,2,  34.7388,2,    158.8,    155.7,2, -999.000,9, -999.000,9, 3497.7,  1.4709
      06MT32_1,  ISS2,   158,  1,      2,      2,2,19950403,0916,  9.6487,  53.9507, 4651,   3965.9,   1.5334,  34.7316,2,-999.0000,9,    175.1,   -999.0,9, -999.000,9,    0.008,2, 3961.0,  1.2169
      06MT32_1,  ISS2,   158,  1,      1,      1,2,19950403,0916,  9.6487,  53.9507, 4651,   4611.9,   1.3551,  34.7222,2,  34.7319,2,    184.9,    170.2,4, -999.000,9, -999.000,9, 4605.5,  0.9715
      06MT32_1,  ISS2,   159,  1,     18,     20,2,19950404,0858, 10.4587,  57.0908, 4840,     11.2,  27.9922,  36.1924,2,  36.1897,2,    205.1,    204.4,2, -999.000,9,    1.028,2,   11.2, 27.9939
      06MT32_1,  ISS2,   159,  1,     17,     19,2,19950404,0858, 10.4587,  57.0908, 4840,     79.5,  25.2119,  36.2064,2,-999.0000,9,    183.6,   -999.0,9, -999.000,9,    0.999,2,   79.8, 25.1980
      06MT32_1,  ISS2,   159,  1,     16,     18,2,19950404,0858, 10.4587,  57.0908, 4840,    150.2,  19.2191,  35.5392,2,-999.0000,9,     78.7,   -999.0,9, -999.000,9,    0.717,2,  150.7, 19.1992
      06MT32_1,  ISS2,   159,  1,     15,     17,2,19950404,0858, 10.4587,  57.0908, 4840,    299.5,  13.2222,  35.4153,2,-999.0000,9,     44.4,   -999.0,9, -999.000,9,    0.355,2,  300.4, 13.1808
      06MT32_1,  ISS2,   159,  1,     14,     15,2,19950404,0858, 10.4587,  57.0908, 4840,    399.4,  11.9478,  35.3683,2,  35.3583,4,     43.5,     38.5,3, -999.000,9,    0.330,2,  400.5, 11.8980
      06MT32_1,  ISS2,   159,  1,     13,     14,2,19950404,0858, 10.4587,  57.0908, 4840,    516.4,  11.4792,  35.4333,2,-999.0000,9,     28.1,   -999.0,9, -999.000,9,    0.132,2,  517.7, 11.4126
      06MT32_1,  ISS2,   159,  1,     12,     13,2,19950404,0858, 10.4587,  57.0908, 4840,    601.0,  11.4543,  35.5421,2,-999.0000,9,     18.9,   -999.0,9, -999.000,9,    0.081,2,  602.4, 11.3765
      06MT32_1,  ISS2,   159,  1,     11,     12,2,19950404,0858, 10.4587,  57.0908, 4840,    722.0,  11.1841,  35.6174,2,-999.0000,9,     15.0,     14.5,2, -999.000,9,    0.064,2,  723.5, 11.0915
      06MT32_1,  ISS2,   159,  1,     10,     10,2,19950404,0858, 10.4587,  57.0908, 4840,    799.0,  10.4915,  35.5495,2,-999.0000,9,     15.6,      0.0,4, -999.000,9,    0.055,2,  800.6, 10.3927
      06MT32_1,  ISS2,   159,  1,      9,      9,2,19950404,0858, 10.4587,  57.0908, 4840,    930.0,   9.6771,  35.4750,2,-999.0000,9,     17.9,   -999.0,9, -999.000,9, -999.000,9,  931.6,  9.5668
      06MT32_1,  ISS2,   159,  1,      8,      8,2,19950404,0858, 10.4587,  57.0908, 4840,   1022.8,   8.6659,  35.3361,2,-999.0000,9,     25.3,   -999.0,9, -999.000,9, -999.000,9, 1024.5,  8.5517
      06MT32_1,  ISS2,   159,  1,      7,      7,2,19950404,0858, 10.4587,  57.0908, 4840,   1203.2,   6.9681,  35.1363,2,-999.0000,9,     36.0,     38.1,2, -999.000,9,    0.015,2, 1204.8,  6.8475
      06MT32_1,  ISS2,   159,  1,      6,      6,2,19950404,0858, 10.4587,  57.0908, 4840,   1991.9,   3.0204,  34.8286,2,  34.8269,2,    107.6,    105.2,2, -999.000,9,    0.016,2, 1992.5,  2.8686
      06MT32_1,  ISS2,   159,  1,      5,      5,2,19950404,0858, 10.4587,  57.0908, 4840,   3002.8,   1.8451,  34.7542,2,  34.7490,2,    142.0,    135.9,3, -999.000,9,    0.016,2, 3000.7,  1.6199
      06MT32_1,  ISS2,   159,  1,      4,      4,2,19950404,0858, 10.4587,  57.0908, 4840,   3502.2,   1.7062,  34.7433,2,  34.7372,2,    155.3,    148.9,3, -999.000,9, -999.000,9, 3498.6,  1.4342
      06MT32_1,  ISS2,   159,  1,      3,      3,2,19950404,0858, 10.4587,  57.0908, 4840,   4003.8,   1.6328,  34.7375,2,  34.7337,2,    169.5,    164.7,3, -999.000,9,    0.006,2, 3998.8,  1.3094
      06MT32_1,  ISS2,   159,  1,      2,      2,2,19950404,0858, 10.4587,  57.0908, 4840,   4203.6,   1.6153,  34.7346,2,  34.7317,2,    170.1,   -999.0,9, -999.000,9, -999.000,9, 4198.1,  1.2703
      06MT32_1,  ISS2,   159,  1,      1,      1,2,19950404,0858, 10.4587,  57.0908, 4840,   4823.4,   1.6013,  34.7305,2,-999.0000,9,    176.9,    168.9,3, -999.000,9, -999.000,9, 4816.6,  1.1848
      06MT32_1,  ISS2,   160,  1,     19,     20,2,19950404,1746,  9.9172,  57.6113, 4248,      9.8,  28.2278,  35.9605,2,  35.9544,2,    201.6,    200.7,2, -999.000,9,    0.925,2,    9.8, 28.2186
      06MT32_1,  ISS2,   160,  1,     18,     19,2,19950404,1746,  9.9172,  57.6113, 4248,     49.8,  27.3805,  36.1728,2,-999.0000,9,    211.7,    208.3,2, -999.000,9,    0.979,2,   50.0, 27.3583
      06MT32_1,  ISS2,   160,  1,     17,     18,2,19950404,1746,  9.9172,  57.6113, 4248,     85.6,  25.6146,  36.3025,2,-999.0000,9,    191.7,   -999.0,9, -999.000,9,    0.989,2,   85.9, 25.6201
      06MT32_1,  ISS2,   160,  1,     16,     17,2,19950404,1746,  9.9172,  57.6113, 4248,    199.9,  15.4841,  35.4681,2,-999.0000,9,     21.1,   -999.0,9, -999.000,9,    0.476,2,  200.5, 15.4399
      06MT32_1,  ISS2,   160,  1,     15,     16,2,19950404,1746,  9.9172,  57.6113, 4248,    298.6,  13.5445,  35.4747,2,-999.0000,9,     28.3,   -999.0,9, -999.000,9, -999.000,9,  299.5, 13.5087
      06MT32_1,  ISS2,   160,  1,     14,     15,2,19950404,1746,  9.9172,  57.6113, 4248,    399.4,  12.0283,  35.4005,2,-999.0000,9,     35.0,     34.6,2, -999.000,9,    0.205,2,  400.5, 11.9761
      06MT32_1,  ISS2,   160,  1,     13,     14,2,19950404,1746,  9.9172,  57.6113, 4248,    471.3,  11.3434,  35.3841,2,-999.0000,9,     31.3,   -999.0,9, -999.000,9,    0.124,2,  472.5, 11.2832
      06MT32_1,  ISS2,   160,  1,     12,     13,2,19950404,1746,  9.9172,  57.6113, 4248,    602.2,  10.7776,  35.3933,2,-999.0000,9,     23.2,   -999.0,9, -999.000,9,    0.077,2,  603.6, 10.7027
      06MT32_1,  ISS2,   160,  1,     11,     12,2,19950404,1746,  9.9172,  57.6113, 4248,    679.9,  10.2853,  35.3767,2,-999.0000,9,     19.3,   -999.0,9, -999.000,9,    0.057,2,  681.4, 10.2028
      06MT32_1,  ISS2,   160,  1,     10,     11,2,19950404,1746,  9.9172,  57.6113, 4248,    802.6,   9.6751,  35.3644,2,  35.3495,4,     19.9,     18.5,2, -999.000,9,    0.053,2,  804.2,  9.5807
      06MT32_1,  ISS2,   160,  1,      9,     10,2,19950404,1746,  9.9172,  57.6113, 4248,    903.9,   9.0659,  35.3325,2,-999.0000,9,     22.1,   -999.0,9, -999.000,9, -999.000,9,  905.5,  8.9630
      06MT32_1,  ISS2,   160,  1,      8,      8,2,19950404,1746,  9.9172,  57.6113, 4248,   1205.1,   6.8163,  35.1238,2,  35.1152,2,     38.0,   -999.0,9, -999.000,9,    0.027,2, 1206.7,  6.6968
      06MT32_1,  ISS2,   160,  1,      7,      7,2,19950404,1746,  9.9172,  57.6113, 4248,   1470.9,   4.9532,  34.9667,2,  34.9703,2,     68.6,     64.8,2, -999.000,9,    0.011,2, 1472.3,  4.8252
      06MT32_1,  ISS2,   160,  1,      6,      6,2,19950404,1746,  9.9172,  57.6113, 4248,   1987.3,   3.0374,  34.8283,2,  34.8229,2,    108.0,    108.1,2, -999.000,9,    0.026,2, 1987.9,  2.8857
      06MT32_1,  ISS2,   160,  1,      5,      5,2,19950404,1746,  9.9172,  57.6113, 4248,   2511.6,   2.2357,  34.7772,2,  34.7708,2,    133.3,    131.7,2, -999.000,9, -999.000,9, 2510.9,  2.0493
      06MT32_1,  ISS2,   160,  1,      4,      4,2,19950404,1746,  9.9172,  57.6113, 4248,   3001.2,   1.7956,  34.7514,2,  34.7439,2,    154.8,    151.5,2, -999.000,9, -999.000,9, 2999.1,  1.5717
      06MT32_1,  ISS2,   160,  1,      3,      3,2,19950404,1746,  9.9172,  57.6113, 4248,   3152.5,   1.7677,  34.7488,2,  34.7429,2,    157.5,   -999.0,9, -999.000,9, -999.000,9, 3150.0,  1.5296
      06MT32_1,  ISS2,   160,  1,      2,      2,2,19950404,1746,  9.9172,  57.6113, 4248,   3734.6,   1.6243,  34.7385,2,  34.7325,2,    167.2,    164.5,2, -999.000,9, -999.000,9, 3730.3,  1.3301
      06MT32_1,  ISS2,   160,  1,      1,      1,2,19950404,1746,  9.9172,  57.6113, 4248,   4175.3,   1.6048,  34.7354,2,  34.7388,2,    171.4,    165.3,3, -999.000,9, -999.000,9, 4169.8,  1.2632
      06MT32_1,  ISS2,   161,  1,     18,     19,2,19950405,0157,  9.8953,  58.1813, 3773,     10.0,  28.0287,  36.2713,2,-999.0000,9,    204.2,    203.6,2, -999.000,9,    0.987,2,   10.0, 28.0303
      06MT32_1,  ISS2,   161,  1,     17,     18,2,19950405,0157,  9.8953,  58.1813, 3773,     50.1,  26.1074,  36.4569,2,-999.0000,9,    189.5,    190.5,2, -999.000,9,    1.013,2,   50.3, 26.0916
      06MT32_1,  ISS2,   161,  1,     16,     17,2,19950405,0157,  9.8953,  58.1813, 3773,     89.5,  24.6985,  36.2826,2,-999.0000,9,    154.0,   -999.0,9, -999.000,9,    0.922,2,   89.8, 24.6839
      06MT32_1,  ISS2,   161,  1,     15,     16,2,19950405,0157,  9.8953,  58.1813, 3773,    199.6,  15.5766,  35.4626,2,-999.0000,9,     33.0,     30.8,2, -999.000,9,    0.482,2,  200.2, 15.5428
      06MT32_1,  ISS2,   161,  1,     14,     15,2,19950405,0157,  9.8953,  58.1813, 3773,    299.1,  12.4733,  35.3047,2,-999.0000,9,     45.0,   -999.0,9, -999.000,9,    0.286,2,  300.0, 12.4379
      06MT32_1,  ISS2,   161,  1,     13,     14,2,19950405,0157,  9.8953,  58.1813, 3773,    398.6,  11.6003,  35.2768,2,  35.2690,2,     42.9,     41.8,2, -999.000,9,    0.213,2,  399.7, 11.5462
      06MT32_1,  ISS2,   161,  1,     12,     13,2,19950405,0157,  9.8953,  58.1813, 3773,    497.5,  11.2395,  35.3564,2,-999.0000,9,     31.3,   -999.0,9, -999.000,9,    0.119,2,  498.8, 11.1763
      06MT32_1,  ISS2,   161,  1,     11,     12,2,19950405,0157,  9.8953,  58.1813, 3773,    617.8,  10.7147,  35.3774,2,-999.0000,9,     21.7,   -999.0,9, -999.000,9, -999.000,9,  619.2, 10.6381
      06MT32_1,  ISS2,   161,  1,     10,     11,2,19950405,0157,  9.8953,  58.1813, 3773,    704.9,  10.1479,  35.3501,2,-999.0000,9,     20.7,   -999.0,9, -999.000,9,    0.055,2,  706.4, 10.0630
      06MT32_1,  ISS2,   161,  1,      9,     10,2,19950405,0157,  9.8953,  58.1813, 3773,    813.5,   9.5387,  35.3243,2,  35.3218,2,     20.0,     18.8,2, -999.000,9,    0.029,2,  815.1,  9.4438
      06MT32_1,  ISS2,   161,  1,      8,      9,2,19950405,0157,  9.8953,  58.1813, 3773,    890.1,   9.0559,  35.3247,2,-999.0000,9,     21.3,   -999.0,9, -999.000,9, -999.000,9,  891.7,  8.9547
      06MT32_1,  ISS2,   161,  1,      7,      8,2,19950405,0157,  9.8953,  58.1813, 3773,    894.6,   9.0489,  35.3240,2,-999.0000,9,     21.5,   -999.0,9, -999.000,9,    0.040,2,  896.2,  8.9472
      06MT32_1,  ISS2,   161,  1,      6,      7,2,19950405,0157,  9.8953,  58.1813, 3773,   1205.3,   6.8433,  35.1151,2,  35.1123,2,     38.8,     38.3,2, -999.000,9,    0.017,2, 1206.9,  6.7236
      06MT32_1,  ISS2,   161,  1,      5,      6,2,19950405,0157,  9.8953,  58.1813, 3773,   1510.7,   5.2223,  34.9824,2,-999.0000,9,     62.5,   -999.0,9, -999.000,9,    0.000,2, 1512.1,  5.0874
      06MT32_1,  ISS2,   161,  1,      4,      5,2,19950405,0157,  9.8953,  58.1813, 3773,   2012.2,   2.9779,  34.8205,2,  34.8193,2,    110.8,    108.4,2, -999.000,9, -999.000,9, 2012.7,  2.8249
      06MT32_1,  ISS2,   161,  1,      3,      4,2,19950405,0157,  9.8953,  58.1813, 3773,   2488.3,   2.1803,  34.7706,2,  34.7699,2,    132.0,    128.9,2, -999.000,9, -999.000,9, 2487.7,  1.9971
      06MT32_1,  ISS2,   161,  1,      2,      3,2,19950405,0157,  9.8953,  58.1813, 3773,   3001.8,   1.8311,  34.7477,2,  34.7463,2,    153.3,    149.2,2, -999.000,9, -999.000,9, 2999.7,  1.6064
      06MT32_1,  ISS2,   161,  1,      1,      1,2,19950405,0157,  9.8953,  58.1813, 3773,   3753.5,   1.6768,  34.7359,2,  34.7476,4,    163.1,    157.2,3, -999.000,9, -999.000,9, 3749.2,  1.3793