BOTTLE,20220930CCHSIOAMB
EXPOCODE,SECT_ID,STNNBR,CASTNO,SAMPNO,BTLNBR,BTLNBR_FLAG_W,DATE,TIME,LATITUDE,LONGITUDE,DEPTH,CTDPRS,CTDTMP,CTDSAL,CTDSAL_FLAG_W,SALNTY,SALNTY_FLAG_W,CTDOXY,OXYGEN,OXYGEN_FLAG_W,CFC-11,CFC-11_FLAG_W,CFC-12,CFC-12_FLAG_W,CTDRAW,THETA
,,,,,,,,,,,,DBAR,DEG C,PSS-78,,PSS-78,,UMOL/KG,UMOL/KG,,PMOL/KG,,PMOL/KG,,,DEG C
      06MT32_1,  ISS2,   172,  1,     20,     21,2,19950408,0052,  9.1723,  54.1632, 4827,      9.9,  28.4676,  35.6458,2,-999.0000,5,    196.4,    201.0,3, -999.000,9,    0.955,2,    9.9, 28.5199
      06MT32_1,  ISS2,   172,  1,     19,     20,2,19950408,0052,  9.1723,  54.1632, 4827,     49.5,  26.6717,  35.9837,2,-999.0000,9,    204.6,   -999.0,9, -999.000,9,    1.000,2,   49.7, 26.6530
      06MT32_1,  ISS2,   172,  1,     18,     19,2,19950408,0052,  9.1723,  54.1632, 4827,     98.8,  22.8099,  35.7385,2,-999.0000,9,    132.6,   -999.0,9, -999.000,9,    0.922,2,   99.1, 22.7486
      06MT32_1,  ISS2,   172,  1,     17,     18,2,19950408,0052,  9.1723,  54.1632, 4827,    199.0,  15.3827,  35.4738,2,-999.0000,9,     20.9,   -999.0,9, -999.000,9,    0.435,2,  199.6, 15.3505
      06MT32_1,  ISS2,   172,  1,     16,     17,2,19950408,0052,  9.1723,  54.1632, 4827,    298.9,  12.8599,  35.3855,2,-999.0000,9,     48.0,   -999.0,9, -999.000,9,    0.349,2,  299.8, 12.8198
      06MT32_1,  ISS2,   172,  1,     15,     16,2,19950408,0052,  9.1723,  54.1632, 4827,    398.5,  12.1737,  35.4383,2,-999.0000,9,     33.4,   -999.0,9, -999.000,9,    0.215,2,  399.6, 12.1239
      06MT32_1,  ISS2,   172,  1,     14,     14,2,19950408,0052,  9.1723,  54.1632, 4827,    513.7,  11.0673,  35.3863,2,-999.0000,9,     29.2,   -999.0,9, -999.000,9,    0.123,2,  515.0, 11.0026
      06MT32_1,  ISS2,   172,  1,     13,     13,2,19950408,0052,  9.1723,  54.1632, 4827,    597.2,   9.9272,  35.2644,2,-999.0000,9,     36.3,   -999.0,9, -999.000,9,    0.081,2,  598.6,  9.8567
      06MT32_1,  ISS2,   172,  1,     12,     12,2,19950408,0052,  9.1723,  54.1632, 4827,    691.1,   9.4678,  35.2516,2,-999.0000,9,     34.8,   -999.0,9, -999.000,9,    0.082,2,  692.6,  9.3881
      06MT32_1,  ISS2,   172,  1,     11,     11,2,19950408,0052,  9.1723,  54.1632, 4827,    778.4,   9.3430,  35.3021,2,  35.3178,4,     31.3,     28.7,2, -999.000,9,    0.040,2,  780.0,  9.2535
      06MT32_1,  ISS2,   172,  1,     10,     10,2,19950408,0052,  9.1723,  54.1632, 4827,    902.3,   8.5825,  35.2792,2,-999.0000,9,     26.4,   -999.0,9, -999.000,9,    0.018,2,  903.9,  8.4830
      06MT32_1,  ISS2,   172,  1,      9,      9,2,19950408,0052,  9.1723,  54.1632, 4827,    972.5,   7.9423,  35.2250,2,-999.0000,9,     31.5,   -999.0,9, -999.000,9,    0.042,2,  974.2,  7.8392
      06MT32_1,  ISS2,   172,  1,      8,      8,2,19950408,0052,  9.1723,  54.1632, 4827,   1506.6,   4.9686,  34.9353,2,-999.0000,9,     72.1,   -999.0,9, -999.000,9,    0.005,2, 1508.0,  4.8370
      06MT32_1,  ISS2,   172,  1,      7,      7,2,19950408,0052,  9.1723,  54.1632, 4827,   1997.5,   3.2487,  34.8421,2,  34.8406,2,     98.3,    102.8,3, -999.000,9,    0.019,2, 1998.1,  3.0929
      06MT32_1,  ISS2,   172,  1,      6,      6,2,19950408,0052,  9.1723,  54.1632, 4827,   2499.3,   2.2222,  34.7715,2,  34.7695,2,    135.4,    134.4,2, -999.000,9, -999.000,9, 2498.7,  2.0372
      06MT32_1,  ISS2,   172,  1,      5,      5,2,19950408,0052,  9.1723,  54.1632, 4827,   3030.6,   1.8881,  34.7518,2,  34.7491,2,    148.3,    146.6,2, -999.000,9, -999.000,9, 3028.4,  1.6593
      06MT32_1,  ISS2,   172,  1,      4,      4,2,19950408,0052,  9.1723,  54.1632, 4827,   3519.4,   1.7012,  34.7396,2,  34.7380,2,    161.2,    160.0,2, -999.000,9, -999.000,9, 3515.8,  1.4276
      06MT32_1,  ISS2,   172,  1,      3,      3,2,19950408,0052,  9.1723,  54.1632, 4827,   4023.1,   1.5439,  34.7305,2,  34.7286,2,    173.5,    170.8,2, -999.000,9, -999.000,9, 4018.0,  1.2209
      06MT32_1,  ISS2,   172,  1,      2,      2,2,19950408,0052,  9.1723,  54.1632, 4827,   4505.0,   1.3845,  34.7223,2,  34.7219,2,    178.6,    180.2,2, -999.000,9, -999.000,9, 4498.8,  1.0123
      06MT32_1,  ISS2,   172,  1,      1,      1,2,19950408,0052,  9.1723,  54.1632, 4827,   4766.2,   1.3695,  34.7197,2,  34.7207,2,    180.7,    181.3,2, -999.000,9, -999.000,9, 4759.5,  0.9675
      06MT32_1,  ISS2,   175,  1,     15,     15,2,19950409,1943,  8.2838,  54.1210, 5138,     10.1,  28.8212,  35.2514,2,  35.2522,2,    191.3,    197.1,3, -999.000,9,    0.988,2,   10.1, 28.8003
      06MT32_1,  ISS2,   175,  1,     14,     14,2,19950409,1943,  8.2838,  54.1210, 5138,     79.9,  25.4447,  36.1406,2,-999.0000,9,    183.7,   -999.0,9, -999.000,9,    1.019,2,   80.2, 25.4332
      06MT32_1,  ISS2,   175,  1,     13,     13,2,19950409,1943,  8.2838,  54.1210, 5138,    149.7,  18.9421,  35.4399,2,-999.0000,9,     84.2,   -999.0,9, -999.000,9,    0.743,2,  150.2, 18.9167
      06MT32_1,  ISS2,   175,  1,     12,     12,2,19950409,1943,  8.2838,  54.1210, 5138,    249.6,  13.7032,  35.4049,2,-999.0000,5,     33.6,     39.7,3, -999.000,9,    0.373,2,  250.3, 13.6582
      06MT32_1,  ISS2,   175,  1,     11,     11,2,19950409,1943,  8.2838,  54.1210, 5138,    349.6,  12.0936,  35.3573,2,-999.0000,9,     45.0,   -999.0,9, -999.000,9,    0.231,2,  350.6, 12.0515
      06MT32_1,  ISS2,   175,  1,     10,     10,2,19950409,1943,  8.2838,  54.1210, 5138,    462.3,  11.4568,  35.3868,2,-999.0000,9,     26.9,   -999.0,9, -999.000,9,    0.167,2,  463.5, 11.3974
      06MT32_1,  ISS2,   175,  1,      9,      9,2,19950409,1943,  8.2838,  54.1210, 5138,    576.0,  10.8730,  35.3979,2,-999.0000,9,     21.8,   -999.0,9, -999.000,9,    0.069,2,  577.4, 10.8010
      06MT32_1,  ISS2,   175,  1,      8,      8,2,19950409,1943,  8.2838,  54.1210, 5138,    660.4,  10.4196,  35.3836,2,  35.3768,2,     22.8,     21.6,2, -999.000,9,    0.064,2,  661.9, 10.3389
      06MT32_1,  ISS2,   175,  1,      7,      7,2,19950409,1943,  8.2838,  54.1210, 5138,    754.6,   9.8034,  35.3829,2,-999.0000,9,     21.8,   -999.0,9, -999.000,9,    0.049,2,  756.2,  9.7141
      06MT32_1,  ISS2,   175,  1,      6,      6,2,19950409,1943,  8.2838,  54.1210, 5138,    816.0,   9.7195,  35.4307,2,-999.0000,9,     20.5,   -999.0,9, -999.000,9,    0.051,2,  817.6,  9.6231
      06MT32_1,  ISS2,   175,  1,      5,      5,2,19950409,1943,  8.2838,  54.1210, 5138,    899.9,   8.6269,  35.2823,2,-999.0000,9,     26.1,   -999.0,9, -999.000,9,    0.038,2,  901.5,  8.5274
      06MT32_1,  ISS2,   175,  1,      4,      4,2,19950409,1943,  8.2838,  54.1210, 5138,    998.0,   7.9084,  35.2254,2,-999.0000,9,     30.8,   -999.0,9, -999.000,9,    0.026,2,  999.7,  7.8027
      06MT32_1,  ISS2,   175,  1,      3,      3,2,19950409,1943,  8.2838,  54.1210, 5138,   1190.4,   6.5102,  35.0747,2,  35.0715,2,     44.5,     46.0,2, -999.000,9,    0.021,2, 1192.0,  6.3951
      06MT32_1,  ISS2,   175,  1,      2,      2,2,19950409,1943,  8.2838,  54.1210, 5138,   1492.4,   4.8972,  34.9460,2,  34.9469,2,     67.1,     67.8,2, -999.000,9, -999.000,9, 1493.8,  4.7678
      06MT32_1,  ISS2,   175,  1,      1,      1,2,19950409,1943,  8.2838,  54.1210, 5138,   2002.9,   3.0244,  34.8199,2,  34.8180,2,    109.4,    109.4,2, -999.000,9, -999.000,9, 2003.4,  2.8716
      06MT32_1,  ISS2,   176,  1,     20,     20,2,19950410,0104,  7.8215,  53.9118, 5147,      9.7,  29.1809,  35.0412,2,  35.0376,2,    187.6,    197.0,4, -999.000,9,    0.926,2,    9.7, 29.1871
      06MT32_1,  ISS2,   176,  1,     19,     19,2,19950410,0104,  7.8215,  53.9118, 5147,    101.6,  25.2915,  36.0542,2,-999.0000,9,    176.3,   -999.0,9, -999.000,9,    1.032,2,  101.9, 25.2812
      06MT32_1,  ISS2,   176,  1,     18,     18,2,19950410,0104,  7.8215,  53.9118, 5147,    198.9,  15.9242,  35.3328,2,-999.0000,9,     75.1,     73.1,2, -999.000,9,    0.679,2,  199.5, 15.8723
      06MT32_1,  ISS2,   176,  1,     17,     17,2,19950410,0104,  7.8215,  53.9118, 5147,    298.7,  12.8780,  35.3917,2,-999.0000,9,     42.4,   -999.0,9, -999.000,9,    0.310,2,  299.6, 12.8416
      06MT32_1,  ISS2,   176,  1,     16,     16,2,19950410,0104,  7.8215,  53.9118, 5147,    398.9,  11.7687,  35.3505,2,-999.0000,9,     41.8,   -999.0,9, -999.000,9,    0.195,2,  400.0, 11.7215
      06MT32_1,  ISS2,   176,  1,     15,     15,2,19950410,0104,  7.8215,  53.9118, 5147,    515.2,  10.9929,  35.3432,2,-999.0000,9,     31.7,   -999.0,9, -999.000,9,    0.121,2,  516.5, 10.9283
      06MT32_1,  ISS2,   176,  1,     14,     14,2,19950410,0104,  7.8215,  53.9118, 5147,    596.3,  10.4745,  35.3423,2,-999.0000,9,     21.7,   -999.0,9, -999.000,9,    0.080,2,  597.7, 10.4017
      06MT32_1,  ISS2,   176,  1,     13,     13,2,19950410,0104,  7.8215,  53.9118, 5147,    716.0,   9.7160,  35.3288,2,-999.0000,9,     25.6,     25.8,2, -999.000,9,    0.055,2,  717.5,  9.6320
      06MT32_1,  ISS2,   176,  1,     12,     12,2,19950410,0104,  7.8215,  53.9118, 5147,    797.9,   9.3295,  35.3182,2,-999.0000,9,     24.9,   -999.0,9, -999.000,9,    0.043,2,  799.5,  9.2377
      06MT32_1,  ISS2,   176,  1,     11,     11,2,19950410,0104,  7.8215,  53.9118, 5147,    891.2,   8.6684,  35.2585,2,-999.0000,9,     26.1,   -999.0,9, -999.000,9,    0.040,2,  892.8,  8.5697
      06MT32_1,  ISS2,   176,  1,     10,     10,2,19950410,0104,  7.8215,  53.9118, 5147,    999.7,   8.0632,  35.2324,2,-999.0000,9,     30.8,   -999.0,9, -999.000,9,    0.051,2, 1001.4,  7.9562
      06MT32_1,  ISS2,   176,  1,      9,      9,2,19950410,0104,  7.8215,  53.9118, 5147,   1197.5,   6.9391,  35.1425,2,-999.0000,9,     40.3,   -999.0,9, -999.000,9,    0.015,2, 1199.1,  6.8194
      06MT32_1,  ISS2,   176,  1,      8,      8,2,19950410,0104,  7.8215,  53.9118, 5147,   1478.7,   4.6490,  34.9309,2,-999.0000,9,     74.3,   -999.0,9, -999.000,9, -999.000,9, 1480.1,  4.5237
      06MT32_1,  ISS2,   176,  1,      7,      7,2,19950410,0104,  7.8215,  53.9118, 5147,   2011.9,   2.8631,  34.8142,2,  34.8074,2,    113.3,    114.3,2, -999.000,9, -999.000,9, 2012.4,  2.7119
      06MT32_1,  ISS2,   176,  1,      6,      6,2,19950410,0104,  7.8215,  53.9118, 5147,   2499.7,   2.1233,  34.7670,2,-999.0000,9,    137.4,   -999.0,9, -999.000,9, -999.000,9, 2499.1,  1.9401
      06MT32_1,  ISS2,   176,  1,      5,      5,2,19950410,0104,  7.8215,  53.9118, 5147,   2997.1,   1.8376,  34.7499,2,  34.7463,2,    150.4,    149.6,2, -999.000,9, -999.000,9, 2995.0,  1.6132
      06MT32_1,  ISS2,   176,  1,      4,      4,2,19950410,0104,  7.8215,  53.9118, 5147,   3502.2,   1.6243,  34.7361,2,  34.7329,2,    165.3,    163.5,2, -999.000,9, -999.000,9, 3498.6,  1.3544
      06MT32_1,  ISS2,   176,  1,      3,      3,2,19950410,0104,  7.8215,  53.9118, 5147,   4004.2,   1.4899,  34.7287,2,  34.7258,2,    175.3,    173.5,2, -999.000,9, -999.000,9, 3999.2,  1.1705
      06MT32_1,  ISS2,   176,  1,      2,      2,2,19950410,0104,  7.8215,  53.9118, 5147,   4508.0,   1.3920,  34.7219,2,  34.7207,2,    183.4,    179.6,2, -999.000,9, -999.000,9, 4501.8,  1.0193
      06MT32_1,  ISS2,   176,  1,      1,      1,2,19950410,0104,  7.8215,  53.9118, 5147,   5007.0,   1.3930,  34.7198,2,  34.7176,2,    187.0,    182.7,2, -999.000,9, -999.000,9, 5000.0,  0.9614
      06MT32_1,  ISS2,   179,  1,     19,     19,2,19950410,2351,  7.4155,  54.3658, 5158,     10.4,  29.0390,  35.0591,2,-999.0000,5,    200.6,   -999.0,9, -999.000,9,    0.915,2,   10.4, 29.0562
      06MT32_1,  ISS2,   179,  1,     18,     18,2,19950410,2351,  7.4155,  54.3658, 5158,     99.2,  23.9945,  35.8539,2,-999.0000,9,    156.2,   -999.0,9, -999.000,9,    0.972,2,   99.5, 23.9781
      06MT32_1,  ISS2,   179,  1,     17,     17,2,19950410,2351,  7.4155,  54.3658, 5158,    201.3,  14.7629,  35.3244,2,-999.0000,9,     71.4,     65.6,3, -999.000,9,    0.566,2,  201.9, 14.7362
      06MT32_1,  ISS2,   179,  1,     16,     16,2,19950410,2351,  7.4155,  54.3658, 5158,    299.0,  12.8415,  35.3475,2,-999.0000,9,     48.7,   -999.0,9, -999.000,9,    0.367,2,  299.9, 12.8047
      06MT32_1,  ISS2,   179,  1,     15,     15,2,19950410,2351,  7.4155,  54.3658, 5158,    381.6,  11.8143,  35.3475,2,-999.0000,9,     41.7,     34.5,3, -999.000,9,    0.206,2,  382.6, 11.7645
      06MT32_1,  ISS2,   179,  1,     14,     14,2,19950410,2351,  7.4155,  54.3658, 5158,    480.8,  11.2570,  35.3774,2,-999.0000,9,     31.2,   -999.0,9, -999.000,9,    0.154,2,  482.0, 11.1959
      06MT32_1,  ISS2,   179,  1,     13,     13,2,19950410,2351,  7.4155,  54.3658, 5158,    592.2,  10.7137,  35.3784,2,-999.0000,9,     29.3,   -999.0,9, -999.000,9,    0.096,2,  593.6, 10.6403
      06MT32_1,  ISS2,   179,  1,     12,     12,2,19950410,2351,  7.4155,  54.3658, 5158,    698.1,   9.8164,  35.3371,2,-999.0000,9,     25.2,   -999.0,9, -999.000,9, -999.000,9,  699.6,  9.7340
      06MT32_1,  ISS2,   179,  1,     11,     11,2,19950410,2351,  7.4155,  54.3658, 5158,    795.4,   9.0109,  35.2778,2,  35.2746,2,     28.1,     26.8,2, -999.000,9,    0.048,2,  797.0,  8.9213
      06MT32_1,  ISS2,   179,  1,     10,     10,2,19950410,2351,  7.4155,  54.3658, 5158,    895.4,   8.2225,  35.2056,2,-999.0000,9,     34.2,   -999.0,9, -999.000,9,    0.027,2,  897.0,  8.1263
      06MT32_1,  ISS2,   179,  1,      9,      9,2,19950410,2351,  7.4155,  54.3658, 5158,    986.0,   7.4884,  35.1311,2,-999.0000,9,     40.2,   -999.0,9, -999.000,9,    0.024,2,  987.7,  7.3872
      06MT32_1,  ISS2,   179,  1,      8,      8,2,19950410,2351,  7.4155,  54.3658, 5158,   1478.7,   5.0171,  34.9505,2,-999.0000,9,     69.7,   -999.0,9, -999.000,9,    0.017,2, 1480.1,  4.8877
      06MT32_1,  ISS2,   179,  1,      7,      7,2,19950410,2351,  7.4155,  54.3658, 5158,   2000.9,   2.7697,  34.7990,2,  34.7984,2,    119.1,    121.2,2, -999.000,9,    0.004,2, 2001.4,  2.6209
      06MT32_1,  ISS2,   179,  1,      6,      6,2,19950410,2351,  7.4155,  54.3658, 5158,   2529.5,   2.1308,  34.7672,2,  34.7635,2,    135.9,    137.5,2, -999.000,9, -999.000,9, 2528.8,  1.9447
      06MT32_1,  ISS2,   179,  1,      5,      5,2,19950410,2351,  7.4155,  54.3658, 5158,   3030.4,   1.8336,  34.7491,2,  34.7457,2,    150.2,    149.2,2, -999.000,9, -999.000,9, 3028.2,  1.6060
      06MT32_1,  ISS2,   179,  1,      4,      4,2,19950410,2351,  7.4155,  54.3658, 5158,   3503.8,   1.6048,  34.7367,2,  34.7339,2,    164.5,    165.4,2, -999.000,9, -999.000,9, 3500.2,  1.3352
      06MT32_1,  ISS2,   179,  1,      3,      3,2,19950410,2351,  7.4155,  54.3658, 5158,   4004.2,   1.4235,  34.7267,2,  34.7225,2,    175.7,    176.4,2, -999.000,9, -999.000,9, 3999.2,  1.1060
      06MT32_1,  ISS2,   179,  1,      2,      2,2,19950410,2351,  7.4155,  54.3658, 5158,   4506.3,   1.3760,  34.7225,2,  34.7191,2,    183.5,    179.3,2, -999.000,9, -999.000,9, 4500.1,  1.0040
      06MT32_1,  ISS2,   179,  1,      1,      1,2,19950410,2351,  7.4155,  54.3658, 5158,   5006.3,   1.3885,  34.7202,2,  34.7182,2,    185.3,    183.0,2, -999.000,9, -999.000,9, 4999.3,  0.9571
      06MT32_1,  ISS2,   180,  1,     18,     18,2,19950411,0857,  6.9863,  54.8240, 5162,     10.1,  29.1523,  35.0512,2,  35.0480,2,    195.3,    196.6,2, -999.000,9,    0.934,2,   10.1, 29.1091
      06MT32_1,  ISS2,   180,  1,     17,     17,2,19950411,0857,  6.9863,  54.8240, 5162,     89.8,  25.3351,  35.7705,2,-999.0000,9,    176.6,   -999.0,9, -999.000,9,    1.011,2,   90.1, 25.3069
      06MT32_1,  ISS2,   180,  1,     16,     16,2,19950411,0857,  6.9863,  54.8240, 5162,    199.5,  15.0661,  35.2739,2,-999.0000,9,     95.2,     92.6,2, -999.000,9,    0.662,2,  200.1, 15.0320
      06MT32_1,  ISS2,   180,  1,     15,     15,2,19950411,0857,  6.9863,  54.8240, 5162,    298.9,  13.0512,  35.2696,2,-999.0000,9,     69.3,   -999.0,9, -999.000,9,    0.465,2,  299.8, 13.0169
      06MT32_1,  ISS2,   180,  1,     14,     14,2,19950411,0857,  6.9863,  54.8240, 5162,    399.1,  11.7124,  35.3021,2,-999.0000,9,     43.0,     42.8,2, -999.000,9,    0.231,2,  400.2, 11.6596
      06MT32_1,  ISS2,   180,  1,     13,     13,2,19950411,0857,  6.9863,  54.8240, 5162,    497.3,  11.1442,  35.3471,2,-999.0000,9,     30.2,   -999.0,9, -999.000,9,    0.125,2,  498.6, 11.0814
      06MT32_1,  ISS2,   180,  1,     12,     12,2,19950411,0857,  6.9863,  54.8240, 5162,    687.5,  10.0501,  35.3537,2,-999.0000,9,     24.5,   -999.0,9, -999.000,9,    0.065,2,  689.0,  9.9679
      06MT32_1,  ISS2,   180,  1,     11,     11,2,19950411,0857,  6.9863,  54.8240, 5162,    787.9,   9.2816,  35.3184,2,-999.0000,9,     25.4,     24.6,2, -999.000,9,    0.049,2,  789.5,  9.1913
      06MT32_1,  ISS2,   180,  1,     10,     10,2,19950411,0857,  6.9863,  54.8240, 5162,    899.4,   8.2579,  35.2010,2,-999.0000,9,     32.3,   -999.0,9, -999.000,9,    0.027,2,  901.0,  8.1610
      06MT32_1,  ISS2,   180,  1,      9,      9,2,19950411,0857,  6.9863,  54.8240, 5162,   1005.5,   7.7111,  35.1892,2,-999.0000,9,     34.0,   -999.0,9, -999.000,9,    0.026,2, 1007.2,  7.6061
      06MT32_1,  ISS2,   180,  1,      8,      8,2,19950411,0857,  6.9863,  54.8240, 5162,   1500.2,   4.9532,  34.9508,2,-999.0000,9,     70.4,   -999.0,9, -999.000,9,    0.004,2, 1501.6,  4.8224
      06MT32_1,  ISS2,   180,  1,      7,      7,2,19950411,0857,  6.9863,  54.8240, 5162,   1997.2,   2.8166,  34.8052,2,  34.8058,2,    117.8,    121.0,2, -999.000,9,    0.009,2, 1997.8,  2.6674
      06MT32_1,  ISS2,   180,  1,      6,      6,2,19950411,0857,  6.9863,  54.8240, 5162,   2500.5,   2.0964,  34.7640,2,  34.7622,2,    142.4,    140.7,2, -999.000,9, -999.000,9, 2499.8,  1.9137
      06MT32_1,  ISS2,   180,  1,      5,      5,2,19950411,0857,  6.9863,  54.8240, 5162,   3013.6,   1.8296,  34.7489,2,  34.7465,2,    154.5,    152.6,2, -999.000,9, -999.000,9, 3011.5,  1.6038
      06MT32_1,  ISS2,   180,  1,      4,      4,2,19950411,0857,  6.9863,  54.8240, 5162,   3509.3,   1.6103,  34.7359,2,  34.7320,2,    168.3,    165.3,2, -999.000,9, -999.000,9, 3505.7,  1.3400
      06MT32_1,  ISS2,   180,  1,      3,      3,2,19950411,0857,  6.9863,  54.8240, 5162,   3996.1,   1.4480,  34.7270,2,  34.7263,2,    178.3,    174.9,2, -999.000,9, -999.000,9, 3991.1,  1.1307
      06MT32_1,  ISS2,   180,  1,      2,      2,2,19950411,0857,  6.9863,  54.8240, 5162,   4509.2,   1.3715,  34.7214,2,  34.7203,2,    185.2,    181.5,2, -999.000,9, -999.000,9, 4503.0,  0.9993
      06MT32_1,  ISS2,   180,  1,      1,      1,2,19950411,0857,  6.9863,  54.8240, 5162,   5007.3,   1.3800,  34.7191,2,  34.7193,2,    187.1,    183.4,2, -999.000,9, -999.000,9, 5000.3,  0.9488