BOTTLE,20220930CCHSIOAMB
EXPOCODE,SECT_ID,STNNBR,CASTNO,SAMPNO,BTLNBR,BTLNBR_FLAG_W,DATE,TIME,LATITUDE,LONGITUDE,DEPTH,CTDPRS,CTDTMP,CTDSAL,CTDSAL_FLAG_W,SALNTY,SALNTY_FLAG_W,CTDOXY,OXYGEN,OXYGEN_FLAG_W,CFC-11,CFC-11_FLAG_W,CFC-12,CFC-12_FLAG_W,CTDRAW,THETA
,,,,,,,,,,,,DBAR,DEG C,PSS-78,,PSS-78,,UMOL/KG,UMOL/KG,,PMOL/KG,,PMOL/KG,,,DEG C
      06MT32_1,  ISS2,   167,  1,     20,     21,2,19950406,1622, 12.3345,  59.5017, 4486,      9.9,  28.0042,  36.6060,2,  36.6062,2,    199.4,    198.1,2, -999.000,9,    1.014,2,    9.9, 28.0083
      06MT32_1,  ISS2,   167,  1,     19,     20,2,19950406,1622, 12.3345,  59.5017, 4486,     49.9,  26.7077,  36.5150,2,-999.0000,9,    212.6,   -999.0,9, -999.000,9,    1.021,2,   50.1, 26.6858
      06MT32_1,  ISS2,   167,  1,     18,     19,2,19950406,1622, 12.3345,  59.5017, 4486,    100.4,  24.1626,  36.0631,2,-999.0000,9,    144.1,   -999.0,9, -999.000,9,    0.958,2,  100.7, 24.1501
      06MT32_1,  ISS2,   167,  1,     17,     18,2,19950406,1622, 12.3345,  59.5017, 4486,    199.4,  16.3183,  35.5416,2,-999.0000,9,     30.9,   -999.0,9, -999.000,9,    0.496,2,  200.0, 16.2931
      06MT32_1,  ISS2,   167,  1,     16,     16,2,19950406,1622, 12.3345,  59.5017, 4486,    299.2,  14.2641,  35.6612,2,-999.0000,9,     13.6,      0.0,4, -999.000,9,    0.300,2,  300.1, 14.2159
      06MT32_1,  ISS2,   167,  1,     15,     15,2,19950406,1622, 12.3345,  59.5017, 4486,    348.7,  13.0840,  35.5457,2,-999.0000,9,     21.9,   -999.0,9, -999.000,9, -999.000,9,  349.7, 13.0401
      06MT32_1,  ISS2,   167,  1,     14,     14,2,19950406,1622, 12.3345,  59.5017, 4486,    466.6,  11.5202,  35.3429,2,-999.0000,9,     40.9,   -999.0,9, -999.000,9, -999.000,9,  467.8, 11.4601
      06MT32_1,  ISS2,   167,  1,     13,     13,2,19950406,1622, 12.3345,  59.5017, 4486,    540.7,  11.9302,  35.5579,2,-999.0000,9,     18.6,   -999.0,9, -999.000,9,    0.129,2,  542.0, 11.8586
      06MT32_1,  ISS2,   167,  1,     12,     12,2,19950406,1622, 12.3345,  59.5017, 4486,    689.7,  10.7167,  35.5090,2,-999.0000,9,     16.1,      0.0,4, -999.000,9,    0.074,2,  691.2, 10.6307
      06MT32_1,  ISS2,   167,  1,     11,     11,2,19950406,1622, 12.3345,  59.5017, 4486,    793.8,   9.9817,  35.4537,2,  35.4399,4,     17.7,     18.0,2, -999.000,9,    0.035,2,  795.4,  9.8865
      06MT32_1,  ISS2,   167,  1,     10,     10,2,19950406,1622, 12.3345,  59.5017, 4486,    885.8,   9.6436,  35.4651,2,-999.0000,9,     19.0,   -999.0,9, -999.000,9,    0.041,2,  887.4,  9.5390
      06MT32_1,  ISS2,   167,  1,      9,      9,2,19950406,1622, 12.3345,  59.5017, 4486,   1001.7,   8.5206,  35.3084,2,-999.0000,9,     24.2,   -999.0,9, -999.000,9,    0.027,2, 1003.4,  8.4099
      06MT32_1,  ISS2,   167,  1,      8,      8,2,19950406,1622, 12.3345,  59.5017, 4486,   1187.5,   7.2832,  35.1930,2,-999.0000,9,     30.2,   -999.0,9, -999.000,9, -999.000,9, 1189.1,  7.1615
      06MT32_1,  ISS2,   167,  1,      7,      7,2,19950406,1622, 12.3345,  59.5017, 4486,   1483.9,   5.4341,  35.0194,2,  35.0165,2,     55.1,     54.2,2, -999.000,9,    0.014,2, 1485.3,  5.2995
      06MT32_1,  ISS2,   167,  1,      6,      6,2,19950406,1622, 12.3345,  59.5017, 4486,   2004.4,   3.2362,  34.8434,2,  34.8414,2,     98.3,     96.8,2, -999.000,9,    0.018,2, 2004.9,  3.0800
      06MT32_1,  ISS2,   167,  1,      5,      5,2,19950406,1622, 12.3345,  59.5017, 4486,   2469.2,   2.2982,  34.7824,2,  34.7811,2,    118.3,    114.5,2, -999.000,9, -999.000,9, 2468.6,  2.1146
      06MT32_1,  ISS2,   167,  1,      4,      4,2,19950406,1622, 12.3345,  59.5017, 4486,   2979.3,   1.8686,  34.7519,2,  34.7490,2,    133.6,    131.7,2, -999.000,9, -999.000,9, 2977.3,  1.6452
      06MT32_1,  ISS2,   167,  1,      3,      3,2,19950406,1622, 12.3345,  59.5017, 4486,   3502.5,   1.7397,  34.7411,2,  34.7398,2,    151.0,    150.4,2, -999.000,9, -999.000,9, 3498.9,  1.4669
      06MT32_1,  ISS2,   167,  1,      2,      2,2,19950406,1622, 12.3345,  59.5017, 4486,   4005.1,   1.6897,  34.7370,2,  34.7353,2,    154.5,   -999.0,9, -999.000,9, -999.000,9, 4000.1,  1.3646
      06MT32_1,  ISS2,   167,  1,      1,      1,2,19950406,1622, 12.3345,  59.5017, 4486,   4415.8,   1.6058,  34.7306,2,  34.7280,2,    164.6,    168.4,2, -999.000,9, -999.000,9, 4409.8,  1.2370
      06MT32_1,  ISS2,   168,  1,     20,     21,2,19950406,2349, 12.7250,  58.8425, 4468,      9.7,  27.7389,  36.4961,2,  36.5036,2,    196.2,    201.8,3, -999.000,9,    1.021,2,    9.7, 27.7440
      06MT32_1,  ISS2,   168,  1,     19,     20,2,19950406,2349, 12.7250,  58.8425, 4468,     50.1,  26.3516,  36.4340,2,-999.0000,9,    194.3,    200.5,3, -999.000,9,    1.000,2,   50.3, 26.3426
      06MT32_1,  ISS2,   168,  1,     18,     19,2,19950406,2349, 12.7250,  58.8425, 4468,     99.6,  25.2878,  36.3466,2,-999.0000,9,    175.2,   -999.0,9, -999.000,9,    0.967,2,   99.9, 25.2624
      06MT32_1,  ISS2,   168,  1,     17,     18,2,19950406,2349, 12.7250,  58.8425, 4468,    200.5,  16.5062,  35.5412,2,-999.0000,9,     21.0,   -999.0,9, -999.000,9,    0.477,2,  201.1, 16.4763
      06MT32_1,  ISS2,   168,  1,     16,     16,2,19950406,2349, 12.7250,  58.8425, 4468,    298.9,  13.6171,  35.4963,2,-999.0000,9,     21.9,     18.1,2, -999.000,9,    0.260,2,  299.8, 13.5709
      06MT32_1,  ISS2,   168,  1,     15,     15,2,19950406,2349, 12.7250,  58.8425, 4468,    349.3,  12.9659,  35.5091,2,-999.0000,9,     20.7,   -999.0,9, -999.000,9,    0.224,2,  350.3, 12.9159
      06MT32_1,  ISS2,   168,  1,     14,     14,2,19950406,2349, 12.7250,  58.8425, 4468,    442.8,  12.3467,  35.5524,2,-999.0000,9,     20.5,   -999.0,9, -999.000,9, -999.000,9,  444.0, 12.2870
      06MT32_1,  ISS2,   168,  1,     13,     13,2,19950406,2349, 12.7250,  58.8425, 4468,    547.7,  11.8128,  35.5736,2,-999.0000,9,     18.6,     16.0,2, -999.000,9,    0.105,2,  549.0, 11.7407
      06MT32_1,  ISS2,   168,  1,     12,     12,2,19950406,2349, 12.7250,  58.8425, 4468,    671.0,  11.2291,  35.6109,2,-999.0000,9,     15.2,      0.0,4, -999.000,9, -999.000,9,  672.5, 11.1430
      06MT32_1,  ISS2,   168,  1,     11,     11,2,19950406,2349, 12.7250,  58.8425, 4468,    780.9,  10.3931,  35.5434,2,  35.5442,2,     15.6,     14.3,2, -999.000,9,    0.073,2,  782.5, 10.2971
      06MT32_1,  ISS2,   168,  1,     10,     10,2,19950406,2349, 12.7250,  58.8425, 4468,    888.9,   9.3690,  35.4328,2,-999.0000,9,     20.3,   -999.0,9, -999.000,9, -999.000,9,  890.5,  9.2658
      06MT32_1,  ISS2,   168,  1,      9,      9,2,19950406,2349, 12.7250,  58.8425, 4468,    993.5,   8.4666,  35.3178,2,-999.0000,9,     24.7,   -999.0,9, -999.000,9, -999.000,9,  995.2,  8.3573
      06MT32_1,  ISS2,   168,  1,      8,      8,2,19950406,2349, 12.7250,  58.8425, 4468,   1168.6,   7.1124,  35.1750,2,-999.0000,9,     32.3,   -999.0,9, -999.000,9, -999.000,9, 1170.2,  6.9942
      06MT32_1,  ISS2,   168,  1,      7,      7,2,19950406,2349, 12.7250,  58.8425, 4468,   1491.3,   5.0980,  34.9678,2,  34.9616,2,     65.2,     64.0,2, -999.000,9, -999.000,9, 1492.7,  4.9664
      06MT32_1,  ISS2,   168,  1,      6,      6,2,19950406,2349, 12.7250,  58.8425, 4468,   2029.4,   3.1578,  34.8402,2,  34.8353,2,     99.3,     99.5,2, -999.000,9, -999.000,9, 2029.9,  3.0005
      06MT32_1,  ISS2,   168,  1,      5,      5,2,19950406,2349, 12.7250,  58.8425, 4468,   2501.5,   2.2332,  34.7778,2,  34.7730,2,    121.7,    119.2,2, -999.000,9, -999.000,9, 2500.8,  2.0478
      06MT32_1,  ISS2,   168,  1,      4,      4,2,19950406,2349, 12.7250,  58.8425, 4468,   3009.6,   1.8791,  34.7534,2,  34.7467,2,    129.4,    131.7,2, -999.000,9, -999.000,9, 3007.5,  1.6525
      06MT32_1,  ISS2,   168,  1,      3,      3,2,19950406,2349, 12.7250,  58.8425, 4468,   3503.3,   1.7342,  34.7418,2,  34.7378,2,    142.9,    145.0,2, -999.000,9, -999.000,9, 3499.7,  1.4614
      06MT32_1,  ISS2,   168,  1,      2,      2,2,19950406,2349, 12.7250,  58.8425, 4468,   4009.0,   1.6877,  34.7375,2,  34.7325,2,    157.5,    154.9,2, -999.000,9, -999.000,9, 4004.0,  1.3622
      06MT32_1,  ISS2,   168,  1,      1,      1,2,19950406,2349, 12.7250,  58.8425, 4468,   4407.8,   1.6108,  34.7311,2,  34.7264,2,    167.5,    164.8,2, -999.000,9, -999.000,9, 4401.8,  1.2428
      06MT32_1,  ISS2,   169,  1,     19,     21,2,19950407,0508, 12.8845,  58.5505, 4509,      9.2,  27.8206,  36.5284,2,-999.0000,5,    201.1,    202.1,2, -999.000,9,    0.989,2,    9.2, 27.7926
      06MT32_1,  ISS2,   169,  1,     18,     20,2,19950407,0508, 12.8845,  58.5505, 4509,     79.4,  25.8636,  36.3824,2,-999.0000,9,    189.6,    186.2,2, -999.000,9,    0.988,2,   79.7, 25.8478
      06MT32_1,  ISS2,   169,  1,     17,     19,2,19950407,0508, 12.8845,  58.5505, 4509,    149.2,  20.4682,  35.6544,2,-999.0000,9,     65.3,   -999.0,9, -999.000,9, -999.000,9,  149.7, 20.4270
      06MT32_1,  ISS2,   169,  1,     16,     18,2,19950407,0508, 12.8845,  58.5505, 4509,    199.5,  16.3237,  35.5040,2,-999.0000,9,     27.7,     30.3,2, -999.000,9,    0.527,2,  200.1, 16.3071
      06MT32_1,  ISS2,   169,  1,     15,     16,2,19950407,0508, 12.8845,  58.5505, 4509,    299.0,  13.8952,  35.5689,2,-999.0000,9,     22.1,   -999.0,9, -999.000,9,    0.322,2,  299.9, 13.8552
      06MT32_1,  ISS2,   169,  1,     14,     15,2,19950407,0508, 12.8845,  58.5505, 4509,    399.4,  12.7016,  35.5146,2,-999.0000,9,     25.5,     22.1,2, -999.000,9,    0.227,2,  400.5, 12.6485
      06MT32_1,  ISS2,   169,  1,     13,     14,2,19950407,0508, 12.8845,  58.5505, 4509,    483.3,  12.4680,  35.5898,2,-999.0000,9,     17.1,      0.0,4, -999.000,9, -999.000,9,  484.5, 12.4023
      06MT32_1,  ISS2,   169,  1,     12,     13,2,19950407,0508, 12.8845,  58.5505, 4509,    587.8,  11.8498,  35.5707,2,-999.0000,9,     18.3,   -999.0,9, -999.000,9,    0.171,2,  589.2, 11.7721
      06MT32_1,  ISS2,   169,  1,     11,     12,2,19950407,0508, 12.8845,  58.5505, 4509,    693.5,  11.0083,  35.6189,2,  35.6153,2,     16.4,     13.7,2, -999.000,9,    0.077,2,  695.0, 10.9203
      06MT32_1,  ISS2,   169,  1,     10,     11,2,19950407,0508, 12.8845,  58.5505, 4509,    781.9,  10.4116,  35.5825,2,  35.5748,2,     15.0,     13.6,2, -999.000,9,    0.062,2,  783.5, 10.3154
      06MT32_1,  ISS2,   169,  1,      9,      9,2,19950407,0508, 12.8845,  58.5505, 4509,    887.5,   9.6790,  35.5072,2,-999.0000,9,     15.3,      0.0,4, -999.000,9,    0.050,2,  889.1,  9.5739
      06MT32_1,  ISS2,   169,  1,      8,      8,2,19950407,0508, 12.8845,  58.5505, 4509,    991.0,   8.5475,  35.3468,2,-999.0000,9,     23.3,   -999.0,9, -999.000,9,    0.035,2,  992.7,  8.4378
      06MT32_1,  ISS2,   169,  1,      7,      7,2,19950407,0508, 12.8845,  58.5505, 4509,   1503.2,   5.0910,  34.9663,2,  34.9658,2,     64.3,     63.9,2, -999.000,9, -999.000,9, 1504.6,  4.9583
      06MT32_1,  ISS2,   169,  1,      6,      6,2,19950407,0508, 12.8845,  58.5505, 4509,   1987.1,   3.2861,  34.8468,2,  34.8454,2,     98.0,     96.4,2, -999.000,9, -999.000,9, 1987.7,  3.1307
      06MT32_1,  ISS2,   169,  1,      5,      5,2,19950407,0508, 12.8845,  58.5505, 4509,   2484.1,   2.3061,  34.7815,2,  34.7801,2,    120.8,    118.8,2, -999.000,9, -999.000,9, 2483.5,  2.1210
      06MT32_1,  ISS2,   169,  1,      4,      4,2,19950407,0508, 12.8845,  58.5505, 4509,   3001.3,   1.9165,  34.7553,2,  34.7524,2,    128.8,    128.4,2, -999.000,9, -999.000,9, 2999.2,  1.6899
      06MT32_1,  ISS2,   169,  1,      3,      3,2,19950407,0508, 12.8845,  58.5505, 4509,   3502.3,   1.7792,  34.7434,2,  34.7423,2,    142.3,    140.6,2, -999.000,9, -999.000,9, 3498.7,  1.5054
      06MT32_1,  ISS2,   169,  1,      2,      2,2,19950407,0508, 12.8845,  58.5505, 4509,   4003.7,   1.6778,  34.7358,2,  34.7347,2,    157.4,    156.8,2, -999.000,9, -999.000,9, 3998.7,  1.3532
      06MT32_1,  ISS2,   169,  1,      1,      1,2,19950407,0508, 12.8845,  58.5505, 4509,   4435.2,   1.5779,  34.7292,2,  34.7280,2,    168.8,    167.7,2, -999.000,9, -999.000,9, 4429.1,  1.2077
      06MT32_1,  ISS2,   170,  1,     20,     20,2,19950407,0952, 12.9417,  58.4430, 4398,      9.6,  27.8113,  36.5115,2,  36.5115,2,    201.1,    202.3,2, -999.000,9,    1.059,2,    9.6, 27.8137
      06MT32_1,  ISS2,   170,  1,     19,     19,2,19950407,0952, 12.9417,  58.4430, 4398,     49.7,  26.2121,  36.3669,2,-999.0000,9,    204.4,    208.1,2, -999.000,9,    1.042,2,   49.9, 26.1866
      06MT32_1,  ISS2,   170,  1,     18,     18,2,19950407,0952, 12.9417,  58.4430, 4398,     99.9,  23.5029,  35.9641,2,-999.0000,9,    128.9,   -999.0,9, -999.000,9,    0.930,2,  100.2, 23.4788
      06MT32_1,  ISS2,   170,  1,     17,     17,2,19950407,0952, 12.9417,  58.4430, 4398,    150.2,  20.0089,  35.6472,2,-999.0000,9,     52.9,   -999.0,9, -999.000,9,    0.742,2,  150.7, 19.9753
      06MT32_1,  ISS2,   170,  1,     16,     16,2,19950407,0952, 12.9417,  58.4430, 4398,    200.1,  17.0321,  35.5446,2,-999.0000,9,     28.0,   -999.0,9, -999.000,9,    0.550,2,  200.7, 16.9942
      06MT32_1,  ISS2,   170,  1,     15,     15,2,19950407,0952, 12.9417,  58.4430, 4398,    249.1,  14.9269,  35.4539,2,-999.0000,9,     31.5,     32.4,2, -999.000,9,    0.452,2,  249.8, 14.8880
      06MT32_1,  ISS2,   170,  1,     14,     14,2,19950407,0952, 12.9417,  58.4430, 4398,    299.2,  14.2067,  35.5592,2,-999.0000,9,     26.6,   -999.0,9, -999.000,9, -999.000,9,  300.1, 14.1609
      06MT32_1,  ISS2,   170,  1,     13,     13,2,19950407,0952, 12.9417,  58.4430, 4398,    395.5,  12.8688,  35.5337,2,-999.0000,9,     23.2,   -999.0,9, -999.000,9,    0.237,2,  396.6, 12.8136
      06MT32_1,  ISS2,   170,  1,     12,     12,2,19950407,0952, 12.9417,  58.4430, 4398,    489.4,  12.4221,  35.6053,2,-999.0000,9,     18.2,   -999.0,9, -999.000,9,    0.171,2,  490.6, 12.3557
      06MT32_1,  ISS2,   170,  1,     11,     11,2,19950407,0952, 12.9417,  58.4430, 4398,    677.4,  11.2645,  35.5787,2,-999.0000,9,     17.8,   -999.0,9, -999.000,9,    0.103,2,  678.9, 11.1774
      06MT32_1,  ISS2,   170,  1,     10,     10,2,19950407,0952, 12.9417,  58.4430, 4398,    764.0,  10.7002,  35.5995,2,-999.0000,9,     15.9,      0.0,4, -999.000,9,    0.065,2,  765.6, 10.6047
      06MT32_1,  ISS2,   170,  1,      9,      9,2,19950407,0952, 12.9417,  58.4430, 4398,    867.9,  10.0975,  35.5450,2,-999.0000,9,     16.1,      0.0,4, -999.000,9,    0.053,2,  869.5,  9.9922
      06MT32_1,  ISS2,   170,  1,      8,      8,2,19950407,0952, 12.9417,  58.4430, 4398,    955.7,   9.1517,  35.4311,2,-999.0000,9,     18.9,     16.1,2, -999.000,9,    0.051,2,  957.4,  9.0419
      06MT32_1,  ISS2,   170,  1,      7,      7,2,19950407,0952, 12.9417,  58.4430, 4398,   1513.4,   4.8793,  34.9525,2,  34.9510,2,     67.0,     66.9,2, -999.000,9, -999.000,9, 1514.8,  4.7480
      06MT32_1,  ISS2,   170,  1,      6,      6,2,19950407,0952, 12.9417,  58.4430, 4398,   1992.8,   3.2317,  34.8419,2,  34.8393,2,    101.3,     99.4,2, -999.000,9, -999.000,9, 1993.4,  3.0766
      06MT32_1,  ISS2,   170,  1,      5,      5,2,19950407,0952, 12.9417,  58.4430, 4398,   2523.7,   2.2612,  34.7778,2,  34.7760,2,    124.0,    121.3,2, -999.000,9, -999.000,9, 2523.0,  2.0732
      06MT32_1,  ISS2,   170,  1,      4,      4,2,19950407,0952, 12.9417,  58.4430, 4398,   3001.0,   1.8836,  34.7527,2,  34.7480,2,    130.2,    135.6,3, -999.000,9, -999.000,9, 2998.9,  1.6578
      06MT32_1,  ISS2,   170,  1,      3,      3,2,19950407,0952, 12.9417,  58.4430, 4398,   3500.0,   1.7657,  34.7429,2,  34.7404,2,    142.4,   -999.0,9, -999.000,9, -999.000,9, 3496.4,  1.4925
      06MT32_1,  ISS2,   170,  1,      2,      2,2,19950407,0952, 12.9417,  58.4430, 4398,   4001.1,   1.6952,  34.7355,2,  34.7362,2,    154.0,    154.7,2, -999.000,9, -999.000,9, 3996.1,  1.3704
      06MT32_1,  ISS2,   170,  1,      1,      1,2,19950407,0952, 12.9417,  58.4430, 4398,   4376.9,   1.5848,  34.7298,2,  34.7292,2,    170.0,    168.1,2, -999.000,9, -999.000,9, 4371.0,  1.2211
      06MT32_1,  ISS2,   171,  1,     19,     19,2,19950407,1530, 12.7142,  58.1988, 4674,      8.6,  27.7948,  36.4155,2,  36.4224,2,    188.3,   -999.0,9, -999.000,9,    0.983,2,    8.6, 27.8032
      06MT32_1,  ISS2,   171,  1,     18,     18,2,19950407,1530, 12.7142,  58.1988, 4674,     78.8,  25.9216,  36.4062,2,  36.3985,2,    182.4,   -999.0,9, -999.000,9,    0.973,2,   79.1, 25.9072
      06MT32_1,  ISS2,   171,  1,     17,     17,2,19950407,1530, 12.7142,  58.1988, 4674,    149.4,  19.5262,  35.6354,2,-999.0000,9,     42.0,   -999.0,9, -999.000,9,    0.656,2,  149.9, 19.5063
      06MT32_1,  ISS2,   171,  1,     16,     16,2,19950407,1530, 12.7142,  58.1988, 4674,    248.5,  15.5649,  35.6450,2,-999.0000,9,     21.8,     20.3,2, -999.000,9,    0.458,2,  249.2, 15.5365
      06MT32_1,  ISS2,   171,  1,     15,     15,2,19950407,1530, 12.7142,  58.1988, 4674,    348.6,  13.6888,  35.5961,2,-999.0000,9,     23.1,   -999.0,9, -999.000,9,    0.275,2,  349.6, 13.6097
      06MT32_1,  ISS2,   171,  1,     14,     14,2,19950407,1530, 12.7142,  58.1988, 4674,    458.1,  12.3057,  35.5319,2,-999.0000,9,     22.1,   -999.0,9, -999.000,9, -999.000,9,  459.3, 12.2440
      06MT32_1,  ISS2,   171,  1,     13,     13,2,19950407,1530, 12.7142,  58.1988, 4674,    554.6,  11.7859,  35.5626,2,-999.0000,9,     19.1,   -999.0,9, -999.000,9,    0.136,2,  555.9, 11.7130
      06MT32_1,  ISS2,   171,  1,     12,     12,2,19950407,1530, 12.7142,  58.1988, 4674,    656.0,  11.3449,  35.5971,2,-999.0000,9,     14.0,      0.0,4, -999.000,9,    0.096,2,  657.5, 11.2603
      06MT32_1,  ISS2,   171,  1,     11,     11,2,19950407,1530, 12.7142,  58.1988, 4674,    810.1,  10.4770,  35.5777,2,-999.0000,9,     16.2,      0.0,4, -999.000,9,    0.083,2,  811.7, 10.3768
      06MT32_1,  ISS2,   171,  1,     10,     10,2,19950407,1530, 12.7142,  58.1988, 4674,    921.4,   9.8089,  35.5398,2,-999.0000,9,     15.9,      0.0,4, -999.000,9,    0.042,2,  923.0,  9.6988
      06MT32_1,  ISS2,   171,  1,      9,      9,2,19950407,1530, 12.7142,  58.1988, 4674,   1027.6,   8.9575,  35.4394,2,  35.4342,2,     18.8,     18.7,2, -999.000,9,    0.037,2, 1029.3,  8.8404
      06MT32_1,  ISS2,   171,  1,      8,      8,2,19950407,1530, 12.7142,  58.1988, 4674,   1490.8,   5.2019,  35.0052,2,  34.9976,2,     58.1,     58.2,2, -999.000,9, -999.000,9, 1492.2,  5.0692
      06MT32_1,  ISS2,   171,  1,      7,      7,2,19950407,1530, 12.7142,  58.1988, 4674,   1983.9,   3.2541,  34.8512,2,  34.8523,2,     94.1,     92.9,2, -999.000,9, -999.000,9, 1984.5,  3.0995
      06MT32_1,  ISS2,   171,  1,      6,      6,2,19950407,1530, 12.7142,  58.1988, 4674,   2479.0,   2.1683,  34.7743,2,  34.7736,2,    118.2,    119.3,2, -999.000,9, -999.000,9, 2478.4,  1.9862
      06MT32_1,  ISS2,   171,  1,      5,      5,2,19950407,1530, 12.7142,  58.1988, 4674,   2985.0,   1.8726,  34.7534,2,  34.7512,2,    131.2,    130.4,2, -999.000,9, -999.000,9, 2983.0,  1.6486
      06MT32_1,  ISS2,   171,  1,      4,      4,2,19950407,1530, 12.7142,  58.1988, 4674,   3503.0,   1.7572,  34.7421,2,  34.7411,2,    142.8,    140.9,2, -999.000,9, -999.000,9, 3499.4,  1.4839
      06MT32_1,  ISS2,   171,  1,      3,      3,2,19950407,1530, 12.7142,  58.1988, 4674,   4085.2,   1.6882,  34.7361,2,  34.7364,2,    156.3,    154.1,2, -999.000,9, -999.000,9, 4080.0,  1.3543
      06MT32_1,  ISS2,   171,  1,      2,      2,2,19950407,1530, 12.7142,  58.1988, 4674,   4505.2,   1.5679,  34.7284,2,  34.7275,2,    172.2,    170.2,2, -999.000,9, -999.000,9, 4499.0,  1.1900
      06MT32_1,  ISS2,   171,  1,      1,      1,2,19950407,1530, 12.7142,  58.1988, 4674,   4636.0,   1.5764,  34.7275,2,  34.7278,2,    173.8,    185.2,4, -999.000,9, -999.000,9, 4629.5,  1.1830