BOTTLE,20220930CCHSIOAMB
EXPOCODE,SECT_ID,STNNBR,CASTNO,SAMPNO,BTLNBR,BTLNBR_FLAG_W,DATE,TIME,LATITUDE,LONGITUDE,DEPTH,CTDPRS,CTDTMP,CTDSAL,CTDSAL_FLAG_W,SALNTY,SALNTY_FLAG_W,CTDOXY,OXYGEN,OXYGEN_FLAG_W,CFC-11,CFC-11_FLAG_W,CFC-12,CFC-12_FLAG_W,CTDRAW,THETA
,,,,,,,,,,,,DBAR,DEG C,PSS-78,,PSS-78,,UMOL/KG,UMOL/KG,,PMOL/KG,,PMOL/KG,,,DEG C
      06MT32_1,  ISS2,   209,  1,     20,     20,2,19950422,1949, 20.0000,  61.5010, 3610,     10.1,  27.5572,  36.5161,2,  36.5163,2,    195.5,   -999.0,9, -999.000,9,    1.016,2,   10.1, 27.5758
      06MT32_1,  ISS2,   209,  1,     19,     19,2,19950422,1949, 20.0000,  61.5010, 3610,     60.0,  24.3156,  36.4208,2,-999.0000,9,    166.8,   -999.0,9, -999.000,9,    1.047,2,   60.2, 24.3042
      06MT32_1,  ISS2,   209,  1,     18,     18,2,19950422,1949, 20.0000,  61.5010, 3610,    120.5,  22.8637,  36.4722,2,-999.0000,9,    105.3,   -999.0,9, -999.000,9,    0.959,2,  120.9, 22.8368
      06MT32_1,  ISS2,   209,  1,     17,     17,2,19950422,1949, 20.0000,  61.5010, 3610,    199.9,  17.9786,  35.8854,2,-999.0000,9,      2.3,      2.9,2, -999.000,9,    0.506,2,  200.5, 17.9415
      06MT32_1,  ISS2,   209,  1,     16,     16,2,19950422,1949, 20.0000,  61.5010, 3610,    249.7,  17.0441,  36.1011,2,-999.0000,9,      3.1,      0.0,2, -999.000,9,    0.430,2,  250.4, 17.0027
      06MT32_1,  ISS2,   209,  1,     15,     15,2,19950422,1949, 20.0000,  61.5010, 3610,    349.7,  15.3739,  36.1688,2,-999.0000,9,      2.7,      0.0,2, -999.000,9,    0.316,2,  350.7, 15.3141
      06MT32_1,  ISS2,   209,  1,     14,     14,2,19950422,1949, 20.0000,  61.5010, 3610,    399.1,  14.2596,  35.9721,2,  35.9649,2,      1.7,      0.6,2, -999.000,9,    0.219,2,  400.2, 14.2006
      06MT32_1,  ISS2,   209,  1,     13,     13,2,19950422,1949, 20.0000,  61.5010, 3610,    499.0,  12.9739,  35.8104,2,-999.0000,9,      1.8,      0.0,2, -999.000,9,    0.123,2,  500.3, 12.9041
      06MT32_1,  ISS2,   209,  1,     12,     12,2,19950422,1949, 20.0000,  61.5010, 3610,    585.1,  12.0026,  35.6910,2,-999.0000,9,      1.9,      0.0,2, -999.000,9,    0.072,2,  586.5, 11.9246
      06MT32_1,  ISS2,   209,  1,     11,     11,2,19950422,1949, 20.0000,  61.5010, 3610,    681.4,  11.2830,  35.6291,2,  35.6249,2,      2.1,      0.5,2, -999.000,9,    0.041,2,  682.9, 11.1953
      06MT32_1,  ISS2,   209,  1,     10,     10,2,19950422,1949, 20.0000,  61.5010, 3610,    780.9,  10.4625,  35.5725,2,-999.0000,9,      3.3,      0.0,2, -999.000,9,    0.035,2,  782.5, 10.3661
      06MT32_1,  ISS2,   209,  1,      9,      9,2,19950422,1949, 20.0000,  61.5010, 3610,    899.4,   9.5252,  35.4775,2,-999.0000,9,      2.4,      0.0,2, -999.000,9,    0.018,2,  901.0,  9.4197
      06MT32_1,  ISS2,   209,  1,      8,      8,2,19950422,1949, 20.0000,  61.5010, 3610,   1008.7,   8.8641,  35.4210,2,  35.4109,4,      5.6,      3.6,2, -999.000,9,    0.020,2, 1010.4,  8.7500
      06MT32_1,  ISS2,   209,  1,      7,      7,2,19950422,1949, 20.0000,  61.5010, 3610,   1195.4,   7.5069,  35.2653,2,-999.0000,9,      9.0,      0.0,4, -999.000,9,    0.014,2, 1197.0,  7.3822
      06MT32_1,  ISS2,   209,  1,      6,      6,2,19950422,1949, 20.0000,  61.5010, 3610,   1476.1,   5.5959,  35.0646,2,  35.0644,2,     35.2,     35.5,2, -999.000,9,    0.012,2, 1477.5,  5.4602
      06MT32_1,  ISS2,   209,  1,      5,      5,2,19950422,1949, 20.0000,  61.5010, 3610,   2009.6,   3.2457,  34.8570,2,  34.8532,2,     79.4,     80.3,2, -999.000,9, -999.000,9, 2010.1,  3.0888
      06MT32_1,  ISS2,   209,  1,      4,      4,2,19950422,1949, 20.0000,  61.5010, 3610,   2520.2,   2.2682,  34.7805,2,  34.7785,2,    104.6,    106.8,2, -999.000,9, -999.000,9, 2519.5,  2.0804
      06MT32_1,  ISS2,   209,  1,      3,      3,2,19950422,1949, 20.0000,  61.5010, 3610,   3001.1,   1.8631,  34.7510,2,  34.7500,2,    116.5,   -999.0,9, -999.000,9, -999.000,9, 2999.0,  1.6377
      06MT32_1,  ISS2,   209,  1,      2,      2,2,19950422,1949, 20.0000,  61.5010, 3610,   3504.4,   1.7202,  34.7401,2,  34.7388,2,    124.2,    122.3,2, -999.000,9, -999.000,9, 3500.8,  1.4477
      06MT32_1,  ISS2,   209,  1,      1,      1,2,19950422,1949, 20.0000,  61.5010, 3610,   3583.3,   1.7147,  34.7394,2,-999.0000,9,    122.9,   -999.0,9, -999.000,9, -999.000,9, 3579.5,  1.4341
      06MT32_1,  ISS2,   210,  1,     19,     20,2,19950423,0857, 21.7468,  60.5457, 3084,     10.4,  27.1357,  36.4729,2,  36.4733,2,    199.3,    205.5,3, -999.000,9,    1.058,2,   10.4, 27.1328
      06MT32_1,  ISS2,   210,  1,     18,     19,2,19950423,0857, 21.7468,  60.5457, 3084,     49.1,  24.8224,  36.3275,2,-999.0000,9,    197.9,   -999.0,9, -999.000,9,    1.058,2,   49.3, 24.8153
      06MT32_1,  ISS2,   210,  1,     17,     18,2,19950423,0857, 21.7468,  60.5457, 3084,    109.0,  21.7523,  36.0793,2,-999.0000,9,     43.6,   -999.0,9, -999.000,9,    0.855,2,  109.4, 21.7048
      06MT32_1,  ISS2,   210,  1,     16,     17,2,19950423,0857, 21.7468,  60.5457, 3084,    193.5,  17.8673,  35.8467,2,-999.0000,9,     13.2,      8.8,3, -999.000,9,    0.545,2,  194.1, 17.8348
      06MT32_1,  ISS2,   210,  1,     15,     16,2,19950423,0857, 21.7468,  60.5457, 3084,    250.1,  16.9884,  36.0739,2,-999.0000,9,      3.1,      0.0,2, -999.000,9,    0.431,2,  250.8, 16.9426
      06MT32_1,  ISS2,   210,  1,     14,     15,2,19950423,0857, 21.7468,  60.5457, 3084,    298.9,  15.2568,  35.8784,2,-999.0000,9,      4.9,      3.1,2, -999.000,9,    0.353,2,  299.8, 15.2102
      06MT32_1,  ISS2,   210,  1,     13,     14,2,19950423,0857, 21.7468,  60.5457, 3084,    349.1,  14.5895,  35.8972,2,-999.0000,9,      3.6,      0.0,2, -999.000,9,    0.296,2,  350.1, 14.5364
      06MT32_1,  ISS2,   210,  1,     12,     13,2,19950423,0857, 21.7468,  60.5457, 3084,    399.7,  13.7287,  35.8146,2,  35.8094,2,      3.8,      2.3,2, -999.000,9,    0.217,2,  400.8, 13.6751
      06MT32_1,  ISS2,   210,  1,     11,     12,2,19950423,0857, 21.7468,  60.5457, 3084,    498.3,  12.6768,  35.6908,2,-999.0000,9,      8.3,      8.6,2, -999.000,9,    0.152,2,  499.6, 12.6082
      06MT32_1,  ISS2,   210,  1,     10,     11,2,19950423,0857, 21.7468,  60.5457, 3084,    611.6,  12.0980,  35.7087,2,-999.0000,9,      2.0,      0.0,2, -999.000,9,    0.079,2,  613.0, 12.0159
      06MT32_1,  ISS2,   210,  1,      9,     10,2,19950423,0857, 21.7468,  60.5457, 3084,    704.1,  11.4418,  35.6465,2,  35.6447,2,      2.1,      2.1,2, -999.000,9,    0.051,2,  705.6, 11.3503
      06MT32_1,  ISS2,   210,  1,      8,      9,2,19950423,0857, 21.7468,  60.5457, 3084,    803.3,  10.5704,  35.5841,2,-999.0000,9,      3.9,      0.0,2, -999.000,9,    0.043,2,  804.9, 10.4705
      06MT32_1,  ISS2,   210,  1,      7,      8,2,19950423,0857, 21.7468,  60.5457, 3084,    899.8,   9.7644,  35.5083,2,-999.0000,9,      4.1,      0.0,2, -999.000,9,    0.029,2,  901.4,  9.6573
      06MT32_1,  ISS2,   210,  1,      6,      7,2,19950423,0857, 21.7468,  60.5457, 3084,    992.4,   9.1772,  35.4469,2,  35.4415,2,      3.7,      2.7,2, -999.000,9,    0.017,2,  994.1,  9.0627
      06MT32_1,  ISS2,   210,  1,      5,      6,2,19950423,0857, 21.7468,  60.5457, 3084,   1191.2,   7.6912,  35.2886,2,-999.0000,9,     12.3,      0.0,4, -999.000,9,    0.019,2, 1192.8,  7.5654
      06MT32_1,  ISS2,   210,  1,      4,      5,2,19950423,0857, 21.7468,  60.5457, 3084,   1493.4,   5.7372,  35.0822,2,  35.0803,2,     27.9,     28.1,2, -999.000,9,    0.011,2, 1494.8,  5.5982
      06MT32_1,  ISS2,   210,  1,      3,      4,2,19950423,0857, 21.7468,  60.5457, 3084,   1988.8,   3.1962,  34.8537,2,  34.8534,2,     77.2,     77.0,2, -999.000,9, -999.000,9, 1989.4,  3.0420
      06MT32_1,  ISS2,   210,  1,      2,      3,2,19950423,0857, 21.7468,  60.5457, 3084,   2496.6,   2.1493,  34.7732,2,  34.7710,2,    103.6,    103.9,2, -999.000,9, -999.000,9, 2496.0,  1.9659
      06MT32_1,  ISS2,   210,  1,      1,      1,2,19950423,0857, 21.7468,  60.5457, 3084,   3021.1,   1.8021,  34.7480,2,-999.0000,9,    109.8,   -999.0,9, -999.000,9, -999.000,9, 3019.0,  1.5761
      06MT32_1,  ISS2,   211,  1,      9,      9,2,19950423,2216, 23.0970,  59.1097,  653,     13.4,  24.2110,  36.5441,2,  36.5396,2,    196.4,   -999.0,9, -999.000,9,    1.068,2,   13.4, 24.2082
      06MT32_1,  ISS2,   211,  1,      8,      8,2,19950423,2216, 23.0970,  59.1097,  653,     59.9,  23.1770,  36.4495,2,-999.0000,9,    120.7,   -999.0,9, -999.000,9,    0.929,2,   60.1, 23.1931
      06MT32_1,  ISS2,   211,  1,      7,      7,2,19950423,2216, 23.0970,  59.1097,  653,    140.2,  19.4584,  36.1416,2,-999.0000,9,      5.3,      4.8,2, -999.000,9,    0.634,2,  140.6, 19.4320
      06MT32_1,  ISS2,   211,  1,      6,      6,2,19950423,2216, 23.0970,  59.1097,  653,    218.7,  20.5640,  37.1886,2,-999.0000,9,     53.4,     56.2,2, -999.000,9,    0.720,2,  219.4, 20.5269
      06MT32_1,  ISS2,   211,  1,      5,      5,2,19950423,2216, 23.0970,  59.1097,  653,    249.4,  19.8074,  37.0366,2,-999.0000,9,     46.1,     41.1,3, -999.000,9,    0.699,2,  250.1, 19.7565
      06MT32_1,  ISS2,   211,  1,      4,      4,2,19950423,2216, 23.0970,  59.1097,  653,    299.3,  17.2291,  36.4503,2,-999.0000,9,     11.8,      6.8,3, -999.000,9,    0.450,2,  300.2, 17.1835
      06MT32_1,  ISS2,   211,  1,      3,      3,2,19950423,2216, 23.0970,  59.1097,  653,    399.7,  14.3906,  36.0089,2,-999.0000,9,      2.0,      0.0,2, -999.000,9, -999.000,9,  400.8, 14.3277
      06MT32_1,  ISS2,   211,  1,      2,      2,2,19950423,2216, 23.0970,  59.1097,  653,    495.3,  13.1687,  35.8497,2,-999.0000,9,      1.8,      0.1,2, -999.000,9,    0.140,2,  496.5, 13.0987
      06MT32_1,  ISS2,   211,  1,      1,      1,2,19950423,2216, 23.0970,  59.1097,  653,    572.8,  12.2013,  35.7260,2,  35.7219,2,      1.9,      0.5,2, -999.000,9,    0.079,2,  574.2, 12.1241
      06MT32_1,  ISS2,   213,  1,     17,     17,2,19950424,0247, 23.2872,  59.3330, 2472,      9.9,  26.7388,  36.6871,2,  36.6848,2,    196.3,    209.7,4, -999.000,9,    1.057,2,    9.9, 26.7407
      06MT32_1,  ISS2,   213,  1,     16,     16,2,19950424,0247, 23.2872,  59.3330, 2472,     59.8,  23.7566,  36.5888,2,-999.0000,9,    152.9,   -999.0,9, -999.000,9, -999.000,9,   60.0, 23.7486
      06MT32_1,  ISS2,   213,  1,     15,     15,2,19950424,0247, 23.2872,  59.3330, 2472,    139.8,  20.6957,  36.1363,2,-999.0000,9,     11.4,      5.0,3, -999.000,9,    0.758,2,  140.2, 20.6682
      06MT32_1,  ISS2,   213,  1,     14,     14,2,19950424,0247, 23.2872,  59.3330, 2472,    219.6,  17.7301,  36.1465,2,-999.0000,9,      2.0,      0.6,2, -999.000,9,    0.469,2,  220.3, 17.7044
      06MT32_1,  ISS2,   213,  1,     13,     13,2,19950424,0247, 23.2872,  59.3330, 2472,    259.3,  17.3953,  36.3130,2,-999.0000,9,      3.5,      2.8,2, -999.000,9,    0.475,2,  260.1, 17.3482
      06MT32_1,  ISS2,   213,  1,     12,     12,2,19950424,0247, 23.2872,  59.3330, 2472,    299.3,  16.2325,  36.2121,2,-999.0000,9,      2.2,      0.0,2, -999.000,9,    0.372,2,  300.2, 16.1785
      06MT32_1,  ISS2,   213,  1,     11,     11,2,19950424,0247, 23.2872,  59.3330, 2472,    399.5,  14.3741,  35.9817,2,-999.0000,9,      1.6,      0.9,2, -999.000,9,    0.224,2,  400.6, 14.3168
      06MT32_1,  ISS2,   213,  1,     10,     10,2,19950424,0247, 23.2872,  59.3330, 2472,    496.3,  13.1537,  35.8353,2,-999.0000,9,      1.8,      0.0,2, -999.000,9,    0.134,2,  497.5, 13.0836
      06MT32_1,  ISS2,   213,  1,      9,      9,2,19950424,0247, 23.2872,  59.3330, 2472,    607.4,  12.1334,  35.7157,2,-999.0000,9,      1.5,      0.0,2, -999.000,9,    0.064,2,  608.8, 12.0517
      06MT32_1,  ISS2,   213,  1,      8,      8,2,19950424,0247, 23.2872,  59.3330, 2472,    687.7,  11.4747,  35.6485,2,  35.6411,2,      1.5,      0.1,2, -999.000,9,    0.046,2,  689.2, 11.3852
      06MT32_1,  ISS2,   213,  1,      7,      7,2,19950424,0247, 23.2872,  59.3330, 2472,    799.0,  10.4950,  35.5661,2,-999.0000,9,      1.7,      0.0,2, -999.000,9,    0.025,2,  800.6, 10.3961
      06MT32_1,  ISS2,   213,  1,      6,      6,2,19950424,0247, 23.2872,  59.3330, 2472,    898.5,   9.7035,  35.4945,2,-999.0000,9,      1.2,      0.0,2, -999.000,9,    0.017,2,  900.1,  9.5969
      06MT32_1,  ISS2,   213,  1,      5,      5,2,19950424,0247, 23.2872,  59.3330, 2472,    995.9,   8.9780,  35.4238,2,  35.4170,2,      2.5,      1.7,2, -999.000,9,    0.009,2,  997.6,  8.8646
      06MT32_1,  ISS2,   213,  1,      4,      4,2,19950424,0247, 23.2872,  59.3330, 2472,   1193.9,   7.6282,  35.2802,2,-999.0000,9,      6.2,      0.0,3, -999.000,9,    0.006,2, 1195.5,  7.5026
      06MT32_1,  ISS2,   213,  1,      3,      3,2,19950424,0247, 23.2872,  59.3330, 2472,   1498.1,   5.5145,  35.0642,2,  35.0571,2,     30.5,     31.1,2, -999.000,9, -999.000,9, 1499.5,  5.3775
      06MT32_1,  ISS2,   213,  1,      2,      2,2,19950424,0247, 23.2872,  59.3330, 2472,   2009.8,   3.2866,  34.8652,2,-999.0000,9,     75.3,   -999.0,9, -999.000,9, -999.000,9, 2010.3,  3.1291
      06MT32_1,  ISS2,   213,  1,      1,      1,2,19950424,0247, 23.2872,  59.3330, 2472,   2400.1,   2.3346,  34.7905,2,  34.7838,2,     98.3,     98.0,2, -999.000,9, -999.000,9, 2399.7,  2.1567
      06MT32_1,  ISS2,   215,  1,     17,     20,2,19950424,0844, 23.5368,  59.5880, 3384,     10.2,  26.3703,  36.6847,2,  36.6909,2,    193.9,   -999.0,9, -999.000,9, -999.000,9,   10.2, 26.3571
      06MT32_1,  ISS2,   215,  1,     16,     19,2,19950424,0844, 23.5368,  59.5880, 3384,     59.8,  23.6794,  36.5629,2,-999.0000,9,    149.1,   -999.0,9, -999.000,9,    1.045,2,   60.0, 23.6710
      06MT32_1,  ISS2,   215,  1,     15,     18,2,19950424,0844, 23.5368,  59.5880, 3384,    140.1,  22.2931,  36.3221,2,-999.0000,9,     80.5,   -999.0,9, -999.000,9, -999.000,9,  140.5, 22.2731
      06MT32_1,  ISS2,   215,  1,     14,     17,2,19950424,0844, 23.5368,  59.5880, 3384,    179.5,  19.4291,  36.0209,2,-999.0000,9,      2.2,      0.2,2, -999.000,9,    0.616,2,  180.1, 19.3925
      06MT32_1,  ISS2,   215,  1,     13,     16,2,19950424,0844, 23.5368,  59.5880, 3384,    299.5,  16.6833,  36.3075,2,  36.2925,4,      3.2,      1.5,2, -999.000,9,    0.401,2,  300.4, 16.6273
      06MT32_1,  ISS2,   215,  1,     12,     15,2,19950424,0844, 23.5368,  59.5880, 3384,    398.9,  14.6189,  36.0211,2,-999.0000,9,      2.0,      0.0,2, -999.000,9,    0.232,2,  400.0, 14.5563
      06MT32_1,  ISS2,   215,  1,     11,     14,2,19950424,0844, 23.5368,  59.5880, 3384,    501.5,  13.3370,  35.8585,2,-999.0000,9,      1.8,      0.0,2, -999.000,9,    0.127,2,  502.8, 13.2655
      06MT32_1,  ISS2,   215,  1,     10,     13,2,19950424,0844, 23.5368,  59.5880, 3384,    602.0,  12.3981,  35.7491,2,  35.7430,2,      1.9,      0.0,2, -999.000,9,    0.081,2,  603.4, 12.3160
      06MT32_1,  ISS2,   215,  1,      9,     12,2,19950424,0844, 23.5368,  59.5880, 3384,    699.7,  11.5312,  35.6552,2,-999.0000,9,      1.5,      0.0,2, -999.000,9,    0.043,2,  701.2, 11.4398
      06MT32_1,  ISS2,   215,  1,      8,     11,2,19950424,0844, 23.5368,  59.5880, 3384,    803.4,  10.7382,  35.5850,2,-999.0000,9,      1.6,      0.0,2, -999.000,9,    0.028,2,  805.0, 10.6374
      06MT32_1,  ISS2,   215,  1,      7,     10,2,19950424,0844, 23.5368,  59.5880, 3384,    896.0,   9.9802,  35.5190,2,-999.0000,9,      1.7,      0.0,2, -999.000,9,    0.013,2,  897.6,  9.8722
      06MT32_1,  ISS2,   215,  1,      6,      9,2,19950424,0844, 23.5368,  59.5880, 3384,    998.7,   9.1947,  35.4451,2,  35.4411,2,      2.4,      1.1,2, -999.000,9,    0.006,2, 1000.4,  9.0794
      06MT32_1,  ISS2,   215,  1,      5,      8,2,19950424,0844, 23.5368,  59.5880, 3384,   1501.0,   5.6847,  35.0806,2,  35.0772,2,     27.9,     28.8,2, -999.000,9, -999.000,9, 1502.4,  5.5455
      06MT32_1,  ISS2,   215,  1,      4,      7,2,19950424,0844, 23.5368,  59.5880, 3384,   2008.3,   3.2302,  34.8593,2,  34.8552,2,     76.5,     76.1,2, -999.000,9, -999.000,9, 2008.8,  3.0737
      06MT32_1,  ISS2,   215,  1,      3,      6,2,19950424,0844, 23.5368,  59.5880, 3384,   2501.3,   2.2602,  34.7823,2,  34.7787,2,    102.1,    100.6,2, -999.000,9, -999.000,9, 2500.6,  2.0743
      06MT32_1,  ISS2,   215,  1,      2,      2,2,19950424,0844, 23.5368,  59.5880, 3384,   3004.3,   1.8516,  34.7523,2,  34.7476,2,    112.8,    109.8,2, -999.000,9, -999.000,9, 3002.2,  1.6262
      06MT32_1,  ISS2,   215,  1,      1,      1,2,19950424,0844, 23.5368,  59.5880, 3384,   3307.0,   1.7941,  34.7472,2,  34.7425,2,    105.5,    103.6,2, -999.000,9, -999.000,9, 3304.0,  1.5399
      06MT32_1,  ISS2,   216,  1,     13,     15,2,19950424,1330, 23.8855,  59.1218, 3350,     10.4,  26.3051,  36.6165,2,-999.0000,5,    214.2,   -999.0,9, -999.000,9,    1.054,2,   10.4, 26.3109
      06MT32_1,  ISS2,   216,  1,     12,     14,2,19950424,1330, 23.8855,  59.1218, 3350,     59.5,  23.6742,  36.5306,2,  36.5282,2,    155.5,   -999.0,9, -999.000,9,    1.026,2,   59.7, 23.6654
      06MT32_1,  ISS2,   216,  1,     11,     13,2,19950424,1330, 23.8855,  59.1218, 3350,    139.5,  20.4807,  36.2794,2,-999.0000,9,     10.1,      0.0,4, -999.000,9,    0.712,2,  139.9, 20.4591
      06MT32_1,  ISS2,   216,  1,     10,     12,2,19950424,1330, 23.8855,  59.1218, 3350,    199.4,  19.6168,  36.5722,2,-999.0000,9,     20.2,     20.4,2, -999.000,9,    0.646,2,  200.0, 19.5831
      06MT32_1,  ISS2,   216,  1,      9,     10,2,19950424,1330, 23.8855,  59.1218, 3350,    249.4,  19.4461,  36.9127,2,-999.0000,9,     29.1,   -999.0,9, -999.000,9,    0.658,2,  250.1, 19.3938
      06MT32_1,  ISS2,   216,  1,      8,      9,2,19950424,1330, 23.8855,  59.1218, 3350,    279.5,  18.5967,  36.8696,2,-999.0000,9,     24.4,   -999.0,9, -999.000,9,    0.581,2,  280.3, 18.5336
      06MT32_1,  ISS2,   216,  1,      7,      8,2,19950424,1330, 23.8855,  59.1218, 3350,    299.5,  17.4823,  36.6362,2,-999.0000,9,     14.0,     10.2,2, -999.000,9,    0.499,2,  300.4, 17.4271
      06MT32_1,  ISS2,   216,  1,      6,      7,2,19950424,1330, 23.8855,  59.1218, 3350,    399.1,  14.8084,  36.1380,2,-999.0000,9,      2.8,      0.0,2, -999.000,9,    0.273,2,  400.2, 14.7592
      06MT32_1,  ISS2,   216,  1,      5,      6,2,19950424,1330, 23.8855,  59.1218, 3350,    503.3,  13.1123,  35.8422,2,-999.0000,9,      1.8,      0.0,2, -999.000,9,    0.128,2,  504.6, 13.0414
      06MT32_1,  ISS2,   216,  1,      4,      5,2,19950424,1330, 23.8855,  59.1218, 3350,    600.1,  11.9347,  35.6961,2,  35.6905,2,      1.9,      0.7,2, -999.000,9,    0.061,2,  601.5, 11.8549
      06MT32_1,  ISS2,   216,  1,      3,      4,2,19950424,1330, 23.8855,  59.1218, 3350,    798.4,  10.3582,  35.5532,2,-999.0000,9,      1.7,      0.0,2, -999.000,9,    0.018,2,  800.0, 10.2602
      06MT32_1,  ISS2,   216,  1,      2,      3,2,19950424,1330, 23.8855,  59.1218, 3350,   1000.8,   8.8656,  35.4114,2,-999.0000,9,      2.5,      0.0,2, -999.000,9,    0.016,2, 1002.5,  8.7524
      06MT32_1,  ISS2,   216,  1,      1,      1,2,19950424,1330, 23.8855,  59.1218, 3350,   1199.1,   7.4989,  35.2647,2,-999.0000,9,      7.6,      0.0,3, -999.000,9, -999.000,9, 1200.7,  7.3739