BOTTLE,20220930CCHSIOAMB
EXPOCODE,SECT_ID,STNNBR,CASTNO,BTLNBR,BTLNBR_FLAG_W,DATE,TIME,LATITUDE,LONGITUDE,DEPTH,CTDPRS,CTDTMP,CTDSAL,CTDSAL_FLAG_W,CTDOXY,CTDOXY_FLAG_W,OXYGEN,OXYGEN_FLAG_W,SILCAT,SILCAT_FLAG_W,NITRAT,NITRAT_FLAG_W,PHSPHT,PHSPHT_FLAG_W,ALKALI,ALKALI_FLAG_W,PH_SWS,PH_SWS_FLAG_W,PH_TMP,THETA,BTL_DATE,BTL_TIME
,,,,,,,,,,METERS,DBAR,ITS-90,PSS-78,,UMOL/KG,,UMOL/KG,,UMOL/KG,,UMOL/KG,,UMOL/KG,,UMOL/KG,,,,DEG C,DEG C,,
  29AH20110128,   A05,   110,  1,      1,2,20110301,1656, 24.5008, -65.6822, 5601,   5591.4,   2.0933,  34.8517,2,    250.0,2,    250.5,2,  -999.00,9,  -999.00,9,  -999.00,9,   2345.4,2,   7.7067,2,    25.00,   1.5617,20110301,1656
  29AH20110128,   A05,   110,  1,      2,2,20110301,1656, 24.5008, -65.6822, 5601,   5000.7,   2.1474,  34.8686,2,    255.2,2,    255.9,2,  -999.00,9,  -999.00,9,  -999.00,9,   2342.0,2,   7.7132,2,    25.00,   1.6898,20110301,1708
  29AH20110128,   A05,   110,  1,      3,2,20110301,1656, 24.5008, -65.6822, 5601,   4500.4,   2.2694,  34.8903,2,    262.9,2,    264.2,2,  -999.00,9,  -999.00,9,  -999.00,9,   2333.8,2,   7.7245,2,    25.00,   1.8691,20110301,1718
  29AH20110128,   A05,   110,  1,      4,2,20110301,1656, 24.5008, -65.6822, 5601,   3999.8,   2.3135,  34.8990,2,    265.7,2,    265.9,2,  -999.00,9,  -999.00,9,  -999.00,9,   2328.8,2,   7.7262,2,    25.00,   1.9704,20110301,1728
  29AH20110128,   A05,   110,  1,      5,2,20110301,1656, 24.5008, -65.6822, 5601,   3498.8,   2.4513,  34.9111,2,    264.0,2,    264.9,2,  -999.00,9,  -999.00,9,  -999.00,9,   2329.2,2,   7.7303,2,    25.00,   2.1602,20110301,1737
  29AH20110128,   A05,   110,  1,      6,2,20110301,1656, 24.5008, -65.6822, 5601,   2999.3,   2.7231,  34.9323,2,    257.8,2,    259.1,2,  -999.00,9,  -999.00,9,  -999.00,9,   2329.1,2,   7.7328,2,    25.00,   2.4784,20110301,1747
  29AH20110128,   A05,   110,  1,      7,2,20110301,1656, 24.5008, -65.6822, 5601,   2501.0,   3.0137,  34.9526,2,    257.1,2,    259.2,2,  -999.00,9,  -999.00,9,  -999.00,9,   2325.4,2,   7.7326,2,    25.00,   2.8133,20110301,1757
  29AH20110128,   A05,   110,  1,      8,2,20110301,1656, 24.5008, -65.6822, 5601,   2001.6,   3.6090,  34.9984,2,    252.0,2,    253.7,2,  -999.00,9,  -999.00,9,  -999.00,9,   2325.1,2,   7.7331,2,    25.00,   3.4470,20110301,1806
  29AH20110128,   A05,   110,  1,      9,2,20110301,1656, 24.5008, -65.6822, 5601,   1750.5,   3.9450,  35.0146,2,    251.6,2,    253.7,2,  -999.00,9,  -999.00,9,  -999.00,9,   2319.9,2,   7.7292,2,    25.00,   3.8021,20110301,1811
  29AH20110128,   A05,   110,  1,     10,2,20110301,1656, 24.5008, -65.6822, 5601,   1500.0,   4.3068,  35.0201,2,    250.0,2,    252.0,2,  -999.00,9,  -999.00,9,  -999.00,9,   2316.4,2,   7.7217,2,    25.00,   4.1830,20110301,1816
  29AH20110128,   A05,   110,  1,     11,2,20110301,1656, 24.5008, -65.6822, 5601,   1302.0,   4.8585,  35.0552,2,    236.9,2,    238.3,2,  -999.00,9,  -999.00,9,  -999.00,9,   2319.4,2,   7.7154,2,    25.00,   4.7474,20110301,1820
  29AH20110128,   A05,   110,  1,     12,2,20110301,1656, 24.5008, -65.6822, 5601,   1200.2,   5.1982,  35.0634,2,    226.4,2,    227.6,2,  -999.00,9,  -999.00,9,  -999.00,9,   2320.4,2,   7.7065,2,    25.00,   5.0936,20110301,1822
  29AH20110128,   A05,   110,  1,     13,2,20110301,1656, 24.5008, -65.6822, 5601,   1001.0,   6.2136,  35.0579,2,    187.9,2,    187.7,2,  -999.00,9,  -999.00,9,  -999.00,9,   2323.6,2,   7.6748,2,    25.00,   6.1202,20110301,1826
  29AH20110128,   A05,   110,  1,     14,2,20110301,1656, 24.5008, -65.6822, 5601,    901.2,   7.2824,  35.0780,2,    162.3,2,    161.9,2,  -999.00,9,  -999.00,9,  -999.00,9,   2324.3,2,   7.6569,2,    25.00,   7.1917,20110301,1828
  29AH20110128,   A05,   110,  1,     15,2,20110301,1656, 24.5008, -65.6822, 5601,    798.3,   8.7066,  35.1751,2,    147.3,2,    147.3,2,  -999.00,9,  -999.00,9,  -999.00,9,   2327.4,2,   7.6653,2,    25.00,   8.6184,20110301,1831
  29AH20110128,   A05,   110,  1,     16,2,20110301,1656, 24.5008, -65.6822, 5601,    600.7,  12.5303,  35.6327,2,    152.8,2,    153.4,2,  -999.00,9,  -999.00,9,  -999.00,9,   2347.7,2,   7.7630,2,    25.00,  12.4479,20110301,1835
  29AH20110128,   A05,   110,  1,     17,2,20110301,1656, 24.5008, -65.6822, 5601,    402.4,  16.6661,  36.3022,2,    183.5,2,    185.1,2,  -999.00,9,  -999.00,9,  -999.00,9,   2381.3,2,   7.9043,2,    25.00,  16.5996,20110301,1839
  29AH20110128,   A05,   110,  1,     18,2,20110301,1656, 24.5008, -65.6822, 5601,    299.9,  17.9712,  36.5344,2,    196.2,2,    196.2,2,  -999.00,9,  -999.00,9,  -999.00,9,   2395.7,2,   7.9511,2,    25.00,  17.9191,20110301,1841
  29AH20110128,   A05,   110,  1,     19,2,20110301,1656, 24.5008, -65.6822, 5601,    151.3,  20.1354,  36.7622,2,    196.1,2,    196.5,2,  -999.00,9,  -999.00,9,  -999.00,9,   2410.0,2,   7.9838,2,    25.00,  20.1070,20110301,1844
  29AH20110128,   A05,   110,  1,     20,2,20110301,1656, 24.5008, -65.6822, 5601,    125.0,  21.1416,  36.8237,2,    207.8,2,    207.9,2,  -999.00,9,  -999.00,9,  -999.00,9,   -999.0,9,   8.0209,2,    25.00,  21.1174,20110301,1845
  29AH20110128,   A05,   110,  1,     21,2,20110301,1656, 24.5008, -65.6822, 5601,     74.6,  23.0734,  36.9576,2,    205.0,2,    206.7,2,  -999.00,9,  -999.00,9,  -999.00,9,   -999.0,9,   8.0482,2,    25.00,  23.0580,20110301,1846
  29AH20110128,   A05,   110,  1,     22,2,20110301,1656, 24.5008, -65.6822, 5601,     51.1,  23.7510,  36.7567,2,    210.4,2,    211.0,2,  -999.00,9,  -999.00,9,  -999.00,9,   2411.7,2,   8.0692,2,    25.00,  23.7403,20110301,1846
  29AH20110128,   A05,   110,  1,     23,2,20110301,1656, 24.5008, -65.6822, 5601,     25.4,  23.8163,  36.7288,2,    210.6,2,    211.5,2,  -999.00,9,  -999.00,9,  -999.00,9,   -999.0,9,   8.0778,2,    25.00,  23.8110,20110301,1847
  29AH20110128,   A05,   110,  1,     24,2,20110301,1656, 24.5008, -65.6822, 5601,      5.7,  23.8553,  36.7282,2,    210.6,2,    210.3,2,  -999.00,9,  -999.00,9,  -999.00,9,   2410.7,2,   8.0772,2,    25.00,  23.8541,20110301,1848
  29AH20110128,   A05,   111,  1,      1,2,20110302,0014, 24.5012, -66.2938, 5503,   5402.7,   2.0454,  34.8490,2,    249.7,2,    248.4,2,  -999.00,9,  -999.00,9,  -999.00,9,   -999.0,9,   7.7076,2,    25.00,   1.5403,20110302,0014
  29AH20110128,   A05,   111,  1,      2,2,20110302,0014, 24.5012, -66.2938, 5503,   4999.5,   2.0592,  34.8580,2,    251.5,2,    251.5,2,  -999.00,9,  -999.00,9,  -999.00,9,   -999.0,9,   7.7128,2,    25.00,   1.6048,20110302,0022
  29AH20110128,   A05,   111,  1,      3,2,20110302,0014, 24.5012, -66.2938, 5503,   4499.6,   2.2275,  34.8857,2,    261.4,2,    259.9,2,  -999.00,9,  -999.00,9,  -999.00,9,   -999.0,9,   7.7228,2,    25.00,   1.8286,20110302,0032
  29AH20110128,   A05,   111,  1,      4,2,20110302,0014, 24.5012, -66.2938, 5503,   4000.8,   2.3098,  34.8988,2,    265.3,2,    264.0,2,  -999.00,9,  -999.00,9,  -999.00,9,   -999.0,9,   7.7283,2,    25.00,   1.9667,20110302,0041
  29AH20110128,   A05,   111,  1,      5,2,20110302,0014, 24.5012, -66.2938, 5503,   3498.4,   2.4319,  34.9100,2,    265.0,2,    262.3,2,  -999.00,9,  -999.00,9,  -999.00,9,   -999.0,9,   7.7299,2,    25.00,   2.1413,20110302,0051
  29AH20110128,   A05,   111,  1,      6,2,20110302,0014, 24.5012, -66.2938, 5503,   3000.2,   2.7143,  34.9309,2,    259.2,2,    258.5,2,  -999.00,9,  -999.00,9,  -999.00,9,   -999.0,9,   7.7314,2,    25.00,   2.4697,20110302,0101
  29AH20110128,   A05,   111,  1,      7,2,20110302,0014, 24.5012, -66.2938, 5503,   2500.7,   3.0215,  34.9550,2,    255.3,2,    257.2,2,  -999.00,9,  -999.00,9,  -999.00,9,   -999.0,9,   7.7342,2,    25.00,   2.8210,20110302,0110
  29AH20110128,   A05,   111,  1,      8,2,20110302,0014, 24.5012, -66.2938, 5503,   2000.2,   3.5622,  34.9889,2,    255.0,2,    255.7,2,  -999.00,9,  -999.00,9,  -999.00,9,   -999.0,9,   7.7344,2,    25.00,   3.4011,20110302,0120
  29AH20110128,   A05,   111,  1,      9,2,20110302,0014, 24.5012, -66.2938, 5503,   1750.1,   3.8960,  35.0021,2,    254.1,2,    254.4,2,  -999.00,9,  -999.00,9,  -999.00,9,   -999.0,9,   7.7308,2,    25.00,   3.7538,20110302,0125
  29AH20110128,   A05,   111,  1,     10,2,20110302,0014, 24.5012, -66.2938, 5503,   1501.1,   4.3012,  35.0213,2,    249.7,2,    250.4,2,  -999.00,9,  -999.00,9,  -999.00,9,   -999.0,9,   7.7224,2,    25.00,   4.1774,20110302,0130
  29AH20110128,   A05,   111,  1,     11,2,20110302,0014, 24.5012, -66.2938, 5503,   1300.6,   4.8558,  35.0554,2,    237.2,2,    236.8,2,  -999.00,9,  -999.00,9,  -999.00,9,   -999.0,9,   7.7177,2,    25.00,   4.7449,20110302,0134
  29AH20110128,   A05,   111,  1,     12,2,20110302,0014, 24.5012, -66.2938, 5503,   1199.6,   5.1832,  35.0651,2,    227.3,2,    226.5,2,  -999.00,9,  -999.00,9,  -999.00,9,   -999.0,9,   7.7093,2,    25.00,   5.0788,20110302,0136
  29AH20110128,   A05,   111,  1,     13,2,20110302,0014, 24.5012, -66.2938, 5503,   1000.5,   6.1948,  35.0730,2,    194.4,2,    194.4,2,  -999.00,9,  -999.00,9,  -999.00,9,   -999.0,9,   7.6866,2,    25.00,   6.1015,20110302,0140
  29AH20110128,   A05,   111,  1,     14,2,20110302,0014, 24.5012, -66.2938, 5503,    900.6,   7.1099,  35.0917,2,    171.8,2,    169.9,2,  -999.00,9,  -999.00,9,  -999.00,9,   -999.0,9,   7.6696,2,    25.00,   7.0204,20110302,0142
  29AH20110128,   A05,   111,  1,     15,2,20110302,0014, 24.5012, -66.2938, 5503,    800.7,   8.3956,  35.1541,2,    149.7,2,    151.4,2,  -999.00,9,  -999.00,9,  -999.00,9,   -999.0,9,   7.6674,2,    25.00,   8.3089,20110302,0144
  29AH20110128,   A05,   111,  1,     16,2,20110302,0014, 24.5012, -66.2938, 5503,    601.7,  12.2920,  35.6101,2,    152.1,2,    152.8,2,  -999.00,9,  -999.00,9,  -999.00,9,   -999.0,9,   7.7635,2,    25.00,  12.2105,20110302,0148
  29AH20110128,   A05,   111,  1,     17,2,20110302,0014, 24.5012, -66.2938, 5503,    400.8,  16.6266,  36.3046,2,    190.9,2,    192.6,2,  -999.00,9,  -999.00,9,  -999.00,9,   -999.0,9,   7.9178,2,    25.00,  16.5605,20110302,0153
  29AH20110128,   A05,   111,  1,     18,2,20110302,0014, 24.5012, -66.2938, 5503,    300.3,  17.9158,  36.5239,2,    190.7,2,    190.2,2,  -999.00,9,  -999.00,9,  -999.00,9,   -999.0,9,   7.9424,2,    25.00,  17.8638,20110302,0155
  29AH20110128,   A05,   111,  1,     19,2,20110302,0014, 24.5012, -66.2938, 5503,    150.7,  20.7343,  36.8774,2,    184.6,2,    183.8,2,  -999.00,9,  -999.00,9,  -999.00,9,   -999.0,9,   7.9768,2,    25.00,  20.7054,20110302,0158
  29AH20110128,   A05,   111,  1,     20,2,20110302,0014, 24.5012, -66.2938, 5503,    125.0,  21.4645,  36.9601,2,    185.2,2,    185.2,2,  -999.00,9,  -999.00,9,  -999.00,9,   -999.0,9,   7.9882,2,    25.00,  21.4400,20110302,0159
  29AH20110128,   A05,   111,  1,     21,2,20110302,0014, 24.5012, -66.2938, 5503,     75.7,  22.8386,  36.9007,2,    207.1,2,    209.9,2,  -999.00,9,  -999.00,9,  -999.00,9,   -999.0,9,   8.0307,2,    25.00,  22.8231,20110302,0200
  29AH20110128,   A05,   111,  1,     22,2,20110302,0014, 24.5012, -66.2938, 5503,     50.5,  23.7244,  36.8068,2,    210.2,2,    209.8,2,  -999.00,9,  -999.00,9,  -999.00,9,   -999.0,9,   8.0525,2,    25.00,  23.7138,20110302,0200
  29AH20110128,   A05,   111,  1,     23,2,20110302,0014, 24.5012, -66.2938, 5503,     25.6,  23.9360,  36.6705,2,    210.8,2,   -999.0,9,  -999.00,9,  -999.00,9,  -999.00,9,   -999.0,9,   8.0741,2,    25.00,  23.9306,20110302,0201
  29AH20110128,   A05,   111,  1,     24,2,20110302,0014, 24.5012, -66.2938, 5503,      4.3,  23.9597,  36.6589,2,    210.7,2,   -999.0,9,  -999.00,9,  -999.00,9,  -999.00,9,   -999.0,9,   8.0753,2,    25.00,  23.9588,20110302,0202
  29AH20110128,   A05,   112,  1,      1,2,20110302,0741, 24.5002, -66.9065, 5848,   5838.0,   2.0957,  34.8475,2,    249.5,2,   -999.0,9,  -999.00,9,  -999.00,9,  -999.00,9,   -999.0,9,   7.7157,2,    25.00,   1.5312,20110302,0741
  29AH20110128,   A05,   112,  1,      2,2,20110302,0741, 24.5002, -66.9065, 5848,   5500.3,   2.0709,  34.8508,2,    249.8,2,   -999.0,9,  -999.00,9,  -999.00,9,  -999.00,9,   -999.0,9,   7.7157,2,    25.00,   1.5521,20110302,0747
  29AH20110128,   A05,   112,  1,      3,2,20110302,0741, 24.5002, -66.9065, 5848,   5000.0,   2.1686,  34.8710,2,    256.0,2,    255.5,2,  -999.00,9,  -999.00,9,  -999.00,9,   2342.8,2,   7.7156,2,    25.00,   1.7104,20110302,0757
  29AH20110128,   A05,   112,  1,      4,2,20110302,0741, 24.5002, -66.9065, 5848,   4500.5,   2.2606,  34.8887,2,    263.4,2,   -999.0,9,  -999.00,9,  -999.00,9,  -999.00,9,   -999.0,9,   7.7191,2,    25.00,   1.8606,20110302,0807
  29AH20110128,   A05,   112,  1,      5,2,20110302,0741, 24.5002, -66.9065, 5848,   4000.4,   2.3153,  34.8989,2,    265.3,2,   -999.0,9,  -999.00,9,  -999.00,9,  -999.00,9,   -999.0,9,   7.7226,2,    25.00,   1.9721,20110302,0816
  29AH20110128,   A05,   112,  1,      6,2,20110302,0741, 24.5002, -66.9065, 5848,   3498.5,   2.4224,  34.9090,2,    265.2,2,   -999.0,9,  -999.00,9,  -999.00,9,  -999.00,9,   -999.0,9,   7.7260,2,    25.00,   2.1320,20110302,0826
  29AH20110128,   A05,   112,  1,      7,2,20110302,0741, 24.5002, -66.9065, 5848,   3000.4,   2.6759,  34.9292,2,    257.7,2,    259.1,2,  -999.00,9,  -999.00,9,  -999.00,9,   2328.3,2,   7.7295,2,    25.00,   2.4321,20110302,0836
  29AH20110128,   A05,   112,  1,      8,2,20110302,0741, 24.5002, -66.9065, 5848,   2501.2,   3.0070,  34.9518,2,    257.1,2,    258.3,2,  -999.00,9,  -999.00,9,  -999.00,9,   2324.7,2,   7.7291,2,    25.00,   2.8067,20110302,0845
  29AH20110128,   A05,   112,  1,      9,2,20110302,0741, 24.5002, -66.9065, 5848,   2000.9,   3.5280,  34.9848,2,    255.7,2,    256.8,2,  -999.00,9,  -999.00,9,  -999.00,9,   2324.7,2,   7.7287,2,    25.00,   3.3673,20110302,0855
  29AH20110128,   A05,   112,  1,     10,2,20110302,0741, 24.5002, -66.9065, 5848,   1750.4,   3.7920,  34.9856,2,    257.9,2,    259.9,2,  -999.00,9,  -999.00,9,  -999.00,9,   2318.8,2,   7.7256,2,    25.00,   3.6512,20110302,0900
  29AH20110128,   A05,   112,  1,     11,2,20110302,0741, 24.5002, -66.9065, 5848,   1501.2,   4.2044,  35.0048,2,    253.7,2,    254.0,2,  -999.00,9,  -999.00,9,  -999.00,9,   2314.3,2,   7.7209,2,    25.00,   4.0817,20110302,0905
  29AH20110128,   A05,   112,  1,     12,2,20110302,0741, 24.5002, -66.9065, 5848,   1300.2,   4.7750,  35.0475,2,    240.7,2,    241.8,2,  -999.00,9,  -999.00,9,  -999.00,9,   2319.4,2,   7.7167,2,    25.00,   4.6649,20110302,0909
  29AH20110128,   A05,   112,  1,     13,2,20110302,0741, 24.5002, -66.9065, 5848,   1200.6,   5.1396,  35.0635,2,    230.3,2,    230.2,2,  -999.00,9,  -999.00,9,  -999.00,9,   2320.8,2,   7.7096,2,    25.00,   5.0355,20110302,0911
  29AH20110128,   A05,   112,  1,     14,2,20110302,0741, 24.5002, -66.9065, 5848,    999.3,   6.2684,  35.0835,2,    196.7,2,    194.5,2,  -999.00,9,  -999.00,9,  -999.00,9,   2322.8,2,   7.6847,2,    25.00,   6.1747,20110302,0915
  29AH20110128,   A05,   112,  1,     15,2,20110302,0741, 24.5002, -66.9065, 5848,    800.3,   8.8314,  35.1961,2,    148.2,2,    147.1,2,  -999.00,9,  -999.00,9,  -999.00,9,   2329.1,2,   7.6734,2,    25.00,   8.7422,20110302,0919
  29AH20110128,   A05,   112,  1,     16,2,20110302,0741, 24.5002, -66.9065, 5848,    600.5,  12.9164,  35.6984,2,    154.8,2,    154.7,2,  -999.00,9,  -999.00,9,  -999.00,9,   2348.5,2,   7.7763,2,    25.00,  12.8324,20110302,0924
  29AH20110128,   A05,   112,  1,     17,2,20110302,0741, 24.5002, -66.9065, 5848,    401.6,  16.9798,  36.3740,2,    196.7,2,    197.2,2,  -999.00,9,  -999.00,9,  -999.00,9,   2389.4,2,   7.9249,2,    25.00,  16.9126,20110302,0928
  29AH20110128,   A05,   112,  1,     18,2,20110302,0741, 24.5002, -66.9065, 5848,    301.2,  17.8692,  36.5233,2,    202.0,2,    202.3,2,  -999.00,9,  -999.00,9,  -999.00,9,   2397.5,2,   7.9515,2,    25.00,  17.8171,20110302,0930
  29AH20110128,   A05,   112,  1,     19,2,20110302,0741, 24.5002, -66.9065, 5848,    148.5,  20.6799,  36.8955,2,    182.7,2,    182.1,2,  -999.00,9,  -999.00,9,  -999.00,9,   2419.3,2,   7.9708,2,    25.00,  20.6515,20110302,0933
  29AH20110128,   A05,   112,  1,     20,2,20110302,0741, 24.5002, -66.9065, 5848,    120.0,  21.6344,  36.8344,2,    209.2,2,    208.8,2,  -999.00,9,  -999.00,9,  -999.00,9,   -999.0,9,   8.0242,2,    25.00,  21.6107,20110302,0934
  29AH20110128,   A05,   112,  1,     21,2,20110302,0741, 24.5002, -66.9065, 5848,     74.4,  23.0937,  36.8700,2,    215.7,2,    213.5,2,  -999.00,9,  -999.00,9,  -999.00,9,   -999.0,9,   8.0533,2,    25.00,  23.0783,20110302,0935
  29AH20110128,   A05,   112,  1,     22,2,20110302,0741, 24.5002, -66.9065, 5848,     40.5,  23.7231,  36.6935,2,    211.5,2,    210.8,2,  -999.00,9,  -999.00,9,  -999.00,9,   2407.9,2,   8.0705,2,    25.00,  23.7146,20110302,0936
  29AH20110128,   A05,   112,  1,     23,2,20110302,0741, 24.5002, -66.9065, 5848,     25.3,  23.7758,  36.7028,2,    210.8,2,    209.7,2,  -999.00,9,  -999.00,9,  -999.00,9,   -999.0,9,   8.0715,2,    25.00,  23.7705,20110302,0936
  29AH20110128,   A05,   112,  1,     24,2,20110302,0741, 24.5002, -66.9065, 5848,      4.7,  23.7737,  36.7034,2,    210.9,2,    209.5,2,  -999.00,9,  -999.00,9,  -999.00,9,   2409.6,2,   8.0640,2,    25.00,  23.7727,20110302,0937