BOTTLE,20220930CCHSIOAMB
EXPOCODE,SECT_ID,STNNBR,CASTNO,BTLNBR,BTLNBR_FLAG_W,DATE,TIME,LATITUDE,LONGITUDE,DEPTH,CTDPRS,CTDTMP,CTDSAL,CTDSAL_FLAG_W,CTDOXY,CTDOXY_FLAG_W,OXYGEN,OXYGEN_FLAG_W,SILCAT,SILCAT_FLAG_W,NITRAT,NITRAT_FLAG_W,PHSPHT,PHSPHT_FLAG_W,ALKALI,ALKALI_FLAG_W,PH_SWS,PH_SWS_FLAG_W,PH_TMP,THETA,BTL_DATE,BTL_TIME
,,,,,,,,,,METERS,DBAR,ITS-90,PSS-78,,UMOL/KG,,UMOL/KG,,UMOL/KG,,UMOL/KG,,UMOL/KG,,UMOL/KG,,,,DEG C,DEG C,,
  29AH20110128,   A05,   152,  1,      1,2,20110311,2109, 26.2027, -77.0672, 2906,   2895.8,   3.0448,  34.9404,2,    266.8,2,   -999.0,9,  -999.00,9,  -999.00,9,  -999.00,9,   -999.0,9,   7.7262,2,    25.00,   2.8039,20110311,2109
  29AH20110128,   A05,   152,  1,      2,2,20110311,2109, 26.2027, -77.0672, 2906,   2500.2,   3.4004,  34.9546,2,    265.3,2,   -999.0,9,  -999.00,9,  -999.00,9,  -999.00,9,   -999.0,9,   7.7251,2,    25.00,   3.1930,20110311,2117
  29AH20110128,   A05,   152,  1,      3,2,20110311,2109, 26.2027, -77.0672, 2906,   2118.3,   3.5517,  34.9596,2,    265.1,2,   -999.0,9,  -999.00,9,  -999.00,9,  -999.00,9,   -999.0,9,   7.7241,2,    25.00,   3.3795,20110311,2125
  29AH20110128,   A05,   152,  1,      4,2,20110311,2109, 26.2027, -77.0672, 2906,   1999.5,   3.6248,  34.9624,2,    264.5,2,    265.0,2,  -999.00,9,  -999.00,9,  -999.00,9,   -999.0,9,   7.7238,2,    25.00,   3.4629,20110311,2127
  29AH20110128,   A05,   152,  1,      5,2,20110311,2109, 26.2027, -77.0672, 2906,   1749.8,   3.8740,  34.9722,2,    261.8,2,    260.8,2,  -999.00,9,  -999.00,9,  -999.00,9,   -999.0,9,   7.7239,2,    25.00,   3.7322,20110311,2132
  29AH20110128,   A05,   152,  1,      6,2,20110311,2109, 26.2027, -77.0672, 2906,   1500.3,   4.3549,  34.9933,2,    253.9,2,    254.1,2,  -999.00,9,  -999.00,9,  -999.00,9,   -999.0,9,   7.7156,2,    25.00,   4.2306,20110311,2137
  29AH20110128,   A05,   152,  1,      7,2,20110311,2109, 26.2027, -77.0672, 2906,   1299.7,   4.8015,  35.0199,2,    242.7,2,    241.6,2,  -999.00,9,  -999.00,9,  -999.00,9,   -999.0,9,   7.7100,2,    25.00,   4.6913,20110311,2142
  29AH20110128,   A05,   152,  1,      8,2,20110311,2109, 26.2027, -77.0672, 2906,   1200.1,   4.9666,  35.0282,2,    237.9,2,    238.1,2,  -999.00,9,  -999.00,9,  -999.00,9,   -999.0,9,   7.7019,2,    25.00,   4.8642,20110311,2144
  29AH20110128,   A05,   152,  1,      9,2,20110311,2109, 26.2027, -77.0672, 2906,   1098.7,   5.1643,  35.0387,2,    232.8,2,    232.0,2,  -999.00,9,  -999.00,9,  -999.00,9,   -999.0,9,   7.7014,2,    25.00,   5.0697,20110311,2146
  29AH20110128,   A05,   152,  1,     10,2,20110311,2109, 26.2027, -77.0672, 2906,   1001.0,   5.6084,  35.0600,2,    218.9,2,    218.2,2,  -999.00,9,  -999.00,9,  -999.00,9,   -999.0,9,   7.6947,2,    25.00,   5.5195,20110311,2148
  29AH20110128,   A05,   152,  1,     11,2,20110311,2109, 26.2027, -77.0672, 2906,    899.0,   6.6121,  35.0884,2,    192.3,2,    189.1,2,  -999.00,9,  -999.00,9,  -999.00,9,   -999.0,9,   7.6806,2,    25.00,   6.5261,20110311,2151
  29AH20110128,   A05,   152,  1,     12,2,20110311,2109, 26.2027, -77.0672, 2906,    798.5,   8.4638,  35.1709,2,    155.8,2,    153.7,2,  -999.00,9,  -999.00,9,  -999.00,9,   -999.0,9,   7.6732,2,    25.00,   8.3770,20110311,2153
  29AH20110128,   A05,   152,  1,     13,2,20110311,2109, 26.2027, -77.0672, 2906,    601.3,  12.2580,  35.5973,2,    148.8,2,    148.9,2,  -999.00,9,  -999.00,9,  -999.00,9,   -999.0,9,   7.7533,2,    25.00,  12.1767,20110311,2157
  29AH20110128,   A05,   152,  1,     14,2,20110311,2109, 26.2027, -77.0672, 2906,    400.4,  16.8793,  36.3380,2,    182.7,2,    180.1,2,  -999.00,9,  -999.00,9,  -999.00,9,   -999.0,9,   7.9122,2,    25.00,  16.8126,20110311,2201
  29AH20110128,   A05,   152,  1,     15,2,20110311,2109, 26.2027, -77.0672, 2906,    299.6,  18.0926,  36.5584,2,    199.7,2,    199.9,2,  -999.00,9,  -999.00,9,  -999.00,9,   -999.0,9,   7.9538,2,    25.00,  18.0403,20110311,2203
  29AH20110128,   A05,   152,  1,     16,2,20110311,2109, 26.2027, -77.0672, 2906,    201.1,  19.1004,  36.6517,2,    193.4,2,   -999.0,9,  -999.00,9,  -999.00,9,  -999.00,9,   -999.0,9,   7.9885,2,    25.00,  19.0640,20110311,2205
  29AH20110128,   A05,   152,  1,     17,2,20110311,2109, 26.2027, -77.0672, 2906,    151.2,  20.3543,  36.7533,2,    203.3,2,   -999.0,9,  -999.00,9,  -999.00,9,  -999.00,9,   -999.0,9,   8.0061,2,    25.00,  20.3257,20110311,2206
  29AH20110128,   A05,   152,  1,     18,2,20110311,2109, 26.2027, -77.0672, 2906,    125.8,  21.0685,  36.7934,2,    195.0,2,    195.1,2,  -999.00,9,  -999.00,9,  -999.00,9,   -999.0,9,   8.0052,2,    25.00,  21.0442,20110311,2207
  29AH20110128,   A05,   152,  1,     19,2,20110311,2109, 26.2027, -77.0672, 2906,    100.3,  21.6458,  36.8095,2,    196.2,2,    195.7,2,  -999.00,9,  -999.00,9,  -999.00,9,   -999.0,9,   8.0152,2,    25.00,  21.6260,20110311,2208
  29AH20110128,   A05,   152,  1,     20,2,20110311,2109, 26.2027, -77.0672, 2906,     75.3,  22.8192,  36.7761,2,    203.7,2,    202.7,2,  -999.00,9,  -999.00,9,  -999.00,9,   -999.0,9,   8.0429,2,    25.00,  22.8038,20110311,2209
  29AH20110128,   A05,   152,  1,     21,2,20110311,2109, 26.2027, -77.0672, 2906,     51.3,  23.2615,  36.6997,2,    210.7,2,    210.6,2,  -999.00,9,  -999.00,9,  -999.00,9,   -999.0,9,   8.0564,2,    25.00,  23.2509,20110311,2209
  29AH20110128,   A05,   152,  1,     22,2,20110311,2109, 26.2027, -77.0672, 2906,     24.2,  23.3946,  36.6608,2,    212.4,2,    211.1,2,  -999.00,9,  -999.00,9,  -999.00,9,   -999.0,9,   8.0586,2,    25.00,  23.3896,20110311,2210
  29AH20110128,   A05,   152,  1,     23,2,20110311,2109, 26.2027, -77.0672, 2906,      5.3,  23.4369,  36.6584,2,    212.3,2,    210.9,2,  -999.00,9,  -999.00,9,  -999.00,9,   -999.0,9,   8.0558,2,    25.00,  23.4358,20110311,2211
  29AH20110128,   A05,   153,  1,      1,2,20110311,2349, 26.2032, -77.1053, 2337,   2327.4,   3.4654,  34.9562,2,    265.4,2,    265.1,2,  -999.00,9,  -999.00,9,  -999.00,9,   -999.0,9,   7.7243,2,    25.00,   3.2742,20110311,2349
  29AH20110128,   A05,   153,  1,      2,2,20110311,2349, 26.2032, -77.1053, 2337,   2001.7,   3.6596,  34.9625,2,    264.0,2,    263.7,2,  -999.00,9,  -999.00,9,  -999.00,9,   -999.0,9,   7.7220,2,    25.00,   3.4970,20110311,2355
  29AH20110128,   A05,   153,  1,      3,2,20110311,2349, 26.2032, -77.1053, 2337,   1749.8,   3.8809,  34.9717,2,    261.5,2,    261.3,2,  -999.00,9,  -999.00,9,  -999.00,9,   -999.0,9,   7.7202,2,    25.00,   3.7390,20110311,0000
  29AH20110128,   A05,   153,  1,      4,2,20110311,2349, 26.2032, -77.1053, 2337,   1500.5,   4.3547,  34.9910,2,    254.7,2,    253.8,2,  -999.00,9,  -999.00,9,  -999.00,9,   -999.0,9,   7.7099,2,    25.00,   4.2304,20110311,0005
  29AH20110128,   A05,   153,  1,      5,2,20110311,2349, 26.2032, -77.1053, 2337,   1300.3,   4.7428,  35.0170,2,    244.2,2,    243.6,2,  -999.00,9,  -999.00,9,  -999.00,9,   -999.0,9,   7.7074,2,    25.00,   4.6331,20110311,0009
  29AH20110128,   A05,   153,  1,      6,2,20110311,2349, 26.2032, -77.1053, 2337,   1200.6,   4.9749,  35.0287,2,    237.8,2,    237.1,2,  -999.00,9,  -999.00,9,  -999.00,9,   -999.0,9,   7.7058,2,    25.00,   4.8723,20110311,0011
  29AH20110128,   A05,   153,  1,      7,2,20110311,2349, 26.2032, -77.1053, 2337,   1099.5,   5.2027,  35.0406,2,    231.8,2,    231.5,2,  -999.00,9,  -999.00,9,  -999.00,9,   -999.0,9,   7.7017,2,    25.00,   5.1077,20110311,0014
  29AH20110128,   A05,   153,  1,      8,2,20110311,2349, 26.2032, -77.1053, 2337,   1000.7,   5.8206,  35.0667,2,    215.3,2,    214.3,2,  -999.00,9,  -999.00,9,  -999.00,9,   -999.0,9,   7.6935,2,    25.00,   5.7301,20110311,0016
  29AH20110128,   A05,   153,  1,      9,2,20110311,2349, 26.2032, -77.1053, 2337,    900.0,   6.8833,  35.0933,2,    185.3,2,    182.3,2,  -999.00,9,  -999.00,9,  -999.00,9,   -999.0,9,   7.6824,2,    25.00,   6.7954,20110311,0018
  29AH20110128,   A05,   153,  1,     10,2,20110311,2349, 26.2032, -77.1053, 2337,    801.4,   8.3912,  35.1679,2,    154.7,2,    154.5,2,  -999.00,9,  -999.00,9,  -999.00,9,   -999.0,9,   7.6716,2,    25.00,   8.3045,20110311,0020
  29AH20110128,   A05,   153,  1,     11,2,20110311,2349, 26.2032, -77.1053, 2337,    603.1,  12.4016,  35.6156,2,    149.2,2,    149.5,2,  -999.00,9,  -999.00,9,  -999.00,9,   -999.0,9,   7.7524,2,    25.00,  12.3194,20110311,0024
  29AH20110128,   A05,   153,  1,     12,2,20110311,2349, 26.2032, -77.1053, 2337,    400.7,  16.8606,  36.3351,2,    183.1,2,    183.8,2,  -999.00,9,  -999.00,9,  -999.00,9,   -999.0,9,   7.9085,2,    25.00,  16.7939,20110311,0028
  29AH20110128,   A05,   153,  1,     13,2,20110311,2349, 26.2032, -77.1053, 2337,    300.2,  18.1645,  36.5686,2,    199.8,2,    197.5,2,  -999.00,9,  -999.00,9,  -999.00,9,   -999.0,9,   7.9585,2,    25.00,  18.1120,20110311,0030
  29AH20110128,   A05,   153,  1,     14,2,20110311,2349, 26.2032, -77.1053, 2337,    200.5,  19.4128,  36.6748,2,    190.1,2,    190.3,2,  -999.00,9,  -999.00,9,  -999.00,9,   -999.0,9,   7.9711,2,    25.00,  19.3761,20110311,0032
  29AH20110128,   A05,   153,  1,     15,2,20110311,2349, 26.2032, -77.1053, 2337,    150.9,  20.4875,  36.7632,2,    199.0,2,    197.8,2,  -999.00,9,  -999.00,9,  -999.00,9,   -999.0,9,   8.0043,2,    25.00,  20.4589,20110311,0034
  29AH20110128,   A05,   153,  1,     16,2,20110311,2349, 26.2032, -77.1053, 2337,    124.9,  21.6159,  36.8124,2,    196.8,2,    196.7,2,  -999.00,9,  -999.00,9,  -999.00,9,   -999.0,9,   8.0226,2,    25.00,  21.5913,20110311,0034
  29AH20110128,   A05,   153,  1,     17,2,20110311,2349, 26.2032, -77.1053, 2337,    125.0,  21.7051,  36.8154,2,    197.5,2,    197.7,2,  -999.00,9,  -999.00,9,  -999.00,9,   -999.0,9,   8.0223,2,    25.00,  21.6804,20110311,0035
  29AH20110128,   A05,   153,  1,     18,2,20110311,2349, 26.2032, -77.1053, 2337,    101.1,  22.1360,  36.8087,2,    199.6,2,    199.1,2,  -999.00,9,  -999.00,9,  -999.00,9,   -999.0,9,   8.0374,2,    25.00,  22.1158,20110311,0035
  29AH20110128,   A05,   153,  1,     19,2,20110311,2349, 26.2032, -77.1053, 2337,     75.3,  23.0918,  36.7374,2,    207.7,2,    209.0,2,  -999.00,9,  -999.00,9,  -999.00,9,   -999.0,9,   8.0507,2,    25.00,  23.0763,20110311,0036
  29AH20110128,   A05,   153,  1,     20,2,20110311,2349, 26.2032, -77.1053, 2337,     50.8,  23.2077,  36.7163,2,    209.7,2,    209.3,2,  -999.00,9,  -999.00,9,  -999.00,9,   -999.0,9,   8.0509,2,    25.00,  23.1972,20110311,0037
  29AH20110128,   A05,   153,  1,     21,2,20110311,2349, 26.2032, -77.1053, 2337,     24.7,  23.3370,  36.6797,2,    212.0,2,    211.4,2,  -999.00,9,  -999.00,9,  -999.00,9,   -999.0,9,   8.0544,2,    25.00,  23.3319,20110311,0037
  29AH20110128,   A05,   153,  1,     22,2,20110311,2349, 26.2032, -77.1053, 2337,      5.7,  23.4083,  36.6624,2,    212.5,2,    211.9,2,  -999.00,9,  -999.00,9,  -999.00,9,   -999.0,9,   8.0583,2,    25.00,  23.4071,20110311,0038
  29AH20110128,   A05,   154,  1,      1,2,20110313,1232, 27.0007, -79.1647,  606,    343.4,  17.9582,  36.4884,2,    175.7,2,    176.4,2,  -999.00,9,  -999.00,9,  -999.00,9,   -999.0,9,   7.9189,2,    25.00,  17.8985,20110313,1232
  29AH20110128,   A05,   154,  1,      2,2,20110313,1232, 27.0007, -79.1647,  606,    300.5,  18.1190,  36.5047,2,    171.2,2,    173.5,2,  -999.00,9,  -999.00,9,  -999.00,9,   -999.0,9,   7.9166,2,    25.00,  18.0665,20110313,1233
  29AH20110128,   A05,   154,  1,      3,2,20110313,1232, 27.0007, -79.1647,  606,    200.4,  19.4479,  36.6875,2,    178.4,2,    178.6,2,  -999.00,9,  -999.00,9,  -999.00,9,   -999.0,9,   7.9537,2,    25.00,  19.4112,20110313,1235
  29AH20110128,   A05,   154,  1,      4,2,20110313,1232, 27.0007, -79.1647,  606,    149.2,  22.5758,  36.8256,2,    181.6,2,    182.0,2,  -999.00,9,  -999.00,9,  -999.00,9,   -999.0,9,   7.9981,2,    25.00,  22.5455,20110313,1236
  29AH20110128,   A05,   154,  1,      5,2,20110313,1232, 27.0007, -79.1647,  606,    125.8,  24.0046,  36.8713,2,    195.0,2,    194.2,2,  -999.00,9,  -999.00,9,  -999.00,9,   -999.0,9,   8.0294,2,    25.00,  23.9779,20110313,1237
  29AH20110128,   A05,   154,  1,      6,2,20110313,1232, 27.0007, -79.1647,  606,    100.1,  24.2836,  36.7749,2,    196.8,2,    195.3,2,  -999.00,9,  -999.00,9,  -999.00,9,   -999.0,9,   8.0358,2,    25.00,  24.2622,20110313,1238
  29AH20110128,   A05,   154,  1,      7,2,20110313,1232, 27.0007, -79.1647,  606,     75.8,  24.4539,  36.6974,2,    202.9,2,    203.9,2,  -999.00,9,  -999.00,9,  -999.00,9,   -999.0,9,   8.0542,2,    25.00,  24.4376,20110313,1238
  29AH20110128,   A05,   154,  1,      8,2,20110313,1232, 27.0007, -79.1647,  606,     50.6,  24.2935,  36.5731,2,    204.6,2,    205.1,2,  -999.00,9,  -999.00,9,  -999.00,9,   -999.0,9,   8.0493,2,    25.00,  24.2827,20110313,1239
  29AH20110128,   A05,   154,  1,      9,2,20110313,1232, 27.0007, -79.1647,  606,     35.4,  24.3033,  36.5272,2,    205.7,2,    204.9,2,  -999.00,9,  -999.00,9,  -999.00,9,   -999.0,9,   8.0504,2,    25.00,  24.2957,20110313,1240
  29AH20110128,   A05,   154,  1,     10,2,20110313,1232, 27.0007, -79.1647,  606,      5.2,  24.2703,  36.5134,2,    206.0,2,    206.0,2,  -999.00,9,  -999.00,9,  -999.00,9,   -999.0,9,   8.0479,2,    25.00,  24.2692,20110313,1240
  29AH20110128,   A05,   155,  1,      1,2,20110313,1326, 27.0008, -79.1828,  606,    424.9,  16.3859,  36.2196,2,    161.2,2,    162.3,2,  -999.00,9,  -999.00,9,  -999.00,9,   2375.8,2,   7.8593,2,    25.00,  16.3165,20110313,1326
  29AH20110128,   A05,   155,  1,      2,2,20110313,1326, 27.0008, -79.1828,  606,    400.4,  16.5486,  36.2475,2,    162.0,2,    163.6,2,  -999.00,9,  -999.00,9,  -999.00,9,   2377.2,2,   7.8739,2,    25.00,  16.4828,20110313,1327
  29AH20110128,   A05,   155,  1,      3,2,20110313,1326, 27.0008, -79.1828,  606,    299.9,  18.0926,  36.5255,2,    181.6,2,    182.0,2,  -999.00,9,  -999.00,9,  -999.00,9,   2391.4,2,   7.9265,2,    25.00,  18.0403,20110313,1329
  29AH20110128,   A05,   155,  1,      4,2,20110313,1326, 27.0008, -79.1828,  606,    200.2,  19.2823,  36.6292,2,    158.2,2,    159.4,2,  -999.00,9,  -999.00,9,  -999.00,9,   2397.3,2,   7.9163,2,    25.00,  19.2459,20110313,1331
  29AH20110128,   A05,   155,  1,      5,2,20110313,1326, 27.0008, -79.1828,  606,    150.0,  22.6584,  36.8671,2,    168.7,2,    168.7,2,  -999.00,9,  -999.00,9,  -999.00,9,   2409.3,2,   7.9825,2,    25.00,  22.6278,20110313,1333
  29AH20110128,   A05,   155,  1,      6,2,20110313,1326, 27.0008, -79.1828,  606,    125.6,  23.9872,  36.8766,2,    193.0,2,    192.9,2,  -999.00,9,  -999.00,9,  -999.00,9,   -999.0,9,   8.0324,2,    25.00,  23.9606,20110313,1333
  29AH20110128,   A05,   155,  1,      7,2,20110313,1326, 27.0008, -79.1828,  606,    100.7,  24.3166,  36.7947,2,    195.1,2,    194.8,2,  -999.00,9,  -999.00,9,  -999.00,9,   2402.7,2,   8.0460,2,    25.00,  24.2950,20110313,1334
  29AH20110128,   A05,   155,  1,      8,2,20110313,1326, 27.0008, -79.1828,  606,     75.7,  24.2648,  36.5555,2,    204.6,2,    204.5,2,  -999.00,9,  -999.00,9,  -999.00,9,   2392.9,2,   8.0589,2,    25.00,  24.2486,20110313,1335
  29AH20110128,   A05,   155,  1,      9,2,20110313,1326, 27.0008, -79.1828,  606,     50.0,  24.2479,  36.5421,2,    206.1,2,    205.4,2,  -999.00,9,  -999.00,9,  -999.00,9,   -999.0,9,   8.0568,2,    25.00,  24.2372,20110313,1336
  29AH20110128,   A05,   155,  1,     10,2,20110313,1326, 27.0008, -79.1828,  606,     24.8,  24.2647,  36.5047,2,    206.4,2,    206.0,2,  -999.00,9,  -999.00,9,  -999.00,9,   -999.0,9,   8.0545,2,    25.00,  24.2594,20110313,1336
  29AH20110128,   A05,   155,  1,     11,2,20110313,1326, 27.0008, -79.1828,  606,      5.3,  24.4457,  36.3912,2,    204.0,2,    203.6,2,  -999.00,9,  -999.00,9,  -999.00,9,   2386.3,2,   8.0550,2,    25.00,  24.4446,20110313,1337
  29AH20110128,   A05,   156,  1,      1,2,20110313,1426, 27.0010, -79.2462,  606,    562.9,  12.7708,  35.6179,2,    135.4,2,    135.4,2,  -999.00,9,  -999.00,9,  -999.00,9,   -999.0,9,   7.7357,2,    25.00,  12.6928,20110313,1426
  29AH20110128,   A05,   156,  1,      2,2,20110313,1426, 27.0010, -79.2462,  606,    401.0,  15.9009,  36.1374,2,    157.9,2,    159.4,2,  -999.00,9,  -999.00,9,  -999.00,9,   -999.0,9,   7.8465,2,    25.00,  15.8368,20110313,1431
  29AH20110128,   A05,   156,  1,      3,2,20110313,1426, 27.0010, -79.2462,  606,    300.6,  17.8870,  36.4873,2,    178.9,2,    178.7,2,  -999.00,9,  -999.00,9,  -999.00,9,   -999.0,9,   7.9208,2,    25.00,  17.8350,20110313,1434
  29AH20110128,   A05,   156,  1,      4,2,20110313,1426, 27.0010, -79.2462,  606,    201.4,  19.3418,  36.6788,2,    180.9,2,    180.9,2,  -999.00,9,  -999.00,9,  -999.00,9,   -999.0,9,   7.9478,2,    25.00,  19.3051,20110313,1436
  29AH20110128,   A05,   156,  1,      5,2,20110313,1426, 27.0010, -79.2462,  606,    151.2,  23.3684,  36.8980,2,    186.7,2,    186.1,2,  -999.00,9,  -999.00,9,  -999.00,9,   -999.0,9,   8.0111,2,    25.00,  23.3369,20110313,1438
  29AH20110128,   A05,   156,  1,      6,2,20110313,1426, 27.0010, -79.2462,  606,    125.8,  23.9302,  36.9073,2,    195.3,2,    196.3,2,  -999.00,9,  -999.00,9,  -999.00,9,   -999.0,9,   8.0295,2,    25.00,  23.9036,20110313,1438
  29AH20110128,   A05,   156,  1,      7,2,20110313,1426, 27.0010, -79.2462,  606,    100.2,  24.3308,  36.7471,2,    200.8,2,    202.0,2,  -999.00,9,  -999.00,9,  -999.00,9,   -999.0,9,   8.0685,2,    25.00,  24.3094,20110313,1439
  29AH20110128,   A05,   156,  1,      8,2,20110313,1426, 27.0010, -79.2462,  606,     75.8,  24.1969,  36.5700,2,    202.8,2,    203.2,2,  -999.00,9,  -999.00,9,  -999.00,9,   -999.0,9,   8.0619,2,    25.00,  24.1808,20110313,1440
  29AH20110128,   A05,   156,  1,      9,2,20110313,1426, 27.0010, -79.2462,  606,     50.8,  24.5009,  36.5598,2,    200.9,2,    199.5,2,  -999.00,9,  -999.00,9,  -999.00,9,   -999.0,9,   8.0468,2,    25.00,  24.4900,20110313,1440
  29AH20110128,   A05,   156,  1,     10,2,20110313,1426, 27.0010, -79.2462,  606,     25.5,  24.5928,  36.3617,2,    205.9,2,    206.6,2,  -999.00,9,  -999.00,9,  -999.00,9,   -999.0,9,   8.0698,2,    25.00,  24.5873,20110313,1441
  29AH20110128,   A05,   156,  1,     11,2,20110313,1426, 27.0010, -79.2462,  606,      4.9,  24.5949,  36.3620,2,    206.4,2,    207.7,2,  -999.00,9,  -999.00,9,  -999.00,9,   -999.0,9,   8.0615,2,    25.00,  24.5938,20110313,1442