BOTTLE,20220930CCHSIOAMB
EXPOCODE,SECT_ID,STNNBR,CASTNO,BTLNBR,BTLNBR_FLAG_W,DATE,TIME,LATITUDE,LONGITUDE,DEPTH,CTDPRS,CTDTMP,CTDSAL,CTDSAL_FLAG_W,CTDOXY,CTDOXY_FLAG_W,OXYGEN,OXYGEN_FLAG_W,SILCAT,SILCAT_FLAG_W,NITRAT,NITRAT_FLAG_W,PHSPHT,PHSPHT_FLAG_W,ALKALI,ALKALI_FLAG_W,PH_SWS,PH_SWS_FLAG_W,PH_TMP,THETA,BTL_DATE,BTL_TIME
,,,,,,,,,,METERS,DBAR,ITS-90,PSS-78,,UMOL/KG,,UMOL/KG,,UMOL/KG,,UMOL/KG,,UMOL/KG,,UMOL/KG,,,,DEG C,DEG C,,
  29AH20110128,   A05,    80,  1,      1,2,20110220,0112, 24.4998, -48.6527, 4603,   4593.4,   2.1293,  34.8680,2,    253.8,2,    252.0,2,    43.22,2,    20.79,2,     1.54,2,   -999.0,9,   7.7176,2,    25.00,   1.7223,20110220,0112
  29AH20110128,   A05,    80,  1,      2,2,20110220,0112, 24.4998, -48.6527, 4603,   4000.9,   2.3029,  34.8901,2,    255.1,2,    254.1,2,    38.11,2,    17.28,4,     1.32,3,   -999.0,9,   7.7268,2,    25.00,   1.9600,20110220,0124
  29AH20110128,   A05,    80,  1,      3,2,20110220,0112, 24.4998, -48.6527, 4603,   3499.9,   2.4774,  34.9081,2,    253.4,2,    251.7,2,    36.59,2,    19.92,2,     1.42,2,   -999.0,9,   7.7290,2,    25.00,   2.1855,20110220,0133
  29AH20110128,   A05,    80,  1,      4,2,20110220,0112, 24.4998, -48.6527, 4603,   2998.9,   2.7346,  34.9330,2,    250.4,2,    248.1,2,    33.87,2,    19.80,2,     1.42,2,   -999.0,9,   7.7306,2,    25.00,   2.4897,20110220,0143
  29AH20110128,   A05,    80,  1,      5,2,20110220,0112, 24.4998, -48.6527, 4603,   2501.5,   3.0096,  34.9580,2,    249.5,2,    248.5,2,    29.70,2,    19.26,2,     1.34,2,   -999.0,9,   7.7323,2,    25.00,   2.8092,20110220,0153
  29AH20110128,   A05,    80,  1,      6,2,20110220,0112, 24.4998, -48.6527, 4603,   2000.0,   3.6498,  35.0121,2,    246.6,2,    246.7,2,    22.40,2,    18.52,2,     1.21,2,   -999.0,9,   7.7321,2,    25.00,   3.4873,20110220,0202
  29AH20110128,   A05,    80,  1,      7,2,20110220,0112, 24.4998, -48.6527, 4603,   1748.6,   4.2201,  35.0537,2,    240.9,2,    240.7,2,    19.02,2,    18.44,2,     1.24,2,   -999.0,9,   7.7307,2,    25.00,   4.0737,20110220,0207
  29AH20110128,   A05,    80,  1,      8,2,20110220,0112, 24.4998, -48.6527, 4603,   1499.9,   4.7515,  35.0813,2,    233.1,2,    232.7,2,    16.57,2,    18.85,2,     1.27,2,   -999.0,9,   7.7200,2,    25.00,   4.6226,20110220,0212
  29AH20110128,   A05,    80,  1,      9,2,20110220,0112, 24.4998, -48.6527, 4603,   1302.1,   5.5348,  35.1366,2,    217.7,2,    216.8,2,    15.78,2,    19.55,2,     1.31,2,   -999.0,9,   7.7150,2,    25.00,   5.4170,20110220,0217
  29AH20110128,   A05,    80,  1,     10,2,20110220,0112, 24.4998, -48.6527, 4603,   1199.6,   5.9828,  35.1173,2,    201.4,2,    200.2,2,    16.37,2,    20.80,2,     1.52,2,   -999.0,9,   7.6987,2,    25.00,   5.8711,20110220,0219
  29AH20110128,   A05,    80,  1,     11,2,20110220,0112, 24.4998, -48.6527, 4603,   1098.8,   5.9686,  35.0545,2,    189.7,2,    188.4,2,    17.63,2,    22.69,2,     1.56,2,   -999.0,9,   7.6794,2,    25.00,   5.8673,20110220,0221
  29AH20110128,   A05,    80,  1,     12,2,20110220,0112, 24.4998, -48.6527, 4603,   1000.7,   6.8060,  35.0914,2,    170.9,2,    168.6,2,    17.76,2,    23.73,2,     1.64,2,   -999.0,9,   7.6669,2,    25.00,   6.7082,20110220,0223
  29AH20110128,   A05,    80,  1,     13,2,20110220,0112, 24.4998, -48.6527, 4603,    899.9,   7.3583,  35.0878,2,    156.8,2,    155.1,2,    18.03,2,    24.60,2,     1.70,2,   -999.0,9,   7.6577,2,    25.00,   7.2672,20110220,0225
  29AH20110128,   A05,    80,  1,     14,2,20110220,0112, 24.4998, -48.6527, 4603,    800.4,   8.6119,  35.1850,2,    146.1,2,    144.2,2,    16.03,2,    24.03,2,     1.63,2,   -999.0,9,   7.6719,2,    25.00,   8.5240,20110220,0227
  29AH20110128,   A05,    80,  1,     15,2,20110220,0112, 24.4998, -48.6527, 4603,    599.7,  12.6110,  35.6924,2,    164.6,2,    165.1,2,     6.96,2,    15.34,2,     0.90,2,   -999.0,9,   7.7891,2,    25.00,  12.5283,20110220,0231
  29AH20110128,   A05,    80,  1,     16,2,20110220,0112, 24.4998, -48.6527, 4603,    399.3,  16.0195,  36.2005,2,    187.1,2,    187.0,2,     3.11,2,     7.49,2,     0.38,2,   -999.0,9,   7.8926,2,    25.00,  15.9553,20110220,0235
  29AH20110128,   A05,    80,  1,     17,2,20110220,0112, 24.4998, -48.6527, 4603,    300.0,  17.4243,  36.4502,2,    196.6,2,    193.8,2,  -999.00,9,  -999.00,9,  -999.00,9,   -999.0,9,   7.9266,2,    25.00,  17.3733,20110220,0238
  29AH20110128,   A05,    80,  1,     18,2,20110220,0112, 24.4998, -48.6527, 4603,    201.5,  18.1929,  36.5770,2,    200.6,2,    199.1,2,     1.45,2,     3.39,2,     0.15,2,   -999.0,9,   7.9605,2,    25.00,  18.1577,20110220,0240
  29AH20110128,   A05,    80,  1,     19,2,20110220,0112, 24.4998, -48.6527, 4603,    151.3,  18.9560,  36.6945,2,    195.7,2,    194.5,2,     1.25,2,     2.19,2,     0.07,2,   -999.0,9,   7.9638,2,    25.00,  18.9288,20110220,0241
  29AH20110128,   A05,    80,  1,     20,2,20110220,0112, 24.4998, -48.6527, 4603,    124.6,  19.4298,  36.7670,2,    193.8,2,    202.0,3,  -999.00,9,  -999.00,9,  -999.00,9,   -999.0,9,   7.9875,2,    25.00,  19.4070,20110220,0242
  29AH20110128,   A05,    80,  1,     21,2,20110220,0112, 24.4998, -48.6527, 4603,     73.6,  21.2327,  36.9534,2,    212.2,2,    210.2,2,     0.79,2,     0.01,2,     0.05,2,   -999.0,9,   8.0326,2,    25.00,  21.2184,20110220,0243
  29AH20110128,   A05,    80,  1,     22,2,20110220,0112, 24.4998, -48.6527, 4603,     50.3,  22.5525,  37.1456,2,    216.3,2,    218.5,2,     0.86,2,     0.01,2,     0.05,2,   -999.0,9,   8.0604,2,    25.00,  22.5423,20110220,0244
  29AH20110128,   A05,    80,  1,     23,2,20110220,0112, 24.4998, -48.6527, 4603,     24.7,  22.6066,  37.1546,2,    216.7,2,    215.2,2,     0.86,2,     0.01,2,     0.03,2,   -999.0,9,   8.0626,2,    25.00,  22.6016,20110220,0244
  29AH20110128,   A05,    80,  1,     24,2,20110220,0112, 24.4998, -48.6527, 4603,      4.8,  23.0511,  37.2170,2,    214.3,2,    213.8,2,     0.86,2,     0.01,2,     0.04,2,   -999.0,9,   8.0745,2,    25.00,  23.0501,20110220,0245
  29AH20110128,   A05,    81,  1,      1,2,20110220,0722, 24.4998, -49.1152, 4628,   4618.2,   2.1420,  34.8694,2,    253.9,2,    253.0,2,    43.39,2,    16.05,4,  -999.00,9,   2342.3,2,   7.7204,2,    25.00,   1.7316,20110220,0722
  29AH20110128,   A05,    81,  1,      2,2,20110220,0722, 24.4998, -49.1152, 4628,   4500.3,   2.1552,  34.8722,2,    254.3,2,    250.7,2,    42.86,2,    20.64,2,  -999.00,9,   2341.4,2,   7.7215,2,    25.00,   1.7586,20110220,0725
  29AH20110128,   A05,    81,  1,      3,2,20110220,0722, 24.4998, -49.1152, 4628,   4000.2,   2.2575,  34.8868,2,    255.4,2,    254.1,2,    39.88,2,    20.35,2,     1.47,2,   2338.2,2,   7.7262,2,    25.00,   1.9160,20110220,0735
  29AH20110128,   A05,    81,  1,      4,2,20110220,0722, 24.4998, -49.1152, 4628,   3499.1,   2.4863,  34.9098,2,    253.9,2,    253.4,2,  -999.00,9,  -999.00,9,  -999.00,9,   -999.0,9,   7.7292,2,    25.00,   2.1943,20110220,0744
  29AH20110128,   A05,    81,  1,      5,2,20110220,0722, 24.4998, -49.1152, 4628,   2999.1,   2.7757,  34.9361,2,    251.8,2,    251.2,2,    31.30,2,    19.56,2,     1.39,2,   2334.1,2,   7.7321,2,    25.00,   2.5298,20110220,0754
  29AH20110128,   A05,    81,  1,      6,2,20110220,0722, 24.4998, -49.1152, 4628,   2500.9,   3.0702,  34.9628,2,    250.4,2,    248.9,2,  -999.00,9,  -999.00,9,  -999.00,9,   -999.0,9,   7.7315,2,    25.00,   2.8688,20110220,0803
  29AH20110128,   A05,    81,  1,      7,2,20110220,0722, 24.4998, -49.1152, 4628,   2000.6,   3.7396,  35.0181,2,    246.2,2,    245.6,2,    21.66,2,    18.72,2,     1.24,2,   2324.0,2,   7.7309,2,    25.00,   3.5757,20110220,0813
  29AH20110128,   A05,    81,  1,      8,2,20110220,0722, 24.4998, -49.1152, 4628,   1750.7,   4.2747,  35.0562,2,    240.9,2,    241.0,2,    18.09,2,    18.72,2,     1.24,2,   2321.4,2,   7.7300,2,    25.00,   4.1274,20110220,0818
  29AH20110128,   A05,    81,  1,      9,2,20110220,0722, 24.4998, -49.1152, 4628,   1500.2,   4.8085,  35.0709,2,    231.0,2,    230.2,2,    16.57,2,    19.30,2,     1.29,2,   2319.8,2,   7.7211,2,    25.00,   4.6789,20110220,0823
  29AH20110128,   A05,    81,  1,     10,2,20110220,0722, 24.4998, -49.1152, 4628,   1299.6,   5.2776,  35.0577,2,    211.8,2,    212.0,2,    17.17,2,    20.96,2,     1.36,2,   2317.9,2,   7.6983,2,    25.00,   5.1627,20110220,0827
  29AH20110128,   A05,    81,  1,     11,2,20110220,0722, 24.4998, -49.1152, 4628,   1201.0,   5.5850,  35.0458,2,    199.3,2,    199.5,2,    17.90,2,    22.12,2,     1.49,2,   2318.4,2,   7.6866,2,    25.00,   5.4769,20110220,0829
  29AH20110128,   A05,    81,  1,     12,2,20110220,0722, 24.4998, -49.1152, 4628,   1101.4,   5.9102,  35.0182,2,    182.3,2,    181.2,2,    19.01,2,    23.85,2,     1.72,2,   2320.0,2,   7.6650,2,    25.00,   5.8092,20110220,0831
  29AH20110128,   A05,    81,  1,     13,2,20110220,0722, 24.4998, -49.1152, 4628,    999.8,   6.8723,  35.0834,2,    168.7,2,    168.3,2,    17.76,2,    23.89,2,     1.68,2,   -999.0,9,   7.6657,2,    25.00,   6.7741,20110220,0833
  29AH20110128,   A05,    81,  1,     14,2,20110220,0722, 24.4998, -49.1152, 4628,    901.5,   7.8707,  35.1369,2,    153.8,2,    153.2,2,    17.03,2,    24.30,2,     1.68,2,   2322.6,2,   7.6641,2,    25.00,   7.7760,20110220,0836
  29AH20110128,   A05,    81,  1,     15,2,20110220,0722, 24.4998, -49.1152, 4628,    800.3,   9.1339,  35.2499,2,    147.8,2,    146.3,2,    14.53,2,    23.02,2,     1.46,2,   2324.6,2,   7.6852,2,    25.00,   9.0429,20110220,0838
  29AH20110128,   A05,    81,  1,     16,2,20110220,0722, 24.4998, -49.1152, 4628,    600.5,  13.0880,  35.7580,2,    174.8,2,    175.2,2,     6.21,2,    13.76,2,  -999.00,9,   2347.2,2,   7.8085,2,    25.00,  13.0032,20110220,0842
  29AH20110128,   A05,    81,  1,     17,2,20110220,0722, 24.4998, -49.1152, 4628,    400.8,  16.8650,  36.3524,2,    196.8,2,    198.2,2,     1.98,2,     4.47,2,     0.17,2,   2379.7,2,   7.9286,2,    25.00,  16.7982,20110220,0846
  29AH20110128,   A05,    81,  1,     18,2,20110220,0722, 24.4998, -49.1152, 4628,    300.7,  17.8044,  36.5128,2,    204.2,2,    203.5,2,     1.78,2,     3.85,2,  -999.00,9,   2388.0,2,   7.9559,2,    25.00,  17.7525,20110220,0848
  29AH20110128,   A05,    81,  1,     19,2,20110220,0722, 24.4998, -49.1152, 4628,    149.9,  20.6127,  36.9158,2,    200.0,2,    201.6,2,     0.86,2,     0.40,2,     0.04,2,   2415.2,2,   8.0009,2,    25.00,  20.5841,20110220,0852
  29AH20110128,   A05,    81,  1,     20,2,20110220,0722, 24.4998, -49.1152, 4628,    126.9,  21.3447,  36.9638,2,    216.4,2,    214.6,2,     0.92,2,     0.15,2,     0.05,2,   -999.0,9,   8.0406,2,    25.00,  21.3199,20110220,0852
  29AH20110128,   A05,    81,  1,     21,2,20110220,0722, 24.4998, -49.1152, 4628,     75.3,  22.9596,  37.2747,2,    214.2,2,    213.9,2,     1.05,2,     0.14,2,     0.06,2,   2439.0,2,   8.0680,2,    25.00,  22.9441,20110220,0854
  29AH20110128,   A05,    81,  1,     22,2,20110220,0722, 24.4998, -49.1152, 4628,     50.1,  22.9460,  37.2609,2,    214.5,2,    214.0,2,     1.05,2,     0.14,2,     0.06,2,   -999.0,9,   8.0689,2,    25.00,  22.9357,20110220,0854
  29AH20110128,   A05,    81,  1,     23,2,20110220,0722, 24.4998, -49.1152, 4628,     24.9,  22.8892,  37.2345,2,    215.0,2,    214.6,2,     1.05,2,     0.14,2,     0.05,2,   -999.0,9,   8.0642,2,    25.00,  22.8841,20110220,0855
  29AH20110128,   A05,    81,  1,     24,2,20110220,0722, 24.4998, -49.1152, 4628,      6.0,  23.4443,  37.2451,2,    212.0,2,    211.6,2,     1.05,2,     0.13,2,     0.05,2,   2436.0,2,   8.0785,2,    25.00,  23.4431,20110220,0856
  29AH20110128,   A05,    82,  1,      1,2,20110220,1348, 24.5000, -49.5758, 5030,   5020.3,   2.1709,  34.8674,2,    254.1,2,    252.5,2,    47.09,2,    20.61,2,  -999.00,9,   -999.0,9,   7.7212,2,    25.00,   1.7101,20110220,1348
  29AH20110128,   A05,    82,  1,      2,2,20110220,1348, 24.5000, -49.5758, 5030,   4500.8,   2.1864,  34.8763,2,    255.4,2,    254.1,2,    42.40,2,    20.69,2,     1.50,2,   -999.0,9,   7.7274,2,    25.00,   1.7887,20110220,1359
  29AH20110128,   A05,    82,  1,      3,2,20110220,1348, 24.5000, -49.5758, 5030,   3999.8,   2.2880,  34.8897,2,    255.7,2,    253.4,2,    39.85,2,    20.30,2,     1.36,2,   -999.0,9,   7.7248,2,    25.00,   1.9457,20110220,1408
  29AH20110128,   A05,    82,  1,      4,2,20110220,1348, 24.5000, -49.5758, 5030,   3497.9,   2.4793,  34.9089,2,    253.2,2,    253.5,2,  -999.00,9,  -999.00,9,  -999.00,9,   -999.0,9,   7.7270,2,    25.00,   2.1876,20110220,1418
  29AH20110128,   A05,    82,  1,      5,2,20110220,1348, 24.5000, -49.5758, 5030,   2998.2,   2.7695,  34.9357,2,    251.1,2,    251.0,2,    32.14,2,    19.71,2,     1.32,2,   -999.0,9,   7.7292,2,    25.00,   2.5239,20110220,1428
  29AH20110128,   A05,    82,  1,      6,2,20110220,1348, 24.5000, -49.5758, 5030,   2500.5,   3.0753,  34.9633,2,    249.6,2,    248.8,2,    28.45,2,    19.12,2,     1.29,2,   -999.0,9,   7.7305,2,    25.00,   2.8738,20110220,1437
  29AH20110128,   A05,    82,  1,      7,2,20110220,1348, 24.5000, -49.5758, 5030,   1999.7,   3.7461,  35.0170,2,    245.3,2,    245.7,2,    22.42,2,    18.61,2,     1.29,2,   -999.0,9,   7.7317,2,    25.00,   3.5822,20110220,1447
  29AH20110128,   A05,    82,  1,      8,2,20110220,1348, 24.5000, -49.5758, 5030,   1751.0,   4.3002,  35.0577,2,    239.5,2,    239.7,2,    17.99,2,    17.55,3,  -999.00,9,   -999.0,9,   7.7301,2,    25.00,   4.1525,20110220,1452
  29AH20110128,   A05,    82,  1,      9,2,20110220,1348, 24.5000, -49.5758, 5030,   1500.6,   4.8718,  35.0656,2,    228.4,2,    228.2,2,    13.49,2,  -999.00,9,  -999.00,9,   -999.0,9,   7.7181,2,    25.00,   4.7415,20110220,1457
  29AH20110128,   A05,    82,  1,     10,2,20110220,1348, 24.5000, -49.5758, 5030,   1300.3,   5.3771,  35.0563,2,    209.4,2,    209.3,2,    17.32,2,    21.09,2,     1.46,2,   -999.0,9,   7.7162,2,    25.00,   5.2611,20110220,1501
  29AH20110128,   A05,    82,  1,     11,2,20110220,1348, 24.5000, -49.5758, 5030,   1199.9,   5.7230,  35.0345,2,    191.7,2,    190.7,2,    18.39,2,    22.81,2,     1.58,2,   -999.0,9,   7.6767,2,    25.00,   5.6138,20110220,1503
  29AH20110128,   A05,    82,  1,     12,2,20110220,1348, 24.5000, -49.5758, 5030,   1102.3,   6.1966,  35.0127,2,    171.5,2,    169.9,2,    19.73,2,    24.92,2,     1.76,2,   -999.0,9,   7.6530,2,    25.00,   6.0932,20110220,1506
  29AH20110128,   A05,    82,  1,     13,2,20110220,1348, 24.5000, -49.5758, 5030,   1001.9,   6.7383,  35.0166,2,    156.8,2,    156.6,2,    19.93,2,    25.55,2,     1.90,2,   -999.0,9,   7.6443,2,    25.00,   6.6409,20110220,1508
  29AH20110128,   A05,    82,  1,     14,2,20110220,1348, 24.5000, -49.5758, 5030,    901.5,   7.4400,  35.0621,2,    148.0,2,    146.7,2,    18.59,2,    25.84,2,     1.76,2,   -999.0,9,   7.6461,2,    25.00,   7.3483,20110220,1510
  29AH20110128,   A05,    82,  1,     15,2,20110220,1348, 24.5000, -49.5758, 5030,    800.2,   9.0336,  35.2484,2,    147.6,2,    147.7,2,    14.70,2,    22.63,2,     1.47,2,   -999.0,9,   7.6858,2,    25.00,   8.9432,20110220,1512
  29AH20110128,   A05,    82,  1,     16,2,20110220,1348, 24.5000, -49.5758, 5030,    600.0,  13.1814,  35.7633,2,    169.4,2,    168.6,2,     6.99,2,    14.23,2,  -999.00,9,   -999.0,9,   7.8030,2,    25.00,  13.0963,20110220,1516
  29AH20110128,   A05,    82,  1,     17,2,20110220,1348, 24.5000, -49.5758, 5030,    399.1,  16.5602,  36.2953,2,    194.0,2,    193.6,2,     1.96,2,     4.74,2,     0.17,2,   -999.0,9,   7.9136,2,    25.00,  16.4946,20110220,1520
  29AH20110128,   A05,    82,  1,     18,2,20110220,1348, 24.5000, -49.5758, 5030,    300.5,  17.7556,  36.5016,2,    200.8,2,    200.7,2,     1.96,2,     4.10,2,  -999.00,9,   -999.0,9,   7.9567,2,    25.00,  17.7039,20110220,1522
  29AH20110128,   A05,    82,  1,     19,2,20110220,1348, 24.5000, -49.5758, 5030,    150.1,  19.9898,  36.8120,2,    198.7,2,    198.2,2,     1.15,2,     0.85,2,     0.04,2,   -999.0,9,   7.9857,2,    25.00,  19.9618,20110220,1526
  29AH20110128,   A05,    82,  1,     20,2,20110220,1348, 24.5000, -49.5758, 5030,    111.9,  21.6855,  37.0287,2,    205.9,2,    205.5,2,     1.03,2,     0.08,2,     0.06,2,   -999.0,9,   8.0297,2,    25.00,  21.6634,20110220,1527
  29AH20110128,   A05,    82,  1,     21,2,20110220,1348, 24.5000, -49.5758, 5030,     74.7,  22.9206,  37.1998,2,    214.0,2,    213.1,2,     1.08,2,     0.04,2,     0.06,2,   -999.0,9,   8.0609,2,    25.00,  22.9052,20110220,1528
  29AH20110128,   A05,    82,  1,     22,2,20110220,1348, 24.5000, -49.5758, 5030,     38.9,  23.2981,  37.2393,2,    212.2,2,    211.2,2,     1.08,2,     0.04,2,     0.04,2,   -999.0,9,   8.0696,2,    25.00,  23.2900,20110220,1529
  29AH20110128,   A05,    82,  1,     23,2,20110220,1348, 24.5000, -49.5758, 5030,     25.2,  23.4601,  37.2672,2,    212.4,2,    211.7,2,     1.08,2,     0.04,2,     0.04,2,   -999.0,9,   8.0790,2,    25.00,  23.4548,20110220,1529
  29AH20110128,   A05,    82,  1,     24,2,20110220,1348, 24.5000, -49.5758, 5030,      5.1,  23.6916,  37.2678,2,    212.0,2,    211.5,2,     1.08,2,     0.04,2,     0.04,2,   -999.0,9,   8.0851,2,    25.00,  23.6905,20110220,1530