BOTTLE,20220930CCHSIOAMB
EXPOCODE,SECT_ID,STNNBR,CASTNO,BTLNBR,BTLNBR_FLAG_W,DATE,TIME,LATITUDE,LONGITUDE,DEPTH,CTDPRS,CTDTMP,CTDSAL,CTDSAL_FLAG_W,CTDOXY,CTDOXY_FLAG_W,OXYGEN,OXYGEN_FLAG_W,SILCAT,SILCAT_FLAG_W,NITRAT,NITRAT_FLAG_W,PHSPHT,PHSPHT_FLAG_W,ALKALI,ALKALI_FLAG_W,PH_SWS,PH_SWS_FLAG_W,PH_TMP,THETA,BTL_DATE,BTL_TIME
,,,,,,,,,,METERS,DBAR,ITS-90,PSS-78,,UMOL/KG,,UMOL/KG,,UMOL/KG,,UMOL/KG,,UMOL/KG,,UMOL/KG,,,,DEG C,DEG C,,
  29AH20110128,   A05,   143,  1,      1,2,20110310,1241, 26.2033, -76.6217, 4805,   4795.5,   2.2726,  34.8854,2,    263.4,2,    262.5,2,    37.61,2,    19.01,2,     1.43,2,   -999.0,9,   7.7233,2,    25.00,   1.8363,20110310,1241
  29AH20110128,   A05,   143,  1,      2,2,20110310,1241, 26.2033, -76.6217, 4805,   4500.3,   2.2975,  34.8912,2,    266.4,2,    265.4,2,    33.66,2,    18.51,2,     1.31,2,   -999.0,9,   7.7247,2,    25.00,   1.8964,20110310,1247
  29AH20110128,   A05,   143,  1,      3,2,20110310,1241, 26.2033, -76.6217, 4805,   3999.9,   2.3268,  34.8975,2,    268.9,2,    267.2,2,    30.66,2,    18.00,2,     1.29,2,   -999.0,9,   7.7263,2,    25.00,   1.9833,20110310,1257
  29AH20110128,   A05,   143,  1,      4,2,20110310,1241, 26.2033, -76.6217, 4805,   3500.2,   2.4540,  34.9082,2,    270.5,2,    269.0,2,    26.00,2,    17.58,2,     1.22,2,   -999.0,9,   7.7259,2,    25.00,   2.1627,20110310,1307
  29AH20110128,   A05,   143,  1,      5,2,20110310,1241, 26.2033, -76.6217, 4805,   2999.7,   2.7907,  34.9284,2,    267.8,2,    267.0,2,    23.11,2,    17.56,2,     1.25,2,   -999.0,9,   7.7297,2,    25.00,   2.5445,20110310,1317
  29AH20110128,   A05,   143,  1,      6,2,20110310,1241, 26.2033, -76.6217, 4805,   2500.2,   3.2043,  34.9459,2,    265.2,2,    266.3,2,    19.59,2,    17.58,2,     1.25,2,   -999.0,9,   7.7276,2,    25.00,   3.0005,20110310,1327
  29AH20110128,   A05,   143,  1,      7,2,20110310,1241, 26.2033, -76.6217, 4805,   1999.4,   3.5787,  34.9615,2,    263.4,2,    264.4,2,    16.73,2,    17.62,2,     1.26,2,   -999.0,9,   7.7257,2,    25.00,   3.4175,20110310,1336
  29AH20110128,   A05,   143,  1,      8,2,20110310,1241, 26.2033, -76.6217, 4805,   1750.1,   3.8188,  34.9684,2,    261.8,2,    262.0,2,    15.22,2,    17.62,2,     1.26,2,   -999.0,9,   7.7198,2,    25.00,   3.6777,20110310,1342
  29AH20110128,   A05,   143,  1,      9,2,20110310,1241, 26.2033, -76.6217, 4805,   1499.8,   4.2436,  34.9943,2,    255.0,2,    255.9,2,    14.56,2,    17.79,2,     1.25,2,   -999.0,9,   7.7173,2,    25.00,   4.1206,20110310,1347
  29AH20110128,   A05,   143,  1,     10,2,20110310,1241, 26.2033, -76.6217, 4805,   1300.0,   4.7171,  35.0204,2,    244.9,2,    244.3,2,    14.05,2,    18.21,2,     1.31,2,   -999.0,9,   7.7107,2,    25.00,   4.6077,20110310,1351
  29AH20110128,   A05,   143,  1,     11,2,20110310,1241, 26.2033, -76.6217, 4805,   1200.2,   5.1171,  35.0487,2,    234.2,2,    234.3,2,    14.47,2,    18.78,2,     1.36,2,   -999.0,9,   7.7094,2,    25.00,   5.0133,20110310,1353
  29AH20110128,   A05,   143,  1,     12,2,20110310,1241, 26.2033, -76.6217, 4805,   1100.7,   5.6727,  35.0718,2,    216.8,2,    216.4,2,    15.68,2,    19.89,2,     1.36,2,   -999.0,9,   7.6998,2,    25.00,   5.5736,20110310,1356
  29AH20110128,   A05,   143,  1,     13,2,20110310,1241, 26.2033, -76.6217, 4805,   1000.2,   6.5059,  35.0807,2,    191.8,2,    189.7,2,    16.04,2,    21.83,2,     1.52,2,   -999.0,9,   7.6826,2,    25.00,   6.4103,20110310,1358
  29AH20110128,   A05,   143,  1,     14,2,20110310,1241, 26.2033, -76.6217, 4805,    901.3,   7.8449,  35.1209,2,    159.8,2,    158.3,2,    17.05,2,    23.88,2,     1.68,2,   -999.0,9,   7.6622,2,    25.00,   7.7504,20110310,1400
  29AH20110128,   A05,   143,  1,     15,2,20110310,1241, 26.2033, -76.6217, 4805,    800.9,   9.5757,  35.2563,2,    143.6,2,    143.3,2,    15.01,2,    23.45,2,     1.60,2,   -999.0,9,   7.6794,2,    25.00,   9.4821,20110310,1403
  29AH20110128,   A05,   143,  1,     16,2,20110310,1241, 26.2033, -76.6217, 4805,    600.8,  13.8227,  35.8182,2,    157.0,2,    157.9,2,     7.74,2,    15.19,2,     0.91,2,   -999.0,9,   7.7998,2,    25.00,  13.7348,20110310,1407
  29AH20110128,   A05,   143,  1,     17,2,20110310,1241, 26.2033, -76.6217, 4805,    499.6,  16.1064,  36.1993,2,    175.5,2,    177.3,2,     4.53,2,     9.44,2,     0.55,2,   -999.0,9,   7.8816,2,    25.00,  16.0256,20110310,1409
  29AH20110128,   A05,   143,  1,     18,2,20110310,1241, 26.2033, -76.6217, 4805,    301.0,  18.4896,  36.5994,2,    198.1,2,    198.6,2,     2.35,2,     3.57,2,     0.18,2,   -999.0,9,   7.9678,2,    25.00,  18.4363,20110310,1414
  29AH20110128,   A05,   143,  1,     19,2,20110310,1241, 26.2033, -76.6217, 4805,    150.1,  21.5878,  36.8044,2,    207.7,2,    208.1,2,     1.64,2,     0.47,2,     0.04,2,   -999.0,9,   8.0374,2,    25.00,  21.5582,20110310,1417
  29AH20110128,   A05,   143,  1,     20,2,20110310,1241, 26.2033, -76.6217, 4805,    125.4,  22.0824,  36.8178,2,    204.7,2,    204.6,2,     1.62,2,     0.45,2,     0.04,2,   -999.0,9,   8.0453,2,    25.00,  22.0573,20110310,1418
  29AH20110128,   A05,   143,  1,     21,2,20110310,1241, 26.2033, -76.6217, 4805,     75.1,  22.8168,  36.8202,2,    204.3,2,    203.9,2,     1.69,2,     0.34,2,     0.03,2,   -999.0,9,   8.0520,2,    25.00,  22.8014,20110310,1419
  29AH20110128,   A05,   143,  1,     22,2,20110310,1241, 26.2033, -76.6217, 4805,     50.1,  23.2180,  36.7743,2,    209.9,2,    209.7,2,     1.70,2,     0.14,2,     0.03,2,   -999.0,9,   8.0607,2,    25.00,  23.2076,20110310,1420
  29AH20110128,   A05,   143,  1,     23,2,20110310,1241, 26.2033, -76.6217, 4805,     25.7,  23.4678,  36.6468,2,    211.2,2,    211.1,2,     1.78,2,     0.08,2,     0.04,2,   -999.0,9,   8.0609,2,    25.00,  23.4624,20110310,1421
  29AH20110128,   A05,   143,  1,     24,2,20110310,1241, 26.2033, -76.6217, 4805,      5.2,  23.4105,  36.5505,2,    211.1,2,    209.5,2,     1.88,2,     0.16,2,     0.05,2,   -999.0,9,   8.0605,2,    25.00,  23.4094,20110310,1421
  29AH20110128,   A05,   144,  1,      1,2,20110310,1721, 26.2040, -76.7113, 4741,   4730.8,   2.2794,  34.8868,2,    264.3,2,    264.0,2,    38.28,2,    19.07,2,     1.39,2,   -999.0,9,   7.7237,2,    25.00,   1.8508,20110310,1721
  29AH20110128,   A05,   144,  1,      2,2,20110310,1721, 26.2040, -76.7113, 4741,   4500.2,   2.2755,  34.8891,2,    265.4,2,    265.7,2,    35.16,2,    18.89,2,     1.35,2,   -999.0,9,   7.7239,2,    25.00,   1.8751,20110310,1727
  29AH20110128,   A05,   144,  1,      3,2,20110310,1721, 26.2040, -76.7113, 4741,   3999.8,   2.3259,  34.8972,2,    268.6,2,    267.6,2,    31.76,2,    18.30,2,     1.34,2,   -999.0,9,   7.7253,2,    25.00,   1.9825,20110310,1737
  29AH20110128,   A05,   144,  1,      4,2,20110310,1721, 26.2040, -76.7113, 4741,   3500.3,   2.5466,  34.9129,2,    270.1,2,    269.9,2,    24.49,2,    17.69,2,     1.26,2,   -999.0,9,   7.7288,2,    25.00,   2.2529,20110310,1746
  29AH20110128,   A05,   144,  1,      5,2,20110310,1721, 26.2040, -76.7113, 4741,   3000.4,   2.9227,  34.9334,2,    267.2,2,    267.5,2,    20.47,3,    17.76,2,     1.25,2,   -999.0,9,   7.7313,2,    25.00,   2.6735,20110310,1756
  29AH20110128,   A05,   144,  1,      6,2,20110310,1721, 26.2040, -76.7113, 4741,   2498.7,   3.3124,  34.9577,2,    262.8,2,    264.1,2,    20.94,2,    18.06,2,     1.31,2,   -999.0,9,   7.7302,2,    25.00,   3.1068,20110310,1806
  29AH20110128,   A05,   144,  1,      7,2,20110310,1721, 26.2040, -76.7113, 4741,   1999.8,   3.6767,  34.9692,2,    262.4,2,    264.1,2,  -999.00,9,  -999.00,9,  -999.00,9,   -999.0,9,   7.7246,2,    25.00,   3.5140,20110310,1815
  29AH20110128,   A05,   144,  1,      8,2,20110310,1721, 26.2040, -76.7113, 4741,   1750.5,   3.7963,  34.9706,2,    261.7,2,    263.0,2,    16.12,2,    17.82,2,     1.25,2,   -999.0,9,   7.7218,2,    25.00,   3.6555,20110310,1821
  29AH20110128,   A05,   144,  1,      9,2,20110310,1721, 26.2040, -76.7113, 4741,   1500.0,   4.0582,  34.9794,2,    258.8,2,    260.5,2,    14.63,2,    17.88,2,     1.27,2,   -999.0,9,   7.7153,2,    25.00,   3.9373,20110310,1826
  29AH20110128,   A05,   144,  1,     10,2,20110310,1721, 26.2040, -76.7113, 4741,   1301.3,   4.4995,  35.0022,2,    249.1,2,    249.6,2,    14.47,2,    18.28,2,     1.29,2,   -999.0,9,   7.7112,2,    25.00,   4.3921,20110310,1830
  29AH20110128,   A05,   144,  1,     11,2,20110310,1721, 26.2040, -76.7113, 4741,   1201.0,   4.9414,  35.0271,2,    239.2,2,    240.4,2,    14.85,2,    18.70,2,     1.30,2,   -999.0,9,   7.7055,2,    25.00,   4.8391,20110310,1833
  29AH20110128,   A05,   144,  1,     12,2,20110310,1721, 26.2040, -76.7113, 4741,   1099.9,   5.5564,  35.0677,2,    221.2,2,    221.8,2,    15.58,2,    19.76,2,     1.38,2,   -999.0,9,   7.7012,2,    25.00,   5.4584,20110310,1835
  29AH20110128,   A05,   144,  1,     13,2,20110310,1721, 26.2040, -76.7113, 4741,   1001.2,   6.2888,  35.0829,2,    198.9,2,    199.5,2,    15.71,2,    21.36,2,     1.49,2,   -999.0,9,   7.6872,2,    25.00,   6.1947,20110310,1837
  29AH20110128,   A05,   144,  1,     14,2,20110310,1721, 26.2040, -76.7113, 4741,    899.4,   7.3980,  35.1013,2,    167.8,2,    167.4,2,    16.77,2,    23.81,2,     1.68,2,   -999.0,9,   7.6699,2,    25.00,   7.3067,20110310,1840
  29AH20110128,   A05,   144,  1,     15,2,20110310,1721, 26.2040, -76.7113, 4741,    799.9,   8.7179,  35.1466,2,    141.0,2,    140.4,2,    16.70,2,  -999.00,9,     1.79,2,   -999.0,9,   7.6574,2,    25.00,   8.6295,20110310,1842
  29AH20110128,   A05,   144,  1,     16,2,20110310,1721, 26.2040, -76.7113, 4741,    600.7,  13.4742,  35.7761,2,    155.4,2,    156.6,2,     8.16,2,    15.71,2,     1.01,2,   -999.0,9,   7.7942,2,    25.00,  13.3878,20110310,1846
  29AH20110128,   A05,   144,  1,     17,2,20110310,1721, 26.2040, -76.7113, 4741,    399.7,  17.5370,  36.4542,2,    187.4,2,    188.6,2,     2.89,2,     6.38,2,     0.35,2,   -999.0,9,   7.9343,2,    25.00,  17.4686,20110310,1850
  29AH20110128,   A05,   144,  1,     18,2,20110310,1721, 26.2040, -76.7113, 4741,    300.3,  18.6102,  36.6098,2,    193.8,2,    195.1,2,     1.95,2,     3.69,2,     0.18,2,   -999.0,9,   7.9641,2,    25.00,  18.5568,20110310,1852
  29AH20110128,   A05,   144,  1,     19,2,20110310,1721, 26.2040, -76.7113, 4741,    150.3,  21.8182,  36.8146,2,    206.0,2,    206.3,2,     1.96,2,     0.57,2,     0.04,2,   -999.0,9,   8.0342,2,    25.00,  21.7884,20110310,1856
  29AH20110128,   A05,   144,  1,     20,2,20110310,1721, 26.2040, -76.7113, 4741,    126.2,  22.2721,  36.8048,2,    208.6,2,    208.8,2,     1.70,2,     0.40,2,     0.04,2,   -999.0,9,   8.0493,2,    25.00,  22.2467,20110310,1856
  29AH20110128,   A05,   144,  1,     21,2,20110310,1721, 26.2040, -76.7113, 4741,     76.1,  23.1984,  36.7546,2,    211.2,2,    211.4,2,     1.83,2,     0.20,2,     0.04,2,   -999.0,9,   8.0615,2,    25.00,  23.1827,20110310,1858
  29AH20110128,   A05,   144,  1,     22,2,20110310,1721, 26.2040, -76.7113, 4741,     50.5,  23.2904,  36.6688,2,    211.7,2,    212.7,2,     1.83,2,     0.16,2,     0.04,2,   -999.0,9,   8.0625,2,    25.00,  23.2799,20110310,1859
  29AH20110128,   A05,   144,  1,     23,2,20110310,1721, 26.2040, -76.7113, 4741,     25.2,  23.3464,  36.6284,2,    212.4,2,    212.9,2,     1.77,2,     0.17,2,     0.04,2,   -999.0,9,   8.0600,2,    25.00,  23.3412,20110310,1901
  29AH20110128,   A05,   144,  1,     24,2,20110310,1721, 26.2040, -76.7113, 4741,      5.8,  23.5449,  36.6336,2,    212.5,2,    213.1,2,     1.72,2,     0.18,2,     0.04,2,   -999.0,9,   8.0623,2,    25.00,  23.5437,20110310,1902
  29AH20110128,   A05,   145,  1,      1,2,20110310,2136, 26.2037, -76.7997, 4945,   4935.5,   2.3064,  34.8868,2,    264.6,2,    262.9,2,    38.01,2,    19.32,2,     1.41,2,   2336.3,2,   7.7227,2,    25.00,   1.8516,20110310,2136
  29AH20110128,   A05,   145,  1,      2,2,20110310,2136, 26.2037, -76.7997, 4945,   4500.0,   2.3072,  34.8918,2,    266.3,2,    266.4,2,    35.01,2,    18.83,2,     1.38,2,   2331.6,2,   7.7236,2,    25.00,   1.9058,20110310,2145
  29AH20110128,   A05,   145,  1,      3,2,20110310,2136, 26.2037, -76.7997, 4945,   4000.0,   2.3659,  34.8998,2,    269.0,2,    268.6,2,    30.10,2,    18.28,2,     1.34,2,   2326.0,2,   7.7257,2,    25.00,   2.0213,20110310,2154
  29AH20110128,   A05,   145,  1,      4,2,20110310,2136, 26.2037, -76.7997, 4945,   3499.9,   2.6238,  34.9171,2,    270.1,2,    270.0,2,    25.84,2,    17.86,2,     1.31,2,   2321.3,2,   7.7278,2,    25.00,   2.3282,20110310,2204
  29AH20110128,   A05,   145,  1,      5,2,20110310,2136, 26.2037, -76.7997, 4945,   3000.3,   3.0078,  34.9415,2,    265.2,2,    265.1,2,    22.80,2,    18.18,2,     1.28,2,   2322.1,2,   7.7306,2,    25.00,   2.7568,20110310,2213
  29AH20110128,   A05,   145,  1,      6,2,20110310,2136, 26.2037, -76.7997, 4945,   2498.7,   3.3611,  34.9523,2,    264.7,2,    264.9,2,    19.33,2,    18.03,2,     1.29,2,   2316.8,2,   7.7239,2,    25.00,   3.1546,20110310,2223
  29AH20110128,   A05,   145,  1,      7,2,20110310,2136, 26.2037, -76.7997, 4945,   2000.3,   3.6451,  34.9630,2,    263.5,2,    263.8,2,    16.94,2,    18.01,2,     1.26,2,   2314.8,2,   7.7210,2,    25.00,   3.4828,20110310,2233
  29AH20110128,   A05,   145,  1,      8,2,20110310,2136, 26.2037, -76.7997, 4945,   1749.8,   3.8120,  34.9735,2,    261.3,2,    262.4,2,    15.79,2,    18.04,2,     1.29,2,   2315.1,2,   7.7182,2,    25.00,   3.6710,20110310,2238
  29AH20110128,   A05,   145,  1,      9,2,20110310,2136, 26.2037, -76.7997, 4945,   1499.9,   3.9781,  34.9762,2,    259.8,2,    260.6,2,    14.87,2,    18.03,2,     1.28,2,   2312.5,2,   7.7159,2,    25.00,   3.8581,20110310,2243
  29AH20110128,   A05,   145,  1,     10,2,20110310,2136, 26.2037, -76.7997, 4945,   1300.2,   4.5608,  35.0059,2,    248.3,2,    248.9,2,    14.60,2,    18.55,2,     1.29,2,   2316.0,2,   7.7030,2,    25.00,   4.4529,20110310,2247
  29AH20110128,   A05,   145,  1,     11,2,20110310,2136, 26.2037, -76.7997, 4945,   1200.5,   4.8430,  35.0287,2,    241.9,2,    242.3,2,    14.59,2,    18.72,2,     1.28,2,   2315.8,2,   7.7043,2,    25.00,   4.7417,20110310,2250
  29AH20110128,   A05,   145,  1,     12,2,20110310,2136, 26.2037, -76.7997, 4945,   1099.9,   5.3487,  35.0567,2,    227.4,2,    227.4,2,    14.00,2,    19.61,2,     1.39,2,   2318.2,2,   7.6986,2,    25.00,   5.2524,20110310,2252
  29AH20110128,   A05,   145,  1,     13,2,20110310,2136, 26.2037, -76.7997, 4945,    999.3,   5.9654,  35.0770,2,    206.6,2,    206.3,2,    16.35,2,    21.21,2,     1.47,2,   2322.3,2,   7.6891,2,    25.00,   5.8740,20110310,2254
  29AH20110128,   A05,   145,  1,     14,2,20110310,2136, 26.2037, -76.7997, 4945,    900.4,   7.0316,  35.0888,2,    176.5,2,    174.6,2,    18.24,2,    23.56,2,     1.63,2,   2323.4,2,   7.6661,2,    25.00,   6.9427,20110310,2256
  29AH20110128,   A05,   145,  1,     15,2,20110310,2136, 26.2037, -76.7997, 4945,    800.0,   8.4596,  35.1514,2,    148.4,2,    148.8,2,    17.96,2,    24.94,2,     1.71,2,   2325.1,2,   7.6555,2,    25.00,   8.3726,20110310,2258
  29AH20110128,   A05,   145,  1,     16,2,20110310,2136, 26.2037, -76.7997, 4945,    601.3,  13.1864,  35.7288,2,    153.2,2,    162.1,2,  -999.00,9,  -999.00,9,  -999.00,9,   -999.0,9,   7.7918,2,    25.00,  13.1011,20110310,2302
  29AH20110128,   A05,   145,  1,     17,2,20110310,2136, 26.2037, -76.7997, 4945,    399.5,  17.5141,  36.4532,2,    188.7,2,    189.3,2,     2.88,2,     6.49,2,     0.36,2,   2388.0,2,   7.9302,2,    25.00,  17.4458,20110310,2307
  29AH20110128,   A05,   145,  1,     18,2,20110310,2136, 26.2037, -76.7997, 4945,    298.0,  18.5249,  36.6007,2,    192.1,2,    192.9,2,     2.04,2,     4.22,2,     0.21,2,   2397.1,2,   7.9580,2,    25.00,  18.4720,20110310,2309
  29AH20110128,   A05,   145,  1,     19,2,20110310,2136, 26.2037, -76.7997, 4945,    150.1,  21.7660,  36.8253,2,    206.3,2,    207.3,2,     1.73,2,     0.50,2,     0.04,2,   2410.6,2,   8.0411,2,    25.00,  21.7363,20110310,2312
  29AH20110128,   A05,   145,  1,     20,2,20110310,2136, 26.2037, -76.7997, 4945,    124.5,  22.2674,  36.8206,2,    205.2,2,    206.6,2,     1.80,2,     0.50,2,     0.04,2,   -999.0,9,   8.0434,2,    25.00,  22.2424,20110310,2313
  29AH20110128,   A05,   145,  1,     21,2,20110310,2136, 26.2037, -76.7997, 4945,     75.1,  23.1172,  36.7740,2,    210.1,2,    210.0,2,     1.75,2,     0.25,2,     0.04,2,   2406.4,2,   8.0533,2,    25.00,  23.1017,20110310,2314
  29AH20110128,   A05,   145,  1,     22,2,20110310,2136, 26.2037, -76.7997, 4945,     50.4,  23.1525,  36.7680,2,    211.9,2,    211.1,2,     1.79,2,     0.17,2,     0.04,2,   -999.0,9,   8.0520,2,    25.00,  23.1421,20110310,2314
  29AH20110128,   A05,   145,  1,     23,2,20110310,2136, 26.2037, -76.7997, 4945,     24.6,  23.2818,  36.7476,2,    212.8,2,    213.2,2,     1.75,2,     0.14,2,     0.04,2,   -999.0,9,   8.0451,2,    25.00,  23.2767,20110310,2315
  29AH20110128,   A05,   145,  1,     24,2,20110310,2136, 26.2037, -76.7997, 4945,      5.5,  23.6953,  36.6253,2,    212.0,2,    212.1,2,     1.68,2,     0.14,2,     0.08,2,   2397.3,2,   8.0317,2,    25.00,  23.6942,20110310,2316