BOTTLE,20220930CCHSIOAMB
EXPOCODE,SECT_ID,STNNBR,CASTNO,BTLNBR,BTLNBR_FLAG_W,DATE,TIME,LATITUDE,LONGITUDE,DEPTH,CTDPRS,CTDTMP,CTDSAL,CTDSAL_FLAG_W,CTDOXY,CTDOXY_FLAG_W,OXYGEN,OXYGEN_FLAG_W,SILCAT,SILCAT_FLAG_W,NITRAT,NITRAT_FLAG_W,PHSPHT,PHSPHT_FLAG_W,ALKALI,ALKALI_FLAG_W,PH_SWS,PH_SWS_FLAG_W,PH_TMP,THETA,BTL_DATE,BTL_TIME
,,,,,,,,,,METERS,DBAR,ITS-90,PSS-78,,UMOL/KG,,UMOL/KG,,UMOL/KG,,UMOL/KG,,UMOL/KG,,UMOL/KG,,,,DEG C,DEG C,,
  29AH20110128,   A05,    77,  1,      1,2,20110218,2246, 24.5022, -47.2723, 4201,   4191.1,   2.3215,  34.8887,2,    254.9,2,    253.9,2,    40.87,2,    19.87,2,     1.43,2,   -999.0,9,   7.7260,2,    25.00,   1.9562,20110218,2246
  29AH20110128,   A05,    77,  1,      2,2,20110218,2246, 24.5022, -47.2723, 4201,   3999.2,   2.3177,  34.8904,2,    255.1,2,    253.2,2,    40.33,2,    19.92,2,     1.44,2,   -999.0,9,   7.7229,2,    25.00,   1.9746,20110218,2250
  29AH20110128,   A05,    77,  1,      3,2,20110218,2246, 24.5022, -47.2723, 4201,   3502.6,   2.5239,  34.9105,2,    252.7,2,    251.9,2,    37.25,2,    19.92,2,     1.44,2,   -999.0,9,   7.7283,2,    25.00,   2.2306,20110218,2300
  29AH20110128,   A05,    77,  1,      4,2,20110218,2246, 24.5022, -47.2723, 4201,   2997.3,   2.7814,  34.9350,2,    251.0,2,    249.6,2,    33.49,2,    19.46,2,     1.37,2,   -999.0,9,   7.7318,2,    25.00,   2.5356,20110218,2310
  29AH20110128,   A05,    77,  1,      5,2,20110218,2246, 24.5022, -47.2723, 4201,   2500.3,   3.0815,  34.9621,2,    250.3,2,    250.1,2,    28.57,2,    18.96,2,     1.32,2,   -999.0,9,   7.7326,2,    25.00,   2.8799,20110218,2319
  29AH20110128,   A05,    77,  1,      6,2,20110218,2246, 24.5022, -47.2723, 4201,   2001.1,   3.6513,  35.0109,2,    247.4,2,    248.1,2,    22.49,2,    18.42,2,     1.29,2,   -999.0,9,   7.7321,2,    25.00,   3.4887,20110218,2329
  29AH20110128,   A05,    77,  1,      7,2,20110218,2246, 24.5022, -47.2723, 4201,   1751.9,   4.2059,  35.0455,2,    243.1,2,    242.5,2,    18.80,2,    18.46,2,     1.27,2,   -999.0,9,   7.7298,2,    25.00,   4.0594,20110218,2334
  29AH20110128,   A05,    77,  1,      8,2,20110218,2246, 24.5022, -47.2723, 4201,   1502.3,   4.7235,  35.0629,2,    232.5,2,    232.8,2,    16.95,2,    18.87,2,     1.27,2,   -999.0,9,   7.7201,2,    25.00,   4.5947,20110218,2339
  29AH20110128,   A05,    77,  1,      9,2,20110218,2246, 24.5022, -47.2723, 4201,   1301.0,   5.2482,  35.0622,2,    216.9,2,    216.5,2,    16.75,2,    19.99,2,     1.36,2,   -999.0,9,   7.7054,2,    25.00,   5.1334,20110218,2343
  29AH20110128,   A05,    77,  1,     10,2,20110218,2246, 24.5022, -47.2723, 4201,   1200.4,   5.5622,  35.0542,2,    203.1,2,    202.9,2,    17.50,2,    21.23,2,     1.44,2,   -999.0,9,   7.6866,2,    25.00,   5.4543,20110218,2345
  29AH20110128,   A05,    77,  1,     11,2,20110218,2246, 24.5022, -47.2723, 4201,   1101.4,   5.9134,  35.0523,2,    189.6,2,    186.8,2,    18.25,2,    22.35,2,     1.61,2,   -999.0,9,   7.6768,2,    25.00,   5.8123,20110218,2347
  29AH20110128,   A05,    77,  1,     12,2,20110218,2246, 24.5022, -47.2723, 4201,   1000.6,   6.5886,  35.0619,2,    170.1,2,    169.0,2,    18.93,2,    23.87,2,     1.70,2,   -999.0,9,   7.6630,2,    25.00,   6.4924,20110218,2349
  29AH20110128,   A05,    77,  1,     13,2,20110218,2246, 24.5022, -47.2723, 4201,    900.5,   7.6239,  35.1196,2,    154.1,2,    153.2,2,    17.76,2,    24.33,2,     1.68,2,   -999.0,9,   7.6595,2,    25.00,   7.5310,20110218,2351
  29AH20110128,   A05,    77,  1,     14,2,20110218,2246, 24.5022, -47.2723, 4201,    802.5,   8.9856,  35.2564,2,    151.2,2,    150.4,2,    14.83,2,    22.51,2,     1.50,2,   -999.0,9,   7.6854,2,    25.00,   8.8952,20110218,2353
  29AH20110128,   A05,    77,  1,     15,2,20110218,2246, 24.5022, -47.2723, 4201,    600.0,  12.0183,  35.6172,2,    162.9,2,    162.9,2,     8.20,2,    16.39,2,     0.95,2,   -999.0,9,   7.7676,2,    25.00,  11.9381,20110218,2357
  29AH20110128,   A05,    77,  1,     16,2,20110218,2246, 24.5022, -47.2723, 4201,    401.3,  15.4750,  36.1154,2,    185.2,2,    184.9,2,     3.76,2,     9.06,2,     0.43,2,   -999.0,9,   7.8774,2,    25.00,  15.4120,20110218,0001
  29AH20110128,   A05,    77,  1,     17,2,20110218,2246, 24.5022, -47.2723, 4201,    299.3,  17.0743,  36.3970,2,    187.9,2,    188.2,2,     2.46,2,     6.33,2,     0.26,2,   -999.0,9,   7.9162,2,    25.00,  17.0241,20110218,0003
  29AH20110128,   A05,    77,  1,     18,2,20110218,2246, 24.5022, -47.2723, 4201,    200.8,  18.6363,  36.6896,2,    186.8,2,    186.9,2,     1.71,2,     3.80,2,     0.14,2,   -999.0,9,   7.9458,2,    25.00,  18.6006,20110218,0005
  29AH20110128,   A05,    77,  1,     19,2,20110218,2246, 24.5022, -47.2723, 4201,    152.2,  19.9731,  36.8751,2,    189.0,2,    190.4,2,     1.23,2,     1.61,2,     0.07,2,   -999.0,9,   7.9687,2,    25.00,  19.9447,20110218,0011
  29AH20110128,   A05,    77,  1,     20,2,20110218,2246, 24.5022, -47.2723, 4201,    126.5,  20.7987,  36.9891,2,    193.5,2,    194.4,2,     1.09,2,     0.74,2,     0.06,2,   -999.0,9,   7.9862,2,    25.00,  20.7744,20110218,0012
  29AH20110128,   A05,    77,  1,     21,2,20110218,2246, 24.5022, -47.2723, 4201,     74.3,  23.2452,  37.3376,2,    210.4,2,    210.3,2,     1.02,2,     0.01,2,     0.06,2,   -999.0,9,   8.0637,2,    25.00,  23.2298,20110218,0014
  29AH20110128,   A05,    77,  1,     22,2,20110218,2246, 24.5022, -47.2723, 4201,     50.7,  23.4397,  37.3939,2,    211.0,2,    210.7,2,     0.95,2,     0.01,2,     0.05,2,   -999.0,9,   8.0713,2,    25.00,  23.4291,20110218,0015
  29AH20110128,   A05,    77,  1,     23,2,20110218,2246, 24.5022, -47.2723, 4201,     26.1,  23.4362,  37.3945,2,    211.0,2,    212.1,2,     1.02,2,     0.01,2,     0.06,2,   -999.0,9,   8.0668,2,    25.00,  23.4308,20110218,0015
  29AH20110128,   A05,    77,  1,     24,2,20110218,2246, 24.5022, -47.2723, 4201,      6.4,  23.4198,  37.3919,2,    211.4,2,    211.5,2,     1.02,2,     0.01,2,     0.05,2,   -999.0,9,   8.0740,2,    25.00,  23.4185,20110218,0016
  29AH20110128,   A05,    78,  1,      1,2,20110219,0425, 24.5012, -47.7315, 4021,   3628.2,   2.3786,  34.8985,2,    254.8,2,    250.5,2,    38.19,2,    19.69,2,     1.47,2,   2338.2,2,   7.7262,2,    25.00,   2.0753,20110219,0425
  29AH20110128,   A05,    78,  1,      2,2,20110219,0425, 24.5012, -47.7315, 4021,   3500.5,   2.4961,  34.9088,2,    253.6,2,    253.0,2,    36.84,2,    19.64,2,     1.46,2,   2337.8,2,   7.7278,2,    25.00,   2.2037,20110219,0428
  29AH20110128,   A05,    78,  1,      3,2,20110219,0425, 24.5012, -47.7315, 4021,   3000.6,   2.7768,  34.9342,2,    251.1,2,    252.1,2,    32.08,2,    19.52,2,     1.35,2,   2335.7,2,   7.7294,2,    25.00,   2.5308,20110219,0437
  29AH20110128,   A05,    78,  1,      4,2,20110219,0425, 24.5012, -47.7315, 4021,   2500.8,   3.0565,  34.9591,2,    250.0,2,    250.1,2,    29.56,2,    19.08,2,     1.40,2,   2331.5,2,   7.7271,2,    25.00,   2.8553,20110219,0447
  29AH20110128,   A05,    78,  1,      5,2,20110219,0425, 24.5012, -47.7315, 4021,   2000.4,   3.5715,  35.0020,2,    247.5,2,    248.7,2,    23.24,2,    19.12,2,     1.27,2,   2326.6,2,   7.7309,2,    25.00,   3.4102,20110219,0457
  29AH20110128,   A05,    78,  1,      6,2,20110219,0425, 24.5012, -47.7315, 4021,   1749.8,   4.2022,  35.0475,2,    241.9,2,    242.9,2,    18.96,2,    18.40,2,     1.23,2,   2320.6,2,   7.7191,2,    25.00,   4.0559,20110219,0502
  29AH20110128,   A05,    78,  1,      7,2,20110219,0425, 24.5012, -47.7315, 4021,   1497.7,   4.6667,  35.0657,2,    234.2,2,    235.0,2,    16.92,2,  -999.00,9,     1.24,2,   2321.5,2,   7.7228,2,    25.00,   4.5390,20110219,0507
  29AH20110128,   A05,    78,  1,      8,2,20110219,0425, 24.5012, -47.7315, 4021,   1300.2,   5.1238,  35.0597,2,    219.0,2,    220.4,2,    16.85,2,    20.01,2,     1.35,2,   2320.2,2,   7.7043,2,    25.00,   5.0103,20110219,0511
  29AH20110128,   A05,    78,  1,      9,2,20110219,0425, 24.5012, -47.7315, 4021,   1200.2,   5.5757,  35.0715,2,    206.7,2,    206.5,2,    16.92,2,    20.82,2,     1.46,2,   2321.3,2,   7.6977,2,    25.00,   5.4677,20110219,0513
  29AH20110128,   A05,    78,  1,     10,2,20110219,0425, 24.5012, -47.7315, 4021,   1099.7,   6.2305,  35.0927,2,    187.5,2,    185.1,2,    17.59,2,    22.15,2,     1.51,2,   -999.0,9,   7.6832,2,    25.00,   6.1269,20110219,0516
  29AH20110128,   A05,    78,  1,     11,2,20110219,0425, 24.5012, -47.7315, 4021,   1000.5,   6.5638,  35.0596,2,    171.8,2,    169.0,2,    18.34,2,    23.57,2,     1.70,2,   2321.1,2,   7.6660,2,    25.00,   6.4678,20110219,0518
  29AH20110128,   A05,    78,  1,     12,2,20110219,0425, 24.5012, -47.7315, 4021,    899.7,   7.5299,  35.1179,2,    157.3,2,    156.6,2,    17.46,2,    23.73,2,     1.70,2,   -999.0,9,   7.6664,2,    25.00,   7.4377,20110219,0520
  29AH20110128,   A05,    78,  1,     13,2,20110219,0425, 24.5012, -47.7315, 4021,    800.1,   8.7866,  35.2504,2,    152.6,2,    152.4,2,    15.08,2,    22.44,2,     1.55,2,   2325.6,2,   7.6851,2,    25.00,   8.6976,20110219,0522
  29AH20110128,   A05,    78,  1,     14,2,20110219,0425, 24.5012, -47.7315, 4021,    600.2,  12.0721,  35.6080,2,    155.9,2,    155.9,2,     8.69,2,    17.19,2,     0.98,2,   2336.4,2,   7.7588,2,    25.00,  11.9917,20110219,0526
  29AH20110128,   A05,    78,  1,     15,2,20110219,0425, 24.5012, -47.7315, 4021,    398.5,  15.5835,  36.1304,2,    178.8,2,    179.5,2,     3.86,2,     9.51,2,     0.48,2,   2367.6,2,   7.8712,2,    25.00,  15.5207,20110219,0530
  29AH20110128,   A05,    78,  1,     16,2,20110219,0425, 24.5012, -47.7315, 4021,    301.8,  17.5895,  36.4784,2,    191.3,2,    189.4,2,  -999.00,9,  -999.00,9,  -999.00,9,   -999.0,9,   7.9168,2,    25.00,  17.5379,20110219,0532
  29AH20110128,   A05,    78,  1,     17,2,20110219,0425, 24.5012, -47.7315, 4021,    200.5,  18.5974,  36.6362,2,    199.0,2,    198.4,2,  -999.00,9,  -999.00,9,  -999.00,9,   -999.0,9,   7.9645,2,    25.00,  18.5618,20110219,0534
  29AH20110128,   A05,    78,  1,     18,2,20110219,0425, 24.5012, -47.7315, 4021,    150.3,  20.0416,  36.8506,2,    195.3,2,    197.8,2,     1.21,2,     1.22,2,     0.08,2,   2410.3,2,   7.9807,2,    25.00,  20.0135,20110219,0535
  29AH20110128,   A05,    78,  1,     19,2,20110219,0425, 24.5012, -47.7315, 4021,    125.4,  21.4237,  36.9990,2,    203.8,2,    201.4,2,     0.94,2,     0.29,2,     0.06,2,   -999.0,9,   8.0058,2,    25.00,  21.3991,20110219,0536
  29AH20110128,   A05,    78,  1,     20,2,20110219,0425, 24.5012, -47.7315, 4021,    100.5,  23.2486,  37.3168,2,    211.9,2,    211.5,2,     0.94,2,     0.04,2,     0.05,2,   -999.0,9,   8.0635,2,    25.00,  23.2277,20110219,0537
  29AH20110128,   A05,    78,  1,     21,2,20110219,0425, 24.5012, -47.7315, 4021,     75.9,  23.4840,  37.3965,2,    211.8,2,    212.2,2,     0.94,2,     0.04,2,     0.06,2,   2446.0,2,   8.0732,2,    25.00,  23.4681,20110219,0537
  29AH20110128,   A05,    78,  1,     22,2,20110219,0425, 24.5012, -47.7315, 4021,     50.9,  23.4751,  37.3954,2,    212.0,2,    212.0,2,  -999.00,9,  -999.00,9,  -999.00,9,   -999.0,9,   8.0741,2,    25.00,  23.4645,20110219,0538
  29AH20110128,   A05,    78,  1,     23,2,20110219,0425, 24.5012, -47.7315, 4021,     23.7,  23.4709,  37.3954,2,    212.0,2,    212.5,2,     0.94,2,     0.04,2,     0.05,2,   -999.0,9,   8.0720,2,    25.00,  23.4659,20110219,0539
  29AH20110128,   A05,    78,  1,     24,2,20110219,0425, 24.5012, -47.7315, 4021,      7.2,  23.4651,  37.3965,2,    212.2,2,    211.8,2,     0.94,2,     0.04,2,     0.05,2,   2445.7,2,   8.0738,2,    25.00,  23.4636,20110219,0539
  29AH20110128,   A05,    79,  1,      1,2,20110219,1925, 24.4990, -48.1885, 4241,   3902.9,   2.3189,  34.8925,2,    255.5,2,    253.2,2,    41.40,2,    20.45,2,     1.48,2,   -999.0,9,   7.7256,2,    25.00,   1.9867,20110219,1925
  29AH20110128,   A05,    79,  1,      2,2,20110219,1925, 24.4990, -48.1885, 4241,   3500.6,   2.4487,  34.9064,2,    254.6,2,    253.4,2,    35.44,2,    19.60,2,  -999.00,9,   -999.0,9,   7.7291,2,    25.00,   2.1575,20110219,1933
  29AH20110128,   A05,    79,  1,      3,2,20110219,1925, 24.4990, -48.1885, 4241,   2998.6,   2.7131,  34.9311,2,    252.4,2,    251.0,2,    34.33,2,    20.02,2,     1.45,2,   -999.0,9,   7.7298,2,    25.00,   2.4687,20110219,1943
  29AH20110128,   A05,    79,  1,      4,2,20110219,1925, 24.4990, -48.1885, 4241,   2500.7,   3.0714,  34.9628,2,    250.8,2,    250.4,2,    29.54,2,    19.55,2,     1.37,2,   -999.0,9,   7.7311,2,    25.00,   2.8700,20110219,1952
  29AH20110128,   A05,    79,  1,      5,2,20110219,1925, 24.4990, -48.1885, 4241,   2000.3,   3.6503,  35.0146,2,    248.7,2,    249.0,2,    22.95,2,    18.86,2,     1.30,2,   -999.0,9,   7.7293,2,    25.00,   3.4878,20110219,2002
  29AH20110128,   A05,    79,  1,      6,2,20110219,1925, 24.4990, -48.1885, 4241,   1750.1,   4.1529,  35.0466,2,    242.3,2,    241.7,2,    18.15,2,    20.40,3,     1.38,3,   -999.0,9,   7.7132,2,    25.00,   4.0072,20110219,2007
  29AH20110128,   A05,    79,  1,      7,2,20110219,1925, 24.4990, -48.1885, 4241,   1501.4,   4.8277,  35.0969,2,    233.5,2,    233.3,2,    17.33,2,    19.29,2,     1.26,2,   -999.0,9,   7.7228,2,    25.00,   4.6977,20110219,2012
  29AH20110128,   A05,    79,  1,      8,2,20110219,1925, 24.4990, -48.1885, 4241,   1302.8,   5.4780,  35.1347,2,    218.5,2,    217.1,2,    16.83,2,    20.06,2,     1.34,2,   -999.0,9,   7.7144,2,    25.00,   5.3607,20110219,2016
  29AH20110128,   A05,    79,  1,      9,2,20110219,1925, 24.4990, -48.1885, 4241,   1199.2,   5.8541,  35.1345,2,    206.6,2,    206.0,2,    16.83,2,    20.91,2,     1.38,2,   -999.0,9,   7.7037,2,    25.00,   5.7436,20110219,2018
  29AH20110128,   A05,    79,  1,     10,2,20110219,1925, 24.4990, -48.1885, 4241,   1100.6,   6.2195,  35.1277,2,    192.5,2,    191.2,2,    13.85,3,  -999.00,9,  -999.00,9,   -999.0,9,   7.6895,2,    25.00,   6.1159,20110219,2020
  29AH20110128,   A05,    79,  1,     11,2,20110219,1925, 24.4990, -48.1885, 4241,    999.2,   6.6608,  35.1227,2,    179.5,2,    178.1,2,    17.74,2,    23.21,2,     1.55,2,   -999.0,9,   7.6771,2,    25.00,   6.5641,20110219,2022
  29AH20110128,   A05,    79,  1,     12,2,20110219,1925, 24.4990, -48.1885, 4241,    900.9,   7.4071,  35.1016,2,    157.9,2,    156.5,2,    18.43,2,    24.87,2,     1.73,2,   -999.0,9,   7.6603,2,    25.00,   7.3156,20110219,2024
  29AH20110128,   A05,    79,  1,     13,2,20110219,1925, 24.4990, -48.1885, 4241,    801.5,   8.4669,  35.1672,2,    147.1,2,    146.1,2,    16.69,2,    24.41,2,     1.63,2,   -999.0,9,   7.6669,2,    25.00,   8.3797,20110219,2026
  29AH20110128,   A05,    79,  1,     14,2,20110219,1925, 24.4990, -48.1885, 4241,    602.3,  12.1032,  35.6093,2,    160.9,2,    160.3,2,     8.71,2,    17.06,2,     1.00,2,   -999.0,9,   7.7682,2,    25.00,  12.0224,20110219,2030
  29AH20110128,   A05,    79,  1,     15,2,20110219,1925, 24.4990, -48.1885, 4241,    399.9,  15.8694,  36.1759,2,    184.6,2,    184.5,2,     3.65,2,     8.77,2,     0.42,2,   -999.0,9,   7.8849,2,    25.00,  15.8055,20110219,2034
  29AH20110128,   A05,    79,  1,     16,2,20110219,1925, 24.4990, -48.1885, 4241,    300.6,  17.0946,  36.3974,2,    178.5,2,    178.1,2,     2.81,2,     7.45,2,  -999.00,9,   -999.0,9,   7.9020,2,    25.00,  17.0442,20110219,2037
  29AH20110128,   A05,    79,  1,     17,2,20110219,1925, 24.4990, -48.1885, 4241,    201.4,  18.7782,  36.6964,2,    177.8,2,    178.7,2,     1.84,2,     4.42,2,     0.19,2,   -999.0,9,   7.9367,2,    25.00,  18.7422,20110219,2039
  29AH20110128,   A05,    79,  1,     18,2,20110219,1925, 24.4990, -48.1885, 4241,    151.7,  19.4466,  36.7726,2,    191.0,2,    190.4,2,     1.22,2,     1.73,2,     0.06,2,   -999.0,9,   7.9663,2,    25.00,  19.4188,20110219,2040
  29AH20110128,   A05,    79,  1,     19,2,20110219,1925, 24.4990, -48.1885, 4241,    124.4,  20.2665,  36.8836,2,    193.7,2,    192.6,2,     1.15,2,     1.17,2,     0.08,2,   -999.0,9,   7.9783,2,    25.00,  20.2431,20110219,2041
  29AH20110128,   A05,    79,  1,     20,2,20110219,1925, 24.4990, -48.1885, 4241,    101.3,  21.2049,  37.0018,2,    202.3,2,    202.9,2,     1.08,2,     0.06,2,     0.06,2,   -999.0,9,   8.0069,2,    25.00,  21.1852,20110219,2041
  29AH20110128,   A05,    79,  1,     21,2,20110219,1925, 24.4990, -48.1885, 4241,     76.3,  22.9069,  37.2924,2,    212.4,2,    211.9,2,     1.01,2,     0.02,2,     0.05,2,   -999.0,9,   8.0596,2,    25.00,  22.8912,20110219,2042
  29AH20110128,   A05,    79,  1,     22,2,20110219,1925, 24.4990, -48.1885, 4241,     50.0,  23.0435,  37.3253,2,    213.8,2,    212.5,2,     1.01,2,     0.01,2,     0.06,2,   -999.0,9,   8.0658,2,    25.00,  23.0332,20110219,2043
  29AH20110128,   A05,    79,  1,     23,2,20110219,1925, 24.4990, -48.1885, 4241,     25.5,  23.0815,  37.3259,2,    214.0,2,    213.8,2,     1.00,2,     0.01,2,     0.06,2,   -999.0,9,   8.0668,2,    25.00,  23.0762,20110219,2043
  29AH20110128,   A05,    79,  1,     24,2,20110219,1925, 24.4990, -48.1885, 4241,      4.7,  23.0727,  37.3276,2,    214.1,2,    213.6,2,     1.00,2,     0.01,2,     0.06,2,   -999.0,9,   8.0656,2,    25.00,  23.0717,20110219,2045