BOTTLE,20220930CCHSIOAMB
EXPOCODE,SECT_ID,STNNBR,CASTNO,BTLNBR,BTLNBR_FLAG_W,DATE,TIME,LATITUDE,LONGITUDE,DEPTH,CTDPRS,CTDTMP,CTDSAL,CTDSAL_FLAG_W,CTDOXY,CTDOXY_FLAG_W,OXYGEN,OXYGEN_FLAG_W,SILCAT,SILCAT_FLAG_W,NITRAT,NITRAT_FLAG_W,PHSPHT,PHSPHT_FLAG_W,ALKALI,ALKALI_FLAG_W,PH_SWS,PH_SWS_FLAG_W,PH_TMP,THETA,BTL_DATE,BTL_TIME
,,,,,,,,,,METERS,DBAR,ITS-90,PSS-78,,UMOL/KG,,UMOL/KG,,UMOL/KG,,UMOL/KG,,UMOL/KG,,UMOL/KG,,,,DEG C,DEG C,,
  29AH20110128,   A05,   125,  1,      1,2,20110306,1731, 26.2032, -72.2648, 5395,   5385.2,   2.1893,  34.8667,2,    254.5,2,    256.1,2,    49.33,2,    22.24,2,     1.53,2,   -999.0,9,   7.7197,2,    25.00,   1.6812,20110306,1731
  29AH20110128,   A05,   125,  1,      2,2,20110306,1731, 26.2032, -72.2648, 5395,   4997.9,   2.2649,  34.8819,2,    260.7,2,    262.0,2,    40.43,2,    20.48,2,     1.43,2,   -999.0,9,   7.7268,2,    25.00,   1.8036,20110306,1739
  29AH20110128,   A05,   125,  1,      3,2,20110306,1731, 26.2032, -72.2648, 5395,   4499.7,   2.2855,  34.8907,2,    264.7,2,    265.7,2,    33.08,2,  -999.00,9,     1.28,2,   -999.0,9,   7.7277,2,    25.00,   1.8848,20110306,1749
  29AH20110128,   A05,   125,  1,      4,2,20110306,1731, 26.2032, -72.2648, 5395,   3998.6,   2.3111,  34.8971,2,    267.1,2,    266.9,2,    31.03,2,    19.29,2,     1.33,2,   -999.0,9,   7.7283,2,    25.00,   1.9682,20110306,1759
  29AH20110128,   A05,   125,  1,      5,2,20110306,1731, 26.2032, -72.2648, 5395,   3502.8,   2.4273,  34.9082,2,    268.0,2,    268.6,2,    27.61,2,    18.83,2,     1.30,2,   -999.0,9,   7.7320,2,    25.00,   2.1363,20110306,1809
  29AH20110128,   A05,   125,  1,      6,2,20110306,1731, 26.2032, -72.2648, 5395,   2999.7,   2.7390,  34.9284,2,    264.7,2,    265.7,2,    24.18,2,    19.00,2,     1.31,2,   -999.0,9,   7.7347,2,    25.00,   2.4939,20110306,1818
  29AH20110128,   A05,   125,  1,      7,2,20110306,1731, 26.2032, -72.2648, 5395,   2499.9,   3.1366,  34.9498,2,    262.5,2,    264.7,2,    19.45,2,  -999.00,9,     1.22,2,   -999.0,9,   7.7331,2,    25.00,   2.9341,20110306,1828
  29AH20110128,   A05,   125,  1,      8,2,20110306,1731, 26.2032, -72.2648, 5395,   1998.2,   3.5680,  34.9640,2,    262.2,2,    264.0,2,    16.22,2,    18.58,2,     1.26,2,   -999.0,9,   7.7292,2,    25.00,   3.4070,20110306,1838
  29AH20110128,   A05,   125,  1,      9,2,20110306,1731, 26.2032, -72.2648, 5395,   1751.2,   3.8475,  34.9750,2,    260.0,2,    262.3,2,    14.79,2,    18.73,2,     1.26,2,   -999.0,9,   7.7239,2,    25.00,   3.7059,20110306,1843
  29AH20110128,   A05,   125,  1,     10,2,20110306,1731, 26.2032, -72.2648, 5395,   1499.7,   4.2337,  34.9972,2,    254.1,2,    256.7,2,    13.63,2,    18.85,2,     1.26,2,   -999.0,9,   7.7186,2,    25.00,   4.1108,20110306,1849
  29AH20110128,   A05,   125,  1,     11,2,20110306,1731, 26.2032, -72.2648, 5395,   1301.1,   4.6564,  35.0236,2,    245.0,2,    245.8,2,    12.99,2,    19.40,2,     1.29,2,   -999.0,9,   7.7131,2,    25.00,   4.5475,20110306,1853
  29AH20110128,   A05,   125,  1,     12,2,20110306,1731, 26.2032, -72.2648, 5395,   1202.2,   5.0704,  35.0539,2,    234.4,2,    235.8,2,    13.67,2,    19.97,2,     1.33,2,   -999.0,9,   7.7128,2,    25.00,   4.9668,20110306,1855
  29AH20110128,   A05,   125,  1,     13,2,20110306,1731, 26.2032, -72.2648, 5395,   1001.1,   6.2371,  35.0813,2,    198.9,2,    199.2,2,    15.77,2,    21.97,2,     1.47,2,   -999.0,9,   7.6894,2,    25.00,   6.1434,20110306,1859
  29AH20110128,   A05,   125,  1,     14,2,20110306,1731, 26.2032, -72.2648, 5395,    900.4,   7.5938,  35.1070,2,    164.0,2,    170.1,2,    16.66,2,    25.25,2,     1.61,2,   -999.0,9,   7.6679,2,    25.00,   7.5011,20110306,1901
  29AH20110128,   A05,   125,  1,     15,2,20110306,1731, 26.2032, -72.2648, 5395,    799.9,   9.2665,  35.2293,2,    146.4,2,    146.5,2,    10.47,3,  -999.00,9,  -999.00,9,   -999.0,9,   7.6794,2,    25.00,   9.1748,20110306,1903
  29AH20110128,   A05,   125,  1,     16,2,20110306,1731, 26.2032, -72.2648, 5395,    601.5,  14.0498,  35.8512,2,    165.3,2,    165.8,2,     6.21,2,    14.54,2,     0.89,2,   -999.0,9,   7.8153,2,    25.00,  13.9608,20110306,1908
  29AH20110128,   A05,   125,  1,     17,2,20110306,1731, 26.2032, -72.2648, 5395,    401.0,  17.5105,  36.4677,2,    199.6,2,    200.5,2,     1.86,2,     5.47,2,     0.30,2,   -999.0,9,   7.9466,2,    25.00,  17.4419,20110306,1912
  29AH20110128,   A05,   125,  1,     18,2,20110306,1731, 26.2032, -72.2648, 5395,    301.4,  18.0820,  36.5593,2,    203.0,2,    204.5,2,     1.39,2,     4.12,2,     0.21,2,   -999.0,9,   7.9655,2,    25.00,  18.0294,20110306,1914
  29AH20110128,   A05,   125,  1,     19,2,20110306,1731, 26.2032, -72.2648, 5395,    151.4,  19.3256,  36.6775,2,    214.3,2,    214.6,2,     0.64,2,     1.32,2,     0.08,2,   -999.0,9,   8.0130,2,    25.00,  19.2980,20110306,1917
  29AH20110128,   A05,   125,  1,     20,2,20110306,1731, 26.2032, -72.2648, 5395,    124.8,  20.2323,  36.7618,2,    211.3,2,    210.3,2,     0.55,2,     0.74,2,     0.06,2,   -999.0,9,   8.0179,2,    25.00,  20.2088,20110306,1918
  29AH20110128,   A05,   125,  1,     21,2,20110306,1731, 26.2032, -72.2648, 5395,     75.6,  21.1101,  36.8185,2,    217.0,2,    217.4,2,     0.48,2,     0.13,2,     0.05,2,   -999.0,9,   8.0451,2,    25.00,  21.0955,20110306,1919
  29AH20110128,   A05,   125,  1,     22,2,20110306,1731, 26.2032, -72.2648, 5395,     52.0,  21.5066,  36.8637,2,    218.4,2,    218.5,2,     0.54,2,     0.13,2,     0.05,2,   -999.0,9,   8.0503,2,    25.00,  21.4964,20110306,1920
  29AH20110128,   A05,   125,  1,     23,2,20110306,1731, 26.2032, -72.2648, 5395,     27.0,  21.5849,  36.8678,2,    218.9,2,    219.7,2,     0.56,2,     0.16,2,     0.05,2,   -999.0,9,   8.0543,2,    25.00,  21.5796,20110306,1920
  29AH20110128,   A05,   125,  1,     24,2,20110306,1731, 26.2032, -72.2648, 5395,      5.1,  21.8772,  36.8697,2,    218.9,2,    218.3,2,     0.55,2,     0.01,2,     0.05,2,   -999.0,9,   8.0518,2,    25.00,  21.8762,20110306,1921
  29AH20110128,   A05,   126,  1,      1,2,20110306,2332, 26.2032, -72.6543, 5290,   5280.3,   2.1300,  34.8607,2,    253.0,2,    252.0,2,  -999.00,9,    21.16,2,     1.46,2,   2346.5,2,   7.7157,2,    25.00,   1.6376,20110306,2332
  29AH20110128,   A05,   126,  1,      2,2,20110306,2332, 26.2032, -72.6543, 5290,   4998.0,   2.2409,  34.8787,2,    259.3,2,    259.7,2,    36.88,2,    19.42,2,     1.41,2,   2335.6,2,   7.7237,2,    25.00,   1.7805,20110306,2337
  29AH20110128,   A05,   126,  1,      3,2,20110306,2332, 26.2032, -72.6543, 5290,   4500.5,   2.2701,  34.8887,2,    264.7,2,    263.6,2,  -999.00,9,    18.53,2,     1.30,2,   2331.0,2,   7.7272,2,    25.00,   1.8698,20110306,2347
  29AH20110128,   A05,   126,  1,      4,2,20110306,2332, 26.2032, -72.6543, 5290,   3999.2,   2.3024,  34.8960,2,    267.0,2,    266.2,2,    27.21,3,    17.87,2,     1.30,2,   2325.5,2,   7.7299,2,    25.00,   1.9597,20110306,2357
  29AH20110128,   A05,   126,  1,      5,2,20110306,2332, 26.2032, -72.6543, 5290,   3501.0,   2.4273,  34.9076,2,    267.8,2,    267.6,2,    24.09,3,    17.66,2,     1.23,2,   2322.5,2,   7.7300,2,    25.00,   2.1365,20110306,0006
  29AH20110128,   A05,   126,  1,      6,2,20110306,2332, 26.2032, -72.6543, 5290,   2997.0,   2.7375,  34.9277,2,    264.9,2,    265.7,2,    22.28,2,    17.65,2,     1.25,2,   2318.7,2,   7.7357,2,    25.00,   2.4927,20110306,0016
  29AH20110128,   A05,   126,  1,      7,2,20110306,2332, 26.2032, -72.6543, 5290,   2500.4,   3.1220,  34.9495,2,    262.6,2,    264.3,2,    19.34,2,    17.01,2,     1.25,2,   2318.7,2,   7.7328,2,    25.00,   2.9197,20110306,0026
  29AH20110128,   A05,   126,  1,      8,2,20110306,2332, 26.2032, -72.6543, 5290,   1994.8,   3.5622,  34.9659,2,    261.8,2,    263.2,2,    16.79,2,    17.51,2,     1.26,2,   2314.1,2,   7.7264,2,    25.00,   3.4016,20110306,0036
  29AH20110128,   A05,   126,  1,      9,2,20110306,2332, 26.2032, -72.6543, 5290,   1750.1,   3.8178,  34.9742,2,    260.2,2,    261.9,2,  -999.00,9,  -999.00,9,  -999.00,9,   -999.0,9,   7.7231,2,    25.00,   3.6767,20110306,0041
  29AH20110128,   A05,   126,  1,     10,2,20110306,2332, 26.2032, -72.6543, 5290,   1501.5,   4.2528,  35.0053,2,    253.2,2,    254.7,2,    15.27,2,    17.65,2,     1.23,2,   2314.6,2,   7.7197,2,    25.00,   4.1295,20110306,0046
  29AH20110128,   A05,   126,  1,     11,2,20110306,2332, 26.2032, -72.6543, 5290,   1302.3,   4.7373,  35.0330,2,    243.2,2,    244.6,2,    14.67,2,    18.09,2,     1.28,2,   2315.7,2,   7.7126,2,    25.00,   4.6274,20110306,0050
  29AH20110128,   A05,   126,  1,     12,2,20110306,2332, 26.2032, -72.6543, 5290,   1201.0,   5.2015,  35.0611,2,    229.9,2,    230.0,2,    14.95,2,    18.82,2,     1.33,2,   2317.5,2,   7.7124,2,    25.00,   5.0968,20110306,0052
  29AH20110128,   A05,   126,  1,     13,2,20110306,2332, 26.2032, -72.6543, 5290,   1001.6,   6.7654,  35.0893,2,    185.0,2,    184.3,2,    16.33,2,    21.79,2,     1.67,3,   2317.3,2,   7.6804,2,    25.00,   6.6678,20110306,0056
  29AH20110128,   A05,   126,  1,     14,2,20110306,2332, 26.2032, -72.6543, 5290,    901.1,   8.0891,  35.1404,2,    158.3,2,    156.7,2,    16.15,2,    23.24,2,     1.65,2,   2317.3,2,   7.6731,2,    25.00,   7.9930,20110306,0058
  29AH20110128,   A05,   126,  1,     15,2,20110306,2332, 26.2032, -72.6543, 5290,    801.0,  10.2234,  35.3325,2,    145.0,2,    145.2,2,    13.67,2,    21.20,2,     1.39,2,   2327.3,2,   7.7103,2,    25.00,  10.1260,20110306,0100
  29AH20110128,   A05,   126,  1,     16,2,20110306,2332, 26.2032, -72.6543, 5290,    600.2,  14.4538,  35.9111,2,    164.5,2,    165.3,2,     7.23,2,    13.26,2,     0.81,2,   2354.2,2,   7.8312,2,    25.00,  14.3633,20110306,0104
  29AH20110128,   A05,   126,  1,     17,2,20110306,2332, 26.2032, -72.6543, 5290,    400.5,  17.7772,  36.5105,2,    200.2,2,    200.9,2,     2.01,2,  -999.00,9,     0.26,2,   2388.0,2,   7.9558,2,    25.00,  17.7080,20110306,0108
  29AH20110128,   A05,   126,  1,     18,2,20110306,2332, 26.2032, -72.6543, 5290,    300.7,  18.2709,  36.5806,2,    204.1,2,    204.3,2,     2.17,2,     3.65,2,     0.18,2,   2392.7,2,   7.9719,2,    25.00,  18.2181,20110306,0110
  29AH20110128,   A05,   126,  1,     19,2,20110306,2332, 26.2032, -72.6543, 5290,    148.1,  20.5574,  36.8138,2,    218.0,2,    218.4,2,     1.41,2,     0.34,2,     0.06,2,   2408.9,2,   8.0370,2,    25.00,  20.5292,20110306,0114
  29AH20110128,   A05,   126,  1,     20,2,20110306,2332, 26.2032, -72.6543, 5290,    124.1,  20.6011,  36.8200,2,    219.9,2,    219.2,2,     1.41,2,     0.25,2,     0.04,2,   -999.0,9,   8.0386,2,    25.00,  20.5775,20110306,0114
  29AH20110128,   A05,   126,  1,     21,2,20110306,2332, 26.2032, -72.6543, 5290,     74.6,  21.6016,  36.8582,2,    218.5,2,    218.0,2,     1.51,2,     0.23,2,     0.05,2,   2410.7,2,   8.0536,2,    25.00,  21.5869,20110306,0115
  29AH20110128,   A05,   126,  1,     22,2,20110306,2332, 26.2032, -72.6543, 5290,     50.2,  21.5996,  36.8425,2,    216.4,2,    215.9,2,     1.55,2,     0.29,2,     0.04,2,   -999.0,9,   8.0517,2,    25.00,  21.5897,20110306,0116
  29AH20110128,   A05,   126,  1,     23,2,20110306,2332, 26.2032, -72.6543, 5290,     26.3,  21.7931,  36.8015,2,    215.2,2,    213.5,2,     1.16,2,     0.33,2,     0.05,2,   -999.0,9,   8.0494,2,    25.00,  21.7879,20110306,0117
  29AH20110128,   A05,   126,  1,     24,2,20110306,2332, 26.2032, -72.6543, 5290,      5.3,  21.8287,  36.7998,2,    215.2,2,    214.5,2,     1.38,2,     0.34,2,     0.06,2,   2407.3,2,   8.0509,2,    25.00,  21.8277,20110306,0118
  29AH20110128,   A05,   127,  1,      1,2,20110307,0529, 26.2023, -73.0432, 5211,   5200.6,   2.1161,  34.8611,2,    252.7,2,    252.3,2,    48.26,2,  -999.00,9,     1.34,3,   -999.0,9,   7.7201,2,    25.00,   1.6344,20110307,0529
  29AH20110128,   A05,   127,  1,      2,2,20110307,0529, 26.2023, -73.0432, 5211,   5000.6,   2.1651,  34.8706,2,    256.1,2,    255.9,2,    44.62,2,    22.08,2,     1.43,2,   -999.0,9,   7.7301,2,    25.00,   1.7069,20110307,0533
  29AH20110128,   A05,   127,  1,      3,2,20110307,0529, 26.2023, -73.0432, 5211,   4500.2,   2.2777,  34.8903,2,    264.2,2,    265.5,2,    35.01,2,    22.14,2,     1.33,2,   -999.0,9,   7.7249,2,    25.00,   1.8772,20110307,0543
  29AH20110128,   A05,   127,  1,      4,2,20110307,0529, 26.2023, -73.0432, 5211,   3999.8,   2.3028,  34.8966,2,    267.2,2,    267.4,2,    29.94,2,    19.66,2,     1.34,2,   -999.0,9,   7.7310,2,    25.00,   1.9600,20110307,0552
  29AH20110128,   A05,   127,  1,      5,2,20110307,0529, 26.2023, -73.0432, 5211,   3500.2,   2.4650,  34.9097,2,    268.7,2,    270.0,2,    27.22,2,    21.14,2,     1.22,2,   -999.0,9,   7.7305,2,    25.00,   2.1734,20110307,0602
  29AH20110128,   A05,   127,  1,      6,2,20110307,0529, 26.2023, -73.0432, 5211,   2999.3,   2.7616,  34.9289,2,    266.1,2,    267.8,2,    21.15,2,    18.32,2,     1.19,2,   -999.0,9,   7.7304,2,    25.00,   2.5161,20110307,0612
  29AH20110128,   A05,   127,  1,      7,2,20110307,0529, 26.2023, -73.0432, 5211,   2501.6,   3.0836,  34.9483,2,    263.0,2,    263.9,2,    23.16,2,    21.43,2,     1.35,2,   -999.0,9,   7.7320,2,    25.00,   2.8819,20110307,0622
  29AH20110128,   A05,   127,  1,      8,2,20110307,0529, 26.2023, -73.0432, 5211,   2001.1,   3.5811,  34.9684,2,    261.8,2,    262.9,2,    18.01,2,    21.32,2,     1.27,2,   -999.0,9,   7.7308,2,    25.00,   3.4197,20110307,0632
  29AH20110128,   A05,   127,  1,      9,2,20110307,0529, 26.2023, -73.0432, 5211,   1750.9,   3.8909,  34.9832,2,    258.9,2,    261.5,2,    16.68,2,    21.32,2,     1.30,2,   -999.0,9,   7.7259,2,    25.00,   3.7488,20110307,0637
  29AH20110128,   A05,   127,  1,     10,2,20110307,0529, 26.2023, -73.0432, 5211,   1501.2,   4.3023,  35.0078,2,    252.4,2,    254.2,2,    15.18,2,    21.05,2,     1.26,2,   -999.0,9,   7.7186,2,    25.00,   4.1785,20110307,0642
  29AH20110128,   A05,   127,  1,     11,2,20110307,0529, 26.2023, -73.0432, 5211,   1300.2,   4.8925,  35.0438,2,    239.8,2,    240.4,2,    11.60,2,  -999.00,9,     1.21,2,   -999.0,9,   7.7111,2,    25.00,   4.7813,20110307,0646
  29AH20110128,   A05,   127,  1,     12,2,20110307,0529, 26.2023, -73.0432, 5211,   1200.1,   5.2980,  35.0590,2,    228.1,2,    229.1,2,    12.91,2,  -999.00,9,     1.32,2,   -999.0,9,   7.7120,2,    25.00,   5.1925,20110307,0649
  29AH20110128,   A05,   127,  1,     13,2,20110307,0529, 26.2023, -73.0432, 5211,   1000.3,   6.8979,  35.0816,2,    178.1,2,    175.7,2,    15.40,2,  -999.00,9,     1.59,2,   -999.0,9,   7.6735,2,    25.00,   6.7994,20110307,0653
  29AH20110128,   A05,   127,  1,     14,2,20110307,0529, 26.2023, -73.0432, 5211,    901.2,   8.1424,  35.1356,2,    155.1,2,    154.7,2,    17.23,2,    25.67,2,     1.67,2,   -999.0,9,   7.6693,2,    25.00,   8.0460,20110307,0655
  29AH20110128,   A05,   127,  1,     15,2,20110307,0529, 26.2023, -73.0432, 5211,    801.0,  10.0488,  35.3088,2,    144.0,2,    144.2,2,    11.03,2,  -999.00,9,     1.51,2,   -999.0,9,   7.6978,2,    25.00,   9.9524,20110307,0657
  29AH20110128,   A05,   127,  1,     16,2,20110307,0529, 26.2023, -73.0432, 5211,    599.8,  14.5658,  35.9333,2,    165.1,2,    165.5,2,     6.84,2,    15.56,2,     0.81,2,   -999.0,9,   7.8431,2,    25.00,  14.4749,20110307,0701
  29AH20110128,   A05,   127,  1,     17,2,20110307,0529, 26.2023, -73.0432, 5211,    400.6,  17.9441,  36.5351,2,    198.8,2,    199.0,2,     2.47,2,     5.53,2,     0.25,2,   -999.0,9,   7.9575,2,    25.00,  17.8744,20110307,0705
  29AH20110128,   A05,   127,  1,     18,2,20110307,0529, 26.2023, -73.0432, 5211,    300.4,  18.5192,  36.6047,2,    199.3,2,    199.8,2,     2.33,2,     5.47,2,     0.23,2,   -999.0,9,   7.9760,2,    25.00,  18.4659,20110307,0707
  29AH20110128,   A05,   127,  1,     19,2,20110307,0529, 26.2023, -73.0432, 5211,    150.2,  20.9166,  36.7815,2,    196.7,2,    197.0,2,     1.38,2,     1.16,2,     0.06,2,   -999.0,9,   8.0094,2,    25.00,  20.8877,20110307,0710
  29AH20110128,   A05,   127,  1,     20,2,20110307,0529, 26.2023, -73.0432, 5211,    125.3,  21.7087,  36.7777,2,    203.0,2,    203.5,2,     1.42,2,     0.67,2,     0.05,2,   -999.0,9,   8.0432,2,    25.00,  21.6839,20110307,0712
  29AH20110128,   A05,   127,  1,     21,2,20110307,0529, 26.2023, -73.0432, 5211,     75.2,  22.2827,  36.8066,2,    214.4,2,    213.7,2,     1.32,2,     0.04,2,     0.04,2,   -999.0,9,   8.0693,2,    25.00,  22.2676,20110307,0713
  29AH20110128,   A05,   127,  1,     22,2,20110307,0529, 26.2023, -73.0432, 5211,     49.9,  22.3053,  36.8053,2,    214.8,2,    214.3,2,     1.11,2,     0.06,2,     0.04,2,   -999.0,9,   8.0636,2,    25.00,  22.2953,20110307,0714
  29AH20110128,   A05,   127,  1,     23,2,20110307,0529, 26.2023, -73.0432, 5211,     26.2,  22.3526,  36.7899,2,    215.0,2,    215.2,2,     1.34,2,     0.08,2,     0.05,2,   -999.0,9,   8.0649,2,    25.00,  22.3473,20110307,0715
  29AH20110128,   A05,   127,  1,     24,2,20110307,0529, 26.2023, -73.0432, 5211,      4.3,  22.4312,  36.7844,2,    215.0,2,    217.4,2,     1.32,2,     0.17,2,     0.05,2,   -999.0,9,   8.0682,2,    25.00,  22.4303,20110307,0716