BOTTLE,20220930CCHSIOAMB
EXPOCODE,SECT_ID,STNNBR,CASTNO,BTLNBR,BTLNBR_FLAG_W,DATE,TIME,LATITUDE,LONGITUDE,DEPTH,CTDPRS,CTDTMP,CTDSAL,CTDSAL_FLAG_W,CTDOXY,CTDOXY_FLAG_W,OXYGEN,OXYGEN_FLAG_W,SILCAT,SILCAT_FLAG_W,NITRAT,NITRAT_FLAG_W,PHSPHT,PHSPHT_FLAG_W,ALKALI,ALKALI_FLAG_W,PH_SWS,PH_SWS_FLAG_W,PH_TMP,THETA,BTL_DATE,BTL_TIME
,,,,,,,,,,METERS,DBAR,ITS-90,PSS-78,,UMOL/KG,,UMOL/KG,,UMOL/KG,,UMOL/KG,,UMOL/KG,,UMOL/KG,,,,DEG C,DEG C,,
  29AH20110128,   A05,    98,  1,      1,2,20110225,1749, 24.5005, -58.3267, 6041,   6031.0,   2.1021,  34.8448,2,    249.4,2,    248.1,2,  -999.00,9,  -999.00,9,  -999.00,9,   2344.3,2,   7.7007,2,    25.00,   1.5111,20110225,1749
  29AH20110128,   A05,    98,  1,      2,2,20110225,1749, 24.5005, -58.3267, 6041,   5500.1,   2.0517,  34.8486,2,    250.4,2,    249.3,2,  -999.00,9,  -999.00,9,  -999.00,9,   2344.4,2,   7.7033,2,    25.00,   1.5337,20110225,1759
  29AH20110128,   A05,    98,  1,      3,2,20110225,1749, 24.5005, -58.3267, 6041,   4998.8,   2.1638,  34.8710,2,    255.9,2,    256.6,2,  -999.00,9,  -999.00,9,  -999.00,9,   2338.3,2,   7.7163,2,    25.00,   1.7059,20110225,1808
  29AH20110128,   A05,    98,  1,      4,2,20110225,1749, 24.5005, -58.3267, 6041,   4498.0,   2.2644,  34.8900,2,    262.3,2,    261.9,2,  -999.00,9,  -999.00,9,  -999.00,9,   2330.5,2,   7.7269,2,    25.00,   1.8646,20110225,1818
  29AH20110128,   A05,    98,  1,      5,2,20110225,1749, 24.5005, -58.3267, 6041,   4001.2,   2.3280,  34.8998,2,    263.5,2,    263.2,2,  -999.00,9,  -999.00,9,  -999.00,9,   2327.7,2,   7.7277,2,    25.00,   1.9843,20110225,1827
  29AH20110128,   A05,    98,  1,      6,2,20110225,1749, 24.5005, -58.3267, 6041,   3501.0,   2.4723,  34.9121,2,    259.6,2,    257.7,2,  -999.00,9,  -999.00,9,  -999.00,9,   2327.5,2,   7.7251,2,    25.00,   2.1804,20110225,1837
  29AH20110128,   A05,    98,  1,      7,2,20110225,1749, 24.5005, -58.3267, 6041,   3001.3,   2.7379,  34.9333,2,    255.3,2,    255.4,2,  -999.00,9,  -999.00,9,  -999.00,9,   2329.3,2,   7.7298,2,    25.00,   2.4926,20110225,1847
  29AH20110128,   A05,    98,  1,      8,2,20110225,1749, 24.5005, -58.3267, 6041,   2498.8,   3.0916,  34.9632,2,    251.4,2,    252.2,2,  -999.00,9,  -999.00,9,  -999.00,9,   2327.6,2,   7.7284,2,    25.00,   2.8900,20110225,1857
  29AH20110128,   A05,    98,  1,      9,2,20110225,1749, 24.5005, -58.3267, 6041,   1997.2,   3.6789,  35.0073,2,    249.9,2,    251.4,2,  -999.00,9,  -999.00,9,  -999.00,9,   2322.3,2,   7.7292,2,    25.00,   3.5163,20110225,1906
  29AH20110128,   A05,    98,  1,     10,2,20110225,1749, 24.5005, -58.3267, 6041,   1751.6,   4.0575,  35.0269,2,    249.3,2,    249.9,2,  -999.00,9,  -999.00,9,  -999.00,9,   2318.4,2,   7.7264,2,    25.00,   3.9130,20110225,1911
  29AH20110128,   A05,    98,  1,     11,2,20110225,1749, 24.5005, -58.3267, 6041,   1500.2,   4.4661,  35.0404,2,    245.5,2,    246.7,2,  -999.00,9,  -999.00,9,  -999.00,9,   2315.9,2,   7.7193,2,    25.00,   4.3404,20110225,1916
  29AH20110128,   A05,    98,  1,     12,2,20110225,1749, 24.5005, -58.3267, 6041,   1300.6,   5.0374,  35.0664,2,    232.2,2,    233.1,2,  -999.00,9,  -999.00,9,  -999.00,9,   2316.0,2,   7.7120,2,    25.00,   4.9247,20110225,1920
  29AH20110128,   A05,    98,  1,     13,2,20110225,1749, 24.5005, -58.3267, 6041,   1198.8,   5.3773,  35.0658,2,    218.5,2,    218.1,2,  -999.00,9,  -999.00,9,  -999.00,9,   2315.9,2,   7.7015,2,    25.00,   5.2712,20110225,1922
  29AH20110128,   A05,    98,  1,     14,2,20110225,1749, 24.5005, -58.3267, 6041,   1000.3,   6.3097,  35.0640,2,    187.0,2,    186.2,2,  -999.00,9,  -999.00,9,  -999.00,9,   2318.7,2,   7.6763,2,    25.00,   6.2156,20110225,1926
  29AH20110128,   A05,    98,  1,     15,2,20110225,1749, 24.5005, -58.3267, 6041,    800.4,   8.3540,  35.1476,2,    149.8,2,    149.4,2,  -999.00,9,  -999.00,9,  -999.00,9,   2321.0,2,   7.6636,2,    25.00,   8.2676,20110225,1930
  29AH20110128,   A05,    98,  1,     16,2,20110225,1749, 24.5005, -58.3267, 6041,    600.6,  12.3320,  35.6101,2,    152.5,2,    152.1,2,  -999.00,9,  -999.00,9,  -999.00,9,   2337.2,2,   7.7582,2,    25.00,  12.2505,20110225,1934
  29AH20110128,   A05,    98,  1,     17,2,20110225,1749, 24.5005, -58.3267, 6041,    399.9,  16.3995,  36.2570,2,    176.7,2,    177.2,2,  -999.00,9,  -999.00,9,  -999.00,9,   2376.3,2,   7.8892,2,    25.00,  16.3342,20110225,1938
  29AH20110128,   A05,    98,  1,     18,2,20110225,1749, 24.5005, -58.3267, 6041,    302.4,  17.7658,  36.5011,2,    188.4,2,    188.9,2,  -999.00,9,  -999.00,9,  -999.00,9,   2387.9,2,   7.9350,2,    25.00,  17.7137,20110225,1941
  29AH20110128,   A05,    98,  1,     19,2,20110225,1749, 24.5005, -58.3267, 6041,    148.4,  19.8782,  36.7578,2,    189.9,2,    188.2,2,  -999.00,9,  -999.00,9,  -999.00,9,   2403.6,2,   7.9734,2,    25.00,  19.8506,20110225,1944
  29AH20110128,   A05,    98,  1,     20,2,20110225,1749, 24.5005, -58.3267, 6041,    123.1,  20.4156,  36.8051,2,    191.5,2,    191.4,2,  -999.00,9,  -999.00,9,  -999.00,9,   -999.0,9,   7.9826,2,    25.00,  20.3923,20110225,1945
  29AH20110128,   A05,    98,  1,     21,2,20110225,1749, 24.5005, -58.3267, 6041,     76.6,  22.4719,  36.9017,2,    206.8,2,    207.4,2,  -999.00,9,  -999.00,9,  -999.00,9,   2412.2,2,   8.0424,2,    25.00,  22.4564,20110225,1946
  29AH20110128,   A05,    98,  1,     22,2,20110225,1749, 24.5005, -58.3267, 6041,     49.9,  23.1612,  36.9329,2,    210.5,2,    209.5,2,  -999.00,9,  -999.00,9,  -999.00,9,   -999.0,9,   8.0585,2,    25.00,  23.1509,20110225,1947
  29AH20110128,   A05,    98,  1,     23,2,20110225,1749, 24.5005, -58.3267, 6041,     25.6,  23.5345,  36.7558,2,    211.8,2,    211.6,2,  -999.00,9,  -999.00,9,  -999.00,9,   -999.0,9,   8.0717,2,    25.00,  23.5292,20110225,1947
  29AH20110128,   A05,    98,  1,     24,2,20110225,1749, 24.5005, -58.3267, 6041,      5.9,  23.5766,  36.6303,2,    212.1,2,    211.5,2,  -999.00,9,  -999.00,9,  -999.00,9,   2398.2,2,   8.0808,2,    25.00,  23.5754,20110225,1948
  29AH20110128,   A05,    99,  1,      1,2,20110226,0142, 24.4997, -58.9383, 6044,   6034.2,   2.1003,  34.8445,2,    249.8,2,    247.9,2,  -999.00,9,  -999.00,9,  -999.00,9,   -999.0,9,   7.6992,2,    25.00,   1.5090,20110226,0142
  29AH20110128,   A05,    99,  1,      2,2,20110226,0142, 24.4997, -58.9383, 6044,   5499.3,   2.0441,  34.8476,2,    249.3,2,    248.1,2,  -999.00,9,  -999.00,9,  -999.00,9,   -999.0,9,   7.6920,3,    25.00,   1.5265,20110226,0153
  29AH20110128,   A05,    99,  1,      3,2,20110226,0142, 24.4997, -58.9383, 6044,   5000.9,   2.0968,  34.8621,2,    253.1,2,    256.0,2,  -999.00,9,  -999.00,9,  -999.00,9,   -999.0,9,   7.7133,2,    25.00,   1.6409,20110226,0204
  29AH20110128,   A05,    99,  1,      4,2,20110226,0142, 24.4997, -58.9383, 6044,   4500.2,   2.2362,  34.8855,2,    258.8,2,    258.3,2,  -999.00,9,  -999.00,9,  -999.00,9,   -999.0,9,   7.7267,2,    25.00,   1.8370,20110226,0213
  29AH20110128,   A05,    99,  1,      5,2,20110226,0142, 24.4997, -58.9383, 6044,   3999.7,   2.3220,  34.8980,2,    260.3,2,    259.5,2,  -999.00,9,  -999.00,9,  -999.00,9,   -999.0,9,   7.7301,2,    25.00,   1.9787,20110226,0223
  29AH20110128,   A05,    99,  1,      6,2,20110226,0142, 24.4997, -58.9383, 6044,   3499.0,   2.4819,  34.9123,2,    257.8,2,    257.4,2,  -999.00,9,  -999.00,9,  -999.00,9,   -999.0,9,   7.7335,2,    25.00,   2.1900,20110226,0233
  29AH20110128,   A05,    99,  1,      7,2,20110226,0142, 24.4997, -58.9383, 6044,   3002.1,   2.7582,  34.9351,2,    254.7,2,    255.0,2,  -999.00,9,  -999.00,9,  -999.00,9,   -999.0,9,   7.7299,2,    25.00,   2.5124,20110226,0242
  29AH20110128,   A05,    99,  1,      8,2,20110226,0142, 24.4997, -58.9383, 6044,   2499.2,   3.0930,  34.9637,2,    251.0,2,    255.1,2,  -999.00,9,  -999.00,9,  -999.00,9,   -999.0,9,   7.7303,2,    25.00,   2.8913,20110226,0252
  29AH20110128,   A05,    99,  1,      9,2,20110226,0142, 24.4997, -58.9383, 6044,   2001.0,   3.5412,  34.9841,2,    255.6,2,    256.9,2,  -999.00,9,  -999.00,9,  -999.00,9,   -999.0,9,   7.7308,2,    25.00,   3.3803,20110226,0302
  29AH20110128,   A05,    99,  1,     10,2,20110226,0142, 24.4997, -58.9383, 6044,   1749.7,   3.9936,  35.0217,2,    249.9,2,    250.8,2,  -999.00,9,  -999.00,9,  -999.00,9,   -999.0,9,   7.7311,2,    25.00,   3.8501,20110226,0307
  29AH20110128,   A05,    99,  1,     11,2,20110226,0142, 24.4997, -58.9383, 6044,   1498.9,   4.3881,  35.0365,2,    247.5,2,    248.1,2,  -999.00,9,  -999.00,9,  -999.00,9,   -999.0,9,   7.7188,2,    25.00,   4.2634,20110226,0313
  29AH20110128,   A05,    99,  1,     12,2,20110226,0142, 24.4997, -58.9383, 6044,   1299.5,   5.0252,  35.0740,2,    232.9,2,    233.1,2,  -999.00,9,  -999.00,9,  -999.00,9,   -999.0,9,   7.7133,2,    25.00,   4.9127,20110226,0317
  29AH20110128,   A05,    99,  1,     13,2,20110226,0142, 24.4997, -58.9383, 6044,   1201.3,   5.3958,  35.0750,2,    222.0,2,    221.2,2,  -999.00,9,  -999.00,9,  -999.00,9,   -999.0,9,   7.7114,2,    25.00,   5.2893,20110226,0319
  29AH20110128,   A05,    99,  1,     14,2,20110226,0142, 24.4997, -58.9383, 6044,    999.0,   6.1896,  35.0150,2,    176.9,2,    175.4,2,  -999.00,9,  -999.00,9,  -999.00,9,   -999.0,9,   7.6625,2,    25.00,   6.0966,20110226,0323
  29AH20110128,   A05,    99,  1,     15,2,20110226,0142, 24.4997, -58.9383, 6044,    797.6,   8.5144,  35.1635,2,    149.2,2,    149.1,2,  -999.00,9,  -999.00,9,  -999.00,9,   -999.0,9,   7.6705,2,    25.00,   8.4274,20110226,0327
  29AH20110128,   A05,    99,  1,     16,2,20110226,0142, 24.4997, -58.9383, 6044,    600.7,  12.9755,  35.7021,2,    155.7,2,    155.3,2,  -999.00,9,  -999.00,9,  -999.00,9,   -999.0,9,   7.7827,2,    25.00,  12.8912,20110226,0331
  29AH20110128,   A05,    99,  1,     17,2,20110226,0142, 24.4997, -58.9383, 6044,    400.5,  16.5565,  36.2918,2,    189.4,2,    192.4,2,  -999.00,9,  -999.00,9,  -999.00,9,   -999.0,9,   7.9140,2,    25.00,  16.4906,20110226,0335
  29AH20110128,   A05,    99,  1,     18,2,20110226,0142, 24.4997, -58.9383, 6044,    300.2,  17.7838,  36.5071,2,    196.2,2,    196.3,2,  -999.00,9,  -999.00,9,  -999.00,9,   -999.0,9,   7.9517,2,    25.00,  17.7320,20110226,0337
  29AH20110128,   A05,    99,  1,     19,2,20110226,0142, 24.4997, -58.9383, 6044,    150.6,  20.4189,  36.7773,2,    199.5,2,    198.4,2,  -999.00,9,  -999.00,9,  -999.00,9,   -999.0,9,   8.0007,2,    25.00,  20.3904,20110226,0340
  29AH20110128,   A05,    99,  1,     20,2,20110226,0142, 24.4997, -58.9383, 6044,    124.4,  21.2136,  36.7787,2,    212.1,2,    210.3,2,  -999.00,9,  -999.00,9,  -999.00,9,   -999.0,9,   8.0377,2,    25.00,  21.1894,20110226,0341
  29AH20110128,   A05,    99,  1,     21,2,20110226,0142, 24.4997, -58.9383, 6044,     75.9,  22.6753,  36.8809,2,    212.9,2,    211.9,2,  -999.00,9,  -999.00,9,  -999.00,9,   -999.0,9,   8.0496,2,    25.00,  22.6598,20110226,0342
  29AH20110128,   A05,    99,  1,     22,2,20110226,0142, 24.4997, -58.9383, 6044,     51.0,  23.4678,  36.8043,2,    212.8,2,    212.1,2,  -999.00,9,  -999.00,9,  -999.00,9,   -999.0,9,   8.0717,2,    25.00,  23.4572,20110226,0343
  29AH20110128,   A05,    99,  1,     23,2,20110226,0142, 24.4997, -58.9383, 6044,     25.6,  23.6541,  36.6974,2,    211.2,2,    209.7,2,  -999.00,9,  -999.00,9,  -999.00,9,   -999.0,9,   8.0772,2,    25.00,  23.6487,20110226,0344
  29AH20110128,   A05,    99,  1,     24,2,20110226,0142, 24.4997, -58.9383, 6044,      5.6,  23.6397,  36.6983,2,    211.3,2,    209.6,2,  -999.00,9,  -999.00,9,  -999.00,9,   -999.0,9,   8.0757,2,    25.00,  23.6385,20110226,0344
  29AH20110128,   A05,   100,  1,      1,2,20110226,0912, 24.4998, -59.5532, 5814,   5762.3,   2.0646,  34.8449,2,    248.6,2,    247.9,2,  -999.00,9,  -999.00,9,  -999.00,9,   2348.4,2,   7.7051,2,    25.00,   1.5114,20110226,0912
  29AH20110128,   A05,   100,  1,      2,2,20110226,0912, 24.4998, -59.5532, 5814,   5499.6,   2.0478,  34.8480,2,    249.3,2,    246.5,2,  -999.00,9,  -999.00,9,  -999.00,9,   2347.0,2,   7.7091,2,    25.00,   1.5300,20110226,0917
  29AH20110128,   A05,   100,  1,      3,2,20110226,0912, 24.4998, -59.5532, 5814,   4999.9,   2.1084,  34.8639,2,    253.9,2,    253.9,2,  -999.00,9,  -999.00,9,  -999.00,9,   2344.0,2,   7.7144,2,    25.00,   1.6523,20110226,0927
  29AH20110128,   A05,   100,  1,      4,2,20110226,0912, 24.4998, -59.5532, 5814,   4500.2,   2.2616,  34.8895,2,    262.8,2,    262.8,2,  -999.00,9,  -999.00,9,  -999.00,9,   2329.9,2,   7.7319,2,    25.00,   1.8616,20110226,0937
  29AH20110128,   A05,   100,  1,      5,2,20110226,0912, 24.4998, -59.5532, 5814,   4000.3,   2.3142,  34.8984,2,    263.5,2,    263.1,2,  -999.00,9,  -999.00,9,  -999.00,9,   2328.5,2,   7.7231,2,    25.00,   1.9710,20110226,0946
  29AH20110128,   A05,   100,  1,      6,2,20110226,0912, 24.4998, -59.5532, 5814,   3500.0,   2.4667,  34.9118,2,    261.0,2,    262.0,2,  -999.00,9,  -999.00,9,  -999.00,9,   2327.4,2,   7.7220,2,    25.00,   2.1750,20110226,0956
  29AH20110128,   A05,   100,  1,      7,2,20110226,0912, 24.4998, -59.5532, 5814,   2999.7,   2.7158,  34.9321,2,    256.0,2,    257.7,2,  -999.00,9,  -999.00,9,  -999.00,9,   2328.9,2,   7.7269,2,    25.00,   2.4712,20110226,1006
  29AH20110128,   A05,   100,  1,      8,2,20110226,0912, 24.4998, -59.5532, 5814,   2500.4,   3.0617,  34.9615,2,    251.4,2,    253.1,2,  -999.00,9,  -999.00,9,  -999.00,9,   2327.0,2,   7.7300,2,    25.00,   2.8605,20110226,1016
  29AH20110128,   A05,   100,  1,      9,2,20110226,0912, 24.4998, -59.5532, 5814,   2000.0,   3.5746,  34.9970,2,    252.0,2,    252.1,2,  -999.00,9,  -999.00,9,  -999.00,9,   2322.0,2,   7.7284,2,    25.00,   3.4133,20110226,1026
  29AH20110128,   A05,   100,  1,     10,2,20110226,0912, 24.4998, -59.5532, 5814,   1751.3,   3.8842,  35.0053,2,    253.2,2,    253.8,2,  -999.00,9,  -999.00,9,  -999.00,9,   2316.1,2,   7.7248,2,    25.00,   3.7420,20110226,1031
  29AH20110128,   A05,   100,  1,     11,2,20110226,0912, 24.4998, -59.5532, 5814,   1499.0,   4.3994,  35.0340,2,    247.1,2,    247.8,2,  -999.00,9,  -999.00,9,  -999.00,9,   2315.7,2,   7.7192,2,    25.00,   4.2746,20110226,1036
  29AH20110128,   A05,   100,  1,     12,2,20110226,0912, 24.4998, -59.5532, 5814,   1299.7,   4.9797,  35.0722,2,    234.3,2,    233.7,2,  -999.00,9,  -999.00,9,  -999.00,9,   2316.7,2,   7.7126,2,    25.00,   4.8676,20110226,1040
  29AH20110128,   A05,   100,  1,     13,2,20110226,0912, 24.4998, -59.5532, 5814,   1201.1,   5.2929,  35.0718,2,    223.0,2,    222.4,2,  -999.00,9,  -999.00,9,  -999.00,9,   2316.5,2,   7.7005,2,    25.00,   5.1874,20110226,1042
  29AH20110128,   A05,   100,  1,     14,2,20110226,0912, 24.4998, -59.5532, 5814,   1000.2,   6.4895,  35.0838,2,    186.8,2,    186.6,2,  -999.00,9,  -999.00,9,  -999.00,9,   2317.4,2,   7.6752,2,    25.00,   6.3940,20110226,1046
  29AH20110128,   A05,   100,  1,     15,2,20110226,0912, 24.4998, -59.5532, 5814,    900.2,   7.6394,  35.1101,2,    161.4,2,    159.7,2,  -999.00,9,  -999.00,9,  -999.00,9,   2319.5,2,   7.6618,2,    25.00,   7.5464,20110226,1048
  29AH20110128,   A05,   100,  1,     16,2,20110226,0912, 24.4998, -59.5532, 5814,    800.0,   9.6033,  35.2699,2,    145.9,2,    157.5,3,  -999.00,9,  -999.00,9,  -999.00,9,   -999.0,9,   7.7126,2,    25.00,   9.5096,20110226,1050
  29AH20110128,   A05,   100,  1,     17,2,20110226,0912, 24.4998, -59.5532, 5814,    601.2,  13.8092,  35.8320,2,    168.6,2,    169.6,2,  -999.00,9,  -999.00,9,  -999.00,9,   2351.0,2,   7.8134,2,    25.00,  13.7213,20110226,1054
  29AH20110128,   A05,   100,  1,     18,2,20110226,0912, 24.4998, -59.5532, 5814,    400.6,  17.5743,  36.4857,2,    205.5,2,    205.9,2,  -999.00,9,  -999.00,9,  -999.00,9,   2386.3,2,   7.9462,2,    25.00,  17.5056,20110226,1058
  29AH20110128,   A05,   100,  1,     19,2,20110226,0912, 24.4998, -59.5532, 5814,    300.2,  18.0902,  36.5542,2,    204.3,2,    203.3,2,  -999.00,9,  -999.00,9,  -999.00,9,   2389.7,2,   7.9569,2,    25.00,  18.0378,20110226,1101
  29AH20110128,   A05,   100,  1,     20,2,20110226,0912, 24.4998, -59.5532, 5814,    151.8,  21.1058,  36.8128,2,    204.3,2,    203.6,2,  -999.00,9,  -999.00,9,  -999.00,9,   2407.0,2,   8.0015,2,    25.00,  21.0764,20110226,1104
  29AH20110128,   A05,   100,  1,     21,2,20110226,0912, 24.4998, -59.5532, 5814,    126.0,  21.6436,  36.8222,2,    208.8,2,    208.5,2,  -999.00,9,  -999.00,9,  -999.00,9,   -999.0,9,   8.0190,2,    25.00,  21.6188,20110226,1105
  29AH20110128,   A05,   100,  1,     22,2,20110226,0912, 24.4998, -59.5532, 5814,     75.3,  23.1833,  36.8587,2,    212.6,2,    211.7,2,  -999.00,9,  -999.00,9,  -999.00,9,   2411.0,2,   8.0588,2,    25.00,  23.1677,20110226,1106
  29AH20110128,   A05,   100,  1,     23,2,20110226,0912, 24.4998, -59.5532, 5814,     50.2,  23.3190,  36.8300,2,    212.2,2,    212.1,2,  -999.00,9,  -999.00,9,  -999.00,9,   -999.0,9,   8.0659,2,    25.00,  23.3086,20110226,1106
  29AH20110128,   A05,   100,  1,     24,2,20110226,0912, 24.4998, -59.5532, 5814,      5.3,  23.3063,  36.8304,2,    212.6,2,    212.4,2,  -999.00,9,  -999.00,9,  -999.00,9,   2410.7,2,   8.0634,2,    25.00,  23.3052,20110226,1108