BOTTLE,20220930CCHSIOAMB
EXPOCODE,SECT_ID,STNNBR,CASTNO,BTLNBR,BTLNBR_FLAG_W,DATE,TIME,LATITUDE,LONGITUDE,DEPTH,CTDPRS,CTDTMP,CTDSAL,CTDSAL_FLAG_W,CTDOXY,CTDOXY_FLAG_W,OXYGEN,OXYGEN_FLAG_W,SILCAT,SILCAT_FLAG_W,NITRAT,NITRAT_FLAG_W,PHSPHT,PHSPHT_FLAG_W,ALKALI,ALKALI_FLAG_W,PH_SWS,PH_SWS_FLAG_W,PH_TMP,THETA,BTL_DATE,BTL_TIME
,,,,,,,,,,METERS,DBAR,ITS-90,PSS-78,,UMOL/KG,,UMOL/KG,,UMOL/KG,,UMOL/KG,,UMOL/KG,,UMOL/KG,,,,DEG C,DEG C,,
  29AH20110128,   A05,    47,  1,      1,2,20110210,0134, 24.4992, -33.2603, 5973,   5412.7,   2.4071,  34.8806,2,    246.1,2,    247.5,2,    49.30,2,    20.65,2,     1.49,2,   -999.0,9,   7.7222,2,    25.00,   1.8875,20110210,0134
  29AH20110128,   A05,    47,  1,      2,2,20110210,0134, 24.4992, -33.2603, 5973,   4999.7,   2.3809,  34.8839,2,    245.3,2,    244.5,2,    47.04,2,    20.65,2,     1.46,2,   -999.0,9,   7.7222,2,    25.00,   1.9155,20110210,0142
  29AH20110128,   A05,    47,  1,      3,2,20110210,0134, 24.4992, -33.2603, 5973,   4499.8,   2.3826,  34.8910,2,    244.7,2,    243.4,2,    47.19,2,    20.65,2,     1.49,2,   -999.0,9,   7.7223,2,    25.00,   1.9789,20110210,0152
  29AH20110128,   A05,    47,  1,      4,2,20110210,0134, 24.4992, -33.2603, 5973,   3999.3,   2.4025,  34.8989,2,    244.5,2,    243.1,2,    45.16,2,    20.45,2,     1.47,2,   -999.0,9,   7.7265,2,    25.00,   2.0570,20110210,0201
  29AH20110128,   A05,    47,  1,      5,2,20110210,0134, 24.4992, -33.2603, 5973,   3499.9,   2.5089,  34.9139,2,    243.6,2,    242.8,2,  -999.00,9,    20.25,2,  -999.00,9,   -999.0,9,   7.7269,2,    25.00,   2.2162,20110210,0211
  29AH20110128,   A05,    47,  1,      6,2,20110210,0134, 24.4992, -33.2603, 5973,   2999.9,   2.7134,  34.9366,2,    241.9,2,    241.6,2,  -999.00,9,    19.86,2,  -999.00,9,   -999.0,9,   7.7305,2,    25.00,   2.4688,20110210,0221
  29AH20110128,   A05,    47,  1,      7,2,20110210,0134, 24.4992, -33.2603, 5973,   2501.3,   3.1766,  34.9826,2,    242.3,2,    244.3,2,  -999.00,9,    19.08,2,  -999.00,9,   -999.0,9,   7.7304,2,    25.00,   2.9731,20110210,0230
  29AH20110128,   A05,    47,  1,      8,2,20110210,0134, 24.4992, -33.2603, 5973,   2000.3,   3.9962,  35.0568,2,    233.3,2,    234.0,2,    24.44,2,    19.15,2,     1.30,2,   -999.0,9,   7.7259,2,    25.00,   3.8284,20110210,0240
  29AH20110128,   A05,    47,  1,      9,2,20110210,0134, 24.4992, -33.2603, 5973,   1749.6,   4.5564,  35.1034,2,    223.9,2,    224.5,2,    22.70,2,    19.43,2,     1.31,2,   -999.0,9,   7.7196,2,    25.00,   4.4054,20110210,0245
  29AH20110128,   A05,    47,  1,     10,2,20110210,0134, 24.4992, -33.2603, 5973,   1500.3,   5.2195,  35.1405,2,    210.0,2,    209.6,2,    21.58,2,    20.10,2,     1.37,2,   -999.0,9,   7.7097,2,    25.00,   5.0852,20110210,0250
  29AH20110128,   A05,    47,  1,     11,2,20110210,0134, 24.4992, -33.2603, 5973,   1301.0,   5.8127,  35.1537,2,    194.8,2,    194.6,2,    20.75,2,    21.23,2,     1.47,2,   -999.0,9,   7.6939,2,    25.00,   5.6923,20110210,0254
  29AH20110128,   A05,    47,  1,     12,2,20110210,0134, 24.4992, -33.2603, 5973,   1199.8,   6.1341,  35.1524,2,    181.4,2,    181.7,2,    20.75,2,    22.21,2,     1.59,2,   -999.0,9,   7.6807,2,    25.00,   6.0210,20110210,0256
  29AH20110128,   A05,    47,  1,     13,2,20110210,0134, 24.4992, -33.2603, 5973,   1000.5,   6.8084,  35.1172,2,    161.1,2,    161.0,2,    13.74,4,    23.91,2,     1.72,2,   -999.0,9,   7.6586,2,    25.00,   6.7105,20110210,0300
  29AH20110128,   A05,    47,  1,     14,2,20110210,0134, 24.4992, -33.2603, 5973,    899.8,   7.5707,  35.1696,2,    153.7,2,    153.6,2,    19.69,2,    23.59,2,     1.67,2,   -999.0,9,   7.6657,2,    25.00,   7.4781,20110210,0303
  29AH20110128,   A05,    47,  1,     15,2,20110210,0134, 24.4992, -33.2603, 5973,    799.7,   8.5618,  35.2511,2,    146.8,2,    146.7,2,    17.74,2,    22.93,2,     1.55,2,   -999.0,9,   7.6707,2,    25.00,   8.4742,20110210,0305
  29AH20110128,   A05,    47,  1,     16,2,20110210,0134, 24.4992, -33.2603, 5973,    599.0,  11.3572,  35.5540,2,    160.8,2,    161.0,2,     6.66,3,    17.32,2,     0.98,2,   -999.0,9,   7.7472,2,    25.00,  11.2800,20110210,0309
  29AH20110128,   A05,    47,  1,     17,2,20110210,0134, 24.4992, -33.2603, 5973,    400.9,  14.6236,  35.9997,2,    186.6,2,    185.9,2,     5.08,2,     9.86,2,  -999.00,9,   -999.0,9,   7.8540,2,    25.00,  14.5630,20110210,0317
  29AH20110128,   A05,    47,  1,     18,2,20110210,0134, 24.4992, -33.2603, 5973,    299.6,  16.4526,  36.3035,2,    192.1,2,    192.1,2,     3.57,2,     6.92,2,     0.29,2,   -999.0,9,   7.9058,2,    25.00,  16.4037,20110210,0320
  29AH20110128,   A05,    47,  1,     19,2,20110210,0134, 24.4992, -33.2603, 5973,    150.2,  19.5568,  36.8175,2,    204.8,2,    203.6,2,     1.69,2,     1.03,2,     0.08,2,   -999.0,9,   7.9721,2,    25.00,  19.5292,20110210,0323
  29AH20110128,   A05,    47,  1,     20,2,20110210,0134, 24.4992, -33.2603, 5973,    126.1,  21.0494,  37.1173,2,    205.1,2,    205.9,2,     1.54,2,     0.45,2,     0.08,2,   -999.0,9,   7.9926,2,    25.00,  21.0250,20110210,0324
  29AH20110128,   A05,    47,  1,     21,2,20110210,0134, 24.4992, -33.2603, 5973,     75.7,  22.4217,  37.4644,2,    213.1,2,    212.4,2,     1.47,2,     0.10,2,     0.08,2,   -999.0,9,   8.0438,2,    25.00,  22.4064,20110210,0326
  29AH20110128,   A05,    47,  1,     22,2,20110210,0134, 24.4992, -33.2603, 5973,     49.5,  22.5100,  37.4819,2,    212.9,2,    212.6,2,     1.47,2,     0.10,2,     0.08,2,   -999.0,9,   8.0472,2,    25.00,  22.4999,20110210,0327
  29AH20110128,   A05,    47,  1,     23,2,20110210,0134, 24.4992, -33.2603, 5973,     26.7,  22.5120,  37.4852,2,    212.9,2,    212.4,2,     1.47,2,     0.10,2,     0.08,2,   -999.0,9,   8.0472,2,    25.00,  22.5066,20110210,0329
  29AH20110128,   A05,    47,  1,     24,2,20110210,0134, 24.4992, -33.2603, 5973,      5.6,  22.5073,  37.4852,2,    212.9,2,    211.7,2,     1.47,2,     0.10,2,     0.08,2,   -999.0,9,   8.0553,2,    25.00,  22.5062,20110210,0330
  29AH20110128,   A05,    48,  1,      1,2,20110210,0920, 24.5007, -33.8727, 6027,   6016.8,   2.4768,  34.8786,2,    246.9,2,    245.5,2,    49.49,2,    20.88,2,     1.48,2,   2351.9,2,   7.7167,2,    25.00,   1.8730,20110210,0920
  29AH20110128,   A05,    48,  1,      2,2,20110210,0920, 24.5007, -33.8727, 6027,   5499.6,   2.4150,  34.8803,2,    246.3,2,    245.7,2,    46.80,2,    20.81,2,     1.50,2,   2350.8,2,   7.7178,2,    25.00,   1.8837,20110210,0932
  29AH20110128,   A05,    48,  1,      3,2,20110210,0920, 24.5007, -33.8727, 6027,   4997.4,   2.3864,  34.8846,2,    245.6,2,    244.6,2,    48.85,2,    20.86,2,     1.49,2,   2351.3,2,   7.7191,2,    25.00,   1.9211,20110210,0941
  29AH20110128,   A05,    48,  1,      4,2,20110210,0920, 24.5007, -33.8727, 6027,   4499.8,   2.3950,  34.8922,2,    243.8,2,    244.8,2,    46.37,2,    20.71,2,     1.46,2,   2351.8,2,   7.7235,2,    25.00,   1.9909,20110210,0951
  29AH20110128,   A05,    48,  1,      5,2,20110210,0920, 24.5007, -33.8727, 6027,   3999.2,   2.4187,  34.9003,2,    243.8,2,    243.5,2,    44.91,2,    20.56,2,     1.46,2,   2350.0,2,   7.7233,2,    25.00,   2.0727,20110210,1000
  29AH20110128,   A05,    48,  1,      6,2,20110210,0920, 24.5007, -33.8727, 6027,   3500.6,   2.5213,  34.9151,2,    242.1,2,    242.8,2,    43.25,2,    20.36,2,     1.42,2,   2349.7,2,   7.7250,2,    25.00,   2.2282,20110210,1010
  29AH20110128,   A05,    48,  1,      7,2,20110210,0920, 24.5007, -33.8727, 6027,   2999.1,   2.7571,  34.9398,2,    240.9,2,    241.8,2,    37.31,2,    19.85,2,     1.40,2,   2343.3,2,   7.7264,2,    25.00,   2.5116,20110210,1021
  29AH20110128,   A05,    48,  1,      8,2,20110210,0920, 24.5007, -33.8727, 6027,   2501.2,   3.1349,  34.9772,2,    240.5,2,    241.5,2,    30.89,2,    19.38,2,     1.33,2,   2336.2,2,   7.7270,2,    25.00,   2.9322,20110210,1030
  29AH20110128,   A05,    48,  1,      9,2,20110210,0920, 24.5007, -33.8727, 6027,   1998.4,   3.9166,  35.0479,2,    232.2,2,    233.3,2,  -999.00,9,  -999.00,9,  -999.00,9,   -999.0,9,   7.7217,2,    25.00,   3.7502,20110210,1040
  29AH20110128,   A05,    48,  1,     10,2,20110210,0920, 24.5007, -33.8727, 6027,   1749.5,   4.5326,  35.1009,2,    222.4,2,    223.5,2,    22.03,2,    19.47,2,     1.36,2,   2330.4,2,   7.7190,2,    25.00,   4.3819,20110210,1045
  29AH20110128,   A05,    48,  1,     11,2,20110210,0920, 24.5007, -33.8727, 6027,   1501.1,   5.1977,  35.1468,2,    209.1,2,    209.5,2,    20.22,2,    20.19,2,     1.41,2,   2332.2,2,   7.7058,2,    25.00,   5.0635,20110210,1050
  29AH20110128,   A05,    48,  1,     12,2,20110210,0920, 24.5007, -33.8727, 6027,   1300.0,   5.8647,  35.1640,2,    192.1,2,    191.4,2,    19.50,2,    21.40,2,     1.48,2,   2329.1,2,   7.6956,2,    25.00,   5.7439,20110210,1054
  29AH20110128,   A05,    48,  1,     13,2,20110210,0920, 24.5007, -33.8727, 6027,   1199.8,   5.9875,  35.1253,2,    186.4,2,    186.8,2,    19.55,2,    21.99,2,     1.55,2,   2327.0,2,   7.6833,2,    25.00,   5.8758,20110210,1056
  29AH20110128,   A05,    48,  1,     14,2,20110210,0920, 24.5007, -33.8727, 6027,   1000.5,   6.6949,  35.0860,2,    163.5,2,    163.2,2,    20.01,2,    24.04,2,     1.71,2,   2322.3,2,   7.6582,2,    25.00,   6.5979,20110210,1100
  29AH20110128,   A05,    48,  1,     15,2,20110210,0920, 24.5007, -33.8727, 6027,    799.7,   8.5229,  35.2400,2,    145.4,2,    145.0,2,    16.63,2,    23.18,2,     1.57,2,   2325.6,2,   7.6712,2,    25.00,   8.4355,20110210,1104
  29AH20110128,   A05,    48,  1,     16,2,20110210,0920, 24.5007, -33.8727, 6027,    601.0,  11.6044,  35.5803,2,    161.1,2,    161.7,2,     8.93,2,    17.03,2,     0.99,2,   2334.3,2,   7.7519,2,    25.00,  11.5259,20110210,1108
  29AH20110128,   A05,    48,  1,     17,2,20110210,0920, 24.5007, -33.8727, 6027,    399.2,  14.4789,  35.9691,2,    183.6,2,    183.7,2,     4.67,2,    10.29,2,  -999.00,9,   -999.0,9,   7.8493,2,    25.00,  14.4190,20110210,1112
  29AH20110128,   A05,    48,  1,     18,2,20110210,0920, 24.5007, -33.8727, 6027,    299.5,  16.3806,  36.2906,2,    189.9,2,    189.7,2,     3.10,2,     6.88,2,     0.33,2,   -999.0,9,   7.8977,2,    25.00,  16.3318,20110210,1114
  29AH20110128,   A05,    48,  1,     19,2,20110210,0920, 24.5007, -33.8727, 6027,    154.8,  19.3204,  36.8017,2,    193.6,2,    193.3,2,     1.62,2,     1.80,2,     0.10,2,   2409.1,2,   7.9576,2,    25.00,  19.2922,20110210,1118
  29AH20110128,   A05,    48,  1,     20,2,20110210,0920, 24.5007, -33.8727, 6027,    124.6,  21.5625,  37.2147,2,    207.6,2,    207.4,2,     1.31,2,     0.30,2,     0.08,2,   -999.0,9,   8.0123,2,    25.00,  21.5379,20110210,1118
  29AH20110128,   A05,    48,  1,     21,2,20110210,0920, 24.5007, -33.8727, 6027,     76.1,  22.5531,  37.4820,2,    211.6,2,    210.8,2,     1.23,2,     0.07,2,     0.08,2,   2454.0,2,   8.0441,2,    25.00,  22.5376,20110210,1120
  29AH20110128,   A05,    48,  1,     22,2,20110210,0920, 24.5007, -33.8727, 6027,     50.8,  22.5484,  37.4820,2,    211.8,2,    210.9,2,     1.24,2,     0.07,2,     0.10,2,   -999.0,9,   8.0432,2,    25.00,  22.5381,20110210,1120
  29AH20110128,   A05,    48,  1,     23,2,20110210,0920, 24.5007, -33.8727, 6027,     25.1,  22.5421,  37.4820,2,    212.2,2,    211.7,2,     1.25,2,     0.08,2,     0.08,2,   -999.0,9,   8.0413,2,    25.00,  22.5370,20110210,1121
  29AH20110128,   A05,    48,  1,     24,2,20110210,0920, 24.5007, -33.8727, 6027,      5.5,  22.5393,  37.4821,2,    212.5,2,    211.3,2,     1.24,2,     0.09,2,     0.07,2,   2450.9,2,   8.0461,2,    25.00,  22.5382,20110210,1122
  29AH20110128,   A05,    49,  1,      1,2,20110210,1659, 24.5003, -34.3348, 6041,   6031.4,   2.4801,  34.8787,2,    245.7,2,    245.9,2,    50.54,2,    20.97,2,     1.52,2,   -999.0,9,   7.7181,2,    25.00,   1.8742,20110210,1659
  29AH20110128,   A05,    49,  1,      2,2,20110210,1659, 24.5003, -34.3348, 6041,   5501.7,   2.4169,  34.8802,2,    246.6,2,    246.8,2,    49.96,2,    21.09,2,     1.50,2,   -999.0,9,   7.7188,2,    25.00,   1.8852,20110210,1712
  29AH20110128,   A05,    49,  1,      3,2,20110210,1659, 24.5003, -34.3348, 6041,   5001.0,   2.3684,  34.8828,2,    245.4,2,    246.1,2,    49.85,2,    20.98,2,     1.51,2,   -999.0,9,   7.7196,2,    25.00,   1.9033,20110210,1721
  29AH20110128,   A05,    49,  1,      4,2,20110210,1659, 24.5003, -34.3348, 6041,   4498.8,   2.3786,  34.8907,2,    244.3,2,    244.4,2,    48.78,2,    20.98,2,     1.46,2,   -999.0,9,   7.7186,2,    25.00,   1.9751,20110210,1731
  29AH20110128,   A05,    49,  1,      5,2,20110210,1659, 24.5003, -34.3348, 6041,   4000.5,   2.4297,  34.9013,2,    243.8,2,    244.6,2,    45.94,2,    20.83,2,     1.43,2,   -999.0,9,   7.7194,2,    25.00,   2.0833,20110210,1740
  29AH20110128,   A05,    49,  1,      6,2,20110210,1659, 24.5003, -34.3348, 6041,   3500.9,   2.5489,  34.9177,2,    241.6,2,    243.7,2,    39.97,3,    20.10,2,     1.44,2,   -999.0,9,   7.7237,2,    25.00,   2.2551,20110210,1750
  29AH20110128,   A05,    49,  1,      7,2,20110210,1659, 24.5003, -34.3348, 6041,   3002.2,   2.7644,  34.9411,2,    240.9,2,    243.3,2,    37.73,2,    20.13,2,     1.41,2,   -999.0,9,   7.7215,2,    25.00,   2.5184,20110210,1759
  29AH20110128,   A05,    49,  1,      8,2,20110210,1659, 24.5003, -34.3348, 6041,   2500.2,   3.2168,  34.9849,2,    240.8,2,    239.7,2,    29.68,2,    19.44,2,     1.38,2,   -999.0,9,   7.7233,2,    25.00,   3.0127,20110210,1809
  29AH20110128,   A05,    49,  1,      9,2,20110210,1659, 24.5003, -34.3348, 6041,   2000.5,   4.0334,  35.0558,2,    232.9,2,    234.7,2,    23.66,2,    19.20,2,     1.34,2,   -999.0,9,   7.7200,2,    25.00,   3.8650,20110210,1819
  29AH20110128,   A05,    49,  1,     10,2,20110210,1659, 24.5003, -34.3348, 6041,   1749.5,   4.5278,  35.0946,2,    225.6,2,    225.4,2,  -999.00,9,  -999.00,9,  -999.00,9,   -999.0,9,   7.7114,2,    25.00,   4.3772,20110210,1824
  29AH20110128,   A05,    49,  1,     11,2,20110210,1659, 24.5003, -34.3348, 6041,   1501.7,   5.4199,  35.1640,2,    210.3,2,    211.3,2,    19.29,2,    19.97,2,     1.35,2,   -999.0,9,   7.7030,2,    25.00,   5.2832,20110210,1829
  29AH20110128,   A05,    49,  1,     12,2,20110210,1659, 24.5003, -34.3348, 6041,   1302.5,   5.7519,  35.1259,2,    196.7,2,    197.7,2,    19.18,2,    21.24,2,     1.51,2,   -999.0,9,   7.6897,2,    25.00,   5.6320,20110210,1833
  29AH20110128,   A05,    49,  1,     13,2,20110210,1659, 24.5003, -34.3348, 6041,   1202.0,   5.9976,  35.1081,2,    187.1,2,    185.9,2,    19.79,2,    22.26,2,     1.53,2,   -999.0,9,   7.6809,2,    25.00,   5.8856,20110210,1835
  29AH20110128,   A05,    49,  1,     14,2,20110210,1659, 24.5003, -34.3348, 6041,   1002.6,   6.8799,  35.1009,2,    161.2,2,    161.1,2,    20.04,2,    24.25,2,     1.72,2,   -999.0,9,   7.6525,2,    25.00,   6.7813,20110210,1839
  29AH20110128,   A05,    49,  1,     15,2,20110210,1659, 24.5003, -34.3348, 6041,    801.0,   8.7251,  35.2704,2,    147.0,2,    149.0,2,    16.56,2,    22.97,2,     1.56,2,   -999.0,9,   7.6671,2,    25.00,   8.6363,20110210,1843
  29AH20110128,   A05,    49,  1,     16,2,20110210,1659, 24.5003, -34.3348, 6041,    600.3,  11.4329,  35.5641,2,    160.4,2,    160.5,2,     9.61,2,    17.50,2,     1.03,2,   -999.0,9,   7.7421,2,    25.00,  11.3552,20110210,1847
  29AH20110128,   A05,    49,  1,     17,2,20110210,1659, 24.5003, -34.3348, 6041,    402.0,  14.4842,  35.9690,2,    181.7,2,    182.2,2,     5.07,2,    10.62,2,     0.58,2,   -999.0,9,   7.8440,2,    25.00,  14.4239,20110210,1851
  29AH20110128,   A05,    49,  1,     18,2,20110210,1659, 24.5003, -34.3348, 6041,    299.4,  16.6845,  36.3440,2,    188.5,2,    189.8,2,     3.29,2,     6.85,2,     0.33,2,   -999.0,9,   7.9034,2,    25.00,  16.6351,20110210,1854
  29AH20110128,   A05,    49,  1,     19,2,20110210,1659, 24.5003, -34.3348, 6041,    150.2,  18.9124,  36.7162,2,    199.0,2,    199.0,2,     1.85,2,     1.54,2,     0.11,2,   -999.0,9,   7.9611,2,    25.00,  18.8854,20110210,1857
  29AH20110128,   A05,    49,  1,     20,2,20110210,1659, 24.5003, -34.3348, 6041,    124.9,  19.8039,  36.8480,2,    204.0,2,    203.5,2,     1.68,2,     0.52,2,     0.09,2,   -999.0,9,   7.9807,2,    25.00,  19.7807,20110210,1857
  29AH20110128,   A05,    49,  1,     21,2,20110210,1659, 24.5003, -34.3348, 6041,    101.3,  22.0537,  37.3652,2,    213.1,2,    212.1,2,     1.50,2,     0.06,2,     0.08,2,   -999.0,9,   8.0297,2,    25.00,  22.0334,20110210,1858
  29AH20110128,   A05,    49,  1,     22,2,20110210,1659, 24.5003, -34.3348, 6041,     76.5,  22.3867,  37.4569,2,    213.6,2,    213.2,2,     1.50,2,     0.01,2,     0.11,2,   -999.0,9,   8.0425,2,    25.00,  22.3712,20110210,1859
  29AH20110128,   A05,    49,  1,     23,2,20110210,1659, 24.5003, -34.3348, 6041,     26.5,  22.4711,  37.4810,2,    213.5,2,    212.9,2,     1.48,2,     0.02,2,     0.10,2,   -999.0,9,   8.0439,2,    25.00,  22.4657,20110210,1900
  29AH20110128,   A05,    49,  1,     24,2,20110210,1659, 24.5003, -34.3348, 6041,      5.9,  22.4857,  37.4830,2,    213.9,2,    215.3,2,     1.49,2,     0.02,2,     0.10,2,   -999.0,9,   8.0450,2,    25.00,  22.4845,20110210,1900