BOTTLE,20220930CCHSIOAMB
EXPOCODE,SECT_ID,STNNBR,CASTNO,BTLNBR,BTLNBR_FLAG_W,DATE,TIME,LATITUDE,LONGITUDE,DEPTH,CTDPRS,CTDTMP,CTDSAL,CTDSAL_FLAG_W,CTDOXY,CTDOXY_FLAG_W,OXYGEN,OXYGEN_FLAG_W,SILCAT,SILCAT_FLAG_W,NITRAT,NITRAT_FLAG_W,PHSPHT,PHSPHT_FLAG_W,ALKALI,ALKALI_FLAG_W,PH_SWS,PH_SWS_FLAG_W,PH_TMP,THETA,BTL_DATE,BTL_TIME
,,,,,,,,,,METERS,DBAR,ITS-90,PSS-78,,UMOL/KG,,UMOL/KG,,UMOL/KG,,UMOL/KG,,UMOL/KG,,UMOL/KG,,,,DEG C,DEG C,,
  29AH20110128,   A05,    50,  1,      1,2,20110210,2359, 24.5002, -34.7967, 6046,   6036.1,   2.4734,  34.8779,2,    247.3,2,    246.1,2,    50.10,2,    20.82,2,     1.49,2,   2348.8,2,   7.7183,2,    25.00,   1.8671,20110210,2359
  29AH20110128,   A05,    50,  1,      2,2,20110210,2359, 24.5002, -34.7967, 6046,   5500.6,   2.4051,  34.8793,2,    246.7,2,    246.2,2,    49.70,2,    20.88,2,     1.48,2,   2349.1,2,   7.7193,2,    25.00,   1.8740,20110210,0009
  29AH20110128,   A05,    50,  1,      3,2,20110210,2359, 24.5002, -34.7967, 6046,   5001.0,   2.3739,  34.8834,2,    245.6,2,    245.3,2,    49.64,2,    20.69,2,     1.49,2,   2351.3,2,   7.7207,2,    25.00,   1.9086,20110210,0019
  29AH20110128,   A05,    50,  1,      4,2,20110210,2359, 24.5002, -34.7967, 6046,   4500.5,   2.3926,  34.8920,2,    244.5,2,    244.6,2,  -999.00,9,  -999.00,9,  -999.00,9,   -999.0,9,   7.7234,2,    25.00,   1.9885,20110210,0028
  29AH20110128,   A05,    50,  1,      5,2,20110210,2359, 24.5002, -34.7967, 6046,   3999.8,   2.4245,  34.9009,2,    243.9,2,    244.4,2,    45.42,2,    20.55,2,     1.41,2,   2352.7,2,   7.7261,2,    25.00,   2.0783,20110210,0038
  29AH20110128,   A05,    50,  1,      6,2,20110210,2359, 24.5002, -34.7967, 6046,   3500.9,   2.5401,  34.9168,2,    242.3,2,    243.5,2,    42.48,2,    20.23,2,     1.44,2,   2349.4,2,   7.7273,2,    25.00,   2.2465,20110210,0048
  29AH20110128,   A05,    50,  1,      7,2,20110210,2359, 24.5002, -34.7967, 6046,   2999.6,   2.7931,  34.9432,2,    240.8,2,    242.9,2,    36.95,2,    19.89,2,     1.40,2,   2344.4,2,   7.7289,2,    25.00,   2.5468,20110210,0057
  29AH20110128,   A05,    50,  1,      8,2,20110210,2359, 24.5002, -34.7967, 6046,   2501.0,   3.2115,  34.9831,2,    241.0,2,    242.5,2,    30.58,2,    19.19,2,     1.30,2,   2336.6,2,   7.7277,2,    25.00,   3.0074,20110210,0107
  29AH20110128,   A05,    50,  1,      9,2,20110210,2359, 24.5002, -34.7967, 6046,   2000.4,   4.0117,  35.0571,2,    233.5,2,    236.4,2,    23.58,2,    18.77,2,     1.30,2,   2333.0,2,   7.7298,2,    25.00,   3.8437,20110210,0117
  29AH20110128,   A05,    50,  1,     10,2,20110210,2359, 24.5002, -34.7967, 6046,   1751.1,   4.5686,  35.1018,2,    225.5,2,    226.1,2,    21.48,2,    19.24,2,     1.33,2,   2330.5,2,   7.7173,2,    25.00,   4.4173,20110210,0122
  29AH20110128,   A05,    50,  1,     11,2,20110210,2359, 24.5002, -34.7967, 6046,   1500.2,   5.2459,  35.1381,2,    212.3,2,    214.0,2,    19.15,2,    19.69,2,     1.37,2,   2329.8,2,   7.7107,2,    25.00,   5.1113,20110210,0127
  29AH20110128,   A05,    50,  1,     12,2,20110210,2359, 24.5002, -34.7967, 6046,   1300.1,   5.7818,  35.1478,2,    198.1,2,    197.9,2,  -999.00,9,  -999.00,9,  -999.00,9,   -999.0,9,   7.7016,2,    25.00,   5.6618,20110210,0131
  29AH20110128,   A05,    50,  1,     13,2,20110210,2359, 24.5002, -34.7967, 6046,   1199.2,   5.9666,  35.1212,2,    189.2,2,    189.2,2,    19.27,2,    21.72,2,     1.56,2,   2327.5,2,   7.6970,2,    25.00,   5.8551,20110210,0133
  29AH20110128,   A05,    50,  1,     14,2,20110210,2359, 24.5002, -34.7967, 6046,   1001.3,   6.7940,  35.1033,2,    163.4,2,    163.8,2,    19.99,2,    23.77,2,     1.68,2,   2325.2,2,   7.6620,2,    25.00,   6.6962,20110210,0137
  29AH20110128,   A05,    50,  1,     15,2,20110210,2359, 24.5002, -34.7967, 6046,    800.5,   8.8178,  35.2829,2,    147.5,2,    147.3,2,    16.30,2,    22.57,2,     1.52,2,   2331.5,2,   7.6839,2,    25.00,   8.7285,20110210,0141
  29AH20110128,   A05,    50,  1,     16,2,20110210,2359, 24.5002, -34.7967, 6046,    600.6,  11.7254,  35.5970,2,    163.8,2,    165.0,2,  -999.00,9,  -999.00,9,  -999.00,9,   -999.0,9,   7.7776,2,    25.00,  11.6464,20110210,0145
  29AH20110128,   A05,    50,  1,     17,2,20110210,2359, 24.5002, -34.7967, 6046,    399.2,  15.0227,  36.0570,2,    187.3,2,    187.4,2,     4.55,2,     9.17,2,  -999.00,9,   2367.3,2,   7.8720,2,    25.00,  14.9613,20110210,0149
  29AH20110128,   A05,    50,  1,     18,2,20110210,2359, 24.5002, -34.7967, 6046,    299.1,  17.0087,  36.3976,2,    193.7,2,    193.6,2,     3.15,2,     6.00,2,     0.28,2,   2384.3,2,   7.9304,2,    25.00,  16.9587,20110210,0151
  29AH20110128,   A05,    50,  1,     19,2,20110210,2359, 24.5002, -34.7967, 6046,    150.6,  20.3192,  36.9755,2,    204.2,2,    206.5,2,     1.89,2,     0.57,2,     0.09,2,   2420.6,2,   7.9991,2,    25.00,  20.2907,20110210,0154
  29AH20110128,   A05,    50,  1,     20,2,20110210,2359, 24.5002, -34.7967, 6046,    125.9,  22.1143,  37.3971,2,    214.1,2,    214.2,2,     1.76,2,     0.25,2,     0.08,2,   -999.0,9,   8.0344,2,    25.00,  22.0890,20110210,0155
  29AH20110128,   A05,    50,  1,     21,2,20110210,2359, 24.5002, -34.7967, 6046,     73.5,  22.2062,  37.4227,2,    214.6,2,   -999.0,9,  -999.00,9,  -999.00,9,  -999.00,9,   -999.0,9,   8.0366,2,    25.00,  22.1914,20110210,0156
  29AH20110128,   A05,    50,  1,     22,2,20110210,2359, 24.5002, -34.7967, 6046,     49.3,  22.2019,  37.4230,2,    215.0,2,   -999.0,9,  -999.00,9,  -999.00,9,  -999.00,9,   -999.0,9,   8.0375,2,    25.00,  22.1920,20110210,0157
  29AH20110128,   A05,    50,  1,     23,2,20110210,2359, 24.5002, -34.7967, 6046,     27.0,  22.1992,  37.4228,2,    214.9,2,    214.2,2,     1.79,2,     0.22,2,     0.09,2,   -999.0,9,   8.0385,2,    25.00,  22.1938,20110210,0158
  29AH20110128,   A05,    50,  1,     24,2,20110210,2359, 24.5002, -34.7967, 6046,      4.1,  22.1940,  37.4232,2,    214.9,2,    213.8,2,     1.72,2,     0.23,2,     0.09,2,   2453.2,2,   8.0425,2,    25.00,  22.1932,20110210,0159
  29AH20110128,   A05,    51,  1,      1,2,20110211,0641, 24.4993, -35.2593, 5713,   5303.6,   2.3933,  34.8804,2,    246.3,2,    246.7,2,    48.51,2,    20.82,2,     1.49,2,   -999.0,9,   7.7208,2,    25.00,   1.8885,20110211,0641
  29AH20110128,   A05,    51,  1,      2,2,20110211,0641, 24.4993, -35.2593, 5713,   4998.6,   2.3768,  34.8834,2,    246.4,2,    245.9,2,    48.99,2,    20.65,2,     1.49,2,   -999.0,9,   7.7205,2,    25.00,   1.9117,20110211,0647
  29AH20110128,   A05,    51,  1,      3,2,20110211,0641, 24.4993, -35.2593, 5713,   4500.7,   2.3971,  34.8922,2,    245.3,2,    244.5,2,    48.14,2,    20.66,2,     1.47,2,   -999.0,9,   7.7210,2,    25.00,   1.9928,20110211,0657
  29AH20110128,   A05,    51,  1,      4,2,20110211,0641, 24.4993, -35.2593, 5713,   3999.8,   2.4411,  34.9025,2,    244.9,2,    243.8,2,    43.87,2,    20.54,2,     1.46,2,   -999.0,9,   7.7228,2,    25.00,   2.0944,20110211,0707
  29AH20110128,   A05,    51,  1,      5,2,20110211,0641, 24.4993, -35.2593, 5713,   3500.1,   2.5554,  34.9180,2,    243.2,2,    243.7,2,    41.83,2,    20.26,2,     1.46,2,   -999.0,9,   7.7250,2,    25.00,   2.2615,20110211,0716
  29AH20110128,   A05,    51,  1,      6,2,20110211,0641, 24.4993, -35.2593, 5713,   3000.7,   2.7708,  34.9412,2,    241.7,2,    241.8,2,    37.79,2,    19.98,2,     1.41,2,   -999.0,9,   7.7255,2,    25.00,   2.5249,20110211,0726
  29AH20110128,   A05,    51,  1,      7,2,20110211,0641, 24.4993, -35.2593, 5713,   2500.2,   3.1983,  34.9799,2,    241.4,2,    242.7,2,    30.79,2,    19.33,2,     1.33,2,   -999.0,9,   7.7221,2,    25.00,   2.9945,20110211,0736
  29AH20110128,   A05,    51,  1,      8,2,20110211,0641, 24.4993, -35.2593, 5713,   1998.3,   3.9718,  35.0503,2,    235.8,2,    237.4,2,    23.74,2,    19.10,2,     1.31,2,   -999.0,9,   7.7259,2,    25.00,   3.8046,20110211,0745
  29AH20110128,   A05,    51,  1,      9,2,20110211,0641, 24.4993, -35.2593, 5713,   1750.1,   4.5735,  35.1074,2,    226.8,2,    227.9,2,    21.32,2,    19.24,2,     1.29,2,   -999.0,9,   7.7220,2,    25.00,   4.4222,20110211,0750
  29AH20110128,   A05,    51,  1,     10,2,20110211,0641, 24.4993, -35.2593, 5713,   1500.3,   5.0690,  35.1037,2,    214.9,2,    215.3,2,    19.54,2,    20.07,2,     1.38,2,   -999.0,9,   7.7091,2,    25.00,   4.9364,20110211,0755
  29AH20110128,   A05,    51,  1,     11,2,20110211,0641, 24.4993, -35.2593, 5713,   1302.2,   5.6370,  35.0994,2,    198.9,2,    200.3,2,    19.08,2,    21.37,2,     1.46,2,   -999.0,9,   7.6919,2,    25.00,   5.5183,20110211,0759
  29AH20110128,   A05,    51,  1,     12,2,20110211,0641, 24.4993, -35.2593, 5713,   1200.3,   5.9599,  35.0908,2,    187.3,2,    187.0,2,    19.19,2,    22.27,2,     1.54,2,   -999.0,9,   7.6790,2,    25.00,   5.8484,20110211,0802
  29AH20110128,   A05,    51,  1,     13,2,20110211,0641, 24.4993, -35.2593, 5713,   1000.4,   7.0810,  35.1324,2,    160.0,2,    159.8,2,    18.95,2,    23.88,2,     1.69,2,   -999.0,9,   7.6610,2,    25.00,   6.9811,20110211,0806
  29AH20110128,   A05,    51,  1,     14,2,20110211,0641, 24.4993, -35.2593, 5713,    901.5,   8.1798,  35.2298,2,    150.3,2,    149.8,2,    17.59,2,    23.39,2,     1.59,2,   -999.0,9,   7.6695,2,    25.00,   8.0830,20110211,0808
  29AH20110128,   A05,    51,  1,     15,2,20110211,0641, 24.4993, -35.2593, 5713,    801.4,   9.1562,  35.3228,2,    148.3,2,    148.4,2,    15.06,2,    22.02,2,     1.48,2,   -999.0,9,   7.6866,2,    25.00,   9.0648,20110211,0810
  29AH20110128,   A05,    51,  1,     16,2,20110211,0641, 24.4993, -35.2593, 5713,    599.6,  11.9361,  35.6210,2,    166.0,2,    166.4,2,     8.36,2,    16.04,2,     0.93,2,   -999.0,9,   7.7644,2,    25.00,  11.8563,20110211,0814
  29AH20110128,   A05,    51,  1,     17,2,20110211,0641, 24.4993, -35.2593, 5713,    400.2,  15.0802,  36.0684,2,    187.9,2,    187.8,2,     4.24,2,     9.28,2,     0.46,2,   -999.0,9,   7.8631,2,    25.00,  15.0185,20110211,0818
  29AH20110128,   A05,    51,  1,     18,2,20110211,0641, 24.4993, -35.2593, 5713,    299.6,  16.7570,  36.3558,2,    194.8,2,    194.4,2,     2.92,2,     6.08,2,     0.28,2,   -999.0,9,   7.9110,2,    25.00,  16.7074,20110211,0821
  29AH20110128,   A05,    51,  1,     19,2,20110211,0641, 24.4993, -35.2593, 5713,    165.4,  19.5332,  36.8105,2,    198.9,2,    199.2,2,     1.64,2,     1.27,2,     0.10,2,   -999.0,9,   7.9625,2,    25.00,  19.5028,20110211,0824
  29AH20110128,   A05,    51,  1,     20,2,20110211,0641, 24.4993, -35.2593, 5713,    125.3,  22.1283,  37.3888,2,    211.9,2,    212.2,2,     1.37,2,     0.21,2,     0.09,2,   -999.0,9,   8.0295,2,    25.00,  22.1031,20110211,0825
  29AH20110128,   A05,    51,  1,     21,2,20110211,0641, 24.4993, -35.2593, 5713,     75.5,  22.2557,  37.4250,2,    213.3,2,    212.9,2,     1.35,2,     0.17,2,     0.08,2,   -999.0,9,   8.0385,2,    25.00,  22.2405,20110211,0826
  29AH20110128,   A05,    51,  1,     22,2,20110211,0641, 24.4993, -35.2593, 5713,     56.5,  22.2492,  37.4248,2,    213.6,2,    214.6,2,     1.34,2,     0.16,2,     0.08,2,   -999.0,9,   8.0344,2,    25.00,  22.2378,20110211,0827
  29AH20110128,   A05,    51,  1,     23,2,20110211,0641, 24.4993, -35.2593, 5713,     25.1,  22.2433,  37.4252,2,    213.7,2,    214.5,2,     1.37,2,     0.16,2,     0.08,2,   -999.0,9,   8.0375,2,    25.00,  22.2383,20110211,0828
  29AH20110128,   A05,    51,  1,     24,2,20110211,0641, 24.4993, -35.2593, 5713,      4.6,  22.2387,  37.4252,2,    213.7,2,    213.8,2,     1.37,2,     0.17,2,     0.08,2,   -999.0,9,   8.0359,2,    25.00,  22.2378,20110211,0829
  29AH20110128,   A05,    52,  1,      1,2,20110211,1322, 24.4997, -35.7195, 5821,   5569.5,   2.4238,  34.8799,2,    246.7,2,    246.4,2,    49.59,2,    20.98,2,     1.48,2,   2348.8,2,   7.7158,2,    25.00,   1.8828,20110211,1322
  29AH20110128,   A05,    52,  1,      2,2,20110211,1322, 24.4997, -35.7195, 5821,   4999.7,   2.3782,  34.8836,2,    246.4,2,    244.9,2,    47.77,2,    21.16,2,     1.44,2,   2350.0,2,   7.7182,2,    25.00,   1.9129,20110211,1333
  29AH20110128,   A05,    52,  1,      3,2,20110211,1322, 24.4997, -35.7195, 5821,   4499.1,   2.3954,  34.8921,2,    245.0,2,    244.3,2,    45.54,2,    21.03,2,     1.42,2,   2351.0,2,   7.7222,2,    25.00,   1.9914,20110211,1343
  29AH20110128,   A05,    52,  1,      4,2,20110211,1322, 24.4997, -35.7195, 5821,   3999.1,   2.4287,  34.9011,2,    244.8,2,    244.4,2,    42.50,2,    20.62,2,     1.40,2,   2348.5,2,   7.7238,2,    25.00,   2.0825,20110211,1352
  29AH20110128,   A05,    52,  1,      5,2,20110211,1322, 24.4997, -35.7195, 5821,   3499.8,   2.5465,  34.9173,2,    242.8,2,    243.6,2,    41.68,2,    20.35,2,     1.43,2,   2348.5,2,   7.7238,2,    25.00,   2.2529,20110211,1402
  29AH20110128,   A05,    52,  1,      6,2,20110211,1322, 24.4997, -35.7195, 5821,   3000.1,   2.7623,  34.9403,2,    241.3,2,    242.0,2,    37.38,2,    19.89,2,     1.41,2,   2344.0,2,   7.7236,2,    25.00,   2.5166,20110211,1412
  29AH20110128,   A05,    52,  1,      7,2,20110211,1322, 24.4997, -35.7195, 5821,   2500.0,   3.1965,  34.9800,2,    241.4,2,    243.8,2,    30.61,2,    19.35,2,     1.33,2,   2336.7,2,   7.7260,2,    25.00,   2.9928,20110211,1421
  29AH20110128,   A05,    52,  1,      8,2,20110211,1322, 24.4997, -35.7195, 5821,   2000.8,   4.0222,  35.0561,2,    234.9,2,    232.9,3,    23.51,2,    18.97,2,     1.31,2,   2330.9,2,   7.7264,2,    25.00,   3.8540,20110211,1431
  29AH20110128,   A05,    52,  1,      9,2,20110211,1322, 24.4997, -35.7195, 5821,   1750.1,   4.4782,  35.0829,2,    227.4,2,    229.7,2,    20.67,2,    19.25,2,     1.34,2,   2327.6,2,   7.7221,2,    25.00,   4.3282,20110211,1436
  29AH20110128,   A05,    52,  1,     10,2,20110211,1322, 24.4997, -35.7195, 5821,   1500.3,   5.1261,  35.1106,2,    214.1,2,    214.5,2,    19.02,2,    20.00,2,     1.37,2,   2326.4,2,   7.7092,2,    25.00,   4.9929,20110211,1441
  29AH20110128,   A05,    52,  1,     11,2,20110211,1322, 24.4997, -35.7195, 5821,   1299.7,   5.6014,  35.0895,2,    199.3,2,    199.8,2,    18.16,2,    21.07,2,     1.47,2,   2324.1,2,   7.6874,2,    25.00,   5.4833,20110211,1445
  29AH20110128,   A05,    52,  1,     12,2,20110211,1322, 24.4997, -35.7195, 5821,   1200.9,   5.9326,  35.0748,2,    186.0,2,    185.8,2,    19.43,2,    22.33,2,     1.61,2,   2322.5,2,   7.6718,2,    25.00,   5.8213,20110211,1448
  29AH20110128,   A05,    52,  1,     13,2,20110211,1322, 24.4997, -35.7195, 5821,   1000.9,   7.1674,  35.1101,2,    154.3,2,    152.5,2,    19.29,2,    24.58,2,     1.77,2,   2322.5,2,   7.6435,2,    25.00,   7.0668,20110211,1452
  29AH20110128,   A05,    52,  1,     14,2,20110211,1322, 24.4997, -35.7195, 5821,    899.0,   7.9825,  35.1777,2,    143.9,2,    143.5,2,    18.08,2,    24.36,2,     1.74,2,   2326.0,2,   7.6491,2,    25.00,   7.8873,20110211,1454
  29AH20110128,   A05,    52,  1,     15,2,20110211,1322, 24.4997, -35.7195, 5821,    800.4,   9.1268,  35.2925,2,    140.7,2,    143.1,2,    15.39,2,    23.00,2,     1.57,2,   2327.3,2,   7.6665,2,    25.00,   9.0358,20110211,1456
  29AH20110128,   A05,    52,  1,     16,2,20110211,1322, 24.4997, -35.7195, 5821,    599.9,  11.5092,  35.5685,2,    153.8,2,    153.7,2,     9.28,2,    18.07,2,     1.07,2,   2335.5,2,   7.7351,2,    25.00,  11.4312,20110211,1500
  29AH20110128,   A05,    52,  1,     17,2,20110211,1322, 24.4997, -35.7195, 5821,    400.5,  14.6811,  35.9941,2,    186.0,2,    187.1,2,     4.22,2,     9.58,2,     0.48,2,   2361.5,2,   7.8580,2,    25.00,  14.6204,20110211,1504
  29AH20110128,   A05,    52,  1,     18,2,20110211,1322, 24.4997, -35.7195, 5821,    299.9,  16.7690,  36.3471,2,    191.1,2,    188.1,2,  -999.00,9,  -999.00,9,  -999.00,9,   -999.0,9,   7.9025,2,    25.00,  16.7194,20110211,1506
  29AH20110128,   A05,    52,  1,     19,2,20110211,1322, 24.4997, -35.7195, 5821,    150.3,  19.7220,  36.8423,2,    198.5,2,    196.8,2,     1.25,2,     1.07,2,     0.07,2,   2413.6,2,   7.9686,2,    25.00,  19.6942,20110211,1509
  29AH20110128,   A05,    52,  1,     20,2,20110211,1322, 24.4997, -35.7195, 5821,    124.9,  21.5932,  37.2330,2,    207.9,2,    207.5,2,     1.07,2,     0.31,2,     0.08,2,   -999.0,9,   8.0135,2,    25.00,  21.5686,20110211,1510
  29AH20110128,   A05,    52,  1,     21,2,20110211,1322, 24.4997, -35.7195, 5821,     75.4,  22.5139,  37.4730,2,    213.1,2,    212.2,2,     1.01,2,     0.10,2,     0.08,2,   2450.3,2,   8.0407,2,    25.00,  22.4986,20110211,1511
  29AH20110128,   A05,    52,  1,     22,2,20110211,1322, 24.4997, -35.7195, 5821,     48.9,  22.7355,  37.5106,2,    212.1,2,    211.4,2,     1.02,2,     0.09,2,     0.08,2,   -999.0,9,   8.0446,2,    25.00,  22.7255,20110211,1512
  29AH20110128,   A05,    52,  1,     23,2,20110211,1322, 24.4997, -35.7195, 5821,     25.2,  22.9071,  37.5324,2,    211.3,2,    210.1,2,     1.00,2,     0.10,2,     0.08,2,   -999.0,9,   8.0469,2,    25.00,  22.9019,20110211,1513
  29AH20110128,   A05,    52,  1,     24,2,20110211,1322, 24.4997, -35.7195, 5821,      4.7,  22.9196,  37.5328,2,    211.5,2,    210.3,2,     1.01,2,     0.10,2,     0.06,2,   2451.9,2,   8.0493,2,    25.00,  22.9186,20110211,1513