BOTTLE,20220930CCHSIOAMB
EXPOCODE,SECT_ID,STNNBR,CASTNO,BTLNBR,BTLNBR_FLAG_W,DATE,TIME,LATITUDE,LONGITUDE,DEPTH,CTDPRS,CTDTMP,CTDSAL,CTDSAL_FLAG_W,CTDOXY,CTDOXY_FLAG_W,OXYGEN,OXYGEN_FLAG_W,SILCAT,SILCAT_FLAG_W,NITRAT,NITRAT_FLAG_W,PHSPHT,PHSPHT_FLAG_W,ALKALI,ALKALI_FLAG_W,PH_SWS,PH_SWS_FLAG_W,PH_TMP,THETA,BTL_DATE,BTL_TIME
,,,,,,,,,,METERS,DBAR,ITS-90,PSS-78,,UMOL/KG,,UMOL/KG,,UMOL/KG,,UMOL/KG,,UMOL/KG,,UMOL/KG,,,,DEG C,DEG C,,
  29AH20110128,   A05,    17,  1,      1,2,20110130,1439, 26.5480, -17.1492, 3690,   3663.4,   2.4647,  34.9046,2,    235.0,2,    232.8,2,    47.07,2,    21.09,2,     1.56,2,   2362.3,2,   7.7195,2,    25.00,   2.1553,20110130,1439
  29AH20110128,   A05,    17,  1,      2,2,20110130,1439, 26.5480, -17.1492, 3690,   3499.4,   2.5099,  34.9103,2,    232.7,2,    231.7,2,    45.70,2,    21.07,2,     1.54,2,   2360.6,2,   7.7159,2,    25.00,   2.2172,20110130,1444
  29AH20110128,   A05,    17,  1,      3,2,20110130,1439, 26.5480, -17.1492, 3690,   3002.0,   2.7849,  34.9387,2,    231.5,2,    229.4,2,    40.77,2,    20.62,2,     1.47,2,   2353.9,2,   7.7163,2,    25.00,   2.5385,20110130,1500
  29AH20110128,   A05,    17,  1,      4,2,20110130,1439, 26.5480, -17.1492, 3690,   2499.9,   3.2416,  34.9828,2,    227.6,2,    227.0,2,    35.14,2,    20.34,2,     1.46,2,   2345.2,2,   7.7144,2,    25.00,   3.0370,20110130,1511
  29AH20110128,   A05,    17,  1,      5,2,20110130,1439, 26.5480, -17.1492, 3690,   1999.3,   4.0337,  35.0623,2,    219.9,2,    218.7,2,    28.59,2,    20.16,2,     1.41,2,   2338.2,2,   7.7120,2,    25.00,   3.8654,20110130,1520
  29AH20110128,   A05,    17,  1,      6,2,20110130,1439, 26.5480, -17.1492, 3690,   1750.2,   4.6624,  35.1304,2,    213.2,2,    211.9,2,    24.90,2,    20.12,2,     1.37,2,   2337.4,2,   7.7133,2,    25.00,   4.5099,20110130,1525
  29AH20110128,   A05,    17,  1,      7,2,20110130,1439, 26.5480, -17.1492, 3690,   1500.0,   5.5392,  35.2074,2,    198.8,2,    197.7,2,    22.25,2,    20.63,2,     1.43,2,   2338.6,2,   7.7049,2,    25.00,   5.4012,20110130,1530
  29AH20110128,   A05,    17,  1,      8,2,20110130,1439, 26.5480, -17.1492, 3690,   1300.6,   6.4663,  35.2682,2,    180.4,2,    179.3,2,    20.26,2,    21.53,2,     1.49,2,   2339.0,2,   7.6920,2,    25.00,   6.3394,20110130,1534
  29AH20110128,   A05,    17,  1,      9,2,20110130,1439, 26.5480, -17.1492, 3690,   1199.2,   6.8111,  35.2671,2,    171.1,2,    169.8,2,    19.97,2,    22.29,2,     1.48,2,   2336.6,2,   7.6823,2,    25.00,   6.6919,20110130,1536
  29AH20110128,   A05,    17,  1,     10,2,20110130,1439, 26.5480, -17.1492, 3690,   1100.0,   7.0070,  35.2210,2,    158.1,2,    156.5,2,    20.07,2,    23.69,2,     1.66,2,   -999.0,9,   7.6608,2,    25.00,   6.8969,20110130,1538
  29AH20110128,   A05,    17,  1,     11,2,20110130,1439, 26.5480, -17.1492, 3690,   1000.0,   7.3236,  35.1942,2,    146.0,2,    146.4,2,    19.96,2,    24.65,2,     1.74,2,   2329.0,2,   7.6470,2,    25.00,   7.2219,20110130,1540
  29AH20110128,   A05,    17,  1,     12,2,20110130,1439, 26.5480, -17.1492, 3690,    900.1,   7.9747,  35.2198,2,    135.5,2,    136.0,2,    18.97,2,    24.98,2,     1.72,2,   -999.0,9,   7.6431,2,    25.00,   7.8794,20110130,1542
  29AH20110128,   A05,    17,  1,     13,2,20110130,1439, 26.5480, -17.1492, 3690,    799.6,   8.8301,  35.2784,2,    128.8,2,    129.6,2,    17.14,2,    24.54,2,     1.66,2,   2330.2,2,   7.6439,2,    25.00,   8.7409,20110130,1544
  29AH20110128,   A05,    17,  1,     14,2,20110130,1439, 26.5480, -17.1492, 3690,    599.9,  11.1596,  35.5419,2,    153.8,2,    154.7,2,    10.15,2,    18.29,2,  -999.00,9,   2336.7,2,   7.7272,2,    25.00,  11.0831,20110130,1548
  29AH20110128,   A05,    17,  1,     15,2,20110130,1439, 26.5480, -17.1492, 3690,    399.9,  13.8318,  35.9024,2,    183.0,2,    184.2,2,     5.31,2,    11.08,2,  -999.00,9,   2354.2,2,   7.8269,2,    25.00,  13.7736,20110130,1552
  29AH20110128,   A05,    17,  1,     16,2,20110130,1439, 26.5480, -17.1492, 3690,    300.6,  15.4246,  36.1696,2,    192.9,2,    192.8,2,     3.67,2,     7.39,2,  -999.00,9,   2371.8,2,   7.8802,2,    25.00,  15.3776,20110130,1554
  29AH20110128,   A05,    17,  1,     17,2,20110130,1439, 26.5480, -17.1492, 3690,    200.1,  17.7577,  36.5498,2,    190.2,2,    189.8,2,     2.48,2,     4.31,2,     0.27,2,   -999.0,9,   7.9157,2,    25.00,  17.7233,20110130,1556
  29AH20110128,   A05,    17,  1,     18,2,20110130,1439, 26.5480, -17.1492, 3690,    151.1,  18.5848,  36.4940,2,    169.7,2,    169.5,2,     3.83,2,     7.46,2,     0.47,2,   2386.9,2,   7.8757,2,    25.00,  18.5580,20110130,1558
  29AH20110128,   A05,    17,  1,     19,2,20110130,1439, 26.5480, -17.1492, 3690,    125.3,  19.7656,  36.6920,2,    187.2,2,    187.0,2,     2.33,2,     2.75,2,     0.21,2,   -999.0,9,   7.9596,2,    25.00,  19.7424,20110130,1558
  29AH20110128,   A05,    17,  1,     20,2,20110130,1439, 26.5480, -17.1492, 3690,    100.0,  21.4836,  37.0628,2,    214.3,2,    215.1,2,     1.51,2,     0.15,2,     0.09,2,   -999.0,9,   8.0148,2,    25.00,  21.4640,20110130,1559
  29AH20110128,   A05,    17,  1,     21,2,20110130,1439, 26.5480, -17.1492, 3690,     75.2,  21.5100,  37.0719,2,    214.8,2,    215.2,2,     1.53,2,     0.03,2,     0.10,2,   -999.0,9,   8.0190,2,    25.00,  21.4952,20110130,1559
  29AH20110128,   A05,    17,  1,     22,2,20110130,1439, 26.5480, -17.1492, 3690,     51.2,  21.5232,  37.0759,2,    215.9,2,    215.7,2,     1.54,2,     0.01,2,     0.10,2,   -999.0,9,   8.0182,2,    25.00,  21.5131,20110130,1600
  29AH20110128,   A05,    17,  1,     23,2,20110130,1439, 26.5480, -17.1492, 3690,     25.6,  21.5364,  37.0786,2,    216.6,2,    216.1,2,     1.59,2,     0.03,2,     0.09,2,   -999.0,9,   8.0186,2,    25.00,  21.5314,20110130,1601
  29AH20110128,   A05,    17,  1,     24,2,20110130,1439, 26.5480, -17.1492, 3690,      4.3,  21.5866,  37.0761,2,    217.0,2,    219.9,2,     1.60,2,     0.04,2,     0.12,2,   2427.2,2,   8.0180,2,    25.00,  21.5857,20110130,1601
  29AH20110128,   A05,    18,  1,      1,2,20110130,1956, 26.4255, -17.5305, 3726,   3664.2,   2.4936,  34.9071,2,    232.5,2,    230.7,2,    46.12,2,    21.19,2,     1.51,2,   -999.0,9,   7.7152,2,    25.00,   2.1833,20110130,1956
  29AH20110128,   A05,    18,  1,      2,2,20110130,1956, 26.4255, -17.5305, 3726,   3499.7,   2.4991,  34.9092,2,    232.6,2,    232.3,2,  -999.00,9,  -999.00,9,  -999.00,9,   -999.0,9,   7.7157,2,    25.00,   2.2067,20110130,1959
  29AH20110128,   A05,    18,  1,      3,2,20110130,1956, 26.4255, -17.5305, 3726,   2999.9,   2.7923,  34.9391,2,    231.1,2,    232.4,2,    40.46,2,    20.72,2,     1.46,2,   -999.0,9,   7.7172,2,    25.00,   2.5460,20110130,2009
  29AH20110128,   A05,    18,  1,      4,2,20110130,1956, 26.4255, -17.5305, 3726,   2498.2,   3.2718,  34.9851,2,    227.4,2,    225.2,2,    35.28,2,    20.38,2,     1.47,2,   -999.0,9,   7.7148,2,    25.00,   3.0669,20110130,2018
  29AH20110128,   A05,    18,  1,      5,2,20110130,1956, 26.4255, -17.5305, 3726,   2000.7,   4.1528,  35.0793,2,    220.2,2,    219.5,2,    28.54,2,    20.18,2,     1.37,2,   -999.0,9,   7.7137,2,    25.00,   3.9826,20110130,2028
  29AH20110128,   A05,    18,  1,      6,2,20110130,1956, 26.4255, -17.5305, 3726,   1751.2,   4.7535,  35.1345,2,    211.1,2,    211.5,2,    24.98,2,    20.38,2,     1.37,2,   -999.0,9,   7.7090,2,    25.00,   4.5997,20110130,2033
  29AH20110128,   A05,    18,  1,      7,2,20110130,1956, 26.4255, -17.5305, 3726,   1500.9,   5.5282,  35.1906,2,    195.3,2,    194.1,2,    22.58,2,    21.12,2,     1.42,2,   -999.0,9,   7.6914,2,    25.00,   5.3903,20110130,2038
  29AH20110128,   A05,    18,  1,      8,2,20110130,1956, 26.4255, -17.5305, 3726,   1301.6,   6.3064,  35.2134,2,    174.9,2,    173.5,2,    21.39,2,    22.42,2,     1.55,2,   -999.0,9,   7.6759,2,    25.00,   6.1811,20110130,2042
  29AH20110128,   A05,    18,  1,      9,2,20110130,1956, 26.4255, -17.5305, 3726,   1200.6,   6.6286,  35.2076,2,    164.9,2,    163.6,2,    21.06,2,    23.25,2,     1.65,2,   -999.0,9,   7.6660,2,    25.00,   6.5110,20110130,2044
  29AH20110128,   A05,    18,  1,     10,2,20110130,1956, 26.4255, -17.5305, 3726,   1103.3,   7.0093,  35.2025,2,    155.1,2,    153.9,2,    19.97,2,    23.98,2,     1.73,2,   -999.0,9,   7.6575,2,    25.00,   6.8988,20110130,2046
  29AH20110128,   A05,    18,  1,     11,2,20110130,1956, 26.4255, -17.5305, 3726,    998.7,   7.5202,  35.2192,2,    146.0,2,    145.5,2,    19.34,2,    24.40,2,     1.76,2,   -999.0,9,   7.6482,2,    25.00,   7.4171,20110130,2048
  29AH20110128,   A05,    18,  1,     12,2,20110130,1956, 26.4255, -17.5305, 3726,    902.5,   8.0936,  35.2285,2,    134.4,2,    133.4,2,    18.86,2,    24.84,2,     1.77,2,   -999.0,9,   7.6424,2,    25.00,   7.9972,20110130,2050
  29AH20110128,   A05,    18,  1,     13,2,20110130,1956, 26.4255, -17.5305, 3726,    799.9,   9.0588,  35.3205,2,    132.2,2,    131.6,2,    16.71,2,    23.75,2,     1.57,2,   -999.0,9,   7.6551,2,    25.00,   8.9682,20110130,2052
  29AH20110128,   A05,    18,  1,     14,2,20110130,1956, 26.4255, -17.5305, 3726,    601.7,  11.3793,  35.5674,2,    157.4,2,    157.9,2,     9.92,2,    17.70,2,  -999.00,9,   -999.0,9,   7.7376,2,    25.00,  11.3017,20110130,2056
  29AH20110128,   A05,    18,  1,     15,2,20110130,1956, 26.4255, -17.5305, 3726,    401.5,  13.9982,  35.9293,2,    182.4,2,    183.5,2,     5.48,2,    11.01,2,  -999.00,9,   -999.0,9,   7.8321,2,    25.00,  13.9393,20110130,2100
  29AH20110128,   A05,    18,  1,     16,2,20110130,1956, 26.4255, -17.5305, 3726,    301.8,  15.6870,  36.2062,2,    190.1,2,    189.4,2,     3.97,2,     7.80,2,  -999.00,9,   -999.0,9,   7.8787,2,    25.00,  15.6393,20110130,2102
  29AH20110128,   A05,    18,  1,     17,2,20110130,1956, 26.4255, -17.5305, 3726,    200.4,  17.4649,  36.5017,2,    189.7,2,    186.7,2,     3.06,2,     5.52,2,     0.29,2,   -999.0,9,   7.9127,2,    25.00,  17.4309,20110130,2104
  29AH20110128,   A05,    18,  1,     18,2,20110130,1956, 26.4255, -17.5305, 3726,    150.2,  18.7972,  36.6806,2,    207.4,2,    207.5,2,     2.10,2,     1.36,2,     0.15,2,   -999.0,9,   7.9628,2,    25.00,  18.7704,20110130,2105
  29AH20110128,   A05,    18,  1,     19,2,20110130,1956, 26.4255, -17.5305, 3726,    124.1,  19.5715,  36.7701,2,    207.0,2,    206.6,2,     2.06,2,     1.51,2,     0.16,2,   -999.0,9,   7.9703,2,    25.00,  19.5487,20110130,2106
  29AH20110128,   A05,    18,  1,     20,2,20110130,1956, 26.4255, -17.5305, 3726,    100.2,  20.8204,  36.9714,2,    208.9,2,    209.4,2,     1.95,2,     1.04,2,     0.13,2,   -999.0,9,   7.9969,2,    25.00,  20.8012,20110130,2107
  29AH20110128,   A05,    18,  1,     21,2,20110130,1956, 26.4255, -17.5305, 3726,     76.3,  21.3587,  37.0694,2,    214.5,2,    214.2,2,     1.83,2,     0.47,2,     0.16,2,   -999.0,9,   8.0134,2,    25.00,  21.3438,20110130,2107
  29AH20110128,   A05,    18,  1,     22,2,20110130,1956, 26.4255, -17.5305, 3726,     50.6,  21.3826,  37.0611,2,    217.6,2,    217.1,2,     1.75,2,     0.30,2,     0.16,2,   -999.0,9,   8.0159,2,    25.00,  21.3727,20110130,2108
  29AH20110128,   A05,    18,  1,     23,2,20110130,1956, 26.4255, -17.5305, 3726,     24.3,  21.3758,  37.0590,2,    218.2,2,    217.8,2,     1.76,2,     0.30,2,     0.16,2,   -999.0,9,   8.0179,2,    25.00,  21.3711,20110130,2108
  29AH20110128,   A05,    18,  1,     24,2,20110130,1956, 26.4255, -17.5305, 3726,      5.2,  21.3656,  37.0557,2,    218.5,2,    217.2,2,     1.78,2,     0.30,2,     0.18,2,   -999.0,9,   8.0184,2,    25.00,  21.3646,20110130,2109
  29AH20110128,   A05,    19,  1,      1,2,20110131,0100, 26.3033, -17.8980, 3726,   3501.9,   2.5520,  34.9136,2,    232.1,2,    231.6,2,    48.67,2,    21.21,2,     1.54,2,   -999.0,9,   7.7197,2,    25.00,   2.2580,20110131,0100
  29AH20110128,   A05,    19,  1,      2,2,20110131,0100, 26.3033, -17.8980, 3726,   3501.8,   2.5518,  34.9137,2,    232.1,2,    229.7,2,    46.85,2,    21.06,2,     1.52,2,   -999.0,9,   7.7197,2,    25.00,   2.2578,20110131,0101
  29AH20110128,   A05,    19,  1,      3,2,20110131,0100, 26.3033, -17.8980, 3726,   3000.8,   2.8063,  34.9401,2,    231.7,2,    229.5,2,    41.81,2,    20.59,2,     1.48,2,   -999.0,9,   7.7172,2,    25.00,   2.5596,20110131,0111
  29AH20110128,   A05,    19,  1,      4,2,20110131,0100, 26.3033, -17.8980, 3726,   2503.2,   3.3144,  34.9903,2,    228.3,2,    226.4,2,    35.23,2,    20.17,2,     1.49,2,   -999.0,9,   7.7148,2,    25.00,   3.1082,20110131,0121
  29AH20110128,   A05,    19,  1,      5,2,20110131,0100, 26.3033, -17.8980, 3726,   2002.3,   4.1678,  35.0751,2,    219.4,2,    217.9,2,    28.64,2,    20.09,2,     1.40,2,   -999.0,9,   7.7119,2,    25.00,   3.9972,20110131,0131
  29AH20110128,   A05,    19,  1,      6,2,20110131,0100, 26.3033, -17.8980, 3726,   1753.4,   4.8210,  35.1415,2,    210.7,2,    208.7,2,    25.11,2,    20.23,2,     1.40,2,   -999.0,9,   7.7106,2,    25.00,   4.6661,20110131,0137
  29AH20110128,   A05,    19,  1,      7,2,20110131,0100, 26.3033, -17.8980, 3726,   1501.2,   5.7723,  35.2296,2,    195.9,2,    194.7,2,    22.18,2,    20.68,2,     1.41,2,   -999.0,9,   7.7029,2,    25.00,   5.6316,20110131,0142
  29AH20110128,   A05,    19,  1,      8,2,20110131,0100, 26.3033, -17.8980, 3726,   1302.4,   6.9561,  35.3380,2,    179.7,2,    178.5,2,    19.49,2,    20.94,2,     1.41,2,   -999.0,9,   7.7026,2,    25.00,   6.8242,20110131,0147
  29AH20110128,   A05,    19,  1,      9,2,20110131,0100, 26.3033, -17.8980, 3726,   1202.2,   7.2769,  35.3394,2,    171.1,2,    170.0,2,    19.12,2,    21.58,2,     1.46,2,   -999.0,9,   7.6925,2,    25.00,   7.1532,20110131,0150
  29AH20110128,   A05,    19,  1,     10,2,20110131,0100, 26.3033, -17.8980, 3726,   1102.6,   7.4786,  35.2854,2,    157.7,2,    156.7,2,    19.28,2,    23.18,2,     1.58,2,   -999.0,9,   7.6725,2,    25.00,   7.3643,20110131,0152
  29AH20110128,   A05,    19,  1,     11,2,20110131,0100, 26.3033, -17.8980, 3726,   1002.4,   7.6555,  35.2380,2,    146.1,2,    144.8,2,    19.71,2,    24.52,2,     1.70,2,   -999.0,9,   7.6539,2,    25.00,   7.5510,20110131,0155
  29AH20110128,   A05,    19,  1,     12,2,20110131,0100, 26.3033, -17.8980, 3726,    900.4,   8.2169,  35.2471,2,    136.5,2,    135.6,2,    18.61,2,    24.98,2,     1.78,2,   -999.0,9,   7.6465,2,    25.00,   8.1199,20110131,0158
  29AH20110128,   A05,    19,  1,     13,2,20110131,0100, 26.3033, -17.8980, 3726,    810.3,   8.9755,  35.3145,2,    133.7,2,    133.0,2,    16.58,2,    23.91,2,     1.68,2,   -999.0,9,   7.6595,2,    25.00,   8.8841,20110131,0201
  29AH20110128,   A05,    19,  1,     14,2,20110131,0100, 26.3033, -17.8980, 3726,    398.5,  14.2271,  35.9627,2,    177.4,2,    177.1,2,     9.56,3,  -999.00,9,  -999.00,9,   -999.0,9,   7.8173,2,    25.00,  14.1680,20110131,0212
  29AH20110128,   A05,    19,  1,     15,2,20110131,0100, 26.3033, -17.8980, 3726,    302.5,  15.8461,  36.2337,2,    186.4,2,    185.5,2,     3.59,2,     6.66,2,  -999.00,9,   -999.0,9,   7.8598,2,    25.00,  15.7979,20110131,0214
  29AH20110128,   A05,    19,  1,     16,2,20110131,0100, 26.3033, -17.8980, 3726,    200.0,  16.8668,  36.3250,2,    161.4,2,    160.8,2,     4.13,2,     8.17,2,     0.44,2,   -999.0,9,   7.8820,2,    25.00,  16.8337,20110131,0217
  29AH20110128,   A05,    19,  1,     17,2,20110131,0100, 26.3033, -17.8980, 3726,    150.5,  17.6577,  36.2566,2,    131.4,2,    133.4,2,     5.27,2,  -999.00,9,  -999.00,9,   -999.0,9,   7.9178,2,    25.00,  17.6320,20110131,0219
  29AH20110128,   A05,    19,  1,     18,2,20110131,0100, 26.3033, -17.8980, 3726,    126.5,  18.7520,  36.5279,2,    170.9,2,    170.5,2,     2.88,2,     3.60,2,     0.24,2,   -999.0,9,   7.9581,2,    25.00,  18.7295,20110131,0220
  29AH20110128,   A05,    19,  1,     19,2,20110131,0100, 26.3033, -17.8980, 3726,     99.3,  21.5248,  37.0499,2,    215.4,2,    211.1,2,     1.47,2,     0.58,2,     0.08,2,   -999.0,9,   8.0037,2,    25.00,  21.5053,20110131,0221
  29AH20110128,   A05,    19,  1,     20,2,20110131,0100, 26.3033, -17.8980, 3726,     77.1,  21.5277,  37.0511,2,    215.5,2,    214.9,2,     1.33,2,     0.01,2,     0.09,2,   -999.0,9,   8.0156,2,    25.00,  21.5125,20110131,0222
  29AH20110128,   A05,    19,  1,     21,2,20110131,0100, 26.3033, -17.8980, 3726,     49.8,  21.5690,  37.0429,2,    215.8,2,    216.0,2,     1.36,2,     0.01,2,     0.09,2,   -999.0,9,   8.0152,2,    25.00,  21.5592,20110131,0224
  29AH20110128,   A05,    19,  1,     22,2,20110131,0100, 26.3033, -17.8980, 3726,     24.3,  21.5753,  37.0387,2,    215.7,2,    214.9,2,     1.33,2,     0.01,2,     0.06,2,   -999.0,9,   8.0120,2,    25.00,  21.5705,20110131,0225
  29AH20110128,   A05,    19,  1,     23,2,20110131,0100, 26.3033, -17.8980, 3726,      5.7,  21.5637,  37.0375,2,    217.5,2,    216.6,2,     1.32,2,     0.02,2,     0.06,2,   -999.0,9,   8.0210,2,    25.00,  21.5626,20110131,0227