BOTTLE,20220930CCHSIOAMB
EXPOCODE,SECT_ID,STNNBR,CASTNO,BTLNBR,BTLNBR_FLAG_W,DATE,TIME,LATITUDE,LONGITUDE,DEPTH,CTDPRS,CTDTMP,CTDSAL,CTDSAL_FLAG_W,CTDOXY,CTDOXY_FLAG_W,OXYGEN,OXYGEN_FLAG_W,SILCAT,SILCAT_FLAG_W,NITRAT,NITRAT_FLAG_W,PHSPHT,PHSPHT_FLAG_W,ALKALI,ALKALI_FLAG_W,PH_SWS,PH_SWS_FLAG_W,PH_TMP,THETA,BTL_DATE,BTL_TIME
,,,,,,,,,,METERS,DBAR,ITS-90,PSS-78,,UMOL/KG,,UMOL/KG,,UMOL/KG,,UMOL/KG,,UMOL/KG,,UMOL/KG,,,,DEG C,DEG C,,
  29AH20110128,   A05,    11,  1,      1,2,20110129,0752, 27.2537, -14.9615, 2781,   2770.9,   3.0096,  34.9576,2,    227.0,2,    225.3,2,    36.60,2,    20.73,2,     1.50,2,   2349.6,2,   7.7124,2,    25.00,   2.7822,20110129,0752
  29AH20110128,   A05,    11,  1,      2,2,20110129,0752, 27.2537, -14.9615, 2781,   2500.5,   3.2156,  34.9778,2,    226.0,2,    224.8,2,    34.53,2,    20.67,2,     1.48,2,   2343.7,2,   7.7133,2,    25.00,   3.0115,20110129,0758
  29AH20110128,   A05,    11,  1,      3,2,20110129,0752, 27.2537, -14.9615, 2781,   1999.2,   4.1279,  35.0677,2,    217.6,2,    216.4,2,    27.53,2,    20.47,2,     1.44,2,   2339.3,2,   7.7094,2,    25.00,   3.9582,20110129,0808
  29AH20110128,   A05,    11,  1,      4,2,20110129,0752, 27.2537, -14.9615, 2781,   1750.1,   4.6579,  35.1133,2,    208.8,2,    206.9,2,    24.69,2,    20.73,2,     1.44,2,   2338.5,2,   7.7061,2,    25.00,   4.5055,20110129,0812
  29AH20110128,   A05,    11,  1,      5,2,20110129,0752, 27.2537, -14.9615, 2781,   1501.3,   5.5938,  35.1992,2,    194.4,2,    193.4,2,    22.14,2,    21.15,2,     1.47,2,   2338.3,2,   7.6993,2,    25.00,   5.4551,20110129,0817
  29AH20110128,   A05,    11,  1,      6,2,20110129,0752, 27.2537, -14.9615, 2781,   1300.6,   6.5647,  35.2680,2,    177.3,2,    176.2,2,    20.14,2,    21.77,2,     1.48,2,   2340.9,2,   7.6890,2,    25.00,   6.4369,20110129,0821
  29AH20110128,   A05,    11,  1,      8,2,20110129,0752, 27.2537, -14.9615, 2781,   1201.0,   6.7928,  35.2517,2,    168.3,2,    169.8,2,  -999.00,9,  -999.00,9,  -999.00,9,   2334.0,2,   7.6795,2,    25.00,   6.6736,20110129,0824
  29AH20110128,   A05,    11,  1,      9,2,20110129,0752, 27.2537, -14.9615, 2781,   1100.9,   7.2754,  35.2810,2,    161.4,2,    161.6,2,    19.09,2,    22.79,2,     1.57,2,   -999.0,9,   7.6754,2,    25.00,   7.1629,20110129,0826
  29AH20110128,   A05,    11,  1,     10,2,20110129,0752, 27.2537, -14.9615, 2781,   1000.4,   7.7959,  35.3091,2,    153.8,2,    152.7,2,    18.18,2,    23.12,2,     1.57,2,   2334.4,2,   7.6741,2,    25.00,   7.6905,20110129,0828
  29AH20110128,   A05,    11,  1,     11,2,20110129,0752, 27.2537, -14.9615, 2781,    901.2,   8.1218,  35.2650,2,    140.2,2,    139.5,2,    17.98,2,    24.39,2,     1.63,2,   -999.0,9,   7.6506,2,    25.00,   8.0253,20110129,0830
  29AH20110128,   A05,    11,  1,     12,2,20110129,0752, 27.2537, -14.9615, 2781,    799.7,   8.7711,  35.2655,2,    125.2,2,    125.1,2,  -999.00,9,  -999.00,9,  -999.00,9,   2326.3,2,   7.6417,2,    25.00,   8.6822,20110129,0832
  29AH20110128,   A05,    11,  1,     13,2,20110129,0752, 27.2537, -14.9615, 2781,    600.8,  10.6744,  35.5008,2,    147.9,2,    148.1,2,    11.71,2,    19.61,2,  -999.00,9,   2337.9,2,   7.7074,2,    25.00,  10.5999,20110129,0836
  29AH20110128,   A05,    11,  1,     14,2,20110129,0752, 27.2537, -14.9615, 2781,    400.9,  13.2177,  35.8257,2,    184.6,2,    184.9,2,    11.68,3,  -999.00,9,  -999.00,9,   2353.1,2,   7.8132,2,    25.00,  13.1611,20110129,0840
  29AH20110128,   A05,    11,  1,     15,2,20110129,0752, 27.2537, -14.9615, 2781,    300.3,  14.5903,  36.0300,2,    198.7,2,    198.2,2,     4.75,2,     8.24,2,  -999.00,9,   2364.5,2,   7.8678,2,    25.00,  14.5451,20110129,0842
  29AH20110128,   A05,    11,  1,     16,2,20110129,0752, 27.2537, -14.9615, 2781,    200.2,  15.9577,  36.2514,2,    200.0,2,    199.1,2,     3.98,2,     6.13,2,     0.34,2,   -999.0,9,   7.8986,2,    25.00,  15.9258,20110129,0844
  29AH20110128,   A05,    11,  1,     17,2,20110129,0752, 27.2537, -14.9615, 2781,    149.1,  16.9823,  36.4015,2,    204.0,2,    203.7,2,     3.35,2,     4.06,2,     0.25,2,   2387.2,2,   7.9235,2,    25.00,  16.9575,20110129,0845
  29AH20110128,   A05,    11,  1,     18,2,20110129,0752, 27.2537, -14.9615, 2781,    126.1,  17.7995,  36.5130,2,    201.0,2,    200.8,2,     3.23,2,     3.53,2,     0.24,2,   -999.0,9,   7.9344,2,    25.00,  17.7778,20110129,0846
  29AH20110128,   A05,    11,  1,     19,2,20110129,0752, 27.2537, -14.9615, 2781,    100.2,  19.5940,  36.7605,2,    211.1,2,    212.5,2,     2.67,2,     1.16,2,     0.18,2,   -999.0,9,   7.9820,2,    25.00,  19.5756,20110129,0846
  29AH20110128,   A05,    11,  1,     20,2,20110129,0752, 27.2537, -14.9615, 2781,     75.5,  20.3252,  36.9023,2,    219.8,2,    216.6,2,     2.46,2,     0.06,2,     0.14,2,   2419.0,2,   8.0049,2,    25.00,  20.3110,20110129,0847
  29AH20110128,   A05,    11,  1,     21,2,20110129,0752, 27.2537, -14.9615, 2781,     49.6,  20.4431,  36.9131,2,    219.9,2,    219.2,2,     2.48,2,     0.07,2,     0.15,2,   -999.0,9,   8.0079,2,    25.00,  20.4337,20110129,0848
  29AH20110128,   A05,    11,  1,     22,2,20110129,0752, 27.2537, -14.9615, 2781,     13.0,  20.5876,  36.9423,2,    220.8,2,    221.2,2,     2.51,2,     0.03,2,     0.16,2,   -999.0,9,   8.0082,2,    25.00,  20.5851,20110129,0849
  29AH20110128,   A05,    11,  1,     23,2,20110129,0752, 27.2537, -14.9615, 2781,      4.2,  20.5867,  36.9429,2,    221.2,2,    220.5,2,     2.51,2,     0.06,2,     0.15,2,   2421.5,2,   8.0085,2,    25.00,  20.5859,20110129,0850
  29AH20110128,   A05,    12,  1,      1,2,20110129,1223, 27.1285, -15.3478, 3053,   3042.8,   2.7482,  34.9333,2,    228.7,2,    226.4,2,    40.18,2,    21.08,2,     1.47,2,   -999.0,9,   7.7153,2,    25.00,   2.4984,20110129,1223
  29AH20110128,   A05,    12,  1,      2,2,20110129,1223, 27.1285, -15.3478, 3053,   2500.9,   3.1788,  34.9750,2,    226.1,2,    223.9,2,    34.26,2,    20.62,2,     1.48,2,   -999.0,9,   7.7127,2,    25.00,   2.9753,20110129,1234
  29AH20110128,   A05,    12,  1,      3,2,20110129,1223, 27.1285, -15.3478, 3053,   2001.0,   3.9606,  35.0490,2,    218.3,2,    215.8,2,    28.10,2,    20.55,2,     1.46,2,   -999.0,9,   7.7105,2,    25.00,   3.7933,20110129,1243
  29AH20110128,   A05,    12,  1,      4,2,20110129,1223, 27.1285, -15.3478, 3053,   1749.7,   4.5702,  35.1028,2,    209.3,2,    207.5,2,    25.37,2,    20.90,2,     1.44,2,   -999.0,9,   7.7031,2,    25.00,   4.4190,20110129,1248
  29AH20110128,   A05,    12,  1,      5,2,20110129,1223, 27.1285, -15.3478, 3053,   1500.4,   5.4107,  35.1730,2,    195.5,2,    194.2,2,    22.79,2,    21.40,2,     1.45,2,   -999.0,9,   7.6996,2,    25.00,   5.2742,20110129,1253
  29AH20110128,   A05,    12,  1,      6,2,20110129,1223, 27.1285, -15.3478, 3053,   1299.6,   6.1735,  35.2064,2,    177.8,2,    175.7,2,    21.14,2,    22.22,2,     1.60,2,   -999.0,9,   7.6810,2,    25.00,   6.0497,20110129,1257
  29AH20110128,   A05,    12,  1,      7,2,20110129,1223, 27.1285, -15.3478, 3053,   1199.7,   6.7566,  35.2401,2,    167.4,2,    166.4,2,    20.10,2,    22.76,2,     1.61,2,   -999.0,9,   7.6759,2,    25.00,   6.6379,20110129,1259
  29AH20110128,   A05,    12,  1,      8,2,20110129,1223, 27.1285, -15.3478, 3053,   1100.3,   7.3782,  35.2907,2,    160.2,2,    158.6,2,    18.62,2,    22.91,2,     1.54,2,   -999.0,9,   7.6755,2,    25.00,   7.2649,20110129,1301
  29AH20110128,   A05,    12,  1,      9,2,20110129,1223, 27.1285, -15.3478, 3053,   1000.4,   7.8751,  35.2997,2,    150.7,2,    149.4,2,    18.01,2,    23.24,2,     1.60,2,   -999.0,9,   7.6696,2,    25.00,   7.7691,20110129,1303
  29AH20110128,   A05,    12,  1,     10,2,20110129,1223, 27.1285, -15.3478, 3053,    899.8,   8.3187,  35.2980,2,    141.6,2,    140.6,2,    17.09,2,    23.62,2,     1.62,2,   -999.0,9,   7.6611,2,    25.00,   8.2210,20110129,1305
  29AH20110128,   A05,    12,  1,     11,2,20110129,1223, 27.1285, -15.3478, 3053,    800.3,   9.2647,  35.3649,2,    137.7,2,    136.8,2,    15.24,2,    22.73,2,     1.50,2,   -999.0,9,   7.6688,2,    25.00,   9.1728,20110129,1308
  29AH20110128,   A05,    12,  1,     12,2,20110129,1223, 27.1285, -15.3478, 3053,    600.6,  11.2445,  35.5664,2,    157.5,2,    157.9,2,     9.12,2,    15.96,2,  -999.00,9,   -999.0,9,   7.7296,2,    25.00,  11.1676,20110129,1311
  29AH20110128,   A05,    12,  1,     13,2,20110129,1223, 27.1285, -15.3478, 3053,    401.2,  13.1165,  35.8096,2,    183.3,2,    183.2,2,     6.22,2,    11.86,2,     0.76,2,   -999.0,9,   7.8117,2,    25.00,  13.0601,20110129,1315
  29AH20110128,   A05,    12,  1,     14,2,20110129,1223, 27.1285, -15.3478, 3053,    300.3,  14.7667,  36.0704,2,    189.2,2,    191.2,2,     4.68,2,     8.81,2,     0.56,2,   -999.0,9,   7.8574,2,    25.00,  14.7212,20110129,1317
  29AH20110128,   A05,    12,  1,     15,2,20110129,1223, 27.1285, -15.3478, 3053,    200.0,  16.1491,  36.2957,2,    196.1,2,    195.8,2,     3.57,2,     6.08,2,     0.42,2,   -999.0,9,   7.9003,2,    25.00,  16.1169,20110129,1320
  29AH20110128,   A05,    12,  1,     16,2,20110129,1223, 27.1285, -15.3478, 3053,    150.9,  17.0125,  36.4150,2,    200.5,2,    199.0,2,     3.06,2,     4.48,2,     0.36,2,   -999.0,9,   7.9202,2,    25.00,  16.9874,20110129,1321
  29AH20110128,   A05,    12,  1,     17,2,20110129,1223, 27.1285, -15.3478, 3053,    125.2,  18.0427,  36.5373,2,    203.6,2,    204.3,2,     2.62,2,     2.59,2,     0.27,2,   -999.0,9,   7.9398,2,    25.00,  18.0210,20110129,1321
  29AH20110128,   A05,    12,  1,     18,2,20110129,1223, 27.1285, -15.3478, 3053,     90.5,  20.6124,  36.9388,2,    220.0,2,    212.2,3,  -999.00,9,  -999.00,9,  -999.00,9,   -999.0,9,   7.9855,2,    25.00,  20.5952,20110129,1322
  29AH20110128,   A05,    12,  1,     19,2,20110129,1223, 27.1285, -15.3478, 3053,     74.2,  20.6122,  36.9404,2,    220.1,2,    220.2,2,     2.07,2,     0.09,2,     0.18,2,   -999.0,9,   8.0069,2,    25.00,  20.5981,20110129,1323
  29AH20110128,   A05,    12,  1,     20,2,20110129,1223, 27.1285, -15.3478, 3053,     50.5,  20.6125,  36.9414,2,    220.4,2,    218.7,2,     2.06,2,     0.10,2,     0.18,2,   -999.0,9,   8.0097,2,    25.00,  20.6029,20110129,1324
  29AH20110128,   A05,    12,  1,     21,2,20110129,1223, 27.1285, -15.3478, 3053,     24.4,  20.6098,  36.9418,2,    220.7,2,    220.0,2,     2.07,2,     0.11,2,     0.19,2,   -999.0,9,   8.0090,2,    25.00,  20.6051,20110129,1324
  29AH20110128,   A05,    12,  1,     22,2,20110129,1223, 27.1285, -15.3478, 3053,      5.5,  20.6054,  36.9413,2,    221.0,2,    219.4,2,     2.09,2,     0.11,2,     0.19,2,   -999.0,9,   8.0091,2,    25.00,  20.6043,20110129,1325
  29AH20110128,   A05,    13,  1,      1,2,20110129,1736, 27.0167, -15.7023, 3381,   3370.9,   2.6237,  34.9201,2,    228.5,2,    225.7,2,    44.41,2,    21.52,2,     1.49,2,   2361.4,2,   7.7146,2,    25.00,   2.3421,20110129,1736
  29AH20110128,   A05,    13,  1,      2,2,20110129,1736, 27.0167, -15.7023, 3381,   3001.3,   2.7824,  34.9366,2,    229.1,2,    227.0,2,  -999.00,9,    21.04,2,     1.48,2,   2354.3,2,   7.7166,2,    25.00,   2.5362,20110129,1744
  29AH20110128,   A05,    13,  1,      3,2,20110129,1736, 27.0167, -15.7023, 3381,   2449.5,   3.2867,  34.9853,2,    225.2,2,    223.4,2,    34.92,2,    20.84,2,     1.46,2,   2345.6,2,   7.7101,2,    25.00,   3.0863,20110129,1756
  29AH20110128,   A05,    13,  1,      4,2,20110129,1736, 27.0167, -15.7023, 3381,   1999.5,   4.0357,  35.0598,2,    218.4,2,    216.8,2,  -999.00,9,  -999.00,9,  -999.00,9,   -999.0,9,   7.7115,2,    25.00,   3.8674,20110129,1805
  29AH20110128,   A05,    13,  1,      5,2,20110129,1736, 27.0167, -15.7023, 3381,   2000.4,   4.0430,  35.0604,2,    218.5,2,    217.0,2,    28.77,2,    20.65,2,     1.42,2,   2338.4,2,   7.7115,2,    25.00,   3.8745,20110129,1805
  29AH20110128,   A05,    13,  1,      6,2,20110129,1736, 27.0167, -15.7023, 3381,   1751.8,   4.5968,  35.1157,2,    211.2,2,    210.2,2,    25.72,2,    20.50,2,     1.50,2,   2338.3,2,   7.6981,2,    25.00,   4.4450,20110129,1817
  29AH20110128,   A05,    13,  1,      7,2,20110129,1736, 27.0167, -15.7023, 3381,   1501.2,   5.5275,  35.2089,2,    198.0,2,    198.6,2,    22.80,2,    20.70,2,     1.49,2,   2338.7,2,   7.7085,2,    25.00,   5.3895,20110129,1825
  29AH20110128,   A05,    13,  1,      8,2,20110129,1736, 27.0167, -15.7023, 3381,   1300.5,   6.7111,  35.3443,2,    184.6,2,    184.9,2,    19.43,2,    20.59,2,     1.39,2,   2344.7,2,   7.7080,2,    25.00,   6.5818,20110129,1831
  29AH20110128,   A05,    13,  1,      9,2,20110129,1736, 27.0167, -15.7023, 3381,   1201.2,   7.1279,  35.3289,2,    172.4,2,    171.4,2,    19.08,2,    21.92,2,     1.47,2,   2339.4,2,   7.6952,2,    25.00,   7.0056,20110129,1834
  29AH20110128,   A05,    13,  1,     10,2,20110129,1736, 27.0167, -15.7023, 3381,   1102.3,   7.5256,  35.3290,2,    162.8,2,    162.3,2,    18.66,2,    22.47,2,     1.49,2,   -999.0,9,   7.6866,2,    25.00,   7.4109,20110129,1837
  29AH20110128,   A05,    13,  1,     11,2,20110129,1736, 27.0167, -15.7023, 3381,   1000.4,   7.7413,  35.2976,2,    152.2,2,    151.1,2,    18.78,2,    23.21,2,     1.66,2,   2335.9,2,   7.6646,2,    25.00,   7.6363,20110129,1840
  29AH20110128,   A05,    13,  1,     12,2,20110129,1736, 27.0167, -15.7023, 3381,    900.3,   8.1408,  35.2848,2,    142.5,2,    142.6,2,    18.27,2,    23.96,2,     1.67,2,   -999.0,9,   7.6573,2,    25.00,   8.0443,20110129,1842
  29AH20110128,   A05,    13,  1,     13,2,20110129,1736, 27.0167, -15.7023, 3381,    800.7,   8.8876,  35.3419,2,    140.0,2,    139.1,2,    16.40,2,    23.30,2,     1.58,2,   2335.5,2,   7.6674,2,    25.00,   8.7978,20110129,1844
  29AH20110128,   A05,    13,  1,     14,2,20110129,1736, 27.0167, -15.7023, 3381,    600.5,  11.2003,  35.5664,2,    160.1,2,    161.2,2,    10.12,2,    17.79,2,     1.05,2,   2346.7,3,   7.7356,2,    25.00,  11.1236,20110129,1849
  29AH20110128,   A05,    13,  1,     15,2,20110129,1736, 27.0167, -15.7023, 3381,    401.0,  12.8924,  35.7769,2,    175.8,2,    178.7,2,     6.72,2,    13.27,2,  -999.00,9,   2348.2,2,   7.7950,2,    25.00,  12.8367,20110129,1853
  29AH20110128,   A05,    13,  1,     16,2,20110129,1736, 27.0167, -15.7023, 3381,    300.7,  14.4674,  36.0238,2,    188.3,2,    188.5,2,     4.74,2,     9.27,2,     0.58,2,   2362.3,2,   7.8505,2,    25.00,  14.4224,20110129,1855
  29AH20110128,   A05,    13,  1,     17,2,20110129,1736, 27.0167, -15.7023, 3381,    201.2,  16.0031,  36.2694,2,    195.2,2,    194.5,2,     3.51,2,     6.45,2,     0.42,2,   -999.0,9,   7.8931,2,    25.00,  15.9709,20110129,1857
  29AH20110128,   A05,    13,  1,     18,2,20110129,1736, 27.0167, -15.7023, 3381,    150.2,  17.0941,  36.4214,2,    198.7,2,    197.2,2,     2.93,2,     4.68,2,     0.31,2,   2383.2,2,   7.9199,2,    25.00,  17.0690,20110129,1858
  29AH20110128,   A05,    13,  1,     19,2,20110129,1736, 27.0167, -15.7023, 3381,    125.3,  17.8828,  36.5284,2,    201.2,2,    200.1,2,     2.59,2,     3.55,2,     0.29,2,   -999.0,9,   7.9316,2,    25.00,  17.8612,20110129,1859
  29AH20110128,   A05,    13,  1,     20,2,20110129,1736, 27.0167, -15.7023, 3381,    101.0,  19.1652,  36.6782,2,    208.6,2,    206.1,2,     2.22,2,     1.86,2,     0.26,2,   -999.0,9,   7.9605,2,    25.00,  19.1469,20110129,1900
  29AH20110128,   A05,    13,  1,     21,2,20110129,1736, 27.0167, -15.7023, 3381,     74.4,  20.7083,  36.9710,2,    218.9,2,    217.0,2,     1.80,2,     0.14,2,     0.21,2,   -999.0,9,   8.0153,2,    25.00,  20.6941,20110129,1901
  29AH20110128,   A05,    13,  1,     22,2,20110129,1736, 27.0167, -15.7023, 3381,     55.0,  20.7249,  36.9730,2,    219.2,2,    218.0,2,     1.76,2,     0.02,2,     0.22,2,   -999.0,9,   8.0095,2,    25.00,  20.7144,20110129,1901
  29AH20110128,   A05,    13,  1,     23,2,20110129,1736, 27.0167, -15.7023, 3381,     24.4,  20.7337,  36.9724,2,    220.0,2,    219.3,2,     1.78,2,     0.02,2,     0.20,2,   -999.0,9,   8.0091,2,    25.00,  20.7290,20110129,1909
  29AH20110128,   A05,    13,  1,     24,2,20110129,1736, 27.0167, -15.7023, 3381,      4.2,  20.7463,  36.9765,2,    220.3,2,    219.7,2,     1.75,2,     0.01,2,     0.19,2,   2420.9,2,   8.0083,2,    25.00,  20.7455,20110129,1912