BOTTLE,20220930CCHSIOAMB
EXPOCODE,SECT_ID,STNNBR,CASTNO,BTLNBR,BTLNBR_FLAG_W,DATE,TIME,LATITUDE,LONGITUDE,DEPTH,CTDPRS,CTDTMP,CTDSAL,CTDSAL_FLAG_W,CTDOXY,CTDOXY_FLAG_W,OXYGEN,OXYGEN_FLAG_W,SILCAT,SILCAT_FLAG_W,NITRAT,NITRAT_FLAG_W,PHSPHT,PHSPHT_FLAG_W,ALKALI,ALKALI_FLAG_W,PH_SWS,PH_SWS_FLAG_W,PH_TMP,THETA,BTL_DATE,BTL_TIME
,,,,,,,,,,METERS,DBAR,ITS-90,PSS-78,,UMOL/KG,,UMOL/KG,,UMOL/KG,,UMOL/KG,,UMOL/KG,,UMOL/KG,,,,DEG C,DEG C,,
  29AH20110128,   A05,   113,  1,      1,2,20110302,1520, 24.4997, -67.5200, 5738,   5728.4,   2.0816,  34.8477,2,    248.3,2,    247.4,2,  -999.00,9,  -999.00,9,  -999.00,9,   2349.5,2,   7.7054,2,    25.00,   1.5323,20110302,1520
  29AH20110128,   A05,   113,  1,      2,2,20110302,1520, 24.4997, -67.5200, 5738,   5499.6,   2.0762,  34.8513,2,    250.0,2,    248.1,2,  -999.00,9,  -999.00,9,  -999.00,9,   2347.4,2,   7.7052,2,    25.00,   1.5573,20110302,1525
  29AH20110128,   A05,   113,  1,      3,2,20110302,1520, 24.4997, -67.5200, 5738,   5000.3,   2.2255,  34.8775,2,    258.9,2,    257.1,2,  -999.00,9,  -999.00,9,  -999.00,9,   2340.0,2,   7.7228,2,    25.00,   1.7653,20110302,1534
  29AH20110128,   A05,   113,  1,      4,2,20110302,1520, 24.4997, -67.5200, 5738,   4501.1,   2.2788,  34.8902,2,    264.1,2,    262.5,2,  -999.00,9,  -999.00,9,  -999.00,9,   2334.4,2,   7.7280,2,    25.00,   1.8781,20110302,1545
  29AH20110128,   A05,   113,  1,      5,2,20110302,1520, 24.4997, -67.5200, 5738,   4000.7,   2.3159,  34.8977,2,    266.4,2,    265.8,2,  -999.00,9,  -999.00,9,  -999.00,9,   2329.2,2,   7.7254,2,    25.00,   1.9726,20110302,1555
  29AH20110128,   A05,   113,  1,      6,2,20110302,1520, 24.4997, -67.5200, 5738,   3500.8,   2.4354,  34.9092,2,    266.0,2,    266.1,2,  -999.00,9,  -999.00,9,  -999.00,9,   2327.8,2,   7.7329,2,    25.00,   2.1445,20110302,1605
  29AH20110128,   A05,   113,  1,      7,2,20110302,1520, 24.4997, -67.5200, 5738,   3000.5,   2.6897,  34.9291,2,    259.6,2,    259.3,2,  -999.00,9,  -999.00,9,  -999.00,9,   2329.4,2,   7.7312,2,    25.00,   2.4456,20110302,1614
  29AH20110128,   A05,   113,  1,      8,2,20110302,1520, 24.4997, -67.5200, 5738,   2499.7,   3.0619,  34.9593,2,    253.9,2,    253.6,2,  -999.00,9,  -999.00,9,  -999.00,9,   -999.0,9,   7.7223,2,    25.00,   2.8607,20110302,1624
  29AH20110128,   A05,   113,  1,      9,2,20110302,1520, 24.4997, -67.5200, 5738,   2000.3,   3.4999,  34.9820,2,    256.1,2,    257.0,2,  -999.00,9,  -999.00,9,  -999.00,9,   -999.0,9,   7.7321,2,    25.00,   3.3397,20110302,1634
  29AH20110128,   A05,   113,  1,     10,2,20110302,1520, 24.4997, -67.5200, 5738,   1750.8,   3.8808,  35.0030,2,    253.6,2,    254.1,2,  -999.00,9,  -999.00,9,  -999.00,9,   -999.0,9,   7.7259,2,    25.00,   3.7387,20110302,1639
  29AH20110128,   A05,   113,  1,     11,2,20110302,1520, 24.4997, -67.5200, 5738,   1500.8,   4.3287,  35.0221,2,    249.9,2,    250.4,2,  -999.00,9,  -999.00,9,  -999.00,9,   -999.0,9,   7.7216,2,    25.00,   4.2046,20110302,1644
  29AH20110128,   A05,   113,  1,     12,2,20110302,1520, 24.4997, -67.5200, 5738,   1300.9,   4.7916,  35.0448,2,    239.6,2,    239.4,2,  -999.00,9,  -999.00,9,  -999.00,9,   -999.0,9,   7.7172,2,    25.00,   4.6813,20110302,1648
  29AH20110128,   A05,   113,  1,     13,2,20110302,1520, 24.4997, -67.5200, 5738,   1201.0,   5.1696,  35.0635,2,    231.7,2,    231.5,2,  -999.00,9,  -999.00,9,  -999.00,9,   -999.0,9,   7.7123,2,    25.00,   5.0652,20110302,1650
  29AH20110128,   A05,   113,  1,     14,2,20110302,1520, 24.4997, -67.5200, 5738,   1000.7,   6.4926,  35.0922,2,    194.4,2,    192.1,2,  -999.00,9,  -999.00,9,  -999.00,9,   -999.0,9,   7.6865,2,    25.00,   6.3971,20110302,1654
  29AH20110128,   A05,   113,  1,     15,2,20110302,1520, 24.4997, -67.5200, 5738,    798.6,   9.3233,  35.2235,2,    142.0,2,    141.2,2,  -999.00,9,  -999.00,9,  -999.00,9,   -999.0,9,   7.6737,2,    25.00,   9.2314,20110302,1658
  29AH20110128,   A05,   113,  1,     16,2,20110302,1520, 24.4997, -67.5200, 5738,    599.4,  13.4382,  35.7782,2,    158.0,2,    158.1,2,  -999.00,9,  -999.00,9,  -999.00,9,   -999.0,9,   7.8011,2,    25.00,  13.3521,20110302,1702
  29AH20110128,   A05,   113,  1,     17,2,20110302,1520, 24.4997, -67.5200, 5738,    400.9,  17.2238,  36.4098,2,    178.6,2,    178.0,2,  -999.00,9,  -999.00,9,  -999.00,9,   -999.0,9,   7.9102,2,    25.00,  17.1560,20110302,1706
  29AH20110128,   A05,   113,  1,     18,2,20110302,1520, 24.4997, -67.5200, 5738,    299.2,  18.0730,  36.5513,2,    198.7,2,    198.0,2,  -999.00,9,  -999.00,9,  -999.00,9,   -999.0,9,   7.9564,2,    25.00,  18.0208,20110302,1708
  29AH20110128,   A05,   113,  1,     19,2,20110302,1520, 24.4997, -67.5200, 5738,    150.4,  20.0913,  36.7633,2,    197.6,2,    197.5,2,  -999.00,9,  -999.00,9,  -999.00,9,   -999.0,9,   8.0001,2,    25.00,  20.0631,20110302,1711
  29AH20110128,   A05,   113,  1,     20,2,20110302,1520, 24.4997, -67.5200, 5738,    123.7,  21.3036,  36.8209,2,    209.8,2,    208.7,2,  -999.00,9,  -999.00,9,  -999.00,9,   -999.0,9,   8.0231,2,    25.00,  21.2795,20110302,1712
  29AH20110128,   A05,   113,  1,     21,2,20110302,1520, 24.4997, -67.5200, 5738,     75.3,  22.5825,  36.8756,2,    215.2,2,    213.6,2,  -999.00,9,  -999.00,9,  -999.00,9,   -999.0,9,   8.0477,2,    25.00,  22.5672,20110302,1714
  29AH20110128,   A05,   113,  1,     22,2,20110302,1520, 24.4997, -67.5200, 5738,     50.8,  23.1303,  36.8670,2,    212.0,2,    212.2,2,  -999.00,9,  -999.00,9,  -999.00,9,   -999.0,9,   8.0653,2,    25.00,  23.1198,20110302,1714
  29AH20110128,   A05,   113,  1,     23,2,20110302,1520, 24.4997, -67.5200, 5738,     25.1,  23.5841,  36.6985,2,    212.1,2,    209.4,2,  -999.00,9,  -999.00,9,  -999.00,9,   -999.0,9,   8.0903,2,    25.00,  23.5789,20110302,1715
  29AH20110128,   A05,   113,  1,     24,2,20110302,1520, 24.4997, -67.5200, 5738,      5.3,  23.6821,  36.6936,2,    211.9,2,    210.8,2,  -999.00,9,  -999.00,9,  -999.00,9,   -999.0,9,   8.0887,2,    25.00,  23.6810,20110302,1716
  29AH20110128,   A05,   114,  1,      1,2,20110302,2325, 24.4993, -68.1350, 5865,   5855.0,   2.1056,  34.8485,2,    249.4,2,    247.4,2,  -999.00,9,  -999.00,9,  -999.00,9,   2350.0,2,   7.7045,2,    25.00,   1.5384,20110302,2325
  29AH20110128,   A05,   114,  1,      2,2,20110302,2325, 24.4993, -68.1350, 5865,   5499.8,   2.0720,  34.8509,2,    249.8,2,    249.0,2,  -999.00,9,  -999.00,9,  -999.00,9,   2347.0,2,   7.7066,2,    25.00,   1.5533,20110302,2332
  29AH20110128,   A05,   114,  1,      3,2,20110302,2325, 24.4993, -68.1350, 5865,   4999.1,   2.1807,  34.8728,2,    256.4,2,    256.2,2,  -999.00,9,  -999.00,9,  -999.00,9,   2343.4,2,   7.7157,2,    25.00,   1.7222,20110302,2341
  29AH20110128,   A05,   114,  1,      4,2,20110302,2325, 24.4993, -68.1350, 5865,   4499.8,   2.2771,  34.8909,2,    263.7,2,    262.2,2,  -999.00,9,  -999.00,9,  -999.00,9,   2336.0,2,   7.7259,2,    25.00,   1.8766,20110302,2351
  29AH20110128,   A05,   114,  1,      5,2,20110302,2325, 24.4993, -68.1350, 5865,   3999.5,   2.3173,  34.8984,2,    265.9,2,    263.2,2,  -999.00,9,  -999.00,9,  -999.00,9,   -999.0,9,   7.7280,2,    25.00,   1.9741,20110302,0000
  29AH20110128,   A05,   114,  1,      6,2,20110302,2325, 24.4993, -68.1350, 5865,   3498.8,   2.4450,  34.9108,2,    262.2,2,    261.2,2,  -999.00,9,  -999.00,9,  -999.00,9,   2329.6,2,   7.7302,2,    25.00,   2.1540,20110302,0010
  29AH20110128,   A05,   114,  1,      7,2,20110302,2325, 24.4993, -68.1350, 5865,   2999.8,   2.7036,  34.9299,2,    259.4,2,    261.8,2,  -999.00,9,  -999.00,9,  -999.00,9,   2328.7,2,   7.7293,2,    25.00,   2.4593,20110302,0020
  29AH20110128,   A05,   114,  1,      8,2,20110302,2325, 24.4993, -68.1350, 5865,   2500.0,   3.0772,  34.9608,2,    252.7,2,    254.3,2,  -999.00,9,  -999.00,9,  -999.00,9,   2327.0,2,   7.7317,2,    25.00,   2.8757,20110302,0029
  29AH20110128,   A05,   114,  1,      9,2,20110302,2325, 24.4993, -68.1350, 5865,   1999.4,   3.6517,  34.9991,2,    252.0,2,    252.5,2,  -999.00,9,  -999.00,9,  -999.00,9,   2321.7,2,   7.7329,2,    25.00,   3.4893,20110302,0039
  29AH20110128,   A05,   114,  1,     10,2,20110302,2325, 24.4993, -68.1350, 5865,   1750.9,   4.0325,  35.0191,2,    250.2,2,    250.8,2,  -999.00,9,  -999.00,9,  -999.00,9,   2319.9,2,   7.7292,2,    25.00,   3.8884,20110302,0044
  29AH20110128,   A05,   114,  1,     11,2,20110302,2325, 24.4993, -68.1350, 5865,   1499.8,   4.5394,  35.0452,2,    243.4,2,    243.7,2,  -999.00,9,  -999.00,9,  -999.00,9,   2320.1,2,   7.7204,2,    25.00,   4.4129,20110302,0049
  29AH20110128,   A05,   114,  1,     12,2,20110302,2325, 24.4993, -68.1350, 5865,   1300.0,   5.0896,  35.0639,2,    230.0,2,    230.2,2,  -999.00,9,  -999.00,9,  -999.00,9,   2321.5,2,   7.7122,2,    25.00,   4.9765,20110302,0053
  29AH20110128,   A05,   114,  1,     13,2,20110302,2325, 24.4993, -68.1350, 5865,   1200.6,   5.5603,  35.0744,2,    215.6,2,    209.4,2,  -999.00,9,  -999.00,9,  -999.00,9,   2322.5,2,   7.6981,2,    25.00,   5.4524,20110302,0055
  29AH20110128,   A05,   114,  1,     14,2,20110302,2325, 24.4993, -68.1350, 5865,   1000.4,   7.1131,  35.0693,2,    165.0,2,    164.9,2,  -999.00,9,  -999.00,9,  -999.00,9,   2321.7,2,   7.6598,2,    25.00,   7.0130,20110302,0059
  29AH20110128,   A05,   114,  1,     15,2,20110302,2325, 24.4993, -68.1350, 5865,    801.2,   9.6812,  35.2543,2,    139.3,2,    141.2,2,  -999.00,9,  -999.00,9,  -999.00,9,   2325.4,2,   7.6787,2,    25.00,   9.5869,20110302,0103
  29AH20110128,   A05,   114,  1,     16,2,20110302,2325, 24.4993, -68.1350, 5865,    598.5,  14.2588,  35.8938,2,    158.1,2,    158.5,2,  -999.00,9,  -999.00,9,  -999.00,9,   2355.4,2,   7.8098,2,    25.00,  14.1694,20110302,0108
  29AH20110128,   A05,   114,  1,     17,2,20110302,2325, 24.4993, -68.1350, 5865,    401.2,  17.6620,  36.4848,2,    194.6,2,    195.6,2,  -999.00,9,  -999.00,9,  -999.00,9,   2390.6,2,   7.9422,2,    25.00,  17.5930,20110302,0111
  29AH20110128,   A05,   114,  1,     18,2,20110302,2325, 24.4993, -68.1350, 5865,    299.6,  18.3540,  36.5892,2,    201.5,2,    201.6,2,  -999.00,9,  -999.00,9,  -999.00,9,   2396.4,2,   7.9684,2,    25.00,  18.3012,20110302,0114
  29AH20110128,   A05,   114,  1,     19,2,20110302,2325, 24.4993, -68.1350, 5865,    150.4,  21.7130,  36.8385,2,    208.6,2,    207.7,2,  -999.00,9,  -999.00,9,  -999.00,9,   2412.0,2,   8.0343,2,    25.00,  21.6833,20110302,0117
  29AH20110128,   A05,   114,  1,     20,2,20110302,2325, 24.4993, -68.1350, 5865,    124.7,  22.0134,  36.8373,2,    212.8,2,    211.6,2,  -999.00,9,  -999.00,9,  -999.00,9,   -999.0,9,   8.0450,2,    25.00,  21.9885,20110302,0117
  29AH20110128,   A05,   114,  1,     21,2,20110302,2325, 24.4993, -68.1350, 5865,     74.1,  23.6642,  36.7522,2,    210.7,2,    209.1,2,  -999.00,9,  -999.00,9,  -999.00,9,   2412.1,2,   8.0586,2,    25.00,  23.6486,20110302,0118
  29AH20110128,   A05,   114,  1,     22,2,20110302,2325, 24.4993, -68.1350, 5865,     49.5,  23.7461,  36.5729,2,    210.9,2,    209.7,2,  -999.00,9,  -999.00,9,  -999.00,9,   -999.0,9,   8.0653,2,    25.00,  23.7357,20110302,0119
  29AH20110128,   A05,   114,  1,     23,2,20110302,2325, 24.4993, -68.1350, 5865,     25.1,  23.7689,  36.5727,2,    210.8,2,    210.2,2,  -999.00,9,  -999.00,9,  -999.00,9,   -999.0,9,   8.0720,2,    25.00,  23.7636,20110302,0120
  29AH20110128,   A05,   114,  1,     24,2,20110302,2325, 24.4993, -68.1350, 5865,      5.3,  23.7969,  36.5038,2,    211.4,2,    211.3,2,  -999.00,9,  -999.00,9,  -999.00,9,   2397.8,2,   8.0782,2,    25.00,  23.7958,20110302,0120
  29AH20110128,   A05,   115,  1,      1,2,20110303,0623, 24.4997, -68.6347, 5828,   5817.9,   2.0955,  34.8477,2,    248.8,2,    250.9,2,  -999.00,9,  -999.00,9,  -999.00,9,   -999.0,9,   7.7051,2,    25.00,   1.5337,20110303,0623
  29AH20110128,   A05,   115,  1,      2,2,20110303,0623, 24.4997, -68.6347, 5828,   5499.2,   2.1203,  34.8569,2,    251.6,2,    252.9,2,  -999.00,9,  -999.00,9,  -999.00,9,   -999.0,9,   7.7080,2,    25.00,   1.5998,20110303,0629
  29AH20110128,   A05,   115,  1,      3,2,20110303,0623, 24.4997, -68.6347, 5828,   4999.5,   2.2444,  34.8800,2,    259.5,2,    259.9,2,  -999.00,9,  -999.00,9,  -999.00,9,   -999.0,9,   7.7210,2,    25.00,   1.7836,20110303,0639
  29AH20110128,   A05,   115,  1,      4,2,20110303,0623, 24.4997, -68.6347, 5828,   4498.4,   2.2910,  34.8917,2,    265.0,2,    265.7,2,  -999.00,9,  -999.00,9,  -999.00,9,   -999.0,9,   7.7214,2,    25.00,   1.8903,20110303,0649
  29AH20110128,   A05,   115,  1,      5,2,20110303,0623, 24.4997, -68.6347, 5828,   3999.7,   2.3383,  34.9003,2,    265.9,2,    267.2,2,  -999.00,9,  -999.00,9,  -999.00,9,   -999.0,9,   7.7276,2,    25.00,   1.9945,20110303,0658
  29AH20110128,   A05,   115,  1,      6,2,20110303,0623, 24.4997, -68.6347, 5828,   3500.2,   2.4584,  34.9108,2,    265.6,2,    265.7,2,  -999.00,9,  -999.00,9,  -999.00,9,   -999.0,9,   7.7279,2,    25.00,   2.1669,20110303,0708
  29AH20110128,   A05,   115,  1,      7,2,20110303,0623, 24.4997, -68.6347, 5828,   2999.4,   2.7340,  34.9304,2,    261.1,2,    261.9,2,  -999.00,9,  -999.00,9,  -999.00,9,   -999.0,9,   7.7282,2,    25.00,   2.4890,20110303,0718
  29AH20110128,   A05,   115,  1,      8,2,20110303,0623, 24.4997, -68.6347, 5828,   2499.0,   3.1042,  34.9556,2,    258.2,2,    261.8,2,  -999.00,9,  -999.00,9,  -999.00,9,   -999.0,9,   7.7297,2,    25.00,   2.9024,20110303,0728
  29AH20110128,   A05,   115,  1,      9,2,20110303,0623, 24.4997, -68.6347, 5828,   2002.5,   3.5841,  34.9738,2,    259.4,2,    262.3,2,  -999.00,9,  -999.00,9,  -999.00,9,   -999.0,9,   7.7263,2,    25.00,   3.4225,20110303,0737
  29AH20110128,   A05,   115,  1,     10,2,20110303,0623, 24.4997, -68.6347, 5828,   1751.2,   3.9681,  34.9966,2,    256.0,2,    259.1,2,  -999.00,9,  -999.00,9,  -999.00,9,   -999.0,9,   7.7218,2,    25.00,   3.8249,20110303,0742
  29AH20110128,   A05,   115,  1,     11,2,20110303,0623, 24.4997, -68.6347, 5828,   1499.0,   4.4083,  35.0144,2,    249.6,2,    252.0,2,  -999.00,9,  -999.00,9,  -999.00,9,   -999.0,9,   7.7137,2,    25.00,   4.2835,20110303,0747
  29AH20110128,   A05,   115,  1,     12,2,20110303,0623, 24.4997, -68.6347, 5828,   1301.2,   4.9657,  35.0439,2,    236.8,2,    240.2,2,  -999.00,9,  -999.00,9,  -999.00,9,   -999.0,9,   7.7081,2,    25.00,   4.8537,20110303,0751
  29AH20110128,   A05,   115,  1,     13,2,20110303,0623, 24.4997, -68.6347, 5828,   1199.6,   5.5085,  35.0686,2,    220.2,2,    221.6,2,  -999.00,9,  -999.00,9,  -999.00,9,   -999.0,9,   7.6971,2,    25.00,   5.4012,20110303,0753
  29AH20110128,   A05,   115,  1,     14,2,20110303,0623, 24.4997, -68.6347, 5828,    999.1,   7.0140,  35.0350,2,    160.0,2,    160.1,2,  -999.00,9,  -999.00,9,  -999.00,9,   -999.0,9,   7.6448,2,    25.00,   6.9149,20110303,0757
  29AH20110128,   A05,   115,  1,     15,2,20110303,0623, 24.4997, -68.6347, 5828,    798.8,  10.1235,  35.3202,2,    141.6,2,    142.7,2,  -999.00,9,  -999.00,9,  -999.00,9,   -999.0,9,   7.6908,2,    25.00,  10.0269,20110303,0802
  29AH20110128,   A05,   115,  1,     16,2,20110303,0623, 24.4997, -68.6347, 5828,    602.5,  14.2418,  35.8878,2,    157.8,2,    159.6,2,  -999.00,9,  -999.00,9,  -999.00,9,   -999.0,9,   7.8110,2,    25.00,  14.1519,20110303,0806
  29AH20110128,   A05,   115,  1,     17,2,20110303,0623, 24.4997, -68.6347, 5828,    400.5,  17.8240,  36.5103,2,    195.9,2,    199.1,2,  -999.00,9,  -999.00,9,  -999.00,9,   -999.0,9,   7.9477,2,    25.00,  17.7547,20110303,0810
  29AH20110128,   A05,   115,  1,     18,2,20110303,0623, 24.4997, -68.6347, 5828,    300.9,  18.4933,  36.6032,2,    200.3,2,    201.2,2,  -999.00,9,  -999.00,9,  -999.00,9,   -999.0,9,   7.9675,2,    25.00,  18.4400,20110303,0812
  29AH20110128,   A05,   115,  1,     19,2,20110303,0623, 24.4997, -68.6347, 5828,    165.0,  21.8265,  36.8676,2,    197.4,2,    200.0,2,  -999.00,9,  -999.00,9,  -999.00,9,   -999.0,9,   8.0192,2,    25.00,  21.7937,20110303,0815
  29AH20110128,   A05,   115,  1,     20,2,20110303,0623, 24.4997, -68.6347, 5828,    124.8,  23.1150,  36.8359,2,    210.8,2,    211.4,2,  -999.00,9,  -999.00,9,  -999.00,9,   -999.0,9,   8.0656,2,    25.00,  23.0892,20110303,0816
  29AH20110128,   A05,   115,  1,     21,2,20110303,0623, 24.4997, -68.6347, 5828,     77.0,  23.8282,  36.6530,2,    210.4,2,    210.5,2,  -999.00,9,  -999.00,9,  -999.00,9,   -999.0,9,   8.0801,2,    25.00,  23.8120,20110303,0817
  29AH20110128,   A05,   115,  1,     22,2,20110303,0623, 24.4997, -68.6347, 5828,     55.5,  24.1216,  36.6425,2,    210.2,2,    210.6,2,  -999.00,9,  -999.00,9,  -999.00,9,   -999.0,9,   8.0777,2,    25.00,  24.1098,20110303,0818
  29AH20110128,   A05,   115,  1,     23,2,20110303,0623, 24.4997, -68.6347, 5828,     24.6,  24.8702,  36.2146,2,    208.3,2,    209.5,2,  -999.00,9,  -999.00,9,  -999.00,9,   -999.0,9,   8.0854,2,    25.00,  24.8649,20110303,0819
  29AH20110128,   A05,   115,  1,     24,2,20110303,0623, 24.4997, -68.6347, 5828,      5.6,  24.8388,  36.1970,2,    208.0,2,    209.5,2,  -999.00,9,  -999.00,9,  -999.00,9,   -999.0,9,   8.0869,2,    25.00,  24.8376,20110303,0819