BOTTLE,20220930CCHSIOAMB
# Copied DATE/TIME to BTL_DATE/BTL_TIME, set DATE/TIME to value of deepest bottle.
# There is no SAMPNO in the file, BTLNBR fallback works ok
#BOTTLE,20141217PRINUNIVRMK
# processed by CCHDO on 2019-09-05, no changes, converted to utf8
# 5/12/2014 Initialized README file	 
# Datasource:FizF.Perez,15/12/2014	 
# SHIP: Sarmiento de Gamboa	 
# Cruise: 24N_Malaspina_2011	 
# Region: NorthAtlantic; WOCE A05 
# EXPOCODE: 29AH20110128	 
# DATES: 20110128-20110314	 
# Chief Scientist: Alonso Hernandez-Guerra 
# 167 stations with 24 place Rosette	 
# Bottom depth approximated from global topography 
# Hydro:Who-A.Hernandez-Guerra; Status - final	 
# 	Notes:University of Las Palmas de Gran Canaria 
# Nutrients:FranciscoDominguez; Status - final	 
# 	Notes:Instituto Español de Oceanografía (IEO) - Gran Canaria 
# O2:Who-Francisco Dominguez; Status - final	 
# 	Notes:CTDOXY calibrated with RSE of 1.2umol/kg 
# TA:Who-ElisaF.Guallart/XoseAntonioPadin/MarcosVazquez-Rodriguez; Status-final	 
# 	Notes: CSIC - Instituto de Cienciasdel Mar de Barcelona  
# 	CSIC - Institutode Investigacones Marinas de Vigo / CSIC-IIM Vigo 
# pH:Who - Xose Antonio Padin/ E.F. Guallart / M. Vazquez-Rodriguez; Status-final	 
# 	Notes:SWS@25C 
# References: 
# Hernández-Guerra A,PelegríJL, Fraile-Nuez E, Benítez-Barrios V, Emelianov M, Pérez-Hernández MD, Vélez-Belchí P, 2014. Meridional overturning transports at 7.5N and 24.5N in the Atlantic Ocean during 1992 -93 and 2010-11. Progress in Oceanography 128, 98-114. 
# Guallart EF, U Schuster, NM Fajar, O Legge , P Brown, C Pelejero, MJ Messias, E Calvo, A Watson, AF Ríos and FF Pérez. Trends in anthropogenic CO2 in water masses of the Subtropical North Atlantic Ocean. Progress in Oceanography, PROOCE-D-14-00109R2 
# Guallart EF, NM Fajar, XA Padin, M Vázquez-Rodríguez, E Calvo, AF Ríos, A Hernández-Guerra, C Pelejero, FF Pérez. Ocean acidification along the 24.5°N section in the subtropical North Atlantic. Submitted to GLR.	 
EXPOCODE,SECT_ID,STNNBR,CASTNO,BTLNBR,BTLNBR_FLAG_W,DATE,TIME,LATITUDE,LONGITUDE,DEPTH,CTDPRS,CTDTMP,CTDSAL,CTDSAL_FLAG_W,CTDOXY,CTDOXY_FLAG_W,OXYGEN,OXYGEN_FLAG_W,SILCAT,SILCAT_FLAG_W,NITRAT,NITRAT_FLAG_W,PHSPHT,PHSPHT_FLAG_W,ALKALI,ALKALI_FLAG_W,PH_SWS,PH_SWS_FLAG_W,PH_TMP,THETA,BTL_DATE,BTL_TIME
,,,,,,,,,,METERS,DBAR,ITS-90,PSS-78,,UMOL/KG,,UMOL/KG,,UMOL/KG,,UMOL/KG,,UMOL/KG,,UMOL/KG,,,,DEG C,DEG C,,
  29AH20110128,   A05,     1,  1,      1,2,20110128,0813, 27.7757, -13.3418,  748,     78.2,  19.5123,  36.7658,2,    216.7,2,    220.1,2,  -999.00,9,  -999.00,9,  -999.00,9,   2408.5,2,   7.9903,2,    25.00,  19.4980,20110128,0813
  29AH20110128,   A05,     1,  1,      2,2,20110128,0813, 27.7757, -13.3418,  748,     50.3,  19.5909,  36.7745,2,    218.4,2,    221.1,2,  -999.00,9,  -999.00,9,  -999.00,9,   -999.0,9,-999.0000,9,  -999.00,  19.5817,20110128,0815
  29AH20110128,   A05,     1,  1,      3,2,20110128,0813, 27.7757, -13.3418,  748,     50.2,  19.5995,  36.7754,2,    218.3,2,    220.0,2,  -999.00,9,  -999.00,9,  -999.00,9,   -999.0,9,-999.0000,9,  -999.00,  19.5903,20110128,0815
  29AH20110128,   A05,     1,  1,      4,2,20110128,0813, 27.7757, -13.3418,  748,     26.1,  19.6015,  36.7729,2,    219.3,2,    221.1,2,  -999.00,9,  -999.00,9,  -999.00,9,   -999.0,9,-999.0000,9,  -999.00,  19.5967,20110128,0816
  29AH20110128,   A05,     1,  1,      5,2,20110128,0813, 27.7757, -13.3418,  748,     26.2,  19.6017,  36.7729,2,    219.2,2,   -999.0,9,  -999.00,9,  -999.00,9,  -999.00,9,   -999.0,9,-999.0000,9,  -999.00,  19.5969,20110128,0816
  29AH20110128,   A05,     1,  1,      6,2,20110128,0813, 27.7757, -13.3418,  748,      4.9,  19.5807,  36.7704,2,    220.0,2,   -999.0,9,  -999.00,9,  -999.00,9,  -999.00,9,   -999.0,9,-999.0000,9,  -999.00,  19.5798,20110128,0817
  29AH20110128,   A05,     1,  1,      7,2,20110128,0813, 27.7757, -13.3418,  748,      5.1,  19.5821,  36.7705,2,    219.8,2,   -999.0,9,  -999.00,9,  -999.00,9,  -999.00,9,   -999.0,9,-999.0000,9,  -999.00,  19.5812,20110128,0817
  29AH20110128,   A05,     1,  1,      8,2,20110128,0813, 27.7757, -13.3418,  748,      5.3,  19.5821,  36.7705,2,    220.0,2,   -999.0,9,  -999.00,9,  -999.00,9,  -999.00,9,   -999.0,9,-999.0000,9,  -999.00,  19.5811,20110128,0817
  29AH20110128,   A05,     1,  1,      9,2,20110128,0813, 27.7757, -13.3418,  748,      5.4,  19.5820,  36.7704,2,    220.0,2,   -999.0,9,  -999.00,9,  -999.00,9,  -999.00,9,   2409.1,2,   7.9882,2,    25.00,  19.5810,20110128,0817
  29AH20110128,   A05,     1,  1,     10,2,20110128,0813, 27.7757, -13.3418,  748,      5.3,  19.5817,  36.7706,2,    219.9,2,    222.9,2,  -999.00,9,  -999.00,9,  -999.00,9,   -999.0,9,-999.0000,9,  -999.00,  19.5807,20110128,0817
  29AH20110128,   A05,     2,  1,      1,2,20110128,0940, 27.7493, -13.4183,  748,     98.4,  18.1047,  36.5616,2,    197.0,2,    200.4,2,  -999.00,9,  -999.00,9,  -999.00,9,   -999.0,9,   7.9337,2,    25.00,  18.0876,20110128,0940
  29AH20110128,   A05,     2,  1,      2,2,20110128,0940, 27.7493, -13.4183,  748,     74.9,  18.3417,  36.5960,2,    200.7,2,    204.1,2,  -999.00,9,  -999.00,9,  -999.00,9,   -999.0,9,-999.0000,9,  -999.00,  18.3286,20110128,0941
  29AH20110128,   A05,     2,  1,      3,2,20110128,0940, 27.7493, -13.4183,  748,     50.7,  18.7581,  36.6562,2,    207.3,2,    209.0,2,  -999.00,9,  -999.00,9,  -999.00,9,   -999.0,9,-999.0000,9,  -999.00,  18.7491,20110128,0942
  29AH20110128,   A05,     2,  1,      4,2,20110128,0940, 27.7493, -13.4183,  748,     25.4,  19.2247,  36.7303,2,    217.3,2,    221.3,2,  -999.00,9,  -999.00,9,  -999.00,9,   -999.0,9,-999.0000,9,  -999.00,  19.2201,20110128,0943
  29AH20110128,   A05,     2,  1,      5,2,20110128,0940, 27.7493, -13.4183,  748,      4.6,  19.3160,  36.7450,2,    220.1,2,    221.8,2,  -999.00,9,  -999.00,9,  -999.00,9,   -999.0,9,   7.9781,2,    25.00,  19.3152,20110128,0944
  29AH20110128,   A05,     3,  1,      1,2,20110128,1036, 27.7303, -13.4773,  748,    503.8,  10.9875,  35.5300,2,    144.8,2,    156.5,3,  -999.00,9,  -999.00,9,  -999.00,9,   2337.2,2,   7.7085,2,    25.00,  10.9242,20110128,1036
  29AH20110128,   A05,     3,  1,      2,2,20110128,1036, 27.7303, -13.4773,  748,    402.4,  12.6461,  35.7427,2,    161.8,2,    164.5,2,  -999.00,9,  -999.00,9,  -999.00,9,   2347.5,2,   7.7698,2,    25.00,  12.5909,20110128,1038
  29AH20110128,   A05,     3,  1,      3,2,20110128,1036, 27.7303, -13.4773,  748,    300.8,  13.8490,  35.9222,2,    169.2,2,    171.9,2,  -999.00,9,  -999.00,9,  -999.00,9,   2357.0,2,   7.8114,2,    25.00,  13.8053,20110128,1040
  29AH20110128,   A05,     3,  1,      4,2,20110128,1036, 27.7303, -13.4773,  748,    201.9,  16.6914,  36.3517,2,    189.0,2,    188.2,2,  -999.00,9,  -999.00,9,  -999.00,9,   -999.0,9,   7.8767,2,    25.00,  16.6582,20110128,1042
  29AH20110128,   A05,     3,  1,      5,2,20110128,1036, 27.7303, -13.4773,  748,    153.1,  17.3717,  36.4559,2,    190.0,2,    191.2,2,  -999.00,9,  -999.00,9,  -999.00,9,   2388.6,2,   7.9089,2,    25.00,  17.3458,20110128,1043
  29AH20110128,   A05,     3,  1,      6,2,20110128,1036, 27.7303, -13.4773,  748,    126.0,  17.4813,  36.4758,2,    193.3,2,    194.9,2,  -999.00,9,  -999.00,9,  -999.00,9,   -999.0,9,   7.9249,2,    25.00,  17.4599,20110128,1044
  29AH20110128,   A05,     3,  1,      7,2,20110128,1036, 27.7303, -13.4773,  748,    100.7,  18.2375,  36.5765,2,    199.0,2,    199.7,2,  -999.00,9,  -999.00,9,  -999.00,9,   -999.0,9,   7.9398,2,    25.00,  18.2199,20110128,1045
  29AH20110128,   A05,     3,  1,      8,2,20110128,1036, 27.7303, -13.4773,  748,     73.4,  19.2511,  36.7181,2,    213.6,2,    214.9,2,  -999.00,9,  -999.00,9,  -999.00,9,   -999.0,9,   7.9558,2,    25.00,  19.2378,20110128,1046
  29AH20110128,   A05,     3,  1,      9,2,20110128,1036, 27.7303, -13.4773,  748,     50.2,  19.4688,  36.7498,2,    216.6,2,    219.1,2,  -999.00,9,  -999.00,9,  -999.00,9,   -999.0,9,   7.9695,2,    25.00,  19.4596,20110128,1046
  29AH20110128,   A05,     3,  1,     10,2,20110128,1036, 27.7303, -13.4773,  748,     25.1,  19.6906,  36.7799,2,    222.0,2,    222.6,2,  -999.00,9,  -999.00,9,  -999.00,9,   -999.0,9,   7.9843,2,    25.00,  19.6860,20110128,1047
  29AH20110128,   A05,     3,  1,     11,2,20110128,1036, 27.7303, -13.4773,  748,      4.6,  19.7003,  36.7809,2,    222.7,2,    223.3,2,  -999.00,9,  -999.00,9,  -999.00,9,   2409.7,2,   7.9964,2,    25.00,  19.6995,20110128,1048
  29AH20110128,   A05,     4,  1,      1,2,20110128,1151, 27.7125, -13.5372,  992,    702.3,   9.0974,  35.3397,2,    131.6,2,    133.4,2,    16.14,2,  -999.00,9,     1.62,2,   -999.0,9,   7.6619,2,    25.00,   9.0180,20110128,1151
  29AH20110128,   A05,     4,  1,      2,2,20110128,1151, 27.7125, -13.5372,  992,    600.3,  10.4252,  35.4653,2,    139.6,2,    141.2,2,    13.08,2,  -999.00,9,     1.42,2,   -999.0,9,   7.6922,2,    25.00,  10.3519,20110128,1153
  29AH20110128,   A05,     4,  1,      3,2,20110128,1151, 27.7125, -13.5372,  992,    400.0,  13.0996,  35.7954,2,   -999.0,9,    168.6,2,     7.44,2,    15.48,2,     0.88,2,   -999.0,9,   7.7873,2,    25.00,  13.0435,20110128,1157
  29AH20110128,   A05,     4,  1,      4,2,20110128,1151, 27.7125, -13.5372,  992,    300.5,  14.6541,  36.0483,2,    174.1,2,    175.6,2,     5.68,2,    11.89,2,     0.67,2,   -999.0,9,   7.8328,2,    25.00,  14.6088,20110128,1159
  29AH20110128,   A05,     4,  1,      5,2,20110128,1151, 27.7125, -13.5372,  992,    200.6,  15.8037,  36.2347,2,    194.6,2,    196.8,2,     3.89,2,     7.34,2,     0.47,2,   -999.0,9,   7.8867,2,    25.00,  15.7719,20110128,1201
  29AH20110128,   A05,     4,  1,      6,2,20110128,1151, 27.7125, -13.5372,  992,    151.1,  16.8829,  36.3770,2,    200.0,2,    202.0,2,     3.36,2,     4.98,2,     0.37,2,   -999.0,9,   7.9134,2,    25.00,  16.8579,20110128,1202
  29AH20110128,   A05,     4,  1,      7,2,20110128,1151, 27.7125, -13.5372,  992,    125.6,  17.3646,  36.4335,2,    203.6,2,    205.5,2,     3.16,2,     4.09,2,     0.35,2,   -999.0,9,   7.9288,2,    25.00,  17.3434,20110128,1203
  29AH20110128,   A05,     4,  1,      8,2,20110128,1151, 27.7125, -13.5372,  992,    101.2,  17.8778,  36.5006,2,    200.2,2,    201.7,2,     3.16,2,     3.86,2,     0.35,2,   -999.0,9,   7.9435,2,    25.00,  17.8604,20110128,1204
  29AH20110128,   A05,     4,  1,      9,2,20110128,1151, 27.7125, -13.5372,  992,     75.1,  19.6572,  36.7572,2,    216.5,2,    219.5,2,     2.26,2,     0.56,2,     0.25,2,   -999.0,9,   7.9593,2,    25.00,  19.6434,20110128,1204
  29AH20110128,   A05,     4,  1,     10,2,20110128,1151, 27.7125, -13.5372,  992,     50.3,  19.8997,  36.8022,2,    220.4,2,    222.4,2,     2.13,2,     0.22,2,     0.25,2,   -999.0,9,   7.9742,2,    25.00,  19.8904,20110128,1205
  29AH20110128,   A05,     4,  1,     11,2,20110128,1151, 27.7125, -13.5372,  992,     25.0,  19.9760,  36.8120,2,    221.8,2,    223.5,2,     2.12,2,     0.19,2,     0.24,2,   -999.0,9,   7.9895,2,    25.00,  19.9714,20110128,1206
  29AH20110128,   A05,     4,  1,     12,2,20110128,1151, 27.7125, -13.5372,  992,      5.0,  20.0190,  36.8162,2,    222.9,2,    223.6,2,     2.12,2,     0.20,2,     0.23,2,   -999.0,9,   8.0015,2,    25.00,  20.0181,20110128,1206
  29AH20110128,   A05,     5,  1,      1,2,20110128,1338, 27.6760, -13.6555, 1082,   1072.3,   7.3557,  35.2530,2,    151.0,2,    151.8,2,  -999.00,9,  -999.00,9,  -999.00,9,   2335.3,2,   7.6581,2,    25.00,   7.2457,20110128,1338
  29AH20110128,   A05,     5,  1,      2,2,20110128,1338, 27.6760, -13.6555, 1082,   1000.9,   7.4192,  35.2444,2,    148.5,2,    148.4,2,  -999.00,9,  -999.00,9,  -999.00,9,   2333.3,2,   7.6527,2,    25.00,   7.3166,20110128,1340
  29AH20110128,   A05,     5,  1,      3,2,20110128,1338, 27.6760, -13.6555, 1082,    900.3,   8.0148,  35.2553,2,    137.7,2,    138.9,2,  -999.00,9,  -999.00,9,  -999.00,9,   2336.1,2,   7.6470,2,    25.00,   7.9191,20110128,1342
  29AH20110128,   A05,     5,  1,      4,2,20110128,1338, 27.6760, -13.6555, 1082,    800.2,   8.7410,  35.3042,2,    131.4,2,    132.6,2,  -999.00,9,  -999.00,9,  -999.00,9,   2330.9,2,   7.6481,2,    25.00,   8.6522,20110128,1345
  29AH20110128,   A05,     5,  1,      5,2,20110128,1338, 27.6760, -13.6555, 1082,    599.7,  10.6715,  35.4815,2,   -999.0,9,    145.3,2,  -999.00,9,  -999.00,9,  -999.00,9,   2336.2,2,   7.7023,2,    25.00,  10.5972,20110128,1348
  29AH20110128,   A05,     5,  1,      6,2,20110128,1338, 27.6760, -13.6555, 1082,    400.8,  13.1983,  35.8097,2,   -999.0,9,    179.7,2,  -999.00,9,  -999.00,9,  -999.00,9,   2351.0,2,   7.8018,2,    25.00,  13.1418,20110128,1352
  29AH20110128,   A05,     5,  1,      7,2,20110128,1338, 27.6760, -13.6555, 1082,    301.3,  14.2857,  35.9899,2,    181.9,2,    182.6,2,  -999.00,9,  -999.00,9,  -999.00,9,   2360.7,2,   7.8287,2,    25.00,  14.2410,20110128,1355
  29AH20110128,   A05,     5,  1,      8,2,20110128,1338, 27.6760, -13.6555, 1082,    200.7,  16.0776,  36.2686,2,    198.7,2,    199.5,2,  -999.00,9,  -999.00,9,  -999.00,9,   -999.0,9,   7.8918,2,    25.00,  16.0454,20110128,1357
  29AH20110128,   A05,     5,  1,      9,2,20110128,1338, 27.6760, -13.6555, 1082,    149.5,  17.0254,  36.3931,2,    202.8,2,    204.2,2,  -999.00,9,  -999.00,9,  -999.00,9,   2384.3,2,   7.9239,2,    25.00,  17.0005,20110128,1358
  29AH20110128,   A05,     5,  1,     10,2,20110128,1338, 27.6760, -13.6555, 1082,    124.5,  18.3321,  36.5517,2,    209.5,2,    210.9,2,  -999.00,9,  -999.00,9,  -999.00,9,   -999.0,9,   7.9383,2,    25.00,  18.3103,20110128,1359
  29AH20110128,   A05,     5,  1,     11,2,20110128,1338, 27.6760, -13.6555, 1082,    100.5,  19.8098,  36.7780,2,    218.0,2,    219.3,2,     2.53,2,     1.61,2,     0.30,2,   -999.0,9,   7.9521,2,    25.00,  19.7912,20110128,1359
  29AH20110128,   A05,     5,  1,     12,2,20110128,1338, 27.6760, -13.6555, 1082,     90.6,  20.0723,  36.8232,2,    220.3,2,    222.2,2,     2.52,2,     1.34,2,     0.25,2,   -999.0,9,   7.9578,2,    25.00,  20.0554,20110128,1400
  29AH20110128,   A05,     5,  1,     13,2,20110128,1338, 27.6760, -13.6555, 1082,     74.3,  20.1616,  36.8425,2,    221.7,2,    223.1,2,     2.54,2,     1.27,2,     0.25,2,   -999.0,9,   7.9672,2,    25.00,  20.1477,20110128,1401
  29AH20110128,   A05,     5,  1,     14,2,20110128,1338, 27.6760, -13.6555, 1082,     49.4,  20.1607,  36.8428,2,    221.9,2,    223.2,2,     2.53,2,     1.26,2,     0.23,2,   -999.0,9,   7.9815,2,    25.00,  20.1514,20110128,1401
  29AH20110128,   A05,     5,  1,     15,2,20110128,1338, 27.6760, -13.6555, 1082,     25.2,  20.1671,  36.8435,2,    222.5,2,    223.4,2,     2.55,2,     1.26,2,     0.24,2,   -999.0,9,   7.9955,2,    25.00,  20.1624,20110128,1402
  29AH20110128,   A05,     5,  1,     16,2,20110128,1338, 27.6760, -13.6555, 1082,      4.5,  20.2101,  36.8443,2,    222.6,2,    225.0,2,     2.56,2,     1.27,2,     0.23,2,   2414.9,2,   8.0074,2,    25.00,  20.2093,20110128,1403
  29AH20110128,   A05,     6,  1,      1,2,20110128,1556, 27.6297, -13.8283, 1446,   1435.9,   5.6657,  35.1824,2,   -999.0,9,    190.8,2,    21.97,2,    21.58,2,     1.51,2,   -999.0,9,   7.6940,2,    25.00,   5.5330,20110128,1556
  29AH20110128,   A05,     6,  1,      2,2,20110128,1556, 27.6297, -13.8283, 1446,   1299.1,   6.3389,  35.2333,2,   -999.0,9,    178.3,2,  -999.00,9,  -999.00,9,  -999.00,9,   -999.0,9,   7.6852,2,    25.00,   6.2135,20110128,1558
  29AH20110128,   A05,     6,  1,      3,2,20110128,1556, 27.6297, -13.8283, 1446,   1199.3,   6.8628,  35.2560,2,   -999.0,9,    169.0,2,    19.40,2,    22.72,2,     1.55,2,   -999.0,9,   7.6788,2,    25.00,   6.7432,20110128,1601
  29AH20110128,   A05,     6,  1,      4,2,20110128,1556, 27.6297, -13.8283, 1446,   1100.3,   6.9908,  35.2392,2,   -999.0,9,    161.8,2,    19.33,2,    23.24,2,     1.58,2,   -999.0,9,   7.6742,2,    25.00,   6.8807,20110128,1603
  29AH20110128,   A05,     6,  1,      5,2,20110128,1556, 27.6297, -13.8283, 1446,   1001.2,   7.5974,  35.2791,2,   -999.0,9,    156.8,2,    18.03,2,    23.20,2,     1.56,2,   -999.0,9,   7.6696,2,    25.00,   7.4934,20110128,1605
  29AH20110128,   A05,     6,  1,      6,2,20110128,1556, 27.6297, -13.8283, 1446,    900.8,   8.2406,  35.3093,2,   -999.0,9,    145.3,2,    17.18,2,    23.64,2,     1.59,2,   -999.0,9,   7.6576,2,    25.00,   8.1433,20110128,1607
  29AH20110128,   A05,     6,  1,      7,2,20110128,1556, 27.6297, -13.8283, 1446,    799.5,   8.6889,  35.2810,2,   -999.0,9,    133.3,2,    16.55,2,    24.55,2,  -999.00,9,   -999.0,9,   7.6455,2,    25.00,   8.6005,20110128,1609
  29AH20110128,   A05,     6,  1,      8,2,20110128,1556, 27.6297, -13.8283, 1446,    600.5,  10.9178,  35.5168,2,   -999.0,9,    155.8,2,    10.81,2,    18.95,2,  -999.00,9,   -999.0,9,   7.7204,2,    25.00,  10.8423,20110128,1613
  29AH20110128,   A05,     6,  1,      9,2,20110128,1556, 27.6297, -13.8283, 1446,    400.2,  13.2395,  35.8189,2,   -999.0,9,    176.8,2,     6.64,2,    12.91,2,  -999.00,9,   -999.0,9,   7.8053,2,    25.00,  13.1829,20110128,1617
  29AH20110128,   A05,     6,  1,     10,2,20110128,1556, 27.6297, -13.8283, 1446,    300.3,  14.1011,  35.9540,2,   -999.0,9,    184.8,2,     5.73,2,    11.15,2,  -999.00,9,   -999.0,9,   7.8213,2,    25.00,  14.0570,20110128,1619
  29AH20110128,   A05,     6,  1,     11,2,20110128,1556, 27.6297, -13.8283, 1446,    200.1,  15.9339,  36.2558,2,    193.3,2,    197.4,2,     4.07,2,     7.13,2,     0.43,2,   -999.0,9,   7.8888,2,    25.00,  15.9020,20110128,1621
  29AH20110128,   A05,     6,  1,     12,2,20110128,1556, 27.6297, -13.8283, 1446,    151.1,  16.7984,  36.3652,2,    202.6,2,    205.9,2,     3.23,2,     4.53,2,     0.33,2,   -999.0,9,   7.9217,2,    25.00,  16.7735,20110128,1622
  29AH20110128,   A05,     6,  1,     13,2,20110128,1556, 27.6297, -13.8283, 1446,    125.7,  17.8117,  36.4848,2,    204.6,2,    208.9,2,     3.05,2,     3.47,2,     0.31,2,   -999.0,9,   7.9341,2,    25.00,  17.7901,20110128,1623
  29AH20110128,   A05,     6,  1,     14,2,20110128,1556, 27.6297, -13.8283, 1446,    100.5,  19.5063,  36.7316,2,    214.8,2,    218.3,2,     2.40,2,     1.36,2,     0.25,2,   -999.0,9,   7.9463,2,    25.00,  19.4879,20110128,1624
  29AH20110128,   A05,     6,  1,     15,2,20110128,1556, 27.6297, -13.8283, 1446,     75.2,  19.8079,  36.7840,2,    218.1,2,    221.7,2,     2.26,2,     0.71,2,     0.23,2,   -999.0,9,   7.9585,2,    25.00,  19.7940,20110128,1624
  29AH20110128,   A05,     6,  1,     16,2,20110128,1556, 27.6297, -13.8283, 1446,     40.8,  19.9597,  36.8060,2,    222.5,2,    224.0,2,     2.12,2,     0.42,2,     0.22,2,   -999.0,9,   7.9752,2,    25.00,  19.9521,20110128,1625
  29AH20110128,   A05,     6,  1,     17,2,20110128,1556, 27.6297, -13.8283, 1446,     20.8,  19.9736,  36.8076,2,    223.8,2,    224.5,2,     2.13,2,     0.42,2,     0.23,2,   -999.0,9,   7.9849,2,    25.00,  19.9697,20110128,1626
  29AH20110128,   A05,     6,  1,     18,2,20110128,1556, 27.6297, -13.8283, 1446,      5.4,  20.1818,  36.8120,2,    224.4,2,    227.5,2,     2.18,2,     0.43,2,     0.23,2,   -999.0,9,   7.9924,2,    25.00,  20.1808,20110128,1626