BOTTLE,20220930CCHSIOAMB
EXPOCODE,SECT_ID,STNNBR,CASTNO,BTLNBR,BTLNBR_FLAG_W,DATE,TIME,LATITUDE,LONGITUDE,DEPTH,CTDPRS,CTDTMP,CTDSAL,CTDSAL_FLAG_W,CTDOXY,CTDOXY_FLAG_W,OXYGEN,OXYGEN_FLAG_W,SILCAT,SILCAT_FLAG_W,NITRAT,NITRAT_FLAG_W,PHSPHT,PHSPHT_FLAG_W,ALKALI,ALKALI_FLAG_W,PH_SWS,PH_SWS_FLAG_W,PH_TMP,THETA,BTL_DATE,BTL_TIME
,,,,,,,,,,METERS,DBAR,ITS-90,PSS-78,,UMOL/KG,,UMOL/KG,,UMOL/KG,,UMOL/KG,,UMOL/KG,,UMOL/KG,,,,DEG C,DEG C,,
  29AH20110128,   A05,    56,  1,      1,2,20110212,1752, 24.4992, -37.5682, 5934,   5923.6,   2.4639,  34.8786,2,    247.1,2,    248.9,2,    49.89,2,    21.05,2,     1.48,2,   -999.0,9,   7.7153,2,    25.00,   1.8735,20110212,1752
  29AH20110128,   A05,    56,  1,      2,2,20110212,1752, 24.4992, -37.5682, 5934,   5501.5,   2.4082,  34.8795,2,    246.4,2,    247.0,2,    49.80,2,    21.03,2,     1.48,2,   -999.0,9,   7.7167,2,    25.00,   1.8769,20110212,1800
  29AH20110128,   A05,    56,  1,      3,2,20110212,1752, 24.4992, -37.5682, 5934,   4999.6,   2.3935,  34.8851,2,    246.2,2,    247.1,2,    47.35,2,    21.08,2,     1.51,2,   -999.0,9,   7.7203,2,    25.00,   1.9277,20110212,1810
  29AH20110128,   A05,    56,  1,      4,2,20110212,1752, 24.4992, -37.5682, 5934,   4499.0,   2.3922,  34.8919,2,    244.8,2,    245.8,2,    47.18,2,    20.76,2,     1.46,2,   -999.0,9,   7.7206,2,    25.00,   1.9883,20110212,1819
  29AH20110128,   A05,    56,  1,      5,2,20110212,1752, 24.4992, -37.5682, 5934,   3999.0,   2.4450,  34.9028,2,    244.3,2,    245.7,2,    45.24,2,    20.74,2,     1.48,2,   -999.0,9,   7.7211,2,    25.00,   2.0983,20110212,1829
  29AH20110128,   A05,    56,  1,      6,2,20110212,1752, 24.4992, -37.5682, 5934,   3500.0,   2.5659,  34.9189,2,    242.2,2,    244.8,2,    41.59,2,    20.60,2,     1.44,2,   -999.0,9,   7.7254,2,    25.00,   2.2717,20110212,1838
  29AH20110128,   A05,    56,  1,      7,2,20110212,1752, 24.4992, -37.5682, 5934,   3002.0,   2.7868,  34.9421,2,    241.1,2,    241.9,2,  -999.00,9,  -999.00,9,  -999.00,9,   -999.0,9,   7.7242,2,    25.00,   2.5404,20110212,1848
  29AH20110128,   A05,    56,  1,      8,2,20110212,1752, 24.4992, -37.5682, 5934,   2500.9,   3.2006,  34.9776,2,    240.6,2,    244.3,2,    30.59,2,    19.39,2,     1.36,2,   -999.0,9,   7.7230,2,    25.00,   2.9967,20110212,1858
  29AH20110128,   A05,    56,  1,      9,2,20110212,1752, 24.4992, -37.5682, 5934,   2000.1,   3.8431,  35.0220,2,    236.1,2,    239.8,2,    23.97,2,    19.45,2,     1.28,2,   -999.0,9,   7.7185,2,    25.00,   3.6777,20110212,1907
  29AH20110128,   A05,    56,  1,     10,2,20110212,1752, 24.4992, -37.5682, 5934,   1749.1,   4.3404,  35.0546,2,    229.5,2,    232.2,2,    20.92,2,    19.49,2,     1.29,2,   -999.0,9,   7.7110,2,    25.00,   4.1924,20110212,1912
  29AH20110128,   A05,    56,  1,     11,2,20110212,1752, 24.4992, -37.5682, 5934,   1500.5,   5.0763,  35.1046,2,    217.4,2,    218.9,2,  -999.00,9,  -999.00,9,  -999.00,9,   -999.0,9,   7.7038,2,    25.00,   4.9436,20110212,1917
  29AH20110128,   A05,    56,  1,     12,2,20110212,1752, 24.4992, -37.5682, 5934,   1299.8,   5.6642,  35.1041,2,    200.1,2,    201.0,2,    18.43,2,    21.26,2,     1.45,2,   -999.0,9,   7.6859,2,    25.00,   5.5454,20110212,1922
  29AH20110128,   A05,    56,  1,     13,2,20110212,1752, 24.4992, -37.5682, 5934,   1199.5,   5.9666,  35.0760,2,    186.6,2,    186.8,2,    19.34,2,    22.60,2,     1.58,2,   -999.0,9,   7.6718,2,    25.00,   5.8552,20110212,1924
  29AH20110128,   A05,    56,  1,     14,2,20110212,1752, 24.4992, -37.5682, 5934,    997.5,   6.8660,  35.0920,2,    161.1,2,    161.3,2,    19.85,2,    24.17,2,     1.75,2,   -999.0,9,   7.6555,2,    25.00,   6.7680,20110212,1927
  29AH20110128,   A05,    56,  1,     15,2,20110212,1752, 24.4992, -37.5682, 5934,    801.2,   9.0514,  35.2915,2,    147.9,2,    149.2,2,    15.25,2,    22.59,2,     1.49,2,   -999.0,9,   7.6782,2,    25.00,   8.9607,20110212,1931
  29AH20110128,   A05,    56,  1,     16,2,20110212,1752, 24.4992, -37.5682, 5934,    600.8,  11.7478,  35.5959,2,    159.6,2,    160.0,2,  -999.00,9,  -999.00,9,  -999.00,9,   -999.0,9,   7.7625,2,    25.00,  11.6687,20110212,1935
  29AH20110128,   A05,    56,  1,     17,2,20110212,1752, 24.4992, -37.5682, 5934,    400.7,  15.0818,  36.0709,2,    176.0,2,    177.1,2,     4.43,2,    10.32,2,     0.49,2,   -999.0,9,   7.8467,2,    25.00,  15.0200,20110212,1939
  29AH20110128,   A05,    56,  1,     18,2,20110212,1752, 24.4992, -37.5682, 5934,    300.3,  17.0234,  36.4138,2,    182.7,2,    183.1,2,     2.95,2,     6.86,2,     0.27,2,   -999.0,9,   7.9044,2,    25.00,  16.9732,20110212,1941
  29AH20110128,   A05,    56,  1,     19,2,20110212,1752, 24.4992, -37.5682, 5934,    290.7,  17.4218,  36.4891,2,    183.2,2,    183.8,2,  -999.00,9,  -999.00,9,  -999.00,9,   -999.0,9,   8.0075,2,    25.00,  17.3724,20110212,1944
  29AH20110128,   A05,    56,  1,     20,2,20110212,1752, 24.4992, -37.5682, 5934,    151.1,  21.5245,  37.1744,2,    197.5,2,    198.0,2,     1.32,2,     0.17,2,     0.03,2,   -999.0,9,   8.0570,2,    25.00,  21.4948,20110212,1947
  29AH20110128,   A05,    56,  1,     21,2,20110212,1752, 24.4992, -37.5682, 5934,    124.9,  23.2210,  37.5348,2,    209.1,2,    210.9,2,     1.32,2,     0.16,2,     0.03,2,   -999.0,9,   8.0565,2,    25.00,  23.1950,20110212,1948
  29AH20110128,   A05,    56,  1,     22,2,20110212,1752, 24.4992, -37.5682, 5934,     74.9,  23.2216,  37.5358,2,    209.3,2,    212.1,2,     1.29,2,     0.17,2,     0.06,2,   -999.0,9,   8.0575,2,    25.00,  23.2061,20110212,1949
  29AH20110128,   A05,    56,  1,     23,2,20110212,1752, 24.4992, -37.5682, 5934,     48.6,  23.2182,  37.5342,2,    209.7,2,    211.9,2,     1.32,2,     0.17,2,     0.04,2,   -999.0,9,   8.0578,2,    25.00,  23.2081,20110212,1950
  29AH20110128,   A05,    56,  1,     24,2,20110212,1752, 24.4992, -37.5682, 5934,     26.1,  23.2299,  37.5340,2,    210.2,2,    210.6,2,     1.35,2,     0.17,2,     0.06,2,   -999.0,9,   8.0566,2,    25.00,  23.2245,20110212,1950
  29AH20110128,   A05,    56,  1,     25,2,20110212,1752, 24.4992, -37.5682, 5934,      5.7,  23.2616,  37.5362,2,    210.3,2,    210.8,2,  -999.00,9,  -999.00,9,  -999.00,9,   -999.0,9,   8.0568,2,    25.00,  23.2604,20110212,1951
  29AH20110128,   A05,    57,  1,      1,2,20110213,0042, 24.5005, -38.0295, 5180,   5169.7,   2.3901,  34.8820,2,    245.9,2,    246.6,2,    48.81,2,    20.92,2,     1.51,2,   -999.0,9,   7.7146,2,    25.00,   1.9027,20110213,0042
  29AH20110128,   A05,    57,  1,      2,2,20110213,0042, 24.5005, -38.0295, 5180,   4999.0,   2.3857,  34.8840,2,    246.0,2,    246.4,2,    47.71,2,    20.73,2,     1.48,2,   -999.0,9,   7.7185,2,    25.00,   1.9202,20110213,0045
  29AH20110128,   A05,    57,  1,      3,2,20110213,0042, 24.5005, -38.0295, 5180,   4497.6,   2.3836,  34.8906,2,    245.9,2,    245.1,2,    47.32,2,    20.80,2,     1.48,2,   -999.0,9,   7.7216,2,    25.00,   1.9801,20110213,0055
  29AH20110128,   A05,    57,  1,      4,2,20110213,0042, 24.5005, -38.0295, 5180,   4000.1,   2.4386,  34.9019,2,    245.1,2,    244.6,2,    44.99,2,    20.55,2,     1.45,2,   -999.0,9,   7.7241,2,    25.00,   2.0920,20110213,0105
  29AH20110128,   A05,    57,  1,      5,2,20110213,0042, 24.5005, -38.0295, 5180,   3500.9,   2.5596,  34.9184,2,    243.4,2,    243.0,2,  -999.00,9,  -999.00,9,  -999.00,9,   -999.0,9,   7.7261,2,    25.00,   2.2655,20110213,0114
  29AH20110128,   A05,    57,  1,      6,2,20110213,0042, 24.5005, -38.0295, 5180,   2999.2,   2.8004,  34.9428,2,    242.2,2,    241.7,2,    36.07,2,    19.60,2,     1.38,2,   -999.0,9,   7.7280,2,    25.00,   2.5540,20110213,0124
  29AH20110128,   A05,    57,  1,      7,2,20110213,0042, 24.5005, -38.0295, 5180,   2499.8,   3.1866,  34.9740,2,    241.5,2,    241.9,2,    30.61,2,    19.54,2,     1.31,2,   -999.0,9,   7.7272,2,    25.00,   2.9831,20110213,0134
  29AH20110128,   A05,    57,  1,      8,2,20110213,0042, 24.5005, -38.0295, 5180,   2002.4,   3.8208,  35.0229,2,    237.2,2,    239.3,2,    23.86,2,    19.19,2,     1.27,2,   -999.0,9,   7.7265,2,    25.00,   3.6555,20110213,0143
  29AH20110128,   A05,    57,  1,      9,2,20110213,0042, 24.5005, -38.0295, 5180,   1751.8,   4.4030,  35.0701,2,    229.9,2,    232.1,2,    20.88,2,    19.27,2,     1.27,2,   -999.0,9,   7.7232,2,    25.00,   4.2538,20110213,0148
  29AH20110128,   A05,    57,  1,     10,2,20110213,0042, 24.5005, -38.0295, 5180,   1501.4,   5.0092,  35.1043,2,    219.6,2,    221.0,2,    18.78,2,    19.80,2,     1.30,2,   -999.0,9,   7.7155,2,    25.00,   4.8772,20110213,0153
  29AH20110128,   A05,    57,  1,     11,2,20110213,0042, 24.5005, -38.0295, 5180,   1302.2,   5.6747,  35.1041,2,    200.4,2,    200.5,2,    18.45,2,    21.03,2,     1.46,2,   -999.0,9,   7.6959,2,    25.00,   5.5556,20110213,0157
  29AH20110128,   A05,    57,  1,     12,2,20110213,0042, 24.5005, -38.0295, 5180,   1201.2,   5.9004,  35.0944,2,    191.5,2,    191.7,2,    18.86,2,    21.89,2,     1.52,2,   -999.0,9,   7.6860,2,    25.00,   5.7894,20110213,0200
  29AH20110128,   A05,    57,  1,     13,2,20110213,0042, 24.5005, -38.0295, 5180,   1001.3,   6.7456,  35.0923,2,    164.8,2,    164.6,2,    19.51,2,    23.72,2,     1.70,2,   -999.0,9,   7.6631,2,    25.00,   6.6481,20110213,0204
  29AH20110128,   A05,    57,  1,     14,2,20110213,0042, 24.5005, -38.0295, 5180,    901.1,   7.6190,  35.1522,2,    152.9,2,    153.2,2,    17.00,2,    23.66,2,     1.69,2,   -999.0,9,   7.6619,2,    25.00,   7.5260,20110213,0206
  29AH20110128,   A05,    57,  1,     15,2,20110213,0042, 24.5005, -38.0295, 5180,    800.2,   8.9484,  35.2876,2,    147.4,2,    147.5,2,    15.53,2,    22.66,2,     1.52,2,   -999.0,9,   7.6811,2,    25.00,   8.8584,20110213,0208
  29AH20110128,   A05,    57,  1,     16,2,20110213,0042, 24.5005, -38.0295, 5180,    600.7,  11.8950,  35.6186,2,    161.8,2,    163.2,2,     8.15,2,    16.21,2,     0.91,2,   -999.0,9,   7.7619,2,    25.00,  11.8153,20110213,0212
  29AH20110128,   A05,    57,  1,     17,2,20110213,0042, 24.5005, -38.0295, 5180,    400.2,  15.1328,  36.0618,2,    188.5,2,    190.2,2,     4.12,2,     8.85,2,     0.41,2,   -999.0,9,   7.8756,2,    25.00,  15.0709,20110213,0216
  29AH20110128,   A05,    57,  1,     18,2,20110213,0042, 24.5005, -38.0295, 5180,    300.4,  16.6316,  36.3206,2,    196.5,2,    196.9,2,     2.95,2,     6.24,2,     0.24,2,   -999.0,9,   7.9178,2,    25.00,  16.5822,20110213,0218
  29AH20110128,   A05,    57,  1,     19,2,20110213,0042, 24.5005, -38.0295, 5180,    150.9,  20.2548,  36.9242,2,    198.8,2,    198.6,2,     1.52,2,     0.78,2,     0.07,2,   -999.0,9,   7.9805,2,    25.00,  20.2264,20110213,0221
  29AH20110128,   A05,    57,  1,     20,2,20110213,0042, 24.5005, -38.0295, 5180,    125.7,  22.3793,  37.3743,2,    213.1,2,    213.2,2,     1.36,2,     0.14,2,     0.07,2,   -999.0,9,   8.0493,2,    25.00,  22.3539,20110213,0223
  29AH20110128,   A05,    57,  1,     21,2,20110213,0042, 24.5005, -38.0295, 5180,     74.9,  22.7460,  37.4880,2,    213.0,2,    213.5,2,     1.34,2,     0.13,2,     0.07,2,   -999.0,9,   8.0547,2,    25.00,  22.7307,20110213,0224
  29AH20110128,   A05,    57,  1,     22,2,20110213,0042, 24.5005, -38.0295, 5180,     51.0,  22.7691,  37.4917,2,    212.9,2,    212.6,2,     1.34,2,     0.13,2,     0.07,2,   -999.0,9,   8.0538,2,    25.00,  22.7586,20110213,0225
  29AH20110128,   A05,    57,  1,     23,2,20110213,0042, 24.5005, -38.0295, 5180,     25.5,  22.8024,  37.4944,2,    212.9,2,    213.3,2,     1.35,2,     0.13,2,     0.07,2,   -999.0,9,   8.0522,2,    25.00,  22.7972,20110213,0225
  29AH20110128,   A05,    57,  1,     24,2,20110213,0042, 24.5005, -38.0295, 5180,      5.1,  22.8283,  37.5012,2,    212.8,2,    212.4,2,     1.35,2,     0.15,2,     0.08,2,   -999.0,9,   8.0544,2,    25.00,  22.8273,20110213,0226
  29AH20110128,   A05,    58,  1,      1,2,20110213,0703, 24.5003, -38.4917, 5055,   5045.0,   2.3878,  34.8835,2,    246.5,2,    246.2,2,    49.42,2,    21.43,3,     1.49,2,   2350.0,2,   7.7191,2,    25.00,   1.9164,20110213,0703
  29AH20110128,   A05,    58,  1,      2,2,20110213,0703, 24.5003, -38.4917, 5055,   4501.9,   2.3904,  34.8913,2,    246.2,2,    245.1,2,    47.88,2,    21.48,3,     1.46,2,   2350.7,2,   7.7222,2,    25.00,   1.9862,20110213,0714
  29AH20110128,   A05,    58,  1,      3,2,20110213,0703, 24.5003, -38.4917, 5055,   4000.0,   2.4393,  34.9019,2,    245.4,2,    245.0,2,    45.22,2,    21.30,3,     1.42,2,   2349.6,2,   7.7245,2,    25.00,   2.0927,20110213,0723
  29AH20110128,   A05,    58,  1,      4,2,20110213,0703, 24.5003, -38.4917, 5055,   3501.4,   2.5604,  34.9185,2,    243.3,2,    244.0,2,    40.28,2,    20.95,3,     1.44,2,   2350.7,2,   7.7253,2,    25.00,   2.2662,20110213,0733
  29AH20110128,   A05,    58,  1,      5,2,20110213,0703, 24.5003, -38.4917, 5055,   3000.6,   2.8126,  34.9436,2,    242.0,2,    242.4,2,    36.76,2,    20.54,3,     1.40,2,   2343.3,2,   7.7273,2,    25.00,   2.5657,20110213,0743
  29AH20110128,   A05,    58,  1,      6,2,20110213,0703, 24.5003, -38.4917, 5055,   2499.7,   3.1821,  34.9731,2,    241.0,2,    242.2,2,    30.59,2,    20.11,3,     1.34,2,   2334.1,2,   7.7268,2,    25.00,   2.9787,20110213,0752
  29AH20110128,   A05,    58,  1,      7,2,20110213,0703, 24.5003, -38.4917, 5055,   2001.6,   3.7939,  35.0174,2,    237.1,2,    237.8,2,    24.40,2,    19.84,3,     1.30,2,   2328.9,2,   7.7250,2,    25.00,   3.6291,20110213,0802
  29AH20110128,   A05,    58,  1,      8,2,20110213,0703, 24.5003, -38.4917, 5055,   1749.9,   4.3067,  35.0535,2,    229.9,2,    231.5,2,    21.31,2,    19.88,3,     1.31,2,   2327.6,2,   7.7204,2,    25.00,   4.1590,20110213,0807
  29AH20110128,   A05,    58,  1,      9,2,20110213,0703, 24.5003, -38.4917, 5055,   1500.2,   4.8426,  35.0769,2,    220.7,2,    221.1,2,    19.46,2,    19.84,3,     1.34,2,   2326.4,2,   7.7118,2,    25.00,   4.7126,20110213,0812
  29AH20110128,   A05,    58,  1,     10,2,20110213,0703, 24.5003, -38.4917, 5055,   1300.2,   5.4566,  35.0875,2,    205.7,2,    205.6,2,    18.72,2,    19.88,3,     1.44,2,   2324.0,2,   7.6944,2,    25.00,   5.3398,20110213,0816
  29AH20110128,   A05,    58,  1,     11,2,20110213,0703, 24.5003, -38.4917, 5055,   1200.3,   5.7603,  35.0816,2,    194.3,2,    194.4,2,    19.15,2,    20.41,3,     1.55,2,   2325.2,2,   7.6808,2,    25.00,   5.6506,20110213,0818
  29AH20110128,   A05,    58,  1,     12,2,20110213,0703, 24.5003, -38.4917, 5055,   1100.4,   6.0544,  35.0686,2,    182.4,2,    182.1,2,    19.33,2,    21.43,3,     1.62,2,   -999.0,9,   7.6680,2,    25.00,   5.9522,20110213,0820
  29AH20110128,   A05,    58,  1,     13,2,20110213,0703, 24.5003, -38.4917, 5055,   1000.7,   6.7565,  35.0863,2,    164.5,2,    163.9,2,    19.46,2,    22.54,3,     1.70,2,   2325.0,2,   7.6568,2,    25.00,   6.6590,20110213,0823
  29AH20110128,   A05,    58,  1,     14,2,20110213,0703, 24.5003, -38.4917, 5055,    902.3,   7.6061,  35.1523,2,    154.5,2,    154.4,2,    18.66,2,    23.73,3,     1.70,2,   2327.1,2,   7.6595,2,    25.00,   7.5131,20110213,0825
  29AH20110128,   A05,    58,  1,     15,2,20110213,0703, 24.5003, -38.4917, 5055,    800.8,   8.8925,  35.2776,2,    149.0,2,    149.4,2,    15.82,2,    24.97,3,     1.47,2,   2328.2,2,   7.6745,2,    25.00,   8.8028,20110213,0827
  29AH20110128,   A05,    58,  1,     16,2,20110213,0703, 24.5003, -38.4917, 5055,    599.8,  11.8478,  35.6111,2,    165.9,2,    166.1,2,     8.66,2,  -999.00,9,     0.87,2,   2338.8,2,   7.7608,2,    25.00,  11.7684,20110213,0831
  29AH20110128,   A05,    58,  1,     17,2,20110213,0703, 24.5003, -38.4917, 5055,    400.0,  15.3969,  36.1149,2,    189.3,2,    190.4,2,     4.02,2,  -999.00,9,     0.37,2,   2369.4,2,   7.8769,2,    25.00,  15.3343,20110213,0835
  29AH20110128,   A05,    58,  1,     18,2,20110213,0703, 24.5003, -38.4917, 5055,    299.9,  17.0979,  36.3943,2,    203.0,2,    204.3,2,     2.79,2,  -999.00,9,  -999.00,9,   2381.4,2,   7.9333,2,    25.00,  17.0476,20110213,0837
  29AH20110128,   A05,    58,  1,     19,2,20110213,0703, 24.5003, -38.4917, 5055,    149.9,  19.3318,  36.7607,2,    198.1,2,    198.7,2,  -999.00,9,  -999.00,9,  -999.00,9,   -999.0,9,   7.9662,2,    25.00,  19.3045,20110213,0840
  29AH20110128,   A05,    58,  1,     20,2,20110213,0703, 24.5003, -38.4917, 5055,    124.6,  20.9033,  37.0433,2,    204.8,2,    204.8,2,     1.55,2,  -999.00,9,     0.05,2,   2424.7,2,   8.0077,2,    25.00,  20.8793,20110213,0841
  29AH20110128,   A05,    58,  1,     21,2,20110213,0703, 24.5003, -38.4917, 5055,     76.8,  23.0393,  37.5203,2,    211.0,2,    211.9,2,     1.49,2,  -999.00,9,     0.05,2,   2453.7,2,   8.0578,2,    25.00,  23.0234,20110213,0843
  29AH20110128,   A05,    58,  1,     22,2,20110213,0703, 24.5003, -38.4917, 5055,     48.8,  23.0484,  37.5240,2,    210.8,2,    211.2,2,     1.43,2,     0.22,2,     0.05,2,   -999.0,9,   8.0544,2,    25.00,  23.0383,20110213,0843
  29AH20110128,   A05,    58,  1,     23,2,20110213,0703, 24.5003, -38.4917, 5055,     25.5,  23.0430,  37.5241,2,    211.2,2,    211.4,2,     1.43,2,     0.00,2,     0.05,2,   -999.0,9,   8.0569,2,    25.00,  23.0377,20110213,0844
  29AH20110128,   A05,    58,  1,     24,2,20110213,0703, 24.5003, -38.4917, 5055,      4.9,  23.0356,  37.5242,2,    211.3,2,    210.7,2,     1.43,2,     0.00,2,     0.05,2,   2460.7,2,   8.0580,2,    25.00,  23.0346,20110213,0845