BOTTLE,20220930CCHSIOAMB
EXPOCODE,SECT_ID,STNNBR,CASTNO,BTLNBR,BTLNBR_FLAG_W,DATE,TIME,LATITUDE,LONGITUDE,DEPTH,CTDPRS,CTDTMP,CTDSAL,CTDSAL_FLAG_W,CTDOXY,CTDOXY_FLAG_W,OXYGEN,OXYGEN_FLAG_W,SILCAT,SILCAT_FLAG_W,NITRAT,NITRAT_FLAG_W,PHSPHT,PHSPHT_FLAG_W,ALKALI,ALKALI_FLAG_W,PH_SWS,PH_SWS_FLAG_W,PH_TMP,THETA,BTL_DATE,BTL_TIME
,,,,,,,,,,METERS,DBAR,ITS-90,PSS-78,,UMOL/KG,,UMOL/KG,,UMOL/KG,,UMOL/KG,,UMOL/KG,,UMOL/KG,,,,DEG C,DEG C,,
  29AH20110128,   A05,    65,  1,      1,2,20110215,1530, 24.5012, -41.7243, 4880,   4869.8,   2.4265,  34.8889,2,    247.3,2,    247.1,2,    44.25,2,    21.51,2,     1.45,2,   -999.0,9,   7.7257,2,    25.00,   1.9759,20110215,1530
  29AH20110128,   A05,    65,  1,      2,2,20110215,1530, 24.5012, -41.7243, 4880,   4498.6,   2.4277,  34.8938,2,    247.0,2,    247.2,2,  -999.00,9,  -999.00,9,  -999.00,9,   -999.0,9,   7.7262,2,    25.00,   2.0227,20110215,1537
  29AH20110128,   A05,    65,  1,      3,2,20110215,1530, 24.5012, -41.7243, 4880,   3999.9,   2.4133,  34.8983,2,    247.0,2,    246.9,2,    43.00,2,    21.35,2,     1.48,2,   -999.0,9,   7.7268,2,    25.00,   2.0674,20110215,1547
  29AH20110128,   A05,    65,  1,      4,2,20110215,1530, 24.5012, -41.7243, 4880,   3500.8,   2.5500,  34.9156,2,    246.0,2,    246.4,2,    39.39,2,    21.15,2,     1.43,2,   -999.0,9,   7.7278,2,    25.00,   2.2562,20110215,1557
  29AH20110128,   A05,    65,  1,      5,2,20110215,1530, 24.5012, -41.7243, 4880,   3000.3,   2.8167,  34.9430,2,    243.8,2,    245.2,2,    35.57,2,    20.57,2,     1.39,2,   -999.0,9,   7.7276,2,    25.00,   2.5698,20110215,1606
  29AH20110128,   A05,    65,  1,      6,2,20110215,1530, 24.5012, -41.7243, 4880,   2500.6,   3.1877,  34.9736,2,    243.0,2,    243.3,2,    28.20,2,    22.60,4,     1.46,3,   -999.0,9,   7.7287,2,    25.00,   2.9841,20110215,1616
  29AH20110128,   A05,    65,  1,      7,2,20110215,1530, 24.5012, -41.7243, 4880,   2000.4,   3.8310,  35.0185,2,    239.8,2,    240.7,2,    22.94,2,    19.82,2,     1.24,2,   -999.0,9,   7.7298,2,    25.00,   3.6658,20110215,1626
  29AH20110128,   A05,    65,  1,      8,2,20110215,1530, 24.5012, -41.7243, 4880,   1751.4,   4.3132,  35.0534,2,    233.8,2,    235.1,2,    19.96,2,    19.83,2,     1.26,2,   -999.0,9,   7.7295,2,    25.00,   4.1653,20110215,1631
  29AH20110128,   A05,    65,  1,      9,2,20110215,1530, 24.5012, -41.7243, 4880,   1500.0,   5.0556,  35.0946,2,    218.9,2,    219.7,2,    18.23,2,    20.24,2,     1.32,2,   -999.0,9,   7.7172,2,    25.00,   4.9232,20110215,1636
  29AH20110128,   A05,    65,  1,     10,2,20110215,1530, 24.5012, -41.7243, 4880,   1299.7,   5.4631,  35.0741,2,    203.3,2,    204.0,2,    18.30,2,    21.98,2,     1.41,2,   -999.0,9,   7.6956,2,    25.00,   5.3463,20110215,1640
  29AH20110128,   A05,    65,  1,     11,2,20110215,1530, 24.5012, -41.7243, 4880,   1201.1,   5.8007,  35.0589,2,    190.4,2,    190.8,2,    19.12,2,    23.18,2,     1.68,2,   -999.0,9,   7.6793,2,    25.00,   5.6906,20110215,1642
  29AH20110128,   A05,    65,  1,     12,2,20110215,1530, 24.5012, -41.7243, 4880,   1100.6,   6.2145,  35.0563,2,    177.4,2,    177.1,2,    19.19,2,    20.13,3,     1.69,2,   -999.0,9,   7.6668,2,    25.00,   6.1110,20110215,1644
  29AH20110128,   A05,    65,  1,     13,2,20110215,1530, 24.5012, -41.7243, 4880,   1001.0,   6.7597,  35.0769,2,    163.5,2,    163.0,2,    19.12,2,    20.79,3,     1.71,2,   -999.0,9,   7.6572,2,    25.00,   6.6622,20110215,1647
  29AH20110128,   A05,    65,  1,     14,2,20110215,1530, 24.5012, -41.7243, 4880,    900.5,   7.8640,  35.1869,2,    156.1,2,    156.1,2,    17.11,2,    19.92,3,     1.54,2,   -999.0,9,   7.6735,2,    25.00,   7.7694,20110215,1649
  29AH20110128,   A05,    65,  1,     15,2,20110215,1530, 24.5012, -41.7243, 4880,    799.2,   9.1735,  35.3040,2,    151.8,2,    151.3,2,    14.41,2,    18.44,2,     1.34,2,   -999.0,9,   7.6897,2,    25.00,   9.0823,20110215,1651
  29AH20110128,   A05,    65,  1,     16,2,20110215,1530, 24.5012, -41.7243, 4880,    600.8,  12.3493,  35.6670,2,    173.6,2,    174.0,2,     7.12,2,    15.31,3,     0.77,2,   -999.0,9,   7.7778,2,    25.00,  12.2676,20110215,1655
  29AH20110128,   A05,    65,  1,     17,2,20110215,1530, 24.5012, -41.7243, 4880,    403.1,  15.2725,  36.0947,2,    185.3,2,    187.3,2,     3.58,2,     9.28,2,  -999.00,9,   -999.0,9,   7.8831,2,    25.00,  15.2098,20110215,1659
  29AH20110128,   A05,    65,  1,     18,2,20110215,1530, 24.5012, -41.7243, 4880,    302.2,  17.3611,  36.4628,2,    187.9,2,    188.7,2,     2.26,2,     6.15,2,  -999.00,9,   -999.0,9,   7.9273,2,    25.00,  17.3099,20110215,1701
  29AH20110128,   A05,    65,  1,     19,2,20110215,1530, 24.5012, -41.7243, 4880,    153.4,  22.1746,  37.2936,2,    206.3,2,    209.2,2,     0.87,2,     0.29,2,     0.05,2,   -999.0,9,   8.0349,2,    25.00,  22.1437,20110215,1704
  29AH20110128,   A05,    65,  1,     20,2,20110215,1530, 24.5012, -41.7243, 4880,    125.8,  22.7096,  37.4055,2,    211.0,2,    211.1,2,     0.87,2,     0.22,2,     0.05,2,   -999.0,9,   8.0582,2,    25.00,  22.6839,20110215,1704
  29AH20110128,   A05,    65,  1,     21,2,20110215,1530, 24.5012, -41.7243, 4880,     75.4,  22.8843,  37.4582,2,    212.3,2,    212.5,2,     0.87,2,     0.22,2,     0.05,2,   -999.0,9,   8.0688,2,    25.00,  22.8688,20110215,1705
  29AH20110128,   A05,    65,  1,     22,2,20110215,1530, 24.5012, -41.7243, 4880,     51.0,  22.8833,  37.4588,2,    212.4,2,    211.8,2,     0.87,2,     0.22,2,     0.05,2,   -999.0,9,   8.0508,2,    25.00,  22.8728,20110215,1706
  29AH20110128,   A05,    65,  1,     23,2,20110215,1530, 24.5012, -41.7243, 4880,     24.5,  22.8937,  37.4620,2,    212.6,2,    212.7,2,     0.86,2,     0.22,2,     0.05,2,   -999.0,9,   8.0573,2,    25.00,  22.8887,20110215,1707
  29AH20110128,   A05,    65,  1,     24,2,20110215,1530, 24.5012, -41.7243, 4880,      5.7,  22.8880,  37.4611,2,    213.0,2,    211.9,2,     0.86,2,     0.23,2,     0.05,2,   -999.0,9,   8.0587,2,    25.00,  22.8868,20110215,1707
  29AH20110128,   A05,    66,  1,      1,2,20110215,2133, 24.5003, -42.1870, 4117,   4068.2,   2.4659,  34.9013,2,    247.3,2,    246.1,2,    41.80,2,    20.35,2,     1.45,2,   2347.6,2,   7.7250,2,    25.00,   2.1107,20110215,2133
  29AH20110128,   A05,    66,  1,      2,2,20110215,2133, 24.5003, -42.1870, 4117,   3500.2,   2.5600,  34.9156,2,    247.2,2,    243.2,2,    38.40,2,    20.11,2,     1.49,2,   2347.2,2,   7.7276,2,    25.00,   2.2660,20110215,2145
  29AH20110128,   A05,    66,  1,      3,2,20110215,2133, 24.5003, -42.1870, 4117,   3001.1,   2.7689,  34.9381,2,    245.9,2,    245.2,2,    34.58,2,    19.80,2,     1.37,2,   2341.9,2,   7.7288,2,    25.00,   2.5230,20110215,2155
  29AH20110128,   A05,    66,  1,      4,2,20110215,2133, 24.5003, -42.1870, 4117,   2500.8,   3.2262,  34.9739,2,    246.1,2,    246.2,2,    27.71,2,    19.00,2,     1.34,2,   2331.2,2,   7.7285,2,    25.00,   3.0219,20110215,2205
  29AH20110128,   A05,    66,  1,      5,2,20110215,2133, 24.5003, -42.1870, 4117,   1999.8,   3.8397,  35.0133,2,    240.4,2,    236.6,2,    22.40,2,    19.00,2,     1.34,2,   2324.8,2,   7.7262,2,    25.00,   3.6744,20110215,2215
  29AH20110128,   A05,    66,  1,      6,2,20110215,2133, 24.5003, -42.1870, 4117,   1751.1,   4.3002,  35.0346,2,    231.8,2,    231.6,2,    19.40,2,    19.80,2,     1.36,2,   2322.3,2,   7.7128,2,    25.00,   4.1526,20110215,2220
  29AH20110128,   A05,    66,  1,      7,2,20110215,2133, 24.5003, -42.1870, 4117,   1500.3,   4.8826,  35.0541,2,    219.0,2,    218.7,2,    18.11,2,    20.04,2,     1.39,2,   2323.4,2,   7.7064,2,    25.00,   4.7522,20110215,2225
  29AH20110128,   A05,    66,  1,      8,2,20110215,2133, 24.5003, -42.1870, 4117,   1301.8,   5.4803,  35.0664,2,    202.3,2,    202.2,2,    18.11,2,    21.20,2,     1.49,2,   2321.4,2,   7.6923,2,    25.00,   5.3632,20110215,2230
  29AH20110128,   A05,    66,  1,      9,2,20110215,2133, 24.5003, -42.1870, 4117,   1200.5,   6.0327,  35.0825,2,    184.8,2,    185.0,2,    18.58,2,    22.39,2,     1.57,2,   2321.2,2,   7.6773,2,    25.00,   5.9206,20110215,2232
  29AH20110128,   A05,    66,  1,     10,2,20110215,2133, 24.5003, -42.1870, 4117,   1099.9,   6.5198,  35.1200,2,    174.3,2,    173.7,2,    18.58,2,    22.92,2,     1.55,2,   -999.0,9,   7.6722,2,    25.00,   6.4138,20110215,2234
  29AH20110128,   A05,    66,  1,     11,2,20110215,2133, 24.5003, -42.1870, 4117,   1001.1,   6.8948,  35.0908,2,    162.8,2,    162.4,2,    18.92,2,    23.91,2,     1.68,2,   2321.8,2,   7.6614,2,    25.00,   6.7962,20110215,2237
  29AH20110128,   A05,    66,  1,     12,2,20110215,2133, 24.5003, -42.1870, 4117,    902.7,   7.8342,  35.1601,2,    152.9,2,    152.7,2,    17.36,2,    23.72,2,     1.64,2,   -999.0,9,   7.6681,2,    25.00,   7.7396,20110215,2239
  29AH20110128,   A05,    66,  1,     13,2,20110215,2133, 24.5003, -42.1870, 4117,    800.8,   9.0676,  35.2584,2,    143.7,2,    143.3,2,    15.31,2,    23.12,2,     1.53,2,   2323.7,2,   7.6751,2,    25.00,   8.9769,20110215,2244
  29AH20110128,   A05,    66,  1,     14,2,20110215,2133, 24.5003, -42.1870, 4117,    601.3,  12.1314,  35.6311,2,    158.3,2,    158.6,2,     8.03,2,    16.27,2,  -999.00,9,   2338.3,2,   7.7636,2,    25.00,  12.0506,20110215,2249
  29AH20110128,   A05,    66,  1,     15,2,20110215,2133, 24.5003, -42.1870, 4117,    402.0,  15.6721,  36.1500,2,    171.0,2,    170.9,2,     3.94,2,    10.34,2,     0.49,2,   2365.4,2,   7.8589,2,    25.00,  15.6084,20110215,2254
  29AH20110128,   A05,    66,  1,     16,2,20110215,2133, 24.5003, -42.1870, 4117,    302.5,  17.4007,  36.4545,2,    188.2,2,    188.5,2,     3.94,3,  -999.00,9,     0.47,2,   -999.0,9,   7.9091,2,    25.00,  17.3493,20110215,2259
  29AH20110128,   A05,    66,  1,     17,2,20110215,2133, 24.5003, -42.1870, 4117,    200.5,  19.3562,  36.7872,2,    189.6,2,    189.7,2,     1.22,2,     2.41,2,     0.09,2,   -999.0,9,   7.9607,2,    25.00,  19.3196,20110215,2302
  29AH20110128,   A05,    66,  1,     18,2,20110215,2133, 24.5003, -42.1870, 4117,    150.2,  20.4394,  36.9469,2,    195.0,2,    194.9,2,     1.01,2,     1.09,2,     0.07,2,   2416.2,2,   7.9869,2,    25.00,  20.4109,20110215,2303
  29AH20110128,   A05,    66,  1,     19,2,20110215,2133, 24.5003, -42.1870, 4117,    123.7,  22.0458,  37.2520,2,    204.6,2,    204.5,2,     0.88,2,     0.27,2,     0.05,2,   -999.0,9,   8.0328,2,    25.00,  22.0210,20110215,2304
  29AH20110128,   A05,    66,  1,     20,2,20110215,2133, 24.5003, -42.1870, 4117,    101.3,  22.7811,  37.4267,2,    211.3,2,    211.4,2,     0.87,2,     0.06,2,     0.05,2,   -999.0,9,   8.0573,2,    25.00,  22.7603,20110215,2305
  29AH20110128,   A05,    66,  1,     21,2,20110215,2133, 24.5003, -42.1870, 4117,     74.8,  22.7968,  37.4301,2,    212.1,2,    211.3,2,     0.87,2,     0.06,2,     0.05,2,   -999.0,9,   8.0600,2,    25.00,  22.7815,20110215,2306
  29AH20110128,   A05,    66,  1,     22,2,20110215,2133, 24.5003, -42.1870, 4117,     50.3,  22.8001,  37.4315,2,    212.1,2,    211.5,2,     0.87,2,     0.06,2,     0.05,2,   -999.0,9,   8.0626,2,    25.00,  22.7898,20110215,2307
  29AH20110128,   A05,    66,  1,     23,2,20110215,2133, 24.5003, -42.1870, 4117,     25.4,  22.8465,  37.4406,2,    212.0,2,    212.9,2,     0.87,2,     0.07,2,     0.05,2,   -999.0,9,   8.0622,2,    25.00,  22.8413,20110215,2308
  29AH20110128,   A05,    66,  1,     24,2,20110215,2133, 24.5003, -42.1870, 4117,      4.9,  22.8740,  37.4539,2,    212.3,2,    211.5,2,     0.87,2,     0.07,2,     0.05,2,   2449.5,2,   8.0641,2,    25.00,  22.8730,20110215,2308
  29AH20110128,   A05,    67,  1,      1,2,20110216,0342, 24.5010, -42.6467, 4799,   4788.7,   2.5011,  34.8964,2,    247.9,2,    248.2,2,    43.39,2,  -999.00,9,     1.47,2,   -999.0,9,   7.7245,2,    25.00,   2.0582,20110216,0342
  29AH20110128,   A05,    67,  1,      2,2,20110216,0342, 24.5010, -42.6467, 4799,   4500.6,   2.4974,  34.8996,2,    247.7,2,    247.1,2,    42.13,2,  -999.00,9,     1.43,2,   -999.0,9,   7.7260,2,    25.00,   2.0900,20110216,0348
  29AH20110128,   A05,    67,  1,      3,2,20110216,0342, 24.5010, -42.6467, 4799,   4000.1,   2.4711,  34.9028,2,    248.3,2,    247.5,2,    42.42,2,  -999.00,9,     1.47,2,   -999.0,9,   7.7238,2,    25.00,   2.1236,20110216,0358
  29AH20110128,   A05,    67,  1,      4,2,20110216,0342, 24.5010, -42.6467, 4799,   3501.7,   2.5358,  34.9138,2,    246.8,2,    245.8,2,    40.63,2,  -999.00,9,     1.44,2,   -999.0,9,   7.7264,2,    25.00,   2.2422,20110216,0408
  29AH20110128,   A05,    67,  1,      5,2,20110216,0342, 24.5010, -42.6467, 4799,   3000.2,   2.7137,  34.9331,2,    246.8,2,    246.9,2,    36.50,2,  -999.00,9,     1.41,2,   -999.0,9,   7.7300,2,    25.00,   2.4691,20110216,0418
  29AH20110128,   A05,    67,  1,      6,2,20110216,0342, 24.5010, -42.6467, 4799,   2501.2,   3.1208,  34.9671,2,    246.1,2,    246.0,2,    29.63,2,  -999.00,9,     1.35,2,   -999.0,9,   7.7282,2,    25.00,   2.9184,20110216,0427
  29AH20110128,   A05,    67,  1,      7,2,20110216,0342, 24.5010, -42.6467, 4799,   1998.3,   3.8480,  35.0129,2,    240.8,2,    241.1,2,    22.01,2,  -999.00,9,     1.33,2,   -999.0,9,   7.7255,2,    25.00,   3.6827,20110216,0437
  29AH20110128,   A05,    67,  1,      8,2,20110216,0342, 24.5010, -42.6467, 4799,   1750.2,   4.2477,  35.0267,2,    231.6,2,    231.6,2,    20.43,2,  -999.00,9,     1.36,2,   -999.0,9,   7.7204,2,    25.00,   4.1008,20110216,0442
  29AH20110128,   A05,    67,  1,      9,2,20110216,0342, 24.5010, -42.6467, 4799,   1500.7,   4.8844,  35.0501,2,    216.8,2,    216.5,2,    18.17,2,  -999.00,9,     1.41,2,   -999.0,9,   7.7068,2,    25.00,   4.7540,20110216,0447
  29AH20110128,   A05,    67,  1,     10,2,20110216,0342, 24.5010, -42.6467, 4799,   1301.7,   5.6230,  35.0827,2,    198.4,2,    198.3,2,    18.32,2,  -999.00,9,     1.47,2,   -999.0,9,   7.6869,2,    25.00,   5.5045,20110216,0451
  29AH20110128,   A05,    67,  1,     11,2,20110216,0342, 24.5010, -42.6467, 4799,   1200.5,   5.7490,  35.0324,2,    186.9,2,    186.7,2,    19.29,2,  -999.00,9,     1.59,2,   -999.0,9,   7.6708,2,    25.00,   5.6395,20110216,0454
  29AH20110128,   A05,    67,  1,     12,2,20110216,0342, 24.5010, -42.6467, 4799,   1100.5,   6.3010,  35.0464,2,    171.9,2,    171.0,2,    19.53,2,  -999.00,9,     1.66,2,   -999.0,9,   7.6593,2,    25.00,   6.1968,20110216,0456
  29AH20110128,   A05,    67,  1,     13,2,20110216,0342, 24.5010, -42.6467, 4799,   1001.3,   6.6899,  35.0286,2,    157.4,2,    157.0,2,    20.09,2,  -999.00,9,     1.75,2,   -999.0,9,   7.6428,2,    25.00,   6.5929,20110216,0458
  29AH20110128,   A05,    67,  1,     14,2,20110216,0342, 24.5010, -42.6467, 4799,    901.1,   7.4975,  35.0889,2,    147.5,2,    146.9,2,    18.58,2,  -999.00,9,     1.71,2,   -999.0,9,   7.6481,2,    25.00,   7.4054,20110216,0500
  29AH20110128,   A05,    67,  1,     15,2,20110216,0342, 24.5010, -42.6467, 4799,    799.7,   9.0063,  35.2581,2,    145.7,2,    145.1,2,    15.21,2,  -999.00,9,     1.45,2,   -999.0,9,   7.6748,2,    25.00,   8.9161,20110216,0503
  29AH20110128,   A05,    67,  1,     16,2,20110216,0342, 24.5010, -42.6467, 4799,    602.1,  12.1400,  35.6312,2,    157.2,2,    157.4,2,     8.22,2,  -999.00,9,     1.01,2,   -999.0,9,   7.7623,2,    25.00,  12.0590,20110216,0507
  29AH20110128,   A05,    67,  1,     17,2,20110216,0342, 24.5010, -42.6467, 4799,    401.9,  15.7268,  36.1627,2,    187.8,2,    187.5,2,     3.32,2,  -999.00,9,     0.48,2,   -999.0,9,   7.8832,2,    25.00,  15.6630,20110216,0511
  29AH20110128,   A05,    67,  1,     18,2,20110216,0342, 24.5010, -42.6467, 4799,    300.7,  17.5854,  36.4835,2,    195.1,2,    195.1,2,     2.03,2,  -999.00,9,     0.25,2,   -999.0,9,   7.9366,2,    25.00,  17.5340,20110216,0513
  29AH20110128,   A05,    67,  1,     19,2,20110216,0342, 24.5010, -42.6467, 4799,    150.7,  22.9866,  37.4424,2,    210.3,2,    210.1,2,     0.96,2,  -999.00,9,     0.03,2,   -999.0,9,   8.0517,2,    25.00,  22.9555,20110216,0516
  29AH20110128,   A05,    67,  1,     20,2,20110216,0342, 24.5010, -42.6467, 4799,    125.7,  23.0045,  37.4524,2,    211.1,2,    211.5,2,     0.82,2,  -999.00,9,     0.02,2,   -999.0,9,   8.0582,2,    25.00,  22.9785,20110216,0517
  29AH20110128,   A05,    67,  1,     21,2,20110216,0342, 24.5010, -42.6467, 4799,     77.2,  23.0096,  37.4511,2,    211.0,2,    211.0,2,     0.93,2,  -999.00,9,     0.04,2,   -999.0,9,   8.0570,2,    25.00,  22.9937,20110216,0518
  29AH20110128,   A05,    67,  1,     22,2,20110216,0342, 24.5010, -42.6467, 4799,     49.4,  23.1197,  37.4862,2,    211.6,2,    211.7,2,     0.96,2,  -999.00,9,     0.04,2,   -999.0,9,   8.0672,2,    25.00,  23.1095,20110216,0518
  29AH20110128,   A05,    67,  1,     23,2,20110216,0342, 24.5010, -42.6467, 4799,     25.7,  23.1428,  37.4944,2,    211.6,2,    211.0,2,     1.26,2,  -999.00,9,     0.04,2,   -999.0,9,   8.0640,2,    25.00,  23.1375,20110216,0519
  29AH20110128,   A05,    67,  1,     24,2,20110216,0342, 24.5010, -42.6467, 4799,      4.8,  23.1367,  37.4951,2,    211.7,2,    211.5,2,     1.00,2,  -999.00,9,     0.04,2,   -999.0,9,   8.0699,2,    25.00,  23.1357,20110216,0520