BOTTLE,20220930CCHSIOAMB
EXPOCODE,SECT_ID,STNNBR,CASTNO,BTLNBR,BTLNBR_FLAG_W,DATE,TIME,LATITUDE,LONGITUDE,DEPTH,CTDPRS,CTDTMP,CTDSAL,CTDSAL_FLAG_W,CTDOXY,CTDOXY_FLAG_W,OXYGEN,OXYGEN_FLAG_W,SILCAT,SILCAT_FLAG_W,NITRAT,NITRAT_FLAG_W,PHSPHT,PHSPHT_FLAG_W,ALKALI,ALKALI_FLAG_W,PH_SWS,PH_SWS_FLAG_W,PH_TMP,THETA,BTL_DATE,BTL_TIME
,,,,,,,,,,METERS,DBAR,ITS-90,PSS-78,,UMOL/KG,,UMOL/KG,,UMOL/KG,,UMOL/KG,,UMOL/KG,,UMOL/KG,,,,DEG C,DEG C,,
  29AH20110128,   A05,    71,  1,      1,2,20110217,0329, 24.4980, -44.4972, 4134,   4124.4,   2.5411,  34.9070,2,    248.3,2,    246.4,2,  -999.00,9,  -999.00,9,     1.24,4,   -999.0,9,   7.7243,2,    25.00,   2.1772,20110217,0329
  29AH20110128,   A05,    71,  1,      2,2,20110217,0329, 24.4980, -44.4972, 4134,   4001.6,   2.5487,  34.9090,2,    247.9,2,    248.2,2,  -999.00,9,    20.17,2,     1.43,2,   -999.0,9,   7.7271,2,    25.00,   2.1988,20110217,0333
  29AH20110128,   A05,    71,  1,      3,2,20110217,0329, 24.4980, -44.4972, 4134,   3500.4,   2.5839,  34.9171,2,    248.3,2,    247.3,2,    37.52,2,    20.01,2,     1.44,2,   -999.0,9,   7.7269,2,    25.00,   2.2893,20110217,0343
  29AH20110128,   A05,    71,  1,      4,2,20110217,0329, 24.4980, -44.4972, 4134,   3000.6,   2.7108,  34.9323,2,    247.7,2,    247.8,2,    35.80,2,    19.76,2,     1.43,2,   -999.0,9,   7.7278,2,    25.00,   2.4662,20110217,0352
  29AH20110128,   A05,    71,  1,      5,2,20110217,0329, 24.4980, -44.4972, 4134,   2497.9,   3.1343,  34.9690,2,    249.0,2,    249.0,2,    28.03,2,    18.74,2,     1.24,3,   -999.0,9,   7.7306,2,    25.00,   2.9320,20110217,0402
  29AH20110128,   A05,    71,  1,      6,2,20110217,0329, 24.4980, -44.4972, 4134,   2000.2,   3.9242,  35.0287,2,    243.8,2,    243.5,2,    21.70,2,    18.78,2,     1.29,2,   -999.0,9,   7.7296,2,    25.00,   3.7576,20110217,0412
  29AH20110128,   A05,    71,  1,      7,2,20110217,0329, 24.4980, -44.4972, 4134,   1748.2,   4.5080,  35.0653,2,    236.2,2,    236.5,2,    18.60,2,    18.66,2,     1.29,2,   -999.0,9,   7.7221,2,    25.00,   4.3579,20110217,0417
  29AH20110128,   A05,    71,  1,      8,2,20110217,0329, 24.4980, -44.4972, 4134,   1501.9,   4.9094,  35.0371,2,    214.8,2,    214.4,2,    18.95,2,    20.53,2,     1.54,3,   -999.0,9,   7.6968,2,    25.00,   4.7786,20110217,0422
  29AH20110128,   A05,    71,  1,      9,2,20110217,0329, 24.4980, -44.4972, 4134,   1299.3,   5.5378,  35.0585,2,    196.8,2,    196.4,2,    19.21,2,    21.99,2,     1.57,2,   -999.0,9,   7.6831,2,    25.00,   5.4204,20110217,0426
  29AH20110128,   A05,    71,  1,     10,2,20110217,0329, 24.4980, -44.4972, 4134,   1198.4,   6.0330,  35.0621,2,    181.5,2,    181.5,2,    19.91,2,    23.08,2,     1.61,2,   -999.0,9,   7.6679,2,    25.00,   5.9211,20110217,0428
  29AH20110128,   A05,    71,  1,     11,2,20110217,0329, 24.4980, -44.4972, 4134,   1101.7,   6.4136,  35.0858,2,    172.1,2,    171.4,2,    19.91,2,    23.57,2,     1.76,2,   -999.0,9,   7.6660,2,    25.00,   6.3083,20110217,0431
  29AH20110128,   A05,    71,  1,     12,2,20110217,0329, 24.4980, -44.4972, 4134,   1000.1,   7.0682,  35.1054,2,    156.8,2,    157.0,2,    19.70,2,    24.38,2,     1.77,2,   -999.0,9,   7.6555,2,    25.00,   6.9685,20110217,0433
  29AH20110128,   A05,    71,  1,     13,2,20110217,0329, 24.4980, -44.4972, 4134,    902.7,   7.9782,  35.1769,2,    147.8,2,    147.0,2,    18.12,2,    23.93,2,     1.68,2,   -999.0,9,   7.6585,2,    25.00,   7.8826,20110217,0435
  29AH20110128,   A05,    71,  1,     14,2,20110217,0329, 24.4980, -44.4972, 4134,    802.5,   9.0229,  35.2681,2,    142.9,2,    144.0,2,    15.50,2,    22.83,2,     1.57,2,   -999.0,9,   7.6773,2,    25.00,   8.9322,20110217,0437
  29AH20110128,   A05,    71,  1,     15,2,20110217,0329, 24.4980, -44.4972, 4134,    601.2,  12.2710,  35.6581,2,    158.1,2,    158.4,2,     6.91,2,    13.59,2,     0.80,2,   -999.0,9,   7.7654,2,    25.00,  12.1896,20110217,0441
  29AH20110128,   A05,    71,  1,     16,2,20110217,0329, 24.4980, -44.4972, 4134,    400.2,  15.6256,  36.1483,2,    185.0,2,    185.8,2,     3.81,2,     8.59,2,     0.39,2,   -999.0,9,   7.8801,2,    25.00,  15.5623,20110217,0445
  29AH20110128,   A05,    71,  1,     17,2,20110217,0329, 24.4980, -44.4972, 4134,    302.2,  17.2922,  36.4397,2,    187.1,2,    187.2,2,     2.64,2,     5.99,2,     0.24,2,   -999.0,9,   7.9185,2,    25.00,  17.2411,20110217,0447
  29AH20110128,   A05,    71,  1,     18,2,20110217,0329, 24.4980, -44.4972, 4134,    150.4,  20.7496,  37.0220,2,    190.0,2,    190.4,2,     1.34,2,     1.13,2,     0.06,2,   -999.0,9,   7.9778,2,    25.00,  20.7208,20110217,0451
  29AH20110128,   A05,    71,  1,     19,2,20110217,0329, 24.4980, -44.4972, 4134,    201.0,  19.5232,  36.8339,2,    187.7,2,    183.4,2,  -999.00,9,  -999.00,9,  -999.00,9,   -999.0,9,   7.9581,2,    25.00,  19.4863,20110217,0452
  29AH20110128,   A05,    71,  1,     20,2,20110217,0329, 24.4980, -44.4972, 4134,    123.5,  21.8638,  37.1638,2,    197.3,2,    197.3,2,     1.27,2,     0.31,2,     0.06,2,   -999.0,9,   8.0046,2,    25.00,  21.8392,20110217,0454
  29AH20110128,   A05,    71,  1,     21,2,20110217,0329, 24.4980, -44.4972, 4134,     74.0,  23.3802,  37.4873,2,    210.3,2,    210.2,2,     1.06,2,     0.02,2,     0.02,2,   -999.0,9,   8.0633,2,    25.00,  23.3648,20110217,0455
  29AH20110128,   A05,    71,  1,     22,2,20110217,0329, 24.4980, -44.4972, 4134,     51.1,  23.4562,  37.4933,2,    210.6,2,    210.7,2,     1.13,2,     0.02,2,     0.05,2,   -999.0,9,   8.0669,2,    25.00,  23.4455,20110217,0456
  29AH20110128,   A05,    71,  1,     23,2,20110217,0329, 24.4980, -44.4972, 4134,     25.5,  23.4620,  37.4961,2,    210.7,2,    209.6,2,     1.19,2,     0.02,2,     0.05,2,   -999.0,9,   8.0671,2,    25.00,  23.4567,20110217,0456
  29AH20110128,   A05,    71,  1,     24,2,20110217,0329, 24.4980, -44.4972, 4134,      5.2,  23.4530,  37.4957,2,    210.6,2,    209.8,2,     1.19,2,     0.01,2,     0.04,2,   -999.0,9,   8.0678,2,    25.00,  23.4519,20110217,0457
  29AH20110128,   A05,    72,  1,      1,2,20110217,1837, 24.4987, -44.9580, 3604,   3562.4,   2.5968,  34.9171,2,    249.0,2,    248.8,2,    38.44,2,    19.85,2,     1.40,2,   2344.3,2,   7.7252,2,    25.00,   2.2951,20110217,1837
  29AH20110128,   A05,    72,  1,      2,2,20110217,1837, 24.4987, -44.9580, 3604,   3500.7,   2.6497,  34.9221,2,    248.2,2,    249.8,2,  -999.00,9,  -999.00,9,  -999.00,9,   -999.0,9,   7.7256,2,    25.00,   2.3534,20110217,1839
  29AH20110128,   A05,    72,  1,      3,2,20110217,1837, 24.4987, -44.9580, 3604,   3001.3,   2.7216,  34.9325,2,    248.7,2,    249.9,2,    35.49,2,    19.60,2,     1.34,2,   2341.9,2,   7.7284,2,    25.00,   2.4767,20110217,1848
  29AH20110128,   A05,    72,  1,      4,2,20110217,1837, 24.4987, -44.9580, 3604,   2501.5,   3.0955,  34.9662,2,    248.1,2,    247.6,2,    25.77,2,    18.90,2,     1.31,2,   2335.7,2,   7.7308,2,    25.00,   2.8935,20110217,1858
  29AH20110128,   A05,    72,  1,      5,2,20110217,1837, 24.4987, -44.9580, 3604,   1999.4,   3.9791,  35.0388,2,    244.9,2,    246.2,2,    20.55,2,    18.16,2,     1.23,2,   2326.5,2,   7.7307,2,    25.00,   3.8117,20110217,1908
  29AH20110128,   A05,    72,  1,      6,2,20110217,1837, 24.4987, -44.9580, 3604,   1750.5,   4.4646,  35.0685,2,    236.9,2,    237.9,2,    18.43,2,    18.45,2,     1.24,2,   2324.4,2,   7.7262,2,    25.00,   4.3148,20110217,1913
  29AH20110128,   A05,    72,  1,      7,2,20110217,1837, 24.4987, -44.9580, 3604,   1501.7,   4.8915,  35.0582,2,    220.7,2,    221.2,2,    18.23,2,    19.93,2,     1.37,2,   2322.8,2,   7.7096,2,    25.00,   4.7609,20110217,1917
  29AH20110128,   A05,    72,  1,      8,2,20110217,1837, 24.4987, -44.9580, 3604,   1302.1,   5.4216,  35.0360,2,    202.7,2,    203.7,2,    18.36,2,    21.28,2,     1.49,2,   2320.7,2,   7.6877,2,    25.00,   5.3051,20110217,1921
  29AH20110128,   A05,    72,  1,      9,2,20110217,1837, 24.4987, -44.9580, 3604,   1199.5,   5.6653,  34.9894,2,    183.3,2,    184.5,2,    20.28,2,    23.37,2,     1.74,2,   2318.2,2,   7.6617,2,    25.00,   5.5567,20110217,1923
  29AH20110128,   A05,    72,  1,     10,2,20110217,1837, 24.4987, -44.9580, 3604,   1100.6,   6.0212,  34.9758,2,    165.2,2,    166.0,2,    21.31,2,    25.13,2,     1.86,2,   -999.0,9,   7.6401,2,    25.00,   5.9194,20110217,1926
  29AH20110128,   A05,    72,  1,     11,2,20110217,1837, 24.4987, -44.9580, 3604,   1000.9,   6.9776,  35.0697,2,    154.2,2,    154.8,2,    19.32,2,    24.72,2,     1.74,2,   2318.3,2,   7.6492,2,    25.00,   6.8785,20110217,1928
  29AH20110128,   A05,    72,  1,     12,2,20110217,1837, 24.4987, -44.9580, 3604,    902.4,   8.1008,  35.1931,2,    147.6,2,    148.1,2,    16.99,2,    23.86,2,     1.68,2,   -999.0,9,   7.6651,2,    25.00,   8.0044,20110217,1930
  29AH20110128,   A05,    72,  1,     13,2,20110217,1837, 24.4987, -44.9580, 3604,    800.7,   9.3057,  35.3151,2,    145.3,2,    146.2,2,    14.46,2,    22.26,2,     1.49,2,   2328.7,2,   7.6857,2,    25.00,   9.2136,20110217,1932
  29AH20110128,   A05,    72,  1,     14,2,20110217,1837, 24.4987, -44.9580, 3604,    600.7,  12.1288,  35.6385,2,    157.8,2,    158.2,2,     7.95,2,    16.52,2,     0.93,2,   2340.1,2,   7.7570,2,    25.00,  12.0481,20110217,1936
  29AH20110128,   A05,    72,  1,     15,2,20110217,1837, 24.4987, -44.9580, 3604,    402.8,  15.8746,  36.1850,2,    188.8,2,    190.7,2,     3.28,2,     6.01,2,  -999.00,9,   2370.7,2,   7.8888,2,    25.00,  15.8102,20110217,1940
  29AH20110128,   A05,    72,  1,     16,2,20110217,1837, 24.4987, -44.9580, 3604,    301.5,  17.5599,  36.4929,2,    184.6,2,    185.6,2,     2.46,2,     6.04,2,     0.23,2,   2388.2,2,   7.9178,2,    25.00,  17.5084,20110217,1942
  29AH20110128,   A05,    72,  1,     17,2,20110217,1837, 24.4987, -44.9580, 3604,    200.7,  19.1542,  36.7750,2,    185.8,2,    186.5,2,     1.77,2,     3.14,2,     0.11,2,   -999.0,9,   7.9514,2,    25.00,  19.1178,20110217,1944
  29AH20110128,   A05,    72,  1,     18,2,20110217,1837, 24.4987, -44.9580, 3604,    151.3,  20.7873,  37.0234,2,    190.5,2,    192.0,2,  -999.00,9,  -999.00,9,  -999.00,9,   -999.0,9,   7.9838,2,    25.00,  20.7583,20110217,1945
  29AH20110128,   A05,    72,  1,     19,2,20110217,1837, 24.4987, -44.9580, 3604,    125.1,  21.6290,  37.1403,2,    195.3,2,    196.5,2,     1.08,2,     0.64,2,     0.04,2,   -999.0,9,   8.0010,2,    25.00,  21.6043,20110217,1946
  29AH20110128,   A05,    72,  1,     20,2,20110217,1837, 24.4987, -44.9580, 3604,    101.0,  23.0946,  37.4044,2,    207.4,2,    208.1,2,     1.08,2,     0.07,2,     0.06,2,   -999.0,9,   8.0582,2,    25.00,  23.0737,20110217,1946
  29AH20110128,   A05,    72,  1,     21,2,20110217,1837, 24.4987, -44.9580, 3604,     74.9,  23.2926,  37.4600,2,    210.4,2,    209.7,2,     1.08,2,     0.07,2,     0.04,2,   2450.7,2,   8.0620,2,    25.00,  23.2770,20110217,1947
  29AH20110128,   A05,    72,  1,     22,2,20110217,1837, 24.4987, -44.9580, 3604,      6.0,  23.4590,  37.4755,2,    210.7,2,    210.4,2,     1.08,2,     0.07,2,     0.04,2,   2451.9,2,   8.0634,2,    25.00,  23.4577,20110217,1949
  29AH20110128,   A05,    73,  1,      1,2,20110217,2344, 24.4997, -45.4197, 3558,   3130.6,   2.7198,  34.9304,2,    249.9,2,    247.7,2,    36.26,2,    19.51,2,     1.38,2,   -999.0,9,   7.7286,2,    25.00,   2.4615,20110217,2344
  29AH20110128,   A05,    73,  1,      2,2,20110217,2344, 24.4997, -45.4197, 3558,   3000.6,   2.7796,  34.9358,2,    249.8,2,    251.8,2,    34.26,2,    19.35,2,     1.37,2,   -999.0,9,   7.7293,2,    25.00,   2.5335,20110217,2347
  29AH20110128,   A05,    73,  1,      3,2,20110217,2344, 24.4997, -45.4197, 3558,   2500.2,   3.0957,  34.9660,2,    248.2,2,    244.9,2,    29.76,2,    18.91,2,     1.31,2,   -999.0,9,   7.7316,2,    25.00,   2.8939,20110217,2357
  29AH20110128,   A05,    73,  1,      4,2,20110217,2344, 24.4997, -45.4197, 3558,   1999.9,   3.8033,  35.0229,2,    245.1,2,    244.7,2,  -999.00,9,    18.50,2,     1.27,2,   -999.0,9,   7.7291,2,    25.00,   3.6385,20110217,0006
  29AH20110128,   A05,    73,  1,      5,2,20110217,2344, 24.4997, -45.4197, 3558,   1751.0,   4.3899,  35.0601,2,    238.6,2,    237.7,2,    18.97,2,    18.54,2,     1.25,2,   -999.0,9,   7.7260,2,    25.00,   4.2410,20110217,0011
  29AH20110128,   A05,    73,  1,      6,2,20110217,2344, 24.4997, -45.4197, 3558,   1501.7,   4.9208,  35.0642,2,    223.9,2,    222.9,2,    17.58,2,    19.55,2,     1.38,2,   -999.0,9,   7.7105,2,    25.00,   4.7898,20110217,0016
  29AH20110128,   A05,    73,  1,      7,2,20110217,2344, 24.4997, -45.4197, 3558,   1300.7,   5.3707,  35.0531,2,    204.6,2,    204.2,2,    18.97,2,    21.28,2,     1.48,2,   -999.0,9,   7.6910,2,    25.00,   5.2548,20110217,0020
  29AH20110128,   A05,    73,  1,      8,2,20110217,2344, 24.4997, -45.4197, 3558,   1199.8,   5.6315,  35.0264,2,    192.3,2,    190.7,2,  -999.00,9,  -999.00,9,  -999.00,9,   -999.0,9,   7.6748,2,    25.00,   5.5231,20110217,0022
  29AH20110128,   A05,    73,  1,      9,2,20110217,2344, 24.4997, -45.4197, 3558,   1100.9,   5.9437,  35.0073,2,    176.8,2,    176.2,2,    20.28,2,    23.54,2,     1.71,2,   -999.0,9,   7.6590,2,    25.00,   5.8425,20110217,0024
  29AH20110128,   A05,    73,  1,     10,2,20110217,2344, 24.4997, -45.4197, 3558,    999.2,   6.5321,  35.0148,2,    159.6,2,    159.6,2,    20.84,2,    25.03,2,     1.82,2,   -999.0,9,   7.6435,2,    25.00,   6.4365,20110217,0027
  29AH20110128,   A05,    73,  1,     11,2,20110217,2344, 24.4997, -45.4197, 3558,    903.8,   7.0185,  35.0159,2,    147.5,2,    147.4,2,    20.28,2,    25.84,2,     1.87,2,   -999.0,9,   7.6349,2,    25.00,   6.9294,20110217,0029
  29AH20110128,   A05,    73,  1,     12,2,20110217,2344, 24.4997, -45.4197, 3558,    804.9,   8.5942,  35.2040,2,    143.8,2,    143.2,2,    16.76,2,    23.70,2,     1.54,2,   -999.0,9,   7.6650,2,    25.00,   8.5058,20110217,0031
  29AH20110128,   A05,    73,  1,     13,2,20110217,2344, 24.4997, -45.4197, 3558,    599.7,  12.0656,  35.6282,2,    163.5,2,    162.8,2,     8.25,2,    16.15,2,  -999.00,9,   -999.0,9,   7.7655,2,    25.00,  11.9853,20110217,0035
  29AH20110128,   A05,    73,  1,     14,2,20110217,2344, 24.4997, -45.4197, 3558,    401.1,  15.7407,  36.1609,2,    188.8,2,    189.4,2,     3.47,2,     8.20,2,  -999.00,9,   -999.0,9,   7.8895,2,    25.00,  15.6770,20110217,0039
  29AH20110128,   A05,    73,  1,     15,2,20110217,2344, 24.4997, -45.4197, 3558,    301.0,  17.0562,  36.3881,2,    196.4,2,    196.4,2,     2.50,2,     5.69,2,     0.22,2,   -999.0,9,   7.9322,2,    25.00,  17.0058,20110217,0041
  29AH20110128,   A05,    73,  1,     16,2,20110217,2344, 24.4997, -45.4197, 3558,    201.1,  19.2762,  36.7855,2,    189.5,2,    189.2,2,     1.68,2,     2.54,2,     0.08,2,   -999.0,9,   7.9567,2,    25.00,  19.2396,20110217,0043
  29AH20110128,   A05,    73,  1,     17,2,20110217,2344, 24.4997, -45.4197, 3558,    149.1,  21.3568,  37.1080,2,    194.3,2,    192.4,2,     1.19,2,     0.72,2,     0.06,2,   -999.0,9,   7.9941,2,    25.00,  21.3276,20110217,0044
  29AH20110128,   A05,    73,  1,     18,2,20110217,2344, 24.4997, -45.4197, 3558,    126.0,  22.7117,  37.2938,2,    199.6,2,    198.6,2,     1.12,2,     0.23,2,     0.05,2,   -999.0,9,   8.0196,2,    25.00,  22.6859,20110217,0045
  29AH20110128,   A05,    73,  1,     19,2,20110217,2344, 24.4997, -45.4197, 3558,    100.4,  23.4822,  37.4519,2,    210.7,2,    210.6,2,     1.12,2,     0.03,2,     0.04,2,   -999.0,9,   8.0716,2,    25.00,  23.4612,20110217,0046
  29AH20110128,   A05,    73,  1,     20,2,20110217,2344, 24.4997, -45.4197, 3558,     75.4,  23.5002,  37.4451,2,    211.0,2,    211.9,2,     1.12,2,     0.03,2,     0.04,2,   -999.0,9,   8.0760,2,    25.00,  23.4844,20110217,0046
  29AH20110128,   A05,    73,  1,     21,2,20110217,2344, 24.4997, -45.4197, 3558,     50.9,  23.5121,  37.4438,2,    211.2,2,    210.0,2,     1.12,2,     0.03,2,     0.04,2,   -999.0,9,   8.0770,2,    25.00,  23.5014,20110217,0047
  29AH20110128,   A05,    73,  1,     22,2,20110217,2344, 24.4997, -45.4197, 3558,     25.8,  23.5259,  37.4431,2,    211.4,2,    210.2,2,     1.12,2,     0.03,2,     0.04,2,   -999.0,9,   8.0767,2,    25.00,  23.5205,20110217,0048
  29AH20110128,   A05,    73,  1,     23,2,20110217,2344, 24.4997, -45.4197, 3558,      4.9,  23.5961,  37.4408,2,    211.5,2,    211.0,2,     1.12,2,     0.03,2,     0.04,2,   -999.0,9,   8.0761,2,    25.00,  23.5951,20110217,0049