BOTTLE,20220930CCHSIOAMB
EXPOCODE,SECT_ID,STNNBR,CASTNO,BTLNBR,BTLNBR_FLAG_W,DATE,TIME,LATITUDE,LONGITUDE,DEPTH,CTDPRS,CTDTMP,CTDSAL,CTDSAL_FLAG_W,CTDOXY,CTDOXY_FLAG_W,OXYGEN,OXYGEN_FLAG_W,SILCAT,SILCAT_FLAG_W,NITRAT,NITRAT_FLAG_W,PHSPHT,PHSPHT_FLAG_W,ALKALI,ALKALI_FLAG_W,PH_SWS,PH_SWS_FLAG_W,PH_TMP,THETA,BTL_DATE,BTL_TIME
,,,,,,,,,,METERS,DBAR,ITS-90,PSS-78,,UMOL/KG,,UMOL/KG,,UMOL/KG,,UMOL/KG,,UMOL/KG,,UMOL/KG,,,,DEG C,DEG C,,
  29AH20110128,   A05,   157,  1,      1,2,20110313,1615, 27.0005, -79.3097,  645,    635.1,  10.4279,  35.3046,2,    133.0,2,    133.8,2,    13.83,2,  -999.00,9,     1.47,2,   -999.0,9,   7.6818,2,    25.00,  10.3503,20110313,1615
  29AH20110128,   A05,   157,  1,      2,2,20110313,1615, 27.0005, -79.3097,  645,    600.9,  10.7289,  35.3015,2,    127.1,2,    127.1,2,    13.74,2,  -999.00,9,     1.52,2,   -999.0,9,   7.6728,2,    25.00,  10.6543,20110313,1616
  29AH20110128,   A05,   157,  1,      3,2,20110313,1615, 27.0005, -79.3097,  645,    400.1,  15.0979,  36.0072,2,    154.4,2,    155.0,2,     6.65,2,    13.97,2,     0.82,2,   -999.0,9,   7.8242,2,    25.00,  15.0362,20110313,1620
  29AH20110128,   A05,   157,  1,      4,2,20110313,1615, 27.0005, -79.3097,  645,    300.3,  17.5407,  36.4319,2,    176.2,2,    176.7,2,     3.60,2,     7.22,2,     0.38,2,   -999.0,9,   7.9079,2,    25.00,  17.4894,20110313,1623
  29AH20110128,   A05,   157,  1,      5,2,20110313,1615, 27.0005, -79.3097,  645,    200.5,  19.2612,  36.6656,2,    177.3,2,    177.0,2,  -999.00,9,  -999.00,9,  -999.00,9,   -999.0,9,   7.9437,2,    25.00,  19.2247,20110313,1625
  29AH20110128,   A05,   157,  1,      6,2,20110313,1615, 27.0005, -79.3097,  645,    150.7,  22.2852,  36.8500,2,    181.7,2,    182.9,2,     2.14,2,     1.83,2,     0.12,2,   -999.0,9,   8.0017,2,    25.00,  22.2549,20110313,1626
  29AH20110128,   A05,   157,  1,      7,2,20110313,1615, 27.0005, -79.3097,  645,    125.8,  23.9916,  36.7876,2,    191.9,2,    193.0,2,     1.98,2,     0.89,2,     0.08,2,   -999.0,9,   8.0323,2,    25.00,  23.9649,20110313,1627
  29AH20110128,   A05,   157,  1,      8,2,20110313,1615, 27.0005, -79.3097,  645,    100.8,  24.3306,  36.6916,2,    202.7,2,    203.0,2,     1.97,2,     0.32,2,     0.08,2,   -999.0,9,   8.0562,2,    25.00,  24.3090,20110313,1628
  29AH20110128,   A05,   157,  1,      9,2,20110313,1615, 27.0005, -79.3097,  645,     76.1,  24.4781,  36.4405,2,    203.6,2,    203.9,2,     1.67,2,     0.10,2,     0.06,2,   -999.0,9,   8.0644,2,    25.00,  24.4618,20110313,1629
  29AH20110128,   A05,   157,  1,     10,2,20110313,1615, 27.0005, -79.3097,  645,     51.4,  24.6201,  36.3445,2,    206.6,2,    206.2,2,     2.35,2,     0.35,2,     0.08,2,   -999.0,9,   8.0817,2,    25.00,  24.6090,20110313,1629
  29AH20110128,   A05,   157,  1,     11,2,20110313,1615, 27.0005, -79.3097,  645,     25.3,  24.6557,  36.3070,2,    206.9,2,    206.8,2,  -999.00,9,  -999.00,9,  -999.00,9,   -999.0,9,   8.0798,2,    25.00,  24.6502,20110313,1630
  29AH20110128,   A05,   157,  1,     12,2,20110313,1615, 27.0005, -79.3097,  645,      4.6,  24.9946,  36.0234,2,    205.9,2,    205.4,2,     2.71,2,     0.24,2,     0.09,2,   -999.0,9,   8.0784,2,    25.00,  24.9936,20110313,1631
  29AH20110128,   A05,   158,  1,      1,2,20110313,1736, 27.0025, -79.3753,  683,    673.5,   9.2229,  35.1233,2,    125.7,2,    125.6,2,    13.99,2,     9.35,2,  -999.00,9,   2322.6,2,   7.6363,2,    25.00,   9.1465,20110313,1736
  29AH20110128,   A05,   158,  1,      2,2,20110313,1736, 27.0025, -79.3753,  683,    600.3,   9.5311,  35.1293,2,    120.0,2,    120.0,2,  -999.00,9,  -999.00,9,  -999.00,9,   2321.2,2,   7.6358,2,    25.00,   9.4619,20110313,1738
  29AH20110128,   A05,   158,  1,      3,2,20110313,1736, 27.0025, -79.3753,  683,    398.9,  14.3916,  35.8849,2,    147.6,2,    148.6,2,     6.98,2,     7.01,3,     0.89,2,   2358.6,2,   7.7964,2,    25.00,  14.3320,20110313,1743
  29AH20110128,   A05,   158,  1,      4,2,20110313,1736, 27.0025, -79.3753,  683,    300.4,  17.0694,  36.3191,2,    158.7,2,    158.9,2,     4.94,2,  -999.00,9,     0.56,2,   2381.4,2,   7.8776,2,    25.00,  17.0191,20110313,1746
  29AH20110128,   A05,   158,  1,      5,2,20110313,1736, 27.0025, -79.3753,  683,    202.3,  19.2851,  36.6513,2,    169.9,2,    167.8,2,     3.21,2,     2.94,2,     0.29,2,   2401.1,2,   7.9257,2,    25.00,  19.2483,20110313,1748
  29AH20110128,   A05,   158,  1,      6,2,20110313,1736, 27.0025, -79.3753,  683,    151.4,  21.8973,  36.8596,2,    153.4,2,    152.9,2,     2.71,2,     2.34,2,     0.24,2,   2411.3,2,   7.9583,2,    25.00,  21.8672,20110313,1750
  29AH20110128,   A05,   158,  1,      7,2,20110313,1736, 27.0025, -79.3753,  683,    126.2,  23.5365,  36.8338,2,    168.7,2,    169.6,2,     2.54,2,     1.67,2,     0.14,2,   -999.0,9,   7.9941,2,    25.00,  23.5101,20110313,1750
  29AH20110128,   A05,   158,  1,      8,2,20110313,1736, 27.0025, -79.3753,  683,    101.5,  24.3586,  36.6882,2,    190.8,2,    193.0,2,     2.21,2,     0.86,2,     0.06,2,   2400.7,2,   8.0338,2,    25.00,  24.3369,20110313,1751
  29AH20110128,   A05,   158,  1,      9,2,20110313,1736, 27.0025, -79.3753,  683,     76.4,  24.6304,  36.3965,2,    205.9,2,    206.0,2,     2.24,2,     0.54,2,     0.05,2,   2384.0,2,   8.0572,2,    25.00,  24.6139,20110313,1752
  29AH20110128,   A05,   158,  1,     10,2,20110313,1736, 27.0025, -79.3753,  683,     51.8,  24.6845,  36.3013,2,    206.7,2,    206.5,2,     2.46,2,     0.54,2,     0.06,2,   -999.0,9,   8.0647,2,    25.00,  24.6733,20110313,1753
  29AH20110128,   A05,   158,  1,     11,2,20110313,1736, 27.0025, -79.3753,  683,     26.7,  25.1688,  36.1344,2,    205.3,2,    204.7,2,     2.75,2,     0.54,2,     0.06,2,   -999.0,9,   8.0709,2,    25.00,  25.1630,20110313,1753
  29AH20110128,   A05,   158,  1,     12,2,20110313,1736, 27.0025, -79.3753,  683,      5.7,  25.4970,  35.8246,2,    205.1,2,    203.7,2,     2.96,2,     0.54,2,     0.07,2,   2352.2,2,   8.0706,2,    25.00,  25.4957,20110313,1754
  29AH20110128,   A05,   159,  1,      1,2,20110313,1858, 27.0013, -79.4380,  723,    712.8,   8.5803,  35.0452,2,    122.9,2,    123.4,2,  -999.00,9,    12.60,2,  -999.00,9,   -999.0,9,   7.6197,2,    25.00,   8.5027,20110313,1858
  29AH20110128,   A05,   159,  1,      2,2,20110313,1858, 27.0013, -79.4380,  723,    600.4,   9.1655,  35.0860,2,    120.5,2,    121.5,2,  -999.00,9,  -999.00,9,  -999.00,9,   -999.0,9,   7.6253,2,    25.00,   9.0979,20110313,1901
  29AH20110128,   A05,   159,  1,      3,2,20110313,1858, 27.0013, -79.4380,  723,    402.5,  13.4162,  35.6936,2,    133.9,2,    134.5,2,     9.75,2,     9.04,3,     1.14,2,   -999.0,9,   7.7532,2,    25.00,  13.3589,20110313,1905
  29AH20110128,   A05,   159,  1,      4,2,20110313,1858, 27.0013, -79.4380,  723,    301.4,  16.6305,  36.2433,2,    155.9,2,    156.7,2,     5.54,2,  -999.00,9,     0.65,2,   -999.0,9,   7.8586,2,    25.00,  16.5809,20110313,1908
  29AH20110128,   A05,   159,  1,      5,2,20110313,1858, 27.0013, -79.4380,  723,    200.3,  19.0499,  36.5878,2,    155.8,2,    156.2,2,     4.01,2,     4.25,2,     0.43,2,   -999.0,9,   7.9055,2,    25.00,  19.0138,20110313,1910
  29AH20110128,   A05,   159,  1,      6,2,20110313,1858, 27.0013, -79.4380,  723,    151.3,  20.9270,  36.7700,2,    156.5,2,    156.6,2,     2.46,2,     1.95,2,     0.26,2,   -999.0,9,   7.9360,2,    25.00,  20.8978,20110313,1912
  29AH20110128,   A05,   159,  1,      7,2,20110313,1858, 27.0013, -79.4380,  723,    125.5,  23.0175,  36.8896,2,    156.4,2,    157.3,2,     2.71,2,     2.12,2,     0.21,2,   -999.0,9,   7.9728,2,    25.00,  22.9916,20110313,1912
  29AH20110128,   A05,   159,  1,      8,2,20110313,1858, 27.0013, -79.4380,  723,    100.4,  24.3428,  36.7680,2,    164.8,2,    166.1,2,     2.24,2,     0.99,2,     0.09,2,   -999.0,9,   7.9962,2,    25.00,  24.3213,20110313,1913
  29AH20110128,   A05,   159,  1,      9,2,20110313,1858, 27.0013, -79.4380,  723,     74.9,  24.6285,  36.4112,2,    201.1,2,    201.3,2,     2.43,2,     0.54,2,     0.06,2,   -999.0,9,   8.0590,2,    25.00,  24.6124,20110313,1914
  29AH20110128,   A05,   159,  1,     10,2,20110313,1858, 27.0013, -79.4380,  723,     50.3,  25.6734,  36.3803,2,    195.9,2,    195.9,2,     2.52,2,     0.54,2,     0.07,2,   -999.0,9,   8.0745,2,    25.00,  25.6622,20110313,1915
  29AH20110128,   A05,   159,  1,     11,2,20110313,1858, 27.0013, -79.4380,  723,     24.6,  25.5307,  35.8521,2,    204.4,2,    203.9,2,     3.00,2,     0.53,2,     0.07,2,   -999.0,9,   8.0908,2,    25.00,  25.5253,20110313,1916
  29AH20110128,   A05,   159,  1,     12,2,20110313,1858, 27.0013, -79.4380,  723,      5.9,  25.5900,  35.8574,2,    204.4,2,    203.8,2,     3.07,2,     0.54,2,     0.08,2,   -999.0,9,   8.0755,2,    25.00,  25.5887,20110313,1916
  29AH20110128,   A05,   160,  1,      1,2,20110313,2030, 27.0012, -79.5042,  769,    758.7,   6.9995,  34.9253,2,    134.3,2,    134.0,2,  -999.00,9,  -999.00,9,  -999.00,9,   -999.0,9,   7.6017,2,    25.00,   6.9256,20110313,2030
  29AH20110128,   A05,   160,  1,      2,2,20110313,2030, 27.0012, -79.5042,  769,    600.9,   8.7472,  35.0342,2,    120.1,2,    120.3,2,  -999.00,9,    28.63,3,  -999.00,9,   -999.0,9,   7.6065,2,    25.00,   8.6815,20110313,2033
  29AH20110128,   A05,   160,  1,      3,2,20110313,2030, 27.0012, -79.5042,  769,    400.1,  12.9913,  35.6251,2,    132.1,2,    132.7,2,    10.13,2,  -999.00,9,     1.23,2,   -999.0,9,   7.7306,2,    25.00,  12.9355,20110313,2037
  29AH20110128,   A05,   160,  1,      4,2,20110313,2030, 27.0012, -79.5042,  769,    298.8,  15.8021,  36.0964,2,    147.6,2,    147.9,2,     6.36,2,  -999.00,9,     0.81,2,   -999.0,9,   7.8266,2,    25.00,  15.7547,20110313,2039
  29AH20110128,   A05,   160,  1,      5,2,20110313,2030, 27.0012, -79.5042,  769,    200.7,  18.3849,  36.5037,2,    153.8,2,    154.4,2,     4.25,2,  -999.00,9,     0.47,2,   -999.0,9,   7.8857,2,    25.00,  18.3496,20110313,2043
  29AH20110128,   A05,   160,  1,      6,2,20110313,2030, 27.0012, -79.5042,  769,    150.1,  20.6027,  36.7709,2,    152.8,2,    152.8,2,     3.19,2,  -999.00,9,     0.30,2,   -999.0,9,   7.9218,2,    25.00,  20.5741,20110313,2044
  29AH20110128,   A05,   160,  1,      7,2,20110313,2030, 27.0012, -79.5042,  769,    125.0,  22.1984,  36.8816,2,    155.9,2,    157.1,2,     2.74,2,  -999.00,9,     0.21,2,   -999.0,9,   7.9521,2,    25.00,  22.1733,20110313,2045
  29AH20110128,   A05,   160,  1,      8,2,20110313,2030, 27.0012, -79.5042,  769,    101.2,  23.6940,  36.8746,2,    160.6,2,    160.2,2,     2.39,2,     2.30,2,     0.12,2,   -999.0,9,   7.9867,2,    25.00,  23.6727,20110313,2045
  29AH20110128,   A05,   160,  1,      9,2,20110313,2030, 27.0012, -79.5042,  769,     76.2,  24.9468,  36.6453,2,    180.5,2,    180.1,2,     2.20,2,     0.29,2,     0.07,2,   -999.0,9,   8.0253,2,    25.00,  24.9302,20110313,2046
  29AH20110128,   A05,   160,  1,     10,2,20110313,2030, 27.0012, -79.5042,  769,     52.3,  25.5314,  35.8544,2,    204.3,2,    204.7,2,     2.32,2,     0.23,2,     0.05,2,   -999.0,9,   8.0632,2,    25.00,  25.5199,20110313,2047
  29AH20110128,   A05,   160,  1,     11,2,20110313,2030, 27.0012, -79.5042,  769,     27.0,  25.5335,  35.8310,2,    205.1,2,    205.1,2,     2.81,2,     0.07,2,     0.06,2,   -999.0,9,   8.0658,2,    25.00,  25.5275,20110313,2048
  29AH20110128,   A05,   160,  1,     12,2,20110313,2030, 27.0012, -79.5042,  769,      5.8,  25.6642,  35.8381,2,    205.4,2,    204.2,2,     2.83,2,     0.09,2,     0.07,2,   -999.0,9,   8.0652,2,    25.00,  25.6629,20110313,2049
  29AH20110128,   A05,   161,  1,      1,2,20110313,2152, 27.0013, -79.5658,  741,    730.8,   6.4738,  34.9097,2,    140.8,2,    141.0,2,  -999.00,9,  -999.00,9,  -999.00,9,   2321.7,2,   7.6052,2,    25.00,   6.4057,20110313,2152
  29AH20110128,   A05,   161,  1,      2,2,20110313,2152, 27.0013, -79.5658,  741,    629.8,   7.4927,  34.9278,2,    127.6,2,    133.7,2,  -999.00,9,  -999.00,9,  -999.00,9,   -999.0,9,   7.6008,2,    25.00,   7.4296,20110313,2155
  29AH20110128,   A05,   161,  1,      3,2,20110313,2152, 27.0013, -79.5658,  741,    602.0,   7.7709,  34.9454,2,    125.2,2,    125.9,2,  -999.00,9,    28.45,2,     1.94,2,   2317.7,2,   7.5996,2,    25.00,   7.7094,20110313,2156
  29AH20110128,   A05,   161,  1,      4,2,20110313,2152, 27.0013, -79.5658,  741,    401.4,  12.1351,  35.4919,2,    125.1,2,    125.0,2,  -999.00,9,  -999.00,9,     1.40,2,   2341.2,2,   7.7014,2,    25.00,  12.0816,20110313,2201
  29AH20110128,   A05,   161,  1,      5,2,20110313,2152, 27.0013, -79.5658,  741,    300.0,  15.1309,  35.9794,2,    142.3,2,    143.9,2,     7.19,2,  -999.00,9,     0.89,2,   2362.1,2,   7.8049,2,    25.00,  15.0847,20110313,2204
  29AH20110128,   A05,   161,  1,      6,2,20110313,2152, 27.0013, -79.5658,  741,    200.2,  18.3940,  36.5119,2,    156.7,2,    157.4,2,     3.50,2,     6.78,2,     0.44,2,   2391.5,2,   7.8943,2,    25.00,  18.3588,20110313,2206
  29AH20110128,   A05,   161,  1,      7,2,20110313,2152, 27.0013, -79.5658,  741,    151.1,  20.1391,  36.7229,2,    151.9,2,    151.8,2,     3.31,2,     6.02,2,     0.34,2,   2404.1,2,   7.9152,2,    25.00,  20.1108,20110313,2207
  29AH20110128,   A05,   161,  1,      8,2,20110313,2152, 27.0013, -79.5658,  741,    125.8,  21.7151,  36.8628,2,    152.3,2,    151.6,2,     2.42,2,     2.83,2,     0.24,2,   -999.0,9,   7.9355,2,    25.00,  21.6902,20110313,2208
  29AH20110128,   A05,   161,  1,      9,2,20110313,2152, 27.0013, -79.5658,  741,    101.2,  23.1204,  36.8965,2,    161.9,2,    163.6,2,     2.50,2,     2.16,2,     0.16,2,   2414.5,2,   7.9718,2,    25.00,  23.0995,20110313,2209
  29AH20110128,   A05,   161,  1,     10,2,20110313,2152, 27.0013, -79.5658,  741,     79.7,  24.9820,  36.6910,2,    174.3,2,    175.2,2,     2.30,2,     0.06,2,     0.07,2,   2401.3,2,   8.0070,2,    25.00,  24.9646,20110313,2210
  29AH20110128,   A05,   161,  1,     11,2,20110313,2152, 27.0013, -79.5658,  741,     51.1,  25.5919,  35.8160,2,    203.8,2,    201.6,2,     2.35,2,     0.02,2,     0.04,2,   -999.0,9,   8.0621,2,    25.00,  25.5806,20110313,2211
  29AH20110128,   A05,   161,  1,     12,2,20110313,2152, 27.0013, -79.5658,  741,     25.9,  25.5762,  35.7814,2,    204.6,2,    204.4,2,     2.83,2,     0.03,2,     0.06,2,   -999.0,9,   8.0617,2,    25.00,  25.5705,20110313,2212
  29AH20110128,   A05,   161,  1,     13,2,20110313,2152, 27.0013, -79.5658,  741,      5.5,  25.6375,  35.7868,2,    205.0,2,    204.4,2,     2.91,2,     0.03,2,     0.06,2,   2348.9,2,   8.0698,2,    25.00,  25.6363,20110313,2213
  29AH20110128,   A05,   162,  1,      1,2,20110313,2351, 27.0023, -79.6305,  621,    610.8,   6.4021,  34.9104,2,    142.1,2,    141.9,2,    24.51,2,  -999.00,9,     2.01,2,   -999.0,9,   7.6043,2,    25.00,   6.3460,20110313,2351
  29AH20110128,   A05,   162,  1,      2,2,20110313,2351, 27.0023, -79.6305,  621,    398.5,  11.0828,  35.3276,2,    124.5,2,    125.0,2,  -999.00,9,    23.09,2,     1.56,2,   -999.0,9,   7.6780,2,    25.00,  11.0328,20110313,2356
  29AH20110128,   A05,   162,  1,      3,2,20110313,2351, 27.0023, -79.6305,  621,    300.6,  14.5766,  35.8862,2,    140.4,2,    140.9,2,     6.80,2,    13.42,2,     0.98,2,   -999.0,9,   7.7823,2,    25.00,  14.5315,20110313,2358
  29AH20110128,   A05,   162,  1,      4,2,20110313,2351, 27.0023, -79.6305,  621,    201.0,  18.0593,  36.4684,2,    158.1,2,    159.4,2,     4.37,2,  -999.00,9,     0.50,2,   -999.0,9,   7.8870,2,    25.00,  18.0244,20110313,0000
  29AH20110128,   A05,   162,  1,      5,2,20110313,2351, 27.0023, -79.6305,  621,    149.4,  20.4214,  36.7627,2,    151.8,2,    150.2,2,     3.30,2,     5.92,2,     0.35,2,   -999.0,9,   7.9183,2,    25.00,  20.3931,20110313,0001
  29AH20110128,   A05,   162,  1,      6,2,20110313,2351, 27.0023, -79.6305,  621,    126.4,  21.5092,  36.8610,2,    147.4,2,    148.2,2,     3.26,2,     5.64,2,     0.31,2,   -999.0,9,   7.9266,2,    25.00,  21.4844,20110313,0002
  29AH20110128,   A05,   162,  1,      7,2,20110313,2351, 27.0023, -79.6305,  621,    100.6,  22.8304,  36.8914,2,    161.8,2,    161.8,2,     2.61,2,     2.95,2,     0.17,2,   -999.0,9,   7.9680,2,    25.00,  22.8098,20110313,0003
  29AH20110128,   A05,   162,  1,      8,2,20110313,2351, 27.0023, -79.6305,  621,     76.5,  24.2085,  36.8326,2,    166.6,2,    181.1,3,     3.01,2,     0.86,2,     0.07,2,   -999.0,9,   8.0155,2,    25.00,  24.1922,20110313,0003
  29AH20110128,   A05,   162,  1,      9,2,20110313,2351, 27.0023, -79.6305,  621,     51.9,  25.6987,  36.0090,2,    200.4,2,    199.1,2,     2.71,2,     0.03,2,     0.05,2,   -999.0,9,   8.0640,2,    25.00,  25.6872,20110313,0004
  29AH20110128,   A05,   162,  1,     10,2,20110313,2351, 27.0023, -79.6305,  621,     25.6,  25.4953,  35.8263,2,    205.4,2,    204.4,2,     2.73,2,     0.03,2,     0.04,2,   -999.0,9,   8.0774,2,    25.00,  25.4897,20110313,0005
  29AH20110128,   A05,   162,  1,     11,2,20110313,2351, 27.0023, -79.6305,  621,      5.8,  25.5583,  35.7963,2,    205.7,2,    203.3,2,     2.89,2,     0.03,2,     0.05,2,   -999.0,9,   8.0789,2,    25.00,  25.5570,20110313,0006
  29AH20110128,   A05,   163,  1,      1,2,20110314,0056, 27.0010, -79.6943,  523,    513.3,   6.4856,  34.9116,2,    140.7,2,    140.1,2,    23.61,2,  -999.00,9,     1.95,2,   -999.0,9,   7.6032,2,    25.00,   6.4385,20110314,0056
  29AH20110128,   A05,   163,  1,      2,2,20110314,0056, 27.0010, -79.6943,  523,    401.1,   9.6065,  35.1637,2,    124.6,2,    123.2,2,  -999.00,9,    26.39,2,     1.71,2,   -999.0,9,   7.6414,2,    25.00,   9.5605,20110314,0059
  29AH20110128,   A05,   163,  1,      3,2,20110314,0056, 27.0010, -79.6943,  523,    300.4,  13.3934,  35.6872,2,    134.0,2,    134.3,2,     9.96,2,  -999.00,9,     1.19,2,   -999.0,9,   7.7492,2,    25.00,  13.3508,20110314,0101
  29AH20110128,   A05,   163,  1,      4,2,20110314,0056, 27.0010, -79.6943,  523,    201.0,  17.3189,  36.3394,2,    150.7,2,    149.3,2,     5.53,2,    10.55,2,     0.62,2,   -999.0,9,   7.8578,2,    25.00,  17.2850,20110314,0103
  29AH20110128,   A05,   163,  1,      5,2,20110314,0056, 27.0010, -79.6943,  523,    150.5,  19.7622,  36.7061,2,    166.6,2,    166.8,2,     3.43,2,     4.31,2,     0.26,2,   -999.0,9,   7.9363,2,    25.00,  19.7343,20110314,0105
  29AH20110128,   A05,   163,  1,      6,2,20110314,0056, 27.0010, -79.6943,  523,    126.3,  21.0916,  36.8224,2,    160.6,2,    159.6,2,     3.33,2,     3.98,2,     0.24,2,   -999.0,9,   7.9456,2,    25.00,  21.0671,20110314,0105
  29AH20110128,   A05,   163,  1,      7,2,20110314,0056, 27.0010, -79.6943,  523,    100.2,  22.4602,  36.8812,2,    156.7,2,    156.3,2,     2.96,2,     2.82,2,     0.20,2,   -999.0,9,   7.9613,2,    25.00,  22.4399,20110314,0106
  29AH20110128,   A05,   163,  1,      8,2,20110314,0056, 27.0010, -79.6943,  523,     76.6,  23.9648,  36.8636,2,    161.8,2,    161.1,2,     2.80,2,     1.09,2,     0.12,2,   -999.0,9,   7.9867,2,    25.00,  23.9486,20110314,0107
  29AH20110128,   A05,   163,  1,      9,2,20110314,0056, 27.0010, -79.6943,  523,     51.4,  25.6564,  36.0537,2,    197.4,2,    199.7,2,     3.20,2,     0.00,2,     0.05,2,   -999.0,9,   8.0660,2,    25.00,  25.6450,20110314,0108
  29AH20110128,   A05,   163,  1,     10,2,20110314,0056, 27.0010, -79.6943,  523,     27.8,  25.7326,  35.9213,2,    204.1,2,    202.3,2,     3.26,2,     0.23,2,     0.06,2,   -999.0,9,   8.0699,2,    25.00,  25.7264,20110314,0109
  29AH20110128,   A05,   163,  1,     11,2,20110314,0056, 27.0010, -79.6943,  523,      4.0,  25.7152,  35.9176,2,    204.0,2,    203.5,2,     3.25,2,     0.00,2,     0.05,2,   -999.0,9,   8.0676,2,    25.00,  25.7143,20110314,0110