BOTTLE,20220930CCHSIOAMB
EXPOCODE,SECT_ID,STNNBR,CASTNO,BTLNBR,BTLNBR_FLAG_W,DATE,TIME,LATITUDE,LONGITUDE,DEPTH,CTDPRS,CTDTMP,CTDSAL,CTDSAL_FLAG_W,CTDOXY,CTDOXY_FLAG_W,OXYGEN,OXYGEN_FLAG_W,SILCAT,SILCAT_FLAG_W,NITRAT,NITRAT_FLAG_W,PHSPHT,PHSPHT_FLAG_W,ALKALI,ALKALI_FLAG_W,PH_SWS,PH_SWS_FLAG_W,PH_TMP,THETA,BTL_DATE,BTL_TIME
,,,,,,,,,,METERS,DBAR,ITS-90,PSS-78,,UMOL/KG,,UMOL/KG,,UMOL/KG,,UMOL/KG,,UMOL/KG,,UMOL/KG,,,,DEG C,DEG C,,
  29AH20110128,   A05,    41,  1,      1,2,20110207,1645, 24.5012, -29.5935, 5817,   5807.0,   2.4967,  34.8839,2,    245.2,2,    245.0,2,    49.97,2,    21.07,2,     1.48,2,   -999.0,9,   7.7234,2,    25.00,   1.9210,20110207,1645
  29AH20110128,   A05,    41,  1,      2,2,20110207,1645, 24.5012, -29.5935, 5817,   5501.5,   2.4574,  34.8847,2,    244.1,2,    244.8,2,    45.25,3,    20.87,2,     1.48,2,   -999.0,9,   7.7193,2,    25.00,   1.9242,20110207,1651
  29AH20110128,   A05,    41,  1,      3,2,20110207,1645, 24.5012, -29.5935, 5817,   5000.4,   2.3998,  34.8861,2,    244.9,2,    245.9,2,    49.51,2,    20.89,2,     1.49,2,   -999.0,9,   7.7218,2,    25.00,   1.9337,20110207,1700
  29AH20110128,   A05,    41,  1,      4,2,20110207,1645, 24.5012, -29.5935, 5817,   4500.2,   2.3729,  34.8903,2,    244.0,2,    243.9,2,    48.64,2,    20.77,2,     1.56,2,   -999.0,9,   7.7212,2,    25.00,   1.9695,20110207,1710
  29AH20110128,   A05,    41,  1,      5,2,20110207,1645, 24.5012, -29.5935, 5817,   3999.5,   2.4099,  34.9001,2,    243.2,2,    244.4,2,    45.22,2,    20.60,2,     1.47,2,   -999.0,9,   7.7234,2,    25.00,   2.0642,20110207,1719
  29AH20110128,   A05,    41,  1,      6,2,20110207,1645, 24.5012, -29.5935, 5817,   3500.5,   2.5124,  34.9146,2,    242.7,2,    246.4,2,    42.63,2,    20.34,2,     1.43,2,   -999.0,9,   7.7240,2,    25.00,   2.2195,20110207,1729
  29AH20110128,   A05,    41,  1,      7,2,20110207,1645, 24.5012, -29.5935, 5817,   3001.0,   2.7270,  34.9380,2,    242.2,2,    243.4,2,    38.27,2,    19.90,2,     1.34,2,   -999.0,9,   7.7247,2,    25.00,   2.4820,20110207,1738
  29AH20110128,   A05,    41,  1,      8,2,20110207,1645, 24.5012, -29.5935, 5817,   2500.2,   3.1750,  34.9813,2,    240.7,2,    243.2,2,    31.05,2,    19.24,2,     1.31,2,   -999.0,9,   7.7251,2,    25.00,   2.9716,20110207,1748
  29AH20110128,   A05,    41,  1,      9,2,20110207,1645, 24.5012, -29.5935, 5817,   1999.7,   4.0145,  35.0550,2,    227.6,2,    229.7,2,    25.60,2,    19.55,2,     1.41,2,   -999.0,9,   7.7178,2,    25.00,   3.8465,20110207,1758
  29AH20110128,   A05,    41,  1,     10,2,20110207,1645, 24.5012, -29.5935, 5817,   1751.3,   4.6573,  35.1112,2,    215.6,2,    216.7,2,    23.27,2,    20.07,2,     1.41,2,   -999.0,9,   7.7086,2,    25.00,   4.5048,20110207,1803
  29AH20110128,   A05,    41,  1,     11,2,20110207,1645, 24.5012, -29.5935, 5817,   1500.8,   5.3912,  35.1683,2,    201.8,2,    202.8,2,    21.38,2,    20.68,2,     1.44,2,   -999.0,9,   7.7006,2,    25.00,   5.2549,20110207,1808
  29AH20110128,   A05,    41,  1,     12,2,20110207,1645, 24.5012, -29.5935, 5817,   1300.5,   6.0000,  35.1850,2,    188.0,2,    189.1,2,    20.40,2,    21.61,2,     1.48,2,   -999.0,9,   7.6881,2,    25.00,   5.8778,20110207,1812
  29AH20110128,   A05,    41,  1,     13,2,20110207,1645, 24.5012, -29.5935, 5817,   1201.9,   6.3978,  35.1893,2,    176.3,2,    175.9,2,    20.49,2,    22.64,2,     1.58,2,   -999.0,9,   7.6698,2,    25.00,   6.2821,20110207,1814
  29AH20110128,   A05,    41,  1,     14,2,20110207,1645, 24.5012, -29.5935, 5817,    999.9,   7.0126,  35.1354,2,    150.5,2,    150.8,2,    21.35,2,    25.00,2,     1.79,2,   -999.0,9,   7.6393,2,    25.00,   6.9132,20110207,1818
  29AH20110128,   A05,    41,  1,     15,2,20110207,1645, 24.5012, -29.5935, 5817,    800.3,   8.7950,  35.2638,2,    133.6,2,    134.0,2,    17.44,2,    24.11,2,     1.75,2,   -999.0,9,   7.6489,2,    25.00,   8.7059,20110207,1822
  29AH20110128,   A05,    41,  1,     16,2,20110207,1645, 24.5012, -29.5935, 5817,    601.2,  11.5153,  35.5723,2,    161.9,2,    163.9,2,     9.63,2,    16.87,2,     1.02,2,   -999.0,9,   7.7467,2,    25.00,  11.4371,20110207,1826
  29AH20110128,   A05,    41,  1,     17,2,20110207,1645, 24.5012, -29.5935, 5817,    400.2,  14.4228,  35.9695,2,    188.3,2,    188.9,2,     5.21,2,     9.79,2,  -999.00,9,   -999.0,9,   7.8439,2,    25.00,  14.3629,20110207,1830
  29AH20110128,   A05,    41,  1,     18,2,20110207,1645, 24.5012, -29.5935, 5817,    301.7,  16.3172,  36.2916,2,    192.4,2,    193.2,2,     3.75,2,     6.57,2,  -999.00,9,   -999.0,9,   7.8977,2,    25.00,  16.2682,20110207,1832
  29AH20110128,   A05,    41,  1,     19,2,20110207,1645, 24.5012, -29.5935, 5817,    151.4,  19.2864,  36.8100,2,    189.9,2,    191.2,2,     2.43,2,     2.17,2,     0.14,2,   -999.0,9,   7.9468,2,    25.00,  19.2588,20110207,1835
  29AH20110128,   A05,    41,  1,     20,2,20110207,1645, 24.5012, -29.5935, 5817,    125.4,  20.0611,  36.9004,2,    205.2,2,    205.9,2,     2.18,2,     0.53,2,     0.12,2,   -999.0,9,   7.9776,2,    25.00,  20.0376,20110207,1836
  29AH20110128,   A05,    41,  1,     21,2,20110207,1645, 24.5012, -29.5935, 5817,     75.1,  22.3866,  37.4182,2,    211.9,2,    212.9,2,     2.07,2,     0.05,2,     0.13,2,   -999.0,9,   8.0348,2,    25.00,  22.3714,20110207,1837
  29AH20110128,   A05,    41,  1,     22,2,20110207,1645, 24.5012, -29.5935, 5817,     51.0,  22.3903,  37.4197,2,    212.3,2,    212.4,2,     2.09,2,     0.05,2,     0.13,2,   -999.0,9,   8.0342,2,    25.00,  22.3800,20110207,1837
  29AH20110128,   A05,    41,  1,     23,2,20110207,1645, 24.5012, -29.5935, 5817,     25.3,  22.3964,  37.4188,2,    212.8,2,    214.1,2,     2.05,2,     0.05,2,     0.12,2,   -999.0,9,   8.0335,2,    25.00,  22.3913,20110207,1838
  29AH20110128,   A05,    41,  1,     24,2,20110207,1645, 24.5012, -29.5935, 5817,      5.9,  22.5225,  37.4246,2,    212.8,2,    212.2,2,     2.06,2,     0.08,2,     0.12,2,   -999.0,9,   8.0351,2,    25.00,  22.5213,20110207,1839
  29AH20110128,   A05,    42,  1,      1,2,20110208,0042, 24.5007, -30.2063, 5905,   5422.0,   2.4442,  34.8842,2,    245.1,2,    245.3,2,    49.85,2,    20.74,2,     1.54,2,   2354.5,2,   7.7235,2,    25.00,   1.9220,20110208,0042
  29AH20110128,   A05,    42,  1,      2,2,20110208,0042, 24.5007, -30.2063, 5905,   4999.9,   2.4009,  34.8861,2,    244.9,2,    244.4,2,    49.12,2,    20.74,2,     1.53,2,   2354.7,2,   7.7230,2,    25.00,   1.9348,20110208,0050
  29AH20110128,   A05,    42,  1,      3,2,20110208,0042, 24.5007, -30.2063, 5905,   4500.0,   2.3787,  34.8909,2,    244.1,2,    243.8,2,    47.59,2,    20.69,2,     1.55,2,   2354.1,2,   7.7246,2,    25.00,   1.9751,20110208,0100
  29AH20110128,   A05,    42,  1,      4,2,20110208,0042, 24.5007, -30.2063, 5905,   4002.0,   2.4115,  34.9000,2,    243.9,2,    244.1,2,    45.62,2,    20.53,2,     1.48,2,   2352.1,2,   7.7221,2,    25.00,   2.0654,20110208,0109
  29AH20110128,   A05,    42,  1,      5,2,20110208,0042, 24.5007, -30.2063, 5905,   3500.0,   2.5192,  34.9152,2,    243.6,2,    243.9,2,    42.62,2,    20.12,2,     1.42,2,   2349.6,2,   7.7256,2,    25.00,   2.2262,20110208,0119
  29AH20110128,   A05,    42,  1,      6,2,20110208,0042, 24.5007, -30.2063, 5905,   3001.3,   2.7302,  34.9383,2,    243.1,2,    244.4,2,    38.17,2,    19.72,2,     1.38,2,   2343.2,2,   7.7257,2,    25.00,   2.4851,20110208,0128
  29AH20110128,   A05,    42,  1,      7,2,20110208,0042, 24.5007, -30.2063, 5905,   2498.8,   3.2234,  34.9857,2,    241.6,2,    242.6,2,    30.12,2,    19.13,2,     1.32,2,   2336.1,2,   7.7273,2,    25.00,   3.0193,20110208,0138
  29AH20110128,   A05,    42,  1,      8,2,20110208,0042, 24.5007, -30.2063, 5905,   2000.2,   3.9926,  35.0547,2,    229.8,2,    230.2,2,    24.93,2,    19.44,2,     1.32,2,   2332.0,2,   7.7201,2,    25.00,   3.8249,20110208,0148
  29AH20110128,   A05,    42,  1,      9,2,20110208,0042, 24.5007, -30.2063, 5905,   1750.7,   4.5472,  35.1019,2,    218.5,2,    219.3,2,    23.63,2,    19.90,2,     1.34,2,   2334.0,2,   7.7156,2,    25.00,   4.3962,20110208,0153
  29AH20110128,   A05,    42,  1,     10,2,20110208,0042, 24.5007, -30.2063, 5905,   1501.5,   5.3992,  35.1693,2,    201.6,2,    202.2,2,    21.29,2,    20.65,2,     1.39,2,   2335.3,2,   7.7044,2,    25.00,   5.2627,20110208,0158
  29AH20110128,   A05,    42,  1,     11,2,20110208,0042, 24.5007, -30.2063, 5905,   1301.4,   5.9926,  35.1707,2,    188.5,2,    188.9,2,    20.31,2,    21.63,2,     1.49,2,   2332.8,2,   7.6919,2,    25.00,   5.8704,20110208,0202
  29AH20110128,   A05,    42,  1,     12,2,20110208,0042, 24.5007, -30.2063, 5905,   1200.9,   6.1537,  35.1410,2,    181.9,2,    182.6,2,    20.28,2,    22.40,2,     1.55,2,   2331.0,2,   7.6813,2,    25.00,   6.0404,20110208,0204
  29AH20110128,   A05,    42,  1,     13,2,20110208,0042, 24.5007, -30.2063, 5905,   1001.7,   7.1690,  35.1544,2,    158.1,2,    157.1,2,    20.04,2,    23.86,2,     1.69,2,   2332.3,2,   7.6620,2,    25.00,   7.0683,20110208,0208
  29AH20110128,   A05,    42,  1,     14,2,20110208,0042, 24.5007, -30.2063, 5905,    899.7,   7.8836,  35.2009,2,    148.4,2,    148.4,2,    18.99,2,    23.87,2,     1.67,2,   -999.0,9,   7.6569,2,    25.00,   7.7889,20110208,0210
  29AH20110128,   A05,    42,  1,     15,2,20110208,0042, 24.5007, -30.2063, 5905,    800.2,   8.8313,  35.2806,2,    141.3,2,    140.2,2,    16.87,2,    23.34,2,     1.55,2,   2332.3,2,   7.6649,2,    25.00,   8.7420,20110208,0212
  29AH20110128,   A05,    42,  1,     16,2,20110208,0042, 24.5007, -30.2063, 5905,    599.9,  11.5170,  35.5725,2,    155.1,2,    159.0,2,  -999.00,9,  -999.00,9,  -999.00,9,   -999.0,9,   7.7530,2,    25.00,  11.4390,20110208,0216
  29AH20110128,   A05,    42,  1,     17,2,20110208,0042, 24.5007, -30.2063, 5905,    399.6,  14.2571,  35.9459,2,    183.0,2,    184.3,2,     5.71,2,    10.54,2,  -999.00,9,   2364.3,2,   7.8410,2,    25.00,  14.1978,20110208,0220
  29AH20110128,   A05,    42,  1,     18,2,20110208,0042, 24.5007, -30.2063, 5905,    299.2,  16.0969,  36.2534,2,    189.4,2,    187.9,2,     4.27,2,     7.41,2,     0.32,2,   2381.4,2,   7.8977,2,    25.00,  16.0488,20110208,0223
  29AH20110128,   A05,    42,  1,     19,2,20110208,0042, 24.5007, -30.2063, 5905,    151.4,  19.0388,  36.7629,2,    194.0,2,    194.3,2,     2.75,2,     2.05,2,     0.12,2,   2409.6,2,   7.9524,2,    25.00,  19.0115,20110208,0225
  29AH20110128,   A05,    42,  1,     20,2,20110208,0042, 24.5007, -30.2063, 5905,    125.4,  20.2183,  36.9279,2,    197.3,2,    199.2,2,     2.49,2,     0.77,2,     0.11,2,   2417.8,2,   7.9799,2,    25.00,  20.1947,20110208,0226
  29AH20110128,   A05,    42,  1,     21,2,20110208,0042, 24.5007, -30.2063, 5905,     74.7,  22.7086,  37.4281,2,    211.4,2,    206.9,2,  -999.00,9,  -999.00,9,  -999.00,9,   -999.0,9,   8.0256,2,    25.00,  22.6933,20110208,0227
  29AH20110128,   A05,    42,  1,     22,2,20110208,0042, 24.5007, -30.2063, 5905,     51.1,  22.7036,  37.4297,2,    211.6,2,    211.3,2,     2.31,2,     0.00,2,     0.10,2,   -999.0,9,   8.0470,2,    25.00,  22.6932,20110208,0228
  29AH20110128,   A05,    42,  1,     23,2,20110208,0042, 24.5007, -30.2063, 5905,     26.1,  22.7024,  37.4320,2,    211.8,2,    211.5,2,     2.33,2,     0.00,2,     0.11,2,   -999.0,9,   8.0446,2,    25.00,  22.6971,20110208,0229
  29AH20110128,   A05,    42,  1,     24,2,20110208,0042, 24.5007, -30.2063, 5905,      5.6,  22.6948,  37.4317,2,    212.2,2,    212.2,2,     2.31,2,     0.01,2,     0.12,2,   2457.9,2,   8.0451,2,    25.00,  22.6936,20110208,0229
  29AH20110128,   A05,    43,  1,      1,2,20110208,0822, 24.4992, -30.8183, 5994,   5878.8,   2.4930,  34.8825,2,    245.1,2,    243.9,2,    49.87,2,    20.96,2,     1.55,2,   -999.0,9,   7.7179,2,    25.00,   1.9076,20110208,0822
  29AH20110128,   A05,    43,  1,      2,2,20110208,0822, 24.4992, -30.8183, 5994,   5500.8,   2.4423,  34.8831,2,   -999.0,9,    243.7,2,    50.63,2,    20.89,2,     1.54,2,   -999.0,9,   7.7186,2,    25.00,   1.9098,20110208,0830
  29AH20110128,   A05,    43,  1,      3,2,20110208,0822, 24.4992, -30.8183, 5994,   5001.1,   2.3965,  34.8857,2,   -999.0,9,    243.4,2,    49.87,2,    21.07,2,     1.51,2,   -999.0,9,   7.7206,2,    25.00,   1.9304,20110208,0839
  29AH20110128,   A05,    43,  1,      4,2,20110208,0822, 24.4992, -30.8183, 5994,   4500.6,   2.3837,  34.8914,2,   -999.0,9,    242.6,2,    48.95,2,    21.02,2,     1.50,2,   -999.0,9,   7.7203,2,    25.00,   1.9799,20110208,0849
  29AH20110128,   A05,    43,  1,      5,2,20110208,0822, 24.4992, -30.8183, 5994,   4000.0,   2.4194,  34.9007,2,   -999.0,9,    242.5,2,    46.79,2,    20.65,2,     1.54,2,   -999.0,9,   7.7233,2,    25.00,   2.0733,20110208,0859
  29AH20110128,   A05,    43,  1,      6,2,20110208,0822, 24.4992, -30.8183, 5994,   3500.3,   2.5286,  34.9162,2,   -999.0,9,    243.5,2,    42.99,2,    20.34,2,     1.45,2,   -999.0,9,   7.7242,2,    25.00,   2.2354,20110208,0908
  29AH20110128,   A05,    43,  1,      7,2,20110208,0822, 24.4992, -30.8183, 5994,   3000.4,   2.7246,  34.9378,2,   -999.0,9,    242.6,2,    37.50,2,    19.90,2,     1.39,2,   -999.0,9,   7.7261,2,    25.00,   2.4797,20110208,0918
  29AH20110128,   A05,    43,  1,      8,2,20110208,0822, 24.4992, -30.8183, 5994,   2499.8,   3.1779,  34.9820,2,   -999.0,9,    238.7,2,    31.31,2,    19.38,2,     1.31,2,   -999.0,9,   7.7255,2,    25.00,   2.9745,20110208,0928
  29AH20110128,   A05,    43,  1,      9,2,20110208,0822, 24.4992, -30.8183, 5994,   2000.3,   3.9597,  35.0536,2,   -999.0,9,    233.2,2,    24.87,2,    19.30,2,     1.37,2,   -999.0,9,   7.7219,2,    25.00,   3.7925,20110208,0938
  29AH20110128,   A05,    43,  1,     10,2,20110208,0822, 24.4992, -30.8183, 5994,   1751.0,   4.5230,  35.1006,2,   -999.0,9,    223.1,2,    22.70,2,    19.67,2,     1.38,2,   -999.0,9,   7.7138,2,    25.00,   4.3723,20110208,0943
  29AH20110128,   A05,    43,  1,     11,2,20110208,0822, 24.4992, -30.8183, 5994,   1500.7,   5.2485,  35.1538,2,   -999.0,9,    219.7,2,    20.75,2,    20.19,2,     1.33,2,   -999.0,9,   7.7059,2,    25.00,   5.1138,20110208,0948
  29AH20110128,   A05,    43,  1,     12,2,20110208,0822, 24.4992, -30.8183, 5994,   1301.3,   5.8090,  35.1585,2,    185.7,2,    186.1,2,    20.07,2,    21.53,2,     1.45,2,   -999.0,9,   7.6911,2,    25.00,   5.6886,20110208,0952
  29AH20110128,   A05,    43,  1,     13,2,20110208,0822, 24.4992, -30.8183, 5994,   1199.4,   6.1159,  35.1464,2,    175.9,2,    176.3,2,    20.34,2,    22.33,2,     1.55,2,   -999.0,9,   7.6781,2,    25.00,   6.0030,20110208,0954
  29AH20110128,   A05,    43,  1,     14,2,20110208,0822, 24.4992, -30.8183, 5994,   1000.2,   6.9149,  35.1307,2,    151.9,2,    151.8,2,    20.65,2,    24.36,2,     1.78,2,   -999.0,9,   7.6509,2,    25.00,   6.8162,20110208,0958
  29AH20110128,   A05,    43,  1,     15,2,20110208,0822, 24.4992, -30.8183, 5994,    800.0,   8.7732,  35.2836,2,    139.8,2,    140.2,2,    16.80,2,    23.00,2,     1.58,2,   -999.0,9,   7.6690,2,    25.00,   8.6843,20110208,1002
  29AH20110128,   A05,    43,  1,     16,2,20110208,0822, 24.4992, -30.8183, 5994,    600.5,  11.5371,  35.5783,2,    160.1,2,    160.7,2,     9.55,2,    16.72,2,  -999.00,9,   -999.0,9,   7.7452,2,    25.00,  11.4589,20110208,1006
  29AH20110128,   A05,    43,  1,     17,2,20110208,0822, 24.4992, -30.8183, 5994,    400.4,  14.0850,  35.9251,2,    177.8,2,    178.7,2,     5.55,2,    10.58,2,  -999.00,9,   -999.0,9,   7.8338,2,    25.00,  14.0260,20110208,1010
  29AH20110128,   A05,    43,  1,     18,2,20110208,0822, 24.4992, -30.8183, 5994,    300.9,  15.6306,  36.1628,2,    159.6,2,    160.4,2,     5.10,2,    10.41,2,     0.53,2,   -999.0,9,   7.8601,2,    25.00,  15.5832,20110208,1012
  29AH20110128,   A05,    43,  1,     19,2,20110208,0822, 24.4992, -30.8183, 5994,    151.0,  18.5650,  36.6699,2,    167.1,2,    170.6,2,     3.35,2,     5.47,2,  -999.00,9,   -999.0,9,   7.8998,2,    25.00,  18.5382,20110208,1015
  29AH20110128,   A05,    43,  1,     20,2,20110208,0822, 24.4992, -30.8183, 5994,    119.9,  19.7916,  36.8327,2,    178.5,2,    179.3,2,     2.66,2,     2.47,2,     0.17,2,   -999.0,9,   7.9390,2,    25.00,  19.7694,20110208,1016
  29AH20110128,   A05,    43,  1,     21,2,20110208,0822, 24.4992, -30.8183, 5994,     75.8,  22.3888,  37.4172,2,    207.4,2,    208.9,2,     2.06,2,     0.11,2,     0.06,2,   -999.0,9,   8.0359,2,    25.00,  22.3735,20110208,1017
  29AH20110128,   A05,    43,  1,     22,2,20110208,0822, 24.4992, -30.8183, 5994,     41.7,  22.3777,  37.4174,2,    208.2,2,    212.4,2,     2.06,2,     0.06,2,     0.05,2,   -999.0,9,   8.0392,2,    25.00,  22.3693,20110208,1018
  29AH20110128,   A05,    43,  1,     23,2,20110208,0822, 24.4992, -30.8183, 5994,     25.0,  22.3775,  37.4176,2,    208.1,2,    210.8,2,     2.10,2,     0.08,2,     0.08,2,   -999.0,9,   8.0367,2,    25.00,  22.3724,20110208,1018
  29AH20110128,   A05,    43,  1,     24,2,20110208,0822, 24.4992, -30.8183, 5994,      5.0,  22.3760,  37.4168,2,    208.6,2,    211.3,2,     2.02,2,     0.01,2,     0.13,2,   -999.0,9,   8.0347,2,    25.00,  22.3750,20110208,1019