BOTTLE,20220930CCHSIOAMB
EXPOCODE,SECT_ID,STNNBR,CASTNO,BTLNBR,BTLNBR_FLAG_W,DATE,TIME,LATITUDE,LONGITUDE,DEPTH,CTDPRS,CTDTMP,CTDSAL,CTDSAL_FLAG_W,CTDOXY,CTDOXY_FLAG_W,OXYGEN,OXYGEN_FLAG_W,SILCAT,SILCAT_FLAG_W,NITRAT,NITRAT_FLAG_W,PHSPHT,PHSPHT_FLAG_W,ALKALI,ALKALI_FLAG_W,PH_SWS,PH_SWS_FLAG_W,PH_TMP,THETA,BTL_DATE,BTL_TIME
,,,,,,,,,,METERS,DBAR,ITS-90,PSS-78,,UMOL/KG,,UMOL/KG,,UMOL/KG,,UMOL/KG,,UMOL/KG,,UMOL/KG,,,,DEG C,DEG C,,
  29AH20110128,   A05,    83,  1,      1,2,20110220,2041, 24.5003, -50.0370, 4771,   4761.2,   2.1733,  34.8711,2,    254.7,2,    255.0,2,    43.78,2,    20.39,2,     1.49,2,   -999.0,9,   7.7217,2,    25.00,   1.7445,20110220,2041
  29AH20110128,   A05,    83,  1,      2,2,20110220,2041, 24.5003, -50.0370, 4771,   4500.9,   2.1903,  34.8764,2,    255.1,2,    253.7,2,    43.11,2,    20.05,2,     1.46,2,   -999.0,9,   7.7214,2,    25.00,   1.7925,20110220,2047
  29AH20110128,   A05,    83,  1,      3,2,20110220,2041, 24.5003, -50.0370, 4771,   3999.1,   2.2902,  34.8901,2,    255.4,2,    254.1,2,    40.55,2,    19.72,2,     1.45,2,   -999.0,9,   7.7248,2,    25.00,   1.9479,20110220,2057
  29AH20110128,   A05,    83,  1,      4,2,20110220,2041, 24.5003, -50.0370, 4771,   3501.4,   2.4650,  34.9084,2,    254.5,2,    253.3,2,    37.60,2,    19.51,2,     1.41,2,   -999.0,9,   7.7278,2,    25.00,   2.1733,20110220,2107
  29AH20110128,   A05,    83,  1,      5,2,20110220,2041, 24.5003, -50.0370, 4771,   3000.1,   2.7713,  34.9360,2,    251.2,2,    250.4,2,    33.71,2,    19.34,2,     1.37,2,   -999.0,9,   7.7301,2,    25.00,   2.5254,20110220,2116
  29AH20110128,   A05,    83,  1,      6,2,20110220,2041, 24.5003, -50.0370, 4771,   2500.6,   3.1394,  34.9687,2,    250.2,2,    249.6,2,    28.00,2,    18.59,2,     1.32,2,   -999.0,9,   7.7304,2,    25.00,   2.9367,20110220,2126
  29AH20110128,   A05,    83,  1,      7,2,20110220,2041, 24.5003, -50.0370, 4771,   2000.7,   3.9132,  35.0322,2,    245.3,2,    245.2,2,    20.75,2,    18.16,2,     1.28,2,   -999.0,9,   7.7298,2,    25.00,   3.7467,20110220,2136
  29AH20110128,   A05,    83,  1,      8,2,20110220,2041, 24.5003, -50.0370, 4771,   1751.2,   4.2580,  35.0421,2,    241.5,2,    240.8,2,    18.06,2,    18.37,2,     1.27,2,   -999.0,9,   7.7279,2,    25.00,   4.1109,20110220,2141
  29AH20110128,   A05,    83,  1,      9,2,20110220,2041, 24.5003, -50.0370, 4771,   1501.4,   4.8990,  35.0685,2,    234.1,2,    234.1,2,    15.24,2,    18.44,2,  -999.00,9,   -999.0,9,   7.7184,2,    25.00,   4.7683,20110220,2146
  29AH20110128,   A05,    83,  1,     10,2,20110220,2041, 24.5003, -50.0370, 4771,   1300.5,   5.4530,  35.0641,2,    213.3,2,    212.0,2,    16.38,2,    20.03,2,     1.40,2,   -999.0,9,   7.7006,2,    25.00,   5.3363,20110220,2150
  29AH20110128,   A05,    83,  1,     11,2,20110220,2041, 24.5003, -50.0370, 4771,   1201.4,   5.7995,  35.0621,2,    200.3,2,    199.6,2,    16.73,2,    21.07,2,     1.48,2,   -999.0,9,   7.6889,2,    25.00,   5.6894,20110220,2152
  29AH20110128,   A05,    83,  1,     12,2,20110220,2041, 24.5003, -50.0370, 4771,   1100.0,   6.3793,  35.0518,2,    179.1,2,    178.4,2,    18.13,2,    22.94,2,     1.62,2,   -999.0,9,   7.6698,2,    25.00,   6.2745,20110220,2154
  29AH20110128,   A05,    83,  1,     13,2,20110220,2041, 24.5003, -50.0370, 4771,   1001.1,   6.7417,  35.0360,2,    162.6,2,    161.7,2,    19.21,2,    24.40,2,     1.67,2,   -999.0,9,   7.6516,2,    25.00,   6.6444,20110220,2156
  29AH20110128,   A05,    83,  1,     14,2,20110220,2041, 24.5003, -50.0370, 4771,    900.8,   7.5743,  35.0599,2,    144.3,2,    143.3,2,    19.07,2,    25.48,2,  -999.00,9,   -999.0,9,   7.6414,2,    25.00,   7.4818,20110220,2158
  29AH20110128,   A05,    83,  1,     15,2,20110220,2041, 24.5003, -50.0370, 4771,    800.9,   9.1435,  35.2375,2,    141.8,2,    141.8,2,    15.12,2,    23.19,2,     1.58,2,   -999.0,9,   7.6743,2,    25.00,   9.0524,20110220,2200
  29AH20110128,   A05,    83,  1,     16,2,20110220,2041, 24.5003, -50.0370, 4771,    599.8,  12.8396,  35.7138,2,    167.4,2,    168.3,2,     7.06,2,    14.51,2,  -999.00,9,   -999.0,9,   7.7931,2,    25.00,  12.7560,20110220,2204
  29AH20110128,   A05,    83,  1,     17,2,20110220,2041, 24.5003, -50.0370, 4771,    401.7,  16.5640,  36.2979,2,    184.3,2,    183.6,2,     3.16,2,     7.45,2,  -999.00,9,   -999.0,9,   7.9022,2,    25.00,  16.4979,20110220,2208
  29AH20110128,   A05,    83,  1,     18,2,20110220,2041, 24.5003, -50.0370, 4771,    301.4,  17.7579,  36.5066,2,    188.7,2,    188.1,2,     2.42,2,     5.24,2,     0.21,2,   -999.0,9,   7.9362,2,    25.00,  17.7060,20110220,2210
  29AH20110128,   A05,    83,  1,     19,2,20110220,2041, 24.5003, -50.0370, 4771,    150.8,  20.2016,  36.8613,2,    190.7,2,    190.7,2,     1.28,2,     1.16,2,     0.05,2,   -999.0,9,   7.9815,2,    25.00,  20.1732,20110220,2213
  29AH20110128,   A05,    83,  1,     20,2,20110220,2041, 24.5003, -50.0370, 4771,    125.5,  21.6897,  37.0140,2,    200.7,2,    201.8,2,     1.15,2,     0.19,2,     0.04,2,   -999.0,9,   8.0159,2,    25.00,  21.6649,20110220,2214
  29AH20110128,   A05,    83,  1,     21,2,20110220,2041, 24.5003, -50.0370, 4771,     75.3,  24.0215,  37.1901,2,    209.8,2,    208.6,2,     1.22,2,     0.08,2,     0.05,2,   -999.0,9,   8.0853,2,    25.00,  24.0055,20110220,2215
  29AH20110128,   A05,    83,  1,     22,2,20110220,2041, 24.5003, -50.0370, 4771,     49.8,  24.0666,  37.1830,2,    210.4,2,    209.3,2,     1.22,2,     0.07,2,     0.04,2,   -999.0,9,   8.0865,2,    25.00,  24.0560,20110220,2216
  29AH20110128,   A05,    83,  1,     23,2,20110220,2041, 24.5003, -50.0370, 4771,     25.7,  24.0749,  37.1838,2,    210.9,2,    210.7,2,     1.22,2,     0.07,2,     0.04,2,   -999.0,9,   8.0859,2,    25.00,  24.0694,20110220,2216
  29AH20110128,   A05,    83,  1,     24,2,20110220,2041, 24.5003, -50.0370, 4771,      6.0,  24.1250,  37.1779,2,    210.6,2,    210.2,2,     1.22,2,     0.07,2,     0.04,2,   -999.0,9,   8.0865,2,    25.00,  24.1237,20110220,2217
  29AH20110128,   A05,    84,  1,      1,2,20110221,0320, 24.5012, -50.4997, 5224,   5214.1,   2.1516,  34.8626,2,    252.8,2,    252.0,2,    48.13,2,    21.04,2,     1.56,2,   2344.0,2,   7.7103,2,    25.00,   1.6669,20110221,0320
  29AH20110128,   A05,    84,  1,      2,2,20110221,0320, 24.5012, -50.4997, 5224,   4999.8,   2.1396,  34.8645,2,    252.5,2,    252.6,2,    47.59,2,    20.87,2,     1.57,2,   2343.6,2,   7.7074,2,    25.00,   1.6824,20110221,0325
  29AH20110128,   A05,    84,  1,      3,2,20110221,0320, 24.5012, -50.4997, 5224,   4501.1,   2.2081,  34.8784,2,    255.7,2,    254.7,2,    43.88,2,    20.29,2,     1.47,2,   2340.5,2,   7.7223,2,    25.00,   1.8097,20110221,0335
  29AH20110128,   A05,    84,  1,      4,2,20110221,0320, 24.5012, -50.4997, 5224,   3998.6,   2.3093,  34.8919,2,    255.6,2,    256.7,2,    40.64,2,    19.94,2,     1.44,2,   2338.0,2,   7.7238,2,    25.00,   1.9665,20110221,0344
  29AH20110128,   A05,    84,  1,      5,2,20110221,0320, 24.5012, -50.4997, 5224,   3499.7,   2.4594,  34.9084,2,    254.9,2,    254.1,2,    37.34,2,    19.78,2,     1.42,2,   -999.0,9,   7.7284,2,    25.00,   2.1680,20110221,0354
  29AH20110128,   A05,    84,  1,      6,2,20110221,0320, 24.5012, -50.4997, 5224,   3000.8,   2.7545,  34.9344,2,    251.0,2,    250.4,2,    33.30,2,    19.58,2,     1.36,2,   -999.0,9,   7.7314,2,    25.00,   2.5089,20110221,0404
  29AH20110128,   A05,    84,  1,      7,2,20110221,0320, 24.5012, -50.4997, 5224,   2500.5,   3.1031,  34.9659,2,    249.3,2,    249.6,2,    29.12,2,    19.07,2,     1.32,2,   2331.8,2,   7.7301,2,    25.00,   2.9011,20110221,0414
  29AH20110128,   A05,    84,  1,      8,2,20110221,0320, 24.5012, -50.4997, 5224,   1999.9,   3.8465,  35.0269,2,    245.3,2,    246.3,2,    21.50,2,    18.57,2,     1.25,2,   2325.0,2,   7.7284,2,    25.00,   3.6810,20110221,0424
  29AH20110128,   A05,    84,  1,      9,2,20110221,0320, 24.5012, -50.4997, 5224,   1752.0,   4.3424,  35.0576,2,    240.8,2,    241.5,2,    18.34,2,    18.53,2,     1.19,2,   2323.4,2,   7.7323,2,    25.00,   4.1941,20110221,0429
  29AH20110128,   A05,    84,  1,     10,2,20110221,0320, 24.5012, -50.4997, 5224,   1498.4,   4.8004,  35.0664,2,    237.5,2,    237.4,2,    15.44,2,    18.32,2,     1.23,2,   -999.0,9,   7.7202,2,    25.00,   4.6711,20110221,0434
  29AH20110128,   A05,    84,  1,     11,2,20110221,0320, 24.5012, -50.4997, 5224,   1301.2,   5.2480,  35.0608,2,    219.1,2,    219.7,2,    16.44,2,    19.99,2,     1.31,2,   2318.9,2,   7.7019,2,    25.00,   5.1332,20110221,0438
  29AH20110128,   A05,    84,  1,     12,2,20110221,0320, 24.5012, -50.4997, 5224,   1199.9,   5.6980,  35.0541,2,    201.8,2,    201.0,2,    17.45,2,    21.45,2,     1.46,2,   -999.0,9,   7.6890,2,    25.00,   5.5890,20110221,0440
  29AH20110128,   A05,    84,  1,     13,2,20110221,0320, 24.5012, -50.4997, 5224,   1099.6,   6.2172,  35.0484,2,    182.9,2,    181.7,2,    18.13,2,    23.12,2,     1.59,2,   2320.7,2,   7.6728,2,    25.00,   6.1138,20110221,0442
  29AH20110128,   A05,    84,  1,     14,2,20110221,0320, 24.5012, -50.4997, 5224,   1000.3,   6.8549,  35.0386,2,    161.1,2,    159.9,2,    18.80,2,    24.96,2,  -999.00,9,   2318.0,2,   7.6722,2,    25.00,   6.7568,20110221,0444
  29AH20110128,   A05,    84,  1,     15,2,20110221,0320, 24.5012, -50.4997, 5224,    899.9,   7.6693,  35.0695,2,    144.4,2,    144.0,2,    18.61,2,    25.63,2,     1.81,2,   2317.3,2,   7.6521,2,    25.00,   7.5762,20110221,0446
  29AH20110128,   A05,    84,  1,     16,2,20110221,0320, 24.5012, -50.4997, 5224,    801.7,   8.7038,  35.1746,2,    140.3,2,    140.3,2,    16.44,2,    20.41,3,     1.68,2,   2322.6,2,   7.6594,2,    25.00,   8.6152,20110221,0450
  29AH20110128,   A05,    84,  1,     17,2,20110221,0320, 24.5012, -50.4997, 5224,    600.1,  11.9769,  35.5976,2,    153.4,2,    154.7,2,     8.69,2,  -999.00,9,  -999.00,9,   -999.0,9,   7.7528,2,    25.00,  11.8969,20110221,0454
  29AH20110128,   A05,    84,  1,     18,2,20110221,0320, 24.5012, -50.4997, 5224,    399.0,  16.1368,  36.2223,2,    180.8,2,    182.8,2,     3.64,2,     8.37,2,     0.37,2,   2367.8,2,   7.8900,2,    25.00,  16.0723,20110221,0458
  29AH20110128,   A05,    84,  1,     19,2,20110221,0320, 24.5012, -50.4997, 5224,    300.7,  17.5503,  36.4687,2,    195.2,2,    196.3,2,     2.43,2,     5.16,2,     0.18,2,   -999.0,9,   7.9392,2,    25.00,  17.4989,20110221,0500
  29AH20110128,   A05,    84,  1,     20,2,20110221,0320, 24.5012, -50.4997, 5224,    147.9,  20.7907,  36.9589,2,    188.0,2,    186.2,2,     1.41,2,     1.31,2,     0.07,2,   -999.0,9,   7.9779,2,    25.00,  20.7623,20110221,0503
  29AH20110128,   A05,    84,  1,     21,2,20110221,0320, 24.5012, -50.4997, 5224,    125.5,  21.6260,  37.0290,2,    194.6,2,    195.8,2,     1.28,2,     0.14,2,     0.06,2,   2423.4,2,   8.0061,2,    25.00,  21.6012,20110221,0504
  29AH20110128,   A05,    84,  1,     22,2,20110221,0320, 24.5012, -50.4997, 5224,     75.6,  23.8360,  37.2315,2,    210.5,2,    211.2,2,     1.28,2,     0.00,2,     0.06,2,   -999.0,9,   8.0807,2,    25.00,  23.8200,20110221,0505
  29AH20110128,   A05,    84,  1,     23,2,20110221,0320, 24.5012, -50.4997, 5224,     50.8,  23.9865,  37.0710,2,    211.2,2,    211.8,2,     1.28,2,     0.00,2,     0.06,2,   -999.0,9,   8.0815,2,    25.00,  23.9757,20110221,0506
  29AH20110128,   A05,    84,  1,     24,2,20110221,0320, 24.5012, -50.4997, 5224,      5.8,  24.0005,  37.0720,2,    211.0,2,    210.4,2,     1.28,2,     0.00,2,     0.05,2,   2426.7,2,   8.0844,2,    25.00,  23.9993,20110221,0507
  29AH20110128,   A05,    85,  1,      1,2,20110221,1046, 24.5002, -50.9608, 5597,   5587.0,   2.1614,  34.8579,2,    251.6,2,   -999.0,9,    49.74,2,    22.40,2,     1.57,2,   -999.0,9,   7.7144,2,    25.00,   1.6279,20110221,1046
  29AH20110128,   A05,    85,  1,      2,2,20110221,1046, 24.5002, -50.9608, 5597,   5501.0,   2.1519,  34.8585,2,    251.9,2,   -999.0,9,    49.39,2,    22.31,2,     1.57,2,   -999.0,9,   7.7138,2,    25.00,   1.6300,20110221,1048
  29AH20110128,   A05,    85,  1,      3,2,20110221,1046, 24.5002, -50.9608, 5597,   5000.5,   2.1290,  34.8635,2,    252.7,2,   -999.0,9,    48.70,2,    21.65,2,     1.51,2,   -999.0,9,   7.7161,2,    25.00,   1.6721,20110221,1058
  29AH20110128,   A05,    85,  1,      4,2,20110221,1046, 24.5002, -50.9608, 5597,   4498.7,   2.1745,  34.8750,2,    254.8,2,   -999.0,9,    44.54,2,    21.13,2,     1.47,2,   -999.0,9,   7.7230,2,    25.00,   1.7774,20110221,1107
  29AH20110128,   A05,    85,  1,      5,2,20110221,1046, 24.5002, -50.9608, 5597,   4000.1,   2.2603,  34.8876,2,    254.6,2,   -999.0,9,    42.11,2,    20.82,2,     1.41,2,   -999.0,9,   7.7262,2,    25.00,   1.9187,20110221,1117
  29AH20110128,   A05,    85,  1,      6,2,20110221,1046, 24.5002, -50.9608, 5597,   3500.4,   2.4619,  34.9086,2,    253.4,2,   -999.0,9,    38.16,2,    20.56,2,     1.37,2,   -999.0,9,   7.7291,2,    25.00,   2.1703,20110221,1127
  29AH20110128,   A05,    85,  1,      7,2,20110221,1046, 24.5002, -50.9608, 5597,   2999.5,   2.7801,  34.9375,2,    250.9,2,   -999.0,9,    33.58,2,    20.47,2,     1.36,2,   -999.0,9,   7.7301,2,    25.00,   2.5341,20110221,1136
  29AH20110128,   A05,    85,  1,      8,2,20110221,1046, 24.5002, -50.9608, 5597,   2500.5,   3.1116,  34.9671,2,    249.4,2,   -999.0,9,    25.11,3,    19.78,2,     1.27,2,   -999.0,9,   7.7322,2,    25.00,   2.9094,20110221,1146
  29AH20110128,   A05,    85,  1,      9,2,20110221,1046, 24.5002, -50.9608, 5597,   1999.0,   3.7824,  35.0204,2,    246.0,2,   -999.0,9,    21.64,2,    19.60,2,     1.24,2,   -999.0,9,   7.7341,2,    25.00,   3.6180,20110221,1156
  29AH20110128,   A05,    85,  1,     10,2,20110221,1046, 24.5002, -50.9608, 5597,   1750.8,   4.1978,  35.0340,2,    241.0,2,   -999.0,9,    18.52,2,    19.73,2,     1.21,2,   -999.0,9,   7.7272,2,    25.00,   4.0515,20110221,1201
  29AH20110128,   A05,    85,  1,     11,2,20110221,1046, 24.5002, -50.9608, 5597,   1499.4,   4.8064,  35.0688,2,    236.6,2,   -999.0,9,    15.40,2,    19.15,2,  -999.00,9,   -999.0,9,   7.7219,2,    25.00,   4.6769,20110221,1206
  29AH20110128,   A05,    85,  1,     12,2,20110221,1046, 24.5002, -50.9608, 5597,   1299.6,   5.2932,  35.0365,2,    212.6,2,   -999.0,9,    16.44,2,    21.48,2,     1.41,2,   -999.0,9,   7.6957,2,    25.00,   5.1782,20110221,1210
  29AH20110128,   A05,    85,  1,     13,2,20110221,1046, 24.5002, -50.9608, 5597,   1199.0,   5.5904,  35.0116,2,    194.9,2,   -999.0,9,    18.73,2,    23.72,2,     1.60,2,   -999.0,9,   7.6761,2,    25.00,   5.4825,20110221,1212
  29AH20110128,   A05,    85,  1,     14,2,20110221,1046, 24.5002, -50.9608, 5597,   1002.1,   6.5200,  34.9972,2,    159.5,2,   -999.0,9,    20.25,2,  -999.00,9,  -999.00,9,   -999.0,9,   7.6406,2,    25.00,   6.4243,20110221,1216
  29AH20110128,   A05,    85,  1,     15,2,20110221,1046, 24.5002, -50.9608, 5597,    801.4,   8.5852,  35.1624,2,    141.8,2,   -999.0,9,  -999.00,9,  -999.00,9,  -999.00,9,   -999.0,9,   7.6948,2,    25.00,   8.4973,20110221,1220
  29AH20110128,   A05,    85,  1,     16,2,20110221,1046, 24.5002, -50.9608, 5597,    600.0,  11.6871,  35.5633,2,    153.3,2,   -999.0,9,     9.15,2,  -999.00,9,     1.05,2,   -999.0,9,   7.7491,2,    25.00,  11.6084,20110221,1224
  29AH20110128,   A05,    85,  1,     17,2,20110221,1046, 24.5002, -50.9608, 5597,    400.8,  15.3482,  36.0919,2,    164.2,2,   -999.0,9,     4.16,2,  -999.00,9,     0.55,2,   -999.0,9,   7.8480,2,    25.00,  15.2856,20110221,1228
  29AH20110128,   A05,    85,  1,     18,2,20110221,1046, 24.5002, -50.9608, 5597,    300.6,  17.2278,  36.4158,2,    179.2,2,   -999.0,9,     2.42,2,  -999.00,9,     0.26,2,   -999.0,9,   7.9126,2,    25.00,  17.1771,20110221,1230
  29AH20110128,   A05,    85,  1,     19,2,20110221,1046, 24.5002, -50.9608, 5597,    151.0,  20.8775,  36.9669,2,    188.8,2,   -999.0,9,     0.83,2,     1.07,2,     0.04,2,   -999.0,9,   7.9878,2,    25.00,  20.8484,20110221,1233
  29AH20110128,   A05,    85,  1,     20,2,20110221,1046, 24.5002, -50.9608, 5597,    125.3,  21.9798,  37.0421,2,    199.2,2,   -999.0,9,     0.76,2,     0.18,2,     0.04,2,   -999.0,9,   8.0145,2,    25.00,  21.9548,20110221,1234
  29AH20110128,   A05,    85,  1,     21,2,20110221,1046, 24.5002, -50.9608, 5597,     76.1,  23.8597,  37.2187,2,    210.3,2,   -999.0,9,     0.83,2,     0.00,2,     0.04,2,   -999.0,9,   8.0835,2,    25.00,  23.8436,20110221,1235
  29AH20110128,   A05,    85,  1,     22,2,20110221,1046, 24.5002, -50.9608, 5597,     49.7,  23.8613,  37.2188,2,    210.7,2,   -999.0,9,     0.83,2,     0.00,2,     0.04,2,   -999.0,9,   8.0835,2,    25.00,  23.8508,20110221,1236
  29AH20110128,   A05,    85,  1,     23,2,20110221,1046, 24.5002, -50.9608, 5597,     25.1,  23.8558,  37.2186,2,    210.9,2,   -999.0,9,     0.70,2,     1.07,2,     0.12,2,   -999.0,9,   8.0827,2,    25.00,  23.8505,20110221,1237
  29AH20110128,   A05,    85,  1,     24,2,20110221,1046, 24.5002, -50.9608, 5597,      2.9,  23.8498,  37.2180,2,    211.0,2,   -999.0,9,     0.83,2,     0.00,2,     0.04,2,   -999.0,9,   8.0837,2,    25.00,  23.8492,20110221,1239