BOTTLE,20220930CCHSIOAMB
EXPOCODE,SECT_ID,STNNBR,CASTNO,BTLNBR,BTLNBR_FLAG_W,DATE,TIME,LATITUDE,LONGITUDE,DEPTH,CTDPRS,CTDTMP,CTDSAL,CTDSAL_FLAG_W,CTDOXY,CTDOXY_FLAG_W,OXYGEN,OXYGEN_FLAG_W,SILCAT,SILCAT_FLAG_W,NITRAT,NITRAT_FLAG_W,PHSPHT,PHSPHT_FLAG_W,ALKALI,ALKALI_FLAG_W,PH_SWS,PH_SWS_FLAG_W,PH_TMP,THETA,BTL_DATE,BTL_TIME
,,,,,,,,,,METERS,DBAR,ITS-90,PSS-78,,UMOL/KG,,UMOL/KG,,UMOL/KG,,UMOL/KG,,UMOL/KG,,UMOL/KG,,,,DEG C,DEG C,,
  29AH20110128,   A05,    20,  1,      1,2,20110131,1022, 26.1835, -18.2703, 3688,   3538.6,   2.5303,  34.9114,2,    232.6,2,    233.7,2,    45.49,2,    21.04,2,     1.57,2,   2363.7,2,   7.7178,2,    25.00,   2.2329,20110131,1022
  29AH20110128,   A05,    20,  1,      2,2,20110131,1022, 26.1835, -18.2703, 3688,   3500.1,   2.5500,  34.9134,2,    232.3,2,    229.3,2,    45.53,2,    21.06,2,     1.50,2,   2362.3,2,   7.7197,2,    25.00,   2.2563,20110131,1023
  29AH20110128,   A05,    20,  1,      3,2,20110131,1022, 26.1835, -18.2703, 3688,   3000.6,   2.7902,  34.9384,2,    231.5,2,    229.5,2,    40.34,2,    20.64,2,     1.47,2,   2351.7,2,   7.7182,2,    25.00,   2.5439,20110131,1033
  29AH20110128,   A05,    20,  1,      4,2,20110131,1022, 26.1835, -18.2703, 3688,   2498.9,   3.2962,  34.9900,2,    229.6,2,    227.5,2,    34.04,2,    20.19,2,     1.40,2,   2342.6,2,   7.7161,2,    25.00,   3.0907,20110131,1043
  29AH20110128,   A05,    20,  1,      5,2,20110131,1022, 26.1835, -18.2703, 3688,   1999.2,   4.1352,  35.0764,2,    220.7,2,    219.6,2,    28.32,2,    20.14,2,     1.35,2,   2338.2,2,   7.7130,2,    25.00,   3.9654,20110131,1052
  29AH20110128,   A05,    20,  1,      6,2,20110131,1022, 26.1835, -18.2703, 3688,   1749.4,   4.7844,  35.1453,2,    213.0,2,    211.4,2,    24.89,2,    20.12,2,     1.35,2,   2336.9,2,   7.7103,2,    25.00,   4.6303,20110131,1057
  29AH20110128,   A05,    20,  1,      7,2,20110131,1022, 26.1835, -18.2703, 3688,   1500.9,   5.7468,  35.2486,2,    200.9,2,    199.4,2,    21.76,2,    20.17,2,     1.37,2,   2340.3,2,   7.7113,2,    25.00,   5.6063,20110131,1102
  29AH20110128,   A05,    20,  1,      8,2,20110131,1022, 26.1835, -18.2703, 3688,   1300.3,   6.6557,  35.2924,2,    179.9,2,    178.3,2,    20.04,2,    21.35,2,     1.47,2,   2339.5,2,   7.6957,2,    25.00,   6.5270,20110131,1106
  29AH20110128,   A05,    20,  1,      9,2,20110131,1022, 26.1835, -18.2703, 3688,   1200.6,   6.9531,  35.2751,2,    168.5,2,    166.7,2,    19.85,2,    22.54,2,     1.54,2,   2337.5,2,   7.6785,2,    25.00,   6.8325,20110131,1109
  29AH20110128,   A05,    20,  1,     10,2,20110131,1022, 26.1835, -18.2703, 3688,   1100.9,   7.1159,  35.2323,2,    157.7,2,    157.1,2,    20.07,2,    23.54,2,     1.66,2,   -999.0,9,   7.6640,2,    25.00,   7.0048,20110131,1111
  29AH20110128,   A05,    20,  1,     11,2,20110131,1022, 26.1835, -18.2703, 3688,    998.7,   7.6631,  35.2402,2,    147.9,2,    146.8,2,    19.20,2,    23.97,2,     1.72,2,   2332.4,2,   7.6591,2,    25.00,   7.5589,20110131,1114
  29AH20110128,   A05,    20,  1,     12,2,20110131,1022, 26.1835, -18.2703, 3688,    901.3,   7.7475,  35.1703,2,    129.7,2,    129.7,2,    20.14,2,    25.94,2,     1.96,2,   2327.3,2,   7.6260,2,    25.00,   7.6536,20110131,1118
  29AH20110128,   A05,    20,  1,     13,2,20110131,1022, 26.1835, -18.2703, 3688,    801.4,   8.9219,  35.3069,2,    134.6,2,    134.1,2,    16.29,2,    23.64,2,     1.66,2,   2330.1,2,   7.6568,2,    25.00,   8.8319,20110131,1120
  29AH20110128,   A05,    20,  1,     14,2,20110131,1022, 26.1835, -18.2703, 3688,    601.6,  11.4758,  35.5819,2,    158.0,2,    158.2,2,     9.45,2,    17.40,2,  -999.00,9,   2339.2,2,   7.7404,2,    25.00,  11.3977,20110131,1124
  29AH20110128,   A05,    20,  1,     15,2,20110131,1022, 26.1835, -18.2703, 3688,    402.1,  14.0375,  35.9396,2,    183.7,2,    182.4,2,     5.38,2,    11.05,2,  -999.00,9,   2356.1,2,   7.8310,2,    25.00,  13.9784,20110131,1130
  29AH20110128,   A05,    20,  1,     16,2,20110131,1022, 26.1835, -18.2703, 3688,    301.3,  15.7216,  36.1988,2,    195.5,2,    194.7,2,     3.77,2,     7.32,2,  -999.00,9,   2372.2,2,   7.8898,2,    25.00,  15.6739,20110131,1133
  29AH20110128,   A05,    20,  1,     17,2,20110131,1022, 26.1835, -18.2703, 3688,    200.1,  17.4359,  36.4970,2,    191.2,2,    191.8,2,     2.95,2,     5.28,2,     0.27,2,   -999.0,9,   7.9135,2,    25.00,  17.4019,20110131,1139
  29AH20110128,   A05,    20,  1,     18,2,20110131,1022, 26.1835, -18.2703, 3688,    152.4,  18.2928,  36.6194,2,    197.0,2,    195.1,2,     2.46,2,     3.34,2,     0.20,2,   2397.1,2,   7.9402,2,    25.00,  18.2661,20110131,1140
  29AH20110128,   A05,    20,  1,     19,2,20110131,1022, 26.1835, -18.2703, 3688,    128.8,  19.5608,  36.7948,2,    210.6,2,    210.3,2,     2.04,2,     1.34,2,     0.17,2,   -999.0,9,   7.9717,2,    25.00,  19.5371,20110131,1143
  29AH20110128,   A05,    20,  1,     20,2,20110131,1022, 26.1835, -18.2703, 3688,    102.5,  21.2327,  37.1018,2,    214.5,2,    213.9,2,     1.76,2,     0.38,2,     0.14,2,   -999.0,9,   7.9970,2,    25.00,  21.2127,20110131,1145
  29AH20110128,   A05,    20,  1,     21,2,20110131,1022, 26.1835, -18.2703, 3688,     82.5,  21.4255,  37.1430,2,    215.0,2,    215.3,2,  -999.00,9,  -999.00,9,  -999.00,9,   -999.0,9,   8.0163,2,    25.00,  21.4093,20110131,1147
  29AH20110128,   A05,    20,  1,     22,2,20110131,1022, 26.1835, -18.2703, 3688,     78.0,  21.4413,  37.1451,2,    214.9,2,    214.7,2,     1.71,2,     0.22,2,     0.14,2,   2431.2,2,   8.0205,2,    25.00,  21.4260,20110131,1147
  29AH20110128,   A05,    20,  1,     23,2,20110131,1022, 26.1835, -18.2703, 3688,     28.4,  21.0648,  36.9151,2,    219.8,2,    219.5,2,     1.61,2,     0.26,2,     0.15,2,   -999.0,9,   8.0113,2,    25.00,  21.0593,20110131,1148
  29AH20110128,   A05,    20,  1,     24,2,20110131,1022, 26.1835, -18.2703, 3688,      4.9,  21.0658,  36.9177,2,    219.9,2,    219.0,2,     1.61,2,     0.27,2,     0.15,2,   -999.0,9,   8.0114,2,    25.00,  21.0649,20110131,1151
  29AH20110128,   A05,    21,  1,      1,2,20110131,1659, 26.0238, -18.7655, 3707,   3261.0,   2.5819,  34.9174,2,    229.9,2,    227.2,2,    44.31,2,    21.22,2,     1.52,2,   -999.0,9,   7.7153,2,    25.00,   2.3131,20110131,1659
  29AH20110128,   A05,    21,  1,      2,2,20110131,1659, 26.0238, -18.7655, 3707,   3001.9,   2.7829,  34.9378,2,    233.0,2,    233.4,2,    40.37,2,    20.66,2,     1.44,2,   -999.0,9,   7.7196,2,    25.00,   2.5366,20110131,1704
  29AH20110128,   A05,    21,  1,      3,2,20110131,1659, 26.0238, -18.7655, 3707,   2499.3,   3.3315,  34.9932,2,    229.4,2,    227.7,2,    33.47,2,    20.31,2,     1.42,2,   -999.0,9,   7.7174,2,    25.00,   3.1253,20110131,1713
  29AH20110128,   A05,    21,  1,      4,2,20110131,1659, 26.0238, -18.7655, 3707,   1998.6,   4.2053,  35.0820,2,    219.8,2,    217.2,2,    27.71,2,    20.25,2,     1.41,2,   -999.0,9,   7.7124,2,    25.00,   4.0345,20110131,1724
  29AH20110128,   A05,    21,  1,      5,2,20110131,1659, 26.0238, -18.7655, 3707,   1749.8,   4.8610,  35.1457,2,    210.6,2,    209.4,2,    24.60,2,    20.35,2,     1.41,2,   -999.0,9,   7.7095,2,    25.00,   4.7059,20110131,1729
  29AH20110128,   A05,    21,  1,      6,2,20110131,1659, 26.0238, -18.7655, 3707,   1500.7,   5.6263,  35.2079,2,    196.6,2,    195.6,2,    21.86,2,    20.92,2,     1.47,2,   -999.0,9,   7.7003,2,    25.00,   5.4873,20110131,1734
  29AH20110128,   A05,    21,  1,      7,2,20110131,1659, 26.0238, -18.7655, 3707,   1299.9,   6.6036,  35.2776,2,    178.3,2,    177.0,2,    20.02,2,    21.71,2,     1.48,2,   -999.0,9,   7.6910,2,    25.00,   6.4755,20110131,1738
  29AH20110128,   A05,    21,  1,      8,2,20110131,1659, 26.0238, -18.7655, 3707,   1198.7,   6.8339,  35.2648,2,    170.1,2,    168.8,2,    20.02,2,    22.51,2,     1.53,2,   -999.0,9,   7.6804,2,    25.00,   6.7146,20110131,1740
  29AH20110128,   A05,    21,  1,      9,2,20110131,1659, 26.0238, -18.7655, 3707,   1099.9,   7.2317,  35.2868,2,    164.1,2,    161.9,2,    19.54,2,    22.78,2,     1.60,2,   -999.0,9,   7.6763,2,    25.00,   7.1197,20110131,1742
  29AH20110128,   A05,    21,  1,     10,2,20110131,1659, 26.0238, -18.7655, 3707,   1000.2,   7.4331,  35.2293,2,    150.1,2,    148.8,2,    19.70,2,    24.03,2,     1.76,2,   -999.0,9,   7.6567,2,    25.00,   7.3305,20110131,1744
  29AH20110128,   A05,    21,  1,     11,2,20110131,1659, 26.0238, -18.7655, 3707,    899.2,   7.8959,  35.2404,2,    141.2,2,    139.8,2,    19.09,2,    24.58,2,     1.76,2,   -999.0,9,   7.6479,2,    25.00,   7.8012,20110131,1747
  29AH20110128,   A05,    21,  1,     12,2,20110131,1659, 26.0238, -18.7655, 3707,    800.5,   8.7145,  35.2897,2,    133.1,2,    133.1,2,    17.01,2,    24.08,2,     1.65,2,   -999.0,9,   7.6535,2,    25.00,   8.6258,20110131,1750
  29AH20110128,   A05,    21,  1,     13,2,20110131,1659, 26.0238, -18.7655, 3707,    600.4,  11.0529,  35.5289,2,    149.7,2,    149.7,2,    11.17,2,    19.27,2,  -999.00,9,   -999.0,9,   7.7162,2,    25.00,  10.9768,20110131,1753
  29AH20110128,   A05,    21,  1,     14,2,20110131,1659, 26.0238, -18.7655, 3707,    400.0,  13.7910,  35.9013,2,    182.0,2,    181.8,2,     5.67,2,    11.48,2,  -999.00,9,   -999.0,9,   7.8277,2,    25.00,  13.7329,20110131,1757
  29AH20110128,   A05,    21,  1,     15,2,20110131,1659, 26.0238, -18.7655, 3707,    300.3,  15.4099,  36.1580,2,    185.0,2,    182.0,2,     4.32,2,     8.88,2,     0.45,2,   -999.0,9,   7.8693,2,    25.00,  15.3630,20110131,1800
  29AH20110128,   A05,    21,  1,     16,2,20110131,1659, 26.0238, -18.7655, 3707,    201.6,  17.5838,  36.5162,2,    188.4,2,    188.0,2,     3.02,2,     5.67,2,     0.29,2,   -999.0,9,   7.9136,2,    25.00,  17.5494,20110131,1802
  29AH20110128,   A05,    21,  1,     17,2,20110131,1659, 26.0238, -18.7655, 3707,    150.7,  18.6950,  36.6696,2,    204.4,2,    206.8,2,     2.17,2,     1.76,2,     0.15,2,   -999.0,9,   7.9619,2,    25.00,  18.6682,20110131,1803
  29AH20110128,   A05,    21,  1,     18,2,20110131,1659, 26.0238, -18.7655, 3707,    123.7,  20.8894,  37.0163,2,    210.3,2,    209.8,2,     1.89,2,     0.73,2,     0.12,2,   -999.0,9,   8.0148,2,    25.00,  20.8656,20110131,1804
  29AH20110128,   A05,    21,  1,     19,2,20110131,1659, 26.0238, -18.7655, 3707,     90.4,  21.4764,  37.1513,2,    214.8,2,    216.6,2,     1.86,2,     0.58,2,     0.12,2,   -999.0,9,   8.0208,2,    25.00,  21.4587,20110131,1804
  29AH20110128,   A05,    21,  1,     20,2,20110131,1659, 26.0238, -18.7655, 3707,     73.3,  21.4911,  37.1357,2,    216.0,2,    216.3,2,     1.87,2,     0.56,2,     0.13,2,   -999.0,9,   8.0231,2,    25.00,  21.4767,20110131,1805
  29AH20110128,   A05,    21,  1,     21,2,20110131,1659, 26.0238, -18.7655, 3707,     50.7,  21.4758,  37.1249,2,    216.8,2,    217.0,2,     1.84,2,     0.56,2,     0.12,2,   -999.0,9,   8.0236,2,    25.00,  21.4659,20110131,1806
  29AH20110128,   A05,    21,  1,     22,2,20110131,1659, 26.0238, -18.7655, 3707,     22.8,  21.4664,  37.1217,2,    216.9,2,    218.4,2,     1.84,2,     0.54,2,     0.12,2,   -999.0,9,   8.0236,2,    25.00,  21.4619,20110131,1806
  29AH20110128,   A05,    21,  1,     23,2,20110131,1659, 26.0238, -18.7655, 3707,      5.8,  21.4579,  37.1210,2,    217.5,2,    217.1,2,     1.84,2,     0.57,2,     0.13,2,   -999.0,9,   8.0193,2,    25.00,  21.4568,20110131,1809
  29AH20110128,   A05,    22,  1,      1,2,20110131,2158, 25.9068, -19.1363, 3750,   3489.6,   2.5248,  34.9113,2,    232.4,2,    229.0,2,    46.55,2,    21.49,2,     1.58,2,   -999.0,9,   7.7156,2,    25.00,   2.2328,20110131,2158
  29AH20110128,   A05,    22,  1,      2,2,20110131,2158, 25.9068, -19.1363, 3750,   3002.7,   2.8178,  34.9412,2,    234.0,2,    231.1,2,    39.27,2,    20.79,2,     1.52,2,   -999.0,9,   7.7146,2,    25.00,   2.5706,20110131,2214
  29AH20110128,   A05,    22,  1,      3,2,20110131,2158, 25.9068, -19.1363, 3750,   2500.8,   3.3420,  34.9946,2,    233.5,2,    230.9,2,    33.41,2,    20.23,2,     1.43,2,   -999.0,9,   7.7178,2,    25.00,   3.1355,20110131,2223
  29AH20110128,   A05,    22,  1,      4,2,20110131,2158, 25.9068, -19.1363, 3750,   2000.7,   4.1370,  35.0763,2,    222.4,2,    220.6,2,    27.77,2,    20.48,2,     1.39,2,   -999.0,9,   7.7129,2,    25.00,   3.9670,20110131,2233
  29AH20110128,   A05,    22,  1,      5,2,20110131,2158, 25.9068, -19.1363, 3750,   1749.1,   4.7303,  35.1373,2,    213.9,2,    212.7,2,    25.47,2,    20.47,2,     1.41,2,   -999.0,9,   7.7110,2,    25.00,   4.5770,20110131,2238
  29AH20110128,   A05,    22,  1,      6,2,20110131,2158, 25.9068, -19.1363, 3750,   1501.7,   5.5717,  35.2079,2,    198.9,2,    198.3,2,    23.16,2,    21.00,2,     1.48,2,   -999.0,9,   7.6993,2,    25.00,   5.4332,20110131,2243
  29AH20110128,   A05,    22,  1,      7,2,20110131,2158, 25.9068, -19.1363, 3750,   1301.1,   6.3834,  35.2661,2,    183.3,2,    181.8,2,    21.18,2,    21.79,2,     1.51,2,   -999.0,9,   7.6941,2,    25.00,   6.2573,20110131,2247
  29AH20110128,   A05,    22,  1,      8,2,20110131,2158, 25.9068, -19.1363, 3750,   1201.1,   6.8652,  35.2856,2,    173.1,2,    171.6,2,    20.20,2,    22.44,2,     1.53,2,   -999.0,9,   7.6848,2,    25.00,   6.7453,20110131,2249
  29AH20110128,   A05,    22,  1,      9,2,20110131,2158, 25.9068, -19.1363, 3750,   1102.7,   7.2578,  35.2855,2,    164.8,2,    163.5,2,    19.82,2,    23.03,2,     1.57,2,   -999.0,9,   7.6728,2,    25.00,   7.1452,20110131,2251
  29AH20110128,   A05,    22,  1,     10,2,20110131,2158, 25.9068, -19.1363, 3750,   1001.3,   7.5680,  35.2504,2,    151.4,2,    149.6,2,    19.87,2,    24.11,2,     1.73,2,   -999.0,9,   7.6589,2,    25.00,   7.4642,20110131,2253
  29AH20110128,   A05,    22,  1,     11,2,20110131,2158, 25.9068, -19.1363, 3750,    902.6,   8.3579,  35.2858,2,    141.5,2,    140.3,2,    18.45,2,    24.15,2,     1.76,2,   -999.0,9,   7.6577,2,    25.00,   8.2597,20110131,2256
  29AH20110128,   A05,    22,  1,     12,2,20110131,2158, 25.9068, -19.1363, 3750,    800.0,   9.1711,  35.3325,2,    133.5,2,    132.2,2,    16.80,2,    23.83,2,     1.63,2,   -999.0,9,   7.6577,2,    25.00,   9.0798,20110131,2258
  29AH20110128,   A05,    22,  1,     13,2,20110131,2158, 25.9068, -19.1363, 3750,    600.1,  11.0930,  35.5168,2,    140.4,2,    139.9,2,    11.76,2,    20.26,2,     1.23,2,   -999.0,9,   7.7022,2,    25.00,  11.0168,20110131,2302
  29AH20110128,   A05,    22,  1,     14,2,20110131,2158, 25.9068, -19.1363, 3750,    400.4,  13.5268,  35.8555,2,    179.9,2,    181.4,2,     6.20,2,    11.99,2,  -999.00,9,   -999.0,9,   7.8167,2,    25.00,  13.4694,20110131,2306
  29AH20110128,   A05,    22,  1,     15,2,20110131,2158, 25.9068, -19.1363, 3750,    301.1,  15.2322,  36.1293,2,    190.1,2,    188.6,2,     4.55,2,     8.40,2,  -999.00,9,   -999.0,9,   7.8762,2,    25.00,  15.1855,20110131,2308
  29AH20110128,   A05,    22,  1,     16,2,20110131,2158, 25.9068, -19.1363, 3750,    200.5,  17.2272,  36.4669,2,    191.1,2,    188.6,2,     3.33,2,     5.46,2,     0.28,2,   -999.0,9,   7.9159,2,    25.00,  17.1935,20110131,2310
  29AH20110128,   A05,    22,  1,     17,2,20110131,2158, 25.9068, -19.1363, 3750,    150.6,  17.8584,  36.5449,2,    180.6,2,    179.8,2,     3.37,2,     5.79,2,     0.30,2,   -999.0,9,   7.9089,2,    25.00,  17.8324,20110131,2311
  29AH20110128,   A05,    22,  1,     18,2,20110131,2158, 25.9068, -19.1363, 3750,    125.5,  18.9146,  36.6888,2,    196.4,2,    195.6,2,     2.52,2,     2.72,2,     0.22,2,   -999.0,9,   7.9459,2,    25.00,  18.8921,20110131,2312
  29AH20110128,   A05,    22,  1,     19,2,20110131,2158, 25.9068, -19.1363, 3750,     99.6,  20.6653,  36.9540,2,    211.4,2,    210.8,2,     2.02,2,     0.40,2,     0.21,2,   -999.0,9,   7.9998,2,    25.00,  20.6463,20110131,2312
  29AH20110128,   A05,    22,  1,     20,2,20110131,2158, 25.9068, -19.1363, 3750,     75.3,  21.3711,  37.1132,2,    216.7,2,    215.5,2,     1.91,2,     0.00,2,     0.16,2,   -999.0,9,   8.0173,2,    25.00,  21.3564,20110131,2313
  29AH20110128,   A05,    22,  1,     21,2,20110131,2158, 25.9068, -19.1363, 3750,     50.3,  21.3018,  36.9966,2,    217.0,2,    216.6,2,     1.93,2,     0.08,2,     0.12,2,   -999.0,9,   8.0129,2,    25.00,  21.2920,20110131,2313
  29AH20110128,   A05,    22,  1,     22,2,20110131,2158, 25.9068, -19.1363, 3750,     26.0,  21.3006,  36.9962,2,    217.3,2,    216.4,2,     1.92,2,     0.07,2,     0.14,2,   -999.0,9,   8.0138,2,    25.00,  21.2955,20110131,2314
  29AH20110128,   A05,    22,  1,     23,2,20110131,2158, 25.9068, -19.1363, 3750,      6.6,  21.2894,  36.9973,2,    217.4,2,    216.1,2,     1.93,2,     0.08,2,     0.11,2,   -999.0,9,   8.0286,2,    25.00,  21.2881,20110131,2316