BOTTLE,20220930CCHSIOAMB
EXPOCODE,SECT_ID,STNNBR,CASTNO,BTLNBR,BTLNBR_FLAG_W,DATE,TIME,LATITUDE,LONGITUDE,DEPTH,CTDPRS,CTDTMP,CTDSAL,CTDSAL_FLAG_W,CTDOXY,CTDOXY_FLAG_W,OXYGEN,OXYGEN_FLAG_W,SILCAT,SILCAT_FLAG_W,NITRAT,NITRAT_FLAG_W,PHSPHT,PHSPHT_FLAG_W,ALKALI,ALKALI_FLAG_W,PH_SWS,PH_SWS_FLAG_W,PH_TMP,THETA,BTL_DATE,BTL_TIME
,,,,,,,,,,METERS,DBAR,ITS-90,PSS-78,,UMOL/KG,,UMOL/KG,,UMOL/KG,,UMOL/KG,,UMOL/KG,,UMOL/KG,,,,DEG C,DEG C,,
  29AH20110128,   A05,    38,  1,      1,2,20110206,0707, 24.5008, -27.7627, 5718,   5708.4,   2.4933,  34.8851,2,    244.2,2,    246.5,2,    49.41,2,    20.69,2,     1.50,2,   2356.4,2,   7.7261,2,    25.00,   1.9311,20110206,0707
  29AH20110128,   A05,    38,  1,      2,2,20110206,0707, 24.5008, -27.7627, 5718,   5498.5,   2.4646,  34.8854,2,    244.4,2,    245.0,2,    49.13,2,    20.45,2,     1.46,2,   2355.8,2,   7.7285,2,    25.00,   1.9316,20110206,0711
  29AH20110128,   A05,    38,  1,      3,2,20110206,0707, 24.5008, -27.7627, 5718,   4999.7,   2.4089,  34.8872,2,    244.3,2,    246.3,2,    49.58,2,    20.62,2,     1.48,2,   2354.6,2,   7.7259,2,    25.00,   1.9426,20110206,0721
  29AH20110128,   A05,    38,  1,      4,2,20110206,0707, 24.5008, -27.7627, 5718,   4500.0,   2.3838,  34.8917,2,    244.3,2,    243.9,2,    46.97,2,    20.50,2,     1.51,2,   2358.1,2,   7.7249,2,    25.00,   1.9800,20110206,0730
  29AH20110128,   A05,    38,  1,      5,2,20110206,0707, 24.5008, -27.7627, 5718,   4000.0,   2.4233,  34.9014,2,    244.2,2,    246.1,2,    45.10,2,    20.34,2,     1.44,2,   2348.8,2,   7.7262,2,    25.00,   2.0771,20110206,0740
  29AH20110128,   A05,    38,  1,      6,2,20110206,0707, 24.5008, -27.7627, 5718,   3501.5,   2.5155,  34.9147,2,    243.9,2,    244.2,2,    42.20,2,    20.04,2,     1.41,2,   2347.3,2,   7.7294,2,    25.00,   2.2225,20110206,0749
  29AH20110128,   A05,    38,  1,      7,2,20110206,0707, 24.5008, -27.7627, 5718,   3000.4,   2.7644,  34.9411,2,    243.1,2,    247.1,2,    35.87,2,    19.53,2,     1.35,2,   2343.3,2,   7.7288,2,    25.00,   2.5186,20110206,0759
  29AH20110128,   A05,    38,  1,      8,2,20110206,0707, 24.5008, -27.7627, 5718,   2499.5,   3.2979,  34.9912,2,    238.8,2,    242.7,2,    29.72,2,    19.14,2,     1.32,2,   2336.1,2,   7.7283,2,    25.00,   3.0923,20110206,0808
  29AH20110128,   A05,    38,  1,      9,2,20110206,0707, 24.5008, -27.7627, 5718,   1999.3,   4.0704,  35.0574,2,    226.2,2,    227.7,2,    25.04,2,    19.53,2,     1.36,2,   2333.0,2,   7.7189,2,    25.00,   3.9016,20110206,0818
  29AH20110128,   A05,    38,  1,     10,2,20110206,0707, 24.5008, -27.7627, 5718,   1748.5,   4.7245,  35.1205,2,    215.2,2,    218.2,2,    22.88,2,    19.86,2,     1.36,2,   2332.4,2,   7.7141,2,    25.00,   4.5714,20110206,0823
  29AH20110128,   A05,    38,  1,     11,2,20110206,0707, 24.5008, -27.7627, 5718,   1499.2,   5.5373,  35.1789,2,    198.3,2,    199.0,2,    21.16,2,    20.78,2,     1.40,2,   2333.5,2,   7.7033,2,    25.00,   5.3995,20110206,0828
  29AH20110128,   A05,    38,  1,     12,2,20110206,0707, 24.5008, -27.7627, 5718,   1299.2,   6.2155,  35.1951,2,    179.7,2,    180.6,2,    20.67,2,    22.05,2,     1.50,2,   2333.5,2,   7.6853,2,    25.00,   6.0913,20110206,0832
  29AH20110128,   A05,    38,  1,     13,2,20110206,0707, 24.5008, -27.7627, 5718,   1199.9,   6.6158,  35.1794,2,    166.4,2,    166.5,2,    20.60,2,    23.09,2,     1.69,2,   2333.1,2,   7.6685,2,    25.00,   6.4984,20110206,0834
  29AH20110128,   A05,    38,  1,     14,2,20110206,0707, 24.5008, -27.7627, 5718,   1000.7,   7.3863,  35.1505,2,    141.0,2,    141.5,2,    20.58,2,    25.17,2,     1.87,2,   2327.6,2,   7.6353,2,    25.00,   7.2841,20110206,0838
  29AH20110128,   A05,    38,  1,     15,2,20110206,0707, 24.5008, -27.7627, 5718,    799.2,   9.1805,  35.2851,2,    122.0,2,    122.9,2,    16.57,2,    24.61,2,     1.73,2,   2329.9,2,   7.6396,2,    25.00,   9.0893,20110206,0842
  29AH20110128,   A05,    38,  1,     16,2,20110206,0707, 24.5008, -27.7627, 5718,    601.4,  11.5983,  35.5888,2,    158.7,2,    159.1,2,     9.29,2,    17.17,2,     0.98,2,   2340.3,2,   7.7393,2,    25.00,  11.5197,20110206,0846
  29AH20110128,   A05,    38,  1,     17,2,20110206,0707, 24.5008, -27.7627, 5718,    400.3,  14.4423,  35.9975,2,    189.8,2,    190.7,2,     4.57,2,     9.36,2,  -999.00,9,   2361.4,2,   7.8530,2,    25.00,  14.3823,20110206,0851
  29AH20110128,   A05,    38,  1,     18,2,20110206,0707, 24.5008, -27.7627, 5718,    300.2,  16.0238,  36.2573,2,    190.2,2,    186.7,2,  -999.00,9,  -999.00,9,  -999.00,9,   -999.0,9,   7.8619,2,    25.00,  15.9756,20110206,0853
  29AH20110128,   A05,    38,  1,     19,2,20110206,0707, 24.5008, -27.7627, 5718,    151.3,  18.9278,  36.7260,2,    193.0,2,    193.2,2,     2.16,2,     2.86,2,     0.18,2,   2404.0,2,   7.9459,2,    25.00,  18.9006,20110206,0856
  29AH20110128,   A05,    38,  1,     20,2,20110206,0707, 24.5008, -27.7627, 5718,    116.9,  20.4619,  36.9609,2,    203.0,2,    204.2,2,     1.73,2,     0.87,2,     0.14,2,   2421.6,2,   7.9841,2,    25.00,  20.4397,20110206,0857
  29AH20110128,   A05,    38,  1,     21,2,20110206,0707, 24.5008, -27.7627, 5718,     73.9,  22.1461,  37.3287,2,    213.6,2,    214.1,2,     1.49,2,     0.01,2,     0.11,2,   -999.0,9,   8.0355,2,    25.00,  22.1313,20110206,0858
  29AH20110128,   A05,    38,  1,     22,2,20110206,0707, 24.5008, -27.7627, 5718,     39.3,  22.1633,  37.3348,2,    214.3,2,    214.7,2,     1.50,2,     0.02,2,     0.11,2,   -999.0,9,   8.0370,2,    25.00,  22.1554,20110206,0900
  29AH20110128,   A05,    38,  1,     23,2,20110206,0707, 24.5008, -27.7627, 5718,     25.5,  22.1667,  37.3372,2,    214.1,2,    214.4,2,     1.55,2,     0.01,2,     0.11,2,   -999.0,9,   8.0377,2,    25.00,  22.1616,20110206,0900
  29AH20110128,   A05,    38,  1,     24,2,20110206,0707, 24.5008, -27.7627, 5718,      5.8,  22.1625,  37.3378,2,    213.9,2,    214.2,2,     1.58,2,     0.02,2,     0.13,2,   2444.4,2,   8.0339,2,    25.00,  22.1613,20110206,0901
  29AH20110128,   A05,    39,  1,      1,2,20110206,1447, 24.5008, -28.3720, 5765,   5754.9,   2.4988,  34.8848,2,    244.8,2,    245.4,2,    44.18,4,    19.01,3,     1.45,2,   -999.0,9,   7.7248,2,    25.00,   1.9301,20110206,1447
  29AH20110128,   A05,    39,  1,      2,2,20110206,1447, 24.5008, -28.3720, 5765,   5500.7,   2.4641,  34.8853,2,    243.9,2,    245.9,2,    47.36,2,    20.82,2,     1.44,2,   -999.0,9,   7.7251,2,    25.00,   1.9308,20110206,1452
  29AH20110128,   A05,    39,  1,      3,2,20110206,1447, 24.5008, -28.3720, 5765,   5000.0,   2.4096,  34.8871,2,    244.4,2,    246.9,2,    47.22,2,    20.82,2,     1.44,2,   -999.0,9,   7.7255,2,    25.00,   1.9432,20110206,1502
  29AH20110128,   A05,    39,  1,      4,2,20110206,1447, 24.5008, -28.3720, 5765,   4498.7,   2.3803,  34.8912,2,    244.2,2,    244.5,2,    47.22,2,    20.62,2,     1.44,2,   -999.0,9,   7.7269,2,    25.00,   1.9768,20110206,1512
  29AH20110128,   A05,    39,  1,      5,2,20110206,1447, 24.5008, -28.3720, 5765,   4001.0,   2.4144,  34.9005,2,    243.9,2,    246.7,2,    45.55,2,    20.42,2,     1.43,2,   -999.0,9,   7.7267,2,    25.00,   2.0684,20110206,1521
  29AH20110128,   A05,    39,  1,      6,2,20110206,1447, 24.5008, -28.3720, 5765,   3499.4,   2.5079,  34.9141,2,    243.3,2,    245.2,2,    43.38,2,    20.14,2,     1.40,2,   -999.0,9,   7.7291,2,    25.00,   2.2153,20110206,1531
  29AH20110128,   A05,    39,  1,      7,2,20110206,1447, 24.5008, -28.3720, 5765,   3001.2,   2.7246,  34.9376,2,    243.1,2,    245.2,2,    36.65,2,    19.69,2,     1.38,2,   -999.0,9,   7.7328,2,    25.00,   2.4796,20110206,1540
  29AH20110128,   A05,    39,  1,      8,2,20110206,1447, 24.5008, -28.3720, 5765,   2500.2,   3.2496,  34.9879,2,    240.4,2,    241.1,2,    30.13,2,    19.21,2,     1.31,2,   -999.0,9,   7.7294,2,    25.00,   3.0448,20110206,1550
  29AH20110128,   A05,    39,  1,      9,2,20110206,1447, 24.5008, -28.3720, 5765,   2000.0,   4.0823,  35.0621,2,    226.3,2,    228.9,2,    25.86,2,    19.50,2,     1.34,2,   -999.0,9,   7.7211,2,    25.00,   3.9132,20110206,1600
  29AH20110128,   A05,    39,  1,     10,2,20110206,1447, 24.5008, -28.3720, 5765,   1750.2,   4.6218,  35.1016,2,    214.6,2,    215.0,2,    23.46,2,    20.22,2,     1.43,2,   -999.0,9,   7.7134,2,    25.00,   4.4699,20110206,1605
  29AH20110128,   A05,    39,  1,     11,2,20110206,1447, 24.5008, -28.3720, 5765,   1500.2,   5.3044,  35.1502,2,    200.2,2,    202.6,2,    22.23,2,    20.82,2,     1.45,2,   -999.0,9,   7.7012,2,    25.00,   5.1691,20110206,1610
  29AH20110128,   A05,    39,  1,     12,2,20110206,1447, 24.5008, -28.3720, 5765,   1300.6,   6.1318,  35.2030,2,    182.3,2,    182.7,2,    20.42,2,    21.83,2,     1.57,2,   -999.0,9,   7.6917,2,    25.00,   6.0083,20110206,1614
  29AH20110128,   A05,    39,  1,     13,2,20110206,1447, 24.5008, -28.3720, 5765,   1199.8,   6.4658,  35.1856,2,    171.1,2,    171.4,2,    21.51,2,    22.83,2,     1.67,2,   -999.0,9,   7.6747,2,    25.00,   6.3497,20110206,1616
  29AH20110128,   A05,    39,  1,     14,2,20110206,1447, 24.5008, -28.3720, 5765,    999.8,   7.0490,  35.1177,2,    146.6,2,    146.8,2,    21.87,2,    25.12,2,     1.86,2,   -999.0,9,   7.6399,2,    25.00,   6.9494,20110206,1620
  29AH20110128,   A05,    39,  1,     15,2,20110206,1447, 24.5008, -28.3720, 5765,    799.6,   8.8807,  35.2818,2,    133.2,2,    134.2,2,    17.38,2,    23.72,2,     1.65,2,   -999.0,9,   7.6531,2,    25.00,   8.7912,20110206,1624
  29AH20110128,   A05,    39,  1,     16,2,20110206,1447, 24.5008, -28.3720, 5765,    600.4,  11.4375,  35.5662,2,    155.7,2,    156.9,2,     9.92,2,    17.60,2,     1.04,2,   -999.0,9,   7.7308,2,    25.00,  11.3598,20110206,1628
  29AH20110128,   A05,    39,  1,     17,2,20110206,1447, 24.5008, -28.3720, 5765,    400.0,  14.2097,  35.9383,2,    163.6,2,    165.2,2,     5.94,2,    12.50,2,     0.65,2,   -999.0,9,   7.7967,2,    25.00,  14.1504,20110206,1632
  29AH20110128,   A05,    39,  1,     18,2,20110206,1447, 24.5008, -28.3720, 5765,    300.3,  15.8512,  36.2077,2,    165.4,2,    166.4,2,     4.63,2,     9.95,2,     0.52,2,   -999.0,9,   7.8453,2,    25.00,  15.8034,20110206,1634
  29AH20110128,   A05,    39,  1,     19,2,20110206,1447, 24.5008, -28.3720, 5765,    150.4,  19.5911,  36.8350,2,    194.9,2,    195.3,2,     1.96,2,     1.51,2,     0.11,2,   -999.0,9,   7.9580,2,    25.00,  19.5634,20110206,1637
  29AH20110128,   A05,    39,  1,     20,2,20110206,1447, 24.5008, -28.3720, 5765,    125.8,  21.5527,  37.2044,2,    207.8,2,    209.6,2,     1.59,2,     0.31,2,     0.09,2,   -999.0,9,   8.0183,2,    25.00,  21.5279,20110206,1637
  29AH20110128,   A05,    39,  1,     21,2,20110206,1447, 24.5008, -28.3720, 5765,     75.6,  22.4298,  37.4092,2,    212.2,2,    214.2,2,     1.59,2,     0.23,2,     0.09,2,   -999.0,9,   8.0395,2,    25.00,  22.4145,20110206,1639
  29AH20110128,   A05,    39,  1,     22,2,20110206,1447, 24.5008, -28.3720, 5765,     49.5,  22.4294,  37.3677,2,    213.3,2,    213.9,2,     1.59,2,     0.23,2,     0.09,2,   -999.0,9,   8.0423,2,    25.00,  22.4194,20110206,1639
  29AH20110128,   A05,    39,  1,     23,2,20110206,1447, 24.5008, -28.3720, 5765,     25.0,  22.4541,  37.3610,2,    213.5,2,    215.0,2,     1.59,2,     0.23,2,     0.09,2,   -999.0,9,   8.0408,2,    25.00,  22.4490,20110206,1640
  29AH20110128,   A05,    39,  1,     24,2,20110206,1447, 24.5008, -28.3720, 5765,      6.1,  22.4636,  37.3611,2,    214.0,2,    214.8,2,     1.59,2,     0.23,2,     0.09,2,   -999.0,9,   8.0325,2,    25.00,  22.4624,20110206,1641
  29AH20110128,   A05,    40,  1,      1,2,20110207,0827, 24.4990, -28.9845, 5791,   5780.7,   2.4914,  34.8837,2,    243.8,2,    245.2,2,    50.41,2,    21.03,2,     1.48,2,   2357.3,2,   7.7229,2,    25.00,   1.9195,20110207,0827
  29AH20110128,   A05,    40,  1,      2,2,20110207,0827, 24.4990, -28.9845, 5791,   5500.8,   2.4573,  34.8846,2,    243.8,2,    245.4,2,    49.65,2,    20.91,2,     1.47,2,   2354.5,2,   7.7235,2,    25.00,   1.9242,20110207,0833
  29AH20110128,   A05,    40,  1,      3,2,20110207,0827, 24.4990, -28.9845, 5791,   4999.5,   2.4046,  34.8866,2,    244.0,2,    245.0,2,    49.69,2,    20.73,2,     1.57,2,   2354.5,2,   7.7245,2,    25.00,   1.9384,20110207,0843
  29AH20110128,   A05,    40,  1,      4,2,20110207,0827, 24.4990, -28.9845, 5791,   4499.8,   2.3814,  34.8910,2,    244.1,2,    244.1,2,    48.12,2,    20.75,2,     1.53,2,   2353.5,2,   7.7280,2,    25.00,   1.9777,20110207,0853
  29AH20110128,   A05,    40,  1,      5,2,20110207,0827, 24.4990, -28.9845, 5791,   4000.9,   2.4175,  34.9007,2,    243.4,2,    245.1,2,    46.37,2,    20.56,2,     1.48,2,   2352.1,2,   7.7252,2,    25.00,   2.0714,20110207,0902
  29AH20110128,   A05,    40,  1,      6,2,20110207,0827, 24.4990, -28.9845, 5791,   3500.4,   2.5306,  34.9162,2,    243.2,2,    244.7,2,    42.38,2,    20.23,2,     1.44,2,   2350.2,2,   7.7258,2,    25.00,   2.2373,20110207,0912
  29AH20110128,   A05,    40,  1,      7,2,20110207,0827, 24.4990, -28.9845, 5791,   3001.2,   2.7585,  34.9405,2,    243.0,2,    245.1,2,    37.22,2,    19.69,2,     1.39,2,   2343.7,2,   7.7277,2,    25.00,   2.5128,20110207,0922
  29AH20110128,   A05,    40,  1,      8,2,20110207,0827, 24.4990, -28.9845, 5791,   2500.3,   3.2027,  34.9839,2,    242.2,2,    244.6,2,    30.62,2,    19.10,2,     1.29,2,   2336.9,2,   7.7299,2,    25.00,   2.9988,20110207,0931
  29AH20110128,   A05,    40,  1,      9,2,20110207,0827, 24.4990, -28.9845, 5791,   2000.5,   4.0920,  35.0688,2,    230.5,2,    233.1,2,    24.35,2,    19.09,2,     1.33,2,   2333.2,2,   7.7248,2,    25.00,   3.9227,20110207,0941
  29AH20110128,   A05,    40,  1,     10,2,20110207,0827, 24.4990, -28.9845, 5791,   1751.0,   4.7680,  35.1339,2,    218.0,2,    216.7,2,    22.61,2,    19.55,2,     1.36,2,   2334.0,2,   7.7150,2,    25.00,   4.6140,20110207,0946
  29AH20110128,   A05,    40,  1,     11,2,20110207,0827, 24.4990, -28.9845, 5791,   1501.5,   5.6346,  35.2030,2,    202.1,2,    203.7,2,    20.48,2,    20.24,2,     1.39,2,   2334.2,2,   7.7079,2,    25.00,   5.4954,20110207,0951
  29AH20110128,   A05,    40,  1,     12,2,20110207,0827, 24.4990, -28.9845, 5791,   1300.7,   6.1301,  35.1859,2,    187.4,2,    188.0,2,    19.81,2,    21.55,2,     1.51,2,   2331.4,2,   7.6914,2,    25.00,   6.0066,20110207,0955
  29AH20110128,   A05,    40,  1,     13,2,20110207,0827, 24.4990, -28.9845, 5791,   1200.7,   6.4254,  35.1692,2,    178.3,2,    177.5,2,    19.71,2,    22.42,2,     1.56,2,   2332.6,2,   7.6723,2,    25.00,   6.3096,20110207,0957
  29AH20110128,   A05,    40,  1,     14,2,20110207,0827, 24.4990, -28.9845, 5791,   1001.3,   7.1487,  35.1339,2,    151.3,2,    153.6,2,    20.53,2,    24.80,2,     1.75,2,   2328.1,2,   7.6505,2,    25.00,   7.0482,20110207,1002
  29AH20110128,   A05,    40,  1,     15,2,20110207,0827, 24.4990, -28.9845, 5791,    798.6,   8.9627,  35.2769,2,    136.5,2,    137.2,2,    16.71,2,    23.54,2,     1.64,2,   2331.5,2,   7.6634,2,    25.00,   8.8728,20110207,1006
  29AH20110128,   A05,    40,  1,     16,2,20110207,0827, 24.4990, -28.9845, 5791,    600.6,  11.4652,  35.5634,2,    151.7,2,    152.4,2,    10.05,2,    18.06,2,     1.14,2,   2339.2,2,   7.7314,2,    25.00,  11.3873,20110207,1010
  29AH20110128,   A05,    40,  1,     17,2,20110207,0827, 24.4990, -28.9845, 5791,    400.5,  14.0631,  35.9145,2,    174.6,2,    176.1,2,     5.75,2,    11.58,2,     0.62,2,   2358.2,2,   7.8240,2,    25.00,  14.0042,20110207,1014
  29AH20110128,   A05,    40,  1,     18,2,20110207,0827, 24.4990, -28.9845, 5791,    300.6,  15.8958,  36.2074,2,    169.9,2,    175.9,3,  -999.00,9,  -999.00,9,  -999.00,9,   -999.0,9,   7.8688,2,    25.00,  15.8479,20110207,1016
  29AH20110128,   A05,    40,  1,     19,2,20110207,0827, 24.4990, -28.9845, 5791,    149.4,  18.5564,  36.6770,2,    183.6,2,    184.4,2,     2.49,2,     3.22,2,     0.19,2,   2405.0,2,   7.9365,2,    25.00,  18.5299,20110207,1019
  29AH20110128,   A05,    40,  1,     20,2,20110207,0827, 24.4990, -28.9845, 5791,    108.1,  20.2988,  36.9419,2,    194.5,2,    195.7,2,     2.09,2,     1.42,2,     0.14,2,   -999.0,9,   7.9639,2,    25.00,  20.2784,20110207,1020
  29AH20110128,   A05,    40,  1,     21,2,20110207,0827, 24.4990, -28.9845, 5791,     76.4,  22.1494,  37.3774,2,    211.7,2,    213.5,2,     1.72,2,     0.01,2,     0.11,2,   2447.7,2,   8.0334,2,    25.00,  22.1341,20110207,1021
  29AH20110128,   A05,    40,  1,     22,2,20110207,0827, 24.4990, -28.9845, 5791,     50.5,  22.1599,  37.3842,2,    212.4,2,    212.5,2,     1.71,2,     0.00,2,     0.12,2,   -999.0,9,   8.0363,2,    25.00,  22.1498,20110207,1022
  29AH20110128,   A05,    40,  1,     23,2,20110207,0827, 24.4990, -28.9845, 5791,     24.3,  22.1605,  37.3859,2,    212.5,2,    213.4,2,     1.76,2,     0.00,2,     0.14,2,   -999.0,9,   8.0388,2,    25.00,  22.1556,20110207,1023
  29AH20110128,   A05,    40,  1,     24,2,20110207,0827, 24.4990, -28.9845, 5791,      5.7,  22.1603,  37.3867,2,    212.8,2,    213.8,2,     1.83,2,     0.02,2,     0.14,2,   -999.0,9,   8.0377,2,    25.00,  22.1592,20110207,1023