BOTTLE,20220930CCHSIOAMB
EXPOCODE,SECT_ID,STNNBR,CASTNO,BTLNBR,BTLNBR_FLAG_W,DATE,TIME,LATITUDE,LONGITUDE,DEPTH,CTDPRS,CTDTMP,CTDSAL,CTDSAL_FLAG_W,CTDOXY,CTDOXY_FLAG_W,OXYGEN,OXYGEN_FLAG_W,SILCAT,SILCAT_FLAG_W,NITRAT,NITRAT_FLAG_W,PHSPHT,PHSPHT_FLAG_W,ALKALI,ALKALI_FLAG_W,PH_SWS,PH_SWS_FLAG_W,PH_TMP,THETA,BTL_DATE,BTL_TIME
,,,,,,,,,,METERS,DBAR,ITS-90,PSS-78,,UMOL/KG,,UMOL/KG,,UMOL/KG,,UMOL/KG,,UMOL/KG,,UMOL/KG,,,,DEG C,DEG C,,
  29AH20110128,   A05,   140,  1,      1,2,20110310,0013, 26.2030, -76.2980, 4861,   4851.0,   2.1804,  34.8743,2,    257.3,2,    256.7,2,    43.64,2,    20.12,2,     1.48,2,   -999.0,9,   7.7209,2,    25.00,   1.7403,20110310,0013
  29AH20110128,   A05,   140,  1,      2,2,20110310,0013, 26.2030, -76.2980, 4861,   4499.8,   2.2429,  34.8869,2,    263.9,2,    264.3,2,    35.13,3,    18.74,2,     1.37,2,   -999.0,9,   7.7245,2,    25.00,   1.8435,20110310,0024
  29AH20110128,   A05,   140,  1,      3,2,20110310,0013, 26.2030, -76.2980, 4861,   3999.1,   2.2742,  34.8946,2,    267.5,2,    266.6,2,    30.11,2,    18.09,2,     1.32,2,   -999.0,9,   7.7261,2,    25.00,   1.9323,20110310,0033
  29AH20110128,   A05,   140,  1,      4,2,20110310,0013, 26.2030, -76.2980, 4861,   3501.3,   2.4090,  34.9068,2,    269.5,2,    269.5,2,    26.28,2,    17.55,2,     1.28,2,   -999.0,9,   7.7305,2,    25.00,   2.1187,20110310,0043
  29AH20110128,   A05,   140,  1,      5,2,20110310,0013, 26.2030, -76.2980, 4861,   2999.2,   2.7253,  34.9269,2,    267.0,2,    267.4,2,    23.07,2,    17.52,2,     1.26,2,   -999.0,9,   7.7333,2,    25.00,   2.4806,20110310,0053
  29AH20110128,   A05,   140,  1,      6,2,20110310,0013, 26.2030, -76.2980, 4861,   2500.2,   3.1962,  34.9533,2,    262.9,2,    264.0,2,    20.30,2,    17.64,2,     1.28,2,   -999.0,9,   7.7328,2,    25.00,   2.9926,20110310,0103
  29AH20110128,   A05,   140,  1,      7,2,20110310,0013, 26.2030, -76.2980, 4861,   2000.4,   3.6194,  34.9661,2,    262.7,2,    263.6,2,    15.91,2,    17.44,2,     1.24,2,   -999.0,9,   7.7249,2,    25.00,   3.4575,20110310,0113
  29AH20110128,   A05,   140,  1,      8,2,20110310,0013, 26.2030, -76.2980, 4861,   1751.7,   3.9294,  34.9805,2,    259.4,2,    260.1,2,    13.82,2,    17.52,2,     1.24,2,   -999.0,9,   7.7214,2,    25.00,   3.7867,20110310,0118
  29AH20110128,   A05,   140,  1,      9,2,20110310,0013, 26.2030, -76.2980, 4861,   1500.0,   4.3138,  35.0030,2,    253.3,2,    254.8,2,    14.07,2,    17.52,2,     1.25,2,   -999.0,9,   7.7153,2,    25.00,   4.1900,20110310,0123
  29AH20110128,   A05,   140,  1,     10,2,20110310,0013, 26.2030, -76.2980, 4861,   1301.2,   4.8783,  35.0378,2,    240.9,2,    242.5,2,    13.78,2,    18.20,2,     1.28,2,   -999.0,9,   7.7079,2,    25.00,   4.7671,20110310,0127
  29AH20110128,   A05,   140,  1,     11,2,20110310,0013, 26.2030, -76.2980, 4861,   1202.0,   5.3687,  35.0617,2,    227.7,2,    228.8,2,    14.60,2,    18.85,2,     1.31,2,   -999.0,9,   7.7066,2,    25.00,   5.2624,20110310,0129
  29AH20110128,   A05,   140,  1,     12,2,20110310,0013, 26.2030, -76.2980, 4861,   1100.9,   5.8714,  35.0735,2,    211.7,2,    212.4,2,    14.84,2,    19.94,2,     1.38,2,   -999.0,9,   7.6954,2,    25.00,   5.7707,20110310,0131
  29AH20110128,   A05,   140,  1,     13,2,20110310,0013, 26.2030, -76.2980, 4861,   1001.9,   7.0104,  35.0836,2,    174.0,2,    172.9,2,    15.94,2,    23.24,2,     1.59,2,   -999.0,9,   7.6702,2,    25.00,   6.9109,20110310,0134
  29AH20110128,   A05,   140,  1,     14,2,20110310,0013, 26.2030, -76.2980, 4861,    899.6,   8.1899,  35.1305,2,    151.0,2,    150.8,2,    17.17,2,    24.37,2,     1.65,2,   -999.0,9,   7.6643,2,    25.00,   8.0933,20110310,0136
  29AH20110128,   A05,   140,  1,     15,2,20110310,0013, 26.2030, -76.2980, 4861,    799.4,   9.9138,  35.2917,2,    142.2,2,    142.3,2,    14.02,2,  -999.00,9,     1.50,2,   -999.0,9,   7.6919,2,    25.00,   9.8184,20110310,0138
  29AH20110128,   A05,   140,  1,     16,2,20110310,0013, 26.2030, -76.2980, 4861,    600.9,  14.2371,  35.8914,2,    159.5,2,    160.2,2,     6.83,2,    13.85,2,     0.86,2,   -999.0,9,   7.8167,2,    25.00,  14.1474,20110310,0142
  29AH20110128,   A05,   140,  1,     17,2,20110310,0013, 26.2030, -76.2980, 4861,    398.8,  17.6769,  36.4931,2,    197.0,2,    198.2,2,     2.89,2,     5.14,2,     0.28,2,   -999.0,9,   7.9510,2,    25.00,  17.6083,20110310,0146
  29AH20110128,   A05,   140,  1,     18,2,20110310,0013, 26.2030, -76.2980, 4861,    300.1,  18.2231,  36.5743,2,    199.8,2,    200.9,2,     2.43,2,     3.75,2,     0.20,2,   -999.0,9,   7.9667,2,    25.00,  18.1705,20110310,0148
  29AH20110128,   A05,   140,  1,     19,2,20110310,0013, 26.2030, -76.2980, 4861,    148.6,  20.4474,  36.7593,2,    201.2,2,    202.5,2,     1.66,2,     0.65,2,     0.06,2,   -999.0,9,   8.0141,2,    25.00,  20.4192,20110310,0151
  29AH20110128,   A05,   140,  1,     20,2,20110310,0013, 26.2030, -76.2980, 4861,    124.7,  21.1660,  36.7933,2,    207.2,2,    206.5,2,     1.60,2,     0.28,2,     0.05,2,   -999.0,9,   8.0304,2,    25.00,  21.1418,20110310,0152
  29AH20110128,   A05,   140,  1,     21,2,20110310,0013, 26.2030, -76.2980, 4861,     74.7,  22.1857,  36.8236,2,    205.8,2,    206.5,2,     1.69,2,     0.18,2,     0.04,2,   -999.0,9,   8.0483,2,    25.00,  22.1707,20110310,0153
  29AH20110128,   A05,   140,  1,     22,2,20110310,0013, 26.2030, -76.2980, 4861,     50.5,  22.5813,  36.8344,2,    203.2,2,    204.2,2,     1.68,2,     0.47,2,     0.04,2,   -999.0,9,   8.0500,2,    25.00,  22.5711,20110310,0154
  29AH20110128,   A05,   140,  1,     23,2,20110310,0013, 26.2030, -76.2980, 4861,     24.6,  23.3263,  36.6651,2,    210.3,2,    208.5,2,     1.63,2,     0.26,2,     0.05,2,   -999.0,9,   8.0590,2,    25.00,  23.3212,20110310,0155
  29AH20110128,   A05,   140,  1,     24,2,20110310,0013, 26.2030, -76.2980, 4861,      6.4,  23.3652,  36.6529,2,    211.8,2,    211.7,2,     1.63,2,     0.05,2,     0.05,2,   -999.0,9,   8.0623,2,    25.00,  23.3639,20110310,0155
  29AH20110128,   A05,   141,  1,      1,2,20110310,0443, 26.2033, -76.4412, 4859,   4839.4,   2.2497,  34.8827,2,    261.9,2,    260.5,2,    38.60,2,    19.33,2,     1.42,2,   -999.0,9,   7.7276,2,    25.00,   1.8087,20110310,0443
  29AH20110128,   A05,   141,  1,      2,2,20110310,0443, 26.2033, -76.4412, 4859,   4498.2,   2.2309,  34.8856,2,    263.8,2,    262.9,2,    36.95,2,    19.03,2,     1.38,2,   -999.0,9,   7.7258,2,    25.00,   1.8321,20110310,0450
  29AH20110128,   A05,   141,  1,      3,2,20110310,0443, 26.2033, -76.4412, 4859,   3997.7,   2.2734,  34.8940,2,    268.3,2,    266.2,2,    31.60,2,    18.20,2,     1.32,2,   -999.0,9,   7.7208,2,    25.00,   1.9317,20110310,0459
  29AH20110128,   A05,   141,  1,      4,2,20110310,0443, 26.2033, -76.4412, 4859,   3499.5,   2.4154,  34.9070,2,    269.8,2,    268.4,2,    26.60,2,    17.65,2,     1.27,2,   -999.0,9,   7.7278,2,    25.00,   2.1251,20110310,0509
  29AH20110128,   A05,   141,  1,      5,2,20110310,0443, 26.2033, -76.4412, 4859,   3001.2,   2.7301,  34.9255,2,    268.1,2,    267.6,2,    22.55,2,    17.54,2,     1.25,2,   -999.0,9,   7.7310,2,    25.00,   2.4851,20110310,0519
  29AH20110128,   A05,   141,  1,      6,2,20110310,0443, 26.2033, -76.4412, 4859,   2499.3,   3.1299,  34.9451,2,    265.1,2,    264.6,2,    19.98,2,    17.65,2,     1.31,2,   -999.0,9,   7.7289,2,    25.00,   2.9276,20110310,0529
  29AH20110128,   A05,   141,  1,      7,2,20110310,0443, 26.2033, -76.4412, 4859,   1999.6,   3.5751,  34.9569,2,    264.2,2,    265.1,2,    16.54,2,    17.57,2,     1.24,2,   -999.0,9,   7.7235,2,    25.00,   3.4139,20110310,0539
  29AH20110128,   A05,   141,  1,      8,2,20110310,0443, 26.2033, -76.4412, 4859,   1750.2,   3.8781,  34.9748,2,    260.8,2,    261.5,2,    15.20,2,    17.67,2,     1.27,2,   -999.0,9,   7.7211,2,    25.00,   3.7362,20110310,0544
  29AH20110128,   A05,   141,  1,      9,2,20110310,0443, 26.2033, -76.4412, 4859,   1500.7,   4.2379,  34.9918,2,    255.4,2,    256.2,2,    14.07,2,    17.78,2,     1.27,2,   -999.0,9,   7.7148,2,    25.00,   4.1149,20110310,0549
  29AH20110128,   A05,   141,  1,     10,2,20110310,0443, 26.2033, -76.4412, 4859,   1298.8,   4.6795,  35.0100,2,    246.4,2,    246.6,2,    13.74,2,    18.09,2,     1.29,2,   -999.0,9,   7.7091,2,    25.00,   4.5706,20110310,0553
  29AH20110128,   A05,   141,  1,     11,2,20110310,0443, 26.2033, -76.4412, 4859,   1200.2,   5.2294,  35.0474,2,    231.5,2,    230.7,2,    13.96,2,    18.92,2,     1.33,2,   -999.0,9,   7.7057,2,    25.00,   5.1246,20110310,0555
  29AH20110128,   A05,   141,  1,     12,2,20110310,0443, 26.2033, -76.4412, 4859,   1100.0,   5.8688,  35.0750,2,    212.6,2,    210.4,2,    14.57,2,    20.21,2,     1.36,2,   -999.0,9,   7.7019,2,    25.00,   5.7682,20110310,0557
  29AH20110128,   A05,   141,  1,     13,2,20110310,0443, 26.2033, -76.4412, 4859,   1000.3,   6.7338,  35.0898,2,    186.4,2,    184.4,2,    16.61,2,    22.11,2,     1.53,2,   -999.0,9,   7.6818,2,    25.00,   6.6365,20110310,0559
  29AH20110128,   A05,   141,  1,     14,2,20110310,0443, 26.2033, -76.4412, 4859,    900.1,   7.9958,  35.1223,2,    155.3,2,    153.7,2,    16.52,2,    24.36,2,     1.65,2,   -999.0,9,   7.6625,2,    25.00,   7.9005,20110310,0601
  29AH20110128,   A05,   141,  1,     15,2,20110310,0443, 26.2033, -76.4412, 4859,    799.6,   9.8819,  35.2845,2,    141.6,2,    141.1,2,    13.92,2,  -999.00,9,     1.60,2,   -999.0,9,   7.6914,2,    25.00,   9.7866,20110310,0604
  29AH20110128,   A05,   141,  1,     16,2,20110310,0443, 26.2033, -76.4412, 4859,    601.2,  14.0972,  35.8629,2,    159.0,2,    158.3,2,     7.42,2,    14.71,2,     0.95,2,   -999.0,9,   7.8099,2,    25.00,  14.0081,20110310,0608
  29AH20110128,   A05,   141,  1,     17,2,20110310,0443, 26.2033, -76.4412, 4859,    399.9,  17.7060,  36.4982,2,    197.7,2,    198.4,2,     2.85,2,     5.07,2,     0.30,2,   -999.0,9,   7.9542,2,    25.00,  17.6371,20110310,0612
  29AH20110128,   A05,   141,  1,     18,2,20110310,0443, 26.2033, -76.4412, 4859,    300.2,  18.2977,  36.5756,2,    191.9,2,    194.8,2,     2.50,2,     4.42,2,     0.26,2,   -999.0,9,   7.9578,2,    25.00,  18.2449,20110310,0614
  29AH20110128,   A05,   141,  1,     19,2,20110310,0443, 26.2033, -76.4412, 4859,    150.1,  20.9163,  36.7875,2,    202.8,2,    202.9,2,     1.66,2,     0.73,2,     0.09,2,   -999.0,9,   8.0235,2,    25.00,  20.8874,20110310,0617
  29AH20110128,   A05,   141,  1,     20,2,20110310,0443, 26.2033, -76.4412, 4859,    125.6,  21.5545,  36.8149,2,    203.7,2,    203.4,2,     1.68,2,     0.58,2,     0.08,2,   -999.0,9,   8.0230,2,    25.00,  21.5298,20110310,0618
  29AH20110128,   A05,   141,  1,     21,2,20110310,0443, 26.2033, -76.4412, 4859,     75.5,  21.8346,  36.8168,2,    208.1,2,    207.9,2,  -999.00,9,  -999.00,9,  -999.00,9,   -999.0,9,   8.0269,2,    25.00,  21.8196,20110310,0619
  29AH20110128,   A05,   141,  1,     22,2,20110310,0443, 26.2033, -76.4412, 4859,     51.6,  22.7892,  36.8002,2,    210.9,2,    211.0,2,     1.71,2,     0.03,2,     0.08,2,   -999.0,9,   8.0288,2,    25.00,  22.7787,20110310,0619
  29AH20110128,   A05,   141,  1,     23,2,20110310,0443, 26.2033, -76.4412, 4859,     26.1,  23.2948,  36.6703,2,    212.4,2,    211.4,2,     1.68,2,     0.02,2,     0.08,2,   -999.0,9,   8.0105,2,    25.00,  23.2894,20110310,0620
  29AH20110128,   A05,   141,  1,     24,2,20110310,0443, 26.2033, -76.4412, 4859,      4.3,  23.2949,  36.6702,2,    212.1,2,    211.5,2,     1.71,2,     0.03,2,     0.08,2,   -999.0,9,   7.9995,2,    25.00,  23.2940,20110310,0621
  29AH20110128,   A05,   142,  1,      1,2,20110310,0843, 26.2022, -76.5313, 4832,   4822.3,   2.2798,  34.8859,2,    264.0,2,    264.9,2,    35.36,2,    19.54,2,     1.35,2,   -999.0,9,   7.7185,2,    25.00,   1.8400,20110310,0843
  29AH20110128,   A05,   142,  1,      2,2,20110310,0843, 26.2022, -76.5313, 4832,   4502.8,   2.2743,  34.8892,2,    265.5,2,    265.9,2,    33.81,2,    19.15,2,     1.39,2,   -999.0,9,   7.7226,2,    25.00,   1.8736,20110310,0849
  29AH20110128,   A05,   142,  1,      3,2,20110310,0843, 26.2022, -76.5313, 4832,   4000.9,   2.2713,  34.8937,2,    267.4,2,    270.1,2,    32.51,2,    18.84,2,     1.41,2,   -999.0,9,   7.7232,2,    25.00,   1.9293,20110310,0859
  29AH20110128,   A05,   142,  1,      4,2,20110310,0843, 26.2022, -76.5313, 4832,   3498.1,   2.3829,  34.9046,2,    269.9,2,    270.3,2,    27.22,2,    18.26,2,     1.35,2,   -999.0,9,   7.7247,2,    25.00,   2.0936,20110310,0909
  29AH20110128,   A05,   142,  1,      5,2,20110310,0843, 26.2022, -76.5313, 4832,   2999.5,   2.6831,  34.9232,2,    268.4,2,    270.2,2,    22.52,2,    18.05,2,     1.30,2,   -999.0,9,   7.7137,2,    25.00,   2.4393,20110310,0918
  29AH20110128,   A05,   142,  1,      6,2,20110310,0843, 26.2022, -76.5313, 4832,   2499.7,   3.2061,  34.9486,2,    264.9,2,    261.7,2,    19.85,2,    18.22,2,     1.32,2,   -999.0,9,   7.7152,2,    25.00,   3.0023,20110310,0928
  29AH20110128,   A05,   142,  1,      7,2,20110310,0843, 26.2022, -76.5313, 4832,   2001.0,   3.5898,  34.9585,2,    264.0,2,    264.7,2,    15.98,2,    18.12,2,     1.29,2,   -999.0,9,   7.7025,2,    25.00,   3.4283,20110310,0938
  29AH20110128,   A05,   142,  1,      8,2,20110310,0843, 26.2022, -76.5313, 4832,   1750.0,   3.8690,  34.9718,2,    261.2,2,    262.2,2,    15.10,2,    18.18,2,     1.36,3,   -999.0,9,   7.7042,2,    25.00,   3.7273,20110310,0943
  29AH20110128,   A05,   142,  1,      9,2,20110310,0843, 26.2022, -76.5313, 4832,   1501.7,   4.2672,  34.9961,2,    254.5,2,    255.5,2,    14.50,2,    18.40,2,  -999.00,9,   -999.0,9,   7.6947,2,    25.00,   4.1437,20110310,0948
  29AH20110128,   A05,   142,  1,     10,2,20110310,0843, 26.2022, -76.5313, 4832,   1301.3,   4.7305,  35.0258,2,    244.2,2,    245.0,2,    13.87,2,    18.87,2,     1.33,2,   -999.0,9,   7.6945,2,    25.00,   4.6208,20110310,0952
  29AH20110128,   A05,   142,  1,     11,2,20110310,0843, 26.2022, -76.5313, 4832,   1201.3,   5.2357,  35.0556,2,    231.0,2,    229.2,2,    14.48,2,    19.68,2,     1.33,2,   -999.0,9,   7.6841,2,    25.00,   5.1307,20110310,0954
  29AH20110128,   A05,   142,  1,     12,2,20110310,0843, 26.2022, -76.5313, 4832,   1099.3,   5.8156,  35.0730,2,    212.9,2,    213.2,2,    15.11,2,    20.81,2,     1.42,2,   -999.0,9,   7.6706,2,    25.00,   5.7155,20110310,0956
  29AH20110128,   A05,   142,  1,     13,2,20110310,0843, 26.2022, -76.5313, 4832,   1000.2,   6.5738,  35.0778,2,    187.1,2,    185.5,2,    16.98,2,    22.91,2,  -999.00,9,   -999.0,9,   7.6513,2,    25.00,   6.4777,20110310,0958
  29AH20110128,   A05,   142,  1,     14,2,20110310,0843, 26.2022, -76.5313, 4832,    900.5,   7.8592,  35.1155,2,    158.2,2,    157.9,2,    17.20,2,    24.90,2,  -999.00,9,   -999.0,9,   7.6295,2,    25.00,   7.7647,20110310,1000
  29AH20110128,   A05,   142,  1,     15,2,20110310,0843, 26.2022, -76.5313, 4832,    800.1,   9.5419,  35.2469,2,    142.5,2,    143.1,2,    15.01,2,    24.33,2,  -999.00,9,   -999.0,9,   7.6485,2,    25.00,   9.4486,20110310,1003
  29AH20110128,   A05,   142,  1,     16,2,20110310,0843, 26.2022, -76.5313, 4832,    600.5,  13.5630,  35.7789,2,    156.1,2,    157.7,2,     8.19,2,    16.12,2,     1.01,2,   -999.0,9,   7.7630,2,    25.00,  13.4762,20110310,1007
  29AH20110128,   A05,   142,  1,     17,2,20110310,0843, 26.2022, -76.5313, 4832,    399.9,  17.7395,  36.4898,2,    189.5,2,    190.6,2,     2.94,2,     6.05,2,     0.36,2,   -999.0,9,   7.8989,2,    25.00,  17.6705,20110310,1011
  29AH20110128,   A05,   142,  1,     18,2,20110310,0843, 26.2022, -76.5313, 4832,    300.2,  18.4253,  36.5942,2,    198.1,2,    199.6,2,     2.32,2,     3.77,2,  -999.00,9,   -999.0,9,   7.9210,2,    25.00,  18.3722,20110310,1013
  29AH20110128,   A05,   142,  1,     19,2,20110310,0843, 26.2022, -76.5313, 4832,    150.5,  21.1212,  36.8068,2,    203.2,2,    205.4,2,     1.65,2,     0.70,2,     0.13,2,   -999.0,9,   7.9686,2,    25.00,  21.0920,20110310,1016
  29AH20110128,   A05,   142,  1,     20,2,20110310,0843, 26.2022, -76.5313, 4832,    126.0,  21.4639,  36.8096,2,    208.2,2,    208.0,2,     1.65,2,     0.53,2,     0.12,2,   -999.0,9,   7.9809,2,    25.00,  21.4392,20110310,1017
  29AH20110128,   A05,   142,  1,     21,2,20110310,0843, 26.2022, -76.5313, 4832,     76.0,  22.3222,  36.8031,2,    209.3,2,    209.1,2,     1.63,2,     0.30,2,     0.12,2,   -999.0,9,   7.9913,2,    25.00,  22.3069,20110310,1018
  29AH20110128,   A05,   142,  1,     22,2,20110310,0843, 26.2022, -76.5313, 4832,     51.1,  22.7144,  36.7855,2,    211.3,2,    211.1,2,     1.65,2,     0.20,2,     0.12,2,   -999.0,9,   7.9958,2,    25.00,  22.7040,20110310,1019
  29AH20110128,   A05,   142,  1,     23,2,20110310,0843, 26.2022, -76.5313, 4832,     25.4,  23.4202,  36.5339,2,    211.0,2,    210.9,2,     1.72,2,     0.15,2,     0.12,2,   -999.0,9,   7.9924,2,    25.00,  23.4149,20110310,1019
  29AH20110128,   A05,   142,  1,     24,2,20110310,0843, 26.2022, -76.5313, 4832,      4.9,  23.4540,  36.5078,2,    210.6,2,    211.1,2,     1.90,2,     0.15,2,     0.13,2,   -999.0,9,   8.0124,2,    25.00,  23.4530,20110310,1020