BOTTLE,20220930CCHSIOAMB
EXPOCODE,SECT_ID,STNNBR,CASTNO,BTLNBR,BTLNBR_FLAG_W,DATE,TIME,LATITUDE,LONGITUDE,DEPTH,CTDPRS,CTDTMP,CTDSAL,CTDSAL_FLAG_W,CTDOXY,CTDOXY_FLAG_W,OXYGEN,OXYGEN_FLAG_W,SILCAT,SILCAT_FLAG_W,NITRAT,NITRAT_FLAG_W,PHSPHT,PHSPHT_FLAG_W,ALKALI,ALKALI_FLAG_W,PH_SWS,PH_SWS_FLAG_W,PH_TMP,THETA,BTL_DATE,BTL_TIME
,,,,,,,,,,METERS,DBAR,ITS-90,PSS-78,,UMOL/KG,,UMOL/KG,,UMOL/KG,,UMOL/KG,,UMOL/KG,,UMOL/KG,,,,DEG C,DEG C,,
  29AH20110128,   A05,    89,  1,      1,2,20110222,1802, 24.5000, -52.8095, 5516,   5506.1,   2.0925,  34.8518,2,    251.0,2,    250.9,2,    53.09,2,    22.89,2,     1.62,2,   -999.0,9,   7.7076,2,    25.00,   1.5722,20110222,1802
  29AH20110128,   A05,    89,  1,      2,2,20110222,1802, 24.5000, -52.8095, 5516,   4998.9,   2.0704,  34.8571,2,    251.3,2,    252.2,2,    51.02,2,    22.69,2,     1.58,2,   -999.0,9,   7.7096,2,    25.00,   1.6157,20110222,1812
  29AH20110128,   A05,    89,  1,      3,2,20110222,1802, 24.5000, -52.8095, 5516,   4497.1,   2.1402,  34.8710,2,    254.9,2,    253.7,2,    47.20,2,    22.50,2,     1.54,2,   -999.0,9,   7.7202,2,    25.00,   1.7444,20110222,1821
  29AH20110128,   A05,    89,  1,      4,2,20110222,1802, 24.5000, -52.8095, 5516,   4001.6,   2.2593,  34.8883,2,    255.8,2,    254.8,2,    41.55,2,  -999.00,9,     1.41,2,   -999.0,9,   7.7244,2,    25.00,   1.9176,20110222,1831
  29AH20110128,   A05,    89,  1,      5,2,20110222,1802, 24.5000, -52.8095, 5516,   3501.4,   2.4550,  34.9093,2,    256.1,2,    256.0,2,  -999.00,9,  -999.00,9,  -999.00,9,   -999.0,9,   7.7296,2,    25.00,   2.1635,20110222,1840
  29AH20110128,   A05,    89,  1,      6,2,20110222,1802, 24.5000, -52.8095, 5516,   3003.3,   2.7260,  34.9334,2,    252.6,2,    253.2,2,    30.42,2,  -999.00,9,     1.33,2,   -999.0,9,   7.7333,2,    25.00,   2.4808,20110222,1850
  29AH20110128,   A05,    89,  1,      7,2,20110222,1802, 24.5000, -52.8095, 5516,   2500.2,   3.0604,  34.9623,2,    250.1,2,    251.0,2,    29.29,2,  -999.00,9,     1.38,2,   -999.0,9,   7.7334,2,    25.00,   2.8592,20110222,1900
  29AH20110128,   A05,    89,  1,      8,2,20110222,1802, 24.5000, -52.8095, 5516,   2002.1,   3.6476,  35.0105,2,    248.3,2,    250.6,2,    21.14,2,  -999.00,9,     1.28,2,   -999.0,9,   7.7334,2,    25.00,   3.4849,20110222,1909
  29AH20110128,   A05,    89,  1,      9,2,20110222,1802, 24.5000, -52.8095, 5516,   1751.3,   4.1199,  35.0403,2,    246.0,2,    247.5,2,    18.25,2,  -999.00,9,     1.30,2,   -999.0,9,   7.7311,2,    25.00,   3.9746,20110222,1914
  29AH20110128,   A05,    89,  1,     10,2,20110222,1802, 24.5000, -52.8095, 5516,   1502.1,   4.6632,  35.0679,2,    240.3,2,    241.7,2,    15.74,2,  -999.00,9,     1.30,2,   -999.0,9,   7.7247,2,    25.00,   4.5351,20110222,1919
  29AH20110128,   A05,    89,  1,     11,2,20110222,1802, 24.5000, -52.8095, 5516,   1300.1,   5.2188,  35.0816,2,    225.2,2,    226.1,2,    13.74,2,  -999.00,9,     1.31,2,   -999.0,9,   7.7123,2,    25.00,   5.1044,20110222,1923
  29AH20110128,   A05,    89,  1,     12,2,20110222,1802, 24.5000, -52.8095, 5516,   1198.8,   5.4520,  35.0601,2,    212.0,2,    212.0,2,    16.71,2,  -999.00,9,     1.46,2,   -999.0,9,   7.7005,2,    25.00,   5.3453,20110222,1925
  29AH20110128,   A05,    89,  1,     13,2,20110222,1802, 24.5000, -52.8095, 5516,   1100.4,   6.0254,  35.0663,2,    191.3,2,    191.2,2,    17.85,2,  -999.00,9,     1.56,2,   -999.0,9,   7.6806,2,    25.00,   5.9235,20110222,1928
  29AH20110128,   A05,    89,  1,     14,2,20110222,1802, 24.5000, -52.8095, 5516,   1003.9,   6.5473,  35.0783,2,    176.5,2,    175.3,2,    15.26,2,  -999.00,9,     1.47,3,   -999.0,9,   7.6707,2,    25.00,   6.4510,20110222,1930
  29AH20110128,   A05,    89,  1,     15,2,20110222,1802, 24.5000, -52.8095, 5516,    802.6,   9.0719,  35.2886,2,    153.9,2,    155.2,2,    14.38,2,  -999.00,9,     1.51,2,   -999.0,9,   7.6921,2,    25.00,   8.9809,20110222,1934
  29AH20110128,   A05,    89,  1,     16,2,20110222,1802, 24.5000, -52.8095, 5516,    598.5,  12.2798,  35.6472,2,    166.9,2,    163.1,2,  -999.00,9,  -999.00,9,  -999.00,9,   -999.0,9,   7.7760,2,    25.00,  12.1987,20110222,1938
  29AH20110128,   A05,    89,  1,     17,2,20110222,1802, 24.5000, -52.8095, 5516,    402.8,  15.6874,  36.1524,2,    179.3,2,    180.1,2,     3.69,2,  -999.00,9,     0.58,2,   -999.0,9,   7.8751,2,    25.00,  15.6236,20110222,1942
  29AH20110128,   A05,    89,  1,     18,2,20110222,1802, 24.5000, -52.8095, 5516,    299.1,  17.5532,  36.4708,2,    192.3,2,    193.9,2,     2.21,2,  -999.00,9,     0.32,2,   -999.0,9,   7.9317,2,    25.00,  17.5021,20110222,1945
  29AH20110128,   A05,    89,  1,     19,2,20110222,1802, 24.5000, -52.8095, 5516,    152.0,  20.8360,  36.8818,2,    202.6,2,    201.2,2,     0.89,2,  -999.00,9,     0.02,2,   -999.0,9,   8.0001,2,    25.00,  20.8068,20110222,1948
  29AH20110128,   A05,    89,  1,     20,2,20110222,1802, 24.5000, -52.8095, 5516,    122.8,  21.6970,  36.9379,2,    209.9,2,    210.6,2,     1.01,2,  -999.00,9,     0.04,2,   -999.0,9,   8.0351,2,    25.00,  21.6727,20110222,1948
  29AH20110128,   A05,    89,  1,     21,2,20110222,1802, 24.5000, -52.8095, 5516,     77.2,  22.7796,  37.0419,2,    213.4,2,    213.8,2,     1.05,2,  -999.00,9,     0.03,2,   -999.0,9,   8.0644,2,    25.00,  22.7638,20110222,1949
  29AH20110128,   A05,    89,  1,     22,2,20110222,1802, 24.5000, -52.8095, 5516,     51.7,  23.3888,  37.1012,2,    212.9,2,    213.2,2,     1.02,2,  -999.00,9,     0.04,2,   -999.0,9,   8.0693,2,    25.00,  23.3780,20110222,1950
  29AH20110128,   A05,    89,  1,     23,2,20110222,1802, 24.5000, -52.8095, 5516,     25.5,  23.4032,  37.0994,2,    213.3,2,    213.4,2,     1.08,2,  -999.00,9,     0.04,2,   -999.0,9,   8.0728,2,    25.00,  23.3979,20110222,1950
  29AH20110128,   A05,    89,  1,     24,2,20110222,1802, 24.5000, -52.8095, 5516,      6.0,  23.4189,  37.0977,2,    213.1,2,    213.0,2,     1.06,2,  -999.00,9,     0.04,2,   -999.0,9,   8.0753,2,    25.00,  23.4176,20110222,1951
  29AH20110128,   A05,    90,  1,      1,2,20110223,0203, 24.5000, -53.4205, 5683,   5672.8,   2.0872,  34.8486,2,    249.8,2,    249.2,2,  -999.00,9,  -999.00,9,  -999.00,9,   2346.9,2,   7.7066,2,    25.00,   1.5451,20110223,0203
  29AH20110128,   A05,    90,  1,      2,2,20110223,0203, 24.5000, -53.4205, 5683,   5499.9,   2.0776,  34.8503,2,    250.4,2,    246.6,2,  -999.00,9,  -999.00,9,  -999.00,9,   2344.9,2,   7.7082,2,    25.00,   1.5586,20110223,0206
  29AH20110128,   A05,    90,  1,      3,2,20110223,0203, 24.5000, -53.4205, 5683,   4998.2,   2.0800,  34.8581,2,    252.0,2,    251.4,2,  -999.00,9,  -999.00,9,  -999.00,9,   2342.4,2,   7.7143,2,    25.00,   1.6251,20110223,0216
  29AH20110128,   A05,    90,  1,      4,2,20110223,0203, 24.5000, -53.4205, 5683,   4500.3,   2.1399,  34.8710,2,    253.6,2,    252.6,2,  -999.00,9,  -999.00,9,  -999.00,9,   2342.5,2,   7.7185,2,    25.00,   1.7437,20110223,0226
  29AH20110128,   A05,    90,  1,      5,2,20110223,0203, 24.5000, -53.4205, 5683,   3999.3,   2.2535,  34.8878,2,    256.0,2,    255.7,2,  -999.00,9,  -999.00,9,  -999.00,9,   2337.2,2,   7.7249,2,    25.00,   1.9122,20110223,0235
  29AH20110128,   A05,    90,  1,      6,2,20110223,0203, 24.5000, -53.4205, 5683,   3500.3,   2.4547,  34.9088,2,    255.7,2,    255.4,2,  -999.00,9,  -999.00,9,  -999.00,9,   2333.1,2,   7.7346,2,    25.00,   2.1633,20110223,0245
  29AH20110128,   A05,    90,  1,      7,2,20110223,0203, 24.5000, -53.4205, 5683,   3000.8,   2.7300,  34.9329,2,    252.6,2,    252.1,2,  -999.00,9,  -999.00,9,  -999.00,9,   2334.7,2,   7.7350,2,    25.00,   2.4850,20110223,0255
  29AH20110128,   A05,    90,  1,      8,2,20110223,0203, 24.5000, -53.4205, 5683,   2500.8,   3.0736,  34.9630,2,    250.1,2,    250.4,2,  -999.00,9,  -999.00,9,  -999.00,9,   2332.1,2,   7.7350,2,    25.00,   2.8721,20110223,0304
  29AH20110128,   A05,    90,  1,      9,2,20110223,0203, 24.5000, -53.4205, 5683,   2000.8,   3.6398,  35.0087,2,    247.3,2,    247.8,2,  -999.00,9,  -999.00,9,  -999.00,9,   2322.9,2,   7.7331,2,    25.00,   3.4774,20110223,0314
  29AH20110128,   A05,    90,  1,     10,2,20110223,0203, 24.5000, -53.4205, 5683,   1752.3,   4.0997,  35.0409,2,    245.6,2,    245.7,2,  -999.00,9,  -999.00,9,  -999.00,9,   2320.2,2,   7.7324,2,    25.00,   3.9545,20110223,0319
  29AH20110128,   A05,    90,  1,     11,2,20110223,0203, 24.5000, -53.4205, 5683,   1500.2,   4.6107,  35.0587,2,    241.5,2,    239.5,2,  -999.00,9,  -999.00,9,  -999.00,9,   2319.7,2,   7.7241,2,    25.00,   4.4834,20110223,0324
  29AH20110128,   A05,    90,  1,     12,2,20110223,0203, 24.5000, -53.4205, 5683,   1301.2,   5.1904,  35.0652,2,    223.9,2,    223.4,2,  -999.00,9,  -999.00,9,  -999.00,9,   2316.7,2,   7.7125,2,    25.00,   5.0761,20110223,0329
  29AH20110128,   A05,    90,  1,     13,2,20110223,0203, 24.5000, -53.4205, 5683,   1201.4,   5.4914,  35.0547,2,    210.7,2,    209.8,2,  -999.00,9,  -999.00,9,  -999.00,9,   2317.8,2,   7.6937,2,    25.00,   5.3841,20110223,0331
  29AH20110128,   A05,    90,  1,     14,2,20110223,0203, 24.5000, -53.4205, 5683,   1001.3,   6.4350,  35.0529,2,    179.2,2,    177.2,2,  -999.00,9,  -999.00,9,  -999.00,9,   2318.4,2,   7.6711,2,    25.00,   6.3399,20110223,0335
  29AH20110128,   A05,    90,  1,     15,2,20110223,0203, 24.5000, -53.4205, 5683,    801.3,   8.3709,  35.1291,2,    141.8,2,    140.5,2,  -999.00,9,  -999.00,9,  -999.00,9,   2320.4,2,   7.6561,2,    25.00,   8.2843,20110223,0339
  29AH20110128,   A05,    90,  1,     16,2,20110223,0203, 24.5000, -53.4205, 5683,    599.9,  12.1668,  35.6128,2,    155.1,2,    154.6,2,  -999.00,9,  -999.00,9,  -999.00,9,   2338.3,2,   7.7606,2,    25.00,  12.0860,20110223,0343
  29AH20110128,   A05,    90,  1,     17,2,20110223,0203, 24.5000, -53.4205, 5683,    401.3,  16.2708,  36.2433,2,    182.7,2,    183.2,2,  -999.00,9,  -999.00,9,  -999.00,9,   2373.3,2,   7.8947,2,    25.00,  16.2056,20110223,0347
  29AH20110128,   A05,    90,  1,     18,2,20110223,0203, 24.5000, -53.4205, 5683,    301.0,  17.6133,  36.4778,2,    195.9,2,    195.2,2,  -999.00,9,  -999.00,9,  -999.00,9,   2387.4,2,   7.9404,2,    25.00,  17.5617,20110223,0349
  29AH20110128,   A05,    90,  1,     19,2,20110223,0203, 24.5000, -53.4205, 5683,    148.7,  20.0565,  36.8503,2,    191.0,2,    190.8,2,  -999.00,9,  -999.00,9,  -999.00,9,   2410.4,2,   7.9760,2,    25.00,  20.0287,20110223,0352
  29AH20110128,   A05,    90,  1,     20,2,20110223,0203, 24.5000, -53.4205, 5683,    123.0,  21.3642,  36.9808,2,    200.7,2,    201.1,2,  -999.00,9,  -999.00,9,  -999.00,9,   -999.0,9,   8.0060,2,    25.00,  21.3401,20110223,0353
  29AH20110128,   A05,    90,  1,     21,2,20110223,0203, 24.5000, -53.4205, 5683,     73.6,  23.5791,  37.1718,2,    211.1,2,    210.8,2,  -999.00,9,  -999.00,9,  -999.00,9,   2430.9,2,   8.0646,2,    25.00,  23.5637,20110223,0354
  29AH20110128,   A05,    90,  1,     22,2,20110223,0203, 24.5000, -53.4205, 5683,     50.6,  23.6411,  37.1782,2,    211.5,2,    210.6,2,  -999.00,9,  -999.00,9,  -999.00,9,   -999.0,9,   8.0850,2,    25.00,  23.6305,20110223,0355
  29AH20110128,   A05,    90,  1,     23,2,20110223,0203, 24.5000, -53.4205, 5683,     23.9,  23.6462,  37.1773,2,    211.7,2,    211.3,2,  -999.00,9,  -999.00,9,  -999.00,9,   -999.0,9,   8.0769,2,    25.00,  23.6412,20110223,0355
  29AH20110128,   A05,    90,  1,     24,2,20110223,0203, 24.5000, -53.4205, 5683,      5.8,  23.6398,  37.1687,2,    211.6,2,    211.2,2,  -999.00,9,  -999.00,9,  -999.00,9,   2433.7,2,   8.0770,2,    25.00,  23.6386,20110223,0356
  29AH20110128,   A05,    91,  1,      1,2,20110223,1011, 24.4998, -54.0340, 6039,   6029.5,   2.1264,  34.8473,2,    250.2,2,    249.7,2,  -999.00,9,  -999.00,9,  -999.00,9,   -999.0,9,   7.7049,2,    25.00,   1.5347,20110223,1011
  29AH20110128,   A05,    91,  1,      2,2,20110223,1011, 24.4998, -54.0340, 6039,   5500.6,   2.0651,  34.8492,2,    250.1,2,    249.1,2,  -999.00,9,  -999.00,9,  -999.00,9,   -999.0,9,   7.7074,2,    25.00,   1.5465,20110223,1024
  29AH20110128,   A05,    91,  1,      3,2,20110223,1011, 24.4998, -54.0340, 6039,   4999.8,   2.0638,  34.8563,2,    251.5,2,    250.6,2,  -999.00,9,  -999.00,9,  -999.00,9,   -999.0,9,   7.7120,2,    25.00,   1.6092,20110223,1033
  29AH20110128,   A05,    91,  1,      4,2,20110223,1011, 24.4998, -54.0340, 6039,   4501.7,   2.1354,  34.8710,2,    252.8,2,    253.0,2,  -999.00,9,  -999.00,9,  -999.00,9,   -999.0,9,   7.7194,2,    25.00,   1.7392,20110223,1043
  29AH20110128,   A05,    91,  1,      5,2,20110223,1011, 24.4998, -54.0340, 6039,   3999.9,   2.2577,  34.8884,2,    255.6,2,    255.9,2,  -999.00,9,  -999.00,9,  -999.00,9,   -999.0,9,   7.7262,2,    25.00,   1.9162,20110223,1053
  29AH20110128,   A05,    91,  1,      6,2,20110223,1011, 24.4998, -54.0340, 6039,   3499.2,   2.4530,  34.9086,2,    254.4,2,    254.9,2,  -999.00,9,  -999.00,9,  -999.00,9,   -999.0,9,   7.7318,2,    25.00,   2.1618,20110223,1102
  29AH20110128,   A05,    91,  1,      7,2,20110223,1011, 24.4998, -54.0340, 6039,   2999.3,   2.7267,  34.9335,2,    252.1,2,    251.9,2,  -999.00,9,  -999.00,9,  -999.00,9,   -999.0,9,   7.7350,2,    25.00,   2.4819,20110223,1112
  29AH20110128,   A05,    91,  1,      8,2,20110223,1011, 24.4998, -54.0340, 6039,   2500.9,   3.0824,  34.9640,2,    249.4,2,    250.6,2,  -999.00,9,  -999.00,9,  -999.00,9,   -999.0,9,   7.7349,2,    25.00,   2.8807,20110223,1122
  29AH20110128,   A05,    91,  1,      9,2,20110223,1011, 24.4998, -54.0340, 6039,   1999.8,   3.6503,  35.0076,2,    247.6,2,    248.7,2,  -999.00,9,  -999.00,9,  -999.00,9,   -999.0,9,   7.7353,2,    25.00,   3.4878,20110223,1131
  29AH20110128,   A05,    91,  1,     10,2,20110223,1011, 24.4998, -54.0340, 6039,   1750.1,   4.0477,  35.0288,2,    246.5,2,    247.7,2,  -999.00,9,  -999.00,9,  -999.00,9,   -999.0,9,   7.7328,2,    25.00,   3.9035,20110223,1136
  29AH20110128,   A05,    91,  1,     11,2,20110223,1011, 24.4998, -54.0340, 6039,   1500.6,   4.6877,  35.0624,2,    239.8,2,    239.9,2,  -999.00,9,  -999.00,9,  -999.00,9,   -999.0,9,   7.7242,2,    25.00,   4.5595,20110223,1141
  29AH20110128,   A05,    91,  1,     12,2,20110223,1011, 24.4998, -54.0340, 6039,   1300.0,   5.0995,  35.0585,2,    225.9,2,    226.3,2,  -999.00,9,  -999.00,9,  -999.00,9,   -999.0,9,   7.7125,2,    25.00,   4.9863,20110223,1145
  29AH20110128,   A05,    91,  1,     13,2,20110223,1011, 24.4998, -54.0340, 6039,   1203.2,   5.3765,  35.0526,2,    213.1,2,    213.4,2,  -999.00,9,  -999.00,9,  -999.00,9,   -999.0,9,   7.6966,2,    25.00,   5.2700,20110223,1148
  29AH20110128,   A05,    91,  1,     14,2,20110223,1011, 24.4998, -54.0340, 6039,   1001.0,   6.6177,  35.0599,2,    175.9,2,    175.2,2,  -999.00,9,  -999.00,9,  -999.00,9,   -999.0,9,   7.6641,2,    25.00,   6.5213,20110223,1152
  29AH20110128,   A05,    91,  1,     15,2,20110223,1011, 24.4998, -54.0340, 6039,    802.1,   8.6427,  35.1703,2,    143.8,2,    143.6,2,  -999.00,9,  -999.00,9,  -999.00,9,   -999.0,9,   7.6633,2,    25.00,   8.5544,20110223,1156
  29AH20110128,   A05,    91,  1,     16,2,20110223,1011, 24.4998, -54.0340, 6039,    599.7,  12.5852,  35.6821,2,    163.4,2,    164.4,2,  -999.00,9,  -999.00,9,  -999.00,9,   -999.0,9,   7.7785,2,    25.00,  12.5027,20110223,1200
  29AH20110128,   A05,    91,  1,     17,2,20110223,1011, 24.4998, -54.0340, 6039,    400.4,  16.4206,  36.2682,2,    186.2,2,    186.7,2,  -999.00,9,  -999.00,9,  -999.00,9,   -999.0,9,   7.9004,2,    25.00,  16.3551,20110223,1204
  29AH20110128,   A05,    91,  1,     18,2,20110223,1011, 24.4998, -54.0340, 6039,    301.3,  17.7707,  36.5052,2,    200.7,2,    200.8,2,  -999.00,9,  -999.00,9,  -999.00,9,   -999.0,9,   7.9506,2,    25.00,  17.7188,20110223,1206
  29AH20110128,   A05,    91,  1,     19,2,20110223,1011, 24.4998, -54.0340, 6039,    150.5,  20.0546,  36.8004,2,    196.5,2,    195.7,2,  -999.00,9,  -999.00,9,  -999.00,9,   -999.0,9,   7.9794,2,    25.00,  20.0264,20110223,1209
  29AH20110128,   A05,    91,  1,     20,2,20110223,1011, 24.4998, -54.0340, 6039,    120.6,  21.1835,  36.9272,2,    200.4,2,    199.9,2,  -999.00,9,  -999.00,9,  -999.00,9,   -999.0,9,   8.0030,2,    25.00,  21.1601,20110223,1210
  29AH20110128,   A05,    91,  1,     21,2,20110223,1011, 24.4998, -54.0340, 6039,     75.6,  23.8293,  37.0046,2,    211.0,2,    210.4,2,  -999.00,9,  -999.00,9,  -999.00,9,   -999.0,9,   8.0794,2,    25.00,  23.8133,20110223,1211
  29AH20110128,   A05,    91,  1,     22,2,20110223,1011, 24.4998, -54.0340, 6039,     40.9,  24.2782,  36.9751,2,    209.1,2,    208.5,2,  -999.00,9,  -999.00,9,  -999.00,9,   -999.0,9,   8.0837,2,    25.00,  24.2695,20110223,1212
  29AH20110128,   A05,    91,  1,     23,2,20110223,1011, 24.4998, -54.0340, 6039,     26.6,  24.2752,  36.9754,2,    209.2,2,    209.1,2,  -999.00,9,  -999.00,9,  -999.00,9,   -999.0,9,   8.0839,2,    25.00,  24.2695,20110223,1212
  29AH20110128,   A05,    91,  1,     24,2,20110223,1011, 24.4998, -54.0340, 6039,      5.5,  24.2692,  36.9754,2,    209.4,2,    208.6,2,  -999.00,9,  -999.00,9,  -999.00,9,   -999.0,9,   8.0845,2,    25.00,  24.2680,20110223,1213