BOTTLE,20220930CCHSIOAMB
EXPOCODE,SECT_ID,STNNBR,CASTNO,BTLNBR,BTLNBR_FLAG_W,DATE,TIME,LATITUDE,LONGITUDE,DEPTH,CTDPRS,CTDTMP,CTDSAL,CTDSAL_FLAG_W,CTDOXY,CTDOXY_FLAG_W,OXYGEN,OXYGEN_FLAG_W,SILCAT,SILCAT_FLAG_W,NITRAT,NITRAT_FLAG_W,PHSPHT,PHSPHT_FLAG_W,ALKALI,ALKALI_FLAG_W,PH_SWS,PH_SWS_FLAG_W,PH_TMP,THETA,BTL_DATE,BTL_TIME
,,,,,,,,,,METERS,DBAR,ITS-90,PSS-78,,UMOL/KG,,UMOL/KG,,UMOL/KG,,UMOL/KG,,UMOL/KG,,UMOL/KG,,,,DEG C,DEG C,,
  29AH20110128,   A05,    59,  1,      1,2,20110213,1324, 24.4997, -38.9535, 4903,   4622.6,   2.3890,  34.8891,2,    246.2,2,    245.2,2,    46.13,2,    20.69,2,     1.45,2,   -999.0,9,   7.7213,2,    25.00,   1.9702,20110213,1324
  29AH20110128,   A05,    59,  1,      2,2,20110213,1324, 24.4997, -38.9535, 4903,   4499.4,   2.3895,  34.8907,2,    245.8,2,    245.1,2,    46.43,2,    20.53,2,     1.45,2,   -999.0,9,   7.7212,2,    25.00,   1.9856,20110213,1327
  29AH20110128,   A05,    59,  1,      3,2,20110213,1324, 24.4997, -38.9535, 4903,   3999.4,   2.4500,  34.9025,2,    245.4,2,    244.9,2,    43.99,2,    20.50,2,     1.42,2,   -999.0,9,   7.7243,2,    25.00,   2.1031,20110213,1337
  29AH20110128,   A05,    59,  1,      4,2,20110213,1324, 24.4997, -38.9535, 4903,   3500.6,   2.5793,  34.9197,2,    243.7,2,    243.9,2,    41.38,2,    20.09,2,     1.42,2,   -999.0,9,   7.7253,2,    25.00,   2.2848,20110213,1347
  29AH20110128,   A05,    59,  1,      5,2,20110213,1324, 24.4997, -38.9535, 4903,   3001.1,   2.7998,  34.9424,2,    242.3,2,    242.6,2,    36.26,2,    19.89,2,     1.40,2,   -999.0,9,   7.7266,2,    25.00,   2.5532,20110213,1356
  29AH20110128,   A05,    59,  1,      6,2,20110213,1324, 24.4997, -38.9535, 4903,   2500.3,   3.1842,  34.9729,2,    241.8,2,    241.7,2,    30.08,2,    19.41,2,     1.35,2,   -999.0,9,   7.7300,2,    25.00,   2.9807,20110213,1406
  29AH20110128,   A05,    59,  1,      7,2,20110213,1324, 24.4997, -38.9535, 4903,   2000.2,   3.8640,  35.0236,2,    237.0,2,    238.7,2,  -999.00,9,  -999.00,9,  -999.00,9,   -999.0,9,   7.7239,2,    25.00,   3.6983,20110213,1416
  29AH20110128,   A05,    59,  1,      8,2,20110213,1324, 24.4997, -38.9535, 4903,   1750.2,   4.3279,  35.0505,2,    230.6,2,    231.5,2,    20.63,2,    19.41,2,     1.29,2,   -999.0,9,   7.7208,2,    25.00,   4.1799,20110213,1421
  29AH20110128,   A05,    59,  1,      9,2,20110213,1324, 24.4997, -38.9535, 4903,   1499.5,   4.9294,  35.0786,2,    219.0,2,    218.2,2,    19.02,2,    20.01,2,     1.33,2,   -999.0,9,   7.7037,2,    25.00,   4.7985,20110213,1426
  29AH20110128,   A05,    59,  1,     10,2,20110213,1324, 24.4997, -38.9535, 4903,   1300.7,   5.5476,  35.0803,2,    198.8,2,    198.8,2,    19.08,2,    21.50,2,     1.47,2,   -999.0,9,   7.6848,2,    25.00,   5.4299,20110213,1430
  29AH20110128,   A05,    59,  1,     11,2,20110213,1324, 24.4997, -38.9535, 4903,   1200.2,   5.7985,  35.0733,2,    188.2,2,    188.2,2,    19.68,2,    22.31,2,  -999.00,9,   -999.0,9,   7.6743,2,    25.00,   5.6885,20110213,1432
  29AH20110128,   A05,    59,  1,     12,2,20110213,1324, 24.4997, -38.9535, 4903,   1099.8,   6.2899,  35.0798,2,    174.7,2,    174.0,2,    19.68,2,    23.43,2,     1.64,2,   -999.0,9,   7.6607,2,    25.00,   6.1858,20110213,1434
  29AH20110128,   A05,    59,  1,     13,2,20110213,1324, 24.4997, -38.9535, 4903,   1000.8,   6.8910,  35.0981,2,    161.5,2,    161.2,2,    19.49,2,    24.20,2,     1.71,2,   -999.0,9,   7.6558,2,    25.00,   6.7925,20110213,1436
  29AH20110128,   A05,    59,  1,     14,2,20110213,1324, 24.4997, -38.9535, 4903,    901.3,   7.7280,  35.1588,2,    150.8,2,    149.8,2,    18.19,2,    24.03,2,     1.67,2,   -999.0,9,   7.6563,2,    25.00,   7.6343,20110213,1438
  29AH20110128,   A05,    59,  1,     15,2,20110213,1324, 24.4997, -38.9535, 4903,    800.6,   9.0414,  35.2906,2,    148.0,2,    148.1,2,    15.09,2,    22.26,2,     1.47,2,   -999.0,9,   7.6929,2,    25.00,   8.9508,20110213,1441
  29AH20110128,   A05,    59,  1,     16,2,20110213,1324, 24.4997, -38.9535, 4903,    601.4,  11.8684,  35.6119,2,    165.7,2,    166.3,2,     8.38,2,    16.15,2,     0.90,2,   -999.0,9,   7.7652,2,    25.00,  11.7887,20110213,1445
  29AH20110128,   A05,    59,  1,     17,2,20110213,1324, 24.4997, -38.9535, 4903,    400.4,  15.2773,  36.0930,2,    188.0,2,    188.3,2,     4.22,2,     8.84,2,     0.42,2,   -999.0,9,   7.8742,2,    25.00,  15.2150,20110213,1449
  29AH20110128,   A05,    59,  1,     18,2,20110213,1324, 24.4997, -38.9535, 4903,    299.6,  16.7832,  36.3444,2,    201.2,2,    201.7,2,     3.02,2,     5.63,2,  -999.00,9,   -999.0,9,   7.9226,2,    25.00,  16.7336,20110213,1451
  29AH20110128,   A05,    59,  1,     19,2,20110213,1324, 24.4997, -38.9535, 4903,    150.8,  19.3921,  36.7968,2,    193.8,2,    194.0,2,     1.84,2,     1.73,2,     0.10,2,   -999.0,9,   7.9603,2,    25.00,  19.3646,20110213,1454
  29AH20110128,   A05,    59,  1,     20,2,20110213,1324, 24.4997, -38.9535, 4903,    125.0,  21.4940,  37.1748,2,    208.4,2,    207.1,2,     1.54,2,     0.28,2,     0.06,2,   -999.0,9,   8.0216,2,    25.00,  21.4694,20110213,1455
  29AH20110128,   A05,    59,  1,     21,2,20110213,1324, 24.4997, -38.9535, 4903,     75.1,  22.3476,  37.3565,2,    213.5,2,    213.8,2,     1.54,2,     0.00,2,     0.06,2,   -999.0,9,   8.0555,2,    25.00,  22.3324,20110213,1456
  29AH20110128,   A05,    59,  1,     22,2,20110213,1324, 24.4997, -38.9535, 4903,     50.4,  22.9610,  37.4961,2,    211.6,2,    212.0,2,     1.54,2,     0.00,2,     0.08,2,   -999.0,9,   8.0582,2,    25.00,  22.9506,20110213,1457
  29AH20110128,   A05,    59,  1,     23,2,20110213,1324, 24.4997, -38.9535, 4903,     25.4,  22.9720,  37.5008,2,    211.5,2,    211.8,2,     1.54,2,     0.00,2,     0.08,2,   -999.0,9,   8.0478,2,    25.00,  22.9668,20110213,1457
  29AH20110128,   A05,    59,  1,     24,2,20110213,1324, 24.4997, -38.9535, 4903,      5.6,  22.9673,  37.5016,2,    211.8,2,    211.0,2,     1.54,2,     0.00,2,     0.08,2,   -999.0,9,   8.0582,2,    25.00,  22.9661,20110213,1458
  29AH20110128,   A05,    60,  1,      1,2,20110213,2301, 24.5002, -39.4175, 4920,   4827.8,   2.3959,  34.8871,2,    246.9,2,    246.3,2,    46.71,2,    20.95,2,     1.48,2,   2350.4,2,   7.7186,2,    25.00,   1.9516,20110213,2301
  29AH20110128,   A05,    60,  1,      2,2,20110213,2301, 24.5002, -39.4175, 4920,   4499.2,   2.3848,  34.8902,2,    246.4,2,    246.1,2,    45.17,2,    20.96,2,     1.51,2,   2350.7,2,   7.7189,2,    25.00,   1.9811,20110213,2307
  29AH20110128,   A05,    60,  1,      3,2,20110213,2301, 24.5002, -39.4175, 4920,   4000.5,   2.4317,  34.9008,2,    245.9,2,    245.6,2,    44.47,2,    20.68,2,     1.52,2,   2350.5,2,   7.7226,2,    25.00,   2.0852,20110213,2317
  29AH20110128,   A05,    60,  1,      4,2,20110213,2301, 24.5002, -39.4175, 4920,   3499.3,   2.5899,  34.9207,2,    244.2,2,    244.0,2,    39.85,2,    20.69,2,     1.40,2,   2348.9,2,   7.7264,2,    25.00,   2.2952,20110213,2327
  29AH20110128,   A05,    60,  1,      5,2,20110213,2301, 24.5002, -39.4175, 4920,   2999.5,   2.8096,  34.9434,2,    242.1,2,    241.7,2,    36.07,2,    20.23,2,     1.42,2,   2344.3,2,   7.7244,2,    25.00,   2.5629,20110213,2336
  29AH20110128,   A05,    60,  1,      6,2,20110213,2301, 24.5002, -39.4175, 4920,   2503.0,   3.1908,  34.9735,2,    241.5,2,    241.6,2,    30.46,2,    19.58,2,     1.31,2,   2336.4,2,   7.7263,2,    25.00,   2.9869,20110213,2346
  29AH20110128,   A05,    60,  1,      7,2,20110213,2301, 24.5002, -39.4175, 4920,   2000.4,   3.8009,  35.0222,2,    236.7,2,    238.2,2,    24.72,2,    16.80,4,     1.30,2,   2329.8,2,   7.7275,2,    25.00,   3.6361,20110213,2356
  29AH20110128,   A05,    60,  1,      8,2,20110213,2301, 24.5002, -39.4175, 4920,   1751.1,   4.3212,  35.0571,2,    229.3,2,    230.6,2,    21.71,2,    19.64,2,     1.31,2,   2327.8,2,   7.7196,2,    25.00,   4.1732,20110213,0001
  29AH20110128,   A05,    60,  1,      9,2,20110213,2301, 24.5002, -39.4175, 4920,   1499.8,   4.8279,  35.0783,2,    218.9,2,    219.9,2,    20.10,2,    20.30,2,     1.33,2,   2325.6,2,   7.7158,2,    25.00,   4.6981,20110213,0006
  29AH20110128,   A05,    60,  1,     10,2,20110213,2301, 24.5002, -39.4175, 4920,   1301.4,   5.4430,  35.0868,2,    203.7,2,    204.1,2,    19.26,2,    21.24,2,     1.41,2,   2324.0,2,   7.6929,2,    25.00,   5.3262,20110213,0010
  29AH20110128,   A05,    60,  1,     11,2,20110213,2301, 24.5002, -39.4175, 4920,   1201.9,   5.8129,  35.1080,2,    194.0,2,    194.2,2,    19.47,2,    22.08,2,     1.50,2,   2326.2,2,   7.6858,2,    25.00,   5.7026,20110213,0012
  29AH20110128,   A05,    60,  1,     12,2,20110213,2301, 24.5002, -39.4175, 4920,   1000.0,   6.9556,  35.1051,2,    162.0,2,    161.2,2,    19.96,2,    24.14,2,     1.73,2,   2323.9,2,   7.6608,2,    25.00,   6.8567,20110213,0016
  29AH20110128,   A05,    60,  1,     13,2,20110213,2301, 24.5002, -39.4175, 4920,    799.9,   8.8805,  35.2789,2,    147.9,2,    148.1,2,    15.97,2,    22.84,2,     1.49,2,   2328.8,2,   7.6802,2,    25.00,   8.7909,20110213,0020
  29AH20110128,   A05,    60,  1,     14,2,20110213,2301, 24.5002, -39.4175, 4920,    601.3,  11.6765,  35.5875,2,    162.9,2,    164.1,2,     9.10,2,    16.79,2,  -999.00,9,   2339.2,2,   7.7601,2,    25.00,  11.5976,20110213,0024
  29AH20110128,   A05,    60,  1,     15,2,20110213,2301, 24.5002, -39.4175, 4920,    401.2,  15.1085,  36.0633,2,    185.8,2,    186.4,2,     4.56,2,     9.49,2,  -999.00,9,   2364.1,2,   7.8677,2,    25.00,  15.0465,20110213,0028
  29AH20110128,   A05,    60,  1,     16,2,20110213,2301, 24.5002, -39.4175, 4920,    300.6,  17.0513,  36.4043,2,    193.9,2,    191.5,2,     2.95,2,     6.09,2,  -999.00,9,   2385.0,2,   7.9209,2,    25.00,  17.0010,20110213,0030
  29AH20110128,   A05,    60,  1,     17,2,20110213,2301, 24.5002, -39.4175, 4920,    198.5,  18.9370,  36.6999,2,    198.9,2,    199.5,2,     1.90,2,     1.58,2,  -999.00,9,   -999.0,9,   7.9644,2,    25.00,  18.9013,20110213,0032
  29AH20110128,   A05,    60,  1,     18,2,20110213,2301, 24.5002, -39.4175, 4920,    149.1,  22.2000,  37.2996,2,    205.4,2,    206.9,2,  -999.00,9,  -999.00,9,  -999.00,9,   -999.0,9,   8.0195,2,    25.00,  22.1700,20110213,0033
  29AH20110128,   A05,    60,  1,     19,2,20110213,2301, 24.5002, -39.4175, 4920,    124.8,  22.7737,  37.4422,2,    210.0,2,    210.6,2,     1.62,2,     0.19,2,     0.06,2,   2451.8,2,   8.0466,2,    25.00,  22.7481,20110213,0033
  29AH20110128,   A05,    60,  1,     20,2,20110213,2301, 24.5002, -39.4175, 4920,     99.6,  22.8713,  37.4732,2,    211.7,2,    212.2,2,     1.62,2,     0.19,2,     0.06,2,   -999.0,9,   8.0541,2,    25.00,  22.8508,20110213,0034
  29AH20110128,   A05,    60,  1,     21,2,20110213,2301, 24.5002, -39.4175, 4920,     74.8,  22.8727,  37.4747,2,    211.5,2,    211.9,2,     1.62,2,     0.15,2,     0.06,2,   2456.3,2,   8.0546,2,    25.00,  22.8573,20110213,0035
  29AH20110128,   A05,    60,  1,     22,2,20110213,2301, 24.5002, -39.4175, 4920,     50.5,  22.8670,  37.4751,2,    211.9,2,    212.6,2,     1.62,2,     0.16,2,     0.07,2,   -999.0,9,   8.0532,2,    25.00,  22.8566,20110213,0035
  29AH20110128,   A05,    60,  1,     23,2,20110213,2301, 24.5002, -39.4175, 4920,     26.2,  22.8625,  37.4743,2,    211.9,2,    212.6,2,     1.62,2,     0.17,2,     0.07,2,   -999.0,9,   8.0524,2,    25.00,  22.8571,20110213,0036
  29AH20110128,   A05,    60,  1,     24,2,20110213,2301, 24.5002, -39.4175, 4920,      6.1,  22.8570,  37.4740,2,    212.1,2,    211.6,2,     1.62,2,     0.17,2,     0.07,2,   2454.5,2,   8.0550,2,    25.00,  22.8557,20110213,0037
  29AH20110128,   A05,    61,  1,      1,2,20110214,0504, 24.4982, -39.8777, 4863,   4674.8,   2.4087,  34.8901,2,    236.5,2,    236.3,2,    44.43,2,    20.95,2,     1.43,2,   -999.0,9,   7.7176,2,    25.00,   1.9829,20110214,0504
  29AH20110128,   A05,    61,  1,      2,2,20110214,0504, 24.4982, -39.8777, 4863,   4502.1,   2.3909,  34.8907,2,    241.2,2,    240.9,2,    43.81,2,    20.91,2,     1.50,2,   -999.0,9,   7.7217,2,    25.00,   1.9867,20110214,0509
  29AH20110128,   A05,    61,  1,      3,2,20110214,0504, 24.4982, -39.8777, 4863,   4001.2,   2.4241,  34.8999,2,    242.9,2,    246.4,2,    43.13,2,    20.97,2,     1.45,2,   -999.0,9,   7.7231,2,    25.00,   2.0778,20110214,0522
  29AH20110128,   A05,    61,  1,      4,2,20110214,0504, 24.4982, -39.8777, 4863,   3500.9,   2.5740,  34.9192,2,    242.2,2,    245.4,2,    39.84,2,    20.77,2,     1.42,2,   -999.0,9,   7.7251,2,    25.00,   2.2795,20110214,0532
  29AH20110128,   A05,    61,  1,      5,2,20110214,0504, 24.4982, -39.8777, 4863,   3000.4,   2.7906,  34.9419,2,    241.7,2,    244.3,2,    35.45,2,    20.30,2,     1.44,2,   -999.0,9,   7.7251,2,    25.00,   2.5443,20110214,0542
  29AH20110128,   A05,    61,  1,      6,2,20110214,0504, 24.4982, -39.8777, 4863,   2500.8,   3.1799,  34.9737,2,    241.9,2,    243.3,2,    29.77,2,    19.86,2,     1.30,2,   -999.0,9,   7.7263,2,    25.00,   2.9764,20110214,0551
  29AH20110128,   A05,    61,  1,      7,2,20110214,0504, 24.4982, -39.8777, 4863,   1998.8,   3.8453,  35.0227,2,    237.9,2,    240.1,2,    23.06,2,    19.38,2,     1.30,2,   -999.0,9,   7.7276,2,    25.00,   3.6800,20110214,0601
  29AH20110128,   A05,    61,  1,      8,2,20110214,0504, 24.4982, -39.8777, 4863,   1750.0,   4.3428,  35.0601,2,    231.1,2,    233.4,2,    20.45,2,    19.34,2,     1.33,2,   -999.0,9,   7.7226,2,    25.00,   4.1946,20110214,0606
  29AH20110128,   A05,    61,  1,      9,2,20110214,0504, 24.4982, -39.8777, 4863,   1502.3,   4.9005,  35.0776,2,    219.8,2,    221.5,2,    18.88,2,    19.25,2,     1.33,2,   -999.0,9,   7.7161,2,    25.00,   4.7697,20110214,0611
  29AH20110128,   A05,    61,  1,     10,2,20110214,0504, 24.4982, -39.8777, 4863,   1301.3,   5.5760,  35.1080,2,    203.4,2,    205.4,2,    18.33,2,    19.98,2,     1.48,2,   -999.0,9,   7.7004,2,    25.00,   5.4579,20110214,0615
  29AH20110128,   A05,    61,  1,     11,2,20110214,0504, 24.4982, -39.8777, 4863,   1199.9,   5.9393,  35.1078,2,    190.7,2,    191.9,2,    18.95,2,    20.92,2,     1.50,2,   -999.0,9,   7.6865,2,    25.00,   5.8280,20110214,0617
  29AH20110128,   A05,    61,  1,     12,2,20110214,0504, 24.4982, -39.8777, 4863,   1099.3,   6.2251,  35.0934,2,    178.2,2,    179.2,2,    19.64,2,    22.14,2,     1.59,2,   -999.0,9,   7.6741,2,    25.00,   6.1216,20110214,0619
  29AH20110128,   A05,    61,  1,     13,2,20110214,0504, 24.4982, -39.8777, 4863,   1000.1,   6.5981,  35.0888,2,    166.5,2,    166.8,2,    19.98,2,    23.17,2,     1.70,2,   -999.0,9,   7.6624,2,    25.00,   6.5019,20110214,0621
  29AH20110128,   A05,    61,  1,     14,2,20110214,0504, 24.4982, -39.8777, 4863,    900.0,   7.5493,  35.1540,2,    156.2,2,    157.2,2,    18.33,2,    24.11,2,     1.64,2,   -999.0,9,   7.6627,2,    25.00,   7.4569,20110214,0623
  29AH20110128,   A05,    61,  1,     15,2,20110214,0504, 24.4982, -39.8777, 4863,    800.3,   8.5595,  35.2511,2,    152.7,2,    154.3,2,    16.07,2,    24.06,2,     1.51,2,   -999.0,9,   7.6687,2,    25.00,   8.4718,20110214,0626
  29AH20110128,   A05,    61,  1,     16,2,20110214,0504, 24.4982, -39.8777, 4863,    598.2,  11.7185,  35.5926,2,    163.1,2,    163.7,2,     8.67,2,  -999.00,9,  -999.00,9,   -999.0,9,   7.7617,2,    25.00,  11.6399,20110214,0630
  29AH20110128,   A05,    61,  1,     17,2,20110214,0504, 24.4982, -39.8777, 4863,    400.0,  15.1982,  36.0777,2,    185.7,2,    185.9,2,     4.23,2,  -999.00,9,  -999.00,9,   -999.0,9,   7.8684,2,    25.00,  15.1362,20110214,0633
  29AH20110128,   A05,    61,  1,     18,2,20110214,0504, 24.4982, -39.8777, 4863,    300.1,  16.8212,  36.3479,2,    194.6,2,    195.3,2,     2.86,2,  -999.00,9,  -999.00,9,   -999.0,9,   7.9218,2,    25.00,  16.7714,20110214,0636
  29AH20110128,   A05,    61,  1,     19,2,20110214,0504, 24.4982, -39.8777, 4863,    148.9,  19.5962,  36.8179,2,    195.1,2,    195.2,2,     1.35,2,  -999.00,9,     0.07,2,   -999.0,9,   7.9835,2,    25.00,  19.5688,20110214,0639
  29AH20110128,   A05,    61,  1,     20,2,20110214,0504, 24.4982, -39.8777, 4863,    124.3,  21.1708,  37.0887,2,    200.6,2,    204.0,2,     1.35,2,     0.16,2,     0.07,2,   -999.0,9,   8.0112,2,    25.00,  21.1466,20110214,0639
  29AH20110128,   A05,    61,  1,     21,2,20110214,0504, 24.4982, -39.8777, 4863,     75.8,  23.0119,  37.4883,2,    211.1,2,    211.9,2,     1.35,2,     0.34,2,     0.07,2,   -999.0,9,   8.0513,2,    25.00,  22.9963,20110214,0640
  29AH20110128,   A05,    61,  1,     22,2,20110214,0504, 24.4982, -39.8777, 4863,     49.6,  23.1003,  37.5174,2,    211.8,2,    212.5,2,     1.35,2,     0.00,2,     0.07,2,   -999.0,9,   8.0517,2,    25.00,  23.0900,20110214,0641
  29AH20110128,   A05,    61,  1,     23,2,20110214,0504, 24.4982, -39.8777, 4863,     24.9,  23.0938,  37.5171,2,    211.9,2,    213.5,2,     1.35,2,     0.01,2,     0.07,2,   -999.0,9,   8.0563,2,    25.00,  23.0887,20110214,0642
  29AH20110128,   A05,    61,  1,     24,2,20110214,0504, 24.4982, -39.8777, 4863,      5.4,  23.0858,  37.5183,2,    212.1,2,    212.6,2,     1.35,2,     0.01,2,     0.08,2,   -999.0,9,   8.0633,2,    25.00,  23.0847,20110214,0642