BOTTLE,20220930CCHSIOAMB
EXPOCODE,SECT_ID,STNNBR,CASTNO,BTLNBR,BTLNBR_FLAG_W,DATE,TIME,LATITUDE,LONGITUDE,DEPTH,CTDPRS,CTDTMP,CTDSAL,CTDSAL_FLAG_W,CTDOXY,CTDOXY_FLAG_W,OXYGEN,OXYGEN_FLAG_W,SILCAT,SILCAT_FLAG_W,NITRAT,NITRAT_FLAG_W,PHSPHT,PHSPHT_FLAG_W,ALKALI,ALKALI_FLAG_W,PH_SWS,PH_SWS_FLAG_W,PH_TMP,THETA,BTL_DATE,BTL_TIME
,,,,,,,,,,METERS,DBAR,ITS-90,PSS-78,,UMOL/KG,,UMOL/KG,,UMOL/KG,,UMOL/KG,,UMOL/KG,,UMOL/KG,,,,DEG C,DEG C,,
  29AH20110128,   A05,   134,  1,      1,2,20110308,2032, 26.2032, -75.2802, 4722,   4712.0,   2.1992,  34.8786,2,    259.7,2,    264.4,2,    43.05,2,    17.26,2,     1.38,2,   2341.5,2,   7.7212,2,    25.00,   1.7756,20110308,2032
  29AH20110128,   A05,   134,  1,      2,2,20110308,2032, 26.2032, -75.2802, 4722,   4500.6,   2.2025,  34.8822,2,    261.4,2,    261.4,2,    41.37,2,    22.26,2,     1.40,2,   2336.3,2,   7.7241,2,    25.00,   1.8043,20110308,2037
  29AH20110128,   A05,   134,  1,      3,2,20110308,2032, 26.2032, -75.2802, 4722,   3998.4,   2.2435,  34.8914,2,    267.2,2,    267.7,2,    34.84,2,    21.11,2,     1.35,2,   2328.3,2,   7.7253,2,    25.00,   1.9026,20110308,2046
  29AH20110128,   A05,   134,  1,      4,2,20110308,2032, 26.2032, -75.2802, 4722,   3499.1,   2.3748,  34.9049,2,    269.2,2,    270.3,2,    29.60,2,    18.76,2,     1.29,2,   2325.3,2,   7.7305,2,    25.00,   2.0856,20110308,2056
  29AH20110128,   A05,   134,  1,      5,2,20110308,2032, 26.2032, -75.2802, 4722,   3000.1,   2.7159,  34.9263,2,    267.5,2,    264.2,2,    22.15,2,  -999.00,9,     1.19,2,   2321.9,2,   7.7327,2,    25.00,   2.4713,20110308,2105
  29AH20110128,   A05,   134,  1,      6,2,20110308,2032, 26.2032, -75.2802, 4722,   2498.8,   3.1988,  34.9536,2,    263.1,2,    264.4,2,    22.03,2,    20.45,2,     1.31,2,   2318.4,2,   7.7335,2,    25.00,   2.9953,20110308,2115
  29AH20110128,   A05,   134,  1,      7,2,20110308,2032, 26.2032, -75.2802, 4722,   2000.0,   3.6907,  34.9692,2,    262.3,2,    263.4,2,    16.92,2,    19.24,2,     1.23,2,   2314.5,2,   7.7266,2,    25.00,   3.5277,20110308,2125
  29AH20110128,   A05,   134,  1,      8,2,20110308,2032, 26.2032, -75.2802, 4722,   1750.5,   3.9727,  34.9832,2,    259.0,2,    260.9,2,    15.53,2,    20.09,2,     1.24,2,   2314.3,2,   7.7213,2,    25.00,   3.8295,20110308,2130
  29AH20110128,   A05,   134,  1,      9,2,20110308,2032, 26.2032, -75.2802, 4722,   1500.9,   4.3791,  35.0064,2,    251.9,2,    253.5,2,    14.97,2,    20.58,2,     1.29,2,   2315.2,2,   7.7169,2,    25.00,   4.2544,20110308,2135
  29AH20110128,   A05,   134,  1,     10,2,20110308,2032, 26.2032, -75.2802, 4722,   1300.0,   4.9793,  35.0370,2,    237.5,2,    239.1,2,    11.91,2,  -999.00,9,     1.25,2,   2317.3,2,   7.7075,2,    25.00,   4.8673,20110308,2139
  29AH20110128,   A05,   134,  1,     11,2,20110308,2032, 26.2032, -75.2802, 4722,   1200.2,   5.5934,  35.0659,2,    220.7,2,    220.3,2,    13.16,2,  -999.00,9,     1.32,2,   2319.0,2,   7.6997,2,    25.00,   5.4853,20110308,2141
  29AH20110128,   A05,   134,  1,     12,2,20110308,2032, 26.2032, -75.2802, 4722,   1101.0,   6.2295,  35.0809,2,    200.1,2,    200.0,2,    15.36,2,    22.15,2,     1.44,2,   2321.5,2,   7.6900,2,    25.00,   6.1258,20110308,2143
  29AH20110128,   A05,   134,  1,     13,2,20110308,2032, 26.2032, -75.2802, 4722,   1001.2,   7.4921,  35.1009,2,    163.8,2,    162.2,2,    14.98,2,  -999.00,9,     1.54,2,   2323.6,2,   7.6665,2,    25.00,   7.3891,20110308,2145
  29AH20110128,   A05,   134,  1,     14,2,20110308,2032, 26.2032, -75.2802, 4722,    901.0,   8.8173,  35.1673,2,    142.2,2,    141.8,2,    17.63,2,  -999.00,9,     1.67,2,   2324.2,2,   7.6643,2,    25.00,   8.7164,20110308,2147
  29AH20110128,   A05,   134,  1,     15,2,20110308,2032, 26.2032, -75.2802, 4722,    800.9,  10.6255,  35.3733,2,    142.2,2,    143.0,2,    13.05,2,    22.97,2,     1.43,2,   2334.5,2,   7.7056,2,    25.00,  10.5257,20110308,2149
  29AH20110128,   A05,   134,  1,     16,2,20110308,2032, 26.2032, -75.2802, 4722,    601.1,  15.1063,  36.0195,2,    168.2,2,    169.0,2,     6.26,2,    13.59,2,     0.73,2,   2364.0,2,   7.8512,2,    25.00,  15.0130,20110308,2153
  29AH20110128,   A05,   134,  1,     17,2,20110308,2032, 26.2032, -75.2802, 4722,    400.2,  18.0255,  36.5463,2,    199.2,2,    199.6,2,     1.99,2,     3.45,2,     0.20,2,   2394.1,2,   7.9644,2,    25.00,  17.9557,20110308,2157
  29AH20110128,   A05,   134,  1,     18,2,20110308,2032, 26.2032, -75.2802, 4722,    301.2,  18.6318,  36.6109,2,    196.5,2,    196.7,2,     2.12,2,     3.44,2,     0.14,2,   2397.8,2,   7.9729,2,    25.00,  18.5781,20110308,2159
  29AH20110128,   A05,   134,  1,     19,2,20110308,2032, 26.2032, -75.2802, 4722,    150.1,  21.7605,  36.8498,2,    216.5,2,    216.9,2,     1.51,2,     0.30,2,     0.02,2,   2413.4,2,   8.0523,2,    25.00,  21.7308,20110308,2202
  29AH20110128,   A05,   134,  1,     20,2,20110308,2032, 26.2032, -75.2802, 4722,    124.2,  22.0982,  36.8340,2,    210.7,2,    210.1,2,     1.83,2,     0.44,2,     0.04,2,   -999.0,9,   8.0518,2,    25.00,  22.0733,20110308,2203
  29AH20110128,   A05,   134,  1,     21,2,20110308,2032, 26.2032, -75.2802, 4722,     77.4,  23.0858,  36.8391,2,    210.4,2,    211.1,2,     1.72,2,     0.32,2,     0.04,2,   2411.3,2,   8.0664,2,    25.00,  23.0698,20110308,2204
  29AH20110128,   A05,   134,  1,     22,2,20110308,2032, 26.2032, -75.2802, 4722,     50.8,  23.3180,  36.8477,2,    212.3,2,    212.3,2,     1.68,2,     0.29,2,     0.04,2,   -999.0,9,   8.0723,2,    25.00,  23.3075,20110308,2205
  29AH20110128,   A05,   134,  1,     23,2,20110308,2032, 26.2032, -75.2802, 4722,     25.2,  23.4132,  36.8507,2,    212.5,2,    212.3,2,     1.72,2,     0.28,2,     0.05,2,   -999.0,9,   8.0710,2,    25.00,  23.4080,20110308,2206
  29AH20110128,   A05,   134,  1,     24,2,20110308,2032, 26.2032, -75.2802, 4722,      5.1,  23.4555,  36.8554,2,    212.7,2,    212.0,2,     1.64,2,     0.27,2,     0.04,2,   2410.6,2,   8.0704,2,    25.00,  23.4544,20110308,2206
  29AH20110128,   A05,   135,  1,      1,2,20110309,0145, 26.2037, -75.5698, 4768,   4757.7,   2.1860,  34.8762,2,    258.5,2,    256.6,2,    44.76,2,    21.14,2,     1.47,2,   -999.0,9,   7.7211,2,    25.00,   1.7572,20110309,0145
  29AH20110128,   A05,   135,  1,      2,2,20110309,0145, 26.2037, -75.5698, 4768,   4498.8,   2.2132,  34.8837,2,    261.9,2,    260.6,2,    39.46,2,    20.28,2,     1.42,2,   -999.0,9,   7.7220,2,    25.00,   1.8149,20110309,0153
  29AH20110128,   A05,   135,  1,      3,2,20110309,0145, 26.2037, -75.5698, 4768,   3999.9,   2.2621,  34.8936,2,    267.4,2,    266.1,2,    33.67,2,    19.36,2,     1.34,2,   -999.0,9,   7.7274,2,    25.00,   1.9205,20110309,0203
  29AH20110128,   A05,   135,  1,      4,2,20110309,0145, 26.2037, -75.5698, 4768,   3499.9,   2.4050,  34.9057,2,    270.2,2,    268.0,2,    26.47,2,    17.79,2,     1.25,2,   -999.0,9,   7.7301,2,    25.00,   2.1149,20110309,0212
  29AH20110128,   A05,   135,  1,      5,2,20110309,0145, 26.2037, -75.5698, 4768,   3000.8,   2.7473,  34.9268,2,    267.6,2,    267.1,2,    23.21,2,    17.50,2,     1.24,2,   -999.0,9,   7.7317,2,    25.00,   2.5019,20110309,0222
  29AH20110128,   A05,   135,  1,      6,2,20110309,0145, 26.2037, -75.5698, 4768,   2502.2,   3.2214,  34.9545,2,    262.8,2,    262.7,2,    21.25,2,    18.81,2,     1.27,2,   -999.0,9,   7.7304,2,    25.00,   3.0171,20110309,0232
  29AH20110128,   A05,   135,  1,      7,2,20110309,0145, 26.2037, -75.5698, 4768,   1999.4,   3.6751,  34.9682,2,    262.4,2,    262.0,2,    16.43,2,    18.58,2,     1.22,2,   -999.0,9,   7.7276,2,    25.00,   3.5124,20110309,0242
  29AH20110128,   A05,   135,  1,      8,2,20110309,0145, 26.2037, -75.5698, 4768,   1750.5,   4.0348,  34.9856,2,    258.3,2,    258.4,2,    12.57,2,  -999.00,9,     1.15,2,   -999.0,9,   7.7253,2,    25.00,   3.8908,20110309,0247
  29AH20110128,   A05,   135,  1,      9,2,20110309,0145, 26.2037, -75.5698, 4768,   1499.0,   4.4043,  34.9963,2,    252.8,2,    252.5,2,    13.10,2,    16.68,2,     1.21,2,   -999.0,9,   7.7156,2,    25.00,   4.2796,20110309,0254
  29AH20110128,   A05,   135,  1,     10,2,20110309,0145, 26.2037, -75.5698, 4768,   1300.4,   4.9546,  35.0314,2,    238.4,2,    239.0,2,    14.15,2,    18.71,2,     1.29,2,   -999.0,9,   7.7095,2,    25.00,   4.8428,20110309,0258
  29AH20110128,   A05,   135,  1,     11,2,20110309,0145, 26.2037, -75.5698, 4768,   1199.4,   5.4833,  35.0575,2,    223.8,2,    223.3,2,    15.20,2,    19.76,2,     1.35,2,   -999.0,9,   7.7024,2,    25.00,   5.3762,20110309,0300
  29AH20110128,   A05,   135,  1,     12,2,20110309,0145, 26.2037, -75.5698, 4768,   1099.6,   6.2688,  35.0809,2,    198.6,2,    197.0,2,    16.93,2,    21.88,2,     1.48,2,   -999.0,9,   7.6904,2,    25.00,   6.1649,20110309,0303
  29AH20110128,   A05,   135,  1,     13,2,20110309,0145, 26.2037, -75.5698, 4768,    999.5,   7.3294,  35.1038,2,    171.4,2,    169.3,2,    15.01,2,  -999.00,9,     1.50,2,   -999.0,9,   7.6744,2,    25.00,   7.2278,20110309,0305
  29AH20110128,   A05,   135,  1,     14,2,20110309,0145, 26.2037, -75.5698, 4768,    898.7,   8.9278,  35.1941,2,    146.6,2,    144.7,2,    16.86,2,  -999.00,9,     1.65,2,   -999.0,9,   7.6733,2,    25.00,   8.8265,20110309,0307
  29AH20110128,   A05,   135,  1,     15,2,20110309,0145, 26.2037, -75.5698, 4768,    800.0,  10.6751,  35.3794,2,    143.0,2,    142.5,2,    13.24,2,    22.82,2,     1.44,2,   -999.0,9,   7.7121,2,    25.00,  10.5752,20110309,0309
  29AH20110128,   A05,   135,  1,     16,2,20110309,0145, 26.2037, -75.5698, 4768,    649.9,  13.7187,  35.8063,2,    155.5,2,    155.2,2,     7.85,2,    16.28,2,     0.97,2,   -999.0,9,   7.7988,2,    25.00,  13.6239,20110309,0312
  29AH20110128,   A05,   135,  1,     17,2,20110309,0145, 26.2037, -75.5698, 4768,    400.7,  18.0836,  36.5562,2,    199.5,2,    199.6,2,     2.28,2,  -999.00,9,     0.22,2,   -999.0,9,   7.9667,2,    25.00,  18.0135,20110309,0317
  29AH20110128,   A05,   135,  1,     18,2,20110309,0145, 26.2037, -75.5698, 4768,    300.2,  18.6737,  36.6148,2,    195.4,2,    195.7,2,     2.24,2,     3.71,2,     0.16,2,   -999.0,9,   7.9683,2,    25.00,  18.6201,20110309,0319
  29AH20110128,   A05,   135,  1,     19,2,20110309,0145, 26.2037, -75.5698, 4768,    149.2,  22.3941,  36.8255,2,    204.7,2,    204.6,2,     1.67,2,     0.48,2,     0.03,2,   -999.0,9,   8.0517,2,    25.00,  22.3639,20110309,0322
  29AH20110128,   A05,   135,  1,     20,2,20110309,0145, 26.2037, -75.5698, 4768,    125.0,  22.6334,  36.8201,2,    205.1,2,    204.5,2,     1.65,2,     0.45,2,     0.03,2,   -999.0,9,   8.0587,2,    25.00,  22.6080,20110309,0323
  29AH20110128,   A05,   135,  1,     21,2,20110309,0145, 26.2037, -75.5698, 4768,     74.3,  22.8237,  36.8109,2,    209.1,2,    208.4,2,  -999.00,9,  -999.00,9,  -999.00,9,   -999.0,9,   8.0678,2,    25.00,  22.8085,20110309,0324
  29AH20110128,   A05,   135,  1,     22,2,20110309,0145, 26.2037, -75.5698, 4768,     50.3,  23.1444,  36.8308,2,    212.1,2,    210.8,2,     1.61,2,     0.18,2,     0.03,2,   -999.0,9,   8.0721,2,    25.00,  23.1340,20110309,0325
  29AH20110128,   A05,   135,  1,     23,2,20110309,0145, 26.2037, -75.5698, 4768,     25.2,  23.2340,  36.8207,2,    212.9,2,    212.2,2,     1.63,2,     0.17,2,     0.03,2,   -999.0,9,   8.0683,2,    25.00,  23.2288,20110309,0325
  29AH20110128,   A05,   135,  1,     24,2,20110309,0145, 26.2037, -75.5698, 4768,      5.7,  23.2456,  36.8153,2,    213.0,2,    211.9,2,     1.73,2,     0.19,2,     0.04,2,   -999.0,9,   8.0680,2,    25.00,  23.2444,20110309,0326
  29AH20110128,   A05,   136,  1,      1,2,20110309,0608, 26.2038, -75.7178, 4791,   4781.3,   2.1833,  34.8756,2,    258.0,2,    256.9,2,    44.11,2,    20.87,2,     1.47,2,   -999.0,9,   7.7226,2,    25.00,   1.7517,20110309,0608
  29AH20110128,   A05,   136,  1,      2,2,20110309,0608, 26.2038, -75.7178, 4791,   4499.7,   2.2288,  34.8852,2,    262.8,2,    263.7,2,    38.64,2,    20.64,2,     1.38,2,   -999.0,9,   7.7556,3,    25.00,   1.8299,20110309,0614
  29AH20110128,   A05,   136,  1,      3,2,20110309,0608, 26.2038, -75.7178, 4791,   3999.3,   2.2782,  34.8947,2,    267.9,2,    267.7,2,    33.11,2,    19.87,2,     1.33,2,   -999.0,9,   7.7317,2,    25.00,   1.9362,20110309,0624
  29AH20110128,   A05,   136,  1,      4,2,20110309,0608, 26.2038, -75.7178, 4791,   3499.6,   2.4472,  34.9086,2,    269.8,2,    270.4,2,    25.69,2,  -999.00,9,     1.20,3,   -999.0,9,   7.7323,2,    25.00,   2.1561,20110309,0633
  29AH20110128,   A05,   136,  1,      5,2,20110309,0608, 26.2038, -75.7178, 4791,   3000.7,   2.7291,  34.9266,2,    267.6,2,    268.9,2,    23.30,2,    18.41,2,     1.24,2,   -999.0,9,   7.7365,2,    25.00,   2.4841,20110309,0643
  29AH20110128,   A05,   136,  1,      6,2,20110309,0608, 26.2038, -75.7178, 4791,   2500.5,   3.2041,  34.9507,2,    263.9,2,    266.2,2,    20.59,2,    19.38,2,     1.26,2,   -999.0,9,   7.7488,3,    25.00,   3.0003,20110309,0653
  29AH20110128,   A05,   136,  1,      7,2,20110309,0608, 26.2038, -75.7178, 4791,   2001.5,   3.6979,  34.9687,2,    262.4,2,    264.5,2,    16.83,2,    19.17,2,     1.25,2,   -999.0,9,   7.7275,2,    25.00,   3.5347,20110309,0703
  29AH20110128,   A05,   136,  1,      8,2,20110309,0608, 26.2038, -75.7178, 4791,   1749.7,   3.9515,  34.9728,2,    260.4,2,    261.8,2,    13.27,2,  -999.00,9,     1.17,2,   -999.0,9,   7.7198,2,    25.00,   3.8087,20110309,0708
  29AH20110128,   A05,   136,  1,      9,2,20110309,0608, 26.2038, -75.7178, 4791,   1499.5,   4.3742,  34.9965,2,    252.7,2,    254.3,2,    13.36,2,    16.23,2,     1.20,2,   -999.0,9,   7.7454,3,    25.00,   4.2497,20110309,0713
  29AH20110128,   A05,   136,  1,     10,2,20110309,0608, 26.2038, -75.7178, 4791,   1299.3,   4.9397,  35.0329,2,    239.2,2,    239.5,2,    13.37,2,    17.56,3,     1.26,2,   -999.0,9,   7.7072,2,    25.00,   4.8281,20110309,0717
  29AH20110128,   A05,   136,  1,     11,2,20110309,0608, 26.2038, -75.7178, 4791,   1201.0,   5.4248,  35.0561,2,    224.6,2,    225.9,2,    14.97,2,    20.82,2,     1.35,2,   -999.0,9,   7.7040,2,    25.00,   5.3181,20110309,0719
  29AH20110128,   A05,   136,  1,     12,2,20110309,0608, 26.2038, -75.7178, 4791,   1100.7,   6.2001,  35.0774,2,    202.6,2,    202.3,2,    16.54,2,    22.92,2,     1.45,2,   -999.0,9,   7.6868,2,    25.00,   6.0967,20110309,0721
  29AH20110128,   A05,   136,  1,     13,2,20110309,0608, 26.2038, -75.7178, 4791,    998.9,   7.4032,  35.1046,2,    169.7,2,    170.3,2,    15.54,2,  -999.00,9,     1.51,2,   -999.0,9,   7.6729,2,    25.00,   7.3011,20110309,0723
  29AH20110128,   A05,   136,  1,     14,2,20110309,0608, 26.2038, -75.7178, 4791,    900.1,   8.8671,  35.1799,2,    145.2,2,    145.0,2,    17.03,2,    25.50,2,     1.63,2,   -999.0,9,   7.6681,2,    25.00,   8.7660,20110309,0726
  29AH20110128,   A05,   136,  1,     15,2,20110309,0608, 26.2038, -75.7178, 4791,    799.5,  10.9090,  35.4143,2,    143.9,2,    145.2,2,     9.69,2,  -999.00,9,     1.28,2,   -999.0,9,   7.7162,2,    25.00,  10.8078,20110309,0728
  29AH20110128,   A05,   136,  1,     16,2,20110309,0608, 26.2038, -75.7178, 4791,    601.3,  14.8519,  35.9908,2,    162.8,2,    164.1,2,     6.17,2,    13.94,2,     0.78,2,   -999.0,9,   7.8395,2,    25.00,  14.7596,20110309,0732
  29AH20110128,   A05,   136,  1,     17,2,20110309,0608, 26.2038, -75.7178, 4791,    400.7,  17.8794,  36.5127,2,    191.3,2,    192.5,2,     2.73,2,     5.66,2,     0.29,2,   -999.0,9,   7.9479,2,    25.00,  17.8099,20110309,0736
  29AH20110128,   A05,   136,  1,     18,2,20110309,0608, 26.2038, -75.7178, 4791,    300.2,  18.7153,  36.6212,2,    193.5,2,    194.9,2,     1.71,2,     2.65,2,     0.14,2,   -999.0,9,   7.9631,2,    25.00,  18.6617,20110309,0738
  29AH20110128,   A05,   136,  1,     19,2,20110309,0608, 26.2038, -75.7178, 4791,    150.8,  22.2832,  36.8361,2,    201.9,2,    202.1,2,     1.67,2,     0.62,2,     0.03,2,   -999.0,9,   8.0434,2,    25.00,  22.2528,20110309,0741
  29AH20110128,   A05,   136,  1,     20,2,20110309,0608, 26.2038, -75.7178, 4791,    125.6,  22.6031,  36.8262,2,    205.2,2,    205.3,2,     1.67,2,     0.46,2,     0.04,2,   -999.0,9,   8.0550,2,    25.00,  22.5776,20110309,0743
  29AH20110128,   A05,   136,  1,     21,2,20110309,0608, 26.2038, -75.7178, 4791,     74.7,  23.1036,  36.8359,2,    211.5,2,    212.7,2,     1.64,2,     0.19,2,     0.03,2,   -999.0,9,   8.0676,2,    25.00,  23.0882,20110309,0744
  29AH20110128,   A05,   136,  1,     22,2,20110309,0608, 26.2038, -75.7178, 4791,     50.2,  23.1532,  36.8384,2,    212.7,2,    212.9,2,     1.67,2,     0.17,2,     0.04,2,   -999.0,9,   8.0695,2,    25.00,  23.1428,20110309,0745
  29AH20110128,   A05,   136,  1,     23,2,20110309,0608, 26.2038, -75.7178, 4791,     25.5,  23.1697,  36.8418,2,    212.8,2,    212.6,2,     1.61,2,     0.18,2,     0.03,2,   -999.0,9,   8.0702,2,    25.00,  23.1644,20110309,0745
  29AH20110128,   A05,   136,  1,     24,2,20110309,0608, 26.2038, -75.7178, 4791,      5.4,  23.1640,  36.8416,2,    212.9,2,    213.0,2,     1.71,2,     0.19,2,     0.03,2,   -999.0,9,   8.0698,2,    25.00,  23.1629,20110309,0746