BOTTLE,20220930CCHSIOAMB
EXPOCODE,SECT_ID,STNNBR,CASTNO,BTLNBR,BTLNBR_FLAG_W,DATE,TIME,LATITUDE,LONGITUDE,DEPTH,CTDPRS,CTDTMP,CTDSAL,CTDSAL_FLAG_W,CTDOXY,CTDOXY_FLAG_W,OXYGEN,OXYGEN_FLAG_W,SILCAT,SILCAT_FLAG_W,NITRAT,NITRAT_FLAG_W,PHSPHT,PHSPHT_FLAG_W,ALKALI,ALKALI_FLAG_W,PH_SWS,PH_SWS_FLAG_W,PH_TMP,THETA,BTL_DATE,BTL_TIME
,,,,,,,,,,METERS,DBAR,ITS-90,PSS-78,,UMOL/KG,,UMOL/KG,,UMOL/KG,,UMOL/KG,,UMOL/KG,,UMOL/KG,,,,DEG C,DEG C,,
  29AH20110128,   A05,    26,  1,      1,2,20110202,0738, 25.3183, -20.9495, 4515,   4505.5,   2.3945,  34.8906,2,    244.9,2,    240.3,2,  -999.00,9,  -999.00,9,  -999.00,9,   -999.0,9,   7.7259,2,    25.00,   1.9898,20110202,0738
  29AH20110128,   A05,    26,  1,      2,2,20110202,0738, 25.3183, -20.9495, 4515,   3999.1,   2.3972,  34.8973,2,    242.9,2,    241.5,2,  -999.00,9,  -999.00,9,  -999.00,9,   -999.0,9,   7.7259,2,    25.00,   2.0519,20110202,0748
  29AH20110128,   A05,    26,  1,      3,2,20110202,0738, 25.3183, -20.9495, 4515,   3498.5,   2.5219,  34.9145,2,    242.0,2,    239.2,2,    45.13,2,    20.78,2,     1.48,2,   2347.7,2,   7.7260,2,    25.00,   2.2290,20110202,0757
  29AH20110128,   A05,    26,  1,      4,2,20110202,0738, 25.3183, -20.9495, 4515,   3001.3,   2.7451,  34.9376,2,    238.4,2,    237.1,2,    40.66,2,    20.38,2,     1.48,2,   2352.7,2,   7.7211,2,    25.00,   2.4997,20110202,0807
  29AH20110128,   A05,    26,  1,      5,2,20110202,0738, 25.3183, -20.9495, 4515,   2499.9,   3.2403,  34.9858,2,    237.3,2,    237.2,2,    33.28,2,    19.89,2,     1.42,2,   2345.0,2,   7.7254,2,    25.00,   3.0358,20110202,0817
  29AH20110128,   A05,    26,  1,      6,2,20110202,0738, 25.3183, -20.9495, 4515,   1999.0,   3.9485,  35.0516,2,    223.6,2,    222.8,2,    29.19,2,    20.33,2,     1.44,2,   2339.2,2,   7.7150,2,    25.00,   3.7816,20110202,0826
  29AH20110128,   A05,    26,  1,      7,2,20110202,0738, 25.3183, -20.9495, 4515,   1750.7,   4.5628,  35.1133,2,    215.1,2,    214.7,2,    25.91,2,    20.47,2,     1.42,2,   2337.4,2,   7.7087,2,    25.00,   4.4116,20110202,0831
  29AH20110128,   A05,    26,  1,      8,2,20110202,0738, 25.3183, -20.9495, 4515,   1501.1,   5.4825,  35.1968,2,    200.7,2,    200.1,2,    22.44,2,    20.86,2,     1.47,2,   2339.5,2,   7.7034,2,    25.00,   5.3451,20110202,0836
  29AH20110128,   A05,    26,  1,      9,2,20110202,0738, 25.3183, -20.9495, 4515,   1300.4,   6.3663,  35.2576,2,    183.1,2,    181.6,2,    20.94,2,    21.92,2,     1.54,2,   2339.5,2,   7.6936,2,    25.00,   6.2404,20110202,0840
  29AH20110128,   A05,    26,  1,     10,2,20110202,0738, 25.3183, -20.9495, 4515,   1200.6,   6.7076,  35.2548,2,    172.9,2,    171.5,2,    20.60,2,    22.67,2,     1.54,2,   2338.9,2,   7.6833,2,    25.00,   6.5892,20110202,0842
  29AH20110128,   A05,    26,  1,     11,2,20110202,0738, 25.3183, -20.9495, 4515,   1100.5,   6.9829,  35.2471,2,    165.0,2,    161.8,2,    20.26,2,    23.27,2,     1.66,2,   -999.0,9,   7.6728,2,    25.00,   6.8729,20110202,0844
  29AH20110128,   A05,    26,  1,     12,2,20110202,0738, 25.3183, -20.9495, 4515,   1001.2,   7.3026,  35.2310,2,    156.1,2,    154.5,2,    20.07,2,    24.00,2,     1.72,2,   2335.0,2,   7.6653,2,    25.00,   7.2008,20110202,0846
  29AH20110128,   A05,    26,  1,     13,2,20110202,0738, 25.3183, -20.9495, 4515,    899.6,   8.0203,  35.2727,2,    147.4,2,    146.5,2,    18.74,2,    24.03,2,     1.64,2,   -999.0,9,   7.6595,2,    25.00,   7.9247,20110202,0848
  29AH20110128,   A05,    26,  1,     14,2,20110202,0738, 25.3183, -20.9495, 4515,    800.6,   8.7192,  35.3039,2,    137.4,2,    136.9,2,    17.42,2,    24.11,2,     1.66,2,   2332.4,2,   7.6565,2,    25.00,   8.6305,20110202,0851
  29AH20110128,   A05,    26,  1,     15,2,20110202,0738, 25.3183, -20.9495, 4515,    600.8,  10.5394,  35.4568,2,    136.0,2,    138.2,2,    12.55,2,    21.16,2,     1.34,2,   2336.2,2,   7.6916,2,    25.00,  10.4655,20110202,0855
  29AH20110128,   A05,    26,  1,     16,2,20110202,0738, 25.3183, -20.9495, 4515,    400.1,  13.4081,  35.8365,2,    177.9,2,    176.4,2,     6.06,2,    12.55,2,     0.68,2,   2352.0,2,   7.8046,2,    25.00,  13.3511,20110202,0859
  29AH20110128,   A05,    26,  1,     17,2,20110202,0738, 25.3183, -20.9495, 4515,    301.1,  15.3175,  36.1374,2,    189.9,2,    189.1,2,     4.12,2,     8.42,2,     0.44,2,   2369.5,2,   7.8698,2,    25.00,  15.2707,20110202,0901
  29AH20110128,   A05,    26,  1,     18,2,20110202,0738, 25.3183, -20.9495, 4515,    200.7,  16.8756,  36.4079,2,    186.1,2,    185.7,2,     3.25,2,     6.45,2,  -999.00,9,   -999.0,9,   7.8956,2,    25.00,  16.8423,20110202,0903
  29AH20110128,   A05,    26,  1,     19,2,20110202,0738, 25.3183, -20.9495, 4515,    151.2,  17.9103,  36.5637,2,    196.9,2,    197.0,2,     2.34,2,     3.52,2,     0.22,2,   2393.5,2,   7.9357,2,    25.00,  17.8842,20110202,0904
  29AH20110128,   A05,    26,  1,     20,2,20110202,0738, 25.3183, -20.9495, 4515,    124.7,  18.6514,  36.6619,2,    198.0,2,    199.4,2,     2.07,2,     2.39,2,     0.20,2,   -999.0,9,   7.9453,2,    25.00,  18.6292,20110202,0905
  29AH20110128,   A05,    26,  1,     21,2,20110202,0738, 25.3183, -20.9495, 4515,    102.1,  19.5464,  36.7788,2,    208.0,2,    208.3,2,  -999.00,9,  -999.00,9,  -999.00,9,   -999.0,9,   7.9763,2,    25.00,  19.5277,20110202,0906
  29AH20110128,   A05,    26,  1,     22,2,20110202,0738, 25.3183, -20.9495, 4515,     75.6,  21.3445,  37.0720,2,    215.6,2,    215.8,2,     1.56,2,     0.03,2,     0.13,2,   2425.7,2,   8.0125,2,    25.00,  21.3297,20110202,0906
  29AH20110128,   A05,    26,  1,     23,2,20110202,0738, 25.3183, -20.9495, 4515,     35.4,  21.4672,  37.0300,2,    213.7,2,    214.5,2,     1.61,2,     0.03,2,     0.13,2,   -999.0,9,   8.0104,2,    25.00,  21.4603,20110202,0907
  29AH20110128,   A05,    26,  1,     24,2,20110202,0738, 25.3183, -20.9495, 4515,      4.9,  21.4846,  37.0323,2,    214.8,2,    215.2,2,     1.56,2,     0.03,2,     0.13,2,   2425.2,2,   8.0124,2,    25.00,  21.4836,20110202,0908
  29AH20110128,   A05,    27,  1,      1,2,20110202,1355, 25.1560, -21.4563, 4662,   4651.5,   2.3998,  34.8893,2,    245.5,2,    243.8,2,    47.93,2,    20.85,2,     1.45,2,   -999.0,9,   7.7269,2,    25.00,   1.9771,20110202,1355
  29AH20110128,   A05,    27,  1,      2,2,20110202,1355, 25.1560, -21.4563, 4662,   4499.6,   2.3872,  34.8901,2,    245.4,2,    244.1,2,    47.41,2,    20.76,2,     1.45,2,   -999.0,9,   7.7305,2,    25.00,   1.9834,20110202,1358
  29AH20110128,   A05,    27,  1,      3,2,20110202,1355, 25.1560, -21.4563, 4662,   4001.2,   2.3964,  34.8976,2,    245.5,2,    244.6,2,    45.94,2,    20.58,2,     1.48,2,   -999.0,9,   7.7264,2,    25.00,   2.0509,20110202,1408
  29AH20110128,   A05,    27,  1,      4,2,20110202,1355, 25.1560, -21.4563, 4662,   3499.9,   2.5356,  34.9159,2,    242.4,2,    240.0,2,    42.81,2,    20.44,2,     1.45,2,   -999.0,9,   7.7250,2,    25.00,   2.2422,20110202,1417
  29AH20110128,   A05,    27,  1,      5,2,20110202,1355, 25.1560, -21.4563, 4662,   2998.7,   2.8065,  34.9431,2,    238.3,2,    236.4,2,    38.26,2,    20.16,2,     1.38,2,   -999.0,9,   7.7217,2,    25.00,   2.5600,20110202,1427
  29AH20110128,   A05,    27,  1,      6,2,20110202,1355, 25.1560, -21.4563, 4662,   2499.8,   3.3033,  34.9911,2,    237.0,2,    236.0,2,    31.87,2,    19.57,2,     1.38,2,   -999.0,9,   7.7232,2,    25.00,   3.0976,20110202,1436
  29AH20110128,   A05,    27,  1,      7,2,20110202,1355, 25.1560, -21.4563, 4662,   1999.0,   4.0126,  35.0591,2,    222.8,2,    221.8,2,    27.64,2,    20.09,2,     1.42,2,   -999.0,9,   7.7146,2,    25.00,   3.8447,20110202,1446
  29AH20110128,   A05,    27,  1,      8,2,20110202,1355, 25.1560, -21.4563, 4662,   1749.0,   4.6270,  35.1124,2,    212.9,2,    212.0,2,    25.27,2,    20.52,2,     1.42,2,   -999.0,9,   7.7100,2,    25.00,   4.4751,20110202,1451
  29AH20110128,   A05,    27,  1,      9,2,20110202,1355, 25.1560, -21.4563, 4662,   1499.9,   5.5054,  35.2007,2,    199.2,2,    198.3,2,    22.18,2,    20.72,2,     1.44,2,   -999.0,9,   7.7047,2,    25.00,   5.3678,20110202,1456
  29AH20110128,   A05,    27,  1,     10,2,20110202,1355, 25.1560, -21.4563, 4662,   1299.9,   6.4163,  35.2661,2,    182.6,2,    182.1,2,    20.25,2,    21.41,2,     1.52,2,   -999.0,9,   7.6945,2,    25.00,   6.2900,20110202,1500
  29AH20110128,   A05,    27,  1,     11,2,20110202,1355, 25.1560, -21.4563, 4662,   1200.2,   6.7500,  35.2630,2,    172.9,2,    171.1,2,    19.85,2,    22.33,2,     1.54,2,   -999.0,9,   7.6830,2,    25.00,   6.6312,20110202,1502
  29AH20110128,   A05,    27,  1,     12,2,20110202,1355, 25.1560, -21.4563, 4662,   1101.1,   6.9148,  35.2206,2,    160.2,2,    159.7,2,    20.47,2,    23.61,2,     1.75,2,   -999.0,9,   7.6612,2,    25.00,   6.8053,20110202,1504
  29AH20110128,   A05,    27,  1,     13,2,20110202,1355, 25.1560, -21.4563, 4662,   1000.6,   7.1604,  35.1808,2,    148.7,2,    147.6,2,    20.68,2,    24.64,2,     1.90,2,   -999.0,9,   7.6438,2,    25.00,   7.0598,20110202,1506
  29AH20110128,   A05,    27,  1,     14,2,20110202,1355, 25.1560, -21.4563, 4662,    900.3,   7.8003,  35.2143,2,    138.9,2,    137.0,2,    19.90,2,    24.97,2,     1.89,2,   -999.0,9,   7.6368,2,    25.00,   7.7061,20110202,1508
  29AH20110128,   A05,    27,  1,     15,2,20110202,1355, 25.1560, -21.4563, 4662,    798.4,   8.7906,  35.2985,2,    133.7,2,    132.5,2,    17.64,2,    23.98,2,     1.85,2,   -999.0,9,   7.6501,2,    25.00,   8.7017,20110202,1510
  29AH20110128,   A05,    27,  1,     16,2,20110202,1355, 25.1560, -21.4563, 4662,    598.1,  11.1274,  35.5440,2,    156.9,2,    156.6,2,    10.38,2,    18.00,2,  -999.00,9,   -999.0,9,   7.7298,2,    25.00,  11.0513,20110202,1515
  29AH20110128,   A05,    27,  1,     17,2,20110202,1355, 25.1560, -21.4563, 4662,    400.8,  13.4818,  35.8444,2,    183.5,2,    183.1,2,     5.87,2,    11.58,2,     0.67,2,   -999.0,9,   7.8159,2,    25.00,  13.4245,20110202,1519
  29AH20110128,   A05,    27,  1,     18,2,20110202,1355, 25.1560, -21.4563, 4662,    301.7,  15.1857,  36.1157,2,    193.2,2,    193.2,2,     4.21,2,     8.01,2,     0.49,2,   -999.0,9,   7.8677,2,    25.00,  15.1391,20110202,1521
  29AH20110128,   A05,    27,  1,     19,2,20110202,1355, 25.1560, -21.4563, 4662,    148.5,  18.0062,  36.5825,2,    188.6,2,    187.4,2,     2.66,2,     4.40,2,  -999.00,9,   -999.0,9,   7.9177,2,    25.00,  17.9804,20110202,1524
  29AH20110128,   A05,    27,  1,     20,2,20110202,1355, 25.1560, -21.4563, 4662,    125.3,  18.4780,  36.6403,2,    188.5,2,    188.5,2,     2.29,2,     2.76,2,     0.23,2,   -999.0,9,   7.9399,2,    25.00,  18.4559,20110202,1525
  29AH20110128,   A05,    27,  1,     21,2,20110202,1355, 25.1560, -21.4563, 4662,    102.4,  19.8330,  36.8108,2,    205.1,2,    202.7,2,     1.97,2,     1.32,2,     0.18,2,   -999.0,9,   7.9651,2,    25.00,  19.8140,20110202,1526
  29AH20110128,   A05,    27,  1,     22,2,20110202,1355, 25.1560, -21.4563, 4662,     77.9,  21.5122,  37.1133,2,    216.9,2,    216.7,2,     1.60,2,     0.01,2,     0.13,2,   -999.0,9,   8.0233,2,    25.00,  21.4969,20110202,1526
  29AH20110128,   A05,    27,  1,     23,2,20110202,1355, 25.1560, -21.4563, 4662,     25.7,  21.5075,  37.1156,2,    217.7,2,    217.1,2,     1.66,2,     0.02,2,     0.13,2,   -999.0,9,   8.0214,2,    25.00,  21.5024,20110202,1528
  29AH20110128,   A05,    27,  1,     24,2,20110202,1355, 25.1560, -21.4563, 4662,      6.2,  21.5024,  37.1157,2,    217.7,2,    216.9,2,     1.66,2,     0.03,2,     0.15,2,   -999.0,9,   8.0173,2,    25.00,  21.5012,20110202,1529
  29AH20110128,   A05,    28,  1,      1,2,20110202,2056, 24.9888, -21.9660, 4791,   4780.7,   2.4091,  34.8886,2,    245.6,2,    244.2,2,    48.60,2,    20.91,2,     1.55,2,   2353.7,2,   7.7249,2,    25.00,   1.9702,20110202,2056
  29AH20110128,   A05,    28,  1,      2,2,20110202,2056, 24.9888, -21.9660, 4791,   4500.5,   2.3784,  34.8895,2,    245.0,2,    244.3,2,    48.59,2,    20.94,2,     1.51,2,   2350.4,2,   7.7259,2,    25.00,   1.9748,20110202,2101
  29AH20110128,   A05,    28,  1,      3,2,20110202,2056, 24.9888, -21.9660, 4791,   4000.6,   2.3840,  34.8968,2,    244.8,2,    244.8,2,    46.56,2,    20.80,2,     1.49,2,   2350.6,2,   7.7229,2,    25.00,   2.0389,20110202,2111
  29AH20110128,   A05,    28,  1,      4,2,20110202,2056, 24.9888, -21.9660, 4791,   3500.2,   2.5369,  34.9161,2,    241.2,2,    240.9,2,    43.38,2,    20.56,2,     1.49,2,   2351.8,2,   7.7247,2,    25.00,   2.2435,20110202,2120
  29AH20110128,   A05,    28,  1,      5,2,20110202,2056, 24.9888, -21.9660, 4791,   2999.6,   2.8529,  34.9464,2,    238.0,2,    237.7,2,    37.88,2,    20.19,2,     1.46,2,   2347.2,2,   7.7232,2,    25.00,   2.6053,20110202,2130
  29AH20110128,   A05,    28,  1,      6,2,20110202,2056, 24.9888, -21.9660, 4791,   2500.3,   3.3257,  34.9900,2,    231.5,2,    231.1,2,    32.51,2,    20.29,2,     1.44,2,   2340.5,2,   7.7153,2,    25.00,   3.1195,20110202,2140
  29AH20110128,   A05,    28,  1,      7,2,20110202,2056, 24.9888, -21.9660, 4791,   1998.7,   4.0423,  35.0589,2,    221.7,2,    222.6,2,    24.97,3,    20.35,2,     1.42,2,   2335.9,2,   7.7121,2,    25.00,   3.8740,20110202,2149
  29AH20110128,   A05,    28,  1,      8,2,20110202,2056, 24.9888, -21.9660, 4791,   1749.0,   4.5313,  35.0959,2,    213.0,2,    213.2,2,    25.13,2,    20.74,2,     1.42,2,   2333.4,2,   7.7071,2,    25.00,   4.3807,20110202,2154
  29AH20110128,   A05,    28,  1,      9,2,20110202,2056, 24.9888, -21.9660, 4791,   1497.7,   5.5177,  35.1919,2,    197.3,2,    196.7,2,    22.27,2,    21.20,2,     1.44,2,   2336.3,2,   7.7009,2,    25.00,   5.3802,20110202,2159
  29AH20110128,   A05,    28,  1,     10,2,20110202,2056, 24.9888, -21.9660, 4791,   1301.7,   6.4612,  35.2585,2,    179.3,2,    179.3,2,    18.88,2,    20.10,3,     1.45,2,   2337.6,2,   7.6885,2,    25.00,   6.3343,20110202,2203
  29AH20110128,   A05,    28,  1,     11,2,20110202,2056, 24.9888, -21.9660, 4791,   1201.2,   6.8466,  35.2691,2,    169.8,2,    169.6,2,    20.13,2,    22.75,2,     1.56,2,   2337.6,2,   7.6794,2,    25.00,   6.7269,20110202,2205
  29AH20110128,   A05,    28,  1,     12,2,20110202,2056, 24.9888, -21.9660, 4791,   1101.3,   7.0328,  35.2113,2,    156.4,2,    155.1,2,    20.56,2,    23.98,2,     1.72,2,   -999.0,9,   7.6597,2,    25.00,   6.9223,20110202,2207
  29AH20110128,   A05,    28,  1,     13,2,20110202,2056, 24.9888, -21.9660, 4791,    997.8,   7.3231,  35.1674,2,    141.8,2,    140.5,2,    20.71,2,    25.51,2,     1.85,2,   2328.1,2,   7.6356,2,    25.00,   7.2216,20110202,2209
  29AH20110128,   A05,    28,  1,     14,2,20110202,2056, 24.9888, -21.9660, 4791,    901.0,   7.8823,  35.1918,2,    131.3,2,    130.7,2,    19.76,2,    25.93,2,     1.85,2,   -999.0,9,   7.6287,2,    25.00,   7.7875,20110202,2211
  29AH20110128,   A05,    28,  1,     15,2,20110202,2056, 24.9888, -21.9660, 4791,    799.9,   8.5250,  35.2169,2,    119.4,2,    120.2,2,    18.52,2,    26.13,2,  -999.00,9,   2325.0,2,   7.6205,2,    25.00,   8.4376,20110202,2214
  29AH20110128,   A05,    28,  1,     16,2,20110202,2056, 24.9888, -21.9660, 4791,    602.1,  10.5781,  35.4437,2,    125.8,2,    125.7,2,    12.90,2,    22.38,2,     1.37,2,   2331.8,2,   7.6704,2,    25.00,  10.5039,20110202,2217
  29AH20110128,   A05,    28,  1,     17,2,20110202,2056, 24.9888, -21.9660, 4791,    401.1,  13.3158,  35.8109,2,    164.8,2,    166.4,2,     6.53,2,    14.04,2,     0.70,2,   2349.7,2,   7.7894,2,    25.00,  13.2589,20110202,2221
  29AH20110128,   A05,    28,  1,     18,2,20110202,2056, 24.9888, -21.9660, 4791,    300.0,  15.5628,  36.1793,2,    189.2,2,    190.8,2,     3.92,2,     8.22,2,  -999.00,9,   2369.9,2,   7.8764,2,    25.00,  15.5156,20110202,2223
  29AH20110128,   A05,    28,  1,     19,2,20110202,2056, 24.9888, -21.9660, 4791,    149.4,  19.7938,  36.8211,2,    211.9,2,    211.1,2,  -999.00,9,  -999.00,9,  -999.00,9,   -999.0,9,   7.9901,2,    25.00,  19.7661,20110202,2226
  29AH20110128,   A05,    28,  1,     20,2,20110202,2056, 24.9888, -21.9660, 4791,    124.8,  21.0950,  37.0685,2,    211.5,2,    212.5,2,     1.80,2,     0.90,2,     0.09,2,   -999.0,9,   8.0087,2,    25.00,  21.0708,20110202,2227
  29AH20110128,   A05,    28,  1,     21,2,20110202,2056, 24.9888, -21.9660, 4791,     75.4,  21.6105,  37.1479,2,    216.6,2,    216.3,2,     1.71,2,     0.42,2,     0.09,2,   2433.8,2,   8.0244,2,    25.00,  21.5956,20110202,2228
  29AH20110128,   A05,    28,  1,     22,2,20110202,2056, 24.9888, -21.9660, 4791,     49.9,  21.6131,  37.1479,2,    217.0,2,    217.5,2,     1.72,2,     0.42,2,     0.09,2,   -999.0,9,   8.0221,2,    25.00,  21.6033,20110202,2229
  29AH20110128,   A05,    28,  1,     23,2,20110202,2056, 24.9888, -21.9660, 4791,     24.7,  21.6112,  37.1462,2,    216.9,2,    217.2,2,     1.68,2,     0.42,2,     0.09,2,   -999.0,9,   8.0236,2,    25.00,  21.6063,20110202,2230
  29AH20110128,   A05,    28,  1,     24,2,20110202,2056, 24.9888, -21.9660, 4791,      4.3,  21.6039,  37.1476,2,    217.6,2,    216.8,2,     1.74,2,     0.44,2,     0.11,2,   2432.3,2,   8.0238,2,    25.00,  21.6031,20110202,2231