BOTTLE,20220930CCHSIOAMB
EXPOCODE,SECT_ID,STNNBR,CASTNO,BTLNBR,BTLNBR_FLAG_W,DATE,TIME,LATITUDE,LONGITUDE,DEPTH,CTDPRS,CTDTMP,CTDSAL,CTDSAL_FLAG_W,CTDOXY,CTDOXY_FLAG_W,OXYGEN,OXYGEN_FLAG_W,SILCAT,SILCAT_FLAG_W,NITRAT,NITRAT_FLAG_W,PHSPHT,PHSPHT_FLAG_W,ALKALI,ALKALI_FLAG_W,PH_SWS,PH_SWS_FLAG_W,PH_TMP,THETA,BTL_DATE,BTL_TIME
,,,,,,,,,,METERS,DBAR,ITS-90,PSS-78,,UMOL/KG,,UMOL/KG,,UMOL/KG,,UMOL/KG,,UMOL/KG,,UMOL/KG,,,,DEG C,DEG C,,
  29AH20110128,   A05,   104,  1,      1,2,20110227,1745, 24.5012, -62.0048, 6020,   6010.1,   2.1078,  34.8460,2,    249.1,2,    244.1,2,  -999.00,9,  -999.00,9,  -999.00,9,   2346.5,2,   7.7015,2,    25.00,   1.5195,20110227,1745
  29AH20110128,   A05,   104,  1,      2,2,20110227,1745, 24.5012, -62.0048, 6020,   5499.5,   2.0710,  34.8510,2,    250.2,2,    249.5,2,  -999.00,9,  -999.00,9,  -999.00,9,   2341.4,2,   7.7054,2,    25.00,   1.5523,20110227,1755
  29AH20110128,   A05,   104,  1,      3,2,20110227,1745, 24.5012, -62.0048, 6020,   4998.7,   2.2028,  34.8755,2,    257.7,2,    256.2,2,  -999.00,9,  -999.00,9,  -999.00,9,   2336.5,2,   7.7189,2,    25.00,   1.7436,20110227,1805
  29AH20110128,   A05,   104,  1,      4,2,20110227,1745, 24.5012, -62.0048, 6020,   4498.5,   2.2871,  34.8918,2,    261.7,2,    262.9,2,  -999.00,9,  -999.00,9,  -999.00,9,   2328.8,2,   7.7267,2,    25.00,   1.8865,20110227,1815
  29AH20110128,   A05,   104,  1,      5,2,20110227,1745, 24.5012, -62.0048, 6020,   3999.5,   2.3529,  34.9015,2,    264.2,2,    264.7,2,  -999.00,9,  -999.00,9,  -999.00,9,   2326.3,2,   7.7264,2,    25.00,   2.0087,20110227,1824
  29AH20110128,   A05,   104,  1,      6,2,20110227,1745, 24.5012, -62.0048, 6020,   3500.6,   2.5031,  34.9142,2,    261.1,2,    261.8,2,  -999.00,9,  -999.00,9,  -999.00,9,   2326.6,2,   7.7284,2,    25.00,   2.2105,20110227,1834
  29AH20110128,   A05,   104,  1,      7,2,20110227,1745, 24.5012, -62.0048, 6020,   2999.8,   2.7637,  34.9350,2,    256.9,2,    257.1,2,  -999.00,9,  -999.00,9,  -999.00,9,   2326.9,2,   7.7322,2,    25.00,   2.5180,20110227,1843
  29AH20110128,   A05,   104,  1,      8,2,20110227,1745, 24.5012, -62.0048, 6020,   2499.9,   3.0973,  34.9582,2,    256.2,2,    257.4,2,  -999.00,9,  -999.00,9,  -999.00,9,   -999.0,9,   7.7331,2,    25.00,   2.8955,20110227,1853
  29AH20110128,   A05,   104,  1,      9,2,20110227,1745, 24.5012, -62.0048, 6020,   1999.7,   3.8289,  34.9993,2,    254.0,2,    255.8,2,  -999.00,9,  -999.00,9,  -999.00,9,   2322.4,2,   7.7284,2,    25.00,   3.6638,20110227,1903
  29AH20110128,   A05,   104,  1,     10,2,20110227,1745, 24.5012, -62.0048, 6020,   1751.3,   4.2741,  35.0240,2,    249.6,2,    249.7,2,  -999.00,9,  -999.00,9,  -999.00,9,   2315.7,2,   7.7216,2,    25.00,   4.1268,20110227,1908
  29AH20110128,   A05,   104,  1,     11,2,20110227,1745, 24.5012, -62.0048, 6020,   1500.5,   4.9110,  35.0600,2,    235.7,2,    235.6,2,  -999.00,9,  -999.00,9,  -999.00,9,   2314.7,2,   7.7135,2,    25.00,   4.7803,20110227,1913
  29AH20110128,   A05,   104,  1,     12,2,20110227,1745, 24.5012, -62.0048, 6020,   1301.6,   5.6265,  35.0648,2,    210.2,2,    210.2,2,  -999.00,9,  -999.00,9,  -999.00,9,   2319.3,2,   7.6930,2,    25.00,   5.5080,20110227,1917
  29AH20110128,   A05,   104,  1,     13,2,20110227,1745, 24.5012, -62.0048, 6020,   1201.9,   5.9465,  35.0388,2,    193.2,2,    191.7,2,  -999.00,9,  -999.00,9,  -999.00,9,   2317.7,2,   7.6760,2,    25.00,   5.8351,20110227,1919
  29AH20110128,   A05,   104,  1,     14,2,20110227,1745, 24.5012, -62.0048, 6020,   1000.4,   6.9206,  34.9816,2,    150.0,2,    149.0,2,  -999.00,9,  -999.00,9,  -999.00,9,   2318.8,2,   7.6287,2,    25.00,   6.8221,20110227,1923
  29AH20110128,   A05,   104,  1,     15,2,20110227,1745, 24.5012, -62.0048, 6020,    799.7,   9.4199,  35.2236,2,    136.1,2,    135.3,2,  -999.00,9,  -999.00,9,  -999.00,9,   2323.7,2,   7.6661,2,    25.00,   9.3273,20110227,1927
  29AH20110128,   A05,   104,  1,     16,2,20110227,1745, 24.5012, -62.0048, 6020,    601.9,  13.1948,  35.7384,2,    154.6,2,    155.0,2,  -999.00,9,  -999.00,9,  -999.00,9,   2349.1,2,   7.7809,2,    25.00,  13.1094,20110227,1931
  29AH20110128,   A05,   104,  1,     17,2,20110227,1745, 24.5012, -62.0048, 6020,    401.0,  17.2905,  36.4138,2,    187.5,2,    187.6,2,  -999.00,9,  -999.00,9,  -999.00,9,   2387.5,2,   7.9047,2,    25.00,  17.2226,20110227,1935
  29AH20110128,   A05,   104,  1,     18,2,20110227,1745, 24.5012, -62.0048, 6020,    300.9,  18.2714,  36.5798,2,    200.1,2,    199.7,2,  -999.00,9,  -999.00,9,  -999.00,9,   2402.2,2,   7.9637,2,    25.00,  18.2185,20110227,1937
  29AH20110128,   A05,   104,  1,     19,2,20110227,1745, 24.5012, -62.0048, 6020,    150.9,  22.7717,  36.9791,2,    190.6,2,    189.1,2,  -999.00,9,  -999.00,9,  -999.00,9,   -999.0,9,   8.0121,2,    25.00,  22.7408,20110227,1940
  29AH20110128,   A05,   104,  1,     20,2,20110227,1745, 24.5012, -62.0048, 6020,    124.9,  24.0200,  36.8221,2,    205.0,2,    201.7,2,  -999.00,9,  -999.00,9,  -999.00,9,   -999.0,9,   8.0551,2,    25.00,  23.9935,20110227,1941
  29AH20110128,   A05,   104,  1,     21,2,20110227,1745, 24.5012, -62.0048, 6020,     75.7,  25.1554,  36.5232,2,    206.7,2,    207.0,2,  -999.00,9,  -999.00,9,  -999.00,9,   2390.8,2,   8.0879,2,    25.00,  25.1388,20110227,1942
  29AH20110128,   A05,   104,  1,     22,2,20110227,1745, 24.5012, -62.0048, 6020,     50.4,  24.8792,  36.2729,2,    207.7,2,    206.9,2,  -999.00,9,  -999.00,9,  -999.00,9,   -999.0,9,   8.0913,2,    25.00,  24.8683,20110227,1943
  29AH20110128,   A05,   104,  1,     23,2,20110227,1745, 24.5012, -62.0048, 6020,     25.7,  24.8749,  36.2692,2,    208.0,2,    207.6,2,  -999.00,9,  -999.00,9,  -999.00,9,   -999.0,9,   8.0901,2,    25.00,  24.8693,20110227,1943
  29AH20110128,   A05,   104,  1,     24,2,20110227,1745, 24.5012, -62.0048, 6020,      6.0,  24.8977,  36.2687,2,    208.1,2,    208.0,2,  -999.00,9,  -999.00,9,  -999.00,9,   2377.1,2,   8.0912,2,    25.00,  24.8964,20110227,1944
  29AH20110128,   A05,   105,  1,      1,2,20110228,0135, 24.5008, -62.6170, 6034,   6024.1,   2.1100,  34.8459,2,    248.4,2,    247.1,2,  -999.00,9,  -999.00,9,  -999.00,9,   -999.0,9,   7.7059,2,    25.00,   1.5197,20110228,0135
  29AH20110128,   A05,   105,  1,      2,2,20110228,0135, 24.5008, -62.6170, 6034,   5499.9,   2.0676,  34.8506,2,    249.6,2,    248.9,2,  -999.00,9,  -999.00,9,  -999.00,9,   -999.0,9,   7.7075,2,    25.00,   1.5490,20110228,0145
  29AH20110128,   A05,   105,  1,      3,2,20110228,0135, 24.5008, -62.6170, 6034,   5000.0,   2.2065,  34.8760,2,    257.8,2,    260.1,2,  -999.00,9,  -999.00,9,  -999.00,9,   -999.0,9,   7.7192,2,    25.00,   1.7470,20110228,0155
  29AH20110128,   A05,   105,  1,      4,2,20110228,0135, 24.5008, -62.6170, 6034,   4497.2,   2.2857,  34.8917,2,    262.2,2,    260.6,2,  -999.00,9,  -999.00,9,  -999.00,9,   -999.0,9,   7.7276,2,    25.00,   1.8853,20110228,0205
  29AH20110128,   A05,   105,  1,      5,2,20110228,0135, 24.5008, -62.6170, 6034,   4000.7,   2.3578,  34.9019,2,    264.2,2,    263.4,2,  -999.00,9,  -999.00,9,  -999.00,9,   -999.0,9,   7.7288,2,    25.00,   2.0134,20110228,0214
  29AH20110128,   A05,   105,  1,      6,2,20110228,0135, 24.5008, -62.6170, 6034,   3499.9,   2.5045,  34.9143,2,    262.1,2,    261.4,2,  -999.00,9,  -999.00,9,  -999.00,9,   -999.0,9,   7.7324,2,    25.00,   2.2119,20110228,0224
  29AH20110128,   A05,   105,  1,      7,2,20110228,0135, 24.5008, -62.6170, 6034,   2997.4,   2.7949,  34.9373,2,    255.5,2,    254.6,2,  -999.00,9,  -999.00,9,  -999.00,9,   -999.0,9,   7.7320,2,    25.00,   2.5488,20110228,0234
  29AH20110128,   A05,   105,  1,      8,2,20110228,0135, 24.5008, -62.6170, 6034,   2499.1,   3.1734,  34.9688,2,    252.0,2,    252.9,2,  -999.00,9,  -999.00,9,  -999.00,9,   -999.0,9,   7.7367,2,    25.00,   2.9702,20110228,0244
  29AH20110128,   A05,   105,  1,      9,2,20110228,0135, 24.5008, -62.6170, 6034,   2000.5,   3.6716,  34.9932,2,    254.6,2,    255.9,2,  -999.00,9,  -999.00,9,  -999.00,9,   -999.0,9,   7.7374,2,    25.00,   3.5088,20110228,0253
  29AH20110128,   A05,   105,  1,     10,2,20110228,0135, 24.5008, -62.6170, 6034,   1748.6,   4.2399,  35.0431,2,    247.0,2,    247.4,2,  -999.00,9,  -999.00,9,  -999.00,9,   -999.0,9,   7.7285,2,    25.00,   4.0933,20110228,0259
  29AH20110128,   A05,   105,  1,     11,2,20110228,0135, 24.5008, -62.6170, 6034,   1499.8,   4.9315,  35.0881,2,    235.5,2,    235.4,2,  -999.00,9,  -999.00,9,  -999.00,9,   -999.0,9,   7.7210,2,    25.00,   4.8006,20110228,0304
  29AH20110128,   A05,   105,  1,     12,2,20110228,0135, 24.5008, -62.6170, 6034,   1299.8,   5.4505,  35.0744,2,    219.4,2,    219.8,2,  -999.00,9,  -999.00,9,  -999.00,9,   -999.0,9,   7.7072,2,    25.00,   5.3339,20110228,0308
  29AH20110128,   A05,   105,  1,     13,2,20110228,0135, 24.5008, -62.6170, 6034,   1199.7,   5.8387,  35.0584,2,    200.7,2,    198.1,2,  -999.00,9,  -999.00,9,  -999.00,9,   -999.0,9,   7.6866,2,    25.00,   5.7284,20110228,0310
  29AH20110128,   A05,   105,  1,     14,2,20110228,0135, 24.5008, -62.6170, 6034,    999.5,   6.3641,  34.9251,2,    153.8,2,    152.2,2,  -999.00,9,  -999.00,9,  -999.00,9,   -999.0,9,   7.6242,2,    25.00,   6.2699,20110228,0314
  29AH20110128,   A05,   105,  1,     15,2,20110228,0135, 24.5008, -62.6170, 6034,    799.9,   8.9922,  35.1700,2,    137.5,2,    136.7,2,  -999.00,9,  -999.00,9,  -999.00,9,   -999.0,9,   7.6566,2,    25.00,   8.9021,20110228,0318
  29AH20110128,   A05,   105,  1,     16,2,20110228,0135, 24.5008, -62.6170, 6034,    600.7,  12.8772,  35.7024,2,    153.0,2,    152.3,2,  -999.00,9,  -999.00,9,  -999.00,9,   -999.0,9,   7.7729,2,    25.00,  12.7933,20110228,0322
  29AH20110128,   A05,   105,  1,     17,2,20110228,0135, 24.5008, -62.6170, 6034,    399.3,  16.7913,  36.3214,2,    177.1,2,    176.9,2,  -999.00,9,  -999.00,9,  -999.00,9,   -999.0,9,   7.8945,2,    25.00,  16.7250,20110228,0326
  29AH20110128,   A05,   105,  1,     18,2,20110228,0135, 24.5008, -62.6170, 6034,    300.6,  18.2633,  36.5800,2,    184.6,2,    184.5,2,  -999.00,9,  -999.00,9,  -999.00,9,   -999.0,9,   7.9393,2,    25.00,  18.2105,20110228,0329
  29AH20110128,   A05,   105,  1,     19,2,20110228,0135, 24.5008, -62.6170, 6034,    150.2,  20.5356,  36.7768,2,    190.8,2,    189.8,2,  -999.00,9,  -999.00,9,  -999.00,9,   -999.0,9,   7.9869,2,    25.00,  20.5070,20110228,0332
  29AH20110128,   A05,   105,  1,     20,2,20110228,0135, 24.5008, -62.6170, 6034,    126.4,  22.3838,  36.9265,2,    200.6,2,    199.4,2,  -999.00,9,  -999.00,9,  -999.00,9,   -999.0,9,   8.0315,2,    25.00,  22.3583,20110228,0333
  29AH20110128,   A05,   105,  1,     21,2,20110228,0135, 24.5008, -62.6170, 6034,     75.1,  23.8428,  36.7934,2,    209.2,2,    206.7,2,  -999.00,9,  -999.00,9,  -999.00,9,   -999.0,9,   8.0720,2,    25.00,  23.8270,20110228,0334
  29AH20110128,   A05,   105,  1,     22,2,20110228,0135, 24.5008, -62.6170, 6034,     50.2,  24.2029,  36.6220,2,    210.3,2,    209.2,2,  -999.00,9,  -999.00,9,  -999.00,9,   -999.0,9,   8.0856,2,    25.00,  24.1922,20110228,0335
  29AH20110128,   A05,   105,  1,     23,2,20110228,0135, 24.5008, -62.6170, 6034,     25.7,  24.1865,  36.5648,2,    210.3,2,    208.4,2,  -999.00,9,  -999.00,9,  -999.00,9,   -999.0,9,   8.0955,2,    25.00,  24.1810,20110228,0336
  29AH20110128,   A05,   105,  1,     24,2,20110228,0135, 24.5008, -62.6170, 6034,      4.4,  24.0866,  36.5008,2,    210.3,2,    208.4,2,  -999.00,9,  -999.00,9,  -999.00,9,   -999.0,9,   8.0829,2,    25.00,  24.0857,20110228,0336
  29AH20110128,   A05,   106,  1,      1,2,20110228,0923, 24.4998, -63.2300, 5943,   5933.2,   2.0910,  34.8451,2,    248.5,2,    247.4,2,  -999.00,9,  -999.00,9,  -999.00,9,   2346.0,2,   7.7013,2,    25.00,   1.5138,20110228,0923
  29AH20110128,   A05,   106,  1,      2,2,20110228,0923, 24.4998, -63.2300, 5943,   5499.1,   2.0486,  34.8482,2,    249.1,2,    248.6,2,  -999.00,9,  -999.00,9,  -999.00,9,   2346.1,2,   7.7043,2,    25.00,   1.5308,20110228,0932
  29AH20110128,   A05,   106,  1,      3,2,20110228,0923, 24.4998, -63.2300, 5943,   4999.7,   2.1333,  34.8670,2,    254.8,2,    254.1,2,  -999.00,9,  -999.00,9,  -999.00,9,   2339.4,2,   7.7154,2,    25.00,   1.6763,20110228,0941
  29AH20110128,   A05,   106,  1,      4,2,20110228,0923, 24.4998, -63.2300, 5943,   4498.7,   2.2613,  34.8895,2,    261.9,2,    260.2,2,  -999.00,9,  -999.00,9,  -999.00,9,   -999.0,9,   7.7226,2,    25.00,   1.8615,20110228,0951
  29AH20110128,   A05,   106,  1,      5,2,20110228,0923, 24.4998, -63.2300, 5943,   3998.6,   2.3233,  34.8994,2,    263.8,2,    262.8,2,  -999.00,9,  -999.00,9,  -999.00,9,   2325.7,2,   7.7298,2,    25.00,   1.9801,20110228,1001
  29AH20110128,   A05,   106,  1,      6,2,20110228,0923, 24.4998, -63.2300, 5943,   3500.4,   2.4827,  34.9130,2,    260.9,2,    260.1,2,  -999.00,9,  -999.00,9,  -999.00,9,   2326.3,2,   7.7324,2,    25.00,   2.1906,20110228,1010
  29AH20110128,   A05,   106,  1,      7,2,20110228,0923, 24.4998, -63.2300, 5943,   3000.0,   2.7581,  34.9353,2,    253.9,2,    254.9,2,  -999.00,9,  -999.00,9,  -999.00,9,   2327.3,2,   7.7310,2,    25.00,   2.5125,20110228,1020
  29AH20110128,   A05,   106,  1,      8,2,20110228,0923, 24.4998, -63.2300, 5943,   2500.6,   3.1164,  34.9662,2,    250.0,2,    250.7,2,  -999.00,9,  -999.00,9,  -999.00,9,   2328.0,2,   7.7329,2,    25.00,   2.9141,20110228,1030
  29AH20110128,   A05,   106,  1,      9,2,20110228,0923, 24.4998, -63.2300, 5943,   2000.6,   3.7491,  35.0154,2,    248.8,2,    249.8,2,  -999.00,9,  -999.00,9,  -999.00,9,   2320.9,2,   7.7317,2,    25.00,   3.5851,20110228,1039
  29AH20110128,   A05,   106,  1,     10,2,20110228,0923, 24.4998, -63.2300, 5943,   1749.9,   4.1659,  35.0323,2,    248.8,2,    250.7,2,  -999.00,9,  -999.00,9,  -999.00,9,   2320.2,2,   7.7283,2,    25.00,   4.0201,20110228,1044
  29AH20110128,   A05,   106,  1,     11,2,20110228,0923, 24.4998, -63.2300, 5943,   1501.0,   4.6644,  35.0479,2,    240.9,2,    242.1,2,  -999.00,9,  -999.00,9,  -999.00,9,   2319.6,2,   7.7207,2,    25.00,   4.5364,20110228,1049
  29AH20110128,   A05,   106,  1,     12,2,20110228,0923, 24.4998, -63.2300, 5943,   1300.7,   5.2789,  35.0594,2,    219.3,2,    219.1,2,  -999.00,9,  -999.00,9,  -999.00,9,   2317.1,2,   7.7038,2,    25.00,   5.1639,20110228,1054
  29AH20110128,   A05,   106,  1,     13,2,20110228,0923, 24.4998, -63.2300, 5943,   1200.2,   5.6983,  35.0634,2,    206.8,2,    205.9,2,  -999.00,9,  -999.00,9,  -999.00,9,   2318.3,2,   7.6912,2,    25.00,   5.5892,20110228,1056
  29AH20110128,   A05,   106,  1,     14,2,20110228,0923, 24.4998, -63.2300, 5943,   1000.2,   6.6632,  35.0200,2,    164.6,2,    163.3,2,  -999.00,9,  -999.00,9,  -999.00,9,   2315.5,2,   7.6489,2,    25.00,   6.5666,20110228,1100
  29AH20110128,   A05,   106,  1,     15,2,20110228,0923, 24.4998, -63.2300, 5943,    800.3,   9.1167,  35.1980,2,    142.1,2,    141.7,2,  -999.00,9,  -999.00,9,  -999.00,9,   2322.4,2,   7.6711,2,    25.00,   9.0258,20110228,1104
  29AH20110128,   A05,   106,  1,     16,2,20110228,0923, 24.4998, -63.2300, 5943,    600.2,  13.1854,  35.7321,2,    155.9,2,    156.2,2,  -999.00,9,  -999.00,9,  -999.00,9,   2346.3,2,   7.7851,2,    25.00,  13.1003,20110228,1108
  29AH20110128,   A05,   106,  1,     17,2,20110228,0923, 24.4998, -63.2300, 5943,    400.4,  17.0197,  36.3671,2,    186.0,2,    187.3,2,  -999.00,9,  -999.00,9,  -999.00,9,   2383.7,2,   7.9205,2,    25.00,  16.9526,20110228,1112
  29AH20110128,   A05,   106,  1,     18,2,20110228,0923, 24.4998, -63.2300, 5943,    299.8,  18.0566,  36.5515,2,    197.8,2,    198.4,2,  -999.00,9,  -999.00,9,  -999.00,9,   2392.2,2,   7.9577,2,    25.00,  18.0044,20110228,1114
  29AH20110128,   A05,   106,  1,     19,2,20110228,0923, 24.4998, -63.2300, 5943,    149.3,  20.8074,  36.9118,2,    183.8,2,    183.0,2,  -999.00,9,  -999.00,9,  -999.00,9,   2413.7,2,   7.9790,2,    25.00,  20.7787,20110228,1117
  29AH20110128,   A05,   106,  1,     20,2,20110228,0923, 24.4998, -63.2300, 5943,    125.5,  21.5997,  36.8895,2,    191.9,2,    191.8,2,  -999.00,9,  -999.00,9,  -999.00,9,   -999.0,9,   8.0095,2,    25.00,  21.5750,20110228,1118
  29AH20110128,   A05,   106,  1,     21,2,20110228,0923, 24.4998, -63.2300, 5943,     75.8,  23.5352,  36.8609,2,    207.8,2,    202.0,2,  -999.00,9,  -999.00,9,  -999.00,9,   -999.0,9,   8.0570,2,    25.00,  23.5193,20110228,1119
  29AH20110128,   A05,   106,  1,     22,2,20110228,0923, 24.4998, -63.2300, 5943,     51.2,  23.9539,  36.6142,2,    210.3,2,    209.6,2,  -999.00,9,  -999.00,9,  -999.00,9,   2400.0,2,   8.0805,2,    25.00,  23.9431,20110228,1120
  29AH20110128,   A05,   106,  1,     23,2,20110228,0923, 24.4998, -63.2300, 5943,     25.3,  24.0371,  36.5600,2,    210.2,2,    210.3,2,  -999.00,9,  -999.00,9,  -999.00,9,   -999.0,9,   8.0818,2,    25.00,  24.0317,20110228,1121
  29AH20110128,   A05,   106,  1,     24,2,20110228,0923, 24.4998, -63.2300, 5943,      5.4,  24.1366,  36.2848,2,    209.5,2,    208.0,2,  -999.00,9,  -999.00,9,  -999.00,9,   2377.7,2,   8.0796,2,    25.00,  24.1355,20110228,1121