BOTTLE,20220930CCHSIOAMB
EXPOCODE,SECT_ID,STNNBR,CASTNO,BTLNBR,BTLNBR_FLAG_W,DATE,TIME,LATITUDE,LONGITUDE,DEPTH,CTDPRS,CTDTMP,CTDSAL,CTDSAL_FLAG_W,CTDOXY,CTDOXY_FLAG_W,OXYGEN,OXYGEN_FLAG_W,SILCAT,SILCAT_FLAG_W,NITRAT,NITRAT_FLAG_W,PHSPHT,PHSPHT_FLAG_W,ALKALI,ALKALI_FLAG_W,PH_SWS,PH_SWS_FLAG_W,PH_TMP,THETA,BTL_DATE,BTL_TIME
,,,,,,,,,,METERS,DBAR,ITS-90,PSS-78,,UMOL/KG,,UMOL/KG,,UMOL/KG,,UMOL/KG,,UMOL/KG,,UMOL/KG,,,,DEG C,DEG C,,
  29AH20110128,   A05,   164,  1,      1,2,20110314,0156, 27.0013, -79.7583,  425,    414.9,   6.8025,  34.9198,2,    136.6,2,    135.4,2,  -999.00,9,  -999.00,9,     2.02,2,   2323.3,2,   7.6059,2,    25.00,   6.7637,20110314,0156
  29AH20110128,   A05,   164,  1,      2,2,20110314,0156, 27.0013, -79.7583,  425,    400.0,   6.9454,  34.9248,2,    135.4,2,    134.7,2,  -999.00,9,  -999.00,9,     1.88,2,   2319.0,2,   7.6052,2,    25.00,   6.9076,20110314,0156
  29AH20110128,   A05,   164,  1,      3,2,20110314,0156, 27.0013, -79.7583,  425,    299.3,   9.8690,  35.2102,2,    126.0,2,    125.0,2,    16.98,2,    24.37,2,     1.64,2,   2323.1,2,   7.6478,2,    25.00,   9.8343,20110314,0158
  29AH20110128,   A05,   164,  1,      4,2,20110314,0156, 27.0013, -79.7583,  425,    197.0,  15.3598,  35.9998,2,    139.0,2,    138.2,2,     7.90,2,  -999.00,9,     0.92,2,   2363.4,2,   7.8110,2,    25.00,  15.3292,20110314,0200
  29AH20110128,   A05,   164,  1,      5,2,20110314,0156, 27.0013, -79.7583,  425,    146.5,  19.0392,  36.4723,2,    153.3,2,    153.1,2,     5.70,2,  -999.00,9,     0.49,2,   -999.0,9,   7.8956,2,    25.00,  19.0128,20110314,0201
  29AH20110128,   A05,   164,  1,      6,2,20110314,0156, 27.0013, -79.7583,  425,    123.1,  19.9198,  36.4573,2,    204.7,2,    203.1,2,     3.25,2,     1.47,2,     0.15,2,   -999.0,9,   7.9989,2,    25.00,  19.8969,20110314,0202
  29AH20110128,   A05,   164,  1,      7,2,20110314,0156, 27.0013, -79.7583,  425,     99.6,  20.4109,  36.4591,2,    215.5,2,    215.2,2,     2.90,2,     0.10,2,     0.11,2,   2390.7,2,   8.0180,2,    25.00,  20.3921,20110314,0203
  29AH20110128,   A05,   164,  1,      8,2,20110314,0156, 27.0013, -79.7583,  425,     74.6,  23.1274,  36.6532,2,    187.3,2,    186.9,2,     2.84,2,     0.77,2,     0.11,2,   2407.0,2,   8.0056,2,    25.00,  23.1120,20110314,0203
  29AH20110128,   A05,   164,  1,      9,2,20110314,0156, 27.0013, -79.7583,  425,     50.3,  25.2719,  36.0575,2,    204.3,2,    203.0,2,     2.98,2,     0.00,2,     0.06,2,   -999.0,9,   8.0717,2,    25.00,  25.2609,20110314,0204
  29AH20110128,   A05,   164,  1,     10,2,20110314,0156, 27.0013, -79.7583,  425,     26.2,  25.5875,  35.8958,2,    205.3,2,    204.1,2,     2.91,2,     0.00,2,     0.06,2,   2355.1,2,   8.0809,2,    25.00,  25.5817,20110314,0205
  29AH20110128,   A05,   164,  1,     11,2,20110314,0156, 27.0013, -79.7583,  425,      6.7,  25.5840,  35.8941,2,    205.4,2,   -999.0,9,  -999.00,9,  -999.00,9,  -999.00,9,   -999.0,9,   8.0795,2,    25.00,  25.5825,20110314,0206
  29AH20110128,   A05,   165,  1,      1,2,20110314,0246, 27.0022, -79.8218,  404,    322.6,   7.0528,  34.9395,2,    135.5,2,   -999.0,9,    21.28,2,    30.70,3,     2.07,2,   -999.0,9,   7.6197,2,    25.00,   7.0222,20110314,0246
  29AH20110128,   A05,   165,  1,      2,2,20110314,0246, 27.0022, -79.8218,  404,    299.6,   7.7098,  34.9751,2,    130.8,2,    129.7,2,  -999.00,9,    25.56,2,  -999.00,9,   -999.0,9,   7.6126,2,    25.00,   7.6799,20110314,0246
  29AH20110128,   A05,   165,  1,      3,2,20110314,0246, 27.0022, -79.8218,  404,    201.5,  10.8146,  35.3287,2,    127.1,2,    127.2,2,    12.09,2,    20.86,2,  -999.00,9,   -999.0,9,   7.6848,2,    25.00,  10.7899,20110314,0248
  29AH20110128,   A05,   165,  1,      4,2,20110314,0246, 27.0022, -79.8218,  404,    151.9,  12.8900,  35.5839,2,    134.7,2,    134.6,2,     8.54,2,  -999.00,9,  -999.00,9,   -999.0,9,   7.7496,2,    25.00,  12.8691,20110314,0249
  29AH20110128,   A05,   165,  1,      5,2,20110314,0246, 27.0022, -79.8218,  404,    123.9,  15.7372,  35.9204,2,    159.1,2,    157.9,2,     5.49,2,  -999.00,9,     0.52,2,   -999.0,9,   7.8504,2,    25.00,  15.7177,20110314,0250
  29AH20110128,   A05,   165,  1,      6,2,20110314,0246, 27.0022, -79.8218,  404,     99.3,  19.3044,  36.2186,2,    189.7,2,    187.1,2,     2.47,2,     0.68,2,     0.15,2,   -999.0,9,   7.9499,2,    25.00,  19.2864,20110314,0251
  29AH20110128,   A05,   165,  1,      7,2,20110314,0246, 27.0022, -79.8218,  404,     73.3,  22.7625,  36.4997,2,    203.0,2,    202.9,2,     2.96,2,     0.42,2,     0.14,2,   -999.0,9,   8.0320,2,    25.00,  22.7476,20110314,0252
  29AH20110128,   A05,   165,  1,      8,2,20110314,0246, 27.0022, -79.8218,  404,     49.5,  25.1854,  35.9218,2,    203.2,2,    205.3,2,     3.55,2,     0.39,2,     0.14,2,   -999.0,9,   8.0830,2,    25.00,  25.1746,20110314,0252
  29AH20110128,   A05,   165,  1,      9,2,20110314,0246, 27.0022, -79.8218,  404,     24.7,  25.3092,  35.8944,2,    206.1,2,    204.5,2,     3.49,2,     0.39,2,     0.14,2,   -999.0,9,   8.0821,2,    25.00,  25.3038,20110314,0253
  29AH20110128,   A05,   165,  1,     10,2,20110314,0246, 27.0022, -79.8218,  404,      4.5,  25.3845,  35.8927,2,    206.5,2,    204.8,2,  -999.00,9,  -999.00,9,  -999.00,9,   -999.0,9,   8.0795,2,    25.00,  25.3835,20110314,0254
  29AH20110128,   A05,   166,  1,      1,2,20110314,0339, 27.0067, -79.8862,  404,    209.7,   9.2507,  35.1307,2,    123.4,2,    122.0,2,  -999.00,9,  -999.00,9,  -999.00,9,   -999.0,9,   7.6359,2,    25.00,   9.2275,20110314,0339
  29AH20110128,   A05,   166,  1,      2,2,20110314,0339, 27.0067, -79.8862,  404,    199.2,   9.3089,  35.1289,2,    122.8,2,    121.4,2,  -999.00,9,  -999.00,9,  -999.00,9,   -999.0,9,   7.6386,2,    25.00,   9.2867,20110314,0339
  29AH20110128,   A05,   166,  1,      3,2,20110314,0339, 27.0067, -79.8862,  404,    151.7,  10.4462,  35.2840,2,    125.0,2,    123.9,2,  -999.00,9,  -999.00,9,  -999.00,9,   -999.0,9,   7.6678,2,    25.00,  10.4281,20110314,0341
  29AH20110128,   A05,   166,  1,      4,2,20110314,0339, 27.0067, -79.8862,  404,    126.6,  11.7442,  35.4544,2,    130.5,2,    130.0,2,  -999.00,9,  -999.00,9,  -999.00,9,   -999.0,9,   7.7214,2,    25.00,  11.7279,20110314,0342
  29AH20110128,   A05,   166,  1,      5,2,20110314,0339, 27.0067, -79.8862,  404,    101.1,  13.2124,  35.6058,2,    136.7,2,    136.0,2,  -999.00,9,  -999.00,9,  -999.00,9,   -999.0,9,   7.7587,2,    25.00,  13.1983,20110314,0344
  29AH20110128,   A05,   166,  1,      6,2,20110314,0339, 27.0067, -79.8862,  404,     72.4,  16.8144,  35.8730,2,    165.6,2,    165.4,2,  -999.00,9,  -999.00,9,  -999.00,9,   -999.0,9,   7.8835,2,    25.00,  16.8025,20110314,0345
  29AH20110128,   A05,   166,  1,      7,2,20110314,0339, 27.0067, -79.8862,  404,     48.1,  22.5234,  35.9508,2,    204.1,2,    204.2,2,  -999.00,9,  -999.00,9,  -999.00,9,   -999.0,9,   8.0286,2,    25.00,  22.5137,20110314,0345
  29AH20110128,   A05,   166,  1,      8,2,20110314,0339, 27.0067, -79.8862,  404,     23.7,  24.7535,  35.9332,2,    209.0,2,    207.3,2,  -999.00,9,  -999.00,9,  -999.00,9,   -999.0,9,   8.0722,2,    25.00,  24.7484,20110314,0346
  29AH20110128,   A05,   166,  1,      9,2,20110314,0339, 27.0067, -79.8862,  404,      4.5,  25.0620,  35.9198,2,    207.1,2,    206.8,2,  -999.00,9,  -999.00,9,  -999.00,9,   -999.0,9,   8.0777,2,    25.00,  25.0610,20110314,0347
  29AH20110128,   A05,   167,  1,      1,2,20110314,0425, 26.9998, -79.9513,  390,    114.6,  12.3324,  35.5446,2,    127.4,2,    127.3,2,     2.98,2,  -999.00,9,     1.31,2,   -999.0,9,   7.7200,2,    25.00,  12.3171,20110314,0425
  29AH20110128,   A05,   167,  1,      2,2,20110314,0425, 26.9998, -79.9513,  390,     99.5,  12.4126,  35.5627,2,    126.7,2,    125.0,2,     5.49,2,  -999.00,9,     1.29,2,   -999.0,9,   7.7199,2,    25.00,  12.3993,20110314,0426
  29AH20110128,   A05,   167,  1,      3,2,20110314,0425, 26.9998, -79.9513,  390,     74.5,  14.5398,  35.8245,2,    140.8,2,    140.5,2,     4.87,2,  -999.00,9,     0.93,2,   -999.0,9,   7.8073,2,    25.00,  14.5287,20110314,0426
  29AH20110128,   A05,   167,  1,      4,2,20110314,0425, 26.9998, -79.9513,  390,     50.4,  15.8716,  35.7968,2,    168.9,2,    168.7,2,     3.92,2,     7.26,2,     0.62,2,   -999.0,9,   7.8764,2,    25.00,  15.8636,20110314,0427
  29AH20110128,   A05,   167,  1,      5,2,20110314,0425, 26.9998, -79.9513,  390,     23.9,  20.9293,  35.9646,2,    209.1,2,    208.4,2,     4.69,2,     2.40,2,     0.14,2,   -999.0,9,   7.9985,2,    25.00,  20.9247,20110314,0428
  29AH20110128,   A05,   167,  1,      6,2,20110314,0425, 26.9998, -79.9513,  390,      5.3,  22.5859,  35.9799,2,    219.8,2,    218.7,2,     5.86,2,     0.00,2,     0.00,2,   -999.0,9,   8.0567,2,    25.00,  22.5848,20110314,0428