BOTTLE,20220930CCHSIOAMB
EXPOCODE,SECT_ID,STNNBR,CASTNO,BTLNBR,BTLNBR_FLAG_W,DATE,TIME,LATITUDE,LONGITUDE,DEPTH,CTDPRS,CTDTMP,CTDSAL,CTDSAL_FLAG_W,CTDOXY,CTDOXY_FLAG_W,OXYGEN,OXYGEN_FLAG_W,SILCAT,SILCAT_FLAG_W,NITRAT,NITRAT_FLAG_W,PHSPHT,PHSPHT_FLAG_W,ALKALI,ALKALI_FLAG_W,PH_SWS,PH_SWS_FLAG_W,PH_TMP,THETA,BTL_DATE,BTL_TIME
,,,,,,,,,,METERS,DBAR,ITS-90,PSS-78,,UMOL/KG,,UMOL/KG,,UMOL/KG,,UMOL/KG,,UMOL/KG,,UMOL/KG,,,,DEG C,DEG C,,
  29AH20110128,   A05,   122,  1,      1,2,20110305,2207, 26.2043, -71.1003, 5605,   5595.0,   2.1055,  34.8529,2,    250.7,2,    249.1,2,  -999.00,9,  -999.00,9,  -999.00,9,   2351.5,2,   7.7108,2,    25.00,   1.5730,20110305,2207
  29AH20110128,   A05,   122,  1,      2,2,20110305,2207, 26.2043, -71.1003, 5605,   5000.2,   2.2945,  34.8848,2,    262.4,2,    262.0,2,  -999.00,9,  -999.00,9,  -999.00,9,   2333.3,2,   7.7279,2,    25.00,   1.8319,20110305,2219
  29AH20110128,   A05,   122,  1,      3,2,20110305,2207, 26.2043, -71.1003, 5605,   4501.4,   2.3114,  34.8928,2,    265.9,2,    264.7,2,  -999.00,9,  -999.00,9,  -999.00,9,   2329.0,2,   7.7310,2,    25.00,   1.9097,20110305,2229
  29AH20110128,   A05,   122,  1,      4,2,20110305,2207, 26.2043, -71.1003, 5605,   4000.7,   2.3592,  34.9002,2,    267.8,2,    266.4,2,  -999.00,9,  -999.00,9,  -999.00,9,   2327.4,2,   7.7331,2,    25.00,   2.0147,20110305,2238
  29AH20110128,   A05,   122,  1,      5,2,20110305,2207, 26.2043, -71.1003, 5605,   3501.0,   2.5027,  34.9121,2,    267.4,2,    267.1,2,  -999.00,9,  -999.00,9,  -999.00,9,   2322.6,2,   7.7360,2,    25.00,   2.2100,20110305,2248
  29AH20110128,   A05,   122,  1,      6,2,20110305,2207, 26.2043, -71.1003, 5605,   2999.0,   2.8399,  34.9344,2,    263.6,2,    266.0,2,  -999.00,9,  -999.00,9,  -999.00,9,   -999.0,9,   7.7350,2,    25.00,   2.5927,20110305,2258
  29AH20110128,   A05,   122,  1,      7,2,20110305,2207, 26.2043, -71.1003, 5605,   2500.0,   3.1892,  34.9503,2,    262.5,2,    263.3,2,  -999.00,9,  -999.00,9,  -999.00,9,   2319.2,2,   7.7339,2,    25.00,   2.9857,20110305,2307
  29AH20110128,   A05,   122,  1,      8,2,20110305,2207, 26.2043, -71.1003, 5605,   2001.6,   3.6140,  34.9633,2,    262.4,2,    263.4,2,  -999.00,9,  -999.00,9,  -999.00,9,   2315.2,2,   7.7302,2,    25.00,   3.4520,20110305,2317
  29AH20110128,   A05,   122,  1,      9,2,20110305,2207, 26.2043, -71.1003, 5605,   1750.3,   3.8638,  34.9743,2,    260.0,2,    261.1,2,  -999.00,9,  -999.00,9,  -999.00,9,   2315.8,2,   7.7226,2,    25.00,   3.7221,20110305,2322
  29AH20110128,   A05,   122,  1,     10,2,20110305,2207, 26.2043, -71.1003, 5605,   1500.8,   4.2743,  35.0047,2,    252.4,2,    253.3,2,  -999.00,9,  -999.00,9,  -999.00,9,   2316.3,2,   7.7193,2,    25.00,   4.1508,20110305,2327
  29AH20110128,   A05,   122,  1,     11,2,20110305,2207, 26.2043, -71.1003, 5605,   1301.4,   4.6556,  35.0254,2,    243.8,2,    244.2,2,  -999.00,9,  -999.00,9,  -999.00,9,   2317.0,2,   7.7072,2,    25.00,   4.5466,20110305,2331
  29AH20110128,   A05,   122,  1,     12,2,20110305,2207, 26.2043, -71.1003, 5605,   1201.0,   5.0841,  35.0466,2,    233.8,2,    233.4,2,  -999.00,9,  -999.00,9,  -999.00,9,   2315.3,2,   7.7077,2,    25.00,   4.9805,20110305,2333
  29AH20110128,   A05,   122,  1,     13,2,20110305,2207, 26.2043, -71.1003, 5605,   1000.3,   6.4578,  35.0840,2,    193.3,2,    192.4,2,  -999.00,9,  -999.00,9,  -999.00,9,   2317.3,2,   7.6884,2,    25.00,   6.3626,20110305,2337
  29AH20110128,   A05,   122,  1,     14,2,20110305,2207, 26.2043, -71.1003, 5605,    899.9,   7.5183,  35.0919,2,    161.3,2,    159.1,2,  -999.00,9,  -999.00,9,  -999.00,9,   2319.3,2,   7.6646,2,    25.00,   7.4262,20110305,2339
  29AH20110128,   A05,   122,  1,     15,2,20110305,2207, 26.2043, -71.1003, 5605,    802.3,   8.6379,  35.1500,2,    143.8,2,    142.7,2,  -999.00,9,  -999.00,9,  -999.00,9,   2321.9,2,   7.6657,2,    25.00,   8.5496,20110305,2341
  29AH20110128,   A05,   122,  1,     16,2,20110305,2207, 26.2043, -71.1003, 5605,    601.2,  13.3331,  35.7402,2,    159.3,2,    159.2,2,  -999.00,9,  -999.00,9,  -999.00,9,   2346.4,2,   7.7995,2,    25.00,  13.2472,20110305,2345
  29AH20110128,   A05,   122,  1,     17,2,20110305,2207, 26.2043, -71.1003, 5605,    400.7,  17.3455,  36.4283,2,    193.6,2,    193.8,2,  -999.00,9,  -999.00,9,  -999.00,9,   2381.3,2,   7.9430,2,    25.00,  17.2774,20110305,2349
  29AH20110128,   A05,   122,  1,     18,2,20110305,2207, 26.2043, -71.1003, 5605,    298.2,  18.0615,  36.5495,2,    197.8,2,    197.8,2,  -999.00,9,  -999.00,9,  -999.00,9,   2392.3,2,   7.9631,2,    25.00,  18.0095,20110305,2351
  29AH20110128,   A05,   122,  1,     19,2,20110305,2207, 26.2043, -71.1003, 5605,    148.4,  19.7500,  36.6968,2,    195.0,2,    194.1,2,  -999.00,9,  -999.00,9,  -999.00,9,   2403.5,2,   7.9874,2,    25.00,  19.7226,20110305,2354
  29AH20110128,   A05,   122,  1,     20,2,20110305,2207, 26.2043, -71.1003, 5605,     74.3,  21.2025,  36.8254,2,    199.1,2,    202.3,2,  -999.00,9,  -999.00,9,  -999.00,9,   -999.0,9,   8.0247,2,    25.00,  21.1881,20110305,2356
  29AH20110128,   A05,   122,  1,     21,2,20110305,2207, 26.2043, -71.1003, 5605,     74.1,  21.2867,  36.8223,2,    204.3,2,    203.9,2,  -999.00,9,  -999.00,9,  -999.00,9,   2414.6,2,   8.0303,2,    25.00,  21.2723,20110305,2356
  29AH20110128,   A05,   122,  1,     22,2,20110305,2207, 26.2043, -71.1003, 5605,     51.3,  21.8970,  36.8336,2,    213.7,2,    212.4,2,  -999.00,9,  -999.00,9,  -999.00,9,   -999.0,9,   8.0565,2,    25.00,  21.8868,20110305,2357
  29AH20110128,   A05,   122,  1,     23,2,20110305,2207, 26.2043, -71.1003, 5605,     27.0,  22.3443,  36.8485,2,    215.7,2,    214.2,2,  -999.00,9,  -999.00,9,  -999.00,9,   -999.0,9,   8.0680,2,    25.00,  22.3389,20110305,2358
  29AH20110128,   A05,   122,  1,     24,2,20110305,2207, 26.2043, -71.1003, 5605,      4.7,  22.3343,  36.8489,2,    215.8,2,    214.3,2,  -999.00,9,  -999.00,9,  -999.00,9,   2413.4,2,   8.0682,2,    25.00,  22.3334,20110305,2359
  29AH20110128,   A05,   123,  1,      1,2,20110306,0421, 26.2037, -71.4887, 5583,   5572.6,   2.1872,  34.8632,2,    253.5,2,    251.7,2,    54.86,2,    23.65,3,     1.58,2,   -999.0,9,   7.7207,2,    25.00,   1.6546,20110306,0421
  29AH20110128,   A05,   123,  1,      2,2,20110306,0421, 26.2037, -71.4887, 5583,   4998.3,   2.2977,  34.8854,2,    262.6,2,    261.2,2,    40.53,2,    22.11,2,     1.39,2,   -999.0,9,   7.7322,2,    25.00,   1.8353,20110306,0432
  29AH20110128,   A05,   123,  1,      3,2,20110306,0421, 26.2037, -71.4887, 5583,   4497.6,   2.3146,  34.8929,2,    266.2,2,    263.9,2,    36.06,2,    21.48,2,     1.36,2,   -999.0,9,   7.7322,2,    25.00,   1.9132,20110306,0442
  29AH20110128,   A05,   123,  1,      4,2,20110306,0421, 26.2037, -71.4887, 5583,   4000.5,   2.3486,  34.8995,2,    267.4,2,    266.0,2,    26.67,3,  -999.00,9,     1.19,3,   -999.0,9,   7.7357,2,    25.00,   2.0045,20110306,0451
  29AH20110128,   A05,   123,  1,      5,2,20110306,0421, 26.2037, -71.4887, 5583,   3497.5,   2.4738,  34.9105,2,    268.0,2,    267.2,2,    29.21,2,    19.59,2,     1.30,2,   -999.0,9,   7.7352,2,    25.00,   2.1822,20110306,0501
  29AH20110128,   A05,   123,  1,      6,2,20110306,0421, 26.2037, -71.4887, 5583,   3000.8,   2.7588,  34.9279,2,    265.5,2,    266.1,2,    26.42,3,    20.60,2,     1.30,2,   -999.0,9,   7.7363,2,    25.00,   2.5132,20110306,0511
  29AH20110128,   A05,   123,  1,      7,2,20110306,0421, 26.2037, -71.4887, 5583,   2502.2,   3.1978,  34.9628,2,    257.5,2,    257.5,3,    25.51,3,    21.33,2,     1.29,2,   -999.0,9,   7.7366,2,    25.00,   2.9939,20110306,0521
  29AH20110128,   A05,   123,  1,      8,2,20110306,0421, 26.2037, -71.4887, 5583,   1999.0,   3.6553,  34.9750,2,    259.8,2,    260.5,2,    14.90,2,  -999.00,9,     1.13,3,   -999.0,9,   7.7321,2,    25.00,   3.4929,20110306,0531
  29AH20110128,   A05,   123,  1,      9,2,20110306,0421, 26.2037, -71.4887, 5583,   1751.9,   3.8338,  34.9720,2,    260.5,2,    260.6,2,    14.60,2,    18.73,2,     1.29,2,   -999.0,9,   7.7196,2,    25.00,   3.6923,20110306,0536
  29AH20110128,   A05,   123,  1,     10,2,20110306,0421, 26.2037, -71.4887, 5583,   1501.0,   4.3233,  35.0131,2,    251.2,2,    252.1,2,    10.18,3,  -999.00,9,     1.11,3,   -999.0,9,   7.7222,2,    25.00,   4.1992,20110306,0541
  29AH20110128,   A05,   123,  1,     11,2,20110306,0421, 26.2037, -71.4887, 5583,   1302.1,   4.7418,  35.0332,2,    242.9,2,    242.4,2,    11.47,2,  -999.00,9,     1.25,2,   -999.0,9,   7.7139,2,    25.00,   4.6319,20110306,0545
  29AH20110128,   A05,   123,  1,     12,2,20110306,0421, 26.2037, -71.4887, 5583,   1201.8,   5.1713,  35.0591,2,    231.8,2,    230.6,2,    13.86,2,    19.12,2,     1.28,2,   -999.0,9,   7.7152,2,    25.00,   5.0668,20110306,0547
  29AH20110128,   A05,   123,  1,     13,2,20110306,0421, 26.2037, -71.4887, 5583,    999.5,   6.4688,  35.0836,2,    191.4,2,    191.5,2,    16.69,2,    22.33,2,     1.54,2,   -999.0,9,   7.6908,2,    25.00,   6.3736,20110306,0552
  29AH20110128,   A05,   123,  1,     14,2,20110306,0421, 26.2037, -71.4887, 5583,    902.5,   7.4238,  35.0912,2,    163.4,2,    162.0,2,    19.56,2,  -999.00,9,  -999.00,9,   -999.0,9,   7.6750,2,    25.00,   7.3320,20110306,0554
  29AH20110128,   A05,   123,  1,     15,2,20110306,0421, 26.2037, -71.4887, 5583,    800.6,   8.7389,  35.1597,2,    142.5,2,    141.1,2,    18.06,2,  -999.00,9,     1.76,2,   -999.0,9,   7.6658,2,    25.00,   8.6502,20110306,0556
  29AH20110128,   A05,   123,  1,     16,2,20110306,0421, 26.2037, -71.4887, 5583,    600.8,  13.1622,  35.7132,2,    157.0,2,    156.2,2,     4.81,3,  -999.00,9,     0.90,2,   -999.0,9,   7.7906,2,    25.00,  13.0771,20110306,0600
  29AH20110128,   A05,   123,  1,     17,2,20110306,0421, 26.2037, -71.4887, 5583,    400.8,  17.2387,  36.4097,2,    190.0,2,    190.4,2,     1.68,2,     5.02,2,     0.38,2,   -999.0,9,   7.9027,2,    25.00,  17.1709,20110306,0604
  29AH20110128,   A05,   123,  1,     18,2,20110306,0421, 26.2037, -71.4887, 5583,    299.2,  17.9380,  36.5271,2,    193.0,2,    192.3,2,     1.91,2,     5.19,2,     0.27,2,   -999.0,9,   7.9596,2,    25.00,  17.8861,20110306,0606
  29AH20110128,   A05,   123,  1,     19,2,20110306,0421, 26.2037, -71.4887, 5583,    149.3,  19.1884,  36.6659,2,    191.5,2,    190.3,2,     1.07,2,     2.51,2,     0.13,2,   -999.0,9,   7.9759,2,    25.00,  19.1613,20110306,0609
  29AH20110128,   A05,   123,  1,     20,2,20110306,0421, 26.2037, -71.4887, 5583,    124.4,  19.5412,  36.7070,2,    189.0,2,    192.4,2,     0.61,2,     1.40,2,     0.11,2,   -999.0,9,   7.9892,2,    25.00,  19.5184,20110306,0610
  29AH20110128,   A05,   123,  1,     21,2,20110306,0421, 26.2037, -71.4887, 5583,     74.0,  21.0029,  36.8006,2,    213.2,2,    205.4,3,  -999.00,9,  -999.00,9,  -999.00,9,   -999.0,9,   8.0330,2,    25.00,  20.9886,20110306,0614
  29AH20110128,   A05,   123,  1,     22,2,20110306,0421, 26.2037, -71.4887, 5583,     51.7,  21.4767,  36.8288,2,    217.8,2,    216.4,2,     0.55,2,     0.04,2,     0.04,2,   -999.0,9,   8.0523,2,    25.00,  21.4666,20110306,0614
  29AH20110128,   A05,   123,  1,     23,2,20110306,0421, 26.2037, -71.4887, 5583,     25.6,  22.6561,  36.8550,2,    214.7,2,    211.6,2,     0.16,2,     0.01,2,     0.03,2,   -999.0,9,   8.0719,2,    25.00,  22.6509,20110306,0615
  29AH20110128,   A05,   123,  1,     24,2,20110306,0421, 26.2037, -71.4887, 5583,      4.9,  22.6663,  36.8591,2,    214.6,2,    213.4,2,     0.66,2,     0.02,2,     0.05,2,   -999.0,9,   8.0805,2,    25.00,  22.6653,20110306,0616
  29AH20110128,   A05,   124,  1,      1,2,20110306,1032, 26.2033, -71.8770, 5478,   5468.2,   2.1699,  34.8626,2,    253.1,2,    251.8,2,    50.72,2,    20.91,2,     1.53,2,   2344.2,2,   7.7163,2,    25.00,   1.6517,20110306,1032
  29AH20110128,   A05,   124,  1,      2,2,20110306,1032, 26.2033, -71.8770, 5478,   4997.3,   2.2831,  34.8838,2,    261.4,2,    260.3,2,  -999.00,9,  -999.00,9,  -999.00,9,   2334.8,2,   7.7243,2,    25.00,   1.8213,20110306,1041
  29AH20110128,   A05,   124,  1,      3,2,20110306,1032, 26.2033, -71.8770, 5478,   4498.0,   2.2915,  34.8910,2,    265.8,2,    265.4,2,    34.74,2,    19.23,2,     1.35,2,   2333.4,2,   7.7273,2,    25.00,   1.8908,20110306,1051
  29AH20110128,   A05,   124,  1,      4,2,20110306,1032, 26.2033, -71.8770, 5478,   3999.2,   2.3219,  34.8974,2,    267.9,2,    266.9,2,    31.19,2,    18.53,2,     1.31,2,   -999.0,9,   7.7250,2,    25.00,   1.9787,20110306,1100
  29AH20110128,   A05,   124,  1,      5,2,20110306,1032, 26.2033, -71.8770, 5478,   3500.7,   2.4622,  34.9091,2,    268.5,2,    268.1,2,    24.09,3,  -999.00,9,     1.22,2,   2322.2,2,   7.7277,2,    25.00,   2.1706,20110306,1110
  29AH20110128,   A05,   124,  1,      6,2,20110306,1032, 26.2033, -71.8770, 5478,   3001.1,   2.7665,  34.9282,2,    265.6,2,    265.4,2,    22.58,2,    17.60,2,     1.28,2,   2320.4,2,   7.7314,2,    25.00,   2.5207,20110306,1120
  29AH20110128,   A05,   124,  1,      7,2,20110306,1032, 26.2033, -71.8770, 5478,   2500.9,   3.1099,  34.9488,2,    262.4,2,    263.6,2,    22.08,2,    18.45,2,     1.30,2,   2319.0,2,   7.7300,2,    25.00,   2.9078,20110306,1130
  29AH20110128,   A05,   124,  1,      8,2,20110306,1032, 26.2033, -71.8770, 5478,   1999.3,   3.5090,  34.9647,2,    261.5,2,    262.4,2,    17.11,2,    18.24,2,     1.26,2,   2315.3,2,   7.7265,2,    25.00,   3.3488,20110306,1139
  29AH20110128,   A05,   124,  1,      9,2,20110306,1032, 26.2033, -71.8770, 5478,   1750.2,   3.8048,  34.9757,2,    259.9,2,    260.8,2,    14.08,2,  -999.00,9,     1.22,2,   2314.2,2,   7.7239,2,    25.00,   3.6639,20110306,1144
  29AH20110128,   A05,   124,  1,     10,2,20110306,1032, 26.2033, -71.8770, 5478,   1501.0,   4.1774,  34.9956,2,    254.9,2,    255.3,2,    14.24,2,    17.93,2,     1.23,2,   2314.1,2,   7.7214,2,    25.00,   4.0550,20110306,1150
  29AH20110128,   A05,   124,  1,     11,2,20110306,1032, 26.2033, -71.8770, 5478,   1301.4,   4.7133,  35.0338,2,    243.1,2,    243.1,2,    14.04,2,    18.91,2,     1.30,2,   2315.3,2,   7.7182,2,    25.00,   4.6037,20110306,1154
  29AH20110128,   A05,   124,  1,     12,2,20110306,1032, 26.2033, -71.8770, 5478,   1199.2,   5.0237,  35.0469,2,    236.0,2,    235.0,2,    13.65,2,    19.28,2,     1.32,2,   -999.0,9,   7.7076,2,    25.00,   4.9208,20110306,1156
  29AH20110128,   A05,   124,  1,     13,2,20110306,1032, 26.2033, -71.8770, 5478,   1000.2,   6.3912,  35.0835,2,    194.7,2,    194.8,2,    15.95,2,    22.45,2,     1.52,2,   2319.8,2,   7.6793,2,    25.00,   6.2965,20110306,1200
  29AH20110128,   A05,   124,  1,     14,2,20110306,1032, 26.2033, -71.8770, 5478,    899.6,   7.4793,  35.1137,2,    170.0,2,    169.3,2,    15.95,2,    23.79,2,     1.59,2,   2320.3,2,   7.6713,2,    25.00,   7.3874,20110306,1202
  29AH20110128,   A05,   124,  1,     15,2,20110306,1032, 26.2033, -71.8770, 5478,    800.2,   9.2170,  35.2369,2,    151.6,2,    149.9,2,    14.12,2,  -999.00,9,     1.57,2,   2325.6,2,   7.6828,2,    25.00,   9.1255,20110306,1204
  29AH20110128,   A05,   124,  1,     16,2,20110306,1032, 26.2033, -71.8770, 5478,    601.1,  13.3365,  35.7404,2,    158.1,2,    158.4,2,     7.86,2,  -999.00,9,  -999.00,9,   2347.2,2,   7.7995,2,    25.00,  13.2506,20110306,1208
  29AH20110128,   A05,   124,  1,     17,2,20110306,1032, 26.2033, -71.8770, 5478,    401.6,  17.3452,  36.4262,2,    191.0,2,    190.5,2,     1.74,2,     4.99,2,     0.34,2,   2385.5,2,   7.9291,2,    25.00,  17.2770,20110306,1212
  29AH20110128,   A05,   124,  1,     18,2,20110306,1032, 26.2033, -71.8770, 5478,    299.8,  18.0018,  36.5399,2,    195.7,2,    195.1,2,     1.15,2,     3.61,2,     0.24,2,   -999.0,9,   7.9517,2,    25.00,  17.9497,20110306,1215
  29AH20110128,   A05,   124,  1,     19,2,20110306,1032, 26.2033, -71.8770, 5478,    151.2,  19.3861,  36.6700,2,    192.5,2,    191.6,2,     0.79,2,     2.08,2,     0.10,2,   -999.0,9,   7.9900,2,    25.00,  19.3585,20110306,1218
  29AH20110128,   A05,   124,  1,     20,2,20110306,1032, 26.2033, -71.8770, 5478,    120.3,  20.5061,  36.7679,2,    206.4,2,    203.8,2,     0.45,2,     0.40,2,     0.05,2,   -999.0,9,   8.0283,2,    25.00,  20.4833,20110306,1219
  29AH20110128,   A05,   124,  1,     21,2,20110306,1032, 26.2033, -71.8770, 5478,     74.8,  21.6097,  36.8631,2,    218.2,2,    217.2,2,     0.40,2,     0.09,2,     0.04,2,   2386.2,3,   8.0458,2,    25.00,  21.5950,20110306,1220
  29AH20110128,   A05,   124,  1,     22,2,20110306,1032, 26.2033, -71.8770, 5478,     40.6,  21.6217,  36.8655,2,    218.4,2,    217.1,2,     0.46,2,     0.10,2,     0.04,2,   -999.0,9,   8.0497,2,    25.00,  21.6137,20110306,1221
  29AH20110128,   A05,   124,  1,     23,2,20110306,1032, 26.2033, -71.8770, 5478,     23.9,  21.6191,  36.8654,2,    218.4,2,    218.7,2,     0.63,2,     0.11,2,     0.05,2,   -999.0,9,   8.0497,2,    25.00,  21.6144,20110306,1221
  29AH20110128,   A05,   124,  1,     24,2,20110306,1032, 26.2033, -71.8770, 5478,      4.2,  21.6159,  36.8653,2,    218.5,2,    216.4,2,     0.66,2,     0.13,2,     0.05,2,   2400.1,3,   8.0501,2,    25.00,  21.6151,20110306,1222