BOTTLE,20220930CCHSIOAMB
EXPOCODE,SECT_ID,STNNBR,CASTNO,BTLNBR,BTLNBR_FLAG_W,DATE,TIME,LATITUDE,LONGITUDE,DEPTH,CTDPRS,CTDTMP,CTDSAL,CTDSAL_FLAG_W,CTDOXY,CTDOXY_FLAG_W,OXYGEN,OXYGEN_FLAG_W,SILCAT,SILCAT_FLAG_W,NITRAT,NITRAT_FLAG_W,PHSPHT,PHSPHT_FLAG_W,ALKALI,ALKALI_FLAG_W,PH_SWS,PH_SWS_FLAG_W,PH_TMP,THETA,BTL_DATE,BTL_TIME
,,,,,,,,,,METERS,DBAR,ITS-90,PSS-78,,UMOL/KG,,UMOL/KG,,UMOL/KG,,UMOL/KG,,UMOL/KG,,UMOL/KG,,,,DEG C,DEG C,,
  29AH20110128,   A05,   119,  1,      1,2,20110304,2349, 25.7488, -70.0042, 5573,   5562.8,   2.0768,  34.8501,2,    250.1,2,    249.9,2,  -999.00,9,    23.48,2,     1.64,2,   -999.0,9,   7.7081,2,    25.00,   1.5496,20110304,2349
  29AH20110128,   A05,   119,  1,      2,2,20110304,2349, 25.7488, -70.0042, 5573,   4998.8,   2.1049,  34.8634,2,    253.4,2,    254.0,2,  -999.00,9,    22.34,2,     1.57,2,   -999.0,9,   7.7138,2,    25.00,   1.6490,20110304,0000
  29AH20110128,   A05,   119,  1,      3,2,20110304,2349, 25.7488, -70.0042, 5573,   4497.6,   2.2536,  34.8879,2,    263.8,2,    263.1,2,    38.00,2,    19.99,2,     1.39,2,   -999.0,9,   7.7251,2,    25.00,   1.8542,20110304,0009
  29AH20110128,   A05,   119,  1,      4,2,20110304,2349, 25.7488, -70.0042, 5573,   4001.5,   2.2916,  34.8958,2,    266.8,2,    266.8,2,    32.92,2,    18.00,2,     1.31,2,   -999.0,9,   7.7263,2,    25.00,   1.9489,20110304,0019
  29AH20110128,   A05,   119,  1,      5,2,20110304,2349, 25.7488, -70.0042, 5573,   3499.8,   2.3848,  34.9059,2,    267.7,2,    269.5,2,    26.70,2,  -999.00,9,     1.22,2,   -999.0,9,   7.7280,2,    25.00,   2.0952,20110304,0028
  29AH20110128,   A05,   119,  1,      6,2,20110304,2349, 25.7488, -70.0042, 5573,   2998.5,   2.6199,  34.9215,2,    266.0,2,    268.0,2,    26.85,2,    18.76,2,     1.28,2,   -999.0,9,   7.7285,2,    25.00,   2.3775,20110304,0038
  29AH20110128,   A05,   119,  1,      7,2,20110304,2349, 25.7488, -70.0042, 5573,   2502.4,   2.9954,  34.9456,2,    261.6,2,    263.1,2,    23.61,2,    18.87,2,     1.30,2,   -999.0,9,   7.7311,2,    25.00,   2.7953,20110304,0048
  29AH20110128,   A05,   119,  1,      8,2,20110304,2349, 25.7488, -70.0042, 5573,   2002.5,   3.4554,  34.9674,2,    260.4,2,    262.3,2,    18.74,2,    17.47,2,     1.25,2,   -999.0,9,   7.7298,2,    25.00,   3.2957,20110304,0057
  29AH20110128,   A05,   119,  1,      9,2,20110304,2349, 25.7488, -70.0042, 5573,   1750.1,   3.7194,  34.9735,2,    260.4,2,    263.4,2,    16.76,2,    18.37,2,     1.25,2,   -999.0,9,   7.7242,2,    25.00,   3.5796,20110304,0102
  29AH20110128,   A05,   119,  1,     10,2,20110304,2349, 25.7488, -70.0042, 5573,   1495.4,   4.1794,  35.0012,2,    254.8,2,    256.8,2,    15.38,2,    18.79,2,     1.28,2,   -999.0,9,   7.7185,2,    25.00,   4.0575,20110304,0108
  29AH20110128,   A05,   119,  1,     11,2,20110304,2349, 25.7488, -70.0042, 5573,   1302.8,   4.7064,  35.0461,2,    243.7,2,    245.7,2,    14.39,2,    16.96,3,     1.24,2,   -999.0,9,   7.7158,2,    25.00,   4.5968,20110304,0112
  29AH20110128,   A05,   119,  1,     12,2,20110304,2349, 25.7488, -70.0042, 5573,   1199.3,   5.0584,  35.0569,2,    236.0,2,    236.1,2,    14.98,2,    18.92,2,     1.30,2,   -999.0,9,   7.7100,2,    25.00,   4.9552,20110304,0114
  29AH20110128,   A05,   119,  1,     13,2,20110304,2349, 25.7488, -70.0042, 5573,   1000.0,   6.2216,  35.0900,2,    200.9,2,    201.0,2,    15.59,2,    19.26,2,     1.41,2,   -999.0,9,   7.6907,2,    25.00,   6.1282,20110304,0118
  29AH20110128,   A05,   119,  1,     14,2,20110304,2349, 25.7488, -70.0042, 5573,    902.7,   7.0464,  35.0948,2,    178.2,2,    177.0,2,    17.64,2,    23.44,2,     1.57,2,   -999.0,9,   7.6733,2,    25.00,   6.9571,20110304,0120
  29AH20110128,   A05,   119,  1,     15,2,20110304,2349, 25.7488, -70.0042, 5573,    802.0,   8.3471,  35.1473,2,    153.2,2,    151.7,2,    17.91,2,  -999.00,9,     1.66,2,   -999.0,9,   7.6678,2,    25.00,   8.2606,20110304,0122
  29AH20110128,   A05,   119,  1,     16,2,20110304,2349, 25.7488, -70.0042, 5573,    600.7,  12.8786,  35.6732,2,    154.6,2,    155.8,2,     9.70,2,  -999.00,9,  -999.00,9,   -999.0,9,   7.7744,2,    25.00,  12.7947,20110304,0126
  29AH20110128,   A05,   119,  1,     17,2,20110304,2349, 25.7488, -70.0042, 5573,    402.3,  16.5285,  36.2745,2,    176.4,2,    177.8,2,     4.35,2,  -999.00,9,     0.54,2,   -999.0,9,   7.8941,2,    25.00,  16.4624,20110304,0130
  29AH20110128,   A05,   119,  1,     18,2,20110304,2349, 25.7488, -70.0042, 5573,    298.9,  17.7882,  36.4918,2,    183.5,2,    184.0,2,     3.32,2,  -999.00,9,     0.36,2,   -999.0,9,   7.9303,2,    25.00,  17.7367,20110304,0132
  29AH20110128,   A05,   119,  1,     19,2,20110304,2349, 25.7488, -70.0042, 5573,    150.2,  19.8668,  36.7481,2,    182.0,2,    182.2,2,     2.20,2,     2.36,2,     0.13,2,   -999.0,9,   7.9649,2,    25.00,  19.8389,20110304,0135
  29AH20110128,   A05,   119,  1,     20,2,20110304,2349, 25.7488, -70.0042, 5573,    122.8,  20.5045,  36.7772,2,    194.1,2,    193.9,2,     1.94,2,     0.91,2,     0.08,2,   -999.0,9,   7.9952,2,    25.00,  20.4812,20110304,0136
  29AH20110128,   A05,   119,  1,     21,2,20110304,2349, 25.7488, -70.0042, 5573,     74.0,  21.3599,  36.8208,2,    209.9,2,    203.6,2,  -999.00,9,  -999.00,9,  -999.00,9,   -999.0,9,   8.0305,2,    25.00,  21.3455,20110304,0137
  29AH20110128,   A05,   119,  1,     22,2,20110304,2349, 25.7488, -70.0042, 5573,     52.0,  21.6752,  36.8294,2,    211.7,2,    211.5,2,     1.88,2,     0.01,2,     0.05,2,   -999.0,9,   8.0465,2,    25.00,  21.6649,20110304,0138
  29AH20110128,   A05,   119,  1,     23,2,20110304,2349, 25.7488, -70.0042, 5573,     27.1,  22.3569,  36.8610,2,    215.2,2,    214.8,2,     2.09,2,     0.02,2,     0.06,2,   -999.0,9,   8.0574,2,    25.00,  22.3514,20110304,0139
  29AH20110128,   A05,   119,  1,     24,2,20110304,2349, 25.7488, -70.0042, 5573,      3.1,  22.3672,  36.8625,2,    215.4,2,    215.4,2,     1.95,2,     0.05,2,     0.06,2,   -999.0,9,   8.0567,2,    25.00,  22.3666,20110304,0140
  29AH20110128,   A05,   120,  1,      1,2,20110305,0916, 26.2038, -70.3220, 5608,   5598.3,   2.1188,  34.8541,2,    250.7,2,    249.2,2,  -999.00,9,    22.57,3,     1.61,2,   2351.1,2,   7.7198,2,    25.00,   1.5854,20110305,0916
  29AH20110128,   A05,   120,  1,      2,2,20110305,0916, 26.2038, -70.3220, 5608,   5001.1,   2.2880,  34.8837,2,    261.7,2,    261.4,2,    41.81,2,    19.86,2,     1.39,2,   2346.0,2,   7.7317,2,    25.00,   1.8255,20110305,0928
  29AH20110128,   A05,   120,  1,      3,2,20110305,0916, 26.2038, -70.3220, 5608,   4501.3,   2.3177,  34.8927,2,    266.3,2,    265.2,2,    34.59,2,    17.60,2,     1.31,2,   2343.5,2,   7.7350,2,    25.00,   1.9158,20110305,0937
  29AH20110128,   A05,   120,  1,      4,2,20110305,0916, 26.2038, -70.3220, 5608,   3999.7,   2.3312,  34.8979,2,    268.0,2,    265.8,2,    33.22,2,    18.43,2,     1.29,2,   2333.2,2,   7.7359,2,    25.00,   1.9876,20110305,0947
  29AH20110128,   A05,   120,  1,      5,2,20110305,0916, 26.2038, -70.3220, 5608,   3500.5,   2.4304,  34.9071,2,    268.2,2,    268.2,2,    27.60,2,  -999.00,9,     1.22,2,   2329.9,2,   7.7368,2,    25.00,   2.1396,20110305,0957
  29AH20110128,   A05,   120,  1,      6,2,20110305,0916, 26.2038, -70.3220, 5608,   2997.6,   2.6341,  34.9218,2,    266.3,2,    266.4,2,    27.14,2,    18.32,2,     1.26,2,   2327.8,2,   7.7381,2,    25.00,   2.3915,20110305,1006
  29AH20110128,   A05,   120,  1,      7,2,20110305,0916, 26.2038, -70.3220, 5608,   2500.1,   3.2018,  34.9557,2,    261.0,2,    261.0,2,    22.83,2,    17.53,2,     1.24,2,   2328.9,2,   7.7397,2,    25.00,   2.9981,20110305,1016
  29AH20110128,   A05,   120,  1,      8,2,20110305,0916, 26.2038, -70.3220, 5608,   2002.3,   3.5529,  34.9656,2,    261.5,2,    261.8,2,    18.81,2,    17.79,2,     1.24,2,   2323.2,2,   7.7347,2,    25.00,   3.3918,20110305,1026
  29AH20110128,   A05,   120,  1,      9,2,20110305,0916, 26.2038, -70.3220, 5608,   1748.5,   3.7899,  34.9741,2,    260.4,2,    260.3,2,    16.36,2,    17.41,2,     1.24,2,   -999.0,9,   7.7343,2,    25.00,   3.6493,20110305,1032
  29AH20110128,   A05,   120,  1,     10,2,20110305,0916, 26.2038, -70.3220, 5608,   1498.7,   4.1685,  34.9988,2,    254.7,2,    254.2,2,    14.64,2,    16.98,2,     1.24,2,   2316.0,2,   7.7277,2,    25.00,   4.0464,20110305,1037
  29AH20110128,   A05,   120,  1,     11,2,20110305,0916, 26.2038, -70.3220, 5608,   1298.7,   4.6642,  35.0331,2,    245.7,2,    245.1,2,    14.83,2,    18.83,2,     1.27,2,   2317.7,2,   7.7230,2,    25.00,   4.5554,20110305,1041
  29AH20110128,   A05,   120,  1,     12,2,20110305,0916, 26.2038, -70.3220, 5608,   1199.3,   5.2243,  35.0920,2,    230.0,2,    228.5,2,    16.24,2,    19.58,2,     1.31,2,   2321.3,2,   7.7237,2,    25.00,   5.1195,20110305,1043
  29AH20110128,   A05,   120,  1,     13,2,20110305,0916, 26.2038, -70.3220, 5608,   1001.2,   6.1771,  35.0913,2,    203.1,2,    202.3,2,    16.59,2,    20.30,2,     1.43,2,   2321.5,2,   7.6995,2,    25.00,   6.0839,20110305,1047
  29AH20110128,   A05,   120,  1,     14,2,20110305,0916, 26.2038, -70.3220, 5608,    900.3,   7.1084,  35.1075,2,    177.6,2,    176.3,2,    18.55,2,    23.14,2,     1.54,2,   2322.0,2,   7.6848,2,    25.00,   7.0189,20110305,1049
  29AH20110128,   A05,   120,  1,     15,2,20110305,0916, 26.2038, -70.3220, 5608,    802.3,   8.6801,  35.2025,2,    157.7,2,    160.0,2,    16.47,2,  -999.00,9,     1.51,2,   2327.9,2,   7.6904,2,    25.00,   8.5915,20110305,1051
  29AH20110128,   A05,   120,  1,     16,2,20110305,0916, 26.2038, -70.3220, 5608,    600.8,  13.3145,  35.7344,2,    157.9,2,    159.2,2,     9.26,2,  -999.00,9,     1.01,2,   2352.8,2,   7.7960,2,    25.00,  13.2287,20110305,1056
  29AH20110128,   A05,   120,  1,     17,2,20110305,0916, 26.2038, -70.3220, 5608,    401.6,  16.9572,  36.3457,2,    176.9,2,    177.8,2,     4.26,2,     8.27,2,     0.46,2,   2384.3,2,   7.9130,2,    25.00,  16.8901,20110305,1100
  29AH20110128,   A05,   120,  1,     18,2,20110305,0916, 26.2038, -70.3220, 5608,    301.0,  18.1303,  36.5493,2,    188.3,2,    188.3,2,     3.02,2,     5.22,2,     0.26,2,   2395.1,2,   7.9545,2,    25.00,  18.0777,20110305,1102
  29AH20110128,   A05,   120,  1,     19,2,20110305,0916, 26.2038, -70.3220, 5608,    139.6,  20.5522,  36.7580,2,    200.7,2,    201.0,2,     1.89,2,     0.81,2,     0.04,2,   2404.3,2,   8.0244,2,    25.00,  20.5256,20110305,1105
  29AH20110128,   A05,   120,  1,     20,2,20110305,0916, 26.2038, -70.3220, 5608,    125.3,  21.0380,  36.7964,2,    208.5,2,    207.3,2,     1.73,2,     0.31,2,     0.03,2,   -999.0,9,   8.0434,2,    25.00,  21.0138,20110305,1106
  29AH20110128,   A05,   120,  1,     21,2,20110305,0916, 26.2038, -70.3220, 5608,     77.1,  21.8597,  36.8599,2,    218.0,2,    216.6,2,     1.97,2,     0.18,2,     0.03,2,   2416.0,2,   8.0648,2,    25.00,  21.8444,20110305,1107
  29AH20110128,   A05,   120,  1,     22,2,20110305,0916, 26.2038, -70.3220, 5608,     50.8,  22.5387,  36.8337,2,    215.4,2,    214.1,2,     2.04,2,     0.20,2,     0.04,2,   -999.0,9,   8.0741,2,    25.00,  22.5284,20110305,1108
  29AH20110128,   A05,   120,  1,     23,2,20110305,0916, 26.2038, -70.3220, 5608,     26.1,  22.5854,  36.8353,2,    214.9,2,    213.4,2,     2.10,2,     0.22,2,     0.04,2,   -999.0,9,   8.0738,2,    25.00,  22.5801,20110305,1109
  29AH20110128,   A05,   120,  1,     24,2,20110305,0916, 26.2038, -70.3220, 5608,      2.9,  22.5771,  36.8355,2,    215.6,2,    214.6,2,     2.11,2,     0.23,2,     0.04,2,   2414.7,2,   8.0729,2,    25.00,  22.5765,20110305,1111
  29AH20110128,   A05,   121,  1,      1,2,20110305,1554, 26.2043, -70.7092, 5607,   5597.5,   2.1193,  34.8545,2,    250.4,2,    251.8,2,  -999.00,9,    24.04,3,  -999.00,9,   -999.0,9,   7.7181,2,    25.00,   1.5860,20110305,1554
  29AH20110128,   A05,   121,  1,      2,2,20110305,1554, 26.2043, -70.7092, 5607,   4999.3,   2.2984,  34.8854,2,    262.5,2,    264.1,2,    48.88,2,    22.24,2,     1.47,2,   -999.0,9,   7.7309,2,    25.00,   1.8358,20110305,1606
  29AH20110128,   A05,   121,  1,      3,2,20110305,1554, 26.2043, -70.7092, 5607,   4501.2,   2.2978,  34.8913,2,    265.8,2,    266.4,2,    38.27,2,    21.79,2,     1.41,2,   -999.0,9,   7.7403,2,    25.00,   1.8965,20110305,1616
  29AH20110128,   A05,   121,  1,      4,2,20110305,1554, 26.2043, -70.7092, 5607,   4001.1,   2.3221,  34.8977,2,    267.4,2,    268.6,2,    35.78,3,  -999.00,9,     1.18,3,   -999.0,9,   7.7359,2,    25.00,   1.9786,20110305,1626
  29AH20110128,   A05,   121,  1,      5,2,20110305,1554, 26.2043, -70.7092, 5607,   3500.2,   2.4469,  34.9081,2,    268.1,2,    270.1,2,    30.34,2,    19.54,2,     1.33,2,   -999.0,9,   7.7377,2,    25.00,   2.1557,20110305,1635
  29AH20110128,   A05,   121,  1,      6,2,20110305,1554, 26.2043, -70.7092, 5607,   2998.1,   2.7490,  34.9283,2,    265.2,2,    265.1,2,    22.82,2,  -999.00,9,     1.19,2,   -999.0,9,   7.7416,2,    25.00,   2.5039,20110305,1646
  29AH20110128,   A05,   121,  1,      7,2,20110305,1554, 26.2043, -70.7092, 5607,   2502.0,   3.1469,  34.9514,2,    261.7,2,    263.1,2,    16.93,3,  -999.00,9,     1.11,3,   -999.0,9,   7.7391,2,    25.00,   2.9440,20110305,1656
  29AH20110128,   A05,   121,  1,      8,2,20110305,1554, 26.2043, -70.7092, 5607,   1998.3,   3.5706,  34.9635,2,    262.2,2,    264.0,2,    18.63,2,    18.99,2,     1.26,2,   -999.0,9,   7.7326,2,    25.00,   3.4096,20110305,1705
  29AH20110128,   A05,   121,  1,      9,2,20110305,1554, 26.2043, -70.7092, 5607,   1752.0,   3.8175,  34.9734,2,    260.1,2,    263.5,2,    18.30,2,    20.73,2,     1.33,2,   -999.0,9,   7.7283,2,    25.00,   3.6762,20110305,1710
  29AH20110128,   A05,   121,  1,     10,2,20110305,1554, 26.2043, -70.7092, 5607,   1501.6,   4.1826,  34.9948,2,    254.6,2,    258.3,2,    12.56,2,  -999.00,9,     1.19,2,   -999.0,9,   7.7173,2,    25.00,   4.0601,20110305,1715
  29AH20110128,   A05,   121,  1,     11,2,20110305,1554, 26.2043, -70.7092, 5607,   1299.6,   4.6081,  35.0217,2,    245.6,2,    246.5,2,    13.30,2,    17.62,2,     1.28,2,   -999.0,9,   7.7204,2,    25.00,   4.4998,20110305,1719
  29AH20110128,   A05,   121,  1,     12,2,20110305,1554, 26.2043, -70.7092, 5607,   1198.9,   4.8982,  35.0322,2,    239.4,2,    241.2,2,  -999.00,9,  -999.00,9,  -999.00,9,   -999.0,9,   7.7164,2,    25.00,   4.7965,20110305,1722
  29AH20110128,   A05,   121,  1,     13,2,20110305,1554, 26.2043, -70.7092, 5607,   1000.0,   6.0961,  35.0667,2,    197.4,2,    198.3,2,    15.54,2,    19.13,3,     1.48,2,   -999.0,9,   7.6904,2,    25.00,   6.0036,20110305,1726
  29AH20110128,   A05,   121,  1,     14,2,20110305,1554, 26.2043, -70.7092, 5607,    902.2,   7.1515,  35.0814,2,    169.2,2,    169.3,2,    19.94,2,    26.43,3,     1.66,2,   -999.0,9,   7.6734,2,    25.00,   7.0616,20110305,1728
  29AH20110128,   A05,   121,  1,     15,2,20110305,1554, 26.2043, -70.7092, 5607,    801.3,   8.3638,  35.1284,2,    144.6,2,    145.0,2,    14.17,2,  -999.00,9,  -999.00,9,   -999.0,9,   7.6657,2,    25.00,   8.2773,20110305,1730
  29AH20110128,   A05,   121,  1,     16,2,20110305,1554, 26.2043, -70.7092, 5607,    600.7,  13.0351,  35.7000,2,    158.4,2,    159.6,2,    10.08,2,  -999.00,9,  -999.00,9,   -999.0,9,   7.7958,2,    25.00,  12.9505,20110305,1735
  29AH20110128,   A05,   121,  1,     17,2,20110305,1554, 26.2043, -70.7092, 5607,    399.4,  17.3815,  36.4399,2,    195.6,2,    197.1,2,     2.40,2,     3.31,2,     0.25,2,   -999.0,9,   7.9551,2,    25.00,  17.3136,20110305,1739
  29AH20110128,   A05,   121,  1,     18,2,20110305,1554, 26.2043, -70.7092, 5607,    300.2,  18.0859,  36.5564,2,    200.1,2,    201.0,2,     3.02,2,     4.70,2,     0.24,2,   -999.0,9,   7.9779,2,    25.00,  18.0335,20110305,1741
  29AH20110128,   A05,   121,  1,     19,2,20110305,1554, 26.2043, -70.7092, 5607,    150.1,  19.3761,  36.6670,2,    194.2,2,    196.1,2,     2.34,2,     2.09,2,     0.10,2,   -999.0,9,   7.9887,2,    25.00,  19.3487,20110305,1744
  29AH20110128,   A05,   121,  1,     20,2,20110305,1554, 26.2043, -70.7092, 5607,    124.6,  20.1356,  36.7319,2,    198.8,2,    199.4,2,     2.15,2,     1.13,2,     0.08,2,   -999.0,9,   7.9979,2,    25.00,  20.1123,20110305,1745
  29AH20110128,   A05,   121,  1,     21,2,20110305,1554, 26.2043, -70.7092, 5607,     75.3,  21.2327,  36.8104,2,    213.6,2,    214.7,2,     2.08,2,     0.11,2,     0.03,2,   -999.0,9,   8.0429,2,    25.00,  21.2181,20110305,1747
  29AH20110128,   A05,   121,  1,     22,2,20110305,1554, 26.2043, -70.7092, 5607,     50.6,  21.6672,  36.8487,2,    218.3,2,    219.4,2,     2.07,2,     0.21,2,     0.05,2,   -999.0,9,   8.0621,2,    25.00,  21.6572,20110305,1747
  29AH20110128,   A05,   121,  1,     23,2,20110305,1554, 26.2043, -70.7092, 5607,     24.8,  21.6887,  36.8517,2,    218.8,2,    219.9,2,     2.06,2,     0.14,2,     0.06,2,   -999.0,9,   8.0592,2,    25.00,  21.6838,20110305,1748
  29AH20110128,   A05,   121,  1,     24,2,20110305,1554, 26.2043, -70.7092, 5607,      2.9,  21.7067,  36.8540,2,    219.0,2,    219.9,2,     2.02,2,     0.12,2,     0.05,2,   -999.0,9,   8.0671,2,    25.00,  21.7061,20110305,1750