BOTTLE,20220930CCHSIOAMB
EXPOCODE,SECT_ID,STNNBR,CASTNO,BTLNBR,BTLNBR_FLAG_W,DATE,TIME,LATITUDE,LONGITUDE,DEPTH,CTDPRS,CTDTMP,CTDSAL,CTDSAL_FLAG_W,CTDOXY,CTDOXY_FLAG_W,OXYGEN,OXYGEN_FLAG_W,SILCAT,SILCAT_FLAG_W,NITRAT,NITRAT_FLAG_W,PHSPHT,PHSPHT_FLAG_W,ALKALI,ALKALI_FLAG_W,PH_SWS,PH_SWS_FLAG_W,PH_TMP,THETA,BTL_DATE,BTL_TIME
,,,,,,,,,,METERS,DBAR,ITS-90,PSS-78,,UMOL/KG,,UMOL/KG,,UMOL/KG,,UMOL/KG,,UMOL/KG,,UMOL/KG,,,,DEG C,DEG C,,
  29AH20110128,   A05,   116,  1,      1,2,20110303,1315, 24.5003, -69.1325, 5748,   5738.2,   2.1093,  34.8509,2,    250.2,2,    248.2,2,  -999.00,9,  -999.00,9,  -999.00,9,   2351.1,2,   7.7136,2,    25.00,   1.5576,20110303,1315
  29AH20110128,   A05,   116,  1,      2,2,20110303,1315, 24.5003, -69.1325, 5748,   5499.4,   2.1673,  34.8624,2,    252.9,2,    253.1,2,  -999.00,9,  -999.00,9,  -999.00,9,   2345.7,2,   7.7240,2,    25.00,   1.6451,20110303,1320
  29AH20110128,   A05,   116,  1,      3,2,20110303,1315, 24.5003, -69.1325, 5748,   4998.2,   2.2783,  34.8833,2,    261.6,2,    260.6,2,  -999.00,9,  -999.00,9,  -999.00,9,   2336.5,2,   7.7314,2,    25.00,   1.8165,20110303,1329
  29AH20110128,   A05,   116,  1,      4,2,20110303,1315, 24.5003, -69.1325, 5748,   4499.6,   2.2917,  34.8909,2,    265.1,2,    264.3,2,  -999.00,9,  -999.00,9,  -999.00,9,   2332.4,2,   7.7265,2,    25.00,   1.8908,20110303,1339
  29AH20110128,   A05,   116,  1,      5,2,20110303,1315, 24.5003, -69.1325, 5748,   3999.2,   2.3162,  34.8972,2,    267.0,2,    266.9,2,  -999.00,9,  -999.00,9,  -999.00,9,   2328.3,2,   7.7378,2,    25.00,   1.9731,20110303,1349
  29AH20110128,   A05,   116,  1,      6,2,20110303,1315, 24.5003, -69.1325, 5748,   3501.6,   2.4287,  34.9075,2,    267.5,2,    267.8,2,  -999.00,9,  -999.00,9,  -999.00,9,   2324.8,2,   7.7322,2,    25.00,   2.1378,20110303,1358
  29AH20110128,   A05,   116,  1,      7,2,20110303,1315, 24.5003, -69.1325, 5748,   2998.3,   2.7159,  34.9277,2,    263.5,2,    264.3,2,  -999.00,9,  -999.00,9,  -999.00,9,   2324.5,2,   7.7398,2,    25.00,   2.4715,20110303,1408
  29AH20110128,   A05,   116,  1,      8,2,20110303,1315, 24.5003, -69.1325, 5748,   2500.5,   3.1199,  34.9535,2,    260.0,2,    261.3,2,  -999.00,9,  -999.00,9,  -999.00,9,   2323.3,2,   7.7355,2,    25.00,   2.9176,20110303,1418
  29AH20110128,   A05,   116,  1,      9,2,20110303,1315, 24.5003, -69.1325, 5748,   2000.4,   3.5917,  34.9762,2,    259.1,2,    260.8,2,  -999.00,9,  -999.00,9,  -999.00,9,   2318.9,2,   7.7305,2,    25.00,   3.4301,20110303,1428
  29AH20110128,   A05,   116,  1,     10,2,20110303,1315, 24.5003, -69.1325, 5748,   1749.8,   3.9631,  34.9991,2,    254.8,2,    256.4,2,  -999.00,9,  -999.00,9,  -999.00,9,   2319.2,2,   7.7323,2,    25.00,   3.8201,20110303,1433
  29AH20110128,   A05,   116,  1,     11,2,20110303,1315, 24.5003, -69.1325, 5748,   1500.4,   4.3021,  35.0090,2,    251.8,2,    252.7,2,  -999.00,9,  -999.00,9,  -999.00,9,   2316.5,2,   7.7222,2,    25.00,   4.1783,20110303,1438
  29AH20110128,   A05,   116,  1,     12,2,20110303,1315, 24.5003, -69.1325, 5748,   1300.2,   4.9569,  35.0485,2,    236.8,2,    238.4,2,  -999.00,9,  -999.00,9,  -999.00,9,   2320.6,2,   7.7176,2,    25.00,   4.8451,20110303,1442
  29AH20110128,   A05,   116,  1,     13,2,20110303,1315, 24.5003, -69.1325, 5748,   1199.8,   5.4038,  35.0680,2,    224.9,2,    224.6,2,  -999.00,9,  -999.00,9,  -999.00,9,   2322.0,2,   7.6992,2,    25.00,   5.2974,20110303,1444
  29AH20110128,   A05,   116,  1,     14,2,20110303,1315, 24.5003, -69.1325, 5748,   1001.2,   6.9882,  35.0515,2,    166.2,2,    164.4,2,  -999.00,9,  -999.00,9,  -999.00,9,   2324.1,2,   7.6640,2,    25.00,   6.8890,20110303,1448
  29AH20110128,   A05,   116,  1,     15,2,20110303,1315, 24.5003, -69.1325, 5748,    799.6,   9.5203,  35.2364,2,    140.0,2,    139.3,2,  -999.00,9,  -999.00,9,  -999.00,9,   2327.5,2,   7.6796,2,    25.00,   9.4271,20110303,1452
  29AH20110128,   A05,   116,  1,     16,2,20110303,1315, 24.5003, -69.1325, 5748,    600.8,  13.9726,  35.8504,2,    157.4,2,    157.4,2,  -999.00,9,  -999.00,9,  -999.00,9,   2356.1,2,   7.8032,2,    25.00,  13.8841,20110303,1456
  29AH20110128,   A05,   116,  1,     17,2,20110303,1315, 24.5003, -69.1325, 5748,    400.4,  17.6689,  36.4769,2,    188.4,2,    188.8,2,  -999.00,9,  -999.00,9,  -999.00,9,   2389.4,2,   7.9452,2,    25.00,  17.6000,20110303,1500
  29AH20110128,   A05,   116,  1,     18,2,20110303,1315, 24.5003, -69.1325, 5748,    300.6,  18.5219,  36.6022,2,    195.7,2,    196.3,2,  -999.00,9,  -999.00,9,  -999.00,9,   2397.5,2,   7.9779,2,    25.00,  18.4686,20110303,1502
  29AH20110128,   A05,   116,  1,     19,2,20110303,1315, 24.5003, -69.1325, 5748,    149.6,  21.8784,  36.8652,2,    199.5,2,    199.7,2,  -999.00,9,  -999.00,9,  -999.00,9,   2415.1,2,   8.0268,2,    25.00,  21.8487,20110303,1506
  29AH20110128,   A05,   116,  1,     20,2,20110303,1315, 24.5003, -69.1325, 5748,    126.4,  22.7514,  36.8349,2,    211.4,2,    211.0,2,  -999.00,9,  -999.00,9,  -999.00,9,   -999.0,9,   8.0604,2,    25.00,  22.7256,20110303,1506
  29AH20110128,   A05,   116,  1,     21,2,20110303,1315, 24.5003, -69.1325, 5748,     75.9,  23.9375,  36.7883,2,    206.0,2,    210.2,2,  -999.00,9,  -999.00,9,  -999.00,9,   -999.0,9,   8.0760,2,    25.00,  23.9214,20110303,1508
  29AH20110128,   A05,   116,  1,     22,2,20110303,1315, 24.5003, -69.1325, 5748,     51.8,  24.4260,  36.6011,2,    208.5,2,    207.2,2,  -999.00,9,  -999.00,9,  -999.00,9,   2400.8,2,   8.0835,2,    25.00,  24.4149,20110303,1508
  29AH20110128,   A05,   116,  1,     23,2,20110303,1315, 24.5003, -69.1325, 5748,     26.2,  24.6436,  36.4381,2,    208.1,2,    207.7,2,  -999.00,9,  -999.00,9,  -999.00,9,   -999.0,9,   8.0842,2,    25.00,  24.6380,20110303,1509
  29AH20110128,   A05,   116,  1,     24,2,20110303,1315, 24.5003, -69.1325, 5748,      5.0,  24.9139,  36.3510,2,    207.1,2,    206.9,2,  -999.00,9,  -999.00,9,  -999.00,9,   2383.1,2,   8.0846,2,    25.00,  24.9128,20110303,1510
  29AH20110128,   A05,   117,  1,      1,2,20110303,2054, 24.8415, -69.3713, 5712,   5701.6,   2.0933,  34.8497,2,    249.5,2,    248.5,2,  -999.00,9,  -999.00,9,  -999.00,9,   -999.0,9,   7.7083,2,    25.00,   1.5471,20110303,2054
  29AH20110128,   A05,   117,  1,      2,2,20110303,2054, 24.8415, -69.3713, 5712,   5497.4,   2.0697,  34.8507,2,    250.0,2,    249.3,2,  -999.00,9,  -999.00,9,  -999.00,9,   -999.0,9,   7.7082,2,    25.00,   1.5514,20110303,2058
  29AH20110128,   A05,   117,  1,      3,2,20110303,2054, 24.8415, -69.3713, 5712,   5000.4,   2.1416,  34.8679,2,    254.7,2,    254.1,2,  -999.00,9,  -999.00,9,  -999.00,9,   -999.0,9,   7.7152,2,    25.00,   1.6843,20110303,2107
  29AH20110128,   A05,   117,  1,      4,2,20110303,2054, 24.8415, -69.3713, 5712,   4500.8,   2.2611,  34.8888,2,    263.6,2,    262.2,2,  -999.00,9,  -999.00,9,  -999.00,9,   -999.0,9,   7.7252,2,    25.00,   1.8610,20110303,2117
  29AH20110128,   A05,   117,  1,      5,2,20110303,2054, 24.8415, -69.3713, 5712,   3996.8,   2.2900,  34.8960,2,    266.2,2,    266.6,2,  -999.00,9,  -999.00,9,  -999.00,9,   -999.0,9,   7.7265,2,    25.00,   1.9479,20110303,2127
  29AH20110128,   A05,   117,  1,      6,2,20110303,2054, 24.8415, -69.3713, 5712,   3500.1,   2.3953,  34.9062,2,    267.1,2,    267.2,2,  -999.00,9,  -999.00,9,  -999.00,9,   -999.0,9,   7.7287,2,    25.00,   2.1054,20110303,2136
  29AH20110128,   A05,   117,  1,      7,2,20110303,2054, 24.8415, -69.3713, 5712,   3000.4,   2.6625,  34.9237,2,    265.2,2,    265.8,2,  -999.00,9,  -999.00,9,  -999.00,9,   -999.0,9,   7.7326,2,    25.00,   2.4190,20110303,2146
  29AH20110128,   A05,   117,  1,      8,2,20110303,2054, 24.8415, -69.3713, 5712,   2500.7,   3.0969,  34.9505,2,    260.9,2,    261.9,2,  -999.00,9,  -999.00,9,  -999.00,9,   -999.0,9,   7.7332,2,    25.00,   2.8950,20110303,2157
  29AH20110128,   A05,   117,  1,      9,2,20110303,2054, 24.8415, -69.3713, 5712,   2000.4,   3.5726,  34.9740,2,    259.2,2,    260.9,2,  -999.00,9,  -999.00,9,  -999.00,9,   -999.0,9,   7.7312,2,    25.00,   3.4113,20110303,2206
  29AH20110128,   A05,   117,  1,     10,2,20110303,2054, 24.8415, -69.3713, 5712,   1750.2,   3.9171,  34.9885,2,    256.9,2,    257.8,2,  -999.00,9,  -999.00,9,  -999.00,9,   -999.0,9,   7.7268,2,    25.00,   3.7747,20110303,2211
  29AH20110128,   A05,   117,  1,     11,2,20110303,2054, 24.8415, -69.3713, 5712,   1500.3,   4.2853,  35.0053,2,    252.0,2,    252.5,2,  -999.00,9,  -999.00,9,  -999.00,9,   -999.0,9,   7.7205,2,    25.00,   4.1617,20110303,2216
  29AH20110128,   A05,   117,  1,     12,2,20110303,2054, 24.8415, -69.3713, 5712,   1301.1,   4.8771,  35.0437,2,    239.7,2,    239.3,2,  -999.00,9,  -999.00,9,  -999.00,9,   -999.0,9,   7.7141,2,    25.00,   4.7660,20110303,2220
  29AH20110128,   A05,   117,  1,     13,2,20110303,2054, 24.8415, -69.3713, 5712,   1199.7,   5.3200,  35.0665,2,    228.2,2,    228.3,2,  -999.00,9,  -999.00,9,  -999.00,9,   -999.0,9,   7.7076,2,    25.00,   5.2144,20110303,2222
  29AH20110128,   A05,   117,  1,     14,2,20110303,2054, 24.8415, -69.3713, 5712,    998.5,   6.6627,  35.0585,2,    179.5,2,    177.0,2,  -999.00,9,  -999.00,9,  -999.00,9,   -999.0,9,   7.6691,2,    25.00,   6.5662,20110303,2226
  29AH20110128,   A05,   117,  1,     15,2,20110303,2054, 24.8415, -69.3713, 5712,    802.4,   9.6354,  35.2362,2,    138.3,2,    152.6,3,  -999.00,9,  -999.00,9,  -999.00,9,   -999.0,9,   7.7372,2,    25.00,   9.5413,20110303,2230
  29AH20110128,   A05,   117,  1,     16,2,20110303,2054, 24.8415, -69.3713, 5712,    600.5,  14.0079,  35.8464,2,    157.0,2,    157.0,2,  -999.00,9,  -999.00,9,  -999.00,9,   -999.0,9,   7.8072,2,    25.00,  13.9193,20110303,2234
  29AH20110128,   A05,   117,  1,     17,2,20110303,2054, 24.8415, -69.3713, 5712,    401.1,  17.5117,  36.4543,2,    192.1,2,    192.3,2,  -999.00,9,  -999.00,9,  -999.00,9,   -999.0,9,   7.9414,2,    25.00,  17.4431,20110303,2239
  29AH20110128,   A05,   117,  1,     18,2,20110303,2054, 24.8415, -69.3713, 5712,    299.8,  18.1734,  36.5671,2,    199.8,2,    199.4,2,  -999.00,9,  -999.00,9,  -999.00,9,   -999.0,9,   7.9630,2,    25.00,  18.1209,20110303,2241
  29AH20110128,   A05,   117,  1,     19,2,20110303,2054, 24.8415, -69.3713, 5712,    151.4,  20.7117,  36.8033,2,    190.1,2,    207.2,3,  -999.00,9,  -999.00,9,  -999.00,9,   -999.0,9,   7.9960,2,    25.00,  20.6827,20110303,2244
  29AH20110128,   A05,   117,  1,     20,2,20110303,2054, 24.8415, -69.3713, 5712,    124.5,  21.2927,  36.8149,2,    211.2,2,    208.1,2,  -999.00,9,  -999.00,9,  -999.00,9,   -999.0,9,   8.0320,2,    25.00,  21.2684,20110303,2245
  29AH20110128,   A05,   117,  1,     21,2,20110303,2054, 24.8415, -69.3713, 5712,     75.6,  22.2754,  36.8684,2,    204.7,2,    205.0,2,  -999.00,9,  -999.00,9,  -999.00,9,   -999.0,9,   8.0400,2,    25.00,  22.2602,20110303,2246
  29AH20110128,   A05,   117,  1,     22,2,20110303,2054, 24.8415, -69.3713, 5712,     48.9,  23.5345,  36.7978,2,    210.5,2,    209.4,2,  -999.00,9,  -999.00,9,  -999.00,9,   -999.0,9,   8.0570,2,    25.00,  23.5243,20110303,2246
  29AH20110128,   A05,   117,  1,     23,2,20110303,2054, 24.8415, -69.3713, 5712,     24.8,  23.8767,  36.6620,2,    211.2,2,    208.9,2,  -999.00,9,  -999.00,9,  -999.00,9,   -999.0,9,   8.0716,2,    25.00,  23.8715,20110303,2248
  29AH20110128,   A05,   117,  1,     24,2,20110303,2054, 24.8415, -69.3713, 5712,      4.2,  23.8792,  36.6613,2,    211.5,2,    210.5,2,  -999.00,9,  -999.00,9,  -999.00,9,   -999.0,9,   8.0751,2,    25.00,  23.8783,20110303,2249
  29AH20110128,   A05,   118,  1,      1,2,20110304,1600, 25.2947, -69.6880, 5661,   5650.7,   2.0925,  34.8502,2,    249.2,2,    249.3,2,  -999.00,9,  -999.00,9,  -999.00,9,   2352.5,2,   7.7106,2,    25.00,   1.5531,20110304,1600
  29AH20110128,   A05,   118,  1,      2,2,20110304,1600, 25.2947, -69.6880, 5661,   5502.0,   2.0851,  34.8523,2,    248.7,2,    250.2,2,  -999.00,9,  -999.00,9,  -999.00,9,   -999.0,9,   7.7109,2,    25.00,   1.5656,20110304,1604
  29AH20110128,   A05,   118,  1,      3,2,20110304,1600, 25.2947, -69.6880, 5661,   4998.7,   2.1704,  34.8712,2,    256.1,2,    256.8,2,  -999.00,9,  -999.00,9,  -999.00,9,   2335.3,2,   7.7113,2,    25.00,   1.7123,20110304,1614
  29AH20110128,   A05,   118,  1,      4,2,20110304,1600, 25.2947, -69.6880, 5661,   4500.4,   2.2573,  34.8884,2,    263.5,2,    263.5,2,  -999.00,9,  -999.00,9,  -999.00,9,   2330.4,2,   7.7244,2,    25.00,   1.8574,20110304,1624
  29AH20110128,   A05,   118,  1,      5,2,20110304,1600, 25.2947, -69.6880, 5661,   4001.5,   2.3174,  34.8986,2,    266.6,2,    266.7,2,  -999.00,9,  -999.00,9,  -999.00,9,   2327.1,2,   7.7220,2,    25.00,   1.9740,20110304,1633
  29AH20110128,   A05,   118,  1,      6,2,20110304,1600, 25.2947, -69.6880, 5661,   3501.7,   2.4373,  34.9097,2,    265.1,2,    266.5,2,  -999.00,9,  -999.00,9,  -999.00,9,   2324.1,2,   7.7384,2,    25.00,   2.1462,20110304,1643
  29AH20110128,   A05,   118,  1,      7,2,20110304,1600, 25.2947, -69.6880, 5661,   3000.7,   2.7022,  34.9301,2,    258.7,2,    260.1,2,  -999.00,9,  -999.00,9,  -999.00,9,   2323.0,2,   7.7284,2,    25.00,   2.4578,20110304,1653
  29AH20110128,   A05,   118,  1,      8,2,20110304,1600, 25.2947, -69.6880, 5661,   2500.8,   3.0414,  34.9563,2,    255.0,2,    257.4,2,  -999.00,9,  -999.00,9,  -999.00,9,   2323.5,2,   7.7257,2,    25.00,   2.8405,20110304,1703
  29AH20110128,   A05,   118,  1,      9,2,20110304,1600, 25.2947, -69.6880, 5661,   2002.6,   3.5794,  34.9973,2,    251.4,2,    253.0,2,  -999.00,9,  -999.00,9,  -999.00,9,   2323.3,2,   7.7297,2,    25.00,   3.4177,20110304,1713
  29AH20110128,   A05,   118,  1,     10,2,20110304,1600, 25.2947, -69.6880, 5661,   1751.4,   3.9504,  35.0167,2,    250.8,2,    252.2,2,  -999.00,9,  -999.00,9,  -999.00,9,   -999.0,9,   7.7300,2,    25.00,   3.8073,20110304,1718
  29AH20110128,   A05,   118,  1,     11,2,20110304,1600, 25.2947, -69.6880, 5661,   1498.5,   4.3701,  35.0313,2,    247.5,2,    249.2,2,  -999.00,9,  -999.00,9,  -999.00,9,   2316.8,2,   7.7241,2,    25.00,   4.2457,20110304,1723
  29AH20110128,   A05,   118,  1,     12,2,20110304,1600, 25.2947, -69.6880, 5661,   1302.3,   4.7483,  35.0366,2,    241.5,2,    242.7,2,  -999.00,9,  -999.00,9,  -999.00,9,   2320.0,2,   7.7130,2,    25.00,   4.6383,20110304,1727
  29AH20110128,   A05,   118,  1,     13,2,20110304,1600, 25.2947, -69.6880, 5661,   1199.4,   5.0281,  35.0456,2,    235.2,2,    237.3,2,  -999.00,9,  -999.00,9,  -999.00,9,   2322.3,2,   7.7140,2,    25.00,   4.9251,20110304,1729
  29AH20110128,   A05,   118,  1,     14,2,20110304,1600, 25.2947, -69.6880, 5661,   1000.2,   6.2526,  35.0876,2,    200.3,2,    201.4,2,  -999.00,9,  -999.00,9,  -999.00,9,   2324.5,2,   7.6917,2,    25.00,   6.1589,20110304,1734
  29AH20110128,   A05,   118,  1,     15,2,20110304,1600, 25.2947, -69.6880, 5661,    798.9,   9.0356,  35.2129,2,    150.3,2,    166.1,3,  -999.00,9,  -999.00,9,  -999.00,9,   2326.7,2,   7.6771,2,    25.00,   8.9453,20110304,1738
  29AH20110128,   A05,   118,  1,     16,2,20110304,1600, 25.2947, -69.6880, 5661,    598.2,  13.4988,  35.7593,2,    158.3,2,    160.4,2,  -999.00,9,  -999.00,9,  -999.00,9,   2350.3,2,   7.7962,2,    25.00,  13.4126,20110304,1742
  29AH20110128,   A05,   118,  1,     17,2,20110304,1600, 25.2947, -69.6880, 5661,    400.9,  17.4481,  36.4377,2,    185.9,2,    187.2,2,  -999.00,9,  -999.00,9,  -999.00,9,   2381.7,2,   7.9278,2,    25.00,  17.3797,20110304,1746
  29AH20110128,   A05,   118,  1,     18,2,20110304,1600, 25.2947, -69.6880, 5661,    302.5,  18.2369,  36.5734,2,    198.3,2,    198.6,2,  -999.00,9,  -999.00,9,  -999.00,9,   2393.0,2,   7.9591,2,    25.00,  18.1838,20110304,1748
  29AH20110128,   A05,   118,  1,     19,2,20110304,1600, 25.2947, -69.6880, 5661,    148.9,  19.7977,  36.7145,2,    191.0,2,    191.4,2,  -999.00,9,  -999.00,9,  -999.00,9,   2407.4,2,   7.9848,2,    25.00,  19.7701,20110304,1752
  29AH20110128,   A05,   118,  1,     20,2,20110304,1600, 25.2947, -69.6880, 5661,    127.2,  20.6785,  36.7879,2,    191.3,2,    191.3,2,  -999.00,9,  -999.00,9,  -999.00,9,   -999.0,9,   7.9927,2,    25.00,  20.6542,20110304,1752
  29AH20110128,   A05,   118,  1,     21,2,20110304,1600, 25.2947, -69.6880, 5661,     91.0,  21.4986,  36.8445,2,    201.4,2,    201.3,2,  -999.00,9,  -999.00,9,  -999.00,9,   2413.2,2,   8.0361,2,    25.00,  21.4807,20110304,1754
  29AH20110128,   A05,   118,  1,     22,2,20110304,1600, 25.2947, -69.6880, 5661,     50.1,  22.1812,  36.8411,2,    214.5,2,    215.0,2,  -999.00,9,  -999.00,9,  -999.00,9,   -999.0,9,   8.0564,2,    25.00,  22.1712,20110304,1754
  29AH20110128,   A05,   118,  1,     23,2,20110304,1600, 25.2947, -69.6880, 5661,     29.6,  22.6424,  36.8457,2,    214.9,2,    215.0,2,  -999.00,9,  -999.00,9,  -999.00,9,   -999.0,9,   8.0694,2,    25.00,  22.6364,20110304,1756
  29AH20110128,   A05,   118,  1,     24,2,20110304,1600, 25.2947, -69.6880, 5661,      3.0,  22.6506,  36.8439,2,    215.9,2,    215.9,2,  -999.00,9,  -999.00,9,  -999.00,9,   2412.4,2,   8.0694,2,    25.00,  22.6500,20110304,1758