BOTTLE,20220930CCHSIOAMB
EXPOCODE,SECT_ID,STNNBR,CASTNO,BTLNBR,BTLNBR_FLAG_W,DATE,TIME,LATITUDE,LONGITUDE,DEPTH,CTDPRS,CTDTMP,CTDSAL,CTDSAL_FLAG_W,CTDOXY,CTDOXY_FLAG_W,OXYGEN,OXYGEN_FLAG_W,SILCAT,SILCAT_FLAG_W,NITRAT,NITRAT_FLAG_W,PHSPHT,PHSPHT_FLAG_W,ALKALI,ALKALI_FLAG_W,PH_SWS,PH_SWS_FLAG_W,PH_TMP,THETA,BTL_DATE,BTL_TIME
,,,,,,,,,,METERS,DBAR,ITS-90,PSS-78,,UMOL/KG,,UMOL/KG,,UMOL/KG,,UMOL/KG,,UMOL/KG,,UMOL/KG,,,,DEG C,DEG C,,
  29AH20110128,   A05,    74,  1,      1,2,20110218,0450, 24.5005, -45.8822, 3013,   3002.8,   2.7876,  34.9358,2,    250.4,2,    250.4,2,    34.36,2,    19.42,2,  -999.00,9,   -999.0,9,   7.7320,2,    25.00,   2.5411,20110218,0450
  29AH20110128,   A05,    74,  1,      2,2,20110218,0450, 24.5005, -45.8822, 3013,   2500.6,   3.0046,  34.9568,2,    249.8,2,    248.8,2,    30.02,2,    19.17,2,     1.38,2,   -999.0,9,   7.7324,2,    25.00,   2.8044,20110218,0500
  29AH20110128,   A05,    74,  1,      3,2,20110218,0450, 24.5005, -45.8822, 3013,   2001.6,   3.8118,  35.0251,2,    246.1,2,    246.5,2,    21.55,2,    18.83,2,     1.30,2,   -999.0,9,   7.7283,2,    25.00,   3.6467,20110218,0510
  29AH20110128,   A05,    74,  1,      4,2,20110218,0450, 24.5005, -45.8822, 3013,   1747.9,   4.4276,  35.0705,2,    238.0,2,    238.1,2,  -999.00,9,    18.75,2,     1.30,2,   -999.0,9,   7.7290,2,    25.00,   4.2785,20110218,0515
  29AH20110128,   A05,    74,  1,      5,2,20110218,0450, 24.5005, -45.8822, 3013,   1499.8,   4.9416,  35.0749,2,    225.5,2,    224.8,2,    17.49,2,    19.45,2,     1.30,2,   -999.0,9,   7.7152,2,    25.00,   4.8106,20110218,0520
  29AH20110128,   A05,    74,  1,      6,2,20110218,0450, 24.5005, -45.8822, 3013,   1299.7,   5.3810,  35.0493,2,    208.1,2,    207.8,2,    17.82,2,    21.05,2,     1.48,2,   -999.0,9,   7.6958,2,    25.00,   5.2651,20110218,0524
  29AH20110128,   A05,    74,  1,      7,2,20110218,0450, 24.5005, -45.8822, 3013,   1201.7,   5.7075,  35.0406,2,    193.7,2,    193.8,2,    18.16,2,    22.20,2,     1.57,2,   -999.0,9,   7.6797,2,    25.00,   5.5982,20110218,0526
  29AH20110128,   A05,    74,  1,      8,2,20110218,0450, 24.5005, -45.8822, 3013,   1100.6,   6.1285,  35.0420,2,    178.1,2,    177.7,2,    14.09,3,    21.01,4,     1.41,3,   -999.0,9,   7.6683,2,    25.00,   6.0257,20110218,0529
  29AH20110128,   A05,    74,  1,      9,2,20110218,0450, 24.5005, -45.8822, 3013,   1002.3,   6.5576,  35.0261,2,    163.3,2,    163.9,2,    19.79,2,    24.79,2,     1.75,2,   -999.0,9,   7.6571,2,    25.00,   6.4615,20110218,0531
  29AH20110128,   A05,    74,  1,     10,2,20110218,0450, 24.5005, -45.8822, 3013,    900.7,   7.3532,  35.0681,2,    150.0,2,    149.9,2,    19.17,2,    25.16,2,     1.76,2,   -999.0,9,   7.6452,2,    25.00,   7.2621,20110218,0533
  29AH20110128,   A05,    74,  1,     11,2,20110218,0450, 24.5005, -45.8822, 3013,    800.9,   8.3127,  35.1398,2,    142.0,2,    141.9,2,    17.21,2,    24.70,2,     1.75,2,   -999.0,9,   7.6569,2,    25.00,   8.2265,20110218,0535
  29AH20110128,   A05,    74,  1,     12,2,20110218,0450, 24.5005, -45.8822, 3013,    599.6,  12.0597,  35.6132,2,    155.0,2,    155.6,2,     8.00,2,    17.30,2,     1.01,2,   -999.0,9,   7.7589,2,    25.00,  11.9794,20110218,0539
  29AH20110128,   A05,    74,  1,     13,2,20110218,0450, 24.5005, -45.8822, 3013,    399.1,  15.6373,  36.1532,2,    173.4,2,    173.4,2,     3.72,2,     9.49,2,     0.44,2,   -999.0,9,   7.8678,2,    25.00,  15.5742,20110218,0546
  29AH20110128,   A05,    74,  1,     14,2,20110218,0450, 24.5005, -45.8822, 3013,    300.4,  17.2198,  36.4285,2,    184.7,2,    187.3,2,     2.50,2,     6.24,2,     0.25,2,   -999.0,9,   7.9192,2,    25.00,  17.1691,20110218,0548
  29AH20110128,   A05,    74,  1,     15,2,20110218,0450, 24.5005, -45.8822, 3013,    201.8,  18.7214,  36.6845,2,    192.2,2,    194.3,2,     1.56,2,     3.03,2,     0.08,2,   -999.0,9,   7.9576,2,    25.00,  18.6854,20110218,0550
  29AH20110128,   A05,    74,  1,     16,2,20110218,0450, 24.5005, -45.8822, 3013,    149.5,  19.7964,  36.8666,2,    189.4,2,    191.5,2,     1.28,2,     1.76,2,     0.06,2,   -999.0,9,   7.9665,2,    25.00,  19.7687,20110218,0552
  29AH20110128,   A05,    74,  1,     17,2,20110218,0450, 24.5005, -45.8822, 3013,    126.6,  20.6073,  36.9823,2,    191.0,2,   -999.0,9,  -999.00,9,  -999.00,9,  -999.00,9,   -999.0,9,   7.9980,2,    25.00,  20.5832,20110218,0553
  29AH20110128,   A05,    74,  1,     18,2,20110218,0450, 24.5005, -45.8822, 3013,    101.9,  22.1900,  37.1269,2,    203.9,2,   -999.0,9,  -999.00,9,  -999.00,9,  -999.00,9,   -999.0,9,   8.0318,2,    25.00,  22.1695,20110218,0553
  29AH20110128,   A05,    74,  1,     19,2,20110218,0450, 24.5005, -45.8822, 3013,     75.0,  23.3496,  37.3708,2,    210.1,2,    211.6,2,     1.01,2,     0.01,2,     0.05,2,   -999.0,9,   8.0687,2,    25.00,  23.3340,20110218,0554
  29AH20110128,   A05,    74,  1,     20,2,20110218,0450, 24.5005, -45.8822, 3013,     51.2,  23.3755,  37.3770,2,    210.6,2,    212.2,2,     0.94,2,     0.01,2,     0.05,2,   -999.0,9,   8.0732,2,    25.00,  23.3648,20110218,0555
  29AH20110128,   A05,    74,  1,     21,2,20110218,0450, 24.5005, -45.8822, 3013,     25.2,  23.4352,  37.3864,2,    210.9,2,    212.0,2,     1.01,2,     0.01,2,     0.05,2,   -999.0,9,   8.0731,2,    25.00,  23.4299,20110218,0555
  29AH20110128,   A05,    74,  1,     22,2,20110218,0450, 24.5005, -45.8822, 3013,      4.8,  23.4309,  37.3812,2,    211.1,2,    211.0,2,     1.01,2,     0.01,2,     0.05,2,   -999.0,9,   8.0731,2,    25.00,  23.4299,20110218,0557
  29AH20110128,   A05,    75,  1,      1,2,20110218,1015, 24.5000, -46.3437, 3535,   3525.2,   2.5484,  34.9120,2,    252.2,2,    250.7,2,    37.58,2,    19.71,2,     1.44,2,   2340.7,2,   7.7300,2,    25.00,   2.2520,20110218,1015
  29AH20110128,   A05,    75,  1,      2,2,20110218,1015, 24.5000, -46.3437, 3535,   2998.9,   2.7366,  34.9310,2,    251.0,2,    249.8,2,    34.33,2,    19.41,2,     1.43,2,   2337.6,2,   7.7323,2,    25.00,   2.4916,20110218,1025
  29AH20110128,   A05,    75,  1,      3,2,20110218,1015, 24.5000, -46.3437, 3535,   2501.4,   3.0808,  34.9628,2,    249.6,2,    248.9,2,    29.35,2,    18.96,2,     1.32,2,   2333.5,2,   7.7299,2,    25.00,   2.8791,20110218,1035
  29AH20110128,   A05,    75,  1,      4,2,20110218,1015, 24.5000, -46.3437, 3535,   2001.4,   3.6698,  35.0149,2,    247.3,2,    247.0,2,    22.04,2,    17.98,2,     1.26,2,   2324.8,2,   7.7363,2,    25.00,   3.5069,20110218,1045
  29AH20110128,   A05,    75,  1,      5,2,20110218,1015, 24.5000, -46.3437, 3535,   1751.0,   4.3170,  35.0624,2,    240.5,2,    240.0,2,    17.72,2,    18.84,2,     1.27,2,   2322.9,2,   7.7211,2,    25.00,   4.1691,20110218,1050
  29AH20110128,   A05,    75,  1,      6,2,20110218,1015, 24.5000, -46.3437, 3535,   1500.2,   4.9015,  35.0647,2,    226.3,2,    226.1,2,    16.80,2,    19.33,2,     1.28,2,   2320.3,2,   7.7128,2,    25.00,   4.7709,20110218,1055
  29AH20110128,   A05,    75,  1,      7,2,20110218,1015, 24.5000, -46.3437, 3535,   1302.1,   5.2825,  35.0546,2,    212.1,2,    212.0,2,    17.13,2,    20.60,2,     1.39,2,   2320.2,2,   7.6990,2,    25.00,   5.1673,20110218,1059
  29AH20110128,   A05,    75,  1,      8,2,20110218,1015, 24.5000, -46.3437, 3535,   1200.4,   5.5884,  35.0428,2,    198.1,2,    197.0,2,    18.73,2,    21.87,2,     1.47,2,   2320.8,2,   7.6831,2,    25.00,   5.4803,20110218,1101
  29AH20110128,   A05,    75,  1,      9,2,20110218,1015, 24.5000, -46.3437, 3535,   1101.3,   5.9977,  35.0436,2,    181.9,2,    181.0,2,    19.05,2,    23.26,2,     1.63,2,   -999.0,9,   7.6709,2,    25.00,   5.8959,20110218,1104
  29AH20110128,   A05,    75,  1,     10,2,20110218,1015, 24.5000, -46.3437, 3535,    999.5,   6.5077,  35.0383,2,    165.8,2,    164.4,2,    19.45,2,    24.49,2,     1.75,2,   2321.8,2,   7.6553,2,    25.00,   6.4123,20110218,1106
  29AH20110128,   A05,    75,  1,     11,2,20110218,1015, 24.5000, -46.3437, 3535,    900.1,   7.6861,  35.1056,2,    148.2,2,    147.9,2,    17.99,2,    24.70,2,     1.78,2,   -999.0,9,   7.6513,2,    25.00,   7.5928,20110218,1108
  29AH20110128,   A05,    75,  1,     12,2,20110218,1015, 24.5000, -46.3437, 3535,    801.5,   8.8553,  35.2301,2,    146.5,2,    145.8,2,    15.14,2,    23.02,2,     1.59,2,   2322.9,2,   7.6792,2,    25.00,   8.7658,20110218,1110
  29AH20110128,   A05,    75,  1,     13,2,20110218,1015, 24.5000, -46.3437, 3535,    600.3,  12.0870,  35.6177,2,    155.5,2,    156.0,2,     7.77,2,    17.10,2,     0.98,2,   2338.4,2,   7.7607,2,    25.00,  12.0065,20110218,1114
  29AH20110128,   A05,    75,  1,     14,2,20110218,1015, 24.5000, -46.3437, 3535,    401.2,  15.6310,  36.1408,2,    177.9,2,    177.6,2,     3.92,2,     9.47,2,     0.47,2,   2369.6,2,   7.8710,2,    25.00,  15.5676,20110218,1118
  29AH20110128,   A05,    75,  1,     15,2,20110218,1015, 24.5000, -46.3437, 3535,    300.2,  17.3252,  36.4436,2,    187.9,2,    188.7,2,     2.53,2,     6.02,2,     0.27,2,   2384.8,2,   7.9245,2,    25.00,  17.2744,20110218,1121
  29AH20110128,   A05,    75,  1,     16,2,20110218,1015, 24.5000, -46.3437, 3535,    201.3,  18.9030,  36.7182,2,    190.3,2,    191.0,2,     1.73,2,     2.90,2,     0.11,2,   -999.0,9,   7.9579,2,    25.00,  18.8668,20110218,1123
  29AH20110128,   A05,    75,  1,     17,2,20110218,1015, 24.5000, -46.3437, 3535,    150.3,  20.9711,  37.0471,2,    192.1,2,    192.0,2,     1.20,2,     0.76,2,     0.08,2,   2424.9,2,   7.9905,2,    25.00,  20.9421,20110218,1130
  29AH20110128,   A05,    75,  1,     18,2,20110218,1015, 24.5000, -46.3437, 3535,    126.0,  21.8523,  37.1452,2,    197.1,2,    197.7,2,     1.20,2,     0.44,2,     0.07,2,   -999.0,9,   8.0073,2,    25.00,  21.8272,20110218,1130
  29AH20110128,   A05,    75,  1,     19,2,20110218,1015, 24.5000, -46.3437, 3535,    100.7,  23.5868,  37.4831,2,    208.4,2,    210.0,2,     1.13,2,     0.02,2,     0.05,2,   -999.0,9,   8.0709,2,    25.00,  23.5656,20110218,1131
  29AH20110128,   A05,    75,  1,     20,2,20110218,1015, 24.5000, -46.3437, 3535,     76.1,  23.6177,  37.4901,2,    211.6,2,    209.6,2,     1.06,2,     0.02,2,     0.03,2,   2453.2,2,   8.0698,2,    25.00,  23.6017,20110218,1132
  29AH20110128,   A05,    75,  1,     21,2,20110218,1015, 24.5000, -46.3437, 3535,     51.0,  23.6146,  37.4904,2,    212.1,2,    209.7,2,     1.06,2,     0.02,2,     0.02,2,   -999.0,9,   8.0684,2,    25.00,  23.6039,20110218,1133
  29AH20110128,   A05,    75,  1,     22,2,20110218,1015, 24.5000, -46.3437, 3535,     24.4,  23.6091,  37.4905,2,    212.2,2,    210.1,2,     1.13,2,     0.02,2,     0.03,2,   -999.0,9,   8.0721,2,    25.00,  23.6040,20110218,1134
  29AH20110128,   A05,    75,  1,     23,2,20110218,1015, 24.5000, -46.3437, 3535,      3.8,  23.6051,  37.4907,2,    212.2,2,    209.7,2,     1.20,2,     0.01,2,     0.03,2,   2452.2,2,   8.0712,2,    25.00,  23.6043,20110218,1135
  29AH20110128,   A05,    76,  1,      1,2,20110218,1701, 24.5032, -46.8225, 3981,   3970.6,   2.5304,  34.9072,2,    253.8,2,    252.3,2,    37.85,2,    19.95,2,     1.46,2,   -999.0,9,   7.7289,2,    25.00,   2.1846,20110218,1701
  29AH20110128,   A05,    76,  1,      2,2,20110218,1701, 24.5032, -46.8225, 3981,   3501.6,   2.5617,  34.9136,2,    252.5,2,    251.7,2,    36.33,2,    19.95,2,     1.43,2,   -999.0,9,   7.7292,2,    25.00,   2.2675,20110218,1711
  29AH20110128,   A05,    76,  1,      3,2,20110218,1701, 24.5032, -46.8225, 3981,   3000.6,   2.8016,  34.9370,2,    250.7,2,    250.9,2,    33.59,2,    19.61,2,     1.43,2,   -999.0,9,   7.7304,2,    25.00,   2.5550,20110218,1720
  29AH20110128,   A05,    76,  1,      4,2,20110218,1701, 24.5032, -46.8225, 3981,   2499.7,   3.0574,  34.9621,2,    250.2,2,    249.1,2,    29.82,2,    19.20,2,     1.34,2,   -999.0,9,   7.7320,2,    25.00,   2.8563,20110218,1730
  29AH20110128,   A05,    76,  1,      5,2,20110218,1701, 24.5032, -46.8225, 3981,   2000.8,   3.7077,  35.0175,2,    246.7,2,    247.1,2,    22.63,2,    19.11,2,     1.28,2,   -999.0,9,   7.7320,2,    25.00,   3.5443,20110218,1740
  29AH20110128,   A05,    76,  1,      6,2,20110218,1701, 24.5032, -46.8225, 3981,   1750.6,   4.2268,  35.0530,2,    241.3,2,    240.8,2,    18.31,2,    17.58,3,     1.19,2,   -999.0,9,   7.7300,2,    25.00,   4.0801,20110218,1745
  29AH20110128,   A05,    76,  1,      7,2,20110218,1701, 24.5032, -46.8225, 3981,   1502.6,   4.8726,  35.0884,2,    230.5,2,    230.4,2,    16.94,2,    19.19,2,     1.28,2,   -999.0,9,   7.7217,2,    25.00,   4.7420,20110218,1750
  29AH20110128,   A05,    76,  1,      8,2,20110218,1701, 24.5032, -46.8225, 3981,   1299.2,   5.6029,  35.1067,2,    211.7,2,    210.3,2,    16.60,2,    20.40,2,     1.37,2,   -999.0,9,   7.7057,2,    25.00,   5.4848,20110218,1754
  29AH20110128,   A05,    76,  1,      9,2,20110218,1701, 24.5032, -46.8225, 3981,   1199.5,   5.8533,  35.0807,2,    198.0,2,    197.5,2,    17.70,2,    21.63,2,     1.46,2,   -999.0,9,   7.6914,2,    25.00,   5.7429,20110218,1756
  29AH20110128,   A05,    76,  1,     10,2,20110218,1701, 24.5032, -46.8225, 3981,   1100.1,   6.1515,  35.0533,2,    182.5,2,    181.2,2,    18.65,2,    23.25,2,     1.62,2,   -999.0,9,   7.6739,2,    25.00,   6.0486,20110218,1758
  29AH20110128,   A05,    76,  1,     11,2,20110218,1701, 24.5032, -46.8225, 3981,   1001.0,   6.5856,  35.0462,2,    166.6,2,    165.9,2,    19.41,2,    24.54,2,     1.74,2,   -999.0,9,   7.6574,2,    25.00,   6.4894,20110218,1800
  29AH20110128,   A05,    76,  1,     12,2,20110218,1701, 24.5032, -46.8225, 3981,    900.4,   7.2490,  35.0686,2,    152.2,2,    151.8,2,    17.14,2,    21.84,3,     1.62,2,   -999.0,9,   7.6499,2,    25.00,   7.1586,20110218,1803
  29AH20110128,   A05,    76,  1,     13,2,20110218,1701, 24.5032, -46.8225, 3981,    800.6,   8.5554,  35.1961,2,    145.5,2,    146.2,2,    16.66,2,    23.79,2,     1.64,2,   -999.0,9,   7.6707,2,    25.00,   8.4678,20110218,1805
  29AH20110128,   A05,    76,  1,     14,2,20110218,1701, 24.5032, -46.8225, 3981,    601.7,  11.9908,  35.6129,2,    157.8,2,    158.2,2,     8.58,2,    17.16,2,     0.96,2,   -999.0,9,   7.7610,2,    25.00,  11.9105,20110218,1809
  29AH20110128,   A05,    76,  1,     15,2,20110218,1701, 24.5032, -46.8225, 3981,    401.8,  15.5918,  36.1351,2,    177.4,2,    179.7,2,     3.85,2,     9.61,2,     0.43,2,   -999.0,9,   7.8726,2,    25.00,  15.5284,20110218,1818
  29AH20110128,   A05,    76,  1,     16,2,20110218,1701, 24.5032, -46.8225, 3981,    299.3,  17.0940,  36.3937,2,    190.0,2,    192.2,2,     2.48,2,     6.12,2,     0.25,2,   -999.0,9,   7.9275,2,    25.00,  17.0438,20110218,1820
  29AH20110128,   A05,    76,  1,     17,2,20110218,1701, 24.5032, -46.8225, 3981,    202.5,  18.5475,  36.6399,2,    189.3,2,    190.1,2,     1.79,2,     3.72,2,     0.14,2,   -999.0,9,   7.9526,2,    25.00,  18.5116,20110218,1823
  29AH20110128,   A05,    76,  1,     18,2,20110218,1701, 24.5032, -46.8225, 3981,    151.0,  20.2810,  36.8983,2,    192.6,2,    193.8,2,     1.25,2,     1.27,2,     0.05,2,   -999.0,9,   7.9831,2,    25.00,  20.2525,20110218,1824
  29AH20110128,   A05,    76,  1,     19,2,20110218,1701, 24.5032, -46.8225, 3981,    123.8,  21.3601,  37.0736,2,    195.5,2,    196.9,2,     1.18,2,     0.56,2,     0.08,2,   -999.0,9,   8.0005,2,    25.00,  21.3359,20110218,1825
  29AH20110128,   A05,    76,  1,     20,2,20110218,1701, 24.5032, -46.8225, 3981,    101.2,  22.3883,  37.1926,2,    207.1,2,    208.7,2,     1.04,2,     0.01,2,     0.05,2,   -999.0,9,   8.0451,2,    25.00,  22.3678,20110218,1826
  29AH20110128,   A05,    76,  1,     21,2,20110218,1701, 24.5032, -46.8225, 3981,     74.8,  23.3294,  37.3901,2,    209.8,2,    211.1,2,     1.04,2,     0.01,2,     0.05,2,   -999.0,9,   8.0707,2,    25.00,  23.3138,20110218,1826
  29AH20110128,   A05,    76,  1,     22,2,20110218,1701, 24.5032, -46.8225, 3981,     51.6,  23.4918,  37.4306,2,    210.2,2,    211.1,2,     1.18,2,     0.01,2,     0.06,2,   -999.0,9,   8.0758,2,    25.00,  23.4810,20110218,1827
  29AH20110128,   A05,    76,  1,     23,2,20110218,1701, 24.5032, -46.8225, 3981,     25.6,  23.4986,  37.4326,2,    210.5,2,    211.5,2,     1.11,2,     0.01,2,     0.05,2,   -999.0,9,   8.0747,2,    25.00,  23.4932,20110218,1828
  29AH20110128,   A05,    76,  1,     24,2,20110218,1701, 24.5032, -46.8225, 3981,      4.4,  23.5124,  37.4364,2,    210.9,2,    211.0,2,     1.10,2,     0.00,2,     0.05,2,   -999.0,9,   8.0757,2,    25.00,  23.5115,20110218,1831