BOTTLE,20220930CCHSIOAMB
EXPOCODE,SECT_ID,STNNBR,CASTNO,BTLNBR,BTLNBR_FLAG_W,DATE,TIME,LATITUDE,LONGITUDE,DEPTH,CTDPRS,CTDTMP,CTDSAL,CTDSAL_FLAG_W,CTDOXY,CTDOXY_FLAG_W,OXYGEN,OXYGEN_FLAG_W,SILCAT,SILCAT_FLAG_W,NITRAT,NITRAT_FLAG_W,PHSPHT,PHSPHT_FLAG_W,ALKALI,ALKALI_FLAG_W,PH_SWS,PH_SWS_FLAG_W,PH_TMP,THETA,BTL_DATE,BTL_TIME
,,,,,,,,,,METERS,DBAR,ITS-90,PSS-78,,UMOL/KG,,UMOL/KG,,UMOL/KG,,UMOL/KG,,UMOL/KG,,UMOL/KG,,,,DEG C,DEG C,,
  29AH20110128,   A05,    44,  1,      1,2,20110209,0138, 24.5010, -31.4267, 5943,   5796.3,   2.4754,  34.8812,2,    245.3,2,    245.0,2,    49.98,2,    21.03,2,     1.56,2,   2357.0,2,   7.7167,2,    25.00,   1.9019,20110209,0138
  29AH20110128,   A05,    44,  1,      2,2,20110209,0138, 24.5010, -31.4267, 5943,   5500.6,   2.4355,  34.8818,2,    244.8,2,    244.1,2,    48.73,2,    21.09,2,     1.53,2,   2356.0,2,   7.7174,2,    25.00,   1.9033,20110209,0144
  29AH20110128,   A05,    44,  1,      3,2,20110209,0138, 24.5010, -31.4267, 5943,   4999.9,   2.3888,  34.8846,2,    244.5,2,    243.9,2,    48.34,2,    20.98,2,     1.56,2,   2356.6,2,   7.7219,2,    25.00,   1.9231,20110209,0154
  29AH20110128,   A05,    44,  1,      4,2,20110209,0138, 24.5010, -31.4267, 5943,   4500.3,   2.3764,  34.8902,2,    243.7,2,    244.0,2,    47.70,2,    20.91,2,     1.53,2,   2355.6,2,   7.7255,2,    25.00,   1.9728,20110209,0204
  29AH20110128,   A05,    44,  1,      5,2,20110209,0138, 24.5010, -31.4267, 5943,   4000.9,   2.3956,  34.8980,2,    243.1,2,    243.5,2,    46.20,2,    20.85,2,     1.46,2,   2352.8,2,   7.7257,2,    25.00,   2.0501,20110209,0213
  29AH20110128,   A05,    44,  1,      6,2,20110209,0138, 24.5010, -31.4267, 5943,   3502.3,   2.4979,  34.9131,2,    242.8,2,    243.4,2,    42.55,2,    20.48,2,     1.44,2,   2347.7,2,   7.7197,2,    25.00,   2.2052,20110209,0223
  29AH20110128,   A05,    44,  1,      7,2,20110209,0138, 24.5010, -31.4267, 5943,   3000.2,   2.7117,  34.9369,2,    242.5,2,    242.9,2,    37.77,2,    19.87,2,     1.42,2,   2340.7,2,   7.7229,2,    25.00,   2.4671,20110209,0233
  29AH20110128,   A05,    44,  1,      8,2,20110209,0138, 24.5010, -31.4267, 5943,   2499.6,   3.1765,  34.9819,2,    240.8,2,    238.8,2,    30.97,2,    19.43,2,     1.32,2,   -999.0,9,   7.7273,2,    25.00,   2.9732,20110209,0242
  29AH20110128,   A05,    44,  1,      9,2,20110209,0138, 24.5010, -31.4267, 5943,   2001.4,   4.0235,  35.0605,2,    231.1,2,    232.5,2,  -999.00,9,  -999.00,9,  -999.00,9,   2334.1,2,   7.7196,2,    25.00,   3.8552,20110209,0252
  29AH20110128,   A05,    44,  1,     10,2,20110209,0138, 24.5010, -31.4267, 5943,   1750.7,   4.5483,  35.1052,2,    222.1,2,    224.5,2,    23.31,2,    19.81,2,     1.30,2,   2334.7,2,   7.7178,2,    25.00,   4.3973,20110209,0257
  29AH20110128,   A05,    44,  1,     11,2,20110209,0138, 24.5010, -31.4267, 5943,   1501.1,   5.2620,  35.1543,2,    211.2,2,    211.7,2,    20.76,2,    19.96,2,     1.38,2,   2333.1,2,   7.7110,2,    25.00,   5.1271,20110209,0302
  29AH20110128,   A05,    44,  1,     12,2,20110209,0138, 24.5010, -31.4267, 5943,   1317.4,   5.7688,  35.1531,2,    197.9,2,    198.4,2,    20.90,2,    19.94,2,     1.36,2,   2332.4,2,   7.7014,2,    25.00,   5.6471,20110209,0305
  29AH20110128,   A05,    44,  1,     13,2,20110209,0138, 24.5010, -31.4267, 5943,   1199.0,   6.0967,  35.1306,2,    183.4,2,    182.0,2,    20.91,2,    22.42,2,     1.58,2,   2331.2,2,   7.6785,2,    25.00,   5.9841,20110209,0308
  29AH20110128,   A05,    44,  1,     14,2,20110209,0138, 24.5010, -31.4267, 5943,    999.0,   7.1810,  35.1619,2,    157.4,2,    159.7,2,    20.72,2,    23.92,2,     1.71,2,   2330.3,2,   7.6599,2,    25.00,   7.0805,20110209,0312
  29AH20110128,   A05,    44,  1,     15,2,20110209,0138, 24.5010, -31.4267, 5943,    802.5,   8.7168,  35.2589,2,    136.7,2,    136.4,2,    17.93,2,    24.01,2,     1.70,2,   2329.3,2,   7.6599,2,    25.00,   8.6279,20110209,0317
  29AH20110128,   A05,    44,  1,     16,2,20110209,0138, 24.5010, -31.4267, 5943,    600.2,  11.3057,  35.5509,2,    153.9,2,    154.1,2,    10.66,2,    18.30,2,     1.07,2,   2339.7,2,   7.7313,2,    25.00,  11.2286,20110209,0321
  29AH20110128,   A05,    44,  1,     17,2,20110209,0138, 24.5010, -31.4267, 5943,    400.9,  14.0758,  35.9198,2,    172.9,2,    173.5,2,     6.00,2,    11.86,2,     0.57,2,   2357.9,2,   7.8274,2,    25.00,  14.0168,20110209,0325
  29AH20110128,   A05,    44,  1,     18,2,20110209,0138, 24.5010, -31.4267, 5943,    300.5,  15.8948,  36.2086,2,    177.6,2,    178.2,2,     4.58,2,     8.80,2,     0.41,2,   2373.3,2,   7.8675,2,    25.00,  15.8469,20110209,0327
  29AH20110128,   A05,    44,  1,     19,2,20110209,0138, 24.5010, -31.4267, 5943,    150.2,  19.6556,  36.8330,2,    186.7,2,    189.5,2,     2.52,2,     2.06,2,     0.12,2,   2414.6,2,   7.9528,2,    25.00,  19.6279,20110209,0330
  29AH20110128,   A05,    44,  1,     20,2,20110209,0138, 24.5010, -31.4267, 5943,    124.7,  21.4602,  37.1502,2,    201.4,2,    205.3,2,     2.13,2,     0.30,2,     0.07,2,   -999.0,9,   8.0127,2,    25.00,  21.4357,20110209,0331
  29AH20110128,   A05,    44,  1,     21,2,20110209,0138, 24.5010, -31.4267, 5943,     74.4,  22.7214,  37.4317,2,    211.0,2,    210.7,2,     1.96,2,     0.02,2,     0.09,2,   2453.5,2,   8.0404,2,    25.00,  22.7062,20110209,0332
  29AH20110128,   A05,    44,  1,     22,2,20110209,0138, 24.5010, -31.4267, 5943,     50.0,  22.7462,  37.4324,2,    211.4,2,    211.8,2,     2.03,2,     0.01,2,     0.08,2,   -999.0,9,   8.0462,2,    25.00,  22.7360,20110209,0332
  29AH20110128,   A05,    44,  1,     23,2,20110209,0138, 24.5010, -31.4267, 5943,     23.5,  22.7715,  37.4342,2,    211.3,2,    211.0,2,     2.04,2,     0.02,2,     0.10,2,   -999.0,9,   8.0460,2,    25.00,  22.7667,20110209,0333
  29AH20110128,   A05,    44,  1,     24,2,20110209,0138, 24.5010, -31.4267, 5943,      5.8,  22.7874,  37.4373,2,    211.9,2,    211.9,2,     2.04,2,     0.03,2,     0.07,2,   2452.3,2,   8.0362,2,    25.00,  22.7862,20110209,0334
  29AH20110128,   A05,    45,  1,      1,2,20110209,0909, 24.5007, -32.0405, 5752,   5623.5,   2.4469,  34.8811,2,    245.5,2,    244.9,2,    48.01,2,    21.03,2,     1.52,2,   -999.0,9,   7.7138,2,    25.00,   1.8979,20110209,0909
  29AH20110128,   A05,    45,  1,      2,2,20110209,0909, 24.5007, -32.0405, 5752,   5499.7,   2.4299,  34.8814,2,    245.6,2,    244.7,2,    47.75,2,    20.86,2,     1.56,2,   -999.0,9,   7.7152,2,    25.00,   1.8980,20110209,0911
  29AH20110128,   A05,    45,  1,      3,2,20110209,0909, 24.5007, -32.0405, 5752,   4999.7,   2.3867,  34.8845,2,    244.6,2,    246.0,2,    47.84,2,    20.93,2,     1.56,2,   -999.0,9,   7.7195,2,    25.00,   1.9211,20110209,0921
  29AH20110128,   A05,    45,  1,      4,2,20110209,0909, 24.5007, -32.0405, 5752,   4499.8,   2.3773,  34.8904,2,    244.1,2,    244.3,2,    46.22,2,    20.87,2,     1.48,2,   -999.0,9,   7.7193,2,    25.00,   1.9738,20110209,0930
  29AH20110128,   A05,    45,  1,      5,2,20110209,0909, 24.5007, -32.0405, 5752,   4000.3,   2.3981,  34.8983,2,    244.0,2,    244.5,2,    44.47,2,    20.63,2,     1.50,2,   -999.0,9,   7.7225,2,    25.00,   2.0526,20110209,0940
  29AH20110128,   A05,    45,  1,      6,2,20110209,0909, 24.5007, -32.0405, 5752,   3499.8,   2.4880,  34.9120,2,    242.6,2,    244.5,2,    42.23,2,    20.39,2,     1.49,2,   -999.0,9,   7.7203,2,    25.00,   2.1958,20110209,0950
  29AH20110128,   A05,    45,  1,      7,2,20110209,0909, 24.5007, -32.0405, 5752,   3000.5,   2.7240,  34.9375,2,    241.7,2,    242.8,2,    36.99,2,    19.94,2,     1.40,2,   -999.0,9,   7.7185,2,    25.00,   2.4791,20110209,0959
  29AH20110128,   A05,    45,  1,      8,2,20110209,0909, 24.5007, -32.0405, 5752,   2499.4,   3.1974,  34.9838,2,    241.0,2,    243.0,2,    30.24,2,    19.37,2,     1.32,2,   -999.0,9,   7.7274,2,    25.00,   2.9937,20110209,1009
  29AH20110128,   A05,    45,  1,      9,2,20110209,0909, 24.5007, -32.0405, 5752,   2000.6,   3.9986,  35.0576,2,    232.0,2,    233.5,2,    24.27,2,    19.16,2,     1.32,2,   -999.0,9,   7.7231,2,    25.00,   3.8307,20110209,1018
  29AH20110128,   A05,    45,  1,     10,2,20110209,0909, 24.5007, -32.0405, 5752,   1749.6,   4.5451,  35.1018,2,    222.7,2,    223.9,2,    22.00,2,    19.51,2,     1.33,2,   -999.0,9,   7.7158,2,    25.00,   4.3942,20110209,1023
  29AH20110128,   A05,    45,  1,     11,2,20110209,0909, 24.5007, -32.0405, 5752,   1500.0,   5.1367,  35.1253,2,    208.5,2,    209.6,2,    20.62,2,    20.52,2,     1.37,2,   -999.0,9,   7.7020,2,    25.00,   5.0034,20110209,1028
  29AH20110128,   A05,    45,  1,     12,2,20110209,0909, 24.5007, -32.0405, 5752,   1299.6,   5.7434,  35.1443,2,    194.0,2,    194.3,2,    20.16,2,    21.54,2,     1.43,2,   -999.0,9,   7.6910,2,    25.00,   5.6238,20110209,1032
  29AH20110128,   A05,    45,  1,     13,2,20110209,0909, 24.5007, -32.0405, 5752,   1201.2,   5.8882,  35.1111,2,    184.5,2,    185.4,2,    20.25,2,    22.39,2,     1.60,2,   -999.0,9,   7.6776,2,    25.00,   5.7772,20110209,1034
  29AH20110128,   A05,    45,  1,     14,2,20110209,0909, 24.5007, -32.0405, 5752,   1001.3,   6.6996,  35.0988,2,    157.1,2,    157.6,2,    21.16,2,    24.54,2,     1.79,2,   -999.0,9,   7.6491,2,    25.00,   6.6025,20110209,1038
  29AH20110128,   A05,    45,  1,     15,2,20110209,0909, 24.5007, -32.0405, 5752,    800.6,   8.4861,  35.2491,2,    139.6,2,    140.3,2,    17.82,2,    23.94,2,  -999.00,9,   -999.0,9,   7.6552,2,    25.00,   8.3988,20110209,1043
  29AH20110128,   A05,    45,  1,     16,2,20110209,0909, 24.5007, -32.0405, 5752,    601.1,  11.1336,  35.5349,2,    159.8,2,    161.2,2,    10.29,2,    17.83,2,     1.04,2,   -999.0,9,   7.7307,2,    25.00,  11.0571,20110209,1047
  29AH20110128,   A05,    45,  1,     17,2,20110209,0909, 24.5007, -32.0405, 5752,    400.2,  13.9402,  35.9022,2,    181.3,2,    183.9,2,     5.48,2,    10.75,2,     0.57,2,   -999.0,9,   7.8285,2,    25.00,  13.8817,20110209,1051
  29AH20110128,   A05,    45,  1,     18,2,20110209,0909, 24.5007, -32.0405, 5752,    301.1,  15.7117,  36.1766,2,    180.6,2,    180.2,2,     4.29,2,     8.61,2,     0.42,2,   -999.0,9,   7.8642,2,    25.00,  15.6641,20110209,1053
  29AH20110128,   A05,    45,  1,     19,2,20110209,0909, 24.5007, -32.0405, 5752,    151.8,  18.9193,  36.7642,2,    177.5,2,    178.3,2,     2.69,2,     4.40,2,     0.21,2,   -999.0,9,   7.9154,2,    25.00,  18.8920,20110209,1056
  29AH20110128,   A05,    45,  1,     20,2,20110209,0909, 24.5007, -32.0405, 5752,    121.1,  20.0948,  36.9233,2,    186.7,2,    185.5,2,     2.29,2,     2.10,2,     0.15,2,   -999.0,9,   7.9466,2,    25.00,  20.0721,20110209,1057
  29AH20110128,   A05,    45,  1,     21,2,20110209,0909, 24.5007, -32.0405, 5752,     75.5,  22.5473,  37.4010,2,    212.2,2,    211.5,2,     1.80,2,     0.01,2,     0.08,2,   -999.0,9,   8.0369,2,    25.00,  22.5319,20110209,1101
  29AH20110128,   A05,    45,  1,     22,2,20110209,0909, 24.5007, -32.0405, 5752,     41.0,  22.8309,  37.4537,2,    211.5,2,    210.4,2,     1.77,2,     0.01,2,     0.06,2,   -999.0,9,   8.0446,2,    25.00,  22.8225,20110209,1103
  29AH20110128,   A05,    45,  1,     23,2,20110209,0909, 24.5007, -32.0405, 5752,     26.2,  22.8486,  37.4562,2,    211.2,2,    210.7,2,     1.81,2,     0.01,2,     0.07,2,   -999.0,9,   8.0449,2,    25.00,  22.8432,20110209,1103
  29AH20110128,   A05,    45,  1,     24,2,20110209,0909, 24.5007, -32.0405, 5752,      4.7,  22.8430,  37.4571,2,    211.4,2,    210.1,2,     1.79,2,     0.02,2,     0.11,2,   -999.0,9,   8.0448,2,    25.00,  22.8420,20110209,1104
  29AH20110128,   A05,    46,  1,      1,2,20110209,1807, 24.4995, -32.6498, 6011,   6001.5,   2.4878,  34.8799,2,    246.6,2,    246.7,2,    49.72,2,    21.01,2,     1.51,2,   2350.5,2,   7.7181,2,    25.00,   1.8857,20110209,1807
  29AH20110128,   A05,    46,  1,      2,2,20110209,1807, 24.4995, -32.6498, 6011,   5500.3,   2.4248,  34.8814,2,    245.2,2,    244.7,2,    49.10,2,    20.98,2,     1.49,2,   2349.9,2,   7.7185,2,    25.00,   1.8930,20110209,1816
  29AH20110128,   A05,    46,  1,      3,2,20110209,1807, 24.4995, -32.6498, 6011,   4999.2,   2.3878,  34.8849,2,    244.5,2,    244.5,2,    49.02,2,    21.07,2,     1.48,2,   2350.4,2,   7.7219,2,    25.00,   1.9222,20110209,1826
  29AH20110128,   A05,    46,  1,      4,2,20110209,1807, 24.4995, -32.6498, 6011,   4501.4,   2.3876,  34.8918,2,    243.8,2,    242.9,2,    47.88,2,    21.04,2,     1.48,2,   2352.3,2,   7.7232,2,    25.00,   1.9835,20110209,1835
  29AH20110128,   A05,    46,  1,      5,2,20110209,1807, 24.4995, -32.6498, 6011,   4000.2,   2.3978,  34.8984,2,    243.6,2,    244.3,2,    45.24,2,    20.75,2,     1.49,2,   2350.6,2,   7.7226,2,    25.00,   2.0523,20110209,1845
  29AH20110128,   A05,    46,  1,      6,2,20110209,1807, 24.4995, -32.6498, 6011,   3500.0,   2.4886,  34.9119,2,    242.3,2,    242.6,2,    43.09,2,    20.51,2,     1.47,2,   2349.2,2,   7.7256,2,    25.00,   2.1964,20110209,1855
  29AH20110128,   A05,    46,  1,      7,2,20110209,1807, 24.4995, -32.6498, 6011,   3000.1,   2.7040,  34.9359,2,    241.2,2,    242.1,2,    38.41,2,    20.06,2,     1.46,2,   -999.0,9,   7.7180,2,    25.00,   2.4596,20110209,1904
  29AH20110128,   A05,    46,  1,      8,2,20110209,1807, 24.4995, -32.6498, 6011,   2500.9,   3.1582,  34.9806,2,    240.8,2,    241.9,2,    30.72,2,    19.51,2,     1.36,2,   2336.7,2,   7.7201,2,    25.00,   2.9551,20110209,1914
  29AH20110128,   A05,    46,  1,      9,2,20110209,1807, 24.4995, -32.6498, 6011,   1999.3,   4.0467,  35.0642,2,    231.9,2,    232.9,2,    23.97,2,    19.21,2,     1.34,2,   2330.7,2,   7.7221,2,    25.00,   3.8782,20110209,1924
  29AH20110128,   A05,    46,  1,     10,2,20110209,1807, 24.4995, -32.6498, 6011,   1751.2,   4.6729,  35.1229,2,    222.9,2,    224.3,2,    21.03,2,    19.28,2,     1.34,2,   2331.9,2,   7.7165,2,    25.00,   4.5202,20110209,1929
  29AH20110128,   A05,    46,  1,     11,2,20110209,1807, 24.4995, -32.6498, 6011,   1501.0,   5.7077,  35.2356,2,    207.5,2,    207.7,2,    19.16,2,    19.81,2,     1.33,2,   2336.0,2,   7.7160,2,    25.00,   5.5677,20110209,1934
  29AH20110128,   A05,    46,  1,     12,2,20110209,1807, 24.4995, -32.6498, 6011,   1301.4,   6.2389,  35.2387,2,    193.9,2,    194.3,2,    18.10,2,    20.70,2,     1.42,2,   2333.7,2,   7.6985,2,    25.00,   6.1142,20110209,1937
  29AH20110128,   A05,    46,  1,     13,2,20110209,1807, 24.4995, -32.6498, 6011,   1201.0,   6.1586,  35.1543,2,    186.6,2,    186.3,2,    19.24,2,    22.05,2,     1.55,2,   2328.2,2,   7.6791,2,    25.00,   6.0452,20110209,1939
  29AH20110128,   A05,    46,  1,     14,2,20110209,1807, 24.4995, -32.6498, 6011,    999.9,   6.6703,  35.1032,2,    163.9,2,    163.3,2,    20.22,2,    24.06,2,     1.74,2,   2325.5,2,   7.6589,2,    25.00,   6.5735,20110209,1943
  29AH20110128,   A05,    46,  1,     15,2,20110209,1807, 24.4995, -32.6498, 6011,    800.5,   8.7319,  35.2679,2,    144.7,2,    149.8,2,    16.02,2,    23.31,2,     1.63,2,   2329.0,2,   7.6688,2,    25.00,   8.6432,20110209,1947
  29AH20110128,   A05,    46,  1,     16,2,20110209,1807, 24.4995, -32.6498, 6011,    601.9,  11.3661,  35.5559,2,    160.0,2,    160.7,2,     9.73,2,    17.70,2,     1.04,2,   2340.9,2,   7.7401,2,    25.00,  11.2885,20110209,1951
  29AH20110128,   A05,    46,  1,     17,2,20110209,1807, 24.4995, -32.6498, 6011,    401.6,  14.6845,  36.0091,2,    187.4,2,    186.6,2,     4.70,2,     9.76,2,  -999.00,9,   2362.0,2,   7.8520,2,    25.00,  14.6237,20110209,1955
  29AH20110128,   A05,    46,  1,     18,2,20110209,1807, 24.4995, -32.6498, 6011,    301.1,  16.1377,  36.2479,2,    193.7,2,    193.9,2,     3.55,2,     7.04,2,     0.33,2,   2376.1,2,   7.9015,2,    25.00,  16.0892,20110209,1957
  29AH20110128,   A05,    46,  1,     19,2,20110209,1807, 24.4995, -32.6498, 6011,    151.1,  20.6836,  37.0518,2,    208.3,2,    209.2,2,     1.91,2,     1.02,2,     0.08,2,   2428.4,2,   7.9742,2,    25.00,  20.6547,20110209,2001
  29AH20110128,   A05,    46,  1,     20,2,20110209,1807, 24.4995, -32.6498, 6011,    125.1,  21.8502,  37.3318,2,    213.3,2,    212.0,2,     1.69,2,     0.23,2,     0.08,2,   -999.0,9,   8.0215,2,    25.00,  21.8253,20110209,2002
  29AH20110128,   A05,    46,  1,     21,2,20110209,1807, 24.4995, -32.6498, 6011,     75.2,  22.0493,  37.3874,2,    214.7,2,    213.7,2,     1.61,2,     0.12,2,     0.07,2,   2448.8,2,   8.0325,2,    25.00,  22.0342,20110209,2003
  29AH20110128,   A05,    46,  1,     22,2,20110209,1807, 24.4995, -32.6498, 6011,     51.9,  22.3156,  37.4201,2,    214.1,2,    214.8,2,     1.66,2,     0.12,2,     0.08,2,   -999.0,9,   8.0429,2,    25.00,  22.3051,20110209,2003
  29AH20110128,   A05,    46,  1,     23,2,20110209,1807, 24.4995, -32.6498, 6011,     24.4,  22.4289,  37.4355,2,    213.9,2,    213.4,2,     1.63,2,     0.12,2,     0.07,2,   -999.0,9,   8.0448,2,    25.00,  22.4240,20110209,2004
  29AH20110128,   A05,    46,  1,     24,2,20110209,1807, 24.4995, -32.6498, 6011,      4.2,  22.4872,  37.4359,2,    214.2,2,    212.5,2,     1.68,2,     0.13,2,     0.08,2,   2451.2,2,   8.0435,2,    25.00,  22.4863,20110209,2005