BOTTLE,20220930CCHSIOAMB
EXPOCODE,SECT_ID,STNNBR,CASTNO,BTLNBR,BTLNBR_FLAG_W,DATE,TIME,LATITUDE,LONGITUDE,DEPTH,CTDPRS,CTDTMP,CTDSAL,CTDSAL_FLAG_W,CTDOXY,CTDOXY_FLAG_W,OXYGEN,OXYGEN_FLAG_W,SILCAT,SILCAT_FLAG_W,NITRAT,NITRAT_FLAG_W,PHSPHT,PHSPHT_FLAG_W,ALKALI,ALKALI_FLAG_W,PH_SWS,PH_SWS_FLAG_W,PH_TMP,THETA,BTL_DATE,BTL_TIME
,,,,,,,,,,METERS,DBAR,ITS-90,PSS-78,,UMOL/KG,,UMOL/KG,,UMOL/KG,,UMOL/KG,,UMOL/KG,,UMOL/KG,,,,DEG C,DEG C,,
  29AH20110128,   A05,    53,  1,      1,2,20110211,2055, 24.5005, -36.1848, 5958,   5947.6,   2.4545,  34.8774,2,    247.7,2,    246.7,2,    48.49,2,    20.63,2,     1.49,2,   -999.0,9,   7.7169,2,    25.00,   1.8611,20110211,2055
  29AH20110128,   A05,    53,  1,      2,2,20110211,2055, 24.5005, -36.1848, 5958,   5501.0,   2.4187,  34.8807,2,    246.1,2,    246.9,2,    48.33,2,    20.48,2,     1.48,2,   -999.0,9,   7.7195,2,    25.00,   1.8870,20110211,2104
  29AH20110128,   A05,    53,  1,      3,2,20110211,2055, 24.5005, -36.1848, 5958,   5000.5,   2.3806,  34.8840,2,    246.1,2,    247.8,2,    46.79,2,    20.57,2,     1.48,2,   -999.0,9,   7.7200,2,    25.00,   1.9151,20110211,2113
  29AH20110128,   A05,    53,  1,      4,2,20110211,2055, 24.5005, -36.1848, 5958,   4501.3,   2.3871,  34.8914,2,    244.8,2,    246.2,2,  -999.00,9,  -999.00,9,  -999.00,9,   -999.0,9,   7.7216,2,    25.00,   1.9831,20110211,2123
  29AH20110128,   A05,    53,  1,      5,2,20110211,2055, 24.5005, -36.1848, 5958,   4000.6,   2.4409,  34.9026,2,    243.6,2,    244.7,2,    43.80,2,    20.24,2,     1.44,2,   -999.0,9,   7.7232,2,    25.00,   2.0941,20110211,2132
  29AH20110128,   A05,    53,  1,      6,2,20110211,2055, 24.5005, -36.1848, 5958,   3501.5,   2.5559,  34.9181,2,    242.5,2,    243.0,2,    41.41,2,    20.19,2,     1.41,2,   -999.0,9,   7.7251,2,    25.00,   2.2618,20110211,2142
  29AH20110128,   A05,    53,  1,      7,2,20110211,2055, 24.5005, -36.1848, 5958,   3001.1,   2.8094,  34.9443,2,    240.6,2,    241.5,2,  -999.00,9,  -999.00,9,  -999.00,9,   -999.0,9,   7.7274,2,    25.00,   2.5626,20110211,2152
  29AH20110128,   A05,    53,  1,      8,2,20110211,2055, 24.5005, -36.1848, 5958,   2502.2,   3.1958,  34.9788,2,    240.4,2,    242.8,2,    29.50,2,    19.46,2,     1.30,2,   -999.0,9,   7.7297,2,    25.00,   2.9919,20110211,2201
  29AH20110128,   A05,    53,  1,      9,2,20110211,2055, 24.5005, -36.1848, 5958,   2001.8,   3.9646,  35.0431,2,    234.6,2,    236.6,2,    22.88,2,    18.98,2,     1.27,2,   -999.0,9,   7.7292,2,    25.00,   3.7972,20110211,2211
  29AH20110128,   A05,    53,  1,     10,2,20110211,2055, 24.5005, -36.1848, 5958,   1751.9,   4.5170,  35.0802,2,    226.3,2,    228.1,2,    20.24,2,    19.28,2,     1.32,2,   -999.0,9,   7.7221,2,    25.00,   4.3663,20110211,2216
  29AH20110128,   A05,    53,  1,     11,2,20110211,2055, 24.5005, -36.1848, 5958,   1502.8,   5.2137,  35.1176,2,    208.9,2,    210.0,2,    19.18,2,    20.47,2,     1.36,2,   -999.0,9,   7.7062,2,    25.00,   5.0792,20110211,2221
  29AH20110128,   A05,    53,  1,     12,2,20110211,2055, 24.5005, -36.1848, 5958,   1302.3,   5.8223,  35.1208,2,    190.4,2,    191.8,2,    19.02,2,    21.90,2,     1.48,2,   -999.0,9,   7.6888,2,    25.00,   5.7017,20110211,2225
  29AH20110128,   A05,    53,  1,     13,2,20110211,2055, 24.5005, -36.1848, 5958,   1201.7,   6.1470,  35.1081,2,    178.4,2,    178.7,2,    19.61,2,    22.81,2,     1.59,2,   -999.0,9,   7.6741,2,    25.00,   6.0337,20110211,2227
  29AH20110128,   A05,    53,  1,     14,2,20110211,2055, 24.5005, -36.1848, 5958,   1000.9,   6.9590,  35.0913,2,    152.3,2,    152.4,2,    20.04,2,    24.74,2,     1.79,2,   -999.0,9,   7.6470,2,    25.00,   6.8600,20110211,2231
  29AH20110128,   A05,    53,  1,     15,2,20110211,2055, 24.5005, -36.1848, 5958,    800.1,   8.8440,  35.2584,2,    133.0,2,    133.4,2,    16.20,2,    23.95,2,     1.65,2,   -999.0,9,   7.6525,2,    25.00,   8.7547,20110211,2235
  29AH20110128,   A05,    53,  1,     16,2,20110211,2055, 24.5005, -36.1848, 5958,    600.6,  11.5520,  35.5743,2,    151.8,2,    153.9,2,     8.81,2,    17.74,2,     1.01,2,   -999.0,9,   7.7375,2,    25.00,  11.4738,20110211,2239
  29AH20110128,   A05,    53,  1,     17,2,20110211,2055, 24.5005, -36.1848, 5958,    400.4,  14.9002,  36.0437,2,    176.3,2,    177.6,2,     4.12,2,    10.03,2,     0.49,2,   -999.0,9,   7.8501,2,    25.00,  14.8389,20110211,2243
  29AH20110128,   A05,    53,  1,     18,2,20110211,2055, 24.5005, -36.1848, 5958,    300.2,  16.7636,  36.3615,2,    189.0,2,    189.3,2,     2.68,2,     6.42,2,     0.26,2,   -999.0,9,   7.9106,2,    25.00,  16.7139,20110211,2245
  29AH20110128,   A05,    53,  1,     19,2,20110211,2055, 24.5005, -36.1848, 5958,    150.7,  20.2391,  36.9782,2,    189.7,2,    190.5,2,     1.31,2,     1.28,2,     0.07,2,   -999.0,9,   7.9678,2,    25.00,  20.2107,20110211,2248
  29AH20110128,   A05,    53,  1,     20,2,20110211,2055, 24.5005, -36.1848, 5958,    125.3,  22.4525,  37.4441,2,    210.3,2,    209.6,2,     1.08,2,     0.21,2,     0.07,2,   -999.0,9,   8.0366,2,    25.00,  22.4271,20110211,2249
  29AH20110128,   A05,    53,  1,     21,2,20110211,2055, 24.5005, -36.1848, 5958,     73.4,  22.6300,  37.4858,2,    211.9,2,    212.1,2,     1.05,2,     0.12,2,     0.06,2,   -999.0,9,   8.0490,2,    25.00,  22.6150,20110211,2250
  29AH20110128,   A05,    53,  1,     22,2,20110211,2055, 24.5005, -36.1848, 5958,     51.7,  22.7318,  37.5023,2,    211.8,2,    212.4,2,     1.05,2,     0.10,2,     0.06,2,   -999.0,9,   8.0516,2,    25.00,  22.7212,20110211,2251
  29AH20110128,   A05,    53,  1,     23,2,20110211,2055, 24.5005, -36.1848, 5958,     25.0,  22.7664,  37.5080,2,    212.1,2,    211.7,2,     1.02,2,     0.09,2,     0.07,2,   -999.0,9,   8.0526,2,    25.00,  22.7613,20110211,2252
  29AH20110128,   A05,    53,  1,     24,2,20110211,2055, 24.5005, -36.1848, 5958,      5.2,  22.7577,  37.5081,2,    212.1,2,    211.6,2,     1.02,2,     0.09,2,     0.07,2,   -999.0,9,   8.0455,2,    25.00,  22.7566,20110211,2253
  29AH20110128,   A05,    54,  1,      1,2,20110212,0322, 24.5013, -36.6440, 5491,   5009.5,   2.3970,  34.8850,2,    246.0,2,    246.3,2,    48.51,2,    20.74,2,     1.48,2,   -999.0,9,   7.7176,2,    25.00,   1.9298,20110212,0322
  29AH20110128,   A05,    54,  1,      2,2,20110212,0322, 24.5013, -36.6440, 5491,   4501.3,   2.3865,  34.8911,2,    245.6,2,    245.8,2,  -999.00,9,  -999.00,9,  -999.00,9,   -999.0,9,   7.7211,2,    25.00,   1.9825,20110212,0332
  29AH20110128,   A05,    54,  1,      3,2,20110212,0322, 24.5013, -36.6440, 5491,   4001.1,   2.4375,  34.9018,2,    245.3,2,    245.4,2,    45.08,2,    20.49,2,     1.46,2,   -999.0,9,   7.7246,2,    25.00,   2.0908,20110212,0341
  29AH20110128,   A05,    54,  1,      4,2,20110212,0322, 24.5013, -36.6440, 5491,   3499.4,   2.5645,  34.9187,2,    244.0,2,    244.7,2,    41.83,2,    20.26,2,     1.41,2,   -999.0,9,   7.7237,2,    25.00,   2.2704,20110212,0351
  29AH20110128,   A05,    54,  1,      5,2,20110212,0322, 24.5013, -36.6440, 5491,   3002.8,   2.8159,  34.9444,2,    242.2,2,    243.7,2,    35.76,2,    19.87,2,     1.37,2,   -999.0,9,   7.7271,2,    25.00,   2.5687,20110212,0401
  29AH20110128,   A05,    54,  1,      6,2,20110212,0322, 24.5013, -36.6440, 5491,   2500.4,   3.2695,  34.9845,2,    241.6,2,    244.1,2,    29.40,2,    19.13,2,     1.33,2,   -999.0,9,   7.7306,2,    25.00,   3.0644,20110212,0411
  29AH20110128,   A05,    54,  1,      7,2,20110212,0322, 24.5013, -36.6440, 5491,   2001.3,   4.1212,  35.0549,2,    234.6,2,    236.5,2,    22.12,2,    19.08,2,     1.24,2,   -999.0,9,   7.7227,2,    25.00,   3.9515,20110212,0420
  29AH20110128,   A05,    54,  1,      8,2,20110212,0322, 24.5013, -36.6440, 5491,   1749.7,   4.6071,  35.0787,2,    226.9,2,    228.2,2,    19.69,2,    19.39,2,     1.27,2,   -999.0,9,   7.7217,2,    25.00,   4.4555,20110212,0425
  29AH20110128,   A05,    54,  1,      9,2,20110212,0322, 24.5013, -36.6440, 5491,   1500.8,   5.1450,  35.0938,2,    213.6,2,    214.8,2,    18.42,2,    20.13,2,     1.34,2,   -999.0,9,   7.6996,2,    25.00,   5.0116,20110212,0430
  29AH20110128,   A05,    54,  1,     10,2,20110212,0322, 24.5013, -36.6440, 5491,   1300.8,   5.9538,  35.1205,2,    186.6,2,    186.3,2,    19.41,2,    22.30,2,     1.54,2,   -999.0,9,   7.6797,2,    25.00,   5.8321,20110212,0434
  29AH20110128,   A05,    54,  1,     11,2,20110212,0322, 24.5013, -36.6440, 5491,   1202.9,   6.1458,  35.1092,2,    178.8,2,    179.6,2,    19.15,2,    22.72,2,     1.61,2,   -999.0,9,   7.6693,2,    25.00,   6.0324,20110212,0437
  29AH20110128,   A05,    54,  1,     12,2,20110212,0322, 24.5013, -36.6440, 5491,   1097.4,   6.4531,  35.0858,2,    166.6,2,    166.7,2,    20.17,2,    23.81,2,     1.71,2,   -999.0,9,   7.6535,2,    25.00,   6.3480,20110212,0439
  29AH20110128,   A05,    54,  1,     13,2,20110212,0322, 24.5013, -36.6440, 5491,   1001.4,   6.9733,  35.0936,2,    152.4,2,    152.8,2,    19.90,2,    24.81,2,     1.78,2,   -999.0,9,   7.6479,2,    25.00,   6.8741,20110212,0441
  29AH20110128,   A05,    54,  1,     14,2,20110212,0322, 24.5013, -36.6440, 5491,    900.1,   7.6981,  35.1478,2,    144.8,2,    144.3,2,    19.07,2,    24.60,2,     1.75,2,   -999.0,9,   7.6492,2,    25.00,   7.6047,20110212,0443
  29AH20110128,   A05,    54,  1,     15,2,20110212,0322, 24.5013, -36.6440, 5491,    799.9,   9.0864,  35.2935,2,    139.8,2,    140.3,2,    14.40,2,    22.34,2,     1.44,2,   -999.0,9,   7.6711,2,    25.00,   8.9956,20110212,0445
  29AH20110128,   A05,    54,  1,     16,2,20110212,0322, 24.5013, -36.6440, 5491,    600.6,  11.9220,  35.6263,2,    161.0,2,    162.7,2,     7.87,2,    16.22,2,     0.91,2,   -999.0,9,   7.7545,2,    25.00,  11.8422,20110212,0449
  29AH20110128,   A05,    54,  1,     17,2,20110212,0322, 24.5013, -36.6440, 5491,    401.4,  14.8381,  36.0325,2,    173.6,2,    174.5,2,     4.53,2,    10.61,2,     0.53,2,   -999.0,9,   7.8368,2,    25.00,  14.7769,20110212,0453
  29AH20110128,   A05,    54,  1,     18,2,20110212,0322, 24.5013, -36.6440, 5491,    300.6,  16.6937,  36.3320,2,    196.2,2,    197.6,2,     2.66,2,     5.88,2,     0.23,2,   -999.0,9,   7.9171,2,    25.00,  16.6441,20110212,0455
  29AH20110128,   A05,    54,  1,     19,2,20110212,0322, 24.5013, -36.6440, 5491,    150.4,  20.6746,  37.0253,2,    197.7,2,    199.7,2,     1.23,2,     0.69,2,     0.06,2,   -999.0,9,   7.9870,2,    25.00,  20.6458,20110212,0458
  29AH20110128,   A05,    54,  1,     20,2,20110212,0322, 24.5013, -36.6440, 5491,    124.8,  22.6994,  37.4963,2,    210.9,2,    211.3,2,     1.13,2,     0.09,2,     0.06,2,   -999.0,9,   8.0467,2,    25.00,  22.6739,20110212,0500
  29AH20110128,   A05,    54,  1,     21,2,20110212,0322, 24.5013, -36.6440, 5491,     75.5,  22.8019,  37.5093,2,    210.7,2,    211.7,2,     1.14,2,     0.09,2,     0.06,2,   -999.0,9,   8.0497,2,    25.00,  22.7864,20110212,0501
  29AH20110128,   A05,    54,  1,     22,2,20110212,0322, 24.5013, -36.6440, 5491,     52.0,  22.8102,  37.5106,2,    210.7,2,    211.6,2,     1.14,2,     0.10,2,     0.07,2,   -999.0,9,   8.0508,2,    25.00,  22.7995,20110212,0501
  29AH20110128,   A05,    54,  1,     23,2,20110212,0322, 24.5013, -36.6440, 5491,     26.2,  22.8009,  37.5111,2,    211.0,2,    210.0,2,     1.16,2,     0.11,2,     0.07,2,   -999.0,9,   8.0476,2,    25.00,  22.7955,20110212,0502
  29AH20110128,   A05,    54,  1,     24,2,20110212,0322, 24.5013, -36.6440, 5491,      5.6,  22.7946,  37.5110,2,    211.1,2,    211.0,2,     1.15,2,     0.12,2,     0.07,2,   -999.0,9,   8.0467,2,    25.00,  22.7934,20110212,0503
  29AH20110128,   A05,    55,  1,      1,2,20110212,0952, 24.5017, -37.1080, 6003,   5992.7,   2.4787,  34.8789,2,    246.8,2,    246.9,2,    50.40,2,    20.91,2,     1.47,2,   2349.3,2,   7.7169,2,    25.00,   1.8782,20110212,0952
  29AH20110128,   A05,    55,  1,      2,2,20110212,0952, 24.5017, -37.1080, 6003,   5502.6,   2.4184,  34.8805,2,    246.2,2,    247.4,2,  -999.00,9,  -999.00,9,  -999.00,9,   2349.7,2,   7.7180,2,    25.00,   1.8865,20110212,1002
  29AH20110128,   A05,    55,  1,      3,2,20110212,0952, 24.5017, -37.1080, 6003,   4998.3,   2.3913,  34.8848,2,    246.0,2,    246.7,2,    48.80,2,    20.86,2,     1.47,2,   2350.8,2,   7.7202,2,    25.00,   1.9257,20110212,1012
  29AH20110128,   A05,    55,  1,      4,2,20110212,0952, 24.5017, -37.1080, 6003,   4500.7,   2.3814,  34.8908,2,    245.1,2,    246.4,2,    47.86,2,    20.86,2,     1.45,2,   2350.4,2,   7.7204,2,    25.00,   1.9776,20110212,1021
  29AH20110128,   A05,    55,  1,      5,2,20110212,0952, 24.5017, -37.1080, 6003,   4000.8,   2.4588,  34.9038,2,    243.7,2,    246.0,2,    44.77,2,    20.44,2,     1.44,2,   2351.8,2,   7.7250,2,    25.00,   2.1115,20110212,1031
  29AH20110128,   A05,    55,  1,      6,2,20110212,0952, 24.5017, -37.1080, 6003,   3502.5,   2.5612,  34.9186,2,    241.7,2,    243.4,2,    41.58,2,    20.30,2,     1.45,2,   2351.0,2,   7.7244,2,    25.00,   2.2669,20110212,1040
  29AH20110128,   A05,    55,  1,      7,2,20110212,0952, 24.5017, -37.1080, 6003,   3001.1,   2.8150,  34.9443,2,    240.3,2,    242.9,2,    36.25,2,    20.04,2,     1.37,2,   2341.8,2,   7.7234,2,    25.00,   2.5680,20110212,1050
  29AH20110128,   A05,    55,  1,      8,2,20110212,0952, 24.5017, -37.1080, 6003,   2500.9,   3.2171,  34.9797,2,    240.5,2,    242.8,2,    29.47,2,    19.37,2,     1.34,2,   2335.4,2,   7.7265,2,    25.00,   3.0129,20110212,1100
  29AH20110128,   A05,    55,  1,      9,2,20110212,0952, 24.5017, -37.1080, 6003,   2001.2,   3.9411,  35.0327,2,    235.2,2,    237.4,2,    23.11,2,    18.97,2,     1.29,2,   2328.3,2,   7.7247,2,    25.00,   3.7741,20110212,1109
  29AH20110128,   A05,    55,  1,     10,2,20110212,0952, 24.5017, -37.1080, 6003,   1750.2,   4.4487,  35.0662,2,    228.0,2,    228.4,2,    20.45,2,    19.42,2,     1.29,2,   2325.6,2,   7.7196,2,    25.00,   4.2991,20110212,1114
  29AH20110128,   A05,    55,  1,     11,2,20110212,0952, 24.5017, -37.1080, 6003,   1500.4,   5.0563,  35.0856,2,    214.8,2,    217.1,2,    18.84,2,    20.09,2,     1.35,2,   2325.4,2,   7.7061,2,    25.00,   4.9239,20110212,1119
  29AH20110128,   A05,    55,  1,     12,2,20110212,0952, 24.5017, -37.1080, 6003,   1300.3,   5.5721,  35.0882,2,    197.0,2,    197.9,2,    18.93,2,    21.42,2,     1.49,2,   2324.6,2,   7.6895,2,    25.00,   5.4542,20110212,1124
  29AH20110128,   A05,    55,  1,     13,2,20110212,0952, 24.5017, -37.1080, 6003,   1200.7,   6.0432,  35.1138,2,    184.1,2,    184.8,2,    19.10,2,    22.39,2,     1.55,2,   2325.8,2,   7.6778,2,    25.00,   5.9309,20110212,1126
  29AH20110128,   A05,    55,  1,     14,2,20110212,0952, 24.5017, -37.1080, 6003,   1001.1,   7.1041,  35.1473,2,    156.3,2,    156.5,2,    19.80,2,    24.18,2,     1.77,2,   2326.9,2,   7.6542,2,    25.00,   7.0039,20110212,1130
  29AH20110128,   A05,    55,  1,     15,2,20110212,0952, 24.5017, -37.1080, 6003,    799.3,   9.2462,  35.3223,2,    137.0,2,    137.5,2,    15.38,2,    23.11,2,     1.57,2,   2329.2,2,   7.6671,2,    25.00,   9.1546,20110212,1134
  29AH20110128,   A05,    55,  1,     16,2,20110212,0952, 24.5017, -37.1080, 6003,    600.7,  11.7847,  35.6027,2,    156.3,2,    157.0,2,     8.64,2,    17.21,2,     0.99,2,   2338.5,2,   7.7473,2,    25.00,  11.7054,20110212,1138
  29AH20110128,   A05,    55,  1,     17,2,20110212,0952, 24.5017, -37.1080, 6003,    399.9,  14.7262,  36.0183,2,    177.9,2,    178.6,2,     4.55,2,    10.45,2,     0.53,2,   2361.3,2,   7.8451,2,    25.00,  14.6655,20110212,1142
  29AH20110128,   A05,    55,  1,     18,2,20110212,0952, 24.5017, -37.1080, 6003,    299.8,  16.5591,  36.3214,2,    188.5,2,    188.7,2,     3.05,2,     6.98,2,     0.30,2,   2377.9,2,   7.9023,2,    25.00,  16.5099,20110212,1144
  29AH20110128,   A05,    55,  1,     19,2,20110212,0952, 24.5017, -37.1080, 6003,    162.1,  20.8120,  37.0465,2,    195.9,2,    197.0,2,     1.38,2,     0.75,2,     0.08,2,   2424.9,2,   7.9849,2,    25.00,  20.7808,20110212,1147
  29AH20110128,   A05,    55,  1,     20,2,20110212,0952, 24.5017, -37.1080, 6003,    125.2,  23.1024,  37.5512,2,    209.2,2,    209.7,2,     1.27,2,     0.16,2,     0.06,2,   -999.0,9,   8.0498,2,    25.00,  23.0765,20110212,1148
  29AH20110128,   A05,    55,  1,     21,2,20110212,0952, 24.5017, -37.1080, 6003,     75.9,  23.0909,  37.5514,2,    209.9,2,    210.8,2,     1.25,2,     0.16,2,     0.06,2,   2457.6,2,   8.0500,2,    25.00,  23.0752,20110212,1149
  29AH20110128,   A05,    55,  1,     22,2,20110212,0952, 24.5017, -37.1080, 6003,     55.9,  23.0860,  37.5524,2,    210.1,2,    210.5,2,     1.24,2,     0.15,2,     0.06,2,   -999.0,9,   8.0516,2,    25.00,  23.0744,20110212,1150
  29AH20110128,   A05,    55,  1,     23,2,20110212,0952, 24.5017, -37.1080, 6003,     24.5,  23.0797,  37.5526,2,    210.5,2,    211.1,2,     1.27,2,     0.16,2,     0.06,2,   -999.0,9,   8.0527,2,    25.00,  23.0746,20110212,1151
  29AH20110128,   A05,    55,  1,     24,2,20110212,0952, 24.5017, -37.1080, 6003,      5.5,  23.0813,  37.5522,2,    210.3,2,    209.7,2,     1.19,2,     0.16,2,     0.06,2,   2456.7,2,   8.0496,2,    25.00,  23.0802,20110212,1152