BOTTLE,20220930CCHSIOAMB
EXPOCODE,SECT_ID,STNNBR,CASTNO,BTLNBR,BTLNBR_FLAG_W,DATE,TIME,LATITUDE,LONGITUDE,DEPTH,CTDPRS,CTDTMP,CTDSAL,CTDSAL_FLAG_W,CTDOXY,CTDOXY_FLAG_W,OXYGEN,OXYGEN_FLAG_W,SILCAT,SILCAT_FLAG_W,NITRAT,NITRAT_FLAG_W,PHSPHT,PHSPHT_FLAG_W,ALKALI,ALKALI_FLAG_W,PH_SWS,PH_SWS_FLAG_W,PH_TMP,THETA,BTL_DATE,BTL_TIME
,,,,,,,,,,METERS,DBAR,ITS-90,PSS-78,,UMOL/KG,,UMOL/KG,,UMOL/KG,,UMOL/KG,,UMOL/KG,,UMOL/KG,,,,DEG C,DEG C,,
  29AH20110128,   A05,    35,  1,      1,2,20110204,2328, 24.5002, -25.9290, 5450,   5439.5,   2.4619,  34.8857,2,    244.7,2,    244.4,2,    49.62,2,    21.27,2,     1.50,2,   -999.0,9,   7.7170,2,    25.00,   1.9368,20110204,2328
  29AH20110128,   A05,    35,  1,      2,2,20110204,2328, 24.5002, -25.9290, 5450,   4999.2,   2.4126,  34.8870,2,    245.1,2,    244.2,2,    48.12,2,    21.28,2,     1.47,2,   -999.0,9,   7.7246,2,    25.00,   1.9462,20110204,2337
  29AH20110128,   A05,    35,  1,      3,2,20110204,2328, 24.5002, -25.9290, 5450,   4501.1,   2.3757,  34.8902,2,    245.3,2,    245.3,2,    46.79,2,    21.23,2,     1.45,2,   -999.0,9,   7.7232,2,    25.00,   1.9721,20110204,2347
  29AH20110128,   A05,    35,  1,      4,2,20110204,2328, 24.5002, -25.9290, 5450,   3998.8,   2.4151,  34.8999,2,    245.3,2,    245.1,2,    45.82,2,    20.89,2,     1.50,2,   -999.0,9,   7.7216,2,    25.00,   2.0693,20110204,2356
  29AH20110128,   A05,    35,  1,      5,2,20110204,2328, 24.5002, -25.9290, 5450,   3500.6,   2.5110,  34.9139,2,    244.6,2,    244.4,2,  -999.00,9,    20.56,2,     1.46,2,   -999.0,9,   7.7232,2,    25.00,   2.2182,20110204,0006
  29AH20110128,   A05,    35,  1,      6,2,20110204,2328, 24.5002, -25.9290, 5450,   3001.0,   2.7253,  34.9376,2,    244.6,2,    245.5,2,    38.27,2,    20.03,2,     1.41,2,   -999.0,9,   7.7270,2,    25.00,   2.4803,20110204,0015
  29AH20110128,   A05,    35,  1,      7,2,20110204,2328, 24.5002, -25.9290, 5450,   2500.7,   3.1926,  34.9829,2,    242.1,2,    242.9,2,    30.66,2,    19.06,2,     1.31,2,   -999.0,9,   7.7312,2,    25.00,   2.9889,20110204,0025
  29AH20110128,   A05,    35,  1,      8,2,20110204,2328, 24.5002, -25.9290, 5450,   2000.3,   3.9465,  35.0503,2,    228.6,2,    229.4,2,    26.14,2,    20.03,2,     1.38,2,   -999.0,9,   7.7205,2,    25.00,   3.7795,20110204,0034
  29AH20110128,   A05,    35,  1,      9,2,20110204,2328, 24.5002, -25.9290, 5450,   1751.4,   4.6407,  35.1178,2,    218.7,2,    219.0,2,    23.51,2,    20.19,2,     1.42,2,   -999.0,9,   7.7091,2,    25.00,   4.4884,20110204,0039
  29AH20110128,   A05,    35,  1,     10,2,20110204,2328, 24.5002, -25.9290, 5450,   1500.5,   5.3639,  35.1748,2,    205.0,2,    204.8,2,    21.67,2,    20.69,2,     1.49,2,   -999.0,9,   7.7037,2,    25.00,   5.2279,20110204,0044
  29AH20110128,   A05,    35,  1,     11,2,20110204,2328, 24.5002, -25.9290, 5450,   1301.5,   6.1717,  35.2301,2,    187.7,2,    187.3,2,    20.34,2,    21.67,2,     1.55,2,   -999.0,9,   7.6846,2,    25.00,   6.0476,20110204,0048
  29AH20110128,   A05,    35,  1,     12,2,20110204,2328, 24.5002, -25.9290, 5450,   1200.8,   6.6608,  35.2574,2,    178.3,2,    177.2,2,    19.69,2,    22.14,2,     1.59,2,   -999.0,9,   7.6762,2,    25.00,   6.5428,20110204,0050
  29AH20110128,   A05,    35,  1,     13,2,20110204,2328, 24.5002, -25.9290, 5450,    999.1,   7.2577,  35.2118,2,    156.7,2,    156.4,2,    20.22,2,    24.17,2,     1.72,2,   -999.0,9,   7.6488,2,    25.00,   7.1565,20110204,0054
  29AH20110128,   A05,    35,  1,     14,2,20110204,2328, 24.5002, -25.9290, 5450,    900.8,   7.9650,  35.2473,2,    147.4,2,    147.2,2,    18.67,2,    24.26,2,     1.67,2,   -999.0,9,   7.6509,2,    25.00,   7.8696,20110204,0056
  29AH20110128,   A05,    35,  1,     15,2,20110204,2328, 24.5002, -25.9290, 5450,    801.2,   8.7704,  35.3162,2,    144.4,2,    143.9,2,    17.06,2,    23.20,2,     1.61,2,   -999.0,9,   7.6623,2,    25.00,   8.6813,20110204,0058
  29AH20110128,   A05,    35,  1,     16,2,20110204,2328, 24.5002, -25.9290, 5450,    400.7,  13.6245,  35.8516,2,    165.1,2,    166.0,2,     6.75,2,    13.67,2,     0.74,2,   -999.0,9,   7.8216,2,    25.00,  13.5668,20110204,0107
  29AH20110128,   A05,    35,  1,     17,2,20110204,2328, 24.5002, -25.9290, 5450,    599.3,  11.2994,  35.5514,2,    154.6,2,    154.9,2,    10.67,2,    18.73,2,     1.14,2,   -999.0,9,   7.7224,2,    25.00,  11.2224,20110204,0111
  29AH20110128,   A05,    35,  1,     18,2,20110204,2328, 24.5002, -25.9290, 5450,    301.9,  15.2700,  36.1171,2,    188.9,2,    190.0,2,     4.50,2,     8.66,2,     0.43,2,   -999.0,9,   7.8709,2,    25.00,  15.2231,20110204,0117
  29AH20110128,   A05,    35,  1,     19,2,20110204,2328, 24.5002, -25.9290, 5450,    151.0,  18.1986,  36.6063,2,    202.9,2,    202.5,2,  -999.00,9,  -999.00,9,  -999.00,9,   -999.0,9,   7.9336,2,    25.00,  18.1722,20110204,0120
  29AH20110128,   A05,    35,  1,     20,2,20110204,2328, 24.5002, -25.9290, 5450,    125.9,  18.9688,  36.7042,2,    196.6,2,    196.7,2,     2.51,2,     2.52,2,     0.20,2,   -999.0,9,   7.9441,2,    25.00,  18.9462,20110204,0121
  29AH20110128,   A05,    35,  1,     21,2,20110204,2328, 24.5002, -25.9290, 5450,     75.1,  21.6809,  37.2249,2,    215.4,2,    216.1,2,     1.91,2,     0.17,2,     0.15,2,   -999.0,9,   8.0198,2,    25.00,  21.6661,20110204,0122
  29AH20110128,   A05,    35,  1,     22,2,20110204,2328, 24.5002, -25.9290, 5450,     51.3,  21.7153,  37.2256,2,    216.2,2,    214.8,2,     1.90,2,     0.13,2,     0.13,2,   -999.0,9,   8.0233,2,    25.00,  21.7051,20110204,0123
  29AH20110128,   A05,    35,  1,     23,2,20110204,2328, 24.5002, -25.9290, 5450,     25.9,  21.7061,  37.2215,2,    216.6,2,    220.0,2,     1.92,2,     0.13,2,     0.08,2,   -999.0,9,   8.0219,2,    25.00,  21.7010,20110204,0124
  29AH20110128,   A05,    35,  1,     24,2,20110204,2328, 24.5002, -25.9290, 5450,      4.7,  21.6964,  37.2214,2,    216.6,2,    216.9,2,     1.90,2,     0.14,2,     0.12,2,   -999.0,9,   8.0232,2,    25.00,  21.6955,20110204,0124
  29AH20110128,   A05,    36,  1,      1,2,20110205,0710, 24.4985, -26.5398, 5530,   5520.1,   2.4652,  34.8849,2,    245.5,2,    246.3,2,    50.46,2,    20.79,2,     1.51,2,   2354.2,2,   7.7225,2,    25.00,   1.9293,20110205,0710
  29AH20110128,   A05,    36,  1,      2,2,20110205,0710, 24.4985, -26.5398, 5530,   4999.8,   2.4084,  34.8868,2,    244.8,2,    244.2,2,    49.92,2,    20.80,2,     1.50,2,   2355.9,2,   7.7266,2,    25.00,   1.9421,20110205,0720
  29AH20110128,   A05,    36,  1,      3,2,20110205,0710, 24.4985, -26.5398, 5530,   4499.3,   2.3690,  34.8897,2,    245.2,2,    245.8,2,    49.60,2,    20.70,2,     1.47,2,   2355.8,2,   7.7197,2,    25.00,   1.9658,20110205,0730
  29AH20110128,   A05,    36,  1,      4,2,20110205,0710, 24.4985, -26.5398, 5530,   4000.8,   2.4101,  34.8998,2,    244.5,2,    244.7,2,    46.31,2,    20.50,2,     1.46,2,   2349.7,2,   7.7243,2,    25.00,   2.0642,20110205,0739
  29AH20110128,   A05,    36,  1,      5,2,20110205,0710, 24.4985, -26.5398, 5530,   3499.2,   2.5114,  34.9143,2,    244.7,2,    244.1,2,    41.95,2,    20.20,2,     1.41,2,   2348.8,2,   7.7275,2,    25.00,   2.2187,20110205,0749
  29AH20110128,   A05,    36,  1,      6,2,20110205,0710, 24.4985, -26.5398, 5530,   3001.4,   2.7014,  34.9357,2,    244.1,2,    245.3,2,    35.15,2,    19.64,2,     1.31,2,   2345.4,2,   7.7315,2,    25.00,   2.4569,20110205,0758
  29AH20110128,   A05,    36,  1,      7,2,20110205,0710, 24.4985, -26.5398, 5530,   2500.5,   3.1990,  34.9833,2,    241.4,2,    241.9,2,    30.10,2,    19.18,2,     1.35,2,   2338.9,2,   7.7288,2,    25.00,   2.9952,20110205,0808
  29AH20110128,   A05,    36,  1,      8,2,20110205,0710, 24.4985, -26.5398, 5530,   2001.4,   3.9582,  35.0504,2,    228.0,2,    230.0,2,    27.08,2,    19.62,2,     1.45,2,   2333.7,2,   7.7187,2,    25.00,   3.7909,20110205,0818
  29AH20110128,   A05,    36,  1,      9,2,20110205,0710, 24.4985, -26.5398, 5530,   1750.0,   4.5375,  35.1017,2,    217.3,2,    218.0,2,    24.69,2,    20.01,2,     1.45,2,   2333.3,2,   7.7162,2,    25.00,   4.3867,20110205,0823
  29AH20110128,   A05,    36,  1,     10,2,20110205,0710, 24.4985, -26.5398, 5530,   1499.9,   5.2905,  35.1614,2,    203.0,2,    202.7,2,    19.98,2,    20.62,2,     1.45,2,   2334.2,2,   7.7046,2,    25.00,   5.1554,20110205,0828
  29AH20110128,   A05,    36,  1,     11,2,20110205,0710, 24.4985, -26.5398, 5530,   1300.9,   6.1319,  35.2070,2,    184.9,2,    184.4,2,    20.79,2,    21.62,2,     1.51,2,   2335.0,2,   7.6879,2,    25.00,   6.0083,20110205,0832
  29AH20110128,   A05,    36,  1,     12,2,20110205,0710, 24.4985, -26.5398, 5530,   1199.7,   6.5588,  35.2271,2,    177.3,2,    177.3,2,    19.06,2,    21.99,2,     1.58,2,   2335.2,2,   7.6905,2,    25.00,   6.4418,20110205,0834
  29AH20110128,   A05,    36,  1,     13,2,20110205,0710, 24.4985, -26.5398, 5530,   1001.6,   7.2071,  35.1923,2,    154.2,2,    153.8,2,    20.55,2,    23.89,2,     1.67,2,   2330.8,2,   7.6684,2,    25.00,   7.1060,20110205,0838
  29AH20110128,   A05,    36,  1,     14,2,20110205,0710, 24.4985, -26.5398, 5530,    900.0,   7.8164,  35.2090,2,    142.1,2,    141.5,2,    19.67,2,    24.50,2,     1.70,2,   -999.0,9,   7.6612,2,    25.00,   7.7221,20110205,0840
  29AH20110128,   A05,    36,  1,     15,2,20110205,0710, 24.4985, -26.5398, 5530,    800.8,   8.7389,  35.2744,2,    133.4,2,    132.6,2,    17.41,2,    24.04,2,     1.55,2,   2330.4,2,   7.6561,2,    25.00,   8.6501,20110205,0842
  29AH20110128,   A05,    36,  1,     16,2,20110205,0710, 24.4985, -26.5398, 5530,    607.4,  11.0968,  35.5259,2,    147.7,2,    149.2,2,    11.13,2,    18.84,2,     1.20,2,   2337.4,2,   7.7268,2,    25.00,  11.0196,20110205,0846
  29AH20110128,   A05,    36,  1,     17,2,20110205,0710, 24.4985, -26.5398, 5530,    399.6,  13.8568,  35.9066,2,    185.7,2,    186.8,2,     5.75,2,    10.89,2,     0.65,2,   2357.3,2,   7.8381,2,    25.00,  13.7986,20110205,0850
  29AH20110128,   A05,    36,  1,     18,2,20110205,0710, 24.4985, -26.5398, 5530,    300.1,  15.5982,  36.1873,2,    194.0,2,    194.6,2,     4.09,2,     7.48,2,     0.47,2,   2374.4,2,   7.8955,2,    25.00,  15.5509,20110205,0852
  29AH20110128,   A05,    36,  1,     19,2,20110205,0710, 24.4985, -26.5398, 5530,    139.4,  19.3794,  36.7772,2,    208.3,2,    208.9,2,     1.92,2,     0.76,2,     0.11,2,   2410.3,2,   7.9867,2,    25.00,  19.3540,20110205,0856
  29AH20110128,   A05,    36,  1,     20,2,20110205,0710, 24.4985, -26.5398, 5530,    125.5,  21.0148,  37.1082,2,    214.9,2,    216.0,2,     1.69,2,     0.32,2,     0.09,2,   -999.0,9,   8.0144,2,    25.00,  20.9905,20110205,0856
  29AH20110128,   A05,    36,  1,     21,2,20110205,0710, 24.4985, -26.5398, 5530,     75.4,  21.5789,  37.2365,2,    216.1,2,    216.1,2,     1.70,2,     0.28,2,     0.10,2,   2438.5,2,   8.0243,2,    25.00,  21.5640,20110205,0857
  29AH20110128,   A05,    36,  1,     22,2,20110205,0710, 24.4985, -26.5398, 5530,     50.2,  21.5796,  37.2386,2,    216.3,2,    216.5,2,     1.69,2,     0.27,2,     0.10,2,   -999.0,9,   8.0125,2,    25.00,  21.5697,20110205,0858
  29AH20110128,   A05,    36,  1,     23,2,20110205,0710, 24.4985, -26.5398, 5530,     25.6,  21.5731,  37.2386,2,    216.8,2,    216.8,2,     1.71,2,     0.27,2,     0.10,2,   -999.0,9,   8.0126,2,    25.00,  21.5681,20110205,0859
  29AH20110128,   A05,    36,  1,     24,2,20110205,0710, 24.4985, -26.5398, 5530,      5.0,  21.5694,  37.2377,2,    216.8,2,    216.3,2,     1.70,2,     0.29,2,     0.11,2,   2438.9,2,   8.0106,2,    25.00,  21.5684,20110205,0900
  29AH20110128,   A05,    37,  1,      1,2,20110205,1434, 24.5010, -27.1498, 5637,   5627.0,   2.4795,  34.8849,2,    245.4,2,    245.7,2,    49.41,2,    20.95,2,     1.51,2,   -999.0,9,   7.7167,2,    25.00,   1.9288,20110205,1434
  29AH20110128,   A05,    37,  1,      2,2,20110205,1434, 24.5010, -27.1498, 5637,   5499.9,   2.4618,  34.8850,2,    244.5,2,    245.8,2,    49.25,2,    20.94,2,     1.50,2,   -999.0,9,   7.7171,2,    25.00,   1.9287,20110205,1437
  29AH20110128,   A05,    37,  1,      3,2,20110205,1434, 24.5010, -27.1498, 5637,   4999.6,   2.4041,  34.8866,2,    244.8,2,    246.1,2,    49.03,2,    20.89,2,     1.53,2,   -999.0,9,   7.7176,2,    25.00,   1.9379,20110205,1447
  29AH20110128,   A05,    37,  1,      4,2,20110205,1434, 24.5010, -27.1498, 5637,   4500.1,   2.3768,  34.8908,2,    244.8,2,    246.0,2,    48.14,2,    20.83,2,     1.53,2,   -999.0,9,   7.7147,2,    25.00,   1.9732,20110205,1456
  29AH20110128,   A05,    37,  1,      5,2,20110205,1434, 24.5010, -27.1498, 5637,   3998.2,   2.4069,  34.8997,2,    244.8,2,    245.1,2,    46.42,2,    20.65,2,     1.49,2,   -999.0,9,   7.7096,2,    25.00,   2.0614,20110205,1506
  29AH20110128,   A05,    37,  1,      6,2,20110205,1434, 24.5010, -27.1498, 5637,   3500.1,   2.5079,  34.9139,2,    244.0,2,    244.7,2,    42.64,2,    20.47,2,     1.40,2,   -999.0,9,   7.7220,2,    25.00,   2.2152,20110205,1515
  29AH20110128,   A05,    37,  1,      7,2,20110205,1434, 24.5010, -27.1498, 5637,   3000.1,   2.7394,  34.9389,2,    243.8,2,    246.4,2,    36.99,2,    19.73,2,     1.37,2,   -999.0,9,   7.7231,2,    25.00,   2.4942,20110205,1525
  29AH20110128,   A05,    37,  1,      8,2,20110205,1434, 24.5010, -27.1498, 5637,   2499.3,   3.2142,  34.9842,2,    240.4,2,    244.1,2,    31.04,2,    19.34,2,     1.34,2,   -999.0,9,   7.7224,2,    25.00,   3.0102,20110205,1535
  29AH20110128,   A05,    37,  1,      9,2,20110205,1434, 24.5010, -27.1498, 5637,   2001.6,   4.0406,  35.0640,2,    229.6,2,    231.2,2,    25.34,2,    19.49,2,     1.34,2,   -999.0,9,   7.7189,2,    25.00,   3.8720,20110205,1544
  29AH20110128,   A05,    37,  1,     10,2,20110205,1434, 24.5010, -27.1498, 5637,   1750.0,   4.5778,  35.1048,2,    217.3,2,    219.3,2,    23.13,2,    20.22,2,     1.36,2,   -999.0,9,   7.7089,2,    25.00,   4.4265,20110205,1549
  29AH20110128,   A05,    37,  1,     11,2,20110205,1434, 24.5010, -27.1498, 5637,   1499.8,   5.3973,  35.1688,2,    201.4,2,    202.3,2,    21.53,2,    20.75,2,     1.48,2,   -999.0,9,   7.6988,2,    25.00,   5.2610,20110205,1554
  29AH20110128,   A05,    37,  1,     12,2,20110205,1434, 24.5010, -27.1498, 5637,   1300.4,   6.1100,  35.1994,2,    183.6,2,    184.1,2,    20.52,2,    21.94,2,     1.59,2,   -999.0,9,   7.6872,2,    25.00,   5.9867,20110205,1558
  29AH20110128,   A05,    37,  1,     13,2,20110205,1434, 24.5010, -27.1498, 5637,   1201.3,   6.4903,  35.2010,2,    172.9,2,    173.6,2,    18.76,2,    22.92,2,     1.63,2,   -999.0,9,   7.6749,2,    25.00,   6.3738,20110205,1601
  29AH20110128,   A05,    37,  1,     14,2,20110205,1434, 24.5010, -27.1498, 5637,   1002.2,   7.4139,  35.1875,2,    147.3,2,   -999.0,9,    20.45,2,    24.73,2,  -999.00,9,   -999.0,9,   7.6484,2,    25.00,   7.3113,20110205,1605
  29AH20110128,   A05,    37,  1,     15,2,20110205,1434, 24.5010, -27.1498, 5637,    799.7,   8.6534,  35.2345,2,    123.0,2,   -999.0,9,    18.00,2,    25.49,2,  -999.00,9,   -999.0,9,   7.6301,2,    25.00,   8.5652,20110205,1609
  29AH20110128,   A05,    37,  1,     16,2,20110205,1434, 24.5010, -27.1498, 5637,    600.6,  11.3703,  35.5532,2,    148.6,2,   -999.0,9,    10.20,2,    18.65,2,     1.17,2,   -999.0,9,   7.7233,2,    25.00,  11.2928,20110205,1613
  29AH20110128,   A05,    37,  1,     17,2,20110205,1434, 24.5010, -27.1498, 5637,    400.2,  13.8137,  35.8809,2,    178.2,2,    179.5,2,     5.72,2,    11.82,2,     0.64,2,   -999.0,9,   7.8232,2,    25.00,  13.7555,20110205,1617
  29AH20110128,   A05,    37,  1,     18,2,20110205,1434, 24.5010, -27.1498, 5637,    301.0,  15.4055,  36.1341,2,    190.5,2,    192.3,2,     4.01,2,     8.10,2,     0.39,2,   -999.0,9,   7.8785,2,    25.00,  15.3585,20110205,1619
  29AH20110128,   A05,    37,  1,     19,2,20110205,1434, 24.5010, -27.1498, 5637,    151.0,  18.4817,  36.6827,2,    193.3,2,    194.1,2,     2.20,2,     3.00,2,     0.21,2,   -999.0,9,   7.9444,2,    25.00,  18.4550,20110205,1622
  29AH20110128,   A05,    37,  1,     20,2,20110205,1434, 24.5010, -27.1498, 5637,    124.2,  18.9757,  36.7477,2,    195.4,2,    196.7,2,     2.07,2,     2.11,2,     0.18,2,   -999.0,9,   7.9511,2,    25.00,  18.9534,20110205,1623
  29AH20110128,   A05,    37,  1,     21,2,20110205,1434, 24.5010, -27.1498, 5637,     74.8,  21.7765,  37.2618,2,    214.5,2,    216.7,2,     1.58,2,     0.02,2,     0.14,2,   -999.0,9,   8.0269,2,    25.00,  21.7617,20110205,1624
  29AH20110128,   A05,    37,  1,     22,2,20110205,1434, 24.5010, -27.1498, 5637,     52.4,  21.9721,  37.3063,2,    215.2,2,    216.7,2,     1.57,2,     0.01,2,     0.14,2,   -999.0,9,   8.0294,2,    25.00,  21.9616,20110205,1625
  29AH20110128,   A05,    37,  1,     23,2,20110205,1434, 24.5010, -27.1498, 5637,     23.6,  21.9895,  37.3081,2,    215.4,2,    216.3,2,     1.58,2,     0.01,2,     0.13,2,   -999.0,9,   8.0281,2,    25.00,  21.9848,20110205,1626
  29AH20110128,   A05,    37,  1,     24,2,20110205,1434, 24.5010, -27.1498, 5637,      4.3,  22.0356,  37.3093,2,    215.6,2,    216.4,2,     1.60,2,     0.01,2,     0.13,2,   -999.0,9,   8.0272,2,    25.00,  22.0348,20110205,1626