BOTTLE,20220930CCHSIOAMB
EXPOCODE,SECT_ID,STNNBR,CASTNO,BTLNBR,BTLNBR_FLAG_W,DATE,TIME,LATITUDE,LONGITUDE,DEPTH,CTDPRS,CTDTMP,CTDSAL,CTDSAL_FLAG_W,CTDOXY,CTDOXY_FLAG_W,OXYGEN,OXYGEN_FLAG_W,SILCAT,SILCAT_FLAG_W,NITRAT,NITRAT_FLAG_W,PHSPHT,PHSPHT_FLAG_W,ALKALI,ALKALI_FLAG_W,PH_SWS,PH_SWS_FLAG_W,PH_TMP,THETA,BTL_DATE,BTL_TIME
,,,,,,,,,,METERS,DBAR,ITS-90,PSS-78,,UMOL/KG,,UMOL/KG,,UMOL/KG,,UMOL/KG,,UMOL/KG,,UMOL/KG,,,,DEG C,DEG C,,
  29AH20110128,   A05,    23,  1,      1,2,20110201,0442, 25.7608, -19.5752, 3989,   3836.7,   2.4511,  34.9023,2,    235.7,2,    234.0,2,    48.39,2,    21.77,2,     1.62,2,   2365.7,2,   7.7117,2,    25.00,   2.1227,20110201,0442
  29AH20110128,   A05,    23,  1,      2,2,20110201,0442, 25.7608, -19.5752, 3989,   3500.6,   2.5644,  34.9147,2,    231.7,2,    229.8,2,    44.77,2,    21.75,2,     1.58,2,   2363.1,2,   7.7076,2,    25.00,   2.2702,20110201,0449
  29AH20110128,   A05,    23,  1,      3,2,20110201,0442, 25.7608, -19.5752, 3989,   3002.0,   2.7463,  34.9345,2,    233.0,2,    231.7,2,    41.82,2,    21.17,2,     1.52,2,   2354.5,2,   7.7115,2,    25.00,   2.5008,20110201,0458
  29AH20110128,   A05,    23,  1,      4,2,20110201,0442, 25.7608, -19.5752, 3989,   2500.3,   3.3265,  34.9927,2,    231.4,2,    230.2,2,    34.79,2,    20.55,2,     1.48,2,   2343.0,2,   7.7057,2,    25.00,   3.1203,20110201,0508
  29AH20110128,   A05,    23,  1,      5,2,20110201,0442, 25.7608, -19.5752, 3989,   2001.5,   4.0577,  35.0672,2,    222.2,2,    221.1,2,    29.16,2,    20.58,2,     1.47,2,   2338.8,2,   7.7029,2,    25.00,   3.8888,20110201,0517
  29AH20110128,   A05,    23,  1,      6,2,20110201,0442, 25.7608, -19.5752, 3989,   1752.7,   4.6827,  35.1272,2,    213.6,2,    211.9,2,    25.82,2,    20.74,2,     1.49,2,   2337.8,2,   7.6986,2,    25.00,   4.5297,20110201,0522
  29AH20110128,   A05,    23,  1,      7,2,20110201,0442, 25.7608, -19.5752, 3989,   1502.6,   5.4116,  35.1905,2,    200.4,2,    200.7,2,    23.34,2,    21.25,2,     1.51,2,   2337.2,2,   7.6918,2,    25.00,   5.2748,20110201,0528
  29AH20110128,   A05,    23,  1,      8,2,20110201,0442, 25.7608, -19.5752, 3989,   1299.8,   6.4523,  35.2833,2,    185.1,2,    183.6,2,    20.67,2,    21.65,2,     1.49,2,   2341.2,2,   7.6822,2,    25.00,   6.3256,20110201,0532
  29AH20110128,   A05,    23,  1,      9,2,20110201,0442, 25.7608, -19.5752, 3989,   1201.1,   7.0409,  35.3198,2,    175.0,2,    174.5,2,    19.57,2,    22.10,2,     1.51,2,   2340.0,2,   7.6828,2,    25.00,   6.9194,20110201,0534
  29AH20110128,   A05,    23,  1,     10,2,20110201,0442, 25.7608, -19.5752, 3989,   1101.8,   7.4212,  35.2995,2,    164.0,2,    162.2,2,    19.59,2,    23.05,2,     1.60,2,   -999.0,9,   7.6744,2,    25.00,   7.3074,20110201,0536
  29AH20110128,   A05,    23,  1,     11,2,20110201,0442, 25.7608, -19.5752, 3989,   1002.5,   7.7702,  35.2902,2,    154.4,2,    153.2,2,    19.19,2,    23.71,2,     1.64,2,   2335.8,2,   7.6673,2,    25.00,   7.6648,20110201,0538
  29AH20110128,   A05,    23,  1,     12,2,20110201,0442, 25.7608, -19.5752, 3989,    900.0,   8.4786,  35.3220,2,    146.2,2,    144.7,2,    17.90,2,    23.68,2,     1.60,2,   -999.0,9,   7.6639,2,    25.00,   8.3799,20110201,0540
  29AH20110128,   A05,    23,  1,     13,2,20110201,0442, 25.7608, -19.5752, 3989,    801.2,   8.7185,  35.2532,2,    123.3,2,    121.4,2,    18.56,2,    26.35,2,  -999.00,9,   2328.1,2,   7.6234,2,    25.00,   8.6298,20110201,0542
  29AH20110128,   A05,    23,  1,     14,2,20110201,0442, 25.7608, -19.5752, 3989,    600.7,  10.8887,  35.4864,2,    133.5,2,    132.7,2,    12.54,2,    21.67,2,     1.27,2,   2333.9,2,   7.6846,2,    25.00,  10.8133,20110201,0546
  29AH20110128,   A05,    23,  1,     15,2,20110201,0442, 25.7608, -19.5752, 3989,    402.8,  13.3703,  35.8172,2,    156.9,2,    156.9,2,     7.49,2,    15.09,2,     0.78,2,   2347.3,2,   7.7729,2,    25.00,  13.3130,20110201,0550
  29AH20110128,   A05,    23,  1,     16,2,20110201,0442, 25.7608, -19.5752, 3989,    301.2,  15.2167,  36.1194,2,    168.7,2,    168.7,2,     5.32,2,    10.62,2,     0.57,2,   2366.6,2,   7.8356,2,    25.00,  15.1701,20110201,0552
  29AH20110128,   A05,    23,  1,     17,2,20110201,0442, 25.7608, -19.5752, 3989,    200.9,  17.2057,  36.4454,2,    171.6,2,    172.6,2,     3.96,2,     7.52,2,  -999.00,9,   -999.0,9,   7.8793,2,    25.00,  17.1719,20110201,0554
  29AH20110128,   A05,    23,  1,     18,2,20110201,0442, 25.7608, -19.5752, 3989,    152.0,  18.1730,  36.5465,2,    160.3,2,    159.2,2,     3.99,2,     7.83,2,  -999.00,9,   2393.3,2,   7.8736,2,    25.00,  18.1465,20110201,0555
  29AH20110128,   A05,    23,  1,     19,2,20110201,0442, 25.7608, -19.5752, 3989,    125.4,  19.3410,  36.7197,2,    187.0,2,    186.5,2,     2.83,2,     3.46,2,     0.25,2,   -999.0,9,   7.9320,2,    25.00,  19.3181,20110201,0556
  29AH20110128,   A05,    23,  1,     20,2,20110201,0442, 25.7608, -19.5752, 3989,     99.8,  20.6669,  36.9475,2,    207.8,2,    208.1,2,     2.22,2,     0.73,2,     0.16,2,   -999.0,9,   7.9860,2,    25.00,  20.6478,20110201,0556
  29AH20110128,   A05,    23,  1,     21,2,20110201,0442, 25.7608, -19.5752, 3989,     75.3,  21.4860,  37.0471,2,    216.1,2,    216.3,2,     1.94,2,     0.01,2,     0.11,2,   2427.3,2,   8.0183,2,    25.00,  21.4712,20110201,0557
  29AH20110128,   A05,    23,  1,     22,2,20110201,0442, 25.7608, -19.5752, 3989,     50.2,  21.4848,  37.0487,2,    216.7,2,    216.2,2,     1.96,2,     0.02,2,     0.12,2,   -999.0,9,   8.0172,2,    25.00,  21.4750,20110201,0558
  29AH20110128,   A05,    23,  1,     23,2,20110201,0442, 25.7608, -19.5752, 3989,     25.9,  21.4812,  37.0487,2,    216.7,2,    216.1,2,     1.97,2,     0.02,2,     0.10,2,   -999.0,9,   8.0168,2,    25.00,  21.4761,20110201,0558
  29AH20110128,   A05,    23,  1,     24,2,20110201,0442, 25.7608, -19.5752, 3989,      6.6,  21.4750,  37.0491,2,    217.1,2,    216.5,2,     1.96,2,     0.04,2,     0.12,2,   2426.8,2,   8.0159,2,    25.00,  21.4737,20110201,0600
  29AH20110128,   A05,    24,  1,      1,2,20110201,1025, 25.6255, -20.0093, 4043,   4033.2,   2.4049,  34.8966,2,    242.2,2,    239.1,2,    48.54,2,    21.10,2,     1.53,2,   -999.0,9,   7.7236,2,    25.00,   2.0554,20110201,1025
  29AH20110128,   A05,    24,  1,      2,2,20110201,1025, 25.6255, -20.0093, 4043,   3499.3,   2.4982,  34.9112,2,    239.6,2,    235.7,2,    45.61,2,    20.89,2,     1.52,2,   -999.0,9,   7.7225,2,    25.00,   2.2058,20110201,1036
  29AH20110128,   A05,    24,  1,      3,2,20110201,1025, 25.6255, -20.0093, 4043,   2998.9,   2.8394,  34.9449,2,    237.0,2,    233.9,2,    39.47,2,    20.43,2,     1.48,2,   -999.0,9,   7.7188,2,    25.00,   2.5921,20110201,1046
  29AH20110128,   A05,    24,  1,      4,2,20110201,1025, 25.6255, -20.0093, 4043,   2498.8,   3.3098,  34.9914,2,    233.5,2,    230.7,2,    33.70,2,    20.15,2,     1.43,2,   -999.0,9,   7.7187,2,    25.00,   3.1041,20110201,1055
  29AH20110128,   A05,    24,  1,      5,2,20110201,1025, 25.6255, -20.0093, 4043,   1999.2,   4.0801,  35.0700,2,    222.0,2,    221.4,2,  -999.00,9,  -999.00,9,  -999.00,9,   -999.0,9,   7.7122,2,    25.00,   3.9111,20110201,1105
  29AH20110128,   A05,    24,  1,      6,2,20110201,1025, 25.6255, -20.0093, 4043,   1751.1,   4.7536,  35.1340,2,    213.1,2,    210.9,2,    25.57,2,    20.46,2,     1.44,2,   -999.0,9,   7.7089,2,    25.00,   4.5998,20110201,1110
  29AH20110128,   A05,    24,  1,      7,2,20110201,1025, 25.6255, -20.0093, 4043,   1502.7,   5.5834,  35.2156,2,    200.7,2,    198.3,2,    22.53,2,    20.73,2,     1.43,2,   -999.0,9,   7.7029,2,    25.00,   5.4446,20110201,1115
  29AH20110128,   A05,    24,  1,      8,2,20110201,1025, 25.6255, -20.0093, 4043,   1300.5,   6.5476,  35.2852,2,    182.7,2,    180.0,2,    20.63,2,    21.55,2,     1.47,2,   -999.0,9,   7.6960,2,    25.00,   6.4199,20110201,1119
  29AH20110128,   A05,    24,  1,      9,2,20110201,1025, 25.6255, -20.0093, 4043,   1199.6,   7.0095,  35.3096,2,    173.9,2,    172.0,2,    19.79,2,    21.91,2,     1.48,2,   -999.0,9,   7.6869,2,    25.00,   6.8884,20110201,1121
  29AH20110128,   A05,    24,  1,     10,2,20110201,1025, 25.6255, -20.0093, 4043,   1101.3,   7.2154,  35.2527,2,    160.6,2,    158.5,2,    20.33,2,    23.36,2,     1.64,2,   -999.0,9,   7.6678,2,    25.00,   7.1034,20110201,1123
  29AH20110128,   A05,    24,  1,     11,2,20110201,1025, 25.6255, -20.0093, 4043,   1001.2,   7.4635,  35.2024,2,    145.1,2,    142.5,2,    20.63,2,    24.84,2,     1.80,2,   -999.0,9,   7.6437,2,    25.00,   7.3606,20110201,1125
  29AH20110128,   A05,    24,  1,     12,2,20110201,1025, 25.6255, -20.0093, 4043,    902.4,   7.9094,  35.1936,2,    131.3,2,    129.6,2,    20.41,2,    25.79,2,  -999.00,9,   -999.0,9,   7.6282,2,    25.00,   7.8143,20110201,1127
  29AH20110128,   A05,    24,  1,     13,2,20110201,1025, 25.6255, -20.0093, 4043,    800.9,   8.7671,  35.2582,2,    123.9,2,    122.4,2,    18.06,2,    25.35,2,  -999.00,9,   -999.0,9,   7.6332,2,    25.00,   8.6781,20110201,1129
  29AH20110128,   A05,    24,  1,     14,2,20110201,1025, 25.6255, -20.0093, 4043,    600.1,  10.8041,  35.4805,2,    135.1,2,    134.8,2,    12.41,2,    21.04,2,     1.31,2,   -999.0,9,   7.6908,2,    25.00,  10.7292,20110201,1133
  29AH20110128,   A05,    24,  1,     15,2,20110201,1025, 25.6255, -20.0093, 4043,    399.1,  13.5411,  35.8452,2,    161.7,2,    161.2,2,     7.04,2,    14.09,2,     0.77,2,   -999.0,9,   7.7854,2,    25.00,  13.4839,20110201,1137
  29AH20110128,   A05,    24,  1,     16,2,20110201,1025, 25.6255, -20.0093, 4043,    300.5,  15.0775,  36.0483,2,    138.2,2,    138.1,2,     6.51,2,  -999.00,9,     0.77,2,   -999.0,9,   7.8283,2,    25.00,  15.0313,20110201,1140
  29AH20110128,   A05,    24,  1,     17,2,20110201,1025, 25.6255, -20.0093, 4043,    200.5,  16.9701,  36.3921,2,    166.9,2,    165.9,2,     4.25,2,     8.78,2,  -999.00,9,   -999.0,9,   7.8718,2,    25.00,  16.9367,20110201,1142
  29AH20110128,   A05,    24,  1,     18,2,20110201,1025, 25.6255, -20.0093, 4043,    152.1,  19.1263,  36.7136,2,    196.8,2,    196.5,2,     2.54,2,     2.95,2,     0.17,2,   -999.0,9,   7.9479,2,    25.00,  19.0988,20110201,1143
  29AH20110128,   A05,    24,  1,     19,2,20110201,1025, 25.6255, -20.0093, 4043,    125.2,  21.3020,  36.9964,2,    208.9,2,    209.2,2,     2.12,2,     0.89,2,     0.14,2,   -999.0,9,   8.0059,2,    25.00,  21.2776,20110201,1143
  29AH20110128,   A05,    24,  1,     20,2,20110201,1025, 25.6255, -20.0093, 4043,     99.5,  21.7418,  37.0612,2,    215.3,2,    214.9,2,     1.97,2,     0.35,2,     0.10,2,   -999.0,9,   8.0187,2,    25.00,  21.7221,20110201,1144
  29AH20110128,   A05,    24,  1,     21,2,20110201,1025, 25.6255, -20.0093, 4043,     76.1,  21.7410,  37.0603,2,    215.5,2,    214.2,2,     2.00,2,     0.36,2,     0.12,2,   -999.0,9,   8.0188,2,    25.00,  21.7259,20110201,1145
  29AH20110128,   A05,    24,  1,     22,2,20110201,1025, 25.6255, -20.0093, 4043,     45.7,  21.7364,  37.0584,2,    216.2,2,    213.3,2,     2.03,2,     0.37,2,     0.12,2,   -999.0,9,   8.0173,2,    25.00,  21.7274,20110201,1145
  29AH20110128,   A05,    24,  1,     23,2,20110201,1025, 25.6255, -20.0093, 4043,     25.4,  21.7327,  37.0584,2,    215.9,2,    214.7,2,     2.00,2,     0.35,2,     0.11,2,   -999.0,9,   8.0183,2,    25.00,  21.7277,20110201,1146
  29AH20110128,   A05,    24,  1,     24,2,20110201,1025, 25.6255, -20.0093, 4043,      5.9,  21.7299,  37.0583,2,    216.4,2,    214.6,2,     2.00,2,     0.39,2,     0.13,2,   -999.0,9,   8.0180,2,    25.00,  21.7287,20110201,1147
  29AH20110128,   A05,    25,  1,      1,2,20110201,1647, 25.4817, -20.4427, 4365,   4355.5,   2.3892,  34.8918,2,    244.6,2,    241.7,2,    50.28,2,    20.95,2,     1.53,2,   -999.0,9,   7.7249,2,    25.00,   2.0026,20110201,1647
  29AH20110128,   A05,    25,  1,      2,2,20110201,1647, 25.4817, -20.4427, 4365,   4000.0,   2.3900,  34.8962,2,    242.4,2,    241.0,2,  -999.00,9,  -999.00,9,  -999.00,9,   -999.0,9,   7.7235,2,    25.00,   2.0448,20110201,1656
  29AH20110128,   A05,    25,  1,      3,2,20110201,1647, 25.4817, -20.4427, 4365,   3501.7,   2.5141,  34.9124,2,    237.9,2,    236.2,2,    46.68,2,    20.91,2,     1.54,2,   -999.0,9,   7.7214,2,    25.00,   2.2211,20110201,1705
  29AH20110128,   A05,    25,  1,      4,2,20110201,1647, 25.4817, -20.4427, 4365,   2997.2,   2.8004,  34.9410,2,    236.4,2,    233.1,2,    41.04,2,    20.44,2,     1.49,2,   -999.0,9,   7.7191,2,    25.00,   2.5542,20110201,1716
  29AH20110128,   A05,    25,  1,      5,2,20110201,1647, 25.4817, -20.4427, 4365,   2501.2,   3.2557,  34.9862,2,    234.1,2,    233.0,2,    33.85,2,    20.03,2,     1.40,2,   -999.0,9,   7.7193,2,    25.00,   3.0507,20110201,1727
  29AH20110128,   A05,    25,  1,      6,2,20110201,1647, 25.4817, -20.4427, 4365,   2002.6,   3.9802,  35.0576,2,    224.3,2,    223.2,2,    28.83,2,    20.16,2,     1.43,2,   -999.0,9,   7.7158,2,    25.00,   3.8124,20110201,1737
  29AH20110128,   A05,    25,  1,      7,2,20110201,1647, 25.4817, -20.4427, 4365,   1749.6,   4.6346,  35.1275,2,    215.9,2,    215.3,2,    25.73,2,    20.22,2,     1.43,2,   -999.0,9,   7.7129,2,    25.00,   4.4825,20110201,1743
  29AH20110128,   A05,    25,  1,      8,2,20110201,1647, 25.4817, -20.4427, 4365,   1502.7,   5.4558,  35.2087,2,    202.6,2,    202.1,2,    23.09,2,    20.50,2,     1.42,2,   -999.0,9,   7.7083,2,    25.00,   5.3185,20110201,1748
  29AH20110128,   A05,    25,  1,      9,2,20110201,1647, 25.4817, -20.4427, 4365,   1299.5,   6.5049,  35.2957,2,    185.1,2,    184.0,2,    20.62,2,    21.16,2,     1.42,2,   -999.0,9,   7.7007,2,    25.00,   6.3777,20110201,1752
  29AH20110128,   A05,    25,  1,     10,2,20110201,1647, 25.4817, -20.4427, 4365,   1203.3,   6.8936,  35.2981,2,    174.7,2,    173.2,2,    20.02,2,    21.93,2,     1.50,2,   -999.0,9,   7.6900,2,    25.00,   6.7732,20110201,1754
  29AH20110128,   A05,    25,  1,     11,2,20110201,1647, 25.4817, -20.4427, 4365,   1100.0,   7.2806,  35.2878,2,    163.5,2,    163.2,2,    19.57,2,    22.78,2,     1.63,2,   -999.0,9,   7.6780,2,    25.00,   7.1682,20110201,1756
  29AH20110128,   A05,    25,  1,     12,2,20110201,1647, 25.4817, -20.4427, 4365,    999.9,   7.4802,  35.2133,2,    147.9,2,    146.1,2,    20.63,2,    24.61,2,     1.79,2,   -999.0,9,   7.6519,2,    25.00,   7.3773,20110201,1758
  29AH20110128,   A05,    25,  1,     13,2,20110201,1647, 25.4817, -20.4427, 4365,    904.2,   8.0345,  35.2292,2,    136.4,2,    134.9,2,    19.52,2,    24.94,2,     1.78,2,   -999.0,9,   7.6431,2,    25.00,   7.9383,20110201,1800
  29AH20110128,   A05,    25,  1,     14,2,20110201,1647, 25.4817, -20.4427, 4365,    799.9,   9.2387,  35.3474,2,    133.7,2,    133.3,2,    16.59,2,    23.42,2,     1.60,2,   -999.0,9,   7.6628,2,    25.00,   9.1470,20110201,1808
  29AH20110128,   A05,    25,  1,     15,2,20110201,1647, 25.4817, -20.4427, 4365,    601.2,  11.2325,  35.5523,2,    153.6,2,    153.2,2,    10.43,2,    18.17,2,  -999.00,9,   -999.0,9,   7.7306,2,    25.00,  11.1556,20110201,1812
  29AH20110128,   A05,    25,  1,     16,2,20110201,1647, 25.4817, -20.4427, 4365,    399.5,  13.8270,  35.9002,2,    188.3,2,    189.8,2,     5.43,2,    10.65,2,  -999.00,9,   -999.0,9,   7.8289,2,    25.00,  13.7689,20110201,1816
  29AH20110128,   A05,    25,  1,     17,2,20110201,1647, 25.4817, -20.4427, 4365,    301.4,  15.5478,  36.1867,2,    185.0,2,    186.5,2,     4.28,2,     8.39,2,  -999.00,9,   -999.0,9,   7.8682,2,    25.00,  15.5004,20110201,1818
  29AH20110128,   A05,    25,  1,     18,2,20110201,1647, 25.4817, -20.4427, 4365,    149.2,  18.5528,  36.6462,2,    205.8,2,    207.1,2,     2.14,2,     1.43,2,     0.14,2,   -999.0,9,   7.9400,2,    25.00,  18.5264,20110201,1821
  29AH20110128,   A05,    25,  1,     19,2,20110201,1647, 25.4817, -20.4427, 4365,    124.8,  19.4953,  36.7168,2,    188.4,2,    188.0,2,     2.54,2,     3.58,2,     0.24,2,   -999.0,9,   7.9608,2,    25.00,  19.4724,20110201,1822
  29AH20110128,   A05,    25,  1,     20,2,20110201,1647, 25.4817, -20.4427, 4365,     89.2,  21.6458,  37.0294,2,    214.9,2,    215.9,2,     1.74,2,     0.11,2,     0.11,2,   -999.0,9,   8.0177,2,    25.00,  21.6282,20110201,1823
  29AH20110128,   A05,    25,  1,     21,2,20110201,1647, 25.4817, -20.4427, 4365,     73.5,  21.6650,  37.0294,2,    216.0,2,    215.5,2,     1.73,2,     0.08,2,     0.11,2,   -999.0,9,   8.0183,2,    25.00,  21.6505,20110201,1823
  29AH20110128,   A05,    25,  1,     22,2,20110201,1647, 25.4817, -20.4427, 4365,     51.3,  21.6658,  37.0290,2,    216.5,2,    216.8,2,     1.72,2,     0.08,2,     0.16,2,   -999.0,9,   8.0173,2,    25.00,  21.6557,20110201,1824
  29AH20110128,   A05,    25,  1,     23,2,20110201,1647, 25.4817, -20.4427, 4365,     24.0,  21.6548,  37.0292,2,    216.4,2,    216.6,2,     1.73,2,     0.08,2,     0.11,2,   -999.0,9,   8.0173,2,    25.00,  21.6501,20110201,1824
  29AH20110128,   A05,    25,  1,     24,2,20110201,1647, 25.4817, -20.4427, 4365,      6.0,  21.6504,  37.0295,2,    217.0,2,    216.9,2,     1.74,2,     0.09,2,     0.09,2,   -999.0,9,   8.0161,2,    25.00,  21.6492,20110201,1825