BOTTLE,20220930CCHSIOAMB
EXPOCODE,SECT_ID,STNNBR,CASTNO,BTLNBR,BTLNBR_FLAG_W,DATE,TIME,LATITUDE,LONGITUDE,DEPTH,CTDPRS,CTDTMP,CTDSAL,CTDSAL_FLAG_W,CTDOXY,CTDOXY_FLAG_W,OXYGEN,OXYGEN_FLAG_W,SILCAT,SILCAT_FLAG_W,NITRAT,NITRAT_FLAG_W,PHSPHT,PHSPHT_FLAG_W,ALKALI,ALKALI_FLAG_W,PH_SWS,PH_SWS_FLAG_W,PH_TMP,THETA,BTL_DATE,BTL_TIME
,,,,,,,,,,METERS,DBAR,ITS-90,PSS-78,,UMOL/KG,,UMOL/KG,,UMOL/KG,,UMOL/KG,,UMOL/KG,,UMOL/KG,,,,DEG C,DEG C,,
  29AH20110128,   A05,   128,  1,      1,2,20110307,1129, 26.2037, -73.4315, 5170,   5159.6,   2.0884,  34.8586,2,    250.8,2,    251.2,2,    55.04,2,  -999.00,9,     1.65,2,   2348.2,2,   7.7092,2,    25.00,   1.6129,20110307,1129
  29AH20110128,   A05,   128,  1,      2,2,20110307,1129, 26.2037, -73.4315, 5170,   4999.9,   2.1682,  34.8711,2,    255.9,2,    255.4,2,    45.31,2,    22.66,2,     1.54,2,   2341.7,2,   7.7148,2,    25.00,   1.7100,20110307,1132
  29AH20110128,   A05,   128,  1,      3,2,20110307,1129, 26.2037, -73.4315, 5170,   4499.0,   2.2590,  34.8888,2,    264.0,2,    263.2,2,    32.34,2,  -999.00,9,     1.35,2,   2333.8,2,   7.7215,2,    25.00,   1.8592,20110307,1142
  29AH20110128,   A05,   128,  1,      4,2,20110307,1129, 26.2037, -73.4315, 5170,   3999.1,   2.2897,  34.8962,2,    267.1,2,    265.9,2,    29.27,2,    16.58,2,     1.33,2,   2328.5,2,   7.7231,2,    25.00,   1.9474,20110307,1152
  29AH20110128,   A05,   128,  1,      5,2,20110307,1129, 26.2037, -73.4315, 5170,   3500.0,   2.4114,  34.9077,2,    268.0,2,    267.7,2,    29.42,2,    20.11,2,     1.24,2,   2322.3,2,   7.7278,2,    25.00,   2.1211,20110307,1202
  29AH20110128,   A05,   128,  1,      6,2,20110307,1129, 26.2037, -73.4315, 5170,   3000.6,   2.6933,  34.9250,2,    266.6,2,    267.1,2,    22.09,2,    16.20,2,     1.22,2,   2322.3,2,   7.7279,2,    25.00,   2.4491,20110307,1211
  29AH20110128,   A05,   128,  1,      7,2,20110307,1129, 26.2037, -73.4315, 5170,   2500.2,   3.1272,  34.9524,2,    261.5,2,    262.3,2,    21.42,2,    20.26,2,     1.29,2,   2322.0,2,   7.7293,2,    25.00,   2.9248,20110307,1221
  29AH20110128,   A05,   128,  1,      8,2,20110307,1129, 26.2037, -73.4315, 5170,   2000.5,   3.5856,  34.9673,2,    261.7,2,    263.3,2,    15.86,2,    17.93,2,     1.26,2,   2317.5,2,   7.7249,2,    25.00,   3.4241,20110307,1231
  29AH20110128,   A05,   128,  1,      9,2,20110307,1129, 26.2037, -73.4315, 5170,   1751.3,   3.8923,  34.9823,2,    259.0,2,    259.9,2,    15.50,2,    19.41,2,     1.24,2,   2314.2,2,   7.7208,2,    25.00,   3.7501,20110307,1236
  29AH20110128,   A05,   128,  1,     10,2,20110307,1129, 26.2037, -73.4315, 5170,   1499.6,   4.3634,  35.0148,2,    250.6,2,    252.0,2,    13.95,2,    18.13,2,  -999.00,9,   2314.9,2,   7.7167,2,    25.00,   4.2390,20110307,1241
  29AH20110128,   A05,   128,  1,     11,2,20110307,1129, 26.2037, -73.4315, 5170,   1301.1,   4.9027,  35.0430,2,    239.1,2,    239.8,2,    14.80,2,    20.55,2,     1.30,2,   2315.8,2,   7.7067,2,    25.00,   4.7913,20110307,1245
  29AH20110128,   A05,   128,  1,     12,2,20110307,1129, 26.2037, -73.4315, 5170,   1201.4,   5.2893,  35.0582,2,    228.4,2,    227.8,2,    14.28,2,    19.85,2,     1.37,2,   2318.3,2,   7.7035,2,    25.00,   5.1838,20110307,1247
  29AH20110128,   A05,   128,  1,     13,2,20110307,1129, 26.2037, -73.4315, 5170,   1000.9,   6.9750,  35.0948,2,    179.6,2,    177.9,2,    14.00,2,  -999.00,9,     1.57,2,   2321.2,2,   7.6716,2,    25.00,   6.8759,20110307,1251
  29AH20110128,   A05,   128,  1,     14,2,20110307,1129, 26.2037, -73.4315, 5170,    900.1,   8.2916,  35.1504,2,    153.3,2,    152.5,2,    17.57,2,  -999.00,9,     1.72,2,   2323.3,2,   7.6663,2,    25.00,   8.1943,20110307,1254
  29AH20110128,   A05,   128,  1,     15,2,20110307,1129, 26.2037, -73.4315, 5170,    799.3,  10.0762,  35.3127,2,    144.2,2,    143.8,2,    11.57,2,  -999.00,9,  -999.00,9,   2330.0,2,   7.6917,2,    25.00,   9.9798,20110307,1256
  29AH20110128,   A05,   128,  1,     16,2,20110307,1129, 26.2037, -73.4315, 5170,    601.1,  14.2139,  35.8866,2,    157.6,2,    157.5,2,     6.20,2,    14.17,2,     0.80,2,   2352.7,2,   7.8039,2,    25.00,  14.1243,20110307,1300
  29AH20110128,   A05,   128,  1,     17,2,20110307,1129, 26.2037, -73.4315, 5170,    400.4,  17.8619,  36.5107,2,    191.1,2,    192.0,2,     2.30,2,     5.43,2,     0.30,2,   2389.4,2,   7.9427,2,    25.00,  17.7925,20110307,1304
  29AH20110128,   A05,   128,  1,     18,2,20110307,1129, 26.2037, -73.4315, 5170,    300.5,  18.6003,  36.6061,2,    194.5,2,    195.3,2,     1.98,2,     4.18,2,     0.19,2,   2394.3,2,   7.9593,2,    25.00,  18.5468,20110307,1307
  29AH20110128,   A05,   128,  1,     19,2,20110307,1129, 26.2037, -73.4315, 5170,    150.5,  21.5299,  36.8442,2,    195.7,2,    193.8,2,     1.20,2,     0.93,2,     0.06,2,   2412.4,2,   8.0104,2,    25.00,  21.5003,20110307,1310
  29AH20110128,   A05,   128,  1,     20,2,20110307,1129, 26.2037, -73.4315, 5170,    115.7,  22.4692,  36.8784,2,    199.2,2,    198.9,2,     1.27,2,     0.48,2,     0.05,2,   -999.0,9,   8.0250,2,    25.00,  22.4458,20110307,1311
  29AH20110128,   A05,   128,  1,     21,2,20110307,1129, 26.2037, -73.4315, 5170,     75.6,  23.5818,  36.8074,2,    209.1,2,    208.1,2,     1.04,2,     0.11,2,     0.03,2,   2407.1,2,   8.0633,2,    25.00,  23.5660,20110307,1312
  29AH20110128,   A05,   128,  1,     22,2,20110307,1129, 26.2037, -73.4315, 5170,     40.7,  23.7281,  36.7883,2,    210.5,2,    210.9,2,     1.24,2,     0.14,2,     0.05,2,   -999.0,9,   8.0699,2,    25.00,  23.7196,20110307,1313
  29AH20110128,   A05,   128,  1,     23,2,20110307,1129, 26.2037, -73.4315, 5170,     26.1,  23.8000,  36.7838,2,    210.3,2,    207.9,2,     1.46,2,     0.12,2,     0.06,2,   -999.0,9,   8.0728,2,    25.00,  23.7945,20110307,1314
  29AH20110128,   A05,   128,  1,     24,2,20110307,1129, 26.2037, -73.4315, 5170,      4.4,  23.8057,  36.7824,2,    210.6,2,    209.8,2,     1.53,2,     0.12,2,     0.06,2,   2403.1,2,   8.0709,2,    25.00,  23.8048,20110307,1314
  29AH20110128,   A05,   129,  1,      1,2,20110307,1805, 26.2032, -73.8205, 5152,   5142.0,   2.1054,  34.8611,2,    252.6,2,    252.6,2,    48.87,2,  -999.00,9,     1.48,2,   -999.0,9,   7.7133,2,    25.00,   1.6315,20110307,1805
  29AH20110128,   A05,   129,  1,      2,2,20110307,1805, 26.2032, -73.8205, 5152,   5000.4,   2.2195,  34.8769,2,    258.0,2,    260.0,2,    38.93,2,  -999.00,9,     1.38,2,   -999.0,9,   7.7195,2,    25.00,   1.7595,20110307,1808
  29AH20110128,   A05,   129,  1,      3,2,20110307,1805, 26.2032, -73.8205, 5152,   4498.9,   2.2763,  34.8900,2,    265.0,2,    266.0,2,    33.79,2,    16.43,2,     1.34,2,   -999.0,9,   7.7248,2,    25.00,   1.8760,20110307,1818
  29AH20110128,   A05,   129,  1,      4,2,20110307,1805, 26.2032, -73.8205, 5152,   4000.6,   2.3071,  34.8970,2,    267.5,2,    268.3,2,    30.66,2,    17.73,2,     1.30,2,   -999.0,9,   7.7267,2,    25.00,   1.9641,20110307,1827
  29AH20110128,   A05,   129,  1,      5,2,20110307,1805, 26.2032, -73.8205, 5152,   3501.1,   2.4328,  34.9081,2,    268.4,2,    266.0,2,    27.48,2,    21.53,2,     1.33,2,   -999.0,9,   7.7286,2,    25.00,   2.1419,20110307,1837
  29AH20110128,   A05,   129,  1,      6,2,20110307,1805, 26.2032, -73.8205, 5152,   2999.3,   2.7577,  34.9304,2,    264.9,2,    266.5,2,    24.74,2,    17.70,2,     1.28,2,   -999.0,9,   7.7325,2,    25.00,   2.5122,20110307,1847
  29AH20110128,   A05,   129,  1,      7,2,20110307,1805, 26.2032, -73.8205, 5152,   2500.4,   3.1804,  34.9528,2,    262.4,2,    264.1,2,    20.95,2,    21.61,2,     1.32,2,   -999.0,9,   7.7275,2,    25.00,   2.9770,20110307,1856
  29AH20110128,   A05,   129,  1,      8,2,20110307,1805, 26.2032, -73.8205, 5152,   2000.3,   3.6165,  34.9656,2,    262.2,2,    265.3,2,    15.30,2,  -999.00,9,     1.17,3,   -999.0,9,   7.7190,2,    25.00,   3.4546,20110307,1906
  29AH20110128,   A05,   129,  1,      9,2,20110307,1805, 26.2032, -73.8205, 5152,   1750.7,   3.8907,  34.9769,2,    259.8,2,    262.0,2,    15.99,2,    21.36,2,     1.29,2,   -999.0,9,   7.7158,2,    25.00,   3.7486,20110307,1911
  29AH20110128,   A05,   129,  1,     10,2,20110307,1805, 26.2032, -73.8205, 5152,   1501.6,   4.2575,  34.9995,2,    253.5,2,    256.1,2,    12.87,2,  -999.00,9,     1.22,2,   -999.0,9,   7.7102,2,    25.00,   4.1342,20110307,1916
  29AH20110128,   A05,   129,  1,     11,2,20110307,1805, 26.2032, -73.8205, 5152,   1300.6,   4.7483,  35.0320,2,    242.3,2,    243.4,2,    14.53,2,    19.79,2,     1.31,2,   -999.0,9,   7.7004,2,    25.00,   4.6385,20110307,1920
  29AH20110128,   A05,   129,  1,     12,2,20110307,1805, 26.2032, -73.8205, 5152,   1200.4,   5.2205,  35.0572,2,    229.0,2,    229.9,2,    15.25,2,    21.31,2,     1.36,2,   -999.0,9,   7.7046,2,    25.00,   5.1157,20110307,1923
  29AH20110128,   A05,   129,  1,     13,2,20110307,1805, 26.2032, -73.8205, 5152,   1002.5,   6.7573,  35.0874,2,    182.6,2,    182.6,2,    17.43,2,    27.10,3,     1.60,2,   -999.0,9,   7.6735,2,    25.00,   6.6596,20110307,1927
  29AH20110128,   A05,   129,  1,     14,2,20110307,1805, 26.2032, -73.8205, 5152,    900.6,   7.9247,  35.1051,2,    152.2,2,    151.7,2,    16.36,2,    20.90,2,     1.61,2,   -999.0,9,   7.6582,2,    25.00,   7.8298,20110307,1929
  29AH20110128,   A05,   129,  1,     15,2,20110307,1805, 26.2032, -73.8205, 5152,    801.4,   9.6935,  35.2771,2,    144.9,2,    145.3,2,    15.07,2,  -999.00,9,     1.56,2,   -999.0,9,   7.6867,2,    25.00,   9.5991,20110307,1931
  29AH20110128,   A05,   129,  1,     16,2,20110307,1805, 26.2032, -73.8205, 5152,    601.1,  14.2766,  35.9008,2,    159.4,2,    160.0,2,     4.08,2,  -999.00,9,     0.79,2,   -999.0,9,   7.8133,2,    25.00,  14.1867,20110307,1935
  29AH20110128,   A05,   129,  1,     17,2,20110307,1805, 26.2032, -73.8205, 5152,    399.9,  17.6437,  36.4717,2,    187.5,2,    189.3,2,     2.79,2,     6.71,2,     0.33,2,   -999.0,9,   7.9363,2,    25.00,  17.5750,20110307,1939
  29AH20110128,   A05,   129,  1,     18,2,20110307,1805, 26.2032, -73.8205, 5152,    301.2,  18.7619,  36.6289,2,    191.0,2,    191.8,2,     1.65,2,     2.95,2,     0.16,2,   -999.0,9,   7.9625,2,    25.00,  18.7080,20110307,1941
  29AH20110128,   A05,   129,  1,     19,2,20110307,1805, 26.2032, -73.8205, 5152,    150.3,  21.2915,  36.8238,2,    201.0,2,    202.4,2,     1.14,2,     0.54,2,     0.04,2,   -999.0,9,   8.0147,2,    25.00,  21.2622,20110307,1944
  29AH20110128,   A05,   129,  1,     20,2,20110307,1805, 26.2032, -73.8205, 5152,    125.5,  22.0115,  36.8768,2,    195.5,2,    195.1,2,     1.59,2,     0.88,2,     0.06,2,   -999.0,9,   8.0233,2,    25.00,  21.9865,20110307,1945
  29AH20110128,   A05,   129,  1,     21,2,20110307,1805, 26.2032, -73.8205, 5152,     75.7,  23.1803,  36.8546,2,    207.2,2,    206.3,2,     1.37,2,     0.24,2,     0.06,2,   -999.0,9,   8.0482,2,    25.00,  23.1646,20110307,1946
  29AH20110128,   A05,   129,  1,     22,2,20110307,1805, 26.2032, -73.8205, 5152,     51.3,  23.7038,  36.7828,2,    210.6,2,    210.7,2,     1.62,2,     0.17,2,     0.05,2,   -999.0,9,   8.0756,2,    25.00,  23.6930,20110307,1947
  29AH20110128,   A05,   129,  1,     23,2,20110307,1805, 26.2032, -73.8205, 5152,     26.1,  23.7451,  36.7841,2,    210.7,2,    211.3,2,     1.24,2,     0.13,2,     0.03,2,   -999.0,9,   8.0708,2,    25.00,  23.7396,20110307,1948
  29AH20110128,   A05,   129,  1,     24,2,20110307,1805, 26.2032, -73.8205, 5152,      5.6,  23.8578,  36.7853,2,    210.8,2,    210.5,2,     1.61,2,     0.19,2,     0.05,2,   -999.0,9,   8.0737,2,    25.00,  23.8566,20110307,1948
  29AH20110128,   A05,   130,  1,      1,2,20110307,2330, 26.2037, -74.1115, 4950,   4939.8,   2.1600,  34.8705,2,    255.2,2,    255.7,2,    48.18,2,    21.09,2,     1.47,2,   -999.0,9,   7.7171,2,    25.00,   1.7096,20110307,2330
  29AH20110128,   A05,   130,  1,      2,2,20110307,2330, 26.2037, -74.1115, 4950,   4502.3,   2.2582,  34.8884,2,    264.4,2,    264.9,2,    35.12,2,    18.84,2,     1.33,2,   -999.0,9,   7.7257,2,    25.00,   1.8580,20110307,2339
  29AH20110128,   A05,   130,  1,      3,2,20110307,2330, 26.2037, -74.1115, 4950,   3999.4,   2.2971,  34.8963,2,    268.1,2,    267.9,2,    31.89,2,    18.58,2,     1.32,2,   -999.0,9,   7.7262,2,    25.00,   1.9545,20110307,2349
  29AH20110128,   A05,   130,  1,      4,2,20110307,2330, 26.2037, -74.1115, 4950,   3500.5,   2.4688,  34.9101,2,    269.3,2,    269.5,2,    27.15,2,    18.11,2,     1.28,2,   -999.0,9,   7.7274,2,    25.00,   2.1771,20110307,2358
  29AH20110128,   A05,   130,  1,      5,2,20110307,2330, 26.2037, -74.1115, 4950,   2999.0,   2.7770,  34.9296,2,    266.2,2,    264.5,2,    19.60,3,    17.65,2,     1.26,2,   -999.0,9,   7.7301,2,    25.00,   2.5312,20110307,0008
  29AH20110128,   A05,   130,  1,      6,2,20110307,2330, 26.2037, -74.1115, 4950,   2502.2,   3.2156,  34.9558,2,    261.9,2,    262.1,2,    19.66,2,  -999.00,9,     1.21,2,   -999.0,9,   7.7294,2,    25.00,   3.0114,20110307,0018
  29AH20110128,   A05,   130,  1,      7,2,20110307,2330, 26.2037, -74.1115, 4950,   2001.7,   3.6151,  34.9649,2,    262.5,2,    264.2,2,    17.31,2,    17.98,2,     1.25,2,   -999.0,9,   7.7260,2,    25.00,   3.4531,20110307,0028
  29AH20110128,   A05,   130,  1,      8,2,20110307,2330, 26.2037, -74.1115, 4950,   1750.0,   3.8966,  34.9757,2,    260.2,2,    261.7,2,    14.61,2,    17.13,2,     1.23,2,   -999.0,9,   7.7199,2,    25.00,   3.7545,20110307,0033
  29AH20110128,   A05,   130,  1,      9,2,20110307,2330, 26.2037, -74.1115, 4950,   1498.7,   4.2322,  34.9913,2,    255.2,2,    256.5,2,    14.15,2,    17.79,2,     1.25,2,   -999.0,9,   7.7216,2,    25.00,   4.1094,20110307,0038
  29AH20110128,   A05,   130,  1,     10,2,20110307,2330, 26.2037, -74.1115, 4950,   1302.2,   4.8511,  35.0349,2,    240.8,2,    241.7,2,    14.38,2,    18.86,2,     1.31,2,   -999.0,9,   7.7113,2,    25.00,   4.7401,20110307,0042
  29AH20110128,   A05,   130,  1,     11,2,20110307,2330, 26.2037, -74.1115, 4950,   1200.7,   5.2985,  35.0591,2,    227.9,2,    227.9,2,    15.17,2,    19.68,2,     1.35,2,   -999.0,9,   7.7059,2,    25.00,   5.1930,20110307,0044
  29AH20110128,   A05,   130,  1,     12,2,20110307,2330, 26.2037, -74.1115, 4950,   1101.4,   5.9043,  35.0667,2,    205.3,2,    205.1,2,    16.78,2,    21.44,2,     1.47,2,   -999.0,9,   7.6915,2,    25.00,   5.8033,20110307,0046
  29AH20110128,   A05,   130,  1,     13,2,20110307,2330, 26.2037, -74.1115, 4950,    999.5,   6.8439,  35.0817,2,    179.8,2,    179.2,2,    17.31,2,    22.96,2,     1.57,2,   -999.0,9,   7.6750,2,    25.00,   6.7459,20110307,0048
  29AH20110128,   A05,   130,  1,     14,2,20110307,2330, 26.2037, -74.1115, 4950,    901.2,   7.9908,  35.1129,2,    151.5,2,    151.2,2,    18.68,2,    25.32,2,     1.71,2,   -999.0,9,   7.6575,2,    25.00,   7.8954,20110307,0051
  29AH20110128,   A05,   130,  1,     15,2,20110307,2330, 26.2037, -74.1115, 4950,    799.9,   9.8762,  35.2819,2,    141.4,2,    141.3,2,    15.05,2,  -999.00,9,     1.56,2,   -999.0,9,   7.6879,2,    25.00,   9.7809,20110307,0053
  29AH20110128,   A05,   130,  1,     16,2,20110307,2330, 26.2037, -74.1115, 4950,    602.6,  14.3310,  35.9024,2,    162.2,2,    162.2,2,     4.09,2,  -999.00,9,     0.75,2,   -999.0,9,   7.8251,2,    25.00,  14.2407,20110307,0058
  29AH20110128,   A05,   130,  1,     17,2,20110307,2330, 26.2037, -74.1115, 4950,    400.0,  17.8900,  36.5253,2,    197.9,2,    198.9,2,     1.91,2,  -999.00,9,     0.23,2,   -999.0,9,   7.9595,2,    25.00,  17.8206,20110307,0102
  29AH20110128,   A05,   130,  1,     18,2,20110307,2330, 26.2037, -74.1115, 4950,    300.3,  18.4491,  36.5952,2,    199.3,2,    200.0,2,     2.13,2,     3.71,2,     0.18,2,   -999.0,9,   7.9658,2,    25.00,  18.3960,20110307,0104
  29AH20110128,   A05,   130,  1,     19,2,20110307,2330, 26.2037, -74.1115, 4950,    152.7,  21.0727,  36.7924,2,    211.5,2,    210.2,2,     1.53,2,     0.48,2,     0.04,2,   -999.0,9,   8.0277,2,    25.00,  21.0431,20110307,0107
  29AH20110128,   A05,   130,  1,     20,2,20110307,2330, 26.2037, -74.1115, 4950,    125.2,  21.5304,  36.8178,2,    211.1,2,    211.0,2,     1.54,2,     0.35,2,     0.03,2,   -999.0,9,   8.0450,2,    25.00,  21.5058,20110307,0108
  29AH20110128,   A05,   130,  1,     21,2,20110307,2330, 26.2037, -74.1115, 4950,     75.1,  22.3101,  36.8189,2,    215.0,2,    214.4,2,     1.52,2,     0.34,2,     0.04,2,   -999.0,9,   8.0591,2,    25.00,  22.2950,20110307,0109
  29AH20110128,   A05,   130,  1,     22,2,20110307,2330, 26.2037, -74.1115, 4950,     50.2,  23.4397,  36.8192,2,    209.7,2,    209.4,2,     1.30,2,     0.20,2,     0.02,2,   -999.0,9,   8.0657,2,    25.00,  23.4292,20110307,0110
  29AH20110128,   A05,   130,  1,     23,2,20110307,2330, 26.2037, -74.1115, 4950,     24.0,  23.6659,  36.7888,2,    210.9,2,    211.2,2,     1.66,2,     0.22,2,     0.04,2,   -999.0,9,   8.0716,2,    25.00,  23.6609,20110307,0111
  29AH20110128,   A05,   130,  1,     24,2,20110307,2330, 26.2037, -74.1115, 4950,      4.9,  23.7374,  36.7921,2,    211.0,2,    210.2,2,     1.51,2,     0.23,2,     0.04,2,   -999.0,9,   8.0704,2,    25.00,  23.7364,20110307,0112