BOTTLE,20220930CCHSIOAMB
EXPOCODE,SECT_ID,STNNBR,CASTNO,BTLNBR,BTLNBR_FLAG_W,DATE,TIME,LATITUDE,LONGITUDE,DEPTH,CTDPRS,CTDTMP,CTDSAL,CTDSAL_FLAG_W,CTDOXY,CTDOXY_FLAG_W,OXYGEN,OXYGEN_FLAG_W,SILCAT,SILCAT_FLAG_W,NITRAT,NITRAT_FLAG_W,PHSPHT,PHSPHT_FLAG_W,ALKALI,ALKALI_FLAG_W,PH_SWS,PH_SWS_FLAG_W,PH_TMP,THETA,BTL_DATE,BTL_TIME
,,,,,,,,,,METERS,DBAR,ITS-90,PSS-78,,UMOL/KG,,UMOL/KG,,UMOL/KG,,UMOL/KG,,UMOL/KG,,UMOL/KG,,,,DEG C,DEG C,,
  29AH20110128,   A05,   101,  1,      1,2,20110226,1717, 24.5002, -60.1640, 6059,   6048.5,   2.1056,  34.8449,2,    248.7,2,    248.6,2,  -999.00,9,  -999.00,9,  -999.00,9,   -999.0,9,   7.7033,2,    25.00,   1.5121,20110226,1717
  29AH20110128,   A05,   101,  1,      2,2,20110226,1717, 24.5002, -60.1640, 6059,   5499.0,   2.0540,  34.8490,2,    248.8,2,    249.6,2,  -999.00,9,  -999.00,9,  -999.00,9,   -999.0,9,   7.7078,2,    25.00,   1.5360,20110226,1728
  29AH20110128,   A05,   101,  1,      3,2,20110226,1717, 24.5002, -60.1640, 6059,   4999.6,   2.1560,  34.8698,2,    255.4,2,    255.7,2,  -999.00,9,  -999.00,9,  -999.00,9,   -999.0,9,   7.7139,2,    25.00,   1.6983,20110226,1737
  29AH20110128,   A05,   101,  1,      4,2,20110226,1717, 24.5002, -60.1640, 6059,   4501.0,   2.2728,  34.8905,2,    262.2,2,    262.8,2,  -999.00,9,  -999.00,9,  -999.00,9,   -999.0,9,   7.7271,2,    25.00,   1.8723,20110226,1747
  29AH20110128,   A05,   101,  1,      5,2,20110226,1717, 24.5002, -60.1640, 6059,   3999.9,   2.3342,  34.9001,2,    263.3,2,    264.6,2,  -999.00,9,  -999.00,9,  -999.00,9,   -999.0,9,   7.7309,2,    25.00,   1.9905,20110226,1756
  29AH20110128,   A05,   101,  1,      6,2,20110226,1717, 24.5002, -60.1640, 6059,   3498.5,   2.4917,  34.9135,2,    259.8,2,    260.8,2,  -999.00,9,  -999.00,9,  -999.00,9,   -999.0,9,   7.7314,2,    25.00,   2.1996,20110226,1806
  29AH20110128,   A05,   101,  1,      7,2,20110226,1717, 24.5002, -60.1640, 6059,   2998.8,   2.7513,  34.9346,2,    254.9,2,    255.4,2,  -999.00,9,  -999.00,9,  -999.00,9,   -999.0,9,   7.7318,2,    25.00,   2.5060,20110226,1815
  29AH20110128,   A05,   101,  1,      8,2,20110226,1717, 24.5002, -60.1640, 6059,   2499.9,   3.0869,  34.9636,2,    250.9,2,    252.8,2,  -999.00,9,  -999.00,9,  -999.00,9,   -999.0,9,   7.7320,2,    25.00,   2.8852,20110226,1825
  29AH20110128,   A05,   101,  1,      9,2,20110226,1717, 24.5002, -60.1640, 6059,   2001.3,   3.6306,  35.0037,2,    249.9,2,    252.0,2,  -999.00,9,  -999.00,9,  -999.00,9,   -999.0,9,   7.7321,2,    25.00,   3.4683,20110226,1835
  29AH20110128,   A05,   101,  1,     10,2,20110226,1717, 24.5002, -60.1640, 6059,   1751.6,   4.0299,  35.0290,2,    247.9,2,    250.1,2,  -999.00,9,  -999.00,9,  -999.00,9,   -999.0,9,   7.7303,2,    25.00,   3.8857,20110226,1840
  29AH20110128,   A05,   101,  1,     11,2,20110226,1717, 24.5002, -60.1640, 6059,   1498.8,   4.5875,  35.0660,2,    241.5,2,    242.8,2,  -999.00,9,  -999.00,9,  -999.00,9,   -999.0,9,   7.7208,2,    25.00,   4.4606,20110226,1845
  29AH20110128,   A05,   101,  1,     12,2,20110226,1717, 24.5002, -60.1640, 6059,   1300.8,   5.1844,  35.0928,2,    227.9,2,    228.8,2,  -999.00,9,  -999.00,9,  -999.00,9,   -999.0,9,   7.7150,2,    25.00,   5.0702,20110226,1849
  29AH20110128,   A05,   101,  1,     13,2,20110226,1717, 24.5002, -60.1640, 6059,   1200.3,   5.6002,  35.1036,2,    217.4,2,    218.2,2,  -999.00,9,  -999.00,9,  -999.00,9,   -999.0,9,   7.7032,2,    25.00,   5.4919,20110226,1851
  29AH20110128,   A05,   101,  1,     14,2,20110226,1717, 24.5002, -60.1640, 6059,   1001.7,   6.4757,  35.0525,2,    179.6,2,    179.4,2,  -999.00,9,  -999.00,9,  -999.00,9,   -999.0,9,   7.6676,2,    25.00,   6.3802,20110226,1855
  29AH20110128,   A05,   101,  1,     15,2,20110226,1717, 24.5002, -60.1640, 6059,    799.5,   9.5394,  35.2608,2,    145.5,2,    145.5,2,  -999.00,9,  -999.00,9,  -999.00,9,   -999.0,9,   7.6815,2,    25.00,   9.4461,20110226,1859
  29AH20110128,   A05,   101,  1,     16,2,20110226,1717, 24.5002, -60.1640, 6059,    601.6,  13.6519,  35.8003,2,    159.3,2,    159.7,2,  -999.00,9,  -999.00,9,  -999.00,9,   -999.0,9,   7.7987,2,    25.00,  13.5646,20110226,1903
  29AH20110128,   A05,   101,  1,     17,2,20110226,1717, 24.5002, -60.1640, 6059,    401.0,  17.2535,  36.4135,2,    193.2,2,    193.9,2,  -999.00,9,  -999.00,9,  -999.00,9,   -999.0,9,   7.9240,2,    25.00,  17.1856,20110226,1908
  29AH20110128,   A05,   101,  1,     18,2,20110226,1717, 24.5002, -60.1640, 6059,    300.6,  18.0559,  36.5501,2,    199.1,2,    201.6,2,  -999.00,9,  -999.00,9,  -999.00,9,   -999.0,9,   7.9591,2,    25.00,  18.0035,20110226,1912
  29AH20110128,   A05,   101,  1,     19,2,20110226,1717, 24.5002, -60.1640, 6059,    150.0,  19.8000,  36.7698,2,    186.0,2,    187.7,2,  -999.00,9,  -999.00,9,  -999.00,9,   -999.0,9,   7.9638,2,    25.00,  19.7722,20110226,1915
  29AH20110128,   A05,   101,  1,     20,2,20110226,1717, 24.5002, -60.1640, 6059,    124.7,  20.6699,  36.8394,2,    190.7,2,    192.6,2,  -999.00,9,  -999.00,9,  -999.00,9,   -999.0,9,   7.9874,2,    25.00,  20.6461,20110226,1915
  29AH20110128,   A05,   101,  1,     21,2,20110226,1717, 24.5002, -60.1640, 6059,     75.2,  22.3209,  36.8652,2,    210.7,2,    210.5,2,  -999.00,9,  -999.00,9,  -999.00,9,   -999.0,9,   8.0484,2,    25.00,  22.3057,20110226,1917
  29AH20110128,   A05,   101,  1,     22,2,20110226,1717, 24.5002, -60.1640, 6059,     51.0,  22.9799,  36.8720,2,    212.0,2,    213.5,2,  -999.00,9,  -999.00,9,  -999.00,9,   -999.0,9,   8.0593,2,    25.00,  22.9694,20110226,1917
  29AH20110128,   A05,   101,  1,     23,2,20110226,1717, 24.5002, -60.1640, 6059,     25.5,  23.4580,  36.5619,2,    211.1,2,    212.5,2,  -999.00,9,  -999.00,9,  -999.00,9,   -999.0,9,   8.0754,2,    25.00,  23.4527,20110226,1918
  29AH20110128,   A05,   101,  1,     24,2,20110226,1717, 24.5002, -60.1640, 6059,      5.5,  23.8080,  36.4977,2,    210.2,2,    210.5,2,  -999.00,9,  -999.00,9,  -999.00,9,   -999.0,9,   8.0773,2,    25.00,  23.8068,20110226,1919
  29AH20110128,   A05,   102,  1,      1,2,20110227,0128, 24.4997, -60.7768, 5851,   5841.3,   2.0856,  34.8463,2,    248.9,2,    247.9,2,    55.21,2,    21.89,2,     1.61,2,   2351.0,2,   7.7003,2,    25.00,   1.5210,20110227,0128
  29AH20110128,   A05,   102,  1,      2,2,20110227,0128, 24.4997, -60.7768, 5851,   5497.7,   2.0729,  34.8511,2,    250.4,2,    250.4,2,    53.71,2,    21.68,2,     1.58,2,   2347.8,2,   7.7033,2,    25.00,   1.5544,20110227,0135
  29AH20110128,   A05,   102,  1,      3,2,20110227,0128, 24.4997, -60.7768, 5851,   4998.3,   2.2276,  34.8783,2,    258.8,2,    257.3,2,    41.61,2,    19.70,2,     1.42,2,   2337.2,2,   7.7212,2,    25.00,   1.7676,20110227,0145
  29AH20110128,   A05,   102,  1,      4,2,20110227,0128, 24.4997, -60.7768, 5851,   4518.8,   2.2981,  34.8927,2,    264.5,2,    262.9,2,    34.06,2,    18.38,2,     1.33,2,   2332.7,2,   7.7272,2,    25.00,   1.8947,20110227,0154
  29AH20110128,   A05,   102,  1,      5,2,20110227,0128, 24.4997, -60.7768, 5851,   3999.1,   2.3382,  34.9005,2,    266.2,2,    265.6,2,    30.46,2,    17.93,2,     1.28,2,   2326.2,2,   7.7301,2,    25.00,   1.9945,20110227,0204
  29AH20110128,   A05,   102,  1,      6,2,20110227,0128, 24.4997, -60.7768, 5851,   3498.6,   2.4769,  34.9124,2,    263.0,2,    261.5,2,  -999.00,9,  -999.00,9,  -999.00,9,   -999.0,9,   7.7317,2,    25.00,   2.1851,20110227,0214
  29AH20110128,   A05,   102,  1,      7,2,20110227,0128, 24.4997, -60.7768, 5851,   2999.1,   2.7598,  34.9348,2,    256.1,2,    255.8,2,    30.05,3,    18.86,2,     1.35,2,   -999.0,9,   7.7333,2,    25.00,   2.5143,20110227,0224
  29AH20110128,   A05,   102,  1,      8,2,20110227,0128, 24.4997, -60.7768, 5851,   2501.0,   3.1043,  34.9634,2,    252.4,2,    255.2,2,  -999.00,9,  -999.00,9,  -999.00,9,   -999.0,9,   7.7340,2,    25.00,   2.9022,20110227,0236
  29AH20110128,   A05,   102,  1,      9,2,20110227,0128, 24.4997, -60.7768, 5851,   1999.6,   3.6170,  34.9899,2,    254.8,2,    256.3,2,    19.04,2,    17.90,2,     1.26,2,   2323.6,2,   7.7347,2,    25.00,   3.4551,20110227,0246
  29AH20110128,   A05,   102,  1,     10,2,20110227,0128, 24.4997, -60.7768, 5851,   1750.6,   3.9896,  35.0077,2,    252.7,2,    253.8,2,    16.06,2,    17.81,2,     1.24,2,   2318.6,2,   7.7281,2,    25.00,   3.8461,20110227,0250
  29AH20110128,   A05,   102,  1,     11,2,20110227,0128, 24.4997, -60.7768, 5851,   1500.6,   4.5346,  35.0362,2,    244.4,2,    243.8,2,  -999.00,9,  -999.00,9,  -999.00,9,   -999.0,9,   7.7183,2,    25.00,   4.4081,20110227,0256
  29AH20110128,   A05,   102,  1,     12,2,20110227,0128, 24.4997, -60.7768, 5851,   1300.4,   5.2158,  35.0689,2,    225.6,2,    227.0,2,    14.57,2,    19.21,2,     1.35,2,   2319.5,2,   7.7104,2,    25.00,   5.1014,20110227,0300
  29AH20110128,   A05,   102,  1,     13,2,20110227,0128, 24.4997, -60.7768, 5851,   1200.5,   5.6003,  35.0731,2,    213.6,2,    212.9,2,    15.37,2,    20.03,2,     1.41,2,   -999.0,9,   7.6994,2,    25.00,   5.4921,20110227,0302
  29AH20110128,   A05,   102,  1,     14,2,20110227,0128, 24.4997, -60.7768, 5851,    998.9,   6.6811,  35.0126,2,    162.4,2,    161.8,2,    19.80,2,    24.99,2,     1.74,2,   -999.0,9,   7.6472,2,    25.00,   6.5845,20110227,0306
  29AH20110128,   A05,   102,  1,     15,2,20110227,0128, 24.4997, -60.7768, 5851,    800.3,   8.9715,  35.1843,2,    140.9,2,    139.5,2,    15.64,2,    24.24,2,     1.63,2,   2319.2,2,   7.6688,2,    25.00,   8.8815,20110227,0310
  29AH20110128,   A05,   102,  1,     16,2,20110227,0128, 24.4997, -60.7768, 5851,    601.6,  13.2243,  35.7488,2,    157.7,2,    162.4,2,  -999.00,9,  -999.00,9,  -999.00,9,   -999.0,9,   7.8017,2,    25.00,  13.1388,20110227,0314
  29AH20110128,   A05,   102,  1,     17,2,20110227,0128, 24.4997, -60.7768, 5851,    400.8,  17.3495,  36.4310,2,    194.0,2,    194.2,2,     2.15,2,     5.70,2,     0.33,2,   2380.9,2,   7.9361,2,    25.00,  17.2814,20110227,0318
  29AH20110128,   A05,   102,  1,     18,2,20110227,0128, 24.4997, -60.7768, 5851,    300.2,  18.1032,  36.5537,2,    202.4,2,    201.9,2,     1.48,2,     3.71,2,     0.21,2,   2400.9,2,   7.9647,2,    25.00,  18.0508,20110227,0320
  29AH20110128,   A05,   102,  1,     19,2,20110227,0128, 24.4997, -60.7768, 5851,    149.7,  21.2046,  36.9308,2,    184.0,2,    183.2,2,     0.79,2,     1.14,2,     0.08,2,   2410.6,2,   7.9904,2,    25.00,  21.1755,20110227,0323
  29AH20110128,   A05,   102,  1,     20,2,20110227,0128, 24.4997, -60.7768, 5851,    125.3,  22.5061,  37.0232,2,    189.0,2,    187.9,2,     0.72,2,     0.55,2,     0.06,2,   -999.0,9,   8.0106,2,    25.00,  22.4807,20110227,0324
  29AH20110128,   A05,   102,  1,     21,2,20110227,0128, 24.4997, -60.7768, 5851,     75.3,  24.1029,  36.8020,2,    207.9,2,    207.4,2,     1.27,2,     0.04,2,     0.05,2,   2403.7,2,   8.0781,2,    25.00,  24.0869,20110227,0325
  29AH20110128,   A05,   102,  1,     22,2,20110227,0128, 24.4997, -60.7768, 5851,     49.6,  24.6530,  36.3498,2,    208.4,2,    206.7,2,     0.97,2,     0.04,2,     0.04,2,   -999.0,9,   8.0882,2,    25.00,  24.6423,20110227,0326
  29AH20110128,   A05,   102,  1,     23,2,20110227,0128, 24.4997, -60.7768, 5851,     24.6,  24.6353,  36.3208,2,    208.4,2,    208.0,2,     1.04,2,     0.02,2,     0.05,2,   -999.0,9,   8.0907,2,    25.00,  24.6300,20110227,0327
  29AH20110128,   A05,   102,  1,     24,2,20110227,0128, 24.4997, -60.7768, 5851,      5.3,  24.6209,  36.3207,2,    208.5,2,    207.6,2,     1.07,2,     0.04,2,     0.06,2,   2378.8,2,   8.0875,2,    25.00,  24.6198,20110227,0328
  29AH20110128,   A05,   103,  1,      1,2,20110227,0906, 24.5003, -61.3912, 6010,   5999.5,   2.1027,  34.8455,2,    249.3,2,    247.8,2,  -999.00,9,  -999.00,9,  -999.00,9,   -999.0,9,   7.7069,2,    25.00,   1.5160,20110227,0906
  29AH20110128,   A05,   103,  1,      2,2,20110227,0906, 24.5003, -61.3912, 6010,   5499.7,   2.0796,  34.8521,2,    250.9,2,    249.8,2,  -999.00,9,  -999.00,9,  -999.00,9,   -999.0,9,   7.7036,2,    25.00,   1.5606,20110227,0916
  29AH20110128,   A05,   103,  1,      3,2,20110227,0906, 24.5003, -61.3912, 6010,   4997.8,   2.2520,  34.8814,2,    259.9,2,    259.1,2,  -999.00,9,  -999.00,9,  -999.00,9,   -999.0,9,   7.7250,2,    25.00,   1.7912,20110227,0926
  29AH20110128,   A05,   103,  1,      4,2,20110227,0906, 24.5003, -61.3912, 6010,   4499.6,   2.3033,  34.8938,2,    264.6,2,    263.4,2,  -999.00,9,  -999.00,9,  -999.00,9,   -999.0,9,   7.7297,2,    25.00,   1.9020,20110227,0936
  29AH20110128,   A05,   103,  1,      5,2,20110227,0906, 24.5003, -61.3912, 6010,   4000.1,   2.3520,  34.9016,2,    265.8,2,    264.7,2,  -999.00,9,  -999.00,9,  -999.00,9,   -999.0,9,   7.7311,2,    25.00,   2.0078,20110227,0945
  29AH20110128,   A05,   103,  1,      6,2,20110227,0906, 24.5003, -61.3912, 6010,   3500.2,   2.5001,  34.9137,2,    264.5,2,    264.0,2,  -999.00,9,  -999.00,9,  -999.00,9,   -999.0,9,   7.7325,2,    25.00,   2.2076,20110227,0955
  29AH20110128,   A05,   103,  1,      7,2,20110227,0906, 24.5003, -61.3912, 6010,   3000.7,   2.7522,  34.9325,2,    259.8,2,    260.1,2,  -999.00,9,  -999.00,9,  -999.00,9,   -999.0,9,   7.7325,2,    25.00,   2.5067,20110227,1005
  29AH20110128,   A05,   103,  1,      8,2,20110227,0906, 24.5003, -61.3912, 6010,   2500.2,   3.1179,  34.9623,2,    253.8,2,    255.6,2,  -999.00,9,  -999.00,9,  -999.00,9,   -999.0,9,   7.7344,2,    25.00,   2.9157,20110227,1014
  29AH20110128,   A05,   103,  1,      9,2,20110227,0906, 24.5003, -61.3912, 6010,   2000.2,   3.7881,  35.0113,2,    249.7,2,    250.4,2,  -999.00,9,  -999.00,9,  -999.00,9,   -999.0,9,   7.7369,2,    25.00,   3.6235,20110227,1024
  29AH20110128,   A05,   103,  1,     10,2,20110227,0906, 24.5003, -61.3912, 6010,   1749.5,   4.1387,  35.0199,2,    250.2,2,    250.3,2,  -999.00,9,  -999.00,9,  -999.00,9,   -999.0,9,   7.7290,2,    25.00,   3.9933,20110227,1029
  29AH20110128,   A05,   103,  1,     11,2,20110227,0906, 24.5003, -61.3912, 6010,   1499.7,   4.6565,  35.0380,2,    242.7,2,    243.7,2,  -999.00,9,  -999.00,9,  -999.00,9,   -999.0,9,   7.7294,2,    25.00,   4.5288,20110227,1034
  29AH20110128,   A05,   103,  1,     12,2,20110227,0906, 24.5003, -61.3912, 6010,   1299.7,   5.3829,  35.0592,2,    219.0,2,    218.3,2,  -999.00,9,  -999.00,9,  -999.00,9,   -999.0,9,   7.7019,2,    25.00,   5.2669,20110227,1038
  29AH20110128,   A05,   103,  1,     13,2,20110227,0906, 24.5003, -61.3912, 6010,   1200.0,   5.8305,  35.0485,2,    198.9,2,    198.9,2,  -999.00,9,  -999.00,9,  -999.00,9,   -999.0,9,   7.6856,2,    25.00,   5.7203,20110227,1040
  29AH20110128,   A05,   103,  1,     14,2,20110227,0906, 24.5003, -61.3912, 6010,    999.8,   6.9625,  35.0112,2,    154.0,2,    152.3,2,  -999.00,9,  -999.00,9,  -999.00,9,   -999.0,9,   7.6400,2,    25.00,   6.8637,20110227,1044
  29AH20110128,   A05,   103,  1,     15,2,20110227,0906, 24.5003, -61.3912, 6010,    800.9,   9.1628,  35.1914,2,    136.3,2,    138.2,2,  -999.00,9,  -999.00,9,  -999.00,9,   -999.0,9,   7.7098,2,    25.00,   9.0716,20110227,1049
  29AH20110128,   A05,   103,  1,     16,2,20110227,0906, 24.5003, -61.3912, 6010,    599.4,  13.1298,  35.7261,2,    149.1,2,    150.9,2,  -999.00,9,  -999.00,9,  -999.00,9,   -999.0,9,   7.7805,2,    25.00,  13.0450,20110227,1053
  29AH20110128,   A05,   103,  1,     17,2,20110227,0906, 24.5003, -61.3912, 6010,    400.3,  16.8765,  36.3420,2,    179.7,2,    179.9,2,  -999.00,9,  -999.00,9,  -999.00,9,   -999.0,9,   7.9149,2,    25.00,  16.8098,20110227,1057
  29AH20110128,   A05,   103,  1,     18,2,20110227,0906, 24.5003, -61.3912, 6010,    300.5,  18.2558,  36.5843,2,    188.7,2,    190.0,2,  -999.00,9,  -999.00,9,  -999.00,9,   -999.0,9,   7.9498,2,    25.00,  18.2030,20110227,1059
  29AH20110128,   A05,   103,  1,     19,2,20110227,0906, 24.5003, -61.3912, 6010,    150.4,  22.4461,  36.9347,2,    196.3,2,    196.4,2,  -999.00,9,  -999.00,9,  -999.00,9,   -999.0,9,   8.0314,2,    25.00,  22.4156,20110227,1103
  29AH20110128,   A05,   103,  1,     20,2,20110227,0906, 24.5003, -61.3912, 6010,    111.9,  24.0731,  36.9138,2,    202.1,2,    201.6,2,  -999.00,9,  -999.00,9,  -999.00,9,   -999.0,9,   8.0553,2,    25.00,  24.0493,20110227,1104
  29AH20110128,   A05,   103,  1,     21,2,20110227,0906, 24.5003, -61.3912, 6010,     75.0,  24.9131,  36.5739,2,    205.8,2,    206.1,2,  -999.00,9,  -999.00,9,  -999.00,9,   -999.0,9,   8.0868,2,    25.00,  24.8968,20110227,1105
  29AH20110128,   A05,   103,  1,     22,2,20110227,0906, 24.5003, -61.3912, 6010,     49.9,  24.7983,  36.3321,2,    206.9,2,    206.7,2,  -999.00,9,  -999.00,9,  -999.00,9,   -999.0,9,   8.0969,2,    25.00,  24.7875,20110227,1105
  29AH20110128,   A05,   103,  1,     23,2,20110227,0906, 24.5003, -61.3912, 6010,     39.6,  24.7943,  36.3320,2,    207.2,2,    207.8,2,  -999.00,9,  -999.00,9,  -999.00,9,   -999.0,9,   8.0920,2,    25.00,  24.7857,20110227,1106
  29AH20110128,   A05,   103,  1,     24,2,20110227,0906, 24.5003, -61.3912, 6010,      5.0,  24.7787,  36.3315,2,    207.3,2,    206.0,2,  -999.00,9,  -999.00,9,  -999.00,9,   -999.0,9,   8.0943,2,    25.00,  24.7776,20110227,1107