BOTTLE,20220930CCHSIOAMB
EXPOCODE,SECT_ID,STNNBR,CASTNO,BTLNBR,BTLNBR_FLAG_W,DATE,TIME,LATITUDE,LONGITUDE,DEPTH,CTDPRS,CTDTMP,CTDSAL,CTDSAL_FLAG_W,CTDOXY,CTDOXY_FLAG_W,OXYGEN,OXYGEN_FLAG_W,SILCAT,SILCAT_FLAG_W,NITRAT,NITRAT_FLAG_W,PHSPHT,PHSPHT_FLAG_W,ALKALI,ALKALI_FLAG_W,PH_SWS,PH_SWS_FLAG_W,PH_TMP,THETA,BTL_DATE,BTL_TIME
,,,,,,,,,,METERS,DBAR,ITS-90,PSS-78,,UMOL/KG,,UMOL/KG,,UMOL/KG,,UMOL/KG,,UMOL/KG,,UMOL/KG,,,,DEG C,DEG C,,
  29AH20110128,   A05,    14,  1,      1,2,20110129,2252, 26.9012, -16.0527, 3546,   3510.6,   2.5769,  34.9150,2,    228.5,2,    226.0,2,    46.37,2,    21.75,2,     1.59,2,   -999.0,9,   7.7199,2,    25.00,   2.2813,20110129,2252
  29AH20110128,   A05,    14,  1,      2,2,20110129,2252, 26.9012, -16.0527, 3546,   3498.5,   2.5756,  34.9150,2,    228.2,2,    229.4,2,    46.73,2,    21.52,2,  -999.00,9,   -999.0,9,   7.7151,2,    25.00,   2.2814,20110129,2252
  29AH20110128,   A05,    14,  1,      3,2,20110129,2252, 26.9012, -16.0527, 3546,   3000.1,   2.7570,  34.9345,2,    229.5,2,    227.2,2,    41.99,2,    21.03,2,     1.54,2,   -999.0,9,   7.7140,2,    25.00,   2.5114,20110129,2302
  29AH20110128,   A05,    14,  1,      4,2,20110129,2252, 26.9012, -16.0527, 3546,   2501.1,   3.2597,  34.9831,2,    226.1,2,    223.3,2,    35.55,2,    20.76,2,     1.49,2,   -999.0,9,   7.7136,2,    25.00,   3.0547,20110129,2312
  29AH20110128,   A05,    14,  1,      5,2,20110129,2252, 26.9012, -16.0527, 3546,   2001.0,   4.0440,  35.0627,2,    218.9,2,    217.3,2,    28.87,2,    20.71,2,     1.45,2,   -999.0,9,   7.7129,2,    25.00,   3.8754,20110129,2321
  29AH20110128,   A05,    14,  1,      6,2,20110129,2252, 26.9012, -16.0527, 3546,   1751.0,   4.7812,  35.1495,2,    213.0,2,    210.0,2,    25.32,2,    20.43,2,     1.37,2,   -999.0,9,   7.7153,2,    25.00,   4.6270,20110129,2326
  29AH20110128,   A05,    14,  1,      7,2,20110129,2252, 26.9012, -16.0527, 3546,   1498.9,   5.6874,  35.2362,2,    200.0,2,    198.5,2,    22.14,2,    20.57,2,     1.46,2,   -999.0,9,   7.7070,2,    25.00,   5.5478,20110129,2331
  29AH20110128,   A05,    14,  1,      8,2,20110129,2252, 26.9012, -16.0527, 3546,   1301.8,   6.5685,  35.3011,2,    183.1,2,    181.3,2,    20.68,2,    21.38,2,     1.48,2,   -999.0,9,   7.6993,2,    25.00,   6.4405,20110129,2335
  29AH20110128,   A05,    14,  1,      9,2,20110129,2252, 26.9012, -16.0527, 3546,   1201.0,   6.9575,  35.3236,2,    175.9,2,    174.0,2,    19.98,2,    21.79,2,     1.47,2,   -999.0,9,   7.6957,2,    25.00,   6.8367,20110129,2337
  29AH20110128,   A05,    14,  1,     10,2,20110129,2252, 26.9012, -16.0527, 3546,   1101.3,   7.8627,  35.4179,2,    167.0,2,    166.4,2,    18.19,2,    21.43,2,     1.42,2,   -999.0,9,   7.6997,2,    25.00,   7.7452,20110129,2339
  29AH20110128,   A05,    14,  1,     11,2,20110129,2252, 26.9012, -16.0527, 3546,   1000.7,   8.2237,  35.4145,2,    159.1,2,    157.7,2,    17.55,2,    21.82,2,     1.53,2,   -999.0,9,   7.6908,2,    25.00,   8.1150,20110129,2344
  29AH20110128,   A05,    14,  1,     12,2,20110129,2252, 26.9012, -16.0527, 3546,    900.1,   8.4222,  35.3620,2,    148.6,2,    147.4,2,    17.57,2,    22.82,2,     1.56,2,   -999.0,9,   7.6772,2,    25.00,   8.3238,20110129,2346
  29AH20110128,   A05,    14,  1,     13,2,20110129,2252, 26.9012, -16.0527, 3546,    800.7,   9.2728,  35.4255,2,    147.0,2,    146.6,2,    15.41,2,    21.87,2,     1.40,2,   -999.0,9,   7.6894,2,    25.00,   9.1807,20110129,2348
  29AH20110128,   A05,    14,  1,     14,2,20110129,2252, 26.9012, -16.0527, 3546,    599.9,  10.6318,  35.4963,2,    148.0,2,    148.2,2,    11.84,2,    19.87,2,     1.22,2,   -999.0,9,   7.7126,2,    25.00,  10.5576,20110129,2353
  29AH20110128,   A05,    14,  1,     15,2,20110129,2252, 26.9012, -16.0527, 3546,    399.7,  13.0243,  35.7984,2,    179.4,2,    177.6,2,     6.75,2,    13.03,2,  -999.00,9,   -999.0,9,   7.8004,2,    25.00,  12.9684,20110129,2357
  29AH20110128,   A05,    14,  1,     16,2,20110129,2252, 26.9012, -16.0527, 3546,    300.8,  14.1577,  35.9660,2,    175.2,2,    175.5,2,     5.77,2,    11.39,2,     0.66,2,   -999.0,9,   7.8218,2,    25.00,  14.1134,20110129,2359
  29AH20110128,   A05,    14,  1,     17,2,20110129,2252, 26.9012, -16.0527, 3546,    200.5,  15.8956,  36.2516,2,    195.1,2,    194.2,2,     3.74,2,     6.74,2,     0.41,2,   -999.0,9,   7.8912,2,    25.00,  15.8637,20110129,0001
  29AH20110128,   A05,    14,  1,     18,2,20110129,2252, 26.9012, -16.0527, 3546,    150.2,  16.8842,  36.3909,2,    200.6,2,    198.9,2,     2.98,2,     4.50,2,     0.30,2,   -999.0,9,   7.9206,2,    25.00,  16.8593,20110129,0003
  29AH20110128,   A05,    14,  1,     19,2,20110129,2252, 26.9012, -16.0527, 3546,    126.2,  18.1918,  36.5429,2,    204.0,2,    202.8,2,     2.65,2,     3.09,2,     0.28,2,   -999.0,9,   7.9369,2,    25.00,  18.1698,20110129,0003
  29AH20110128,   A05,    14,  1,     20,2,20110129,2252, 26.9012, -16.0527, 3546,    100.1,  19.3340,  36.7092,2,    205.1,2,    207.7,2,     2.27,2,     1.63,2,     0.23,2,   -999.0,9,   7.9694,2,    25.00,  19.3158,20110129,0004
  29AH20110128,   A05,    14,  1,     21,2,20110129,2252, 26.9012, -16.0527, 3546,     73.7,  20.6184,  36.9370,2,    218.5,2,    216.2,2,     1.99,2,     0.14,2,     0.21,2,   -999.0,9,   8.0015,2,    25.00,  20.6044,20110129,0005
  29AH20110128,   A05,    14,  1,     22,2,20110129,2252, 26.9012, -16.0527, 3546,     49.9,  20.6657,  36.9507,2,    219.0,2,    218.8,2,     1.89,2,     0.03,2,     0.18,2,   -999.0,9,   8.0102,2,    25.00,  20.6562,20110129,0005
  29AH20110128,   A05,    14,  1,     23,2,20110129,2252, 26.9012, -16.0527, 3546,     25.6,  20.6811,  36.9512,2,    219.5,2,    218.8,2,     2.00,2,     0.03,2,     0.24,2,   -999.0,9,   8.0108,2,    25.00,  20.6762,20110129,0006
  29AH20110128,   A05,    14,  1,     24,2,20110129,2252, 26.9012, -16.0527, 3546,      5.8,  20.6865,  36.9516,2,    220.2,2,    216.5,2,     1.99,2,     0.01,2,     0.22,2,   -999.0,9,   8.0112,2,    25.00,  20.6854,20110129,0011
  29AH20110128,   A05,    15,  1,      1,2,20110130,0356, 26.7852, -16.4043, 3615,   3604.8,   2.5022,  34.9081,2,    231.8,2,    229.6,2,    46.27,2,    21.59,2,     1.61,2,   2360.3,2,   7.7180,2,    25.00,   2.1982,20110130,0356
  29AH20110128,   A05,    15,  1,      2,2,20110130,0356, 26.7852, -16.4043, 3615,   3000.7,   2.7491,  34.9342,2,    229.9,2,    227.5,2,    41.69,2,    21.18,2,     1.57,2,   2354.4,2,   7.7164,2,    25.00,   2.5037,20110130,0407
  29AH20110128,   A05,    15,  1,      3,2,20110130,0356, 26.7852, -16.4043, 3615,   2500.4,   3.2016,  34.9775,2,    226.8,2,    226.3,2,  -999.00,9,  -999.00,9,  -999.00,9,   -999.0,9,   7.7157,2,    25.00,   2.9977,20110130,0417
  29AH20110128,   A05,    15,  1,      4,2,20110130,0356, 26.7852, -16.4043, 3615,   2000.5,   4.1674,  35.0858,2,    220.7,2,    220.2,2,    28.03,2,    20.43,2,     1.44,2,   2337.9,2,   7.7149,2,    25.00,   3.9970,20110130,0427
  29AH20110128,   A05,    15,  1,      5,2,20110130,0356, 26.7852, -16.4043, 3615,   1751.7,   4.8430,  35.1632,2,    213.9,2,    212.3,2,    25.30,2,    20.12,2,     1.39,2,   2338.0,2,   7.7173,2,    25.00,   4.6879,20110130,0431
  29AH20110128,   A05,    15,  1,      6,2,20110130,0356, 26.7852, -16.4043, 3615,   1501.4,   5.9391,  35.2751,2,    199.2,2,    198.1,2,    21.71,2,  -999.00,9,     1.40,2,   2339.9,2,   7.7148,2,    25.00,   5.7964,20110130,0436
  29AH20110128,   A05,    15,  1,      7,2,20110130,0356, 26.7852, -16.4043, 3615,   1300.1,   6.8590,  35.3501,2,    184.0,2,    182.3,2,    19.65,2,  -999.00,9,     1.46,2,   2343.2,2,   7.7099,2,    25.00,   6.7283,20110130,0440
  29AH20110128,   A05,    15,  1,      8,2,20110130,0356, 26.7852, -16.4043, 3615,   1200.2,   7.2575,  35.3669,2,    176.1,2,    175.0,2,    19.15,2,    21.43,2,     1.48,2,   2342.7,2,   7.7010,2,    25.00,   7.1341,20110130,0442
  29AH20110128,   A05,    15,  1,      9,2,20110130,0356, 26.7852, -16.4043, 3615,   1101.9,   7.4885,  35.3179,2,    162.0,2,    160.4,2,    19.08,2,    22.79,2,     1.57,2,   -999.0,9,   7.6817,2,    25.00,   7.3741,20110130,0444
  29AH20110128,   A05,    15,  1,     10,2,20110130,0356, 26.7852, -16.4043, 3615,   1001.5,   7.8965,  35.3100,2,    152.1,2,    152.1,2,    18.57,2,    23.45,2,     1.60,2,   2335.3,2,   7.6717,2,    25.00,   7.7902,20110130,0447
  29AH20110128,   A05,    15,  1,     11,2,20110130,0356, 26.7852, -16.4043, 3615,    900.7,   8.7042,  35.3485,2,    145.1,2,    145.2,2,    17.09,2,    23.23,2,     1.56,2,   -999.0,9,   7.6707,2,    25.00,   8.6039,20110130,0449
  29AH20110128,   A05,    15,  1,     12,2,20110130,0356, 26.7852, -16.4043, 3615,    801.3,   9.1910,  35.3560,2,    138.6,2,    137.8,2,    16.11,2,    23.27,2,     1.57,2,   2332.5,2,   7.6691,2,    25.00,   9.0994,20110130,0451
  29AH20110128,   A05,    15,  1,     13,2,20110130,0356, 26.7852, -16.4043, 3615,    600.4,  11.1876,  35.5536,2,    156.3,2,    158.7,2,    10.70,2,    18.31,2,  -999.00,9,   2337.6,2,   7.7320,2,    25.00,  11.1109,20110130,0455
  29AH20110128,   A05,    15,  1,     14,2,20110130,0356, 26.7852, -16.4043, 3615,    400.5,  13.2512,  35.8194,2,    178.1,2,    178.4,2,     6.67,2,    12.78,2,  -999.00,9,   2350.5,2,   7.8091,2,    25.00,  13.1946,20110130,0459
  29AH20110128,   A05,    15,  1,     15,2,20110130,0356, 26.7852, -16.4043, 3615,    300.3,  14.6525,  36.0424,2,    189.2,2,    190.0,2,     5.06,2,     9.39,2,     0.53,2,   2362.4,2,   7.8557,2,    25.00,  14.6072,20110130,0501
  29AH20110128,   A05,    15,  1,     16,2,20110130,0356, 26.7852, -16.4043, 3615,    200.0,  16.5846,  36.3633,2,    195.1,2,    194.4,2,     3.63,2,     5.95,2,     0.36,2,   -999.0,9,   7.9044,2,    25.00,  16.5518,20110130,0503
  29AH20110128,   A05,    15,  1,     17,2,20110130,0356, 26.7852, -16.4043, 3615,    151.3,  17.7274,  36.5021,2,    207.1,2,    203.6,2,     2.86,2,     3.25,2,     0.25,2,   2391.3,2,   7.9379,2,    25.00,  17.7015,20110130,0504
  29AH20110128,   A05,    15,  1,     18,2,20110130,0356, 26.7852, -16.4043, 3615,    125.6,  18.6741,  36.6205,2,    205.3,2,    205.7,2,     2.64,2,     2.34,2,     0.23,2,   -999.0,9,   7.9555,2,    25.00,  18.6518,20110130,0505
  29AH20110128,   A05,    15,  1,     19,2,20110130,0356, 26.7852, -16.4043, 3615,    101.0,  20.6089,  36.9343,2,    218.1,2,    218.5,2,     2.18,2,     0.11,2,     0.18,2,   -999.0,9,   8.0049,2,    25.00,  20.5896,20110130,0505
  29AH20110128,   A05,    15,  1,     20,2,20110130,0356, 26.7852, -16.4043, 3615,     74.2,  20.8193,  36.9798,2,    218.3,2,    217.9,2,     2.17,2,     0.09,2,     0.17,2,   -999.0,9,   8.0122,2,    25.00,  20.8051,20110130,0506
  29AH20110128,   A05,    15,  1,     21,2,20110130,0356, 26.7852, -16.4043, 3615,     49.7,  20.8267,  36.9801,2,    218.5,2,    218.0,2,     2.19,2,     0.09,2,     0.16,2,   -999.0,9,   8.0098,2,    25.00,  20.8172,20110130,0506
  29AH20110128,   A05,    15,  1,     22,2,20110130,0356, 26.7852, -16.4043, 3615,     23.9,  20.8230,  36.9798,2,    218.9,2,    218.9,2,     2.19,2,     0.11,2,     0.16,2,   -999.0,9,   8.0130,2,    25.00,  20.8184,20110130,0507
  29AH20110128,   A05,    15,  1,     23,2,20110130,0356, 26.7852, -16.4043, 3615,      5.1,  20.8155,  36.9801,2,    218.7,2,    218.3,2,     2.21,2,     0.12,2,     0.17,2,   2421.7,2,   8.0083,2,    25.00,  20.8145,20110130,0508
  29AH20110128,   A05,    16,  1,      1,2,20110130,0849, 26.6628, -16.7795, 3670,   3660.2,   2.4703,  34.9051,2,    234.1,2,    232.8,2,    48.37,2,    21.45,2,     1.57,2,   -999.0,9,   7.7203,2,    25.00,   2.1611,20110130,0849
  29AH20110128,   A05,    16,  1,      2,2,20110130,0849, 26.6628, -16.7795, 3670,   3499.6,   2.5291,  34.9116,2,    231.6,2,    229.2,2,    43.60,2,    21.47,2,     1.58,2,   -999.0,9,   7.7168,2,    25.00,   2.2359,20110130,0853
  29AH20110128,   A05,    16,  1,      3,2,20110130,0849, 26.6628, -16.7795, 3670,   3000.1,   2.7585,  34.9360,2,    230.9,2,    229.5,2,    43.20,2,    21.05,2,     1.55,2,   -999.0,9,   7.7168,2,    25.00,   2.5129,20110130,0902
  29AH20110128,   A05,    16,  1,      4,2,20110130,0849, 26.6628, -16.7795, 3670,   2499.2,   3.2253,  34.9806,2,    227.1,2,    226.9,2,    29.95,3,    20.30,2,     1.43,2,   -999.0,9,   7.7156,2,    25.00,   3.0211,20110130,0912
  29AH20110128,   A05,    16,  1,      5,2,20110130,0849, 26.6628, -16.7795, 3670,   2000.0,   4.0976,  35.0813,2,    222.4,2,    220.2,2,    29.04,2,    20.31,2,     1.39,2,   -999.0,9,   7.7151,2,    25.00,   3.9283,20110130,0921
  29AH20110128,   A05,    16,  1,      6,2,20110130,0849, 26.6628, -16.7795, 3670,   1750.3,   4.9181,  35.1837,2,    217.1,2,    216.3,2,    25.47,2,  -999.00,9,     1.34,2,   -999.0,9,   7.7238,2,    25.00,   4.7621,20110130,0928
  29AH20110128,   A05,    16,  1,      7,2,20110130,0849, 26.6628, -16.7795, 3670,   1501.9,   5.8372,  35.2644,2,    200.8,2,    199.3,2,    22.91,2,    20.47,2,     1.40,2,   -999.0,9,   7.7126,2,    25.00,   5.6956,20110130,0933
  29AH20110128,   A05,    16,  1,      8,2,20110130,0849, 26.6628, -16.7795, 3670,   1300.7,   6.7070,  35.3322,2,    185.4,2,    183.7,2,    20.98,2,    20.98,2,     1.44,2,   -999.0,9,   7.7062,2,    25.00,   6.5777,20110130,0937
  29AH20110128,   A05,    16,  1,      9,2,20110130,0849, 26.6628, -16.7795, 3670,   1200.9,   6.9855,  35.3136,2,    173.6,2,    172.7,2,    20.77,2,    21.99,2,     1.51,2,   -999.0,9,   7.6937,2,    25.00,   6.8645,20110130,0939
  29AH20110128,   A05,    16,  1,     10,2,20110130,0849, 26.6628, -16.7795, 3670,   1100.9,   7.4359,  35.3319,2,    165.7,2,    164.4,2,    19.95,2,    22.41,2,     1.56,2,   -999.0,9,   7.6860,2,    25.00,   7.3220,20110130,0941
  29AH20110128,   A05,    16,  1,     11,2,20110130,0849, 26.6628, -16.7795, 3670,    999.3,   7.8661,  35.3268,2,    155.7,2,    156.0,2,    17.03,2,    22.99,2,     1.61,2,   -999.0,9,   7.6756,2,    25.00,   7.7603,20110130,0943
  29AH20110128,   A05,    16,  1,     12,2,20110130,0849, 26.6628, -16.7795, 3670,    899.9,   8.4644,  35.3465,2,    148.3,2,    147.4,2,    18.10,2,    23.03,2,     1.60,2,   -999.0,9,   7.6740,2,    25.00,   8.3657,20110130,0946
  29AH20110128,   A05,    16,  1,     13,2,20110130,0849, 26.6628, -16.7795, 3670,    800.8,   9.1399,  35.3659,2,    141.4,2,    141.0,2,    16.78,2,    22.96,2,     1.55,2,   -999.0,9,   7.6758,2,    25.00,   9.0486,20110130,0949
  29AH20110128,   A05,    16,  1,     14,2,20110130,0849, 26.6628, -16.7795, 3670,    599.7,  11.2068,  35.5547,2,    155.1,2,    155.0,2,    11.17,2,    18.62,2,  -999.00,9,   -999.0,9,   7.7287,2,    25.00,  11.1302,20110130,0954
  29AH20110128,   A05,    16,  1,     15,2,20110130,0849, 26.6628, -16.7795, 3670,    399.0,  13.5702,  35.8614,2,    184.3,2,    184.0,2,     6.22,2,    11.97,2,  -999.00,9,   -999.0,9,   7.8259,2,    25.00,  13.5129,20110130,0959
  29AH20110128,   A05,    16,  1,     16,2,20110130,0849, 26.6628, -16.7795, 3670,    299.9,  15.1783,  36.1253,2,    192.3,2,    192.1,2,     4.69,2,     8.74,2,     0.48,2,   -999.0,9,   7.8726,2,    25.00,  15.1319,20110130,1001
  29AH20110128,   A05,    16,  1,     17,2,20110130,0849, 26.6628, -16.7795, 3670,    200.6,  17.1774,  36.4451,2,    199.0,2,    207.9,3,     3.28,2,     5.08,2,     0.28,2,   -999.0,9,   7.9221,2,    25.00,  17.1437,20110130,1003
  29AH20110128,   A05,    16,  1,     18,2,20110130,0849, 26.6628, -16.7795, 3670,    150.1,  19.4215,  36.7392,2,    209.1,2,    213.3,2,     2.46,2,     1.87,2,     0.15,2,   -999.0,9,   7.9696,2,    25.00,  19.3941,20110130,1005
  29AH20110128,   A05,    16,  1,     19,2,20110130,0849, 26.6628, -16.7795, 3670,    124.5,  20.8243,  36.9708,2,    215.6,2,    216.4,2,     2.19,2,     0.76,2,     0.16,2,   -999.0,9,   8.0064,2,    25.00,  20.8004,20110130,1006
  29AH20110128,   A05,    16,  1,     20,2,20110130,0849, 26.6628, -16.7795, 3670,     99.4,  20.9552,  37.0003,2,    217.5,2,    217.6,2,     2.11,2,     0.61,2,     0.17,2,   -999.0,9,   8.0094,2,    25.00,  20.9360,20110130,1006
  29AH20110128,   A05,    16,  1,     21,2,20110130,0849, 26.6628, -16.7795, 3670,     73.5,  20.9719,  37.0064,2,    218.2,2,    217.2,2,     2.18,2,     0.63,2,     0.18,2,   -999.0,9,   8.0118,2,    25.00,  20.9577,20110130,1007
  29AH20110128,   A05,    16,  1,     22,2,20110130,0849, 26.6628, -16.7795, 3670,     40.6,  21.1410,  37.0359,2,    217.9,2,    217.5,2,     2.18,2,     0.63,2,     0.16,2,   -999.0,9,   8.0121,2,    25.00,  21.1331,20110130,1008
  29AH20110128,   A05,    16,  1,     23,2,20110130,0849, 26.6628, -16.7795, 3670,      4.8,  21.2607,  36.9176,2,    218.0,2,    217.6,2,     2.20,2,     0.66,2,     0.17,2,   -999.0,9,   8.0171,2,    25.00,  21.2598,20110130,1009