BOTTLE,20220930CCHSIOAMB
EXPOCODE,SECT_ID,STNNBR,CASTNO,BTLNBR,BTLNBR_FLAG_W,DATE,TIME,LATITUDE,LONGITUDE,DEPTH,CTDPRS,CTDTMP,CTDSAL,CTDSAL_FLAG_W,CTDOXY,CTDOXY_FLAG_W,OXYGEN,OXYGEN_FLAG_W,SILCAT,SILCAT_FLAG_W,NITRAT,NITRAT_FLAG_W,PHSPHT,PHSPHT_FLAG_W,ALKALI,ALKALI_FLAG_W,PH_SWS,PH_SWS_FLAG_W,PH_TMP,THETA,BTL_DATE,BTL_TIME
,,,,,,,,,,METERS,DBAR,ITS-90,PSS-78,,UMOL/KG,,UMOL/KG,,UMOL/KG,,UMOL/KG,,UMOL/KG,,UMOL/KG,,,,DEG C,DEG C,,
  29AH20110128,   A05,   149,  1,      1,2,20110311,1152, 26.2030, -76.9525, 3563,   3552.8,   2.6616,  34.9186,2,    269.6,2,    268.2,2,  -999.00,9,  -999.00,9,  -999.00,9,   -999.0,9,   7.7292,2,    25.00,   2.3593,20110311,1152
  29AH20110128,   A05,   149,  1,      2,2,20110311,1152, 26.2030, -76.9525, 3563,   2999.9,   2.9830,  34.9380,2,    266.7,2,    266.0,2,  -999.00,9,  -999.00,9,  -999.00,9,   -999.0,9,   7.7312,2,    25.00,   2.7326,20110311,1203
  29AH20110128,   A05,   149,  1,      3,2,20110311,1152, 26.2030, -76.9525, 3563,   2500.0,   3.3484,  34.9528,2,    265.5,2,    265.2,2,  -999.00,9,  -999.00,9,  -999.00,9,   -999.0,9,   7.7280,2,    25.00,   3.1420,20110311,1212
  29AH20110128,   A05,   149,  1,      4,2,20110311,1152, 26.2030, -76.9525, 3563,   1999.9,   3.6754,  34.9618,2,    264.3,2,    263.8,2,  -999.00,9,  -999.00,9,  -999.00,9,   -999.0,9,   7.7224,2,    25.00,   3.5127,20110311,1222
  29AH20110128,   A05,   149,  1,      5,2,20110311,1152, 26.2030, -76.9525, 3563,   1750.2,   3.8612,  34.9689,2,    262.4,2,    262.5,2,  -999.00,9,  -999.00,9,  -999.00,9,   -999.0,9,   7.7220,2,    25.00,   3.7195,20110311,1227
  29AH20110128,   A05,   149,  1,      6,2,20110311,1152, 26.2030, -76.9525, 3563,   1501.0,   4.3186,  34.9956,2,    254.3,2,    254.5,2,  -999.00,9,  -999.00,9,  -999.00,9,   -999.0,9,   7.7148,2,    25.00,   4.1946,20110311,1232
  29AH20110128,   A05,   149,  1,      7,2,20110311,1152, 26.2030, -76.9525, 3563,   1300.4,   4.6042,  35.0089,2,    247.2,2,    246.7,2,  -999.00,9,  -999.00,9,  -999.00,9,   -999.0,9,   7.7099,2,    25.00,   4.4959,20110311,1236
  29AH20110128,   A05,   149,  1,      8,2,20110311,1152, 26.2030, -76.9525, 3563,   1200.6,   4.8208,  35.0230,2,    242.8,2,    242.5,2,  -999.00,9,  -999.00,9,  -999.00,9,   -999.0,9,   7.7078,2,    25.00,   4.7196,20110311,1238
  29AH20110128,   A05,   149,  1,      9,2,20110311,1152, 26.2030, -76.9525, 3563,   1101.0,   5.1756,  35.0398,2,    231.7,2,    230.7,2,  -999.00,9,  -999.00,9,  -999.00,9,   -999.0,9,   7.7005,2,    25.00,   5.0807,20110311,1241
  29AH20110128,   A05,   149,  1,     10,2,20110311,1152, 26.2030, -76.9525, 3563,   1000.5,   5.6102,  35.0580,2,    220.6,2,    219.3,2,  -999.00,9,  -999.00,9,  -999.00,9,   -999.0,9,   7.6943,2,    25.00,   5.5213,20110311,1243
  29AH20110128,   A05,   149,  1,     11,2,20110311,1152, 26.2030, -76.9525, 3563,    899.8,   6.8255,  35.0923,2,    186.1,2,    185.6,2,  -999.00,9,  -999.00,9,  -999.00,9,   -999.0,9,   7.6826,2,    25.00,   6.7380,20110311,1245
  29AH20110128,   A05,   149,  1,     12,2,20110311,1152, 26.2030, -76.9525, 3563,    801.2,   8.5855,  35.1769,2,    155.1,2,    154.9,2,  -999.00,9,  -999.00,9,  -999.00,9,   -999.0,9,   7.6712,2,    25.00,   8.4976,20110311,1248
  29AH20110128,   A05,   149,  1,     13,2,20110311,1152, 26.2030, -76.9525, 3563,    599.8,  12.8630,  35.6859,2,    151.8,2,    152.7,2,  -999.00,9,  -999.00,9,  -999.00,9,   -999.0,9,   7.7706,2,    25.00,  12.7793,20110311,1252
  29AH20110128,   A05,   149,  1,     14,2,20110311,1152, 26.2030, -76.9525, 3563,    398.8,  17.3982,  36.4423,2,    193.7,2,    194.0,2,  -999.00,9,  -999.00,9,  -999.00,9,   -999.0,9,   7.9306,2,    25.00,  17.3303,20110311,1256
  29AH20110128,   A05,   149,  1,     15,2,20110311,1152, 26.2030, -76.9525, 3563,    300.8,  18.3757,  36.5880,2,    199.5,2,    198.8,2,  -999.00,9,  -999.00,9,  -999.00,9,   -999.0,9,   7.9616,2,    25.00,  18.3226,20110311,1258
  29AH20110128,   A05,   149,  1,     16,2,20110311,1152, 26.2030, -76.9525, 3563,    199.4,  20.1058,  36.7420,2,    205.3,2,    205.1,2,  -999.00,9,  -999.00,9,  -999.00,9,   -999.0,9,   8.0009,2,    25.00,  20.0684,20110311,1300
  29AH20110128,   A05,   149,  1,     17,2,20110311,1152, 26.2030, -76.9525, 3563,    150.3,  21.2534,  36.8006,2,    195.3,2,    195.6,2,  -999.00,9,  -999.00,9,  -999.00,9,   -999.0,9,   8.0106,2,    25.00,  21.2241,20110311,1301
  29AH20110128,   A05,   149,  1,     18,2,20110311,1152, 26.2030, -76.9525, 3563,    125.0,  22.2146,  36.8025,2,    200.8,2,    199.5,2,  -999.00,9,  -999.00,9,  -999.00,9,   -999.0,9,   8.0347,2,    25.00,  22.1895,20110311,1302
  29AH20110128,   A05,   149,  1,     19,2,20110311,1152, 26.2030, -76.9525, 3563,    100.4,  22.6463,  36.7914,2,    204.2,2,    203.2,2,  -999.00,9,  -999.00,9,  -999.00,9,   -999.0,9,   8.0431,2,    25.00,  22.6259,20110311,1303
  29AH20110128,   A05,   149,  1,     20,2,20110311,1152, 26.2030, -76.9525, 3563,     75.0,  23.0120,  36.7589,2,    206.9,2,    206.5,2,  -999.00,9,  -999.00,9,  -999.00,9,   -999.0,9,   8.0509,2,    25.00,  22.9966,20110311,1303
  29AH20110128,   A05,   149,  1,     21,2,20110311,1152, 26.2030, -76.9525, 3563,     50.2,  23.1996,  36.7191,2,    209.3,2,    209.1,2,  -999.00,9,  -999.00,9,  -999.00,9,   -999.0,9,   8.0544,2,    25.00,  23.1892,20110311,1304
  29AH20110128,   A05,   149,  1,     22,2,20110311,1152, 26.2030, -76.9525, 3563,     25.8,  23.5211,  36.6392,2,    210.5,2,    209.1,2,  -999.00,9,  -999.00,9,  -999.00,9,   -999.0,9,   8.0585,2,    25.00,  23.5157,20110311,1305
  29AH20110128,   A05,   149,  1,     23,2,20110311,1152, 26.2030, -76.9525, 3563,      5.2,  23.5536,  36.6255,2,    210.4,2,    209.2,2,  -999.00,9,  -999.00,9,  -999.00,9,   -999.0,9,   8.0582,2,    25.00,  23.5525,20110311,1306
  29AH20110128,   A05,   150,  1,      1,2,20110311,1543, 26.2038, -76.9907, 2999,   2988.5,   2.9570,  34.9368,2,    267.3,2,    265.1,2,    23.05,2,    20.14,4,     1.30,2,   -999.0,9,   7.7288,2,    25.00,   2.7083,20110311,1543
  29AH20110128,   A05,   150,  1,      2,2,20110311,1543, 26.2038, -76.9907, 2999,   2501.0,   3.3673,  34.9548,2,    264.9,2,    264.4,2,    20.60,2,    20.03,4,     1.32,2,   -999.0,9,   7.7287,2,    25.00,   3.1605,20110311,1553
  29AH20110128,   A05,   150,  1,      3,2,20110311,1543, 26.2038, -76.9907, 2999,   1998.9,   3.6671,  34.9653,2,    264.1,2,    263.1,2,    17.36,2,    20.83,4,     1.31,2,   -999.0,9,   7.7254,2,    25.00,   3.5046,20110311,1603
  29AH20110128,   A05,   150,  1,      4,2,20110311,1543, 26.2038, -76.9907, 2999,   1749.3,   3.9481,  34.9773,2,    260.9,2,    260.2,2,    16.25,2,    20.54,4,     1.30,2,   -999.0,9,   7.7179,2,    25.00,   3.8054,20110311,1608
  29AH20110128,   A05,   150,  1,      5,2,20110311,1543, 26.2038, -76.9907, 2999,   1499.7,   4.3479,  34.9933,2,    254.4,2,    253.9,2,    14.21,2,    18.30,2,     1.24,2,   -999.0,9,   7.7104,2,    25.00,   4.2237,20110311,1613
  29AH20110128,   A05,   150,  1,      6,2,20110311,1543, 26.2038, -76.9907, 2999,   1300.8,   4.6980,  35.0141,2,    245.0,2,    245.1,2,    12.15,3,  -999.00,9,     1.26,2,   -999.0,9,   7.7094,2,    25.00,   4.5887,20110311,1618
  29AH20110128,   A05,   150,  1,      7,2,20110311,1543, 26.2038, -76.9907, 2999,   1200.3,   4.9293,  35.0271,2,    238.9,2,    238.8,2,    15.43,2,    21.93,3,     1.35,2,   -999.0,9,   7.7071,2,    25.00,   4.8272,20110311,1620
  29AH20110128,   A05,   150,  1,      8,2,20110311,1543, 26.2038, -76.9907, 2999,   1100.3,   5.2991,  35.0436,2,    228.7,2,    228.0,2,    15.65,2,    21.36,3,     1.36,2,   -999.0,9,   7.7009,2,    25.00,   5.2032,20110311,1623
  29AH20110128,   A05,   150,  1,      9,2,20110311,1543, 26.2038, -76.9907, 2999,   1000.2,   5.6063,  35.0581,2,    220.2,2,    219.0,2,    15.98,2,    21.44,3,     1.39,2,   -999.0,9,   7.6977,2,    25.00,   5.5175,20110311,1625
  29AH20110128,   A05,   150,  1,     10,2,20110311,1543, 26.2038, -76.9907, 2999,    901.2,   6.6871,  35.0887,2,    190.3,2,    189.9,2,    14.71,2,  -999.00,9,     1.50,2,   -999.0,9,   7.6813,2,    25.00,   6.6004,20110311,1627
  29AH20110128,   A05,   150,  1,     11,2,20110311,1543, 26.2038, -76.9907, 2999,    800.6,   8.2307,  35.1563,2,    158.7,2,    156.9,2,    16.71,2,    24.49,2,     1.63,2,   -999.0,9,   7.6727,2,    25.00,   8.1450,20110311,1630
  29AH20110128,   A05,   150,  1,     12,2,20110311,1543, 26.2038, -76.9907, 2999,    600.8,  12.8383,  35.6801,2,    151.7,2,    167.3,3,     8.91,2,    17.08,2,     1.11,2,   -999.0,9,   7.7704,2,    25.00,  12.7546,20110311,1634
  29AH20110128,   A05,   150,  1,     13,2,20110311,1543, 26.2038, -76.9907, 2999,    400.0,  17.1684,  36.4021,2,    192.9,2,    193.2,2,     4.06,2,     7.34,3,     0.40,2,   -999.0,9,   7.9315,2,    25.00,  17.1009,20110311,1638
  29AH20110128,   A05,   150,  1,     14,2,20110311,1543, 26.2038, -76.9907, 2999,    299.1,  18.1360,  36.5596,2,    197.4,2,    194.4,2,  -999.00,9,  -999.00,9,  -999.00,9,   -999.0,9,   7.9537,2,    25.00,  18.0837,20110311,1640
  29AH20110128,   A05,   150,  1,     15,2,20110311,1543, 26.2038, -76.9907, 2999,    198.9,  19.1610,  36.6568,2,    193.4,2,    193.1,2,     2.61,2,     2.79,2,     0.15,2,   -999.0,9,   7.9757,2,    25.00,  19.1249,20110311,1642
  29AH20110128,   A05,   150,  1,     16,2,20110311,1543, 26.2038, -76.9907, 2999,    150.9,  20.4139,  36.7540,2,    192.2,2,    192.8,2,     2.33,2,     1.62,2,     0.10,2,   -999.0,9,   7.9986,2,    25.00,  20.3853,20110311,1643
  29AH20110128,   A05,   150,  1,     17,2,20110311,1543, 26.2038, -76.9907, 2999,    124.8,  21.5552,  36.8110,2,    195.7,2,    195.4,2,     2.23,2,     0.82,2,     0.07,2,   -999.0,9,   8.0243,2,    25.00,  21.5307,20110311,1644
  29AH20110128,   A05,   150,  1,     18,2,20110311,1543, 26.2038, -76.9907, 2999,    100.8,  22.3308,  36.8037,2,    199.9,2,    198.3,2,     1.93,2,     0.19,2,     0.05,2,   -999.0,9,   8.0361,2,    25.00,  22.3105,20110311,1645
  29AH20110128,   A05,   150,  1,     19,2,20110311,1543, 26.2038, -76.9907, 2999,     74.9,  22.9928,  36.7521,2,    206.1,2,    205.5,2,     2.06,2,     0.09,2,     0.05,2,   -999.0,9,   8.0542,2,    25.00,  22.9774,20110311,1646
  29AH20110128,   A05,   150,  1,     20,2,20110311,1543, 26.2038, -76.9907, 2999,     50.0,  23.3024,  36.6792,2,    210.6,2,    208.1,2,     2.13,2,     0.05,2,     0.06,2,   -999.0,9,   8.0606,2,    25.00,  23.2920,20110311,1647
  29AH20110128,   A05,   150,  1,     21,2,20110311,1543, 26.2038, -76.9907, 2999,     25.5,  23.3854,  36.6528,2,    212.2,2,    211.6,2,     2.19,2,     0.02,2,     0.06,2,   -999.0,9,   8.0636,2,    25.00,  23.3801,20110311,1648
  29AH20110128,   A05,   150,  1,     22,2,20110311,1543, 26.2038, -76.9907, 2999,      4.6,  23.4145,  36.6480,2,    212.1,2,    211.0,2,     2.20,2,     0.02,2,     0.06,2,   -999.0,9,   8.0630,2,    25.00,  23.4135,20110311,1648
  29AH20110128,   A05,   151,  1,      1,2,20110311,1826, 26.2027, -77.0287, 2558,   2548.0,   3.3275,  34.9523,2,    265.6,2,    265.1,2,  -999.00,9,  -999.00,9,  -999.00,9,   2319.9,2,   7.7250,2,    25.00,   3.1167,20110311,1826
  29AH20110128,   A05,   151,  1,      2,2,20110311,1826, 26.2027, -77.0287, 2558,   2000.7,   3.6610,  34.9632,2,    263.9,2,    265.2,2,  -999.00,9,  -999.00,9,  -999.00,9,   2316.5,2,   7.7237,2,    25.00,   3.4984,20110311,1837
  29AH20110128,   A05,   151,  1,      3,2,20110311,1826, 26.2027, -77.0287, 2558,   1749.2,   3.8613,  34.9718,2,    262.1,2,    261.3,2,  -999.00,9,  -999.00,9,  -999.00,9,   2314.3,2,   7.7204,2,    25.00,   3.7197,20110311,1842
  29AH20110128,   A05,   151,  1,      4,2,20110311,1826, 26.2027, -77.0287, 2558,   1500.8,   4.3607,  34.9919,2,    254.1,2,    255.1,2,    10.92,3,    18.57,2,     1.28,2,   2315.8,2,   7.7088,2,    25.00,   4.2363,20110311,1847
  29AH20110128,   A05,   151,  1,      5,2,20110311,1826, 26.2027, -77.0287, 2558,   1301.4,   4.7401,  35.0157,2,    243.9,2,    244.5,2,  -999.00,9,  -999.00,9,  -999.00,9,   2315.4,2,   7.7113,2,    25.00,   4.6303,20110311,1851
  29AH20110128,   A05,   151,  1,      6,2,20110311,1826, 26.2027, -77.0287, 2558,   1200.8,   4.9199,  35.0278,2,    239.4,2,    241.1,2,  -999.00,9,  -999.00,9,  -999.00,9,   2315.7,2,   7.7101,2,    25.00,   4.8178,20110311,1853
  29AH20110128,   A05,   151,  1,      7,2,20110311,1826, 26.2027, -77.0287, 2558,   1100.9,   5.1856,  35.0396,2,    232.2,2,    232.8,2,  -999.00,9,  -999.00,9,  -999.00,9,   -999.0,9,   7.7037,2,    25.00,   5.0906,20110311,1856
  29AH20110128,   A05,   151,  1,      8,2,20110311,1826, 26.2027, -77.0287, 2558,   1001.3,   5.6618,  35.0600,2,    219.4,2,    220.1,2,  -999.00,9,  -999.00,9,  -999.00,9,   2319.4,2,   7.6944,2,    25.00,   5.5725,20110311,1858
  29AH20110128,   A05,   151,  1,      9,2,20110311,1826, 26.2027, -77.0287, 2558,    901.6,   6.4947,  35.0854,2,    195.7,2,    196.2,2,  -999.00,9,  -999.00,9,  -999.00,9,   -999.0,9,   7.6816,2,    25.00,   6.4092,20110311,1900
  29AH20110128,   A05,   151,  1,     10,2,20110311,1826, 26.2027, -77.0287, 2558,    800.6,   8.0773,  35.1497,2,    158.9,2,    158.6,2,  -999.00,9,  -999.00,9,  -999.00,9,   2324.4,2,   7.6696,2,    25.00,   7.9925,20110311,1902
  29AH20110128,   A05,   151,  1,     11,2,20110311,1826, 26.2027, -77.0287, 2558,    601.6,  12.3427,  35.6087,2,    149.4,2,    149.6,2,  -999.00,9,  -999.00,9,  -999.00,9,   2343.8,2,   7.7539,2,    25.00,  12.2610,20110311,1907
  29AH20110128,   A05,   151,  1,     12,2,20110311,1826, 26.2027, -77.0287, 2558,    400.3,  16.9479,  36.3551,2,    185.4,2,    187.6,2,  -999.00,9,  -999.00,9,  -999.00,9,   2384.8,2,   7.9162,2,    25.00,  16.8810,20110311,1911
  29AH20110128,   A05,   151,  1,     13,2,20110311,1826, 26.2027, -77.0287, 2558,    300.8,  18.1234,  36.5625,2,    199.5,2,    200.2,2,  -999.00,9,  -999.00,9,  -999.00,9,   2395.8,2,   7.9604,2,    25.00,  18.0708,20110311,1913
  29AH20110128,   A05,   151,  1,     14,2,20110311,1826, 26.2027, -77.0287, 2558,    201.3,  18.9195,  36.6412,2,    193.0,2,    193.5,2,  -999.00,9,  -999.00,9,  -999.00,9,   -999.0,9,   7.9714,2,    25.00,  18.8833,20110311,1915
  29AH20110128,   A05,   151,  1,     15,2,20110311,1826, 26.2027, -77.0287, 2558,    152.0,  20.2918,  36.7402,2,    197.4,2,   -999.0,9,  -999.00,9,  -999.00,9,  -999.00,9,   -999.0,9,   8.0000,2,    25.00,  20.2631,20110311,1916
  29AH20110128,   A05,   151,  1,     16,2,20110311,1826, 26.2027, -77.0287, 2558,    125.4,  21.1615,  36.7970,2,    195.2,2,   -999.0,9,  -999.00,9,  -999.00,9,  -999.00,9,   -999.0,9,   8.0155,2,    25.00,  21.1372,20110311,1917
  29AH20110128,   A05,   151,  1,     17,2,20110311,1826, 26.2027, -77.0287, 2558,    102.4,  22.0927,  36.7944,2,    199.0,2,    198.3,2,  -999.00,9,  -999.00,9,  -999.00,9,   2409.5,2,   8.0289,2,    25.00,  22.0722,20110311,1918
  29AH20110128,   A05,   151,  1,     18,2,20110311,1826, 26.2027, -77.0287, 2558,     74.0,  22.8928,  36.7531,2,    205.5,2,    204.9,2,  -999.00,9,  -999.00,9,  -999.00,9,   2405.6,2,   8.0535,2,    25.00,  22.8776,20110311,1918
  29AH20110128,   A05,   151,  1,     19,2,20110311,1826, 26.2027, -77.0287, 2558,     52.2,  23.2617,  36.6933,2,    211.1,2,    211.8,2,  -999.00,9,  -999.00,9,  -999.00,9,   -999.0,9,   8.0581,2,    25.00,  23.2509,20110311,1919
  29AH20110128,   A05,   151,  1,     20,2,20110311,1826, 26.2027, -77.0287, 2558,     25.1,  23.3705,  36.6580,2,    212.2,2,    212.3,2,  -999.00,9,  -999.00,9,  -999.00,9,   -999.0,9,   8.0584,2,    25.00,  23.3653,20110311,1920
  29AH20110128,   A05,   151,  1,     21,2,20110311,1826, 26.2027, -77.0287, 2558,      5.7,  23.4442,  36.6556,2,    212.3,2,    212.1,2,  -999.00,9,  -999.00,9,  -999.00,9,   2400.4,2,   8.0677,2,    25.00,  23.4430,20110311,1921