BOTTLE,20220930CCHSIOAMB
EXPOCODE,SECT_ID,STNNBR,CASTNO,BTLNBR,BTLNBR_FLAG_W,DATE,TIME,LATITUDE,LONGITUDE,DEPTH,CTDPRS,CTDTMP,CTDSAL,CTDSAL_FLAG_W,CTDOXY,CTDOXY_FLAG_W,OXYGEN,OXYGEN_FLAG_W,SILCAT,SILCAT_FLAG_W,NITRAT,NITRAT_FLAG_W,PHSPHT,PHSPHT_FLAG_W,ALKALI,ALKALI_FLAG_W,PH_SWS,PH_SWS_FLAG_W,PH_TMP,THETA,BTL_DATE,BTL_TIME
,,,,,,,,,,METERS,DBAR,ITS-90,PSS-78,,UMOL/KG,,UMOL/KG,,UMOL/KG,,UMOL/KG,,UMOL/KG,,UMOL/KG,,,,DEG C,DEG C,,
  29AH20110128,   A05,    95,  1,      1,2,20110224,1834, 24.4998, -56.4870, 6078,   6033.4,   2.1050,  34.8451,2,    249.1,2,    248.4,2,  -999.00,9,  -999.00,9,  -999.00,9,   -999.0,9,   7.7055,2,    25.00,   1.5136,20110224,1834
  29AH20110128,   A05,    95,  1,      2,2,20110224,1834, 24.4998, -56.4870, 6078,   5500.7,   2.0459,  34.8476,2,    249.7,2,    250.0,2,  -999.00,9,  -999.00,9,  -999.00,9,   -999.0,9,   7.7025,2,    25.00,   1.5280,20110224,1845
  29AH20110128,   A05,    95,  1,      3,2,20110224,1834, 24.4998, -56.4870, 6078,   4999.4,   2.0413,  34.8551,2,    251.6,2,    251.3,2,  -999.00,9,  -999.00,9,  -999.00,9,   -999.0,9,   7.7055,2,    25.00,   1.5875,20110224,1854
  29AH20110128,   A05,    95,  1,      4,2,20110224,1834, 24.4998, -56.4870, 6078,   4499.8,   2.1824,  34.8775,2,    256.0,2,    254.2,2,  -999.00,9,  -999.00,9,  -999.00,9,   -999.0,9,   7.7154,2,    25.00,   1.7849,20110224,1904
  29AH20110128,   A05,    95,  1,      5,2,20110224,1834, 24.4998, -56.4870, 6078,   4000.0,   2.2971,  34.8919,2,    255.6,2,    256.2,2,  -999.00,9,  -999.00,9,  -999.00,9,   -999.0,9,   7.7253,2,    25.00,   1.9545,20110224,1913
  29AH20110128,   A05,    95,  1,      6,2,20110224,1834, 24.4998, -56.4870, 6078,   3497.3,   2.4959,  34.9116,2,    255.0,2,    256.4,2,  -999.00,9,  -999.00,9,  -999.00,9,   -999.0,9,   7.7294,2,    25.00,   2.2038,20110224,1923
  29AH20110128,   A05,    95,  1,      7,2,20110224,1834, 24.4998, -56.4870, 6078,   2999.0,   2.7635,  34.9354,2,    252.2,2,    253.1,2,  -999.00,9,  -999.00,9,  -999.00,9,   -999.0,9,   7.7299,2,    25.00,   2.5179,20110224,1933
  29AH20110128,   A05,    95,  1,      8,2,20110224,1834, 24.4998, -56.4870, 6078,   2499.6,   3.0742,  34.9622,2,    250.0,2,    249.8,2,  -999.00,9,  -999.00,9,  -999.00,9,   -999.0,9,   7.7311,2,    25.00,   2.8728,20110224,1943
  29AH20110128,   A05,    95,  1,      9,2,20110224,1834, 24.4998, -56.4870, 6078,   1999.6,   3.6481,  35.0079,2,    247.1,2,    248.1,2,  -999.00,9,  -999.00,9,  -999.00,9,   -999.0,9,   7.7323,2,    25.00,   3.4857,20110224,1952
  29AH20110128,   A05,    95,  1,     10,2,20110224,1834, 24.4998, -56.4870, 6078,   1750.5,   4.0182,  35.0244,2,    247.5,2,    248.9,2,  -999.00,9,  -999.00,9,  -999.00,9,   -999.0,9,   7.7307,2,    25.00,   3.8743,20110224,1957
  29AH20110128,   A05,    95,  1,     11,2,20110224,1834, 24.4998, -56.4870, 6078,   1500.7,   4.5101,  35.0422,2,    241.6,2,    243.0,2,  -999.00,9,  -999.00,9,  -999.00,9,   -999.0,9,   7.7224,2,    25.00,   4.3839,20110224,2002
  29AH20110128,   A05,    95,  1,     12,2,20110224,1834, 24.4998, -56.4870, 6078,   1300.1,   5.0686,  35.0631,2,    227.2,2,    227.8,2,  -999.00,9,  -999.00,9,  -999.00,9,   -999.0,9,   7.7087,2,    25.00,   4.9556,20110224,2006
  29AH20110128,   A05,    95,  1,     13,2,20110224,1834, 24.4998, -56.4870, 6078,   1202.0,   5.4394,  35.0659,2,    214.1,2,    214.5,2,  -999.00,9,  -999.00,9,  -999.00,9,   -999.0,9,   7.7004,2,    25.00,   5.3325,20110224,2008
  29AH20110128,   A05,    95,  1,     14,2,20110224,1834, 24.4998, -56.4870, 6078,    999.7,   6.3290,  35.0088,2,    169.8,2,    167.8,2,  -999.00,9,  -999.00,9,  -999.00,9,   -999.0,9,   7.6529,2,    25.00,   6.2349,20110224,2012
  29AH20110128,   A05,    95,  1,     15,2,20110224,1834, 24.4998, -56.4870, 6078,    798.6,   9.0361,  35.2284,2,    146.0,2,    145.8,2,  -999.00,9,  -999.00,9,  -999.00,9,   -999.0,9,   7.6777,2,    25.00,   8.9459,20110224,2016
  29AH20110128,   A05,    95,  1,     16,2,20110224,1834, 24.4998, -56.4870, 6078,    602.2,  12.5611,  35.6786,2,    166.4,2,    166.2,2,  -999.00,9,  -999.00,9,  -999.00,9,   -999.0,9,   7.7860,2,    25.00,  12.4783,20110224,2020
  29AH20110128,   A05,    95,  1,     17,2,20110224,1834, 24.4998, -56.4870, 6078,    399.8,  16.3829,  36.2623,2,    189.1,2,    189.9,2,  -999.00,9,  -999.00,9,  -999.00,9,   -999.0,9,   7.9035,2,    25.00,  16.3176,20110224,2024
  29AH20110128,   A05,    95,  1,     18,2,20110224,1834, 24.4998, -56.4870, 6078,    301.6,  17.5389,  36.4749,2,    202.8,2,    202.6,2,  -999.00,9,  -999.00,9,  -999.00,9,   -999.0,9,   7.9499,2,    25.00,  17.4874,20110224,2026
  29AH20110128,   A05,    95,  1,     19,2,20110224,1834, 24.4998, -56.4870, 6078,    151.4,  18.7812,  36.6413,2,    198.8,2,    198.2,2,  -999.00,9,  -999.00,9,  -999.00,9,   -999.0,9,   7.9681,2,    25.00,  18.7542,20110224,2030
  29AH20110128,   A05,    95,  1,     20,2,20110224,1834, 24.4998, -56.4870, 6078,    124.3,  19.1802,  36.6995,2,    196.7,2,    195.9,2,  -999.00,9,  -999.00,9,  -999.00,9,   -999.0,9,   7.9730,2,    25.00,  19.1577,20110224,2030
  29AH20110128,   A05,    95,  1,     21,2,20110224,1834, 24.4998, -56.4870, 6078,     73.7,  20.9236,  36.8806,2,    205.1,2,    204.2,2,  -999.00,9,  -999.00,9,  -999.00,9,   -999.0,9,   8.0062,2,    25.00,  20.9094,20110224,2031
  29AH20110128,   A05,    95,  1,     22,2,20110224,1834, 24.4998, -56.4870, 6078,     50.6,  22.1875,  36.9853,2,    212.0,2,    212.3,2,  -999.00,9,  -999.00,9,  -999.00,9,   -999.0,9,   8.0421,2,    25.00,  22.1774,20110224,2032
  29AH20110128,   A05,    95,  1,     23,2,20110224,1834, 24.4998, -56.4870, 6078,     23.4,  22.5488,  36.9991,2,    215.1,2,    214.9,2,  -999.00,9,  -999.00,9,  -999.00,9,   -999.0,9,   8.0585,2,    25.00,  22.5441,20110224,2033
  29AH20110128,   A05,    95,  1,     24,2,20110224,1834, 24.4998, -56.4870, 6078,      5.0,  22.6110,  37.0021,2,    215.2,2,    214.4,2,  -999.00,9,  -999.00,9,  -999.00,9,   -999.0,9,   8.0592,2,    25.00,  22.6100,20110224,2033
  29AH20110128,   A05,    96,  1,      1,2,20110225,0208, 24.4983, -57.0975, 6094,   5477.9,   2.0393,  34.8470,2,    249.3,2,    248.2,2,  -999.00,9,  -999.00,9,  -999.00,9,   2350.9,2,   7.7036,2,    25.00,   1.5246,20110225,0208
  29AH20110128,   A05,    96,  1,      2,2,20110225,0208, 24.4983, -57.0975, 6094,   5000.4,   2.0362,  34.8546,2,    251.6,2,    249.6,2,  -999.00,9,  -999.00,9,  -999.00,9,   2346.5,2,   7.7095,2,    25.00,   1.5825,20110225,0217
  29AH20110128,   A05,    96,  1,      3,2,20110225,0208, 24.4983, -57.0975, 6094,   4501.7,   2.2230,  34.8837,2,    259.4,2,    257.4,2,  -999.00,9,  -999.00,9,  -999.00,9,   2341.1,2,   7.7251,2,    25.00,   1.8240,20110225,0226
  29AH20110128,   A05,    96,  1,      4,2,20110225,0208, 24.4983, -57.0975, 6094,   4001.0,   2.3131,  34.8968,2,    262.0,2,    257.8,2,  -999.00,9,  -999.00,9,  -999.00,9,   -999.0,9,   7.7280,2,    25.00,   1.9699,20110225,0236
  29AH20110128,   A05,    96,  1,      5,2,20110225,0208, 24.4983, -57.0975, 6094,   3501.3,   2.4858,  34.9111,2,    255.7,2,    254.9,2,  -999.00,9,  -999.00,9,  -999.00,9,   2333.9,2,   7.7309,2,    25.00,   2.1935,20110225,0246
  29AH20110128,   A05,    96,  1,      6,2,20110225,0208, 24.4983, -57.0975, 6094,   2999.9,   2.7574,  34.9348,2,    251.7,2,    251.5,2,  -999.00,9,  -999.00,9,  -999.00,9,   -999.0,9,   7.7357,2,    25.00,   2.5119,20110225,0256
  29AH20110128,   A05,    96,  1,      7,2,20110225,0208, 24.4983, -57.0975, 6094,   2500.7,   3.0604,  34.9610,2,    250.8,2,    250.7,2,  -999.00,9,  -999.00,9,  -999.00,9,   2330.8,2,   7.7331,2,    25.00,   2.8592,20110225,0305
  29AH20110128,   A05,    96,  1,      8,2,20110225,0208, 24.4983, -57.0975, 6094,   1999.8,   3.5926,  35.0049,2,    248.7,2,    249.2,2,  -999.00,9,  -999.00,9,  -999.00,9,   2326.4,2,   7.7330,2,    25.00,   3.4310,20110225,0315
  29AH20110128,   A05,    96,  1,      9,2,20110225,0208, 24.4983, -57.0975, 6094,   1749.7,   4.0106,  35.0245,2,    250.0,2,    250.2,2,  -999.00,9,  -999.00,9,  -999.00,9,   2319.4,2,   7.7301,2,    25.00,   3.8669,20110225,0320
  29AH20110128,   A05,    96,  1,     10,2,20110225,0208, 24.4983, -57.0975, 6094,   1500.0,   4.5500,  35.0506,2,    242.5,2,    242.5,2,  -999.00,9,  -999.00,9,  -999.00,9,   2315.7,2,   7.7240,2,    25.00,   4.4234,20110225,0325
  29AH20110128,   A05,    96,  1,     11,2,20110225,0208, 24.4983, -57.0975, 6094,   1300.4,   5.1657,  35.0838,2,    229.1,2,    227.8,2,  -999.00,9,  -999.00,9,  -999.00,9,   2320.8,2,   7.7127,2,    25.00,   5.0517,20110225,0329
  29AH20110128,   A05,    96,  1,     12,2,20110225,0208, 24.4983, -57.0975, 6094,   1202.6,   5.4295,  35.0685,2,    215.9,2,    215.6,2,  -999.00,9,  -999.00,9,  -999.00,9,   2322.3,2,   7.7054,2,    25.00,   5.3226,20110225,0331
  29AH20110128,   A05,    96,  1,     13,2,20110225,0208, 24.4983, -57.0975, 6094,    999.9,   6.6238,  35.0722,2,    175.9,2,    175.3,2,  -999.00,9,  -999.00,9,  -999.00,9,   2323.7,2,   7.6710,2,    25.00,   6.5274,20110225,0335
  29AH20110128,   A05,    96,  1,     14,2,20110225,0208, 24.4983, -57.0975, 6094,    900.0,   7.4791,  35.0895,2,    156.0,2,    154.3,2,  -999.00,9,  -999.00,9,  -999.00,9,   -999.0,9,   7.6546,2,    25.00,   7.3872,20110225,0338
  29AH20110128,   A05,    96,  1,     15,2,20110225,0208, 24.4983, -57.0975, 6094,    799.8,   8.8868,  35.2015,2,    144.9,2,    143.0,2,  -999.00,9,  -999.00,9,  -999.00,9,   2325.5,2,   7.6688,2,    25.00,   8.7973,20110225,0340
  29AH20110128,   A05,    96,  1,     16,2,20110225,0208, 24.4983, -57.0975, 6094,    600.5,  12.8989,  35.7148,2,    161.9,2,    161.1,2,  -999.00,9,  -999.00,9,  -999.00,9,   2348.2,2,   7.7865,2,    25.00,  12.8149,20110225,0344
  29AH20110128,   A05,    96,  1,     17,2,20110225,0208, 24.4983, -57.0975, 6094,    400.1,  16.5136,  36.2819,2,    185.1,2,    184.7,2,  -999.00,9,  -999.00,9,  -999.00,9,   -999.0,9,   7.9061,2,    25.00,  16.4479,20110225,0348
  29AH20110128,   A05,    96,  1,     18,2,20110225,0208, 24.4983, -57.0975, 6094,    300.5,  17.8116,  36.5120,2,    195.5,2,    194.7,2,  -999.00,9,  -999.00,9,  -999.00,9,   2390.9,2,   7.9456,2,    25.00,  17.7597,20110225,0350
  29AH20110128,   A05,    96,  1,     19,2,20110225,0208, 24.4983, -57.0975, 6094,    150.0,  20.2048,  36.8118,2,    197.5,2,    198.3,2,  -999.00,9,  -999.00,9,  -999.00,9,   2410.2,2,   7.9908,2,    25.00,  20.1766,20110225,0353
  29AH20110128,   A05,    96,  1,     20,2,20110225,0208, 24.4983, -57.0975, 6094,    122.9,  21.5875,  36.9187,2,    211.0,2,    210.7,2,  -999.00,9,  -999.00,9,  -999.00,9,   -999.0,9,   8.0386,2,    25.00,  21.5633,20110225,0354
  29AH20110128,   A05,    96,  1,     21,2,20110225,0208, 24.4983, -57.0975, 6094,     73.3,  22.9424,  37.0813,2,    213.5,2,    212.6,2,  -999.00,9,  -999.00,9,  -999.00,9,   -999.0,9,   8.0711,2,    25.00,  22.9273,20110225,0355
  29AH20110128,   A05,    96,  1,     22,2,20110225,0208, 24.4983, -57.0975, 6094,     50.9,  22.9573,  37.0820,2,    213.5,2,    211.9,2,  -999.00,9,  -999.00,9,  -999.00,9,   -999.0,9,   8.0707,2,    25.00,  22.9468,20110225,0356
  29AH20110128,   A05,    96,  1,     23,2,20110225,0208, 24.4983, -57.0975, 6094,     25.3,  22.9946,  37.0827,2,    213.5,2,    212.6,2,  -999.00,9,  -999.00,9,  -999.00,9,   -999.0,9,   8.0569,2,    25.00,  22.9894,20110225,0356
  29AH20110128,   A05,    96,  1,     24,2,20110225,0208, 24.4983, -57.0975, 6094,      5.3,  22.9917,  37.0825,2,    213.9,2,    212.4,2,  -999.00,9,  -999.00,9,  -999.00,9,   2425.5,2,   8.0668,2,    25.00,  22.9906,20110225,0357
  29AH20110128,   A05,    97,  1,      1,2,20110225,0938, 24.5007, -57.7157, 6043,   6032.7,   2.1066,  34.8454,2,    249.7,2,    248.2,2,  -999.00,9,  -999.00,9,  -999.00,9,   -999.0,9,   7.7064,2,    25.00,   1.5152,20110225,0938
  29AH20110128,   A05,    97,  1,      2,2,20110225,0938, 24.5007, -57.7157, 6043,   5499.5,   2.0430,  34.8472,2,    249.8,2,    249.5,2,  -999.00,9,  -999.00,9,  -999.00,9,   -999.0,9,   7.7049,2,    25.00,   1.5254,20110225,0949
  29AH20110128,   A05,    97,  1,      3,2,20110225,0938, 24.5007, -57.7157, 6043,   4998.7,   2.0717,  34.8593,2,    252.2,2,    252.2,2,  -999.00,9,  -999.00,9,  -999.00,9,   -999.0,9,   7.7099,2,    25.00,   1.6170,20110225,0958
  29AH20110128,   A05,    97,  1,      4,2,20110225,0938, 24.5007, -57.7157, 6043,   4500.9,   2.2242,  34.8849,2,    259.2,2,    258.1,2,  -999.00,9,  -999.00,9,  -999.00,9,   -999.0,9,   7.7233,2,    25.00,   1.8253,20110225,1008
  29AH20110128,   A05,    97,  1,      5,2,20110225,0938, 24.5007, -57.7157, 6043,   3999.4,   2.3171,  34.8957,2,    258.8,2,    258.8,2,  -999.00,9,  -999.00,9,  -999.00,9,   -999.0,9,   7.7274,2,    25.00,   1.9740,20110225,1017
  29AH20110128,   A05,    97,  1,      6,2,20110225,0938, 24.5007, -57.7157, 6043,   3499.7,   2.5052,  34.9133,2,    255.2,2,    256.4,2,  -999.00,9,  -999.00,9,  -999.00,9,   -999.0,9,   7.7312,2,    25.00,   2.2126,20110225,1027
  29AH20110128,   A05,    97,  1,      7,2,20110225,0938, 24.5007, -57.7157, 6043,   2999.7,   2.7766,  34.9368,2,    251.8,2,    252.7,2,  -999.00,9,  -999.00,9,  -999.00,9,   -999.0,9,   7.7350,2,    25.00,   2.5307,20110225,1037
  29AH20110128,   A05,    97,  1,      8,2,20110225,0938, 24.5007, -57.7157, 6043,   2500.9,   3.1170,  34.9661,2,    250.1,2,    251.6,2,  -999.00,9,  -999.00,9,  -999.00,9,   -999.0,9,   7.7314,2,    25.00,   2.9147,20110225,1047
  29AH20110128,   A05,    97,  1,      9,2,20110225,0938, 24.5007, -57.7157, 6043,   2001.4,   3.6598,  35.0051,2,    249.5,2,    250.3,2,  -999.00,9,  -999.00,9,  -999.00,9,   -999.0,9,   7.7316,2,    25.00,   3.4970,20110225,1056
  29AH20110128,   A05,    97,  1,     10,2,20110225,0938, 24.5007, -57.7157, 6043,   1750.7,   4.0018,  35.0176,2,    250.0,2,    250.8,2,  -999.00,9,  -999.00,9,  -999.00,9,   -999.0,9,   7.7377,2,    25.00,   3.8581,20110225,1101
  29AH20110128,   A05,    97,  1,     11,2,20110225,0938, 24.5007, -57.7157, 6043,   1500.9,   4.4547,  35.0302,2,    245.0,2,    245.6,2,  -999.00,9,  -999.00,9,  -999.00,9,   -999.0,9,   7.7215,2,    25.00,   4.3291,20110225,1106
  29AH20110128,   A05,    97,  1,     12,2,20110225,0938, 24.5007, -57.7157, 6043,   1301.6,   5.0991,  35.0631,2,    227.9,2,    228.2,2,  -999.00,9,  -999.00,9,  -999.00,9,   -999.0,9,   7.7100,2,    25.00,   4.9857,20110225,1110
  29AH20110128,   A05,    97,  1,     13,2,20110225,0938, 24.5007, -57.7157, 6043,   1200.5,   5.4915,  35.0698,2,    215.5,2,    214.6,2,  -999.00,9,  -999.00,9,  -999.00,9,   -999.0,9,   7.6966,2,    25.00,   5.3842,20110225,1113
  29AH20110128,   A05,    97,  1,     14,2,20110225,0938, 24.5007, -57.7157, 6043,    998.9,   6.7781,  35.0690,2,    175.5,2,    172.7,2,  -999.00,9,  -999.00,9,  -999.00,9,   -999.0,9,   7.6695,2,    25.00,   6.6807,20110225,1117
  29AH20110128,   A05,    97,  1,     15,2,20110225,0938, 24.5007, -57.7157, 6043,    801.0,   8.5951,  35.1372,2,    139.2,2,    138.3,2,  -999.00,9,  -999.00,9,  -999.00,9,   -999.0,9,   7.6519,2,    25.00,   8.5073,20110225,1121
  29AH20110128,   A05,    97,  1,     16,2,20110225,0938, 24.5007, -57.7157, 6043,    598.9,  12.3659,  35.6335,2,    150.7,2,    150.4,2,  -999.00,9,  -999.00,9,  -999.00,9,   -999.0,9,   7.7560,2,    25.00,  12.2844,20110225,1125
  29AH20110128,   A05,    97,  1,     17,2,20110225,0938, 24.5007, -57.7157, 6043,    401.3,  16.0226,  36.1913,2,    174.3,2,    175.5,2,  -999.00,9,  -999.00,9,  -999.00,9,   -999.0,9,   7.8819,2,    25.00,  15.9581,20110225,1129
  29AH20110128,   A05,    97,  1,     18,2,20110225,0938, 24.5007, -57.7157, 6043,    300.7,  17.7572,  36.4993,2,    191.0,2,    191.2,2,  -999.00,9,  -999.00,9,  -999.00,9,   -999.0,9,   7.9466,2,    25.00,  17.7054,20110225,1131
  29AH20110128,   A05,    97,  1,     19,2,20110225,0938, 24.5007, -57.7157, 6043,    150.8,  20.2839,  36.8343,2,    188.0,2,    189.4,2,  -999.00,9,  -999.00,9,  -999.00,9,   -999.0,9,   7.9798,2,    25.00,  20.2555,20110225,1134
  29AH20110128,   A05,    97,  1,     20,2,20110225,0938, 24.5007, -57.7157, 6043,    111.5,  21.9629,  36.8833,2,    204.3,2,    205.3,2,  -999.00,9,  -999.00,9,  -999.00,9,   -999.0,9,   8.0269,2,    25.00,  21.9407,20110225,1135
  29AH20110128,   A05,    97,  1,     21,2,20110225,0938, 24.5007, -57.7157, 6043,     75.2,  23.2990,  36.9262,2,    211.7,2,    210.5,2,  -999.00,9,  -999.00,9,  -999.00,9,   -999.0,9,   8.0617,2,    25.00,  23.2834,20110225,1136
  29AH20110128,   A05,    97,  1,     22,2,20110225,0938, 24.5007, -57.7157, 6043,     48.8,  23.8948,  36.7288,2,    210.4,2,    209.7,2,  -999.00,9,  -999.00,9,  -999.00,9,   -999.0,9,   8.0777,2,    25.00,  23.8845,20110225,1137
  29AH20110128,   A05,    97,  1,     23,2,20110225,0938, 24.5007, -57.7157, 6043,     38.3,  24.0408,  36.7527,2,    210.0,2,    209.2,2,  -999.00,9,  -999.00,9,  -999.00,9,   -999.0,9,   8.0789,2,    25.00,  24.0327,20110225,1138
  29AH20110128,   A05,    97,  1,     24,2,20110225,0938, 24.5007, -57.7157, 6043,      4.3,  24.0512,  36.7587,2,    210.2,2,    208.7,2,  -999.00,9,  -999.00,9,  -999.00,9,   -999.0,9,   8.0838,2,    25.00,  24.0503,20110225,1138