BOTTLE,20220930CCHSIOAMB
EXPOCODE,SECT_ID,STNNBR,CASTNO,BTLNBR,BTLNBR_FLAG_W,DATE,TIME,LATITUDE,LONGITUDE,DEPTH,CTDPRS,CTDTMP,CTDSAL,CTDSAL_FLAG_W,CTDOXY,CTDOXY_FLAG_W,OXYGEN,OXYGEN_FLAG_W,SILCAT,SILCAT_FLAG_W,NITRAT,NITRAT_FLAG_W,PHSPHT,PHSPHT_FLAG_W,ALKALI,ALKALI_FLAG_W,PH_SWS,PH_SWS_FLAG_W,PH_TMP,THETA,BTL_DATE,BTL_TIME
,,,,,,,,,,METERS,DBAR,ITS-90,PSS-78,,UMOL/KG,,UMOL/KG,,UMOL/KG,,UMOL/KG,,UMOL/KG,,UMOL/KG,,,,DEG C,DEG C,,
  29AH20110128,   A05,   137,  1,      1,2,20110309,1029, 26.2042, -75.8623, 4818,   4808.2,   2.1867,  34.8757,2,    257.8,2,    256.9,2,    42.63,2,  -999.00,9,     1.36,2,   -999.0,9,   7.7196,2,    25.00,   1.7517,20110309,1029
  29AH20110128,   A05,   137,  1,      2,2,20110309,1029, 26.2042, -75.8623, 4818,   4500.5,   2.2248,  34.8849,2,    262.9,2,    263.0,2,    37.78,2,    18.44,2,     1.36,2,   -999.0,9,   7.7216,2,    25.00,   1.8259,20110309,1035
  29AH20110128,   A05,   137,  1,      3,2,20110309,1029, 26.2042, -75.8623, 4818,   3999.6,   2.2628,  34.8934,2,    267.0,2,    267.0,2,    33.62,2,    20.20,2,     1.36,2,   -999.0,9,   7.7240,2,    25.00,   1.9212,20110309,1045
  29AH20110128,   A05,   137,  1,      4,2,20110309,1029, 26.2042, -75.8623, 4818,   3500.4,   2.3937,  34.9049,2,    269.8,2,    269.3,2,    28.52,2,    20.28,2,     1.32,2,   -999.0,9,   7.7247,2,    25.00,   2.1039,20110309,1055
  29AH20110128,   A05,   137,  1,      5,2,20110309,1029, 26.2042, -75.8623, 4818,   2999.6,   2.7459,  34.9269,2,    267.4,2,    266.7,2,    24.91,2,    18.88,2,     1.29,2,   -999.0,9,   7.7272,2,    25.00,   2.5007,20110309,1104
  29AH20110128,   A05,   137,  1,      6,2,20110309,1029, 26.2042, -75.8623, 4818,   2499.6,   3.2454,  34.9574,2,    262.3,2,    261.8,2,    22.44,2,    21.38,2,     1.33,2,   -999.0,9,   7.7338,2,    25.00,   3.0409,20110309,1114
  29AH20110128,   A05,   137,  1,      7,2,20110309,1029, 26.2042, -75.8623, 4818,   2000.6,   3.6508,  34.9667,2,    262.7,2,    263.3,2,    17.73,2,    21.27,2,     1.30,3,   -999.0,9,   7.7243,2,    25.00,   3.4884,20110309,1124
  29AH20110128,   A05,   137,  1,      8,2,20110309,1029, 26.2042, -75.8623, 4818,   1749.7,   3.9780,  34.9833,2,    258.8,2,    259.8,2,    15.47,2,    21.46,2,     1.31,3,   -999.0,9,   7.7204,2,    25.00,   3.8348,20110309,1129
  29AH20110128,   A05,   137,  1,      9,2,20110309,1029, 26.2042, -75.8623, 4818,   1501.0,   4.3389,  34.9906,2,    254.3,2,    254.8,2,    13.26,2,    18.58,2,     1.27,2,   -999.0,9,   7.7105,2,    25.00,   4.2147,20110309,1134
  29AH20110128,   A05,   137,  1,     10,2,20110309,1029, 26.2042, -75.8623, 4818,   1301.3,   4.8915,  35.0290,2,    240.3,2,    240.8,2,    14.50,2,    22.15,3,     1.35,2,   -999.0,9,   7.7053,2,    25.00,   4.7802,20110309,1138
  29AH20110128,   A05,   137,  1,     11,2,20110309,1029, 26.2042, -75.8623, 4818,   1200.2,   5.4391,  35.0528,2,    225.0,2,    223.7,2,    13.03,2,  -999.00,9,     1.33,2,   -999.0,9,   7.6955,2,    25.00,   5.3324,20110309,1140
  29AH20110128,   A05,   137,  1,     12,2,20110309,1029, 26.2042, -75.8623, 4818,   1101.1,   6.1976,  35.0778,2,    202.4,2,    201.2,2,    13.79,2,  -999.00,9,     1.41,2,   -999.0,9,   7.6837,2,    25.00,   6.0942,20110309,1142
  29AH20110128,   A05,   137,  1,     13,2,20110309,1029, 26.2042, -75.8623, 4818,   1000.3,   7.1878,  35.0929,2,    172.0,2,    171.3,2,    15.34,2,  -999.00,9,     1.55,2,   -999.0,9,   7.6654,2,    25.00,   7.0872,20110309,1144
  29AH20110128,   A05,   137,  1,     14,2,20110309,1029, 26.2042, -75.8623, 4818,    900.6,   8.8036,  35.1866,2,    149.2,2,    147.7,2,    13.36,2,  -999.00,9,     1.50,2,   -999.0,9,   7.6648,2,    25.00,   8.7029,20110309,1147
  29AH20110128,   A05,   137,  1,     15,2,20110309,1029, 26.2042, -75.8623, 4818,    800.3,  10.5579,  35.3685,2,    143.6,2,    146.4,2,  -999.00,9,  -999.00,9,  -999.00,9,   -999.0,9,   7.7172,2,    25.00,  10.4586,20110309,1149
  29AH20110128,   A05,   137,  1,     16,2,20110309,1029, 26.2042, -75.8623, 4818,    600.3,  14.5123,  35.9300,2,    160.9,2,    161.6,2,     6.16,2,    14.05,2,     0.84,2,   -999.0,9,   7.8215,2,    25.00,  14.4216,20110309,1153
  29AH20110128,   A05,   137,  1,     17,2,20110309,1029, 26.2042, -75.8623, 4818,    400.6,  17.7710,  36.4956,2,    189.7,2,    190.5,2,     3.02,2,     6.84,2,     0.32,2,   -999.0,9,   7.9381,2,    25.00,  17.7018,20110309,1157
  29AH20110128,   A05,   137,  1,     18,2,20110309,1029, 26.2042, -75.8623, 4818,    300.7,  18.5813,  36.6081,2,    191.0,2,    194.2,2,     2.40,2,     4.83,2,     0.20,2,   -999.0,9,   7.9556,2,    25.00,  18.5278,20110309,1159
  29AH20110128,   A05,   137,  1,     19,2,20110309,1029, 26.2042, -75.8623, 4818,    150.3,  20.8860,  36.7961,2,    197.5,2,    196.6,2,     1.87,2,     1.40,2,     0.06,2,   -999.0,9,   8.0062,2,    25.00,  20.8571,20110309,1202
  29AH20110128,   A05,   137,  1,     20,2,20110309,1029, 26.2042, -75.8623, 4818,    104.9,  22.4766,  36.8273,2,    209.3,2,    209.5,2,     1.77,2,     0.26,2,     0.04,2,   -999.0,9,   8.0500,2,    25.00,  22.4554,20110309,1203
  29AH20110128,   A05,   137,  1,     21,2,20110309,1029, 26.2042, -75.8623, 4818,     75.5,  22.9695,  36.8271,2,    208.8,2,    208.6,2,     1.65,2,     0.14,2,     0.03,2,   -999.0,9,   8.0620,2,    25.00,  22.9540,20110309,1204
  29AH20110128,   A05,   137,  1,     22,2,20110309,1029, 26.2042, -75.8623, 4818,     50.3,  23.1987,  36.8139,2,    211.4,2,    210.8,2,     1.82,2,     0.05,2,     0.04,2,   -999.0,9,   8.0645,2,    25.00,  23.1883,20110309,1205
  29AH20110128,   A05,   137,  1,     23,2,20110309,1029, 26.2042, -75.8623, 4818,     36.3,  23.2838,  36.8246,2,    211.7,2,    212.0,2,     1.73,2,     0.00,2,     0.04,2,   -999.0,9,   8.0662,2,    25.00,  23.2763,20110309,1206
  29AH20110128,   A05,   137,  1,     24,2,20110309,1029, 26.2042, -75.8623, 4818,      5.3,  23.2811,  36.8237,2,    212.0,2,    211.7,2,     1.74,2,     0.12,2,     0.04,2,   -999.0,9,   8.0672,2,    25.00,  23.2800,20110309,1207
  29AH20110128,   A05,   138,  1,      1,2,20110309,1526, 26.2042, -76.0072, 4859,   4832.3,   2.2254,  34.8798,2,    260.3,2,    259.5,2,    44.60,2,    22.60,2,     1.45,2,   -999.0,9,   7.7212,2,    25.00,   1.7861,20110309,1526
  29AH20110128,   A05,   138,  1,      2,2,20110309,1526, 26.2042, -76.0072, 4859,   4500.3,   2.2195,  34.8843,2,    262.3,2,    261.1,2,  -999.00,9,    18.27,2,     1.39,2,   -999.0,9,   7.7269,2,    25.00,   1.8208,20110309,1533
  29AH20110128,   A05,   138,  1,      3,2,20110309,1526, 26.2042, -76.0072, 4859,   4000.3,   2.2672,  34.8937,2,    267.1,2,    266.3,2,    33.90,2,    19.29,2,     1.33,2,   -999.0,9,   7.7242,2,    25.00,   1.9254,20110309,1543
  29AH20110128,   A05,   138,  1,      4,2,20110309,1526, 26.2042, -76.0072, 4859,   3499.8,   2.3947,  34.9057,2,    269.7,2,    269.0,2,    28.18,2,    20.28,2,     1.29,2,   -999.0,9,   7.7281,2,    25.00,   2.1049,20110309,1553
  29AH20110128,   A05,   138,  1,      5,2,20110309,1526, 26.2042, -76.0072, 4859,   2999.8,   2.7333,  34.9258,2,    267.8,2,    263.9,2,    23.64,2,    20.01,2,     1.28,2,   -999.0,9,   7.7287,2,    25.00,   2.4883,20110309,1602
  29AH20110128,   A05,   138,  1,      6,2,20110309,1526, 26.2042, -76.0072, 4859,   2500.2,   3.1868,  34.9528,2,    263.0,2,    263.2,2,    21.91,2,    20.30,2,     1.30,2,   -999.0,9,   7.7282,2,    25.00,   2.9833,20110309,1612
  29AH20110128,   A05,   138,  1,      7,2,20110309,1526, 26.2042, -76.0072, 4859,   2000.3,   3.6171,  34.9609,2,    263.4,2,    263.7,2,    15.85,2,    18.80,2,     1.23,2,   -999.0,9,   7.7234,2,    25.00,   3.4552,20110309,1622
  29AH20110128,   A05,   138,  1,      8,2,20110309,1526, 26.2042, -76.0072, 4859,   1750.2,   3.9699,  34.9828,2,    258.8,2,    260.0,2,    13.06,2,  -999.00,9,     1.23,2,   -999.0,9,   7.7200,2,    25.00,   3.8268,20110309,1627
  29AH20110128,   A05,   138,  1,      9,2,20110309,1526, 26.2042, -76.0072, 4859,   1499.3,   4.3889,  35.0070,2,    252.0,2,    252.5,2,     9.49,3,  -999.00,9,     1.18,2,   -999.0,9,   7.7151,2,    25.00,   4.2643,20110309,1632
  29AH20110128,   A05,   138,  1,     10,2,20110309,1526, 26.2042, -76.0072, 4859,   1300.8,   4.9512,  35.0295,2,    239.0,2,    238.9,2,    12.97,2,  -999.00,9,     1.27,2,   -999.0,9,   7.7051,2,    25.00,   4.8394,20110309,1636
  29AH20110128,   A05,   138,  1,     11,2,20110309,1526, 26.2042, -76.0072, 4859,   1200.3,   5.4213,  35.0524,2,    225.9,2,    225.2,2,  -999.00,9,  -999.00,9,  -999.00,9,   -999.0,9,   7.6987,2,    25.00,   5.3147,20110309,1639
  29AH20110128,   A05,   138,  1,     12,2,20110309,1526, 26.2042, -76.0072, 4859,   1099.6,   6.1577,  35.0768,2,    203.3,2,    201.2,2,    15.07,2,    20.59,2,     1.43,2,   -999.0,9,   7.6874,2,    25.00,   6.0548,20110309,1641
  29AH20110128,   A05,   138,  1,     13,2,20110309,1526, 26.2042, -76.0072, 4859,   1000.0,   7.2271,  35.0817,2,    166.5,2,    164.1,2,    19.44,2,  -999.00,9,     1.63,2,   -999.0,9,   7.6649,2,    25.00,   7.1262,20110309,1643
  29AH20110128,   A05,   138,  1,     14,2,20110309,1526, 26.2042, -76.0072, 4859,    900.5,   8.6687,  35.1592,2,    147.9,2,    145.5,2,    17.91,2,  -999.00,9,     1.66,2,   -999.0,9,   7.6639,2,    25.00,   8.5689,20110309,1645
  29AH20110128,   A05,   138,  1,     15,2,20110309,1526, 26.2042, -76.0072, 4859,    800.0,  10.4310,  35.3478,2,    141.6,2,    140.9,2,  -999.00,9,  -999.00,9,  -999.00,9,   -999.0,9,   7.6999,2,    25.00,  10.3325,20110309,1647
  29AH20110128,   A05,   138,  1,     16,2,20110309,1526, 26.2042, -76.0072, 4859,    600.3,  14.4239,  35.9165,2,    160.8,2,    161.5,2,     7.08,2,    14.59,2,     0.86,2,   -999.0,9,   7.8202,2,    25.00,  14.3335,20110309,1651
  29AH20110128,   A05,   138,  1,     17,2,20110309,1526, 26.2042, -76.0072, 4859,    400.4,  17.4987,  36.4487,2,    186.6,2,    187.3,2,     3.57,2,     7.14,2,     0.36,2,   -999.0,9,   7.9296,2,    25.00,  17.4303,20110309,1656
  29AH20110128,   A05,   138,  1,     18,2,20110309,1526, 26.2042, -76.0072, 4859,    299.6,  18.3668,  36.5821,2,    192.3,2,    192.1,2,     2.69,2,     4.49,2,     0.23,2,   -999.0,9,   7.9703,2,    25.00,  18.3140,20110309,1658
  29AH20110128,   A05,   138,  1,     19,2,20110309,1526, 26.2042, -76.0072, 4859,    149.7,  20.2217,  36.7558,2,    193.4,2,    193.1,2,     1.92,2,     1.43,2,     0.07,2,   -999.0,9,   7.9956,2,    25.00,  20.1936,20110309,1701
  29AH20110128,   A05,   138,  1,     20,2,20110309,1526, 26.2042, -76.0072, 4859,    124.3,  20.9525,  36.7882,2,    199.2,2,    199.0,2,     1.90,2,     0.59,2,     0.06,2,   -999.0,9,   8.0145,2,    25.00,  20.9285,20110309,1702
  29AH20110128,   A05,   138,  1,     21,2,20110309,1526, 26.2042, -76.0072, 4859,     76.0,  22.5161,  36.8544,2,    214.1,2,    214.0,2,     1.86,2,     0.11,2,     0.03,2,   -999.0,9,   8.0543,2,    25.00,  22.5007,20110309,1703
  29AH20110128,   A05,   138,  1,     22,2,20110309,1526, 26.2042, -76.0072, 4859,     51.2,  22.7589,  36.8624,2,    214.1,2,    214.1,2,     1.98,2,     0.12,2,     0.05,2,   -999.0,9,   8.0594,2,    25.00,  22.7485,20110309,1703
  29AH20110128,   A05,   138,  1,     23,2,20110309,1526, 26.2042, -76.0072, 4859,     25.7,  23.2064,  36.8460,2,    212.3,2,    211.8,2,     1.95,2,     0.09,2,     0.05,2,   -999.0,9,   8.0643,2,    25.00,  23.2011,20110309,1704
  29AH20110128,   A05,   138,  1,     24,2,20110309,1526, 26.2042, -76.0072, 4859,      6.0,  23.3925,  36.8781,2,    211.6,2,    211.6,2,     1.63,2,     0.52,2,     0.10,2,   -999.0,9,   8.0621,2,    25.00,  23.3913,20110309,1705
  29AH20110128,   A05,   139,  1,      1,2,20110309,1950, 26.2020, -76.1515, 4859,   4846.9,   2.2268,  34.8799,2,    260.0,2,    259.6,2,    43.17,2,    20.61,2,     1.45,2,   2340.9,2,   7.7213,2,    25.00,   1.7857,20110309,1950
  29AH20110128,   A05,   139,  1,      2,2,20110309,1950, 26.2020, -76.1515, 4859,   4499.7,   2.2445,  34.8867,2,    263.9,2,    263.8,2,    38.15,2,    19.77,2,     1.41,2,   2330.3,2,   7.7244,2,    25.00,   1.8451,20110309,1957
  29AH20110128,   A05,   139,  1,      3,2,20110309,1950, 26.2020, -76.1515, 4859,   3999.6,   2.2705,  34.8939,2,    267.4,2,    267.0,2,    31.00,2,  -999.00,9,     1.25,3,   2329.7,2,   7.7236,2,    25.00,   1.9287,20110309,2006
  29AH20110128,   A05,   139,  1,      4,2,20110309,1950, 26.2020, -76.1515, 4859,   3500.0,   2.3733,  34.9039,2,    270.2,2,    270.0,2,    26.75,2,    16.53,2,     1.26,2,   2322.6,2,   7.7274,2,    25.00,   2.0840,20110309,2016
  29AH20110128,   A05,   139,  1,      5,2,20110309,1950, 26.2020, -76.1515, 4859,   3000.3,   2.6933,  34.9231,2,    268.5,2,    268.8,2,    23.26,2,    17.41,2,     1.25,2,   2320.9,2,   7.7281,2,    25.00,   2.4492,20110309,2026
  29AH20110128,   A05,   139,  1,      6,2,20110309,1950, 26.2020, -76.1515, 4859,   2501.1,   3.1821,  34.9540,2,    262.5,2,    262.6,2,    20.91,2,    18.50,2,     1.27,2,   2319.0,2,   7.7332,2,    25.00,   2.9786,20110309,2035
  29AH20110128,   A05,   139,  1,      7,2,20110309,1950, 26.2020, -76.1515, 4859,   2000.1,   3.6487,  34.9673,2,    262.3,2,    264.2,2,    12.40,3,    18.58,2,     1.23,2,   2314.0,2,   7.7269,2,    25.00,   3.4864,20110309,2045
  29AH20110128,   A05,   139,  1,      8,2,20110309,1950, 26.2020, -76.1515, 4859,   1749.2,   3.9424,  34.9809,2,    259.3,2,    261.0,2,    13.93,2,  -999.00,9,     1.21,2,   -999.0,9,   7.7234,2,    25.00,   3.7998,20110309,2050
  29AH20110128,   A05,   139,  1,      9,2,20110309,1950, 26.2020, -76.1515, 4859,   1502.8,   4.3482,  35.0023,2,    252.7,2,    253.7,2,    13.90,2,    18.78,2,     1.27,2,   2313.5,2,   7.7165,2,    25.00,   4.2237,20110309,2055
  29AH20110128,   A05,   139,  1,     10,2,20110309,1950, 26.2020, -76.1515, 4859,   1301.1,   4.8110,  35.0233,2,    243.0,2,    244.5,2,    14.06,2,    19.25,2,     1.28,2,   2314.7,2,   7.7084,2,    25.00,   4.7005,20110309,2059
  29AH20110128,   A05,   139,  1,     11,2,20110309,1950, 26.2020, -76.1515, 4859,   1201.4,   5.3085,  35.0488,2,    228.9,2,    228.7,2,    15.05,2,    20.11,2,     1.32,2,   2316.6,2,   7.7019,2,    25.00,   5.2028,20110309,2102
  29AH20110128,   A05,   139,  1,     12,2,20110309,1950, 26.2020, -76.1515, 4859,   1097.8,   5.9955,  35.0716,2,    209.6,2,    208.4,2,    15.14,2,    21.57,2,     1.41,2,   2319.8,2,   7.6914,2,    25.00,   5.8941,20110309,2104
  29AH20110128,   A05,   139,  1,     13,2,20110309,1950, 26.2020, -76.1515, 4859,   1001.7,   7.0505,  35.0900,2,    175.2,2,    173.6,2,    17.65,2,    22.88,2,     1.59,2,   2321.2,2,   7.6696,2,    25.00,   6.9507,20110309,2106
  29AH20110128,   A05,   139,  1,     14,2,20110309,1950, 26.2020, -76.1515, 4859,    899.7,   8.4904,  35.1564,2,    149.4,2,    149.1,2,    16.69,2,  -999.00,9,     1.65,2,   2322.8,2,   7.6675,2,    25.00,   8.3918,20110309,2108
  29AH20110128,   A05,   139,  1,     15,2,20110309,1950, 26.2020, -76.1515, 4859,    800.8,  10.1840,  35.3206,2,    141.9,2,    142.1,2,    13.38,2,  -999.00,9,     1.51,2,   2329.7,2,   7.6982,2,    25.00,  10.0868,20110309,2110
  29AH20110128,   A05,   139,  1,     16,2,20110309,1950, 26.2020, -76.1515, 4859,    600.0,  14.2097,  35.8832,2,    159.4,2,    161.6,2,     4.90,2,  -999.00,9,     0.83,2,   2359.1,2,   7.8147,2,    25.00,  14.1203,20110309,2114
  29AH20110128,   A05,   139,  1,     17,2,20110309,1950, 26.2020, -76.1515, 4859,    399.9,  17.6387,  36.4820,2,    194.7,2,    195.7,2,     3.09,2,     5.84,2,     0.31,2,   2389.9,2,   7.9508,2,    25.00,  17.5700,20110309,2118
  29AH20110128,   A05,   139,  1,     18,2,20110309,1950, 26.2020, -76.1515, 4859,    301.5,  18.2236,  36.5743,2,    199.8,2,    201.0,2,     2.21,2,     3.59,2,     0.20,2,   2393.9,2,   7.9665,2,    25.00,  18.1707,20110309,2121
  29AH20110128,   A05,   139,  1,     19,2,20110309,1950, 26.2020, -76.1515, 4859,    150.9,  20.1255,  36.7516,2,    205.4,2,    204.6,2,     1.73,2,     1.09,2,     0.07,2,   2406.3,2,   8.0102,2,    25.00,  20.0972,20110309,2124
  29AH20110128,   A05,   139,  1,     20,2,20110309,1950, 26.2020, -76.1515, 4859,    125.8,  20.5468,  36.7606,2,    204.8,2,    204.5,2,     1.66,2,     0.62,2,     0.04,2,   -999.0,9,   8.0643,2,    25.00,  20.5229,20110309,2124
  29AH20110128,   A05,   139,  1,     21,2,20110309,1950, 26.2020, -76.1515, 4859,     75.2,  21.7962,  36.8390,2,    214.0,2,    212.7,2,     1.68,2,     0.10,2,     0.05,2,   2411.3,2,   8.0425,2,    25.00,  21.7813,20110309,2125
  29AH20110128,   A05,   139,  1,     22,2,20110309,1950, 26.2020, -76.1515, 4859,     50.1,  22.1627,  36.8688,2,    216.7,2,    217.0,2,     1.70,2,     0.02,2,     0.04,2,   -999.0,9,   8.0563,2,    25.00,  22.1527,20110309,2126
  29AH20110128,   A05,   139,  1,     23,2,20110309,1950, 26.2020, -76.1515, 4859,     25.5,  22.4478,  36.8484,2,    216.0,2,    216.3,2,     1.62,2,     0.01,2,     0.04,2,   -999.0,9,   8.0545,2,    25.00,  22.4427,20110309,2127
  29AH20110128,   A05,   139,  1,     24,2,20110309,1950, 26.2020, -76.1515, 4859,      6.4,  22.8442,  36.7540,2,    214.4,2,    212.6,2,     1.83,2,     0.00,2,     0.05,2,   2404.6,2,   8.0581,2,    25.00,  22.8429,20110309,2128