BOTTLE,20220930CCHSIOAMB
EXPOCODE,SECT_ID,STNNBR,CASTNO,BTLNBR,BTLNBR_FLAG_W,DATE,TIME,LATITUDE,LONGITUDE,DEPTH,CTDPRS,CTDTMP,CTDSAL,CTDSAL_FLAG_W,CTDOXY,CTDOXY_FLAG_W,OXYGEN,OXYGEN_FLAG_W,SILCAT,SILCAT_FLAG_W,NITRAT,NITRAT_FLAG_W,PHSPHT,PHSPHT_FLAG_W,ALKALI,ALKALI_FLAG_W,PH_SWS,PH_SWS_FLAG_W,PH_TMP,THETA,BTL_DATE,BTL_TIME
,,,,,,,,,,METERS,DBAR,ITS-90,PSS-78,,UMOL/KG,,UMOL/KG,,UMOL/KG,,UMOL/KG,,UMOL/KG,,UMOL/KG,,,,DEG C,DEG C,,
  29AH20110128,   A05,    68,  1,      1,2,20110216,0931, 24.5002, -43.1097, 3996,   3840.8,   2.5270,  34.9089,2,    247.8,2,    247.3,2,    39.84,2,    20.16,2,     1.43,2,   -999.0,9,   7.7268,2,    25.00,   2.1961,20110216,0931
  29AH20110128,   A05,    68,  1,      2,2,20110216,0931, 24.5002, -43.1097, 3996,   3500.8,   2.5449,  34.9139,2,    247.4,2,    245.5,2,    38.29,2,    20.16,2,     1.43,2,   -999.0,9,   7.7279,2,    25.00,   2.2512,20110216,0938
  29AH20110128,   A05,    68,  1,      3,2,20110216,0931, 24.5002, -43.1097, 3996,   3000.3,   2.6870,  34.9310,2,    247.1,2,    246.1,2,    35.08,2,    19.68,2,     1.40,2,   -999.0,9,   7.7287,2,    25.00,   2.4430,20110216,0948
  29AH20110128,   A05,    68,  1,      4,2,20110216,0931, 24.5002, -43.1097, 3996,   2499.5,   3.1147,  34.9674,2,    248.7,2,    247.3,2,    28.84,2,    18.77,2,     1.33,2,   -999.0,9,   7.7306,2,    25.00,   2.9126,20110216,0957
  29AH20110128,   A05,    68,  1,      5,2,20110216,0931, 24.5002, -43.1097, 3996,   2000.0,   3.8700,  35.0288,2,    245.2,2,    245.5,2,    21.35,2,    18.17,2,     1.26,2,   -999.0,9,   7.7317,2,    25.00,   3.7042,20110216,1007
  29AH20110128,   A05,    68,  1,      6,2,20110216,0931, 24.5002, -43.1097, 3996,   1750.8,   4.5234,  35.0694,2,    236.0,2,    235.8,2,    18.34,2,    19.16,2,     1.28,2,   -999.0,9,   7.7185,2,    25.00,   4.3728,20110216,1012
  29AH20110128,   A05,    68,  1,      7,2,20110216,0931, 24.5002, -43.1097, 3996,   1501.6,   4.8113,  35.0366,2,    221.0,2,    219.8,2,    17.93,2,    19.88,2,     1.39,2,   -999.0,9,   7.7079,2,    25.00,   4.6816,20110216,1017
  29AH20110128,   A05,    68,  1,      8,2,20110216,0931, 24.5002, -43.1097, 3996,   1300.7,   5.3505,  35.0191,2,    198.0,2,    196.7,2,    19.04,2,    21.94,2,     1.49,2,   -999.0,9,   7.6812,2,    25.00,   5.2348,20110216,1021
  29AH20110128,   A05,    68,  1,      9,2,20110216,0931, 24.5002, -43.1097, 3996,   1200.3,   5.6908,  34.9957,2,    182.2,2,    181.3,2,    20.23,2,    23.41,2,     1.70,2,   -999.0,9,   7.6608,2,    25.00,   5.5819,20110216,1023
  29AH20110128,   A05,    68,  1,     10,2,20110216,0931, 24.5002, -43.1097, 3996,   1102.4,   6.0833,  34.9926,2,    168.3,2,    167.5,2,    20.79,2,    24.44,2,     1.76,2,   -999.0,9,   7.6475,2,    25.00,   5.9808,20110216,1025
  29AH20110128,   A05,    68,  1,     11,2,20110216,0931, 24.5002, -43.1097, 3996,   1000.2,   6.7711,  35.0270,2,    155.1,2,    153.9,2,    19.95,2,    25.07,2,     1.78,2,   -999.0,9,   7.6435,2,    25.00,   6.6737,20110216,1027
  29AH20110128,   A05,    68,  1,     12,2,20110216,0931, 24.5002, -43.1097, 3996,    902.1,   7.8972,  35.1283,2,    145.1,2,    144.3,2,    18.55,2,    24.44,2,     1.72,2,   -999.0,9,   7.6545,2,    25.00,   7.8023,20110216,1029
  29AH20110128,   A05,    68,  1,     13,2,20110216,0931, 24.5002, -43.1097, 3996,    801.2,   9.2417,  35.2785,2,    143.5,2,    144.3,2,    15.40,2,    22.46,2,     1.49,2,   -999.0,9,   7.6831,2,    25.00,   9.1499,20110216,1031
  29AH20110128,   A05,    68,  1,     14,2,20110216,0931, 24.5002, -43.1097, 3996,    600.5,  12.0948,  35.6256,2,    156.6,2,    156.4,2,     8.74,2,    16.77,2,     0.96,2,   -999.0,9,   7.7607,2,    25.00,  12.0142,20110216,1036
  29AH20110128,   A05,    68,  1,     15,2,20110216,0931, 24.5002, -43.1097, 3996,    402.2,  15.4942,  36.1175,2,    182.7,2,    183.2,2,     4.19,2,     9.22,2,     0.42,2,   -999.0,9,   7.8747,2,    25.00,  15.4310,20110216,1040
  29AH20110128,   A05,    68,  1,     16,2,20110216,0931, 24.5002, -43.1097, 3996,    302.4,  17.0842,  36.3935,2,    193.4,2,    193.6,2,     2.37,2,     4.36,2,     0.16,2,   -999.0,9,   7.9629,2,    25.00,  17.0335,20110216,1042
  29AH20110128,   A05,    68,  1,     17,2,20110216,0931, 24.5002, -43.1097, 3996,    200.3,  18.9119,  36.7072,2,    191.9,2,    191.4,2,     1.81,2,     2.73,2,     0.11,2,   -999.0,9,   7.9595,2,    25.00,  18.8759,20110216,1044
  29AH20110128,   A05,    68,  1,     18,2,20110216,0931, 24.5002, -43.1097, 3996,    150.2,  20.4783,  36.9426,2,    195.2,2,    195.3,2,     1.39,2,     0.98,2,     0.06,2,   -999.0,9,   7.9863,2,    25.00,  20.4498,20110216,1045
  29AH20110128,   A05,    68,  1,     19,2,20110216,0931, 24.5002, -43.1097, 3996,    129.4,  21.2305,  37.0600,2,    198.4,2,    198.3,2,     1.25,2,     0.54,2,     0.05,2,   -999.0,9,   8.0029,2,    25.00,  21.2053,20110216,1046
  29AH20110128,   A05,    68,  1,     20,2,20110216,0931, 24.5002, -43.1097, 3996,    101.4,  23.0879,  37.4531,2,    209.3,2,    209.8,2,     1.25,2,     0.03,2,     0.05,2,   -999.0,9,   8.0632,2,    25.00,  23.0669,20110216,1046
  29AH20110128,   A05,    68,  1,     21,2,20110216,0931, 24.5002, -43.1097, 3996,     74.0,  23.1592,  37.4761,2,    210.7,2,    209.4,2,     1.25,2,     0.03,2,     0.05,2,   -999.0,9,   8.0654,2,    25.00,  23.1439,20110216,1047
  29AH20110128,   A05,    68,  1,     22,2,20110216,0931, 24.5002, -43.1097, 3996,     44.8,  23.1534,  37.4762,2,    210.7,2,    210.1,2,     1.25,2,     0.03,2,     0.06,2,   -999.0,9,   8.0645,2,    25.00,  23.1441,20110216,1048
  29AH20110128,   A05,    68,  1,     23,2,20110216,0931, 24.5002, -43.1097, 3996,     25.1,  23.1515,  37.4775,2,    210.7,2,    213.1,2,     1.25,2,     0.03,2,     0.05,2,   -999.0,9,   8.0658,2,    25.00,  23.1463,20110216,1049
  29AH20110128,   A05,    68,  1,     24,2,20110216,0931, 24.5002, -43.1097, 3996,      5.1,  23.1454,  37.4775,2,    211.0,2,    211.3,2,     1.25,2,     0.03,2,     0.05,2,   -999.0,9,   8.0638,2,    25.00,  23.1443,20110216,1049
  29AH20110128,   A05,    69,  1,      1,2,20110216,1548, 24.5007, -43.5725, 4244,   4234.0,   2.5075,  34.9028,2,    248.3,2,    247.5,2,    43.08,2,    20.30,2,     1.49,2,   2346.6,2,   7.7274,2,    25.00,   2.1317,20110216,1548
  29AH20110128,   A05,    69,  1,      2,2,20110216,1548, 24.5007, -43.5725, 4244,   4000.2,   2.5468,  34.9092,2,    247.5,2,    246.8,2,    40.09,2,  -999.00,9,     1.44,2,   -999.0,9,   7.7277,2,    25.00,   2.1971,20110216,1553
  29AH20110128,   A05,    69,  1,      3,2,20110216,1548, 24.5007, -43.5725, 4244,   3500.0,   2.5442,  34.9141,2,    247.5,2,    247.5,2,    40.09,2,    20.06,2,     1.44,2,   2346.0,2,   7.7234,2,    25.00,   2.2506,20110216,1603
  29AH20110128,   A05,    69,  1,      4,2,20110216,1548, 24.5007, -43.5725, 4244,   3001.1,   2.6974,  34.9316,2,    246.9,2,    247.9,2,    37.03,2,    19.69,2,     1.39,2,   -999.0,9,   7.7287,2,    25.00,   2.4530,20110216,1613
  29AH20110128,   A05,    69,  1,      5,2,20110216,1548, 24.5007, -43.5725, 4244,   2501.0,   3.1363,  34.9694,2,    248.4,2,    249.6,2,    27.72,2,    18.77,2,     1.24,2,   2334.3,2,   7.7281,2,    25.00,   2.9336,20110216,1623
  29AH20110128,   A05,    69,  1,      6,2,20110216,1548, 24.5007, -43.5725, 4244,   2001.3,   3.9452,  35.0322,2,    243.3,2,    244.0,2,    22.38,2,    18.53,2,     1.29,2,   2326.2,2,   7.7259,2,    25.00,   3.7781,20110216,1632
  29AH20110128,   A05,    69,  1,      7,2,20110216,1548, 24.5007, -43.5725, 4244,   1751.2,   4.4245,  35.0459,2,    234.2,2,    236.1,2,    19.61,2,    18.93,2,     1.31,2,   2323.8,2,   7.7191,2,    25.00,   4.2752,20110216,1637
  29AH20110128,   A05,    69,  1,      8,2,20110216,1548, 24.5007, -43.5725, 4244,   1499.9,   4.9112,  35.0353,2,    218.4,2,    218.8,2,    18.76,2,    20.21,2,     1.39,2,   2321.1,2,   7.7034,2,    25.00,   4.7806,20110216,1642
  29AH20110128,   A05,    69,  1,      9,2,20110216,1548, 24.5007, -43.5725, 4244,   1298.4,   5.4452,  35.0275,2,    194.2,2,    193.9,2,    20.18,2,    22.30,2,     1.54,2,   2322.1,2,   7.6782,2,    25.00,   5.3288,20110216,1646
  29AH20110128,   A05,    69,  1,     10,2,20110216,1548, 24.5007, -43.5725, 4244,   1200.7,   5.7808,  35.0333,2,    184.2,2,    184.8,2,    20.18,2,    23.07,2,     1.61,2,   -999.0,9,   7.6697,2,    25.00,   5.6710,20110216,1648
  29AH20110128,   A05,    69,  1,     11,2,20110216,1548, 24.5007, -43.5725, 4244,   1099.3,   6.4311,  35.0544,2,    167.6,2,    166.7,2,    20.32,2,    24.20,2,     1.69,2,   2323.8,2,   7.6542,2,    25.00,   6.3260,20110216,1651
  29AH20110128,   A05,    69,  1,     12,2,20110216,1548, 24.5007, -43.5725, 4244,    999.6,   7.1295,  35.1009,2,    156.0,2,    156.4,2,    19.47,2,    24.48,2,     1.79,2,   -999.0,9,   7.6565,2,    25.00,   7.0294,20110216,1653
  29AH20110128,   A05,    69,  1,     13,2,20110216,1548, 24.5007, -43.5725, 4244,    901.2,   7.8723,  35.1321,2,    144.2,2,    144.6,2,    18.89,2,    24.88,2,     1.78,2,   2322.7,2,   7.6515,2,    25.00,   7.7776,20110216,1655
  29AH20110128,   A05,    69,  1,     14,2,20110216,1548, 24.5007, -43.5725, 4244,    800.9,   9.0192,  35.2521,2,    141.2,2,    141.1,2,    16.05,2,    23.27,2,     1.58,2,   2325.7,2,   7.6709,2,    25.00,   8.9288,20110216,1657
  29AH20110128,   A05,    69,  1,     15,2,20110216,1548, 24.5007, -43.5725, 4244,    605.9,  11.8599,  35.5964,2,    150.0,2,    151.5,2,     9.37,2,    17.72,2,     1.04,2,   2336.8,2,   7.7467,2,    25.00,  11.7796,20110216,1701
  29AH20110128,   A05,    69,  1,     16,2,20110216,1548, 24.5007, -43.5725, 4244,    403.6,  15.4331,  36.1110,2,    178.5,2,    180.9,2,     4.32,2,     9.26,2,     0.42,2,   2368.2,2,   7.8718,2,    25.00,  15.3699,20110216,1705
  29AH20110128,   A05,    69,  1,     17,2,20110216,1548, 24.5007, -43.5725, 4244,    302.6,  17.0840,  36.3913,2,    199.6,2,    201.0,2,     2.61,2,     5.35,2,     0.19,2,   -999.0,9,   7.9357,2,    25.00,  17.0333,20110216,1707
  29AH20110128,   A05,    69,  1,     18,2,20110216,1548, 24.5007, -43.5725, 4244,    202.6,  18.1121,  36.5626,2,    201.8,2,   -999.0,9,  -999.00,9,  -999.00,9,  -999.00,9,   -999.0,9,   7.9605,2,    25.00,  18.0768,20110216,1709
  29AH20110128,   A05,    69,  1,     19,2,20110216,1548, 24.5007, -43.5725, 4244,    150.1,  19.8964,  36.9078,2,    185.3,2,   -999.0,9,  -999.00,9,  -999.00,9,  -999.00,9,   -999.0,9,   7.9735,2,    25.00,  19.8685,20110216,1710
  29AH20110128,   A05,    69,  1,     20,2,20110216,1548, 24.5007, -43.5725, 4244,    125.5,  20.3948,  36.9402,2,    193.6,2,    195.1,2,     1.40,2,     1.12,2,     0.05,2,   -999.0,9,   7.9796,2,    25.00,  20.3710,20110216,1711
  29AH20110128,   A05,    69,  1,     21,2,20110216,1548, 24.5007, -43.5725, 4244,     75.2,  23.0030,  37.4552,2,    210.7,2,    211.9,2,     1.19,2,     0.01,2,     0.03,2,   2452.7,2,   8.0618,2,    25.00,  22.9875,20110216,1712
  29AH20110128,   A05,    69,  1,     22,2,20110216,1548, 24.5007, -43.5725, 4244,     51.6,  23.0107,  37.4584,2,    211.3,2,    211.4,2,     1.26,2,     0.01,2,     0.04,2,   -999.0,9,   8.0595,2,    25.00,  23.0001,20110216,1713
  29AH20110128,   A05,    69,  1,     23,2,20110216,1548, 24.5007, -43.5725, 4244,     24.7,  23.0331,  37.4595,2,    211.3,2,    212.7,2,     1.26,2,     0.01,2,     0.05,2,   -999.0,9,   8.0673,2,    25.00,  23.0280,20110216,1714
  29AH20110128,   A05,    69,  1,     24,2,20110216,1548, 24.5007, -43.5725, 4244,      5.6,  23.0666,  37.4649,2,    211.6,2,    211.7,2,     1.26,2,     0.01,2,     0.03,2,   2451.3,2,   8.0667,2,    25.00,  23.0654,20110216,1714
  29AH20110128,   A05,    70,  1,      1,2,20110216,2139, 24.4998, -44.0348, 4284,   4274.1,   2.5242,  34.9039,2,    248.7,2,    244.8,2,    40.78,2,    19.84,2,     1.41,2,   -999.0,9,   7.7238,2,    25.00,   2.1432,20110216,2139
  29AH20110128,   A05,    70,  1,      2,2,20110216,2139, 24.4998, -44.0348, 4284,   4000.6,   2.5370,  34.9081,2,    248.1,2,    247.2,2,    40.08,2,    19.88,2,     1.43,2,   -999.0,9,   7.7282,2,    25.00,   2.1875,20110216,2144
  29AH20110128,   A05,    70,  1,      3,2,20110216,2139, 24.4998, -44.0348, 4284,   3498.4,   2.5844,  34.9174,2,    247.8,2,    246.6,2,    38.62,2,    19.76,2,     1.38,2,   -999.0,9,   7.7300,2,    25.00,   2.2900,20110216,2154
  29AH20110128,   A05,    70,  1,      4,2,20110216,2139, 24.4998, -44.0348, 4284,   2998.8,   2.7613,  34.9367,2,    247.8,2,    247.0,2,    35.08,2,    19.33,2,     1.36,2,   -999.0,9,   7.7297,2,    25.00,   2.5158,20110216,2203
  29AH20110128,   A05,    70,  1,      5,2,20110216,2139, 24.4998, -44.0348, 4284,   2500.1,   3.2109,  34.9749,2,    248.4,2,    248.3,2,    27.58,2,    18.49,2,     1.28,2,   -999.0,9,   7.7318,2,    25.00,   3.0069,20110216,2213
  29AH20110128,   A05,    70,  1,      6,2,20110216,2139, 24.4998, -44.0348, 4284,   1998.9,   3.9204,  35.0245,2,    242.6,2,    243.2,2,    21.68,2,    18.21,2,     1.24,2,   -999.0,9,   7.7300,2,    25.00,   3.7540,20110216,2223
  29AH20110128,   A05,    70,  1,      7,2,20110216,2139, 24.4998, -44.0348, 4284,   1752.3,   4.3897,  35.0403,2,    234.2,2,    233.8,2,    19.74,2,    18.72,2,     1.29,2,   -999.0,9,   7.7238,2,    25.00,   4.2408,20110216,2228
  29AH20110128,   A05,    70,  1,      8,2,20110216,2139, 24.4998, -44.0348, 4284,   1501.5,   4.9281,  35.0360,2,    217.8,2,    217.4,2,    20.08,2,    22.76,4,  -999.00,9,   -999.0,9,   7.6985,2,    25.00,   4.7972,20110216,2233
  29AH20110128,   A05,    70,  1,      9,2,20110216,2139, 24.4998, -44.0348, 4284,   1299.4,   5.4649,  35.0259,2,    193.3,2,    193.5,2,    20.01,2,    22.41,2,     1.59,2,   -999.0,9,   7.6781,2,    25.00,   5.3483,20110216,2237
  29AH20110128,   A05,    70,  1,     10,2,20110216,2139, 24.4998, -44.0348, 4284,   1199.2,   5.9846,  35.0534,2,    180.8,2,    180.2,2,    20.22,2,    22.88,2,     1.61,2,   -999.0,9,   7.6700,2,    25.00,   5.8731,20110216,2239
  29AH20110128,   A05,    70,  1,     11,2,20110216,2139, 24.4998, -44.0348, 4284,   1100.9,   6.4219,  35.0616,2,    167.3,2,    167.4,2,    20.22,2,    23.75,2,     1.66,2,   -999.0,9,   7.6576,2,    25.00,   6.3167,20110216,2241
  29AH20110128,   A05,    70,  1,     12,2,20110216,2139, 24.4998, -44.0348, 4284,   1001.0,   7.2104,  35.1032,2,    153.4,2,    152.2,2,    19.52,2,    24.23,2,     1.75,2,   -999.0,9,   7.6522,2,    25.00,   7.1095,20110216,2243
  29AH20110128,   A05,    70,  1,     13,2,20110216,2139, 24.4998, -44.0348, 4284,    900.4,   8.3105,  35.1941,2,    144.6,2,    144.4,2,    17.44,2,    23.55,2,     1.66,2,   -999.0,9,   7.6624,2,    25.00,   8.2130,20110216,2245
  29AH20110128,   A05,    70,  1,     14,2,20110216,2139, 24.4998, -44.0348, 4284,    800.4,   9.2719,  35.2979,2,    143.6,2,    143.5,2,    15.08,2,    22.04,2,     1.48,2,   -999.0,9,   7.6824,2,    25.00,   9.1800,20110216,2247
  29AH20110128,   A05,    70,  1,     15,2,20110216,2139, 24.4998, -44.0348, 4284,    599.6,  12.2451,  35.6497,2,    156.5,2,    156.1,2,     8.34,2,    16.26,2,     0.91,2,   -999.0,9,   7.7607,2,    25.00,  12.1640,20110216,2251
  29AH20110128,   A05,    70,  1,     16,2,20110216,2139, 24.4998, -44.0348, 4284,    401.9,  15.5184,  36.1314,2,    177.7,2,    179.0,2,     4.10,2,     9.37,2,     0.43,2,   -999.0,9,   7.8679,2,    25.00,  15.4552,20110216,2255
  29AH20110128,   A05,    70,  1,     17,2,20110216,2139, 24.4998, -44.0348, 4284,    299.5,  17.2828,  36.4320,2,    193.2,2,    192.9,2,     2.58,2,     5.33,2,     0.22,2,   -999.0,9,   7.9326,2,    25.00,  17.2322,20110216,2257
  29AH20110128,   A05,    70,  1,     18,2,20110216,2139, 24.4998, -44.0348, 4284,    199.9,  19.1333,  36.7746,2,    186.8,2,    186.8,2,     1.89,2,     3.03,2,     0.10,2,   -999.0,9,   7.9520,2,    25.00,  19.0971,20110216,2259
  29AH20110128,   A05,    70,  1,     19,2,20110216,2139, 24.4998, -44.0348, 4284,    151.5,  20.8200,  36.9982,2,    192.4,2,    198.1,3,  -999.00,9,  -999.00,9,  -999.00,9,   -999.0,9,   8.0250,2,    25.00,  20.7909,20110216,2300
  29AH20110128,   A05,    70,  1,     20,2,20110216,2139, 24.4998, -44.0348, 4284,    123.9,  23.3993,  37.4944,2,    208.8,2,    208.6,2,     1.26,2,     0.08,2,     0.04,2,   -999.0,9,   8.0665,2,    25.00,  23.3734,20110216,2301
  29AH20110128,   A05,    70,  1,     21,2,20110216,2139, 24.4998, -44.0348, 4284,     74.8,  23.5108,  37.5106,2,    210.3,2,    209.6,2,     1.12,2,     0.08,2,     0.04,2,   -999.0,9,   8.0692,2,    25.00,  23.4951,20110216,2302
  29AH20110128,   A05,    70,  1,     22,2,20110216,2139, 24.4998, -44.0348, 4284,     52.0,  23.5243,  37.5080,2,    210.3,2,    209.8,2,     1.26,2,     0.08,2,     0.05,2,   -999.0,9,   8.0728,2,    25.00,  23.5134,20110216,2303
  29AH20110128,   A05,    70,  1,     23,2,20110216,2139, 24.4998, -44.0348, 4284,     24.6,  23.5858,  37.5060,2,    210.7,2,    210.7,2,     1.33,2,     0.08,2,     0.05,2,   -999.0,9,   8.0737,2,    25.00,  23.5806,20110216,2303
  29AH20110128,   A05,    70,  1,     24,2,20110216,2139, 24.4998, -44.0348, 4284,      6.3,  23.6154,  37.5028,2,    210.8,2,    209.8,2,     1.33,2,     0.08,2,     0.05,2,   -999.0,9,   8.0752,2,    25.00,  23.6141,20110216,2304