BOTTLE,20220930CCHSIOAMB
EXPOCODE,SECT_ID,STNNBR,CASTNO,BTLNBR,BTLNBR_FLAG_W,DATE,TIME,LATITUDE,LONGITUDE,DEPTH,CTDPRS,CTDTMP,CTDSAL,CTDSAL_FLAG_W,CTDOXY,CTDOXY_FLAG_W,OXYGEN,OXYGEN_FLAG_W,SILCAT,SILCAT_FLAG_W,NITRAT,NITRAT_FLAG_W,PHSPHT,PHSPHT_FLAG_W,ALKALI,ALKALI_FLAG_W,PH_SWS,PH_SWS_FLAG_W,PH_TMP,THETA,BTL_DATE,BTL_TIME
,,,,,,,,,,METERS,DBAR,ITS-90,PSS-78,,UMOL/KG,,UMOL/KG,,UMOL/KG,,UMOL/KG,,UMOL/KG,,UMOL/KG,,,,DEG C,DEG C,,
  29AH20110128,   A05,    29,  1,      1,2,20110203,0333, 24.8258, -22.4705, 4897,   4887.0,   2.4181,  34.8881,2,    245.4,2,    244.7,2,    47.14,2,    20.63,2,     1.49,2,   -999.0,9,   7.7261,2,    25.00,   1.9657,20110203,0333
  29AH20110128,   A05,    29,  1,      2,2,20110203,0333, 24.8258, -22.4705, 4897,   4502.2,   2.3743,  34.8893,2,    245.5,2,    245.5,2,    47.76,2,    20.69,2,     1.41,2,   -999.0,9,   7.7265,2,    25.00,   1.9706,20110203,0341
  29AH20110128,   A05,    29,  1,      3,2,20110203,0333, 24.8258, -22.4705, 4897,   3999.3,   2.3922,  34.8978,2,    246.0,2,    244.7,2,    45.19,2,    20.43,2,     1.39,2,   -999.0,9,   7.7281,2,    25.00,   2.0470,20110203,0351
  29AH20110128,   A05,    29,  1,      4,2,20110203,0333, 24.8258, -22.4705, 4897,   3501.2,   2.5243,  34.9155,2,    244.2,2,    244.8,2,    41.71,2,    20.06,2,     1.41,2,   -999.0,9,   7.7281,2,    25.00,   2.2311,20110203,0400
  29AH20110128,   A05,    29,  1,      5,2,20110203,0333, 24.8258, -22.4705, 4897,   3001.6,   2.7897,  34.9413,2,    238.4,2,    237.6,2,    37.89,2,    19.85,2,     1.44,2,   -999.0,9,   7.7227,2,    25.00,   2.5433,20110203,0410
  29AH20110128,   A05,    29,  1,      6,2,20110203,0333, 24.8258, -22.4705, 4897,   2499.1,   3.2580,  34.9845,2,    233.5,2,    233.2,2,    32.25,2,    19.77,2,     1.37,2,   -999.0,9,   7.7219,2,    25.00,   3.0532,20110203,0419
  29AH20110128,   A05,    29,  1,      7,2,20110203,0333, 24.8258, -22.4705, 4897,   1999.8,   3.9396,  35.0441,2,    222.7,2,    222.6,2,    27.84,2,    20.17,2,     1.38,2,   -999.0,9,   7.7138,2,    25.00,   3.7727,20110203,0429
  29AH20110128,   A05,    29,  1,      8,2,20110203,0333, 24.8258, -22.4705, 4897,   1751.7,   4.4130,  35.0787,2,    214.3,2,    214.9,2,    24.63,2,    20.56,2,     1.39,2,   -999.0,9,   7.7060,2,    25.00,   4.2637,20110203,0434
  29AH20110128,   A05,    29,  1,      9,2,20110203,0333, 24.8258, -22.4705, 4897,   1500.9,   5.3336,  35.1738,2,    199.4,2,    200.1,2,    22.75,2,    20.64,2,     1.51,2,   -999.0,9,   7.7010,2,    25.00,   5.1979,20110203,0439
  29AH20110128,   A05,    29,  1,     10,2,20110203,0333, 24.8258, -22.4705, 4897,   1301.4,   6.4051,  35.2483,2,    178.8,2,    179.2,2,    20.73,2,    21.80,2,     1.61,2,   -999.0,9,   7.6870,2,    25.00,   6.2788,20110203,0443
  29AH20110128,   A05,    29,  1,     11,2,20110203,0333, 24.8258, -22.4705, 4897,   1199.8,   6.9403,  35.2840,2,    170.8,2,    170.0,2,    19.48,2,    22.03,2,     1.58,2,   -999.0,9,   7.6854,2,    25.00,   6.8199,20110203,0445
  29AH20110128,   A05,    29,  1,     12,2,20110203,0333, 24.8258, -22.4705, 4897,   1099.9,   7.1869,  35.2405,2,    158.0,2,    158.4,2,    20.07,2,    23.60,2,     1.73,2,   -999.0,9,   7.6637,2,    25.00,   7.0753,20110203,0447
  29AH20110128,   A05,    29,  1,     13,2,20110203,0333, 24.8258, -22.4705, 4897,   1003.1,   7.5795,  35.2043,2,    142.2,2,    141.1,2,    19.48,2,    25.15,2,     1.73,2,   -999.0,9,   7.6404,2,    25.00,   7.4755,20110203,0449
  29AH20110128,   A05,    29,  1,     14,2,20110203,0333, 24.8258, -22.4705, 4897,    901.2,   7.6797,  35.1226,2,    120.7,2,    121.3,2,    20.99,2,    27.27,2,     2.03,2,   -999.0,9,   7.6030,2,    25.00,   7.5863,20110203,0451
  29AH20110128,   A05,    29,  1,     15,2,20110203,0333, 24.8258, -22.4705, 4897,    800.3,   8.2826,  35.1384,2,    103.6,2,   -999.0,9,    20.22,2,    28.11,2,  -999.00,9,   -999.0,9,   7.5809,2,    25.00,   8.1966,20110203,0453
  29AH20110128,   A05,    29,  1,     16,2,20110203,0333, 24.8258, -22.4705, 4897,    599.9,  10.1090,  35.3386,2,     96.1,2,   -999.0,9,    15.52,2,  -999.00,9,  -999.00,9,   -999.0,9,   7.6065,2,    25.00,  10.0372,20110203,0457
  29AH20110128,   A05,    29,  1,     17,2,20110203,0333, 24.8258, -22.4705, 4897,    400.6,  13.6221,  35.8737,2,    171.7,2,    172.8,2,     6.11,2,    12.24,2,     0.69,2,   -999.0,9,   7.8063,2,    25.00,  13.5644,20110203,0501
  29AH20110128,   A05,    29,  1,     18,2,20110203,0333, 24.8258, -22.4705, 4897,    301.0,  14.9643,  36.0603,2,    158.0,2,    157.2,2,     5.46,2,    11.95,2,  -999.00,9,   -999.0,9,   7.8191,2,    25.00,  14.9182,20110203,0503
  29AH20110128,   A05,    29,  1,     19,2,20110203,0333, 24.8258, -22.4705, 4897,    150.5,  18.2919,  36.5710,2,    166.9,2,    167.1,2,     3.30,2,     6.40,2,     0.40,2,   -999.0,9,   7.8907,2,    25.00,  18.2655,20110203,0506
  29AH20110128,   A05,    29,  1,     20,2,20110203,0333, 24.8258, -22.4705, 4897,    126.9,  19.6093,  36.7492,2,    187.2,2,    188.5,2,     2.51,2,     3.02,2,     0.27,2,   -999.0,9,   7.9410,2,    25.00,  19.5859,20110203,0507
  29AH20110128,   A05,    29,  1,     21,2,20110203,0333, 24.8258, -22.4705, 4897,    110.7,  20.2517,  36.8606,2,    197.1,2,    200.3,2,     2.15,2,     1.44,2,     0.20,2,   -999.0,9,   7.9628,2,    25.00,  20.2309,20110203,0508
  29AH20110128,   A05,    29,  1,     22,2,20110203,0333, 24.8258, -22.4705, 4897,     74.7,  21.6514,  37.1341,2,    215.9,2,    215.8,2,     1.74,2,     0.05,2,     0.15,2,   -999.0,9,   8.0227,2,    25.00,  21.6367,20110203,0508
  29AH20110128,   A05,    29,  1,     23,2,20110203,0333, 24.8258, -22.4705, 4897,     25.9,  21.6435,  37.1361,2,    216.5,2,    217.7,2,     1.73,2,     0.01,2,     0.13,2,   -999.0,9,   8.0103,2,    25.00,  21.6384,20110203,0510
  29AH20110128,   A05,    29,  1,     24,2,20110203,0333, 24.8258, -22.4705, 4897,      5.0,  21.6385,  37.1362,2,    216.6,2,    217.3,2,     1.74,2,     0.01,2,     0.15,2,   -999.0,9,   8.0240,2,    25.00,  21.6375,20110203,0511
  29AH20110128,   A05,    30,  1,      1,2,20110203,1020, 24.6610, -22.9763, 5025,   5014.6,   2.4239,  34.8876,2,    245.3,2,    245.7,2,    48.20,2,    20.83,2,     1.49,2,   2353.0,2,   7.7253,2,    25.00,   1.9552,20110203,1020
  29AH20110128,   A05,    30,  1,      2,2,20110203,1020, 24.6610, -22.9763, 5025,   4499.4,   2.3696,  34.8891,2,    245.5,2,    244.4,2,    48.38,2,    20.81,2,     1.47,2,   2351.9,2,   7.7255,2,    25.00,   1.9664,20110203,1030
  29AH20110128,   A05,    30,  1,      3,2,20110203,1020, 24.6610, -22.9763, 5025,   3997.5,   2.3947,  34.8980,2,    245.9,2,    244.1,2,    45.66,2,    20.75,2,     1.41,2,   2349.5,2,   7.7235,2,    25.00,   2.0496,20110203,1039
  29AH20110128,   A05,    30,  1,      4,2,20110203,1020, 24.6610, -22.9763, 5025,   3501.2,   2.5103,  34.9143,2,    243.9,2,    243.4,2,    42.15,2,    20.37,2,     1.42,2,   2349.1,2,   7.7275,2,    25.00,   2.2174,20110203,1049
  29AH20110128,   A05,    30,  1,      5,2,20110203,1020, 24.6610, -22.9763, 5025,   3000.5,   2.7901,  34.9425,2,    241.5,2,    241.2,2,    37.24,2,    19.84,2,     1.42,2,   2350.1,2,   7.7248,2,    25.00,   2.5438,20110203,1059
  29AH20110128,   A05,    30,  1,      6,2,20110203,1020, 24.6610, -22.9763, 5025,   2500.0,   3.2568,  34.9854,2,    234.9,2,    234.7,2,    32.40,2,    19.94,2,     1.39,2,   2340.2,2,   7.7215,2,    25.00,   3.0519,20110203,1109
  29AH20110128,   A05,    30,  1,      7,2,20110203,1020, 24.6610, -22.9763, 5025,   2001.2,   3.9511,  35.0535,2,    222.2,2,    222.4,2,    28.41,2,    20.20,2,     1.47,2,   2339.8,2,   7.7157,2,    25.00,   3.7839,20110203,1118
  29AH20110128,   A05,    30,  1,      8,2,20110203,1020, 24.6610, -22.9763, 5025,   1750.0,   4.5693,  35.1090,2,    213.9,2,    213.7,2,    24.79,2,    20.44,2,     1.46,2,   2333.2,2,   7.7074,2,    25.00,   4.4181,20110203,1123
  29AH20110128,   A05,    30,  1,      9,2,20110203,1020, 24.6610, -22.9763, 5025,   1499.1,   5.4164,  35.1785,2,    198.9,2,    198.4,2,    22.44,2,    21.10,2,     1.39,2,   2333.8,2,   7.7034,2,    25.00,   5.2799,20110203,1128
  29AH20110128,   A05,    30,  1,     10,2,20110203,1020, 24.6610, -22.9763, 5025,   1299.9,   6.3486,  35.2503,2,    182.6,2,    182.3,2,    20.31,2,    21.62,2,     1.48,2,   2337.2,2,   7.6939,2,    25.00,   6.2230,20110203,1132
  29AH20110128,   A05,    30,  1,     11,2,20110203,1020, 24.6610, -22.9763, 5025,   1200.3,   6.7797,  35.2684,2,    173.2,2,    171.2,2,    19.83,2,    22.22,2,     1.54,2,   2337.2,2,   7.6856,2,    25.00,   6.6606,20110203,1134
  29AH20110128,   A05,    30,  1,     12,2,20110203,1020, 24.6610, -22.9763, 5025,   1100.1,   6.9441,  35.2024,2,    159.0,2,    157.3,2,    20.54,2,    23.98,2,     1.70,2,   -999.0,9,   7.6609,2,    25.00,   6.8345,20110203,1136
  29AH20110128,   A05,    30,  1,     13,2,20110203,1020, 24.6610, -22.9763, 5025,    998.4,   7.4304,  35.1927,2,    144.5,2,    143.5,2,    20.23,2,    24.87,2,     1.84,2,   2331.6,2,   7.6462,2,    25.00,   7.3280,20110203,1138
  29AH20110128,   A05,    30,  1,     14,2,20110203,1020, 24.6610, -22.9763, 5025,    902.5,   7.9632,  35.1960,2,    132.0,2,    130.8,2,    19.61,2,    25.56,2,     1.91,2,   -999.0,9,   7.6340,2,    25.00,   7.8677,20110203,1141
  29AH20110128,   A05,    30,  1,     15,2,20110203,1020, 24.6610, -22.9763, 5025,    801.1,   8.5293,  35.2025,2,    118.9,2,    118.3,2,    18.58,2,    26.28,2,     1.90,2,   2326.1,2,   7.6211,2,    25.00,   8.4417,20110203,1143
  29AH20110128,   A05,    30,  1,     16,2,20110203,1020, 24.6610, -22.9763, 5025,    601.5,  10.7872,  35.4477,2,    115.6,2,    115.0,2,    12.98,2,    23.14,2,     1.49,2,   2331.5,2,   7.6576,2,    25.00,  10.7122,20110203,1147
  29AH20110128,   A05,    30,  1,     17,2,20110203,1020, 24.6610, -22.9763, 5025,    399.5,  13.8086,  35.8970,2,    180.0,2,    181.7,2,     5.90,2,    11.44,2,  -999.00,9,   2352.2,2,   7.8213,2,    25.00,  13.7505,20110203,1151
  29AH20110128,   A05,    30,  1,     18,2,20110203,1020, 24.6610, -22.9763, 5025,    299.6,  15.4286,  36.1662,2,    184.2,2,    184.3,2,     4.39,2,     8.41,2,     0.47,2,   2369.6,2,   7.8673,2,    25.00,  15.3818,20110203,1153
  29AH20110128,   A05,    30,  1,     19,2,20110203,1020, 24.6610, -22.9763, 5025,    150.3,  17.9129,  36.5294,2,    165.7,2,    164.6,2,     3.67,2,     7.24,2,     0.49,2,   2389.8,2,   7.8822,2,    25.00,  17.8869,20110203,1156
  29AH20110128,   A05,    30,  1,     20,2,20110203,1020, 24.6610, -22.9763, 5025,    124.1,  18.9760,  36.6876,2,    193.7,2,    193.7,2,     2.43,2,     1.94,2,     0.17,2,   -999.0,9,   7.9499,2,    25.00,  18.9537,20110203,1157
  29AH20110128,   A05,    30,  1,     21,2,20110203,1020, 24.6610, -22.9763, 5025,     75.7,  21.5243,  37.1363,2,    216.2,2,    216.2,2,     1.92,2,     0.01,2,     0.12,2,   2439.0,2,   8.0228,2,    25.00,  21.5094,20110203,1158
  29AH20110128,   A05,    30,  1,     22,2,20110203,1020, 24.6610, -22.9763, 5025,     50.4,  21.7840,  37.0565,2,    216.2,2,    216.4,2,     1.91,2,     0.06,2,     0.08,2,   -999.0,9,   8.0216,2,    25.00,  21.7740,20110203,1159
  29AH20110128,   A05,    30,  1,     23,2,20110203,1020, 24.6610, -22.9763, 5025,     25.1,  21.7829,  37.0558,2,    216.5,2,    216.3,2,     1.96,2,     0.00,2,     0.15,2,   -999.0,9,   8.0204,2,    25.00,  21.7779,20110203,1200
  29AH20110128,   A05,    30,  1,     24,2,20110203,1020, 24.6610, -22.9763, 5025,      4.9,  21.7837,  37.0562,2,    217.4,2,    215.8,2,     1.94,2,     0.03,2,     0.14,2,   2426.9,2,   8.0217,2,    25.00,  21.7827,20110203,1200
  29AH20110128,   A05,    31,  1,      1,2,20110203,1742, 24.4987, -23.4848, 5106,   5095.7,   2.4340,  34.8875,2,    245.8,2,    244.5,2,    48.56,2,    20.90,2,     1.58,2,   -999.0,9,   7.7259,2,    25.00,   1.9546,20110203,1742
  29AH20110128,   A05,    31,  1,      2,2,20110203,1742, 24.4987, -23.4848, 5106,   5001.8,   2.4212,  34.8877,2,    245.1,2,    246.1,2,    48.73,2,    20.78,2,     1.58,2,   -999.0,9,   7.7266,2,    25.00,   1.9542,20110203,1745
  29AH20110128,   A05,    31,  1,      3,2,20110203,1742, 24.4987, -23.4848, 5106,   4500.7,   2.3714,  34.8895,2,    245.7,2,    246.2,2,    49.04,2,    20.77,2,     1.54,2,   -999.0,9,   7.7274,2,    25.00,   1.9679,20110203,1755
  29AH20110128,   A05,    31,  1,      4,2,20110203,1742, 24.4987, -23.4848, 5106,   3999.5,   2.4017,  34.8985,2,    246.1,2,    247.2,2,    46.46,2,    20.65,2,     1.49,2,   -999.0,9,   7.7253,2,    25.00,   2.0562,20110203,1805
  29AH20110128,   A05,    31,  1,      5,2,20110203,1742, 24.4987, -23.4848, 5106,   3499.6,   2.5307,  34.9163,2,    245.0,2,    244.7,2,    43.13,2,    20.28,2,     1.42,2,   -999.0,9,   7.7276,2,    25.00,   2.2375,20110203,1814
  29AH20110128,   A05,    31,  1,      6,2,20110203,1742, 24.4987, -23.4848, 5106,   3001.5,   2.7831,  34.9428,2,    246.1,2,    246.3,2,    34.58,2,    19.42,2,     1.38,2,   -999.0,9,   7.7298,2,    25.00,   2.5368,20110203,1824
  29AH20110128,   A05,    31,  1,      7,2,20110203,1742, 24.4987, -23.4848, 5106,   2499.2,   3.3099,  34.9899,2,    236.1,2,    237.0,2,    31.07,2,    19.62,2,     1.42,2,   -999.0,9,   7.7240,2,    25.00,   3.1041,20110203,1833
  29AH20110128,   A05,    31,  1,      8,2,20110203,1742, 24.4987, -23.4848, 5106,   1999.0,   4.0032,  35.0547,2,    222.8,2,    225.1,2,    27.88,2,    20.12,2,     1.41,2,   -999.0,9,   7.7157,2,    25.00,   3.8354,20110203,1843
  29AH20110128,   A05,    31,  1,      9,2,20110203,1742, 24.4987, -23.4848, 5106,   1749.9,   4.6027,  35.1114,2,    212.7,2,    213.5,2,    25.38,2,    20.57,2,     1.37,2,   -999.0,9,   7.7086,2,    25.00,   4.4510,20110203,1848
  29AH20110128,   A05,    31,  1,     10,2,20110203,1742, 24.4987, -23.4848, 5106,   1499.7,   5.5577,  35.2077,2,    199.2,2,    199.4,2,    22.44,2,    20.75,2,     1.38,2,   -999.0,9,   7.7067,2,    25.00,   5.4195,20110203,1853
  29AH20110128,   A05,    31,  1,     11,2,20110203,1742, 24.4987, -23.4848, 5106,   1299.3,   6.2193,  35.2326,2,    182.3,2,    183.5,2,    20.84,2,    21.84,2,     1.53,2,   -999.0,9,   7.6911,2,    25.00,   6.0950,20110203,1857
  29AH20110128,   A05,    31,  1,     12,2,20110203,1742, 24.4987, -23.4848, 5106,   1199.7,   6.5388,  35.2260,2,    172.3,2,    172.6,2,    21.01,2,    22.70,2,     1.61,2,   -999.0,9,   7.6799,2,    25.00,   6.4220,20110203,1859
  29AH20110128,   A05,    31,  1,     13,2,20110203,1742, 24.4987, -23.4848, 5106,   1000.5,   7.5222,  35.2412,2,    149.8,2,    149.3,2,    19.60,2,    24.22,2,     1.71,2,   -999.0,9,   7.6591,2,    25.00,   7.4189,20110203,1903
  29AH20110128,   A05,    31,  1,     14,2,20110203,1742, 24.4987, -23.4848, 5106,    899.7,   8.0504,  35.2501,2,    139.7,2,    140.5,2,    18.71,2,    24.78,2,     1.71,2,   -999.0,9,   7.6504,2,    25.00,   7.9546,20110203,1905
  29AH20110128,   A05,    31,  1,     15,2,20110203,1742, 24.4987, -23.4848, 5106,    800.4,   8.6598,  35.2630,2,    128.9,2,    129.0,2,    17.91,2,    25.21,2,     1.66,2,   -999.0,9,   7.6421,2,    25.00,   8.5715,20110203,1907
  29AH20110128,   A05,    31,  1,     16,2,20110203,1742, 24.4987, -23.4848, 5106,    599.8,  10.6924,  35.4513,2,    123.9,2,    124.3,2,    13.03,2,    22.49,2,     1.39,2,   -999.0,9,   7.6688,2,    25.00,  10.6180,20110203,1911
  29AH20110128,   A05,    31,  1,     17,2,20110203,1742, 24.4987, -23.4848, 5106,    401.0,  13.4934,  35.8236,2,    150.0,2,    149.6,2,     7.27,2,    15.28,2,     0.83,2,   -999.0,9,   7.7675,2,    25.00,  13.4360,20110203,1915
  29AH20110128,   A05,    31,  1,     18,2,20110203,1742, 24.4987, -23.4848, 5106,    299.5,  15.0641,  36.0297,2,    125.3,2,    125.6,2,     6.81,2,  -999.00,9,     0.83,2,   -999.0,9,   7.8310,2,    25.00,  15.0181,20110203,1917
  29AH20110128,   A05,    31,  1,     19,2,20110203,1742, 24.4987, -23.4848, 5106,    150.2,  18.9346,  36.6626,2,    177.4,2,    177.4,2,     2.87,2,     4.33,2,     0.31,2,   -999.0,9,   7.9245,2,    25.00,  18.9076,20110203,1920
  29AH20110128,   A05,    31,  1,     20,2,20110203,1742, 24.4987, -23.4848, 5106,    125.8,  20.5815,  36.8865,2,    189.1,2,    189.1,2,     2.35,2,     2.37,2,     0.24,2,   -999.0,9,   7.9596,2,    25.00,  20.5575,20110203,1921
  29AH20110128,   A05,    31,  1,     21,2,20110203,1742, 24.4987, -23.4848, 5106,     76.1,  21.6881,  37.0907,2,    212.4,2,    214.0,2,     1.81,2,     0.16,2,     0.09,2,   -999.0,9,   8.0165,2,    25.00,  21.6731,20110203,1922
  29AH20110128,   A05,    31,  1,     22,2,20110203,1742, 24.4987, -23.4848, 5106,     50.1,  21.7662,  37.0964,2,    215.3,2,    217.9,2,     1.80,2,     0.00,2,     0.11,2,   -999.0,9,   8.0197,2,    25.00,  21.7563,20110203,1923
  29AH20110128,   A05,    31,  1,     23,2,20110203,1742, 24.4987, -23.4848, 5106,     25.9,  21.7608,  37.0968,2,    215.3,2,    216.0,2,     1.81,2,     0.00,2,     0.09,2,   -999.0,9,   8.0211,2,    25.00,  21.7557,20110203,1925
  29AH20110128,   A05,    31,  1,     24,2,20110203,1742, 24.4987, -23.4848, 5106,      4.8,  21.7566,  37.0963,2,    215.6,2,    216.1,2,     1.83,2,     0.01,2,     0.09,2,   -999.0,9,   8.0198,2,    25.00,  21.7556,20110203,1925