BOTTLE,20220930CCHSIOAMB
EXPOCODE,SECT_ID,STNNBR,CASTNO,BTLNBR,BTLNBR_FLAG_W,DATE,TIME,LATITUDE,LONGITUDE,DEPTH,CTDPRS,CTDTMP,CTDSAL,CTDSAL_FLAG_W,CTDOXY,CTDOXY_FLAG_W,OXYGEN,OXYGEN_FLAG_W,SILCAT,SILCAT_FLAG_W,NITRAT,NITRAT_FLAG_W,PHSPHT,PHSPHT_FLAG_W,ALKALI,ALKALI_FLAG_W,PH_SWS,PH_SWS_FLAG_W,PH_TMP,THETA,BTL_DATE,BTL_TIME
,,,,,,,,,,METERS,DBAR,ITS-90,PSS-78,,UMOL/KG,,UMOL/KG,,UMOL/KG,,UMOL/KG,,UMOL/KG,,UMOL/KG,,,,DEG C,DEG C,,
  29AH20110128,   A05,    62,  1,      1,2,20110214,2018, 24.5012, -40.3388, 4909,   4899.0,   2.4054,  34.8869,2,    247.0,2,    247.3,2,    46.62,2,    20.80,2,     1.53,2,   -999.0,9,   7.7225,2,    25.00,   1.9519,20110214,2018
  29AH20110128,   A05,    62,  1,      2,2,20110214,2018, 24.5012, -40.3388, 4909,   4498.6,   2.3878,  34.8906,2,    246.8,2,    246.5,2,  -999.00,9,  -999.00,9,  -999.00,9,   -999.0,9,   7.7236,2,    25.00,   1.9841,20110214,2025
  29AH20110128,   A05,    62,  1,      3,2,20110214,2018, 24.5012, -40.3388, 4909,   3999.1,   2.4365,  34.9013,2,    246.3,2,    245.6,2,    44.00,2,    20.58,2,     1.48,2,   -999.0,9,   7.7251,2,    25.00,   2.0901,20110214,2035
  29AH20110128,   A05,    62,  1,      4,2,20110214,2018, 24.5012, -40.3388, 4909,   3500.9,   2.5376,  34.9159,2,    244.6,2,    243.6,2,    40.46,2,    20.50,2,     1.47,2,   -999.0,9,   7.7281,2,    25.00,   2.2441,20110214,2044
  29AH20110128,   A05,    62,  1,      5,2,20110214,2018, 24.5012, -40.3388, 4909,   3002.3,   2.7843,  34.9408,2,    242.9,2,    243.0,2,    33.52,2,    20.09,2,     1.41,2,   -999.0,9,   7.7297,2,    25.00,   2.5379,20110214,2054
  29AH20110128,   A05,    62,  1,      6,2,20110214,2018, 24.5012, -40.3388, 4909,   2500.9,   3.1667,  34.9717,2,    242.9,2,    243.6,2,    27.22,2,    19.50,2,     1.37,2,   -999.0,9,   7.7294,2,    25.00,   2.9635,20110214,2104
  29AH20110128,   A05,    62,  1,      7,2,20110214,2018, 24.5012, -40.3388, 4909,   2000.5,   3.7911,  35.0155,2,    239.6,2,    240.6,2,    23.89,2,    19.16,2,     1.32,2,   -999.0,9,   7.7281,2,    25.00,   3.6264,20110214,2114
  29AH20110128,   A05,    62,  1,      8,2,20110214,2018, 24.5012, -40.3388, 4909,   1751.5,   4.2703,  35.0480,2,    233.9,2,    234.2,2,    20.92,2,    19.21,2,     1.30,2,   -999.0,9,   7.7237,2,    25.00,   4.1230,20110214,2119
  29AH20110128,   A05,    62,  1,      9,2,20110214,2018, 24.5012, -40.3388, 4909,   1501.1,   4.7858,  35.0694,2,    221.6,2,    222.4,2,    19.43,2,    19.96,2,     1.35,2,   -999.0,9,   7.7128,2,    25.00,   4.6564,20110214,2124
  29AH20110128,   A05,    62,  1,     10,2,20110214,2018, 24.5012, -40.3388, 4909,   1298.7,   5.5938,  35.1101,2,    201.9,2,    201.9,2,    19.01,2,    21.05,2,     1.46,2,   -999.0,9,   7.6984,2,    25.00,   5.4758,20110214,2128
  29AH20110128,   A05,    62,  1,     11,2,20110214,2018, 24.5012, -40.3388, 4909,   1200.9,   5.8079,  35.0903,2,    192.8,2,    192.8,2,    19.29,2,    21.88,2,     1.53,2,   -999.0,9,   7.6860,2,    25.00,   5.6977,20110214,2130
  29AH20110128,   A05,    62,  1,     12,2,20110214,2018, 24.5012, -40.3388, 4909,   1100.3,   6.1779,  35.0885,2,    181.5,2,    181.3,2,    19.22,2,    22.75,2,     1.59,2,   -999.0,9,   7.6771,2,    25.00,   6.0747,20110214,2132
  29AH20110128,   A05,    62,  1,     13,2,20110214,2018, 24.5012, -40.3388, 4909,   1000.3,   6.9564,  35.1394,2,    168.4,2,    168.4,2,    18.87,2,    23.30,2,     1.59,2,   -999.0,9,   7.6686,2,    25.00,   6.8574,20110214,2134
  29AH20110128,   A05,    62,  1,     14,2,20110214,2018, 24.5012, -40.3388, 4909,    900.2,   7.8976,  35.2136,2,    159.1,2,    158.8,2,    17.23,2,    22.75,2,     1.54,2,   -999.0,9,   7.6799,2,    25.00,   7.8028,20110214,2136
  29AH20110128,   A05,    62,  1,     15,2,20110214,2018, 24.5012, -40.3388, 4909,    800.3,   9.0784,  35.3193,2,    155.4,2,    155.4,2,    14.97,2,    21.42,2,     1.39,2,   -999.0,9,   7.6955,2,    25.00,   8.9876,20110214,2138
  29AH20110128,   A05,    62,  1,     16,2,20110214,2018, 24.5012, -40.3388, 4909,    599.8,  11.7427,  35.5975,2,    166.6,2,    166.9,2,     8.59,2,    16.28,2,     0.89,2,   -999.0,9,   7.7652,2,    25.00,  11.6637,20110214,2142
  29AH20110128,   A05,    62,  1,     17,2,20110214,2018, 24.5012, -40.3388, 4909,    400.4,  14.7398,  36.0113,2,    182.4,2,    182.2,2,     4.63,2,     9.93,2,  -999.00,9,   -999.0,9,   7.8539,2,    25.00,  14.6790,20110214,2146
  29AH20110128,   A05,    62,  1,     18,2,20110214,2018, 24.5012, -40.3388, 4909,    299.4,  16.5522,  36.3080,2,    190.8,2,    190.5,2,     2.93,2,     6.60,2,     0.31,2,   -999.0,9,   7.9094,2,    25.00,  16.5031,20110214,2148
  29AH20110128,   A05,    62,  1,     19,2,20110214,2018, 24.5012, -40.3388, 4909,    149.5,  19.3806,  36.7850,2,    194.7,2,    193.8,2,     1.30,2,     1.38,2,     0.08,2,   -999.0,9,   7.9632,2,    25.00,  19.3533,20110214,2151
  29AH20110128,   A05,    62,  1,     20,2,20110214,2018, 24.5012, -40.3388, 4909,    125.5,  20.3955,  36.9618,2,    189.2,2,    189.5,2,     1.30,2,     1.16,2,     0.11,2,   -999.0,9,   7.9746,2,    25.00,  20.3717,20110214,2151
  29AH20110128,   A05,    62,  1,     21,2,20110214,2018, 24.5012, -40.3388, 4909,     74.7,  22.9164,  37.4400,2,    212.3,2,    211.8,2,     1.15,2,     0.00,2,     0.08,2,   -999.0,9,   8.0597,2,    25.00,  22.9010,20110214,2152
  29AH20110128,   A05,    62,  1,     22,2,20110214,2018, 24.5012, -40.3388, 4909,     51.5,  23.4929,  37.5108,2,    210.7,2,    210.1,2,     1.15,2,     0.00,2,     0.08,2,   -999.0,9,   8.0639,2,    25.00,  23.4821,20110214,2153
  29AH20110128,   A05,    62,  1,     23,2,20110214,2018, 24.5012, -40.3388, 4909,     25.0,  23.6561,  37.5277,2,    208.9,2,    208.4,2,     1.15,2,     0.00,2,     0.08,2,   -999.0,9,   8.0655,2,    25.00,  23.6508,20110214,2154
  29AH20110128,   A05,    62,  1,     24,2,20110214,2018, 24.5012, -40.3388, 4909,      5.4,  23.6485,  37.5281,2,    209.4,2,    209.1,2,     1.15,2,     0.00,2,     0.08,2,   -999.0,9,   8.0689,2,    25.00,  23.6474,20110214,2155
  29AH20110128,   A05,    63,  1,      1,2,20110215,0235, 24.5012, -40.8013, 4691,   4681.3,   2.4004,  34.8890,2,    247.2,2,    247.0,2,  -999.00,9,    20.87,2,     1.48,2,   2350.0,2,   7.7230,2,    25.00,   1.9741,20110215,0235
  29AH20110128,   A05,    63,  1,      2,2,20110215,0235, 24.5012, -40.8013, 4691,   4500.8,   2.3953,  34.8909,2,    246.4,2,    246.7,2,  -999.00,9,  -999.00,9,  -999.00,9,   -999.0,9,   7.7234,2,    25.00,   1.9911,20110215,0239
  29AH20110128,   A05,    63,  1,      3,2,20110215,0235, 24.5012, -40.8013, 4691,   4000.5,   2.4141,  34.8988,2,    246.4,2,    245.9,2,  -999.00,9,    20.17,2,     1.50,2,   2347.7,2,   7.7246,2,    25.00,   2.0681,20110215,0248
  29AH20110128,   A05,    63,  1,      4,2,20110215,0235, 24.5012, -40.8013, 4691,   3501.0,   2.5579,  34.9175,2,    245.0,2,    244.1,2,    38.97,2,    20.08,2,     1.41,2,   2347.3,2,   7.7284,2,    25.00,   2.2638,20110215,0258
  29AH20110128,   A05,    63,  1,      5,2,20110215,0235, 24.5012, -40.8013, 4691,   3000.0,   2.8453,  34.9455,2,    243.6,2,    243.2,2,    35.04,2,    19.12,2,     1.43,2,   2342.3,2,   7.7321,2,    25.00,   2.5978,20110215,0308
  29AH20110128,   A05,    63,  1,      6,2,20110215,0235, 24.5012, -40.8013, 4691,   2499.6,   3.2040,  34.9737,2,    243.8,2,    244.1,2,    28.97,2,    19.29,2,     1.37,2,   2333.0,2,   7.7312,2,    25.00,   3.0002,20110215,0318
  29AH20110128,   A05,    63,  1,      7,2,20110215,0235, 24.5012, -40.8013, 4691,   2002.2,   3.7793,  35.0155,2,    239.8,2,    238.1,2,    23.26,2,    19.12,2,     1.27,2,   2326.2,2,   7.7276,2,    25.00,   3.6147,20110215,0328
  29AH20110128,   A05,    63,  1,      8,2,20110215,0235, 24.5012, -40.8013, 4691,   1751.0,   4.2890,  35.0509,2,    233.7,2,    234.2,2,    20.40,2,    19.21,2,     1.27,2,   2324.4,2,   7.7173,2,    25.00,   4.1415,20110215,0333
  29AH20110128,   A05,    63,  1,      9,2,20110215,0235, 24.5012, -40.8013, 4691,   1500.8,   4.9856,  35.0840,2,    218.5,2,    218.1,2,  -999.00,9,  -999.00,9,  -999.00,9,   -999.0,9,   7.7026,2,    25.00,   4.8540,20110215,0338
  29AH20110128,   A05,    63,  1,     10,2,20110215,0235, 24.5012, -40.8013, 4691,   1302.6,   5.4812,  35.0813,2,    201.4,2,    201.3,2,    19.05,2,    20.74,2,     1.46,2,   2323.3,2,   7.6909,2,    25.00,   5.3640,20110215,0342
  29AH20110128,   A05,    63,  1,     11,2,20110215,0235, 24.5012, -40.8013, 4691,   1201.2,   5.8367,  35.0948,2,    191.5,2,    191.3,2,    19.76,2,    22.08,2,     1.58,2,   2322.9,2,   7.6877,2,    25.00,   5.7262,20110215,0344
  29AH20110128,   A05,    63,  1,     12,2,20110215,0235, 24.5012, -40.8013, 4691,   1098.6,   6.1889,  35.0902,2,    178.2,2,    177.2,2,    19.62,2,    23.45,2,     1.59,2,   -999.0,9,   7.6734,2,    25.00,   6.0858,20110215,0346
  29AH20110128,   A05,    63,  1,     13,2,20110215,0235, 24.5012, -40.8013, 4691,   1001.2,   6.8543,  35.1191,2,    164.5,2,    163.3,2,    19.47,2,    24.28,2,     1.66,2,   2324.4,2,   7.6633,2,    25.00,   6.7560,20110215,0348
  29AH20110128,   A05,    63,  1,     14,2,20110215,0235, 24.5012, -40.8013, 4691,    900.0,   7.6473,  35.1712,2,    153.3,2,    154.3,2,    18.48,2,    23.87,2,     1.61,2,   -999.0,9,   7.6658,2,    25.00,   7.5542,20110215,0350
  29AH20110128,   A05,    63,  1,     15,2,20110215,0235, 24.5012, -40.8013, 4691,    801.0,   8.9549,  35.2988,2,    152.6,2,    152.0,2,    15.19,2,    21.79,2,     1.41,2,   2329.0,2,   7.6887,2,    25.00,   8.8648,20110215,0352
  29AH20110128,   A05,    63,  1,     16,2,20110215,0235, 24.5012, -40.8013, 4691,    600.9,  11.8797,  35.6137,2,    167.7,2,    167.9,2,     8.26,2,    15.92,2,  -999.00,9,   2339.1,2,   7.7707,2,    25.00,  11.8000,20110215,0356
  29AH20110128,   A05,    63,  1,     17,2,20110215,0235, 24.5012, -40.8013, 4691,    400.1,  15.1654,  36.0734,2,    186.9,2,    187.5,2,     3.98,2,     8.56,2,  -999.00,9,   2365.0,2,   7.8747,2,    25.00,  15.1034,20110215,0400
  29AH20110128,   A05,    63,  1,     18,2,20110215,0235, 24.5012, -40.8013, 4691,    300.6,  16.6591,  36.3266,2,    194.1,2,    195.1,2,     2.69,2,     5.76,2,     0.26,2,   2380.1,2,   7.9177,2,    25.00,  16.6096,20110215,0402
  29AH20110128,   A05,    63,  1,     19,2,20110215,0235, 24.5012, -40.8013, 4691,    151.2,  19.8684,  36.8575,2,    197.2,2,    197.7,2,     1.13,2,     0.98,2,     0.07,2,   2411.1,2,   7.9786,2,    25.00,  19.8403,20110215,0405
  29AH20110128,   A05,    63,  1,     20,2,20110215,0235, 24.5012, -40.8013, 4691,    125.0,  21.4077,  37.1442,2,    205.1,2,    205.3,2,     0.98,2,     0.15,2,     0.06,2,   -999.0,9,   8.0333,2,    25.00,  21.3832,20110215,0406
  29AH20110128,   A05,    63,  1,     21,2,20110215,0235, 24.5012, -40.8013, 4691,     75.0,  22.9563,  37.4859,2,    212.5,2,    212.6,2,     0.98,2,     0.07,2,     0.05,2,   2450.9,2,   8.0587,2,    25.00,  22.9408,20110215,0407
  29AH20110128,   A05,    63,  1,     22,2,20110215,0235, 24.5012, -40.8013, 4691,     50.1,  22.9875,  37.4941,2,    212.3,2,    212.2,2,  -999.00,9,  -999.00,9,  -999.00,9,   -999.0,9,   8.0604,2,    25.00,  22.9772,20110215,0408
  29AH20110128,   A05,    63,  1,     23,2,20110215,0235, 24.5012, -40.8013, 4691,     24.8,  22.9855,  37.4963,2,    212.3,2,    212.1,2,     0.98,2,     0.07,2,     0.06,2,   -999.0,9,   8.0621,2,    25.00,  22.9804,20110215,0409
  29AH20110128,   A05,    63,  1,     24,2,20110215,0235, 24.5012, -40.8013, 4691,      5.4,  22.9700,  37.4945,2,    212.5,2,    215.3,2,     0.98,2,     0.07,2,     0.04,2,   2453.3,2,   8.0666,2,    25.00,  22.9689,20110215,0409
  29AH20110128,   A05,    64,  1,      1,2,20110215,0857, 24.4998, -41.2633, 4608,   4551.9,   2.3904,  34.8893,2,    247.6,2,    247.5,2,    44.85,2,    20.69,2,     1.46,2,   -999.0,9,   7.7223,2,    25.00,   1.9802,20110215,0857
  29AH20110128,   A05,    64,  1,      2,2,20110215,0857, 24.4998, -41.2633, 4608,   4500.4,   2.3855,  34.8894,2,    247.1,2,    247.2,2,  -999.00,9,  -999.00,9,  -999.00,9,   -999.0,9,   7.7224,2,    25.00,   1.9817,20110215,0859
  29AH20110128,   A05,    64,  1,      3,2,20110215,0857, 24.4998, -41.2633, 4608,   3999.9,   2.4318,  34.8998,2,    246.9,2,    246.5,2,    42.63,2,    20.49,2,     1.47,2,   -999.0,9,   7.7234,2,    25.00,   2.0854,20110215,0908
  29AH20110128,   A05,    64,  1,      4,2,20110215,0857, 24.4998, -41.2633, 4608,   3498.8,   2.5711,  34.9183,2,    245.3,2,    244.7,2,    45.70,4,    20.30,2,     1.47,2,   -999.0,9,   7.7280,2,    25.00,   2.2770,20110215,0918
  29AH20110128,   A05,    64,  1,      5,2,20110215,0857, 24.4998, -41.2633, 4608,   2998.6,   2.8064,  34.9421,2,    243.9,2,    242.9,2,    34.87,2,    19.82,2,     1.39,2,   -999.0,9,   7.7295,2,    25.00,   2.5599,20110215,0928
  29AH20110128,   A05,    64,  1,      6,2,20110215,0857, 24.4998, -41.2633, 4608,   2500.0,   3.1750,  34.9721,2,    243.3,2,    243.7,2,  -999.00,9,  -999.00,9,  -999.00,9,   -999.0,9,   7.7297,2,    25.00,   2.9717,20110215,0937
  29AH20110128,   A05,    64,  1,      7,2,20110215,0857, 24.4998, -41.2633, 4608,   1999.9,   3.8034,  35.0175,2,    239.8,2,    240.1,2,    23.21,2,    19.03,2,     1.29,2,   -999.0,9,   7.7299,2,    25.00,   3.6386,20110215,0947
  29AH20110128,   A05,    64,  1,      8,2,20110215,0857, 24.4998, -41.2633, 4608,   1750.4,   4.2282,  35.0442,2,    234.6,2,    236.0,2,    20.14,2,    19.03,2,     1.36,2,   -999.0,9,   7.7264,2,    25.00,   4.0815,20110215,0952
  29AH20110128,   A05,    64,  1,      9,2,20110215,0857, 24.4998, -41.2633, 4608,   1500.1,   5.0314,  35.0916,2,    219.9,2,    220.4,2,    17.90,2,    19.70,2,     1.36,2,   -999.0,9,   7.7157,2,    25.00,   4.8993,20110215,0957
  29AH20110128,   A05,    64,  1,     10,2,20110215,0857, 24.4998, -41.2633, 4608,   1299.8,   5.5255,  35.0828,2,    202.0,2,    201.9,2,    18.19,2,    21.09,2,     1.44,2,   -999.0,9,   7.6942,2,    25.00,   5.4081,20110215,1001
  29AH20110128,   A05,    64,  1,     11,2,20110215,0857, 24.4998, -41.2633, 4608,   1200.8,   6.0048,  35.0943,2,    186.5,2,    186.3,2,    18.67,2,    22.28,2,     1.59,2,   -999.0,9,   7.6789,2,    25.00,   5.8929,20110215,1003
  29AH20110128,   A05,    64,  1,     12,2,20110215,0857, 24.4998, -41.2633, 4608,   1000.5,   7.1438,  35.1363,2,    159.2,2,    158.8,2,    18.67,2,    23.87,2,     1.73,2,   -999.0,9,   7.6631,2,    25.00,   7.0434,20110215,1007
  29AH20110128,   A05,    64,  1,     13,2,20110215,0857, 24.4998, -41.2633, 4608,    899.4,   8.0290,  35.1903,2,    149.3,2,    149.5,2,    16.93,2,    23.67,2,     1.61,2,   -999.0,9,   7.6664,2,    25.00,   7.9334,20110215,1009
  29AH20110128,   A05,    64,  1,     14,2,20110215,0857, 24.4998, -41.2633, 4608,    800.5,   9.2269,  35.3055,2,    150.7,2,    150.8,2,    14.07,2,    21.60,2,     1.38,2,   -999.0,9,   7.6958,2,    25.00,   9.1353,20110215,1011
  29AH20110128,   A05,    64,  1,     15,2,20110215,0857, 24.4998, -41.2633, 4608,    599.8,  12.1950,  35.6496,2,    166.6,2,    167.8,2,     7.29,2,    15.54,2,     0.83,2,   -999.0,9,   7.7774,2,    25.00,  12.1141,20110215,1015
  29AH20110128,   A05,    64,  1,     16,2,20110215,0857, 24.4998, -41.2633, 4608,    401.8,  15.4630,  36.1223,2,    185.8,2,    186.0,2,     3.45,2,     8.98,2,  -999.00,9,   -999.0,9,   7.8776,2,    25.00,  15.3999,20110215,1019
  29AH20110128,   A05,    64,  1,     17,2,20110215,0857, 24.4998, -41.2633, 4608,    300.7,  16.9085,  36.3684,2,    191.8,2,    192.2,2,     2.26,2,     6.20,2,     0.29,2,   -999.0,9,   7.9207,2,    25.00,  16.8584,20110215,1022
  29AH20110128,   A05,    64,  1,     18,2,20110215,0857, 24.4998, -41.2633, 4608,    156.5,  19.5473,  36.7935,2,    198.7,2,    199.2,2,     1.01,2,     1.05,2,     0.07,2,   -999.0,9,   7.9801,2,    25.00,  19.5185,20110215,1025
  29AH20110128,   A05,    64,  1,     19,2,20110215,0857, 24.4998, -41.2633, 4608,    125.4,  22.2147,  37.3332,2,    213.7,2,    213.7,2,     0.87,2,     0.10,2,     0.07,2,   -999.0,9,   8.0512,2,    25.00,  22.1895,20110215,1025
  29AH20110128,   A05,    64,  1,     20,2,20110215,0857, 24.4998, -41.2633, 4608,    101.0,  22.4599,  37.3979,2,    213.9,2,    215.3,2,     0.87,2,     0.10,2,     0.07,2,   -999.0,9,   8.0555,2,    25.00,  22.4394,20110215,1026
  29AH20110128,   A05,    64,  1,     21,2,20110215,0857, 24.4998, -41.2633, 4608,     75.3,  22.4726,  37.4019,2,    214.1,2,    214.0,2,     0.87,2,     0.10,2,     0.07,2,   -999.0,9,   8.0573,2,    25.00,  22.4573,20110215,1027
  29AH20110128,   A05,    64,  1,     22,2,20110215,0857, 24.4998, -41.2633, 4608,     54.5,  22.4784,  37.4046,2,    214.0,2,    214.4,2,     0.87,2,     0.10,2,     0.07,2,   -999.0,9,   8.0582,2,    25.00,  22.4673,20110215,1028
  29AH20110128,   A05,    64,  1,     23,2,20110215,0857, 24.4998, -41.2633, 4608,     24.6,  22.4741,  37.4055,2,    214.0,2,    214.3,2,     0.87,2,     0.10,2,     0.07,2,   -999.0,9,   8.0561,2,    25.00,  22.4691,20110215,1028
  29AH20110128,   A05,    64,  1,     24,2,20110215,0857, 24.4998, -41.2633, 4608,      5.3,  22.4692,  37.4057,2,    214.3,2,    214.7,2,     0.87,2,     0.10,2,     0.07,2,   -999.0,9,   8.0589,2,    25.00,  22.4681,20110215,1029