BOTTLE,20220930CCHSIOAMB
EXPOCODE,SECT_ID,STNNBR,CASTNO,BTLNBR,BTLNBR_FLAG_W,DATE,TIME,LATITUDE,LONGITUDE,DEPTH,CTDPRS,CTDTMP,CTDSAL,CTDSAL_FLAG_W,CTDOXY,CTDOXY_FLAG_W,OXYGEN,OXYGEN_FLAG_W,SILCAT,SILCAT_FLAG_W,NITRAT,NITRAT_FLAG_W,PHSPHT,PHSPHT_FLAG_W,ALKALI,ALKALI_FLAG_W,PH_SWS,PH_SWS_FLAG_W,PH_TMP,THETA,BTL_DATE,BTL_TIME
,,,,,,,,,,METERS,DBAR,ITS-90,PSS-78,,UMOL/KG,,UMOL/KG,,UMOL/KG,,UMOL/KG,,UMOL/KG,,UMOL/KG,,,,DEG C,DEG C,,
  29AH20110128,   A05,    32,  1,      1,2,20110204,0050, 24.5050, -24.0977, 5212,   5202.5,   2.4426,  34.8869,2,    245.0,2,    243.9,2,    47.86,2,    20.65,2,     1.55,2,   2358.1,2,   7.7270,2,    25.00,   1.9492,20110204,0050
  29AH20110128,   A05,    32,  1,      2,2,20110204,0050, 24.5050, -24.0977, 5212,   5000.6,   2.4157,  34.8870,2,    245.1,2,    244.6,2,    47.44,2,    20.75,2,     1.51,2,   2352.7,2,   7.7258,2,    25.00,   1.9490,20110204,0054
  29AH20110128,   A05,    32,  1,      3,2,20110204,0050, 24.5050, -24.0977, 5212,   4498.8,   2.3690,  34.8894,2,    246.0,2,    245.1,2,    46.72,2,    20.53,2,     1.52,2,   2353.2,2,   7.7275,2,    25.00,   1.9658,20110204,0104
  29AH20110128,   A05,    32,  1,      4,2,20110204,0050, 24.5050, -24.0977, 5212,   3999.9,   2.4039,  34.8987,2,    246.2,2,    244.4,2,    44.94,2,    20.39,2,     1.44,2,   2351.7,2,   7.7254,2,    25.00,   2.0583,20110204,0113
  29AH20110128,   A05,    32,  1,      5,2,20110204,0050, 24.5050, -24.0977, 5212,   3501.8,   2.5019,  34.9130,2,    245.6,2,    244.3,2,    41.91,2,    20.14,2,     1.39,2,   2345.8,2,   7.7273,2,    25.00,   2.2092,20110204,0123
  29AH20110128,   A05,    32,  1,      6,2,20110204,0050, 24.5050, -24.0977, 5212,   3002.8,   2.7578,  34.9408,2,    244.1,2,    243.6,2,    36.09,2,    19.51,2,     1.37,2,   2345.8,2,   7.7290,2,    25.00,   2.5119,20110204,0132
  29AH20110128,   A05,    32,  1,      7,2,20110204,0050, 24.5050, -24.0977, 5212,   2500.0,   3.2748,  34.9857,2,    235.3,2,    235.1,2,    30.85,2,    19.68,2,     1.36,2,   2339.5,2,   7.7232,2,    25.00,   3.0696,20110204,0142
  29AH20110128,   A05,    32,  1,      8,2,20110204,0050, 24.5050, -24.0977, 5212,   2001.4,   3.9165,  35.0408,2,    225.9,2,    226.0,2,    25.96,2,    19.89,2,     1.39,2,   2330.7,2,   7.7162,2,    25.00,   3.7498,20110204,0152
  29AH20110128,   A05,    32,  1,      9,2,20110204,0050, 24.5050, -24.0977, 5212,   1750.7,   4.5103,  35.0964,2,    215.7,2,    215.2,2,    24.02,2,    20.23,2,     1.39,2,   2331.2,2,   7.7128,2,    25.00,   4.3598,20110204,0156
  29AH20110128,   A05,    32,  1,     10,2,20110204,0050, 24.5050, -24.0977, 5212,   1500.5,   5.4382,  35.1836,2,    201.2,2,    201.4,2,    21.01,2,    20.63,2,     1.39,2,   2332.5,2,   7.7052,2,    25.00,   5.3013,20110204,0201
  29AH20110128,   A05,    32,  1,     11,2,20110204,0050, 24.5050, -24.0977, 5212,   1300.1,   6.2716,  35.2391,2,    182.8,2,    182.6,2,    20.04,2,    21.52,2,     1.50,2,   2336.0,2,   7.6907,2,    25.00,   6.1467,20110204,0205
  29AH20110128,   A05,    32,  1,     12,2,20110204,0050, 24.5050, -24.0977, 5212,   1198.8,   6.8063,  35.2601,2,    170.5,2,    169.8,2,    19.77,2,    22.46,2,     1.54,2,   2334.7,2,   7.6827,2,    25.00,   6.6872,20110204,0207
  29AH20110128,   A05,    32,  1,     13,2,20110204,0050, 24.5050, -24.0977, 5212,   1000.2,   7.2784,  35.1717,2,    144.0,2,    143.8,2,    20.22,2,    25.03,2,     1.81,2,   2327.8,2,   7.6402,2,    25.00,   7.1770,20110204,0211
  29AH20110128,   A05,    32,  1,     14,2,20110204,0050, 24.5050, -24.0977, 5212,    899.8,   7.5144,  35.1130,2,    128.5,2,    126.5,2,    20.29,2,    26.82,2,     1.95,2,   2323.0,2,   7.6131,2,    25.00,   7.4223,20110204,0213
  29AH20110128,   A05,    32,  1,     15,2,20110204,0050, 24.5050, -24.0977, 5212,    800.1,   8.1159,  35.1501,2,    117.4,2,    116.4,2,    19.26,2,    27.01,2,     1.93,2,   2322.6,2,   7.6017,2,    25.00,   8.0309,20110204,0215
  29AH20110128,   A05,    32,  1,     16,2,20110204,0050, 24.5050, -24.0977, 5212,    600.9,  10.6898,  35.4319,2,    113.8,2,    113.1,2,    12.59,2,    23.30,2,     1.57,2,   2329.9,2,   7.6509,2,    25.00,  10.6153,20110204,0219
  29AH20110128,   A05,    32,  1,     17,2,20110204,0050, 24.5050, -24.0977, 5212,    400.1,  13.7117,  35.8561,2,    149.9,2,    147.9,2,     6.51,2,    14.59,2,     0.84,2,   2349.6,2,   7.7751,2,    25.00,  13.6538,20110204,0223
  29AH20110128,   A05,    32,  1,     18,2,20110204,0050, 24.5050, -24.0977, 5212,    300.0,  15.4185,  36.1463,2,    176.4,2,    176.0,2,     4.28,2,     9.31,2,     0.54,2,   2367.1,2,   7.8527,2,    25.00,  15.3716,20110204,0225
  29AH20110128,   A05,    32,  1,     19,2,20110204,0050, 24.5050, -24.0977, 5212,    150.5,  18.4242,  36.5702,2,    164.2,2,    164.5,2,     3.19,2,     7.01,2,     0.44,2,   2395.1,2,   7.8824,2,    25.00,  18.3977,20110204,0228
  29AH20110128,   A05,    32,  1,     20,2,20110204,0050, 24.5050, -24.0977, 5212,    125.3,  19.3150,  36.7191,2,    188.3,2,    188.3,2,     2.25,2,     3.13,2,     0.23,2,   -999.0,9,   7.9363,2,    25.00,  19.2922,20110204,0229
  29AH20110128,   A05,    32,  1,     21,2,20110204,0050, 24.5050, -24.0977, 5212,     73.5,  21.9907,  37.0729,2,    214.6,2,    214.9,2,     1.40,2,     0.01,2,     0.12,2,   2428.4,2,   8.0214,2,    25.00,  21.9760,20110204,0230
  29AH20110128,   A05,    32,  1,     22,2,20110204,0050, 24.5050, -24.0977, 5212,     51.7,  21.9901,  37.0751,2,    214.7,2,    214.2,2,     1.36,2,     0.01,2,     0.11,2,   -999.0,9,   8.0228,2,    25.00,  21.9798,20110204,0231
  29AH20110128,   A05,    32,  1,     23,2,20110204,0050, 24.5050, -24.0977, 5212,     25.5,  21.9857,  37.0749,2,    214.8,2,    214.5,2,     1.39,2,     0.02,2,     0.11,2,   -999.0,9,   8.0228,2,    25.00,  21.9806,20110204,0232
  29AH20110128,   A05,    32,  1,     24,2,20110204,0050, 24.5050, -24.0977, 5212,      6.0,  21.9839,  37.0750,2,    215.2,2,    214.5,2,     1.37,2,     0.03,2,     0.08,2,   2428.3,2,   8.0223,2,    25.00,  21.9827,20110204,0232
  29AH20110128,   A05,    33,  1,      1,2,20110204,0757, 24.5012, -24.7082, 5300,   5290.0,   2.4495,  34.8861,2,    245.1,2,    243.9,2,    49.50,2,    20.94,2,     1.58,2,   -999.0,9,   7.7225,2,    25.00,   1.9445,20110204,0757
  29AH20110128,   A05,    33,  1,      2,2,20110204,0757, 24.5012, -24.7082, 5300,   5000.4,   2.4144,  34.8870,2,    245.3,2,    245.8,2,    49.30,2,    20.95,2,     1.58,2,   -999.0,9,   7.7235,2,    25.00,   1.9478,20110204,0803
  29AH20110128,   A05,    33,  1,      3,2,20110204,0757, 24.5012, -24.7082, 5300,   4500.1,   2.3697,  34.8895,2,    245.3,2,    244.7,2,    48.98,2,    20.96,2,     1.55,2,   -999.0,9,   7.7221,2,    25.00,   1.9664,20110204,0813
  29AH20110128,   A05,    33,  1,      4,2,20110204,0757, 24.5012, -24.7082, 5300,   3998.2,   2.4070,  34.8989,2,    245.4,2,    244.5,2,    46.39,2,    20.66,2,     1.53,2,   -999.0,9,   7.7242,2,    25.00,   2.0615,20110204,0822
  29AH20110128,   A05,    33,  1,      5,2,20110204,0757, 24.5012, -24.7082, 5300,   3500.2,   2.5025,  34.9130,2,    245.1,2,    245.4,2,    42.56,2,    20.41,2,     1.48,2,   -999.0,9,   7.7236,2,    25.00,   2.2099,20110204,0832
  29AH20110128,   A05,    33,  1,      6,2,20110204,0757, 24.5012, -24.7082, 5300,   2998.9,   2.7175,  34.9368,2,    245.0,2,    245.3,2,    37.94,2,    19.78,2,     1.41,2,   -999.0,9,   7.7264,2,    25.00,   2.4729,20110204,0841
  29AH20110128,   A05,    33,  1,      7,2,20110204,0757, 24.5012, -24.7082, 5300,   2500.6,   3.1871,  34.9824,2,    242.9,2,    244.3,2,    30.42,2,    19.14,2,     1.31,2,   -999.0,9,   7.7262,2,    25.00,   2.9835,20110204,0851
  29AH20110128,   A05,    33,  1,      8,2,20110204,0757, 24.5012, -24.7082, 5300,   2002.2,   4.0072,  35.0535,2,    227.6,2,    227.9,2,    25.61,2,    19.90,2,     1.36,2,   -999.0,9,   7.7157,2,    25.00,   3.8391,20110204,0901
  29AH20110128,   A05,    33,  1,      9,2,20110204,0757, 24.5012, -24.7082, 5300,   1747.7,   4.6509,  35.1174,2,    217.6,2,    217.7,2,    23.29,2,    20.09,2,     1.37,2,   -999.0,9,   7.7115,2,    25.00,   4.4988,20110204,0906
  29AH20110128,   A05,    33,  1,     10,2,20110204,0757, 24.5012, -24.7082, 5300,   1499.0,   5.5172,  35.1937,2,    200.8,2,    201.2,2,    21.50,2,    20.77,2,     1.45,2,   -999.0,9,   7.7031,2,    25.00,   5.3796,20110204,0911
  29AH20110128,   A05,    33,  1,     11,2,20110204,0757, 24.5012, -24.7082, 5300,   1300.1,   6.3856,  35.2587,2,    185.0,2,    185.3,2,    20.02,2,    21.55,2,     1.47,2,   -999.0,9,   7.6949,2,    25.00,   6.2596,20110204,0915
  29AH20110128,   A05,    33,  1,     12,2,20110204,0757, 24.5012, -24.7082, 5300,   1201.1,   6.8987,  35.2792,2,    174.5,2,    174.3,2,    19.48,2,    22.11,2,     1.55,2,   -999.0,9,   7.6877,2,    25.00,   6.7785,20110204,0917
  29AH20110128,   A05,    33,  1,     13,2,20110204,0757, 24.5012, -24.7082, 5300,   1100.5,   6.8433,  35.1884,2,    162.9,2,    161.9,2,    20.60,2,    23.93,2,     1.66,2,   -999.0,9,   7.6617,2,    25.00,   6.7345,20110204,0919
  29AH20110128,   A05,    33,  1,     14,2,20110204,0757, 24.5012, -24.7082, 5300,   1001.3,   7.1834,  35.1515,2,    148.0,2,    146.9,2,    20.86,2,    25.46,2,     1.76,2,   -999.0,9,   7.6432,2,    25.00,   7.0826,20110204,0921
  29AH20110128,   A05,    33,  1,     15,2,20110204,0757, 24.5012, -24.7082, 5300,    800.1,   8.8845,  35.2889,2,    135.1,2,    135.0,2,    16.86,2,    24.16,2,     1.60,2,   -999.0,9,   7.6557,2,    25.00,   8.7949,20110204,0926
  29AH20110128,   A05,    33,  1,     16,2,20110204,0757, 24.5012, -24.7082, 5300,    602.4,  11.1841,  35.5338,2,    149.9,2,    150.6,2,    10.56,2,    18.94,2,     1.11,2,   -999.0,9,   7.7177,2,    25.00,  11.1072,20110204,0930
  29AH20110128,   A05,    33,  1,     17,2,20110204,0757, 24.5012, -24.7082, 5300,    400.9,  13.8111,  35.8781,2,    161.7,2,    162.1,2,     6.35,2,    13.22,2,     0.71,2,   -999.0,9,   7.7941,2,    25.00,  13.7528,20110204,0934
  29AH20110128,   A05,    33,  1,     18,2,20110204,0757, 24.5012, -24.7082, 5300,    300.7,  15.0898,  36.0469,2,    137.5,2,    138.5,2,     6.19,2,  -999.00,9,     0.75,2,   -999.0,9,   7.8438,2,    25.00,  15.0435,20110204,0936
  29AH20110128,   A05,    33,  1,     19,2,20110204,0757, 24.5012, -24.7082, 5300,    150.8,  18.3804,  36.5649,2,    151.3,2,    153.2,2,     3.83,2,  -999.00,9,     0.45,2,   -999.0,9,   7.9181,2,    25.00,  18.3539,20110204,0939
  29AH20110128,   A05,    33,  1,     20,2,20110204,0757, 24.5012, -24.7082, 5300,    124.9,  19.7059,  36.7839,2,    182.6,2,    183.9,2,     2.54,2,     2.80,2,     0.18,2,   -999.0,9,   7.9310,2,    25.00,  19.6828,20110204,0939
  29AH20110128,   A05,    33,  1,     21,2,20110204,0757, 24.5012, -24.7082, 5300,    111.2,  21.4741,  37.0478,2,    207.5,2,    207.7,2,     1.95,2,     1.38,2,     0.20,2,   -999.0,9,   8.0037,2,    25.00,  21.4523,20110204,0940
  29AH20110128,   A05,    33,  1,     22,2,20110204,0757, 24.5012, -24.7082, 5300,     76.4,  21.9623,  37.1535,2,    214.1,2,    214.8,2,     1.78,2,     0.47,2,     0.07,2,   -999.0,9,   8.0148,2,    25.00,  21.9471,20110204,0941
  29AH20110128,   A05,    33,  1,     23,2,20110204,0757, 24.5012, -24.7082, 5300,     45.5,  21.9751,  37.1579,2,    214.9,2,    215.6,2,     1.80,2,     0.45,2,     0.07,2,   -999.0,9,   8.0202,2,    25.00,  21.9660,20110204,0942
  29AH20110128,   A05,    33,  1,     24,2,20110204,0757, 24.5012, -24.7082, 5300,      4.0,  21.9639,  37.1583,2,    215.6,2,    215.8,2,     1.80,2,     0.45,2,     0.07,2,   -999.0,9,   8.0211,2,    25.00,  21.9631,20110204,0944
  29AH20110128,   A05,    34,  1,      1,2,20110204,1554, 24.4995, -25.3165, 5384,   5373.8,   2.4578,  34.8860,2,    244.7,2,    245.4,2,    49.70,2,    21.18,2,     1.49,2,   2357.5,2,   7.7238,2,    25.00,   1.9415,20110204,1554
  29AH20110128,   A05,    34,  1,      2,2,20110204,1554, 24.4995, -25.3165, 5384,   4998.6,   2.4117,  34.8869,2,    245.2,2,    244.7,2,    49.03,2,    21.14,2,     1.47,2,   2355.6,2,   7.7222,2,    25.00,   1.9454,20110204,1602
  29AH20110128,   A05,    34,  1,      3,2,20110204,1554, 24.4995, -25.3165, 5384,   4501.1,   2.3734,  34.8899,2,    245.4,2,    245.9,2,    47.23,2,    20.94,2,     1.50,2,   2355.0,2,   7.7216,2,    25.00,   1.9698,20110204,1611
  29AH20110128,   A05,    34,  1,      4,2,20110204,1554, 24.4995, -25.3165, 5384,   4000.6,   2.4065,  34.8992,2,    245.2,2,    244.7,2,    46.59,2,    20.75,2,     1.50,2,   2352.2,2,   7.7228,2,    25.00,   2.0607,20110204,1621
  29AH20110128,   A05,    34,  1,      5,2,20110204,1554, 24.4995, -25.3165, 5384,   3500.9,   2.5002,  34.9126,2,    244.9,2,    246.1,2,    43.20,2,    20.42,2,     1.48,2,   2349.6,2,   7.7233,2,    25.00,   2.2076,20110204,1631
  29AH20110128,   A05,    34,  1,      6,2,20110204,1554, 24.4995, -25.3165, 5384,   3001.4,   2.7160,  34.9363,2,    245.1,2,    245.5,2,    37.83,2,    19.80,2,     1.42,2,   2345.9,2,   7.7255,2,    25.00,   2.4712,20110204,1640
  29AH20110128,   A05,    34,  1,      7,2,20110204,1554, 24.4995, -25.3165, 5384,   2501.0,   3.1997,  34.9837,2,    243.7,2,    245.5,2,    31.05,2,    19.16,2,     1.36,2,   2338.0,2,   7.7257,2,    25.00,   2.9958,20110204,1650
  29AH20110128,   A05,    34,  1,      8,2,20110204,1554, 24.4995, -25.3165, 5384,   2001.4,   4.0403,  35.0641,2,    230.2,2,    231.0,2,    25.97,2,    19.60,2,     1.38,2,   2334.7,2,   7.7177,2,    25.00,   3.8717,20110204,1700
  29AH20110128,   A05,    34,  1,      9,2,20110204,1554, 24.4995, -25.3165, 5384,   1749.5,   4.6063,  35.1189,2,    219.9,2,    220.7,2,    23.79,2,    19.97,2,     1.38,2,   2335.3,2,   7.7166,2,    25.00,   4.4546,20110204,1705
  29AH20110128,   A05,    34,  1,     10,2,20110204,1554, 24.4995, -25.3165, 5384,   1500.9,   5.5232,  35.2095,2,    206.5,2,    208.3,2,    21.18,2,    20.29,2,     1.34,2,   2337.4,2,   7.7096,2,    25.00,   5.3853,20110204,1710
  29AH20110128,   A05,    34,  1,     11,2,20110204,1554, 24.4995, -25.3165, 5384,   1299.8,   6.2966,  35.2489,2,    186.9,2,    187.2,2,    20.31,2,    21.45,2,     1.45,2,   2338.8,2,   7.6954,2,    25.00,   6.1715,20110204,1714
  29AH20110128,   A05,    34,  1,     12,2,20110204,1554, 24.4995, -25.3165, 5384,   1200.9,   6.4811,  35.2269,2,    177.5,2,    177.6,2,    20.76,2,    22.31,2,     1.59,2,   2336.6,2,   7.6855,2,    25.00,   6.3647,20110204,1716
  29AH20110128,   A05,    34,  1,     13,2,20110204,1554, 24.4995, -25.3165, 5384,    999.4,   7.3231,  35.1975,2,    153.5,2,    153.9,2,    20.09,2,    24.25,2,     1.77,2,   2332.5,2,   7.6585,2,    25.00,   7.2214,20110204,1720
  29AH20110128,   A05,    34,  1,     14,2,20110204,1554, 24.4995, -25.3165, 5384,    901.4,   7.8724,  35.2111,2,    141.9,2,    141.7,2,    19.90,2,    24.89,2,     1.77,2,   -999.0,9,   7.6488,2,    25.00,   7.7776,20110204,1722
  29AH20110128,   A05,    34,  1,     15,2,20110204,1554, 24.4995, -25.3165, 5384,    800.5,   8.9839,  35.3209,2,    139.5,2,    139.6,2,    17.04,2,    23.50,2,     1.60,2,   2333.6,2,   7.6664,2,    25.00,   8.8936,20110204,1724
  29AH20110128,   A05,    34,  1,     16,2,20110204,1554, 24.4995, -25.3165, 5384,    600.6,  11.1536,  35.5419,2,    155.9,2,    157.5,2,    11.11,2,    18.37,2,  -999.00,9,   2340.0,2,   7.7290,2,    25.00,  11.0771,20110204,1728
  29AH20110128,   A05,    34,  1,     17,2,20110204,1554, 24.4995, -25.3165, 5384,    399.9,  13.5729,  35.8491,2,    173.8,2,    174.0,2,     6.84,2,    12.92,2,     0.65,2,   2355.4,2,   7.8054,2,    25.00,  13.5154,20110204,1732
  29AH20110128,   A05,    34,  1,     18,2,20110204,1554, 24.4995, -25.3165, 5384,    300.2,  15.0215,  36.0703,2,    160.5,2,    161.1,2,     6.15,2,    12.09,2,  -999.00,9,   2365.8,2,   7.8199,2,    25.00,  14.9754,20110204,1734
  29AH20110128,   A05,    34,  1,     19,2,20110204,1554, 24.4995, -25.3165, 5384,    150.4,  18.5414,  36.6647,2,    202.0,2,    204.6,2,     2.75,2,     2.02,2,     0.16,2,   2404.5,2,   7.9548,2,    25.00,  18.5148,20110204,1737
  29AH20110128,   A05,    34,  1,     20,2,20110204,1554, 24.4995, -25.3165, 5384,    125.7,  19.3206,  36.7655,2,    208.5,2,    209.8,2,     2.56,2,     0.93,2,     0.15,2,   -999.0,9,   7.9679,2,    25.00,  19.2977,20110204,1738
  29AH20110128,   A05,    34,  1,     21,2,20110204,1554, 24.4995, -25.3165, 5384,     74.6,  22.0615,  37.2600,2,    214.5,2,    215.8,2,     2.32,2,     0.29,2,     0.13,2,   2443.5,2,   8.0305,2,    25.00,  22.0466,20110204,1739
  29AH20110128,   A05,    34,  1,     22,2,20110204,1554, 24.4995, -25.3165, 5384,     51.3,  22.0709,  37.2633,2,    215.2,2,    216.5,2,     2.33,2,     0.30,2,     0.13,2,   -999.0,9,   8.0340,2,    25.00,  22.0606,20110204,1740
  29AH20110128,   A05,    34,  1,     23,2,20110204,1554, 24.4995, -25.3165, 5384,     26.4,  22.0947,  37.2659,2,    215.4,2,    217.6,2,     2.34,2,     0.30,2,     0.13,2,   -999.0,9,   8.0332,2,    25.00,  22.0894,20110204,1741
  29AH20110128,   A05,    34,  1,     24,2,20110204,1554, 24.4995, -25.3165, 5384,      5.6,  22.0933,  37.2658,2,    215.9,2,    217.9,2,     2.33,2,     0.31,2,     0.15,2,   2444.0,2,   8.0331,2,    25.00,  22.0922,20110204,1741