BOTTLE,20220930CCHSIOAMB
EXPOCODE,SECT_ID,STNNBR,CASTNO,BTLNBR,BTLNBR_FLAG_W,DATE,TIME,LATITUDE,LONGITUDE,DEPTH,CTDPRS,CTDTMP,CTDSAL,CTDSAL_FLAG_W,CTDOXY,CTDOXY_FLAG_W,OXYGEN,OXYGEN_FLAG_W,SILCAT,SILCAT_FLAG_W,NITRAT,NITRAT_FLAG_W,PHSPHT,PHSPHT_FLAG_W,ALKALI,ALKALI_FLAG_W,PH_SWS,PH_SWS_FLAG_W,PH_TMP,THETA,BTL_DATE,BTL_TIME
,,,,,,,,,,METERS,DBAR,ITS-90,PSS-78,,UMOL/KG,,UMOL/KG,,UMOL/KG,,UMOL/KG,,UMOL/KG,,UMOL/KG,,,,DEG C,DEG C,,
  29AH20110128,   A05,    92,  1,      1,2,20110223,1851, 24.4998, -54.6482, 6056,   6045.6,   2.1224,  34.8465,2,    249.5,2,    249.4,2,    51.24,2,    21.65,2,     1.75,2,   2347.1,2,   7.7038,2,    25.00,   1.5286,20110223,1851
  29AH20110128,   A05,    92,  1,      2,2,20110223,1851, 24.4998, -54.6482, 6056,   5500.7,   2.0601,  34.8489,2,    249.8,2,    249.1,2,    49.90,2,    21.65,2,     1.66,2,   2347.2,2,   7.7036,2,    25.00,   1.5417,20110223,1902
  29AH20110128,   A05,    92,  1,      3,2,20110223,1851, 24.4998, -54.6482, 6056,   5002.1,   2.0709,  34.8573,2,    251.1,2,    250.0,2,    47.89,2,    21.23,2,     1.54,2,   2343.1,2,   7.7059,2,    25.00,   1.6158,20110223,1911
  29AH20110128,   A05,    92,  1,      4,2,20110223,1851, 24.4998, -54.6482, 6056,   4500.1,   2.1228,  34.8694,2,    252.9,2,    251.4,2,    44.53,2,    20.75,2,     1.55,2,   2340.6,2,   7.7125,2,    25.00,   1.7272,20110223,1921
  29AH20110128,   A05,    92,  1,      5,2,20110223,1851, 24.4998, -54.6482, 6056,   3999.9,   2.2664,  34.8891,2,    255.1,2,    255.7,2,    39.16,2,    19.93,2,     1.43,2,   2336.3,2,   7.7166,2,    25.00,   1.9247,20110223,1931
  29AH20110128,   A05,    92,  1,      6,2,20110223,1851, 24.4998, -54.6482, 6056,   3499.1,   2.4509,  34.9083,2,    253.8,2,    254.9,2,    35.13,2,    19.52,2,     1.40,2,   2333.2,2,   7.7258,2,    25.00,   2.1598,20110223,1940
  29AH20110128,   A05,    92,  1,      7,2,20110223,1851, 24.4998, -54.6482, 6056,   2999.0,   2.7252,  34.9327,2,    251.5,2,    251.8,2,    31.78,2,    19.52,2,     1.38,2,   2330.1,2,   7.7275,2,    25.00,   2.4805,20110223,1950
  29AH20110128,   A05,    92,  1,      8,2,20110223,1851, 24.4998, -54.6482, 6056,   2501.8,   3.0896,  34.9644,2,    249.3,2,    249.7,2,    27.54,2,    19.11,2,     1.34,2,   2327.7,2,   7.7302,2,    25.00,   2.8877,20110223,2000
  29AH20110128,   A05,    92,  1,      9,2,20110223,1851, 24.4998, -54.6482, 6056,   2000.8,   3.6249,  35.0075,2,    246.8,2,    248.4,2,    21.70,2,    18.62,2,     1.25,2,   2322.6,2,   7.7314,2,    25.00,   3.4627,20110223,2009
  29AH20110128,   A05,    92,  1,     10,2,20110223,1851, 24.4998, -54.6482, 6056,   1751.6,   4.0952,  35.0416,2,    246.0,2,    247.4,2,    17.54,2,    18.10,2,     1.23,2,   2319.6,2,   7.7270,2,    25.00,   3.9502,20110223,2014
  29AH20110128,   A05,    92,  1,     11,2,20110223,1851, 24.4998, -54.6482, 6056,   1500.7,   4.6161,  35.0566,2,    241.5,2,    242.3,2,    14.52,2,    18.10,2,     1.22,2,   2316.0,2,   7.7209,2,    25.00,   4.4887,20110223,2019
  29AH20110128,   A05,    92,  1,     12,2,20110223,1851, 24.4998, -54.6482, 6056,   1298.0,   5.1759,  35.0623,2,    224.5,2,    224.4,2,    15.12,2,    19.44,2,     1.32,2,   2315.9,2,   7.7078,2,    25.00,   5.0621,20110223,2023
  29AH20110128,   A05,    92,  1,     13,2,20110223,1851, 24.4998, -54.6482, 6056,   1200.5,   5.5219,  35.0729,2,    212.2,2,    212.4,2,    15.66,2,    20.18,2,     1.38,2,   2317.7,2,   7.6990,2,    25.00,   5.4144,20110223,2025
  29AH20110128,   A05,    92,  1,     14,2,20110223,1851, 24.4998, -54.6482, 6056,    999.5,   6.5352,  35.0307,2,    169.3,2,    167.5,2,    18.34,2,    24.04,2,     1.80,2,   2316.5,2,   7.6549,2,    25.00,   6.4396,20110223,2029
  29AH20110128,   A05,    92,  1,     15,2,20110223,1851, 24.4998, -54.6482, 6056,    799.2,   9.2212,  35.2288,2,    144.7,2,    143.5,2,    14.32,2,    22.86,2,     1.50,2,   2320.3,2,   7.6767,2,    25.00,   9.1298,20110223,2033
  29AH20110128,   A05,    92,  1,     16,2,20110223,1851, 24.4998, -54.6482, 6056,    601.1,  12.8720,  35.7089,2,    162.0,2,   -999.0,9,  -999.00,9,  -999.00,9,  -999.00,9,   -999.0,9,   7.7943,2,    25.00,  12.7880,20110223,2037
  29AH20110128,   A05,    92,  1,     17,2,20110223,1851, 24.4998, -54.6482, 6056,    401.3,  16.6542,  36.3097,2,    188.9,2,   -999.0,9,     2.83,2,     7.22,2,  -999.00,9,   2373.3,2,   7.9130,2,    25.00,  16.5879,20110223,2041
  29AH20110128,   A05,    92,  1,     18,2,20110223,1851, 24.4998, -54.6482, 6056,    300.6,  17.9598,  36.5318,2,    196.4,2,   -999.0,9,     1.83,2,     4.64,2,     0.17,2,   2387.5,2,   7.9495,2,    25.00,  17.9076,20110223,2043
  29AH20110128,   A05,    92,  1,     19,2,20110223,1851, 24.4998, -54.6482, 6056,    150.4,  20.3300,  36.8501,2,    192.2,2,    193.9,2,     0.89,2,     0.82,2,     0.05,2,   2410.4,2,   7.9877,2,    25.00,  20.3016,20110223,2047
  29AH20110128,   A05,    92,  1,     20,2,20110223,1851, 24.4998, -54.6482, 6056,    125.2,  21.5172,  36.9607,2,    202.6,2,    203.8,2,     0.89,2,     0.08,2,     0.08,2,   -999.0,9,   8.0238,2,    25.00,  21.4926,20110223,2047
  29AH20110128,   A05,    92,  1,     21,2,20110223,1851, 24.4998, -54.6482, 6056,     76.0,  23.1812,  37.0829,2,    213.2,2,    212.4,2,     0.89,2,     0.00,2,     0.06,2,   2425.5,2,   8.0678,2,    25.00,  23.1655,20110223,2048
  29AH20110128,   A05,    92,  1,     22,2,20110223,1851, 24.4998, -54.6482, 6056,     50.4,  23.5373,  37.1321,2,    212.5,2,    210.9,2,     0.89,2,     0.00,2,     0.05,2,   -999.0,9,   8.0770,2,    25.00,  23.5268,20110223,2049
  29AH20110128,   A05,    92,  1,     23,2,20110223,1851, 24.4998, -54.6482, 6056,     25.9,  23.5342,  37.1203,2,    212.7,2,    211.8,2,     0.89,2,     0.00,2,     0.06,2,   -999.0,9,   8.0768,2,    25.00,  23.5288,20110223,2050
  29AH20110128,   A05,    92,  1,     24,2,20110223,1851, 24.4998, -54.6482, 6056,      6.7,  23.5009,  37.0478,2,    212.9,2,    211.8,2,     0.89,2,     0.00,2,     0.06,2,   2421.3,2,   8.0762,2,    25.00,  23.4995,20110223,2051
  29AH20110128,   A05,    93,  1,      1,2,20110224,0231, 24.5007, -55.2600, 6044,   6033.7,   2.1058,  34.8451,2,    248.8,2,    248.1,2,  -999.00,9,  -999.00,9,  -999.00,9,   -999.0,9,   7.7037,2,    25.00,   1.5143,20110224,0231
  29AH20110128,   A05,    93,  1,      2,2,20110224,0231, 24.5007, -55.2600, 6044,   5500.4,   2.0486,  34.8477,2,    249.7,2,    248.8,2,  -999.00,9,  -999.00,9,  -999.00,9,   -999.0,9,   7.7065,2,    25.00,   1.5306,20110224,0241
  29AH20110128,   A05,    93,  1,      3,2,20110224,0231, 24.5007, -55.2600, 6044,   5002.3,   2.0648,  34.8571,2,    251.8,2,    250.6,2,  -999.00,9,  -999.00,9,  -999.00,9,   -999.0,9,   7.7097,2,    25.00,   1.6099,20110224,0251
  29AH20110128,   A05,    93,  1,      4,2,20110224,0231, 24.5007, -55.2600, 6044,   4501.5,   2.1329,  34.8702,2,    252.4,2,    252.3,2,  -999.00,9,  -999.00,9,  -999.00,9,   -999.0,9,   7.7200,2,    25.00,   1.7368,20110224,0300
  29AH20110128,   A05,    93,  1,      5,2,20110224,0231, 24.5007, -55.2600, 6044,   3999.1,   2.2713,  34.8893,2,    255.2,2,    253.9,2,  -999.00,9,  -999.00,9,  -999.00,9,   -999.0,9,   7.7249,2,    25.00,   1.9295,20110224,0310
  29AH20110128,   A05,    93,  1,      6,2,20110224,0231, 24.5007, -55.2600, 6044,   3500.8,   2.4593,  34.9087,2,    254.0,2,    253.6,2,  -999.00,9,  -999.00,9,  -999.00,9,   -999.0,9,   7.7303,2,    25.00,   2.1678,20110224,0320
  29AH20110128,   A05,    93,  1,      7,2,20110224,0231, 24.5007, -55.2600, 6044,   3002.2,   2.7704,  34.9361,2,    250.9,2,    251.2,2,  -999.00,9,  -999.00,9,  -999.00,9,   -999.0,9,   7.7293,2,    25.00,   2.5243,20110224,0330
  29AH20110128,   A05,    93,  1,      8,2,20110224,0231, 24.5007, -55.2600, 6044,   2501.2,   3.0578,  34.9619,2,    249.1,2,    249.1,2,  -999.00,9,  -999.00,9,  -999.00,9,   -999.0,9,   7.7314,2,    25.00,   2.8566,20110224,0340
  29AH20110128,   A05,    93,  1,      9,2,20110224,0231, 24.5007, -55.2600, 6044,   2000.0,   3.6075,  35.0062,2,    247.0,2,    247.9,2,  -999.00,9,  -999.00,9,  -999.00,9,   -999.0,9,   7.7334,2,    25.00,   3.4456,20110224,0350
  29AH20110128,   A05,    93,  1,     10,2,20110224,0231, 24.5007, -55.2600, 6044,   1750.1,   4.1422,  35.0428,2,    246.6,2,    246.9,2,  -999.00,9,  -999.00,9,  -999.00,9,   -999.0,9,   7.7267,2,    25.00,   3.9967,20110224,0355
  29AH20110128,   A05,    93,  1,     11,2,20110224,0231, 24.5007, -55.2600, 6044,   1500.6,   4.6493,  35.0620,2,    240.5,2,    241.3,2,  -999.00,9,  -999.00,9,  -999.00,9,   -999.0,9,   7.7180,2,    25.00,   4.5215,20110224,0400
  29AH20110128,   A05,    93,  1,     12,2,20110224,0231, 24.5007, -55.2600, 6044,   1299.7,   5.1407,  35.0694,2,    226.2,2,    226.1,2,  -999.00,9,  -999.00,9,  -999.00,9,   -999.0,9,   7.7127,2,    25.00,   5.0271,20110224,0404
  29AH20110128,   A05,    93,  1,     13,2,20110224,0231, 24.5007, -55.2600, 6044,   1201.8,   5.5160,  35.0672,2,    212.6,2,    212.4,2,  -999.00,9,  -999.00,9,  -999.00,9,   -999.0,9,   7.7023,2,    25.00,   5.4084,20110224,0406
  29AH20110128,   A05,    93,  1,     14,2,20110224,0231, 24.5007, -55.2600, 6044,    999.7,   6.5027,  35.0437,2,    174.1,2,    173.1,2,  -999.00,9,  -999.00,9,  -999.00,9,   -999.0,9,   7.6625,2,    25.00,   6.4073,20110224,0410
  29AH20110128,   A05,    93,  1,     15,2,20110224,0231, 24.5007, -55.2600, 6044,    797.8,   8.8244,  35.1958,2,    145.2,2,    155.3,3,  -999.00,9,  -999.00,9,  -999.00,9,   -999.0,9,   7.7284,2,    25.00,   8.7355,20110224,0414
  29AH20110128,   A05,    93,  1,     16,2,20110224,0231, 24.5007, -55.2600, 6044,    599.7,  12.9681,  35.7229,2,    161.8,2,    162.0,2,  -999.00,9,  -999.00,9,  -999.00,9,   -999.0,9,   7.7931,2,    25.00,  12.8839,20110224,0418
  29AH20110128,   A05,    93,  1,     17,2,20110224,0231, 24.5007, -55.2600, 6044,    401.8,  16.9064,  36.3399,2,    183.9,2,    184.6,2,  -999.00,9,  -999.00,9,  -999.00,9,   -999.0,9,   7.9119,2,    25.00,  16.8394,20110224,0422
  29AH20110128,   A05,    93,  1,     18,2,20110224,0231, 24.5007, -55.2600, 6044,    299.6,  18.1087,  36.5608,2,    202.5,2,    202.7,2,  -999.00,9,  -999.00,9,  -999.00,9,   -999.0,9,   7.9652,2,    25.00,  18.0564,20110224,0425
  29AH20110128,   A05,    93,  1,     19,2,20110224,0231, 24.5007, -55.2600, 6044,    150.2,  19.9828,  36.7785,2,    193.3,2,    192.4,2,  -999.00,9,  -999.00,9,  -999.00,9,   -999.0,9,   7.9746,2,    25.00,  19.9548,20110224,0428
  29AH20110128,   A05,    93,  1,     20,2,20110224,0231, 24.5007, -55.2600, 6044,    125.2,  21.0389,  36.9439,2,    192.9,2,    193.0,2,  -999.00,9,  -999.00,9,  -999.00,9,   -999.0,9,   7.9886,2,    25.00,  21.0147,20110224,0429
  29AH20110128,   A05,    93,  1,     21,2,20110224,0231, 24.5007, -55.2600, 6044,     74.3,  23.2794,  36.9979,2,    210.3,2,    203.8,3,  -999.00,9,  -999.00,9,  -999.00,9,   -999.0,9,   8.0471,2,    25.00,  23.2640,20110224,0430
  29AH20110128,   A05,    93,  1,     22,2,20110224,0231, 24.5007, -55.2600, 6044,     50.4,  23.8015,  36.9072,2,    211.5,2,    211.1,2,  -999.00,9,  -999.00,9,  -999.00,9,   -999.0,9,   8.0746,2,    25.00,  23.7909,20110224,0431
  29AH20110128,   A05,    93,  1,     23,2,20110224,0231, 24.5007, -55.2600, 6044,     25.1,  23.8102,  36.7212,2,    211.5,2,    211.1,2,  -999.00,9,  -999.00,9,  -999.00,9,   -999.0,9,   8.0851,2,    25.00,  23.8049,20110224,0432
  29AH20110128,   A05,    93,  1,     24,2,20110224,0231, 24.5007, -55.2600, 6044,      6.1,  23.8067,  36.7200,2,    211.3,2,    210.2,2,  -999.00,9,  -999.00,9,  -999.00,9,   -999.0,9,   8.0782,2,    25.00,  23.8054,20110224,0432
  29AH20110128,   A05,    94,  1,      1,2,20110224,1024, 24.5007, -55.8742, 5986,   5976.3,   2.0980,  34.8450,2,    249.1,2,    248.0,2,  -999.00,9,  -999.00,9,  -999.00,9,   2347.3,2,   7.7024,2,    25.00,   1.5147,20110224,1024
  29AH20110128,   A05,    94,  1,      2,2,20110224,1024, 24.5007, -55.8742, 5986,   5500.5,   2.0400,  34.8467,2,    249.4,2,    248.1,2,  -999.00,9,  -999.00,9,  -999.00,9,   2348.4,2,   7.7045,2,    25.00,   1.5224,20110224,1034
  29AH20110128,   A05,    94,  1,      3,2,20110224,1024, 24.5007, -55.8742, 5986,   4999.4,   2.0443,  34.8549,2,    250.8,2,    250.9,2,  -999.00,9,  -999.00,9,  -999.00,9,   2343.8,2,   7.7100,2,    25.00,   1.5904,20110224,1043
  29AH20110128,   A05,    94,  1,      4,2,20110224,1024, 24.5007, -55.8742, 5986,   4500.8,   2.1531,  34.8724,2,    253.1,2,    252.9,2,  -999.00,9,  -999.00,9,  -999.00,9,   2339.1,2,   7.7192,2,    25.00,   1.7565,20110224,1053
  29AH20110128,   A05,    94,  1,      5,2,20110224,1024, 24.5007, -55.8742, 5986,   3999.0,   2.2807,  34.8897,2,    254.7,2,    253.6,2,  -999.00,9,  -999.00,9,  -999.00,9,   2337.6,2,   7.7255,2,    25.00,   1.9387,20110224,1103
  29AH20110128,   A05,    94,  1,      6,2,20110224,1024, 24.5007, -55.8742, 5986,   3499.2,   2.4830,  34.9103,2,    253.7,2,    253.3,2,  -999.00,9,  -999.00,9,  -999.00,9,   2334.3,2,   7.7306,2,    25.00,   2.1910,20110224,1112
  29AH20110128,   A05,    94,  1,      7,2,20110224,1024, 24.5007, -55.8742, 5986,   3000.1,   2.7258,  34.9324,2,    252.4,2,    252.8,2,  -999.00,9,  -999.00,9,  -999.00,9,   2332.9,2,   7.7330,2,    25.00,   2.4809,20110224,1122
  29AH20110128,   A05,    94,  1,      8,2,20110224,1024, 24.5007, -55.8742, 5986,   2499.1,   3.0420,  34.9595,2,    250.2,2,    251.0,2,  -999.00,9,  -999.00,9,  -999.00,9,   2329.0,2,   7.7337,2,    25.00,   2.8413,20110224,1132
  29AH20110128,   A05,    94,  1,      9,2,20110224,1024, 24.5007, -55.8742, 5986,   2001.9,   3.6108,  35.0047,2,    248.0,2,    249.2,2,  -999.00,9,  -999.00,9,  -999.00,9,   2323.2,2,   7.7335,2,    25.00,   3.4487,20110224,1141
  29AH20110128,   A05,    94,  1,     10,2,20110224,1024, 24.5007, -55.8742, 5986,   1748.3,   4.0546,  35.0338,2,    247.2,2,    248.3,2,  -999.00,9,  -999.00,9,  -999.00,9,   2317.7,2,   7.7323,2,    25.00,   3.9104,20110224,1146
  29AH20110128,   A05,    94,  1,     11,2,20110224,1024, 24.5007, -55.8742, 5986,   1500.4,   4.6226,  35.0701,2,    240.2,2,    238.5,2,  -999.00,9,  -999.00,9,  -999.00,9,   2316.1,2,   7.7242,2,    25.00,   4.4951,20110224,1151
  29AH20110128,   A05,    94,  1,     12,2,20110224,1024, 24.5007, -55.8742, 5986,   1300.5,   5.1091,  35.0687,2,    227.4,2,    227.4,2,  -999.00,9,  -999.00,9,  -999.00,9,   2315.9,2,   7.7131,2,    25.00,   4.9957,20110224,1155
  29AH20110128,   A05,    94,  1,     13,2,20110224,1024, 24.5007, -55.8742, 5986,   1200.5,   5.3830,  35.0691,2,    216.0,2,    215.9,2,  -999.00,9,  -999.00,9,  -999.00,9,   2316.3,2,   7.7047,2,    25.00,   5.2767,20110224,1157
  29AH20110128,   A05,    94,  1,     14,2,20110224,1024, 24.5007, -55.8742, 5986,   1002.7,   6.3511,  35.0527,2,    181.8,2,    179.8,2,  -999.00,9,  -999.00,9,  -999.00,9,   2316.2,2,   7.6720,2,    25.00,   6.2565,20110224,1201
  29AH20110128,   A05,    94,  1,     15,2,20110224,1024, 24.5007, -55.8742, 5986,    800.8,   8.4935,  35.1577,2,    146.4,2,    145.6,2,  -999.00,9,  -999.00,9,  -999.00,9,   2318.2,2,   7.6654,2,    25.00,   8.4062,20110224,1205
  29AH20110128,   A05,    94,  1,     16,2,20110224,1024, 24.5007, -55.8742, 5986,    600.0,  12.6317,  35.6783,2,    160.9,2,    160.7,2,  -999.00,9,  -999.00,9,  -999.00,9,   -999.0,9,   7.7840,2,    25.00,  12.5489,20110224,1210
  29AH20110128,   A05,    94,  1,     17,2,20110224,1024, 24.5007, -55.8742, 5986,    400.6,  16.4252,  36.2609,2,    183.0,2,    182.0,2,  -999.00,9,  -999.00,9,  -999.00,9,   2369.9,2,   7.9017,2,    25.00,  16.3597,20110224,1214
  29AH20110128,   A05,    94,  1,     18,2,20110224,1024, 24.5007, -55.8742, 5986,    300.2,  17.8125,  36.5167,2,    187.2,2,    187.3,2,  -999.00,9,  -999.00,9,  -999.00,9,   -999.0,9,   7.9338,2,    25.00,  17.7607,20110224,1216
  29AH20110128,   A05,    94,  1,     19,2,20110224,1024, 24.5007, -55.8742, 5986,    148.6,  19.7367,  36.8006,2,    187.3,2,    186.2,2,  -999.00,9,  -999.00,9,  -999.00,9,   2400.0,2,   7.9669,2,    25.00,  19.7092,20110224,1219
  29AH20110128,   A05,    94,  1,     20,2,20110224,1024, 24.5007, -55.8742, 5986,    102.8,  21.5098,  37.0072,2,    192.2,2,    192.8,2,  -999.00,9,  -999.00,9,  -999.00,9,   -999.0,9,   8.0016,2,    25.00,  21.4896,20110224,1220
  29AH20110128,   A05,    94,  1,     21,2,20110224,1024, 24.5007, -55.8742, 5986,     75.0,  22.8756,  37.0243,2,    213.4,2,    211.9,2,  -999.00,9,  -999.00,9,  -999.00,9,   2422.0,2,   8.0683,2,    25.00,  22.8602,20110224,1221
  29AH20110128,   A05,    94,  1,     22,2,20110224,1024, 24.5007, -55.8742, 5986,     50.6,  23.4558,  37.0685,2,    213.6,2,    212.4,2,  -999.00,9,  -999.00,9,  -999.00,9,   -999.0,9,   8.0787,2,    25.00,  23.4452,20110224,1222
  29AH20110128,   A05,    94,  1,     23,2,20110224,1024, 24.5007, -55.8742, 5986,     36.4,  23.6590,  36.8547,2,    212.1,2,    211.9,2,  -999.00,9,  -999.00,9,  -999.00,9,   -999.0,9,   8.0826,2,    25.00,  23.6514,20110224,1222
  29AH20110128,   A05,    94,  1,     24,2,20110224,1024, 24.5007, -55.8742, 5986,      5.2,  23.8049,  36.7326,2,    210.8,2,    209.6,2,  -999.00,9,  -999.00,9,  -999.00,9,   2403.4,2,   8.0861,2,    25.00,  23.8038,20110224,1223