BOTTLE,20220930CCHSIOAMB
EXPOCODE,SECT_ID,STNNBR,CASTNO,BTLNBR,BTLNBR_FLAG_W,DATE,TIME,LATITUDE,LONGITUDE,DEPTH,CTDPRS,CTDTMP,CTDSAL,CTDSAL_FLAG_W,CTDOXY,CTDOXY_FLAG_W,OXYGEN,OXYGEN_FLAG_W,SILCAT,SILCAT_FLAG_W,NITRAT,NITRAT_FLAG_W,PHSPHT,PHSPHT_FLAG_W,ALKALI,ALKALI_FLAG_W,PH_SWS,PH_SWS_FLAG_W,PH_TMP,THETA,BTL_DATE,BTL_TIME
,,,,,,,,,,METERS,DBAR,ITS-90,PSS-78,,UMOL/KG,,UMOL/KG,,UMOL/KG,,UMOL/KG,,UMOL/KG,,UMOL/KG,,,,DEG C,DEG C,,
  29AH20110128,   A05,   146,  1,      1,2,20110311,0131, 26.2033, -76.8377, 4255,   4244.8,   2.3151,  34.8941,2,    267.9,2,    266.0,2,    32.96,2,    18.41,2,     1.36,2,   -999.0,9,   7.7254,2,    25.00,   1.9437,20110311,0131
  29AH20110128,   A05,   146,  1,      2,2,20110311,0131, 26.2033, -76.8377, 4255,   4001.0,   2.3680,  34.8992,2,    268.8,2,    268.3,2,    30.65,2,    18.10,2,     1.30,2,   -999.0,9,   7.7257,2,    25.00,   2.0233,20110311,0136
  29AH20110128,   A05,   146,  1,      3,2,20110311,0131, 26.2033, -76.8377, 4255,   3501.1,   2.6145,  34.9166,2,    270.0,2,    268.3,2,    23.89,2,    17.64,2,     1.24,2,   -999.0,9,   7.7269,2,    25.00,   2.3190,20110311,0145
  29AH20110128,   A05,   146,  1,      4,2,20110311,0131, 26.2033, -76.8377, 4255,   3000.8,   3.0376,  34.9420,2,    265.7,2,    264.5,2,    22.05,2,    17.97,2,     1.29,2,   -999.0,9,   7.7323,2,    25.00,   2.7859,20110311,0155
  29AH20110128,   A05,   146,  1,      5,2,20110311,0131, 26.2033, -76.8377, 4255,   2499.6,   3.3962,  34.9531,2,    265.2,2,    264.1,2,    18.42,2,    17.78,2,     1.29,2,   -999.0,9,   7.7280,2,    25.00,   3.1890,20110311,0205
  29AH20110128,   A05,   146,  1,      6,2,20110311,0131, 26.2033, -76.8377, 4255,   1999.8,   3.6355,  34.9621,2,    263.8,2,    264.3,2,    17.17,2,    17.73,2,     1.29,2,   -999.0,9,   7.7257,2,    25.00,   3.4734,20110311,0214
  29AH20110128,   A05,   146,  1,      7,2,20110311,0131, 26.2033, -76.8377, 4255,   1750.9,   3.8119,  34.9731,2,    261.7,2,    262.3,2,    15.97,2,    17.83,2,     1.27,2,   -999.0,9,   7.7230,2,    25.00,   3.6708,20110311,0219
  29AH20110128,   A05,   146,  1,      8,2,20110311,0131, 26.2033, -76.8377, 4255,   1500.4,   4.0908,  34.9855,2,    257.5,2,    257.4,2,    14.91,2,    17.94,2,     1.29,2,   -999.0,9,   7.7185,2,    25.00,   3.9695,20110311,0224
  29AH20110128,   A05,   146,  1,      9,2,20110311,0131, 26.2033, -76.8377, 4255,   1300.3,   4.5190,  35.0045,2,    249.1,2,    250.0,2,    14.51,2,    18.20,2,     1.30,2,   -999.0,9,   7.7110,2,    25.00,   4.4115,20110311,0228
  29AH20110128,   A05,   146,  1,     10,2,20110311,0131, 26.2033, -76.8377, 4255,   1199.6,   4.7862,  35.0233,2,    243.9,2,    243.2,2,    13.90,2,    18.39,2,     1.31,2,   -999.0,9,   7.7087,2,    25.00,   4.6855,20110311,0230
  29AH20110128,   A05,   146,  1,     11,2,20110311,0131, 26.2033, -76.8377, 4255,   1100.4,   5.3169,  35.0546,2,    228.7,2,    227.2,2,    14.44,2,    19.29,2,     1.38,2,   -999.0,9,   7.7049,2,    25.00,   5.2208,20110311,0233
  29AH20110128,   A05,   146,  1,     12,2,20110311,0131, 26.2033, -76.8377, 4255,    999.2,   5.9283,  35.0745,2,    209.7,2,    207.4,2,    16.04,2,    20.73,2,     1.43,2,   -999.0,9,   7.6927,2,    25.00,   5.8371,20110311,0235
  29AH20110128,   A05,   146,  1,     13,2,20110311,0131, 26.2033, -76.8377, 4255,    901.6,   6.9647,  35.0946,2,    180.0,2,    176.7,2,    16.80,2,    22.84,2,     1.51,2,   -999.0,9,   7.6749,2,    25.00,   6.8761,20110311,0237
  29AH20110128,   A05,   146,  1,     14,2,20110311,0131, 26.2033, -76.8377, 4255,    801.1,   8.2643,  35.1421,2,    152.0,2,    151.3,2,    16.92,2,    24.21,2,     1.61,2,   -999.0,9,   7.6660,2,    25.00,   8.1784,20110311,0239
  29AH20110128,   A05,   146,  1,     15,2,20110311,0131, 26.2033, -76.8377, 4255,    601.0,  13.0336,  35.7065,2,    152.2,2,    153.3,2,     8.82,2,  -999.00,9,  -999.00,9,   -999.0,9,   7.7832,2,    25.00,  12.9490,20110311,0243
  29AH20110128,   A05,   146,  1,     16,2,20110311,0131, 26.2033, -76.8377, 4255,    401.1,  17.4606,  36.4408,2,    186.7,2,    187.3,2,     2.93,2,     6.61,2,     0.38,2,   -999.0,9,   7.9325,2,    25.00,  17.3922,20110311,0247
  29AH20110128,   A05,   146,  1,     17,2,20110311,0131, 26.2033, -76.8377, 4255,    299.8,  18.4617,  36.5952,2,    194.2,2,    194.5,2,     2.06,2,     4.09,2,     0.20,2,   -999.0,9,   7.9607,2,    25.00,  18.4086,20110311,0250
  29AH20110128,   A05,   146,  1,     18,2,20110311,0131, 26.2033, -76.8377, 4255,    200.6,  20.0571,  36.7383,2,    204.2,2,    203.9,2,     2.06,2,     1.52,2,     0.07,2,   -999.0,9,   8.0105,2,    25.00,  20.0196,20110311,0252
  29AH20110128,   A05,   146,  1,     19,2,20110311,0131, 26.2033, -76.8377, 4255,    148.7,  21.9274,  36.8297,2,    207.9,2,    205.9,2,     1.79,2,     0.53,2,     0.04,2,   -999.0,9,   8.0393,2,    25.00,  21.8978,20110311,0253
  29AH20110128,   A05,   146,  1,     20,2,20110311,0131, 26.2033, -76.8377, 4255,    124.5,  22.3178,  36.8167,2,    206.0,2,    206.2,2,     1.88,2,     0.46,2,     0.04,2,   -999.0,9,   8.0484,2,    25.00,  22.2927,20110311,0254
  29AH20110128,   A05,   146,  1,     21,2,20110311,0131, 26.2033, -76.8377, 4255,     75.7,  23.0436,  36.7740,2,    210.5,2,    207.9,2,     1.86,2,     0.20,2,     0.04,2,   -999.0,9,   8.0604,2,    25.00,  23.0280,20110311,0255
  29AH20110128,   A05,   146,  1,     22,2,20110311,0131, 26.2033, -76.8377, 4255,     50.2,  23.1301,  36.7635,2,    211.9,2,    211.3,2,     1.85,2,     0.21,2,     0.04,2,   -999.0,9,   8.0614,2,    25.00,  23.1197,20110311,0256
  29AH20110128,   A05,   146,  1,     23,2,20110311,0131, 26.2033, -76.8377, 4255,     24.3,  23.4296,  36.7086,2,    209.9,2,    209.9,2,     1.77,2,     0.18,2,     0.04,2,   -999.0,9,   8.0613,2,    25.00,  23.4245,20110311,0256
  29AH20110128,   A05,   146,  1,     24,2,20110311,0131, 26.2033, -76.8377, 4255,      5.4,  23.7814,  36.5791,2,    210.7,2,    210.0,2,     1.72,2,     0.20,2,     0.04,2,   -999.0,9,   8.0615,2,    25.00,  23.7803,20110311,0257
  29AH20110128,   A05,   147,  1,      1,2,20110311,0521, 26.2050, -76.8762, 3963,   3952.9,   2.4087,  34.9021,2,    269.6,2,    266.5,2,    29.17,2,    18.23,2,     1.33,2,   -999.0,9,   7.7183,2,    25.00,   2.0683,20110311,0521
  29AH20110128,   A05,   147,  1,      2,2,20110311,0521, 26.2050, -76.8762, 3963,   3499.9,   2.6219,  34.9168,2,    269.9,2,    268.7,2,    25.57,2,    17.95,2,     1.29,2,   -999.0,9,   7.7267,2,    25.00,   2.3264,20110311,0530
  29AH20110128,   A05,   147,  1,      3,2,20110311,0521, 26.2050, -76.8762, 3963,   2999.5,   3.0233,  34.9413,2,    266.0,2,    264.3,2,    21.99,2,    18.15,2,     1.31,2,   -999.0,9,   7.7312,2,    25.00,   2.7720,20110311,0539
  29AH20110128,   A05,   147,  1,      4,2,20110311,0521, 26.2050, -76.8762, 3963,   2500.1,   3.4100,  34.9534,2,    265.4,2,    264.5,2,    18.56,2,    17.99,2,     1.28,2,   -999.0,9,   7.7294,2,    25.00,   3.2025,20110311,0549
  29AH20110128,   A05,   147,  1,      5,2,20110311,0521, 26.2050, -76.8762, 3963,   2001.3,   3.6203,  34.9613,2,    264.3,2,    264.3,2,    17.04,2,    17.96,2,     1.27,2,   -999.0,9,   7.7239,2,    25.00,   3.4583,20110311,0559
  29AH20110128,   A05,   147,  1,      6,2,20110311,0521, 26.2050, -76.8762, 3963,   1750.4,   3.7870,  34.9673,2,    262.6,2,    261.8,2,    15.91,2,    17.98,2,     1.28,2,   -999.0,9,   7.7199,2,    25.00,   3.6463,20110311,0604
  29AH20110128,   A05,   147,  1,      7,2,20110311,0521, 26.2050, -76.8762, 3963,   1499.9,   4.2083,  34.9869,2,    255.9,2,    256.0,2,    14.52,2,    18.16,2,     1.28,2,   -999.0,9,   7.7122,2,    25.00,   4.0857,20110311,0609
  29AH20110128,   A05,   147,  1,      8,2,20110311,0521, 26.2050, -76.8762, 3963,   1300.4,   4.4911,  35.0029,2,    249.7,2,    248.3,2,  -999.00,9,  -999.00,9,  -999.00,9,   -999.0,9,   7.7100,2,    25.00,   4.3839,20110311,0613
  29AH20110128,   A05,   147,  1,      9,2,20110311,0521, 26.2050, -76.8762, 3963,   1200.4,   4.6885,  35.0125,2,    245.4,2,    244.9,2,    14.19,2,    18.72,2,     1.32,2,   -999.0,9,   7.7090,2,    25.00,   4.5886,20110311,0616
  29AH20110128,   A05,   147,  1,     10,2,20110311,0521, 26.2050, -76.8762, 3963,   1100.4,   5.3516,  35.0461,2,    227.2,2,    226.6,2,    15.00,2,    19.73,2,     1.38,2,   -999.0,9,   7.6993,2,    25.00,   5.2552,20110311,0618
  29AH20110128,   A05,   147,  1,     11,2,20110311,0521, 26.2050, -76.8762, 3963,    999.4,   5.7406,  35.0620,2,    215.8,2,    214.6,2,    15.42,2,    20.42,2,     1.41,2,   -999.0,9,   7.6907,2,    25.00,   5.6508,20110311,0620
  29AH20110128,   A05,   147,  1,     12,2,20110311,0521, 26.2050, -76.8762, 3963,    900.1,   6.8939,  35.0908,2,    182.7,2,    182.7,2,    17.29,2,    23.05,2,     1.59,2,   -999.0,9,   7.6736,2,    25.00,   6.8059,20110311,0622
  29AH20110128,   A05,   147,  1,     13,2,20110311,0521, 26.2050, -76.8762, 3963,    799.6,   8.5172,  35.1729,2,    156.0,2,    154.1,2,    16.19,2,    23.77,2,     1.61,2,   -999.0,9,   7.6688,2,    25.00,   8.4299,20110311,0624
  29AH20110128,   A05,   147,  1,     14,2,20110311,0521, 26.2050, -76.8762, 3963,    600.6,  13.1156,  35.7192,2,    152.7,2,    153.5,2,     9.17,2,  -999.00,9,     1.08,2,   -999.0,9,   7.7787,2,    25.00,  13.0307,20110311,0628
  29AH20110128,   A05,   147,  1,     15,2,20110311,0521, 26.2050, -76.8762, 3963,    400.5,  17.5854,  36.4724,2,    193.8,2,    194.1,2,     3.37,2,     6.11,2,     0.34,2,   -999.0,9,   7.9288,2,    25.00,  17.5167,20110311,0632
  29AH20110128,   A05,   147,  1,     16,2,20110311,0521, 26.2050, -76.8762, 3963,    300.3,  18.3746,  36.5900,2,    199.7,2,    199.6,2,     2.59,2,     3.82,2,     0.20,2,   -999.0,9,   7.9668,2,    25.00,  18.3216,20110311,0634
  29AH20110128,   A05,   147,  1,     17,2,20110311,0521, 26.2050, -76.8762, 3963,    200.5,  20.1225,  36.7422,2,    204.3,2,    203.4,2,     1.94,2,     1.27,2,     0.07,2,   -999.0,9,   7.9986,2,    25.00,  20.0849,20110311,0636
  29AH20110128,   A05,   147,  1,     18,2,20110311,0521, 26.2050, -76.8762, 3963,    149.2,  21.6708,  36.8302,2,    203.0,2,    203.3,2,     1.83,2,     0.53,2,     0.05,2,   -999.0,9,   8.0186,2,    25.00,  21.6413,20110311,0638
  29AH20110128,   A05,   147,  1,     19,2,20110311,0521, 26.2050, -76.8762, 3963,    124.9,  22.3951,  36.8292,2,    211.0,2,    213.4,2,     1.87,2,     0.22,2,     0.05,2,   -999.0,9,   8.0474,2,    25.00,  22.3699,20110311,0638
  29AH20110128,   A05,   147,  1,     20,2,20110311,0521, 26.2050, -76.8762, 3963,     99.9,  22.8108,  36.8131,2,    205.6,2,    208.3,2,     1.88,2,     0.32,2,     0.05,2,   -999.0,9,   8.0504,2,    25.00,  22.7904,20110311,0639
  29AH20110128,   A05,   147,  1,     21,2,20110311,0521, 26.2050, -76.8762, 3963,     76.8,  23.0513,  36.7774,2,    207.8,2,    205.4,2,     1.87,2,     0.41,2,     0.04,2,   -999.0,9,   8.0450,2,    25.00,  23.0355,20110311,0640
  29AH20110128,   A05,   147,  1,     22,2,20110311,0521, 26.2050, -76.8762, 3963,     51.6,  23.2948,  36.7764,2,    207.7,2,    207.1,2,     1.83,2,     0.34,2,     0.04,2,   -999.0,9,   8.0537,2,    25.00,  23.2841,20110311,0640
  29AH20110128,   A05,   147,  1,     23,2,20110311,0521, 26.2050, -76.8762, 3963,     25.4,  23.4473,  36.6490,2,    211.3,2,    208.6,2,     1.84,2,     0.19,2,     0.04,2,   -999.0,9,   8.0582,2,    25.00,  23.4420,20110311,0641
  29AH20110128,   A05,   147,  1,     24,2,20110311,0521, 26.2050, -76.8762, 3963,      3.9,  23.5667,  36.6119,2,    210.5,2,    209.6,2,     1.90,2,     0.13,2,     0.05,2,   -999.0,9,   8.0596,2,    25.00,  23.5659,20110311,0642
  29AH20110128,   A05,   148,  1,      1,2,20110311,0837, 26.2042, -76.9142, 3709,   3699.4,   2.4909,  34.9086,2,    270.5,2,    269.0,2,    30.56,2,    16.76,3,     1.37,2,   -999.0,9,   7.7257,2,    25.00,   2.1768,20110311,0837
  29AH20110128,   A05,   148,  1,      2,2,20110311,0837, 26.2042, -76.9142, 3709,   3499.5,   2.6272,  34.9168,2,    269.6,2,    270.4,2,  -999.00,9,    17.00,3,     1.35,2,   -999.0,9,   7.7273,2,    25.00,   2.3316,20110311,0841
  29AH20110128,   A05,   148,  1,      3,2,20110311,0837, 26.2042, -76.9142, 3709,   2999.9,   3.0004,  34.9396,2,    266.5,2,    266.1,2,    25.09,2,    16.18,3,     1.33,2,   -999.0,9,   7.7284,2,    25.00,   2.7496,20110311,0851
  29AH20110128,   A05,   148,  1,      4,2,20110311,0837, 26.2042, -76.9142, 3709,   2500.0,   3.3817,  34.9544,2,    264.9,2,    264.7,2,    21.72,2,    17.67,2,     1.34,2,   -999.0,9,   7.7250,2,    25.00,   3.1747,20110311,0900
  29AH20110128,   A05,   148,  1,      5,2,20110311,0837, 26.2042, -76.9142, 3709,   1999.0,   3.6780,  34.9664,2,    263.6,2,    264.3,2,    13.77,3,  -999.00,9,     1.22,2,   -999.0,9,   7.7190,2,    25.00,   3.5153,20110311,0910
  29AH20110128,   A05,   148,  1,      6,2,20110311,0837, 26.2042, -76.9142, 3709,   1750.3,   3.8422,  34.9676,2,    262.3,2,    263.5,2,    14.60,2,    12.21,4,     1.27,2,   -999.0,9,   7.7160,2,    25.00,   3.7008,20110311,0915
  29AH20110128,   A05,   148,  1,      7,2,20110311,0837, 26.2042, -76.9142, 3709,   1499.3,   4.2227,  34.9869,2,    256.0,2,    256.8,2,    16.31,3,    17.01,3,     1.34,3,   -999.0,9,   7.7096,2,    25.00,   4.1000,20110311,0920
  29AH20110128,   A05,   148,  1,      8,2,20110311,0837, 26.2042, -76.9142, 3709,   1300.3,   4.5028,  35.0036,2,    249.4,2,    250.0,2,    13.27,2,    13.19,4,     1.29,2,   -999.0,9,   7.7048,2,    25.00,   4.3955,20110311,0924
  29AH20110128,   A05,   148,  1,      9,2,20110311,0837, 26.2042, -76.9142, 3709,   1198.9,   4.7759,  35.0186,2,    242.5,2,    242.6,2,    14.57,2,    14.08,4,     1.33,2,   -999.0,9,   7.6999,2,    25.00,   4.6753,20110311,0926
  29AH20110128,   A05,   148,  1,     10,2,20110311,0837, 26.2042, -76.9142, 3709,   1100.1,   5.3015,  35.0439,2,    228.7,2,    231.1,2,    16.75,2,    17.79,4,     1.45,3,   -999.0,9,   7.6918,2,    25.00,   5.2056,20110311,0928
  29AH20110128,   A05,   148,  1,     11,2,20110311,0837, 26.2042, -76.9142, 3709,    999.5,   5.7827,  35.0636,2,    216.6,2,    215.2,2,    13.96,2,  -999.00,9,     1.38,2,   -999.0,9,   7.6851,2,    25.00,   5.6926,20110311,0930
  29AH20110128,   A05,   148,  1,     12,2,20110311,0837, 26.2042, -76.9142, 3709,    900.6,   6.7863,  35.0923,2,    186.7,2,    186.0,2,    14.33,2,  -999.00,9,     1.51,2,   -999.0,9,   7.6688,2,    25.00,   6.6990,20110311,0932
  29AH20110128,   A05,   148,  1,     13,2,20110311,0837, 26.2042, -76.9142, 3709,    799.9,   8.7135,  35.1880,2,    153.1,2,    161.9,3,    19.08,3,    23.28,2,     1.71,2,   -999.0,9,   7.6592,2,    25.00,   8.6250,20110311,0936
  29AH20110128,   A05,   148,  1,     14,2,20110311,0837, 26.2042, -76.9142, 3709,    599.2,  12.9672,  35.6969,2,    151.8,2,    152.3,2,     7.77,2,    12.84,3,     1.11,2,   -999.0,9,   7.7572,2,    25.00,  12.8831,20110311,0940
  29AH20110128,   A05,   148,  1,     15,2,20110311,0837, 26.2042, -76.9142, 3709,    400.0,  17.5000,  36.4551,2,    191.2,2,    193.6,2,     3.40,2,     6.09,2,     0.38,2,   -999.0,9,   7.9121,2,    25.00,  17.4316,20110311,0944
  29AH20110128,   A05,   148,  1,     16,2,20110311,0837, 26.2042, -76.9142, 3709,    300.4,  18.3515,  36.5880,2,    200.5,2,    200.5,2,     1.95,2,     2.82,2,     0.19,2,   -999.0,9,   7.9442,2,    25.00,  18.2986,20110311,0946
  29AH20110128,   A05,   148,  1,     17,2,20110311,0837, 26.2042, -76.9142, 3709,    200.3,  20.1653,  36.7438,2,    205.0,2,    206.0,2,     2.00,2,     1.15,2,     0.08,2,   -999.0,9,   7.9940,2,    25.00,  20.1277,20110311,0948
  29AH20110128,   A05,   148,  1,     18,2,20110311,0837, 26.2042, -76.9142, 3709,    149.8,  21.7487,  36.8259,2,    209.5,2,    210.9,2,     1.89,2,     0.10,2,     0.05,2,   -999.0,9,   8.0331,2,    25.00,  21.7191,20110311,0949
  29AH20110128,   A05,   148,  1,     19,2,20110311,0837, 26.2042, -76.9142, 3709,    124.6,  22.4408,  36.8020,2,    202.7,2,    202.2,2,     2.17,2,     0.60,2,     0.05,2,   -999.0,9,   8.0340,2,    25.00,  22.4156,20110311,0950
  29AH20110128,   A05,   148,  1,     20,2,20110311,0837, 26.2042, -76.9142, 3709,    100.9,  22.5586,  36.7936,2,    203.9,2,    203.9,2,     2.31,2,     0.57,2,     0.06,2,   -999.0,9,   8.0424,2,    25.00,  22.5381,20110311,0951
  29AH20110128,   A05,   148,  1,     21,2,20110311,0837, 26.2042, -76.9142, 3709,     74.4,  23.2087,  36.7960,2,    205.4,2,    206.5,2,     2.32,2,     0.47,2,     0.06,2,   -999.0,9,   8.0496,2,    25.00,  23.1933,20110311,0951
  29AH20110128,   A05,   148,  1,     22,2,20110311,0837, 26.2042, -76.9142, 3709,     51.9,  23.2256,  36.7015,2,    209.6,2,    208.3,2,     2.30,2,     0.23,2,     0.05,2,   -999.0,9,   8.0555,2,    25.00,  23.2149,20110311,0952
  29AH20110128,   A05,   148,  1,     23,2,20110311,0837, 26.2042, -76.9142, 3709,     24.0,  23.4403,  36.6409,2,    211.2,2,    210.3,2,     2.27,2,     0.11,2,     0.05,2,   -999.0,9,   8.0571,2,    25.00,  23.4353,20110311,0953
  29AH20110128,   A05,   148,  1,     24,2,20110311,0837, 26.2042, -76.9142, 3709,      5.5,  23.4408,  36.6398,2,    211.3,2,    210.4,2,     2.23,2,     0.09,2,     0.05,2,   -999.0,9,   8.0575,2,    25.00,  23.4397,20110311,0953