BOTTLE,20220930CCHSIOAMB
EXPOCODE,SECT_ID,STNNBR,CASTNO,BTLNBR,BTLNBR_FLAG_W,DATE,TIME,LATITUDE,LONGITUDE,DEPTH,CTDPRS,CTDTMP,CTDSAL,CTDSAL_FLAG_W,CTDOXY,CTDOXY_FLAG_W,OXYGEN,OXYGEN_FLAG_W,SILCAT,SILCAT_FLAG_W,NITRAT,NITRAT_FLAG_W,PHSPHT,PHSPHT_FLAG_W,ALKALI,ALKALI_FLAG_W,PH_SWS,PH_SWS_FLAG_W,PH_TMP,THETA,BTL_DATE,BTL_TIME
,,,,,,,,,,METERS,DBAR,ITS-90,PSS-78,,UMOL/KG,,UMOL/KG,,UMOL/KG,,UMOL/KG,,UMOL/KG,,UMOL/KG,,,,DEG C,DEG C,,
  29AH20110128,   A05,   107,  1,      1,2,20110228,1736, 24.5015, -63.8432, 5956,   5945.6,   2.1007,  34.8462,2,    249.2,2,    250.1,2,  -999.00,9,  -999.00,9,  -999.00,9,   -999.0,9,   7.7044,2,    25.00,   1.5214,20110228,1736
  29AH20110128,   A05,   107,  1,      2,2,20110228,1736, 24.5015, -63.8432, 5956,   5499.6,   2.0505,  34.8484,2,    248.9,2,    249.2,2,  -999.00,9,  -999.00,9,  -999.00,9,   -999.0,9,   7.7077,2,    25.00,   1.5326,20110228,1745
  29AH20110128,   A05,   107,  1,      3,2,20110228,1736, 24.5015, -63.8432, 5956,   4999.7,   2.1226,  34.8656,2,    254.0,2,    254.3,2,  -999.00,9,  -999.00,9,  -999.00,9,   -999.0,9,   7.7176,2,    25.00,   1.6660,20110228,1754
  29AH20110128,   A05,   107,  1,      4,2,20110228,1736, 24.5015, -63.8432, 5956,   4500.2,   2.2595,  34.8893,2,    261.7,2,    260.3,2,  -999.00,9,  -999.00,9,  -999.00,9,   -999.0,9,   7.7251,2,    25.00,   1.8595,20110228,1804
  29AH20110128,   A05,   107,  1,      5,2,20110228,1736, 24.5015, -63.8432, 5956,   4000.4,   2.3289,  34.8998,2,    263.7,2,    263.3,2,  -999.00,9,  -999.00,9,  -999.00,9,   -999.0,9,   7.7326,2,    25.00,   1.9853,20110228,1814
  29AH20110128,   A05,   107,  1,      6,2,20110228,1736, 24.5015, -63.8432, 5956,   3500.2,   2.4822,  34.9133,2,    260.3,2,    261.5,2,  -999.00,9,  -999.00,9,  -999.00,9,   -999.0,9,   7.7321,2,    25.00,   2.1901,20110228,1823
  29AH20110128,   A05,   107,  1,      7,2,20110228,1736, 24.5015, -63.8432, 5956,   2999.2,   2.7591,  34.9351,2,    255.6,2,    257.3,2,  -999.00,9,  -999.00,9,  -999.00,9,   -999.0,9,   7.7306,2,    25.00,   2.5136,20110228,1833
  29AH20110128,   A05,   107,  1,      8,2,20110228,1736, 24.5015, -63.8432, 5956,   2500.9,   3.1027,  34.9617,2,    253.9,2,    257.4,2,  -999.00,9,  -999.00,9,  -999.00,9,   -999.0,9,   7.7319,2,    25.00,   2.9007,20110228,1843
  29AH20110128,   A05,   107,  1,      9,2,20110228,1736, 24.5015, -63.8432, 5956,   2001.7,   3.6454,  34.9918,2,    254.7,2,    257.4,2,  -999.00,9,  -999.00,9,  -999.00,9,   -999.0,9,   7.7307,2,    25.00,   3.4829,20110228,1852
  29AH20110128,   A05,   107,  1,     10,2,20110228,1736, 24.5015, -63.8432, 5956,   1749.3,   3.9562,  35.0003,2,    254.9,2,    258.6,2,  -999.00,9,  -999.00,9,  -999.00,9,   -999.0,9,   7.7247,2,    25.00,   3.8133,20110228,1857
  29AH20110128,   A05,   107,  1,     11,2,20110228,1736, 24.5015, -63.8432, 5956,   1500.2,   4.4896,  35.0345,2,    245.7,2,    248.2,2,  -999.00,9,  -999.00,9,  -999.00,9,   -999.0,9,   7.7185,2,    25.00,   4.3637,20110228,1902
  29AH20110128,   A05,   107,  1,     12,2,20110228,1736, 24.5015, -63.8432, 5956,   1300.2,   5.1033,  35.0639,2,    230.5,2,    232.0,2,  -999.00,9,  -999.00,9,  -999.00,9,   -999.0,9,   7.7100,2,    25.00,   4.9900,20110228,1906
  29AH20110128,   A05,   107,  1,     13,2,20110228,1736, 24.5015, -63.8432, 5956,   1199.6,   5.5059,  35.0592,2,    215.1,2,    215.9,2,  -999.00,9,  -999.00,9,  -999.00,9,   -999.0,9,   7.6957,2,    25.00,   5.3986,20110228,1908
  29AH20110128,   A05,   107,  1,     14,2,20110228,1736, 24.5015, -63.8432, 5956,    999.5,   6.6759,  35.0232,2,    166.0,2,    165.1,2,  -999.00,9,  -999.00,9,  -999.00,9,   -999.0,9,   7.6503,2,    25.00,   6.5792,20110228,1912
  29AH20110128,   A05,   107,  1,     15,2,20110228,1736, 24.5015, -63.8432, 5956,    800.7,   9.1870,  35.2096,2,    141.9,2,    142.7,2,  -999.00,9,  -999.00,9,  -999.00,9,   -999.0,9,   7.6727,2,    25.00,   9.0957,20110228,1916
  29AH20110128,   A05,   107,  1,     16,2,20110228,1736, 24.5015, -63.8432, 5956,    600.7,  12.6350,  35.6494,2,    151.1,2,    151.3,2,  -999.00,9,  -999.00,9,  -999.00,9,   -999.0,9,   7.7632,2,    25.00,  12.5521,20110228,1920
  29AH20110128,   A05,   107,  1,     17,2,20110228,1736, 24.5015, -63.8432, 5956,    401.3,  16.7868,  36.3303,2,    177.7,2,    178.5,2,  -999.00,9,  -999.00,9,  -999.00,9,   -999.0,9,   7.8900,2,    25.00,  16.7202,20110228,1924
  29AH20110128,   A05,   107,  1,     18,2,20110228,1736, 24.5015, -63.8432, 5956,    300.7,  18.1685,  36.5712,2,    186.6,2,    187.6,2,  -999.00,9,  -999.00,9,  -999.00,9,   -999.0,9,   7.9340,2,    25.00,  18.1159,20110228,1926
  29AH20110128,   A05,   107,  1,     19,2,20110228,1736, 24.5015, -63.8432, 5956,    151.5,  21.4190,  36.8480,2,    193.5,2,    194.8,2,  -999.00,9,  -999.00,9,  -999.00,9,   -999.0,9,   8.0086,2,    25.00,  21.3893,20110228,1929
  29AH20110128,   A05,   107,  1,     20,2,20110228,1736, 24.5015, -63.8432, 5956,    126.4,  22.3558,  36.9171,2,    198.6,2,    200.8,2,  -999.00,9,  -999.00,9,  -999.00,9,   -999.0,9,   8.0316,2,    25.00,  22.3303,20110228,1930
  29AH20110128,   A05,   107,  1,     21,2,20110228,1736, 24.5015, -63.8432, 5956,     74.3,  23.6808,  36.7631,2,    210.7,2,    210.4,2,  -999.00,9,  -999.00,9,  -999.00,9,   -999.0,9,   8.0710,2,    25.00,  23.6652,20110228,1931
  29AH20110128,   A05,   107,  1,     22,2,20110228,1736, 24.5015, -63.8432, 5956,     50.9,  24.1183,  36.5807,2,    210.0,2,    210.2,2,  -999.00,9,  -999.00,9,  -999.00,9,   -999.0,9,   8.0809,2,    25.00,  24.1075,20110228,1932
  29AH20110128,   A05,   107,  1,     23,2,20110228,1736, 24.5015, -63.8432, 5956,     25.5,  24.1213,  36.5738,2,    210.5,2,    210.3,2,  -999.00,9,  -999.00,9,  -999.00,9,   -999.0,9,   8.0766,2,    25.00,  24.1159,20110228,1932
  29AH20110128,   A05,   107,  1,     24,2,20110228,1736, 24.5015, -63.8432, 5956,      5.1,  24.1690,  36.5766,2,    210.5,2,    210.4,2,  -999.00,9,  -999.00,9,  -999.00,9,   -999.0,9,   8.0801,2,    25.00,  24.1679,20110228,1933
  29AH20110128,   A05,   108,  1,      1,2,20110301,0123, 24.5012, -64.4560, 5897,   5887.2,   2.0997,  34.8470,2,    249.4,2,    248.1,2,  -999.00,9,  -999.00,9,  -999.00,9,   2351.0,2,   7.7039,2,    25.00,   1.5284,20110301,0123
  29AH20110128,   A05,   108,  1,      2,2,20110301,0123, 24.5012, -64.4560, 5897,   5498.6,   2.0583,  34.8493,2,    249.1,2,    248.9,2,  -999.00,9,  -999.00,9,  -999.00,9,   2348.2,2,   7.7055,2,    25.00,   1.5402,20110301,0130
  29AH20110128,   A05,   108,  1,      3,2,20110301,0123, 24.5012, -64.4560, 5897,   5000.0,   2.1115,  34.8644,2,    253.9,2,    252.9,2,  -999.00,9,  -999.00,9,  -999.00,9,   2342.4,2,   7.7048,2,    25.00,   1.6552,20110301,0139
  29AH20110128,   A05,   108,  1,      4,2,20110301,0123, 24.5012, -64.4560, 5897,   4500.0,   2.2574,  34.8891,2,    262.9,2,    261.3,2,  -999.00,9,  -999.00,9,  -999.00,9,   2334.1,2,   7.7219,2,    25.00,   1.8575,20110301,0149
  29AH20110128,   A05,   108,  1,      5,2,20110301,0123, 24.5012, -64.4560, 5897,   3999.5,   2.3088,  34.8984,2,    265.5,2,    265.7,2,  -999.00,9,  -999.00,9,  -999.00,9,   2327.2,2,   7.7280,2,    25.00,   1.9659,20110301,0159
  29AH20110128,   A05,   108,  1,      6,2,20110301,0123, 24.5012, -64.4560, 5897,   3500.2,   2.4345,  34.9101,2,    263.2,2,    263.2,2,  -999.00,9,  -999.00,9,  -999.00,9,   2328.6,2,   7.7294,2,    25.00,   2.1436,20110301,0208
  29AH20110128,   A05,   108,  1,      7,2,20110301,0123, 24.5012, -64.4560, 5897,   2999.6,   2.7307,  34.9337,2,    255.9,2,    256.1,2,  -999.00,9,  -999.00,9,  -999.00,9,   2330.6,2,   7.7324,2,    25.00,   2.4858,20110301,0218
  29AH20110128,   A05,   108,  1,      8,2,20110301,0123, 24.5012, -64.4560, 5897,   2501.4,   3.1048,  34.9634,2,    252.9,2,    253.8,2,  -999.00,9,  -999.00,9,  -999.00,9,   2327.4,2,   7.7326,2,    25.00,   2.9027,20110301,0228
  29AH20110128,   A05,   108,  1,      9,2,20110301,0123, 24.5012, -64.4560, 5897,   2000.3,   3.6107,  34.9926,2,    253.9,2,    254.5,2,  -999.00,9,  -999.00,9,  -999.00,9,   2323.0,2,   7.7313,2,    25.00,   3.4488,20110301,0237
  29AH20110128,   A05,   108,  1,     10,2,20110301,0123, 24.5012, -64.4560, 5897,   1750.5,   3.9315,  35.0031,2,    253.2,2,    254.6,2,  -999.00,9,  -999.00,9,  -999.00,9,   -999.0,9,   7.7268,2,    25.00,   3.7888,20110301,0242
  29AH20110128,   A05,   108,  1,     11,2,20110301,0123, 24.5012, -64.4560, 5897,   1499.6,   4.4571,  35.0369,2,    246.2,2,    247.1,2,  -999.00,9,  -999.00,9,  -999.00,9,   2320.4,2,   7.7207,2,    25.00,   4.3316,20110301,0247
  29AH20110128,   A05,   108,  1,     12,2,20110301,0123, 24.5012, -64.4560, 5897,   1300.2,   4.9088,  35.0497,2,    235.0,2,    235.7,2,  -999.00,9,  -999.00,9,  -999.00,9,   -999.0,9,   7.7116,2,    25.00,   4.7974,20110301,0252
  29AH20110128,   A05,   108,  1,     13,2,20110301,0123, 24.5012, -64.4560, 5897,   1200.3,   5.3357,  35.0623,2,    220.5,2,    217.3,2,  -999.00,9,  -999.00,9,  -999.00,9,   -999.0,9,   7.6960,2,    25.00,   5.2299,20110301,0254
  29AH20110128,   A05,   108,  1,     14,2,20110301,0123, 24.5012, -64.4560, 5897,    999.1,   6.5243,  35.0472,2,    176.3,2,    174.3,2,  -999.00,9,  -999.00,9,  -999.00,9,   -999.0,9,   7.6645,2,    25.00,   6.4288,20110301,0258
  29AH20110128,   A05,   108,  1,     15,2,20110301,0123, 24.5012, -64.4560, 5897,    800.5,   8.8573,  35.1773,2,    142.0,2,    141.0,2,  -999.00,9,  -999.00,9,  -999.00,9,   -999.0,9,   7.6661,2,    25.00,   8.7679,20110301,0302
  29AH20110128,   A05,   108,  1,     16,2,20110301,0123, 24.5012, -64.4560, 5897,    598.7,  12.5344,  35.6317,2,    150.3,2,    150.3,2,  -999.00,9,  -999.00,9,  -999.00,9,   2337.5,2,   7.7608,2,    25.00,  12.4523,20110301,0306
  29AH20110128,   A05,   108,  1,     17,2,20110301,0123, 24.5012, -64.4560, 5897,    401.8,  16.5229,  36.2795,2,    178.6,2,    178.5,2,  -999.00,9,  -999.00,9,  -999.00,9,   -999.0,9,   7.8965,2,    25.00,  16.4569,20110301,0310
  29AH20110128,   A05,   108,  1,     18,2,20110301,0123, 24.5012, -64.4560, 5897,    300.1,  17.8566,  36.5171,2,    186.2,2,    186.0,2,  -999.00,9,  -999.00,9,  -999.00,9,   2389.9,2,   7.9327,2,    25.00,  17.8047,20110301,0312
  29AH20110128,   A05,   108,  1,     19,2,20110301,0123, 24.5012, -64.4560, 5897,    149.7,  20.9141,  36.9721,2,    176.9,2,    178.3,2,  -999.00,9,  -999.00,9,  -999.00,9,   2413.7,2,   7.9734,2,    25.00,  20.8852,20110301,0315
  29AH20110128,   A05,   108,  1,     20,2,20110301,0123, 24.5012, -64.4560, 5897,    126.1,  21.8932,  36.9878,2,    189.1,2,    189.4,2,  -999.00,9,  -999.00,9,  -999.00,9,   -999.0,9,   8.0032,2,    25.00,  21.8681,20110301,0316
  29AH20110128,   A05,   108,  1,     21,2,20110301,0123, 24.5012, -64.4560, 5897,     75.2,  22.9714,  36.8663,2,    208.7,2,    203.8,2,  -999.00,9,  -999.00,9,  -999.00,9,   -999.0,9,   8.0461,2,    25.00,  22.9559,20110301,0317
  29AH20110128,   A05,   108,  1,     22,2,20110301,0123, 24.5012, -64.4560, 5897,     50.8,  23.3301,  36.8368,2,    210.6,2,    210.4,2,  -999.00,9,  -999.00,9,  -999.00,9,   -999.0,9,   8.0667,2,    25.00,  23.3195,20110301,0318
  29AH20110128,   A05,   108,  1,     23,2,20110301,0123, 24.5012, -64.4560, 5897,     24.0,  23.7512,  36.6684,2,    211.3,2,    209.1,2,  -999.00,9,  -999.00,9,  -999.00,9,   -999.0,9,   8.0787,2,    25.00,  23.7462,20110301,0318
  29AH20110128,   A05,   108,  1,     24,2,20110301,0123, 24.5012, -64.4560, 5897,      4.6,  23.7486,  36.6676,2,    211.6,2,    211.1,2,  -999.00,9,  -999.00,9,  -999.00,9,   2397.7,2,   8.0738,2,    25.00,  23.7476,20110301,0319
  29AH20110128,   A05,   109,  1,      1,2,20110301,0901, 24.5002, -65.0695, 5969,   5959.0,   2.1201,  34.8482,2,    249.4,2,    245.4,2,  -999.00,9,  -999.00,9,  -999.00,9,   -999.0,9,   7.6890,2,    25.00,   1.5382,20110301,0901
  29AH20110128,   A05,   109,  1,      2,2,20110301,0901, 24.5002, -65.0695, 5969,   5500.0,   2.0808,  34.8521,2,    250.3,2,    250.0,2,  -999.00,9,  -999.00,9,  -999.00,9,   -999.0,9,   7.7071,2,    25.00,   1.5617,20110301,0910
  29AH20110128,   A05,   109,  1,      3,2,20110301,0901, 24.5002, -65.0695, 5969,   5000.4,   2.1033,  34.8634,2,    253.3,2,    252.3,2,  -999.00,9,  -999.00,9,  -999.00,9,   -999.0,9,   7.7135,2,    25.00,   1.6473,20110301,0919
  29AH20110128,   A05,   109,  1,      4,2,20110301,0901, 24.5002, -65.0695, 5969,   4500.3,   2.2422,  34.8874,2,    261.1,2,    261.2,2,  -999.00,9,  -999.00,9,  -999.00,9,   -999.0,9,   7.7260,2,    25.00,   1.8428,20110301,0929
  29AH20110128,   A05,   109,  1,      5,2,20110301,0901, 24.5002, -65.0695, 5969,   3999.4,   2.3301,  34.9004,2,    263.9,2,    264.3,2,  -999.00,9,  -999.00,9,  -999.00,9,   -999.0,9,   7.7288,2,    25.00,   1.9866,20110301,0939
  29AH20110128,   A05,   109,  1,      6,2,20110301,0901, 24.5002, -65.0695, 5969,   3499.1,   2.4664,  34.9127,2,    261.8,2,    262.9,2,  -999.00,9,  -999.00,9,  -999.00,9,   -999.0,9,   7.7333,2,    25.00,   2.1748,20110301,0948
  29AH20110128,   A05,   109,  1,      7,2,20110301,0901, 24.5002, -65.0695, 5969,   3000.3,   2.7316,  34.9330,2,    256.5,2,    257.6,2,  -999.00,9,  -999.00,9,  -999.00,9,   -999.0,9,   7.7324,2,    25.00,   2.4866,20110301,0958
  29AH20110128,   A05,   109,  1,      8,2,20110301,0901, 24.5002, -65.0695, 5969,   2499.7,   3.0442,  34.9536,2,    257.4,2,    258.2,2,  -999.00,9,  -999.00,9,  -999.00,9,   -999.0,9,   7.7341,2,    25.00,   2.8434,20110301,1008
  29AH20110128,   A05,   109,  1,      9,2,20110301,0901, 24.5002, -65.0695, 5969,   2001.2,   3.5724,  34.9860,2,    255.3,2,    257.6,2,  -999.00,9,  -999.00,9,  -999.00,9,   -999.0,9,   7.7350,2,    25.00,   3.4110,20110301,1017
  29AH20110128,   A05,   109,  1,     10,2,20110301,0901, 24.5002, -65.0695, 5969,   1750.6,   3.9070,  35.0006,2,    254.5,2,    256.8,2,  -999.00,9,  -999.00,9,  -999.00,9,   -999.0,9,   7.7287,2,    25.00,   3.7646,20110301,1022
  29AH20110128,   A05,   109,  1,     11,2,20110301,0901, 24.5002, -65.0695, 5969,   1499.9,   4.3786,  35.0285,2,    248.1,2,    248.8,2,  -999.00,9,  -999.00,9,  -999.00,9,   -999.0,9,   7.7228,2,    25.00,   4.2540,20110301,1027
  29AH20110128,   A05,   109,  1,     12,2,20110301,0901, 24.5002, -65.0695, 5969,   1300.1,   4.9242,  35.0585,2,    234.6,2,    236.0,2,  -999.00,9,  -999.00,9,  -999.00,9,   -999.0,9,   7.7156,2,    25.00,   4.8127,20110301,1031
  29AH20110128,   A05,   109,  1,     13,2,20110301,0901, 24.5002, -65.0695, 5969,   1199.9,   5.2881,  35.0638,2,    222.3,2,    222.3,2,  -999.00,9,  -999.00,9,  -999.00,9,   -999.0,9,   7.7049,2,    25.00,   5.1827,20110301,1034
  29AH20110128,   A05,   109,  1,     14,2,20110301,0901, 24.5002, -65.0695, 5969,   1001.2,   6.4593,  35.0647,2,    183.6,2,    183.6,2,  -999.00,9,  -999.00,9,  -999.00,9,   -999.0,9,   7.6726,2,    25.00,   6.3640,20110301,1038
  29AH20110128,   A05,   109,  1,     15,2,20110301,0901, 24.5002, -65.0695, 5969,    800.2,   8.4312,  35.1280,2,    142.4,2,    143.1,2,  -999.00,9,  -999.00,9,  -999.00,9,   -999.0,9,   7.6549,2,    25.00,   8.3444,20110301,1042
  29AH20110128,   A05,   109,  1,     16,2,20110301,0901, 24.5002, -65.0695, 5969,    600.3,  12.8045,  35.6750,2,    154.0,2,    155.6,2,  -999.00,9,  -999.00,9,  -999.00,9,   -999.0,9,   7.7751,2,    25.00,  12.7210,20110301,1046
  29AH20110128,   A05,   109,  1,     17,2,20110301,0901, 24.5002, -65.0695, 5969,    401.2,  16.6440,  36.3003,2,    180.7,2,    181.5,2,  -999.00,9,  -999.00,9,  -999.00,9,   -999.0,9,   7.8974,2,    25.00,  16.5778,20110301,1050
  29AH20110128,   A05,   109,  1,     18,2,20110301,0901, 24.5002, -65.0695, 5969,    301.1,  17.8975,  36.5223,2,    193.2,2,    193.7,2,  -999.00,9,  -999.00,9,  -999.00,9,   -999.0,9,   7.9396,2,    25.00,  17.8453,20110301,1052
  29AH20110128,   A05,   109,  1,     19,2,20110301,0901, 24.5002, -65.0695, 5969,    150.8,  20.0138,  36.8081,2,    184.5,2,    185.1,2,  -999.00,9,  -999.00,9,  -999.00,9,   -999.0,9,   7.9672,2,    25.00,  19.9856,20110301,1055
  29AH20110128,   A05,   109,  1,     20,2,20110301,0901, 24.5002, -65.0695, 5969,    110.1,  21.1949,  36.9051,2,    188.9,2,    188.1,2,  -999.00,9,  -999.00,9,  -999.00,9,   -999.0,9,   7.9932,2,    25.00,  21.1735,20110301,1056
  29AH20110128,   A05,   109,  1,     21,2,20110301,0901, 24.5002, -65.0695, 5969,     74.7,  22.6704,  36.9095,2,    210.7,2,    210.2,2,  -999.00,9,  -999.00,9,  -999.00,9,   -999.0,9,   8.0517,2,    25.00,  22.6552,20110301,1057
  29AH20110128,   A05,   109,  1,     22,2,20110301,0901, 24.5002, -65.0695, 5969,     38.1,  23.6707,  36.6801,2,    211.6,2,    211.1,2,  -999.00,9,  -999.00,9,  -999.00,9,   -999.0,9,   8.0713,2,    25.00,  23.6627,20110301,1058
  29AH20110128,   A05,   109,  1,     23,2,20110301,0901, 24.5002, -65.0695, 5969,     25.6,  23.6930,  36.6751,2,    211.5,2,    211.4,2,  -999.00,9,  -999.00,9,  -999.00,9,   -999.0,9,   8.0781,2,    25.00,  23.6876,20110301,1058
  29AH20110128,   A05,   109,  1,     24,2,20110301,0901, 24.5002, -65.0695, 5969,      5.0,  23.7386,  36.6663,2,    211.2,2,    211.2,2,  -999.00,9,  -999.00,9,  -999.00,9,   -999.0,9,   8.0790,2,    25.00,  23.7376,20110301,1059