BOTTLE,20220930CCHSIOAMB
EXPOCODE,SECT_ID,STNNBR,CASTNO,BTLNBR,BTLNBR_FLAG_W,DATE,TIME,LATITUDE,LONGITUDE,DEPTH,CTDPRS,CTDTMP,CTDSAL,CTDSAL_FLAG_W,CTDOXY,CTDOXY_FLAG_W,OXYGEN,OXYGEN_FLAG_W,SILCAT,SILCAT_FLAG_W,NITRAT,NITRAT_FLAG_W,PHSPHT,PHSPHT_FLAG_W,ALKALI,ALKALI_FLAG_W,PH_SWS,PH_SWS_FLAG_W,PH_TMP,THETA,BTL_DATE,BTL_TIME
,,,,,,,,,,METERS,DBAR,ITS-90,PSS-78,,UMOL/KG,,UMOL/KG,,UMOL/KG,,UMOL/KG,,UMOL/KG,,UMOL/KG,,,,DEG C,DEG C,,
  29AH20110128,   A05,    86,  1,      1,2,20110221,2028, 24.4985, -51.4233, 5202,   4902.3,   2.1269,  34.8645,2,    253.3,2,    253.0,2,    45.10,2,    20.60,2,     1.52,2,   -999.0,9,   7.7180,2,    25.00,   1.6823,20110221,2028
  29AH20110128,   A05,    86,  1,      2,2,20110221,2028, 24.4985, -51.4233, 5202,   4501.8,   2.1461,  34.8719,2,    253.9,2,    250.5,2,    43.18,2,    20.41,2,     1.44,2,   -999.0,9,   7.7215,2,    25.00,   1.7496,20110221,2036
  29AH20110128,   A05,    86,  1,      3,2,20110221,2028, 24.4985, -51.4233, 5202,   3998.4,   2.2489,  34.8871,2,    256.1,2,    255.1,2,    39.17,2,    19.80,2,     1.43,2,   -999.0,9,   7.7279,2,    25.00,   1.9078,20110221,2046
  29AH20110128,   A05,    86,  1,      4,2,20110221,2028, 24.4985, -51.4233, 5202,   3490.9,   2.4737,  34.9105,2,    255.6,2,    254.5,2,    35.10,2,    19.31,2,     1.35,2,   -999.0,9,   7.7315,2,    25.00,   2.1829,20110221,2056
  29AH20110128,   A05,    86,  1,      5,2,20110221,2028, 24.4985, -51.4233, 5202,   3001.5,   2.7365,  34.9333,2,    251.5,2,    251.6,2,    32.93,2,    19.18,2,     1.33,2,   -999.0,9,   7.7318,2,    25.00,   2.4912,20110221,2105
  29AH20110128,   A05,    86,  1,      6,2,20110221,2028, 24.4985, -51.4233, 5202,   2500.9,   3.1120,  34.9654,2,    250.6,2,    250.7,2,    27.21,2,    18.37,2,     1.29,2,   -999.0,9,   7.7345,2,    25.00,   2.9098,20110221,2115
  29AH20110128,   A05,    86,  1,      7,2,20110221,2028, 24.4985, -51.4233, 5202,   2001.2,   3.7263,  35.0165,2,    248.5,2,    248.3,2,    20.77,2,    18.09,2,     1.19,2,   -999.0,9,   7.7323,2,    25.00,   3.5625,20110221,2125
  29AH20110128,   A05,    86,  1,      8,2,20110221,2028, 24.4985, -51.4233, 5202,   1752.3,   4.2235,  35.0496,2,    245.9,2,    246.4,2,  -999.00,9,  -999.00,9,  -999.00,9,   -999.0,9,   7.7275,2,    25.00,   4.0767,20110221,2130
  29AH20110128,   A05,    86,  1,      9,2,20110221,2028, 24.4985, -51.4233, 5202,   1500.5,   4.6530,  35.0483,2,    237.9,2,    237.8,2,    15.26,2,    18.37,2,     1.22,2,   -999.0,9,   7.7227,2,    25.00,   4.5252,20110221,2135
  29AH20110128,   A05,    86,  1,     10,2,20110221,2028, 24.4985, -51.4233, 5202,   1301.3,   5.4661,  35.0981,2,    220.9,2,    220.4,2,    14.73,2,    19.15,2,     1.33,2,   -999.0,9,   7.7107,2,    25.00,   5.3491,20110221,2139
  29AH20110128,   A05,    86,  1,     11,2,20110221,2028, 24.4985, -51.4233, 5202,   1202.2,   5.8281,  35.0884,2,    206.1,2,    205.4,2,    15.71,2,    20.33,2,     1.39,2,   -999.0,9,   7.6980,2,    25.00,   5.7176,20110221,2141
  29AH20110128,   A05,    86,  1,     12,2,20110221,2028, 24.4985, -51.4233, 5202,   1103.1,   5.9883,  35.0162,2,    183.1,2,    182.3,2,    18.27,2,    22.92,2,     1.68,2,   -999.0,9,   7.6680,2,    25.00,   5.8865,20110221,2143
  29AH20110128,   A05,    86,  1,     13,2,20110221,2028, 24.4985, -51.4233, 5202,   1002.7,   6.4302,  34.9950,2,    163.8,2,    162.9,2,    19.46,2,    24.88,2,     1.83,2,   -999.0,9,   7.6454,2,    25.00,   6.3351,20110221,2145
  29AH20110128,   A05,    86,  1,     14,2,20110221,2028, 24.4985, -51.4233, 5202,    903.9,   7.1608,  35.0124,2,    147.4,2,    146.4,2,    19.26,2,    25.69,2,     1.91,2,   -999.0,9,   7.6391,2,    25.00,   7.0707,20110221,2147
  29AH20110128,   A05,    86,  1,     15,2,20110221,2028, 24.4985, -51.4233, 5202,    801.5,   8.4097,  35.1358,2,    141.5,2,    141.6,2,    16.69,2,    24.26,2,     1.72,2,   -999.0,9,   7.6563,2,    25.00,   8.3229,20110221,2149
  29AH20110128,   A05,    86,  1,     16,2,20110221,2028, 24.4985, -51.4233, 5202,    600.4,  12.5066,  35.6587,2,    158.4,2,    159.6,2,     7.56,2,    15.81,2,     0.83,2,   -999.0,9,   7.7772,2,    25.00,  12.4243,20110221,2153
  29AH20110128,   A05,    86,  1,     17,2,20110221,2028, 24.4985, -51.4233, 5202,    400.4,  16.3583,  36.2591,2,    187.3,2,    189.0,2,     2.90,2,     7.48,2,  -999.00,9,   -999.0,9,   7.9047,2,    25.00,  16.2930,20110221,2157
  29AH20110128,   A05,    86,  1,     18,2,20110221,2028, 24.4985, -51.4233, 5202,    300.2,  17.7532,  36.5041,2,    191.5,2,    191.3,2,     2.04,2,     5.20,2,     0.17,2,   -999.0,9,   7.9413,2,    25.00,  17.7015,20110221,2200
  29AH20110128,   A05,    86,  1,     19,2,20110221,2028, 24.4985, -51.4233, 5202,    200.1,  19.2852,  36.6969,2,    192.9,2,    192.8,2,     1.18,2,     2.11,2,     0.05,2,   -999.0,9,   7.9735,2,    25.00,  19.2488,20110221,2202
  29AH20110128,   A05,    86,  1,     20,2,20110221,2028, 24.4985, -51.4233, 5202,    122.8,  22.3013,  37.0180,2,    205.3,2,    205.0,2,     0.85,2,     0.08,2,     0.03,2,   -999.0,9,   8.0387,2,    25.00,  22.2766,20110221,2203
  29AH20110128,   A05,    86,  1,     21,2,20110221,2028, 24.4985, -51.4233, 5202,     74.3,  23.8352,  37.1558,2,    212.0,2,    211.7,2,     0.92,2,     0.08,2,     0.03,2,   -999.0,9,   8.0844,2,    25.00,  23.8195,20110221,2205
  29AH20110128,   A05,    86,  1,     22,2,20110221,2028, 24.4985, -51.4233, 5202,     49.3,  23.8592,  37.0583,2,    211.7,2,    212.7,2,     0.92,2,     0.08,2,     0.03,2,   -999.0,9,   8.0862,2,    25.00,  23.8488,20110221,2205
  29AH20110128,   A05,    86,  1,     23,2,20110221,2028, 24.4985, -51.4233, 5202,     26.5,  23.8454,  37.0590,2,    211.9,2,    211.4,2,     0.92,2,     0.08,2,     0.03,2,   -999.0,9,   8.0876,2,    25.00,  23.8398,20110221,2206
  29AH20110128,   A05,    86,  1,     24,2,20110221,2028, 24.4985, -51.4233, 5202,      3.4,  23.8349,  37.0591,2,    212.7,2,    211.9,2,     0.92,2,     0.08,2,     0.03,2,   -999.0,9,   8.0879,2,    25.00,  23.8342,20110221,2208
  29AH20110128,   A05,    87,  1,      1,2,20110222,0320, 24.5010, -51.8855, 5168,   5158.4,   2.1166,  34.8597,2,    252.1,2,    251.0,2,    48.26,2,    21.04,2,     1.61,2,   2344.9,2,   7.7133,2,    25.00,   1.6402,20110222,0320
  29AH20110128,   A05,    87,  1,      2,2,20110222,0320, 24.5010, -51.8855, 5168,   4998.3,   2.1139,  34.8618,2,    252.6,2,    251.3,2,    46.93,2,    21.01,2,     1.60,2,   2344.8,2,   7.7153,2,    25.00,   1.6578,20110222,0323
  29AH20110128,   A05,    87,  1,      3,2,20110222,0320, 24.5010, -51.8855, 5168,   4502.7,   2.1466,  34.8722,2,    254.5,2,    253.0,2,    42.97,2,    20.46,2,     1.29,4,   2341.2,2,   7.7224,2,    25.00,   1.7499,20110222,0333
  29AH20110128,   A05,    87,  1,      4,2,20110222,0320, 24.5010, -51.8855, 5168,   4001.3,   2.2471,  34.8872,2,    255.5,2,    254.3,2,    39.99,2,    20.01,2,     1.50,2,   2338.7,2,   7.7232,2,    25.00,   1.9058,20110222,0343
  29AH20110128,   A05,    87,  1,      5,2,20110222,0320, 24.5010, -51.8855, 5168,   3502.2,   2.4661,  34.9097,2,    255.1,2,    253.6,2,    35.70,2,    19.60,2,     1.43,2,   2335.6,2,   7.7260,2,    25.00,   2.1742,20110222,0353
  29AH20110128,   A05,    87,  1,      6,2,20110222,0320, 24.5010, -51.8855, 5168,   2998.5,   2.7938,  34.9381,2,    251.9,2,    251.8,2,    32.19,2,    19.38,2,     1.37,2,   2334.0,2,   7.7313,2,    25.00,   2.5476,20110222,0403
  29AH20110128,   A05,    87,  1,      7,2,20110222,0320, 24.5010, -51.8855, 5168,   2500.6,   3.0745,  34.9634,2,    250.0,2,    249.7,2,    27.90,2,    18.97,2,     1.35,2,   2330.6,2,   7.7281,2,    25.00,   2.8730,20110222,0412
  29AH20110128,   A05,    87,  1,      8,2,20110222,0320, 24.5010, -51.8855, 5168,   1997.0,   3.6803,  35.0125,2,    247.3,2,    249.3,2,  -999.00,9,  -999.00,9,  -999.00,9,   -999.0,9,   7.7304,2,    25.00,   3.5176,20110222,0422
  29AH20110128,   A05,    87,  1,      9,2,20110222,0320, 24.5010, -51.8855, 5168,   1749.2,   4.1580,  35.0450,2,    245.6,2,    245.0,2,    17.85,2,    18.14,2,     1.24,2,   2319.6,2,   7.7315,2,    25.00,   4.0124,20110222,0427
  29AH20110128,   A05,    87,  1,     10,2,20110222,0320, 24.5010, -51.8855, 5168,   1501.0,   4.6447,  35.0519,2,    239.0,2,    239.5,2,    15.01,2,    18.34,2,     1.26,2,   -999.0,9,   7.7210,2,    25.00,   4.5169,20110222,0432
  29AH20110128,   A05,    87,  1,     11,2,20110222,0320, 24.5010, -51.8855, 5168,   1298.9,   5.0726,  35.0476,2,    223.1,2,    222.5,2,    15.67,2,    19.60,2,     1.41,2,   2314.5,2,   7.7051,2,    25.00,   4.9598,20110222,0437
  29AH20110128,   A05,    87,  1,     12,2,20110222,0320, 24.5010, -51.8855, 5168,   1198.5,   5.4863,  35.0480,2,    208.6,2,    208.8,2,    16.20,2,    20.63,2,     1.32,2,   -999.0,9,   7.6885,2,    25.00,   5.3793,20110222,0439
  29AH20110128,   A05,    87,  1,     13,2,20110222,0320, 24.5010, -51.8855, 5168,   1001.2,   6.5214,  35.0257,2,    168.4,2,    167.9,2,    18.64,2,    24.15,2,     1.79,2,   2315.8,2,   7.6503,2,    25.00,   6.4257,20110222,0443
  29AH20110128,   A05,    87,  1,     14,2,20110222,0320, 24.5010, -51.8855, 5168,    898.9,   7.5470,  35.1010,2,    153.9,2,    153.6,2,    17.59,2,    24.57,2,     1.78,2,   2319.1,2,   7.6520,2,    25.00,   7.4548,20110222,0445
  29AH20110128,   A05,    87,  1,     15,2,20110222,0320, 24.5010, -51.8855, 5168,    798.8,   9.0946,  35.2657,2,    151.0,2,    150.6,2,    14.02,2,    22.17,2,  -999.00,9,   2323.3,2,   7.6839,2,    25.00,   9.0040,20110222,0447
  29AH20110128,   A05,    87,  1,     16,2,20110222,0320, 24.5010, -51.8855, 5168,    598.8,  12.4510,  35.6739,2,    170.3,2,    169.7,2,     6.94,2,    15.03,2,     0.85,2,   2341.6,2,   7.7877,2,    25.00,  12.3692,20110222,0452
  29AH20110128,   A05,    87,  1,     17,2,20110222,0320, 24.5010, -51.8855, 5168,    400.7,  16.2581,  36.2437,2,    189.0,2,    189.5,2,     2.91,2,     7.43,2,     0.34,2,   -999.0,9,   7.9060,2,    25.00,  16.1930,20110222,0456
  29AH20110128,   A05,    87,  1,     18,2,20110222,0320, 24.5010, -51.8855, 5168,    301.1,  17.5206,  36.4645,2,    196.8,2,    195.8,2,     1.99,2,     4.95,2,     0.20,2,   2384.2,2,   7.9427,2,    25.00,  17.4692,20110222,0458
  29AH20110128,   A05,    87,  1,     19,2,20110222,0320, 24.5010, -51.8855, 5168,    150.6,  19.8761,  36.7908,2,    191.8,2,    191.6,2,     0.93,2,     1.12,2,     0.06,2,   -999.0,9,   7.9712,2,    25.00,  19.8481,20110222,0501
  29AH20110128,   A05,    87,  1,     20,2,20110222,0320, 24.5010, -51.8855, 5168,    122.9,  20.7441,  36.8845,2,    195.6,2,    195.4,2,     0.86,2,     0.42,2,     0.06,2,   -999.0,9,   7.9915,2,    25.00,  20.7206,20110222,0502
  29AH20110128,   A05,    87,  1,     21,2,20110222,0320, 24.5010, -51.8855, 5168,     75.5,  23.9916,  37.0402,2,    209.9,2,    209.5,2,     0.80,2,     0.02,2,     0.06,2,   2419.6,2,   8.0775,2,    25.00,  23.9756,20110222,0503
  29AH20110128,   A05,    87,  1,     22,2,20110222,0320, 24.5010, -51.8855, 5168,     49.9,  24.0829,  37.0438,2,    210.6,2,    209.7,2,  -999.00,9,  -999.00,9,  -999.00,9,   -999.0,9,   8.0809,2,    25.00,  24.0723,20110222,0504
  29AH20110128,   A05,    87,  1,     23,2,20110222,0320, 24.5010, -51.8855, 5168,     26.2,  24.0768,  37.0442,2,    210.8,2,    210.1,2,     0.93,2,     0.02,2,     0.06,2,   -999.0,9,   8.0840,2,    25.00,  24.0712,20110222,0504
  29AH20110128,   A05,    87,  1,     24,2,20110222,0320, 24.5010, -51.8855, 5168,      6.6,  24.0752,  37.0442,2,    210.8,2,    210.1,2,     1.13,2,     0.02,2,     0.06,2,   2425.7,2,   8.0873,2,    25.00,  24.0738,20110222,0505
  29AH20110128,   A05,    88,  1,      1,2,20110222,1019, 24.4998, -52.3465, 5464,   5415.1,   2.1372,  34.8579,2,    252.0,2,    249.4,2,    48.02,2,    20.94,2,     1.54,2,   -999.0,9,   7.7146,2,    25.00,   1.6271,20110222,1019
  29AH20110128,   A05,    88,  1,      2,2,20110222,1019, 24.4998, -52.3465, 5464,   4999.0,   2.0980,  34.8603,2,    252.1,2,    251.0,2,  -999.00,9,  -999.00,9,  -999.00,9,   -999.0,9,   7.7160,2,    25.00,   1.6424,20110222,1027
  29AH20110128,   A05,    88,  1,      3,2,20110222,1019, 24.4998, -52.3465, 5464,   4498.2,   2.1219,  34.8694,2,    254.0,2,    253.0,2,    44.46,2,    20.45,2,     1.52,2,   -999.0,9,   7.7183,2,    25.00,   1.7265,20110222,1037
  29AH20110128,   A05,    88,  1,      4,2,20110222,1019, 24.4998, -52.3465, 5464,   4000.6,   2.2149,  34.8843,2,    255.1,2,    253.5,2,    40.90,2,    19.79,2,     1.42,2,   -999.0,9,   7.7289,2,    25.00,   1.8746,20110222,1047
  29AH20110128,   A05,    88,  1,      5,2,20110222,1019, 24.4998, -52.3465, 5464,   3502.2,   2.4264,  34.9067,2,    254.8,2,    254.3,2,    36.81,2,    19.30,2,     1.42,2,   -999.0,9,   7.7317,2,    25.00,   2.1355,20110222,1057
  29AH20110128,   A05,    88,  1,      6,2,20110222,1019, 24.4998, -52.3465, 5464,   3000.8,   2.7429,  34.9347,2,    251.6,2,    251.4,2,    32.53,2,    19.21,2,     1.38,2,   -999.0,9,   7.7315,2,    25.00,   2.4976,20110222,1106
  29AH20110128,   A05,    88,  1,      7,2,20110222,1019, 24.4998, -52.3465, 5464,   2501.2,   3.0873,  34.9648,2,    249.8,2,    250.8,2,    27.65,2,    18.59,2,     1.35,2,   -999.0,9,   7.7339,2,    25.00,   2.8855,20110222,1116
  29AH20110128,   A05,    88,  1,      8,2,20110222,1019, 24.4998, -52.3465, 5464,   2002.9,   3.6292,  35.0095,2,    247.9,2,    248.6,2,    21.72,2,    18.26,2,     1.28,2,   -999.0,9,   7.7353,2,    25.00,   3.4667,20110222,1126
  29AH20110128,   A05,    88,  1,      9,2,20110222,1019, 24.4998, -52.3465, 5464,   1749.3,   4.0509,  35.0368,2,    244.7,2,    245.2,2,    18.43,2,    18.26,2,     1.26,2,   -999.0,9,   7.7357,2,    25.00,   3.9067,20110222,1131
  29AH20110128,   A05,    88,  1,     10,2,20110222,1019, 24.4998, -52.3465, 5464,   1500.2,   4.6247,  35.0613,2,    237.4,2,    237.8,2,    15.80,2,    18.39,2,     1.26,2,   -999.0,9,   7.7271,2,    25.00,   4.4972,20110222,1136
  29AH20110128,   A05,    88,  1,     11,2,20110222,1019, 24.4998, -52.3465, 5464,   1301.1,   5.2598,  35.0760,2,    224.0,2,    224.5,2,    14.80,2,    19.09,2,     1.30,2,   -999.0,9,   7.7118,2,    25.00,   5.1449,20110222,1140
  29AH20110128,   A05,    88,  1,     12,2,20110222,1019, 24.4998, -52.3465, 5464,   1199.9,   5.6968,  35.0893,2,    211.3,2,    211.8,2,    14.80,2,    19.79,2,     1.37,2,   -999.0,9,   7.7045,2,    25.00,   5.5877,20110222,1142
  29AH20110128,   A05,    88,  1,     13,2,20110222,1019, 24.4998, -52.3465, 5464,   1000.1,   6.4821,  35.0261,2,    169.2,2,    167.9,2,    18.10,2,    23.92,2,     1.72,2,   -999.0,9,   7.6563,2,    25.00,   6.3868,20110222,1146
  29AH20110128,   A05,    88,  1,     14,2,20110222,1019, 24.4998, -52.3465, 5464,    902.8,   7.3786,  35.0828,2,    154.0,2,    154.6,2,    17.44,2,    24.33,2,     1.71,2,   -999.0,9,   7.6584,2,    25.00,   7.2871,20110222,1148
  29AH20110128,   A05,    88,  1,     15,2,20110222,1019, 24.4998, -52.3465, 5464,    800.5,   9.0731,  35.2668,2,    150.8,2,    151.9,2,    13.95,2,    22.18,2,     1.46,2,   -999.0,9,   7.6890,2,    25.00,   8.9824,20110222,1150
  29AH20110128,   A05,    88,  1,     16,2,20110222,1019, 24.4998, -52.3465, 5464,    601.0,  12.3175,  35.6455,2,    163.5,2,    164.1,2,     7.62,2,    15.79,2,     0.85,2,   -999.0,9,   7.7785,2,    25.00,  12.2359,20110222,1155
  29AH20110128,   A05,    88,  1,     17,2,20110222,1019, 24.4998, -52.3465, 5464,    401.1,  16.0224,  36.2025,2,    183.4,2,    183.3,2,     3.34,2,     8.36,2,     0.35,2,   -999.0,9,   7.8891,2,    25.00,  15.9579,20110222,1159
  29AH20110128,   A05,    88,  1,     18,2,20110222,1019, 24.4998, -52.3465, 5464,    299.2,  17.4878,  36.4583,2,    195.8,2,    195.1,2,     2.09,2,     5.19,2,     0.17,2,   -999.0,9,   7.9420,2,    25.00,  17.4368,20110222,1201
  29AH20110128,   A05,    88,  1,     19,2,20110222,1019, 24.4998, -52.3465, 5464,    150.0,  20.0356,  36.8273,2,    191.7,2,    191.3,2,     1.17,2,     1.22,2,     0.04,2,   -999.0,9,   7.9840,2,    25.00,  20.0076,20110222,1204
  29AH20110128,   A05,    88,  1,     20,2,20110222,1019, 24.4998, -52.3465, 5464,    113.4,  21.8558,  37.0240,2,    204.0,2,    203.6,2,     0.83,2,     0.08,2,     0.04,2,   -999.0,9,   8.0201,2,    25.00,  21.8333,20110222,1205
  29AH20110128,   A05,    88,  1,     21,2,20110222,1019, 24.4998, -52.3465, 5464,     73.8,  23.6660,  37.1594,2,    211.9,2,    211.0,2,     0.90,2,     0.00,2,     0.04,2,   -999.0,9,   8.0811,2,    25.00,  23.6505,20110222,1206
  29AH20110128,   A05,    88,  1,     22,2,20110222,1019, 24.4998, -52.3465, 5464,     39.9,  23.6663,  37.1236,2,    212.0,2,    210.6,2,     0.90,2,     0.00,2,     0.04,2,   -999.0,9,   8.0795,2,    25.00,  23.6579,20110222,1207
  29AH20110128,   A05,    88,  1,     23,2,20110222,1019, 24.4998, -52.3465, 5464,     26.6,  23.6525,  37.1128,2,    212.1,2,    211.6,2,     0.90,2,     0.00,2,     0.04,2,   -999.0,9,   8.0808,2,    25.00,  23.6469,20110222,1207
  29AH20110128,   A05,    88,  1,     24,2,20110222,1019, 24.4998, -52.3465, 5464,      1.5,  23.6498,  37.1130,2,    212.5,2,    210.8,2,     1.03,2,     0.00,2,     0.04,2,   -999.0,9,   8.0798,2,    25.00,  23.6495,20110222,1209