BOTTLE,20220930CCHSIOAMB
EXPOCODE,SECT_ID,STNNBR,CASTNO,BTLNBR,BTLNBR_FLAG_W,DATE,TIME,LATITUDE,LONGITUDE,DEPTH,CTDPRS,CTDTMP,CTDSAL,CTDSAL_FLAG_W,CTDOXY,CTDOXY_FLAG_W,OXYGEN,OXYGEN_FLAG_W,SILCAT,SILCAT_FLAG_W,NITRAT,NITRAT_FLAG_W,PHSPHT,PHSPHT_FLAG_W,ALKALI,ALKALI_FLAG_W,PH_SWS,PH_SWS_FLAG_W,PH_TMP,THETA,BTL_DATE,BTL_TIME
,,,,,,,,,,METERS,DBAR,ITS-90,PSS-78,,UMOL/KG,,UMOL/KG,,UMOL/KG,,UMOL/KG,,UMOL/KG,,UMOL/KG,,,,DEG C,DEG C,,
  29AH20110128,   A05,     7,  1,      1,2,20110128,1830, 27.5655, -13.9898, 1710,   1700.2,   4.7718,  35.1231,2,    204.9,2,    206.6,2,    25.29,2,    21.01,2,     1.45,2,   2340.7,2,   7.6999,2,    25.00,   4.6229,20110128,1830
  29AH20110128,   A05,     7,  1,      2,2,20110128,1830, 27.5655, -13.9898, 1710,   1500.9,   5.3691,  35.1675,2,    194.9,2,    195.1,2,    23.38,2,    21.41,2,     1.48,2,   2340.8,2,   7.6964,2,    25.00,   5.2330,20110128,1835
  29AH20110128,   A05,     7,  1,      3,2,20110128,1830, 27.5655, -13.9898, 1710,   1301.7,   6.4241,  35.2423,2,    176.4,2,    178.2,2,    20.83,2,    22.20,2,     1.55,2,   2339.7,2,   7.6798,2,    25.00,   6.2976,20110128,1839
  29AH20110128,   A05,     7,  1,      4,2,20110128,1830, 27.5655, -13.9898, 1710,   1200.5,   6.8879,  35.2694,2,    167.0,2,    167.2,2,    19.90,2,    22.65,2,     1.52,2,   -999.0,9,   7.6716,2,    25.00,   6.7679,20110128,1841
  29AH20110128,   A05,     7,  1,      5,2,20110128,1830, 27.5655, -13.9898, 1710,   1101.4,   7.4010,  35.2898,2,    156.7,2,    157.0,2,    19.21,2,    23.13,2,     1.56,2,   -999.0,9,   7.6634,2,    25.00,   7.2874,20110128,1843
  29AH20110128,   A05,     7,  1,      6,2,20110128,1830, 27.5655, -13.9898, 1710,   1001.4,   7.7971,  35.2817,2,    145.6,2,    147.1,2,    18.59,2,    23.96,2,     1.65,2,   2335.6,2,   7.6553,2,    25.00,   7.6916,20110128,1845
  29AH20110128,   A05,     7,  1,      7,2,20110128,1830, 27.5655, -13.9898, 1710,    900.5,   8.0750,  35.2335,2,    133.1,2,    134.6,2,    18.88,2,    25.15,2,     1.80,2,   -999.0,9,   7.6481,2,    25.00,   7.9790,20110128,1847
  29AH20110128,   A05,     7,  1,      8,2,20110128,1830, 27.5655, -13.9898, 1710,    800.4,   8.8515,  35.2937,2,    129.0,2,    129.4,2,    17.02,2,    24.55,2,  -999.00,9,   2332.4,2,   7.6410,2,    25.00,   8.7620,20110128,1850
  29AH20110128,   A05,     7,  1,      9,2,20110128,1830, 27.5655, -13.9898, 1710,    600.6,  10.7231,  35.4873,2,    138.5,2,    140.6,2,    12.29,2,    20.65,2,  -999.00,9,   2337.3,2,   7.6972,2,    25.00,  10.6485,20110128,1854
  29AH20110128,   A05,     7,  1,     10,2,20110128,1830, 27.5655, -13.9898, 1710,    400.8,  12.9840,  35.7869,2,    171.0,2,    172.9,2,     7.25,2,    13.76,2,  -999.00,9,   2350.2,2,   7.7903,2,    25.00,  12.9281,20110128,1858
  29AH20110128,   A05,     7,  1,     11,2,20110128,1830, 27.5655, -13.9898, 1710,    299.3,  14.4608,  36.0198,2,    185.6,2,    186.5,2,     5.10,2,     9.41,2,  -999.00,9,   2365.2,2,   7.8555,2,    25.00,  14.4160,20110128,1900
  29AH20110128,   A05,     7,  1,     12,2,20110128,1830, 27.5655, -13.9898, 1710,    200.9,  16.1260,  36.2954,2,    193.4,2,    195.1,2,     3.91,2,     6.53,2,     0.40,2,   -999.0,9,   7.8931,2,    25.00,  16.0937,20110128,1902
  29AH20110128,   A05,     7,  1,     13,2,20110128,1830, 27.5655, -13.9898, 1710,    151.2,  16.7721,  36.3895,2,    195.6,2,    198.6,2,     3.55,2,     5.44,2,     0.36,2,   2384.3,2,   7.9121,2,    25.00,  16.7472,20110128,1904
  29AH20110128,   A05,     7,  1,     14,2,20110128,1830, 27.5655, -13.9898, 1710,    124.8,  17.3623,  36.4435,2,    201.5,2,    202.3,2,     3.15,2,     3.85,2,     0.31,2,   -999.0,9,   7.9286,2,    25.00,  17.3412,20110128,1904
  29AH20110128,   A05,     7,  1,     15,2,20110128,1830, 27.5655, -13.9898, 1710,    100.4,  17.9206,  36.5078,2,    204.2,2,    205.9,2,     2.90,2,     2.78,2,     0.26,2,   -999.0,9,   7.9438,2,    25.00,  17.9033,20110128,1905
  29AH20110128,   A05,     7,  1,     16,2,20110128,1830, 27.5655, -13.9898, 1710,     74.6,  19.8702,  36.7889,2,    219.3,2,    220.1,2,     2.21,2,     0.13,2,     0.20,2,   -999.0,9,   7.9600,2,    25.00,  19.8564,20110128,1906
  29AH20110128,   A05,     7,  1,     17,2,20110128,1830, 27.5655, -13.9898, 1710,     55.9,  20.0063,  36.8129,2,    222.3,2,    226.4,2,     2.20,2,     0.03,2,     0.20,2,   -999.0,9,   7.9716,2,    25.00,  19.9959,20110128,1906
  29AH20110128,   A05,     7,  1,     18,2,20110128,1830, 27.5655, -13.9898, 1710,     24.9,  20.0190,  36.8164,2,    223.7,2,    226.0,2,     2.22,2,     0.01,2,     0.20,2,   -999.0,9,   7.9910,2,    25.00,  20.0144,20110128,1907
  29AH20110128,   A05,     7,  1,     19,2,20110128,1830, 27.5655, -13.9898, 1710,      4.6,  20.1060,  36.8196,2,    224.4,2,    223.7,2,     2.23,2,     0.04,2,     0.23,2,   2413.3,2,   8.0037,2,    25.00,  20.1051,20110128,1909
  29AH20110128,   A05,     8,  1,      1,2,20110128,2128, 27.5050, -14.1853, 2054,   2044.5,   3.8850,  35.0413,2,    217.9,2,    217.5,2,    29.67,2,    20.91,2,     1.48,2,   -999.0,9,   7.7071,2,    25.00,   3.7146,20110128,2128
  29AH20110128,   A05,     8,  1,      2,2,20110128,2128, 27.5050, -14.1853, 2054,   1998.8,   3.9440,  35.0465,2,    217.5,2,    216.5,2,    29.38,2,    20.91,2,     1.46,2,   -999.0,9,   7.7082,2,    25.00,   3.7772,20110128,2129
  29AH20110128,   A05,     8,  1,      3,2,20110128,2128, 27.5050, -14.1853, 2054,   1750.5,   4.4543,  35.0924,2,    210.4,2,    209.9,2,    26.59,2,    21.09,2,     1.46,2,   -999.0,9,   7.7043,2,    25.00,   4.3045,20110128,2134
  29AH20110128,   A05,     8,  1,      4,2,20110128,2128, 27.5050, -14.1853, 2054,   1501.4,   5.3858,  35.1878,2,    198.9,2,    199.0,2,    23.54,2,    21.14,2,     1.46,2,   -999.0,9,   7.7025,2,    25.00,   5.2494,20110128,2139
  29AH20110128,   A05,     8,  1,      5,2,20110128,2128, 27.5050, -14.1853, 2054,   1301.5,   6.5150,  35.2825,2,    179.7,2,    179.5,2,    20.94,2,    21.78,2,     1.50,2,   -999.0,9,   7.6902,2,    25.00,   6.3875,20110128,2143
  29AH20110128,   A05,     8,  1,      6,2,20110128,2128, 27.5050, -14.1853, 2054,   1201.6,   7.0211,  35.3046,2,    169.3,2,    168.5,2,    20.83,2,    21.69,2,     1.47,2,   -999.0,9,   7.6840,2,    25.00,   6.8997,20110128,2145
  29AH20110128,   A05,     8,  1,      7,2,20110128,2128, 27.5050, -14.1853, 2054,   1099.9,   7.5561,  35.3296,2,    159.7,2,    159.1,2,    18.96,2,    22.74,2,     1.53,2,   -999.0,9,   7.6703,2,    25.00,   7.4414,20110128,2147
  29AH20110128,   A05,     8,  1,      8,2,20110128,2128, 27.5050, -14.1853, 2054,   1000.6,   7.8253,  35.2739,2,    145.3,2,    144.7,2,    19.02,2,    24.11,2,     1.68,2,   -999.0,9,   7.6569,2,    25.00,   7.7197,20110128,2149
  29AH20110128,   A05,     8,  1,      9,2,20110128,2128, 27.5050, -14.1853, 2054,    899.6,   8.5485,  35.2971,2,    135.0,2,    134.6,2,    17.76,2,    24.39,2,  -999.00,9,   -999.0,9,   7.6505,2,    25.00,   8.4494,20110128,2151
  29AH20110128,   A05,     8,  1,     10,2,20110128,2128, 27.5050, -14.1853, 2054,    800.6,   9.0704,  35.3037,2,    126.2,2,    125.8,2,    16.79,2,    24.51,2,  -999.00,9,   -999.0,9,   7.6443,2,    25.00,   8.9796,20110128,2153
  29AH20110128,   A05,     8,  1,     11,2,20110128,2128, 27.5050, -14.1853, 2054,    598.7,  10.7916,  35.4891,2,    134.7,2,    134.8,2,    12.90,2,    21.11,2,     1.35,2,   -999.0,9,   7.6885,2,    25.00,  10.7169,20110128,2158
  29AH20110128,   A05,     8,  1,     12,2,20110128,2128, 27.5050, -14.1853, 2054,    400.7,  13.1075,  35.8079,2,    178.8,2,    181.5,2,     6.86,2,    12.60,2,  -999.00,9,   -999.0,9,   7.8057,2,    25.00,  13.0512,20110128,2202
  29AH20110128,   A05,     8,  1,     13,2,20110128,2128, 27.5050, -14.1853, 2054,    300.3,  14.6167,  36.0465,2,    183.9,2,    183.7,2,     5.56,2,    10.05,2,  -999.00,9,   -999.0,9,   7.8458,2,    25.00,  14.5715,20110128,2204
  29AH20110128,   A05,     8,  1,     14,2,20110128,2128, 27.5050, -14.1853, 2054,    200.7,  16.1199,  36.2968,2,    191.6,2,    192.5,2,     4.27,2,     6.85,2,     0.42,2,   -999.0,9,   7.8922,2,    25.00,  16.0876,20110128,2206
  29AH20110128,   A05,     8,  1,     15,2,20110128,2128, 27.5050, -14.1853, 2054,    149.5,  17.1882,  36.4402,2,    194.8,2,    198.4,2,     3.83,2,     5.26,2,     0.37,2,   -999.0,9,   7.9160,2,    25.00,  17.1631,20110128,2207
  29AH20110128,   A05,     8,  1,     16,2,20110128,2128, 27.5050, -14.1853, 2054,    126.1,  17.9578,  36.5460,2,    200.3,2,    200.8,2,     3.36,2,     3.63,2,     0.31,2,   -999.0,9,   7.9314,2,    25.00,  17.9360,20110128,2208
  29AH20110128,   A05,     8,  1,     17,2,20110128,2128, 27.5050, -14.1853, 2054,     98.9,  19.9430,  36.7706,2,    214.6,2,    214.9,2,     2.79,2,     1.10,2,     0.20,2,   -999.0,9,   7.9492,2,    25.00,  19.9246,20110128,2209
  29AH20110128,   A05,     8,  1,     18,2,20110128,2128, 27.5050, -14.1853, 2054,     75.1,  20.4548,  36.8967,2,    220.1,2,    220.7,2,     2.68,2,     0.34,2,     0.19,2,   -999.0,9,   7.9648,2,    25.00,  20.4406,20110128,2209
  29AH20110128,   A05,     8,  1,     19,2,20110128,2128, 27.5050, -14.1853, 2054,     50.6,  20.4745,  36.9036,2,    220.6,2,    220.0,2,     2.69,2,     0.32,2,     0.20,2,   -999.0,9,   7.9809,2,    25.00,  20.4649,20110128,2210
  29AH20110128,   A05,     8,  1,     20,2,20110128,2128, 27.5050, -14.1853, 2054,     24.5,  20.4837,  36.9040,2,    221.5,2,    220.6,2,     2.70,2,     0.33,2,     0.19,2,   -999.0,9,   7.9980,2,    25.00,  20.4791,20110128,2211
  29AH20110128,   A05,     8,  1,     21,2,20110128,2128, 27.5050, -14.1853, 2054,      5.2,  20.5558,  36.9053,2,    221.8,2,    221.0,2,     2.69,2,     0.36,2,     0.18,2,   -999.0,9,   8.0106,2,    25.00,  20.5548,20110128,2213
  29AH20110128,   A05,     9,  1,      1,2,20110129,0024, 27.4428, -14.3775, 2243,   2233.4,   3.5404,  35.0090,2,    222.2,2,    220.3,2,  -999.00,9,    20.72,2,     1.50,2,   2346.7,2,   7.7121,2,    25.00,   3.3570,20110129,0024
  29AH20110128,   A05,     9,  1,      2,2,20110129,0024, 27.4428, -14.3775, 2243,   2000.1,   3.9140,  35.0458,2,    218.5,2,    219.1,2,    29.35,2,    20.64,2,     1.47,2,   2342.1,2,   7.7083,2,    25.00,   3.7475,20110129,0028
  29AH20110128,   A05,     9,  1,      3,2,20110129,0024, 27.4428, -14.3775, 2243,   1749.6,   4.4698,  35.1005,2,    211.1,2,    210.0,2,    27.91,2,    20.74,2,     1.45,2,   2341.2,2,   7.7077,2,    25.00,   4.3199,20110129,0033
  29AH20110128,   A05,     9,  1,      4,2,20110129,0024, 27.4428, -14.3775, 2243,   1499.8,   5.3690,  35.1881,2,    199.2,2,    198.6,2,    24.54,2,    20.93,2,     1.46,2,   2340.8,2,   7.7025,2,    25.00,   5.2330,20110129,0038
  29AH20110128,   A05,     9,  1,      5,2,20110129,0024, 27.4428, -14.3775, 2243,   1301.4,   6.5908,  35.2901,2,    179.4,2,    178.6,2,    20.93,2,    21.53,2,     1.49,2,   -999.0,9,   7.6953,2,    25.00,   6.4626,20110129,0042
  29AH20110128,   A05,     9,  1,      6,2,20110129,0024, 27.4428, -14.3775, 2243,   1200.7,   7.3125,  35.3624,2,    171.2,2,    170.3,2,    19.98,2,    21.70,2,     1.47,2,   2345.7,2,   7.6944,2,    25.00,   7.1886,20110129,0044
  29AH20110128,   A05,     9,  1,      7,2,20110129,0024, 27.4428, -14.3775, 2243,   1099.0,   7.3419,  35.2822,2,    157.3,2,    156.3,2,    18.24,2,    23.33,2,     1.58,2,   -999.0,9,   7.6707,2,    25.00,   7.2291,20110129,0046
  29AH20110128,   A05,     9,  1,      8,2,20110129,0024, 27.4428, -14.3775, 2243,    999.8,   7.9146,  35.2857,2,    145.7,2,    144.6,2,    19.47,2,    23.98,2,     1.63,2,   2335.8,2,   7.6585,2,    25.00,   7.8084,20110129,0048
  29AH20110128,   A05,     9,  1,      9,2,20110129,0024, 27.4428, -14.3775, 2243,    899.5,   8.2392,  35.2602,2,    134.1,2,    132.7,2,  -999.00,9,  -999.00,9,  -999.00,9,   -999.0,9,   7.6547,2,    25.00,   8.1422,20110129,0050
  29AH20110128,   A05,     9,  1,     10,2,20110129,0024, 27.4428, -14.3775, 2243,    801.1,   8.9711,  35.3082,2,    128.8,2,    129.3,2,    17.84,2,    24.21,2,     1.64,2,   2332.9,2,   7.6509,2,    25.00,   8.8809,20110129,0052
  29AH20110128,   A05,     9,  1,     11,2,20110129,0024, 27.4428, -14.3775, 2243,    599.9,  10.7463,  35.4897,2,    139.1,2,    139.2,2,    13.30,2,    20.55,2,  -999.00,9,   2336.9,2,   7.6972,2,    25.00,  10.6716,20110129,0056
  29AH20110128,   A05,     9,  1,     12,2,20110129,0024, 27.4428, -14.3775, 2243,    399.0,  13.1550,  35.8140,2,    168.9,2,    171.0,2,     8.07,2,    13.42,2,     0.76,2,   2352.2,2,   7.7975,2,    25.00,  13.0988,20110129,0100
  29AH20110128,   A05,     9,  1,     13,2,20110129,0024, 27.4428, -14.3775, 2243,    299.9,  14.8797,  36.0847,2,    178.9,2,    178.8,2,     6.22,2,     9.87,2,  -999.00,9,   2365.6,2,   7.8457,2,    25.00,  14.8340,20110129,0102
  29AH20110128,   A05,     9,  1,     14,2,20110129,0024, 27.4428, -14.3775, 2243,    199.3,  15.8766,  36.2356,2,    172.7,2,    172.8,2,     5.82,2,     9.08,2,     0.54,2,   -999.0,9,   7.8567,2,    25.00,  15.8449,20110129,0104
  29AH20110128,   A05,     9,  1,     15,2,20110129,0024, 27.4428, -14.3775, 2243,    150.4,  16.6996,  36.3641,2,    181.4,2,    183.0,2,     4.97,2,     6.87,2,     0.44,2,   2386.7,2,   7.8856,2,    25.00,  16.6749,20110129,0105
  29AH20110128,   A05,     9,  1,     16,2,20110129,0024, 27.4428, -14.3775, 2243,    126.4,  17.7229,  36.5148,2,    197.3,2,    201.0,2,     3.85,2,     3.62,2,     0.29,2,   -999.0,9,   7.9222,2,    25.00,  17.7012,20110129,0106
  29AH20110128,   A05,     9,  1,     17,2,20110129,0024, 27.4428, -14.3775, 2243,    100.8,  19.7652,  36.7690,2,    217.6,2,    219.2,2,     3.05,2,     0.13,2,     0.19,2,   -999.0,9,   7.9612,2,    25.00,  19.7466,20110129,0107
  29AH20110128,   A05,     9,  1,     18,2,20110129,0024, 27.4428, -14.3775, 2243,     75.3,  20.0877,  36.8222,2,    221.8,2,    222.2,2,     2.99,2,     0.07,2,     0.17,2,   -999.0,9,   8.0000,2,    25.00,  20.0736,20110129,0107
  29AH20110128,   A05,     9,  1,     19,2,20110129,0024, 27.4428, -14.3775, 2243,     63.0,  20.0902,  36.8226,2,    222.0,2,    219.1,2,     2.97,2,     0.07,2,     0.17,2,   -999.0,9,   8.0068,2,    25.00,  20.0784,20110129,0108
  29AH20110128,   A05,     9,  1,     20,2,20110129,0024, 27.4428, -14.3775, 2243,     30.0,  20.1239,  36.8285,2,    223.2,2,    221.9,2,     2.95,2,     0.07,2,     0.18,2,   -999.0,9,   8.0049,2,    25.00,  20.1183,20110129,0109
  29AH20110128,   A05,     9,  1,     21,2,20110129,0024, 27.4428, -14.3775, 2243,      5.2,  20.1651,  36.8330,2,    223.1,2,    221.4,2,     2.99,2,     0.07,2,     0.19,2,   -999.0,9,   8.0055,2,    25.00,  20.1641,20110129,0110
  29AH20110128,   A05,    10,  1,      1,2,20110129,0336, 27.3807, -14.5732, 2490,   2480.3,   3.2686,  34.9829,2,    224.7,2,    224.5,2,    30.99,2,    20.73,2,     1.48,2,   -999.0,9,   7.7105,2,    25.00,   3.0655,20110129,0336
  29AH20110128,   A05,    10,  1,      2,2,20110129,0336, 27.3807, -14.5732, 2490,   2000.4,   3.9800,  35.0528,2,    217.6,2,    216.6,2,    28.75,2,    20.51,2,     1.46,2,   -999.0,9,   7.7094,2,    25.00,   3.8124,20110129,0346
  29AH20110128,   A05,    10,  1,      3,2,20110129,0336, 27.3807, -14.5732, 2490,   1751.3,   4.6449,  35.1159,2,    209.1,2,    208.4,2,    25.38,2,    20.69,2,     1.44,2,   -999.0,9,   7.7052,2,    25.00,   4.4925,20110129,0350
  29AH20110128,   A05,    10,  1,      4,2,20110129,0336, 27.3807, -14.5732, 2490,   1501.3,   5.5299,  35.1862,2,    193.4,2,    193.2,2,    22.56,2,    21.33,2,     1.47,2,   -999.0,9,   7.6964,2,    25.00,   5.3919,20110129,0355
  29AH20110128,   A05,    10,  1,      5,2,20110129,0336, 27.3807, -14.5732, 2490,   1302.5,   6.2687,  35.2250,2,    177.6,2,    177.4,2,    20.92,2,    22.29,2,     1.56,2,   -999.0,9,   7.6802,2,    25.00,   6.1436,20110129,0359
  29AH20110128,   A05,    10,  1,      6,2,20110129,0336, 27.3807, -14.5732, 2490,   1201.2,   6.6397,  35.2303,2,    167.9,2,    166.9,2,    20.49,2,    22.96,2,     1.58,2,   -999.0,9,   7.6747,2,    25.00,   6.5219,20110129,0401
  29AH20110128,   A05,    10,  1,      7,2,20110129,0336, 27.3807, -14.5732, 2490,   1101.0,   7.2276,  35.2704,2,    158.7,2,    158.1,2,    19.74,2,    23.23,2,     1.58,2,   -999.0,9,   7.6690,2,    25.00,   7.1155,20110129,0403
  29AH20110128,   A05,    10,  1,      8,2,20110129,0336, 27.3807, -14.5732, 2490,   1000.8,   7.5917,  35.2462,2,    145.6,2,    145.3,2,    19.43,2,    24.36,2,     1.68,2,   -999.0,9,   7.6537,2,    25.00,   7.4878,20110129,0405
  29AH20110128,   A05,    10,  1,      9,2,20110129,0336, 27.3807, -14.5732, 2490,    901.7,   7.9951,  35.2402,2,    136.5,2,    135.8,2,    18.60,2,    24.86,2,  -999.00,9,   -999.0,9,   7.6400,2,    25.00,   7.8994,20110129,0407
  29AH20110128,   A05,    10,  1,     10,2,20110129,0336, 27.3807, -14.5732, 2490,    800.6,   8.6796,  35.2785,2,    129.4,2,    129.4,2,    17.42,2,    24.71,2,     1.64,2,   -999.0,9,   7.6427,2,    25.00,   8.5911,20110129,0409
  29AH20110128,   A05,    10,  1,     11,2,20110129,0336, 27.3807, -14.5732, 2490,    600.7,  10.4565,  35.4632,2,    139.0,2,    138.1,2,    13.12,2,    21.04,2,     1.30,2,   -999.0,9,   7.6903,2,    25.00,  10.3830,20110129,0413
  29AH20110128,   A05,    10,  1,     12,2,20110129,0336, 27.3807, -14.5732, 2490,    402.2,  12.9882,  35.7821,2,    165.5,2,    165.7,2,     7.77,2,    14.20,2,     0.80,2,   -999.0,9,   7.7786,2,    25.00,  12.9321,20110129,0417
  29AH20110128,   A05,    10,  1,     13,2,20110129,0336, 27.3807, -14.5732, 2490,    301.6,  14.3617,  36.0004,2,    183.9,2,    185.1,2,     5.70,2,    10.02,2,  -999.00,9,   -999.0,9,   7.8442,2,    25.00,  14.3168,20110129,0419
  29AH20110128,   A05,    10,  1,     14,2,20110129,0336, 27.3807, -14.5732, 2490,    199.9,  15.9015,  36.2488,2,    182.1,2,    182.8,2,     4.82,2,     7.79,2,     0.44,2,   -999.0,9,   7.8729,2,    25.00,  15.8697,20110129,0421
  29AH20110128,   A05,    10,  1,     15,2,20110129,0336, 27.3807, -14.5732, 2490,    151.2,  16.7674,  36.3825,2,    189.6,2,    191.5,2,     3.98,2,     5.46,2,     0.35,2,   -999.0,9,   7.9022,2,    25.00,  16.7425,20110129,0422
  29AH20110128,   A05,    10,  1,     16,2,20110129,0336, 27.3807, -14.5732, 2490,    124.3,  17.5919,  36.4897,2,    197.3,2,    197.5,2,     3.53,2,     3.93,2,     0.29,2,   -999.0,9,   7.9215,2,    25.00,  17.5707,20110129,0423
  29AH20110128,   A05,    10,  1,     17,2,20110129,0336, 27.3807, -14.5732, 2490,    101.1,  18.3472,  36.5778,2,    206.5,2,    206.9,2,     3.10,2,     1.73,2,     0.24,2,   -999.0,9,   7.9509,2,    25.00,  18.3295,20110129,0424
  29AH20110128,   A05,    10,  1,     18,2,20110129,0336, 27.3807, -14.5732, 2490,     75.6,  20.1557,  36.8620,2,    218.9,2,    218.7,2,     2.70,2,     0.25,2,     0.18,2,   -999.0,9,   8.0002,2,    25.00,  20.1415,20110129,0424
  29AH20110128,   A05,    10,  1,     19,2,20110129,0336, 27.3807, -14.5732, 2490,     50.7,  20.2928,  36.8925,2,    220.5,2,    220.8,2,     2.67,2,     0.03,2,     0.17,2,   -999.0,9,   7.9996,2,    25.00,  20.2833,20110129,0425
  29AH20110128,   A05,    10,  1,     20,2,20110129,0336, 27.3807, -14.5732, 2490,     24.8,  20.3190,  36.8970,2,    221.9,2,    221.0,2,     2.66,2,     0.00,2,     0.17,2,   -999.0,9,   8.0068,2,    25.00,  20.3143,20110129,0426
  29AH20110128,   A05,    10,  1,     21,2,20110129,0336, 27.3807, -14.5732, 2490,      4.6,  20.3501,  36.9023,2,    222.5,2,    220.8,2,     2.65,2,     0.01,2,     0.17,2,   -999.0,9,   8.0067,2,    25.00,  20.3492,20110129,0426