BOTTLE,20220930CCHSIOAMB
EXPOCODE,SECT_ID,STNNBR,CASTNO,BTLNBR,BTLNBR_FLAG_W,DATE,TIME,LATITUDE,LONGITUDE,DEPTH,CTDPRS,CTDTMP,CTDSAL,CTDSAL_FLAG_W,CTDOXY,CTDOXY_FLAG_W,OXYGEN,OXYGEN_FLAG_W,SILCAT,SILCAT_FLAG_W,NITRAT,NITRAT_FLAG_W,PHSPHT,PHSPHT_FLAG_W,ALKALI,ALKALI_FLAG_W,PH_SWS,PH_SWS_FLAG_W,PH_TMP,THETA,BTL_DATE,BTL_TIME
,,,,,,,,,,METERS,DBAR,ITS-90,PSS-78,,UMOL/KG,,UMOL/KG,,UMOL/KG,,UMOL/KG,,UMOL/KG,,UMOL/KG,,,,DEG C,DEG C,,
  29AH20110128,   A05,   131,  1,      1,2,20110308,0441, 26.2038, -74.4070, 4774,   4763.6,   2.2179,  34.8802,2,    260.1,2,    264.7,2,    45.09,2,    23.94,3,     1.51,2,   2340.5,2,   7.7234,2,    25.00,   1.7873,20110308,0441
  29AH20110128,   A05,   131,  1,      2,2,20110308,0441, 26.2038, -74.4070, 4774,   4499.9,   2.2393,  34.8864,2,    264.1,2,    264.5,2,    38.38,2,    20.94,2,     1.43,2,   2335.2,2,   7.7249,2,    25.00,   1.8400,20110308,0446
  29AH20110128,   A05,   131,  1,      3,2,20110308,0441, 26.2038, -74.4070, 4774,   4000.0,   2.2768,  34.8950,2,    267.4,2,    266.6,2,    30.35,2,  -999.00,9,     1.21,3,   2328.4,2,   7.7255,2,    25.00,   1.9347,20110308,0456
  29AH20110128,   A05,   131,  1,      4,2,20110308,0441, 26.2038, -74.4070, 4774,   3499.7,   2.4424,  34.9084,2,    269.8,2,    269.4,2,    28.89,2,    18.08,2,     1.29,2,   2325.7,2,   7.7290,2,    25.00,   2.1514,20110308,0506
  29AH20110128,   A05,   131,  1,      5,2,20110308,0441, 26.2038, -74.4070, 4774,   3003.0,   2.7297,  34.9265,2,    267.6,2,    267.2,2,    26.60,2,    20.86,2,     1.32,2,   2321.9,2,   7.7293,2,    25.00,   2.4845,20110308,0516
  29AH20110128,   A05,   131,  1,      6,2,20110308,0441, 26.2038, -74.4070, 4774,   2498.8,   3.1797,  34.9502,2,    263.8,2,    264.3,2,    20.65,2,  -999.00,9,     1.21,3,   2320.3,2,   7.7328,2,    25.00,   2.9765,20110308,0526
  29AH20110128,   A05,   131,  1,      7,2,20110308,0441, 26.2038, -74.4070, 4774,   2000.3,   3.6557,  34.9651,2,    263.0,2,    264.2,2,    15.99,2,    18.12,2,     1.21,2,   2316.5,2,   7.7267,2,    25.00,   3.4932,20110308,0536
  29AH20110128,   A05,   131,  1,      8,2,20110308,0441, 26.2038, -74.4070, 4774,   1750.5,   3.9502,  34.9811,2,    259.1,2,    260.3,2,    14.16,2,    16.92,2,     1.20,2,   2314.8,2,   7.7219,2,    25.00,   3.8073,20110308,0541
  29AH20110128,   A05,   131,  1,      9,2,20110308,0441, 26.2038, -74.4070, 4774,   1499.1,   4.3111,  34.9972,2,    253.9,2,    254.4,2,    13.19,2,    18.31,2,     1.17,2,   2315.6,2,   7.7150,2,    25.00,   4.1874,20110308,0546
  29AH20110128,   A05,   131,  1,     10,2,20110308,0441, 26.2038, -74.4070, 4774,   1300.4,   4.8844,  35.0342,2,    239.8,2,    240.3,2,    14.93,2,    19.97,2,     1.34,2,   2318.6,2,   7.7133,2,    25.00,   4.7733,20110308,0550
  29AH20110128,   A05,   131,  1,     11,2,20110308,0441, 26.2038, -74.4070, 4774,   1200.1,   5.3346,  35.0570,2,    227.1,2,    227.2,2,    13.39,2,  -999.00,9,     1.32,2,   2320.3,2,   7.7097,2,    25.00,   5.2288,20110308,0552
  29AH20110128,   A05,   131,  1,     12,2,20110308,0441, 26.2038, -74.4070, 4774,   1098.9,   5.9632,  35.0734,2,    206.5,2,    206.0,2,    17.71,2,    24.73,3,     1.52,3,   -999.0,9,   7.6959,2,    25.00,   5.8619,20110308,0554
  29AH20110128,   A05,   131,  1,     13,2,20110308,0441, 26.2038, -74.4070, 4774,    999.4,   6.9534,  35.0874,2,    178.0,2,    177.1,2,    17.46,2,    20.69,3,     1.56,2,   2323.6,2,   7.6737,2,    25.00,   6.8546,20110308,0556
  29AH20110128,   A05,   131,  1,     14,2,20110308,0441, 26.2038, -74.4070, 4774,    898.5,   8.1610,  35.1161,2,    148.6,2,    147.6,2,    17.56,2,    24.06,2,     1.72,2,   -999.0,9,   7.6583,2,    25.00,   8.0648,20110308,0559
  29AH20110128,   A05,   131,  1,     15,2,20110308,0441, 26.2038, -74.4070, 4774,    798.5,   9.9031,  35.2847,2,    141.2,2,    140.9,2,    12.89,2,    19.53,3,     1.48,2,   2329.8,2,   7.6890,2,    25.00,   9.8078,20110308,0601
  29AH20110128,   A05,   131,  1,     16,2,20110308,0441, 26.2038, -74.4070, 4774,    599.4,  14.4641,  35.9141,2,    163.1,2,    163.7,2,     7.55,2,    16.53,2,     0.87,2,   2359.4,2,   7.8295,2,    25.00,  14.3737,20110308,0605
  29AH20110128,   A05,   131,  1,     17,2,20110308,0441, 26.2038, -74.4070, 4774,    400.6,  18.0020,  36.5435,2,    198.9,2,    198.8,2,     2.20,2,     3.61,2,     0.20,2,   2392.8,2,   7.9596,2,    25.00,  17.9322,20110308,0609
  29AH20110128,   A05,   131,  1,     18,2,20110308,0441, 26.2038, -74.4070, 4774,    301.1,  18.5696,  36.6070,2,    198.2,2,    198.1,2,     2.20,2,     3.55,2,     0.16,2,   2396.5,2,   7.9697,2,    25.00,  18.5161,20110308,0611
  29AH20110128,   A05,   131,  1,     19,2,20110308,0441, 26.2038, -74.4070, 4774,    150.9,  20.7739,  36.7774,2,    213.5,2,    213.6,2,     1.70,2,     0.56,2,     0.03,2,   2407.6,2,   8.0331,2,    25.00,  20.7450,20110308,0614
  29AH20110128,   A05,   131,  1,     20,2,20110308,0441, 26.2038, -74.4070, 4774,    126.5,  21.4313,  36.8249,2,    214.0,2,    212.5,2,     1.93,2,     0.50,2,     0.05,2,   -999.0,9,   8.0400,2,    25.00,  21.4065,20110308,0615
  29AH20110128,   A05,   131,  1,     21,2,20110308,0441, 26.2038, -74.4070, 4774,     74.5,  22.1187,  36.8318,2,    216.2,2,    215.3,2,     1.77,2,     0.25,2,     0.04,2,   2411.2,2,   8.0622,2,    25.00,  22.1038,20110308,0616
  29AH20110128,   A05,   131,  1,     22,2,20110308,0441, 26.2038, -74.4070, 4774,     51.0,  23.1652,  36.7987,2,    213.0,2,    212.4,2,     1.83,2,     0.24,2,     0.03,2,   -999.0,9,   8.0672,2,    25.00,  23.1547,20110308,0617
  29AH20110128,   A05,   131,  1,     23,2,20110308,0441, 26.2038, -74.4070, 4774,     24.9,  23.6607,  36.7945,2,    211.1,2,    210.7,2,     1.93,2,     0.26,2,     0.04,2,   -999.0,9,   8.0726,2,    25.00,  23.6555,20110308,0617
  29AH20110128,   A05,   131,  1,     24,2,20110308,0441, 26.2038, -74.4070, 4774,      6.1,  23.6573,  36.7949,2,    211.0,2,    210.5,2,     1.92,2,     0.27,2,     0.04,2,   2408.9,2,   8.0742,2,    25.00,  23.6560,20110308,0618
  29AH20110128,   A05,   132,  1,      1,2,20110308,0946, 26.2037, -74.6960, 4626,   4616.1,   2.2006,  34.8804,2,    260.1,2,    259.3,2,    41.03,2,    21.14,2,  -999.00,9,   -999.0,9,   7.7232,2,    25.00,   1.7886,20110308,0946
  29AH20110128,   A05,   132,  1,      2,2,20110308,0946, 26.2037, -74.6960, 4626,   4499.4,   2.2050,  34.8826,2,    261.2,2,    260.2,2,    39.36,2,    20.71,2,  -999.00,9,   -999.0,9,   7.7234,2,    25.00,   1.8069,20110308,0948
  29AH20110128,   A05,   132,  1,      3,2,20110308,0946, 26.2037, -74.6960, 4626,   3999.0,   2.2501,  34.8926,2,    266.8,2,    265.6,2,    31.15,2,  -999.00,9,  -999.00,9,   -999.0,9,   7.7269,2,    25.00,   1.9089,20110308,0958
  29AH20110128,   A05,   132,  1,      4,2,20110308,0946, 26.2037, -74.6960, 4626,   3500.2,   2.3607,  34.9034,2,    269.6,2,    268.4,2,    27.40,2,    19.16,2,  -999.00,9,   -999.0,9,   7.7279,2,    25.00,   2.0717,20110308,1008
  29AH20110128,   A05,   132,  1,      5,2,20110308,0946, 26.2037, -74.6960, 4626,   3000.2,   2.6980,  34.9241,2,    268.1,2,    267.7,2,    23.55,2,    18.66,2,  -999.00,9,   -999.0,9,   7.7302,2,    25.00,   2.4538,20110308,1017
  29AH20110128,   A05,   132,  1,      6,2,20110308,0946, 26.2037, -74.6960, 4626,   2500.8,   3.1834,  34.9484,2,    264.5,2,    263.9,2,    20.40,2,    19.34,2,  -999.00,9,   -999.0,9,   7.7322,2,    25.00,   2.9800,20110308,1027
  29AH20110128,   A05,   132,  1,      7,2,20110308,0946, 26.2037, -74.6960, 4626,   2000.2,   3.6406,  34.9599,2,    263.5,2,    264.5,2,    15.87,2,    16.19,2,  -999.00,9,   -999.0,9,   7.7246,2,    25.00,   3.4784,20110308,1037
  29AH20110128,   A05,   132,  1,      8,2,20110308,0946, 26.2037, -74.6960, 4626,   1749.1,   3.9219,  34.9719,2,    260.7,2,    260.6,2,    15.45,2,    19.18,2,  -999.00,9,   -999.0,9,   7.7201,2,    25.00,   3.7795,20110308,1042
  29AH20110128,   A05,   132,  1,      9,2,20110308,0946, 26.2037, -74.6960, 4626,   1499.7,   4.2356,  34.9894,2,    255.3,2,    255.4,2,    14.30,2,    18.40,2,  -999.00,9,   -999.0,9,   7.7153,2,    25.00,   4.1127,20110308,1047
  29AH20110128,   A05,   132,  1,     10,2,20110308,0946, 26.2037, -74.6960, 4626,   1299.2,   4.8333,  35.0310,2,    242.3,2,    241.4,2,    13.20,2,  -999.00,9,  -999.00,9,   -999.0,9,   7.7104,2,    25.00,   4.7228,20110308,1051
  29AH20110128,   A05,   132,  1,     11,2,20110308,0946, 26.2037, -74.6960, 4626,   1200.4,   5.3073,  35.0564,2,    228.6,2,    225.6,2,  -999.00,9,  -999.00,9,  -999.00,9,   -999.0,9,   7.7022,2,    25.00,   5.2017,20110308,1053
  29AH20110128,   A05,   132,  1,     12,2,20110308,0946, 26.2037, -74.6960, 4626,   1100.4,   6.0098,  35.0763,2,    206.3,2,    205.4,2,    16.05,2,    22.55,2,  -999.00,9,   -999.0,9,   7.6938,2,    25.00,   5.9080,20110308,1055
  29AH20110128,   A05,   132,  1,     13,2,20110308,0946, 26.2037, -74.6960, 4626,   1000.1,   6.8903,  35.0795,2,    176.7,2,    174.5,2,    15.97,2,  -999.00,9,  -999.00,9,   -999.0,9,   7.6706,2,    25.00,   6.7919,20110308,1057
  29AH20110128,   A05,   132,  1,     14,2,20110308,0946, 26.2037, -74.6960, 4626,    901.2,   8.2408,  35.1110,2,    144.8,2,    142.8,2,    18.81,2,  -999.00,9,  -999.00,9,   -999.0,9,   7.6554,2,    25.00,   8.1438,20110308,1100
  29AH20110128,   A05,   132,  1,     15,2,20110308,0946, 26.2037, -74.6960, 4626,    800.1,  10.3301,  35.3422,2,    144.5,2,    144.1,2,    14.03,2,    23.59,2,  -999.00,9,   -999.0,9,   7.7012,2,    25.00,  10.2322,20110308,1102
  29AH20110128,   A05,   132,  1,     16,2,20110308,0946, 26.2037, -74.6960, 4626,    600.2,  14.9521,  36.0028,2,    164.5,2,    164.7,2,     6.17,2,    13.66,2,  -999.00,9,   -999.0,9,   7.8423,2,    25.00,  14.8595,20110308,1106
  29AH20110128,   A05,   132,  1,     17,2,20110308,0946, 26.2037, -74.6960, 4626,    401.6,  17.9650,  36.5370,2,    198.6,2,    187.9,3,  -999.00,9,  -999.00,9,  -999.00,9,   -999.0,9,   7.9320,2,    25.00,  17.8951,20110308,1110
  29AH20110128,   A05,   132,  1,     18,2,20110308,0946, 26.2037, -74.6960, 4626,    302.1,  18.7657,  36.6327,2,    198.8,2,    198.4,2,     1.60,2,     2.00,2,  -999.00,9,   -999.0,9,   7.9769,2,    25.00,  18.7116,20110308,1113
  29AH20110128,   A05,   132,  1,     19,2,20110308,0946, 26.2037, -74.6960, 4626,    141.0,  21.2576,  36.8091,2,    211.4,2,    208.3,2,     1.83,2,     0.84,2,  -999.00,9,   -999.0,9,   8.0316,2,    25.00,  21.2301,20110308,1116
  29AH20110128,   A05,   132,  1,     20,2,20110308,0946, 26.2037, -74.6960, 4626,    124.7,  21.6142,  36.8292,2,    214.1,2,    213.0,2,     1.41,2,     0.20,2,  -999.00,9,   -999.0,9,   8.0486,2,    25.00,  21.5896,20110308,1116
  29AH20110128,   A05,   132,  1,     21,2,20110308,0946, 26.2037, -74.6960, 4626,     74.7,  22.1901,  36.7998,2,    214.0,2,    212.9,2,     1.60,2,     0.21,2,  -999.00,9,   -999.0,9,   8.0582,2,    25.00,  22.1751,20110308,1118
  29AH20110128,   A05,   132,  1,     22,2,20110308,0946, 26.2037, -74.6960, 4626,     50.7,  22.6879,  36.7851,2,    214.3,2,    212.5,2,     1.70,2,     0.21,2,  -999.00,9,   -999.0,9,   8.0652,2,    25.00,  22.6776,20110308,1118
  29AH20110128,   A05,   132,  1,     23,2,20110308,0946, 26.2037, -74.6960, 4626,     26.3,  23.5140,  36.7934,2,    211.5,2,    210.7,2,     1.77,2,     0.20,2,  -999.00,9,   -999.0,9,   8.0702,2,    25.00,  23.5085,20110308,1119
  29AH20110128,   A05,   132,  1,     24,2,20110308,0946, 26.2037, -74.6960, 4626,      4.9,  23.6508,  36.7920,2,    211.1,2,    213.6,2,     1.50,2,     0.19,2,  -999.00,9,   -999.0,9,   8.0736,2,    25.00,  23.6498,20110308,1120
  29AH20110128,   A05,   133,  1,      1,2,20110308,1512, 26.2037, -74.9892, 4692,   4681.5,   2.2189,  34.8814,2,    260.9,2,    259.5,2,    36.98,3,  -999.00,9,     1.36,2,   -999.0,9,   7.7236,2,    25.00,   1.7983,20110308,1512
  29AH20110128,   A05,   133,  1,      2,2,20110308,1512, 26.2037, -74.9892, 4692,   4500.5,   2.2129,  34.8834,2,    261.9,2,    260.7,2,    39.57,2,    19.59,2,     1.39,2,   -999.0,9,   7.7234,2,    25.00,   1.8144,20110308,1516
  29AH20110128,   A05,   133,  1,      3,2,20110308,1512, 26.2037, -74.9892, 4692,   3999.7,   2.2419,  34.8916,2,    267.1,2,    266.3,2,    33.77,2,    18.61,2,     1.37,2,   -999.0,9,   7.7259,2,    25.00,   1.9009,20110308,1526
  29AH20110128,   A05,   133,  1,      4,2,20110308,1512, 26.2037, -74.9892, 4692,   3501.0,   2.3395,  34.9017,2,    270.4,2,    268.9,2,    28.22,2,    17.98,2,     1.30,2,   -999.0,9,   7.7261,2,    25.00,   2.0510,20110308,1536
  29AH20110128,   A05,   133,  1,      5,2,20110308,1512, 26.2037, -74.9892, 4692,   2999.8,   2.6816,  34.9228,2,    268.6,2,    268.2,2,    23.17,2,    17.32,2,     1.19,2,   -999.0,9,   7.7332,2,    25.00,   2.4378,20110308,1546
  29AH20110128,   A05,   133,  1,      6,2,20110308,1512, 26.2037, -74.9892, 4692,   2499.6,   3.1515,  34.9495,2,    264.1,2,    264.5,2,    21.08,2,    18.22,2,     1.26,2,   -999.0,9,   7.7313,2,    25.00,   2.9488,20110308,1555
  29AH20110128,   A05,   133,  1,      7,2,20110308,1512, 26.2037, -74.9892, 4692,   2000.3,   3.6761,  34.9674,2,    262.7,2,    263.0,2,    16.55,2,    18.14,2,     1.25,2,   -999.0,9,   7.7259,2,    25.00,   3.5133,20110308,1606
  29AH20110128,   A05,   133,  1,      8,2,20110308,1512, 26.2037, -74.9892, 4692,   1749.3,   3.9555,  34.9743,2,    260.4,2,    261.5,2,    14.60,2,    18.13,2,     1.22,2,   -999.0,9,   7.7194,2,    25.00,   3.8127,20110308,1611
  29AH20110128,   A05,   133,  1,      9,2,20110308,1512, 26.2037, -74.9892, 4692,   1499.7,   4.4520,  35.0090,2,    250.9,2,    252.1,2,    13.72,2,    18.44,2,     1.23,2,   -999.0,9,   7.7145,2,    25.00,   4.3266,20110308,1616
  29AH20110128,   A05,   133,  1,     10,2,20110308,1512, 26.2037, -74.9892, 4692,   1299.8,   4.8958,  35.0296,2,    238.7,2,    238.7,2,    14.26,2,    19.16,2,     1.30,2,   -999.0,9,   7.7112,2,    25.00,   4.7846,20110308,1620
  29AH20110128,   A05,   133,  1,     11,2,20110308,1512, 26.2037, -74.9892, 4692,   1200.1,   5.1564,  35.0424,2,    231.9,2,    232.7,2,    13.40,2,  -999.00,9,     1.31,2,   -999.0,9,   7.7043,2,    25.00,   5.0522,20110308,1622
  29AH20110128,   A05,   133,  1,     12,2,20110308,1512, 26.2037, -74.9892, 4692,   1100.9,   6.0306,  35.0753,2,    206.9,2,    205.9,2,    16.19,2,    21.13,2,     1.40,2,   -999.0,9,   7.6979,2,    25.00,   5.9286,20110308,1624
  29AH20110128,   A05,   133,  1,     13,2,20110308,1512, 26.2037, -74.9892, 4692,   1000.2,   7.1787,  35.0606,2,    163.8,2,    161.7,2,    19.67,2,    25.29,3,     1.71,2,   -999.0,9,   7.6573,2,    25.00,   7.0782,20110308,1627
  29AH20110128,   A05,   133,  1,     14,2,20110308,1512, 26.2037, -74.9892, 4692,    900.5,   8.5602,  35.1388,2,    144.0,2,    143.1,2,    16.04,2,    21.51,2,     1.64,2,   -999.0,9,   7.6579,2,    25.00,   8.4611,20110308,1629
  29AH20110128,   A05,   133,  1,     15,2,20110308,1512, 26.2037, -74.9892, 4692,    801.3,  10.5218,  35.3639,2,    144.5,2,    145.3,2,    13.53,2,  -999.00,9,     1.48,2,   -999.0,9,   7.7052,2,    25.00,  10.4226,20110308,1631
  29AH20110128,   A05,   133,  1,     16,2,20110308,1512, 26.2037, -74.9892, 4692,    599.6,  15.1686,  36.0381,2,    168.2,2,    170.3,2,     5.76,2,    12.06,2,     0.72,2,   -999.0,9,   7.8557,2,    25.00,  15.0752,20110308,1635
  29AH20110128,   A05,   133,  1,     17,2,20110308,1512, 26.2037, -74.9892, 4692,    400.4,  18.1170,  36.5634,2,    201.5,2,    201.9,2,     2.46,2,  -999.00,9,     0.21,2,   -999.0,9,   7.9687,2,    25.00,  18.0469,20110308,1639
  29AH20110128,   A05,   133,  1,     18,2,20110308,1512, 26.2037, -74.9892, 4692,    299.7,  18.8252,  36.6278,2,    193.2,2,    194.1,2,     2.11,2,     3.57,2,     0.15,2,   -999.0,9,   7.9741,2,    25.00,  18.7714,20110308,1641
  29AH20110128,   A05,   133,  1,     19,2,20110308,1512, 26.2037, -74.9892, 4692,    150.2,  21.7787,  36.8289,2,    213.5,2,    213.3,2,     1.66,2,     0.31,2,     0.02,2,   -999.0,9,   8.0561,2,    25.00,  21.7489,20110308,1645
  29AH20110128,   A05,   133,  1,     20,2,20110308,1512, 26.2037, -74.9892, 4692,    125.3,  22.1722,  36.8397,2,    214.8,2,    213.9,2,     1.75,2,     0.26,2,     0.03,2,   -999.0,9,   8.0616,2,    25.00,  22.1471,20110308,1646
  29AH20110128,   A05,   133,  1,     21,2,20110308,1512, 26.2037, -74.9892, 4692,     75.9,  22.2792,  36.8400,2,    213.9,2,    213.4,2,     1.71,2,     0.28,2,     0.02,2,   -999.0,9,   8.0633,2,    25.00,  22.2639,20110308,1647
  29AH20110128,   A05,   133,  1,     22,2,20110308,1512, 26.2037, -74.9892, 4692,     50.1,  22.4407,  36.8408,2,    214.4,2,    213.7,2,     1.65,2,     0.27,2,     0.05,2,   -999.0,9,   8.0575,2,    25.00,  22.4306,20110308,1648
  29AH20110128,   A05,   133,  1,     23,2,20110308,1512, 26.2037, -74.9892, 4692,     25.2,  22.4683,  36.7295,2,    215.5,2,    215.0,2,     1.59,2,     0.31,2,     0.03,2,   -999.0,9,   8.0620,2,    25.00,  22.4632,20110308,1649
  29AH20110128,   A05,   133,  1,     24,2,20110308,1512, 26.2037, -74.9892, 4692,      5.0,  22.5803,  36.6916,2,    215.5,2,    212.6,2,     1.55,2,     0.31,2,     0.05,2,   -999.0,9,   8.0638,2,    25.00,  22.5793,20110308,1649