BOTTLE,20220929CCHSIOAMB
EXPOCODE,SECT_ID,STNNBR,CASTNO,SAMPNO,BTLNBR,DATE,TIME,LATITUDE,LONGITUDE,DEPTH,CTDPRS,CTDTMP,CTDSAL,SALNTY,CTDOXY,OXYGEN,SILCAT,NITRAT,PHSPHT
,,,,,,,,,,,DBAR,ITS-90,PSS-78,PSS-78,UMOL/KG,UMOL/KG,UMOL/KG,UMOL/KG,UMOL/KG
      09FA9605, ISS3a,    55,  1,     23,     23,19960521,0422,-25.9468,  99.8007, 1982,      4.0,  22.3360,  35.6930,  35.6960,    151.6,    215.0,     2.93,     0.10,     0.13
      09FA9605, ISS3a,    55,  1,     10,     10,19960521,0422,-25.9468,  99.8007, 1982,     48.0,  22.2410,  35.7730,  35.7770,    151.5,    217.6,     2.93,     0.10,     0.12
      09FA9605, ISS3a,    55,  1,      7,      7,19960521,0422,-25.9468,  99.8007, 1982,     96.0,  20.6250,  35.8680,  35.8650,    153.9,    211.8,     3.32,     0.39,     0.19
      09FA9605, ISS3a,    55,  1,      6,      6,19960521,0422,-25.9468,  99.8007, 1982,    146.0,  19.0990,  35.9430,  35.9530,    151.3,    210.3,     2.83,     1.17,     0.23
      09FA9605, ISS3a,    55,  1,      2,      2,19960521,0422,-25.9468,  99.8007, 1982,    196.0,  17.8070,  35.9180,  35.9360,    155.1,    213.0,     2.63,     1.75,     0.26
      09FA9605, ISS3a,    55,  1,      4,      4,19960521,0422,-25.9468,  99.8007, 1982,    244.0,  16.7930,  35.8560,  35.8580,    161.6,    218.7,     2.34,     2.05,     0.29
      09FA9605, ISS3a,    55,  1,     16,     16,19960521,0422,-25.9468,  99.8007, 1982,    294.0,  15.4110,  35.6700,  35.6570,    168.3,    224.3,     2.24,     3.41,     0.39
      09FA9605, ISS3a,    55,  1,     13,     13,19960521,0422,-25.9468,  99.8007, 1982,    396.0,  12.3270,  35.1650,  35.1820,    185.1,    230.9,     3.02,     8.38,     0.68
      09FA9605, ISS3a,    55,  1,     12,     12,19960521,0422,-25.9468,  99.8007, 1982,    492.0,  10.5420,  34.8750,  34.9230,    199.7,    237.5,     3.70,    12.08,     0.90
      09FA9605, ISS3a,    55,  1,     17,     17,19960521,0422,-25.9468,  99.8007, 1982,    594.0,   9.6100,  34.7260,  34.7600,    211.8,    239.0,     4.48,    14.90,     1.06
      09FA9605, ISS3a,    55,  1,     22,     22,19960521,0422,-25.9468,  99.8007, 1982,    692.0,   8.7320,  34.6150,  34.6350,    216.2,    227.2,     6.82,    18.89,     1.30
      09FA9605, ISS3a,    55,  1,     24,     24,19960521,0422,-25.9468,  99.8007, 1982,    792.0,   6.9170,  34.4810,  34.4920,    216.6,    199.1,    17.04,    25.41,     1.75
      09FA9605, ISS3a,    55,  1,     21,     21,19960521,0422,-25.9468,  99.8007, 1982,    892.0,   5.5190,  34.4550,  34.4630,    218.5,    174.0,    37.68,    30.37,     2.16
      09FA9605, ISS3a,    55,  1,      9,      9,19960521,0422,-25.9468,  99.8007, 1982,    994.0,   4.9140,  34.5200,  34.5270,    214.1,    140.8,    62.01,    33.58,     2.46
      09FA9605, ISS3a,    55,  1,     18,     18,19960521,0422,-25.9468,  99.8007, 1982,   1192.0,   4.0800,  34.5520,  34.5610,    225.5,    138.1,    74.17,    34.46,     2.54
      09FA9605, ISS3a,    55,  1,     15,     15,19960521,0422,-25.9468,  99.8007, 1982,   1394.0,   3.4830,  34.6070,  34.6100,    236.9,    139.7,    85.35,    34.55,     2.55
      09FA9605, ISS3a,    55,  1,      1,      1,19960521,0422,-25.9468,  99.8007, 1982,   1598.0,   3.0300,  34.6530,  34.6520,    249.4,    146.7,    91.47,    34.16,     2.51
      09FA9605, ISS3a,    55,  1,     14,     14,19960521,0422,-25.9468,  99.8007, 1982,   1796.0,   2.6920,  34.6890,  34.6890,    260.3,    153.5,    98.77,    33.86,     2.47
      09FA9605, ISS3a,    55,  1,     20,     20,19960521,0422,-25.9468,  99.8007, 1982,   1796.0,   2.6920,  34.6890,  34.6880,    260.3,    155.0,    99.16,    33.86,     2.47
      09FA9605, ISS3a,    55,  1,      3,      3,19960521,0422,-25.9468,  99.8007, 1982,   1982.0,   2.4900,  34.7070,  34.7080,    268.6,    160.1,   103.44,    33.67,     2.44
      09FA9605, ISS3a,    56,  1,     23,     23,19960521,0840,-25.7658, 100.3223, 1614,      4.0,  22.3330,  35.7710,  35.7760,    145.8,    217.5,     2.83,     0.29,     0.16
      09FA9605, ISS3a,    56,  1,     12a,     12,19960521,0840,-25.7658, 100.3223, 1614,     48.0,  22.1880,  35.7850,  35.7860,    143.8,    217.9,     2.83,     0.39,     0.16
      09FA9605, ISS3a,    56,  1,      7,      7,19960521,0840,-25.7658, 100.3223, 1614,     96.0,  20.9760,  35.8360,  35.8440,    148.1,    217.1,     3.22,     0.29,     0.20
      09FA9605, ISS3a,    56,  1,      6,      6,19960521,0840,-25.7658, 100.3223, 1614,    146.0,  19.0130,  35.9370,  35.9330,    146.0,    209.7,     3.02,     1.46,     0.28
      09FA9605, ISS3a,    56,  1,      2,      2,19960521,0840,-25.7658, 100.3223, 1614,    194.0,  17.6960,  35.8840,  35.8790,    149.5,    208.1,     3.12,     2.73,     0.37
      09FA9605, ISS3a,    56,  1,      4,      4,19960521,0840,-25.7658, 100.3223, 1614,    246.0,  16.0790,  35.7110,  35.7020,    156.7,    214.8,     3.12,     3.90,     0.46
      09FA9605, ISS3a,    56,  1,     16,     16,19960521,0840,-25.7658, 100.3223, 1614,    296.0,  14.8790,  35.5630,  35.5840,    165.5,    220.0,     2.92,     4.68,     0.51
      09FA9605, ISS3a,    56,  1,     13,     13,19960521,0840,-25.7658, 100.3223, 1614,    394.0,  12.3220,  35.1640,  35.1550,    184.6,    233.1,     2.92,     8.96,     0.74
      09FA9605, ISS3a,    56,  1,     12b,     12,19960521,0840,-25.7658, 100.3223, 1614,    494.0,  10.7820,  34.9130,  34.9000,    199.7,    239.7,     3.90,    12.76,     0.98
      09FA9605, ISS3a,    56,  1,     17,     17,19960521,0840,-25.7658, 100.3223, 1614,    594.0,   9.6500,  34.7350,  34.7510,    212.5,    237.6,     4.77,    15.78,     1.14
      09FA9605, ISS3a,    56,  1,     22,     22,19960521,0840,-25.7658, 100.3223, 1614,    696.0,   8.6360,  34.6070,  34.6360,    216.8,    226.1,     7.30,    19.48,     1.37
      09FA9605, ISS3a,    56,  1,     24,     24,19960521,0840,-25.7658, 100.3223, 1614,    794.0,   7.2480,  34.5100,  34.5220,    215.8,    197.9,    17.72,    25.32,     1.77
      09FA9605, ISS3a,    56,  1,     21,     21,19960521,0840,-25.7658, 100.3223, 1614,    994.0,   4.9660,  34.4920,  34.5030,    216.7,    146.9,    58.41,    33.58,     2.46
      09FA9605, ISS3a,    56,  1,      9,      9,19960521,0840,-25.7658, 100.3223, 1614,   1194.0,   4.2690,  34.5740,  34.5770,    219.7,    127.5,    80.20,    35.23,     2.62
      09FA9605, ISS3a,    56,  1,      1,      1,19960521,0840,-25.7658, 100.3223, 1614,   1408.0,   3.4650,  34.6200,  34.6220,    236.1,    137.5,    88.37,    35.23,     2.61
      09FA9605, ISS3a,    56,  1,      3,      3,19960521,0840,-25.7658, 100.3223, 1614,   1614.0,   2.9070,  34.6660,  34.6660,    251.3,    148.1,    93.91,    34.74,     2.57
      09FA9605, ISS3a,    57,  1,     23,     23,19960521,1209,-25.6278, 100.6697, 2376,      2.0,  22.2930,  35.7810,  35.7850,    150.6,    219.0,     3.03,     0.59,     0.18
      09FA9605, ISS3a,    57,  1,     12a,     12,19960521,1209,-25.6278, 100.6697, 2376,     46.0,  22.2170,  35.7800,  35.7820,    147.3,    218.1,     3.03,     0.59,     0.17
      09FA9605, ISS3a,    57,  1,      7,      7,19960521,1209,-25.6278, 100.6697, 2376,     98.0,  20.4020,  35.8760,  35.9000,    150.3,    221.6,     2.83,     0.49,     0.19
      09FA9605, ISS3a,    57,  1,      6,      6,19960521,1209,-25.6278, 100.6697, 2376,    148.0,  18.9230,  35.9460,  35.9370,    147.9,    209.3,     3.22,     1.66,     0.29
      09FA9605, ISS3a,    57,  1,      2,      2,19960521,1209,-25.6278, 100.6697, 2376,    196.0,  17.5300,  35.8590,  35.8610,    151.8,    211.1,     3.22,     2.63,     0.37
      09FA9605, ISS3a,    57,  1,      4,      4,19960521,1209,-25.6278, 100.6697, 2376,    246.0,  16.3670,  35.7900,  35.8100,    159.1,    219.2,     2.63,     2.83,     0.39
      09FA9605, ISS3a,    57,  1,     16,     16,19960521,1209,-25.6278, 100.6697, 2376,    294.0,  14.8150,  35.5600,  35.5610,    167.8,    222.1,     2.83,     4.87,     0.52
      09FA9605, ISS3a,    57,  1,     13,     13,19960521,1209,-25.6278, 100.6697, 2376,    394.0,  12.2780,  35.1560,  35.1280,    184.5,    233.7,     3.31,     9.55,     0.78
      09FA9605, ISS3a,    57,  1,     12b,     12,19960521,1209,-25.6278, 100.6697, 2376,    494.0,  10.6240,  34.8880,  34.8640,    200.9,    240.2,     4.29,    13.64,     1.01
      09FA9605, ISS3a,    57,  1,     17,     17,19960521,1209,-25.6278, 100.6697, 2376,    592.0,   9.4900,  34.7070,  34.6900,    212.9,    236.8,     5.45,    17.24,     1.24
      09FA9605, ISS3a,    57,  1,     22,     22,19960521,1209,-25.6278, 100.6697, 2376,    692.0,   8.5180,  34.5940,  34.5970,    216.0,    219.9,     8.86,    21.13,     1.47
      09FA9605, ISS3a,    57,  1,     24,     24,19960521,1209,-25.6278, 100.6697, 2376,    792.0,   6.9700,  34.5000,  34.5080,    214.0,    191.1,    21.71,    26.87,     1.89
      09FA9605, ISS3a,    57,  1,     21,     21,19960521,1209,-25.6278, 100.6697, 2376,    992.0,   4.7640,  34.4820,  34.4830,    221.5,    155.8,    52.57,    33.29,     2.42
      09FA9605, ISS3a,    57,  1,      9,      9,19960521,1209,-25.6278, 100.6697, 2376,   1192.0,   4.1150,  34.5670,  34.5690,    223.9,    133.0,    77.18,    35.33,     2.61
      09FA9605, ISS3a,    57,  1,     18,     18,19960521,1209,-25.6278, 100.6697, 2376,   1392.0,   3.5760,  34.5960,  34.6010,    236.0,    136.2,    81.85,    35.43,     2.61
      09FA9605, ISS3a,    57,  1,     15,     15,19960521,1209,-25.6278, 100.6697, 2376,   1592.0,   3.0840,  34.6450,  34.6430,    248.4,    144.9,    89.92,    35.13,     2.57
      09FA9605, ISS3a,    57,  1,      1,      1,19960521,1209,-25.6278, 100.6697, 2376,   1788.0,   2.7590,  34.6810,  34.6810,    259.1,    151.3,    96.53,    34.74,     2.53
      09FA9605, ISS3a,    57,  1,     14,     14,19960521,1209,-25.6278, 100.6697, 2376,   1996.0,   2.4610,  34.7090,  34.7080,    269.3,    158.1,   100.71,    34.25,     2.49
      09FA9605, ISS3a,    57,  1,     20,     20,19960521,1209,-25.6278, 100.6697, 2376,   2196.0,   2.2480,  34.7210,  34.7190,    278.4,    162.7,   107.32,    34.06,     2.49
      09FA9605, ISS3a,    57,  1,      3,      3,19960521,1209,-25.6278, 100.6697, 2376,   2394.0,   2.0560,  34.7260,  34.7260,    287.3,    168.8,   108.20,    33.76,     2.45
      09FA9605, ISS3a,    58,  1,     23,     23,19960521,1500,-25.5902, 100.7937, 3190,     48.0,  22.2440,  35.7430,  35.7520,    147.7,    217.6,     3.32,     0.78,     0.20
      09FA9605, ISS3a,    58,  1,     10,     10,19960521,1500,-25.5902, 100.7937, 3190,     98.0,  20.5490,  35.8760,  35.8770,    153.7,    215.6,     3.61,     0.98,     0.25
      09FA9605, ISS3a,    58,  1,     11,     11,19960521,1500,-25.5902, 100.7937, 3190,    146.0,  19.1690,  35.9390,  35.9400,    148.3,    211.1,     3.41,     1.66,     0.29
      09FA9605, ISS3a,    58,  1,      8,      8,19960521,1500,-25.5902, 100.7937, 3190,    198.0,  17.7830,  35.8660,  35.8910,    151.3,    208.6,     3.70,     2.83,     0.37
      09FA9605, ISS3a,    58,  1,      5,      5,19960521,1500,-25.5902, 100.7937, 3190,    244.0,  16.9820,  35.8620,  35.8940,    157.6,    220.4,     2.92,     2.53,     0.36
      09FA9605, ISS3a,    58,  1,     12a,     12,19960521,1500,-25.5902, 100.7937, 3190,    294.0,  14.9770,  35.5840,  35.6010,    165.2,    221.3,     3.02,     4.68,     0.51
      09FA9605, ISS3a,    58,  1,      7,      7,19960521,1500,-25.5902, 100.7937, 3190,    394.0,  12.3140,  35.1620,  35.1960,    183.1,    231.4,     3.41,     8.96,     0.75
      09FA9605, ISS3a,    58,  1,      6,      6,19960521,1500,-25.5902, 100.7937, 3190,    494.0,  10.7830,  34.9140,  34.9360,    198.9,    238.7,     4.19,    12.56,     0.95
      09FA9605, ISS3a,    58,  1,      2,      2,19960521,1500,-25.5902, 100.7937, 3190,    594.0,   9.7150,  34.7410,  34.7770,    211.7,    239.9,     4.97,    15.39,     1.12
      09FA9605, ISS3a,    58,  1,      4,      4,19960521,1500,-25.5902, 100.7937, 3190,    696.0,   8.6300,  34.6040,  34.6500,    215.6,    229.4,     7.01,    19.18,     1.34
      09FA9605, ISS3a,    58,  1,     16,     16,19960521,1500,-25.5902, 100.7937, 3190,    790.0,   7.2170,  34.5060,  34.5200,    213.5,    198.2,    18.11,    25.80,     1.79
      09FA9605, ISS3a,    58,  1,     13,     13,19960521,1500,-25.5902, 100.7937, 3190,    990.0,   4.6990,  34.4810,  34.4880,    219.5,    155.3,    55.39,    33.78,     2.43
      09FA9605, ISS3a,    58,  1,     12b,     12,19960521,1500,-25.5902, 100.7937, 3190,   1190.0,   4.1960,  34.5650,  34.5770,    221.7,    133.2,    77.18,    35.53,     2.60
      09FA9605, ISS3a,    58,  1,     17,     17,19960521,1500,-25.5902, 100.7937, 3190,   1392.0,   3.6020,  34.6080,  34.6220,    233.7,    133.9,    86.03,    35.81,     2.63
      09FA9605, ISS3a,    58,  1,     22,     22,19960521,1500,-25.5902, 100.7937, 3190,   1592.0,   3.1380,  34.6430,  34.6490,    246.4,    142.5,    93.42,    35.52,     2.59
      09FA9605, ISS3a,    58,  1,     24,     24,19960521,1500,-25.5902, 100.7937, 3190,   1792.0,   2.7670,  34.6810,  34.6850,    258.4,    150.9,    98.67,    35.03,     2.53
      09FA9605, ISS3a,    58,  1,     21,     21,19960521,1500,-25.5902, 100.7937, 3190,   1994.0,   2.4720,  34.7090,  34.7100,    268.4,    156.8,   102.56,    34.64,     2.50
      09FA9605, ISS3a,    58,  1,      9,      9,19960521,1500,-25.5902, 100.7937, 3190,   2194.0,   2.2640,  34.7210,  34.7210,    277.6,    162.5,   102.36,    34.54,     2.47
      09FA9605, ISS3a,    58,  1,     18,     18,19960521,1500,-25.5902, 100.7937, 3190,   2396.0,   2.0760,  34.7270,  34.7270,    286.4,    167.0,   109.75,    34.25,     2.45
      09FA9605, ISS3a,    58,  1,     15,     15,19960521,1500,-25.5902, 100.7937, 3190,   2594.0,   1.9530,  34.7290,  34.7320,    294.5,    171.5,   112.28,    33.76,     2.41
      09FA9605, ISS3a,    58,  1,      1,      1,19960521,1500,-25.5902, 100.7937, 3190,   2796.0,   1.8190,  34.7310,  34.7300,    302.9,    176.4,   118.80,    33.96,     2.41
      09FA9605, ISS3a,    58,  1,     14,     14,19960521,1500,-25.5902, 100.7937, 3190,   2996.0,   1.6950,  34.7310,  34.7310,    311.7,    180.2,   116.85,    33.76,     2.41
      09FA9605, ISS3a,    58,  1,     20,     20,19960521,1500,-25.5902, 100.7937, 3190,   3248.0,   1.5810,  34.7300,  34.7300,    321.4,   -999.0,   120.55,    33.76,     2.39
      09FA9605, ISS3a,    58,  1,      3,      3,19960521,1500,-25.5902, 100.7937, 3190,   3248.0,   1.5810,  34.7300,  34.7270,    321.4,    183.9,   120.94,    33.76,     2.38
      09FA9605, ISS3a,    59,  1,     23,     23,19960521,1828,-25.5503, 100.8977, 4041,      4.0,  22.2510,  35.7500,  35.7540,    148.9,    221.0,     3.03,     0.20,     0.14
      09FA9605, ISS3a,    59,  1,     12a,     12,19960521,1828,-25.5503, 100.8977, 4041,     48.0,  22.2690,  35.7500,  35.7550,    148.8,    222.0,     2.73,     0.10,     0.14
      09FA9605, ISS3a,    59,  1,     11,     11,19960521,1828,-25.5503, 100.8977, 4041,     98.0,  20.6930,  35.8460,  35.8600,    151.4,    221.4,     2.93,     0.10,     0.17
      09FA9605, ISS3a,    59,  1,      8,      8,19960521,1828,-25.5503, 100.8977, 4041,    196.0,  17.7050,  35.9230,  35.9280,    151.6,    213.2,     2.53,     1.95,     0.29
      09FA9605, ISS3a,    59,  1,      5,      5,19960521,1828,-25.5503, 100.8977, 4041,    296.0,  14.4290,  35.5130,  35.5460,    168.1,    224.6,     2.34,     4.68,     0.47
      09FA9605, ISS3a,    59,  1,     10,     10,19960521,1828,-25.5503, 100.8977, 4041,    396.0,  12.2220,  35.1540,  35.1520,    184.3,    232.8,     2.82,     8.96,     0.71
      09FA9605, ISS3a,    59,  1,      7,      7,19960521,1828,-25.5503, 100.8977, 4041,    592.0,   9.7160,  34.7470,  34.7250,    211.2,    239.4,     4.67,    15.97,     1.13
      09FA9605, ISS3a,    59,  1,      6,      6,19960521,1828,-25.5503, 100.8977, 4041,    792.0,   6.9760,  34.4980,  34.5090,    213.2,    193.7,    20.16,    26.19,     1.80
      09FA9605, ISS3a,    59,  1,      2,      2,19960521,1828,-25.5503, 100.8977, 4041,    994.0,   4.8710,  34.4970,  34.5180,    217.2,    145.3,    57.14,    33.58,     2.43
      09FA9605, ISS3a,    59,  1,      4,      4,19960521,1828,-25.5503, 100.8977, 4041,   1192.0,   4.1840,  34.5760,  34.5870,    220.8,    129.3,    77.86,    35.14,     2.56
      09FA9605, ISS3a,    59,  1,     16,     16,19960521,1828,-25.5503, 100.8977, 4041,   1392.0,   3.6470,  34.6130,  34.6250,    232.3,    131.8,    84.67,    35.33,     2.58
      09FA9605, ISS3a,    59,  1,     13,     13,19960521,1828,-25.5503, 100.8977, 4041,   1592.0,   3.0740,  34.6480,  34.6470,    247.8,    147.3,    86.12,    34.64,     2.49
      09FA9605, ISS3a,    59,  1,     12b,     12,19960521,1828,-25.5503, 100.8977, 4041,   1792.0,   2.7460,  34.6880,  34.6920,    258.8,    153.4,    95.27,    34.35,     2.45
      09FA9605, ISS3a,    59,  1,     17,     17,19960521,1828,-25.5503, 100.8977, 4041,   1992.0,   2.5000,  34.7110,  34.7170,    267.9,    156.7,   101.49,    33.96,     2.42
      09FA9605, ISS3a,    59,  1,     22,     22,19960521,1828,-25.5503, 100.8977, 4041,   2192.0,   2.2580,  34.7260,  34.7310,    277.6,    162.5,   108.39,    33.67,     2.39
      09FA9605, ISS3a,    59,  1,     24,     24,19960521,1828,-25.5503, 100.8977, 4041,   2392.0,   2.0660,  34.7320,  34.7370,    286.8,    168.2,   111.31,    33.37,     2.35
      09FA9605, ISS3a,    59,  1,     21,     21,19960521,1828,-25.5503, 100.8977, 4041,   2594.0,   1.9120,  34.7350,  34.7380,    295.4,    171.2,   111.70,    33.57,     2.35
      09FA9605, ISS3a,    59,  1,      9,      9,19960521,1828,-25.5503, 100.8977, 4041,   2796.0,   1.8040,  34.7350,  34.7360,    303.9,    176.7,   110.92,    33.08,     2.34
      09FA9605, ISS3a,    59,  1,     18,     18,19960521,1828,-25.5503, 100.8977, 4041,   2996.0,   1.6750,  34.7360,  34.7320,    312.2,    180.6,   113.45,    32.89,     2.32
      09FA9605, ISS3a,    59,  1,     15,     15,19960521,1828,-25.5503, 100.8977, 4041,   3196.0,   1.5290,  34.7350,  34.7370,    321.0,    185.0,   111.69,    32.89,     2.30
      09FA9605, ISS3a,    59,  1,      1,      1,19960521,1828,-25.5503, 100.8977, 4041,   3402.0,   1.4220,  34.7330,  34.7320,    329.2,    188.7,   113.06,    32.89,     2.31
      09FA9605, ISS3a,    59,  1,     14,     14,19960521,1828,-25.5503, 100.8977, 4041,   3596.0,   1.3190,  34.7300,  34.7310,    338.0,    192.9,   114.91,    32.69,     2.26
      09FA9605, ISS3a,    59,  1,     20,     20,19960521,1828,-25.5503, 100.8977, 4041,   3796.0,   1.2240,  34.7280,  34.7310,    346.3,    193.1,   118.89,    32.69,     2.26
      09FA9605, ISS3a,    59,  1,      3,      3,19960521,1828,-25.5503, 100.8977, 4041,   4034.0,   1.0950,  34.7240,  34.7210,    357.7,    202.4,   119.19,    32.50,     2.25