BOTTLE,20220929CCHSIOAMB
EXPOCODE,SECT_ID,STNNBR,CASTNO,SAMPNO,BTLNBR,DATE,TIME,LATITUDE,LONGITUDE,DEPTH,CTDPRS,CTDTMP,CTDSAL,SALNTY,CTDOXY,OXYGEN,SILCAT,NITRAT,PHSPHT
,,,,,,,,,,,DBAR,ITS-90,PSS-78,PSS-78,UMOL/KG,UMOL/KG,UMOL/KG,UMOL/KG,UMOL/KG
      09FA9605, ISS3a,    41,  1,     23,     23,19960518,1218,-31.1248,  99.7440, 2462,      4.0,  18.7310,  35.9810,  35.9290,    167.3,    232.7,     1.36,     0.10,     0.19
      09FA9605, ISS3a,    41,  1,     12,     12,19960518,1218,-31.1248,  99.7440, 2462,     46.0,  18.6710,  35.9770,  35.9320,    167.5,    233.0,     0.97,     0.00,     0.19
      09FA9605, ISS3a,    41,  1,      7,      7,19960518,1218,-31.1248,  99.7440, 2462,     98.0,  15.6070,  35.6160,  35.5970,    179.0,    238.2,     1.27,     1.95,     0.36
      09FA9605, ISS3a,    41,  1,      6,      6,19960518,1218,-31.1248,  99.7440, 2462,    146.0,  13.9120,  35.4630,  35.4300,    178.1,    235.1,     1.56,     5.26,     0.53
      09FA9605, ISS3a,    41,  1,      2,      2,19960518,1218,-31.1248,  99.7440, 2462,    196.0,  13.1030,  35.3300,  35.3300,    184.7,    239.3,     1.85,     6.33,     0.58
      09FA9605, ISS3a,    41,  1,     10,     10,19960518,1218,-31.1248,  99.7440, 2462,    242.0,  12.4690,  35.2110,  35.1820,    190.9,    243.1,     1.75,     7.60,     0.65
      09FA9605, ISS3a,    41,  1,      4,      4,19960518,1218,-31.1248,  99.7440, 2462,    294.0,  11.6440,  35.0650,  35.0570,    195.9,    239.1,     2.63,    10.13,     0.80
      09FA9605, ISS3a,    41,  1,     16,     16,19960518,1218,-31.1248,  99.7440, 2462,    394.0,  10.5310,  34.8770,  34.8880,    208.0,    244.3,     3.12,    12.47,     0.94
      09FA9605, ISS3a,    41,  1,     13,     13,19960518,1218,-31.1248,  99.7440, 2462,    494.0,   9.8050,  34.7530,  34.7660,    218.2,    246.7,     3.60,    14.32,     1.05
      09FA9605, ISS3a,    41,  1,      3a,      3,19960518,1218,-31.1248,  99.7440, 2462,    594.0,   9.3060,  34.6770,  34.6820,    222.9,    241.2,     4.38,    16.65,     1.20
      09FA9605, ISS3a,    41,  1,     17,     17,19960518,1218,-31.1248,  99.7440, 2462,    692.0,   8.5510,  34.5910,  34.5990,    221.7,    224.5,     7.11,    20.26,     1.42
      09FA9605, ISS3a,    41,  1,     19,     19,19960518,1218,-31.1248,  99.7440, 2462,    790.0,   7.3340,  34.4950,  34.5060,    220.7,    206.0,    13.44,    24.64,     1.71
      09FA9605, ISS3a,    41,  1,     24,     24,19960518,1218,-31.1248,  99.7440, 2462,    992.0,   4.8250,  34.3880,  34.3960,    237.0,    193.4,    33.20,    30.47,     2.18
      09FA9605, ISS3a,    41,  1,     21,     21,19960518,1218,-31.1248,  99.7440, 2462,   1192.0,   3.8490,  34.4650,  34.4710,    240.2,    165.8,    58.50,    33.39,     2.43
      09FA9605, ISS3a,    41,  1,      9,      9,19960518,1218,-31.1248,  99.7440, 2462,   1392.0,   3.3330,  34.5450,  34.5480,    245.6,    155.4,    73.19,    34.16,     2.50
      09FA9605, ISS3a,    41,  1,     18,     18,19960518,1218,-31.1248,  99.7440, 2462,   1592.0,   3.0090,  34.6120,  34.6150,    253.2,    154.8,    78.53,    32.31,     2.31
      09FA9605, ISS3a,    41,  1,     15,     15,19960518,1218,-31.1248,  99.7440, 2462,   1792.0,   2.7070,  34.6680,  34.6670,    262.3,    159.9,    90.79,    33.47,     2.43
      09FA9605, ISS3a,    41,  1,      1,      1,19960518,1218,-31.1248,  99.7440, 2462,   1998.0,   2.4800,  34.7030,  34.7020,    271.3,    163.4,    98.67,    33.18,     2.40
      09FA9605, ISS3a,    41,  1,     14,     14,19960518,1218,-31.1248,  99.7440, 2462,   2194.0,   2.2960,  34.7180,  34.7200,    279.5,    167.6,   103.14,    32.89,     2.37
      09FA9605, ISS3a,    41,  1,     20,     20,19960518,1218,-31.1248,  99.7440, 2462,   2398.0,   2.0390,  34.7290,  34.7290,    290.5,    175.6,   106.74,    32.60,     2.33
      09FA9605, ISS3a,    41,  1,      3b,      3,19960518,1218,-31.1248,  99.7440, 2462,   2468.0,   2.0020,  34.7300,  34.7280,    293.3,    177.1,   107.71,    32.50,     2.33
      09FA9605, ISS3a,    42,  1,     23,     23,19960518,1719,-30.6970,  99.4920, 2438,     48.0,  19.9270,  36.1360,  36.1350,    158.9,    226.2,     1.95,     0.10,     0.14
      09FA9605, ISS3a,    42,  1,     12,     12,19960518,1719,-30.6970,  99.4920, 2438,     96.0,  18.6960,  35.9430,  35.9580,    163.6,    232.0,     1.07,     0.10,     0.17
      09FA9605, ISS3a,    42,  1,      7,      7,19960518,1719,-30.6970,  99.4920, 2438,    146.0,  17.1820,  35.8570,  35.8780,    166.7,    229.5,     1.46,     0.39,     0.23
      09FA9605, ISS3a,    42,  1,      6,      6,19960518,1719,-30.6970,  99.4920, 2438,    196.0,  15.1290,  35.6390,  35.6660,    169.8,    226.8,     1.56,     2.92,     0.39
      09FA9605, ISS3a,    42,  1,      2,      2,19960518,1719,-30.6970,  99.4920, 2438,    248.0,  13.8220,  35.4310,  35.4640,    177.7,    234.4,     1.66,     4.77,     0.50
      09FA9605, ISS3a,    42,  1,     10,     10,19960518,1719,-30.6970,  99.4920, 2438,    296.0,  13.1670,  35.3410,  35.3480,    185.8,    238.6,     1.85,     6.04,     0.56
      09FA9605, ISS3a,    42,  1,      4,      4,19960518,1719,-30.6970,  99.4920, 2438,    396.0,  11.5870,  35.0570,  35.0770,    198.2,    238.8,     2.53,     9.74,     0.77
      09FA9605, ISS3a,    42,  1,     16,     16,19960518,1719,-30.6970,  99.4920, 2438,    496.0,  10.5830,  34.8840,  34.9060,    211.5,    246.8,     3.31,    12.27,     0.91
      09FA9605, ISS3a,    42,  1,     13,     13,19960518,1719,-30.6970,  99.4920, 2438,    594.0,   9.8840,  34.7690,  34.7740,    217.6,    242.1,     3.99,    14.71,     1.05
      09FA9605, ISS3a,    42,  1,      3a,      3,19960518,1719,-30.6970,  99.4920, 2438,    696.0,   9.2400,  34.6740,  34.6830,    221.3,    236.6,     4.87,    17.24,     1.21
      09FA9605, ISS3a,    42,  1,     17,     17,19960518,1719,-30.6970,  99.4920, 2438,    792.0,   8.2480,  34.5640,  34.5820,    221.7,    219.0,     8.47,    21.13,     1.46
      09FA9605, ISS3a,    42,  1,     24,     24,19960518,1719,-30.6970,  99.4920, 2438,   1192.0,   4.0340,  34.4480,  34.4560,    240.0,    168.7,    55.19,    32.80,     2.38
      09FA9605, ISS3a,    42,  1,     21,     21,19960518,1719,-30.6970,  99.4920, 2438,   1392.0,   3.5100,  34.5260,  34.5300,    244.2,    155.0,    71.93,    34.16,     2.48
      09FA9605, ISS3a,    42,  1,      9,      9,19960518,1719,-30.6970,  99.4920, 2438,   1594.0,   3.1200,  34.6170,  34.6230,    249.6,    148.8,    87.10,    34.16,     2.50
      09FA9605, ISS3a,    42,  1,     18,     18,19960518,1719,-30.6970,  99.4920, 2438,   1796.0,   2.7560,  34.6640,  34.6630,    260.8,    156.9,    91.28,    33.67,     2.45
      09FA9605, ISS3a,    42,  1,     15,     15,19960518,1719,-30.6970,  99.4920, 2438,   1994.0,   2.5280,  34.7000,  34.7050,    269.0,    160.5,    99.74,    33.18,     2.41
      09FA9605, ISS3a,    42,  1,      1,      1,19960518,1719,-30.6970,  99.4920, 2438,   2196.0,   2.2610,  34.7210,  34.7200,    278.9,    167.3,   105.96,    32.79,     2.38
      09FA9605, ISS3a,    42,  1,     14,     14,19960518,1719,-30.6970,  99.4920, 2438,   2398.0,   2.0840,  34.7290,  34.7280,    288.7,    173.1,   107.42,    32.50,     2.33
      09FA9605, ISS3a,    42,  1,     20,     20,19960518,1719,-30.6970,  99.4920, 2438,   2398.0,   2.0840,  34.7290,  34.7290,    288.7,    173.0,   108.39,    32.60,     2.34
      09FA9605, ISS3a,    42,  1,      3b,      3,19960518,1719,-30.6970,  99.4920, 2438,   2494.0,   1.9870,  34.7320,  34.7320,    292.9,    175.9,   109.27,    32.40,     2.35
      09FA9605, ISS3a,    43,  1,     23,     23,19960518,2213,-30.3412,  99.0968, 2414,      4.0,  20.3960,  36.0790,  36.0810,    158.2,    224.6,     2.44,     0.10,     0.15
      09FA9605, ISS3a,    43,  1,      7,      7,19960518,2213,-30.3412,  99.0968, 2414,     48.0,  20.3770,  36.0870,  36.0830,    155.9,    223.8,     2.34,     0.10,     0.14
      09FA9605, ISS3a,    43,  1,      6,      6,19960518,2213,-30.3412,  99.0968, 2414,     98.0,  20.2490,  36.0820,  36.0840,    154.4,    224.7,     2.34,     0.10,     0.14
      09FA9605, ISS3a,    43,  1,      2,      2,19960518,2213,-30.3412,  99.0968, 2414,    148.0,  18.9250,  35.9850,  35.9800,    155.4,    216.7,     2.14,     0.58,     0.20
      09FA9605, ISS3a,    43,  1,     10,     10,19960518,2213,-30.3412,  99.0968, 2414,    196.0,  17.7990,  35.9630,  35.9650,    156.8,    215.7,     2.05,     1.36,     0.25
      09FA9605, ISS3a,    43,  1,      4,      4,19960518,2213,-30.3412,  99.0968, 2414,    246.0,  16.0540,  35.7600,  35.7860,    163.9,    223.0,     1.75,     2.05,     0.33
      09FA9605, ISS3a,    43,  1,     16,     16,19960518,2213,-30.3412,  99.0968, 2414,    296.0,  15.1960,  35.6940,  35.6780,    172.0,    232.8,     1.36,     2.63,     0.36
      09FA9605, ISS3a,    43,  1,     13,     13,19960518,2213,-30.3412,  99.0968, 2414,    394.0,  12.8250,  35.2580,  35.2490,    183.1,    235.7,     2.24,     7.31,     0.62
      09FA9605, ISS3a,    43,  1,      3a,      3,19960518,2213,-30.3412,  99.0968, 2414,    496.0,  11.2600,  34.9950,  34.9610,    199.1,    241.4,     2.92,    11.10,     0.85
      09FA9605, ISS3a,    43,  1,     17,     17,19960518,2213,-30.3412,  99.0968, 2414,    594.0,   9.9520,  34.7760,  34.7710,    212.0,    244.4,     3.90,    14.32,     1.02
      09FA9605, ISS3a,    43,  1,     19,     19,19960518,2213,-30.3412,  99.0968, 2414,    694.0,   9.4100,  34.6950,  34.6970,    218.6,    238.5,     4.67,    16.56,     1.16
      09FA9605, ISS3a,    43,  1,     24,     24,19960518,2213,-30.3412,  99.0968, 2414,    796.0,   8.4710,  34.5840,  34.5860,    220.2,    222.1,     7.99,    20.65,     1.40
      09FA9605, ISS3a,    43,  1,     21,     21,19960518,2213,-30.3412,  99.0968, 2414,    994.0,   5.6170,  34.4220,  34.4300,    227.6,    189.8,    28.43,    29.01,     1.99
      09FA9605, ISS3a,    43,  1,      9,      9,19960518,2213,-30.3412,  99.0968, 2414,   1194.0,   4.2420,  34.4980,  34.4920,    229.0,    153.5,    62.39,    33.39,     2.38
      09FA9605, ISS3a,    43,  1,     18,     18,19960518,2213,-30.3412,  99.0968, 2414,   1394.0,   3.7490,  34.5650,  34.5710,    235.0,    140.7,    80.20,    34.55,     2.46
      09FA9605, ISS3a,    43,  1,     15,     15,19960518,2213,-30.3412,  99.0968, 2414,   1594.0,   3.2910,  34.6070,  34.6110,    245.9,    144.0,    87.10,    34.35,     2.47
      09FA9605, ISS3a,    43,  1,      1,      1,19960518,2213,-30.3412,  99.0968, 2414,   1800.0,   2.9010,  34.6580,-999.0000,    257.0,   -999.0,  -999.00,  -999.00,  -999.00
      09FA9605, ISS3a,    43,  1,     14,     14,19960518,2213,-30.3412,  99.0968, 2414,   1996.0,   2.6180,  34.6950,  34.6970,    267.6,    158.0,   100.32,    33.47,     2.35
      09FA9605, ISS3a,    43,  1,     20,     20,19960518,2213,-30.3412,  99.0968, 2414,   2196.0,   2.3560,  34.7160,  34.7170,    277.5,    165.1,   105.96,    33.18,     2.33
      09FA9605, ISS3a,    43,  1,      3b,      3,19960518,2213,-30.3412,  99.0968, 2414,   2414.0,   2.0770,  34.7290,  34.7280,    289.4,    173.4,   110.24,    32.69,     2.28
      09FA9605, ISS3a,    44,  1,     23,     23,19960519,0328,-29.9240,  98.7700, 2803,      6.0,  20.8450,  36.0060,  36.0170,    138.7,    222.2,     2.44,     0.20,     0.15
      09FA9605, ISS3a,    44,  1,     22,     22,19960519,0328,-29.9240,  98.7700, 2803,     50.0,  20.8460,  36.0070,  36.0130,    141.6,    225.8,     2.44,     0.10,     0.15
      09FA9605, ISS3a,    44,  1,     12,     12,19960519,0328,-29.9240,  98.7700, 2803,     98.0,  20.3940,  36.0610,  36.0760,    145.2,    222.4,     2.34,     0.10,     0.15
      09FA9605, ISS3a,    44,  1,      8,      8,19960519,0328,-29.9240,  98.7700, 2803,    146.0,  18.2200,  35.9350,  35.9500,    149.1,    227.3,     2.14,     0.39,     0.20
      09FA9605, ISS3a,    44,  1,      7,      7,19960519,0328,-29.9240,  98.7700, 2803,    200.0,  16.7220,  35.8360,  35.8570,    155.3,    221.1,     2.05,     1.36,     0.29
      09FA9605, ISS3a,    44,  1,      6,      6,19960519,0328,-29.9240,  98.7700, 2803,    248.0,  15.3110,  35.6440,  35.6620,    162.3,    222.2,     2.24,     3.51,     0.41
      09FA9605, ISS3a,    44,  1,      2,      2,19960519,0328,-29.9240,  98.7700, 2803,    298.0,  14.5940,  35.5860,  35.5610,    172.3,    231.6,     1.75,     4.09,     0.45
      09FA9605, ISS3a,    44,  1,     10,     10,19960519,0328,-29.9240,  98.7700, 2803,    396.0,  12.2280,  35.1570,  35.1780,    186.2,    234.5,     2.53,     8.47,     0.70
      09FA9605, ISS3a,    44,  1,      4,      4,19960519,0328,-29.9240,  98.7700, 2803,    496.0,  10.7980,  34.9200,  34.9290,    201.1,    238.7,     3.41,    12.17,     0.90
      09FA9605, ISS3a,    44,  1,     16,     16,19960519,0328,-29.9240,  98.7700, 2803,    594.0,   9.7940,  34.7590,  34.7580,    212.8,    239.7,     4.19,    15.29,     1.07
      09FA9605, ISS3a,    44,  1,     13,     13,19960519,0328,-29.9240,  98.7700, 2803,    694.0,   9.1250,  34.6640,  34.6660,    219.8,    234.2,     5.55,    17.92,     1.23
      09FA9605, ISS3a,    44,  1,      3a,      3,19960519,0328,-29.9240,  98.7700, 2803,    796.0,   7.9570,  34.5430,  34.5520,    220.5,    213.9,    10.13,    22.40,     1.53
      09FA9605, ISS3a,    44,  1,     17,     17,19960519,0328,-29.9240,  98.7700, 2803,    896.0,   6.4720,  34.4590,  34.4780,    223.3,    194.2,    20.64,    27.07,     1.86
      09FA9605, ISS3a,    44,  1,     19,     19,19960519,0328,-29.9240,  98.7700, 2803,    994.0,   5.1580,  34.4330,  34.4370,    228.3,    181.1,    36.80,    30.86,     2.18
      09FA9605, ISS3a,    44,  1,     24,     24,19960519,0328,-29.9240,  98.7700, 2803,   1196.0,   4.0180,  34.4830,  34.4810,    235.8,    162.7,    59.08,    33.48,     2.42
      09FA9605, ISS3a,    44,  1,     21,     21,19960519,0328,-29.9240,  98.7700, 2803,   1398.0,   3.6720,  34.5640,  34.5790,    239.3,    141.5,    80.20,    34.75,     2.54
      09FA9605, ISS3a,    44,  1,      9,      9,19960519,0328,-29.9240,  98.7700, 2803,   1594.0,   3.1930,  34.6240,  34.6220,    248.7,    148.1,    87.00,    34.45,     2.52
      09FA9605, ISS3a,    44,  1,     18,     18,19960519,0328,-29.9240,  98.7700, 2803,   1790.0,   2.9190,  34.6620,  34.6600,    257.9,    152.1,    93.22,    34.06,     2.48
      09FA9605, ISS3a,    44,  1,     15,     15,19960519,0328,-29.9240,  98.7700, 2803,   1992.0,   2.6340,  34.6930,  34.6980,    267.6,    156.8,    99.64,    33.77,     2.43
      09FA9605, ISS3a,    44,  1,      1,      1,19960519,0328,-29.9240,  98.7700, 2803,   2180.0,   2.3940,  34.7180,  34.7190,    277.2,    164.0,   103.72,    33.28,     2.39
      09FA9605, ISS3a,    44,  1,     14,     14,19960519,0328,-29.9240,  98.7700, 2803,   2394.0,   2.2050,  34.7280,  34.7320,    286.8,    170.1,   105.96,    32.99,     2.46
      09FA9605, ISS3a,    44,  1,     20,     20,19960519,0328,-29.9240,  98.7700, 2803,   2592.0,   2.0370,  34.7340,  34.7320,    295.9,    176.6,   107.81,    32.69,     2.34
      09FA9605, ISS3a,    44,  1,      3b,      3,19960519,0328,-29.9240,  98.7700, 2803,   2816.0,   1.6590,  34.7370,  34.7330,    308.8,    185.9,   113.35,    32.30,     2.31
      09FA9605, ISS3a,    45,  1,     23,     23,19960519,0824,-29.5053,  98.5080, 2177,      2.0,  20.6110,  36.0640,  36.0570,    159.2,    222.6,     2.34,     0.20,     0.13
      09FA9605, ISS3a,    45,  1,      7,      7,19960519,0824,-29.5053,  98.5080, 2177,     48.0,  20.5480,  36.0780,  36.0730,    154.5,    222.9,     2.24,     0.20,     0.13
      09FA9605, ISS3a,    45,  1,      6,      6,19960519,0824,-29.5053,  98.5080, 2177,     98.0,  20.3600,  36.0780,  36.0860,    154.0,    222.1,     2.34,     0.20,     0.12
      09FA9605, ISS3a,    45,  1,      2,      2,19960519,0824,-29.5053,  98.5080, 2177,    148.0,  17.7530,  35.9100,  35.9190,    156.7,    218.1,     1.95,     1.07,     0.23
      09FA9605, ISS3a,    45,  1,     10,     10,19960519,0824,-29.5053,  98.5080, 2177,    196.0,  16.0100,  35.7400,  35.7400,    162.2,    222.1,     1.95,     2.73,     0.33
      09FA9605, ISS3a,    45,  1,      4,      4,19960519,0824,-29.5053,  98.5080, 2177,    246.0,  14.4790,  35.5330,  35.5650,    171.4,    228.5,     1.66,     3.99,     0.41
      09FA9605, ISS3a,    45,  1,     16,     16,19960519,0824,-29.5053,  98.5080, 2177,    296.0,  13.2540,  35.3290,  35.3870,    178.5,    233.2,     1.85,     5.84,     0.51
      09FA9605, ISS3a,    45,  1,     13,     13,19960519,0824,-29.5053,  98.5080, 2177,    396.0,  11.2470,  34.9890,  35.0270,    193.7,    236.2,     2.82,    10.62,     0.79
      09FA9605, ISS3a,    45,  1,      3a,      3,19960519,0824,-29.5053,  98.5080, 2177,    496.0,  10.2280,  34.8240,  34.8180,    207.7,    242.7,     3.51,    13.63,     0.98
      09FA9605, ISS3a,    45,  1,     17,     17,19960519,0824,-29.5053,  98.5080, 2177,    596.0,   9.2960,  34.6740,  34.7030,    217.9,    238.4,     4.58,    16.36,     1.14
      09FA9605, ISS3a,    45,  1,     19,     19,19960519,0824,-29.5053,  98.5080, 2177,    696.0,   8.3560,  34.5750,  34.5810,    217.6,    219.7,     8.37,    21.13,     1.44
      09FA9605, ISS3a,    45,  1,     24,     24,19960519,0824,-29.5053,  98.5080, 2177,    794.0,   7.0440,  34.4860,  34.4860,    218.1,    196.5,    18.60,    26.29,     1.78
      09FA9605, ISS3a,    45,  1,     21,     21,19960519,0824,-29.5053,  98.5080, 2177,    994.0,   4.7840,  34.4650,  34.4740,    223.9,    158.9,    52.86,    32.71,     2.35
      09FA9605, ISS3a,    45,  1,      9,      9,19960519,0824,-29.5053,  98.5080, 2177,   1194.0,   3.8510,  34.5020,  34.5170,    235.3,    151.0,    70.18,    34.36,     2.47
      09FA9605, ISS3a,    45,  1,     18,     18,19960519,0824,-29.5053,  98.5080, 2177,   1396.0,   3.4860,  34.5870,  34.5800,    239.6,    145.8,    81.75,    34.65,     2.52
      09FA9605, ISS3a,    45,  1,     15,     15,19960519,0824,-29.5053,  98.5080, 2177,   1594.0,   3.0930,  34.6280,  34.6330,    249.9,    148.5,    88.36,    34.26,     2.50
      09FA9605, ISS3a,    45,  1,      1,      1,19960519,0824,-29.5053,  98.5080, 2177,   1802.0,   2.8150,  34.6680,  34.6660,    259.2,    152.5,    95.17,    34.16,     2.46
      09FA9605, ISS3a,    45,  1,     14,     14,19960519,0824,-29.5053,  98.5080, 2177,   1996.0,   2.5870,  34.6960,  34.6970,    268.5,    158.2,   100.52,    33.67,     2.44
      09FA9605, ISS3a,    45,  1,     20,     20,19960519,0824,-29.5053,  98.5080, 2177,   1996.0,   2.5870,  34.6960,  34.6960,    268.5,    159.4,   100.81,    33.77,     2.43
      09FA9605, ISS3a,    45,  1,      3b,      3,19960519,0824,-29.5053,  98.5080, 2177,   2178.0,   2.2740,  34.7170,  34.7150,    278.3,    167.8,   105.67,    33.28,     2.38