BOTTLE,20220929CCHSIOAMB
EXPOCODE,SECT_ID,STNNBR,CASTNO,SAMPNO,BTLNBR,DATE,TIME,LATITUDE,LONGITUDE,DEPTH,CTDPRS,CTDTMP,CTDSAL,SALNTY,CTDOXY,OXYGEN,SILCAT,NITRAT,PHSPHT
,,,,,,,,,,,DBAR,ITS-90,PSS-78,PSS-78,UMOL/KG,UMOL/KG,UMOL/KG,UMOL/KG,UMOL/KG
      09FA9605, ISS3a,    16,  1,     23,     23,19960512,1716,-34.1760, 109.1810, 4952,      4.0,  19.3120,  36.0210,  36.0250,    176.5,    240.8,     3.31,     0.19,     0.16
      09FA9605, ISS3a,    16,  1,      8,      8,19960512,1716,-34.1760, 109.1810, 4952,     98.0,  18.2480,  35.9080,  35.9050,    171.2,    242.7,     2.92,     0.29,     0.19
      09FA9605, ISS3a,    16,  1,     22,     22,19960512,1716,-34.1760, 109.1810, 4952,    196.0,  14.1830,  35.4840,  35.4380,    180.8,    247.1,     2.73,     4.87,     0.46
      09FA9605, ISS3a,    16,  1,    11a,     11,19960512,1716,-34.1760, 109.1810, 4952,    396.0,  10.2120,  34.8130,  34.7830,    209.1,    255.9,     4.58,    14.12,     0.99
      09FA9605, ISS3a,    16,  1,     12,     12,19960512,1716,-34.1760, 109.1810, 4952,    594.0,   8.9450,  34.6270,  34.6220,    224.4,    245.4,     7.01,    18.80,     1.29
      09FA9605, ISS3a,    16,  1,      7,      7,19960512,1716,-34.1760, 109.1810, 4952,    792.0,   6.3050,  34.4290,  34.4340,    225.3,    207.7,    21.52,    27.55,     1.92
      09FA9605, ISS3a,    16,  1,      6,      6,19960512,1716,-34.1760, 109.1810, 4952,    994.0,   4.1040,  34.3890,  34.3950,    243.8,    197.8,    44.39,    32.03,     2.30
      09FA9605, ISS3a,    16,  1,      2,      2,19960512,1716,-34.1760, 109.1810, 4952,   1190.0,   3.3810,  34.4820,  34.4840,    246.9,    174.7,    64.43,    33.77,     2.49
      09FA9605, ISS3a,    16,  1,     10,     10,19960512,1716,-34.1760, 109.1810, 4952,   1392.0,   3.0210,  34.5540,  34.5600,    253.3,    167.9,    75.62,    34.16,     2.52
      09FA9605, ISS3a,    16,  1,      4,      4,19960512,1716,-34.1760, 109.1810, 4952,   1594.0,   2.7450,  34.6260,  34.6270,    261.3,    168.9,    83.49,    33.77,     2.48
      09FA9605, ISS3a,    16,  1,     16,     16,19960512,1716,-34.1760, 109.1810, 4952,   1794.0,   2.5430,  34.6780,  34.6780,    268.5,    171.2,    90.59,    33.28,     2.45
      09FA9605, ISS3a,    16,  1,     13,     13,19960512,1716,-34.1760, 109.1810, 4952,   1994.0,   2.3560,  34.7060,  34.7070,    276.0,    175.0,    98.08,    32.99,     2.42
      09FA9605, ISS3a,    16,  1,    11b,     11,19960512,1716,-34.1760, 109.1810, 4952,   2194.0,   2.1800,  34.7200,  34.7260,    283.9,    179.8,   103.04,    32.79,     2.40
      09FA9605, ISS3a,    16,  1,     17,     17,19960512,1716,-34.1760, 109.1810, 4952,   2394.0,   2.0550,  34.7260,  34.7270,    290.5,    180.0,   107.71,    32.89,     2.39
      09FA9605, ISS3a,    16,  1,     24,     24,19960512,1716,-34.1760, 109.1810, 4952,   2794.0,   1.8000,  34.7310,  34.7310,    307.4,    188.4,   109.27,    32.11,     2.32
      09FA9605, ISS3a,    16,  1,     21,     21,19960512,1716,-34.1760, 109.1810, 4952,   2996.0,   1.7010,  34.7300,  34.7290,    314.4,    192.4,   113.16,    32.40,     2.34
      09FA9605, ISS3a,    16,  1,      9,      9,19960512,1716,-34.1760, 109.1810, 4952,   3296.0,   1.5340,  34.7290,  34.7290,    326.7,    192.7,   113.06,    32.40,     2.34
      09FA9605, ISS3a,    16,  1,     18,     18,19960512,1716,-34.1760, 109.1810, 4952,   3596.0,   1.3950,  34.7270,  34.7270,    339.1,    204.4,   116.75,    32.11,     2.31
      09FA9605, ISS3a,    16,  1,     15,     15,19960512,1716,-34.1760, 109.1810, 4952,   3896.0,   1.2700,  34.7220,  34.7240,    350.7,    208.3,   117.73,    32.11,     2.30
      09FA9605, ISS3a,    16,  1,      1,      1,19960512,1716,-34.1760, 109.1810, 4952,   3896.0,   1.2700,  34.7220,  34.7230,    350.7,    208.8,   117.82,    32.01,     2.30
      09FA9605, ISS3a,    16,  1,     14,     14,19960512,1716,-34.1760, 109.1810, 4952,   4496.0,   1.0990,  34.7160,  34.7170,    374.8,    216.1,   118.99,    32.01,     2.28
      09FA9605, ISS3a,    16,  1,     20,     20,19960512,1716,-34.1760, 109.1810, 4952,   4796.0,   1.0120,  34.7110,  34.7140,    387.0,    216.9,   119.28,    32.11,     2.29
      09FA9605, ISS3a,    16,  1,      3,      3,19960512,1716,-34.1760, 109.1810, 4952,   5042.0,   0.9510,  34.7070,  34.7060,    397.1,    220.7,   122.78,    32.11,     2.29
      09FA9605, ISS3a,    17,  1,     23,     23,19960512,2247,-34.1405, 108.8530, 5298,      2.0,  19.0720,  35.9970,  35.9980,    178.3,    241.6,     2.34,     0.19,     0.15
      09FA9605, ISS3a,    17,  1,      8,      8,19960512,2247,-34.1405, 108.8530, 5298,     98.0,  16.8210,  35.7880,  35.7150,    175.1,    245.5,     1.66,     0.97,     0.22
      09FA9605, ISS3a,    17,  1,     22,     22,19960512,2247,-34.1405, 108.8530, 5298,    196.0,  13.1940,  35.2850,  35.2780,    187.9,    251.5,     1.85,     5.75,     0.49
      09FA9605, ISS3a,    17,  1,    11a,     11,19960512,2247,-34.1405, 108.8530, 5298,    392.0,   9.7360,  34.7310,  34.7580,    214.4,    263.2,     4.09,    14.22,     0.96
      09FA9605, ISS3a,    17,  1,     12,     12,19960512,2247,-34.1405, 108.8530, 5298,    592.0,   8.8660,  34.6160,  34.6210,    228.8,    251.2,     6.04,    18.41,     1.24
      09FA9605, ISS3a,    17,  1,      7,      7,19960512,2247,-34.1405, 108.8530, 5298,    792.0,   6.5890,  34.4420,  34.4430,    225.3,    207.6,    20.16,    27.17,     1.87
      09FA9605, ISS3a,    17,  1,      6,      6,19960512,2247,-34.1405, 108.8530, 5298,    992.0,   4.1680,  34.3880,  34.4000,    243.8,    197.2,    42.64,    31.83,     2.32
      09FA9605, ISS3a,    17,  1,      2,      2,19960512,2247,-34.1405, 108.8530, 5298,   1190.0,   3.4600,  34.4790,  34.4780,    245.4,    176.4,    61.90,    33.68,     2.44
      09FA9605, ISS3a,    17,  1,     10,     10,19960512,2247,-34.1405, 108.8530, 5298,   1392.0,   3.0610,  34.5530,  34.5490,    253.2,    169.5,    72.31,    34.06,     2.47
      09FA9605, ISS3a,    17,  1,      4,      4,19960512,2247,-34.1405, 108.8530, 5298,   1594.0,   2.7710,  34.6170,  34.6190,    261.2,    169.1,    80.38,    33.57,     2.45
      09FA9605, ISS3a,    17,  1,     16,     16,19960512,2247,-34.1405, 108.8530, 5298,   1792.0,   2.5720,  34.6700,  34.6710,    268.7,    171.8,    87.77,    33.28,     2.41
      09FA9605, ISS3a,    17,  1,     13,     13,19960512,2247,-34.1405, 108.8530, 5298,   1994.0,   2.3680,  34.7040,  34.7050,    276.6,    177.0,    93.90,    32.79,     2.38
      09FA9605, ISS3a,    17,  1,    11b,     11,19960512,2247,-34.1405, 108.8530, 5298,   2194.0,   2.1850,  34.7200,  34.7240,    284.5,    178.5,   101.49,    32.69,     2.38
      09FA9605, ISS3a,    17,  1,     17,     17,19960512,2247,-34.1405, 108.8530, 5298,   2394.0,   2.0290,  34.7270,  34.7280,    292.9,    182.8,   104.60,    32.50,     2.35
      09FA9605, ISS3a,    17,  1,     3a,      3,19960512,2247,-34.1405, 108.8530, 5298,   2696.0,   1.8400,  34.7300,  34.7280,    304.7,    184.7,   103.04,    32.59,     2.39
      09FA9605, ISS3a,    17,  1,     24,     24,19960512,2247,-34.1405, 108.8530, 5298,   2996.0,   1.6980,  34.7310,  34.7280,    315.6,    193.3,   109.75,    32.21,     2.32
      09FA9605, ISS3a,    17,  1,     21,     21,19960512,2247,-34.1405, 108.8530, 5298,   2996.0,   1.6980,  34.7310,  34.7280,    315.6,    193.2,   109.36,    32.11,     2.32
      09FA9605, ISS3a,    17,  1,      9,      9,19960512,2247,-34.1405, 108.8530, 5298,   3596.0,   1.3700,  34.7230,  34.7200,    338.8,    201.7,   116.95,    32.30,     2.32
      09FA9605, ISS3a,    17,  1,     18,     18,19960512,2247,-34.1405, 108.8530, 5298,   3898.0,   1.2660,  34.7210,  34.7200,    350.1,    204.6,   119.97,    32.40,     2.32
      09FA9605, ISS3a,    17,  1,     15,     15,19960512,2247,-34.1405, 108.8530, 5298,   4196.0,   1.1880,  34.7170,  34.7160,    361.4,    206.9,   121.52,    32.20,     2.33
      09FA9605, ISS3a,    17,  1,      1,      1,19960512,2247,-34.1405, 108.8530, 5298,   4196.0,   1.1880,  34.7170,  34.7130,    361.4,    207.4,   121.52,    32.30,     2.32
      09FA9605, ISS3a,    17,  1,     20,     20,19960512,2247,-34.1405, 108.8530, 5298,   5096.0,   0.9910,  34.7080,  34.7100,    398.4,    216.7,   119.96,    31.72,     2.26
      09FA9605, ISS3a,    17,  1,     3b,      3,19960512,2247,-34.1405, 108.8530, 5298,   5406.0,   1.0040,  34.7070,  34.7040,    409.6,    220.0,   120.16,    31.91,     2.29
      09FA9605, ISS3a,    18,  1,     23,     23,19960513,0349,-34.1763, 108.6013, 5332,      2.0,  18.3020,  35.9480,  35.9430,    180.4,    243.6,     2.14,     0.10,     0.16
      09FA9605, ISS3a,    18,  1,      8,      8,19960513,0349,-34.1763, 108.6013, 5332,     96.0,  17.1830,  35.7430,  35.6950,    175.3,    247.2,     1.46,     0.49,     0.21
      09FA9605, ISS3a,    18,  1,     22,     22,19960513,0349,-34.1763, 108.6013, 5332,    196.0,  13.0320,  35.2680,  35.2890,    187.4,    250.6,     1.85,     5.75,     0.50
      09FA9605, ISS3a,    18,  1,    11a,     11,19960513,0349,-34.1763, 108.6013, 5332,    396.0,   9.8740,  34.7630,  34.7370,    215.9,    257.1,     4.09,    14.80,     1.02
      09FA9605, ISS3a,    18,  1,     12,     12,19960513,0349,-34.1763, 108.6013, 5332,    594.0,   8.8660,  34.6150,  34.6290,    226.9,    250.0,     6.04,    18.21,     1.26
      09FA9605, ISS3a,    18,  1,      7,      7,19960513,0349,-34.1763, 108.6013, 5332,    794.0,   6.5040,  34.4390,  34.4500,    224.0,    208.2,    19.67,    26.87,     1.85
      09FA9605, ISS3a,    18,  1,      6,      6,19960513,0349,-34.1763, 108.6013, 5332,    992.0,   4.1120,  34.3790,  34.3800,    244.3,    202.3,    41.08,    31.64,     2.25
      09FA9605, ISS3a,    18,  1,      2,      2,19960513,0349,-34.1763, 108.6013, 5332,   1192.0,   3.4560,  34.4750,  34.4840,    246.7,    175.8,    63.85,    33.68,     2.55
      09FA9605, ISS3a,    18,  1,     10,     10,19960513,0349,-34.1763, 108.6013, 5332,   1390.0,   3.0220,  34.5540,  34.5660,    253.3,    168.8,    75.81,    33.48,     2.48
      09FA9605, ISS3a,    18,  1,      4,      4,19960513,0349,-34.1763, 108.6013, 5332,   1590.0,   2.8070,  34.6290,  34.6380,    259.5,    167.3,    86.61,    33.57,     2.45
      09FA9605, ISS3a,    18,  1,     16,     16,19960513,0349,-34.1763, 108.6013, 5332,   1790.0,   2.5850,  34.6790,  34.6870,    267.1,    170.6,    95.46,    33.18,     2.42
      09FA9605, ISS3a,    18,  1,     13,     13,19960513,0349,-34.1763, 108.6013, 5332,   1996.0,   2.3560,  34.7090,  34.7120,    276.1,    175.6,   100.52,    32.89,     2.38
      09FA9605, ISS3a,    18,  1,    11b,     11,19960513,0349,-34.1763, 108.6013, 5332,   2192.0,   2.2120,  34.7220,  34.7220,    284.2,    182.8,   105.57,    32.79,     2.38
      09FA9605, ISS3a,    18,  1,     17,     17,19960513,0349,-34.1763, 108.6013, 5332,   2396.0,   2.0260,  34.7290,  34.7280,    291.9,    181.4,   110.53,    32.69,     2.37
      09FA9605, ISS3a,    18,  1,     3a,      3,19960513,0349,-34.1763, 108.6013, 5332,   2692.0,   1.8470,  34.7320,  34.7330,    303.6,    189.1,   110.72,    32.40,     2.36
      09FA9605, ISS3a,    18,  1,     24,     24,19960513,0349,-34.1763, 108.6013, 5332,   2996.0,   1.6700,  34.7320,  34.7350,    315.1,    195.3,   111.89,    32.01,     2.33
      09FA9605, ISS3a,    18,  1,     21,     21,19960513,0349,-34.1763, 108.6013, 5332,   2996.0,   1.6700,  34.7320,  34.7320,    315.1,    194.2,   111.50,    32.01,     2.33
      09FA9605, ISS3a,    18,  1,      9,      9,19960513,0349,-34.1763, 108.6013, 5332,   3596.0,   1.3590,  34.7270,  34.7270,    339.7,    206.2,   113.74,    31.82,     2.30
      09FA9605, ISS3a,    18,  1,     18,     18,19960513,0349,-34.1763, 108.6013, 5332,   3896.0,   1.2550,  34.7230,  34.7170,    350.0,    204.9,   118.31,    32.11,     2.32
      09FA9605, ISS3a,    18,  1,     15,     15,19960513,0349,-34.1763, 108.6013, 5332,   4194.0,   1.2030,  34.7210,  34.7160,    360.5,    207.1,   120.26,    32.11,     2.31
      09FA9605, ISS3a,    18,  1,      1,      1,19960513,0349,-34.1763, 108.6013, 5332,   4496.0,   1.1360,  34.7190,  34.7160,    372.7,    207.6,   117.63,    32.01,     2.32
      09FA9605, ISS3a,    18,  1,     14,     14,19960513,0349,-34.1763, 108.6013, 5332,   4796.0,   1.0630,  34.7150,  34.7130,    386.0,    218.7,   112.08,    31.52,     2.27
      09FA9605, ISS3a,    18,  1,     20,     20,19960513,0349,-34.1763, 108.6013, 5332,   5096.0,   0.9870,  34.7110,  34.7130,    398.7,    218.4,   112.76,    31.62,     2.27
      09FA9605, ISS3a,    18,  1,     3b,      3,19960513,0349,-34.1763, 108.6013, 5332,   5450.0,   1.0020,  34.7100,  34.7060,    411.1,    221.0,   116.36,    31.52,     2.28
      09FA9605, ISS3a,    19,  1,     23,     23,19960513,1031,-34.2160, 108.0087, 4953,      4.0,  18.7950,  36.0250,  36.0250,    166.4,    241.8,     2.14,     0.19,     0.15
      09FA9605, ISS3a,    19,  1,      8,      8,19960513,1031,-34.2160, 108.0087, 4953,     96.0,  18.7160,  36.0180,  36.0230,    167.6,    241.9,     2.05,     0.10,     0.14
      09FA9605, ISS3a,    19,  1,     22,     22,19960513,1031,-34.2160, 108.0087, 4953,    198.0,  13.6550,  35.3630,  35.3050,    182.3,    251.0,     1.66,     5.26,     0.50
      09FA9605, ISS3a,    19,  1,    11a,     11,19960513,1031,-34.2160, 108.0087, 4953,    394.0,   9.3460,  34.6790,  34.6900,    212.7,    255.7,     4.48,    15.68,     1.11
      09FA9605, ISS3a,    19,  1,     12,     12,19960513,1031,-34.2160, 108.0087, 4953,    592.0,   6.9200,  34.4610,  34.4890,    219.3,    215.0,    14.31,    24.63,     1.72
      09FA9605, ISS3a,    19,  1,      7,      7,19960513,1031,-34.2160, 108.0087, 4953,    792.0,   4.5690,  34.3780,  34.3860,    239.1,    205.4,    32.03,    30.08,     2.16
      09FA9605, ISS3a,    19,  1,      6,      6,19960513,1031,-34.2160, 108.0087, 4953,    992.0,   3.5980,  34.4330,  34.4300,    246.5,    189.0,    50.81,    32.61,     2.40
      09FA9605, ISS3a,    19,  1,      2,      2,19960513,1031,-34.2160, 108.0087, 4953,   1192.0,   3.1960,  34.5210,  34.5200,    249.7,    171.9,    63.75,    33.29,     2.49
      09FA9605, ISS3a,    19,  1,     10,     10,19960513,1031,-34.2160, 108.0087, 4953,   1392.0,   2.9340,  34.5980,  34.5920,    254.7,    166.9,    72.60,    33.57,     2.53
      09FA9605, ISS3a,    19,  1,      4,      4,19960513,1031,-34.2160, 108.0087, 4953,   1594.0,   2.6750,  34.6460,  34.6470,    263.2,    169.8,    79.41,    33.09,     2.47
      09FA9605, ISS3a,    19,  1,     16,     16,19960513,1031,-34.2160, 108.0087, 4953,   1790.0,   2.4930,  34.6890,  34.6950,    270.5,    172.6,    87.77,    32.79,     2.44
      09FA9605, ISS3a,    19,  1,     13,     13,19960513,1031,-34.2160, 108.0087, 4953,   1996.0,   2.2970,  34.7130,  34.7140,    278.0,    176.0,    93.12,    32.60,     2.41
      09FA9605, ISS3a,    19,  1,    11b,     11,19960513,1031,-34.2160, 108.0087, 4953,   2194.0,   2.1370,  34.7240,  34.7280,    285.2,    178.7,    99.64,    32.40,     2.41
      09FA9605, ISS3a,    19,  1,     17,     17,19960513,1031,-34.2160, 108.0087, 4953,   2396.0,   1.9780,  34.7290,  34.7330,    292.8,    181.8,   101.68,    32.30,     2.41
      09FA9605, ISS3a,    19,  1,     3a,      3,19960513,1031,-34.2160, 108.0087, 4953,   2594.0,   1.8650,  34.7310,  34.7350,    301.3,    187.2,   102.45,    32.21,     2.39
      09FA9605, ISS3a,    19,  1,     24,     24,19960513,1031,-34.2160, 108.0087, 4953,   2794.0,   1.7470,  34.7320,  34.7350,    309.3,    190.9,   103.43,    31.91,     2.36
      09FA9605, ISS3a,    19,  1,     21,     21,19960513,1031,-34.2160, 108.0087, 4953,   2996.0,   1.6350,  34.7320,  34.7330,    316.9,    195.0,   104.98,    31.82,     2.35
      09FA9605, ISS3a,    19,  1,      9,      9,19960513,1031,-34.2160, 108.0087, 4953,   3296.0,   1.4790,  34.7310,  34.7280,    328.3,    201.3,   106.54,    31.72,     2.34
      09FA9605, ISS3a,    19,  1,     18,     18,19960513,1031,-34.2160, 108.0087, 4953,   3596.0,   1.3320,  34.7270,  34.7270,    341.3,    210.2,   105.76,    31.33,     2.30
      09FA9605, ISS3a,    19,  1,     15,     15,19960513,1031,-34.2160, 108.0087, 4953,   3898.0,   1.2170,  34.7240,  34.7220,    354.2,    210.1,   110.23,    31.43,     2.33
      09FA9605, ISS3a,    19,  1,      1,      1,19960513,1031,-34.2160, 108.0087, 4953,   4196.0,   1.1400,  34.7200,  34.7190,    364.7,    213.8,   111.60,    31.43,     2.33
      09FA9605, ISS3a,    19,  1,     14,     14,19960513,1031,-34.2160, 108.0087, 4953,   4496.0,   1.0380,  34.7160,  34.7170,    377.0,    219.6,   112.08,    31.43,     2.34
      09FA9605, ISS3a,    19,  1,     20,     20,19960513,1031,-34.2160, 108.0087, 4953,   4796.0,   0.9630,  34.7120,  34.7120,    389.0,    218.5,   111.98,    31.43,     2.33
      09FA9605, ISS3a,    19,  1,     3b,      3,19960513,1031,-34.2160, 108.0087, 4953,   5376.0,   0.9980,  34.7100,  34.7050,    408.6,    222.2,   112.96,    31.52,     2.33