BOTTLE,20220929CCHSIOAMB
EXPOCODE,SECT_ID,STNNBR,CASTNO,SAMPNO,BTLNBR,DATE,TIME,LATITUDE,LONGITUDE,DEPTH,CTDPRS,CTDTMP,CTDSAL,SALNTY,CTDOXY,OXYGEN,SILCAT,NITRAT,PHSPHT
,,,,,,,,,,,DBAR,ITS-90,PSS-78,PSS-78,UMOL/KG,UMOL/KG,UMOL/KG,UMOL/KG,UMOL/KG
      09FA9605, ISS3a,     7,  1,     20,     20,19960511,0214,-34.1838, 113.1810, 3009,   1050.0,   4.3950,  34.3780,  34.3790,    242.8,   -999.0,    36.99,    30.96,     2.21
      09FA9605, ISS3a,     7,  1,      1,      1,19960511,0214,-34.1838, 113.1810, 3009,   1050.0,   4.3950,  34.3780,  34.3790,    242.8,   -999.0,  -999.00,  -999.00,  -999.00
      09FA9605, ISS3a,     7,  1,     21,     21,19960511,0214,-34.1838, 113.1810, 3009,   1050.0,   4.3950,  34.3780,  34.3800,    242.8,   -999.0,    37.28,    31.05,     2.21
      09FA9605, ISS3a,     7,  1,      9,      9,19960511,0214,-34.1838, 113.1810, 3009,   1050.0,   4.3950,  34.3780,  34.3790,    242.8,   -999.0,    37.38,    30.96,     2.29
      09FA9605, ISS3a,     7,  1,     14,     14,19960511,0214,-34.1838, 113.1810, 3009,   1050.0,   4.3950,  34.3780,  34.3790,    242.8,   -999.0,  -999.00,  -999.00,  -999.00
      09FA9605, ISS3a,     7,  1,      3,      3,19960511,0214,-34.1838, 113.1810, 3009,   1052.0,   4.3670,  34.3780,  34.3790,    243.1,   -999.0,  -999.00,  -999.00,  -999.00
      09FA9605, ISS3a,     7,  1,     23,     23,19960511,0214,-34.1838, 113.1810, 3009,   1052.0,   4.3670,  34.3780,  34.3820,    243.1,   -999.0,    38.26,    30.86,     2.21
      09FA9605, ISS3a,     7,  1,      8,      8,19960511,0214,-34.1838, 113.1810, 3009,   1052.0,   4.3670,  34.3780,  34.3850,    243.1,   -999.0,    37.87,    30.96,     2.22
      09FA9605, ISS3a,     7,  1,     22,     22,19960511,0214,-34.1838, 113.1810, 3009,   1052.0,   4.3670,  34.3780,  34.3810,    243.1,   -999.0,    38.45,    31.25,     2.24
      09FA9605, ISS3a,     7,  1,     12,     12,19960511,0214,-34.1838, 113.1810, 3009,   1052.0,   4.3670,  34.3780,  34.3810,    243.1,   -999.0,    38.06,    31.05,     2.24
      09FA9605, ISS3a,     7,  1,     11,     11,19960511,0214,-34.1838, 113.1810, 3009,   1052.0,   4.3670,  34.3780,  34.3800,    243.1,   -999.0,    37.97,    31.05,     2.24
      09FA9605, ISS3a,     7,  1,      7,      7,19960511,0214,-34.1838, 113.1810, 3009,   1052.0,   4.3670,  34.3780,  34.3790,    243.1,   -999.0,    38.06,    31.15,     2.23
      09FA9605, ISS3a,     7,  1,      6,      6,19960511,0214,-34.1838, 113.1810, 3009,   1052.0,   4.3670,  34.3780,  34.3790,    243.1,   -999.0,    37.77,    30.96,     2.22
      09FA9605, ISS3a,     7,  1,      2,      2,19960511,0214,-34.1838, 113.1810, 3009,   1052.0,   4.3670,  34.3780,  34.3830,    243.1,   -999.0,    37.67,    30.96,     2.23
      09FA9605, ISS3a,     7,  1,     10,     10,19960511,0214,-34.1838, 113.1810, 3009,   1052.0,   4.3670,  34.3780,  34.3790,    243.1,   -999.0,    37.97,    31.05,     2.24
      09FA9605, ISS3a,     7,  1,      4,      4,19960511,0214,-34.1838, 113.1810, 3009,   1052.0,   4.3670,  34.3780,  34.3810,    243.1,   -999.0,    37.58,    30.96,     2.21
      09FA9605, ISS3a,     7,  1,     16,     16,19960511,0214,-34.1838, 113.1810, 3009,   1052.0,   4.3670,  34.3780,  34.3790,    243.1,   -999.0,    37.87,    31.15,     2.24
      09FA9605, ISS3a,     7,  1,     13,     13,19960511,0214,-34.1838, 113.1810, 3009,   1052.0,   4.3670,  34.3780,  34.3790,    243.1,   -999.0,    37.77,    31.05,     2.20
      09FA9605, ISS3a,     7,  1,      5,      5,19960511,0214,-34.1838, 113.1810, 3009,   1052.0,   4.3670,  34.3780,  34.3800,    243.1,   -999.0,    37.58,    31.05,     2.22
      09FA9605, ISS3a,     7,  1,     17,     17,19960511,0214,-34.1838, 113.1810, 3009,   1052.0,   4.3670,  34.3780,  34.3800,    243.1,   -999.0,    37.48,    31.05,     2.23
      09FA9605, ISS3a,     7,  1,     19,     19,19960511,0214,-34.1838, 113.1810, 3009,   1052.0,   4.3670,  34.3780,  34.3800,    243.1,   -999.0,    37.28,    30.96,     2.21
      09FA9605, ISS3a,     7,  1,     24,     24,19960511,0214,-34.1838, 113.1810, 3009,   1052.0,   4.3670,  34.3780,  34.3800,    243.1,   -999.0,    37.19,    30.96,     2.22
      09FA9605, ISS3a,     7,  1,     18,     18,19960511,0214,-34.1838, 113.1810, 3009,   1052.0,   4.3670,  34.3780,  34.3790,    243.1,   -999.0,  -999.00,  -999.00,  -999.00
      09FA9605, ISS3a,     7,  1,     15,     15,19960511,0214,-34.1838, 113.1810, 3009,   1052.0,   4.3670,  34.3780,  34.3790,    243.1,   -999.0,  -999.00,  -999.00,  -999.00
      09FA9605, ISS3a,     8,  1,     23,     23,19960511,0527,-34.2072, 112.8220, 2747,      2.0,  21.2090,  35.9080,  35.9010,    164.5,    222.4,     2.73,     0.10,     0.13
      09FA9605, ISS3a,     8,  1,     12,     12,19960511,0527,-34.2072, 112.8220, 2747,     46.0,  21.2260,  35.8990,  35.9010,    159.1,    224.9,     2.73,     0.20,     0.14
      09FA9605, ISS3a,     8,  1,     11,     11,19960511,0527,-34.2072, 112.8220, 2747,     96.0,  19.3600,  35.9560,  35.9570,    160.0,    219.2,     2.73,     0.88,     0.20
      09FA9605, ISS3a,     8,  1,      7,      7,19960511,0527,-34.2072, 112.8220, 2747,    144.0,  17.4290,  35.8690,  35.8730,    164.6,    227.8,     1.85,     0.97,     0.23
      09FA9605, ISS3a,     8,  1,      6,      6,19960511,0527,-34.2072, 112.8220, 2747,    196.0,  14.8480,  35.5780,  35.5850,    172.0,    232.3,     1.75,     3.21,     0.37
      09FA9605, ISS3a,     8,  1,      2,      2,19960511,0527,-34.2072, 112.8220, 2747,    246.0,  13.1930,  35.3080,  35.2580,    181.0,    237.6,     2.05,     6.43,     0.55
      09FA9605, ISS3a,     8,  1,     10,     10,19960511,0527,-34.2072, 112.8220, 2747,    296.0,  11.7320,  35.0440,  35.0590,    193.1,    246.0,     2.14,     8.47,     0.66
      09FA9605, ISS3a,     8,  1,      4,      4,19960511,0527,-34.2072, 112.8220, 2747,    394.0,   9.9120,  34.7520,  34.7580,    208.3,    250.6,     3.51,    13.63,     0.96
      09FA9605, ISS3a,     8,  1,     16,     16,19960511,0527,-34.2072, 112.8220, 2747,    492.0,   9.4050,  34.6830,  34.7040,    219.4,    247.0,     4.29,    15.48,     1.07
      09FA9605, ISS3a,     8,  1,     13,     13,19960511,0527,-34.2072, 112.8220, 2747,    592.0,   9.1470,  34.6480,  34.6470,    226.7,    243.2,     5.16,    17.14,     1.18
      09FA9605, ISS3a,     8,  1,      5,      5,19960511,0527,-34.2072, 112.8220, 2747,    692.0,   8.2980,  34.5500,  34.5710,    225.5,    229.8,     7.79,    20.35,     1.38
      09FA9605, ISS3a,     8,  1,     17,     17,19960511,0527,-34.2072, 112.8220, 2747,    790.0,   7.2250,  34.4740,  34.4690,    224.3,    205.2,    15.58,    25.22,     1.73
      09FA9605, ISS3a,     8,  1,     19,     19,19960511,0527,-34.2072, 112.8220, 2747,    990.0,   4.5660,  34.3990,  34.3980,    240.0,    188.6,    40.30,    31.15,     2.22
      09FA9605, ISS3a,     8,  1,     24,     24,19960511,0527,-34.2072, 112.8220, 2747,   1192.0,   3.5210,  34.4350,  34.4490,    250.8,    176.9,    56.94,    33.00,     2.39
      09FA9605, ISS3a,     8,  1,     21,     21,19960511,0527,-34.2072, 112.8220, 2747,   1390.0,   3.0980,  34.5260,  34.5290,    253.9,    164.8,    70.07,    33.67,     2.45
      09FA9605, ISS3a,     8,  1,      9,      9,19960511,0527,-34.2072, 112.8220, 2747,   1594.0,   2.8160,  34.6080,  34.6120,    260.4,    161.3,    80.97,    33.48,     2.44
      09FA9605, ISS3a,     8,  1,     18,     18,19960511,0527,-34.2072, 112.8220, 2747,   1792.0,   2.6020,  34.6590,  34.6650,    268.5,    165.1,    87.48,    33.09,     2.39
      09FA9605, ISS3a,     8,  1,     15,     15,19960511,0527,-34.2072, 112.8220, 2747,   1994.0,   2.4180,  34.6970,  34.6980,    276.0,    167.6,    94.58,    32.60,     2.37
      09FA9605, ISS3a,     8,  1,      3,      3,19960511,0527,-34.2072, 112.8220, 2747,   1994.0,   2.4180,  34.6970,  34.6990,    276.0,    168.2,    94.58,    32.69,     2.36
      09FA9605, ISS3a,     8,  1,     14,     14,19960511,0527,-34.2072, 112.8220, 2747,   2394.0,   2.0720,  34.7250,  34.7250,    291.1,    173.9,   106.64,    32.40,     2.34
      09FA9605, ISS3a,     8,  1,      1,      1,19960511,0527,-34.2072, 112.8220, 2747,   2394.0,   2.0720,  34.7250,  34.7280,    291.1,    174.6,  -999.00,  -999.00,  -999.00
      09FA9605, ISS3a,     8,  1,     20,     20,19960511,0527,-34.2072, 112.8220, 2747,   2760.0,   1.8050,  34.7310,  34.7290,    306.4,    179.8,   109.27,    32.21,     2.32
      09FA9605, ISS3a,     9,  1,     23,     23,19960511,1028,-34.1775, 112.2147, 2630,      4.0,  21.1140,  35.8430,  35.8430,    170.4,    226.2,     2.83,     0.10,     0.14
      09FA9605, ISS3a,     9,  1,     22,     22,19960511,1028,-34.1775, 112.2147, 2630,     48.0,  21.1260,  35.8410,  35.8430,    161.2,    227.9,     2.73,     0.10,     0.14
      09FA9605, ISS3a,     9,  1,      8,      8,19960511,1028,-34.1775, 112.2147, 2630,     98.0,  18.2340,  35.8750,  35.8850,    164.5,    229.0,     1.95,     0.68,     0.19
      09FA9605, ISS3a,     9,  1,     12,     12,19960511,1028,-34.1775, 112.2147, 2630,    148.0,  15.2960,  35.6310,  35.6220,    172.1,    232.3,     1.66,     2.63,     0.33
      09FA9605, ISS3a,     9,  1,     11,     11,19960511,1028,-34.1775, 112.2147, 2630,    196.0,  12.7540,  35.2080,  35.1700,    186.4,    243.8,     1.95,     7.01,     0.56
      09FA9605, ISS3a,     9,  1,      7,      7,19960511,1028,-34.1775, 112.2147, 2630,    246.0,  11.3380,  34.9800,  35.0270,    197.2,    248.8,     2.14,     9.06,     0.69
      09FA9605, ISS3a,     9,  1,      6,      6,19960511,1028,-34.1775, 112.2147, 2630,    296.0,  10.8590,  34.9150,  34.9400,    204.9,    252.3,     2.73,    10.52,     0.77
      09FA9605, ISS3a,     9,  1,      2,      2,19960511,1028,-34.1775, 112.2147, 2630,    394.0,  10.1000,  34.8010,  34.8040,    216.7,    254.2,     3.70,    13.25,     0.92
      09FA9605, ISS3a,     9,  1,     10,     10,19960511,1028,-34.1775, 112.2147, 2630,    494.0,   9.6230,  34.7240,  34.7150,    222.0,    250.5,     4.58,    15.39,     1.05
      09FA9605, ISS3a,     9,  1,      4,      4,19960511,1028,-34.1775, 112.2147, 2630,    594.0,   9.2610,  34.6710,  34.6670,    228.3,    246.2,     5.36,    16.95,     1.16
      09FA9605, ISS3a,     9,  1,     16,     16,19960511,1028,-34.1775, 112.2147, 2630,    694.0,   8.4090,  34.5620,  34.5640,    228.1,    229.5,     7.99,    20.65,     1.39
      09FA9605, ISS3a,     9,  1,     13,     13,19960511,1028,-34.1775, 112.2147, 2630,    794.0,   7.1310,  34.4710,  34.4840,    224.3,    204.4,    15.38,    25.32,     1.71
      09FA9605, ISS3a,     9,  1,      5,      5,19960511,1028,-34.1775, 112.2147, 2630,    996.0,   4.3820,  34.3750,  34.3790,    241.8,    195.9,    37.48,    31.05,     2.18
      09FA9605, ISS3a,     9,  1,     17,     17,19960511,1028,-34.1775, 112.2147, 2630,   1192.0,   3.5000,  34.4550,  34.4570,    249.1,    173.1,    59.76,    33.39,     2.41
      09FA9605, ISS3a,     9,  1,     19,     19,19960511,1028,-34.1775, 112.2147, 2630,   1392.0,   3.0350,  34.5380,  34.5410,    254.8,    165.4,    72.80,    33.97,     2.46
      09FA9605, ISS3a,     9,  1,     24,     24,19960511,1028,-34.1775, 112.2147, 2630,   1594.0,   2.7720,  34.6140,-999.0000,    261.0,    163.1,    81.94,    33.77,     2.43
      09FA9605, ISS3a,     9,  1,     21,     21,19960511,1028,-34.1775, 112.2147, 2630,   1794.0,   2.5680,  34.6710,  34.6700,    268.9,    164.3,    89.91,    33.18,     2.40
      09FA9605, ISS3a,     9,  1,      9,      9,19960511,1028,-34.1775, 112.2147, 2630,   1994.0,   2.4060,  34.7020,  34.7030,    275.6,    166.1,    99.45,    33.08,     2.39
      09FA9605, ISS3a,     9,  1,     18,     18,19960511,1028,-34.1775, 112.2147, 2630,   2194.0,   2.2180,  34.7200,  34.7210,    283.8,    171.6,   102.46,    32.60,     2.38
      09FA9605, ISS3a,     9,  1,     15,     15,19960511,1028,-34.1775, 112.2147, 2630,   2398.0,   2.0400,  34.7270,  34.7270,    291.7,    174.2,   108.00,    32.69,     2.34
      09FA9605, ISS3a,     9,  1,      1,      1,19960511,1028,-34.1775, 112.2147, 2630,   2592.0,   1.9320,  34.7300,  34.7290,    299.3,    178.1,   109.27,    32.60,     2.34
      09FA9605, ISS3a,     9,  1,     20,     20,19960511,1028,-34.1775, 112.2147, 2630,   2628.0,   1.9110,  34.7300,  34.7300,    301.2,    179.8,   109.75,    32.40,     2.34
      09FA9605, ISS3a,    10,  1,     23,     23,19960511,1519,-34.1893, 111.6102, 2298,      4.0,  17.2460,  35.7520,  35.7580,    185.9,    237.5,     1.56,     0.29,     0.18
      09FA9605, ISS3a,    10,  1,     22,     22,19960511,1519,-34.1893, 111.6102, 2298,     46.0,  17.1780,  35.7690,  35.7570,    180.7,    239.2,     1.56,     0.19,     0.17
      09FA9605, ISS3a,    10,  1,     12,     12,19960511,1519,-34.1893, 111.6102, 2298,    146.0,  12.7020,  35.1920,-999.0000,    192.4,    242.5,  -999.00,  -999.00,  -999.00
      09FA9605, ISS3a,    10,  1,     11,     11,19960511,1519,-34.1893, 111.6102, 2298,    194.0,  11.7320,  35.0430,  35.0650,    199.5,    248.0,     2.14,     8.47,     0.62
      09FA9605, ISS3a,    10,  1,      7,      7,19960511,1519,-34.1893, 111.6102, 2298,    246.0,  11.0030,  34.9360,  34.9530,    208.5,    251.4,     2.53,    10.32,     0.74
      09FA9605, ISS3a,    10,  1,      6,      6,19960511,1519,-34.1893, 111.6102, 2298,    294.0,  10.4310,  34.8470,  34.8600,    212.6,    251.7,     3.02,    11.98,     0.84
      09FA9605, ISS3a,    10,  1,      2,      2,19960511,1519,-34.1893, 111.6102, 2298,    394.0,   9.7510,  34.7410,  34.7430,    221.6,    250.0,     4.09,    14.71,     0.99
      09FA9605, ISS3a,    10,  1,     10,     10,19960511,1519,-34.1893, 111.6102, 2298,    494.0,   9.3820,  34.6840,  34.6930,    227.0,    249.0,     4.48,    15.97,     1.07
      09FA9605, ISS3a,    10,  1,      4,      4,19960511,1519,-34.1893, 111.6102, 2298,    592.0,   9.0740,  34.6450,  34.6390,    230.4,    243.7,     5.65,    17.82,     1.20
      09FA9605, ISS3a,    10,  1,     16,     16,19960511,1519,-34.1893, 111.6102, 2298,    694.0,   8.0880,  34.5310,  34.5340,    228.0,    222.2,     9.54,    22.01,     1.48
      09FA9605, ISS3a,    10,  1,     13,     13,19960511,1519,-34.1893, 111.6102, 2298,    794.0,   6.8200,  34.4520,  34.4690,    226.0,    202.4,    16.26,    25.80,     1.75
      09FA9605, ISS3a,    10,  1,      5,      5,19960511,1519,-34.1893, 111.6102, 2298,    992.0,   4.4430,  34.3740,  34.3780,    243.7,    196.8,    36.02,    30.96,     2.20
      09FA9605, ISS3a,    10,  1,     17,     17,19960511,1519,-34.1893, 111.6102, 2298,   1190.0,   3.6540,  34.4690,  34.4750,    246.4,    165.6,    62.39,    33.58,     2.45
      09FA9605, ISS3a,    10,  1,     19,     19,19960511,1519,-34.1893, 111.6102, 2298,   1394.0,   3.1330,  34.5390,  34.5430,    251.9,    161.3,    73.09,    34.06,     2.46
      09FA9605, ISS3a,    10,  1,     24,     24,19960511,1519,-34.1893, 111.6102, 2298,   1594.0,   2.7890,  34.6070,  34.6090,    260.2,    162.0,    80.77,    33.57,     2.44
      09FA9605, ISS3a,    10,  1,     21,     21,19960511,1519,-34.1893, 111.6102, 2298,   1794.0,   2.6050,  34.6650,  34.6650,    267.7,    162.5,    89.62,    33.38,     2.43
      09FA9605, ISS3a,    10,  1,      9,      9,19960511,1519,-34.1893, 111.6102, 2298,   1994.0,   2.4260,  34.6990,  34.6990,    274.9,    165.2,    97.50,    32.99,     2.37
      09FA9605, ISS3a,    10,  1,     18,     18,19960511,1519,-34.1893, 111.6102, 2298,   2196.0,   2.2270,  34.7180,  34.7180,    283.1,    170.0,   103.24,    32.79,     2.35
      09FA9605, ISS3a,    10,  1,     15,     15,19960511,1519,-34.1893, 111.6102, 2298,   2196.0,   2.2270,  34.7180,  34.7170,    283.1,    169.3,   101.68,    32.69,     2.35
      09FA9605, ISS3a,    10,  1,      3,      3,19960511,1519,-34.1893, 111.6102, 2298,   2196.0,   2.2270,  34.7180,  34.7190,    283.1,    168.5,   103.72,    32.79,     2.38
      09FA9605, ISS3a,    10,  1,     14,     14,19960511,1519,-34.1893, 111.6102, 2298,   2196.0,   2.2270,  34.7180,  34.7190,    283.1,    168.9,   103.33,    32.79,     2.37
      09FA9605, ISS3a,    10,  1,      1,      1,19960511,1519,-34.1893, 111.6102, 2298,   2196.0,   2.2270,  34.7180,  34.7190,    283.1,    169.7,   103.14,    32.79,     2.35
      09FA9605, ISS3a,    10,  1,     20,     20,19960511,1519,-34.1893, 111.6102, 2298,   2296.0,   2.1450,  34.7220,  34.7220,    287.5,    171.2,   105.47,    32.69,     2.37