BOTTLE,20220929CCHSIOAMB
EXPOCODE,SECT_ID,STNNBR,CASTNO,SAMPNO,BTLNBR,DATE,TIME,LATITUDE,LONGITUDE,DEPTH,CTDPRS,CTDTMP,CTDSAL,SALNTY,CTDOXY,OXYGEN,SILCAT,NITRAT,PHSPHT
,,,,,,,,,,,DBAR,ITS-90,PSS-78,PSS-78,UMOL/KG,UMOL/KG,UMOL/KG,UMOL/KG,UMOL/KG
      09FA9605, ISS3a,    60,  1,     23,     23,19960522,0033,-25.4063, 101.4543, 4472,      2.0,  22.1950,  35.8090,  35.8160,    148.9,    219.3,     2.73,     0.20,     0.10
      09FA9605, ISS3a,    60,  1,     12a,     12,19960522,0033,-25.4063, 101.4543, 4472,     98.0,  20.6430,  35.8620,  35.8660,    150.7,    224.9,     2.73,     0.10,     0.13
      09FA9605, ISS3a,    60,  1,     11,     11,19960522,0033,-25.4063, 101.4543, 4472,    196.0,  17.8390,  35.9100,  35.9040,    151.6,    211.9,     2.53,     2.14,     0.27
      09FA9605, ISS3a,    60,  1,      8,      8,19960522,0033,-25.4063, 101.4543, 4472,    394.0,  12.4940,  35.2010,  35.1660,    185.2,    235.0,     2.63,     8.77,     0.65
      09FA9605, ISS3a,    60,  1,      5,      5,19960522,0033,-25.4063, 101.4543, 4472,    590.0,   9.5780,  34.7200,  34.7240,    212.6,    236.9,     4.77,    16.26,     1.10
      09FA9605, ISS3a,    60,  1,     10,     10,19960522,0033,-25.4063, 101.4543, 4472,    792.0,   7.4850,  34.5110,  34.5080,    217.8,    201.4,    15.87,    25.22,     1.67
      09FA9605, ISS3a,    60,  1,      7,      7,19960522,0033,-25.4063, 101.4543, 4472,    994.0,   4.8530,  34.4690,  34.4740,    225.0,    158.9,    53.83,    33.10,     2.33
      09FA9605, ISS3a,    60,  1,      6,      6,19960522,0033,-25.4063, 101.4543, 4472,   1194.0,   4.0240,  34.5460,  34.5540,    227.4,    137.8,    76.50,    35.04,     2.50
      09FA9605, ISS3a,    60,  1,      2,      2,19960522,0033,-25.4063, 101.4543, 4472,   1390.0,   3.5150,  34.5990,  34.6030,    237.8,    138.0,    85.64,    35.33,     2.52
      09FA9605, ISS3a,    60,  1,      4,      4,19960522,0033,-25.4063, 101.4543, 4472,   1592.0,   3.0220,  34.6470,  34.6530,    250.4,    146.6,    93.52,    34.74,     2.46
      09FA9605, ISS3a,    60,  1,     16,     16,19960522,0033,-25.4063, 101.4543, 4472,   1794.0,   2.6910,  34.6870,  34.6910,    260.5,    151.9,   101.39,    34.45,     2.43
      09FA9605, ISS3a,    60,  1,     13,     13,19960522,0033,-25.4063, 101.4543, 4472,   1994.0,   2.4090,  34.7100,  34.7100,    270.1,    158.5,   107.62,    34.06,     2.40
      09FA9605, ISS3a,    60,  1,     12b,     12,19960522,0033,-25.4063, 101.4543, 4472,   2192.0,   2.1950,  34.7210,  34.7250,    279.5,    164.4,   109.76,    33.47,     2.36
      09FA9605, ISS3a,    60,  1,     17,     17,19960522,0033,-25.4063, 101.4543, 4472,   2394.0,   2.0150,  34.7250,  34.7270,    288.9,    170.8,   111.21,    33.37,     2.34
      09FA9605, ISS3a,    60,  1,     22,     22,19960522,0033,-25.4063, 101.4543, 4472,   2592.0,   1.8720,  34.7270,  34.7280,    297.1,    174.7,   113.74,    33.28,     2.33
      09FA9605, ISS3a,    60,  1,     24,     24,19960522,0033,-25.4063, 101.4543, 4472,   2794.0,   1.7380,  34.7280,  34.7280,    305.9,    179.4,   114.52,    33.08,     2.32
      09FA9605, ISS3a,    60,  1,     21,     21,19960522,0033,-25.4063, 101.4543, 4472,   2996.0,   1.6160,  34.7280,  34.7270,    314.4,    182.0,   117.53,    32.98,     2.32
      09FA9605, ISS3a,    60,  1,      9,      9,19960522,0033,-25.4063, 101.4543, 4472,   3194.0,   1.4910,  34.7270,  34.7250,    322.6,    186.3,   117.44,    32.69,     2.30
      09FA9605, ISS3a,    60,  1,     18,     18,19960522,0033,-25.4063, 101.4543, 4472,   3394.0,   1.3730,  34.7250,  34.7270,    331.0,    189.9,   120.84,    32.79,     2.27
      09FA9605, ISS3a,    60,  1,     15,     15,19960522,0033,-25.4063, 101.4543, 4472,   3594.0,   1.2700,  34.7220,  34.7220,    339.5,    194.0,   121.72,    32.69,     2.27
      09FA9605, ISS3a,    60,  1,     14,     14,19960522,0033,-25.4063, 101.4543, 4472,   3996.0,   1.1270,  34.7180,  34.7210,    355.8,    201.1,   115.29,    32.11,     2.22
      09FA9605, ISS3a,    60,  1,     20,     20,19960522,0033,-25.4063, 101.4543, 4472,   4294.0,   1.0020,  34.7130,  34.7170,    369.0,    201.1,   118.70,    32.40,     2.24
      09FA9605, ISS3a,    60,  1,      3,      3,19960522,0033,-25.4063, 101.4543, 4472,   4542.0,   0.9810,  34.7110,  34.7100,    378.0,    207.7,   118.11,    32.30,     2.26
      09FA9605, ISS3a,    61,  1,     23,     23,19960522,0712,-25.2213, 102.0108, 4863,      4.0,  21.9290,  35.8960,  35.8920,    147.6,    221.1,     2.63,     0.20,     0.11
      09FA9605, ISS3a,    61,  1,     12a,     12,19960522,0712,-25.2213, 102.0108, 4863,    100.0,  19.9050,  35.9100,  35.9180,    150.3,    213.9,     2.73,     0.39,     0.18
      09FA9605, ISS3a,    61,  1,     11,     11,19960522,0712,-25.2213, 102.0108, 4863,    200.0,  17.3170,  35.8630,  35.8650,    152.9,    220.1,     2.14,     1.46,     0.26
      09FA9605, ISS3a,    61,  1,      8,      8,19960522,0712,-25.2213, 102.0108, 4863,    396.0,  11.9510,  35.1090,  35.1080,    189.8,    234.1,     2.82,     9.55,     0.70
      09FA9605, ISS3a,    61,  1,      5,      5,19960522,0712,-25.2213, 102.0108, 4863,    596.0,   9.4130,  34.7040,  34.7110,    214.7,    233.3,     5.16,    16.85,     1.14
      09FA9605, ISS3a,    61,  1,     10,     10,19960522,0712,-25.2213, 102.0108, 4863,    794.0,   6.8360,  34.4790,  34.4830,    218.4,    192.8,    20.84,    26.78,     1.80
      09FA9605, ISS3a,    61,  1,      7,      7,19960522,0712,-25.2213, 102.0108, 4863,    994.0,   4.7980,  34.4850,  34.5100,    221.0,    144.8,    61.33,    33.78,     2.40
      09FA9605, ISS3a,    61,  1,      6,      6,19960522,0712,-25.2213, 102.0108, 4863,   1194.0,   4.1400,  34.5730,  34.5750,    223.6,    129.8,    79.52,    35.04,     2.54
      09FA9605, ISS3a,    61,  1,      2,      2,19960522,0712,-25.2213, 102.0108, 4863,   1394.0,   3.4780,  34.6090,  34.6100,    237.3,    135.2,    87.00,    35.04,     2.54
      09FA9605, ISS3a,    61,  1,      4,      4,19960522,0712,-25.2213, 102.0108, 4863,   1592.0,   2.9750,  34.6440,  34.6420,    251.1,    146.6,    90.11,    34.55,     2.48
      09FA9605, ISS3a,    61,  1,     16,     16,19960522,0712,-25.2213, 102.0108, 4863,   1794.0,   2.6670,  34.6910,  34.6950,    260.3,    150.3,   100.23,    34.06,     2.44
      09FA9605, ISS3a,    61,  1,     13,     13,19960522,0712,-25.2213, 102.0108, 4863,   1992.0,   2.4110,  34.7130,  34.7160,    268.9,    155.2,   108.30,    33.96,     2.44
      09FA9605, ISS3a,    61,  1,     12b,     12,19960522,0712,-25.2213, 102.0108, 4863,   2194.0,   2.2040,  34.7230,  34.7250,    276.8,    159.5,   111.90,    33.86,     2.43
      09FA9605, ISS3a,    61,  1,     17,     17,19960522,0712,-25.2213, 102.0108, 4863,   2396.0,   2.0590,  34.7270,  34.7310,    284.9,    162.0,   115.11,    33.67,     2.40
      09FA9605, ISS3a,    61,  1,     22,     22,19960522,0712,-25.2213, 102.0108, 4863,   2594.0,   1.9170,  34.7280,  34.7300,    293.4,    168.1,   117.15,    33.18,     2.38
      09FA9605, ISS3a,    61,  1,     24,     24,19960522,0712,-25.2213, 102.0108, 4863,   2796.0,   1.7920,  34.7290,  34.7300,    302.7,    174.9,   113.45,    32.98,     2.34
      09FA9605, ISS3a,    61,  1,     21,     21,19960522,0712,-25.2213, 102.0108, 4863,   2996.0,   1.6780,  34.7300,  34.7300,    311.6,    181.6,   114.81,    32.69,     2.31
      09FA9605, ISS3a,    61,  1,      9,      9,19960522,0712,-25.2213, 102.0108, 4863,   3196.0,   1.5610,  34.7290,  34.7290,    318.7,    184.1,   117.53,    32.69,     2.31
      09FA9605, ISS3a,    61,  1,     18,     18,19960522,0712,-25.2213, 102.0108, 4863,   3398.0,   1.4390,  34.7270,  34.7260,    327.4,    187.8,   118.41,    32.59,     2.29
      09FA9605, ISS3a,    61,  1,     15,     15,19960522,0712,-25.2213, 102.0108, 4863,   3600.0,   1.3520,  34.7260,  34.7260,    335.4,    190.8,   118.80,    32.40,     2.29
      09FA9605, ISS3a,    61,  1,     14,     14,19960522,0712,-25.2213, 102.0108, 4863,   4194.0,   1.1330,  34.7190,  34.7200,    360.1,    202.9,   113.25,    31.91,     2.25
      09FA9605, ISS3a,    61,  1,     20,     20,19960522,0712,-25.2213, 102.0108, 4863,   4496.0,   1.0280,  34.7150,  34.7180,    373.1,    202.7,   117.63,    32.11,     2.26
      09FA9605, ISS3a,    61,  1,      3,      3,19960522,0712,-25.2213, 102.0108, 4863,   4938.0,   1.0200,  34.7130,  34.7130,    388.6,    208.7,   117.63,    31.91,     2.25
      09FA9605, ISS3a,    62,  1,     23,     23,19960522,1412,-25.0807, 102.5413, 5257,      4.0,  21.5450,  35.9620,  35.9830,    148.8,    224.0,     3.22,     0.10,     0.13
      09FA9605, ISS3a,    62,  1,     11,     11,19960522,1412,-25.0807, 102.5413, 5257,    196.0,  16.5820,  35.7950,  35.8300,    158.4,    218.9,     2.73,     1.85,     0.32
      09FA9605, ISS3a,    62,  1,      8,      8,19960522,1412,-25.0807, 102.5413, 5257,    392.0,  11.6970,  35.0600,  35.0150,    192.8,    240.0,     3.31,    10.13,     0.79
      09FA9605, ISS3a,    62,  1,      5,      5,19960522,1412,-25.0807, 102.5413, 5257,    594.0,   9.4000,  34.6900,  34.6950,    215.1,    237.1,     5.36,    16.56,     1.17
      09FA9605, ISS3a,    62,  1,     10,     10,19960522,1412,-25.0807, 102.5413, 5257,    792.0,   6.8050,  34.4700,  34.4720,    217.5,    194.0,    21.32,    26.78,     1.86
      09FA9605, ISS3a,    62,  1,      7,      7,19960522,1412,-25.0807, 102.5413, 5257,    990.0,   4.6610,  34.4810,  34.4870,    222.3,    150.9,    56.75,    33.19,     2.42
      09FA9605, ISS3a,    62,  1,      6,      6,19960522,1412,-25.0807, 102.5413, 5257,   1192.0,   3.8990,  34.5470,  34.5520,    227.9,    138.5,    73.58,    34.75,     2.55
      09FA9605, ISS3a,    62,  1,      2,      2,19960522,1412,-25.0807, 102.5413, 5257,   1392.0,   3.4290,  34.6040,  34.6050,    239.3,    140.0,    83.31,    34.84,     2.56
      09FA9605, ISS3a,    62,  1,      4,      4,19960522,1412,-25.0807, 102.5413, 5257,   1592.0,   2.9730,  34.6550,  34.6520,    251.0,    145.5,    91.08,    34.35,     2.53
      09FA9605, ISS3a,    62,  1,     16,     16,19960522,1412,-25.0807, 102.5413, 5257,   1794.0,   2.6330,  34.6880,  34.6910,    262.3,    151.1,    98.77,    34.06,     2.49
      09FA9605, ISS3a,    62,  1,     13,     13,19960522,1412,-25.0807, 102.5413, 5257,   1994.0,   2.3680,  34.7070,  34.7100,    271.3,    157.0,   102.36,    33.76,     2.47
      09FA9605, ISS3a,    62,  1,     12,     12,19960522,1412,-25.0807, 102.5413, 5257,   2192.0,   2.1930,  34.7160,  34.7210,    279.0,    159.8,   108.88,    33.57,     2.45
      09FA9605, ISS3a,    62,  1,     17,     17,19960522,1412,-25.0807, 102.5413, 5257,   2394.0,   2.0400,  34.7190,  34.7220,    287.7,    164.1,   113.16,    33.47,     2.43
      09FA9605, ISS3a,    62,  1,     22,     22,19960522,1412,-25.0807, 102.5413, 5257,   2694.0,   1.8460,  34.7210,  34.7220,    300.5,    171.1,   113.55,    33.18,     2.40
      09FA9605, ISS3a,    62,  1,     24,     24,19960522,1412,-25.0807, 102.5413, 5257,   2996.0,   1.6850,  34.7210,  34.7230,    312.4,    176.4,   115.01,    32.98,     2.38
      09FA9605, ISS3a,    62,  1,     21,     21,19960522,1412,-25.0807, 102.5413, 5257,   3294.0,   1.5550,  34.7200,  34.7210,    323.0,    180.2,   118.99,    32.79,     2.36
      09FA9605, ISS3a,    62,  1,      9,      9,19960522,1412,-25.0807, 102.5413, 5257,   3598.0,   1.4270,  34.7180,  34.7190,    334.9,    185.6,   118.90,    32.69,     2.35
      09FA9605, ISS3a,    62,  1,     18,     18,19960522,1412,-25.0807, 102.5413, 5257,   3894.0,   1.3030,  34.7170,  34.7180,    347.8,    193.0,   117.92,    32.50,     2.32
      09FA9605, ISS3a,    62,  1,      1,      1,19960522,1412,-25.0807, 102.5413, 5257,   4486.0,   1.1180,  34.7100,  34.7140,    372.5,    198.9,   112.77,    32.30,     2.30
      09FA9605, ISS3a,    62,  1,     14,     14,19960522,1412,-25.0807, 102.5413, 5257,   4796.0,   1.0500,  34.7070,  34.7070,    385.2,    206.3,   117.34,    32.01,     2.28
      09FA9605, ISS3a,    62,  1,     20,     20,19960522,1412,-25.0807, 102.5413, 5257,   5096.0,   1.0470,  34.7060,  34.7070,    396.1,    206.7,   117.24,    32.01,     2.28
      09FA9605, ISS3a,    62,  1,      3,      3,19960522,1412,-25.0807, 102.5413, 5257,   5366.0,   1.0740,  34.7060,  34.7050,    405.2,    208.1,   117.14,    32.11,     2.28
      09FA9605, ISS3a,    63,  1,     23,     23,19960522,2106,-24.9818, 103.0978, 5360,      4.0,  22.3630,  35.7970,  35.8020,    148.4,    221.5,     3.03,     0.20,     0.12
      09FA9605, ISS3a,    63,  1,     12a,     12,19960522,2106,-24.9818, 103.0978, 5360,     98.0,  20.9620,  36.0660,  36.0060,    151.4,    226.2,     2.73,     0.10,     0.14
      09FA9605, ISS3a,    63,  1,     11,     11,19960522,2106,-24.9818, 103.0978, 5360,    196.0,  16.3980,  35.7940,  35.8400,    158.9,    221.5,     2.24,     1.56,     0.29
      09FA9605, ISS3a,    63,  1,      8,      8,19960522,2106,-24.9818, 103.0978, 5360,    396.0,  11.4490,  35.0270,  34.9980,    192.9,    240.3,     3.02,    10.42,     0.80
      09FA9605, ISS3a,    63,  1,      5,      5,19960522,2106,-24.9818, 103.0978, 5360,    594.0,   9.2410,  34.6750,  34.6810,    214.3,    235.0,     5.45,    17.14,     1.19
      09FA9605, ISS3a,    63,  1,     10,     10,19960522,2106,-24.9818, 103.0978, 5360,    792.0,   6.4150,  34.4750,  34.4910,    214.6,    182.8,    27.07,    27.94,     1.95
      09FA9605, ISS3a,    63,  1,      7,      7,19960522,2106,-24.9818, 103.0978, 5360,    992.0,   4.6150,  34.4900,  34.4920,    221.0,    151.9,    56.46,    33.19,     2.40
      09FA9605, ISS3a,    63,  1,      6,      6,19960522,2106,-24.9818, 103.0978, 5360,   1194.0,   3.9240,  34.5690,  34.5730,    227.0,    132.5,    77.18,    34.94,     2.56
      09FA9605, ISS3a,    63,  1,      2,      2,19960522,2106,-24.9818, 103.0978, 5360,   1392.0,   3.3610,  34.6100,  34.6240,    240.4,    135.3,    86.42,    34.74,     2.56
      09FA9605, ISS3a,    63,  1,      4,      4,19960522,2106,-24.9818, 103.0978, 5360,   1592.0,   2.9090,  34.6550,  34.6540,    252.6,    149.0,    87.19,    34.25,     2.49
      09FA9605, ISS3a,    63,  1,     16,     16,19960522,2106,-24.9818, 103.0978, 5360,   1792.0,   2.6160,  34.6950,  34.6980,    262.0,    153.0,    97.70,    33.96,     2.46
      09FA9605, ISS3a,    63,  1,     13,     13,19960522,2106,-24.9818, 103.0978, 5360,   1994.0,   2.3720,  34.7160,  34.7150,    270.8,    156.9,   107.23,    33.86,     2.45
      09FA9605, ISS3a,    63,  1,     12b,     12,19960522,2106,-24.9818, 103.0978, 5360,   2192.0,   2.1860,  34.7250,  34.7320,    279.1,    160.0,   111.70,    33.47,     2.43
      09FA9605, ISS3a,    63,  1,     17,     17,19960522,2106,-24.9818, 103.0978, 5360,   2494.0,   1.9530,  34.7310,  34.7340,    291.6,    166.6,   117.44,    33.47,     2.40
      09FA9605, ISS3a,    63,  1,     22,     22,19960522,2106,-24.9818, 103.0978, 5360,   2794.0,   1.7720,  34.7310,  34.7340,    303.4,    173.6,   117.92,    33.08,     2.37
      09FA9605, ISS3a,    63,  1,     24,     24,19960522,2106,-24.9818, 103.0978, 5360,   3098.0,   1.5990,  34.7310,  34.7320,    315.6,    179.1,   120.06,    32.89,     2.35
      09FA9605, ISS3a,    63,  1,     21,     21,19960522,2106,-24.9818, 103.0978, 5360,   3396.0,   1.4740,  34.7280,  34.7280,    326.6,    183.6,   122.89,    32.89,     2.34
      09FA9605, ISS3a,    63,  1,      9,      9,19960522,2106,-24.9818, 103.0978, 5360,   3696.0,   1.3590,  34.7260,  34.7230,    338.8,    188.2,   124.25,    32.89,     2.33
      09FA9605, ISS3a,    63,  1,     18,     18,19960522,2106,-24.9818, 103.0978, 5360,   3996.0,   1.2680,  34.7250,  34.7260,    351.3,    193.8,   120.94,    32.50,     2.29
      09FA9605, ISS3a,    63,  1,     15,     15,19960522,2106,-24.9818, 103.0978, 5360,   4296.0,   1.1650,  34.7220,  34.7270,    363.9,    198.3,   117.73,    32.11,     2.24
      09FA9605, ISS3a,    63,  1,      1,      1,19960522,2106,-24.9818, 103.0978, 5360,   4594.0,   1.0970,  34.7200,  34.7230,    375.8,    199.8,   119.57,    32.30,     2.27
      09FA9605, ISS3a,    63,  1,     14,     14,19960522,2106,-24.9818, 103.0978, 5360,   4896.0,   1.0440,  34.7170,  34.7180,    388.2,    207.5,   118.89,    32.20,     2.25
      09FA9605, ISS3a,    63,  1,     20,     20,19960522,2106,-24.9818, 103.0978, 5360,   5194.0,   1.0570,  34.7150,  34.7150,    398.7,    207.0,   119.38,    32.20,     2.27
      09FA9605, ISS3a,    63,  1,      3,      3,19960522,2106,-24.9818, 103.0978, 5360,   5472.0,   1.0850,  34.7150,  34.7130,    407.9,    208.0,   119.67,    32.11,     2.34