BOTTLE,20220929CCHSIOAMB
EXPOCODE,SECT_ID,STNNBR,CASTNO,SAMPNO,BTLNBR,DATE,TIME,LATITUDE,LONGITUDE,DEPTH,CTDPRS,CTDTMP,CTDSAL,SALNTY,CTDOXY,OXYGEN,SILCAT,NITRAT,PHSPHT
,,,,,,,,,,,DBAR,ITS-90,PSS-78,PSS-78,UMOL/KG,UMOL/KG,UMOL/KG,UMOL/KG,UMOL/KG
      09FA9605, ISS3a,    80,  1,     23,     23,19960527,0538,-22.2118, 111.4668, 5028,      6.0,  26.2010,  35.1250,  35.1430,    138.7,    207.0,     3.42,     0.00,     0.14
      09FA9605, ISS3a,    80,  1,     12,     12,19960527,0538,-22.2118, 111.4668, 5028,     96.0,  21.7670,  35.0300,  35.0650,    117.8,    156.5,     9.08,     6.74,     0.61
      09FA9605, ISS3a,    80,  1,     11a,     11,19960527,0538,-22.2118, 111.4668, 5028,    196.0,  19.3230,  35.8280,  35.8370,    138.0,    191.7,     4.39,     3.51,     0.37
      09FA9605, ISS3a,    80,  1,      8,      8,19960527,0538,-22.2118, 111.4668, 5028,    394.0,  11.9890,  35.1040,  35.1620,    181.4,    231.5,     2.63,     8.28,     0.70
      09FA9605, ISS3a,    80,  1,      5a,      5,19960527,0538,-22.2118, 111.4668, 5028,    594.0,   8.7940,  34.6300,  34.6310,    208.1,    219.3,     8.57,    19.67,     1.37
      09FA9605, ISS3a,    80,  1,     10,     10,19960527,0538,-22.2118, 111.4668, 5028,    792.0,   5.9210,  34.5170,  34.5210,    203.2,    148.6,    47.41,    31.64,     2.25
      09FA9605, ISS3a,    80,  1,      7,      7,19960527,0538,-22.2118, 111.4668, 5028,    994.0,   5.0140,  34.6040,  34.6040,    200.6,    109.6,    79.43,    35.33,     2.60
      09FA9605, ISS3a,    80,  1,      6,      6,19960527,0538,-22.2118, 111.4668, 5028,   1192.0,   4.3390,  34.6180,  34.6310,    214.5,    108.6,    91.98,    35.82,     2.65
      09FA9605, ISS3a,    80,  1,      2,      2,19960527,0538,-22.2118, 111.4668, 5028,   1394.0,   3.7250,  34.6470,  34.6510,    227.1,    118.2,    98.97,    35.81,     2.63
      09FA9605, ISS3a,    80,  1,      4,      4,19960527,0538,-22.2118, 111.4668, 5028,   1592.0,   3.0920,  34.6770,  34.6850,    243.6,    133.8,   104.90,    35.23,     2.58
      09FA9605, ISS3a,    80,  1,     16,     16,19960527,0538,-22.2118, 111.4668, 5028,   1796.0,   2.6120,  34.7070,  34.7130,    257.1,    143.8,   112.88,    34.84,     2.51
      09FA9605, ISS3a,    80,  1,     13,     13,19960527,0538,-22.2118, 111.4668, 5028,   1998.0,   2.3470,  34.7190,  34.7230,    266.7,    148.2,   117.54,    34.64,     2.49
      09FA9605, ISS3a,    80,  1,     11b,     11,19960527,0538,-22.2118, 111.4668, 5028,   2196.0,   2.1600,  34.7240,  34.7280,    275.7,    152.2,   121.33,    34.64,     2.52
      09FA9605, ISS3a,    80,  1,     17,     17,19960527,0538,-22.2118, 111.4668, 5028,   2398.0,   2.0100,  34.7260,  34.7290,    284.1,    156.4,   124.06,    34.54,     2.46
      09FA9605, ISS3a,    80,  1,     22,     22,19960527,0538,-22.2118, 111.4668, 5028,   2596.0,   1.9170,  34.7270,  34.7300,    291.3,    160.5,   122.99,    34.15,     2.44
      09FA9605, ISS3a,    80,  1,     24,     24,19960527,0538,-22.2118, 111.4668, 5028,   2792.0,   1.7910,  34.7260,  34.7290,    299.6,    165.4,   122.69,    33.76,     2.41
      09FA9605, ISS3a,    80,  1,     21,     21,19960527,0538,-22.2118, 111.4668, 5028,   2994.0,   1.6770,  34.7250,  34.7270,    308.5,    171.2,   122.21,    33.76,     2.39
      09FA9605, ISS3a,    80,  1,      9,      9,19960527,0538,-22.2118, 111.4668, 5028,   3192.0,   1.5370,  34.7230,  34.7250,    318.0,    177.9,   122.98,    33.47,     2.35
      09FA9605, ISS3a,    80,  1,     18,     18,19960527,0538,-22.2118, 111.4668, 5028,   3492.0,   1.3640,  34.7200,  34.7190,    331.2,    184.5,   122.98,    33.18,     2.35
      09FA9605, ISS3a,    80,  1,      5b,      5,19960527,0538,-22.2118, 111.4668, 5028,   3796.0,   1.2530,  34.7180,  34.7230,    343.3,    186.9,   124.54,    32.79,     2.32
      09FA9605, ISS3a,    80,  1,      1,      1,19960527,0538,-22.2118, 111.4668, 5028,   4090.0,   1.2060,  34.7160,  34.7170,    353.3,    192.1,   126.78,    32.98,     2.30
      09FA9605, ISS3a,    80,  1,     14,     14,19960527,0538,-22.2118, 111.4668, 5028,   4396.0,   1.1930,  34.7160,  34.7170,    363.6,    192.5,   126.78,    32.79,     2.32
      09FA9605, ISS3a,    80,  1,     20,     20,19960527,0538,-22.2118, 111.4668, 5028,   4696.0,   1.2030,  34.7160,  34.7160,    373.1,    193.7,   124.93,    32.69,     2.30
      09FA9605, ISS3a,    80,  1,      3,      3,19960527,0538,-22.2118, 111.4668, 5028,   5126.0,   1.2320,  34.7160,  34.7150,    387.0,    194.7,   122.40,    32.59,     2.26
      09FA9605, ISS3a,    81,  1,     23,     23,19960527,1144,-22.1015, 111.9787, 5000,      2.0,  26.3720,  35.0250,  35.0280,    136.6,    207.7,     3.62,     0.20,     0.16
      09FA9605, ISS3a,    81,  1,     12,     12,19960527,1144,-22.1015, 111.9787, 5000,    100.0,  22.5750,  35.0660,  34.9670,    116.5,    154.1,     8.79,     6.44,     0.57
      09FA9605, ISS3a,    81,  1,     11a,     11,19960527,1144,-22.1015, 111.9787, 5000,    198.0,  19.3050,  35.7060,  35.6920,    131.4,    179.5,     6.24,     5.27,     0.45
      09FA9605, ISS3a,    81,  1,      8,      8,19960527,1144,-22.1015, 111.9787, 5000,    394.0,  12.5440,  35.1900,  35.1450,    177.0,    224.4,     3.99,     9.45,     0.71
      09FA9605, ISS3a,    81,  1,      5,      5,19960527,1144,-22.1015, 111.9787, 5000,    598.0,   9.0120,  34.6620,  34.6770,    206.6,    213.7,    10.42,    19.09,     1.30
      09FA9605, ISS3a,    81,  1,     10,     10,19960527,1144,-22.1015, 111.9787, 5000,    792.0,   5.9060,  34.5030,  34.5070,    206.2,    155.7,    42.45,    30.86,     2.15
      09FA9605, ISS3a,    81,  1,      7,      7,19960527,1144,-22.1015, 111.9787, 5000,    996.0,   5.0880,  34.5990,  34.6050,    201.8,    109.4,    77.48,    35.14,     2.54
      09FA9605, ISS3a,    81,  1,      6,      6,19960527,1144,-22.1015, 111.9787, 5000,   1194.0,   4.3880,  34.6200,  34.6270,    214.7,    112.7,    87.89,    35.43,     2.58
      09FA9605, ISS3a,    81,  1,      2,      2,19960527,1144,-22.1015, 111.9787, 5000,   1394.0,   3.7580,  34.6400,  34.6440,    228.1,    123.4,    94.30,    35.52,     2.58
      09FA9605, ISS3a,    81,  1,      4,      4,19960527,1144,-22.1015, 111.9787, 5000,   1590.0,   3.1480,  34.6740,  34.6770,    242.8,    133.4,   100.62,    34.94,     2.52
      09FA9605, ISS3a,    81,  1,     16,     16,19960527,1144,-22.1015, 111.9787, 5000,   1792.0,   2.7210,  34.7050,  34.7110,    255.1,    140.3,   108.98,    34.84,     2.48
      09FA9605, ISS3a,    81,  1,     13,     13,19960527,1144,-22.1015, 111.9787, 5000,   1994.0,   2.4080,  34.7200,  34.7220,    265.8,    146.9,   116.08,    34.54,     2.45
      09FA9605, ISS3a,    81,  1,     11b,     11,19960527,1144,-22.1015, 111.9787, 5000,   2190.0,   2.2050,  34.7260,  34.7310,    274.1,    150.6,   120.26,    34.35,     2.47
      09FA9605, ISS3a,    81,  1,     17,     17,19960527,1144,-22.1015, 111.9787, 5000,   2394.0,   2.0500,  34.7290,  34.7320,    282.3,    155.5,   121.24,    34.15,     2.43
      09FA9605, ISS3a,    81,  1,     22,     22,19960527,1144,-22.1015, 111.9787, 5000,   2594.0,   1.9180,  34.7290,  34.7320,    290.5,    160.2,   121.53,    33.76,     2.42
      09FA9605, ISS3a,    81,  1,     24,     24,19960527,1144,-22.1015, 111.9787, 5000,   2798.0,   1.7840,  34.7280,  34.7310,    300.6,    167.2,   119.68,    33.47,     2.36
      09FA9605, ISS3a,    81,  1,     21,     21,19960527,1144,-22.1015, 111.9787, 5000,   2996.0,   1.6510,  34.7280,  34.7290,    309.7,    173.3,   120.36,    33.28,     2.35
      09FA9605, ISS3a,    81,  1,      9,      9,19960527,1144,-22.1015, 111.9787, 5000,   3196.0,   1.5270,  34.7260,  34.7240,    318.7,    179.8,   121.33,    32.69,     2.31
      09FA9605, ISS3a,    81,  1,     18,     18,19960527,1144,-22.1015, 111.9787, 5000,   3496.0,   1.3600,  34.7230,  34.7230,    331.6,    185.3,   120.94,    32.59,     2.30
      09FA9605, ISS3a,    81,  1,     15,     15,19960527,1144,-22.1015, 111.9787, 5000,   3798.0,   1.2570,  34.7210,  34.7220,    343.1,    196.4,   122.59,    32.59,     2.32
      09FA9605, ISS3a,    81,  1,      1,      1,19960527,1144,-22.1015, 111.9787, 5000,   4100.0,   1.2150,  34.7190,  34.7190,    353.2,    191.4,   124.05,    32.59,     2.30
      09FA9605, ISS3a,    81,  1,     14,     14,19960527,1144,-22.1015, 111.9787, 5000,   4394.0,   1.2010,  34.7180,  34.7190,    363.0,    190.5,   121.81,    32.20,     2.30
      09FA9605, ISS3a,    81,  1,     20,     20,19960527,1144,-22.1015, 111.9787, 5000,   4696.0,   1.2100,  34.7180,  34.7160,    372.7,    194.3,   123.56,    32.50,     2.31
      09FA9605, ISS3a,    81,  1,      3,      3,19960527,1144,-22.1015, 111.9787, 5000,   5096.0,   1.2310,  34.7180,  34.7140,    385.6,    194.1,   124.34,    32.40,     2.28
      09FA9605, ISS3a,    82,  1,     23,     23,19960527,1657,-22.0365, 112.3472, 4433,      4.0,  26.0940,  35.0620,  35.0390,    138.8,    207.5,     3.52,     0.20,     0.16
      09FA9605, ISS3a,    82,  1,     12,     12,19960527,1657,-22.0365, 112.3472, 4433,     96.0,  23.5480,  35.1370,  35.1950,    131.6,    190.4,     5.18,     1.66,     0.29
      09FA9605, ISS3a,    82,  1,     11a,     11,19960527,1657,-22.0365, 112.3472, 4433,    196.0,  17.8930,  35.0520,  35.1060,    109.4,    131.5,    17.75,    13.85,     1.01
      09FA9605, ISS3a,    82,  1,      8,      8,19960527,1657,-22.0365, 112.3472, 4433,    394.0,  12.2050,  35.1350,  35.1900,    176.3,    222.0,     4.29,     9.16,     0.72
      09FA9605, ISS3a,    82,  1,      5,      5,19960527,1657,-22.0365, 112.3472, 4433,    594.0,   8.8220,  34.6420,  34.6460,    205.7,    219.1,     8.86,    19.28,     1.34
      09FA9605, ISS3a,    82,  1,     10,     10,19960527,1657,-22.0365, 112.3472, 4433,    790.0,   6.2640,  34.5750,  34.5770,    191.0,    126.9,    53.64,    31.83,     2.29
      09FA9605, ISS3a,    82,  1,      7,      7,19960527,1657,-22.0365, 112.3472, 4433,    992.0,   5.2730,  34.6210,  34.6260,    195.8,     99.3,    80.11,    34.94,     2.60
      09FA9605, ISS3a,    82,  1,      6,      6,19960527,1657,-22.0365, 112.3472, 4433,   1192.0,   4.4910,  34.6280,  34.6350,    210.9,    106.6,    86.62,    35.33,     2.61
      09FA9605, ISS3a,    82,  1,      2,      2,19960527,1657,-22.0365, 112.3472, 4433,   1392.0,   3.8020,  34.6350,  34.6380,    227.3,    121.5,    89.24,    34.94,     2.57
      09FA9605, ISS3a,    82,  1,      4,      4,19960527,1657,-22.0365, 112.3472, 4433,   1592.0,   3.2280,  34.6680,  34.6730,    241.4,    130.0,    97.02,    34.64,     2.55
      09FA9605, ISS3a,    82,  1,     16,     16,19960527,1657,-22.0365, 112.3472, 4433,   1794.0,   2.7760,  34.6990,  34.7020,    254.1,    138.4,   103.92,    34.25,     2.51
      09FA9605, ISS3a,    82,  1,     13,     13,19960527,1657,-22.0365, 112.3472, 4433,   1994.0,   2.3970,  34.7190,  34.7220,    265.6,    147.8,   110.15,    34.06,     2.46
      09FA9605, ISS3a,    82,  1,     11b,     11,19960527,1657,-22.0365, 112.3472, 4433,   2194.0,   2.1670,  34.7260,  34.7320,    275.5,    152.1,   115.89,    34.06,     2.46
      09FA9605, ISS3a,    82,  1,     17,     17,19960527,1657,-22.0365, 112.3472, 4433,   2396.0,   2.0080,  34.7270,  34.7310,    284.2,    156.0,   118.22,    33.96,     2.42
      09FA9605, ISS3a,    82,  1,     22,     22,19960527,1657,-22.0365, 112.3472, 4433,   2594.0,   1.8740,  34.7280,  34.7310,    292.9,    162.2,   118.51,    33.57,     2.40
      09FA9605, ISS3a,    82,  1,     24,     24,19960527,1657,-22.0365, 112.3472, 4433,   2796.0,   1.7710,  34.7270,  34.7310,    300.7,    166.9,   118.70,    33.37,     2.38
      09FA9605, ISS3a,    82,  1,     21,     21,19960527,1657,-22.0365, 112.3472, 4433,   2996.0,   1.6210,  34.7260,  34.7280,    310.3,    172.7,   118.70,    33.18,  -999.00
      09FA9605, ISS3a,    82,  1,      9,      9,19960527,1657,-22.0365, 112.3472, 4433,   3196.0,   1.4990,  34.7240,  34.7260,    319.8,    178.8,   118.12,    32.79,     2.33
      09FA9605, ISS3a,    82,  1,     18,     18,19960527,1657,-22.0365, 112.3472, 4433,   3398.0,   1.4020,  34.7230,  34.7240,    328.0,    182.4,   117.73,    32.69,     2.32
      09FA9605, ISS3a,    82,  1,     15,     15,19960527,1657,-22.0365, 112.3472, 4433,   3596.0,   1.3080,  34.7210,  34.7240,    336.1,    185.1,   119.19,    32.79,     2.31
      09FA9605, ISS3a,    82,  1,      1,      1,19960527,1657,-22.0365, 112.3472, 4433,   3820.0,   1.2260,  34.7190,-999.0000,    344.5,   -999.0,  -999.00,  -999.00,  -999.00
      09FA9605, ISS3a,    83,  1,     23,     23,19960527,2118,-22.0122, 112.4802, 3908,      2.0,  25.9660,  35.0700,  35.1620,    134.2,    209.4,     3.52,     0.10,     0.15
      09FA9605, ISS3a,    83,  1,     12,     12,19960527,2118,-22.0122, 112.4802, 3908,     48.0,  25.7170,  35.1910,  35.1870,    135.3,    210.4,     3.62,     0.10,     0.16
      09FA9605, ISS3a,    83,  1,     11a,     11,19960527,2118,-22.0122, 112.4802, 3908,     98.0,  22.2570,  34.8870,  34.8950,    112.5,    141.6,    12.21,     9.67,     0.77
      09FA9605, ISS3a,    83,  1,      8,      8,19960527,2118,-22.0122, 112.4802, 3908,    198.0,  17.6160,  35.0280,  35.4860,    113.8,    164.8,    10.53,     8.29,     0.66
      09FA9605, ISS3a,    83,  1,      5,      5,19960527,2118,-22.0122, 112.4802, 3908,    298.0,  16.2530,  35.6800,  35.6850,    152.9,    203.6,     4.39,     4.87,     0.49
      09FA9605, ISS3a,    83,  1,     10,     10,19960527,2118,-22.0122, 112.4802, 3908,    394.0,  12.4160,  35.1730,  35.1760,    179.7,    225.7,     3.60,     8.96,     0.72
      09FA9605, ISS3a,    83,  1,      7,      7,19960527,2118,-22.0122, 112.4802, 3908,    596.0,   8.7740,  34.6390,  34.6480,    205.9,    212.9,    11.10,    20.16,     1.40
      09FA9605, ISS3a,    83,  1,      6,      6,19960527,2118,-22.0122, 112.4802, 3908,    796.0,   6.2670,  34.5750,  34.5710,    191.0,    128.1,    55.39,    32.52,     2.38
      09FA9605, ISS3a,    83,  1,      2,      2,19960527,2118,-22.0122, 112.4802, 3908,    994.0,   5.2530,  34.6160,  34.6240,    196.2,    100.2,    83.81,    35.72,     2.68
      09FA9605, ISS3a,    83,  1,      4,      4,19960527,2118,-22.0122, 112.4802, 3908,   1196.0,   4.5400,  34.6250,  34.6330,    210.0,    106.2,    93.63,    36.11,     2.70
      09FA9605, ISS3a,    83,  1,     16,     16,19960527,2118,-22.0122, 112.4802, 3908,   1396.0,   3.8330,  34.6320,  34.6350,    227.2,    121.7,    95.47,    36.01,     2.66
      09FA9605, ISS3a,    83,  1,     13,     13,19960527,2118,-22.0122, 112.4802, 3908,   1594.0,   3.2640,  34.6630,  34.6670,    241.2,    132.4,   102.08,    35.62,     2.61
      09FA9605, ISS3a,    83,  1,     11b,     11,19960527,2118,-22.0122, 112.4802, 3908,   1794.0,   2.7860,  34.6990,  34.7060,    253.9,    139.2,   112.20,    35.42,     2.58
      09FA9605, ISS3a,    83,  1,     17,     17,19960527,2118,-22.0122, 112.4802, 3908,   1996.0,   2.4090,  34.7190,  34.7220,    265.3,    146.4,   119.78,    35.13,     2.54
      09FA9605, ISS3a,    83,  1,     22,     22,19960527,2118,-22.0122, 112.4802, 3908,   2194.0,   2.1730,  34.7270,  34.7290,    275.0,    152.1,   125.23,    34.83,     2.53
      09FA9605, ISS3a,    83,  1,     24,     24,19960527,2118,-22.0122, 112.4802, 3908,   2394.0,   2.0000,  34.7290,  34.7310,    283.4,    156.0,   126.88,    34.74,     2.51
      09FA9605, ISS3a,    83,  1,     21,     21,19960527,2118,-22.0122, 112.4802, 3908,   2596.0,   1.8460,  34.7290,  34.7300,    293.1,    161.9,   127.95,    34.44,     2.48
      09FA9605, ISS3a,    83,  1,      9,      9,19960527,2118,-22.0122, 112.4802, 3908,   2794.0,   1.7390,  34.7280,  34.7280,    301.1,    167.4,   128.63,    34.25,     2.45
      09FA9605, ISS3a,    83,  1,     18,     18,19960527,2118,-22.0122, 112.4802, 3908,   2996.0,   1.6280,  34.7270,  34.7280,    310.5,    174.0,   127.65,    33.96,     2.40
      09FA9605, ISS3a,    83,  1,     15,     15,19960527,2118,-22.0122, 112.4802, 3908,   3194.0,   1.5110,  34.7250,  34.7280,    318.9,    177.7,   128.43,    33.76,     2.39
      09FA9605, ISS3a,    83,  1,      1,      1,19960527,2118,-22.0122, 112.4802, 3908,   3382.0,   1.3950,  34.7230,  34.7240,    327.1,    182.7,   129.79,    33.66,     2.38
      09FA9605, ISS3a,    83,  1,     20,     20,19960527,2118,-22.0122, 112.4802, 3908,   3794.0,   1.2250,  34.7200,  34.7210,    343.5,    189.2,   133.00,    33.47,     2.34
      09FA9605, ISS3a,    83,  1,      3,      3,19960527,2118,-22.0122, 112.4802, 3908,   3972.0,   1.1930,  34.7190,  34.7200,    349.6,    190.9,   133.20,    33.47,     2.35