BOTTLE,20220929CCHSIOAMB
EXPOCODE,SECT_ID,STNNBR,CASTNO,SAMPNO,BTLNBR,DATE,TIME,LATITUDE,LONGITUDE,DEPTH,CTDPRS,CTDTMP,CTDSAL,SALNTY,CTDOXY,OXYGEN,SILCAT,NITRAT,PHSPHT
,,,,,,,,,,,DBAR,ITS-90,PSS-78,PSS-78,UMOL/KG,UMOL/KG,UMOL/KG,UMOL/KG,UMOL/KG
      09FA9605, ISS3a,    76,  1,     23,     23,19960526,0457,-22.6843, 109.3638, 4456,      4.0,  24.6180,  35.3710,  35.3770,    136.9,    209.8,     3.42,     0.00,     0.11
      09FA9605, ISS3a,    76,  1,     12,     12,19960526,0457,-22.6843, 109.3638, 4456,     98.0,  22.3830,  35.2520,  35.2550,    132.7,    173.5,     6.05,     3.71,     0.31
      09FA9605, ISS3a,    76,  1,     11a,     11,19960526,0457,-22.6843, 109.3638, 4456,    190.0,  19.2970,  35.7560,  35.7660,    133.7,    185.8,     4.97,     4.49,     0.31
      09FA9605, ISS3a,    76,  1,      8,      8,19960526,0457,-22.6843, 109.3638, 4456,    394.0,  12.4980,  35.1860,  35.1030,    176.6,    231.6,     2.82,     9.35,     0.63
      09FA9605, ISS3a,    76,  1,      5a,      5,19960526,0457,-22.6843, 109.3638, 4456,    592.0,   8.9390,  34.6380,  34.6390,    208.4,    225.0,     6.91,    18.60,     1.24
      09FA9605, ISS3a,    76,  1,     10,     10,19960526,0457,-22.6843, 109.3638, 4456,    792.0,   6.2200,  34.5330,  34.5430,    198.3,    143.7,    45.47,    30.76,     2.22
      09FA9605, ISS3a,    76,  1,      7,      7,19960526,0457,-22.6843, 109.3638, 4456,    992.0,   5.2790,  34.5940,  34.6000,    199.2,    108.8,    72.81,    34.46,     2.60
      09FA9605, ISS3a,    76,  1,      6,      6,19960526,0457,-22.6843, 109.3638, 4456,   1192.0,   4.3640,  34.5890,  34.5960,    216.7,    121.4,    79.03,    34.75,     2.62
      09FA9605, ISS3a,    76,  1,      2,      2,19960526,0457,-22.6843, 109.3638, 4456,   1390.0,   3.8330,  34.6310,  34.6370,    227.4,    123.3,    88.66,    34.84,     2.63
      09FA9605, ISS3a,    76,  1,      4,      4,19960526,0457,-22.6843, 109.3638, 4456,   1592.0,   3.2160,  34.6560,  34.6580,    243.7,    135.3,    91.18,    34.25,     2.57
      09FA9605, ISS3a,    76,  1,     16,     16,19960526,0457,-22.6843, 109.3638, 4456,   1794.0,   2.7450,  34.6900,  34.6940,    256.7,    144.1,    98.96,    33.86,     2.53
      09FA9605, ISS3a,    76,  1,     13,     13,19960526,0457,-22.6843, 109.3638, 4456,   1994.0,   2.4150,  34.7100,  34.7090,    268.7,    154.5,   101.10,    33.38,     2.47
      09FA9605, ISS3a,    76,  1,     11b,     11,19960526,0457,-22.6843, 109.3638, 4456,   2194.0,   2.2050,  34.7190,  34.7250,    277.0,    156.1,   108.10,    33.28,     2.48
      09FA9605, ISS3a,    76,  1,     17,     17,19960526,0457,-22.6843, 109.3638, 4456,   2394.0,   2.0320,  34.7230,  34.7270,    285.7,    160.1,   111.31,    33.18,     2.48
      09FA9605, ISS3a,    76,  1,     22,     22,19960526,0457,-22.6843, 109.3638, 4456,   2594.0,   1.8970,  34.7240,  34.7280,    293.9,    165.5,   112.48,    32.98,     2.43
      09FA9605, ISS3a,    76,  1,     24,     24,19960526,0457,-22.6843, 109.3638, 4456,   2794.0,   1.7550,  34.7240,  34.7280,    302.2,    168.0,   113.74,    32.89,     2.41
      09FA9605, ISS3a,    76,  1,     21,     21,19960526,0457,-22.6843, 109.3638, 4456,   2994.0,   1.6310,  34.7240,  34.7280,    310.6,    174.7,   115.59,    32.79,     2.40
      09FA9605, ISS3a,    76,  1,      9,      9,19960526,0457,-22.6843, 109.3638, 4456,   3194.0,   1.5170,  34.7220,  34.7240,    319.8,    179.5,   116.56,    32.50,     2.36
      09FA9605, ISS3a,    76,  1,     18,     18,19960526,0457,-22.6843, 109.3638, 4456,   3394.0,   1.4310,  34.7210,  34.7220,    328.3,    184.0,   115.30,    32.20,     2.34
      09FA9605, ISS3a,    76,  1,      5b,      5,19960526,0457,-22.6843, 109.3638, 4456,   3594.0,   1.3390,  34.7190,  34.7320,    335.9,    185.8,   113.45,    31.72,     2.29
      09FA9605, ISS3a,    76,  1,      1,      1,19960526,0457,-22.6843, 109.3638, 4456,   3796.0,   1.2330,  34.7160,  34.7170,    344.0,    190.1,   119.67,    32.30,     2.34
      09FA9605, ISS3a,    76,  1,     14,     14,19960526,0457,-22.6843, 109.3638, 4456,   3996.0,   1.1910,  34.7150,  34.7160,    351.0,    192.2,   120.84,    32.11,     2.34
      09FA9605, ISS3a,    76,  1,     20,     20,19960526,0457,-22.6843, 109.3638, 4456,   4196.0,   1.1800,  34.7140,  34.7150,    357.9,    193.0,   121.23,    32.20,     2.34
      09FA9605, ISS3a,    76,  1,      3,      3,19960526,0457,-22.6843, 109.3638, 4456,   4562.0,   1.2020,  34.7140,  34.7220,    368.7,    194.5,   122.20,    32.20,     2.33
      09FA9605, ISS3a,    77,  1,     23,     23,19960526,1108,-22.5463, 109.8935, 4400,      2.0,  24.7200,  35.3920,  35.4120,    131.8,    212.2,     3.22,     0.10,     0.14
      09FA9605, ISS3a,    77,  1,     12,     12,19960526,1108,-22.5463, 109.8935, 4400,     98.0,  22.3000,  35.3310,  35.6030,    133.3,    210.5,     3.42,     0.49,     0.20
      09FA9605, ISS3a,    77,  1,     11a,     11,19960526,1108,-22.5463, 109.8935, 4400,    196.0,  18.7800,  35.8270,  35.8130,    139.4,    190.3,     4.48,     3.90,     0.40
      09FA9605, ISS3a,    77,  1,      8,      8,19960526,1108,-22.5463, 109.8935, 4400,    394.0,  12.2020,  35.1410,  35.1980,    181.9,    226.2,     2.73,     8.28,     0.69
      09FA9605, ISS3a,    77,  1,      5a,      5,19960526,1108,-22.5463, 109.8935, 4400,    596.0,   8.6530,  34.6030,  34.5970,    213.8,    223.9,     7.50,    19.87,     1.39
      09FA9605, ISS3a,    77,  1,     10,     10,19960526,1108,-22.5463, 109.8935, 4400,    794.0,   6.2430,  34.5980,  34.6040,    187.9,    113.0,    64.93,    33.20,     2.45
      09FA9605, ISS3a,    77,  1,      7,      7,19960526,1108,-22.5463, 109.8935, 4400,    992.0,   5.3820,  34.6170,  34.6190,    195.5,     99.4,    80.79,    35.04,     2.63
      09FA9605, ISS3a,    77,  1,      6,      6,19960526,1108,-22.5463, 109.8935, 4400,   1192.0,   4.4950,  34.6180,  34.6270,    212.1,    104.4,    91.10,    35.62,     2.68
      09FA9605, ISS3a,    77,  1,      2,      2,19960526,1108,-22.5463, 109.8935, 4400,   1392.0,   3.8040,  34.6340,  34.6380,    228.2,    121.8,    94.79,    35.43,     2.64
      09FA9605, ISS3a,    77,  1,      4,      4,19960526,1108,-22.5463, 109.8935, 4400,   1594.0,   3.1930,  34.6650,  34.6680,    243.0,    132.2,   100.14,    35.13,     2.59
      09FA9605, ISS3a,    77,  1,     13,     13,19960526,1108,-22.5463, 109.8935, 4400,   1994.0,   2.4300,  34.7130,  34.7180,    267.2,    149.2,   114.53,    33.76,     2.49
      09FA9605, ISS3a,    77,  1,     11b,     11,19960526,1108,-22.5463, 109.8935, 4400,   2196.0,   2.1870,  34.7220,  34.7300,    276.8,    155.2,   116.96,    34.15,     2.48
      09FA9605, ISS3a,    77,  1,     17,     17,19960526,1108,-22.5463, 109.8935, 4400,   2394.0,   2.0370,  34.7250,  34.7290,    285.0,    159.6,   116.76,    33.96,     2.47
      09FA9605, ISS3a,    77,  1,     22,     22,19960526,1108,-22.5463, 109.8935, 4400,   2596.0,   1.8810,  34.7260,  34.7270,    293.8,    165.2,   118.12,    33.67,     2.45
      09FA9605, ISS3a,    77,  1,     24,     24,19960526,1108,-22.5463, 109.8935, 4400,   2794.0,   1.7390,  34.7250,  34.7280,    303.2,    170.5,   118.12,    33.37,     2.40
      09FA9605, ISS3a,    77,  1,     21,     21,19960526,1108,-22.5463, 109.8935, 4400,   2996.0,   1.6150,  34.7250,  34.7250,    312.4,    176.9,   119.09,    33.18,     2.38
      09FA9605, ISS3a,    77,  1,      9,      9,19960526,1108,-22.5463, 109.8935, 4400,   3196.0,   1.4950,  34.7240,  34.7220,    320.8,    181.3,   120.45,    32.98,     2.37
      09FA9605, ISS3a,    77,  1,     18,     18,19960526,1108,-22.5463, 109.8935, 4400,   3396.0,   1.3880,  34.7220,  34.7220,    329.2,    185.5,   121.42,    32.79,     2.34
      09FA9605, ISS3a,    77,  1,      5b,      5,19960526,1108,-22.5463, 109.8935, 4400,   3596.0,   1.3190,  34.7190,  34.7210,    336.5,    186.7,   120.84,    32.59,     2.34
      09FA9605, ISS3a,    77,  1,      1,      1,19960526,1108,-22.5463, 109.8935, 4400,   3796.0,   1.2430,  34.7170,  34.7170,    344.1,    190.1,   121.33,    32.69,     2.34
      09FA9605, ISS3a,    77,  1,     14,     14,19960526,1108,-22.5463, 109.8935, 4400,   3996.0,   1.2020,  34.7160,  34.7190,    351.4,    191.3,   120.94,    32.50,     2.34
      09FA9605, ISS3a,    77,  1,     20,     20,19960526,1108,-22.5463, 109.8935, 4400,   4196.0,   1.1850,  34.7160,  34.7150,    358.2,    193.4,   122.11,    32.50,     2.34
      09FA9605, ISS3a,    77,  1,      3,      3,19960526,1108,-22.5463, 109.8935, 4400,   4472.0,   1.1940,  34.7160,  34.7140,    366.4,    194.3,   120.35,    32.69,     2.33
      09FA9605, ISS3a,    78,  1,     23,     23,19960526,1710,-22.4740, 110.4148, 5037,      4.0,  24.6740,  35.4040,  35.4240,    143.5,    214.4,     3.03,     0.10,     0.12
      09FA9605, ISS3a,    78,  1,     12,     12,19960526,1710,-22.4740, 110.4148, 5037,     98.0,  22.6940,  35.7280,  35.7390,    145.3,    223.4,     2.64,     0.10,     0.14
      09FA9605, ISS3a,    78,  1,     11a,     11,19960526,1710,-22.4740, 110.4148, 5037,    198.0,  18.3880,  35.8300,  35.8310,    140.9,    192.5,     4.19,     3.61,     0.38
      09FA9605, ISS3a,    78,  1,      8,      8,19960526,1710,-22.4740, 110.4148, 5037,    394.0,  11.8690,  35.0800,  35.0770,    181.9,    232.8,     2.73,     9.45,     0.75
      09FA9605, ISS3a,    78,  1,      5a,      5,19960526,1710,-22.4740, 110.4148, 5037,    594.0,   8.9310,  34.6290,  34.6410,    210.9,    230.1,     5.75,    18.11,     1.28
      09FA9605, ISS3a,    78,  1,     10,     10,19960526,1710,-22.4740, 110.4148, 5037,    792.0,   5.8910,  34.4970,  34.4900,    205.6,    163.3,    38.65,    30.08,     2.16
      09FA9605, ISS3a,    78,  1,      7,      7,19960526,1710,-22.4740, 110.4148, 5037,    992.0,   5.1090,  34.5850,  34.5930,    203.1,    109.5,    77.19,    34.75,     2.60
      09FA9605, ISS3a,    78,  1,      6,      6,19960526,1710,-22.4740, 110.4148, 5037,   1192.0,   4.3630,  34.6150,  34.6230,    213.1,    109.4,    90.91,    35.62,     2.66
      09FA9605, ISS3a,    78,  1,      2,      2,19960526,1710,-22.4740, 110.4148, 5037,   1392.0,   3.6020,  34.6440,  34.6490,    229.7,   -999.0,    97.12,    35.13,     2.62
      09FA9605, ISS3a,    78,  1,      4,      4,19960526,1710,-22.4740, 110.4148, 5037,   1592.0,   2.9860,  34.6760,  34.6840,    246.5,    137.1,   101.69,    34.64,     2.56
      09FA9605, ISS3a,    78,  1,     16,     16,19960526,1710,-22.4740, 110.4148, 5037,   1794.0,   2.6160,  34.6950,  34.7020,    259.9,    147.9,   104.12,    34.15,     2.50
      09FA9605, ISS3a,    78,  1,     13,     13,19960526,1710,-22.4740, 110.4148, 5037,   1994.0,   2.3260,  34.7140,  34.7200,    269.2,    150.9,   112.87,    34.15,     2.51
      09FA9605, ISS3a,    78,  1,     11b,     11,19960526,1710,-22.4740, 110.4148, 5037,   2194.0,   2.1440,  34.7200,  34.7270,    277.0,    154.0,   115.89,    33.86,     2.49
      09FA9605, ISS3a,    78,  1,     17,     17,19960526,1710,-22.4740, 110.4148, 5037,   2394.0,   2.0250,  34.7210,  34.7250,    284.8,    159.1,   115.59,    33.67,     2.47
      09FA9605, ISS3a,    78,  1,     22,     22,19960526,1710,-22.4740, 110.4148, 5037,   2594.0,   1.9030,  34.7220,  34.7240,    293.0,    163.0,   118.41,    33.67,     2.46
      09FA9605, ISS3a,    78,  1,     24,     24,19960526,1710,-22.4740, 110.4148, 5037,   2794.0,   1.7530,  34.7220,  34.7250,    302.9,    170.3,   115.69,    33.08,     2.41
      09FA9605, ISS3a,    78,  1,     21,     21,19960526,1710,-22.4740, 110.4148, 5037,   3094.0,   1.5740,  34.7210,  34.7220,    315.8,    176.9,   118.51,    32.98,     2.39
      09FA9605, ISS3a,    78,  1,      9,      9,19960526,1710,-22.4740, 110.4148, 5037,   3396.0,   1.4130,  34.7180,  34.7190,    328.6,    183.7,   119.67,    32.69,     2.35
      09FA9605, ISS3a,    78,  1,     18,     18,19960526,1710,-22.4740, 110.4148, 5037,   3696.0,   1.3000,  34.7150,  34.7160,    339.9,    187.4,   120.94,    32.69,     2.35
      09FA9605, ISS3a,    78,  1,      5b,      5,19960526,1710,-22.4740, 110.4148, 5037,   3996.0,   1.2250,  34.7130,  34.7140,    350.8,    189.7,   122.01,    32.59,     2.34
      09FA9605, ISS3a,    78,  1,      1,      1,19960526,1710,-22.4740, 110.4148, 5037,   4294.0,   1.1950,  34.7120,  34.7120,    361.1,    192.8,   123.86,    32.69,     2.34
      09FA9605, ISS3a,    78,  1,     14,     14,19960526,1710,-22.4740, 110.4148, 5037,   4596.0,   1.1980,  34.7110,  34.7110,    370.8,    193.9,   123.08,    32.59,     2.34
      09FA9605, ISS3a,    78,  1,     20,     20,19960526,1710,-22.4740, 110.4148, 5037,   4896.0,   1.2170,  34.7110,  34.7110,    380.4,    193.6,   123.37,    32.79,     2.34
      09FA9605, ISS3a,    78,  1,      3,      3,19960526,1710,-22.4740, 110.4148, 5037,   5136.0,   1.2360,  34.7110,  34.7110,    387.8,    194.0,   124.44,    32.59,     2.33
      09FA9605, ISS3a,    79,  1,     23,     23,19960526,2329,-22.3223, 110.9373, 5037,      2.0,  24.6530,  35.3770,  35.3810,    145.9,    216.9,     3.03,     0.20,     0.11
      09FA9605, ISS3a,    79,  1,     12,     12,19960526,2329,-22.3223, 110.9373, 5037,     98.0,  21.5900,  35.4300,  35.4650,    129.8,    186.2,     5.07,     3.42,     0.36
      09FA9605, ISS3a,    79,  1,     11a,     11,19960526,2329,-22.3223, 110.9373, 5037,    196.0,  18.9660,  35.8800,  35.8800,    141.9,    197.3,     3.22,     3.02,     0.32
      09FA9605, ISS3a,    79,  1,      8,      8,19960526,2329,-22.3223, 110.9373, 5037,    396.0,  12.2740,  35.1430,  35.1240,    180.7,    231.9,     2.53,     8.86,     0.70
      09FA9605, ISS3a,    79,  1,      5a,      5,19960526,2329,-22.3223, 110.9373, 5037,    594.0,   8.4590,  34.5920,  34.6380,    208.8,    225.9,     7.01,    18.70,     1.30
      09FA9605, ISS3a,    79,  1,     10,     10,19960526,2329,-22.3223, 110.9373, 5037,    794.0,   5.8690,  34.5640,  34.5610,    195.9,    126.9,    56.85,    32.42,     2.39
      09FA9605, ISS3a,    79,  1,      7,      7,19960526,2329,-22.3223, 110.9373, 5037,    994.0,   4.9830,  34.6030,  34.6060,    201.7,    107.8,    78.65,    35.24,     2.62
      09FA9605, ISS3a,    79,  1,      6,      6,19960526,2329,-22.3223, 110.9373, 5037,   1192.0,   4.2560,  34.6210,  34.6250,    215.7,    111.8,    88.96,    35.43,     2.64
      09FA9605, ISS3a,    79,  1,      2,      2,19960526,2329,-22.3223, 110.9373, 5037,   1394.0,   3.6450,  34.6350,  34.6380,    231.8,    126.9,    91.38,    34.94,     2.58
      09FA9605, ISS3a,    79,  1,      4,      4,19960526,2329,-22.3223, 110.9373, 5037,   1594.0,   3.0670,  34.6680,  34.6690,    246.1,    139.2,    95.95,    34.55,     2.53
      09FA9605, ISS3a,    79,  1,     16,     16,19960526,2329,-22.3223, 110.9373, 5037,   1796.0,   2.6950,  34.6980,  34.7020,    256.5,    142.3,   105.77,    34.45,     2.52
      09FA9605, ISS3a,    79,  1,     13,     13,19960526,2329,-22.3223, 110.9373, 5037,   2000.0,   2.3730,  34.7150,  34.7190,    266.9,    149.5,   112.97,    34.06,     2.49
      09FA9605, ISS3a,    79,  1,     11b,     11,19960526,2329,-22.3223, 110.9373, 5037,   2194.0,   2.1720,  34.7220,  34.7280,    275.3,    153.2,   116.86,    33.86,     2.48
      09FA9605, ISS3a,    79,  1,     17,     17,19960526,2329,-22.3223, 110.9373, 5037,   2396.0,   2.0260,  34.7230,  34.7270,    283.5,    158.0,   117.83,    33.86,     2.46
      09FA9605, ISS3a,    79,  1,     22,     22,19960526,2329,-22.3223, 110.9373, 5037,   2596.0,   1.8780,  34.7250,  34.7260,    292.9,    164.0,   118.22,    33.57,     2.42
      09FA9605, ISS3a,    79,  1,     24,     24,19960526,2329,-22.3223, 110.9373, 5037,   2794.0,   1.7510,  34.7240,  34.7260,    301.3,    169.2,   117.73,    33.08,     2.40
      09FA9605, ISS3a,    79,  1,     21,     21,19960526,2329,-22.3223, 110.9373, 5037,   3094.0,   1.5640,  34.7230,  34.7230,    314.8,    177.1,   119.09,    32.89,     2.36
      09FA9605, ISS3a,    79,  1,      9,      9,19960526,2329,-22.3223, 110.9373, 5037,   3394.0,   1.3920,  34.7190,  34.7200,    327.6,    183.5,   118.80,    32.69,     2.34
      09FA9605, ISS3a,    79,  1,     18,     18,19960526,2329,-22.3223, 110.9373, 5037,   3694.0,   1.2660,  34.7160,  34.7180,    339.7,    188.3,   120.55,    32.50,     2.32
      09FA9605, ISS3a,    79,  1,      5b,      5,19960526,2329,-22.3223, 110.9373, 5037,   3994.0,   1.2040,  34.7150,  34.7170,    350.5,    190.4,   121.42,    32.40,     2.31
      09FA9605, ISS3a,    79,  1,      1,      1,19960526,2329,-22.3223, 110.9373, 5037,   4294.0,   1.1870,  34.7140,  34.7140,    360.4,    192.6,   120.74,    32.30,     2.32
      09FA9605, ISS3a,    79,  1,     14,     14,19960526,2329,-22.3223, 110.9373, 5037,   4594.0,   1.1940,  34.7130,  34.7130,    369.9,    193.3,   121.52,    32.40,     2.31
      09FA9605, ISS3a,    79,  1,     20,     20,19960526,2329,-22.3223, 110.9373, 5037,   4894.0,   1.2150,  34.7140,  34.7130,    379.5,    193.6,   122.11,    32.40,     2.30
      09FA9605, ISS3a,    79,  1,      3,      3,19960526,2329,-22.3223, 110.9373, 5037,   5132.0,   1.2340,  34.7140,  34.7130,    386.4,    194.5,   122.30,    32.30,     2.30