BOTTLE,20220929CCHSIOAMB
EXPOCODE,SECT_ID,STNNBR,CASTNO,SAMPNO,BTLNBR,DATE,TIME,LATITUDE,LONGITUDE,DEPTH,CTDPRS,CTDTMP,CTDSAL,SALNTY,CTDOXY,OXYGEN,SILCAT,NITRAT,PHSPHT
,,,,,,,,,,,DBAR,ITS-90,PSS-78,PSS-78,UMOL/KG,UMOL/KG,UMOL/KG,UMOL/KG,UMOL/KG
      09FA9605, ISS3a,    72,  1,     23,     23,19960525,0643,-23.2292, 107.3078, 3677,      2.0,  24.0040,  35.4650,  35.4690,    142.2,    211.6,     2.83,     0.20,     0.12
      09FA9605, ISS3a,    72,  1,     12,     12,19960525,0643,-23.2292, 107.3078, 3677,     48.0,  23.8690,  35.4510,  35.4700,    139.5,    211.8,     2.83,     0.20,     0.11
      09FA9605, ISS3a,    72,  1,     11a,     11,19960525,0643,-23.2292, 107.3078, 3677,     98.0,  23.5050,  35.5360,  35.4770,    140.1,    212.9,     2.73,     0.10,     0.10
      09FA9605, ISS3a,    72,  1,      8,      8,19960525,0643,-23.2292, 107.3078, 3677,    196.0,  19.2760,  35.9050,  35.9240,    142.4,    204.6,     2.92,     1.36,     0.22
      09FA9605, ISS3a,    72,  1,      5a,      5,19960525,0643,-23.2292, 107.3078, 3677,    296.0,  15.7170,  35.6170,  35.6200,    153.6,    204.6,     4.77,     5.46,     0.52
      09FA9605, ISS3a,    72,  1,     10,     10,19960525,0643,-23.2292, 107.3078, 3677,    394.0,  12.2670,  35.1420,  35.1200,    177.5,    228.7,     3.41,     9.45,     0.68
      09FA9605, ISS3a,    72,  1,      7,      7,19960525,0643,-23.2292, 107.3078, 3677,    494.0,  10.1400,  34.8110,  34.8120,    198.6,    234.6,     4.67,    14.32,     0.99
      09FA9605, ISS3a,    72,  1,      6,      6,19960525,0643,-23.2292, 107.3078, 3677,    594.0,   8.8970,  34.6350,  34.6580,    209.9,    227.2,     7.01,    18.70,     1.27
      09FA9605, ISS3a,    72,  1,      2,      2,19960525,0643,-23.2292, 107.3078, 3677,    694.0,   7.6470,  34.5550,  34.5800,    204.7,    184.7,    21.62,    25.02,     1.72
      09FA9605, ISS3a,    72,  1,      4,      4,19960525,0643,-23.2292, 107.3078, 3677,    794.0,   6.1810,  34.5360,  34.5350,    200.8,    156.4,    40.69,    30.18,     2.15
      09FA9605, ISS3a,    72,  1,     16,     16,19960525,0643,-23.2292, 107.3078, 3677,    992.0,   5.0020,  34.5630,  34.5710,    205.9,    125.9,    68.62,    34.17,     2.51
      09FA9605, ISS3a,    72,  1,     13,     13,19960525,0643,-23.2292, 107.3078, 3677,   1192.0,   4.2050,  34.5840,  34.6040,    220.2,    123.5,    82.83,    34.75,     2.61
      09FA9605, ISS3a,    72,  1,     11b,     11,19960525,0643,-23.2292, 107.3078, 3677,   1390.0,   3.6500,  34.6160,  34.6380,    232.7,    130.1,    89.34,    34.84,     2.60
      09FA9605, ISS3a,    72,  1,     17,     17,19960525,0643,-23.2292, 107.3078, 3677,   1592.0,   3.1080,  34.6470,  34.6700,    247.2,    139.3,    92.64,    34.45,     2.54
      09FA9605, ISS3a,    72,  1,     22,     22,19960525,0643,-23.2292, 107.3078, 3677,   1794.0,   2.7170,  34.6880,  34.7100,    258.5,    147.5,   100.52,    34.06,     2.49
      09FA9605, ISS3a,    72,  1,     24,     24,19960525,0643,-23.2292, 107.3078, 3677,   1994.0,   2.4040,  34.7120,  34.7310,    268.8,    152.5,   107.52,    33.76,     2.46
      09FA9605, ISS3a,    72,  1,     21,     21,19960525,0643,-23.2292, 107.3078, 3677,   2194.0,   2.1880,  34.7220,  34.7410,    277.6,    156.6,   114.23,    33.76,     2.45
      09FA9605, ISS3a,    72,  1,      9,      9,19960525,0643,-23.2292, 107.3078, 3677,   2396.0,   2.0070,  34.7260,  34.7370,    286.2,    161.7,   119.00,    33.67,     2.43
      09FA9605, ISS3a,    72,  1,     18,     18,19960525,0643,-23.2292, 107.3078, 3677,   2594.0,   1.8780,  34.7270,  34.7420,    294.3,    166.7,   120.36,    33.57,     2.40
      09FA9605, ISS3a,    72,  1,      5b,      5,19960525,0643,-23.2292, 107.3078, 3677,   2794.0,   1.7260,  34.7270,  34.7470,    303.6,    172.7,   119.38,    33.18,     2.35
      09FA9605, ISS3a,    72,  1,      1,      1,19960525,0643,-23.2292, 107.3078, 3677,   2996.0,   1.6070,  34.7260,  34.7420,    311.9,    177.8,   122.69,    33.18,     2.35
      09FA9605, ISS3a,    72,  1,     14,     14,19960525,0643,-23.2292, 107.3078, 3677,   3194.0,   1.4870,  34.7240,  34.7440,    320.5,    180.5,   122.69,    32.98,     2.33
      09FA9605, ISS3a,    72,  1,     20,     20,19960525,0643,-23.2292, 107.3078, 3677,   3394.0,   1.3640,  34.7220,  34.7380,    328.6,    185.5,   127.07,    32.89,     2.33
      09FA9605, ISS3a,    72,  1,      3,      3,19960525,0643,-23.2292, 107.3078, 3677,   3724.0,   1.2670,  34.7190,  34.7300,    341.0,    189.1,   128.72,    32.98,     2.31
      09FA9605, ISS3a,    73,  1,     23,     23,19960525,1213,-23.0458, 107.7903, 3730,      2.0,  24.4310,  35.4620,  35.4930,    135.1,    211.6,     2.73,     0.20,     0.11
      09FA9605, ISS3a,    73,  1,     12,     12,19960525,1213,-23.0458, 107.7903, 3730,     50.0,  23.7560,  35.5020,  35.5620,    138.8,    212.8,     2.64,     0.20,     0.10
      09FA9605, ISS3a,    73,  1,     11a,     11,19960525,1213,-23.0458, 107.7903, 3730,     96.0,  22.3350,  35.7610,  35.7420,    141.5,    217.8,     2.73,     0.10,     0.10
      09FA9605, ISS3a,    73,  1,      8,      8,19960525,1213,-23.0458, 107.7903, 3730,    196.0,  18.8540,  35.8310,  35.8460,    140.1,    193.3,     4.00,     3.22,     0.24
      09FA9605, ISS3a,    73,  1,      5,      5,19960525,1213,-23.0458, 107.7903, 3730,    296.0,  15.1640,  35.5630,  35.6130,    157.6,    209.9,     3.99,     5.07,     0.39
      09FA9605, ISS3a,    73,  1,     10,     10,19960525,1213,-23.0458, 107.7903, 3730,    394.0,  11.6670,  35.0480,  35.0520,    182.0,    231.1,     3.31,    10.32,     0.69
      09FA9605, ISS3a,    73,  1,      7,      7,19960525,1213,-23.0458, 107.7903, 3730,    492.0,   9.9630,  34.7810,  34.7670,    201.1,    235.9,     4.48,    15.10,     0.98
      09FA9605, ISS3a,    73,  1,      6,      6,19960525,1213,-23.0458, 107.7903, 3730,    594.0,   8.7580,  34.6190,-999.0000,    210.0,    222.0,     8.28,    19.96,     1.28
      09FA9605, ISS3a,    73,  1,      2,      2,19960525,1213,-23.0458, 107.7903, 3730,    696.0,   7.0570,  34.5490,  34.5520,    198.8,    166.3,    33.01,    28.04,     1.89
      09FA9605, ISS3a,    73,  1,      4,      4,19960525,1213,-23.0458, 107.7903, 3730,    794.0,   6.2700,  34.5620,  34.5720,    195.0,    124.1,    59.09,    33.00,     2.31
      09FA9605, ISS3a,    73,  1,     16,     16,19960525,1213,-23.0458, 107.7903, 3730,    996.0,   5.2560,  34.6160,  34.6190,    196.2,    101.1,    85.95,    35.63,     2.58
      09FA9605, ISS3a,    73,  1,     13,     13,19960525,1213,-23.0458, 107.7903, 3730,   1192.0,   4.6040,  34.6280,  34.6330,    208.8,    104.6,    97.14,    36.01,     2.62
      09FA9605, ISS3a,    73,  1,     11b,     11,19960525,1213,-23.0458, 107.7903, 3730,   1392.0,   4.0100,  34.6390,  34.6480,    222.4,    111.8,   101.70,    35.91,     2.61
      09FA9605, ISS3a,    73,  1,     17,     17,19960525,1213,-23.0458, 107.7903, 3730,   1592.0,   3.3500,  34.6550,  34.6550,    240.1,    130.1,   100.24,    35.52,     2.53
      09FA9605, ISS3a,    73,  1,     22,     22,19960525,1213,-23.0458, 107.7903, 3730,   1792.0,   2.8440,  34.6810,  34.6830,    255.8,    146.5,   102.86,    34.74,     2.45
      09FA9605, ISS3a,    73,  1,     24,     24,19960525,1213,-23.0458, 107.7903, 3730,   1994.0,   2.5170,  34.7060,  34.7070,    266.4,    150.7,   108.40,    34.25,     2.41
      09FA9605, ISS3a,    73,  1,     21,     21,19960525,1213,-23.0458, 107.7903, 3730,   2194.0,   2.2520,  34.7190,  34.7210,    275.5,    155.0,   117.35,    34.25,     2.40
      09FA9605, ISS3a,    73,  1,      9,      9,19960525,1213,-23.0458, 107.7903, 3730,   2392.0,   2.0700,  34.7240,  34.7250,    284.8,    160.6,   120.36,    34.06,     2.37
      09FA9605, ISS3a,    73,  1,     18,     18,19960525,1213,-23.0458, 107.7903, 3730,   2594.0,   1.9220,  34.7250,  34.7270,    292.9,    165.8,   122.69,    33.86,     2.35
      09FA9605, ISS3a,    73,  1,     15,     15,19960525,1213,-23.0458, 107.7903, 3730,   2794.0,   1.7750,  34.7260,  34.7320,    302.2,    171.4,   121.53,    33.28,     2.32
      09FA9605, ISS3a,    73,  1,      1,      1,19960525,1213,-23.0458, 107.7903, 3730,   2994.0,   1.6560,  34.7250,  34.7260,    310.4,    175.9,   122.11,    33.57,     2.32
      09FA9605, ISS3a,    73,  1,     14,     14,19960525,1213,-23.0458, 107.7903, 3730,   3194.0,   1.5260,  34.7240,  34.7260,    319.6,    181.1,   123.96,    33.18,     2.28
      09FA9605, ISS3a,    73,  1,     20,     20,19960525,1213,-23.0458, 107.7903, 3730,   3396.0,   1.4250,  34.7220,  34.7230,    327.8,    183.9,   127.26,    33.08,     2.28
      09FA9605, ISS3a,    73,  1,      3,      3,19960525,1213,-23.0458, 107.7903, 3730,   3748.0,   1.2450,  34.7180,  34.7180,    341.8,    186.8,   131.06,    33.18,     2.27
      09FA9605, ISS3a,    74,  1,     23,     23,19960525,1738,-22.8907, 108.3122, 3701,      4.0,  24.8160,  35.4250,  35.4350,    136.0,    213.3,     3.13,     0.10,     0.09
      09FA9605, ISS3a,    74,  1,     12,     12,19960525,1738,-22.8907, 108.3122, 3701,     48.0,  24.7870,  35.4220,  35.4300,    137.0,    212.6,     3.13,     0.10,     0.08
      09FA9605, ISS3a,    74,  1,     11a,     11,19960525,1738,-22.8907, 108.3122, 3701,     98.0,  22.6150,  35.6360,  35.6470,    141.7,    220.8,     2.93,     0.10,     0.10
      09FA9605, ISS3a,    74,  1,      8,      8,19960525,1738,-22.8907, 108.3122, 3701,    196.0,  19.0420,  35.6940,  35.7360,    131.8,    182.6,     5.75,     5.07,     0.31
      09FA9605, ISS3a,    74,  1,      5,      5,19960525,1738,-22.8907, 108.3122, 3701,    296.0,  14.6320,  35.4800,  35.5600,    157.1,    208.7,     4.48,     5.75,     0.42
      09FA9605, ISS3a,    74,  1,     10,     10,19960525,1738,-22.8907, 108.3122, 3701,    394.0,  11.4660,  35.0180,  35.0380,    180.7,    229.1,     3.99,    10.62,     0.73
      09FA9605, ISS3a,    74,  1,      7,      7,19960525,1738,-22.8907, 108.3122, 3701,    494.0,   9.6550,  34.7340,  34.7630,    202.6,    237.5,     4.38,    14.90,     0.99
      09FA9605, ISS3a,    74,  1,      6,      6,19960525,1738,-22.8907, 108.3122, 3701,    594.0,   8.5720,  34.6100,  34.6170,    208.0,    219.3,     8.96,    20.16,     1.34
      09FA9605, ISS3a,    74,  1,      2,      2,19960525,1738,-22.8907, 108.3122, 3701,    794.0,   5.9140,  34.5670,  34.5640,    193.5,    128.9,    55.29,    32.42,     2.37
      09FA9605, ISS3a,    74,  1,      4,      4,19960525,1738,-22.8907, 108.3122, 3701,    990.0,   5.2150,  34.6150,  34.6190,    197.9,    101.6,    81.37,    35.43,     2.67
      09FA9605, ISS3a,    74,  1,     16,     16,19960525,1738,-22.8907, 108.3122, 3701,   1192.0,   4.5070,  34.6200,  34.6250,    211.7,    107.9,    87.69,    35.82,     2.70
      09FA9605, ISS3a,    74,  1,     13,     13,19960525,1738,-22.8907, 108.3122, 3701,   1394.0,   3.7800,  34.6180,  34.6220,    230.5,    127.5,    88.37,    35.13,     2.64
      09FA9605, ISS3a,    74,  1,     11b,     11,19960525,1738,-22.8907, 108.3122, 3701,   1592.0,   3.2200,  34.6620,  34.6670,    242.9,    133.0,    97.41,    34.94,     2.62
      09FA9605, ISS3a,    74,  1,     17,     17,19960525,1738,-22.8907, 108.3122, 3701,   1792.0,   2.7980,  34.6890,  34.6940,    255.6,    142.7,   103.05,    34.54,     2.57
      09FA9605, ISS3a,    74,  1,     22,     22,19960525,1738,-22.8907, 108.3122, 3701,   1992.0,   2.4600,  34.7120,  34.7130,    266.1,    148.1,   109.37,    34.35,     2.55
      09FA9605, ISS3a,    74,  1,     24,     24,19960525,1738,-22.8907, 108.3122, 3701,   2192.0,   2.2600,  34.7200,  34.7250,    275.4,    151.8,   113.26,    34.15,     2.51
      09FA9605, ISS3a,    74,  1,     21,     21,19960525,1738,-22.8907, 108.3122, 3701,   2394.0,   2.0770,  34.7240,  34.7250,    284.7,    157.8,   116.66,    33.86,     2.50
      09FA9605, ISS3a,    74,  1,      9,      9,19960525,1738,-22.8907, 108.3122, 3701,   2594.0,   1.9150,  34.7260,  34.7270,    293.6,    165.4,   116.95,    33.57,     2.45
      09FA9605, ISS3a,    74,  1,     18,     18,19960525,1738,-22.8907, 108.3122, 3701,   2794.0,   1.7790,  34.7260,  34.7270,    302.9,    167.4,   117.63,    33.28,     2.42
      09FA9605, ISS3a,    74,  1,     15,     15,19960525,1738,-22.8907, 108.3122, 3701,   2996.0,   1.6490,  34.7260,  34.7290,    311.5,    174.9,   115.78,    32.98,     2.39
      09FA9605, ISS3a,    74,  1,      1,      1,19960525,1738,-22.8907, 108.3122, 3701,   3200.0,   1.5340,  34.7250,  34.7250,    320.5,    181.1,   118.51,    32.98,     2.37
      09FA9605, ISS3a,    74,  1,     14,     14,19960525,1738,-22.8907, 108.3122, 3701,   3396.0,   1.4090,  34.7230,  34.7240,    328.5,    184.7,   119.58,    32.79,     2.36
      09FA9605, ISS3a,    74,  1,     20,     20,19960525,1738,-22.8907, 108.3122, 3701,   3596.0,   1.2900,  34.7200,  34.7190,    336.7,    188.6,   122.30,    32.79,     2.35
      09FA9605, ISS3a,    74,  1,      3,      3,19960525,1738,-22.8907, 108.3122, 3701,   3754.0,   1.2350,  34.7180,  34.7180,    343.1,    190.0,   121.91,    32.79,     2.35
      09FA9605, ISS3a,    75,  1,     23,     23,19960525,2319,-22.7668, 108.8462, 4140,      6.0,  24.7820,  35.3800,  35.3840,    136.3,    212.8,     3.32,     0.20,     0.11
      09FA9605, ISS3a,    75,  1,     12,     12,19960525,2319,-22.7668, 108.8462, 4140,     48.0,  24.8070,  35.3790,  35.3810,    136.4,    212.9,     3.22,     0.10,     0.09
      09FA9605, ISS3a,    75,  1,     11a,     11,19960525,2319,-22.7668, 108.8462, 4140,     98.0,  23.0180,  35.5760,  35.5380,    141.2,    219.0,     3.12,     0.10,     0.10
      09FA9605, ISS3a,    75,  1,      8,      8,19960525,2319,-22.7668, 108.8462, 4140,    196.0,  18.9530,  35.8230,  35.8090,    137.4,    190.3,     4.58,     4.09,     0.27
      09FA9605, ISS3a,    75,  1,      5,      5,19960525,2319,-22.7668, 108.8462, 4140,    396.0,  11.9320,  35.1010,  35.1800,    182.7,    229.6,     2.73,     8.47,     0.57
      09FA9605, ISS3a,    75,  1,     10,     10,19960525,2319,-22.7668, 108.8462, 4140,    594.0,   8.9640,  34.6440,  34.6590,    210.8,    225.0,     7.11,    18.41,     1.22
      09FA9605, ISS3a,    75,  1,      7,      7,19960525,2319,-22.7668, 108.8462, 4140,    792.0,   5.9940,  34.4900,  34.5000,    208.4,    157.6,    40.79,    30.67,     2.18
      09FA9605, ISS3a,    75,  1,      6,      6,19960525,2319,-22.7668, 108.8462, 4140,    992.0,   5.2710,  34.5970,  34.6050,    200.3,    107.9,    74.76,    34.75,     2.62
      09FA9605, ISS3a,    75,  1,      2,      2,19960525,2319,-22.7668, 108.8462, 4140,   1192.0,   4.5490,  34.6220,  34.6340,    211.0,    107.8,    86.43,    35.23,     2.68
      09FA9605, ISS3a,    75,  1,      4,      4,19960525,2319,-22.7668, 108.8462, 4140,   1392.0,   3.8580,  34.6340,  34.6370,    227.1,    122.1,    90.32,    35.13,     2.65
      09FA9605, ISS3a,    75,  1,     16,     16,19960525,2319,-22.7668, 108.8462, 4140,   1590.0,   3.2730,  34.6590,  34.6660,    242.1,    133.2,    95.76,    34.74,     2.60
      09FA9605, ISS3a,    75,  1,     13,     13,19960525,2319,-22.7668, 108.8462, 4140,   1792.0,   2.8060,  34.6900,  34.6980,    254.7,    144.7,   101.49,    34.25,     2.54
      09FA9605, ISS3a,    75,  1,     11b,     11,19960525,2319,-22.7668, 108.8462, 4140,   1992.0,   2.4680,  34.7090,  34.7200,    266.1,    149.8,   107.52,    33.86,     2.52
      09FA9605, ISS3a,    75,  1,     17,     17,19960525,2319,-22.7668, 108.8462, 4140,   2194.0,   2.2260,  34.7200,  34.7250,    276.1,    155.7,   110.24,    33.76,     2.50
      09FA9605, ISS3a,    75,  1,     22,     22,19960525,2319,-22.7668, 108.8462, 4140,   2394.0,   2.0490,  34.7240,  34.7270,    285.2,    161.5,   110.92,    33.57,     2.46
      09FA9605, ISS3a,    75,  1,     24,     24,19960525,2319,-22.7668, 108.8462, 4140,   2594.0,   1.8990,  34.7260,  34.7290,    293.9,    165.6,   116.17,    33.18,     2.44
      09FA9605, ISS3a,    75,  1,     21,     21,19960525,2319,-22.7668, 108.8462, 4140,   2794.0,   1.7610,  34.7260,  34.7270,    303.0,    171.1,   113.55,    33.08,     2.41
      09FA9605, ISS3a,    75,  1,      9,      9,19960525,2319,-22.7668, 108.8462, 4140,   2996.0,   1.6460,  34.7260,  34.7260,    311.8,    178.0,   113.64,    32.69,     2.37
      09FA9605, ISS3a,    75,  1,     18,     18,19960525,2319,-22.7668, 108.8462, 4140,   3196.0,   1.5180,  34.7250,  34.7250,    320.6,    181.6,   115.30,    32.59,     2.35
      09FA9605, ISS3a,    75,  1,     15,     15,19960525,2319,-22.7668, 108.8462, 4140,   3396.0,   1.4230,  34.7230,  34.7230,    328.4,    184.3,   116.75,    32.50,     2.35
      09FA9605, ISS3a,    75,  1,      1,      1,19960525,2319,-22.7668, 108.8462, 4140,   3598.0,   1.3310,  34.7210,  34.7210,    336.2,    187.9,   118.31,    32.40,     2.34
      09FA9605, ISS3a,    75,  1,     14,     14,19960525,2319,-22.7668, 108.8462, 4140,   3796.0,   1.2730,  34.7190,  34.7210,    343.5,    189.6,   117.14,    32.40,     2.36
      09FA9605, ISS3a,    75,  1,     20,     20,19960525,2319,-22.7668, 108.8462, 4140,   3998.0,   1.2650,  34.7180,  34.7180,    350.0,    190.2,   113.15,    32.40,     2.34
      09FA9605, ISS3a,    75,  1,      3,      3,19960525,2319,-22.7668, 108.8462, 4140,   4198.0,   1.2390,  34.7180,  34.7170,    356.0,    190.3,   116.75,    32.40,     2.34