BOTTLE,20220929CCHSIOAMB
# Disambiguated duplicate SAMPNOs with different data by adding sequential letters, SAMPNOs were fabricated from BTLNBR to begin with.
#BOTTLE,20220207CCHSIOENA
# added SAMPNO column [SAMPNO values copied from BTLNBR column]
# changed units for CTDPRS from DBARS to DBAR
# BOTTLE,20001221WHPSIODM
#original HYD file: f9605hyd.txt 
#original CTD file: fr9605cd.txt
#
#IMPORTANT NOTE: Originator's bottle data file does not contain up-cast CTD temperature, up-cast 
#CTD salinity or up-cast CTD oxygen at the bottle trip pressure. Used down-cast pressure, 
#temperature, salinity and oxygen at the nearest down-cast pressure to the bottle trip 
#pressure(assumed to be from the up-cast).
#CDNPRS CTD down-cast pressure
#CDNTMP CTD down-cast temperature
#CDNSAL CTD down-cast salinity
#CDNOXY CTD down-cast oxygen. Appear to be uncorrected. Poor match with bottle oxygens.
#
#Also used the corresponding originator's down-cast Sigma-T to convert originator's uMol/Liter
#oxygen and nutrient values to uMol/kg.
#
#CTD down-cast pressures used are 1db or less different from bottle trip pressures listed
#except for 3 cases(stations 42, 84 & 91) where deepest bottle pressure is deeper than deepest 
#CTD pressure by more than 1db but less than 2db.
#
#Silicate values originally reported to tenths uMol/L. The values below are to hundredths uMol/kg
#solely because of the units conversion.
#
#No Nitrite given. Do not know if value labeled NITRAT is Nitrate or NO2+NO3.
#
#No Quality Code information available.
#
#EXPOCODE,SECT_ID,STNNBR,CASTNO,BTLNBR,BTLNBR,DATE,TIME,LATITUDE,LONGITUDE,DEPTH,CDNPRS,CDNTMP,CDNSAL,SALNTY,CDNOXY,OXYGEN,SILCAT,NITRAT,PHSPHT
#OceanAtlas does not accept CDNPRS, CDNTMP, CDNSAL or CDNOXY so using original designations for
#OA check.
EXPOCODE,SECT_ID,STNNBR,CASTNO,SAMPNO,BTLNBR,DATE,TIME,LATITUDE,LONGITUDE,DEPTH,CTDPRS,CTDTMP,CTDSAL,SALNTY,CTDOXY,OXYGEN,SILCAT,NITRAT,PHSPHT
,,,,,,,,,,,DBAR,ITS-90,PSS-78,PSS-78,UMOL/KG,UMOL/KG,UMOL/KG,UMOL/KG,UMOL/KG
      09FA9605, ISS3a,     2,  1,     23,     23,19960509,0533,-34.1768, 114.5030,  179,      2.0,  20.9510,  35.8650,  35.8800,    157.4,    224.5,     2.63,     0.10,     0.15
      09FA9605, ISS3a,     2,  1,     14,     14,19960509,0533,-34.1768, 114.5030,  179,     48.0,  20.9440,  35.8780,  35.8790,    152.0,    228.9,     2.73,     0.00,     0.15
      09FA9605, ISS3a,     2,  1,      3,      3,19960509,0533,-34.1768, 114.5030,  179,     98.0,  20.8000,  35.9330,  35.9320,    152.5,    225.5,     2.54,     0.00,     0.17
      09FA9605, ISS3a,     2,  1,      4,      4,19960509,0533,-34.1768, 114.5030,  179,    148.0,  19.5860,  35.9360,  35.9370,    155.9,    229.2,     2.24,     0.20,     0.16
      09FA9605, ISS3a,     2,  1,      2,      2,19960509,0533,-34.1768, 114.5030,  179,    172.0,  19.1510,  35.9170,  35.9150,    158.8,   -999.0,     2.14,     0.19,     0.16
      09FA9605, ISS3a,     3,  1,     23,     23,19960510,0516,-34.1782, 114.2575, 1060,      4.0,  19.3330,  35.8850,  35.8860,    161.4,    233.0,     2.15,     0.00,     0.16
      09FA9605, ISS3a,     3,  1,      4,      4,19960510,0516,-34.1782, 114.2575, 1060,     46.0,  19.3470,  35.8860,  35.8830,    161.7,    233.6,     2.15,     0.10,     0.16
      09FA9605, ISS3a,     3,  1,     16,     16,19960510,0516,-34.1782, 114.2575, 1060,     98.0,  18.6550,  35.8850,  35.8820,    163.2,    232.7,     1.95,     0.10,     0.17
      09FA9605, ISS3a,     3,  1,     13,     13,19960510,0516,-34.1782, 114.2575, 1060,    152.0,  16.5780,  35.6390,  35.6510,    168.3,    239.8,     1.46,     1.36,     0.29
      09FA9605, ISS3a,     3,  1,      5,      5,19960510,0516,-34.1782, 114.2575, 1060,    198.0,  13.7650,  35.3330,  35.3460,    179.0,    242.1,     1.46,     4.48,     0.48
      09FA9605, ISS3a,     3,  1,     17,     17,19960510,0516,-34.1782, 114.2575, 1060,    250.0,  13.0560,  35.2290,-999.0000,    188.5,    245.0,     1.56,     6.14,     0.56
      09FA9605, ISS3a,     3,  1,     19,     19,19960510,0516,-34.1782, 114.2575, 1060,    298.0,  11.8400,  35.0300,  34.9950,    196.7,    248.0,     2.05,     9.06,     0.74
      09FA9605, ISS3a,     3,  1,     24,     24,19960510,0516,-34.1782, 114.2575, 1060,    396.0,  10.2180,  34.7970,  34.7990,    208.2,    247.5,     3.31,    13.44,     0.99
      09FA9605, ISS3a,     3,  1,     21,     21,19960510,0516,-34.1782, 114.2575, 1060,    496.0,   9.3540,  34.6780,  34.6800,    219.9,    248.2,     4.38,    16.07,     1.16
      09FA9605, ISS3a,     3,  1,      9,      9,19960510,0516,-34.1782, 114.2575, 1060,    596.0,   8.9640,  34.6280,  34.6330,    224.2,    244.4,     5.55,    17.92,     1.27
      09FA9605, ISS3a,     3,  1,     18,     18,19960510,0516,-34.1782, 114.2575, 1060,    696.0,   8.2320,  34.5470,  34.5470,    223.5,    227.9,     8.76,    21.33,     1.48
      09FA9605, ISS3a,     3,  1,     15,     15,19960510,0516,-34.1782, 114.2575, 1060,    794.0,   7.0090,  34.4680,  34.4700,    222.1,    202.9,    16.46,    25.90,     1.76
      09FA9605, ISS3a,     3,  1,      1,      1,19960510,0516,-34.1782, 114.2575, 1060,   1000.0,   3.9700,  34.4580,  34.4570,    233.1,    170.7,    57.14,    33.00,     2.38
      09FA9605, ISS3a,     3,  1,      2,      2,19960510,0516,-34.1782, 114.2575, 1060,   1050.0,   3.8030,  34.4790,  34.4790,    236.0,    166.1,    62.39,    33.48,     2.41
      09FA9605, ISS3a,     4,  1,     23,     23,19960510,0829,-34.1975, 114.0422, 1419,      2.0,  20.0760,  35.9040,  35.9030,    160.1,    228.0,     2.54,     0.10,     0.19
      09FA9605, ISS3a,     4,  1,      4,      4,19960510,0829,-34.1975, 114.0422, 1419,     48.0,  20.0770,  35.8970,  35.9010,    161.4,    229.8,     2.44,     0.20,     0.18
      09FA9605, ISS3a,     4,  1,     16,     16,19960510,0829,-34.1975, 114.0422, 1419,    100.0,  19.2620,  35.9120,  35.9240,    160.9,    231.5,     2.34,     0.19,     0.18
      09FA9605, ISS3a,     4,  1,     13,     13,19960510,0829,-34.1975, 114.0422, 1419,    146.0,  17.7160,  35.8010,  35.7140,    166.3,    235.4,     1.36,     0.39,     0.22
      09FA9605, ISS3a,     4,  1,      5,      5,19960510,0829,-34.1975, 114.0422, 1419,    200.0,  14.3030,  35.4140,  35.4470,    176.5,    241.3,     1.36,     2.83,     0.40
      09FA9605, ISS3a,     4,  1,     17,     17,19960510,0829,-34.1975, 114.0422, 1419,    250.0,  12.8970,  35.2030,  35.2170,    185.8,    244.0,     1.66,     5.94,     0.59
      09FA9605, ISS3a,     4,  1,     19,     19,19960510,0829,-34.1975, 114.0422, 1419,    300.0,  11.6410,  35.0000,  35.0270,    194.5,    249.3,     2.05,     8.77,     0.74
      09FA9605, ISS3a,     4,  1,     24,     24,19960510,0829,-34.1975, 114.0422, 1419,    396.0,  10.0600,  34.7730,  34.7640,    207.8,    249.5,     3.60,    14.02,     1.02
      09FA9605, ISS3a,     4,  1,     21,     21,19960510,0829,-34.1975, 114.0422, 1419,    498.0,   9.3840,  34.6800,  34.6920,    218.5,    251.1,     4.29,    15.78,     1.12
      09FA9605, ISS3a,     4,  1,      9,      9,19960510,0829,-34.1975, 114.0422, 1419,    596.0,   9.0660,  34.6410,  34.6420,    225.2,    245.8,     5.16,    17.24,     1.21
      09FA9605, ISS3a,     4,  1,     18,     18,19960510,0829,-34.1975, 114.0422, 1419,    696.0,   8.4230,  34.5650,  34.5720,    224.1,    233.0,     7.69,    20.45,     1.41
      09FA9605, ISS3a,     4,  1,     15,     15,19960510,0829,-34.1975, 114.0422, 1419,    794.0,   7.3770,  34.4860,  34.4790,    221.2,   -999.0,    15.48,    25.41,     1.74
      09FA9605, ISS3a,     4,  1,     14,     14,19960510,0829,-34.1975, 114.0422, 1419,    794.0,   7.3770,  34.4860,  34.4800,    221.2,    204.7,    15.48,    25.41,     1.73
      09FA9605, ISS3a,     4,  1,      3,      3,19960510,0829,-34.1975, 114.0422, 1419,   1196.0,   3.5130,  34.4700,  34.4740,    244.7,    171.5,    62.00,    33.29,     2.38
      09FA9605, ISS3a,     4,  1,      1,      1,19960510,0829,-34.1975, 114.0422, 1419,   1196.0,   3.5130,  34.4700,  34.4740,    244.7,    172.5,    62.29,    33.58,     2.40
      09FA9605, ISS3a,     4,  1,      2,      2,19960510,0829,-34.1975, 114.0422, 1419,   1406.0,   3.1380,  34.5770,  34.5800,    248.3,    158.6,    80.39,    34.06,     2.48
      09FA9605, ISS3a,     5,  1,     23,     23,19960510,1224,-34.1300, 113.7695, 2207,      4.0,  20.2890,  35.9410,  35.9540,    168.4,    220.3,     2.73,     0.20,     0.17
      09FA9605, ISS3a,     5,  1,      7,      7,19960510,1224,-34.1300, 113.7695, 2207,     46.0,  20.2500,  35.9390,  35.9300,    166.6,    225.5,     2.73,     0.29,     0.17
      09FA9605, ISS3a,     5,  1,      6,      6,19960510,1224,-34.1300, 113.7695, 2207,    100.0,  19.6540,  35.9330,  35.9380,    166.0,    228.6,     2.44,     0.20,     0.16
      09FA9605, ISS3a,     5,  1,      2,      2,19960510,1224,-34.1300, 113.7695, 2207,    150.0,  18.6620,  35.8540,  35.7800,    167.4,    236.2,     1.75,     0.19,     0.19
      09FA9605, ISS3a,     5,  1,      4,      4,19960510,1224,-34.1300, 113.7695, 2207,    248.0,  13.2790,  35.2770,  35.2580,    183.2,    243.8,     1.85,     6.14,     0.55
      09FA9605, ISS3a,     5,  1,     16,     16,19960510,1224,-34.1300, 113.7695, 2207,    298.0,  11.9260,  35.0740,  35.0930,    194.8,    247.5,     2.05,     8.08,     0.65
      09FA9605, ISS3a,     5,  1,     13,     13,19960510,1224,-34.1300, 113.7695, 2207,    398.0,  10.6170,  34.8800,  34.8670,    212.8,    254.5,     3.12,    11.69,     0.88
      09FA9605, ISS3a,     5,  1,      5,      5,19960510,1224,-34.1300, 113.7695, 2207,    496.0,   9.8160,  34.7520,  34.7530,    220.6,    252.7,     4.29,    14.51,     1.02
      09FA9605, ISS3a,     5,  1,     17,     17,19960510,1224,-34.1300, 113.7695, 2207,    594.0,   9.3210,  34.6770,  34.6790,    225.1,    249.8,     4.97,    16.46,     1.14
      09FA9605, ISS3a,     5,  1,     19,     19,19960510,1224,-34.1300, 113.7695, 2207,    698.0,   8.8010,  34.6080,  34.6040,    227.3,    239.3,     6.72,    18.89,     1.30
      09FA9605, ISS3a,     5,  1,     24,     24,19960510,1224,-34.1300, 113.7695, 2207,    796.0,   7.6560,  34.5020,  34.5060,    223.3,    214.9,    12.17,    23.47,     1.58
      09FA9605, ISS3a,     5,  1,     21,     21,19960510,1224,-34.1300, 113.7695, 2207,    996.0,   4.6840,  34.3860,  34.3790,    237.3,    197.5,    35.63,    30.67,     2.14
      09FA9605, ISS3a,     5,  1,      9,      9,19960510,1224,-34.1300, 113.7695, 2207,   1194.0,   3.5450,  34.4430,  34.4390,    247.3,    178.6,    57.04,    32.90,     2.34
      09FA9605, ISS3a,     5,  1,     18,     18,19960510,1224,-34.1300, 113.7695, 2207,   1394.0,   3.1260,  34.5200,  34.5270,    252.6,    166.4,    72.21,    33.97,     2.40
      09FA9605, ISS3a,     5,  1,     15,     15,19960510,1224,-34.1300, 113.7695, 2207,   1594.0,   2.7950,  34.6000,  34.5980,    259.2,    164.3,    80.29,    33.48,     2.41
      09FA9605, ISS3a,     5,  1,      3,      3,19960510,1224,-34.1300, 113.7695, 2207,   1594.0,   2.7950,  34.6000,  34.5960,    259.2,    164.9,    80.09,    33.67,     2.38
      09FA9605, ISS3a,     5,  1,     14,     14,19960510,1224,-34.1300, 113.7695, 2207,   1996.0,   2.4160,  34.7000,  34.7000,    271.9,    166.9,    98.67,    32.60,     2.32
      09FA9605, ISS3a,     5,  1,      1,      1,19960510,1224,-34.1300, 113.7695, 2207,   1996.0,   2.4160,  34.7000,  34.6980,    271.9,    166.7,   101.00,    32.89,     2.35
      09FA9605, ISS3a,     5,  1,     20,     20,19960510,1224,-34.1300, 113.7695, 2207,   2192.0,   2.2510,  34.7180,  34.7160,    279.5,    172.1,   105.28,    32.60,     2.34
      09FA9605, ISS3a,     6,  1,     23,     23,19960510,2150,-34.1640, 113.5620, -999,      4.0,  21.2220,  35.8060,  35.8110,    163.8,    220.6,     2.93,     0.29,     0.20
      09FA9605, ISS3a,     6,  1,      8,      8,19960510,2150,-34.1640, 113.5620, -999,     48.0,  21.2040,  35.8540,  35.8570,    157.1,    226.5,     2.83,     0.20,     0.18
      09FA9605, ISS3a,     6,  1,     22,     22,19960510,2150,-34.1640, 113.5620, -999,    100.0,  20.8630,  36.0300,  36.0410,    154.5,    223.5,     2.44,     0.49,     0.20
      09FA9605, ISS3a,     6,  1,     12,     12,19960510,2150,-34.1640, 113.5620, -999,    150.0,  19.8040,  35.9530,  35.9690,    154.7,    222.8,     2.73,     0.78,     0.23
      09FA9605, ISS3a,     6,  1,     11,     11,19960510,2150,-34.1640, 113.5620, -999,    202.0,  14.9520,  35.4940,  35.5460,    171.2,    238.5,     1.75,     2.63,     0.38
      09FA9605, ISS3a,     6,  1,      7,      7,19960510,2150,-34.1640, 113.5620, -999,    250.0,  12.8150,  35.2120,  35.2500,    182.7,    243.0,     1.85,     6.14,     0.56
      09FA9605, ISS3a,     6,  1,      6,      6,19960510,2150,-34.1640, 113.5620, -999,    302.0,  11.9580,  35.0670,  35.1190,    192.7,    247.1,     2.05,     7.69,     0.65
      09FA9605, ISS3a,     6,  1,      2,      2,19960510,2150,-34.1640, 113.5620, -999,    398.0,  10.6560,  34.8780,  34.8540,    209.6,    248.8,     3.02,    11.88,     0.90
      09FA9605, ISS3a,     6,  1,     10,     10,19960510,2150,-34.1640, 113.5620, -999,    500.0,   9.8260,  34.7490,  34.7330,    219.5,    251.7,     4.09,    14.71,  -999.00
      09FA9605, ISS3a,     6,  1,      4,      4,19960510,2150,-34.1640, 113.5620, -999,    600.0,   9.3210,  34.6710,  34.6740,    226.2,    248.4,     4.77,    16.26,     1.18
      09FA9605, ISS3a,     6,  1,     16,     16,19960510,2150,-34.1640, 113.5620, -999,    696.0,   8.7670,  34.6000,  34.6300,    228.1,    242.3,     5.65,    17.82,     1.27
      09FA9605, ISS3a,     6,  1,     13,     13,19960510,2150,-34.1640, 113.5620, -999,    796.0,   7.8340,  34.5090,  34.5240,    226.2,    220.5,    10.42,    22.30,     1.55
      09FA9605, ISS3a,     6,  1,      5,      5,19960510,2150,-34.1640, 113.5620, -999,    894.0,   6.6580,  34.4410,  34.4490,    227.8,    203.9,    18.01,    26.48,     1.85
      09FA9605, ISS3a,     6,  1,     17,     17,19960510,2150,-34.1640, 113.5620, -999,    996.0,   4.8940,  34.3740,  34.3830,    239.4,    199.8,    29.60,    29.69,     2.12
      09FA9605, ISS3a,     6,  1,     19,     19,19960510,2150,-34.1640, 113.5620, -999,   1192.0,   3.6810,  34.4230,  34.4370,    250.3,    178.8,    54.22,    32.80,     2.40
      09FA9605, ISS3a,     6,  1,     24,     24,19960510,2150,-34.1640, 113.5620, -999,   1392.0,   3.1920,  34.5240,  34.5300,    252.0,    164.7,    70.66,    33.87,     2.52
      09FA9605, ISS3a,     6,  1,     21,     21,19960510,2150,-34.1640, 113.5620, -999,   1594.0,   2.8190,  34.5960,  34.5990,    260.3,    164.4,    78.05,    33.57,     2.48
      09FA9605, ISS3a,     6,  1,      9,      9,19960510,2150,-34.1640, 113.5620, -999,   1796.0,   2.6090,  34.6570,  34.6610,    267.2,    165.8,    87.29,    33.09,     2.45
      09FA9605, ISS3a,     6,  1,     18,     18,19960510,2150,-34.1640, 113.5620, -999,   1996.0,   2.4120,  34.6980,  34.7030,    274.5,    170.4,    94.48,    32.60,     2.40
      09FA9605, ISS3a,     6,  1,     15,     15,19960510,2150,-34.1640, 113.5620, -999,   2196.0,   2.2230,  34.7190,  34.7200,    282.9,    173.2,    99.44,    32.50,     2.38
      09FA9605, ISS3a,     6,  1,      3,      3,19960510,2150,-34.1640, 113.5620, -999,   2196.0,   2.2230,  34.7190,  34.7210,    282.9,    173.9,    99.64,    32.40,     2.38
      09FA9605, ISS3a,     6,  1,     14,     14,19960510,2150,-34.1640, 113.5620, -999,   2596.0,   1.9570,  34.7300,  34.7320,    297.9,    181.4,   105.67,    32.21,     2.38
      09FA9605, ISS3a,     6,  1,      1,      1,19960510,2150,-34.1640, 113.5620, -999,   2596.0,   1.9570,  34.7300,  34.7300,    297.9,    181.6,   107.03,    32.21,     2.34
      09FA9605, ISS3a,     6,  1,     20,     20,19960510,2150,-34.1640, 113.5620, -999,   2990.0,   1.5300,  34.7290,  34.7290,    316.3,    194.0,   114.13,    31.91,     2.34