BOTTLE,20220929CCHSIOAMB
EXPOCODE,SECT_ID,STNNBR,CASTNO,SAMPNO,BTLNBR,DATE,TIME,LATITUDE,LONGITUDE,DEPTH,CTDPRS,CTDTMP,CTDSAL,SALNTY,CTDOXY,OXYGEN,SILCAT,NITRAT,PHSPHT
,,,,,,,,,,,DBAR,ITS-90,PSS-78,PSS-78,UMOL/KG,UMOL/KG,UMOL/KG,UMOL/KG,UMOL/KG
      09FA9605, ISS3a,    68,  1,     12,     12,19960524,0610,-24.2960, 105.7297, 5393,     98.0,  19.6810,  35.7870,-999.0000,    136.9,    220.1,     3.02,     0.88,     0.18
      09FA9605, ISS3a,    68,  1,     11a,     11,19960524,0610,-24.2960, 105.7297, 5393,    196.0,  16.7860,  35.8400,-999.0000,    155.7,    217.3,     2.44,     2.34,     0.29
      09FA9605, ISS3a,    68,  1,      8,      8,19960524,0610,-24.2960, 105.7297, 5393,    394.0,  10.6330,  34.8890,-999.0000,    197.0,    239.9,     3.12,    11.01,     0.81
      09FA9605, ISS3a,    68,  1,      5,      5,19960524,0610,-24.2960, 105.7297, 5393,    594.0,   8.5990,  34.5970,-999.0000,    215.0,    226.6,     6.91,    19.48,     1.32
      09FA9605, ISS3a,    68,  1,     10,     10,19960524,0610,-24.2960, 105.7297, 5393,    794.0,   5.3820,  34.4550,-999.0000,    216.6,    165.6,    43.03,    31.25,     2.23
      09FA9605, ISS3a,    68,  1,      7,      7,19960524,0610,-24.2960, 105.7297, 5393,    994.0,   4.5390,  34.5670,-999.0000,    212.4,    127.1,    73.00,    34.65,     2.55
      09FA9605, ISS3a,    68,  1,      6a,      6,19960524,0610,-24.2960, 105.7297, 5393,   1194.0,   3.9930,  34.5980,-999.0000,    223.0,    125.0,    84.77,    35.13,     2.60
      09FA9605, ISS3a,    68,  1,      2,      2,19960524,0610,-24.2960, 105.7297, 5393,   1392.0,   3.5030,  34.6170,-999.0000,    236.0,    133.8,    87.69,    34.94,     2.57
      09FA9605, ISS3a,    68,  1,      4,      4,19960524,0610,-24.2960, 105.7297, 5393,   1594.0,   3.0110,  34.6520,-999.0000,    249.3,    144.4,    91.77,    34.45,     2.51
      09FA9605, ISS3a,    68,  1,      6b,      6,19960524,0610,-24.2960, 105.7297, 5393,   1794.0,   2.6560,  34.6910,-999.0000,    259.7,    148.8,    99.35,    34.16,     2.50
      09FA9605, ISS3a,    68,  1,     13,     13,19960524,0610,-24.2960, 105.7297, 5393,   1994.0,   2.3890,  34.7110,-999.0000,    269.5,    155.2,   104.50,    33.86,     2.46
      09FA9605, ISS3a,    68,  1,     11b,     11,19960524,0610,-24.2960, 105.7297, 5393,   2196.0,   2.1350,  34.7220,-999.0000,    278.8,    160.8,   109.07,    33.67,     2.44
      09FA9605, ISS3a,    68,  1,     17,     17,19960524,0610,-24.2960, 105.7297, 5393,   2394.0,   1.9890,  34.7250,-999.0000,    287.0,    164.8,   111.89,    33.37,     2.42
      09FA9605, ISS3a,    68,  1,     22,     22,19960524,0610,-24.2960, 105.7297, 5393,   2696.0,   1.8090,  34.7260,-999.0000,    299.3,    171.3,   115.01,    33.28,     2.39
      09FA9605, ISS3a,    68,  1,     24,     24,19960524,0610,-24.2960, 105.7297, 5393,   2996.0,   1.6000,  34.7250,-999.0000,    311.6,    177.6,   117.34,    32.98,     2.36
      09FA9605, ISS3a,    68,  1,     21,     21,19960524,0610,-24.2960, 105.7297, 5393,   3294.0,   1.4850,  34.7230,-999.0000,    322.7,    181.7,   120.55,    32.50,     2.34
      09FA9605, ISS3a,    68,  1,      9,      9,19960524,0610,-24.2960, 105.7297, 5393,   3596.0,   1.3690,  34.7200,-999.0000,    334.0,    185.3,   119.87,    32.59,     2.34
      09FA9605, ISS3a,    68,  1,     18,     18,19960524,0610,-24.2960, 105.7297, 5393,   3896.0,   1.2600,  34.7180,-999.0000,    345.7,    190.3,   119.58,    32.50,     2.33
      09FA9605, ISS3a,    68,  1,     15,     15,19960524,0610,-24.2960, 105.7297, 5393,   4196.0,   1.2010,  34.7160,-999.0000,    356.8,    189.6,   120.16,    32.69,     2.33
      09FA9605, ISS3a,    68,  1,     14,     14,19960524,0610,-24.2960, 105.7297, 5393,   4796.0,   1.1200,  34.7130,-999.0000,    380.4,    202.7,   120.35,    32.40,     2.28
      09FA9605, ISS3a,    68,  1,     20,     20,19960524,0610,-24.2960, 105.7297, 5393,   5094.0,   1.0860,  34.7110,-999.0000,    392.6,    202.4,   120.74,    32.40,     2.29
      09FA9605, ISS3a,    68,  1,     23,     23,19960524,0610,-24.2960, 105.7297, 5393,   5450.0,   1.1040,  34.7110,-999.0000,    405.0,    207.5,   120.84,    31.62,     2.22
      09FA9605, ISS3a,    68,  1,      3,      3,19960524,0610,-24.2960, 105.7297, 5393,   5450.0,   1.1040,  34.7110,-999.0000,    405.0,    206.1,   119.38,    32.30,     2.27
      09FA9605, ISS3a,    69,  1,     23,     23,19960524,1239,-24.1205, 106.1925, 5611,      2.0,  23.6520,  35.4290,  35.4410,    150.9,    219.0,     2.54,     0.10,     0.10
      09FA9605, ISS3a,    69,  1,     12,     12,19960524,1239,-24.1205, 106.1925, 5611,     98.0,  20.9970,  35.8910,  35.9370,    147.7,    217.3,     2.63,     0.10,     0.13
      09FA9605, ISS3a,    69,  1,     11a,     11,19960524,1239,-24.1205, 106.1925, 5611,    196.0,  18.0440,  35.9250,  35.9190,    149.4,    211.3,     2.34,     2.05,     0.25
      09FA9605, ISS3a,    69,  1,      8,      8,19960524,1239,-24.1205, 106.1925, 5611,    396.0,  11.6000,  35.0430,  35.0480,    186.4,    235.9,     2.53,     9.64,     0.72
      09FA9605, ISS3a,    69,  1,      5a,      5,19960524,1239,-24.1205, 106.1925, 5611,    594.0,   8.8990,  34.6290,  34.6630,    212.9,    232.9,     5.45,    17.82,     1.20
      09FA9605, ISS3a,    69,  1,     10,     10,19960524,1239,-24.1205, 106.1925, 5611,    796.0,   5.8780,  34.4630,  34.4740,    212.6,    172.4,    34.66,    29.89,     2.08
      09FA9605, ISS3a,    69,  1,      7,      7,19960524,1239,-24.1205, 106.1925, 5611,    994.0,   4.7100,  34.5530,  34.5390,    209.5,    132.9,    68.33,    34.65,     2.49
      09FA9605, ISS3a,    69,  1,      6,      6,19960524,1239,-24.1205, 106.1925, 5611,   1194.0,   4.1170,  34.6020,  34.5970,    219.3,    124.1,    84.58,    35.62,     2.59
      09FA9605, ISS3a,    69,  1,      2,      2,19960524,1239,-24.1205, 106.1925, 5611,   1396.0,   3.4920,  34.6330,  34.6260,    234.2,    134.9,    89.53,    35.33,     2.56
      09FA9605, ISS3a,    69,  1,      4,      4,19960524,1239,-24.1205, 106.1925, 5611,   1592.0,   3.0010,  34.6590,  34.6610,    249.0,    143.5,    94.39,    34.84,     2.51
      09FA9605, ISS3a,    69,  1,     16,     16,19960524,1239,-24.1205, 106.1925, 5611,   1792.0,   2.6390,  34.6970,  34.6970,    259.6,    149.5,   102.76,    34.54,     2.48
      09FA9605, ISS3a,    69,  1,     13,     13,19960524,1239,-24.1205, 106.1925, 5611,   1992.0,   2.3610,  34.7140,  34.7160,    269.0,    154.8,   109.76,    34.45,     2.46
      09FA9605, ISS3a,    69,  1,     11b,     11,19960524,1239,-24.1205, 106.1925, 5611,   2190.0,   2.1820,  34.7210,  34.7250,    277.4,    157.8,   113.75,    34.25,     2.44
      09FA9605, ISS3a,    69,  1,     17,     17,19960524,1239,-24.1205, 106.1925, 5611,   2394.0,   2.0440,  34.7240,  34.7270,    285.1,    163.1,   116.76,    34.06,     2.42
      09FA9605, ISS3a,    69,  1,     22,     22,19960524,1239,-24.1205, 106.1925, 5611,   2692.0,   1.8280,  34.7260,  34.7300,    298.3,    169.3,   118.12,    33.76,     2.38
      09FA9605, ISS3a,    69,  1,     24,     24,19960524,1239,-24.1205, 106.1925, 5611,   2994.0,   1.6570,  34.7260,  34.7290,    311.3,    178.1,   118.99,    33.47,     2.33
      09FA9605, ISS3a,    69,  1,     21,     21,19960524,1239,-24.1205, 106.1925, 5611,   3294.0,   1.4840,  34.7240,  34.7240,    323.4,    182.6,   121.91,    33.28,     2.34
      09FA9605, ISS3a,    69,  1,      9,      9,19960524,1239,-24.1205, 106.1925, 5611,   3592.0,   1.3530,  34.7210,  34.7200,    334.4,    186.5,   123.76,    33.18,     2.33
      09FA9605, ISS3a,    69,  1,     18,     18,19960524,1239,-24.1205, 106.1925, 5611,   3896.0,   1.2770,  34.7200,  34.7200,    345.6,    189.4,   124.15,    33.18,     2.32
      09FA9605, ISS3a,    69,  1,      5b,      5,19960524,1239,-24.1205, 106.1925, 5611,   4194.0,   1.2280,  34.7170,  34.7180,    356.2,    192.2,   123.37,    33.18,     2.32
      09FA9605, ISS3a,    69,  1,      1,      1,19960524,1239,-24.1205, 106.1925, 5611,   4492.0,   1.2060,  34.7160,  34.7170,    366.6,    194.5,   125.12,    32.98,     2.30
      09FA9605, ISS3a,    69,  1,     14,     14,19960524,1239,-24.1205, 106.1925, 5611,   4492.0,   1.2060,  34.7160,  34.7180,    366.6,    194.1,   125.41,    32.98,     2.30
      09FA9605, ISS3a,    69,  1,     20,     20,19960524,1239,-24.1205, 106.1925, 5611,   4794.0,   1.1920,  34.7160,  34.7160,    377.4,    197.2,   124.54,    32.89,     2.29
      09FA9605, ISS3a,    69,  1,      3,      3,19960524,1239,-24.1205, 106.1925, 5611,   5098.0,   1.1660,  34.7140,  34.7140,    389.2,    200.6,   123.56,    32.79,     2.28
      09FA9605, ISS3a,    70,  1,     23,     23,19960524,1924,-23.7900, 106.6297, 5153,      4.0,  24.0390,  35.4380,  35.4370,    144.0,    215.8,     2.93,     0.10,     0.10
      09FA9605, ISS3a,    70,  1,     12,     12,19960524,1924,-23.7900, 106.6297, 5153,     98.0,  22.6220,  35.6960,  35.6360,    145.1,    221.3,     2.83,     0.10,     0.11
      09FA9605, ISS3a,    70,  1,     11a,     11,19960524,1924,-23.7900, 106.6297, 5153,    196.0,  18.3860,  35.7420,  35.7890,    137.9,    187.6,     5.17,     4.39,     0.36
      09FA9605, ISS3a,    70,  1,      8,      8,19960524,1924,-23.7900, 106.6297, 5153,    394.0,  11.9480,  35.0980,  35.0960,    183.1,    233.7,     2.73,     9.35,     0.68
      09FA9605, ISS3a,    70,  1,      5a,      5,19960524,1924,-23.7900, 106.6297, 5153,    594.0,   8.9420,  34.6350,  34.6430,    211.6,    232.2,     5.84,    18.41,     1.22
      09FA9605, ISS3a,    70,  1,     10,     10,19960524,1924,-23.7900, 106.6297, 5153,    792.0,   5.9830,  34.5170,  34.5290,    204.3,    146.4,    47.70,    31.83,     2.22
      09FA9605, ISS3a,    70,  1,      7,      7,19960524,1924,-23.7900, 106.6297, 5153,    992.0,   5.1250,  34.6020,  34.6080,    200.5,    107.3,    79.04,    35.63,     2.58
      09FA9605, ISS3a,    70,  1,      6,      6,19960524,1924,-23.7900, 106.6297, 5153,   1192.0,   4.4350,  34.6220,  34.6270,    213.2,    111.2,    89.64,    35.91,     2.62
      09FA9605, ISS3a,    70,  1,      2,      2,19960524,1924,-23.7900, 106.6297, 5153,   1392.0,   3.7300,  34.6320,  34.6380,    229.7,    127.0,    91.58,    35.52,     2.58
      09FA9605, ISS3a,    70,  1,      4,      4,19960524,1924,-23.7900, 106.6297, 5153,   1590.0,   3.1840,  34.6620,  34.6690,    244.2,    136.6,    96.44,    35.23,     2.53
      09FA9605, ISS3a,    70,  1,     16,     16,19960524,1924,-23.7900, 106.6297, 5153,   1792.0,   2.8260,  34.6900,  34.7010,    255.7,    144.9,   104.02,    34.74,     2.49
      09FA9605, ISS3a,    70,  1,     13,     13,19960524,1924,-23.7900, 106.6297, 5153,   1994.0,   2.5050,  34.7100,  34.7170,    266.2,    151.0,   109.66,    34.45,     2.46
      09FA9605, ISS3a,    70,  1,     11b,     11,19960524,1924,-23.7900, 106.6297, 5153,   2192.0,   2.2390,  34.7230,  34.7270,    275.9,    155.9,   114.04,    34.15,     2.44
      09FA9605, ISS3a,    70,  1,     17,     17,19960524,1924,-23.7900, 106.6297, 5153,   2394.0,   2.0680,  34.7280,  34.7310,    284.3,    159.4,   117.15,    34.15,     2.42
      09FA9605, ISS3a,    70,  1,     22,     22,19960524,1924,-23.7900, 106.6297, 5153,   2592.0,   1.9330,  34.7290,  34.7320,    292.6,    164.5,   117.44,    34.05,     2.40
      09FA9605, ISS3a,    70,  1,     24,     24,19960524,1924,-23.7900, 106.6297, 5153,   2896.0,   1.7220,  34.7290,  34.7360,    306.0,    172.4,   118.22,    33.28,     2.34
      09FA9605, ISS3a,    70,  1,     21,     21,19960524,1924,-23.7900, 106.6297, 5153,   3194.0,   1.5540,  34.7280,  34.7300,    318.6,    179.4,   120.65,    33.28,     2.34
      09FA9605, ISS3a,    70,  1,      9,      9,19960524,1924,-23.7900, 106.6297, 5153,   3494.0,   1.4140,  34.7250,  34.7260,    330.3,    184.4,   123.37,    33.28,     2.31
      09FA9605, ISS3a,    70,  1,     18,     18,19960524,1924,-23.7900, 106.6297, 5153,   3796.0,   1.3210,  34.7230,  34.7230,    341.7,    188.7,   123.86,    33.08,     2.29
      09FA9605, ISS3a,    70,  1,      5b,      5,19960524,1924,-23.7900, 106.6297, 5153,   4094.0,   1.2470,  34.7210,  34.7220,    352.6,    190.5,   123.95,    32.98,     2.29
      09FA9605, ISS3a,    70,  1,      1,      1,19960524,1924,-23.7900, 106.6297, 5153,   4398.0,   1.2140,  34.7200,  34.7190,    363.3,    193.8,   125.41,    33.18,     2.28
      09FA9605, ISS3a,    70,  1,     14,     14,19960524,1924,-23.7900, 106.6297, 5153,   4696.0,   1.1950,  34.7180,  34.7220,    373.9,    193.0,   124.25,    32.89,     2.27
      09FA9605, ISS3a,    70,  1,     20,     20,19960524,1924,-23.7900, 106.6297, 5153,   4992.0,   1.1750,  34.7180,  34.7190,    385.2,    198.9,   123.76,    32.89,     2.26
      09FA9605, ISS3a,    70,  1,      3,      3,19960524,1924,-23.7900, 106.6297, 5153,   5256.0,   1.1180,  34.7160,  34.7160,    397.4,    204.5,   121.33,    32.59,     2.24
      09FA9605, ISS3a,    71,  1,     23,     23,19960525,0057,-23.5672, 106.9112, 4624,      2.0,  23.8230,  35.4400,  35.4620,    147.6,    214.2,     3.12,     0.10,     0.11
      09FA9605, ISS3a,    71,  1,     12,     12,19960525,0057,-23.5672, 106.9112, 4624,     96.0,  23.7960,  35.4790,  35.5020,    141.3,    211.9,     3.22,     0.20,     0.13
      09FA9605, ISS3a,    71,  1,     11a,     11,19960525,0057,-23.5672, 106.9112, 4624,    196.0,  18.9620,  35.9160,  35.9210,    143.2,    203.7,  -999.00,  -999.00,  -999.00
      09FA9605, ISS3a,    71,  1,      8,      8,19960525,0057,-23.5672, 106.9112, 4624,    392.0,  12.6060,  35.2020,  35.2220,    175.5,    226.1,     3.31,     8.47,     0.66
      09FA9605, ISS3a,    71,  1,      5,      5,19960525,0057,-23.5672, 106.9112, 4624,    594.0,   9.0260,  34.6470,  34.6670,    209.4,    226.0,     6.82,    18.50,     1.26
      09FA9605, ISS3a,    71,  1,     10,     10,19960525,0057,-23.5672, 106.9112, 4624,    794.0,   6.1190,  34.5030,  34.5040,    208.0,    163.1,    38.55,    30.28,     2.14
      09FA9605, ISS3a,    71,  1,      7,      7,19960525,0057,-23.5672, 106.9112, 4624,    990.0,   4.8700,  34.5640,  34.5890,    206.3,    114.5,    73.88,    34.85,     2.61
      09FA9605, ISS3a,    71,  1,      6,      6,19960525,0057,-23.5672, 106.9112, 4624,   1192.0,   4.1800,  34.5920,  34.5970,    219.9,    122.6,    82.63,    35.23,     2.63
      09FA9605, ISS3a,    71,  1,      2,      2,19960525,0057,-23.5672, 106.9112, 4624,   1392.0,   3.5830,  34.6140,  34.6270,    234.0,    130.5,    89.05,    35.23,     2.61
      09FA9605, ISS3a,    71,  1,      4,      4,19960525,0057,-23.5672, 106.9112, 4624,   1592.0,   3.1280,  34.6510,  34.6590,    246.7,    140.0,    91.48,    34.84,     2.57
      09FA9605, ISS3a,    71,  1,     16,     16,19960525,0057,-23.5672, 106.9112, 4624,   1792.0,   2.7320,  34.6890,  34.6940,    258.1,    147.4,    99.55,    34.25,     2.53
      09FA9605, ISS3a,    71,  1,     13,     13,19960525,0057,-23.5672, 106.9112, 4624,   1992.0,   2.4340,  34.7120,  34.7140,    267.6,    152.4,   107.62,    34.15,     2.52
      09FA9605, ISS3a,    71,  1,     11b,     11,19960525,0057,-23.5672, 106.9112, 4624,   2192.0,   2.2170,  34.7230,  34.7240,    276.3,    156.1,   112.87,    34.06,     2.51
      09FA9605, ISS3a,    71,  1,     17,     17,19960525,0057,-23.5672, 106.9112, 4624,   2392.0,   2.0390,  34.7270,  34.7290,    285.2,    161.2,   116.08,    33.86,     2.47
      09FA9605, ISS3a,    71,  1,     22,     22,19960525,0057,-23.5672, 106.9112, 4624,   2594.0,   1.8930,  34.7280,  34.7310,    293.7,    165.4,   118.51,    33.67,     2.46
      09FA9605, ISS3a,    71,  1,     24,     24,19960525,0057,-23.5672, 106.9112, 4624,   2794.0,   1.7560,  34.7280,  34.7330,    302.4,    170.9,   119.38,    33.37,     2.42
      09FA9605, ISS3a,    71,  1,     21,     21,19960525,0057,-23.5672, 106.9112, 4624,   2992.0,   1.6290,  34.7270,  34.7290,    311.2,    175.6,   118.41,    33.28,     2.41
      09FA9605, ISS3a,    71,  1,      9,      9,19960525,0057,-23.5672, 106.9112, 4624,   3194.0,   1.5090,  34.7250,  34.7250,    319.4,    180.4,   121.04,    33.18,     2.39
      09FA9605, ISS3a,    71,  1,     18,     18,19960525,0057,-23.5672, 106.9112, 4624,   3396.0,   1.3990,  34.7240,  34.7210,    327.8,    184.1,   122.50,    33.08,     2.38
      09FA9605, ISS3a,    71,  1,      1,      1,19960525,0057,-23.5672, 106.9112, 4624,   3896.0,   1.2450,  34.7200,  34.7180,    346.3,    190.2,   126.48,    33.08,     2.36
      09FA9605, ISS3a,    71,  1,     14,     14,19960525,0057,-23.5672, 106.9112, 4624,   4194.0,   1.2060,  34.7180,  34.7180,    356.5,    192.0,   124.93,    32.98,     2.36
      09FA9605, ISS3a,    71,  1,     20,     20,19960525,0057,-23.5672, 106.9112, 4624,   4492.0,   1.1880,  34.7170,  34.7170,    367.6,    194.4,   128.23,    32.98,     2.35
      09FA9605, ISS3a,    71,  1,      3,      3,19960525,0057,-23.5672, 106.9112, 4624,   4746.0,   1.1830,  34.7170,  34.7140,    376.6,    196.4,   127.55,    32.79,     2.34