BOTTLE,20220929CCHSIOAMB
EXPOCODE,SECT_ID,STNNBR,CASTNO,SAMPNO,BTLNBR,DATE,TIME,LATITUDE,LONGITUDE,DEPTH,CTDPRS,CTDTMP,CTDSAL,SALNTY,CTDOXY,OXYGEN,SILCAT,NITRAT,PHSPHT
,,,,,,,,,,,DBAR,ITS-90,PSS-78,PSS-78,UMOL/KG,UMOL/KG,UMOL/KG,UMOL/KG,UMOL/KG
      09FA9605, ISS3a,    36,  1,     23,     23,19960517,1235,-32.2645, 101.8298, 2785,      2.0,  17.9790,  35.8990,  35.9020,    176.6,    235.6,     1.36,     0.19,     0.19
      09FA9605, ISS3a,    36,  1,     12,     12,19960517,1235,-32.2645, 101.8298, 2785,     46.0,  17.9980,  35.9010,  35.9010,    177.2,    235.3,     1.17,     0.19,     0.19
      09FA9605, ISS3a,    36,  1,      7,      7,19960517,1235,-32.2645, 101.8298, 2785,     96.0,  15.9350,  35.6700,  35.6640,    181.0,    242.3,     1.36,     0.88,     0.28
      09FA9605, ISS3a,    36,  1,      6,      6,19960517,1235,-32.2645, 101.8298, 2785,    142.0,  13.3690,  35.3760,  35.3390,    184.4,    239.7,     1.85,     5.75,     0.56
      09FA9605, ISS3a,    36,  1,      2,      2,19960517,1235,-32.2645, 101.8298, 2785,    194.0,  12.3900,  35.2060,  35.1930,    192.6,    243.5,     2.14,     7.50,     0.66
      09FA9605, ISS3a,    36,  1,     10,     10,19960517,1235,-32.2645, 101.8298, 2785,    244.0,  11.5860,  35.0610,  35.0560,    198.6,    246.0,     2.43,     9.35,     0.77
      09FA9605, ISS3a,    36,  1,      4,      4,19960517,1235,-32.2645, 101.8298, 2785,    296.0,  10.9400,  34.9490,  34.9570,    205.3,    245.9,     2.92,    10.91,     0.86
      09FA9605, ISS3a,    36,  1,     16,     16,19960517,1235,-32.2645, 101.8298, 2785,    394.0,  10.1000,  34.8050,  34.7970,    216.7,    248.3,     3.70,    13.54,     1.01
      09FA9605, ISS3a,    36,  1,     13,     13,19960517,1235,-32.2645, 101.8298, 2785,    490.0,   9.5030,  34.7090,  34.7090,    222.4,    246.7,     4.48,    15.58,     1.14
      09FA9605, ISS3a,    36,  1,      3a,      3,19960517,1235,-32.2645, 101.8298, 2785,    594.0,   8.9690,  34.6350,  34.6360,    225.5,    237.8,     5.75,    18.02,     1.30
      09FA9605, ISS3a,    36,  1,     17,     17,19960517,1235,-32.2645, 101.8298, 2785,    694.0,   7.9620,  34.5300,  34.5370,    223.1,    216.8,     9.93,    22.20,     1.56
      09FA9605, ISS3a,    36,  1,     19,     19,19960517,1235,-32.2645, 101.8298, 2785,    792.0,   6.7340,  34.4560,  34.4570,    223.0,    201.6,    17.92,    26.48,     1.85
      09FA9605, ISS3a,    36,  1,     24,     24,19960517,1235,-32.2645, 101.8298, 2785,    994.0,   4.2130,  34.3870,  34.3980,    240.1,    189.1,    41.37,    31.64,     2.26
      09FA9605, ISS3a,    36,  1,     21,     21,19960517,1235,-32.2645, 101.8298, 2785,   1190.0,   3.6600,  34.5120,  34.5250,    237.1,    156.8,    68.91,    34.07,     2.48
      09FA9605, ISS3a,    36,  1,      9,      9,19960517,1235,-32.2645, 101.8298, 2785,   1394.0,   3.0700,  34.5570,  34.5580,    249.4,    160.3,    73.28,    34.06,     2.46
      09FA9605, ISS3a,    36,  1,     18,     18,19960517,1235,-32.2645, 101.8298, 2785,   1594.0,   2.8370,  34.6360,  34.6340,    256.2,    157.0,    83.88,    33.77,     2.45
      09FA9605, ISS3a,    36,  1,     15,     15,19960517,1235,-32.2645, 101.8298, 2785,   1790.0,   2.6040,  34.6740,  34.6750,    265.7,    163.2,    88.36,    33.28,     2.41
      09FA9605, ISS3a,    36,  1,      1,      1,19960517,1235,-32.2645, 101.8298, 2785,   1994.0,   2.3850,  34.7090,  34.7100,    272.6,    165.8,    98.37,    33.08,     2.41
      09FA9605, ISS3a,    36,  1,     14,     14,19960517,1235,-32.2645, 101.8298, 2785,   2194.0,   2.2000,  34.7230,  34.7230,    282.8,    173.8,    99.25,    32.50,     2.34
      09FA9605, ISS3a,    36,  1,     20,     20,19960517,1235,-32.2645, 101.8298, 2785,   2394.0,   1.9880,  34.7310,  34.7300,    292.4,    179.4,   102.36,    32.21,     2.33
      09FA9605, ISS3a,    36,  1,      3b,      3,19960517,1235,-32.2645, 101.8298, 2785,   2762.0,   1.7300,  34.7410,  34.7380,    312.2,    197.4,    97.69,    31.13,     2.21
      09FA9605, ISS3a,    37,  1,     23,     23,19960517,1531,-32.1673, 101.6667, 2333,      4.0,  18.5450,  36.1070,  36.1070,    197.8,    232.1,     1.56,     0.19,     0.17
      09FA9605, ISS3a,    37,  1,     12,     12,19960517,1531,-32.1673, 101.6667, 2333,     46.0,  18.5620,  36.1030,  36.1070,    177.0,    232.4,     1.56,     0.19,     0.17
      09FA9605, ISS3a,    37,  1,      7,      7,19960517,1531,-32.1673, 101.6667, 2333,    100.0,  18.4800,  36.0870,  36.0960,    176.0,    232.2,     1.56,     0.19,     0.17
      09FA9605, ISS3a,    37,  1,      6,      6,19960517,1531,-32.1673, 101.6667, 2333,    144.0,  15.0800,  35.6450,  35.6400,    180.2,    233.6,     1.46,     2.24,     0.35
      09FA9605, ISS3a,    37,  1,      2,      2,19960517,1531,-32.1673, 101.6667, 2333,    196.0,  13.7080,  35.4170,  35.3900,    185.8,    235.0,     1.85,     5.46,     0.53
      09FA9605, ISS3a,    37,  1,     10,     10,19960517,1531,-32.1673, 101.6667, 2333,    246.0,  12.5660,  35.2120,  35.2320,    190.7,    236.7,     2.05,     7.21,     0.64
      09FA9605, ISS3a,    37,  1,      4,      4,19960517,1531,-32.1673, 101.6667, 2333,    294.0,  11.6790,  35.0570,  35.0490,    196.8,    240.1,     2.44,     9.55,     0.78
      09FA9605, ISS3a,    37,  1,     16,     16,19960517,1531,-32.1673, 101.6667, 2333,    394.0,  10.2030,  34.8220,  34.8390,    207.2,    238.2,     3.70,    13.54,     1.00
      09FA9605, ISS3a,    37,  1,     13,     13,19960517,1531,-32.1673, 101.6667, 2333,    490.0,   9.4240,  34.7050,  34.7180,    213.8,    232.7,     5.26,    16.75,     1.20
      09FA9605, ISS3a,    37,  1,      3a,      3,19960517,1531,-32.1673, 101.6667, 2333,    592.0,   8.4050,  34.5830,  34.5770,    216.8,    216.9,     9.35,    21.33,     1.49
      09FA9605, ISS3a,    37,  1,     17,     17,19960517,1531,-32.1673, 101.6667, 2333,    692.0,   7.0670,  34.4730,  34.4820,    218.2,    200.8,    15.77,    25.41,     1.76
      09FA9605, ISS3a,    37,  1,     19,     19,19960517,1531,-32.1673, 101.6667, 2333,    792.0,   5.5000,  34.3960,  34.4020,    226.6,    196.2,    26.19,    29.11,     2.03
      09FA9605, ISS3a,    37,  1,     24,     24,19960517,1531,-32.1673, 101.6667, 2333,    994.0,   3.9870,  34.4020,  34.4090,    241.6,    183.0,    46.72,    32.32,     2.33
      09FA9605, ISS3a,    37,  1,     21,     21,19960517,1531,-32.1673, 101.6667, 2333,   1194.0,   3.3850,  34.4900,  34.4880,    244.7,    165.0,    63.07,    33.77,     2.44
      09FA9605, ISS3a,    37,  1,      9,      9,19960517,1531,-32.1673, 101.6667, 2333,   1390.0,   2.9970,  34.5790,  34.5750,    250.7,    156.6,    75.62,    33.96,     2.48
      09FA9605, ISS3a,    37,  1,     18,     18,19960517,1531,-32.1673, 101.6667, 2333,   1594.0,   2.7570,  34.6410,  34.6430,    258.1,    158.0,    84.95,    33.67,     2.44
      09FA9605, ISS3a,    37,  1,     15,     15,19960517,1531,-32.1673, 101.6667, 2333,   1794.0,   2.5010,  34.6870,  34.6840,    267.9,    163.2,    90.79,    32.99,     2.38
      09FA9605, ISS3a,    37,  1,      1,      1,19960517,1531,-32.1673, 101.6667, 2333,   1994.0,   2.2970,  34.7110,  34.7120,    278.3,    172.6,    93.12,    32.50,     2.33
      09FA9605, ISS3a,    37,  1,     14,     14,19960517,1531,-32.1673, 101.6667, 2333,   2196.0,   2.1150,  34.7230,  34.7250,    287.2,    177.5,    97.11,    32.11,     2.30
      09FA9605, ISS3a,    37,  1,     20,     20,19960517,1531,-32.1673, 101.6667, 2333,   2196.0,   2.1150,  34.7230,  34.7230,    287.2,    177.1,    97.11,    32.21,     2.31
      09FA9605, ISS3a,    37,  1,      3b,      3,19960517,1531,-32.1673, 101.6667, 2333,   2332.0,   2.0210,  34.7300,  34.7300,    293.7,    182.3,    96.81,    31.82,     2.27
      09FA9605, ISS3a,    38,  1,     23,     23,19960517,2012,-31.9535, 101.1388, 1834,      4.0,  18.5620,  36.1400,  36.1490,    171.5,    230.9,     1.66,     0.19,     0.18
      09FA9605, ISS3a,    38,  1,     10,     10,19960517,2012,-31.9535, 101.1388, 1834,     48.0,  18.5730,  36.1380,  36.1500,    173.2,    232.1,     1.66,     0.10,     0.17
      09FA9605, ISS3a,    38,  1,      4,      4,19960517,2012,-31.9535, 101.1388, 1834,     98.0,  18.5720,  36.1340,  36.1490,    173.0,    230.4,     1.66,     0.10,     0.17
      09FA9605, ISS3a,    38,  1,     16,     16,19960517,2012,-31.9535, 101.1388, 1834,    148.0,  15.3260,  35.6430,  35.6510,    180.9,    234.8,     1.46,     2.14,     0.36
      09FA9605, ISS3a,    38,  1,     13,     13,19960517,2012,-31.9535, 101.1388, 1834,    198.0,  13.5440,  35.3770,  35.3470,    182.9,    237.7,     1.95,     5.84,     0.56
      09FA9605, ISS3a,    38,  1,      3a,      3,19960517,2012,-31.9535, 101.1388, 1834,    246.0,  12.5110,  35.2240,  35.1600,    193.6,    244.0,     2.24,     8.08,     0.69
      09FA9605, ISS3a,    38,  1,     17,     17,19960517,2012,-31.9535, 101.1388, 1834,    296.0,  11.4980,  35.0390,  35.0170,    201.8,    245.4,     2.73,    10.13,     0.82
      09FA9605, ISS3a,    38,  1,     24,     24,19960517,2012,-31.9535, 101.1388, 1834,    496.0,   9.0940,  34.6480,  34.6600,    222.0,    235.1,     5.45,    17.72,     1.28
      09FA9605, ISS3a,    38,  1,     21,     21,19960517,2012,-31.9535, 101.1388, 1834,    594.0,   7.7900,  34.5170,  34.5300,    220.7,    212.1,    10.91,    22.98,     1.62
      09FA9605, ISS3a,    38,  1,      9,      9,19960517,2012,-31.9535, 101.1388, 1834,    694.0,   6.5400,  34.4450,  34.4560,    224.1,    198.7,    18.01,    26.78,     1.88
      09FA9605, ISS3a,    38,  1,     18,     18,19960517,2012,-31.9535, 101.1388, 1834,    792.0,   5.1060,  34.3930,  34.4010,    233.5,    192.9,    30.96,    30.18,     2.16
      09FA9605, ISS3a,    38,  1,     15,     15,19960517,2012,-31.9535, 101.1388, 1834,    994.0,   3.9520,  34.4540,  34.4610,    238.0,    167.5,    55.29,    33.19,     2.41
      09FA9605, ISS3a,    38,  1,      1,      1,19960517,2012,-31.9535, 101.1388, 1834,   1194.0,   3.4030,  34.5280,  34.5300,    242.3,    155.3,    71.34,    34.45,     2.51
      09FA9605, ISS3a,    38,  1,     14,     14,19960517,2012,-31.9535, 101.1388, 1834,   1394.0,   2.9720,  34.5850,  34.5910,    252.2,    158.6,    79.02,    34.26,     2.49
      09FA9605, ISS3a,    38,  1,     20,     20,19960517,2012,-31.9535, 101.1388, 1834,   1594.0,   2.6870,  34.6560,  34.6570,    260.5,    161.1,    87.68,    33.67,     2.45
      09FA9605, ISS3a,    38,  1,      3b,      3,19960517,2012,-31.9535, 101.1388, 1834,   1824.0,   2.4000,  34.7010,  34.7000,    271.5,    168.1,    93.22,    32.99,     2.41
      09FA9605, ISS3a,    39,  1,     23,     23,19960518,0050,-31.7665, 100.6077, 2598,      2.0,  18.6170,  36.0840,  36.0820,    166.5,    229.2,     1.66,     0.10,     0.18
      09FA9605, ISS3a,    39,  1,      7,      7,19960518,0050,-31.7665, 100.6077, 2598,     94.0,  18.1850,  35.9970,  35.9760,    171.3,    233.3,     1.36,     0.29,     0.20
      09FA9605, ISS3a,    39,  1,      6,      6,19960518,0050,-31.7665, 100.6077, 2598,    146.0,  14.6700,  35.5900,  35.5320,    178.2,    237.5,     1.46,     3.41,     0.43
      09FA9605, ISS3a,    39,  1,      2,      2,19960518,0050,-31.7665, 100.6077, 2598,    196.0,  13.3210,  35.3540,  35.3760,    185.7,    238.3,     1.75,     5.45,     0.55
      09FA9605, ISS3a,    39,  1,     10,     10,19960518,0050,-31.7665, 100.6077, 2598,    244.0,  12.2530,  35.1690,  35.1890,    194.0,    242.7,     1.95,     7.40,     0.66
      09FA9605, ISS3a,    39,  1,      4,      4,19960518,0050,-31.7665, 100.6077, 2598,    296.0,  11.3260,  35.0090,  35.0230,    201.8,    246.9,     2.43,     9.74,     0.80
      09FA9605, ISS3a,    39,  1,     16,     16,19960518,0050,-31.7665, 100.6077, 2598,    396.0,  10.1190,  34.8060,  34.8140,    214.1,    248.3,     3.60,    13.44,     1.02
      09FA9605, ISS3a,    39,  1,     13,     13,19960518,0050,-31.7665, 100.6077, 2598,    494.0,   9.4740,  34.7010,  34.7250,    221.5,    248.1,     4.19,    15.39,     1.12
      09FA9605, ISS3a,    39,  1,      3a,      3,19960518,0050,-31.7665, 100.6077, 2598,    594.0,   8.9550,  34.6320,  34.6440,    223.1,    234.8,     5.36,    18.21,     1.30
      09FA9605, ISS3a,    39,  1,     17,     17,19960518,0050,-31.7665, 100.6077, 2598,    696.0,   7.9170,  34.5380,  34.5150,    220.8,    207.1,    12.66,    24.15,     1.68
      09FA9605, ISS3a,    39,  1,     19,     19,19960518,0050,-31.7665, 100.6077, 2598,    792.0,   6.1800,  34.4330,  34.4320,    224.0,    193.8,    24.05,    28.53,     2.01
      09FA9605, ISS3a,    39,  1,     24,     24,19960518,0050,-31.7665, 100.6077, 2598,    992.0,   4.0120,  34.4020,  34.4070,    240.0,    183.9,    46.43,    32.61,     2.33
      09FA9605, ISS3a,    39,  1,     21,     21,19960518,0050,-31.7665, 100.6077, 2598,   1192.0,   3.4620,  34.4950,  34.4970,    243.5,    161.8,    66.38,    34.45,     2.47
      09FA9605, ISS3a,    39,  1,      9,      9,19960518,0050,-31.7665, 100.6077, 2598,   1392.0,   3.1110,  34.5760,  34.5770,    249.0,    154.4,    78.93,    34.65,     2.50
      09FA9605, ISS3a,    39,  1,     18,     18,19960518,0050,-31.7665, 100.6077, 2598,   1592.0,   2.8680,  34.6250,  34.6300,    257.3,    158.7,    84.76,    34.25,     2.46
      09FA9605, ISS3a,    39,  1,     15,     15,19960518,0050,-31.7665, 100.6077, 2598,   1790.0,   2.6640,  34.6630,  34.6640,    265.9,    163.6,    88.55,    33.86,     2.42
      09FA9605, ISS3a,    39,  1,      1,      1,19960518,0050,-31.7665, 100.6077, 2598,   1990.0,   2.4210,  34.7000,  34.6980,    275.5,    170.2,    92.44,    33.18,     2.35
      09FA9605, ISS3a,    39,  1,     14,     14,19960518,0050,-31.7665, 100.6077, 2598,   2196.0,   2.2170,  34.7220,  34.7190,    285.3,    176.6,    96.43,    32.50,     2.33
      09FA9605, ISS3a,    39,  1,     20,     20,19960518,0050,-31.7665, 100.6077, 2598,   2394.0,   2.0080,  34.7280,  34.7270,    292.3,    176.5,   107.61,    32.89,     2.38
      09FA9605, ISS3a,    39,  1,      3b,      3,19960518,0050,-31.7665, 100.6077, 2598,   2604.0,   1.8200,  34.7340,  34.7310,    302.9,    184.0,   107.22,    32.40,     2.30
      09FA9605, ISS3a,    40,  1,     23,     23,19960518,0719,-31.5205, 100.1032, 2638,      2.0,  17.8430,  35.7570,  35.7420,    163.0,    236.2,     1.27,     0.19,     0.20
      09FA9605, ISS3a,    40,  1,     12,     12,19960518,0719,-31.5205, 100.1032, 2638,     48.0,  17.7900,  35.7530,  35.7560,    168.0,    236.7,     1.17,     0.29,     0.19
      09FA9605, ISS3a,    40,  1,      7,      7,19960518,0719,-31.5205, 100.1032, 2638,     98.0,  13.9590,  35.4480,  35.4720,    176.8,    239.9,     2.34,     3.80,     0.46
      09FA9605, ISS3a,    40,  1,      6,      6,19960518,0719,-31.5205, 100.1032, 2638,    146.0,  13.1320,  35.3280,  35.3090,    182.8,    239.6,     2.34,     6.23,     0.57
      09FA9605, ISS3a,    40,  1,      2,      2,19960518,0719,-31.5205, 100.1032, 2638,    198.0,  12.5180,  35.2280,  35.2030,    190.0,    243.1,     2.53,     7.60,     0.66
      09FA9605, ISS3a,    40,  1,     10,     10,19960518,0719,-31.5205, 100.1032, 2638,    244.0,  11.9630,  35.1250,  35.1130,    193.7,    245.1,     2.73,     8.86,     0.74
      09FA9605, ISS3a,    40,  1,      4,      4,19960518,0719,-31.5205, 100.1032, 2638,    296.0,  11.2340,  34.9950,  34.9960,    201.4,    245.5,     3.02,    10.62,     0.85
      09FA9605, ISS3a,    40,  1,     16,     16,19960518,0719,-31.5205, 100.1032, 2638,    396.0,  10.1400,  34.8010,  34.8090,    211.2,    245.3,     3.60,    13.54,     1.01
      09FA9605, ISS3a,    40,  1,     13,     13,19960518,0719,-31.5205, 100.1032, 2638,    494.0,   9.6340,  34.7220,  34.7340,    218.4,    245.0,     4.29,    15.29,     1.12
      09FA9605, ISS3a,    40,  1,      3a,      3,19960518,0719,-31.5205, 100.1032, 2638,    594.0,   9.1430,  34.6510,-999.0000,    221.4,    238.0,     5.06,    17.34,     1.25
      09FA9605, ISS3a,    40,  1,     17,     17,19960518,0719,-31.5205, 100.1032, 2638,    694.0,   8.1500,  34.5410,  34.5720,    221.2,    221.6,     8.28,    21.13,     1.48
      09FA9605, ISS3a,    40,  1,     19,     19,19960518,0719,-31.5205, 100.1032, 2638,    794.0,   6.8900,  34.4580,  34.4740,    220.7,    201.8,    15.19,    25.71,     1.80
      09FA9605, ISS3a,    40,  1,     24,     24,19960518,0719,-31.5205, 100.1032, 2638,    994.0,   4.5090,  34.3840,  34.3990,    238.3,    190.5,    37.38,    31.35,     2.24
      09FA9605, ISS3a,    40,  1,     21,     21,19960518,0719,-31.5205, 100.1032, 2638,   1194.0,   3.6330,  34.4770,  34.4870,    240.8,    163.0,    60.93,    33.87,     2.47
      09FA9605, ISS3a,    40,  1,      9,      9,19960518,0719,-31.5205, 100.1032, 2638,   1394.0,   3.1980,  34.5630,  34.5670,    245.8,    155.5,    73.38,    34.26,     2.52
      09FA9605, ISS3a,    40,  1,     18,     18,19960518,0719,-31.5205, 100.1032, 2638,   1592.0,   2.8390,  34.6250,  34.6220,    255.9,    158.3,    78.73,    33.96,     2.47
      09FA9605, ISS3a,    40,  1,     15,     15,19960518,0719,-31.5205, 100.1032, 2638,   1792.0,   2.5980,  34.6720,  34.6730,    265.0,    163.4,    84.76,    33.28,     2.42
      09FA9605, ISS3a,    40,  1,      1,      1,19960518,0719,-31.5205, 100.1032, 2638,   1990.0,   2.4110,  34.7030,  34.7000,    272.3,    166.0,    92.83,    32.99,     2.41
      09FA9605, ISS3a,    40,  1,     14,     14,19960518,0719,-31.5205, 100.1032, 2638,   2194.0,   2.1980,  34.7190,  34.7180,    281.5,    172.0,    97.79,    32.89,     2.38
      09FA9605, ISS3a,    40,  1,     20,     20,19960518,0719,-31.5205, 100.1032, 2638,   2396.0,   1.9530,  34.7270,  34.7250,    291.4,    178.1,   101.78,    32.50,     2.34
      09FA9605, ISS3a,    40,  1,      3b,      3,19960518,0719,-31.5205, 100.1032, 2638,   2640.0,   1.8230,  34.7310,  34.7310,    301.9,    183.5,   100.80,    32.11,     2.29