BOTTLE,20220929CCHSIOAMB
EXPOCODE,SECT_ID,STNNBR,CASTNO,SAMPNO,BTLNBR,DATE,TIME,LATITUDE,LONGITUDE,DEPTH,CTDPRS,CTDTMP,CTDSAL,SALNTY,CTDOXY,OXYGEN,SILCAT,NITRAT,PHSPHT
,,,,,,,,,,,DBAR,ITS-90,PSS-78,PSS-78,UMOL/KG,UMOL/KG,UMOL/KG,UMOL/KG,UMOL/KG
      09FA9605, ISS3a,    51,  1,     23,     23,19960520,1230,-26.7885,  99.2288, 4174,      2.0,  20.8510,  36.1110,  36.1010,    152.8,    223.9,     2.15,     0.10,     0.17
      09FA9605, ISS3a,    51,  1,      5,      5,19960520,1230,-26.7885,  99.2288, 4174,     48.0,  20.7170,  36.1140,  36.1180,    152.7,    230.7,     2.05,     0.10,     0.17
      09FA9605, ISS3a,    51,  1,     11,     11,19960520,1230,-26.7885,  99.2288, 4174,     96.0,  20.3370,  36.0930,  36.1100,    155.7,    227.2,     1.95,     0.10,     0.17
      09FA9605, ISS3a,    51,  1,     12a,     12,19960520,1230,-26.7885,  99.2288, 4174,    196.0,  15.8140,  35.7190,  35.7020,    164.3,    224.9,     1.75,     2.63,     0.39
      09FA9605, ISS3a,    51,  1,      8,      8,19960520,1230,-26.7885,  99.2288, 4174,    394.0,  11.6750,  35.0670,  35.0330,    193.6,    239.1,     2.82,    10.23,     0.83
      09FA9605, ISS3a,    51,  1,     10,     10,19960520,1230,-26.7885,  99.2288, 4174,    594.0,   9.6700,  34.7360,  34.7040,    214.9,    237.3,     4.77,    16.36,     1.19
      09FA9605, ISS3a,    51,  1,      7,      7,19960520,1230,-26.7885,  99.2288, 4174,    792.0,   7.0980,  34.4870,  34.4780,    217.3,    199.1,    18.50,    26.10,     1.85
      09FA9605, ISS3a,    51,  1,      6,      6,19960520,1230,-26.7885,  99.2288, 4174,    990.0,   4.9150,  34.5120,  34.5130,    215.3,    144.1,    59.18,    33.19,     2.51
      09FA9605, ISS3a,    51,  1,      2,      2,19960520,1230,-26.7885,  99.2288, 4174,   1190.0,   3.9550,  34.5450,  34.5300,    229.5,    147.5,    69.20,    33.97,     2.53
      09FA9605, ISS3a,    51,  1,      4,      4,19960520,1230,-26.7885,  99.2288, 4174,   1390.0,   3.3910,  34.5920,  34.5940,    240.2,    144.0,    81.26,    34.55,     2.57
      09FA9605, ISS3a,    51,  1,     16,     16,19960520,1230,-26.7885,  99.2288, 4174,   1592.0,   3.0150,  34.6400,  34.6430,    250.9,    149.6,    88.85,    34.16,     2.53
      09FA9605, ISS3a,    51,  1,     13,     13,19960520,1230,-26.7885,  99.2288, 4174,   1792.0,   2.6980,  34.6810,  34.6810,    261.8,    156.1,    95.07,    33.67,     2.50
      09FA9605, ISS3a,    51,  1,     12b,     12,19960520,1230,-26.7885,  99.2288, 4174,   1990.0,   2.4090,  34.7110,  34.7230,    270.6,    158.3,   103.43,    33.28,     2.46
      09FA9605, ISS3a,    51,  1,     17,     17,19960520,1230,-26.7885,  99.2288, 4174,   2192.0,   2.1930,  34.7230,  34.7230,    279.7,    164.0,   108.10,    33.18,     2.45
      09FA9605, ISS3a,    51,  1,     22,     22,19960520,1230,-26.7885,  99.2288, 4174,   2392.0,   2.0190,  34.7280,  34.7290,    289.6,    173.2,   107.32,    32.60,     2.40
      09FA9605, ISS3a,    51,  1,     24,     24,19960520,1230,-26.7885,  99.2288, 4174,   2594.0,   1.8750,  34.7310,  34.7340,    298.0,    176.6,   109.17,    32.30,     2.37
      09FA9605, ISS3a,    51,  1,     21,     21,19960520,1230,-26.7885,  99.2288, 4174,   2794.0,   1.7570,  34.7320,  34.7340,    305.7,    181.0,   110.43,    32.11,     2.36
      09FA9605, ISS3a,    51,  1,      9,      9,19960520,1230,-26.7885,  99.2288, 4174,   2996.0,   1.6550,  34.7310,  34.7310,    312.9,    182.1,   113.06,    32.21,     2.36
      09FA9605, ISS3a,    51,  1,     18,     18,19960520,1230,-26.7885,  99.2288, 4174,   3196.0,   1.5250,  34.7290,  34.7280,    320.7,    185.7,   115.30,    32.11,     2.35
      09FA9605, ISS3a,    51,  1,     15,     15,19960520,1230,-26.7885,  99.2288, 4174,   3394.0,   1.4220,  34.7270,  34.7260,    329.0,    189.3,   116.46,    31.91,     2.34
      09FA9605, ISS3a,    51,  1,      1,      1,19960520,1230,-26.7885,  99.2288, 4174,   3394.0,   1.4220,  34.7270,  34.7270,    329.0,    190.2,   116.27,    32.01,     2.34
      09FA9605, ISS3a,    51,  1,     14,     14,19960520,1230,-26.7885,  99.2288, 4174,   3794.0,   1.2350,  34.7230,  34.7250,    345.7,    197.4,   117.73,    31.82,     2.33
      09FA9605, ISS3a,    51,  1,     20,     20,19960520,1230,-26.7885,  99.2288, 4174,   3996.0,   1.1760,  34.7210,  34.7250,    354.0,    198.3,   117.43,    31.82,     2.33
      09FA9605, ISS3a,    51,  1,      3,      3,19960520,1230,-26.7885,  99.2288, 4174,   4218.0,   1.1010,  34.7190,  34.7190,    363.3,    203.7,   118.11,    31.62,     2.32
      09FA9605, ISS3a,    52,  1,     23,     23,19960520,1755,-26.3323,  99.3193, 4216,      6.0,  21.9550,  35.8120,  35.8150,    160.4,    220.2,     2.34,     0.10,     0.15
      09FA9605, ISS3a,    52,  1,     12a,     12,19960520,1755,-26.3323,  99.3193, 4216,     48.0,  21.5650,  35.8620,  35.9300,    151.3,    224.4,     2.15,     0.10,     0.18
      09FA9605, ISS3a,    52,  1,     11,     11,19960520,1755,-26.3323,  99.3193, 4216,     98.0,  19.9920,  35.9990,  35.9800,    157.5,    235.6,     1.95,     0.00,     0.17
      09FA9605, ISS3a,    52,  1,     12b,     12,19960520,1755,-26.3323,  99.3193, 4216,    198.0,  16.1900,  35.7740,  35.7210,    162.2,    223.8,     1.75,     2.44,     0.37
      09FA9605, ISS3a,    52,  1,      8,      8,19960520,1755,-26.3323,  99.3193, 4216,    396.0,  11.6180,  35.0560,  35.0340,    192.8,    237.8,     2.92,    10.32,     0.83
      09FA9605, ISS3a,    52,  1,     10,     10,19960520,1755,-26.3323,  99.3193, 4216,    594.0,   9.5260,  34.7180,  34.7130,    215.3,    237.1,     4.67,    16.17,     1.17
      09FA9605, ISS3a,    52,  1,      7,      7,19960520,1755,-26.3323,  99.3193, 4216,    796.0,   7.0340,  34.4900,  34.4970,    218.2,    199.1,    17.04,    25.12,     1.78
      09FA9605, ISS3a,    52,  1,      6,      6,19960520,1755,-26.3323,  99.3193, 4216,    994.0,   4.6070,  34.4350,  34.4450,    229.5,    172.5,    46.43,    31.83,     2.32
      09FA9605, ISS3a,    52,  1,      2,      2,19960520,1755,-26.3323,  99.3193, 4216,   1192.0,   4.0090,  34.5460,  34.5440,    229.4,    143.1,    70.37,    34.07,     2.52
      09FA9605, ISS3a,    52,  1,      4,      4,19960520,1755,-26.3323,  99.3193, 4216,   1390.0,   3.4410,  34.6010,  34.6050,    238.5,    140.8,    82.04,    34.35,     2.55
      09FA9605, ISS3a,    52,  1,     16,     16,19960520,1755,-26.3323,  99.3193, 4216,   1592.0,   3.0160,  34.6550,  34.6560,    249.2,    144.6,    90.11,    34.16,     2.53
      09FA9605, ISS3a,    52,  1,     13,     13,19960520,1755,-26.3323,  99.3193, 4216,   1792.0,   2.7110,  34.6910,  34.6870,    260.1,    152.6,    96.14,    33.57,     2.50
      09FA9605, ISS3a,    52,  1,      3a,      3,19960520,1755,-26.3323,  99.3193, 4216,   1994.0,   2.4620,  34.7130,  34.7220,    269.1,    158.0,   100.91,    33.18,     2.43
      09FA9605, ISS3a,    52,  1,     17,     17,19960520,1755,-26.3323,  99.3193, 4216,   2194.0,   2.2290,  34.7260,  34.7290,    279.1,    163.1,   107.23,    32.99,     2.41
      09FA9605, ISS3a,    52,  1,     22,     22,19960520,1755,-26.3323,  99.3193, 4216,   2392.0,   2.0580,  34.7310,  34.7350,    287.8,    168.8,   109.07,    32.79,     2.40
      09FA9605, ISS3a,    52,  1,     24,     24,19960520,1755,-26.3323,  99.3193, 4216,   2592.0,   1.9290,  34.7330,  34.7390,    296.5,    173.9,   110.24,    32.40,     2.37
      09FA9605, ISS3a,    52,  1,     21,     21,19960520,1755,-26.3323,  99.3193, 4216,   2794.0,   1.7900,  34.7350,  34.7380,    304.5,    178.0,   112.48,    32.30,     2.34
      09FA9605, ISS3a,    52,  1,      9,      9,19960520,1755,-26.3323,  99.3193, 4216,   2994.0,   1.6720,  34.7340,  34.7320,    311.8,    179.6,   115.98,    32.30,     2.34
      09FA9605, ISS3a,    52,  1,     18,     18,19960520,1755,-26.3323,  99.3193, 4216,   3196.0,   1.5670,  34.7340,  34.7290,    320.6,    185.2,   115.49,    32.11,     2.31
      09FA9605, ISS3a,    52,  1,     15,     15,19960520,1755,-26.3323,  99.3193, 4216,   3394.0,   1.4480,  34.7310,  34.7350,    328.5,    187.9,   116.95,    31.91,     2.31
      09FA9605, ISS3a,    52,  1,      1,      1,19960520,1755,-26.3323,  99.3193, 4216,   3594.0,   1.3610,  34.7290,  34.7280,    336.3,    191.3,   118.70,    32.01,     2.31
      09FA9605, ISS3a,    52,  1,     14,     14,19960520,1755,-26.3323,  99.3193, 4216,   3794.0,   1.2450,  34.7270,  34.7260,    345.0,    195.2,   119.87,    31.72,     2.30
      09FA9605, ISS3a,    52,  1,     20,     20,19960520,1755,-26.3323,  99.3193, 4216,   3794.0,   1.2450,  34.7270,  34.7250,    345.0,    195.2,   119.87,    31.91,     2.30
      09FA9605, ISS3a,    52,  1,      3b,      3,19960520,1755,-26.3323,  99.3193, 4216,   4264.0,   1.1020,  34.7220,  34.7180,    364.6,    202.6,   119.87,    31.72,     2.30
      09FA9605, ISS3a,    53,  1,     23,     23,19960520,2127,-26.2675,  99.4020, 3471,      4.0,  22.0020,  35.6920,  35.7010,    154.6,    219.7,     2.44,     0.10,     0.12
      09FA9605, ISS3a,    53,  1,      5,      5,19960520,2127,-26.2675,  99.4020, 3471,     48.0,  21.8610,  35.8030,  35.8200,    150.7,    222.9,     2.24,     0.10,     0.13
      09FA9605, ISS3a,    53,  1,     11,     11,19960520,2127,-26.2675,  99.4020, 3471,     96.0,  20.5720,  36.0890,  36.0530,    152.1,    226.0,     2.05,     0.10,     0.13
      09FA9605, ISS3a,    53,  1,     12a,     12,19960520,2127,-26.2675,  99.4020, 3471,    196.0,  15.9940,  35.7340,  35.8110,    159.0,    222.7,     1.75,     1.46,     0.29
      09FA9605, ISS3a,    53,  1,      8,      8,19960520,2127,-26.2675,  99.4020, 3471,    294.0,  13.4820,  35.3650,  35.4290,    175.8,    229.8,     1.95,     5.55,     0.52
      09FA9605, ISS3a,    53,  1,     10,     10,19960520,2127,-26.2675,  99.4020, 3471,    394.0,  11.5010,  35.0320,  35.0880,    190.5,    235.8,     2.73,     9.74,     0.76
      09FA9605, ISS3a,    53,  1,      7,      7,19960520,2127,-26.2675,  99.4020, 3471,    494.0,  10.3650,  34.8470,  34.8710,    204.6,    239.7,     3.51,    12.95,     0.94
      09FA9605, ISS3a,    53,  1,      6,      6,19960520,2127,-26.2675,  99.4020, 3471,    592.0,   9.5850,  34.7230,  34.7360,    213.3,    236.9,     4.48,    15.97,     1.13
      09FA9605, ISS3a,    53,  1,      2,      2,19960520,2127,-26.2675,  99.4020, 3471,    694.0,   8.5850,  34.6030,  34.6210,    215.5,    222.9,     7.21,    19.77,     1.36
      09FA9605, ISS3a,    53,  1,      4,      4,19960520,2127,-26.2675,  99.4020, 3471,    794.0,   6.9200,  34.4810,  34.4850,    216.6,    197.3,    18.31,    26.09,     1.79
      09FA9605, ISS3a,    53,  1,     16,     16,19960520,2127,-26.2675,  99.4020, 3471,    992.0,   4.6500,  34.4570,  34.4540,    224.9,    166.4,    50.13,    32.51,     2.35
      09FA9605, ISS3a,    53,  1,     13,     13,19960520,2127,-26.2675,  99.4020, 3471,   1192.0,   4.0380,  34.5480,  34.5550,    225.9,    139.4,    74.56,    34.65,     2.54
      09FA9605, ISS3a,    53,  1,     12b,     12,19960520,2127,-26.2675,  99.4020, 3471,   1392.0,   3.4980,  34.5970,  34.6140,    236.7,    139.9,    84.18,    34.65,     2.54
      09FA9605, ISS3a,    53,  1,     17,     17,19960520,2127,-26.2675,  99.4020, 3471,   1592.0,   3.0980,  34.6550,  34.6630,    246.0,    141.5,    93.71,    34.45,     2.53
      09FA9605, ISS3a,    53,  1,     22,     22,19960520,2127,-26.2675,  99.4020, 3471,   1792.0,   2.7510,  34.6900,  34.6940,    256.6,    148.9,   100.52,    34.06,     2.49
      09FA9605, ISS3a,    53,  1,     24,     24,19960520,2127,-26.2675,  99.4020, 3471,   1994.0,   2.4920,  34.7070,  34.7120,    267.5,    157.0,   103.34,    33.57,     2.43
      09FA9605, ISS3a,    53,  1,     21,     21,19960520,2127,-26.2675,  99.4020, 3471,   2194.0,   2.2460,  34.7210,  34.7210,    276.7,    162.2,   108.20,    33.28,     2.42
      09FA9605, ISS3a,    53,  1,      9,      9,19960520,2127,-26.2675,  99.4020, 3471,   2394.0,   2.0710,  34.7270,  34.7270,    285.5,    167.7,   110.53,    32.98,     2.39
      09FA9605, ISS3a,    53,  1,     18,     18,19960520,2127,-26.2675,  99.4020, 3471,   2596.0,   1.9230,  34.7290,  34.7320,    294.6,    172.8,   111.70,    32.89,     2.37
      09FA9605, ISS3a,    53,  1,     15,     15,19960520,2127,-26.2675,  99.4020, 3471,   2794.0,   1.8080,  34.7310,  34.7380,    302.8,    177.6,   111.50,    32.40,     2.33
      09FA9605, ISS3a,    53,  1,      1,      1,19960520,2127,-26.2675,  99.4020, 3471,   3000.0,   1.6810,  34.7300,  34.7300,    310.6,    180.5,   115.59,    32.59,     2.34
      09FA9605, ISS3a,    53,  1,     14,     14,19960520,2127,-26.2675,  99.4020, 3471,   3196.0,   1.5920,  34.7300,  34.7350,    318.6,    185.1,   114.61,    32.11,     2.32
      09FA9605, ISS3a,    53,  1,     20,     20,19960520,2127,-26.2675,  99.4020, 3471,   3398.0,   1.4660,  34.7280,  34.7270,    326.5,    187.7,   118.02,    32.40,     2.33
      09FA9605, ISS3a,    53,  1,      3,      3,19960520,2127,-26.2675,  99.4020, 3471,   3472.0,   1.4250,  34.7270,  34.7250,    329.3,    188.9,   118.80,    32.40,     2.33
      09FA9605, ISS3a,    54,  1,     23,     23,19960521,0053,-26.1278,  99.5588, 2708,      4.0,  22.3020,  35.7150,  35.7050,    154.8,    218.9,     2.24,     0.10,     0.13
      09FA9605, ISS3a,    54,  1,     12a,     12,19960521,0053,-26.1278,  99.5588, 2708,     46.0,  22.0160,  35.7910,  35.7970,    150.5,    220.4,     2.05,     0.10,     0.13
      09FA9605, ISS3a,    54,  1,      8,      8,19960521,0053,-26.1278,  99.5588, 2708,     96.0,  20.9540,  35.9240,  35.9330,    153.8,    226.6,     2.05,     0.10,     0.15
      09FA9605, ISS3a,    54,  1,     10,     10,19960521,0053,-26.1278,  99.5588, 2708,    144.0,  18.6020,  35.9220,  35.9060,    156.1,    216.6,     1.85,     0.88,     0.24
      09FA9605, ISS3a,    54,  1,      7,      7,19960521,0053,-26.1278,  99.5588, 2708,    194.0,  17.1080,  35.8370,  35.8270,    155.6,    220.1,     1.66,     1.46,     0.30
      09FA9605, ISS3a,    54,  1,      6,      6,19960521,0053,-26.1278,  99.5588, 2708,    228.0,  16.0220,  35.7160,  35.7140,    159.8,    221.1,     1.75,     2.63,     0.37
      09FA9605, ISS3a,    54,  1,      2,      2,19960521,0053,-26.1278,  99.5588, 2708,    294.0,  14.2530,  35.4790,  35.4390,    170.3,    225.4,     1.85,     5.55,     0.54
      09FA9605, ISS3a,    54,  1,      4,      4,19960521,0053,-26.1278,  99.5588, 2708,    394.0,  11.8890,  35.0950,  35.0670,    186.4,    236.2,     2.34,     9.74,     0.77
      09FA9605, ISS3a,    54,  1,     16,     16,19960521,0053,-26.1278,  99.5588, 2708,    490.0,  10.4700,  34.8640,  34.8550,    199.1,    239.7,     3.31,    13.05,     0.97
      09FA9605, ISS3a,    54,  1,     13,     13,19960521,0053,-26.1278,  99.5588, 2708,    592.0,   9.5730,  34.7280,  34.7400,    210.6,    234.6,     4.58,    16.07,     1.15
      09FA9605, ISS3a,    54,  1,     12b,     12,19960521,0053,-26.1278,  99.5588, 2708,    692.0,   8.6390,  34.6090,  34.6200,    214.5,    220.6,     8.47,    20.16,     1.41
      09FA9605, ISS3a,    54,  1,     17,     17,19960521,0053,-26.1278,  99.5588, 2708,    792.0,   6.8220,  34.4830,  34.4870,    214.1,    191.6,    21.32,    26.68,     1.86
      09FA9605, ISS3a,    54,  1,     22,     22,19960521,0053,-26.1278,  99.5588, 2708,    990.0,   4.8710,  34.4800,  34.4980,    219.5,    150.4,    57.24,    33.00,     2.42
      09FA9605, ISS3a,    54,  1,     24,     24,19960521,0053,-26.1278,  99.5588, 2708,   1190.0,   4.1180,  34.5670,  34.5720,    222.2,    132.2,    77.57,    34.65,     2.57
      09FA9605, ISS3a,    54,  1,     21,     21,19960521,0053,-26.1278,  99.5588, 2708,   1390.0,   3.5960,  34.6210,  34.6230,    232.6,    132.2,    87.30,    34.74,     2.61
      09FA9605, ISS3a,    54,  1,      9,      9,19960521,0053,-26.1278,  99.5588, 2708,   1592.0,   3.0970,  34.6550,  34.6590,    246.4,    141.3,    91.09,    34.35,     2.55
      09FA9605, ISS3a,    54,  1,     18,     18,19960521,0053,-26.1278,  99.5588, 2708,   1792.0,   2.7090,  34.6890,  34.6880,    258.8,    151.6,    95.56,    33.67,     2.51
      09FA9605, ISS3a,    54,  1,     15,     15,19960521,0053,-26.1278,  99.5588, 2708,   1992.0,   2.4770,  34.7100,  34.7110,    268.7,    156.4,   103.14,    33.47,     2.48
      09FA9605, ISS3a,    54,  1,      1,      1,19960521,0053,-26.1278,  99.5588, 2708,   2196.0,   2.2540,  34.7230,  34.7200,    278.0,    161.6,   104.79,    33.28,     2.43
      09FA9605, ISS3a,    54,  1,     14,     14,19960521,0053,-26.1278,  99.5588, 2708,   2394.0,   2.0710,  34.7290,  34.7280,    287.5,    168.4,   107.13,    33.08,     2.45
      09FA9605, ISS3a,    54,  1,     20,     20,19960521,0053,-26.1278,  99.5588, 2708,   2596.0,   1.9340,  34.7300,  34.7300,    295.3,    171.9,   111.21,    32.60,     2.38
      09FA9605, ISS3a,    54,  1,      3,      3,19960521,0053,-26.1278,  99.5588, 2708,   2718.0,   1.8560,  34.7320,  34.7310,    300.4,    174.8,   110.92,    32.69,     2.38