BOTTLE,20220929CCHSIOAMB
EXPOCODE,SECT_ID,STNNBR,CASTNO,SAMPNO,BTLNBR,DATE,TIME,LATITUDE,LONGITUDE,DEPTH,CTDPRS,CTDTMP,CTDSAL,SALNTY,CTDOXY,OXYGEN,SILCAT,NITRAT,PHSPHT
,,,,,,,,,,,DBAR,ITS-90,PSS-78,PSS-78,UMOL/KG,UMOL/KG,UMOL/KG,UMOL/KG,UMOL/KG
      09FA9605, ISS3a,    84,  1,     23,     23,19960528,0117,-22.0410, 112.5608, 3427,      2.0,  26.2620,  34.9740,  34.9950,    137.5,    209.5,     3.62,     0.29,     0.17
      09FA9605, ISS3a,    84,  1,     12,     12,19960528,0117,-22.0410, 112.5608, 3427,     48.0,  25.8850,  35.1360,  35.1380,    137.5,    209.9,     3.42,     0.10,     0.20
      09FA9605, ISS3a,    84,  1,     11a,     11,19960528,0117,-22.0410, 112.5608, 3427,     96.0,  21.8640,  34.8840,  34.8970,    113.2,    142.3,    11.81,     9.18,     0.73
      09FA9605, ISS3a,    84,  1,      8,      8,19960528,0117,-22.0410, 112.5608, 3427,    144.0,  20.7360,  35.3620,  35.3860,    118.7,    166.5,     8.88,     6.83,     0.57
      09FA9605, ISS3a,    84,  1,      5,      5,19960528,0117,-22.0410, 112.5608, 3427,    194.0,  19.3000,  35.7030,  35.4880,    125.1,    166.0,    10.53,     8.19,     0.64
      09FA9605, ISS3a,    84,  1,     10,     10,19960528,0117,-22.0410, 112.5608, 3427,    296.0,  16.4560,  35.7510,  35.7430,    153.9,    210.7,     3.22,     3.80,     0.41
      09FA9605, ISS3a,    84,  1,      7,      7,19960528,0117,-22.0410, 112.5608, 3427,    392.0,  12.2250,  35.1400,  35.1640,    178.6,    232.2,     2.53,     8.38,     0.68
      09FA9605, ISS3a,    84,  1,      6,      6,19960528,0117,-22.0410, 112.5608, 3427,    492.0,  10.0110,  34.7920,  34.7960,    195.8,    235.1,     4.77,    14.80,     1.04
      09FA9605, ISS3a,    84,  1,      2,      2,19960528,0117,-22.0410, 112.5608, 3427,    592.0,   8.9540,  34.6600,  34.6740,    203.5,    215.9,    10.32,    19.57,     1.35
      09FA9605, ISS3a,    84,  1,      4,      4,19960528,0117,-22.0410, 112.5608, 3427,    690.0,   7.2290,  34.5500,  34.5560,    199.2,    162.0,    35.93,    28.72,     1.99
      09FA9605, ISS3a,    84,  1,     16,     16,19960528,0117,-22.0410, 112.5608, 3427,    792.0,   6.2880,  34.5760,  34.5760,    190.2,    125.5,    58.31,    33.10,     2.38
      09FA9605, ISS3a,    84,  1,     13,     13,19960528,0117,-22.0410, 112.5608, 3427,    994.0,   5.3360,  34.6160,  34.6180,    194.3,    102.8,    87.02,    36.11,     2.64
      09FA9605, ISS3a,    84,  1,     11b,     11,19960528,0117,-22.0410, 112.5608, 3427,   1190.0,   4.5310,  34.6250,  34.6320,    209.2,    107.3,    96.94,    36.50,     2.68
      09FA9605, ISS3a,    84,  1,     17,     17,19960528,0117,-22.0410, 112.5608, 3427,   1390.0,   3.8130,  34.6280,  34.6350,    227.4,    122.8,    98.98,    36.11,     2.63
      09FA9605, ISS3a,    84,  1,     22,     22,19960528,0117,-22.0410, 112.5608, 3427,   1592.0,   3.2360,  34.6630,  34.6680,    241.8,    132.7,   105.30,    35.71,     2.57
      09FA9605, ISS3a,    84,  1,     24,     24,19960528,0117,-22.0410, 112.5608, 3427,   1790.0,   2.7350,  34.7000,  34.7070,    254.9,    140.2,   114.53,    35.42,     2.53
      09FA9605, ISS3a,    84,  1,     21,     21,19960528,0117,-22.0410, 112.5608, 3427,   1992.0,   2.3880,  34.7170,  34.7210,    266.4,    146.4,   122.80,    35.32,     2.51
      09FA9605, ISS3a,    84,  1,      9,      9,19960528,0117,-22.0410, 112.5608, 3427,   2192.0,   2.1730,  34.7240,  34.7250,    275.6,    151.6,   128.92,    35.32,     2.50
      09FA9605, ISS3a,    84,  1,     18,     18,19960528,0117,-22.0410, 112.5608, 3427,   2392.0,   2.0190,  34.7260,  34.7270,    284.1,    156.2,   131.65,    34.93,     2.45
      09FA9605, ISS3a,    84,  1,     15,     15,19960528,0117,-22.0410, 112.5608, 3427,   2594.0,   1.8970,  34.7260,  34.7300,    292.9,    160.3,   129.89,    34.44,     2.43
      09FA9605, ISS3a,    84,  1,      1,      1,19960528,0117,-22.0410, 112.5608, 3427,   2794.0,   1.7540,  34.7250,  34.7260,    301.6,    167.0,   132.62,    34.54,     2.42
      09FA9605, ISS3a,    84,  1,     14,     14,19960528,0117,-22.0410, 112.5608, 3427,   2996.0,   1.6540,  34.7250,  34.7260,    310.0,    172.6,   130.48,    34.15,     2.37
      09FA9605, ISS3a,    84,  1,     20,     20,19960528,0117,-22.0410, 112.5608, 3427,   3196.0,   1.4740,  34.7220,  34.7230,    320.6,    180.1,   132.52,    33.96,     2.36
      09FA9605, ISS3a,    84,  1,      3,      3,19960528,0117,-22.0410, 112.5608, 3427,   3482.0,   1.3210,  34.7190,  34.7190,    332.8,    185.1,   134.46,    33.86,     2.35
      09FA9605, ISS3a,    85,  1,     23,     23,19960528,0445,-22.0638, 112.7358, 2589,      4.0,  26.7210,  34.9000,  34.9340,    136.9,    201.7,     3.72,     0.20,     0.16
      09FA9605, ISS3a,    85,  1,      5,      5,19960528,0445,-22.0638, 112.7358, 2589,     48.0,  25.7440,  34.9040,  34.9190,    132.7,    189.9,     5.57,     1.95,     0.28
      09FA9605, ISS3a,    85,  1,     10,     10,19960528,0445,-22.0638, 112.7358, 2589,     96.0,  22.5920,  34.9100,  34.9000,    113.7,    142.0,    11.62,     9.28,     0.69
      09FA9605, ISS3a,    85,  1,      7,      7,19960528,0445,-22.0638, 112.7358, 2589,    148.0,  19.5770,  34.9470,  34.9550,    108.8,    126.2,    18.05,    14.05,     0.99
      09FA9605, ISS3a,    85,  1,      6,      6,19960528,0445,-22.0638, 112.7358, 2589,    194.0,  20.0040,  35.7820,  35.8060,    136.6,    192.6,     4.29,     3.61,     0.34
      09FA9605, ISS3a,    85,  1,      2,      2,19960528,0445,-22.0638, 112.7358, 2589,    294.0,  16.6660,  35.7980,  35.8250,    154.8,    211.3,     2.92,     3.02,     0.34
      09FA9605, ISS3a,    85,  1,     16,     16,19960528,0445,-22.0638, 112.7358, 2589,    394.0,  12.9170,  35.2510,  35.2450,    176.2,    227.3,     2.63,     7.60,     0.60
      09FA9605, ISS3a,    85,  1,     13,     13,19960528,0445,-22.0638, 112.7358, 2589,    494.0,  10.0130,  34.7880,  34.8060,    197.8,    239.9,     3.99,    14.12,     0.96
      09FA9605, ISS3a,    85,  1,     11,     11,19960528,0445,-22.0638, 112.7358, 2589,    594.0,   8.7800,  34.6270,  34.6320,    206.9,    219.8,     9.35,    20.16,     1.33
      09FA9605, ISS3a,    85,  1,     17,     17,19960528,0445,-22.0638, 112.7358, 2589,    692.0,   7.1200,  34.5630,  34.5670,    196.3,    156.8,    37.58,    29.21,     2.00
      09FA9605, ISS3a,    85,  1,     22,     22,19960528,0445,-22.0638, 112.7358, 2589,    794.0,   6.1520,  34.5680,  34.5720,    190.8,    127.4,    58.12,    33.20,     2.33
      09FA9605, ISS3a,    85,  1,     24,     24,19960528,0445,-22.0638, 112.7358, 2589,    992.0,   5.2590,  34.6170,  34.6290,    195.2,    100.5,    87.51,    36.02,     2.61
      09FA9605, ISS3a,    85,  1,     21,     21,19960528,0445,-22.0638, 112.7358, 2589,   1192.0,   4.5650,  34.6280,  34.6340,    208.5,    107.2,    97.91,    36.69,     2.65
      09FA9605, ISS3a,    85,  1,      9,      9,19960528,0445,-22.0638, 112.7358, 2589,   1392.0,   3.8380,  34.6340,  34.6370,    225.8,    121.4,   100.44,    36.20,     2.61
      09FA9605, ISS3a,    85,  1,     18,     18,19960528,0445,-22.0638, 112.7358, 2589,   1594.0,   3.2560,  34.6620,  34.6660,    240.7,    132.6,   105.39,    35.91,     2.56
      09FA9605, ISS3a,    85,  1,     15,     15,19960528,0445,-22.0638, 112.7358, 2589,   1792.0,   2.7760,  34.6990,  34.7040,    253.1,    138.2,   116.38,    35.61,     2.52
      09FA9605, ISS3a,    85,  1,      1,      1,19960528,0445,-22.0638, 112.7358, 2589,   1988.0,   2.4720,  34.7140,  34.7170,    263.8,    147.1,   121.34,    34.93,     2.49
      09FA9605, ISS3a,    85,  1,     14,     14,19960528,0445,-22.0638, 112.7358, 2589,   2196.0,   2.2300,  34.7230,  34.7280,    273.3,   -999.0,   126.69,    34.83,     2.47
      09FA9605, ISS3a,    85,  1,     20,     20,19960528,0445,-22.0638, 112.7358, 2589,   2396.0,   2.0700,  34.7260,  34.7300,    281.6,    156.8,   128.53,    34.74,     2.46
      09FA9605, ISS3a,    85,  1,      3,      3,19960528,0445,-22.0638, 112.7358, 2589,   2598.0,   1.8290,  34.7260,  34.7280,    292.2,   -999.0,   130.67,    34.54,     2.42
      09FA9605, ISS3a,    86,  1,     23,     23,19960528,0748,-22.0843, 112.8653, 1990,      2.0,  26.8490,  34.9630,  34.9540,    143.0,   -999.0,     3.72,     0.10,     0.16
      09FA9605, ISS3a,    86,  1,     12,     12,19960528,0748,-22.0843, 112.8653, 1990,     48.0,  26.8380,  34.9540,  34.9520,    131.8,    201.4,     3.72,     0.10,     0.16
      09FA9605, ISS3a,    86,  1,      2,      2,19960528,0748,-22.0843, 112.8653, 1990,     98.0,  22.3550,  34.9030,  34.8750,    110.2,    139.3,    12.40,     9.67,     0.75
      09FA9605, ISS3a,    86,  1,      4,      4,19960528,0748,-22.0843, 112.8653, 1990,    146.0,  19.5220,  34.8780,  34.8830,    105.7,    120.5,    17.86,    14.25,     1.03
      09FA9605, ISS3a,    86,  1,     16,     16,19960528,0748,-22.0843, 112.8653, 1990,    196.0,  19.7420,  35.7870,  35.7840,    136.3,    189.6,     4.49,     3.51,     0.36
      09FA9605, ISS3a,    86,  1,     13,     13,19960528,0748,-22.0843, 112.8653, 1990,    244.0,  18.3660,  35.8980,  35.8950,    145.9,    201.3,     3.41,     2.83,     0.33
      09FA9605, ISS3a,    86,  1,     11,     11,19960528,0748,-22.0843, 112.8653, 1990,    296.0,  16.4880,  35.7800,  35.8050,    156.5,    212.8,     2.83,     2.92,     0.36
      09FA9605, ISS3a,    86,  1,     17,     17,19960528,0748,-22.0843, 112.8653, 1990,    396.0,  12.4930,  35.1770,  35.2120,    178.3,    229.2,     2.73,     7.79,     0.65
      09FA9605, ISS3a,    86,  1,     22,     22,19960528,0748,-22.0843, 112.8653, 1990,    494.0,   9.9430,  34.7760,  34.7900,    199.2,    238.9,     4.09,    14.22,     1.02
      09FA9605, ISS3a,    86,  1,     24,     24,19960528,0748,-22.0843, 112.8653, 1990,    594.0,   8.6310,  34.6050,  34.6120,    208.5,    222.0,     8.47,    19.87,     1.37
      09FA9605, ISS3a,    86,  1,     21,     21,19960528,0748,-22.0843, 112.8653, 1990,    694.0,   7.1470,  34.5530,  34.5580,    195.6,    162.1,  -999.00,  -999.00,  -999.00
      09FA9605, ISS3a,    86,  1,      9,      9,19960528,0748,-22.0843, 112.8653, 1990,    794.0,   6.1850,  34.5880,  34.5970,    185.7,    116.7,    61.53,    33.20,     2.43
      09FA9605, ISS3a,    86,  1,     18,     18,19960528,0748,-22.0843, 112.8653, 1990,    992.0,   5.1850,  34.6200,  34.6280,    195.3,    101.4,    83.52,    35.63,     2.65
      09FA9605, ISS3a,    86,  1,     15,     15,19960528,0748,-22.0843, 112.8653, 1990,   1194.0,   4.4610,  34.6290,  34.6360,    210.0,    107.5,    94.12,    35.43,     2.69
      09FA9605, ISS3a,    86,  1,      1,      1,19960528,0748,-22.0843, 112.8653, 1990,   1396.0,   3.7740,  34.6480,  34.6510,    225.4,    118.6,   101.31,    35.42,     2.66
      09FA9605, ISS3a,    86,  1,     14,     14,19960528,0748,-22.0843, 112.8653, 1990,   1596.0,   3.2670,  34.6710,  34.6750,    238.9,    129.1,   105.59,    35.03,     2.61
      09FA9605, ISS3a,    86,  1,     20,     20,19960528,0748,-22.0843, 112.8653, 1990,   1798.0,   2.7300,  34.7000,  34.7050,    253.7,    140.9,   112.58,    34.54,     2.56
      09FA9605, ISS3a,    86,  1,      3,      3,19960528,0748,-22.0843, 112.8653, 1990,   1978.0,   2.4210,  34.7170,  34.7200,    263.8,    147.9,   117.25,    34.45,     2.54
      09FA9605, ISS3a,    87,  1,     23,     23,19960528,1055,-22.1197, 113.1030, 1341,      4.0,  26.4310,  34.9770,  34.9850,    134.8,    207.6,     3.91,     0.29,     0.17
      09FA9605, ISS3a,    87,  1,      8,      8,19960528,1055,-22.1197, 113.1030, 1341,     48.0,  26.4240,  35.0070,  35.0080,    133.4,    204.8,     3.71,     0.10,     0.16
      09FA9605, ISS3a,    87,  1,     16,     16,19960528,1055,-22.1197, 113.1030, 1341,     98.0,  23.8780,  35.3170,  35.2090,    133.5,    194.1,     4.79,     1.27,     0.25
      09FA9605, ISS3a,    87,  1,     13,     13,19960528,1055,-22.1197, 113.1030, 1341,    146.0,  20.8020,  35.2560,  35.2580,    116.2,    161.7,     7.90,     6.05,     0.53
      09FA9605, ISS3a,    87,  1,     11,     11,19960528,1055,-22.1197, 113.1030, 1341,    196.0,  19.5970,  35.8410,  35.8430,    137.8,    198.0,     3.61,     1.95,     0.28
      09FA9605, ISS3a,    87,  1,     17,     17,19960528,1055,-22.1197, 113.1030, 1341,    246.0,  18.2270,  35.8990,  35.8790,    143.3,    199.7,     3.70,     3.02,     0.35
      09FA9605, ISS3a,    87,  1,     22,     22,19960528,1055,-22.1197, 113.1030, 1341,    296.0,  16.3520,  35.7570,  35.8110,    154.3,    211.0,     2.92,     3.02,     0.35
      09FA9605, ISS3a,    87,  1,     24,     24,19960528,1055,-22.1197, 113.1030, 1341,    396.0,  12.2670,  35.1500,  35.1710,    177.9,    231.0,     2.82,     8.28,     0.66
      09FA9605, ISS3a,    87,  1,     21,     21,19960528,1055,-22.1197, 113.1030, 1341,    494.0,   9.9340,  34.7820,  34.7710,    199.6,    235.6,     4.87,    15.10,     1.05
      09FA9605, ISS3a,    87,  1,      9,      9,19960528,1055,-22.1197, 113.1030, 1341,    594.0,   8.7890,  34.6480,  34.6510,    201.5,    208.3,    12.85,    20.74,     1.42
      09FA9605, ISS3a,    87,  1,     18,     18,19960528,1055,-22.1197, 113.1030, 1341,    696.0,   7.2090,  34.5630,  34.5690,    193.1,    160.2,    34.66,    28.43,     1.98
      09FA9605, ISS3a,    87,  1,     15,     15,19960528,1055,-22.1197, 113.1030, 1341,    794.0,   6.0560,  34.5720,  34.5640,    192.9,    129.8,    57.34,    32.90,     2.36
      09FA9605, ISS3a,    87,  1,      1,      1,19960528,1055,-22.1197, 113.1030, 1341,    996.0,   5.1140,  34.6120,  34.6150,    197.0,    105.0,    84.00,    35.82,     2.64
      09FA9605, ISS3a,    87,  1,     14,     14,19960528,1055,-22.1197, 113.1030, 1341,   1196.0,   4.4470,  34.6230,  34.6260,    210.6,    110.9,    93.44,    36.21,     2.66
      09FA9605, ISS3a,    87,  1,     20,     20,19960528,1055,-22.1197, 113.1030, 1341,   1196.0,   4.4470,  34.6230,  34.6250,    210.6,    112.1,    94.12,    36.21,     2.66
      09FA9605, ISS3a,    87,  1,      3,      3,19960528,1055,-22.1197, 113.1030, 1341,   1338.0,   4.1080,  34.6410,  34.6430,    217.8,    112.1,   101.90,    36.30,     2.66
      09FA9605, ISS3a,    88,  1,     23,     23,19960528,1315,-22.1430, 113.2327, 1382,      2.0,  26.4110,  34.9840,  34.9850,    124.9,    203.2,     3.81,     0.20,     0.15
      09FA9605, ISS3a,    88,  1,      4,      4,19960528,1315,-22.1430, 113.2327, 1382,     48.0,  25.6830,  35.1390,  35.1410,    132.6,    209.0,     3.52,     0.10,     0.14
      09FA9605, ISS3a,    88,  1,     16,     16,19960528,1315,-22.1430, 113.2327, 1382,     96.0,  24.8290,  35.3840,  35.3880,    135.8,    209.4,     3.22,     0.10,     0.12
      09FA9605, ISS3a,    88,  1,     13,     13,19960528,1315,-22.1430, 113.2327, 1382,    146.0,  21.8350,  35.3700,  35.4350,    128.6,    189.4,     5.47,     2.73,     0.31
      09FA9605, ISS3a,    88,  1,     11,     11,19960528,1315,-22.1430, 113.2327, 1382,    196.0,  19.8470,  35.6930,  35.6960,    132.2,    182.4,     5.66,     4.49,     0.39
      09FA9605, ISS3a,    88,  1,     17,     17,19960528,1315,-22.1430, 113.2327, 1382,    244.0,  18.5560,  35.8110,  35.8300,    136.3,    193.3,     4.68,     3.80,     0.36
      09FA9605, ISS3a,    88,  1,     22,     22,19960528,1315,-22.1430, 113.2327, 1382,    296.0,  17.1370,  35.8520,  35.8510,    150.9,    212.7,     2.63,     2.63,     0.31
      09FA9605, ISS3a,    88,  1,     24,     24,19960528,1315,-22.1430, 113.2327, 1382,    396.0,  12.2290,  35.1440,  35.1840,    176.5,    232.6,     2.44,     8.08,     0.62
      09FA9605, ISS3a,    88,  1,     21,     21,19960528,1315,-22.1430, 113.2327, 1382,    494.0,   9.9420,  34.7730,  34.7660,    197.3,    242.1,     4.09,    14.51,     0.98
      09FA9605, ISS3a,    88,  1,      9,      9,19960528,1315,-22.1430, 113.2327, 1382,    594.0,   8.7450,  34.6110,  34.5820,    209.3,    220.8,     9.06,    20.94,     1.41
      09FA9605, ISS3a,    88,  1,     18,     18,19960528,1315,-22.1430, 113.2327, 1382,    696.0,   7.0510,  34.5550,  34.5540,    192.2,    154.4,    39.63,    29.70,     2.04
      09FA9605, ISS3a,    88,  1,     15,     15,19960528,1315,-22.1430, 113.2327, 1382,    794.0,   6.0220,  34.5520,  34.5740,    192.4,    121.8,    62.11,    33.59,     2.39
      09FA9605, ISS3a,    88,  1,      1,      1,19960528,1315,-22.1430, 113.2327, 1382,    996.0,   5.1110,  34.6190,  34.6270,    194.5,     99.7,    90.23,    35.92,     2.67
      09FA9605, ISS3a,    88,  1,     14,     14,19960528,1315,-22.1430, 113.2327, 1382,   1196.0,   4.3810,  34.6310,  34.6370,    210.2,    107.0,    98.89,    36.01,     2.66
      09FA9605, ISS3a,    88,  1,     20,     20,19960528,1315,-22.1430, 113.2327, 1382,   1296.0,   4.1410,  34.6360,  34.6390,    216.9,    112.0,   100.73,    36.01,     2.65
      09FA9605, ISS3a,    88,  1,      3,      3,19960528,1315,-22.1430, 113.2327, 1382,   1378.0,   3.6420,  34.6520,  34.6550,    226.6,    121.6,   103.16,    35.72,     2.61
      09FA9605, ISS3a,    89,  1,     23,     23,19960528,1536,-22.1768, 113.4433, 1277,      4.0,  26.2170,  35.0020,  35.0020,    131.3,    205.2,     3.81,     0.20,     0.15
      09FA9605, ISS3a,    89,  1,      5,      5,19960528,1536,-22.1768, 113.4433, 1277,     48.0,  26.1420,  35.0480,  35.0880,    132.4,    209.0,     3.52,     0.20,     0.13
      09FA9605, ISS3a,    89,  1,     11,     11,19960528,1536,-22.1768, 113.4433, 1277,     98.0,  24.8700,  35.2680,  35.2050,    130.4,    192.6,     4.98,     1.95,     0.24
      09FA9605, ISS3a,    89,  1,     17,     17,19960528,1536,-22.1768, 113.4433, 1277,    148.0,  21.8500,  35.2280,  35.2960,    120.3,    167.6,     7.61,     5.47,     0.47
      09FA9605, ISS3a,    89,  1,     22,     22,19960528,1536,-22.1768, 113.4433, 1277,    196.0,  20.3340,  35.5810,  35.6000,    125.6,    175.2,     5.95,     5.17,     0.42
      09FA9605, ISS3a,    89,  1,     24,     24,19960528,1536,-22.1768, 113.4433, 1277,    246.0,  18.5770,  35.9100,  35.9160,    141.3,    202.8,     3.22,     2.53,     0.29
      09FA9605, ISS3a,    89,  1,     21,     21,19960528,1536,-22.1768, 113.4433, 1277,    296.0,  16.7410,  35.8050,  35.7970,    150.2,    209.1,     3.31,     3.31,     0.35
      09FA9605, ISS3a,    89,  1,      9,      9,19960528,1536,-22.1768, 113.4433, 1277,    396.0,  12.2730,  35.1550,  35.1430,    176.2,    233.9,     2.53,     8.57,     0.65
      09FA9605, ISS3a,    89,  1,     18,     18,19960528,1536,-22.1768, 113.4433, 1277,    496.0,   9.8180,  34.7550,  34.7290,    196.9,    241.9,     4.38,    15.19,     1.05
      09FA9605, ISS3a,    89,  1,     15,     15,19960528,1536,-22.1768, 113.4433, 1277,    594.0,   8.4340,  34.5830,  34.5750,    206.8,    218.0,     9.74,    21.23,     1.44
      09FA9605, ISS3a,    89,  1,      1,      1,19960528,1536,-22.1768, 113.4433, 1277,    696.0,   6.6570,  34.5520,  34.5610,    190.0,    143.3,    44.88,    30.67,     2.15
      09FA9605, ISS3a,    89,  1,     14,     14,19960528,1536,-22.1768, 113.4433, 1277,    794.0,   5.7430,  34.5720,  34.5820,    188.5,    116.8,    67.17,    34.27,     2.46
      09FA9605, ISS3a,    89,  1,     20,     20,19960528,1536,-22.1768, 113.4433, 1277,    994.0,   4.8090,  34.6260,  34.6310,    197.5,    100.1,    95.00,    36.01,     2.68
      09FA9605, ISS3a,    89,  1,      3,      3,19960528,1536,-22.1768, 113.4433, 1277,   1290.0,   3.8840,  34.6460,  34.6490,    220.8,    114.6,   101.99,    35.91,     2.65