BOTTLE,20220929CCHSIOAMB
EXPOCODE,SECT_ID,STNNBR,CASTNO,SAMPNO,BTLNBR,DATE,TIME,LATITUDE,LONGITUDE,DEPTH,CTDPRS,CTDTMP,CTDSAL,SALNTY,CTDOXY,OXYGEN,SILCAT,NITRAT,PHSPHT
,,,,,,,,,,,DBAR,ITS-90,PSS-78,PSS-78,UMOL/KG,UMOL/KG,UMOL/KG,UMOL/KG,UMOL/KG
      09FA9605, ISS3a,    64,  1,     23,     23,19960523,0357,-24.8377, 103.6202, 5303,      4.0,  22.7340,  35.6820,  35.7000,    147.2,    216.2,     2.93,     0.20,     0.09
      09FA9605, ISS3a,    64,  1,     12a,     12,19960523,0357,-24.8377, 103.6202, 5303,     96.0,  20.5340,  35.8300,  35.8100,    146.8,    205.6,     3.51,     1.17,     0.20
      09FA9605, ISS3a,    64,  1,     11,     11,19960523,0357,-24.8377, 103.6202, 5303,    196.0,  16.9380,  35.8640,  35.8580,    156.1,    217.8,     2.34,     2.14,     0.27
      09FA9605, ISS3a,    64,  1,      8,      8,19960523,0357,-24.8377, 103.6202, 5303,    396.0,  11.2670,  34.9970,  34.9950,    194.2,    237.6,     3.21,    10.71,     0.78
      09FA9605, ISS3a,    64,  1,      5,      5,19960523,0357,-24.8377, 103.6202, 5303,    594.0,   9.1050,  34.6570,  34.6580,    215.1,    231.8,     5.84,    17.92,     1.22
      09FA9605, ISS3a,    64,  1,     10,     10,19960523,0357,-24.8377, 103.6202, 5303,    790.0,   6.2650,  34.4680,  34.4800,    214.6,    181.5,    28.33,    28.14,     1.95
      09FA9605, ISS3a,    64,  1,      7,      7,19960523,0357,-24.8377, 103.6202, 5303,    992.0,   4.7750,  34.5580,  34.5530,    210.1,    130.9,    68.82,    34.07,     2.51
      09FA9605, ISS3a,    64,  1,      6,      6,19960523,0357,-24.8377, 103.6202, 5303,   1192.0,   4.1550,  34.5950,  34.6060,    220.1,    123.5,    83.31,    35.04,     2.58
      09FA9605, ISS3a,    64,  1,      2,      2,19960523,0357,-24.8377, 103.6202, 5303,   1394.0,   3.5800,  34.6250,  34.6300,    234.5,    132.4,    87.49,    34.94,     2.55
      09FA9605, ISS3a,    64,  1,      4,      4,19960523,0357,-24.8377, 103.6202, 5303,   1594.0,   3.0380,  34.6630,  34.6660,    248.1,    141.0,    92.16,    34.55,     2.51
      09FA9605, ISS3a,    64,  1,     16,     16,19960523,0357,-24.8377, 103.6202, 5303,   1792.0,   2.6410,  34.6960,  34.6980,    259.9,    149.6,   102.46,    33.86,     2.47
      09FA9605, ISS3a,    64,  1,     13,     13,19960523,0357,-24.8377, 103.6202, 5303,   1992.0,   2.3570,  34.7160,  34.7170,    270.5,    157.4,   108.30,    33.57,     2.43
      09FA9605, ISS3a,    64,  1,     12b,     12,19960523,0357,-24.8377, 103.6202, 5303,   2192.0,   2.1880,  34.7240,  34.7300,    278.5,    159.8,   114.43,    33.57,     2.41
      09FA9605, ISS3a,    64,  1,     17,     17,19960523,0357,-24.8377, 103.6202, 5303,   2394.0,   2.0100,  34.7280,  34.7300,    286.7,    164.8,   117.25,    33.37,     2.39
      09FA9605, ISS3a,    64,  1,     22,     22,19960523,0357,-24.8377, 103.6202, 5303,   2696.0,   1.8170,  34.7300,  34.7320,    299.5,    172.7,   118.02,    32.98,     2.35
      09FA9605, ISS3a,    64,  1,     24,     24,19960523,0357,-24.8377, 103.6202, 5303,   2994.0,   1.6590,  34.7290,  34.7320,    311.0,    177.7,   119.87,    32.79,     2.35
      09FA9605, ISS3a,    64,  1,     21,     21,19960523,0357,-24.8377, 103.6202, 5303,   3294.0,   1.5070,  34.7280,  34.7280,    322.1,    182.4,   123.76,    32.79,     2.33
      09FA9605, ISS3a,    64,  1,      9,      9,19960523,0357,-24.8377, 103.6202, 5303,   3594.0,   1.3840,  34.7250,  34.7250,    333.6,    186.7,   124.64,    32.50,     2.31
      09FA9605, ISS3a,    64,  1,     18,     18,19960523,0357,-24.8377, 103.6202, 5303,   3896.0,   1.2800,  34.7240,  34.7230,    346.3,    191.9,   124.44,    32.40,     2.29
      09FA9605, ISS3a,    64,  1,     15,     15,19960523,0357,-24.8377, 103.6202, 5303,   4194.0,   1.1920,  34.7210,  34.7210,    358.1,    196.8,   123.76,    32.20,     2.27
      09FA9605, ISS3a,    64,  1,      1,      1,19960523,0357,-24.8377, 103.6202, 5303,   4194.0,   1.1920,  34.7210,  34.7200,    358.1,    197.9,   123.66,    32.20,  -999.00
      09FA9605, ISS3a,    64,  1,     14,     14,19960523,0357,-24.8377, 103.6202, 5303,   4796.0,   1.0610,  34.7170,  34.7160,    383.5,    207.1,   122.10,    31.91,     2.24
      09FA9605, ISS3a,    64,  1,     20,     20,19960523,0357,-24.8377, 103.6202, 5303,   5096.0,   1.0510,  34.7150,  34.7140,    394.3,    206.8,   121.33,    31.91,     2.25
      09FA9605, ISS3a,    64,  1,      3,      3,19960523,0357,-24.8377, 103.6202, 5303,   5412.0,   1.0770,  34.7140,  34.7100,    405.1,    208.5,   121.91,    31.91,     2.25
      09FA9605, ISS3a,    65,  1,     12,     12,19960523,1040,-24.7207, 104.1693, 5281,    100.0,  21.1720,  36.0120,  36.0180,    148.5,    221.6,     2.83,     0.78,     0.16
      09FA9605, ISS3a,    65,  1,     11,     11,19960523,1040,-24.7207, 104.1693, 5281,    196.0,  16.8760,  35.8300,  35.8570,    154.6,    216.5,     2.53,     2.05,     0.32
      09FA9605, ISS3a,    65,  1,      8,      8,19960523,1040,-24.7207, 104.1693, 5281,    394.0,  11.3420,  35.0020,  34.9850,    192.0,    239.5,     3.02,    10.71,     0.83
      09FA9605, ISS3a,    65,  1,      5,      5,19960523,1040,-24.7207, 104.1693, 5281,    596.0,   9.0170,  34.6400,  34.6420,    215.2,    229.6,     6.33,    18.41,     1.30
      09FA9605, ISS3a,    65,  1,     10,     10,19960523,1040,-24.7207, 104.1693, 5281,    794.0,   5.8000,  34.4400,  34.4510,    218.1,    176.6,    35.44,    30.08,     2.15
      09FA9605, ISS3a,    65,  1,      7,      7,19960523,1040,-24.7207, 104.1693, 5281,    994.0,   4.7010,  34.5470,  34.5490,    211.5,    129.7,    71.45,    34.55,     2.56
      09FA9605, ISS3a,    65,  1,      6a,      6,19960523,1040,-24.7207, 104.1693, 5281,   1190.0,   4.1100,  34.5960,  34.6030,    220.6,    126.0,    85.45,    35.14,     2.63
      09FA9605, ISS3a,    65,  1,      2,      2,19960523,1040,-24.7207, 104.1693, 5281,   1392.0,   3.4870,  34.6300,  34.6390,    235.0,    132.4,    91.67,    35.23,     2.60
      09FA9605, ISS3a,    65,  1,      4,      4,19960523,1040,-24.7207, 104.1693, 5281,   1592.0,   3.0320,  34.6620,  34.6710,    247.9,    143.9,    96.05,    34.64,     2.55
      09FA9605, ISS3a,    65,  1,      6b,      6,19960523,1040,-24.7207, 104.1693, 5281,   1792.0,   2.6710,  34.6890,  34.6950,    258.8,    150.0,   101.39,    34.45,     2.51
      09FA9605, ISS3a,    65,  1,     13,     13,19960523,1040,-24.7207, 104.1693, 5281,   1994.0,   2.3820,  34.7110,  34.7120,    268.6,    156.8,   109.17,    34.06,     2.48
      09FA9605, ISS3a,    65,  1,     17,     17,19960523,1040,-24.7207, 104.1693, 5281,   2394.0,   1.9910,  34.7220,  34.7240,    286.5,    166.1,   115.30,    33.86,     2.44
      09FA9605, ISS3a,    65,  1,     22,     22,19960523,1040,-24.7207, 104.1693, 5281,   2694.0,   1.8200,  34.7230,  34.7240,    298.1,    171.2,   117.73,    33.67,     2.42
      09FA9605, ISS3a,    65,  1,     24,     24,19960523,1040,-24.7207, 104.1693, 5281,   2996.0,   1.6860,  34.7230,  34.7270,    310.0,    176.4,   118.31,    33.28,     2.38
      09FA9605, ISS3a,    65,  1,     21,     21,19960523,1040,-24.7207, 104.1693, 5281,   3296.0,   1.5230,  34.7210,  34.7240,    321.7,    176.3,   118.51,    33.37,     2.39
      09FA9605, ISS3a,    65,  1,      9,      9,19960523,1040,-24.7207, 104.1693, 5281,   3594.0,   1.3950,  34.7180,  34.7190,    332.9,    185.8,   123.95,    33.18,     2.37
      09FA9605, ISS3a,    65,  1,     18,     18,19960523,1040,-24.7207, 104.1693, 5281,   3898.0,   1.2890,  34.7170,  34.7170,    346.1,    192.2,   123.08,    32.89,     2.34
      09FA9605, ISS3a,    65,  1,     15,     15,19960523,1040,-24.7207, 104.1693, 5281,   4194.0,   1.2000,  34.7150,  34.7150,    358.9,    198.1,   123.08,    32.69,     2.32
      09FA9605, ISS3a,    65,  1,     14,     14,19960523,1040,-24.7207, 104.1693, 5281,   4796.0,   1.0440,  34.7090,  34.7090,    383.9,    206.8,   122.30,    32.40,     2.29
      09FA9605, ISS3a,    65,  1,     20,     20,19960523,1040,-24.7207, 104.1693, 5281,   5096.0,   1.0460,  34.7080,  34.7080,    394.6,    207.2,   121.23,    32.40,     2.29
      09FA9605, ISS3a,    65,  1,     23,     23,19960523,1040,-24.7207, 104.1693, 5281,   5390.0,   1.0760,  34.7080,  34.7090,    404.3,    208.0,   122.79,    31.82,     2.26
      09FA9605, ISS3a,    65,  1,      3,      3,19960523,1040,-24.7207, 104.1693, 5281,   5390.0,   1.0760,  34.7080,  34.7080,    404.3,    208.0,   120.26,    32.40,     2.29
      09FA9605, ISS3a,    66,  1,     23,     23,19960523,1704,-24.6058, 104.6875, 5137,      4.0,  22.8610,  35.6350,  35.6530,    147.7,    220.1,     2.93,     0.20,     0.12
      09FA9605, ISS3a,    66,  1,     12,     12,19960523,1704,-24.6058, 104.6875, 5137,     98.0,  20.8240,  36.0350,  36.0460,    150.4,    222.4,     2.54,     0.20,     0.14
      09FA9605, ISS3a,    66,  1,     11a,     11,19960523,1704,-24.6058, 104.6875, 5137,    196.0,  16.7960,  35.8270,  35.7990,    156.2,    222.0,     2.05,     1.95,     0.31
      09FA9605, ISS3a,    66,  1,      8,      8,19960523,1704,-24.6058, 104.6875, 5137,    396.0,  10.9450,  34.9340,  34.9270,    194.7,    239.6,     3.12,    11.59,     0.87
      09FA9605, ISS3a,    66,  1,      5,      5,19960523,1704,-24.6058, 104.6875, 5137,    594.0,   8.9440,  34.6270,  34.6170,    216.6,    229.2,     6.52,    19.19,     1.32
      09FA9605, ISS3a,    66,  1,     10,     10,19960523,1704,-24.6058, 104.6875, 5137,    792.0,   5.5390,  34.4280,  34.4570,    219.4,    170.9,    38.94,    31.06,     2.19
      09FA9605, ISS3a,    66,  1,      7,      7,19960523,1704,-24.6058, 104.6875, 5137,    994.0,   4.4930,  34.5520,  34.5520,    217.2,    132.2,    67.94,    35.04,     2.56
      09FA9605, ISS3a,    66,  1,      6a,      6,19960523,1704,-24.6058, 104.6875, 5137,   1192.0,   4.0120,  34.5970,-999.0000,    223.2,    126.2,    78.64,    35.52,     2.61
      09FA9605, ISS3a,    66,  1,      2,      2,19960523,1704,-24.6058, 104.6875, 5137,   1392.0,   3.4100,  34.6280,  34.6490,    236.3,    135.0,    81.75,    35.23,     2.56
      09FA9605, ISS3a,    66,  1,      4,      4,19960523,1704,-24.6058, 104.6875, 5137,   1594.0,   2.9630,  34.6670,  34.6770,    249.0,    145.4,    89.24,    34.84,     2.52
      09FA9605, ISS3a,    66,  1,      6b,      6,19960523,1704,-24.6058, 104.6875, 5137,   1792.0,   2.5950,  34.6960,  34.7050,    260.0,    151.7,    99.93,    34.45,     2.47
      09FA9605, ISS3a,    66,  1,     13,     13,19960523,1704,-24.6058, 104.6875, 5137,   1994.0,   2.3450,  34.7120,  34.7160,    269.3,    155.8,   108.59,    34.35,     2.47
      09FA9605, ISS3a,    66,  1,     11b,     11,19960523,1704,-24.6058, 104.6875, 5137,   2194.0,   2.1280,  34.7210,  34.7250,    278.6,    161.7,   113.26,    34.25,     2.46
      09FA9605, ISS3a,    66,  1,     17,     17,19960523,1704,-24.6058, 104.6875, 5137,   2394.0,   1.9670,  34.7240,  34.7260,    286.6,    165.3,   109.85,    33.86,     2.42
      09FA9605, ISS3a,    66,  1,     22,     22,19960523,1704,-24.6058, 104.6875, 5137,   2594.0,   1.8170,  34.7240,  34.7260,    295.5,    170.2,   114.52,    33.57,     2.39
      09FA9605, ISS3a,    66,  1,     24,     24,19960523,1704,-24.6058, 104.6875, 5137,   2894.0,   1.6780,  34.7250,  34.7260,    307.2,    176.7,   118.90,    33.47,     2.37
      09FA9605, ISS3a,    66,  1,     21,     21,19960523,1704,-24.6058, 104.6875, 5137,   3196.0,   1.5160,  34.7220,  34.7230,    318.6,    181.0,   121.62,    33.37,     2.37
      09FA9605, ISS3a,    66,  1,      9,      9,19960523,1704,-24.6058, 104.6875, 5137,   3496.0,   1.4110,  34.7200,  34.7190,    329.2,    184.8,   113.25,    33.37,     2.35
      09FA9605, ISS3a,    66,  1,     18,     18,19960523,1704,-24.6058, 104.6875, 5137,   3794.0,   1.3060,  34.7180,  34.7190,    341.1,    190.8,   110.82,    33.08,     2.33
      09FA9605, ISS3a,    66,  1,     15,     15,19960523,1704,-24.6058, 104.6875, 5137,   4096.0,   1.2070,  34.7160,  34.7190,    354.6,    194.4,   114.52,    32.69,     2.30
      09FA9605, ISS3a,    66,  1,     14,     14,19960523,1704,-24.6058, 104.6875, 5137,   4694.0,   1.0830,  34.7120,  34.7130,    378.7,    200.8,   115.88,    32.59,     2.28
      09FA9605, ISS3a,    66,  1,     20,     20,19960523,1704,-24.6058, 104.6875, 5137,   4996.0,   1.0470,  34.7090,  34.7100,    390.4,    204.4,   115.10,    32.40,     2.29
      09FA9605, ISS3a,    66,  1,      3,      3,19960523,1704,-24.6058, 104.6875, 5137,   5244.0,   1.0620,  34.7090,  34.7090,    399.3,    207.1,   115.00,    32.50,     2.26
      09FA9605, ISS3a,    67,  1,     23,     23,19960523,2341,-24.4687, 105.2252, 5759,      2.0,  22.7750,  35.6600,  35.6570,    150.3,    219.6,     2.73,     0.10,     0.11
      09FA9605, ISS3a,    67,  1,     12,     12,19960523,2341,-24.4687, 105.2252, 5759,     94.0,  21.6670,  35.9940,  35.9990,    148.0,    223.3,     2.54,     0.10,     0.10
      09FA9605, ISS3a,    67,  1,     11a,     11,19960523,2341,-24.4687, 105.2252, 5759,    194.0,  17.0830,  35.8600,  35.8840,    155.1,    217.1,     2.14,     1.66,     0.26
      09FA9605, ISS3a,    67,  1,      8,      8,19960523,2341,-24.4687, 105.2252, 5759,    396.0,  10.8290,  34.9200,  34.9100,    190.3,    238.1,     3.12,    11.98,     0.87
      09FA9605, ISS3a,    67,  1,      5,      5,19960523,2341,-24.4687, 105.2252, 5759,    594.0,   8.0300,  34.5420,  34.5700,    211.2,    219.7,     8.47,    21.13,     1.43
      09FA9605, ISS3a,    67,  1,     10,     10,19960523,2341,-24.4687, 105.2252, 5759,    792.0,   5.3020,  34.4690,  34.4750,    213.3,    159.0,    44.68,    31.83,     2.26
      09FA9605, ISS3a,    67,  1,      7,      7,19960523,2341,-24.4687, 105.2252, 5759,    990.0,   4.5250,  34.5520,  34.5550,    214.3,    126.8,    69.01,    35.04,     2.56
      09FA9605, ISS3a,    67,  1,      6,      6,19960523,2341,-24.4687, 105.2252, 5759,   1190.0,   4.0170,  34.6130,  34.6130,    221.4,    122.6,    81.46,    35.43,     2.61
      09FA9605, ISS3a,    67,  1,      2,      2,19960523,2341,-24.4687, 105.2252, 5759,   1390.0,   3.4990,  34.6350,  34.6370,    234.5,    130.6,    87.59,    35.42,     2.58
      09FA9605, ISS3a,    67,  1,      4,      4,19960523,2341,-24.4687, 105.2252, 5759,   1592.0,   2.9640,  34.6620,  34.6660,    248.9,    143.1,    88.55,    34.84,     2.52
      09FA9605, ISS3a,    67,  1,     13,     13,19960523,2341,-24.4687, 105.2252, 5759,   1994.0,   2.3270,  34.7130,  34.7120,    269.4,    155.9,   109.76,    34.25,     2.45
      09FA9605, ISS3a,    67,  1,     11b,     11,19960523,2341,-24.4687, 105.2252, 5759,   2194.0,   2.1580,  34.7200,  34.7180,    277.3,    160.1,   113.45,    34.25,     2.45
      09FA9605, ISS3a,    67,  1,     17,     17,19960523,2341,-24.4687, 105.2252, 5759,   2494.0,   1.8980,  34.7250,  34.7210,    290.4,    165.9,   116.37,    33.96,     2.41
      09FA9605, ISS3a,    67,  1,     22,     22,19960523,2341,-24.4687, 105.2252, 5759,   2792.0,   1.7180,  34.7250,  34.7210,    302.8,    174.3,   119.00,    33.37,     2.36
      09FA9605, ISS3a,    67,  1,     24,     24,19960523,2341,-24.4687, 105.2252, 5759,   3094.0,   1.5640,  34.7230,  34.7210,    315.0,    179.2,   118.61,    33.28,     2.35
      09FA9605, ISS3a,    67,  1,     21,     21,19960523,2341,-24.4687, 105.2252, 5759,   3392.0,   1.4250,  34.7210,  34.7170,    326.7,    183.5,   121.42,    33.18,     2.34
      09FA9605, ISS3a,    67,  1,      9,      9,19960523,2341,-24.4687, 105.2252, 5759,   3694.0,   1.3000,  34.7180,  34.7130,    338.6,    188.5,   123.08,    33.08,     2.33
      09FA9605, ISS3a,    67,  1,     18,     18,19960523,2341,-24.4687, 105.2252, 5759,   3996.0,   1.2180,  34.7160,  34.7100,    350.4,    193.1,   118.80,    32.98,     2.31
      09FA9605, ISS3a,    67,  1,     15,     15,19960523,2341,-24.4687, 105.2252, 5759,   4296.0,   1.1770,  34.7150,  34.7100,    361.8,    196.3,   120.16,    32.89,     2.29
      09FA9605, ISS3a,    67,  1,     14,     14,19960523,2341,-24.4687, 105.2252, 5759,   4896.0,   1.1260,  34.7130,  34.7090,    384.0,    199.7,   122.30,    32.59,     2.30
      09FA9605, ISS3a,    67,  1,     20,     20,19960523,2341,-24.4687, 105.2252, 5759,   5198.0,   1.1050,  34.7110,  34.7060,    396.0,    206.1,   121.23,    32.40,     2.25
      09FA9605, ISS3a,    67,  1,      3,      3,19960523,2341,-24.4687, 105.2252, 5759,   5466.0,   1.0950,  34.7100,  34.7060,    406.1,    205.8,   120.74,    32.40,     2.25