BOTTLE,20220929CCHSIOAMB
EXPOCODE,SECT_ID,STNNBR,CASTNO,SAMPNO,BTLNBR,DATE,TIME,LATITUDE,LONGITUDE,DEPTH,CTDPRS,CTDTMP,CTDSAL,SALNTY,CTDOXY,OXYGEN,SILCAT,NITRAT,PHSPHT
,,,,,,,,,,,DBAR,ITS-90,PSS-78,PSS-78,UMOL/KG,UMOL/KG,UMOL/KG,UMOL/KG,UMOL/KG
      09FA9605, ISS3a,    20,  1,     23,     23,19960513,1642,-34.0445, 107.6292, 5318,      6.0,  18.7460,  36.0270,  36.0120,    174.2,    231.6,     2.05,     0.19,     0.16
      09FA9605, ISS3a,    20,  1,      8,      8,19960513,1642,-34.0445, 107.6292, 5318,     98.0,  18.7590,  36.0230,  36.0110,    174.8,    232.1,     1.95,     0.19,     0.15
      09FA9605, ISS3a,    20,  1,     22,     22,19960513,1642,-34.0445, 107.6292, 5318,    198.0,  14.7590,  35.5360,  35.5260,    180.3,    232.6,     1.56,     3.21,     0.40
      09FA9605, ISS3a,    20,  1,    11a,     11,19960513,1642,-34.0445, 107.6292, 5318,    394.0,   8.2310,  34.5550,  34.5570,    207.6,    220.7,     8.76,    20.84,     1.50
      09FA9605, ISS3a,    20,  1,     12,     12,19960513,1642,-34.0445, 107.6292, 5318,    594.0,   5.5580,  34.3980,  34.4120,    223.4,    196.3,    23.66,    28.23,     2.03
      09FA9605, ISS3a,    20,  1,      7,      7,19960513,1642,-34.0445, 107.6292, 5318,    792.0,   4.0460,  34.3880,  34.3930,    240.7,    188.7,    39.03,    31.25,     2.33
      09FA9605, ISS3a,    20,  1,      6,      6,19960513,1642,-34.0445, 107.6292, 5318,    992.0,   3.4270,  34.4650,  34.4610,    244.8,    170.2,    54.99,    33.09,     2.48
      09FA9605, ISS3a,    20,  1,      2,      2,19960513,1642,-34.0445, 107.6292, 5318,   1192.0,   3.1070,  34.5340,  34.5290,    250.0,    162.2,    64.72,    33.58,     2.52
      09FA9605, ISS3a,    20,  1,     10,     10,19960513,1642,-34.0445, 107.6292, 5318,   1392.0,   2.8600,  34.5970,  34.5960,    254.9,    159.7,    72.21,    33.38,     2.52
      09FA9605, ISS3a,    20,  1,      4,      4,19960513,1642,-34.0445, 107.6292, 5318,   1592.0,   2.6680,  34.6560,  34.6560,    261.4,    159.3,    81.06,    33.18,     2.50
      09FA9605, ISS3a,    20,  1,     16,     16,19960513,1642,-34.0445, 107.6292, 5318,   1792.0,   2.4670,  34.6890,  34.6900,    269.8,    163.5,    85.92,    32.69,     2.47
      09FA9605, ISS3a,    20,  1,     13,     13,19960513,1642,-34.0445, 107.6292, 5318,   1994.0,   2.3100,  34.7100,  34.7140,    277.6,    168.7,    90.30,    32.30,     2.42
      09FA9605, ISS3a,    20,  1,    11b,     11,19960513,1642,-34.0445, 107.6292, 5318,   2194.0,   2.1340,  34.7210,  34.7240,    284.1,    168.7,    96.91,    32.50,     2.43
      09FA9605, ISS3a,    20,  1,     17,     17,19960513,1642,-34.0445, 107.6292, 5318,   2392.0,   1.9960,  34.7260,  34.7260,    291.9,    172.6,    98.95,    32.21,     2.42
      09FA9605, ISS3a,    20,  1,     3a,      3,19960513,1642,-34.0445, 107.6292, 5318,   2696.0,   1.8150,  34.7290,  34.7300,    304.0,    179.4,   100.41,    31.91,     2.38
      09FA9605, ISS3a,    20,  1,     24,     24,19960513,1642,-34.0445, 107.6292, 5318,   2994.0,   1.6580,  34.7290,  34.7270,    315.7,    184.5,   103.62,    31.91,     2.36
      09FA9605, ISS3a,    20,  1,     21,     21,19960513,1642,-34.0445, 107.6292, 5318,   3296.0,   1.4880,  34.7260,  34.7260,    327.9,    190.4,   104.59,    31.62,     2.34
      09FA9605, ISS3a,    20,  1,      9,      9,19960513,1642,-34.0445, 107.6292, 5318,   3596.0,   1.3580,  34.7240,  34.7240,    339.0,    193.5,   109.17,    31.82,     2.36
      09FA9605, ISS3a,    20,  1,     18,     18,19960513,1642,-34.0445, 107.6292, 5318,   3896.0,   1.2550,  34.7220,  34.7250,    351.9,    199.6,   107.90,    31.43,     2.34
      09FA9605, ISS3a,    20,  1,     15,     15,19960513,1642,-34.0445, 107.6292, 5318,   4194.0,   1.1730,  34.7190,  34.7190,    363.9,    202.1,   109.07,    31.43,     2.33
      09FA9605, ISS3a,    20,  1,      1,      1,19960513,1642,-34.0445, 107.6292, 5318,   4194.0,   1.1730,  34.7190,  34.7160,    363.9,    202.8,   109.75,    31.52,     2.34
      09FA9605, ISS3a,    20,  1,     14,     14,19960513,1642,-34.0445, 107.6292, 5318,   4794.0,   0.9850,  34.7090,  34.7080,    387.6,    208.6,   110.72,    31.62,     2.34
      09FA9605, ISS3a,    20,  1,     20,     20,19960513,1642,-34.0445, 107.6292, 5318,   5096.0,   0.9800,  34.7070,  34.7090,    398.5,    208.5,   111.21,    31.62,     2.34
      09FA9605, ISS3a,    20,  1,     3b,      3,19960513,1642,-34.0445, 107.6292, 5318,   5428.0,   1.0010,  34.7060,  34.7070,    410.3,    209.4,   111.89,    31.62,     2.34
      09FA9605, ISS3a,    21,  1,     23,     23,19960513,2255,-33.8862, 107.2765, 5306,      2.0,  18.3810,  35.9650,  35.9700,    177.0,    232.6,     2.05,     0.10,     0.14
      09FA9605, ISS3a,    21,  1,      8,      8,19960513,2255,-33.8862, 107.2765, 5306,     96.0,  18.3800,  35.9620,  35.9350,    172.9,    231.1,     1.85,     0.19,     0.16
      09FA9605, ISS3a,    21,  1,     22,     22,19960513,2255,-33.8862, 107.2765, 5306,    194.0,  13.2500,  35.2960,  35.2930,    187.6,    238.7,     1.66,     5.55,     0.52
      09FA9605, ISS3a,    21,  1,     11,     11,19960513,2255,-33.8862, 107.2765, 5306,    396.0,   9.4530,  34.6930,  34.6970,    217.3,    243.3,     4.48,    15.68,     1.11
      09FA9605, ISS3a,    21,  1,     12,     12,19960513,2255,-33.8862, 107.2765, 5306,    592.0,   7.7250,  34.5060,-999.0000,    220.8,    208.2,    12.85,    23.86,     1.64
      09FA9605, ISS3a,    21,  1,      7,      7,19960513,2255,-33.8862, 107.2765, 5306,    794.0,   4.7590,  34.3760,  34.3850,    234.8,    195.5,    33.00,    30.47,     2.13
      09FA9605, ISS3a,    21,  1,      6,      6,19960513,2255,-33.8862, 107.2765, 5306,    992.0,   3.7210,  34.4200,  34.4280,    245.7,    177.7,    52.85,    33.00,     2.37
      09FA9605, ISS3a,    21,  1,      2,      2,19960513,2255,-33.8862, 107.2765, 5306,   1192.0,   3.2470,  34.5070,  34.5130,    248.3,    162.7,    67.74,    34.16,     2.46
      09FA9605, ISS3a,    21,  1,     10,     10,19960513,2255,-33.8862, 107.2765, 5306,   1394.0,   3.0040,  34.5780,  34.5950,    253.5,    157.2,    79.31,    34.16,     2.46
      09FA9605, ISS3a,    21,  1,      4,      4,19960513,2255,-33.8862, 107.2765, 5306,   1594.0,   2.7150,  34.6360,  34.6380,    261.3,    159.2,    84.76,    33.86,     2.44
      09FA9605, ISS3a,    21,  1,     16,     16,19960513,2255,-33.8862, 107.2765, 5306,   1794.0,   2.5460,  34.6790,  34.6850,    268.4,    161.2,    92.73,    33.47,     2.39
      09FA9605, ISS3a,    21,  1,     13,     13,19960513,2255,-33.8862, 107.2765, 5306,   1994.0,   2.3780,  34.7040,  34.7120,    276.0,    166.3,    99.25,    33.18,     2.37
      09FA9605, ISS3a,    21,  1,     17,     17,19960513,2255,-33.8862, 107.2765, 5306,   2394.0,   2.0500,  34.7250,  34.7280,    291.8,    173.2,   106.74,    32.79,     2.34
      09FA9605, ISS3a,    21,  1,     3a,      3,19960513,2255,-33.8862, 107.2765, 5306,   2698.0,   1.8630,  34.7280,  34.7300,    302.8,    178.3,   108.10,    32.59,     2.32
      09FA9605, ISS3a,    21,  1,     24,     24,19960513,2255,-33.8862, 107.2765, 5306,   2996.0,   1.6820,  34.7320,  34.7340,    316.5,    187.0,   111.41,    32.21,     2.28
      09FA9605, ISS3a,    21,  1,     21,     21,19960513,2255,-33.8862, 107.2765, 5306,   3296.0,   1.5080,  34.7310,  34.7300,    329.2,    193.3,   111.89,    32.01,     2.25
      09FA9605, ISS3a,    21,  1,      9,      9,19960513,2255,-33.8862, 107.2765, 5306,   3598.0,   1.3530,  34.7230,  34.7240,    339.7,    194.7,   117.63,    32.11,     2.29
      09FA9605, ISS3a,    21,  1,     18,     18,19960513,2255,-33.8862, 107.2765, 5306,   3892.0,   1.2700,  34.7230,  34.7180,    350.9,    196.8,   119.48,    32.11,     2.29
      09FA9605, ISS3a,    21,  1,     15,     15,19960513,2255,-33.8862, 107.2765, 5306,   4198.0,   1.1880,  34.7180,  34.7170,    363.0,    202.4,   116.46,    31.91,     2.26
      09FA9605, ISS3a,    21,  1,      1,      1,19960513,2255,-33.8862, 107.2765, 5306,   4198.0,   1.1880,  34.7180,  34.7170,    363.0,    202.6,   115.49,    32.01,     2.26
      09FA9605, ISS3a,    21,  1,     14,     14,19960513,2255,-33.8862, 107.2765, 5306,   4796.0,   1.0200,  34.7100,  34.7080,    386.7,    208.5,   118.41,    32.01,     2.29
      09FA9605, ISS3a,    21,  1,     20,     20,19960513,2255,-33.8862, 107.2765, 5306,   5094.0,   0.9770,  34.7070,  34.7090,    398.1,    207.9,   118.31,    31.82,     2.26
      09FA9605, ISS3a,    21,  1,     3b,      3,19960513,2255,-33.8862, 107.2765, 5306,   5406.0,   0.9980,  34.7060,  34.7080,    408.9,    209.8,   118.02,    31.91,     2.26
      09FA9605, ISS3a,    22,  1,     23,     23,19960514,0452,-33.8133, 106.8940, 5345,      2.0,  18.3300,  35.9680,  35.9800,    172.9,    230.7,     1.95,     0.19,     0.14
      09FA9605, ISS3a,    22,  1,      8,      8,19960514,0452,-33.8133, 106.8940, 5345,     96.0,  16.3900,  35.7100,  35.7070,    173.6,    234.9,     1.56,     0.88,     0.24
      09FA9605, ISS3a,    22,  1,     22,     22,19960514,0452,-33.8133, 106.8940, 5345,    194.0,  12.8080,  35.2300,  35.2880,    187.4,    238.7,     1.75,     5.84,     0.53
      09FA9605, ISS3a,    22,  1,     11,     11,19960514,0452,-33.8133, 106.8940, 5345,    394.0,   9.6360,  34.7210,  34.7430,    214.0,    244.0,     3.99,    14.51,     1.04
      09FA9605, ISS3a,    22,  1,     12,     12,19960514,0452,-33.8133, 106.8940, 5345,    592.0,   8.6170,  34.5880,  34.6160,    225.6,    234.5,     6.14,    18.50,     1.30
      09FA9605, ISS3a,    22,  1,      7,      7,19960514,0452,-33.8133, 106.8940, 5345,    794.0,   6.1180,  34.4200,  34.4280,    227.5,    197.5,    21.13,    27.46,     1.91
      09FA9605, ISS3a,    22,  1,      6,      6,19960514,0452,-33.8133, 106.8940, 5345,    994.0,   4.0280,  34.3780,  34.3930,    246.4,    188.8,    40.69,    31.54,     2.25
      09FA9605, ISS3a,    22,  1,      2,      2,19960514,0452,-33.8133, 106.8940, 5345,   1192.0,   3.3300,  34.4560,  34.4670,    251.6,    171.9,    57.72,    33.29,     2.40
      09FA9605, ISS3a,    22,  1,     10,     10,19960514,0452,-33.8133, 106.8940, 5345,   1392.0,   3.0510,  34.5570,  34.5610,    254.0,    160.0,    70.75,    33.77,     2.46
      09FA9605, ISS3a,    22,  1,      4,      4,19960514,0452,-33.8133, 106.8940, 5345,   1592.0,   2.7880,  34.6170,  34.6260,    260.7,    160.1,    78.14,    33.48,     2.43
      09FA9605, ISS3a,    22,  1,     16,     16,19960514,0452,-33.8133, 106.8940, 5345,   1790.0,   2.5930,  34.6730,  34.6760,    267.9,    162.3,    84.37,    33.08,     2.39
      09FA9605, ISS3a,    22,  1,     13,     13,19960514,0452,-33.8133, 106.8940, 5345,   1994.0,   2.3940,  34.7040,  34.7070,    275.8,    165.1,    94.09,    32.79,     2.38
      09FA9605, ISS3a,    22,  1,     17,     17,19960514,0452,-33.8133, 106.8940, 5345,   2390.0,   2.0730,  34.7250,  34.7270,    290.6,    170.9,   103.14,    32.50,     2.35
      09FA9605, ISS3a,    22,  1,     3a,      3,19960514,0452,-33.8133, 106.8940, 5345,   2692.0,   1.8610,  34.7300,  34.7350,    303.1,    178.2,   106.06,    32.11,     2.33
      09FA9605, ISS3a,    22,  1,     24,     24,19960514,0452,-33.8133, 106.8940, 5345,   2994.0,   1.6630,  34.7300,  34.7310,    316.0,    184.8,   108.10,    32.01,     2.31
      09FA9605, ISS3a,    22,  1,     21,     21,19960514,0452,-33.8133, 106.8940, 5345,   3296.0,   1.4790,  34.7300,  34.7270,    329.2,    189.5,   110.24,    31.91,     2.29
      09FA9605, ISS3a,    22,  1,      9,      9,19960514,0452,-33.8133, 106.8940, 5345,   3598.0,   1.3460,  34.7280,  34.7270,    342.7,    189.5,   111.40,    31.91,     2.29
      09FA9605, ISS3a,    22,  1,     18,     18,19960514,0452,-33.8133, 106.8940, 5345,   3896.0,   1.2130,  34.7220,  34.7190,    353.5,    198.5,   112.86,    31.82,     2.28
      09FA9605, ISS3a,    22,  1,     15,     15,19960514,0452,-33.8133, 106.8940, 5345,   4196.0,   1.1210,  34.7190,  34.7170,    365.1,    204.9,   111.31,    31.62,     2.25
      09FA9605, ISS3a,    22,  1,      1,      1,19960514,0452,-33.8133, 106.8940, 5345,   4196.0,   1.1210,  34.7190,  34.7200,    365.1,    204.8,   114.22,    31.62,     2.26
      09FA9605, ISS3a,    22,  1,     14,     14,19960514,0452,-33.8133, 106.8940, 5345,   4796.0,   0.9710,  34.7100,  34.7100,    388.4,    209.7,   116.56,    31.72,     2.30
      09FA9605, ISS3a,    22,  1,     20,     20,19960514,0452,-33.8133, 106.8940, 5345,   5098.0,   0.9780,  34.7090,  34.7080,    398.8,    209.3,   116.07,    31.62,     2.26
      09FA9605, ISS3a,    22,  1,     3b,      3,19960514,0452,-33.8133, 106.8940, 5345,   5462.0,   1.0020,  34.7080,  34.7070,    411.2,    210.2,   118.41,    31.72,     2.26
      09FA9605, ISS3a,    23,  1,     23,     23,19960514,1056,-33.6438, 106.5373, 5431,      4.0,  16.7700,  35.6770,  35.6810,    183.5,    239.9,     1.46,     0.39,     0.19
      09FA9605, ISS3a,    23,  1,      8,      8,19960514,1056,-33.6438, 106.5373, 5431,     98.0,  12.9440,  35.2240,  35.2960,    189.6,    241.6,     2.05,     5.46,     0.52
      09FA9605, ISS3a,    23,  1,     22,     22,19960514,1056,-33.6438, 106.5373, 5431,    196.0,  11.4230,  35.0030,  35.0300,    203.8,    247.3,     2.43,     9.16,     0.72
      09FA9605, ISS3a,    23,  1,    11a,     11,19960514,1056,-33.6438, 106.5373, 5431,    396.0,   9.8440,  34.7640,  34.7400,    224.8,    248.2,     4.19,    14.51,     1.03
      09FA9605, ISS3a,    23,  1,     12,     12,19960514,1056,-33.6438, 106.5373, 5431,    596.0,   9.0100,  34.6370,  34.6350,    229.9,    239.3,     5.75,    17.82,     1.25
      09FA9605, ISS3a,    23,  1,      7,      7,19960514,1056,-33.6438, 106.5373, 5431,    794.0,   6.7890,  34.4510,  34.4590,    225.8,    201.9,    16.75,    25.71,     1.77
      09FA9605, ISS3a,    23,  1,      6,      6,19960514,1056,-33.6438, 106.5373, 5431,    992.0,   4.4230,  34.3620,  34.3760,    246.1,    195.5,    35.24,    30.76,     2.18
      09FA9605, ISS3a,    23,  1,      2,      2,19960514,1056,-33.6438, 106.5373, 5431,   1194.0,   3.5940,  34.4670,  34.4670,    246.2,    169.8,    56.55,    33.09,     2.40
      09FA9605, ISS3a,    23,  1,     10,     10,19960514,1056,-33.6438, 106.5373, 5431,   1396.0,   3.1590,  34.5410,  34.5490,    251.8,    158.9,    69.10,    33.67,     2.46
      09FA9605, ISS3a,    23,  1,      4,      4,19960514,1056,-33.6438, 106.5373, 5431,   1596.0,   2.8670,  34.6100,  34.6150,    258.4,    157.4,    77.56,    33.48,     2.45
      09FA9605, ISS3a,    23,  1,     16,     16,19960514,1056,-33.6438, 106.5373, 5431,   1794.0,   2.6490,  34.6620,  34.6670,    265.9,    161.1,    82.81,    33.09,     2.40
      09FA9605, ISS3a,    23,  1,     13,     13,19960514,1056,-33.6438, 106.5373, 5431,   1994.0,   2.4620,  34.6990,  34.7030,    273.6,    164.2,    91.08,    32.89,     2.38
      09FA9605, ISS3a,    23,  1,    11b,     11,19960514,1056,-33.6438, 106.5373, 5431,   2194.0,   2.2780,  34.7170,  34.7200,    281.1,    168.3,    96.43,    32.40,     2.35
      09FA9605, ISS3a,    23,  1,     17,     17,19960514,1056,-33.6438, 106.5373, 5431,   2394.0,   2.1150,  34.7250,  34.7260,    289.6,    171.2,   100.71,    32.40,     2.34
      09FA9605, ISS3a,    23,  1,     3a,      3,19960514,1056,-33.6438, 106.5373, 5431,   2696.0,   1.9080,  34.7310,  34.7330,    302.1,    178.6,   101.09,    32.01,     2.31
      09FA9605, ISS3a,    23,  1,     24,     24,19960514,1056,-33.6438, 106.5373, 5431,   2996.0,   1.7080,  34.7350,  34.7360,    316.4,    188.4,   101.87,    31.43,     2.25
      09FA9605, ISS3a,    23,  1,     21,     21,19960514,1056,-33.6438, 106.5373, 5431,   3298.0,   1.5150,  34.7340,  34.7340,    329.6,    196.6,   103.23,    31.13,     2.21
      09FA9605, ISS3a,    23,  1,      9,      9,19960514,1056,-33.6438, 106.5373, 5431,   3600.0,   1.3090,  34.7290,  34.7280,    343.2,    201.8,   105.86,    31.13,     2.21
      09FA9605, ISS3a,    23,  1,     18,     18,19960514,1056,-33.6438, 106.5373, 5431,   3898.0,   1.1690,  34.7190,  34.7160,    352.3,    198.8,   114.03,    31.72,     2.27
      09FA9605, ISS3a,    23,  1,     15,     15,19960514,1056,-33.6438, 106.5373, 5431,   4196.0,   1.0660,  34.7160,  34.7150,    365.6,    206.1,   115.10,    31.62,     2.24
      09FA9605, ISS3a,    23,  1,      1,      1,19960514,1056,-33.6438, 106.5373, 5431,   4502.0,   0.9820,  34.7120,  34.7140,    378.1,    206.9,   115.78,    31.52,     2.24
      09FA9605, ISS3a,    23,  1,     14,     14,19960514,1056,-33.6438, 106.5373, 5431,   4798.0,   0.9670,  34.7100,  34.7050,    388.3,    210.9,   116.17,    31.52,     2.25
      09FA9605, ISS3a,    23,  1,     20,     20,19960514,1056,-33.6438, 106.5373, 5431,   5098.0,   0.9780,  34.7090,  34.7090,    398.5,    209.7,   118.21,    31.43,     2.25
      09FA9605, ISS3a,    23,  1,     3b,      3,19960514,1056,-33.6438, 106.5373, 5431,   5516.0,   1.0160,  34.7090,  34.7090,    412.4,    210.6,   117.82,    31.62,     2.25