BOTTLE,20220929CCHSIOAMB
EXPOCODE,SECT_ID,STNNBR,CASTNO,SAMPNO,BTLNBR,DATE,TIME,LATITUDE,LONGITUDE,DEPTH,CTDPRS,CTDTMP,CTDSAL,SALNTY,CTDOXY,OXYGEN,SILCAT,NITRAT,PHSPHT
,,,,,,,,,,,DBAR,ITS-90,PSS-78,PSS-78,UMOL/KG,UMOL/KG,UMOL/KG,UMOL/KG,UMOL/KG
      09FA9605, ISS3a,    28,  1,     23,     23,19960515,1839,-33.1320, 104.5310, 5481,     98.0,  14.4910,  35.5470,  35.5000,    182.6,    237.6,     1.85,     3.90,     0.37
      09FA9605, ISS3a,    28,  1,      8,      8,19960515,1839,-33.1320, 104.5310, 5481,    198.0,  12.4570,  35.2240,  35.1100,    195.0,    245.6,     2.82,     9.16,     0.63
      09FA9605, ISS3a,    28,  1,     22,     22,19960515,1839,-33.1320, 104.5310, 5481,    398.0,  10.2460,  34.8340,  34.8140,    218.3,    250.4,     4.19,    13.63,     0.89
      09FA9605, ISS3a,    28,  1,    11a,     11,19960515,1839,-33.1320, 104.5310, 5481,    598.0,   9.1200,  34.6530,  34.6630,    227.2,    241.8,     5.55,    17.53,     1.11
      09FA9605, ISS3a,    28,  1,     12,     12,19960515,1839,-33.1320, 104.5310, 5481,    796.0,   6.8750,  34.4630,  34.4870,    224.0,    203.1,    15.87,    25.51,     1.65
      09FA9605, ISS3a,    28,  1,      7,      7,19960515,1839,-33.1320, 104.5310, 5481,    996.0,   4.4170,  34.3830,  34.3950,    241.7,    189.2,    41.18,    31.74,     2.14
      09FA9605, ISS3a,    28,  1,      6,      6,19960515,1839,-33.1320, 104.5310, 5481,   1196.0,   3.6020,  34.4710,  34.4730,    245.5,    167.3,    64.04,    34.07,     2.37
      09FA9605, ISS3a,    28,  1,      2,      2,19960515,1839,-33.1320, 104.5310, 5481,   1394.0,   3.2100,  34.5440,  34.5570,    250.4,    156.7,    78.54,    34.65,     2.44
      09FA9605, ISS3a,    28,  1,     10,     10,19960515,1839,-33.1320, 104.5310, 5481,   1596.0,   2.8650,  34.6150,  34.6230,    257.9,    157.9,    87.49,    34.45,     2.41
      09FA9605, ISS3a,    28,  1,      4,      4,19960515,1839,-33.1320, 104.5310, 5481,   1794.0,   2.6940,  34.6690,  34.6760,    264.4,    157.6,    97.02,    34.06,     2.39
      09FA9605, ISS3a,    28,  1,     16,     16,19960515,1839,-33.1320, 104.5310, 5481,   1994.0,   2.4590,  34.7030,  34.7030,    272.2,    162.7,   103.34,    33.76,     2.37
      09FA9605, ISS3a,    28,  1,     13,     13,19960515,1839,-33.1320, 104.5310, 5481,   2294.0,   2.1880,  34.7260,  34.7260,    286.0,    171.2,   109.76,    33.28,     2.33
      09FA9605, ISS3a,    28,  1,    11b,     11,19960515,1839,-33.1320, 104.5310, 5481,   2594.0,   1.9600,  34.7340,  34.7360,    298.3,    182.7,   110.82,    32.79,     2.27
      09FA9605, ISS3a,    28,  1,     17,     17,19960515,1839,-33.1320, 104.5310, 5481,   2900.0,   1.7250,  34.7360,  34.7390,    311.7,    188.0,   112.38,    32.30,     2.21
      09FA9605, ISS3a,    28,  1,     3a,      3,19960515,1839,-33.1320, 104.5310, 5481,   2900.0,   1.7250,  34.7360,  34.7400,    311.7,    187.9,   112.38,    32.30,     2.22
      09FA9605, ISS3a,    28,  1,     24,     24,19960515,1839,-33.1320, 104.5310, 5481,   3496.0,   1.3130,  34.7320,  34.7400,    339.6,    196.8,   113.44,    31.91,     2.18
      09FA9605, ISS3a,    28,  1,     21,     21,19960515,1839,-33.1320, 104.5310, 5481,   3796.0,   1.1420,  34.7250,  34.7240,    351.4,    204.4,   123.17,    32.20,     2.19
      09FA9605, ISS3a,    28,  1,      9,      9,19960515,1839,-33.1320, 104.5310, 5481,   4092.0,   1.0020,  34.7170,  34.7150,    363.4,    208.4,   126.68,    32.30,     2.20
      09FA9605, ISS3a,    28,  1,     18,     18,19960515,1839,-33.1320, 104.5310, 5481,   4396.0,   0.9490,  34.7140,  34.7110,    373.8,    209.3,   129.59,    32.40,     2.21
      09FA9605, ISS3a,    28,  1,     15,     15,19960515,1839,-33.1320, 104.5310, 5481,   4696.0,   0.9500,  34.7120,  34.7140,    383.8,    209.4,   128.53,    32.30,     2.21
      09FA9605, ISS3a,    28,  1,      1,      1,19960515,1839,-33.1320, 104.5310, 5481,   4994.0,   0.9690,  34.7120,  34.7120,    394.0,    210.0,   129.50,    32.50,     2.23
      09FA9605, ISS3a,    28,  1,     14,     14,19960515,1839,-33.1320, 104.5310, 5481,   5294.0,   0.9970,  34.7120,  34.7090,    403.9,    210.2,   130.18,    32.69,     2.24
      09FA9605, ISS3a,    28,  1,     20,     20,19960515,1839,-33.1320, 104.5310, 5481,   5608.0,   1.0320,  34.7110,  34.7080,    414.4,    209.9,   130.67,    32.50,     2.23
      09FA9605, ISS3a,    28,  1,     3b,      3,19960515,1839,-33.1320, 104.5310, 5481,   5608.0,   1.0320,  34.7110,  34.7080,    414.4,    209.7,   130.86,    32.40,     2.24
      09FA9605, ISS3a,    29,  1,     23,     23,19960516,0153,-32.9508, 103.9717, 5423,      2.0,  17.4810,  35.9280,  35.9360,    166.0,    235.3,     1.75,     0.10,     0.17
      09FA9605, ISS3a,    29,  1,      8,      8,19960516,0153,-32.9508, 103.9717, 5423,     96.0,  17.4970,  35.9300,  35.9330,    178.5,    235.6,     1.66,     0.10,     0.16
      09FA9605, ISS3a,    29,  1,     22,     22,19960516,0153,-32.9508, 103.9717, 5423,    196.0,  13.3760,  35.3500,  35.3730,    188.2,    238.0,     1.85,     5.07,     0.43
      09FA9605, ISS3a,    29,  1,    11a,     11,19960516,0153,-32.9508, 103.9717, 5423,    394.0,  10.2510,  34.8190,  34.8260,    213.5,    245.8,     3.70,    12.95,     0.87
      09FA9605, ISS3a,    29,  1,     12,     12,19960516,0153,-32.9508, 103.9717, 5423,    594.0,   9.1810,  34.6560,  34.6620,    227.8,    242.6,     5.45,    16.95,     1.14
      09FA9605, ISS3a,    29,  1,      7,      7,19960516,0153,-32.9508, 103.9717, 5423,    792.0,   7.2410,  34.4770,  34.4940,    224.1,    207.1,    14.22,    24.34,     1.64
      09FA9605, ISS3a,    29,  1,      6,      6,19960516,0153,-32.9508, 103.9717, 5423,    994.0,   4.6110,  34.3730,  34.3820,    240.6,    195.3,    35.82,    30.28,     2.12
      09FA9605, ISS3a,    29,  1,      2,      2,19960516,0153,-32.9508, 103.9717, 5423,   1196.0,   3.5730,  34.4360,  34.4460,    249.4,    175.9,    59.18,    33.09,     2.37
      09FA9605, ISS3a,    29,  1,     10,     10,19960516,0153,-32.9508, 103.9717, 5423,   1394.0,   3.1810,  34.5320,  34.5320,    251.5,    159.0,    75.91,    33.97,     2.46
      09FA9605, ISS3a,    29,  1,      4,      4,19960516,0153,-32.9508, 103.9717, 5423,   1594.0,   2.8760,  34.6040,  34.6070,    258.2,    158.9,    85.74,    33.67,     2.43
      09FA9605, ISS3a,    29,  1,     16,     16,19960516,0153,-32.9508, 103.9717, 5423,   1790.0,   2.6860,  34.6650,  34.6650,    264.4,    158.2,    97.02,    33.57,     2.40
      09FA9605, ISS3a,    29,  1,     13,     13,19960516,0153,-32.9508, 103.9717, 5423,   1994.0,   2.4850,  34.6970,  34.6960,    272.3,    163.4,   102.75,    33.18,     2.36
      09FA9605, ISS3a,    29,  1,    11b,     11,19960516,0153,-32.9508, 103.9717, 5423,   2292.0,   2.2080,  34.7200,  34.7200,    285.1,    171.1,   111.70,    32.79,     2.33
      09FA9605, ISS3a,    29,  1,     17,     17,19960516,0153,-32.9508, 103.9717, 5423,   2592.0,   2.0030,  34.7370,  34.7340,    302.5,    188.3,   102.26,    31.23,     2.17
      09FA9605, ISS3a,    29,  1,     3a,      3,19960516,0153,-32.9508, 103.9717, 5423,   2892.0,   1.7350,  34.7350,  34.7340,    313.7,    187.7,   100.70,    31.14,     2.15
      09FA9605, ISS3a,    29,  1,     24,     24,19960516,0153,-32.9508, 103.9717, 5423,   3196.0,   1.5260,  34.7350,  34.7360,    327.8,    199.1,   112.77,    31.04,     2.13
      09FA9605, ISS3a,    29,  1,     21,     21,19960516,0153,-32.9508, 103.9717, 5423,   3496.0,   1.3260,  34.7290,  34.7260,    339.7,    201.6,   119.38,    31.23,     2.15
      09FA9605, ISS3a,    29,  1,      9,      9,19960516,0153,-32.9508, 103.9717, 5423,   3798.0,   1.1490,  34.7210,  34.7190,    352.1,    206.6,   124.25,    31.43,     2.15
      09FA9605, ISS3a,    29,  1,     18,     18,19960516,0153,-32.9508, 103.9717, 5423,   4094.0,   0.9970,  34.7130,  34.7130,    363.9,    208.6,   128.82,    31.52,     2.17
      09FA9605, ISS3a,    29,  1,     15,     15,19960516,0153,-32.9508, 103.9717, 5423,   4396.0,   0.9380,  34.7090,  34.7130,    374.8,    209.3,   130.47,    31.62,     2.18
      09FA9605, ISS3a,    29,  1,      1,      1,19960516,0153,-32.9508, 103.9717, 5423,   4698.0,   0.9470,  34.7080,-999.0000,    384.6,   -999.0,  -999.00,  -999.00,  -999.00
      09FA9605, ISS3a,    29,  1,     14,     14,19960516,0153,-32.9508, 103.9717, 5423,   4994.0,   0.9670,  34.7070,  34.7090,    395.2,    211.1,   130.96,    31.13,     2.30
      09FA9605, ISS3a,    29,  1,     20,     20,19960516,0153,-32.9508, 103.9717, 5423,   5296.0,   0.9940,  34.7080,  34.7060,    405.1,    210.6,   131.54,    31.52,     2.30
      09FA9605, ISS3a,    29,  1,     3b,      3,19960516,0153,-32.9508, 103.9717, 5423,   5562.0,   1.0220,  34.7070,  34.7060,    414.2,    210.7,   131.93,    31.82,     2.30
      09FA9605, ISS3a,    30,  1,     23,     23,19960516,0854,-32.7748, 103.4118, 5204,      4.0,  17.7980,  35.9600,  35.9850,    171.2,    235.8,     1.46,     0.19,     0.17
      09FA9605, ISS3a,    30,  1,      8,      8,19960516,0854,-32.7748, 103.4118, 5204,     96.0,  17.3040,  35.8290,  35.7870,    174.1,    238.0,     1.27,     0.29,     0.20
      09FA9605, ISS3a,    30,  1,     22,     22,19960516,0854,-32.7748, 103.4118, 5204,    198.0,  13.3800,  35.3700,  35.3310,    184.7,    236.9,     2.05,     5.55,     0.54
      09FA9605, ISS3a,    30,  1,    11a,     11,19960516,0854,-32.7748, 103.4118, 5204,    396.0,  10.4150,  34.8490,  34.8600,    210.5,    242.4,     3.60,    12.56,     0.93
      09FA9605, ISS3a,    30,  1,      7,      7,19960516,0854,-32.7748, 103.4118, 5204,    796.0,   7.2910,  34.4850,  34.4810,    222.4,    202.0,    15.09,    25.41,     1.74
      09FA9605, ISS3a,    30,  1,      6,      6,19960516,0854,-32.7748, 103.4118, 5204,    992.0,   4.7870,  34.3820,  34.3800,    238.9,    195.5,    33.59,    30.96,     2.16
      09FA9605, ISS3a,    30,  1,      2,      2,19960516,0854,-32.7748, 103.4118, 5204,   1194.0,   3.6550,  34.4410,  34.4470,    246.7,    173.8,    56.16,    33.78,     2.39
      09FA9605, ISS3a,    30,  1,     10,     10,19960516,0854,-32.7748, 103.4118, 5204,   1394.0,   3.1960,  34.5300,  34.5250,    251.0,    161.9,    69.59,    34.55,     2.47
      09FA9605, ISS3a,    30,  1,      4,      4,19960516,0854,-32.7748, 103.4118, 5204,   1594.0,   2.9190,  34.5990,  34.6010,    257.7,    158.4,    79.99,    34.55,     2.46
      09FA9605, ISS3a,    30,  1,     16,     16,19960516,0854,-32.7748, 103.4118, 5204,   1794.0,   2.6850,  34.6530,  34.6610,    265.8,    161.0,    87.77,    33.96,     2.41
      09FA9605, ISS3a,    30,  1,     13,     13,19960516,0854,-32.7748, 103.4118, 5204,   1996.0,   2.4900,  34.6930,  34.6970,    272.8,    164.1,    96.33,    33.77,     2.39
      09FA9605, ISS3a,    30,  1,    11b,     11,19960516,0854,-32.7748, 103.4118, 5204,   2194.0,   2.3200,  34.7130,  34.7160,    281.4,    169.3,    99.64,    33.47,     2.35
      09FA9605, ISS3a,    30,  1,     17,     17,19960516,0854,-32.7748, 103.4118, 5204,   2396.0,   2.1430,  34.7230,  34.7240,    290.6,    175.0,   101.78,    33.08,     2.32
      09FA9605, ISS3a,    30,  1,     3a,      3,19960516,0854,-32.7748, 103.4118, 5204,   2596.0,   1.9690,  34.7310,  34.7290,    300.2,    180.6,   103.23,    32.69,     2.29
      09FA9605, ISS3a,    30,  1,     24,     24,19960516,0854,-32.7748, 103.4118, 5204,   2794.0,   1.8330,  34.7340,  34.7340,    308.6,    186.3,   104.21,    32.40,     2.25
      09FA9605, ISS3a,    30,  1,     21,     21,19960516,0854,-32.7748, 103.4118, 5204,   3092.0,   1.6260,  34.7360,  34.7370,    322.1,    195.3,   104.59,    32.01,     2.22
      09FA9605, ISS3a,    30,  1,      9,      9,19960516,0854,-32.7748, 103.4118, 5204,   3392.0,   1.3670,  34.7300,  34.7300,    335.8,    201.2,   109.65,    32.11,     2.22
      09FA9605, ISS3a,    30,  1,     18,     18,19960516,0854,-32.7748, 103.4118, 5204,   3692.0,   1.1750,  34.7210,  34.7240,    348.1,    204.6,   114.52,    32.20,     2.22
      09FA9605, ISS3a,    30,  1,     15,     15,19960516,0854,-32.7748, 103.4118, 5204,   3994.0,   1.0270,  34.7140,  34.7160,    360.3,    208.7,   118.21,    32.50,     2.23
      09FA9605, ISS3a,    30,  1,      1,      1,19960516,0854,-32.7748, 103.4118, 5204,   3994.0,   1.0270,  34.7140,  34.7140,    360.3,    208.3,   118.02,    32.50,     2.23
      09FA9605, ISS3a,    30,  1,     14,     14,19960516,0854,-32.7748, 103.4118, 5204,   4596.0,   0.9610,  34.7090,  34.7090,    380.9,    209.5,   120.94,    32.59,     2.26
      09FA9605, ISS3a,    30,  1,     20,     20,19960516,0854,-32.7748, 103.4118, 5204,   4894.0,   0.9700,  34.7080,  34.7080,    390.9,    209.1,   120.94,    32.59,     2.23
      09FA9605, ISS3a,    30,  1,     3b,      3,19960516,0854,-32.7748, 103.4118, 5204,   5318.0,   1.0020,  34.7070,  34.7060,    404.8,    209.5,   121.33,    32.69,     2.23
      09FA9605, ISS3a,    31,  1,      8,      8,19960516,1448,-32.6212, 102.9988, 4743,     98.0,  16.4700,  35.7660,  35.8150,    177.4,    238.1,     1.85,  -999.00,     0.44
      09FA9605, ISS3a,    31,  1,     22,     22,19960516,1448,-32.6212, 102.9988, 4743,    196.0,  13.7640,  35.4380,  35.4850,    184.8,    233.9,     1.66,     4.48,     0.42
      09FA9605, ISS3a,    31,  1,    11a,     11,19960516,1448,-32.6212, 102.9988, 4743,    396.0,  10.3740,  34.8440,  34.8790,    207.8,    242.4,     3.21,    12.56,     0.88
      09FA9605, ISS3a,    31,  1,     12,     12,19960516,1448,-32.6212, 102.9988, 4743,    590.0,   9.1680,  34.6590,  34.6750,    221.4,    236.7,     4.87,    17.53,     1.17
      09FA9605, ISS3a,    31,  1,      7,      7,19960516,1448,-32.6212, 102.9988, 4743,    792.0,   7.3570,  34.4920,  34.4970,    222.0,    202.6,    14.31,    25.51,     1.69
      09FA9605, ISS3a,    31,  1,      6,      6,19960516,1448,-32.6212, 102.9988, 4743,    992.0,   4.8310,  34.3990,  34.3940,    235.3,    191.2,    34.27,    31.54,     2.15
      09FA9605, ISS3a,    31,  1,      2,      2,19960516,1448,-32.6212, 102.9988, 4743,   1192.0,   3.8270,  34.4620,  34.4640,    241.1,    166.6,    57.72,    34.26,     2.40
      09FA9605, ISS3a,    31,  1,     10,     10,19960516,1448,-32.6212, 102.9988, 4743,   1392.0,   3.4340,  34.5500,  34.5560,    244.1,    150.7,    75.72,    35.33,     2.51
      09FA9605, ISS3a,    31,  1,      4,      4,19960516,1448,-32.6212, 102.9988, 4743,   1592.0,   3.0180,  34.5980,  34.6070,    254.3,    156.2,    81.75,    35.03,     2.47
      09FA9605, ISS3a,    31,  1,     16,     16,19960516,1448,-32.6212, 102.9988, 4743,   1790.0,   2.7700,  34.6560,  34.6630,    262.2,    156.1,    90.79,    34.74,     2.45
      09FA9605, ISS3a,    31,  1,     13,     13,19960516,1448,-32.6212, 102.9988, 4743,   1990.0,   2.5250,  34.6900,  34.6970,    272.1,    161.6,    97.70,    34.35,     2.41
      09FA9605, ISS3a,    31,  1,    11b,     11,19960516,1448,-32.6212, 102.9988, 4743,   2190.0,   2.3130,  34.7120,  34.7200,    281.1,    168.5,    99.44,    33.86,     2.35
      09FA9605, ISS3a,    31,  1,     17,     17,19960516,1448,-32.6212, 102.9988, 4743,   2392.0,   2.1410,  34.7230,  34.7270,    290.4,    173.7,   102.26,    33.57,     2.30
      09FA9605, ISS3a,    31,  1,     3a,      3,19960516,1448,-32.6212, 102.9988, 4743,   2592.0,   1.9850,  34.7330,  34.7350,    300.6,    181.9,   100.41,    32.98,     2.25
      09FA9605, ISS3a,    31,  1,     24,     24,19960516,1448,-32.6212, 102.9988, 4743,   2792.0,   1.8250,  34.7340,  34.7340,    308.6,    186.7,   104.30,    32.79,     2.24
      09FA9605, ISS3a,    31,  1,     21,     21,19960516,1448,-32.6212, 102.9988, 4743,   2994.0,   1.6680,  34.7350,  34.7340,    318.7,    192.0,   104.30,    32.59,     2.20
      09FA9605, ISS3a,    31,  1,      9,      9,19960516,1448,-32.6212, 102.9988, 4743,   3194.0,   1.5300,  34.7340,  34.7340,    327.5,    197.6,   106.44,    32.50,     2.19
      09FA9605, ISS3a,    31,  1,     18,     18,19960516,1448,-32.6212, 102.9988, 4743,   3394.0,   1.3670,  34.7300,  34.7310,    337.1,    202.8,   108.87,    32.40,     2.17
      09FA9605, ISS3a,    31,  1,     15,     15,19960516,1448,-32.6212, 102.9988, 4743,   3598.0,   1.2500,  34.7260,  34.7250,    345.4,    203.4,   112.47,    32.59,     2.19
      09FA9605, ISS3a,    31,  1,      1,      1,19960516,1448,-32.6212, 102.9988, 4743,   3598.0,   1.2500,  34.7260,  34.7250,    345.4,    203.9,   112.57,    32.59,     2.19
      09FA9605, ISS3a,    31,  1,     14,     14,19960516,1448,-32.6212, 102.9988, 4743,   4192.0,   1.0360,  34.7140,  34.7140,    367.5,    207.5,   119.28,    32.89,  -999.00
      09FA9605, ISS3a,    31,  1,     20,     20,19960516,1448,-32.6212, 102.9988, 4743,   4496.0,   1.0050,  34.7110,  34.7130,    378.0,    207.3,   119.19,    32.98,     2.21
      09FA9605, ISS3a,    31,  1,     23,     23,19960516,1448,-32.6212, 102.9988, 4743,   4842.0,   0.9860,  34.7090,  34.7110,    389.7,    209.7,   123.08,    32.40,     2.23
      09FA9605, ISS3a,    31,  1,     3b,      3,19960516,1448,-32.6212, 102.9988, 4743,   4842.0,   0.9860,  34.7090,  34.7120,    389.7,    208.3,   120.74,    33.08,     2.22