BOTTLE,20220929CCHSIOAMB
EXPOCODE,SECT_ID,STNNBR,CASTNO,SAMPNO,BTLNBR,DATE,TIME,LATITUDE,LONGITUDE,DEPTH,CTDPRS,CTDTMP,CTDSAL,SALNTY,CTDOXY,OXYGEN,SILCAT,NITRAT,PHSPHT
,,,,,,,,,,,DBAR,ITS-90,PSS-78,PSS-78,UMOL/KG,UMOL/KG,UMOL/KG,UMOL/KG,UMOL/KG
      09FA9605, ISS3a,    24,  1,     23,     23,19960514,1716,-33.5652, 106.1192, 5752,      6.0,  17.8000,  35.9900,  35.9940,    184.9,    234.5,     1.85,     0.10,     0.19
      09FA9605, ISS3a,    24,  1,      8,      8,19960514,1716,-33.5652, 106.1192, 5752,     96.0,  15.0520,  35.6740,  35.6800,    185.5,    235.1,     1.75,     1.66,     0.32
      09FA9605, ISS3a,    24,  1,     22,     22,19960514,1716,-33.5652, 106.1192, 5752,    196.0,  12.8920,  35.2740,  35.4050,    194.3,    239.4,     1.85,     4.77,     0.49
      09FA9605, ISS3a,    24,  1,     12,     12,19960514,1716,-33.5652, 106.1192, 5752,    594.0,   9.1500,  34.6530,  34.6590,    226.7,    243.9,     5.36,    16.95,     1.19
      09FA9605, ISS3a,    24,  1,      7,      7,19960514,1716,-33.5652, 106.1192, 5752,    792.0,   7.0380,  34.4730,  34.4810,    223.3,    200.5,    16.26,    25.61,     1.76
      09FA9605, ISS3a,    24,  1,      6,      6,19960514,1716,-33.5652, 106.1192, 5752,    994.0,   4.5820,  34.3990,  34.3970,    238.2,    187.8,    38.55,    31.44,     2.22
      09FA9605, ISS3a,    24,  1,      2,      2,19960514,1716,-33.5652, 106.1192, 5752,   1190.0,   3.7390,  34.4700,  34.4920,    240.9,    158.5,    64.05,    34.26,     2.47
      09FA9605, ISS3a,    24,  1,     10,     10,19960514,1716,-33.5652, 106.1192, 5752,   1392.0,   3.3390,  34.5550,  34.5690,    245.5,    151.7,    76.11,    34.55,     2.51
      09FA9605, ISS3a,    24,  1,      4,      4,19960514,1716,-33.5652, 106.1192, 5752,   1692.0,   2.8300,  34.6390,  34.6490,    259.1,    154.0,    86.80,    34.16,     2.47
      09FA9605, ISS3a,    24,  1,     16,     16,19960514,1716,-33.5652, 106.1192, 5752,   1994.0,   2.5160,  34.6950,  34.6980,    272.0,    161.7,    92.93,    33.38,     2.41
      09FA9605, ISS3a,    24,  1,     13,     13,19960514,1716,-33.5652, 106.1192, 5752,   2294.0,   2.2230,  34.7210,  34.7240,    284.5,    168.8,   100.22,    33.08,     2.38
      09FA9605, ISS3a,    24,  1,     11,     11,19960514,1716,-33.5652, 106.1192, 5752,   2594.0,   1.9860,  34.7310,  34.7330,    298.8,    175.9,   102.07,    32.50,     2.33
      09FA9605, ISS3a,    24,  1,     17,     17,19960514,1716,-33.5652, 106.1192, 5752,   2894.0,   1.7990,  34.7340,  34.7360,    311.6,    185.1,   104.11,    32.30,     2.29
      09FA9605, ISS3a,    24,  1,     3a,      3,19960514,1716,-33.5652, 106.1192, 5752,   3196.0,   1.5980,  34.7350,  34.7370,    324.9,    193.2,   105.18,    31.72,     2.26
      09FA9605, ISS3a,    24,  1,     24,     24,19960514,1716,-33.5652, 106.1192, 5752,   3498.0,   1.3940,  34.7310,  34.7320,    338.4,    198.0,   107.80,    31.72,     2.25
      09FA9605, ISS3a,    24,  1,     21,     21,19960514,1716,-33.5652, 106.1192, 5752,   3798.0,   1.2540,  34.7260,  34.7260,    349.8,    201.3,   112.86,    31.91,     2.27
      09FA9605, ISS3a,    24,  1,      9,      9,19960514,1716,-33.5652, 106.1192, 5752,   4094.0,   1.1430,  34.7200,  34.7200,    360.9,    203.7,   114.90,    32.01,     2.28
      09FA9605, ISS3a,    24,  1,     18,     18,19960514,1716,-33.5652, 106.1192, 5752,   4396.0,   1.0340,  34.7150,  34.7140,    372.9,    206.7,   115.10,    32.01,     2.28
      09FA9605, ISS3a,    24,  1,     15,     15,19960514,1716,-33.5652, 106.1192, 5752,   4696.0,   0.9930,  34.7120,  34.7120,    384.4,    208.7,   118.41,    32.11,     2.28
      09FA9605, ISS3a,    24,  1,      1,      1,19960514,1716,-33.5652, 106.1192, 5752,   4696.0,   0.9930,  34.7120,  34.7100,    384.4,    208.8,   115.78,    32.11,     2.33
      09FA9605, ISS3a,    24,  1,     20,     20,19960514,1716,-33.5652, 106.1192, 5752,   5594.0,   1.0220,  34.7090,  34.7090,    415.4,    209.7,   117.63,    31.33,     2.27
      09FA9605, ISS3a,    24,  1,     3b,      3,19960514,1716,-33.5652, 106.1192, 5752,   5892.0,   1.0600,  34.7090,  34.7060,    425.7,    209.8,   118.60,    32.01,     2.30
      09FA9605, ISS3a,    25,  1,     23,     23,19960514,2315,-33.4682, 105.7513, 5164,      2.0,  17.7030,  35.8780,  35.8930,    184.4,    232.4,     1.85,     0.10,     0.19
      09FA9605, ISS3a,    25,  1,      8,      8,19960514,2315,-33.4682, 105.7513, 5164,     98.0,  16.8200,  35.8050,  35.7590,    179.1,    229.4,     1.66,     1.56,     0.30
      09FA9605, ISS3a,    25,  1,     22,     22,19960514,2315,-33.4682, 105.7513, 5164,    196.0,  13.1230,  35.3200,  35.2780,    190.2,    241.4,     1.95,     6.04,     0.56
      09FA9605, ISS3a,    25,  1,    11a,     11,19960514,2315,-33.4682, 105.7513, 5164,    396.0,  10.2340,  34.8240,  34.8260,    212.9,    243.9,     3.70,    13.15,     0.96
      09FA9605, ISS3a,    25,  1,     12,     12,19960514,2315,-33.4682, 105.7513, 5164,    592.0,   9.0810,  34.6480,  34.6630,    225.6,    241.9,     5.26,    17.04,     1.21
      09FA9605, ISS3a,    25,  1,      7,      7,19960514,2315,-33.4682, 105.7513, 5164,    792.0,   7.0500,  34.4780,  34.4830,    222.6,    201.1,    15.77,    25.51,     1.76
      09FA9605, ISS3a,    25,  1,      6,      6,19960514,2315,-33.4682, 105.7513, 5164,    992.0,   4.4320,  34.3720,  34.3760,    243.0,    196.4,    34.95,    30.96,     2.19
      09FA9605, ISS3a,    25,  1,      2,      2,19960514,2315,-33.4682, 105.7513, 5164,   1194.0,   3.6790,  34.4800,  34.4900,    242.7,    162.0,    62.10,    33.97,     2.46
      09FA9605, ISS3a,    25,  1,     10,     10,19960514,2315,-33.4682, 105.7513, 5164,   1392.0,   3.2560,  34.5500,  34.5560,    248.4,    155.1,    72.90,    34.45,     2.51
      09FA9605, ISS3a,    25,  1,      4,      4,19960514,2315,-33.4682, 105.7513, 5164,   1592.0,   2.9500,  34.6140,  34.6270,    256.0,    154.7,    81.26,    34.06,     2.49
      09FA9605, ISS3a,    25,  1,     16,     16,19960514,2315,-33.4682, 105.7513, 5164,   1794.0,   2.7130,  34.6640,  34.6730,    264.1,    158.1,    87.58,    33.77,     2.46
      09FA9605, ISS3a,    25,  1,     13,     13,19960514,2315,-33.4682, 105.7513, 5164,   1992.0,   2.5120,  34.6970,  34.7010,    272.1,    162.8,    93.02,    33.18,     2.41
      09FA9605, ISS3a,    25,  1,    11b,     11,19960514,2315,-33.4682, 105.7513, 5164,   2192.0,   2.3220,  34.7170,  34.7230,    280.3,    166.7,    98.67,    32.99,     2.41
      09FA9605, ISS3a,    25,  1,     17,     17,19960514,2315,-33.4682, 105.7513, 5164,   2394.0,   2.1490,  34.7270,  34.7300,    289.1,    171.2,    97.88,    32.69,     2.37
      09FA9605, ISS3a,    25,  1,     24,     24,19960514,2315,-33.4682, 105.7513, 5164,   2796.0,   1.8540,  34.7370,  34.7420,    307.6,    185.5,    98.17,    31.72,     2.28
      09FA9605, ISS3a,    25,  1,     21,     21,19960514,2315,-33.4682, 105.7513, 5164,   3094.0,   1.6480,  34.7380,  34.7420,    320.7,    191.3,   102.55,    31.62,     2.26
      09FA9605, ISS3a,    25,  1,      9,      9,19960514,2315,-33.4682, 105.7513, 5164,   3394.0,   1.4600,  34.7360,  34.7340,    334.0,    197.8,   103.62,    31.43,     2.26
      09FA9605, ISS3a,    25,  1,     18,     18,19960514,2315,-33.4682, 105.7513, 5164,   3656.0,   1.3050,  34.7320,  34.7300,    345.7,    203.1,   106.25,    31.33,     2.24
      09FA9605, ISS3a,    25,  1,     15,     15,19960514,2315,-33.4682, 105.7513, 5164,   3996.0,   1.1360,  34.7240,  34.7250,    358.6,    205.0,   109.16,    31.62,     2.25
      09FA9605, ISS3a,    25,  1,      1,      1,19960514,2315,-33.4682, 105.7513, 5164,   3996.0,   1.1360,  34.7240,  34.7250,    358.6,    205.2,   111.21,    31.72,     2.26
      09FA9605, ISS3a,    25,  1,     14,     14,19960514,2315,-33.4682, 105.7513, 5164,   4596.0,   0.9590,  34.7140,  34.7130,    382.1,    209.2,   113.06,    32.20,     2.36
      09FA9605, ISS3a,    25,  1,     20,     20,19960514,2315,-33.4682, 105.7513, 5164,   4898.0,   0.9540,  34.7120,  34.7130,    392.2,    237.1,   117.04,    32.01,     2.36
      09FA9605, ISS3a,    25,  1,      3,      3,19960514,2315,-33.4682, 105.7513, 5164,   5230.0,   0.9780,  34.7120,  34.7090,    403.3,    209.6,   116.66,    32.11,     2.42
      09FA9605, ISS3a,    26,  1,     23,     23,19960515,0522,-33.2648, 105.3650, 5669,      2.0,  17.7930,  35.9560,  35.9650,    148.8,    233.4,     1.75,     0.19,     0.18
      09FA9605, ISS3a,    26,  1,      8,      8,19960515,0522,-33.2648, 105.3650, 5669,     96.0,  17.6780,  35.9470,  35.9460,    159.5,    234.1,     1.66,     0.19,     0.18
      09FA9605, ISS3a,    26,  1,     22,     22,19960515,0522,-33.2648, 105.3650, 5669,    196.0,  12.9430,  35.2700,  35.2480,    180.1,    241.0,     1.95,     6.43,     0.57
      09FA9605, ISS3a,    26,  1,    11a,     11,19960515,0522,-33.2648, 105.3650, 5669,    394.0,   9.9180,  34.7660,  34.7850,    212.8,    245.6,     3.80,    13.73,     0.99
      09FA9605, ISS3a,    26,  1,     12,     12,19960515,0522,-33.2648, 105.3650, 5669,    594.0,   8.9500,  34.6260,  34.6380,    226.2,    236.8,     5.75,    17.92,     1.48
      09FA9605, ISS3a,    26,  1,      7,      7,19960515,0522,-33.2648, 105.3650, 5669,    792.0,   6.7530,  34.4520,  34.4530,    226.4,    200.2,    17.92,    26.29,     1.84
      09FA9605, ISS3a,    26,  1,      6,      6,19960515,0522,-33.2648, 105.3650, 5669,    992.0,   4.4180,  34.3740,  34.3810,    245.4,    193.0,    37.67,    31.25,     2.22
      09FA9605, ISS3a,    26,  1,      2,      2,19960515,0522,-33.2648, 105.3650, 5669,   1192.0,   3.6070,  34.4830,  34.4810,    245.6,    165.0,    60.64,    33.77,     2.45
      09FA9605, ISS3a,    26,  1,     10,     10,19960515,0522,-33.2648, 105.3650, 5669,   1392.0,   3.2130,  34.5530,  34.5570,    250.7,    155.8,  -999.00,  -999.00,  -999.00
      09FA9605, ISS3a,    26,  1,      4,      4,19960515,0522,-33.2648, 105.3650, 5669,   1590.0,   2.9180,  34.6170,  34.6260,    258.1,    156.5,    81.16,    33.87,     2.50
      09FA9605, ISS3a,    26,  1,     16,     16,19960515,0522,-33.2648, 105.3650, 5669,   1792.0,   2.6650,  34.6670,  34.6720,    266.4,    159.0,    86.80,    33.38,     2.44
      09FA9605, ISS3a,    26,  1,     13,     13,19960515,0522,-33.2648, 105.3650, 5669,   1992.0,   2.4620,  34.7000,  34.7010,    274.6,    163.6,    92.83,    32.99,     2.40
      09FA9605, ISS3a,    26,  1,    11b,     11,19960515,0522,-33.2648, 105.3650, 5669,   2292.0,   2.1980,  34.7210,  34.7210,    286.5,    168.7,    98.57,    32.69,     2.36
      09FA9605, ISS3a,    26,  1,     17,     17,19960515,0522,-33.2648, 105.3650, 5669,   2594.0,   1.9590,  34.7300,  34.7300,    298.7,    173.9,   105.57,    32.60,     2.37
      09FA9605, ISS3a,    26,  1,     3a,      3,19960515,0522,-33.2648, 105.3650, 5669,   2894.0,   1.7650,  34.7320,  34.7360,    311.6,    183.8,   102.36,    31.91,     2.30
      09FA9605, ISS3a,    26,  1,     24,     24,19960515,0522,-33.2648, 105.3650, 5669,   3196.0,   1.5770,  34.7350,  34.7370,    326.3,    192.5,   102.55,    31.43,     2.27
      09FA9605, ISS3a,    26,  1,     21,     21,19960515,0522,-33.2648, 105.3650, 5669,   3496.0,   1.3960,  34.7320,  34.7300,    339.6,    199.7,   105.86,    31.33,     2.24
      09FA9605, ISS3a,    26,  1,      9,      9,19960515,0522,-33.2648, 105.3650, 5669,   3796.0,   1.2380,  34.7260,  34.7220,    351.5,    203.2,   109.94,    31.43,     2.25
      09FA9605, ISS3a,    26,  1,     18,     18,19960515,0522,-33.2648, 105.3650, 5669,   4094.0,   1.0800,  34.7190,  34.7170,    363.6,    207.3,   111.79,    31.43,     2.24
      09FA9605, ISS3a,    26,  1,     15,     15,19960515,0522,-33.2648, 105.3650, 5669,   4394.0,   0.9770,  34.7130,  34.7120,    375.5,    208.9,   114.52,    31.72,     2.25
      09FA9605, ISS3a,    26,  1,      1,      1,19960515,0522,-33.2648, 105.3650, 5669,   4394.0,   0.9770,  34.7130,  34.7110,    375.5,    208.7,   115.78,    31.72,     2.25
      09FA9605, ISS3a,    26,  1,     14,     14,19960515,0522,-33.2648, 105.3650, 5669,   4994.0,   0.9730,  34.7100,  34.7100,    395.5,    210.1,   117.73,    31.72,     2.28
      09FA9605, ISS3a,    26,  1,     20,     20,19960515,0522,-33.2648, 105.3650, 5669,   5294.0,   0.9950,  34.7100,  34.7080,    405.4,    209.9,   116.75,    31.82,     2.26
      09FA9605, ISS3a,    26,  1,     3b,      3,19960515,0522,-33.2648, 105.3650, 5669,   5800.0,   1.0500,  34.7090,  34.7060,    422.7,    210.1,   117.05,    31.72,     2.26
      09FA9605, ISS3a,    27,  1,     23,     23,19960515,1118,-33.2707, 104.9915, 5880,      2.0,  17.4040,  35.8860,  35.8310,    178.2,    237.8,     1.36,     0.19,     0.13
      09FA9605, ISS3a,    27,  1,      8,      8,19960515,1118,-33.2707, 104.9915, 5880,    102.0,  14.9430,  35.5760,  35.5510,    182.4,    236.7,     1.56,     2.73,     0.28
      09FA9605, ISS3a,    27,  1,     22,     22,19960515,1118,-33.2707, 104.9915, 5880,    200.0,  11.8090,  35.1060,  35.1140,    197.6,    245.5,     2.63,     8.77,     0.60
      09FA9605, ISS3a,    27,  1,    11a,     11,19960515,1118,-33.2707, 104.9915, 5880,    396.0,  10.0890,  34.8060,  34.8310,    219.8,    252.2,     3.90,    13.05,     0.85
      09FA9605, ISS3a,    27,  1,     12,     12,19960515,1118,-33.2707, 104.9915, 5880,    594.0,   9.0600,  34.6480,  34.6680,    227.0,    240.6,     5.26,    17.14,     1.12
      09FA9605, ISS3a,    27,  1,      7,      7,19960515,1118,-33.2707, 104.9915, 5880,    794.0,   6.7570,  34.4560,-999.0000,    224.4,    196.3,    26.87,    28.53,     1.94
      09FA9605, ISS3a,    27,  1,      6,      6,19960515,1118,-33.2707, 104.9915, 5880,    994.0,   4.4030,  34.3830,  34.3940,    242.4,    191.3,    38.94,    31.25,     2.18
      09FA9605, ISS3a,    27,  1,      2,      2,19960515,1118,-33.2707, 104.9915, 5880,   1194.0,   3.6540,  34.4790,  34.4770,    243.5,    168.1,    51.68,    29.20,     2.08
      09FA9605, ISS3a,    27,  1,     10,     10,19960515,1118,-33.2707, 104.9915, 5880,   1394.0,   3.2010,  34.5430,  34.5550,    250.9,    159.9,    74.06,    34.16,     2.45
      09FA9605, ISS3a,    27,  1,      4,      4,19960515,1118,-33.2707, 104.9915, 5880,   1594.0,   2.8920,  34.6150,  34.6250,    257.0,    158.0,    84.08,    33.96,     2.45
      09FA9605, ISS3a,    27,  1,     16,     16,19960515,1118,-33.2707, 104.9915, 5880,   1792.0,   2.6690,  34.6690,  34.6740,    264.9,    159.9,    92.05,    33.47,     2.41
      09FA9605, ISS3a,    27,  1,     13,     13,19960515,1118,-33.2707, 104.9915, 5880,   2094.0,   2.3560,  34.7120,  34.7120,    276.8,    168.1,   100.03,    32.99,     2.36
      09FA9605, ISS3a,    27,  1,    11b,     11,19960515,1118,-33.2707, 104.9915, 5880,   2396.0,   2.1000,  34.7300,  34.7320,    291.5,    181.5,   102.65,    32.30,     2.31
      09FA9605, ISS3a,    27,  1,     17,     17,19960515,1118,-33.2707, 104.9915, 5880,   2694.0,   1.8750,  34.7380,  34.7400,    304.3,    184.4,   105.18,    31.91,     2.27
      09FA9605, ISS3a,    27,  1,     3a,      3,19960515,1118,-33.2707, 104.9915, 5880,   2996.0,   1.6480,  34.7330,  34.7410,    316.0,    190.2,   109.65,    31.91,     2.25
      09FA9605, ISS3a,    27,  1,     24,     24,19960515,1118,-33.2707, 104.9915, 5880,   3296.0,   1.4710,  34.7360,  34.7360,    331.5,    197.0,   110.82,    31.52,     2.22
      09FA9605, ISS3a,    27,  1,     21,     21,19960515,1118,-33.2707, 104.9915, 5880,   3698.0,   1.2190,  34.7270,  34.7280,    348.2,    203.3,   117.05,    31.62,     2.23
      09FA9605, ISS3a,    27,  1,      9,      9,19960515,1118,-33.2707, 104.9915, 5880,   3896.0,   1.1340,  34.7230,  34.7180,    355.8,    205.6,   120.64,    31.82,     2.24
      09FA9605, ISS3a,    27,  1,     18,     18,19960515,1118,-33.2707, 104.9915, 5880,   4196.0,   0.9930,  34.7150,  34.7100,    367.7,    208.4,   124.54,    32.11,     2.25
      09FA9605, ISS3a,    27,  1,     15,     15,19960515,1118,-33.2707, 104.9915, 5880,   4494.0,   0.9450,  34.7120,  34.7100,    378.4,    209.5,   126.77,    32.11,     2.29
      09FA9605, ISS3a,    27,  1,      1,      1,19960515,1118,-33.2707, 104.9915, 5880,   4494.0,   0.9450,  34.7120,  34.7100,    378.4,    209.4,   126.77,    32.20,     2.26
      09FA9605, ISS3a,    27,  1,     14,     14,19960515,1118,-33.2707, 104.9915, 5880,   5096.0,   0.9690,  34.7110,  34.7100,    398.5,    210.5,   127.26,    32.11,     2.27
      09FA9605, ISS3a,    27,  1,     20,     20,19960515,1118,-33.2707, 104.9915, 5880,   5396.0,   1.0000,  34.7100,  34.7100,    408.1,    210.4,   128.23,    32.20,     2.27
      09FA9605, ISS3a,    27,  1,     3b,      3,19960515,1118,-33.2707, 104.9915, 5880,   5986.0,   1.0710,  34.7100,  34.7060,    428.1,    210.0,   129.60,    32.40,     2.28