BOTTLE,20220929CCHSIOAMB
EXPOCODE,SECT_ID,STNNBR,CASTNO,SAMPNO,BTLNBR,DATE,TIME,LATITUDE,LONGITUDE,DEPTH,CTDPRS,CTDTMP,CTDSAL,SALNTY,CTDOXY,OXYGEN,SILCAT,NITRAT,PHSPHT
,,,,,,,,,,,DBAR,ITS-90,PSS-78,PSS-78,UMOL/KG,UMOL/KG,UMOL/KG,UMOL/KG,UMOL/KG
      09FA9605, ISS3a,    90,  1,     23,     23,19960528,1748,-22.2062, 113.5945,  867,      6.0,  26.6380,  35.0670,  35.0740,    137.0,    202.6,     3.91,     0.39,     0.20
      09FA9605, ISS3a,    90,  1,      8,      8,19960528,1748,-22.2062, 113.5945,  867,     48.0,  26.6450,  35.0660,  35.0700,    132.7,    201.3,     3.42,     0.39,     0.19
      09FA9605, ISS3a,    90,  1,     11,     11,19960528,1748,-22.2062, 113.5945,  867,    100.0,  25.7520,  35.2600,  35.2640,    131.5,    205.7,     3.42,     0.20,     0.15
      09FA9605, ISS3a,    90,  1,     24,     24,19960528,1748,-22.2062, 113.5945,  867,    152.0,  22.2070,  35.2870,  35.0230,    123.2,    158.9,     9.47,     6.54,     0.55
      09FA9605, ISS3a,    90,  1,     21,     21,19960528,1748,-22.2062, 113.5945,  867,    200.0,  20.2220,  35.5800,  35.3520,    123.4,    155.1,    10.05,     8.29,     0.63
      09FA9605, ISS3a,    90,  1,      9,      9,19960528,1748,-22.2062, 113.5945,  867,    246.0,  19.0850,  35.8500,  35.8480,    136.5,    192.6,     4.39,     3.61,     0.35
      09FA9605, ISS3a,    90,  1,     18,     18,19960528,1748,-22.2062, 113.5945,  867,    296.0,  17.5410,  35.9020,  35.8990,    149.1,    213.7,     2.44,     2.24,     0.30
      09FA9605, ISS3a,    90,  1,     15,     15,19960528,1748,-22.2062, 113.5945,  867,    394.0,  12.5490,  35.2000,  35.1820,    173.8,    231.4,     2.92,     8.28,     0.66
      09FA9605, ISS3a,    90,  1,      1,      1,19960528,1748,-22.2062, 113.5945,  867,    498.0,   9.2380,  34.6860,  34.6830,    198.4,    234.2,     6.43,    17.04,     1.18
      09FA9605, ISS3a,    90,  1,     14,     14,19960528,1748,-22.2062, 113.5945,  867,    598.0,   7.3320,  34.5570,  34.5550,    196.8,    178.1,    27.36,    26.19,     1.71
      09FA9605, ISS3a,    90,  1,     20,     20,19960528,1748,-22.2062, 113.5945,  867,    700.0,   6.2460,  34.5820,  34.5810,    187.1,    127.1,    59.29,    31.83,     2.34
      09FA9605, ISS3a,    90,  1,      3,      3,19960528,1748,-22.2062, 113.5945,  867,    864.0,   5.5800,  34.6200,  34.6180,    189.7,    102.9,    80.70,    34.65,     2.57
      09FA9605, ISS3a,    91,  1,     23,     23,19960528,1941,-22.2118, 113.6970,  396,      6.0,  26.4970,  35.0270,  35.0440,    141.7,    205.0,     3.91,     0.20,     0.15
      09FA9605, ISS3a,    91,  1,     12,     12,19960528,1941,-22.2118, 113.6970,  396,     48.0,  26.4380,  35.0170,-999.0000,    132.0,    206.0,     3.91,     0.20,     0.15
      09FA9605, ISS3a,    91,  1,      2,      2,19960528,1941,-22.2118, 113.6970,  396,     98.0,  26.4260,  35.0610,  35.0440,    129.4,    204.0,     3.91,     0.20,     0.15
      09FA9605, ISS3a,    91,  1,      4,      4,19960528,1941,-22.2118, 113.6970,  396,    150.0,  25.3110,  35.2560,  35.2590,    128.2,    201.3,     3.91,     0.39,     0.15
      09FA9605, ISS3a,    91,  1,     18,     18,19960528,1941,-22.2118, 113.6970,  396,    200.0,  21.8500,  35.4440,  35.4140,    124.1,    182.2,     5.95,     3.61,     0.37
      09FA9605, ISS3a,    91,  1,     14,     14,19960528,1941,-22.2118, 113.6970,  396,    248.0,  19.7920,  35.8300,  35.8270,    133.1,    194.5,     3.90,     2.83,     0.31
      09FA9605, ISS3a,    91,  1,     20,     20,19960528,1941,-22.2118, 113.6970,  396,    300.0,  17.1570,  35.8190,  35.8110,    144.4,    211.5,     3.41,     3.02,     0.35
      09FA9605, ISS3a,    91,  1,      3,      3,19960528,1941,-22.2118, 113.6970,  396,    396.0,  10.8590,  34.9580,  34.9520,    175.9,    227.3,     6.43,    12.76,     0.94
      09FA9605, ISS3a,    92,  1,     23,     23,19960528,2113,-22.2220, 113.8008,   73,      6.0,  26.5620,  35.0770,  35.0760,    135.3,    202.2,     3.91,     0.20,     0.15
      09FA9605, ISS3a,    92,  1,      3,      3,19960528,2113,-22.2220, 113.8008,   73,     66.0,  26.5590,  35.0800,  35.0790,    126.9,    204.1,     3.91,     0.20,     0.15