BOTTLE,20220929CCHSIOAMB
EXPOCODE,SECT_ID,STNNBR,CASTNO,SAMPNO,BTLNBR,DATE,TIME,LATITUDE,LONGITUDE,DEPTH,CTDPRS,CTDTMP,CTDSAL,SALNTY,CTDOXY,OXYGEN,SILCAT,NITRAT,PHSPHT
,,,,,,,,,,,DBAR,ITS-90,PSS-78,PSS-78,UMOL/KG,UMOL/KG,UMOL/KG,UMOL/KG,UMOL/KG
      09FA9605, ISS3a,    32,  1,     23,     23,19960516,1956,-32.5195, 102.7122, 4558,      4.0,  18.9110,  36.0980,  36.0930,    180.1,    230.7,     1.75,     0.49,     0.08
      09FA9605, ISS3a,    32,  1,      8,      8,19960516,1956,-32.5195, 102.7122, 4558,    100.0,  16.8810,  35.7900,  35.8540,    179.5,    238.6,     1.36,     0.49,     0.13
      09FA9605, ISS3a,    32,  1,     22,     22,19960516,1956,-32.5195, 102.7122, 4558,    198.0,  13.3180,  35.3550,  35.4160,    187.4,    237.2,     1.66,     5.16,     0.41
      09FA9605, ISS3a,    32,  1,    11a,     11,19960516,1956,-32.5195, 102.7122, 4558,    396.0,  10.3780,  34.8440,  34.8660,    211.9,    242.5,     3.51,    13.15,     0.87
      09FA9605, ISS3a,    32,  1,     12,     12,19960516,1956,-32.5195, 102.7122, 4558,    596.0,   9.1750,  34.6620,  34.6720,    223.5,    236.4,     5.36,    17.92,     1.16
      09FA9605, ISS3a,    32,  1,      7,      7,19960516,1956,-32.5195, 102.7122, 4558,    794.0,   6.9960,  34.4740,  34.4980,    222.9,    199.5,    17.53,    26.19,     1.71
      09FA9605, ISS3a,    32,  1,      6,      6,19960516,1956,-32.5195, 102.7122, 4558,    992.0,   4.5950,  34.3920,  34.4140,    238.8,    181.6,    42.74,    32.32,     2.21
      09FA9605, ISS3a,    32,  1,      2,      2,19960516,1956,-32.5195, 102.7122, 4558,   1194.0,   3.7920,  34.4740,  34.4820,    241.8,    162.9,    64.82,    34.65,     2.40
      09FA9605, ISS3a,    32,  1,     10,     10,19960516,1956,-32.5195, 102.7122, 4558,   1394.0,   3.3620,  34.5480,  34.5580,    245.8,    152.9,    78.64,    35.04,     2.46
      09FA9605, ISS3a,    32,  1,      4,      4,19960516,1956,-32.5195, 102.7122, 4558,   1592.0,   3.0040,  34.6100,  34.6100,    254.4,    154.4,    85.44,    34.94,     2.44
      09FA9605, ISS3a,    32,  1,     16,     16,19960516,1956,-32.5195, 102.7122, 4558,   1792.0,   2.7410,  34.6560,  34.6520,    263.7,    158.3,    90.60,    34.35,     2.40
      09FA9605, ISS3a,    32,  1,     13,     13,19960516,1956,-32.5195, 102.7122, 4558,   1994.0,   2.5090,  34.6930,  34.6960,    272.1,    164.3,    97.31,    33.86,     2.35
      09FA9605, ISS3a,    32,  1,    11b,     11,19960516,1956,-32.5195, 102.7122, 4558,   2196.0,   2.3010,  34.7130,  34.7170,    281.6,    168.0,   101.49,    33.57,     2.33
      09FA9605, ISS3a,    32,  1,     17,     17,19960516,1956,-32.5195, 102.7122, 4558,   2396.0,   2.1450,  34.7250,  34.7290,    291.9,    178.0,    98.95,    32.60,     2.25
      09FA9605, ISS3a,    32,  1,     3a,      3,19960516,1956,-32.5195, 102.7122, 4558,   2596.0,   1.9870,  34.7320,  34.7330,    299.2,    180.7,   102.55,    32.69,     2.26
      09FA9605, ISS3a,    32,  1,     24,     24,19960516,1956,-32.5195, 102.7122, 4558,   2796.0,   1.8320,  34.7370,  34.7330,    310.0,    188.5,   100.80,    32.01,     2.19
      09FA9605, ISS3a,    32,  1,     21,     21,19960516,1956,-32.5195, 102.7122, 4558,   2994.0,   1.6700,  34.7350,  34.7330,    318.4,    191.4,   104.89,    32.01,     2.20
      09FA9605, ISS3a,    32,  1,      9,      9,19960516,1956,-32.5195, 102.7122, 4558,   3196.0,   1.5260,  34.7350,  34.7330,    328.8,    199.5,   104.89,    31.91,     2.16
      09FA9605, ISS3a,    32,  1,     18,     18,19960516,1956,-32.5195, 102.7122, 4558,   3398.0,   1.3740,  34.7270,  34.7250,    335.1,    196.9,   111.50,    32.30,     2.22
      09FA9605, ISS3a,    32,  1,     15,     15,19960516,1956,-32.5195, 102.7122, 4558,   3594.0,   1.2790,  34.7270,  34.7280,    344.7,    203.3,   109.36,    31.82,     2.18
      09FA9605, ISS3a,    32,  1,      1,      1,19960516,1956,-32.5195, 102.7122, 4558,   3594.0,   1.2790,  34.7270,  34.7250,    344.7,    203.2,   109.07,    31.91,     2.18
      09FA9605, ISS3a,    32,  1,     14,     14,19960516,1956,-32.5195, 102.7122, 4558,   4096.0,   1.0780,  34.7160,  34.7170,    363.5,    206.9,   113.74,    31.91,     2.20
      09FA9605, ISS3a,    32,  1,     20,     20,19960516,1956,-32.5195, 102.7122, 4558,   4396.0,   1.0280,  34.7120,  34.7140,    374.2,    207.2,   113.83,    32.01,     2.21
      09FA9605, ISS3a,    32,  1,     3b,      3,19960516,1956,-32.5195, 102.7122, 4558,   4646.0,   1.0080,  34.7110,  34.7100,    382.6,    208.6,   115.29,    32.11,     2.21
      09FA9605, ISS3a,    33,  1,     23,     23,19960517,0035,-32.4447, 102.5393, 4116,      2.0,  18.7520,  36.0850,  36.0820,    183.2,    231.0,     1.85,     0.19,     0.18
      09FA9605, ISS3a,    33,  1,      8,      8,19960517,0035,-32.4447, 102.5393, 4116,     48.0,  18.6900,  36.0540,  36.0790,    172.6,    231.6,     1.75,     0.10,     0.18
      09FA9605, ISS3a,    33,  1,     22,     22,19960517,0035,-32.4447, 102.5393, 4116,    100.0,  16.3030,  35.7020,  35.6430,    180.2,    242.1,     1.36,     0.88,     0.30
      09FA9605, ISS3a,    33,  1,    11a,     11,19960517,0035,-32.4447, 102.5393, 4116,    194.0,  12.9060,  35.2890,  35.3060,    192.9,    240.0,     1.95,     5.94,     0.57
      09FA9605, ISS3a,    33,  1,     12,     12,19960517,0035,-32.4447, 102.5393, 4116,    394.0,  10.3530,  34.8430,  34.8490,    214.1,    244.8,     3.51,    12.66,     0.96
      09FA9605, ISS3a,    33,  1,      7,      7,19960517,0035,-32.4447, 102.5393, 4116,    592.0,   9.2070,  34.6620,  34.6680,    225.9,    240.0,     4.97,    16.85,     1.22
      09FA9605, ISS3a,    33,  1,      6,      6,19960517,0035,-32.4447, 102.5393, 4116,    790.0,   7.2480,  34.4800,  34.4880,    223.3,    201.9,    14.61,    24.83,     1.75
      09FA9605, ISS3a,    33,  1,      2,      2,19960517,0035,-32.4447, 102.5393, 4116,    992.0,   4.6750,  34.3860,  34.3900,    237.9,    190.7,    35.24,    30.57,     2.21
      09FA9605, ISS3a,    33,  1,     10,     10,19960517,0035,-32.4447, 102.5393, 4116,   1192.0,   3.8280,  34.4870,  34.4900,    240.5,    157.7,    61.51,    33.48,     2.47
      09FA9605, ISS3a,    33,  1,      4,      4,19960517,0035,-32.4447, 102.5393, 4116,   1392.0,   3.4370,  34.5650,  34.5690,    242.9,    145.1,    76.59,    34.16,     2.55
      09FA9605, ISS3a,    33,  1,     16,     16,19960517,0035,-32.4447, 102.5393, 4116,   1592.0,   3.0160,  34.6130,  34.6140,    253.5,    150.1,    82.04,    33.87,     2.52
      09FA9605, ISS3a,    33,  1,     13,     13,19960517,0035,-32.4447, 102.5393, 4116,   1792.0,   2.7110,  34.6570,  34.6550,    264.3,    160.1,    85.54,    33.38,     2.45
      09FA9605, ISS3a,    33,  1,    11b,     11,19960517,0035,-32.4447, 102.5393, 4116,   1992.0,   2.4960,  34.6920,  34.6960,    272.3,    162.6,    92.73,    32.89,     2.42
      09FA9605, ISS3a,    33,  1,     17,     17,19960517,0035,-32.4447, 102.5393, 4116,   2194.0,   2.3010,  34.7130,  34.7160,    281.6,    168.9,    96.04,    32.40,     2.37
      09FA9605, ISS3a,    33,  1,     3a,      3,19960517,0035,-32.4447, 102.5393, 4116,   2392.0,   2.1280,  34.7240,  34.7250,    289.5,    171.5,   102.46,    32.30,     2.37
      09FA9605, ISS3a,    33,  1,     24,     24,19960517,0035,-32.4447, 102.5393, 4116,   2592.0,   1.9840,  34.7300,  34.7310,    300.0,    180.1,   100.70,    31.72,     2.32
      09FA9605, ISS3a,    33,  1,     21,     21,19960517,0035,-32.4447, 102.5393, 4116,   2794.0,   1.7990,  34.7310,  34.7310,    308.9,    184.3,   103.62,    31.62,     2.31
      09FA9605, ISS3a,    33,  1,      9,      9,19960517,0035,-32.4447, 102.5393, 4116,   2994.0,   1.6640,  34.7370,  34.7360,    319.7,    194.1,    98.95,    30.84,     2.24
      09FA9605, ISS3a,    33,  1,     18,     18,19960517,0035,-32.4447, 102.5393, 4116,   3192.0,   1.5270,  34.7350,  34.7350,    328.5,    198.5,   100.99,    30.75,     2.23
      09FA9605, ISS3a,    33,  1,     15,     15,19960517,0035,-32.4447, 102.5393, 4116,   3394.0,   1.4090,  34.7320,  34.7350,    336.9,    201.1,   104.11,    30.84,     2.23
      09FA9605, ISS3a,    33,  1,      1,      1,19960517,0035,-32.4447, 102.5393, 4116,   3600.0,   1.2460,  34.7250,  34.7250,    345.4,    203.9,   109.16,    31.13,     2.24
      09FA9605, ISS3a,    33,  1,     14,     14,19960517,0035,-32.4447, 102.5393, 4116,   3794.0,   1.1460,  34.7210,  34.7200,    353.1,    206.0,   111.89,    31.23,     2.26
      09FA9605, ISS3a,    33,  1,     20,     20,19960517,0035,-32.4447, 102.5393, 4116,   3996.0,   1.1030,  34.7180,  34.7200,    360.4,    205.2,   111.79,    31.04,     2.30
      09FA9605, ISS3a,    33,  1,     3b,      3,19960517,0035,-32.4447, 102.5393, 4116,   4264.0,   1.0810,  34.7160,  34.7140,    369.1,    206.8,   114.81,    31.33,     2.27
      09FA9605, ISS3a,    34,  1,     23,     23,19960517,0449,-32.4003, 102.2798, 3986,      4.0,  18.5580,  36.0560,  36.0510,    180.1,    231.6,     1.66,     0.19,     0.17
      09FA9605, ISS3a,    34,  1,      8,      8,19960517,0449,-32.4003, 102.2798, 3986,     48.0,  17.9610,  35.9400,  35.9460,    179.5,    234.1,     1.36,     0.19,     0.18
      09FA9605, ISS3a,    34,  1,     22,     22,19960517,0449,-32.4003, 102.2798, 3986,     94.0,  14.7990,  35.5630,  35.5610,    185.9,    241.5,     1.46,     1.95,     0.35
      09FA9605, ISS3a,    34,  1,    11a,     11,19960517,0449,-32.4003, 102.2798, 3986,    194.0,  12.4010,  35.2060,  35.2360,    195.3,    243.2,     2.14,     6.82,     0.61
      09FA9605, ISS3a,    34,  1,     12,     12,19960517,0449,-32.4003, 102.2798, 3986,    294.0,  11.2770,  35.0060,  34.9990,    205.9,    245.9,     2.14,     6.92,     0.61
      09FA9605, ISS3a,    34,  1,      7,      7,19960517,0449,-32.4003, 102.2798, 3986,    394.0,  10.3070,  34.8340,  34.8090,    215.5,    240.9,     3.60,    13.05,     0.98
      09FA9605, ISS3a,    34,  1,      6,      6,19960517,0449,-32.4003, 102.2798, 3986,    594.0,   9.1800,  34.6590,  34.6600,    226.7,    240.9,     5.16,    16.95,     1.23
      09FA9605, ISS3a,    34,  1,      2,      2,19960517,0449,-32.4003, 102.2798, 3986,    790.0,   7.1040,  34.4710,  34.4820,    223.2,    203.4,    14.61,    24.64,     1.75
      09FA9605, ISS3a,    34,  1,     10,     10,19960517,0449,-32.4003, 102.2798, 3986,    990.0,   4.4020,  34.3820,  34.3900,    240.4,    192.5,    35.53,    30.37,     2.20
      09FA9605, ISS3a,    34,  1,      4,      4,19960517,0449,-32.4003, 102.2798, 3986,   1190.0,   3.6500,  34.4690,  34.4730,    243.5,    168.3,    58.69,    33.00,     2.43
      09FA9605, ISS3a,    34,  1,     16,     16,19960517,0449,-32.4003, 102.2798, 3986,   1390.0,   3.2390,  34.5500,  34.5550,    248.6,    157.7,    72.02,    33.48,     2.49
      09FA9605, ISS3a,    34,  1,     13,     13,19960517,0449,-32.4003, 102.2798, 3986,   1588.0,   3.0550,  34.6150,  34.6240,    252.3,    153.6,    82.82,    33.48,     2.49
      09FA9605, ISS3a,    34,  1,    11b,     11,19960517,0449,-32.4003, 102.2798, 3986,   1788.0,   2.7150,  34.6610,  34.6680,    263.4,    159.3,    88.16,    32.99,     2.45
      09FA9605, ISS3a,    34,  1,     17,     17,19960517,0449,-32.4003, 102.2798, 3986,   1990.0,   2.4760,  34.6960,  34.6970,    272.5,    165.6,    92.73,    32.60,     2.38
      09FA9605, ISS3a,    34,  1,     3a,      3,19960517,0449,-32.4003, 102.2798, 3986,   2192.0,   2.2870,  34.7140,  34.7160,    282.2,    171.9,    94.48,    31.92,     2.35
      09FA9605, ISS3a,    34,  1,     24,     24,19960517,0449,-32.4003, 102.2798, 3986,   2392.0,   2.1200,  34.7220,  34.7200,    289.2,    172.6,   102.07,    32.11,     2.35
      09FA9605, ISS3a,    34,  1,     21,     21,19960517,0449,-32.4003, 102.2798, 3986,   2594.0,   1.9560,  34.7320,  34.7320,    301.3,    185.8,    97.88,    31.23,     2.27
      09FA9605, ISS3a,    34,  1,      9,      9,19960517,0449,-32.4003, 102.2798, 3986,   2794.0,   1.8150,  34.7360,  34.7330,    309.6,    189.0,    98.76,    30.94,     2.24
      09FA9605, ISS3a,    34,  1,     18,     18,19960517,0449,-32.4003, 102.2798, 3986,   2992.0,   1.6770,  34.7370,  34.7370,    319.6,    197.0,    97.49,    30.55,     2.20
      09FA9605, ISS3a,    34,  1,     15,     15,19960517,0449,-32.4003, 102.2798, 3986,   3192.0,   1.5120,  34.7340,  34.7330,    328.7,    201.0,   100.70,    30.45,     2.20
      09FA9605, ISS3a,    34,  1,      1,      1,19960517,0449,-32.4003, 102.2798, 3986,   3394.0,   1.3650,  34.7300,  34.7290,    337.2,    203.2,   105.08,    30.65,     2.21
      09FA9605, ISS3a,    34,  1,     14,     14,19960517,0449,-32.4003, 102.2798, 3986,   3598.0,   1.2560,  34.7250,  34.7260,    345.4,    204.3,   108.00,    30.94,     2.23
      09FA9605, ISS3a,    34,  1,     20,     20,19960517,0449,-32.4003, 102.2798, 3986,   3794.0,   1.1990,  34.7230,  34.7220,    352.1,    204.7,   108.39,    30.84,     2.22
      09FA9605, ISS3a,    34,  1,     3b,      3,19960517,0449,-32.4003, 102.2798, 3986,   4044.0,   1.1320,  34.7180,  34.7170,    361.4,    205.2,   110.14,    30.94,     2.24
      09FA9605, ISS3a,    35,  1,     23,     23,19960517,0900,-32.3558, 102.0010, 3677,      4.0,  17.6220,  35.8650,  35.8700,    187.5,    236.6,     1.36,     0.19,     0.19
      09FA9605, ISS3a,    35,  1,      8,      8,19960517,0900,-32.3558, 102.0010, 3677,     50.0,  17.6260,  35.8700,  35.8650,    174.6,    236.4,     1.27,     0.19,     0.19
      09FA9605, ISS3a,    35,  1,     22,     22,19960517,0900,-32.3558, 102.0010, 3677,     96.0,  14.1920,  35.5020,  35.5300,    182.9,    239.1,     1.66,     3.02,     0.42
      09FA9605, ISS3a,    35,  1,     11a,     11,19960517,0900,-32.3558, 102.0010, 3677,    196.0,  12.3690,  35.1980,  35.1960,    193.7,    243.8,     2.24,     7.31,     0.65
      09FA9605, ISS3a,    35,  1,     12,     12,19960517,0900,-32.3558, 102.0010, 3677,    296.0,  11.0660,  34.9700,  34.9750,    205.8,    247.0,     2.92,    10.52,     0.84
      09FA9605, ISS3a,    35,  1,      7,      7,19960517,0900,-32.3558, 102.0010, 3677,    394.0,  10.2200,  34.8230,  34.8320,    216.9,    249.6,     3.60,    12.86,     0.97
      09FA9605, ISS3a,    35,  1,      6,      6,19960517,0900,-32.3558, 102.0010, 3677,    496.0,   9.6980,  34.7360,  34.7290,    223.0,    247.9,     4.38,    15.10,     1.11
      09FA9605, ISS3a,    35,  1,      2,      2,19960517,0900,-32.3558, 102.0010, 3677,    594.0,   9.2440,  34.6680,  34.6440,    227.2,    238.7,     5.65,    17.82,     1.28
      09FA9605, ISS3a,    35,  1,     10,     10,19960517,0900,-32.3558, 102.0010, 3677,    694.0,   8.3410,  34.5610,  34.5390,    224.9,    216.9,    10.03,    22.30,     1.56
      09FA9605, ISS3a,    35,  1,      4,      4,19960517,0900,-32.3558, 102.0010, 3677,    794.0,   6.8180,  34.4560,  34.4570,    223.0,    200.5,    18.11,    26.39,     1.85
      09FA9605, ISS3a,    35,  1,     16,     16,19960517,0900,-32.3558, 102.0010, 3677,    992.0,   4.3920,  34.3910,  34.4010,    239.7,    187.3,    41.37,    31.54,     2.26
      09FA9605, ISS3a,    35,  1,     13,     13,19960517,0900,-32.3558, 102.0010, 3677,   1192.0,   3.7480,  34.5020,  34.5050,    237.7,    158.9,    66.38,    33.77,     2.48
      09FA9605, ISS3a,    35,  1,     11b,     11,19960517,0900,-32.3558, 102.0010, 3677,   1392.0,   3.0990,  34.5570,  34.5570,    250.3,    159.6,    73.67,    34.16,     2.48
      09FA9605, ISS3a,    35,  1,     17,     17,19960517,0900,-32.3558, 102.0010, 3677,   1594.0,   2.9020,  34.6360,  34.6350,    254.9,    152.8,    86.22,    33.96,     2.49
      09FA9605, ISS3a,    35,  1,      3a,      3,19960517,0900,-32.3558, 102.0010, 3677,   1794.0,   2.6070,  34.6760,  34.6740,    266.2,    165.6,    89.23,    33.28,     2.42
      09FA9605, ISS3a,    35,  1,     24,     24,19960517,0900,-32.3558, 102.0010, 3677,   1992.0,   2.4170,  34.7030,  34.7060,    274.0,    164.7,    95.85,    33.08,     2.39
      09FA9605, ISS3a,    35,  1,     21,     21,19960517,0900,-32.3558, 102.0010, 3677,   2196.0,   2.2530,  34.7170,  34.7190,    281.3,    167.9,   103.92,    32.99,     2.40
      09FA9605, ISS3a,    35,  1,      9,      9,19960517,0900,-32.3558, 102.0010, 3677,   2394.0,   2.0900,  34.7260,  34.7270,    291.4,    176.3,   100.80,    32.40,     2.34
      09FA9605, ISS3a,    35,  1,     18,     18,19960517,0900,-32.3558, 102.0010, 3677,   2594.0,   1.9160,  34.7330,  34.7340,    302.2,    184.4,   101.29,    31.82,     2.29
      09FA9605, ISS3a,    35,  1,     15,     15,19960517,0900,-32.3558, 102.0010, 3677,   2794.0,   1.7420,  34.7360,  34.7370,    311.2,    190.5,   102.36,    31.43,     2.26
      09FA9605, ISS3a,    35,  1,      1,      1,19960517,0900,-32.3558, 102.0010, 3677,   2992.0,   1.5890,  34.7300,  34.7310,    318.5,    191.0,   109.36,    31.72,     2.28
      09FA9605, ISS3a,    35,  1,     14,     14,19960517,0900,-32.3558, 102.0010, 3677,   3196.0,   1.4710,  34.7350,  34.7330,    329.9,    201.9,   104.11,    31.04,     2.22
      09FA9605, ISS3a,    35,  1,     20,     20,19960517,0900,-32.3558, 102.0010, 3677,   3396.0,   1.3540,  34.7300,  34.7330,    337.6,    202.4,   104.11,    31.23,     2.22
      09FA9605, ISS3a,    35,  1,      3b,      3,19960517,0900,-32.3558, 102.0010, 3677,   3662.0,   1.2240,  34.7250,  34.7220,    347.4,    205.6,   111.89,    31.72,     2.26