BOTTLE,20220929CCHSIOAMB
EXPOCODE,SECT_ID,STNNBR,CASTNO,SAMPNO,BTLNBR,DATE,TIME,LATITUDE,LONGITUDE,DEPTH,CTDPRS,CTDTMP,CTDSAL,SALNTY,CTDOXY,OXYGEN,SILCAT,NITRAT,PHSPHT
,,,,,,,,,,,DBAR,ITS-90,PSS-78,PSS-78,UMOL/KG,UMOL/KG,UMOL/KG,UMOL/KG,UMOL/KG
      09FA9605, ISS3a,    46,  1,     23,     23,19960519,1304,-29.0012,  98.3765, 1213,      2.0,  20.5910,  36.0780,  36.1100,    141.3,    222.9,     2.15,     0.20,     0.13
      09FA9605, ISS3a,    46,  1,      4,      4,19960519,1304,-29.0012,  98.3765, 1213,     48.0,  20.4990,  36.1030,  36.1080,    153.6,    223.3,     2.15,     0.20,     0.11
      09FA9605, ISS3a,    46,  1,     16,     16,19960519,1304,-29.0012,  98.3765, 1213,     98.0,  20.2020,  36.0820,  36.0160,    154.5,    225.4,     1.85,     0.29,     0.15
      09FA9605, ISS3a,    46,  1,     13,     13,19960519,1304,-29.0012,  98.3765, 1213,    146.0,  17.0380,  35.8600,  35.8660,    158.2,    219.4,     1.95,     1.75,     0.24
      09FA9605, ISS3a,    46,  1,      3a,      3,19960519,1304,-29.0012,  98.3765, 1213,    196.0,  15.3590,  35.6650,  35.6750,    164.1,    221.8,     1.95,     3.31,     0.34
      09FA9605, ISS3a,    46,  1,     17,     17,19960519,1304,-29.0012,  98.3765, 1213,    246.0,  14.1480,  35.4830,  35.4680,    171.2,    230.6,     1.75,     5.16,     0.44
      09FA9605, ISS3a,    46,  1,     19,     19,19960519,1304,-29.0012,  98.3765, 1213,    296.0,  13.1310,  35.3140,  35.3020,    180.2,    233.4,     3.41,     6.92,     0.55
      09FA9605, ISS3a,    46,  1,     24,     24,19960519,1304,-29.0012,  98.3765, 1213,    396.0,  10.9160,  34.9380,  34.9590,    195.7,    238.9,     4.48,    11.40,     0.81
      09FA9605, ISS3a,    46,  1,     21,     21,19960519,1304,-29.0012,  98.3765, 1213,    496.0,   9.8620,  34.7670,  34.7840,    208.0,    239.8,     5.45,    14.71,     1.01
      09FA9605, ISS3a,    46,  1,      9,      9,19960519,1304,-29.0012,  98.3765, 1213,    594.0,   9.1250,  34.6580,  34.6660,    216.1,    233.4,     6.82,    17.82,     1.21
      09FA9605, ISS3a,    46,  1,     18,     18,19960519,1304,-29.0012,  98.3765, 1213,    694.0,   7.9540,  34.5420,  34.5680,    216.6,    213.8,    12.17,    22.20,     1.49
      09FA9605, ISS3a,    46,  1,     15,     15,19960519,1304,-29.0012,  98.3765, 1213,    794.0,   6.4710,  34.4560,  34.4660,    219.4,    196.5,    22.78,    27.16,     1.85
      09FA9605, ISS3a,    46,  1,      1,      1,19960519,1304,-29.0012,  98.3765, 1213,    902.0,   5.0780,  34.4200,  34.4270,    227.5,    182.7,    39.14,    30.86,     2.14
      09FA9605, ISS3a,    46,  1,     14,     14,19960519,1304,-29.0012,  98.3765, 1213,    994.0,   4.3700,  34.4520,  34.4580,    230.6,    169.2,    54.12,    32.71,     2.32
      09FA9605, ISS3a,    46,  1,     20,     20,19960519,1304,-29.0012,  98.3765, 1213,   1098.0,   4.0930,  34.4960,  34.4960,    230.8,    155.6,    66.09,    33.78,     2.41
      09FA9605, ISS3a,    46,  1,      3b,      3,19960519,1304,-29.0012,  98.3765, 1213,   1210.0,   3.8760,  34.5380,  34.5390,    233.4,    145.9,    81.37,    36.30,     2.73
      09FA9605, ISS3a,    47,  1,     23,     23,19960519,1711,-28.5547,  98.6620, 1225,      4.0,  21.1000,  35.9690,  35.9690,    151.3,    221.1,     2.63,     0.20,     0.16
      09FA9605, ISS3a,    47,  1,     13,     13,19960519,1711,-28.5547,  98.6620, 1225,     46.0,  20.9430,  36.0170,  36.0060,    151.5,    222.7,     2.44,     0.10,     0.16
      09FA9605, ISS3a,    47,  1,      3a,      3,19960519,1711,-28.5547,  98.6620, 1225,     98.0,  20.8640,  36.0970,  36.0700,    152.1,    222.0,     2.15,     0.10,     0.17
      09FA9605, ISS3a,    47,  1,     17,     17,19960519,1711,-28.5547,  98.6620, 1225,    146.0,  18.5400,  35.9170,  35.9280,    152.6,    218.0,     2.34,     1.36,     0.27
      09FA9605, ISS3a,    47,  1,     22,     22,19960519,1711,-28.5547,  98.6620, 1225,    196.0,  17.3520,  35.8580,  35.8590,    155.4,    218.6,     2.14,     1.75,     0.32
      09FA9605, ISS3a,    47,  1,     24,     24,19960519,1711,-28.5547,  98.6620, 1225,    246.0,  15.8420,  35.6690,  35.6650,    162.4,    216.6,     2.34,     3.70,     0.44
      09FA9605, ISS3a,    47,  1,     21,     21,19960519,1711,-28.5547,  98.6620, 1225,    296.0,  13.8950,  35.3850,  35.3380,    170.7,    224.3,     2.44,     6.82,     0.62
      09FA9605, ISS3a,    47,  1,      9,      9,19960519,1711,-28.5547,  98.6620, 1225,    398.0,  10.1280,  34.8190,  34.7730,    195.0,    231.7,     5.06,    15.58,     1.14
      09FA9605, ISS3a,    47,  1,     18,     18,19960519,1711,-28.5547,  98.6620, 1225,    496.0,   8.3690,  34.5920,  34.5890,    206.0,    216.1,     9.93,    21.13,     1.50
      09FA9605, ISS3a,    47,  1,     15,     15,19960519,1711,-28.5547,  98.6620, 1225,    596.0,   7.1980,  34.4980,  34.5010,    210.7,    198.2,    16.75,    25.32,     1.79
      09FA9605, ISS3a,    47,  1,      1,      1,19960519,1711,-28.5547,  98.6620, 1225,    698.0,   5.9290,  34.4590,  34.4520,    214.5,    177.7,    32.71,    29.79,     2.13
      09FA9605, ISS3a,    47,  1,     14,     14,19960519,1711,-28.5547,  98.6620, 1225,    796.0,   5.1530,  34.4380,  34.4410,    223.4,    172.4,    40.79,    31.35,     2.27
      09FA9605, ISS3a,    47,  1,     20,     20,19960519,1711,-28.5547,  98.6620, 1225,    996.0,   4.2420,  34.4970,  34.4950,    228.2,    151.2,    61.81,    33.78,     2.51
      09FA9605, ISS3a,    47,  1,      3b,      3,19960519,1711,-28.5547,  98.6620, 1225,   1218.0,   3.5830,  34.5810,  34.5780,    234.6,    140.5,    79.51,    34.55,     2.58
      09FA9605, ISS3a,    48,  1,     23,     23,19960519,2022,-28.2370, 98.8157, 1557,      4.0,  20.8320,  36.0420,  36.0360,    150.4,    222.0,     2.44,     0.20,     0.17
      09FA9605, ISS3a,    48,  1,      4,      4,19960519,2022,-28.2370, 98.8157, 1557,     46.0,  20.6350,  36.0810,  36.0980,    153.8,    223.8,     2.24,     0.20,     0.18
      09FA9605, ISS3a,    48,  1,     16,     16,19960519,2022,-28.2370, 98.8157, 1557,     98.0,  19.6730,  35.9810,  36.0800,    153.0,    223.9,     1.85,     0.20,     0.19
      09FA9605, ISS3a,    48,  1,     13,     13,19960519,2022,-28.2370, 98.8157, 1557,    146.0,  17.9970,  35.8890,  35.9180,    155.7,    227.8,     1.85,     0.78,     0.26
      09FA9605, ISS3a,    48,  1,      3a,      3,19960519,2022,-28.2370, 98.8157, 1557,    196.0,  16.4100,  35.7510,  35.7970,    158.2,    216.3,     2.05,     2.44,     0.38
      09FA9605, ISS3a,    48,  1,     17,     17,19960519,2022,-28.2370, 98.8157, 1557,    246.0,  14.2710,  35.4370,  35.4170,    167.9,    222.2,     2.14,     5.85,     0.57
      09FA9605, ISS3a,    48,  1,     22,     22,19960519,2022,-28.2370, 98.8157, 1557,    296.0,  12.3330,  35.1440,  35.0470,    180.2,    232.3,     2.82,    10.32,     0.83
      09FA9605, ISS3a,    48,  1,     24,     24,19960519,2022,-28.2370, 98.8157, 1557,    396.0,   9.5790,  34.7240,  34.7060,    203.3,    235.7,     4.58,    16.36,     1.19
      09FA9605, ISS3a,    48,  1,     21,     21,19960519,2022,-28.2370, 98.8157, 1557,    494.0,   8.6600,  34.6090,  34.5820,    211.0,    217.5,     8.86,    21.03,     1.49
      09FA9605, ISS3a,    48,  1,      9,      9,19960519,2022,-28.2370, 98.8157, 1557,    596.0,   7.1970,  34.4980,  34.4780,    212.5,    190.3,    23.66,    27.17,     1.93
      09FA9605, ISS3a,    48,  1,     18,     18,19960519,2022,-28.2370, 98.8157, 1557,    696.0,   5.9120,  34.4270,  34.4370,    220.8,    187.1,    27.46,    28.82,     2.06
      09FA9605, ISS3a,    48,  1,      1,      1,19960519,2022,-28.2370, 98.8157, 1557,    994.0,   3.9850,  34.5360,  34.5450,    225.7,    139.2,    74.07,    33.97,     2.54
      09FA9605, ISS3a,    48,  1,     14,     14,19960519,2022,-28.2370, 98.8157, 1557,   1194.0,   3.6320,  34.5730,  34.5910,    233.6,    138.2,    82.82,    34.75,     2.60
      09FA9605, ISS3a,    48,  1,     20,     20,19960519,2022,-28.2370, 98.8157, 1557,   1394.0,   3.1580,  34.6140,  34.6200,    243.4,    146.3,    79.41,    34.35,     2.55
      09FA9605, ISS3a,    48,  1,      3b,      3,19960519,2022,-28.2370, 98.8157, 1557,   1564.0,   2.8420,  34.6590,  34.6600,    252.8,    151.3,    92.64,    33.96,     2.51
      09FA9605, ISS3a,    49,  1,     23,     23,19960520,0058,-27.7678,  98.9575, 4009,      2.0,  20.7840,  36.0330,  36.0370,    146.7,    222.5,     2.44,     0.20,     0.17
      09FA9605, ISS3a,    49,  1,     12a,     12,19960520,0058,-27.7678,  98.9575, 4009,     46.0,  20.7870,  36.0360,-999.0000,    152.4,    225.3,     2.44,     0.10,     0.17
      09FA9605, ISS3a,    49,  1,     11,     11,19960520,0058,-27.7678,  98.9575, 4009,     96.0,  19.4570,  35.9830,  36.0000,    155.7,    225.7,     2.44,     0.10,     0.19
      09FA9605, ISS3a,    49,  1,     12b,     12,19960520,0058,-27.7678,  98.9575, 4009,    196.0,  15.7000,  35.6970,  35.6860,    162.4,    222.7,     2.14,     3.22,     0.42
      09FA9605, ISS3a,    49,  1,      8,      8,19960520,0058,-27.7678,  98.9575, 4009,    294.0,  13.0040,  35.3020,  35.2510,    180.6,    230.2,     2.63,     7.70,     0.67
      09FA9605, ISS3a,    49,  1,     10,     10,19960520,0058,-27.7678,  98.9575, 4009,    494.0,   9.6260,  34.7300,  34.7400,    209.0,    240.3,     4.38,    15.29,     1.13
      09FA9605, ISS3a,    49,  1,      7,      7,19960520,0058,-27.7678,  98.9575, 4009,    592.0,   8.7530,  34.6150,  34.6120,    213.4,    227.4,     6.91,    19.38,     1.38
      09FA9605, ISS3a,    49,  1,      6,      6,19960520,0058,-27.7678,  98.9575, 4009,    790.0,   5.8200,  34.4390,  34.4430,    217.9,    183.3,    30.47,    29.21,     2.08
      09FA9605, ISS3a,    49,  1,      2,      2,19960520,0058,-27.7678,  98.9575, 4009,    990.0,   4.5120,  34.5340,  34.5430,    216.9,    134.0,    70.08,    34.17,     2.54
      09FA9605, ISS3a,    49,  1,      4,      4,19960520,0058,-27.7678,  98.9575, 4009,   1192.0,   3.8410,  34.5670,  34.5490,    227.8,    144.8,    73.48,    34.26,     2.53
      09FA9605, ISS3a,    49,  1,     16,     16,19960520,0058,-27.7678,  98.9575, 4009,   1392.0,   3.2780,  34.6070,  34.6010,    241.7,    143.4,    83.31,    34.45,     2.54
      09FA9605, ISS3a,    49,  1,     13,     13,19960520,0058,-27.7678,  98.9575, 4009,   1590.0,   2.8610,  34.6470,  34.6440,    253.0,    151.6,    88.75,    33.86,     2.50
      09FA9605, ISS3a,    49,  1,      3a,      3,19960520,0058,-27.7678,  98.9575, 4009,   1792.0,   2.5820,  34.6930,  34.7010,    262.7,    155.1,    97.50,    33.57,     2.46
      09FA9605, ISS3a,    49,  1,     17,     17,19960520,0058,-27.7678,  98.9575, 4009,   1992.0,   2.3540,  34.7120,  34.7170,    272.7,    162.5,   101.39,    33.08,     2.43
      09FA9605, ISS3a,    49,  1,     22,     22,19960520,0058,-27.7678,  98.9575, 4009,   2192.0,   2.1660,  34.7210,  34.7250,    280.8,    166.6,   106.16,    33.08,     2.41
      09FA9605, ISS3a,    49,  1,     24,     24,19960520,0058,-27.7678,  98.9575, 4009,   2392.0,   2.0220,  34.7260,  34.7300,    289.1,    170.9,   108.78,    32.79,     2.38
      09FA9605, ISS3a,    49,  1,     21,     21,19960520,0058,-27.7678,  98.9575, 4009,   2594.0,   1.8680,  34.7280,  34.7300,    297.4,    174.0,   111.70,    32.69,     2.38
      09FA9605, ISS3a,    49,  1,      9,      9,19960520,0058,-27.7678,  98.9575, 4009,   2794.0,   1.7470,  34.7290,  34.7280,    305.7,    179.5,   111.70,    32.40,     2.33
      09FA9605, ISS3a,    49,  1,     18,     18,19960520,0058,-27.7678,  98.9575, 4009,   2994.0,   1.6150,  34.7290,  34.7270,    314.2,    183.9,   114.52,    32.40,     2.32
      09FA9605, ISS3a,    49,  1,     15,     15,19960520,0058,-27.7678,  98.9575, 4009,   3194.0,   1.4990,  34.7270,  34.7280,    321.6,    184.8,   116.37,    32.30,     2.31
      09FA9605, ISS3a,    49,  1,      1,      1,19960520,0058,-27.7678,  98.9575, 4009,   3394.0,   1.4160,  34.7250,  34.7240,    329.6,    190.1,   117.53,    32.30,     2.30
      09FA9605, ISS3a,    49,  1,     14,     14,19960520,0058,-27.7678,  98.9575, 4009,   3594.0,   1.3720,  34.7250,  34.7260,    336.6,    190.7,   118.51,    32.11,     2.33
      09FA9605, ISS3a,    49,  1,     20,     20,19960520,0058,-27.7678,  98.9575, 4009,   3794.0,   1.1820,  34.7210,  34.7240,    348.1,    192.4,   118.89,    32.30,     2.30
      09FA9605, ISS3a,    49,  1,      3b,      3,19960520,0058,-27.7678,  98.9575, 4009,   4052.0,   1.0780,  34.7180,  34.7140,    358.8,    203.2,   119.48,    31.91,     2.27
      09FA9605, ISS3a,    50,  1,     23,     23,19960520,0649,-27.2825,  99.2038, 4105,      2.0,  21.1210,  36.0290,  36.0350,    151.9,    221.7,     2.73,     0.10,     0.15
      09FA9605, ISS3a,    50,  1,     11,     11,19960520,0649,-27.2825,  99.2038, 4105,     98.0,  19.6270,  35.9870,  36.0770,    151.9,    223.6,     2.44,     0.10,     0.16
      09FA9605, ISS3a,    50,  1,     12a,     12,19960520,0649,-27.2825,  99.2038, 4105,    196.0,  15.6950,  35.6840,  35.6700,    159.5,    223.6,     2.14,     3.22,     0.41
      09FA9605, ISS3a,    50,  1,      8,      8,19960520,0649,-27.2825,  99.2038, 4105,    394.0,  11.0960,  34.9630,  34.9600,    193.9,    238.6,     3.21,    11.40,     0.88
      09FA9605, ISS3a,    50,  1,     10,     10,19960520,0649,-27.2825,  99.2038, 4105,    594.0,   9.0940,  34.6520,  34.6440,    214.1,    230.4,     6.23,    18.41,     1.31
      09FA9605, ISS3a,    50,  1,      7,      7,19960520,0649,-27.2825,  99.2038, 4105,    792.0,   6.2990,  34.4510,  34.4590,    217.7,    190.1,    24.83,    27.75,     1.98
      09FA9605, ISS3a,    50,  1,      6,      6,19960520,0649,-27.2825,  99.2038, 4105,    992.0,   4.3910,  34.4670,  34.4770,    226.7,    159.6,    56.94,    33.10,     2.42
      09FA9605, ISS3a,    50,  1,      2,      2,19960520,0649,-27.2825,  99.2038, 4105,   1192.0,   3.8710,  34.5490,  34.5530,    230.2,    146.3,    74.46,    34.45,     2.56
      09FA9605, ISS3a,    50,  1,      4,      4,19960520,0649,-27.2825,  99.2038, 4105,   1392.0,   3.3220,  34.5960,  34.5980,    241.6,    147.9,    81.75,    34.45,     2.55
      09FA9605, ISS3a,    50,  1,     16,     16,19960520,0649,-27.2825,  99.2038, 4105,   1594.0,   2.9480,  34.6480,  34.6510,    251.7,    150.0,    90.79,    34.16,     2.54
      09FA9605, ISS3a,    50,  1,     13,     13,19960520,0649,-27.2825,  99.2038, 4105,   1792.0,   2.7090,  34.6830,  34.6830,    261.1,    156.6,    95.56,    33.77,     2.48
      09FA9605, ISS3a,    50,  1,     12b,     12,19960520,0649,-27.2825,  99.2038, 4105,   1994.0,   2.4020,  34.7080,  34.7120,    271.8,    164.2,  -999.00,  -999.00,  -999.00
      09FA9605, ISS3a,    50,  1,     17,     17,19960520,0649,-27.2825,  99.2038, 4105,   2194.0,   2.2220,  34.7180,  34.7260,    279.6,    168.0,   104.41,    32.40,     2.40
      09FA9605, ISS3a,    50,  1,     22,     22,19960520,0649,-27.2825,  99.2038, 4105,   2392.0,   2.0300,  34.7250,  34.7300,    288.4,    171.6,   108.00,    32.79,     2.40
      09FA9605, ISS3a,    50,  1,     24,     24,19960520,0649,-27.2825,  99.2038, 4105,   2594.0,   1.8470,  34.7280,  34.7300,    297.8,    176.0,   110.14,    32.69,     2.37
      09FA9605, ISS3a,    50,  1,     21,     21,19960520,0649,-27.2825,  99.2038, 4105,   2794.0,   1.7250,  34.7280,  34.7300,    305.9,    180.8,   112.38,    32.50,     2.36
      09FA9605, ISS3a,    50,  1,      9,      9,19960520,0649,-27.2825,  99.2038, 4105,   2996.0,   1.5970,  34.7280,  34.7300,    314.1,    184.5,   113.93,    32.40,     2.35
      09FA9605, ISS3a,    50,  1,     18,     18,19960520,0649,-27.2825,  99.2038, 4105,   3196.0,   1.4800,  34.7260,  34.7270,    322.1,    189.4,   115.69,    32.20,     2.34
      09FA9605, ISS3a,    50,  1,     15,     15,19960520,0649,-27.2825,  99.2038, 4105,   3394.0,   1.4030,  34.7250,  34.7250,    329.5,    190.6,   116.66,    32.30,     2.34
      09FA9605, ISS3a,    50,  1,      1,      1,19960520,0649,-27.2825,  99.2038, 4105,   3596.0,   1.3200,  34.7230,  34.7230,    337.6,    194.5,   117.44,    32.20,     2.33
      09FA9605, ISS3a,    50,  1,     14,     14,19960520,0649,-27.2825,  99.2038, 4105,   3796.0,   1.2390,  34.7220,  34.7210,    346.3,    199.7,   116.85,    31.82,     2.31
      09FA9605, ISS3a,    50,  1,     20,     20,19960520,0649,-27.2825,  99.2038, 4105,   3996.0,   1.1070,  34.7170,  34.7210,    356.0,    203.8,   116.66,    31.91,     2.32
      09FA9605, ISS3a,    50,  1,      3,      3,19960520,0649,-27.2825,  99.2038, 4105,   4160.0,   1.0620,  34.7150,  34.7140,    362.3,    206.2,   117.73,    31.72,     2.31