BOTTLE,20220929CCHSIOAMB
EXPOCODE,SECT_ID,STNNBR,CASTNO,SAMPNO,BTLNBR,DATE,TIME,LATITUDE,LONGITUDE,DEPTH,CTDPRS,CTDTMP,CTDSAL,SALNTY,CTDOXY,OXYGEN,SILCAT,NITRAT,PHSPHT
,,,,,,,,,,,DBAR,ITS-90,PSS-78,PSS-78,UMOL/KG,UMOL/KG,UMOL/KG,UMOL/KG,UMOL/KG
      09FA9605, ISS3a,    11,  1,     23,     23,19960511,2014,-34.1812, 110.9978, 2129,      4.0,  19.5630,  35.9740,  35.9750,    176.0,    229.1,     2.34,     0.20,     0.12
      09FA9605, ISS3a,    11,  1,      7,      7,19960511,2014,-34.1812, 110.9978, 2129,     48.0,  19.5770,  35.9720,  35.9770,    171.7,    228.9,     2.34,     0.20,     0.12
      09FA9605, ISS3a,    11,  1,      6,      6,19960511,2014,-34.1812, 110.9978, 2129,     98.0,  18.9620,  35.9200,  35.9470,    169.5,    227.2,     2.14,     0.29,     0.12
      09FA9605, ISS3a,    11,  1,      2,      2,19960511,2014,-34.1812, 110.9978, 2129,    146.0,  15.2650,  35.5670,  35.5850,    177.6,    234.5,     1.46,     2.14,     0.27
      09FA9605, ISS3a,    11,  1,     10,     10,19960511,2014,-34.1812, 110.9978, 2129,    196.0,  13.5950,  35.3430,  35.3400,    183.1,    238.4,     1.46,     4.97,     0.42
      09FA9605, ISS3a,    11,  1,      4,      4,19960511,2014,-34.1812, 110.9978, 2129,    246.0,  11.7960,  35.0240,  35.0270,    195.0,    245.8,     1.85,     8.38,     0.60
      09FA9605, ISS3a,    11,  1,     16,     16,19960511,2014,-34.1812, 110.9978, 2129,    296.0,  10.5630,  34.8380,  34.8870,    204.1,    247.7,     2.53,    11.10,     0.76
      09FA9605, ISS3a,    11,  1,     13,     13,19960511,2014,-34.1812, 110.9978, 2129,    396.0,   9.5540,  34.7030,  34.7130,    214.5,    245.2,     3.99,    15.19,     1.00
      09FA9605, ISS3a,    11,  1,      5,      5,19960511,2014,-34.1812, 110.9978, 2129,    494.0,   9.2120,  34.6580,  34.6650,    223.4,    244.8,     4.58,    16.56,     1.09
      09FA9605, ISS3a,    11,  1,     17,     17,19960511,2014,-34.1812, 110.9978, 2129,    594.0,   8.7910,  34.6060,  34.6080,    227.0,    237.2,     6.14,    18.89,     1.24
      09FA9605, ISS3a,    11,  1,     19,     19,19960511,2014,-34.1812, 110.9978, 2129,    694.0,   7.8350,  34.5120,  34.5160,    224.8,    215.1,    10.91,    22.98,     1.51
      09FA9605, ISS3a,    11,  1,     24,     24,19960511,2014,-34.1812, 110.9978, 2129,    794.0,   6.3980,  34.4350,  34.4390,    225.2,    197.8,    20.35,    27.36,     1.84
      09FA9605, ISS3a,    11,  1,     21,     21,19960511,2014,-34.1812, 110.9978, 2129,    892.0,   5.0980,  34.3820,  34.3870,    236.4,    197.5,    29.69,    29.69,     2.04
      09FA9605, ISS3a,    11,  1,      9,      9,19960511,2014,-34.1812, 110.9978, 2129,    994.0,   4.1850,  34.3850,  34.3890,    244.2,    191.1,    41.27,    31.54,     2.21
      09FA9605, ISS3a,    11,  1,     18,     18,19960511,2014,-34.1812, 110.9978, 2129,   1194.0,   3.5970,  34.4940,  34.5070,    244.3,    158.0,    67.35,    33.87,     2.46
      09FA9605, ISS3a,    11,  1,     15,     15,19960511,2014,-34.1812, 110.9978, 2129,   1394.0,   3.0460,  34.5470,  34.5600,    252.6,    161.0,    73.48,    33.87,     2.42
      09FA9605, ISS3a,    11,  1,      3,      3,19960511,2014,-34.1812, 110.9978, 2129,   1594.0,   2.7440,  34.6220,  34.6330,    261.1,    160.8,    83.59,    33.57,     2.40
      09FA9605, ISS3a,    11,  1,     14,     14,19960511,2014,-34.1812, 110.9978, 2129,   1798.0,   2.5470,  34.6770,  34.6850,    268.4,    163.7,    91.96,    32.99,     2.36
      09FA9605, ISS3a,    11,  1,      1,      1,19960511,2014,-34.1812, 110.9978, 2129,   1798.0,   2.5470,  34.6770,  34.6840,    268.4,    164.6,    92.25,    33.08,     2.38
      09FA9605, ISS3a,    11,  1,     20,     20,19960511,2014,-34.1812, 110.9978, 2129,   2118.0,   2.1760,  34.7210,  34.7210,    282.0,    170.1,   104.40,    32.69,     2.33
      09FA9605, ISS3a,    12,  1,     23,     23,19960512,0032,-34.1750, 110.4627, 2134,      2.0,  19.1160,  36.0030,  35.9980,    177.6,    239.8,     2.24,     0.10,     0.10
      09FA9605, ISS3a,    12,  1,      7,      7,19960512,0032,-34.1750, 110.4627, 2134,     48.0,  19.1420,  35.9980,  35.9980,    172.8,    239.9,     2.14,     0.10,     0.10
      09FA9605, ISS3a,    12,  1,      6,      6,19960512,0032,-34.1750, 110.4627, 2134,     96.0,  19.1370,  35.9950,  35.9980,    170.9,    240.1,     2.14,     0.10,     0.09
      09FA9605, ISS3a,    12,  1,      2,      2,19960512,0032,-34.1750, 110.4627, 2134,    144.0,  16.3370,  35.6650,  35.6610,    174.1,    245.8,     1.46,     1.27,     0.19
      09FA9605, ISS3a,    12,  1,     10,     10,19960512,0032,-34.1750, 110.4627, 2134,    196.0,  14.6810,  35.5380,  35.5130,    178.6,    247.0,     1.46,     2.92,     0.34
      09FA9605, ISS3a,    12,  1,      4,      4,19960512,0032,-34.1750, 110.4627, 2134,    246.0,  13.5290,  35.3280,  35.3520,    185.5,    249.4,     1.56,     4.77,     0.40
      09FA9605, ISS3a,    12,  1,     16,     16,19960512,0032,-34.1750, 110.4627, 2134,    294.0,  12.4370,  35.1450,  35.1480,    193.7,    254.8,     1.75,     7.01,     0.52
      09FA9605, ISS3a,    12,  1,     13,     13,19960512,0032,-34.1750, 110.4627, 2134,    396.0,   9.8520,  34.7610,  34.7720,    207.3,    253.7,     4.19,    14.51,     0.94
      09FA9605, ISS3a,    12,  1,      5,      5,19960512,0032,-34.1750, 110.4627, 2134,    494.0,   8.2980,  34.5630,  34.5800,    214.2,    236.2,     8.47,    20.45,     1.34
      09FA9605, ISS3a,    12,  1,     17,     17,19960512,0032,-34.1750, 110.4627, 2134,    594.0,   6.7110,  34.4520,  34.4550,    215.3,    208.9,    18.60,    26.39,     1.77
      09FA9605, ISS3a,    12,  1,     19,     19,19960512,0032,-34.1750, 110.4627, 2134,    692.0,   5.4440,  34.3930,  34.3980,    227.9,    208.1,    26.48,    28.82,     1.98
      09FA9605, ISS3a,    12,  1,     24,     24,19960512,0032,-34.1750, 110.4627, 2134,    792.0,   4.3650,  34.3800,  34.3860,    237.1,    203.1,    37.38,    30.86,     2.17
      09FA9605, ISS3a,    12,  1,     21,     21,19960512,0032,-34.1750, 110.4627, 2134,    892.0,   3.9480,  34.4430,  34.4450,    235.6,    179.7,    52.85,    32.61,     2.35
      09FA9605, ISS3a,    12,  1,      9,      9,19960512,0032,-34.1750, 110.4627, 2134,    996.0,   3.5060,  34.4570,  34.4580,    244.2,    180.8,    58.30,    33.00,     2.39
      09FA9605, ISS3a,    12,  1,     18,     18,19960512,0032,-34.1750, 110.4627, 2134,   1194.0,   3.0840,  34.5370,  34.5470,    248.7,    169.4,    71.92,    33.58,     2.46
      09FA9605, ISS3a,    12,  1,     15,     15,19960512,0032,-34.1750, 110.4627, 2134,   1394.0,   2.8440,  34.6020,  34.6110,    255.3,    167.5,    80.19,    33.57,     2.46
      09FA9605, ISS3a,    12,  1,      3,      3,19960512,0032,-34.1750, 110.4627, 2134,   1594.0,   2.6200,  34.6550,  34.6660,    263.3,    170.9,    87.09,    32.99,     2.38
      09FA9605, ISS3a,    12,  1,     14,     14,19960512,0032,-34.1750, 110.4627, 2134,   1794.0,   2.4250,  34.6980,  34.7010,    270.7,    174.4,    94.87,    32.50,     2.36
      09FA9605, ISS3a,    12,  1,     20,     20,19960512,0032,-34.1750, 110.4627, 2134,   2122.0,   2.1420,  34.7230,  34.7220,    282.8,    178.8,   103.43,    32.50,     2.34
      09FA9605, ISS3a,    13,  1,     23,     23,19960512,0430,-34.1692, 109.9897, 2595,      4.0,  19.3450,  36.0200,  36.0250,    167.9,    237.8,     2.14,     0.19,     0.11
      09FA9605, ISS3a,    13,  1,     12,     12,19960512,0430,-34.1692, 109.9897, 2595,     46.0,  19.3530,  36.0180,  36.0240,    170.8,    238.7,     2.24,     0.19,     0.10
      09FA9605, ISS3a,    13,  1,      7,      7,19960512,0430,-34.1692, 109.9897, 2595,     96.0,  19.3300,  36.0110,  36.0210,    168.6,    237.8,     2.14,     0.10,     0.09
      09FA9605, ISS3a,    13,  1,      6,      6,19960512,0430,-34.1692, 109.9897, 2595,    146.0,  15.9340,  35.6290,  35.6210,    176.1,    246.5,     1.36,     1.56,     0.21
      09FA9605, ISS3a,    13,  1,      2,      2,19960512,0430,-34.1692, 109.9897, 2595,    194.0,  14.3570,  35.4630,  35.4330,    180.6,    248.0,     1.36,     3.80,     0.33
      09FA9605, ISS3a,    13,  1,     10,     10,19960512,0430,-34.1692, 109.9897, 2595,    244.0,  13.1980,  35.2660,  35.2390,    187.5,    252.7,     1.56,     5.84,     0.45
      09FA9605, ISS3a,    13,  1,      4,      4,19960512,0430,-34.1692, 109.9897, 2595,    294.0,  12.0760,  35.0820,  35.0360,    195.2,    254.9,     1.95,     8.77,     0.62
      09FA9605, ISS3a,    13,  1,     16,     16,19960512,0430,-34.1692, 109.9897, 2595,    396.0,   9.2100,  34.6630,  34.6620,    212.3,    253.3,     4.97,    16.75,     1.10
      09FA9605, ISS3a,    13,  1,     13,     13,19960512,0430,-34.1692, 109.9897, 2595,    494.0,   7.3700,  34.4900,  34.5020,    211.9,    219.2,    13.44,    23.86,     1.58
      09FA9605, ISS3a,    13,  1,     17,     17,19960512,0430,-34.1692, 109.9897, 2595,    694.0,   4.8530,  34.3800,  34.3840,    232.2,    206.2,    32.42,    29.69,     2.05
      09FA9605, ISS3a,    13,  1,     19,     19,19960512,0430,-34.1692, 109.9897, 2595,    792.0,   4.1060,  34.3860,  34.3910,    240.1,    201.9,    41.96,    31.44,     2.22
      09FA9605, ISS3a,    13,  1,     24,     24,19960512,0430,-34.1692, 109.9897, 2595,    994.0,   3.4490,  34.4820,  34.4870,    242.3,    174.6,    63.07,    33.38,     2.42
      09FA9605, ISS3a,    13,  1,     21,     21,19960512,0430,-34.1692, 109.9897, 2595,   1194.0,   3.0630,  34.5430,  34.5460,    250.0,    169.5,    72.70,    33.58,     2.44
      09FA9605, ISS3a,    13,  1,      9,      9,19960512,0430,-34.1692, 109.9897, 2595,   1392.0,   2.8200,  34.6100,  34.6120,    256.2,    169.4,    80.48,    33.38,     2.43
      09FA9605, ISS3a,    13,  1,     18,     18,19960512,0430,-34.1692, 109.9897, 2595,   1592.0,   2.6210,  34.6610,  34.6630,    263.4,    171.5,    87.77,    32.99,     2.38
      09FA9605, ISS3a,    13,  1,     15,     15,19960512,0430,-34.1692, 109.9897, 2595,   1794.0,   2.4070,  34.7010,  34.6970,    271.2,    174.0,    93.90,    32.60,     2.35
      09FA9605, ISS3a,    13,  1,      3,      3,19960512,0430,-34.1692, 109.9897, 2595,   1992.0,   2.2310,  34.7190,  34.7170,    278.2,    178.6,   101.49,    32.40,     2.33
      09FA9605, ISS3a,    13,  1,     14,     14,19960512,0430,-34.1692, 109.9897, 2595,   2192.0,   2.0300,  34.7290,  34.7290,    287.1,    183.3,   105.96,    32.11,     2.30
      09FA9605, ISS3a,    13,  1,      1,      1,19960512,0430,-34.1692, 109.9897, 2595,   2192.0,   2.0300,  34.7290,  34.7270,    287.1,    182.8,   106.54,    32.21,     2.29
      09FA9605, ISS3a,    13,  1,     20,     20,19960512,0430,-34.1692, 109.9897, 2595,   2602.0,   1.7770,  34.7340,  34.7320,    303.6,    191.8,   109.07,    31.82,     2.25
      09FA9605, ISS3a,    14,  1,     23,     23,19960512,0804,-34.2112, 109.7153, 3272,      4.0,  19.3270,  36.0090,  36.0080,    172.4,    239.3,     2.05,     0.10,     0.12
      09FA9605, ISS3a,    14,  1,     11,     11,19960512,0804,-34.2112, 109.7153, 3272,     46.0,  19.3250,  36.0060,  36.0060,    169.0,    240.3,     2.05,     0.19,     0.11
      09FA9605, ISS3a,    14,  1,     22,     22,19960512,0804,-34.2112, 109.7153, 3272,     96.0,  19.3000,  35.9960,  36.0000,    168.1,    240.5,     1.95,     0.10,     0.10
      09FA9605, ISS3a,    14,  1,      8,      8,19960512,0804,-34.2112, 109.7153, 3272,    144.0,  16.1890,  35.7500,  35.7290,    171.9,    242.3,     1.36,     1.66,     0.20
      09FA9605, ISS3a,    14,  1,     12,     12,19960512,0804,-34.2112, 109.7153, 3272,    196.0,  14.2690,  35.4640,  35.4870,    178.4,    244.0,     1.46,     4.09,     0.34
      09FA9605, ISS3a,    14,  1,      7,      7,19960512,0804,-34.2112, 109.7153, 3272,    294.0,  11.4620,  34.9810,  34.9500,    198.0,    255.0,     2.14,    10.13,     0.66
      09FA9605, ISS3a,    14,  1,      6,      6,19960512,0804,-34.2112, 109.7153, 3272,    392.0,   9.5320,  34.7010,  34.7090,    211.2,    254.7,     4.09,    15.78,     1.00
      09FA9605, ISS3a,    14,  1,      2,      2,19960512,0804,-34.2112, 109.7153, 3272,    492.0,   8.5710,  34.5870,  34.6000,    217.5,    244.9,     6.82,    19.67,     1.27
      09FA9605, ISS3a,    14,  1,     10,     10,19960512,0804,-34.2112, 109.7153, 3272,    592.0,   7.3930,  34.4850,  34.5010,    218.7,    218.9,    13.05,    23.95,     1.56
      09FA9605, ISS3a,    14,  1,      4,      4,19960512,0804,-34.2112, 109.7153, 3272,    694.0,   5.6480,  34.3980,  34.4150,    225.6,    206.8,    23.95,    28.14,     1.89
      09FA9605, ISS3a,    14,  1,     16,     16,19960512,0804,-34.2112, 109.7153, 3272,    792.0,   4.5360,  34.3740,  34.3810,    236.7,    205.1,    35.05,    30.18,     2.09
      09FA9605, ISS3a,    14,  1,     13,     13,19960512,0804,-34.2112, 109.7153, 3272,    992.0,   3.6310,  34.4450,  34.4460,    243.8,    183.7,    56.06,    32.70,     2.33
      09FA9605, ISS3a,    14,  1,      5,      5,19960512,0804,-34.2112, 109.7153, 3272,   1192.0,   3.3130,  34.5380,  34.5440,    243.2,    162.5,    73.77,    33.77,     2.44
      09FA9605, ISS3a,    14,  1,     17,     17,19960512,0804,-34.2112, 109.7153, 3272,   1392.0,   2.9450,  34.5780,  34.5840,    252.7,    170.7,    76.20,    33.38,     2.41
      09FA9605, ISS3a,    14,  1,     19,     19,19960512,0804,-34.2112, 109.7153, 3272,   1594.0,   2.6950,  34.6430,  34.6460,    261.7,    169.5,    85.63,    33.09,     2.37
      09FA9605, ISS3a,    14,  1,     24,     24,19960512,0804,-34.2112, 109.7153, 3272,   1794.0,   2.5160,  34.6830,  34.6880,    269.2,    172.9,    92.15,    32.50,     2.33
      09FA9605, ISS3a,    14,  1,     21,     21,19960512,0804,-34.2112, 109.7153, 3272,   1994.0,   2.3210,  34.7080,  34.7110,    276.7,    176.5,    92.24,    32.99,     2.38
      09FA9605, ISS3a,    14,  1,      9,      9,19960512,0804,-34.2112, 109.7153, 3272,   2194.0,   2.1230,  34.7220,  34.7230,    284.6,    179.6,   111.51,    33.18,     2.45
      09FA9605, ISS3a,    14,  1,     18,     18,19960512,0804,-34.2112, 109.7153, 3272,   2396.0,   2.0090,  34.7260,  34.7280,    292.4,    185.6,   110.24,    32.40,     2.30
      09FA9605, ISS3a,    14,  1,     15,     15,19960512,0804,-34.2112, 109.7153, 3272,   2596.0,   1.9010,  34.7300,  34.7300,    300.5,    188.5,   113.45,    32.98,     2.35
      09FA9605, ISS3a,    14,  1,      3,      3,19960512,0804,-34.2112, 109.7153, 3272,   2796.0,   1.8270,  34.7290,  34.7290,    306.7,    192.2,   112.87,    32.11,     2.28
      09FA9605, ISS3a,    14,  1,     14,     14,19960512,0804,-34.2112, 109.7153, 3272,   2996.0,   1.7570,  34.7300,  34.7310,    313.9,    192.5,   109.56,    31.91,     2.27
      09FA9605, ISS3a,    14,  1,     20,     20,19960512,0804,-34.2112, 109.7153, 3272,   3338.0,   1.5740,  34.7290,  34.7280,    326.8,    198.6,   119.48,    32.01,     2.23
      09FA9605, ISS3a,    15,  1,     23,     23,19960512,1232,-34.1867, 109.4003, 4611,      2.0,  19.6430,  36.0200,  36.0160,    178.1,    238.3,     2.34,     0.20,     0.15
      09FA9605, ISS3a,    15,  1,      8,      8,19960512,1232,-34.1867, 109.4003, 4611,     96.0,  18.3760,  35.9100,  35.8920,    171.4,    243.3,     1.75,     0.19,     0.17
      09FA9605, ISS3a,    15,  1,     22,     22,19960512,1232,-34.1867, 109.4003, 4611,    196.0,  13.9480,  35.4180,  35.4300,    182.9,    248.3,     1.56,     4.48,     0.42
      09FA9605, ISS3a,    15,  1,     11,     11,19960512,1232,-34.1867, 109.4003, 4611,    396.0,   9.7170,  34.7290,  34.7260,    213.0,    257.4,     3.80,    15.00,     1.02
      09FA9605, ISS3a,    15,  1,     12,     12,19960512,1232,-34.1867, 109.4003, 4611,    594.0,   8.7570,  34.6020,  34.5700,    226.1,    240.1,     7.60,    20.55,     1.39
      09FA9605, ISS3a,    15,  1,      7,      7,19960512,1232,-34.1867, 109.4003, 4611,    792.0,   5.7510,  34.4040,  34.4060,    228.4,    208.5,    24.73,    28.92,     2.01
      09FA9605, ISS3a,    15,  1,      2,      2,19960512,1232,-34.1867, 109.4003, 4611,   1192.0,   3.3420,  34.5020,  34.5010,    245.4,    174.1,    63.65,    33.68,     2.45
      09FA9605, ISS3a,    15,  1,     10,     10,19960512,1232,-34.1867, 109.4003, 4611,   1394.0,   2.9430,  34.5670,  34.5640,    254.2,    170.3,    73.96,    34.16,     2.48
      09FA9605, ISS3a,    15,  1,      4,      4,19960512,1232,-34.1867, 109.4003, 4611,   1592.0,   2.7370,  34.6300,  34.6360,    260.4,    173.9,    80.87,    33.86,     2.46
      09FA9605, ISS3a,    15,  1,     16,     16,19960512,1232,-34.1867, 109.4003, 4611,   1792.0,   2.5520,  34.6760,  34.6790,    267.9,    172.9,    88.06,    33.38,     2.43
      09FA9605, ISS3a,    15,  1,     13,     13,19960512,1232,-34.1867, 109.4003, 4611,   1990.0,   2.3500,  34.7070,  34.7080,    276.1,    178.5,    96.72,    32.99,     2.38
      09FA9605, ISS3a,    15,  1,      5,      5,19960512,1232,-34.1867, 109.4003, 4611,   2192.0,   2.1700,  34.7220,  34.7190,    283.7,    182.5,   102.65,    32.99,     2.37
      09FA9605, ISS3a,    15,  1,     17,     17,19960512,1232,-34.1867, 109.4003, 4611,   2396.0,   2.0450,  34.7270,  34.7270,    291.7,    185.3,   107.13,    32.89,     2.36
      09FA9605, ISS3a,    15,  1,     19,     19,19960512,1232,-34.1867, 109.4003, 4611,   2594.0,   1.8940,  34.7300,  34.7290,    300.0,    189.5,   109.27,    32.59,     2.34
      09FA9605, ISS3a,    15,  1,     24,     24,19960512,1232,-34.1867, 109.4003, 4611,   2792.0,   1.8020,  34.7320,  34.7320,    307.2,    190.5,   110.53,    32.50,     2.34
      09FA9605, ISS3a,    15,  1,     21,     21,19960512,1232,-34.1867, 109.4003, 4611,   2994.0,   1.6990,  34.7310,  34.7320,    314.6,    193.5,   112.67,    32.50,     2.34
      09FA9605, ISS3a,    15,  1,      9,      9,19960512,1232,-34.1867, 109.4003, 4611,   3194.0,   1.5800,  34.7300,  34.7300,    322.5,    197.1,   115.20,    32.50,     2.34
      09FA9605, ISS3a,    15,  1,     18,     18,19960512,1232,-34.1867, 109.4003, 4611,   3396.0,   1.4690,  34.7280,  34.7290,    331.4,    200.3,   116.37,    32.40,     2.32
      09FA9605, ISS3a,    15,  1,     15,     15,19960512,1232,-34.1867, 109.4003, 4611,   3696.0,   1.3250,  34.7230,  34.7240,    342.5,    203.6,   119.77,    32.30,     2.33
      09FA9605, ISS3a,    15,  1,      1,      1,19960512,1232,-34.1867, 109.4003, 4611,   3696.0,   1.3250,  34.7230,  34.7230,    342.5,    204.4,   122.20,    32.50,     2.34
      09FA9605, ISS3a,    15,  1,     14,     14,19960512,1232,-34.1867, 109.4003, 4611,   4296.0,   1.1840,  34.7190,  34.7190,    364.6,    209.6,   124.15,    32.40,     2.32
      09FA9605, ISS3a,    15,  1,     20,     20,19960512,1232,-34.1867, 109.4003, 4611,   4596.0,   1.0990,  34.7150,  34.7160,    377.4,    210.5,   123.08,    32.50,     2.31
      09FA9605, ISS3a,    15,  1,      3,      3,19960512,1232,-34.1867, 109.4003, 4611,   4688.0,   1.0490,  34.7130,  34.7110,    382.0,    218.2,   123.37,    32.30,     2.26