BOTTLE,20220929CCHSIOAMB
EXPOCODE,SECT_ID,STNNBR,CASTNO,SAMPNO,BTLNBR,BTLNBR_FLAG_W,DATE,TIME,LATITUDE,LONGITUDE,DEPTH,CTDPRS,CTDPRS_FLAG_W,CTDTMP,CTDTMP_FLAG_W,CTDSAL,CTDSAL_FLAG_W,SALNTY,SALNTY_FLAG_W,CTDOXY,CTDOXY_FLAG_W,OXYGEN,OXYGEN_FLAG_W,SILCAT,SILCAT_FLAG_W,NITRAT,NITRAT_FLAG_W,NITRIT,NITRIT_FLAG_W,PHSPHT,PHSPHT_FLAG_W,CFC-11,CFC-11_FLAG_W,CFC-12,CFC-12_FLAG_W,TCARBN,TCARBN_FLAG_W,PCO2,PCO2_FLAG_W,ALKALI,ALKALI_FLAG_W,PH,PH_FLAG_W,THETA,CHLORA,CHLORA_FLAG_W,CTDRAW,CTDRAW_FLAG_W,PPHYTN,PPHYTN_FLAG_W
,,,,,,,,,,,,DBAR,,DEG C,,PSS-78,,PSS-78,,UMOL/KG,,UMOL/KG,,UMOL/KG,,UMOL/KG,,UMOL/KG,,UMOL/KG,,PMOL/KG,,PMOL/KG,,UMOL/KG,,UATM,,UMOL/KG,,,,DEG C,UG/L,,DBAR,,UG/L,
35LLETAMBOT1_1,  AR04,    42,  1,     22,   22.0,2,19950921,0703,  4.3282, -35.0027,   10,      1.0,2,  27.4594,2,  35.8884,2,  35.9229,2,    199.8,2,    199.8,2,     0.65,2,     0.37,2,     0.00,2,     0.00,2,    1.896,2,    1.017,2,   -999.0,9,    356.9,2,   -999.0,9,  -999.00,9, 27.4592,    0.14,2,    3.0,2,    0.04,2
35LLETAMBOT1_1,  AR04,    42,  1,     21,   21.0,2,19950921,0703,  4.3282, -35.0027,   10,     73.9,2,  27.3714,2,  35.9876,2,  35.9571,2,    201.0,2,    201.0,2,     0.51,2,     0.34,2,     0.00,2,     0.01,2,    1.941,2,    1.028,2,   -999.0,9,   -999.0,9,   -999.0,9,  -999.00,9, 27.3542, -999.00,9,   76.0,2, -999.00,9
35LLETAMBOT1_1,  AR04,    42,  1,     20,   20.0,2,19950921,0703,  4.3282, -35.0027,   10,    123.5,2,  25.1227,2,  35.9887,2,  36.0179,2,    186.5,2,    172.5,2,     1.49,2,     3.53,2,     0.06,2,     0.26,2,    1.844,2,    0.972,2,   -999.0,9,   -999.0,9,   -999.0,9,  -999.00,9, 25.0957, -999.00,9,  125.0,2, -999.00,9
35LLETAMBOT1_1,  AR04,    42,  1,     19,   19.0,2,19950921,0703,  4.3282, -35.0027,   10,    299.2,2,  11.4047,2,  35.0673,2,  35.0513,2,    137.1,2,    137.1,2,     9.91,2,    22.92,2,     0.00,2,     1.45,2,    1.228,2,    0.598,2,   -999.0,9,   -999.0,9,   -999.0,9,  -999.00,9, 11.3667, -999.00,9,  301.0,2, -999.00,9
35LLETAMBOT1_1,  AR04,    42,  1,     18,   18.0,2,19950921,0703,  4.3282, -35.0027,   10,    497.9,2,   8.6902,2,  34.8107,2,  34.7972,2,    104.4,2,    104.3,2,    16.75,2,    32.21,2,     0.00,2,     1.98,2,    0.412,2,    0.190,2,   -999.0,9,   -999.0,9,   -999.0,9,  -999.00,9,  8.6364, -999.00,9,  500.0,2, -999.00,9
35LLETAMBOT1_1,  AR04,    42,  1,     17,   17.0,2,19950921,0703,  4.3282, -35.0027,   10,    498.0,2,   8.6899,2,  34.8105,2,  34.7964,2,    104.4,2,    104.0,2,    16.72,2,    32.33,2,     0.00,2,     1.97,2,    0.409,2,    0.192,2,   -999.0,9,   -999.0,9,   -999.0,9,  -999.00,9,  8.6361, -999.00,9,  500.0,2, -999.00,9
35LLETAMBOT1_1,  AR04,    42,  1,     16,   16.0,2,19950921,0703,  4.3282, -35.0027,   10,    795.9,2,   5.6860,2,  34.6039,2,  34.6009,2,    127.6,2,    128.0,2,    27.86,2,    35.75,2,     0.00,2,     2.28,2,    0.060,2,    0.032,2,   -999.0,9,   -999.0,9,   -999.0,9,  -999.00,9,  5.6166, -999.00,9,  797.0,2, -999.00,9
35LLETAMBOT1_1,  AR04,    42,  1,     15,   15.0,2,19950921,0703,  4.3282, -35.0027,   10,    995.6,2,   4.9205,2,  34.6897,2,  34.6937,2,    145.8,2,    145.7,2,    29.14,2,    33.81,2,     0.00,2,     2.18,2,    0.039,2,    0.014,2,   -999.0,9,   -999.0,9,   -999.0,9,  -999.00,9,  4.8379, -999.00,9,  997.0,2, -999.00,9
35LLETAMBOT1_1,  AR04,    42,  1,     14,   14.0,2,19950921,0703,  4.3282, -35.0027,   10,   1297.1,2,   4.6447,2,  34.9532,2,  34.9660,2,    210.6,2,    215.9,2,    18.77,2,    23.34,2,     0.00,2,     1.46,2,    0.141,2,    0.068,2,   -999.0,9,   -999.0,9,   -999.0,9,  -999.00,9,  4.5364, -999.00,9, 1299.0,2, -999.00,9
35LLETAMBOT1_1,  AR04,    42,  1,     13,   13.0,2,19950921,0703,  4.3282, -35.0027,   10,   1596.7,2,   4.1059,2,  34.9855,2,  34.9888,2,    244.6,2,    244.9,2,    16.42,2,    20.51,2,     0.00,2,     1.27,2,    0.189,2,    0.085,2,   -999.0,9,   -999.0,9,   -999.0,9,  -999.00,9,  3.9755, -999.00,9, 1598.0,2, -999.00,9
35LLETAMBOT1_1,  AR04,    42,  1,     12,   12.0,2,19950921,0703,  4.3282, -35.0027,   10,   1695.9,2,   3.9882,2,  34.9851,2,  34.9869,2,    249.1,2,    249.8,2,    16.57,2,    20.31,2,     0.00,2,     1.23,2,    0.204,2,    0.096,2,   -999.0,9,   -999.0,9,   -999.0,9,  -999.00,9,  3.8500, -999.00,9, 1697.0,2, -999.00,9
35LLETAMBOT1_1,  AR04,    42,  1,     11,   11.0,2,19950921,0703,  4.3282, -35.0027,   10,   1797.3,2,   3.8976,2,  34.9880,2,  34.9888,2,    254.4,2,    253.9,2,    16.24,2,    19.89,2,     0.00,2,     1.22,2,    0.190,2,    0.090,2,   -999.0,9,   -999.0,9,   -999.0,9,  -999.00,9,  3.7510, -999.00,9, 1799.0,2, -999.00,9
35LLETAMBOT1_1,  AR04,    42,  1,     10,   10.0,3,19950921,0703,  4.3282, -35.0027,   10,   1897.7,2,   3.6895,2,  34.9795,2,  34.9809,3,    255.4,2,    254.3,2,    17.66,2,    20.06,2,     0.00,2,     1.22,2,    0.122,2,    0.062,2,   -999.0,9,   -999.0,9,   -999.0,9,  -999.00,9,  3.5363, -999.00,9, 1899.0,2, -999.00,9
35LLETAMBOT1_1,  AR04,    42,  1,      9,    9.0,2,19950921,0703,  4.3282, -35.0027,   10,   1995.9,2,   3.5761,2,  34.9767,2,  34.9792,2,    256.9,2,    257.6,2,    18.13,2,    20.03,2,     0.00,2,     1.22,2,    0.099,2,    0.050,2,   -999.0,9,   -999.0,9,   -999.0,9,  -999.00,9,  3.4152, -999.00,9, 1996.0,2, -999.00,9
35LLETAMBOT1_1,  AR04,    42,  1,      8,    8.0,2,19950921,0703,  4.3282, -35.0027,   10,   2299.0,2,   3.1596,2,  34.9537,2,  34.9548,2,    255.2,2,    255.3,2,    23.60,2,    20.67,2,     0.00,2,     1.26,2,    0.043,2,    0.022,2,   -999.0,9,   -999.0,9,   -999.0,9,  -999.00,9,  2.9764, -999.00,9, 2300.0,2, -999.00,9
35LLETAMBOT1_1,  AR04,    42,  1,      7,    7.0,2,19950921,0703,  4.3282, -35.0027,   10,   2598.6,2,   2.9065,2,  34.9382,2,  34.9370,2,    256.2,2,    256.1,2,    27.65,2,    20.93,2,     0.00,2,     1.28,2,    0.038,2,    0.020,2,   -999.0,9,   -999.0,9,   -999.0,9,  -999.00,9,  2.6986, -999.00,9, 2600.0,2, -999.00,9
35LLETAMBOT1_1,  AR04,    42,  1,      6,    6.0,2,19950921,0703,  4.3282, -35.0027,   10,   2798.8,2,   2.7860,2,  34.9276,2,  34.9244,2,    254.6,2,    254.7,2,    31.34,2,    21.50,2,     0.00,2,     1.32,2, -999.000,9, -999.000,9,   -999.0,9,   -999.0,9,   -999.0,9,  -999.00,9,  2.5605, -999.00,9, 2800.0,2, -999.00,9
35LLETAMBOT1_1,  AR04,    42,  1,      5,    5.0,2,19950921,0703,  4.3282, -35.0027,   10,   2998.4,2,   2.6841,2,  34.9210,2,  34.9200,2,    254.3,2,    256.1,2,    33.21,2,    21.80,2,     0.00,2,     1.33,2,    0.066,2,    0.034,2,   -999.0,9,   -999.0,9,   -999.0,9,  -999.00,9,  2.4404, -999.00,9, 3000.0,2, -999.00,9
35LLETAMBOT1_1,  AR04,    42,  1,      4,    4.0,2,19950921,0703,  4.3282, -35.0027,   10,   3299.7,2,   2.5471,2,  34.9116,2,  34.9108,2,    256.3,2,    256.0,2,    34.85,2,    21.70,2,     0.00,2,     1.32,2,    0.045,2,    0.025,2,   -999.0,9,   -999.0,9,   -999.0,9,  -999.00,9,  2.2750, -999.00,9, 3301.0,2, -999.00,9
35LLETAMBOT1_1,  AR04,    42,  1,      3,    3.0,2,19950921,0703,  4.3282, -35.0027,   10,   3598.8,2,   2.3771,2,  34.8971,2,  34.8949,2,    254.5,2,    254.7,2,    39.76,2,    22.28,2,     0.00,2,     1.38,2,    0.040,2,    0.022,2,   -999.0,9,   -999.0,9,   -999.0,9,  -999.00,9,  2.0771, -999.00,9, 3600.0,2, -999.00,9
35LLETAMBOT1_1,  AR04,    42,  1,      2,    2.0,2,19950921,0703,  4.3282, -35.0027,   10,   3801.3,2,   2.2891,2,  34.8868,2,  34.8860,2,    253.7,2,    253.2,2,    43.36,2,    22.91,2,     0.00,2,     1.41,2,    0.038,2,    0.023,2,   -999.0,9,   -999.0,9,   -999.0,9,  -999.00,9,  1.9692, -999.00,9, 3802.0,2, -999.00,9
35LLETAMBOT1_1,  AR04,    42,  1,      1,    1.0,2,19950921,0703,  4.3282, -35.0027,   10,   3972.8,2,   2.1886,2,  34.8758,2,  34.8760,2,    251.4,2,    251.9,3,    47.09,2,    23.31,2,     0.00,2,     1.43,2,    0.051,2,    0.033,2,   -999.0,9,   -999.0,9,   -999.0,9,  -999.00,9,  1.8523, -999.00,9, 3974.0,2, -999.00,9
35LLETAMBOT1_1,  AR04,    43,  1,     22,   22.0,2,19950921,1414,  3.6663, -35.0002,   15,      0.9,2,  27.4534,2,  35.9586,2,  35.9577,2,    204.8,2,    200.5,2,     0.71,2,     0.05,2,     0.00,2,     0.01,2, -999.000,9, -999.000,9,   2039.0,2,    362.8,2,   2420.6,2,     8.07,2, 27.4532,    0.10,2,    3.0,2,    0.02,2
35LLETAMBOT1_1,  AR04,    43,  1,     21,   21.0,2,19950921,1414,  3.6663, -35.0002,   15,     40.7,2,  27.3817,2,  35.9626,2,  35.9513,2,    196.5,2,    200.5,2,     0.66,2,     0.02,2,     0.00,2,     0.01,2, -999.000,9, -999.000,9,   1996.6,2,   -999.0,9,   2376.4,2,     8.08,2, 27.3722, -999.00,9,   43.0,2, -999.00,9
35LLETAMBOT1_1,  AR04,    43,  1,     20,   20.0,2,19950921,1414,  3.6663, -35.0002,   15,    149.5,2,  14.6046,2,  35.4468,2,  35.4629,2,    148.5,2,    147.6,2,     6.18,2,    16.14,2,     0.01,2,     1.08,2, -999.000,9, -999.000,9,   2141.2,2,   -999.0,9,   2345.0,2,     7.99,2, 14.5823, -999.00,9,  151.0,2, -999.00,9
35LLETAMBOT1_1,  AR04,    43,  1,     18,   18.0,2,19950921,1414,  3.6663, -35.0002,   15,    297.2,2,  11.1507,2,  35.0404,2,  35.0734,2,    128.4,2,    137.2,2,     9.64,2,    22.17,2,     0.01,2,     1.46,2, -999.000,9, -999.000,9,   2161.3,2,   -999.0,9,   2319.8,2,     7.94,2, 11.1135, -999.00,9,  298.0,2, -999.00,9
35LLETAMBOT1_1,  AR04,    43,  1,     19,   19.0,2,19950921,1414,  3.6663, -35.0002,   15,    297.2,2,  11.1507,2,  35.0404,2,  35.0703,2,    128.4,2,    137.0,2,     9.71,2,    22.30,2,     0.01,2,     1.46,2, -999.000,9, -999.000,9,   2163.6,2,   -999.0,9,   2322.1,2,     7.94,2, 11.1135, -999.00,9,  298.0,2, -999.00,9
35LLETAMBOT1_1,  AR04,    43,  1,     17,   17.0,2,19950921,1414,  3.6663, -35.0002,   15,    497.9,2,   8.6157,2,  34.8017,2,  34.8010,2,    109.8,2,    101.2,2,    16.48,2,    31.87,2,     0.00,2,     2.03,2, -999.000,9, -999.000,9,   2195.3,2,   -999.0,9,   2294.8,2,     7.82,2,  8.5622, -999.00,9,  500.0,2, -999.00,9
35LLETAMBOT1_1,  AR04,    43,  1,     16,   16.0,2,19950921,1414,  3.6663, -35.0002,   15,    795.2,2,   5.6140,2,  34.6103,2,  34.6128,2,    130.3,2,    127.7,2,    26.96,2,    34.70,2,     0.00,2,     2.30,2,    0.061,2,    0.024,2,   2206.5,2,   -999.0,9,   2297.2,2,     7.83,2,  5.5451, -999.00,9,  797.0,2, -999.00,9
35LLETAMBOT1_1,  AR04,    43,  1,     15,   15.0,2,19950921,1414,  3.6663, -35.0002,   15,    997.5,2,   4.8544,2,  34.7205,2,  34.7290,2,    154.7,2,    155.4,2,    26.67,2,    31.46,2,     0.00,2,     2.11,2,    0.015,2,    0.007,2,   2192.8,3,   -999.0,9,   2299.5,3,     7.88,2,  4.7721, -999.00,9, 1000.0,2, -999.00,9
35LLETAMBOT1_1,  AR04,    43,  1,     14,   14.0,2,19950921,1414,  3.6663, -35.0002,   15,   1292.9,2,   4.4981,2,  34.9176,2,  34.9211,2,    205.4,2,    206.2,2,    19.81,2,    24.34,2,     0.00,2,     1.63,2,    0.047,2,    0.022,2,   2149.9,3,   -999.0,9,   2288.8,3,     7.96,2,  4.3917, -999.00,9, 1294.0,2, -999.00,9
35LLETAMBOT1_1,  AR04,    43,  1,     13,   13.0,2,19950921,1414,  3.6663, -35.0002,   15,   1498.7,2,   4.2459,2,  34.9733,2,  34.9728,2,    233.5,2,    232.3,2,    16.66,2,    21.21,2,     0.00,2,     1.41,2,    0.103,2,    0.050,2,   2132.1,3,   -999.0,9,   2287.7,3,     8.00,2,  4.1230, -999.00,9, 1501.0,2, -999.00,9
35LLETAMBOT1_1,  AR04,    43,  1,     12,   12.0,2,19950921,1414,  3.6663, -35.0002,   15,   1596.1,2,   4.1609,2,  34.9770,2,  34.9790,2,    237.9,2,    238.2,2,    16.09,2,    20.56,2,     0.00,2,     1.35,2,    0.110,2,    0.053,2,   2131.7,3,   -999.0,9,   2290.3,3,     8.01,2,  4.0299, -999.00,9, 1597.0,2, -999.00,9
35LLETAMBOT1_1,  AR04,    43,  1,     11,   11.0,2,19950921,1414,  3.6663, -35.0002,   15,   1697.1,2,   4.0219,2,  34.9811,2,  34.9826,2,    244.6,2,    244.2,2,    15.77,2,    19.97,2,     0.00,2,     1.32,2,    0.102,2,    0.051,2,   2147.9,3,   -999.0,9,   2311.4,3,     8.02,2,  3.8832, -999.00,9, 1699.0,2, -999.00,9
35LLETAMBOT1_1,  AR04,    43,  1,     10,   10.0,2,19950921,1414,  3.6663, -35.0002,   15,   1803.6,2,   3.8695,2,  34.9790,2,  34.9839,2,    247.7,2,    246.4,2,    16.13,2,    19.60,2,     0.01,2,     1.30,2,    0.086,2,    0.047,2,   2129.6,3,   -999.0,9,   2294.6,3,     8.02,2,  3.7227, -999.00,9, 1805.0,2, -999.00,9
35LLETAMBOT1_1,  AR04,    43,  1,      9,    9.0,2,19950921,1414,  3.6663, -35.0002,   15,   1991.9,2,   3.5923,2,  34.9747,2,  34.9780,2,    254.0,2,    253.3,2,    17.02,2,    19.16,2,     0.01,2,     1.26,2,    0.072,2,    0.039,2,   2118.1,3,   -999.0,9,   2285.8,3,     8.03,2,  3.4316, -999.00,9, 1993.0,2, -999.00,9
35LLETAMBOT1_1,  AR04,    43,  1,      8,    8.0,2,19950921,1414,  3.6663, -35.0002,   15,   2185.4,2,   3.3863,2,  34.9668,2,  34.9691,2,    256.2,2,    256.7,2,    18.33,2,    18.92,2,     0.01,2,     1.25,2,    0.061,2,    0.032,2,   2122.2,3,   -999.0,9,   2292.4,3,     8.03,2,  3.2102, -999.00,9, 2186.0,2, -999.00,9
35LLETAMBOT1_1,  AR04,    43,  1,      7,    7.0,2,19950921,1414,  3.6663, -35.0002,   15,   2397.6,2,   3.1495,2,  34.9528,2,  34.9528,2,    255.9,2,    256.3,2,    21.96,2,    19.28,2,     0.01,2,     1.28,2,    0.029,2,    0.018,2,   2127.1,3,   -999.0,9,   2296.6,3,     8.02,2,  2.9569, -999.00,9, 2399.0,2, -999.00,9
35LLETAMBOT1_1,  AR04,    43,  1,      6,    6.0,2,19950921,1414,  3.6663, -35.0002,   15,   2697.1,2,   2.8864,2,  34.9367,2,  34.9362,2,    255.1,2,    258.4,3,    25.74,2,    19.65,2,     0.01,2,     1.30,2,    0.032,2,    0.018,2,   2130.2,3,   -999.0,9,   2298.3,3,     8.01,2,  2.6691, -999.00,9, 2698.0,2, -999.00,9
35LLETAMBOT1_1,  AR04,    43,  1,      5,    5.0,2,19950921,1414,  3.6663, -35.0002,   15,   2998.5,2,   2.6558,2,  34.9178,2,  34.9182,2,    252.9,2,    254.6,2,    31.22,2,    20.42,2,     0.01,2,     1.35,2,    0.014,2,    0.011,2,   2147.4,3,   -999.0,9,   2313.4,3,     7.99,2,  2.4127, -999.00,9, 3000.0,2, -999.00,9
35LLETAMBOT1_1,  AR04,    43,  1,      4,    4.0,2,19950921,1414,  3.6663, -35.0002,   15,   3297.1,2,   2.4900,2,  34.9057,2,  34.9041,2,    253.8,2,    254.0,2,    34.79,2,    20.58,2,     0.01,2,     1.38,2,    0.020,2,    0.012,2,   2144.4,3,   -999.0,9,   2310.9,3,     7.99,2,  2.2196, -999.00,9, 3298.0,2, -999.00,9
35LLETAMBOT1_1,  AR04,    43,  1,      3,    3.0,2,19950921,1414,  3.6663, -35.0002,   15,   3598.9,2,   2.3736,2,  34.8965,2,  34.8934,2,    254.6,2,    254.4,2,    37.29,2,    20.75,2,     0.01,2,     1.40,2,    0.028,2,    0.017,2,   2091.4,3,   -999.0,9,   2252.8,3,     7.97,2,  2.0737, -999.00,9, 3600.0,2, -999.00,9
35LLETAMBOT1_1,  AR04,    43,  1,      2,    2.0,2,19950921,1414,  3.6663, -35.0002,   15,   3799.9,2,   2.2092,2,  34.8820,2,  34.8800,2,    254.5,2,    253.7,2,    41.41,2,    21.18,2,     0.01,2,     1.43,2,    0.040,2,    0.020,2,   2150.7,3,   -999.0,9,   2313.6,3,     7.96,2,  1.8916, -999.00,9, 3802.0,2, -999.00,9
35LLETAMBOT1_1,  AR04,    43,  1,      1,    1.0,2,19950921,1414,  3.6663, -35.0002,   15,   4009.4,2,   2.0821,2,  34.8656,2,  34.8706,2,    251.5,2,    252.4,2,    45.26,2,    21.69,2,     0.01,2,     1.46,2,    0.042,2,    0.025,2,   2128.7,3,   -999.0,9,   2288.5,3,     7.95,2,  1.7447, -999.00,9, 4011.0,2, -999.00,9