BOTTLE,20220929CCHSIOAMB
EXPOCODE,SECT_ID,STNNBR,CASTNO,SAMPNO,BTLNBR,BTLNBR_FLAG_W,DATE,TIME,LATITUDE,LONGITUDE,DEPTH,CTDPRS,CTDPRS_FLAG_W,CTDTMP,CTDTMP_FLAG_W,CTDSAL,CTDSAL_FLAG_W,SALNTY,SALNTY_FLAG_W,CTDOXY,CTDOXY_FLAG_W,OXYGEN,OXYGEN_FLAG_W,SILCAT,SILCAT_FLAG_W,NITRAT,NITRAT_FLAG_W,NITRIT,NITRIT_FLAG_W,PHSPHT,PHSPHT_FLAG_W,CFC-11,CFC-11_FLAG_W,CFC-12,CFC-12_FLAG_W,TCARBN,TCARBN_FLAG_W,PCO2,PCO2_FLAG_W,ALKALI,ALKALI_FLAG_W,PH,PH_FLAG_W,THETA,CHLORA,CHLORA_FLAG_W,CTDRAW,CTDRAW_FLAG_W,PPHYTN,PPHYTN_FLAG_W
,,,,,,,,,,,,DBAR,,DEG C,,PSS-78,,PSS-78,,UMOL/KG,,UMOL/KG,,UMOL/KG,,UMOL/KG,,UMOL/KG,,UMOL/KG,,PMOL/KG,,PMOL/KG,,UMOL/KG,,UATM,,UMOL/KG,,,,DEG C,UG/L,,DBAR,,UG/L,
35LLETAMBOT1_1,  AR04,    56,  1,     24,   24.0,2,19950924,1926, -1.9987, -34.9962,   15,     16.3,2,  26.7115,2,  36.0569,2,  36.0583,2,    198.6,2,    201.4,2,     0.56,2,     0.00,2,     0.01,2,     0.01,2, -999.000,9, -999.000,9,   -999.0,9,    372.4,2,   -999.0,9,  -999.00,9, 26.7078,    0.08,2,   17.0,2,    0.02,2
35LLETAMBOT1_1,  AR04,    56,  1,     23,   23.0,2,19950924,1926, -1.9987, -34.9962,   15,     67.0,2,  26.5942,2,  36.0767,2,  36.1860,2,    194.8,2,    200.9,2,     0.63,2,     0.00,2,     0.01,2,     0.03,2, -999.000,9, -999.000,9,   -999.0,9,   -999.0,9,   -999.0,9,  -999.00,9, 26.5789, -999.00,9,   70.0,2, -999.00,9
35LLETAMBOT1_1,  AR04,    56,  1,     22,   22.0,2,19950924,1926, -1.9987, -34.9962,   15,    117.4,2,  19.7034,2,  36.1430,2,  35.7247,2,    167.7,2,    160.4,2,     3.74,2,    10.78,2,     0.04,2,     0.80,2, -999.000,9, -999.000,9,   -999.0,9,   -999.0,9,   -999.0,9,  -999.00,9, 19.6818, -999.00,9,  118.0,2, -999.00,9
35LLETAMBOT1_1,  AR04,    56,  1,     21,   21.0,2,19950924,1926, -1.9987, -34.9962,   15,    345.0,2,  10.0531,2,  34.9104,2,  34.8546,2,    123.9,2,    115.2,2,    13.28,2,    27.85,2,     0.00,2,     1.81,2, -999.000,9, -999.000,9,   -999.0,9,   -999.0,9,   -999.0,9,  -999.00,9, 10.0127, -999.00,9,  347.0,2, -999.00,9
35LLETAMBOT1_1,  AR04,    56,  1,     20,   20.0,2,19950924,1926, -1.9987, -34.9962,   15,    647.3,2,   4.8352,2,  34.4488,2,  34.4522,2,    165.1,2,    166.9,2,    29.25,2,    32.28,2,     0.00,2,     2.23,2, -999.000,9, -999.000,9,   -999.0,9,   -999.0,9,   -999.0,9,  -999.00,9,  4.7838, -999.00,9,  649.0,2, -999.00,9
35LLETAMBOT1_1,  AR04,    56,  1,     19,   19.0,2,19950924,1926, -1.9987, -34.9962,   15,    796.3,2,   4.6624,2,  34.5385,2,  34.5414,2,    152.3,2,    151.2,2,    30.66,2,    33.20,2,     0.00,2,     2.30,2,    0.049,2,    0.023,2,   -999.0,9,   -999.0,9,   -999.0,9,  -999.00,9,  4.5992, -999.00,9,  798.0,2, -999.00,9
35LLETAMBOT1_1,  AR04,    56,  1,     18,   18.0,2,19950924,1926, -1.9987, -34.9962,   15,    995.3,2,   4.5246,2,  34.6109,2,  34.6124,2,    160.4,2,    163.3,2,    30.55,2,    31.46,2,     0.00,2,     2.18,2,    0.068,2,    0.029,2,   -999.0,9,   -999.0,9,   -999.0,9,  -999.00,9,  4.4451, -999.00,9,  997.0,2, -999.00,9
35LLETAMBOT1_1,  AR04,    56,  1,     17,   17.0,2,19950924,1926, -1.9987, -34.9962,   15,   1198.5,2,   4.5318,2,  34.8305,2,  34.8301,2,    186.3,2,    185.4,2,    24.06,2,    27.00,2,     0.00,2,     1.84,2,    0.041,2,    0.018,2,   -999.0,9,   -999.0,9,   -999.0,9,  -999.00,9,  4.4339, -999.00,9, 1200.0,2, -999.00,9
35LLETAMBOT1_1,  AR04,    56,  1,     16,   16.0,2,19950924,1926, -1.9987, -34.9962,   15,   1396.0,2,   4.4014,2,  34.9585,2,  34.9589,2,    223.9,2,    222.6,2,    17.80,2,    21.79,2,     0.00,2,     1.46,2,    0.152,2,    0.071,2,   -999.0,9,   -999.0,9,   -999.0,9,  -999.00,9,  4.2864, -999.00,9, 1398.0,2, -999.00,9
35LLETAMBOT1_1,  AR04,    56,  1,     15,   15.0,2,19950924,1926, -1.9987, -34.9962,   15,   1596.7,2,   4.0599,2,  34.9818,2,  34.9827,2,    242.4,2,    242.4,2,    16.48,2,    19.71,2,     0.00,2,     1.31,2,    0.127,2,    0.065,2,   -999.0,9,   -999.0,9,   -999.0,9,  -999.00,9,  3.9301, -999.00,9, 1598.0,2, -999.00,9
35LLETAMBOT1_1,  AR04,    56,  1,     14,   14.0,2,19950924,1926, -1.9987, -34.9962,   15,   1695.6,2,   3.9852,2,  34.9809,2,  34.9811,2,    245.2,2,    244.5,2,    16.71,2,    19.69,2,     0.00,2,     1.30,2,    0.109,2,    0.056,2,   -999.0,9,   -999.0,9,   -999.0,9,  -999.00,9,  3.8471, -999.00,9, 1698.0,2, -999.00,9
35LLETAMBOT1_1,  AR04,    56,  1,     13,   13.0,2,19950924,1926, -1.9987, -34.9962,   15,   1797.8,2,   3.8934,2,  34.9840,2,  34.9844,2,    249.8,2,    248.6,2,    16.47,2,    19.19,2,     0.00,2,     1.27,2, -999.000,9, -999.000,9,   -999.0,9,   -999.0,9,   -999.0,9,  -999.00,9,  3.7468, -999.00,9, 1800.0,2, -999.00,9
35LLETAMBOT1_1,  AR04,    56,  1,     12,   12.0,2,19950924,1926, -1.9987, -34.9962,   15,   1996.6,2,   3.7708,2,  34.9823,2,  34.9823,2,    253.3,2,    253.4,2,    16.68,2,    18.93,2,     0.00,2,     1.24,2,    0.155,2,    0.077,2,   -999.0,9,   -999.0,9,   -999.0,9,  -999.00,9,  3.6070, -999.00,9, 1997.0,2, -999.00,9
35LLETAMBOT1_1,  AR04,    56,  1,     11,   11.0,2,19950924,1926, -1.9987, -34.9962,   15,   2296.0,2,   3.3619,2,  34.9628,2,  34.9647,2,    254.8,2,    254.9,2,    20.44,2,    19.16,2,     0.00,2,     1.26,2,    0.082,2,    0.045,2,   -999.0,9,   -999.0,9,   -999.0,9,  -999.00,9,  3.1755, -999.00,9, 2298.0,2, -999.00,9
35LLETAMBOT1_1,  AR04,    56,  1,     10,   10.0,2,19950924,1926, -1.9987, -34.9962,   15,   2598.0,2,   3.0730,2,  34.9499,2,  34.9491,2,    255.7,2,    257.6,2,    23.16,2,    19.16,2,     0.00,2,     1.26,2,    0.094,2,    0.053,2,   -999.0,9,   -999.0,9,   -999.0,9,  -999.00,9,  2.8619, -999.00,9, 2599.0,2, -999.00,9
35LLETAMBOT1_1,  AR04,    56,  1,      9,    9.0,2,19950924,1926, -1.9987, -34.9962,   15,   2798.6,2,   2.8798,2,  34.9385,2,  34.9401,2,    257.5,2,    258.6,2,    25.24,2,    19.18,2,     0.00,2,     1.26,2,    0.082,2,    0.042,2,   -999.0,9,   -999.0,9,   -999.0,9,  -999.00,9,  2.6524, -999.00,9, 2800.0,2, -999.00,9
35LLETAMBOT1_1,  AR04,    56,  1,      8,    8.0,2,19950924,1926, -1.9987, -34.9962,   15,   3000.7,2,   2.7811,2,  34.9321,2,  34.9311,2,    258.0,2,    257.7,2,    27.95,2,    19.43,2,     0.00,2,     1.28,2,    0.086,2,    0.048,2,   -999.0,9,   -999.0,9,   -999.0,9,  -999.00,9,  2.5350, -999.00,9, 3002.0,2, -999.00,9
35LLETAMBOT1_1,  AR04,    56,  1,      6,    6.0,2,19950924,1926, -1.9987, -34.9962,   15,   3299.7,2,   2.6932,2,  34.9247,2,  34.9241,2,    259.2,2,    257.8,2,    29.06,2,    19.48,2,     0.00,2,     1.29,2,    0.087,2,    0.042,2,   -999.0,9,   -999.0,9,   -999.0,9,  -999.00,9,  2.4176, -999.00,9, 3301.0,2, -999.00,9
35LLETAMBOT1_1,  AR04,    56,  1,      7,    7.0,2,19950924,1926, -1.9987, -34.9962,   15,   3299.7,2,   2.6932,2,  34.9247,2,  34.9237,2,    259.2,2,    258.5,2,    29.51,2,    19.54,2,     0.00,2,     1.29,2,    0.094,2,    0.046,2,   -999.0,9,   -999.0,9,   -999.0,9,  -999.00,9,  2.4176, -999.00,9, 3301.0,2, -999.00,9
35LLETAMBOT1_1,  AR04,    56,  1,      5,    5.0,2,19950924,1926, -1.9987, -34.9962,   15,   3602.0,2,   2.5115,2,  34.9132,2,  34.9104,2,    261.6,2,    261.0,2,    30.24,2,    19.36,2,     0.00,2,     1.28,2,    0.115,2,    0.057,2,   -999.0,9,   -999.0,9,   -999.0,9,  -999.00,9,  2.2076, -999.00,9, 3603.0,2, -999.00,9
35LLETAMBOT1_1,  AR04,    56,  1,      4,    4.0,2,19950924,1926, -1.9987, -34.9962,   15,   3702.5,2,   2.4193,2,  34.9064,2,  34.9053,2,    262.2,2,    262.0,2,    31.25,2,    19.36,2,     0.00,2,     1.28,2,    0.148,2,    0.074,2,   -999.0,9,   -999.0,9,   -999.0,9,  -999.00,9,  2.1068, -999.00,9, 3704.0,2, -999.00,9
35LLETAMBOT1_1,  AR04,    56,  1,      3,    3.0,2,19950924,1926, -1.9987, -34.9962,   15,   3798.7,2,   2.2655,2,  34.8898,2,  34.8863,2,    263.5,2,    259.8,2,    37.73,2,    20.20,2,     0.00,2,     1.33,2,    0.141,2,    0.067,2,   -999.0,9,   -999.0,9,   -999.0,9,  -999.00,9,  1.9465, -999.00,9, 3800.0,2, -999.00,9
35LLETAMBOT1_1,  AR04,    56,  1,      2,    2.0,2,19950924,1926, -1.9987, -34.9962,   15,   4002.9,2,   1.5362,2,  34.8075,2,  34.8052,2,    239.4,2,    238.9,2,    76.15,2,    25.79,2,     0.00,2,     1.75,2,    0.022,2,    0.012,2,   -999.0,9,   -999.0,9,   -999.0,9,  -999.00,9,  1.2152, -999.00,9, 4004.0,2, -999.00,9
35LLETAMBOT1_1,  AR04,    56,  1,      1,    1.0,2,19950924,1926, -1.9987, -34.9962,   15,   4094.0,2,   1.4656,2,  34.7987,2,  34.7970,2,    237.1,2,    236.9,2,    79.86,2,    26.48,2,     0.00,2,     1.79,2,    0.023,2,    0.013,2,   -999.0,9,   -999.0,9,   -999.0,9,  -999.00,9,  1.1367, -999.00,9, 4096.0,2, -999.00,9
35LLETAMBOT1_1,  AR04,    57,  1,     24,   24.0,2,19950925,0211, -2.5038, -34.9983,   20,     14.1,2,  26.8014,2,  36.1268,2,  36.1632,2,    199.3,2,    200.5,2,     0.68,2,     0.00,2,     0.01,2,     0.03,2,    1.949,2,    1.008,2,   2057.1,2,    362.7,2,   2437.6,2,     8.08,2, 26.7982,    0.11,2,   16.0,2,    0.02,2
35LLETAMBOT1_1,  AR04,    57,  1,     23,   23.0,2,19950925,0211, -2.5038, -34.9983,   20,     57.8,2,  26.4543,2,  36.2639,2,  36.2635,2,    203.3,2,    201.3,2,     0.62,2,     0.00,2,     0.01,2,     0.05,2,    1.931,2,    0.998,2,   2070.7,2,   -999.0,9,   2451.2,2,     8.08,2, 26.4412, -999.00,9,   59.0,2, -999.00,9
35LLETAMBOT1_1,  AR04,    57,  1,     22,   22.0,2,19950925,0211, -2.5038, -34.9983,   20,    119.6,2,  17.2028,2,  35.7372,2,  35.7347,2,    154.4,2,    132.4,3,     4.32,2,    14.30,2,     0.03,2,     1.01,2,    1.826,2,    0.864,2,   2145.1,2,   -999.0,9,   2355.9,2,     7.97,2, 17.1828, -999.00,9,  121.0,2, -999.00,9
35LLETAMBOT1_1,  AR04,    57,  1,     21,   21.0,2,19950925,0211, -2.5038, -34.9983,   20,    301.2,2,  10.0861,2,  34.8883,2,  34.9048,2,    126.7,2,    122.7,2,    12.47,3,    26.64,3,     0.01,2,     1.71,3,    0.980,2,    0.423,2,   2202.7,2,   -999.0,9,   2334.0,2,     7.89,2, 10.0508, -999.00,9,  304.0,2, -999.00,9
35LLETAMBOT1_1,  AR04,    57,  1,     20,   20.0,2,19950925,0211, -2.5038, -34.9983,   20,    497.3,2,   7.4487,2,  34.6151,2,  34.5968,2,    156.7,2,    170.9,2,    16.51,3,    27.12,3,     0.01,2,     1.82,3,    1.020,2,    0.449,2,   2178.5,2,   -999.0,9,   2313.9,2,     7.94,2,  7.3997, -999.00,9,  499.0,2, -999.00,9
35LLETAMBOT1_1,  AR04,    57,  1,     19,   19.0,2,19950925,0211, -2.5038, -34.9983,   20,    647.4,2,   4.9454,2,  34.4405,2,  34.4561,2,    167.3,2,    165.6,2,    26.58,2,    32.58,2,     0.00,2,     2.18,2,    0.389,2,    0.155,2,   2202.5,2,   -999.0,9,   2311.6,2,     7.90,2,  4.8935, -999.00,9,  649.0,2, -999.00,9
35LLETAMBOT1_1,  AR04,    57,  1,     18,   18.0,2,19950925,0211, -2.5038, -34.9983,   20,    799.4,2,   4.4213,2,  34.4924,2,  34.4778,2,    167.3,2,    170.3,2,    33.12,2,    33.33,2,     0.00,2,     2.24,2,    0.160,2,    0.055,2,   2202.5,2,   -999.0,9,   2307.7,2,     7.89,2,  4.3594, -999.00,9,  801.0,2, -999.00,9
35LLETAMBOT1_1,  AR04,    57,  1,     17,   17.0,2,19950925,0211, -2.5038, -34.9983,   20,    996.5,2,   4.3260,2,  34.6036,2,  34.6028,2,    167.1,2,    164.5,2,    32.21,2,    32.60,2,     0.00,2,     2.19,2,    0.031,2,    0.006,2,   2205.0,2,   -999.0,9,   2307.5,2,     7.88,2,  4.2480, -999.00,9,  999.0,2, -999.00,9
35LLETAMBOT1_1,  AR04,    57,  1,     16,   16.0,2,19950925,0211, -2.5038, -34.9983,   20,   1193.7,2,   4.5406,2,  34.8329,2,  34.8304,2,    188.0,2,    185.5,2,    24.60,2,    27.49,2,     0.00,2,     1.84,2,    0.048,2,    0.014,2,   2198.2,2,   -999.0,9,   2326.3,2,     7.93,2,  4.4430, -999.00,9, 1195.0,2, -999.00,9
35LLETAMBOT1_1,  AR04,    57,  1,     15,   15.0,2,19950925,0211, -2.5038, -34.9983,   20,   1395.3,2,   4.2860,2,  34.9805,2,  34.9816,2,    237.4,2,    235.7,2,    16.97,2,    20.45,2,     0.00,2,     1.36,2,    0.183,2,    0.076,2,   2173.1,2,   -999.0,9,   2331.7,2,     8.01,2,  4.1722, -999.00,9, 1397.0,2, -999.00,9
35LLETAMBOT1_1,  AR04,    57,  1,     14,   14.0,2,19950925,0211, -2.5038, -34.9983,   20,   1595.7,2,   4.0338,2,  34.9810,2,  34.9834,2,    244.7,2,    243.8,2,    17.00,2,    20.11,2,     0.00,2,     1.30,2,    0.121,2,    0.048,2,   2178.1,2,   -999.0,9,   2343.2,2,     8.02,2,  3.9044, -999.00,9, 1598.0,2, -999.00,9
35LLETAMBOT1_1,  AR04,    57,  1,     13,   13.0,2,19950925,0211, -2.5038, -34.9983,   20,   1693.1,2,   3.9324,2,  34.9824,2,  34.9834,2,    247.9,2,    247.6,2,    17.04,2,    19.70,2,     0.00,2,     1.28,2,    0.119,2,    0.046,2,   2172.9,2,   -999.0,9,   2340.9,2,     8.03,2,  3.7952, -999.00,9, 1694.0,2, -999.00,9
35LLETAMBOT1_1,  AR04,    57,  1,     12,   12.0,2,19950925,0211, -2.5038, -34.9983,   20,   1793.8,2,   3.9030,2,  34.9831,2,  34.9845,2,    250.7,2,    249.1,2,    16.87,2,    19.25,2,     0.00,2,     1.27,2,    0.134,2,    0.057,2,   2179.3,2,   -999.0,9,   2349.8,2,     8.03,2,  3.7567, -999.00,9, 1795.0,2, -999.00,9
35LLETAMBOT1_1,  AR04,    57,  1,     11,   11.0,2,19950925,0211, -2.5038, -34.9983,   20,   1998.6,2,   3.7015,2,  34.9807,2,  34.9803,2,    255.2,2,    253.4,2,    17.85,2,    19.12,2,     0.00,2,     1.25,2,    0.126,2,    0.054,2,   2190.3,3,   -999.0,9,   2360.0,3,     8.02,2,  3.5385, -999.00,9, 1999.0,2, -999.00,9
35LLETAMBOT1_1,  AR04,    57,  1,     10,   10.0,2,19950925,0211, -2.5038, -34.9983,   20,   2297.8,2,   3.3011,2,  34.9616,2,  34.9627,2,    255.9,2,    256.1,2,    21.68,2,    19.04,2,     0.00,2,     1.26,2,    0.072,2,    0.029,2,   2182.9,2,   -999.0,9,   2352.0,2,     8.01,2,  3.1156, -999.00,9, 2299.0,2, -999.00,9
35LLETAMBOT1_1,  AR04,    57,  1,      9,    9.0,2,19950925,0211, -2.5038, -34.9983,   20,   2597.1,2,   3.0216,2,  34.9486,2,  34.9516,2,    257.5,2,    261.3,2,    24.09,2,    19.11,2,     0.00,2,     1.25,2,    0.088,2,    0.035,2,   2171.3,2,   -999.0,9,   2343.1,2,     8.01,2,  2.8116, -999.00,9, 2599.0,2, -999.00,9
35LLETAMBOT1_1,  AR04,    57,  1,      7,    7.0,2,19950925,0211, -2.5038, -34.9983,   20,   2798.7,2,   2.8065,2,  34.9315,2,  34.9326,2,    255.0,2,    254.7,2,    29.13,2,    19.89,2,     0.00,2,     1.32,2,    0.046,2,    0.018,2,   2209.0,3,   -999.0,9,   2380.8,3,     8.01,2,  2.5806, -999.00,9, 2800.0,2, -999.00,9
35LLETAMBOT1_1,  AR04,    57,  1,      8,    8.0,2,19950925,0211, -2.5038, -34.9983,   20,   2798.7,2,   2.8065,2,  34.9315,2,  34.9310,2,    255.0,2,    255.0,2,    29.17,2,    19.76,2,     0.00,2,     1.31,2,    0.049,2,    0.014,2,   2212.0,3,   -999.0,9,   2382.5,3,     8.00,2,  2.5806, -999.00,9, 2800.0,2, -999.00,9
35LLETAMBOT1_1,  AR04,    57,  1,      6,    6.0,2,19950925,0211, -2.5038, -34.9983,   20,   3000.6,2,   2.7508,2,  34.9311,2,  34.9302,2,    258.2,2,    258.3,2,    28.63,2,    19.57,2,     0.00,2,     1.29,2,    0.069,2,    0.030,2,   2208.7,3,   -999.0,9,   2381.6,3,     8.00,2,  2.5054, -999.00,9, 3002.0,2, -999.00,9
35LLETAMBOT1_1,  AR04,    57,  1,      5,    5.0,2,19950925,0211, -2.5038, -34.9983,   20,   3299.5,2,   2.6306,2,  34.9229,2,  34.9230,2,    260.4,2,    259.8,2,    29.48,2,    19.42,2,     0.00,2,     1.29,2,    0.095,2,    0.041,2,   2217.8,3,   -999.0,9,   2392.1,3,     7.99,2,  2.3565, -999.00,9, 3302.0,2, -999.00,9
35LLETAMBOT1_1,  AR04,    57,  1,      4,    4.0,2,19950925,0211, -2.5038, -34.9983,   20,   3599.6,2,   2.4440,2,  34.9095,2,  34.9102,2,    262.7,2,    261.5,2,    31.49,2,    19.58,2,     0.01,2,     1.29,2,    0.117,2,    0.047,2,   2193.1,3,   -999.0,9,   2366.9,3,     7.99,2,  2.1421, -999.00,9, 3600.0,2, -999.00,9
35LLETAMBOT1_1,  AR04,    57,  1,      3,    3.0,2,19950925,0211, -2.5038, -34.9983,   20,   3701.8,2,   2.1630,2,  34.8866,2,  34.8873,2,    261.1,2,    259.5,2,    38.95,2,    20.26,2,     0.00,2,     1.35,2,    0.132,2,    0.063,2,   2211.3,3,   -999.0,9,   2379.6,3,     7.97,2,  1.8573, -999.00,9, 3704.0,2, -999.00,9
35LLETAMBOT1_1,  AR04,    57,  1,      2,    2.0,2,19950925,0211, -2.5038, -34.9983,   20,   3799.9,2,   2.0079,2,  34.8685,2,  34.8684,2,    254.4,2,    254.4,2,    48.33,2,    21.52,2,     0.00,2,     1.46,2,    0.081,2,    0.039,2,   2213.0,3,   -999.0,9,   2376.5,3,     7.96,2,  1.6957, -999.00,9, 3801.0,2, -999.00,9
35LLETAMBOT1_1,  AR04,    57,  1,      1,    1.0,2,19950925,0211, -2.5038, -34.9983,   20,   3933.9,2,   1.6389,2,  34.8234,2,  34.8191,2,    243.0,2,    242.2,2,    71.69,2,    25.12,2,     0.00,2,     1.69,2,    0.018,2,    0.010,2,   2225.7,3,   -999.0,9,   2376.4,3,     7.93,2,  1.3224, -999.00,9, 3935.0,2, -999.00,9
35LLETAMBOT1_2,  AR04,    58,  1,      5,    5.0,2,19950928,1943, -4.7903, -35.1415,   20,      1.2,2,  26.1626,2,  36.1738,2,  36.1850,2,    205.0,2,    204.0,2,     0.36,2,     0.11,2,     0.01,2,     0.07,2, -999.000,9, -999.000,9,   2024.9,2,    369.7,2,   2387.8,2,     8.07,2, 26.1623,    0.06,2,    4.0,2,    0.01,2
35LLETAMBOT1_2,  AR04,    58,  1,      4,    4.0,2,19950928,1943, -4.7903, -35.1415,   20,     99.0,2,  25.7413,2,  37.2083,2,  36.6070,2,    202.3,2,    198.3,2,     1.55,2,     3.35,2,     0.03,2,     0.28,2, -999.000,9, -999.000,9,   2072.9,2,   -999.0,9,   2409.1,2,     8.02,2, 25.7192, -999.00,9,  101.0,2, -999.00,9
35LLETAMBOT1_2,  AR04,    58,  1,      3,    3.0,2,19950928,1943, -4.7903, -35.1415,   20,    150.6,2,  19.6966,2,  36.3241,2,  35.6800,2,    204.8,2,    193.0,2,     3.61,2,     8.90,2,     0.03,2,     0.66,2, -999.000,9, -999.000,9,   2104.0,2,   -999.0,9,   2360.9,2,     8.01,2, 19.6689, -999.00,9,  151.0,2, -999.00,9
35LLETAMBOT1_2,  AR04,    58,  1,      1,    1.0,2,19950928,1943, -4.7903, -35.1415,   20,    200.3,2,  14.5762,2,  35.4561,2,  35.3680,2,    190.1,2,    191.8,2,     4.71,2,    11.57,2,     0.02,2,     0.84,2, -999.000,9, -999.000,9,   2112.6,2,   -999.0,9,   2343.9,2,     8.04,2, 14.5463, -999.00,9,  201.0,2, -999.00,9
35LLETAMBOT1_2,  AR04,    58,  1,      2,    2.0,2,19950928,1943, -4.7903, -35.1415,   20,    200.3,2,  14.5762,2,  35.4561,2,  35.3700,2,    190.1,2,    191.8,2,     4.65,2,    11.37,2,     0.02,2,     0.82,2, -999.000,9, -999.000,9,   2109.0,2,   -999.0,9,   2340.9,2,     8.04,2, 14.5463, -999.00,9,  201.0,2, -999.00,9