BOTTLE,20220929CCHSIOAMB
EXPOCODE,SECT_ID,STNNBR,CASTNO,SAMPNO,BTLNBR,BTLNBR_FLAG_W,DATE,TIME,LATITUDE,LONGITUDE,DEPTH,CTDPRS,CTDPRS_FLAG_W,CTDTMP,CTDTMP_FLAG_W,CTDSAL,CTDSAL_FLAG_W,SALNTY,SALNTY_FLAG_W,CTDOXY,CTDOXY_FLAG_W,OXYGEN,OXYGEN_FLAG_W,SILCAT,SILCAT_FLAG_W,NITRAT,NITRAT_FLAG_W,NITRIT,NITRIT_FLAG_W,PHSPHT,PHSPHT_FLAG_W,CFC-11,CFC-11_FLAG_W,CFC-12,CFC-12_FLAG_W,TCARBN,TCARBN_FLAG_W,PCO2,PCO2_FLAG_W,ALKALI,ALKALI_FLAG_W,PH,PH_FLAG_W,THETA,CHLORA,CHLORA_FLAG_W,CTDRAW,CTDRAW_FLAG_W,PPHYTN,PPHYTN_FLAG_W
,,,,,,,,,,,,DBAR,,DEG C,,PSS-78,,PSS-78,,UMOL/KG,,UMOL/KG,,UMOL/KG,,UMOL/KG,,UMOL/KG,,UMOL/KG,,PMOL/KG,,PMOL/KG,,UMOL/KG,,UATM,,UMOL/KG,,,,DEG C,UG/L,,DBAR,,UG/L,
35LLETAMBOT1_2,  AR04,    62,  1,     19,   19.0,2,19950929,1229, -3.4903, -34.9212,   20,     15.5,2,  26.3167,2,  36.3178,2,  36.3211,2,    195.9,2,    202.1,2,     0.57,2,     0.00,2,     0.01,2,     0.07,2, -999.000,9, -999.000,9,   -999.0,9,    381.1,2,   -999.0,9,  -999.00,9, 26.3132,    0.09,2,   17.0,2,    0.02,2
35LLETAMBOT1_2,  AR04,    62,  1,     18,   18.0,2,19950929,1229, -3.4903, -34.9212,   20,     77.7,2,  26.3103,2,  36.3147,2,  36.3188,2,    201.4,2,    202.1,2,     0.53,2,     0.00,2,     0.01,2,     0.08,2, -999.000,9, -999.000,9,   -999.0,9,   -999.0,9,   -999.0,9,  -999.00,9, 26.2927, -999.00,9,   79.0,2, -999.00,9
35LLETAMBOT1_2,  AR04,    62,  1,     17,   17.0,2,19950929,1229, -3.4903, -34.9212,   20,    121.6,2,  20.7006,2,  36.3090,2,  36.6901,2,    186.0,2,    186.2,2,     0.84,2,     1.26,2,     0.13,2,     0.27,2, -999.000,9, -999.000,9,   -999.0,9,   -999.0,9,   -999.0,9,  -999.00,9, 20.6774, -999.00,9,  123.0,2, -999.00,9
35LLETAMBOT1_2,  AR04,    62,  1,     16,   16.0,2,19950929,1229, -3.4903, -34.9212,   20,    247.7,2,   9.7904,2,  34.8769,2,  34.8807,2,    106.9,2,    106.2,2,    12.86,2,    28.82,2,     0.01,2,     1.82,2, -999.000,9, -999.000,9,   -999.0,9,   -999.0,9,   -999.0,9,  -999.00,9,  9.7620, -999.00,9,  249.0,2, -999.00,9
35LLETAMBOT1_2,  AR04,    62,  1,     15,   15.0,2,19950929,1229, -3.4903, -34.9212,   20,    398.2,2,   8.5642,2,  34.7437,2,  34.7427,2,    126.2,2,     88.0,2,    16.76,2,    33.75,2,     0.01,2,     2.12,2, -999.000,9, -999.000,9,   -999.0,9,   -999.0,9,   -999.0,9,  -999.00,9,  8.5219, -999.00,9,  400.0,2, -999.00,9
35LLETAMBOT1_2,  AR04,    62,  1,     14,   14.0,2,19950929,1229, -3.4903, -34.9212,   20,    598.5,2,   5.8262,2,  34.5148,2,  34.5117,2,    133.2,2,    136.0,2,    24.31,2,    34.21,2,     0.01,2,     2.26,2,    0.222,2,    0.109,2,   -999.0,9,   -999.0,9,   -999.0,9,  -999.00,9,  5.7743, -999.00,9,  600.0,2, -999.00,9
35LLETAMBOT1_2,  AR04,    62,  1,     13,   13.0,2,19950929,1229, -3.4903, -34.9212,   20,    798.1,2,   4.6708,2,  34.4764,2,  34.4818,2,    150.2,2,    149.8,2,    30.75,2,    34.54,2,     0.01,2,     2.31,2,    0.102,2,    0.045,2,   -999.0,9,   -999.0,9,   -999.0,9,  -999.00,9,  4.6075, -999.00,9,  799.0,2, -999.00,9
35LLETAMBOT1_2,  AR04,    62,  1,     12,   12.0,2,19950929,1229, -3.4903, -34.9212,   20,    998.9,2,   4.2960,2,  34.5599,2,  34.5712,2,    164.4,2,    164.1,2,    32.43,2,    32.55,2,     0.01,2,     2.19,2,    0.069,2,    0.038,2,   -999.0,9,   -999.0,9,   -999.0,9,  -999.00,9,  4.2181, -999.00,9, 1001.0,2, -999.00,9
35LLETAMBOT1_2,  AR04,    62,  1,     11,   11.0,2,19950929,1229, -3.4903, -34.9212,   20,   1198.1,2,   4.4252,2,  34.7650,2,  34.7622,2,    178.4,2,    177.6,2,    27.01,2,    29.69,2,     0.01,2,     1.91,2,    0.045,2,    0.019,2,   -999.0,9,   -999.0,9,   -999.0,9,  -999.00,9,  4.3284, -999.00,9, 1199.0,2, -999.00,9
35LLETAMBOT1_2,  AR04,    62,  1,     10,   10.0,2,19950929,1229, -3.4903, -34.9212,   20,   1397.7,2,   4.3730,2,  34.9327,2,  34.9194,2,    215.3,2,    211.9,2,    20.21,2,    24.32,2,     0.01,2,     1.53,2,    0.087,2,    0.045,2,   -999.0,9,   -999.0,9,   -999.0,9,  -999.00,9,  4.2582, -999.00,9, 1400.0,2, -999.00,9
35LLETAMBOT1_2,  AR04,    62,  1,      9,    9.0,2,19950929,1229, -3.4903, -34.9212,   20,   1497.1,2,   4.2113,2,  34.9677,2,  34.9692,2,    233.6,2,    233.9,2,    17.32,2,    21.50,2,     0.01,2,     1.34,2,    0.150,2,    0.075,2,   -999.0,9,   -999.0,9,   -999.0,9,  -999.00,9,  4.0890, -999.00,9, 1499.0,2, -999.00,9
35LLETAMBOT1_2,  AR04,    62,  1,      8,    8.0,2,19950929,1229, -3.4903, -34.9212,   20,   1593.0,2,   4.0635,2,  34.9810,2,  34.9812,2,    244.1,2,    242.7,2,    16.46,2,    20.06,2,     0.01,2,     1.28,2,    0.188,2,    0.096,2,   -999.0,9,   -999.0,9,   -999.0,9,  -999.00,9,  3.9340, -999.00,9, 1595.0,2, -999.00,9
35LLETAMBOT1_2,  AR04,    62,  1,      7,    7.0,2,19950929,1229, -3.4903, -34.9212,   20,   1694.6,2,   3.9001,2,  34.9821,2,  34.9820,2,    250.1,2,    248.5,2,    16.65,2,    19.54,2,     0.01,2,     1.26,2,    0.175,2,    0.090,2,   -999.0,9,   -999.0,9,   -999.0,9,  -999.00,9,  3.7631, -999.00,9, 1695.0,2, -999.00,9
35LLETAMBOT1_2,  AR04,    62,  1,      6,    6.0,2,19950929,1229, -3.4903, -34.9212,   20,   1795.4,2,   3.7446,2,  34.9801,2,  34.9804,2,    254.2,2,    252.5,2,    17.09,2,    19.39,2,     0.01,2,     1.24,2,    0.182,2,    0.091,2,   -999.0,9,   -999.0,9,   -999.0,9,  -999.00,9,  3.6003, -999.00,9, 1797.0,2, -999.00,9
35LLETAMBOT1_2,  AR04,    62,  1,      5,    5.0,2,19950929,1229, -3.4903, -34.9212,   20,   1897.0,2,   3.6054,2,  34.9765,2,  34.9764,2,    255.8,2,    254.7,2,    17.72,2,    19.16,2,     0.01,2,     1.22,2,    0.168,2,    0.086,2,   -999.0,9,   -999.0,9,   -999.0,9,  -999.00,9,  3.4535, -999.00,9, 1899.0,2, -999.00,9
35LLETAMBOT1_2,  AR04,    62,  1,      4,    4.0,2,19950929,1229, -3.4903, -34.9212,   20,   1898.2,2,   3.6048,2,  34.9763,2,  34.9763,2,    256.0,2,    254.9,2,    17.81,2,    19.15,2,     0.01,2,     1.22,2,    0.166,2,    0.087,2,   -999.0,9,   -999.0,9,   -999.0,9,  -999.00,9,  3.4527, -999.00,9, 1901.0,2, -999.00,9
35LLETAMBOT1_2,  AR04,    62,  1,      3,    3.0,2,19950929,1229, -3.4903, -34.9212,   20,   1995.9,2,   3.4700,2,  34.9714,2,  34.9711,2,    258.1,2,    256.3,2,    18.76,2,    19.05,2,     0.01,2,     1.22,2,    0.156,2,    0.076,2,   -999.0,9,   -999.0,9,   -999.0,9,  -999.00,9,  3.3107, -999.00,9, 1997.0,2, -999.00,9
35LLETAMBOT1_2,  AR04,    62,  1,      2,    2.0,2,19950929,1229, -3.4903, -34.9212,   20,   2196.3,2,   3.2564,2,  34.9603,2,  34.9610,2,    258.6,2,    257.3,2,    21.11,2,    19.22,2,     0.01,2,     1.24,2,    0.105,2,    0.051,2,   -999.0,9,   -999.0,9,   -999.0,9,  -999.00,9,  3.0814, -999.00,9, 2198.0,2, -999.00,9
35LLETAMBOT1_2,  AR04,    62,  1,      1,    1.0,2,19950929,1229, -3.4903, -34.9212,   20,   2324.2,2,   3.1731,2,  34.9562,2,  34.9567,2,    257.0,2,    258.0,2,    22.01,2,    19.23,2,     0.01,2,     1.24,2,    0.108,2,    0.049,2,   -999.0,9,   -999.0,9,   -999.0,9,  -999.00,9,  2.9872, -999.00,9, 2326.0,2, -999.00,9
35LLETAMBOT1_2,  AR04,    63,  1,      3,    3.0,2,19951002,0628,  0.5258, -45.0350,   20,      2.3,2,  26.8881,2,  36.2312,2,  36.2380,2,    202.6,2,    200.2,2,     0.52,2,     0.00,2,     0.00,2,     0.01,2, -999.000,9, -999.000,9,   2048.5,2,    362.2,2,   2432.7,2,     8.08,2, 26.8876,    0.08,2,    5.0,2,    0.02,2
35LLETAMBOT1_2,  AR04,    63,  1,      2,    2.0,2,19951002,0628,  0.5258, -45.0350,   20,     98.6,2,  26.8076,2,  36.2496,2,  36.2483,2,    204.7,2,    199.3,2,     0.45,2,     0.00,2,     0.00,2,     0.01,2, -999.000,9, -999.000,9,   1755.6,3,   -999.0,9,   2098.5,3,     8.07,2, 26.7850, -999.00,9,   99.0,2, -999.00,9
35LLETAMBOT1_2,  AR04,    63,  1,      1,    1.0,2,19951002,0628,  0.5258, -45.0350,   20,    153.7,2,  23.4299,2,  36.7269,2,  36.6027,2,    203.4,2,    191.9,2,     1.22,2,     1.91,2,     0.17,2,     0.25,2, -999.000,9, -999.000,9,   2113.7,2,   -999.0,9,   2448.4,2,     8.05,2, 23.3978, -999.00,9,  154.0,2, -999.00,9
35LLETAMBOT1_2,  AR04,    64,  1,      5,    5.0,2,19951002,0952,  0.3912, -45.1020,   20,      2.8,2,  27.0688,2,  36.2571,2,  36.2560,2,    198.5,2,    196.8,2,     0.23,2,     0.00,2,     0.00,2,     0.03,2, -999.000,9, -999.000,9,   2022.2,2,    373.3,2,   2391.5,2,     8.06,2, 27.0682,    0.16,2,    5.0,2,    0.06,2
35LLETAMBOT1_2,  AR04,    64,  1,      4,    4.0,2,19951002,0952,  0.3912, -45.1020,   20,     88.4,2,  26.9195,2,  36.2455,2,  36.2463,2,    199.0,2,    196.8,2,     0.39,2,     0.00,2,     0.01,2,     0.05,2, -999.000,9, -999.000,9,   2046.7,2,   -999.0,9,   2421.6,2,     8.07,2, 26.8992, -999.00,9,   90.0,2, -999.00,9
35LLETAMBOT1_2,  AR04,    64,  1,      3,    3.0,2,19951002,0952,  0.3912, -45.1020,   20,    140.8,2,  17.8442,2,  35.8732,2,  36.0716,2,    191.8,2,    182.2,2,     2.65,2,     6.20,2,     0.11,2,     0.53,2, -999.000,9, -999.000,9,   2115.6,2,   -999.0,9,   2403.3,2,     8.08,2, 17.8201, -999.00,9,  141.0,2, -999.00,9
35LLETAMBOT1_2,  AR04,    64,  1,      2,    2.0,2,19951002,0952,  0.3912, -45.1020,   20,    249.9,2,  12.7048,2,  35.2163,2,  35.0764,2,    153.1,2,    143.6,2,     9.51,2,    21.31,2,     0.01,2,     1.44,2, -999.000,9, -999.000,9,   2180.0,2,   -999.0,9,   2345.9,2,     7.93,2, 12.6708, -999.00,9,  250.0,2, -999.00,9
35LLETAMBOT1_2,  AR04,    64,  1,      1,    1.0,2,19951002,0952,  0.3912, -45.1020,   20,    395.7,2,   8.4525,2,  34.7346,2,  34.7321,2,    149.9,2,    150.5,2,    15.52,2,    27.04,2,     0.00,2,     1.82,2, -999.000,9, -999.000,9,   2176.2,2,   -999.0,9,   2309.2,2,     7.92,2,  8.4108, -999.00,9,  395.0,2, -999.00,9
35LLETAMBOT1_2,  AR04,    65,  1,      9,    9.0,2,19951002,1119,  0.4185, -45.0927,   15,      4.1,2,  27.0342,2,  36.2486,2,  36.2774,2,    197.0,2,    197.5,2,     0.26,2,     0.00,2,     0.00,2,     0.04,2, -999.000,9, -999.000,9,   2034.7,2,    369.9,2,   2414.0,2,     8.07,2, 27.0333,    0.14,2,    6.0,2,    0.04,2
35LLETAMBOT1_2,  AR04,    65,  1,      8,    8.0,2,19951002,1119,  0.4185, -45.0927,   15,     65.6,2,  26.7796,2,  36.2496,2,  36.2510,2,    195.0,2,    198.3,2,     0.41,2,     0.02,2,     0.01,2,     0.05,2, -999.000,9, -999.000,9,   2028.2,2,   -999.0,9,   2407.1,2,     8.08,2, 26.7646, -999.00,9,   67.0,2, -999.00,9
35LLETAMBOT1_2,  AR04,    65,  1,      7,    7.0,2,19951002,1119,  0.4185, -45.0927,   15,    118.2,2,  23.7016,2,  36.7182,2,  36.6880,2,    194.8,2,    195.4,2,     0.98,2,     1.38,2,     0.21,2,     0.23,2, -999.000,9, -999.000,9,   2097.9,2,   -999.0,9,   2446.8,2,     8.07,2, 23.6768, -999.00,9,  119.0,2, -999.00,9
35LLETAMBOT1_2,  AR04,    65,  1,      6,    6.0,2,19951002,1119,  0.4185, -45.0927,   15,    298.7,2,  10.4446,2,  34.9519,2,  34.9438,2,    137.6,2,    137.6,2,    11.48,2,    24.35,2,     0.00,2,     1.62,2, -999.000,9, -999.000,9,   2173.6,2,   -999.0,9,   2322.5,2,     7.93,2, 10.4088, -999.00,9,  300.0,2, -999.00,9
35LLETAMBOT1_2,  AR04,    65,  1,      5,    5.0,2,19951002,1119,  0.4185, -45.0927,   15,    498.0,2,   6.1166,2,  34.5438,2,  34.5494,2,    153.2,2,    153.4,2,    22.77,2,    31.66,2,     0.00,2,     2.13,2,    0.470,2,    0.242,2,   2201.7,2,   -999.0,9,   2315.2,2,     7.90,2,  6.0726, -999.00,9,  499.0,2, -999.00,9
35LLETAMBOT1_2,  AR04,    65,  1,      4,    4.0,2,19951002,1119,  0.4185, -45.0927,   15,    698.8,2,   5.1069,2,  34.5221,2,  34.5234,2,    152.8,2,    154.0,2,    27.88,2,    33.36,2,     0.00,2,     2.27,2,    0.204,2,    0.101,2,   2208.6,2,   -999.0,9,   2312.7,2,     7.88,2,  5.0496, -999.00,9,  700.0,2, -999.00,9
35LLETAMBOT1_2,  AR04,    65,  1,      3,    3.0,2,19951002,1119,  0.4185, -45.0927,   15,    898.2,2,   4.6195,2,  34.5993,2,  34.5991,2,    160.6,2,    161.0,2,    30.03,2,    32.47,2,     0.00,2,     2.22,2,    0.096,2,    0.049,2,   2194.0,3,   -999.0,9,   2301.9,3,     7.89,2,  4.5478, -999.00,9,  900.0,2, -999.00,9
35LLETAMBOT1_2,  AR04,    65,  1,      2,    2.0,2,19951002,1119,  0.4185, -45.0927,   15,   1066.9,2,   4.6110,2,  34.7221,2,  34.7125,2,    166.6,2,    169.0,2,    27.93,2,    30.46,2,     0.00,2,     2.08,2,    0.067,2,    0.031,2,   2172.5,3,   -999.0,9,   2289.7,3,     7.91,2,  4.5244, -999.00,9, 1068.0,2, -999.00,9
35LLETAMBOT1_2,  AR04,    65,  1,      1,    1.0,2,19951002,1119,  0.4185, -45.0927,   15,   1067.0,2,   4.6100,2,  34.7205,2,  34.7163,2,    166.6,2,    169.8,2,    27.74,2,    30.43,2,     0.00,2,     2.07,2,    0.056,2,    0.034,2,   2187.7,3,   -999.0,9,   2303.1,3,     7.91,2,  4.5234, -999.00,9, 1068.0,2, -999.00,9
35LLETAMBOT1_2,  AR04,    66,  1,     19,   19.0,2,19951002,1332,  0.5053, -45.0558,   20,      1.3,2,  26.9448,2,  36.2474,2,  36.2428,2,    199.0,2,    198.4,2,     0.21,2,     0.00,2,     0.01,2,     0.02,2, -999.000,9, -999.000,9,   -999.0,9,    369.6,2,   -999.0,9,  -999.00,9, 26.9445,    0.21,2,    4.0,2,    0.05,2
35LLETAMBOT1_2,  AR04,    66,  1,     18,   18.0,2,19951002,1332,  0.5053, -45.0558,   20,     78.1,2,  26.8401,2,  36.2514,2,  36.2450,2,    198.4,2,    198.9,2,     0.27,2,     0.00,2,     0.01,2,     0.02,2, -999.000,9, -999.000,9,   -999.0,9,   -999.0,9,   -999.0,9,  -999.00,9, 26.8222, -999.00,9,   79.0,2, -999.00,9
35LLETAMBOT1_2,  AR04,    66,  1,     17,   17.0,2,19951002,1332,  0.5053, -45.0558,   20,    118.8,2,  24.3866,2,  36.7637,2,  36.6756,2,    199.7,2,    193.0,2,     0.93,2,     1.43,2,     0.20,2,     0.23,2, -999.000,9, -999.000,9,   -999.0,9,   -999.0,9,   -999.0,9,  -999.00,9, 24.3611, -999.00,9,  121.0,2, -999.00,9
35LLETAMBOT1_2,  AR04,    66,  1,     16,   16.0,2,19951002,1332,  0.5053, -45.0558,   20,    198.0,2,  12.1533,2,  35.1216,2,  35.1078,2,    170.7,2,    153.8,2,     8.29,2,    19.27,2,     0.01,2,     1.31,2, -999.000,9, -999.000,9,   -999.0,9,   -999.0,9,   -999.0,9,  -999.00,9, 12.1272, -999.00,9,  200.0,2, -999.00,9
35LLETAMBOT1_2,  AR04,    66,  1,     15,   15.0,2,19951002,1332,  0.5053, -45.0558,   20,    298.5,2,  10.7541,2,  34.9889,2,  34.9595,2,    133.7,2,    137.0,2,    10.89,2,    23.81,2,     0.01,2,     1.58,2, -999.000,9, -999.000,9,   -999.0,9,   -999.0,9,   -999.0,9,  -999.00,9, 10.7177, -999.00,9,  300.0,2, -999.00,9
35LLETAMBOT1_2,  AR04,    66,  1,     14,   14.0,2,19951002,1332,  0.5053, -45.0558,   20,    596.7,2,   5.5639,2,  34.5250,2,  34.5290,2,    149.6,2,    148.5,2,    25.36,2,    33.02,2,     0.01,2,     2.22,2,    0.271,2,    0.139,2,   -999.0,9,   -999.0,9,   -999.0,9,  -999.00,9,  5.5133, -999.00,9,  598.0,2, -999.00,9
35LLETAMBOT1_2,  AR04,    66,  1,     13,   13.0,2,19951002,1332,  0.5053, -45.0558,   20,    796.3,2,   4.6467,2,  34.5512,2,  34.5551,2,    159.6,2,    160.2,2,    30.63,2,    32.82,2,     0.00,2,     2.24,2,    0.123,2,    0.068,2,   -999.0,9,   -999.0,9,   -999.0,9,  -999.00,9,  4.5836, -999.00,9,  797.0,2, -999.00,9
35LLETAMBOT1_2,  AR04,    66,  1,     12,   12.0,2,19951002,1332,  0.5053, -45.0558,   20,    996.7,2,   4.5192,2,  34.6591,2,  34.6620,2,    165.6,2,    167.0,2,    29.24,2,    31.07,2,     0.00,2,     2.12,2,    0.088,2,    0.048,2,   -999.0,9,   -999.0,9,   -999.0,9,  -999.00,9,  4.4396, -999.00,9,  998.0,2, -999.00,9
35LLETAMBOT1_2,  AR04,    66,  1,     11,   11.0,2,19951002,1332,  0.5053, -45.0558,   20,   1195.9,2,   4.5539,2,  34.8091,2,  34.8121,2,    179.7,2,    181.2,2,    25.00,2,    27.88,2,     0.01,2,     1.89,2,    0.061,2,    0.036,2,   -999.0,9,   -999.0,9,   -999.0,9,  -999.00,9,  4.4560, -999.00,9, 1197.0,2, -999.00,9
35LLETAMBOT1_2,  AR04,    66,  1,     10,   10.0,2,19951002,1332,  0.5053, -45.0558,   20,   1396.7,2,   4.5387,2,  34.9603,2,  34.9604,2,    218.0,2,    216.9,2,    18.25,2,    22.34,2,     0.00,2,     1.49,2,    0.167,2,    0.089,2,   -999.0,9,   -999.0,9,   -999.0,9,  -999.00,9,  4.4222, -999.00,9, 1398.0,2, -999.00,9
35LLETAMBOT1_2,  AR04,    66,  1,      9,    9.0,2,19951002,1332,  0.5053, -45.0558,   20,   1497.3,2,   4.2820,2,  34.9895,2,  34.9880,2,    238.8,2,    243.9,2,    15.91,2,    20.03,2,     0.00,2,     1.33,2,    0.243,2,    0.124,2,   -999.0,9,   -999.0,9,   -999.0,9,  -999.00,9,  4.1588, -999.00,9, 1498.0,2, -999.00,9
35LLETAMBOT1_2,  AR04,    66,  1,      8,    8.0,2,19951002,1332,  0.5053, -45.0558,   20,   1596.7,2,   4.1795,2,  34.9899,2,  34.9898,2,    242.9,2,    242.5,2,    15.71,2,    19.73,2,     0.00,2,     1.31,2,    0.217,2,    0.122,2,   -999.0,9,   -999.0,9,   -999.0,9,  -999.00,9,  4.0482, -999.00,9, 1599.0,2, -999.00,9
35LLETAMBOT1_2,  AR04,    66,  1,      7,    7.0,2,19951002,1332,  0.5053, -45.0558,   20,   1698.5,2,   4.0845,2,  34.9951,2,  34.9933,2,    249.2,2,    248.2,2,    15.04,2,    19.06,2,     0.00,2,     1.25,2,    0.283,2,    0.149,2,   -999.0,9,   -999.0,9,   -999.0,9,  -999.00,9,  3.9448, -999.00,9, 1700.0,2, -999.00,9
35LLETAMBOT1_2,  AR04,    66,  1,      6,    6.0,2,19951002,1332,  0.5053, -45.0558,   20,   1796.6,2,   3.9633,2,  34.9920,2,  34.9912,2,    251.8,2,    249.7,2,    15.42,2,    19.03,2,     0.00,2,     1.26,2,    0.261,2,    0.134,2,   -999.0,9,   -999.0,9,   -999.0,9,  -999.00,9,  3.8159, -999.00,9, 1798.0,2, -999.00,9
35LLETAMBOT1_2,  AR04,    66,  1,      5,    5.0,2,19951002,1332,  0.5053, -45.0558,   20,   1899.2,2,   3.7737,2,  34.9867,2,  34.9861,2,    255.7,2,    255.4,2,    15.75,2,    18.55,2,     0.00,2,     1.22,2,    0.242,2,    0.128,2,   -999.0,9,   -999.0,9,   -999.0,9,  -999.00,9,  3.6191, -999.00,9, 1901.0,2, -999.00,9
35LLETAMBOT1_2,  AR04,    66,  1,      4,    4.0,2,19951002,1332,  0.5053, -45.0558,   20,   1998.5,2,   3.7104,2,  34.9843,2,  34.9840,2,    256.3,2,    256.4,2,    16.13,2,    18.53,2,     0.00,2,     1.22,2,    0.236,2,    0.135,2,   -999.0,9,   -999.0,9,   -999.0,9,  -999.00,9,  3.5473, -999.00,9, 2000.0,2, -999.00,9
35LLETAMBOT1_2,  AR04,    66,  1,      2,    2.0,2,19951002,1332,  0.5053, -45.0558,   20,   2197.9,2,   3.3368,2,  34.9682,2,  34.9670,2,    257.3,2,    258.8,2,    18.92,2,    18.62,2,     0.00,2,     1.24,2,    0.152,2,    0.077,2,   -999.0,9,   -999.0,9,   -999.0,9,  -999.00,9,  3.1603, -999.00,9, 2199.0,2, -999.00,9
35LLETAMBOT1_2,  AR04,    66,  1,      3,    3.0,2,19951002,1332,  0.5053, -45.0558,   20,   2198.1,2,   3.3464,2,  34.9678,2,  34.9677,2,    257.2,2,    258.7,2,    18.85,2,    18.64,2,     0.00,2,     1.24,2,    0.166,2,    0.092,2,   -999.0,9,   -999.0,9,   -999.0,9,  -999.00,9,  3.1698, -999.00,9, 2199.0,2, -999.00,9
35LLETAMBOT1_2,  AR04,    66,  1,      1,    1.0,2,19951002,1332,  0.5053, -45.0558,   20,   2268.9,2,   3.3371,2,  34.9678,2,  34.9674,2,    257.0,2,    258.6,2,    18.96,2,    18.62,2,     0.00,2,     1.24,2,    0.154,2,    0.084,2,   -999.0,9,   -999.0,9,   -999.0,9,  -999.00,9,  3.1537, -999.00,9, 2270.0,2, -999.00,9