BOTTLE,20220929CCHSIOAMB
EXPOCODE,SECT_ID,STNNBR,CASTNO,SAMPNO,BTLNBR,BTLNBR_FLAG_W,DATE,TIME,LATITUDE,LONGITUDE,DEPTH,CTDPRS,CTDPRS_FLAG_W,CTDTMP,CTDTMP_FLAG_W,CTDSAL,CTDSAL_FLAG_W,SALNTY,SALNTY_FLAG_W,CTDOXY,CTDOXY_FLAG_W,OXYGEN,OXYGEN_FLAG_W,SILCAT,SILCAT_FLAG_W,NITRAT,NITRAT_FLAG_W,NITRIT,NITRIT_FLAG_W,PHSPHT,PHSPHT_FLAG_W,CFC-11,CFC-11_FLAG_W,CFC-12,CFC-12_FLAG_W,TCARBN,TCARBN_FLAG_W,PCO2,PCO2_FLAG_W,ALKALI,ALKALI_FLAG_W,PH,PH_FLAG_W,THETA,CHLORA,CHLORA_FLAG_W,CTDRAW,CTDRAW_FLAG_W,PPHYTN,PPHYTN_FLAG_W
,,,,,,,,,,,,DBAR,,DEG C,,PSS-78,,PSS-78,,UMOL/KG,,UMOL/KG,,UMOL/KG,,UMOL/KG,,UMOL/KG,,UMOL/KG,,PMOL/KG,,PMOL/KG,,UMOL/KG,,UATM,,UMOL/KG,,,,DEG C,UG/L,,DBAR,,UG/L,
35LLETAMBOT1_1,  AR15,     8,  1,     22,   22.0,2,19950910,1956,  6.2170, -51.0893,   20,      0.2,2,  29.3315,2,  35.0797,2,  35.1597,2,    195.0,2,    196.7,2,     2.91,2,     0.02,2,     0.00,2,     0.01,2, -999.000,9, -999.000,9,   1950.0,2,   -999.0,9,   2332.6,2,     8.07,2, 29.3314,    0.08,2,    2.0,2,    0.02,2
35LLETAMBOT1_1,  AR15,     8,  1,     21,   21.0,2,19950910,1956,  6.2170, -51.0893,   20,     48.9,2,  27.0713,2,  36.1692,2,  36.3025,2,    198.0,2,    197.2,2,     0.82,2,     0.02,2,     0.00,2,     0.05,2, -999.000,9, -999.000,9,   2015.8,2,   -999.0,9,   2397.0,2,     8.08,2, 27.0600, -999.00,9,   51.0,2, -999.00,9
35LLETAMBOT1_1,  AR15,     8,  1,     20,   20.0,2,19950910,1956,  6.2170, -51.0893,   20,     98.5,2,  26.4208,2,  36.2978,2,  35.8640,3,    189.8,2,    193.6,2,     0.72,2,     0.36,2,     0.23,2,     0.09,2, -999.000,9, -999.000,9,   2028.1,2,   -999.0,9,   2398.8,2,     8.08,2, 26.3985, -999.00,9,  100.0,2, -999.00,9
35LLETAMBOT1_1,  AR15,     8,  1,     19,   19.0,2,19950910,1956,  6.2170, -51.0893,   20,    198.8,2,  16.9455,2,  35.6556,2,  35.8632,2,    173.7,2,    171.0,2,     3.85,2,     9.42,2,     0.02,2,     0.69,2, -999.000,9, -999.000,9,   2092.2,2,   -999.0,9,   2361.2,2,     8.04,2, 16.9126, -999.00,9,  201.0,2, -999.00,9
35LLETAMBOT1_1,  AR15,     8,  1,     18,   18.0,2,19950910,1956,  6.2170, -51.0893,   20,    446.4,2,   7.7319,2,  34.6800,2,  34.6758,2,    136.5,2,    139.5,2,    18.17,2,    30.08,2,     0.00,2,     1.98,2, -999.000,9, -999.000,9,   2175.9,2,   -999.0,9,   2298.4,2,     7.91,2,  7.6871, -999.00,9,  448.0,2, -999.00,9
35LLETAMBOT1_1,  AR15,     8,  1,     17,   17.0,2,19950910,1956,  6.2170, -51.0893,   20,    696.0,2,   5.6319,2,  34.5573,2,  34.5600,2,    136.4,2,    135.3,2,    26.98,2,    34.31,2,     0.00,2,     2.28,2, -999.000,9, -999.000,9,   2219.0,2,   -999.0,9,   2316.8,2,     7.86,2,  5.5720, -999.00,9,  697.0,2, -999.00,9
35LLETAMBOT1_1,  AR15,     8,  1,     16,   16.0,2,19950910,1956,  6.2170, -51.0893,   20,    896.4,2,   5.2097,2,  34.6479,2,  34.6460,2,    138.7,2,    136.9,2,    29.04,2,    34.04,2,     0.00,2,     2.28,2,    0.019,2,    0.003,2,   2204.0,2,   -999.0,9,   2302.1,2,     7.86,2,  5.1340, -999.00,9,  898.0,2, -999.00,9
35LLETAMBOT1_1,  AR15,     8,  1,     15,   15.0,2,19950910,1956,  6.2170, -51.0893,   20,    996.1,2,   4.7897,2,  34.6451,2,  34.6470,2,    154.0,2,    151.7,2,    30.18,2,    32.95,2,     0.00,2,     2.23,2,    0.073,2,    0.031,2,   2201.2,2,   -999.0,9,   2303.4,2,     7.87,2,  4.7081, -999.00,9,  997.0,2, -999.00,9
35LLETAMBOT1_1,  AR15,     8,  1,     14,   14.0,2,19950910,1956,  6.2170, -51.0893,   20,   1195.9,2,   4.8800,2,  34.8270,2,  34.8420,2,    172.2,2,    175.2,2,    24.87,2,    28.49,2,     0.00,2,     1.89,2,    0.032,2,    0.006,2,   2198.0,2,   -999.0,9,   2322.4,2,     7.92,2,  4.7791, -999.00,9, 1198.0,2, -999.00,9
35LLETAMBOT1_1,  AR15,     8,  1,     13,   13.0,2,19950910,1956,  6.2170, -51.0893,   20,   1295.4,2,   5.0298,2,  34.9423,2,  34.9425,2,    193.9,2,    198.9,2,    20.29,2,    24.64,2,     0.00,2,     1.62,2,    0.126,2,    0.054,2,   2168.1,2,   -999.0,9,   2312.2,2,     7.97,2,  4.9179, -999.00,9, 1297.0,2, -999.00,9
35LLETAMBOT1_1,  AR15,     8,  1,     12,   12.0,2,19950910,1956,  6.2170, -51.0893,   20,   1396.3,2,   4.9363,2,  34.9814,2,  34.9910,2,    211.1,2,    214.4,2,    18.01,2,    22.66,2,     0.00,2,     1.47,2,    0.301,2,    0.130,2,   2162.0,2,   -999.0,9,   2315.4,2,     7.99,2,  4.8156, -999.00,9, 1398.0,2, -999.00,9
35LLETAMBOT1_1,  AR15,     8,  1,     11,   11.0,2,19950910,1956,  6.2170, -51.0893,   20,   1495.7,2,   4.6193,2,  35.0153,2,  35.0110,2,    237.0,2,    238.7,2,    14.80,2,    19.99,2,     0.00,2,     1.29,2,    0.381,2,    0.170,2,   2138.8,3,   -999.0,9,   2303.0,3,     8.02,2,  4.4924, -999.00,9, 1497.0,2, -999.00,9
35LLETAMBOT1_1,  AR15,     8,  1,     10,   10.0,2,19950910,1956,  6.2170, -51.0893,   20,   1595.9,2,   4.3523,2,  35.0124,2,  35.0017,2,    249.0,2,    249.1,2,    14.24,2,    19.24,2,     0.00,2,     1.24,2,    0.404,2,    0.178,2,   2127.2,3,   -999.0,9,   2285.7,3,     8.01,3,  4.2190, -999.00,9, 1597.0,2, -999.00,9
35LLETAMBOT1_1,  AR15,     8,  1,      9,    9.0,2,19950910,1956,  6.2170, -51.0893,   20,   1696.1,2,   4.0924,2,  35.0027,2,  35.0012,2,    255.5,2,    255.3,2,    14.45,2,    18.87,2,     0.00,2,     1.21,2,    0.375,2,    0.164,2,   2135.0,3,   -999.0,9,   2304.3,3,     8.03,2,  3.9528, -999.00,9, 1698.0,2, -999.00,9
35LLETAMBOT1_1,  AR15,     8,  1,      8,    8.0,2,19950910,1956,  6.2170, -51.0893,   20,   1796.3,2,   3.9268,2,  34.9965,2,  34.9954,2,    258.2,2,    257.1,2,    14.95,2,    18.73,2,     0.00,2,     1.20,2,    0.304,2,    0.138,2,   2132.4,3,   -999.0,9,   2304.2,3,     8.04,2,  3.7799, -999.00,9, 1798.0,2, -999.00,9
35LLETAMBOT1_1,  AR15,     8,  1,      6,    6.0,2,19950910,1956,  6.2170, -51.0893,   20,   1997.0,2,   3.5791,2,  34.9833,2,  34.9801,2,    260.4,2,    259.5,2,    17.62,2,    18.88,2,     0.00,2,     1.22,2,    0.153,2,    0.070,2,   2125.1,3,   -999.0,9,   2297.1,3,     8.04,2,  3.4181, -999.00,9, 1999.0,2, -999.00,9
35LLETAMBOT1_1,  AR15,     8,  1,      7,    7.0,2,19950910,1956,  6.2170, -51.0893,   20,   1997.0,2,   3.5791,2,  34.9833,2,  34.9810,2,    260.4,2,    259.1,2,    17.45,2,    18.86,2,     0.00,2,     1.22,2,    0.236,2,    0.091,2,   2122.2,3,   -999.0,9,   2294.6,3,     8.04,2,  3.4181, -999.00,9, 1999.0,2, -999.00,9
35LLETAMBOT1_1,  AR15,     8,  1,      5,    5.0,2,19950910,1956,  6.2170, -51.0893,   20,   2197.3,2,   3.2878,2,  34.9687,2,  34.9670,2,    261.5,2,    261.1,2,    19.64,2,    18.90,2,     0.00,2,     1.22,2,    0.127,2,    0.062,2,   2130.7,3,   -999.0,9,   2303.8,3,     8.03,2,  3.1122, -999.00,9, 2199.0,2, -999.00,9
35LLETAMBOT1_1,  AR15,     8,  1,      4,    4.0,2,19950910,1956,  6.2170, -51.0893,   20,   2396.6,2,   3.0517,2,  34.9558,2,  34.9543,2,    262.1,2,    264.3,2,    22.06,2,    19.01,2,     0.00,2,     1.24,2,    0.161,2,    0.065,2,   2129.3,3,   -999.0,9,   2293.8,3,     8.01,2,  2.8609, -999.00,9, 2398.0,2, -999.00,9
35LLETAMBOT1_1,  AR15,     8,  1,      3,    3.0,2,19950910,1956,  6.2170, -51.0893,   20,   2596.9,2,   2.8541,2,  34.9438,2,  34.9418,2,    262.1,2,    262.3,2,    24.13,2,    19.13,2,     0.00,2,     1.24,2,    0.147,2,    0.069,2,   2132.1,3,   -999.0,9,   2297.0,3,     8.01,2,  2.6473, -999.00,9, 2598.0,2, -999.00,9
35LLETAMBOT1_1,  AR15,     8,  1,      2,    2.0,2,19950910,1956,  6.2170, -51.0893,   20,   2799.0,2,   2.7797,2,  34.9383,2,  34.9360,2,    262.8,2,    262.1,2,    25.25,2,    19.21,2,     0.00,2,     1.25,2,    0.146,2,    0.066,2,   2150.6,3,   -999.0,9,   2316.6,3,     8.00,2,  2.5543, -999.00,9, 2801.0,2, -999.00,9
35LLETAMBOT1_1,  AR15,     8,  1,      1,    1.0,2,19950910,1956,  6.2170, -51.0893,   20,   3004.1,2,   2.7146,2,  34.9332,2,  34.9306,2,    261.2,2,    262.5,2,    26.19,2,    19.24,2,     0.00,2,     1.26,2,    0.149,2,    0.075,2,   2137.8,3,   -999.0,9,   2301.8,3,     7.99,2,  2.4696, -999.00,9, 3006.0,2, -999.00,9
35LLETAMBOT1_1,  AR15,     9,  1,     22,   22.0,2,19950911,0148,  6.5440, -50.8142,   20,     -0.1,2,  29.2030,2,  33.9679,2,  33.5343,2,    202.7,2,    203.5,2,     5.21,2,     0.41,2,     0.00,2,     0.00,2, -999.000,9, -999.000,9,   -999.0,9,   -999.0,9,   -999.0,9,  -999.00,9, 29.2030,    0.07,2,    0.0,2,    0.04,2
35LLETAMBOT1_1,  AR15,     9,  1,     21,   21.0,2,19950911,0148,  6.5440, -50.8142,   20,     48.1,2,  27.3904,2,  36.0683,2,  36.1845,2,    200.2,2,    195.7,2,     1.06,2,     0.41,2,     0.04,2,     0.07,2, -999.000,9, -999.000,9,   -999.0,9,   -999.0,9,   -999.0,9,  -999.00,9, 27.3792, -999.00,9,   50.0,2, -999.00,9
35LLETAMBOT1_1,  AR15,     9,  1,     20,   20.0,2,19950911,0148,  6.5440, -50.8142,   20,    149.8,2,  22.9431,2,  36.2582,2,  36.2380,2,    179.7,2,    173.5,2,     2.35,2,     5.27,2,     0.02,2,     0.42,2, -999.000,9, -999.000,9,   -999.0,9,   -999.0,9,   -999.0,9,  -999.00,9, 22.9124, -999.00,9,  151.0,2, -999.00,9
35LLETAMBOT1_1,  AR15,     9,  1,     19,   19.0,2,19950911,0148,  6.5440, -50.8142,   20,    296.7,2,  11.4129,2,  35.0611,2,  35.0482,2,    128.4,2,    143.5,2,     9.68,2,    21.46,2,     0.00,2,     1.47,2, -999.000,9, -999.000,9,   -999.0,9,   -999.0,9,   -999.0,9,  -999.00,9, 11.3752, -999.00,9,  298.0,2, -999.00,9
35LLETAMBOT1_1,  AR15,     9,  1,     18,   18.0,2,19950911,0148,  6.5440, -50.8142,   20,    496.4,2,   7.7908,2,  34.6917,2,  34.6958,2,    131.0,2,    133.5,2,    17.57,2,    29.68,2,     0.00,2,     2.00,2, -999.000,9, -999.000,9,   -999.0,9,   -999.0,9,   -999.0,9,  -999.00,9,  7.7406, -999.00,9,  498.0,2, -999.00,9
35LLETAMBOT1_1,  AR15,     9,  1,     17,   17.0,2,19950911,0148,  6.5440, -50.8142,   20,    896.6,2,   5.1538,2,  34.5882,2,  34.6102,2,    143.4,2,    141.2,2,    28.73,2,    33.27,2,     0.00,2,     2.31,2,    0.032,2,    0.003,2,   -999.0,9,   -999.0,9,   -999.0,9,  -999.00,9,  5.0786, -999.00,9,  899.0,2, -999.00,9
35LLETAMBOT1_1,  AR15,     9,  1,     16,   16.0,2,19950911,0148,  6.5440, -50.8142,   20,    996.1,2,   4.9708,2,  34.6700,2,  34.6777,2,    149.3,2,    148.8,2,    28.92,2,    32.10,2,     0.00,2,     2.25,2,    0.016,2,    0.003,2,   -999.0,9,   -999.0,9,   -999.0,9,  -999.00,9,  4.8878, -999.00,9,  997.0,2, -999.00,9
35LLETAMBOT1_1,  AR15,     9,  1,     15,   15.0,2,19950911,0148,  6.5440, -50.8142,   20,   1296.6,2,   4.8745,2,  34.9198,2,  34.9240,2,    194.0,2,    196.1,2,    21.12,2,    24.74,2,     0.00,2,     1.70,2,    0.117,2,    0.050,2,   -999.0,9,   -999.0,9,   -999.0,9,  -999.00,9,  4.7641, -999.00,9, 1298.0,2, -999.00,9
35LLETAMBOT1_1,  AR15,     9,  1,     14,   14.0,2,19950911,0148,  6.5440, -50.8142,   20,   1496.1,2,   4.5710,2,  34.9917,2,  34.9918,2,    228.7,2,    228.7,2,    16.81,2,    20.86,2,     0.00,2,     1.42,2,    0.182,2,    0.072,2,   -999.0,9,   -999.0,9,   -999.0,9,  -999.00,9,  4.4447, -999.00,9, 1498.0,2, -999.00,9
35LLETAMBOT1_1,  AR15,     9,  1,     13,   13.0,2,19950911,0148,  6.5440, -50.8142,   20,   1594.8,2,   4.3990,2,  35.0026,2,  35.0022,2,    241.2,2,    240.1,2,    15.39,2,    19.61,2,     0.00,2,     1.33,2,    0.270,2,    0.113,2,   -999.0,9,   -999.0,9,   -999.0,9,  -999.00,9,  4.2652, -999.00,9, 1596.0,2, -999.00,9
35LLETAMBOT1_1,  AR15,     9,  1,     12,   12.0,2,19950911,0148,  6.5440, -50.8142,   20,   1694.9,2,   4.1247,2,  34.9947,2,  34.9940,2,    248.0,2,    245.9,2,    15.65,2,    19.28,2,     0.00,2,     1.31,2,    0.183,2,    0.089,2,   -999.0,9,   -999.0,9,   -999.0,9,  -999.00,9,  3.9848, -999.00,9, 1696.0,2, -999.00,9
35LLETAMBOT1_1,  AR15,     9,  1,     11,   11.0,2,19950911,0148,  6.5440, -50.8142,   20,   1797.6,2,   3.9897,2,  34.9944,2,  34.9930,2,    253.8,2,    252.3,2,    15.22,2,    18.72,2,     0.00,2,     1.27,2,    0.223,2,    0.095,2,   -999.0,9,   -999.0,9,   -999.0,9,  -999.00,9,  3.8418, -999.00,9, 1798.0,2, -999.00,9
35LLETAMBOT1_1,  AR15,     9,  1,     10,   10.0,2,19950911,0148,  6.5440, -50.8142,   20,   1897.1,2,   3.7973,2,  34.9885,2,  34.9880,2,    257.4,2,    256.4,2,    15.89,2,    18.49,2,     0.00,2,     1.25,2,    0.170,2,    0.076,2,   -999.0,9,   -999.0,9,   -999.0,9,  -999.00,9,  3.6426, -999.00,9, 1898.0,2, -999.00,9
35LLETAMBOT1_1,  AR15,     9,  1,      9,    9.0,2,19950911,0148,  6.5440, -50.8142,   20,   1996.4,2,   3.6469,2,  34.9833,2,  34.9834,2,    257.6,2,    257.2,2,    17.04,2,    18.44,2,     0.00,2,     1.25,2,    0.132,2,    0.055,2,   -999.0,9,   -999.0,9,   -999.0,9,  -999.00,9,  3.4849, -999.00,9, 1998.0,2, -999.00,9
35LLETAMBOT1_1,  AR15,     9,  1,      7,    7.0,2,19950911,0148,  6.5440, -50.8142,   20,   2396.9,2,   3.1185,2,  34.9572,2,  34.9553,2,    260.1,2,    259.9,2,    21.52,2,    18.44,2,     0.00,2,     1.26,2,    0.101,2,    0.041,2,   -999.0,9,   -999.0,9,   -999.0,9,  -999.00,9,  2.9265, -999.00,9, 2399.0,2, -999.00,9
35LLETAMBOT1_1,  AR15,     9,  1,      8,    8.0,2,19950911,0148,  6.5440, -50.8142,   20,   2396.9,2,   3.1185,2,  34.9572,2,  34.9557,2,    260.1,2,    260.3,2,    21.18,2,    18.54,2,     0.00,2,     1.26,2,    0.099,2,    0.050,2,   -999.0,9,   -999.0,9,   -999.0,9,  -999.00,9,  2.9265, -999.00,9, 2398.0,2, -999.00,9
35LLETAMBOT1_1,  AR15,     9,  1,      6,    6.0,2,19950911,0148,  6.5440, -50.8142,   20,   2597.1,2,   2.8926,2,  34.9441,2,  34.9430,2,    259.3,2,    259.7,2,    24.81,2,    18.83,2,     0.00,2,     1.28,2,    0.083,2,    0.038,2,   -999.0,9,   -999.0,9,   -999.0,9,  -999.00,9,  2.6851, -999.00,9, 2599.0,2, -999.00,9
35LLETAMBOT1_1,  AR15,     9,  1,      5,    5.0,2,19950911,0148,  6.5440, -50.8142,   20,   2796.7,2,   2.7234,2,  34.9327,2,  34.9316,2,    259.3,2,    259.2,2,    27.32,2,    19.10,2,     0.00,2,     1.31,2,    0.086,2,    0.035,2,   -999.0,9,   -999.0,9,   -999.0,9,  -999.00,9,  2.4994, -999.00,9, 2799.0,2, -999.00,9
35LLETAMBOT1_1,  AR15,     9,  1,      4,    4.0,2,19950911,0148,  6.5440, -50.8142,   20,   2995.5,2,   2.5278,2,  34.9196,2,  34.9187,2,    260.8,2,    259.5,2,    30.33,2,    19.19,2,     0.00,2,     1.33,2,    0.103,2,    0.043,2,   -999.0,9,   -999.0,9,   -999.0,9,  -999.00,9,  2.2878, -999.00,9, 2997.0,2, -999.00,9
35LLETAMBOT1_1,  AR15,     9,  1,      3,    3.0,2,19950911,0148,  6.5440, -50.8142,   20,   3198.6,2,   2.4410,2,  34.9149,2,  34.9128,2,    265.1,2,    265.2,2,    27.93,2,    18.49,2,     0.00,2,     1.27,2,    0.202,2,    0.083,2,   -999.0,9,   -999.0,9,   -999.0,9,  -999.00,9,  2.1820, -999.00,9, 3200.0,2, -999.00,9
35LLETAMBOT1_1,  AR15,     9,  1,      2,    2.0,2,19950911,0148,  6.5440, -50.8142,   20,   3400.6,2,   2.4103,2,  34.9120,2,  34.9090,2,    265.7,2,    266.0,2,    28.46,2,    18.48,2,     0.00,2,     1.27,2,    0.206,2,    0.085,2,   -999.0,9,   -999.0,9,   -999.0,9,  -999.00,9,  2.1308, -999.00,9, 3402.0,2, -999.00,9
35LLETAMBOT1_1,  AR15,     9,  1,      1,    1.0,2,19950911,0148,  6.5440, -50.8142,   20,   3658.7,2,   2.4037,2,  34.9106,2,  34.9080,2,    265.4,2,    265.4,2,    28.83,2,    18.46,2,     0.00,2,     1.27,2,    0.203,2,    0.106,2,   -999.0,9,   -999.0,9,   -999.0,9,  -999.00,9,  2.0964, -999.00,9, 3660.0,2, -999.00,9