BOTTLE,20220929CCHSIOAMB
EXPOCODE,SECT_ID,STNNBR,CASTNO,SAMPNO,BTLNBR,BTLNBR_FLAG_W,DATE,TIME,LATITUDE,LONGITUDE,DEPTH,CTDPRS,CTDPRS_FLAG_W,CTDTMP,CTDTMP_FLAG_W,CTDSAL,CTDSAL_FLAG_W,SALNTY,SALNTY_FLAG_W,CTDOXY,CTDOXY_FLAG_W,OXYGEN,OXYGEN_FLAG_W,SILCAT,SILCAT_FLAG_W,NITRAT,NITRAT_FLAG_W,NITRIT,NITRIT_FLAG_W,PHSPHT,PHSPHT_FLAG_W,CFC-11,CFC-11_FLAG_W,CFC-12,CFC-12_FLAG_W,TCARBN,TCARBN_FLAG_W,PCO2,PCO2_FLAG_W,ALKALI,ALKALI_FLAG_W,PH,PH_FLAG_W,THETA,CHLORA,CHLORA_FLAG_W,CTDRAW,CTDRAW_FLAG_W,PPHYTN,PPHYTN_FLAG_W
,,,,,,,,,,,,DBAR,,DEG C,,PSS-78,,PSS-78,,UMOL/KG,,UMOL/KG,,UMOL/KG,,UMOL/KG,,UMOL/KG,,UMOL/KG,,PMOL/KG,,PMOL/KG,,UMOL/KG,,UATM,,UMOL/KG,,,,DEG C,UG/L,,DBAR,,UG/L,
35LLETAMBOT1_1,  AR04,    50,  1,     22,   22.0,2,19950923,0839,  0.3293, -34.9963,   15,     12.1,2,  27.5184,2,  35.9280,2,  35.9254,2,    198.8,2,    198.2,2,     0.67,2,     0.00,2,     0.00,2,     0.00,2, -999.000,9, -999.000,9,   -999.0,9,    367.7,2,   -999.0,9,  -999.00,9, 27.5156,    0.10,2,   15.0,2,    0.02,2
35LLETAMBOT1_1,  AR04,    50,  1,     21,   21.0,2,19950923,0839,  0.3293, -34.9963,   15,     66.7,2,  25.7814,2,  36.0352,2,  36.0870,2,    194.8,2,    183.0,2,     1.09,2,     1.67,2,     0.17,2,     0.16,2, -999.000,9, -999.000,9,   -999.0,9,   -999.0,9,   -999.0,9,  -999.00,9, 25.7666, -999.00,9,   69.0,2, -999.00,9
35LLETAMBOT1_1,  AR04,    50,  1,     20,   20.0,2,19950923,0839,  0.3293, -34.9963,   15,    128.7,2,  20.1547,2,  36.2452,2,  36.0716,2,    189.1,2,    171.4,2,     3.03,2,     7.68,2,     0.03,2,     0.60,2, -999.000,9, -999.000,9,   -999.0,9,   -999.0,9,   -999.0,9,  -999.00,9, 20.1306, -999.00,9,  130.0,2, -999.00,9
35LLETAMBOT1_1,  AR04,    50,  1,     19,   19.0,2,19950923,0839,  0.3293, -34.9963,   15,    295.8,2,  11.1527,2,  35.0291,2,  35.0314,2,    137.6,2,    140.5,2,     9.92,2,    21.87,2,     0.00,2,     1.47,2, -999.000,9, -999.000,9,   -999.0,9,   -999.0,9,   -999.0,9,  -999.00,9, 11.1157, -999.00,9,  298.0,2, -999.00,9
35LLETAMBOT1_1,  AR04,    50,  1,     18,   18.0,2,19950923,0839,  0.3293, -34.9963,   15,    647.1,2,   5.1980,2,  34.5039,2,  34.5102,2,    148.5,2,    146.5,2,    27.43,2,    33.44,2,     0.00,2,     2.27,2, -999.000,9, -999.000,9,   -999.0,9,   -999.0,9,   -999.0,9,  -999.00,9,  5.1448, -999.00,9,  649.0,2, -999.00,9
35LLETAMBOT1_1,  AR04,    50,  1,     17,   17.0,2,19950923,0839,  0.3293, -34.9963,   15,    996.5,2,   4.5412,2,  34.6479,2,  34.6524,2,    163.2,2,    162.4,2,    30.66,2,    31.39,2,     0.00,2,     2.16,2,    0.053,2,    0.021,2,   -999.0,9,   -999.0,9,   -999.0,9,  -999.00,9,  4.4615, -999.00,9,  998.0,2, -999.00,9
35LLETAMBOT1_1,  AR04,    50,  1,     16,   16.0,2,19950923,0839,  0.3293, -34.9963,   15,   1196.6,2,   4.5397,2,  34.8149,2,  34.8154,2,    183.2,2,    192.8,2,    25.70,2,    27.50,2,     0.00,2,     1.88,2,    0.046,2,    0.017,2,   -999.0,9,   -999.0,9,   -999.0,9,  -999.00,9,  4.4419, -999.00,9, 1198.0,2, -999.00,9
35LLETAMBOT1_1,  AR04,    50,  1,     15,   15.0,2,19950923,0839,  0.3293, -34.9963,   15,   1395.2,2,   4.5651,2,  34.9481,2,  34.9443,2,    215.0,2,    212.4,2,    19.71,2,    22.68,2,     0.00,2,     1.54,2,    0.132,2,    0.055,2,   -999.0,9,   -999.0,9,   -999.0,9,  -999.00,9,  4.4485, -999.00,9, 1397.0,2, -999.00,9
35LLETAMBOT1_1,  AR04,    50,  1,     14,   14.0,2,19950923,0839,  0.3293, -34.9963,   15,   1596.3,2,   4.0621,2,  34.9806,2,  34.9841,2,    243.7,2,    241.6,2,    16.80,2,    19.37,2,     0.00,2,     1.33,2,    0.160,2,    0.070,2,   -999.0,9,   -999.0,9,   -999.0,9,  -999.00,9,  3.9323, -999.00,9, 1598.0,2, -999.00,9
35LLETAMBOT1_1,  AR04,    50,  1,     13,   13.0,2,19950923,0839,  0.3293, -34.9963,   15,   1795.7,2,   3.8289,2,  34.9733,2,  34.9763,2,    246.9,2,    246.3,2,    18.53,2,    19.27,2,     0.00,2,     1.31,2,    0.089,2,    0.040,2,   -999.0,9,   -999.0,9,   -999.0,9,  -999.00,9,  3.6834, -999.00,9, 1798.0,2, -999.00,9
35LLETAMBOT1_1,  AR04,    50,  1,     12,   12.0,2,19950923,0839,  0.3293, -34.9963,   15,   1997.1,2,   3.7071,2,  34.9785,2,  34.9790,2,    254.8,2,    254.6,2,    17.71,2,    18.33,2,     0.00,2,     1.26,2,    0.126,2,    0.059,2,   -999.0,9,   -999.0,9,   -999.0,9,  -999.00,9,  3.5442, -999.00,9, 1998.0,2, -999.00,9
35LLETAMBOT1_1,  AR04,    50,  1,     11,   11.0,2,19950923,0839,  0.3293, -34.9963,   15,   2398.4,2,   3.1297,2,  34.9488,2,  34.9493,2,    253.6,2,    254.3,2,    25.47,2,    18.96,2,     0.00,2,     1.31,2,    0.049,2,    0.024,2,   -999.0,9,   -999.0,9,   -999.0,9,  -999.00,9,  2.9374, -999.00,9, 2400.0,2, -999.00,9
35LLETAMBOT1_1,  AR04,    50,  1,     10,   10.0,2,19950923,0839,  0.3293, -34.9963,   15,   2800.0,2,   2.7963,2,  34.9281,2,  34.9272,2,    252.2,2,    252.6,2,    31.52,2,    19.47,2,     0.00,2,     1.35,2,    0.040,2,    0.018,2,   -999.0,9,   -999.0,9,   -999.0,9,  -999.00,9,  2.5705, -999.00,9, 2801.0,2, -999.00,9
35LLETAMBOT1_1,  AR04,    50,  1,      9,    9.0,2,19950923,0839,  0.3293, -34.9963,   15,   3001.8,2,   2.6888,2,  34.9209,2,  34.9112,3,    254.6,2,    254.5,2,    32.19,2,    19.33,2,     0.00,2,     1.34,2,    0.049,2,    0.021,2,   -999.0,9,   -999.0,9,   -999.0,9,  -999.00,9,  2.4447, -999.00,9, 3004.0,2, -999.00,9
35LLETAMBOT1_1,  AR04,    50,  1,      8,    8.0,2,19950923,0839,  0.3293, -34.9963,   15,   3300.5,2,   2.5513,2,  34.9124,2,  34.9122,2,    255.9,2,    255.8,2,    34.14,2,    19.31,2,     0.00,2,     1.35,2,    0.058,2,    0.022,2,   -999.0,9,   -999.0,9,   -999.0,9,  -999.00,9,  2.2791, -999.00,9, 3302.0,2, -999.00,9
35LLETAMBOT1_1,  AR04,    50,  1,      6,    6.0,2,19950923,0839,  0.3293, -34.9963,   15,   3601.0,2,   2.4130,2,  34.9045,2,  34.9024,2,    259.0,2,    258.8,2,    35.18,2,    19.09,2,     0.00,2,     1.34,2,    0.086,2,    0.043,2,   -999.0,9,   -999.0,9,   -999.0,9,  -999.00,9,  2.1118, -999.00,9, 3605.0,2, -999.00,9
35LLETAMBOT1_1,  AR04,    50,  1,      7,    7.0,2,19950923,0839,  0.3293, -34.9963,   15,   3603.1,2,   2.4129,2,  34.9032,2,  34.9030,2,    259.1,2,    259.2,2,    35.08,2,    19.18,2,     0.00,2,     1.34,2,    0.087,2,    0.040,2,   -999.0,9,   -999.0,9,   -999.0,9,  -999.00,9,  2.1115, -999.00,9, 3604.0,2, -999.00,9
35LLETAMBOT1_1,  AR04,    50,  1,      5,    5.0,2,19950923,0839,  0.3293, -34.9963,   15,   3798.0,2,   2.3202,2,  34.8968,2,  34.8958,2,    260.6,2,    261.0,2,    35.50,2,    18.89,2,     0.00,2,     1.33,2,    0.113,2,    0.051,2,   -999.0,9,   -999.0,9,   -999.0,9,  -999.00,9,  1.9997, -999.00,9, 3799.0,2, -999.00,9
35LLETAMBOT1_1,  AR04,    50,  1,      4,    4.0,2,19950923,0839,  0.3293, -34.9963,   15,   3994.7,2,   2.1952,2,  34.8839,2,  34.8832,2,    260.4,2,    259.9,2,    40.71,2,    19.41,2,     0.00,2,     1.38,2,    0.127,2,    0.055,2,   -999.0,9,   -999.0,9,   -999.0,9,  -999.00,9,  1.8561, -999.00,9, 3995.0,2, -999.00,9
35LLETAMBOT1_1,  AR04,    50,  1,      3,    3.0,2,19950923,0839,  0.3293, -34.9963,   15,   4198.2,2,   1.5558,2,  34.8100,2,  34.8086,2,    241.8,2,    241.5,2,    75.42,2,    24.43,2,     0.00,2,     1.73,2,    0.053,2,    0.025,2,   -999.0,9,   -999.0,9,   -999.0,9,  -999.00,9,  1.2126, -999.00,9, 4199.0,2, -999.00,9
35LLETAMBOT1_1,  AR04,    50,  1,      2,    2.0,2,19950923,0839,  0.3293, -34.9963,   15,   4400.6,2,   1.0231,2,  34.7491,2,  34.7484,2,    228.4,2,    229.2,2,   101.89,2,    28.02,2,     0.00,2,     2.00,2,    0.027,2,    0.005,2,   -999.0,9,   -999.0,9,   -999.0,9,  -999.00,9,  0.6737, -999.00,9, 4401.0,2, -999.00,9
35LLETAMBOT1_1,  AR04,    50,  1,      1,    1.0,2,19950923,0839,  0.3293, -34.9963,   15,   4585.1,2,   0.9323,2,  34.7374,2,  34.7358,2,    225.5,2,    226.9,2,   106.89,2,    29.22,2,     0.00,2,     2.04,2,    0.036,2,    0.018,2,   -999.0,9,   -999.0,9,   -999.0,9,  -999.00,9,  0.5651, -999.00,9, 4587.0,2, -999.00,9
35LLETAMBOT1_1,  AR04,    51,  1,     22,   22.0,2,19950923,1408,  0.0017, -34.9983,   15,      2.1,2,  27.3827,2,  35.9115,2,  35.9103,2,    199.4,2,    199.2,2,     0.29,2,     0.00,2,     0.00,2,     0.00,2, -999.000,9, -999.000,9,   2005.4,2,    367.5,2,   2380.2,2,     8.07,2, 27.3822,    0.03,2,    4.0,2,    0.00,2
35LLETAMBOT1_1,  AR04,    51,  1,     21,   21.0,2,19950923,1408,  0.0017, -34.9983,   15,     48.1,2,  27.3129,2,  35.9241,2,  35.9181,2,    197.0,2,    198.6,2,     0.52,2,     0.00,2,     0.00,2,     0.00,2, -999.000,9, -999.000,9,   2004.9,2,   -999.0,9,   2382.4,2,     8.08,2, 27.3017, -999.00,9,   49.0,2, -999.00,9
35LLETAMBOT1_1,  AR04,    51,  1,     20,   20.0,2,19950923,1408,  0.0017, -34.9983,   15,    300.0,2,  10.7101,2,  34.9915,2,  34.9984,2,    122.4,2,    123.9,2,    10.92,2,    24.05,2,     0.00,2,     1.64,2, -999.000,9, -999.000,9,   2182.9,2,   -999.0,9,   2324.7,2,     7.91,2, 10.6736, -999.00,9,  302.0,2, -999.00,9
35LLETAMBOT1_1,  AR04,    51,  1,     19,   19.0,3,19950923,1408,  0.0017, -34.9983,   15,    698.8,2,   4.9631,2,  34.5033,2,-999.0000,9,    150.7,2,   -999.0,9,  -999.00,9,  -999.00,9,  -999.00,9,  -999.00,9, -999.000,9, -999.000,9,   -999.0,9,   -999.0,9,   -999.0,9,  -999.00,9,  4.9066, -999.00,9,  700.0,2, -999.00,9
35LLETAMBOT1_1,  AR04,    51,  1,     18,   18.0,2,19950923,1408,  0.0017, -34.9983,   15,    996.9,2,   4.5822,2,  34.6912,2,  34.6922,2,    164.8,2,    164.4,2,    29.09,2,    30.07,2,     0.00,2,     2.13,2,    0.033,2,    0.008,2,   2210.6,2,   -999.0,9,   2324.4,2,     7.90,2,  4.5020, -999.00,9,  998.0,2, -999.00,9
35LLETAMBOT1_1,  AR04,    51,  1,     17,   17.0,2,19950923,1408,  0.0017, -34.9983,   15,   1193.8,2,   4.5408,2,  34.8251,2,  34.8276,2,    183.7,2,    184.8,2,    24.76,2,    26.69,2,     0.00,2,     1.88,2,    0.042,2,    0.013,2,   2173.7,3,   -999.0,9,   2284.7,3,     7.89,3,  4.4432, -999.00,9, 1195.0,2, -999.00,9
35LLETAMBOT1_1,  AR04,    51,  1,     16,   16.0,2,19950923,1408,  0.0017, -34.9983,   15,   1398.0,2,   4.5502,2,  34.9470,2,  34.9476,2,    214.7,2,    214.8,2,    19.34,2,    22.17,2,     0.00,2,     1.54,2,    0.129,2,    0.053,2,   2172.9,2,   -999.0,9,   2301.1,3,     7.93,3,  4.4335, -999.00,9, 1400.0,2, -999.00,9
35LLETAMBOT1_1,  AR04,    51,  1,     15,   15.0,2,19950923,1408,  0.0017, -34.9983,   15,   1495.3,2,   4.3155,2,  34.9788,2,  34.9784,2,    231.9,2,    233.6,2,    17.02,2,    20.06,2,     0.00,2,     1.40,2,    0.164,2,    0.078,2,   2153.9,2,   -999.0,9,   2304.2,2,     7.99,2,  4.1922, -999.00,9, 1496.0,2, -999.00,9
35LLETAMBOT1_1,  AR04,    51,  1,     14,   14.0,2,19950923,1408,  0.0017, -34.9983,   15,   1598.3,2,   4.1237,2,  34.9828,2,  34.9837,2,    239.1,2,    240.7,2,    16.97,2,    19.47,2,     0.01,2,     1.35,2,    0.130,2,    0.059,2,   2148.6,2,   -999.0,9,   2310.4,2,     8.01,2,  3.9930, -999.00,9, 1600.0,2, -999.00,9
35LLETAMBOT1_1,  AR04,    51,  1,     13,   13.0,2,19950923,1408,  0.0017, -34.9983,   15,   1698.2,2,   3.9853,2,  34.9790,2,  34.9791,2,    245.1,2,    243.5,2,    17.41,2,    19.42,2,     0.01,2,     1.34,2,    0.093,2,    0.048,2,   2133.2,3,   -999.0,9,   2297.4,3,     8.02,2,  3.8469, -999.00,9, 1699.0,2, -999.00,9
35LLETAMBOT1_1,  AR04,    51,  1,     12,   12.0,2,19950923,1408,  0.0017, -34.9983,   15,   1796.2,2,   3.8208,2,  34.9745,2,  34.9773,2,    247.7,2,    247.4,2,    18.28,2,    19.23,2,     0.01,2,     1.32,2,    0.086,2,    0.038,2,   2122.2,3,   -999.0,9,   2288.6,3,     8.03,2,  3.6754, -999.00,9, 1798.0,2, -999.00,9
35LLETAMBOT1_1,  AR04,    51,  1,     11,   11.0,2,19950923,1408,  0.0017, -34.9983,   15,   1996.6,2,   3.6329,2,  34.9799,2,  34.9814,2,    256.7,2,    256.4,2,    17.49,2,    18.30,2,     0.01,2,     1.25,2,    0.133,2,    0.061,2,   2122.9,3,   -999.0,9,   2289.2,3,     8.02,2,  3.4711, -999.00,9, 1998.0,2, -999.00,9
35LLETAMBOT1_1,  AR04,    51,  1,     10,   10.0,2,19950923,1408,  0.0017, -34.9983,   15,   2397.0,2,   3.1559,2,  34.9493,2,  34.9496,2,    253.1,2,    254.5,2,    24.93,2,    19.07,2,     0.01,2,     1.31,2,    0.046,2,    0.020,2,   2128.7,3,   -999.0,9,   2298.4,3,     8.02,2,  2.9632, -999.00,9, 2398.0,2, -999.00,9
35LLETAMBOT1_1,  AR04,    51,  1,      9,    9.0,2,19950923,1408,  0.0017, -34.9983,   15,   2698.4,2,   2.9285,2,  34.9407,2,  34.9396,2,    256.2,2,    258.7,2,    26.83,2,    18.99,2,     0.01,2,     1.31,2,    0.051,2,    0.026,2,   2149.5,3,   -999.0,9,   2321.1,3,     8.01,2,  2.7102, -999.00,9, 2700.0,2, -999.00,9
35LLETAMBOT1_1,  AR04,    51,  1,      8,    8.0,2,19950923,1408,  0.0017, -34.9983,   15,   2996.4,2,   2.7462,2,  34.9252,2,  34.9253,2,    252.7,2,    254.4,2,    32.18,2,    19.55,2,     0.00,2,     1.36,2,    0.028,2,    0.014,2,   2156.2,3,   -999.0,9,   2328.1,3,     8.01,2,  2.5014, -999.00,9, 2997.0,2, -999.00,9
35LLETAMBOT1_1,  AR04,    51,  1,      7,    7.0,2,19950923,1408,  0.0017, -34.9983,   15,   3297.5,2,   2.6090,2,  34.9179,2,  34.9163,2,    256.1,2,    256.1,2,    32.21,2,    19.46,2,     0.00,2,     1.35,2,    0.045,2,    0.023,2,   2156.2,3,   -999.0,9,   2328.2,3,     8.00,2,  2.3357, -999.00,9, 3299.0,2, -999.00,9
35LLETAMBOT1_1,  AR04,    51,  1,      6,    6.0,2,19950923,1408,  0.0017, -34.9983,   15,   3596.4,2,   2.4419,2,  34.9076,2,  34.9060,2,    260.3,2,    259.2,2,    33.21,2,    19.27,2,     0.00,2,     1.34,2,    0.080,2,    0.032,2,   2147.6,3,   -999.0,9,   2318.4,3,     7.98,2,  2.1405, -999.00,9, 3598.0,2, -999.00,9
35LLETAMBOT1_1,  AR04,    51,  1,      5,    5.0,2,19950923,1408,  0.0017, -34.9983,   15,   3798.3,2,   2.3482,2,  34.9016,2,  34.8994,2,    261.6,2,    261.2,2,    33.67,2,    19.01,2,     0.00,2,     1.33,2,    0.107,2,    0.048,2,   2161.2,3,   -999.0,9,   2331.4,3,     7.97,2,  2.0269, -999.00,9, 3799.0,2, -999.00,9
35LLETAMBOT1_1,  AR04,    51,  1,      4,    4.0,2,19950923,1408,  0.0017, -34.9983,   15,   3999.6,2,   2.1373,2,  34.8787,2,  34.8779,2,    259.9,2,    257.6,2,    42.34,2,    20.31,2,     0.00,2,     1.42,2,    0.095,2,    0.041,2,   2167.5,3,   -999.0,9,   2331.7,3,     7.96,2,  1.7993, -999.00,9, 4001.0,2, -999.00,9
35LLETAMBOT1_1,  AR04,    51,  1,      3,    3.0,2,19950923,1408,  0.0017, -34.9983,   15,   4200.2,2,   1.4704,2,  34.8009,2,  34.8014,2,    244.0,2,    239.9,2,    78.98,2,    25.15,2,     0.00,2,     1.78,2,    0.042,2,    0.015,2,   2174.5,3,   -999.0,9,   2322.6,3,     7.92,2,  1.1295, -999.00,9, 4201.0,2, -999.00,9
35LLETAMBOT1_1,  AR04,    51,  1,      2,    2.0,2,19950923,1408,  0.0017, -34.9983,   15,   4400.9,2,   1.0627,2,  34.7554,2,  34.7527,2,    229.8,2,    230.3,2,   100.18,2,    28.03,2,     0.00,2,     1.99,2,    0.026,2,    0.007,2,   2225.2,3,   -999.0,9,   2361.8,3,     7.88,2,  0.7120, -999.00,9, 4402.0,2, -999.00,9
35LLETAMBOT1_1,  AR04,    51,  1,      1,    1.0,2,19950923,1408,  0.0017, -34.9983,   15,   4586.8,2,   0.9342,2,  34.7383,2,  34.7379,2,    226.5,2,    227.2,2,   106.30,2,    28.86,2,     0.00,2,     2.07,2,    0.027,2,    0.011,2,   2176.0,3,   -999.0,9,   2305.0,3,     7.86,2,  0.5667, -999.00,9, 4588.0,2, -999.00,9