BOTTLE,20220929CCHSIOAMB
EXPOCODE,SECT_ID,STNNBR,CASTNO,SAMPNO,BTLNBR,BTLNBR_FLAG_W,DATE,TIME,LATITUDE,LONGITUDE,DEPTH,CTDPRS,CTDPRS_FLAG_W,CTDTMP,CTDTMP_FLAG_W,CTDSAL,CTDSAL_FLAG_W,SALNTY,SALNTY_FLAG_W,CTDOXY,CTDOXY_FLAG_W,OXYGEN,OXYGEN_FLAG_W,SILCAT,SILCAT_FLAG_W,NITRAT,NITRAT_FLAG_W,NITRIT,NITRIT_FLAG_W,PHSPHT,PHSPHT_FLAG_W,CFC-11,CFC-11_FLAG_W,CFC-12,CFC-12_FLAG_W,TCARBN,TCARBN_FLAG_W,PCO2,PCO2_FLAG_W,ALKALI,ALKALI_FLAG_W,PH,PH_FLAG_W,THETA,CHLORA,CHLORA_FLAG_W,CTDRAW,CTDRAW_FLAG_W,PPHYTN,PPHYTN_FLAG_W
,,,,,,,,,,,,DBAR,,DEG C,,PSS-78,,PSS-78,,UMOL/KG,,UMOL/KG,,UMOL/KG,,UMOL/KG,,UMOL/KG,,UMOL/KG,,PMOL/KG,,PMOL/KG,,UMOL/KG,,UATM,,UMOL/KG,,,,DEG C,UG/L,,DBAR,,UG/L,
35LLETAMBOT1_1,  AR15,    32,  1,     22,   22.0,2,19950917,2359,  7.4992, -38.0005,   15,     -0.6,2,  29.5976,2,  32.4668,2,  32.1017,2,    193.3,2,    198.7,2,     5.92,2,     0.00,2,     0.01,2,     0.00,2, -999.000,9, -999.000,9,   -999.0,9,    325.1,2,   -999.0,9,  -999.00,9, 29.5977,    0.08,2,    1.0,2,    0.02,2
35LLETAMBOT1_1,  AR15,    32,  1,     21,   21.0,2,19950917,2359,  7.4992, -38.0005,   15,     43.4,2,  28.7225,2,  35.8689,2,  36.1186,2,    213.7,2,    201.9,2,     0.92,2,     0.00,2,     0.01,2,     0.00,2, -999.000,9, -999.000,9,   -999.0,9,   -999.0,9,   -999.0,9,  -999.00,9, 28.7121, -999.00,9,   45.0,2, -999.00,9
35LLETAMBOT1_1,  AR15,    32,  1,     20,   20.0,2,19950917,2359,  7.4992, -38.0005,   15,    174.1,2,  12.1585,2,  35.2079,2,  35.1901,2,    106.0,2,    105.6,2,    10.24,2,    25.00,2,     0.01,2,     1.60,2, -999.000,9, -999.000,9,   -999.0,9,   -999.0,9,   -999.0,9,  -999.00,9, 12.1356, -999.00,9,  176.0,2, -999.00,9
35LLETAMBOT1_1,  AR15,    32,  1,     19,   19.0,2,19950917,2359,  7.4992, -38.0005,   15,    297.5,2,   9.7264,2,  34.9258,2,  34.8730,2,    106.9,2,    117.3,2,    14.57,2,    28.82,2,     0.01,2,     1.85,2, -999.000,9, -999.000,9,   -999.0,9,   -999.0,9,   -999.0,9,  -999.00,9,  9.6923, -999.00,9,  300.0,2, -999.00,9
35LLETAMBOT1_1,  AR15,    32,  1,     18,   18.0,2,19950917,2359,  7.4992, -38.0005,   15,    590.2,2,   6.7484,2,  34.6374,2,  34.6435,2,    118.7,2,    117.9,2,    22.55,2,    34.28,2,     0.01,2,     2.22,2,    0.161,2,    0.068,2,   -999.0,9,   -999.0,9,   -999.0,9,  -999.00,9,  6.6930, -999.00,9,  591.0,2, -999.00,9
35LLETAMBOT1_1,  AR15,    32,  1,     17,   17.0,2,19950917,2359,  7.4992, -38.0005,   15,    996.3,2,   5.0610,2,  34.6962,2,  34.7086,2,    140.8,2,    141.0,2,    29.19,2,    33.36,2,     0.01,2,     2.22,2,    0.011,2,    0.003,2,   -999.0,9,   -999.0,9,   -999.0,9,  -999.00,9,  4.9773, -999.00,9,  998.0,2, -999.00,9
35LLETAMBOT1_1,  AR15,    32,  1,     16,   16.0,2,19950917,2359,  7.4992, -38.0005,   15,   1296.5,2,   4.7380,2,  34.8815,2,  34.8970,2,    186.3,2,    189.4,2,    23.07,2,    26.37,2,     0.01,2,     1.75,2,    0.043,2,    0.019,2,   -999.0,9,   -999.0,9,   -999.0,9,  -999.00,9,  4.6290, -999.00,9, 1298.0,2, -999.00,9
35LLETAMBOT1_1,  AR15,    32,  1,     15,   15.0,2,19950917,2359,  7.4992, -38.0005,   15,   1596.8,2,   4.2303,2,  34.9865,2,  34.9888,2,    240.0,2,    238.5,2,    17.11,2,    20.38,2,     0.01,2,     1.34,2,    0.141,2,    0.067,2,   -999.0,9,   -999.0,9,   -999.0,9,  -999.00,9,  4.0984, -999.00,9, 1598.0,2, -999.00,9
35LLETAMBOT1_1,  AR15,    32,  1,     14,   14.0,2,19950917,2359,  7.4992, -38.0005,   15,   1696.8,2,   4.1270,2,  34.9881,2,  34.9899,2,    244.2,2,    244.0,2,    16.82,2,    20.04,2,     0.01,2,     1.31,2,    0.137,2,    0.062,2,   -999.0,9,   -999.0,9,   -999.0,9,  -999.00,9,  3.9869, -999.00,9, 1698.0,2, -999.00,9
35LLETAMBOT1_1,  AR15,    32,  1,     13,   13.0,2,19950917,2359,  7.4992, -38.0005,   15,   1797.5,2,   4.0138,2,  34.9851,2,  34.9826,2,    248.3,2,    254.7,4,    17.25,2,    19.88,2,     0.01,2,     1.29,2,    0.128,2,    0.067,2,   -999.0,9,   -999.0,9,   -999.0,9,  -999.00,9,  3.8656, -999.00,9, 1799.0,2, -999.00,9
35LLETAMBOT1_1,  AR15,    32,  1,     12,   12.0,2,19950917,2359,  7.4992, -38.0005,   15,   1993.3,2,   3.6271,2,  34.9736,2,  34.9760,2,    252.9,2,    252.3,2,    19.26,2,    19.64,2,     0.01,2,     1.28,2,    0.074,2,    0.035,2,   -999.0,9,   -999.0,9,   -999.0,9,  -999.00,9,  3.4657, -999.00,9, 1995.0,2, -999.00,9
35LLETAMBOT1_1,  AR15,    32,  1,     11,   11.0,2,19950917,2359,  7.4992, -38.0005,   15,   2397.5,2,   3.2067,2,  34.9538,2,  34.9517,2,    255.1,2,    254.6,2,    25.25,2,    19.89,2,     0.01,2,     1.31,2,    0.021,2,    0.012,2,   -999.0,9,   -999.0,9,   -999.0,9,  -999.00,9,  3.0131, -999.00,9, 2399.0,2, -999.00,9
35LLETAMBOT1_1,  AR15,    32,  1,     10,   10.0,2,19950917,2359,  7.4992, -38.0005,   15,   2597.6,2,   3.0351,2,  34.9443,2,  34.9427,2,    254.7,2,    254.8,2,    27.37,2,    20.09,2,     0.00,2,     1.31,2,    0.021,2,    0.010,2,   -999.0,9,   -999.0,9,   -999.0,9,  -999.00,9,  2.8248, -999.00,9, 2599.0,2, -999.00,9
35LLETAMBOT1_1,  AR15,    32,  1,      9,    9.0,2,19950917,2359,  7.4992, -38.0005,   15,   2798.4,2,   2.9006,2,  34.9369,2,  34.9380,2,    255.4,2,    255.5,2,    28.79,2,    20.13,2,     0.00,2,     1.32,2,    0.031,2,    0.017,2,   -999.0,9,   -999.0,9,   -999.0,9,  -999.00,9,  2.6728, -999.00,9, 2800.0,2, -999.00,9
35LLETAMBOT1_1,  AR15,    32,  1,      7,    7.0,2,19950917,2359,  7.4992, -38.0005,   15,   2998.3,2,   2.7457,2,  34.9276,2,  34.9287,2,    256.5,2,    255.5,2,    30.70,2,    20.30,2,     0.00,2,     1.32,2,    0.038,2,    0.019,2,   -999.0,9,   -999.0,9,   -999.0,9,  -999.00,9,  2.5007, -999.00,9, 2999.0,2, -999.00,9
35LLETAMBOT1_1,  AR15,    32,  1,      8,    8.0,2,19950917,2359,  7.4992, -38.0005,   15,   2998.3,2,   2.7457,2,  34.9276,2,  34.9286,2,    256.5,2,    256.5,2,    30.62,2,    20.27,2,     0.00,2,     1.32,2,    0.035,2,    0.017,2,   -999.0,9,   -999.0,9,   -999.0,9,  -999.00,9,  2.5007, -999.00,9, 2999.0,2, -999.00,9
35LLETAMBOT1_1,  AR15,    32,  1,      6,    6.0,2,19950917,2359,  7.4992, -38.0005,   15,   3300.1,2,   2.5930,2,  34.9170,2,  34.9178,2,    257.0,2,    259.0,2,    33.54,2,    20.40,2,     0.00,2,     1.33,2,    0.048,2,    0.023,2,   -999.0,9,   -999.0,9,   -999.0,9,  -999.00,9,  2.3198, -999.00,9, 3302.0,2, -999.00,9
35LLETAMBOT1_1,  AR15,    32,  1,      5,    5.0,2,19950917,2359,  7.4992, -38.0005,   15,   3599.0,2,   2.4254,2,  34.9030,2,  34.9010,2,    257.2,2,    257.1,2,    38.38,2,    20.87,2,     0.00,2,     1.36,2,    0.046,2,    0.026,2,   -999.0,9,   -999.0,9,   -999.0,9,  -999.00,9,  2.1241, -999.00,9, 3600.0,2, -999.00,9
35LLETAMBOT1_1,  AR15,    32,  1,      4,    4.0,2,19950917,2359,  7.4992, -38.0005,   15,   3800.7,2,   2.2631,2,  34.8889,2,  34.8878,2,    256.8,2,    257.2,2,    42.20,2,    21.20,2,     0.00,2,     1.39,2,    0.059,2,    0.030,2,   -999.0,9,   -999.0,9,   -999.0,9,  -999.00,9,  1.9439, -999.00,9, 3802.0,2, -999.00,9
35LLETAMBOT1_1,  AR15,    32,  1,      3,    3.0,2,19950917,2359,  7.4992, -38.0005,   15,   3999.3,2,   2.0633,2,  34.8674,2,  34.8670,2,    253.3,2,    253.8,2,    50.28,2,    22.27,2,     0.00,2,     1.46,2,    0.051,2,    0.025,2,   -999.0,9,   -999.0,9,   -999.0,9,  -999.00,9,  1.7275, -999.00,9, 4001.0,2, -999.00,9
35LLETAMBOT1_1,  AR15,    32,  1,      2,    2.0,2,19950917,2359,  7.4992, -38.0005,   15,   4200.5,2,   1.9565,2,  34.8535,2,  34.8526,2,    250.9,2,    250.8,2,    57.62,2,    23.25,2,     0.00,2,     1.53,2,    0.041,2,    0.024,2,   -999.0,9,   -999.0,9,   -999.0,9,  -999.00,9,  1.6010, -999.00,9, 4201.0,2, -999.00,9
35LLETAMBOT1_1,  AR15,    32,  1,      1,    1.0,2,19950917,2359,  7.4992, -38.0005,   15,   4451.7,2,   1.8171,2,  34.8352,2,  34.8339,2,    247.8,2,    246.0,2,    65.45,2,    24.43,2,     0.00,2,     1.61,2,    0.045,2,    0.030,2,   -999.0,9,   -999.0,9,   -999.0,9,  -999.00,9,  1.4369, -999.00,9, 4452.0,2, -999.00,9
35LLETAMBOT1_1,  AR15,    33,  1,     28,    6.0,2,19950918,0546,  7.4932, -37.3358, 4445,     -0.4,2,  29.2165,2,  32.4610,2,  32.3540,2,    201.5,2,    199.3,2,     5.34,2,     0.37,2,     0.00,2,     0.00,2, -999.000,9, -999.000,9,   1824.6,2,    326.6,2,   2187.1,2,     8.10,2, 29.2166,    0.07,2,    2.0,2,    0.02,2
35LLETAMBOT1_1,  AR15,    33,  1,     27,    5.0,2,19950918,0546,  7.4932, -37.3358, 4445,     38.2,2,  28.2196,2,  35.5661,2,  35.4595,2,    202.2,2,    199.5,2,     1.61,2,     0.35,2,     0.00,2,     0.00,2, -999.000,9, -999.000,9,   1967.2,2,   -999.0,9,   2352.5,2,     8.08,2, 28.2105, -999.00,9,   39.0,2, -999.00,9
35LLETAMBOT1_1,  AR15,    33,  1,     26,    4.0,2,19950918,0546,  7.4932, -37.3358, 4445,     73.8,2,  24.8265,2,  36.2189,2,  36.2288,2,    197.2,2,    201.0,2,     0.80,2,     0.38,2,     0.01,2,     0.00,2, -999.000,9, -999.000,9,   2038.7,2,   -999.0,9,   2419.0,3,     8.12,3, 24.8105, -999.00,9,   75.0,2, -999.00,9
35LLETAMBOT1_1,  AR15,    33,  1,     25,    3.0,2,19950918,0546,  7.4932, -37.3358, 4445,    149.6,2,  13.0221,2,  35.4006,2,  35.5780,2,    115.8,2,    114.2,2,     7.93,2,    20.90,2,     0.00,2,     1.28,2, -999.000,9, -999.000,9,   2188.9,2,   -999.0,9,   2368.7,2,     7.96,2, 13.0015, -999.00,9,  151.0,2, -999.00,9
35LLETAMBOT1_1,  AR15,    33,  1,     24,    2.0,2,19950918,0546,  7.4932, -37.3358, 4445,    301.1,2,   8.4547,2,  34.7817,2,  34.7810,2,    119.7,2,    119.2,2,    16.63,2,    30.38,2,     0.00,2,     1.94,2, -999.000,9, -999.000,9,   2202.5,2,   -999.0,9,   2318.5,2,     7.88,2,  8.4231, -999.00,9,  300.0,2, -999.00,9
35LLETAMBOT1_1,  AR15,    33,  1,     23,    1.0,2,19950918,0546,  7.4932, -37.3358, 4445,    506.4,2,   7.6360,2,  34.7474,2,  34.7460,2,    100.2,2,    100.1,2,    20.08,2,    34.17,2,     0.00,2,     2.18,2, -999.000,9, -999.000,9,   2225.1,2,   -999.0,9,   2320.2,2,     7.82,2,  7.5853, -999.00,9,  505.0,2, -999.00,9
35LLETAMBOT1_1,  AR15,    33,  2,     22,   22.0,2,19950918,0807,  7.4977, -37.3333,   15,    597.7,2,   6.8564,2,  34.6806,2,  34.6860,2,    110.6,2,    108.2,2,    22.67,2,    34.84,2,     0.00,2,     2.26,2, -999.000,9, -999.000,9,   2214.0,2,   -999.0,9,   2305.1,2,     7.82,2,  6.7997, -999.00,9,  600.0,2, -999.00,9
35LLETAMBOT1_1,  AR15,    33,  2,     21,   21.0,4,19950918,0807,  7.4977, -37.3333,   15,    897.5,2,   5.1351,2,  34.6239,2,-999.0000,9,    134.1,2,   -999.0,9,  -999.00,9,  -999.00,9,  -999.00,9,  -999.00,9, -999.000,9, -999.000,9,   -999.0,9,   -999.0,9,   -999.0,9,  -999.00,9,  5.0599, -999.00,9,  899.0,2, -999.00,9
35LLETAMBOT1_1,  AR15,    33,  2,     20,   20.0,4,19950918,0807,  7.4977, -37.3333,   15,    996.4,2,   4.9144,2,  34.6754,2,-999.0000,9,    142.3,2,   -999.0,9,  -999.00,9,  -999.00,9,  -999.00,9,  -999.00,9, -999.000,9, -999.000,9,   -999.0,9,   -999.0,9,   -999.0,9,  -999.00,9,  4.8318, -999.00,9,  998.0,2, -999.00,9
35LLETAMBOT1_1,  AR15,    33,  2,     19,   19.0,2,19950918,0807,  7.4977, -37.3333,   15,   1298.8,2,   4.6838,2,  34.8865,2,  34.8748,2,    186.1,2,    183.0,2,    23.70,2,    27.21,2,     0.00,2,     1.81,2, -999.000,9, -999.000,9,   2179.1,2,   -999.0,9,   2310.7,2,     7.94,2,  4.5751, -999.00,9, 1300.0,2, -999.00,9
35LLETAMBOT1_1,  AR15,    33,  2,     18,   18.0,2,19950918,0807,  7.4977, -37.3333,   15,   1498.2,2,   4.5679,2,  34.9677,2,  34.9750,2,    219.0,2,    223.2,2,    18.27,2,    22.25,2,     0.00,2,     1.46,2,    0.149,2,    0.079,2,   2169.3,2,   -999.0,9,   2325.3,2,     8.00,2,  4.4415, -999.00,9, 1500.0,2, -999.00,9
35LLETAMBOT1_1,  AR15,    33,  2,     17,   17.0,2,19950918,0807,  7.4977, -37.3333,   15,   1597.2,2,   4.3880,2,  34.9767,2,  34.9870,2,    229.4,2,    234.1,2,    17.04,2,    21.01,2,     0.00,2,     1.36,2,    0.173,2,    0.102,2,   2157.1,2,   -999.0,9,   2318.2,2,     8.01,2,  4.2542, -999.00,9, 1598.0,2, -999.00,9
35LLETAMBOT1_1,  AR15,    33,  2,     16,   16.0,2,19950918,0807,  7.4977, -37.3333,   15,   1697.9,2,   4.1587,2,  34.9855,2,  34.9866,2,    241.5,2,    241.8,2,    16.92,2,    20.33,2,     0.00,2,     1.31,2,    0.135,2,    0.064,2,   2131.0,3,   -999.0,9,   2294.0,3,     8.02,2,  4.0181, -999.00,9, 1699.0,2, -999.00,9
35LLETAMBOT1_1,  AR15,    33,  2,     15,   15.0,2,19950918,0807,  7.4977, -37.3333,   15,   1797.0,2,   4.0049,2,  34.9864,2,  34.9868,2,    248.2,2,    247.7,2,    16.86,2,    19.75,2,     0.00,2,     1.28,2,    0.136,2,    0.069,2,   2135.0,3,   -999.0,9,   2302.1,3,     8.02,2,  3.8569, -999.00,9, 1798.0,2, -999.00,9
35LLETAMBOT1_1,  AR15,    33,  2,     14,   14.0,2,19950918,0807,  7.4977, -37.3333,   15,   1899.4,2,   3.8675,2,  34.9817,2,  34.9830,2,    249.9,2,    249.3,2,    17.70,2,    19.77,2,     0.00,2,     1.28,2,    0.101,2,    0.049,2,   2126.5,3,   -999.0,9,   2295.2,3,     8.03,2,  3.7116, -999.00,9, 1901.0,2, -999.00,9
35LLETAMBOT1_1,  AR15,    33,  2,     13,   13.0,2,19950918,0807,  7.4977, -37.3333,   15,   1997.9,2,   3.7274,2,  34.9764,2,  34.9710,2,    250.6,2,    249.8,2,    19.19,2,    19.75,2,     0.00,2,     1.29,2,    0.074,2,    0.036,2,   2107.6,3,   -999.0,9,   2274.6,3,     8.02,2,  3.5641, -999.00,9, 2000.0,2, -999.00,9
35LLETAMBOT1_1,  AR15,    33,  2,     12,   12.0,2,19950918,0807,  7.4977, -37.3333,   15,   2398.9,2,   3.1941,2,  34.9518,2,  34.9480,2,    253.2,2,    254.0,2,    25.40,2,    20.03,2,     0.00,2,     1.32,2,    0.054,2,    0.027,2,   2119.2,3,   -999.0,9,   2287.6,3,     8.02,2,  3.0006, -999.00,9, 2401.0,2, -999.00,9
35LLETAMBOT1_1,  AR15,    33,  2,     11,   11.0,2,19950918,0807,  7.4977, -37.3333,   15,   2799.8,2,   2.8718,2,  34.9342,2,  34.9338,2,    254.5,2,    255.1,2,    29.42,2,    20.05,2,     0.00,2,     1.33,2,    0.086,2,    0.034,2,   2130.4,3,   -999.0,9,   2299.2,3,     8.01,2,  2.6444, -999.00,9, 2802.0,2, -999.00,9
35LLETAMBOT1_1,  AR15,    33,  2,     10,   10.0,2,19950918,0807,  7.4977, -37.3333,   15,   2999.2,2,   2.7545,2,  34.9266,2,  34.9248,2,    255.4,2,    256.1,2,    31.84,2,    20.33,2,     0.00,2,     1.34,2,    0.046,2,    0.022,2,   2110.2,3,   -999.0,9,   2275.9,3,     8.00,2,  2.5092, -999.00,9, 3001.0,2, -999.00,9
35LLETAMBOT1_1,  AR15,    33,  2,      8,    8.0,2,19950918,0807,  7.4977, -37.3333,   15,   3199.9,2,   2.6582,2,  34.9208,2,  34.9190,2,    255.4,2,    256.5,2,    33.14,2,    20.36,2,     0.00,2,     1.35,2,    0.051,2,    0.023,2,   2157.4,3,   -999.0,9,   2326.3,3,     7.99,2,  2.3941, -999.00,9, 3202.0,2, -999.00,9
35LLETAMBOT1_1,  AR15,    33,  2,      9,    9.0,2,19950918,0807,  7.4977, -37.3333,   15,   3200.5,2,   2.6583,2,  34.9197,2,  34.9176,2,    255.4,2,    256.1,2,    33.07,2,    20.39,2,     0.00,2,     1.34,2,    0.051,2,    0.021,2,   -999.0,9,   -999.0,9,   -999.0,9,  -999.00,9,  2.3941, -999.00,9, 3202.0,2, -999.00,9
35LLETAMBOT1_1,  AR15,    33,  2,      7,    7.0,2,19950918,0807,  7.4977, -37.3333,   15,   3401.3,2,   2.5218,2,  34.9109,2,  34.9113,2,    257.0,2,    257.5,2,    34.96,2,    20.33,2,     0.00,2,     1.35,2,    0.065,2,    0.028,2,   2111.6,3,   -999.0,9,   2277.9,3,     7.99,2,  2.2395, -999.00,9, 3402.0,2, -999.00,9
35LLETAMBOT1_1,  AR15,    33,  2,      6,    6.0,2,19950918,0807,  7.4977, -37.3333,   15,   3600.5,2,   2.3826,2,  34.8995,2,  34.8997,2,    257.6,2,    257.3,2,    37.91,2,    20.52,2,     0.00,2,     1.38,2,    0.073,2,    0.034,2,   2114.7,3,   -999.0,9,   2279.6,3,     7.97,2,  2.0823, -999.00,9, 3602.0,2, -999.00,9
35LLETAMBOT1_1,  AR15,    33,  2,      5,    5.0,2,19950918,0807,  7.4977, -37.3333,   15,   3802.4,2,   2.2467,2,  34.8872,2,  34.8869,2,    257.3,2,    257.0,2,    41.60,2,    20.89,2,     0.00,2,     1.40,2,    0.072,2,    0.030,2,   2135.5,3,   -999.0,9,   2298.9,3,     7.96,2,  1.9278, -999.00,9, 3804.0,2, -999.00,9
35LLETAMBOT1_1,  AR15,    33,  2,      4,    4.0,2,19950918,0807,  7.4977, -37.3333,   15,   3999.5,2,   2.1060,2,  34.8708,2,  34.8660,2,    254.8,2,    252.9,2,    50.40,2,    22.12,2,     0.00,2,     1.48,2,    0.070,2,    0.036,2,   2155.4,3,   -999.0,9,   2315.9,3,     7.95,2,  1.7690, -999.00,9, 4000.0,2, -999.00,9
35LLETAMBOT1_1,  AR15,    33,  2,      3,    3.0,2,19950918,0807,  7.4977, -37.3333,   15,   4201.7,2,   1.9567,2,  34.8530,2,  34.8527,2,    251.2,2,    250.3,2,    55.95,2,    23.07,2,     0.00,2,     1.55,2,    0.058,2,    0.027,2,   2113.6,3,   -999.0,9,   2268.0,3,     7.93,2,  1.6011, -999.00,9, 4202.0,2, -999.00,9
35LLETAMBOT1_1,  AR15,    33,  2,      2,    2.0,2,19950918,0807,  7.4977, -37.3333,   15,   4401.7,2,   1.8389,2,  34.8380,2,  34.8367,2,    247.4,2,    247.2,2,    62.99,2,    24.02,2,     0.00,2,     1.61,2,    0.062,2,    0.026,2,   2161.2,3,   -999.0,9,   2314.6,3,     7.92,2,  1.4639, -999.00,9, 4403.0,2, -999.00,9
35LLETAMBOT1_1,  AR15,    33,  2,      1,    1.0,2,19950918,0807,  7.4977, -37.3333,   15,   4544.6,2,   1.8222,2,  34.8345,2,  34.8320,2,    246.2,2,    245.6,2,    64.48,2,    24.32,2,     0.00,2,     1.63,2,    0.054,2,    0.025,2,   2172.6,3,   -999.0,9,   2325.1,3,     7.91,2,  1.4310, -999.00,9, 4546.0,2, -999.00,9