BOTTLE,20220929CCHSIOAMB
EXPOCODE,SECT_ID,STNNBR,CASTNO,SAMPNO,BTLNBR,BTLNBR_FLAG_W,DATE,TIME,LATITUDE,LONGITUDE,DEPTH,CTDPRS,CTDPRS_FLAG_W,CTDTMP,CTDTMP_FLAG_W,CTDSAL,CTDSAL_FLAG_W,SALNTY,SALNTY_FLAG_W,CTDOXY,CTDOXY_FLAG_W,OXYGEN,OXYGEN_FLAG_W,SILCAT,SILCAT_FLAG_W,NITRAT,NITRAT_FLAG_W,NITRIT,NITRIT_FLAG_W,PHSPHT,PHSPHT_FLAG_W,CFC-11,CFC-11_FLAG_W,CFC-12,CFC-12_FLAG_W,TCARBN,TCARBN_FLAG_W,PCO2,PCO2_FLAG_W,ALKALI,ALKALI_FLAG_W,PH,PH_FLAG_W,THETA,CHLORA,CHLORA_FLAG_W,CTDRAW,CTDRAW_FLAG_W,PPHYTN,PPHYTN_FLAG_W
,,,,,,,,,,,,DBAR,,DEG C,,PSS-78,,PSS-78,,UMOL/KG,,UMOL/KG,,UMOL/KG,,UMOL/KG,,UMOL/KG,,UMOL/KG,,PMOL/KG,,PMOL/KG,,UMOL/KG,,UATM,,UMOL/KG,,,,DEG C,UG/L,,DBAR,,UG/L,
35LLETAMBOT1_2,  AR04,    67,  1,     22,   22.0,2,19951002,1647,  0.6082, -44.9917,   15,      4.0,2,  27.2877,2,  36.2367,2,  36.2377,2,    197.6,2,    199.8,2,     0.37,2,     0.47,2,     0.00,2,     0.01,2, -999.000,9, -999.000,9,   2028.3,2,    363.7,2,   2408.8,2,     8.08,2, 27.2868,    0.08,2,    6.0,2,    0.01,2
35LLETAMBOT1_2,  AR04,    67,  1,     21,   21.0,2,19951002,1647,  0.6082, -44.9917,   15,     98.7,2,  26.7278,2,  36.2523,2,  36.2398,2,    201.5,2,    199.8,2,     0.32,2,     0.46,2,     0.00,2,     0.01,2, -999.000,9, -999.000,9,   2023.2,2,   -999.0,9,   2402.6,2,     8.08,2, 26.7052, -999.00,9,  100.0,2, -999.00,9
35LLETAMBOT1_2,  AR04,    67,  1,     20,   20.0,2,19951002,1647,  0.6082, -44.9917,   15,    172.5,2,  15.0966,2,  35.5160,2,  35.5087,2,    187.2,2,    178.9,2,     3.72,2,    10.99,2,     0.02,2,     0.77,2, -999.000,9, -999.000,9,   2122.7,2,   -999.0,9,   2362.0,2,     8.05,2, 15.0703, -999.00,9,  174.0,2, -999.00,9
35LLETAMBOT1_2,  AR04,    67,  1,     19,   19.0,2,19951002,1647,  0.6082, -44.9917,   15,    245.2,2,  11.2157,2,  35.0200,2,  35.0156,2,    157.5,2,    156.3,2,     8.64,2,    20.76,2,     0.00,2,     1.36,2, -999.000,9, -999.000,9,   2153.9,2,   -999.0,9,   2327.1,2,     7.98,2, 11.1850, -999.00,9,  247.0,2, -999.00,9
35LLETAMBOT1_2,  AR04,    67,  1,     18,   18.0,2,19951002,1647,  0.6082, -44.9917,   15,    395.3,2,   8.9086,2,  34.7811,2,  34.7954,2,    138.6,2,    136.6,2,    13.42,2,    27.39,2,     0.00,2,     1.76,2, -999.000,9, -999.000,9,   2177.1,2,   -999.0,9,   2310.1,2,     7.91,2,  8.8655, -999.00,9,  397.0,2, -999.00,9
35LLETAMBOT1_2,  AR04,    67,  1,     17,   17.0,2,19951002,1647,  0.6082, -44.9917,   15,    596.4,2,   5.4883,2,  34.5004,2,  34.4996,2,    155.1,2,    155.9,2,    24.36,2,    32.87,2,     0.00,2,     2.17,2,    0.316,2,    0.151,2,   2183.0,2,   -999.0,9,   2289.9,2,     7.89,2,  5.4381, -999.00,9,  598.0,2, -999.00,9
35LLETAMBOT1_2,  AR04,    67,  1,     16,   16.0,2,19951002,1647,  0.6082, -44.9917,   15,    796.5,2,   4.3628,2,  34.5201,2,  34.5186,2,    167.9,2,    168.4,2,    30.77,2,    32.83,2,     0.00,2,     2.21,2,    0.132,2,    0.063,2,   2185.9,3,   -999.0,9,   2294.7,3,     7.91,3,  4.3015, -999.00,9,  799.0,2, -999.00,9
35LLETAMBOT1_2,  AR04,    67,  1,     15,   15.0,2,19951002,1647,  0.6082, -44.9917,   15,    998.1,2,   4.5116,2,  34.6729,2,  34.6716,2,    166.2,2,    166.3,2,    27.96,2,    31.29,2,     0.00,2,     2.09,2,    0.045,2,    0.024,2,   2175.9,3,   -999.0,9,   2288.4,3,     7.91,2,  4.4319, -999.00,9,  999.0,2, -999.00,9
35LLETAMBOT1_2,  AR04,    67,  1,     14,   14.0,2,19951002,1647,  0.6082, -44.9917,   15,   1196.3,2,   4.5977,2,  34.8219,2,  34.7650,2,    180.7,2,    171.3,2,    25.11,2,    29.57,2,     0.00,2,     1.96,2,    0.038,2,    0.019,2,   2198.9,2,   -999.0,9,   2319.4,2,     7.91,3,  4.4994, -999.00,9, 1198.0,2, -999.00,9
35LLETAMBOT1_2,  AR04,    67,  1,     13,   13.0,2,19951002,1647,  0.6082, -44.9917,   15,   1396.9,2,   4.5219,2,  34.9535,2,  34.9528,2,    215.7,2,    214.2,2,    17.59,2,    23.06,2,     0.00,2,     1.49,2,    0.127,2,    0.063,2,   2163.3,2,   -999.0,9,   2315.6,2,     7.99,2,  4.4056, -999.00,9, 1398.0,2, -999.00,9
35LLETAMBOT1_2,  AR04,    67,  1,     12,   12.0,2,19951002,1647,  0.6082, -44.9917,   15,   1496.0,2,   4.3477,2,  34.9816,2,  34.9841,2,    232.2,2,    232.6,2,    15.46,2,    20.95,2,     0.00,2,     1.35,2,    0.196,2,    0.101,2,   2130.2,3,   -999.0,9,   2290.3,3,     8.01,2,  4.2239, -999.00,9, 1498.0,2, -999.00,9
35LLETAMBOT1_2,  AR04,    67,  1,     11,   11.0,2,19951002,1647,  0.6082, -44.9917,   15,   1595.5,2,   4.1596,2,  34.9895,2,  34.9887,2,    241.8,2,    242.4,2,    14.83,2,    20.01,2,     0.00,2,     1.29,2,    0.170,2,    0.087,2,   2122.9,3,   -999.0,9,   2288.1,3,     8.03,2,  4.0287, -999.00,9, 1597.0,2, -999.00,9
35LLETAMBOT1_2,  AR04,    67,  1,     10,   10.0,2,19951002,1647,  0.6082, -44.9917,   15,   1696.6,2,   4.0615,2,  34.9888,2,  34.9889,2,    245.2,2,    246.2,2,    14.75,2,    19.45,2,     0.00,2,     1.26,2,    0.169,2,    0.085,2,   2145.6,3,   -999.0,9,   2314.2,3,     8.03,2,  3.9223, -999.00,9, 1698.0,2, -999.00,9
35LLETAMBOT1_2,  AR04,    67,  1,      9,    9.0,2,19951002,1647,  0.6082, -44.9917,   15,   1796.1,2,   3.9318,2,  34.9902,2,  34.9900,2,    252.5,2,    255.2,2,    14.44,2,    19.05,2,     0.00,2,     1.21,2,    0.236,2,    0.115,2,   2117.2,3,   -999.0,9,   2286.6,3,     8.03,2,  3.7848, -999.00,9, 1798.0,2, -999.00,9
35LLETAMBOT1_2,  AR04,    67,  1,      8,    8.0,2,19951002,1647,  0.6082, -44.9917,   15,   1896.4,2,   3.7914,2,  34.9877,2,  34.9873,2,    255.3,2,    256.7,2,    14.53,2,    18.17,2,     0.00,2,     1.21,2,    0.248,2,    0.120,2,   2105.9,3,   -999.0,9,   2274.8,3,     8.03,2,  3.6369, -999.00,9, 1897.0,2, -999.00,9
35LLETAMBOT1_2,  AR04,    67,  1,      7,    7.0,2,19951002,1647,  0.6082, -44.9917,   15,   1995.8,2,   3.6663,2,  34.9827,2,  34.9816,2,    256.6,2,    256.9,2,    15.21,2,    18.08,2,     0.01,2,     1.21,2,    0.213,2,    0.105,2,   2135.3,3,   -999.0,9,   2306.9,3,     8.03,2,  3.5041, -999.00,9, 1997.0,2, -999.00,9
35LLETAMBOT1_2,  AR04,    67,  1,      6,    6.0,2,19951002,1647,  0.6082, -44.9917,   15,   2197.2,2,   3.3872,2,  34.9708,2,  34.9690,2,    258.8,2,    259.3,2,    17.30,2,    18.20,2,     0.00,2,     1.21,2,    0.155,2,    0.080,2,   2110.2,3,   -999.0,9,   2281.1,3,     8.03,2,  3.2100, -999.00,9, 2199.0,2, -999.00,9
35LLETAMBOT1_2,  AR04,    67,  1,      5,    5.0,2,19951002,1647,  0.6082, -44.9917,   15,   2397.6,2,   3.1634,2,  34.9579,2,  34.9552,2,    259.4,2,    259.8,2,    19.58,2,    18.17,2,     0.01,2,     1.23,2,    0.117,2,    0.071,2,   2111.9,3,   -999.0,9,   2283.7,3,     8.03,2,  2.9705, -999.00,9, 2399.0,2, -999.00,9
35LLETAMBOT1_2,  AR04,    67,  1,      3,    3.0,2,19951002,1647,  0.6082, -44.9917,   15,   2597.8,2,   2.9880,2,  34.9464,2,  34.9449,3,    258.9,2,    258.7,2,    21.76,2,    18.52,2,     0.01,2,     1.28,2,    0.081,2,    0.045,2,   2123.5,3,   -999.0,9,   2296.7,3,     8.02,2,  2.7786, -999.00,9, 2599.0,2, -999.00,9
35LLETAMBOT1_2,  AR04,    67,  1,      4,    4.0,2,19951002,1647,  0.6082, -44.9917,   15,   2597.8,2,   2.9880,2,  34.9464,2,  34.9456,2,    258.9,2,    258.7,2,    21.80,2,    18.48,2,     0.01,2,     1.27,2,    0.083,2,    0.047,2,   2127.8,3,   -999.0,9,   2299.9,3,     8.02,2,  2.7786, -999.00,9, 2599.0,2, -999.00,9
35LLETAMBOT1_2,  AR04,    67,  1,      2,    2.0,2,19951002,1647,  0.6082, -44.9917,   15,   2798.8,2,   2.8952,2,  34.9404,2,  34.9406,2,    257.9,2,    259.4,2,    22.38,2,    18.46,2,     0.00,2,     1.28,2,    0.107,2,    0.057,2,   2118.4,3,   -999.0,9,   2290.7,3,     8.02,2,  2.6674, -999.00,9, 2801.0,2, -999.00,9
35LLETAMBOT1_2,  AR04,    67,  1,      1,    1.0,2,19951002,1647,  0.6082, -44.9917,   15,   2991.6,2,   2.8329,2,  34.9341,2,  34.9364,2,    257.6,2,    259.5,2,    23.12,2,    18.48,2,     0.00,2,     1.28,2,    0.132,2,    0.069,2,   2132.5,3,   -999.0,9,   2305.9,3,     8.01,2,  2.5866, -999.00,9, 2993.0,2, -999.00,9
35LLETAMBOT1_2,  AR04,    68,  1,     24,   24.0,2,19951002,2228,  1.0255, -44.7673,   20,      2.0,2,  27.1910,2,  36.2095,2,  36.2293,2,    213.2,2,    200.9,2,     0.57,2,     0.44,2,     0.01,2,     0.00,2, -999.000,9, -999.000,9,   -999.0,9,   -999.0,9,   -999.0,9,  -999.00,9, 27.1905, -999.00,9,    4.0,2, -999.00,9
35LLETAMBOT1_2,  AR04,    68,  1,     23,   23.0,2,19951002,2228,  1.0255, -44.7673,   20,     78.0,2,  26.8674,2,  36.2310,2,  36.2327,2,    199.9,2,    199.7,2,     0.49,2,     0.41,2,     0.01,2,     0.00,2, -999.000,9, -999.000,9,   -999.0,9,   -999.0,9,   -999.0,9,  -999.00,9, 26.8495, -999.00,9,   80.0,2, -999.00,9
35LLETAMBOT1_2,  AR04,    68,  1,     22,   22.0,2,19951002,2228,  1.0255, -44.7673,   20,    297.8,2,  11.5050,2,  35.0681,2,  35.0682,2,    146.0,2,    145.9,2,     9.20,2,    22.10,2,     0.01,2,     1.37,2, -999.000,9, -999.000,9,   -999.0,9,   -999.0,9,   -999.0,9,  -999.00,9, 11.4670, -999.00,9,  299.0,2, -999.00,9
35LLETAMBOT1_2,  AR04,    68,  1,     21,   21.0,2,19951002,2228,  1.0255, -44.7673,   20,    597.5,2,   5.5536,2,  34.5079,2,  34.5100,2,    153.2,2,    151.3,2,    26.03,2,    33.91,2,     0.01,2,     2.19,2, -999.000,9, -999.000,9,   -999.0,9,   -999.0,9,   -999.0,9,  -999.00,9,  5.5030, -999.00,9,  599.0,2, -999.00,9
35LLETAMBOT1_2,  AR04,    68,  1,     20,   20.0,2,19951002,2228,  1.0255, -44.7673,   20,    797.3,2,   4.6664,2,  34.5330,2,  34.5321,2,    158.5,2,    156.8,2,    31.14,2,    34.17,2,     0.01,2,     2.24,2,    0.101,2,    0.044,2,   -999.0,9,   -999.0,9,   -999.0,9,  -999.00,9,  4.6031, -999.00,9,  799.0,2, -999.00,9
35LLETAMBOT1_2,  AR04,    68,  1,     19,   19.0,2,19951002,2228,  1.0255, -44.7673,   20,    995.8,2,   4.4982,2,  34.6395,2,  34.6220,2,    166.8,2,    166.0,2,    31.49,2,    32.58,2,     0.00,2,     2.13,2,    0.070,2,    0.033,2,   -999.0,9,   -999.0,9,   -999.0,9,  -999.00,9,  4.4189, -999.00,9,  996.0,2, -999.00,9
35LLETAMBOT1_2,  AR04,    68,  1,     18,   18.0,2,19951002,2228,  1.0255, -44.7673,   20,   1295.7,2,   4.6213,2,  34.9193,2,  34.9172,2,    204.6,2,    202.1,2,    21.10,2,    25.53,2,     0.00,2,     1.61,2,    0.087,2,    0.046,2,   -999.0,9,   -999.0,9,   -999.0,9,  -999.00,9,  4.5134, -999.00,9, 1297.0,2, -999.00,9
35LLETAMBOT1_2,  AR04,    68,  1,     17,   17.0,2,19951002,2228,  1.0255, -44.7673,   20,   1496.1,2,   4.2639,2,  34.9836,2,  34.9891,2,    239.1,2,    237.3,2,    17.05,2,    21.45,2,     0.00,2,     1.32,2,    0.204,2,    0.106,2,   -999.0,9,   -999.0,9,   -999.0,9,  -999.00,9,  4.1410, -999.00,9, 1497.0,2, -999.00,9
35LLETAMBOT1_2,  AR04,    68,  1,     16,   16.0,2,19951002,2228,  1.0255, -44.7673,   20,   1597.2,2,   4.1297,2,  34.9873,2,  34.9892,2,    245.7,2,    244.2,2,    16.43,2,    20.91,2,     0.00,2,     1.30,2,    0.197,2,    0.107,2,   -999.0,9,   -999.0,9,   -999.0,9,  -999.00,9,  3.9990, -999.00,9, 1598.0,2, -999.00,9
35LLETAMBOT1_2,  AR04,    68,  1,     15,   15.0,2,19951002,2228,  1.0255, -44.7673,   20,   1696.5,2,   4.0536,2,  34.9885,2,  34.9894,2,    247.7,2,    245.2,2,    16.28,2,    20.77,2,     0.00,2,     1.30,2,    0.194,2,    0.104,2,   -999.0,9,   -999.0,9,   -999.0,9,  -999.00,9,  3.9145, -999.00,9, 1698.0,2, -999.00,9
35LLETAMBOT1_2,  AR04,    68,  1,     14,   14.0,2,19951002,2228,  1.0255, -44.7673,   20,   1797.6,2,   3.9871,2,  34.9863,2,  34.9868,2,    249.5,2,    248.6,2,    16.58,2,    20.61,2,     0.00,2,     1.29,2,    0.168,2,    0.097,2,   -999.0,9,   -999.0,9,   -999.0,9,  -999.00,9,  3.8393, -999.00,9, 1799.0,2, -999.00,9
35LLETAMBOT1_2,  AR04,    68,  1,     13,   13.0,2,19951002,2228,  1.0255, -44.7673,   20,   1995.2,2,   3.5758,2,  34.9792,2,  34.9833,2,    258.8,2,    258.0,2,    16.83,2,    19.70,2,     0.00,2,     1.22,2,    0.212,2,    0.107,2,   -999.0,9,   -999.0,9,   -999.0,9,  -999.00,9,  3.4150, -999.00,9, 1996.0,2, -999.00,9
35LLETAMBOT1_2,  AR04,    68,  1,     12,   12.0,2,19951002,2228,  1.0255, -44.7673,   20,   2197.8,2,   3.2679,2,  34.9640,2,  34.9642,2,    259.2,2,    259.5,2,    20.29,2,    19.93,2,     0.00,2,     1.24,2,    0.135,2,    0.071,2,   -999.0,9,   -999.0,9,   -999.0,9,  -999.00,9,  3.0926, -999.00,9, 2199.0,2, -999.00,9
35LLETAMBOT1_2,  AR04,    68,  1,     11,   11.0,2,19951002,2228,  1.0255, -44.7673,   20,   2397.6,2,   3.1639,2,  34.9569,2,  34.9601,2,    259.8,2,    260.0,2,    21.39,2,    20.00,2,     0.00,2,     1.25,2,    0.117,2,    0.061,2,   -999.0,9,   -999.0,9,   -999.0,9,  -999.00,9,  2.9710, -999.00,9, 2400.0,2, -999.00,9
35LLETAMBOT1_2,  AR04,    68,  1,     10,   10.0,2,19951002,2228,  1.0255, -44.7673,   20,   2697.8,2,   2.8884,2,  34.9412,2,  34.9413,2,    260.4,2,    260.6,2,    24.32,2,    20.07,2,     0.00,2,     1.26,2,    0.134,2,    0.069,2,   -999.0,9,   -999.0,9,   -999.0,9,  -999.00,9,  2.6709, -999.00,9, 2700.0,2, -999.00,9
35LLETAMBOT1_2,  AR04,    68,  1,      9,    9.0,2,19951002,2228,  1.0255, -44.7673,   20,   2799.7,2,   2.8507,2,  34.9365,2,  34.9373,2,    258.5,2,    257.9,2,    26.90,2,    20.52,2,     0.00,2,     1.30,2,    0.067,2,    0.034,2,   -999.0,9,   -999.0,9,   -999.0,9,  -999.00,9,  2.6237, -999.00,9, 2801.0,2, -999.00,9
35LLETAMBOT1_2,  AR04,    68,  1,      8,    8.0,2,19951002,2228,  1.0255, -44.7673,   20,   3001.5,2,   2.7469,2,  34.9301,2,  34.9287,2,    259.7,2,    259.4,2,    27.96,2,    20.50,2,     0.00,2,     1.30,2,    0.087,2,    0.041,2,   -999.0,9,   -999.0,9,   -999.0,9,  -999.00,9,  2.5015, -999.00,9, 3003.0,2, -999.00,9
35LLETAMBOT1_2,  AR04,    68,  1,      7,    7.0,2,19951002,2228,  1.0255, -44.7673,   20,   3299.1,2,   2.4949,2,  34.9137,2,  34.9110,3,    262.1,2,    262.2,2,    29.81,2,    20.32,2,     0.00,2,     1.29,2,    0.157,2,    0.077,2,   -999.0,9,   -999.0,9,   -999.0,9,  -999.00,9,  2.2241, -999.00,9, 3301.0,2, -999.00,9
35LLETAMBOT1_2,  AR04,    68,  1,      6,    6.0,2,19951002,2228,  1.0255, -44.7673,   20,   3500.7,2,   2.4025,2,  34.9071,2,  34.9048,3,    263.4,2,    263.6,2,    30.66,2,    20.23,2,     0.00,2,     1.29,2,    0.177,2,    0.091,2,   -999.0,9,   -999.0,9,   -999.0,9,  -999.00,9,  2.1124, -999.00,9, 3502.0,2, -999.00,9
35LLETAMBOT1_2,  AR04,    68,  1,      5,    5.0,2,19951002,2228,  1.0255, -44.7673,   20,   3599.0,2,   2.3944,2,  34.9062,2,  34.9039,3,    264.1,2,    263.3,2,    30.75,2,    20.22,2,     0.00,2,     1.29,2,    0.177,2,    0.095,2,   -999.0,9,   -999.0,9,   -999.0,9,  -999.00,9,  2.0939, -999.00,9, 3601.0,2, -999.00,9
35LLETAMBOT1_2,  AR04,    68,  1,      4,    4.0,2,19951002,2228,  1.0255, -44.7673,   20,   3599.4,2,   2.3942,2,  34.9062,2,  34.9056,2,    264.1,2,    263.2,2,    32.13,4,    20.28,2,     0.00,2,     1.29,2,    0.174,2,    0.087,2,   -999.0,9,   -999.0,9,   -999.0,9,  -999.00,9,  2.0936, -999.00,9, 3601.0,2, -999.00,9
35LLETAMBOT1_2,  AR04,    68,  1,      3,    3.0,2,19951002,2228,  1.0255, -44.7673,   20,   3700.3,2,   2.3575,2,  34.9034,2,  34.9030,2,    263.7,2,    263.1,2,    32.32,2,    20.28,2,     0.00,2,     1.29,2,    0.172,2,    0.090,2,   -999.0,9,   -999.0,9,   -999.0,9,  -999.00,9,  2.0468, -999.00,9, 3701.0,2, -999.00,9
35LLETAMBOT1_2,  AR04,    68,  1,      2,    2.0,2,19951002,2228,  1.0255, -44.7673,   20,   3801.1,2,   2.3289,2,  34.9007,2,  34.8991,2,    262.6,2,    263.8,2,    32.55,2,    20.32,2,     0.00,2,     1.30,2,    0.174,2,    0.093,2,   -999.0,9,   -999.0,9,   -999.0,9,  -999.00,9,  2.0078, -999.00,9, 3802.0,2, -999.00,9
35LLETAMBOT1_2,  AR04,    68,  1,      1,    1.0,2,19951002,2228,  1.0255, -44.7673,   20,   3842.3,2,   2.3304,2,  34.9005,2,  34.8991,2,    261.9,2,    263.0,2,    32.53,2,    20.33,2,     0.00,2,     1.30,2,    0.174,2,    0.092,2,   -999.0,9,   -999.0,9,   -999.0,9,  -999.00,9,  2.0047, -999.00,9, 3843.0,2, -999.00,9