BOTTLE,20220929CCHSIOAMB
EXPOCODE,SECT_ID,STNNBR,CASTNO,SAMPNO,BTLNBR,BTLNBR_FLAG_W,DATE,TIME,LATITUDE,LONGITUDE,DEPTH,CTDPRS,CTDPRS_FLAG_W,CTDTMP,CTDTMP_FLAG_W,CTDSAL,CTDSAL_FLAG_W,SALNTY,SALNTY_FLAG_W,CTDOXY,CTDOXY_FLAG_W,OXYGEN,OXYGEN_FLAG_W,SILCAT,SILCAT_FLAG_W,NITRAT,NITRAT_FLAG_W,NITRIT,NITRIT_FLAG_W,PHSPHT,PHSPHT_FLAG_W,CFC-11,CFC-11_FLAG_W,CFC-12,CFC-12_FLAG_W,TCARBN,TCARBN_FLAG_W,PCO2,PCO2_FLAG_W,ALKALI,ALKALI_FLAG_W,PH,PH_FLAG_W,THETA,CHLORA,CHLORA_FLAG_W,CTDRAW,CTDRAW_FLAG_W,PPHYTN,PPHYTN_FLAG_W
,,,,,,,,,,,,DBAR,,DEG C,,PSS-78,,PSS-78,,UMOL/KG,,UMOL/KG,,UMOL/KG,,UMOL/KG,,UMOL/KG,,UMOL/KG,,PMOL/KG,,PMOL/KG,,UMOL/KG,,UATM,,UMOL/KG,,,,DEG C,UG/L,,DBAR,,UG/L,
35LLETAMBOT1_2,  AR04,    59,  1,     12,   12.0,2,19950928,2130, -4.6963, -35.1142,   20,      2.8,2,  26.0788,2,  36.1301,2,  36.1282,2,    203.0,2,    204.1,2,     0.34,2,     0.12,2,     0.00,2,     0.06,2, -999.000,9, -999.000,9,   2033.4,2,    372.8,2,   2399.2,2,     8.07,2, 26.0782,    0.07,2,    5.0,2,    0.01,2
35LLETAMBOT1_2,  AR04,    59,  1,     11,   11.0,2,19950928,2130, -4.6963, -35.1142,   20,    100.0,2,  25.6849,2,  37.3222,2,  37.1424,2,    202.7,2,    200.8,2,     0.51,2,     0.20,2,     0.01,2,     0.09,2, -999.000,9, -999.000,9,   2076.5,2,   -999.0,9,   2451.6,2,     8.07,2, 25.6626, -999.00,9,  101.0,2, -999.00,9
35LLETAMBOT1_2,  AR04,    59,  1,     10,   10.0,2,19950928,2130, -4.6963, -35.1142,   20,    148.5,2,  16.0564,2,  35.6062,2,  35.6452,2,    201.5,2,    196.7,2,     2.25,2,     6.33,2,     0.01,2,     0.51,2, -999.000,9, -999.000,9,   2077.2,2,   -999.0,9,   2341.5,2,     8.08,2, 16.0328, -999.00,9,  150.0,2, -999.00,9
35LLETAMBOT1_2,  AR04,    59,  1,      9,    9.0,2,19950928,2130, -4.6963, -35.1142,   20,    299.2,2,   9.1981,2,  34.7431,2,  34.7189,2,    167.0,2,    177.1,2,    11.47,2,    23.21,2,     0.00,2,     1.55,2, -999.000,9, -999.000,9,   2150.0,2,   -999.0,9,   2305.3,2,     7.97,2,  9.1651, -999.00,9,  301.0,2, -999.00,9
35LLETAMBOT1_2,  AR04,    59,  1,      8,    8.0,2,19950928,2130, -4.6963, -35.1142,   20,    396.6,2,   8.4067,2,  34.7073,2,  34.7308,2,    147.2,2,    110.1,2,    15.64,2,    31.77,2,     0.00,2,     2.02,2, -999.000,9, -999.000,9,   2201.5,2,   -999.0,9,   2307.3,2,     7.85,2,  8.3650, -999.00,9,  398.0,2, -999.00,9
35LLETAMBOT1_2,  AR04,    59,  1,      7,    7.0,2,19950928,2130, -4.6963, -35.1142,   20,    496.5,2,   7.5643,2,  34.6424,2,  34.6039,2,    123.0,2,    142.8,2,    17.60,2,    30.92,2,     0.00,2,     2.01,2, -999.000,9, -999.000,9,   2158.0,3,   -999.0,9,   2270.1,3,     7.88,2,  7.5150, -999.00,9,  498.0,2, -999.00,9
35LLETAMBOT1_2,  AR04,    59,  1,      6,    6.0,2,19950928,2130, -4.6963, -35.1142,   20,    598.2,2,   6.3352,2,  34.5315,2,  34.4859,2,    131.8,2,    152.6,2,    23.96,2,    33.40,2,     0.00,2,     2.24,2,    0.404,2,    0.183,2,   2174.0,3,   -999.0,9,   2276.9,3,     7.87,2,  6.2810, -999.00,9,  600.0,2, -999.00,9
35LLETAMBOT1_2,  AR04,    59,  1,      5,    5.0,2,19950928,2130, -4.6963, -35.1142,   20,    698.1,2,   5.1601,2,  34.4620,2,  34.4621,2,    161.4,2,    162.6,2,    26.41,2,    33.13,2,     0.00,2,     2.23,2,    0.365,2,    0.170,2,   2163.4,3,   -999.0,9,   2265.9,3,     7.88,2,  5.1027, -999.00,9,  700.0,2, -999.00,9
35LLETAMBOT1_2,  AR04,    59,  1,      4,    4.0,2,19950928,2130, -4.6963, -35.1142,   20,    797.4,2,   4.4274,2,  34.4488,2,  34.4520,2,    173.2,2,    174.9,2,    31.39,2,    33.05,2,     0.00,2,     2.25,2,    0.271,2,    0.120,2,   2162.6,3,   -999.0,9,   2267.0,3,     7.90,2,  4.3657, -999.00,9,  799.0,2, -999.00,9
35LLETAMBOT1_2,  AR04,    59,  1,      3,    3.0,2,19950928,2130, -4.6963, -35.1142,   20,    896.6,2,   4.1631,2,  34.4777,2,  34.4880,2,    176.1,2,    175.8,2,    33.16,2,    32.85,2,     0.00,2,     2.24,2,    0.213,2,    0.084,2,   2164.0,3,   -999.0,9,   2271.3,3,     7.90,2,  4.0949, -999.00,9,  897.0,2, -999.00,9
35LLETAMBOT1_2,  AR04,    59,  1,      2,    2.0,2,19950928,2130, -4.6963, -35.1142,   20,    896.8,2,   4.1580,2,  34.4785,2,  34.4878,2,    176.0,2,    176.5,2,    33.05,2,    32.84,2,     0.00,2,     2.24,2,    0.203,2,    0.085,2,   2158.0,3,   -999.0,9,   2262.7,3,     7.90,2,  4.0898, -999.00,9,  898.0,2, -999.00,9
35LLETAMBOT1_2,  AR04,    59,  1,      1,    1.0,2,19950928,2130, -4.6963, -35.1142,   20,    947.4,2,   4.1387,2,  34.5876,2,  34.6104,2,    171.4,2,    172.2,2,    31.66,2,    31.99,2,     0.00,2,     2.18,2, -999.000,9,    0.030,2,   2157.6,3,   -999.0,9,   2264.8,3,     7.90,2,  4.0662, -999.00,9,  949.0,2, -999.00,9
35LLETAMBOT1_2,  AR04,    60,  1,     22,   22.0,2,19950929,0027, -4.5178, -35.0770,   20,     10.2,2,  26.0197,2,  36.1270,2,  36.1253,2,    202.1,2,    204.3,2,     0.29,2,     0.04,2,     0.00,2,     0.06,2, -999.000,9, -999.000,9,   -999.0,9,    372.4,2,   -999.0,9,  -999.00,9, 26.0174, -999.00,9,   12.0,2, -999.00,9
35LLETAMBOT1_2,  AR04,    60,  1,     21,   21.0,2,19950929,0027, -4.5178, -35.0770,   20,     60.0,2,  25.9735,2,  36.1594,2,  36.2067,2,    205.2,2,    204.0,2,     0.32,2,     0.07,2,     0.00,2,     0.04,2, -999.000,9, -999.000,9,   -999.0,9,   -999.0,9,   -999.0,9,  -999.00,9, 25.9601, -999.00,9,   62.0,2, -999.00,9
35LLETAMBOT1_2,  AR04,    60,  1,     20,   20.0,2,19950929,0027, -4.5178, -35.0770,   20,    119.6,2,  24.3634,2,  37.0394,2,  36.5193,2,    207.4,2,    190.6,2,     0.77,2,     1.50,2,     0.06,2,     0.24,2, -999.000,9, -999.000,9,   -999.0,9,   -999.0,9,   -999.0,9,  -999.00,9, 24.3377, -999.00,9,  121.0,2, -999.00,9
35LLETAMBOT1_2,  AR04,    60,  1,     19,   19.0,2,19950929,0027, -4.5178, -35.0770,   20,    197.7,2,  13.0028,2,  35.1631,2,  35.0729,2,    188.9,2,    176.2,2,     5.61,2,    15.97,2,     0.01,2,     1.09,2, -999.000,9, -999.000,9,   -999.0,9,   -999.0,9,   -999.0,9,  -999.00,9, 12.9756, -999.00,9,  199.0,2, -999.00,9
35LLETAMBOT1_2,  AR04,    60,  1,     18,   18.0,2,19950929,0027, -4.5178, -35.0770,   20,    297.4,2,   9.6669,2,  34.8455,2,  34.8463,2,    124.8,2,    127.6,2,    11.86,2,    26.83,2,     0.01,2,     1.75,2, -999.000,9, -999.000,9,   -999.0,9,   -999.0,9,   -999.0,9,  -999.00,9,  9.6330, -999.00,9,  299.0,2, -999.00,9
35LLETAMBOT1_2,  AR04,    60,  1,     17,   17.0,2,19950929,0027, -4.5178, -35.0770,   20,    397.7,2,   8.1433,2,  34.6935,2,  34.7023,2,    124.6,2,    127.1,2,    15.02,2,    29.52,2,     0.02,2,     1.93,2, -999.000,9, -999.000,9,   -999.0,9,   -999.0,9,   -999.0,9,  -999.00,9,  8.1023, -999.00,9,  399.0,2, -999.00,9
35LLETAMBOT1_2,  AR04,    60,  1,     16,   16.0,2,19950929,0027, -4.5178, -35.0770,   20,    597.9,2,   6.0864,2,  34.5128,2,  34.5133,2,    146.3,2,    144.8,2,    21.70,2,    32.89,2,     0.01,2,     2.18,2,    0.437,2,    0.188,2,   -999.0,9,   -999.0,9,   -999.0,9,  -999.00,9,  6.0333, -999.00,9,  600.0,2, -999.00,9
35LLETAMBOT1_2,  AR04,    60,  1,     15,   15.0,2,19950929,0027, -4.5178, -35.0770,   20,    797.9,2,   4.4132,2,  34.4242,2,  34.4257,2,    174.3,2,    174.2,2,    31.47,2,    33.06,2,     0.01,2,     2.24,2,    0.251,2,    0.109,2,   -999.0,9,   -999.0,9,   -999.0,9,  -999.00,9,  4.3516, -999.00,9,  800.0,2, -999.00,9
35LLETAMBOT1_2,  AR04,    60,  1,     14,   14.0,2,19950929,0027, -4.5178, -35.0770,   20,    996.0,2,   3.9986,2,  34.5109,2,  34.5107,2,    176.5,2,    174.9,2,    35.36,2,    32.55,2,     0.01,2,     2.23,2,    0.114,2,    0.041,2,   -999.0,9,   -999.0,9,   -999.0,9,  -999.00,9,  3.9233, -999.00,9,  997.0,2, -999.00,9
35LLETAMBOT1_2,  AR04,    60,  1,     13,   13.0,2,19950929,0027, -4.5178, -35.0770,   20,   1196.1,2,   4.3609,2,  34.7700,2,  34.7516,2,    179.5,2,    177.2,2,    27.57,2,    28.98,2,     0.01,2,     1.99,2,    0.022,2,    0.008,2,   -999.0,9,   -999.0,9,   -999.0,9,  -999.00,9,  4.2648, -999.00,9, 1197.0,2, -999.00,9
35LLETAMBOT1_2,  AR04,    60,  1,     12,   12.0,2,19950929,0027, -4.5178, -35.0770,   20,   1496.7,2,   4.3196,2,  34.9455,2,  34.9486,2,    222.1,2,    223.4,2,    18.23,2,    22.16,2,     0.01,2,     1.48,2,    0.110,2,    0.050,2,   -999.0,9,   -999.0,9,   -999.0,9,  -999.00,9,  4.1962, -999.00,9, 1498.0,2, -999.00,9
35LLETAMBOT1_2,  AR04,    60,  1,     11,   11.0,2,19950929,0027, -4.5178, -35.0770,   20,   1596.8,2,   4.0676,2,  34.9788,2,  34.9764,2,    241.8,2,    238.8,2,    16.55,2,    20.33,2,     0.01,2,     1.36,2,    0.145,2,    0.065,2,   -999.0,9,   -999.0,9,   -999.0,9,  -999.00,9,  3.9377, -999.00,9, 1599.0,2, -999.00,9
35LLETAMBOT1_2,  AR04,    60,  1,     10,   10.0,2,19950929,0027, -4.5178, -35.0770,   20,   1696.9,2,   3.8990,2,  34.9815,2,  34.9816,2,    246.2,2,    246.9,2,    16.33,2,    19.60,2,     0.01,2,     1.29,2,    0.167,2,    0.075,2,   -999.0,9,   -999.0,9,   -999.0,9,  -999.00,9,  3.7618, -999.00,9, 1698.0,2, -999.00,9
35LLETAMBOT1_2,  AR04,    60,  1,      9,    9.0,2,19950929,0027, -4.5178, -35.0770,   20,   1796.6,2,   3.7468,2,  34.9786,2,  34.9779,2,    251.2,2,    252.4,2,    17.26,2,    19.24,2,     0.01,2,     1.27,2,    0.159,2,    0.076,2,   -999.0,9,   -999.0,9,   -999.0,9,  -999.00,9,  3.6023, -999.00,9, 1798.0,2, -999.00,9
35LLETAMBOT1_2,  AR04,    60,  1,      8,    8.0,2,19950929,0027, -4.5178, -35.0770,   20,   1897.4,2,   3.5953,2,  34.9753,2,  34.9747,2,    254.4,2,    255.9,2,    18.06,2,    18.93,2,     0.01,2,     1.25,2,    0.152,2,    0.070,2,   -999.0,9,   -999.0,9,   -999.0,9,  -999.00,9,  3.4435, -999.00,9, 1898.0,2, -999.00,9
35LLETAMBOT1_2,  AR04,    60,  1,      7,    7.0,2,19950929,0027, -4.5178, -35.0770,   20,   1997.9,2,   3.5258,2,  34.9729,2,  34.9731,2,    255.7,2,    256.4,2,    18.23,2,    19.01,2,     0.01,2,     1.25,2,    0.146,2,    0.070,2,   -999.0,9,   -999.0,9,   -999.0,9,  -999.00,9,  3.3655, -999.00,9, 1999.0,2, -999.00,9
35LLETAMBOT1_2,  AR04,    60,  1,      6,    6.0,2,19950929,0027, -4.5178, -35.0770,   20,   2197.3,2,   3.3711,2,  34.9669,2,  34.9667,2,    257.8,2,    257.3,2,    19.45,2,    19.01,2,     0.01,2,     1.25,2,    0.114,2,    0.054,2,   -999.0,9,   -999.0,9,   -999.0,9,  -999.00,9,  3.1941, -999.00,9, 2199.0,2, -999.00,9
35LLETAMBOT1_2,  AR04,    60,  1,      5,    5.0,2,19950929,0027, -4.5178, -35.0770,   20,   2399.8,2,   3.1029,2,  34.9520,2,  34.9530,2,    258.1,2,    257.5,2,    22.43,2,    19.30,2,     0.01,2,     1.27,2,    0.080,2,    0.042,2,   -999.0,9,   -999.0,9,   -999.0,9,  -999.00,9,  2.9109, -999.00,9, 2401.0,2, -999.00,9
35LLETAMBOT1_2,  AR04,    60,  1,      3,    3.0,2,19950929,0027, -4.5178, -35.0770,   20,   2598.3,2,   2.9052,2,  34.9405,2,  34.9411,2,    257.1,2,    258.1,2,    25.08,2,    19.45,2,     0.01,2,     1.28,2,    0.078,2,    0.036,2,   -999.0,9,   -999.0,9,   -999.0,9,  -999.00,9,  2.6973, -999.00,9, 2600.0,2, -999.00,9
35LLETAMBOT1_2,  AR04,    60,  1,      4,    4.0,2,19950929,0027, -4.5178, -35.0770,   20,   2598.3,2,   2.9052,2,  34.9405,2,  34.9416,2,    257.1,2,    258.0,2,    25.06,2,    19.43,2,     0.01,2,     1.28,2,    0.073,2,    0.033,2,   -999.0,9,   -999.0,9,   -999.0,9,  -999.00,9,  2.6973, -999.00,9, 2600.0,2, -999.00,9
35LLETAMBOT1_2,  AR04,    60,  1,      2,    2.0,2,19950929,0027, -4.5178, -35.0770,   20,   2797.5,2,   2.7794,2,  34.9312,2,  34.9313,2,    256.3,2,    258.7,2,    27.47,2,    19.74,2,     0.01,2,     1.30,2,    0.065,2,    0.027,2,   -999.0,9,   -999.0,9,   -999.0,9,  -999.00,9,  2.5541, -999.00,9, 2799.0,2, -999.00,9
35LLETAMBOT1_2,  AR04,    60,  1,      1,    1.0,2,19950929,0027, -4.5178, -35.0770,   20,   3030.0,2,   2.7215,2,  34.9261,2,  34.9246,2,    256.0,2,    258.0,2,    28.92,2,    19.89,2,     0.01,2,     1.31,2,    0.080,2,    0.029,2,   -999.0,9,   -999.0,9,   -999.0,9,  -999.00,9,  2.4737, -999.00,9, 3031.0,2, -999.00,9
35LLETAMBOT1_2,  AR04,    61,  1,     24,   24.0,2,19950929,0631, -4.0002, -34.9997,   20,      3.9,2,  26.3091,2,  36.2256,2,  36.2090,2,    199.6,2,    203.1,2,     0.53,2,     0.00,2,     0.00,2,     0.07,2, -999.000,9, -999.000,9,   2040.5,2,    368.9,2,   2412.6,2,     8.08,2, 26.3082,    0.07,2,    6.0,2,    0.01,2
35LLETAMBOT1_2,  AR04,    61,  1,     23,   23.0,2,19950929,0631, -4.0002, -34.9997,   20,     74.9,2,  26.2562,2,  36.2139,2,  36.2100,2,    202.4,2,    202.5,2,     0.51,2,     0.00,2,     0.00,2,     0.06,2, -999.000,9, -999.000,9,   2045.0,2,   -999.0,9,   2416.1,2,     8.07,2, 26.2393, -999.00,9,   77.0,2, -999.00,9
35LLETAMBOT1_2,  AR04,    61,  1,     22,   22.0,2,19950929,0631, -4.0002, -34.9997,   20,    119.2,2,  20.5169,2,  36.3203,2,  36.5650,2,    179.2,2,    182.7,2,     0.97,2,     2.09,2,     0.08,2,     0.34,2, -999.000,9, -999.000,9,   2133.1,2,   -999.0,9,   2450.1,2,     8.07,2, 20.4943, -999.00,9,  121.0,2, -999.00,9
35LLETAMBOT1_2,  AR04,    61,  1,     21,   21.0,2,19950929,0631, -4.0002, -34.9997,   20,    198.8,2,  14.1030,2,  35.4204,2,  35.4020,2,    111.2,2,    106.4,2,     6.43,2,    21.32,2,     0.01,2,     1.37,2, -999.000,9, -999.000,9,   2195.6,2,   -999.0,9,   2362.8,2,     7.91,2, 14.0740, -999.00,9,  200.0,2, -999.00,9
35LLETAMBOT1_2,  AR04,    61,  1,     20,   20.0,2,19950929,0631, -4.0002, -34.9997,   20,    297.1,2,   9.8191,2,  34.8915,2,  34.9041,2,     89.5,2,     88.9,2,    12.58,2,    30.60,2,     0.00,2,     1.90,2, -999.000,9, -999.000,9,   2235.9,3,   -999.0,9,   2345.7,3,     7.83,2,  9.7849, -999.00,9,  299.0,2, -999.00,9
35LLETAMBOT1_2,  AR04,    61,  1,     19,   19.0,2,19950929,0631, -4.0002, -34.9997,   20,    396.3,2,   8.5060,2,  34.7532,2,  34.7471,2,     96.5,2,     93.4,2,    15.94,2,    33.46,2,     0.00,2,     2.10,2, -999.000,9, -999.000,9,   2247.8,3,   -999.0,9,   2342.5,3,     7.81,2,  8.4640, -999.00,9,  398.0,2, -999.00,9
35LLETAMBOT1_2,  AR04,    61,  1,     18,   18.0,2,19950929,0631, -4.0002, -34.9997,   20,    597.8,2,   6.1130,2,  34.5385,2,  34.5392,2,    127.0,2,    127.9,2,    22.54,2,    34.89,2,     0.00,2,     2.25,2,    0.221,2,    0.105,2,   2227.3,2,   -999.0,9,   2320.1,2,     7.84,2,  6.0598, -999.00,9,  599.0,2, -999.00,9
35LLETAMBOT1_2,  AR04,    61,  1,     17,   17.0,2,19950929,0631, -4.0002, -34.9997,   20,    798.0,2,   4.7144,2,  34.4672,2,  34.4690,2,    155.3,2,    156.1,2,    30.09,2,    34.64,2,     0.00,2,     2.30,2,    0.133,2,    0.059,2,   2225.2,2,   -999.0,9,   2325.4,2,     7.87,2,  4.6509, -999.00,9,  800.0,2, -999.00,9
35LLETAMBOT1_2,  AR04,    61,  1,     16,   16.0,2,19950929,0631, -4.0002, -34.9997,   20,    997.4,2,   4.1974,2,  34.5545,2,  34.5711,2,    161.8,2,    163.3,2,    32.89,2,    33.41,2,     0.00,2,     2.24,2,    0.036,2,    0.017,2,   2211.0,2,   -999.0,9,   2314.1,2,     7.88,2,  4.1204, -999.00,9, 1000.0,2, -999.00,9
35LLETAMBOT1_2,  AR04,    61,  1,     15,   15.0,2,19950929,0631, -4.0002, -34.9997,   20,   1196.6,2,   4.4399,2,  34.7872,2,  34.7853,2,    181.9,2,    181.2,2,    25.29,2,    28.72,2,     0.00,2,     1.90,2,    0.045,2,    0.022,2,   2209.8,2,   -999.0,9,   2333.1,2,     7.92,2,  4.3430, -999.00,9, 1198.0,2, -999.00,9
35LLETAMBOT1_2,  AR04,    61,  1,     14,   14.0,2,19950929,0631, -4.0002, -34.9997,   20,   1396.8,2,   4.3628,2,  34.9400,2,  34.9428,2,    219.5,2,    222.2,2,    18.46,2,    22.94,2,     0.00,2,     1.49,2,    0.108,2,    0.054,2,   2168.6,2,   -999.0,9,   2319.2,2,     7.99,2,  4.2482, -999.00,9, 1399.0,2, -999.00,9
35LLETAMBOT1_2,  AR04,    61,  1,     13,   13.0,2,19950929,0631, -4.0002, -34.9997,   20,   1497.6,2,   4.1285,2,  34.9746,2,  34.9730,2,    237.7,2,    236.1,2,    17.06,2,    21.15,2,     0.00,2,     1.36,2,    0.155,2,    0.081,2,   2158.9,2,   -999.0,9,   2319.1,2,     8.01,2,  4.0071, -999.00,9, 1499.0,2, -999.00,9
35LLETAMBOT1_2,  AR04,    61,  1,     12,   12.0,2,19950929,0631, -4.0002, -34.9997,   20,   1597.0,2,   3.9900,2,  34.9817,2,  34.9807,2,    245.8,2,    246.2,2,    16.91,2,    20.22,2,     0.00,2,     1.29,2,    0.190,2,    0.095,2,   2153.9,2,   -999.0,9,   2318.7,2,     8.02,2,  3.8610, -999.00,9, 1599.0,2, -999.00,9
35LLETAMBOT1_2,  AR04,    61,  1,     11,   11.0,2,19950929,0631, -4.0002, -34.9997,   20,   1696.3,2,   3.9238,2,  34.9816,2,  34.9800,2,    247.5,2,    249.8,2,    17.37,2,    20.08,2,     0.01,2,     1.28,2,    0.187,2,    0.091,2,   2160.9,2,   -999.0,9,   2325.7,2,     8.02,2,  3.7864, -999.00,9, 1698.0,2, -999.00,9
35LLETAMBOT1_2,  AR04,    61,  1,     10,   10.0,2,19950929,0631, -4.0002, -34.9997,   20,   1795.3,2,   3.7304,2,  34.9797,2,  34.9774,2,    251.7,2,    251.8,2,    17.54,2,    19.66,2,     0.01,2,     1.25,2,    0.162,2,    0.077,2,   2140.3,3,   -999.0,9,   2305.7,3,     8.02,2,  3.5863, -999.00,9, 1796.0,2, -999.00,9
35LLETAMBOT1_2,  AR04,    61,  1,      9,    9.0,2,19950929,0631, -4.0002, -34.9997,   20,   1997.6,2,   3.4667,2,  34.9705,2,  34.9668,2,    255.4,2,    258.6,2,    19.63,2,    19.52,2,     0.01,2,     1.24,2,    0.145,2,    0.069,2,   2142.2,3,   -999.0,9,   2309.1,3,     8.02,2,  3.3073, -999.00,9, 1998.0,2, -999.00,9
35LLETAMBOT1_2,  AR04,    61,  1,      8,    8.0,2,19950929,0631, -4.0002, -34.9997,   20,   2397.5,2,   3.1446,2,  34.9547,2,-999.0000,9,    256.5,2,   -999.0,9,    22.53,2,    19.55,2,     0.01,2,     1.24,2,    0.109,2,    0.050,2,   2159.3,3,   -999.0,9,   2328.6,3,     8.02,2,  2.9521, -999.00,9, 2398.0,2, -999.00,9
35LLETAMBOT1_2,  AR04,    61,  1,      7,    7.0,2,19950929,0631, -4.0002, -34.9997,   20,   2599.2,2,   2.9430,2,  34.9426,2,  34.9434,2,    257.0,2,    258.3,2,    25.55,2,    19.86,2,     0.01,2,     1.26,2,    0.095,2,    0.043,2,   2148.3,3,   -999.0,9,   2316.9,3,     8.01,2,  2.7343, -999.00,9, 2601.0,2, -999.00,9
35LLETAMBOT1_2,  AR04,    61,  1,      5,    5.0,2,19950929,0631, -4.0002, -34.9997,   20,   2798.4,2,   2.8468,2,  34.9360,2,  34.9363,2,    259.3,2,    258.3,2,    26.47,2,    19.93,2,     0.00,2,     1.27,2,    0.076,2,    0.038,2,   2142.2,3,   -999.0,9,   2312.3,3,     8.01,2,  2.6201, -999.00,9, 2800.0,2, -999.00,9
35LLETAMBOT1_2,  AR04,    61,  1,      6,    6.0,2,19950929,0631, -4.0002, -34.9997,   20,   2798.4,2,   2.8468,2,  34.9360,2,  34.9358,2,    259.3,2,    258.3,2,    27.15,2,    19.93,2,     0.01,2,     1.27,2,    0.088,2,    0.044,2,   2137.2,3,   -999.0,9,   2306.4,3,     8.01,2,  2.6201, -999.00,9, 2800.0,2, -999.00,9
35LLETAMBOT1_2,  AR04,    61,  1,      4,    4.0,2,19950929,0631, -4.0002, -34.9997,   20,   2999.8,2,   2.6708,2,  34.9231,2,  34.9243,2,    258.0,2,    257.2,2,    29.69,2,    20.29,2,     0.01,2,     1.29,2,    0.075,2,    0.035,2,   2145.5,3,   -999.0,9,   2315.2,3,     8.00,2,  2.4272, -999.00,9, 3001.0,2, -999.00,9
35LLETAMBOT1_2,  AR04,    61,  1,      3,    3.0,2,19950929,0631, -4.0002, -34.9997,   20,   3199.2,2,   2.6260,2,  34.9195,2,  34.9200,2,    257.8,2,    257.3,2,    30.54,2,    20.34,2,     0.00,2,     1.30,2,    0.080,2,    0.038,2,   2141.9,3,   -999.0,9,   2311.4,3,     8.00,2,  2.3627, -999.00,9, 3200.0,2, -999.00,9
35LLETAMBOT1_2,  AR04,    61,  1,      2,    2.0,2,19950929,0631, -4.0002, -34.9997,   20,   3352.1,2,   2.5993,2,  34.9178,2,  34.9168,2,    259.0,2,    258.6,2,    30.47,2,    20.27,2,     0.00,2,     1.30,2,    0.085,2,    0.038,2,   2156.6,3,   -999.0,9,   2327.1,3,     7.99,2,  2.3204, -999.00,9, 3353.0,2, -999.00,9
35LLETAMBOT1_2,  AR04,    61,  1,      1,    1.0,2,19950929,0631, -4.0002, -34.9997,   20,   3492.6,2,   2.5607,2,  34.9139,2,  34.9131,2,    260.0,2,    259.0,2,    30.50,2,    20.21,2,     0.00,2,     1.29,2,    0.099,2,    0.045,2,   2143.1,3,   -999.0,9,   2312.6,3,     7.98,2,  2.2676, -999.00,9, 3495.0,2, -999.00,9