BOTTLE,20220929CCHSIOAMB
EXPOCODE,SECT_ID,STNNBR,CASTNO,SAMPNO,BTLNBR,BTLNBR_FLAG_W,DATE,TIME,LATITUDE,LONGITUDE,DEPTH,CTDPRS,CTDPRS_FLAG_W,CTDTMP,CTDTMP_FLAG_W,CTDSAL,CTDSAL_FLAG_W,SALNTY,SALNTY_FLAG_W,CTDOXY,CTDOXY_FLAG_W,OXYGEN,OXYGEN_FLAG_W,SILCAT,SILCAT_FLAG_W,NITRAT,NITRAT_FLAG_W,NITRIT,NITRIT_FLAG_W,PHSPHT,PHSPHT_FLAG_W,CFC-11,CFC-11_FLAG_W,CFC-12,CFC-12_FLAG_W,TCARBN,TCARBN_FLAG_W,PCO2,PCO2_FLAG_W,ALKALI,ALKALI_FLAG_W,PH,PH_FLAG_W,THETA,CHLORA,CHLORA_FLAG_W,CTDRAW,CTDRAW_FLAG_W,PPHYTN,PPHYTN_FLAG_W
,,,,,,,,,,,,DBAR,,DEG C,,PSS-78,,PSS-78,,UMOL/KG,,UMOL/KG,,UMOL/KG,,UMOL/KG,,UMOL/KG,,UMOL/KG,,PMOL/KG,,PMOL/KG,,UMOL/KG,,UATM,,UMOL/KG,,,,DEG C,UG/L,,DBAR,,UG/L,
35LLETAMBOT1_1,  AR15,     6,  1,     18,   18.0,2,19950910,1153,  5.9713, -51.3000,   20,      1.3,2,  28.2767,2,  32.8403,2,  33.3140,2,    204.8,2,    205.8,2,  -999.00,9,  -999.00,9,  -999.00,9,  -999.00,9, -999.000,9, -999.000,9,   1851.4,2,   -999.0,9,   2232.7,2,     8.12,2, 28.2764,    0.05,2,    3.0,2,    0.05,2
35LLETAMBOT1_1,  AR15,     6,  1,     17,   17.0,2,19950910,1153,  5.9713, -51.3000,   20,     39.6,2,  27.0420,2,  36.1506,2,  36.1460,2,    195.6,2,    199.1,2,     0.86,2,     0.21,2,     0.00,2,     0.04,2, -999.000,9, -999.000,9,   2011.3,2,   -999.0,9,   2391.7,2,     8.08,2, 27.0329, -999.00,9,   41.0,2, -999.00,9
35LLETAMBOT1_1,  AR15,     6,  1,     16,   16.0,2,19950910,1153,  5.9713, -51.3000,   20,     72.5,2,  26.4553,2,  36.2960,2,  36.2937,2,    195.1,2,    197.2,2,     0.65,2,     0.24,2,     0.20,2,     0.07,2, -999.000,9, -999.000,9,   2039.4,2,   -999.0,9,   2418.1,2,     8.08,2, 26.4388, -999.00,9,   74.0,2, -999.00,9
35LLETAMBOT1_1,  AR15,     6,  1,     15,   15.0,2,19950910,1153,  5.9713, -51.3000,   20,     97.0,2,  26.2555,2,  36.3049,2,  36.3010,2,    195.8,2,    195.4,2,     0.65,2,     0.34,2,     0.30,2,     0.08,2, -999.000,9, -999.000,9,   2036.6,2,   -999.0,9,   2412.3,2,     8.08,2, 26.2336, -999.00,9,   98.0,2, -999.00,9
35LLETAMBOT1_1,  AR15,     6,  1,     14,   14.0,2,19950910,1153,  5.9713, -51.3000,   20,    172.1,2,  17.4525,2,  35.7605,2,  36.2740,3,    183.4,2,    184.3,2,     1.60,2,     3.42,2,     0.09,2,     0.29,2, -999.000,9, -999.000,9,   2070.1,2,   -999.0,9,   2407.9,2,     8.08,2, 17.4234, -999.00,9,  174.0,2, -999.00,9
35LLETAMBOT1_1,  AR15,     6,  1,     13,   13.0,2,19950910,1153,  5.9713, -51.3000,   20,    247.3,2,  14.0120,2,  35.6041,2,  35.6450,2,    124.3,2,    124.1,2,     7.89,2,    19.26,2,     0.01,2,     1.20,2, -999.000,9, -999.000,9,   2174.9,2,   -999.0,9,   2367.4,2,     7.96,2, 13.9760, -999.00,9,  249.0,2, -999.00,9
35LLETAMBOT1_1,  AR15,     6,  1,     12,   12.0,2,19950910,1153,  5.9713, -51.3000,   20,    398.6,2,   7.5100,2,  34.6187,2,  34.6667,2,    147.8,2,    147.9,2,    18.20,2,    29.63,2,     0.02,2,     1.96,2, -999.000,9, -999.000,9,   2209.1,2,   -999.0,9,   2342.3,2,     7.93,2,  7.4708, -999.00,9,  401.0,2, -999.00,9
35LLETAMBOT1_1,  AR15,     6,  1,     11,   11.0,2,19950910,1153,  5.9713, -51.3000,   20,    596.8,2,   5.8206,2,  34.5852,2,  34.5790,2,    131.7,2,    133.3,2,    25.73,2,    34.94,2,     0.01,2,     2.31,2, -999.000,9, -999.000,9,   2238.2,3,   -999.0,9,   2335.6,3,     7.86,2,  5.7688, -999.00,9,  599.0,2, -999.00,9
35LLETAMBOT1_1,  AR15,     6,  1,     10,   10.0,2,19950910,1153,  5.9713, -51.3000,   20,    797.2,2,   5.0302,2,  34.5856,2,  34.5850,2,    144.6,2,    142.1,2,    29.31,2,    34.26,2,     0.01,2,     2.38,2,    0.023,2,    0.003,2,   2228.8,2,   -999.0,9,   2327.2,2,     7.86,2,  4.9647, -999.00,9,  798.0,2, -999.00,9
35LLETAMBOT1_1,  AR15,     6,  1,      9,    9.0,2,19950910,1153,  5.9713, -51.3000,   20,    898.0,2,   4.8890,2,  34.6296,2,  34.6251,2,    147.4,2,    146.4,2,    29.53,2,    33.53,2,     0.01,2,     2.33,2,    0.033,2,    0.005,2,   2244.9,3,   -999.0,9,   2346.1,3,     7.87,2,  4.8154, -999.00,9,  899.0,2, -999.00,9
35LLETAMBOT1_1,  AR15,     6,  1,      8,    8.0,2,19950910,1153,  5.9713, -51.3000,   20,    996.0,2,   4.8038,2,  34.6730,2,  34.6880,2,    153.9,2,    153.8,2,    28.58,2,    32.28,2,     0.01,2,     2.24,2,   -0.005,2,    0.003,2,   2233.2,2,   -999.0,9,   2340.4,2,     7.88,2,  4.7221, -999.00,9,  997.0,2, -999.00,9
35LLETAMBOT1_1,  AR15,     6,  1,      7,    7.0,2,19950910,1153,  5.9713, -51.3000,   20,   1096.1,2,   4.8706,2,  34.7726,2,  34.7670,2,    160.1,2,    160.4,2,    26.67,2,    30.68,2,     0.01,2,     2.13,2,    0.020,2,    0.003,2,   2228.0,2,   -999.0,9,   2343.6,2,     7.90,2,  4.7791, -999.00,9, 1097.0,2, -999.00,9
35LLETAMBOT1_1,  AR15,     6,  1,      6,    6.0,2,19950910,1153,  5.9713, -51.3000,   20,   1196.3,2,   4.9371,2,  34.8727,2,  34.8750,2,    181.7,2,    182.0,2,    23.14,2,    27.04,2,     0.01,2,     1.86,2,    0.070,2,    0.015,2,   2222.5,2,   -999.0,9,   2355.0,2,     7.94,2,  4.8356, -999.00,9, 1198.0,2, -999.00,9
35LLETAMBOT1_1,  AR15,     6,  1,      4,    4.0,2,19950910,1153,  5.9713, -51.3000,   20,   1397.3,2,   4.6138,2,  35.0140,2,  35.0120,2,    237.5,2,    236.9,2,    15.10,2,    19.75,2,     0.00,2,     1.35,2,    0.372,2,    0.155,2,   2156.9,2,   -999.0,9,   2322.8,2,     8.02,2,  4.4963, -999.00,9, 1399.0,2, -999.00,9
35LLETAMBOT1_1,  AR15,     6,  1,      5,    5.0,2,19950910,1153,  5.9713, -51.3000,   20,   1397.3,2,   4.6119,2,  35.0137,2,  35.0120,2,    237.5,2,    236.6,2,    15.13,2,    19.70,2,     0.01,2,     1.36,2,    0.351,2,    0.153,2,   2143.9,3,   -999.0,9,   2307.4,3,     8.02,2,  4.4944, -999.00,9, 1399.0,2, -999.00,9
35LLETAMBOT1_1,  AR15,     6,  1,      3,    3.0,2,19950910,1153,  5.9713, -51.3000,   20,   1596.4,2,   4.1854,2,  35.0052,2,  35.0040,2,    252.4,2,    252.6,2,    14.16,2,    18.51,2,     0.00,2,     1.26,2,    0.377,2,    0.162,2,   2156.4,2,   -999.0,9,   2326.9,2,     8.03,2,  4.0540, -999.00,9, 1598.0,2, -999.00,9
35LLETAMBOT1_1,  AR15,     6,  1,      2,    2.0,2,19950910,1153,  5.9713, -51.3000,   20,   1896.8,2,   3.7258,2,  34.9880,2,  34.9860,2,    260.5,2,    259.4,2,    15.77,2,    18.14,2,     0.00,2,     1.24,2,    0.258,2,    0.111,2,   2149.2,2,   -999.0,9,   2321.7,2,     8.03,2,  3.5721, -999.00,9, 1898.0,2, -999.00,9
35LLETAMBOT1_1,  AR15,     6,  1,      1,    1.0,2,19950910,1153,  5.9713, -51.3000,   20,   1962.0,2,   3.6708,2,  34.9867,2,  34.9840,2,    260.7,2,    259.9,2,    16.30,2,    18.13,2,     0.00,2,     1.24,2,    0.228,2,    0.103,2,   2151.3,2,   -999.0,9,   2323.9,2,     8.03,2,  3.5117, -999.00,9, 1963.0,2, -999.00,9
35LLETAMBOT1_1,  AR15,     7,  1,     22,   22.0,2,19950910,1524,  6.0412, -51.2392,   15,      0.4,2,  28.5951,2,  35.4811,2,  36.2039,2,    197.3,2,    199.1,2,     2.07,2,     0.00,2,     0.00,2,     0.03,2, -999.000,9, -999.000,9,   -999.0,9,   -999.0,9,   -999.0,9,  -999.00,9, 28.5950,    0.08,2,    2.0,2,    0.01,2
35LLETAMBOT1_1,  AR15,     7,  1,     21,   21.0,2,19950910,1524,  6.0412, -51.2392,   15,     49.8,2,  27.1174,2,  36.1245,2,  36.2977,2,    197.6,2,    198.8,2,     0.57,2,     0.00,2,     0.00,2,     0.05,2, -999.000,9, -999.000,9,   -999.0,9,   -999.0,9,   -999.0,9,  -999.00,9, 27.1059, -999.00,9,   52.0,2, -999.00,9
35LLETAMBOT1_1,  AR15,     7,  1,     20,   20.0,2,19950910,1524,  6.0412, -51.2392,   15,     99.6,2,  26.3525,2,  36.2997,2,  35.8205,2,    192.2,2,    195.4,2,     0.46,2,     0.00,2,     0.30,2,     0.09,2, -999.000,9, -999.000,9,   -999.0,9,   -999.0,9,   -999.0,9,  -999.00,9, 26.3300, -999.00,9,  101.0,2, -999.00,9
35LLETAMBOT1_1,  AR15,     7,  1,     19,   19.0,2,19950910,1524,  6.0412, -51.2392,   15,    199.0,2,  17.3828,2,  35.7913,2,  35.6188,2,    160.0,2,    159.9,2,     4.76,2,    11.30,2,     0.04,2,     0.81,2, -999.000,9, -999.000,9,   -999.0,9,   -999.0,9,   -999.0,9,  -999.00,9, 17.3493, -999.00,9,  201.0,2, -999.00,9
35LLETAMBOT1_1,  AR15,     7,  1,     18,   18.0,2,19950910,1524,  6.0412, -51.2392,   15,    248.4,2,  14.1072,2,  35.6186,2,  35.4385,2,    120.3,2,    124.7,2,     7.94,2,    18.98,2,     0.01,2,     1.24,2, -999.000,9, -999.000,9,   -999.0,9,   -999.0,9,   -999.0,9,  -999.00,9, 14.0709, -999.00,9,  250.0,2, -999.00,9
35LLETAMBOT1_1,  AR15,     7,  1,     17,   17.0,2,19950910,1524,  6.0412, -51.2392,   15,    298.5,2,  12.0653,2,  35.2122,2,  35.2870,2,    135.0,2,    131.5,2,    10.05,2,    21.36,2,     0.01,2,     1.43,2, -999.000,9, -999.000,9,   -999.0,9,   -999.0,9,   -999.0,9,  -999.00,9, 12.0260, -999.00,9,  300.0,2, -999.00,9
35LLETAMBOT1_1,  AR15,     7,  1,     16,   16.0,2,19950910,1524,  6.0412, -51.2392,   15,    497.1,2,   6.0987,2,  34.5593,2,  34.5666,2,    142.3,2,    141.0,2,    23.66,2,    33.09,2,     0.00,2,     2.23,2, -999.000,9, -999.000,9,   -999.0,9,   -999.0,9,   -999.0,9,  -999.00,9,  6.0549, -999.00,9,  499.0,2, -999.00,9
35LLETAMBOT1_1,  AR15,     7,  1,     15,   15.0,2,19950910,1524,  6.0412, -51.2392,   15,    796.6,2,   5.3995,2,  34.6312,2,  34.6305,2,    133.8,2,    132.3,2,    27.66,2,    34.64,2,     0.00,2,     2.35,2, -999.000,9, -999.000,9,   -999.0,9,   -999.0,9,   -999.0,9,  -999.00,9,  5.3317, -999.00,9,  798.0,2, -999.00,9
35LLETAMBOT1_1,  AR15,     7,  1,     14,   14.0,2,19950910,1524,  6.0412, -51.2392,   15,    896.8,2,   5.0735,2,  34.6446,2,  34.6449,2,    142.0,2,    139.4,2,    28.66,2,    34.07,2,     0.00,2,     2.32,2,    0.015,2,    0.003,2,   -999.0,9,   -999.0,9,   -999.0,9,  -999.00,9,  4.9987, -999.00,9,  899.0,2, -999.00,9
35LLETAMBOT1_1,  AR15,     7,  1,     13,   13.0,2,19950910,1524,  6.0412, -51.2392,   15,    997.5,2,   4.7424,2,  34.6626,2,  34.6620,2,    157.8,2,    156.3,2,    29.04,2,    32.41,2,     0.00,2,     2.22,2,    0.012,2,    0.003,2,   -999.0,9,   -999.0,9,   -999.0,9,  -999.00,9,  4.6610, -999.00,9,  999.0,2, -999.00,9
35LLETAMBOT1_1,  AR15,     7,  1,     12,   12.0,2,19950910,1524,  6.0412, -51.2392,   15,   1197.8,2,   4.9417,2,  34.8657,2,  34.8958,2,    179.9,2,    183.7,2,    22.29,2,    26.51,2,     0.01,2,     1.79,2,    0.112,2,    0.058,2,   -999.0,9,   -999.0,9,   -999.0,9,  -999.00,9,  4.8400, -999.00,9, 1199.0,2, -999.00,9
35LLETAMBOT1_1,  AR15,     7,  1,     11,   11.0,2,19950910,1524,  6.0412, -51.2392,   15,   1397.7,2,   4.8383,2,  35.0015,2,  35.0070,2,    224.1,2,    227.6,2,    15.88,2,    20.67,2,     0.00,2,     1.39,2,    0.330,2,    0.140,2,   -999.0,9,   -999.0,9,   -999.0,9,  -999.00,9,  4.7185, -999.00,9, 1399.0,2, -999.00,9
35LLETAMBOT1_1,  AR15,     7,  1,     10,   10.0,2,19950910,1524,  6.0412, -51.2392,   15,   1497.8,2,   4.5191,2,  35.0158,2,  35.0136,2,    243.5,2,    242.3,2,    14.31,2,    19.33,2,     0.00,2,     1.29,2,    0.378,2,    0.165,2,   -999.0,9,   -999.0,9,   -999.0,9,  -999.00,9,  4.3931, -999.00,9, 1499.0,2, -999.00,9
35LLETAMBOT1_1,  AR15,     7,  1,      9,    9.0,2,19950910,1524,  6.0412, -51.2392,   15,   1595.9,2,   4.2120,2,  35.0072,2,  35.0050,2,    253.8,2,    254.3,2,    13.80,2,    18.55,2,     0.00,2,     1.23,2,    0.401,2,    0.169,2,   -999.0,9,   -999.0,9,   -999.0,9,  -999.00,9,  4.0804, -999.00,9, 1597.0,2, -999.00,9
35LLETAMBOT1_1,  AR15,     7,  1,      8,    8.0,2,19950910,1524,  6.0412, -51.2392,   15,   1697.2,2,   3.9762,2,  34.9987,2,  34.9957,2,    258.9,2,    255.7,2,    14.41,2,    18.29,2,     0.00,2,     1.23,2,    0.352,2,    0.155,2,   -999.0,9,   -999.0,9,   -999.0,9,  -999.00,9,  3.8380, -999.00,9, 1699.0,2, -999.00,9
35LLETAMBOT1_1,  AR15,     7,  1,      7,    7.0,2,19950910,1524,  6.0412, -51.2392,   15,   1798.3,2,   3.9606,2,  34.9956,2,  34.9940,2,    257.5,2,    256.6,2,    14.62,2,    18.20,2,     0.01,2,     1.23,2,    0.342,2,    0.144,2,   -999.0,9,   -999.0,9,   -999.0,9,  -999.00,9,  3.8130, -999.00,9, 1800.0,2, -999.00,9
35LLETAMBOT1_1,  AR15,     7,  1,      5,    5.0,2,19950910,1524,  6.0412, -51.2392,   15,   1897.1,2,   3.7066,2,  34.9887,2,  34.9855,2,    260.0,2,    260.2,2,    15.52,2,    18.17,2,     0.00,2,     1.22,2,    0.244,2,    0.099,2,   -999.0,9,   -999.0,9,   -999.0,9,  -999.00,9,  3.5532, -999.00,9, 1899.0,2, -999.00,9
35LLETAMBOT1_1,  AR15,     7,  1,      6,    6.0,2,19950910,1524,  6.0412, -51.2392,   15,   1897.1,2,   3.7066,2,  34.9887,2,  34.9857,2,    260.0,2,    259.7,2,    15.51,2,    18.13,2,     0.00,2,     1.22,2,    0.249,2,    0.104,2,   -999.0,9,   -999.0,9,   -999.0,9,  -999.00,9,  3.5532, -999.00,9, 1899.0,2, -999.00,9
35LLETAMBOT1_1,  AR15,     7,  1,      4,    4.0,2,19950910,1524,  6.0412, -51.2392,   15,   1997.7,2,   3.5618,2,  34.9826,2,  34.9810,2,    259.9,2,    259.8,2,    16.67,2,    18.18,2,     0.00,2,     1.23,2,    0.194,2,    0.080,2,   -999.0,9,   -999.0,9,   -999.0,9,  -999.00,9,  3.4009, -999.00,9, 1999.0,2, -999.00,9
35LLETAMBOT1_1,  AR15,     7,  1,      3,    3.0,2,19950910,1524,  6.0412, -51.2392,   15,   2198.1,2,   3.4368,2,  34.9760,2,  34.9737,2,    262.0,2,    260.7,2,    17.63,2,    18.24,2,     0.00,2,     1.24,2,    0.160,2,    0.067,2,   -999.0,9,   -999.0,9,   -999.0,9,  -999.00,9,  3.2587, -999.00,9, 2199.0,2, -999.00,9
35LLETAMBOT1_1,  AR15,     7,  1,      2,    2.0,2,19950910,1524,  6.0412, -51.2392,   15,   2398.7,2,   3.1990,2,  34.9632,2,  34.9610,2,    262.0,2,    261.2,2,    19.66,2,    18.36,2,     0.00,2,     1.25,2,    0.132,2,    0.056,2,   -999.0,9,   -999.0,9,   -999.0,9,  -999.00,9,  3.0053, -999.00,9, 2400.0,2, -999.00,9
35LLETAMBOT1_1,  AR15,     7,  1,      1,    1.0,2,19950910,1524,  6.0412, -51.2392,   15,   2488.0,2,   3.1635,2,  34.9608,2,  34.9570,2,    260.0,2,    261.3,2,    20.40,2,    18.40,2,     0.01,2,     1.25,2,    0.120,2,    0.057,2,   -999.0,9,   -999.0,9,   -999.0,9,  -999.00,9,  2.9617, -999.00,9, 2490.0,2, -999.00,9