BOTTLE,20220929CCHSIOAMB
EXPOCODE,SECT_ID,STNNBR,CASTNO,SAMPNO,BTLNBR,BTLNBR_FLAG_W,DATE,TIME,LATITUDE,LONGITUDE,DEPTH,CTDPRS,CTDPRS_FLAG_W,CTDTMP,CTDTMP_FLAG_W,CTDSAL,CTDSAL_FLAG_W,SALNTY,SALNTY_FLAG_W,CTDOXY,CTDOXY_FLAG_W,OXYGEN,OXYGEN_FLAG_W,SILCAT,SILCAT_FLAG_W,NITRAT,NITRAT_FLAG_W,NITRIT,NITRIT_FLAG_W,PHSPHT,PHSPHT_FLAG_W,CFC-11,CFC-11_FLAG_W,CFC-12,CFC-12_FLAG_W,TCARBN,TCARBN_FLAG_W,PCO2,PCO2_FLAG_W,ALKALI,ALKALI_FLAG_W,PH,PH_FLAG_W,THETA,CHLORA,CHLORA_FLAG_W,CTDRAW,CTDRAW_FLAG_W,PPHYTN,PPHYTN_FLAG_W
,,,,,,,,,,,,DBAR,,DEG C,,PSS-78,,PSS-78,,UMOL/KG,,UMOL/KG,,UMOL/KG,,UMOL/KG,,UMOL/KG,,UMOL/KG,,PMOL/KG,,PMOL/KG,,UMOL/KG,,UATM,,UMOL/KG,,,,DEG C,UG/L,,DBAR,,UG/L,
35LLETAMBOT1_1,  AR15,    28,  1,     22,   22.0,2,19950916,1649,  7.5013, -40.6657,   15,     -0.3,2,  29.4710,2,  31.2777,2,  31.3203,2,    198.9,2,    200.0,2,     6.83,2,     0.00,2,     0.00,2,     0.00,2, -999.000,9, -999.000,9,   -999.0,9,    311.0,2,   -999.0,9,  -999.00,9, 29.4711,    0.07,2,    2.0,2,    0.01,2
35LLETAMBOT1_1,  AR15,    28,  1,     21,   21.0,2,19950916,1649,  7.5013, -40.6657,   15,     74.9,2,  26.8618,2,  36.2922,2,  36.2649,2,    196.6,2,    194.5,2,     0.75,2,     0.00,2,     0.01,2,     0.01,2, -999.000,9, -999.000,9,   -999.0,9,   -999.0,9,   -999.0,9,  -999.00,9, 26.8446, -999.00,9,   76.0,2, -999.00,9
35LLETAMBOT1_1,  AR15,    28,  1,     20,   20.0,2,19950916,1649,  7.5013, -40.6657,   15,    177.3,2,  11.4853,2,  35.1429,2,  35.1923,2,    125.9,2,    124.4,2,     9.49,2,    22.25,2,     0.01,2,     1.52,2, -999.000,9, -999.000,9,   -999.0,9,   -999.0,9,   -999.0,9,  -999.00,9, 11.4628, -999.00,9,  179.0,2, -999.00,9
35LLETAMBOT1_1,  AR15,    28,  1,     19,   19.0,2,19950916,1649,  7.5013, -40.6657,   15,    299.3,2,   9.1640,2,  34.8518,2,  34.8355,2,    119.5,2,    118.2,2,    14.38,2,    28.22,2,     0.00,2,     1.93,2, -999.000,9, -999.000,9,   -999.0,9,   -999.0,9,   -999.0,9,  -999.00,9,  9.1310, -999.00,9,  301.0,2, -999.00,9
35LLETAMBOT1_1,  AR15,    28,  1,     18,   18.0,2,19950916,1649,  7.5013, -40.6657,   15,    498.3,2,   7.4429,2,  34.6891,2,  34.7036,2,    120.4,2,    119.6,2,    18.72,2,    31.23,2,     0.00,2,     2.15,2, -999.000,9, -999.000,9,   -999.0,9,   -999.0,9,   -999.0,9,  -999.00,9,  7.3938, -999.00,9,  500.0,2, -999.00,9
35LLETAMBOT1_1,  AR15,    28,  1,     17,   17.0,2,19950916,1649,  7.5013, -40.6657,   15,    995.8,2,   4.9895,2,  34.7049,2,  34.6970,2,    144.9,2,    144.8,2,    28.09,2,    31.87,2,     0.00,2,     2.28,2,    0.006,2,    0.005,2,   -999.0,9,   -999.0,9,   -999.0,9,  -999.00,9,  4.9063, -999.00,9,  996.0,2, -999.00,9
35LLETAMBOT1_1,  AR15,    28,  1,     16,   16.0,2,19950916,1649,  7.5013, -40.6657,   15,   1294.5,2,   4.7196,2,  34.9138,2,  34.9150,2,    193.8,2,    194.6,2,    21.30,2,    24.60,2,     0.00,2,     1.75,2,    0.049,2,    0.033,2,   -999.0,9,   -999.0,9,   -999.0,9,  -999.00,9,  4.6109, -999.00,9, 1297.0,2, -999.00,9
35LLETAMBOT1_1,  AR15,    28,  1,     15,   15.0,2,19950916,1649,  7.5013, -40.6657,   15,   1595.1,2,   4.3038,2,  34.9880,2,  34.9857,2,    236.8,2,    235.1,2,    16.32,2,    19.94,2,     0.00,2,     1.40,2,    0.080,2,    0.059,2,   -999.0,9,   -999.0,9,   -999.0,9,  -999.00,9,  4.1712, -999.00,9, 1597.0,2, -999.00,9
35LLETAMBOT1_1,  AR15,    28,  1,     14,   14.0,2,19950916,1649,  7.5013, -40.6657,   15,   1695.9,2,   4.0672,2,  34.9821,2,  34.9900,2,    245.4,2,    243.1,2,    15.95,2,    19.25,2,     0.00,2,     1.35,2,    0.094,2,    0.064,2,   -999.0,9,   -999.0,9,   -999.0,9,  -999.00,9,  3.9280, -999.00,9, 1697.0,2, -999.00,9
35LLETAMBOT1_1,  AR15,    28,  1,     13,   13.0,2,19950916,1649,  7.5013, -40.6657,   15,   1796.3,2,   3.9210,2,  34.9798,2,  34.9865,2,    249.5,2,    248.0,2,    16.18,2,    18.90,2,     0.00,2,     1.32,2,    0.102,2,    0.067,2,   -999.0,9,   -999.0,9,   -999.0,9,  -999.00,9,  3.7742, -999.00,9, 1798.0,2, -999.00,9
35LLETAMBOT1_1,  AR15,    28,  1,     12,   12.0,2,19950916,1649,  7.5013, -40.6657,   15,   1995.4,2,   3.6252,2,  34.9721,2,  34.9780,2,    252.2,2,    253.1,2,    17.84,2,    18.79,2,     0.00,2,     1.31,2,    0.066,2,    0.044,2,   -999.0,9,   -999.0,9,   -999.0,9,  -999.00,9,  3.4637, -999.00,9, 1996.0,2, -999.00,9
35LLETAMBOT1_1,  AR15,    28,  1,     11,   11.0,2,19950916,1649,  7.5013, -40.6657,   15,   2397.2,2,   3.2062,2,  34.9552,2,  34.9585,2,    255.5,2,    255.9,2,    21.81,2,    18.66,2,     0.00,2,     1.31,2,    0.032,2,    0.019,2,   -999.0,9,   -999.0,9,   -999.0,9,  -999.00,9,  3.0126, -999.00,9, 2399.0,2, -999.00,9
35LLETAMBOT1_1,  AR15,    28,  1,     10,   10.0,2,19950916,1649,  7.5013, -40.6657,   15,   2596.0,2,   3.0412,2,  34.9468,2,  34.9469,2,    255.4,2,    256.0,2,    24.85,2,    19.05,2,     0.00,2,     1.34,2,    0.031,2,    0.019,2,   -999.0,9,   -999.0,9,   -999.0,9,  -999.00,9,  2.8310, -999.00,9, 2598.0,2, -999.00,9
35LLETAMBOT1_1,  AR15,    28,  1,      9,    9.0,2,19950916,1649,  7.5013, -40.6657,   15,   2796.6,2,   2.9039,2,  34.9382,2,  34.9398,2,    256.9,2,    255.7,2,    26.78,2,    19.14,2,     0.00,2,     1.34,2,    0.038,2,    0.026,2,   -999.0,9,   -999.0,9,   -999.0,9,  -999.00,9,  2.6762, -999.00,9, 2798.0,2, -999.00,9
35LLETAMBOT1_1,  AR15,    28,  1,      8,    8.0,3,19950916,1649,  7.5013, -40.6657,   15,   2995.3,2,   2.7768,2,  34.9299,2,  34.9287,2,    256.8,2,    257.0,2,    28.37,2,    19.15,2,     0.00,2,     1.35,2,    0.033,2,    0.023,2,   -999.0,9,   -999.0,9,   -999.0,9,  -999.00,9,  2.5314, -999.00,9, 2997.0,2, -999.00,9
35LLETAMBOT1_1,  AR15,    28,  1,      7,    7.0,2,19950916,1649,  7.5013, -40.6657,   15,   3298.0,2,   2.5804,2,  34.9169,2,  34.9178,2,    255.7,2,    256.2,2,    32.56,2,    19.54,2,     0.00,2,     1.39,2,    0.040,2,    0.022,2,   -999.0,9,   -999.0,9,   -999.0,9,  -999.00,9,  2.3077, -999.00,9, 3300.0,2, -999.00,9
35LLETAMBOT1_1,  AR15,    28,  1,      6,    6.0,2,19950916,1649,  7.5013, -40.6657,   15,   3600.1,2,   2.3993,2,  34.9021,2,  34.9010,2,    256.5,2,    257.0,2,    36.34,2,    19.84,2,     0.00,2,     1.41,2,    0.028,2,    0.018,2,   -999.0,9,   -999.0,9,   -999.0,9,  -999.00,9,  2.0986, -999.00,9, 3602.0,2, -999.00,9
35LLETAMBOT1_1,  AR15,    28,  1,      5,    5.0,2,19950916,1649,  7.5013, -40.6657,   15,   3799.9,2,   2.2995,2,  34.8960,2,  34.8930,2,    258.5,2,    251.2,4,    37.07,2,    19.78,2,     0.00,2,     1.41,2,    0.049,2,    0.033,2,   -999.0,9,   -999.0,9,   -999.0,9,  -999.00,9,  1.9794, -999.00,9, 3801.0,2, -999.00,9
35LLETAMBOT1_1,  AR15,    28,  1,      4,    4.0,2,19950916,1649,  7.5013, -40.6657,   15,   4000.4,2,   2.1742,2,  34.8821,2,  34.8830,2,    258.2,2,    257.7,2,    40.24,2,    20.03,2,     0.00,2,     1.44,2,    0.065,2,    0.044,2,   -999.0,9,   -999.0,9,   -999.0,9,  -999.00,9,  1.8351, -999.00,9, 4002.0,2, -999.00,9
35LLETAMBOT1_1,  AR15,    28,  1,      3,    3.0,2,19950916,1649,  7.5013, -40.6657,   15,   4201.4,2,   1.9868,2,  34.8602,2,  34.8577,2,    253.3,2,    252.3,2,    50.94,2,    21.60,2,     0.00,2,     1.55,2,    0.047,2,    0.035,2,   -999.0,9,   -999.0,9,   -999.0,9,  -999.00,9,  1.6303, -999.00,9, 4203.0,2, -999.00,9
35LLETAMBOT1_1,  AR15,    28,  1,      1,    1.0,2,19950916,1649,  7.5013, -40.6657,   15,   4344.9,2,   1.7629,2,  34.8316,2,  34.8310,2,    246.7,2,    245.2,3,    63.79,2,    23.36,2,     0.00,2,     1.68,2,    0.042,2,    0.032,2,   -999.0,9,   -999.0,9,   -999.0,9,  -999.00,9,  1.3968, -999.00,9, 4346.0,2, -999.00,9
35LLETAMBOT1_1,  AR15,    28,  1,      2,    2.0,2,19950916,1649,  7.5013, -40.6657,   15,   4344.9,2,   1.7629,2,  34.8316,2,  34.8310,2,    246.7,2,    246.2,2,    63.98,2,    23.29,2,     0.00,2,     1.68,2,    0.029,2,    0.023,2,   -999.0,9,   -999.0,9,   -999.0,9,  -999.00,9,  1.3968, -999.00,9, 4346.0,2, -999.00,9
35LLETAMBOT1_1,  AR15,    29,  1,     28,    6.0,2,19950916,2218,  7.5000, -40.0000, 4820,      1.5,2,  29.6446,2,  31.3642,2,  31.3453,2,    193.9,2,    199.5,2,     7.23,2,     0.24,2,     0.00,2,     0.00,2, -999.000,9, -999.000,9,   1769.7,2,    316.6,2,   2117.4,2,     8.10,2, 29.6442,    0.08,2,    4.0,2,    0.02,2
35LLETAMBOT1_1,  AR15,    29,  1,     27,    5.0,2,19950916,2218,  7.5000, -40.0000, 4820,     38.4,2,  28.7088,2,  35.7838,2,  35.6380,2,    206.9,2,    208.6,2,     1.04,2,     0.28,2,     0.00,2,     0.00,2, -999.000,9, -999.000,9,   1969.7,2,   -999.0,9,   2368.6,2,     8.09,2, 28.6996, -999.00,9,   40.0,2, -999.00,9
35LLETAMBOT1_1,  AR15,    29,  1,     26,    4.0,2,19950916,2218,  7.5000, -40.0000, 4820,     75.1,2,  25.0575,2,  36.2087,2,  36.2459,2,    188.8,2,    187.8,2,     1.11,2,     0.34,2,     0.14,2,     0.00,2, -999.000,9, -999.000,9,   2043.5,2,   -999.0,9,   2408.2,2,     8.09,2, 25.0411, -999.00,9,   77.0,2, -999.00,9
35LLETAMBOT1_1,  AR15,    29,  1,     25,    3.0,2,19950916,2218,  7.5000, -40.0000, 4820,    119.7,2,  17.4110,2,  35.9303,2,  36.0084,2,    129.5,2,    121.2,2,     4.89,2,    14.64,2,     0.03,2,     0.87,2, -999.000,9, -999.000,9,   2155.7,2,   -999.0,9,   2385.1,2,     7.99,2, 17.3908, -999.00,9,  121.0,2, -999.00,9
35LLETAMBOT1_1,  AR15,    29,  1,     24,    2.0,2,19950916,2218,  7.5000, -40.0000, 4820,    300.5,2,   9.3313,2,  34.8863,2,  34.8959,2,    115.4,2,    116.6,2,    14.53,2,    27.89,2,     0.00,2,     1.82,2, -999.000,9, -999.000,9,   2193.3,2,   -999.0,9,   2318.2,2,     7.89,2,  9.2978, -999.00,9,  300.0,2, -999.00,9
35LLETAMBOT1_1,  AR15,    29,  1,     23,    1.0,2,19950916,2218,  7.5000, -40.0000, 4820,    500.5,2,   7.5330,2,  34.6985,2,  34.6990,2,    118.0,2,    117.8,2,    19.73,2,    31.78,2,     0.00,2,     2.09,2, -999.000,9, -999.000,9,   2219.0,2,   -999.0,9,   2323.7,2,     7.85,2,  7.4833, -999.00,9,  498.0,2, -999.00,9
35LLETAMBOT1_1,  AR15,    29,  2,     22,   22.0,2,19950917,0043,  7.4980, -39.9998,   15,    595.1,2,   7.0051,2,  34.6809,2,  34.6728,2,    119.1,2,    121.1,2,    21.11,2,    32.25,2,     0.00,2,     2.14,2,    0.153,2,    0.106,2,   2172.5,3,   -999.0,9,   2271.5,3,     7.84,2,  6.9480, -999.00,9,  597.0,2, -999.00,9
35LLETAMBOT1_1,  AR15,    29,  2,     21,   21.0,2,19950917,0043,  7.4980, -39.9998,   15,    796.7,2,   5.6157,2,  34.6342,2,  34.6440,2,    122.5,2,    119.2,2,    27.51,2,    34.56,2,     0.00,2,     2.32,2,    0.021,2,    0.021,2,   2205.2,2,   -999.0,9,   2294.6,2,     7.83,2,  5.5466, -999.00,9,  798.0,2, -999.00,9
35LLETAMBOT1_1,  AR15,    29,  2,     20,   20.0,2,19950917,0043,  7.4980, -39.9998,   15,    995.3,2,   4.9201,2,  34.7238,2,  34.7270,2,    147.1,2,    149.9,2,    28.92,2,    31.41,2,     0.00,2,     2.17,2,    0.005,2,    0.006,2,   2184.2,3,   -999.0,9,   2287.3,3,     7.87,2,  4.8375, -999.00,9,  997.0,2, -999.00,9
35LLETAMBOT1_1,  AR15,    29,  2,     19,   19.0,2,19950917,0043,  7.4980, -39.9998,   15,   1298.6,2,   4.7127,2,  34.9454,2,  34.9457,2,    204.6,2,    205.3,2,    20.63,2,    23.41,2,     0.00,2,     1.58,2,    0.046,2,    0.042,2,   2142.3,3,   -999.0,9,   2287.0,3,     7.98,2,  4.6036, -999.00,9, 1299.0,2, -999.00,9
35LLETAMBOT1_1,  AR15,    29,  2,     18,   18.0,2,19950917,0043,  7.4980, -39.9998,   15,   1596.7,2,   4.1566,2,  34.9930,2,  34.9929,2,    245.5,2,    245.1,2,    16.31,2,    19.28,2,     0.00,2,     1.28,2,    0.113,2,    0.081,2,   2141.0,3,   -999.0,9,   2304.4,3,     8.02,2,  4.0256, -999.00,9, 1598.0,2, -999.00,9
35LLETAMBOT1_1,  AR15,    29,  2,     17,   17.0,4,19950917,0043,  7.4980, -39.9998,   15,   1697.6,2,   4.0153,2,  34.9896,2,-999.0000,9,    249.7,2,   -999.0,9,  -999.00,9,  -999.00,9,  -999.00,9,  -999.00,9, -999.000,9, -999.000,9,   -999.0,9,   -999.0,9,   -999.0,9,  -999.00,9,  3.8766, -999.00,9, 1699.0,2, -999.00,9
35LLETAMBOT1_1,  AR15,    29,  2,     16,   16.0,2,19950917,0043,  7.4980, -39.9998,   15,   1797.7,2,   3.8830,2,  34.9869,2,  34.9850,2,    252.3,2,    251.6,2,    17.51,2,    18.93,2,     0.00,2,     1.25,2,    0.112,2,    0.078,2,   2127.0,3,   -999.0,9,   2294.7,3,     8.03,2,  3.7366, -999.00,9, 1799.0,2, -999.00,9
35LLETAMBOT1_1,  AR15,    29,  2,     15,   15.0,2,19950917,0043,  7.4980, -39.9998,   15,   1996.9,2,   3.5920,2,  34.9758,2,  34.9755,2,    253.8,2,    254.4,2,    19.23,2,    18.85,2,     0.00,2,     1.25,2,    0.048,2,    0.040,2,   2115.7,3,   -999.0,9,   2284.5,3,     8.03,2,  3.4308, -999.00,9, 1999.0,2, -999.00,9
35LLETAMBOT1_1,  AR15,    29,  2,     14,   14.0,2,19950917,0043,  7.4980, -39.9998,   15,   2393.2,2,   3.1926,2,  34.9571,2,  34.9577,2,    254.9,2,    256.9,2,    23.60,2,    19.04,2,     0.00,2,     1.28,2,    0.039,2,    0.032,2,   2136.3,3,   -999.0,9,   2307.1,3,     8.02,2,  2.9996, -999.00,9, 2394.0,2, -999.00,9
35LLETAMBOT1_1,  AR15,    29,  2,     13,   13.0,2,19950917,0043,  7.4980, -39.9998,   15,   2597.8,2,   2.9942,2,  34.9449,2,  34.9380,3,    255.3,2,    256.1,2,    26.82,2,    19.28,2,     0.00,2,     1.30,2,    0.038,2,    0.029,2,   2144.3,3,   -999.0,9,   2314.7,3,     8.01,2,  2.7847, -999.00,9, 2600.0,2, -999.00,9
35LLETAMBOT1_1,  AR15,    29,  2,     12,   12.0,2,19950917,0043,  7.4980, -39.9998,   15,   2795.6,2,   2.8715,2,  34.9373,2,  34.9366,2,    255.6,2,    256.6,2,    28.78,2,    19.38,2,     0.00,2,     1.31,2,    0.049,2,    0.039,2,   2124.4,3,   -999.0,9,   2293.1,3,     8.01,2,  2.6445, -999.00,9, 2797.0,2, -999.00,9
35LLETAMBOT1_1,  AR15,    29,  2,     11,   11.0,2,19950917,0043,  7.4980, -39.9998,   15,   2998.3,2,   2.7741,2,  34.9312,2,  34.9297,2,    257.5,2,    256.0,2,    30.57,2,    19.51,2,     0.00,2,     1.32,2,    0.033,2,    0.033,2,   2127.6,3,   -999.0,9,   2295.8,3,     8.00,2,  2.5284, -999.00,9, 3000.0,2, -999.00,9
35LLETAMBOT1_1,  AR15,    29,  2,     10,   10.0,2,19950917,0043,  7.4980, -39.9998,   15,   3300.0,2,   2.5993,2,  34.9192,2,  34.9172,2,    257.3,2,    257.1,2,    33.87,2,    19.68,2,     0.00,2,     1.34,2,    0.023,2,    0.020,2,   2143.2,3,   -999.0,9,   2313.0,3,     7.99,2,  2.3259, -999.00,9, 3302.0,2, -999.00,9
35LLETAMBOT1_1,  AR15,    29,  2,      9,    9.0,2,19950917,0043,  7.4980, -39.9998,   15,   3601.4,2,   2.4193,2,  34.9044,2,  34.9022,2,    257.8,2,    257.5,2,    37.27,2,    19.81,2,     0.00,2,     1.36,2,    0.048,2,    0.037,2,   2126.7,3,   -999.0,9,   2295.0,3,     7.98,2,  2.1179, -999.00,9, 3603.0,2, -999.00,9
35LLETAMBOT1_1,  AR15,    29,  2,      8,    8.0,2,19950917,0043,  7.4980, -39.9998,   15,   3799.3,2,   2.2794,2,  34.8948,2,  34.8927,2,    260.7,2,    259.8,2,    38.59,2,    19.75,2,     0.00,2,     1.36,2,    0.065,2,    0.050,2,   2141.0,3,   -999.0,9,   2309.3,3,     7.97,2,  1.9599, -999.00,9, 3800.0,2, -999.00,9
35LLETAMBOT1_1,  AR15,    29,  2,      7,    7.0,2,19950917,0043,  7.4980, -39.9998,   15,   4000.6,2,   2.1684,2,  34.8831,2,  34.8810,2,    259.0,2,    258.6,2,    42.70,2,    20.23,2,     0.00,2,     1.40,2,    0.089,2,    0.060,2,   2146.7,3,   -999.0,9,   2313.2,3,     7.96,2,  1.8294, -999.00,9, 4002.0,2, -999.00,9
35LLETAMBOT1_1,  AR15,    29,  2,      6,    6.0,2,19950917,0043,  7.4980, -39.9998,   15,   4199.2,2,   1.9974,2,  34.8608,2,  34.8580,2,    253.4,2,    253.5,2,    53.56,2,    21.71,2,     0.00,2,     1.51,2,    0.058,2,    0.049,2,   2151.5,3,   -999.0,9,   2312.7,3,     7.94,2,  1.6408, -999.00,9, 4201.0,2, -999.00,9
35LLETAMBOT1_1,  AR15,    29,  2,      4,    4.0,2,19950917,0043,  7.4980, -39.9998,   15,   4400.6,2,   1.7837,2,  34.8344,2,  34.8326,2,    247.3,2,    246.8,2,    64.15,2,    23.26,2,     0.00,2,     1.63,2,    0.051,2,    0.039,2,   2163.1,3,   -999.0,9,   2317.4,3,     7.92,2,  1.4105, -999.00,9, 4403.0,2, -999.00,9
35LLETAMBOT1_1,  AR15,    29,  2,      5,    5.0,2,19950917,0043,  7.4980, -39.9998,   15,   4400.6,2,   1.7837,2,  34.8344,2,  34.8320,2,    247.3,2,    246.4,2,    64.15,2,    23.25,2,     0.00,2,     1.63,2,    0.045,2,    0.036,2,   2170.7,3,   -999.0,9,   2325.8,3,     7.92,2,  1.4105, -999.00,9, 4403.0,2, -999.00,9
35LLETAMBOT1_1,  AR15,    29,  2,      3,    3.0,2,19950917,0043,  7.4980, -39.9998,   15,   4598.8,2,   1.6605,2,  34.8182,2,  34.8156,2,    243.0,2,    242.9,2,    72.27,2,    24.25,2,     0.00,2,     1.71,2,    0.033,2,    0.036,2,   2159.1,3,   -999.0,9,   2308.5,3,     7.90,2,  1.2681, -999.00,9, 4600.0,2, -999.00,9
35LLETAMBOT1_1,  AR15,    29,  2,      2,    2.0,2,19950917,0043,  7.4980, -39.9998,   15,   4799.8,2,   1.6312,2,  34.8121,2,  34.8100,2,    241.9,2,    241.6,2,    75.23,2,    24.63,2,     0.00,2,     1.74,2,    0.035,2,    0.027,2,   2176.3,3,   -999.0,9,   2325.1,3,     7.89,2,  1.2159, -999.00,9, 4801.0,2, -999.00,9
35LLETAMBOT1_1,  AR15,    29,  2,      1,    1.0,2,19950917,0043,  7.4980, -39.9998,   15,   4910.9,2,   1.6216,2,  34.8084,2,  34.8073,2,    241.0,2,    240.9,2,    76.41,2,    24.78,2,     0.00,2,     1.75,2,    0.041,2,    0.029,2,   2170.1,3,   -999.0,9,   2317.3,3,     7.88,2,  1.1932, -999.00,9, 4911.0,2, -999.00,9
35LLETAMBOT1_1,  AR15,    30,  1,     26,    5.0,2,19950917,0622,  7.4992, -39.3385, 4830,     39.2,2,  28.9565,2,  34.9680,2,  35.2496,2,    204.5,2,    204.0,2,     1.37,2,     0.00,2,     0.01,2,     0.00,2, -999.000,9, -999.000,9,   -999.0,9,   -999.0,9,   -999.0,9,  -999.00,9, 28.9470, -999.00,9,   42.0,2, -999.00,9
35LLETAMBOT1_1,  AR15,    30,  1,     25,    4.0,2,19950917,0622,  7.4992, -39.3385, 4830,     72.4,2,  26.3831,2,  36.3298,2,  36.2900,2,    189.9,2,    160.0,2,     1.89,2,     2.83,2,     0.07,2,     0.23,2, -999.000,9, -999.000,9,   -999.0,9,   -999.0,9,   -999.0,9,  -999.00,9, 26.3667, -999.00,9,   74.0,2, -999.00,9
35LLETAMBOT1_1,  AR15,    30,  1,     24,    3.0,2,19950917,0622,  7.4992, -39.3385, 4830,    172.6,2,  12.4470,2,  35.2914,2,  35.2401,2,    105.6,2,    106.9,2,    10.21,2,    24.05,2,     0.01,2,     1.56,2, -999.000,9, -999.000,9,   -999.0,9,   -999.0,9,   -999.0,9,  -999.00,9, 12.4239, -999.00,9,  173.0,2, -999.00,9
35LLETAMBOT1_1,  AR15,    30,  1,     23,    2.0,2,19950917,0622,  7.4992, -39.3385, 4830,    300.7,2,   9.2774,2,  34.8816,2,  34.8807,2,    115.1,2,    114.8,2,    14.69,2,    28.28,2,     0.01,2,     1.86,2, -999.000,9, -999.000,9,   -999.0,9,   -999.0,9,   -999.0,9,  -999.00,9,  9.2440, -999.00,9,  300.0,2, -999.00,9
35LLETAMBOT1_1,  AR15,    30,  1,     22,    1.0,2,19950917,0622,  7.4992, -39.3385, 4830,    507.4,2,   7.5974,2,  34.7060,2,  34.7062,2,    113.5,2,    118.7,2,    19.54,2,    31.87,2,     0.01,2,     2.10,2, -999.000,9, -999.000,9,   -999.0,9,   -999.0,9,   -999.0,9,  -999.00,9,  7.5468, -999.00,9,  505.0,2, -999.00,9