BOTTLE,20220929CCHSIOAMB
EXPOCODE,SECT_ID,STNNBR,CASTNO,SAMPNO,BTLNBR,BTLNBR_FLAG_W,DATE,TIME,LATITUDE,LONGITUDE,DEPTH,CTDPRS,CTDPRS_FLAG_W,CTDTMP,CTDTMP_FLAG_W,CTDSAL,CTDSAL_FLAG_W,SALNTY,SALNTY_FLAG_W,CTDOXY,CTDOXY_FLAG_W,OXYGEN,OXYGEN_FLAG_W,SILCAT,SILCAT_FLAG_W,NITRAT,NITRAT_FLAG_W,NITRIT,NITRIT_FLAG_W,PHSPHT,PHSPHT_FLAG_W,CFC-11,CFC-11_FLAG_W,CFC-12,CFC-12_FLAG_W,TCARBN,TCARBN_FLAG_W,PCO2,PCO2_FLAG_W,ALKALI,ALKALI_FLAG_W,PH,PH_FLAG_W,THETA,CHLORA,CHLORA_FLAG_W,CTDRAW,CTDRAW_FLAG_W,PPHYTN,PPHYTN_FLAG_W
,,,,,,,,,,,,DBAR,,DEG C,,PSS-78,,PSS-78,,UMOL/KG,,UMOL/KG,,UMOL/KG,,UMOL/KG,,UMOL/KG,,UMOL/KG,,PMOL/KG,,PMOL/KG,,UMOL/KG,,UATM,,UMOL/KG,,,,DEG C,UG/L,,DBAR,,UG/L,
35LLETAMBOT1_1,  AR15,    16,  1,     22,   22.0,2,19950912,2203,  7.5013, -47.9993,   15,      0.0,2,  29.8580,2,  33.8064,2,  33.8543,2,    198.3,2,    198.5,2,     3.34,2,     0.00,2,     0.00,2,     0.00,2, -999.000,9, -999.000,9,   1872.4,2,   -999.0,9,   2263.3,2,     8.10,2, 29.8580,    0.15,2,    2.0,2,    0.06,2
35LLETAMBOT1_1,  AR15,    16,  1,     21,   21.0,2,19950912,2203,  7.5013, -47.9993,   15,     46.5,2,  27.8512,2,  36.0804,2,  36.2510,2,    197.2,2,    197.2,2,     0.91,2,     0.00,2,     0.00,2,     0.01,2, -999.000,9, -999.000,9,   2039.3,2,   -999.0,9,   2421.8,2,     8.08,2, 27.8403, -999.00,9,   48.0,2, -999.00,9
35LLETAMBOT1_1,  AR15,    16,  1,     20,   20.0,2,19950912,2203,  7.5013, -47.9993,   15,    173.2,2,  12.0877,2,  35.2778,2,  35.1130,2,    124.2,2,    122.9,2,    11.38,2,    24.60,2,     0.00,2,     1.57,2, -999.000,9, -999.000,9,   2186.1,2,   -999.0,9,   2342.9,2,     7.93,2, 12.0649, -999.00,9,  175.0,2, -999.00,9
35LLETAMBOT1_1,  AR15,    16,  1,     19,   19.0,2,19950912,2203,  7.5013, -47.9993,   15,    297.8,2,   8.9327,2,  34.8398,2,  34.8240,2,    117.9,2,    118.8,2,    15.88,2,    29.97,2,     0.00,2,     1.88,2, -999.000,9, -999.000,9,   2176.7,2,   -999.0,9,   2294.6,2,     7.88,2,  8.9004, -999.00,9,  300.0,2, -999.00,9
35LLETAMBOT1_1,  AR15,    16,  1,     18,   18.0,2,19950912,2203,  7.5013, -47.9993,   15,    597.1,2,   6.4545,2,  34.6097,2,  34.6200,2,    123.5,2,    126.4,2,    23.69,2,    34.27,2,     0.00,2,     2.20,2, -999.000,9, -999.000,9,   2192.5,2,   -999.0,9,   2294.4,2,     7.86,2,  6.3998, -999.00,9,  599.0,2, -999.00,9
35LLETAMBOT1_1,  AR15,    16,  1,     17,   17.0,2,19950912,2203,  7.5013, -47.9993,   15,    994.5,2,   4.9386,2,  34.6954,2,  34.6880,2,    151.2,2,    149.5,2,    29.49,2,    33.00,2,     0.00,2,     2.16,2,   -0.007,2,    0.002,2,   2197.9,2,   -999.0,9,   2304.4,2,     7.88,2,  4.8559, -999.00,9,  996.0,2, -999.00,9
35LLETAMBOT1_1,  AR15,    16,  1,     16,   16.0,2,19950912,2203,  7.5013, -47.9993,   15,   1296.1,2,   4.8971,2,  34.9472,2,  34.9420,2,    200.6,2,    198.5,2,    21.04,2,    24.85,2,     0.00,2,     1.60,2,    0.098,2,    0.040,2,   2156.4,3,   -999.0,9,   2299.8,3,     7.97,2,  4.7865, -999.00,9, 1297.0,2, -999.00,9
35LLETAMBOT1_1,  AR15,    16,  1,     15,   15.0,2,19950912,2203,  7.5013, -47.9993,   15,   1596.5,2,   4.2695,2,  35.0010,2,  35.0030,2,    245.5,2,    245.5,2,    15.76,2,    19.78,2,     0.00,2,     1.25,2,    0.276,2,    0.125,2,   2120.2,3,   -999.0,9,   2286.3,3,     8.03,2,  4.1371, -999.00,9, 1597.0,2, -999.00,9
35LLETAMBOT1_1,  AR15,    16,  1,     13,   13.0,2,19950912,2203,  7.5013, -47.9993,   15,   1697.4,2,   4.0433,2,  34.9933,2,  34.9950,2,    250.5,2,    250.1,2,    16.21,2,    19.57,2,     0.00,2,     1.23,2,    0.197,2,    0.089,2,   2145.0,2,   -999.0,9,   2315.6,2,     8.03,2,  3.9042, -999.00,9, 1700.0,2, -999.00,9
35LLETAMBOT1_1,  AR15,    16,  1,     14,   14.0,2,19950912,2203,  7.5013, -47.9993,   15,   1697.4,2,   4.0433,2,  34.9933,2,  34.9940,2,    250.5,2,    250.0,2,    16.19,2,    19.57,2,     0.00,2,     1.23,2,    0.184,2,    0.085,2,   2123.5,3,   -999.0,9,   2292.0,3,     8.03,2,  3.9042, -999.00,9, 1700.0,2, -999.00,9
35LLETAMBOT1_1,  AR15,    16,  1,     12,   12.0,2,19950912,2203,  7.5013, -47.9993,   15,   1796.5,2,   3.8884,2,  34.9883,2,  34.9890,2,    253.6,2,    253.1,2,    17.12,2,    19.06,2,     0.00,2,     1.22,2,    0.177,2,    0.078,2,   2139.6,3,   -999.0,9,   2311.7,3,     8.04,2,  3.7420, -999.00,9, 1798.0,2, -999.00,9
35LLETAMBOT1_1,  AR15,    16,  1,     11,   11.0,2,19950912,2203,  7.5013, -47.9993,   15,   1996.4,2,   3.5892,2,  34.9766,2,  34.9780,2,    255.3,2,    255.1,2,    19.08,2,    19.04,2,     0.00,2,     1.23,2,    0.075,2,    0.039,2,   2146.2,2,   -999.0,9,   2318.5,2,     8.03,2,  3.4281, -999.00,9, 1998.0,2, -999.00,9
35LLETAMBOT1_1,  AR15,    16,  1,     10,   10.0,2,19950912,2203,  7.5013, -47.9993,   15,   2296.8,2,   3.2515,2,  34.9622,2,  34.9630,2,    258.1,2,    258.9,2,    21.40,2,    18.83,2,     0.00,2,     1.22,2,    0.053,2,    0.029,2,   2137.0,3,   -999.0,9,   2312.1,3,     8.03,2,  3.0669, -999.00,9, 2298.0,2, -999.00,9
35LLETAMBOT1_1,  AR15,    16,  1,      9,    9.0,2,19950912,2203,  7.5013, -47.9993,   15,   2597.3,2,   2.9748,2,  34.9461,2,  34.9470,2,    257.9,2,    260.3,2,    25.65,2,    19.28,2,     0.00,2,     1.26,2,    0.028,2,    0.020,2,   2140.0,3,   -999.0,9,   2314.5,3,     8.03,2,  2.7657, -999.00,9, 2599.0,2, -999.00,9
35LLETAMBOT1_1,  AR15,    16,  1,      8,    8.0,2,19950912,2203,  7.5013, -47.9993,   15,   2797.9,2,   2.8365,2,  34.9371,2,  34.9360,2,    257.4,2,    258.0,2,    28.36,2,    19.60,2,     0.00,2,     1.28,2,    0.029,2,    0.017,2,   2131.6,3,   -999.0,9,   2304.1,3,     8.02,2,  2.6100, -999.00,9, 2799.0,2, -999.00,9
35LLETAMBOT1_1,  AR15,    16,  1,      7,    7.0,2,19950912,2203,  7.5013, -47.9993,   15,   3000.4,2,   2.6849,2,  34.9272,2,  34.9270,2,    258.1,2,    258.7,2,    29.98,2,    19.53,2,     0.00,2,     1.27,2,    0.069,2,    0.036,2,   2136.8,3,   -999.0,9,   2310.6,3,     8.01,2,  2.4410, -999.00,9, 3002.0,2, -999.00,9
35LLETAMBOT1_1,  AR15,    16,  1,      6,    6.0,2,19950912,2203,  7.5013, -47.9993,   15,   3298.9,2,   2.5073,2,  34.9148,2,  34.9130,2,    259.4,2,    259.8,2,    32.60,2,    19.64,2,     0.00,2,     1.29,2,    0.076,2,    0.037,2,   2136.2,3,   -999.0,9,   2309.0,3,     8.00,2,  2.2362, -999.00,9, 3301.0,2, -999.00,9
35LLETAMBOT1_1,  AR15,    16,  1,      5,    5.0,2,19950912,2203,  7.5013, -47.9993,   15,   3599.6,2,   2.3513,2,  34.9053,2,  34.9030,2,    263.9,2,    264.0,2,    32.39,2,    19.19,2,     0.00,2,     1.25,2,    0.132,2,    0.062,2,   2130.4,3,   -999.0,9,   2303.1,3,     7.99,2,  2.0518, -999.00,9, 3601.0,2, -999.00,9
35LLETAMBOT1_1,  AR15,    16,  1,      4,    4.0,2,19950912,2203,  7.5013, -47.9993,   15,   3799.9,2,   2.2919,2,  34.9001,2,  34.8996,2,    264.7,2,    264.6,2,    33.56,2,    19.22,2,     0.00,2,     1.26,2,    0.133,2,    0.067,2,   2140.9,3,   -999.0,9,   2314.5,3,     7.99,2,  1.9720, -999.00,9, 3800.0,2, -999.00,9
35LLETAMBOT1_1,  AR15,    16,  1,      3,    3.0,2,19950912,2203,  7.5013, -47.9993,   15,   3901.0,2,   2.2673,2,  34.8979,2,  34.8950,2,    264.8,2,    264.3,2,    34.71,2,    19.34,2,     0.00,2,     1.27,2,    0.137,2,    0.070,2,   2143.8,3,   -999.0,9,   2316.8,3,     7.98,2,  1.9367, -999.00,9, 3902.0,2, -999.00,9
35LLETAMBOT1_1,  AR15,    16,  1,      2,    2.0,2,19950912,2203,  7.5013, -47.9993,   15,   4001.0,2,   2.2484,2,  34.8954,2,  34.8930,2,    264.9,2,    264.1,2,    35.60,2,    19.85,2,     0.00,2,     1.27,2,    0.132,2,    0.069,2,   2151.9,3,   -999.0,9,   2323.8,3,     7.97,2,  1.9071, -999.00,9, 4002.0,2, -999.00,9
35LLETAMBOT1_1,  AR15,    16,  1,      1,    1.0,2,19950912,2203,  7.5013, -47.9993,   15,   4314.6,2,   2.1474,2,  34.8801,2,  34.8777,2,    257.8,2,    257.2,2,    45.02,2,    21.25,2,     0.00,2,     1.37,2,    0.080,2,    0.065,2,   2162.5,3,   -999.0,9,   2332.5,3,     7.96,2,  1.7729, -999.00,9, 4316.0,2, -999.00,9
35LLETAMBOT1_1,  AR15,    17,  1,     22,   22.0,2,19950913,0519,  7.5008, -47.3333,   15,     14.5,2,  29.6228,2,  33.1771,2,  33.2099,2,    196.8,2,    196.9,2,     4.20,2,     0.31,2,     0.00,2,     0.00,2, -999.000,9, -999.000,9,   -999.0,9,   -999.0,9,   -999.0,9,  -999.00,9, 29.6193,    0.12,2,    1.0,2,    0.09,2
35LLETAMBOT1_1,  AR15,    17,  1,     21,   21.0,2,19950913,0519,  7.5008, -47.3333,   15,     74.0,2,  24.9243,2,  36.4382,2,  36.4000,2,    191.3,2,    191.5,2,     0.86,2,     0.41,2,     0.10,2,     0.01,2, -999.000,9, -999.000,9,   -999.0,9,   -999.0,9,   -999.0,9,  -999.00,9, 24.9082, -999.00,9,   76.0,2, -999.00,9
35LLETAMBOT1_1,  AR15,    17,  1,     20,   20.0,2,19950913,0519,  7.5008, -47.3333,   15,    197.4,2,  10.7316,2,  35.0849,2,  35.2047,2,    120.8,2,    121.6,2,     9.90,2,    23.88,2,     0.00,2,     1.48,2, -999.000,9, -999.000,9,   -999.0,9,   -999.0,9,   -999.0,9,  -999.00,9, 10.7076, -999.00,9,  199.0,2, -999.00,9
35LLETAMBOT1_1,  AR15,    17,  1,     19,   19.0,2,19950913,0519,  7.5008, -47.3333,   15,    347.1,2,   8.6040,2,  34.7996,2,  34.8110,2,    129.7,2,    127.1,2,    14.85,2,    28.92,2,     0.00,2,     1.84,2, -999.000,9, -999.000,9,   -999.0,9,   -999.0,9,   -999.0,9,  -999.00,9,  8.5671, -999.00,9,  349.0,2, -999.00,9
35LLETAMBOT1_1,  AR15,    17,  1,     18,   18.0,2,19950913,0519,  7.5008, -47.3333,   15,    495.4,2,   8.0843,2,  34.8302,2,  34.8270,2,     92.0,2,     92.1,2,    18.25,2,    34.15,2,     0.00,2,     2.13,2, -999.000,9, -999.000,9,   -999.0,9,   -999.0,9,   -999.0,9,  -999.00,9,  8.0330, -999.00,9,  496.0,2, -999.00,9
35LLETAMBOT1_1,  AR15,    17,  1,     17,   17.0,2,19950913,0519,  7.5008, -47.3333,   15,    996.2,2,   4.9385,2,  34.7260,2,  34.7306,2,    152.3,2,    154.5,2,    27.21,2,    31.61,2,     0.00,2,     2.09,2,    0.075,2,    0.018,2,   -999.0,9,   -999.0,9,   -999.0,9,  -999.00,9,  4.8556, -999.00,9,  998.0,2, -999.00,9
35LLETAMBOT1_1,  AR15,    17,  1,     16,   16.0,2,19950913,0519,  7.5008, -47.3333,   15,   1296.7,2,   4.8804,2,  34.9582,2,  34.9560,2,    204.1,2,    203.2,2,    19.12,2,    23.95,2,     0.00,2,     1.56,2,    0.182,2,    0.076,2,   -999.0,9,   -999.0,9,   -999.0,9,  -999.00,9,  4.7698, -999.00,9, 1298.0,2, -999.00,9
35LLETAMBOT1_1,  AR15,    17,  1,     14,   14.0,2,19950913,0519,  7.5008, -47.3333,   15,   1597.4,2,   4.2171,2,  34.9984,2,  35.0015,2,    245.6,2,    245.5,2,    14.66,2,    19.52,2,     0.00,2,     1.25,2, -999.000,9, -999.000,9,   -999.0,9,   -999.0,9,   -999.0,9,  -999.00,9,  4.0853, -999.00,9, 1598.0,2, -999.00,9
35LLETAMBOT1_1,  AR15,    17,  1,     15,   15.0,2,19950913,0519,  7.5008, -47.3333,   15,   1597.4,2,   4.2171,2,  34.9984,2,  35.0025,2,    245.6,2,    245.0,2,    14.69,2,    19.52,2,     0.00,2,     1.25,2,    0.327,2,    0.186,2,   -999.0,9,   -999.0,9,   -999.0,9,  -999.00,9,  4.0853, -999.00,9, 1598.0,2, -999.00,9
35LLETAMBOT1_1,  AR15,    17,  1,     13,   13.0,2,19950913,0519,  7.5008, -47.3333,   15,   1698.6,2,   3.9620,2,  34.9921,2,  34.9950,2,    252.4,2,    251.9,2,    14.74,2,    18.99,2,     0.00,2,     1.22,2,    0.256,2,    0.117,2,   -999.0,9,   -999.0,9,   -999.0,9,  -999.00,9,  3.8238, -999.00,9, 1700.0,2, -999.00,9
35LLETAMBOT1_1,  AR15,    17,  1,     12,   12.0,2,19950913,0519,  7.5008, -47.3333,   15,   1796.7,2,   3.8350,2,  34.9898,2,  34.9923,2,    255.4,2,    255.1,2,    15.07,2,    18.79,2,     0.00,2,     1.21,2,    0.257,2,    0.118,2,   -999.0,9,   -999.0,9,   -999.0,9,  -999.00,9,  3.6893, -999.00,9, 1798.0,2, -999.00,9
35LLETAMBOT1_1,  AR15,    17,  1,     11,   11.0,2,19950913,0519,  7.5008, -47.3333,   15,   2000.1,2,   3.5196,2,  34.9765,2,  34.9790,2,    258.4,2,    257.5,2,    17.14,2,    18.78,2,     0.00,2,     1.21,2,    0.120,2,    0.063,2,   -999.0,9,   -999.0,9,   -999.0,9,  -999.00,9,  3.3592, -999.00,9, 2001.0,2, -999.00,9
35LLETAMBOT1_1,  AR15,    17,  1,     10,   10.0,2,19950913,0519,  7.5008, -47.3333,   15,   2296.0,2,   3.1888,2,  34.9583,2,  34.9593,2,    257.0,2,    258.2,2,    20.40,2,    18.94,2,     0.00,2,     1.23,2,    0.066,2,    0.038,2,   -999.0,9,   -999.0,9,   -999.0,9,  -999.00,9,  3.0053, -999.00,9, 2298.0,2, -999.00,9
35LLETAMBOT1_1,  AR15,    17,  1,      9,    9.0,2,19950913,0519,  7.5008, -47.3333,   15,   2597.6,2,   2.9367,2,  34.9437,2,  34.9465,2,    257.5,2,    258.5,2,  -999.00,9,    19.11,2,     0.00,2,     1.25,2,    0.054,2,    0.033,2,   -999.0,9,   -999.0,9,   -999.0,9,  -999.00,9,  2.7283, -999.00,9, 2599.0,2, -999.00,9
35LLETAMBOT1_1,  AR15,    17,  1,      8,    8.0,2,19950913,0519,  7.5008, -47.3333,   15,   2798.1,2,   2.8125,2,  34.9350,2,  34.9375,2,    256.6,2,    258.1,2,    26.18,2,    19.38,2,     0.00,2,     1.28,2,    0.048,2,    0.028,2,   -999.0,9,   -999.0,9,   -999.0,9,  -999.00,9,  2.5865, -999.00,9, 2800.0,2, -999.00,9
35LLETAMBOT1_1,  AR15,    17,  1,      7,    7.0,2,19950913,0519,  7.5008, -47.3333,   15,   2999.3,2,   2.6719,2,  34.9260,2,  34.9268,2,    257.1,2,    257.4,2,    29.17,2,    19.61,2,     0.00,2,     1.30,2,    0.054,2,    0.031,2,   -999.0,9,   -999.0,9,   -999.0,9,  -999.00,9,  2.4284, -999.00,9, 3000.0,2, -999.00,9
35LLETAMBOT1_1,  AR15,    17,  1,      6,    6.0,2,19950913,0519,  7.5008, -47.3333,   15,   3298.9,2,   2.5364,2,  34.9168,2,  34.9166,2,    259.8,2,    260.0,2,    29.98,2,    19.42,2,     0.00,2,     1.29,2,    0.098,2,    0.044,2,   -999.0,9,   -999.0,9,   -999.0,9,  -999.00,9,  2.2647, -999.00,9, 3300.0,2, -999.00,9
35LLETAMBOT1_1,  AR15,    17,  1,      5,    5.0,2,19950913,0519,  7.5008, -47.3333,   15,   3601.6,2,   2.3445,2,  34.9047,2,  34.9050,2,    263.7,2,    264.2,2,    30.17,2,    18.98,2,     0.00,2,     1.27,2,    0.135,2,    0.062,2,   -999.0,9,   -999.0,9,   -999.0,9,  -999.00,9,  2.0450, -999.00,9, 3604.0,2, -999.00,9
35LLETAMBOT1_1,  AR15,    17,  1,      4,    4.0,2,19950913,0519,  7.5008, -47.3333,   15,   3799.9,2,   2.2807,2,  34.8995,2,  34.8960,2,    264.6,2,    264.0,2,    31.46,2,    19.03,2,     0.00,2,     1.27,2,    0.153,2,    0.072,2,   -999.0,9,   -999.0,9,   -999.0,9,  -999.00,9,  1.9611, -999.00,9, 3802.0,2, -999.00,9
35LLETAMBOT1_1,  AR15,    17,  1,      3,    3.0,2,19950913,0519,  7.5008, -47.3333,   15,   3902.0,2,   2.2568,2,  34.8970,2,  34.8967,2,    264.5,2,    264.3,2,    32.17,2,    19.14,2,     0.00,2,     1.28,2,    0.156,2,    0.075,2,   -999.0,9,   -999.0,9,   -999.0,9,  -999.00,9,  1.9264, -999.00,9, 3903.0,2, -999.00,9
35LLETAMBOT1_1,  AR15,    17,  1,      2,    2.0,2,19950913,0519,  7.5008, -47.3333,   15,   4002.4,2,   2.2346,2,  34.8941,2,  34.8930,2,    264.1,2,    263.4,2,    33.30,2,    19.25,2,     0.00,2,     1.29,2,    0.145,2,    0.074,2,   -999.0,9,   -999.0,9,   -999.0,9,  -999.00,9,  1.8935, -999.00,9, 4003.0,2, -999.00,9
35LLETAMBOT1_1,  AR15,    17,  1,      1,    1.0,2,19950913,0519,  7.5008, -47.3333,   15,   4355.4,2,   2.1059,2,  34.8741,2,  34.8738,2,    256.5,2,    255.9,2,    44.28,2,    20.86,2,     0.00,2,     1.42,2,    0.058,2,    0.042,2,   -999.0,9,   -999.0,9,   -999.0,9,  -999.00,9,  1.7280, -999.00,9, 4357.0,2, -999.00,9