BOTTLE,20220929CCHSIOAMB
EXPOCODE,SECT_ID,STNNBR,CASTNO,SAMPNO,BTLNBR,BTLNBR_FLAG_W,DATE,TIME,LATITUDE,LONGITUDE,DEPTH,CTDPRS,CTDPRS_FLAG_W,CTDTMP,CTDTMP_FLAG_W,CTDSAL,CTDSAL_FLAG_W,SALNTY,SALNTY_FLAG_W,CTDOXY,CTDOXY_FLAG_W,OXYGEN,OXYGEN_FLAG_W,SILCAT,SILCAT_FLAG_W,NITRAT,NITRAT_FLAG_W,NITRIT,NITRIT_FLAG_W,PHSPHT,PHSPHT_FLAG_W,CFC-11,CFC-11_FLAG_W,CFC-12,CFC-12_FLAG_W,TCARBN,TCARBN_FLAG_W,PCO2,PCO2_FLAG_W,ALKALI,ALKALI_FLAG_W,PH,PH_FLAG_W,THETA,CHLORA,CHLORA_FLAG_W,CTDRAW,CTDRAW_FLAG_W,PPHYTN,PPHYTN_FLAG_W
,,,,,,,,,,,,DBAR,,DEG C,,PSS-78,,PSS-78,,UMOL/KG,,UMOL/KG,,UMOL/KG,,UMOL/KG,,UMOL/KG,,UMOL/KG,,PMOL/KG,,PMOL/KG,,UMOL/KG,,UATM,,UMOL/KG,,,,DEG C,UG/L,,DBAR,,UG/L,
35LLETAMBOT1_1,  AR15,    20,  1,     22,   22.0,2,19950914,0331,  7.4985, -45.3302,   15,      0.0,2,  29.2997,2,  31.9697,2,  31.9557,2,    199.5,2,    199.5,2,     6.24,2,     0.12,2,     0.00,2,     0.00,2, -999.000,9, -999.000,9,   1796.1,2,    317.3,2,   2146.4,2,     8.10,2, 29.2997,    0.07,2,    2.0,2,    0.02,2
35LLETAMBOT1_1,  AR15,    20,  1,     21,   21.0,2,19950914,0331,  7.4985, -45.3302,   15,     48.5,2,  28.3925,2,  35.3966,2,  34.9480,2,    200.5,2,    200.5,3,     1.97,2,     0.10,2,     0.00,2,     0.00,2, -999.000,9, -999.000,9,   1927.6,2,   -999.0,9,   2303.3,2,     8.08,2, 28.3809, -999.00,9,   50.0,2, -999.00,9
35LLETAMBOT1_1,  AR15,    20,  1,     20,   20.0,2,19950914,0331,  7.4985, -45.3302,   15,    172.2,2,  12.8415,2,  35.3515,2,  35.4980,2,    129.0,2,    129.4,2,     7.63,2,    19.41,2,     0.00,2,     1.24,2, -999.000,9, -999.000,9,   2143.5,2,   -999.0,9,   2327.4,2,     7.97,2, 12.8179, -999.00,9,  174.0,2, -999.00,9
35LLETAMBOT1_1,  AR15,    20,  1,     19,   19.0,2,19950914,0331,  7.4985, -45.3302,   15,    399.1,2,   7.1153,2,  34.6348,2,  34.6348,2,    138.5,2,    138.1,2,    19.61,2,    30.98,2,     0.00,2,     2.05,2, -999.000,9, -999.000,9,   2172.5,2,   -999.0,9,   2284.0,2,     7.89,2,  7.0772, -999.00,9,  401.0,2, -999.00,9
35LLETAMBOT1_1,  AR15,    20,  1,     17,   17.0,2,19950914,0331,  7.4985, -45.3302,   15,    795.9,2,   5.5791,2,  34.6232,2,  34.6160,2,    131.0,2,    130.2,2,    26.91,2,    34.31,2,     0.00,2,     2.30,2,    0.021,2,    0.002,2,   2203.9,2,   -999.0,9,   2296.9,2,     7.84,2,  5.5103, -999.00,9,  798.0,2, -999.00,9
35LLETAMBOT1_1,  AR15,    20,  1,     18,   18.0,2,19950914,0331,  7.4985, -45.3302,   15,    795.9,2,   5.5791,2,  34.6232,2,  34.6160,2,    131.0,2,    130.7,2,    26.87,2,    34.26,2,     0.00,2,     2.30,2,    0.018,2,    0.008,2,   2199.2,2,   -999.0,9,   2292.9,2,     7.84,2,  5.5103, -999.00,9,  798.0,2, -999.00,9
35LLETAMBOT1_1,  AR15,    20,  1,     16,   16.0,2,19950914,0331,  7.4985, -45.3302,   15,    997.3,2,   5.0629,2,  34.7496,2,  34.7300,2,    150.1,2,    151.7,4,    27.23,2,    32.15,2,     0.00,2,     2.17,2,    0.020,2,    0.002,2,   2184.3,3,   -999.0,9,   2287.3,3,     7.87,2,  4.9790, -999.00,9,  999.0,2, -999.00,9
35LLETAMBOT1_1,  AR15,    20,  1,     15,   15.0,2,19950914,0331,  7.4985, -45.3302,   15,   1295.8,2,   4.7839,2,  34.9738,2,  34.9626,2,    213.9,2,    208.1,2,    18.72,2,    23.24,2,     0.00,2,     1.54,2,    0.140,2,    0.073,2,   2163.2,3,   -999.0,9,   2309.4,3,     7.98,2,  4.6743, -999.00,9, 1297.0,2, -999.00,9
35LLETAMBOT1_1,  AR15,    20,  1,     14,   14.0,2,19950914,0331,  7.4985, -45.3302,   15,   1595.7,2,   4.0241,2,  34.9880,2,  34.9920,2,    247.7,2,    245.8,2,    15.67,2,    19.55,2,     0.00,2,     1.28,2,    0.123,2,    0.062,2,   2129.5,3,   -999.0,9,   2292.7,3,     8.02,2,  3.8948, -999.00,9, 1597.0,2, -999.00,9
35LLETAMBOT1_1,  AR15,    20,  1,     13,   13.0,2,19950914,0331,  7.4985, -45.3302,   15,   1696.1,2,   3.8721,2,  34.9861,2,  34.9870,2,    252.7,2,    252.0,2,    15.81,2,    19.07,2,     0.00,2,     1.25,2,    0.133,2,    0.066,2,   2127.3,3,   -999.0,9,   2294.7,3,     8.03,2,  3.7353, -999.00,9, 1697.0,2, -999.00,9
35LLETAMBOT1_1,  AR15,    20,  1,     12,   12.0,2,19950914,0331,  7.4985, -45.3302,   15,   1795.9,2,   3.7004,2,  34.9796,2,  34.9788,2,    253.6,2,    253.1,2,    17.02,2,    19.10,2,     0.00,2,     1.26,2,    0.075,2, -999.000,9,   2142.1,3,   -999.0,9,   2310.3,3,     8.03,2,  3.5566, -999.00,9, 1797.0,2, -999.00,9
35LLETAMBOT1_1,  AR15,    20,  1,     11,   11.0,2,19950914,0331,  7.4985, -45.3302,   15,   1896.0,2,   3.5476,2,  34.9735,2,  34.9760,2,    255.1,2,    255.5,2,    18.07,2,    19.06,2,     0.00,2,     1.25,2,    0.054,2,    0.039,2,   2142.0,3,   -999.0,9,   2311.0,3,     8.03,2,  3.3966, -999.00,9, 1898.0,2, -999.00,9
35LLETAMBOT1_1,  AR15,    20,  1,     10,   10.0,2,19950914,0331,  7.4985, -45.3302,   15,   1996.4,2,   3.4381,2,  34.9683,2,  34.9690,2,    254.6,2,    255.1,2,    19.70,2,    19.27,2,     0.00,2,     1.27,2,    0.012,2,    0.008,2,   2147.7,2,   -999.0,9,   2317.0,2,     8.03,2,  3.2793, -999.00,9, 1998.0,2, -999.00,9
35LLETAMBOT1_1,  AR15,    20,  1,      9,    9.0,2,19950914,0331,  7.4985, -45.3302,   15,   2399.1,2,   3.0972,2,  34.9535,2,  34.9539,2,    257.9,2,    259.0,2,    21.83,2,    18.97,2,     0.00,2,     1.25,2,    0.065,2,    0.033,2,   2149.1,2,   -999.0,9,   2319.3,2,     8.02,2,  2.9053, -999.00,9, 2400.0,2, -999.00,9
35LLETAMBOT1_1,  AR15,    20,  1,      8,    8.0,2,19950914,0331,  7.4985, -45.3302,   15,   2698.4,2,   2.9192,2,  34.9410,2,  34.9410,2,    257.0,2,    257.7,2,    25.25,2,    19.37,2,     0.00,2,     1.28,2,    0.018,2,    0.020,2,   2156.8,2,   -999.0,9,   2327.0,2,     8.01,2,  2.7011, -999.00,9, 2700.0,2, -999.00,9
35LLETAMBOT1_1,  AR15,    20,  1,      7,    7.0,2,19950914,0331,  7.4985, -45.3302,   15,   2999.9,2,   2.8054,2,  34.9348,2,  34.9350,2,    258.8,2,    259.5,2,    26.12,2,    19.20,2,     0.00,2,     1.28,2,    0.066,2,    0.031,2,   2172.6,2,   -999.0,9,   2344.8,2,     8.00,2,  2.5589, -999.00,9, 3002.0,2, -999.00,9
35LLETAMBOT1_1,  AR15,    20,  1,      6,    6.0,2,19950914,0331,  7.4985, -45.3302,   15,   3299.0,2,   2.6563,2,  34.9239,2,  34.9238,2,    258.8,2,    259.2,2,    28.83,2,    19.45,2,     0.00,2,     1.30,2,    0.042,2,    0.025,2,   2164.1,2,   -999.0,9,   2335.1,2,     7.99,2,  2.3817, -999.00,9, 3301.0,2, -999.00,9
35LLETAMBOT1_1,  AR15,    20,  1,      5,    5.0,2,19950914,0331,  7.4985, -45.3302,   15,   3596.5,2,   2.4991,2,  34.9128,2,  34.9127,2,    261.5,2,    261.4,2,    30.04,2,    19.36,2,     0.00,2,     1.30,2,    0.090,2,    0.041,2,   2180.3,2,   -999.0,9,   2351.3,2,     7.98,2,  2.1962, -999.00,9, 3598.0,2, -999.00,9
35LLETAMBOT1_1,  AR15,    20,  1,      4,    4.0,2,19950914,0331,  7.4985, -45.3302,   15,   3798.6,2,   2.3674,2,  34.9046,2,  34.9050,2,    263.1,2,    263.3,2,    30.63,2,    19.21,2,     0.00,2,     1.28,2,    0.107,2,    0.050,2,   2154.3,2,   -999.0,9,   2324.4,2,     7.97,2,  2.0456, -999.00,9, 3800.0,2, -999.00,9
35LLETAMBOT1_1,  AR15,    20,  1,      3,    3.0,2,19950914,0331,  7.4985, -45.3302,   15,   3999.1,2,   2.2901,2,  34.8989,2,  34.8970,2,    264.2,2,    264.4,2,    31.51,2,    19.09,2,     0.00,2,     1.29,2,    0.134,2,    0.068,2,   2166.7,2,   -999.0,9,   2336.2,2,     7.96,2,  1.9478, -999.00,9, 4000.0,2, -999.00,9
35LLETAMBOT1_1,  AR15,    20,  1,      2,    2.0,2,19950914,0331,  7.4985, -45.3302,   15,   4199.5,2,   2.2470,2,  34.8932,2,  34.8916,2,    263.3,2,    262.9,2,    33.50,2,    19.48,2,     0.00,2,     1.31,2,    0.129,2,    0.060,2,   2175.1,2,   -999.0,9,   2342.0,2,     7.95,2,  1.8829, -999.00,9, 4200.0,2, -999.00,9
35LLETAMBOT1_1,  AR15,    20,  1,      1,    1.0,2,19950914,0331,  7.4985, -45.3302,   15,   4517.1,2,   2.1869,2,  34.8821,2,  34.8806,2,    259.2,2,    258.2,2,    39.93,2,    20.33,2,     0.00,2,     1.38,2,    0.103,2,    0.054,2,   2157.0,3,   -999.0,9,   2323.0,3,     7.94,2,  1.7873, -999.00,9, 4519.0,2, -999.00,9
35LLETAMBOT1_1,  AR15,    21,  1,     28,    6.0,2,19950914,0927,  7.4975, -44.6657, 4540,      0.6,2,  29.0503,2,  32.0645,2,  32.2140,2,    198.6,2,    198.4,2,     5.91,2,     0.13,2,     0.00,2,     0.00,2, -999.000,9, -999.000,9,   -999.0,9,    322.6,2,   -999.0,9,  -999.00,9, 29.0502,    0.07,2,    3.0,2,    0.01,2
35LLETAMBOT1_1,  AR15,    21,  1,     27,    5.0,2,19950914,0927,  7.4975, -44.6657, 4540,     48.3,2,  28.5701,2,  35.6109,2,  35.8279,2,    204.1,2,    204.8,2,     0.88,2,     0.17,2,     0.00,2,     0.00,2, -999.000,9, -999.000,9,   -999.0,9,   -999.0,9,   -999.0,9,  -999.00,9, 28.5585, -999.00,9,   50.0,2, -999.00,9
35LLETAMBOT1_1,  AR15,    21,  1,     26,    4.0,2,19950914,0927,  7.4975, -44.6657, 4540,    150.0,2,  14.6001,2,  35.6936,2,  35.6788,2,    124.9,2,    121.3,2,     7.35,2,    19.31,2,     0.01,2,     1.19,2, -999.000,9, -999.000,9,   -999.0,9,   -999.0,9,   -999.0,9,  -999.00,9, 14.5777, -999.00,9,  150.0,2, -999.00,9
35LLETAMBOT1_1,  AR15,    21,  1,     25,    3.0,2,19950914,0927,  7.4975, -44.6657, 4540,    249.9,2,   9.3420,2,  34.8319,2,  34.8270,2,    145.1,2,    148.9,2,    13.05,2,    25.09,2,     0.00,2,     1.67,2, -999.000,9, -999.000,9,   -999.0,9,   -999.0,9,   -999.0,9,  -999.00,9,  9.3142, -999.00,9,  250.0,2, -999.00,9
35LLETAMBOT1_1,  AR15,    21,  1,     24,    2.0,2,19950914,0927,  7.4975, -44.6657, 4540,    400.9,2,   8.2481,2,  34.7562,2,  34.7519,2,    131.4,2,    130.1,2,    16.51,2,    29.69,2,     0.00,2,     1.92,2, -999.000,9, -999.000,9,   -999.0,9,   -999.0,9,   -999.0,9,  -999.00,9,  8.2064, -999.00,9,  400.0,2, -999.00,9
35LLETAMBOT1_1,  AR15,    21,  1,     23,    1.0,2,19950914,0927,  7.4975, -44.6657, 4540,    500.6,2,   7.1485,2,  34.6424,2,  34.6439,2,    137.0,2,    136.3,2,    19.74,2,    31.54,2,     0.00,2,     2.06,2, -999.000,9, -999.000,9,   -999.0,9,   -999.0,9,   -999.0,9,  -999.00,9,  7.1003, -999.00,9,  498.0,2, -999.00,9
35LLETAMBOT1_1,  AR15,    21,  2,     22,   22.0,2,19950914,1153,  7.4997, -44.6677,   15,    645.5,2,   6.1006,2,  34.5771,2,  34.5780,2,    132.9,2,    131.7,2,    24.26,2,    34.44,2,     0.00,2,     2.27,2,    0.146,2,    0.060,2,   -999.0,9,   -999.0,9,   -999.0,9,  -999.00,9,  6.0430, -999.00,9,  647.0,2, -999.00,9
35LLETAMBOT1_1,  AR15,    21,  2,     21,   21.0,2,19950914,1153,  7.4997, -44.6677,   15,    847.6,2,   5.1549,2,  34.5714,2,  34.5737,2,    141.9,2,    142.6,2,    29.21,2,    34.74,2,     0.00,2,     2.31,2,    0.059,2,    0.013,2,   -999.0,9,   -999.0,9,   -999.0,9,  -999.00,9,  5.0841, -999.00,9,  849.0,2, -999.00,9
35LLETAMBOT1_1,  AR15,    21,  2,     20,   20.0,2,19950914,1153,  7.4997, -44.6677,   15,    897.6,2,   4.9777,2,  34.5762,2,  34.5840,2,    145.9,2,    146.1,2,    29.74,2,    34.46,2,     0.00,2,     2.30,2,    0.033,2,    0.007,2,   -999.0,9,   -999.0,9,   -999.0,9,  -999.00,9,  4.9036, -999.00,9,  900.0,2, -999.00,9
35LLETAMBOT1_1,  AR15,    21,  2,     19,   19.0,2,19950914,1153,  7.4997, -44.6677,   15,    992.2,2,   4.9819,2,  34.6908,2,  34.7035,2,    147.2,2,    149.2,2,    28.06,2,    32.79,2,     0.00,2,     2.19,2,    0.052,2,    0.012,2,   -999.0,9,   -999.0,9,   -999.0,9,  -999.00,9,  4.8991, -999.00,9,  993.0,2, -999.00,9
35LLETAMBOT1_1,  AR15,    21,  2,     18,   18.0,2,19950914,1153,  7.4997, -44.6677,   15,   1294.8,2,   4.8160,2,  34.9386,2,  34.9490,2,    202.3,2,    202.8,2,    19.85,2,    24.35,2,     0.00,2,     1.60,2,    0.125,2,    0.058,2,   -999.0,9,   -999.0,9,   -999.0,9,  -999.00,9,  4.7063, -999.00,9, 1296.0,2, -999.00,9
35LLETAMBOT1_1,  AR15,    21,  2,     17,   17.0,2,19950914,1153,  7.4997, -44.6677,   15,   1495.5,2,   4.5076,2,  34.9995,2,  35.0027,2,    236.9,2,    237.2,2,    15.75,2,    20.50,2,     0.00,2,     1.34,2,    0.250,2,    0.111,2,   -999.0,9,   -999.0,9,   -999.0,9,  -999.00,9,  4.3820, -999.00,9, 1497.0,2, -999.00,9
35LLETAMBOT1_1,  AR15,    21,  2,     16,   16.0,2,19950914,1153,  7.4997, -44.6677,   15,   1595.9,2,   4.2225,2,  35.0008,2,  35.0007,2,    247.9,2,    247.5,2,    15.18,2,    19.71,2,     0.00,2,     1.26,2,    0.244,2,    0.111,2,   -999.0,9,   -999.0,9,   -999.0,9,  -999.00,9,  4.0908, -999.00,9, 1597.0,2, -999.00,9
35LLETAMBOT1_1,  AR15,    21,  2,     15,   15.0,2,19950914,1153,  7.4997, -44.6677,   15,   1696.2,2,   3.9381,2,  34.9841,2,  34.9860,2,    247.3,2,    247.4,3,    17.13,3,    20.11,3,     0.00,2,     1.30,3,    0.135,2,    0.065,2,   -999.0,9,   -999.0,9,   -999.0,9,  -999.00,9,  3.8005, -999.00,9, 1697.0,2, -999.00,9
35LLETAMBOT1_1,  AR15,    21,  2,     14,   14.0,2,19950914,1153,  7.4997, -44.6677,   15,   1796.6,2,   3.7783,2,  34.9851,2,  34.9877,2,    256.2,2,    254.6,2,    16.45,2,    19.39,2,     0.00,2,     1.24,2,    0.125,2,    0.060,2,   -999.0,9,   -999.0,9,   -999.0,9,  -999.00,9,  3.6334, -999.00,9, 1798.0,2, -999.00,9
35LLETAMBOT1_1,  AR15,    21,  2,     13,   13.0,2,19950914,1153,  7.4997, -44.6677,   15,   1997.1,2,   3.4979,2,  34.9720,2,  34.9680,2,    255.8,2,    254.7,2,    19.39,2,    19.64,2,     0.00,2,     1.27,2,    0.075,2,    0.042,2,   -999.0,9,   -999.0,9,   -999.0,9,  -999.00,9,  3.3381, -999.00,9, 1999.0,2, -999.00,9
35LLETAMBOT1_1,  AR15,    21,  2,     12,   12.0,2,19950914,1153,  7.4997, -44.6677,   15,   2295.8,2,   3.1936,2,  34.9594,2,  34.9602,2,    259.6,2,    259.5,2,    20.99,2,    19.34,2,     0.00,2,     1.25,2,    0.116,2,    0.057,2,   -999.0,9,   -999.0,9,   -999.0,9,  -999.00,9,  3.0101, -999.00,9, 2297.0,2, -999.00,9
35LLETAMBOT1_1,  AR15,    21,  2,     11,   11.0,2,19950914,1153,  7.4997, -44.6677,   15,   2697.6,2,   2.9248,2,  34.9429,2,  34.9422,2,    259.3,2,    259.1,2,    24.62,2,    19.77,2,     0.00,2,     1.28,2,    0.100,2,    0.056,2,   -999.0,9,   -999.0,9,   -999.0,9,  -999.00,9,  2.7066, -999.00,9, 2700.0,2, -999.00,9
35LLETAMBOT1_1,  AR15,    21,  2,     10,   10.0,2,19950914,1153,  7.4997, -44.6677,   15,   2997.6,2,   2.7802,2,  34.9329,2,  34.9322,2,    258.3,2,    259.5,2,    27.20,2,    20.03,2,     0.00,2,     1.29,2,    0.055,2,    0.031,2,   -999.0,9,   -999.0,9,   -999.0,9,  -999.00,9,  2.5345, -999.00,9, 2999.0,2, -999.00,9
35LLETAMBOT1_1,  AR15,    21,  2,      9,    9.0,2,19950914,1153,  7.4997, -44.6677,   15,   3299.3,2,   2.6511,2,  34.9239,2,  34.9234,2,    259.4,2,    259.2,2,    29.02,2,    20.08,2,     0.00,2,     1.30,2,    0.101,2,    0.049,2,   -999.0,9,   -999.0,9,   -999.0,9,  -999.00,9,  2.3766, -999.00,9, 3301.0,2, -999.00,9
35LLETAMBOT1_1,  AR15,    21,  2,      8,    8.0,2,19950914,1153,  7.4997, -44.6677,   15,   3598.0,2,   2.4784,2,  34.9121,2,  34.9105,2,    261.6,2,    261.9,2,    30.33,2,    20.02,2,     0.00,2,     1.30,2,    0.135,2,    0.065,2,   -999.0,9,   -999.0,9,   -999.0,9,  -999.00,9,  2.1758, -999.00,9, 3600.0,2, -999.00,9
35LLETAMBOT1_1,  AR15,    21,  2,      7,    7.0,2,19950914,1153,  7.4997, -44.6677,   15,   3799.4,2,   2.3626,2,  34.9049,2,  34.9048,2,    265.3,2,    264.6,2,    30.37,2,    19.80,2,     0.00,2,     1.28,2,    0.160,2,    0.075,2,   -999.0,9,   -999.0,9,   -999.0,9,  -999.00,9,  2.0408, -999.00,9, 3801.0,2, -999.00,9
35LLETAMBOT1_1,  AR15,    21,  2,      6,    6.0,2,19950914,1153,  7.4997, -44.6677,   15,   3998.1,2,   2.2960,2,  34.8991,2,  34.8989,2,    263.9,2,    266.9,2,    31.66,2,    19.93,2,     0.00,2,     1.29,2,    0.177,2,    0.091,2,   -999.0,9,   -999.0,9,   -999.0,9,  -999.00,9,  1.9537, -999.00,9, 3999.0,2, -999.00,9
35LLETAMBOT1_1,  AR15,    21,  2,      5,    5.0,2,19950914,1153,  7.4997, -44.6677,   15,   4199.2,2,   2.2697,2,  34.8951,2,  34.8935,2,    263.2,2,    263.7,2,    33.34,2,    20.17,2,     0.00,2,     1.31,2,    0.177,2,    0.089,2,   -999.0,9,   -999.0,9,   -999.0,9,  -999.00,9,  1.9050, -999.00,9, 4201.0,2, -999.00,9
35LLETAMBOT1_1,  AR15,    21,  2,      4,    4.0,2,19950914,1153,  7.4997, -44.6677,   15,   4398.8,2,   2.2353,2,  34.8896,2,  34.8880,2,    261.2,2,    262.3,2,    36.04,2,    20.59,2,     0.00,2,     1.34,2,    0.137,2,    0.072,2,   -999.0,9,   -999.0,9,   -999.0,9,  -999.00,9,  1.8482, -999.00,9, 4400.0,2, -999.00,9
35LLETAMBOT1_1,  AR15,    21,  2,      3,    3.0,2,19950914,1153,  7.4997, -44.6677,   15,   4549.5,2,   2.1721,2,  34.8800,2,  34.8790,2,    257.4,2,    259.8,2,    41.40,2,    21.46,2,     0.00,2,     1.41,2,    0.101,2,    0.064,2,   -999.0,9,   -999.0,9,   -999.0,9,  -999.00,9,  1.7691, -999.00,9, 4550.0,2, -999.00,9
35LLETAMBOT1_1,  AR15,    21,  2,      1,    1.0,2,19950914,1153,  7.4997, -44.6677,   15,   4611.4,2,   2.0215,2,  34.8592,2,  34.8580,2,    255.2,2,    252.1,2,    50.68,2,    22.92,2,     0.00,2,     1.50,2,    0.125,2,    0.049,2,   -999.0,9,   -999.0,9,   -999.0,9,  -999.00,9,  1.6159, -999.00,9, 4612.0,2, -999.00,9
35LLETAMBOT1_1,  AR15,    21,  2,      2,    2.0,2,19950914,1153,  7.4997, -44.6677,   15,   4611.4,2,   2.0215,2,  34.8592,2,  34.8580,2,    255.2,2,    252.3,2,    50.88,2,    22.90,2,     0.00,2,     1.50,2,    0.085,2,    0.049,2,   -999.0,9,   -999.0,9,   -999.0,9,  -999.00,9,  1.6159, -999.00,9, 4612.0,2, -999.00,9
35LLETAMBOT1_1,  AR15,    22,  1,     28,    6.0,2,19950914,1801,  7.4995, -44.0033, 4660,     -0.2,2,  29.3760,2,  32.5890,2,  32.5600,2,    199.2,2,    199.4,2,     4.92,2,     0.05,2,     0.00,2,     0.00,2, -999.000,9, -999.000,9,   1809.7,2,    327.5,2,   2161.7,2,     8.09,2, 29.3760,    0.06,2,    2.0,2,    0.01,2
35LLETAMBOT1_1,  AR15,    22,  1,     27,    5.0,2,19950914,1801,  7.4995, -44.0033, 4660,     27.9,2,  28.9344,2,  34.3575,2,  34.7810,2,    201.1,2,    201.1,2,     2.60,2,     0.01,2,     0.00,2,     0.00,2, -999.000,9, -999.000,9,   1933.1,2,   -999.0,9,   2311.3,2,     8.08,2, 28.9277, -999.00,9,   30.0,2, -999.00,9
35LLETAMBOT1_1,  AR15,    22,  1,     26,    4.0,2,19950914,1801,  7.4995, -44.0033, 4660,    124.2,2,  14.0786,2,  35.5668,2,  35.6026,2,    126.6,2,    124.2,2,     7.50,2,    19.04,2,     0.01,2,     1.22,2, -999.000,9, -999.000,9,   2188.4,2,   -999.0,9,   2378.0,2,     7.96,2, 14.0605, -999.00,9,  124.0,2, -999.00,9
35LLETAMBOT1_1,  AR15,    22,  1,     25,    3.0,2,19950914,1801,  7.4995, -44.0033, 4660,    199.7,2,  10.1712,2,  34.9991,2,  34.9939,2,    128.4,2,    130.6,2,    12.25,2,    25.05,2,     0.01,2,     1.66,2, -999.000,9, -999.000,9,   2173.4,2,   -999.0,9,   2317.6,2,     7.93,2, 10.1478, -999.00,9,  199.0,2, -999.00,9
35LLETAMBOT1_1,  AR15,    22,  1,     24,    2.0,2,19950914,1801,  7.4995, -44.0033, 4660,    350.1,2,   8.3283,2,  34.7666,2,  34.7679,2,    132.8,2,    124.8,2,    16.31,2,    29.71,2,     0.00,2,     1.94,2, -999.000,9, -999.000,9,   2195.7,2,   -999.0,9,   2313.4,2,     7.88,2,  8.2918, -999.00,9,  349.0,2, -999.00,9
35LLETAMBOT1_1,  AR15,    22,  1,     23,    1.0,2,19950914,1801,  7.4995, -44.0033, 4660,    526.0,2,   7.1557,2,  34.6643,2,  34.6557,2,    117.5,2,    117.8,2,    20.60,2,    33.31,2,     0.00,2,     2.18,2, -999.000,9, -999.000,9,   2212.1,2,   -999.0,9,   2311.6,2,     7.84,2,  7.1049, -999.00,9,  524.0,2, -999.00,9