BOTTLE,20220929CCHSIOAMB
EXPOCODE,SECT_ID,STNNBR,CASTNO,SAMPNO,BTLNBR,BTLNBR_FLAG_W,DATE,TIME,LATITUDE,LONGITUDE,DEPTH,CTDPRS,CTDPRS_FLAG_W,CTDTMP,CTDTMP_FLAG_W,CTDSAL,CTDSAL_FLAG_W,SALNTY,SALNTY_FLAG_W,CTDOXY,CTDOXY_FLAG_W,OXYGEN,OXYGEN_FLAG_W,SILCAT,SILCAT_FLAG_W,NITRAT,NITRAT_FLAG_W,NITRIT,NITRIT_FLAG_W,PHSPHT,PHSPHT_FLAG_W,CFC-11,CFC-11_FLAG_W,CFC-12,CFC-12_FLAG_W,TCARBN,TCARBN_FLAG_W,PCO2,PCO2_FLAG_W,ALKALI,ALKALI_FLAG_W,PH,PH_FLAG_W,THETA,CHLORA,CHLORA_FLAG_W,CTDRAW,CTDRAW_FLAG_W,PPHYTN,PPHYTN_FLAG_W
,,,,,,,,,,,,DBAR,,DEG C,,PSS-78,,PSS-78,,UMOL/KG,,UMOL/KG,,UMOL/KG,,UMOL/KG,,UMOL/KG,,UMOL/KG,,PMOL/KG,,PMOL/KG,,UMOL/KG,,UATM,,UMOL/KG,,,,DEG C,UG/L,,DBAR,,UG/L,
35LLETAMBOT1_1,  AR04,    40,  1,     22,   22.0,2,19950920,1233,  5.6680, -35.0013,   20,     16.6,2,  27.9457,2,  35.7551,2,  35.7164,2,    197.2,2,    199.2,2,     1.08,2,     0.03,2,     0.00,2,     0.01,2, -999.000,9, -999.000,9,   -999.0,9,    360.4,2,   -999.0,9,  -999.00,9, 27.9418,    0.13,2,   19.0,2,    0.02,2
35LLETAMBOT1_1,  AR04,    40,  1,     21,   21.0,2,19950920,1233,  5.6680, -35.0013,   20,     58.2,2,  27.8167,2,  36.0046,2,  36.0965,2,    197.2,2,    196.5,2,     0.84,2,     0.00,2,     0.00,2,     0.03,2, -999.000,9, -999.000,9,   -999.0,9,   -999.0,9,   -999.0,9,  -999.00,9, 27.8030, -999.00,9,   60.0,2, -999.00,9
35LLETAMBOT1_1,  AR04,    40,  1,     20,   20.0,2,19950920,1233,  5.6680, -35.0013,   20,    149.2,2,  19.5728,2,  36.1607,2,  36.1078,2,    142.6,2,    138.5,2,     4.21,2,    12.09,2,     0.02,2,     0.76,2, -999.000,9, -999.000,9,   -999.0,9,   -999.0,9,   -999.0,9,  -999.00,9, 19.5455, -999.00,9,  151.0,2, -999.00,9
35LLETAMBOT1_1,  AR04,    40,  1,     19,   19.0,2,19950920,1233,  5.6680, -35.0013,   20,    299.4,2,  10.6634,2,  35.0080,2,  35.0080,2,    127.7,2,    131.4,2,    11.18,2,    24.19,2,     0.01,2,     1.59,2, -999.000,9, -999.000,9,   -999.0,9,   -999.0,9,   -999.0,9,  -999.00,9, 10.6270, -999.00,9,  301.0,2, -999.00,9
35LLETAMBOT1_1,  AR04,    40,  1,     18,   18.0,2,19950920,1233,  5.6680, -35.0013,   20,    498.2,2,   7.8176,2,  34.7181,2,  34.7379,2,    110.1,2,    108.9,2,    18.33,2,    32.44,2,     0.00,2,     2.08,2, -999.000,9, -999.000,9,   -999.0,9,   -999.0,9,   -999.0,9,  -999.00,9,  7.7671, -999.00,9,  499.0,2, -999.00,9
35LLETAMBOT1_1,  AR04,    40,  1,     17,   17.0,2,19950920,1233,  5.6680, -35.0013,   20,    795.9,2,   5.7190,2,  34.6208,2,  34.6214,2,    119.9,2,    118.9,2,    27.06,2,    35.40,2,     0.00,2,     2.34,2,    0.048,2,    0.020,2,   -999.0,9,   -999.0,9,   -999.0,9,  -999.00,9,  5.6494, -999.00,9,  798.0,2, -999.00,9
35LLETAMBOT1_1,  AR04,    40,  1,     15,   15.0,2,19950920,1233,  5.6680, -35.0013,   20,    998.3,2,   4.9975,2,  34.6579,2,  34.6689,2,    139.0,2,    139.9,2,    29.31,2,    33.50,2,     0.00,2,     2.27,2,    0.042,2,    0.018,2,   -999.0,9,   -999.0,9,   -999.0,9,  -999.00,9,  4.9141, -999.00,9,  998.0,2, -999.00,9
35LLETAMBOT1_1,  AR04,    40,  1,     16,   16.0,2,19950920,1233,  5.6680, -35.0013,   20,    998.3,2,   4.9975,2,  34.6579,2,  34.6629,2,    139.0,2,    139.0,2,    29.56,2,    33.70,2,     0.00,2,     2.27,2,    0.022,2,    0.008,2,   -999.0,9,   -999.0,9,   -999.0,9,  -999.00,9,  4.9141, -999.00,9,  998.0,2, -999.00,9
35LLETAMBOT1_1,  AR04,    40,  1,     14,   14.0,2,19950920,1233,  5.6680, -35.0013,   20,   1296.3,2,   4.6500,2,  34.9177,2,  34.9195,2,    197.3,2,    196.6,2,    21.78,2,    25.08,2,     0.00,2,     1.68,2,    0.065,2,    0.024,2,   -999.0,9,   -999.0,9,   -999.0,9,  -999.00,9,  4.5418, -999.00,9, 1298.0,2, -999.00,9
35LLETAMBOT1_1,  AR04,    40,  1,     13,   13.0,2,19950920,1233,  5.6680, -35.0013,   20,   1498.1,2,   4.3308,2,  34.9726,2,  34.9718,2,    228.3,2,    230.7,2,    18.16,2,    21.18,2,     0.00,2,     1.40,2,    0.120,2,    0.059,2,   -999.0,9,   -999.0,9,   -999.0,9,  -999.00,9,  4.2070, -999.00,9, 1499.0,2, -999.00,9
35LLETAMBOT1_1,  AR04,    40,  1,     12,   12.0,2,19950920,1233,  5.6680, -35.0013,   20,   1598.1,2,   4.1598,2,  34.9776,2,  34.9789,2,    237.1,2,    236.4,2,    17.88,2,    20.65,2,     0.00,2,     1.37,2,    0.119,2,    0.054,2,   -999.0,9,   -999.0,9,   -999.0,9,  -999.00,9,  4.0287, -999.00,9, 1599.0,2, -999.00,9
35LLETAMBOT1_1,  AR04,    40,  1,     11,   11.0,2,19950920,1233,  5.6680, -35.0013,   20,   1696.9,2,   3.9463,2,  34.9790,2,  34.9807,2,    244.6,2,    244.4,2,    18.04,2,    19.94,2,     0.00,2,     1.33,2,    0.108,2,    0.050,2,   -999.0,9,   -999.0,9,   -999.0,9,  -999.00,9,  3.8085, -999.00,9, 1697.0,2, -999.00,9
35LLETAMBOT1_1,  AR04,    40,  1,     10,   10.0,2,19950920,1233,  5.6680, -35.0013,   20,   1796.1,2,   3.7257,2,  34.9741,2,  34.9757,2,    249.5,2,    248.2,2,    19.21,2,    19.75,2,     0.00,2,     1.32,2,    0.081,2,    0.044,2,   -999.0,9,   -999.0,9,   -999.0,9,  -999.00,9,  3.5816, -999.00,9, 1796.0,2, -999.00,9
35LLETAMBOT1_1,  AR04,    40,  1,      9,    9.0,2,19950920,1233,  5.6680, -35.0013,   20,   1997.1,2,   3.5327,2,  34.9679,2,  34.9687,2,    251.7,2,    251.7,2,    20.88,2,    19.68,2,     0.00,2,     1.31,2,    0.060,2,    0.025,2,   -999.0,9,   -999.0,9,   -999.0,9,  -999.00,9,  3.3724, -999.00,9, 1997.0,2, -999.00,9
35LLETAMBOT1_1,  AR04,    40,  1,      8,    8.0,2,19950920,1233,  5.6680, -35.0013,   20,   2196.3,2,   3.2351,2,  34.9540,2,  34.9544,2,    252.5,2,    252.2,2,    24.71,2,    19.84,2,     0.00,2,     1.33,2,    0.049,2,    0.018,2,   -999.0,9,   -999.0,9,   -999.0,9,  -999.00,9,  3.0605, -999.00,9, 2198.0,2, -999.00,9
35LLETAMBOT1_1,  AR04,    40,  1,      7,    7.0,2,19950920,1233,  5.6680, -35.0013,   20,   2397.4,2,   3.0518,2,  34.9436,2,  34.9444,2,    253.0,2,    252.8,2,    27.59,2,    19.95,2,     0.00,2,     1.34,2,    0.042,2,    0.018,2,   -999.0,9,   -999.0,9,   -999.0,9,  -999.00,9,  2.8609, -999.00,9, 2397.0,2, -999.00,9
35LLETAMBOT1_1,  AR04,    40,  1,      6,    6.0,2,19950920,1233,  5.6680, -35.0013,   20,   2599.7,2,   2.9346,2,  34.9364,2,  34.9356,2,    252.5,2,    252.8,2,    29.80,2,    20.18,2,     0.00,2,     1.35,2,    0.042,2,    0.015,2,   -999.0,9,   -999.0,9,   -999.0,9,  -999.00,9,  2.7261, -999.00,9, 2600.0,2, -999.00,9
35LLETAMBOT1_1,  AR04,    40,  1,      5,    5.0,2,19950920,1233,  5.6680, -35.0013,   20,   2798.0,2,   2.7886,2,  34.9271,2,  34.9260,2,    252.5,2,    253.9,2,    32.34,2,    20.33,2,     0.00,2,     1.37,2,    0.040,2,    0.017,2,   -999.0,9,   -999.0,9,   -999.0,9,  -999.00,9,  2.5631, -999.00,9, 2799.0,2, -999.00,9
35LLETAMBOT1_1,  AR04,    40,  1,      4,    4.0,2,19950920,1233,  5.6680, -35.0013,   20,   3001.0,2,   2.6696,2,  34.9187,2,  34.9177,2,    253.0,2,    253.0,2,    35.05,2,    20.56,2,     0.00,2,     1.38,2,    0.041,2,    0.017,2,   -999.0,9,   -999.0,9,   -999.0,9,  -999.00,9,  2.4260, -999.00,9, 3002.0,2, -999.00,9
35LLETAMBOT1_1,  AR04,    40,  1,      3,    3.0,2,19950920,1233,  5.6680, -35.0013,   20,   3298.1,2,   2.5350,2,  34.9085,2,  34.9060,2,    253.9,2,    253.3,2,    38.02,2,    20.69,2,     0.00,2,     1.40,2,    0.061,2,    0.022,2,   -999.0,9,   -999.0,9,   -999.0,9,  -999.00,9,  2.2634, -999.00,9, 3300.0,2, -999.00,9
35LLETAMBOT1_1,  AR04,    40,  1,      2,    2.0,2,19950920,1233,  5.6680, -35.0013,   20,   3601.1,2,   2.3737,2,  34.8953,2,  34.8900,2,    254.6,2,    253.2,2,    42.70,2,    21.15,2,     0.00,2,     1.43,2,    0.040,2,    0.019,2,   -999.0,9,   -999.0,9,   -999.0,9,  -999.00,9,  2.0735, -999.00,9, 3601.0,2, -999.00,9
35LLETAMBOT1_1,  AR04,    40,  1,      1,    1.0,2,19950920,1233,  5.6680, -35.0013,   20,   3785.3,2,   2.2811,2,  34.8859,2,  34.8850,2,    252.3,2,    253.5,2,    45.04,2,    21.41,2,     0.00,2,     1.44,2,    0.039,2,    0.022,2,   -999.0,9,   -999.0,9,   -999.0,9,  -999.00,9,  1.9631, -999.00,9, 3787.0,2, -999.00,9
35LLETAMBOT1_1,  AR04,    41,  1,     22,   22.0,2,19950920,2340,  4.9962, -34.9983,   15,      0.3,2,  27.8200,2,  35.9961,2,  36.0016,2,    199.4,2,    199.4,2,     0.89,2,     0.32,2,     0.00,2,     0.00,2, -999.000,9, -999.000,9,   2035.8,2,    362.7,2,   2421.6,2,     8.07,2, 27.8199,    0.08,2,    3.0,2,    0.02,2
35LLETAMBOT1_1,  AR04,    41,  1,     21,   21.0,2,19950920,2340,  4.9962, -34.9983,   15,     69.2,2,  27.5980,2,  35.9747,2,  35.9762,2,    200.6,2,    200.5,2,     0.76,2,     0.40,2,     0.00,2,     0.00,2, -999.000,9, -999.000,9,   2033.9,2,   -999.0,9,   2417.7,2,     8.07,2, 27.5818, -999.00,9,   70.0,2, -999.00,9
35LLETAMBOT1_1,  AR04,    41,  1,     20,   20.0,2,19950920,2340,  4.9962, -34.9983,   15,    300.0,2,  11.6051,2,  35.0918,2,  35.0737,2,    131.7,2,    132.1,2,     9.76,2,    23.04,2,     0.01,2,     1.43,2, -999.000,9, -999.000,9,   2183.4,2,   -999.0,9,   2337.9,2,     7.92,2, 11.5666, -999.00,9,  302.0,2, -999.00,9
35LLETAMBOT1_1,  AR04,    41,  1,     19,   19.0,2,19950920,2340,  4.9962, -34.9983,   15,    498.8,2,   8.5422,2,  34.7977,2,  34.7762,2,    104.2,2,     99.7,2,    17.43,2,    32.97,2,     0.00,2,     2.00,2, -999.000,9, -999.000,9,   2248.2,2,   -999.0,9,   2344.4,2,     7.81,2,  8.4889, -999.00,9,  501.0,2, -999.00,9
35LLETAMBOT1_1,  AR04,    41,  1,     18,   18.0,2,19950920,2340,  4.9962, -34.9983,   15,    797.5,2,   5.6879,2,  34.5952,2,  34.5994,2,    127.8,2,    125.6,2,    27.37,2,    35.39,2,     0.00,2,     2.23,2,    0.042,2,    0.017,2,   2211.5,2,   -999.0,9,   2299.8,2,     7.82,2,  5.6183, -999.00,9,  799.0,2, -999.00,9
35LLETAMBOT1_1,  AR04,    41,  1,     16,   16.0,2,19950920,2340,  4.9962, -34.9983,   15,    994.8,2,   4.9117,2,  34.6703,2,  34.6840,2,    144.2,2,    145.1,2,    29.36,2,    33.42,2,     0.00,2,     2.13,2,    0.026,2,    0.007,2,   2222.1,3,   -999.0,9,   2322.1,3,     7.86,2,  4.8293, -999.00,9,  996.0,2, -999.00,9
35LLETAMBOT1_1,  AR04,    41,  1,     17,   17.0,2,19950920,2340,  4.9962, -34.9983,   15,    994.8,2,   4.9117,2,  34.6703,2,  34.6845,2,    144.2,2,    144.9,2,    29.28,2,    33.32,2,     0.00,2,     2.13,2,    0.022,2,    0.004,2,   2202.2,2,   -999.0,9,   2300.9,2,     7.86,2,  4.8293, -999.00,9,  996.0,2, -999.00,9
35LLETAMBOT1_1,  AR04,    41,  1,     15,   15.0,2,19950920,2340,  4.9962, -34.9983,   15,   1298.9,2,   4.5776,2,  34.9289,2,  34.9322,2,    203.9,2,    204.1,2,    20.80,2,    24.78,2,     0.00,2,     1.55,2,    0.052,2,    0.022,2,   2159.1,3,   -999.0,9,   2299.2,3,     7.96,2,  4.4698, -999.00,9, 1301.0,2, -999.00,9
35LLETAMBOT1_1,  AR04,    41,  1,     14,   14.0,2,19950920,2340,  4.9962, -34.9983,   15,   1492.9,2,   4.3091,2,  34.9790,2,  34.9830,2,    232.7,2,    234.4,2,    17.28,2,    21.29,2,     0.00,2,     1.31,2,    0.103,2,    0.046,2,   2140.4,3,   -999.0,9,   2298.9,3,     8.01,2,  4.1860, -999.00,9, 1494.0,2, -999.00,9
35LLETAMBOT1_1,  AR04,    41,  1,     13,   13.0,2,19950920,2340,  4.9962, -34.9983,   15,   1598.7,2,   4.1113,2,  34.9842,2,  34.9846,2,    243.1,2,    242.8,2,    16.95,2,    20.57,2,     0.00,2,     1.26,2,    0.117,2,    0.051,2,   2120.8,3,   -999.0,9,   2283.1,3,     8.02,2,  3.9807, -999.00,9, 1600.0,2, -999.00,9
35LLETAMBOT1_1,  AR04,    41,  1,     12,   12.0,2,19950920,2340,  4.9962, -34.9983,   15,   1697.4,2,   3.9038,2,  34.9814,2,  34.9825,2,    248.4,2,    248.6,2,    17.36,2,    19.76,2,     0.00,2,     1.23,2,    0.114,2,    0.053,2,   2142.1,3,   -999.0,9,   2307.2,3,     8.02,2,  3.7665, -999.00,9, 1699.0,2, -999.00,9
35LLETAMBOT1_1,  AR04,    41,  1,     11,   11.0,2,19950920,2340,  4.9962, -34.9983,   15,   1789.0,2,   3.7474,2,  34.9786,2,  34.9800,2,    251.8,2,    250.7,2,    18.05,2,    19.48,2,     0.00,2,     1.23,2,    0.083,2,    0.039,2,   2124.9,3,   -999.0,9,   2291.6,3,     8.03,2,  3.6036, -999.00,9, 1789.0,2, -999.00,9
35LLETAMBOT1_1,  AR04,    41,  1,     10,   10.0,2,19950920,2340,  4.9962, -34.9983,   15,   1995.3,2,   3.4463,2,  34.9688,2,  34.9550,3,    256.1,2,    255.0,2,    20.01,2,    19.25,2,     0.00,2,     1.22,2,    0.061,2,    0.027,2,   2139.1,3,   -999.0,9,   2307.7,3,     8.03,2,  3.2874, -999.00,9, 1996.0,2, -999.00,9
35LLETAMBOT1_1,  AR04,    41,  1,      9,    9.0,2,19950920,2340,  4.9962, -34.9983,   15,   2196.9,2,   3.2075,2,  34.9548,2,  34.9580,2,    255.6,2,    255.0,2,    22.87,2,    19.44,2,     0.01,2,     1.24,2,    0.032,2,    0.017,2,   2125.1,3,   -999.0,9,   2292.6,3,     8.02,2,  3.0333, -999.00,9, 2198.0,2, -999.00,9
35LLETAMBOT1_1,  AR04,    41,  1,      8,    8.0,2,19950920,2340,  4.9962, -34.9983,   15,   2399.8,2,   3.0010,2,  34.9425,2,  34.9433,2,    254.6,2,    254.0,2,    26.85,2,    19.05,2,     0.01,2,     1.29,2,    0.021,2,    0.008,2,   2135.8,3,   -999.0,9,   2304.8,3,     8.02,2,  2.8108, -999.00,9, 2401.0,2, -999.00,9
35LLETAMBOT1_1,  AR04,    41,  1,      7,    7.0,2,19950920,2340,  4.9962, -34.9983,   15,   2599.7,2,   2.8534,2,  34.9331,2,  34.9332,2,    253.7,2,    255.3,2,    29.85,2,    19.32,2,     0.01,2,     1.30,2,    0.012,2,    0.007,2,   2141.4,3,   -999.0,9,   2309.9,3,     8.01,2,  2.6464, -999.00,9, 2601.0,2, -999.00,9
35LLETAMBOT1_1,  AR04,    41,  1,      6,    6.0,2,19950920,2340,  4.9962, -34.9983,   15,   2799.1,2,   2.7722,2,  34.9272,2,  34.9266,2,    253.3,2,    253.9,2,    31.52,2,    19.50,2,     0.01,2,     1.31,2,    0.011,2,    0.006,2,   2151.0,3,   -999.0,9,   2319.9,3,     8.01,2,  2.5469, -999.00,9, 2799.0,2, -999.00,9
35LLETAMBOT1_1,  AR04,    41,  1,      5,    5.0,2,19950920,2340,  4.9962, -34.9983,   15,   2998.5,2,   2.6790,2,  34.9191,2,  34.9190,2,    253.1,2,    252.6,2,    34.34,2,    19.99,2,     0.00,2,     1.33,2,    0.015,2,    0.007,2,   2170.4,2,   -999.0,9,   2338.9,2,     8.00,2,  2.4354, -999.00,9, 3000.0,2, -999.00,9
35LLETAMBOT1_1,  AR04,    41,  1,      4,    4.0,2,19950920,2340,  4.9962, -34.9983,   15,   3198.7,2,   2.5801,2,  34.9130,2,  34.9119,2,    254.3,2,    254.3,2,    35.77,2,    20.01,2,     0.00,2,     1.33,2,    0.019,2,    0.009,2,   2168.1,2,   -999.0,9,   2334.9,2,     7.99,2,  2.3179, -999.00,9, 3200.0,2, -999.00,9
35LLETAMBOT1_1,  AR04,    41,  1,      3,    3.0,2,19950920,2340,  4.9962, -34.9983,   15,   3399.1,2,   2.4810,2,  34.9055,2,  34.9045,2,    254.2,2,    254.5,2,    37.66,2,    20.13,2,     0.00,2,     1.34,2,    0.028,2,    0.009,2,   2164.9,2,   -999.0,9,   2333.0,2,     7.98,2,  2.2000, -999.00,9, 3400.0,2, -999.00,9
35LLETAMBOT1_1,  AR04,    41,  1,      2,    2.0,2,19950920,2340,  4.9962, -34.9983,   15,   3599.7,2,   2.3830,2,  34.8971,2,  34.8954,2,    254.3,2,    254.5,2,    40.36,2,    20.39,2,     0.00,2,     1.36,2,    0.021,2,    0.012,2,   2166.3,2,   -999.0,9,   2333.2,2,     7.97,2,  2.0828, -999.00,9, 3601.0,2, -999.00,9
35LLETAMBOT1_1,  AR04,    41,  1,      1,    1.0,2,19950920,2340,  4.9962, -34.9983,   15,   3766.4,2,   2.3135,2,  34.8898,2,  34.8887,2,    254.0,2,    253.5,2,    43.24,2,    20.77,2,     0.00,2,     1.37,2,    0.022,2,    0.010,2,   2175.5,2,   -999.0,9,   2339.8,2,     7.96,2,  1.9968, -999.00,9, 3768.0,2, -999.00,9