BOTTLE,20220929CCHSIOAMB
# Removed all fill value row: station 15, cast 1, sample 22
# Removed all fill value row: station 46, cast 1, sample 22
# Changed CHLA and CHLA_FLAG_W to CHLORA and CHLORA_FLAG_W
#BOTTLE,20020114WHPSIOKJU
#code : jjward hyd_to_exchange.pl 
#original files copied from HTML directory: 20020114
#original HYD file: ar04_ghy.txt   Mon Jan 14 13:05:02 2002
#original SUM file: ar04_gsu.txt.tmp   Mon Jan 14 13:49:51 2002
EXPOCODE,SECT_ID,STNNBR,CASTNO,SAMPNO,BTLNBR,BTLNBR_FLAG_W,DATE,TIME,LATITUDE,LONGITUDE,DEPTH,CTDPRS,CTDPRS_FLAG_W,CTDTMP,CTDTMP_FLAG_W,CTDSAL,CTDSAL_FLAG_W,SALNTY,SALNTY_FLAG_W,CTDOXY,CTDOXY_FLAG_W,OXYGEN,OXYGEN_FLAG_W,SILCAT,SILCAT_FLAG_W,NITRAT,NITRAT_FLAG_W,NITRIT,NITRIT_FLAG_W,PHSPHT,PHSPHT_FLAG_W,CFC-11,CFC-11_FLAG_W,CFC-12,CFC-12_FLAG_W,TCARBN,TCARBN_FLAG_W,PCO2,PCO2_FLAG_W,ALKALI,ALKALI_FLAG_W,PH,PH_FLAG_W,THETA,CHLORA,CHLORA_FLAG_W,CTDRAW,CTDRAW_FLAG_W,PPHYTN,PPHYTN_FLAG_W
,,,,,,,,,,,,DBAR,,DEG C,,PSS-78,,PSS-78,,UMOL/KG,,UMOL/KG,,UMOL/KG,,UMOL/KG,,UMOL/KG,,UMOL/KG,,PMOL/KG,,PMOL/KG,,UMOL/KG,,UATM,,UMOL/KG,,,,DEG C,UG/L,,DBAR,,UG/L,
35LLETAMBOT1_1,  AR15,     1,  1,      3,    3.0,2,19950909,2308,  5.6743, -51.5560,   20,      2.2,2,  27.9348,2,  34.3115,2,  31.0991,2,    236.8,2,    253.2,2,     7.23,2,     0.03,2,     0.00,2,     0.00,2, -999.000,9, -999.000,9,   1698.8,2,   -999.0,9,   2163.5,2,     8.22,2, 27.9343,    0.15,2,    4.0,2,    0.72,2
35LLETAMBOT1_1,  AR15,     1,  1,      2,    2.0,2,19950909,2308,  5.6743, -51.5560,   20,     41.5,2,  26.3255,2,  36.2847,2,  36.2864,2,    199.7,2,    197.7,2,     0.81,2,     0.33,2,     0.11,2,     0.08,2, -999.000,9, -999.000,9,   2035.1,2,   -999.0,9,   2407.1,2,     8.07,2, 26.3161, -999.00,9,   43.0,2, -999.00,9
35LLETAMBOT1_1,  AR15,     1,  1,      1,    1.0,2,19950909,2308,  5.6743, -51.5560,   20,     67.9,2,  26.2662,2,  36.2868,2,  36.2859,2,    197.5,2,    197.8,2,     0.80,2,     0.37,2,     0.13,2,     0.08,2, -999.000,9, -999.000,9,   2047.7,2,   -999.0,9,   2385.3,2,     8.09,2, 26.2509, -999.00,9,   69.0,2, -999.00,9
35LLETAMBOT1_1,  AR15,     2,  1,      9,    9.0,2,19950910,0155,  5.8355, -51.4142,   30,      1.2,2,  28.1824,2,  33.5224,2,  33.0091,2,    205.8,2,    208.5,2,     7.32,2,     0.02,2,     0.00,2,     0.01,2, -999.000,9, -999.000,9,   1838.0,2,   -999.0,9,   2217.7,2,     8.13,2, 28.1821,    0.08,2,    3.0,2,    0.11,2
35LLETAMBOT1_1,  AR15,     2,  1,      8,    8.0,2,19950910,0155,  5.8355, -51.4142,   30,     22.2,2,  27.2597,2,  36.1964,2,  36.1880,2,    201.1,2,    203.9,2,     0.74,2,     0.02,2,     0.00,2,     0.04,2, -999.000,9, -999.000,9,   2023.0,2,   -999.0,9,   2403.9,2,     8.07,2, 27.2546, -999.00,9,   24.0,2, -999.00,9
35LLETAMBOT1_1,  AR15,     2,  1,      7,    7.0,2,19950910,0155,  5.8355, -51.4142,   30,     52.4,2,  26.6796,2,  36.2657,2,  36.2666,2,    200.5,2,    207.2,2,     0.51,2,     0.04,2,     0.00,2,     0.05,2, -999.000,9, -999.000,9,   2024.8,2,   -999.0,9,   2401.3,2,     8.08,2, 26.6676, -999.00,9,   54.0,2, -999.00,9
35LLETAMBOT1_1,  AR15,     2,  1,      6,    6.0,2,19950910,0155,  5.8355, -51.4142,   30,     74.2,2,  26.5653,2,  36.2545,2,  36.2574,2,    201.2,2,    199.0,2,     0.61,2,     0.04,2,     0.03,2,     0.08,2, -999.000,9, -999.000,9,   2035.1,2,   -999.0,9,   2412.4,2,     8.08,2, 26.5484, -999.00,9,   76.0,2, -999.00,9
35LLETAMBOT1_1,  AR15,     2,  1,      5,    5.0,2,19950910,0155,  5.8355, -51.4142,   30,     98.6,2,  26.3819,2,  36.2985,2,  36.3021,2,    196.4,2,    194.4,2,     0.61,2,     0.34,2,     0.23,2,     0.09,2, -999.000,9, -999.000,9,   2040.6,2,   -999.0,9,   2412.7,2,     8.07,2, 26.3596, -999.00,9,  100.0,2, -999.00,9
35LLETAMBOT1_1,  AR15,     2,  1,      4,    4.0,2,19950910,0155,  5.8355, -51.4142,   30,    147.7,2,  26.1146,2,  36.3106,2,  36.3104,2,    193.0,2,    193.0,2,     0.79,2,     0.55,2,     0.26,2,     0.13,2, -999.000,9, -999.000,9,   2046.3,2,   -999.0,9,   2411.2,2,     8.06,2, 26.0814, -999.00,9,  148.0,2, -999.00,9
35LLETAMBOT1_1,  AR15,     2,  1,      3,    3.0,2,19950910,0155,  5.8355, -51.4142,   30,    198.8,2,  15.6163,2,  35.8158,2,  35.8972,2,    139.4,2,    133.2,2,     6.76,2,    15.95,2,     0.04,2,     1.02,2, -999.000,9, -999.000,9,   2170.9,2,   -999.0,9,   2385.1,2,     7.98,2, 15.5851, -999.00,9,  199.0,2, -999.00,9
35LLETAMBOT1_1,  AR15,     2,  1,      1,    1.0,2,19950910,0155,  5.8355, -51.4142,   30,    250.9,2,  15.3278,2,  35.7928,2,  35.8024,2,    128.3,2,    130.2,2,     7.35,2,    16.80,2,     0.04,2,     1.08,2, -999.000,9, -999.000,9,   2164.9,3,   -999.0,9,   2369.5,3,     7.96,2, 15.2889, -999.00,9,  251.0,2, -999.00,9
35LLETAMBOT1_1,  AR15,     2,  1,      2,    2.0,2,19950910,0155,  5.8355, -51.4142,   30,    250.9,2,  15.3278,2,  35.7928,2,  35.8019,2,    128.3,2,    130.0,2,     7.33,2,    16.79,2,     0.04,2,     1.07,2, -999.000,9, -999.000,9,   2182.8,2,   -999.0,9,   2389.4,2,     7.97,2, 15.2889, -999.00,9,  251.0,2, -999.00,9
35LLETAMBOT1_1,  AR15,     3,  1,     13,   13.0,2,19950910,0355,  5.8495, -51.4060,   15,      0.5,2,  28.2891,2,  32.8106,2,  32.7258,2,    204.5,2,    208.1,2,     7.85,2,     0.02,2,     0.00,2,     0.02,2, -999.000,9, -999.000,9,   -999.0,9,   -999.0,9,   -999.0,9,  -999.00,9, 28.2890, -999.00,9,    3.0,2, -999.00,9
35LLETAMBOT1_1,  AR15,     3,  1,     11,   11.0,2,19950910,0355,  5.8495, -51.4060,   15,     22.9,2,  27.4542,2,  36.1734,2,  36.1767,2,    199.6,2,    211.8,4,     0.86,2,     0.02,2,     0.00,2,     0.06,2, -999.000,9, -999.000,9,   -999.0,9,   -999.0,9,   -999.0,9,  -999.00,9, 27.4489, -999.00,9,   27.0,2, -999.00,9
35LLETAMBOT1_1,  AR15,     3,  1,     12,   12.0,2,19950910,0355,  5.8495, -51.4060,   15,     24.1,2,  27.4566,2,  36.1700,2,  36.1785,2,    199.2,2,    199.1,2,     0.92,2,     0.02,2,     0.00,2,     0.06,2, -999.000,9, -999.000,9,   -999.0,9,   -999.0,9,   -999.0,9,  -999.00,9, 27.4510, -999.00,9,   26.0,2, -999.00,9
35LLETAMBOT1_1,  AR15,     3,  1,     10,   10.0,2,19950910,0355,  5.8495, -51.4060,   15,     50.0,2,  26.8508,2,  36.2351,2,  36.2273,2,    200.9,2,    199.9,2,     0.54,2,     0.01,2,     0.00,2,     0.08,2, -999.000,9, -999.000,9,   -999.0,9,   -999.0,9,   -999.0,9,  -999.00,9, 26.8393, -999.00,9,   52.0,2, -999.00,9
35LLETAMBOT1_1,  AR15,     3,  1,      9,    9.0,2,19950910,0355,  5.8495, -51.4060,   15,     74.6,2,  26.4416,2,  36.2845,2,  36.2901,2,    198.4,2,    196.5,2,     0.52,2,     0.10,2,     0.23,2,     0.10,2, -999.000,9, -999.000,9,   -999.0,9,   -999.0,9,   -999.0,9,  -999.00,9, 26.4247, -999.00,9,   76.0,2, -999.00,9
35LLETAMBOT1_1,  AR15,     3,  1,      8,    8.0,2,19950910,0355,  5.8495, -51.4060,   15,    100.2,2,  26.0938,2,  36.3116,2,  36.3136,2,    194.3,2,    206.1,3,     0.62,2,     0.61,2,     0.23,2,     0.13,2, -999.000,9, -999.000,9,   -999.0,9,   -999.0,9,   -999.0,9,  -999.00,9, 26.0713, -999.00,9,  101.0,2, -999.00,9
35LLETAMBOT1_1,  AR15,     3,  1,      7,    7.0,2,19950910,0355,  5.8495, -51.4060,   15,    147.5,2,  25.5500,2,  36.2932,2,  36.2880,2,    192.4,2,    199.1,2,     1.02,2,     1.22,2,     0.21,2,     0.18,2, -999.000,9, -999.000,9,   -999.0,9,   -999.0,9,   -999.0,9,  -999.00,9, 25.5173, -999.00,9,  148.0,2, -999.00,9
35LLETAMBOT1_1,  AR15,     3,  1,      6,    6.0,2,19950910,0355,  5.8495, -51.4060,   15,    197.9,2,  15.5071,2,  35.8166,2,  35.8236,2,    140.2,2,    130.6,2,     6.95,2,    16.73,2,     0.02,2,     1.06,2, -999.000,9, -999.000,9,   -999.0,9,   -999.0,9,   -999.0,9,  -999.00,9, 15.4762, -999.00,9,  198.0,2, -999.00,9
35LLETAMBOT1_1,  AR15,     3,  1,      5,    5.0,2,19950910,0355,  5.8495, -51.4060,   15,    248.2,2,  14.7551,2,  35.7074,2,  35.6682,2,    129.3,2,    126.5,2,     8.45,2,    18.92,2,     0.03,2,     1.21,2, -999.000,9, -999.000,9,   -999.0,9,   -999.0,9,   -999.0,9,  -999.00,9, 14.7176, -999.00,9,  248.0,2, -999.00,9
35LLETAMBOT1_1,  AR15,     3,  1,      4,    4.0,2,19950910,0355,  5.8495, -51.4060,   15,    299.8,2,  10.9539,2,  35.0794,2,  35.0527,2,    135.6,2,    136.6,2,    13.13,2,    24.62,2,     0.02,2,     1.65,2, -999.000,9, -999.000,9,   -999.0,9,   -999.0,9,   -999.0,9,  -999.00,9, 10.9168, -999.00,9,  299.0,2, -999.00,9
35LLETAMBOT1_1,  AR15,     3,  1,      3,    3.0,2,19950910,0355,  5.8495, -51.4060,   15,    399.9,2,   7.1630,2,  34.6358,2,  34.6422,2,    141.1,2,    141.9,2,    20.85,2,    31.67,2,     0.02,2,     2.10,2, -999.000,9, -999.000,9,   -999.0,9,   -999.0,9,   -999.0,9,  -999.00,9,  7.1247, -999.00,9,  398.0,2, -999.00,9
35LLETAMBOT1_1,  AR15,     3,  1,      2,    2.0,2,19950910,0355,  5.8495, -51.4060,   15,    500.8,2,   6.5147,2,  34.6172,2,  34.6211,2,    131.0,2,    130.8,2,    24.17,2,    34.28,2,     0.01,2,     2.28,2, -999.000,9, -999.000,9,   -999.0,9,   -999.0,9,   -999.0,9,  -999.00,9,  6.4689, -999.00,9,  499.0,2, -999.00,9
35LLETAMBOT1_1,  AR15,     3,  1,      1,    1.0,2,19950910,0355,  5.8495, -51.4060,   15,    581.3,2,   5.9802,2,  34.5900,2,  34.5924,2,    131.8,2,    131.2,2,    26.86,2,    35.20,2,     0.01,2,     2.34,2, -999.000,9, -999.000,9,   -999.0,9,   -999.0,9,   -999.0,9,  -999.00,9,  5.9291, -999.00,9,  579.0,2, -999.00,9
35LLETAMBOT1_1,  AR15,     4,  1,     14,   14.0,2,19950910,0558,  5.8748, -51.3805,   20,      1.3,2,  28.0661,2,  34.3019,2,  34.0151,2,    207.0,2,    203.9,2,     5.19,2,     0.32,2,     0.00,2,     0.03,2, -999.000,9, -999.000,9,   1889.4,2,   -999.0,9,   2268.3,2,     8.12,2, 28.0658,    0.07,2,    3.0,2,    0.05,2
35LLETAMBOT1_1,  AR15,     4,  1,     13,   13.0,2,19950910,0558,  5.8748, -51.3805,   20,     23.6,2,  27.3604,2,  36.1527,2,  36.1460,2,    203.8,2,    200.3,2,     1.02,2,     0.37,2,     0.00,2,     0.04,2, -999.000,9, -999.000,9,   2008.0,2,   -999.0,9,   2390.1,2,     8.08,2, 27.3549, -999.00,9,   25.0,2, -999.00,9
35LLETAMBOT1_1,  AR15,     4,  1,     12,   12.0,2,19950910,0558,  5.8748, -51.3805,   20,     49.6,2,  26.7275,2,  36.2090,2,  36.2618,2,    199.6,2,    198.7,2,     0.64,2,     0.30,2,     0.10,2,     0.08,2, -999.000,9, -999.000,9,   2044.6,2,   -999.0,9,   2422.8,2,     8.08,2, 26.7162, -999.00,9,   51.0,2, -999.00,9
35LLETAMBOT1_1,  AR15,     4,  1,     11,   11.0,2,19950910,0558,  5.8748, -51.3805,   20,     73.5,2,  26.3673,2,  36.3041,2,  36.3090,2,    192.6,2,    194.7,2,     0.66,2,     0.45,2,     0.29,2,     0.09,2, -999.000,9, -999.000,9,   2050.8,2,   -999.0,9,   2424.8,2,     8.07,2, 26.3507, -999.00,9,   75.0,2, -999.00,9
35LLETAMBOT1_1,  AR15,     4,  1,     10,   10.0,2,19950910,0558,  5.8748, -51.3805,   20,    124.0,2,  25.7330,2,  36.3184,2,  36.3120,2,    190.5,2,    191.0,2,     0.87,2,     1.19,2,     0.20,2,     0.15,2, -999.000,9, -999.000,9,   2059.3,2,   -999.0,9,   2421.9,2,     8.07,2, 25.7054, -999.00,9,  126.0,2, -999.00,9
35LLETAMBOT1_1,  AR15,     4,  1,      9,    9.0,2,19950910,0558,  5.8748, -51.3805,   20,    172.5,2,  15.3930,2,  35.7465,2,  35.7926,2,    149.1,2,    133.3,2,     6.97,2,    16.05,2,     0.02,2,     1.04,2, -999.000,9, -999.000,9,   2159.1,2,   -999.0,9,   2365.9,2,     7.97,2, 15.3663, -999.00,9,  174.0,2, -999.00,9
35LLETAMBOT1_1,  AR15,     4,  1,      8,    8.0,2,19950910,0558,  5.8748, -51.3805,   20,    247.9,2,  14.3716,2,  35.6428,2,  35.5639,2,    127.0,2,    125.3,2,     8.83,2,    19.50,2,     0.01,2,     1.26,2, -999.000,9, -999.000,9,   2183.7,2,   -999.0,9,   2364.6,2,     7.94,2, 14.3349, -999.00,9,  249.0,2, -999.00,9
35LLETAMBOT1_1,  AR15,     4,  1,      7,    7.0,2,19950910,0558,  5.8748, -51.3805,   20,    299.4,2,  10.9548,2,  35.0882,2,  35.0618,2,    136.2,2,    136.0,2,    12.28,2,    23.85,2,     0.01,2,     1.59,2, -999.000,9, -999.000,9,   2187.3,2,   -999.0,9,   2338.5,2,     7.93,2, 10.9178, -999.00,9,  301.0,2, -999.00,9
35LLETAMBOT1_1,  AR15,     4,  1,      6,    6.0,2,19950910,0558,  5.8748, -51.3805,   20,    399.6,2,   6.7800,2,  34.5849,2,  34.5875,2,    153.9,2,    152.5,2,    21.12,2,    30.97,2,     0.00,2,     2.07,2, -999.000,9, -999.000,9,   2207.3,2,   -999.0,9,   2321.6,2,     7.90,2,  6.7429, -999.00,9,  401.0,2, -999.00,9
35LLETAMBOT1_1,  AR15,     4,  1,      5,    5.0,2,19950910,0558,  5.8748, -51.3805,   20,    497.9,2,   6.2385,2,  34.5974,2,  34.5648,2,    140.4,2,    141.6,2,    24.60,2,    33.45,2,     0.00,2,     2.24,2, -999.000,9, -999.000,9,   2240.7,3,   -999.0,9,   2342.2,3,     7.86,2,  6.1940, -999.00,9,  500.0,2, -999.00,9
35LLETAMBOT1_1,  AR15,     4,  1,      3,    3.0,2,19950910,0558,  5.8748, -51.3805,   20,    597.5,2,   5.7551,2,  34.5910,2,  34.5947,2,    131.6,2,    130.1,2,    27.02,2,    35.00,2,     0.00,2,     2.35,2, -999.000,9, -999.000,9,   2215.9,2,   -999.0,9,   2310.8,2,     7.85,2,  5.7035, -999.00,9,  599.0,2, -999.00,9
35LLETAMBOT1_1,  AR15,     4,  1,      4,    4.0,2,19950910,0558,  5.8748, -51.3805,   20,    597.5,2,   5.7551,2,  34.5910,2,  34.5947,2,    131.6,2,    130.1,2,    26.88,2,    34.96,2,     0.00,2,     2.34,2, -999.000,9, -999.000,9,   2219.9,2,   -999.0,9,   2315.7,2,     7.85,2,  5.7035, -999.00,9,  599.0,2, -999.00,9
35LLETAMBOT1_1,  AR15,     4,  1,      2,    2.0,2,19950910,0558,  5.8748, -51.3805,   20,    698.0,2,   5.2602,2,  34.5776,2,  34.5810,2,    141.5,2,    141.0,2,    29.82,2,    34.58,2,     0.00,2,     2.35,2, -999.000,9, -999.000,9,   2216.9,2,   -999.0,9,   2315.2,2,     7.87,2,  5.2021, -999.00,9,  700.0,2, -999.00,9
35LLETAMBOT1_1,  AR15,     4,  1,      1,    1.0,2,19950910,0558,  5.8748, -51.3805,   20,    787.8,2,   5.0694,2,  34.5829,2,  34.5886,2,    143.5,2,    143.3,2,    30.68,2,    34.35,2,     0.00,2,     2.32,2, -999.000,9, -999.000,9,   2228.5,2,   -999.0,9,   2340.9,3,     7.90,3,  5.0045, -999.00,9,  789.0,2, -999.00,9
35LLETAMBOT1_1,  AR15,     5,  1,     18,   18.0,2,19950910,0846,  5.9067, -51.3527,   20,      0.7,2,  27.9228,2,  34.8252,2,  35.1275,2,    199.5,2,    200.5,2,     2.74,2,     0.14,2,     0.00,2,     0.03,2,    1.819,2,    0.930,2,   -999.0,9,   -999.0,9,   -999.0,9,  -999.00,9, 27.9226,    0.07,2,    3.0,2,    0.03,2
35LLETAMBOT1_1,  AR15,     5,  1,     17,   17.0,2,19950910,0846,  5.9067, -51.3527,   20,     24.9,2,  27.4552,2,  36.0466,2,  35.9907,2,    199.8,2,    199.7,2,     1.16,2,     0.14,2,     0.00,2,     0.04,2,    1.746,2,    0.917,2,   -999.0,9,   -999.0,9,   -999.0,9,  -999.00,9, 27.4494, -999.00,9,   26.0,2, -999.00,9
35LLETAMBOT1_1,  AR15,     5,  1,     16,   16.0,2,19950910,0846,  5.9067, -51.3527,   20,     49.9,2,  26.4944,2,  36.2737,2,  36.2645,2,    201.0,2,    199.1,2,     0.53,2,     0.14,2,     0.09,2,     0.07,2,    1.777,2,    0.936,2,   -999.0,9,   -999.0,9,   -999.0,9,  -999.00,9, 26.4831, -999.00,9,   52.0,2, -999.00,9
35LLETAMBOT1_1,  AR15,     5,  1,     15,   15.0,2,19950910,0846,  5.9067, -51.3527,   20,     73.8,2,  26.3395,2,  36.2956,2,  36.2946,2,    197.5,2,    196.2,2,     0.55,2,     0.17,2,     0.25,2,     0.08,2,    1.712,2,    0.895,2,   -999.0,9,   -999.0,9,   -999.0,9,  -999.00,9, 26.3228, -999.00,9,   75.0,2, -999.00,9
35LLETAMBOT1_1,  AR15,     5,  1,     14,   14.0,2,19950910,0846,  5.9067, -51.3527,   20,    123.2,2,  25.4671,2,  36.2994,2,  36.3025,2,    191.9,2,    191.3,2,     0.83,2,     1.18,2,     0.19,2,     0.15,2,    1.775,2,    0.939,2,   -999.0,9,   -999.0,9,   -999.0,9,  -999.00,9, 25.4399, -999.00,9,  125.0,2, -999.00,9
35LLETAMBOT1_1,  AR15,     5,  1,     13,   13.0,2,19950910,0846,  5.9067, -51.3527,   20,    172.8,2,  15.8945,2,  35.8145,2,  35.8215,2,    146.4,2,    137.4,2,     6.44,2,    14.87,2,     0.02,2,     0.99,2,    1.543,2,    0.725,2,   -999.0,9,   -999.0,9,   -999.0,9,  -999.00,9, 15.8671, -999.00,9,  175.0,2, -999.00,9
35LLETAMBOT1_1,  AR15,     5,  1,     12,   12.0,2,19950910,0846,  5.9067, -51.3527,   20,    247.6,2,  13.5438,2,  35.5254,2,  35.4999,2,    124.5,2,    124.5,2,     9.46,2,    20.07,2,     0.00,2,     1.32,2,    1.240,2,    0.554,2,   -999.0,9,   -999.0,9,   -999.0,9,  -999.00,9, 13.5086, -999.00,9,  249.0,2, -999.00,9
35LLETAMBOT1_1,  AR15,     5,  1,     11,   11.0,2,19950910,0846,  5.9067, -51.3527,   20,    297.5,2,  11.6592,2,  35.2099,2,  35.1996,2,    127.2,2,    129.8,2,    11.57,2,    22.68,2,     0.00,2,     1.52,2,    1.061,2,    0.464,2,   -999.0,9,   -999.0,9,   -999.0,9,  -999.00,9, 11.6209, -999.00,9,  299.0,2, -999.00,9
35LLETAMBOT1_1,  AR15,     5,  1,     10,   10.0,2,19950910,0846,  5.9067, -51.3527,   20,    398.1,2,   6.5139,2,  34.5647,2,  34.5969,3,    149.8,2,    149.7,2,    21.36,2,    30.70,2,     0.00,2,     2.08,2,    0.498,2,    0.214,2,   -999.0,9,   -999.0,9,   -999.0,9,  -999.00,9,  6.4778, -999.00,9,  400.0,2, -999.00,9
35LLETAMBOT1_1,  AR15,     5,  1,      9,    9.0,2,19950910,0846,  5.9067, -51.3527,   20,    497.3,2,   5.9116,2,  34.5432,2,  34.5482,2,    146.3,2,    146.4,2,    25.11,2,    32.74,2,     0.00,2,     2.22,2,    0.267,2,    0.103,2,   -999.0,9,   -999.0,9,   -999.0,9,  -999.00,9,  5.8685, -999.00,9,  499.0,2, -999.00,9
35LLETAMBOT1_1,  AR15,     5,  1,      8,    8.0,2,19950910,0846,  5.9067, -51.3527,   20,    597.0,2,   5.8588,2,  34.5880,2,  34.5901,2,    129.4,2,    129.4,2,    26.61,2,    34.53,2,     0.00,2,     2.33,2,    0.082,2,    0.033,2,   -999.0,9,   -999.0,9,   -999.0,9,  -999.00,9,  5.8068, -999.00,9,  599.0,2, -999.00,9
35LLETAMBOT1_1,  AR15,     5,  1,      7,    7.0,2,19950910,0846,  5.9067, -51.3527,   20,    796.3,2,   4.9237,2,  34.5636,2,  34.5658,2,    149.3,2,    146.9,2,    31.07,2,    34.12,2,     0.00,2,     2.34,2,    0.093,2,    0.032,2,   -999.0,9,   -999.0,9,   -999.0,9,  -999.00,9,  4.8589, -999.00,9,  798.0,2, -999.00,9
35LLETAMBOT1_1,  AR15,     5,  1,      6,    6.0,2,19950910,0846,  5.9067, -51.3527,   20,    896.1,2,   4.8913,2,  34.6259,2,  34.6383,2,    148.6,2,    146.8,2,    30.64,2,    33.23,2,     0.00,2,     2.28,2,    0.007,2,    0.004,2,   -999.0,9,   -999.0,9,   -999.0,9,  -999.00,9,  4.8179, -999.00,9,  897.0,2, -999.00,9
35LLETAMBOT1_1,  AR15,     5,  1,      5,    5.0,2,19950910,0846,  5.9067, -51.3527,   20,    996.5,2,   4.8962,2,  34.7069,2,  34.7159,2,    152.9,2,    153.2,2,    29.24,2,    31.62,2,     0.00,2,     2.19,2,    0.009,2,    0.004,2,   -999.0,9,   -999.0,9,   -999.0,9,  -999.00,9,  4.8137, -999.00,9,  998.0,2, -999.00,9
35LLETAMBOT1_1,  AR15,     5,  1,      4,    4.0,2,19950910,0846,  5.9067, -51.3527,   20,   1096.0,2,   4.9388,2,  34.7971,2,  34.8045,2,    165.8,2,    166.5,2,    26.67,2,    29.23,2,     0.00,2,     2.03,2,    0.046,2,    0.003,2,   -999.0,9,   -999.0,9,   -999.0,9,  -999.00,9,  4.8467, -999.00,9, 1097.0,2, -999.00,9
35LLETAMBOT1_1,  AR15,     5,  1,      3,    3.0,2,19950910,0846,  5.9067, -51.3527,   20,   1195.8,2,   4.9541,2,  34.8732,2,  34.8840,2,    179.9,2,    183.5,2,    23.87,2,    26.31,2,     0.00,2,     1.82,2,    0.078,2,    0.019,2,   -999.0,9,   -999.0,9,   -999.0,9,  -999.00,9,  4.8525, -999.00,9, 1197.0,2, -999.00,9
35LLETAMBOT1_1,  AR15,     5,  1,      2,    2.0,2,19950910,0846,  5.9067, -51.3527,   20,   1196.1,2,   4.9542,2,  34.8736,2,  34.8840,2,    180.0,2,    183.7,2,    23.79,2,    26.26,2,     0.00,2,     1.82,2,    0.082,2,    0.021,2,   -999.0,9,   -999.0,9,   -999.0,9,  -999.00,9,  4.8526, -999.00,9, 1198.0,2, -999.00,9
35LLETAMBOT1_1,  AR15,     5,  1,      1,    1.0,2,19950910,0846,  5.9067, -51.3527,   20,   1261.7,2,   4.9052,2,  34.9644,2,  34.9613,2,    203.5,2,    206.0,2,    20.18,2,    22.96,2,     0.00,2,     1.60,2,    0.208,2,    0.133,2,   -999.0,9,   -999.0,9,   -999.0,9,  -999.00,9,  4.7977, -999.00,9, 1263.0,2, -999.00,9