BOTTLE,20220929CCHSIOAMB
EXPOCODE,SECT_ID,STNNBR,CASTNO,SAMPNO,BTLNBR,BTLNBR_FLAG_W,DATE,TIME,LATITUDE,LONGITUDE,DEPTH,CTDPRS,CTDPRS_FLAG_W,CTDTMP,CTDTMP_FLAG_W,CTDSAL,CTDSAL_FLAG_W,SALNTY,SALNTY_FLAG_W,CTDOXY,CTDOXY_FLAG_W,OXYGEN,OXYGEN_FLAG_W,SILCAT,SILCAT_FLAG_W,NITRAT,NITRAT_FLAG_W,NITRIT,NITRIT_FLAG_W,PHSPHT,PHSPHT_FLAG_W,CFC-11,CFC-11_FLAG_W,CFC-12,CFC-12_FLAG_W,TCARBN,TCARBN_FLAG_W,PCO2,PCO2_FLAG_W,ALKALI,ALKALI_FLAG_W,PH,PH_FLAG_W,THETA,CHLORA,CHLORA_FLAG_W,CTDRAW,CTDRAW_FLAG_W,PPHYTN,PPHYTN_FLAG_W
,,,,,,,,,,,,DBAR,,DEG C,,PSS-78,,PSS-78,,UMOL/KG,,UMOL/KG,,UMOL/KG,,UMOL/KG,,UMOL/KG,,UMOL/KG,,PMOL/KG,,PMOL/KG,,UMOL/KG,,UATM,,UMOL/KG,,,,DEG C,UG/L,,DBAR,,UG/L,
35LLETAMBOT1_2,  AR04,    77,  1,     24,   24.0,2,19951005,0331,  4.8542, -42.7507,   20,      0.0,2,  29.4296,2,  35.2381,2,  35.2204,2,    195.8,2,    196.8,2,     1.79,2,     0.07,2,     0.00,2,     0.00,2, -999.000,9, -999.000,9,   1951.6,2,    349.9,2,   2346.8,2,     8.08,2, 29.4296,    0.10,2,    2.0,2,    0.02,2
35LLETAMBOT1_2,  AR04,    77,  1,     23,   23.0,2,19951005,0331,  4.8542, -42.7507,   20,    100.2,2,  20.4519,2,  36.4054,2,  36.3830,2,    145.1,2,    136.0,2,     2.64,2,     9.84,2,     0.03,2,     0.56,2, -999.000,9, -999.000,9,   2133.2,2,   -999.0,9,   2397.8,2,     8.00,2, 20.4330, -999.00,9,  102.0,2, -999.00,9
35LLETAMBOT1_2,  AR04,    77,  1,     22,   22.0,2,19951005,0331,  4.8542, -42.7507,   20,    198.8,2,  10.5658,2,  34.9904,2,  35.0098,2,    146.0,2,    142.5,2,    10.45,2,    22.63,2,     0.01,2,     1.48,2, -999.000,9, -999.000,9,   2172.8,2,   -999.0,9,   2331.7,2,     7.95,2, 10.5419, -999.00,9,  200.0,2, -999.00,9
35LLETAMBOT1_2,  AR04,    77,  1,     21,   21.0,2,19951005,0331,  4.8542, -42.7507,   20,    398.3,2,   8.1499,2,  34.7439,2,  34.7440,2,    125.3,2,    119.7,2,    16.82,2,    30.32,2,     0.00,2,     1.98,2, -999.000,9, -999.000,9,   2212.6,2,   -999.0,9,   2325.4,2,     7.87,2,  8.1088, -999.00,9,  400.0,2, -999.00,9
35LLETAMBOT1_2,  AR04,    77,  1,     20,   20.0,2,19951005,0331,  4.8542, -42.7507,   20,    597.9,2,   6.1926,2,  34.5870,2,  34.5910,2,    130.1,2,    130.9,2,    23.48,2,    33.24,2,     0.00,2,     2.22,2, -999.000,9, -999.000,9,   2230.7,2,   -999.0,9,   2329.4,2,     7.85,2,  6.1390, -999.00,9,  599.0,2, -999.00,9
35LLETAMBOT1_2,  AR04,    77,  1,     19,   19.0,2,19951005,0331,  4.8542, -42.7507,   20,    797.1,2,   4.9810,2,  34.5579,2,  34.5624,2,    142.8,2,    144.9,2,    29.30,2,    33.44,2,     0.00,2,     2.29,2,    0.108,2,    0.042,2,   2214.1,2,   -999.0,9,   2312.8,2,     7.87,2,  4.9158, -999.00,9,  799.0,2, -999.00,9
35LLETAMBOT1_2,  AR04,    77,  1,     18,   18.0,2,19951005,0331,  4.8542, -42.7507,   20,    998.0,2,   4.6239,2,  34.6742,2,  34.6836,2,    154.7,2,    156.7,2,    29.61,2,    31.51,2,     0.00,2,     2.16,2,    0.000,2,    0.002,2,   2205.8,2,   -999.0,9,   2313.8,2,     7.89,2,  4.5433, -999.00,9,  999.0,2, -999.00,9
35LLETAMBOT1_2,  AR04,    77,  1,     17,   17.0,2,19951005,0331,  4.8542, -42.7507,   20,   1297.4,2,   4.6248,2,  34.8609,2,  34.8700,2,    185.7,2,    187.6,2,    23.21,2,    26.24,2,     0.00,2,     1.77,2,    0.039,2,    0.015,2,   2182.1,2,   -999.0,9,   2316.3,2,     7.95,2,  4.5169, -999.00,9, 1299.0,2, -999.00,9
35LLETAMBOT1_2,  AR04,    77,  1,     16,   16.0,2,19951005,0331,  4.8542, -42.7507,   20,   1496.5,2,   4.3938,2,  34.9647,2,  34.9631,2,    223.6,2,    222.2,2,    18.29,2,    21.75,2,     0.00,2,     1.46,2,    0.092,2,    0.042,2,   2165.1,2,   -999.0,9,   2321.1,2,     8.00,2,  4.2695, -999.00,9, 1498.0,2, -999.00,9
35LLETAMBOT1_2,  AR04,    77,  1,     15,   15.0,2,19951005,0331,  4.8542, -42.7507,   20,   1597.5,2,   4.1781,2,  34.9767,2,  34.9754,2,    235.7,2,    233.3,2,    17.32,2,    20.60,2,     0.00,2,     1.36,2,    0.090,2,    0.043,2,   2163.7,2,   -999.0,9,   2325.4,2,     8.01,2,  4.0468, -999.00,9, 1599.0,2, -999.00,9
35LLETAMBOT1_2,  AR04,    77,  1,     14,   14.0,2,19951005,0331,  4.8542, -42.7507,   20,   1697.3,2,   4.1299,2,  34.9891,2,  34.9860,2,    243.6,2,    242.2,2,    16.27,2,    19.67,2,     0.00,2,     1.30,2,    0.146,2,    0.067,2,   2166.0,2,   -999.0,9,   2333.5,2,     8.02,2,  3.9897, -999.00,9, 1699.0,2, -999.00,9
35LLETAMBOT1_2,  AR04,    77,  1,     13,   13.0,2,19951005,0331,  4.8542, -42.7507,   20,   1798.3,2,   3.9543,2,  34.9873,2,  34.9887,2,    250.4,2,    249.2,2,    15.89,2,    19.06,2,     0.00,2,     1.26,2,    0.166,2,    0.076,2,   2153.4,2,   -999.0,9,   2323.2,2,     8.03,2,  3.8068, -999.00,9, 1799.0,2, -999.00,9
35LLETAMBOT1_2,  AR04,    77,  1,     12,   12.0,2,19951005,0331,  4.8542, -42.7507,   20,   1998.4,2,   3.6295,2,  34.9771,2,  34.9783,2,    254.4,2,    252.9,2,    17.84,2,    18.91,2,     0.00,2,     1.26,2,    0.088,2,    0.043,2,   2146.7,2,   -999.0,9,   2318.3,2,     8.03,2,  3.4676, -999.00,9, 2000.0,2, -999.00,9
35LLETAMBOT1_2,  AR04,    77,  1,     11,   11.0,2,19951005,0331,  4.8542, -42.7507,   20,   2297.5,2,   3.2953,2,  34.9605,2,  34.9631,2,    256.5,2,    256.5,2,    20.80,2,    18.85,2,     0.00,2,     1.27,2,    0.063,2,    0.036,2,   2147.5,2,   -999.0,9,   2320.2,2,     8.03,2,  3.1099, -999.00,9, 2299.0,2, -999.00,9
35LLETAMBOT1_2,  AR04,    77,  1,     10,   10.0,2,19951005,0331,  4.8542, -42.7507,   20,   2597.5,2,   3.0190,2,  34.9477,2,  34.9482,2,    257.7,2,    258.1,2,    23.28,2,    18.81,2,     0.00,2,     1.26,2,    0.058,2,    0.028,2,   2152.4,2,   -999.0,9,   2326.6,2,     8.02,2,  2.8090, -999.00,9, 2599.0,2, -999.00,9
35LLETAMBOT1_2,  AR04,    77,  1,      9,    9.0,2,19951005,0331,  4.8542, -42.7507,   20,   2798.7,2,   2.8632,2,  34.9378,2,  34.9403,2,    258.8,2,    260.1,2,    25.49,2,    18.95,2,     0.00,2,     1.27,2,    0.065,2,    0.031,2,   2163.8,2,   -999.0,9,   2336.8,2,     8.01,2,  2.6361, -999.00,9, 2800.0,2, -999.00,9
35LLETAMBOT1_2,  AR04,    77,  1,      8,    8.0,2,19951005,0331,  4.8542, -42.7507,   20,   2998.5,2,   2.7624,2,  34.9312,2,  34.9320,2,    258.9,2,    258.0,2,    27.22,2,    19.05,2,     0.00,2,     1.28,2,    0.065,2,    0.029,2,   2124.5,3,   -999.0,9,   2296.4,3,     8.01,2,  2.5170, -999.00,9, 2999.0,2, -999.00,9
35LLETAMBOT1_2,  AR04,    77,  1,      7,    7.0,2,19951005,0331,  4.8542, -42.7507,   20,   3297.9,2,   2.6408,2,  34.9221,2,  34.9216,2,    259.2,2,    259.1,2,    29.10,2,    19.07,2,     0.00,2,     1.31,2,    0.078,2,    0.039,2,   2146.7,3,   -999.0,9,   2319.2,3,     8.00,2,  2.3667, -999.00,9, 3299.0,2, -999.00,9
35LLETAMBOT1_2,  AR04,    77,  1,      6,    6.0,2,19951005,0331,  4.8542, -42.7507,   20,   3600.5,2,   2.4793,2,  34.9112,2,  34.9094,2,    261.1,2,    261.0,2,    31.12,2,    19.11,2,     0.00,2,     1.31,2,    0.082,2,    0.041,2,   2122.3,3,   -999.0,9,   2292.2,3,     7.99,2,  2.1764, -999.00,9, 3602.0,2, -999.00,9
35LLETAMBOT1_2,  AR04,    77,  1,      5,    5.0,2,19951005,0331,  4.8542, -42.7507,   20,   3801.0,2,   2.3660,2,  34.9031,2,  34.9021,2,    263.2,2,    262.2,2,    32.14,2,    19.00,2,     0.00,2,     1.31,2,    0.099,2,    0.054,2,   2133.0,3,   -999.0,9,   2303.8,3,     7.98,2,  2.0439, -999.00,9, 3802.0,2, -999.00,9
35LLETAMBOT1_2,  AR04,    77,  1,      4,    4.0,2,19951005,0331,  4.8542, -42.7507,   20,   4000.3,2,   2.2966,2,  34.8953,2,  34.8946,2,    263.0,2,    261.5,2,    34.41,2,    19.21,2,     0.01,2,     1.31,2,    0.087,2,    0.040,2,   2168.9,2,   -999.0,9,   2340.7,2,     7.97,2,  1.9540, -999.00,9, 4001.0,2, -999.00,9
35LLETAMBOT1_2,  AR04,    77,  1,      3,    3.0,2,19951005,0331,  4.8542, -42.7507,   20,   4302.2,2,   2.0794,2,  34.8688,2,  34.8673,2,    257.1,2,    255.0,2,    46.40,2,    20.90,2,     0.00,2,     1.46,2,    0.073,2,    0.034,2,   2183.7,2,   -999.0,9,   2349.8,2,     7.95,2,  1.7085, -999.00,9, 4304.0,2, -999.00,9
35LLETAMBOT1_2,  AR04,    77,  1,      2,    2.0,2,19951005,0331,  4.8542, -42.7507,   20,   4500.3,2,   1.7968,2,  34.8330,2,  34.8320,2,    249.2,2,    247.3,2,    61.96,2,    23.15,2,     0.00,2,     1.62,2,    0.059,2,    0.024,2,   2196.3,2,   -999.0,9,   2353.8,2,     7.92,2,  1.4116, -999.00,9, 4501.0,2, -999.00,9
35LLETAMBOT1_2,  AR04,    77,  1,      1,    1.0,2,19951005,0331,  4.8542, -42.7507,   20,   4681.5,2,   1.3951,2,  34.7855,2,  34.7847,2,    233.3,2,    237.5,2,    83.23,2,    26.27,2,     0.00,2,     1.86,2,    0.029,2,    0.012,2,   2191.9,2,   -999.0,9,   2337.5,2,     7.89,2,  1.0016, -999.00,9, 4683.0,2, -999.00,9
35LLETAMBOT1_2,  AR04,    78,  1,     30,    6.0,2,19951005,0820,  5.2962, -42.5203, 4680,      2.3,2,  28.9246,2,  35.1070,2,  35.1520,2,    199.0,2,    197.4,2,     1.74,2,     0.00,2,     0.00,2,     0.00,2, -999.000,9, -999.000,9,   -999.0,9,    360.0,2,   -999.0,9,  -999.00,9, 28.9240,    0.10,2,    5.0,2,    0.02,2
35LLETAMBOT1_2,  AR04,    78,  1,     29,    5.0,2,19951005,0820,  5.2962, -42.5203, 4680,     22.9,2,  28.7102,2,  35.4786,2,  35.5160,2,    201.2,2,    197.4,2,     1.53,2,     0.00,2,     0.00,2,     0.02,2, -999.000,9, -999.000,9,   -999.0,9,   -999.0,9,   -999.0,9,  -999.00,9, 28.7047, -999.00,9,   25.0,2, -999.00,9
35LLETAMBOT1_2,  AR04,    78,  1,     28,    4.0,2,19951005,0820,  5.2962, -42.5203, 4680,     89.4,2,  22.7011,2,  36.4688,2,  36.4393,2,    168.7,2,    144.8,2,     1.97,2,     7.57,2,     0.05,2,     0.46,2, -999.000,9, -999.000,9,   -999.0,9,   -999.0,9,   -999.0,9,  -999.00,9, 22.6829, -999.00,9,   91.0,2, -999.00,9
35LLETAMBOT1_2,  AR04,    78,  1,     27,    3.0,2,19951005,0820,  5.2962, -42.5203, 4680,    128.6,2,  15.6253,2,  35.8608,2,  35.6974,2,    126.3,2,    124.7,2,     6.34,2,    18.21,2,     0.02,2,     1.14,2, -999.000,9, -999.000,9,   -999.0,9,   -999.0,9,   -999.0,9,  -999.00,9, 15.6052, -999.00,9,  129.0,2, -999.00,9
35LLETAMBOT1_2,  AR04,    78,  1,     26,    2.0,2,19951005,0820,  5.2962, -42.5203, 4680,    252.6,2,   9.7089,2,  34.8705,2,  34.8631,2,    141.7,2,    145.7,2,    12.23,2,    24.70,2,     0.01,2,     1.64,2, -999.000,9, -999.000,9,   -999.0,9,   -999.0,9,   -999.0,9,  -999.00,9,  9.6801, -999.00,9,  252.0,2, -999.00,9
35LLETAMBOT1_2,  AR04,    78,  1,     25,    1.0,2,19951005,0820,  5.2962, -42.5203, 4680,    494.8,2,   7.3622,2,  34.6587,2,  34.6591,2,    133.1,2,    133.6,2,    18.70,2,    30.90,2,     0.01,2,     2.04,2, -999.000,9, -999.000,9,   -999.0,9,   -999.0,9,   -999.0,9,  -999.00,9,  7.3138, -999.00,9,  493.0,2, -999.00,9
35LLETAMBOT1_2,  AR04,    78,  2,     24,   24.0,2,19951005,1030,  5.2993, -42.5172,   20,    647.4,2,   5.9678,2,  34.5817,2,  34.5853,2,    126.9,2,    138.7,2,    25.23,2,    34.24,2,     0.00,2,     2.30,2,    0.129,2,    0.055,2,   -999.0,9,   -999.0,9,   -999.0,9,  -999.00,9,  5.9106, -999.00,9,  650.0,2, -999.00,9
35LLETAMBOT1_2,  AR04,    78,  2,     23,   23.0,2,19951005,1030,  5.2993, -42.5172,   20,    797.9,2,   5.0436,2,  34.5508,2,  34.5510,2,    143.4,2,    142.2,2,    29.20,2,    34.03,2,     0.00,2,     2.34,2,    0.080,2,    0.030,2,   -999.0,9,   -999.0,9,   -999.0,9,  -999.00,9,  4.9780, -999.00,9,  800.0,2, -999.00,9
35LLETAMBOT1_2,  AR04,    78,  2,     22,   22.0,2,19951005,1030,  5.2993, -42.5172,   20,    996.6,2,   4.8004,2,  34.6503,2,  34.6603,2,    150.5,2,    150.1,2,    29.38,2,    32.34,2,     0.00,2,     2.23,2,    0.051,2,    0.019,2,   -999.0,9,   -999.0,9,   -999.0,9,  -999.00,9,  4.7187, -999.00,9,  998.0,2, -999.00,9
35LLETAMBOT1_2,  AR04,    78,  2,     21,   21.0,2,19951005,1030,  5.2993, -42.5172,   20,   1246.3,2,   4.6851,2,  34.8356,2,  34.8337,2,    179.0,2,    177.9,2,    24.41,2,    27.62,2,     0.00,2,     1.88,2,    0.042,2,    0.017,2,   -999.0,9,   -999.0,9,   -999.0,9,  -999.00,9,  4.5814, -999.00,9, 1247.0,2, -999.00,9
35LLETAMBOT1_2,  AR04,    78,  2,     20,   20.0,2,19951005,1030,  5.2993, -42.5172,   20,   1497.4,2,   4.4310,2,  34.9851,2,  34.9672,2,    229.3,2,    220.2,2,    18.00,2,    21.83,2,     0.00,2,     1.45,2,    0.164,2,    0.072,2,   -999.0,9,   -999.0,9,   -999.0,9,  -999.00,9,  4.3061, -999.00,9, 1499.0,2, -999.00,9
35LLETAMBOT1_2,  AR04,    78,  2,     19,   19.0,2,19951005,1030,  5.2993, -42.5172,   20,   1597.2,2,   4.2875,2,  34.9870,2,  34.9872,2,    238.9,2,    234.6,2,    16.48,2,    20.23,2,     0.00,2,     1.35,2,    0.219,2,    0.112,2,   -999.0,9,   -999.0,9,   -999.0,9,  -999.00,9,  4.1549, -999.00,9, 1598.0,2, -999.00,9
35LLETAMBOT1_2,  AR04,    78,  2,     18,   18.0,2,19951005,1030,  5.2993, -42.5172,   20,   1696.6,2,   4.1015,2,  34.9928,2,  34.9913,2,    247.8,2,    243.6,2,    15.44,2,    19.33,2,     0.00,2,     1.28,2,    0.234,2,    0.110,2,   -999.0,9,   -999.0,9,   -999.0,9,  -999.00,9,  3.9618, -999.00,9, 1698.0,2, -999.00,9
35LLETAMBOT1_2,  AR04,    78,  2,     17,   17.0,2,19951005,1030,  5.2993, -42.5172,   20,   1797.3,2,   3.8861,2,  34.9877,2,  34.9931,2,    252.7,2,    250.2,2,    15.54,2,    18.76,2,     0.00,2,     1.25,2,    0.229,2,    0.113,2,   -999.0,9,   -999.0,9,   -999.0,9,  -999.00,9,  3.7397, -999.00,9, 1799.0,2, -999.00,9
35LLETAMBOT1_2,  AR04,    78,  2,     16,   16.0,2,19951005,1030,  5.2993, -42.5172,   20,   1997.4,2,   3.5799,2,  34.9766,2,  34.9792,2,    256.0,2,    255.3,2,    17.49,2,    18.55,2,     0.00,2,     1.25,2,    0.116,2,    0.055,2,   -999.0,9,   -999.0,9,   -999.0,9,  -999.00,9,  3.4188, -999.00,9, 1999.0,2, -999.00,9
35LLETAMBOT1_2,  AR04,    78,  2,     14,   14.0,2,19951005,1030,  5.2993, -42.5172,   20,   2200.5,2,   3.3929,2,  34.9695,2,  34.9715,2,    259.6,2,    258.1,2,    18.54,2,    18.40,2,     0.00,2,     1.23,2,    0.129,2,    0.063,2,   -999.0,9,   -999.0,9,   -999.0,9,  -999.00,9,  3.2153, -999.00,9, 2202.0,2, -999.00,9
35LLETAMBOT1_2,  AR04,    78,  2,     15,   15.0,2,19951005,1030,  5.2993, -42.5172,   20,   2200.5,2,   3.3929,2,  34.9695,2,  34.9679,2,    259.6,2,    257.6,2,    18.70,2,    18.39,2,     0.00,2,     1.23,2,    0.132,2,    0.065,2,   -999.0,9,   -999.0,9,   -999.0,9,  -999.00,9,  3.2153, -999.00,9, 2202.0,2, -999.00,9
35LLETAMBOT1_2,  AR04,    78,  2,     13,   13.0,2,19951005,1030,  5.2993, -42.5172,   20,   2396.4,2,   3.1573,2,  34.9568,2,  34.9593,2,    258.5,2,    258.1,2,    21.11,2,    18.60,2,     0.00,2,     1.26,2,    0.100,2,    0.043,2,   -999.0,9,   -999.0,9,   -999.0,9,  -999.00,9,  2.9646, -999.00,9, 2398.0,2, -999.00,9
35LLETAMBOT1_2,  AR04,    78,  2,     12,   12.0,2,19951005,1030,  5.2993, -42.5172,   20,   2596.8,2,   2.9865,2,  34.9455,2,  34.9462,2,    258.1,2,    258.6,2,    24.28,2,    18.97,2,     0.00,2,     1.28,2,    0.083,2,    0.041,2,   -999.0,9,   -999.0,9,   -999.0,9,  -999.00,9,  2.7772, -999.00,9, 2598.0,2, -999.00,9
35LLETAMBOT1_2,  AR04,    78,  2,     11,   11.0,2,19951005,1030,  5.2993, -42.5172,   20,   2795.6,2,   2.8698,2,  34.9383,2,  34.9388,2,    258.7,2,    259.4,2,    25.82,2,    19.01,2,     0.00,2,     1.30,2,    0.093,2,    0.038,2,   -999.0,9,   -999.0,9,   -999.0,9,  -999.00,9,  2.6429, -999.00,9, 2798.0,2, -999.00,9
35LLETAMBOT1_2,  AR04,    78,  2,     10,   10.0,2,19951005,1030,  5.2993, -42.5172,   20,   2996.8,2,   2.7725,2,  34.9308,2,  34.9308,2,    257.4,2,    259.3,2,    28.17,2,    19.17,2,     0.00,2,     1.30,2,    0.062,2,    0.027,2,   -999.0,9,   -999.0,9,   -999.0,9,  -999.00,9,  2.5270, -999.00,9, 2998.0,2, -999.00,9
35LLETAMBOT1_2,  AR04,    78,  2,      9,    9.0,2,19951005,1030,  5.2993, -42.5172,   20,   3198.1,2,   2.7045,2,  34.9264,2,  34.9208,3,    258.9,2,    258.8,2,    28.44,2,    19.13,2,     0.00,2,     1.29,2,    0.081,2,    0.033,2,   -999.0,9,   -999.0,9,   -999.0,9,  -999.00,9,  2.4395, -999.00,9, 3200.0,2, -999.00,9
35LLETAMBOT1_2,  AR04,    78,  2,      8,    8.0,2,19951005,1030,  5.2993, -42.5172,   20,   3399.6,2,   2.6182,2,  34.9209,2,  34.9210,2,    259.6,2,    259.3,2,    30.04,2,    19.13,2,     0.00,2,     1.29,2,    0.094,2,    0.044,2,   -999.0,9,   -999.0,9,   -999.0,9,  -999.00,9,  2.3337, -999.00,9, 3401.0,2, -999.00,9
35LLETAMBOT1_2,  AR04,    78,  2,      7,    7.0,2,19951005,1030,  5.2993, -42.5172,   20,   3600.2,2,   2.5063,2,  34.9133,2,  34.9127,2,    261.2,2,    261.4,2,    30.73,2,    19.08,2,     0.00,2,     1.27,2,    0.115,2,    0.054,2,   -999.0,9,   -999.0,9,   -999.0,9,  -999.00,9,  2.2028, -999.00,9, 3601.0,2, -999.00,9
35LLETAMBOT1_2,  AR04,    78,  2,      6,    6.0,2,19951005,1030,  5.2993, -42.5172,   20,   3800.7,2,   2.3836,2,  34.9045,2,  34.9040,2,    263.1,2,    262.2,2,    31.90,2,    18.96,2,     0.00,2,     1.28,2, -999.000,9, -999.000,9,   -999.0,9,   -999.0,9,   -999.0,9,  -999.00,9,  2.0611, -999.00,9, 3802.0,2, -999.00,9
35LLETAMBOT1_2,  AR04,    78,  2,      5,    5.0,2,19951005,1030,  5.2993, -42.5172,   20,   3999.1,2,   2.2836,2,  34.8972,2,  34.8967,2,    264.6,2,    263.0,2,    32.72,2,    18.89,2,     0.00,2,     1.27,2,    0.160,2,    0.082,2,   -999.0,9,   -999.0,9,   -999.0,9,  -999.00,9,  1.9415, -999.00,9, 4000.0,2, -999.00,9
35LLETAMBOT1_2,  AR04,    78,  2,      4,    4.0,2,19951005,1030,  5.2993, -42.5172,   20,   4199.7,2,   2.2139,2,  34.8876,2,  34.8870,2,    262.5,2,    260.9,2,    37.22,2,    19.44,2,     0.01,2,     1.32,2,    0.137,2,    0.072,2,   -999.0,9,   -999.0,9,   -999.0,9,  -999.00,9,  1.8508, -999.00,9, 4201.0,2, -999.00,9
35LLETAMBOT1_2,  AR04,    78,  2,      3,    3.0,2,19951005,1030,  5.2993, -42.5172,   20,   4399.7,2,   1.7670,2,  34.8318,2,  34.8319,2,    248.4,2,    246.3,2,    62.74,2,    23.29,2,     0.01,2,     1.59,2,    0.075,2,    0.036,2,   -999.0,9,   -999.0,9,   -999.0,9,  -999.00,9,  1.3944, -999.00,9, 4401.0,2, -999.00,9
35LLETAMBOT1_2,  AR04,    78,  2,      2,    2.0,2,19951005,1030,  5.2993, -42.5172,   20,   4601.1,2,   1.4458,2,  34.7934,2,  34.7931,2,    238.0,2,    237.6,2,    81.84,2,    25.76,2,     0.01,2,     1.78,2,    0.049,2,    0.024,2,   -999.0,9,   -999.0,9,   -999.0,9,  -999.00,9,  1.0601, -999.00,9, 4602.0,2, -999.00,9
35LLETAMBOT1_2,  AR04,    78,  2,      1,    1.0,2,19951005,1030,  5.2993, -42.5172,   20,   4757.5,2,   1.4404,2,  34.7909,2,  34.7901,2,    234.7,2,    236.3,2,    83.12,2,    25.99,2,     0.01,2,     1.81,2,    0.056,2,    0.025,2,   -999.0,9,   -999.0,9,   -999.0,9,  -999.00,9,  1.0365, -999.00,9, 4758.0,2, -999.00,9