BOTTLE,20220929CCHSIOAMB
EXPOCODE,SECT_ID,STNNBR,CASTNO,SAMPNO,BTLNBR,BTLNBR_FLAG_W,DATE,TIME,LATITUDE,LONGITUDE,DEPTH,CTDPRS,CTDPRS_FLAG_W,CTDTMP,CTDTMP_FLAG_W,CTDSAL,CTDSAL_FLAG_W,SALNTY,SALNTY_FLAG_W,CTDOXY,CTDOXY_FLAG_W,OXYGEN,OXYGEN_FLAG_W,SILCAT,SILCAT_FLAG_W,NITRAT,NITRAT_FLAG_W,NITRIT,NITRIT_FLAG_W,PHSPHT,PHSPHT_FLAG_W,CFC-11,CFC-11_FLAG_W,CFC-12,CFC-12_FLAG_W,TCARBN,TCARBN_FLAG_W,PCO2,PCO2_FLAG_W,ALKALI,ALKALI_FLAG_W,PH,PH_FLAG_W,THETA,CHLORA,CHLORA_FLAG_W,CTDRAW,CTDRAW_FLAG_W,PPHYTN,PPHYTN_FLAG_W
,,,,,,,,,,,,DBAR,,DEG C,,PSS-78,,PSS-78,,UMOL/KG,,UMOL/KG,,UMOL/KG,,UMOL/KG,,UMOL/KG,,UMOL/KG,,PMOL/KG,,PMOL/KG,,UMOL/KG,,UATM,,UMOL/KG,,,,DEG C,UG/L,,DBAR,,UG/L,
35LLETAMBOT1_1,  AR04,    54,  1,     22,   22.0,2,19950924,0621, -0.9953, -34.9993,   15,     10.3,2,  26.6573,2,  35.9232,2,  35.9200,2,    200.6,2,    200.6,2,     0.52,2,     0.00,2,     0.00,2,     0.02,2, -999.000,9, -999.000,9,   -999.0,9,    375.1,2,   -999.0,9,  -999.00,9, 26.6550,    0.24,2,   12.0,2,    0.05,2
35LLETAMBOT1_1,  AR04,    54,  1,     21,   21.0,2,19950924,0621, -0.9953, -34.9993,   15,     49.6,2,  26.5424,2,  35.9650,2,  35.9626,2,    199.7,2,    199.2,2,     0.53,2,     0.00,2,     0.02,2,     0.03,2, -999.000,9, -999.000,9,   -999.0,9,   -999.0,9,   -999.0,9,  -999.00,9, 26.5311, -999.00,9,   52.0,2, -999.00,9
35LLETAMBOT1_1,  AR04,    54,  1,     20,   20.0,2,19950924,0621, -0.9953, -34.9993,   15,    124.0,2,  18.8059,2,  36.0464,2,  35.9189,2,    203.5,2,    173.9,2,     2.99,2,     8.14,2,     0.04,2,     0.64,2, -999.000,9, -999.000,9,   -999.0,9,   -999.0,9,   -999.0,9,  -999.00,9, 18.7838, -999.00,9,  125.0,2, -999.00,9
35LLETAMBOT1_1,  AR04,    54,  1,     19,   19.0,2,19950924,0621, -0.9953, -34.9993,   15,    397.2,2,   9.0867,2,  34.7990,2,  34.8039,2,    120.1,2,    120.7,2,    13.84,2,    28.55,2,     0.00,2,     1.84,2, -999.000,9, -999.000,9,   -999.0,9,   -999.0,9,   -999.0,9,  -999.00,9,  9.0429, -999.00,9,  399.0,2, -999.00,9
35LLETAMBOT1_1,  AR04,    54,  1,     18,   18.0,2,19950924,0621, -0.9953, -34.9993,   15,    596.4,2,   5.3650,2,  34.4735,2,  34.4760,2,    163.0,2,    159.1,2,    26.09,2,    32.56,2,     0.00,2,     2.19,2, -999.000,9, -999.000,9,   -999.0,9,   -999.0,9,   -999.0,9,  -999.00,9,  5.3154, -999.00,9,  598.0,2, -999.00,9
35LLETAMBOT1_1,  AR04,    54,  1,     17,   17.0,2,19950924,0621, -0.9953, -34.9993,   15,    795.4,2,   4.7391,2,  34.5222,2,  34.5120,2,    151.4,2,    150.7,2,    30.89,2,    34.02,2,     0.00,2,     2.31,2,    0.065,2,    0.029,2,   -999.0,9,   -999.0,9,   -999.0,9,  -999.00,9,  4.6756, -999.00,9,  798.0,2, -999.00,9
35LLETAMBOT1_1,  AR04,    54,  1,     16,   16.0,2,19950924,0621, -0.9953, -34.9993,   15,    997.2,2,   4.4653,2,  34.6224,2,  34.6230,2,    162.2,2,    162.0,2,    30.92,2,    32.24,2,     0.00,2,     2.18,2,    0.061,2,    0.022,2,   -999.0,9,   -999.0,9,   -999.0,9,  -999.00,9,  4.3861, -999.00,9,  999.0,2, -999.00,9
35LLETAMBOT1_1,  AR04,    54,  1,     15,   15.0,2,19950924,0621, -0.9953, -34.9993,   15,   1197.7,2,   4.5320,2,  34.8149,2,  34.8139,2,    182.5,2,    182.4,2,    25.29,2,    28.34,2,     0.00,2,     1.86,2,    0.058,2,    0.020,2,   -999.0,9,   -999.0,9,   -999.0,9,  -999.00,9,  4.4342, -999.00,9, 1199.0,2, -999.00,9
35LLETAMBOT1_1,  AR04,    54,  1,     14,   14.0,2,19950924,0621, -0.9953, -34.9993,   15,   1395.6,2,   4.4823,2,  34.9457,2,  34.9518,2,    218.2,2,    220.6,2,    18.66,2,    23.02,2,     0.00,2,     1.46,2,    0.135,2,    0.061,2,   -999.0,9,   -999.0,9,   -999.0,9,  -999.00,9,  4.3665, -999.00,9, 1396.0,2, -999.00,9
35LLETAMBOT1_1,  AR04,    54,  1,     13,   13.0,2,19950924,0621, -0.9953, -34.9993,   15,   1495.6,2,   4.2714,2,  34.9717,2,  34.9710,2,    232.6,2,    232.4,2,    17.60,2,    21.36,2,     0.00,2,     1.37,2,    0.122,2,    0.059,2,   -999.0,9,   -999.0,9,   -999.0,9,  -999.00,9,  4.1485, -999.00,9, 1497.0,2, -999.00,9
35LLETAMBOT1_1,  AR04,    54,  1,     12,   12.0,2,19950924,0621, -0.9953, -34.9993,   15,   1596.6,2,   4.1086,2,  34.9817,2,  34.9804,2,    241.9,2,    241.5,2,    16.91,2,    20.37,2,     0.00,2,     1.30,2,    0.129,2,    0.068,2,   -999.0,9,   -999.0,9,   -999.0,9,  -999.00,9,  3.9782, -999.00,9, 1598.0,2, -999.00,9
35LLETAMBOT1_1,  AR04,    54,  1,     11,   11.0,2,19950924,0621, -0.9953, -34.9993,   15,   1795.6,2,   3.9191,2,  34.9853,2,  34.9841,2,    250.1,2,    249.0,2,    16.72,2,    19.83,2,     0.00,2,     1.25,2,    0.169,2,    0.078,2,   -999.0,9,   -999.0,9,   -999.0,9,  -999.00,9,  3.7724, -999.00,9, 1797.0,2, -999.00,9
35LLETAMBOT1_1,  AR04,    54,  1,     10,   10.0,2,19950924,0621, -0.9953, -34.9993,   15,   1996.9,2,   3.6467,2,  34.9769,2,  34.9773,2,    254.0,2,    253.9,2,    18.10,2,    19.25,2,     0.00,2,     1.23,2,    0.121,2,    0.057,2,   -999.0,9,   -999.0,9,   -999.0,9,  -999.00,9,  3.4847, -999.00,9, 1998.0,2, -999.00,9
35LLETAMBOT1_1,  AR04,    54,  1,      9,    9.0,2,19950924,0621, -0.9953, -34.9993,   15,   2276.7,2,   3.2442,2,  34.9539,2,  34.9542,2,    252.2,2,    252.3,2,    24.11,2,    20.06,2,     0.00,2,     1.29,2,    0.058,2,    0.022,2,   -999.0,9,   -999.0,9,   -999.0,9,  -999.00,9,  3.0617, -999.00,9, 2278.0,2, -999.00,9
35LLETAMBOT1_1,  AR04,    54,  1,      8,    8.0,2,19950924,0621, -0.9953, -34.9993,   15,   2697.9,2,   2.9294,2,  34.9423,2,  34.9420,2,    258.4,2,    258.7,2,    25.68,2,    19.49,2,     0.00,2,     1.26,2,    0.076,2,    0.030,2,   -999.0,9,   -999.0,9,   -999.0,9,  -999.00,9,  2.7111, -999.00,9, 2698.0,2, -999.00,9
35LLETAMBOT1_1,  AR04,    54,  1,      7,    7.0,2,19950924,0621, -0.9953, -34.9993,   15,   2996.5,2,   2.7494,2,  34.9288,2,  34.9268,2,    256.6,2,    256.7,2,    29.46,2,    19.94,2,     0.00,2,     1.29,2,    0.066,2,    0.027,2,   -999.0,9,   -999.0,9,   -999.0,9,  -999.00,9,  2.5045, -999.00,9, 2998.0,2, -999.00,9
35LLETAMBOT1_1,  AR04,    54,  1,      6,    6.0,2,19950924,0621, -0.9953, -34.9993,   15,   3298.3,2,   2.5877,2,  34.9194,2,  34.9184,2,    259.8,2,    260.4,2,    29.98,2,    19.68,2,     0.00,2,     1.27,2,    0.113,2,    0.045,2,   -999.0,9,   -999.0,9,   -999.0,9,  -999.00,9,  2.3148, -999.00,9, 3300.0,2, -999.00,9
35LLETAMBOT1_1,  AR04,    54,  1,      5,    5.0,2,19950924,0621, -0.9953, -34.9993,   15,   3598.1,2,   2.4161,2,  34.9079,2,  34.9062,2,    262.0,2,    262.4,2,    31.92,2,    19.45,2,     0.00,2,     1.27,2,    0.142,2,    0.066,2,   -999.0,9,   -999.0,9,   -999.0,9,  -999.00,9,  2.1151, -999.00,9, 3599.0,2, -999.00,9
35LLETAMBOT1_1,  AR04,    54,  1,      4,    4.0,2,19950924,0621, -0.9953, -34.9993,   15,   3798.0,2,   2.3239,2,  34.8999,2,  34.8977,2,    262.4,2,    261.4,2,    34.38,2,    19.73,2,     0.00,2,     1.29,2,    0.112,2,    0.056,2,   -999.0,9,   -999.0,9,   -999.0,9,  -999.00,9,  2.0033, -999.00,9, 3799.0,2, -999.00,9
35LLETAMBOT1_1,  AR04,    54,  1,      3,    3.0,2,19950924,0621, -0.9953, -34.9993,   15,   3999.0,2,   2.2476,2,  34.8920,2,  34.8893,2,    262.2,2,    261.5,2,    36.84,2,    19.90,2,     0.00,2,     1.31,2,    0.132,2,    0.065,2,   -999.0,9,   -999.0,9,   -999.0,9,  -999.00,9,  1.9065, -999.00,9, 4000.0,2, -999.00,9
35LLETAMBOT1_1,  AR04,    54,  1,      2,    2.0,2,19950924,0621, -0.9953, -34.9993,   15,   4199.3,2,   1.4516,2,  34.7991,2,  34.7968,2,    239.1,2,    238.3,2,    80.78,2,    26.32,2,     0.00,2,     1.77,2,    0.034,2,    0.017,2,   -999.0,9,   -999.0,9,   -999.0,9,  -999.00,9,  1.1114, -999.00,9, 4201.0,2, -999.00,9
35LLETAMBOT1_1,  AR04,    54,  1,      1,    1.0,2,19950924,0621, -0.9953, -34.9993,   15,   4444.1,2,   1.0760,2,  34.7522,2,  34.7510,2,    228.5,2,    229.7,2,   100.32,2,    29.18,2,     0.00,2,     1.97,2,    0.035,2,    0.018,2,   -999.0,9,   -999.0,9,   -999.0,9,  -999.00,9,  0.7201, -999.00,9, 4445.0,2, -999.00,9
35LLETAMBOT1_1,  AR04,    55,  1,     22,   22.0,2,19950924,1247, -1.4998, -35.0017,   15,      0.9,2,  26.5618,2,  35.9834,2,  35.9928,2,    202.4,2,    201.9,2,     0.34,2,     0.47,2,     0.00,2,     0.00,2, -999.000,9, -999.000,9,   2026.7,2,    374.1,2,   2391.2,2,     8.07,2, 26.5616,    0.14,2,    2.0,2,    0.03,2
35LLETAMBOT1_1,  AR04,    55,  1,     21,   21.0,2,19950924,1247, -1.4998, -35.0017,   15,     69.6,2,  26.5216,2,  36.1498,2,  36.2681,2,    199.7,2,    199.1,2,     0.23,2,     0.42,2,     0.00,2,     0.05,2, -999.000,9, -999.000,9,   2045.6,2,   -999.0,9,   2411.4,2,     8.07,2, 26.5058, -999.00,9,   71.0,2, -999.00,9
35LLETAMBOT1_1,  AR04,    55,  1,     20,   20.0,2,19950924,1247, -1.4998, -35.0017,   15,    148.8,2,  13.9253,2,  35.3617,2,  35.3689,2,    165.4,2,    165.6,2,     5.01,2,    14.67,2,     0.00,2,     0.98,2, -999.000,9, -999.000,9,   2145.4,2,   -999.0,9,   2366.5,2,     8.02,2, 13.9038, -999.00,9,  151.0,2, -999.00,9
35LLETAMBOT1_1,  AR04,    55,  1,     19,   19.0,2,19950924,1247, -1.4998, -35.0017,   15,    349.3,2,  10.0219,2,  34.9129,2,  34.9098,2,    113.0,2,    130.0,2,    11.22,2,    25.95,2,     0.00,2,     1.64,2, -999.000,9, -999.000,9,   2199.9,2,   -999.0,9,   2340.5,2,     7.91,2,  9.9810, -999.00,9,  351.0,2, -999.00,9
35LLETAMBOT1_1,  AR04,    55,  1,     18,   18.0,2,19950924,1247, -1.4998, -35.0017,   15,    649.6,2,   4.9362,2,  34.4568,2,  34.4598,2,    159.3,2,    161.7,2,    27.91,2,    33.27,2,     0.00,2,     2.24,2, -999.000,9, -999.000,9,   2234.2,2,   -999.0,9,   2342.7,2,     7.90,2,  4.8841, -999.00,9,  651.0,2, -999.00,9
35LLETAMBOT1_1,  AR04,    55,  1,     17,   17.0,2,19950924,1247, -1.4998, -35.0017,   15,    995.8,2,   4.5064,2,  34.6270,2,  34.6280,2,    160.3,2,    161.3,2,    30.16,2,    32.41,2,     0.00,2,     2.17,2,    0.063,2,    0.028,2,   2227.9,2,   -999.0,9,   2338.9,2,     7.90,2,  4.4270, -999.00,9,  997.0,2, -999.00,9
35LLETAMBOT1_1,  AR04,    55,  1,     16,   16.0,2,19950924,1247, -1.4998, -35.0017,   15,   1193.8,2,   4.5171,2,  34.8269,2,  34.8282,2,    187.1,2,    188.1,2,    24.11,2,    27.81,2,     0.00,2,     1.83,2,    0.073,2,    0.034,2,   2187.6,2,   -999.0,9,   2319.1,2,     7.95,2,  4.4197, -999.00,9, 1195.0,2, -999.00,9
35LLETAMBOT1_1,  AR04,    55,  1,     15,   15.0,2,19950924,1247, -1.4998, -35.0017,   15,   1396.9,2,   4.4392,2,  34.9551,2,  34.9517,2,    220.4,2,    219.6,2,    18.19,2,    23.06,2,     0.00,2,     1.48,2,    0.163,2,    0.080,2,   2175.7,2,   -999.0,9,   2331.0,2,     8.00,2,  4.3237, -999.00,9, 1399.0,2, -999.00,9
35LLETAMBOT1_1,  AR04,    55,  1,     14,   14.0,2,19950924,1247, -1.4998, -35.0017,   15,   1597.8,2,   4.0912,2,  34.9823,2,  34.9810,2,    240.6,2,    240.7,2,    16.46,2,    20.97,2,     0.00,2,     1.33,2,    0.134,2,    0.068,2,   2181.8,2,   -999.0,9,   2346.8,2,     8.02,2,  3.9609, -999.00,9, 1600.0,2, -999.00,9
35LLETAMBOT1_1,  AR04,    55,  1,     13,   13.0,2,19950924,1247, -1.4998, -35.0017,   15,   1798.6,2,   3.9122,2,  34.9806,2,  34.9824,2,    245.8,2,    247.6,2,    16.52,2,    20.20,2,     0.00,2,     1.28,2,    0.134,2,    0.075,2,   2186.8,2,   -999.0,9,   2356.7,2,     8.02,2,  3.7653, -999.00,9, 1800.0,2, -999.00,9
35LLETAMBOT1_1,  AR04,    55,  1,     12,   12.0,2,19950924,1247, -1.4998, -35.0017,   15,   1997.5,2,   3.7326,2,  34.9809,2,  34.9812,2,    252.1,2,    252.4,2,    16.96,2,    19.51,2,     0.00,2,     1.26,2,    0.149,2,    0.075,2,   2191.8,3,   -999.0,9,   2364.3,3,     8.02,2,  3.5692, -999.00,9, 1999.0,2, -999.00,9
35LLETAMBOT1_1,  AR04,    55,  1,     11,   11.0,2,19950924,1247, -1.4998, -35.0017,   15,   2396.8,2,   3.1901,2,  34.9560,2,  34.9585,2,    255.4,2,    256.8,2,    21.14,2,    19.24,2,     0.00,2,     1.26,2,    0.107,2,    0.054,2,   2194.4,3,   -999.0,9,   2367.8,3,     8.02,2,  2.9968, -999.00,9, 2398.0,2, -999.00,9
35LLETAMBOT1_1,  AR04,    55,  1,     10,   10.0,2,19950924,1247, -1.4998, -35.0017,   15,   2698.5,2,   2.9445,2,  34.9436,2,  34.9393,2,    257.3,2,    261.4,2,    25.45,2,    19.07,2,     0.00,2,     1.30,2,    0.106,2,    0.058,2,   2196.7,3,   -999.0,9,   2369.2,3,     8.01,2,  2.7259, -999.00,9, 2700.0,2, -999.00,9
35LLETAMBOT1_1,  AR04,    55,  1,      9,    9.0,2,19950924,1247, -1.4998, -35.0017,   15,   3000.0,2,   2.7887,2,  34.9321,2,  34.9322,2,    256.4,2,    258.4,2,    26.94,2,    19.11,2,     0.00,2,     1.30,2, -999.000,9, -999.000,9,   2195.1,2,   -999.0,9,   2367.5,2,     8.00,2,  2.5425, -999.00,9, 3002.0,2, -999.00,9
35LLETAMBOT1_1,  AR04,    55,  1,      8,    8.0,2,19950924,1247, -1.4998, -35.0017,   15,   3300.0,2,   2.5983,2,  34.9206,2,  34.9207,2,    259.5,2,    259.7,2,    28.38,2,    19.02,2,     0.00,2,     1.30,2,    0.115,2,    0.058,2,   2188.2,2,   -999.0,9,   2360.9,2,     7.99,2,  2.3250, -999.00,9, 3301.0,2, -999.00,9
35LLETAMBOT1_1,  AR04,    55,  1,      7,    7.0,2,19950924,1247, -1.4998, -35.0017,   15,   3601.7,2,   2.3304,2,  34.9027,2,  34.8997,2,    261.7,2,    263.2,2,    31.62,2,    19.00,2,     0.00,2,     1.30,2,    0.157,2,    0.083,2,   2193.6,2,   -999.0,9,   2366.5,2,     7.99,2,  2.0312, -999.00,9, 3603.0,2, -999.00,9
35LLETAMBOT1_1,  AR04,    55,  1,      6,    6.0,2,19950924,1247, -1.4998, -35.0017,   15,   3701.8,2,   2.3087,2,  34.9006,2,  34.8986,2,    261.9,2,    262.5,2,    31.71,2,    19.04,2,     0.00,2,     1.31,2,    0.153,2,    0.079,2,   2195.0,2,   -999.0,9,   2367.8,2,     7.98,2,  1.9992, -999.00,9, 3702.0,2, -999.00,9
35LLETAMBOT1_1,  AR04,    55,  1,      5,    5.0,2,19950924,1247, -1.4998, -35.0017,   15,   3800.7,2,   2.2971,2,  34.8991,2,  34.8972,2,    261.5,2,    262.4,2,    32.35,2,    19.27,2,     0.00,2,     1.31,2,    0.162,2,    0.098,2,   2193.4,2,   -999.0,9,   2365.2,2,     7.97,2,  1.9769, -999.00,9, 3802.0,2, -999.00,9
35LLETAMBOT1_1,  AR04,    55,  1,      4,    4.0,2,19950924,1247, -1.4998, -35.0017,   15,   3901.8,2,   2.2754,2,  34.8954,2,  34.8938,2,    261.7,2,    262.1,2,    33.54,2,    19.25,2,     0.00,2,     1.32,2,    0.160,2,    0.087,2,   2205.2,3,   -999.0,9,   2376.0,3,     7.97,2,  1.9445, -999.00,9, 3904.0,2, -999.00,9
35LLETAMBOT1_1,  AR04,    55,  1,      3,    3.0,2,19950924,1247, -1.4998, -35.0017,   15,   4000.4,2,   2.0001,2,  34.8630,2,  34.8613,2,    254.8,2,    253.8,2,    47.98,2,    21.58,2,     0.00,2,     1.48,2,    0.105,2,    0.057,2,   2207.9,2,   -999.0,9,   2370.9,2,     7.95,2,  1.6660, -999.00,9, 4002.0,2, -999.00,9
35LLETAMBOT1_1,  AR04,    55,  1,      2,    2.0,2,19950924,1247, -1.4998, -35.0017,   15,   4200.5,2,   1.3202,2,  34.7845,2,  34.7905,3,    235.8,2,    236.6,2,    83.26,2,    26.24,2,     0.00,2,     1.83,2,    0.045,2,    0.029,2,   2225.4,2,   -999.0,9,   2371.4,2,     7.91,2,  0.9838, -999.00,9, 4202.0,2, -999.00,9
35LLETAMBOT1_1,  AR04,    55,  1,      1,    1.0,2,19950924,1247, -1.4998, -35.0017,   15,   4289.3,2,   1.1395,2,  34.7625,2,  34.7594,2,    229.2,2,    230.2,2,    96.06,2,    28.36,2,     0.00,2,     1.97,2,    0.035,2,    0.026,2,   2263.1,3,   -999.0,9,   2402.1,3,     7.89,2,  0.7988, -999.00,9, 4290.0,2, -999.00,9