BOTTLE,20220929CCHSIOAMB
EXPOCODE,SECT_ID,STNNBR,CASTNO,SAMPNO,BTLNBR,BTLNBR_FLAG_W,DATE,TIME,LATITUDE,LONGITUDE,DEPTH,CTDPRS,CTDPRS_FLAG_W,CTDTMP,CTDTMP_FLAG_W,CTDSAL,CTDSAL_FLAG_W,SALNTY,SALNTY_FLAG_W,CTDOXY,CTDOXY_FLAG_W,OXYGEN,OXYGEN_FLAG_W,SILCAT,SILCAT_FLAG_W,NITRAT,NITRAT_FLAG_W,NITRIT,NITRIT_FLAG_W,PHSPHT,PHSPHT_FLAG_W,CFC-11,CFC-11_FLAG_W,CFC-12,CFC-12_FLAG_W,TCARBN,TCARBN_FLAG_W,PCO2,PCO2_FLAG_W,ALKALI,ALKALI_FLAG_W,PH,PH_FLAG_W,THETA,CHLORA,CHLORA_FLAG_W,CTDRAW,CTDRAW_FLAG_W,PPHYTN,PPHYTN_FLAG_W
,,,,,,,,,,,,DBAR,,DEG C,,PSS-78,,PSS-78,,UMOL/KG,,UMOL/KG,,UMOL/KG,,UMOL/KG,,UMOL/KG,,UMOL/KG,,PMOL/KG,,PMOL/KG,,UMOL/KG,,UATM,,UMOL/KG,,,,DEG C,UG/L,,DBAR,,UG/L,
35LLETAMBOT1_1,  AR15,    26,  2,     22,   22.0,2,19950916,0117,  7.4995, -41.9997,   10,    597.2,2,   6.8078,2,  34.6817,2,  34.6960,2,    115.7,2,    114.6,2,    21.63,2,    34.07,2,     0.00,2,     2.18,2,    0.153,2,    0.081,2,   -999.0,9,   -999.0,9,   -999.0,9,  -999.00,9,  6.7514, -999.00,9,  599.0,2, -999.00,9
35LLETAMBOT1_1,  AR15,    26,  2,     21,   21.0,2,19950916,0117,  7.4995, -41.9997,   10,    796.4,2,   5.5305,2,  34.6662,2,  34.6730,2,    119.8,2,    117.2,2,    28.04,2,    35.84,2,     0.00,2,     2.32,2,    0.031,2,    0.008,2,   -999.0,9,   -999.0,9,   -999.0,9,  -999.00,9,  5.4619, -999.00,9,  798.0,2, -999.00,9
35LLETAMBOT1_1,  AR15,    26,  2,     20,   20.0,2,19950916,0117,  7.4995, -41.9997,   10,    997.3,2,   4.9064,2,  34.7578,2,  34.7420,2,    153.2,2,    151.1,2,    27.94,2,    32.03,2,     0.00,2,     2.11,2,    0.031,2,    0.009,2,   -999.0,9,   -999.0,9,   -999.0,9,  -999.00,9,  4.8236, -999.00,9,  999.0,2, -999.00,9
35LLETAMBOT1_1,  AR15,    26,  2,     19,   19.0,2,19950916,0117,  7.4995, -41.9997,   10,   1296.4,2,   4.6459,2,  34.9230,2,  34.9200,2,    197.8,2,    199.9,2,    21.24,2,    25.30,2,     0.00,2,     1.63,2,    0.062,2,    0.030,2,   -999.0,9,   -999.0,9,   -999.0,9,  -999.00,9,  4.5377, -999.00,9, 1298.0,2, -999.00,9
35LLETAMBOT1_1,  AR15,    26,  2,     18,   18.0,2,19950916,0117,  7.4995, -41.9997,   10,   1596.1,2,   4.2723,2,  34.9847,2,  34.9870,2,    236.6,2,    235.6,2,    16.76,2,    21.00,2,     0.00,2,     1.34,2,    0.116,2,    0.076,2,   -999.0,9,   -999.0,9,   -999.0,9,  -999.00,9,  4.1400, -999.00,9, 1597.0,2, -999.00,9
35LLETAMBOT1_1,  AR15,    26,  2,     17,   17.0,2,19950916,0117,  7.4995, -41.9997,   10,   1697.3,2,   4.1497,2,  34.9863,2,  34.9900,2,    242.1,2,    241.8,2,    16.27,2,    20.37,2,     0.00,2,     1.29,2,    0.120,2,    0.077,2,   -999.0,9,   -999.0,9,   -999.0,9,  -999.00,9,  4.0093, -999.00,9, 1698.0,2, -999.00,9
35LLETAMBOT1_1,  AR15,    26,  2,     16,   16.0,2,19950916,0117,  7.4995, -41.9997,   10,   1796.9,2,   3.9829,2,  34.9825,2,  34.9860,2,    245.9,2,    246.7,2,    16.76,2,    20.23,2,     0.00,2,     1.27,2,    0.081,2,    0.050,2,   -999.0,9,   -999.0,9,   -999.0,9,  -999.00,9,  3.8352, -999.00,9, 1799.0,2, -999.00,9
35LLETAMBOT1_1,  AR15,    26,  2,     15,   15.0,2,19950916,0117,  7.4995, -41.9997,   10,   1897.5,2,   3.8050,2,  34.9814,2,  34.9840,2,    252.1,2,    252.6,2,    17.20,2,    19.79,2,     0.00,2,     1.24,2,    0.146,2,    0.076,2,   -999.0,9,   -999.0,9,   -999.0,9,  -999.00,9,  3.6502, -999.00,9, 1899.0,2, -999.00,9
35LLETAMBOT1_1,  AR15,    26,  2,     14,   14.0,2,19950916,0117,  7.4995, -41.9997,   10,   1997.1,2,   3.6458,2,  34.9769,2,  34.9790,2,    255.7,2,    254.1,2,    18.15,2,    19.89,2,     0.00,2,     1.24,2,    0.083,2,    0.051,2,   -999.0,9,   -999.0,9,   -999.0,9,  -999.00,9,  3.4838, -999.00,9, 1999.0,2, -999.00,9
35LLETAMBOT1_1,  AR15,    26,  2,     13,   13.0,2,19950916,0117,  7.4995, -41.9997,   10,   2397.9,2,   3.1924,2,  34.9575,2,  34.9565,2,    258.7,2,    263.2,3,    22.04,2,    19.67,2,     0.00,2,     1.24,2,    0.090,2,    0.044,2,   -999.0,9,   -999.0,9,   -999.0,9,  -999.00,9,  2.9990, -999.00,9, 2399.0,2, -999.00,9
35LLETAMBOT1_1,  AR15,    26,  2,     12,   12.0,2,19950916,0117,  7.4995, -41.9997,   10,   2588.1,2,   3.0778,2,  34.9502,2,  34.9500,2,    258.0,2,    258.4,2,    23.84,2,    19.92,2,     0.00,2,     1.26,2,    0.101,2,    0.054,2,   -999.0,9,   -999.0,9,   -999.0,9,  -999.00,9,  2.8676, -999.00,9, 2590.0,2, -999.00,9
35LLETAMBOT1_1,  AR15,    26,  2,     11,   11.0,2,19950916,0117,  7.4995, -41.9997,   10,   2798.9,2,   2.9315,2,  34.9414,2,  34.9400,2,    258.7,2,    257.7,2,    26.12,2,    20.01,2,     0.00,2,     1.27,2,    0.045,2,    0.020,2,   -999.0,9,   -999.0,9,   -999.0,9,  -999.00,9,  2.7030, -999.00,9, 2801.0,2, -999.00,9
35LLETAMBOT1_1,  AR15,    26,  2,     10,   10.0,2,19950916,0117,  7.4995, -41.9997,   10,   2998.7,2,   2.7972,2,  34.9331,2,  34.9330,2,    258.1,2,    259.2,2,    28.37,2,    20.26,2,     0.00,2,     1.29,2,    0.043,2,    0.023,2,   -999.0,9,   -999.0,9,   -999.0,9,  -999.00,9,  2.5510, -999.00,9, 3000.0,2, -999.00,9
35LLETAMBOT1_1,  AR15,    26,  2,      9,    9.0,2,19950916,0117,  7.4995, -41.9997,   10,   3299.4,2,   2.6128,2,  34.9203,2,  34.9190,2,    258.4,2,    257.4,2,    31.75,2,    20.40,2,     0.00,2,     1.31,2,    0.048,2,    0.027,2,   -999.0,9,   -999.0,9,   -999.0,9,  -999.00,9,  2.3392, -999.00,9, 3302.0,2, -999.00,9
35LLETAMBOT1_1,  AR15,    26,  2,      8,    8.0,2,19950916,0117,  7.4995, -41.9997,   10,   3600.7,2,   2.3985,2,  34.9059,2,  34.9057,2,    261.8,2,    262.5,2,    34.12,2,    20.13,2,     0.00,2,     1.30,2,    0.094,2,    0.048,2,   -999.0,9,   -999.0,9,   -999.0,9,  -999.00,9,  2.0977, -999.00,9, 3602.0,2, -999.00,9
35LLETAMBOT1_1,  AR15,    26,  2,      7,    7.0,2,19950916,0117,  7.4995, -41.9997,   10,   3798.2,2,   2.2863,2,  34.8959,2,  34.8940,2,    261.4,2,    259.9,4,    37.66,2,    20.43,2,     0.00,2,     1.33,2,    0.083,2,    0.053,2,   -999.0,9,   -999.0,9,   -999.0,9,  -999.00,9,  1.9667, -999.00,9, 3799.0,2, -999.00,9
35LLETAMBOT1_1,  AR15,    26,  2,      6,    6.0,2,19950916,0117,  7.4995, -41.9997,   10,   4000.3,2,   2.2257,2,  34.8898,2,  34.8880,2,    261.5,2,    260.1,4,    38.39,2,    20.80,2,     0.00,2,     1.35,2,    0.059,2,    0.034,2,   -999.0,9,   -999.0,9,   -999.0,9,  -999.00,9,  1.8851, -999.00,9, 4001.0,2, -999.00,9
35LLETAMBOT1_1,  AR15,    26,  2,      5,    5.0,2,19950916,0117,  7.4995, -41.9997,   10,   4200.8,2,   2.0925,2,  34.8702,2,  34.8690,2,    255.6,2,    254.4,2,    48.57,2,    22.19,2,     0.00,2,     1.44,2,    0.082,2,    0.046,2,   -999.0,9,   -999.0,9,   -999.0,9,  -999.00,9,  1.7329, -999.00,9, 4202.0,2, -999.00,9
35LLETAMBOT1_1,  AR15,    26,  2,      4,    4.0,2,19950916,0117,  7.4995, -41.9997,   10,   4398.0,2,   1.8769,2,  34.8464,2,  34.8440,2,    250.8,2,    249.6,2,    59.57,2,    23.65,2,     0.00,2,     1.56,2,    0.052,2,    0.031,2,   -999.0,9,   -999.0,9,   -999.0,9,  -999.00,9,  1.5011, -999.00,9, 4400.0,2, -999.00,9
35LLETAMBOT1_1,  AR15,    26,  2,      2,    2.0,2,19950916,0117,  7.4995, -41.9997,   10,   4599.7,2,   1.5563,2,  34.8065,2,  34.8040,2,    240.9,2,    240.2,2,    75.90,2,    26.45,2,     0.00,2,     1.75,2,    0.036,2,    0.019,2,   -999.0,9,   -999.0,9,   -999.0,9,  -999.00,9,  1.1671, -999.00,9, 4601.0,2, -999.00,9
35LLETAMBOT1_1,  AR15,    26,  2,      3,    3.0,2,19950916,0117,  7.4995, -41.9997,   10,   4599.7,2,   1.5563,2,  34.8065,2,  34.8030,2,    240.9,2,    240.3,2,    75.93,2,    26.38,2,     0.00,2,     1.75,2,    0.036,2,    0.026,2,   -999.0,9,   -999.0,9,   -999.0,9,  -999.00,9,  1.1671, -999.00,9, 4601.0,2, -999.00,9
35LLETAMBOT1_1,  AR15,    26,  2,      1,    1.0,2,19950916,0117,  7.4995, -41.9997,   10,   4874.4,2,   1.5090,2,  34.7975,2,  34.7940,2,    238.7,2,    238.8,2,    79.62,2,    27.00,2,     0.00,2,     1.80,2,    0.053,2,    0.029,2,   -999.0,9,   -999.0,9,   -999.0,9,  -999.00,9,  1.0888, -999.00,9, 4876.0,2, -999.00,9
35LLETAMBOT1_1,  AR15,    27,  1,     28,    6.0,2,19950916,0724,  7.5032, -41.3318, 4525,      0.4,2,  29.1971,2,  31.3330,2,  31.5080,2,    202.9,2,    199.9,2,     6.60,2,     0.00,2,     0.00,2,     0.00,2, -999.000,9, -999.000,9,   -999.0,9,    315.9,2,   -999.0,9,  -999.00,9, 29.1970,    0.10,2,    3.0,2,    0.03,2
35LLETAMBOT1_1,  AR15,    27,  1,     27,    5.0,2,19950916,0724,  7.5032, -41.3318, 4525,     44.5,2,  28.9135,2,  34.3826,2,  35.3230,2,    202.1,2,    204.5,2,     1.51,2,     0.00,2,     0.00,2,     0.00,2, -999.000,9, -999.000,9,   -999.0,9,   -999.0,9,   -999.0,9,  -999.00,9, 28.9028, -999.00,9,   46.0,2, -999.00,9
35LLETAMBOT1_1,  AR15,    27,  1,     26,    4.0,2,19950916,0724,  7.5032, -41.3318, 4525,    200.5,2,  11.4351,2,  35.1727,2,  35.1550,2,    107.5,2,    102.8,2,    10.93,2,    25.54,2,     0.00,2,     1.70,2, -999.000,9, -999.000,9,   -999.0,9,   -999.0,9,   -999.0,9,  -999.00,9, 11.4097, -999.00,9,  201.0,2, -999.00,9
35LLETAMBOT1_1,  AR15,    27,  1,     25,    3.0,2,19950916,0724,  7.5032, -41.3318, 4525,    302.5,2,   9.4020,2,  34.8935,2,  34.9140,2,    110.2,2,    111.5,2,    13.77,2,    28.00,2,     0.00,2,     1.89,2, -999.000,9, -999.000,9,   -999.0,9,   -999.0,9,   -999.0,9,  -999.00,9,  9.3681, -999.00,9,  302.0,2, -999.00,9
35LLETAMBOT1_1,  AR15,    27,  1,     24,    2.0,2,19950916,0724,  7.5032, -41.3318, 4525,    401.2,2,   8.6217,2,  34.8119,2,  34.8170,2,    111.3,2,    112.5,2,    15.85,2,    29.73,2,     0.00,2,     2.01,2, -999.000,9, -999.000,9,   -999.0,9,   -999.0,9,   -999.0,9,  -999.00,9,  8.5788, -999.00,9,  400.0,2, -999.00,9
35LLETAMBOT1_1,  AR15,    27,  1,     23,    1.0,2,19950916,0724,  7.5032, -41.3318, 4525,    502.9,2,   7.6981,2,  34.7127,2,  34.7190,2,    118.2,2,    117.9,2,    18.34,2,    31.21,2,     0.00,2,     2.14,2, -999.000,9, -999.000,9,   -999.0,9,   -999.0,9,   -999.0,9,  -999.00,9,  7.6475, -999.00,9,  501.0,2, -999.00,9
35LLETAMBOT1_1,  AR15,    27,  2,     22,   22.0,2,19950916,0951,  7.4998, -41.3347,   15,    597.6,2,   6.7606,2,  34.6764,2,  34.6817,2,    114.7,2,    114.6,2,    21.68,2,    33.12,2,     0.00,2,     2.28,2,    0.143,2,    0.095,2,   2225.5,2,   -999.0,9,   2333.4,2,     7.87,2,  6.7044, -999.00,9,  600.0,2, -999.00,9
35LLETAMBOT1_1,  AR15,    27,  2,     21,   21.0,2,19950916,0951,  7.4998, -41.3347,   15,    797.7,2,   5.4822,2,  34.6395,2,  34.6315,2,    123.6,2,    124.5,2,    26.44,2,    34.13,2,     0.00,2,     2.38,2,    0.070,2,    0.038,2,   2228.4,2,   -999.0,9,   2322.0,2,     7.84,2,  5.4138, -999.00,9,  800.0,2, -999.00,9
35LLETAMBOT1_1,  AR15,    27,  2,     20,   20.0,2,19950916,0951,  7.4998, -41.3347,   15,    897.0,2,   5.0161,2,  34.6772,2,  34.6510,2,    141.0,2,    138.6,2,    28.70,2,    33.06,2,     0.00,2,     2.35,2,    0.040,2,    0.015,2,   2216.8,2,   -999.0,9,   2316.2,2,     7.86,2,  4.9417, -999.00,9,  899.0,2, -999.00,9
35LLETAMBOT1_1,  AR15,    27,  2,     19,   19.0,2,19950916,0951,  7.4998, -41.3347,   15,   1000.8,2,   4.8728,2,  34.7377,2,  34.7060,2,    151.5,2,    148.0,2,    27.96,2,    31.67,2,     0.00,2,     2.26,2,    0.056,2,    0.024,2,   2211.0,2,   -999.0,9,   2315.6,2,     7.88,2,  4.7900, -999.00,9, 1002.0,2, -999.00,9
35LLETAMBOT1_1,  AR15,    27,  2,     18,   18.0,2,19950916,0951,  7.4998, -41.3347,   15,   1244.3,2,   4.6844,2,  34.9001,2,  34.8950,2,    190.1,2,    189.8,2,    22.11,2,    25.44,2,     0.00,2,     1.81,2,    0.085,2,    0.044,2,   2177.3,2,   -999.0,9,   2312.1,2,     7.95,2,  4.5807, -999.00,9, 1245.0,2, -999.00,9
35LLETAMBOT1_1,  AR15,    27,  2,     17,   17.0,2,19950916,0951,  7.4998, -41.3347,   15,   1495.6,2,   4.4361,2,  34.9777,2,  34.9750,2,    226.9,2,    225.4,2,    17.45,2,    20.99,2,     0.00,2,     1.48,2,    0.149,2,    0.077,2,   2169.7,2,   -999.0,9,   2326.8,2,     8.00,2,  4.3114, -999.00,9, 1497.0,2, -999.00,9
35LLETAMBOT1_1,  AR15,    27,  2,     16,   16.0,2,19950916,0951,  7.4998, -41.3347,   15,   1595.1,2,   4.3082,2,  34.9840,2,  34.9870,2,    235.4,2,    236.1,2,    16.58,2,    20.04,2,     0.00,2,     1.41,2,    0.159,2,    0.089,2,   2140.9,3,   -999.0,9,   2302.1,3,     8.01,2,  4.1755, -999.00,9, 1596.0,2, -999.00,9
35LLETAMBOT1_1,  AR15,    27,  2,     15,   15.0,2,19950916,0951,  7.4998, -41.3347,   15,   1697.6,2,   4.1720,2,  34.9876,2,  34.9870,2,    242.2,2,    243.0,2,    16.04,2,    19.30,2,     0.00,2,     1.35,2, -999.000,9, -999.000,9,   2129.1,3,   -999.0,9,   2294.7,3,     8.02,2,  4.0313, -999.00,9, 1699.0,2, -999.00,9
35LLETAMBOT1_1,  AR15,    27,  2,     14,   14.0,2,19950916,0951,  7.4998, -41.3347,   15,   1799.6,2,   4.0094,2,  34.9834,2,  34.9870,2,    246.1,2,    246.2,2,    16.44,2,    19.29,2,     0.00,2,     1.34,2,    0.136,2,    0.072,2,   2154.4,2,   -999.0,9,   2322.0,2,     8.02,2,  3.8611, -999.00,9, 1801.0,2, -999.00,9
35LLETAMBOT1_1,  AR15,    27,  2,     13,   13.0,2,19950916,0951,  7.4998, -41.3347,   15,   1901.3,2,   3.8878,2,  34.9851,2,  34.9840,2,    251.6,2,    227.8,4,    16.34,2,    18.75,2,     0.00,2,     1.30,2,    0.186,2,    0.087,2,   2126.1,3,   -999.0,9,   2294.4,3,     8.03,2,  3.7314, -999.00,9, 1903.0,2, -999.00,9
35LLETAMBOT1_1,  AR15,    27,  2,     12,   12.0,2,19950916,0951,  7.4998, -41.3347,   15,   2012.2,2,   3.6742,2,  34.9751,2,  34.9780,2,    252.7,2,    252.0,2,    18.12,2,    18.96,2,     0.00,2,     1.32,2,    0.101,2,    0.053,2,   2125.1,3,   -999.0,9,   2294.5,3,     8.03,2,  3.5103, -999.00,9, 2014.0,2, -999.00,9
35LLETAMBOT1_1,  AR15,    27,  2,     11,   11.0,2,19950916,0951,  7.4998, -41.3347,   15,   2283.0,2,   3.2571,2,  34.9570,2,  34.9580,2,    253.9,2,    254.0,2,    22.32,2,    19.16,2,     0.00,2,     1.34,2,    0.075,2,    0.034,2,   2114.8,3,   -999.0,9,   2285.1,3,     8.03,2,  3.0738, -999.00,9, 2284.0,2, -999.00,9
35LLETAMBOT1_1,  AR15,    27,  2,     10,   10.0,2,19950916,0951,  7.4998, -41.3347,   15,   2598.9,2,   3.0525,2,  34.9468,2,  34.9430,3,    256.1,2,    255.9,2,    24.66,2,    19.12,2,     0.00,2,     1.34,2,    0.070,2,    0.035,2,   2132.7,3,   -999.0,9,   2304.3,3,     8.02,2,  2.8418, -999.00,9, 2600.0,2, -999.00,9
35LLETAMBOT1_1,  AR15,    27,  2,      9,    9.0,2,19950916,0951,  7.4998, -41.3347,   15,   2769.4,2,   2.9104,2,  34.9382,2,  34.9400,2,    254.6,2,    255.8,2,    26.88,2,    19.30,2,     0.00,2,     1.36,2,    0.047,2,    0.019,2,   2137.6,3,   -999.0,9,   2308.3,3,     8.01,2,  2.6853, -999.00,9, 2770.0,2, -999.00,9
35LLETAMBOT1_1,  AR15,    27,  2,      8,    8.0,2,19950916,0951,  7.4998, -41.3347,   15,   2991.4,2,   2.7694,2,  34.9286,2,  34.9300,2,    255.1,2,    248.8,4,    29.52,2,    19.54,2,     0.00,2,     1.37,2,    0.072,2,    0.032,2,   2132.1,3,   -999.0,9,   2302.1,3,     8.00,2,  2.5246, -999.00,9, 2991.0,2, -999.00,9
35LLETAMBOT1_1,  AR15,    27,  2,      7,    7.0,2,19950916,0951,  7.4998, -41.3347,   15,   3296.2,2,   2.5436,2,  34.9121,2,  34.9160,2,    254.8,2,    256.4,2,    32.39,2,    19.60,2,     0.00,2,     1.38,2,    0.078,2,    0.035,2,   2120.5,3,   -999.0,9,   2290.2,3,     8.00,2,  2.2720, -999.00,9, 3297.0,2, -999.00,9
35LLETAMBOT1_1,  AR15,    27,  2,      6,    6.0,2,19950916,0951,  7.4998, -41.3347,   15,   3600.2,2,   2.3572,2,  34.8971,2,  34.8989,2,    256.8,2,    257.0,2,    36.83,2,    19.93,2,     0.00,2,     1.42,2,    0.099,2,    0.047,2,   2139.2,3,   -999.0,9,   2308.2,3,     7.98,2,  2.0576, -999.00,9, 3601.0,2, -999.00,9
35LLETAMBOT1_1,  AR15,    27,  2,      5,    5.0,2,19950916,0951,  7.4998, -41.3347,   15,   3799.9,2,   2.2498,2,  34.8874,2,  34.8896,2,    256.6,2,    257.1,2,    39.31,2,    20.13,2,     0.00,2,     1.44,2,    0.072,2,    0.041,2,   2144.3,3,   -999.0,9,   2311.7,3,     7.97,2,  1.9311, -999.00,9, 3801.0,2, -999.00,9
35LLETAMBOT1_1,  AR15,    27,  2,      3,    3.0,2,19950916,0951,  7.4998, -41.3347,   15,   4000.8,2,   2.1764,2,  34.8843,2,  34.8840,2,    259.6,2,    258.8,2,    39.25,2,    19.92,2,     0.00,2,     1.43,2,    0.112,2,    0.061,2,   2128.1,3,   -999.0,9,   2294.2,3,     7.96,2,  1.8372, -999.00,9, 4002.0,2, -999.00,9
35LLETAMBOT1_1,  AR15,    27,  2,      4,    4.0,2,19950916,0951,  7.4998, -41.3347,   15,   4000.8,2,   2.1764,2,  34.8843,2,  34.8840,2,    259.6,2,    259.4,2,    39.34,2,    19.92,2,     0.00,2,     1.43,2,    0.096,2,    0.057,2,   2128.8,3,   -999.0,9,   2294.7,3,     7.96,2,  1.8372, -999.00,9, 4002.0,2, -999.00,9
35LLETAMBOT1_1,  AR15,    27,  2,      2,    2.0,2,19950916,0951,  7.4998, -41.3347,   15,   4251.5,2,   1.9570,2,  34.8563,2,  34.8557,2,    252.5,2,    252.2,2,    51.00,2,    21.72,2,     0.00,2,     1.56,2,    0.106,2,    0.055,2,   2128.6,3,   -999.0,9,   2287.5,3,     7.94,2,  1.5957, -999.00,9, 4252.0,2, -999.00,9
35LLETAMBOT1_1,  AR15,    27,  2,      1,    1.0,2,19950916,0951,  7.4998, -41.3347,   15,   4604.0,2,   1.5429,2,  34.8040,2,  34.8040,2,    238.4,2,    239.4,2,    76.86,2,    25.15,2,     0.00,2,     1.82,2,    0.053,2,    0.033,2,   2149.9,3,   -999.0,9,   2296.7,3,     7.90,2,  1.1537, -999.00,9, 4605.0,2, -999.00,9