BOTTLE,20220929CCHSIOAMB
EXPOCODE,SECT_ID,STNNBR,CASTNO,SAMPNO,BTLNBR,BTLNBR_FLAG_W,DATE,TIME,LATITUDE,LONGITUDE,DEPTH,CTDPRS,CTDPRS_FLAG_W,CTDTMP,CTDTMP_FLAG_W,CTDSAL,CTDSAL_FLAG_W,SALNTY,SALNTY_FLAG_W,CTDOXY,CTDOXY_FLAG_W,OXYGEN,OXYGEN_FLAG_W,SILCAT,SILCAT_FLAG_W,NITRAT,NITRAT_FLAG_W,NITRIT,NITRIT_FLAG_W,PHSPHT,PHSPHT_FLAG_W,CFC-11,CFC-11_FLAG_W,CFC-12,CFC-12_FLAG_W,TCARBN,TCARBN_FLAG_W,PCO2,PCO2_FLAG_W,ALKALI,ALKALI_FLAG_W,PH,PH_FLAG_W,THETA,CHLORA,CHLORA_FLAG_W,CTDRAW,CTDRAW_FLAG_W,PPHYTN,PPHYTN_FLAG_W
,,,,,,,,,,,,DBAR,,DEG C,,PSS-78,,PSS-78,,UMOL/KG,,UMOL/KG,,UMOL/KG,,UMOL/KG,,UMOL/KG,,UMOL/KG,,PMOL/KG,,PMOL/KG,,UMOL/KG,,UATM,,UMOL/KG,,,,DEG C,UG/L,,DBAR,,UG/L,
35LLETAMBOT1_2,  AR04,    82,  1,     24,   24.0,2,19951006,1454,  7.5028, -41.3358,   20,      0.7,2,  28.9683,2,  32.3851,2,  32.3907,2,    198.7,2,    199.8,2,     4.51,2,     0.04,2,     0.00,2,     0.00,2, -999.000,9, -999.000,9,   1784.5,2,    324.9,2,   2135.4,2,     8.10,2, 28.9681,    0.12,2,    3.0,2,    0.02,2
35LLETAMBOT1_2,  AR04,    82,  1,     23,   23.0,2,19951006,1454,  7.5028, -41.3358,   20,     48.9,2,  28.1379,2,  35.9853,2,  35.3508,2,    201.5,2,    201.8,2,     1.51,2,     0.00,2,     0.01,2,     0.00,2, -999.000,9, -999.000,9,   1945.3,2,   -999.0,9,   2327.5,2,     8.09,2, 28.1263, -999.00,9,   50.0,2, -999.00,9
35LLETAMBOT1_2,  AR04,    82,  1,     22,   22.0,2,19951006,1454,  7.5028, -41.3358,   20,    198.3,2,  10.9324,2,  35.0688,2,  35.0650,2,    124.0,2,    126.2,2,    10.88,2,    24.47,2,     0.01,2,     1.59,2, -999.000,9, -999.000,9,   2159.2,2,   -999.0,9,   2310.8,2,     7.93,2, 10.9080, -999.00,9,  200.0,2, -999.00,9
35LLETAMBOT1_2,  AR04,    82,  1,     21,   21.0,2,19951006,1454,  7.5028, -41.3358,   20,    298.3,2,   9.5239,2,  34.9011,2,  34.8861,2,    119.3,2,    117.6,2,    13.96,2,    28.47,2,     0.01,2,     1.86,2, -999.000,9, -999.000,9,   2192.1,2,   -999.0,9,   2320.3,2,     7.89,2,  9.4902, -999.00,9,  300.0,2, -999.00,9
35LLETAMBOT1_2,  AR04,    82,  1,     20,   20.0,2,19951006,1454,  7.5028, -41.3358,   20,    597.5,2,   6.9583,2,  34.6489,2,  34.6381,2,    116.6,2,    118.0,2,    21.51,2,    34.04,2,     0.01,2,     2.25,2,    0.182,2,    0.081,2,   2202.4,2,   -999.0,9,   2302.2,2,     7.85,2,  6.9012, -999.00,9,  599.0,2, -999.00,9
35LLETAMBOT1_2,  AR04,    82,  1,     19,   19.0,2,19951006,1454,  7.5028, -41.3358,   20,    798.2,2,   5.5978,2,  34.5840,2,  34.5943,2,    132.5,2,    131.0,2,    26.58,2,    34.67,2,     0.01,2,     2.32,2,    0.081,2,    0.034,2,   2196.3,2,   -999.0,9,   2295.1,2,     7.86,2,  5.5287, -999.00,9,  800.0,2, -999.00,9
35LLETAMBOT1_2,  AR04,    82,  1,     18,   18.0,2,19951006,1454,  7.5028, -41.3358,   20,    999.2,2,   4.9017,2,  34.6977,2,  34.6909,2,    147.6,2,    146.4,2,    28.12,2,    33.06,2,     0.01,2,     2.22,2,    0.016,2,    0.003,2,   2193.8,3,   -999.0,9,   2302.0,3,     7.88,2,  4.8189, -999.00,9, 1001.0,2, -999.00,9
35LLETAMBOT1_2,  AR04,    82,  1,     17,   17.0,2,19951006,1454,  7.5028, -41.3358,   20,   1247.7,2,   4.7241,2,  34.8872,2,  34.8767,2,    185.5,2,    183.1,2,    23.01,2,    27.16,2,     0.01,2,     1.84,2,    0.034,2,    0.013,2,   2167.9,3,   -999.0,9,   2302.7,3,     7.95,2,  4.6198, -999.00,9, 1250.0,2, -999.00,9
35LLETAMBOT1_2,  AR04,    82,  1,     16,   16.0,2,19951006,1454,  7.5028, -41.3358,   20,   1496.9,2,   4.4093,2,  34.9799,2,  34.9748,2,    228.1,2,    224.3,2,    17.44,2,    21.95,2,     0.01,2,     1.48,2,    0.101,2,    0.049,2,   2158.0,2,   -999.0,9,   2317.5,2,     8.01,2,  4.2848, -999.00,9, 1498.0,2, -999.00,9
35LLETAMBOT1_2,  AR04,    82,  1,     15,   15.0,2,19951006,1454,  7.5028, -41.3358,   20,   1598.5,2,   4.2483,2,  34.9875,2,  34.9851,2,    238.1,2,    234.6,2,    16.70,2,    20.73,2,     0.01,2,     1.39,2,    0.129,2,    0.062,2,   2146.9,2,   -999.0,9,   2312.9,2,     8.02,2,  4.1160, -999.00,9, 1600.0,2, -999.00,9
35LLETAMBOT1_2,  AR04,    82,  1,     14,   14.0,2,19951006,1454,  7.5028, -41.3358,   20,   1696.2,2,   4.1126,2,  34.9882,2,  34.9898,2,    244.5,2,    241.8,2,    16.21,2,    20.25,2,     0.01,2,     1.35,2,    0.136,2,    0.066,2,   2150.6,2,   -999.0,9,   2320.7,2,     8.03,2,  3.9728, -999.00,9, 1697.0,2, -999.00,9
35LLETAMBOT1_2,  AR04,    82,  1,     13,   13.0,2,19951006,1454,  7.5028, -41.3358,   20,   1797.3,2,   3.9608,2,  34.9862,2,  34.9860,2,    249.5,2,    247.3,2,    16.74,2,    19.80,2,     0.00,2,     1.30,2,    0.120,2,    0.058,2,   2175.7,2,   -999.0,9,   2349.0,2,     8.03,2,  3.8134, -999.00,9, 1799.0,2, -999.00,9
35LLETAMBOT1_2,  AR04,    82,  1,     12,   12.0,2,19951006,1454,  7.5028, -41.3358,   20,   1897.2,2,   3.8346,2,  34.9838,2,  34.9840,2,    252.6,2,    251.5,2,    16.79,2,    19.49,2,     0.00,2,     1.29,2,    0.128,2,    0.064,2,   2133.9,3,   -999.0,9,   2307.3,3,     8.04,2,  3.6794, -999.00,9, 1898.0,2, -999.00,9
35LLETAMBOT1_2,  AR04,    82,  1,     11,   11.0,2,19951006,1454,  7.5028, -41.3358,   20,   1997.0,2,   3.7079,2,  34.9793,2,  34.9800,2,    253.5,2,    252.5,2,    17.76,2,    19.37,2,     0.00,2,     1.28,2,    0.106,2,    0.050,2,   2137.0,3,   -999.0,9,   2309.9,3,     8.03,2,  3.5450, -999.00,9, 1999.0,2, -999.00,9
35LLETAMBOT1_2,  AR04,    82,  1,     10,   10.0,2,19951006,1454,  7.5028, -41.3358,   20,   2299.4,2,   3.3482,2,  34.9649,2,  34.9636,2,    256.5,2,    255.3,2,    20.77,2,    19.54,2,     0.01,2,     1.29,2,    0.052,2,    0.022,2,   2159.8,2,   -999.0,9,   2334.6,2,     8.03,2,  3.1617, -999.00,9, 2301.0,2, -999.00,9
35LLETAMBOT1_2,  AR04,    82,  1,      9,    9.0,2,19951006,1454,  7.5028, -41.3358,   20,   2699.2,2,   2.9665,2,  34.9441,2,  34.9434,2,    256.5,2,    258.6,2,    25.65,2,    19.69,2,     0.00,2,     1.32,2,    0.049,2,    0.023,2,   2159.9,2,   -999.0,9,   2334.9,2,     8.02,2,  2.7474, -999.00,9, 2701.0,2, -999.00,9
35LLETAMBOT1_2,  AR04,    82,  1,      8,    8.0,2,19951006,1454,  7.5028, -41.3358,   20,   2999.7,2,   2.7702,2,  34.9294,2,  34.9286,2,    254.4,2,    254.6,2,    30.10,2,    20.37,2,     0.01,2,     1.37,2,    0.034,2,    0.017,2,   2154.8,2,   -999.0,9,   2328.2,2,     8.01,2,  2.5245, -999.00,9, 3001.0,2, -999.00,9
35LLETAMBOT1_2,  AR04,    82,  1,      7,    7.0,2,19951006,1454,  7.5028, -41.3358,   20,   3299.5,2,   2.5553,2,  34.9131,2,  34.9152,2,    252.6,2,    255.8,2,    33.69,2,    20.57,2,     0.01,2,     1.39,2,    0.045,2,    0.018,2,   -999.0,9,   -999.0,9,   -999.0,9,  -999.00,9,  2.2831, -999.00,9, 3301.0,2, -999.00,9
35LLETAMBOT1_2,  AR04,    82,  1,      6,    6.0,2,19951006,1454,  7.5028, -41.3358,   20,   3599.5,2,   2.4247,2,  34.9090,2,  34.9077,2,    260.7,2,    261.8,2,    31.46,2,    19.71,2,     0.01,2,     1.35,2,    0.100,2,    0.050,2,   2127.4,3,   -999.0,9,   2299.1,3,     7.99,2,  2.1233, -999.00,9, 3601.0,2, -999.00,9
35LLETAMBOT1_2,  AR04,    82,  1,      5,    5.0,2,19951006,1454,  7.5028, -41.3358,   20,   3802.2,2,   2.2961,2,  34.8980,2,  34.8968,2,    260.9,2,    261.7,2,    33.69,2,    19.65,2,     0.01,2,     1.36,2,    0.102,2,    0.058,2,   -999.0,9,   -999.0,9,   -999.0,9,  -999.00,9,  1.9758, -999.00,9, 3803.0,2, -999.00,9
35LLETAMBOT1_2,  AR04,    82,  1,      4,    4.0,2,19951006,1454,  7.5028, -41.3358,   20,   4000.2,2,   2.2370,2,  34.8927,2,  34.8911,2,    263.2,2,    262.3,2,    34.52,2,    19.64,2,     0.01,2,     1.36,2,    0.126,2,    0.069,2,   -999.0,9,   -999.0,9,   -999.0,9,  -999.00,9,  1.8961, -999.00,9, 4001.0,2, -999.00,9
35LLETAMBOT1_2,  AR04,    82,  1,      3,    3.0,2,19951006,1454,  7.5028, -41.3358,   20,   4250.8,2,   2.0445,2,  34.8669,2,  34.8660,2,    256.0,2,    254.7,2,    46.01,2,    21.62,2,     0.01,2,     1.48,2,    0.081,2,    0.043,2,   2156.3,3,   -999.0,9,   2322.1,3,     7.95,2,  1.6806, -999.00,9, 4252.0,2, -999.00,9
35LLETAMBOT1_2,  AR04,    82,  1,      2,    2.0,2,19951006,1454,  7.5028, -41.3358,   20,   4499.7,2,   1.5774,2,  34.8094,2,  34.8084,2,    241.3,2,    241.4,2,    72.42,2,    25.55,2,     0.01,2,     1.75,2,    0.043,2,    0.021,2,   2192.3,3,   -999.0,9,   2343.9,3,     7.91,2,  1.1992, -999.00,9, 4501.0,2, -999.00,9
35LLETAMBOT1_2,  AR04,    82,  1,      1,    1.0,2,19951006,1454,  7.5028, -41.3358,   20,   4576.6,2,   1.4971,2,  34.8003,2,  34.7994,2,    237.2,2,    238.3,2,    76.73,2,    26.30,2,     0.01,2,     1.82,2,    0.043,2,    0.019,2,   2097.4,3,   -999.0,9,   2242.9,3,     7.90,2,  1.1125, -999.00,9, 4578.0,2, -999.00,9
35LLETAMBOT1_2,  AR04,    83,  1,     24,   24.0,2,19951006,2059,  7.9535, -41.0913,   20,      4.1,2,  29.2014,2,  32.2922,2,  32.3667,2,    199.2,2,    207.2,2,     4.22,2,     0.00,2,     0.01,2,     0.00,2, -999.000,9, -999.000,9,   -999.0,9,    323.6,2,   -999.0,9,  -999.00,9, 29.2004,    0.10,2,    6.0,2,    0.02,2
35LLETAMBOT1_2,  AR04,    83,  1,     23,   23.0,2,19951006,2059,  7.9535, -41.0913,   20,     48.8,2,  28.5367,2,  35.5667,2,  35.8739,2,    199.6,2,    203.9,2,     0.88,2,     0.00,2,     0.01,2,     0.00,2, -999.000,9, -999.000,9,   -999.0,9,   -999.0,9,   -999.0,9,  -999.00,9, 28.5250, -999.00,9,   51.0,2, -999.00,9
35LLETAMBOT1_2,  AR04,    83,  1,     22,   22.0,2,19951006,2059,  7.9535, -41.0913,   20,    250.0,2,  10.0509,2,  34.9826,2,  34.9806,2,    103.6,2,    105.9,2,    12.85,2,    29.03,2,     0.01,2,     1.78,2, -999.000,9, -999.000,9,   -999.0,9,   -999.0,9,   -999.0,9,  -999.00,9, 10.0217, -999.00,9,  251.0,2, -999.00,9
35LLETAMBOT1_2,  AR04,    83,  1,     21,   21.0,2,19951006,2059,  7.9535, -41.0913,   20,    597.1,2,   7.0037,2,  34.6892,2,  34.6897,2,    114.8,2,    115.6,2,    21.74,2,    35.05,2,     0.01,2,     2.21,2,    0.148,2,    0.071,2,   -999.0,9,   -999.0,9,   -999.0,9,  -999.00,9,  6.9464, -999.00,9,  599.0,2, -999.00,9
35LLETAMBOT1_2,  AR04,    83,  1,     20,   20.0,2,19951006,2059,  7.9535, -41.0913,   20,    798.5,2,   5.6897,2,  34.6515,2,  34.6601,2,    123.5,2,    122.8,2,    26.29,2,    36.04,2,     0.01,2,     2.30,2,    0.033,2,    0.014,2,   -999.0,9,   -999.0,9,   -999.0,9,  -999.00,9,  5.6200, -999.00,9,  801.0,2, -999.00,9
35LLETAMBOT1_2,  AR04,    83,  1,     19,   19.0,2,19951006,2059,  7.9535, -41.0913,   20,    997.4,2,   5.0165,2,  34.7282,2,  34.7257,2,    146.1,2,    150.8,2,    27.62,2,    33.30,2,     0.00,2,     2.15,2,    0.029,2,    0.011,2,   -999.0,9,   -999.0,9,   -999.0,9,  -999.00,9,  4.9329, -999.00,9,  999.0,2, -999.00,9
35LLETAMBOT1_2,  AR04,    83,  1,     18,   18.0,2,19951006,2059,  7.9535, -41.0913,   20,   1248.4,2,   4.8850,2,  34.9052,2,  34.8991,2,    188.6,2,    186.2,2,    21.92,2,    26.76,2,     0.00,2,     1.76,2,    0.073,2,    0.033,2,   -999.0,9,   -999.0,9,   -999.0,9,  -999.00,9,  4.7790, -999.00,9, 1250.0,2, -999.00,9
35LLETAMBOT1_2,  AR04,    83,  1,     17,   17.0,2,19951006,2059,  7.9535, -41.0913,   20,   1497.0,2,   4.5500,2,  34.9889,2,  34.9891,2,    228.3,2,    227.3,2,    16.75,2,    21.41,2,     0.00,2,     1.39,2,    0.194,2,    0.093,2,   -999.0,9,   -999.0,9,   -999.0,9,  -999.00,9,  4.4238, -999.00,9, 1498.0,2, -999.00,9
35LLETAMBOT1_2,  AR04,    83,  1,     16,   16.0,2,19951006,2059,  7.9535, -41.0913,   20,   1597.6,2,   4.3110,2,  34.9947,2,  34.9944,2,    241.0,2,    241.2,2,    15.62,2,    20.06,2,     0.00,2,     1.30,2,    0.208,2,    0.100,2,   -999.0,9,   -999.0,9,   -999.0,9,  -999.00,9,  4.1781, -999.00,9, 1599.0,2, -999.00,9
35LLETAMBOT1_2,  AR04,    83,  1,     15,   15.0,2,19951006,2059,  7.9535, -41.0913,   20,   1696.0,2,   4.1852,2,  34.9967,2,  34.9800,3,    245.0,2,    244.2,2,    15.75,2,    19.79,2,     0.00,2,     1.29,2,    0.186,2,    0.096,2,   -999.0,9,   -999.0,9,   -999.0,9,  -999.00,9,  4.0444, -999.00,9, 1697.0,2, -999.00,9
35LLETAMBOT1_2,  AR04,    83,  1,     14,   14.0,2,19951006,2059,  7.9535, -41.0913,   20,   1795.8,2,   4.0017,2,  34.9937,2,  34.9939,2,    253.3,2,    252.0,2,    15.09,2,    19.04,2,     0.00,2,     1.23,2,    0.241,2,    0.124,2,   -999.0,9,   -999.0,9,   -999.0,9,  -999.00,9,  3.8538, -999.00,9, 1797.0,2, -999.00,9
35LLETAMBOT1_2,  AR04,    83,  1,     13,   13.0,2,19951006,2059,  7.9535, -41.0913,   20,   1996.4,2,   3.7038,2,  34.9803,2,  34.9798,2,    253.8,2,    253.7,2,    17.38,2,    19.11,2,     0.00,2,     1.25,2,    0.101,2,    0.055,2,   -999.0,9,   -999.0,9,   -999.0,9,  -999.00,9,  3.5410, -999.00,9, 1998.0,2, -999.00,9
35LLETAMBOT1_2,  AR04,    83,  1,     12,   12.0,2,19951006,2059,  7.9535, -41.0913,   20,   2297.3,2,   3.2419,2,  34.9564,2,  34.9553,2,    252.5,2,    253.6,2,    23.41,2,    20.65,2,     0.00,2,     1.29,2,    0.045,2,    0.025,2,   -999.0,9,   -999.0,9,   -999.0,9,  -999.00,9,  3.0574, -999.00,9, 2298.0,2, -999.00,9
35LLETAMBOT1_2,  AR04,    83,  1,     11,   11.0,2,19951006,2059,  7.9535, -41.0913,   20,   2697.6,2,   2.9596,2,  34.9437,2,  34.9417,2,    257.7,2,    259.4,2,    26.13,2,    20.31,2,     0.00,2,     1.30,2,    0.063,2,    0.033,2,   -999.0,9,   -999.0,9,   -999.0,9,  -999.00,9,  2.7408, -999.00,9, 2699.0,2, -999.00,9
35LLETAMBOT1_2,  AR04,    83,  1,     10,   10.0,2,19951006,2059,  7.9535, -41.0913,   20,   2997.3,2,   2.7599,2,  34.9282,2,  34.9283,2,    256.3,2,    255.3,2,    30.79,2,    20.90,2,     0.00,2,     1.34,2,    0.042,2,    0.023,2,   -999.0,9,   -999.0,9,   -999.0,9,  -999.00,9,  2.5147, -999.00,9, 2999.0,2, -999.00,9
35LLETAMBOT1_2,  AR04,    83,  1,      9,    9.0,2,19951006,2059,  7.9535, -41.0913,   20,   3300.8,2,   2.5924,2,  34.9167,2,  34.9151,2,    256.6,2,    255.9,2,    34.65,2,    21.30,2,     0.00,2,     1.36,2,    0.052,2,    0.026,2,   -999.0,9,   -999.0,9,   -999.0,9,  -999.00,9,  2.3191, -999.00,9, 3301.0,2, -999.00,9
35LLETAMBOT1_2,  AR04,    83,  1,      8,    8.0,2,19951006,2059,  7.9535, -41.0913,   20,   3600.1,2,   2.4267,2,  34.9035,2,  34.9008,2,    257.1,2,    256.0,2,    38.78,2,    21.57,2,     0.00,2,     1.37,2,    0.076,2,    0.039,2,   -999.0,9,   -999.0,9,   -999.0,9,  -999.00,9,  2.1253, -999.00,9, 3601.0,2, -999.00,9
35LLETAMBOT1_2,  AR04,    83,  1,      7,    7.0,2,19951006,2059,  7.9535, -41.0913,   20,   3801.5,2,   2.2810,2,  34.8957,2,  34.8961,2,    261.4,2,    260.8,2,    35.96,3,    20.78,3,     0.00,2,     1.32,3,    0.117,2,    0.060,2,   -999.0,9,   -999.0,9,   -999.0,9,  -999.00,9,  1.9612, -999.00,9, 3803.0,2, -999.00,9
35LLETAMBOT1_2,  AR04,    83,  1,      6,    6.0,2,19951006,2059,  7.9535, -41.0913,   20,   4000.6,2,   2.1550,2,  34.8784,2,  34.8770,2,    256.7,2,    255.1,2,    46.08,2,    22.53,2,     0.00,2,     1.44,2,    0.079,2,    0.045,2,   -999.0,9,   -999.0,9,   -999.0,9,  -999.00,9,  1.8164, -999.00,9, 4001.0,2, -999.00,9
35LLETAMBOT1_2,  AR04,    83,  1,      5,    5.0,2,19951006,2059,  7.9535, -41.0913,   20,   4199.5,2,   2.0186,2,  34.8641,2,  34.8606,2,    255.1,2,    253.0,2,    52.87,2,    23.31,2,     0.00,2,     1.49,2,    0.079,2,    0.046,2,   -999.0,9,   -999.0,9,   -999.0,9,  -999.00,9,  1.6614, -999.00,9, 4200.0,2, -999.00,9
35LLETAMBOT1_2,  AR04,    83,  1,      4,    4.0,2,19951006,2059,  7.9535, -41.0913,   20,   4400.7,2,   1.7818,2,  34.8336,2,  34.8331,2,    247.2,2,    246.1,2,    62.55,2,    25.37,2,     0.00,2,     1.61,2,    0.060,2,    0.032,2,   -999.0,9,   -999.0,9,   -999.0,9,  -999.00,9,  1.4086, -999.00,9, 4401.0,2, -999.00,9
35LLETAMBOT1_2,  AR04,    83,  1,      3,    3.0,2,19951006,2059,  7.9535, -41.0913,   20,   4599.0,2,   1.7021,2,  34.8222,2,  34.8216,2,    244.3,2,    243.8,2,    67.09,2,    26.13,2,     0.00,2,     1.66,2,    0.040,2,    0.028,2,   -999.0,9,   -999.0,9,   -999.0,9,  -999.00,9,  1.3083, -999.00,9, 4600.0,2, -999.00,9
35LLETAMBOT1_2,  AR04,    83,  1,      2,    2.0,2,19951006,2059,  7.9535, -41.0913,   20,   4750.9,2,   1.6684,2,  34.8163,2,  34.8148,2,    242.9,2,    241.7,2,    69.97,2,    26.50,2,     0.00,2,     1.72,2,    0.047,2,    0.025,2,   -999.0,9,   -999.0,9,   -999.0,9,  -999.00,9,  1.2577, -999.00,9, 4752.0,2, -999.00,9
35LLETAMBOT1_2,  AR04,    83,  1,      1,    1.0,2,19951006,2059,  7.9535, -41.0913,   20,   4848.0,2,   1.6484,2,  34.8130,2,  34.8118,2,    241.3,2,    241.0,2,    71.46,2,    26.72,2,     0.00,2,     1.72,2,    0.060,2,    0.030,2,   -999.0,9,   -999.0,9,   -999.0,9,  -999.00,9,  1.2267, -999.00,9, 4849.0,2, -999.00,9