BOTTLE,20220929CCHSIOAMB
EXPOCODE,SECT_ID,STNNBR,CASTNO,SAMPNO,BTLNBR,BTLNBR_FLAG_W,DATE,TIME,LATITUDE,LONGITUDE,DEPTH,CTDPRS,CTDPRS_FLAG_W,CTDTMP,CTDTMP_FLAG_W,CTDSAL,CTDSAL_FLAG_W,SALNTY,SALNTY_FLAG_W,CTDOXY,CTDOXY_FLAG_W,OXYGEN,OXYGEN_FLAG_W,SILCAT,SILCAT_FLAG_W,NITRAT,NITRAT_FLAG_W,NITRIT,NITRIT_FLAG_W,PHSPHT,PHSPHT_FLAG_W,CFC-11,CFC-11_FLAG_W,CFC-12,CFC-12_FLAG_W,TCARBN,TCARBN_FLAG_W,PCO2,PCO2_FLAG_W,ALKALI,ALKALI_FLAG_W,PH,PH_FLAG_W,THETA,CHLORA,CHLORA_FLAG_W,CTDRAW,CTDRAW_FLAG_W,PPHYTN,PPHYTN_FLAG_W
,,,,,,,,,,,,DBAR,,DEG C,,PSS-78,,PSS-78,,UMOL/KG,,UMOL/KG,,UMOL/KG,,UMOL/KG,,UMOL/KG,,UMOL/KG,,PMOL/KG,,PMOL/KG,,UMOL/KG,,UATM,,UMOL/KG,,,,DEG C,UG/L,,DBAR,,UG/L,
35LLETAMBOT1_1,  AR15,    22,  2,     22,   22.0,2,19950914,2016,  7.5002, -44.0012,   15,    597.6,2,   6.5257,2,  34.6268,2,  34.6295,2,    123.4,2,    124.4,2,    22.09,2,    33.35,2,     0.00,2,     2.21,2,    0.182,2,    0.079,2,   2181.7,2,   -999.0,9,   2281.6,2,     7.86,2,  6.4706, -999.00,9,  599.0,2, -999.00,9
35LLETAMBOT1_1,  AR15,    22,  2,     21,   21.0,2,19950914,2016,  7.5002, -44.0012,   15,    798.7,2,   5.3808,2,  34.5662,2,  34.5650,2,    134.7,2,    134.5,2,    27.64,2,    34.60,2,     0.00,2,     2.33,2,    0.052,2,    0.014,2,   2181.8,3,   -999.0,9,   2277.0,3,     7.85,2,  5.3130, -999.00,9,  801.0,2, -999.00,9
35LLETAMBOT1_1,  AR15,    22,  2,     20,   20.0,2,19950914,2016,  7.5002, -44.0012,   15,    895.0,2,   5.2294,2,  34.6256,2,  34.6200,2,    135.2,2,    135.3,2,    28.63,2,    34.29,2,     0.00,2,     2.32,2,    0.018,2,    0.002,2,   -999.0,9,   -999.0,9,   -999.0,9,  -999.00,9,  5.1538, -999.00,9,  897.0,2, -999.00,9
35LLETAMBOT1_1,  AR15,    22,  2,     19,   19.0,2,19950914,2016,  7.5002, -44.0012,   15,    995.5,2,   5.0039,2,  34.7024,2,  34.6790,2,    144.8,2,    143.9,2,    28.98,2,    33.03,2,     0.00,2,     2.25,2,    0.033,2,    0.008,2,   2192.1,3,   -999.0,9,   2293.7,3,     7.87,2,  4.9206, -999.00,9,  997.0,2, -999.00,9
35LLETAMBOT1_1,  AR15,    22,  2,     18,   18.0,2,19950914,2016,  7.5002, -44.0012,   15,    996.2,2,   5.0044,2,  34.7029,2,  34.6804,2,    144.8,2,    144.4,2,    28.99,2,    32.98,2,     0.00,2,     2.24,2,   -0.021,2,    0.002,2,   2194.5,3,   -999.0,9,   2296.7,3,     7.87,2,  4.9211, -999.00,9,  998.0,2, -999.00,9
35LLETAMBOT1_1,  AR15,    22,  2,     17,   17.0,2,19950914,2016,  7.5002, -44.0012,   15,   1244.9,2,   4.8148,2,  34.9042,2,  34.8880,2,    187.9,2,    185.0,2,    22.87,2,    26.50,2,     0.00,2,     1.81,2,    0.132,2, -999.000,9,   2152.4,3,   -999.0,9,   2283.4,3,     7.94,2,  4.7098, -999.00,9, 1247.0,2, -999.00,9
35LLETAMBOT1_1,  AR15,    22,  2,     16,   16.0,2,19950914,2016,  7.5002, -44.0012,   15,   1497.4,2,   4.4783,2,  34.9768,2,  34.8886,3,    225.4,2,    227.6,2,    17.54,2,    21.28,2,     0.00,2,     1.44,2,    0.101,2,    0.053,2,   2132.6,3,   -999.0,9,   2288.0,3,     8.00,2,  4.3529, -999.00,9, 1499.0,2, -999.00,9
35LLETAMBOT1_1,  AR15,    22,  2,     15,   15.0,2,19950914,2016,  7.5002, -44.0012,   15,   1595.6,2,   4.2822,2,  34.9904,2,  34.9910,2,    239.1,2,    239.7,2,    16.30,2,    20.00,2,     0.00,2,     1.34,2,    0.182,2,    0.085,2,   2116.6,3,   -999.0,9,   2278.1,3,     8.02,2,  4.1498, -999.00,9, 1597.0,2, -999.00,9
35LLETAMBOT1_1,  AR15,    22,  2,     14,   14.0,2,19950914,2016,  7.5002, -44.0012,   15,   1697.0,2,   4.1249,2,  34.9944,2,  34.9930,2,    248.0,2,    250.0,2,    15.62,2,    19.04,2,     0.00,2,     1.27,2,    0.174,2,    0.084,2,   2128.2,3,   -999.0,9,   2295.7,3,     8.03,2,  3.9848, -999.00,9, 1699.0,2, -999.00,9
35LLETAMBOT1_1,  AR15,    22,  2,     13,   13.0,2,19950914,2016,  7.5002, -44.0012,   15,   1797.7,2,   3.9507,2,  34.9924,2,  34.9780,3,    254.8,2,    253.4,2,    15.86,2,    18.76,2,     0.00,2,     1.24,2,    0.169,2,    0.082,2,   2095.3,3,   -999.0,9,   2261.8,3,     8.03,2,  3.8033, -999.00,9, 1799.0,2, -999.00,9
35LLETAMBOT1_1,  AR15,    22,  2,     12,   12.0,2,19950914,2016,  7.5002, -44.0012,   15,   1997.9,2,   3.7014,2,  34.9808,2,  34.9633,3,    254.9,2,    256.0,2,    17.98,2,    18.95,2,     0.00,2,     1.27,2,    0.110,2,    0.054,2,   2097.5,3,   -999.0,9,   2264.3,3,     8.02,2,  3.5385, -999.00,9, 1999.0,2, -999.00,9
35LLETAMBOT1_1,  AR15,    22,  2,     11,   11.0,2,19950914,2016,  7.5002, -44.0012,   15,   2298.5,2,   3.3999,2,  34.9682,2,  34.9637,2,    258.4,2,    257.8,2,    20.93,2,    18.96,2,     0.00,2,     1.28,2,    0.045,2,    0.033,2,   2104.2,3,   -999.0,9,   2271.2,3,     8.02,2,  3.2126, -999.00,9, 2300.0,2, -999.00,9
35LLETAMBOT1_1,  AR15,    22,  2,     10,   10.0,2,19950914,2016,  7.5002, -44.0012,   15,   2600.4,2,   3.0850,2,  34.9504,2,  34.9500,2,    258.8,2,    258.8,2,    23.72,2,    19.06,2,     0.00,2,     1.29,2,    0.087,2,    0.046,2,   -999.0,9,   -999.0,9,   -999.0,9,  -999.00,9,  2.8735, -999.00,9, 2602.0,2, -999.00,9
35LLETAMBOT1_1,  AR15,    22,  2,      9,    9.0,2,19950914,2016,  7.5002, -44.0012,   15,   2799.3,2,   2.8981,2,  34.9391,2,  34.9399,2,    259.2,2,    258.1,2,    25.93,2,    19.25,2,     0.00,2,     1.30,2,    0.040,2,    0.024,2,   2129.1,3,   -999.0,9,   2299.2,3,     8.01,2,  2.6702, -999.00,9, 2801.0,2, -999.00,9
35LLETAMBOT1_1,  AR15,    22,  2,      8,    8.0,2,19950914,2016,  7.5002, -44.0012,   15,   2999.9,2,   2.7922,2,  34.9328,2,  34.9320,2,    259.6,2,    259.0,2,    27.39,2,    19.30,2,     0.00,2,     1.31,2,    0.046,2,    0.029,2,   2135.0,3,   -999.0,9,   2303.9,3,     8.00,2,  2.5460, -999.00,9, 3001.0,2, -999.00,9
35LLETAMBOT1_1,  AR15,    22,  2,      7,    7.0,2,19950914,2016,  7.5002, -44.0012,   15,   3299.5,2,   2.6102,2,  34.9189,2,  34.9200,2,    257.3,2,    257.3,2,    31.50,2,    19.73,2,     0.00,2,     1.34,2,    0.048,2,    0.031,2,   2130.0,3,   -999.0,9,   2300.2,3,     7.99,2,  2.3366, -999.00,9, 3301.0,2, -999.00,9
35LLETAMBOT1_1,  AR15,    22,  2,      6,    6.0,2,19950914,2016,  7.5002, -44.0012,   15,   3599.4,2,   2.4201,2,  34.9053,2,  34.9050,2,    260.5,2,    260.0,2,    33.47,2,    19.62,2,     0.00,2,     1.34,2,    0.074,2,    0.043,2,   2131.0,3,   -999.0,9,   2298.9,3,     7.98,2,  2.1189, -999.00,9, 3601.0,2, -999.00,9
35LLETAMBOT1_1,  AR15,    22,  2,      5,    5.0,2,19950914,2016,  7.5002, -44.0012,   15,   3800.6,2,   2.3347,2,  34.8998,2,  34.8990,2,    262.8,2,    262.5,2,    33.60,2,    19.24,2,     0.00,2,     1.32,2, -999.000,9,    0.055,2,   2123.6,3,   -999.0,9,   2289.6,3,     7.97,2,  2.0135, -999.00,9, 3802.0,2, -999.00,9
35LLETAMBOT1_1,  AR15,    22,  2,      4,    4.0,2,19950914,2016,  7.5002, -44.0012,   15,   4002.3,2,   2.2586,2,  34.8937,2,  34.8930,2,    263.5,2,    264.0,2,    34.29,2,    19.10,2,     0.00,2,     1.32,2,    0.125,2,    0.067,2,   2106.0,3,   -999.0,9,   2272.1,3,     7.96,2,  1.9169, -999.00,9, 4004.0,2, -999.00,9
35LLETAMBOT1_1,  AR15,    22,  2,      3,    3.0,2,19950914,2016,  7.5002, -44.0012,   15,   4251.5,2,   2.2297,2,  34.8882,2,  34.8870,2,    262.0,2,    261.6,2,    36.67,2,    19.61,2,     0.00,2,     1.35,2,    0.109,2,    0.059,2,   2131.6,3,   -999.0,9,   2300.0,3,     7.96,2,  1.8601, -999.00,9, 4253.0,2, -999.00,9
35LLETAMBOT1_1,  AR15,    22,  2,      2,    2.0,2,19950914,2016,  7.5002, -44.0012,   15,   4500.8,2,   2.0352,2,  34.8620,2,  34.8616,2,    255.1,2,    254.8,2,    48.57,2,    21.37,2,     0.00,2,     1.48,2,    0.059,2,    0.046,2,   2151.8,3,   -999.0,9,   2314.1,3,     7.93,2,  1.6423, -999.00,9, 4502.0,2, -999.00,9
35LLETAMBOT1_1,  AR15,    22,  2,      1,    1.0,2,19950914,2016,  7.5002, -44.0012,   15,   4733.5,2,   1.5582,2,  34.8026,2,  34.8020,2,    238.7,2,    240.1,2,  -999.00,9,    25.44,2,     0.00,2,     1.77,2,    0.020,2,    0.021,2,   2175.2,3,   -999.0,9,   2324.6,3,     7.90,2,  1.1532, -999.00,9, 4733.0,2, -999.00,9
35LLETAMBOT1_1,  AR15,    23,  1,     28,    6.0,2,19950915,0253,  7.5003, -43.3383, 4760,     -0.9,2,  29.1389,2,  33.4399,2,  33.4420,2,    198.3,2,    198.5,2,     4.05,2,     0.00,2,     0.00,2,     0.00,2, -999.000,9, -999.000,9,   -999.0,9,    336.7,2,   -999.0,9,  -999.00,9, 29.1391,    0.07,2,    1.0,2,    0.02,2
35LLETAMBOT1_1,  AR15,    23,  1,     27,    5.0,2,19950915,0253,  7.5003, -43.3383, 4760,     47.7,2,  27.1037,2,  36.2237,2,  35.9995,2,    191.4,2,    191.2,2,     1.53,2,     0.00,2,     0.00,2,     0.00,2, -999.000,9, -999.000,9,   -999.0,9,   -999.0,9,   -999.0,9,  -999.00,9, 27.0927, -999.00,9,   49.0,2, -999.00,9
35LLETAMBOT1_1,  AR15,    23,  1,     26,    4.0,2,19950915,0253,  7.5003, -43.3383, 4760,    122.3,2,  14.3262,2,  35.5989,2,  35.8816,3,    119.9,2,    120.0,2,     5.95,2,    16.72,2,     0.01,2,     1.03,2, -999.000,9, -999.000,9,   -999.0,9,   -999.0,9,   -999.0,9,  -999.00,9, 14.3082, -999.00,9,  123.0,2, -999.00,9
35LLETAMBOT1_1,  AR15,    23,  1,     25,    3.0,2,19950915,0253,  7.5003, -43.3383, 4760,    199.2,2,  10.4923,2,  35.0729,2,  35.0905,2,    105.9,2,    105.7,2,    11.84,2,    26.71,2,     0.00,2,     1.70,2, -999.000,9, -999.000,9,   -999.0,9,   -999.0,9,   -999.0,9,  -999.00,9, 10.4684, -999.00,9,  200.0,2, -999.00,9
35LLETAMBOT1_1,  AR15,    23,  1,     24,    2.0,2,19950915,0253,  7.5003, -43.3383, 4760,    350.4,2,   8.5761,2,  34.8135,2,  34.8080,2,    116.5,2,    117.1,2,    16.08,2,    29.87,2,     0.00,2,     1.93,2, -999.000,9, -999.000,9,   -999.0,9,   -999.0,9,   -999.0,9,  -999.00,9,  8.5389, -999.00,9,  349.0,2, -999.00,9
35LLETAMBOT1_1,  AR15,    23,  1,     23,    1.0,2,19950915,0253,  7.5003, -43.3383, 4760,    513.9,2,   7.3549,2,  34.6890,2,  34.6920,2,    120.1,2,    118.2,2,    20.06,2,    32.60,2,     0.00,2,     2.13,2, -999.000,9, -999.000,9,   -999.0,9,   -999.0,9,   -999.0,9,  -999.00,9,  7.3045, -999.00,9,  511.0,2, -999.00,9
35LLETAMBOT1_1,  AR15,    23,  2,     22,   22.0,2,19950915,0516,  7.4997, -43.3333,   15,    596.3,2,   6.6620,2,  34.6453,2,  34.6355,2,    120.0,2,    122.5,2,    23.03,2,    33.64,2,     0.00,2,     2.22,2,    0.137,2,    0.056,2,   -999.0,9,   -999.0,9,   -999.0,9,  -999.00,9,  6.6064, -999.00,9,  598.0,2, -999.00,9
35LLETAMBOT1_1,  AR15,    23,  2,     21,   21.0,2,19950915,0516,  7.4997, -43.3333,   15,    794.9,2,   5.5442,2,  34.6229,2,  34.6229,2,    127.8,2,    127.5,2,    27.71,2,    34.62,2,     0.00,2,     2.31,2,    0.020,2,    0.004,2,   -999.0,9,   -999.0,9,   -999.0,9,  -999.00,9,  5.4757, -999.00,9,  796.0,2, -999.00,9
35LLETAMBOT1_1,  AR15,    23,  2,     19,   19.0,2,19950915,0516,  7.4997, -43.3333,   15,    896.0,2,   5.1484,2,  34.6649,2,  34.6646,2,    137.7,2,    138.2,2,    28.92,2,    33.55,2,     0.00,2,     2.26,2,    0.002,2,    0.002,2,   -999.0,9,   -999.0,9,   -999.0,9,  -999.00,9,  5.0732, -999.00,9,  898.0,2, -999.00,9
35LLETAMBOT1_1,  AR15,    23,  2,     20,   20.0,2,19950915,0516,  7.4997, -43.3333,   15,    896.0,2,   5.1484,2,  34.6649,2,  34.6640,2,    137.7,2,    137.7,2,    28.92,2,    33.62,2,     0.00,2,     2.26,2,    0.002,2,    0.002,2,   -999.0,9,   -999.0,9,   -999.0,9,  -999.00,9,  5.0732, -999.00,9,  898.0,2, -999.00,9
35LLETAMBOT1_1,  AR15,    23,  2,     18,   18.0,2,19950915,0516,  7.4997, -43.3333,   15,    997.4,2,   4.8850,2,  34.7166,2,  34.7180,2,    151.0,2,    151.7,2,    28.46,2,    31.96,2,     0.00,2,     2.15,2,    0.000,2,    0.002,2,   -999.0,9,   -999.0,9,   -999.0,9,  -999.00,9,  4.8025, -999.00,9,  998.0,2, -999.00,9
35LLETAMBOT1_1,  AR15,    23,  2,     17,   17.0,2,19950915,0516,  7.4997, -43.3333,   15,   1246.7,2,   4.6881,2,  34.8930,2,  34.8876,2,    187.7,2,    187.1,2,    23.09,2,    26.50,2,     0.00,2,     1.77,2,    0.021,2,    0.013,2,   -999.0,9,   -999.0,9,   -999.0,9,  -999.00,9,  4.5842, -999.00,9, 1248.0,2, -999.00,9
35LLETAMBOT1_1,  AR15,    23,  2,     16,   16.0,2,19950915,0516,  7.4997, -43.3333,   15,   1497.3,2,   4.3714,2,  34.9757,2,  34.9720,2,    227.4,2,    225.3,2,    18.15,2,    21.71,2,     0.00,2,     1.44,2,    0.066,2,    0.037,2,   -999.0,9,   -999.0,9,   -999.0,9,  -999.00,9,  4.2472, -999.00,9, 1499.0,2, -999.00,9
35LLETAMBOT1_1,  AR15,    23,  2,     15,   15.0,2,19950915,0516,  7.4997, -43.3333,   15,   1596.3,2,   4.2053,2,  34.9892,2,  34.9840,2,    241.2,2,    235.7,2,    17.07,2,    20.46,2,     0.00,2,     1.36,2,    0.107,2,    0.053,2,   -999.0,9,   -999.0,9,   -999.0,9,  -999.00,9,  4.0737, -999.00,9, 1598.0,2, -999.00,9
35LLETAMBOT1_1,  AR15,    23,  2,     14,   14.0,2,19950915,0516,  7.4997, -43.3333,   15,   1697.3,2,   4.0542,2,  34.9880,2,  34.9900,2,    245.8,2,    244.5,2,    16.25,2,    19.64,2,     0.00,2,     1.29,2,    0.129,2,    0.063,2,   -999.0,9,   -999.0,9,   -999.0,9,  -999.00,9,  3.9150, -999.00,9, 1699.0,2, -999.00,9
35LLETAMBOT1_1,  AR15,    23,  2,     13,   13.0,2,19950915,0516,  7.4997, -43.3333,   15,   1796.5,2,   3.8844,2,  34.9826,2,  34.9840,2,    249.1,2,    248.2,2,    16.82,2,    19.34,2,     0.00,2,     1.28,2,    0.101,2,    0.053,2,   -999.0,9,   -999.0,9,   -999.0,9,  -999.00,9,  3.7381, -999.00,9, 1797.0,2, -999.00,9
35LLETAMBOT1_1,  AR15,    23,  2,     12,   12.0,2,19950915,0516,  7.4997, -43.3333,   15,   1997.8,2,   3.5879,2,  34.9720,2,  34.9740,2,    252.1,2,    252.6,2,    18.92,2,    19.25,2,     0.00,2,     1.27,2,    0.056,2,    0.032,2,   -999.0,9,   -999.0,9,   -999.0,9,  -999.00,9,  3.4267, -999.00,9, 1999.0,2, -999.00,9
35LLETAMBOT1_1,  AR15,    23,  2,     11,   11.0,2,19950915,0516,  7.4997, -43.3333,   15,   2398.0,2,   3.1738,2,  34.9540,2,  34.9570,2,    256.0,2,    257.2,2,    22.60,2,    19.17,2,     0.00,2,     1.27,2,    0.045,2,    0.025,2,   -999.0,9,   -999.0,9,   -999.0,9,  -999.00,9,  2.9807, -999.00,9, 2399.0,2, -999.00,9
35LLETAMBOT1_1,  AR15,    23,  2,     10,   10.0,3,19950915,0516,  7.4997, -43.3333,   15,   2798.4,2,   2.8885,2,  34.9375,2,  34.9324,2,    258.1,2,    258.7,2,    26.53,2,    19.23,2,     0.00,2,     1.28,2,    0.049,2,    0.028,2,   -999.0,9,   -999.0,9,   -999.0,9,  -999.00,9,  2.6609, -999.00,9, 2800.0,2, -999.00,9
35LLETAMBOT1_1,  AR15,    23,  2,      9,    9.0,2,19950915,0516,  7.4997, -43.3333,   15,   3000.1,2,   2.7742,2,  34.9301,2,  34.9310,2,    258.4,2,    258.7,2,    28.38,2,    19.38,2,     0.00,2,     1.29,2,    0.061,2,    0.032,2,   -999.0,9,   -999.0,9,   -999.0,9,  -999.00,9,  2.5283, -999.00,9, 3002.0,2, -999.00,9
35LLETAMBOT1_1,  AR15,    23,  2,      8,    8.0,2,19950915,0516,  7.4997, -43.3333,   15,   3299.7,2,   2.6015,2,  34.9173,2,  34.9186,2,    257.0,2,    258.7,2,    31.39,2,    19.46,2,     0.00,2,     1.31,2,    0.055,2,    0.032,2,   -999.0,9,   -999.0,9,   -999.0,9,  -999.00,9,  2.3281, -999.00,9, 3301.0,2, -999.00,9
35LLETAMBOT1_1,  AR15,    23,  2,      7,    7.0,2,19950915,0516,  7.4997, -43.3333,   15,   3598.8,2,   2.4164,2,  34.9050,2,  34.9056,2,    261.0,2,    262.0,2,    32.16,2,    19.22,2,     0.00,2,     1.30,2,    0.106,2,    0.054,2,   -999.0,9,   -999.0,9,   -999.0,9,  -999.00,9,  2.1154, -999.00,9, 3600.0,2, -999.00,9
35LLETAMBOT1_1,  AR15,    23,  2,      6,    6.0,2,19950915,0516,  7.4997, -43.3333,   15,   3799.2,2,   2.3333,2,  34.8990,2,  34.8989,2,    262.0,2,    263.2,2,    33.24,2,    19.16,2,     0.00,2,     1.30,2,    0.083,2,    0.044,2,   -999.0,9,   -999.0,9,   -999.0,9,  -999.00,9,  2.0123, -999.00,9, 3801.0,2, -999.00,9
35LLETAMBOT1_1,  AR15,    23,  2,      5,    5.0,2,19950915,0516,  7.4997, -43.3333,   15,   3999.5,2,   2.2760,2,  34.8933,2,  34.8940,2,    263.2,2,    263.5,2,    34.48,2,    19.20,2,     0.00,2,     1.31,2,    0.115,2,    0.062,2,   -999.0,9,   -999.0,9,   -999.0,9,  -999.00,9,  1.9341, -999.00,9, 4001.0,2, -999.00,9
35LLETAMBOT1_1,  AR15,    23,  2,      4,    4.0,2,19950915,0516,  7.4997, -43.3333,   15,   4200.0,2,   2.2427,2,  34.8884,2,  34.8880,2,    262.5,2,    261.6,2,    36.56,2,    19.56,2,     0.00,2,     1.34,2,    0.101,2,    0.056,2,   -999.0,9,   -999.0,9,   -999.0,9,  -999.00,9,  1.8787, -999.00,9, 4201.0,2, -999.00,9
35LLETAMBOT1_1,  AR15,    23,  2,      3,    3.0,2,19950915,0516,  7.4997, -43.3333,   15,   4397.3,2,   2.1647,2,  34.8776,2,  34.8760,2,    259.7,2,    258.2,2,    42.35,2,    20.43,2,     0.00,2,     1.40,2,    0.088,2,    0.051,2,   -999.0,9,   -999.0,9,   -999.0,9,  -999.00,9,  1.7800, -999.00,9, 4398.0,2, -999.00,9
35LLETAMBOT1_1,  AR15,    23,  2,      2,    2.0,2,19950915,0516,  7.4997, -43.3333,   15,   4600.7,2,   1.6709,2,  34.8154,2,  34.7720,3,    244.8,2,    243.9,2,    70.87,2,    24.53,2,     0.00,2,     1.68,2,    0.043,2,    0.027,2,   -999.0,9,   -999.0,9,   -999.0,9,  -999.00,9,  1.2779, -999.00,9, 4602.0,2, -999.00,9
35LLETAMBOT1_1,  AR15,    23,  2,      1,    1.0,2,19950915,0516,  7.4997, -43.3333,   15,   4843.0,2,   1.4907,2,  34.7905,2,  34.7930,2,    238.3,2,    238.1,2,    81.90,2,    26.16,2,     0.00,2,     1.81,2,    0.016,2,    0.011,2,   -999.0,9,   -999.0,9,   -999.0,9,  -999.00,9,  1.0750, -999.00,9, 4845.0,2, -999.00,9
35LLETAMBOT1_1,  AR15,    24,  1,     28,    6.0,2,19950915,1155,  7.5010, -42.6685, 4790,      1.2,2,  28.9172,2,  33.3664,2,  33.2038,2,    196.7,2,    199.5,2,     3.94,2,     0.09,2,     0.00,2,     0.00,2, -999.000,9, -999.000,9,   1874.7,2,    330.7,2,   2234.6,2,     8.09,2, 28.9169,    0.08,2,    4.0,2,    0.02,2
35LLETAMBOT1_1,  AR15,    24,  1,     27,    5.0,2,19950915,1155,  7.5010, -42.6685, 4790,     49.4,2,  28.8017,2,  34.9128,2,  35.2160,2,    190.4,2,    200.3,2,     1.99,2,     0.14,2,     0.00,2,     0.00,2, -999.000,9, -999.000,9,   1963.4,2,   -999.0,9,   2349.7,2,     8.09,2, 28.7898, -999.00,9,   51.0,2, -999.00,9
35LLETAMBOT1_1,  AR15,    24,  1,     26,    4.0,2,19950915,1155,  7.5010, -42.6685, 4790,    100.7,2,  18.1222,2,  35.9640,2,  36.2150,2,    158.1,2,    155.5,2,     3.13,2,     8.44,2,     0.03,2,     0.57,2, -999.000,9, -999.000,9,   2123.3,2,   -999.0,9,   2409.3,2,     8.08,2, 18.1048, -999.00,9,  102.0,2, -999.00,9
35LLETAMBOT1_1,  AR15,    24,  1,     25,    3.0,2,19950915,1155,  7.5010, -42.6685, 4790,    199.3,2,  11.1384,2,  35.1192,2,  35.1436,2,    127.1,2,    127.0,2,    10.33,2,    23.82,2,     0.00,2,     1.53,2, -999.000,9, -999.000,9,   2164.5,2,   -999.0,9,   2327.4,2,     7.96,2, 11.1136, -999.00,9,  199.0,2, -999.00,9
35LLETAMBOT1_1,  AR15,    24,  1,     24,    2.0,2,19950915,1155,  7.5010, -42.6685, 4790,    350.3,2,   9.2837,2,  34.8968,2,  34.8887,2,    114.6,2,    121.6,2,    13.85,2,    28.20,2,     0.00,2,     1.83,2, -999.000,9, -999.000,9,   2174.0,2,   -999.0,9,   2306.4,2,     7.91,2,  9.2446, -999.00,9,  349.0,2, -999.00,9
35LLETAMBOT1_1,  AR15,    24,  1,     23,    1.0,2,19950915,1155,  7.5010, -42.6685, 4790,    513.4,2,   7.6527,2,  34.7152,2,  34.7166,2,    119.2,2,    120.2,2,    18.72,2,    32.15,2,     0.00,2,     2.08,2, -999.000,9, -999.000,9,   2216.0,2,   -999.0,9,   2329.4,2,     7.87,2,  7.6012, -999.00,9,  511.0,2, -999.00,9