BOTTLE,20220929CCHSIOAMB
EXPOCODE,SECT_ID,STNNBR,CASTNO,SAMPNO,BTLNBR,BTLNBR_FLAG_W,DATE,TIME,LATITUDE,LONGITUDE,DEPTH,CTDPRS,CTDPRS_FLAG_W,CTDTMP,CTDTMP_FLAG_W,CTDSAL,CTDSAL_FLAG_W,SALNTY,SALNTY_FLAG_W,CTDOXY,CTDOXY_FLAG_W,OXYGEN,OXYGEN_FLAG_W,SILCAT,SILCAT_FLAG_W,NITRAT,NITRAT_FLAG_W,NITRIT,NITRIT_FLAG_W,PHSPHT,PHSPHT_FLAG_W,CFC-11,CFC-11_FLAG_W,CFC-12,CFC-12_FLAG_W,TCARBN,TCARBN_FLAG_W,PCO2,PCO2_FLAG_W,ALKALI,ALKALI_FLAG_W,PH,PH_FLAG_W,THETA,CHLORA,CHLORA_FLAG_W,CTDRAW,CTDRAW_FLAG_W,PPHYTN,PPHYTN_FLAG_W
,,,,,,,,,,,,DBAR,,DEG C,,PSS-78,,PSS-78,,UMOL/KG,,UMOL/KG,,UMOL/KG,,UMOL/KG,,UMOL/KG,,UMOL/KG,,PMOL/KG,,PMOL/KG,,UMOL/KG,,UATM,,UMOL/KG,,,,DEG C,UG/L,,DBAR,,UG/L,
35LLETAMBOT1_2,  AR04,    69,  1,     24,   24.0,2,19951003,0541,  1.6170, -44.4513,   20,      0.0,2,  26.9131,2,  36.2169,2,  36.2403,2,    207.0,2,    199.6,2,     0.52,2,     0.00,2,     0.00,2,     0.03,2, -999.000,9, -999.000,9,   2040.2,2,    372.1,2,   2419.6,2,     8.08,2, 26.9131,    0.12,2,    2.0,2,    0.02,2
35LLETAMBOT1_2,  AR04,    69,  1,     23,   23.0,2,19951003,0541,  1.6170, -44.4513,   20,     98.2,2,  26.5826,2,  36.2609,2,  36.2572,2,    144.5,3,    198.4,2,     0.51,2,     0.01,2,     0.03,2,     0.04,2, -999.000,9, -999.000,9,   2052.4,2,   -999.0,9,   2430.4,2,     8.07,2, 26.5602, -999.00,9,  100.0,2, -999.00,9
35LLETAMBOT1_2,  AR04,    69,  1,     22,   22.0,2,19951003,0541,  1.6170, -44.4513,   20,    297.6,2,   9.5833,2,  34.8502,2,  34.8562,2,    147.3,2,    144.2,2,    12.19,3,    25.02,3,     0.01,2,     1.63,3, -999.000,9, -999.000,9,   2175.7,2,   -999.0,9,   2322.7,2,     7.94,2,  9.5496, -999.00,9,  299.0,2, -999.00,9
35LLETAMBOT1_2,  AR04,    69,  1,     21,   21.0,2,19951003,0541,  1.6170, -44.4513,   20,    398.1,2,   7.8727,2,  34.6581,2,  34.6631,2,    166.8,2,    173.5,3,    15.48,3,    26.67,3,     0.01,2,     1.77,3, -999.000,9, -999.000,9,   2185.1,2,   -999.0,9,   2325.6,2,     7.95,2,  7.8325, -999.00,9,  400.0,2, -999.00,9
35LLETAMBOT1_2,  AR04,    69,  1,     20,   20.0,2,19951003,0541,  1.6170, -44.4513,   20,    597.2,2,   5.3039,2,  34.4727,2,  34.4907,2,    161.0,2,    159.3,2,    26.25,2,    32.47,2,     0.00,2,     2.19,2,    0.361,2,    0.169,2,   2196.5,2,   -999.0,9,   2306.3,2,     7.90,2,  5.2545, -999.00,9,  599.0,2, -999.00,9
35LLETAMBOT1_2,  AR04,    69,  1,     19,   19.0,2,19951003,0541,  1.6170, -44.4513,   20,    796.6,2,   4.5663,2,  34.4912,2,  34.4905,2,    164.1,2,    163.9,2,    31.30,2,    33.02,2,     0.00,2,     2.25,2,    0.180,2,    0.085,2,   2206.0,2,   -999.0,9,   2312.2,2,     7.88,2,  4.5038, -999.00,9,  798.0,2, -999.00,9
35LLETAMBOT1_2,  AR04,    69,  1,     18,   18.0,2,19951003,0541,  1.6170, -44.4513,   20,    997.8,2,   4.4630,2,  34.6773,2,  34.6743,2,    170.5,2,    169.3,2,    29.46,2,    30.67,2,     0.00,2,     2.08,2,    0.090,2,    0.043,2,   2207.2,2,   -999.0,9,   2323.8,2,     7.91,2,  4.3837, -999.00,9, 1000.0,2, -999.00,9
35LLETAMBOT1_2,  AR04,    69,  1,     17,   17.0,2,19951003,0541,  1.6170, -44.4513,   20,   1297.3,2,   4.6310,2,  34.9044,2,  34.9055,2,    201.4,2,    200.8,2,    21.11,2,    24.84,2,     0.00,2,     1.65,2,    0.117,2,    0.061,2,   2182.8,2,   -999.0,9,   2326.5,2,     7.97,2,  4.5229, -999.00,9, 1298.0,2, -999.00,9
35LLETAMBOT1_2,  AR04,    69,  1,     16,   16.0,2,19951003,0541,  1.6170, -44.4513,   20,   1497.2,2,   4.2882,2,  34.9902,2,  34.9911,2,    239.7,2,    238.2,2,    15.81,2,    20.18,2,     0.00,2,     1.32,2,    0.243,2,    0.121,2,   2158.3,2,   -999.0,9,   2323.0,2,     8.02,2,  4.1650, -999.00,9, 1498.0,2, -999.00,9
35LLETAMBOT1_2,  AR04,    69,  1,     15,   15.0,2,19951003,0541,  1.6170, -44.4513,   20,   1596.1,2,   4.1191,2,  34.9880,2,  34.9891,2,    245.4,2,    243.4,2,    15.81,2,    19.78,2,     0.00,2,     1.29,2,    0.210,2,    0.105,2,   2135.8,3,   -999.0,9,   2301.6,3,     8.03,2,  3.9886, -999.00,9, 1598.0,2, -999.00,9
35LLETAMBOT1_2,  AR04,    69,  1,     14,   14.0,2,19951003,0541,  1.6170, -44.4513,   20,   1695.3,2,   4.0073,2,  34.9854,2,  34.9857,2,    247.3,2,    246.2,2,    16.13,2,    19.62,2,     0.00,2,     1.28,2,    0.187,2,    0.095,2,   2160.4,2,   -999.0,9,   2328.6,2,     8.03,2,  3.8689, -999.00,9, 1697.0,2, -999.00,9
35LLETAMBOT1_2,  AR04,    69,  1,     13,   13.0,2,19951003,0541,  1.6170, -44.4513,   20,   1796.0,2,   3.9779,2,  34.9877,2,  34.9884,2,    249.4,2,    248.7,2,    15.91,2,    19.39,2,     0.00,2,     1.26,2,    0.212,2,    0.105,2,   2145.1,2,   -999.0,9,   2315.2,2,     8.03,2,  3.8303, -999.00,9, 1797.0,2, -999.00,9
35LLETAMBOT1_2,  AR04,    69,  1,     12,   12.0,2,19951003,0541,  1.6170, -44.4513,   20,   1993.9,2,   3.6449,2,  34.9800,2,  34.9792,2,    255.7,2,    256.0,2,    17.19,2,    18.79,2,     0.01,2,     1.22,2,    0.173,2,    0.093,2,   2148.4,2,   -999.0,9,   2322.6,2,     8.04,2,  3.4832, -999.00,9, 1995.0,2, -999.00,9
35LLETAMBOT1_2,  AR04,    69,  1,     11,   11.0,2,19951003,0541,  1.6170, -44.4513,   20,   2196.2,2,   3.2810,2,  34.9650,2,  34.9654,2,    259.2,2,    259.1,2,    19.85,2,    18.72,2,     0.01,2,     1.22,2,    0.152,2,    0.070,2,   2152.2,2,   -999.0,9,   2327.2,2,     8.04,2,  3.1056, -999.00,9, 2198.0,2, -999.00,9
35LLETAMBOT1_2,  AR04,    69,  1,     10,   10.0,2,19951003,0541,  1.6170, -44.4513,   20,   2398.3,2,   3.1336,2,  34.9560,2,  34.9568,2,    259.4,2,    259.4,2,    21.60,2,    18.90,2,     0.00,2,     1.24,2,    0.117,2,    0.057,2,   2156.6,2,   -999.0,9,   2330.4,2,     8.03,2,  2.9412, -999.00,9, 2399.0,2, -999.00,9
35LLETAMBOT1_2,  AR04,    69,  1,      9,    9.0,2,19951003,0541,  1.6170, -44.4513,   20,   2598.2,2,   2.9884,2,  34.9481,2,  34.9488,2,    260.2,2,    260.3,2,    22.79,2,    18.84,2,     0.00,2,     1.23,2,    0.153,2,    0.073,2,   2152.0,2,   -999.0,9,   2326.7,2,     8.02,2,  2.7789, -999.00,9, 2599.0,2, -999.00,9
35LLETAMBOT1_2,  AR04,    69,  1,      8,    8.0,2,19951003,0541,  1.6170, -44.4513,   20,   2799.7,2,   2.8554,2,  34.9394,2,  34.9394,2,    261.4,2,    260.7,2,    24.99,2,    18.97,2,     0.00,2,     1.24,2,    0.164,2,    0.075,2,   2160.6,2,   -999.0,9,   2334.6,2,     8.02,2,  2.6283, -999.00,9, 2801.0,2, -999.00,9
35LLETAMBOT1_2,  AR04,    69,  1,      7,    7.0,2,19951003,0541,  1.6170, -44.4513,   20,   2999.8,2,   2.7658,2,  34.9324,2,  34.9291,2,    261.2,2,    261.1,2,    26.49,2,    19.13,2,     0.00,2,     1.27,2,    0.153,2,    0.072,2,   2160.0,2,   -999.0,9,   2334.3,2,     8.01,2,  2.5201, -999.00,9, 3002.0,2, -999.00,9
35LLETAMBOT1_2,  AR04,    69,  1,      5,    5.0,2,19951003,0541,  1.6170, -44.4513,   20,   3199.0,2,   2.6263,2,  34.9221,2,  34.9230,2,    260.3,2,    260.2,2,    30.31,4,    19.42,2,     0.00,2,     1.29,2,    0.119,2,    0.058,2,   2149.8,2,   -999.0,9,   2322.5,2,     8.00,2,  2.3630, -999.00,9, 3201.0,2, -999.00,9
35LLETAMBOT1_2,  AR04,    69,  1,      6,    6.0,2,19951003,0541,  1.6170, -44.4513,   20,   3199.0,2,   2.6263,2,  34.9221,2,  34.9229,2,    260.3,2,    259.8,2,    29.43,2,    19.39,2,     0.00,2,     1.28,2,    0.128,2,    0.065,2,   2157.0,2,   -999.0,9,   2330.3,2,     8.00,2,  2.3630, -999.00,9, 3201.0,2, -999.00,9
35LLETAMBOT1_2,  AR04,    69,  1,      4,    4.0,2,19951003,0541,  1.6170, -44.4513,   20,   3399.4,2,   2.5175,2,  34.9149,2,  34.9153,2,    260.7,2,    261.8,2,    30.55,2,    19.26,2,     0.00,2,     1.28,2,    0.179,2,    0.082,2,   2164.4,2,   -999.0,9,   2336.8,2,     7.99,2,  2.2355, -999.00,9, 3401.0,2, -999.00,9
35LLETAMBOT1_2,  AR04,    69,  1,      3,    3.0,2,19951003,0541,  1.6170, -44.4513,   20,   3600.7,2,   2.3719,2,  34.9056,2,  34.9053,2,    264.1,2,    264.6,2,    30.05,2,    19.09,2,     0.00,2,     1.27,2,    0.215,2,    0.103,2,   2106.1,3,   -999.0,9,   2276.6,3,     7.99,2,  2.0718, -999.00,9, 3602.0,2, -999.00,9
35LLETAMBOT1_2,  AR04,    69,  1,      2,    2.0,2,19951003,0541,  1.6170, -44.4513,   20,   3799.6,2,   2.3188,2,  34.9006,2,  34.9003,2,    265.0,2,    264.4,2,    30.84,2,    19.16,2,     0.01,2,     1.28,2,    0.195,2,    0.095,2,   2154.0,2,   -999.0,9,   2325.0,2,     7.98,2,  1.9982, -999.00,9, 3801.0,2, -999.00,9
35LLETAMBOT1_2,  AR04,    69,  1,      1,    1.0,2,19951003,0541,  1.6170, -44.4513,   20,   4015.6,2,   2.2514,2,  34.8917,2,  34.8926,2,    263.3,2,    262.3,2,    33.86,2,    19.46,2,     0.01,2,     1.31,2,    0.204,2,    0.106,2,   2168.7,2,   -999.0,9,   2340.4,2,     7.97,2,  1.9084, -999.00,9, 4017.0,2, -999.00,9
35LLETAMBOT1_2,  AR04,    70,  1,     24,   24.0,2,19951003,1335,  2.2277, -44.1328,   35,     -0.1,2,  27.3381,2,  36.1420,2,  36.1587,2,    199.8,2,    201.0,2,     0.56,2,     0.15,2,     0.00,2,     0.02,2, -999.000,9, -999.000,9,   -999.0,9,    374.6,2,   -999.0,9,  -999.00,9, 27.3381,    0.06,2,    2.0,2,    0.01,2
35LLETAMBOT1_2,  AR04,    70,  1,     23,   23.0,2,19951003,1335,  2.2277, -44.1328,   35,     58.2,2,  27.0431,2,  36.1749,2,  36.1758,2,    197.9,2,    198.1,2,     0.51,2,     0.17,2,     0.03,2,     0.03,2, -999.000,9, -999.000,9,   -999.0,9,   -999.0,9,   -999.0,9,  -999.00,9, 27.0297, -999.00,9,   60.0,2, -999.00,9
35LLETAMBOT1_2,  AR04,    70,  1,     22,   22.0,2,19951003,1335,  2.2277, -44.1328,   35,    198.6,2,  16.1281,2,  35.6667,2,  35.6552,2,    174.7,2,    177.1,2,     3.54,2,     9.89,2,     0.02,2,     0.74,2, -999.000,9, -999.000,9,   -999.0,9,   -999.0,9,   -999.0,9,  -999.00,9, 16.0963, -999.00,9,  201.0,2, -999.00,9
35LLETAMBOT1_2,  AR04,    70,  1,     21,   21.0,2,19951003,1335,  2.2277, -44.1328,   35,    398.1,2,   7.6004,2,  34.6293,2,  34.6311,2,    165.7,2,    165.7,2,    16.60,2,    27.26,2,     0.01,2,     1.83,2, -999.000,9, -999.000,9,   -999.0,9,   -999.0,9,   -999.0,9,  -999.00,9,  7.5610, -999.00,9,  400.0,2, -999.00,9
35LLETAMBOT1_2,  AR04,    70,  1,     20,   20.0,2,19951003,1335,  2.2277, -44.1328,   35,    598.3,2,   5.4318,2,  34.4712,2,  34.4673,2,    166.2,2,    166.5,2,    25.76,2,    31.90,2,     0.01,2,     2.16,2,    0.411,2,    0.197,2,   -999.0,9,   -999.0,9,   -999.0,9,  -999.00,9,  5.3817, -999.00,9,  600.0,2, -999.00,9
35LLETAMBOT1_2,  AR04,    70,  1,     19,   19.0,2,19951003,1335,  2.2277, -44.1328,   35,    797.3,2,   4.6237,2,  34.4775,2,  34.5122,2,    164.0,2,    154.9,2,    30.37,2,    33.51,2,     0.01,2,     2.28,2,    0.101,2,    0.050,2,   -999.0,9,   -999.0,9,   -999.0,9,  -999.00,9,  4.5608, -999.00,9,  799.0,2, -999.00,9
35LLETAMBOT1_2,  AR04,    70,  1,     18,   18.0,2,19951003,1335,  2.2277, -44.1328,   35,    997.4,2,   4.6561,2,  34.7512,2,  34.7602,2,    162.2,2,    168.4,2,    27.22,2,    29.71,2,     0.01,2,     2.02,2,    0.026,2,    0.008,2,   -999.0,9,   -999.0,9,   -999.0,9,  -999.00,9,  4.5752, -999.00,9,  999.0,2, -999.00,9
35LLETAMBOT1_2,  AR04,    70,  1,     17,   17.0,2,19951003,1335,  2.2277, -44.1328,   35,   1297.8,2,   4.6071,2,  34.8651,2,  34.8673,2,    190.7,2,    191.3,2,    23.29,2,    25.96,2,     0.01,2,     1.76,2,    0.072,2,    0.034,2,   -999.0,9,   -999.0,9,   -999.0,9,  -999.00,9,  4.4993, -999.00,9, 1299.0,2, -999.00,9
35LLETAMBOT1_2,  AR04,    70,  1,     16,   16.0,2,19951003,1335,  2.2277, -44.1328,   35,   1497.0,2,   4.4098,2,  34.9778,2,  34.9827,2,    228.2,2,    230.9,2,    16.74,2,    20.65,2,     0.01,2,     1.38,2,    0.188,2,    0.095,2,   -999.0,9,   -999.0,9,   -999.0,9,  -999.00,9,  4.2852, -999.00,9, 1499.0,2, -999.00,9
35LLETAMBOT1_2,  AR04,    70,  1,     15,   15.0,2,19951003,1335,  2.2277, -44.1328,   35,   1596.8,2,   4.2560,2,  34.9905,2,  34.9919,2,    240.2,2,    240.7,2,    16.32,2,    19.66,2,     0.01,2,     1.32,2,    0.212,2,    0.110,2,   -999.0,9,   -999.0,9,   -999.0,9,  -999.00,9,  4.1238, -999.00,9, 1598.0,2, -999.00,9
35LLETAMBOT1_2,  AR04,    70,  1,     14,   14.0,2,19951003,1335,  2.2277, -44.1328,   35,   1697.9,2,   4.1389,2,  34.9891,2,  34.9890,2,    244.5,2,    245.8,2,    15.91,2,    19.50,2,     0.01,2,     1.30,2,    0.169,2,    0.086,2,   -999.0,9,   -999.0,9,   -999.0,9,  -999.00,9,  3.9986, -999.00,9, 1699.0,2, -999.00,9
35LLETAMBOT1_2,  AR04,    70,  1,     13,   13.0,2,19951003,1335,  2.2277, -44.1328,   35,   1796.7,2,   3.9947,2,  34.9856,2,  34.9860,2,    247.6,2,    247.1,2,    16.36,2,    19.29,2,     0.01,2,     1.28,2,    0.115,2,    0.063,2,   -999.0,9,   -999.0,9,   -999.0,9,  -999.00,9,  3.8469, -999.00,9, 1798.0,2, -999.00,9
35LLETAMBOT1_2,  AR04,    70,  1,     12,   12.0,2,19951003,1335,  2.2277, -44.1328,   35,   1997.8,2,   3.6687,2,  34.9803,2,  34.9822,2,    255.8,2,    255.0,2,    17.07,2,    18.63,2,     0.01,2,     1.24,2,    0.120,2,    0.062,2,   -999.0,9,   -999.0,9,   -999.0,9,  -999.00,9,  3.5063, -999.00,9, 1999.0,2, -999.00,9
35LLETAMBOT1_2,  AR04,    70,  1,     11,   11.0,2,19951003,1335,  2.2277, -44.1328,   35,   2297.4,2,   3.2864,2,  34.9638,2,  34.9656,3,    257.4,2,    258.4,2,    20.46,2,    18.61,2,     0.01,2,     1.24,2,    0.082,2,    0.039,2,   -999.0,9,   -999.0,9,   -999.0,9,  -999.00,9,  3.1011, -999.00,9, 2299.0,2, -999.00,9
35LLETAMBOT1_2,  AR04,    70,  1,     10,   10.0,2,19951003,1335,  2.2277, -44.1328,   35,   2598.4,2,   2.9359,2,  34.9427,2,  34.9409,2,    256.7,2,    258.7,2,    26.10,2,    19.16,2,     0.01,2,     1.29,2,    0.038,2,    0.021,2,   -999.0,9,   -999.0,9,   -999.0,9,  -999.00,9,  2.7274, -999.00,9, 2599.0,2, -999.00,9
35LLETAMBOT1_2,  AR04,    70,  1,      9,    9.0,2,19951003,1335,  2.2277, -44.1328,   35,   2798.4,2,   2.7962,2,  34.9352,2,  34.9350,2,    258.2,2,    258.9,2,    26.89,2,    18.91,2,     0.01,2,     1.29,2,    0.090,2,    0.045,2,   -999.0,9,   -999.0,9,   -999.0,9,  -999.00,9,  2.5705, -999.00,9, 2800.0,2, -999.00,9
35LLETAMBOT1_2,  AR04,    70,  1,      8,    8.0,2,19951003,1335,  2.2277, -44.1328,   35,   2998.1,2,   2.7011,2,  34.9290,2,  34.9276,2,    258.7,2,    260.0,2,    28.16,2,    18.96,2,     0.01,2,     1.28,2,    0.109,2,    0.055,2,   -999.0,9,   -999.0,9,   -999.0,9,  -999.00,9,  2.4570, -999.00,9, 2999.0,2, -999.00,9
35LLETAMBOT1_2,  AR04,    70,  1,      7,    7.0,2,19951003,1335,  2.2277, -44.1328,   35,   3299.1,2,   2.5705,2,  34.9194,2,  34.9182,2,    260.8,2,    261.3,2,    29.63,2,    18.83,2,     0.01,2,     1.28,2,    0.143,2,    0.075,2,   -999.0,9,   -999.0,9,   -999.0,9,  -999.00,9,  2.2979, -999.00,9, 3300.0,2, -999.00,9
35LLETAMBOT1_2,  AR04,    70,  1,      6,    6.0,2,19951003,1335,  2.2277, -44.1328,   35,   3299.2,2,   2.5704,2,  34.9195,2,  34.9178,2,    260.8,2,    261.7,2,    29.61,2,    18.81,2,     0.01,2,     1.28,2,    0.159,2,    0.080,2,   -999.0,9,   -999.0,9,   -999.0,9,  -999.00,9,  2.2978, -999.00,9, 3300.0,2, -999.00,9
35LLETAMBOT1_2,  AR04,    70,  1,      5,    5.0,2,19951003,1335,  2.2277, -44.1328,   35,   3601.7,2,   2.4565,2,  34.9112,2,  34.9103,2,    263.3,2,    263.1,2,    30.17,2,    18.61,2,     0.01,2,     1.28,2,    0.180,2,    0.092,2,   -999.0,9,   -999.0,9,   -999.0,9,  -999.00,9,  2.1541, -999.00,9, 3603.0,2, -999.00,9
35LLETAMBOT1_2,  AR04,    70,  1,      4,    4.0,2,19951003,1335,  2.2277, -44.1328,   35,   3800.0,2,   2.3414,2,  34.9025,2,  34.8992,3,    264.6,2,    264.7,2,    32.01,2,    18.71,2,     0.01,2,     1.27,2,    0.175,2,    0.093,2,   -999.0,9,   -999.0,9,   -999.0,9,  -999.00,9,  2.0201, -999.00,9, 3801.0,2, -999.00,9
35LLETAMBOT1_2,  AR04,    70,  1,      3,    3.0,2,19951003,1335,  2.2277, -44.1328,   35,   4001.0,2,   2.2534,2,  34.8944,2,  34.8928,2,    263.7,2,    262.3,2,    34.97,2,    18.99,2,     0.01,2,     1.31,2,    0.179,2,    0.108,2,   -999.0,9,   -999.0,9,   -999.0,9,  -999.00,9,  1.9119, -999.00,9, 4002.0,2, -999.00,9
35LLETAMBOT1_2,  AR04,    70,  1,      2,    2.0,2,19951003,1335,  2.2277, -44.1328,   35,   4100.8,2,   2.2300,2,  34.8900,2,  34.8880,2,    261.2,2,    261.1,2,    37.01,2,    19.33,2,     0.01,2,     1.33,2,    0.154,2,    0.085,2,   -999.0,9,   -999.0,9,   -999.0,9,  -999.00,9,  1.8778, -999.00,9, 4102.0,2, -999.00,9
35LLETAMBOT1_2,  AR04,    70,  1,      1,    1.0,2,19951003,1335,  2.2277, -44.1328,   35,   4167.4,2,   2.0653,2,  34.8697,2,  34.8694,2,    258.6,2,    255.2,2,    47.79,2,    20.79,2,     0.01,2,     1.43,2,    0.106,2,    0.061,2,   -999.0,9,   -999.0,9,   -999.0,9,  -999.00,9,  1.7104, -999.00,9, 4168.0,2, -999.00,9