BOTTLE,20220929CCHSIOAMB
EXPOCODE,SECT_ID,STNNBR,CASTNO,SAMPNO,BTLNBR,BTLNBR_FLAG_W,DATE,TIME,LATITUDE,LONGITUDE,DEPTH,CTDPRS,CTDPRS_FLAG_W,CTDTMP,CTDTMP_FLAG_W,CTDSAL,CTDSAL_FLAG_W,SALNTY,SALNTY_FLAG_W,CTDOXY,CTDOXY_FLAG_W,OXYGEN,OXYGEN_FLAG_W,SILCAT,SILCAT_FLAG_W,NITRAT,NITRAT_FLAG_W,NITRIT,NITRIT_FLAG_W,PHSPHT,PHSPHT_FLAG_W,CFC-11,CFC-11_FLAG_W,CFC-12,CFC-12_FLAG_W,TCARBN,TCARBN_FLAG_W,PCO2,PCO2_FLAG_W,ALKALI,ALKALI_FLAG_W,PH,PH_FLAG_W,THETA,CHLORA,CHLORA_FLAG_W,CTDRAW,CTDRAW_FLAG_W,PPHYTN,PPHYTN_FLAG_W
,,,,,,,,,,,,DBAR,,DEG C,,PSS-78,,PSS-78,,UMOL/KG,,UMOL/KG,,UMOL/KG,,UMOL/KG,,UMOL/KG,,UMOL/KG,,PMOL/KG,,PMOL/KG,,UMOL/KG,,UATM,,UMOL/KG,,,,DEG C,UG/L,,DBAR,,UG/L,
35LLETAMBOT1_1,  AR15,    12,  1,     22,   22.0,2,19950911,2106,  7.5015, -49.9998,   15,     -0.4,2,  29.9203,2,  33.3869,2,  33.7880,2,    194.7,2,    197.1,2,     3.65,2,     0.00,2,     0.01,2,     0.00,2, -999.000,9, -999.000,9,   1857.6,2,   -999.0,9,   2246.3,2,     8.10,2, 29.9204,    0.06,2,    2.0,2,    0.01,2
35LLETAMBOT1_1,  AR15,    12,  1,     21,   21.0,2,19950911,2106,  7.5015, -49.9998,   15,     73.3,2,  26.2973,2,  36.4254,2,  36.4880,2,    207.4,2,    204.1,2,     0.56,2,     0.00,2,     0.01,2,     0.00,2, -999.000,9, -999.000,9,   2014.9,2,   -999.0,9,   2406.0,2,     8.11,2, 26.2807, -999.00,9,   75.0,2, -999.00,9
35LLETAMBOT1_1,  AR15,    12,  1,     20,   20.0,2,19950911,2106,  7.5015, -49.9998,   15,    199.4,2,  14.3168,2,  35.6837,2,  35.7720,2,    108.7,2,    113.5,2,     6.87,2,    19.33,2,     0.01,2,     1.17,2, -999.000,9, -999.000,9,   2161.1,2,   -999.0,9,   2353.4,2,     7.96,2, 14.2874, -999.00,9,  201.0,2, -999.00,9
35LLETAMBOT1_1,  AR15,    12,  1,     19,   19.0,2,19950911,2106,  7.5015, -49.9998,   15,    297.8,2,  10.3088,2,  35.0483,2,  35.1409,2,    114.8,2,    108.9,2,    12.04,2,    26.11,2,     0.01,2,     1.66,2, -999.000,9, -999.000,9,   2179.9,2,   -999.0,9,   2319.9,2,     7.90,2, 10.2734, -999.00,9,  299.0,2, -999.00,9
35LLETAMBOT1_1,  AR15,    12,  1,     18,   18.0,2,19950911,2106,  7.5015, -49.9998,   15,    497.6,2,   7.6744,2,  34.7211,2,  34.6827,2,    125.7,2,    131.3,2,    19.48,2,    30.92,2,     0.01,2,     2.03,2, -999.000,9, -999.000,9,   2196.2,2,   -999.0,9,   2310.7,2,     7.88,2,  7.6245, -999.00,9,  499.0,2, -999.00,9
35LLETAMBOT1_1,  AR15,    12,  1,     17,   17.0,2,19950911,2106,  7.5015, -49.9998,   15,    997.9,2,   5.0149,2,  34.7588,2,  34.7670,2,    160.3,2,    155.2,2,    27.13,2,    30.75,2,     0.00,2,     2.07,2,    0.004,2,    0.003,2,   2196.3,2,   -999.0,9,   2309.7,2,     7.90,2,  4.9313, -999.00,9, 1000.0,2, -999.00,9
35LLETAMBOT1_1,  AR15,    12,  1,     16,   16.0,2,19950911,2106,  7.5015, -49.9998,   15,   1297.4,2,   4.8722,2,  34.9576,2,  34.9760,2,    206.6,2,    208.6,2,    19.11,2,    22.78,2,     0.00,2,     1.51,2,    0.199,2,    0.078,2,   2161.2,2,   -999.0,9,   2311.1,2,     7.98,2,  4.7616, -999.00,9, 1299.0,2, -999.00,9
35LLETAMBOT1_1,  AR15,    12,  1,     15,   15.0,2,19950911,2106,  7.5015, -49.9998,   15,   1597.4,2,   4.2269,2,  34.9998,2,  35.0014,2,    246.7,2,    247.7,2,    15.48,2,    18.98,2,     0.00,2,     1.25,2,    0.247,2,    0.113,2,   2147.4,2,   -999.0,9,   2315.4,2,     8.03,2,  4.0950, -999.00,9, 1599.0,2, -999.00,9
35LLETAMBOT1_1,  AR15,    12,  1,     14,   14.0,2,19950911,2106,  7.5015, -49.9998,   15,   1697.7,2,   4.0428,2,  34.9978,2,  34.9938,2,    254.6,2,    252.5,2,    15.98,2,    18.73,2,     0.00,2,     1.22,2,    0.187,2,    0.084,2,   2132.8,3,   -999.0,9,   2302.5,3,     8.03,2,  3.9037, -999.00,9, 1699.0,2, -999.00,9
35LLETAMBOT1_1,  AR15,    12,  1,     13,   13.0,2,19950911,2106,  7.5015, -49.9998,   15,   1796.7,2,   3.8493,2,  34.9902,2,  34.9887,2,    255.2,2,    254.6,2,    16.91,2,    18.59,2,     0.00,2,     1.22,2,    0.156,2,    0.074,2,   2128.2,3,   -999.0,9,   2298.5,3,     8.03,2,  3.7034, -999.00,9, 1798.0,2, -999.00,9
35LLETAMBOT1_1,  AR15,    12,  1,     12,   12.0,2,19950911,2106,  7.5015, -49.9998,   15,   1898.7,2,   3.6981,2,  34.9828,2,  34.9830,2,    255.9,2,    256.2,2,    17.64,2,    18.62,2,     0.00,2,     1.23,2,    0.147,2,    0.067,2,   2135.8,3,   -999.0,9,   2308.1,3,     8.04,2,  3.5447, -999.00,9, 1900.0,2, -999.00,9
35LLETAMBOT1_1,  AR15,    12,  1,     11,   11.0,2,19950911,2106,  7.5015, -49.9998,   15,   1995.8,2,   3.5729,2,  34.9780,2,  34.9776,2,    256.4,2,    257.3,2,    18.78,2,    18.58,2,     0.00,2,     1.23,2,    0.126,2,    0.051,2,   2130.3,3,   -999.0,9,   2302.4,3,     8.04,2,  3.4121, -999.00,9, 1997.0,2, -999.00,9
35LLETAMBOT1_1,  AR15,    12,  1,      9,    9.0,2,19950911,2106,  7.5015, -49.9998,   15,   2398.1,2,   3.1514,2,  34.9571,2,  34.9570,2,    259.0,2,    260.1,2,    22.04,2,    18.56,2,     0.00,2,     1.23,2,    0.087,2,    0.042,2,   2124.7,3,   -999.0,9,   2296.6,3,     8.03,2,  2.9587, -999.00,9, 2400.0,2, -999.00,9
35LLETAMBOT1_1,  AR15,    12,  1,     10,   10.0,2,19950911,2106,  7.5015, -49.9998,   15,   2398.1,2,   3.1514,2,  34.9571,2,  34.9580,2,    259.0,2,    259.9,2,    21.72,2,    18.56,2,     0.00,2,     1.23,2,    0.107,2,    0.049,2,   2133.4,3,   -999.0,9,   2305.7,3,     8.03,2,  2.9587, -999.00,9, 2400.0,2, -999.00,9
35LLETAMBOT1_1,  AR15,    12,  1,      8,    8.0,2,19950911,2106,  7.5015, -49.9998,   15,   2599.6,2,   2.9837,2,  34.9476,2,  34.9470,2,    259.8,2,    260.1,2,    23.88,2,    18.79,2,     0.00,2,     1.25,2,    0.072,2,    0.031,2,   2126.5,3,   -999.0,9,   2297.8,3,     8.02,2,  2.7742, -999.00,9, 2601.0,2, -999.00,9
35LLETAMBOT1_1,  AR15,    12,  1,      7,    7.0,2,19950911,2106,  7.5015, -49.9998,   15,   2799.5,2,   2.8567,2,  34.9393,2,  34.9379,2,    259.7,2,    259.2,2,    26.28,2,    19.06,2,     0.00,2,     1.27,2,    0.114,2,    0.046,2,   2135.7,3,   -999.0,9,   2307.8,3,     8.01,2,  2.6296, -999.00,9, 2801.0,2, -999.00,9
35LLETAMBOT1_1,  AR15,    12,  1,      6,    6.0,2,19950911,2106,  7.5015, -49.9998,   15,   3000.0,2,   2.7368,2,  34.9313,2,  34.9290,2,    259.1,2,    258.3,2,    29.08,2,    19.34,2,     0.00,2,     1.29,2,    0.103,2,    0.045,2,   2140.8,3,   -999.0,9,   2310.7,3,     8.00,2,  2.4918, -999.00,9, 3001.0,2, -999.00,9
35LLETAMBOT1_1,  AR15,    12,  1,      5,    5.0,2,19950911,2106,  7.5015, -49.9998,   15,   3299.2,2,   2.5681,2,  34.9191,2,  34.9170,2,    259.8,2,    259.9,2,    30.72,2,    19.29,2,     0.00,2,     1.29,2,    0.125,2,    0.058,2,   2134.3,3,   -999.0,9,   2304.5,3,     7.99,2,  2.2956, -999.00,9, 3301.0,2, -999.00,9
35LLETAMBOT1_1,  AR15,    12,  1,      4,    4.0,2,19950911,2106,  7.5015, -49.9998,   15,   3600.5,2,   2.3679,2,  34.9063,2,  34.9058,2,    263.5,2,    263.4,2,    31.60,2,    18.94,2,     0.00,2,     1.27,2,    0.175,2,    0.078,2,   2136.7,3,   -999.0,9,   2308.2,3,     7.99,2,  2.0679, -999.00,9, 3602.0,2, -999.00,9
35LLETAMBOT1_1,  AR15,    12,  1,      3,    3.0,2,19950911,2106,  7.5015, -49.9998,   15,   3802.0,2,   2.2948,2,  34.9013,2,  34.8991,2,    265.0,2,    264.7,2,    32.86,2,    18.92,2,     0.00,2,     1.27,2,    0.162,2,    0.075,2,   2140.2,3,   -999.0,9,   2310.3,3,     7.98,2,  1.9745, -999.00,9, 3804.0,2, -999.00,9
35LLETAMBOT1_1,  AR15,    12,  1,      2,    2.0,2,19950911,2106,  7.5015, -49.9998,   15,   4002.7,2,   2.2500,2,  34.8966,2,  34.8942,2,    264.5,2,    264.0,2,    33.86,2,    19.12,2,     0.00,2,     1.29,2, -999.000,9, -999.000,9,   2147.0,3,   -999.0,9,   2316.7,3,     7.97,2,  1.9084, -999.00,9, 4004.0,2, -999.00,9
35LLETAMBOT1_1,  AR15,    12,  1,      1,    1.0,2,19950911,2106,  7.5015, -49.9998,   15,   4308.0,2,   2.1679,2,  34.8840,2,  34.8813,2,    257.9,2,    258.5,2,    42.06,2,    20.20,2,     0.00,2,     1.38,2,    0.112,2,    0.061,2,   2155.7,3,   -999.0,9,   2322.7,3,     7.95,2,  1.7936, -999.00,9, 4309.0,2, -999.00,9
35LLETAMBOT1_1,  AR15,    13,  1,     22,   22.0,2,19950912,0332,  7.5003, -49.4908,   15,      2.0,3,  29.8673,2,  33.7462,2,  33.7690,2,    139.5,2,    196.1,2,     3.86,4,     0.00,2,     0.00,2,     0.00,2, -999.000,9, -999.000,9,   -999.0,9,   -999.0,9,   -999.0,9,  -999.00,9, 29.8668,    0.06,2,    0.0,2,    0.01,2
35LLETAMBOT1_1,  AR15,    13,  1,     21,   21.0,2,19950912,0332,  7.5003, -49.4908,   15,     71.4,2,  24.7986,2,  36.4253,2,  36.3979,2,    156.1,2,    156.1,2,     1.88,4,     5.03,2,     0.04,2,     0.30,2, -999.000,9, -999.000,9,   -999.0,9,   -999.0,9,   -999.0,9,  -999.00,9, 24.7831, -999.00,9,   73.0,2, -999.00,9
35LLETAMBOT1_1,  AR15,    13,  1,     20,   20.0,2,19950912,0332,  7.5003, -49.4908,   15,    198.6,2,  12.5414,2,  35.3073,2,  35.1496,2,    138.1,2,    138.1,2,    10.60,4,    22.00,2,     0.01,2,     1.45,2, -999.000,9, -999.000,9,   -999.0,9,   -999.0,9,   -999.0,9,  -999.00,9, 12.5146, -999.00,9,  200.0,2, -999.00,9
35LLETAMBOT1_1,  AR15,    13,  1,     19,   19.0,2,19950912,0332,  7.5003, -49.4908,   15,    298.5,2,   9.9846,2,  35.0261,2,  34.9690,2,    111.0,2,    120.2,2,    14.36,4,    27.54,2,     0.01,2,     1.76,2, -999.000,9, -999.000,9,   -999.0,9,   -999.0,9,   -999.0,9,  -999.00,9,  9.9498, -999.00,9,  300.0,2, -999.00,9
35LLETAMBOT1_1,  AR15,    13,  1,     18,   18.0,2,19950912,0332,  7.5003, -49.4908,   15,    496.9,2,   7.6089,2,  34.7635,2,  34.7580,2,    115.6,2,    115.5,2,    20.19,4,    32.48,2,     0.00,2,     2.08,2, -999.000,9, -999.000,9,   -999.0,9,   -999.0,9,   -999.0,9,  -999.00,9,  7.5593, -999.00,9,  498.0,2, -999.00,9
35LLETAMBOT1_1,  AR15,    13,  1,     17,   17.0,2,19950912,0332,  7.5003, -49.4908,   15,    995.3,2,   5.0008,2,  34.7235,2,  34.6760,2,    151.8,2,    152.2,2,    30.47,4,    32.59,2,     0.00,2,     2.18,2,   -0.005,2,    0.003,2,   -999.0,9,   -999.0,9,   -999.0,9,  -999.00,9,  4.9176, -999.00,9,  997.0,2, -999.00,9
35LLETAMBOT1_1,  AR15,    13,  1,     16,   16.0,2,19950912,0332,  7.5003, -49.4908,   15,   1296.1,2,   4.9766,2,  34.9498,2,  34.9458,2,    195.5,2,    194.7,2,    21.51,4,    24.95,2,     0.00,2,     1.64,2,    0.087,2,    0.033,2,   -999.0,9,   -999.0,9,   -999.0,9,  -999.00,9,  4.8652, -999.00,9, 1298.0,2, -999.00,9
35LLETAMBOT1_1,  AR15,    13,  1,     15,   15.0,2,19950912,0332,  7.5003, -49.4908,   15,   1595.0,2,   4.2838,2,  35.0004,2,  35.0060,2,    244.0,2,    244.4,2,    15.82,4,    19.54,2,     0.00,2,     1.26,2,    0.294,2,    0.127,2,   -999.0,9,   -999.0,9,   -999.0,9,  -999.00,9,  4.1514, -999.00,9, 1597.0,2, -999.00,9
35LLETAMBOT1_1,  AR15,    13,  1,     14,   14.0,2,19950912,0332,  7.5003, -49.4908,   15,   1694.8,2,   4.0565,2,  34.9959,2,  35.0000,2,    252.7,2,    251.3,2,    15.46,4,    18.89,2,     0.00,2,     1.22,2,    0.302,2,    0.136,2,   -999.0,9,   -999.0,9,   -999.0,9,  -999.00,9,  3.9175, -999.00,9, 1696.0,2, -999.00,9
35LLETAMBOT1_1,  AR15,    13,  1,     13,   13.0,2,19950912,0332,  7.5003, -49.4908,   15,   1794.8,2,   3.9031,2,  34.9900,2,  34.9920,2,    253.8,2,    253.5,2,    16.64,4,    18.94,2,     0.00,2,     1.23,2,    0.177,2,    0.081,2,   -999.0,9,   -999.0,9,   -999.0,9,  -999.00,9,  3.7567, -999.00,9, 1796.0,2, -999.00,9
35LLETAMBOT1_1,  AR15,    13,  1,     12,   12.0,2,19950912,0332,  7.5003, -49.4908,   15,   1896.2,2,   3.7433,2,  34.9820,2,  34.9870,2,    255.1,2,    255.7,2,    17.14,4,    18.81,2,     0.00,2,     1.23,2,    0.137,2,    0.065,2,   -999.0,9,   -999.0,9,   -999.0,9,  -999.00,9,  3.5895, -999.00,9, 1897.0,2, -999.00,9
35LLETAMBOT1_1,  AR15,    13,  1,     11,   11.0,2,19950912,0332,  7.5003, -49.4908,   15,   1997.0,2,   3.6528,2,  34.9808,2,  34.9830,2,    255.9,2,    256.6,2,    18.06,4,    18.85,2,     0.00,2,     1.23,2,    0.119,2,    0.048,2,   -999.0,9,   -999.0,9,   -999.0,9,  -999.00,9,  3.4907, -999.00,9, 1998.0,2, -999.00,9
35LLETAMBOT1_1,  AR15,    13,  1,     10,   10.0,2,19950912,0332,  7.5003, -49.4908,   15,   1997.1,2,   3.6500,2,  34.9807,2,  34.9832,2,    255.3,2,    255.9,2,    18.17,4,    18.84,2,     0.00,2,     1.23,2,    0.119,2,    0.051,2,   -999.0,9,   -999.0,9,   -999.0,9,  -999.00,9,  3.4879, -999.00,9, 1998.0,2, -999.00,9
35LLETAMBOT1_1,  AR15,    13,  1,      9,    9.0,2,19950912,0332,  7.5003, -49.4908,   15,   2395.7,2,   3.1634,2,  34.9562,2,  34.9603,2,    256.3,2,    261.2,2,    21.77,4,    18.70,2,     0.00,2,     1.23,2,    0.120,2, -999.000,9,   -999.0,9,   -999.0,9,   -999.0,9,  -999.00,9,  2.9707, -999.00,9, 2397.0,2, -999.00,9
35LLETAMBOT1_1,  AR15,    13,  1,      8,    8.0,2,19950912,0332,  7.5003, -49.4908,   15,   2598.0,2,   2.9905,2,  34.9480,2,  34.9483,2,    259.6,2,    260.8,2,    23.92,4,    18.84,2,     0.00,2,     1.24,2,    0.082,2,    0.033,2,   -999.0,9,   -999.0,9,   -999.0,9,  -999.00,9,  2.7810, -999.00,9, 2599.0,2, -999.00,9
35LLETAMBOT1_1,  AR15,    13,  1,      7,    7.0,2,19950912,0332,  7.5003, -49.4908,   15,   2799.6,2,   2.8425,2,  34.9379,2,  34.9367,2,    259.2,2,    259.1,2,    27.89,4,    19.33,2,     0.00,2,     1.28,2,    0.135,2,    0.057,2,   -999.0,9,   -999.0,9,   -999.0,9,  -999.00,9,  2.6157, -999.00,9, 2801.0,2, -999.00,9
35LLETAMBOT1_1,  AR15,    13,  1,      6,    6.0,2,19950912,0332,  7.5003, -49.4908,   15,   3003.0,2,   2.6762,2,  34.9270,2,  34.9269,2,    260.7,2,    259.9,2,    29.82,4,    19.28,2,     0.00,2,     1.28,2,    0.076,2,    0.035,2,   -999.0,9,   -999.0,9,   -999.0,9,  -999.00,9,  2.4322, -999.00,9, 3005.0,2, -999.00,9
35LLETAMBOT1_1,  AR15,    13,  1,      5,    5.0,2,19950912,0332,  7.5003, -49.4908,   15,   3299.9,2,   2.5027,2,  34.9149,2,  34.9124,2,    260.1,2,    259.8,2,    33.82,4,    19.69,2,     0.00,2,     1.31,2,    0.066,2,    0.030,2,   -999.0,9,   -999.0,9,   -999.0,9,  -999.00,9,  2.2317, -999.00,9, 3301.0,2, -999.00,9
35LLETAMBOT1_1,  AR15,    13,  1,      4,    4.0,2,19950912,0332,  7.5003, -49.4908,   15,   3599.6,2,   2.3208,2,  34.9030,2,  34.9025,2,    264.6,2,    263.9,2,    33.31,4,    19.17,2,     0.00,2,     1.28,2,    0.123,2,    0.060,2,   -999.0,9,   -999.0,9,   -999.0,9,  -999.00,9,  2.0221, -999.00,9, 3601.0,2, -999.00,9
35LLETAMBOT1_1,  AR15,    13,  1,      3,    3.0,2,19950912,0332,  7.5003, -49.4908,   15,   3799.2,2,   2.2587,2,  34.8981,2,  34.8960,2,    265.0,2,    264.1,2,    34.60,4,    19.20,2,     0.00,2,     1.29,2,    0.123,2,    0.059,2,   -999.0,9,   -999.0,9,   -999.0,9,  -999.00,9,  1.9397, -999.00,9, 3800.0,2, -999.00,9
35LLETAMBOT1_1,  AR15,    13,  1,      2,    2.0,2,19950912,0332,  7.5003, -49.4908,   15,   3999.7,2,   2.2238,2,  34.8940,2,  34.8910,2,    263.8,2,    264.4,2,    35.93,4,    19.27,2,     0.00,2,     1.30,2,    0.190,2,    0.106,2,   -999.0,9,   -999.0,9,   -999.0,9,  -999.00,9,  1.8833, -999.00,9, 4001.0,2, -999.00,9
35LLETAMBOT1_1,  AR15,    13,  1,      1,    1.0,2,19950912,0332,  7.5003, -49.4908,   15,   4289.4,2,   2.1815,2,  34.8855,2,  34.8841,2,    259.0,2,    259.8,2,    42.31,4,    20.10,2,     0.00,2,     1.36,2,    0.109,2,    0.060,2,   -999.0,9,   -999.0,9,   -999.0,9,  -999.00,9,  1.8089, -999.00,9, 4290.0,2, -999.00,9