BOTTLE,20220929CCHSIOAMB
EXPOCODE,SECT_ID,STNNBR,CASTNO,SAMPNO,BTLNBR,BTLNBR_FLAG_W,DATE,TIME,LATITUDE,LONGITUDE,DEPTH,CTDPRS,CTDPRS_FLAG_W,CTDTMP,CTDTMP_FLAG_W,CTDSAL,CTDSAL_FLAG_W,SALNTY,SALNTY_FLAG_W,CTDOXY,CTDOXY_FLAG_W,OXYGEN,OXYGEN_FLAG_W,SILCAT,SILCAT_FLAG_W,NITRAT,NITRAT_FLAG_W,NITRIT,NITRIT_FLAG_W,PHSPHT,PHSPHT_FLAG_W,CFC-11,CFC-11_FLAG_W,CFC-12,CFC-12_FLAG_W,TCARBN,TCARBN_FLAG_W,PCO2,PCO2_FLAG_W,ALKALI,ALKALI_FLAG_W,PH,PH_FLAG_W,THETA,CHLORA,CHLORA_FLAG_W,CTDRAW,CTDRAW_FLAG_W,PPHYTN,PPHYTN_FLAG_W
,,,,,,,,,,,,DBAR,,DEG C,,PSS-78,,PSS-78,,UMOL/KG,,UMOL/KG,,UMOL/KG,,UMOL/KG,,UMOL/KG,,UMOL/KG,,PMOL/KG,,PMOL/KG,,UMOL/KG,,UATM,,UMOL/KG,,,,DEG C,UG/L,,DBAR,,UG/L,
35LLETAMBOT1_2,  AR04,    75,  1,     24,   24.0,2,19951004,1749,  4.2717, -43.0678,   20,      2.0,2,  29.7100,2,  34.9967,2,  35.0042,2,    198.2,2,    210.5,2,     2.35,2,     0.00,2,     0.00,2,     0.00,2, -999.000,9, -999.000,9,   1946.6,2,    357.2,2,   2331.8,2,     8.07,2, 29.7095,    0.12,2,    4.0,2,    0.03,2
35LLETAMBOT1_2,  AR04,    75,  1,     23,   23.0,2,19951004,1749,  4.2717, -43.0678,   20,     77.3,2,  22.9501,2,  36.4948,2,  36.5060,2,    167.5,2,    168.9,2,     1.39,2,     3.30,2,     0.04,2,     0.24,2, -999.000,9, -999.000,9,   2090.8,2,   -999.0,9,   2414.3,2,     8.05,2, 22.9342, -999.00,9,   79.0,2, -999.00,9
35LLETAMBOT1_2,  AR04,    75,  1,     22,   22.0,2,19951004,1749,  4.2717, -43.0678,   20,    178.0,2,  11.3363,2,  35.2260,2,  35.3462,2,    110.1,3,    106.4,3,     9.52,2,    23.47,2,     0.00,2,     1.50,2, -999.000,9, -999.000,9,   2188.2,2,   -999.0,9,   2341.0,2,     7.92,2, 11.3139, -999.00,9,  180.0,2, -999.00,9
35LLETAMBOT1_2,  AR04,    75,  1,     21,   21.0,2,19951004,1749,  4.2717, -43.0678,   20,    398.3,2,   7.2279,2,  34.6468,2,  34.6620,2,    130.7,2,    129.3,2,    18.22,2,    30.40,2,     0.00,2,     2.05,2, -999.000,9, -999.000,9,   2202.4,2,   -999.0,9,   2313.8,2,     7.88,2,  7.1896, -999.00,9,  400.0,2, -999.00,9
35LLETAMBOT1_2,  AR04,    75,  1,     20,   20.0,2,19951004,1749,  4.2717, -43.0678,   20,    596.3,2,   5.7130,2,  34.5552,2,  34.5916,2,    134.5,2,    124.5,2,    22.84,2,    33.27,2,     0.00,2,     2.28,2, -999.000,9, -999.000,9,   2184.1,3,   -999.0,9,   2279.8,3,     7.86,2,  5.6618, -999.00,9,  598.0,2, -999.00,9
35LLETAMBOT1_2,  AR04,    75,  1,     19,   19.0,2,19951004,1749,  4.2717, -43.0678,   20,    798.3,2,   4.9590,2,  34.5773,2,  34.5810,2,    142.5,2,    141.5,2,    27.79,2,    32.93,2,     0.00,2,     2.31,2,    0.065,2,    0.027,2,   2176.6,3,   -999.0,9,   2273.9,3,     7.87,2,  4.8938, -999.00,9,  799.0,2, -999.00,9
35LLETAMBOT1_2,  AR04,    75,  1,     18,   18.0,2,19951004,1749,  4.2717, -43.0678,   20,    995.7,2,   4.6417,2,  34.6825,2,  34.6850,2,    155.6,2,    156.5,2,    27.49,2,    30.72,2,     0.00,2,     2.17,2,    0.015,2,    0.006,2,   2176.0,3,   -999.0,9,   2284.5,3,     7.89,2,  4.5612, -999.00,9,  997.0,2, -999.00,9
35LLETAMBOT1_2,  AR04,    75,  1,     17,   17.0,2,19951004,1749,  4.2717, -43.0678,   20,   1197.6,2,   4.6547,2,  34.7926,2,  34.7994,2,    172.8,2,    173.7,2,    24.34,2,    27.68,2,     0.00,2,     1.93,2,    0.032,2,    0.013,2,   2187.8,3,   -999.0,9,   2311.8,3,     7.92,2,  4.5558, -999.00,9, 1199.0,2, -999.00,9
35LLETAMBOT1_2,  AR04,    75,  1,     16,   16.0,2,19951004,1749,  4.2717, -43.0678,   20,   1396.4,2,   4.5807,2,  34.9247,2,  34.9303,2,    204.0,2,    206.4,2,    19.16,2,    23.02,2,     0.00,2,     1.59,2,    0.096,2,    0.050,2,   2152.0,3,   -999.0,9,   2297.2,3,     7.97,2,  4.4639, -999.00,9, 1397.0,2, -999.00,9
35LLETAMBOT1_2,  AR04,    75,  1,     15,   15.0,2,19951004,1749,  4.2717, -43.0678,   20,   1497.1,2,   4.3912,2,  34.9678,2,  34.9690,2,    223.6,2,    223.8,2,    16.94,2,    20.90,2,     0.00,2,     1.43,2,    0.128,2,    0.065,2,   2127.8,3,   -999.0,9,   2283.4,3,     8.00,2,  4.2669, -999.00,9, 1499.0,2, -999.00,9
35LLETAMBOT1_2,  AR04,    75,  1,     14,   14.0,3,19951004,1749,  4.2717, -43.0678,   20,   1595.5,2,   4.2745,2,  34.9772,2,  34.9790,2,    233.8,2,    231.3,2,    16.35,2,    20.13,2,     0.00,2,     1.38,2,    0.122,2,    0.061,2,   2118.3,3,   -999.0,9,   2277.4,3,     8.01,2,  4.1422, -999.00,9, 1596.0,2, -999.00,9
35LLETAMBOT1_2,  AR04,    75,  1,     13,   13.0,2,19951004,1749,  4.2717, -43.0678,   20,   1696.0,2,   4.1298,2,  34.9819,2,  34.9830,2,    240.0,2,    239.1,2,    15.70,2,    19.46,2,     0.00,2,     1.32,2,    0.121,2,    0.063,2,   2096.5,3,   -999.0,9,   2259.8,3,     8.02,2,  3.9898, -999.00,9, 1697.0,2, -999.00,9
35LLETAMBOT1_2,  AR04,    75,  1,     11,   11.0,2,19951004,1749,  4.2717, -43.0678,   20,   1796.4,2,   3.8790,2,  34.9820,2,  34.9852,2,    248.9,2,    247.3,2,    15.58,2,    18.72,2,     0.00,2,     1.27,2,    0.134,2,    0.064,2,   2112.9,3,   -999.0,9,   2279.4,3,     8.03,2,  3.7328, -999.00,9, 1798.0,2, -999.00,9
35LLETAMBOT1_2,  AR04,    75,  1,     12,   12.0,3,19951004,1749,  4.2717, -43.0678,   20,   1796.7,2,   3.8804,2,  34.9811,2,  34.9862,2,    248.7,2,    247.6,2,    15.61,2,    18.68,2,     0.00,2,     1.27,2,    0.125,2,    0.068,2,   2110.7,3,   -999.0,9,   2276.0,3,     8.02,2,  3.7341, -999.00,9, 1798.0,2, -999.00,9
35LLETAMBOT1_2,  AR04,    75,  1,     10,   10.0,3,19951004,1749,  4.2717, -43.0678,   20,   1997.7,2,   3.6421,2,  34.9751,2,  34.9792,2,    252.6,2,    252.6,2,    16.78,2,    18.33,2,     0.00,2,     1.24,2,    0.088,2,    0.044,2,   2099.4,3,   -999.0,9,   2268.6,3,     8.03,2,  3.4801, -999.00,9, 1999.0,2, -999.00,9
35LLETAMBOT1_2,  AR04,    75,  1,      9,    9.0,2,19951004,1749,  4.2717, -43.0678,   20,   2197.5,2,   3.4404,2,  34.9708,2,  34.9720,2,    257.5,2,    257.4,2,    17.77,2,    17.99,2,     0.00,2,     1.22,2,    0.095,2,    0.050,2,   2101.3,3,   -999.0,9,   2272.8,3,     8.03,2,  3.2623, -999.00,9, 2199.0,2, -999.00,9
35LLETAMBOT1_2,  AR04,    75,  1,      8,    8.0,2,19951004,1749,  4.2717, -43.0678,   20,   2395.9,2,   3.1599,2,  34.9569,2,  34.9577,2,    259.1,2,    259.1,2,    19.99,2,    18.05,2,     0.00,2,     1.22,2,    0.108,2,    0.053,2,   2104.4,3,   -999.0,9,   2275.5,3,     8.03,2,  2.9672, -999.00,9, 2398.0,2, -999.00,9
35LLETAMBOT1_2,  AR04,    75,  1,      7,    7.0,2,19951004,1749,  4.2717, -43.0678,   20,   2597.8,2,   2.9652,2,  34.9424,2,  34.9427,2,    255.3,2,    256.6,2,    23.82,2,    18.67,2,     0.00,2,     1.27,2,    0.059,2,    0.029,2,   2081.3,3,   -999.0,9,   2250.4,3,     8.02,2,  2.7562, -999.00,9, 2599.0,2, -999.00,9
35LLETAMBOT1_2,  AR04,    75,  1,      6,    6.0,2,19951004,1749,  4.2717, -43.0678,   20,   2798.0,2,   2.8370,2,  34.9343,2,  34.9348,2,    254.3,2,    257.2,2,    25.73,2,    18.82,2,     0.00,2,     1.28,2,    0.049,2,    0.027,2,   2090.7,3,   -999.0,9,   2259.5,3,     8.01,2,  2.6105, -999.00,9, 2799.0,2, -999.00,9
35LLETAMBOT1_2,  AR04,    75,  1,      5,    5.0,2,19951004,1749,  4.2717, -43.0678,   20,   2998.4,2,   2.7533,2,  34.9291,2,  34.9297,2,    256.5,2,    257.7,2,    26.99,2,    18.91,2,     0.00,2,     1.27,2,    0.063,2,    0.033,2,   2102.3,3,   -999.0,9,   2271.7,3,     8.01,2,  2.5081, -999.00,9, 2999.0,2, -999.00,9
35LLETAMBOT1_2,  AR04,    75,  1,      4,    4.0,2,19951004,1749,  4.2717, -43.0678,   20,   3200.1,2,   2.6959,2,  34.9251,2,  34.9254,2,    257.8,2,    258.6,2,    27.43,2,    18.82,2,     0.01,2,     1.27,2,    0.099,2,    0.050,2,   2118.2,3,   -999.0,9,   2288.5,3,     8.00,2,  2.4309, -999.00,9, 3202.0,2, -999.00,9
35LLETAMBOT1_2,  AR04,    75,  1,      3,    3.0,2,19951004,1749,  4.2717, -43.0678,   20,   3400.7,2,   2.6043,2,  34.9196,2,  34.9200,2,    258.5,2,    259.9,2,    28.61,2,    18.83,2,     0.01,2,     1.27,2,    0.116,2,    0.059,2,   2098.8,3,   -999.0,9,   2268.2,3,     7.99,2,  2.3200, -999.00,9, 3402.0,2, -999.00,9
35LLETAMBOT1_2,  AR04,    75,  1,      2,    2.0,2,19951004,1749,  4.2717, -43.0678,   20,   3599.7,2,   2.4168,2,  34.9071,2,  34.9070,2,    260.7,2,    262.6,2,    29.79,2,    18.75,2,     0.01,2,     1.26,2,    0.126,2,    0.065,2,   2088.6,3,   -999.0,9,   2257.4,3,     7.99,2,  2.1156, -999.00,9, 3601.0,2, -999.00,9
35LLETAMBOT1_2,  AR04,    75,  1,      1,    1.0,2,19951004,1749,  4.2717, -43.0678,   20,   3680.9,2,   2.3518,2,  34.9024,2,  34.9057,2,    260.4,2,    262.1,2,    30.34,2,    18.71,2,     0.01,2,     1.27,2,    0.125,2,    0.064,2,   2089.8,3,   -999.0,9,   2258.2,3,     7.99,2,  2.0434, -999.00,9, 3683.0,2, -999.00,9
35LLETAMBOT1_2,  AR04,    76,  1,     24,   24.0,2,19951004,2234,  4.5707, -42.9047,   15,      0.3,2,  29.5286,2,  34.9628,2,  34.9620,2,    202.1,2,    197.4,2,     2.34,2,     0.22,2,     0.00,2,     0.00,2, -999.000,9, -999.000,9,   -999.0,9,    349.9,2,   -999.0,9,  -999.00,9, 29.5285,    0.08,2,    2.0,2,    0.01,2
35LLETAMBOT1_2,  AR04,    76,  1,     23,   23.0,2,19951004,2234,  4.5707, -42.9047,   15,     98.2,2,  21.1410,2,  36.4554,2,  36.3479,2,    156.5,2,    131.6,2,     3.04,2,    11.49,2,     0.03,2,     0.63,2, -999.000,9, -999.000,9,   -999.0,9,   -999.0,9,   -999.0,9,  -999.00,9, 21.1220, -999.00,9,  100.0,2, -999.00,9
35LLETAMBOT1_2,  AR04,    76,  1,     22,   22.0,2,19951004,2234,  4.5707, -42.9047,   15,    199.0,2,  10.7056,2,  35.1098,2,  35.0671,2,    121.6,2,    125.1,2,    11.56,2,    25.37,2,     0.01,2,     1.62,2, -999.000,9, -999.000,9,   -999.0,9,   -999.0,9,   -999.0,9,  -999.00,9, 10.6814, -999.00,9,  201.0,2, -999.00,9
35LLETAMBOT1_2,  AR04,    76,  1,     21,   21.0,2,19951004,2234,  4.5707, -42.9047,   15,    398.5,2,   7.8037,2,  34.7145,2,  34.7100,2,    124.8,2,    127.5,2,    17.96,2,    30.91,2,     0.00,2,     2.02,2, -999.000,9, -999.000,9,   -999.0,9,   -999.0,9,   -999.0,9,  -999.00,9,  7.7636, -999.00,9,  400.0,2, -999.00,9
35LLETAMBOT1_2,  AR04,    76,  1,     20,   20.0,2,19951004,2234,  4.5707, -42.9047,   15,    598.0,2,   5.7951,2,  34.5613,2,  34.5780,2,    136.5,2,    133.7,2,    24.61,2,    33.74,2,     0.00,2,     2.25,2, -999.000,9, -999.000,9,   -999.0,9,   -999.0,9,   -999.0,9,  -999.00,9,  5.7433, -999.00,9,  600.0,2, -999.00,9
35LLETAMBOT1_2,  AR04,    76,  1,     19,   19.0,2,19951004,2234,  4.5707, -42.9047,   15,    799.3,2,   4.9343,2,  34.5686,2,  34.5674,2,    142.6,2,    143.3,2,    31.00,2,    34.59,2,     0.00,2,     2.34,2,    0.075,2,    0.034,2,   -999.0,9,   -999.0,9,   -999.0,9,  -999.00,9,  4.8692, -999.00,9,  802.0,2, -999.00,9
35LLETAMBOT1_2,  AR04,    76,  1,     18,   18.0,2,19951004,2234,  4.5707, -42.9047,   15,    998.5,2,   4.6308,2,  34.6672,2,  34.6617,2,    155.9,2,    154.8,2,    31.87,2,    32.62,2,     0.00,2,     2.22,2,    0.015,2,    0.003,2,   -999.0,9,   -999.0,9,   -999.0,9,  -999.00,9,  4.5502, -999.00,9, 1000.0,2, -999.00,9
35LLETAMBOT1_2,  AR04,    76,  1,     17,   17.0,2,19951004,2234,  4.5707, -42.9047,   15,   1291.7,2,   4.6464,2,  34.8787,2,  34.8778,2,    191.4,2,    189.0,2,    24.44,2,    26.62,2,     0.00,2,     1.78,2,    0.049,2,    0.022,2,   -999.0,9,   -999.0,9,   -999.0,9,  -999.00,9,  4.5387, -999.00,9, 1293.0,2, -999.00,9
35LLETAMBOT1_2,  AR04,    76,  1,     16,   16.0,2,19951004,2234,  4.5707, -42.9047,   15,   1495.5,2,   4.4437,2,  34.9568,2,  34.9574,2,    219.1,2,    219.9,2,    19.93,2,    22.87,2,     0.00,2,     1.50,2,    0.089,2,    0.042,2,   -999.0,9,   -999.0,9,   -999.0,9,  -999.00,9,  4.3190, -999.00,9, 1497.0,2, -999.00,9
35LLETAMBOT1_2,  AR04,    76,  1,     15,   15.0,2,19951004,2234,  4.5707, -42.9047,   15,   1597.5,2,   4.3117,2,  34.9810,2,  34.9795,2,    233.8,2,    233.7,2,    18.27,2,    21.29,2,     0.00,2,     1.40,2,    0.123,2,    0.059,2,   -999.0,9,   -999.0,9,   -999.0,9,  -999.00,9,  4.1788, -999.00,9, 1599.0,2, -999.00,9
35LLETAMBOT1_2,  AR04,    76,  1,     14,   14.0,2,19951004,2234,  4.5707, -42.9047,   15,   1695.4,2,   4.1399,2,  34.9809,2,  34.9814,2,    240.3,2,    239.6,2,    18.52,2,    20.71,2,     0.00,2,     1.37,2,    0.101,2,    0.048,2,   -999.0,9,   -999.0,9,   -999.0,9,  -999.00,9,  3.9998, -999.00,9, 1697.0,2, -999.00,9
35LLETAMBOT1_2,  AR04,    76,  1,     13,   13.0,2,19951004,2234,  4.5707, -42.9047,   15,   1794.1,2,   4.0204,2,  34.9821,2,  34.9823,2,    243.5,2,    243.7,2,    18.55,2,    20.37,2,     0.01,2,     1.33,2,    0.090,2,    0.048,2,   -999.0,9,   -999.0,9,   -999.0,9,  -999.00,9,  3.8725, -999.00,9, 1795.0,2, -999.00,9
35LLETAMBOT1_2,  AR04,    76,  1,     12,   12.0,2,19951004,2234,  4.5707, -42.9047,   15,   1795.9,2,   4.0203,2,  34.9820,2,  34.9821,2,    244.1,2,    243.7,2,    18.69,2,    20.39,2,     0.00,2,     1.33,2,    0.100,2,    0.051,2,   -999.0,9,   -999.0,9,   -999.0,9,  -999.00,9,  3.8722, -999.00,9, 1797.0,2, -999.00,9
35LLETAMBOT1_2,  AR04,    76,  1,     11,   11.0,2,19951004,2234,  4.5707, -42.9047,   15,   1996.7,2,   3.6773,2,  34.9779,2,  34.9800,2,    253.2,2,    253.7,2,    19.57,2,    19.64,2,     0.01,2,     1.27,2,    0.101,2,    0.049,2,   -999.0,9,   -999.0,9,   -999.0,9,  -999.00,9,  3.5148, -999.00,9, 1999.0,2, -999.00,9
35LLETAMBOT1_2,  AR04,    76,  1,     10,   10.0,2,19951004,2234,  4.5707, -42.9047,   15,   2298.1,2,   3.3192,2,  34.9637,2,  34.9647,2,    257.1,2,    271.2,3,    22.61,2,    19.54,2,     0.00,2,     1.27,2,    0.054,2,    0.029,2,   -999.0,9,   -999.0,9,   -999.0,9,  -999.00,9,  3.1333, -999.00,9, 2300.0,2, -999.00,9
35LLETAMBOT1_2,  AR04,    76,  1,      9,    9.0,2,19951004,2234,  4.5707, -42.9047,   15,   2596.3,2,   2.9891,2,  34.9445,2,  34.9441,2,    256.7,2,    256.9,2,    27.89,2,    19.91,2,     0.00,2,     1.30,2,    0.032,2,    0.018,2,   -999.0,9,   -999.0,9,   -999.0,9,  -999.00,9,  2.7798, -999.00,9, 2597.0,2, -999.00,9
35LLETAMBOT1_2,  AR04,    76,  1,      8,    8.0,2,19951004,2234,  4.5707, -42.9047,   15,   2797.5,2,   2.8286,2,  34.9344,2,  34.9358,2,    257.1,2,    256.6,2,    30.44,2,    20.10,2,     0.00,2,     1.32,2,    0.038,2,    0.020,2,   -999.0,9,   -999.0,9,   -999.0,9,  -999.00,9,  2.6023, -999.00,9, 2799.0,2, -999.00,9
35LLETAMBOT1_2,  AR04,    76,  1,      7,    7.0,2,19951004,2234,  4.5707, -42.9047,   15,   2998.8,2,   2.7616,2,  34.9313,2,  34.9306,2,    259.3,2,    258.5,2,    31.14,2,    19.96,2,     0.00,2,     1.30,2,    0.078,2,    0.039,2,   -999.0,9,   -999.0,9,   -999.0,9,  -999.00,9,  2.5161, -999.00,9, 3001.0,2, -999.00,9
35LLETAMBOT1_2,  AR04,    76,  1,      6,    6.0,2,19951004,2234,  4.5707, -42.9047,   15,   3299.6,2,   2.6258,2,  34.9215,2,  34.9215,2,    261.0,2,    259.1,2,    32.74,2,    20.04,2,     0.00,2,     1.30,2,    0.095,2,    0.045,2,   -999.0,9,   -999.0,9,   -999.0,9,  -999.00,9,  2.3518, -999.00,9, 3301.0,2, -999.00,9
35LLETAMBOT1_2,  AR04,    76,  1,      5,    5.0,2,19951004,2234,  4.5707, -42.9047,   15,   3598.6,2,   2.4385,2,  34.9091,2,  34.9073,2,    262.5,2,    261.4,2,    35.21,2,    19.87,2,     0.00,2,     1.30,2,    0.116,2,    0.058,2,   -999.0,9,   -999.0,9,   -999.0,9,  -999.00,9,  2.1369, -999.00,9, 3600.0,2, -999.00,9
35LLETAMBOT1_2,  AR04,    76,  1,      4,    4.0,2,19951004,2234,  4.5707, -42.9047,   15,   3801.0,2,   2.3560,2,  34.9026,2,  34.9013,2,    263.1,2,    262.9,2,    35.99,2,    19.83,2,     0.00,2,     1.31,2,    0.133,2,    0.067,2,   -999.0,9,   -999.0,9,   -999.0,9,  -999.00,9,  2.0342, -999.00,9, 3803.0,2, -999.00,9
35LLETAMBOT1_2,  AR04,    76,  1,      3,    3.0,2,19951004,2234,  4.5707, -42.9047,   15,   4001.9,2,   2.2154,2,  34.8902,2,  34.8890,2,    260.7,2,    262.3,2,    40.46,2,    20.20,2,     0.00,2,     1.34,2,    0.148,2,    0.073,2,   -999.0,9,   -999.0,9,   -999.0,9,  -999.00,9,  1.8749, -999.00,9, 4003.0,2, -999.00,9
35LLETAMBOT1_2,  AR04,    76,  1,      2,    2.0,2,19951004,2234,  4.5707, -42.9047,   15,   4101.7,2,   2.1874,2,  34.8857,2,  34.8846,2,    262.0,2,    260.0,2,    42.07,2,    20.39,2,     0.00,2,     1.37,2,    0.152,2,    0.073,2,   -999.0,9,   -999.0,9,   -999.0,9,  -999.00,9,  1.8364, -999.00,9, 4103.0,2, -999.00,9
35LLETAMBOT1_2,  AR04,    76,  1,      1,    1.0,2,19951004,2234,  4.5707, -42.9047,   15,   4245.8,2,   2.1592,2,  34.8795,2,  34.8783,2,    258.7,2,    257.5,2,    45.88,2,    20.94,2,     0.00,2,     1.41,2,    0.123,2,    0.062,2,   -999.0,9,   -999.0,9,   -999.0,9,  -999.00,9,  1.7924, -999.00,9, 4247.0,2, -999.00,9