BOTTLE,20220929CCHSIOAMB
EXPOCODE,SECT_ID,STNNBR,CASTNO,SAMPNO,BTLNBR,BTLNBR_FLAG_W,DATE,TIME,LATITUDE,LONGITUDE,DEPTH,CTDPRS,CTDPRS_FLAG_W,CTDTMP,CTDTMP_FLAG_W,CTDSAL,CTDSAL_FLAG_W,SALNTY,SALNTY_FLAG_W,CTDOXY,CTDOXY_FLAG_W,OXYGEN,OXYGEN_FLAG_W,SILCAT,SILCAT_FLAG_W,NITRAT,NITRAT_FLAG_W,NITRIT,NITRIT_FLAG_W,PHSPHT,PHSPHT_FLAG_W,CFC-11,CFC-11_FLAG_W,CFC-12,CFC-12_FLAG_W,TCARBN,TCARBN_FLAG_W,PCO2,PCO2_FLAG_W,ALKALI,ALKALI_FLAG_W,PH,PH_FLAG_W,THETA,CHLORA,CHLORA_FLAG_W,CTDRAW,CTDRAW_FLAG_W,PPHYTN,PPHYTN_FLAG_W
,,,,,,,,,,,,DBAR,,DEG C,,PSS-78,,PSS-78,,UMOL/KG,,UMOL/KG,,UMOL/KG,,UMOL/KG,,UMOL/KG,,UMOL/KG,,PMOL/KG,,PMOL/KG,,UMOL/KG,,UATM,,UMOL/KG,,,,DEG C,UG/L,,DBAR,,UG/L,
35LLETAMBOT1_1,  AR15,    18,  1,     22,   22.0,2,19950913,1248,  7.5000, -46.6658,   15,      0.4,2,  29.3128,2,  32.6066,2,  32.6399,2,    199.6,2,    199.5,2,     6.31,2,     0.00,2,     0.00,2,     0.00,2, -999.000,9, -999.000,9,   1819.6,2,    326.0,2,   2186.1,2,     8.10,2, 29.3127,    0.18,2,    3.0,2,    0.08,2
35LLETAMBOT1_1,  AR15,    18,  1,     21,   21.0,2,19950913,1248,  7.5000, -46.6658,   15,     38.2,2,  28.8416,2,  34.5011,2,  34.7886,2,    198.9,2,    199.1,2,     2.36,2,     0.00,2,     0.00,2,     0.00,2, -999.000,9, -999.000,9,   1947.0,2,   -999.0,9,   2337.5,2,     8.09,2, 28.8324, -999.00,9,   39.0,2, -999.00,9
35LLETAMBOT1_1,  AR15,    18,  1,     20,   20.0,2,19950913,1248,  7.5000, -46.6658,   15,    178.3,2,  11.1057,2,  35.0939,2,  35.0450,2,    138.2,2,    137.5,2,    10.89,2,    23.02,2,     0.00,2,     1.52,2, -999.000,9, -999.000,9,   2162.3,2,   -999.0,9,   2319.6,2,     7.94,2, 11.0836, -999.00,9,  180.0,2, -999.00,9
35LLETAMBOT1_1,  AR15,    18,  1,     19,   19.0,2,19950913,1248,  7.5000, -46.6658,   15,    393.7,2,   8.0650,2,  34.7189,2,  34.7060,2,    142.6,2,    143.9,2,    16.79,2,    28.40,2,     0.00,2,     1.88,2, -999.000,9, -999.000,9,   2153.1,2,   -999.0,9,   2279.0,2,     7.91,2,  8.0246, -999.00,9,  396.0,2, -999.00,9
35LLETAMBOT1_1,  AR15,    18,  1,     18,   18.0,2,19950913,1248,  7.5000, -46.6658,   15,    599.1,2,   6.9047,2,  34.6757,2,  34.6540,2,    123.2,2,    122.8,2,    22.35,2,    33.28,2,     0.00,2,     2.19,2, -999.000,9, -999.000,9,   2184.8,2,   -999.0,9,   2285.1,2,     7.85,2,  6.8477, -999.00,9,  601.0,2, -999.00,9
35LLETAMBOT1_1,  AR15,    18,  1,     17,   17.0,2,19950913,1248,  7.5000, -46.6658,   15,    997.5,2,   5.0381,2,  34.7115,2,  34.7253,2,    147.3,2,    148.4,2,    28.01,2,    31.56,2,     0.00,2,     2.17,2,    0.039,2,    0.002,2,   2208.0,2,   -999.0,9,   2315.4,2,     7.88,2,  4.9544, -999.00,9,  999.0,2, -999.00,9
35LLETAMBOT1_1,  AR15,    18,  1,     15,   15.0,2,19950913,1248,  7.5000, -46.6658,   15,   1297.8,2,   4.8495,2,  34.9461,2,  34.9480,2,    202.3,2,    201.1,2,    20.27,2,    23.52,2,     0.00,2,     1.61,2,    0.127,2,    0.047,2,   2150.5,3,   -999.0,9,   2296.2,3,     7.97,2,  4.7392, -999.00,9, 1300.0,2, -999.00,9
35LLETAMBOT1_1,  AR15,    18,  1,     16,   16.0,2,19950913,1248,  7.5000, -46.6658,   15,   1297.8,2,   4.8495,2,  34.9461,2,  34.9470,2,    202.3,2,    201.9,2,    20.27,2,    23.61,2,     0.00,2,     1.61,2,    0.114,2,    0.050,2,   2149.8,3,   -999.0,9,   2295.2,3,     7.97,2,  4.7392, -999.00,9, 1300.0,2, -999.00,9
35LLETAMBOT1_1,  AR15,    18,  1,     14,   14.0,2,19950913,1248,  7.5000, -46.6658,   15,   1598.2,2,   4.2185,2,  34.9955,2,  34.9960,2,    244.9,2,    244.2,2,    15.98,2,    19.13,2,     0.00,2,     1.30,2,    0.170,2,    0.085,2,   2132.8,3,   -999.0,9,   2300.2,3,     8.03,2,  4.0866, -999.00,9, 1600.0,2, -999.00,9
35LLETAMBOT1_1,  AR15,    18,  1,     13,   13.0,2,19950913,1248,  7.5000, -46.6658,   15,   1695.2,2,   4.0413,2,  34.9912,2,  34.9886,2,    248.4,2,    248.0,2,    16.12,2,    18.87,2,     0.00,2,     1.29,2,    0.166,2,    0.080,2,   2123.2,3,   -999.0,9,   2292.6,3,     8.03,2,  3.9025, -999.00,9, 1697.0,2, -999.00,9
35LLETAMBOT1_1,  AR15,    18,  1,     12,   12.0,2,19950913,1248,  7.5000, -46.6658,   15,   1796.1,2,   3.8580,2,  34.9854,2,  34.9860,2,    252.5,2,    296.3,4,    16.98,2,    18.69,2,     0.00,2,     1.27,2,    0.126,2,    0.068,2,   2116.3,3,   -999.0,9,   2287.2,3,     8.04,2,  3.7120, -999.00,9, 1797.0,2, -999.00,9
35LLETAMBOT1_1,  AR15,    18,  1,     11,   11.0,2,19950913,1248,  7.5000, -46.6658,   15,   1897.9,2,   3.7375,2,  34.9831,2,  34.9830,2,    254.5,2,    255.4,2,    17.40,2,    18.44,2,     0.00,2,     1.25,2,    0.110,2,    0.054,2,   2131.4,3,   -999.0,9,   2305.0,3,     8.04,2,  3.5836, -999.00,9, 1899.0,2, -999.00,9
35LLETAMBOT1_1,  AR15,    18,  1,     10,   10.0,2,19950913,1248,  7.5000, -46.6658,   15,   1993.9,2,   3.6114,2,  34.9798,2,  34.9804,2,    257.1,2,    256.7,2,    18.21,2,    18.29,2,     0.00,2,     1.24,2,    0.101,2,    0.064,2,   2119.5,3,   -999.0,9,   2292.5,3,     8.04,2,  3.4502, -999.00,9, 1996.0,2, -999.00,9
35LLETAMBOT1_1,  AR15,    18,  1,      9,    9.0,2,19950913,1248,  7.5000, -46.6658,   15,   2395.8,2,   3.1502,2,  34.9568,2,  34.9587,2,    258.1,2,    258.5,2,    22.18,2,    18.48,2,     0.00,2,     1.26,2,    0.066,2,    0.031,2,   2140.8,3,   -999.0,9,   2315.9,3,     8.03,2,  2.9577, -999.00,9, 2397.0,2, -999.00,9
35LLETAMBOT1_1,  AR15,    18,  1,      8,    8.0,2,19950913,1248,  7.5000, -46.6658,   15,   2697.3,2,   2.9173,2,  34.9428,2,  34.9436,2,    258.7,2,    258.2,2,    26.11,2,    18.85,2,     0.00,2,     1.28,2,    0.072,2,    0.031,2,   2130.4,3,   -999.0,9,   2304.2,3,     8.02,2,  2.6993, -999.00,9, 2699.0,2, -999.00,9
35LLETAMBOT1_1,  AR15,    18,  1,      7,    7.0,2,19950913,1248,  7.5000, -46.6658,   15,   2999.3,2,   2.7226,2,  34.9295,2,  34.9304,2,    257.4,2,    257.6,2,    29.57,2,    19.21,2,     0.00,2,     1.31,2,    0.063,2,    0.029,2,   2117.6,3,   -999.0,9,   2290.2,3,     8.01,2,  2.4779, -999.00,9, 3001.0,2, -999.00,9
35LLETAMBOT1_1,  AR15,    18,  1,      6,    6.0,2,19950913,1248,  7.5000, -46.6658,   15,   3298.9,2,   2.5630,2,  34.9186,2,  34.9177,2,    258.6,2,    259.2,2,    31.53,2,    19.20,2,     0.00,2,     1.31,2,    0.102,2,    0.047,2,   2137.1,3,   -999.0,9,   2310.2,3,     8.00,2,  2.2906, -999.00,9, 3301.0,2, -999.00,9
35LLETAMBOT1_1,  AR15,    18,  1,      5,    5.0,2,19950913,1248,  7.5000, -46.6658,   15,   3598.3,2,   2.3919,2,  34.9078,2,  34.9069,2,    261.9,2,    263.3,2,    31.68,2,    18.83,2,     0.00,2,     1.29,2,    0.149,2,    0.065,2,   2123.3,3,   -999.0,9,   2294.2,3,     7.99,2,  2.0915, -999.00,9, 3601.0,2, -999.00,9
35LLETAMBOT1_1,  AR15,    18,  1,      4,    4.0,2,19950913,1248,  7.5000, -46.6658,   15,   3799.2,2,   2.3085,2,  34.9019,2,  34.8990,2,    263.8,2,    264.1,2,    32.41,2,    18.76,2,     0.00,2,     1.29,2,    0.154,2,    0.067,2,   2139.0,3,   -999.0,9,   2312.5,3,     7.99,2,  1.9882, -999.00,9, 3801.0,2, -999.00,9
35LLETAMBOT1_1,  AR15,    18,  1,      3,    3.0,2,19950913,1248,  7.5000, -46.6658,   15,   3998.1,2,   2.2679,2,  34.8976,2,  34.8960,2,    264.0,2,    264.7,2,    33.14,2,    18.91,2,     0.00,2,     1.29,2,    0.170,2,    0.072,2,   2144.1,3,   -999.0,9,   2316.7,3,     7.98,2,  1.9263, -999.00,9, 3998.0,2, -999.00,9
35LLETAMBOT1_1,  AR15,    18,  1,      2,    2.0,2,19950913,1248,  7.5000, -46.6658,   15,   4200.8,2,   2.2328,2,  34.8922,2,  34.8900,2,    262.7,2,    262.1,2,    35.72,2,    19.24,2,     0.00,2,     1.32,2,    0.175,2,    0.076,2,   2158.1,3,   -999.0,9,   2332.2,3,     7.97,2,  1.8690, -999.00,9, 4201.0,2, -999.00,9
35LLETAMBOT1_1,  AR15,    18,  1,      1,    1.0,2,19950913,1248,  7.5000, -46.6658,   15,   4393.5,2,   2.0930,2,  34.8728,2,  34.8710,2,    256.4,2,    254.9,2,    46.59,2,    20.81,2,     0.00,2,     1.45,2,    0.101,2,    0.055,2,   2155.5,3,   -999.0,9,   2323.4,3,     7.95,2,  1.7110, -999.00,9, 4394.0,2, -999.00,9
35LLETAMBOT1_1,  AR15,    19,  1,     22,   22.0,2,19950913,2014,  7.5000, -46.0000,   15,     -0.1,2,  29.6136,2,  32.2066,2,  32.2000,2,    198.6,2,    198.4,2,     6.11,2,     0.00,2,     0.00,2,     0.00,2, -999.000,9, -999.000,9,   -999.0,9,    329.8,2,   -999.0,9,  -999.00,9, 29.6136,    0.09,2,    2.0,2,    0.02,2
35LLETAMBOT1_1,  AR15,    19,  1,     21,   21.0,2,19950913,2014,  7.5000, -46.0000,   15,     39.9,2,  28.6158,2,  35.5901,2,  36.0129,2,    205.7,2,    206.0,2,     0.66,2,     0.00,2,     0.00,2,     0.00,2, -999.000,9, -999.000,9,   -999.0,9,   -999.0,9,   -999.0,9,  -999.00,9, 28.6062, -999.00,9,   41.0,2, -999.00,9
35LLETAMBOT1_1,  AR15,    19,  1,     20,   20.0,2,19950913,2014,  7.5000, -46.0000,   15,    174.4,2,  11.7009,2,  35.2192,2,  35.2050,2,    104.8,2,    105.3,2,    10.84,2,    25.60,2,     0.00,2,     1.61,2, -999.000,9, -999.000,9,   -999.0,9,   -999.0,9,   -999.0,9,  -999.00,9, 11.6785, -999.00,9,  176.0,2, -999.00,9
35LLETAMBOT1_1,  AR15,    19,  1,     19,   19.0,2,19950913,2014,  7.5000, -46.0000,   15,    398.1,2,   8.4499,2,  34.8025,2,  34.7898,2,    106.1,2,    105.2,2,    17.62,2,    32.17,2,     0.00,2,     2.04,2, -999.000,9, -999.000,9,   -999.0,9,   -999.0,9,   -999.0,9,  -999.00,9,  8.4079, -999.00,9,  400.0,2, -999.00,9
35LLETAMBOT1_1,  AR15,    19,  1,     18,   18.0,2,19950913,2014,  7.5000, -46.0000,   15,    796.8,2,   5.5288,2,  34.6026,2,  34.6077,2,    133.3,2,    130.4,2,    27.83,2,    34.68,2,     0.00,2,     2.29,2,    0.043,2,    0.014,2,   -999.0,9,   -999.0,9,   -999.0,9,  -999.00,9,  5.4602, -999.00,9,  798.0,2, -999.00,9
35LLETAMBOT1_1,  AR15,    19,  1,     16,   16.0,2,19950913,2014,  7.5000, -46.0000,   15,    998.0,2,   5.0539,2,  34.7329,2,  34.7474,2,    149.3,2,    151.9,2,    27.70,2,    31.60,2,     0.00,2,     2.11,2,    0.028,2,    0.007,2,   -999.0,9,   -999.0,9,   -999.0,9,  -999.00,9,  4.9700, -999.00,9,  999.0,2, -999.00,9
35LLETAMBOT1_1,  AR15,    19,  1,     17,   17.0,2,19950913,2014,  7.5000, -46.0000,   15,    998.5,2,   5.0668,2,  34.7332,2,  34.7472,2,    149.2,2,    151.3,2,    27.48,2,    31.62,2,     0.00,2,     2.11,2,    0.002,2,    0.002,2,   -999.0,9,   -999.0,9,   -999.0,9,  -999.00,9,  4.9827, -999.00,9,  999.0,2, -999.00,9
35LLETAMBOT1_1,  AR15,    19,  1,     15,   15.0,2,19950913,2014,  7.5000, -46.0000,   15,   1297.3,2,   4.8082,2,  34.9727,2,  34.9740,2,    212.9,2,    210.9,2,    18.61,2,    22.75,2,     0.00,2,     1.50,2,    0.153,2,    0.075,2,   -999.0,9,   -999.0,9,   -999.0,9,  -999.00,9,  4.6982, -999.00,9, 1298.0,2, -999.00,9
35LLETAMBOT1_1,  AR15,    19,  1,     14,   14.0,2,19950913,2014,  7.5000, -46.0000,   15,   1595.0,2,   4.0850,2,  34.9892,2,  34.9900,2,    246.6,2,    246.1,2,    16.34,2,    19.52,2,     0.00,2,     1.29,2,    0.130,2,    0.067,2,   -999.0,9,   -999.0,9,   -999.0,9,  -999.00,9,  3.9550, -999.00,9, 1596.0,2, -999.00,9
35LLETAMBOT1_1,  AR15,    19,  1,     13,   13.0,2,19950913,2014,  7.5000, -46.0000,   15,   1696.4,2,   3.9094,2,  34.9846,2,  34.9870,2,    250.2,2,    249.2,2,    16.81,2,    19.32,2,     0.00,2,     1.27,2,    0.106,2,    0.058,2,   -999.0,9,   -999.0,9,   -999.0,9,  -999.00,9,  3.7721, -999.00,9, 1698.0,2, -999.00,9
35LLETAMBOT1_1,  AR15,    19,  1,     12,   12.0,2,19950913,2014,  7.5000, -46.0000,   15,   1796.9,2,   3.8110,2,  34.9834,2,  34.9850,2,    252.8,2,    253.2,2,    16.99,2,    19.05,2,     0.00,2,     1.25,2,    0.114,2,    0.063,2,   -999.0,9,   -999.0,9,   -999.0,9,  -999.00,9,  3.6656, -999.00,9, 1799.0,2, -999.00,9
35LLETAMBOT1_1,  AR15,    19,  1,     11,   11.0,2,19950913,2014,  7.5000, -46.0000,   15,   1897.6,2,   3.6504,2,  34.9771,2,  34.9790,2,    253.4,2,    255.0,2,    17.95,2,    18.99,2,     0.00,2,     1.26,2,    0.068,2,    0.039,2,   -999.0,9,   -999.0,9,   -999.0,9,  -999.00,9,  3.4978, -999.00,9, 1900.0,2, -999.00,9
35LLETAMBOT1_1,  AR15,    19,  1,     10,   10.0,2,19950913,2014,  7.5000, -46.0000,   15,   1995.7,2,   3.5214,2,  34.9701,2,  34.9714,2,    253.8,2,    254.0,2,    19.64,2,    19.39,2,     0.00,2,     1.26,2,    0.033,2,    0.024,2,   -999.0,9,   -999.0,9,   -999.0,9,  -999.00,9,  3.3614, -999.00,9, 1997.0,2, -999.00,9
35LLETAMBOT1_1,  AR15,    19,  1,      9,    9.0,2,19950913,2014,  7.5000, -46.0000,   15,   2397.9,2,   3.1236,2,  34.9520,2,  34.9529,2,    255.6,2,    255.2,2,    23.99,2,    19.47,2,     0.00,2,     1.27,2,    0.023,2,    0.021,2,   -999.0,9,   -999.0,9,   -999.0,9,  -999.00,9,  2.9314, -999.00,9, 2399.0,2, -999.00,9
35LLETAMBOT1_1,  AR15,    19,  1,      8,    8.0,2,19950913,2014,  7.5000, -46.0000,   15,   2698.0,2,   2.9432,2,  34.9447,2,  34.9440,2,    259.1,2,    258.7,2,    25.05,2,    19.21,2,     0.00,2,     1.26,2,    0.053,2,    0.031,2,   -999.0,9,   -999.0,9,   -999.0,9,  -999.00,9,  2.7246, -999.00,9, 2700.0,2, -999.00,9
35LLETAMBOT1_1,  AR15,    19,  1,      7,    7.0,2,19950913,2014,  7.5000, -46.0000,   15,   2999.2,2,   2.7827,2,  34.9337,2,  34.9333,2,    258.3,2,    258.6,2,    28.18,2,    19.55,2,     0.00,2,     1.27,2,    0.049,2,    0.031,2,   -999.0,9,   -999.0,9,   -999.0,9,  -999.00,9,  2.5367, -999.00,9, 3001.0,2, -999.00,9
35LLETAMBOT1_1,  AR15,    19,  1,      6,    6.0,2,19950913,2014,  7.5000, -46.0000,   15,   3299.8,2,   2.6226,2,  34.9227,2,  34.9209,2,    258.7,2,    258.5,2,    31.37,2,    19.69,2,     0.00,2,     1.29,2,    0.079,2,    0.043,2,   -999.0,9,   -999.0,9,   -999.0,9,  -999.00,9,  2.3487, -999.00,9, 3301.0,2, -999.00,9
35LLETAMBOT1_1,  AR15,    19,  1,      5,    5.0,2,19950913,2014,  7.5000, -46.0000,   15,   3598.0,2,   2.4525,2,  34.9113,2,  34.9109,2,    262.3,2,    264.3,2,    31.26,2,    19.40,2,     0.00,2,     1.27,2,    0.141,2,    0.074,2,   -999.0,9,   -999.0,9,   -999.0,9,  -999.00,9,  2.1506, -999.00,9, 3599.0,2, -999.00,9
35LLETAMBOT1_1,  AR15,    19,  1,      4,    4.0,2,19950913,2014,  7.5000, -46.0000,   15,   3798.8,2,   2.3553,2,  34.9051,2,  34.9040,2,    264.8,2,    265.4,2,    31.63,2,    19.23,2,     0.00,2,     1.26,2,    0.160,2,    0.075,2,   -999.0,9,   -999.0,9,   -999.0,9,  -999.00,9,  2.0338, -999.00,9, 3800.0,2, -999.00,9
35LLETAMBOT1_1,  AR15,    19,  1,      3,    3.0,2,19950913,2014,  7.5000, -46.0000,   15,   3998.9,2,   2.2823,2,  34.8989,2,  34.8968,2,    265.2,2,    264.3,2,    33.52,2,    19.39,2,     0.00,2,     1.27,2,    0.153,2,    0.076,2,   -999.0,9,   -999.0,9,   -999.0,9,  -999.00,9,  1.9402, -999.00,9, 4000.0,2, -999.00,9
35LLETAMBOT1_1,  AR15,    19,  1,      2,    2.0,2,19950913,2014,  7.5000, -46.0000,   15,   4200.7,2,   2.2439,2,  34.8937,2,  34.8916,2,    264.0,2,    263.6,2,    36.13,2,    19.74,2,     0.00,2,     1.30,2,    0.137,2,    0.069,2,   -999.0,9,   -999.0,9,   -999.0,9,  -999.00,9,  1.8798, -999.00,9, 4200.0,2, -999.00,9
35LLETAMBOT1_1,  AR15,    19,  1,      1,    1.0,2,19950913,2014,  7.5000, -46.0000,   15,   4434.7,2,   2.1362,2,  34.8785,2,  34.8750,2,    257.4,2,    256.6,2,    45.88,2,    21.13,2,     0.00,2,     1.41,2,    0.087,2,    0.057,2,   -999.0,9,   -999.0,9,   -999.0,9,  -999.00,9,  1.7480, -999.00,9, 4436.0,2, -999.00,9