BOTTLE,20220929CCHSIOAMB
EXPOCODE,SECT_ID,STNNBR,CASTNO,SAMPNO,BTLNBR,BTLNBR_FLAG_W,DATE,TIME,LATITUDE,LONGITUDE,DEPTH,CTDPRS,CTDPRS_FLAG_W,CTDTMP,CTDTMP_FLAG_W,CTDSAL,CTDSAL_FLAG_W,SALNTY,SALNTY_FLAG_W,CTDOXY,CTDOXY_FLAG_W,OXYGEN,OXYGEN_FLAG_W,SILCAT,SILCAT_FLAG_W,NITRAT,NITRAT_FLAG_W,NITRIT,NITRIT_FLAG_W,PHSPHT,PHSPHT_FLAG_W,CFC-11,CFC-11_FLAG_W,CFC-12,CFC-12_FLAG_W,TCARBN,TCARBN_FLAG_W,PCO2,PCO2_FLAG_W,ALKALI,ALKALI_FLAG_W,PH,PH_FLAG_W,THETA,CHLORA,CHLORA_FLAG_W,CTDRAW,CTDRAW_FLAG_W,PPHYTN,PPHYTN_FLAG_W
,,,,,,,,,,,,DBAR,,DEG C,,PSS-78,,PSS-78,,UMOL/KG,,UMOL/KG,,UMOL/KG,,UMOL/KG,,UMOL/KG,,UMOL/KG,,PMOL/KG,,PMOL/KG,,UMOL/KG,,UATM,,UMOL/KG,,,,DEG C,UG/L,,DBAR,,UG/L,
35LLETAMBOT1_1,  AR04,    48,  1,     22,   22.0,2,19950922,2151,  0.9865, -35.0012,   15,      2.2,2,  27.7950,2,  35.8242,2,  35.8250,2,    197.9,2,    198.6,2,     0.91,2,     0.00,2,     0.00,2,     0.00,2, -999.000,9, -999.000,9,   -999.0,9,    360.4,2,   -999.0,9,  -999.00,9, 27.7945,    0.06,2,    4.0,2,    0.01,2
35LLETAMBOT1_1,  AR04,    48,  1,     21,   21.0,2,19950922,2151,  0.9865, -35.0012,   15,     39.5,2,  27.7736,2,  35.8235,2,  35.8194,2,    198.8,2,    198.8,2,     0.84,2,     0.00,2,     0.00,2,     0.00,2, -999.000,9, -999.000,9,   -999.0,9,   -999.0,9,   -999.0,9,  -999.00,9, 27.7643, -999.00,9,   41.0,2, -999.00,9
35LLETAMBOT1_1,  AR04,    48,  1,     20,   20.0,2,19950922,2151,  0.9865, -35.0012,   15,    147.5,2,  13.9804,2,  35.3960,2,  35.3874,2,    138.5,2,    136.9,2,     6.86,2,    17.53,2,     0.02,2,     1.20,2, -999.000,9, -999.000,9,   -999.0,9,   -999.0,9,   -999.0,9,  -999.00,9, 13.9591, -999.00,9,  150.0,2, -999.00,9
35LLETAMBOT1_1,  AR04,    48,  1,     19,   19.0,2,19950922,2151,  0.9865, -35.0012,   15,    298.1,2,  10.8068,2,  35.0066,2,  35.0080,2,    105.4,2,    109.5,2,    11.48,2,    25.92,2,     0.00,2,     1.70,2, -999.000,9, -999.000,9,   -999.0,9,   -999.0,9,   -999.0,9,  -999.00,9, 10.7703, -999.00,9,  300.0,2, -999.00,9
35LLETAMBOT1_1,  AR04,    48,  1,     18,   18.0,2,19950922,2151,  0.9865, -35.0012,   15,    597.7,2,   5.7732,2,  34.5361,2,  34.5471,2,    139.3,2,    142.6,2,    23.57,2,    32.39,2,     0.00,2,     2.18,2, -999.000,9, -999.000,9,   -999.0,9,   -999.0,9,   -999.0,9,  -999.00,9,  5.7216, -999.00,9,  600.0,2, -999.00,9
35LLETAMBOT1_1,  AR04,    48,  1,     17,   17.0,2,19950922,2151,  0.9865, -35.0012,   15,    797.0,2,   4.7372,2,  34.5290,2,  34.5292,2,    152.6,2,    152.9,2,    30.58,2,    33.29,2,     0.00,2,     2.29,2,    0.067,2,    0.029,2,   -999.0,9,   -999.0,9,   -999.0,9,  -999.00,9,  4.6735, -999.00,9,  799.0,2, -999.00,9
35LLETAMBOT1_1,  AR04,    48,  1,     16,   16.0,2,19950922,2151,  0.9865, -35.0012,   15,    996.3,2,   4.5818,2,  34.6546,2,  34.6510,2,    161.1,2,    160.3,2,    29.80,2,    31.42,2,     0.00,2,     2.16,2,    0.025,2,    0.009,2,   -999.0,9,   -999.0,9,   -999.0,9,  -999.00,9,  4.5018, -999.00,9,  998.0,2, -999.00,9
35LLETAMBOT1_1,  AR04,    48,  1,     15,   15.0,2,19950922,2151,  0.9865, -35.0012,   15,   1196.1,2,   4.5585,2,  34.8286,2,  34.8344,2,    185.2,2,    186.2,2,    24.15,2,    26.58,2,     0.00,2,     1.83,2,    0.033,2,    0.018,2,   -999.0,9,   -999.0,9,   -999.0,9,  -999.00,9,  4.4605, -999.00,9, 1197.0,2, -999.00,9
35LLETAMBOT1_1,  AR04,    48,  1,     14,   14.0,2,19950922,2151,  0.9865, -35.0012,   15,   1397.8,2,   4.5240,2,  34.9196,2,  34.9409,2,    207.1,2,    213.9,3,    19.44,2,    22.77,2,     0.00,2,     1.54,2,    0.090,2,    0.043,2,   -999.0,9,   -999.0,9,   -999.0,9,  -999.00,9,  4.4076, -999.00,9, 1400.0,2, -999.00,9
35LLETAMBOT1_1,  AR04,    48,  1,     13,   13.0,2,19950922,2151,  0.9865, -35.0012,   15,   1497.6,2,   4.2988,2,  34.9764,2,  34.9813,2,    232.3,2,    237.4,2,    16.93,2,    20.01,2,     0.00,2,     1.35,2,    0.132,2,    0.061,2,   -999.0,9,   -999.0,9,   -999.0,9,  -999.00,9,  4.1754, -999.00,9, 1499.0,2, -999.00,9
35LLETAMBOT1_1,  AR04,    48,  1,     12,   12.0,2,19950922,2151,  0.9865, -35.0012,   15,   1597.4,2,   4.0451,2,  34.9823,2,  34.9829,2,    243.9,2,    244.9,2,    16.66,2,    19.33,2,     0.00,2,     1.30,2,    0.123,2,    0.061,2,   -999.0,9,   -999.0,9,   -999.0,9,  -999.00,9,  3.9154, -999.00,9, 1599.0,2, -999.00,9
35LLETAMBOT1_1,  AR04,    48,  1,     11,   11.0,2,19950922,2151,  0.9865, -35.0012,   15,   1697.9,2,   3.9447,2,  34.9789,2,  34.9780,2,    245.3,2,    244.9,2,    17.37,2,    19.28,2,     0.00,2,     1.31,2,    0.090,2,    0.043,2,   -999.0,9,   -999.0,9,   -999.0,9,  -999.00,9,  3.8069, -999.00,9, 1699.0,2, -999.00,9
35LLETAMBOT1_1,  AR04,    48,  1,     10,   10.0,2,19950922,2151,  0.9865, -35.0012,   15,   1796.4,2,   3.8568,2,  34.9802,2,  34.9800,2,    249.4,2,    248.6,2,    17.25,2,    19.10,2,     0.00,2,     1.27,2,    0.106,2,    0.051,2,   -999.0,9,   -999.0,9,   -999.0,9,  -999.00,9,  3.7109, -999.00,9, 1798.0,2, -999.00,9
35LLETAMBOT1_1,  AR04,    48,  1,      9,    9.0,2,19950922,2151,  0.9865, -35.0012,   15,   1998.5,2,   3.6451,2,  34.9785,2,  34.9798,2,    256.3,2,    255.8,2,    17.65,2,    18.42,2,     0.00,2,     1.23,2,    0.106,2,    0.056,2,   -999.0,9,   -999.0,9,   -999.0,9,  -999.00,9,  3.4829, -999.00,9, 2000.0,2, -999.00,9
35LLETAMBOT1_1,  AR04,    48,  1,      8,    8.0,2,19950922,2151,  0.9865, -35.0012,   15,   2399.4,2,   3.0864,2,  34.9478,2,  34.9472,2,    253.6,2,    253.9,2,    25.08,2,    19.20,2,     0.00,2,     1.30,2,    0.039,2,    0.021,2,   -999.0,9,   -999.0,9,   -999.0,9,  -999.00,9,  2.8947, -999.00,9, 2401.0,2, -999.00,9
35LLETAMBOT1_1,  AR04,    48,  1,      7,    7.0,2,19950922,2151,  0.9865, -35.0012,   15,   2598.9,2,   2.9889,2,  34.9443,2,  34.9426,2,    255.9,2,    256.4,2,    25.50,2,    18.95,2,     0.00,2,     1.28,2,    0.042,2,    0.024,2,   -999.0,9,   -999.0,9,   -999.0,9,  -999.00,9,  2.7794, -999.00,9, 2601.0,2, -999.00,9
35LLETAMBOT1_1,  AR04,    48,  1,      6,    6.0,2,19950922,2151,  0.9865, -35.0012,   15,   2800.1,2,   2.8388,2,  34.9322,2,  34.9330,2,    253.9,2,    254.9,2,    28.45,2,    19.50,2,     0.00,2,     1.32,2,    0.025,2,    0.017,2,   -999.0,9,   -999.0,9,   -999.0,9,  -999.00,9,  2.6121, -999.00,9, 2802.0,2, -999.00,9
35LLETAMBOT1_1,  AR04,    48,  1,      5,    5.0,2,19950922,2151,  0.9865, -35.0012,   15,   2998.1,2,   2.7118,2,  34.9253,2,  34.9236,2,    255.3,2,    255.4,2,    30.19,2,    19.48,2,     0.00,2,     1.32,2,    0.032,2,    0.020,2,   -999.0,9,   -999.0,9,   -999.0,9,  -999.00,9,  2.4675, -999.00,9, 3000.0,2, -999.00,9
35LLETAMBOT1_1,  AR04,    48,  1,      4,    4.0,2,19950922,2151,  0.9865, -35.0012,   15,   2998.7,2,   2.7113,2,  34.9253,2,  34.9249,2,    255.3,2,    255.6,2,    30.16,2,    19.51,2,     0.00,2,     1.32,2,    0.029,2,    0.018,2,   -999.0,9,   -999.0,9,   -999.0,9,  -999.00,9,  2.4670, -999.00,9, 3000.0,2, -999.00,9
35LLETAMBOT1_1,  AR04,    48,  1,      3,    3.0,2,19950922,2151,  0.9865, -35.0012,   15,   3200.8,2,   2.5802,2,  34.9160,2,  34.9140,2,    255.2,2,    255.9,2,    32.68,2,    19.65,2,     0.00,2,     1.34,2,    0.034,2,    0.020,2,   -999.0,9,   -999.0,9,   -999.0,9,  -999.00,9,  2.3178, -999.00,9, 3202.0,2, -999.00,9
35LLETAMBOT1_1,  AR04,    48,  1,      2,    2.0,2,19950922,2151,  0.9865, -35.0012,   15,   3398.7,2,   2.5215,2,  34.9120,2,  34.9098,2,    257.0,2,    257.2,2,    32.72,2,    19.55,2,     0.00,2,     1.33,2,    0.040,2,    0.026,2,   -999.0,9,   -999.0,9,   -999.0,9,  -999.00,9,  2.2395, -999.00,9, 3400.0,2, -999.00,9
35LLETAMBOT1_1,  AR04,    48,  1,      1,    1.0,2,19950922,2151,  0.9865, -35.0012,   15,   3602.6,2,   2.3879,2,  34.9029,2,  34.9021,2,    257.7,2,    259.1,2,    34.34,2,    19.42,2,     0.00,2,     1.33,2,    0.068,2,    0.042,2,   -999.0,9,   -999.0,9,   -999.0,9,  -999.00,9,  2.0872, -999.00,9, 3604.0,2, -999.00,9
35LLETAMBOT1_1,  AR04,    49,  1,     22,   22.0,2,19950923,0306,  0.6693, -34.9977,   15,      4.3,2,  27.6607,2,  35.9179,2,  35.9222,2,    196.8,2,    196.3,2,     1.00,2,     0.72,2,     0.00,2,     0.00,2, -999.000,9, -999.000,9,   1999.0,2,    360.8,2,   2379.9,2,     8.08,2, 27.6597,    0.08,2,    6.0,2,    0.02,2
35LLETAMBOT1_1,  AR04,    49,  1,     21,   21.0,2,19950923,0306,  0.6693, -34.9977,   15,     75.2,2,  25.7401,2,  36.1255,2,  36.1322,2,    193.5,2,    177.6,2,     1.48,2,     2.69,2,     0.10,2,     0.17,2, -999.000,9, -999.000,9,   2062.5,2,   -999.0,9,   2403.1,2,     8.04,2, 25.7234, -999.00,9,   77.0,2, -999.00,9
35LLETAMBOT1_1,  AR04,    49,  1,     20,   20.0,2,19950923,0306,  0.6693, -34.9977,   15,    148.9,2,  15.1944,2,  35.5650,2,  35.6197,2,    154.0,2,    154.6,2,     5.81,2,    14.56,2,     0.02,2,     0.96,2, -999.000,9, -999.000,9,   2140.6,2,   -999.0,9,   2364.1,2,     8.02,2, 15.1716, -999.00,9,  151.0,2, -999.00,9
35LLETAMBOT1_1,  AR04,    49,  1,     19,   19.0,2,19950923,0306,  0.6693, -34.9977,   15,    395.8,2,   9.1866,2,  34.8251,2,  34.8270,2,    113.2,2,    116.1,2,    15.49,2,    29.36,2,     0.00,2,     1.88,2, -999.000,9, -999.000,9,   2215.6,2,   -999.0,9,   2334.1,2,     7.87,2,  9.1427, -999.00,9,  397.0,2, -999.00,9
35LLETAMBOT1_1,  AR04,    49,  1,     18,   18.0,2,19950923,0306,  0.6693, -34.9977,   15,    595.4,2,   5.5760,2,  34.5157,2,  34.5226,2,    144.3,2,    140.4,2,    27.51,2,    33.91,2,     0.00,2,     2.26,2, -999.000,9, -999.000,9,   2203.7,2,   -999.0,9,   2303.9,2,     7.87,2,  5.5255, -999.00,9,  597.0,2, -999.00,9
35LLETAMBOT1_1,  AR04,    49,  1,     17,   17.0,2,19950923,0306,  0.6693, -34.9977,   15,    996.7,2,   4.5544,2,  34.6562,2,  34.6606,2,    162.8,2,    163.3,2,    32.19,2,    32.10,2,     0.00,2,     2.17,2,    0.031,2,    0.011,2,   2206.2,2,   -999.0,9,   2315.0,2,     7.89,2,  4.4745, -999.00,9,  998.0,2, -999.00,9
35LLETAMBOT1_1,  AR04,    49,  1,     16,   16.0,2,19950923,0306,  0.6693, -34.9977,   15,   1295.5,2,   4.5412,2,  34.8852,2,  34.8834,2,    197.5,2,    196.8,2,    24.18,2,    26.01,2,     0.00,2,     1.74,2,    0.048,2,    0.021,2,   2195.8,2,   -999.0,9,   2333.3,2,     7.96,2,  4.4342, -999.00,9, 1297.0,2, -999.00,9
35LLETAMBOT1_1,  AR04,    49,  1,     15,   15.0,2,19950923,0306,  0.6693, -34.9977,   15,   1596.4,2,   4.0087,2,  34.9810,2,  34.9837,2,    245.0,2,    243.0,2,    18.16,2,    20.49,2,     0.00,2,     1.33,2,    0.125,2,    0.054,2,   2161.7,2,   -999.0,9,   2325.7,2,     8.02,2,  3.8795, -999.00,9, 1598.0,2, -999.00,9
35LLETAMBOT1_1,  AR04,    49,  1,     14,   14.0,2,19950923,0306,  0.6693, -34.9977,   15,   1696.4,2,   3.9407,2,  34.9807,2,  34.9822,2,    246.9,2,    246.2,2,    18.59,2,    20.26,2,     0.00,2,     1.31,2,    0.106,2,    0.045,2,   2145.7,2,   -999.0,9,   2310.5,2,     8.02,2,  3.8030, -999.00,9, 1698.0,2, -999.00,9
35LLETAMBOT1_1,  AR04,    49,  1,     13,   13.0,2,19950923,0306,  0.6693, -34.9977,   15,   1796.8,2,   3.8571,2,  34.9773,2,  34.9784,2,    247.8,2,    247.4,2,    19.49,2,    20.33,2,     0.00,2,     1.31,2,    0.093,2,    0.040,2,   2154.2,2,   -999.0,9,   2320.9,2,     8.02,2,  3.7111, -999.00,9, 1798.0,2, -999.00,9
35LLETAMBOT1_1,  AR04,    49,  1,     12,   12.0,2,19950923,0306,  0.6693, -34.9977,   15,   1996.4,2,   3.6877,2,  34.9794,2,  34.9813,2,    255.6,2,    253.2,2,    18.89,2,    19.64,2,     0.00,2,     1.26,2,    0.142,2,    0.065,2,   2162.1,2,   -999.0,9,   2332.7,2,     8.03,2,  3.5251, -999.00,9, 1998.0,2, -999.00,9
35LLETAMBOT1_1,  AR04,    49,  1,     11,   11.0,2,19950923,0306,  0.6693, -34.9977,   15,   2397.0,2,   3.1278,2,  34.9507,2,  34.9515,2,    254.6,2,    255.8,2,    26.93,2,    20.22,2,     0.00,2,     1.31,2,    0.043,2,    0.015,2,   2185.6,2,   -999.0,9,   2356.9,2,     8.02,2,  2.9356, -999.00,9, 2399.0,2, -999.00,9
35LLETAMBOT1_1,  AR04,    49,  1,     10,   10.0,2,19950923,0306,  0.6693, -34.9977,   15,   2795.6,2,   2.8148,2,  34.9310,2,  34.9311,2,    254.1,2,    255.4,2,    32.23,2,    20.62,2,     0.00,2,     1.33,2,    0.042,2,    0.015,2,   2207.0,3,   -999.0,9,   2376.9,3,     8.00,2,  2.5890, -999.00,9, 2797.0,2, -999.00,9
35LLETAMBOT1_1,  AR04,    49,  1,      9,    9.0,2,19950923,0306,  0.6693, -34.9977,   15,   2995.7,2,   2.6950,2,  34.9229,2,  34.9234,2,    254.8,2,    254.5,2,    34.68,2,    20.79,2,     0.00,2,     1.35,2,    0.027,2,    0.014,2,   2197.7,3,   -999.0,9,   2368.0,3,     8.00,2,  2.4513, -999.00,9, 2997.0,2, -999.00,9
35LLETAMBOT1_1,  AR04,    49,  1,      8,    8.0,2,19950923,0306,  0.6693, -34.9977,   15,   3297.1,2,   2.5654,2,  34.9145,2,  34.9147,2,    256.2,2,    256.1,2,    36.09,2,    20.67,2,     0.00,2,     1.35,2,    0.047,2,    0.015,2,   2187.1,2,   -999.0,9,   2357.8,2,     7.99,2,  2.2932, -999.00,9, 3299.0,2, -999.00,9
35LLETAMBOT1_1,  AR04,    49,  1,      7,    7.0,2,19950923,0306,  0.6693, -34.9977,   15,   3602.2,2,   2.3802,2,  34.9017,2,  34.9018,2,    259.6,2,    258.3,2,    38.52,2,    20.51,2,     0.00,2,     1.35,2,    0.069,2,    0.030,2,   2190.0,2,   -999.0,9,   2359.1,2,     7.98,2,  2.0797, -999.00,9, 3603.0,2, -999.00,9
35LLETAMBOT1_1,  AR04,    49,  1,      5,    5.0,2,19950923,0306,  0.6693, -34.9977,   15,   3798.7,2,   2.3295,2,  34.8993,2,  34.8968,2,    261.6,2,    260.4,2,    38.50,2,    20.16,2,     0.00,2,     1.34,2,    0.094,2,    0.045,2,   2170.9,2,   -999.0,9,   2340.3,2,     7.97,2,  2.0087, -999.00,9, 3800.0,2, -999.00,9
35LLETAMBOT1_1,  AR04,    49,  1,      6,    6.0,2,19950923,0306,  0.6693, -34.9977,   15,   3798.7,2,   2.3295,2,  34.8993,2,  34.8962,2,    261.6,2,    260.0,2,    38.63,2,    20.31,2,     0.00,2,     1.34,2,    0.092,2,    0.045,2,   2169.7,2,   -999.0,9,   2338.4,2,     7.97,2,  2.0087, -999.00,9, 3800.0,2, -999.00,9
35LLETAMBOT1_1,  AR04,    49,  1,      4,    4.0,2,19950923,0306,  0.6693, -34.9977,   15,   4000.6,2,   2.2244,2,  34.8879,2,  34.8851,2,    260.7,2,    259.3,2,    42.08,2,    19.77,2,     0.00,2,     1.39,2,    0.101,2,    0.046,2,   2166.9,2,   -999.0,9,   2334.5,2,     7.96,2,  1.8838, -999.00,9, 4002.0,2, -999.00,9
35LLETAMBOT1_1,  AR04,    49,  1,      3,    3.0,2,19950923,0306,  0.6693, -34.9977,   15,   4200.9,2,   1.4566,2,  34.8004,2,  34.7973,2,    241.3,2,    238.8,2,    79.09,2,    25.30,2,     0.00,2,     1.81,2,    0.032,2,    0.015,2,   2202.8,2,   -999.0,9,   2350.1,2,     7.91,2,  1.1161, -999.00,9, 4202.0,2, -999.00,9
35LLETAMBOT1_1,  AR04,    49,  1,      2,    2.0,2,19950923,0306,  0.6693, -34.9977,   15,   4399.8,2,   1.0610,2,  34.7548,2,  34.7519,2,    230.4,2,    229.5,2,    99.54,2,    27.99,2,     0.00,2,     2.00,2,    0.019,2,    0.005,2,   2222.7,2,   -999.0,9,   2362.2,2,     7.89,2,  0.7105, -999.00,9, 4401.0,2, -999.00,9
35LLETAMBOT1_1,  AR04,    49,  1,      1,    1.0,2,19950923,0306,  0.6693, -34.9977,   15,   4602.0,2,   0.9550,2,  34.7409,2,  34.7399,2,    228.5,2,    227.1,2,   106.14,2,    28.77,2,     0.00,2,     2.06,2,    0.031,2,    0.029,2,   2251.0,2,   -999.0,9,   2386.1,2,     7.87,2,  0.5851, -999.00,9, 4603.0,2, -999.00,9