BOTTLE,20220929CCHSIOAMB
EXPOCODE,SECT_ID,STNNBR,CASTNO,SAMPNO,BTLNBR,BTLNBR_FLAG_W,DATE,TIME,LATITUDE,LONGITUDE,DEPTH,CTDPRS,CTDPRS_FLAG_W,CTDTMP,CTDTMP_FLAG_W,CTDSAL,CTDSAL_FLAG_W,SALNTY,SALNTY_FLAG_W,CTDOXY,CTDOXY_FLAG_W,OXYGEN,OXYGEN_FLAG_W,SILCAT,SILCAT_FLAG_W,NITRAT,NITRAT_FLAG_W,NITRIT,NITRIT_FLAG_W,PHSPHT,PHSPHT_FLAG_W,CFC-11,CFC-11_FLAG_W,CFC-12,CFC-12_FLAG_W,TCARBN,TCARBN_FLAG_W,PCO2,PCO2_FLAG_W,ALKALI,ALKALI_FLAG_W,PH,PH_FLAG_W,THETA,CHLORA,CHLORA_FLAG_W,CTDRAW,CTDRAW_FLAG_W,PPHYTN,PPHYTN_FLAG_W
,,,,,,,,,,,,DBAR,,DEG C,,PSS-78,,PSS-78,,UMOL/KG,,UMOL/KG,,UMOL/KG,,UMOL/KG,,UMOL/KG,,UMOL/KG,,PMOL/KG,,PMOL/KG,,UMOL/KG,,UATM,,UMOL/KG,,,,DEG C,UG/L,,DBAR,,UG/L,
35LLETAMBOT1_1,  AR15,    10,  1,     22,   22.0,2,19950911,0754,  6.8647, -50.5390,   20,      0.6,2,  29.6545,2,  31.0470,2,  29.9710,2,    212.5,2,    208.1,2,    10.58,2,     0.03,2,     0.00,2,     0.00,2, -999.000,9, -999.000,9,   1680.9,2,   -999.0,9,   2081.7,2,     8.22,2, 29.6544,    0.05,2,    3.0,2,    0.05,2
35LLETAMBOT1_1,  AR15,    10,  1,     21,   21.0,2,19950911,0754,  6.8647, -50.5390,   20,     49.0,2,  26.9635,2,  36.2066,2,  36.2377,2,    197.1,2,    195.5,2,     0.75,2,     0.08,2,     0.11,2,     0.07,2, -999.000,9, -999.000,9,   2035.3,2,   -999.0,9,   2416.1,2,     8.08,2, 26.9522, -999.00,9,   51.0,2, -999.00,9
35LLETAMBOT1_1,  AR15,    10,  1,     20,   20.0,2,19950911,0754,  6.8647, -50.5390,   20,    178.4,2,  15.2844,2,  35.5147,2,  35.5055,2,    161.8,2,    162.3,2,     5.19,2,    13.53,2,     0.02,2,     0.98,2, -999.000,9, -999.000,9,   2117.7,2,   -999.0,9,   2343.1,2,     8.03,2, 15.2569, -999.00,9,  180.0,2, -999.00,9
35LLETAMBOT1_1,  AR15,    10,  1,     19,   19.0,2,19950911,0754,  6.8647, -50.5390,   20,    297.6,2,  10.8038,2,  34.9793,2,  34.9540,2,    139.8,2,    151.2,2,    10.15,2,    21.93,2,     0.01,2,     1.50,2, -999.000,9, -999.000,9,   2160.5,2,   -999.0,9,   2323.4,2,     7.96,2, 10.7674, -999.00,9,  299.0,2, -999.00,9
35LLETAMBOT1_1,  AR15,    10,  1,     18,   18.0,2,19950911,0754,  6.8647, -50.5390,   20,    497.5,2,   8.0190,2,  34.6940,2,  34.9540,3,    147.9,2,    145.8,2,    16.73,2,    28.04,2,     0.00,2,     1.90,2, -999.000,9, -999.000,9,   2159.4,3,   -999.0,9,   2287.2,3,     7.91,2,  7.9678, -999.00,9,  499.0,2, -999.00,9
35LLETAMBOT1_1,  AR15,    10,  1,     17,   17.0,2,19950911,0754,  6.8647, -50.5390,   20,    997.0,2,   4.8969,2,  34.6679,2,  34.6957,2,    151.6,2,    151.6,2,    28.73,2,    31.54,2,     0.00,2,     2.18,2,    0.012,2,    0.003,2,   2209.9,2,   -999.0,9,   2317.5,2,     7.88,2,  4.8144, -999.00,9,  998.0,2, -999.00,9
35LLETAMBOT1_1,  AR15,    10,  1,     16,   16.0,2,19950911,0754,  6.8647, -50.5390,   20,   1296.0,2,   4.8401,2,  34.9372,2,  34.9375,2,    200.1,2,    199.0,2,    20.65,2,    24.09,2,     0.00,2,     1.64,2,    0.114,2,    0.043,2,   2180.7,2,   -999.0,9,   2323.5,2,     7.96,2,  4.7300, -999.00,9, 1297.0,2, -999.00,9
35LLETAMBOT1_1,  AR15,    10,  1,     15,   15.0,2,19950911,0754,  6.8647, -50.5390,   20,   1495.7,2,   4.4802,2,  34.9866,2,  34.9870,2,    229.6,2,    229.5,2,    16.93,2,    20.71,2,     0.00,2,     1.41,2,    0.156,2,    0.075,2,   2143.8,3,   -999.0,9,   2303.8,3,     8.01,2,  4.3550, -999.00,9, 1497.0,2, -999.00,9
35LLETAMBOT1_1,  AR15,    10,  1,     14,   14.0,2,19950911,0754,  6.8647, -50.5390,   20,   1595.8,2,   4.2718,2,  34.9943,2,  34.9936,2,    241.5,2,    241.5,2,    15.91,2,    19.54,2,     0.01,2,     1.33,2,    0.188,2,    0.085,2,   2119.0,3,   -999.0,9,   2283.2,3,     8.02,2,  4.1395, -999.00,9, 1597.0,2, -999.00,9
35LLETAMBOT1_1,  AR15,    10,  1,     13,   13.0,2,19950911,0754,  6.8647, -50.5390,   20,   1696.3,2,   4.1636,2,  34.9993,2,  35.0000,2,    248.9,2,    250.1,2,    14.78,2,    18.59,2,     0.01,2,     1.25,2,    0.310,2,    0.139,2,   2136.7,3,   -999.0,9,   2305.7,3,     8.03,2,  4.0231, -999.00,9, 1698.0,2, -999.00,9
35LLETAMBOT1_1,  AR15,    10,  1,     12,   12.0,2,19950911,0754,  6.8647, -50.5390,   20,   1795.8,2,   4.0633,2,  34.9964,2,  34.9960,2,    252.0,2,    252.9,2,    14.87,2,    18.46,2,     0.00,2,     1.25,2,    0.281,2,    0.133,2,   2130.1,3,   -999.0,9,   2300.5,3,     8.03,2,  3.9146, -999.00,9, 1797.0,2, -999.00,9
35LLETAMBOT1_1,  AR15,    10,  1,     11,   11.0,2,19950911,0754,  6.8647, -50.5390,   20,   1896.7,2,   3.8249,2,  34.9906,2,  34.9910,2,    256.7,2,    257.0,2,    15.82,2,    18.17,2,     0.01,2,     1.23,2,    0.210,2,    0.100,2,   2130.1,3,   -999.0,9,   2303.1,3,     8.04,2,  3.6698, -999.00,9, 1898.0,2, -999.00,9
35LLETAMBOT1_1,  AR15,    10,  1,     10,   10.0,2,19950911,0754,  6.8647, -50.5390,   20,   1997.9,2,   3.6329,2,  34.9778,2,  34.9766,2,    253.4,2,    254.3,2,    18.38,2,    18.77,2,     0.01,2,     1.28,2,    0.070,2,    0.036,2,   2134.4,3,   -999.0,9,   2305.8,3,     8.03,2,  3.4710, -999.00,9, 1999.0,2, -999.00,9
35LLETAMBOT1_1,  AR15,    10,  1,      9,    9.0,2,19950911,0754,  6.8647, -50.5390,   20,   2397.9,2,   3.1454,2,  34.9575,2,  34.9568,2,    259.1,2,    259.6,2,    21.90,2,    18.52,2,     0.00,2,     1.27,2,    0.083,2,    0.040,2,   2147.2,3,   -999.0,9,   2321.5,3,     8.03,2,  2.9528, -999.00,9, 2399.0,2, -999.00,9
35LLETAMBOT1_1,  AR15,    10,  1,      7,    7.0,2,19950911,0754,  6.8647, -50.5390,   20,   2598.0,2,   2.9485,2,  34.9472,2,  34.9423,2,    257.8,2,    257.8,2,    25.22,2,    18.83,2,     0.00,2,     1.30,2,    0.127,2,    0.060,2,   2151.7,3,   -999.0,9,   2325.2,3,     8.02,2,  2.7398, -999.00,9, 2601.0,2, -999.00,9
35LLETAMBOT1_1,  AR15,    10,  1,      8,    8.0,2,19950911,0754,  6.8647, -50.5390,   20,   2598.5,2,   2.9506,2,  34.9466,2,  34.9436,2,    257.9,2,    258.2,2,    25.14,2,    18.83,2,     0.00,2,     1.30,2,    0.056,2,    0.028,2,   2136.2,3,   -999.0,9,   2308.2,3,     8.02,2,  2.7418, -999.00,9, 2600.0,2, -999.00,9
35LLETAMBOT1_1,  AR15,    10,  1,      6,    6.0,2,19950911,0754,  6.8647, -50.5390,   20,   2798.1,2,   2.7973,2,  34.9370,2,  34.9336,2,    259.4,2,    259.6,2,    27.20,2,    18.86,2,     0.00,2,     1.30,2,    0.083,2,    0.039,2,   2143.0,3,   -999.0,9,   2316.1,3,     8.02,2,  2.5716, -999.00,9, 2799.0,2, -999.00,9
35LLETAMBOT1_1,  AR15,    10,  1,      5,    5.0,2,19950911,0754,  6.8647, -50.5390,   20,   2999.2,2,   2.6905,2,  34.9301,2,  34.9269,2,    259.3,2,    260.7,2,    28.73,2,    18.93,2,     0.00,2,     1.31,2,    0.106,2,    0.049,2,   2156.0,3,   -999.0,9,   2328.8,3,     8.01,2,  2.4465, -999.00,9, 3001.0,2, -999.00,9
35LLETAMBOT1_1,  AR15,    10,  1,      4,    4.0,2,19950911,0754,  6.8647, -50.5390,   20,   3299.8,2,   2.4895,2,  34.9167,2,  34.9112,2,    263.3,2,    263.2,2,    29.17,2,    18.59,2,     0.00,2,     1.29,2,    0.174,2,    0.073,2,   -999.0,5,   -999.0,9,   -999.0,5,  -999.00,5,  2.2188, -999.00,9, 3301.0,2, -999.00,9
35LLETAMBOT1_1,  AR15,    10,  1,      3,    3.0,2,19950911,0754,  6.8647, -50.5390,   20,   3600.0,2,   2.3302,2,  34.9064,2,  34.9029,2,    266.2,2,    265.9,2,    29.91,2,    18.37,2,     0.00,2,     1.28,2,    0.210,2,    0.096,2,   -999.0,5,   -999.0,9,   -999.0,5,  -999.00,5,  2.0312, -999.00,9, 3601.0,2, -999.00,9
35LLETAMBOT1_1,  AR15,    10,  1,      2,    2.0,2,19950911,0754,  6.8647, -50.5390,   20,   3799.7,2,   2.2933,2,  34.9019,2,  34.8995,2,    265.9,2,    265.6,2,    31.74,2,    18.48,2,     0.00,2,     1.29,2,    0.220,2,    0.099,2,   -999.0,5,   -999.0,9,   -999.0,5,  -999.00,5,  1.9733, -999.00,9, 3801.0,2, -999.00,9
35LLETAMBOT1_1,  AR15,    10,  1,      1,    1.0,2,19950911,0754,  6.8647, -50.5390,   20,   4022.2,2,   2.2984,2,  34.9014,2,  34.8977,2,    265.7,2,    264.8,2,    32.52,2,    18.56,2,     0.01,2,     1.30,2,    0.214,2,    0.114,2,   -999.0,5,   -999.0,9,   -999.0,5,  -999.00,5,  1.9532, -999.00,9, 4023.0,2, -999.00,9
35LLETAMBOT1_1,  AR15,    11,  1,     22,   22.0,2,19950911,1433,  7.1750, -50.2722,   20,     -0.3,2,  29.7794,2,  32.9560,2,  31.5468,2,    207.6,2,    207.6,2,     7.86,2,     0.31,2,     0.00,2,     0.00,2, -999.000,9, -999.000,9,   -999.0,9,   -999.0,9,   -999.0,9,  -999.00,9, 29.7795,    0.08,2,    1.0,2,    0.04,2
35LLETAMBOT1_1,  AR15,    11,  1,     21,   21.0,2,19950911,1433,  7.1750, -50.2722,   20,     74.5,2,  26.6713,2,  36.4245,2,  36.4644,2,    205.1,2,    205.2,2,     0.60,2,     0.31,2,     0.00,2,     0.00,2, -999.000,9, -999.000,9,   -999.0,9,   -999.0,9,   -999.0,9,  -999.00,9, 26.6543, -999.00,9,   75.0,2, -999.00,9
35LLETAMBOT1_1,  AR15,    11,  1,     20,   20.0,2,19950911,1433,  7.1750, -50.2722,   20,    148.9,2,  17.6787,2,  35.6885,2,  35.7623,2,    158.2,2,    157.7,2,     4.77,2,    12.19,2,     0.01,2,     0.85,2, -999.000,9, -999.000,9,   -999.0,9,   -999.0,9,   -999.0,9,  -999.00,9, 17.6534, -999.00,9,  150.0,2, -999.00,9
35LLETAMBOT1_1,  AR15,    11,  1,     19,   19.0,2,19950911,1433,  7.1750, -50.2722,   20,    298.2,2,  10.9621,2,  35.0815,2,  35.2302,2,    127.6,2,    112.2,2,    10.73,2,    24.89,2,     0.01,2,     1.58,2, -999.000,9, -999.000,9,   -999.0,9,   -999.0,9,   -999.0,9,  -999.00,9, 10.9252, -999.00,9,  300.0,2, -999.00,9
35LLETAMBOT1_1,  AR15,    11,  1,     18,   18.0,2,19950911,1433,  7.1750, -50.2722,   20,    498.0,2,   8.1693,2,  34.7674,2,  34.7411,2,    124.0,2,    125.5,2,    17.71,2,    30.60,2,     0.00,2,     2.00,2, -999.000,9, -999.000,9,   -999.0,9,   -999.0,9,   -999.0,9,  -999.00,9,  8.1175, -999.00,9,  500.0,2, -999.00,9
35LLETAMBOT1_1,  AR15,    11,  1,     17,   17.0,2,19950911,1433,  7.1750, -50.2722,   20,    997.4,2,   4.9131,2,  34.6948,2,  34.7503,2,    156.8,2,    154.6,2,    26.96,2,    31.08,2,     0.00,2,     2.11,2,    0.031,2,    0.004,2,   -999.0,9,   -999.0,9,   -999.0,9,  -999.00,9,  4.8304, -999.00,9,  999.0,2, -999.00,9
35LLETAMBOT1_1,  AR15,    11,  1,     16,   16.0,2,19950911,1433,  7.1750, -50.2722,   20,   1296.7,2,   4.8208,2,  34.9434,2,  34.9585,2,    205.2,2,    207.1,2,    19.24,2,    23.44,2,     0.00,2,     1.57,2,    0.162,2,    0.068,2,   -999.0,9,   -999.0,9,   -999.0,9,  -999.00,9,  4.7108, -999.00,9, 1298.0,2, -999.00,9
35LLETAMBOT1_1,  AR15,    11,  1,     15,   15.0,2,19950911,1433,  7.1750, -50.2722,   20,   1597.0,2,   4.2884,2,  35.0027,2,  35.0040,2,    245.9,2,    245.8,2,    14.82,2,    19.28,2,     0.00,2,     1.28,2,    0.321,2,    0.154,2,   -999.0,9,   -999.0,9,   -999.0,9,  -999.00,9,  4.1558, -999.00,9, 1599.0,2, -999.00,9
35LLETAMBOT1_1,  AR15,    11,  1,     14,   14.0,2,19950911,1433,  7.1750, -50.2722,   20,   1697.6,2,   4.1777,2,  34.9981,2,  34.9990,2,    248.6,2,    248.4,2,    15.08,2,    19.20,2,     0.00,2,     1.26,2,    0.255,2,    0.124,2,   -999.0,9,   -999.0,9,   -999.0,9,  -999.00,9,  4.0369, -999.00,9, 1699.0,2, -999.00,9
35LLETAMBOT1_1,  AR15,    11,  1,     13,   13.0,2,19950911,1433,  7.1750, -50.2722,   20,   1798.4,2,   3.9478,2,  34.9900,2,  34.9915,2,    251.8,2,    251.8,2,    15.85,2,    19.12,2,     0.00,2,     1.26,2,    0.139,2,    0.069,2,   -999.0,9,   -999.0,9,   -999.0,9,  -999.00,9,  3.8004, -999.00,9, 1800.0,2, -999.00,9
35LLETAMBOT1_1,  AR15,    11,  1,     12,   12.0,2,19950911,1433,  7.1750, -50.2722,   20,   1897.7,2,   3.7949,2,  34.9881,2,  34.9876,2,    257.0,2,    256.2,2,    16.10,2,    18.79,2,     0.00,2,     1.24,2,    0.197,2,    0.097,2,   -999.0,9,   -999.0,9,   -999.0,9,  -999.00,9,  3.6402, -999.00,9, 1900.0,2, -999.00,9
35LLETAMBOT1_1,  AR15,    11,  1,     11,   11.0,2,19950911,1433,  7.1750, -50.2722,   20,   1998.4,2,   3.6364,2,  34.9825,2,  34.9834,2,    259.0,2,    258.4,2,    16.68,2,    18.58,2,     0.00,2,     1.22,2,    0.187,2,    0.092,2,   -999.0,9,   -999.0,9,   -999.0,9,  -999.00,9,  3.4744, -999.00,9, 2000.0,2, -999.00,9
35LLETAMBOT1_1,  AR15,    11,  1,     10,   10.0,2,19950911,1433,  7.1750, -50.2722,   20,   2399.1,2,   3.1181,2,  34.9560,2,  34.9556,2,    258.7,2,    259.4,2,    21.80,2,    19.03,2,     0.00,2,     1.26,2,    0.088,2,    0.043,2,   -999.0,9,   -999.0,9,   -999.0,9,  -999.00,9,  2.9259, -999.00,9, 2401.0,2, -999.00,9
35LLETAMBOT1_1,  AR15,    11,  1,      8,    8.0,2,19950911,1433,  7.1750, -50.2722,   20,   2599.2,2,   2.9540,2,  34.9459,2,  34.9440,2,    258.9,2,    258.9,2,    24.72,2,    19.32,2,     0.00,2,     1.27,2,    0.049,2,    0.026,2,   -999.0,9,   -999.0,9,   -999.0,9,  -999.00,9,  2.7451, -999.00,9, 2601.0,2, -999.00,9
35LLETAMBOT1_1,  AR15,    11,  1,      9,    9.0,2,19950911,1433,  7.1750, -50.2722,   20,   2599.2,2,   2.9540,2,  34.9459,2,  34.9455,2,    258.9,2,    258.7,2,    24.69,2,    19.29,2,     0.00,2,     1.28,2,    0.100,2,    0.055,2,   -999.0,9,   -999.0,9,   -999.0,9,  -999.00,9,  2.7451, -999.00,9, 2601.0,2, -999.00,9
35LLETAMBOT1_1,  AR15,    11,  1,      7,    7.0,2,19950911,1433,  7.1750, -50.2722,   20,   2797.9,2,   2.8207,2,  34.9366,2,  34.9362,2,    259.0,2,    259.3,2,    26.63,2,    19.46,2,     0.00,2,     1.29,2,    0.053,2,    0.029,2,   -999.0,9,   -999.0,9,   -999.0,9,  -999.00,9,  2.5945, -999.00,9, 2800.0,2, -999.00,9
35LLETAMBOT1_1,  AR15,    11,  1,      6,    6.0,2,19950911,1433,  7.1750, -50.2722,   20,   2997.1,2,   2.7189,2,  34.9297,2,  34.9282,2,    259.1,2,    259.2,2,    28.55,2,    19.66,2,     0.00,2,     1.30,2,    0.060,2,    0.031,2,   -999.0,9,   -999.0,9,   -999.0,9,  -999.00,9,  2.4746, -999.00,9, 2999.0,2, -999.00,9
35LLETAMBOT1_1,  AR15,    11,  1,      5,    5.0,2,19950911,1433,  7.1750, -50.2722,   20,   3298.3,2,   2.5183,2,  34.9151,2,  34.9141,2,    259.8,2,    260.1,2,    31.84,2,    19.78,2,     0.00,2,     1.31,2,    0.072,2,    0.036,2,   -999.0,9,   -999.0,9,   -999.0,9,  -999.00,9,  2.2471, -999.00,9, 3300.0,2, -999.00,9
35LLETAMBOT1_1,  AR15,    11,  1,      4,    4.0,2,19950911,1433,  7.1750, -50.2722,   20,   3599.3,2,   2.3629,2,  34.9066,2,  34.9050,2,    264.9,2,    265.8,2,    30.08,2,    19.17,2,     0.00,2,     1.27,2,    0.153,2,    0.076,2,   -999.0,9,   -999.0,9,   -999.0,9,  -999.00,9,  2.0632, -999.00,9, 3600.0,2, -999.00,9
35LLETAMBOT1_1,  AR15,    11,  1,      3,    3.0,2,19950911,1433,  7.1750, -50.2722,   20,   3798.6,2,   2.3066,2,  34.9024,2,  34.9002,2,    265.9,2,    265.9,2,    31.07,2,    19.08,2,     0.00,2,     1.27,2,    0.173,2,    0.084,2,   -999.0,9,   -999.0,9,   -999.0,9,  -999.00,9,  1.9864, -999.00,9, 3800.0,2, -999.00,9
35LLETAMBOT1_1,  AR15,    11,  1,      2,    2.0,2,19950911,1433,  7.1750, -50.2722,   20,   3998.5,2,   2.2607,2,  34.8971,2,  34.8949,2,    265.7,2,    264.7,2,    32.72,2,    19.31,2,     0.00,2,     1.30,2,    0.149,2,    0.076,2,   -999.0,9,   -999.0,9,   -999.0,9,  -999.00,9,  1.9193, -999.00,9, 4000.0,2, -999.00,9
35LLETAMBOT1_1,  AR15,    11,  1,      1,    1.0,2,19950911,1433,  7.1750, -50.2722,   20,   4199.7,2,   2.2312,2,  34.8918,2,  34.8904,2,    264.0,2,    257.5,2,    35.92,2,    19.77,2,     0.00,2,     1.34,2,    0.100,2,    0.065,2,   -999.0,9,   -999.0,9,   -999.0,9,  -999.00,9,  1.8676, -999.00,9, 4201.0,2, -999.00,9