BOTTLE,20220929CCHSIOAMB
EXPOCODE,SECT_ID,STNNBR,CASTNO,SAMPNO,BTLNBR,BTLNBR_FLAG_W,DATE,TIME,LATITUDE,LONGITUDE,DEPTH,CTDPRS,CTDPRS_FLAG_W,CTDTMP,CTDTMP_FLAG_W,CTDSAL,CTDSAL_FLAG_W,SALNTY,SALNTY_FLAG_W,CTDOXY,CTDOXY_FLAG_W,OXYGEN,OXYGEN_FLAG_W,SILCAT,SILCAT_FLAG_W,NITRAT,NITRAT_FLAG_W,NITRIT,NITRIT_FLAG_W,PHSPHT,PHSPHT_FLAG_W,CFC-11,CFC-11_FLAG_W,CFC-12,CFC-12_FLAG_W,TCARBN,TCARBN_FLAG_W,PCO2,PCO2_FLAG_W,ALKALI,ALKALI_FLAG_W,PH,PH_FLAG_W,THETA,CHLORA,CHLORA_FLAG_W,CTDRAW,CTDRAW_FLAG_W,PPHYTN,PPHYTN_FLAG_W
,,,,,,,,,,,,DBAR,,DEG C,,PSS-78,,PSS-78,,UMOL/KG,,UMOL/KG,,UMOL/KG,,UMOL/KG,,UMOL/KG,,UMOL/KG,,PMOL/KG,,PMOL/KG,,UMOL/KG,,UATM,,UMOL/KG,,,,DEG C,UG/L,,DBAR,,UG/L,
35LLETAMBOT1_1,  AR04,    44,  1,     22,   22.0,2,19950921,2152,  2.9963, -35.0012,   15,      2.0,2,  27.5439,2,  35.8410,2,  35.8396,2,    199.6,2,    200.6,2,     1.63,4,     0.21,2,     0.00,2,     0.00,2, -999.000,9, -999.000,9,   -999.0,9,    361.0,2,   -999.0,9,  -999.00,9, 27.5434,    0.09,2,    4.0,2,    0.02,2
35LLETAMBOT1_1,  AR04,    44,  1,     21,   21.0,2,19950921,2152,  2.9963, -35.0012,   15,     49.1,2,  27.3567,2,  35.8647,2,  35.8516,2,    198.3,2,    200.8,2,     1.57,4,     0.19,2,     0.00,2,     0.00,2, -999.000,9, -999.000,9,   -999.0,9,   -999.0,9,   -999.0,9,  -999.00,9, 27.3453, -999.00,9,   51.0,2, -999.00,9
35LLETAMBOT1_1,  AR04,    44,  1,     19,   19.0,2,19950921,2152,  2.9963, -35.0012,   15,    147.5,2,  16.1994,2,  35.5149,2,  35.6445,2,    138.5,2,    135.1,2,     5.73,4,    14.77,2,     0.03,2,     0.98,2, -999.000,9, -999.000,9,   -999.0,9,   -999.0,9,   -999.0,9,  -999.00,9, 16.1758, -999.00,9,  149.0,2, -999.00,9
35LLETAMBOT1_1,  AR04,    44,  1,     20,   20.0,2,19950921,2152,  2.9963, -35.0012,   15,    147.5,2,  16.1994,2,  35.5149,2,  35.6700,2,    138.5,2,    134.3,2,     5.71,4,    14.50,2,     0.03,2,     0.96,2, -999.000,9, -999.000,9,   -999.0,9,   -999.0,9,   -999.0,9,  -999.00,9, 16.1758, -999.00,9,  149.0,2, -999.00,9
35LLETAMBOT1_1,  AR04,    44,  1,     18,   18.0,2,19950921,2152,  2.9963, -35.0012,   15,    299.6,2,  11.6398,2,  35.0978,2,  35.0733,2,    124.9,2,    132.7,2,    10.01,4,    22.91,2,     0.00,2,     1.48,2, -999.000,9, -999.000,9,   -999.0,9,   -999.0,9,   -999.0,9,  -999.00,9, 11.6013, -999.00,9,  302.0,2, -999.00,9
35LLETAMBOT1_1,  AR04,    44,  1,     17,   17.0,2,19950921,2152,  2.9963, -35.0012,   15,    497.9,2,   8.3299,2,  34.7621,2,  34.7417,2,    113.5,2,    102.7,2,    18.87,4,    33.73,2,     0.00,2,     2.11,2, -999.000,9, -999.000,9,   -999.0,9,   -999.0,9,   -999.0,9,  -999.00,9,  8.2775, -999.00,9,  500.0,2, -999.00,9
35LLETAMBOT1_1,  AR04,    44,  1,     16,   16.0,2,19950921,2152,  2.9963, -35.0012,   15,    746.3,2,   5.2629,2,  34.5635,2,  34.5664,2,    137.2,2,    136.7,2,    29.56,4,    35.20,2,     0.00,2,     2.31,2,    0.016,2,    0.021,2,   -999.0,9,   -999.0,9,   -999.0,9,  -999.00,9,  5.2005, -999.00,9,  748.0,2, -999.00,9
35LLETAMBOT1_1,  AR04,    44,  1,     15,   15.0,2,19950921,2152,  2.9963, -35.0012,   15,    997.0,2,   4.6047,2,  34.6583,2,  34.6653,2,    156.9,2,    154.5,2,    30.92,4,    32.91,2,     0.00,2,     2.19,2,    0.020,2,    0.006,2,   -999.0,9,   -999.0,9,   -999.0,9,  -999.00,9,  4.5244, -999.00,9,  998.0,2, -999.00,9
35LLETAMBOT1_1,  AR04,    44,  1,     14,   14.0,2,19950921,2152,  2.9963, -35.0012,   15,   1296.0,2,   4.5869,2,  34.9095,2,  34.9217,2,    202.3,2,    203.8,2,    21.09,4,    24.70,2,     0.00,2,     1.61,2,    0.062,2,    0.024,2,   -999.0,9,   -999.0,9,   -999.0,9,  -999.00,9,  4.4794, -999.00,9, 1298.0,2, -999.00,9
35LLETAMBOT1_1,  AR04,    44,  1,     13,   13.0,2,19950921,2152,  2.9963, -35.0012,   15,   1496.6,2,   4.3206,2,  34.9688,2,  34.9724,2,    229.3,2,    229.0,2,    17.86,4,    21.73,2,     0.00,2,     1.40,2,    0.116,2,    0.049,2,   -999.0,9,   -999.0,9,   -999.0,9,  -999.00,9,  4.1971, -999.00,9, 1497.0,2, -999.00,9
35LLETAMBOT1_1,  AR04,    44,  1,     12,   12.0,2,19950921,2152,  2.9963, -35.0012,   15,   1595.9,2,   4.2094,2,  34.9783,2,  34.9803,2,    236.2,2,    237.2,2,    16.96,4,    20.87,2,     0.00,2,     1.35,2,    0.142,2,    0.056,2,   -999.0,9,   -999.0,9,   -999.0,9,  -999.00,9,  4.0779, -999.00,9, 1598.0,2, -999.00,9
35LLETAMBOT1_1,  AR04,    44,  1,     11,   11.0,2,19950921,2152,  2.9963, -35.0012,   15,   1697.1,2,   4.0313,2,  34.9822,2,  34.9821,2,    244.3,2,    243.0,2,    16.93,4,    20.36,2,     0.00,2,     1.31,2,    0.116,2,    0.051,2,   -999.0,9,   -999.0,9,   -999.0,9,  -999.00,9,  3.8924, -999.00,9, 1698.0,2, -999.00,9
35LLETAMBOT1_1,  AR04,    44,  1,     10,   10.0,2,19950921,2152,  2.9963, -35.0012,   15,   1796.8,2,   3.8925,2,  34.9830,2,  34.9834,2,    248.9,2,    248.6,2,    17.10,4,    19.84,2,     0.00,2,     1.27,2,    0.117,2,    0.054,2,   -999.0,9,   -999.0,9,   -999.0,9,  -999.00,9,  3.7460, -999.00,9, 1798.0,2, -999.00,9
35LLETAMBOT1_1,  AR04,    44,  1,      9,    9.0,2,19950921,2152,  2.9963, -35.0012,   15,   1996.4,2,   3.5952,2,  34.9770,2,  34.9737,2,    254.7,2,    251.6,2,    19.43,4,    19.71,2,     0.00,2,     1.28,2,    0.061,2,    0.032,2,   -999.0,9,   -999.0,9,   -999.0,9,  -999.00,9,  3.4340, -999.00,9, 1998.0,2, -999.00,9
35LLETAMBOT1_1,  AR04,    44,  1,      8,    8.0,2,19950921,2152,  2.9963, -35.0012,   15,   2197.1,2,   3.3827,2,  34.9649,2,  34.9650,2,    254.5,2,    255.2,2,    21.03,4,    19.58,2,     0.00,2,     1.27,2,    0.039,2,    0.017,2,   -999.0,9,   -999.0,9,   -999.0,9,  -999.00,9,  3.2056, -999.00,9, 2199.0,2, -999.00,9
35LLETAMBOT1_1,  AR04,    44,  1,      7,    7.0,2,19950921,2152,  2.9963, -35.0012,   15,   2396.6,2,   3.1774,2,  34.9572,2,  34.9560,2,    258.5,2,    258.3,2,    22.40,4,    19.32,2,     0.00,2,     1.26,2,    0.048,2,    0.025,2,   -999.0,9,   -999.0,9,   -999.0,9,  -999.00,9,  2.9844, -999.00,9, 2398.0,2, -999.00,9
35LLETAMBOT1_1,  AR04,    44,  1,      6,    6.0,2,19950921,2152,  2.9963, -35.0012,   15,   2598.8,2,   2.9548,2,  34.9411,2,  34.9389,2,    256.2,2,    255.4,2,    27.54,4,    19.99,2,     0.00,2,     1.31,2,    0.022,2,    0.010,2,   -999.0,9,   -999.0,9,   -999.0,9,  -999.00,9,  2.7459, -999.00,9, 2600.0,2, -999.00,9
35LLETAMBOT1_1,  AR04,    44,  1,      5,    5.0,2,19950921,2152,  2.9963, -35.0012,   15,   2799.5,2,   2.8051,2,  34.9288,2,  34.9263,2,    253.3,2,    252.8,2,    32.53,4,    20.61,2,     0.00,2,     1.35,2,    0.007,2,    0.006,2,   -999.0,9,   -999.0,9,   -999.0,9,  -999.00,9,  2.5791, -999.00,9, 2801.0,2, -999.00,9
35LLETAMBOT1_1,  AR04,    44,  1,      4,    4.0,2,19950921,2152,  2.9963, -35.0012,   15,   2998.8,2,   2.6883,2,  34.9189,2,  34.9172,2,    252.1,2,    252.4,2,    35.30,4,    20.88,2,     0.01,2,     1.37,2,    0.026,2,    0.005,2,   -999.0,9,   -999.0,9,   -999.0,9,  -999.00,9,  2.4445, -999.00,9, 3000.0,2, -999.00,9
35LLETAMBOT1_1,  AR04,    44,  1,      3,    3.0,2,19950921,2152,  2.9963, -35.0012,   15,   3299.0,2,   2.5454,2,  34.9115,2,  34.9090,2,    254.9,2,    255.8,2,    36.05,4,    20.56,2,     0.00,2,     1.37,2,    0.022,2,    0.013,2,   -999.0,9,   -999.0,9,   -999.0,9,  -999.00,9,  2.2735, -999.00,9, 3300.0,2, -999.00,9
35LLETAMBOT1_1,  AR04,    44,  1,      2,    2.0,2,19950921,2152,  2.9963, -35.0012,   15,   3599.0,2,   2.3566,2,  34.8965,2,  34.8952,2,    255.5,2,    255.2,2,    40.38,4,    20.79,2,     0.00,2,     1.40,2,    0.031,2,    0.018,2,   -999.0,9,   -999.0,9,   -999.0,9,  -999.00,9,  2.0571, -999.00,9, 3600.0,2, -999.00,9
35LLETAMBOT1_1,  AR04,    44,  1,      1,    1.0,2,19950921,2152,  2.9963, -35.0012,   15,   3844.6,2,   2.2509,2,  34.8857,2,  34.8848,2,    255.3,2,    254.5,2,    43.47,4,    21.05,2,     0.00,2,     1.42,2,    0.041,2,    0.023,2,   -999.0,9,   -999.0,9,   -999.0,9,  -999.00,9,  1.9272, -999.00,9, 3846.0,2, -999.00,9
35LLETAMBOT1_1,  AR04,    45,  1,     22,   22.0,2,19950922,0340,  2.5043, -35.0007,   15,     -0.6,2,  27.7451,2,  35.8150,2,  35.8160,2,    197.7,2,    198.9,2,     0.82,2,     0.19,2,     0.00,2,     0.00,2, -999.000,9, -999.000,9,   1991.7,2,    355.5,2,   2374.7,2,     8.08,2, 27.7452,    0.11,2,    1.0,2,    0.02,2
35LLETAMBOT1_1,  AR04,    45,  1,     21,   21.0,2,19950922,0340,  2.5043, -35.0007,   15,     68.2,2,  27.0376,2,  35.9880,2,  35.9651,2,    203.8,2,    201.1,2,     0.69,2,     0.18,2,     0.00,2,     0.01,2, -999.000,9, -999.000,9,   2003.3,2,   -999.0,9,   2375.6,2,     8.07,2, 27.0219, -999.00,9,   69.0,2, -999.00,9
35LLETAMBOT1_1,  AR04,    45,  1,     20,   20.0,2,19950922,0340,  2.5043, -35.0007,   15,    149.2,2,  15.3551,2,  35.4700,2,  35.4927,2,    131.2,2,    133.5,2,     6.38,2,    17.08,2,     0.02,2,     1.13,2, -999.000,9, -999.000,9,   2177.7,2,   -999.0,9,   2375.4,2,     7.97,2, 15.3321, -999.00,9,  151.0,2, -999.00,9
35LLETAMBOT1_1,  AR04,    45,  1,     19,   19.0,2,19950922,0340,  2.5043, -35.0007,   15,    298.1,2,  11.5088,2,  35.0786,2,  35.0781,2,    126.3,2,    128.7,2,     9.79,2,    23.07,2,     0.00,2,     1.49,2, -999.000,9, -999.000,9,   2166.9,2,   -999.0,9,   2320.8,2,     7.92,2, 11.4708, -999.00,9,  299.0,2, -999.00,9
35LLETAMBOT1_1,  AR04,    45,  1,     18,   18.0,2,19950922,0340,  2.5043, -35.0007,   15,    599.4,2,   6.5557,2,  34.6197,2,  34.6176,2,    118.7,2,    118.5,2,    23.33,2,    34.61,2,     0.00,2,     2.25,2, -999.000,9, -999.000,9,   2214.2,2,   -999.0,9,   2306.6,2,     7.83,2,  6.5003, -999.00,9,  601.0,2, -999.00,9
35LLETAMBOT1_1,  AR04,    45,  1,     17,   17.0,2,19950922,0340,  2.5043, -35.0007,   15,    797.8,2,   4.8447,2,  34.5496,2,  34.5550,2,    147.7,2,    147.7,2,    30.54,2,    34.33,2,     0.00,2,     2.29,2,    0.051,2,    0.019,2,   2195.4,3,   -999.0,9,   2290.0,3,     7.86,2,  4.7803, -999.00,9,  799.0,2, -999.00,9
35LLETAMBOT1_1,  AR04,    45,  1,     16,   16.0,2,19950922,0340,  2.5043, -35.0007,   15,    997.9,2,   4.7240,2,  34.7168,2,  34.7484,2,    163.0,2,    164.8,2,    27.67,2,    30.23,2,     0.00,2,     2.03,2,    0.027,2,    0.004,2,   2192.2,3,   -999.0,9,   2304.7,3,     7.90,2,  4.6426, -999.00,9,  999.0,2, -999.00,9
35LLETAMBOT1_1,  AR04,    45,  1,     15,   15.0,2,19950922,0340,  2.5043, -35.0007,   15,   1297.8,2,   4.5473,2,  34.8881,2,  34.8909,2,    200.9,2,    198.4,2,    22.12,2,    25.17,2,     0.00,2,     1.69,2,    0.065,2,    0.027,2,   2150.6,3,   -999.0,9,   2286.8,3,     7.96,2,  4.4400, -999.00,9, 1299.0,2, -999.00,9
35LLETAMBOT1_1,  AR04,    45,  1,     14,   14.0,2,19950922,0340,  2.5043, -35.0007,   15,   1496.7,2,   4.2478,2,  34.9789,2,  34.9831,2,    235.0,2,    236.7,2,    17.02,2,    20.20,2,     0.00,2,     1.35,2,    0.136,2,    0.061,2,   2143.6,3,   -999.0,9,   2303.6,3,     8.01,2,  4.1251, -999.00,9, 1498.0,2, -999.00,9
35LLETAMBOT1_1,  AR04,    45,  1,     13,   13.0,2,19950922,0340,  2.5043, -35.0007,   15,   1596.6,2,   4.1497,2,  34.9904,2,  34.9923,2,    245.4,2,    245.2,2,    16.04,2,    19.47,2,     0.00,2,     1.28,2,    0.213,2,    0.097,2,   2134.3,3,   -999.0,9,   2299.4,3,     8.02,2,  4.0188, -999.00,9, 1598.0,2, -999.00,9
35LLETAMBOT1_1,  AR04,    45,  1,     12,   12.0,2,19950922,0340,  2.5043, -35.0007,   15,   1694.5,2,   4.0462,2,  34.9896,2,  34.9902,2,    248.2,2,    247.5,2,    16.06,2,    19.15,2,     0.00,2,     1.27,2,    0.207,2,    0.096,2,   2128.9,3,   -999.0,9,   2293.4,3,     8.02,2,  3.9074, -999.00,9, 1696.0,2, -999.00,9
35LLETAMBOT1_1,  AR04,    45,  1,     11,   11.0,2,19950922,0340,  2.5043, -35.0007,   15,   1797.5,2,   3.9368,2,  34.9877,2,  34.9888,2,    251.6,2,    251.1,2,    16.33,2,    18.86,2,     0.00,2,     1.25,2,    0.195,2,    0.090,2,   2128.4,3,   -999.0,9,   2294.4,3,     8.02,2,  3.7897, -999.00,9, 1799.0,2, -999.00,9
35LLETAMBOT1_1,  AR04,    45,  1,     10,   10.0,2,19950922,0340,  2.5043, -35.0007,   15,   1998.9,2,   3.6077,2,  34.9718,2,  34.9727,2,    252.9,2,    252.1,2,    19.05,2,    19.07,2,     0.00,2,     1.27,2,    0.070,2,    0.034,2,   2132.8,3,   -999.0,9,   2300.1,3,     8.02,2,  3.4461, -999.00,9, 2000.0,2, -999.00,9
35LLETAMBOT1_1,  AR04,    45,  1,      9,    9.0,2,19950922,0340,  2.5043, -35.0007,   15,   2198.7,2,   3.3815,2,  34.9650,2,  34.9654,2,    254.7,2,    255.7,2,    20.90,2,    18.95,2,     0.00,2,     1.27,2,    0.043,2,    0.022,2,   2153.6,2,   -999.0,9,   2324.1,2,     8.02,2,  3.2042, -999.00,9, 2201.0,2, -999.00,9
35LLETAMBOT1_1,  AR04,    45,  1,      8,    8.0,2,19950922,0340,  2.5043, -35.0007,   15,   2398.7,2,   3.1943,2,  34.9540,2,  34.9568,2,    255.8,2,    254.9,2,    22.93,2,    19.10,2,     0.00,2,     1.29,2,    0.039,2,    0.014,2,   2160.5,2,   -999.0,9,   2330.2,2,     8.02,2,  3.0008, -999.00,9, 2401.0,2, -999.00,9
35LLETAMBOT1_1,  AR04,    45,  1,      7,    7.0,2,19950922,0340,  2.5043, -35.0007,   15,   2598.7,2,   2.9696,2,  34.9428,2,  34.9427,2,    256.8,2,    256.2,2,    26.67,2,    19.27,2,     0.00,2,     1.31,2,    0.028,2,    0.012,2,   2155.2,2,   -999.0,9,   2325.1,2,     8.01,2,  2.7605, -999.00,9, 2600.0,2, -999.00,9
35LLETAMBOT1_1,  AR04,    45,  1,      6,    6.0,2,19950922,0340,  2.5043, -35.0007,   15,   2798.4,2,   2.8262,2,  34.9306,2,  34.9280,2,    253.9,2,    254.3,2,    30.98,2,    19.92,2,     0.00,2,     1.35,2,    0.011,2,    0.004,2,   2159.2,2,   -999.0,9,   2326.1,2,     8.00,2,  2.5999, -999.00,9, 2800.0,2, -999.00,9
35LLETAMBOT1_1,  AR04,    45,  1,      5,    5.0,2,19950922,0340,  2.5043, -35.0007,   15,   2999.1,2,   2.6858,2,  34.9213,2,  34.9218,2,    253.7,2,    253.5,2,    32.57,2,    20.02,2,     0.00,2,     1.36,2,    0.009,2,    0.007,2,   2175.9,2,   -999.0,9,   2345.4,2,     8.00,2,  2.4420, -999.00,9, 3001.0,2, -999.00,9
35LLETAMBOT1_1,  AR04,    45,  1,      4,    4.0,2,19950922,0340,  2.5043, -35.0007,   15,   3199.5,2,   2.5199,2,  34.9117,2,  34.9130,2,    255.1,2,    256.4,2,    33.55,2,    20.01,2,     0.00,2,     1.35,2,    0.023,2,    0.010,2,   2161.3,2,   -999.0,9,   2329.3,2,     7.99,2,  2.2590, -999.00,9, 3201.0,2, -999.00,9
35LLETAMBOT1_1,  AR04,    45,  1,      3,    3.0,2,19950922,0340,  2.5043, -35.0007,   15,   3399.7,2,   2.4426,2,  34.9048,2,  34.9028,2,    255.4,2,    255.6,2,    36.43,2,    20.09,2,     0.00,2,     1.38,2,    0.032,2,    0.015,2,   2177.9,2,   -999.0,9,   2345.1,2,     7.98,2,  2.1624, -999.00,9, 3401.0,2, -999.00,9
35LLETAMBOT1_1,  AR04,    45,  1,      1,    1.0,2,19950922,0340,  2.5043, -35.0007,   15,   3554.1,2,   2.3639,2,  34.8978,2,  34.8959,2,    254.9,2,    255.6,2,    38.53,2,    20.25,2,     0.00,2,     1.39,2,    0.039,2,    0.020,2,   2168.6,2,   -999.0,9,   2335.3,2,     7.97,2,  2.0691, -999.00,9, 3556.0,2, -999.00,9
35LLETAMBOT1_1,  AR04,    45,  1,      2,    2.0,2,19950922,0340,  2.5043, -35.0007,   15,   3554.1,2,   2.3639,2,  34.8978,2,  34.8951,2,    254.9,2,    256.1,2,    37.90,2,    20.24,2,     0.00,2,     1.39,2,    0.035,2,    0.021,2,   2158.9,2,   -999.0,9,   2324.5,2,     7.97,2,  2.0691, -999.00,9, 3556.0,2, -999.00,9