BOTTLE,20220929CCHSIOAMB
EXPOCODE,SECT_ID,STNNBR,CASTNO,SAMPNO,BTLNBR,BTLNBR_FLAG_W,DATE,TIME,LATITUDE,LONGITUDE,DEPTH,CTDPRS,CTDPRS_FLAG_W,CTDTMP,CTDTMP_FLAG_W,CTDSAL,CTDSAL_FLAG_W,SALNTY,SALNTY_FLAG_W,CTDOXY,CTDOXY_FLAG_W,OXYGEN,OXYGEN_FLAG_W,SILCAT,SILCAT_FLAG_W,NITRAT,NITRAT_FLAG_W,NITRIT,NITRIT_FLAG_W,PHSPHT,PHSPHT_FLAG_W,CFC-11,CFC-11_FLAG_W,CFC-12,CFC-12_FLAG_W,TCARBN,TCARBN_FLAG_W,PCO2,PCO2_FLAG_W,ALKALI,ALKALI_FLAG_W,PH,PH_FLAG_W,THETA,CHLORA,CHLORA_FLAG_W,CTDRAW,CTDRAW_FLAG_W,PPHYTN,PPHYTN_FLAG_W
,,,,,,,,,,,,DBAR,,DEG C,,PSS-78,,PSS-78,,UMOL/KG,,UMOL/KG,,UMOL/KG,,UMOL/KG,,UMOL/KG,,UMOL/KG,,PMOL/KG,,PMOL/KG,,UMOL/KG,,UATM,,UMOL/KG,,,,DEG C,UG/L,,DBAR,,UG/L,
35LLETAMBOT1_2,  AR04,    79,  1,     30,    6.0,2,19951005,1604,  5.8925, -42.1997, 4690,      1.5,2,  29.6625,2,  34.6109,2,  34.6227,2,    190.0,2,    201.9,2,     2.51,2,     0.00,2,     0.00,2,     0.03,2, -999.000,9, -999.000,9,   1941.9,2,    356.2,2,   2325.5,2,     8.08,2, 29.6621,    0.08,2,    5.0,2,    0.03,2
35LLETAMBOT1_2,  AR04,    79,  1,     29,    5.0,2,19951005,1604,  5.8925, -42.1997, 4690,     40.1,2,  28.8799,2,  35.1365,2,  35.4148,2,    195.1,2,    204.8,2,     1.56,2,     0.00,2,     0.00,2,     0.04,2, -999.000,9, -999.000,9,   1970.0,2,   -999.0,9,   2361.5,2,     8.08,2, 28.8702, -999.00,9,   42.0,2, -999.00,9
35LLETAMBOT1_2,  AR04,    79,  1,     28,    4.0,2,19951005,1604,  5.8925, -42.1997, 4690,     88.6,2,  22.4257,2,  36.4265,2,  36.4590,2,    156.7,2,    147.4,2,     2.29,2,     5.22,2,     0.06,2,     0.45,2, -999.000,9, -999.000,9,   2122.9,2,   -999.0,9,   2411.9,2,     8.01,2, 22.4078, -999.00,9,   89.0,2, -999.00,9
35LLETAMBOT1_2,  AR04,    79,  1,     27,    3.0,2,19951005,1604,  5.8925, -42.1997, 4690,    175.3,2,  10.6541,2,  34.9825,2,  34.9712,2,    145.7,2,    144.5,2,    10.75,2,    20.91,2,     0.01,2,     1.55,2, -999.000,9, -999.000,9,   2161.4,2,   -999.0,9,   2322.6,2,     7.96,2, 10.6329, -999.00,9,  176.0,2, -999.00,9
35LLETAMBOT1_2,  AR04,    79,  1,     26,    2.0,2,19951005,1604,  5.8925, -42.1997, 4690,    299.9,2,   9.3497,2,  34.8374,2,  34.8398,2,    139.6,2,    141.8,2,    12.92,2,    23.53,2,     0.01,2,     1.72,2, -999.000,9, -999.000,9,   2188.6,2,   -999.0,9,   2334.6,2,     7.94,2,  9.3162, -999.00,9,  300.0,2, -999.00,9
35LLETAMBOT1_2,  AR04,    79,  1,     25,    1.0,2,19951005,1604,  5.8925, -42.1997, 4690,    502.4,2,   7.2662,2,  34.6575,2,  34.6596,2,    128.9,2,    127.6,2,    18.88,2,    29.74,2,     0.00,2,     2.09,2, -999.000,9, -999.000,9,   2199.6,2,   -999.0,9,   2310.1,2,     7.88,2,  7.2174, -999.00,9,  500.0,2, -999.00,9
35LLETAMBOT1_2,  AR04,    79,  2,     24,   24.0,2,19951005,1826,  5.8895, -42.2010,   20,    646.9,2,   6.6263,2,  34.6210,2,  34.6124,2,    121.1,2,    122.0,2,    21.66,2,    31.69,2,     0.00,2,     2.23,2,    0.193,2,    0.080,2,   2164.2,3,   -999.0,9,   2262.9,3,     7.85,2,  6.5659, -999.00,9,  648.0,2, -999.00,9
35LLETAMBOT1_2,  AR04,    79,  2,     23,   23.0,2,19951005,1826,  5.8895, -42.2010,   20,    797.7,2,   5.4311,2,  34.5455,2,  34.5449,3,    137.4,2,    139.0,2,    26.44,2,    32.12,2,     0.00,2,     2.30,2,    0.132,2,    0.054,2,   2194.6,3,   -999.0,9,   2294.0,3,     7.86,2,  5.3631, -999.00,9,  800.0,2, -999.00,9
35LLETAMBOT1_2,  AR04,    79,  2,     22,   22.0,2,19951005,1826,  5.8895, -42.2010,   20,    997.5,2,   5.0774,2,  34.6540,2,  34.6814,2,    139.7,2,    140.4,2,    27.28,2,    30.95,2,     0.00,2,     2.24,2,    0.033,2,    0.010,2,   2202.4,2,   -999.0,9,   2307.3,2,     7.87,2,  4.9935, -999.00,9,  999.0,2, -999.00,9
35LLETAMBOT1_2,  AR04,    79,  2,     21,   21.0,2,19951005,1826,  5.8895, -42.2010,   20,   1245.9,2,   4.7493,2,  34.8630,2,  34.9790,3,    180.3,2,    181.7,2,    22.36,2,    24.77,2,     0.00,2,     1.83,2,    0.062,2,    0.022,2,   2186.3,2,   -999.0,9,   2321.0,2,     7.95,2,  4.6449, -999.00,9, 1247.0,2, -999.00,9
35LLETAMBOT1_2,  AR04,    79,  2,     20,   20.0,2,19951005,1826,  5.8895, -42.2010,   20,   1496.1,2,   4.4751,2,  34.9674,2,  34.9798,2,    220.5,2,    224.3,4,    16.88,2,    19.51,2,     0.00,2,     1.44,2,    0.149,2,    0.069,2,   2134.6,3,   -999.0,9,   2292.4,3,     8.00,2,  4.3499, -999.00,9, 1498.0,2, -999.00,9
35LLETAMBOT1_2,  AR04,    79,  2,     19,   19.0,2,19951005,1826,  5.8895, -42.2010,   20,   1595.5,2,   4.3563,2,  34.9826,2,  34.8721,3,    232.8,2,    226.2,2,    16.57,2,    19.15,2,     0.00,2,     1.40,2,    0.106,2,    0.051,2,   2164.6,2,   -999.0,9,   2327.5,2,     8.01,2,  4.2230, -999.00,9, 1597.0,2, -999.00,9
35LLETAMBOT1_2,  AR04,    79,  2,     18,   18.0,2,19951005,1826,  5.8895, -42.2010,   20,   1697.0,2,   4.1393,2,  34.9831,2,  34.9848,2,    239.4,2,    243.0,2,    16.14,2,    18.07,2,     0.00,2,     1.35,2,    0.146,2,    0.072,2,   2105.1,3,   -999.0,9,   2271.0,3,     8.03,2,  3.9991, -999.00,9, 1699.0,2, -999.00,9
35LLETAMBOT1_2,  AR04,    79,  2,     17,   17.0,2,19951005,1826,  5.8895, -42.2010,   20,   1797.1,2,   3.9972,2,  34.9828,2,  34.9830,2,    245.8,2,    247.4,2,    16.30,2,    17.61,2,     0.00,2,     1.32,2,    0.093,2,    0.045,2,   2128.2,3,   -999.0,9,   2297.8,3,     8.03,2,  3.8493, -999.00,9, 1798.0,2, -999.00,9
35LLETAMBOT1_2,  AR04,    79,  2,     16,   16.0,2,19951005,1826,  5.8895, -42.2010,   20,   1897.3,2,   3.7723,2,  34.9803,2,  34.9810,2,    250.9,2,    252.3,2,    16.66,2,    17.18,2,     0.00,2,     1.28,2,    0.093,2,    0.047,2,   2122.1,3,   -999.0,9,   2292.9,3,     8.03,2,  3.6180, -999.00,9, 1899.0,2, -999.00,9
35LLETAMBOT1_2,  AR04,    79,  2,     15,   15.0,2,19951005,1826,  5.8895, -42.2010,   20,   1996.9,2,   3.5994,2,  34.9744,2,  34.9764,2,    254.2,2,    255.0,2,    17.61,2,    17.07,2,     0.00,2,     1.26,2,    0.101,2,    0.045,2,   2111.8,3,   -999.0,9,   2283.7,3,     8.04,2,  3.4381, -999.00,9, 1999.0,2, -999.00,9
35LLETAMBOT1_2,  AR04,    79,  2,     13,   13.0,2,19951005,1826,  5.8895, -42.2010,   20,   2298.0,2,   3.2514,2,  34.9609,2,  34.9612,2,    256.3,2,    258.8,2,    20.17,2,    17.05,2,     0.00,2,     1.27,2,    0.074,2,    0.031,2,   2139.7,3,   -999.0,9,   2314.6,3,     8.03,2,  3.0667, -999.00,9, 2299.0,2, -999.00,9
35LLETAMBOT1_2,  AR04,    79,  2,     14,   14.0,2,19951005,1826,  5.8895, -42.2010,   20,   2298.0,2,   3.2513,2,  34.9608,2,  34.9594,2,    256.3,2,    257.6,2,    20.29,2,    17.13,2,     0.00,2,     1.27,2,    0.087,2,    0.033,2,   2106.6,3,   -999.0,9,   2278.6,3,     8.03,2,  3.0666, -999.00,9, 2299.0,2, -999.00,9
35LLETAMBOT1_2,  AR04,    79,  2,     12,   12.0,2,19951005,1826,  5.8895, -42.2010,   20,   2698.6,2,   2.9578,2,  34.9425,2,  34.9427,2,    256.5,2,    259.5,2,    24.48,2,    17.40,2,     0.00,2,     1.30,2,    0.056,2,    0.023,2,   2139.4,3,   -999.0,9,   2313.3,3,     8.02,2,  2.7389, -999.00,9, 2700.0,2, -999.00,9
35LLETAMBOT1_2,  AR04,    79,  2,     11,   11.0,2,19951005,1826,  5.8895, -42.2010,   20,   2999.8,2,   2.7877,2,  34.9333,2,  34.9327,2,    258.4,2,    258.5,2,    26.29,2,    17.39,2,     0.00,2,     1.32,2,    0.090,2,    0.041,2,   2120.7,3,   -999.0,9,   2292.7,3,     8.01,2,  2.5416, -999.00,9, 3002.0,2, -999.00,9
35LLETAMBOT1_2,  AR04,    79,  2,     10,   10.0,2,19951005,1826,  5.8895, -42.2010,   20,   3300.3,2,   2.6447,2,  34.9235,2,  34.9227,2,    258.7,2,    259.9,2,    28.05,2,    17.22,2,     0.01,2,     1.34,2,    0.100,2,    0.042,2,   2125.9,3,   -999.0,9,   2297.9,3,     8.00,2,  2.3702, -999.00,9, 3301.0,2, -999.00,9
35LLETAMBOT1_2,  AR04,    79,  2,      9,    9.0,2,19951005,1826,  5.8895, -42.2010,   20,   3600.7,2,   2.4558,2,  34.9104,2,  34.9112,2,    260.9,2,    261.5,2,    29.51,2,    17.71,2,     0.00,2,     1.33,2,    0.109,2,    0.049,2,   2151.6,3,   -999.0,9,   2325.0,3,     7.99,2,  2.1535, -999.00,9, 3602.0,2, -999.00,9
35LLETAMBOT1_2,  AR04,    79,  2,      8,    8.0,2,19951005,1826,  5.8895, -42.2010,   20,   3698.4,2,   2.4025,2,  34.9071,2,  34.8981,3,    261.1,2,    262.4,2,    29.99,2,    17.93,2,     0.01,2,     1.32,2,    0.122,2,    0.060,2,   2146.5,3,   -999.0,9,   2320.2,3,     7.99,2,  2.0909, -999.00,9, 3699.0,2, -999.00,9
35LLETAMBOT1_2,  AR04,    79,  2,      7,    7.0,2,19951005,1826,  5.8895, -42.2010,   20,   3801.2,2,   2.3535,2,  34.9035,2,  34.9028,2,    262.6,2,    263.7,2,    31.02,2,    17.96,2,     0.00,2,     1.31,2,    0.156,2,    0.070,2,   2152.0,3,   -999.0,9,   2325.4,3,     7.98,2,  2.0317, -999.00,9, 3802.0,2, -999.00,9
35LLETAMBOT1_2,  AR04,    79,  2,      6,    6.0,2,19951005,1826,  5.8895, -42.2010,   20,   3901.3,2,   2.2959,2,  34.8982,2,  34.8980,2,    263.1,2,    264.0,2,    32.53,2,    18.07,2,     0.00,2,     1.30,2,    0.148,2,    0.067,2,   2136.1,3,   -999.0,9,   2308.1,3,     7.98,2,  1.9645, -999.00,9, 3903.0,2, -999.00,9
35LLETAMBOT1_2,  AR04,    79,  2,      5,    5.0,2,19951005,1826,  5.8895, -42.2010,   20,   4001.2,2,   2.2525,2,  34.8921,2,  34.8907,2,    261.5,2,    261.3,2,    36.04,2,    18.56,2,     0.00,2,     1.35,2,    0.109,2,    0.053,2,   2116.1,3,   -999.0,9,   2285.4,3,     7.97,2,  1.9111, -999.00,9, 4002.0,2, -999.00,9
35LLETAMBOT1_2,  AR04,    79,  2,      4,    4.0,2,19951005,1826,  5.8895, -42.2010,   20,   4200.1,2,   2.1079,2,  34.8754,2,  34.8746,2,    257.2,2,    257.5,2,    43.21,2,    19.57,2,     0.00,2,     1.42,2,    0.110,2,    0.056,2,   2143.7,3,   -999.0,9,   2310.5,3,     7.96,2,  1.7479, -999.00,9, 4201.0,2, -999.00,9
35LLETAMBOT1_2,  AR04,    79,  2,      3,    3.0,2,19951005,1826,  5.8895, -42.2010,   20,   4399.9,2,   1.6878,2,  34.8237,2,  34.8233,2,    246.6,2,    245.3,2,    64.94,2,    23.03,2,     0.00,2,     1.66,2,    0.066,2,    0.030,2,   2163.5,3,   -999.0,9,   2317.3,3,     7.92,2,  1.3176, -999.00,9, 4401.0,2, -999.00,9
35LLETAMBOT1_2,  AR04,    79,  2,      2,    2.0,2,19951005,1826,  5.8895, -42.2010,   20,   4605.7,2,   1.4973,2,  34.7993,2,  34.7987,2,    238.7,2,    239.2,2,    77.77,2,    24.80,2,     0.00,2,     1.78,2,    0.056,2,    0.023,2,   2164.6,3,   -999.0,9,   2312.4,3,     7.90,2,  1.1093, -999.00,9, 4607.0,2, -999.00,9
35LLETAMBOT1_2,  AR04,    79,  2,      1,    1.0,2,19951005,1826,  5.8895, -42.2010,   20,   4763.4,2,   1.4773,2,  34.7948,2,  34.7941,2,    237.0,2,    238.0,2,    80.02,2,    25.15,2,     0.00,2,     1.81,2,    0.041,2,    0.019,2,   2168.6,3,   -999.0,9,   2313.5,3,     7.89,2,  1.0714, -999.00,9, 4764.0,2, -999.00,9
35LLETAMBOT1_2,  AR04,    80,  1,     30,    6.0,2,19951006,0004,  6.4623, -41.9045, 4630,      0.7,2,  29.0468,2,  34.0418,2,  34.0372,2,    196.9,2,    198.7,2,     3.04,2,     0.18,2,     0.00,2,     0.00,2, -999.000,9, -999.000,9,   -999.0,9,    344.6,2,   -999.0,9,  -999.00,9, 29.0466,    0.12,2,    4.0,2,    0.04,2
35LLETAMBOT1_2,  AR04,    80,  1,     29,    5.0,2,19951006,0004,  6.4623, -41.9045, 4630,     47.2,2,  29.0791,2,  34.5191,2,  36.1864,2,    197.2,2,    204.2,2,     0.95,2,     0.25,2,     0.01,2,     0.02,2, -999.000,9, -999.000,9,   -999.0,9,   -999.0,9,   -999.0,9,  -999.00,9, 29.0677, -999.00,9,   49.0,2, -999.00,9
35LLETAMBOT1_2,  AR04,    80,  1,     28,    4.0,2,19951006,0004,  6.4623, -41.9045, 4630,     99.6,2,  20.7829,2,  36.4558,2,  36.2953,2,    154.4,2,    131.7,2,     3.32,2,    12.04,2,     0.04,2,     0.71,2, -999.000,9, -999.000,9,   -999.0,9,   -999.0,9,   -999.0,9,  -999.00,9, 20.7639, -999.00,9,  100.0,2, -999.00,9
35LLETAMBOT1_2,  AR04,    80,  1,     27,    3.0,2,19951006,0004,  6.4623, -41.9045, 4630,    170.6,2,  10.7994,2,  35.0262,2,  35.0274,3,    137.3,2,    141.5,2,    10.19,2,    22.81,2,     0.01,2,     1.52,2, -999.000,9, -999.000,9,   -999.0,9,   -999.0,9,   -999.0,9,  -999.00,9, 10.7786, -999.00,9,  171.0,2, -999.00,9
35LLETAMBOT1_2,  AR04,    80,  1,     26,    2.0,2,19951006,0004,  6.4623, -41.9045, 4630,    301.3,2,   8.9482,2,  34.8158,2,  34.8197,2,    134.0,2,    130.7,2,    14.05,2,    27.79,2,     0.01,2,     1.82,2, -999.000,9, -999.000,9,   -999.0,9,   -999.0,9,   -999.0,9,  -999.00,9,  8.9155, -999.00,9,  300.0,2, -999.00,9
35LLETAMBOT1_2,  AR04,    80,  1,     25,    1.0,2,19951006,0004,  6.4623, -41.9045, 4630,    496.0,2,   7.6873,2,  34.6948,2,  34.6972,2,    124.5,2,    125.6,2,    17.64,2,    31.09,2,     0.01,2,     2.05,2, -999.000,9, -999.000,9,   -999.0,9,   -999.0,9,   -999.0,9,  -999.00,9,  7.6375, -999.00,9,  494.0,2, -999.00,9