BOTTLE,20220929CCHSIOAMB
EXPOCODE,SECT_ID,STNNBR,CASTNO,SAMPNO,BTLNBR,BTLNBR_FLAG_W,DATE,TIME,LATITUDE,LONGITUDE,DEPTH,CTDPRS,CTDPRS_FLAG_W,CTDTMP,CTDTMP_FLAG_W,CTDSAL,CTDSAL_FLAG_W,SALNTY,SALNTY_FLAG_W,CTDOXY,CTDOXY_FLAG_W,OXYGEN,OXYGEN_FLAG_W,SILCAT,SILCAT_FLAG_W,NITRAT,NITRAT_FLAG_W,NITRIT,NITRIT_FLAG_W,PHSPHT,PHSPHT_FLAG_W,CFC-11,CFC-11_FLAG_W,CFC-12,CFC-12_FLAG_W,TCARBN,TCARBN_FLAG_W,PCO2,PCO2_FLAG_W,ALKALI,ALKALI_FLAG_W,PH,PH_FLAG_W,THETA,CHLORA,CHLORA_FLAG_W,CTDRAW,CTDRAW_FLAG_W,PPHYTN,PPHYTN_FLAG_W
,,,,,,,,,,,,DBAR,,DEG C,,PSS-78,,PSS-78,,UMOL/KG,,UMOL/KG,,UMOL/KG,,UMOL/KG,,UMOL/KG,,UMOL/KG,,PMOL/KG,,PMOL/KG,,UMOL/KG,,UATM,,UMOL/KG,,,,DEG C,UG/L,,DBAR,,UG/L,
35LLETAMBOT1_1,  AR15,    24,  2,     21,   21.0,2,19950915,1429,  7.5050, -42.6668,   15,    599.0,2,   6.8020,2,  34.6734,2,  34.6789,2,    113.9,2,    117.8,2,    21.29,2,    33.74,2,     0.00,2,     2.19,2,    0.149,2,    0.090,2,   2205.2,2,   -999.0,9,   2306.7,2,     7.85,2,  6.7455, -999.00,9,  601.0,2, -999.00,9
35LLETAMBOT1_1,  AR15,    24,  2,     22,   22.0,2,19950915,1429,  7.5050, -42.6668,   15,    599.0,2,   6.8020,2,  34.6734,2,  34.6787,2,    113.9,2,    116.7,2,    21.36,2,    33.80,2,     0.00,2,     2.20,2,    0.152,2,    0.082,2,   2194.6,2,   -999.0,9,   2296.4,2,     7.85,2,  6.7455, -999.00,9,  601.0,2, -999.00,9
35LLETAMBOT1_1,  AR15,    24,  2,     20,   20.0,2,19950915,1429,  7.5050, -42.6668,   15,    749.0,2,   5.8998,2,  34.6636,2,  34.6710,2,    114.1,2,    112.7,2,    25.22,2,    35.53,2,     0.00,2,     2.33,2,    0.025,2,    0.012,2,   2216.8,2,   -999.0,9,   2310.0,2,     7.84,2,  5.8334, -999.00,9,  751.0,2, -999.00,9
35LLETAMBOT1_1,  AR15,    24,  2,     19,   19.0,2,19950915,1429,  7.5050, -42.6668,   15,    898.5,2,   4.9703,2,  34.6533,2,  34.6528,2,    141.6,2,    139.8,2,    28.98,2,    33.99,2,     0.00,2,     2.27,2,    0.038,2,    0.015,2,   2224.9,2,   -999.0,9,   2328.7,2,     7.87,2,  4.8961, -999.00,9,  900.0,2, -999.00,9
35LLETAMBOT1_1,  AR15,    24,  2,     18,   18.0,2,19950915,1429,  7.5050, -42.6668,   15,    998.4,2,   4.9382,2,  34.7369,2,  34.7048,2,    148.8,2,    152.1,2,    28.60,2,    32.35,2,     0.00,2,     2.17,2,    0.000,2,    0.003,2,   2222.1,2,   -999.0,9,   2331.7,2,     7.89,2,  4.8551, -999.00,9, 1000.0,2, -999.00,9
35LLETAMBOT1_1,  AR15,    24,  2,     17,   17.0,2,19950915,1429,  7.5050, -42.6668,   15,   1200.4,2,   4.7501,2,  34.8809,2,  34.8577,2,    182.4,2,    177.8,2,    24.06,2,    28.00,2,     0.00,2,     1.86,2,    0.022,2,    0.012,2,   2163.0,3,   -999.0,9,   2292.7,3,     7.94,2,  4.6499, -999.00,9, 1202.0,2, -999.00,9
35LLETAMBOT1_1,  AR15,    24,  2,     16,   16.0,2,19950915,1429,  7.5050, -42.6668,   15,   1401.5,2,   4.5557,2,  34.9576,2,  34.9497,2,    211.9,2,    210.8,2,    19.31,2,    23.54,2,     0.00,2,     1.55,2,    0.061,2,    0.044,2,   2137.1,3,   -999.0,9,   2287.5,3,     7.99,2,  4.4386, -999.00,9, 1403.0,2, -999.00,9
35LLETAMBOT1_1,  AR15,    24,  2,     15,   15.0,2,19950915,1429,  7.5050, -42.6668,   15,   1601.0,2,   4.2159,2,  34.9849,2,  34.9878,2,    238.8,2,    236.8,2,    16.40,2,    20.57,2,     0.00,2,     1.35,2,    0.108,2,    0.069,2,   2132.4,3,   -999.0,9,   2295.7,3,     8.02,2,  4.0838, -999.00,9, 1602.0,2, -999.00,9
35LLETAMBOT1_1,  AR15,    24,  2,     14,   14.0,2,19950915,1429,  7.5050, -42.6668,   15,   1673.3,2,   4.0955,2,  34.9842,2,  34.9870,2,    241.6,2,    240.5,2,    16.20,2,    20.16,2,     0.00,2,     1.33,2, -999.000,9, -999.000,9,   2141.6,3,   -999.0,9,   2309.8,3,     8.03,2,  3.9581, -999.00,9, 1673.0,2, -999.00,9
35LLETAMBOT1_1,  AR15,    24,  2,     13,   13.0,2,19950915,1429,  7.5050, -42.6668,   15,   1767.9,2,   3.9320,2,  34.9842,2,  34.9870,2,    249.0,2,    245.8,2,    16.31,2,    19.77,2,     0.00,2,     1.30,2,    0.096,2,    0.066,2,   2137.7,3,   -999.0,9,   2309.2,3,     8.04,2,  3.7877, -999.00,9, 1768.0,2, -999.00,9
35LLETAMBOT1_1,  AR15,    24,  2,     12,   12.0,2,19950915,1429,  7.5050, -42.6668,   15,   1994.4,2,   3.6295,2,  34.9752,2,  34.9810,2,    254.4,2,    254.8,2,    17.19,2,    18.91,2,     0.00,2,     1.26,2,    0.105,2,    0.072,2,   2119.0,3,   -999.0,9,   2294.1,3,     8.04,2,  3.4680, -999.00,9, 1995.0,2, -999.00,9
35LLETAMBOT1_1,  AR15,    24,  2,     11,   11.0,2,19950915,1429,  7.5050, -42.6668,   15,   2398.3,2,   3.1816,2,  34.9534,2,  34.9556,2,    255.3,2,    256.8,2,    22.59,2,    18.99,2,     0.00,2,     1.29,2,    0.046,2,    0.028,2,   2126.7,3,   -999.0,9,   2300.3,3,     8.03,2,  2.9883, -999.00,9, 2400.0,2, -999.00,9
35LLETAMBOT1_1,  AR15,    24,  2,     10,   10.0,2,19950915,1429,  7.5050, -42.6668,   15,   2599.3,2,   3.0285,2,  34.9444,2,  34.9469,2,    255.4,2,    257.2,2,    24.47,2,    19.10,2,     0.00,2,     1.30,2,    0.033,2,    0.022,2,   2132.1,3,   -999.0,9,   2305.1,3,     8.02,2,  2.8182, -999.00,9, 2601.0,2, -999.00,9
35LLETAMBOT1_1,  AR15,    24,  2,      9,    9.0,2,19950915,1429,  7.5050, -42.6668,   15,   2800.0,2,   2.8911,2,  34.9371,2,  34.9395,2,    257.2,2,    258.3,2,    25.82,2,    18.79,2,     0.00,2,     1.30,2,    0.046,2,    0.032,2,   2127.6,3,   -999.0,9,   2301.7,3,     8.02,2,  2.6633, -999.00,9, 2802.0,2, -999.00,9
35LLETAMBOT1_1,  AR15,    24,  2,      8,    8.0,2,19950915,1429,  7.5050, -42.6668,   15,   2997.6,2,   2.7970,2,  34.9311,2,  34.9320,2,    256.3,2,    258.7,2,    27.63,2,    18.42,2,     0.00,2,     1.33,2,    0.054,2,    0.034,2,   2127.8,3,   -999.0,9,   2301.7,3,     8.01,2,  2.5509, -999.00,9, 2999.0,2, -999.00,9
35LLETAMBOT1_1,  AR15,    24,  2,      7,    7.0,2,19950915,1429,  7.5050, -42.6668,   15,   3298.8,2,   2.5794,2,  34.9151,2,  34.9160,2,    256.5,2,    258.3,2,    31.46,2,    18.56,2,     0.00,2,     1.36,2,    0.063,2,    0.042,2,   2115.9,3,   -999.0,9,   2286.4,3,     8.00,2,  2.3067, -999.00,9, 3300.0,2, -999.00,9
35LLETAMBOT1_1,  AR15,    24,  2,      6,    6.0,2,19950915,1429,  7.5050, -42.6668,   15,   3598.3,2,   2.4383,2,  34.9049,2,  34.9060,2,    260.3,2,    262.1,2,    31.59,2,    18.28,2,     0.00,2,     1.33,2,    0.066,2,    0.041,2,   2137.3,3,   -999.0,9,   2308.8,3,     7.99,2,  2.1368, -999.00,9, 3600.0,2, -999.00,9
35LLETAMBOT1_1,  AR15,    24,  2,      5,    5.0,2,19950915,1429,  7.5050, -42.6668,   15,   3798.9,2,   2.3428,2,  34.8986,2,  34.8990,2,    262.2,2,    262.3,2,    32.96,2,    18.28,2,     0.00,2,     1.34,2,    0.074,2,    0.048,2,   -999.0,9,   -999.0,9,   -999.0,9,  -999.00,9,  2.0216, -999.00,9, 3800.0,2, -999.00,9
35LLETAMBOT1_1,  AR15,    24,  2,      4,    4.0,2,19950915,1429,  7.5050, -42.6668,   15,   4000.9,2,   2.2546,2,  34.8901,2,  34.8910,2,    261.9,2,    261.8,2,    35.51,2,    18.54,2,     0.00,2,     1.36,2,    0.085,2,    0.058,2,   2124.9,3,   -999.0,9,   2292.8,3,     7.97,2,  1.9131, -999.00,9, 4002.0,2, -999.00,9
35LLETAMBOT1_1,  AR15,    24,  2,      3,    3.0,2,19950915,1429,  7.5050, -42.6668,   15,   4400.9,2,   2.0101,2,  34.8576,2,  34.8580,2,    254.3,2,    253.1,2,    50.67,2,    20.73,2,     0.00,2,     1.52,2,    0.066,2,    0.044,2,   2135.6,3,   -999.0,9,   2296.2,3,     7.94,2,  1.6298, -999.00,9, 4402.0,2, -999.00,9
35LLETAMBOT1_1,  AR15,    24,  2,      2,    2.0,2,19950915,1429,  7.5050, -42.6668,   15,   4700.6,2,   1.5146,2,  34.7952,2,  34.7970,3,    238.2,2,    239.0,2,    79.59,2,    24.69,2,     0.00,2,     1.81,2,    0.025,2,    0.018,2,   2180.7,3,   -999.0,9,   2328.0,3,     7.89,2,  1.1150, -999.00,9, 4702.0,2, -999.00,9
35LLETAMBOT1_1,  AR15,    24,  2,      1,    1.0,2,19950915,1429,  7.5050, -42.6668,   15,   4869.3,2,   1.4990,2,  34.7914,2,  34.7930,2,    237.5,2,    237.8,2,    81.72,2,    25.01,2,     0.00,2,     1.84,2,    0.034,2,    0.020,2,   2183.7,3,   -999.0,9,   2330.1,3,     7.88,2,  1.0798, -999.00,9, 4871.0,2, -999.00,9
35LLETAMBOT1_1,  AR15,    25,  1,      1,    1.0,2,19950915,1939,  7.5017, -42.3340, 4795,    997.0,2,   4.9682,2,  34.7390,2,  34.7357,2,    147.8,2,    154.2,2,    27.47,2,    31.28,2,     0.00,2,     2.14,2,    0.022,2,    0.012,2,   2199.6,2,   -999.0,9,   2309.2,2,     7.97,2,  4.8850, -999.00,9, 1010.0,2, -999.00,9
35LLETAMBOT1_1,  AR15,    25,  1,      2,    2.0,2,19950915,1939,  7.5017, -42.3340, 4795,    997.0,2,   4.9682,2,  34.7390,2,  34.7360,2,    147.8,2,    154.6,2,    27.42,2,    31.21,2,     0.00,2,     2.13,2,    0.014,2,    0.006,2,   2190.3,2,   -999.0,9,   2299.2,2,     7.97,2,  4.8850, -999.00,9, 1010.0,2, -999.00,9
35LLETAMBOT1_1,  AR15,    25,  1,      3,    3.0,2,19950915,1939,  7.5017, -42.3340, 4795,    997.0,2,   4.9682,2,  34.7390,2,  34.7430,2,    147.8,2,    154.3,2,    27.32,2,    31.14,2,     0.00,2,     2.14,2,    0.008,2,    0.005,2,   2203.6,2,   -999.0,9,   2314.2,2,     7.97,2,  4.8850, -999.00,9, 1010.0,2, -999.00,9
35LLETAMBOT1_1,  AR15,    25,  1,      4,    4.0,2,19950915,1939,  7.5017, -42.3340, 4795,    997.0,2,   4.9682,2,  34.7390,2,  34.7450,2,    147.8,2,    154.6,2,    27.26,2,    31.04,2,     0.01,2,     2.13,2,    0.023,2,    0.010,2,   2200.6,2,   -999.0,9,   2311.1,2,     7.97,2,  4.8850, -999.00,9, 1010.0,2, -999.00,9
35LLETAMBOT1_1,  AR15,    25,  1,      5,    5.0,2,19950915,1939,  7.5017, -42.3340, 4795,    997.0,2,   4.9692,2,  34.7390,2,  34.7450,2,    147.8,2,    157.1,2,    27.21,2,    31.06,2,     0.00,2,     2.13,2,    0.020,2,    0.012,2,   2213.5,2,   -999.0,9,   2324.3,2,     7.97,2,  4.8860, -999.00,9, 1010.0,2, -999.00,9
35LLETAMBOT1_1,  AR15,    25,  1,      6,    6.0,2,19950915,1939,  7.5017, -42.3340, 4795,    997.0,2,   4.9682,2,  34.7390,2,  34.7470,2,    147.8,2,    154.4,2,    27.30,2,    31.10,2,     0.00,2,     2.13,2,    0.020,2,    0.009,2,   2203.8,2,   -999.0,9,   2314.6,2,     7.97,2,  4.8850, -999.00,9, 1010.0,2, -999.00,9
35LLETAMBOT1_1,  AR15,    25,  1,      7,    7.0,2,19950915,1939,  7.5017, -42.3340, 4795,    997.0,2,   4.9682,2,  34.7390,2,  34.7480,2,    147.8,2,    154.4,2,    27.19,2,    30.91,2,     0.00,2,     2.13,2,    0.016,2,    0.006,2,   2198.5,2,   -999.0,9,   2309.2,2,     7.97,2,  4.8850, -999.00,9, 1010.0,2, -999.00,9
35LLETAMBOT1_1,  AR15,    25,  1,      8,    8.0,2,19950915,1939,  7.5017, -42.3340, 4795,    997.0,2,   4.9682,2,  34.7390,2,  34.7480,2,    147.8,2,    154.5,2,    27.23,2,    30.93,2,     0.00,2,     2.13,2,    0.016,2,    0.004,2,   2193.1,2,   -999.0,9,   2303.1,2,     7.97,2,  4.8850, -999.00,9, 1010.0,2, -999.00,9
35LLETAMBOT1_1,  AR15,    25,  1,      9,    9.0,2,19950915,1939,  7.5017, -42.3340, 4795,    997.0,2,   4.9682,2,  34.7390,2,  34.7490,2,    147.8,2,    156.0,2,    27.14,2,    30.83,2,     0.00,2,     2.13,2,    0.014,2,    0.006,2,   2202.5,2,   -999.0,9,   2313.8,2,     7.97,2,  4.8850, -999.00,9, 1010.0,2, -999.00,9
35LLETAMBOT1_1,  AR15,    25,  1,     10,   10.0,2,19950915,1939,  7.5017, -42.3340, 4795,    997.0,2,   4.9682,2,  34.7390,2,  34.7520,2,    147.8,2,    154.7,2,    27.02,2,    30.94,2,     0.00,2,     2.13,2,    0.021,2,    0.008,2,   2206.8,2,   -999.0,9,   2318.1,2,     7.97,2,  4.8850, -999.00,9, 1010.0,2, -999.00,9
35LLETAMBOT1_1,  AR15,    25,  1,     11,   11.0,2,19950915,1939,  7.5017, -42.3340, 4795,    997.0,2,   4.9682,2,  34.7390,2,  34.7530,2,    147.8,2,    155.4,2,    27.10,2,    30.95,2,     0.00,2,     2.11,2,    0.022,2,    0.010,2,   2192.6,2,   -999.0,9,   2303.5,2,     7.97,2,  4.8850, -999.00,9, 1010.0,2, -999.00,9
35LLETAMBOT1_1,  AR15,    25,  1,     12,   12.0,2,19950915,1939,  7.5017, -42.3340, 4795,    997.0,2,   4.9682,2,  34.7390,2,  34.7540,2,    147.8,2,    155.8,2,    27.03,2,    30.84,2,     0.00,2,     2.11,2,    0.051,2,    0.022,2,   2198.5,2,   -999.0,9,   2310.3,2,     7.97,2,  4.8850, -999.00,9, 1010.0,2, -999.00,9
35LLETAMBOT1_1,  AR15,    25,  1,     13,   13.0,2,19950915,1939,  7.5017, -42.3340, 4795,    997.0,2,   4.9682,2,  34.7390,2,  34.7540,2,    147.8,2,    155.9,2,    27.02,2,    30.88,2,     0.00,2,     2.11,2,    0.023,2,    0.013,2,   2198.3,2,   -999.0,9,   2309.4,2,     7.97,2,  4.8850, -999.00,9, 1010.0,2, -999.00,9
35LLETAMBOT1_1,  AR15,    25,  1,     14,   14.0,2,19950915,1939,  7.5017, -42.3340, 4795,    997.0,2,   4.9682,2,  34.7390,2,  34.7540,2,    147.8,2,    156.2,2,    26.98,2,    30.85,2,     0.00,2,     2.11,2,    0.020,2,    0.010,2,   2202.1,2,   -999.0,9,   2313.3,2,     7.97,2,  4.8850, -999.00,9, 1010.0,2, -999.00,9
35LLETAMBOT1_1,  AR15,    25,  1,     15,   15.0,2,19950915,1939,  7.5017, -42.3340, 4795,    997.0,2,   4.9682,2,  34.7390,2,  34.7540,2,    147.8,2,    156.2,2,    27.07,2,    30.83,2,     0.00,2,     2.11,2,    0.021,2,    0.009,2,   2189.3,2,   -999.0,9,   2300.9,2,     7.97,2,  4.8850, -999.00,9, 1010.0,2, -999.00,9
35LLETAMBOT1_1,  AR15,    25,  1,     16,   16.0,2,19950915,1939,  7.5017, -42.3340, 4795,    997.0,2,   4.9682,2,  34.7390,2,  34.7540,2,    147.8,2,    156.4,2,    27.18,2,    30.90,2,     0.00,2,     2.11,2,    0.018,2,    0.011,2,   2196.4,2,   -999.0,9,   2308.1,2,     7.97,2,  4.8850, -999.00,9, 1010.0,2, -999.00,9
35LLETAMBOT1_1,  AR15,    25,  1,     17,   17.0,2,19950915,1939,  7.5017, -42.3340, 4795,    997.0,2,   4.9682,2,  34.7390,2,  34.7550,2,    147.8,2,    155.8,2,    27.26,2,    30.94,2,     0.00,2,     2.10,2,    0.031,2,    0.011,2,   2192.7,2,   -999.0,9,   2304.2,2,     7.97,2,  4.8850, -999.00,9, 1010.0,2, -999.00,9
35LLETAMBOT1_1,  AR15,    25,  1,     18,   18.0,2,19950915,1939,  7.5017, -42.3340, 4795,    997.0,2,   4.9682,2,  34.7390,2,  34.7550,2,    147.8,2,    156.2,2,    27.17,2,    30.94,2,     0.00,2,     2.10,2, -999.000,9, -999.000,9,   2185.1,2,   -999.0,9,   2296.4,2,     7.97,2,  4.8850, -999.00,9, 1010.0,2, -999.00,9
35LLETAMBOT1_1,  AR15,    25,  1,     19,   19.0,2,19950915,1939,  7.5017, -42.3340, 4795,    997.0,2,   4.9682,2,  34.7390,2,  34.7540,2,    147.8,2,    155.1,2,    27.10,2,    30.94,2,     0.00,2,     2.11,2,    0.063,2,    0.024,2,   2178.9,2,   -999.0,9,   2290.0,2,     7.97,2,  4.8850, -999.00,9, 1010.0,2, -999.00,9
35LLETAMBOT1_1,  AR15,    25,  1,     20,   20.0,2,19950915,1939,  7.5017, -42.3340, 4795,    997.0,2,   4.9682,2,  34.7390,2,  34.7540,2,    147.8,2,    154.7,2,    27.19,2,    31.00,2,     0.00,2,     2.11,2,    0.036,2,    0.011,2,   2194.3,2,   -999.0,9,   2305.2,2,     7.97,2,  4.8850, -999.00,9, 1010.0,2, -999.00,9
35LLETAMBOT1_1,  AR15,    25,  1,     21,   21.0,2,19950915,1939,  7.5017, -42.3340, 4795,    997.0,2,   4.9682,2,  34.7390,2,  34.7540,2,    147.8,2,    155.8,2,    27.18,2,    30.96,2,     0.00,2,     2.10,2,    0.025,2,    0.010,2,   2191.7,2,   -999.0,9,   2303.3,2,     7.97,2,  4.8850, -999.00,9, 1010.0,2, -999.00,9
35LLETAMBOT1_1,  AR15,    25,  1,     22,   22.0,2,19950915,1939,  7.5017, -42.3340, 4795,    997.0,2,   4.9682,2,  34.7390,2,  34.7540,2,    147.8,2,    155.4,2,    27.18,2,    30.99,2,     0.00,2,     2.09,2,    0.023,2,    0.009,2,   2181.9,2,   -999.0,9,   2306.4,2,     8.01,4,  4.8850, -999.00,9, 1010.0,2, -999.00,9
35LLETAMBOT1_1,  AR15,    26,  1,     28,    6.0,2,19950915,2247,  7.5002, -41.9995, 4790,      0.5,2,  28.9893,2,  32.7150,2,  32.6510,2,    200.4,2,    200.5,2,     4.13,2,     0.00,2,     0.00,2,     0.00,2, -999.000,9, -999.000,9,   -999.0,9,    327.9,2,   -999.0,9,  -999.00,9, 28.9892,    0.06,2,    4.0,2,    0.01,2
35LLETAMBOT1_1,  AR15,    26,  1,     27,    5.0,2,19950915,2247,  7.5002, -41.9995, 4790,     43.5,2,  28.9676,2,  35.1768,2,  35.9112,2,    201.5,2,    199.5,2,     0.76,2,     0.00,2,     0.00,2,     0.00,2, -999.000,9, -999.000,9,   -999.0,9,   -999.0,9,   -999.0,9,  -999.00,9, 28.9571, -999.00,9,   45.0,2, -999.00,9
35LLETAMBOT1_1,  AR15,    26,  1,     26,    4.0,2,19950915,2247,  7.5002, -41.9995, 4790,    100.6,2,  19.4203,2,  36.0651,2,  35.9797,2,    130.7,2,    110.2,2,     5.00,2,    16.86,2,     0.02,2,     1.00,2, -999.000,9, -999.000,9,   -999.0,9,   -999.0,9,   -999.0,9,  -999.00,9, 19.4020, -999.00,9,  101.0,2, -999.00,9
35LLETAMBOT1_1,  AR15,    26,  1,     25,    3.0,2,19950915,2247,  7.5002, -41.9995, 4790,    300.2,2,   9.5115,2,  34.9097,2,  34.9020,2,    108.0,2,    108.6,2,    14.15,2,    29.00,2,     0.00,2,     1.85,2, -999.000,9, -999.000,9,   -999.0,9,   -999.0,9,   -999.0,9,  -999.00,9,  9.4776, -999.00,9,  299.0,2, -999.00,9
35LLETAMBOT1_1,  AR15,    26,  1,     24,    2.0,2,19950915,2247,  7.5002, -41.9995, 4790,    401.4,2,   8.4649,2,  34.7948,2,  34.7888,2,    109.7,2,    112.1,2,    16.99,2,    30.99,2,     0.00,2,     1.99,2, -999.000,9, -999.000,9,   -999.0,9,   -999.0,9,   -999.0,9,  -999.00,9,  8.4225, -999.00,9,  400.0,2, -999.00,9
35LLETAMBOT1_1,  AR15,    26,  1,     23,    1.0,2,19950915,2247,  7.5002, -41.9995, 4790,    500.4,2,   7.5136,2,  34.7152,2,  34.7160,2,    113.5,2,    114.2,2,    19.92,2,    32.95,2,     0.00,2,     2.12,2, -999.000,9, -999.000,9,   -999.0,9,   -999.0,9,   -999.0,9,  -999.00,9,  7.4640, -999.00,9,  498.0,2, -999.00,9