BOTTLE,20220929CCHSIOAMB
EXPOCODE,SECT_ID,STNNBR,CASTNO,SAMPNO,BTLNBR,BTLNBR_FLAG_W,DATE,TIME,LATITUDE,LONGITUDE,DEPTH,CTDPRS,CTDPRS_FLAG_W,CTDTMP,CTDTMP_FLAG_W,CTDSAL,CTDSAL_FLAG_W,SALNTY,SALNTY_FLAG_W,CTDOXY,CTDOXY_FLAG_W,OXYGEN,OXYGEN_FLAG_W,SILCAT,SILCAT_FLAG_W,NITRAT,NITRAT_FLAG_W,NITRIT,NITRIT_FLAG_W,PHSPHT,PHSPHT_FLAG_W,CFC-11,CFC-11_FLAG_W,CFC-12,CFC-12_FLAG_W,TCARBN,TCARBN_FLAG_W,PCO2,PCO2_FLAG_W,ALKALI,ALKALI_FLAG_W,PH,PH_FLAG_W,THETA,CHLORA,CHLORA_FLAG_W,CTDRAW,CTDRAW_FLAG_W,PPHYTN,PPHYTN_FLAG_W
,,,,,,,,,,,,DBAR,,DEG C,,PSS-78,,PSS-78,,UMOL/KG,,UMOL/KG,,UMOL/KG,,UMOL/KG,,UMOL/KG,,UMOL/KG,,PMOL/KG,,PMOL/KG,,UMOL/KG,,UATM,,UMOL/KG,,,,DEG C,UG/L,,DBAR,,UG/L,
35LLETAMBOT1_2,  AR04,    73,  1,     24,   24.0,2,19951004,0719,  3.5352, -43.4573,   20,      4.2,2,  27.9925,2,  36.0111,2,  36.0252,2,    196.1,2,    199.4,2,     0.67,2,     0.39,2,     0.00,2,     0.00,2, -999.000,9, -999.000,9,   2006.9,2,    380.5,2,   2385.6,2,     8.07,2, 27.9915,    0.09,2,    6.0,2,    0.02,2
35LLETAMBOT1_2,  AR04,    73,  1,     23,   23.0,2,19951004,0719,  3.5352, -43.4573,   20,     96.5,2,  25.5250,2,  36.2286,2,  36.1776,2,    192.7,2,    191.9,2,     0.65,2,     1.11,2,     0.23,2,     0.06,2, -999.000,9, -999.000,9,   2035.8,2,   -999.0,9,   2400.2,2,     8.08,2, 25.5037, -999.00,9,   98.0,2, -999.00,9
35LLETAMBOT1_2,  AR04,    73,  1,     22,   22.0,2,19951004,0719,  3.5352, -43.4573,   20,    199.5,2,  12.2954,2,  35.3480,2,  35.5291,2,    118.5,2,    110.5,2,     8.52,2,    22.69,2,     0.00,2,     1.31,2, -999.000,9, -999.000,9,   2212.6,2,   -999.0,9,   2381.7,2,     7.95,2, 12.2689, -999.00,9,  201.0,2, -999.00,9
35LLETAMBOT1_2,  AR04,    73,  1,     21,   21.0,2,19951004,0719,  3.5352, -43.4573,   20,    397.9,2,   7.1363,2,  34.6574,2,  34.6846,2,    122.4,2,    123.3,2,    19.35,2,    32.40,2,     0.00,2,     2.03,2, -999.000,9, -999.000,9,   2217.7,2,   -999.0,9,   2325.0,2,     7.87,2,  7.0983, -999.00,9,  400.0,2, -999.00,9
35LLETAMBOT1_2,  AR04,    73,  1,     20,   20.0,2,19951004,0719,  3.5352, -43.4573,   20,    597.0,2,   5.6804,2,  34.5571,2,  34.5696,2,    130.0,2,    127.6,2,    25.07,2,    35.01,2,     0.00,2,     2.27,2, -999.000,9, -999.000,9,   2235.6,2,   -999.0,9,   2328.7,2,     7.84,2,  5.6292, -999.00,9,  599.0,2, -999.00,9
35LLETAMBOT1_2,  AR04,    73,  1,     19,   19.0,2,19951004,0719,  3.5352, -43.4573,   20,    797.7,2,   4.8567,2,  34.5731,2,  34.5748,2,    141.6,2,    143.4,2,    30.26,2,    34.69,2,     0.00,2,     2.28,2,    0.052,2,    0.021,2,   2221.5,2,   -999.0,9,   2318.6,2,     7.86,2,  4.7922, -999.00,9,  799.0,2, -999.00,9
35LLETAMBOT1_2,  AR04,    73,  1,     18,   18.0,2,19951004,0719,  3.5352, -43.4573,   20,    995.7,2,   4.5892,2,  34.7035,2,  34.7098,2,    157.7,2,    161.6,2,    28.80,2,    31.80,2,     0.00,2,     2.08,2,    0.034,2,    0.012,2,   2222.2,2,   -999.0,9,   2333.7,2,     7.90,2,  4.5091, -999.00,9,  997.0,2, -999.00,9
35LLETAMBOT1_2,  AR04,    73,  1,     17,   17.0,2,19951004,0719,  3.5352, -43.4573,   20,   1296.1,2,   4.6394,2,  34.8889,2,  34.8955,2,    193.2,2,    194.7,2,    22.09,2,    26.03,2,     0.00,2,     1.67,2,    0.074,2,    0.030,2,   2197.3,2,   -999.0,9,   2335.4,2,     7.96,2,  4.5314, -999.00,9, 1297.0,2, -999.00,9
35LLETAMBOT1_2,  AR04,    73,  1,     16,   16.0,2,19951004,0719,  3.5352, -43.4573,   20,   1497.0,2,   4.3128,2,  34.9700,2,  34.9720,2,    228.0,2,    229.9,2,    17.76,2,    21.75,2,     0.00,2,     1.37,2,    0.106,2,    0.054,2,   2162.3,2,   -999.0,9,   2319.7,2,     8.00,2,  4.1893, -999.00,9, 1499.0,2, -999.00,9
35LLETAMBOT1_2,  AR04,    73,  1,     15,   15.0,2,19951004,0719,  3.5352, -43.4573,   20,   1595.0,2,   4.2219,2,  34.9785,2,  34.9780,2,    235.2,2,    237.2,2,    17.46,2,    21.16,2,     0.00,2,     1.33,2,    0.113,2,    0.059,2,   2157.8,2,   -999.0,9,   2318.6,2,     8.01,2,  4.0903, -999.00,9, 1597.0,2, -999.00,9
35LLETAMBOT1_2,  AR04,    73,  1,     14,   14.0,2,19951004,0719,  3.5352, -43.4573,   20,   1698.0,2,   4.0823,2,  34.9799,2,  34.9841,2,    240.3,2,    242.5,2,    16.91,2,    20.42,2,     0.00,2,     1.28,2,    0.145,2,    0.068,2,   2166.4,2,   -999.0,9,   2332.6,2,     8.02,2,  3.9427, -999.00,9, 1699.0,2, -999.00,9
35LLETAMBOT1_2,  AR04,    73,  1,     13,   13.0,2,19951004,0719,  3.5352, -43.4573,   20,   1797.2,2,   3.9431,2,  34.9852,2,  34.9846,2,    248.3,2,    249.6,2,    16.68,2,    19.79,2,     0.00,2,     1.26,2,    0.136,2,    0.065,2,   2103.1,3,   -999.0,9,   2269.9,3,     8.03,2,  3.7959, -999.00,9, 1798.0,2, -999.00,9
35LLETAMBOT1_2,  AR04,    73,  1,     12,   12.0,2,19951004,0719,  3.5352, -43.4573,   20,   1997.0,2,   3.6664,2,  34.9802,2,  34.9799,2,    256.1,2,    255.3,2,    17.34,2,    19.24,2,     0.00,2,     1.23,2,    0.145,2,    0.067,2,   2095.1,3,   -999.0,9,   2264.4,3,     8.03,2,  3.5041, -999.00,9, 1998.0,2, -999.00,9
35LLETAMBOT1_2,  AR04,    73,  1,     11,   11.0,2,19951004,0719,  3.5352, -43.4573,   20,   2296.1,2,   3.2189,2,  34.9578,2,  34.9571,2,    256.3,2,    256.6,2,    22.06,2,    19.56,2,     0.00,2,     1.25,2,    0.069,2,    0.029,2,   2126.2,3,   -999.0,9,   2297.3,3,     8.03,2,  3.0349, -999.00,9, 2297.0,2, -999.00,9
35LLETAMBOT1_2,  AR04,    73,  1,     10,   10.0,2,19951004,0719,  3.5352, -43.4573,   20,   2596.7,2,   2.9415,2,  34.9425,2,  34.9413,2,    257.7,2,    257.5,3,    25.68,2,    19.74,2,     0.00,2,     1.27,2,    0.052,2,    0.023,2,   2141.4,3,   -999.0,9,   2313.2,3,     8.02,2,  2.7331, -999.00,9, 2598.0,2, -999.00,9
35LLETAMBOT1_2,  AR04,    73,  1,      9,    9.0,2,19951004,0719,  3.5352, -43.4573,   20,   2596.9,2,   2.9417,2,  34.9426,2,  34.9412,2,    257.7,2,    257.7,2,    25.82,2,    19.65,2,     0.00,2,     1.28,2,    0.042,2,    0.014,2,   2139.6,3,   -999.0,9,   2311.4,3,     8.02,2,  2.7333, -999.00,9, 2598.0,2, -999.00,9
35LLETAMBOT1_2,  AR04,    73,  1,      8,    8.0,2,19951004,0719,  3.5352, -43.4573,   20,   2797.3,2,   2.8108,2,  34.9342,2,  34.9334,2,    257.6,2,    257.5,2,    27.52,2,    19.73,2,     0.00,2,     1.28,2,    0.063,2,    0.028,2,   2115.5,3,   -999.0,9,   2286.0,3,     8.01,2,  2.5849, -999.00,9, 2799.0,2, -999.00,9
35LLETAMBOT1_2,  AR04,    73,  1,      7,    7.0,2,19951004,0719,  3.5352, -43.4573,   20,   2998.3,2,   2.7206,2,  34.9281,2,  34.9269,2,    258.4,2,    258.6,2,    28.80,2,    19.79,2,     0.00,2,     1.29,2,    0.073,2,    0.032,2,   2149.7,3,   -999.0,9,   2321.6,3,     8.01,2,  2.4761, -999.00,9, 2999.0,2, -999.00,9
35LLETAMBOT1_2,  AR04,    73,  1,      6,    6.0,2,19951004,0719,  3.5352, -43.4573,   20,   3299.4,2,   2.5951,2,  34.9197,2,  34.9184,2,    259.7,2,    259.7,2,    30.12,2,    19.70,2,     0.00,2,     1.29,2,    0.103,2,    0.046,2,   2133.0,3,   -999.0,9,   2303.0,3,     7.99,2,  2.3219, -999.00,9, 3301.0,2, -999.00,9
35LLETAMBOT1_2,  AR04,    73,  1,      5,    5.0,2,19951004,0719,  3.5352, -43.4573,   20,   3601.3,2,   2.4485,2,  34.9098,2,  34.9082,2,    262.7,2,    263.3,2,    30.52,2,    19.42,2,     0.00,2,     1.28,2,    0.133,2,    0.064,2,   2134.6,3,   -999.0,9,   2304.8,3,     7.98,2,  2.1463, -999.00,9, 3603.0,2, -999.00,9
35LLETAMBOT1_2,  AR04,    73,  1,      4,    4.0,2,19951004,0719,  3.5352, -43.4573,   20,   3800.0,2,   2.3322,2,  34.9013,2,  34.8990,2,    263.6,2,    263.0,2,    32.25,2,    19.41,2,     0.00,2,     1.29,2,    0.149,2,    0.076,2,   2144.9,3,   -999.0,9,   2315.4,3,     7.98,2,  2.0112, -999.00,9, 3802.0,2, -999.00,9
35LLETAMBOT1_2,  AR04,    73,  1,      3,    3.0,2,19951004,0719,  3.5352, -43.4573,   20,   4000.3,2,   2.2773,2,  34.8959,2,  34.8931,2,    263.3,2,    263.1,2,    33.24,2,    19.49,2,     0.00,2,     1.30,2,    0.156,2,    0.081,2,   2125.7,3,   -999.0,9,   2295.3,3,     7.97,2,  1.9352, -999.00,9, 4002.0,2, -999.00,9
35LLETAMBOT1_2,  AR04,    73,  1,      2,    2.0,2,19951004,0719,  3.5352, -43.4573,   20,   4200.5,2,   2.1792,2,  34.8833,2,  34.8834,2,    261.4,2,    260.6,2,    37.97,2,    20.12,2,     0.00,2,     1.35,2,    0.136,2,    0.074,2,   2137.7,3,   -999.0,9,   2304.7,3,     7.96,2,  1.8171, -999.00,9, 4201.0,2, -999.00,9
35LLETAMBOT1_2,  AR04,    73,  1,      1,    1.0,2,19951004,0719,  3.5352, -43.4573,   20,   4298.1,2,   1.8168,2,  34.8391,2,  34.8361,2,    249.5,2,    249.8,2,    59.81,2,    23.32,2,     0.00,2,     1.58,2,    0.079,2,    0.041,2,   2161.1,3,   -999.0,9,   2319.0,3,     7.93,2,  1.4544, -999.00,9, 4299.0,2, -999.00,9
35LLETAMBOT1_2,  AR04,    74,  1,     24,   24.0,2,19951004,1204,  3.8302, -43.2983,   20,      2.5,2,  28.2831,2,  35.5703,2,  35.7439,2,    200.6,2,    196.5,2,     1.58,2,     0.17,2,     0.00,2,     0.03,2, -999.000,9, -999.000,9,   -999.0,9,    377.6,2,   -999.0,9,  -999.00,9, 28.2825,    0.11,2,    4.0,2,    0.03,2
35LLETAMBOT1_2,  AR04,    74,  1,     23,   23.0,2,19951004,1204,  3.8302, -43.2983,   20,     31.1,2,  28.0700,2,  35.8175,2,  35.7438,2,    198.0,2,    198.8,2,     1.56,2,     0.17,2,     0.00,2,     0.03,2, -999.000,9, -999.000,9,   -999.0,9,   -999.0,9,   -999.0,9,  -999.00,9, 28.0626, -999.00,9,   32.0,2, -999.00,9
35LLETAMBOT1_2,  AR04,    74,  1,     22,   22.0,2,19951004,1204,  3.8302, -43.2983,   20,    198.8,2,  12.1705,2,  35.3416,2,  35.3917,2,    115.5,2,    113.7,2,     9.24,2,    23.18,2,     0.00,2,     1.43,2, -999.000,9, -999.000,9,   -999.0,9,   -999.0,9,   -999.0,9,  -999.00,9, 12.1442, -999.00,9,  201.0,2, -999.00,9
35LLETAMBOT1_2,  AR04,    74,  1,     21,   21.0,2,19951004,1204,  3.8302, -43.2983,   20,    397.6,2,   7.3076,2,  34.6722,2,  34.6743,2,    117.8,2,    117.0,2,    19.15,2,    32.99,2,     0.00,2,     2.11,2, -999.000,9, -999.000,9,   -999.0,9,   -999.0,9,   -999.0,9,  -999.00,9,  7.2691, -999.00,9,  400.0,2, -999.00,9
35LLETAMBOT1_2,  AR04,    74,  1,     20,   20.0,2,19951004,1204,  3.8302, -43.2983,   20,    597.1,2,   5.9171,2,  34.5745,2,  34.5751,2,    127.7,2,    126.6,2,    24.41,2,    35.20,2,     0.00,2,     2.26,2, -999.000,9, -999.000,9,   -999.0,9,   -999.0,9,   -999.0,9,  -999.00,9,  5.8648, -999.00,9,  599.0,2, -999.00,9
35LLETAMBOT1_2,  AR04,    74,  1,     19,   19.0,2,19951004,1204,  3.8302, -43.2983,   20,    798.3,2,   4.9213,2,  34.5615,2,  34.5618,2,    143.2,2,    144.9,2,    29.47,2,    34.78,2,     0.00,2,     2.27,2,    0.059,2,    0.025,2,   -999.0,9,   -999.0,9,   -999.0,9,  -999.00,9,  4.8564, -999.00,9,  800.0,2, -999.00,9
35LLETAMBOT1_2,  AR04,    74,  1,     18,   18.0,2,19951004,1204,  3.8302, -43.2983,   20,    996.8,2,   4.6381,2,  34.6844,2,  34.6688,2,    155.6,2,    154.0,2,    28.87,2,    32.93,2,     0.00,2,     2.16,2,    0.039,2,    0.019,2,   -999.0,9,   -999.0,9,   -999.0,9,  -999.00,9,  4.5575, -999.00,9,  998.0,2, -999.00,9
35LLETAMBOT1_2,  AR04,    74,  1,     17,   17.0,2,19951004,1204,  3.8302, -43.2983,   20,   1198.1,2,   4.6441,2,  34.8009,2,  34.8203,2,    173.7,2,    177.4,2,    23.59,2,    28.60,2,     0.00,2,     1.86,2,    0.049,2,    0.025,2,   -999.0,9,   -999.0,9,   -999.0,9,  -999.00,9,  4.5452, -999.00,9, 1200.0,2, -999.00,9
35LLETAMBOT1_2,  AR04,    74,  1,     16,   16.0,2,19951004,1204,  3.8302, -43.2983,   20,   1396.9,2,   4.4978,2,  34.9417,2,  34.9549,2,    211.9,2,    218.3,2,    17.62,2,    22.96,2,     0.00,2,     1.47,2,    0.099,2,    0.051,2,   -999.0,9,   -999.0,9,   -999.0,9,  -999.00,9,  4.3817, -999.00,9, 1398.0,2, -999.00,9
35LLETAMBOT1_2,  AR04,    74,  1,     15,   15.0,2,19951004,1204,  3.8302, -43.2983,   20,   1496.6,2,   4.3950,2,  34.9663,2,  34.9728,2,    224.0,2,    228.8,2,    16.36,2,    21.77,2,     0.00,2,     1.38,2,    0.119,2,    0.068,2,   -999.0,9,   -999.0,9,   -999.0,9,  -999.00,9,  4.2707, -999.00,9, 1498.0,2, -999.00,9
35LLETAMBOT1_2,  AR04,    74,  1,     14,   14.0,2,19951004,1204,  3.8302, -43.2983,   20,   1596.3,2,   4.2216,2,  34.9772,2,  34.9793,2,    235.4,2,    237.3,2,    15.75,2,    20.85,2,     0.00,2,     1.31,2,    0.114,2,    0.062,2,   -999.0,9,   -999.0,9,   -999.0,9,  -999.00,9,  4.0899, -999.00,9, 1598.0,2, -999.00,9
35LLETAMBOT1_2,  AR04,    74,  1,     13,   13.0,2,19951004,1204,  3.8302, -43.2983,   20,   1675.0,2,   4.1120,2,  34.9789,2,  34.9791,2,    237.7,2,    241.1,2,    15.83,2,    20.55,2,     0.00,2,     1.31,2,    0.087,2,    0.049,2,   -999.0,9,   -999.0,9,   -999.0,9,  -999.00,9,  3.9742, -999.00,9, 1676.0,2, -999.00,9
35LLETAMBOT1_2,  AR04,    74,  1,     12,   12.0,2,19951004,1204,  3.8302, -43.2983,   20,   1796.2,2,   3.9715,2,  34.9818,2,  34.9833,2,    246.5,2,    248.8,2,    15.33,2,    19.67,2,     0.00,2,     1.27,2,    0.128,2,    0.082,2,   -999.0,9,   -999.0,9,   -999.0,9,  -999.00,9,  3.8240, -999.00,9, 1798.0,2, -999.00,9
35LLETAMBOT1_2,  AR04,    74,  1,     10,   10.0,2,19951004,1204,  3.8302, -43.2983,   20,   1996.6,2,   3.6058,2,  34.9733,2,  34.9748,2,    254.5,2,    254.4,2,    16.67,2,    19.09,2,     0.00,2,     1.26,2,    0.086,2,    0.050,2,   -999.0,9,   -999.0,9,   -999.0,9,  -999.00,9,  3.4444, -999.00,9, 1999.0,2, -999.00,9
35LLETAMBOT1_2,  AR04,    74,  1,     11,   11.0,2,19951004,1204,  3.8302, -43.2983,   20,   1997.0,2,   3.6029,2,  34.9738,2,  34.9758,2,    253.9,2,    254.8,2,    16.73,2,    19.19,2,     0.00,2,     1.25,2,    0.100,2,    0.054,2,   -999.0,9,   -999.0,9,   -999.0,9,  -999.00,9,  3.4415, -999.00,9, 1998.0,2, -999.00,9
35LLETAMBOT1_2,  AR04,    74,  1,      9,    9.0,2,19951004,1204,  3.8302, -43.2983,   20,   2196.7,2,   3.4426,2,  34.9711,2,  34.9686,2,    257.1,2,    257.7,2,    17.45,2,    18.73,2,     0.00,2,     1.24,2,    0.100,2,    0.057,2,   -999.0,9,   -999.0,9,   -999.0,9,  -999.00,9,  3.2645, -999.00,9, 2198.0,2, -999.00,9
35LLETAMBOT1_2,  AR04,    74,  1,      8,    8.0,2,19951004,1204,  3.8302, -43.2983,   20,   2397.9,2,   3.1783,2,  34.9545,2,  34.9510,2,    256.3,2,    254.9,2,    21.67,2,    19.37,2,     0.00,2,     1.30,2,    0.041,2,    0.027,2,   -999.0,9,   -999.0,9,   -999.0,9,  -999.00,9,  2.9851, -999.00,9, 2399.0,2, -999.00,9
35LLETAMBOT1_2,  AR04,    74,  1,      7,    7.0,2,19951004,1204,  3.8302, -43.2983,   20,   2597.8,2,   2.9712,2,  34.9424,2,  34.9431,2,    256.2,2,    256.7,2,    22.85,2,    19.22,2,     0.00,2,     1.31,2,    0.038,2,    0.025,2,   -999.0,9,   -999.0,9,   -999.0,9,  -999.00,9,  2.7621, -999.00,9, 2600.0,2, -999.00,9
35LLETAMBOT1_2,  AR04,    74,  1,      6,    6.0,2,19951004,1204,  3.8302, -43.2983,   20,   2778.6,2,   2.8285,2,  34.9347,2,  34.9342,2,    255.7,2,    257.1,2,    24.67,2,    19.25,2,     0.01,2,     1.32,2,    0.046,2,    0.029,2,   -999.0,9,   -999.0,9,   -999.0,9,  -999.00,9,  2.6041, -999.00,9, 2780.0,2, -999.00,9
35LLETAMBOT1_2,  AR04,    74,  1,      5,    5.0,2,19951004,1204,  3.8302, -43.2983,   20,   3000.3,2,   2.7321,2,  34.9279,2,  34.9269,2,    257.1,2,    257.2,2,    25.96,2,    19.22,2,     0.01,2,     1.33,2,    0.060,2,    0.032,2,   -999.0,9,   -999.0,9,   -999.0,9,  -999.00,9,  2.4871, -999.00,9, 3001.0,2, -999.00,9
35LLETAMBOT1_2,  AR04,    74,  1,      4,    4.0,2,19951004,1204,  3.8302, -43.2983,   20,   3197.8,2,   2.6360,2,  34.9228,2,  34.9212,2,    258.6,2,    259.0,2,    26.26,2,    18.97,2,     0.01,2,     1.32,2,    0.089,2,    0.044,2,   -999.0,9,   -999.0,9,   -999.0,9,  -999.00,9,  2.3726, -999.00,9, 3199.0,2, -999.00,9
35LLETAMBOT1_2,  AR04,    74,  1,      3,    3.0,2,19951004,1204,  3.8302, -43.2983,   20,   3399.5,2,   2.5594,2,  34.9177,2,  34.9164,2,    260.7,2,    261.1,2,    26.34,2,    18.68,2,     0.01,2,     1.31,2,    0.132,2,    0.063,2,   -999.0,9,   -999.0,9,   -999.0,9,  -999.00,9,  2.2763, -999.00,9, 3401.0,2, -999.00,9
35LLETAMBOT1_2,  AR04,    74,  1,      2,    2.0,2,19951004,1204,  3.8302, -43.2983,   20,   3601.6,2,   2.4371,2,  34.9090,2,  34.9081,2,    261.4,2,    261.6,2,    27.56,2,    18.67,2,     0.01,2,     1.32,2,    0.123,2,    0.060,2,   -999.0,9,   -999.0,9,   -999.0,9,  -999.00,9,  2.1352, -999.00,9, 3603.0,2, -999.00,9
35LLETAMBOT1_2,  AR04,    74,  1,      1,    1.0,2,19951004,1204,  3.8302, -43.2983,   20,   3742.9,2,   2.3907,2,  34.9059,2,  34.9063,2,    260.8,2,    262.1,2,    27.88,2,    18.56,2,     0.01,2,     1.31,2,    0.123,2,    0.069,2,   -999.0,9,   -999.0,9,   -999.0,9,  -999.00,9,  2.0744, -999.00,9, 3745.0,2, -999.00,9