BOTTLE,20220929CCHSIOAMB
EXPOCODE,SECT_ID,STNNBR,CASTNO,SAMPNO,BTLNBR,BTLNBR_FLAG_W,DATE,TIME,LATITUDE,LONGITUDE,DEPTH,CTDPRS,CTDPRS_FLAG_W,CTDTMP,CTDTMP_FLAG_W,CTDSAL,CTDSAL_FLAG_W,SALNTY,SALNTY_FLAG_W,CTDOXY,CTDOXY_FLAG_W,OXYGEN,OXYGEN_FLAG_W,SILCAT,SILCAT_FLAG_W,NITRAT,NITRAT_FLAG_W,NITRIT,NITRIT_FLAG_W,PHSPHT,PHSPHT_FLAG_W,CFC-11,CFC-11_FLAG_W,CFC-12,CFC-12_FLAG_W,TCARBN,TCARBN_FLAG_W,PCO2,PCO2_FLAG_W,ALKALI,ALKALI_FLAG_W,PH,PH_FLAG_W,THETA,CHLORA,CHLORA_FLAG_W,CTDRAW,CTDRAW_FLAG_W,PPHYTN,PPHYTN_FLAG_W
,,,,,,,,,,,,DBAR,,DEG C,,PSS-78,,PSS-78,,UMOL/KG,,UMOL/KG,,UMOL/KG,,UMOL/KG,,UMOL/KG,,UMOL/KG,,PMOL/KG,,PMOL/KG,,UMOL/KG,,UATM,,UMOL/KG,,,,DEG C,UG/L,,DBAR,,UG/L,
35LLETAMBOT1_1,  AR15,    14,  1,     22,   22.0,2,19950912,0942,  7.4990, -48.9972,   15,     -0.5,2,  29.6624,2,  34.0655,2,  34.1454,2,    195.8,2,    196.0,2,     3.39,2,     0.00,2,     0.00,2,     0.00,2, -999.000,9, -999.000,9,   1897.3,2,   -999.0,9,   2280.8,2,     8.09,2, 29.6625,    0.11,2,    2.0,2,    0.04,2
35LLETAMBOT1_1,  AR15,    14,  1,     21,   21.0,2,19950912,0942,  7.4990, -48.9972,   15,     74.0,2,  23.9039,2,  36.8051,2,  36.7820,2,    189.0,2,    188.8,2,     0.66,2,     0.01,2,     0.19,2,     0.03,2, -999.000,9, -999.000,9,   2074.8,2,   -999.0,9,   2444.5,2,     8.10,2, 23.8883, -999.00,9,   76.0,2, -999.00,9
35LLETAMBOT1_1,  AR15,    14,  1,     20,   20.0,2,19950912,0942,  7.4990, -48.9972,   15,    197.7,2,  12.0685,2,  35.3672,2,  35.4330,2,    102.0,2,    102.2,2,     9.32,2,    23.77,2,     0.01,2,     1.47,2, -999.000,9, -999.000,9,   2196.0,2,   -999.0,9,   2351.2,2,     7.93,2, 12.0425, -999.00,9,  199.0,2, -999.00,9
35LLETAMBOT1_1,  AR15,    14,  1,     19,   19.0,2,19950912,0942,  7.4990, -48.9972,   15,    297.3,2,   9.3257,2,  34.9127,2,  34.9650,2,    121.5,2,    103.2,2,    14.10,2,    28.89,2,     0.01,2,     1.85,2, -999.000,9, -999.000,9,   2188.0,2,   -999.0,9,   2309.7,2,     7.88,2,  9.2925, -999.00,9,  299.0,2, -999.00,9
35LLETAMBOT1_1,  AR15,    14,  1,     18,   18.0,2,19950912,0942,  7.4990, -48.9972,   15,    498.9,2,   6.6336,2,  34.6018,2,  34.6120,2,    132.6,2,    132.8,2,    21.71,2,    32.28,2,     0.01,2,     2.15,2, -999.000,9, -999.000,9,   2202.9,2,   -999.0,9,   2309.7,2,     7.88,2,  6.5875, -999.00,9,  500.0,2, -999.00,9
35LLETAMBOT1_1,  AR15,    14,  1,     17,   17.0,2,19950912,0942,  7.4990, -48.9972,   15,    995.6,2,   4.8130,2,  34.6768,2,  34.7260,2,    153.8,2,    153.4,2,    28.26,2,    31.42,2,     0.01,2,     2.13,2,    0.022,2,    0.003,2,   2212.9,2,   -999.0,9,   2323.5,2,     7.89,2,  4.7312, -999.00,9,  998.0,2, -999.00,9
35LLETAMBOT1_1,  AR15,    14,  1,     16,   16.0,2,19950912,0942,  7.4990, -48.9972,   15,   1296.8,2,   4.8737,2,  34.9494,2,  34.9560,2,    204.5,2,    204.7,2,    19.82,2,    23.43,2,     0.00,2,     1.58,2,    0.157,2,    0.073,2,   2179.7,2,   -999.0,9,   2290.8,3,     7.88,3,  4.7632, -999.00,9, 1298.0,2, -999.00,9
35LLETAMBOT1_1,  AR15,    14,  1,     15,   15.0,2,19950912,0942,  7.4990, -48.9972,   15,   1594.4,2,   4.3670,2,  34.9928,2,  34.9980,2,    239.6,2,    242.1,2,    15.80,2,    19.46,2,     0.00,2,     1.30,2,    0.258,2,    0.114,2,   2154.6,2,   -999.0,9,   2301.2,3,     7.97,3,  4.2337, -999.00,9, 1595.0,2, -999.00,9
35LLETAMBOT1_1,  AR15,    14,  1,     14,   14.0,2,19950912,0942,  7.4990, -48.9972,   15,   1693.8,2,   4.1577,2,  34.9952,2,  34.9930,2,    247.9,2,    246.6,2,    15.88,2,    19.16,2,     0.00,2,     1.29,2,    0.187,2,    0.091,2,   2146.6,2,   -999.0,9,   2313.6,2,     8.02,2,  4.0175, -999.00,9, 1695.0,2, -999.00,9
35LLETAMBOT1_1,  AR15,    14,  1,     13,   13.0,2,19950912,0942,  7.4990, -48.9972,   15,   1796.4,2,   3.9881,2,  34.9907,2,  34.9860,2,    252.6,2,    250.0,2,    16.67,2,    19.01,2,     0.00,2,     1.28,2,    0.119,2,    0.060,2,   2152.5,2,   -999.0,9,   2324.3,2,     8.03,2,  3.8404, -999.00,9, 1798.0,2, -999.00,9
35LLETAMBOT1_1,  AR15,    14,  1,     12,   12.0,2,19950912,0942,  7.4990, -48.9972,   15,   1896.8,2,   3.7873,2,  34.9781,2,  34.9780,2,    252.0,2,    251.0,2,    18.06,2,    19.15,2,     0.00,2,     1.29,2,    0.121,3,    0.057,3,   2140.7,2,   -999.0,9,   2312.1,2,     8.03,2,  3.6328, -999.00,9, 1898.0,2, -999.00,9
35LLETAMBOT1_1,  AR15,    14,  1,     11,   11.0,2,19950912,0942,  7.4990, -48.9972,   15,   1897.2,2,   3.7858,2,  34.9780,2,  34.9790,2,    252.1,2,    251.3,2,    18.53,2,    19.15,2,     0.00,2,     1.29,2,    0.066,2,    0.035,2,   2148.6,2,   -999.0,9,   2320.4,2,     8.03,2,  3.6313, -999.00,9, 1899.0,2, -999.00,9
35LLETAMBOT1_1,  AR15,    14,  1,     10,   10.0,2,19950912,0942,  7.4990, -48.9972,   15,   1996.0,2,   3.6500,2,  34.9747,2,  34.9758,2,    252.7,2,    252.9,2,    19.02,2,    19.02,2,     0.00,2,     1.28,2,    0.051,2,    0.035,2,   2146.9,2,   -999.0,9,   2319.4,2,     8.03,2,  3.4880, -999.00,9, 1998.0,2, -999.00,9
35LLETAMBOT1_1,  AR15,    14,  1,      9,    9.0,2,19950912,0942,  7.4990, -48.9972,   15,   2398.2,2,   3.2300,2,  34.9598,2,  34.9620,2,    257.6,2,    260.0,2,    21.14,2,    18.48,2,     0.00,2,     1.25,2,    0.099,2,    0.054,2,   2155.1,2,   -999.0,9,   2331.2,2,     8.03,2,  3.0359, -999.00,9, 2400.0,2, -999.00,9
35LLETAMBOT1_1,  AR15,    14,  1,      8,    8.0,2,19950912,0942,  7.4990, -48.9972,   15,   2598.2,2,   3.0814,2,  34.9516,2,  34.9518,2,    260.4,2,    260.5,2,    23.01,2,    18.60,2,     0.00,2,     1.25,2,    0.095,2,    0.060,2,   2138.6,3,   -999.0,9,   2312.8,3,     8.02,2,  2.8702, -999.00,9, 2599.0,2, -999.00,9
35LLETAMBOT1_1,  AR15,    14,  1,      7,    7.0,2,19950912,0942,  7.4990, -48.9972,   15,   2798.6,2,   2.8790,2,  34.9400,2,  34.9399,2,    259.6,2,    259.3,2,    26.14,2,    18.93,2,     0.00,2,     1.28,2,    0.086,2,    0.053,2,   2145.6,3,   -999.0,9,   2320.1,3,     8.02,2,  2.6516, -999.00,9, 2801.0,2, -999.00,9
35LLETAMBOT1_1,  AR15,    14,  1,      6,    6.0,2,19950912,0942,  7.4990, -48.9972,   15,   2999.1,2,   2.7361,2,  34.9300,2,  34.9293,2,    258.7,2,    258.8,2,    29.38,2,    19.27,2,     0.00,2,     1.31,2,    0.102,2,    0.068,2,   2153.8,2,   -999.0,9,   2327.7,2,     8.01,2,  2.4912, -999.00,9, 3001.0,2, -999.00,9
35LLETAMBOT1_1,  AR15,    14,  1,      5,    5.0,2,19950912,0942,  7.4990, -48.9972,   15,   3300.1,2,   2.5312,2,  34.9160,2,  34.9154,2,    259.6,2,    261.0,2,    30.93,2,    19.12,2,     0.00,2,     1.30,2,    0.132,2,    0.074,2,   2156.3,2,   -999.0,9,   2329.4,2,     8.00,2,  2.2595, -999.00,9, 3301.0,2, -999.00,9
35LLETAMBOT1_1,  AR15,    14,  1,      4,    4.0,4,19950912,0942,  7.4990, -48.9972,   15,   3600.4,2,   2.3617,2,  34.9058,2,-999.0000,9,    263.4,2,   -999.0,9,  -999.00,9,  -999.00,9,  -999.00,9,  -999.00,9, -999.000,9, -999.000,9,   -999.0,9,   -999.0,9,   -999.0,9,  -999.00,9,  2.0619, -999.00,9, 3602.0,2, -999.00,9
35LLETAMBOT1_1,  AR15,    14,  1,      3,    3.0,2,19950912,0942,  7.4990, -48.9972,   15,   3801.0,2,   2.2857,2,  34.9001,2,  34.8986,2,    263.8,2,    264.6,2,    32.56,2,    18.91,2,     0.00,2,     1.28,2,    0.181,2,    0.099,2,   2162.2,2,   -999.0,9,   2335.6,2,     7.98,2,  1.9658, -999.00,9, 3802.0,2, -999.00,9
35LLETAMBOT1_1,  AR15,    14,  1,      2,    2.0,2,19950912,0942,  7.4990, -48.9972,   15,   4002.0,2,   2.2334,2,  34.8946,2,  34.8930,2,    263.9,2,    264.1,2,    34.54,2,    19.12,2,     0.00,2,     1.30,2,    0.164,2,    0.098,2,   2171.3,2,   -999.0,9,   2343.1,2,     7.97,2,  1.8924, -999.00,9, 4004.0,2, -999.00,9
35LLETAMBOT1_1,  AR15,    14,  1,      1,    1.0,2,19950912,0942,  7.4990, -48.9972,   15,   4337.6,2,   2.1392,2,  34.8796,2,  34.8770,2,    259.6,2,    257.7,2,    42.97,2,    20.41,2,     0.00,2,     1.40,2,    0.101,2,    0.156,3,   2163.3,3,   -999.0,9,   2331.7,3,     7.95,2,  1.7623, -999.00,9, 4338.0,2, -999.00,9
35LLETAMBOT1_1,  AR15,    15,  1,     21,   21.0,2,19950912,1557,  7.4990, -48.5000,   15,     72.5,2,  25.4049,2,  36.6498,2,  36.5844,2,    208.6,2,    208.7,2,     0.36,2,     0.12,2,     0.01,2,     0.00,2, -999.000,9, -999.000,9,   -999.0,9,   -999.0,9,   -999.0,9,  -999.00,9, 25.3889, -999.00,9,   73.0,2, -999.00,9
35LLETAMBOT1_1,  AR15,    15,  1,     20,   20.0,2,19950912,1557,  7.4990, -48.5000,   15,    178.3,2,  12.6443,2,  35.3922,2,  35.3060,2,    113.3,2,    114.3,2,     9.90,2,    23.62,2,     0.01,2,     1.47,2, -999.000,9, -999.000,9,   -999.0,9,   -999.0,9,   -999.0,9,  -999.00,9, 12.6201, -999.00,9,  179.0,2, -999.00,9
35LLETAMBOT1_1,  AR15,    15,  1,     19,   19.0,2,19950912,1557,  7.4990, -48.5000,   15,    396.8,2,   7.5348,2,  34.6865,2,  34.6930,2,    136.0,2,    133.2,2,    18.98,2,    30.82,2,     0.01,2,     2.00,2, -999.000,9, -999.000,9,   -999.0,9,   -999.0,9,   -999.0,9,  -999.00,9,  7.4957, -999.00,9,  398.0,2, -999.00,9
35LLETAMBOT1_1,  AR15,    15,  1,     18,   18.0,2,19950912,1557,  7.4990, -48.5000,   15,    595.7,2,   6.1804,2,  34.5926,2,  34.5787,2,    129.5,2,    132.7,2,    24.97,2,    34.13,2,     0.00,2,     2.24,2, -999.000,9, -999.000,9,   -999.0,9,   -999.0,9,   -999.0,9,  -999.00,9,  6.1270, -999.00,9,  597.0,2, -999.00,9
35LLETAMBOT1_1,  AR15,    15,  1,     17,   17.0,2,19950912,1557,  7.4990, -48.5000,   15,    997.2,2,   4.8727,2,  34.7106,2,  34.7100,2,    153.9,2,    153.0,2,    28.85,2,    32.05,2,     0.00,2,     2.15,2,   -0.008,2,    0.003,2,   -999.0,9,   -999.0,9,   -999.0,9,  -999.00,9,  4.7903, -999.00,9,  997.0,2, -999.00,9
35LLETAMBOT1_1,  AR15,    15,  1,     16,   16.0,2,19950912,1557,  7.4990, -48.5000,   15,   1298.2,2,   4.9040,2,  34.9573,2,  34.9504,2,    202.2,2,    201.6,2,    20.76,2,    24.08,2,     0.00,2,     1.59,2,    0.119,2,    0.050,2,   -999.0,9,   -999.0,9,   -999.0,9,  -999.00,9,  4.7931, -999.00,9, 1298.0,2, -999.00,9
35LLETAMBOT1_1,  AR15,    15,  1,     15,   15.0,2,19950912,1557,  7.4990, -48.5000,   15,   1597.5,2,   4.2295,2,  34.9899,2,  34.9930,2,    239.9,2,    238.8,2,    16.87,2,    20.18,2,     0.00,2,     1.33,2,    0.167,2,    0.077,2,   -999.0,9,   -999.0,9,   -999.0,9,  -999.00,9,  4.0975, -999.00,9, 1599.0,2, -999.00,9
35LLETAMBOT1_1,  AR15,    15,  1,     14,   14.0,2,19950912,1557,  7.4990, -48.5000,   15,   1698.2,2,   4.0990,2,  34.9941,2,  34.9948,2,    246.5,2,    247.0,2,    16.34,2,    19.39,2,     0.00,2,     1.27,2,    0.177,2,    0.086,2,   -999.0,9,   -999.0,9,   -999.0,9,  -999.00,9,  3.9591, -999.00,9, 1700.0,2, -999.00,9
35LLETAMBOT1_1,  AR15,    15,  1,     12,   12.0,2,19950912,1557,  7.4990, -48.5000,   15,   1795.8,2,   3.9408,2,  34.9879,2,  34.9920,2,    251.8,2,    249.9,2,    16.69,2,    19.17,2,     0.00,2,     1.26,2,    0.230,2,    0.108,2,   -999.0,9,   -999.0,9,   -999.0,9,  -999.00,9,  3.7938, -999.00,9, 1796.0,2, -999.00,9
35LLETAMBOT1_1,  AR15,    15,  1,     13,   13.0,2,19950912,1557,  7.4990, -48.5000,   15,   1795.8,2,   3.9408,2,  34.9879,2,  34.9930,2,    251.8,2,    250.0,2,    16.69,2,    19.18,2,     0.00,2,     1.25,2,    0.166,2,    0.077,2,   -999.0,9,   -999.0,9,   -999.0,9,  -999.00,9,  3.7938, -999.00,9, 1796.0,2, -999.00,9
35LLETAMBOT1_1,  AR15,    15,  1,     11,   11.0,2,19950912,1557,  7.4990, -48.5000,   15,   1997.7,2,   3.5771,2,  34.9757,2,  34.9790,2,    254.3,2,    256.0,2,    18.98,2,    18.98,2,     0.00,2,     1.25,2,    0.081,2,    0.040,2,   -999.0,9,   -999.0,9,   -999.0,9,  -999.00,9,  3.4160, -999.00,9, 1999.0,2, -999.00,9
35LLETAMBOT1_1,  AR15,    15,  1,     10,   10.0,2,19950912,1557,  7.4990, -48.5000,   15,   2198.6,2,   3.3386,2,  34.9663,2,  34.9660,2,    255.8,2,    257.0,2,    20.88,2,    18.93,2,     0.00,2,     1.25,2,    0.046,2,    0.028,2,   -999.0,9,   -999.0,9,   -999.0,9,  -999.00,9,  3.1620, -999.00,9, 2199.0,2, -999.00,9
35LLETAMBOT1_1,  AR15,    15,  1,      9,    9.0,2,19950912,1557,  7.4990, -48.5000,   15,   2398.3,2,   3.1781,2,  34.9577,2,  34.9589,2,    257.7,2,    258.7,2,    22.31,2,    18.96,2,     0.00,2,     1.25,2,    0.046,2,    0.026,2,   -999.0,9,   -999.0,9,   -999.0,9,  -999.00,9,  2.9849, -999.00,9, 2399.0,2, -999.00,9
35LLETAMBOT1_1,  AR15,    15,  1,      8,    8.0,2,19950912,1557,  7.4990, -48.5000,   15,   2598.0,2,   3.0256,2,  34.9488,2,  34.9488,2,    257.0,2,    258.4,2,    24.64,2,    19.07,2,     0.00,2,     1.26,2,    0.034,2,    0.018,2,   -999.0,9,   -999.0,9,   -999.0,9,  -999.00,9,  2.8154, -999.00,9, 2599.0,2, -999.00,9
35LLETAMBOT1_1,  AR15,    15,  1,      7,    7.0,2,19950912,1557,  7.4990, -48.5000,   15,   2799.1,2,   2.8736,2,  34.9394,2,  34.9396,2,    257.6,2,    258.7,2,    27.00,2,    19.28,2,     0.00,2,     1.28,2,    0.040,2,    0.024,2,   -999.0,9,   -999.0,9,   -999.0,9,  -999.00,9,  2.6462, -999.00,9, 2800.0,2, -999.00,9
35LLETAMBOT1_1,  AR15,    15,  1,      6,    6.0,2,19950912,1557,  7.4990, -48.5000,   15,   2998.4,2,   2.7577,2,  34.9321,2,  34.9316,2,    258.9,2,    259.1,2,    28.94,2,    19.34,2,     0.00,2,     1.28,2,    0.062,2,    0.032,2,   -999.0,9,   -999.0,9,   -999.0,9,  -999.00,9,  2.5124, -999.00,9, 3000.0,2, -999.00,9
35LLETAMBOT1_1,  AR15,    15,  1,      5,    5.0,2,19950912,1557,  7.4990, -48.5000,   15,   3299.9,2,   2.5308,2,  34.9165,2,  34.9165,2,    261.5,2,    260.0,2,    31.79,2,    19.38,2,     0.00,2,     1.29,2,    0.099,2,    0.044,2,   -999.0,9,   -999.0,9,   -999.0,9,  -999.00,9,  2.2591, -999.00,9, 3300.0,2, -999.00,9
35LLETAMBOT1_1,  AR15,    15,  1,      4,    4.0,2,19950912,1557,  7.4990, -48.5000,   15,   3600.1,2,   2.3219,2,  34.9039,2,  34.9031,2,    263.1,2,    264.3,2,    31.89,2,    18.98,2,     0.00,2,     1.27,2,    0.153,2,    0.066,2,   -999.0,9,   -999.0,9,   -999.0,9,  -999.00,9,  2.0231, -999.00,9, 3601.0,2, -999.00,9
35LLETAMBOT1_1,  AR15,    15,  1,      3,    3.0,2,19950912,1557,  7.4990, -48.5000,   15,   3801.0,2,   2.2753,2,  34.8990,2,  34.8940,2,    263.8,2,    263.9,2,    33.73,2,    19.10,2,     0.00,2,     1.28,2,    0.146,2,    0.066,2,   -999.0,9,   -999.0,9,   -999.0,9,  -999.00,9,  1.9557, -999.00,9, 3801.0,2, -999.00,9
35LLETAMBOT1_1,  AR15,    15,  1,      2,    2.0,2,19950912,1557,  7.4990, -48.5000,   15,   4001.4,2,   2.2443,2,  34.8949,2,  34.8890,2,    263.9,2,    263.2,2,    35.44,2,    19.30,2,     0.00,2,     1.30,2,    0.128,2,    0.054,2,   -999.0,9,   -999.0,9,   -999.0,9,  -999.00,9,  1.9030, -999.00,9, 4003.0,2, -999.00,9
35LLETAMBOT1_1,  AR15,    15,  1,      1,    1.0,2,19950912,1557,  7.4990, -48.5000,   15,   4339.4,2,   2.1957,2,  34.8849,2,  34.8837,2,    260.4,2,    259.4,2,    41.00,2,    20.03,2,     0.00,2,     1.35,2,    0.102,2,    0.063,2,   -999.0,9,   -999.0,9,   -999.0,9,  -999.00,9,  1.8169, -999.00,9, 4340.0,2, -999.00,9