BOTTLE,20220929CCHSIOAMB
EXPOCODE,SECT_ID,STNNBR,CASTNO,SAMPNO,BTLNBR,BTLNBR_FLAG_W,DATE,TIME,LATITUDE,LONGITUDE,DEPTH,CTDPRS,CTDPRS_FLAG_W,CTDTMP,CTDTMP_FLAG_W,CTDSAL,CTDSAL_FLAG_W,SALNTY,SALNTY_FLAG_W,CTDOXY,CTDOXY_FLAG_W,OXYGEN,OXYGEN_FLAG_W,SILCAT,SILCAT_FLAG_W,NITRAT,NITRAT_FLAG_W,NITRIT,NITRIT_FLAG_W,PHSPHT,PHSPHT_FLAG_W,CFC-11,CFC-11_FLAG_W,CFC-12,CFC-12_FLAG_W,TCARBN,TCARBN_FLAG_W,PCO2,PCO2_FLAG_W,ALKALI,ALKALI_FLAG_W,PH,PH_FLAG_W,THETA,CHLORA,CHLORA_FLAG_W,CTDRAW,CTDRAW_FLAG_W,PPHYTN,PPHYTN_FLAG_W
,,,,,,,,,,,,DBAR,,DEG C,,PSS-78,,PSS-78,,UMOL/KG,,UMOL/KG,,UMOL/KG,,UMOL/KG,,UMOL/KG,,UMOL/KG,,PMOL/KG,,PMOL/KG,,UMOL/KG,,UATM,,UMOL/KG,,,,DEG C,UG/L,,DBAR,,UG/L,
35LLETAMBOT1_2,  AR04,    84,  1,     24,   24.0,2,19951007,0255,  8.3905, -40.8527,   20,      1.7,2,  29.0375,2,  31.9681,2,  32.0311,2,    199.8,2,    199.7,2,     5.18,2,     0.00,2,     0.00,2,     0.00,2, -999.000,9, -999.000,9,   1805.6,2,    321.9,2,   2158.7,2,     8.10,2, 29.0371,    0.11,2,    4.0,2,    0.04,2
35LLETAMBOT1_2,  AR04,    84,  1,     23,   23.0,2,19951007,0255,  8.3905, -40.8527,   20,     41.0,2,  28.9437,2,  34.8245,2,  35.3849,2,    203.9,2,    204.0,2,     1.31,2,     0.00,2,     0.00,2,     0.00,2, -999.000,9, -999.000,9,   1966.9,2,   -999.0,9,   2356.9,2,     8.08,2, 28.9338, -999.00,9,   42.0,2, -999.00,9
35LLETAMBOT1_2,  AR04,    84,  1,     22,   22.0,2,19951007,0255,  8.3905, -40.8527,   20,    149.3,2,  16.6261,2,  35.9112,2,  35.6614,2,    116.0,2,    114.6,2,     7.11,2,    19.95,2,     0.01,2,     1.26,2, -999.000,9, -999.000,9,   2193.4,2,   -999.0,9,   2380.3,2,     7.92,2, 16.6017, -999.00,9,  151.0,2, -999.00,9
35LLETAMBOT1_2,  AR04,    84,  1,     21,   21.0,2,19951007,0255,  8.3905, -40.8527,   20,    296.9,2,   9.7097,2,  34.9440,2,  34.8680,2,    104.6,2,    107.5,2,    14.78,2,    30.18,2,     0.01,2,     1.95,2, -999.000,9, -999.000,9,   2215.7,2,   -999.0,9,   2332.0,2,     7.86,2,  9.6757, -999.00,9,  298.0,2, -999.00,9
35LLETAMBOT1_2,  AR04,    84,  1,     20,   20.0,2,19951007,0255,  8.3905, -40.8527,   20,    598.2,2,   7.2886,2,  34.7217,2,  34.7144,2,    109.4,2,    109.6,2,    20.75,2,    34.20,2,     0.00,2,     2.26,2,    0.150,2,    0.073,2,   2202.7,2,   -999.0,9,   2298.8,2,     7.83,2,  7.2299, -999.00,9,  600.0,2, -999.00,9
35LLETAMBOT1_2,  AR04,    84,  1,     19,   19.0,2,19951007,0255,  8.3905, -40.8527,   20,    795.8,2,   5.7024,2,  34.6400,2,  34.6403,2,    129.1,2,    124.8,2,    26.39,2,    34.97,2,     0.00,2,     2.37,2,    0.083,2,    0.034,2,   2219.8,2,   -999.0,9,   2314.7,2,     7.84,2,  5.6328, -999.00,9,  797.0,2, -999.00,9
35LLETAMBOT1_2,  AR04,    84,  1,     18,   18.0,2,19951007,0255,  8.3905, -40.8527,   20,    996.5,2,   5.1799,2,  34.7060,2,  34.7170,2,    141.6,2,    142.3,2,    27.42,2,    33.04,2,     0.00,2,     2.26,2,    0.016,2,    0.006,2,   2213.0,2,   -999.0,9,   2319.3,2,     7.87,2,  5.0952, -999.00,9,  998.0,2, -999.00,9
35LLETAMBOT1_2,  AR04,    84,  1,     17,   17.0,2,19951007,0255,  8.3905, -40.8527,   20,   1195.6,2,   4.9077,2,  34.8470,2,  34.9681,3,    172.5,2,    172.8,2,    18.57,3,    23.20,3,     0.00,2,     1.58,3,    0.036,2,    0.019,2,   2193.1,2,   -999.0,9,   2319.9,2,     7.92,2,  4.8066, -999.00,9, 1197.0,2, -999.00,9
35LLETAMBOT1_2,  AR04,    84,  1,     16,   16.0,2,19951007,0255,  8.3905, -40.8527,   20,   1396.2,2,   4.7914,2,  34.9582,2,  34.9670,2,    207.9,2,    212.3,2,    18.62,3,    23.18,3,     0.00,2,     1.58,3,    0.094,2,    0.047,2,   2168.4,2,   -999.0,9,   2320.7,2,     7.99,2,  4.6723, -999.00,9, 1398.0,2, -999.00,9
35LLETAMBOT1_2,  AR04,    84,  1,     15,   15.0,2,19951007,0255,  8.3905, -40.8527,   20,   1494.9,2,   4.5399,2,  34.9898,2,  34.9900,2,    229.0,2,    227.5,2,    16.83,2,    21.51,2,     0.00,2,     1.46,2,    0.159,2,    0.081,2,   2147.8,2,   -999.0,9,   2308.5,2,     8.01,2,  4.4141, -999.00,9, 1495.0,2, -999.00,9
35LLETAMBOT1_2,  AR04,    84,  1,     14,   14.0,2,19951007,0255,  8.3905, -40.8527,   20,   1596.5,2,   4.2837,2,  34.9902,2,  34.9920,2,    239.3,2,    239.4,2,    16.24,2,    20.51,2,     0.00,2,     1.41,2,    0.127,2,    0.069,2,   2157.0,2,   -999.0,9,   2323.1,2,     8.02,2,  4.1512, -999.00,9, 1598.0,2, -999.00,9
35LLETAMBOT1_2,  AR04,    84,  1,     13,   13.0,2,19951007,0255,  8.3905, -40.8527,   20,   1695.3,2,   4.1433,2,  34.9901,2,  34.9893,2,    245.3,2,    242.7,2,    16.43,2,    20.07,2,     0.00,2,     1.38,2,    0.105,2,    0.057,2,   2139.0,3,   -999.0,9,   2306.4,3,     8.02,2,  4.0032, -999.00,9, 1696.0,2, -999.00,9
35LLETAMBOT1_2,  AR04,    84,  1,     12,   12.0,2,19951007,0255,  8.3905, -40.8527,   20,   1799.4,2,   3.9518,2,  34.9852,2,  34.9837,2,    249.8,2,    251.5,2,    17.20,2,    19.59,2,     0.00,2,     1.34,2,    0.101,2,    0.053,2,   2135.3,3,   -999.0,9,   2305.6,3,     8.03,2,  3.8043, -999.00,9, 1800.0,2, -999.00,9
35LLETAMBOT1_2,  AR04,    84,  1,     11,   11.0,2,19951007,0255,  8.3905, -40.8527,   20,   1897.2,2,   3.6863,2,  34.9744,2,  34.9734,2,    251.1,2,    250.0,2,    18.93,2,    19.89,2,     0.00,2,     1.35,2,    0.062,2,    0.030,2,   2137.2,3,   -999.0,9,   2306.9,3,     8.03,2,  3.5332, -999.00,9, 1899.0,2, -999.00,9
35LLETAMBOT1_2,  AR04,    84,  1,     10,   10.0,2,19951007,0255,  8.3905, -40.8527,   20,   1996.3,2,   3.5419,2,  34.9695,2,  34.9691,2,    251.8,2,    251.9,2,    20.03,2,    19.70,2,     0.00,2,     1.34,2,    0.032,2,    0.018,2,   2141.8,3,   -999.0,9,   2312.6,3,     8.03,2,  3.3815, -999.00,9, 1998.0,2, -999.00,9
35LLETAMBOT1_2,  AR04,    84,  1,      9,    9.0,2,19951007,0255,  8.3905, -40.8527,   20,   2396.7,2,   3.1203,2,  34.9504,2,  34.9498,2,    253.7,2,    253.8,2,    24.69,2,    19.94,2,     0.00,2,     1.36,2,    0.021,2,    0.013,2,   2141.1,3,   -999.0,9,   2313.5,3,     8.03,2,  2.9283, -999.00,9, 2398.0,2, -999.00,9
35LLETAMBOT1_2,  AR04,    84,  1,      8,    8.0,2,19951007,0255,  8.3905, -40.8527,   20,   2697.9,2,   2.9501,2,  34.9413,2,  34.9426,2,    254.6,2,    254.7,2,    26.78,2,    19.94,2,     0.00,2,     1.36,2,    0.025,2,    0.012,2,   2142.8,3,   -999.0,9,   2314.6,3,     8.02,2,  2.7314, -999.00,9, 2699.0,2, -999.00,9
35LLETAMBOT1_2,  AR04,    84,  1,      7,    7.0,2,19951007,0255,  8.3905, -40.8527,   20,   3001.4,2,   2.7593,2,  34.9281,2,  34.9293,2,    255.5,2,    254.7,2,    29.90,2,    20.20,2,     0.00,2,     1.37,2,    0.027,2,    0.018,2,   2144.2,3,   -999.0,9,   2316.1,3,     8.01,2,  2.5136, -999.00,9, 3003.0,2, -999.00,9
35LLETAMBOT1_2,  AR04,    84,  1,      6,    6.0,2,19951007,0255,  8.3905, -40.8527,   20,   3399.2,2,   2.5099,2,  34.9088,2,  34.9093,2,    255.0,2,    254.4,2,    35.77,2,    20.73,2,     0.00,2,     1.42,2,    0.035,2,    0.020,2,   2142.8,3,   -999.0,9,   2311.7,3,     7.99,2,  2.2281, -999.00,9, 3401.0,2, -999.00,9
35LLETAMBOT1_2,  AR04,    84,  1,      5,    5.0,2,19951007,0255,  8.3905, -40.8527,   20,   3598.9,2,   2.4313,2,  34.8996,2,  34.9000,2,    253.8,2,    252.8,2,    39.34,2,    21.25,2,     0.00,2,     1.44,2,    0.031,2,    0.014,2,   2145.0,3,   -999.0,9,   2312.3,3,     7.98,2,  2.1299, -999.00,9, 3600.0,2, -999.00,9
35LLETAMBOT1_2,  AR04,    84,  1,      4,    4.0,2,19951007,0255,  8.3905, -40.8527,   20,   3701.1,2,   2.3748,2,  34.8939,2,  34.8942,2,    253.1,2,    253.1,2,    40.64,2,    21.28,2,     0.01,2,     1.44,2,    0.032,2,    0.014,2,   2149.0,3,   -999.0,9,   2316.0,3,     7.97,2,  2.0637, -999.00,9, 3703.0,2, -999.00,9
35LLETAMBOT1_2,  AR04,    84,  1,      3,    3.0,2,19951007,0255,  8.3905, -40.8527,   20,   3803.3,2,   2.2819,2,  34.8849,2,  34.8847,2,    252.6,2,    254.5,2,    43.99,2,    21.63,2,     0.00,2,     1.48,2,    0.027,2,    0.014,2,   2165.4,3,   -999.0,9,   2331.8,3,     7.97,2,  1.9619, -999.00,9, 3805.0,2, -999.00,9
35LLETAMBOT1_2,  AR04,    84,  1,      2,    2.0,2,19951007,0255,  8.3905, -40.8527,   20,   4002.9,2,   2.0362,2,  34.8609,2,  34.8581,2,    249.9,2,    248.8,2,    53.86,2,    22.95,2,     0.00,2,     1.57,2,    0.032,2,    0.015,2,   2180.3,3,   -999.0,9,   2339.8,3,     7.94,2,  1.7008, -999.00,9, 4005.0,2, -999.00,9
35LLETAMBOT1_2,  AR04,    84,  1,      1,    1.0,2,19951007,0255,  8.3905, -40.8527,   20,   4137.2,2,   1.9458,2,  34.8494,2,  34.8491,2,    246.9,2,    247.4,2,    57.51,2,    23.26,2,     0.00,2,     1.60,2,    0.043,2,    0.024,2,   2173.1,3,   -999.0,9,   2333.3,3,     7.94,2,  1.5979, -999.00,9, 4138.0,2, -999.00,9
35LLETAMBOT1_2,  AR04,    85,  1,      1,    1.0,2,19951007,1245,  7.5067, -41.5530, 4575,    997.0,2,   4.9067,2,  34.6949,2,  34.6792,2,    150.1,2,   -999.0,9,    28.00,2,    33.04,2,     0.00,2,     2.29,2,    0.062,2,    0.009,2,   2183.0,2,   -999.0,9,   2288.4,2,     7.88,2,  4.8241, -999.00,9,  999.0,2, -999.00,9
35LLETAMBOT1_2,  AR04,    85,  1,      2,    2.0,2,19951007,1245,  7.5067, -41.5530, 4575,    997.0,2,   4.9067,2,  34.6949,2,-999.0000,9,    150.1,2,   -999.0,9,    27.97,2,    33.14,2,     0.00,2,     2.26,2,    0.029,2,    0.013,2,   2177.5,2,   -999.0,9,   2283.3,2,     7.88,2,  4.8241, -999.00,9,  999.0,2, -999.00,9
35LLETAMBOT1_2,  AR04,    85,  1,      3,    3.0,2,19951007,1245,  7.5067, -41.5530, 4575,    997.0,2,   4.9067,2,  34.6949,2,-999.0000,9,    150.1,2,   -999.0,9,    28.12,2,    33.19,2,     0.00,2,     2.29,2,    0.029,2,    0.010,2,   2215.0,2,   -999.0,9,   2321.8,2,     7.88,2,  4.8241, -999.00,9,  999.0,2, -999.00,9
35LLETAMBOT1_2,  AR04,    85,  1,      4,    4.0,2,19951007,1245,  7.5067, -41.5530, 4575,    997.0,2,   4.9067,2,  34.6949,2,-999.0000,9,    150.1,2,   -999.0,9,    28.05,2,    33.14,2,     0.00,2,     2.26,2,    0.025,2,    0.010,2,   2197.4,2,   -999.0,9,   2303.1,2,     7.88,2,  4.8241, -999.00,9,  999.0,2, -999.00,9
35LLETAMBOT1_2,  AR04,    85,  1,      5,    5.0,2,19951007,1245,  7.5067, -41.5530, 4575,    997.0,2,   4.9067,2,  34.6949,2,-999.0000,9,    150.1,2,   -999.0,9,    27.96,2,    33.19,2,     0.00,2,     2.26,2,    0.021,2,    0.007,2,   2194.8,2,   -999.0,9,   2299.5,2,     7.88,2,  4.8241, -999.00,9,  999.0,2, -999.00,9
35LLETAMBOT1_2,  AR04,    85,  1,      6,    6.0,2,19951007,1245,  7.5067, -41.5530, 4575,    997.0,2,   4.9067,2,  34.6949,2,-999.0000,9,    150.1,2,   -999.0,9,    27.85,2,    33.12,2,     0.00,2,     2.25,2,    0.031,2,    0.012,2,   2194.9,2,   -999.0,9,   2300.9,2,     7.88,2,  4.8241, -999.00,9,  999.0,2, -999.00,9
35LLETAMBOT1_2,  AR04,    85,  1,      7,    7.0,2,19951007,1245,  7.5067, -41.5530, 4575,    997.0,2,   4.9067,2,  34.6949,2,-999.0000,9,    150.1,2,   -999.0,9,    28.00,2,    33.23,2,     0.00,2,     2.25,2,    0.029,2,    0.015,2,   2199.9,2,   -999.0,9,   2305.2,2,     7.88,2,  4.8241, -999.00,9,  999.0,2, -999.00,9
35LLETAMBOT1_2,  AR04,    85,  1,      8,    8.0,2,19951007,1245,  7.5067, -41.5530, 4575,    997.0,2,   4.9067,2,  34.6949,2,-999.0000,9,    150.1,2,   -999.0,9,    27.85,2,    33.24,2,     0.00,2,     2.25,2,    0.023,2,    0.010,2,   2211.1,2,   -999.0,9,   2318.0,2,     7.88,2,  4.8241, -999.00,9,  999.0,2, -999.00,9
35LLETAMBOT1_2,  AR04,    85,  1,      9,    9.0,2,19951007,1245,  7.5067, -41.5530, 4575,    997.0,2,   4.9067,2,  34.6949,2,-999.0000,9,    150.1,2,   -999.0,9,    27.79,2,    33.12,2,     0.00,2,     2.25,2,    0.034,2,    0.013,2,   2197.4,2,   -999.0,9,   2303.7,2,     7.88,2,  4.8241, -999.00,9,  999.0,2, -999.00,9
35LLETAMBOT1_2,  AR04,    85,  1,     10,   10.0,2,19951007,1245,  7.5067, -41.5530, 4575,    997.0,2,   4.9067,2,  34.6949,2,-999.0000,9,    150.1,2,   -999.0,9,    27.81,2,    33.20,2,     0.00,2,     2.25,2,    0.014,2,    0.008,2,   2196.9,2,   -999.0,9,   2302.5,2,     7.88,2,  4.8241, -999.00,9,  999.0,2, -999.00,9
35LLETAMBOT1_2,  AR04,    85,  1,     11,   11.0,2,19951007,1245,  7.5067, -41.5530, 4575,    997.0,2,   4.9067,2,  34.6949,2,-999.0000,9,    150.1,2,   -999.0,9,    27.89,2,    33.21,2,     0.00,2,     2.25,2,    0.026,2,    0.010,2,   2200.5,2,   -999.0,9,   2307.4,2,     7.88,2,  4.8241, -999.00,9,  999.0,2, -999.00,9
35LLETAMBOT1_2,  AR04,    85,  1,     12,   12.0,2,19951007,1245,  7.5067, -41.5530, 4575,    997.0,2,   4.9067,2,  34.6949,2,-999.0000,9,    150.1,2,   -999.0,9,    28.16,2,    33.21,2,     0.00,2,     2.24,2,    0.035,2,    0.015,2,   2203.4,2,   -999.0,9,   2312.3,2,     7.89,2,  4.8241, -999.00,9,  999.0,2, -999.00,9
35LLETAMBOT1_2,  AR04,    85,  1,     13,   13.0,2,19951007,1245,  7.5067, -41.5530, 4575,   2001.0,2,   3.6944,2,  34.9776,2,  34.9784,2,    251.4,2,    251.8,2,    17.50,2,    19.35,2,     0.00,2,     1.28,2,    0.063,2,    0.035,2,   2121.8,2,   -999.0,9,   2295.6,2,     8.04,2,  3.5313, -999.00,9, 2002.0,2, -999.00,9
35LLETAMBOT1_2,  AR04,    85,  1,     14,   14.0,2,19951007,1245,  7.5067, -41.5530, 4575,   2001.0,2,   3.6944,2,  34.9776,2,  34.9784,2,    251.4,2,    252.1,2,    17.48,2,    19.41,2,     0.00,2,     1.29,2,    0.073,2,    0.040,2,   2026.9,4,   -999.0,9,   2195.5,4,     8.04,2,  3.5313, -999.00,9, 2002.0,2, -999.00,9
35LLETAMBOT1_2,  AR04,    85,  1,     15,   15.0,2,19951007,1245,  7.5067, -41.5530, 4575,   2001.0,2,   3.6944,2,  34.9776,2,  34.9778,2,    251.4,2,    252.3,2,    17.49,2,    19.41,2,     0.00,2,     1.29,2,    0.076,2,    0.040,2,   2122.4,2,   -999.0,9,   2296.9,2,     8.04,2,  3.5313, -999.00,9, 2002.0,2, -999.00,9
35LLETAMBOT1_2,  AR04,    85,  1,     16,   16.0,2,19951007,1245,  7.5067, -41.5530, 4575,   2001.0,2,   3.6944,2,  34.9776,2,  34.9777,2,    251.4,2,    252.1,2,    17.46,2,    19.39,2,     0.00,2,     1.28,2,    0.074,2,    0.046,2,   2127.4,2,   -999.0,9,   2302.1,2,     8.04,2,  3.5313, -999.00,9, 2002.0,2, -999.00,9
35LLETAMBOT1_2,  AR04,    85,  1,     17,   17.0,2,19951007,1245,  7.5067, -41.5530, 4575,   2001.0,2,   3.6944,2,  34.9776,2,  34.9776,2,    251.4,2,    252.1,2,    17.41,2,    19.40,2,     0.00,2,     1.28,2,    0.076,2,    0.040,2,   2115.4,2,   -999.0,9,   2289.4,2,     8.04,2,  3.5313, -999.00,9, 2002.0,2, -999.00,9
35LLETAMBOT1_2,  AR04,    85,  1,     18,   18.0,2,19951007,1245,  7.5067, -41.5530, 4575,   2001.0,2,   3.6944,2,  34.9776,2,  34.9771,2,    251.4,2,    252.4,2,    17.46,2,    19.33,2,     0.00,2,     1.28,2,    0.089,2,    0.049,2,   2127.7,2,   -999.0,9,   2302.4,2,     8.04,2,  3.5313, -999.00,9, 2002.0,2, -999.00,9
35LLETAMBOT1_2,  AR04,    85,  1,     19,   19.0,2,19951007,1245,  7.5067, -41.5530, 4575,   2001.0,2,   3.6944,2,  34.9776,2,  34.9768,2,    251.4,2,    252.0,2,    17.43,2,    19.44,2,     0.00,2,     1.28,2,    0.099,2,    0.049,2,   2108.1,2,   -999.0,9,   2281.6,2,     8.04,2,  3.5313, -999.00,9, 2002.0,2, -999.00,9
35LLETAMBOT1_2,  AR04,    85,  1,     20,   20.0,2,19951007,1245,  7.5067, -41.5530, 4575,   2001.0,2,   3.6944,2,  34.9776,2,  34.9776,2,    251.4,2,    251.7,2,    17.41,2,    19.38,2,     0.00,2,     1.28,2,    0.075,2,    0.041,2,   2131.2,2,   -999.0,9,   2305.3,2,     8.04,2,  3.5313, -999.00,9, 2002.0,2, -999.00,9
35LLETAMBOT1_2,  AR04,    85,  1,     21,   21.0,2,19951007,1245,  7.5067, -41.5530, 4575,   2001.0,2,   3.6944,2,  34.9776,2,  34.9781,2,    251.4,2,    251.7,2,    17.35,2,    19.39,2,     0.00,2,     1.28,2,    0.088,2,    0.051,2,   2122.1,2,   -999.0,9,   2297.0,2,     8.04,2,  3.5313, -999.00,9, 2002.0,2, -999.00,9
35LLETAMBOT1_2,  AR04,    85,  1,     22,   22.0,2,19951007,1245,  7.5067, -41.5530, 4575,   2001.0,2,   3.6944,2,  34.9776,2,  34.9784,2,    251.4,2,    251.6,2,    17.38,2,    19.43,2,     0.00,2,     1.29,2,    0.079,2,    0.045,2,   2109.0,2,   -999.0,9,   2283.1,2,     8.04,2,  3.5313, -999.00,9, 2002.0,2, -999.00,9
35LLETAMBOT1_2,  AR04,    85,  1,     23,   23.0,2,19951007,1245,  7.5067, -41.5530, 4575,   2001.0,2,   3.6944,2,  34.9776,2,  34.9782,2,    251.4,2,    253.1,2,    17.40,2,    19.41,2,     0.00,2,     1.28,2,    0.076,2,    0.041,2,   2118.6,2,   -999.0,9,   2294.3,2,     8.04,2,  3.5313, -999.00,9, 2002.0,2, -999.00,9
35LLETAMBOT1_2,  AR04,    85,  1,     24,   24.0,2,19951007,1245,  7.5067, -41.5530, 4575,   2001.0,2,   3.6944,2,  34.9776,2,  34.9786,2,    251.4,2,    251.9,2,    17.41,2,    19.35,2,     0.00,2,     1.28,2,    0.100,2,    0.059,2,   2134.3,2,   -999.0,9,   2318.9,2,     8.06,2,  3.5313, -999.00,9, 2002.0,2, -999.00,9