BOTTLE,20220929CCHSIOAMB
EXPOCODE,SECT_ID,STNNBR,CASTNO,SAMPNO,BTLNBR,BTLNBR_FLAG_W,DATE,TIME,LATITUDE,LONGITUDE,DEPTH,CTDPRS,CTDPRS_FLAG_W,CTDTMP,CTDTMP_FLAG_W,CTDSAL,CTDSAL_FLAG_W,SALNTY,SALNTY_FLAG_W,CTDOXY,CTDOXY_FLAG_W,OXYGEN,OXYGEN_FLAG_W,SILCAT,SILCAT_FLAG_W,NITRAT,NITRAT_FLAG_W,NITRIT,NITRIT_FLAG_W,PHSPHT,PHSPHT_FLAG_W,CFC-11,CFC-11_FLAG_W,CFC-12,CFC-12_FLAG_W,TCARBN,TCARBN_FLAG_W,PCO2,PCO2_FLAG_W,ALKALI,ALKALI_FLAG_W,PH,PH_FLAG_W,THETA,CHLORA,CHLORA_FLAG_W,CTDRAW,CTDRAW_FLAG_W,PPHYTN,PPHYTN_FLAG_W
,,,,,,,,,,,,DBAR,,DEG C,,PSS-78,,PSS-78,,UMOL/KG,,UMOL/KG,,UMOL/KG,,UMOL/KG,,UMOL/KG,,UMOL/KG,,PMOL/KG,,PMOL/KG,,UMOL/KG,,UATM,,UMOL/KG,,,,DEG C,UG/L,,DBAR,,UG/L,
35LLETAMBOT1_1,  AR15,    36,  1,     22,   22.0,2,19950919,0548,  7.4975, -35.5033,   15,      0.5,2,  28.6674,2,  34.3306,2,  34.3320,2,    199.7,2,    200.6,2,     2.30,2,     0.33,2,     0.00,2,     0.00,2,    1.822,2,    1.016,2,   -999.0,9,    339.6,2,   -999.0,9,  -999.00,9, 28.6673,    0.05,2,    1.0,2,    0.01,2
35LLETAMBOT1_1,  AR15,    36,  1,     21,   21.0,2,19950919,0548,  7.4975, -35.5033,   15,     45.0,2,  28.7526,2,  35.0388,2,  34.8500,2,    204.6,2,    203.8,2,     1.69,2,     0.30,2,     0.00,2,     0.00,2,    1.801,2,    0.991,2,   -999.0,9,   -999.0,9,   -999.0,9,  -999.00,9, 28.7418, -999.00,9,   47.0,2, -999.00,9
35LLETAMBOT1_1,  AR15,    36,  1,     20,   20.0,2,19950919,0548,  7.4975, -35.5033,   15,    147.5,2,  16.3543,2,  35.7249,2,  35.5940,2,    118.5,2,    118.4,2,     7.25,2,    19.39,2,     0.02,2,     1.21,2,    1.324,2,    0.685,2,   -999.0,9,   -999.0,9,   -999.0,9,  -999.00,9, 16.3305, -999.00,9,  149.0,2, -999.00,9
35LLETAMBOT1_1,  AR15,    36,  1,     19,   19.0,2,19950919,0548,  7.4975, -35.5033,   15,    396.7,2,   8.7771,2,  34.8158,2,  34.8070,3,    113.1,2,    102.3,2,    16.51,2,    31.82,2,     0.00,2,     2.00,2,    0.404,2,    0.198,2,   -999.0,9,   -999.0,9,   -999.0,9,  -999.00,9,  8.7342, -999.00,9,  398.0,2, -999.00,9
35LLETAMBOT1_1,  AR15,    36,  1,     18,   18.0,2,19950919,0548,  7.4975, -35.5033,   15,    795.0,2,   5.6847,2,  34.6009,2,  34.5960,2,    124.6,2,    125.8,2,    26.74,2,    35.23,2,     0.00,2,     2.30,2,    0.102,2,    0.045,2,   -999.0,9,   -999.0,9,   -999.0,9,  -999.00,9,  5.6154, -999.00,9,  796.0,2, -999.00,9
35LLETAMBOT1_1,  AR15,    36,  1,     17,   17.0,2,19950919,0548,  7.4975, -35.5033,   15,    994.8,2,   5.0047,2,  34.6485,2,  34.6430,2,    135.0,2,    134.8,2,    29.54,2,    34.58,2,     0.00,2,     2.30,2,    0.045,2,    0.013,2,   -999.0,9,   -999.0,9,   -999.0,9,  -999.00,9,  4.9216, -999.00,9,  997.0,2, -999.00,9
35LLETAMBOT1_1,  AR15,    36,  1,     16,   16.0,2,19950919,0548,  7.4975, -35.5033,   15,   1295.8,2,   4.6424,2,  34.9038,2,  34.8953,2,    192.1,2,    191.2,2,    22.52,2,    25.89,2,     0.00,2,     1.74,2,    0.068,2,    0.026,2,   -999.0,9,   -999.0,9,   -999.0,9,  -999.00,9,  4.5343, -999.00,9, 1297.0,2, -999.00,9
35LLETAMBOT1_1,  AR15,    36,  1,     15,   15.0,2,19950919,0548,  7.4975, -35.5033,   15,   1595.4,2,   4.2163,2,  34.9755,2,  34.9750,2,    232.6,2,    231.0,2,    17.87,2,    21.08,2,     0.00,2,     1.40,2,    0.107,2,    0.053,2,   -999.0,9,   -999.0,9,   -999.0,9,  -999.00,9,  4.0847, -999.00,9, 1597.0,2, -999.00,9
35LLETAMBOT1_1,  AR15,    36,  1,     14,   14.0,2,19950919,0548,  7.4975, -35.5033,   15,   1695.9,2,   4.0694,2,  34.9824,2,  34.9844,2,    241.8,2,    240.7,2,    17.00,2,    20.09,2,     0.00,2,     1.33,2,    0.108,2,    0.058,2,   -999.0,9,   -999.0,9,   -999.0,9,  -999.00,9,  3.9302, -999.00,9, 1700.0,2, -999.00,9
35LLETAMBOT1_1,  AR15,    36,  1,     13,   13.0,2,19950919,0548,  7.4975, -35.5033,   15,   1797.4,2,   3.9256,2,  34.9807,2,  34.9823,2,    245.6,2,    246.2,2,    17.33,2,    19.82,2,     0.00,2,     1.30,2,    0.121,2,    0.060,2,   -999.0,9,   -999.0,9,   -999.0,9,  -999.00,9,  3.7786, -999.00,9, 1799.0,2, -999.00,9
35LLETAMBOT1_1,  AR15,    36,  1,     11,   11.0,2,19950919,0548,  7.4975, -35.5033,   15,   1992.9,2,   3.5968,2,  34.9700,2,  34.9723,2,    250.7,2,    251.4,2,    19.44,2,    19.57,2,     0.00,2,     1.28,2,    0.068,2,    0.035,2,   -999.0,9,   -999.0,9,   -999.0,9,  -999.00,9,  3.4359, -999.00,9, 1994.0,2, -999.00,9
35LLETAMBOT1_1,  AR15,    36,  1,     12,   12.0,2,19950919,0548,  7.4975, -35.5033,   15,   1992.9,2,   3.5968,2,  34.9700,2,  34.9712,2,    250.8,2,    251.2,2,    19.41,2,    19.54,2,     0.00,2,     1.29,2,    0.123,2,    0.063,2,   -999.0,9,   -999.0,9,   -999.0,9,  -999.00,9,  3.4359, -999.00,9, 1994.0,2, -999.00,9
35LLETAMBOT1_1,  AR15,    36,  1,     10,   10.0,2,19950919,0548,  7.4975, -35.5033,   15,   2195.8,2,   3.2880,2,  34.9554,2,  34.9583,2,    251.3,2,    255.0,2,    22.67,2,    19.79,2,     0.00,2,     1.30,2,    0.035,2,    0.022,2,   -999.0,9,   -999.0,9,   -999.0,9,  -999.00,9,  3.1126, -999.00,9, 2197.0,2, -999.00,9
35LLETAMBOT1_1,  AR15,    36,  1,      9,    9.0,2,19950919,0548,  7.4975, -35.5033,   15,   2397.3,2,   3.0994,2,  34.9455,2,  34.9488,2,    251.4,2,    252.3,2,    25.63,2,    20.05,2,     0.00,2,     1.31,2,    0.028,2,    0.014,2,   -999.0,9,   -999.0,9,   -999.0,9,  -999.00,9,  2.9077, -999.00,9, 2399.0,2, -999.00,9
35LLETAMBOT1_1,  AR15,    36,  1,      8,    8.0,2,19950919,0548,  7.4975, -35.5033,   15,   2699.2,2,   2.9032,2,  34.9342,2,  34.9350,2,    252.7,2,    253.2,2,    29.02,2,    20.20,2,     0.00,2,     1.33,2,    0.052,2,    0.027,2,   -999.0,9,   -999.0,9,   -999.0,9,  -999.00,9,  2.6853, -999.00,9, 2701.0,2, -999.00,9
35LLETAMBOT1_1,  AR15,    36,  1,      7,    7.0,2,19950919,0548,  7.4975, -35.5033,   15,   2998.2,2,   2.6892,2,  34.9218,2,  34.9240,2,    255.6,2,    255.5,2,    31.53,2,    20.10,2,     0.00,2,     1.34,2,    0.042,2,    0.022,2,   -999.0,9,   -999.0,9,   -999.0,9,  -999.00,9,  2.4454, -999.00,9, 3000.0,2, -999.00,9
35LLETAMBOT1_1,  AR15,    36,  1,      6,    6.0,2,19950919,0548,  7.4975, -35.5033,   15,   3298.1,2,   2.5715,2,  34.9142,2,  34.9140,2,    257.2,2,    257.7,2,    33.10,2,    20.02,2,     0.00,2,     1.33,2,    0.075,2,    0.034,2,   -999.0,9,   -999.0,9,   -999.0,9,  -999.00,9,  2.2990, -999.00,9, 3299.0,2, -999.00,9
35LLETAMBOT1_1,  AR15,    36,  1,      5,    5.0,2,19950919,0548,  7.4975, -35.5033,   15,   3598.2,2,   2.4317,2,  34.9018,2,  34.9020,2,    258.2,2,    258.6,2,    36.56,2,    20.20,2,     0.00,2,     1.36,2, -999.000,9, -999.000,9,   -999.0,9,   -999.0,9,   -999.0,9,  -999.00,9,  2.1303, -999.00,9, 3600.0,2, -999.00,9
35LLETAMBOT1_1,  AR15,    36,  1,      4,    4.0,2,19950919,0548,  7.4975, -35.5033,   15,   3800.3,2,   2.3088,2,  34.8900,2,  34.8890,2,    256.7,2,    256.4,2,    41.10,2,    20.56,2,     0.00,2,     1.40,2,    0.074,2,    0.037,2,   -999.0,9,   -999.0,9,   -999.0,9,  -999.00,9,  1.9884, -999.00,9, 3802.0,2, -999.00,9
35LLETAMBOT1_1,  AR15,    36,  1,      3,    3.0,2,19950919,0548,  7.4975, -35.5033,   15,   4000.5,2,   2.2213,2,  34.8804,2,  34.8800,2,    254.9,2,    254.7,2,    44.67,2,    20.83,2,     0.00,2,     1.44,2,    0.076,2,    0.036,2,   -999.0,9,   -999.0,9,   -999.0,9,  -999.00,9,  1.8809, -999.00,9, 4002.0,2, -999.00,9
35LLETAMBOT1_1,  AR15,    36,  1,      2,    2.0,2,19950919,0548,  7.4975, -35.5033,   15,   4199.8,2,   2.2161,2,  34.8771,2,  34.8760,2,    255.4,2,    255.1,2,    45.30,2,    20.47,2,     0.00,2,     1.45,2,    0.081,2,    0.040,2,   -999.0,9,   -999.0,9,   -999.0,9,  -999.00,9,  1.8530, -999.00,9, 4201.0,2, -999.00,9
35LLETAMBOT1_1,  AR15,    36,  1,      1,    1.0,2,19950919,0548,  7.4975, -35.5033,   15,   4413.0,2,   2.2187,2,  34.8752,2,  34.8756,2,    254.6,2,    254.2,2,    46.54,2,    20.58,2,     0.01,2,     1.45,2,    0.056,2,    0.029,2,   -999.0,9,   -999.0,9,   -999.0,9,  -999.00,9,  1.8306, -999.00,9, 4414.0,2, -999.00,9
35LLETAMBOT1_1,  AR04,    37,  1,     22,   22.0,2,19950919,1138,  7.4988, -35.0000,   20,      0.1,2,  28.7487,2,  33.2465,2,  33.3028,2,    201.3,2,    200.8,2,     3.40,2,     0.00,2,     0.00,2,     0.00,2, -999.000,9, -999.000,9,   1857.5,2,    331.0,2,   2217.4,2,     8.09,2, 28.7487,    0.10,2,    2.0,2,    0.03,2
35LLETAMBOT1_1,  AR04,    37,  1,     21,   21.0,2,19950919,1138,  7.4988, -35.0000,   20,     46.8,2,  28.8865,2,  34.8184,2,  35.7100,2,    202.1,2,    209.6,2,     0.71,2,     0.00,2,     0.00,2,     0.00,2, -999.000,9, -999.000,9,   1962.8,2,   -999.0,9,   2358.9,2,     8.09,2, 28.8752, -999.00,9,   49.0,2, -999.00,9
35LLETAMBOT1_1,  AR04,    37,  1,     20,   20.0,2,19950919,1138,  7.4988, -35.0000,   20,     97.7,2,  21.3671,2,  36.1160,2,  36.1325,2,    160.5,2,    140.2,2,     2.92,2,     7.96,2,     0.08,2,     0.51,2, -999.000,9, -999.000,9,   2129.9,2,   -999.0,9,   2395.6,2,     8.00,2, 21.3481, -999.00,9,   99.0,2, -999.00,9
35LLETAMBOT1_1,  AR04,    37,  1,     19,   19.0,2,19950919,1138,  7.4988, -35.0000,   20,    297.9,2,   9.2798,2,  34.8657,2,  34.8672,2,    114.7,2,    117.6,2,    14.04,2,    27.82,2,     0.01,2,     1.84,2, -999.000,9, -999.000,9,   2170.5,2,   -999.0,9,   2288.8,2,     7.87,2,  9.2467, -999.00,9,  300.0,2, -999.00,9
35LLETAMBOT1_1,  AR04,    37,  1,     18,   18.0,2,19950919,1138,  7.4988, -35.0000,   20,    497.7,2,   7.5189,2,  34.7027,2,  34.6976,2,    110.6,2,    112.0,2,    19.55,2,    32.45,2,     0.00,2,     2.15,2, -999.000,9, -999.000,9,   2221.9,2,   -999.0,9,   2317.1,2,     7.83,2,  7.4696, -999.00,9,  500.0,2, -999.00,9
35LLETAMBOT1_1,  AR04,    37,  1,     17,   17.0,2,19950919,1138,  7.4988, -35.0000,   20,    795.2,2,   5.5796,2,  34.6057,2,  34.6035,2,    125.9,2,    127.4,2,    27.04,2,    34.20,2,     0.00,2,     2.33,2,    0.079,2,    0.039,2,   2195.7,2,   -999.0,9,   2283.2,2,     7.83,2,  5.5109, -999.00,9,  797.0,2, -999.00,9
35LLETAMBOT1_1,  AR04,    37,  1,     16,   16.0,2,19950919,1138,  7.4988, -35.0000,   20,    995.6,2,   4.9710,2,  34.6957,2,  34.6830,2,    142.5,2,    141.1,2,    28.49,2,    33.11,2,     0.00,2,     2.24,2,    0.034,2,    0.012,2,   2200.8,2,   -999.0,9,   2295.9,2,     7.85,2,  4.8880, -999.00,9,  997.0,2, -999.00,9
35LLETAMBOT1_1,  AR04,    37,  1,     15,   15.0,2,19950919,1138,  7.4988, -35.0000,   20,   1296.5,2,   4.6549,2,  34.9040,2,  34.9016,2,    193.0,2,    193.2,2,    22.13,2,    25.71,2,     0.00,2,     1.72,2,    0.076,2,    0.040,2,   2125.0,3,   -999.0,9,   2255.2,3,     7.94,2,  4.5467, -999.00,9, 1297.0,2, -999.00,9
35LLETAMBOT1_1,  AR04,    37,  1,     14,   14.0,2,19950919,1138,  7.4988, -35.0000,   20,   1495.8,2,   4.3898,2,  34.9660,2,  34.9646,2,    223.1,2,    221.8,2,    18.64,2,    22.38,2,     0.00,2,     1.46,2,    0.107,2,    0.062,2,   2133.3,3,   -999.0,9,   2282.7,3,     7.99,2,  4.2656, -999.00,9, 1497.0,2, -999.00,9
35LLETAMBOT1_1,  AR04,    37,  1,     12,   12.0,2,19950919,1138,  7.4988, -35.0000,   20,   1594.0,2,   4.2314,2,  34.9742,2,  34.9740,2,    232.5,2,    230.4,2,    17.93,2,    21.54,2,     0.00,2,     1.40,2,    0.129,2,    0.068,2,   2126.8,3,   -999.0,9,   2281.1,3,     8.00,2,  4.0998, -999.00,9, 1595.0,2, -999.00,9
35LLETAMBOT1_1,  AR04,    37,  1,     13,   13.0,2,19950919,1138,  7.4988, -35.0000,   20,   1594.0,2,   4.2314,2,  34.9742,2,  34.9730,2,    232.5,2,    230.5,2,    18.01,2,    21.49,2,     0.00,2,     1.40,2,    0.107,2,    0.063,2,   2121.0,3,   -999.0,9,   2274.7,3,     8.00,2,  4.0998, -999.00,9, 1595.0,2, -999.00,9
35LLETAMBOT1_1,  AR04,    37,  1,     11,   11.0,2,19950919,1138,  7.4988, -35.0000,   20,   1696.4,2,   4.0634,2,  34.9784,2,  34.9790,2,    240.8,2,    239.3,2,    17.70,2,    20.73,2,     0.00,2,     1.34,2,    0.107,2,    0.061,2,   2117.5,3,   -999.0,9,   2277.4,3,     8.01,2,  3.9242, -999.00,9, 1698.0,2, -999.00,9
35LLETAMBOT1_1,  AR04,    37,  1,     10,   10.0,2,19950919,1138,  7.4988, -35.0000,   20,   1795.9,2,   3.9284,2,  34.9781,2,  34.9790,2,    245.1,2,    246.5,2,    17.84,2,    19.85,2,     0.00,2,     1.31,2,    0.093,2,    0.061,2,   2089.5,3,   -999.0,9,   2249.1,3,     8.01,2,  3.7815, -999.00,9, 1797.0,2, -999.00,9
35LLETAMBOT1_1,  AR04,    37,  1,      9,    9.0,2,19950919,1138,  7.4988, -35.0000,   20,   1994.9,2,   3.5756,2,  34.9683,2,  34.9708,2,    251.2,2,    251.0,2,    20.04,2,    19.64,2,     0.00,2,     1.30,2,    0.051,2,    0.039,2,   2134.4,3,   -999.0,9,   2300.2,3,     8.02,2,  3.4149, -999.00,9, 1997.0,2, -999.00,9
35LLETAMBOT1_1,  AR04,    37,  1,      8,    8.0,2,19950919,1138,  7.4988, -35.0000,   20,   2197.9,2,   3.3579,2,  34.9578,2,  34.9588,2,    250.9,2,    250.6,2,    22.59,2,    19.83,2,     0.00,2,     1.32,2,    0.035,2,    0.028,2,   2134.9,3,   -999.0,9,   2299.5,3,     8.01,2,  3.1811, -999.00,9, 2199.0,2, -999.00,9
35LLETAMBOT1_1,  AR04,    37,  1,      7,    7.0,2,19950919,1138,  7.4988, -35.0000,   20,   2398.4,2,   3.1453,2,  34.9460,2,  34.9480,2,    250.3,2,    250.3,2,    26.09,2,    20.03,2,     0.00,2,     1.34,2,    0.043,2,    0.032,2,   2133.7,3,   -999.0,9,   2299.9,3,     8.01,2,  2.9527, -999.00,9, 2400.0,2, -999.00,9
35LLETAMBOT1_1,  AR04,    37,  1,      6,    6.0,2,19950919,1138,  7.4988, -35.0000,   20,   2599.9,2,   2.9403,2,  34.9357,2,  34.9350,2,    251.6,2,    253.0,2,    28.86,2,    19.87,2,     0.00,2,     1.34,2,    0.063,2,    0.042,2,   2097.9,3,   -999.0,9,   2262.2,3,     8.01,2,  2.7316, -999.00,9, 2601.0,2, -999.00,9
35LLETAMBOT1_1,  AR04,    37,  1,      5,    5.0,2,19950919,1138,  7.4988, -35.0000,   20,   2798.4,2,   2.8306,2,  34.9299,2,  34.9290,2,    252.9,2,    253.8,2,    30.47,2,    19.93,2,     0.00,2,     1.35,2,    0.039,2,    0.032,2,   2191.6,3,   -999.0,9,   2361.1,3,     8.00,2,  2.6042, -999.00,9, 2800.0,2, -999.00,9
35LLETAMBOT1_1,  AR04,    37,  1,      4,    4.0,2,19950919,1138,  7.4988, -35.0000,   20,   2998.1,2,   2.7135,2,  34.9222,2,  34.9220,2,    255.0,2,    255.0,2,    31.85,2,    19.87,2,     0.00,2,     1.34,2,    0.028,2,    0.026,2,   2206.0,3,   -999.0,9,   2374.7,3,     7.99,2,  2.4692, -999.00,9, 3000.0,2, -999.00,9
35LLETAMBOT1_1,  AR04,    37,  1,      3,    3.0,2,19950919,1138,  7.4988, -35.0000,   20,   3300.7,2,   2.5365,2,  34.9119,2,  34.9118,2,    256.6,2,    257.0,2,    33.96,2,    19.75,2,     0.00,2,     1.35,2,    0.072,2,    0.050,2,   2223.5,3,   -999.0,9,   2394.2,3,     7.99,2,  2.2646, -999.00,9, 3301.0,2, -999.00,9
35LLETAMBOT1_1,  AR04,    37,  1,      2,    2.0,2,19950919,1138,  7.4988, -35.0000,   20,   3598.5,2,   2.4420,2,  34.9030,2,  34.9028,2,    257.7,2,    258.0,2,    36.47,2,    19.94,2,     0.00,2,     1.37,2,    0.066,2,    0.048,2,   2234.3,3,   -999.0,9,   2405.5,3,     7.97,2,  2.1403, -999.00,9, 3599.0,2, -999.00,9
35LLETAMBOT1_1,  AR04,    37,  1,      1,    1.0,2,19950919,1138,  7.4988, -35.0000,   20,   3882.1,2,   2.2726,3,  34.8867,3,  34.8860,2,    256.6,2,    255.4,2,    42.36,2,    20.55,2,     0.00,2,     1.42,2,    0.076,2,    0.055,2,   2232.3,3,   -999.0,9,   2399.5,3,     7.96,2,  1.9441, -999.00,9, 3884.0,2, -999.00,9