BOTTLE,20220929CCHSIOAMB
EXPOCODE,SECT_ID,STNNBR,CASTNO,SAMPNO,BTLNBR,BTLNBR_FLAG_W,DATE,TIME,LATITUDE,LONGITUDE,DEPTH,CTDPRS,CTDPRS_FLAG_W,CTDTMP,CTDTMP_FLAG_W,CTDSAL,CTDSAL_FLAG_W,SALNTY,SALNTY_FLAG_W,CTDOXY,CTDOXY_FLAG_W,OXYGEN,OXYGEN_FLAG_W,SILCAT,SILCAT_FLAG_W,NITRAT,NITRAT_FLAG_W,NITRIT,NITRIT_FLAG_W,PHSPHT,PHSPHT_FLAG_W,CFC-11,CFC-11_FLAG_W,CFC-12,CFC-12_FLAG_W,TCARBN,TCARBN_FLAG_W,PCO2,PCO2_FLAG_W,ALKALI,ALKALI_FLAG_W,PH,PH_FLAG_W,THETA,CHLORA,CHLORA_FLAG_W,CTDRAW,CTDRAW_FLAG_W,PPHYTN,PPHYTN_FLAG_W
,,,,,,,,,,,,DBAR,,DEG C,,PSS-78,,PSS-78,,UMOL/KG,,UMOL/KG,,UMOL/KG,,UMOL/KG,,UMOL/KG,,UMOL/KG,,PMOL/KG,,PMOL/KG,,UMOL/KG,,UATM,,UMOL/KG,,,,DEG C,UG/L,,DBAR,,UG/L,
35LLETAMBOT1_2,  AR04,    71,  1,     24,   24.0,2,19951003,2038,  2.8007, -43.8437,   15,      6.0,2,  27.7765,2,  36.1827,2,  36.1819,2,    202.0,2,    198.9,2,     0.70,2,     0.23,2,     0.00,2,     0.00,2, -999.000,9, -999.000,9,   2000.0,2,    375.3,2,   2364.4,2,     8.05,2, 27.7751,    0.08,2,    8.0,2,    0.01,2
35LLETAMBOT1_2,  AR04,    71,  1,     23,   23.0,2,19951003,2038,  2.8007, -43.8437,   15,     59.1,2,  27.5187,2,  36.1901,2,  36.1843,2,    199.7,2,    199.3,2,     0.70,2,     0.23,2,     0.00,2,     0.00,2, -999.000,9, -999.000,9,   2013.0,2,   -999.0,9,   2383.0,2,     8.06,2, 27.5049, -999.00,9,   61.0,2, -999.00,9
35LLETAMBOT1_2,  AR04,    71,  1,     22,   22.0,2,19951003,2038,  2.8007, -43.8437,   15,    196.8,2,  15.4157,2,  35.5785,2,  35.6431,2,      1.7,3,    176.3,2,     3.78,2,    10.21,2,     0.02,2,     0.70,2, -999.000,9, -999.000,9,   2097.8,2,   -999.0,9,   2343.7,2,     8.06,2, 15.3852, -999.00,9,  198.0,2, -999.00,9
35LLETAMBOT1_2,  AR04,    71,  1,     21,   21.0,2,19951003,2038,  2.8007, -43.8437,   15,    397.3,2,   7.1035,2,  34.6169,2,  34.6294,2,    140.2,2,    140.8,2,    18.28,2,    30.34,2,     0.01,2,     1.99,2, -999.000,9, -999.000,9,   2158.9,2,   -999.0,9,   2275.1,2,     7.90,2,  7.0657, -999.00,9,  399.0,2, -999.00,9
35LLETAMBOT1_2,  AR04,    71,  1,     20,   20.0,2,19951003,2038,  2.8007, -43.8437,   15,    594.7,2,   5.8704,2,  34.5459,2,  34.5350,2,    141.6,2,    148.0,2,    24.27,2,    32.68,2,     0.00,2,     2.18,2, -999.000,9, -999.000,9,   2171.7,3,   -999.0,9,   2272.5,3,     7.87,2,  5.8186, -999.00,9,  596.0,2, -999.00,9
35LLETAMBOT1_2,  AR04,    71,  1,     19,   19.0,2,19951003,2038,  2.8007, -43.8437,   15,    796.9,2,   5.0155,2,  34.5471,2,  34.5492,2,    146.9,2,    145.8,2,    28.57,2,    33.86,2,     0.00,2,     2.28,2,    0.133,2,    0.059,2,   2184.7,3,   -999.0,9,   2286.8,3,     7.88,2,  4.9501, -999.00,9,  798.0,2, -999.00,9
35LLETAMBOT1_2,  AR04,    71,  1,     18,   18.0,2,19951003,2038,  2.8007, -43.8437,   15,    997.6,2,   4.6564,2,  34.6747,2,  34.6721,2,    158.7,2,    158.7,2,    28.58,2,    31.53,2,     0.00,2,     2.13,2,    0.043,2,    0.018,2,   2166.9,3,   -999.0,9,   2276.3,3,     7.89,2,  4.5756, -999.00,9,  999.0,2, -999.00,9
35LLETAMBOT1_2,  AR04,    71,  1,     17,   17.0,2,19951003,2038,  2.8007, -43.8437,   15,   1297.5,2,   4.6239,2,  34.8883,2,  34.8920,2,    193.6,2,    193.6,2,    21.71,2,    25.49,2,     0.00,2,     1.71,2,    0.061,2,    0.028,2,   2138.3,3,   -999.0,9,   2269.8,3,     7.94,2,  4.5159, -999.00,9, 1299.0,2, -999.00,9
35LLETAMBOT1_2,  AR04,    71,  1,     16,   16.0,2,19951003,2038,  2.8007, -43.8437,   15,   1495.5,2,   4.3857,2,  34.9608,2,  34.9659,2,    223.3,2,    225.7,2,    18.88,2,    21.59,2,     0.00,2,     1.42,2,    0.101,2,    0.047,2,   2127.3,3,   -999.0,9,   2278.1,3,     7.99,2,  4.2616, -999.00,9, 1497.0,2, -999.00,9
35LLETAMBOT1_2,  AR04,    71,  1,     15,   15.0,2,19951003,2038,  2.8007, -43.8437,   15,   1597.6,2,   4.2226,2,  34.9753,2,  34.9768,2,    234.2,2,    234.8,2,    17.22,3,    20.65,2,     0.00,2,     1.36,2,    0.113,2,    0.055,2,   2101.5,3,   -999.0,9,   2256.1,3,     8.00,2,  4.0908, -999.00,9, 1599.0,2, -999.00,9
35LLETAMBOT1_2,  AR04,    71,  1,     14,   14.0,2,19951003,2038,  2.8007, -43.8437,   15,   1698.0,2,   4.0555,2,  34.9824,2,  34.9834,2,    244.2,2,    245.5,2,    18.56,2,    19.75,2,     0.00,2,     1.30,2,    0.130,2,    0.061,2,   2099.8,3,   -999.0,9,   2258.3,3,     8.01,2,  3.9162, -999.00,9, 1698.0,2, -999.00,9
35LLETAMBOT1_2,  AR04,    71,  1,     13,   13.0,2,19951003,2038,  2.8007, -43.8437,   15,   1796.8,2,   3.9423,2,  34.9840,2,  34.9850,2,    248.7,2,    249.8,2,    15.31,2,    19.18,2,     0.00,2,     1.26,2,    0.137,2,    0.066,2,   2111.0,3,   -999.0,9,   2279.2,3,     8.03,2,  3.7952, -999.00,9, 1798.0,2, -999.00,9
35LLETAMBOT1_2,  AR04,    71,  1,     12,   12.0,2,19951003,2038,  2.8007, -43.8437,   15,   1996.0,2,   3.5827,2,  34.9723,2,  34.9727,2,    255.1,2,    254.3,2,    17.52,2,    19.09,2,     0.00,2,     1.26,2,    0.103,2,    0.048,2,   2105.6,3,   -999.0,9,   2268.2,3,     8.02,2,  3.4217, -999.00,9, 1998.0,2, -999.00,9
35LLETAMBOT1_2,  AR04,    71,  1,     11,   11.0,2,19951003,2038,  2.8007, -43.8437,   15,   2297.1,2,   3.2447,2,  34.9608,2,  34.9609,2,    259.2,2,    259.1,2,    19.04,2,    18.71,2,     0.00,2,     1.23,2,    0.109,2,    0.049,2,   2107.1,3,   -999.0,9,   2272.9,3,     8.02,2,  3.0602, -999.00,9, 2299.0,2, -999.00,9
35LLETAMBOT1_2,  AR04,    71,  1,     10,   10.0,2,19951003,2038,  2.8007, -43.8437,   15,   2599.5,2,   2.8961,2,  34.9375,2,  34.9373,2,    256.0,2,    257.2,2,    25.80,2,    19.45,2,     0.00,2,     1.30,2,    0.042,2,    0.014,2,   2123.5,3,   -999.0,9,   2288.5,3,     8.01,2,  2.6883, -999.00,9, 2601.0,2, -999.00,9
35LLETAMBOT1_2,  AR04,    71,  1,      9,    9.0,2,19951003,2038,  2.8007, -43.8437,   15,   2799.7,2,   2.8236,2,  34.9348,2,  34.9344,2,    259.2,2,    259.3,2,    24.54,2,    19.09,2,     0.00,2,     1.28,2,    0.093,2,    0.042,2,   2100.2,3,   -999.0,9,   2264.1,3,     8.00,2,  2.5972, -999.00,9, 2802.0,2, -999.00,9
35LLETAMBOT1_2,  AR04,    71,  1,      7,    7.0,2,19951003,2038,  2.8007, -43.8437,   15,   2999.5,2,   2.7086,2,  34.9273,2,  34.9284,2,    259.8,2,    260.0,2,    25.40,2,    19.24,2,     0.00,2,     1.28,2,    0.119,2,    0.054,2,   2103.6,3,   -999.0,9,   2267.6,3,     7.99,2,  2.4642, -999.00,9, 3001.0,2, -999.00,9
35LLETAMBOT1_2,  AR04,    71,  1,      8,    8.0,2,19951003,2038,  2.8007, -43.8437,   15,   2999.5,2,   2.7086,2,  34.9273,2,  34.9283,2,    259.8,2,    260.1,2,    25.72,2,    19.14,2,     0.00,2,     1.28,2,    0.119,2,    0.051,2,   2127.4,3,   -999.0,9,   2291.1,3,     7.99,2,  2.4642, -999.00,9, 3001.0,2, -999.00,9
35LLETAMBOT1_2,  AR04,    71,  1,      6,    6.0,2,19951003,2038,  2.8007, -43.8437,   15,   3297.7,2,   2.5675,2,  34.9176,2,  34.9170,2,    261.3,2,    261.7,2,    26.38,2,    19.04,2,     0.00,2,     1.28,2,    0.167,2,    0.075,2,   2116.3,3,   -999.0,9,   2288.8,3,     8.00,2,  2.2951, -999.00,9, 3299.0,2, -999.00,9
35LLETAMBOT1_2,  AR04,    71,  1,      5,    5.0,2,19951003,2038,  2.8007, -43.8437,   15,   3600.3,2,   2.4738,2,  34.9102,2,  34.9106,2,    262.8,2,    263.6,2,    27.33,2,    18.99,2,     0.00,2,     1.29,2,    0.182,2,    0.084,2,   2094.5,3,   -999.0,9,   2256.5,3,     7.97,2,  2.1711, -999.00,9, 3601.0,2, -999.00,9
35LLETAMBOT1_2,  AR04,    71,  1,      4,    4.0,2,19951003,2038,  2.8007, -43.8437,   15,   3800.4,2,   2.2780,2,  34.8965,2,  34.8986,2,    264.0,2,    264.6,2,    30.69,2,    18.83,2,     0.00,2,     1.30,2,    0.182,2,    0.089,2,   2153.1,3,   -999.0,9,   2318.0,3,     7.96,2,  1.9584, -999.00,9, 3801.0,2, -999.00,9
35LLETAMBOT1_2,  AR04,    71,  1,      3,    3.0,2,19951003,2038,  2.8007, -43.8437,   15,   4001.2,2,   2.2410,2,  34.8908,2,  34.8920,2,    262.4,2,    262.2,2,    31.84,2,    18.81,2,     0.00,2,     1.33,2,    0.159,2,    0.080,2,   2116.7,3,   -999.0,9,   2279.1,3,     7.96,2,  1.8999, -999.00,9, 4003.0,2, -999.00,9
35LLETAMBOT1_2,  AR04,    71,  1,      2,    2.0,2,19951003,2038,  2.8007, -43.8437,   15,   4149.3,2,   2.2291,2,  34.8885,2,  34.8881,2,    262.4,2,    261.8,2,    32.55,2,    18.98,2,     0.00,2,     1.34,2,    0.150,2,    0.077,2,   2131.4,3,   -999.0,9,   2291.4,3,     7.94,2,  1.8714, -999.00,9, 4151.0,2, -999.00,9
35LLETAMBOT1_2,  AR04,    71,  1,      1,    1.0,2,19951003,2038,  2.8007, -43.8437,   15,   4267.2,2,   2.1785,2,  34.8796,2,  34.8798,2,    259.0,2,    258.6,2,    36.72,2,    19.54,2,     0.00,2,     1.39,2,    0.140,2,    0.073,2,   2133.2,3,   -999.0,9,   2292.5,3,     7.94,2,  1.8087, -999.00,9, 4268.0,2, -999.00,9
35LLETAMBOT1_2,  AR04,    72,  1,     24,   24.0,2,19951004,0230,  3.2418, -43.6053,   20,      1.6,2,  27.8487,2,  36.2036,2,  36.1966,2,    211.5,2,    199.5,2,     0.69,2,     0.64,2,     0.01,2,     0.03,2, -999.000,9, -999.000,9,   -999.0,9,    377.3,2,   -999.0,9,  -999.00,9, 27.8483,    0.07,2,    3.0,2,    0.01,2
35LLETAMBOT1_2,  AR04,    72,  1,     23,   23.0,2,19951004,0230,  3.2418, -43.6053,   20,     88.0,2,  27.4683,2,  36.1397,2,  36.1236,2,    201.1,2,    198.8,2,     0.42,2,     0.60,2,     0.01,2,     0.03,2, -999.000,9, -999.000,9,   -999.0,9,   -999.0,9,   -999.0,9,  -999.00,9, 27.4478, -999.00,9,   90.0,2, -999.00,9
35LLETAMBOT1_2,  AR04,    72,  1,     22,   22.0,2,19951004,0230,  3.2418, -43.6053,   20,    218.8,2,  11.6875,2,  35.2524,2,  35.2280,2,    111.0,2,    110.0,2,    10.57,2,    26.08,2,     0.02,2,     1.58,2, -999.000,9, -999.000,9,   -999.0,9,   -999.0,9,   -999.0,9,  -999.00,9, 11.6593, -999.00,9,  220.0,2, -999.00,9
35LLETAMBOT1_2,  AR04,    72,  1,     21,   21.0,2,19951004,0230,  3.2418, -43.6053,   20,    398.6,2,   7.0918,2,  34.6015,2,  34.6000,2,    158.5,2,    157.1,2,    18.74,2,    29.97,2,     0.01,2,     1.96,2, -999.000,9, -999.000,9,   -999.0,9,   -999.0,9,   -999.0,9,  -999.00,9,  7.0539, -999.00,9,  400.0,2, -999.00,9
35LLETAMBOT1_2,  AR04,    72,  1,     20,   20.0,2,19951004,0230,  3.2418, -43.6053,   20,    595.4,2,   5.8774,2,  34.5619,2,  34.5674,2,    135.1,2,    133.2,2,    24.77,2,    34.17,2,     0.01,2,     2.27,2, -999.000,9, -999.000,9,   -999.0,9,   -999.0,9,   -999.0,9,  -999.00,9,  5.8255, -999.00,9,  597.0,2, -999.00,9
35LLETAMBOT1_2,  AR04,    72,  1,     19,   19.0,2,19951004,0230,  3.2418, -43.6053,   20,    797.0,2,   4.8774,2,  34.5477,2,  34.5460,2,    141.2,2,    139.4,2,    31.02,2,    34.93,2,     0.01,2,     2.38,2,    0.047,2,    0.010,2,   -999.0,9,   -999.0,9,   -999.0,9,  -999.00,9,  4.8129, -999.00,9,  798.0,2, -999.00,9
35LLETAMBOT1_2,  AR04,    72,  1,     18,   18.0,2,19951004,0230,  3.2418, -43.6053,   20,    994.4,2,   4.6030,2,  34.6598,2,  34.6619,2,    154.6,2,    153.2,2,    30.97,2,    33.02,2,     0.01,2,     2.23,2,    0.018,2,    0.003,2,   -999.0,9,   -999.0,9,   -999.0,9,  -999.00,9,  4.5229, -999.00,9,  996.0,2, -999.00,9
35LLETAMBOT1_2,  AR04,    72,  1,     17,   17.0,2,19951004,0230,  3.2418, -43.6053,   20,   1297.7,2,   4.5608,2,  34.9178,2,  34.9143,2,    203.1,2,    200.9,2,    21.83,2,    25.92,2,     0.01,2,     1.67,2,    0.066,2,    0.023,2,   -999.0,9,   -999.0,9,   -999.0,9,  -999.00,9,  4.4533, -999.00,9, 1299.0,2, -999.00,9
35LLETAMBOT1_2,  AR04,    72,  1,     16,   16.0,2,19951004,0230,  3.2418, -43.6053,   20,   1496.8,2,   4.3133,2,  34.9698,2,  34.9699,2,    228.3,2,    227.9,2,    18.40,2,    22.79,2,     0.01,2,     1.43,2,    0.095,2,    0.040,2,   -999.0,9,   -999.0,9,   -999.0,9,  -999.00,9,  4.1899, -999.00,9, 1498.0,2, -999.00,9
35LLETAMBOT1_2,  AR04,    72,  1,     15,   15.0,2,19951004,0230,  3.2418, -43.6053,   20,   1597.0,2,   4.1746,2,  34.9793,2,  34.9783,2,    236.8,2,    236.1,2,    17.73,2,    22.00,2,     0.01,2,     1.37,2,    0.096,2,    0.043,2,   -999.0,9,   -999.0,9,   -999.0,9,  -999.00,9,  4.0434, -999.00,9, 1598.0,2, -999.00,9
35LLETAMBOT1_2,  AR04,    72,  1,     14,   14.0,2,19951004,0230,  3.2418, -43.6053,   20,   1697.4,2,   4.0536,2,  34.9853,2,  34.9855,2,    246.3,2,    246.2,2,    17.02,2,    21.10,2,     0.01,2,     1.30,2,    0.122,2,    0.058,2,   -999.0,9,   -999.0,9,   -999.0,9,  -999.00,9,  3.9144, -999.00,9, 1699.0,2, -999.00,9
35LLETAMBOT1_2,  AR04,    72,  1,     13,   13.0,2,19951004,0230,  3.2418, -43.6053,   20,   1796.8,2,   3.9540,2,  34.9853,2,  34.9873,2,    249.7,2,    249.0,2,    17.10,2,    20.62,2,     0.01,2,     1.28,2,    0.121,2,    0.059,2,   -999.0,9,   -999.0,9,   -999.0,9,  -999.00,9,  3.8067, -999.00,9, 1798.0,2, -999.00,9
35LLETAMBOT1_2,  AR04,    72,  1,     12,   12.0,2,19951004,0230,  3.2418, -43.6053,   20,   1997.0,2,   3.6112,2,  34.9755,2,  34.9770,2,    254.9,2,    255.2,2,    18.89,2,    20.06,2,     0.01,2,     1.25,2,    0.105,2,    0.045,2,   -999.0,9,   -999.0,9,   -999.0,9,  -999.00,9,  3.4497, -999.00,9, 1998.0,2, -999.00,9
35LLETAMBOT1_2,  AR04,    72,  1,     11,   11.0,2,19951004,0230,  3.2418, -43.6053,   20,   2297.1,2,   3.1737,2,  34.9543,2,  34.9558,2,    256.1,2,    256.8,2,    23.20,2,    20.02,2,     0.01,2,     1.28,2,    0.047,2,    0.018,2,   -999.0,9,   -999.0,9,   -999.0,9,  -999.00,9,  2.9904, -999.00,9, 2299.0,2, -999.00,9
35LLETAMBOT1_2,  AR04,    72,  1,     10,   10.0,2,19951004,0230,  3.2418, -43.6053,   20,   2596.8,2,   2.8677,2,  34.9378,2,  34.9387,2,    258.1,2,    257.9,2,    26.83,2,    20.11,2,     0.01,2,     1.29,2,    0.051,2,    0.020,2,   -999.0,9,   -999.0,9,   -999.0,9,  -999.00,9,  2.6607, -999.00,9, 2598.0,2, -999.00,9
35LLETAMBOT1_2,  AR04,    72,  1,      8,    8.0,2,19951004,0230,  3.2418, -43.6053,   20,   2799.5,2,   2.7996,2,  34.9323,2,  34.9328,2,    258.1,2,    258.7,2,    28.46,2,    20.23,2,     0.01,2,     1.30,2,    0.067,2,    0.025,2,   -999.0,9,   -999.0,9,   -999.0,9,  -999.00,9,  2.5737, -999.00,9, 2800.0,2, -999.00,9
35LLETAMBOT1_2,  AR04,    72,  1,      9,    9.0,2,19951004,0230,  3.2418, -43.6053,   20,   2799.5,2,   2.7996,2,  34.9323,2,  34.9331,2,    258.1,2,    260.6,2,    28.12,2,    20.21,2,     0.01,2,     1.29,2,    0.063,2,    0.026,2,   -999.0,9,   -999.0,9,   -999.0,9,  -999.00,9,  2.5737, -999.00,9, 2800.0,2, -999.00,9
35LLETAMBOT1_2,  AR04,    72,  1,      7,    7.0,2,19951004,0230,  3.2418, -43.6053,   20,   2998.6,2,   2.6884,2,  34.9255,2,  34.9256,2,    257.8,2,    259.4,2,    29.69,2,    20.19,2,     0.01,2,     1.30,2,    0.081,2,    0.041,2,   -999.0,9,   -999.0,9,   -999.0,9,  -999.00,9,  2.4446, -999.00,9, 3000.0,2, -999.00,9
35LLETAMBOT1_2,  AR04,    72,  1,      6,    6.0,2,19951004,0230,  3.2418, -43.6053,   20,   3300.8,2,   2.5769,2,  34.9183,2,  34.9187,2,    259.3,2,    260.7,2,    31.35,2,    20.19,2,     0.00,2,     1.30,2,    0.108,2,    0.047,2,   -999.0,9,   -999.0,9,   -999.0,9,  -999.00,9,  2.3040, -999.00,9, 3303.0,2, -999.00,9
35LLETAMBOT1_2,  AR04,    72,  1,      5,    5.0,2,19951004,0230,  3.2418, -43.6053,   20,   3600.7,2,   2.4261,2,  34.9081,2,  34.9069,2,    262.4,2,    262.4,2,    32.39,2,    20.07,2,     0.00,2,     1.29,2,    0.130,2,    0.060,2,   -999.0,9,   -999.0,9,   -999.0,9,  -999.00,9,  2.1246, -999.00,9, 3602.0,2, -999.00,9
35LLETAMBOT1_2,  AR04,    72,  1,      4,    4.0,2,19951004,0230,  3.2418, -43.6053,   20,   3800.2,2,   2.2940,2,  34.8987,2,  34.8973,2,    263.3,2,    263.9,2,    34.00,2,    20.07,2,     0.00,2,     1.29,2,    0.183,2,    0.086,2,   -999.0,9,   -999.0,9,   -999.0,9,  -999.00,9,  1.9740, -999.00,9, 3801.0,2, -999.00,9
35LLETAMBOT1_2,  AR04,    72,  1,      3,    3.0,2,19951004,0230,  3.2418, -43.6053,   20,   4000.9,2,   2.2480,2,  34.8928,2,  34.8912,2,    263.0,2,    262.3,2,    36.52,2,    20.33,2,     0.00,2,     1.32,2,    0.155,2,    0.075,2,   -999.0,9,   -999.0,9,   -999.0,9,  -999.00,9,  1.9067, -999.00,9, 4002.0,2, -999.00,9
35LLETAMBOT1_2,  AR04,    72,  1,      2,    2.0,2,19951004,0230,  3.2418, -43.6053,   20,   4200.4,2,   2.2123,2,  34.8867,2,  34.8838,2,    261.7,2,    260.5,2,    40.19,2,    20.82,2,     0.00,2,     1.35,2,    0.130,2,    0.064,2,   -999.0,9,   -999.0,9,   -999.0,9,  -999.00,9,  1.8492, -999.00,9, 4202.0,2, -999.00,9
35LLETAMBOT1_2,  AR04,    72,  1,      1,    1.0,2,19951004,0230,  3.2418, -43.6053,   20,   4288.6,2,   1.9359,2,  34.8504,2,  34.8510,2,    254.5,2,    250.2,2,    58.15,2,    23.43,2,     0.00,2,     1.53,2,    0.090,2,    0.047,2,   -999.0,9,   -999.0,9,   -999.0,9,  -999.00,9,  1.5709, -999.00,9, 4290.0,2, -999.00,9