BOTTLE,20220929CCHSIOAMB
EXPOCODE,SECT_ID,STNNBR,CASTNO,SAMPNO,BTLNBR,BTLNBR_FLAG_W,DATE,TIME,LATITUDE,LONGITUDE,DEPTH,CTDPRS,CTDPRS_FLAG_W,CTDTMP,CTDTMP_FLAG_W,CTDSAL,CTDSAL_FLAG_W,SALNTY,SALNTY_FLAG_W,CTDOXY,CTDOXY_FLAG_W,OXYGEN,OXYGEN_FLAG_W,SILCAT,SILCAT_FLAG_W,NITRAT,NITRAT_FLAG_W,NITRIT,NITRIT_FLAG_W,PHSPHT,PHSPHT_FLAG_W,CFC-11,CFC-11_FLAG_W,CFC-12,CFC-12_FLAG_W,TCARBN,TCARBN_FLAG_W,PCO2,PCO2_FLAG_W,ALKALI,ALKALI_FLAG_W,PH,PH_FLAG_W,THETA,CHLORA,CHLORA_FLAG_W,CTDRAW,CTDRAW_FLAG_W,PPHYTN,PPHYTN_FLAG_W
,,,,,,,,,,,,DBAR,,DEG C,,PSS-78,,PSS-78,,UMOL/KG,,UMOL/KG,,UMOL/KG,,UMOL/KG,,UMOL/KG,,UMOL/KG,,PMOL/KG,,PMOL/KG,,UMOL/KG,,UATM,,UMOL/KG,,,,DEG C,UG/L,,DBAR,,UG/L,
35LLETAMBOT1_1,  AR15,    30,  2,     27,   22.0,2,19950917,0843,  7.4987, -39.3342,   20,      0.1,2,  29.3865,2,  31.3574,2,  31.4336,2,    198.1,2,    199.1,2,     6.74,2,     0.00,2,     0.00,2,     0.00,2, -999.000,9, -999.000,9,   -999.0,9,    315.7,2,   -999.0,9,  -999.00,9, 29.3865,    0.10,2,    2.0,2,    0.02,2
35LLETAMBOT1_1,  AR15,    30,  2,     21,   21.0,4,19950917,0843,  7.4987, -39.3342,   20,    745.9,2,   5.9031,2,  34.6458,2,-999.0000,9,    115.3,2,   -999.0,9,  -999.00,9,  -999.00,9,  -999.00,9,  -999.00,9, -999.000,9, -999.000,9,   -999.0,9,   -999.0,9,   -999.0,9,  -999.00,9,  5.8370, -999.00,9,  748.0,2, -999.00,9
35LLETAMBOT1_1,  AR15,    30,  2,     20,   20.0,2,19950917,0843,  7.4987, -39.3342,   20,    996.0,2,   4.8693,2,  34.6723,2,  34.6908,2,    147.3,2,    150.1,2,    29.16,2,    31.87,2,     0.01,2,     2.17,2,    0.029,2,    0.023,2,   -999.0,9,   -999.0,9,   -999.0,9,  -999.00,9,  4.7871, -999.00,9,  997.0,2, -999.00,9
35LLETAMBOT1_1,  AR15,    30,  2,     19,   19.0,2,19950917,0843,  7.4987, -39.3342,   20,   1296.4,2,   4.6249,2,  34.9041,2,  34.9023,2,    192.4,2,    192.8,2,    22.82,2,    25.25,2,     0.01,2,     1.70,2,    0.054,2,    0.023,2,   -999.0,9,   -999.0,9,   -999.0,9,  -999.00,9,  4.5170, -999.00,9, 1298.0,2, -999.00,9
35LLETAMBOT1_1,  AR15,    30,  2,     18,   18.0,2,19950917,0843,  7.4987, -39.3342,   20,   1597.2,2,   4.2734,2,  34.9807,2,  34.9840,2,    234.9,2,    236.8,2,    17.61,2,    20.03,2,     0.01,2,     1.34,2,    0.110,2,    0.058,2,   -999.0,9,   -999.0,9,   -999.0,9,  -999.00,9,  4.1410, -999.00,9, 1599.0,2, -999.00,9
35LLETAMBOT1_1,  AR15,    30,  2,     17,   17.0,2,19950917,0843,  7.4987, -39.3342,   20,   1697.3,2,   4.0540,2,  34.9830,2,  34.9840,2,    244.3,2,    243.5,2,    17.72,2,    19.55,2,     0.01,2,     1.30,2,    0.132,2,    0.064,2,   -999.0,9,   -999.0,9,   -999.0,9,  -999.00,9,  3.9148, -999.00,9, 1699.0,2, -999.00,9
35LLETAMBOT1_1,  AR15,    30,  2,     16,   16.0,2,19950917,0843,  7.4987, -39.3342,   20,   1800.0,2,   3.8993,2,  34.9829,2,  34.9829,2,    248.4,2,    249.0,2,    17.83,2,    19.06,2,     0.01,2,     1.27,2,    0.109,2,    0.060,2,   -999.0,9,   -999.0,9,   -999.0,9,  -999.00,9,  3.7524, -999.00,9, 1802.0,2, -999.00,9
35LLETAMBOT1_1,  AR15,    30,  2,     15,   15.0,2,19950917,0843,  7.4987, -39.3342,   20,   1897.7,2,   3.7334,2,  34.9766,2,  34.9756,2,    250.9,2,    250.7,2,    19.24,2,    19.16,2,     0.01,2,     1.27,2,    0.078,2,    0.037,2,   -999.0,9,   -999.0,9,   -999.0,9,  -999.00,9,  3.5796, -999.00,9, 1899.0,2, -999.00,9
35LLETAMBOT1_1,  AR15,    30,  2,     14,   14.0,2,19950917,0843,  7.4987, -39.3342,   20,   1997.5,2,   3.5738,2,  34.9707,2,  34.9699,2,    251.8,2,    251.5,2,    20.76,2,    19.31,2,     0.01,2,     1.28,2,    0.053,2,    0.030,2,   -999.0,9,   -999.0,9,   -999.0,9,  -999.00,9,  3.4128, -999.00,9, 1998.0,2, -999.00,9
35LLETAMBOT1_1,  AR15,    30,  2,     13,   13.0,2,19950917,0843,  7.4987, -39.3342,   20,   2398.7,2,   3.1708,2,  34.9521,2,  34.9490,2,    254.3,2,    254.6,2,    24.76,2,    19.34,2,     0.01,2,     1.28,2,    0.049,2,    0.023,2,   -999.0,9,   -999.0,9,   -999.0,9,  -999.00,9,  2.9777, -999.00,9, 2399.0,2, -999.00,9
35LLETAMBOT1_1,  AR15,    30,  2,     12,   12.0,2,19950917,0843,  7.4987, -39.3342,   20,   2598.9,2,   3.0246,2,  34.9453,2,  34.9476,2,    254.4,2,    255.4,2,    27.00,2,    19.45,2,     0.01,2,     1.29,2,    0.043,2,    0.023,2,   -999.0,9,   -999.0,9,   -999.0,9,  -999.00,9,  2.8144, -999.00,9, 2600.0,2, -999.00,9
35LLETAMBOT1_1,  AR15,    30,  2,     11,   11.0,2,19950917,0843,  7.4987, -39.3342,   20,   2798.2,2,   2.9019,2,  34.9393,2,  34.9381,2,    256.6,2,    256.8,2,    28.76,2,    19.57,2,     0.00,2,     1.29,2,    0.048,2,    0.027,2,   -999.0,9,   -999.0,9,   -999.0,9,  -999.00,9,  2.6740, -999.00,9, 2800.0,2, -999.00,9
35LLETAMBOT1_1,  AR15,    30,  2,     10,   10.0,2,19950917,0843,  7.4987, -39.3342,   20,   2999.0,2,   2.7634,2,  34.9287,2,  34.9288,2,    255.0,2,    255.4,2,    32.69,2,    20.03,2,     0.00,2,     1.32,2,    0.029,2,    0.014,2,   -999.0,9,   -999.0,9,   -999.0,9,  -999.00,9,  2.5179, -999.00,9, 2999.0,2, -999.00,9
35LLETAMBOT1_1,  AR15,    30,  2,      9,    9.0,2,19950917,0843,  7.4987, -39.3342,   20,   3300.2,2,   2.6034,2,  34.9177,2,  34.9140,2,    255.5,2,    256.3,2,    35.77,2,    20.13,2,     0.00,2,     1.32,2,    0.054,2,    0.026,2,   -999.0,9,   -999.0,9,   -999.0,9,  -999.00,9,  2.3299, -999.00,9, 3301.0,2, -999.00,9
35LLETAMBOT1_1,  AR15,    30,  2,      8,    8.0,2,19950917,0843,  7.4987, -39.3342,   20,   3602.6,2,   2.3643,2,  34.9009,2,  34.9001,2,    258.3,2,    258.3,2,    38.86,2,    20.23,2,     0.00,2,     1.34,2,    0.074,2,    0.035,2,   -999.0,9,   -999.0,9,   -999.0,9,  -999.00,9,  2.0642, -999.00,9, 3603.0,2, -999.00,9
35LLETAMBOT1_1,  AR15,    30,  2,      7,    7.0,2,19950917,0843,  7.4987, -39.3342,   20,   3802.2,2,   2.3054,2,  34.8962,2,  34.8950,2,    258.8,2,    259.3,2,    39.33,2,    20.16,2,     0.00,2,     1.33,2,    0.083,2,    0.044,2,   -999.0,9,   -999.0,9,   -999.0,9,  -999.00,9,  1.9849, -999.00,9, 3803.0,2, -999.00,9
35LLETAMBOT1_1,  AR15,    30,  2,      5,    5.0,2,19950917,0843,  7.4987, -39.3342,   20,   4008.5,2,   2.1167,2,  34.8739,2,  34.8740,2,    256.3,2,    254.7,2,    49.03,2,    21.67,2,     0.00,2,     1.42,2,    0.067,2,    0.035,2,   -999.0,9,   -999.0,9,   -999.0,9,  -999.00,9,  1.7783, -999.00,9, 4010.0,2, -999.00,9
35LLETAMBOT1_1,  AR15,    30,  2,      6,    6.0,2,19950917,0843,  7.4987, -39.3342,   20,   4008.5,2,   2.1167,2,  34.8739,2,  34.8740,2,    256.3,2,    254.9,2,    49.15,2,    21.59,2,     0.00,2,     1.43,2,    0.060,2,    0.036,2,   -999.0,9,   -999.0,9,   -999.0,9,  -999.00,9,  1.7783, -999.00,9, 4010.0,2, -999.00,9
35LLETAMBOT1_1,  AR15,    30,  2,      4,    4.0,2,19950917,0843,  7.4987, -39.3342,   20,   4198.7,2,   1.8958,2,  34.8482,2,  34.8469,2,    249.2,2,    251.5,2,    61.43,2,    23.38,2,     0.00,2,     1.54,2,    0.065,2,    0.032,2,   -999.0,9,   -999.0,9,   -999.0,9,  -999.00,9,  1.5423, -999.00,9, 4199.0,2, -999.00,9
35LLETAMBOT1_1,  AR15,    30,  2,      3,    3.0,2,19950917,0843,  7.4987, -39.3342,   20,   4397.0,2,   1.7819,2,  34.8338,2,  34.8335,2,    246.1,2,    246.7,2,    64.03,2,    24.27,2,     0.00,2,     1.60,2,    0.065,2,    0.032,2,   -999.0,9,   -999.0,9,   -999.0,9,  -999.00,9,  1.4092, -999.00,9, 4398.0,2, -999.00,9
35LLETAMBOT1_1,  AR15,    30,  2,      2,    2.0,2,19950917,0843,  7.4987, -39.3342,   20,   4598.5,2,   1.6900,2,  34.8207,2,  34.8199,2,    242.8,2,    243.3,2,    70.88,2,    25.20,2,     0.00,2,     1.67,2,    0.058,2,    0.027,2,   -999.0,9,   -999.0,9,   -999.0,9,  -999.00,9,  1.2966, -999.00,9, 4599.0,2, -999.00,9
35LLETAMBOT1_1,  AR15,    30,  2,      1,    1.0,2,19950917,0843,  7.4987, -39.3342,   20,   4883.3,2,   1.6500,2,  34.8130,2,  34.8120,2,    239.7,2,    241.0,2,    75.01,2,    25.78,2,     0.00,2,     1.70,2,    0.066,2,    0.042,2,   -999.0,9,   -999.0,9,   -999.0,9,  -999.00,9,  1.2240, -999.00,9, 4885.0,2, -999.00,9
35LLETAMBOT1_1,  AR15,    31,  1,     28,    6.0,2,19950917,1424,  7.4988, -38.6658, 4640,      1.1,2,  29.7545,2,  31.5829,2,  31.5036,2,    198.5,2,    199.7,2,     6.84,2,     0.00,2,     0.00,2,     0.00,2, -999.000,9, -999.000,9,   1788.1,2,    319.7,2,   2145.3,2,     8.11,2, 29.7542, -999.00,9,    3.0,2, -999.00,9
35LLETAMBOT1_1,  AR15,    31,  1,     27,    5.0,2,19950917,1424,  7.4988, -38.6658, 4640,     22.5,2,  29.3880,2,  32.8016,2,  33.2995,2,    201.0,2,    203.3,2,     3.95,2,     0.00,2,     0.00,2,     0.00,2, -999.000,9, -999.000,9,   1849.8,2,   -999.0,9,   2223.4,2,     8.10,2, 29.3825, -999.00,9,   24.0,2, -999.00,9
35LLETAMBOT1_1,  AR15,    31,  1,     26,    4.0,2,19950917,1424,  7.4988, -38.6658, 4640,     70.2,2,  25.6594,2,  36.3410,2,  36.3690,2,    194.6,2,    193.2,2,     0.99,2,     0.00,2,     0.03,2,     0.03,2, -999.000,9, -999.000,9,   2051.9,2,   -999.0,9,   2421.9,2,     8.09,2, 25.6438, -999.00,9,   71.0,2, -999.00,9
35LLETAMBOT1_1,  AR15,    31,  1,     25,    3.0,2,19950917,1424,  7.4988, -38.6658, 4640,    123.8,2,  15.6159,2,  35.6437,2,  35.9520,2,    126.0,2,    117.3,2,     7.32,2,    18.99,2,     0.02,2,     1.23,2, -999.000,9, -999.000,9,   2179.7,2,   -999.0,9,   2372.1,2,     7.94,2, 15.5966, -999.00,9,  125.0,2, -999.00,9
35LLETAMBOT1_1,  AR15,    31,  1,     24,    2.0,2,19950917,1424,  7.4988, -38.6658, 4640,    249.6,2,   9.8193,2,  34.9179,2,  34.9130,2,    122.2,2,    124.7,2,    13.10,2,    26.46,2,     0.01,2,     1.75,2, -999.000,9, -999.000,9,   2213.8,2,   -999.0,9,   2349.9,2,     7.91,2,  9.7906, -999.00,9,  249.0,2, -999.00,9
35LLETAMBOT1_1,  AR15,    31,  1,     23,    1.0,2,19950917,1424,  7.4988, -38.6658, 4640,    502.0,2,   7.7114,2,  34.7483,2,  34.7497,2,    104.7,2,    104.2,2,    19.43,2,    33.04,2,     0.01,2,     2.16,2, -999.000,9, -999.000,9,   2244.7,3,   -999.0,9,   2344.4,3,     7.83,2,  7.6609, -999.00,9,  499.0,2, -999.00,9
35LLETAMBOT1_1,  AR15,    31,  2,     22,   22.0,2,19950917,1706,  7.4947, -38.6655,   10,    598.9,2,   6.7031,2,  34.6736,2,  34.6890,2,    115.2,2,    110.9,2,    22.02,2,    33.92,2,     0.00,2,     2.24,2,    0.156,2,    0.076,2,   2226.1,2,   -999.0,9,   2321.3,2,     7.83,2,  6.6470, -999.00,9,  600.0,2, -999.00,9
35LLETAMBOT1_1,  AR15,    31,  2,     21,   21.0,2,19950917,1706,  7.4947, -38.6655,   10,    795.7,2,   5.6127,2,  34.6349,2,  34.6360,2,    124.6,2,    124.9,2,    27.66,2,    34.68,2,     0.00,2,     2.34,2, -999.000,9,    0.023,2,   2217.5,2,   -999.0,9,   2309.2,2,     7.83,2,  5.5437, -999.00,9,  797.0,2, -999.00,9
35LLETAMBOT1_1,  AR15,    31,  2,     20,   20.0,2,19950917,1706,  7.4947, -38.6655,   10,    898.2,2,   5.1602,2,  34.6381,2,  34.6460,2,    135.4,2,    138.0,2,    29.43,2,    33.67,2,     0.00,2,     2.30,2,    0.033,2,    0.017,2,   2217.0,2,   -999.0,9,   2315.2,2,     7.86,2,  5.0847, -999.00,9,  899.0,2, -999.00,9
35LLETAMBOT1_1,  AR15,    31,  2,     19,   19.0,2,19950917,1706,  7.4947, -38.6655,   10,    999.8,2,   4.9606,2,  34.6799,2,  34.6855,2,    143.0,2,    145.2,2,    28.90,2,    32.68,2,     0.00,2,     2.24,2,    0.026,2,    0.012,2,   2216.7,2,   -999.0,9,   2319.6,2,     7.87,2,  4.8773, -999.00,9, 1002.0,2, -999.00,9
35LLETAMBOT1_1,  AR15,    31,  2,     18,   18.0,2,19950917,1706,  7.4947, -38.6655,   10,   1296.7,2,   4.6994,2,  34.8974,2,  34.9012,2,    191.1,2,    191.0,2,    22.38,2,    25.58,2,     0.00,2,     1.75,2,    0.048,2,    0.020,2,   2190.2,2,   -999.0,9,   2327.4,2,     7.95,2,  4.5907, -999.00,9, 1298.0,2, -999.00,9
35LLETAMBOT1_1,  AR15,    31,  2,     17,   17.0,2,19950917,1706,  7.4947, -38.6655,   10,   1496.3,2,   4.4124,2,  34.9544,2,  34.9598,2,    218.2,2,    219.4,2,    19.10,2,    22.03,2,     0.00,2,     1.51,2,    0.066,2,    0.035,2,   2155.7,2,   -999.0,9,   2309.5,2,     7.99,2,  4.2879, -999.00,9, 1498.0,2, -999.00,9
35LLETAMBOT1_1,  AR15,    31,  2,     16,   16.0,2,19950917,1706,  7.4947, -38.6655,   10,   1597.2,2,   4.2538,2,  34.9757,2,  34.9800,2,    233.5,2,    234.4,2,    17.39,2,    20.45,2,     0.00,2,     1.39,2,    0.105,2,    0.049,2,   2139.8,3,   -999.0,9,   2301.5,3,     8.01,2,  4.1216, -999.00,9, 1599.0,2, -999.00,9
35LLETAMBOT1_1,  AR15,    31,  2,     15,   15.0,2,19950917,1706,  7.4947, -38.6655,   10,   1697.3,2,   4.0825,2,  34.9833,2,  34.9860,2,    243.0,2,    242.9,2,    16.82,2,    19.56,2,     0.00,2,     1.33,2,    0.103,2,    0.056,2,   2142.3,3,   -999.0,9,   2308.5,3,     8.02,2,  3.9430, -999.00,9, 1698.0,2, -999.00,9
35LLETAMBOT1_1,  AR15,    31,  2,     14,   14.0,2,19950917,1706,  7.4947, -38.6655,   10,   1796.5,2,   3.9672,2,  34.9825,2,  34.9830,2,    246.9,2,    246.5,2,    17.45,2,    19.21,2,     0.00,2,     1.31,2,    0.089,2,    0.043,2,   2126.7,3,   -999.0,9,   2295.3,3,     8.03,2,  3.8198, -999.00,9, 1798.0,2, -999.00,9
35LLETAMBOT1_1,  AR15,    31,  2,     13,   13.0,2,19950917,1706,  7.4947, -38.6655,   10,   1896.1,2,   3.7849,2,  34.9791,2,  34.9768,2,    251.2,2,    250.1,2,    17.76,2,    18.97,2,     0.00,2,     1.29,2,    0.100,2,    0.046,2,   2118.0,3,   -999.0,9,   2288.2,3,     8.03,2,  3.6305, -999.00,9, 1897.0,2, -999.00,9
35LLETAMBOT1_1,  AR15,    31,  2,     12,   12.0,2,19950917,1706,  7.4947, -38.6655,   10,   1996.0,2,   3.6291,2,  34.9746,2,  34.9758,2,    254.0,2,    252.6,2,    18.63,2,    19.74,2,     0.00,2,     1.28,2,    0.085,2,    0.040,2,   2108.8,3,   -999.0,9,   2279.7,3,     8.03,2,  3.4674, -999.00,9, 1998.0,2, -999.00,9
35LLETAMBOT1_1,  AR15,    31,  2,     11,   11.0,2,19950917,1706,  7.4947, -38.6655,   10,   2394.4,2,   3.1551,2,  34.9514,2,  34.9515,2,    254.7,2,    254.7,2,    24.17,2,    19.10,2,     0.00,2,     1.31,2,    0.053,2,    0.024,2,   2102.9,3,   -999.0,9,   2273.8,3,     8.03,2,  2.9627, -999.00,9, 2395.0,2, -999.00,9
35LLETAMBOT1_1,  AR15,    31,  2,     10,   10.0,2,19950917,1706,  7.4947, -38.6655,   10,   2796.6,2,   2.8893,2,  34.9366,2,  34.9380,2,    255.6,2,    256.3,2,    27.53,2,    19.41,2,     0.00,2,     1.33,2,    0.046,2,    0.020,2,   2143.5,3,   -999.0,9,   2315.8,3,     8.01,2,  2.6619, -999.00,9, 2798.0,2, -999.00,9
35LLETAMBOT1_1,  AR15,    31,  2,      9,    9.0,2,19950917,1706,  7.4947, -38.6655,   10,   2999.3,2,   2.7492,2,  34.9286,2,  34.9287,2,    256.9,2,    256.6,2,    29.75,2,    19.37,2,     0.00,2,     1.33,2,    0.049,2,    0.026,2,   2145.6,3,   -999.0,9,   2317.9,3,     8.01,2,  2.5040, -999.00,9, 3001.0,2, -999.00,9
35LLETAMBOT1_1,  AR15,    31,  2,      8,    8.0,2,19950917,1706,  7.4947, -38.6655,   10,   3295.3,2,   2.5913,2,  34.9170,2,  34.9180,2,    257.6,2,    259.4,2,    32.60,2,    19.54,2,     0.00,2,     1.34,2,    0.054,2,    0.030,2,   2160.2,3,   -999.0,9,   2332.2,3,     8.00,2,  2.3186, -999.00,9, 3297.0,2, -999.00,9
35LLETAMBOT1_1,  AR15,    31,  2,      6,    6.0,2,19950917,1706,  7.4947, -38.6655,   10,   3599.4,2,   2.4512,2,  34.9054,2,  34.9050,2,    258.0,2,    257.2,2,    35.71,2,    19.79,2,     0.00,2,     1.36,2,    0.052,2,    0.027,2,   2138.8,3,   -999.0,9,   2310.8,3,     7.99,2,  2.1492, -999.00,9, 3601.0,2, -999.00,9
35LLETAMBOT1_1,  AR15,    31,  2,      7,    7.0,2,19950917,1706,  7.4947, -38.6655,   10,   3599.4,2,   2.4512,2,  34.9054,2,  34.9060,2,    258.0,2,    257.1,2,    35.64,2,    19.78,2,     0.00,2,     1.36,2,    0.058,2,    0.027,2,   2141.6,3,   -999.0,9,   2312.7,3,     7.99,2,  2.1492, -999.00,9, 3601.0,2, -999.00,9
35LLETAMBOT1_1,  AR15,    31,  2,      5,    5.0,2,19950917,1706,  7.4947, -38.6655,   10,   3798.6,2,   2.2709,2,  34.8906,2,  34.8910,2,    257.9,2,    257.3,2,    39.62,2,    20.17,2,     0.00,2,     1.40,2,    0.074,2,    0.036,2,   2152.1,3,   -999.0,9,   2321.5,3,     7.97,2,  1.9517, -999.00,9, 3800.0,2, -999.00,9
35LLETAMBOT1_1,  AR15,    31,  2,      4,    4.0,2,19950917,1706,  7.4947, -38.6655,   10,   3999.2,2,   2.0896,2,  34.8705,2,  34.8740,2,    255.1,2,    261.3,4,    46.21,2,    21.00,2,     0.00,2,     1.45,2,    0.058,2,    0.027,2,   2146.5,3,   -999.0,9,   2311.3,3,     7.96,2,  1.7531, -999.00,9, 4000.0,2, -999.00,9
35LLETAMBOT1_1,  AR15,    31,  2,      3,    3.0,2,19950917,1706,  7.4947, -38.6655,   10,   4199.1,2,   1.9570,2,  34.8545,2,  34.8540,2,    251.2,2,    250.2,2,    54.44,2,    22.23,2,     0.00,2,     1.54,2,    0.052,2,    0.025,2,   2156.6,3,   -999.0,9,   2317.4,3,     7.94,2,  1.6017, -999.00,9, 4200.0,2, -999.00,9
35LLETAMBOT1_1,  AR15,    31,  2,      2,    2.0,2,19950917,1706,  7.4947, -38.6655,   10,   4398.4,2,   1.7486,2,  34.8286,2,  34.8305,2,    245.9,2,    246.0,2,  -999.00,9,    23.61,2,     0.00,2,     1.64,2,    0.047,2,    0.021,2,   2184.3,3,   -999.0,9,   2341.1,3,     7.92,2,  1.3767, -999.00,9, 4399.0,2, -999.00,9
35LLETAMBOT1_1,  AR15,    31,  2,      1,    1.0,2,19950917,1706,  7.4947, -38.6655,   10,   4627.1,2,   1.6936,2,  34.8176,2,  34.8180,2,    242.4,2,    242.7,2,  -999.00,9,    24.38,2,     0.00,2,     1.70,2,    0.040,2,    0.029,2,   2180.6,3,   -999.0,9,   2334.9,3,     7.91,2,  1.2968, -999.00,9, 4629.0,2, -999.00,9