BOTTLE,20220929CCHSIOAMB
EXPOCODE,SECT_ID,STNNBR,CASTNO,SAMPNO,BTLNBR,BTLNBR_FLAG_W,DATE,TIME,LATITUDE,LONGITUDE,DEPTH,CTDPRS,CTDPRS_FLAG_W,CTDTMP,CTDTMP_FLAG_W,CTDSAL,CTDSAL_FLAG_W,SALNTY,SALNTY_FLAG_W,CTDOXY,CTDOXY_FLAG_W,OXYGEN,OXYGEN_FLAG_W,SILCAT,SILCAT_FLAG_W,NITRAT,NITRAT_FLAG_W,NITRIT,NITRIT_FLAG_W,PHSPHT,PHSPHT_FLAG_W,CFC-11,CFC-11_FLAG_W,CFC-12,CFC-12_FLAG_W,TCARBN,TCARBN_FLAG_W,PCO2,PCO2_FLAG_W,ALKALI,ALKALI_FLAG_W,PH,PH_FLAG_W,THETA,CHLORA,CHLORA_FLAG_W,CTDRAW,CTDRAW_FLAG_W,PPHYTN,PPHYTN_FLAG_W
,,,,,,,,,,,,DBAR,,DEG C,,PSS-78,,PSS-78,,UMOL/KG,,UMOL/KG,,UMOL/KG,,UMOL/KG,,UMOL/KG,,UMOL/KG,,PMOL/KG,,PMOL/KG,,UMOL/KG,,UATM,,UMOL/KG,,,,DEG C,UG/L,,DBAR,,UG/L,
35LLETAMBOT1_1,  AR15,    34,  1,     22,   22.0,2,19950918,1509,  7.4660, -36.6662,   20,     -0.1,2,  29.0037,2,  33.0825,2,  32.9838,2,    199.5,2,    200.9,2,     4.20,2,     0.10,3,     0.00,2,     0.00,2, -999.000,9, -999.000,9,   -999.0,9,    335.2,2,   -999.0,9,  -999.00,9, 29.0037,    0.07,2,    2.0,2,    0.01,2
35LLETAMBOT1_1,  AR15,    34,  1,     21,   21.0,2,19950918,1509,  7.4660, -36.6662,   20,     39.5,2,  28.0952,2,  35.8361,2,  35.8840,2,    203.0,2,    198.2,2,     1.28,2,     0.13,3,     0.00,2,     0.02,2, -999.000,9, -999.000,9,   -999.0,9,   -999.0,9,   -999.0,9,  -999.00,9, 28.0858, -999.00,9,   41.0,2, -999.00,9
35LLETAMBOT1_1,  AR15,    34,  1,     20,   20.0,2,19950918,1509,  7.4660, -36.6662,   20,    119.0,2,  16.8396,2,  35.7455,2,  35.7140,2,    136.3,2,    116.3,2,     6.56,2,    19.10,3,     0.02,2,     1.13,2, -999.000,9, -999.000,9,   -999.0,9,   -999.0,9,   -999.0,9,  -999.00,9, 16.8200, -999.00,9,  121.0,2, -999.00,9
35LLETAMBOT1_1,  AR15,    34,  1,     19,   19.0,2,19950918,1509,  7.4660, -36.6662,   20,    298.8,2,   9.2372,2,  34.8606,2,  34.8410,2,    119.2,2,    118.2,2,    15.32,2,    30.28,3,     0.00,2,     1.88,2, -999.000,9, -999.000,9,   -999.0,9,   -999.0,9,   -999.0,9,  -999.00,9,  9.2041, -999.00,9,  301.0,2, -999.00,9
35LLETAMBOT1_1,  AR15,    34,  1,     18,   18.0,2,19950918,1509,  7.4660, -36.6662,   20,    598.0,2,   6.6583,2,  34.6418,2,  34.6375,2,    117.3,2,    118.6,2,    23.63,2,    35.65,3,     0.00,2,     2.25,2,    0.148,2,    0.070,2,   -999.0,9,   -999.0,9,   -999.0,9,  -999.00,9,  6.6025, -999.00,9,  600.0,2, -999.00,9
35LLETAMBOT1_1,  AR15,    34,  1,     17,   17.0,2,19950918,1509,  7.4660, -36.6662,   20,    798.9,2,   5.5213,2,  34.6104,2,  34.6148,2,    125.5,2,    126.3,2,    28.69,2,    36.62,3,     0.00,2,     2.34,2,    0.051,2,    0.021,2,   -999.0,9,   -999.0,9,   -999.0,9,  -999.00,9,  5.4526, -999.00,9,  801.0,2, -999.00,9
35LLETAMBOT1_1,  AR15,    34,  1,     16,   16.0,2,19950918,1509,  7.4660, -36.6662,   20,    997.6,2,   4.8830,2,  34.6691,2,  34.6670,2,    143.7,2,    143.0,2,    29.93,2,    34.95,3,     0.00,2,     2.26,2,    0.039,2,    0.017,2,   -999.0,9,   -999.0,9,   -999.0,9,  -999.00,9,  4.8005, -999.00,9,  999.0,2, -999.00,9
35LLETAMBOT1_1,  AR15,    34,  1,     15,   15.0,2,19950918,1509,  7.4660, -36.6662,   20,   1296.4,2,   4.7259,2,  34.8776,2,  34.8825,2,    183.5,2,    183.9,2,    23.64,2,    28.24,3,     0.00,2,     1.80,2,    0.053,2,    0.024,2,   -999.0,9,   -999.0,9,   -999.0,9,  -999.00,9,  4.6170, -999.00,9, 1298.0,2, -999.00,9
35LLETAMBOT1_1,  AR15,    34,  1,     14,   14.0,2,19950918,1509,  7.4660, -36.6662,   20,   1597.3,2,   4.4418,2,  34.9897,2,  34.9856,2,    233.6,2,    234.0,2,    17.77,2,    22.14,3,     0.00,2,     1.38,2,    0.112,2,    0.054,2,   -999.0,9,   -999.0,9,   -999.0,9,  -999.00,9,  4.3073, -999.00,9, 1599.0,2, -999.00,9
35LLETAMBOT1_1,  AR15,    34,  1,     13,   13.0,2,19950918,1509,  7.4660, -36.6662,   20,   1697.7,2,   4.1721,2,  34.9861,2,  34.9860,2,    240.1,2,    239.3,2,    17.57,2,    21.69,3,     0.00,2,     1.35,2,    0.122,2,    0.060,2,   -999.0,9,   -999.0,9,   -999.0,9,  -999.00,9,  4.0314, -999.00,9, 1699.0,2, -999.00,9
35LLETAMBOT1_1,  AR15,    34,  1,     12,   12.0,2,19950918,1509,  7.4660, -36.6662,   20,   1797.4,2,   3.9973,2,  34.9851,2,  34.9839,2,    246.6,2,    245.7,2,    17.74,2,    21.15,3,     0.00,2,     1.31,2,    0.100,2,    0.046,2,   -999.0,9,   -999.0,9,   -999.0,9,  -999.00,9,  3.8494, -999.00,9, 1799.0,2, -999.00,9
35LLETAMBOT1_1,  AR15,    34,  1,     11,   11.0,2,19950918,1509,  7.4660, -36.6662,   20,   1997.9,2,   3.6239,2,  34.9718,2,  34.9730,2,    251.3,2,    252.0,2,    19.81,2,    20.84,3,     0.00,2,     1.29,2,    0.072,2,    0.032,2,   -999.0,9,   -999.0,9,   -999.0,9,  -999.00,9,  3.4621, -999.00,9, 1999.0,2, -999.00,9
35LLETAMBOT1_1,  AR15,    34,  1,      9,    9.0,2,19950918,1509,  7.4660, -36.6662,   20,   2297.9,2,   3.2459,2,  34.9557,2,  34.9576,2,    253.9,2,    253.9,2,    24.00,2,    21.33,3,     0.00,2,     1.30,2,    0.046,2,    0.023,2,   -999.0,9,   -999.0,9,   -999.0,9,  -999.00,9,  3.0613, -999.00,9, 2300.0,2, -999.00,9
35LLETAMBOT1_1,  AR15,    34,  1,     10,   10.0,2,19950918,1509,  7.4660, -36.6662,   20,   2297.9,2,   3.2459,2,  34.9557,2,  34.9570,2,    253.9,2,    253.4,2,    23.92,2,    21.10,3,     0.00,2,     1.30,2,    0.052,2,    0.023,2,   -999.0,9,   -999.0,9,   -999.0,9,  -999.00,9,  3.0613, -999.00,9, 2300.0,2, -999.00,9
35LLETAMBOT1_1,  AR15,    34,  1,      8,    8.0,2,19950918,1509,  7.4660, -36.6662,   20,   2599.6,2,   3.0599,2,  34.9449,2,  34.9458,2,    254.2,2,    253.7,2,    26.97,2,    21.59,3,     0.00,2,     1.32,2,    0.038,2,    0.022,2,   -999.0,9,   -999.0,9,   -999.0,9,  -999.00,9,  2.8490, -999.00,9, 2601.0,2, -999.00,9
35LLETAMBOT1_1,  AR15,    34,  1,      7,    7.0,2,19950918,1509,  7.4660, -36.6662,   20,   2799.4,2,   2.8632,2,  34.9341,2,  34.9358,2,    254.3,2,    254.7,2,    29.43,2,    21.76,3,     0.00,2,     1.34,2,    0.039,2,    0.018,2,   -999.0,9,   -999.0,9,   -999.0,9,  -999.00,9,  2.6360, -999.00,9, 2800.0,2, -999.00,9
35LLETAMBOT1_1,  AR15,    34,  1,      6,    6.0,2,19950918,1509,  7.4660, -36.6662,   20,   2999.1,2,   2.7351,2,  34.9258,2,  34.9260,2,    254.8,2,    255.5,2,    31.59,2,    21.63,3,     0.00,2,     1.34,2,    0.043,2,    0.023,2,   -999.0,9,   -999.0,9,   -999.0,9,  -999.00,9,  2.4902, -999.00,9, 3000.0,2, -999.00,9
35LLETAMBOT1_1,  AR15,    34,  1,      5,    5.0,2,19950918,1509,  7.4660, -36.6662,   20,   3298.3,2,   2.6172,2,  34.9175,2,  34.9179,2,    256.7,2,    256.2,2,    33.63,2,    21.70,3,     0.00,2,     1.35,2,    0.046,2,    0.032,2,   -999.0,9,   -999.0,9,   -999.0,9,  -999.00,9,  2.3436, -999.00,9, 3299.0,2, -999.00,9
35LLETAMBOT1_1,  AR15,    34,  1,      4,    4.0,2,19950918,1509,  7.4660, -36.6662,   20,   3599.4,2,   2.4118,2,  34.9020,2,  34.9050,2,    257.0,2,    257.9,2,    42.38,2,    22.52,3,     0.00,2,     1.42,2,    0.062,2,    0.042,2,   -999.0,9,   -999.0,9,   -999.0,9,  -999.00,9,  2.1108, -999.00,9, 3601.0,2, -999.00,9
35LLETAMBOT1_1,  AR15,    34,  1,      3,    3.0,2,19950918,1509,  7.4660, -36.6662,   20,   3798.8,2,   2.2610,2,  34.8874,2,  34.8870,2,    255.5,2,    255.8,2,    42.29,2,    21.97,3,     0.00,2,     1.43,2,    0.067,2,    0.053,2,   -999.0,9,   -999.0,9,   -999.0,9,  -999.00,9,  1.9421, -999.00,9, 3801.0,2, -999.00,9
35LLETAMBOT1_1,  AR15,    34,  1,      2,    2.0,2,19950918,1509,  7.4660, -36.6662,   20,   4000.3,2,   2.1861,2,  34.8783,2,  34.8786,2,    254.3,2,    254.8,2,    45.52,2,    22.62,3,     0.00,2,     1.46,2,    0.063,2,    0.051,2,   -999.0,9,   -999.0,9,   -999.0,9,  -999.00,9,  1.8467, -999.00,9, 4002.0,2, -999.00,9
35LLETAMBOT1_1,  AR15,    34,  1,      1,    1.0,2,19950918,1509,  7.4660, -36.6662,   20,   4363.4,2,   2.0571,2,  34.8605,2,  34.8606,2,    250.1,2,    252.1,2,    52.81,2,    23.79,3,     0.00,2,     1.52,2,    0.062,2,    0.061,2,   -999.0,9,   -999.0,9,   -999.0,9,  -999.00,9,  1.6798, -999.00,9, 4365.0,2, -999.00,9
35LLETAMBOT1_1,  AR15,    35,  1,     28,    6.0,2,19950918,2126,  7.5000, -36.0000, 4575,      0.9,2,  28.7158,2,  34.7995,2,  34.6720,2,    195.7,2,    200.2,2,     2.10,2,     0.00,2,     0.00,2,     0.00,2, -999.000,9, -999.000,9,   1929.1,2,    341.3,2,   2313.6,2,     8.09,2, 28.7156,    0.10,2,    3.0,2,    0.04,2
35LLETAMBOT1_1,  AR15,    35,  1,     27,    5.0,2,19950918,2126,  7.5000, -36.0000, 4575,     50.1,2,  28.4068,2,  35.7896,2,  35.5680,2,    202.8,2,    204.2,2,     1.16,2,     0.00,2,     0.00,2,     0.00,2, -999.000,9, -999.000,9,   1956.5,2,   -999.0,9,   2350.8,2,     8.09,2, 28.3948, -999.00,9,   51.0,2, -999.00,9
35LLETAMBOT1_1,  AR15,    35,  1,     26,    4.0,2,19950918,2126,  7.5000, -36.0000, 4575,     69.1,2,  25.0773,2,  36.2428,2,  36.2412,2,    194.4,2,    173.8,2,     1.01,2,     0.00,2,     0.26,2,     0.01,2, -999.000,9, -999.000,9,   2023.4,2,   -999.0,9,   2383.6,2,     8.09,2, 25.0622, -999.00,9,   70.0,2, -999.00,9
35LLETAMBOT1_1,  AR15,    35,  1,     25,    3.0,2,19950918,2126,  7.5000, -36.0000, 4575,    100.8,2,  19.6351,2,  36.0285,2,  36.0490,2,    140.3,2,    131.2,2,     3.96,2,    11.44,2,     0.05,2,     0.67,2, -999.000,9, -999.000,9,   2113.1,2,   -999.0,9,   2365.7,2,     8.00,2, 19.6166, -999.00,9,  102.0,2, -999.00,9
35LLETAMBOT1_1,  AR15,    35,  1,     24,    2.0,2,19950918,2126,  7.5000, -36.0000, 4575,    201.8,2,  10.6317,2,  35.0287,2,  35.0078,2,    127.3,2,    127.0,2,    11.99,2,    25.43,2,     0.01,2,     1.61,2, -999.000,9, -999.000,9,   2156.5,2,   -999.0,9,   2301.3,2,     7.92,2, 10.6073, -999.00,9,  201.0,2, -999.00,9
35LLETAMBOT1_1,  AR15,    35,  1,     23,    1.0,2,19950918,2126,  7.5000, -36.0000, 4575,    500.7,2,   7.4172,2,  34.6829,2,  34.6810,2,    118.0,2,    117.2,2,    20.64,2,    33.26,2,     0.00,2,     2.09,2, -999.000,9, -999.000,9,   2161.8,2,   -999.0,9,   2264.2,2,     7.85,2,  7.3679, -999.00,9,  498.0,2, -999.00,9
35LLETAMBOT1_1,  AR15,    35,  2,     22,   22.0,2,19950918,2348,  7.5022, -36.0005,   15,    596.5,2,   6.7790,2,  34.6564,2,  34.6570,2,    116.0,2,    118.3,2,    23.08,2,    34.53,2,     0.00,2,     2.21,2,    0.164,2,    0.074,2,   2198.6,2,   -999.0,9,   2294.9,2,     7.84,2,  6.7228, -999.00,9,  599.0,2, -999.00,9
35LLETAMBOT1_1,  AR15,    35,  2,     21,   21.0,2,19950918,2348,  7.5022, -36.0005,   15,    898.2,2,   5.1736,2,  34.6036,2,  34.6078,2,    131.4,2,    129.2,2,    30.01,2,    35.53,2,     0.00,2,     2.32,2,    0.027,2,    0.010,2,   2196.6,2,   -999.0,9,   2288.8,2,     7.84,2,  5.0981, -999.00,9,  899.0,2, -999.00,9
35LLETAMBOT1_1,  AR15,    35,  2,     20,   20.0,2,19950918,2348,  7.5022, -36.0005,   15,    996.8,2,   4.9710,2,  34.6353,2,  34.6380,2,    138.1,2,    138.5,2,    30.98,2,    34.65,2,     0.00,2,     2.28,2,    0.019,2,    0.003,2,   2215.3,2,   -999.0,9,   2312.0,2,     7.85,2,  4.8880, -999.00,9,  998.0,2, -999.00,9
35LLETAMBOT1_1,  AR15,    35,  2,     19,   19.0,2,19950918,2348,  7.5022, -36.0005,   15,   1296.6,2,   4.7750,2,  34.8996,2,  34.8850,2,    187.8,2,    184.7,2,    23.97,2,    27.19,2,     0.00,2,     1.77,2,    0.059,2,    0.018,2,   2159.8,3,   -999.0,9,   2289.8,3,     7.94,2,  4.6656, -999.00,9, 1298.0,2, -999.00,9
35LLETAMBOT1_1,  AR15,    35,  2,     18,   18.0,2,19950918,2348,  7.5022, -36.0005,   15,   1496.4,2,   4.5103,2,  34.9595,2,  34.9639,2,    217.1,2,    216.9,2,    19.64,2,    23.10,2,     0.00,2,     1.48,2,    0.096,2,    0.044,2,   2132.3,3,   -999.0,9,   2283.6,3,     7.99,2,  4.3847, -999.00,9, 1497.0,2, -999.00,9
35LLETAMBOT1_1,  AR15,    35,  2,     17,   17.0,2,19950918,2348,  7.5022, -36.0005,   15,   1598.5,2,   4.3927,2,  34.9861,2,  34.9866,2,    232.7,2,    234.6,2,    17.67,2,    21.10,2,     0.00,2,     1.35,2,    0.140,2,    0.065,2,   2125.9,3,   -999.0,9,   2285.4,3,     8.01,2,  4.2587, -999.00,9, 1600.0,2, -999.00,9
35LLETAMBOT1_1,  AR15,    35,  2,     16,   16.0,2,19950918,2348,  7.5022, -36.0005,   15,   1697.7,2,   4.1432,2,  34.9888,2,  34.9880,2,    243.1,2,    244.2,2,    17.49,2,    20.16,2,     0.00,2,     1.29,2,    0.129,2,    0.065,2,   2107.0,3,   -999.0,9,   2271.1,3,     8.02,2,  4.0028, -999.00,9, 1699.0,2, -999.00,9
35LLETAMBOT1_1,  AR15,    35,  2,     15,   15.0,2,19950918,2348,  7.5022, -36.0005,   15,   1796.9,2,   3.9477,2,  34.9839,2,  34.9853,2,    247.8,2,    247.0,2,    17.87,2,    19.99,2,     0.00,2,     1.28,2,    0.105,2,    0.053,2,   2111.9,3,   -999.0,9,   2277.9,3,     8.02,2,  3.8005, -999.00,9, 1799.0,2, -999.00,9
35LLETAMBOT1_1,  AR15,    35,  2,     14,   14.0,2,19950918,2348,  7.5022, -36.0005,   15,   1897.1,2,   3.7731,2,  34.9792,2,  34.9800,2,    251.0,2,    251.7,2,    18.82,2,    19.78,2,     0.00,2,     1.27,2,    0.089,2,    0.043,2,   2131.4,3,   -999.0,9,   2301.6,3,     8.03,2,  3.6188, -999.00,9, 1899.0,2, -999.00,9
35LLETAMBOT1_1,  AR15,    35,  2,     13,   13.0,2,19950918,2348,  7.5022, -36.0005,   15,   1993.7,2,   3.6283,2,  34.9746,2,  34.9760,2,    252.7,2,    252.7,2,    19.84,2,    19.76,2,     0.00,2,     1.27,2,    0.089,2,    0.043,2,   2107.3,3,   -999.0,9,   2276.3,3,     8.03,2,  3.4669, -999.00,9, 1995.0,2, -999.00,9
35LLETAMBOT1_1,  AR15,    35,  2,     12,   12.0,2,19950918,2348,  7.5022, -36.0005,   15,   2398.5,2,   3.0656,2,  34.9448,2,  34.9455,2,    253.2,2,    252.6,2,    27.35,2,    20.35,2,     0.00,2,     1.31,2,    0.075,2,    0.032,2,   2092.7,3,   -999.0,9,   2260.1,3,     8.02,2,  2.8744, -999.00,9, 2400.0,2, -999.00,9
35LLETAMBOT1_1,  AR15,    35,  2,     10,   10.0,2,19950918,2348,  7.5022, -36.0005,   15,   2597.7,2,   2.9394,2,  34.9383,2,  34.9381,2,    253.6,2,    255.0,2,    28.95,2,    20.19,2,     0.00,2,     1.33,2,    0.031,2,    0.012,2,   2125.8,3,   -999.0,9,   2295.0,3,     8.02,2,  2.7310, -999.00,9, 2599.0,2, -999.00,9
35LLETAMBOT1_1,  AR15,    35,  2,     11,   11.0,2,19950918,2348,  7.5022, -36.0005,   15,   2597.7,2,   2.9394,2,  34.9383,2,  34.9385,2,    253.6,2,    254.6,2,    28.77,2,    20.24,2,     0.00,2,     1.32,2,    0.028,2,    0.013,2,   2121.6,3,   -999.0,9,   2292.2,3,     8.02,2,  2.7310, -999.00,9, 2599.0,2, -999.00,9
35LLETAMBOT1_1,  AR15,    35,  2,      9,    9.0,2,19950918,2348,  7.5022, -36.0005,   15,   2801.6,2,   2.8321,2,  34.9319,2,  34.9333,2,    255.3,2,    255.1,2,    30.60,2,    20.24,2,     0.00,2,     1.33,2,    0.032,2,    0.017,2,   2131.0,3,   -999.0,9,   2300.5,3,     8.01,2,  2.6054, -999.00,9, 2803.0,2, -999.00,9
35LLETAMBOT1_1,  AR15,    35,  2,      8,    8.0,2,19950918,2348,  7.5022, -36.0005,   15,   2999.6,2,   2.7303,2,  34.9253,2,  34.9276,2,    256.1,2,    256.1,2,    31.96,2,    20.32,2,     0.00,2,     1.33,2,    0.032,2,    0.023,2,   2145.2,3,   -999.0,9,   2315.6,3,     8.00,2,  2.4855, -999.00,9, 3001.0,2, -999.00,9
35LLETAMBOT1_1,  AR15,    35,  2,      7,    7.0,2,19950918,2348,  7.5022, -36.0005,   15,   3299.4,2,   2.5702,2,  34.9134,2,  34.9154,2,    255.6,2,    255.2,2,    35.52,2,    20.44,2,     0.00,2,     1.36,2,    0.036,2,    0.022,2,   2147.8,3,   -999.0,9,   2318.2,3,     7.99,2,  2.2976, -999.00,9, 3301.0,2, -999.00,9
35LLETAMBOT1_1,  AR15,    35,  2,      6,    6.0,2,19950918,2348,  7.5022, -36.0005,   15,   3601.7,2,   2.4439,2,  34.9026,2,  34.9023,2,    256.2,2,    256.5,2,    38.85,2,    21.44,2,     0.00,2,     1.36,2,    0.052,2,    0.031,2,   2156.6,3,   -999.0,9,   2326.9,3,     7.98,2,  2.1419, -999.00,9, 3604.0,2, -999.00,9
35LLETAMBOT1_1,  AR15,    35,  2,      5,    5.0,2,19950918,2348,  7.5022, -36.0005,   15,   3800.5,2,   2.3797,2,  34.8959,2,  34.8956,2,    255.6,2,    256.5,2,    41.13,2,    21.71,2,     0.00,2,     1.38,2,    0.052,2,    0.031,2,   2164.2,3,   -999.0,9,   2332.5,3,     7.97,2,  2.0574, -999.00,9, 3802.0,2, -999.00,9
35LLETAMBOT1_1,  AR15,    35,  2,      4,    4.0,2,19950918,2348,  7.5022, -36.0005,   15,   4001.1,2,   2.2707,2,  34.8849,2,  34.8840,2,    254.8,2,    254.9,2,    44.77,2,    22.09,2,     0.00,2,     1.41,2,    0.062,2,    0.041,2,   2163.4,3,   -999.0,9,   2327.9,3,     7.95,2,  1.9288, -999.00,9, 4003.0,2, -999.00,9
35LLETAMBOT1_1,  AR15,    35,  2,      3,    3.0,2,19950918,2348,  7.5022, -36.0005,   15,   4198.1,2,   2.1759,2,  34.8741,2,  34.8740,2,    253.6,2,    255.1,2,    49.24,2,    22.85,2,     0.00,2,     1.45,2,    0.056,2,    0.037,2,   2176.6,3,   -999.0,9,   2341.6,3,     7.95,2,  1.8142, -999.00,9, 4199.0,2, -999.00,9
35LLETAMBOT1_1,  AR15,    35,  2,      2,    2.0,2,19950918,2348,  7.5022, -36.0005,   15,   4398.0,2,   2.1542,2,  34.8699,2,  34.8680,2,    253.2,2,    252.6,2,    51.54,2,    23.10,2,     0.00,2,     1.46,2,    0.049,2,    0.028,2,   2187.8,3,   -999.0,9,   2352.6,3,     7.94,2,  1.7698, -999.00,9, 4399.0,2, -999.00,9
35LLETAMBOT1_1,  AR15,    35,  2,      1,    1.0,2,19950918,2348,  7.5022, -36.0005,   15,   4702.1,2,   2.1839,2,  34.8694,2,  34.8690,2,    253.5,2,    252.1,2,    51.76,2,    23.21,2,     0.00,2,     1.47,2,    0.052,2,    0.038,2,   2182.9,3,   -999.0,9,   2347.7,3,     7.92,2,  1.7621, -999.00,9, 4703.0,2, -999.00,9