BOTTLE,20220929CCHSIOAMB
EXPOCODE,SECT_ID,STNNBR,CASTNO,SAMPNO,BTLNBR,BTLNBR_FLAG_W,DATE,TIME,LATITUDE,LONGITUDE,DEPTH,CTDPRS,CTDPRS_FLAG_W,CTDTMP,CTDTMP_FLAG_W,CTDSAL,CTDSAL_FLAG_W,SALNTY,SALNTY_FLAG_W,CTDOXY,CTDOXY_FLAG_W,OXYGEN,OXYGEN_FLAG_W,SILCAT,SILCAT_FLAG_W,NITRAT,NITRAT_FLAG_W,NITRIT,NITRIT_FLAG_W,PHSPHT,PHSPHT_FLAG_W,CFC-11,CFC-11_FLAG_W,CFC-12,CFC-12_FLAG_W,TCARBN,TCARBN_FLAG_W,PCO2,PCO2_FLAG_W,ALKALI,ALKALI_FLAG_W,PH,PH_FLAG_W,THETA,CHLORA,CHLORA_FLAG_W,CTDRAW,CTDRAW_FLAG_W,PPHYTN,PPHYTN_FLAG_W
,,,,,,,,,,,,DBAR,,DEG C,,PSS-78,,PSS-78,,UMOL/KG,,UMOL/KG,,UMOL/KG,,UMOL/KG,,UMOL/KG,,UMOL/KG,,PMOL/KG,,PMOL/KG,,UMOL/KG,,UATM,,UMOL/KG,,,,DEG C,UG/L,,DBAR,,UG/L,
35LLETAMBOT1_1,  AR04,    52,  1,     22,   22.0,2,19950923,1939, -0.3268, -34.9925,   15,      1.3,2,  27.3071,2,  35.8780,2,  35.9040,2,    211.3,2,    200.6,2,     0.53,2,     0.00,2,     0.01,2,     0.00,2, -999.000,9, -999.000,9,   -999.0,9,    368.7,2,   -999.0,9,  -999.00,9, 27.3068,    0.11,2,    3.0,2,    0.02,2
35LLETAMBOT1_1,  AR04,    52,  1,     21,   21.0,2,19950923,1939, -0.3268, -34.9925,   15,     38.3,2,  27.0997,2,  35.9134,2,  35.9067,2,    200.5,2,    201.5,2,     0.60,2,     0.21,2,     0.01,2,     0.00,2, -999.000,9, -999.000,9,   -999.0,9,   -999.0,9,   -999.0,9,  -999.00,9, 27.0909, -999.00,9,   39.0,2, -999.00,9
35LLETAMBOT1_1,  AR04,    52,  1,     20,   20.0,2,19950923,1939, -0.3268, -34.9925,   15,     99.5,2,  23.6883,2,  36.5896,2,  36.6389,2,    192.2,2,    195.4,2,     0.76,2,     1.37,2,     0.27,2,     0.13,2, -999.000,9, -999.000,9,   -999.0,9,   -999.0,9,   -999.0,9,  -999.00,9, 23.6674, -999.00,9,  101.0,2, -999.00,9
35LLETAMBOT1_1,  AR04,    52,  1,     19,   19.0,2,19950923,1939, -0.3268, -34.9925,   15,    297.8,2,  10.8461,2,  35.0060,2,  34.9824,2,    127.4,2,    129.5,2,    11.02,2,    25.07,2,     0.02,2,     1.56,2, -999.000,9, -999.000,9,   -999.0,9,   -999.0,9,   -999.0,9,  -999.00,9, 10.8095, -999.00,9,  299.0,2, -999.00,9
35LLETAMBOT1_1,  AR04,    52,  1,     18,   18.0,2,19950923,1939, -0.3268, -34.9925,   15,    697.8,2,   5.0902,2,  34.5041,2,  34.5011,2,    148.5,2,    151.4,3,    29.25,2,    34.57,2,     0.01,2,     2.27,2,    0.133,2,    0.055,2,   -999.0,9,   -999.0,9,   -999.0,9,  -999.00,9,  5.0331, -999.00,9,  700.0,2, -999.00,9
35LLETAMBOT1_1,  AR04,    52,  1,     17,   17.0,2,19950923,1939, -0.3268, -34.9925,   15,    997.5,2,   4.4936,2,  34.6675,2,  34.6732,2,    165.0,2,    163.8,2,    30.04,2,    32.06,2,     0.02,2,     2.10,2,    0.052,2,    0.014,2,   -999.0,9,   -999.0,9,   -999.0,9,  -999.00,9,  4.4141, -999.00,9,  999.0,2, -999.00,9
35LLETAMBOT1_1,  AR04,    52,  1,     16,   16.0,2,19950923,1939, -0.3268, -34.9925,   15,   1298.0,2,   4.5431,2,  34.8905,2,  34.8921,2,    196.4,2,    200.1,2,    22.33,2,    25.65,2,     0.03,2,     1.65,2,    0.080,2,    0.037,2,   -999.0,9,   -999.0,9,   -999.0,9,  -999.00,9,  4.4358, -999.00,9, 1298.0,2, -999.00,9
35LLETAMBOT1_1,  AR04,    52,  1,     15,   15.0,2,19950923,1939, -0.3268, -34.9925,   15,   1496.7,2,   4.2707,2,  34.9804,2,  34.9807,2,    234.6,2,    235.8,2,    17.02,2,    20.97,2,     0.03,2,     1.34,2,    0.174,2,    0.084,2,   -999.0,9,   -999.0,9,   -999.0,9,  -999.00,9,  4.1477, -999.00,9, 1498.0,2, -999.00,9
35LLETAMBOT1_1,  AR04,    52,  1,     14,   14.0,2,19950923,1939, -0.3268, -34.9925,   15,   1596.4,2,   4.1721,2,  34.9814,2,  34.9808,2,    239.9,2,    240.2,2,    17.13,2,    20.57,2,     0.03,2,     1.32,2,    0.133,2,    0.066,2,   -999.0,9,   -999.0,9,   -999.0,9,  -999.00,9,  4.0410, -999.00,9, 1598.0,2, -999.00,9
35LLETAMBOT1_1,  AR04,    52,  1,     13,   13.0,2,19950923,1939, -0.3268, -34.9925,   15,   1698.2,2,   4.0135,2,  34.9842,2,  34.9832,2,    245.2,2,    245.8,2,    16.98,2,    20.07,2,     0.04,2,     1.28,2,    0.146,2,    0.071,2,   -999.0,9,   -999.0,9,   -999.0,9,  -999.00,9,  3.8747, -999.00,9, 1700.0,2, -999.00,9
35LLETAMBOT1_1,  AR04,    52,  1,     12,   12.0,2,19950923,1939, -0.3268, -34.9925,   15,   1798.4,2,   3.8115,2,  34.9811,2,  34.9775,2,    250.7,2,    250.6,2,    18.15,2,    19.68,2,     0.00,2,     1.26,2,    0.110,2,    0.051,2,   -999.0,9,   -999.0,9,   -999.0,9,  -999.00,9,  3.6660, -999.00,9, 1800.0,2, -999.00,9
35LLETAMBOT1_1,  AR04,    52,  1,     11,   11.0,2,19950923,1939, -0.3268, -34.9925,   15,   1999.5,2,   3.6233,2,  34.9777,2,  34.9774,2,    255.4,2,    255.1,2,    18.52,2,    19.27,2,     0.00,2,     1.23,2,    0.117,2,    0.053,2,   -999.0,9,   -999.0,9,   -999.0,9,  -999.00,9,  3.4614, -999.00,9, 2002.0,2, -999.00,9
35LLETAMBOT1_1,  AR04,    52,  1,     10,   10.0,2,19950923,1939, -0.3268, -34.9925,   15,   2400.3,2,   3.1607,2,  34.9507,2,  34.9495,2,    252.6,2,    256.1,2,    24.75,2,    19.87,2,     0.00,2,     1.28,2,    0.061,2,    0.024,2,   -999.0,9,   -999.0,9,   -999.0,9,  -999.00,9,  2.9676, -999.00,9, 2402.0,2, -999.00,9
35LLETAMBOT1_1,  AR04,    52,  1,      9,    9.0,2,19950923,1939, -0.3268, -34.9925,   15,   2698.6,2,   2.9164,2,  34.9412,2,  34.9413,2,    257.7,2,    258.6,2,    25.75,2,    19.42,2,     0.00,2,     1.25,2,    0.080,2,    0.032,2,   -999.0,9,   -999.0,9,   -999.0,9,  -999.00,9,  2.6983, -999.00,9, 2700.0,2, -999.00,9
35LLETAMBOT1_1,  AR04,    52,  1,      8,    8.0,2,19950923,1939, -0.3268, -34.9925,   15,   2944.2,2,   2.7520,2,  34.9263,2,  34.9251,2,    254.4,2,    254.9,2,    31.13,2,    20.36,2,     0.00,2,     1.31,2,    0.052,2,    0.020,2,   -999.0,9,   -999.0,9,   -999.0,9,  -999.00,9,  2.5124, -999.00,9, 2945.0,2, -999.00,9
35LLETAMBOT1_1,  AR04,    52,  1,      7,    7.0,2,19950923,1939, -0.3268, -34.9925,   15,   3299.8,2,   2.5741,2,  34.9134,2,  34.9120,2,    255.3,2,    255.5,2,    33.96,2,    20.41,2,     0.00,2,     1.32,2,    0.063,2,    0.031,2,   -999.0,9,   -999.0,9,   -999.0,9,  -999.00,9,  2.3014, -999.00,9, 3301.0,2, -999.00,9
35LLETAMBOT1_1,  AR04,    52,  1,      6,    6.0,2,19950923,1939, -0.3268, -34.9925,   15,   3597.8,2,   2.4619,2,  34.9103,2,  34.9088,2,    261.2,2,    261.8,2,    31.44,2,    19.56,2,     0.00,2,     1.27,2,    0.119,2,    0.065,2,   -999.0,9,   -999.0,9,   -999.0,9,  -999.00,9,  2.1598, -999.00,9, 3600.0,2, -999.00,9
35LLETAMBOT1_1,  AR04,    52,  1,      5,    5.0,2,19950923,1939, -0.3268, -34.9925,   15,   3800.8,2,   2.3489,2,  34.9011,2,  34.8983,2,    261.7,2,    261.8,2,    33.99,2,    19.73,2,     0.00,2,     1.28,2,    0.129,2,    0.067,2,   -999.0,9,   -999.0,9,   -999.0,9,  -999.00,9,  2.0273, -999.00,9, 3803.0,2, -999.00,9
35LLETAMBOT1_1,  AR04,    52,  1,      4,    4.0,2,19950923,1939, -0.3268, -34.9925,   15,   4001.8,2,   2.1332,2,  34.8770,2,  34.8773,2,    259.1,2,    257.7,2,    43.48,2,    21.06,2,     0.00,2,     1.37,2,    0.116,2,    0.060,2,   -999.0,9,   -999.0,9,   -999.0,9,  -999.00,9,  1.7951, -999.00,9, 4002.0,2, -999.00,9
35LLETAMBOT1_1,  AR04,    52,  1,      3,    3.0,2,19950923,1939, -0.3268, -34.9925,   15,   4199.9,2,   1.3671,2,  34.7895,2,  34.7880,2,    239.1,2,    236.8,2,    84.68,2,    26.95,2,     0.00,2,     1.79,2,    0.045,2,    0.019,2,   -999.0,9,   -999.0,9,   -999.0,9,  -999.00,9,  1.0294, -999.00,9, 4201.0,2, -999.00,9
35LLETAMBOT1_1,  AR04,    52,  1,      2,    2.0,2,19950923,1939, -0.3268, -34.9925,   15,   4399.5,2,   1.0099,2,  34.7484,2,  34.7462,2,    228.7,2,    228.5,2,   102.58,2,    29.46,2,     0.00,2,     1.97,2,    0.039,2,    0.019,2,   -999.0,9,   -999.0,9,   -999.0,9,  -999.00,9,  0.6610, -999.00,9, 4401.0,2, -999.00,9
35LLETAMBOT1_1,  AR04,    52,  1,      1,    1.0,2,19950923,1939, -0.3268, -34.9925,   15,   4559.4,2,   0.9617,2,  34.7407,2,  34.7385,2,    226.2,2,    227.0,2,   105.86,2,    29.93,2,     0.00,2,     2.01,2,    0.049,2,    0.027,2,   -999.0,9,   -999.0,9,   -999.0,9,  -999.00,9,  0.5964, -999.00,9, 4560.0,2, -999.00,9
35LLETAMBOT1_1,  AR04,    53,  1,     22,   22.0,2,19950924,0102, -0.6595, -35.0037,   15,      1.0,2,  26.9148,2,  35.8882,2,  35.9028,2,    205.2,2,    201.2,2,     0.56,2,     0.36,2,     0.00,2,     0.00,2, -999.000,9, -999.000,9,   2026.4,2,    367.2,2,   2394.0,2,     8.07,2, 26.9146,    0.14,2,    3.0,2,    0.03,2
35LLETAMBOT1_1,  AR04,    53,  1,     21,   21.0,2,19950924,0102, -0.6595, -35.0037,   15,     98.2,2,  25.8566,2,  36.6030,2,  36.5614,2,    196.6,2,    195.0,2,     0.65,2,     0.53,2,     0.25,2,     0.08,2, -999.000,9, -999.000,9,   2078.2,2,   -999.0,9,   2451.2,2,     8.08,2, 25.8346, -999.00,9,  100.0,2, -999.00,9
35LLETAMBOT1_1,  AR04,    53,  1,     20,   20.0,2,19950924,0102, -0.6595, -35.0037,   15,    398.2,2,   9.5296,2,  34.8567,2,  34.8577,2,    116.3,2,    114.6,2,    13.85,2,    29.29,2,     0.00,2,     1.82,2, -999.000,9, -999.000,9,   2216.2,2,   -999.0,9,   2337.5,2,     7.87,2,  9.4844, -999.00,9,  400.0,2, -999.00,9
35LLETAMBOT1_1,  AR04,    53,  1,     19,   19.0,2,19950924,0102, -0.6595, -35.0037,   15,    594.2,2,   5.5617,2,  34.5026,2,  34.5138,2,    152.4,2,    151.6,2,    24.48,2,    33.42,2,     0.00,2,     2.17,2, -999.000,9, -999.000,9,   2196.6,2,   -999.0,9,   2301.5,2,     7.89,2,  5.5114, -999.00,9,  596.0,2, -999.00,9
35LLETAMBOT1_1,  AR04,    53,  1,     18,   18.0,2,19950924,0102, -0.6595, -35.0037,   15,    797.7,2,   4.7811,2,  34.5169,2,  34.5154,2,    151.2,2,    149.8,2,    31.61,2,    35.21,2,     0.00,2,     2.31,2,    0.063,2,    0.023,2,   2230.6,2,   -999.0,9,   2326.7,2,     7.86,2,  4.7171, -999.00,9,  799.0,2, -999.00,9
35LLETAMBOT1_1,  AR04,    53,  1,     17,   17.0,2,19950924,0102, -0.6595, -35.0037,   15,    996.1,2,   4.4662,2,  34.6454,2,  34.6344,2,    165.3,2,    163.7,2,    31.62,2,    32.92,2,     0.00,2,     2.18,2,    0.040,2,    0.012,2,   2219.6,2,   -999.0,9,   2325.9,2,     7.88,2,  4.3871, -999.00,9,  997.0,2, -999.00,9
35LLETAMBOT1_1,  AR04,    53,  1,     16,   16.0,2,19950924,0102, -0.6595, -35.0037,   15,   1196.9,2,   4.5453,2,  34.8279,2,  34.8302,2,    186.4,2,    185.9,2,    25.20,2,    28.01,2,     0.00,2,     1.84,2,    0.046,2,    0.017,2,   2165.2,3,   -999.0,9,   2291.2,3,     7.93,2,  4.4474, -999.00,9, 1198.0,2, -999.00,9
35LLETAMBOT1_1,  AR04,    53,  1,     15,   15.0,2,19950924,0102, -0.6595, -35.0037,   15,   1396.5,2,   4.5251,2,  34.9579,2,  34.9612,2,    218.2,2,    219.8,2,    18.93,2,    22.90,2,     0.00,2,     1.48,2,    0.149,2,    0.065,2,   2185.9,2,   -999.0,9,   2338.6,2,     7.99,2,  4.4088, -999.00,9, 1398.0,2, -999.00,9
35LLETAMBOT1_1,  AR04,    53,  1,     14,   14.0,2,19950924,0102, -0.6595, -35.0037,   15,   1496.1,2,   4.2714,2,  34.9769,2,  34.9760,2,    234.8,2,    234.1,2,    17.67,2,    20.04,2,     0.00,2,     1.40,2,    0.130,2,    0.057,2,   2180.4,2,   -999.0,9,   2340.4,2,     8.01,2,  4.1485, -999.00,9, 1498.0,2, -999.00,9
35LLETAMBOT1_1,  AR04,    53,  1,     13,   13.0,2,19950924,0102, -0.6595, -35.0037,   15,   1594.6,2,   4.1589,2,  34.9819,2,  34.9808,2,    240.8,2,    239.7,2,    17.32,2,    19.48,2,     0.00,2,     1.37,2,    0.126,2,    0.060,2,   2164.1,2,   -999.0,9,   2325.9,2,     8.01,2,  4.0281, -999.00,9, 1596.0,2, -999.00,9
35LLETAMBOT1_1,  AR04,    53,  1,     12,   12.0,2,19950924,0102, -0.6595, -35.0037,   15,   1796.4,2,   3.9031,2,  34.9813,2,  34.9821,2,    247.5,2,    249.2,2,    17.39,2,    18.85,2,     0.00,2,     1.31,2,    0.120,2,    0.054,2,   2187.7,2,   -999.0,9,   2353.1,2,     8.01,2,  3.7565, -999.00,9, 1798.0,2, -999.00,9
35LLETAMBOT1_1,  AR04,    53,  1,     11,   11.0,2,19950924,0102, -0.6595, -35.0037,   15,   1997.0,2,   3.6740,2,  34.9781,2,  34.9793,2,    254.6,2,    253.7,2,    18.40,2,    18.53,2,     0.00,2,     1.28,2,    0.100,2,    0.042,2,   2182.6,2,   -999.0,9,   2352.7,2,     8.02,2,  3.5116, -999.00,9, 1998.0,2, -999.00,9
35LLETAMBOT1_1,  AR04,    53,  1,     10,   10.0,2,19950924,0102, -0.6595, -35.0037,   15,   2396.6,2,   3.1620,2,  34.9514,2,  34.9516,2,    254.4,2,    254.2,2,    24.79,2,    19.01,2,     0.00,2,     1.32,2,    0.045,2,    0.014,2,   2175.2,2,   -999.0,9,   2345.5,2,     8.02,2,  2.9692, -999.00,9, 2398.0,2, -999.00,9
35LLETAMBOT1_1,  AR04,    53,  1,      9,    9.0,2,19950924,0102, -0.6595, -35.0037,   15,   2696.9,2,   2.9474,2,  34.9432,2,  34.9432,2,    259.1,2,    258.7,2,    26.35,2,    18.76,2,     0.00,2,     1.30,2,    0.075,2,    0.029,2,   2181.0,2,   -999.0,9,   2351.9,2,     8.01,2,  2.7289, -999.00,9, 2699.0,2, -999.00,9
35LLETAMBOT1_1,  AR04,    53,  1,      8,    8.0,2,19950924,0102, -0.6595, -35.0037,   15,   2997.8,2,   2.7442,2,  34.9297,2,  34.9295,2,    257.2,2,    258.4,2,    29.19,2,    18.96,2,     0.00,2,     1.31,2,    0.075,2,    0.030,2,   2181.7,2,   -999.0,9,   2352.8,2,     8.00,2,  2.4992, -999.00,9, 3000.0,2, -999.00,9
35LLETAMBOT1_1,  AR04,    53,  1,      7,    7.0,2,19950924,0102, -0.6595, -35.0037,   15,   3391.0,2,   2.5480,2,  34.9163,2,  34.9156,2,    259.7,2,    259.9,2,    31.76,2,    19.00,2,     0.00,2,     1.32,2,    0.095,2,    0.040,2,   2184.0,2,   -999.0,9,   2354.6,2,     7.99,2,  2.2661, -999.00,9, 3393.0,2, -999.00,9
35LLETAMBOT1_1,  AR04,    53,  1,      6,    6.0,2,19950924,0102, -0.6595, -35.0037,   15,   3599.2,2,   2.4375,2,  34.9091,2,  34.9076,2,    262.2,2,    262.1,2,    32.60,2,    19.05,2,     0.00,2,     1.31,2,    0.116,2,    0.049,2,   2187.5,2,   -999.0,9,   2360.0,2,     7.98,2,  2.1358, -999.00,9, 3600.0,2, -999.00,9
35LLETAMBOT1_1,  AR04,    53,  1,      5,    5.0,2,19950924,0102, -0.6595, -35.0037,   15,   3797.9,2,   2.3409,2,  34.9010,2,  34.8998,2,    262.3,2,    262.1,2,    34.99,2,    19.15,2,     0.00,2,     1.33,2,    0.106,2,    0.049,2,   2205.7,3,   -999.0,9,   2378.3,3,     7.97,2,  2.0199, -999.00,9, 3800.0,2, -999.00,9
35LLETAMBOT1_1,  AR04,    53,  1,      4,    4.0,2,19950924,0102, -0.6595, -35.0037,   15,   3999.1,2,   2.1557,2,  34.8802,2,  34.8788,2,    258.9,2,    258.3,2,    44.15,2,    20.49,2,     0.00,2,     1.41,2,    0.094,2,    0.045,2,   2212.9,3,   -999.0,9,   2381.1,3,     7.96,2,  1.8173, -999.00,9, 4000.0,2, -999.00,9
35LLETAMBOT1_1,  AR04,    53,  1,      3,    3.0,2,19950924,0102, -0.6595, -35.0037,   15,   4199.2,2,   1.3929,2,  34.7928,2,  34.7894,2,    238.0,2,    237.1,2,    81.79,2,    26.38,2,     0.00,2,     1.82,2,    0.032,2,    0.012,2,   2251.2,3,   -999.0,9,   2398.1,3,     7.91,2,  1.0545, -999.00,9, 4201.0,2, -999.00,9
35LLETAMBOT1_1,  AR04,    53,  1,      2,    2.0,2,19950924,0102, -0.6595, -35.0037,   15,   4401.4,2,   1.0389,2,  34.7507,2,  34.7491,2,    228.7,2,    228.8,2,    99.68,2,    29.08,2,     0.00,2,     2.01,2,    0.022,2,    0.008,2,   2267.4,3,   -999.0,9,   2402.9,3,     7.87,2,  0.6889, -999.00,9, 4402.0,2, -999.00,9
35LLETAMBOT1_1,  AR04,    53,  1,      1,    1.0,2,19950924,0102, -0.6595, -35.0037,   15,   4514.1,2,   0.9667,2,  34.7418,2,  34.7389,2,    226.7,2,    227.2,2,   104.79,2,    29.67,2,     0.00,2,     2.04,2,    0.022,2,    0.011,2,   2274.9,3,   -999.0,9,   2406.4,3,     7.86,2,  0.6064, -999.00,9, 4515.0,2, -999.00,9