BOTTLE,20220929CCHSIOAMB
EXPOCODE,SECT_ID,STNNBR,CASTNO,SAMPNO,BTLNBR,BTLNBR_FLAG_W,DATE,TIME,LATITUDE,LONGITUDE,DEPTH,CTDPRS,CTDPRS_FLAG_W,CTDTMP,CTDTMP_FLAG_W,CTDSAL,CTDSAL_FLAG_W,SALNTY,SALNTY_FLAG_W,CTDOXY,CTDOXY_FLAG_W,OXYGEN,OXYGEN_FLAG_W,SILCAT,SILCAT_FLAG_W,NITRAT,NITRAT_FLAG_W,NITRIT,NITRIT_FLAG_W,PHSPHT,PHSPHT_FLAG_W,CFC-11,CFC-11_FLAG_W,CFC-12,CFC-12_FLAG_W,TCARBN,TCARBN_FLAG_W,PCO2,PCO2_FLAG_W,ALKALI,ALKALI_FLAG_W,PH,PH_FLAG_W,THETA,CHLORA,CHLORA_FLAG_W,CTDRAW,CTDRAW_FLAG_W,PPHYTN,PPHYTN_FLAG_W
,,,,,,,,,,,,DBAR,,DEG C,,PSS-78,,PSS-78,,UMOL/KG,,UMOL/KG,,UMOL/KG,,UMOL/KG,,UMOL/KG,,UMOL/KG,,PMOL/KG,,PMOL/KG,,UMOL/KG,,UATM,,UMOL/KG,,,,DEG C,UG/L,,DBAR,,UG/L,
35LLETAMBOT1_1,  AR04,    46,  1,     21,   21.0,2,19950922,0947,  1.9980, -35.0045,   20,     48.3,2,  27.7127,2,  35.8216,2,  35.8216,2,    199.1,2,    198.5,2,     0.83,2,     0.06,2,     0.00,2,     0.00,2, -999.000,9, -999.000,9,   -999.0,9,   -999.0,9,   -999.0,9,  -999.00,9, 27.7014, -999.00,9,   50.0,2, -999.00,9
35LLETAMBOT1_1,  AR04,    46,  1,     20,   20.0,2,19950922,0947,  1.9980, -35.0045,   20,    172.1,2,  13.4712,2,  35.3397,2,  35.2812,2,    137.4,2,    139.3,2,     7.49,2,    18.80,2,     0.02,2,     1.27,2, -999.000,9, -999.000,9,   -999.0,9,   -999.0,9,   -999.0,9,  -999.00,9, 13.4469, -999.00,9,  174.0,2, -999.00,9
35LLETAMBOT1_1,  AR04,    46,  1,     19,   19.0,2,19950922,0947,  1.9980, -35.0045,   20,    298.0,2,  11.4452,2,  35.0615,2,  35.0644,2,    140.8,2,    143.5,2,     9.44,2,    21.40,2,     0.01,2,     1.43,2, -999.000,9, -999.000,9,   -999.0,9,   -999.0,9,   -999.0,9,  -999.00,9, 11.4073, -999.00,9,  300.0,2, -999.00,9
35LLETAMBOT1_1,  AR04,    46,  1,     18,   18.0,2,19950922,0947,  1.9980, -35.0045,   20,    496.6,2,   7.4112,2,  34.6789,2,  34.6851,2,    107.5,2,    106.8,2,    19.23,2,    33.72,2,     0.00,2,     2.17,2, -999.000,9, -999.000,9,   -999.0,9,   -999.0,9,   -999.0,9,  -999.00,9,  7.3624, -999.00,9,  498.0,2, -999.00,9
35LLETAMBOT1_1,  AR04,    46,  1,     17,   17.0,2,19950922,0947,  1.9980, -35.0045,   20,    746.4,2,   4.9353,2,  34.5298,2,  34.5298,2,    150.0,2,    151.7,2,    29.31,2,    33.93,2,     0.00,2,     2.27,2,    0.100,2,    0.040,2,   -999.0,9,   -999.0,9,   -999.0,9,  -999.00,9,  4.8748, -999.00,9,  748.0,2, -999.00,9
35LLETAMBOT1_1,  AR04,    46,  1,     16,   16.0,2,19950922,0947,  1.9980, -35.0045,   20,    996.5,2,   4.6750,2,  34.7534,2,  34.7230,2,    166.9,2,    169.0,2,    27.64,2,    31.31,2,     0.00,2,     2.09,2,    0.042,2,    0.015,2,   -999.0,9,   -999.0,9,   -999.0,9,  -999.00,9,  4.5941, -999.00,9,  998.0,2, -999.00,9
35LLETAMBOT1_1,  AR04,    46,  1,     15,   15.0,2,19950922,0947,  1.9980, -35.0045,   20,   1297.1,2,   4.5546,2,  34.8751,2,  34.8783,2,    198.1,2,    195.2,2,    22.16,2,    26.02,2,     0.00,2,     1.72,2,    0.075,2,    0.030,2,   -999.0,9,   -999.0,9,   -999.0,9,  -999.00,9,  4.4473, -999.00,9, 1298.0,2, -999.00,9
35LLETAMBOT1_1,  AR04,    46,  1,     14,   14.0,2,19950922,0947,  1.9980, -35.0045,   20,   1495.5,2,   4.3998,2,  34.9729,2,  34.9834,2,    228.1,2,    231.6,2,    16.59,2,    21.35,2,     0.00,2,     1.38,2,    0.187,2,    0.094,2,   -999.0,9,   -999.0,9,   -999.0,9,  -999.00,9,  4.2755, -999.00,9, 1497.0,2, -999.00,9
35LLETAMBOT1_1,  AR04,    46,  1,     13,   13.0,2,19950922,0947,  1.9980, -35.0045,   20,   1596.8,2,   4.0952,2,  34.9843,2,  34.9864,2,    243.7,2,    244.5,2,    15.95,2,    20.00,2,     0.00,2,     1.29,2,    0.167,2,    0.082,2,   -999.0,9,   -999.0,9,   -999.0,9,  -999.00,9,  3.9649, -999.00,9, 1598.0,2, -999.00,9
35LLETAMBOT1_1,  AR04,    46,  1,     12,   12.0,2,19950922,0947,  1.9980, -35.0045,   20,   1697.4,2,   3.9951,2,  34.9844,2,  34.9850,2,    247.4,2,    246.9,2,    16.18,2,    19.92,2,     0.00,2,     1.29,2,    0.160,2,    0.079,2,   -999.0,9,   -999.0,9,   -999.0,9,  -999.00,9,  3.8567, -999.00,9, 1699.0,2, -999.00,9
35LLETAMBOT1_1,  AR04,    46,  1,     11,   11.0,2,19950922,0947,  1.9980, -35.0045,   20,   1797.3,2,   3.9543,2,  34.9855,2,  34.9842,2,    249.0,2,    249.2,2,    16.34,2,    20.48,2,     0.00,2,     1.27,2,    0.157,2,    0.079,2,   -999.0,9,   -999.0,9,   -999.0,9,  -999.00,9,  3.8069, -999.00,9, 1799.0,2, -999.00,9
35LLETAMBOT1_1,  AR04,    46,  1,     10,   10.0,3,19950922,0947,  1.9980, -35.0045,   20,   1998.3,2,   3.7156,2,  34.9819,2,  34.9738,3,    255.7,2,    254.4,3,    16.59,3,    19.87,3,     0.00,3,     1.23,3,    0.183,3,    0.094,3,   -999.0,9,   -999.0,9,   -999.0,9,  -999.00,9,  3.5524, -999.00,9, 2000.0,2, -999.00,9
35LLETAMBOT1_1,  AR04,    46,  1,      9,    9.0,2,19950922,0947,  1.9980, -35.0045,   20,   2397.6,2,   3.0713,2,  34.9470,2,  34.9464,2,    253.9,2,    254.3,2,    24.86,2,    20.69,2,     0.00,2,     1.30,2,    0.056,2,    0.029,2,   -999.0,9,   -999.0,9,   -999.0,9,  -999.00,9,  2.8801, -999.00,9, 2399.0,2, -999.00,9
35LLETAMBOT1_1,  AR04,    46,  1,      8,    8.0,2,19950922,0947,  1.9980, -35.0045,   20,   2697.5,2,   2.8701,2,  34.9349,2,  34.9351,2,    254.3,2,    255.7,2,    27.47,2,    20.89,2,     0.00,2,     1.32,2,    0.047,2,    0.017,2,   -999.0,9,   -999.0,9,   -999.0,9,  -999.00,9,  2.6531, -999.00,9, 2699.0,2, -999.00,9
35LLETAMBOT1_1,  AR04,    46,  1,      7,    7.0,2,19950922,0947,  1.9980, -35.0045,   20,   2999.0,2,   2.6568,2,  34.9205,2,  34.9179,2,    254.8,2,    255.0,2,    32.27,2,    21.36,2,     0.00,2,     1.36,2,    0.032,2,    0.018,2,   -999.0,9,   -999.0,9,   -999.0,9,  -999.00,9,  2.4136, -999.00,9, 3001.0,2, -999.00,9
35LLETAMBOT1_1,  AR04,    46,  1,      6,    6.0,2,19950922,0947,  1.9980, -35.0045,   20,   3297.7,2,   2.5011,2,  34.9098,2,  34.9064,2,    255.7,2,    255.8,2,    34.64,2,    21.60,2,     0.00,2,     1.34,2,    0.058,2,    0.025,2,   -999.0,9,   -999.0,9,   -999.0,9,  -999.00,9,  2.2303, -999.00,9, 3300.0,2, -999.00,9
35LLETAMBOT1_1,  AR04,    46,  1,      5,    5.0,2,19950922,0947,  1.9980, -35.0045,   20,   3600.3,2,   2.3684,2,  34.9000,2,  34.8981,2,    257.4,2,    257.4,2,    35.97,2,    21.27,2,     0.00,2,     1.34,2,    0.076,2,    0.042,2,   -999.0,9,   -999.0,9,   -999.0,9,  -999.00,9,  2.0684, -999.00,9, 3601.0,2, -999.00,9
35LLETAMBOT1_1,  AR04,    46,  1,      4,    4.0,2,19950922,0947,  1.9980, -35.0045,   20,   3799.4,2,   2.2926,2,  34.8940,2,  34.8926,2,    258.2,2,    258.0,2,    37.29,2,    21.04,2,     0.00,2,     1.35,2,    0.073,2,    0.036,2,   -999.0,9,   -999.0,9,   -999.0,9,  -999.00,9,  1.9727, -999.00,9, 3800.0,2, -999.00,9
35LLETAMBOT1_1,  AR04,    46,  1,      3,    3.0,2,19950922,0947,  1.9980, -35.0045,   20,   3999.7,2,   2.2520,2,  34.8881,2,  34.8858,2,    258.2,2,    257.2,2,    39.66,2,    21.31,2,     0.00,2,     1.38,2,    0.090,2,    0.048,2,   -999.0,9,   -999.0,9,   -999.0,9,  -999.00,9,  1.9108, -999.00,9, 4001.0,2, -999.00,9
35LLETAMBOT1_1,  AR04,    46,  1,      2,    2.0,2,19950922,0947,  1.9980, -35.0045,   20,   3999.9,2,   2.2528,2,  34.8884,2,  34.8857,2,    258.2,2,    257.1,2,    39.74,2,    21.35,2,     0.00,2,     1.39,2,    0.075,2,    0.036,2,   -999.0,9,   -999.0,9,   -999.0,9,  -999.00,9,  1.9115, -999.00,9, 4001.0,2, -999.00,9
35LLETAMBOT1_1,  AR04,    46,  1,      1,    1.0,2,19950922,0947,  1.9980, -35.0045,   20,   4241.5,2,   2.1943,2,  34.8789,2,  34.8777,2,    256.3,2,    254.9,2,    43.42,2,    21.79,2,     0.00,2,     1.42,2,    0.081,2,    0.047,2,   -999.0,9,   -999.0,9,   -999.0,9,  -999.00,9,  1.8270, -999.00,9, 4243.0,2, -999.00,9
35LLETAMBOT1_1,  AR04,    47,  1,     22,   22.0,2,19950922,1610,  1.5028, -35.0105,   15,      0.2,2,  27.7800,2,  35.7642,2,  35.7738,2,    199.9,2,    199.6,2,     0.97,2,     0.00,2,     0.01,2,     0.00,2, -999.000,9, -999.000,9,   2003.4,2,    355.7,2,   2391.2,2,     8.08,2, 27.7800,    0.09,2,    2.0,2,    0.02,2
35LLETAMBOT1_1,  AR04,    47,  1,     21,   21.0,2,19950922,1610,  1.5028, -35.0105,   15,     66.4,2,  27.2943,2,  36.0528,2,  36.0207,2,    194.3,2,    194.8,2,     0.72,2,     0.00,2,     0.02,2,     0.03,2, -999.000,9, -999.000,9,   2032.8,2,   -999.0,9,   2405.8,2,     8.06,2, 27.2789, -999.00,9,   68.0,2, -999.00,9
35LLETAMBOT1_1,  AR04,    47,  1,     20,   20.0,2,19950922,1610,  1.5028, -35.0105,   15,    139.1,2,  15.2860,2,  35.5135,2,  35.5477,2,    121.7,2,    118.4,2,     6.16,2,    17.55,2,     0.04,2,     1.19,2, -999.000,9, -999.000,9,   2160.2,2,   -999.0,9,   2351.2,2,     7.95,2, 15.2646, -999.00,9,  141.0,2, -999.00,9
35LLETAMBOT1_1,  AR04,    47,  1,     19,   19.0,2,19950922,1610,  1.5028, -35.0105,   15,    297.4,2,  11.1777,2,  35.0368,2,  35.0624,2,    135.4,2,    135.7,2,     9.83,2,    22.16,2,     0.01,2,     1.48,2, -999.000,9, -999.000,9,   2194.7,2,   -999.0,9,   2295.4,2,     7.79,2, 11.1405, -999.00,9,  300.0,2, -999.00,9
35LLETAMBOT1_1,  AR04,    47,  1,     18,   18.0,2,19950922,1610,  1.5028, -35.0105,   15,    497.4,2,   7.5253,2,  34.6953,2,  34.7039,2,    112.4,2,    112.4,2,    19.19,2,    32.60,2,     0.01,2,     2.12,2, -999.000,9, -999.000,9,   2202.0,2,   -999.0,9,   2300.2,2,     7.84,2,  7.4760, -999.00,9,  499.0,2, -999.00,9
35LLETAMBOT1_1,  AR04,    47,  1,     17,   17.0,2,19950922,1610,  1.5028, -35.0105,   15,    744.6,2,   4.7535,2,  34.5280,2,  34.5295,2,    152.0,2,    152.7,2,    30.86,2,    33.61,2,     0.01,2,     2.30,2,    0.083,2,    0.034,2,   2202.2,2,   -999.0,9,   2301.1,2,     7.87,2,  4.6942, -999.00,9,  746.0,2, -999.00,9
35LLETAMBOT1_1,  AR04,    47,  1,     16,   16.0,2,19950922,1610,  1.5028, -35.0105,   15,    995.1,2,   4.6347,2,  34.6936,2,  34.6842,2,    161.6,2,    162.1,2,    29.38,2,    31.30,2,     0.01,2,     2.13,2,    0.033,2,    0.008,2,   2192.0,2,   -999.0,9,   2302.0,2,     7.89,2,  4.5543, -999.00,9,  997.0,2, -999.00,9
35LLETAMBOT1_1,  AR04,    47,  1,     15,   15.0,2,19950922,1610,  1.5028, -35.0105,   15,   1296.9,2,   4.5849,2,  34.8872,2,  34.8764,2,    197.4,2,    194.6,2,    22.89,2,    25.58,2,     0.01,2,     1.76,2,    0.059,2,    0.024,2,   2165.0,2,   -999.0,9,   2300.6,2,     7.95,2,  4.4773, -999.00,9, 1299.0,2, -999.00,9
35LLETAMBOT1_1,  AR04,    47,  1,     14,   14.0,2,19950922,1610,  1.5028, -35.0105,   15,   1497.5,2,   4.1838,2,  34.9768,2,  34.9713,2,    235.8,2,    241.4,4,    18.04,2,    21.00,2,     0.01,2,     1.44,2,    0.115,2,    0.051,2,   2156.3,2,   -999.0,9,   2312.2,2,     8.00,2,  4.0617, -999.00,9, 1498.0,2, -999.00,9
35LLETAMBOT1_1,  AR04,    47,  1,     13,   13.0,2,19950922,1610,  1.5028, -35.0105,   15,   1593.3,2,   4.0064,2,  34.9852,2,  34.9841,2,    245.7,2,    243.5,2,    16.94,2,    19.17,2,     0.01,2,     1.33,2,    0.130,2,    0.060,2,   2153.9,2,   -999.0,9,   2319.0,2,     8.02,2,  3.8775, -999.00,9, 1594.0,2, -999.00,9
35LLETAMBOT1_1,  AR04,    47,  1,     12,   12.0,2,19950922,1610,  1.5028, -35.0105,   15,   1696.9,2,   3.9642,2,  34.9874,2,  34.9882,2,    248.8,2,    250.0,2,    16.33,2,    18.64,2,     0.01,2,     1.28,2,    0.207,2,    0.093,2,   2152.0,2,   -999.0,9,   2319.5,2,     8.03,2,  3.8262, -999.00,9, 1698.0,2, -999.00,9
35LLETAMBOT1_1,  AR04,    47,  1,     11,   11.0,2,19950922,1610,  1.5028, -35.0105,   15,   1795.0,2,   3.9076,2,  34.9872,2,  34.9868,2,    251.5,2,    250.7,2,    16.61,2,    18.40,2,     0.01,2,     1.27,2,    0.169,2,    0.080,2,   2150.8,2,   -999.0,9,   2319.4,2,     8.03,2,  3.7611, -999.00,9, 1797.0,2, -999.00,9
35LLETAMBOT1_1,  AR04,    47,  1,     10,   10.0,2,19950922,1610,  1.5028, -35.0105,   15,   1998.2,2,   3.6331,2,  34.9776,2,  34.9807,2,    254.5,2,    254.5,2,    17.88,2,    18.73,2,     0.01,2,     1.25,2,    0.108,2,    0.053,2,   2147.7,2,   -999.0,9,   2317.1,2,     8.03,2,  3.4712, -999.00,9, 2000.0,2, -999.00,9
35LLETAMBOT1_1,  AR04,    47,  1,      9,    9.0,2,19950922,1610,  1.5028, -35.0105,   15,   2198.3,2,   3.2833,2,  34.9595,2,  34.9640,2,    254.0,2,    255.7,2,    21.25,2,    19.01,2,     0.00,2,     1.26,2,    0.058,2,    0.029,2,   2140.0,3,   -999.0,9,   2310.4,3,     8.03,2,  3.1077, -999.00,9, 2200.0,2, -999.00,9
35LLETAMBOT1_1,  AR04,    47,  1,      8,    8.0,2,19950922,1610,  1.5028, -35.0105,   15,   2399.8,2,   3.0920,2,  34.9520,2,  34.9520,2,    256.0,2,    257.4,2,    23.50,2,    19.14,2,     0.00,2,     1.26,2,    0.061,2,    0.022,2,   2140.2,3,   -999.0,9,   2311.6,3,     8.02,2,  2.9002, -999.00,9, 2401.0,2, -999.00,9
35LLETAMBOT1_1,  AR04,    47,  1,      7,    7.0,2,19950922,1610,  1.5028, -35.0105,   15,   2697.0,2,   2.9080,2,  34.9365,2,  34.9378,2,    252.8,2,    254.1,2,    28.50,2,    19.81,2,     0.00,2,     1.32,2,    0.022,2,    0.012,2,   2144.6,3,   -999.0,9,   2313.5,3,     8.01,2,  2.6903, -999.00,9, 2698.0,2, -999.00,9
35LLETAMBOT1_1,  AR04,    47,  1,      6,    6.0,2,19950922,1610,  1.5028, -35.0105,   15,   2999.5,2,   2.6562,2,  34.9217,2,  34.9200,2,    254.7,2,    256.0,2,    32.04,2,    19.84,2,     0.00,2,     1.33,2,    0.029,2,    0.017,2,   2133.1,3,   -999.0,9,   2301.0,3,     8.00,2,  2.4130, -999.00,9, 3002.0,2, -999.00,9
35LLETAMBOT1_1,  AR04,    47,  1,      5,    5.0,2,19950922,1610,  1.5028, -35.0105,   15,   3299.3,2,   2.5233,2,  34.9136,2,  34.9128,2,    256.9,2,    258.1,2,    32.80,2,    19.77,2,     0.00,2,     1.32,2,    0.054,2,    0.028,2,   2147.2,3,   -999.0,9,   2316.1,3,     7.99,2,  2.2518, -999.00,9, 3301.0,2, -999.00,9
35LLETAMBOT1_1,  AR04,    47,  1,      3,    3.0,2,19950922,1610,  1.5028, -35.0105,   15,   3601.8,2,   2.3727,2,  34.9006,2,  34.8994,2,    256.6,2,    257.9,2,    36.36,2,    20.01,2,     0.00,2,     1.35,2,    0.066,2,    0.034,2,   2145.3,3,   -999.0,9,   2313.5,3,     7.98,2,  2.0725, -999.00,9, 3603.0,2, -999.00,9
35LLETAMBOT1_1,  AR04,    47,  1,      4,    4.0,2,19950922,1610,  1.5028, -35.0105,   15,   3601.8,2,   2.3727,2,  34.9006,2,  34.8997,2,    256.6,2,    258.1,2,    36.33,2,    20.00,2,     0.00,2,     1.35,2,    0.058,2,    0.024,2,   2146.2,3,   -999.0,9,   2313.8,3,     7.98,2,  2.0725, -999.00,9, 3603.0,2, -999.00,9
35LLETAMBOT1_1,  AR04,    47,  1,      2,    2.0,2,19950922,1610,  1.5028, -35.0105,   15,   3799.9,2,   2.3211,2,  34.8973,2,  34.8959,2,    259.0,2,    259.3,2,    36.69,2,    19.89,2,     0.00,2,     1.34,2,    0.074,2,    0.035,2,   2166.5,2,   -999.0,9,   2335.2,2,     7.97,2,  2.0004, -999.00,9, 3801.0,2, -999.00,9
35LLETAMBOT1_1,  AR04,    47,  1,      1,    1.0,2,19950922,1610,  1.5028, -35.0105,   15,   4088.6,2,   2.2266,2,  34.8855,2,  34.8837,2,    254.6,2,    256.4,2,    42.12,2,    20.60,2,     0.00,2,     1.40,2,    0.062,2,    0.031,2,   2171.4,2,   -999.0,9,   2335.6,2,     7.95,2,  1.8760, -999.00,9, 4089.0,2, -999.00,9