BOTTLE,20220929CCHSIOAMB
EXPOCODE,SECT_ID,STNNBR,CASTNO,SAMPNO,BTLNBR,BTLNBR_FLAG_W,DATE,TIME,LATITUDE,LONGITUDE,DEPTH,CTDPRS,CTDPRS_FLAG_W,CTDTMP,CTDTMP_FLAG_W,CTDSAL,CTDSAL_FLAG_W,SALNTY,SALNTY_FLAG_W,CTDOXY,CTDOXY_FLAG_W,OXYGEN,OXYGEN_FLAG_W,SILCAT,SILCAT_FLAG_W,NITRAT,NITRAT_FLAG_W,NITRIT,NITRIT_FLAG_W,PHSPHT,PHSPHT_FLAG_W,CFC-11,CFC-11_FLAG_W,CFC-12,CFC-12_FLAG_W,TCARBN,TCARBN_FLAG_W,PCO2,PCO2_FLAG_W,ALKALI,ALKALI_FLAG_W,PH,PH_FLAG_W,THETA,CHLORA,CHLORA_FLAG_W,CTDRAW,CTDRAW_FLAG_W,PPHYTN,PPHYTN_FLAG_W
,,,,,,,,,,,,DBAR,,DEG C,,PSS-78,,PSS-78,,UMOL/KG,,UMOL/KG,,UMOL/KG,,UMOL/KG,,UMOL/KG,,UMOL/KG,,PMOL/KG,,PMOL/KG,,UMOL/KG,,UATM,,UMOL/KG,,,,DEG C,UG/L,,DBAR,,UG/L,
35LLETAMBOT1_2,  AR04,    80,  2,     24,   24.0,2,19951006,0215,  6.4663, -41.8980,   20,    597.8,2,   6.7873,2,  34.6277,2,  34.6280,2,    122.4,2,    121.9,2,    20.97,2,    33.10,2,     0.01,2,     2.23,2,    0.220,2,    0.096,2,   -999.0,9,   -999.0,9,   -999.0,9,  -999.00,9,  6.7310, -999.00,9,  600.0,2, -999.00,9
35LLETAMBOT1_2,  AR04,    80,  2,     23,   23.0,2,19951006,0215,  6.4663, -41.8980,   20,    798.0,2,   5.6410,2,  34.6152,2,  34.6171,2,    127.3,2,    125.8,2,    25.89,2,    34.20,2,     0.01,2,     2.35,2,    0.061,2,    0.014,2,   -999.0,9,   -999.0,9,   -999.0,9,  -999.00,9,  5.5716, -999.00,9,  799.0,2, -999.00,9
35LLETAMBOT1_2,  AR04,    80,  2,     22,   22.0,2,19951006,0215,  6.4663, -41.8980,   20,    998.6,2,   5.0031,2,  34.6712,2,  34.6691,2,    143.3,2,    143.2,2,    27.93,2,    30.82,2,     0.01,2,     2.27,2,    0.034,2,    0.006,2,   -999.0,9,   -999.0,9,   -999.0,9,  -999.00,9,  4.9196, -999.00,9, 1000.0,2, -999.00,9
35LLETAMBOT1_2,  AR04,    80,  2,     21,   21.0,2,19951006,0215,  6.4663, -41.8980,   20,   1248.5,2,   4.7512,2,  34.8782,2,  34.8812,3,    184.7,2,    184.8,2,    22.32,2,    24.50,2,     0.01,2,     1.83,2,    0.036,2,    0.010,2,   -999.0,9,   -999.0,9,   -999.0,9,  -999.00,9,  4.6465, -999.00,9, 1250.0,2, -999.00,9
35LLETAMBOT1_2,  AR04,    80,  2,     20,   20.0,2,19951006,0215,  6.4663, -41.8980,   20,   1497.3,2,   4.4525,2,  34.9828,2,  34.9793,2,    229.1,2,    226.4,2,    16.77,2,    19.51,2,     0.00,2,     1.43,2,    0.136,2,    0.063,2,   -999.0,9,   -999.0,9,   -999.0,9,  -999.00,9,  4.3274, -999.00,9, 1499.0,2, -999.00,9
35LLETAMBOT1_2,  AR04,    80,  2,     19,   19.0,2,19951006,0215,  6.4663, -41.8980,   20,   1598.0,2,   4.2394,2,  34.9817,2,  34.9813,2,    236.4,2,    235.3,2,    15.99,2,    18.77,2,     0.01,2,     1.38,2,    0.150,2,    0.072,2,   -999.0,9,   -999.0,9,   -999.0,9,  -999.00,9,  4.1073, -999.00,9, 1599.0,2, -999.00,9
35LLETAMBOT1_2,  AR04,    80,  2,     18,   18.0,2,19951006,0215,  6.4663, -41.8980,   20,   1697.5,2,   4.0982,2,  34.9842,2,  34.9840,2,    240.4,2,    242.9,2,    15.74,2,    18.22,2,     0.00,2,     1.35,2,    0.083,2,    0.040,2,   -999.0,9,   -999.0,9,   -999.0,9,  -999.00,9,  3.9584, -999.00,9, 1700.0,2, -999.00,9
35LLETAMBOT1_2,  AR04,    80,  2,     17,   17.0,2,19951006,0215,  6.4663, -41.8980,   20,   1798.8,2,   3.9132,2,  34.9818,2,  34.9810,2,    247.4,2,    248.1,2,    16.30,2,    17.99,2,     0.01,2,     1.31,2, -999.000,9, -999.000,9,   -999.0,9,   -999.0,9,   -999.0,9,  -999.00,9,  3.7663, -999.00,9, 1800.0,2, -999.00,9
35LLETAMBOT1_2,  AR04,    80,  2,     15,   15.0,2,19951006,0215,  6.4663, -41.8980,   20,   1897.3,2,   3.7569,2,  34.9768,2,  34.9769,2,    250.0,2,    249.6,2,    17.13,2,    18.26,2,     0.01,2,     1.31,2,    0.067,2,    0.030,2,   -999.0,9,   -999.0,9,   -999.0,9,  -999.00,9,  3.6028, -999.00,9, 1899.0,2, -999.00,9
35LLETAMBOT1_2,  AR04,    80,  2,     16,   16.0,2,19951006,0215,  6.4663, -41.8980,   20,   1897.4,2,   3.7569,2,  34.9769,2,  34.9768,2,    249.9,2,    249.2,2,    17.04,2,    18.05,2,     0.01,2,     1.30,2,    0.065,2,    0.026,2,   -999.0,9,   -999.0,9,   -999.0,9,  -999.00,9,  3.6028, -999.00,9, 1899.0,2, -999.00,9
35LLETAMBOT1_2,  AR04,    80,  2,     14,   14.0,2,19951006,0215,  6.4663, -41.8980,   20,   1998.1,2,   3.6019,2,  34.9727,2,  34.9732,2,    252.0,2,    252.3,2,    18.39,2,    18.48,2,     0.01,2,     1.28,2,    0.054,2,    0.024,2,   -999.0,9,   -999.0,9,   -999.0,9,  -999.00,9,  3.4404, -999.00,9, 1999.0,2, -999.00,9
35LLETAMBOT1_2,  AR04,    80,  2,     13,   13.0,2,19951006,0215,  6.4663, -41.8980,   20,   2299.9,2,   3.2872,2,  34.9600,2,  34.9596,2,    255.9,2,    255.5,2,    21.33,2,    18.46,2,     0.01,2,     1.28,2,    0.042,2,    0.019,2,   -999.0,9,   -999.0,9,   -999.0,9,  -999.00,9,  3.1017, -999.00,9, 2301.0,2, -999.00,9
35LLETAMBOT1_2,  AR04,    80,  2,     12,   12.0,2,19951006,0215,  6.4663, -41.8980,   20,   2698.4,2,   2.9812,2,  34.9452,2,  34.9443,2,    257.6,2,    258.6,2,    24.60,2,    18.56,2,     0.01,2,     1.30,2,    0.074,2,    0.031,2,   -999.0,9,   -999.0,9,   -999.0,9,  -999.00,9,  2.7618, -999.00,9, 2700.0,2, -999.00,9
35LLETAMBOT1_2,  AR04,    80,  2,     11,   11.0,2,19951006,0215,  6.4663, -41.8980,   20,   3000.5,2,   2.8006,2,  34.9342,2,  34.9334,2,    258.7,2,    258.7,2,    27.15,2,    18.86,2,     0.00,2,     1.30,2,    0.075,2,    0.033,2,   -999.0,9,   -999.0,9,   -999.0,9,  -999.00,9,  2.5541, -999.00,9, 3002.0,2, -999.00,9
35LLETAMBOT1_2,  AR04,    80,  2,     10,   10.0,2,19951006,0215,  6.4663, -41.8980,   20,   3301.3,2,   2.6368,2,  34.9228,2,  34.9221,2,    259.3,2,    258.7,2,    30.22,2,    19.21,2,     0.00,2,     1.30,2,    0.049,2,    0.019,2,   -999.0,9,   -999.0,9,   -999.0,9,  -999.00,9,  2.3624, -999.00,9, 3303.0,2, -999.00,9
35LLETAMBOT1_2,  AR04,    80,  2,      9,    9.0,2,19951006,0215,  6.4663, -41.8980,   20,   3601.2,2,   2.4173,2,  34.9086,2,  34.9060,2,    261.9,2,    261.9,2,    32.15,2,    19.14,2,     0.00,2,     1.31,2,    0.081,2,    0.043,2,   -999.0,9,   -999.0,9,   -999.0,9,  -999.00,9,  2.1159, -999.00,9, 3603.0,2, -999.00,9
35LLETAMBOT1_2,  AR04,    80,  2,      8,    8.0,2,19951006,0215,  6.4663, -41.8980,   20,   3701.5,2,   2.3694,2,  34.9043,2,  34.9043,2,    262.4,2,    261.9,2,    32.71,2,    19.19,2,     0.00,2,     1.30,2,    0.092,2,    0.039,2,   -999.0,9,   -999.0,9,   -999.0,9,  -999.00,9,  2.0583, -999.00,9, 3703.0,2, -999.00,9
35LLETAMBOT1_2,  AR04,    80,  2,      7,    7.0,2,19951006,0215,  6.4663, -41.8980,   20,   3802.4,2,   2.3200,2,  34.9006,2,  34.8989,2,    263.8,2,    263.3,2,    33.70,2,    19.45,2,     0.00,2,     1.32,2,    0.095,2,    0.044,2,   -999.0,9,   -999.0,9,   -999.0,9,  -999.00,9,  1.9990, -999.00,9, 3803.0,2, -999.00,9
35LLETAMBOT1_2,  AR04,    80,  2,      6,    6.0,2,19951006,0215,  6.4663, -41.8980,   20,   3899.0,2,   2.2695,2,  34.8940,2,  34.8914,2,    262.8,2,    260.9,2,    36.48,2,    19.98,2,     0.00,2,     1.34,2,    0.095,2,    0.041,2,   -999.0,9,   -999.0,9,   -999.0,9,  -999.00,9,  1.9391, -999.00,9, 3900.0,2, -999.00,9
35LLETAMBOT1_2,  AR04,    80,  2,      5,    5.0,2,19951006,0215,  6.4663, -41.8980,   20,   4001.4,2,   2.2305,2,  34.8900,2,  34.8879,2,    260.9,2,    261.3,2,    38.73,2,    19.92,2,     0.00,2,     1.37,2,    0.088,2,    0.042,2,   -999.0,9,   -999.0,9,   -999.0,9,  -999.00,9,  1.8897, -999.00,9, 4002.0,2, -999.00,9
35LLETAMBOT1_2,  AR04,    80,  2,      4,    4.0,2,19951006,0215,  6.4663, -41.8980,   20,   4200.1,2,   2.0912,2,  34.8729,2,  34.8748,2,    258.5,2,    257.7,2,    44.58,2,    20.52,2,     0.03,2,     1.41,2,    0.085,2,    0.040,2,   -999.0,9,   -999.0,9,   -999.0,9,  -999.00,9,  1.7317, -999.00,9, 4201.0,2, -999.00,9
35LLETAMBOT1_2,  AR04,    80,  2,      3,    3.0,2,19951006,0215,  6.4663, -41.8980,   20,   4400.0,2,   1.7981,2,  34.8364,2,  34.8340,2,    248.3,2,    248.5,2,    63.50,2,    23.49,2,     0.00,2,     1.63,2,    0.059,2,    0.026,2,   -999.0,9,   -999.0,9,   -999.0,9,  -999.00,9,  1.4245, -999.00,9, 4401.0,2, -999.00,9
35LLETAMBOT1_2,  AR04,    80,  2,      2,    2.0,2,19951006,0215,  6.4663, -41.8980,   20,   4600.5,2,   1.5538,2,  34.8058,2,  34.8028,2,    241.2,2,    240.8,2,    74.64,2,    26.11,2,     0.00,2,     1.78,2,    0.035,2,    0.017,2,   -999.0,9,   -999.0,9,   -999.0,9,  -999.00,9,  1.1646, -999.00,9, 4602.0,2, -999.00,9
35LLETAMBOT1_2,  AR04,    80,  2,      1,    1.0,2,19951006,0215,  6.4663, -41.8980,   20,   4734.8,2,   1.5224,2,  34.7995,2,  34.7980,2,    238.9,2,    239.7,2,    76.97,2,    26.31,2,     0.00,2,     1.80,2, -999.000,9, -999.000,9,   -999.0,9,   -999.0,9,   -999.0,9,  -999.00,9,  1.1184, -999.00,9, 4736.0,2, -999.00,9
35LLETAMBOT1_2,  AR04,    81,  1,     24,   24.0,2,19951006,0906,  7.0588, -41.5800,   20,      3.0,2,  28.8374,2,  32.5231,2,  32.5341,2,    194.3,2,    199.4,2,     5.08,4,     0.00,2,     0.00,2,     0.00,2, -999.000,9, -999.000,9,   1838.6,2,    326.5,2,   2193.5,2,     8.09,2, 28.8367,    0.12,2,    5.0,2,    0.04,2
35LLETAMBOT1_2,  AR04,    81,  1,     23,   23.0,2,19951006,0906,  7.0588, -41.5800,   20,     49.3,2,  28.0537,2,  36.1211,2,  35.7626,2,    205.3,2,    209.0,2,     1.60,4,     0.00,2,     0.00,2,     0.01,2, -999.000,9, -999.000,9,   1997.4,2,   -999.0,9,   2394.5,2,     8.10,2, 28.0420, -999.00,9,   51.0,2, -999.00,9
35LLETAMBOT1_2,  AR04,    81,  1,     22,   22.0,2,19951006,0906,  7.0588, -41.5800,   20,     98.4,2,  23.3361,2,  36.2200,2,  36.2059,2,    161.5,2,    149.1,2,     2.70,4,     4.86,2,     0.09,2,     0.34,2, -999.000,9, -999.000,9,   2113.0,2,   -999.0,9,   2408.9,2,     8.01,2, 23.3157, -999.00,9,  100.0,2, -999.00,9
35LLETAMBOT1_2,  AR04,    81,  1,     21,   21.0,2,19951006,0906,  7.0588, -41.5800,   20,    297.5,2,   9.0357,2,  34.8314,2,  34.8708,2,    126.6,2,    126.1,2,    13.77,4,    27.53,2,     0.00,2,     1.79,2, -999.000,9, -999.000,9,   2158.3,2,   -999.0,9,   2291.1,2,     7.92,2,  9.0032, -999.00,9,  299.0,2, -999.00,9
35LLETAMBOT1_2,  AR04,    81,  1,     20,   20.0,2,19951006,0906,  7.0588, -41.5800,   20,    649.0,2,   6.4316,2,  34.6212,2,  34.6288,2,    124.9,2,    124.3,2,    22.80,4,    33.93,2,     0.00,2,     2.23,2,    0.176,2,    0.089,2,   2247.3,3,   -999.0,9,   2349.9,3,     7.86,2,  6.3720, -999.00,9,  651.0,2, -999.00,9
35LLETAMBOT1_2,  AR04,    81,  1,     19,   19.0,2,19951006,0906,  7.0588, -41.5800,   20,    999.2,2,   4.9416,2,  34.6885,2,  34.6844,2,    145.2,2,    144.4,2,    28.67,4,    33.12,2,     0.00,2,     2.23,2,    0.041,2,    0.013,2,   2196.6,3,   -999.0,9,   2302.6,3,     7.88,2,  4.8585, -999.00,9, 1001.0,2, -999.00,9
35LLETAMBOT1_2,  AR04,    81,  1,     18,   18.0,2,19951006,0906,  7.0588, -41.5800,   20,   1300.2,2,   4.6802,2,  34.9321,2,  34.9066,2,    200.0,2,    194.3,2,    22.05,4,    25.68,2,     0.00,2,     1.71,2,    0.070,2,    0.031,2,   2130.1,3,   -999.0,9,   2269.6,3,     7.96,2,  4.5713, -999.00,9, 1302.0,2, -999.00,9
35LLETAMBOT1_2,  AR04,    81,  1,     17,   17.0,2,19951006,0906,  7.0588, -41.5800,   20,   1496.2,2,   4.4389,2,  34.9839,2,  34.9830,2,    227.5,2,    226.7,2,    17.65,4,    21.49,2,     0.00,2,     1.42,2,    0.135,2,    0.070,2,   2130.7,3,   -999.0,9,   2290.0,3,     8.01,2,  4.3141, -999.00,9, 1498.0,2, -999.00,9
35LLETAMBOT1_2,  AR04,    81,  1,     16,   16.0,2,19951006,0906,  7.0588, -41.5800,   20,   1598.8,2,   4.1840,2,  34.9839,2,  34.9862,2,    239.8,2,    238.2,2,    17.17,4,    20.44,2,     0.00,2,     1.37,2,    0.119,2,    0.060,2,   2132.1,3,   -999.0,9,   2297.3,3,     8.02,2,  4.0525, -999.00,9, 1600.0,2, -999.00,9
35LLETAMBOT1_2,  AR04,    81,  1,     15,   15.0,2,19951006,0906,  7.0588, -41.5800,   20,   1698.0,2,   4.0200,2,  34.9836,2,  34.9856,2,    244.9,2,    245.5,2,    17.22,4,    19.97,2,     0.00,2,     1.31,2,    0.108,2,    0.055,2,   2127.4,3,   -999.0,9,   2294.3,3,     8.03,2,  3.8812, -999.00,9, 1699.0,2, -999.00,9
35LLETAMBOT1_2,  AR04,    81,  1,     14,   14.0,2,19951006,0906,  7.0588, -41.5800,   20,   1793.3,2,   3.8809,2,  34.9823,2,  34.9840,2,    249.0,2,    249.0,2,    17.49,4,    19.59,2,     0.00,2,     1.29,2,    0.109,2,    0.056,2,   2125.8,3,   -999.0,9,   2297.4,3,     8.04,2,  3.7349, -999.00,9, 1794.0,2, -999.00,9
35LLETAMBOT1_2,  AR04,    81,  1,     13,   13.0,2,19951006,0906,  7.0588, -41.5800,   20,   1998.9,2,   3.6399,2,  34.9761,2,  34.9770,2,    253.3,2,    252.6,2,    18.83,4,    19.38,2,     0.00,2,     1.30,2,    0.086,2,    0.042,2,   2152.3,3,   -999.0,9,   2325.3,3,     8.03,2,  3.4778, -999.00,9, 1999.0,2, -999.00,9
35LLETAMBOT1_2,  AR04,    81,  1,     12,   12.0,2,19951006,0906,  7.0588, -41.5800,   20,   2293.9,2,   3.3218,2,  34.9634,2,  34.9660,2,    256.6,2,    256.6,2,    21.16,4,    19.19,2,     0.00,2,     1.28,2,    0.069,2,    0.034,2,   2136.1,3,   -999.0,9,   2309.5,3,     8.03,2,  3.1363, -999.00,9, 2295.0,2, -999.00,9
35LLETAMBOT1_2,  AR04,    81,  1,     11,   11.0,2,19951006,0906,  7.0588, -41.5800,   20,   2695.9,2,   2.9681,2,  34.9449,2,  34.9454,2,    256.4,2,    257.2,2,    25.38,4,    19.49,2,     0.00,2,     1.31,2,    0.063,2,    0.029,2,   2135.0,3,   -999.0,9,   2308.4,3,     8.02,2,  2.7493, -999.00,9, 2697.0,2, -999.00,9
35LLETAMBOT1_2,  AR04,    81,  1,     10,   10.0,2,19951006,0906,  7.0588, -41.5800,   20,   2999.4,2,   2.7810,2,  34.9332,2,  34.9347,2,    258.0,2,    262.2,3,    27.38,4,    19.47,2,     0.00,2,     1.30,2,    0.070,2,    0.038,2,   2137.8,3,   -999.0,9,   2311.0,3,     8.01,2,  2.5351, -999.00,9, 3001.0,2, -999.00,9
35LLETAMBOT1_2,  AR04,    81,  1,      9,    9.0,2,19951006,0906,  7.0588, -41.5800,   20,   3296.0,2,   2.6125,2,  34.9204,2,  34.9160,2,    258.7,2,    257.8,2,    30.37,4,    19.70,2,     0.00,2,     1.32,2,    0.088,2,    0.041,2,   2139.0,3,   -999.0,9,   2311.7,3,     8.00,2,  2.3392, -999.00,9, 3297.0,2, -999.00,9
35LLETAMBOT1_2,  AR04,    81,  1,      8,    8.0,2,19951006,0906,  7.0588, -41.5800,   20,   3599.5,2,   2.4490,2,  34.9101,2,  34.9114,2,    262.4,2,    261.3,2,    31.11,4,    19.52,2,     0.00,2,     1.31,2,    0.099,2,    0.047,2,   2144.3,3,   -999.0,9,   2316.8,3,     7.99,2,  2.1470, -999.00,9, 3601.0,2, -999.00,9
35LLETAMBOT1_2,  AR04,    81,  1,      7,    7.0,2,19951006,0906,  7.0588, -41.5800,   20,   3697.9,2,   2.3750,2,  34.9050,2,  34.9063,2,    263.1,2,    262.4,2,    31.77,4,    19.50,2,     0.00,2,     1.31,2,    0.107,2,    0.059,2,   2163.8,3,   -999.0,9,   2337.9,3,     7.99,2,  2.0641, -999.00,9, 3699.0,2, -999.00,9
35LLETAMBOT1_2,  AR04,    81,  1,      6,    6.0,2,19951006,0906,  7.0588, -41.5800,   20,   3798.4,2,   2.3004,2,  34.8984,2,  34.8990,2,    262.7,2,    262.0,2,    33.68,4,    19.79,2,     0.00,2,     1.32,2,    0.103,2,    0.057,2,   2160.5,3,   -999.0,9,   2332.2,3,     7.98,2,  1.9804, -999.00,9, 3800.0,2, -999.00,9
35LLETAMBOT1_2,  AR04,    81,  1,      5,    5.0,2,19951006,0906,  7.0588, -41.5800,   20,   3895.9,2,   2.2580,2,  34.8932,2,  34.8960,2,    261.6,2,    261.5,2,    34.67,4,    19.89,2,     0.01,2,     1.33,2,    0.093,2,    0.051,2,   2155.0,3,   -999.0,9,   2326.3,3,     7.98,2,  1.9283, -999.00,9, 3896.0,2, -999.00,9
35LLETAMBOT1_2,  AR04,    81,  1,      4,    4.0,2,19951006,0906,  7.0588, -41.5800,   20,   3998.8,2,   2.1819,2,  34.8848,2,  34.8876,2,    259.1,2,    260.4,2,    38.56,4,    20.45,2,     0.01,2,     1.40,2,    0.105,2,    0.051,2,   2158.0,3,   -999.0,9,   2327.9,3,     7.97,2,  1.8427, -999.00,9, 3999.0,2, -999.00,9
35LLETAMBOT1_2,  AR04,    81,  1,      3,    3.0,2,19951006,0906,  7.0588, -41.5800,   20,   4249.2,2,   1.9536,2,  34.8557,2,  34.8583,2,    253.1,2,    254.0,2,    50.51,4,    22.35,2,     0.00,2,     1.53,2,    0.079,2,    0.042,2,   2171.2,3,   -999.0,9,   2335.2,3,     7.95,2,  1.5926, -999.00,9, 4250.0,2, -999.00,9
35LLETAMBOT1_2,  AR04,    81,  1,      2,    2.0,2,19951006,0906,  7.0588, -41.5800,   20,   4500.0,2,   1.5842,2,  34.8112,2,  34.8112,2,    242.3,2,    242.4,2,    71.85,4,    25.47,2,     0.00,2,     1.74,2,    0.059,2,    0.031,2,   2176.5,3,   -999.0,9,   2327.4,3,     7.91,2,  1.2057, -999.00,9, 4502.0,2, -999.00,9
35LLETAMBOT1_2,  AR04,    81,  1,      1,    1.0,2,19951006,0906,  7.0588, -41.5800,   20,   4588.3,2,   1.5550,2,  34.8052,2,  34.8069,2,    238.9,2,    240.3,2,    74.44,4,    25.82,2,     0.00,2,     1.77,2,    0.067,2,    0.031,2,   2164.4,3,   -999.0,9,   2315.1,3,     7.91,2,  1.1672, -999.00,9, 4590.0,2, -999.00,9