BOTTLE,20220929CCHSIOAMB
EXPOCODE,SECT_ID,STNNBR,CASTNO,SAMPNO,BTLNBR,BTLNBR_FLAG_W,DATE,TIME,LATITUDE,LONGITUDE,DEPTH,CTDPRS,CTDPRS_FLAG_W,CTDTMP,CTDTMP_FLAG_W,CTDSAL,CTDSAL_FLAG_W,SALNTY,SALNTY_FLAG_W,CTDOXY,CTDOXY_FLAG_W,OXYGEN,OXYGEN_FLAG_W,SILCAT,SILCAT_FLAG_W,NITRAT,NITRAT_FLAG_W,NITRIT,NITRIT_FLAG_W,PHSPHT,PHSPHT_FLAG_W,CFC-11,CFC-11_FLAG_W,CFC-12,CFC-12_FLAG_W,TCARBN,TCARBN_FLAG_W,PCO2,PCO2_FLAG_W,ALKALI,ALKALI_FLAG_W,PH,PH_FLAG_W,THETA,CHLORA,CHLORA_FLAG_W,CTDRAW,CTDRAW_FLAG_W,PPHYTN,PPHYTN_FLAG_W
,,,,,,,,,,,,DBAR,,DEG C,,PSS-78,,PSS-78,,UMOL/KG,,UMOL/KG,,UMOL/KG,,UMOL/KG,,UMOL/KG,,UMOL/KG,,PMOL/KG,,PMOL/KG,,UMOL/KG,,UATM,,UMOL/KG,,,,DEG C,UG/L,,DBAR,,UG/L,
35LLETAMBOT1_1,  AR04,    38,  1,     22,   22.0,2,19950919,1802,  7.0002, -35.0002,   15,      1.8,2,  28.7249,2,  33.0654,2,  32.9690,2,    198.3,2,    201.9,2,     3.64,2,     0.26,2,     0.00,2,     0.00,2, -999.000,9, -999.000,9,   -999.0,9,    321.2,2,   -999.0,9,  -999.00,9, 28.7245, -999.00,9,    4.0,2, -999.00,9
35LLETAMBOT1_1,  AR04,    38,  1,     21,   21.0,2,19950919,1802,  7.0002, -35.0002,   15,     50.0,2,  28.7111,2,  35.9490,2,  35.8416,2,    208.8,2,    207.4,2,     0.58,2,     0.33,2,     0.00,2,     0.00,2, -999.000,9, -999.000,9,   -999.0,9,   -999.0,9,   -999.0,9,  -999.00,9, 28.6991, -999.00,9,   51.0,2, -999.00,9
35LLETAMBOT1_1,  AR04,    38,  1,     20,   20.0,2,19950919,1802,  7.0002, -35.0002,   15,    124.8,2,  20.9444,2,  36.0791,2,  36.0681,2,    137.8,2,    133.8,2,     3.51,2,    10.00,2,     0.04,2,     0.60,2, -999.000,9, -999.000,9,   -999.0,9,   -999.0,9,   -999.0,9,  -999.00,9, 20.9204, -999.00,9,  126.0,2, -999.00,9
35LLETAMBOT1_1,  AR04,    38,  1,     19,   19.0,2,19950919,1802,  7.0002, -35.0002,   15,    299.5,2,   9.3013,2,  34.8727,2,  34.8777,2,    114.7,2,    114.8,2,    14.34,2,    28.24,2,     0.01,2,     1.82,2, -999.000,9, -999.000,9,   -999.0,9,   -999.0,9,   -999.0,9,  -999.00,9,  9.2679, -999.00,9,  302.0,2, -999.00,9
35LLETAMBOT1_1,  AR04,    38,  1,     18,   18.0,2,19950919,1802,  7.0002, -35.0002,   15,    598.6,2,   6.8125,2,  34.6447,2,  34.6589,2,    114.6,2,    113.5,2,    22.11,2,    33.23,2,     0.00,2,     2.17,2, -999.000,9, -999.000,9,   -999.0,9,   -999.0,9,   -999.0,9,  -999.00,9,  6.7560, -999.00,9,  601.0,2, -999.00,9
35LLETAMBOT1_1,  AR04,    38,  1,     17,   17.0,2,19950919,1802,  7.0002, -35.0002,   15,    787.3,2,   5.7784,2,  34.6147,2,  34.6146,2,    119.6,2,    119.4,2,    26.87,2,    35.81,2,     0.00,2,     2.26,2,    0.067,2,    0.029,2,   -999.0,9,   -999.0,9,   -999.0,9,  -999.00,9,  5.7092, -999.00,9,  789.0,2, -999.00,9
35LLETAMBOT1_1,  AR04,    38,  1,     16,   16.0,2,19950919,1802,  7.0002, -35.0002,   15,    996.6,2,   4.9371,2,  34.6719,2,  34.6634,2,    142.0,2,    140.0,2,    29.60,2,    34.22,2,     0.00,2,     2.19,2,    0.043,2,    0.020,2,   -999.0,9,   -999.0,9,   -999.0,9,  -999.00,9,  4.8543, -999.00,9,  999.0,2, -999.00,9
35LLETAMBOT1_1,  AR04,    38,  1,     15,   15.0,2,19950919,1802,  7.0002, -35.0002,   15,   1198.0,2,   4.7799,2,  34.8139,2,  34.8233,2,    168.1,2,    168.1,2,    25.74,2,    29.46,2,     0.00,2,     1.87,2,    0.035,2,    0.022,2,   -999.0,9,   -999.0,9,   -999.0,9,  -999.00,9,  4.6798, -999.00,9, 1198.0,2, -999.00,9
35LLETAMBOT1_1,  AR04,    38,  1,     13,   13.0,2,19950919,1802,  7.0002, -35.0002,   15,   1397.8,2,   4.6157,2,  34.9372,2,  34.9400,2,    204.6,2,    205.4,2,    20.82,2,    24.55,2,     0.00,2,     1.54,2,    0.080,2,    0.038,2,   -999.0,9,   -999.0,9,   -999.0,9,  -999.00,9,  4.4983, -999.00,9, 1400.0,2, -999.00,9
35LLETAMBOT1_1,  AR04,    38,  1,     14,   14.0,2,19950919,1802,  7.0002, -35.0002,   15,   1397.8,2,   4.6157,2,  34.9372,2,  34.9407,2,    204.6,2,    206.3,2,    20.73,2,    24.51,2,     0.00,2,     1.52,2,    0.062,2,    0.034,2,   -999.0,9,   -999.0,9,   -999.0,9,  -999.00,9,  4.4983, -999.00,9, 1400.0,2, -999.00,9
35LLETAMBOT1_1,  AR04,    38,  1,     12,   12.0,2,19950919,1802,  7.0002, -35.0002,   15,   1497.4,2,   4.5003,2,  34.9781,2,  34.9800,2,    224.5,2,    227.0,2,    18.00,2,    22.13,2,     0.00,2,     1.39,2,    0.133,2,    0.067,2,   -999.0,9,   -999.0,9,   -999.0,9,  -999.00,9,  4.3747, -999.00,9, 1499.0,2, -999.00,9
35LLETAMBOT1_1,  AR04,    38,  1,     11,   11.0,2,19950919,1802,  7.0002, -35.0002,   15,   1598.5,2,   4.2846,2,  34.9837,2,  34.9857,2,    235.8,2,    234.0,2,    17.46,2,    21.16,2,     0.00,2,     1.33,2,    0.129,2,    0.069,2,   -999.0,9,   -999.0,9,   -999.0,9,  -999.00,9,  4.1519, -999.00,9, 1600.0,2, -999.00,9
35LLETAMBOT1_1,  AR04,    38,  1,     10,   10.0,2,19950919,1802,  7.0002, -35.0002,   15,   1696.0,2,   4.0576,2,  34.9830,2,  34.9840,2,    242.9,2,    245.9,3,    17.41,2,    20.56,2,     0.00,2,     1.28,2,    0.102,2,    0.056,2,   -999.0,9,   -999.0,9,   -999.0,9,  -999.00,9,  3.9185, -999.00,9, 1698.0,2, -999.00,9
35LLETAMBOT1_1,  AR04,    38,  1,      9,    9.0,2,19950919,1802,  7.0002, -35.0002,   15,   1796.8,2,   3.7964,2,  34.9746,2,  34.9768,2,    247.4,2,    246.1,2,    18.93,2,    20.39,2,     0.00,2,     1.27,2,    0.066,2,    0.043,2,   -999.0,9,   -999.0,9,   -999.0,9,  -999.00,9,  3.6512, -999.00,9, 1797.0,2, -999.00,9
35LLETAMBOT1_1,  AR04,    38,  1,      8,    8.0,2,19950919,1802,  7.0002, -35.0002,   15,   1897.4,2,   3.6582,2,  34.9714,2,  34.9720,2,    250.1,2,    249.0,2,    19.72,2,    20.20,2,     0.00,2,     1.27,2,    0.056,2,    0.029,2,   -999.0,9,   -999.0,9,   -999.0,9,  -999.00,9,  3.5055, -999.00,9, 1898.0,2, -999.00,9
35LLETAMBOT1_1,  AR04,    38,  1,      7,    7.0,2,19950919,1802,  7.0002, -35.0002,   15,   1996.3,2,   3.5237,2,  34.9659,2,  34.9670,2,    251.2,2,    251.1,2,    20.86,2,    19.97,2,     0.00,2,     1.27,2,    0.061,2,    0.032,2,   -999.0,9,   -999.0,9,   -999.0,9,  -999.00,9,  3.3636, -999.00,9, 1997.0,2, -999.00,9
35LLETAMBOT1_1,  AR04,    38,  1,      6,    6.0,2,19950919,1802,  7.0002, -35.0002,   15,   2197.4,2,   3.2676,2,  34.9547,2,  34.9540,2,    252.1,2,    252.2,2,    24.17,2,    20.09,2,     0.00,2,     1.27,2,    0.043,2,    0.027,2,   -999.0,9,   -999.0,9,   -999.0,9,  -999.00,9,  3.0923, -999.00,9, 2199.0,2, -999.00,9
35LLETAMBOT1_1,  AR04,    38,  1,      5,    5.0,2,19950919,1802,  7.0002, -35.0002,   15,   2398.4,2,   3.0470,2,  34.9439,2,  34.9429,2,    252.1,2,    253.7,2,    27.37,2,    20.25,2,     0.00,2,     1.30,2,    0.043,2,    0.027,2,   -999.0,9,   -999.0,9,   -999.0,9,  -999.00,9,  2.8561, -999.00,9, 2399.0,2, -999.00,9
35LLETAMBOT1_1,  AR04,    38,  1,      4,    4.0,2,19950919,1802,  7.0002, -35.0002,   15,   2599.6,2,   2.9238,2,  34.9369,2,  34.9366,2,    253.2,2,    253.9,2,    28.93,2,    20.16,2,     0.00,2,     1.30,2,    0.053,2,    0.028,2,   -999.0,9,   -999.0,9,   -999.0,9,  -999.00,9,  2.7155, -999.00,9, 2601.0,2, -999.00,9
35LLETAMBOT1_1,  AR04,    38,  1,      3,    3.0,2,19950919,1802,  7.0002, -35.0002,   15,   2800.0,2,   2.8122,2,  34.9302,2,  34.9297,2,    253.8,2,    254.1,2,    30.47,2,    20.23,2,     0.00,2,     1.32,2,    0.048,2,    0.028,2,   -999.0,9,   -999.0,9,   -999.0,9,  -999.00,9,  2.5860, -999.00,9, 2802.0,2, -999.00,9
35LLETAMBOT1_1,  AR04,    38,  1,      2,    2.0,2,19950919,1802,  7.0002, -35.0002,   15,   2999.4,2,   2.7450,2,  34.9254,2,  34.9240,2,    255.4,2,    254.6,2,    31.96,2,    20.22,2,     0.00,2,     1.32,2,    0.046,2,    0.033,2,   -999.0,9,   -999.0,9,   -999.0,9,  -999.00,9,  2.4999, -999.00,9, 3002.0,2, -999.00,9
35LLETAMBOT1_1,  AR04,    38,  1,      1,    1.0,2,19950919,1802,  7.0002, -35.0002,   15,   3120.6,2,   2.7222,2,  34.9232,2,  34.9240,2,    255.6,2,    254.9,2,    32.45,2,    20.11,2,     0.00,2,     1.32,2,    0.031,2,    0.028,2,   -999.0,9,   -999.0,9,   -999.0,9,  -999.00,9,  2.4650, -999.00,9, 3122.0,2, -999.00,9
35LLETAMBOT1_1,  AR04,    39,  1,     22,   22.0,2,19950920,0345,  6.3283, -34.9970,   15,     12.4,2,  28.4168,2,  34.6817,2,  34.9120,2,    199.4,2,    200.0,2,     1.83,2,     0.00,2,     0.00,2,     0.00,2, -999.000,9, -999.000,9,   1948.1,2,    349.5,2,   2324.8,2,     8.08,2, 28.4138,    0.15,2,   14.0,2,    0.04,2
35LLETAMBOT1_1,  AR04,    39,  1,     21,   21.0,2,19950920,0345,  6.3283, -34.9970,   15,     47.7,2,  27.9514,2,  35.8911,2,  35.8507,2,    202.8,2,    201.1,2,     1.06,2,     0.00,2,     0.00,2,     0.02,2, -999.000,9, -999.000,9,   1970.3,2,   -999.0,9,   2347.0,2,     8.07,2, 27.9401, -999.00,9,   49.0,2, -999.00,9
35LLETAMBOT1_1,  AR04,    39,  1,     20,   20.0,2,19950920,0345,  6.3283, -34.9970,   15,    122.2,2,  21.5603,2,  36.2304,2,  36.2590,2,    167.0,2,    168.6,2,     1.50,2,     1.99,2,     0.07,2,     0.16,2, -999.000,9, -999.000,9,   2103.5,2,   -999.0,9,   2431.0,2,     8.08,2, 21.5363, -999.00,9,  125.0,2, -999.00,9
35LLETAMBOT1_1,  AR04,    39,  1,     19,   19.0,2,19950920,0345,  6.3283, -34.9970,   15,    299.9,2,  10.0976,2,  34.9529,2,  34.9530,2,    130.7,2,    131.4,2,    12.18,2,    25.53,2,     0.01,2,     1.66,2, -999.000,9, -999.000,9,   2195.3,2,   -999.0,9,   2334.3,2,     7.91,2, 10.0624, -999.00,9,  302.0,2, -999.00,9
35LLETAMBOT1_1,  AR04,    39,  1,     18,   18.0,2,19950920,0345,  6.3283, -34.9970,   15,    597.7,2,   7.2028,2,  34.6824,2,  34.6809,2,    115.3,2,    112.5,2,    21.04,2,    33.65,2,     0.01,2,     2.19,2, -999.000,9, -999.000,9,   2223.1,2,   -999.0,9,   2314.3,2,     7.82,2,  7.1446, -999.00,9,  600.0,2, -999.00,9
35LLETAMBOT1_1,  AR04,    39,  1,     17,   17.0,2,19950920,0345,  6.3283, -34.9970,   15,    796.4,2,   5.6441,2,  34.5991,2,  34.6014,2,    130.0,2,    126.5,2,    27.31,2,    35.09,2,     0.00,2,     2.31,2,    0.059,2,    0.026,2,   2243.5,3,   -999.0,9,   2333.0,3,     7.83,2,  5.5749, -999.00,9,  798.0,2, -999.00,9
35LLETAMBOT1_1,  AR04,    39,  1,     16,   16.0,2,19950920,0345,  6.3283, -34.9970,   15,    995.2,2,   5.0030,2,  34.6614,2,  34.6644,2,    140.2,2,    138.1,2,    29.65,2,    33.82,2,     0.00,2,     2.27,2,    0.012,2,    0.003,2,   2222.3,2,   -999.0,9,   2316.1,2,     7.84,2,  4.9198, -999.00,9,  997.0,2, -999.00,9
35LLETAMBOT1_1,  AR04,    39,  1,     14,   14.0,2,19950920,0345,  6.3283, -34.9970,   15,   1295.6,2,   4.7614,2,  34.8927,2,  34.9190,2,    188.9,2,    195.4,2,    21.70,2,    25.31,2,     0.00,2,     1.68,2,    0.047,2,    0.020,2,   2196.2,2,   -999.0,9,   2332.9,2,     7.95,2,  4.6522, -999.00,9, 1297.0,2, -999.00,9
35LLETAMBOT1_1,  AR04,    39,  1,     15,   15.0,2,19950920,0345,  6.3283, -34.9970,   15,   1295.6,2,   4.7614,2,  34.8927,2,  34.9180,2,    188.9,2,    194.8,2,    21.78,2,    25.27,2,     0.00,2,     1.69,2,    0.053,2,    0.023,2,   2202.1,2,   -999.0,9,   2339.0,2,     7.95,2,  4.6522, -999.00,9, 1297.0,2, -999.00,9
35LLETAMBOT1_1,  AR04,    39,  1,     13,   13.0,2,19950920,0345,  6.3283, -34.9970,   15,   1593.7,2,   4.2154,2,  34.9789,2,  34.9827,2,    236.1,2,    237.1,2,    17.52,2,    20.59,2,     0.00,2,     1.36,2,    0.096,2,    0.043,2,   2196.0,2,   -999.0,9,   2358.9,2,     8.01,2,  4.0840, -999.00,9, 1595.0,2, -999.00,9
35LLETAMBOT1_1,  AR04,    39,  1,     12,   12.0,2,19950920,0345,  6.3283, -34.9970,   15,   1695.8,2,   4.0875,2,  34.9824,2,  34.9844,2,    243.1,2,    242.7,2,    17.30,2,    19.98,2,     0.00,2,     1.32,2,    0.106,2,    0.043,2,   2155.5,2,   -999.0,9,   2319.0,2,     8.01,2,  3.9480, -999.00,9, 1698.0,2, -999.00,9
35LLETAMBOT1_1,  AR04,    39,  1,     11,   11.0,2,19950920,0345,  6.3283, -34.9970,   15,   1797.0,2,   3.9116,2,  34.9809,2,  34.9803,2,    249.1,2,    246.9,2,    17.97,2,    19.73,2,     0.00,2,     1.30,2,    0.068,2,    0.029,2,   2148.4,2,   -999.0,9,   2313.8,2,     8.02,2,  3.7649, -999.00,9, 1798.0,2, -999.00,9
35LLETAMBOT1_1,  AR04,    39,  1,     10,   10.0,2,19950920,0345,  6.3283, -34.9970,   15,   1898.3,2,   3.6531,2,  34.9724,2,  34.9718,2,    253.0,2,    250.1,2,    19.81,2,    19.63,2,     0.00,2,     1.30,2,    0.045,2,    0.021,2,   2162.7,2,   -999.0,9,   2329.5,2,     8.02,2,  3.5004, -999.00,9, 1900.0,2, -999.00,9
35LLETAMBOT1_1,  AR04,    39,  1,      9,    9.0,2,19950920,0345,  6.3283, -34.9970,   15,   1997.1,2,   3.5329,2,  34.9669,2,  34.9670,2,    252.9,2,    251.5,2,    21.15,2,    19.56,2,     0.00,2,     1.31,2,    0.041,2,    0.014,2,   2175.7,2,   -999.0,9,   2343.1,2,     8.02,2,  3.3726, -999.00,9, 1998.0,2, -999.00,9
35LLETAMBOT1_1,  AR04,    39,  1,      8,    8.0,2,19950920,0345,  6.3283, -34.9970,   15,   2297.0,2,   3.2042,2,  34.9517,2,  34.9518,2,    253.5,2,    252.4,2,    24.93,2,    19.84,2,     0.00,2,     1.33,2,    0.022,2,    0.007,2,   2168.3,2,   -999.0,9,   2335.3,2,     8.01,2,  3.0204, -999.00,9, 2299.0,2, -999.00,9
35LLETAMBOT1_1,  AR04,    39,  1,      7,    7.0,2,19950920,0345,  6.3283, -34.9970,   15,   2599.7,2,   2.9342,2,  34.9374,2,  34.9369,2,    253.5,2,    254.3,2,    29.14,2,    19.95,2,     0.00,2,     1.35,2,    0.014,2,    0.008,2,   2165.8,2,   -999.0,9,   2333.4,2,     8.01,2,  2.7257, -999.00,9, 2601.0,2, -999.00,9
35LLETAMBOT1_1,  AR04,    39,  1,      6,    6.0,2,19950920,0345,  6.3283, -34.9970,   15,   2799.4,2,   2.8218,2,  34.9312,2,  34.9300,2,    254.9,2,    254.2,2,    30.61,2,    19.92,2,     0.00,2,     1.34,2,    0.015,2,    0.009,2,   2157.1,2,   -999.0,9,   2325.0,2,     8.00,2,  2.5955, -999.00,9, 2802.0,2, -999.00,9
35LLETAMBOT1_1,  AR04,    39,  1,      5,    5.0,2,19950920,0345,  6.3283, -34.9970,   15,   2998.3,2,   2.7114,2,  34.9234,2,  34.9214,2,    254.8,2,    254.9,2,    32.72,2,    19.99,2,     0.00,2,     1.35,2,    0.020,2,    0.005,2,   2161.9,2,   -999.0,9,   2329.7,2,     8.00,2,  2.4671, -999.00,9, 3000.0,2, -999.00,9
35LLETAMBOT1_1,  AR04,    39,  1,      4,    4.0,2,19950920,0345,  6.3283, -34.9970,   15,   3249.7,2,   2.5615,2,  34.9114,2,  34.9103,2,    254.7,2,    254.5,2,    36.27,2,    20.18,2,     0.02,2,     1.38,2,    0.036,2,    0.020,2,   2182.6,2,   -999.0,9,   2348.6,2,     7.98,2,  2.2944, -999.00,9, 3252.0,2, -999.00,9
35LLETAMBOT1_1,  AR04,    39,  1,      3,    3.0,2,19950920,0345,  6.3283, -34.9970,   15,   3599.7,2,   2.3431,2,  34.8919,2,  34.8916,2,    252.7,2,    253.6,2,    42.52,2,    21.48,2,     0.00,2,     1.41,2,    0.028,2,    0.010,2,   2179.2,2,   -999.0,9,   2342.7,2,     7.96,2,  2.0439, -999.00,9, 3600.0,2, -999.00,9
35LLETAMBOT1_1,  AR04,    39,  1,      2,    2.0,2,19950920,0345,  6.3283, -34.9970,   15,   3800.5,2,   2.2553,2,  34.8831,2,  34.8800,2,    252.6,2,    252.3,2,    46.16,2,    21.88,2,     0.00,2,     1.44,2,    0.020,2,    0.014,2,   2175.9,2,   -999.0,9,   2338.9,2,     7.96,2,  1.9364, -999.00,9, 3802.0,2, -999.00,9
35LLETAMBOT1_1,  AR04,    39,  1,      1,    1.0,2,19950920,0345,  6.3283, -34.9970,   15,   3961.2,2,   2.1730,2,  34.8740,2,  34.8747,2,    251.1,2,    251.9,2,    48.79,2,    22.18,2,     0.00,2,     1.44,2,    0.035,2,    0.023,2,   2182.5,2,   -999.0,9,   2344.0,2,     7.95,2,  1.8384, -999.00,9, 3962.0,2, -999.00,9