BOTTLE,20220929CCHSIOAMB
EXPOCODE,SECT_ID,STNNBR,CASTNO,SAMPNO,BTLNBR,BTLNBR_FLAG_W,DATE,TIME,LATITUDE,LONGITUDE,DEPTH,CTDPRS,CTDTMP,CTDSAL,CTDSAL_FLAG_W,SALNTY,SALNTY_FLAG_W,CTDOXY,CTDOXY_FLAG_W,OXYGEN,OXYGEN_FLAG_W,THETA
,,,,,,,,,,,,DBAR,ITS-90,PSS-78,,PSS-78,,UMOL/KG,,UMOL/KG,,DEG C
     49HH915_2,  P13C,   C40,  1,     23a,     22,2,19910919,1130,  1.0010, 165.0033, 4327,     20.7,  29.2621,  34.1809,2,  34.1734,2,    195.3,3,    208.4,2, 29.2571
     49HH915_2,  P13C,   C40,  1,     23b,     23,2,19910919,1130,  1.0010, 165.0033, 4327,     20.7,  29.2621,  34.1809,2,  34.1766,2,    195.3,3,    202.7,2, 29.2571
     49HH915_2,  P13C,   C40,  1,     21a,     20,2,19910919,1130,  1.0010, 165.0033, 4327,    100.9,  28.7293,  34.9266,2,  34.9279,2,    182.6,2,    188.0,2, 28.7051
     49HH915_2,  P13C,   C40,  1,     21b,     21,2,19910919,1130,  1.0010, 165.0033, 4327,    100.9,  28.7293,  34.9266,2,  34.9295,2,    182.6,2,    186.8,2, 28.7051
     49HH915_2,  P13C,   C40,  1,     19,     19,2,19910919,1130,  1.0010, 165.0033, 4327,    200.9,  15.0093,  34.8939,2,  34.8980,2,    137.1,2,    144.1,2, 14.9789
     49HH915_2,  P13C,   C40,  1,     18,     18,2,19910919,1130,  1.0010, 165.0033, 4327,    301.2,  11.9335,  34.8473,2,  34.8461,2,    116.7,3,    131.4,2, 11.8942
     49HH915_2,  P13C,   C40,  1,     17,     17,2,19910919,1130,  1.0010, 165.0033, 4327,    401.6,   9.8291,  34.7108,2,  34.7080,2,     95.7,2,     93.6,2,  9.7827
     49HH915_2,  P13C,   C40,  1,     16,     16,2,19910919,1130,  1.0010, 165.0033, 4327,    502.1,   8.2388,  34.6273,3,  34.6093,2,     92.7,3,    103.8,2,  8.1864
     49HH915_2,  P13C,   C40,  1,     15,     15,2,19910919,1130,  1.0010, 165.0033, 4327,    601.8,   6.9574,  34.5621,2,  34.5582,2,     97.5,2,    100.4,2,  6.9000
     49HH915_2,  P13C,   C40,  1,     14,     14,2,19910919,1130,  1.0010, 165.0033, 4327,    702.0,   5.9077,  34.5662,3,  34.5362,2,     98.7,3,    106.5,2,  5.8458
     49HH915_2,  P13C,   C40,  1,     13,     13,2,19910919,1130,  1.0010, 165.0033, 4327,    802.1,   5.3265,  34.5375,2,  34.5397,2,     93.5,2,     96.7,2,  5.2588
     49HH915_2,  P13C,   C40,  1,     12,     12,2,19910919,1130,  1.0010, 165.0033, 4327,    901.6,   5.0369,  34.5425,2,  34.5441,2,     93.5,2,     95.0,2,  4.9621
     49HH915_2,  P13C,   C40,  1,     11,     11,2,19910919,1130,  1.0010, 165.0033, 4327,   1002.4,   4.6833,  34.5509,2,  34.5515,2,     92.4,2,     91.1,2,  4.6021
     49HH915_2,  P13C,   C40,  1,     10,     10,2,19910919,1130,  1.0010, 165.0033, 4327,   1202.3,   3.8714,  34.5701,2,  34.5771,2,     96.5,2,    100.0,3,  3.7796
     49HH915_2,  P13C,   C40,  1,      9,      9,2,19910919,1130,  1.0010, 165.0033, 4327,   1402.5,   3.3152,  34.5899,2,  34.5893,2,    101.8,2,    100.9,2,  3.2120
     49HH915_2,  P13C,   C40,  1,      8,      8,2,19910919,1130,  1.0010, 165.0033, 4327,   1602.0,   2.8778,  34.6069,2,  34.6058,2,    109.4,2,    107.8,2,  2.7628
     49HH915_2,  P13C,   C40,  1,      7,      7,2,19910919,1130,  1.0010, 165.0033, 4327,   1802.1,   2.4564,  34.6266,2,  34.6250,2,    114.1,2,    114.6,2,  2.3300
     49HH915_2,  P13C,   C40,  1,      6,      6,2,19910919,1130,  1.0010, 165.0033, 4327,   2002.8,   2.2208,  34.6387,2,  34.6400,2,    117.1,2,    121.1,2,  2.0807
     49HH915_2,  P13C,   C40,  1,      5,      5,2,19910919,1130,  1.0010, 165.0033, 4327,   2502.6,   1.9012,  34.6541,2,  34.6569,2,    126.8,2,    127.7,2,  1.7225
     49HH915_2,  P13C,   C40,  1,      4,      4,2,19910919,1130,  1.0010, 165.0033, 4327,   3003.0,   1.6756,  34.6678,2,  34.6655,2,    138.0,2,    140.3,2,  1.4547
     49HH915_2,  P13C,   C40,  1,      3,      3,2,19910919,1130,  1.0010, 165.0033, 4327,   3503.3,   1.5437,  34.6807,2,  34.6789,2,    150.8,2,    152.1,2,  1.2761
     49HH915_2,  P13C,   C40,  1,      2a,      1,2,19910919,1130,  1.0010, 165.0033, 4327,   4004.3,   1.4459,  34.6889,2,  34.6903,2,    168.2,2,    169.0,2,  1.1280
     49HH915_2,  P13C,   C40,  1,      2b,      2,2,19910919,1130,  1.0010, 165.0033, 4327,   4004.3,   1.4459,  34.6889,2,  34.6883,2,    168.2,2,    170.4,2,  1.1280
     49HH915_2,  P13C,   C41,  1,     23,     23,2,19910919,1613,  1.5047, 165.0042, 4257,     20.2,  29.3831,  34.2707,2,-999.0000,9,    193.4,3,    203.8,2, 29.3773
     49HH915_2,  P13C,   C41,  1,     22,     22,2,19910919,1613,  1.5047, 165.0042, 4257,     50.5,  29.1621,  34.3424,2,-999.0000,9,    193.0,3,    201.2,2, 29.1477
     49HH915_2,  P13C,   C41,  1,     21,     21,2,19910919,1613,  1.5047, 165.0042, 4257,    100.7,  28.7553,  34.8572,2,-999.0000,9,    189.6,3,    204.1,2, 28.7267
     49HH915_2,  P13C,   C41,  1,     20a,     19,2,19910919,1613,  1.5047, 165.0042, 4257,    149.6,  24.0921,  35.1071,2,-999.0000,9,    134.1,3,   -999.0,1, 24.0521
     49HH915_2,  P13C,   C41,  1,     20b,     20,2,19910919,1613,  1.5047, 165.0042, 4257,    149.6,  24.0921,  35.1071,2,-999.0000,9,    134.1,3,    144.9,2, 24.0521
     49HH915_2,  P13C,   C41,  1,     18,     18,2,19910919,1613,  1.5047, 165.0042, 4257,    300.7,  10.8043,  34.7689,2,-999.0000,9,     98.4,2,    102.7,2, 10.7397
     49HH915_2,  P13C,   C41,  1,     17,     17,2,19910919,1613,  1.5047, 165.0042, 4257,    401.2,   9.4914,  34.6764,2,-999.0000,9,    116.6,2,    115.9,2,  9.4074
     49HH915_2,  P13C,   C41,  1,     16,     16,2,19910919,1613,  1.5047, 165.0042, 4257,    501.1,   8.2587,  34.6039,2,-999.0000,9,    108.9,2,    112.8,2,  8.1565
     49HH915_2,  P13C,   C41,  1,     15,     15,2,19910919,1613,  1.5047, 165.0042, 4257,    601.7,   6.7266,  34.5622,2,-999.0000,9,     90.6,2,     91.7,2,  6.6081
     49HH915_2,  P13C,   C41,  1,     14,     14,2,19910919,1613,  1.5047, 165.0042, 4257,    701.7,   5.9946,  34.5333,2,-999.0000,9,     97.7,3,    106.4,2,  5.8586
     49HH915_2,  P13C,   C41,  1,     13,     13,2,19910919,1613,  1.5047, 165.0042, 4257,    801.1,   5.3015,  34.5430,2,-999.0000,9,     92.8,2,     96.8,2,  5.1487
     49HH915_2,  P13C,   C41,  1,     12,     12,2,19910919,1613,  1.5047, 165.0042, 4257,    901.7,   4.8281,  34.5455,2,-999.0000,9,     94.5,2,     98.4,2,  4.6579
     49HH915_2,  P13C,   C41,  1,     11,     11,2,19910919,1613,  1.5047, 165.0042, 4257,   1001.6,   4.5056,  34.5540,2,-999.0000,9,     91.2,2,     94.7,2,  4.3177
     49HH915_2,  P13C,   C41,  1,     10,     10,2,19910919,1613,  1.5047, 165.0042, 4257,   1202.3,   3.7945,  34.5761,2,-999.0000,9,     97.1,2,     94.1,2,  3.5723
     49HH915_2,  P13C,   C41,  1,      9,      9,2,19910919,1613,  1.5047, 165.0042, 4257,   1402.2,   3.3811,  34.5960,2,-999.0000,9,     98.5,2,     99.5,2,  3.1237
     49HH915_2,  P13C,   C41,  1,      8a,      7,2,19910919,1613,  1.5047, 165.0042, 4257,   1602.4,   3.0156,  34.6020,2,-999.0000,9,    102.7,2,    101.5,2,  2.7231
     49HH915_2,  P13C,   C41,  1,      8b,      8,2,19910919,1613,  1.5047, 165.0042, 4257,   1602.4,   3.0156,  34.6020,2,-999.0000,9,    102.7,2,    100.7,2,  2.7231
     49HH915_2,  P13C,   C41,  1,      5a,      5,2,19910919,1613,  1.5047, 165.0042, 4257,   2502.3,   1.8942,  34.6568,2,-999.0000,9,    125.7,2,    129.3,2,  1.4424
     49HH915_2,  P13C,   C41,  1,      5b,      6,2,19910919,1613,  1.5047, 165.0042, 4257,   2502.3,   1.8942,  34.6568,2,-999.0000,9,    125.7,2,    127.4,2,  1.4424
     49HH915_2,  P13C,   C41,  1,      4a,      3,2,19910919,1613,  1.5047, 165.0042, 4257,   3002.5,   1.6756,  34.6692,2,-999.0000,9,    137.8,2,    140.5,2,  1.1308
     49HH915_2,  P13C,   C41,  1,      4b,      4,2,19910919,1613,  1.5047, 165.0042, 4257,   3002.5,   1.6756,  34.6692,2,-999.0000,9,    137.8,2,    139.6,2,  1.1308
     49HH915_2,  P13C,   C41,  1,      2,      2,2,19910919,1613,  1.5047, 165.0042, 4257,   4004.0,   1.4259,  34.6906,2,-999.0000,9,    167.3,2,    170.5,2,  0.6889
     49HH915_2,  P13C,   C41,  1,      1a,      1,2,19910919,1613,  1.5047, 165.0042, 4257,   4264.5,   1.3810,  34.6967,2,-999.0000,9,    173.5,3,    179.2,2,  0.5929
     49HH915_2,  P13C,   C41,  1,      1b,     24,2,19910919,1613,  1.5047, 165.0042, 4257,   4264.5,   1.3810,  34.6967,2,-999.0000,9,    173.5,3,    179.5,2,  0.5929
     49HH915_2,  P13C,   C42,  1,     24a,     23,2,19910919,2103,  2.0072, 165.0000, 4170,     20.5,  29.0332,  34.2886,2,  34.2868,2,    196.3,3,    200.8,2, 29.0282
     49HH915_2,  P13C,   C42,  1,     24b,     24,2,19910919,2103,  2.0072, 165.0000, 4170,     20.5,  29.0332,  34.2886,2,  34.2892,2,    196.3,3,    203.1,2, 29.0282
     49HH915_2,  P13C,   C42,  1,     22,     22,2,19910919,2103,  2.0072, 165.0000, 4170,    100.3,  28.3974,  35.0806,2,  35.1064,2,    181.8,2,    180.1,2, 28.3735
     49HH915_2,  P13C,   C42,  1,     21,     21,2,19910919,2103,  2.0072, 165.0000, 4170,    150.6,  23.6264,  35.0634,2,  35.0910,2,    126.8,4,    182.1,2, 23.5950
     49HH915_2,  P13C,   C42,  1,     20a,     19,2,19910919,2103,  2.0072, 165.0000, 4170,    201.8,  13.5603,  34.6397,2,  34.5983,2,    147.2,2,    146.7,2, 13.5318
     49HH915_2,  P13C,   C42,  1,     20b,     20,2,19910919,2103,  2.0072, 165.0000, 4170,    201.8,  13.5603,  34.6397,2,  34.5967,2,    147.2,2,    146.9,2, 13.5319
     49HH915_2,  P13C,   C42,  1,     18,     18,2,19910919,2103,  2.0072, 165.0000, 4170,    401.3,   9.3395,  34.6658,2,  34.6651,2,    117.3,2,    111.9,2,  9.2946
     49HH915_2,  P13C,   C42,  1,     17,     17,2,19910919,2103,  2.0072, 165.0000, 4170,    501.8,   8.3087,  34.6119,2,  34.6097,2,    117.5,2,    116.9,2,  8.2561
     49HH915_2,  P13C,   C42,  1,     16,     16,2,19910919,2103,  2.0072, 165.0000, 4170,    602.2,   6.8825,  34.5490,2,  34.5492,2,    100.4,2,    100.6,2,  6.8254
     49HH915_2,  P13C,   C42,  1,     15,     15,2,19910919,2103,  2.0072, 165.0000, 4170,    703.3,   5.9217,  34.5368,2,  34.5370,2,     96.9,2,     96.2,2,  5.8596
     49HH915_2,  P13C,   C42,  1,     14,     14,2,19910919,2103,  2.0072, 165.0000, 4170,    803.6,   5.1267,  34.5392,2,  34.5390,2,    104.5,3,     96.5,2,  5.0601
     49HH915_2,  P13C,   C42,  1,     13,     13,2,19910919,2103,  2.0072, 165.0000, 4170,    901.4,   4.7103,  34.5482,2,  34.5476,2,    101.7,2,    100.6,2,  4.6378
     49HH915_2,  P13C,   C42,  1,     12,     12,2,19910919,2103,  2.0072, 165.0000, 4170,   1001.1,   4.4067,  34.5555,2,  34.5488,2,    100.8,2,     98.8,2,  4.3277
     49HH915_2,  P13C,   C42,  1,     11,     11,2,19910919,2103,  2.0072, 165.0000, 4170,   1201.9,   3.7856,  34.5738,2,  34.5720,2,    101.4,2,     97.6,2,  3.6947
     49HH915_2,  P13C,   C42,  1,     10,     10,2,19910919,2103,  2.0072, 165.0000, 4170,   1402.1,   3.3492,  34.5890,2,  34.5897,2,     97.3,2,     98.3,2,  3.2457
     49HH915_2,  P13C,   C42,  1,      9,      9,3,19910919,2103,  2.0072, 165.0000, 4170,   1602.1,   2.8349,  34.6076,2,  34.6199,3,    106.4,2,    137.8,4,  2.7204
     49HH915_2,  P13C,   C42,  1,      8a,      7,2,19910919,2103,  2.0072, 165.0000, 4170,   1802.3,   2.5054,  34.6232,2,  34.6227,2,    111.1,2,    111.0,2,  2.3783
     49HH915_2,  P13C,   C42,  1,      8b,      8,2,19910919,2103,  2.0072, 165.0000, 4170,   1802.3,   2.5054,  34.6232,2,  34.6223,2,    111.1,2,    111.6,2,  2.3783
     49HH915_2,  P13C,   C42,  1,      5,      5,2,19910919,2103,  2.0072, 165.0000, 4170,   2503.5,   1.8533,  34.6581,2,  34.6585,2,    132.4,2,    129.4,2,  1.6754
     49HH915_2,  P13C,   C42,  1,      6,      6,3,19910919,2103,  2.0072, 165.0000, 4170,   2504.7,   1.8533,  34.6588,2,  34.6537,2,    130.4,2,    138.5,4,  1.6753
     49HH915_2,  P13C,   C42,  1,      4a,      3,2,19910919,2103,  2.0072, 165.0000, 4170,   3002.8,   1.6805,  34.6687,2,  34.6675,2,    141.6,2,    141.8,2,  1.4595
     49HH915_2,  P13C,   C42,  1,      4b,      4,2,19910919,2103,  2.0072, 165.0000, 4170,   3002.8,   1.6805,  34.6687,2,  34.6691,2,    141.6,2,    139.5,2,  1.4595
     49HH915_2,  P13C,   C42,  1,      2a,      1,2,19910919,2103,  2.0072, 165.0000, 4170,   4004.5,   1.4509,  34.6885,2,  34.6883,2,    170.4,2,    168.1,2,  1.1328
     49HH915_2,  P13C,   C42,  1,      2b,      2,2,19910919,2103,  2.0072, 165.0000, 4170,   4004.5,   1.4509,  34.6885,2,  34.6883,2,    170.4,2,    168.2,2,  1.1328
     49HH915_2,  P13C,   C43,  1,     24,     24,2,19910920,0133,  2.5035, 165.0098, 4123,      7.7,  29.2561,  34.2076,2,-999.0000,9,    190.1,3,    202.6,2, 29.2539
     49HH915_2,  P13C,   C43,  1,     23,     23,2,19910920,0133,  2.5035, 165.0098, 4123,     17.3,  29.1072,  34.1995,2,-999.0000,9,    187.4,3,    207.0,2, 29.1023
     49HH915_2,  P13C,   C43,  1,     21a,     21,2,19910920,0133,  2.5035, 165.0098, 4123,     97.9,  27.9266,  35.2066,2,-999.0000,9,    156.9,3,    172.9,2, 27.8991
     49HH915_2,  P13C,   C43,  1,     21b,     22,2,19910920,0133,  2.5035, 165.0098, 4123,     97.9,  27.9266,  35.2066,2,-999.0000,9,    156.9,3,    173.2,2, 27.8991
     49HH915_2,  P13C,   C43,  1,     20,     20,2,19910920,0133,  2.5035, 165.0098, 4123,    147.9,  25.0857,  35.1398,2,-999.0000,9,    132.2,3,    144.0,2, 25.0456
     49HH915_2,  P13C,   C43,  1,     19,     19,2,19910920,0133,  2.5035, 165.0098, 4123,    197.4,  14.9064,  34.6462,2,-999.0000,9,    133.2,3,    144.8,2, 14.8605
     49HH915_2,  P13C,   C43,  1,     18,     18,2,19910920,0133,  2.5035, 165.0098, 4123,    297.5,  10.2428,  34.7244,2,-999.0000,9,    107.2,2,    109.6,2, 10.1796
     49HH915_2,  P13C,   C43,  1,     17,     17,2,19910920,0133,  2.5035, 165.0098, 4123,    400.1,   9.0258,  34.6491,2,-999.0000,9,    108.5,3,    115.0,2,  8.9429
     49HH915_2,  P13C,   C43,  1,     16,     16,2,19910920,0133,  2.5035, 165.0098, 4123,    497.5,   8.3686,  34.6124,2,-999.0000,9,    107.9,2,    109.1,2,  8.2669
     49HH915_2,  P13C,   C43,  1,     14a,     14,2,19910920,0133,  2.5035, 165.0098, 4123,    698.1,   6.1784,  34.5405,2,-999.0000,9,     82.8,2,     82.2,2,  6.0425
     49HH915_2,  P13C,   C43,  1,     14b,     15,2,19910920,0133,  2.5035, 165.0098, 4123,    698.1,   6.1784,  34.5405,2,-999.0000,9,     82.8,2,     83.4,2,  6.0425
     49HH915_2,  P13C,   C43,  1,     12a,     12,2,19910920,0133,  2.5035, 165.0098, 4123,    898.2,   4.8321,  34.5476,2,-999.0000,9,     86.0,3,     91.4,2,  4.6625
     49HH915_2,  P13C,   C43,  1,     12b,     13,2,19910920,0133,  2.5035, 165.0098, 4123,    898.2,   4.8321,  34.5476,2,-999.0000,9,     86.0,2,     91.6,2,  4.6625
     49HH915_2,  P13C,   C43,  1,     11,     11,2,19910920,0133,  2.5035, 165.0098, 4123,    999.0,   4.4686,  34.5529,2,-999.0000,9,     92.0,3,     98.4,2,  4.2814
     49HH915_2,  P13C,   C43,  1,     10,     10,2,19910920,0133,  2.5035, 165.0098, 4123,   1198.6,   3.8844,  34.5713,2,-999.0000,9,     93.3,3,     99.5,2,  3.6624
     49HH915_2,  P13C,   C43,  1,      9,      9,3,19910920,0133,  2.5035, 165.0098, 4123,   1399.4,   3.3322,  34.5891,2,-999.0000,9,     96.6,3,    104.3,2,  3.0757
     49HH915_2,  P13C,   C43,  1,      7a,      7,2,19910920,0133,  2.5035, 165.0098, 4123,   1799.5,   2.5323,  34.6227,2,-999.0000,9,    109.0,2,    111.9,2,  2.2068
     49HH915_2,  P13C,   C43,  1,      7b,      8,2,19910920,0133,  2.5035, 165.0098, 4123,   1799.5,   2.5323,  34.6227,2,-999.0000,9,    109.0,2,    111.5,2,  2.2068
     49HH915_2,  P13C,   C43,  1,      5,      6,2,19910920,0133,  2.5035, 165.0098, 4123,   2499.8,   1.8144,  34.6609,2,-999.0000,9,    124.4,3,    129.6,2,  1.3641
     49HH915_2,  P13C,   C43,  1,      4,      5,2,19910920,0133,  2.5035, 165.0098, 4123,   2999.2,   1.6446,  34.6705,2,-999.0000,9,    136.9,3,    141.9,2,  1.1009
     49HH915_2,  P13C,   C43,  1,      3a,      3,2,19910920,0133,  2.5035, 165.0098, 4123,   3500.5,   1.5467,  34.6788,2,-999.0000,9,    147.6,3,    152.2,2,  0.9070
     49HH915_2,  P13C,   C43,  1,      3b,      4,2,19910920,0133,  2.5035, 165.0098, 4123,   3500.5,   1.5467,  34.6788,2,-999.0000,9,    147.6,3,    152.9,2,  0.9070
     49HH915_2,  P13C,   C43,  1,      2,      2,2,19910920,0133,  2.5035, 165.0098, 4123,   4001.8,   1.4329,  34.6903,2,-999.0000,9,    165.0,3,    174.4,2,  0.6962
     49HH915_2,  P13C,   C43,  1,      1,      1,2,19910920,0133,  2.5035, 165.0098, 4123,   4111.6,   1.4119,  34.6933,2,-999.0000,9,    164.7,3,    174.6,2,  0.6537