BOTTLE,20220929CCHSIOAMB
EXPOCODE,SECT_ID,STNNBR,CASTNO,SAMPNO,BTLNBR,BTLNBR_FLAG_W,DATE,TIME,LATITUDE,LONGITUDE,DEPTH,CTDPRS,CTDTMP,CTDSAL,CTDSAL_FLAG_W,SALNTY,SALNTY_FLAG_W,CTDOXY,CTDOXY_FLAG_W,OXYGEN,OXYGEN_FLAG_W,THETA
,,,,,,,,,,,,DBAR,ITS-90,PSS-78,,PSS-78,,UMOL/KG,,UMOL/KG,,DEG C
     49HH915_2,  P13C,   C53,  1,      9a,      8,2,19910922,1853, 10.9973, 164.9962, 4729,   1602.5,   2.7260,  34.6043,2,  34.6022,2,     96.1,3,     91.3,2,  2.6128
     49HH915_2,  P13C,   C53,  1,      9b,      9,2,19910922,1853, 10.9973, 164.9962, 4729,   1602.5,   2.7260,  34.6043,2,  34.6022,2,     96.1,3,     91.1,2,  2.6128
     49HH915_2,  P13C,   C53,  1,      7a,      6,2,19910922,1853, 10.9973, 164.9962, 4729,   2002.3,   2.1868,  34.6347,2,  34.6337,2,    112.4,2,    108.9,2,  2.0473
     49HH915_2,  P13C,   C53,  1,      7b,      7,2,19910922,1853, 10.9973, 164.9962, 4729,   2002.3,   2.1868,  34.6347,2,  34.6345,2,    112.4,2,    109.4,2,  2.0473
     49HH915_2,  P13C,   C53,  1,      5,      5,2,19910922,1853, 10.9973, 164.9962, 4729,   3002.6,   1.6905,  34.6680,2,  34.6675,2,    137.7,2,    134.8,2,  1.4693
     49HH915_2,  P13C,   C53,  1,      4a,      3,2,19910922,1853, 10.9973, 164.9962, 4729,   3503.4,   1.5567,  34.6780,2,  34.6773,2,    154.0,3,    147.9,2,  1.2888
     49HH915_2,  P13C,   C53,  1,      4b,      4,2,19910922,1853, 10.9973, 164.9962, 4729,   3503.4,   1.5567,  34.6780,2,  34.6773,2,    154.0,3,    148.6,2,  1.2888
     49HH915_2,  P13C,   C53,  1,      2a,      1,2,19910922,1853, 10.9973, 164.9962, 4729,   4504.5,   1.3970,  34.6966,2,  34.6958,2,    185.6,2,    182.1,2,  1.0246
     49HH915_2,  P13C,   C53,  1,      2b,      2,2,19910922,1853, 10.9973, 164.9962, 4729,   4504.5,   1.3970,  34.6966,2,  34.6970,2,    185.6,2,    182.1,2,  1.0246
     49HH915_2,  P13C,   C54,  1,     24,     24,2,19910923,0116, 11.4857, 164.9955, 4227,      7.6,  29.1791,  33.9197,2,  33.9221,2,    204.6,2,    201.0,2, 29.1773
     49HH915_2,  P13C,   C54,  1,     23,     23,2,19910923,0116, 11.4857, 164.9955, 4227,     16.5,  29.1691,  33.9504,2,  33.9574,2,    207.9,3,    200.6,2, 29.1651
     49HH915_2,  P13C,   C54,  1,     22,     22,2,19910923,0116, 11.4857, 164.9955, 4227,     47.0,  28.8682,  34.2174,2,  34.2425,2,    214.6,3,    205.8,2, 28.8569
     49HH915_2,  P13C,   C54,  1,     21a,     20,2,19910923,0116, 11.4857, 164.9955, 4227,     97.5,  24.3260,  34.7877,2,  34.7800,2,    203.5,2,    206.7,2, 24.3053
     49HH915_2,  P13C,   C54,  1,     21b,     21,2,19910923,0116, 11.4857, 164.9955, 4227,     97.5,  24.3260,  34.7877,2,  34.7843,2,    203.5,2,    207.8,2, 24.3053
     49HH915_2,  P13C,   C54,  1,     19a,     18,2,19910923,0116, 11.4857, 164.9955, 4227,    197.9,  13.5903,  34.4743,2,  34.4710,2,    124.5,3,    138.1,2, 13.5624
     49HH915_2,  P13C,   C54,  1,     19b,     19,2,19910923,0116, 11.4857, 164.9955, 4227,    197.9,  13.5903,  34.4743,2,  34.4722,2,    124.5,3,    138.1,2, 13.5624
     49HH915_2,  P13C,   C54,  1,     17,     17,2,19910923,0116, 11.4857, 164.9955, 4227,    398.3,   8.0150,  34.5340,2,  34.5323,2,     56.5,2,     54.4,2,  7.9744
     49HH915_2,  P13C,   C54,  1,     16a,     15,2,19910923,0116, 11.4857, 164.9955, 4227,    498.3,   7.2320,  34.5156,2,  34.5150,2,     64.7,2,     65.4,2,  7.1838
     49HH915_2,  P13C,   C54,  1,     16b,     16,2,19910923,0116, 11.4857, 164.9955, 4227,    498.3,   7.2320,  34.5156,2,  34.5138,2,     64.7,2,     65.7,2,  7.1838
     49HH915_2,  P13C,   C54,  1,     15,     14,2,19910923,0116, 11.4857, 164.9955, 4227,    598.8,   6.5828,  34.5136,2,  34.5134,2,     68.5,2,     67.6,2,  6.5274
     49HH915_2,  P13C,   C54,  1,     14,     13,2,19910923,0116, 11.4857, 164.9955, 4227,    698.8,   6.0096,  34.5184,2,  34.5177,2,     69.4,2,     69.9,2,  5.9475
     49HH915_2,  P13C,   C54,  1,     13,     12,2,19910923,0116, 11.4857, 164.9955, 4227,    798.4,   5.4813,  34.5257,2,  34.5248,2,     69.8,2,     71.1,2,  5.4130
     49HH915_2,  P13C,   C54,  1,     12,     11,2,19910923,0116, 11.4857, 164.9955, 4227,    899.0,   4.9440,  34.5347,2,  34.5452,2,     66.9,3,     60.4,2,  4.8701
     49HH915_2,  P13C,   C54,  1,     11,     10,2,19910923,0116, 11.4857, 164.9955, 4227,    999.2,   4.5645,  34.5442,2,  34.5492,2,     71.3,2,     72.4,2,  4.4845
     49HH915_2,  P13C,   C54,  1,     10,      9,2,19910923,0116, 11.4857, 164.9955, 4227,   1198.1,   3.8495,  34.5668,2,  34.5665,2,     78.2,2,     79.5,2,  3.7583
     49HH915_2,  P13C,   C54,  1,      9,      8,2,19910923,0116, 11.4857, 164.9955, 4227,   1398.9,   3.2024,  34.5861,2,  34.5830,2,     84.3,2,     85.7,2,  3.1007
     49HH915_2,  P13C,   C54,  1,      8,      7,2,19910923,0116, 11.4857, 164.9955, 4227,   1599.4,   2.7250,  34.6032,2,  34.6030,2,     92.9,2,     93.1,2,  2.6121
     49HH915_2,  P13C,   C54,  1,      7,      6,2,19910923,0116, 11.4857, 164.9955, 4227,   1799.6,   2.4504,  34.6184,2,  34.6187,2,    101.2,2,    100.3,2,  2.3243
     49HH915_2,  P13C,   C54,  1,      6,      5,2,19910923,0116, 11.4857, 164.9955, 4227,   1999.3,   2.2058,  34.6331,2,  34.6313,2,    109.6,2,    109.3,2,  2.0663
     49HH915_2,  P13C,   C54,  1,      5,      4,2,19910923,0116, 11.4857, 164.9955, 4227,   2499.7,   1.8813,  34.6559,2,  34.6573,2,    121.2,2,    121.4,2,  1.7032
     49HH915_2,  P13C,   C54,  1,      4,      3,2,19910923,0116, 11.4857, 164.9955, 4227,   2999.8,   1.6975,  34.6680,2,  34.6667,2,    132.8,2,    134.1,2,  1.4764
     49HH915_2,  P13C,   C54,  1,      3,      2,2,19910923,0116, 11.4857, 164.9955, 4227,   3500.4,   1.5557,  34.6779,2,  34.6777,2,    148.6,2,    148.4,2,  1.2881
     49HH915_2,  P13C,   C54,  1,      2,      1,2,19910923,0116, 11.4857, 164.9955, 4227,   4001.1,   1.4719,  34.6873,2,  34.6856,2,    164.8,2,    166.0,2,  1.1536
     49HH915_2,  P13C,   C55,  1,     23a,     21,2,19910923,0543, 12.0007, 164.9867, 2592,     17.4,  29.0582,  34.0345,2,  34.0315,2,    203.5,2,    200.7,2, 29.0540
     49HH915_2,  P13C,   C55,  1,     23b,     22,2,19910923,0543, 12.0007, 164.9867, 2592,     17.4,  29.0582,  34.0345,2,  34.0307,2,    203.5,2,    200.9,2, 29.0540
     49HH915_2,  P13C,   C55,  1,     21,     20,2,19910923,0543, 12.0007, 164.9867, 2592,     73.0,  27.6427,  34.3720,2,  34.3414,2,    217.1,3,    209.7,2, 27.6257
     49HH915_2,  P13C,   C55,  1,     20a,     18,2,19910923,0543, 12.0007, 164.9867, 2592,     97.1,  25.7784,  34.6099,2,  34.5979,2,    204.7,2,    209.7,2, 25.7569
     49HH915_2,  P13C,   C55,  1,     20b,     19,2,19910923,0543, 12.0007, 164.9867, 2592,     97.1,  25.7784,  34.6099,2,  34.5979,2,    204.7,2,    210.1,2, 25.7569
     49HH915_2,  P13C,   C55,  1,     18,     17,2,19910923,0543, 12.0007, 164.9867, 2592,    198.0,  11.8685,  34.4271,2,  34.4203,2,    105.5,3,    118.2,2, 11.8430
     49HH915_2,  P13C,   C55,  1,     17a,     15,2,19910923,0543, 12.0007, 164.9867, 2592,    248.7,  10.7604,  34.4910,3,  34.4722,2,     75.1,2,     77.5,2, 10.7303
     49HH915_2,  P13C,   C55,  1,     17b,     16,2,19910923,0543, 12.0007, 164.9867, 2592,    248.7,  10.7604,  34.4910,3,  34.4737,2,     75.1,2,     77.1,2, 10.7303
     49HH915_2,  P13C,   C55,  1,     16,     14,2,19910923,0543, 12.0007, 164.9867, 2592,    297.3,   9.7452,  34.5210,2,  34.5209,2,     51.5,2,     55.3,2,  9.7113
     49HH915_2,  P13C,   C55,  1,     15,     13,2,19910923,0543, 12.0007, 164.9867, 2592,    398.7,   8.2278,  34.5350,2,  34.5319,2,     52.0,2,     53.1,2,  8.1865
     49HH915_2,  P13C,   C55,  1,     13,     12,2,19910923,0543, 12.0007, 164.9867, 2592,    598.6,   6.6408,  34.5197,2,  34.5138,2,     65.1,3,     59.1,2,  6.5852
     49HH915_2,  P13C,   C55,  1,     12a,     10,2,19910923,0543, 12.0007, 164.9867, 2592,    698.3,   6.0355,  34.5147,2,  34.5154,2,     63.6,2,     66.7,2,  5.9733
     49HH915_2,  P13C,   C55,  1,     12b,     11,2,19910923,0543, 12.0007, 164.9867, 2592,    698.3,   6.0355,  34.5147,2,  34.5122,2,     63.6,2,     67.1,2,  5.9733
     49HH915_2,  P13C,   C55,  1,     10a,      8,2,19910923,0543, 12.0007, 164.9867, 2592,    899.4,   4.9050,  34.5354,2,  34.5342,2,     64.4,2,     67.2,2,  4.8313
     49HH915_2,  P13C,   C55,  1,     10b,      9,2,19910923,0543, 12.0007, 164.9867, 2592,    899.4,   4.9050,  34.5354,2,  34.5342,2,     64.4,2,     67.1,2,  4.8313
     49HH915_2,  P13C,   C55,  1,      9,      7,2,19910923,0543, 12.0007, 164.9867, 2592,    999.2,   4.4916,  34.5453,2,  34.5456,2,     64.4,2,     63.8,2,  4.4122
     49HH915_2,  P13C,   C55,  1,      8,      6,2,19910923,0543, 12.0007, 164.9867, 2592,   1099.5,   4.0921,  34.5602,2,  34.5566,2,     69.0,2,     68.3,2,  4.0072
     49HH915_2,  P13C,   C55,  1,      7,      5,2,19910923,0543, 12.0007, 164.9867, 2592,   1202.2,   3.7866,  34.5667,2,  34.5653,2,     91.0,4,     73.2,2,  3.6957
     49HH915_2,  P13C,   C55,  1,      6,      4,2,19910923,0543, 12.0007, 164.9867, 2592,   1302.4,   3.3971,  34.5785,2,  34.5779,2,     79.8,2,     80.0,2,  3.3014
     49HH915_2,  P13C,   C55,  1,      5,      3,2,19910923,0543, 12.0007, 164.9867, 2592,   1402.3,   3.1754,  34.5877,2,  34.5853,2,     80.7,2,     84.8,2,  3.0737
     49HH915_2,  P13C,   C55,  1,      3a,      1,2,19910923,0543, 12.0007, 164.9867, 2592,   1803.1,   2.3885,  34.6204,2,  34.6195,2,     98.2,2,    101.0,2,  2.2629
     49HH915_2,  P13C,   C55,  1,      3b,      2,2,19910923,0543, 12.0007, 164.9867, 2592,   1803.1,   2.3885,  34.6204,2,  34.6191,2,     98.2,2,    102.3,2,  2.2629
     49HH915_2,  P13C,   C56,  1,     24a,     22,2,19910923,1030, 12.4952, 164.9953, 5034,     10.0,  29.0062,  34.1214,2,  34.1244,2,    204.4,2,    199.5,2, 29.0038
     49HH915_2,  P13C,   C56,  1,     24b,     23,2,19910923,1030, 12.4952, 164.9953, 5034,     10.0,  29.0062,  34.1214,2,  34.1248,2,    204.4,2,    201.1,2, 29.0038
     49HH915_2,  P13C,   C56,  1,     23,     21,2,19910923,1030, 12.4952, 164.9953, 5034,     20.0,  28.9462,  34.1185,2,  34.1181,2,    210.1,3,    202.4,2, 28.9414
     49HH915_2,  P13C,   C56,  1,     21a,     19,2,19910923,1030, 12.4952, 164.9953, 5034,    100.4,  26.2512,  35.0237,2,  35.0035,2,    216.3,2,    215.9,2, 26.2286
     49HH915_2,  P13C,   C56,  1,     21b,     20,2,19910923,1030, 12.4952, 164.9953, 5034,    100.4,  26.2512,  35.0237,2,  35.0032,2,    216.3,2,    214.0,2, 26.2286
     49HH915_2,  P13C,   C56,  1,     19a,     17,2,19910923,1030, 12.4952, 164.9953, 5034,    300.9,   9.7042,  34.4088,2,  34.4062,2,     69.9,2,     73.4,2,  9.6700
     49HH915_2,  P13C,   C56,  1,     19b,     18,2,19910923,1030, 12.4952, 164.9953, 5034,    300.9,   9.7042,  34.4088,2,  34.4066,2,     69.9,2,     73.0,2,  9.6700
     49HH915_2,  P13C,   C56,  1,     17,     16,2,19910923,1030, 12.4952, 164.9953, 5034,    501.5,   7.3618,  34.5189,2,  34.5138,2,     60.3,2,     58.4,2,  7.3128
     49HH915_2,  P13C,   C56,  1,     16a,     14,2,19910923,1030, 12.4952, 164.9953, 5034,    601.5,   6.5219,  34.5126,2,  34.5118,2,     65.5,2,     62.6,2,  6.4665
     49HH915_2,  P13C,   C56,  1,     16b,     15,2,19910923,1030, 12.4952, 164.9953, 5034,    601.5,   6.5219,  34.5126,2,  34.5118,2,     65.5,2,     63.9,2,  6.4665
     49HH915_2,  P13C,   C56,  1,     15,     13,2,19910923,1030, 12.4952, 164.9953, 5034,    701.5,   5.9137,  34.5154,2,  34.5170,2,     64.5,2,     63.7,2,  5.8519
     49HH915_2,  P13C,   C56,  1,     14,     12,2,19910923,1030, 12.4952, 164.9953, 5034,    851.6,   5.1227,  34.5257,2,  34.5256,2,     69.9,2,     69.6,2,  5.0518
     49HH915_2,  P13C,   C56,  1,     13,     11,2,19910923,1030, 12.4952, 164.9953, 5034,   1002.1,   4.5655,  34.5464,2,  34.5425,2,     73.9,2,     73.5,2,  4.4852
     49HH915_2,  P13C,   C56,  1,     11a,      9,2,19910923,1030, 12.4952, 164.9953, 5034,   1402.4,   3.1415,  34.5862,2,  34.5853,2,     86.0,2,     85.9,2,  3.0402
     49HH915_2,  P13C,   C56,  1,     11b,     10,2,19910923,1030, 12.4952, 164.9953, 5034,   1402.4,   3.1415,  34.5862,2,  34.5849,2,     86.0,2,     85.1,2,  3.0402
     49HH915_2,  P13C,   C56,  1,     10,      8,2,19910923,1030, 12.4952, 164.9953, 5034,   1602.2,   2.8029,  34.6016,2,  34.5995,2,     95.7,2,     93.2,2,  2.6888
     49HH915_2,  P13C,   C56,  1,      9,      7,2,19910923,1030, 12.4952, 164.9953, 5034,   1802.5,   2.4624,  34.6164,2,  34.6148,2,    100.4,2,     98.8,2,  2.3359
     49HH915_2,  P13C,   C56,  1,      8,      6,2,19910923,1030, 12.4952, 164.9953, 5034,   2002.7,   2.1978,  34.6338,2,  34.6286,2,    108.8,3,    105.1,2,  2.0581
     49HH915_2,  P13C,   C56,  1,      7,      5,2,19910923,1030, 12.4952, 164.9953, 5034,   2502.7,   1.8763,  34.6537,2,  34.6533,2,    121.5,2,    122.5,2,  1.6980
     49HH915_2,  P13C,   C56,  1,      6,      4,2,19910923,1030, 12.4952, 164.9953, 5034,   3002.9,   1.6736,  34.6687,2,  34.6675,2,    137.8,2,    135.1,2,  1.4527
     49HH915_2,  P13C,   C56,  1,      5,      3,2,19910923,1030, 12.4952, 164.9953, 5034,   3502.3,   1.5378,  34.6802,2,  34.6769,2,    152.1,2,    150.5,2,  1.2704
     49HH915_2,  P13C,   C56,  1,      4,      2,2,19910923,1030, 12.4952, 164.9953, 5034,   4002.3,   1.4778,  34.6866,2,  34.6844,2,    161.5,2,    160.5,2,  1.1592
     49HH915_2,  P13C,   C56,  1,      3,      1,2,19910923,1030, 12.4952, 164.9953, 5034,   4503.5,   1.4379,  34.6917,2,  34.6927,2,    172.5,2,    172.8,2,  1.0643
     49HH915_2,  P13C,   C56,  1,      2,     24,2,19910923,1030, 12.4952, 164.9953, 5034,   5003.9,   1.4119,  34.6976,2,  34.6962,2,    182.7,2,    182.6,2,  0.9800
     49HH915_2,  P13C,   C57,  1,     24,     24,2,19910923,1531, 12.9853, 164.9943, 5200,      7.5,  28.8772,  34.1704,2,  34.1687,2,    203.4,2,    202.9,2, 28.8754
     49HH915_2,  P13C,   C57,  1,     23,     23,2,19910923,1531, 12.9853, 164.9943, 5200,     17.3,  28.8772,  34.1706,2,  34.1695,2,    203.9,2,    201.4,2, 28.8730
     49HH915_2,  P13C,   C57,  1,     22,     22,2,19910923,1531, 12.9853, 164.9943, 5200,     47.4,  28.8153,  34.1728,2,  34.1758,2,    211.3,3,    201.5,2, 28.8039
     49HH915_2,  P13C,   C57,  1,     20a,     20,2,19910923,1531, 12.9853, 164.9943, 5200,    197.1,  17.0450,  34.7326,2,  34.7595,2,    173.4,2,    177.0,2, 17.0125
     49HH915_2,  P13C,   C57,  1,     20b,     21,2,19910923,1531, 12.9853, 164.9943, 5200,    197.1,  17.0450,  34.7326,2,  34.7572,2,    173.4,2,    176.2,2, 17.0125
     49HH915_2,  P13C,   C57,  1,     19,     19,2,19910923,1531, 12.9853, 164.9943, 5200,    298.0,  10.2488,  34.3130,2,  34.3127,2,    114.7,2,    121.5,2, 10.2138
     49HH915_2,  P13C,   C57,  1,     17a,     17,2,19910923,1531, 12.9853, 164.9943, 5200,    498.7,   7.3169,  34.4812,2,  34.4824,2,     55.3,2,     54.4,2,  7.2684
     49HH915_2,  P13C,   C57,  1,     17b,     18,2,19910923,1531, 12.9853, 164.9943, 5200,    498.7,   7.3169,  34.4812,2,  34.4828,2,     55.3,2,     52.1,2,  7.2684
     49HH915_2,  P13C,   C57,  1,     15,     16,2,19910923,1531, 12.9853, 164.9943, 5200,    698.8,   5.9317,  34.4974,2,  34.4961,2,     60.8,3,     69.4,2,  5.8700
     49HH915_2,  P13C,   C57,  1,     14a,     14,2,19910923,1531, 12.9853, 164.9943, 5200,    849.0,   5.0868,  34.5157,2,  34.5146,2,     63.0,2,     65.1,2,  5.0164
     49HH915_2,  P13C,   C57,  1,     14b,     15,3,19910923,1531, 12.9853, 164.9943, 5200,    849.0,   5.0868,  34.5157,2,  34.5166,2,     63.0,2,     65.7,2,  5.0164
     49HH915_2,  P13C,   C57,  1,     13,     13,2,19910923,1531, 12.9853, 164.9943, 5200,    999.5,   4.4357,  34.5403,2,  34.5374,2,     64.9,2,     65.7,2,  4.3567
     49HH915_2,  P13C,   C57,  1,     12,     12,2,19910923,1531, 12.9853, 164.9943, 5200,   1198.8,   3.6398,  34.5681,2,  34.5657,2,     74.5,2,     76.7,2,  3.5505
     49HH915_2,  P13C,   C57,  1,     11,     11,2,19910923,1531, 12.9853, 164.9943, 5200,   1399.5,   3.1445,  34.5857,2,  34.5853,2,     84.5,2,     86.8,2,  3.0434
     49HH915_2,  P13C,   C57,  1,     10,     10,2,19910923,1531, 12.9853, 164.9943, 5200,   1599.5,   2.6901,  34.6039,2,  34.6038,2,     92.1,2,     95.1,2,  2.5776
     49HH915_2,  P13C,   C57,  1,      9,      9,2,19910923,1531, 12.9853, 164.9943, 5200,   1799.0,   2.4055,  34.6190,2,  34.6176,2,    101.3,2,    101.3,2,  2.2801
     49HH915_2,  P13C,   C57,  1,      8,      8,2,19910923,1531, 12.9853, 164.9943, 5200,   1998.7,   2.1868,  34.6303,2,  34.6294,2,    106.3,2,    107.2,2,  2.0476
     49HH915_2,  P13C,   C57,  1,      7,      7,2,19910923,1531, 12.9853, 164.9943, 5200,   2499.4,   1.8673,  34.6525,2,  34.6529,2,    118.8,2,    121.1,2,  1.6895
     49HH915_2,  P13C,   C57,  1,      6,      6,2,19910923,1531, 12.9853, 164.9943, 5200,   2999.8,   1.6656,  34.6676,2,  34.6663,2,    129.1,3,    134.5,2,  1.4452
     49HH915_2,  P13C,   C57,  1,      5,      5,2,19910923,1531, 12.9853, 164.9943, 5200,   3499.4,   1.5408,  34.6783,2,  34.6777,2,    144.8,2,    149.9,2,  1.2737
     49HH915_2,  P13C,   C57,  1,      4,      4,2,19910923,1531, 12.9853, 164.9943, 5200,   3999.8,   1.4679,  34.6859,2,  34.6856,2,    160.4,2,    161.3,2,  1.1499
     49HH915_2,  P13C,   C57,  1,      3,      3,2,19910923,1531, 12.9853, 164.9943, 5200,   4504.1,   1.4379,  34.6926,2,  34.6915,2,    167.9,3,    173.4,2,  1.0643
     49HH915_2,  P13C,   C57,  1,      2,      2,2,19910923,1531, 12.9853, 164.9943, 5200,   5003.3,   1.4249,  34.6951,2,  34.6962,2,    180.2,2,    182.6,2,  0.9927
     49HH915_2,  P13C,   C57,  1,      1,      1,2,19910923,1531, 12.9853, 164.9943, 5200,   5205.1,   1.4119,  34.6993,2,  34.6982,2,    183.3,3,    187.9,2,  0.9554