BOTTLE,20220929CCHSIOAMB
# Disambiguated duplicate SAMPNOs by added sequential letters afterward. The duplicates appear to be how this cruise reported their replicates (rather than average and flag 6)
#BOTTLE,20020816WHPSIOHLB
#code : jjward hyd_to_exchange.pl 
#original files copied from HTML directory: 20020816
#original HYD file: p13cbhy.txt   Fri Aug 16 13:45:30 2002
#original SUM file: p13cbsu.txt   Fri Aug 16 13:32:25 2002
EXPOCODE,SECT_ID,STNNBR,CASTNO,SAMPNO,BTLNBR,BTLNBR_FLAG_W,DATE,TIME,LATITUDE,LONGITUDE,DEPTH,CTDPRS,CTDTMP,CTDSAL,CTDSAL_FLAG_W,SALNTY,SALNTY_FLAG_W,CTDOXY,CTDOXY_FLAG_W,OXYGEN,OXYGEN_FLAG_W,THETA
,,,,,,,,,,,,DBAR,ITS-90,PSS-78,,PSS-78,,UMOL/KG,,UMOL/KG,,DEG C
     49HH915_2,  P13C,   C31,  1,     23,     24,2,19910917,0244, -4.9972, 164.9693, 2316,     20.7,  29.7599,  35.0433,2,  35.0201,2,    198.2,2,    201.9,2, 29.7548
     49HH915_2,  P13C,   C31,  1,     22,     23,2,19910917,0244, -4.9972, 164.9693, 2316,     49.7,  29.7829,  35.1834,2,  35.1903,2,    195.7,2,    204.0,2, 29.7706
     49HH915_2,  P13C,   C31,  1,     21,     22,2,19910917,0244, -4.9972, 164.9693, 2316,     75.7,  29.7679,  35.4418,2,  35.4395,2,    188.2,3,    194.9,2, 29.7492
     49HH915_2,  P13C,   C31,  1,     20,     21,2,19910917,0244, -4.9972, 164.9693, 2316,    100.8,  28.7703,  35.6389,2,  35.6401,2,    168.9,3,    177.1,2, 28.7460
     49HH915_2,  P13C,   C31,  1,     19,     20,2,19910917,0244, -4.9972, 164.9693, 2316,    151.1,  25.0217,  36.0177,2,  36.0263,2,    140.2,2,    141.8,2, 24.9888
     49HH915_2,  P13C,   C31,  1,     18,     19,2,19910917,0244, -4.9972, 164.9693, 2316,    201.4,  19.4225,  35.6710,2,  35.7155,2,    121.9,2,    125.9,2, 19.3859
     49HH915_2,  P13C,   C31,  1,     17,     18,2,19910917,0244, -4.9972, 164.9693, 2316,    251.5,  14.6076,  35.1431,2,  35.1509,2,     87.4,2,     88.0,2, 14.5701
     49HH915_2,  P13C,   C31,  1,     16,     17,2,19910917,0244, -4.9972, 164.9693, 2316,    301.6,  11.2700,  34.8508,2,  34.8520,2,     81.2,2,     80.0,2, 11.2321
     49HH915_2,  P13C,   C31,  1,     15,     16,2,19910917,0244, -4.9972, 164.9693, 2316,    402.2,   9.3045,  34.6941,2,  34.6223,4,     88.6,2,     86.9,2,  9.2596
     49HH915_2,  P13C,   C31,  1,     14,     15,2,19910917,0244, -4.9972, 164.9693, 2316,    501.9,   8.0929,  34.6184,2,  34.6211,2,     99.1,2,     94.2,2,  8.0410
     49HH915_2,  P13C,   C31,  1,     13,     14,2,19910917,0244, -4.9972, 164.9693, 2316,    601.8,   6.9903,  34.5477,2,  34.5551,2,    126.8,2,    131.5,2,  6.9327
     49HH915_2,  P13C,   C31,  1,     12,     13,2,19910917,0244, -4.9972, 164.9693, 2316,    701.9,   6.2293,  34.5230,2,  34.5280,2,    127.6,2,    132.0,2,  6.1657
     49HH915_2,  P13C,   C31,  1,     11,     12,2,19910917,0244, -4.9972, 164.9693, 2316,    802.3,   5.7539,  34.5190,2,  34.5256,2,    119.6,2,    119.9,2,  5.6836
     49HH915_2,  P13C,   C31,  1,     10,     11,2,19910917,0244, -4.9972, 164.9693, 2316,    902.5,   5.0508,  34.5186,2,  34.5276,2,    116.3,2,    119.4,2,  4.9759
     49HH915_2,  P13C,   C31,  1,      9,     10,2,19910917,0244, -4.9972, 164.9693, 2316,   1002.6,   4.5705,  34.5306,2,  34.5378,2,    112.1,2,    114.7,2,  4.4902
     49HH915_2,  P13C,   C31,  1,      8,      9,2,19910917,0244, -4.9972, 164.9693, 2316,   1102.4,   4.1880,  34.5434,2,  34.5488,2,    110.8,2,    112.5,2,  4.1021
     49HH915_2,  P13C,   C31,  1,      7,      8,2,19910917,0244, -4.9972, 164.9693, 2316,   1202.8,   3.8804,  34.5534,2,  34.5602,2,    111.0,2,    112.3,2,  3.7885
     49HH915_2,  P13C,   C31,  1,      6,      7,2,19910917,0244, -4.9972, 164.9693, 2316,   1303.0,   3.5129,  34.5698,2,  34.5743,2,    114.0,2,    115.3,2,  3.4160
     49HH915_2,  P13C,   C31,  1,      5,      6,2,19910917,0244, -4.9972, 164.9693, 2316,   1403.0,   3.2034,  34.5842,2,  34.6026,4,    114.7,2,    119.6,2,  3.1013
     49HH915_2,  P13C,   C31,  1,      4,      5,2,19910917,0244, -4.9972, 164.9693, 2316,   1603.1,   2.7790,  34.6047,2,  34.6085,2,    121.4,2,    123.1,2,  2.6651
     49HH915_2,  P13C,   C31,  1,      3,      4,2,19910917,0244, -4.9972, 164.9693, 2316,   1803.3,   2.4474,  34.6234,2,  34.6278,2,    123.4,2,    125.0,2,  2.3210
     49HH915_2,  P13C,   C31,  1,      2,      3,2,19910917,0244, -4.9972, 164.9693, 2316,   2004.2,   2.2557,  34.6337,2,  34.6396,2,    125.9,2,    126.9,2,  2.1150
     49HH915_2,  P13C,   C31,  1,      1a,      1,2,19910917,0244, -4.9972, 164.9693, 2316,   2317.1,   2.0360,  34.6466,2,  34.6533,2,    131.6,2,    131.5,2,  1.8715
     49HH915_2,  P13C,   C31,  1,      1b,      2,2,19910917,0244, -4.9972, 164.9693, 2316,   2317.1,   2.0360,  34.6466,2,  34.6526,2,    131.6,2,    135.7,3,  1.8715
     49HH915_2,  P13C,   C32,  1,     24,     23,2,19910917,0925, -4.0040, 164.9900, 3343,     10.7,  29.8229,  35.0450,2,  35.0477,2,    200.4,2,    199.3,2, 29.8203
     49HH915_2,  P13C,   C32,  1,     23,     22,2,19910917,0925, -4.0040, 164.9900, 3343,     20.5,  29.8259,  35.0518,2,  35.0547,2,    201.7,2,    200.6,2, 29.8208
     49HH915_2,  P13C,   C32,  1,     22,     21,2,19910917,0925, -4.0040, 164.9900, 3343,     50.1,  29.8359,  35.0742,2,  35.0764,2,    195.3,2,    198.7,2, 29.8235
     49HH915_2,  P13C,   C32,  1,     21a,     19,2,19910917,0925, -4.0040, 164.9900, 3343,     76.1,  29.9499,  35.3491,2,  35.3606,2,    194.4,2,    194.9,2, 29.9310
     49HH915_2,  P13C,   C32,  1,     21b,     20,2,19910917,0925, -4.0040, 164.9900, 3343,     76.1,  29.9499,  35.3491,2,  35.3626,2,    194.4,2,    198.8,2, 29.9310
     49HH915_2,  P13C,   C32,  1,     19,     18,2,19910917,0925, -4.0040, 164.9900, 3343,    151.0,  23.9342,  35.9049,2,  35.9329,2,    133.9,2,    136.5,2, 23.9023
     49HH915_2,  P13C,   C32,  1,     18,     17,2,19910917,0925, -4.0040, 164.9900, 3343,    201.8,  17.8475,  35.4127,2,  35.4088,2,    110.3,2,    111.8,2, 17.8129
     49HH915_2,  P13C,   C32,  1,     17,     16,2,19910917,0925, -4.0040, 164.9900, 3343,    251.5,  14.1559,  35.1030,2,  35.0977,2,     99.9,2,    102.6,2, 14.1192
     49HH915_2,  P13C,   C32,  1,     16,     15,2,19910917,0925, -4.0040, 164.9900, 3343,    301.9,  11.2700,  34.8447,2,  34.8303,2,    103.7,2,    108.9,2, 11.2321
     49HH915_2,  P13C,   C32,  1,     15,     14,2,19910917,0925, -4.0040, 164.9900, 3343,    401.4,   9.3335,  34.6923,2,  34.7005,2,     95.3,2,     97.2,2,  9.2886
     49HH915_2,  P13C,   C32,  1,     14a,     12,2,19910917,0925, -4.0040, 164.9900, 3343,    501.8,   8.2298,  34.6278,2,  34.6286,2,     80.5,2,     83.3,2,  8.1774
     49HH915_2,  P13C,   C32,  1,     14b,     13,2,19910917,0925, -4.0040, 164.9900, 3343,    501.8,   8.2298,  34.6278,2,  34.6290,2,     80.5,2,     79.6,2,  8.1774
     49HH915_2,  P13C,   C32,  1,     12,     11,2,19910917,0925, -4.0040, 164.9900, 3343,    702.0,   6.1674,  34.5475,2,  34.5484,2,     89.5,2,     86.6,2,  6.1041
     49HH915_2,  P13C,   C32,  1,     11,     10,2,19910917,0925, -4.0040, 164.9900, 3343,    802.0,   5.6101,  34.5332,2,  34.5358,2,     98.7,2,     99.3,2,  5.5407
     49HH915_2,  P13C,   C32,  1,     10,      9,2,19910917,0925, -4.0040, 164.9900, 3343,    902.2,   5.1447,  34.5392,2,  34.5390,2,     97.7,2,     94.6,2,  5.0691
     49HH915_2,  P13C,   C32,  1,      9,      8,2,19910917,0925, -4.0040, 164.9900, 3343,   1002.3,   4.6194,  34.5405,2,  34.5433,2,    103.4,2,    106.8,2,  4.5387
     49HH915_2,  P13C,   C32,  1,      8a,      6,2,19910917,0925, -4.0040, 164.9900, 3343,   1202.8,   3.9324,  34.5569,2,  34.5598,2,    110.1,2,    110.8,2,  3.8401
     49HH915_2,  P13C,   C32,  1,      8b,      7,2,19910917,0925, -4.0040, 164.9900, 3343,   1202.8,   3.9324,  34.5569,2,  34.5594,2,    110.1,2,    112.2,2,  3.8401
     49HH915_2,  P13C,   C32,  1,      6,      5,2,19910917,0925, -4.0040, 164.9900, 3343,   1602.6,   3.0216,  34.5943,2,  34.5952,2,    120.5,2,    121.9,2,  2.9048
     49HH915_2,  P13C,   C32,  1,      5,      4,2,19910917,0925, -4.0040, 164.9900, 3343,   1803.0,   2.5353,  34.6178,2,  34.6203,2,    122.7,2,    123.3,2,  2.4077
     49HH915_2,  P13C,   C32,  1,      4,      3,2,19910917,0925, -4.0040, 164.9900, 3343,   2001.8,   2.2897,  34.6329,2,  34.6349,2,    124.3,2,    125.3,2,  2.1487
     49HH915_2,  P13C,   C32,  1,      3a,      1,2,19910917,0925, -4.0040, 164.9900, 3343,   2504.0,   1.8793,  34.6560,2,  34.6592,2,    131.4,2,    134.6,2,  1.7008
     49HH915_2,  P13C,   C32,  1,      3b,      2,2,19910917,0925, -4.0040, 164.9900, 3343,   2504.0,   1.8793,  34.6560,2,  34.6592,2,    131.4,2,    134.2,2,  1.7008
     49HH915_2,  P13C,  C33B,  1,     24,     24,2,19910917,2249, -2.9947, 164.9907, 4115,      8.9,  30.0758,  34.9200,2,  34.9248,2,    212.8,3,    199.9,2, 30.0736
     49HH915_2,  P13C,  C33B,  1,     22a,     22,2,19910917,2249, -2.9947, 164.9907, 4115,     49.7,  30.0608,  35.0027,2,  35.0035,2,    218.2,3,    203.1,2, 30.0485
     49HH915_2,  P13C,  C33B,  1,     22b,     23,2,19910917,2249, -2.9947, 164.9907, 4115,     49.7,  30.0608,  35.0027,2,  35.0016,2,    218.2,3,    203.5,2, 30.0485
     49HH915_2,  P13C,  C33B,  1,     20a,     20,2,19910917,2249, -2.9947, 164.9907, 4115,    149.1,  25.3746,  35.6362,2,  35.6223,2,    146.0,2,    140.4,2, 25.3418
     49HH915_2,  P13C,  C33B,  1,     20b,     21,2,19910917,2249, -2.9947, 164.9907, 4115,    149.1,  25.3746,  35.6362,2,  35.6215,2,    146.0,2,    140.6,2, 25.3418
     49HH915_2,  P13C,  C33B,  1,     19,     19,2,19910917,2249, -2.9947, 164.9907, 4115,    199.6,  17.0829,  35.3309,2,  35.3224,2,    114.9,2,    110.5,2, 17.0498
     49HH915_2,  P13C,  C33B,  1,     17,     18,2,19910917,2249, -2.9947, 164.9907, 4115,    400.1,   9.8931,  34.7196,2,  34.7214,2,    116.0,3,    107.6,2,  9.8467
     49HH915_2,  P13C,  C33B,  1,     16,     17,2,19910917,2249, -2.9947, 164.9907, 4115,    500.2,   8.2887,  34.6206,2,  34.6235,2,    125.7,2,    127.4,2,  8.2363
     49HH915_2,  P13C,  C33B,  1,     15,     16,2,19910917,2249, -2.9947, 164.9907, 4115,    600.0,   6.8045,  34.5544,2,  34.5570,2,    107.2,3,    101.8,2,  6.7479
     49HH915_2,  P13C,  C33B,  1,     14,     15,2,19910917,2249, -2.9947, 164.9907, 4115,    700.2,   5.9307,  34.5303,2,  34.5394,2,    103.8,3,     96.9,2,  5.8689
     49HH915_2,  P13C,  C33B,  1,     13,     14,2,19910917,2249, -2.9947, 164.9907, 4115,    800.4,   5.3405,  34.5366,2,  34.5429,2,    106.5,3,    100.5,2,  5.2728
     49HH915_2,  P13C,  C33B,  1,     12,     13,2,19910917,2249, -2.9947, 164.9907, 4115,    900.4,   4.8771,  34.5360,2,  34.5405,2,    104.7,3,     93.8,2,  4.8035
     49HH915_2,  P13C,  C33B,  1,     11,     12,2,19910917,2249, -2.9947, 164.9907, 4115,   1000.9,   4.4936,  34.5447,2,  34.5413,2,    106.7,3,   -999.0,1,  4.4140
     49HH915_2,  P13C,  C33B,  1,     10,     11,2,19910917,2249, -2.9947, 164.9907, 4115,   1200.5,   3.8884,  34.5509,3,  34.5665,2,    107.4,3,    100.5,2,  3.7967
     49HH915_2,  P13C,  C33B,  1,      9,     10,2,19910917,2249, -2.9947, 164.9907, 4115,   1401.4,   3.3871,  34.5782,2,  34.5798,2,    119.9,3,    113.4,2,  3.2832
     49HH915_2,  P13C,  C33B,  1,      8,      9,2,19910917,2249, -2.9947, 164.9907, 4115,   1600.8,   2.9138,  34.6008,2,  34.6030,2,    123.2,3,    115.4,2,  2.7984
     49HH915_2,  P13C,  C33B,  1,      7a,      7,2,19910917,2249, -2.9947, 164.9907, 4115,   1800.6,   2.5693,  34.6193,2,  34.6215,2,    125.3,3,    117.4,2,  2.4415
     49HH915_2,  P13C,  C33B,  1,      7b,      8,2,19910917,2249, -2.9947, 164.9907, 4115,   1800.6,   2.5693,  34.6193,2,  34.6211,2,    125.3,3,    118.2,2,  2.4415
     49HH915_2,  P13C,  C33B,  1,      5,      6,2,19910917,2249, -2.9947, 164.9907, 4115,   2501.1,   1.8853,  34.6559,2,  34.6604,2,    140.3,3,    124.0,2,  1.7070
     49HH915_2,  P13C,  C33B,  1,      4,      5,2,19910917,2249, -2.9947, 164.9907, 4115,   3001.7,   1.7115,  34.6657,2,  34.6687,2,    146.2,3,    140.7,2,  1.4899
     49HH915_2,  P13C,  C33B,  1,      3a,      3,2,19910917,2249, -2.9947, 164.9907, 4115,   3501.6,   1.5278,  34.6788,2,  34.6840,2,    161.1,3,    154.9,2,  1.2607
     49HH915_2,  P13C,  C33B,  1,      3b,      4,2,19910917,2249, -2.9947, 164.9907, 4115,   3501.6,   1.5278,  34.6788,2,  34.6820,2,    161.1,3,    156.3,2,  1.2607
     49HH915_2,  P13C,  C33B,  1,      2,      2,2,19910917,2249, -2.9947, 164.9907, 4115,   4002.7,   1.4319,  34.6897,2,  34.6931,2,    179.2,3,    172.0,2,  1.1145
     49HH915_2,  P13C,  C33B,  1,      1,      1,2,19910917,2249, -2.9947, 164.9907, 4115,   4122.4,   1.4000,  34.6929,2,  34.7115,4,    181.6,3,   -999.0,1,  1.0703
     49HH915_2,  P13C,   C34,  1,     24,     23,2,19910918,0548, -1.9952, 165.0062, 4461,     10.0,  29.9549,  34.6089,2,  34.6097,2,    209.3,2,    204.3,2, 29.9524
     49HH915_2,  P13C,   C34,  1,     22a,     21,2,19910918,0548, -1.9952, 165.0062, 4461,     50.6,  29.8549,  35.1430,2,  35.1225,2,    211.3,3,    202.5,2, 29.8424
     49HH915_2,  P13C,   C34,  1,     22b,     22,2,19910918,0548, -1.9952, 165.0062, 4461,     50.6,  29.8549,  35.1430,2,  35.1249,2,    211.3,3,    205.4,2, 29.8424
     49HH915_2,  P13C,   C34,  1,     21,     20,2,19910918,0548, -1.9952, 165.0062, 4461,    100.3,  26.8270,  35.4535,2,  35.4514,2,    159.6,2,    158.9,2, 26.8041
     49HH915_2,  P13C,   C34,  1,     20,     19,2,19910918,0548, -1.9952, 165.0062, 4461,    150.4,  23.6633,  35.2884,2,  35.2857,2,    141.8,3,    133.1,2, 23.6319
     49HH915_2,  P13C,   C34,  1,     19,     18,2,19910918,0548, -1.9952, 165.0062, 4461,    200.6,  15.3600,  35.4506,2,  35.2719,2,    119.2,2,    115.4,2, 15.3291
     49HH915_2,  P13C,   C34,  1,     17,     17,2,19910918,0548, -1.9952, 165.0062, 4461,    401.2,   9.9031,  34.7116,2,  34.7214,2,    110.4,3,    103.5,2,  9.8565
     49HH915_2,  P13C,   C34,  1,     16,     16,2,19910918,0548, -1.9952, 165.0062, 4461,    501.5,   8.6742,  34.6423,2,  34.6423,2,    130.2,2,    127.3,2,  8.6202
     49HH915_2,  P13C,   C34,  1,     15a,     14,2,19910918,0548, -1.9952, 165.0062, 4461,    601.9,   7.1491,  34.5577,2,  34.5590,2,    128.4,2,    128.1,2,  7.0908
     49HH915_2,  P13C,   C34,  1,     15b,     15,2,19910918,0548, -1.9952, 165.0062, 4461,    601.9,   7.1491,  34.5577,2,  34.5574,2,    128.4,2,    127.9,2,  7.0908
     49HH915_2,  P13C,   C34,  1,     13,     13,2,19910918,0548, -1.9952, 165.0062, 4461,    801.5,   5.2426,  34.5278,2,  34.5295,2,    117.4,3,    111.7,2,  5.1754
     49HH915_2,  P13C,   C34,  1,     12,     12,2,19910918,0548, -1.9952, 165.0062, 4461,    902.3,   4.8301,  34.5327,2,  34.5319,2,    115.7,2,    111.2,2,  4.7567
     49HH915_2,  P13C,   C34,  1,     11,     11,2,19910918,0548, -1.9952, 165.0062, 4461,   1001.9,   4.5805,  34.5415,2,  34.5433,2,    111.5,2,    107.8,2,  4.5001
     49HH915_2,  P13C,   C34,  1,     10,     10,2,19910918,0548, -1.9952, 165.0062, 4461,   1202.0,   3.8545,  34.5655,2,  34.5641,2,    111.0,3,    105.8,2,  3.7629
     49HH915_2,  P13C,   C34,  1,      9,      9,2,19910918,0548, -1.9952, 165.0062, 4461,   1401.6,   3.2303,  34.5864,2,  34.5881,2,    120.7,2,    115.5,2,  3.1281
     49HH915_2,  P13C,   C34,  1,      8a,      7,2,19910918,0548, -1.9952, 165.0062, 4461,   1601.7,   2.8519,  34.6044,2,  34.6062,2,    120.1,3,    114.0,2,  2.7372
     49HH915_2,  P13C,   C34,  1,      8b,      8,2,19910918,0548, -1.9952, 165.0062, 4461,   1601.7,   2.8519,  34.6044,2,  34.6058,2,    120.1,3,    112.7,2,  2.7372
     49HH915_2,  P13C,   C34,  1,      6,      6,2,19910918,0548, -1.9952, 165.0062, 4461,   2002.3,   2.2567,  34.6360,2,  34.6364,2,    126.1,2,    123.9,2,  2.1161
     49HH915_2,  P13C,   C34,  1,      5,      5,2,19910918,0548, -1.9952, 165.0062, 4461,   2502.6,   1.8443,  34.6583,2,  34.6596,2,    137.8,3,    132.5,2,  1.6666
     49HH915_2,  P13C,   C34,  1,      4a,      3,2,19910918,0548, -1.9952, 165.0062, 4461,   3002.6,   1.6746,  34.6678,2,  34.6695,2,    146.5,3,    140.6,2,  1.4537
     49HH915_2,  P13C,   C34,  1,      4b,      4,2,19910918,0548, -1.9952, 165.0062, 4461,   3002.6,   1.6746,  34.6678,2,  34.6710,2,    146.5,3,    140.1,2,  1.4537
     49HH915_2,  P13C,   C34,  1,      2a,      1,2,19910918,0548, -1.9952, 165.0062, 4461,   4004.8,   1.4429,  34.6882,2,  34.6919,2,    174.8,3,    171.2,2,  1.1250
     49HH915_2,  P13C,   C34,  1,      2b,      2,2,19910918,0548, -1.9952, 165.0062, 4461,   4004.8,   1.4429,  34.6882,2,  34.6899,2,    174.8,3,    169.1,2,  1.1250
     49HH915_2,  P13C,   C34,  1,      1,     24,2,19910918,0548, -1.9952, 165.0062, 4461,   4468.6,   1.3720,  34.6960,2,  34.6990,2,    186.9,2,    183.5,2,  1.0044