BOTTLE,20220929CCHSIOAMB
EXPOCODE,SECT_ID,STNNBR,CASTNO,SAMPNO,BTLNBR,BTLNBR_FLAG_W,DATE,TIME,LATITUDE,LONGITUDE,DEPTH,CTDPRS,CTDTMP,CTDSAL,CTDSAL_FLAG_W,SALNTY,SALNTY_FLAG_W,CTDOXY,CTDOXY_FLAG_W,OXYGEN,OXYGEN_FLAG_W,THETA
,,,,,,,,,,,,DBAR,ITS-90,PSS-78,,PSS-78,,UMOL/KG,,UMOL/KG,,DEG C
     49HH915_2,  P13C,   C35,  1,     23,     24,2,19910918,1037, -1.4910, 165.0077, 4452,     17.6,  29.6170,  34.4212,2,-999.0000,9,    210.7,3,    201.4,2, 29.6119
     49HH915_2,  P13C,   C35,  1,     22,     23,2,19910918,1037, -1.4910, 165.0077, 4452,     47.6,  29.9609,  34.7807,2,-999.0000,9,    210.4,2,    204.8,2, 29.9472
     49HH915_2,  P13C,   C35,  1,     21,     22,2,19910918,1037, -1.4910, 165.0077, 4452,     97.7,  26.4411,  35.4066,2,-999.0000,9,    162.2,3,    154.1,2, 26.4141
     49HH915_2,  P13C,   C35,  1,     20a,     20,2,19910918,1037, -1.4910, 165.0077, 4452,    147.3,  23.2665,  35.2442,2,-999.0000,9,    139.4,2,    134.7,2, 23.2275
     49HH915_2,  P13C,   C35,  1,     20b,     21,2,19910918,1037, -1.4910, 165.0077, 4452,    147.3,  23.2665,  35.2442,2,-999.0000,9,    139.4,2,    133.5,2, 23.2275
     49HH915_2,  P13C,   C35,  1,     18,     19,2,19910918,1037, -1.4910, 165.0077, 4452,    298.4,  10.9772,  34.7959,2,-999.0000,9,    116.3,2,    112.5,2, 10.9128
     49HH915_2,  P13C,   C35,  1,     17,     18,2,19910918,1037, -1.4910, 165.0077, 4452,    398.6,   9.8541,  34.7198,2,-999.0000,9,    115.3,3,    110.7,2,  9.7700
     49HH915_2,  P13C,   C35,  1,     16,     17,2,19910918,1037, -1.4910, 165.0077, 4452,    498.9,   8.3187,  34.6289,2,-999.0000,9,     82.7,3,     68.6,2,  8.2168
     49HH915_2,  P13C,   C35,  1,     15a,     15,2,19910918,1037, -1.4910, 165.0077, 4452,    599.2,   6.7926,  34.5502,2,-999.0000,9,    114.6,2,    112.2,2,  6.6744
     49HH915_2,  P13C,   C35,  1,     15b,     16,2,19910918,1037, -1.4910, 165.0077, 4452,    599.2,   6.7926,  34.5502,2,-999.0000,9,    114.6,2,    110.6,2,  6.6744
     49HH915_2,  P13C,   C35,  1,     14,     14,2,19910918,1037, -1.4910, 165.0077, 4452,    699.1,   5.7998,  34.5331,2,-999.0000,9,    116.2,3,    111.4,2,  5.6650
     49HH915_2,  P13C,   C35,  1,     12a,     12,2,19910918,1037, -1.4910, 165.0077, 4452,    899.2,   4.8261,  34.5453,2,-999.0000,9,     99.4,2,     96.8,2,  4.6564
     49HH915_2,  P13C,   C35,  1,     12b,     13,2,19910918,1037, -1.4910, 165.0077, 4452,    899.2,   4.8261,  34.5453,2,-999.0000,9,     99.4,2,     95.9,2,  4.6564
     49HH915_2,  P13C,   C35,  1,     11,     11,2,19910918,1037, -1.4910, 165.0077, 4452,    999.3,   4.5755,  34.5491,2,-999.0000,9,    101.4,2,     99.6,2,  4.3877
     49HH915_2,  P13C,   C35,  1,      9a,      9,2,19910918,1037, -1.4910, 165.0077, 4452,   1399.2,   3.3222,  34.5890,2,-999.0000,9,    112.0,3,    108.2,2,  3.0658
     49HH915_2,  P13C,   C35,  1,      9b,     10,2,19910918,1037, -1.4910, 165.0077, 4452,   1399.2,   3.3222,  34.5890,2,-999.0000,9,    112.0,3,    106.5,2,  3.0658
     49HH915_2,  P13C,   C35,  1,      7a,      7,2,19910918,1037, -1.4910, 165.0077, 4452,   1799.6,   2.6042,  34.6191,2,-999.0000,9,    121.6,2,    117.7,2,  2.2780
     49HH915_2,  P13C,   C35,  1,      7b,      8,2,19910918,1037, -1.4910, 165.0077, 4452,   1799.6,   2.6042,  34.6191,2,-999.0000,9,    121.6,2,    118.6,2,  2.2780
     49HH915_2,  P13C,   C35,  1,      5,      6,2,19910918,1037, -1.4910, 165.0077, 4452,   2498.7,   1.8583,  34.6575,2,-999.0000,9,    133.2,2,    129.9,2,  1.4077
     49HH915_2,  P13C,   C35,  1,      4,      5,2,19910918,1037, -1.4910, 165.0077, 4452,   3000.1,   1.6676,  34.6690,2,-999.0000,9,    146.5,3,    140.3,2,  1.1234
     49HH915_2,  P13C,   C35,  1,      3,      4,2,19910918,1037, -1.4910, 165.0077, 4452,   3500.7,   1.5457,  34.6797,2,-999.0000,9,    153.8,2,    152.5,2,  0.9059
     49HH915_2,  P13C,   C35,  1,      2,      3,2,19910918,1037, -1.4910, 165.0077, 4452,   4008.6,   1.4329,  34.6911,2,-999.0000,9,    168.1,2,    170.0,2,  0.6948
     49HH915_2,  P13C,   C35,  1,      1a,      1,2,19910918,1037, -1.4910, 165.0077, 4452,   4456.4,   1.3530,  34.6990,2,-999.0000,9,    187.1,2,    186.1,2,  0.5269
     49HH915_2,  P13C,   C35,  1,      1b,      2,2,19910918,1037, -1.4910, 165.0077, 4452,   4456.4,   1.3530,  34.6990,2,-999.0000,9,    187.1,2,    186.8,2,  0.5269
     49HH915_2,  P13C,   C36,  1,     24,     24,9,19910918,1539, -0.9937, 165.0067, 4420,      9.9,  29.4510,  34.2548,2,-999.0000,9,    203.2,2,   -999.0,9, 29.4482
     49HH915_2,  P13C,   C36,  1,     23a,     22,2,19910918,1539, -0.9937, 165.0067, 4420,     19.9,  29.4970,  34.2786,2,  34.2943,2,    199.0,2,    203.0,2, 29.4921
     49HH915_2,  P13C,   C36,  1,     23b,     23,2,19910918,1539, -0.9937, 165.0067, 4420,     19.9,  29.4970,  34.2786,2,  34.2923,2,    199.0,2,    204.4,2, 29.4921
     49HH915_2,  P13C,   C36,  1,     21a,     20,2,19910918,1539, -0.9937, 165.0067, 4420,     99.3,  27.7536,  35.2754,2,  35.2676,2,    176.6,2,    172.7,2, 27.7303
     49HH915_2,  P13C,   C36,  1,     21b,     21,2,19910918,1539, -0.9937, 165.0067, 4420,     99.3,  27.7536,  35.2754,2,  35.2837,2,    176.6,2,    170.3,2, 27.7303
     49HH915_2,  P13C,   C36,  1,     19a,     18,2,19910918,1539, -0.9937, 165.0067, 4420,    200.6,  16.0686,  35.3151,2,  35.2620,2,    141.9,2,    139.3,2, 16.0367
     49HH915_2,  P13C,   C36,  1,     19b,     19,2,19910918,1539, -0.9937, 165.0067, 4420,    200.6,  16.0686,  35.3151,2,  35.2608,2,    141.9,2,    138.6,2, 16.0367
     49HH915_2,  P13C,   C36,  1,     17,     17,2,19910918,1539, -0.9937, 165.0067, 4420,    401.0,   9.4304,  34.6888,2,  34.6923,2,     75.7,2,     72.9,2,  9.3852
     49HH915_2,  P13C,   C36,  1,     16,     16,2,19910918,1539, -0.9937, 165.0067, 4420,    501.1,   8.3766,  34.6327,2,  34.6282,2,     79.5,2,     75.6,2,  8.3238
     49HH915_2,  P13C,   C36,  1,     15,     15,2,19910918,1539, -0.9937, 165.0067, 4420,    600.9,   6.8605,  34.5617,2,  34.5645,2,     91.5,2,     87.9,2,  6.8036
     49HH915_2,  P13C,   C36,  1,     14,     14,2,19910918,1539, -0.9937, 165.0067, 4420,    701.2,   5.9636,  34.5323,2,  34.5342,2,    111.0,2,    112.2,2,  5.9015
     49HH915_2,  P13C,   C36,  1,     13,     13,2,19910918,1539, -0.9937, 165.0067, 4420,    801.3,   5.3005,  34.5234,2,  34.5350,2,    102.9,2,    105.1,2,  5.2330
     49HH915_2,  P13C,   C36,  1,     12,     12,2,19910918,1539, -0.9937, 165.0067, 4420,    901.5,   5.0428,  34.5410,2,  34.5425,2,     96.9,2,     92.9,2,  4.9680
     49HH915_2,  P13C,   C36,  1,     11,     11,2,19910918,1539, -0.9937, 165.0067, 4420,   1001.5,   4.6054,  34.5507,2,  34.5523,2,     95.4,2,     91.2,2,  4.5249
     49HH915_2,  P13C,   C36,  1,     10,     10,2,19910918,1539, -0.9937, 165.0067, 4420,   1201.4,   3.7636,  34.5734,2,  34.5739,2,     95.0,2,     95.7,2,  3.6729
     49HH915_2,  P13C,   C36,  1,      9,      9,2,19910918,1539, -0.9937, 165.0067, 4420,   1401.9,   3.3392,  34.5901,2,  34.5889,2,     98.6,2,     99.2,2,  3.2358
     49HH915_2,  P13C,   C36,  1,      8,      8,2,19910918,1539, -0.9937, 165.0067, 4420,   1601.5,   2.8768,  34.6070,2,  34.6066,2,    110.0,2,    108.9,2,  2.7618
     49HH915_2,  P13C,   C36,  1,      7,      7,2,19910918,1539, -0.9937, 165.0067, 4420,   1802.5,   2.6112,  34.6188,2,  34.6191,2,    117.6,2,    117.2,2,  2.4826
     49HH915_2,  P13C,   C36,  1,      6,      6,2,19910918,1539, -0.9937, 165.0067, 4420,   2002.0,   2.2477,  34.6384,2,  34.6376,2,    122.8,2,    119.4,2,  2.1073
     49HH915_2,  P13C,   C36,  1,      5a,      4,2,19910918,1539, -0.9937, 165.0067, 4420,   2502.1,   1.8753,  34.6574,2,  34.6596,2,    126.7,2,    129.8,2,  1.6971
     49HH915_2,  P13C,   C36,  1,      5b,      5,2,19910918,1539, -0.9937, 165.0067, 4420,   2502.1,   1.8753,  34.6574,2,  34.6553,2,    126.7,2,    130.2,2,  1.6971
     49HH915_2,  P13C,   C36,  1,      4,      3,2,19910918,1539, -0.9937, 165.0067, 4420,   3002.3,   1.6536,  34.6694,2,  34.6702,2,    145.6,2,    142.5,2,  1.4332
     49HH915_2,  P13C,   C36,  1,      2a,      1,2,19910918,1539, -0.9937, 165.0067, 4420,   4003.5,   1.4659,  34.6877,2,  34.6899,2,    169.2,2,    166.8,2,  1.1475
     49HH915_2,  P13C,   C36,  1,      2b,      2,2,19910918,1539, -0.9937, 165.0067, 4420,   4003.5,   1.4659,  34.6877,2,  34.6891,2,    169.2,2,    168.2,2,  1.1475
     49HH915_2,  P13C,   C37,  1,     24,     24,2,19910918,2043, -0.4918, 164.9980, 4435,      9.2,  29.3531,  34.1600,2,-999.0000,9,    210.1,3,    217.2,2, 29.3505
     49HH915_2,  P13C,   C37,  1,     23,     23,2,19910918,2043, -0.4918, 164.9980, 4435,     19.5,  29.3301,  34.2064,2,-999.0000,9,    202.6,2,    203.3,2, 29.3245
     49HH915_2,  P13C,   C37,  1,     22,     22,2,19910918,2043, -0.4918, 164.9980, 4435,     48.9,  29.1771,  34.2589,2,-999.0000,9,    211.7,2,    206.3,2, 29.1631
     49HH915_2,  P13C,   C37,  1,     21,     21,2,19910918,2043, -0.4918, 164.9980, 4435,    101.0,  29.0522,  34.9272,2,-999.0000,9,    190.5,3,    204.2,2, 29.0234
     49HH915_2,  P13C,   C37,  1,     20,     20,2,19910918,2043, -0.4918, 164.9980, 4435,    149.7,  20.7848,  35.3338,2,-999.0000,9,    140.4,3,    133.2,2, 20.7466
     49HH915_2,  P13C,   C37,  1,     18a,     17,2,19910918,2043, -0.4918, 164.9980, 4435,    299.7,  11.9715,  34.8602,2,-999.0000,9,    119.1,3,    131.9,2, 11.9055
     49HH915_2,  P13C,   C37,  1,     18b,     18,2,19910918,2043, -0.4918, 164.9980, 4435,    299.7,  11.9715,  34.8602,2,-999.0000,9,    119.1,3,    137.4,2, 11.9055
     49HH915_2,  P13C,   C37,  1,     18c,     19,2,19910918,2043, -0.4918, 164.9980, 4435,    299.7,  11.9715,  34.8602,2,-999.0000,9,    119.1,3,    134.9,2, 11.9055
     49HH915_2,  P13C,   C37,  1,     16,     16,2,19910918,2043, -0.4918, 164.9980, 4435,    500.8,   8.0660,  34.6092,2,-999.0000,9,     88.8,3,     80.4,2,  7.9643
     49HH915_2,  P13C,   C37,  1,     15,     15,2,19910918,2043, -0.4918, 164.9980, 4435,    601.3,   6.7067,  34.5505,2,-999.0000,9,     95.9,3,     86.0,2,  6.5883
     49HH915_2,  P13C,   C37,  1,     14,     14,2,19910918,2043, -0.4918, 164.9980, 4435,    701.0,   5.7459,  34.5328,2,-999.0000,9,     99.1,2,     96.4,2,  5.6109
     49HH915_2,  P13C,   C37,  1,     13,     13,2,19910918,2043, -0.4918, 164.9980, 4435,    802.1,   5.3974,  34.5390,2,-999.0000,9,     97.2,3,    107.2,2,  5.2440
     49HH915_2,  P13C,   C37,  1,     12,     12,2,19910918,2043, -0.4918, 164.9980, 4435,    901.3,   4.9480,  34.5444,2,-999.0000,9,     94.5,2,     92.6,2,  4.7773
     49HH915_2,  P13C,   C37,  1,     11,     11,2,19910918,2043, -0.4918, 164.9980, 4435,   1000.9,   4.5485,  34.5518,2,-999.0000,9,     94.1,2,     96.2,2,  4.3605
     49HH915_2,  P13C,   C37,  1,     10,     10,2,19910918,2043, -0.4918, 164.9980, 4435,   1201.9,   3.7296,  34.5755,2,-999.0000,9,     93.3,3,     99.6,2,  3.5079
     49HH915_2,  P13C,   C37,  1,      9,      9,2,19910918,2043, -0.4918, 164.9980, 4435,   1402.1,   3.2164,  34.5913,2,-999.0000,9,    105.1,2,    107.0,2,  2.9602
     49HH915_2,  P13C,   C37,  1,      7a,      7,2,19910918,2043, -0.4918, 164.9980, 4435,   1801.0,   2.4764,  34.6230,2,-999.0000,9,    118.9,2,    117.7,2,  2.1511
     49HH915_2,  P13C,   C37,  1,      7b,      8,2,19910918,2043, -0.4918, 164.9980, 4435,   1801.0,   2.4764,  34.6230,2,-999.0000,9,    118.9,2,    117.9,2,  2.1511
     49HH915_2,  P13C,   C37,  1,      5,      6,2,19910918,2043, -0.4918, 164.9980, 4435,   2502.3,   1.8813,  34.6559,2,-999.0000,9,    134.0,2,    129.7,2,  1.4297
     49HH915_2,  P13C,   C37,  1,      4a,      4,2,19910918,2043, -0.4918, 164.9980, 4435,   3002.8,   1.6426,  34.6710,2,-999.0000,9,    145.6,2,    144.1,2,  1.0982
     49HH915_2,  P13C,   C37,  1,      4b,      5,2,19910918,2043, -0.4918, 164.9980, 4435,   3002.8,   1.6426,  34.6710,2,-999.0000,9,    145.6,2,    143.1,2,  1.0982
     49HH915_2,  P13C,   C37,  1,      3,      3,2,19910918,2043, -0.4918, 164.9980, 4435,   3503.1,   1.5527,  34.6774,2,-999.0000,9,    154.0,2,    152.1,2,  0.9123
     49HH915_2,  P13C,   C37,  1,      1a,      1,2,19910918,2043, -0.4918, 164.9980, 4435,   4441.7,   1.3440,  34.6997,2,-999.0000,9,    186.8,2,    188.1,2,  0.5210
     49HH915_2,  P13C,   C37,  1,      1b,      2,2,19910918,2043, -0.4918, 164.9980, 4435,   4441.7,   1.3440,  34.6997,2,-999.0000,9,    186.8,2,    186.8,2,  0.5210
     49HH915_2,  P13C,   C38,  1,     24a,     23,2,19910919,0151,  0.0292, 165.0165, 4406,      9.6,  29.3571,  34.1686,2,  34.1730,2,    203.9,2,    200.5,2, 29.3548
     49HH915_2,  P13C,   C38,  1,     24b,     24,2,19910919,0151,  0.0292, 165.0165, 4406,      9.6,  29.3571,  34.1686,2,  34.1738,2,    203.9,2,    200.2,2, 29.3548
     49HH915_2,  P13C,   C38,  1,     22a,     21,2,19910919,0151,  0.0292, 165.0165, 4406,     50.0,  29.2161,  34.2287,2,  34.2354,2,    202.0,2,    200.3,2, 29.2040
     49HH915_2,  P13C,   C38,  1,     22b,     22,2,19910919,0151,  0.0292, 165.0165, 4406,     50.0,  29.2161,  34.2287,2,  34.2358,2,    202.0,2,    201.2,2, 29.2040
     49HH915_2,  P13C,   C38,  1,     20,     20,2,19910919,0151,  0.0292, 165.0165, 4406,    150.7,  21.6013,  35.1189,2,  35.1942,2,    137.0,2,    136.5,2, 21.5718
     49HH915_2,  P13C,   C38,  1,     19a,     18,2,19910919,0151,  0.0292, 165.0165, 4406,    200.6,  16.6312,  35.0092,3,  35.1824,2,    146.0,2,    146.2,2, 16.5985
     49HH915_2,  P13C,   C38,  1,     19b,     19,2,19910919,0151,  0.0292, 165.0165, 4406,    200.6,  16.6312,  35.0092,3,  35.1804,2,    146.0,2,    144.1,2, 16.5985
     49HH915_2,  P13C,   C38,  1,     17,     17,2,19910919,0151,  0.0292, 165.0165, 4406,    401.1,   9.5254,  34.6952,2,  34.6962,2,     84.1,2,     83.9,2,  9.4799
     49HH915_2,  P13C,   C38,  1,     16,     16,2,19910919,0151,  0.0292, 165.0165, 4406,    501.6,   8.0869,  34.6128,2,  34.5771,3,     83.0,2,     77.8,2,  8.0351
     49HH915_2,  P13C,   C38,  1,     15a,     14,2,19910919,0151,  0.0292, 165.0165, 4406,    601.0,   7.1741,  34.5768,2,  34.5783,2,     85.2,2,     83.1,2,  7.1158
     49HH915_2,  P13C,   C38,  1,     15b,     15,2,19910919,0151,  0.0292, 165.0165, 4406,    601.0,   7.1741,  34.5768,2,  34.5755,2,     85.2,2,     83.1,2,  7.1158
     49HH915_2,  P13C,   C38,  1,     13,     13,2,19910919,0151,  0.0292, 165.0165, 4406,    801.6,   5.3494,  34.5416,2,  34.5409,2,     96.4,2,     95.6,2,  5.2816
     49HH915_2,  P13C,   C38,  1,     11a,     11,2,19910919,0151,  0.0292, 165.0165, 4406,   1001.2,   4.5984,  34.5488,2,  34.5523,2,     95.3,2,     93.2,2,  4.5180
     49HH915_2,  P13C,   C38,  1,     11b,     12,2,19910919,0151,  0.0292, 165.0165, 4406,   1001.2,   4.5984,  34.5488,2,  34.5511,2,     95.3,2,     96.2,2,  4.5180
     49HH915_2,  P13C,   C38,  1,     10,     10,2,19910919,0151,  0.0292, 165.0165, 4406,   1202.1,   3.8355,  34.5723,2,  34.5720,2,     94.9,2,     94.1,2,  3.7441
     49HH915_2,  P13C,   C38,  1,      9,      9,2,19910919,0151,  0.0292, 165.0165, 4406,   1401.9,   3.3272,  34.5908,2,  34.5908,2,     98.1,2,     96.3,2,  3.2239
     49HH915_2,  P13C,   C38,  1,      8,      8,2,19910919,0151,  0.0292, 165.0165, 4406,   1602.0,   2.8798,  34.6084,2,  34.6070,2,    108.4,2,    107.5,2,  2.7647
     49HH915_2,  P13C,   C38,  1,      7,      7,2,19910919,0151,  0.0292, 165.0165, 4406,   1802.4,   2.4884,  34.6254,2,  34.6242,2,    116.0,2,    114.4,2,  2.3615
     49HH915_2,  P13C,   C38,  1,      6,      6,2,19910919,0151,  0.0292, 165.0165, 4406,   2002.4,   2.2367,  34.6389,2,  34.6376,2,    120.4,2,    117.8,2,  2.0964
     49HH915_2,  P13C,   C38,  1,      5,      5,2,19910919,0151,  0.0292, 165.0165, 4406,   2502.6,   1.8992,  34.6562,2,  34.6573,2,    129.5,2,    128.3,2,  1.7205
     49HH915_2,  P13C,   C38,  1,      4,      4,2,19910919,0151,  0.0292, 165.0165, 4406,   3002.8,   1.6736,  34.6688,2,  34.6659,2,    141.6,2,    141.1,2,  1.4527
     49HH915_2,  P13C,   C38,  1,      3,      3,2,19910919,0151,  0.0292, 165.0165, 4406,   3505.4,   1.5657,  34.6786,2,  34.6785,2,    151.7,2,    151.0,2,  1.2973
     49HH915_2,  P13C,   C38,  1,      2a,      1,2,19910919,0151,  0.0292, 165.0165, 4406,   4006.7,   1.4619,  34.6894,2,  34.6899,2,    169.3,2,    167.7,2,  1.1432
     49HH915_2,  P13C,   C38,  1,      2b,      2,2,19910919,0151,  0.0292, 165.0165, 4406,   4006.7,   1.4619,  34.6894,2,  34.6895,2,    169.3,2,    167.8,2,  1.1432
     49HH915_2,  P13C,   C39,  1,     19a,     18,2,19910919,0636,  0.5042, 164.9995, 4365,    200.6,  16.6022,  35.0882,2,-999.0000,9,    137.5,3,    145.7,2, 16.5542
     49HH915_2,  P13C,   C39,  1,     19b,     19,2,19910919,0636,  0.5042, 164.9995, 4365,    200.6,  16.6022,  35.0882,2,-999.0000,9,    137.5,3,    144.8,2, 16.5542
     49HH915_2,  P13C,   C39,  1,     17a,     16,2,19910919,0636,  0.5042, 164.9995, 4365,    401.2,   9.4115,  34.6822,2,-999.0000,9,     81.1,3,     75.5,2,  9.3277
     49HH915_2,  P13C,   C39,  1,     17b,     17,2,19910919,0636,  0.5042, 164.9995, 4365,    401.2,   9.4115,  34.6822,2,-999.0000,9,     81.1,3,     75.6,2,  9.3277
     49HH915_2,  P13C,   C39,  1,     15,     15,2,19910919,0636,  0.5042, 164.9995, 4365,    602.0,   6.6847,  34.5556,2,-999.0000,9,     85.4,2,     85.6,2,  6.5662
     49HH915_2,  P13C,   C39,  1,     14,     14,2,19910919,0636,  0.5042, 164.9995, 4365,    701.3,   6.0345,  34.5323,2,-999.0000,9,    107.1,2,    108.7,2,  5.8985
     49HH915_2,  P13C,   C39,  1,     13a,     12,2,19910919,0636,  0.5042, 164.9995, 4365,    801.3,   5.4283,  34.5397,2,-999.0000,9,     96.8,2,     98.1,2,  5.2749
     49HH915_2,  P13C,   C39,  1,     13b,     13,2,19910919,0636,  0.5042, 164.9995, 4365,    801.3,   5.4283,  34.5397,2,-999.0000,9,     96.8,2,     97.2,2,  5.2749
     49HH915_2,  P13C,   C39,  1,     11,     11,2,19910919,0636,  0.5042, 164.9995, 4365,   1002.1,   4.4526,  34.5551,2,-999.0000,9,     92.4,2,     91.7,2,  4.2649
     49HH915_2,  P13C,   C39,  1,     10,     10,2,19910919,0636,  0.5042, 164.9995, 4365,   1201.8,   3.8515,  34.5723,2,-999.0000,9,     92.0,2,     94.9,2,  3.6291
     49HH915_2,  P13C,   C39,  1,      9,      9,2,19910919,0636,  0.5042, 164.9995, 4365,   1401.5,   3.2183,  34.5943,2,-999.0000,9,    100.5,2,    100.6,2,  2.9622
     49HH915_2,  P13C,   C39,  1,      8a,      7,2,19910919,0636,  0.5042, 164.9995, 4365,   1602.6,   2.8848,  34.6053,2,-999.0000,9,    107.1,2,    107.4,2,  2.5934
     49HH915_2,  P13C,   C39,  1,      8b,      8,2,19910919,0636,  0.5042, 164.9995, 4365,   1602.6,   2.8848,  34.6053,2,-999.0000,9,    107.1,2,    107.4,2,  2.5934
     49HH915_2,  P13C,   C39,  1,      6,      6,2,19910919,0636,  0.5042, 164.9995, 4365,   2004.7,   2.2078,  34.6393,2,-999.0000,9,    115.5,3,    119.7,2,  1.8468
     49HH915_2,  P13C,   C39,  1,      5a,      4,2,19910919,0636,  0.5042, 164.9995, 4365,   2502.5,   1.8962,  34.6570,2,-999.0000,9,    125.0,3,    129.3,2,  1.4444
     49HH915_2,  P13C,   C39,  1,      5b,      5,2,19910919,0636,  0.5042, 164.9995, 4365,   2502.5,   1.8962,  34.6570,2,-999.0000,9,    125.0,3,    128.7,2,  1.4444
     49HH915_2,  P13C,   C39,  1,      3,      3,2,19910919,0636,  0.5042, 164.9995, 4365,   3502.5,   1.5587,  34.6775,2,-999.0000,9,    147.9,3,    151.8,2,  0.9184
     49HH915_2,  P13C,   C39,  1,      2a,      1,2,19910919,0636,  0.5042, 164.9995, 4365,   4003.2,   1.4469,  34.6908,2,-999.0000,9,    163.9,3,    170.0,2,  0.7096
     49HH915_2,  P13C,   C39,  1,      2b,      2,2,19910919,0636,  0.5042, 164.9995, 4365,   4003.2,   1.4469,  34.6908,2,-999.0000,9,    163.9,3,    169.5,2,  0.7096