BOTTLE,20220929CCHSIOAMB
EXPOCODE,SECT_ID,STNNBR,CASTNO,SAMPNO,BTLNBR,BTLNBR_FLAG_W,DATE,TIME,LATITUDE,LONGITUDE,DEPTH,CTDPRS,CTDTMP,CTDSAL,CTDSAL_FLAG_W,SALNTY,SALNTY_FLAG_W,CTDOXY,CTDOXY_FLAG_W,OXYGEN,OXYGEN_FLAG_W,THETA
,,,,,,,,,,,,DBAR,ITS-90,PSS-78,,PSS-78,,UMOL/KG,,UMOL/KG,,DEG C
     49HH915_2,  P13C,   C68,  1,     24a,     23,2,19910926,1204, 21.0082, 163.9837, 5077,     51.2,  28.0715,  35.2358,2,  35.2356,2,    217.7,2,    216.6,2, 28.0594
     49HH915_2,  P13C,   C68,  1,     24b,     24,2,19910926,1204, 21.0082, 163.9837, 5077,     51.2,  28.0715,  35.2358,2,  35.2352,2,    217.7,2,    215.9,2, 28.0594
     49HH915_2,  P13C,   C68,  1,     22a,     21,2,19910926,1204, 21.0082, 163.9837, 5077,    201.1,  17.8654,  34.8578,2,  34.8701,2,    196.2,3,    201.3,2, 17.8311
     49HH915_2,  P13C,   C68,  1,     22b,     22,2,19910926,1204, 21.0082, 163.9837, 5077,    201.1,  17.8654,  34.8578,2,  34.8772,2,    196.2,3,    202.3,2, 17.8311
     49HH915_2,  P13C,   C68,  1,     20a,     19,2,19910926,1204, 21.0082, 163.9837, 5077,    402.1,  12.0474,  34.3611,2,  34.3606,2,    185.3,3,    207.4,2, 11.9947
     49HH915_2,  P13C,   C68,  1,     20b,     20,2,19910926,1204, 21.0082, 163.9837, 5077,    402.1,  12.0474,  34.3611,2,  34.3610,2,    185.3,3,    206.6,2, 11.9947
     49HH915_2,  P13C,   C68,  1,     18a,     17,2,19910926,1204, 21.0082, 163.9837, 5077,    602.4,   6.5169,  34.0788,2,  34.0805,2,     93.7,3,    112.6,2,  6.4619
     49HH915_2,  P13C,   C68,  1,     18b,     18,2,19910926,1204, 21.0082, 163.9837, 5077,    602.4,   6.5169,  34.0788,2,  34.0820,2,     93.7,3,    112.7,2,  6.4619
     49HH915_2,  P13C,   C68,  1,     16,     16,2,19910926,1204, 21.0082, 163.9837, 5077,    852.5,   4.4996,  34.3777,2,  34.3763,2,     48.5,2,     50.0,2,  4.4329
     49HH915_2,  P13C,   C68,  1,     15,     15,2,19910926,1204, 21.0082, 163.9837, 5077,   1002.7,   3.8884,  34.4767,2,  34.4741,2,     59.6,2,     61.2,2,  3.8134
     49HH915_2,  P13C,   C68,  1,     14,     14,2,19910926,1204, 21.0082, 163.9837, 5077,   1202.4,   3.2942,  34.5287,2,  34.5244,2,     69.8,2,     72.7,2,  3.2079
     49HH915_2,  P13C,   C68,  1,     13,     13,2,19910926,1204, 21.0082, 163.9837, 5077,   1403.3,   2.8389,  34.5586,2,  34.5562,2,     77.4,3,     81.5,2,  2.7408
     49HH915_2,  P13C,   C68,  1,     12a,     11,2,19910926,1204, 21.0082, 163.9837, 5077,   1602.9,   2.4964,  34.5795,2,  34.5783,2,     86.9,3,     91.0,2,  2.3861
     49HH915_2,  P13C,   C68,  1,     12b,     12,2,19910926,1204, 21.0082, 163.9837, 5077,   1602.9,   2.4964,  34.5795,2,  34.5783,2,     86.9,3,     92.9,2,  2.3861
     49HH915_2,  P13C,   C68,  1,     10a,      9,2,19910926,1204, 21.0082, 163.9837, 5077,   2003.0,   2.0330,  34.6194,2,  34.6199,2,    102.9,3,    107.4,2,  1.8958
     49HH915_2,  P13C,   C68,  1,     10b,     10,2,19910926,1204, 21.0082, 163.9837, 5077,   2003.0,   2.0330,  34.6194,2,  34.6211,2,    102.9,3,    112.4,2,  1.8958
     49HH915_2,  P13C,   C68,  1,      8a,      7,2,19910926,1204, 21.0082, 163.9837, 5077,   3002.7,   1.6017,  34.6630,2,  34.6636,2,    131.4,3,    139.3,2,  1.3824
     49HH915_2,  P13C,   C68,  1,      8b,      8,2,19910926,1204, 21.0082, 163.9837, 5077,   3002.7,   1.6017,  34.6630,2,  34.6636,2,    131.4,3,    138.0,2,  1.3824
     49HH915_2,  P13C,   C68,  1,      6a,      5,2,19910926,1204, 21.0082, 163.9837, 5077,   4004.2,   1.4699,  34.6820,2,  34.6817,2,    152.8,3,    159.1,2,  1.1513
     49HH915_2,  P13C,   C68,  1,      6b,      6,2,19910926,1204, 21.0082, 163.9837, 5077,   4004.2,   1.4699,  34.6820,2,  34.6805,2,    152.8,3,    159.2,2,  1.1514
     49HH915_2,  P13C,   C68,  1,      5,      4,2,19910926,1204, 21.0082, 163.9837, 5077,   4504.4,   1.4479,  34.6881,2,  34.6883,2,    162.1,3,    171.8,2,  1.0740
     49HH915_2,  P13C,   C68,  1,      4,      3,2,19910926,1204, 21.0082, 163.9837, 5077,   5005.1,   1.4639,  34.6924,2,  34.6667,4,    170.2,2,    168.5,2,  1.0303
     49HH915_2,  P13C,   C68,  1,      2,      2,2,19910926,1204, 21.0082, 163.9837, 5077,   5081.1,   1.4639,  34.6935,2,  34.6915,2,    371.7,4,    176.8,2,  1.0209
     49HH915_2,  P13C,   C68,  1,      1,      1,2,19910926,1204, 21.0082, 163.9837, 5077,   5081.6,   1.4649,  34.6935,2,  34.6923,2,    169.2,2,    181.2,4,  1.0218