BOTTLE,20220929CCHSIOAMB
EXPOCODE,SECT_ID,STNNBR,CASTNO,SAMPNO,BTLNBR,BTLNBR_FLAG_W,DATE,TIME,LATITUDE,LONGITUDE,DEPTH,CTDPRS,CTDTMP,CTDSAL,CTDSAL_FLAG_W,SALNTY,SALNTY_FLAG_W,CTDOXY,CTDOXY_FLAG_W,OXYGEN,OXYGEN_FLAG_W,THETA
,,,,,,,,,,,,DBAR,ITS-90,PSS-78,,PSS-78,,UMOL/KG,,UMOL/KG,,DEG C
     49HH915_2,  P13C,   C48,  1,     24,     24,9,19910921,0656,  5.9952, 165.0062, 4986,     10.2,  29.4081,  33.6237,2,-999.0000,9,    206.5,2,   -999.0,9, 29.4052
     49HH915_2,  P13C,   C48,  1,     23,     23,9,19910921,0656,  5.9952, 165.0062, 4986,     19.8,  29.1152,  33.7316,2,-999.0000,9,    204.6,2,   -999.0,9, 29.1096
     49HH915_2,  P13C,   C48,  1,     22,     22,2,19910921,0656,  5.9952, 165.0062, 4986,     50.2,  25.4006,  34.7263,2,  34.6734,2,    192.1,2,    191.1,2, 25.3896
     49HH915_2,  P13C,   C48,  1,     21a,     20,2,19910921,0656,  5.9952, 165.0062, 4986,    100.8,  20.2781,  34.7740,2,  34.7827,2,    149.8,2,    148.1,2, 20.2593
     49HH915_2,  P13C,   C48,  1,     21b,     21,2,19910921,0656,  5.9952, 165.0062, 4986,    100.8,  20.2781,  34.7740,2,  34.7827,2,    149.8,2,    148.4,2, 20.2593
     49HH915_2,  P13C,   C48,  1,     19a,     18,2,19910921,0656,  5.9952, 165.0062, 4986,    301.2,   9.7612,  34.6507,2,  34.6541,2,     50.0,2,     47.0,2,  9.7267
     49HH915_2,  P13C,   C48,  1,     19b,     19,2,19910921,0656,  5.9952, 165.0062, 4986,    301.2,   9.7612,  34.6507,2,  34.6529,2,     50.0,2,     48.8,2,  9.7267
     49HH915_2,  P13C,   C48,  1,     17,     17,2,19910921,0656,  5.9952, 165.0062, 4986,    501.6,   8.0060,  34.6037,2,  34.5991,2,     42.9,2,     45.9,2,  7.9545
     49HH915_2,  P13C,   C48,  1,     16,     16,2,19910921,0656,  5.9952, 165.0062, 4986,    601.8,   7.0702,  34.5818,2,  34.5673,2,     40.8,2,     35.9,2,  7.0123
     49HH915_2,  P13C,   C48,  1,     15,     15,2,19910921,0656,  5.9952, 165.0062, 4986,    702.0,   6.1554,  34.5473,2,  34.5374,2,     51.9,2,     49.3,2,  6.0922
     49HH915_2,  P13C,   C48,  1,     14,     14,2,19910921,0656,  5.9952, 165.0062, 4986,    802.1,   5.5502,  34.5410,2,  34.5386,2,     57.6,2,     55.9,2,  5.4811
     49HH915_2,  P13C,   C48,  1,     13,     13,2,19910921,0656,  5.9952, 165.0062, 4986,    902.2,   5.0329,  34.5451,2,  34.5417,2,     62.2,2,     58.3,2,  4.9581
     49HH915_2,  P13C,   C48,  1,     12a,     11,2,19910921,0656,  5.9952, 165.0062, 4986,   1002.2,   4.5705,  34.5517,2,  34.5531,2,     75.7,2,     76.2,2,  4.4902
     49HH915_2,  P13C,   C48,  1,     12b,     12,2,19910921,0656,  5.9952, 165.0062, 4986,   1002.2,   4.5705,  34.5517,2,  34.5531,2,     75.7,2,     75.0,2,  4.4902
     49HH915_2,  P13C,   C48,  1,     10a,      9,2,19910921,0656,  5.9952, 165.0062, 4986,   1402.1,   3.2693,  34.5907,2,  34.5893,2,     90.8,2,     91.7,2,  3.1666
     49HH915_2,  P13C,   C48,  1,     10b,     10,2,19910921,0656,  5.9952, 165.0062, 4986,   1402.1,   3.2693,  34.5907,2,  34.5893,2,     90.8,2,     91.1,2,  3.1666
     49HH915_2,  P13C,   C48,  1,      8,      8,2,19910921,0656,  5.9952, 165.0062, 4986,   1802.5,   2.4984,  34.6232,2,  34.6211,2,    103.5,2,    102.3,2,  2.3714
     49HH915_2,  P13C,   C48,  1,      7a,      6,2,19910921,0656,  5.9952, 165.0062, 4986,   2002.2,   2.2367,  34.6378,2,  34.6368,2,    111.4,2,    109.3,2,  2.0964
     49HH915_2,  P13C,   C48,  1,      7b,      7,2,19910921,0656,  5.9952, 165.0062, 4986,   2002.2,   2.2367,  34.6378,2,  34.6364,2,    111.4,2,    109.5,2,  2.0964
     49HH915_2,  P13C,   C48,  1,      5,      5,2,19910921,0656,  5.9952, 165.0062, 4986,   3001.8,   1.6855,  34.6700,2,  34.6683,2,    138.7,2,    137.4,2,  1.4644
     49HH915_2,  P13C,   C48,  1,      4a,      3,2,19910921,0656,  5.9952, 165.0062, 4986,   3502.6,   1.5457,  34.6789,2,  34.6789,2,    154.1,2,    150.6,2,  1.2781
     49HH915_2,  P13C,   C48,  1,      4b,      4,2,19910921,0656,  5.9952, 165.0062, 4986,   3502.6,   1.5457,  34.6789,2,  34.6785,2,    154.1,2,    151.4,2,  1.2781
     49HH915_2,  P13C,   C48,  1,      2,      2,2,19910921,0656,  5.9952, 165.0062, 4986,   4504.0,   1.4069,  34.6961,2,  34.6946,2,    182.0,2,    180.6,2,  1.0342
     49HH915_2,  P13C,   C48,  1,      1,      1,2,19910921,0656,  5.9952, 165.0062, 4986,   4996.4,   1.3770,  34.7007,2,  34.7017,2,    188.0,2,    189.7,2,  0.9472
     49HH915_2,  P13C,   C49,  1,     24,     24,2,19910921,1425,  6.9885, 164.5012, 5093,     10.7,  29.8389,  33.4859,2,  33.4849,2,    196.4,3,    201.7,2, 29.8363
     49HH915_2,  P13C,   C49,  1,     22a,     22,2,19910921,1425,  6.9885, 164.5012, 5093,     50.6,  27.2478,  34.4943,2,  34.4926,2,    215.7,2,    209.6,2, 27.2361
     49HH915_2,  P13C,   C49,  1,     22b,     23,2,19910921,1425,  6.9885, 164.5012, 5093,     50.6,  27.2478,  34.4943,2,  34.4989,2,    215.7,2,    208.2,2, 27.2361
     49HH915_2,  P13C,   C49,  1,     20a,     20,2,19910921,1425,  6.9885, 164.5012, 5093,    201.1,  10.4446,  34.6260,2,  34.6152,2,     44.0,2,     41.9,2, 10.4207
     49HH915_2,  P13C,   C49,  1,     20b,     21,2,19910921,1425,  6.9885, 164.5012, 5093,    201.1,  10.4446,  34.6260,2,  34.6152,2,     44.0,2,     42.4,2, 10.4207
     49HH915_2,  P13C,   C49,  1,     18a,     18,2,19910921,1425,  6.9885, 164.5012, 5093,    401.8,   8.6263,  34.6116,2,  34.6066,2,     49.8,2,     46.4,2,  8.5835
     49HH915_2,  P13C,   C49,  1,     18b,     19,2,19910921,1425,  6.9885, 164.5012, 5093,    401.8,   8.6263,  34.6116,2,  34.6073,2,     49.8,2,     45.8,2,  8.5835
     49HH915_2,  P13C,   C49,  1,     16,     17,2,19910921,1425,  6.9885, 164.5012, 5093,    601.9,   7.0642,  34.5506,2,  34.5456,2,     52.3,2,     50.8,2,  7.0063
     49HH915_2,  P13C,   C49,  1,     15,     16,2,19910921,1425,  6.9885, 164.5012, 5093,    702.2,   6.3781,  34.5443,2,  34.5468,2,     47.3,2,     43.6,2,  6.3137
     49HH915_2,  P13C,   C49,  1,     14a,     14,2,19910921,1425,  6.9885, 164.5012, 5093,    852.2,   5.3814,  34.5437,2,  34.5413,2,     60.2,2,     58.2,2,  5.3088
     49HH915_2,  P13C,   C49,  1,     14b,     15,2,19910921,1425,  6.9885, 164.5012, 5093,    852.2,   5.3814,  34.5437,2,  34.5413,2,     60.2,2,     59.0,2,  5.3088
     49HH915_2,  P13C,   C49,  1,     12,     13,2,19910921,1425,  6.9885, 164.5012, 5093,   1202.4,   3.8135,  34.5727,2,  34.5700,2,     85.0,2,     86.3,2,  3.7223
     49HH915_2,  P13C,   C49,  1,     11,     12,2,19910921,1425,  6.9885, 164.5012, 5093,   1401.6,   3.2573,  34.5904,2,  34.5873,2,     87.9,2,     88.5,2,  3.1548
     49HH915_2,  P13C,   C49,  1,     10,     11,2,19910921,1425,  6.9885, 164.5012, 5093,   1602.6,   2.8039,  34.6076,2,  34.6054,2,     96.5,2,     94.7,2,  2.6897
     49HH915_2,  P13C,   C49,  1,      9a,      9,2,19910921,1425,  6.9885, 164.5012, 5093,   1802.1,   2.5054,  34.6221,2,  34.6215,2,    105.8,2,    103.4,2,  2.3783
     49HH915_2,  P13C,   C49,  1,      9b,     10,2,19910921,1425,  6.9885, 164.5012, 5093,   1802.1,   2.5054,  34.6221,2,  34.6211,2,    105.8,2,    104.0,2,  2.3783
     49HH915_2,  P13C,   C49,  1,      7a,      7,2,19910921,1425,  6.9885, 164.5012, 5093,   2501.7,   1.8683,  34.6590,2,  34.6569,2,    124.2,2,    123.0,2,  1.6903
     49HH915_2,  P13C,   C49,  1,      7b,      8,2,19910921,1425,  6.9885, 164.5012, 5093,   2501.7,   1.8683,  34.6590,2,  34.6569,2,    124.2,2,    123.2,2,  1.6903
     49HH915_2,  P13C,   C49,  1,      5,      6,2,19910921,1425,  6.9885, 164.5012, 5093,   3503.6,   1.5298,  34.6795,2,  34.6793,2,    153.2,2,    152.2,2,  1.2625
     49HH915_2,  P13C,   C49,  1,      4,      5,2,19910921,1425,  6.9885, 164.5012, 5093,   4003.5,   1.4329,  34.6908,2,  34.6828,3,    169.4,2,    169.0,2,  1.1155
     49HH915_2,  P13C,   C49,  1,      3a,      3,2,19910921,1425,  6.9885, 164.5012, 5093,   4504.5,   1.3940,  34.6973,2,  34.6938,2,    182.1,2,    180.5,2,  1.0217
     49HH915_2,  P13C,   C49,  1,      3b,      4,2,19910921,1425,  6.9885, 164.5012, 5093,   4504.5,   1.3940,  34.6973,2,  34.6950,2,    182.1,2,    180.6,2,  1.0217
     49HH915_2,  P13C,   C49,  1,      2,      2,2,19910921,1425,  6.9885, 164.5012, 5093,   5005.7,   1.3870,  34.7012,2,  34.7009,2,    189.1,2,    190.0,2,  0.9557
     49HH915_2,  P13C,   C49,  1,      1,      1,2,19910921,1425,  6.9885, 164.5012, 5093,   5101.0,   1.3920,  34.7006,2,  34.7005,2,    189.9,2,    189.7,2,  0.9490
     49HH915_2,  P13C,   C50,  1,     24a,     23,2,19910921,2152,  8.0030, 163.9970, 5139,     10.3,  29.7519,  33.5854,2,  33.5862,2,    206.9,3,    198.1,2, 29.7494
     49HH915_2,  P13C,   C50,  1,     24b,     24,2,19910921,2152,  8.0030, 163.9970, 5139,     10.3,  29.7519,  33.5854,2,  33.5822,2,    206.9,3,    199.2,2, 29.7494
     49HH915_2,  P13C,   C50,  1,     23,     22,2,19910921,2152,  8.0030, 163.9970, 5139,     20.4,  29.6100,  33.6406,2,  33.6566,2,    210.8,3,    200.9,2, 29.6050
     49HH915_2,  P13C,   C50,  1,     22,     21,2,19910921,2152,  8.0030, 163.9970, 5139,     50.0,  28.8422,  34.2016,2,  34.2240,2,    209.6,2,    211.5,2, 28.8302
     49HH915_2,  P13C,   C50,  1,     20a,     19,2,19910921,2152,  8.0030, 163.9970, 5139,    200.9,  10.9552,  34.5985,2,  34.5924,2,     61.7,2,     67.5,2, 10.9306
     49HH915_2,  P13C,   C50,  1,     20b,     20,2,19910921,2152,  8.0030, 163.9970, 5139,    200.9,  10.9552,  34.5985,2,  34.5924,2,     61.7,2,     66.5,2, 10.9306
     49HH915_2,  P13C,   C50,  1,     19,     18,2,19910921,2152,  8.0030, 163.9970, 5139,    300.8,   9.4644,  34.6494,2,  34.6463,2,     46.8,2,     44.3,2,  9.4306
     49HH915_2,  P13C,   C50,  1,     17,     17,2,19910921,2152,  8.0030, 163.9970, 5139,    501.0,   8.0979,  34.6075,2,  34.5995,2,     48.5,2,     47.8,2,  8.0461
     49HH915_2,  P13C,   C50,  1,     16a,     15,2,19910921,2152,  8.0030, 163.9970, 5139,    601.3,   7.2640,  34.5667,2,  34.5625,2,     46.2,2,     45.2,2,  7.2052
     49HH915_2,  P13C,   C50,  1,     16b,     16,2,19910921,2152,  8.0030, 163.9970, 5139,    601.3,   7.2640,  34.5667,2,  34.5629,2,     46.2,2,     43.8,2,  7.2052
     49HH915_2,  P13C,   C50,  1,     14,     14,2,19910921,2152,  8.0030, 163.9970, 5139,    851.8,   5.2306,  34.5386,2,  34.5366,2,     64.5,2,     65.5,2,  5.1590
     49HH915_2,  P13C,   C50,  1,     13a,     12,2,19910921,2152,  8.0030, 163.9970, 5139,   1001.8,   4.5795,  34.5681,3,  34.5496,2,     72.3,2,     67.1,3,  4.4991
     49HH915_2,  P13C,   C50,  1,     13b,     13,2,19910921,2152,  8.0030, 163.9970, 5139,   1001.8,   4.5795,  34.5681,3,  34.5492,2,     72.3,2,     72.1,2,  4.4992
     49HH915_2,  P13C,   C50,  1,     11a,     10,2,19910921,2152,  8.0030, 163.9970, 5139,   1402.2,   3.1644,  34.5921,2,  34.5869,2,     87.4,2,     87.5,2,  3.0628
     49HH915_2,  P13C,   C50,  1,     11b,     11,2,19910921,2152,  8.0030, 163.9970, 5139,   1402.2,   3.1644,  34.5921,2,  34.5912,2,     87.4,2,     89.6,2,  3.0628
     49HH915_2,  P13C,   C50,  1,      9a,      8,2,19910921,2152,  8.0030, 163.9970, 5139,   1802.3,   2.4784,  34.6238,2,  34.6223,2,    103.5,2,    102.2,2,  2.3517
     49HH915_2,  P13C,   C50,  1,      9b,      9,2,19910921,2152,  8.0030, 163.9970, 5139,   1802.3,   2.4784,  34.6238,2,  34.6219,2,    103.5,2,    103.2,2,  2.3517
     49HH915_2,  P13C,   C50,  1,      7a,      6,2,19910921,2152,  8.0030, 163.9970, 5139,   2502.5,   1.8733,  34.6594,2,  34.6553,2,    125.1,2,    119.4,3,  1.6951
     49HH915_2,  P13C,   C50,  1,      7b,      7,2,19910921,2152,  8.0030, 163.9970, 5139,   2502.5,   1.8733,  34.6594,2,  34.6569,2,    125.1,2,    124.6,2,  1.6951
     49HH915_2,  P13C,   C50,  1,      5,      5,2,19910921,2152,  8.0030, 163.9970, 5139,   3503.0,   1.5208,  34.6807,2,  34.6781,2,    155.3,2,    153.8,2,  1.2538
     49HH915_2,  P13C,   C50,  1,      4a,      3,2,19910921,2152,  8.0030, 163.9970, 5139,   4003.6,   1.4459,  34.6893,2,  34.6887,2,    170.4,2,    167.9,2,  1.1280
     49HH915_2,  P13C,   C50,  1,      4b,      4,2,19910921,2152,  8.0030, 163.9970, 5139,   4003.6,   1.4459,  34.6893,2,  34.6872,2,    170.4,2,    167.1,2,  1.1281
     49HH915_2,  P13C,   C50,  1,      2a,      1,2,19910921,2152,  8.0030, 163.9970, 5139,   5003.2,   1.3890,  34.7013,2,  34.6993,2,    188.1,2,    189.3,2,  0.9580
     49HH915_2,  P13C,   C50,  1,      2b,      2,2,19910921,2152,  8.0030, 163.9970, 5139,   5003.2,   1.3890,  34.7013,2,  34.6997,2,    188.1,2,    188.7,2,  0.9580
     49HH915_2,  P13C,   C51,  1,     22a,     21,2,19910922,0445,  9.0017, 163.9935, 5202,     49.6,  29.0192,  34.0402,2,  34.0401,2,    228.4,3,    205.7,2, 29.0072
     49HH915_2,  P13C,   C51,  1,     22b,     22,2,19910922,0445,  9.0017, 163.9935, 5202,     49.6,  29.0192,  34.0402,2,  34.0365,2,    228.4,3,    206.9,2, 29.0072
     49HH915_2,  P13C,   C51,  1,     20a,     19,2,19910922,0445,  9.0017, 163.9935, 5202,    201.1,  11.2260,  34.5072,2,  34.5107,2,     78.1,2,     72.9,2, 11.2010
     49HH915_2,  P13C,   C51,  1,     20b,     20,2,19910922,0445,  9.0017, 163.9935, 5202,    201.1,  11.2260,  34.5072,2,  34.5095,2,     78.1,2,     74.4,2, 11.2010
     49HH915_2,  P13C,   C51,  1,     19,     18,2,19910922,0445,  9.0017, 163.9935, 5202,    301.3,   9.5873,  34.6215,2,  34.6195,2,     44.1,2,     40.3,2,  9.5532
     49HH915_2,  P13C,   C51,  1,     18,     17,2,19910922,0445,  9.0017, 163.9935, 5202,    401.1,   8.6662,  34.6077,2,  34.6073,2,     49.2,2,     45.1,2,  8.6233
     49HH915_2,  P13C,   C51,  1,     16,     16,2,19910922,0445,  9.0017, 163.9935, 5202,    601.7,   7.0452,  34.5455,2,  34.5425,2,     54.8,2,     54.1,2,  6.9874
     49HH915_2,  P13C,   C51,  1,     15a,     14,2,19910922,0445,  9.0017, 163.9935, 5202,    701.9,   6.3411,  34.5383,2,  34.5370,2,     54.4,2,     53.7,2,  6.2769
     49HH915_2,  P13C,   C51,  1,     15b,     15,2,19910922,0445,  9.0017, 163.9935, 5202,    701.9,   6.3411,  34.5383,2,  34.5354,2,     54.4,2,     53.3,2,  6.2769
     49HH915_2,  P13C,   C51,  1,     13a,     12,2,19910922,0445,  9.0017, 163.9935, 5202,   1002.2,   4.5335,  34.5527,2,  34.5511,2,     67.3,2,     65.4,2,  4.4535
     49HH915_2,  P13C,   C51,  1,     13b,     13,2,19910922,0445,  9.0017, 163.9935, 5202,   1002.2,   4.5335,  34.5527,2,  34.5511,2,     67.3,2,     66.2,2,  4.4535
     49HH915_2,  P13C,   C51,  1,     11a,     10,2,19910922,0445,  9.0017, 163.9935, 5202,   1402.6,   3.1544,  34.5916,2,  34.5897,2,     89.7,2,     91.4,2,  3.0529
     49HH915_2,  P13C,   C51,  1,     11b,     11,2,19910922,0445,  9.0017, 163.9935, 5202,   1402.6,   3.1544,  34.5916,2,  34.5893,2,     89.7,2,     90.8,2,  3.0529
     49HH915_2,  P13C,   C51,  1,      9a,      8,2,19910922,0445,  9.0017, 163.9935, 5202,   1802.5,   2.5383,  34.6197,2,  34.6180,2,    100.9,2,    100.9,2,  2.4107
     49HH915_2,  P13C,   C51,  1,      9b,      9,2,19910922,0445,  9.0017, 163.9935, 5202,   1802.5,   2.5383,  34.6197,2,  34.6172,2,    100.9,2,    101.6,2,  2.4107
     49HH915_2,  P13C,   C51,  1,      7a,      6,2,19910922,0445,  9.0017, 163.9935, 5202,   2502.4,   1.9002,  34.6552,2,  34.6529,2,    123.2,2,    122.3,2,  1.7215
     49HH915_2,  P13C,   C51,  1,      7b,      7,2,19910922,0445,  9.0017, 163.9935, 5202,   2502.4,   1.9002,  34.6552,2,  34.6553,2,    123.2,2,    123.4,2,  1.7215
     49HH915_2,  P13C,   C51,  1,      5,      5,2,19910922,0445,  9.0017, 163.9935, 5202,   3502.5,   1.5278,  34.6797,2,  34.6824,2,    155.2,2,    152.0,2,  1.2606
     49HH915_2,  P13C,   C51,  1,      4a,      3,2,19910922,0445,  9.0017, 163.9935, 5202,   4003.1,   1.4209,  34.6901,2,  34.6887,2,    172.8,2,    170.3,2,  1.1038
     49HH915_2,  P13C,   C51,  1,      4b,      4,2,19910922,0445,  9.0017, 163.9935, 5202,   4003.1,   1.4209,  34.6901,2,  34.7001,4,    172.8,2,    169.1,2,  1.1037
     49HH915_2,  P13C,   C51,  1,      2a,      1,2,19910922,0445,  9.0017, 163.9935, 5202,   5004.7,   1.3950,  34.7005,2,  34.6990,2,    189.3,2,    189.0,2,  0.9636
     49HH915_2,  P13C,   C51,  1,      2b,      2,2,19910922,0445,  9.0017, 163.9935, 5202,   5004.7,   1.3950,  34.7005,2,  34.6978,2,    189.3,2,    188.0,2,  0.9636
     49HH915_2,  P13C,   C52,  1,     21a,     20,2,19910922,1155,  9.9898, 164.5057, 3893,    100.6,  19.4615,  34.8919,3,  34.8602,2,    179.8,2,    181.3,2, 19.4433
     49HH915_2,  P13C,   C52,  1,     21b,     21,2,19910922,1155,  9.9898, 164.5057, 3893,    100.6,  19.4615,  34.8919,3,  34.8579,2,    179.8,2,    180.6,2, 19.4433
     49HH915_2,  P13C,   C52,  1,     19,     19,2,19910922,1155,  9.9898, 164.5057, 3893,    200.6,  10.5915,  34.5313,2,  34.5170,2,     63.8,2,     66.2,2, 10.5675
     49HH915_2,  P13C,   C52,  1,     18,     18,2,19910922,1155,  9.9898, 164.5057, 3893,    250.9,   9.8751,  34.6053,2,  34.6030,2,     45.1,2,     40.8,2,  9.8463
     49HH915_2,  P13C,   C52,  1,     17,     17,2,19910922,1155,  9.9898, 164.5057, 3893,    301.0,   9.4125,  34.6209,2,  34.6203,2,     42.6,2,     38.5,2,  9.3788
     49HH915_2,  P13C,   C52,  1,     16,     16,2,19910922,1155,  9.9898, 164.5057, 3893,    401.4,   8.4545,  34.5929,2,  34.5920,2,     54.2,3,     46.1,2,  8.4122
     49HH915_2,  P13C,   C52,  1,     15,     15,2,19910922,1155,  9.9898, 164.5057, 3893,    501.4,   7.5476,  34.5547,2,  34.5531,2,     53.6,2,     50.9,2,  7.4979
     49HH915_2,  P13C,   C52,  1,     14,     14,2,19910922,1155,  9.9898, 164.5057, 3893,    601.6,   6.7376,  34.5369,2,  34.5366,2,     52.9,2,     51.1,2,  6.6812
     49HH915_2,  P13C,   C52,  1,     13,     13,2,19910922,1155,  9.9898, 164.5057, 3893,    701.8,   6.1434,  34.5327,2,  34.5303,2,     57.4,2,     53.5,2,  6.0803
     49HH915_2,  P13C,   C52,  1,     12,     12,2,19910922,1155,  9.9898, 164.5057, 3893,    801.4,   5.5542,  34.5316,2,  34.5315,2,     64.7,2,     61.7,2,  5.4852
     49HH915_2,  P13C,   C52,  1,     11,     11,2,19910922,1155,  9.9898, 164.5057, 3893,    901.7,   5.0528,  34.5352,2,  34.5362,2,     73.4,2,     71.4,2,  4.9779
     49HH915_2,  P13C,   C52,  1,     10a,      9,2,19910922,1155,  9.9898, 164.5057, 3893,   1001.5,   4.5056,  34.5448,2,  34.5468,2,     79.6,2,     77.1,2,  4.4258
     49HH915_2,  P13C,   C52,  1,     10b,     10,2,19910922,1155,  9.9898, 164.5057, 3893,   1001.5,   4.5056,  34.5448,2,  34.5496,2,     79.6,2,     77.4,2,  4.4258
     49HH915_2,  P13C,   C52,  1,      8a,      7,2,19910922,1155,  9.9898, 164.5057, 3893,   1403.6,   3.3811,  34.5857,2,  34.5830,2,     88.1,2,     86.6,2,  3.2771
     49HH915_2,  P13C,   C52,  1,      8b,      8,2,19910922,1155,  9.9898, 164.5057, 3893,   1403.6,   3.3811,  34.5857,2,  34.5834,2,     88.1,2,     87.2,2,  3.2771
     49HH915_2,  P13C,   C52,  1,      6,      6,2,19910922,1155,  9.9898, 164.5057, 3893,   1802.3,   2.5253,  34.6190,2,  34.6176,2,    105.0,3,     98.2,2,  2.3979
     49HH915_2,  P13C,   C52,  1,      5,      5,2,19910922,1155,  9.9898, 164.5057, 3893,   2002.0,   2.2657,  34.6315,2,  34.6305,2,    111.9,3,    107.0,2,  2.1250
     49HH915_2,  P13C,   C52,  1,      4a,      3,2,19910922,1155,  9.9898, 164.5057, 3893,   2502.8,   1.9122,  34.6533,2,  34.6526,2,    124.7,2,    121.6,2,  1.7333
     49HH915_2,  P13C,   C52,  1,      4b,      4,2,19910922,1155,  9.9898, 164.5057, 3893,   2502.8,   1.9122,  34.6533,2,  34.6526,2,    124.7,2,    121.0,2,  1.7333
     49HH915_2,  P13C,   C52,  1,      2a,      1,2,19910922,1155,  9.9898, 164.5057, 3893,   3503.6,   1.5318,  34.6810,2,  34.6793,2,    153.2,2,    151.3,2,  1.2645
     49HH915_2,  P13C,   C52,  1,      2b,      2,2,19910922,1155,  9.9898, 164.5057, 3893,   3503.6,   1.5318,  34.6810,2,  34.6793,2,    153.2,2,    150.4,2,  1.2645