BOTTLE,20220929CCHSIOAMB
EXPOCODE,SECT_ID,STNNBR,CASTNO,SAMPNO,BTLNBR,BTLNBR_FLAG_W,DATE,TIME,LATITUDE,LONGITUDE,DEPTH,CTDPRS,CTDTMP,CTDSAL,CTDSAL_FLAG_W,SALNTY,SALNTY_FLAG_W,CTDOXY,CTDOXY_FLAG_W,OXYGEN,OXYGEN_FLAG_W,THETA
,,,,,,,,,,,,DBAR,ITS-90,PSS-78,,PSS-78,,UMOL/KG,,UMOL/KG,,DEG C
     49HH915_2,  P13C,   C44,  1,     24,     24,2,19910920,0702,  3.0052, 165.0082, 4261,     10.2,  29.2341,  34.1933,2,  34.1899,2,    192.3,3,    201.0,2, 29.2316
     49HH915_2,  P13C,   C44,  1,     23a,     22,2,19910920,0702,  3.0052, 165.0082, 4261,     20.4,  29.1341,  34.1958,2,  34.2064,2,    194.8,3,    204.7,2, 29.1292
     49HH915_2,  P13C,   C44,  1,     23b,     23,2,19910920,0702,  3.0052, 165.0082, 4261,     20.4,  29.1341,  34.1958,2,  34.2107,2,    194.8,3,    203.5,2, 29.1292
     49HH915_2,  P13C,   C44,  1,     21a,     20,2,19910920,0702,  3.0052, 165.0082, 4261,    100.5,  26.8570,  35.0801,2,  35.0926,2,    140.9,3,    150.2,2, 26.8340
     49HH915_2,  P13C,   C44,  1,     21b,     21,2,19910920,0702,  3.0052, 165.0082, 4261,    100.5,  26.8570,  35.0801,2,  35.0914,2,    140.9,3,    150.9,2, 26.8340
     49HH915_2,  P13C,   C44,  1,     19a,     18,2,19910920,0702,  3.0052, 165.0082, 4261,    200.7,  14.0040,  34.7316,2,  34.6223,2,    135.9,3,    147.1,2, 13.9751
     49HH915_2,  P13C,   C44,  1,     19b,     19,2,19910920,0702,  3.0052, 165.0082, 4261,    200.7,  14.0040,  34.7316,2,  34.6199,2,    135.9,3,    146.9,2, 13.9751
     49HH915_2,  P13C,   C44,  1,     17,     17,2,19910920,0702,  3.0052, 165.0082, 4261,    400.9,   8.7701,  34.6390,2,  34.6301,2,    113.6,2,    114.5,2,  8.7269
     49HH915_2,  P13C,   C44,  1,     16,     16,2,19910920,0702,  3.0052, 165.0082, 4261,    501.5,   7.7633,  34.5795,2,  34.5775,2,    107.4,2,    108.8,2,  7.7127
     49HH915_2,  P13C,   C44,  1,     15a,     14,2,19910920,0702,  3.0052, 165.0082, 4261,    601.4,   6.7536,  34.5508,2,  34.5523,2,     87.5,2,     84.4,2,  6.6971
     49HH915_2,  P13C,   C44,  1,     15b,     15,2,19910920,0702,  3.0052, 165.0082, 4261,    601.4,   6.7536,  34.5508,2,  34.5511,2,     87.5,2,     86.1,2,  6.6971
     49HH915_2,  P13C,   C44,  1,     14,     13,2,19910920,0702,  3.0052, 165.0082, 4261,    701.5,   5.9656,  34.5369,2,  34.5394,2,     94.8,2,     91.7,2,  5.9035
     49HH915_2,  P13C,   C44,  1,     13,     12,2,19910920,0702,  3.0052, 165.0082, 4261,    801.7,   5.3444,  34.5307,2,  34.5413,2,     94.1,2,     90.4,2,  5.2766
     49HH915_2,  P13C,   C44,  1,     12,     11,2,19910920,0702,  3.0052, 165.0082, 4261,    901.9,   4.7672,  34.5493,2,  34.5492,2,     90.4,2,     89.7,2,  4.6942
     49HH915_2,  P13C,   C44,  1,     10a,      9,2,19910920,0702,  3.0052, 165.0082, 4261,   1201.9,   3.7965,  34.5742,2,  34.5735,2,     97.8,2,     96.5,2,  3.7055
     49HH915_2,  P13C,   C44,  1,     10b,     10,2,19910920,0702,  3.0052, 165.0082, 4261,   1201.9,   3.7965,  34.5742,2,  34.5735,2,     97.8,2,     96.7,2,  3.7055
     49HH915_2,  P13C,   C44,  1,      8a,      7,2,19910920,0702,  3.0052, 165.0082, 4261,   1601.9,   2.8459,  34.6082,2,  34.6077,2,    105.6,2,    103.0,2,  2.7313
     49HH915_2,  P13C,   C44,  1,      8b,      8,2,19910920,0702,  3.0052, 165.0082, 4261,   1601.9,   2.8459,  34.6082,2,  34.6081,2,    105.6,2,    104.4,2,  2.7313
     49HH915_2,  P13C,   C44,  1,      6,      6,3,19910920,0702,  3.0052, 165.0082, 4261,   2002.2,   2.2597,  34.6353,2,  34.6294,2,    118.0,2,    121.4,2,  2.1191
     49HH915_2,  P13C,   C44,  1,      5,      5,2,19910920,0702,  3.0052, 165.0082, 4261,   2502.0,   1.8703,  34.6579,2,  34.6581,2,    127.8,2,    128.5,2,  1.6922
     49HH915_2,  P13C,   C44,  1,      4a,      3,2,19910920,0702,  3.0052, 165.0082, 4261,   3002.9,   1.6945,  34.6673,2,  34.6683,2,    138.6,2,    138.9,2,  1.4731
     49HH915_2,  P13C,   C44,  1,      4b,      4,2,19910920,0702,  3.0052, 165.0082, 4261,   3002.9,   1.6945,  34.6673,2,  34.6667,2,    138.6,2,    138.5,2,  1.4731
     49HH915_2,  P13C,   C44,  1,      2a,      1,2,19910920,0702,  3.0052, 165.0082, 4261,   4004.3,   1.4559,  34.6882,2,  34.6879,2,    166.0,2,    166.4,2,  1.1377
     49HH915_2,  P13C,   C44,  1,      2b,      2,2,19910920,0702,  3.0052, 165.0082, 4261,   4004.3,   1.4559,  34.6882,2,  34.6879,2,    166.0,2,    138.9,4,  1.1377
     49HH915_2,  P13C,   C45,  1,     24,     24,2,19910920,1149,  3.4985, 165.0172, 4263,     10.7,  28.8702,  33.9499,2,-999.0000,9,    187.8,3,    202.6,2, 28.8672
     49HH915_2,  P13C,   C45,  1,     23,     23,2,19910920,1149,  3.4985, 165.0172, 4263,     20.1,  28.8862,  34.0027,2,-999.0000,9,    193.0,3,    203.8,2, 28.8805
     49HH915_2,  P13C,   C45,  1,     22a,     21,2,19910920,1149,  3.4985, 165.0172, 4263,     50.4,  28.8502,  34.4978,2,-999.0000,9,    187.5,3,    203.8,2, 28.8359
     49HH915_2,  P13C,   C45,  1,     22b,     22,2,19910920,1149,  3.4985, 165.0172, 4263,     50.4,  28.8502,  34.4978,2,-999.0000,9,    187.5,3,    202.7,2, 28.8359
     49HH915_2,  P13C,   C45,  1,     20a,     19,2,19910920,1149,  3.4985, 165.0172, 4263,    150.9,  21.9672,  35.1112,2,-999.0000,9,    129.3,2,    133.0,2, 21.9280
     49HH915_2,  P13C,   C45,  1,     20b,     20,2,19910920,1149,  3.4985, 165.0172, 4263,    150.9,  21.9672,  35.1112,2,-999.0000,9,    129.3,2,    133.5,2, 21.9280
     49HH915_2,  P13C,   C45,  1,     18,     18,2,19910920,1149,  3.4985, 165.0172, 4263,    301.2,   9.6782,  34.5938,2,-999.0000,9,    114.6,3,    147.1,2,  9.6150
     49HH915_2,  P13C,   C45,  1,     17,     17,2,19910920,1149,  3.4985, 165.0172, 4263,    401.4,   8.5324,  34.5970,2,-999.0000,9,    104.0,3,    111.1,2,  8.4502
     49HH915_2,  P13C,   C45,  1,     16,     16,2,19910920,1149,  3.4985, 165.0172, 4263,    501.9,   7.7284,  34.5805,2,-999.0000,9,     81.8,2,     83.0,2,  7.6273
     49HH915_2,  P13C,   C45,  1,     15,     15,2,19910920,1149,  3.4985, 165.0172, 4263,    602.0,   7.0303,  34.5669,2,-999.0000,9,     78.3,2,     77.4,2,  6.9108
     49HH915_2,  P13C,   C45,  1,     14,     14,2,19910920,1149,  3.4985, 165.0172, 4263,    702.0,   6.1344,  34.5473,2,-999.0000,9,     76.6,2,     79.4,2,  5.9979
     49HH915_2,  P13C,   C45,  1,     13,     13,2,19910920,1149,  3.4985, 165.0172, 4263,    801.7,   5.6231,  34.5416,2,-999.0000,9,     92.5,2,     95.3,2,  5.4689
     49HH915_2,  P13C,   C45,  1,     12a,     11,2,19910920,1149,  3.4985, 165.0172, 4263,    901.9,   5.0838,  34.5423,2,-999.0000,9,     82.4,2,     84.6,2,  4.9124
     49HH915_2,  P13C,   C45,  1,     12b,     12,2,19910920,1149,  3.4985, 165.0172, 4263,    901.9,   5.0838,  34.5423,2,-999.0000,9,     82.4,2,     84.1,2,  4.9124
     49HH915_2,  P13C,   C45,  1,     10,     10,2,19910920,1149,  3.4985, 165.0172, 4263,   1202.2,   3.8704,  34.5759,2,-999.0000,9,     93.3,2,     93.4,2,  3.6478
     49HH915_2,  P13C,   C45,  1,      9,      9,2,19910920,1149,  3.4985, 165.0172, 4263,   1402.0,   3.4051,  34.5947,2,-999.0000,9,     94.1,2,     94.1,2,  3.1476
     49HH915_2,  P13C,   C45,  1,      8,      8,2,19910920,1149,  3.4985, 165.0172, 4263,   1602.1,   2.8079,  34.6096,2,-999.0000,9,    100.3,2,    100.4,2,  2.5172
     49HH915_2,  P13C,   C45,  1,      7a,      6,2,19910920,1149,  3.4985, 165.0172, 4263,   1802.5,   2.4944,  34.6238,2,-999.0000,9,    108.8,2,    110.7,2,  2.1687
     49HH915_2,  P13C,   C45,  1,      7b,      7,2,19910920,1149,  3.4985, 165.0172, 4263,   1802.5,   2.4944,  34.6238,2,-999.0000,9,    108.8,2,    110.4,2,  2.1687
     49HH915_2,  P13C,   C45,  1,      5a,      4,2,19910920,1149,  3.4985, 165.0172, 4263,   2502.7,   1.8962,  34.6569,2,-999.0000,9,    125.9,2,    126.3,2,  1.4443
     49HH915_2,  P13C,   C45,  1,      5b,      5,2,19910920,1149,  3.4985, 165.0172, 4263,   2502.7,   1.8962,  34.6569,2,-999.0000,9,    125.9,2,    125.2,2,  1.4443
     49HH915_2,  P13C,   C45,  1,      3,      3,2,19910920,1149,  3.4985, 165.0172, 4263,   3503.4,   1.5308,  34.6798,2,-999.0000,9,    153.2,2,    153.1,2,  0.8908
     49HH915_2,  P13C,   C45,  1,      2a,      1,2,19910920,1149,  3.4985, 165.0172, 4263,   4004.5,   1.4699,  34.6880,2,-999.0000,9,    164.9,2,    165.9,2,  0.7320
     49HH915_2,  P13C,   C45,  1,      2b,      2,2,19910920,1149,  3.4985, 165.0172, 4263,   4004.5,   1.4699,  34.6880,2,-999.0000,9,    164.9,2,    165.7,2,  0.7320
     49HH915_2,  P13C,   C46,  1,     24,     24,2,19910920,1629,  4.0030, 165.0120, 4500,     10.4,  28.9782,  33.9589,2,  33.9578,2,    203.1,2,    203.7,2, 28.9757
     49HH915_2,  P13C,   C46,  1,     23,     23,2,19910920,1629,  4.0030, 165.0120, 4500,     20.1,  28.8912,  33.9524,2,  33.9582,2,    202.9,2,    201.4,2, 28.8864
     49HH915_2,  P13C,   C46,  1,     22a,     21,2,19910920,1629,  4.0030, 165.0120, 4500,     50.3,  28.4864,  34.4252,2,  34.5181,2,    193.0,3,    199.4,2, 28.4744
     49HH915_2,  P13C,   C46,  1,     22b,     22,2,19910920,1629,  4.0030, 165.0120, 4500,     50.3,  28.4864,  34.4252,2,  34.5197,2,    193.0,3,    199.8,2, 28.4744
     49HH915_2,  P13C,   C46,  1,     21,     20,2,19910920,1629,  4.0030, 165.0120, 4500,    100.2,  25.5495,  35.0002,2,  35.0024,2,    143.1,2,    145.3,2, 25.5274
     49HH915_2,  P13C,   C46,  1,     20,     19,2,19910920,1629,  4.0030, 165.0120, 4500,    150.5,  22.3320,  35.0173,2,  35.0563,2,    135.1,2,    124.2,3, 22.3019
     49HH915_2,  P13C,   C46,  1,     19,     18,2,19910920,1629,  4.0030, 165.0120, 4500,    200.5,  16.4813,  34.6603,2,  34.7049,2,    145.2,3,    152.7,2, 16.4490
     49HH915_2,  P13C,   C46,  1,     17,     17,2,19910920,1629,  4.0030, 165.0120, 4500,    401.2,   8.6962,  34.6247,2,  34.6235,2,     51.2,2,     54.1,2,  8.6532
     49HH915_2,  P13C,   C46,  1,     16,     16,2,19910920,1629,  4.0030, 165.0120, 4500,    501.6,   7.6894,  34.5858,2,  34.5842,2,     52.6,2,     52.6,2,  7.6391
     49HH915_2,  P13C,   C46,  1,     15,     15,2,19910920,1629,  4.0030, 165.0120, 4500,    601.3,   6.7796,  34.5589,2,  34.5555,2,     53.9,2,     53.0,2,  6.7230
     49HH915_2,  P13C,   C46,  1,     14,     14,2,19910920,1629,  4.0030, 165.0120, 4500,    701.6,   5.9806,  34.5419,2,  34.5413,2,     78.5,2,     75.0,2,  5.9184
     49HH915_2,  P13C,   C46,  1,     13a,     12,2,19910920,1629,  4.0030, 165.0120, 4500,    801.4,   5.4004,  34.5363,2,  34.5382,2,     94.0,2,     94.8,2,  5.3323
     49HH915_2,  P13C,   C46,  1,     13b,     13,2,19910920,1629,  4.0030, 165.0120, 4500,    801.4,   5.4004,  34.5363,2,  34.5374,2,     94.0,2,     95.2,2,  5.3323
     49HH915_2,  P13C,   C46,  1,     11,     11,2,19910920,1629,  4.0030, 165.0120, 4500,   1002.0,   4.5845,  34.5524,2,  34.5519,2,     88.3,2,     90.2,2,  4.5041
     49HH915_2,  P13C,   C46,  1,     10a,      9,2,19910920,1629,  4.0030, 165.0120, 4500,   1202.1,   3.8774,  34.5757,2,  34.5696,2,     93.3,2,     94.5,2,  3.7856
     49HH915_2,  P13C,   C46,  1,     10b,     10,2,19910920,1629,  4.0030, 165.0120, 4500,   1202.1,   3.8774,  34.5757,2,  34.5704,2,     93.3,2,     94.0,2,  3.7856
     49HH915_2,  P13C,   C46,  1,      8a,      7,2,19910920,1629,  4.0030, 165.0120, 4500,   1601.2,   2.8419,  34.6079,2,  34.6070,2,    101.7,2,    101.9,2,  2.7274
     49HH915_2,  P13C,   C46,  1,      8b,      8,2,19910920,1629,  4.0030, 165.0120, 4500,   1601.2,   2.8419,  34.6079,2,  34.6066,2,    101.7,2,    102.6,2,  2.7274
     49HH915_2,  P13C,   C46,  1,      6,      6,2,19910920,1629,  4.0030, 165.0120, 4500,   2002.1,   2.2308,  34.6369,2,  34.6356,2,    113.9,2,    113.3,2,  2.0906
     49HH915_2,  P13C,   C46,  1,      5,      5,2,19910920,1629,  4.0030, 165.0120, 4500,   2502.0,   1.8523,  34.6587,2,  34.6577,2,    129.7,2,    127.2,2,  1.6745
     49HH915_2,  P13C,   C46,  1,      4,      4,2,19910920,1629,  4.0030, 165.0120, 4500,   3002.4,   1.6736,  34.6689,2,  34.6679,2,    142.8,2,    139.2,2,  1.4527
     49HH915_2,  P13C,   C46,  1,      3,      3,2,19910920,1629,  4.0030, 165.0120, 4500,   3503.0,   1.5328,  34.6790,2,  34.6789,2,    157.3,2,    153.3,2,  1.2655
     49HH915_2,  P13C,   C46,  1,      2,      2,2,19910920,1629,  4.0030, 165.0120, 4500,   4003.7,   1.4798,  34.6863,2,  34.6820,2,    168.1,2,    165.3,2,  1.1610
     49HH915_2,  P13C,   C46,  1,      1,      1,2,19910920,1629,  4.0030, 165.0120, 4500,   4496.0,   1.3920,  34.6968,2,  34.6966,2,    184.2,2,    182.1,2,  1.0207
     49HH915_2,  P13C,   C47,  1,     24,     24,2,19910920,2321,  4.9872, 165.0192, 4760,     10.5,  28.8043,  33.8086,2,  33.8069,2,    199.4,2,    202.3,2, 28.8018
     49HH915_2,  P13C,   C47,  1,     23a,     22,2,19910920,2321,  4.9872, 165.0192, 4760,     20.9,  28.7993,  33.8109,2,  33.8140,2,    199.8,2,    202.9,2, 28.7943
     49HH915_2,  P13C,   C47,  1,     23b,     23,2,19910920,2321,  4.9872, 165.0192, 4760,     20.9,  28.7993,  33.8109,2,  33.8124,2,    199.8,2,   -999.0,1, 28.7943
     49HH915_2,  P13C,   C47,  1,     22,     21,2,19910920,2321,  4.9872, 165.0192, 4760,     50.6,  27.5027,  34.4950,2,  34.5232,2,    207.9,2,    204.2,2, 27.4910
     49HH915_2,  P13C,   C47,  1,     20,     20,2,19910920,2321,  4.9872, 165.0192, 4760,    201.5,  13.2575,  34.5753,2,  34.5676,2,    104.2,2,    104.7,2, 13.2295
     49HH915_2,  P13C,   C47,  1,     19,     19,2,19910920,2321,  4.9872, 165.0192, 4760,    302.0,   9.5473,  34.6432,2,  34.6439,2,     38.8,2,     35.6,2,  9.5132
     49HH915_2,  P13C,   C47,  1,     18,     18,2,19910920,2321,  4.9872, 165.0192, 4760,    401.9,   8.7112,  34.6245,2,  34.6223,2,     48.9,2,     53.0,2,  8.6681
     49HH915_2,  P13C,   C47,  1,     17,     17,2,19910920,2321,  4.9872, 165.0192, 4760,    501.9,   7.8722,  34.5942,2,  34.5897,2,     47.0,2,     48.5,2,  7.8212
     49HH915_2,  P13C,   C47,  1,     16,     16,2,19910920,2321,  4.9872, 165.0192, 4760,    601.9,   6.9354,  34.5599,2,  34.5586,2,     47.3,2,     45.2,2,  6.8781
     49HH915_2,  P13C,   C47,  1,     15a,     14,2,19910920,2321,  4.9872, 165.0192, 4760,    702.4,   6.0295,  34.5435,2,  34.5433,2,     61.9,2,   -999.0,1,  5.9669
     49HH915_2,  P13C,   C47,  1,     15b,     15,2,19910920,2321,  4.9872, 165.0192, 4760,    702.4,   6.0295,  34.5435,2,  34.5421,2,     61.9,2,     59.6,2,  5.9669
     49HH915_2,  P13C,   C47,  1,     13,     13,2,19910920,2321,  4.9872, 165.0192, 4760,    902.1,   4.8751,  34.5465,2,  34.5460,2,     86.3,2,     85.0,2,  4.8014
     49HH915_2,  P13C,   C47,  1,     12,     12,2,19910920,2321,  4.9872, 165.0192, 4760,   1002.4,   4.4976,  34.5562,2,  34.5539,2,     85.7,2,     81.0,2,  4.4178
     49HH915_2,  P13C,   C47,  1,     11,     11,2,19910920,2321,  4.9872, 165.0192, 4760,   1203.1,   3.7496,  34.5765,2,  34.5747,2,     86.9,2,     87.3,2,  3.6589
     49HH915_2,  P13C,   C47,  1,     10,     10,2,19910920,2321,  4.9872, 165.0192, 4760,   1403.1,   3.2313,  34.5942,2,  34.5912,2,     90.9,2,     93.4,2,  3.1289
     49HH915_2,  P13C,   C47,  1,      9,      9,2,19910920,2321,  4.9872, 165.0192, 4760,   1603.7,   2.8179,  34.6091,2,  34.6105,2,     99.5,2,     97.6,2,  2.7035
     49HH915_2,  P13C,   C47,  1,      8a,      7,2,19910920,2321,  4.9872, 165.0192, 4760,   1802.7,   2.4994,  34.6245,2,  34.6223,2,    106.7,2,    104.6,2,  2.3723
     49HH915_2,  P13C,   C47,  1,      8b,      8,2,19910920,2321,  4.9872, 165.0192, 4760,   1802.7,   2.4994,  34.6245,2,  34.6219,2,    106.7,2,    105.1,2,  2.3723
     49HH915_2,  P13C,   C47,  1,      7,      6,2,19910920,2321,  4.9872, 165.0192, 4760,   2003.4,   2.2088,  34.6389,2,  34.6372,2,    112.1,2,    111.9,2,  2.0689
     49HH915_2,  P13C,   C47,  1,      5,      5,2,19910920,2321,  4.9872, 165.0192, 4760,   3003.2,   1.6326,  34.6716,2,  34.6695,2,    143.8,2,    142.4,2,  1.4126
     49HH915_2,  P13C,   C47,  1,      4,      4,2,19910920,2321,  4.9872, 165.0192, 4760,   3504.3,   1.5328,  34.6809,2,  34.6789,2,    154.2,2,    155.5,2,  1.2654
     49HH915_2,  P13C,   C47,  1,      3,      3,2,19910920,2321,  4.9872, 165.0192, 4760,   4004.3,   1.4838,  34.6879,2,  34.6860,2,    164.8,2,    163.6,2,  1.1648
     49HH915_2,  P13C,   C47,  1,      2,      2,2,19910920,2321,  4.9872, 165.0192, 4760,   4504.6,   1.4289,  34.6958,2,  34.6942,2,    179.6,2,    179.2,2,  1.0555
     49HH915_2,  P13C,   C47,  1,      1,      1,2,19910920,2321,  4.9872, 165.0192, 4760,   4757.3,   1.4159,  34.6986,2,  34.7013,2,    182.6,2,    182.3,2,  1.0134