BOTTLE,20220929CCHSIOAMB
EXPOCODE,SECT_ID,STNNBR,CASTNO,SAMPNO,BTLNBR,BTLNBR_FLAG_W,DATE,TIME,LATITUDE,LONGITUDE,DEPTH,CTDPRS,CTDTMP,CTDSAL,CTDSAL_FLAG_W,SALNTY,SALNTY_FLAG_W,CTDOXY,CTDOXY_FLAG_W,OXYGEN,OXYGEN_FLAG_W,THETA
,,,,,,,,,,,,DBAR,ITS-90,PSS-78,,PSS-78,,UMOL/KG,,UMOL/KG,,DEG C
     49HH915_2,  P13C,   C58,  1,     24,     23,2,19910923,2248, 13.9910, 164.9932, 5323,      8.5,  28.9422,  34.1675,2,  34.1679,2,    209.3,3,    201.5,2, 28.9402
     49HH915_2,  P13C,   C58,  1,     23,     22,2,19910923,2248, 13.9910, 164.9932, 5323,     18.3,  28.8922,  34.1623,2,  34.1683,2,    209.4,2,    202.7,2, 28.8878
     49HH915_2,  P13C,   C58,  1,     22,     21,2,19910923,2248, 13.9910, 164.9932, 5323,     47.4,  28.8732,  34.1876,2,  34.2048,2,    208.8,3,    201.6,2, 28.8618
     49HH915_2,  P13C,   C58,  1,     21,     20,2,19910923,2248, 13.9910, 164.9932, 5323,     97.7,  26.5581,  34.9755,2,  34.9748,2,    211.8,2,    217.5,2, 26.5360
     49HH915_2,  P13C,   C58,  1,     20,     19,2,19910923,2248, 13.9910, 164.9932, 5323,    197.9,  19.8863,  34.9993,2,  34.9937,2,    181.6,2,    180.6,2, 19.8498
     49HH915_2,  P13C,   C58,  1,     19a,     17,2,19910923,2248, 13.9910, 164.9932, 5323,    298.2,  12.0404,  34.3485,2,  34.3406,2,    165.7,2,    169.5,2, 12.0015
     49HH915_2,  P13C,   C58,  1,     19b,     18,2,19910923,2248, 13.9910, 164.9932, 5323,    298.2,  12.0404,  34.3485,2,  34.3402,2,    165.7,2,    169.1,2, 12.0015
     49HH915_2,  P13C,   C58,  1,     17,     16,2,19910923,2248, 13.9910, 164.9932, 5323,    498.7,   7.4018,  34.4556,2,  34.4580,2,     49.6,2,     47.3,2,  7.3530
     49HH915_2,  P13C,   C58,  1,     16a,     14,2,19910923,2248, 13.9910, 164.9932, 5323,    599.0,   6.5199,  34.4759,2,  34.4800,2,     54.4,2,     52.1,2,  6.4648
     49HH915_2,  P13C,   C58,  1,     16b,     15,2,19910923,2248, 13.9910, 164.9932, 5323,    599.0,   6.5199,  34.4759,2,  34.4785,2,     54.4,2,     53.1,2,  6.4648
     49HH915_2,  P13C,   C58,  1,     15,     13,2,19910923,2248, 13.9910, 164.9932, 5323,    698.9,   5.8458,  34.4899,2,  34.4922,2,     55.2,2,     56.0,2,  5.7846
     49HH915_2,  P13C,   C58,  1,     13a,     11,2,19910923,2248, 13.9910, 164.9932, 5323,    999.6,   4.3388,  34.5345,2,  34.5366,2,     61.6,2,     61.6,2,  4.2605
     49HH915_2,  P13C,   C58,  1,     13b,     12,2,19910923,2248, 13.9910, 164.9932, 5323,    999.6,   4.3388,  34.5345,2,  34.5370,2,     61.6,2,     62.6,2,  4.2605
     49HH915_2,  P13C,   C58,  1,     11a,      9,2,19910923,2248, 13.9910, 164.9932, 5323,   1399.8,   3.1365,  34.5760,2,  34.5747,2,     79.5,2,     80.9,2,  3.0355
     49HH915_2,  P13C,   C58,  1,     11b,     10,2,19910923,2248, 13.9910, 164.9932, 5323,   1399.8,   3.1365,  34.5760,2,  34.5751,2,     79.5,2,     80.4,2,  3.0355
     49HH915_2,  P13C,   C58,  1,      9a,      7,2,19910923,2248, 13.9910, 164.9932, 5323,   1799.6,   2.3985,  34.6115,2,  34.6140,2,     99.1,2,     99.9,2,  2.2731
     49HH915_2,  P13C,   C58,  1,      9b,      8,2,19910923,2248, 13.9910, 164.9932, 5323,   1799.6,   2.3985,  34.6115,2,  34.6136,2,     99.1,2,     97.9,2,  2.2731
     49HH915_2,  P13C,   C58,  1,      8,      6,2,19910923,2248, 13.9910, 164.9932, 5323,   1999.6,   2.1768,  34.6271,2,  34.6282,2,    107.4,2,    107.2,2,  2.0377
     49HH915_2,  P13C,   C58,  1,      7,      5,2,19910923,2248, 13.9910, 164.9932, 5323,   2500.0,   1.8303,  34.6511,2,  34.6522,2,    119.3,3,    123.8,2,  1.6531
     49HH915_2,  P13C,   C58,  1,      6,      4,2,19910923,2248, 13.9910, 164.9932, 5323,   3000.2,   1.6346,  34.6672,2,  34.6679,2,    133.1,3,    138.7,2,  1.4148
     49HH915_2,  P13C,   C58,  1,      5,      3,2,19910923,2248, 13.9910, 164.9932, 5323,   3500.4,   1.5268,  34.6755,2,  34.6789,2,    147.7,2,    147.6,2,  1.2599
     49HH915_2,  P13C,   C58,  1,      4,      2,2,19910923,2248, 13.9910, 164.9932, 5323,   4001.8,   1.4659,  34.6848,2,  34.6848,2,    160.5,2,     86.6,4,  1.1477
     49HH915_2,  P13C,   C58,  1,      3,      1,2,19910923,2248, 13.9910, 164.9932, 5323,   4501.2,   1.4359,  34.6898,2,  34.6923,2,    171.4,2,     91.5,4,  1.0627
     49HH915_2,  P13C,   C58,  1,      2,     24,2,19910923,2248, 13.9910, 164.9932, 5323,   5000.9,   1.4139,  34.6954,2,  34.6958,2,    181.4,2,    183.2,2,  0.9823
     49HH915_2,  P13C,   C59,  1,     23,     22,2,19910924,0615, 14.9960, 164.9990, 5227,     17.7,  28.9172,  34.0849,2,  34.0848,2,    204.5,2,    208.6,3, 28.9129
     49HH915_2,  P13C,   C59,  1,     22a,     20,2,19910924,0615, 14.9960, 164.9990, 5227,     48.3,  28.8602,  34.1953,2,  34.1699,2,    212.6,3,    202.7,2, 28.8486
     49HH915_2,  P13C,   C59,  1,     22b,     21,2,19910924,0615, 14.9960, 164.9990, 5227,     48.3,  28.8602,  34.1953,2,  34.1616,2,    212.6,3,    200.6,2, 28.8486
     49HH915_2,  P13C,   C59,  1,     20,     19,2,19910924,0615, 14.9960, 164.9990, 5227,    197.4,  19.0417,  34.8452,3,  34.9575,2,    177.0,2,    177.6,2, 19.0064
     49HH915_2,  P13C,   C59,  1,     19a,     17,2,19910924,0615, 14.9960, 164.9990, 5227,    297.8,  11.8735,  34.3261,2,  34.3249,2,    168.6,2,    173.0,2, 11.8350
     49HH915_2,  P13C,   C59,  1,     19b,     18,2,19910924,0615, 14.9960, 164.9990, 5227,    297.8,  11.8735,  34.3261,2,  34.3249,2,    168.6,2,    174.7,2, 11.8350
     49HH915_2,  P13C,   C59,  1,     18,     16,2,19910924,0615, 14.9960, 164.9990, 5227,    398.3,   8.1629,  34.1602,2,  34.1624,2,    115.7,3,    123.9,2,  8.1221
     49HH915_2,  P13C,   C59,  1,     16,     15,2,19910924,0615, 14.9960, 164.9990, 5227,    599.4,   6.4530,  34.4420,2,  34.4455,2,     51.1,2,     49.9,2,  6.3982
     49HH915_2,  P13C,   C59,  1,     15a,     13,2,19910924,0615, 14.9960, 164.9990, 5227,    698.9,   5.8578,  34.4755,2,  34.4753,2,     54.5,2,     53.3,2,  5.7965
     49HH915_2,  P13C,   C59,  1,     15b,     14,2,19910924,0615, 14.9960, 164.9990, 5227,    698.9,   5.8578,  34.4755,2,  34.4765,2,     54.5,2,     54.5,2,  5.7965
     49HH915_2,  P13C,   C59,  1,     14,     12,2,19910924,0615, 14.9960, 164.9990, 5227,    849.4,   5.0918,  34.5080,2,  34.5083,2,     58.8,2,     57.1,2,  5.0213
     49HH915_2,  P13C,   C59,  1,     13,     11,2,19910924,0615, 14.9960, 164.9990, 5227,    999.9,   4.4766,  34.5279,2,  34.5299,2,     64.1,2,     61.9,2,  4.3972
     49HH915_2,  P13C,   C59,  1,     11a,      9,2,19910924,0615, 14.9960, 164.9990, 5227,   1399.2,   3.1025,  34.5761,2,  34.5759,2,     81.6,2,     82.7,2,  3.0019
     49HH915_2,  P13C,   C59,  1,     11b,     10,2,19910924,0615, 14.9960, 164.9990, 5227,   1399.2,   3.1025,  34.5761,2,  34.5743,2,     81.6,2,     82.3,2,  3.0019
     49HH915_2,  P13C,   C59,  1,      9a,      7,2,19910924,0615, 14.9960, 164.9990, 5227,   1799.7,   2.3745,  34.6101,2,  34.6117,2,     99.8,2,    100.6,2,  2.2494
     49HH915_2,  P13C,   C59,  1,      9b,      8,2,19910924,0615, 14.9960, 164.9990, 5227,   1799.7,   2.3745,  34.6101,2,  34.6117,2,     99.8,2,    100.8,2,  2.2494
     49HH915_2,  P13C,   C59,  1,      8,      6,2,19910924,0615, 14.9960, 164.9990, 5227,   2003.1,   2.1489,  34.6270,2,  34.6286,2,    104.8,2,    107.4,2,  2.0099
     49HH915_2,  P13C,   C59,  1,      7,      5,2,19910924,0615, 14.9960, 164.9990, 5227,   2502.4,   1.8054,  34.6532,2,  34.6541,2,    122.2,2,    124.0,2,  1.6285
     49HH915_2,  P13C,   C59,  1,      6,      4,2,19910924,0615, 14.9960, 164.9990, 5227,   3002.7,   1.6236,  34.6667,2,  34.6683,2,    135.1,2,    137.0,2,  1.4038
     49HH915_2,  P13C,   C59,  1,      5,      3,2,19910924,0615, 14.9960, 164.9990, 5227,   3503.2,   1.5218,  34.6771,2,  34.6773,2,    150.1,2,    148.5,2,  1.2548
     49HH915_2,  P13C,   C59,  1,      4,      2,2,19910924,0615, 14.9960, 164.9990, 5227,   4003.7,   1.4599,  34.6842,2,  34.6848,2,    161.6,2,    160.9,2,  1.1417
     49HH915_2,  P13C,   C59,  1,      3,      1,2,19910924,0615, 14.9960, 164.9990, 5227,   4504.0,   1.4119,  34.6920,2,  34.6915,2,    176.2,2,    178.3,2,  1.0391
     49HH915_2,  P13C,   C60,  1,     23,     24,2,19910924,1336, 16.0027, 164.9858, 5373,     21.2,  28.9142,  34.2557,2,  34.2582,2,    207.5,3,    199.9,2, 28.9091
     49HH915_2,  P13C,   C60,  1,     22a,     22,2,19910924,1336, 16.0027, 164.9858, 5373,     50.3,  28.9162,  34.8638,2,  34.8331,2,    209.8,2,    204.2,2, 28.9041
     49HH915_2,  P13C,   C60,  1,     22b,     23,2,19910924,1336, 16.0027, 164.9858, 5373,     50.3,  28.9162,  34.8638,2,  34.8374,2,    209.8,2,    206.1,2, 28.9041
     49HH915_2,  P13C,   C60,  1,     20a,     20,2,19910924,1336, 16.0027, 164.9858, 5373,    200.2,  19.6284,  35.0411,2,  35.0484,2,    190.5,2,    187.8,2, 19.5918
     49HH915_2,  P13C,   C60,  1,     20b,     21,2,19910924,1336, 16.0027, 164.9858, 5373,    200.2,  19.6284,  35.0411,2,  35.0496,2,    190.5,2,    189.4,2, 19.5918
     49HH915_2,  P13C,   C60,  1,     18,     19,2,19910924,1336, 16.0027, 164.9858, 5373,    400.3,   9.2386,  34.2308,2,  34.2264,2,    119.0,3,    125.1,2,  9.1943
     49HH915_2,  P13C,   C60,  1,     17a,     17,2,19910924,1336, 16.0027, 164.9858, 5373,    501.5,   7.0522,  34.2233,2,  34.2358,2,     71.3,2,     76.0,2,  7.0046
     49HH915_2,  P13C,   C60,  1,     17b,     18,2,19910924,1336, 16.0027, 164.9858, 5373,    501.5,   7.0522,  34.2233,2,  34.2362,2,     71.3,2,     75.4,2,  7.0046
     49HH915_2,  P13C,   C60,  1,     15,     16,2,19910924,1336, 16.0027, 164.9858, 5373,    702.1,   5.5901,  34.4408,2,  34.4435,2,     61.2,2,     59.2,2,  5.5300
     49HH915_2,  P13C,   C60,  1,     14a,     14,2,19910924,1336, 16.0027, 164.9858, 5373,    852.2,   4.8191,  34.4981,2,  34.4997,2,     67.7,2,     66.6,2,  4.7502
     49HH915_2,  P13C,   C60,  1,     14b,     15,2,19910924,1336, 16.0027, 164.9858, 5373,    852.2,   4.8191,  34.4981,2,  34.4993,2,     67.7,2,     67.0,2,  4.7502
     49HH915_2,  P13C,   C60,  1,     13,     13,2,19910924,1336, 16.0027, 164.9858, 5373,   1001.9,   4.2749,  34.5308,2,  34.5287,2,     72.0,2,     70.8,2,  4.1969
     49HH915_2,  P13C,   C60,  1,     11a,     11,2,19910924,1336, 16.0027, 164.9858, 5373,   1402.9,   3.0456,  34.5767,2,  34.5755,2,     82.5,2,     82.9,2,  2.9453
     49HH915_2,  P13C,   C60,  1,     11b,     12,2,19910924,1336, 16.0027, 164.9858, 5373,   1402.9,   3.0456,  34.5767,2,  34.5759,2,     82.5,2,     85.1,2,  2.9453
     49HH915_2,  P13C,   C60,  1,     10,     10,2,19910924,1336, 16.0027, 164.9858, 5373,   1602.3,   2.6691,  34.5956,2,  34.5944,2,     91.6,2,     90.3,2,  2.5566
     49HH915_2,  P13C,   C60,  1,      9,      9,2,19910924,1336, 16.0027, 164.9858, 5373,   1802.6,   2.3596,  34.6124,2,  34.6140,2,    100.7,2,     97.8,2,  2.2345
     49HH915_2,  P13C,   C60,  1,      8,      8,2,19910924,1336, 16.0027, 164.9858, 5373,   2002.6,   2.1389,  34.6269,2,  34.6274,2,    108.4,2,    105.7,2,  2.0001
     49HH915_2,  P13C,   C60,  1,      7,      7,2,19910924,1336, 16.0027, 164.9858, 5373,   2502.4,   1.8084,  34.6525,2,  34.6526,2,    123.1,2,    122.2,2,  1.6314
     49HH915_2,  P13C,   C60,  1,      6,      6,2,19910924,1336, 16.0027, 164.9858, 5373,   3002.6,   1.6077,  34.6665,2,  34.6679,2,    136.4,2,    137.0,2,  1.3883
     49HH915_2,  P13C,   C60,  1,      5,      5,2,19910924,1336, 16.0027, 164.9858, 5373,   3502.8,   1.5198,  34.6757,2,  34.6765,2,    148.1,2,    147.0,2,  1.2529
     49HH915_2,  P13C,   C60,  1,      4,      4,2,19910924,1336, 16.0027, 164.9858, 5373,   4002.8,   1.4489,  34.6852,2,  34.6852,2,    161.6,2,    161.7,2,  1.1311
     49HH915_2,  P13C,   C60,  1,      3,      3,2,19910924,1336, 16.0027, 164.9858, 5373,   4504.0,   1.4219,  34.6900,2,  34.6903,2,    173.8,2,    173.1,2,  1.0488
     49HH915_2,  P13C,   C60,  1,      2,      2,2,19910924,1336, 16.0027, 164.9858, 5373,   5004.1,   1.3970,  34.6950,2,  34.6970,2,    184.4,2,    184.6,2,  0.9656
     49HH915_2,  P13C,   C60,  1,      1,      1,2,19910924,1336, 16.0027, 164.9858, 5373,   5379.2,   1.4040,  34.6978,2,  34.6993,2,    187.4,2,    188.7,2,  0.9260
     49HH915_2,  P13C,   C61,  1,     24,     23,2,19910924,2055, 17.0002, 164.9935, 5414,      7.3,  28.9052,  34.4927,2,  34.4973,2,    186.7,3,    201.1,2, 28.9034
     49HH915_2,  P13C,   C61,  1,     23,     22,2,19910924,2055, 17.0002, 164.9935, 5414,     17.4,  28.8602,  34.4979,2,  34.4969,2,    189.4,3,    203.3,2, 28.8560
     49HH915_2,  P13C,   C61,  1,     22,     21,2,19910924,2055, 17.0002, 164.9935, 5414,     47.9,  28.8053,  34.9554,2,  34.9583,2,    198.7,3,    206.7,2, 28.7938
     49HH915_2,  P13C,   C61,  1,     21a,     19,2,19910924,2055, 17.0002, 164.9935, 5414,     98.0,  25.6624,  35.1111,2,  35.1127,2,    204.3,3,    213.4,2, 25.6407
     49HH915_2,  P13C,   C61,  1,     21b,     20,2,19910924,2055, 17.0002, 164.9935, 5414,     98.0,  25.6624,  35.1111,2,  35.1123,2,    204.3,3,    215.1,2, 25.6407
     49HH915_2,  P13C,   C61,  1,     19a,     17,2,19910924,2055, 17.0002, 164.9935, 5414,    298.3,  13.4714,  34.4465,2,  34.4274,2,    163.4,3,    185.7,2, 13.4295
     49HH915_2,  P13C,   C61,  1,     19b,     18,2,19910924,2055, 17.0002, 164.9935, 5414,    298.3,  13.4714,  34.4465,2,  34.4270,2,    163.4,3,    186.3,2, 13.4295
     49HH915_2,  P13C,   C61,  1,     17,     16,2,19910924,2055, 17.0002, 164.9935, 5414,    498.6,   7.6285,  34.2162,2,  34.2178,2,     76.2,3,     93.6,2,  7.5790
     49HH915_2,  P13C,   C61,  1,     16,     15,2,19910924,2055, 17.0002, 164.9935, 5414,    599.1,   6.2982,  34.3074,2,  34.3127,2,     53.5,2,     55.6,2,  6.2443
     49HH915_2,  P13C,   C61,  1,     15a,     13,2,19910924,2055, 17.0002, 164.9935, 5414,    699.2,   5.6301,  34.4062,2,  34.4093,2,     56.8,2,     57.4,2,  5.5701
     49HH915_2,  P13C,   C61,  1,     15b,     14,2,19910924,2055, 17.0002, 164.9935, 5414,    699.2,   5.6301,  34.4062,2,  34.4101,2,     56.8,2,     56.8,2,  5.5701
     49HH915_2,  P13C,   C61,  1,     13a,     11,2,19910924,2055, 17.0002, 164.9935, 5414,    999.6,   4.2889,  34.5186,2,  34.5185,2,     67.2,2,     70.6,2,  4.2110
     49HH915_2,  P13C,   C61,  1,     13b,     12,2,19910924,2055, 17.0002, 164.9935, 5414,    999.6,   4.2889,  34.5186,2,  34.5181,2,     67.2,2,     71.0,2,  4.2110
     49HH915_2,  P13C,   C61,  1,     11a,      9,2,19910924,2055, 17.0002, 164.9935, 5414,   1399.3,   3.0116,  34.5674,2,  34.5700,2,     79.1,3,     84.6,2,  2.9120
     49HH915_2,  P13C,   C61,  1,     11b,     10,2,19910924,2055, 17.0002, 164.9935, 5414,   1399.3,   3.0116,  34.5674,2,  34.5692,2,     79.1,3,     85.1,2,  2.9120
     49HH915_2,  P13C,   C61,  1,     10,      8,2,19910924,2055, 17.0002, 164.9935, 5414,   1599.7,   2.6252,  34.5914,2,  34.5924,2,     85.4,3,     93.0,2,  2.5135
     49HH915_2,  P13C,   C61,  1,      9,      7,2,19910924,2055, 17.0002, 164.9935, 5414,   1800.8,   2.2857,  34.6090,2,  34.6081,2,     97.1,2,     99.9,2,  2.1618
     49HH915_2,  P13C,   C61,  1,      8,      6,2,19910924,2055, 17.0002, 164.9935, 5414,   1998.6,   2.0939,  34.6240,2,  34.6223,2,    102.6,3,    110.7,2,  1.9562
     49HH915_2,  P13C,   C61,  1,      7,      5,2,19910924,2055, 17.0002, 164.9935, 5414,   2499.9,   1.7854,  34.6486,2,  34.6506,2,    115.9,3,    122.7,2,  1.6091
     49HH915_2,  P13C,   C61,  1,      6,      4,2,19910924,2055, 17.0002, 164.9935, 5414,   3000.5,   1.5997,  34.6661,2,  34.6675,2,    128.5,3,    136.4,2,  1.3807
     49HH915_2,  P13C,   C61,  1,      5,      3,2,19910924,2055, 17.0002, 164.9935, 5414,   3502.3,   1.5178,  34.6768,2,  34.6758,2,    137.6,3,    148.2,2,  1.2510
     49HH915_2,  P13C,   C61,  1,      4,      2,2,19910924,2055, 17.0002, 164.9935, 5414,   4004.5,   1.4609,  34.6828,2,  34.6840,2,    151.8,3,    160.4,2,  1.1426
     49HH915_2,  P13C,   C61,  1,      3,      1,2,19910924,2055, 17.0002, 164.9935, 5414,   4502.9,   1.4179,  34.6898,2,  34.6907,2,    164.5,3,    173.4,2,  1.0450
     49HH915_2,  P13C,   C62,  1,     25,     24,2,19910925,0425, 17.9988, 165.0010, 5443,     21.3,  28.9562,  34.8181,2,  34.8146,2,    213.9,3,    202.5,2, 28.9511
     49HH915_2,  P13C,   C62,  1,     24,     23,2,19910925,0425, 17.9988, 165.0010, 5443,     51.4,  27.8586,  34.9819,2,  34.9768,2,    216.6,2,    220.2,2, 27.8465
     49HH915_2,  P13C,   C62,  1,     23,     22,2,19910925,0425, 17.9988, 165.0010, 5443,    101.2,  25.1627,  35.1559,2,  35.1469,2,    214.7,2,    212.0,2, 25.1406
     49HH915_2,  P13C,   C62,  1,     21a,     20,2,19910925,0425, 17.9988, 165.0010, 5443,    301.6,  13.6872,  34.5002,2,  34.4887,2,    199.4,2,    199.2,2, 13.6443
     49HH915_2,  P13C,   C62,  1,     21b,     21,2,19910925,0425, 17.9988, 165.0010, 5443,    301.6,  13.6872,  34.5002,2,  34.4879,2,    199.4,2,    197.8,2, 13.6443
     49HH915_2,  P13C,   C62,  1,     20,     19,2,19910925,0425, 17.9988, 165.0010, 5443,    401.2,   9.9051,  34.1830,3,  34.2044,2,    169.8,3,    177.6,2,  9.8588
     49HH915_2,  P13C,   C62,  1,     18a,     17,2,19910925,0425, 17.9988, 165.0010, 5443,    601.7,   5.8418,  34.2669,2,  34.2692,2,     58.0,2,     57.6,2,  5.7897
     49HH915_2,  P13C,   C62,  1,     18b,     18,2,19910925,0425, 17.9988, 165.0010, 5443,    601.7,   5.8418,  34.2669,2,  34.2048,3,     58.0,2,     57.9,2,  5.7898
     49HH915_2,  P13C,   C62,  1,     17,     16,2,19910925,0425, 17.9988, 165.0010, 5443,    701.9,   5.3684,  34.3814,2,  34.3814,2,     59.2,2,     57.1,2,  5.3096
     49HH915_2,  P13C,   C62,  1,     15,     15,2,19910925,0425, 17.9988, 165.0010, 5443,   1002.2,   4.1231,  34.5150,2,  34.5126,2,     73.2,2,     74.4,2,  4.0463
     49HH915_2,  P13C,   C62,  1,     14a,     13,2,19910925,0425, 17.9988, 165.0010, 5443,   1201.2,   3.4121,  34.5488,2,  34.5472,2,     79.4,2,     82.1,2,  3.3247
     49HH915_2,  P13C,   C62,  1,     14b,     14,2,19910925,0425, 17.9988, 165.0010, 5443,   1201.2,   3.4121,  34.5488,2,  34.5468,2,     79.4,2,     81.1,2,  3.3247
     49HH915_2,  P13C,   C62,  1,     13,     12,2,19910925,0425, 17.9988, 165.0010, 5443,   1402.5,   3.0027,  34.5692,2,  34.5688,2,     82.9,2,     84.9,2,  2.9029
     49HH915_2,  P13C,   C62,  1,     12,     11,2,19910925,0425, 17.9988, 165.0010, 5443,   1602.4,   2.5922,  34.5861,2,  34.5865,2,     88.7,2,     56.2,4,  2.4807
     49HH915_2,  P13C,   C62,  1,     11,     10,2,19910925,0425, 17.9988, 165.0010, 5443,   1802.2,   2.3106,  34.6049,2,  34.6081,2,     95.4,2,     98.9,2,  2.1862
     49HH915_2,  P13C,   C62,  1,     10,      9,2,19910925,0425, 17.9988, 165.0010, 5443,   2002.5,   2.0870,  34.6235,2,  34.6239,2,    103.5,2,    106.4,2,  1.9490
     49HH915_2,  P13C,   C62,  1,      9,      8,2,19910925,0425, 17.9988, 165.0010, 5443,   2502.4,   1.7854,  34.6487,2,  34.6486,2,    118.3,3,    122.3,2,  1.6089
     49HH915_2,  P13C,   C62,  1,      8,      7,2,19910925,0425, 17.9988, 165.0010, 5443,   3003.1,   1.6186,  34.6644,2,  34.6647,2,    133.2,2,    136.4,2,  1.3989
     49HH915_2,  P13C,   C62,  1,      7,      6,2,19910925,0425, 17.9988, 165.0010, 5443,   3503.1,   1.5338,  34.6742,2,  34.6746,2,    141.9,3,    148.2,2,  1.2665
     49HH915_2,  P13C,   C62,  1,      6,      5,2,19910925,0425, 17.9988, 165.0010, 5443,   4003.8,   1.4778,  34.6823,2,  34.6824,2,    152.8,3,    159.2,2,  1.1591
     49HH915_2,  P13C,   C62,  1,      5,      4,2,19910925,0425, 17.9988, 165.0010, 5443,   4504.3,   1.4259,  34.6906,2,  34.6895,2,    169.2,2,    171.8,2,  1.0526
     49HH915_2,  P13C,   C62,  1,      4,      3,2,19910925,0425, 17.9988, 165.0010, 5443,   5004.8,   1.4000,  34.6964,2,  34.7001,3,    179.5,3,    183.7,2,  0.9684
     49HH915_2,  P13C,   C62,  1,      3,      2,2,19910925,0425, 17.9988, 165.0010, 5443,   5448.1,   1.4159,  34.6984,2,  34.7001,2,    188.8,2,    189.7,2,  0.9288
     49HH915_2,  P13C,   C62,  1,      1,      1,2,19910925,0425, 17.9988, 165.0010, 5443,   5448.4,   1.4159,  34.6982,2,  34.6990,2,    184.6,3,    189.7,2,  0.9288