BOTTLE,20220929CCHSIOAMB
EXPOCODE,SECT_ID,STNNBR,CASTNO,SAMPNO,BTLNBR,BTLNBR_FLAG_W,DATE,TIME,LATITUDE,LONGITUDE,DEPTH,CTDPRS,CTDTMP,CTDSAL,CTDSAL_FLAG_W,SALNTY,SALNTY_FLAG_W,CTDOXY,CTDOXY_FLAG_W,OXYGEN,OXYGEN_FLAG_W,THETA
,,,,,,,,,,,,DBAR,ITS-90,PSS-78,,PSS-78,,UMOL/KG,,UMOL/KG,,DEG C
     49HH915_2,  P13C,   C63,  1,     25,     24,2,19910925,0907, 18.5053, 165.0015, 1716,     20.5,  28.8692,  34.9371,2,  34.8925,2,    209.3,3,    203.3,2, 28.8643
     49HH915_2,  P13C,   C63,  1,     24a,     22,2,19910925,0907, 18.5053, 165.0015, 1716,     50.2,  25.7404,  35.1696,2,  35.1639,2,    229.4,3,    223.0,2, 25.7293
     49HH915_2,  P13C,   C63,  1,     24b,     23,2,19910925,0907, 18.5053, 165.0015, 1716,     50.2,  25.7404,  35.1696,2,  35.1643,2,    229.4,3,    222.1,2, 25.7293
     49HH915_2,  P13C,   C63,  1,     23,     21,2,19910925,0907, 18.5053, 165.0015, 1716,    100.8,  22.2920,  35.2787,2,  35.2766,2,    208.6,2,    210.7,2, 22.2719
     49HH915_2,  P13C,   C63,  1,     22,     20,2,19910925,0907, 18.5053, 165.0015, 1716,    150.8,  20.8338,  35.1896,2,  35.1997,2,    204.6,2,    206.0,2, 20.8051
     49HH915_2,  P13C,   C63,  1,     21,     19,2,19910925,0907, 18.5053, 165.0015, 1716,    200.7,  17.3688,  34.8177,2,  34.8244,2,    206.4,3,    200.2,2, 17.3352
     49HH915_2,  P13C,   C63,  1,     19a,     17,2,19910925,0907, 18.5053, 165.0015, 1716,    300.7,  13.5733,  34.4842,2,  34.4883,2,    201.6,2,    202.3,2, 13.5308
     49HH915_2,  P13C,   C63,  1,     19b,     18,2,19910925,0907, 18.5053, 165.0015, 1716,    300.7,  13.5733,  34.4842,2,  34.4891,2,    201.6,2,    200.2,2, 13.5308
     49HH915_2,  P13C,   C63,  1,     17a,     15,2,19910925,0907, 18.5053, 165.0015, 1716,    401.6,   9.7662,  34.2019,2,  34.1985,2,    159.2,3,    164.4,2,  9.7203
     49HH915_2,  P13C,   C63,  1,     17b,     16,2,19910925,0907, 18.5053, 165.0015, 1716,    401.6,   9.7662,  34.2019,2,  34.1997,2,    159.2,3,    164.3,2,  9.7203
     49HH915_2,  P13C,   C63,  1,     15a,     13,2,19910925,0907, 18.5053, 165.0015, 1716,    501.8,   7.6735,  34.1654,2,  34.1687,2,    103.2,2,    108.0,2,  7.6236
     49HH915_2,  P13C,   C63,  1,     15b,     14,2,19910925,0907, 18.5053, 165.0015, 1716,    501.8,   7.6735,  34.1654,2,  34.1695,2,    103.2,2,    109.0,2,  7.6236
     49HH915_2,  P13C,   C63,  1,     13a,     11,2,19910925,0907, 18.5053, 165.0015, 1716,    702.4,   5.4084,  34.3405,2,  34.3445,2,      6.9,4,     57.3,2,  5.3494
     49HH915_2,  P13C,   C63,  1,     13b,     12,2,19910925,0907, 18.5053, 165.0015, 1716,    702.4,   5.4084,  34.3405,2,  34.3469,2,      6.9,4,     57.2,2,  5.3494
     49HH915_2,  P13C,   C63,  1,     12,     10,2,19910925,0907, 18.5053, 165.0015, 1716,    802.6,   4.7852,  34.4384,2,  34.4411,2,      5.9,4,     66.2,2,  4.7209
     49HH915_2,  P13C,   C63,  1,     10a,      8,2,19910925,0907, 18.5053, 165.0015, 1716,   1003.7,   3.9903,  34.5139,2,  34.5142,2,     80.6,2,     78.2,2,  3.9144
     49HH915_2,  P13C,   C63,  1,     10b,      9,2,19910925,0907, 18.5053, 165.0015, 1716,   1003.7,   3.9903,  34.5139,2,  34.5150,2,     80.6,2,     77.5,2,  3.9144
     49HH915_2,  P13C,   C63,  1,      9,      7,2,19910925,0907, 18.5053, 165.0015, 1716,   1103.1,   3.6797,  34.5288,2,  34.5295,2,     79.1,2,     78.8,2,  3.5980
     49HH915_2,  P13C,   C63,  1,      8,      6,2,19910925,0907, 18.5053, 165.0015, 1716,   1203.2,   3.2902,  34.5601,2,  34.5610,2,     80.4,2,     84.4,3,  3.2038
     49HH915_2,  P13C,   C63,  1,      7,      5,2,19910925,0907, 18.5053, 165.0015, 1716,   1304.0,   3.0466,  34.5613,2,  34.5602,2,     82.9,2,     86.3,3,  2.9544
     49HH915_2,  P13C,   C63,  1,      6,      4,2,19910925,0907, 18.5053, 165.0015, 1716,   1403.7,   2.9208,  34.5672,2,  34.5673,2,     85.9,2,     86.2,2,  2.8218
     49HH915_2,  P13C,   C63,  1,      5,      3,2,19910925,0907, 18.5053, 165.0015, 1716,   1504.0,   2.7560,  34.5755,2,  34.5771,2,     87.4,2,     88.1,2,  2.6506
     49HH915_2,  P13C,   C63,  1,      1,      1,2,19910925,0907, 18.5053, 165.0015, 1716,   1654.8,   2.5583,  34.5864,2,  34.5861,2,     90.1,2,     92.8,2,  2.4429
     49HH915_2,  P13C,   C63,  1,      2,      2,2,19910925,0907, 18.5053, 165.0015, 1716,   1654.8,   2.5633,  34.5860,2,  34.5853,2,    254.2,4,     91.8,2,  2.4478
     49HH915_2,  P13C,   C64,  1,     24,     24,2,19910925,1240, 19.0037, 164.9947, 1864,     20.1,  28.7073,  35.1214,2,  35.1209,2,    210.2,2,    206.2,2, 28.7025
     49HH915_2,  P13C,   C64,  1,     23a,     22,2,19910925,1240, 19.0037, 164.9947, 1864,     50.1,  24.3270,  35.2300,2,  35.2727,2,    220.9,3,    228.7,2, 24.3163
     49HH915_2,  P13C,   C64,  1,     23b,     23,2,19910925,1240, 19.0037, 164.9947, 1864,     50.1,  24.3270,  35.2300,2,  35.2715,2,    220.9,3,    228.0,2, 24.3163
     49HH915_2,  P13C,   C64,  1,     22,     21,2,19910925,1240, 19.0037, 164.9947, 1864,    100.9,  21.1296,  35.2204,2,  35.2049,2,    203.3,2,    206.3,2, 21.1102
     49HH915_2,  P13C,   C64,  1,     21,     20,2,19910925,1240, 19.0037, 164.9947, 1864,    151.5,  18.5710,  34.9234,2,  34.9216,2,    214.5,3,    220.3,2, 18.5444
     49HH915_2,  P13C,   C64,  1,     20,     19,2,19910925,1240, 19.0037, 164.9947, 1864,    201.2,  17.0480,  34.7973,2,  34.7776,2,    210.0,3,    218.3,2, 17.0148
     49HH915_2,  P13C,   C64,  1,     18a,     17,2,19910925,1240, 19.0037, 164.9947, 1864,    301.2,  13.5693,  34.4810,2,  34.4533,2,    195.9,3,    203.0,2, 13.5267
     49HH915_2,  P13C,   C64,  1,     18b,     18,2,19910925,1240, 19.0037, 164.9947, 1864,    301.2,  13.5693,  34.4810,2,  34.4541,2,    195.9,3,    203.5,2, 13.5267
     49HH915_2,  P13C,   C64,  1,     17,     16,2,19910925,1240, 19.0037, 164.9947, 1864,    401.5,  10.6185,  34.2592,2,  34.2421,2,    162.7,3,    171.7,2, 10.5701
     49HH915_2,  P13C,   C64,  1,     15,     15,2,19910925,1240, 19.0037, 164.9947, 1864,    601.4,   6.3931,  34.2036,2,  34.2013,2,     73.2,2,     74.2,2,  6.3386
     49HH915_2,  P13C,   C64,  1,     14a,     13,2,19910925,1240, 19.0037, 164.9947, 1864,    702.0,   5.4423,  34.3494,2,  34.3583,2,     82.2,4,     55.6,2,  5.3831
     49HH915_2,  P13C,   C64,  1,     14b,     14,2,19910925,1240, 19.0037, 164.9947, 1864,    702.0,   5.4423,  34.3494,2,  34.3575,2,     82.2,4,     57.1,2,  5.3831
     49HH915_2,  P13C,   C64,  1,     13,     12,2,19910925,1240, 19.0037, 164.9947, 1864,    802.3,   4.7343,  34.4239,2,  34.4246,2,      2.6,4,     61.4,2,  4.6703
     49HH915_2,  P13C,   C64,  1,     12,     11,2,19910925,1240, 19.0037, 164.9947, 1864,    902.3,   4.4207,  34.4685,2,  34.4706,2,      5.4,4,     68.5,2,  4.3502
     49HH915_2,  P13C,   C64,  1,     11,     10,2,19910925,1240, 19.0037, 164.9947, 1864,   1002.4,   4.0073,  34.5086,2,  34.5063,2,     74.7,2,     74.2,2,  3.9314
     49HH915_2,  P13C,   C64,  1,     10,      9,2,19910925,1240, 19.0037, 164.9947, 1864,   1102.8,   3.6428,  34.5297,2,  34.5307,2,     78.5,2,     79.1,2,  3.5615
     49HH915_2,  P13C,   C64,  1,      9,      8,2,19910925,1240, 19.0037, 164.9947, 1864,   1202.8,   3.4031,  34.5467,2,  34.5492,2,     81.6,2,     82.2,2,  3.3157
     49HH915_2,  P13C,   C64,  1,      8,      7,2,19910925,1240, 19.0037, 164.9947, 1864,   1303.2,   3.2034,  34.5584,2,  34.5578,2,     84.0,2,     83.7,2,  3.1097
     49HH915_2,  P13C,   C64,  1,      6a,      5,2,19910925,1240, 19.0037, 164.9947, 1864,   1503.5,   2.7370,  34.5789,2,  34.5794,2,     90.2,2,     89.4,2,  2.6319
     49HH915_2,  P13C,   C64,  1,      6b,      6,2,19910925,1240, 19.0037, 164.9947, 1864,   1503.5,   2.7370,  34.5789,2,  34.5790,2,     90.2,2,     90.0,2,  2.6319
     49HH915_2,  P13C,   C64,  1,      5,      4,2,19910925,1240, 19.0037, 164.9947, 1864,   1603.3,   2.5593,  34.5879,2,  34.5881,2,     91.9,2,     93.8,2,  2.4481
     49HH915_2,  P13C,   C64,  1,      4,      3,2,19910925,1240, 19.0037, 164.9947, 1864,   1703.9,   2.3276,  34.6002,2,  34.5987,2,     98.5,2,     99.1,2,  2.2111
     49HH915_2,  P13C,   C64,  1,      2,      2,2,19910925,1240, 19.0037, 164.9947, 1864,   1839.8,   2.1519,  34.6136,2,  34.6136,2,    339.8,4,    103.8,2,  2.0266
     49HH915_2,  P13C,   C64,  1,      1,      1,2,19910925,1240, 19.0037, 164.9947, 1864,   1841.3,   2.1519,  34.6128,2,  34.6132,2,    103.0,2,    104.6,2,  2.0265
     49HH915_2,  P13C,   C66,  1,     24,     23,2,19910925,2254, 20.0140, 164.9880, 5362,     51.0,  26.0973,  35.2550,2,  35.2648,2,    214.5,3,    228.2,2, 26.0859
     49HH915_2,  P13C,   C66,  1,     23,     22,2,19910925,2254, 20.0140, 164.9880, 5362,    101.3,  22.4679,  35.2266,2,  35.2131,2,    189.4,3,    203.6,2, 22.4476
     49HH915_2,  P13C,   C66,  1,     22,     21,2,19910925,2254, 20.0140, 164.9880, 5362,    201.5,  17.5436,  34.8302,2,  34.8268,2,    188.6,3,    194.1,2, 17.5096
     49HH915_2,  P13C,   C66,  1,     21,     20,2,19910925,2254, 20.0140, 164.9880, 5362,    301.8,  14.2848,  34.5462,2,  34.5394,2,    194.0,3,    207.0,2, 14.2406
     49HH915_2,  P13C,   C66,  1,     20,     19,2,19910925,2254, 20.0140, 164.9880, 5362,    401.8,  10.4207,  34.2325,2,  34.2287,2,    178.7,3,    197.2,2, 10.3728
     49HH915_2,  P13C,   C66,  1,     19a,     17,2,19910925,2254, 20.0140, 164.9880, 5362,    501.1,   7.7863,  34.1608,2,  34.1585,2,    103.6,3,    115.6,2,  7.7360
     49HH915_2,  P13C,   C66,  1,     19b,     18,2,19910925,2254, 20.0140, 164.9880, 5362,    501.1,   7.7863,  34.1608,2,  34.1589,2,    103.6,3,    115.8,2,  7.7360
     49HH915_2,  P13C,   C66,  1,     17a,     15,2,19910925,2254, 20.0140, 164.9880, 5362,    700.7,   5.2356,  34.2468,2,  34.2484,2,     51.0,2,     54.3,2,  5.1778
     49HH915_2,  P13C,   C66,  1,     17b,     16,2,19910925,2254, 20.0140, 164.9880, 5362,    700.7,   5.2356,  34.2468,2,  34.2503,2,     51.0,2,     55.3,2,  5.1778
     49HH915_2,  P13C,   C66,  1,     15a,     13,2,19910925,2254, 20.0140, 164.9880, 5362,   1002.6,   3.8684,  34.4787,2,  34.4777,2,     61.8,2,     63.6,2,  3.7936
     49HH915_2,  P13C,   C66,  1,     15b,     14,2,19910925,2254, 20.0140, 164.9880, 5362,   1002.6,   3.8684,  34.4787,2,  34.4781,2,     61.8,2,     66.6,2,  3.7936
     49HH915_2,  P13C,   C66,  1,     13a,     11,2,19910925,2254, 20.0140, 164.9880, 5362,   1403.0,   2.8369,  34.5609,2,  34.5610,2,     82.0,2,     84.4,2,  2.7389
     49HH915_2,  P13C,   C66,  1,     13b,     12,2,19910925,2254, 20.0140, 164.9880, 5362,   1403.0,   2.8369,  34.5609,2,  34.5610,2,     82.0,2,     88.0,2,  2.7389
     49HH915_2,  P13C,   C66,  1,     11a,      9,2,19910925,2254, 20.0140, 164.9880, 5362,   1802.9,   2.2387,  34.6066,2,  34.6062,2,     95.8,3,     89.6,4,  2.1153
     49HH915_2,  P13C,   C66,  1,     11b,     10,2,19910925,2254, 20.0140, 164.9880, 5362,   1802.9,   2.2387,  34.6066,2,  34.6054,2,     95.8,3,    101.0,2,  2.1153
     49HH915_2,  P13C,   C66,  1,      9a,      7,2,19910925,2254, 20.0140, 164.9880, 5362,   2502.4,   1.7235,  34.6520,2,  34.6510,2,    119.4,3,    125.2,2,  1.5481
     49HH915_2,  P13C,   C66,  1,      9b,      8,2,19910925,2254, 20.0140, 164.9880, 5362,   2502.4,   1.7235,  34.6520,2,  34.6502,2,    119.4,3,    128.1,2,  1.5481
     49HH915_2,  P13C,   C66,  1,      8,      6,2,19910925,2254, 20.0140, 164.9880, 5362,   3003.8,   1.6017,  34.6650,2,  34.6647,2,    131.4,3,    139.0,2,  1.3823
     49HH915_2,  P13C,   C66,  1,      7,      5,2,19910925,2254, 20.0140, 164.9880, 5362,   3504.0,   1.5138,  34.6754,2,  34.6754,2,    144.0,3,    149.4,2,  1.2469
     49HH915_2,  P13C,   C66,  1,      5,      4,2,19910925,2254, 20.0140, 164.9880, 5362,   4504.6,   1.4319,  34.6902,2,  34.6907,2,    165.7,3,    175.7,2,  1.0584
     49HH915_2,  P13C,   C66,  1,      4,      3,2,19910925,2254, 20.0140, 164.9880, 5362,   5005.2,   1.4189,  34.6958,2,  34.6801,4,    175.4,3,    171.0,4,  0.9868
     49HH915_2,  P13C,   C66,  1,      1,     24,2,19910925,2254, 20.0140, 164.9880, 5362,   5357.5,   1.4489,  34.6952,2,  34.6970,2,    176.1,3,    188.9,3,  0.9721
     49HH915_2,  P13C,   C66,  1,      2,      1,2,19910925,2254, 20.0140, 164.9880, 5362,   5357.9,   1.4489,  34.6963,2,  34.6962,2,    252.7,4,    182.6,3,  0.9720
     49HH915_2,  P13C,   C66,  1,      3,      2,2,19910925,2254, 20.0140, 164.9880, 5362,   5357.9,   1.4489,  34.6963,2,  34.6942,2,    645.6,4,    185.1,2,  0.9720
     49HH915_2,  P13C,   C67,  1,     24a,     23,2,19910926,0445, 20.5108, 164.9895, 5435,     20.0,  28.8662,  35.1672,2,  35.1639,2,    181.9,3,    203.5,2, 28.8614
     49HH915_2,  P13C,   C67,  1,     24b,     24,2,19910926,0445, 20.5108, 164.9895, 5435,     20.0,  28.8662,  35.1672,2,  35.1651,2,    181.9,3,    204.3,2, 28.8614
     49HH915_2,  P13C,   C67,  1,     22a,     21,2,19910926,0445, 20.5108, 164.9895, 5435,    100.1,  22.5569,  35.2572,2,  35.2526,2,    191.3,3,    215.1,2, 22.5367
     49HH915_2,  P13C,   C67,  1,     22b,     22,2,19910926,0445, 20.5108, 164.9895, 5435,    100.1,  22.5569,  35.2572,2,  35.2534,2,    191.3,3,    214.5,2, 22.5367
     49HH915_2,  P13C,   C67,  1,     20a,     19,2,19910926,0445, 20.5108, 164.9895, 5435,    301.9,  14.2858,  34.5443,2,  34.5433,2,    186.0,3,    204.4,2, 14.2416
     49HH915_2,  P13C,   C67,  1,     20b,     20,2,19910926,0445, 20.5108, 164.9895, 5435,    301.9,  14.2858,  34.5443,2,  34.5429,2,    186.0,3,    205.6,2, 14.2416
     49HH915_2,  P13C,   C67,  1,     18a,     17,2,19910926,0445, 20.5108, 164.9895, 5435,    502.1,   8.3147,  34.1249,2,  34.1228,2,    129.8,3,    154.6,2,  8.2624
     49HH915_2,  P13C,   C67,  1,     18b,     18,2,19910926,0445, 20.5108, 164.9895, 5435,    502.1,   8.3147,  34.1249,2,  34.1240,2,    129.8,3,    152.7,2,  8.2624
     49HH915_2,  P13C,   C67,  1,     16a,     15,2,19910926,0445, 20.5108, 164.9895, 5435,    702.4,   5.4044,  34.2444,2,  34.2452,2,     51.4,3,     56.9,2,  5.3455
     49HH915_2,  P13C,   C67,  1,     16b,     16,2,19910926,0445, 20.5108, 164.9895, 5435,    702.4,   5.4044,  34.2444,2,  34.2433,2,     51.4,3,     57.1,2,  5.3455
     49HH915_2,  P13C,   C67,  1,     14a,     13,2,19910926,0445, 20.5108, 164.9895, 5435,   1002.0,   3.9393,  34.4688,2,  34.4694,2,     56.6,3,     61.1,2,  3.8640
     49HH915_2,  P13C,   C67,  1,     14b,     14,2,19910926,0445, 20.5108, 164.9895, 5435,   1002.0,   3.9393,  34.4688,2,  34.4690,2,     56.6,3,     62.0,2,  3.8640
     49HH915_2,  P13C,   C67,  1,     12a,     11,2,19910926,0445, 20.5108, 164.9895, 5435,   1402.8,   2.8678,  34.5561,2,  34.5555,2,     75.1,3,     81.3,2,  2.7695
     49HH915_2,  P13C,   C67,  1,     12b,     12,2,19910926,0445, 20.5108, 164.9895, 5435,   1402.8,   2.8678,  34.5561,2,  34.5562,2,     75.1,3,     83.4,2,  2.7695
     49HH915_2,  P13C,   C67,  1,     10a,      9,2,19910926,0445, 20.5108, 164.9895, 5435,   1803.1,   2.1868,  34.6055,2,  34.6066,2,     91.7,3,    102.2,2,  2.0641
     49HH915_2,  P13C,   C67,  1,     10b,     10,2,19910926,0445, 20.5108, 164.9895, 5435,   1803.1,   2.1868,  34.6055,2,  34.6062,2,     91.7,3,    101.5,2,  2.0641
     49HH915_2,  P13C,   C67,  1,      8a,      7,2,19910926,0445, 20.5108, 164.9895, 5435,   2502.9,   1.7255,  34.6509,2,  34.6502,2,    114.4,3,    125.2,2,  1.5501
     49HH915_2,  P13C,   C67,  1,      8b,      8,2,19910926,0445, 20.5108, 164.9895, 5435,   2502.9,   1.7255,  34.6509,2,  34.6498,2,    114.4,3,    126.9,2,  1.5501
     49HH915_2,  P13C,   C67,  1,      6a,      5,2,19910926,0445, 20.5108, 164.9895, 5435,   3503.5,   1.5118,  34.6753,2,  34.6758,2,    136.8,3,    149.3,2,  1.2450
     49HH915_2,  P13C,   C67,  1,      6b,      6,2,19910926,0445, 20.5108, 164.9895, 5435,   3503.5,   1.5118,  34.6753,2,  34.6769,2,    136.8,3,    150.2,2,  1.2450
     49HH915_2,  P13C,   C67,  1,      5,      4,2,19910926,0445, 20.5108, 164.9895, 5435,   4004.0,   1.4619,  34.6832,2,  34.6879,3,    147.4,3,    171.3,2,  1.1436
     49HH915_2,  P13C,   C67,  1,      4,      3,2,19910926,0445, 20.5108, 164.9895, 5435,   4503.7,   1.4359,  34.6900,2,  34.6687,4,    157.5,3,    166.2,3,  1.0625
     49HH915_2,  P13C,   C67,  1,      3,      2,2,19910926,0445, 20.5108, 164.9895, 5435,   5004.6,   1.4269,  34.6950,2,  34.6938,2,    166.7,3,    182.2,2,  0.9945
     49HH915_2,  P13C,   C67,  1,      1,      1,2,19910926,0445, 20.5108, 164.9895, 5435,   5408.7,   1.4509,  34.6958,2,  34.6958,2,    169.5,3,    184.9,2,  0.9676