BOTTLE,20220928CCHSIOAMB
EXPOCODE,SECT_ID,STNNBR,CASTNO,SAMPNO,BTLNBR,BTLNBR_FLAG_W,DATE,LATITUDE,LONGITUDE,DEPTH,CTDPRS,CTDTMP,CTDSAL,CTDSAL_FLAG_W,SALNTY,SALNTY_FLAG_W,OXYGEN,OXYGEN_FLAG_W,SILCAT,SILCAT_FLAG_W,NITRAT,NITRAT_FLAG_W,NITRIT,NITRIT_FLAG_W,PHSPHT,PHSPHT_FLAG_W,CFC-11,CFC-11_FLAG_W,CFC-12,CFC-12_FLAG_W,CCL4,CCL4_FLAG_W,TCARBN,TCARBN_FLAG_W,ALKALI,ALKALI_FLAG_W,THETA
,,,,,,,,,,METERS,DBAR,ITS-90,PSS-78,,PSS-78,,UMOL/KG,,UMOL/KG,,UMOL/KG,,UMOL/KG,,UMOL/KG,,PMOL/KG,,PMOL/KG,,PMOL/KG,,UMOL/KG,,UMOL/KG,,DEG C
  58AA19940224,   GNS,    29,  1,24,    12,2,19940309, 76.0000,   1.0000, 3036,      5.5,   0.3400,  34.8940,2,  34.9150,2,   -999.0,9,  -999.00,9,  -999.00,9,     0.11,2,     0.94,2,    6.810,2,    3.510,2,   11.500,2,   2148.5,2,   -999.0,9,   0.339788
  58AA19940224,   GNS,    29,  1,23,    11,2,19940309, 76.0000,   1.0000, 3036,     14.5,   0.3310,  34.8940,2,  34.9140,2,   -999.0,9,  -999.00,9,  -999.00,9,     0.16,2,     0.91,2,    6.800,2,    3.410,2,   11.460,2,   2148.8,2,   -999.0,9,   0.330441
  58AA19940224,   GNS,    29,  1,22,    10,2,19940309, 76.0000,   1.0000, 3036,     35.5,   0.3310,  34.8960,2,  34.9140,2,   -999.0,9,  -999.00,9,  -999.00,9,     0.08,2,     0.97,2,    6.770,2,    3.440,2,   11.350,2,   2148.2,2,   2281.2,2,   0.329625
  58AA19940224,   GNS,    29,  1,21,     9,2,19940309, 76.0000,   1.0000, 3036,     53.5,   0.3340,  34.8960,2,  34.9140,2,   -999.0,9,  -999.00,9,  -999.00,9,     0.13,2,     0.97,2,    6.720,2,    3.450,2,   11.200,2,   2147.6,2,   2282.6,2,   0.331917
  58AA19940224,   GNS,    29,  1,20,     8,2,19940309, 76.0000,   1.0000, 3036,     78.5,   0.3350,  34.8970,2,  34.9130,2,   -999.0,9,  -999.00,9,  -999.00,9,     0.10,2,     0.96,2,    6.580,2,    3.310,2,   11.000,2,   2151.4,2,   2283.2,2,   0.331925
  58AA19940224,   GNS,    29,  1,19,     7,2,19940309, 76.0000,   1.0000, 3036,    105.5,   0.3380,  34.8970,2,  34.9160,2,   -999.0,9,  -999.00,9,  -999.00,9,     0.09,2,     0.92,2,    6.450,2,    3.360,2,   10.670,2,   2148.5,2,   2284.2,2,   0.333839
  58AA19940224,   GNS,    29,  1,18,     6,2,19940309, 76.0000,   1.0000, 3036,    203.5,   0.2070,  34.8920,2,  34.9120,2,   -999.0,9,  -999.00,9,  -999.00,9,     0.08,2,     0.89,2, -999.000,9, -999.000,9, -999.000,9,   2149.3,2,   2291.4,2,    0.19902
  58AA19940224,   GNS,    29,  1,17,     5,2,19940309, 76.0000,   1.0000, 3036,    304.5,   0.1740,  34.8940,2,  34.8840,2,   -999.0,9,  -999.00,9,  -999.00,9,     0.08,2,     0.90,2, -999.000,9, -999.000,9, -999.000,9,   2151.1,2,   2283.8,2,   0.161864
  58AA19940224,   GNS,    29,  1,16,     4,2,19940309, 76.0000,   1.0000, 3036,    404.5,  -0.2780,  34.8700,2,  34.9010,2,   -999.0,9,  -999.00,9,  -999.00,9,     0.08,2,     1.02,2, -999.000,9, -999.000,9, -999.000,9,   2155.1,2,   2281.2,2,  -0.292934
  58AA19940224,   GNS,    29,  1,15,     3,2,19940309, 76.0000,   1.0000, 3036,    504.5,  -0.4530,  34.8750,2,  34.8880,2,   -999.0,9,  -999.00,9,  -999.00,9,     0.12,2,     1.01,2, -999.000,9, -999.000,9, -999.000,9,   2155.4,2,   2285.4,2,  -0.471351
  58AA19940224,   GNS,    29,  1,14,     2,2,19940309, 76.0000,   1.0000, 3036,    604.5,  -0.6110,  34.8720,2,  34.8840,2,   -999.0,9,  -999.00,9,  -999.00,9,     0.11,2,     0.98,2,    3.570,2,    1.980,2,    5.900,2,   2156.7,2,   2285.4,2,  -0.632739
  58AA19940224,   GNS,    29,  1,13,     1,2,19940309, 76.0000,   1.0000, 3036,    705.5,  -0.6940,  34.8730,2,  34.8850,2,   -999.0,9,  -999.00,9,  -999.00,9,     0.10,2,     1.09,2, -999.000,9, -999.000,9, -999.000,9,   2156.8,2,   2285.1,2,  -0.719538
  58AA19940224,   GNS,    29,  1,12,    12,2,19940309, 76.0000,   1.0000, 3036,    809.5,  -0.7560,  34.8720,2,  34.8880,2,   -999.0,9,  -999.00,9,  -999.00,9,     0.09,2,     1.02,2,    2.790,2,    1.600,2,    4.570,2,   2156.4,2,   2285.6,2,  -0.785656
  58AA19940224,   GNS,    29,  1,11,    11,2,19940309, 76.0000,   1.0000, 3036,   1011.5,  -0.7490,  34.8870,2,  34.9000,2,   -999.0,9,  -999.00,9,  -999.00,9,     0.10,2,     1.01,2,    1.890,2,    1.180,2,    3.260,2,   -999.0,9,   2292.0,2,  -0.788009
  58AA19940224,   GNS,    29,  1,10,    10,2,19940309, 76.0000,   1.0000, 3036,   1109.5,  -0.7740,  34.8890,2,  34.9040,2,   -999.0,9,  -999.00,9,  -999.00,9,     0.13,2,     1.06,2,    1.700,2,    1.080,2,    3.120,2,   -999.0,9,   2289.1,2,   -0.81755
  58AA19940224,   GNS,    29,  1,9,     9,2,19940309, 76.0000,   1.0000, 3036,   1210.5,  -0.8120,  34.8910,2,  34.9060,2,   -999.0,9,  -999.00,9,  -999.00,9,     0.10,2,     1.07,2,    1.580,2,    1.000,2,    3.030,2,   2160.2,2,   -999.0,9,  -0.860248
  58AA19940224,   GNS,    29,  1,8,     8,2,19940309, 76.0000,   1.0000, 3036,   1254.5,  -0.8320,  34.8910,2,  34.9050,2,   -999.0,9,  -999.00,9,  -999.00,9,     0.12,2,     1.06,2,    1.550,2,    1.020,2,    3.070,2,   2158.5,2,   2286.3,2,  -0.882294
  58AA19940224,   GNS,    29,  1,7,     7,2,19940309, 76.0000,   1.0000, 3036,   1512.5,  -0.9250,  34.8920,2,  34.9040,2,   -999.0,9,  -999.00,9,  -999.00,9,     0.13,2,     1.06,2,    1.470,2,    1.030,2,    3.090,2,   2158.1,2,   2284.7,2,  -0.988002
  58AA19940224,   GNS,    29,  1,6,     6,2,19940309, 76.0000,   1.0000, 3036,   1813.5,  -0.9570,  34.8940,2,  34.9080,2,   -999.0,9,  -999.00,9,  -999.00,9,     0.10,2,     1.05,2,    1.190,2,    0.760,2,    2.740,2,   2158.3,2,   2287.3,2,   -1.03693
  58AA19940224,   GNS,    29,  1,5,     5,2,19940309, 76.0000,   1.0000, 3036,   2014.5,  -0.9670,  34.8960,2,  34.9080,2,   -999.0,9,  -999.00,9,  -999.00,9,     0.12,2,     1.06,2, -999.000,9, -999.000,9, -999.000,9,   2155.6,2,   2288.8,2,   -1.05921
  58AA19940224,   GNS,    29,  1,4,     4,2,19940309, 76.0000,   1.0000, 3036,   2315.5,  -0.9900,  34.8960,2,  34.9050,2,   -999.0,9,  -999.00,9,  -999.00,9,     0.08,2,     1.03,2,    0.940,2,    0.650,2,    2.340,2,   2158.1,2,   2285.6,2,   -1.10163
  58AA19940224,   GNS,    29,  1,3,     3,2,19940309, 76.0000,   1.0000, 3036,   2515.5,  -0.9970,  34.8960,2,  34.9040,2,   -999.0,9,  -999.00,9,  -999.00,9,     0.07,2,     0.92,2, -999.000,9, -999.000,9, -999.000,9,   2157.0,2,   2281.1,2,   -1.12247
  58AA19940224,   GNS,    29,  1,2,     2,2,19940309, 76.0000,   1.0000, 3036,   2718.5,  -1.0030,  34.8950,2,  34.9030,2,   -999.0,9,  -999.00,9,  -999.00,9,     0.09,2,     0.92,2,    0.860,2,    0.600,2,    2.430,2,   2157.0,2,   2287.4,2,   -1.14318
  58AA19940224,   GNS,    29,  1,1,     1,2,19940309, 76.0000,   1.0000, 3036,   3026.5,  -0.9990,  34.8950,2,  34.9040,2,   -999.0,9,  -999.00,9,  -999.00,9,     0.08,2,     0.97,2,    0.870,2,    0.670,2,    2.540,2,   2157.9,2,   2284.6,2,   -1.16303
  58AA19940224,   GNS,    30,  1,24,    12,2,19940310, 72.4117,  -9.4920, 2491,      2.5,  -0.0070,  34.8220,2,-999.0000,9,   -999.0,9,  -999.00,9,  -999.00,9,     0.11,2,     0.96,2,    6.510,2,    3.320,2,   10.850,2,   2142.2,2,   2278.2,2,-0.00708857
  58AA19940224,   GNS,    30,  1,23,    11,2,19940310, 72.4117,  -9.4920, 2491,     12.5,  -0.0120,  34.8200,2,-999.0000,9,   -999.0,9,  -999.00,9,  -999.00,9,     0.14,2,     0.88,2,    6.510,2,    3.350,2,   10.850,2,   2142.8,2,   2271.9,2, -0.0124434
  58AA19940224,   GNS,    30,  1,22,    10,2,19940310, 72.4117,  -9.4920, 2491,     31.5,   0.0100,  34.8220,2,-999.0000,9,   -999.0,9,  -999.00,9,  -999.00,9,     0.13,2,     0.98,2,    6.440,2,    3.360,2,   10.620,2,   2141.4,2,   2266.2,3, 0.00887099
  58AA19940224,   GNS,    30,  1,21,     9,2,19940310, 72.4117,  -9.4920, 2491,     52.5,   0.0340,  34.8280,2,-999.0000,9,   -999.0,9,  -999.00,9,  -999.00,9,     0.12,2,     0.90,2,    6.380,2,    3.260,2,   10.410,2,   2141.9,2,   2270.1,2,  0.0320968
  58AA19940224,   GNS,    30,  1,20,     8,2,19940310, 72.4117,  -9.4920, 2491,     77.5,   0.1190,  34.8400,2,-999.0000,9,   -999.0,9,  -999.00,9,  -999.00,9,     0.11,2,     0.89,2,    6.210,2,    3.300,2,   10.070,2,   2142.8,2,   2280.3,2,   0.116115
  58AA19940224,   GNS,    30,  1,19,     7,2,19940310, 72.4117,  -9.4920, 2491,    102.5,   0.2670,  34.8590,2,-999.0000,9,   -999.0,9,  -999.00,9,  -999.00,9,     0.09,2,     0.92,2,    6.020,2,    3.200,2,    9.750,2,   2142.8,2,   2273.5,2,   0.263029
  58AA19940224,   GNS,    30,  1,18,     6,2,19940310, 72.4117,  -9.4920, 2491,    200.5,   0.1960,  34.8590,2,-999.0000,9,   -999.0,9,  -999.00,9,  -999.00,9,     0.08,2,     0.88,2,    5.570,2, -999.000,9,    8.850,2,   2142.9,2,   2274.1,2,   0.188174
  58AA19940224,   GNS,    30,  1,17,     5,2,19940310, 72.4117,  -9.4920, 2491,    301.5,   0.1680,  34.8600,2,-999.0000,9,   -999.0,9,  -999.00,9,  -999.00,9,     0.13,2,     0.88,2, -999.000,9, -999.000,9, -999.000,9,   2143.0,2,   2274.9,2,   0.156026
  58AA19940224,   GNS,    30,  1,16,     4,2,19940310, 72.4117,  -9.4920, 2491,    400.5,   0.0630,  34.8640,2,-999.0000,9,   -999.0,9,  -999.00,9,  -999.00,9,     0.17,2,     0.94,2,    4.530,2,    2.370,2,    7.220,2,   2147.1,2,   2276.3,2,  0.0470856
  58AA19940224,   GNS,    30,  1,15,     3,2,19940310, 72.4117,  -9.4920, 2491,    502.5,  -0.0820,  34.8700,2,-999.0000,9,   -999.0,9,  -999.00,9,  -999.00,9,     0.14,2,     0.93,2,    3.670,2, -999.000,9,    5.380,2,   2148.8,2,   2276.7,2,  -0.101827
  58AA19940224,   GNS,    30,  1,14,     2,2,19940310, 72.4117,  -9.4920, 2491,    600.5,  -0.3040,  34.8700,2,-999.0000,9,   -999.0,9,  -999.00,9,  -999.00,9,     0.10,2,     0.97,2,    3.530,2, -999.000,9,    4.990,2,   2151.8,2,   2285.3,2,  -0.327114
  58AA19940224,   GNS,    30,  1,13,     1,2,19940310, 72.4117,  -9.4920, 2491,    699.5,  -0.3430,  34.8790,2,-999.0000,9,   -999.0,9,  -999.00,9,  -999.00,9,     0.09,2,     0.97,2,    2.480,2,    1.000,3,    3.850,2,   2156.1,2,   2283.3,2,  -0.370339
  58AA19940224,   GNS,    30,  1,12,    12,2,19940310, 72.4117,  -9.4920, 2491,    804.5,  -0.3870,  34.8860,2,-999.0000,9,   -999.0,9,  -999.00,9,  -999.00,9,     0.10,2,     1.00,2, -999.000,9, -999.000,9, -999.000,9,   2154.7,2,   2280.7,2,  -0.418924
  58AA19940224,   GNS,    30,  1,11,    11,2,19940310, 72.4117,  -9.4920, 2491,   1001.5,  -0.5290,  34.8910,2,-999.0000,9,   -999.0,9,  -999.00,9,  -999.00,9,     0.11,2,     1.03,2,    2.300,2,    1.310,2,    3.920,2,   2157.4,2,   2287.7,2,  -0.569357
  58AA19940224,   GNS,    30,  1,10,    10,2,19940310, 72.4117,  -9.4920, 2491,   1107.5,  -0.5660,  34.8960,2,-999.0000,9,   -999.0,9,  -999.00,9,  -999.00,9,     0.09,2,     1.01,2,    1.590,2,    1.270,2, -999.000,9,   2156.0,2,   2284.0,2,  -0.611358
  58AA19940224,   GNS,    30,  1,9,     9,2,19940310, 72.4117,  -9.4920, 2491,   1206.5,  -0.6380,  34.8950,2,-999.0000,9,   -999.0,9,  -999.00,9,  -999.00,9,     0.10,2,     1.02,2,    1.490,2,    1.140,2, -999.000,9,   2158.8,2,   2280.8,2,  -0.687772
  58AA19940224,   GNS,    30,  1,8,     8,2,19940310, 72.4117,  -9.4920, 2491,   1305.5,  -0.6500,  34.8990,2,-999.0000,9,   -999.0,9,  -999.00,9,  -999.00,9,     0.16,2,     1.04,2,    1.350,2,    0.840,2,    2.580,2,   2159.9,2,   2279.4,2,  -0.704895
  58AA19940224,   GNS,    30,  1,7,     7,2,19940310, 72.4117,  -9.4920, 2491,   1404.5,  -0.6810,  34.9020,2,-999.0000,9,   -999.0,9,  -999.00,9,  -999.00,9,     0.07,2,     1.02,2,    1.150,2,    0.740,2,    2.230,2,   2158.7,2,   2280.7,2,  -0.740952
  58AA19940224,   GNS,    30,  1,6,     6,2,19940310, 72.4117,  -9.4920, 2491,   1508.5,  -0.6940,  34.9050,2,-999.0000,9,   -999.0,9,  -999.00,9,  -999.00,9,     0.13,2,     1.04,2,    0.830,2,    0.580,2,    1.510,2,   2158.2,2,   2285.4,2,  -0.759636
  58AA19940224,   GNS,    30,  1,5,     5,2,19940310, 72.4117,  -9.4920, 2491,   1606.5,  -0.7340,  34.9040,2,-999.0000,9,   -999.0,9,  -999.00,9,  -999.00,9,     0.08,2,     1.03,2,    0.770,2, -999.000,9,    1.430,2,   2157.7,2,   2283.4,2,  -0.804773
  58AA19940224,   GNS,    30,  1,4,     4,2,19940310, 72.4117,  -9.4920, 2491,   1810.5,  -0.8060,  34.9040,2,-999.0000,9,   -999.0,9,  -999.00,9,  -999.00,9,     0.11,2,     1.05,2,    0.730,2, -999.000,9,    1.500,2,   2158.7,2,   2281.3,2,  -0.887972
  58AA19940224,   GNS,    30,  1,3,     3,2,19940310, 72.4117,  -9.4920, 2491,   2010.5,  -0.8650,  34.9030,2,-999.0000,9,   -999.0,9,  -999.00,9,  -999.00,9,     0.11,2,     1.06,2,    0.780,2,    0.570,2,    1.860,2,   2160.1,2,   2289.3,2,  -0.958603
  58AA19940224,   GNS,    30,  1,2,     2,2,19940310, 72.4117,  -9.4920, 2491,   2208.5,  -0.9600,  34.9000,2,-999.0000,9,   -999.0,9,  -999.00,9,  -999.00,9,     0.10,2,     1.08,2,    0.780,2, -999.000,9,    2.010,2,   2160.8,2,   2283.1,2,   -1.06496
  58AA19940224,   GNS,    30,  1,1,     1,2,19940310, 72.4117,  -9.4920, 2491,   2273.5,  -0.9650,  34.9000,2,-999.0000,9,   -999.0,9,  -999.00,9,  -999.00,9,     0.08,2,     1.04,2,    0.770,2,    0.680,2,    2.000,2,   2163.7,2,   2288.2,2,   -1.07424
  58AA19940224,   GNS,    31,  1,12,    12,2,19940310, 72.7500,  -9.4800, 2505,      4.5,  -0.1490,  34.8140,2,-999.0000,9,   -999.0,9,  -999.00,9,  -999.00,9,     0.10,2,     0.94,2,    6.390,2,    3.320,2,   10.520,2,   2142.3,2,   2281.6,2,  -0.149154
  58AA19940224,   GNS,    31,  1,11,    11,2,19940310, 72.7500,  -9.4800, 2505,     14.5,  -0.1360,  34.8150,2,-999.0000,9,   -999.0,9,  -999.00,9,  -999.00,9,     0.11,2,     0.94,2,    6.360,2,    3.280,2,   10.490,2,   2143.8,2,   2278.5,2,  -0.136499
  58AA19940224,   GNS,    31,  1,10,    10,2,19940310, 72.7500,  -9.4800, 2505,     55.5,  -0.1230,  34.8170,2,-999.0000,9,   -999.0,9,  -999.00,9,  -999.00,9,     0.11,2,     0.95,2,    6.260,2,    3.200,2,   10.250,2,   2140.3,2,   2284.7,2,  -0.124938
  58AA19940224,   GNS,    31,  1,9,     9,2,19940310, 72.7500,  -9.4800, 2505,    105.5,  -0.0460,  34.8240,2,-999.0000,9,   -999.0,9,  -999.00,9,  -999.00,9,     0.11,2,     0.94,2,    6.150,2, -999.000,9,   10.050,2,   2142.1,2,   2280.3,2, -0.0498033
  58AA19940224,   GNS,    31,  1,8,     8,2,19940310, 72.7500,  -9.4800, 2505,    205.5,   0.0260,  34.8380,2,-999.0000,9,   -999.0,9,  -999.00,9,  -999.00,9,     0.10,2,     0.93,2,    6.070,2,    3.130,2,    9.840,2,   2141.4,2,   2283.5,2,  0.0182724
  58AA19940224,   GNS,    31,  1,7,     7,2,19940310, 72.7500,  -9.4800, 2505,    502.5,  -0.2620,  34.8790,2,-999.0000,9,   -999.0,9,  -999.00,9,  -999.00,9,     0.09,2,     0.98,2,    4.020,2,    2.150,2,    6.570,2,   2155.7,2,   2282.3,2,  -0.281079
  58AA19940224,   GNS,    31,  1,6,     6,2,19940310, 72.7500,  -9.4800, 2505,    798.5,  -0.5780,  34.8850,2,-999.0000,9,   -999.0,9,  -999.00,9,  -999.00,9,     0.12,2,     1.01,2, -999.000,9, -999.000,9, -999.000,9,   2156.4,2,   2283.6,2,  -0.608375
  58AA19940224,   GNS,    31,  1,5,     5,2,19940310, 72.7500,  -9.4800, 2505,    999.5,  -0.6130,  34.9000,2,-999.0000,9,   -999.0,9,  -999.00,9,  -999.00,9,     0.11,2,     1.02,2, -999.000,9, -999.000,9, -999.000,9,   2155.9,2,   2291.4,2,  -0.652583
  58AA19940224,   GNS,    31,  1,4,     4,2,19940310, 72.7500,  -9.4800, 2505,   1248.5,  -0.7070,  34.9040,2,-999.0000,9,   -999.0,9,  -999.00,9,  -999.00,9,     0.15,2,     1.06,2, -999.000,9, -999.000,9, -999.000,9,   2152.8,2,   2283.5,2,  -0.758292
  58AA19940224,   GNS,    31,  1,3,     3,2,19940310, 72.7500,  -9.4800, 2505,   1348.5,  -0.7500,  34.9040,2,-999.0000,9,   -999.0,9,  -999.00,9,  -999.00,9,     0.13,2,     1.01,2,    1.030,2,    0.700,2,    2.260,2,   2157.4,2,   2288.5,2,  -0.806136
  58AA19940224,   GNS,    31,  1,2,     2,2,19940310, 72.7500,  -9.4800, 2505,   1793.5,  -0.8820,  34.9020,2,-999.0000,9,   -999.0,9,  -999.00,9,  -999.00,9,     0.11,2,     1.03,2, -999.000,9, -999.000,9, -999.000,9,   2157.8,2,   2287.5,2,  -0.961839
  58AA19940224,   GNS,    31,  1,1,     1,2,19940310, 72.7500,  -9.4800, 2505,   2397.5,  -0.9300,  34.9030,2,-999.0000,9,   -999.0,9,  -999.00,9,  -999.00,9,     0.12,2,     1.01,2,    0.720,2,    0.630,2,    1.930,2,   2155.5,2,   2283.4,2,   -1.04844
  58AA19940224,   GNS,    32,  1,8,     8,2,19940310, 73.0000,  -9.5000, 2923,      6.5,  -0.1930,  34.8010,2,-999.0000,9,   -999.0,9,  -999.00,9,  -999.00,9,     0.11,2,     0.94,2,    6.120,2,    3.080,2,    9.900,2,   2144.8,2,   2282.7,2,   -0.19322
  58AA19940224,   GNS,    32,  1,7,     7,2,19940310, 73.0000,  -9.5000, 2923,     10.5,  -0.2040,  34.8040,2,-999.0000,9,   -999.0,9,  -999.00,9,  -999.00,9,     0.12,2,     0.94,2,    6.050,2,    3.150,2,    9.780,2,   2144.8,2,   2279.2,2,  -0.204355
  58AA19940224,   GNS,    32,  1,6,     6,2,19940310, 73.0000,  -9.5000, 2923,     50.5,  -0.2620,  34.8060,2,-999.0000,9,   -999.0,9,  -999.00,9,  -999.00,9,     0.10,2,     0.94,2,    6.030,2,    3.050,2,    9.750,2,   2143.2,2,   2273.7,2,    -0.2637
  58AA19940224,   GNS,    32,  1,5,     5,2,19940310, 73.0000,  -9.5000, 2923,    157.5,  -0.3260,  34.8110,2,-999.0000,9,   -999.0,9,  -999.00,9,  -999.00,9,     0.10,2,     0.95,2,    5.640,2,    2.900,2,    9.000,2,   2145.8,2,   2281.2,2,  -0.331374
  58AA19940224,   GNS,    32,  1,4,     4,2,19940310, 73.0000,  -9.5000, 2923,    343.5,   0.2480,  34.8810,2,-999.0000,9,   -999.0,9,  -999.00,9,  -999.00,9,     0.09,2,     0.95,2,    4.600,2,    2.430,2,    7.260,2,   2148.4,2,   2282.5,2,   0.233984
  58AA19940224,   GNS,    32,  1,3,     3,2,19940310, 73.0000,  -9.5000, 2923,    382.5,   0.0980,  34.8730,2,-999.0000,9,   -999.0,9,  -999.00,9,  -999.00,9,     0.11,2,     1.00,2,    4.490,2,    2.350,2,    7.130,2,   2148.5,2,   2281.8,2,  0.0827445
  58AA19940224,   GNS,    32,  1,2,     2,2,19940310, 73.0000,  -9.5000, 2923,    403.5,  -0.0390,  34.8680,2,-999.0000,9,   -999.0,9,  -999.00,9,  -999.00,9,     0.11,2,     0.95,2, -999.000,9, -999.000,9, -999.000,9,   2150.8,2,   2285.5,2, -0.0547026
  58AA19940224,   GNS,    32,  1,1,     1,2,19940310, 73.0000,  -9.5000, 2923,   1299.5,  -0.7690,  34.8980,2,-999.0000,9,   -999.0,9,  -999.00,9,  -999.00,9,     0.15,2,     1.04,2, -999.000,9, -999.000,9, -999.000,9,   2159.9,2,   2279.6,2,   -0.82231