BOTTLE,20220928CCHSIOAMB
EXPOCODE,SECT_ID,STNNBR,CASTNO,SAMPNO,BTLNBR,BTLNBR_FLAG_W,DATE,LATITUDE,LONGITUDE,DEPTH,CTDPRS,CTDTMP,CTDSAL,CTDSAL_FLAG_W,SALNTY,SALNTY_FLAG_W,OXYGEN,OXYGEN_FLAG_W,SILCAT,SILCAT_FLAG_W,NITRAT,NITRAT_FLAG_W,NITRIT,NITRIT_FLAG_W,PHSPHT,PHSPHT_FLAG_W,CFC-11,CFC-11_FLAG_W,CFC-12,CFC-12_FLAG_W,CCL4,CCL4_FLAG_W,TCARBN,TCARBN_FLAG_W,ALKALI,ALKALI_FLAG_W,THETA
,,,,,,,,,,METERS,DBAR,ITS-90,PSS-78,,PSS-78,,UMOL/KG,,UMOL/KG,,UMOL/KG,,UMOL/KG,,UMOL/KG,,PMOL/KG,,PMOL/KG,,PMOL/KG,,UMOL/KG,,UMOL/KG,,DEG C
  58AA19940224,   GNS,     6,  1,14,     2,2,19940228, 75.0000,   7.0000, 2627,      7.5,   2.0370,  34.9730,2,-999.0000,9,   -999.0,9,  -999.00,9,  -999.00,9,     0.17,2,     0.99,2, -999.000,9, -999.000,9, -999.000,9,   2146.3,2,   -999.0,9,     2.0366
  58AA19940224,   GNS,     6,  1,13,     1,2,19940228, 75.0000,   7.0000, 2627,     13.5,   1.9850,  34.9700,2,-999.0000,9,   -999.0,9,  -999.00,9,  -999.00,9,     0.20,2,     0.99,2, -999.000,9, -999.000,9, -999.000,9,   2147.2,2,   -999.0,9,    1.98429
  58AA19940224,   GNS,     6,  1,12,    12,2,19940228, 75.0000,   7.0000, 2627,     26.5,   1.7650,  34.9490,2,-999.0000,9,   -999.0,9,  -999.00,9,  -999.00,9,     0.12,2,     1.02,2, -999.000,9, -999.000,9, -999.000,9,   2145.9,2,   -999.0,9,    1.76365
  58AA19940224,   GNS,     6,  1,11,    11,2,19940228, 75.0000,   7.0000, 2627,     32.5,   1.9140,  34.9700,2,  34.9770,2,   -999.0,9,  -999.00,9,  -999.00,9,     0.13,2,     0.98,2, -999.000,9, -999.000,9, -999.000,9,   2147.2,2,   2292.6,2,    1.91231
  58AA19940224,   GNS,     6,  1,10,    10,2,19940228, 75.0000,   7.0000, 2627,     52.5,   1.7540,  34.9470,2,  34.8920,2,   -999.0,9,  -999.00,9,  -999.00,9,     0.21,2,     1.01,2, -999.000,9, -999.000,9, -999.000,9,   2147.9,2,   2293.9,2,    1.75133
  58AA19940224,   GNS,     6,  1,9,     9,2,19940228, 75.0000,   7.0000, 2627,     72.5,   1.3130,  34.9180,2,  35.0160,2,   -999.0,9,  -999.00,9,  -999.00,9,     0.19,2,     0.97,2, -999.000,9, -999.000,9, -999.000,9,   2146.8,2,   2293.0,2,    1.30957
  58AA19940224,   GNS,     6,  1,8,     7,2,19940228, 75.0000,   7.0000, 2627,    291.5,   0.0700,  34.8640,2,  34.8870,2,   -999.0,9,  -999.00,9,  -999.00,9,     0.17,2,     1.03,2, -999.000,9, -999.000,9, -999.000,9,   2154.7,2,   2292.4,2,  0.0586877
  58AA19940224,   GNS,     6,  1,7,     6,2,19940228, 75.0000,   7.0000, 2627,    482.5,  -0.3170,  34.8780,2,  34.8910,2,   -999.0,9,  -999.00,9,  -999.00,9,     0.11,2,     1.04,2, -999.000,9, -999.000,9, -999.000,9,   2157.0,2,   2283.6,2,  -0.335008
  58AA19940224,   GNS,     6,  1,6,     5,2,19940228, 75.0000,   7.0000, 2627,    699.5,  -0.6020,  34.8790,2,  34.9130,2,   -999.0,9,  -999.00,9,  -999.00,9,     0.18,2,     1.10,2, -999.000,9, -999.000,9, -999.000,9,   2161.8,2,   2292.5,2,  -0.627828
  58AA19940224,   GNS,     6,  1,5,     4,2,19940228, 75.0000,   7.0000, 2627,    892.5,  -0.6950,  34.8870,2,  34.9030,2,   -999.0,9,  -999.00,9,  -999.00,9,     0.16,2,     1.07,2, -999.000,9, -999.000,9, -999.000,9,   2162.4,2,   2290.4,2,  -0.728851
  58AA19940224,   GNS,     6,  1,4,     3,2,19940228, 75.0000,   7.0000, 2627,   1097.5,  -0.7470,  34.8950,2,  34.9080,2,   -999.0,9,  -999.00,9,  -999.00,9,     0.17,2,     1.08,2, -999.000,9, -999.000,9, -999.000,9,   2161.8,2,   2289.7,2,  -0.790216
  58AA19940224,   GNS,     6,  1,3,     2,2,19940228, 75.0000,   7.0000, 2627,   1302.5,  -0.8470,  34.8950,2,  34.9060,2,   -999.0,9,  -999.00,9,  -999.00,9,     0.12,2,     1.07,2, -999.000,9, -999.000,9, -999.000,9,   2161.8,2,   2287.9,2,  -0.899632
  58AA19940224,   GNS,     6,  1,2,     1,2,19940228, 75.0000,   7.0000, 2627,   1507.5,  -0.9170,  34.8960,2,  34.9060,2,   -999.0,9,  -999.00,9,  -999.00,9,     0.15,2,     1.16,2, -999.000,9, -999.000,9, -999.000,9,   2162.2,2,   2289.4,2,  -0.979835
  58AA19940224,   GNS,     6,  1,1,    12,2,19940228, 75.0000,   7.0000, 2627,   1675.5,  -0.9290,  34.8960,2,  34.9280,2,   -999.0,9,  -999.00,9,  -999.00,9,     0.16,2,     1.12,2, -999.000,9, -999.000,9, -999.000,9,   2161.7,2,   2288.8,2,   -1.00119
  58AA19940224,   GNS,     7,  1,9,    11,2,19940228, 75.0000,   5.0000, 3072,      3.5,  -0.8600,  34.7810,2,  34.8020,2,   -999.0,9,  -999.00,9,  -999.00,9,     0.20,2,     0.90,2, -999.000,9, -999.000,9, -999.000,9,   2163.5,2,   2279.8,2,  -0.860098
  58AA19940224,   GNS,     7,  1,8,    10,2,19940228, 75.0000,   5.0000, 3072,     13.5,  -0.9260,  34.7660,2,  34.7980,2,   -999.0,9,  -999.00,9,  -999.00,9,     0.10,2,     0.94,2, -999.000,9, -999.000,9, -999.000,9,   2159.3,2,   2276.7,2,  -0.926372
  58AA19940224,   GNS,     7,  1,7,     9,2,19940228, 75.0000,   5.0000, 3072,     24.5,  -0.9180,  34.7650,2,  34.7980,2,   -999.0,9,  -999.00,9,  -999.00,9,     0.21,2,     0.97,2, -999.000,9, -999.000,9, -999.000,9,   2152.6,2,   2280.2,2,  -0.918679
  58AA19940224,   GNS,     7,  1,6,     8,2,19940228, 75.0000,   5.0000, 3072,     34.5,  -0.9210,  34.7650,2,  34.7980,2,   -999.0,9,  -999.00,9,  -999.00,9,     0.17,2,     0.92,2, -999.000,9, -999.000,9, -999.000,9,   2150.0,2,   2284.4,2,  -0.921958
  58AA19940224,   GNS,     7,  1,5,     7,2,19940228, 75.0000,   5.0000, 3072,     54.5,  -0.9210,  34.7640,2,  34.7970,2,   -999.0,9,  -999.00,9,  -999.00,9,     0.17,2,     0.94,2, -999.000,9, -999.000,9, -999.000,9,   2152.6,2,   2287.4,2,  -0.922524
  58AA19940224,   GNS,     7,  1,4,     6,2,19940228, 75.0000,   5.0000, 3072,     74.5,  -0.9080,  34.7650,2,  34.7970,2,   -999.0,9,  -999.00,9,  -999.00,9,     0.19,2,     0.92,2, -999.000,9, -999.000,9, -999.000,9,   2150.0,2,   2287.3,2,  -0.910106
  58AA19940224,   GNS,     7,  1,3,     5,2,19940228, 75.0000,   5.0000, 3072,    104.5,  -0.9200,  34.7650,2,  34.7950,2,   -999.0,9,  -999.00,9,  -999.00,9,     0.15,2,     0.93,2, -999.000,9, -999.000,9, -999.000,9,   2143.3,3,   2288.3,2,  -0.922973
  58AA19940224,   GNS,     7,  1,2,     4,2,19940228, 75.0000,   5.0000, 3072,    304.5,  -0.1270,  34.8730,2,  34.8920,2,   -999.0,9,  -999.00,9,  -999.00,9,     0.20,2,     1.02,2, -999.000,9, -999.000,9, -999.000,9,   2155.0,2,   2291.2,2,  -0.138353
  58AA19940224,   GNS,     7,  1,1,     3,2,19940228, 75.0000,   5.0000, 3072,    504.5,  -0.4440,  34.8720,2,  34.8900,2,   -999.0,9,  -999.00,9,  -999.00,9,     0.17,2,     1.03,2, -999.000,9, -999.000,9, -999.000,9,   2155.9,2,   2291.4,2,  -0.462387
  58AA19940224,   GNS,     8,  1,24,    11,2,19940301, 75.0000,   3.0000, 2824,     16.5,  -1.2410,  34.7610,2,  34.7930,2,   -999.0,9,  -999.00,9,  -999.00,9,     0.21,2,     0.94,2, -999.000,9, -999.000,9, -999.000,9,   2155.9,2,   2278.4,2,   -1.24141
  58AA19940224,   GNS,     8,  1,23,    10,2,19940301, 75.0000,   3.0000, 2824,     16.5,  -1.2410,  34.7610,2,  34.7920,2,   -999.0,9,  -999.00,9,  -999.00,9,     0.17,2,     0.92,2, -999.000,9, -999.000,9, -999.000,9,   2154.8,2,   2278.8,2,   -1.24141
  58AA19940224,   GNS,     8,  1,22,     9,2,19940301, 75.0000,   3.0000, 2824,     25.5,  -1.2470,  34.7620,2,  34.7930,2,   -999.0,9,  -999.00,9,  -999.00,9,     0.19,2,     0.94,2, -999.000,9, -999.000,9, -999.000,9,   2154.2,2,   2272.5,2,   -1.24763
  58AA19940224,   GNS,     8,  1,21,     8,2,19940301, 75.0000,   3.0000, 2824,     35.5,  -1.2450,  34.7620,2,  34.7940,2,   -999.0,9,  -999.00,9,  -999.00,9,     0.12,2,     0.91,2, -999.000,9, -999.000,9, -999.000,9,   2152.9,2,   2278.7,2,   -1.24589
  58AA19940224,   GNS,     8,  1,20,     7,2,19940301, 75.0000,   3.0000, 2824,     58.5,  -1.2370,  34.7630,2,  34.7970,2,   -999.0,9,  -999.00,9,  -999.00,9,     0.18,2,     0.95,2, -999.000,9, -999.000,9, -999.000,9,   2153.4,2,   2280.3,2,   -1.23848
  58AA19940224,   GNS,     8,  1,19,     6,2,19940301, 75.0000,   3.0000, 2824,     80.5,  -1.2150,  34.7650,2,  34.7940,2,   -999.0,9,  -999.00,9,  -999.00,9,     0.22,2,     0.91,2, -999.000,9, -999.000,9, -999.000,9,   2153.5,2,   2284.8,2,   -1.21707
  58AA19940224,   GNS,     8,  1,18,     5,2,19940301, 75.0000,   3.0000, 2824,    105.5,  -1.2180,  34.7660,2,  34.7950,2,   -999.0,9,  -999.00,9,  -999.00,9,     0.19,2,     1.02,2, -999.000,9, -999.000,9, -999.000,9,   2159.9,2,   2276.1,2,   -1.22073
  58AA19940224,   GNS,     8,  1,17,     4,2,19940301, 75.0000,   3.0000, 2824,    131.5,  -1.1880,  34.7710,2,  34.7970,2,   -999.0,9,  -999.00,9,  -999.00,9,     0.36,2,     0.95,2, -999.000,9, -999.000,9, -999.000,9,   2155.2,2,   2280.4,2,   -1.19147
  58AA19940224,   GNS,     8,  1,16,     3,2,19940301, 75.0000,   3.0000, 2824,    155.5,  -1.1000,  34.7780,2,  34.8020,2,   -999.0,9,  -999.00,9,  -999.00,9,     0.18,2,     0.91,2, -999.000,9, -999.000,9, -999.000,9,   2152.8,2,   2278.6,2,   -1.10426
  58AA19940224,   GNS,     8,  1,15,     2,2,19940301, 75.0000,   3.0000, 2824,    204.5,  -0.8890,  34.8020,2,  34.8420,2,   -999.0,9,  -999.00,9,  -999.00,9,     0.20,2,     1.10,2, -999.000,9, -999.000,9, -999.000,9,   2155.6,2,   2272.1,2,  -0.895081
  58AA19940224,   GNS,     8,  1,14,     1,2,19940301, 75.0000,   3.0000, 2824,    254.5,  -0.4710,  34.8570,2,  34.8810,2,   -999.0,9,  -999.00,9,  -999.00,9,     0.12,2,     1.01,2, -999.000,9, -999.000,9, -999.000,9,   2159.4,2,   2276.9,2,  -0.479622
  58AA19940224,   GNS,     8,  1,13,    12,2,19940301, 75.0000,   3.0000, 2824,    305.5,  -0.5740,  34.8580,2,  34.8890,2,   -999.0,9,  -999.00,9,  -999.00,9,     0.17,2,     1.03,2, -999.000,9, -999.000,9, -999.000,9,   2157.8,2,   2281.1,2,  -0.584228
  58AA19940224,   GNS,     8,  1,12,    11,2,19940301, 75.0000,   3.0000, 2824,    505.5,  -0.8920,  34.8530,2,  34.8770,2,   -999.0,9,  -999.00,9,  -999.00,9,     0.27,2,     1.12,2, -999.000,9, -999.000,9, -999.000,9,   2152.8,2,   2283.1,2,    -0.9085
  58AA19940224,   GNS,     8,  1,11,    10,2,19940301, 75.0000,   3.0000, 2824,    609.5,  -0.8990,  34.8580,2,  34.8770,2,   -999.0,9,  -999.00,9,  -999.00,9,     0.20,2,     1.05,2, -999.000,9, -999.000,9, -999.000,9,   2154.8,2,   2283.6,2,  -0.919455
  58AA19940224,   GNS,     8,  1,10,     9,2,19940301, 75.0000,   3.0000, 2824,    711.5,  -0.8870,  34.8660,2,  34.8960,2,   -999.0,9,  -999.00,9,  -999.00,9,     0.15,2,     1.03,2, -999.000,9, -999.000,9, -999.000,9,   2156.0,2,   2282.3,2,  -0.911635
  58AA19940224,   GNS,     8,  1,9,     8,2,19940301, 75.0000,   3.0000, 2824,    811.5,  -0.8110,  34.8790,2,  34.8950,2,   -999.0,9,  -999.00,9,  -999.00,9,     0.21,2,     0.80,3, -999.000,9, -999.000,9, -999.000,9,   2153.9,2,   2284.9,2,  -0.840382
  58AA19940224,   GNS,     8,  1,8,     7,2,19940301, 75.0000,   3.0000, 2824,    911.5,  -0.7940,  34.8870,2,  34.9050,2,   -999.0,9,  -999.00,9,  -999.00,9,     0.18,2,     1.08,2, -999.000,9, -999.000,9, -999.000,9,   2154.7,2,   2280.3,2,  -0.827982
  58AA19940224,   GNS,     8,  1,7,     6,2,19940301, 75.0000,   3.0000, 2824,   1011.5,  -0.8210,  34.8890,2,  34.9040,2,   -999.0,9,  -999.00,9,  -999.00,9,     0.17,2,     1.11,2, -999.000,9, -999.000,9, -999.000,9,   2157.7,2,   2280.9,2,  -0.859411
  58AA19940224,   GNS,     8,  1,6,     5,2,19940301, 75.0000,   3.0000, 2824,   1209.5,  -0.9030,  34.8900,2,  34.9050,2,   -999.0,9,  -999.00,9,  -999.00,9,     0.18,2,     1.11,2, -999.000,9, -999.000,9, -999.000,9,   2158.8,2,   2282.6,2,  -0.950292
  58AA19940224,   GNS,     8,  1,5,     4,2,19940301, 75.0000,   3.0000, 2824,   1517.5,  -0.9800,  34.8920,2,  34.9050,2,   -999.0,9,  -999.00,9,  -999.00,9,     0.11,2,     1.08,2, -999.000,9, -999.000,9, -999.000,9,   2161.0,2,   2289.6,2,    -1.0426
  58AA19940224,   GNS,     8,  1,4,     3,2,19940301, 75.0000,   3.0000, 2824,   1708.5,  -0.9810,  34.8950,2,  34.9090,2,   -999.0,9,  -999.00,9,  -999.00,9,     0.19,2,     1.14,2, -999.000,9, -999.000,9, -999.000,9,   2159.6,2,   -999.0,9,   -1.05439
  58AA19940224,   GNS,     8,  1,3,     2,2,19940301, 75.0000,   3.0000, 2824,   2006.5,  -0.9990,  34.8960,2,  34.9100,2,   -999.0,9,  -999.00,9,  -999.00,9,     0.17,2,     1.24,2, -999.000,9, -999.000,9, -999.000,9,   2159.6,2,   2289.5,2,   -1.09019
  58AA19940224,   GNS,     8,  1,2,     1,2,19940301, 75.0000,   3.0000, 2824,   2306.5,  -1.0220,  34.8950,2,  34.9140,2,   -999.0,9,  -999.00,9,  -999.00,9,     0.20,2,     1.17,2, -999.000,9, -999.000,9, -999.000,9,   2161.4,2,   2292.0,2,   -1.13244
  58AA19940224,   GNS,     8,  1,1,    12,2,19940301, 75.0000,   3.0000, 2824,   2515.5,  -1.0250,  34.8940,2,  34.9050,2,   -999.0,9,  -999.00,9,  -999.00,9,     0.27,2,     1.09,2, -999.000,9, -999.000,9, -999.000,9,   2163.6,2,   2280.7,2,   -1.14992