BOTTLE,20220928CCHSIOAMB
EXPOCODE,SECT_ID,STNNBR,CASTNO,SAMPNO,BTLNBR,BTLNBR_FLAG_W,DATE,LATITUDE,LONGITUDE,DEPTH,CTDPRS,CTDTMP,CTDSAL,CTDSAL_FLAG_W,SALNTY,SALNTY_FLAG_W,OXYGEN,OXYGEN_FLAG_W,SILCAT,SILCAT_FLAG_W,NITRAT,NITRAT_FLAG_W,NITRIT,NITRIT_FLAG_W,PHSPHT,PHSPHT_FLAG_W,CFC-11,CFC-11_FLAG_W,CFC-12,CFC-12_FLAG_W,CCL4,CCL4_FLAG_W,TCARBN,TCARBN_FLAG_W,ALKALI,ALKALI_FLAG_W,THETA
,,,,,,,,,,METERS,DBAR,ITS-90,PSS-78,,PSS-78,,UMOL/KG,,UMOL/KG,,UMOL/KG,,UMOL/KG,,UMOL/KG,,PMOL/KG,,PMOL/KG,,PMOL/KG,,UMOL/KG,,UMOL/KG,,DEG C
  58AA19940224,   GNS,    22,  1,24,    12,2,19940307, 74.5000,  -3.5000, 3570,      6.5,  -1.2240,  34.8290,2,-999.0000,9,   -999.0,9,  -999.00,9,  -999.00,9,     0.06,2,     0.83,2,    6.490,2,    3.250,2,   10.980,2,   2147.2,2,   2277.6,2,   -1.22416
  58AA19940224,   GNS,    22,  1,23,    11,2,19940307, 74.5000,  -3.5000, 3570,     13.5,  -1.2180,  34.8300,2,-999.0000,9,   -999.0,9,  -999.00,9,  -999.00,9,     0.06,2,     0.80,2, -999.000,9, -999.000,9, -999.000,9,   2146.9,2,   2278.0,2,   -1.21834
  58AA19940224,   GNS,    22,  1,22,    10,2,19940307, 74.5000,  -3.5000, 3570,     32.5,  -1.1830,  34.8300,2,-999.0000,9,   -999.0,9,  -999.00,9,  -999.00,9,     0.06,2,     0.85,2,    6.260,2,    3.160,2,   10.520,2,   2145.4,2,   2279.9,2,   -1.18383
  58AA19940224,   GNS,    22,  1,21,     9,2,19940307, 74.5000,  -3.5000, 3570,     54.5,  -1.1980,  34.8300,2,-999.0000,9,   -999.0,9,  -999.00,9,  -999.00,9,     0.07,2,     0.82,2,    6.210,2,    3.140,2,   10.350,2,   2145.9,2,   2282.9,2,    -1.1994
  58AA19940224,   GNS,    22,  1,20,     8,2,19940307, 74.5000,  -3.5000, 3570,     78.5,  -1.1850,  34.8310,2,-999.0000,9,   -999.0,9,  -999.00,9,  -999.00,9,     0.08,2,     0.85,2,    6.150,2,    3.080,2,   10.180,2,   2145.7,2,   2282.7,2,   -1.18704
  58AA19940224,   GNS,    22,  1,19,     7,2,19940307, 74.5000,  -3.5000, 3570,    103.5,  -1.1440,  34.8330,2,-999.0000,9,   -999.0,9,  -999.00,9,  -999.00,9,     0.06,2,     0.88,2,    6.150,2,    3.110,2,   10.130,2,   2144.6,2,   2278.1,2,   -1.14676
  58AA19940224,   GNS,    22,  1,18,     6,2,19940307, 74.5000,  -3.5000, 3570,    200.5,  -1.1760,  34.8330,2,-999.0000,9,   -999.0,9,  -999.00,9,  -999.00,9,     0.06,2,     0.87,2,    6.270,2,    3.130,2,   10.180,2,   2146.1,2,   2282.2,2,   -1.18147
  58AA19940224,   GNS,    22,  1,17,     5,2,19940307, 74.5000,  -3.5000, 3570,    304.5,  -1.1590,  34.8340,2,-999.0000,9,   -999.0,9,  -999.00,9,  -999.00,9,     0.06,2,     0.88,2, -999.000,9, -999.000,9, -999.000,9,   2148.7,2,   2284.6,2,   -1.16766
  58AA19940224,   GNS,    22,  1,16,     4,2,19940307, 74.5000,  -3.5000, 3570,    403.5,  -1.0680,  34.8460,2,-999.0000,9,   -999.0,9,  -999.00,9,  -999.00,9,     0.08,2,     0.88,2,    6.030,2,    3.120,2,    9.860,2,   2148.5,2,   2288.8,2,   -1.08017
  58AA19940224,   GNS,    22,  1,15,     3,2,19940307, 74.5000,  -3.5000, 3570,    502.5,  -0.9250,  34.8550,2,-999.0000,9,   -999.0,9,  -999.00,9,  -999.00,9,     0.08,2,     0.93,2,    4.850,2,    2.650,2,    7.580,2,   2149.9,2,   2286.8,2,  -0.941249
  58AA19940224,   GNS,    22,  1,14,     2,2,19940307, 74.5000,  -3.5000, 3570,    604.5,  -0.8230,  34.8660,2,-999.0000,9,   -999.0,9,  -999.00,9,  -999.00,9,     0.06,2,     0.92,2, -999.000,9, -999.000,9, -999.000,9,   2151.2,2,   2293.2,2,  -0.843656
  58AA19940224,   GNS,    22,  1,13,     1,2,19940307, 74.5000,  -3.5000, 3570,    704.5,  -0.8430,  34.8710,2,-999.0000,9,   -999.0,9,  -999.00,9,  -999.00,9,     0.06,2,     0.92,2, -999.000,9, -999.000,9, -999.000,9,   2153.9,2,   2290.1,2,  -0.867614
  58AA19940224,   GNS,    22,  1,12,    12,2,19940307, 74.5000,  -3.5000, 3570,    809.5,  -0.7900,  34.8820,2,-999.0000,9,   -999.0,9,  -999.00,9,    11.60,2,     0.23,2,     1.04,2,    3.110,2,    1.850,2,    5.490,2,   2151.4,2,   2287.9,2,  -0.819441
  58AA19940224,   GNS,    22,  1,11,    11,2,19940307, 74.5000,  -3.5000, 3570,   1011.5,  -0.8000,  34.8890,2,-999.0000,9,   -999.0,9,  -999.00,9,    11.70,2,     0.31,2,     1.04,2, -999.000,9, -999.000,9, -999.000,9,   2152.8,2,   2285.9,2,  -0.838586
  58AA19940224,   GNS,    22,  1,10,    10,2,19940307, 74.5000,  -3.5000, 3570,   1316.5,  -0.9150,  34.8900,2,-999.0000,9,   -999.0,9,  -999.00,9,    12.20,2,     0.30,2,     1.09,2,    1.800,2,    1.140,2,    3.600,2,   2153.1,2,   2288.2,2,   -0.96762
  58AA19940224,   GNS,    22,  1,9,     9,2,19940307, 74.5000,  -3.5000, 3570,   1517.5,  -0.9610,  34.8910,2,-999.0000,9,   -999.0,9,  -999.00,9,    11.90,2,     0.23,2,     1.07,2, -999.000,9, -999.000,9, -999.000,9,   2152.9,2,   2288.9,2,   -1.02383
  58AA19940224,   GNS,    22,  1,8,     8,2,19940307, 74.5000,  -3.5000, 3570,   1817.5,  -0.9980,  34.8910,2,-999.0000,9,   -999.0,9,  -999.00,9,    12.10,2,     0.32,2,     1.11,2,    1.430,2,    1.020,2,    3.150,2,   2153.2,2,   2283.7,2,   -1.07757
  58AA19940224,   GNS,    22,  1,7,     7,2,19940307, 74.5000,  -3.5000, 3570,   2016.5,  -1.0010,  34.8930,2,-999.0000,9,   -999.0,9,  -999.00,9,    12.30,2,     0.26,2,     1.11,2,    1.260,2,    0.850,2,    2.880,2,   2154.0,2,   2279.1,2,   -1.09278
  58AA19940224,   GNS,    22,  1,6,     6,2,19940307, 74.5000,  -3.5000, 3570,   2319.5,  -1.0110,  34.8950,2,-999.0000,9,   -999.0,9,  -999.00,9,    12.30,2,     0.23,2,     1.02,2,    1.080,2,    0.780,2,    2.670,2,   2153.1,2,   2279.6,2,   -1.12252
  58AA19940224,   GNS,    22,  1,5,     5,2,19940307, 74.5000,  -3.5000, 3570,   2519.5,  -1.0180,  34.8950,2,-999.0000,9,   -999.0,9,  -999.00,9,    12.50,2,     0.27,2,     1.13,2,    0.970,2,    0.700,2,    2.600,2,   2156.9,2,   2281.6,2,   -1.14334
  58AA19940224,   GNS,    22,  1,4,     4,2,19940307, 74.5000,  -3.5000, 3570,   2716.5,  -1.0220,  34.8950,2,-999.0000,9,   -999.0,9,  -999.00,9,    12.30,2,     0.30,2,     1.06,2, -999.000,9, -999.000,9, -999.000,9,   2159.4,2,   2283.8,2,   -1.16164
  58AA19940224,   GNS,    22,  1,3,     3,2,19940307, 74.5000,  -3.5000, 3570,   3007.5,  -1.0190,  34.8950,2,-999.0000,9,   -999.0,9,  -999.00,9,    12.40,2,     0.34,2,     1.12,2, -999.000,9, -999.000,9, -999.000,9,   2163.5,2,   2282.0,2,   -1.18106
  58AA19940224,   GNS,    22,  1,2,     2,2,19940307, 74.5000,  -3.5000, 3570,   3310.5,  -1.0140,  34.8950,2,-999.0000,9,   -999.0,9,  -999.00,9,    12.00,2,     0.34,2,     1.04,2, -999.000,9, -999.000,9, -999.000,9,   2162.4,2,   2280.1,2,   -1.20088
  58AA19940224,   GNS,    22,  1,1,     1,2,19940307, 74.5000,  -3.5000, 3570,   3511.5,  -1.0000,  34.8950,2,-999.0000,9,   -999.0,9,  -999.00,9,  -999.00,9,     0.19,2,     1.11,2, -999.000,9, -999.000,9, -999.000,9,   2159.3,2,   2283.4,2,   -1.20441
  58AA19940224,   GNS,    26,  1,24,    12,2,19940308, 75.5000,  -3.5000, 3595,      3.5,  -0.8660,  34.8390,2,  34.8550,2,   -999.0,9,  -999.00,9,  -999.00,9,     0.08,2,     0.90,2,    5.940,2,    3.020,2,    9.530,2,   2154.4,2,   2283.1,2,  -0.866098
  58AA19940224,   GNS,    26,  1,23,    11,2,19940308, 75.5000,  -3.5000, 3595,     12.5,  -0.8810,  34.8390,2,  34.8530,2,   -999.0,9,  -999.00,9,  -999.00,9,     0.08,2,     0.89,2,    5.870,2,    2.960,2,    9.460,2,   2151.9,2,   2273.0,2,  -0.881351
  58AA19940224,   GNS,    26,  1,22,    10,2,19940308, 75.5000,  -3.5000, 3595,     31.5,  -0.8860,  34.8390,2,  34.8530,2,   -999.0,9,  -999.00,9,  -999.00,9,     0.08,2,     0.88,2, -999.000,9, -999.000,9, -999.000,9,   2152.3,2,   2272.4,2,  -0.886888
  58AA19940224,   GNS,    26,  1,21,     9,2,19940308, 75.5000,  -3.5000, 3595,     52.5,  -0.8740,  34.8390,2,  34.8540,2,   -999.0,9,  -999.00,9,  -999.00,9,     0.07,2,     0.87,2,    5.850,2,    3.010,2,    9.540,2,   2152.5,2,   2266.5,3,  -0.875496
  58AA19940224,   GNS,    26,  1,20,     8,2,19940308, 75.5000,  -3.5000, 3595,     77.5,  -0.8750,  34.8390,2,  34.8530,2,   -999.0,9,  -999.00,9,  -999.00,9,     0.09,2,     0.86,2,    5.920,3,    2.670,2,    9.580,2,   2153.8,2,   2275.2,2,  -0.877226
  58AA19940224,   GNS,    26,  1,19,     7,2,19940308, 75.5000,  -3.5000, 3595,    101.5,  -0.8740,  34.8380,2,  34.8540,2,   -999.0,9,  -999.00,9,  -999.00,9,     0.08,2,     0.83,2,    5.240,2, -999.000,9,    7.800,2,   2153.0,2,   2274.1,2,  -0.876939
  58AA19940224,   GNS,    26,  1,18,     6,2,19940308, 75.5000,  -3.5000, 3595,    202.5,  -0.8650,  34.8390,2,  34.8530,2,   -999.0,9,  -999.00,9,  -999.00,9,     0.08,2,     0.80,2,    4.190,2, -999.000,9,    6.580,2,   2153.0,2,   2262.8,3,  -0.871073
  58AA19940224,   GNS,    26,  1,17,     5,2,19940308, 75.5000,  -3.5000, 3595,    303.5,  -0.8400,  34.8490,2,  34.8530,2,   -999.0,9,  -999.00,9,  -999.00,9,     0.09,2,     0.82,2, -999.000,9, -999.000,9, -999.000,9,   2152.3,2,   2280.8,2,  -0.849463
  58AA19940224,   GNS,    26,  1,16,     4,2,19940308, 75.5000,  -3.5000, 3595,    402.5,  -0.7110,  34.8630,2,  34.8750,2,   -999.0,9,  -999.00,9,  -999.00,9,     0.09,2,     0.97,2,    4.050,2,    2.170,2,    6.240,2,   2156.3,2,   2280.1,2,  -0.724375
  58AA19940224,   GNS,    26,  1,15,     3,2,19940308, 75.5000,  -3.5000, 3595,    500.5,  -0.7630,  34.8650,2,  34.8770,2,   -999.0,9,  -999.00,9,  -999.00,9,     0.06,2,     0.87,2, -999.000,9, -999.000,9, -999.000,9,   2156.6,2,   2280.5,2,   -0.77987
  58AA19940224,   GNS,    26,  1,14,     2,2,19940308, 75.5000,  -3.5000, 3595,    602.5,  -0.9190,  34.8590,2,  34.8720,2,   -999.0,9,  -999.00,9,  -999.00,9,     0.06,2,     0.87,2,    4.210,2,    2.220,2,    6.770,2,   2157.3,2,   2276.2,2,  -0.939081
  58AA19940224,   GNS,    26,  1,13,     1,2,19940308, 75.5000,  -3.5000, 3595,    702.5,  -0.9030,  34.8650,2,  34.8780,2,   -999.0,9,  -999.00,9,  -999.00,9,     0.09,2,     0.90,2,    3.870,2,    2.090,2,    6.300,2,   2157.9,2,   2281.6,2,  -0.927169
  58AA19940224,   GNS,    26,  1,12,    12,2,19940308, 75.5000,  -3.5000, 3595,    808.5,  -0.8370,  34.8750,2,-999.0000,9,   -999.0,9,  -999.00,9,  -999.00,9,     0.05,2,     0.90,2,    2.220,2, -999.000,9,    3.570,3,   2157.6,2,   2280.2,2,   -0.86607
  58AA19940224,   GNS,    26,  1,11,    11,2,19940308, 75.5000,  -3.5000, 3595,   1012.5,  -0.7830,  34.8890,2,-999.0000,9,   -999.0,9,  -999.00,9,  -999.00,9,     0.12,2,     1.04,2,    2.170,2,    1.310,2,    4.020,2,   2159.8,2,   2281.2,2,  -0.821776
  58AA19940224,   GNS,    26,  1,10,    10,2,19940308, 75.5000,  -3.5000, 3595,   1302.5,  -0.8990,  34.8910,2,-999.0000,9,   -999.0,9,  -999.00,9,  -999.00,9,     0.09,2,     0.85,3,    1.780,2, -999.000,9,    3.550,2,   2159.6,2,   2282.6,2,  -0.951069
  58AA19940224,   GNS,    26,  1,9,     9,2,19940308, 75.5000,  -3.5000, 3595,   1498.5,  -0.9420,  34.8920,2,-999.0000,9,   -999.0,9,  -999.00,9,  -999.00,9,     0.09,2,     1.02,2,    1.450,2, -999.000,9,    2.950,2,   2160.1,2,   2282.0,2,   -1.00402
  58AA19940224,   GNS,    26,  1,8,     8,2,19940308, 75.5000,  -3.5000, 3595,   1799.5,  -0.9990,  34.8910,2,-999.0000,9,   -999.0,9,  -999.00,9,  -999.00,9,     0.08,2,     0.90,2,    1.100,2, -999.000,9,    2.280,2,   2160.7,2,   2287.5,2,   -1.07748
  58AA19940224,   GNS,    26,  1,7,     7,2,19940308, 75.5000,  -3.5000, 3595,   1997.5,  -1.0040,  34.8930,2,-999.0000,9,   -999.0,9,  -999.00,9,  -999.00,9,     0.06,2,     0.90,2, -999.000,9, -999.000,9, -999.000,9,   2160.3,2,   2280.6,2,   -1.09453
  58AA19940224,   GNS,    26,  1,6,     6,2,19940308, 75.5000,  -3.5000, 3595,   2297.5,  -1.0070,  34.8950,2,-999.0000,9,   -999.0,9,  -999.00,9,  -999.00,9,     0.07,2,     0.94,2,    1.000,2,    0.680,2,    2.450,2,   -999.0,9,   2280.8,2,    -1.1171
  58AA19940224,   GNS,    26,  1,5,     5,2,19940308, 75.5000,  -3.5000, 3595,   2494.5,  -1.0100,  34.8970,2,-999.0000,9,   -999.0,9,  -999.00,9,  -999.00,9,     0.06,2,     0.94,2, -999.000,9, -999.000,9, -999.000,9,   2158.5,2,   2282.4,2,   -1.13373
  58AA19940224,   GNS,    26,  1,4,     4,2,19940308, 75.5000,  -3.5000, 3595,   2697.5,  -1.0150,  34.8950,2,-999.0000,9,   -999.0,9,  -999.00,9,  -999.00,9,     0.09,2,     0.93,2,    0.940,2,    0.690,2,    2.590,2,   2158.3,2,   2275.9,2,   -1.15337
  58AA19940224,   GNS,    26,  1,3,     3,2,19940308, 75.5000,  -3.5000, 3595,   2989.5,  -1.0090,  34.8960,2,-999.0000,9,   -999.0,9,  -999.00,9,  -999.00,9,     0.08,2,     0.96,2,    0.920,2,    0.660,2,    2.680,2,   2160.3,2,   2284.4,2,   -1.16987
  58AA19940224,   GNS,    26,  1,2,     2,2,19940308, 75.5000,  -3.5000, 3595,   3270.5,  -0.9970,  34.8950,2,-999.0000,9,   -999.0,9,  -999.00,9,  -999.00,9,     0.07,2,     0.96,2,    0.920,2, -999.000,9,    2.760,2,   2158.2,2,   2282.7,2,   -1.18095
  58AA19940224,   GNS,    26,  1,1,     1,2,19940308, 75.5000,  -3.5000, 3595,   3585.5,  -0.9900,  34.8950,2,-999.0000,9,   -999.0,9,  -999.00,9,  -999.00,9,     0.07,2,     0.92,2,    0.880,2,    0.890,2,    2.740,2,   2160.3,2,   2277.0,2,   -1.20115
  58AA19940224,   GNS,    28,  1,24,    12,2,19940308, 76.0000,  -3.5000, 3530,      7.5,  -1.2850,  34.8050,2,  34.8220,2,   -999.0,9,  -999.00,9,  -999.00,9,     0.16,2,     0.89,2,    7.660,2,    3.840,2,   13.500,2,   2151.0,2,   2280.6,2,   -1.28518
  58AA19940224,   GNS,    28,  1,23,    11,2,19940308, 76.0000,  -3.5000, 3530,     13.5,  -1.2840,  34.8050,2,  34.8260,2,   -999.0,9,  -999.00,9,  -999.00,9,     0.11,2,     0.86,2,    7.950,2,    3.900,2,   14.280,2,   2150.6,2,   2284.9,2,   -1.28433
  58AA19940224,   GNS,    28,  1,22,    10,2,19940308, 76.0000,  -3.5000, 3530,     33.5,  -1.2770,  34.8060,2,  34.8270,2,   -999.0,9,  -999.00,9,  -999.00,9,     0.09,2,     0.87,2,    6.890,2,    3.790,2,   12.000,2,   2150.7,2,   2277.1,2,   -1.27783
  58AA19940224,   GNS,    28,  1,21,     9,2,19940308, 76.0000,  -3.5000, 3530,     54.5,  -1.2730,  34.8060,2,  34.8240,2,   -999.0,9,  -999.00,9,  -999.00,9,     0.08,2,     0.87,2, -999.000,9, -999.000,9, -999.000,9,   2150.1,2,   2286.4,2,   -1.27436
  58AA19940224,   GNS,    28,  1,20,     8,2,19940308, 76.0000,  -3.5000, 3530,     77.5,  -1.2720,  34.8060,2,  34.8220,2,   -999.0,9,  -999.00,9,  -999.00,9,     0.10,2,     0.84,2, -999.000,9, -999.000,9, -999.000,9,   2151.0,2,   2278.8,2,   -1.27395
  58AA19940224,   GNS,    28,  1,19,     7,2,19940308, 76.0000,  -3.5000, 3530,    103.5,  -1.2710,  34.8070,2,  34.8230,2,   -999.0,9,  -999.00,9,  -999.00,9,     0.10,2,     0.85,2, -999.000,9, -999.000,9, -999.000,9,   2150.0,2,   2276.5,2,   -1.27364
  58AA19940224,   GNS,    28,  1,18,     6,2,19940308, 76.0000,  -3.5000, 3530,    203.5,  -1.1960,  34.8140,2,  34.8330,2,   -999.0,9,  -999.00,9,  -999.00,9,     0.10,2,     0.88,2, -999.000,9, -999.000,9, -999.000,9,   2152.3,2,   2283.0,2,   -1.20152
  58AA19940224,   GNS,    28,  1,17,     5,2,19940308, 76.0000,  -3.5000, 3530,    298.5,  -0.8090,  34.8480,2,  34.8650,2,   -999.0,9,  -999.00,9,  -999.00,9,     0.10,2,     0.89,2, -999.000,9, -999.000,9, -999.000,9,   2153.5,2,   2280.8,2,  -0.818371
  58AA19940224,   GNS,    28,  1,16,     4,2,19940308, 76.0000,  -3.5000, 3530,    397.5,  -0.8120,  34.8570,2,  34.8710,2,   -999.0,9,  -999.00,9,  -999.00,9,     0.08,2,     0.89,2, -999.000,9, -999.000,9, -999.000,9,   2153.1,2,   2281.9,2,  -0.824845
  58AA19940224,   GNS,    28,  1,15,     3,2,19940308, 76.0000,  -3.5000, 3530,    499.5,  -0.8910,  34.8550,2,  34.8700,2,   -999.0,9,  -999.00,9,  -999.00,9,     0.08,2,     0.91,2, -999.000,9, -999.000,9, -999.000,9,   2151.3,2,   2279.1,2,  -0.907282
  58AA19940224,   GNS,    28,  1,14,     2,2,19940308, 76.0000,  -3.5000, 3530,    597.5,  -0.9490,  34.8570,2,  34.8710,2,   -999.0,9,  -999.00,9,  -999.00,9,     0.10,2,     0.90,2, -999.000,9, -999.000,9, -999.000,9,   2153.4,2,   2284.2,2,  -0.968733
  58AA19940224,   GNS,    28,  1,13,     1,2,19940308, 76.0000,  -3.5000, 3530,    695.5,  -0.9230,  34.8620,2,  34.8760,2,   -999.0,9,  -999.00,9,  -999.00,9,     0.10,2,     0.91,2, -999.000,9, -999.000,9, -999.000,9,   2151.4,2,   2283.0,2,  -0.946763
  58AA19940224,   GNS,    28,  1,12,    12,2,19940308, 76.0000,  -3.5000, 3530,    812.5,  -0.8380,  34.8760,2,  34.8850,2,   -999.0,9,  -999.00,9,  -999.00,9,     0.08,2,     0.94,2,    3.570,2,    2.100,2,    6.160,2,   2156.8,2,   2277.1,2,  -0.867238
  58AA19940224,   GNS,    28,  1,11,    11,2,19940308, 76.0000,  -3.5000, 3530,   1014.5,  -0.7950,  34.8900,2,  34.9010,2,   -999.0,9,  -999.00,9,  -999.00,9,     0.08,2,     0.97,2,    2.140,2,    1.280,2,    4.040,2,   2157.7,2,   2282.9,2,  -0.833772
  58AA19940224,   GNS,    28,  1,10,    10,2,19940308, 76.0000,  -3.5000, 3530,   1314.5,  -0.9220,  34.8900,2,  34.8990,2,   -999.0,9,  -999.00,9,  -999.00,9,     0.07,2,     0.96,2,    1.860,2,    1.170,2,    3.650,2,   2158.3,2,   2284.9,2,  -0.974442
  58AA19940224,   GNS,    28,  1,9,     9,2,19940308, 76.0000,  -3.5000, 3530,   1514.5,  -0.9720,  34.8890,2,  34.9000,2,   -999.0,9,  -999.00,9,  -999.00,9,     0.07,2,     0.96,2,    1.670,2,    1.050,2,    3.440,2,   2156.9,2,   2286.4,2,   -1.03453
  58AA19940224,   GNS,    28,  1,8,     8,2,19940308, 76.0000,  -3.5000, 3530,   1815.5,  -0.9930,  34.8930,2,  34.9010,2,   -999.0,9,  -999.00,9,  -999.00,9,     0.09,2,     0.97,2,    1.370,2,    0.900,2,    3.010,2,   2158.8,2,   2284.7,2,   -1.07253
  58AA19940224,   GNS,    28,  1,7,     7,2,19940308, 76.0000,  -3.5000, 3530,   2018.5,  -1.0030,  34.8940,2,  34.9030,2,   -999.0,9,  -999.00,9,  -999.00,9,     0.08,2,     0.97,2, -999.000,9, -999.000,9, -999.000,9,   2158.6,2,   2283.6,2,   -1.09488
  58AA19940224,   GNS,    28,  1,6,     6,2,19940308, 76.0000,  -3.5000, 3530,   2316.5,  -1.0110,  34.8940,2,  34.9030,2,   -999.0,9,  -999.00,9,  -999.00,9,     0.07,2,     0.99,2, -999.000,9, -999.000,9, -999.000,9,   2158.3,2,   2282.8,2,   -1.12231
  58AA19940224,   GNS,    28,  1,5,     5,2,19940308, 76.0000,  -3.5000, 3530,   2517.5,  -1.0190,  34.8940,2,  34.9020,2,   -999.0,9,  -999.00,9,  -999.00,9,     0.13,2,     0.99,2,    1.020,2,    0.700,2,    2.770,2,   2158.1,2,   2284.6,2,   -1.14418
  58AA19940224,   GNS,    28,  1,4,     4,2,19940308, 76.0000,  -3.5000, 3530,   2716.5,  -1.0230,  34.8950,2,  34.9010,2,   -999.0,9,  -999.00,9,  -999.00,9,     0.10,2,     1.01,2,    0.990,2,    0.750,2,    2.850,2,   2159.4,2,   2284.3,2,   -1.16261
  58AA19940224,   GNS,    28,  1,3,     3,2,19940308, 76.0000,  -3.5000, 3530,   3012.5,  -1.0170,  34.8950,2,  34.9010,2,   -999.0,9,  -999.00,9,  -999.00,9,     0.09,2,     1.02,2,    0.940,2,    0.720,2,    2.880,2,   2158.2,2,   2283.1,2,    -1.1795
  58AA19940224,   GNS,    28,  1,2,     2,2,19940308, 76.0000,  -3.5000, 3530,   3311.5,  -1.0050,  34.8950,2,  34.9000,2,   -999.0,9,  -999.00,9,  -999.00,9,     0.08,2,     0.94,2,    0.890,2,    0.660,2,    2.860,2,   2156.6,2,   2282.9,2,   -1.19218
  58AA19940224,   GNS,    28,  1,1,     1,2,19940308, 76.0000,  -3.5000, 3530,   3520.5,  -0.9970,  34.8940,2,  34.9000,2,   -999.0,9,  -999.00,9,  -999.00,9,     0.08,2,     0.99,2, -999.000,9, -999.000,9, -999.000,9,   2158.7,2,   2285.5,2,   -1.20226