BOTTLE,20220926CCHSIOCBG
EXPOCODE,SECT_ID,STNNBR,CASTNO,BTLNBR,BTLNBR_FLAG_W,DATE,LATITUDE,LONGITUDE,DEPTH,CTDPRS,CTDTMP,CTDSAL,CTDSAL_FLAG_W,SALNTY,SALNTY_FLAG_W,CFC-11,CFC-11_FLAG_W,CFC-12,CFC-12_FLAG_W,THETA
,,,,,,,,,METERS,DBAR,ITS-90,PSS-78,,PSS-78,,PMOL/KG,,PMOL/KG,,DEG C
  06MT19990813, AR25h,   554,  1,     20,2,19990824, 63.7825, -33.1005, 2680,     10.9,  10.4836,  35.0278,2,  35.0276,2,    3.896,2,    2.139,2,10.482305600
  06MT19990813, AR25h,   554,  1,     19,2,19990824, 63.7825, -33.1005, 2680,    300.9,   5.5555,  35.0129,2,  35.0136,2,    4.100,2,    2.123,2,5.530413620
  06MT19990813, AR25h,   554,  1,     18,2,19990824, 63.7825, -33.1005, 2680,    650.9,   4.3486,  34.9272,2,     -999,9,     -999,9,     -999,9,4.298831470
  06MT19990813, AR25h,   554,  1,     17,2,19990824, 63.7825, -33.1005, 2680,    651.3,   4.3486,  34.9272,2,  34.9284,2,    3.995,2,    2.041,2,4.298800880
  06MT19990813, AR25h,   554,  1,     16,2,19990824, 63.7825, -33.1005, 2680,   1001.4,   3.7356,  34.9030,2,  34.9030,2,    3.605,2,    1.790,2,3.661187160
  06MT19990813, AR25h,   554,  1,     15,2,19990824, 63.7825, -33.1005, 2680,   1302.1,   3.4760,  34.8969,2,     -999,9,     -999,9,     -999,9,3.378889150
  06MT19990813, AR25h,   554,  1,     14,2,19990824, 63.7825, -33.1005, 2680,   1301.3,   3.4758,  34.8967,2,  34.8974,2,    3.524,2,    1.727,2,3.378762650
  06MT19990813, AR25h,   554,  1,     13,2,19990824, 63.7825, -33.1005, 2680,   1501.3,   3.3037,  34.8841,2,     -999,9,     -999,9,     -999,9,3.191487290
  06MT19990813, AR25h,   554,  1,     12,2,19990824, 63.7825, -33.1005, 2680,   1500.4,   3.3058,  34.8842,2,  34.8850,2,    3.526,2,    1.734,2,3.193632490
  06MT19990813, AR25h,   554,  1,     11,2,19990824, 63.7825, -33.1005, 2680,   1651.8,   3.1892,  34.8745,2,  34.8759,2,    3.627,2,    1.788,2,3.065323340
  06MT19990813, AR25h,   554,  1,     10,2,19990824, 63.7825, -33.1005, 2680,   1803.1,   3.1010,  34.8667,2,     -999,9,     -999,9,     -999,9,2.964951810
  06MT19990813, AR25h,   554,  1,      9,2,19990824, 63.7825, -33.1005, 2680,   1801.9,   3.1006,  34.8667,2,  34.8669,2,    3.837,2,    1.876,2,2.964664320
  06MT19990813, AR25h,   554,  1,      8,2,19990824, 63.7825, -33.1005, 2680,   1952.3,   3.0461,  34.8642,2,  34.8649,2,    3.757,2,    1.838,2,2.897417950
  06MT19990813, AR25h,   554,  1,      7,2,19990824, 63.7825, -33.1005, 2680,   2152.3,   3.0626,  34.8793,2,  34.8798,2,    3.449,2,    1.680,2,2.895169950
  06MT19990813, AR25h,   554,  1,      6,2,19990824, 63.7825, -33.1005, 2680,   2357.4,   3.0452,  34.9058,2,     -999,9,     -999,9,     -999,9,2.858442470
  06MT19990813, AR25h,   554,  1,      5,2,19990824, 63.7825, -33.1005, 2680,   2356.9,   3.0455,  34.9057,2,  34.9061,2,    2.561,2,    1.284,2,2.858792090
  06MT19990813, AR25h,   554,  1,      4,2,19990824, 63.7825, -33.1005, 2680,   2500.4,   2.7332,  34.8908,2,  34.8912,2,    3.023,2,    1.529,2,2.538291880
  06MT19990813, AR25h,   554,  1,      3,2,19990824, 63.7825, -33.1005, 2680,   2633.0,   1.7338,  34.8629,2,     -999,9,     -999,9,     -999,9,1.545503280
  06MT19990813, AR25h,   554,  1,      2,2,19990824, 63.7825, -33.1005, 2680,   2633.0,   1.7276,  34.8632,2,  34.8636,2,    3.920,2,    1.970,2,1.539420540
  06MT19990813, AR25h,   554,  1,      1,2,19990824, 63.7825, -33.1005, 2680,   2685.0,   1.4224,  34.8616,2,  34.8625,2,    4.185,2,    2.008,2,1.235534350
  06MT19990813, AR25h,   555,  1,     20,2,19990824, 63.9507, -33.3037, 2492,     11.8,  10.3753,  35.0531,2,     -999,9,    3.854,2,    2.078,2,10.373907700
  06MT19990813, AR25h,   555,  1,     19,2,19990824, 63.9507, -33.3037, 2492,     12.3,  10.3697,  35.0526,2,  35.0537,2,     -999,9,     -999,9,10.368249300
  06MT19990813, AR25h,   555,  1,     18,2,19990824, 63.9507, -33.3037, 2492,   1301.6,   3.3940,  34.8926,2,     -999,9,     -999,9,     -999,9,3.297762240
  06MT19990813, AR25h,   555,  1,     17,2,19990824, 63.9507, -33.3037, 2492,   1302.3,   3.3934,  34.8923,2,  34.8928,2,    3.521,2,    1.740,2,3.297107450
  06MT19990813, AR25h,   555,  1,     16,2,19990824, 63.9507, -33.3037, 2492,   1500.6,   3.2234,  34.8795,2,     -999,9,     -999,9,     -999,9,3.112170560
  06MT19990813, AR25h,   555,  1,     15,2,19990824, 63.9507, -33.3037, 2492,   1501.1,   3.2235,  34.8794,2,  34.8796,2,    3.652,2,    1.797,2,3.112230690
  06MT19990813, AR25h,   555,  1,     14,2,19990824, 63.9507, -33.3037, 2492,   1701.1,   3.0677,  34.8648,2,     -999,9,     -999,9,     -999,9,2.941084990
  06MT19990813, AR25h,   555,  1,     13,2,19990824, 63.9507, -33.3037, 2492,   1701.4,   3.0667,  34.8647,2,  34.8649,2,    3.811,2,    1.872,2,2.940072280
  06MT19990813, AR25h,   555,  1,     12,2,19990824, 63.9507, -33.3037, 2492,   1802.1,   3.0289,  34.8638,2,     -999,9,     -999,9,     -999,9,2.893926770
  06MT19990813, AR25h,   555,  1,     11,2,19990824, 63.9507, -33.3037, 2492,   1801.4,   3.0283,  34.8638,2,  34.8639,2,    3.758,2,    1.830,2,2.893393900
  06MT19990813, AR25h,   555,  1,     10,2,19990824, 63.9507, -33.3037, 2492,   1901.9,   3.0355,  34.8707,2,     -999,9,     -999,9,     -999,9,2.891512600
  06MT19990813, AR25h,   555,  1,      9,2,19990824, 63.9507, -33.3037, 2492,   1901.0,   3.0355,  34.8711,2,  34.8715,2,    3.681,2,    1.767,2,2.891588350
  06MT19990813, AR25h,   555,  1,      8,2,19990824, 63.9507, -33.3037, 2492,   2100.4,   3.0464,  34.8953,2,     -999,9,     -999,9,     -999,9,2.884009390
  06MT19990813, AR25h,   555,  1,      7,2,19990824, 63.9507, -33.3037, 2492,   2100.9,   3.0477,  34.8952,2,  34.8954,2,    2.892,2,    1.448,2,2.885241300
  06MT19990813, AR25h,   555,  1,      6,2,19990824, 63.9507, -33.3037, 2492,   2247.7,   2.8896,  34.9006,2,     -999,9,     -999,9,     -999,9,2.715968260
  06MT19990813, AR25h,   555,  1,      5,2,19990824, 63.9507, -33.3037, 2492,   2248.4,   2.8888,  34.9006,2,  34.9008,2,    2.654,2,    1.303,2,2.715112290
  06MT19990813, AR25h,   555,  1,      4,2,19990824, 63.9507, -33.3037, 2492,   2440.9,   1.7759,  34.8810,2,     -999,9,     -999,9,     -999,9,1.604102870
  06MT19990813, AR25h,   555,  1,      3,2,19990824, 63.9507, -33.3037, 2492,   2441.1,   1.7217,  34.8804,2,  34.8791,2,    3.746,2,    1.889,2,1.550887440
  06MT19990813, AR25h,   555,  1,      2,2,19990824, 63.9507, -33.3037, 2492,   2492.7,   1.1784,  34.8541,2,     -999,9,     -999,9,     -999,9,1.013244110
  06MT19990813, AR25h,   555,  1,      1,2,19990824, 63.9507, -33.3037, 2492,   2491.5,   1.1827,  34.8541,2,  34.8545,2,    4.424,2,    2.257,2,1.017566530
  06MT19990813, AR25h,   556,  1,     20,2,19990824, 64.1622, -33.4372, 2232,     13.4,  10.3427,  35.0625,2,  35.0633,2,    3.895,2,    2.128,2,10.341121000
  06MT19990813, AR25h,   556,  1,     19,2,19990824, 64.1622, -33.4372, 2232,    351.0,   6.0632,  35.0527,2,     -999,9,     -999,9,     -999,9,6.032412310
  06MT19990813, AR25h,   556,  1,     18,2,19990824, 64.1622, -33.4372, 2232,    351.8,   6.0624,  35.0527,2,  35.0530,2,    3.984,2,    2.124,2,6.031544850
  06MT19990813, AR25h,   556,  1,     17,2,19990824, 64.1622, -33.4372, 2232,    701.1,   4.6050,  34.9469,2,  34.9473,2,    3.919,2,    2.015,2,4.549721320
  06MT19990813, AR25h,   556,  1,     16,2,19990824, 64.1622, -33.4372, 2232,   1000.5,   3.8653,  34.9061,2,  34.9063,2,    3.643,2,    1.822,2,3.789957070
  06MT19990813, AR25h,   556,  1,     15,2,19990824, 64.1622, -33.4372, 2232,   1200.4,   3.7083,  34.9102,2,     -999,9,     -999,9,     -999,9,3.617534620
  06MT19990813, AR25h,   556,  1,     14,2,19990824, 64.1622, -33.4372, 2232,   1200.8,   3.7093,  34.9102,2,  34.9103,2,    3.513,2,    1.770,2,3.618487980
  06MT19990813, AR25h,   556,  1,     13,2,19990824, 64.1622, -33.4372, 2232,   1351.2,   3.5937,  34.9059,2,     -999,9,     -999,9,     -999,9,3.491199680
  06MT19990813, AR25h,   556,  1,     12,2,19990824, 64.1622, -33.4372, 2232,   1351.4,   3.5927,  34.9055,2,  34.9062,2,    3.489,2,    1.746,2,3.490189530
  06MT19990813, AR25h,   556,  1,     11,2,19990824, 64.1622, -33.4372, 2232,   1499.9,   3.5123,  34.9062,2,     -999,9,     -999,9,     -999,9,3.397773650
  06MT19990813, AR25h,   556,  1,     10,2,19990824, 64.1622, -33.4372, 2232,   1499.9,   3.5124,  34.9061,2,  34.9058,2,    3.372,2,    1.695,2,3.397871760
  06MT19990813, AR25h,   556,  1,      9,2,19990824, 64.1622, -33.4372, 2232,   1650.3,   3.3594,  34.8919,2,     -999,9,     -999,9,     -999,9,3.233478450
  06MT19990813, AR25h,   556,  1,      8,2,19990824, 64.1622, -33.4372, 2232,   1651.3,   3.3596,  34.8921,2,  34.8930,2,    3.477,2,    1.714,2,3.233589610
  06MT19990813, AR25h,   556,  1,      7,2,19990824, 64.1622, -33.4372, 2232,   1801.0,   3.2865,  34.8891,2,  34.8898,2,    3.514,2,    1.730,2,3.148047610
  06MT19990813, AR25h,   556,  1,      6,2,19990824, 64.1622, -33.4372, 2232,   1899.9,   3.0406,  34.8800,2,  34.8821,2,    3.957,2,    1.908,2,2.896679340
  06MT19990813, AR25h,   556,  1,      5,2,19990824, 64.1622, -33.4372, 2232,   2001.4,   2.5149,  34.8829,2,  34.8824,2,    3.580,2,    1.819,2,2.369671080
  06MT19990813, AR25h,   556,  1,      4,2,19990824, 64.1622, -33.4372, 2232,   2100.7,   1.3944,  34.8529,2,  34.8546,2,    4.394,2,    2.203,2,1.258291770
  06MT19990813, AR25h,   556,  1,      3,2,19990824, 64.1622, -33.4372, 2232,   2177.4,   1.0688,  34.8674,2,     -999,9,     -999,9,     -999,9,0.931756507
  06MT19990813, AR25h,   556,  1,      2,2,19990824, 64.1622, -33.4372, 2232,   2176.7,   1.0696,  34.8674,2,  34.8592,2,    4.602,2,    2.294,2,0.932634137
  06MT19990813, AR25h,   556,  1,      1,2,19990824, 64.1622, -33.4372, 2232,   2226.6,   1.0672,  34.8668,2,  34.8668,2,    4.572,2,    2.309,2,0.926212568
  06MT19990813, AR25h,   558,  1,     20,2,19990824, 64.5087, -33.8475, 1615,     12.6,  10.3630,  35.0541,2,     -999,9,     -999,9,     -999,9,10.361516900
  06MT19990813, AR25h,   558,  1,     19,2,19990824, 64.5087, -33.8475, 1615,     12.5,  10.3646,  35.0560,2,  35.0575,2,    3.965,2,    2.153,2,10.363126100
  06MT19990813, AR25h,   558,  1,     18,2,19990824, 64.5087, -33.8475, 1615,    102.1,   7.3723,  35.0983,2,  35.0986,2,    4.247,2,    2.301,2,7.362490470
  06MT19990813, AR25h,   558,  1,     17,2,19990824, 64.5087, -33.8475, 1615,    251.0,   6.6969,  35.0943,2,  35.0954,2,    4.091,2,    2.138,2,6.673828560
  06MT19990813, AR25h,   558,  1,     16,2,19990824, 64.5087, -33.8475, 1615,    401.9,   6.1039,  35.0534,2,  35.0550,2,    3.951,2,    2.094,2,6.068383430
  06MT19990813, AR25h,   558,  1,     15,2,19990824, 64.5087, -33.8475, 1615,    551.3,   5.4278,  35.0039,2,  35.0051,2,    3.562,2,    1.847,2,5.381390690
  06MT19990813, AR25h,   558,  1,     14,2,19990824, 64.5087, -33.8475, 1615,    701.5,   4.8055,  34.9644,2,  34.9648,2,    3.821,2,    1.965,2,4.749081380
  06MT19990813, AR25h,   558,  1,     13,2,19990824, 64.5087, -33.8475, 1615,    802.6,   4.5911,  34.9677,2,  34.9702,2,    3.782,2,    1.916,2,4.527269760
  06MT19990813, AR25h,   558,  1,     12,2,19990824, 64.5087, -33.8475, 1615,   1001.6,   4.1346,  34.9442,2,     -999,9,     -999,9,     -999,9,4.057025510
  06MT19990813, AR25h,   558,  1,     11,2,19990824, 64.5087, -33.8475, 1615,   1001.2,   4.1291,  34.9437,2,  34.9451,2,    3.312,2,    1.655,2,4.051596830
  06MT19990813, AR25h,   558,  1,     10,2,19990824, 64.5087, -33.8475, 1615,   1099.4,   3.9534,  34.9462,2,  34.9470,2,    3.188,2,    1.597,2,3.868969110
  06MT19990813, AR25h,   558,  1,      9,2,19990824, 64.5087, -33.8475, 1615,   1202.6,   3.7925,  34.9350,2,     -999,9,     -999,9,     -999,9,3.700720360
  06MT19990813, AR25h,   558,  1,      8,2,19990824, 64.5087, -33.8475, 1615,   1201.9,   3.7923,  34.9347,2,  34.9348,2,    3.327,2,    1.614,2,3.700584030
  06MT19990813, AR25h,   558,  1,      7,2,19990824, 64.5087, -33.8475, 1615,   1302.0,   3.5487,  34.9174,2,  34.9187,2,    3.473,2,    1.720,2,3.450831300
  06MT19990813, AR25h,   558,  1,      6,2,19990824, 64.5087, -33.8475, 1615,   1401.9,   3.0196,  34.8847,2,     -999,9,     -999,9,     -999,9,2.918914520
  06MT19990813, AR25h,   558,  1,      5,2,19990824, 64.5087, -33.8475, 1615,   1402.7,   3.0172,  34.8843,2,  34.8852,2,    3.606,2,    1.800,2,2.916473940
  06MT19990813, AR25h,   558,  1,      4,2,19990824, 64.5087, -33.8475, 1615,   1500.8,   2.2309,  34.8756,2,  34.8768,2,    4.010,2,    2.041,2,2.131093730
  06MT19990813, AR25h,   558,  1,      3,2,19990824, 64.5087, -33.8475, 1615,   1561.2,   1.5968,  34.8738,2,     -999,9,     -999,9,     -999,9,1.499912570
  06MT19990813, AR25h,   558,  1,      2,2,19990824, 64.5087, -33.8475, 1615,   1560.4,   1.6032,  34.8739,2,  34.8750,2,    4.135,2,    2.073,2,1.506286100
  06MT19990813, AR25h,   558,  1,      1,2,19990824, 64.5087, -33.8475, 1615,   1609.4,   1.6040,  34.8735,2,  34.8751,2,    4.190,2,    2.118,2,1.503397440
  06MT19990813, AR25h,   559,  1,     20,2,19990824, 64.8133, -34.1448, 1031,     12.4,   6.1090,  33.8574,2,     -999,9,     -999,9,     -999,9,6.107962010
  06MT19990813, AR25h,   559,  1,     19,2,19990824, 64.8133, -34.1448, 1031,     12.4,   6.0400,  33.8004,2,     -999,9,     -999,9,     -999,9,6.038969850
  06MT19990813, AR25h,   559,  1,     18,2,19990824, 64.8133, -34.1448, 1031,     12.6,   6.0057,  33.7662,2,  33.8303,2,    5.190,2,    2.694,2,6.004655150
  06MT19990813, AR25h,   559,  1,     17,2,19990824, 64.8133, -34.1448, 1031,    102.1,   7.3645,  35.1283,2,     -999,9,     -999,9,     -999,9,7.354692710
  06MT19990813, AR25h,   559,  1,     16,2,19990824, 64.8133, -34.1448, 1031,    102.0,   7.3640,  35.1282,2,  35.1310,2,    4.077,2,    2.213,2,7.354200400
  06MT19990813, AR25h,   559,  1,     15,2,19990824, 64.8133, -34.1448, 1031,    252.0,   6.6420,  35.1059,2,     -999,9,     -999,9,     -999,9,6.618936120
  06MT19990813, AR25h,   559,  1,     14,2,19990824, 64.8133, -34.1448, 1031,    251.9,   6.6428,  35.1058,2,  35.1035,2,    4.011,2,    2.131,2,6.619746740
  06MT19990813, AR25h,   559,  1,     13,2,19990824, 64.8133, -34.1448, 1031,    402.0,   5.2651,  34.9955,2,     -999,9,     -999,9,     -999,9,5.232207240
  06MT19990813, AR25h,   559,  1,     12,2,19990824, 64.8133, -34.1448, 1031,    401.8,   5.2643,  34.9953,2,  34.9958,2,    3.877,2,    1.989,2,5.231418850
  06MT19990813, AR25h,   559,  1,     11,2,19990824, 64.8133, -34.1448, 1031,    552.8,   4.5252,  34.9397,2,     -999,9,     -999,9,     -999,9,4.482571430
  06MT19990813, AR25h,   559,  1,     10,2,19990824, 64.8133, -34.1448, 1031,    552.9,   4.5251,  34.9397,2,  34.9400,2,    4.106,2,    2.135,2,4.482462650
  06MT19990813, AR25h,   559,  1,      9,2,19990824, 64.8133, -34.1448, 1031,    702.5,   3.7558,  34.9319,2,     -999,9,     -999,9,     -999,9,3.705055070
  06MT19990813, AR25h,   559,  1,      8,2,19990824, 64.8133, -34.1448, 1031,    702.9,   3.7561,  34.9317,2,  34.9328,2,    3.602,2,    1.819,2,3.705318200
  06MT19990813, AR25h,   559,  1,      7,2,19990824, 64.8133, -34.1448, 1031,    802.1,   3.6405,  34.9295,2,     -999,9,     -999,9,     -999,9,3.582672800
  06MT19990813, AR25h,   559,  1,      6,2,19990824, 64.8133, -34.1448, 1031,    801.7,   3.6364,  34.9298,2,  34.9288,2,    3.504,2,    1.775,2,3.578630660
  06MT19990813, AR25h,   559,  1,      5,2,19990824, 64.8133, -34.1448, 1031,    901.8,   3.1653,  34.8835,2,     -999,9,     -999,9,     -999,9,3.102998970
  06MT19990813, AR25h,   559,  1,      4,2,19990824, 64.8133, -34.1448, 1031,    902.2,   3.1391,  34.8810,2,  34.8863,2,    3.985,2,    2.024,2,3.076953590
  06MT19990813, AR25h,   559,  1,      3,2,19990824, 64.8133, -34.1448, 1031,    967.7,   3.0265,  34.8743,2,     -999,9,     -999,9,     -999,9,2.960215440
  06MT19990813, AR25h,   559,  1,      2,2,19990824, 64.8133, -34.1448, 1031,    967.0,   3.0375,  34.8754,2,  34.8774,2,    4.088,2,    2.055,2,2.971180460
  06MT19990813, AR25h,   559,  1,      1,2,19990824, 64.8133, -34.1448, 1031,   1016.9,   2.8341,  34.8580,2,  34.8685,2,    4.133,2,    2.099,2,2.765594170
  06MT19990813, AR25h,   562,  1,     20,2,19990825, 65.2687, -31.0063, 1203,     13.3,  10.0790,  35.0461,2,     -999,9,     -999,9,     -999,9,10.077462300
  06MT19990813, AR25h,   562,  1,     19,2,19990825, 65.2687, -31.0063, 1203,     13.0,  10.0780,  35.0521,2,     -999,9,     -999,9,     -999,9,10.076497000
  06MT19990813, AR25h,   562,  1,     18,2,19990825, 65.2687, -31.0063, 1203,     13.4,  10.0780,  35.0491,2,     -999,9,     -999,9,     -999,9,10.076450800
  06MT19990813, AR25h,   562,  1,     17,2,19990825, 65.2687, -31.0063, 1203,     13.0,  10.0780,  35.0511,2,     -999,9,     -999,9,     -999,9,10.076497000
  06MT19990813, AR25h,   562,  1,     16,2,19990825, 65.2687, -31.0063, 1203,     13.3,  10.0800,  35.0471,2,     -999,9,     -999,9,     -999,9,10.078462200
  06MT19990813, AR25h,   562,  1,     15,2,19990825, 65.2687, -31.0063, 1203,     13.3,  10.0735,  35.0644,2,  35.0585,2,    4.131,2,    2.182,2,10.071962600
  06MT19990813, AR25h,   562,  1,     14,2,19990825, 65.2687, -31.0063, 1203,    202.2,   6.9957,  35.1271,2,     -999,9,     -999,9,     -999,9,6.976710650
  06MT19990813, AR25h,   562,  1,     13,2,19990825, 65.2687, -31.0063, 1203,    202.0,   7.0106,  35.1275,2,  35.1292,2,    3.981,2,    2.129,2,6.991602340
  06MT19990813, AR25h,   562,  1,     12,2,19990825, 65.2687, -31.0063, 1203,    401.6,   6.0711,  35.0634,2,     -999,9,     -999,9,     -999,9,6.035704160
  06MT19990813, AR25h,   562,  1,     11,2,19990825, 65.2687, -31.0063, 1203,    402.4,   6.0669,  35.0630,2,  35.0629,2,    3.773,2,    1.998,2,6.031444630
  06MT19990813, AR25h,   562,  1,     10,2,19990825, 65.2687, -31.0063, 1203,    651.1,   4.5105,  34.9592,2,     -999,9,     -999,9,     -999,9,4.459866650
  06MT19990813, AR25h,   562,  1,      9,2,19990825, 65.2687, -31.0063, 1203,    651.3,   4.5111,  34.9594,2,  34.9602,2,    3.473,2,    1.783,2,4.460442720
  06MT19990813, AR25h,   562,  1,      8,2,19990825, 65.2687, -31.0063, 1203,    902.1,   3.7313,  34.9354,2,     -999,9,     -999,9,     -999,9,3.664926490
  06MT19990813, AR25h,   562,  1,      7,2,19990825, 65.2687, -31.0063, 1203,    902.3,   3.7312,  34.9354,2,  34.9346,2,    3.216,2,    1.615,2,3.664810710
  06MT19990813, AR25h,   562,  1,      6,2,19990825, 65.2687, -31.0063, 1203,   1052.4,   2.0645,  34.8129,2,     -999,9,     -999,9,     -999,9,1.999770650
  06MT19990813, AR25h,   562,  1,      5,2,19990825, 65.2687, -31.0063, 1203,   1052.4,   2.0769,  34.8142,2,  34.8156,2,    4.567,2,    2.279,2,2.012063320
  06MT19990813, AR25h,   562,  1,      4,2,19990825, 65.2687, -31.0063, 1203,   1121.7,   1.9386,  34.8138,2,     -999,9,     -999,9,     -999,9,1.870089510
  06MT19990813, AR25h,   562,  1,      3,2,19990825, 65.2687, -31.0063, 1203,   1121.8,   1.9349,  34.8135,2,  34.8136,2,    4.423,2,    2.232,2,1.866418440
  06MT19990813, AR25h,   562,  1,      2,2,19990825, 65.2687, -31.0063, 1203,   1185.6,   0.9194,  34.8178,2,     -999,9,     -999,9,     -999,9,0.855944972
  06MT19990813, AR25h,   562,  1,      1,2,19990825, 65.2687, -31.0063, 1203,   1185.8,   0.9241,  34.8175,2,  34.8178,2,    4.589,2,    2.298,2,0.860592178