BOTTLE,20220926CCHSIOCBG
EXPOCODE,SECT_ID,STNNBR,CASTNO,BTLNBR,BTLNBR_FLAG_W,DATE,LATITUDE,LONGITUDE,DEPTH,CTDPRS,CTDTMP,CTDSAL,CTDSAL_FLAG_W,SALNTY,SALNTY_FLAG_W,CFC-11,CFC-11_FLAG_W,CFC-12,CFC-12_FLAG_W,THETA
,,,,,,,,,METERS,DBAR,ITS-90,PSS-78,,PSS-78,,PMOL/KG,,PMOL/KG,,DEG C
  06MT19990813, AR25h,   563,  1,     19,2,19990825, 65.1373, -30.8543, 1585,     14.0,  10.4280,  35.0480,2,  35.0472,2,    3.914,2,    2.099,2,10.426345500
  06MT19990813, AR25h,   563,  1,     18,2,19990825, 65.1373, -30.8543, 1585,    251.6,   7.1980,  35.1588,2,     -999,9,     -999,9,     -999,9,7.173888220
  06MT19990813, AR25h,   563,  1,     17,2,19990825, 65.1373, -30.8543, 1585,    251.6,   7.1979,  35.1587,2,  35.1582,2,    4.079,2,    2.097,2,7.173790600
  06MT19990813, AR25h,   563,  1,     16,2,19990825, 65.1373, -30.8543, 1585,    501.7,   5.8478,  35.0435,2,     -999,9,     -999,9,     -999,9,5.804101140
  06MT19990813, AR25h,   563,  1,     15,2,19990825, 65.1373, -30.8543, 1585,    501.1,   5.8457,  35.0428,2,  35.0403,2,    3.715,2,    1.887,2,5.802062530
  06MT19990813, AR25h,   563,  1,     14,2,19990825, 65.1373, -30.8543, 1585,    700.3,   4.7835,  34.9612,2,     -999,9,     -999,9,     -999,9,4.727305880
  06MT19990813, AR25h,   563,  1,     13,2,19990825, 65.1373, -30.8543, 1585,    700.3,   4.7703,  34.9611,2,  34.9607,2,    3.799,2,    1.945,2,4.714181860
  06MT19990813, AR25h,   563,  1,     12,2,19990825, 65.1373, -30.8543, 1585,    900.4,   4.1312,  34.9638,2,     -999,9,     -999,9,     -999,9,4.062138840
  06MT19990813, AR25h,   563,  1,     11,2,19990825, 65.1373, -30.8543, 1585,    901.1,   4.1345,  34.9639,2,  34.9635,2,    3.006,2,    1.540,2,4.065356310
  06MT19990813, AR25h,   563,  1,     10,2,19990825, 65.1373, -30.8543, 1585,   1101.3,   3.9315,  34.9599,2,     -999,9,     -999,9,     -999,9,3.847071280
  06MT19990813, AR25h,   563,  1,      9,2,19990825, 65.1373, -30.8543, 1585,   1101.7,   3.9314,  34.9601,2,  34.9596,2,    2.937,2,    1.496,2,3.846940420
  06MT19990813, AR25h,   563,  1,      8,2,19990825, 65.1373, -30.8543, 1585,   1302.3,   3.6902,  34.9460,2,     -999,9,     -999,9,     -999,9,3.590840440
  06MT19990813, AR25h,   563,  1,      7,2,19990825, 65.1373, -30.8543, 1585,   1301.3,   3.6889,  34.9460,2,  34.9449,2,    2.978,2,    1.508,2,3.589636600
  06MT19990813, AR25h,   563,  1,      6,2,19990825, 65.1373, -30.8543, 1585,   1449.9,   2.1166,  34.8764,2,     -999,9,     -999,9,     -999,9,2.022045800
  06MT19990813, AR25h,   563,  1,      5,2,19990825, 65.1373, -30.8543, 1585,   1450.4,   2.0880,  34.8745,2,  34.8737,2,    3.965,2,    2.002,2,1.993739940
  06MT19990813, AR25h,   563,  1,      4,2,19990825, 65.1373, -30.8543, 1585,   1531.6,   0.6470,  34.7972,2,     -999,9,     -999,9,     -999,9,0.563936651
  06MT19990813, AR25h,   563,  1,      3,2,19990825, 65.1373, -30.8543, 1585,   1531.8,   0.6532,  34.7977,2,  34.7964,2,    4.960,2,    2.504,2,0.570052989
  06MT19990813, AR25h,   563,  1,      2,2,19990825, 65.1373, -30.8543, 1585,   1580.8,   0.6515,  34.7961,2,     -999,9,     -999,9,     -999,9,0.565064342
  06MT19990813, AR25h,   563,  1,      1,2,19990825, 65.1373, -30.8543, 1585,   1580.6,   0.6522,  34.7957,2,  34.7960,2,    4.945,2,    2.499,2,0.565766761
  06MT19990813, AR25h,   564,  1,     19,2,19990825, 65.0048, -30.7095, 1888,    351.4,   5.8903,  35.0331,2,     -999,9,     -999,9,     -999,9,5.859958680
  06MT19990813, AR25h,   564,  1,     18,2,19990825, 65.0048, -30.7095, 1888,    351.6,   5.8895,  35.0329,2,  35.0340,2,    3.992,2,    2.089,2,5.859145220
  06MT19990813, AR25h,   564,  1,     17,2,19990825, 65.0048, -30.7095, 1888,    802.2,   4.1352,  34.9375,2,     -999,9,     -999,9,     -999,9,4.074268960
  06MT19990813, AR25h,   564,  1,     16,2,19990825, 65.0048, -30.7095, 1888,    801.7,   4.1473,  34.9400,2,  34.9417,2,    3.341,2,    1.713,2,4.086327640
  06MT19990813, AR25h,   564,  1,     15,2,19990825, 65.0048, -30.7095, 1888,   1078.4,   3.5612,  34.8959,2,     -999,9,     -999,9,     -999,9,3.481895520
  06MT19990813, AR25h,   564,  1,     14,2,19990825, 65.0048, -30.7095, 1888,   1078.4,   3.5488,  34.8937,2,  34.8932,2,    3.588,2,    1.817,2,3.469607670
  06MT19990813, AR25h,   564,  1,     13,2,19990825, 65.0048, -30.7095, 1888,   1241.9,   3.7947,  34.9500,2,     -999,9,     -999,9,     -999,9,3.699505170
  06MT19990813, AR25h,   564,  1,     12,2,19990825, 65.0048, -30.7095, 1888,   1242.3,   3.7950,  34.9499,2,  34.9498,2,    3.081,2,    1.509,2,3.699771810
  06MT19990813, AR25h,   564,  1,     11,2,19990825, 65.0048, -30.7095, 1888,   1400.4,   3.5423,  34.9222,2,     -999,9,     -999,9,     -999,9,3.436057420
  06MT19990813, AR25h,   564,  1,     10,2,19990825, 65.0048, -30.7095, 1888,   1400.2,   3.5418,  34.9225,2,  34.9221,2,    3.163,2,    1.594,2,3.435575080
  06MT19990813, AR25h,   564,  1,      9,2,19990825, 65.0048, -30.7095, 1888,   1551.1,   3.4081,  34.9119,2,     -999,9,     -999,9,     -999,9,3.290281520
  06MT19990813, AR25h,   564,  1,      8,2,19990825, 65.0048, -30.7095, 1888,   1550.6,   3.4067,  34.9119,2,  34.9112,2,    3.209,2,    1.622,2,3.288938320
  06MT19990813, AR25h,   564,  1,      7,2,19990825, 65.0048, -30.7095, 1888,   1701.2,   3.2884,  34.9158,2,     -999,9,     -999,9,     -999,9,3.158789970
  06MT19990813, AR25h,   564,  1,      6,2,19990825, 65.0048, -30.7095, 1888,   1701.4,   3.2923,  34.9149,2,  34.9144,2,    3.144,2,    1.579,2,3.162632280
  06MT19990813, AR25h,   564,  1,      5,2,19990825, 65.0048, -30.7095, 1888,   1802.0,   0.8388,  34.8127,2,     -999,9,     -999,9,     -999,9,0.734253392
  06MT19990813, AR25h,   564,  1,      4,2,19990825, 65.0048, -30.7095, 1888,   1801.1,   0.7346,  34.8074,2,  34.8070,2,    4.719,2,    2.385,2,0.631603768
  06MT19990813, AR25h,   564,  1,      3,2,19990825, 65.0048, -30.7095, 1888,   1843.0,   0.4697,  34.8224,2,     -999,9,     -999,9,     -999,9,0.367435462
  06MT19990813, AR25h,   564,  1,      2,2,19990825, 65.0048, -30.7095, 1888,   1842.5,   0.4696,  34.8223,2,  34.8210,2,    4.606,2,    2.356,2,0.367373334
  06MT19990813, AR25h,   564,  1,      1,2,19990825, 65.0048, -30.7095, 1888,   1888.1,   0.4542,  34.8209,2,  34.8203,2,    4.606,2,    2.352,2,0.348956766
  06MT19990813, AR25h,   565,  1,     19,2,19990825, 64.8783, -30.5563, 2081,     11.6,  10.3630,  35.0450,2,  35.0448,2,    3.960,2,    2.156,2,10.361636000
  06MT19990813, AR25h,   565,  1,     18,2,19990825, 64.8783, -30.5563, 2081,    351.9,   5.4497,  35.0071,2,     -999,9,     -999,9,     -999,9,5.420521720
  06MT19990813, AR25h,   565,  1,     17,2,19990825, 64.8783, -30.5563, 2081,    351.7,   5.4466,  35.0067,2,  35.0052,2,    3.762,2,    1.962,2,5.417449190
  06MT19990813, AR25h,   565,  1,     16,2,19990825, 64.8783, -30.5563, 2081,    701.7,   4.1140,  34.9174,2,     -999,9,     -999,9,     -999,9,4.061370400
  06MT19990813, AR25h,   565,  1,     15,2,19990825, 64.8783, -30.5563, 2081,    702.0,   4.1058,  34.9168,2,  34.9161,2,    3.976,2,    1.995,2,4.053199000
  06MT19990813, AR25h,   565,  1,     14,2,19990825, 64.8783, -30.5563, 2081,   1001.7,   3.6634,  34.9101,2,  34.9092,2,    3.501,2,    1.731,2,3.589513130
  06MT19990813, AR25h,   565,  1,     13,2,19990825, 64.8783, -30.5563, 2081,   1151.7,   3.6583,  34.9282,2,  34.9275,2,    3.399,2,    1.677,2,3.572044220
  06MT19990813, AR25h,   565,  1,     12,2,19990825, 64.8783, -30.5563, 2081,   1281.3,   3.6190,  34.9343,2,     -999,9,     -999,9,     -999,9,3.522159100
  06MT19990813, AR25h,   565,  1,     11,2,19990825, 64.8783, -30.5563, 2081,   1280.8,   3.6174,  34.9341,2,  34.9332,2,    3.122,2,    1.563,2,3.520619710
  06MT19990813, AR25h,   565,  1,     10,2,19990825, 64.8783, -30.5563, 2081,   1501.2,   3.1547,  34.8755,2,  34.8751,2,    3.639,2,    1.783,2,3.044219000
  06MT19990813, AR25h,   565,  1,      9,2,19990825, 64.8783, -30.5563, 2081,   1501.2,   3.1525,  34.8747,2,     -999,9,     -999,9,     -999,9,3.042046890
  06MT19990813, AR25h,   565,  1,      8,2,19990825, 64.8783, -30.5563, 2081,   1650.2,   3.0770,  34.8689,2,  34.8689,2,    3.734,2,    1.833,2,2.954681920
  06MT19990813, AR25h,   565,  1,      7,2,19990825, 64.8783, -30.5563, 2081,   1751.6,   3.0186,  34.8637,2,     -999,9,     -999,9,     -999,9,2.888210360
  06MT19990813, AR25h,   565,  1,      6,2,19990825, 64.8783, -30.5563, 2081,   1751.0,   3.0178,  34.8636,2,  34.8630,2,    3.736,2,    1.818,2,2.887473840
  06MT19990813, AR25h,   565,  1,      5,2,19990825, 64.8783, -30.5563, 2081,   1951.3,   3.0746,  34.8922,2,     -999,9,     -999,9,     -999,9,2.925506560
  06MT19990813, AR25h,   565,  1,      4,2,19990825, 64.8783, -30.5563, 2081,   1951.5,   3.0722,  34.8923,2,  34.8910,2,    3.135,2,    1.540,2,2.923124600
  06MT19990813, AR25h,   565,  1,      3,2,19990825, 64.8783, -30.5563, 2081,   2034.5,   3.0507,  34.8952,2,     -999,9,     -999,9,     -999,9,2.894342360
  06MT19990813, AR25h,   565,  1,      2,2,19990825, 64.8783, -30.5563, 2081,   2035.1,   3.0505,  34.8953,2,  34.8941,2,    2.976,2,    1.470,2,2.894090200
  06MT19990813, AR25h,   565,  1,      1,2,19990825, 64.8783, -30.5563, 2081,   2080.7,   1.5779,  34.8832,2,  34.8898,2,    3.643,2,    1.814,2,1.440387310
  06MT19990813, AR25h,   566,  1,     20,2,19990825, 64.7552, -30.4213, 2233,     11.5,  10.3070,  35.0621,2,     -999,9,     -999,9,     -999,9,10.305651100
  06MT19990813, AR25h,   566,  1,     19,2,19990825, 64.7552, -30.4213, 2233,     11.7,  10.3060,  35.0611,2,     -999,9,    3.969,2,    2.161,2,10.304627700
  06MT19990813, AR25h,   566,  1,     18,2,19990825, 64.7552, -30.4213, 2233,     11.6,  10.2791,  35.0638,2,  35.0640,2,     -999,9,     -999,9,10.277735800
  06MT19990813, AR25h,   566,  1,     17,2,19990825, 64.7552, -30.4213, 2233,    450.6,   5.6789,  35.0221,2,     -999,9,     -999,9,     -999,9,5.640409030
  06MT19990813, AR25h,   566,  1,     16,2,19990825, 64.7552, -30.4213, 2233,    451.1,   5.6771,  35.0220,2,  35.0219,2,    3.574,2,    1.836,2,5.638573750
  06MT19990813, AR25h,   566,  1,     15,2,19990825, 64.7552, -30.4213, 2233,   1004.0,   3.7361,  34.9115,2,     -999,9,     -999,9,     -999,9,3.661454360
  06MT19990813, AR25h,   566,  1,     14,2,19990825, 64.7552, -30.4213, 2233,   1004.4,   3.7398,  34.9120,2,  34.9134,2,    3.561,2,    1.738,2,3.665088880
  06MT19990813, AR25h,   566,  1,     13,2,19990825, 64.7552, -30.4213, 2233,   1201.7,   3.5841,  34.9116,2,     -999,9,     -999,9,     -999,9,3.494362450
  06MT19990813, AR25h,   566,  1,     12,2,19990825, 64.7552, -30.4213, 2233,   1201.9,   3.5820,  34.9114,2,  34.9106,2,    3.396,2,    1.679,2,3.492271260
  06MT19990813, AR25h,   566,  1,     11,2,19990825, 64.7552, -30.4213, 2233,   1403.5,   3.3942,  34.8977,2,     -999,9,     -999,9,     -999,9,3.289327610
  06MT19990813, AR25h,   566,  1,     10,2,19990825, 64.7552, -30.4213, 2233,   1403.0,   3.3968,  34.8980,2,  34.8972,2,    3.433,2,    1.697,2,3.291945310
  06MT19990813, AR25h,   566,  1,      9,2,19990825, 64.7552, -30.4213, 2233,   1603.5,   3.2355,  34.8845,2,     -999,9,     -999,9,     -999,9,3.115238190
  06MT19990813, AR25h,   566,  1,      8,2,19990825, 64.7552, -30.4213, 2233,   1602.7,   3.2339,  34.8844,2,  34.8837,2,    3.581,2,    1.763,2,3.113731170
  06MT19990813, AR25h,   566,  1,      7,2,19990825, 64.7552, -30.4213, 2233,   1800.0,   3.1224,  34.8778,2,     -999,9,     -999,9,     -999,9,2.986299700
  06MT19990813, AR25h,   566,  1,      6,2,19990825, 64.7552, -30.4213, 2233,   1801.0,   3.1199,  34.8775,2,  34.8768,2,    3.623,2,    1.780,2,2.983745710
  06MT19990813, AR25h,   566,  1,      5,2,19990825, 64.7552, -30.4213, 2233,   2001.6,   3.0532,  34.8875,2,  34.8872,2,    3.248,2,    1.598,2,2.899845280
  06MT19990813, AR25h,   566,  1,      4,2,19990825, 64.7552, -30.4213, 2233,   2102.0,   3.0307,  34.8978,2,  34.8965,2,    2.842,2,    1.407,2,2.868406160
  06MT19990813, AR25h,   566,  1,      3,2,19990825, 64.7552, -30.4213, 2233,   2181.9,   2.9555,  34.9008,2,     -999,9,     -999,9,     -999,9,2.786945440
  06MT19990813, AR25h,   566,  1,      2,2,19990825, 64.7552, -30.4213, 2233,   2181.8,   2.9552,  34.9009,2,  34.9007,2,    2.783,2,    1.404,2,2.786663750
  06MT19990813, AR25h,   566,  1,      1,2,19990825, 64.7552, -30.4213, 2233,   2233.9,   2.7732,  34.8938,2,  34.8931,2,    2.998,2,    1.534,2,2.602818900
  06MT19990813, AR25h,   567,  1,     20,2,19990825, 64.7543, -29.7573, 2157,    300.6,   6.4804,  35.0788,2,     -999,9,     -999,9,     -999,9,6.453171680
  06MT19990813, AR25h,   567,  1,     19,2,19990825, 64.7543, -29.7573, 2157,    700.6,   4.6844,  34.9539,2,     -999,9,     -999,9,     -999,9,4.628725910
  06MT19990813, AR25h,   567,  1,     18,2,19990825, 64.7543, -29.7573, 2157,    700.6,   4.6850,  34.9538,2,  34.9538,2,    3.871,2,    2.004,2,4.629321940
  06MT19990813, AR25h,   567,  1,     17,2,19990825, 64.7543, -29.7573, 2157,    900.1,   4.3380,  34.9647,2,     -999,9,     -999,9,     -999,9,4.267532320
  06MT19990813, AR25h,   567,  1,     16,2,19990825, 64.7543, -29.7573, 2157,    899.4,   4.3431,  34.9654,2,  34.9661,2,    3.759,2,    1.925,2,4.272647670
  06MT19990813, AR25h,   567,  1,     15,2,19990825, 64.7543, -29.7573, 2157,   1100.9,   3.6981,  34.9085,2,     -999,9,     -999,9,     -999,9,3.615770730
  06MT19990813, AR25h,   567,  1,     14,2,19990825, 64.7543, -29.7573, 2157,   1101.2,   3.6966,  34.9088,2,  34.9082,2,    3.529,2,    1.789,2,3.614259890
  06MT19990813, AR25h,   567,  1,     13,2,19990825, 64.7543, -29.7573, 2157,   1300.9,   3.5225,  34.9042,2,     -999,9,     -999,9,     -999,9,3.425013470
  06MT19990813, AR25h,   567,  1,     12,2,19990825, 64.7543, -29.7573, 2157,   1301.2,   3.5228,  34.9041,2,  34.9033,2,    3.441,2,    1.718,2,3.425287010
  06MT19990813, AR25h,   567,  1,     11,2,19990825, 64.7543, -29.7573, 2157,   1451.6,   3.3596,  34.8896,2,  34.8894,2,    3.470,2,    1.728,2,3.251014890
  06MT19990813, AR25h,   567,  1,     10,2,19990825, 64.7543, -29.7573, 2157,   1599.1,   3.2604,  34.8835,2,  34.8833,2,    3.600,2,    1.789,2,3.140219750
  06MT19990813, AR25h,   567,  1,      9,2,19990825, 64.7543, -29.7573, 2157,   1745.9,   3.1784,  34.8775,2,     -999,9,     -999,9,     -999,9,3.046364390
  06MT19990813, AR25h,   567,  1,      8,2,19990825, 64.7543, -29.7573, 2157,   1745.4,   3.1786,  34.8773,2,  34.8771,2,    3.623,2,    1.798,2,3.046604620
  06MT19990813, AR25h,   567,  1,      7,2,19990825, 64.7543, -29.7573, 2157,   1901.2,   3.0985,  34.8724,2,     -999,9,     -999,9,     -999,9,2.953665200
  06MT19990813, AR25h,   567,  1,      6,2,19990825, 64.7543, -29.7573, 2157,   1901.2,   3.0982,  34.8726,2,  34.8721,2,    3.664,2,    1.809,2,2.953371330
  06MT19990813, AR25h,   567,  1,      5,2,19990825, 64.7543, -29.7573, 2157,   2001.2,   3.1860,  34.8956,2,     -999,9,     -999,9,     -999,9,3.030668010
  06MT19990813, AR25h,   567,  1,      4,2,19990825, 64.7543, -29.7573, 2157,   2001.1,   3.1826,  34.8954,2,  34.8945,2,    3.368,2,    1.580,2,3.027337230
  06MT19990813, AR25h,   567,  1,      3,2,19990825, 64.7543, -29.7573, 2157,   2080.7,   3.1361,  34.8924,2,     -999,9,     -999,9,     -999,9,2.974161780
  06MT19990813, AR25h,   567,  1,      2,2,19990825, 64.7543, -29.7573, 2157,   2079.8,   3.1369,  34.8926,2,  34.8921,2,    3.165,2,    1.595,2,2.975031530
  06MT19990813, AR25h,   567,  1,      1,2,19990825, 64.7543, -29.7573, 2157,   2132.9,   3.1048,  34.8904,2,  34.8898,2,    3.148,2,    1.578,2,2.938474850
  06MT19990813, AR25h,   568,  1,     19,2,19990825, 64.7523, -29.0860, 1070,     10.6,  10.7760,  35.0553,2,     -999,9,     -999,9,     -999,9,10.774721700
  06MT19990813, AR25h,   568,  1,     18,2,19990825, 64.7523, -29.0860, 1070,     10.8,  10.7767,  35.0548,2,  35.0550,2,    3.801,2,    2.086,2,10.775398700
  06MT19990813, AR25h,   568,  1,     17,2,19990825, 64.7523, -29.0860, 1070,    151.7,   7.5922,  35.1433,2,     -999,9,     -999,9,     -999,9,7.577313040
  06MT19990813, AR25h,   568,  1,     16,2,19990825, 64.7523, -29.0860, 1070,    151.7,   7.6012,  35.1446,2,  35.1447,2,    3.988,2,    2.099,2,7.586302400
  06MT19990813, AR25h,   568,  1,     15,2,19990825, 64.7523, -29.0860, 1070,    302.2,   7.3283,  35.1732,2,  35.1702,2,    3.842,2,    2.060,2,7.298932620
  06MT19990813, AR25h,   568,  1,     14,2,19990825, 64.7523, -29.0860, 1070,    302.0,   7.3286,  35.1729,2,     -999,9,     -999,9,     -999,9,7.299253470
  06MT19990813, AR25h,   568,  1,     13,2,19990825, 64.7523, -29.0860, 1070,    401.8,   6.8495,  35.1187,2,     -999,9,     -999,9,     -999,9,6.811671150
  06MT19990813, AR25h,   568,  1,     12,2,19990825, 64.7523, -29.0860, 1070,    402.0,   6.8477,  35.1184,2,  35.1182,2,    3.862,2,    2.080,2,6.809865310
  06MT19990813, AR25h,   568,  1,     11,2,19990825, 64.7523, -29.0860, 1070,    503.5,   6.4631,  35.0974,2,     -999,9,     -999,9,     -999,9,6.416841600
  06MT19990813, AR25h,   568,  1,     10,2,19990825, 64.7523, -29.0860, 1070,    503.2,   6.4529,  35.0949,2,  35.0935,2,    3.712,2,    1.959,2,6.406711210
  06MT19990813, AR25h,   568,  1,      9,2,19990825, 64.7523, -29.0860, 1070,    651.1,   5.6392,  35.0295,2,     -999,9,     -999,9,     -999,9,5.582850920
  06MT19990813, AR25h,   568,  1,      8,2,19990825, 64.7523, -29.0860, 1070,    651.0,   5.6383,  35.0291,2,  35.0304,2,    3.567,2,    1.862,2,5.581960810
  06MT19990813, AR25h,   568,  1,      7,2,19990825, 64.7523, -29.0860, 1070,    800.8,   4.9500,  34.9900,2,     -999,9,     -999,9,     -999,9,4.884095580
  06MT19990813, AR25h,   568,  1,      6,2,19990825, 64.7523, -29.0860, 1070,    800.3,   4.9348,  34.9894,2,  34.9890,2,    3.342,2,    1.710,2,4.869036580
  06MT19990813, AR25h,   568,  1,      5,2,19990825, 64.7523, -29.0860, 1070,    901.3,   4.6385,  34.9802,2,     -999,9,     -999,9,     -999,9,4.565826450
  06MT19990813, AR25h,   568,  1,      4,2,19990825, 64.7523, -29.0860, 1070,    901.0,   4.6234,  34.9796,2,  34.9796,2,    3.268,2,    1.648,2,4.550855810
  06MT19990813, AR25h,   568,  1,      3,2,19990825, 64.7523, -29.0860, 1070,   1009.6,   4.2681,  34.9709,2,     -999,9,     -999,9,     -999,9,4.188766660
  06MT19990813, AR25h,   568,  1,      2,2,19990825, 64.7523, -29.0860, 1070,   1010.1,   4.2669,  34.9709,2,  34.9708,2,    3.039,2,    1.527,2,4.187533080
  06MT19990813, AR25h,   568,  1,      1,2,19990825, 64.7523, -29.0860, 1070,   1064.4,   4.1226,  34.9654,2,  34.9656,2,    3.076,2,    1.559,2,4.039724850