BOTTLE,20220926CCHSIOCBG
EXPOCODE,SECT_ID,STNNBR,CASTNO,BTLNBR,BTLNBR_FLAG_W,DATE,LATITUDE,LONGITUDE,DEPTH,CTDPRS,CTDTMP,CTDSAL,CTDSAL_FLAG_W,SALNTY,SALNTY_FLAG_W,CFC-11,CFC-11_FLAG_W,CFC-12,CFC-12_FLAG_W,THETA
,,,,,,,,,METERS,DBAR,ITS-90,PSS-78,,PSS-78,,PMOL/KG,,PMOL/KG,,DEG C
  06MT19990813, AR25h,   539,  1,     20,2,19990821, 62.0218, -37.4665, 2567,     12.3,  10.1004,  34.8511,2,  34.8531,2,    4.037,2,    2.187,2,10.098976100
  06MT19990813, AR25h,   539,  1,     19,2,19990821, 62.0218, -37.4665, 2567,    352.1,   4.3755,  34.9202,2,  34.9210,2,    4.186,2,    2.179,2,4.349304760
  06MT19990813, AR25h,   539,  1,     18,2,19990821, 62.0218, -37.4665, 2567,    801.4,   3.5570,  34.8827,2,  34.8826,2,    3.827,2,    1.903,2,3.499811570
  06MT19990813, AR25h,   539,  1,     17,2,19990821, 62.0218, -37.4665, 2567,   1102.1,   3.3482,  34.8850,2,     -999,9,     -999,9,     -999,9,3.268792230
  06MT19990813, AR25h,   539,  1,     16,2,19990821, 62.0218, -37.4665, 2567,   1102.5,   3.3479,  34.8849,2,  34.8852,2,    3.574,2,    1.781,2,3.268463020
  06MT19990813, AR25h,   539,  1,     15,2,19990821, 62.0218, -37.4665, 2567,   1302.2,   3.1682,  34.8720,2,  34.8713,2,    3.718,2,    1.821,2,3.074213640
  06MT19990813, AR25h,   539,  1,     14,2,19990821, 62.0218, -37.4665, 2567,   1451.8,   3.0630,  34.8632,2,     -999,9,     -999,9,     -999,9,2.957749300
  06MT19990813, AR25h,   539,  1,     13,2,19990821, 62.0218, -37.4665, 2567,   1451.4,   3.0652,  34.8637,2,  34.8642,2,    3.832,2,    1.893,2,2.959954190
  06MT19990813, AR25h,   539,  1,     12,2,19990821, 62.0218, -37.4665, 2567,   1602.8,   3.0087,  34.8590,2,  34.8593,2,    3.881,2,    1.919,2,2.891327720
  06MT19990813, AR25h,   539,  1,     11,2,19990821, 62.0218, -37.4665, 2567,   1752.9,   2.9965,  34.8629,2,     -999,9,     -999,9,     -999,9,2.866290850
  06MT19990813, AR25h,   539,  1,     10,2,19990821, 62.0218, -37.4665, 2567,   1752.7,   2.9961,  34.8629,2,  34.8630,2,    3.803,2,    1.871,2,2.865917750
  06MT19990813, AR25h,   539,  1,      9,2,19990821, 62.0218, -37.4665, 2567,   1852.6,   3.0325,  34.8751,2,  34.8766,2,    3.354,2,    1.655,2,2.892953480
  06MT19990813, AR25h,   539,  1,      8,2,19990821, 62.0218, -37.4665, 2567,   2000.1,   3.0572,  34.8957,2,  34.8961,2,    2.747,2,    1.357,2,2.903897950
  06MT19990813, AR25h,   539,  1,      7,2,19990821, 62.0218, -37.4665, 2567,   2152.2,   2.9062,  34.8944,2,     -999,9,     -999,9,     -999,9,2.741230670
  06MT19990813, AR25h,   539,  1,      6,2,19990821, 62.0218, -37.4665, 2567,   2152.4,   2.9079,  34.8950,2,  34.8943,2,    2.764,2,    1.411,2,2.742885220
  06MT19990813, AR25h,   539,  1,      5,2,19990821, 62.0218, -37.4665, 2567,   2303.2,   2.6544,  34.8999,2,  34.8995,2,    2.626,2,    1.306,2,2.479554510
  06MT19990813, AR25h,   539,  1,      4,2,19990821, 62.0218, -37.4665, 2567,   2402.0,   2.1250,  34.8677,2,  34.8673,2,    3.613,2,    1.806,2,1.950447800
  06MT19990813, AR25h,   539,  1,      3,2,19990821, 62.0218, -37.4665, 2567,   2504.6,   1.3108,  34.8602,2,     -999,9,     -999,9,     -999,9,1.142106720
  06MT19990813, AR25h,   539,  1,      2,2,19990821, 62.0218, -37.4665, 2567,   2504.2,   1.3151,  34.8598,2,  34.8592,2,    4.124,2,    2.090,2,1.146361370
  06MT19990813, AR25h,   539,  1,      1,2,19990821, 62.0218, -37.4665, 2567,   2553.3,   1.0531,  34.8598,2,  34.8590,2,    4.549,2,    2.163,2,0.885099476
  06MT19990813, AR25h,   540,  1,     20,2,19990821, 62.2000, -38.0497, 2491,     12.0,  10.3649,  34.9140,2,  34.9140,2,    3.939,2,    2.169,2,10.363495700
  06MT19990813, AR25h,   540,  1,     19,2,19990821, 62.2000, -38.0497, 2491,    451.0,   4.3428,  34.9303,2,     -999,9,     -999,9,     -999,9,4.309013390
  06MT19990813, AR25h,   540,  1,     18,2,19990821, 62.2000, -38.0497, 2491,    451.0,   4.3435,  34.9303,2,  34.9295,2,    4.056,2,    2.085,2,4.309708390
  06MT19990813, AR25h,   540,  1,     17,2,19990821, 62.2000, -38.0497, 2491,    902.1,   3.5005,  34.8856,2,     -999,9,     -999,9,     -999,9,3.435817300
  06MT19990813, AR25h,   540,  1,     16,2,19990821, 62.2000, -38.0497, 2491,    901.7,   3.5004,  34.8853,2,  34.8852,2,    3.745,2,    1.882,2,3.435752420
  06MT19990813, AR25h,   540,  1,     15,2,19990821, 62.2000, -38.0497, 2491,   1201.0,   3.2879,  34.8841,2,     -999,9,     -999,9,     -999,9,3.201017700
  06MT19990813, AR25h,   540,  1,     14,2,19990821, 62.2000, -38.0497, 2491,   1201.1,   3.2846,  34.8839,2,  34.8840,2,    3.615,2,    1.820,2,3.197737040
  06MT19990813, AR25h,   540,  1,     13,2,19990821, 62.2000, -38.0497, 2491,   1401.5,   3.1061,  34.8687,2,  34.8686,2,    3.871,2,    1.868,2,3.004555080
  06MT19990813, AR25h,   540,  1,     12,2,19990821, 62.2000, -38.0497, 2491,   1551.6,   3.0193,  34.8621,2,  34.8620,2,    3.862,2,    1.898,2,2.906152040
  06MT19990813, AR25h,   540,  1,     11,2,19990821, 62.2000, -38.0497, 2491,   1611.7,   2.9972,  34.8616,2,     -999,9,     -999,9,     -999,9,2.879201730
  06MT19990813, AR25h,   540,  1,     10,2,19990821, 62.2000, -38.0497, 2491,   1612.2,   2.9971,  34.8615,2,  34.8614,2,    3.870,2,    1.894,2,2.879059900
  06MT19990813, AR25h,   540,  1,      9,2,19990821, 62.2000, -38.0497, 2491,   1751.3,   3.0174,  34.8765,2,  34.8772,2,    3.531,2,    1.788,2,2.887018450
  06MT19990813, AR25h,   540,  1,      8,2,19990821, 62.2000, -38.0497, 2491,   1857.3,   3.0125,  34.8906,2,     -999,9,     -999,9,     -999,9,2.872766810
  06MT19990813, AR25h,   540,  1,      7,2,19990821, 62.2000, -38.0497, 2491,   1857.5,   3.0057,  34.8902,2,  34.8900,2,    3.024,2,    1.526,2,2.866047720
  06MT19990813, AR25h,   540,  1,      6,2,19990821, 62.2000, -38.0497, 2491,   2002.4,   2.6611,  34.8736,2,  34.8733,2,    3.685,2,    1.859,2,2.513610760
  06MT19990813, AR25h,   540,  1,      5,2,19990821, 62.2000, -38.0497, 2491,   2202.6,   1.9964,  34.8628,2,  34.8630,2,    4.008,2,    2.012,2,1.841849360
  06MT19990813, AR25h,   540,  1,      4,2,19990821, 62.2000, -38.0497, 2491,   2351.5,   1.4153,  34.8636,2,  34.8628,2,    4.139,2,    2.091,2,1.257877250
  06MT19990813, AR25h,   540,  1,      3,2,19990821, 62.2000, -38.0497, 2491,   2432.9,   1.0811,  34.8613,2,     -999,9,     -999,9,     -999,9,0.922813819
  06MT19990813, AR25h,   540,  1,      2,2,19990821, 62.2000, -38.0497, 2491,   2433.7,   1.0806,  34.8614,2,  34.8611,2,    4.248,2,    2.151,2,0.922258883
  06MT19990813, AR25h,   540,  1,      1,2,19990821, 62.2000, -38.0497, 2491,   2485.2,   0.6851,  34.8609,2,  34.8603,2,    4.397,2,    2.230,2,0.529827028
  06MT19990813, AR25h,   541,  1,     20,2,19990821, 62.4037, -38.6413, 2271,     11.6,  10.3146,  34.9312,2,  34.9313,2,    4.134,2,    2.159,2,10.313240900
  06MT19990813, AR25h,   541,  1,     19,2,19990821, 62.4037, -38.6413, 2271,    301.2,   5.3819,  35.0002,2,  34.9992,2,    4.111,2,    2.161,2,5.357200710
  06MT19990813, AR25h,   541,  1,     18,2,19990821, 62.4037, -38.6413, 2271,    701.7,   3.9967,  34.9067,2,  34.9064,2,    3.946,2,    2.042,2,3.944728400
  06MT19990813, AR25h,   541,  1,     17,2,19990821, 62.4037, -38.6413, 2271,   1001.8,   3.5777,  34.8970,2,  34.8968,2,    3.550,2,    1.794,2,3.504490500
  06MT19990813, AR25h,   541,  1,     16,2,19990821, 62.4037, -38.6413, 2271,   1201.2,   3.3752,  34.8912,2,  34.8915,2,    3.553,2,    1.801,2,3.287480490
  06MT19990813, AR25h,   541,  1,     15,2,19990821, 62.4037, -38.6413, 2271,   1351.8,   3.2203,  34.8808,2,  34.8807,2,    3.619,2,    1.790,2,3.121657110
  06MT19990813, AR25h,   541,  1,     14,2,19990821, 62.4037, -38.6413, 2271,   1503.0,   3.0637,  34.8683,2,     -999,9,     -999,9,     -999,9,2.954122600
  06MT19990813, AR25h,   541,  1,     13,2,19990821, 62.4037, -38.6413, 2271,   1503.0,   3.0612,  34.8677,2,  34.8638,2,    3.743,2,    1.865,2,2.951667690
  06MT19990813, AR25h,   541,  1,     12,2,19990821, 62.4037, -38.6413, 2271,   1650.5,   3.0149,  34.8741,2,  34.8738,2,    3.560,2,    1.785,2,2.893322240
  06MT19990813, AR25h,   541,  1,     11,2,19990821, 62.4037, -38.6413, 2271,   1801.4,   2.8308,  34.8828,2,  34.8826,2,    3.498,2,    1.770,2,2.698530690
  06MT19990813, AR25h,   541,  1,     10,2,19990821, 62.4037, -38.6413, 2271,   2002.6,   2.2820,  34.8695,2,     -999,9,     -999,9,     -999,9,2.140233530
  06MT19990813, AR25h,   541,  1,      9,2,19990821, 62.4037, -38.6413, 2271,   2001.2,   2.2769,  34.8693,2,  34.8691,2,    3.903,2,    1.971,2,2.135331910
  06MT19990813, AR25h,   541,  1,      8,2,19990821, 62.4037, -38.6413, 2271,   2101.3,   1.9040,  34.8629,2,  34.8624,2,    3.964,2,    2.020,2,1.759678580
  06MT19990813, AR25h,   541,  1,      7,2,19990821, 62.4037, -38.6413, 2271,   2223.6,   1.4062,  34.8548,2,     -999,9,     -999,9,     -999,9,1.259766350
  06MT19990813, AR25h,   541,  1,      6,2,19990821, 62.4037, -38.6413, 2271,   2222.9,   1.4075,  34.8547,2,  34.8546,2,    4.237,2,    2.148,2,1.261101900
  06MT19990813, AR25h,   541,  1,      5,2,19990821, 62.4037, -38.6413, 2271,   2279.2,   1.2543,  34.8527,2,  34.8526,2,    4.360,2,    2.185,2,1.105837830
  06MT19990813, AR25h,   542,  1,     20,2,19990822, 62.5870, -39.2227, 2027,     11.7,   9.8634,  34.9705,2,     -999,9,     -999,9,     -999,9,9.862063860
  06MT19990813, AR25h,   542,  1,     19,2,19990822, 62.5870, -39.2227, 2027,     11.4,   9.9147,  34.9688,2,  34.9690,2,    3.940,2,    2.173,2,9.913392610
  06MT19990813, AR25h,   542,  1,     18,2,19990822, 62.5870, -39.2227, 2027,    251.2,   5.6690,  35.0197,2,     -999,9,     -999,9,     -999,9,5.647921740
  06MT19990813, AR25h,   542,  1,     17,2,19990822, 62.5870, -39.2227, 2027,    251.3,   5.6593,  35.0185,2,  35.0186,2,    4.148,2,    2.180,2,5.638232480
  06MT19990813, AR25h,   542,  1,     16,2,19990822, 62.5870, -39.2227, 2027,    501.0,   4.5179,  34.9386,2,     -999,9,     -999,9,     -999,9,4.479489210
  06MT19990813, AR25h,   542,  1,     15,2,19990822, 62.5870, -39.2227, 2027,    501.0,   4.5181,  34.9383,2,  34.9378,2,    4.014,2,    2.087,2,4.479690710
  06MT19990813, AR25h,   542,  1,     14,2,19990822, 62.5870, -39.2227, 2027,    701.2,   4.0320,  34.9162,2,     -999,9,     -999,9,     -999,9,3.979863090
  06MT19990813, AR25h,   542,  1,     13,2,19990822, 62.5870, -39.2227, 2027,    701.4,   4.0289,  34.9156,2,  34.9160,2,    3.750,2,    1.924,2,3.976766700
  06MT19990813, AR25h,   542,  1,     12,2,19990822, 62.5870, -39.2227, 2027,    948.8,   3.5783,  34.8974,2,  34.8969,2,    3.539,2,    1.778,2,3.509335700
  06MT19990813, AR25h,   542,  1,     11,2,19990822, 62.5870, -39.2227, 2027,   1102.8,   3.4419,  34.8957,2,     -999,9,     -999,9,     -999,9,3.361612010
  06MT19990813, AR25h,   542,  1,     10,2,19990822, 62.5870, -39.2227, 2027,   1102.9,   3.4418,  34.8958,2,  34.8957,2,    3.466,2,    1.740,2,3.361506360
  06MT19990813, AR25h,   542,  1,      9,2,19990822, 62.5870, -39.2227, 2027,   1248.7,   3.2276,  34.8813,2,  34.8813,2,    3.561,2,    1.779,2,3.137397080
  06MT19990813, AR25h,   542,  1,      8,2,19990822, 62.5870, -39.2227, 2027,   1402.5,   3.1011,  34.8699,2,  34.8698,2,    3.629,2,    1.793,2,2.999526150
  06MT19990813, AR25h,   542,  1,      7,2,19990822, 62.5870, -39.2227, 2027,   1507.2,   3.0274,  34.8669,2,     -999,9,     -999,9,     -999,9,2.917894580
  06MT19990813, AR25h,   542,  1,      6,2,19990822, 62.5870, -39.2227, 2027,   1506.9,   3.0272,  34.8670,2,  34.8669,2,    3.688,2,    1.843,2,2.917722130
  06MT19990813, AR25h,   542,  1,      5,2,19990822, 62.5870, -39.2227, 2027,   1701.8,   2.8376,  34.8813,2,  34.8813,2,    3.521,2,    1.777,2,2.713849060
  06MT19990813, AR25h,   542,  1,      4,2,19990822, 62.5870, -39.2227, 2027,   1851.6,   2.5094,  34.8758,2,  34.8753,2,    3.664,2,    1.844,2,2.377262990
  06MT19990813, AR25h,   542,  1,      3,2,19990822, 62.5870, -39.2227, 2027,   1972.1,   1.9900,  34.8670,2,     -999,9,     -999,9,     -999,9,1.855231000
  06MT19990813, AR25h,   542,  1,      2,2,19990822, 62.5870, -39.2227, 2027,   1972.2,   1.9862,  34.8670,2,  34.8668,2,    3.881,2,    1.958,2,1.851479460
  06MT19990813, AR25h,   542,  1,      1,2,19990822, 62.5870, -39.2227, 2027,   2020.2,   1.8217,  34.8638,2,  34.8638,2,    4.058,2,    2.075,2,1.685488160
  06MT19990813, AR25h,   543,  1,     20,2,19990822, 62.7780, -39.8205, 1938,     12.7,   9.6365,  34.9022,2,  34.8920,2,    4.110,2,    2.230,2,9.635073790
  06MT19990813, AR25h,   543,  1,     19,2,19990822, 62.7780, -39.8205, 1938,    201.3,   6.2643,  35.0647,2,  35.0637,2,    4.125,2,    2.182,2,6.246542750
  06MT19990813, AR25h,   543,  1,     18,2,19990822, 62.7780, -39.8205, 1938,    501.2,   4.9237,  34.9653,2,     -999,9,     -999,9,     -999,9,4.883667380
  06MT19990813, AR25h,   543,  1,     17,2,19990822, 62.7780, -39.8205, 1938,    501.2,   4.9230,  34.9656,2,  34.9650,2,    4.039,2,    2.114,2,4.882971180
  06MT19990813, AR25h,   543,  1,     16,2,19990822, 62.7780, -39.8205, 1938,    801.7,   4.1232,  34.9343,2,     -999,9,     -999,9,     -999,9,4.062391130
  06MT19990813, AR25h,   543,  1,     15,2,19990822, 62.7780, -39.8205, 1938,    802.0,   4.1225,  34.9343,2,  34.9342,2,    3.607,2,    1.821,2,4.061667770
  06MT19990813, AR25h,   543,  1,     14,2,19990822, 62.7780, -39.8205, 1938,   1051.4,   3.5277,  34.8988,2,  34.8990,2,    3.663,2,    1.829,2,3.450866760
  06MT19990813, AR25h,   543,  1,     13,2,19990822, 62.7780, -39.8205, 1938,   1201.2,   3.4362,  34.9025,2,     -999,9,     -999,9,     -999,9,3.347892160
  06MT19990813, AR25h,   543,  1,     12,2,19990822, 62.7780, -39.8205, 1938,   1201.3,   3.4368,  34.9026,2,  34.9034,2,    3.465,2,    1.716,2,3.348474890
  06MT19990813, AR25h,   543,  1,     11,2,19990822, 62.7780, -39.8205, 1938,   1301.8,   3.3206,  34.8955,2,  34.8959,2,    3.473,2,    1.744,2,3.225064960
  06MT19990813, AR25h,   543,  1,     10,2,19990822, 62.7780, -39.8205, 1938,   1400.7,   3.1819,  34.8864,2,  34.8866,2,    3.682,2,    1.822,2,3.079571060
  06MT19990813, AR25h,   543,  1,      9,2,19990822, 62.7780, -39.8205, 1938,   1500.9,   2.9985,  34.8815,2,     -999,9,     -999,9,     -999,9,2.889817490
  06MT19990813, AR25h,   543,  1,      8,2,19990822, 62.7780, -39.8205, 1938,   1501.6,   2.9940,  34.8813,2,  34.8811,2,    3.599,2,    1.806,2,2.885308080
  06MT19990813, AR25h,   543,  1,      7,2,19990822, 62.7780, -39.8205, 1938,   1601.0,   2.8270,  34.8812,2,  34.8814,2,    3.538,2,    1.789,2,2.711941670
  06MT19990813, AR25h,   543,  1,      6,2,19990822, 62.7780, -39.8205, 1938,   1701.3,   2.6858,  34.8766,2,     -999,9,     -999,9,     -999,9,2.564067170
  06MT19990813, AR25h,   543,  1,      5,2,19990822, 62.7780, -39.8205, 1938,   1701.8,   2.6862,  34.8767,2,  34.8769,2,    3.723,2,    1.902,2,2.564423050
  06MT19990813, AR25h,   543,  1,      4,2,19990822, 62.7780, -39.8205, 1938,   1801.7,   2.2832,  34.8729,2,  34.8725,2,    3.735,2,    1.881,2,2.158431400
  06MT19990813, AR25h,   543,  1,      3,2,19990822, 62.7780, -39.8205, 1938,   1876.4,   2.2314,  34.8717,2,     -999,9,     -999,9,     -999,9,2.101108020
  06MT19990813, AR25h,   543,  1,      2,2,19990822, 62.7780, -39.8205, 1938,   1875.7,   2.2316,  34.8715,2,  34.8718,2,    3.749,2,    1.914,2,2.101364490
  06MT19990813, AR25h,   543,  1,      1,2,19990822, 62.7780, -39.8205, 1938,   1931.9,   2.1661,  34.8695,2,  34.8686,2,    3.836,2,    1.957,2,2.032093330
  06MT19990813, AR25h,   544,  1,     20,2,19990822, 62.8548, -40.1215, 1664,     13.8,   9.6765,  34.9278,2,  34.9242,2,    4.090,2,    2.222,2,9.674942240
  06MT19990813, AR25h,   544,  1,     19,2,19990822, 62.8548, -40.1215, 1664,    200.5,   6.6095,  35.0952,2,     -999,9,     -999,9,     -999,9,6.591272080
  06MT19990813, AR25h,   544,  1,     18,2,19990822, 62.8548, -40.1215, 1664,    200.3,   6.6062,  35.0948,2,  35.0939,2,    4.085,2,    2.175,2,6.587994160
  06MT19990813, AR25h,   544,  1,     17,2,19990822, 62.8548, -40.1215, 1664,    351.0,   5.3516,  34.9943,2,  34.9944,2,    3.987,2,    2.105,2,5.322768030
  06MT19990813, AR25h,   544,  1,     16,2,19990822, 62.8548, -40.1215, 1664,    501.4,   5.0485,  34.9662,2,  34.9664,2,    4.117,2,    2.179,2,5.007964890
  06MT19990813, AR25h,   544,  1,     15,2,19990822, 62.8548, -40.1215, 1664,    651.2,   4.9191,  34.9607,2,     -999,9,     -999,9,     -999,9,4.866399780
  06MT19990813, AR25h,   544,  1,     14,2,19990822, 62.8548, -40.1215, 1664,    651.2,   4.9187,  34.9606,2,  34.9607,2,    4.050,2,    2.121,2,4.866005210
  06MT19990813, AR25h,   544,  1,     13,2,19990822, 62.8548, -40.1215, 1664,    801.0,   4.7311,  34.9448,2,     -999,9,     -999,9,     -999,9,4.666584330
  06MT19990813, AR25h,   544,  1,     12,2,19990822, 62.8548, -40.1215, 1664,    800.7,   4.7319,  34.9447,2,  34.9450,2,    4.112,2,    2.153,2,4.667404210
  06MT19990813, AR25h,   544,  1,     11,2,19990822, 62.8548, -40.1215, 1664,    950.4,   4.1031,  34.9198,2,  34.9193,2,    3.814,2,    1.965,2,4.030120620
  06MT19990813, AR25h,   544,  1,     10,2,19990822, 62.8548, -40.1215, 1664,   1102.4,   3.8245,  34.9120,2,  34.9124,2,    3.678,2,    1.880,2,3.740974070
  06MT19990813, AR25h,   544,  1,      9,2,19990822, 62.8548, -40.1215, 1664,   1201.8,   3.6978,  34.9101,2,     -999,9,     -999,9,     -999,9,3.607017190
  06MT19990813, AR25h,   544,  1,      8,2,19990822, 62.8548, -40.1215, 1664,   1201.7,   3.6961,  34.9100,2,  34.9110,2,    3.601,2,    1.846,2,3.605338640
  06MT19990813, AR25h,   544,  1,      7,2,19990822, 62.8548, -40.1215, 1664,   1301.2,   3.5673,  34.9050,2,  34.9053,2,     -999,9,     -999,9,3.469339980
  06MT19990813, AR25h,   544,  1,      6,2,19990822, 62.8548, -40.1215, 1664,   1401.2,   3.4596,  34.8977,2,  34.8983,2,    3.583,2,    1.805,2,3.354229460
  06MT19990813, AR25h,   544,  1,      5,2,19990822, 62.8548, -40.1215, 1664,   1499.9,   3.3624,  34.8930,2,     -999,9,     -999,9,     -999,9,3.249615830
  06MT19990813, AR25h,   544,  1,      4,2,19990822, 62.8548, -40.1215, 1664,   1500.2,   3.3601,  34.8928,2,  34.8932,2,    3.610,2,    1.819,2,3.247309570
  06MT19990813, AR25h,   544,  1,      3,2,19990822, 62.8548, -40.1215, 1664,   1600.3,   3.1052,  34.8808,2,     -999,9,     -999,9,     -999,9,2.986810820
  06MT19990813, AR25h,   544,  1,      2,2,19990822, 62.8548, -40.1215, 1664,   1600.1,   3.1050,  34.8808,2,  34.8813,2,    3.736,2,    1.864,2,2.986632580
  06MT19990813, AR25h,   544,  1,      1,2,19990822, 62.8548, -40.1215, 1664,   1648.8,   3.0591,  34.8814,2,  34.8818,2,    3.697,2,    1.850,2,2.937095980