BOTTLE,20220926CCHSIOCBG
# CTDPRS units changed from DBARS to DBAR, THETA units changed from DEGC to DEG C
#BOTTLE,20031103WHPSIODMB
#BOTTLE,20081120PRINUNIVRMK
# 3/18/08 this file initialized 
# Ship: Meteor  
# Cruise; MET 45_4, WOCE AR25_h, VEINS 
# Region:N. Atlantic east of SE Greenland 
# EXPOCODE: 06MT19990813 
# Cruise dates:8/13-8/31/1999 
# Chief Scientist:Jens Meincke 
# 45 stations with 24 place Rosette 
# Hydro: Who - Meincke; Status - final; S Plus - up to date 
# 	Notes: Calibrated data from Meincke/Verch 2/22/07 
# CFC: Who - M Rhein;R.Steinfeldt; Status - final; S Plus - up to date 
# 	Notes: Data from R.Steinfeldt 2/22/07 
# References: 
# Kieke, D., M. Rhein, L. Stramma, W. M. Smethie, D. A. LeBel, and W. Zenk (2006), Changes in the CFC Inventories and Formation Rates of Upper Labrador Sea Water, 1997-2001, J. Phys. Oceanogr, 36, 64-86. 
EXPOCODE,SECT_ID,STNNBR,CASTNO,BTLNBR,BTLNBR_FLAG_W,DATE,LATITUDE,LONGITUDE,DEPTH,CTDPRS,CTDTMP,CTDSAL,CTDSAL_FLAG_W,SALNTY,SALNTY_FLAG_W,CFC-11,CFC-11_FLAG_W,CFC-12,CFC-12_FLAG_W,THETA
,,,,,,,,,METERS,DBAR,ITS-90,PSS-78,,PSS-78,,PMOL/KG,,PMOL/KG,,DEG C
  06MT19990813, AR25h,   511,  1,      2,2,19990814, 51.9128, -49.3818, 3033,   1504.6,   3.0438,  34.8610,2,     -999,9,     -999,9,     -999,9,2.934342270
  06MT19990813, AR25h,   511,  1,      5,2,19990814, 51.9128, -49.3818, 3033,   1504.8,   3.0441,  34.8610,2,     -999,9,     -999,9,     -999,9,2.934621140
  06MT19990813, AR25h,   511,  1,     10,2,19990814, 51.9128, -49.3818, 3033,   1505.0,   3.0471,  34.8612,2,     -999,9,     -999,9,     -999,9,2.937570990
  06MT19990813, AR25h,   511,  1,     15,2,19990814, 51.9128, -49.3818, 3033,   1505.3,   3.0468,  34.8612,2,     -999,9,     -999,9,     -999,9,2.937245790
  06MT19990813, AR25h,   511,  1,     19,2,19990814, 51.9128, -49.3818, 3033,   1506.0,   3.0482,  34.8612,2,     -999,9,     -999,9,     -999,9,2.938574070
  06MT19990813, AR25h,   512,  1,      3,2,19990817, 59.9935, -42.5050,  191,     11.5,   2.9652,  32.8145,2,  32.8164,2,     -999,9,     -999,9,2.964546970
  06MT19990813, AR25h,   512,  1,      2,2,19990817, 59.9935, -42.5050,  191,     60.3,  -1.0531,  33.0765,2,  33.0683,2,     -999,9,     -999,9,-1.05452256
  06MT19990813, AR25h,   512,  1,      1,2,19990817, 59.9935, -42.5050,  191,    179.6,   3.9248,  34.4756,2,  34.4727,2,     -999,9,     -999,9,3.912450720
  06MT19990813, AR25h,   513,  1,      7,2,19990817, 59.9795, -42.1788,  563,     12.2,   3.1998,  32.9719,2,  32.9747,2,    6.066,2,    3.103,2,3.199080860
  06MT19990813, AR25h,   513,  1,      6,2,19990817, 59.9795, -42.1788,  563,    150.7,   4.5075,  34.6683,2,  34.6663,2,    4.891,2,    2.548,2,4.496424740
  06MT19990813, AR25h,   513,  1,      5,2,19990817, 59.9795, -42.1788,  563,    351.6,   5.1113,  34.9293,2,  34.9291,2,    4.451,2,    2.348,2,5.083116210
  06MT19990813, AR25h,   513,  1,      4,2,19990817, 59.9795, -42.1788,  563,    494.3,   5.0205,  34.9360,2,  34.9386,2,    4.359,2,    2.279,2,4.980700110
  06MT19990813, AR25h,   514,  1,     24,2,19990817, 59.9288, -41.8525, 1825,     11.9,   9.3250,  34.8641,2,     -999,9,     -999,9,     -999,9,9.323693750
  06MT19990813, AR25h,   514,  1,     23,2,19990817, 59.9288, -41.8525, 1825,     11.2,   9.3220,  34.8641,2,     -999,9,     -999,9,     -999,9,9.320770890
  06MT19990813, AR25h,   514,  1,     22,2,19990817, 59.9288, -41.8525, 1825,     11.5,   9.3210,  34.8651,2,     -999,9,     -999,9,     -999,9,9.319738010
  06MT19990813, AR25h,   514,  1,     21,2,19990817, 59.9288, -41.8525, 1825,     12.0,   9.3250,  34.8641,2,     -999,9,     -999,9,     -999,9,9.323682770
  06MT19990813, AR25h,   514,  1,     20,2,19990817, 59.9288, -41.8525, 1825,     11.8,   9.3244,  34.8661,2,  34.8665,2,    4.219,2,    2.284,2,9.323103650
  06MT19990813, AR25h,   514,  1,     19,2,19990817, 59.9288, -41.8525, 1825,     99.6,   6.9282,  35.0411,2,  35.0417,2,    4.374,2,    2.315,2,6.918981980
  06MT19990813, AR25h,   514,  1,     18,2,19990817, 59.9288, -41.8525, 1825,    201.8,   6.3819,  35.0649,2,  35.0653,2,    4.201,2,    2.246,2,6.363918890
  06MT19990813, AR25h,   514,  1,     17,2,19990817, 59.9288, -41.8525, 1825,    501.8,   4.7683,  34.9553,2,  34.9551,2,    4.146,2,    2.177,2,4.728835110
  06MT19990813, AR25h,   514,  1,     16,2,19990817, 59.9288, -41.8525, 1825,    752.2,   4.1770,  34.9183,2,  34.9181,2,    4.007,2,    2.072,2,4.119932440
  06MT19990813, AR25h,   514,  1,     15,2,19990817, 59.9288, -41.8525, 1825,   1060.6,   3.5871,  34.8986,2,  34.8983,2,    3.534,2,    1.777,2,3.509037420
  06MT19990813, AR25h,   514,  1,     14,2,19990817, 59.9288, -41.8525, 1825,   1200.4,   3.4028,  34.8934,2,  34.8914,2,    3.666,2,    1.858,2,3.314889030
  06MT19990813, AR25h,   514,  1,     13,2,19990817, 59.9288, -41.8525, 1825,   1301.4,   3.2678,  34.8866,2,  34.8863,2,    3.755,2,    1.858,2,3.172846550
  06MT19990813, AR25h,   514,  1,     12,2,19990817, 59.9288, -41.8525, 1825,   1401.8,   3.1381,  34.8799,2,  34.8795,2,    3.721,2,    1.882,2,3.036165780
  06MT19990813, AR25h,   514,  1,     11,2,19990817, 59.9288, -41.8525, 1825,   1500.0,   3.0746,  34.8764,2,  34.8762,2,    3.699,2,    1.847,2,2.965136780
  06MT19990813, AR25h,   514,  1,     10,2,19990817, 59.9288, -41.8525, 1825,   1601.9,   2.9901,  34.8778,2,  34.8773,2,    3.617,2,    1.817,2,2.872981420
  06MT19990813, AR25h,   514,  1,      9,2,19990817, 59.9288, -41.8525, 1825,   1701.0,   2.9252,  34.8814,2,  34.8817,2,    3.501,2,    1.772,2,2.800380730
  06MT19990813, AR25h,   514,  1,      8,2,19990817, 59.9288, -41.8525, 1825,   1816.9,   2.8253,  34.8802,2,  34.8803,2,    3.606,2,    1.762,2,2.691763050
  06MT19990813, AR25h,   515,  1,      6,2,19990817, 59.9000, -41.5130, 1903,   1002.0,   3.4457,  34.8964,2,  34.8966,2,    3.669,2,    1.863,2,3.373494970
  06MT19990813, AR25h,   515,  1,      5,2,19990817, 59.9000, -41.5130, 1903,   1353.2,   3.1041,  34.8780,2,  34.8787,2,    3.733,2,    1.880,2,3.006557260
  06MT19990813, AR25h,   515,  1,      4,2,19990817, 59.9000, -41.5130, 1903,   1451.5,   3.0126,  34.8753,2,  34.8757,2,    3.708,2,    1.884,2,2.907901400
  06MT19990813, AR25h,   515,  1,      3,2,19990817, 59.9000, -41.5130, 1903,   1552.2,   2.9142,  34.8786,2,  34.8794,2,    3.566,2,    1.817,2,2.802199100
  06MT19990813, AR25h,   515,  1,      2,2,19990817, 59.9000, -41.5130, 1903,   1750.9,   2.6391,  34.8773,2,  34.8784,2,    3.539,2,    1.791,2,2.513773790
  06MT19990813, AR25h,   515,  1,      1,2,19990817, 59.9000, -41.5130, 1903,   1888.8,   2.3580,  34.8708,2,  34.8722,2,    3.639,2,    1.872,2,2.224853490
  06MT19990813, AR25h,   516,  1,     20,2,19990817, 59.8678, -41.2035, 2037,     15.1,   9.1558,  34.7571,2,  34.7553,2,    4.200,2,    2.296,2,9.154161490
  06MT19990813, AR25h,   516,  1,     19,2,19990817, 59.8678, -41.2035, 2037,    150.5,   6.0540,  35.0537,2,  35.0540,2,    4.246,2,    2.240,2,6.041027510
  06MT19990813, AR25h,   516,  1,     18,2,19990817, 59.8678, -41.2035, 2037,    500.6,   4.3570,  34.9290,2,     -999,9,    4.050,2,    2.115,2,4.319254390
  06MT19990813, AR25h,   516,  1,     17,2,19990817, 59.8678, -41.2035, 2037,    873.4,   3.5648,  34.8953,2,  34.8951,2,    3.664,2,    1.850,2,3.501913400
  06MT19990813, AR25h,   516,  1,     16,2,19990817, 59.8678, -41.2035, 2037,   1103.4,   3.3312,  34.8891,2,  34.8892,2,    3.658,2,    1.855,2,3.251824770
  06MT19990813, AR25h,   516,  1,     15,2,19990817, 59.8678, -41.2035, 2037,   1202.2,   3.1857,  34.8772,2,  34.8793,2,     -999,9,     -999,9,3.099672260
  06MT19990813, AR25h,   516,  1,     14,2,19990817, 59.8678, -41.2035, 2037,   1328.5,   3.0523,  34.8715,2,  34.8722,2,    3.837,2,    1.910,2,2.957329610
  06MT19990813, AR25h,   516,  1,     13,2,19990817, 59.8678, -41.2035, 2037,   1414.8,   3.0152,  34.8730,2,  34.8743,2,    3.789,2,    1.867,2,2.913519000
  06MT19990813, AR25h,   516,  1,     12,2,19990817, 59.8678, -41.2035, 2037,   1501.1,   2.9679,  34.8776,2,  34.8780,2,    3.570,2,    1.793,2,2.859559880
  06MT19990813, AR25h,   516,  1,     11,2,19990817, 59.8678, -41.2035, 2037,   1653.8,   2.8572,  34.8832,2,  34.8829,2,    3.413,2,    1.744,2,2.737296920
  06MT19990813, AR25h,   516,  1,     10,2,19990817, 59.8678, -41.2035, 2037,   1800.4,   2.6536,  34.8849,2,  34.8854,2,    3.173,2,    1.620,2,2.523825790
  06MT19990813, AR25h,   516,  1,      9,2,19990817, 59.8678, -41.2035, 2037,   1902.9,   2.3057,  34.8699,2,  34.8705,2,    3.689,2,    1.894,2,2.172109990
  06MT19990813, AR25h,   516,  1,      8,2,19990817, 59.8678, -41.2035, 2037,   1952.8,   2.2484,  34.8705,2,  34.8712,2,    3.695,2,    1.869,2,2.111398020
  06MT19990813, AR25h,   516,  1,      7,2,19990817, 59.8678, -41.2035, 2037,   2032.8,   2.1765,  34.8670,2,  34.8676,2,    3.761,2,    1.936,2,2.033746780
  06MT19990813, AR25h,   517,  1,     20,2,19990817, 59.8160, -40.7623, 2600,     11.9,   9.0940,  34.7861,2,     -999,9,     -999,9,     -999,9,9.092715600
  06MT19990813, AR25h,   517,  1,     19,2,19990817, 59.8160, -40.7623, 2600,     11.7,   9.1030,  34.7871,2,     -999,9,     -999,9,     -999,9,9.101736400
  06MT19990813, AR25h,   517,  1,     18,2,19990817, 59.8160, -40.7623, 2600,     11.7,   9.1150,  34.7881,2,     -999,9,     -999,9,     -999,9,9.113735330
  06MT19990813, AR25h,   517,  1,     17,2,19990817, 59.8160, -40.7623, 2600,     11.9,   9.1841,  34.7930,2,  34.7906,2,    4.340,2,    2.328,2,9.182807530
  06MT19990813, AR25h,   517,  1,     16,2,19990817, 59.8160, -40.7623, 2600,   1002.4,   3.3763,  34.8884,2,     -999,9,     -999,9,     -999,9,3.304615740
  06MT19990813, AR25h,   517,  1,     15,2,19990817, 59.8160, -40.7623, 2600,   1002.2,   3.3768,  34.8882,2,  34.8888,2,    3.617,2,    1.836,2,3.305126230
  06MT19990813, AR25h,   517,  1,     14,2,19990817, 59.8160, -40.7623, 2600,   1303.9,   3.1160,  34.8689,2,     -999,9,     -999,9,     -999,9,3.022403510
  06MT19990813, AR25h,   517,  1,     13,2,19990817, 59.8160, -40.7623, 2600,   1303.4,   3.1165,  34.8690,2,  34.8707,2,    3.748,2,    1.902,2,3.022937890
  06MT19990813, AR25h,   517,  1,     12,2,19990817, 59.8160, -40.7623, 2600,   1548.0,   2.9819,  34.8598,2,     -999,9,     -999,9,     -999,9,2.869499360
  06MT19990813, AR25h,   517,  1,     11,2,19990817, 59.8160, -40.7623, 2600,   1549.0,   2.9816,  34.8598,2,  34.8609,2,    3.762,2,    1.887,2,2.869124060
  06MT19990813, AR25h,   517,  1,     10,2,19990817, 59.8160, -40.7623, 2600,   1805.6,   2.9730,  34.8836,2,     -999,9,     -999,9,     -999,9,2.838416740
  06MT19990813, AR25h,   517,  1,      9,2,19990817, 59.8160, -40.7623, 2600,   1801.7,   2.9735,  34.8838,2,  34.8840,2,    3.241,2,    1.625,2,2.839251600
  06MT19990813, AR25h,   517,  1,      8,2,19990817, 59.8160, -40.7623, 2600,   2101.7,   2.5202,  34.8749,2,  34.8761,2,    3.466,2,    1.783,2,2.366031510
  06MT19990813, AR25h,   517,  1,      7,2,19990817, 59.8160, -40.7623, 2600,   2101.7,   2.5199,  34.8750,2,  34.8767,2,    3.466,2,    1.777,2,2.365730570
  06MT19990813, AR25h,   517,  1,      6,2,19990817, 59.8160, -40.7623, 2600,   2400.6,   1.2580,  34.8615,2,     -999,9,     -999,9,     -999,9,1.099217720
  06MT19990813, AR25h,   517,  1,      5,2,19990817, 59.8160, -40.7623, 2600,   2401.0,   1.2578,  34.8615,2,  34.8614,2,    4.290,2,    2.155,2,1.098987730
  06MT19990813, AR25h,   517,  1,      4,2,19990817, 59.8160, -40.7623, 2600,   2500.6,   1.2512,  34.8620,2,     -999,9,     -999,9,     -999,9,1.083960200
  06MT19990813, AR25h,   517,  1,      3,2,19990817, 59.8160, -40.7623, 2600,   2501.6,   1.2513,  34.8620,2,  34.8620,2,    4.204,2,    2.180,2,1.083977850
  06MT19990813, AR25h,   517,  1,      2,2,19990817, 59.8160, -40.7623, 2600,   2607.9,   1.2644,  34.8619,2,     -999,9,     -999,9,     -999,9,1.087537430
  06MT19990813, AR25h,   517,  1,      1,2,19990817, 59.8160, -40.7623, 2600,   2610.2,   1.2647,  34.8619,2,  34.8622,2,    4.174,2,    2.133,2,1.087624710
  06MT19990813, AR25h,   518,  1,     20,2,19990817, 59.7667, -40.2135, 2644,     11.0,   8.9860,  34.7282,2,     -999,9,     -999,9,     -999,9,8.984822620
  06MT19990813, AR25h,   518,  1,     19,2,19990817, 59.7667, -40.2135, 2644,     11.1,   8.9900,  34.7282,2,     -999,9,     -999,9,     -999,9,8.988811580
  06MT19990813, AR25h,   518,  1,     18,2,19990817, 59.7667, -40.2135, 2644,     11.2,   8.9910,  34.7282,2,     -999,9,     -999,9,     -999,9,8.989800780
  06MT19990813, AR25h,   518,  1,     17,2,19990817, 59.7667, -40.2135, 2644,     11.2,   8.9842,  34.7291,2,     -999,9,     -999,9,     -999,9,8.982995980
  06MT19990813, AR25h,   518,  1,     16,2,19990817, 59.7667, -40.2135, 2644,    151.8,   5.3681,  35.0018,2,  35.0010,2,    4.282,2,    2.300,2,5.355835070
  06MT19990813, AR25h,   518,  1,     15,2,19990817, 59.7667, -40.2135, 2644,    401.7,   4.2031,  34.9144,2,  34.9127,2,    4.281,2,    2.232,2,4.173611070
  06MT19990813, AR25h,   518,  1,     14,2,19990817, 59.7667, -40.2135, 2644,    801.4,   3.4744,  34.8754,2,  34.8754,2,    3.604,2,    2.000,2,3.417732930
  06MT19990813, AR25h,   518,  1,     13,2,19990817, 59.7667, -40.2135, 2644,   1101.3,   3.3259,  34.8849,2,  34.8851,2,    3.591,2,    1.806,2,3.246744740
  06MT19990813, AR25h,   518,  1,     12,2,19990817, 59.7667, -40.2135, 2644,   1351.4,   3.1097,  34.8682,2,  34.8682,2,    3.820,2,    1.901,2,3.012267300
  06MT19990813, AR25h,   518,  1,     11,2,19990817, 59.7667, -40.2135, 2644,   1501.8,   3.0394,  34.8629,2,  34.8624,2,    3.811,2,    1.917,2,2.930224160
  06MT19990813, AR25h,   518,  1,     10,2,19990817, 59.7667, -40.2135, 2644,   1651.8,   2.9707,  34.8588,2,  34.8591,2,    3.823,2,    1.919,2,2.849607140
  06MT19990813, AR25h,   518,  1,      9,2,19990817, 59.7667, -40.2135, 2644,   1687.9,   2.9786,  34.8619,2,  34.8618,2,    3.800,2,    1.871,2,2.854282920
  06MT19990813, AR25h,   518,  1,      8,2,19990817, 59.7667, -40.2135, 2644,   1852.0,   3.0482,  34.8854,2,  34.8857,2,    3.154,2,    1.601,2,2.908453030
  06MT19990813, AR25h,   518,  1,      7,2,19990817, 59.7667, -40.2135, 2644,   1952.5,   3.0293,  34.8930,2,  34.8920,2,    2.974,2,    1.504,2,2.880761910
  06MT19990813, AR25h,   518,  1,      6,2,19990817, 59.7667, -40.2135, 2644,   2151.9,   2.8498,  34.8971,2,  34.8977,2,    2.993,2,    1.506,2,2.685749430
  06MT19990813, AR25h,   518,  1,      5,2,19990817, 59.7667, -40.2135, 2644,   2254.2,   2.6515,  34.8938,2,  34.8925,2,    2.791,2,    1.466,2,2.481272840
  06MT19990813, AR25h,   518,  1,      4,2,19990817, 59.7667, -40.2135, 2644,   2350.5,   2.3009,  34.8718,2,  34.8716,2,    3.461,2,    1.737,2,2.127914370
  06MT19990813, AR25h,   518,  1,      3,2,19990817, 59.7667, -40.2135, 2644,   2500.4,   1.5285,  34.8537,2,  34.8533,2,    4.102,2,    2.104,2,1.356114010
  06MT19990813, AR25h,   518,  1,      2,2,19990817, 59.7667, -40.2135, 2644,   2551.6,   1.1300,  34.8591,2,  34.8584,2,    4.263,2,    2.181,2,0.960673314
  06MT19990813, AR25h,   518,  1,      1,2,19990817, 59.7667, -40.2135, 2644,   2640.2,   1.1261,  34.8584,2,  34.8583,2,    4.270,2,    2.222,2,0.949129832
  06MT19990813, AR25h,   519,  1,     17,2,19990817, 59.6845, -39.3985, 2854,     15.2,   8.7467,  34.5731,2,  34.5860,2,    4.563,2,    2.423,2,8.745104210
  06MT19990813, AR25h,   519,  1,     16,2,19990817, 59.6845, -39.3985, 2854,    201.3,   4.1997,  34.8936,2,  34.8942,2,    4.715,2,    2.430,2,4.185240480
  06MT19990813, AR25h,   519,  1,     15,2,19990817, 59.6845, -39.3985, 2854,    501.4,   3.4904,  34.8428,2,  34.8432,2,    4.864,2,    2.496,2,3.456080820
  06MT19990813, AR25h,   519,  1,     14,2,19990817, 59.6845, -39.3985, 2854,    802.6,   3.3565,  34.8541,2,  34.8545,2,    4.309,2,    2.211,2,3.300511620
  06MT19990813, AR25h,   519,  1,     13,2,19990817, 59.6845, -39.3985, 2854,   1050.7,   3.3008,  34.8710,2,  34.8728,2,    4.023,2,    1.952,2,3.225916120
  06MT19990813, AR25h,   519,  1,     12,2,19990817, 59.6845, -39.3985, 2854,   1301.0,   3.1435,  34.8658,2,  34.8658,2,    3.795,2,    1.899,2,3.049871370
  06MT19990813, AR25h,   519,  1,     11,2,19990817, 59.6845, -39.3985, 2854,   1451.1,   3.0753,  34.8619,2,  34.8623,2,    3.823,2,    1.902,2,2.969967570
  06MT19990813, AR25h,   519,  1,     10,2,19990817, 59.6845, -39.3985, 2854,   1599.2,   3.0574,  34.8652,2,  34.8652,2,    3.804,2,    1.876,2,2.939725870
  06MT19990813, AR25h,   519,  1,      9,2,19990817, 59.6845, -39.3985, 2854,   1749.1,   3.0161,  34.8640,2,  34.8645,2,    3.767,2,    1.876,2,2.885961110
  06MT19990813, AR25h,   519,  1,      8,2,19990817, 59.6845, -39.3985, 2854,   1901.4,   3.0191,  34.8715,2,  34.8726,2,    3.481,2,    1.730,2,2.875377850
  06MT19990813, AR25h,   519,  1,      7,2,19990817, 59.6845, -39.3985, 2854,   2051.5,   3.0584,  34.8894,2,  34.8903,2,    2.971,2,    1.507,2,2.900370150
  06MT19990813, AR25h,   519,  1,      6,2,19990817, 59.6845, -39.3985, 2854,   2201.0,   3.0351,  34.9023,2,  34.9023,2,    2.624,2,    1.330,2,2.863448600
  06MT19990813, AR25h,   519,  1,      5,2,19990817, 59.6845, -39.3985, 2854,   2349.3,   2.7243,  34.8786,2,     -999,9,    3.472,2,    1.724,2,2.544004940
  06MT19990813, AR25h,   519,  1,      4,2,19990817, 59.6845, -39.3985, 2854,   2501.4,   2.3025,  34.8658,2,  34.8662,2,    3.836,2,    1.940,2,2.115548660
  06MT19990813, AR25h,   519,  1,      3,2,19990817, 59.6845, -39.3985, 2854,   2652.1,   1.6842,  34.8602,2,  34.8624,2,    4.176,2,    2.124,2,1.495127350
  06MT19990813, AR25h,   519,  1,      2,2,19990817, 59.6845, -39.3985, 2854,   2753.7,   1.1301,  34.8607,2,  34.8608,2,    4.163,2,    2.138,2,0.942980448
  06MT19990813, AR25h,   519,  1,      1,2,19990817, 59.6845, -39.3985, 2854,   2840.4,   1.0898,  34.8626,2,  34.8627,2,    4.156,2,    2.135,2,0.895716402