BOTTLE,20220926CCHSIOCBG
EXPOCODE,SECT_ID,STNNBR,CASTNO,BTLNBR,BTLNBR_FLAG_W,DATE,LATITUDE,LONGITUDE,DEPTH,CTDPRS,CTDTMP,CTDSAL,CTDSAL_FLAG_W,SALNTY,SALNTY_FLAG_W,CFC-11,CFC-11_FLAG_W,CFC-12,CFC-12_FLAG_W,THETA
,,,,,,,,,METERS,DBAR,ITS-90,PSS-78,,PSS-78,,PMOL/KG,,PMOL/KG,,DEG C
  06MT19990813, AR25h,   569,  1,     19,2,19990826, 64.7523, -28.4133, 1166,     10.6,  10.6624,  35.0673,2,     -999,9,     -999,9,     -999,9,10.661125500
  06MT19990813, AR25h,   569,  1,     18,2,19990826, 64.7523, -28.4133, 1166,     10.6,  10.6548,  35.0673,2,  35.0670,2,    3.808,2,    2.084,2,10.653526100
  06MT19990813, AR25h,   569,  1,     17,2,19990826, 64.7523, -28.4133, 1166,    102.4,   7.6964,  35.1112,2,     -999,9,     -999,9,     -999,9,7.686309000
  06MT19990813, AR25h,   569,  1,     16,2,19990826, 64.7523, -28.4133, 1166,    102.3,   7.6952,  35.1113,2,  35.1121,2,    4.093,2,    2.158,2,7.685121690
  06MT19990813, AR25h,   569,  1,     15,2,19990826, 64.7523, -28.4133, 1166,    211.5,   7.5068,  35.1704,2,  35.1694,2,     -999,9,     -999,9,7.486092650
  06MT19990813, AR25h,   569,  1,     14,2,19990826, 64.7523, -28.4133, 1166,    211.4,   7.4999,  35.1695,2,     -999,9,    3.865,2,    2.056,2,7.479213550
  06MT19990813, AR25h,   569,  1,     13,2,19990826, 64.7523, -28.4133, 1166,    402.0,   7.0444,  35.1437,2,     -999,9,     -999,9,     -999,9,7.005948700
  06MT19990813, AR25h,   569,  1,     12,2,19990826, 64.7523, -28.4133, 1166,    401.1,   7.0428,  35.1435,2,  35.1429,2,    3.851,2,    2.067,2,7.004439600
  06MT19990813, AR25h,   569,  1,     11,2,19990826, 64.7523, -28.4133, 1166,    551.6,   6.5218,  35.0944,2,     -999,9,     -999,9,     -999,9,6.470695620
  06MT19990813, AR25h,   569,  1,     10,2,19990826, 64.7523, -28.4133, 1166,    552.2,   6.5205,  35.0944,2,  35.0945,2,    3.711,2,    1.974,2,6.469342130
  06MT19990813, AR25h,   569,  1,      9,2,19990826, 64.7523, -28.4133, 1166,    701.9,   5.8134,  35.0425,2,     -999,9,     -999,9,     -999,9,5.751455260
  06MT19990813, AR25h,   569,  1,      8,2,19990826, 64.7523, -28.4133, 1166,    701.6,   5.8128,  35.0416,2,  35.0408,2,    3.558,2,    1.874,2,5.750892040
  06MT19990813, AR25h,   569,  1,      7,2,19990826, 64.7523, -28.4133, 1166,    850.2,   5.1754,  35.0023,2,     -999,9,     -999,9,     -999,9,5.103647800
  06MT19990813, AR25h,   569,  1,      6,2,19990826, 64.7523, -28.4133, 1166,    850.9,   5.1740,  35.0022,2,  35.0024,2,    3.297,2,    1.721,2,5.102198810
  06MT19990813, AR25h,   569,  1,      5,2,19990826, 64.7523, -28.4133, 1166,   1001.7,   4.6155,  34.9824,2,     -999,9,     -999,9,     -999,9,4.534172720
  06MT19990813, AR25h,   569,  1,      4,2,19990826, 64.7523, -28.4133, 1166,   1001.2,   4.6182,  34.9821,2,  34.9851,2,    3.206,2,    1.623,2,4.536893700
  06MT19990813, AR25h,   569,  1,      3,2,19990826, 64.7523, -28.4133, 1166,   1111.3,   4.2661,  34.9716,2,     -999,9,     -999,9,     -999,9,4.177959630
  06MT19990813, AR25h,   569,  1,      2,2,19990826, 64.7523, -28.4133, 1166,   1111.8,   4.2661,  34.9716,2,  34.9709,2,    3.062,2,    1.549,2,4.177919780
  06MT19990813, AR25h,   569,  1,      1,2,19990826, 64.7523, -28.4133, 1166,   1163.1,   4.1069,  34.9656,2,  34.9656,2,    3.056,2,    1.559,2,4.015626140
  06MT19990813, AR25h,   570,  1,     16,2,19990826, 64.7505, -27.8350,  896,     12.1,  10.2430,  35.0784,2,     -999,9,     -999,9,     -999,9,10.241588400
  06MT19990813, AR25h,   570,  1,     15,2,19990826, 64.7505, -27.8350,  896,     11.9,  10.2430,  35.0785,2,  35.0782,2,    3.926,2,    2.140,2,10.241611700
  06MT19990813, AR25h,   570,  1,     14,2,19990826, 64.7505, -27.8350,  896,    101.8,   7.6843,  35.1104,2,     -999,9,     -999,9,     -999,9,7.674280930
  06MT19990813, AR25h,   570,  1,     13,2,19990826, 64.7505, -27.8350,  896,    102.0,   7.6825,  35.1103,2,  35.1104,2,    4.159,2,    2.261,2,7.672466460
  06MT19990813, AR25h,   570,  1,     12,2,19990826, 64.7505, -27.8350,  896,    201.6,   7.3462,  35.1539,2,     -999,9,     -999,9,     -999,9,7.326719690
  06MT19990813, AR25h,   570,  1,     11,2,19990826, 64.7505, -27.8350,  896,    201.4,   7.3449,  35.1541,2,  35.1538,2,    4.001,2,    2.178,2,7.325441290
  06MT19990813, AR25h,   570,  1,     10,2,19990826, 64.7505, -27.8350,  896,    352.7,   7.1576,  35.1548,2,     -999,9,     -999,9,     -999,9,7.123674940
  06MT19990813, AR25h,   570,  1,      9,2,19990826, 64.7505, -27.8350,  896,    352.2,   7.1670,  35.1561,2,  35.1560,2,    3.976,2,    2.139,2,7.133100580
  06MT19990813, AR25h,   570,  1,      8,2,19990826, 64.7505, -27.8350,  896,    501.0,   6.6789,  35.1140,2,     -999,9,     -999,9,     -999,9,6.632050830
  06MT19990813, AR25h,   570,  1,      7,2,19990826, 64.7505, -27.8350,  896,    501.2,   6.6605,  35.1123,2,  35.1116,2,    3.848,2,    2.063,2,6.613699050
  06MT19990813, AR25h,   570,  1,      6,2,19990826, 64.7505, -27.8350,  896,    652.0,   5.9765,  35.0504,2,     -999,9,     -999,9,     -999,9,5.918376850
  06MT19990813, AR25h,   570,  1,      5,2,19990826, 64.7505, -27.8350,  896,    651.8,   5.9748,  35.0502,2,  35.0507,2,    3.617,2,    1.918,2,5.916706480
  06MT19990813, AR25h,   570,  1,      4,2,19990826, 64.7505, -27.8350,  896,    802.1,   5.2682,  35.0050,2,     -999,9,     -999,9,     -999,9,5.200214220
  06MT19990813, AR25h,   570,  1,      3,2,19990826, 64.7505, -27.8350,  896,    802.0,   5.2662,  35.0049,2,  35.0051,2,    3.449,2,    1.764,2,5.198237150
  06MT19990813, AR25h,   570,  1,      2,2,19990826, 64.7505, -27.8350,  896,    882.2,   5.0271,  34.9978,2,     -999,9,     -999,9,     -999,9,4.953448990
  06MT19990813, AR25h,   570,  1,      1,2,19990826, 64.7505, -27.8350,  896,    882.3,   5.0233,  34.9974,2,  34.9977,2,    3.387,2,    1.702,2,4.949670160