BOTTLE,20220926CCHSIOCBG
EXPOCODE,SECT_ID,STNNBR,CASTNO,BTLNBR,BTLNBR_FLAG_W,DATE,LATITUDE,LONGITUDE,DEPTH,CTDPRS,CTDTMP,CTDSAL,CTDSAL_FLAG_W,SALNTY,SALNTY_FLAG_W,CFC-11,CFC-11_FLAG_W,CFC-12,CFC-12_FLAG_W,THETA
,,,,,,,,,METERS,DBAR,ITS-90,PSS-78,,PSS-78,,PMOL/KG,,PMOL/KG,,DEG C
  06MT19990813, AR25h,   520,  1,     24,2,19990818, 59.6008, -38.5975, 3013,     12.2,   8.9760,  34.6452,2,     -999,9,     -999,9,     -999,9,8.974696530
  06MT19990813, AR25h,   520,  1,     23,2,19990818, 59.6008, -38.5975, 3013,     12.3,   8.9570,  34.6482,2,     -999,9,     -999,9,     -999,9,8.955687530
  06MT19990813, AR25h,   520,  1,     22,2,19990818, 59.6008, -38.5975, 3013,     11.7,   8.9580,  34.6472,2,     -999,9,     -999,9,     -999,9,8.956751530
  06MT19990813, AR25h,   520,  1,     21,2,19990818, 59.6008, -38.5975, 3013,     12.0,   8.9580,  34.6472,2,     -999,9,     -999,9,     -999,9,8.956719490
  06MT19990813, AR25h,   520,  1,     20,2,19990818, 59.6008, -38.5975, 3013,     11.7,   8.9598,  34.6459,2,  34.6545,2,    4.319,2,    2.353,2,8.958554440
  06MT19990813, AR25h,   520,  1,     19,2,19990818, 59.6008, -38.5975, 3013,    151.7,   4.5927,  34.9335,2,  34.9342,2,    4.532,2,    2.378,2,4.581382210
  06MT19990813, AR25h,   520,  1,     18,2,19990818, 59.6008, -38.5975, 3013,    400.2,   3.9055,  34.8889,2,  34.8890,2,    4.493,2,    2.337,2,3.877081390
  06MT19990813, AR25h,   520,  1,     17,2,19990818, 59.6008, -38.5975, 3013,    651.2,   3.6392,  34.8708,2,  34.8707,2,    4.284,2,    2.233,2,3.593075970
  06MT19990813, AR25h,   520,  1,     16,2,19990818, 59.6008, -38.5975, 3013,    901.4,   3.3970,  34.8673,2,  34.8674,2,    4.105,2,    2.064,2,3.333128780
  06MT19990813, AR25h,   520,  1,     15,2,19990818, 59.6008, -38.5975, 3013,   1101.9,   3.3665,  34.8807,2,  34.8811,2,    3.746,2,    1.870,2,3.286957290
  06MT19990813, AR25h,   520,  1,     14,2,19990818, 59.6008, -38.5975, 3013,   1303.7,   3.2218,  34.8744,2,  34.8751,2,    3.735,2,    1.866,2,3.127145910
  06MT19990813, AR25h,   520,  1,     13,2,19990818, 59.6008, -38.5975, 3013,   1403.3,   3.1492,  34.8677,2,  34.8690,2,    3.767,2,    1.896,2,3.047045260
  06MT19990813, AR25h,   520,  1,     12,2,19990818, 59.6008, -38.5975, 3013,   1501.1,   3.1032,  34.8656,2,  34.8663,2,    3.876,2,    1.919,2,2.993337730
  06MT19990813, AR25h,   520,  1,     11,2,19990818, 59.6008, -38.5975, 3013,   1600.9,   3.0526,  34.8619,2,  34.8634,2,    3.844,2,    1.905,2,2.934842530
  06MT19990813, AR25h,   520,  1,     10,2,19990818, 59.6008, -38.5975, 3013,   1701.8,   3.0166,  34.8595,2,  34.8610,2,    3.905,2,    1.931,2,2.890590020
  06MT19990813, AR25h,   520,  1,      9,2,19990818, 59.6008, -38.5975, 3013,   1802.4,   2.9918,  34.8597,2,  34.8600,2,    3.766,2,    1.880,2,2.857320750
  06MT19990813, AR25h,   520,  1,      8,2,19990818, 59.6008, -38.5975, 3013,   1950.8,   3.0256,  34.8762,2,  34.8771,2,    3.444,2,    1.724,2,2.877320960
  06MT19990813, AR25h,   520,  1,      7,2,19990818, 59.6008, -38.5975, 3013,   2102.5,   3.0449,  34.8973,2,  34.8980,2,    2.805,2,    1.405,2,2.882332110
  06MT19990813, AR25h,   520,  1,      6,2,19990818, 59.6008, -38.5975, 3013,   2301.2,   2.9510,  34.9089,2,  34.9095,2,    2.399,2,    1.201,2,2.771241470
  06MT19990813, AR25h,   520,  1,      5,2,19990818, 59.6008, -38.5975, 3013,   2502.4,   2.7988,  34.9146,2,  34.9150,2,    2.211,2,    1.102,2,2.602389180
  06MT19990813, AR25h,   520,  1,      4,2,19990818, 59.6008, -38.5975, 3013,   2650.8,   2.3430,  34.8795,2,  34.8787,2,    3.158,2,    1.613,2,2.141073670
  06MT19990813, AR25h,   520,  1,      3,2,19990818, 59.6008, -38.5975, 3013,   2799.8,   1.8225,  34.8681,2,  34.8679,2,    3.636,2,    1.848,2,1.616861480
  06MT19990813, AR25h,   520,  1,      2,2,19990818, 59.6008, -38.5975, 3013,   2933.0,   1.1377,  34.8634,2,     -999,9,    4.057,2,    2.081,2,0.934131750
  06MT19990813, AR25h,   520,  1,      1,2,19990818, 59.6008, -38.5975, 3013,   3033.4,   0.9938,  34.8595,2,  34.8595,2,    4.306,2,    2.171,2,0.784144859
  06MT19990813, AR25h,   521,  1,     23,2,19990818, 59.5172, -37.6205, 3128,     14.2,  10.1040,  34.7439,2,     -999,9,     -999,9,     -999,9,10.102361900
  06MT19990813, AR25h,   521,  1,     22,2,19990818, 59.5172, -37.6205, 3128,     14.4,  10.0910,  34.7409,2,     -999,9,     -999,9,     -999,9,10.089340200
  06MT19990813, AR25h,   521,  1,     21,2,19990818, 59.5172, -37.6205, 3128,     14.5,  10.1040,  34.7429,2,     -999,9,     -999,9,     -999,9,10.102327300
  06MT19990813, AR25h,   521,  1,     20,2,19990818, 59.5172, -37.6205, 3128,     14.4,  10.1052,  34.7461,2,     -999,9,    4.079,2,    2.194,2,10.103538600
  06MT19990813, AR25h,   521,  1,     19,2,19990818, 59.5172, -37.6205, 3128,    252.1,   4.2493,  34.8929,2,  34.8924,2,    4.393,2,    2.307,2,4.230994740
  06MT19990813, AR25h,   521,  1,     18,2,19990818, 59.5172, -37.6205, 3128,    501.5,   3.7872,  34.8760,2,  34.8758,2,    4.599,2,    2.425,2,3.751671390
  06MT19990813, AR25h,   521,  1,     17,2,19990818, 59.5172, -37.6205, 3128,    752.3,   3.5353,  34.8634,2,  34.8637,2,    4.229,2,    2.164,2,3.482051060
  06MT19990813, AR25h,   521,  1,     16,2,19990818, 59.5172, -37.6205, 3128,   1001.4,   3.4010,  34.8732,2,  34.8732,2,    3.926,2,    1.962,2,3.329228790
  06MT19990813, AR25h,   521,  1,     15,2,19990818, 59.5172, -37.6205, 3128,   1150.8,   3.3080,  34.8726,2,  34.8730,2,    3.745,2,    1.869,2,3.225035440
  06MT19990813, AR25h,   521,  1,     14,2,19990818, 59.5172, -37.6205, 3128,   1301.3,   3.1948,  34.8661,2,  34.8666,2,    3.901,2,    1.917,2,3.100628480
  06MT19990813, AR25h,   521,  1,     13,2,19990818, 59.5172, -37.6205, 3128,   1402.5,   3.1605,  34.8663,2,  34.8664,2,    3.778,2,    1.895,2,3.058293470
  06MT19990813, AR25h,   521,  1,     12,2,19990818, 59.5172, -37.6205, 3128,   1503.8,   3.1224,  34.8646,2,  34.8651,2,    3.809,2,    1.902,2,3.012097020
  06MT19990813, AR25h,   521,  1,     11,2,19990818, 59.5172, -37.6205, 3128,   1603.4,   3.0803,  34.8623,2,  34.8625,2,    3.817,2,    1.895,2,2.961998890
  06MT19990813, AR25h,   521,  1,     10,2,19990818, 59.5172, -37.6205, 3128,   1703.7,   3.0424,  34.8598,2,  34.8602,2,    3.860,2,    1.926,2,2.915900150
  06MT19990813, AR25h,   521,  1,      9,2,19990818, 59.5172, -37.6205, 3128,   1842.7,   3.0036,  34.8574,2,  34.8577,2,    3.867,2,    1.935,2,2.865392710
  06MT19990813, AR25h,   521,  1,      8,2,19990818, 59.5172, -37.6205, 3128,   1951.5,   3.0031,  34.8612,2,  34.8616,2,    3.676,2,    1.823,2,2.855135090
  06MT19990813, AR25h,   521,  1,      7,2,19990818, 59.5172, -37.6205, 3128,   2100.2,   3.0635,  34.8787,2,  34.8792,2,    3.308,2,    1.651,2,2.900915990
  06MT19990813, AR25h,   521,  1,      6,2,19990818, 59.5172, -37.6205, 3128,   2301.2,   3.1076,  34.9065,2,  34.9069,2,    2.754,2,    1.379,2,2.925184070
  06MT19990813, AR25h,   521,  1,      5,2,19990818, 59.5172, -37.6205, 3128,   2502.0,   3.0077,  34.9106,2,  34.9114,2,    2.322,2,    1.156,2,2.807507740
  06MT19990813, AR25h,   521,  1,      4,2,19990818, 59.5172, -37.6205, 3128,   2702.4,   2.9367,  34.9241,2,  34.9248,2,    2.059,2,    1.027,2,2.717873830
  06MT19990813, AR25h,   521,  1,      3,2,19990818, 59.5172, -37.6205, 3128,   2901.7,   2.6248,  34.9007,2,  34.9010,2,    2.638,2,    1.335,2,2.392304600
  06MT19990813, AR25h,   521,  1,      2,2,19990818, 59.5172, -37.6205, 3128,   3033.4,   2.1642,  34.8782,2,  34.8790,2,    3.315,2,    1.647,2,1.928468560
  06MT19990813, AR25h,   521,  1,      1,2,19990818, 59.5172, -37.6205, 3128,   3119.3,   1.5196,  34.8574,2,  34.8583,2,    4.022,2,    2.002,2,1.289927770
  06MT19990813, AR25h,   530,  1,     24,2,19990819, 63.7082, -36.7560, 1548,     14.3,   7.9780,  34.6874,2,     -999,9,     -999,9,     -999,9,7.976578370
  06MT19990813, AR25h,   530,  1,     23,2,19990819, 63.7082, -36.7560, 1548,     14.3,   7.9790,  34.6884,2,     -999,9,     -999,9,     -999,9,7.977578240
  06MT19990813, AR25h,   530,  1,     22,2,19990819, 63.7082, -36.7560, 1548,     14.4,   7.9830,  34.6894,2,     -999,9,     -999,9,     -999,9,7.981567830
  06MT19990813, AR25h,   530,  1,     21,2,19990819, 63.7082, -36.7560, 1548,     14.4,   7.9890,  34.6924,2,     -999,9,     -999,9,     -999,9,7.987567100
  06MT19990813, AR25h,   530,  1,     20,2,19990819, 63.7082, -36.7560, 1548,     14.4,   8.0169,  34.7048,2,  34.7219,2,    4.585,2,    2.430,2,8.015458410
  06MT19990813, AR25h,   530,  1,     19,2,19990819, 63.7082, -36.7560, 1548,    101.5,   7.8776,  34.9864,2,  34.9836,2,    4.245,2,    2.255,2,7.867485610
  06MT19990813, AR25h,   530,  1,     18,2,19990819, 63.7082, -36.7560, 1548,    250.6,   6.8405,  35.0852,2,  35.0853,2,    4.098,2,    2.186,2,6.817194270
  06MT19990813, AR25h,   530,  1,     17,2,19990819, 63.7082, -36.7560, 1548,    353.9,   6.1048,  35.0560,2,  35.0538,2,    3.956,2,    2.111,2,6.073642840
  06MT19990813, AR25h,   530,  1,     16,2,19990819, 63.7082, -36.7560, 1548,    502.5,   4.8418,  34.9597,2,  34.9591,2,    3.985,2,    2.048,2,4.801986040
  06MT19990813, AR25h,   530,  1,     15,2,19990819, 63.7082, -36.7560, 1548,    650.7,   4.0097,  34.9227,2,  34.9222,2,    3.813,2,    1.917,2,3.961674490
  06MT19990813, AR25h,   530,  1,     14,2,19990819, 63.7082, -36.7560, 1548,    799.0,   3.6597,  34.9080,2,  34.9077,2,    3.703,2,    1.863,2,3.602018970
  06MT19990813, AR25h,   530,  1,     13,2,19990819, 63.7082, -36.7560, 1548,    899.5,   3.5087,  34.9002,2,  34.9005,2,    3.729,2,    1.864,2,3.444143970
  06MT19990813, AR25h,   530,  1,     12,2,19990819, 63.7082, -36.7560, 1548,    998.0,   3.3815,  34.8949,2,     -999,9,     -999,9,     -999,9,3.310116850
  06MT19990813, AR25h,   530,  1,     11,2,19990819, 63.7082, -36.7560, 1548,    998.1,   3.3820,  34.8950,2,  34.8947,2,    3.681,2,    1.855,2,3.310601430
  06MT19990813, AR25h,   530,  1,     10,2,19990819, 63.7082, -36.7560, 1548,   1101.8,   3.3011,  34.8922,2,  34.8919,2,    3.726,2,    1.830,2,3.222104080
  06MT19990813, AR25h,   530,  1,      9,2,19990819, 63.7082, -36.7560, 1548,   1201.6,   2.9365,  34.8782,2,     -999,9,     -999,9,     -999,9,2.852841500
  06MT19990813, AR25h,   530,  1,      8,2,19990819, 63.7082, -36.7560, 1548,   1201.4,   2.9797,  34.8805,2,  34.8808,2,    3.793,2,    1.837,2,2.895648490
  06MT19990813, AR25h,   530,  1,      7,2,19990819, 63.7082, -36.7560, 1548,   1301.3,   2.8911,  34.8760,2,  34.8752,2,    3.784,2,    1.878,2,2.799955360
  06MT19990813, AR25h,   530,  1,      6,2,19990819, 63.7082, -36.7560, 1548,   1404.0,   2.4667,  34.8617,2,     -999,9,     -999,9,     -999,9,2.371875000
  06MT19990813, AR25h,   530,  1,      5,2,19990819, 63.7082, -36.7560, 1548,   1403.6,   2.4733,  34.8617,2,  34.8617,2,    3.915,2,    1.938,2,2.378434770
  06MT19990813, AR25h,   530,  1,      4,2,19990819, 63.7082, -36.7560, 1548,   1502.4,   2.2336,  34.8560,2,  34.8556,2,    4.030,2,    2.038,2,2.133689910
  06MT19990813, AR25h,   530,  1,      3,2,19990819, 63.7082, -36.7560, 1548,   1592.2,   1.7057,  34.8524,2,  34.8516,2,     -999,9,     -999,9,1.605207070
  06MT19990813, AR25h,   530,  1,      2,2,19990819, 63.7082, -36.7560, 1548,   1591.3,   1.7090,  34.8528,2,  34.8515,2,    4.142,2,    2.084,2,1.608528820
  06MT19990813, AR25h,   530,  1,      1,2,19990819, 63.7082, -36.7560, 1548,   1631.2,   1.6907,  34.8530,2,  34.8524,2,    4.122,2,    2.076,2,1.587414870
  06MT19990813, AR25h,   532,  1,     20,2,19990820, 63.4652, -36.2985, 2011,     11.5,  10.4665,  35.0112,2,  35.0137,2,    3.955,2,    2.193,2,10.465137300
  06MT19990813, AR25h,   532,  1,     19,2,19990820, 63.4652, -36.2985, 2011,    301.7,   5.7470,  35.0192,2,  35.0197,2,    4.459,2,    2.373,2,5.721397000
  06MT19990813, AR25h,   532,  1,     18,2,19990820, 63.4652, -36.2985, 2011,    602.1,   4.6628,  34.9464,2,  34.9460,2,    4.058,2,    2.100,2,4.615497760
  06MT19990813, AR25h,   532,  1,     17,2,19990820, 63.4652, -36.2985, 2011,    902.8,   4.0817,  34.9246,2,  34.9248,2,    3.673,2,    1.867,2,4.012842560
  06MT19990813, AR25h,   532,  1,     16,2,19990820, 63.4652, -36.2985, 2011,   1051.6,   3.8943,  34.9265,2,     -999,9,     -999,9,     -999,9,3.814427290
  06MT19990813, AR25h,   532,  1,     15,2,19990820, 63.4652, -36.2985, 2011,   1051.6,   3.8930,  34.9263,2,  34.9262,2,    3.499,2,    1.754,2,3.813140000
  06MT19990813, AR25h,   532,  1,     14,2,19990820, 63.4652, -36.2985, 2011,   1201.5,   3.6987,  34.9171,2,     -999,9,     -999,9,     -999,9,3.607917710
  06MT19990813, AR25h,   532,  1,     13,2,19990820, 63.4652, -36.2985, 2011,   1201.5,   3.7005,  34.9170,2,  34.9166,2,    3.523,2,    1.753,2,3.609701300
  06MT19990813, AR25h,   532,  1,     12,2,19990820, 63.4652, -36.2985, 2011,   1301.9,   3.6259,  34.9157,2,  34.9149,2,    3.576,2,    1.794,2,3.527278510
  06MT19990813, AR25h,   532,  1,     11,2,19990820, 63.4652, -36.2985, 2011,   1401.9,   3.4351,  34.9031,2,  34.9031,2,    3.562,2,    1.801,2,3.329920070
  06MT19990813, AR25h,   532,  1,     10,2,19990820, 63.4652, -36.2985, 2011,   1503.2,   3.1815,  34.8858,2,     -999,9,     -999,9,     -999,9,3.070515790
  06MT19990813, AR25h,   532,  1,      9,2,19990820, 63.4652, -36.2985, 2011,   1501.9,   3.1864,  34.8862,2,  34.8860,2,    3.655,2,    1.826,2,3.075469120
  06MT19990813, AR25h,   532,  1,      8,2,19990820, 63.4652, -36.2985, 2011,   1602.2,   2.9243,  34.8816,2,  34.8813,2,    3.534,2,    1.769,2,2.807954820
  06MT19990813, AR25h,   532,  1,      7,2,19990820, 63.4652, -36.2985, 2011,   1700.8,   2.3676,  34.8688,2,  34.8687,2,    3.765,2,    1.894,2,2.250065450
  06MT19990813, AR25h,   532,  1,      6,2,19990820, 63.4652, -36.2985, 2011,   1803.2,   1.6326,  34.8617,2,     -999,9,     -999,9,     -999,9,1.516724810
  06MT19990813, AR25h,   532,  1,      5,2,19990820, 63.4652, -36.2985, 2011,   1802.8,   1.6353,  34.8618,2,  34.8613,2,    4.121,2,    2.075,2,1.519424750
  06MT19990813, AR25h,   532,  1,      4,2,19990820, 63.4652, -36.2985, 2011,   1900.5,   1.1511,  34.8553,2,  34.8547,2,    4.376,2,    2.189,2,1.034571520
  06MT19990813, AR25h,   532,  1,      3,2,19990820, 63.4652, -36.2985, 2011,   1951.4,   0.9340,  34.8505,2,     -999,9,     -999,9,     -999,9,0.816827663
  06MT19990813, AR25h,   532,  1,      2,2,19990820, 63.4652, -36.2985, 2011,   1951.7,   0.9389,  34.8507,2,  34.8499,2,    4.459,2,    2.247,2,0.821636004
  06MT19990813, AR25h,   532,  1,      1,2,19990820, 63.4652, -36.2985, 2011,   2003.1,   0.9324,  34.8504,2,  34.8492,2,    4.466,2,    2.234,2,0.811313781
  06MT19990813, AR25h,   533,  1,     20,2,19990820, 63.2997, -35.9485, 2312,     13.4,  10.4581,  35.0346,2,  35.0354,2,    4.114,2,    2.200,2,10.456513700
  06MT19990813, AR25h,   533,  1,     19,2,19990820, 63.2997, -35.9485, 2312,    201.4,   5.9476,  35.0384,2,  35.0382,2,    4.300,2,    2.196,2,5.930330650
  06MT19990813, AR25h,   533,  1,     18,2,19990820, 63.2997, -35.9485, 2312,    500.7,   4.5562,  34.9414,2,  34.9410,2,    4.069,2,    2.112,2,4.517662820
  06MT19990813, AR25h,   533,  1,     17,2,19990820, 63.2997, -35.9485, 2312,    802.7,   3.9892,  34.9253,2,  34.9242,2,    3.623,2,    1.810,2,3.929154290
  06MT19990813, AR25h,   533,  1,     16,2,19990820, 63.2997, -35.9485, 2312,   1001.3,   3.5603,  34.8944,2,  34.8945,2,    3.660,2,    1.817,2,3.487265520
  06MT19990813, AR25h,   533,  1,     15,2,19990820, 63.2997, -35.9485, 2312,   1101.9,   3.4662,  34.8944,2,  34.8944,2,     -999,9,     -999,9,3.385780820
  06MT19990813, AR25h,   533,  1,     14,2,19990820, 63.2997, -35.9485, 2312,   1202.4,   3.3612,  34.8890,2,  34.8895,2,    3.562,2,    1.776,2,3.273512180
  06MT19990813, AR25h,   533,  1,     13,2,19990820, 63.2997, -35.9485, 2312,   1302.1,   3.2601,  34.8828,2,  34.8832,2,    3.529,2,    1.773,2,3.165173950
  06MT19990813, AR25h,   533,  1,     12,2,19990820, 63.2997, -35.9485, 2312,   1402.0,   3.1605,  34.8745,2,     -999,9,     -999,9,     -999,9,3.058314520
  06MT19990813, AR25h,   533,  1,     11,2,19990820, 63.2997, -35.9485, 2312,   1401.9,   3.1597,  34.8743,2,  34.8743,2,    3.722,2,    1.840,2,3.057532770
  06MT19990813, AR25h,   533,  1,     10,2,19990820, 63.2997, -35.9485, 2312,   1503.2,   3.0790,  34.8667,2,  34.8672,2,    3.846,2,    1.857,2,2.969241340
  06MT19990813, AR25h,   533,  1,      9,2,19990820, 63.2997, -35.9485, 2312,   1602.2,   3.0650,  34.8713,2,  34.8701,2,    3.718,2,    1.843,2,2.946966340
  06MT19990813, AR25h,   533,  1,      8,2,19990820, 63.2997, -35.9485, 2312,   1752.1,   3.0186,  34.8823,2,     -999,9,     -999,9,     -999,9,2.888113140
  06MT19990813, AR25h,   533,  1,      7,2,19990820, 63.2997, -35.9485, 2312,   1752.3,   3.0171,  34.8820,2,  34.8823,2,    3.335,2,    1.687,2,2.886620740
  06MT19990813, AR25h,   533,  1,      6,2,19990820, 63.2997, -35.9485, 2312,   1901.7,   2.9417,  34.9002,2,  34.9001,2,    2.826,2,    1.416,2,2.798973690
  06MT19990813, AR25h,   533,  1,      5,2,19990820, 63.2997, -35.9485, 2312,   2050.8,   2.6645,  34.9008,2,  34.9009,2,    2.600,2,    1.307,2,2.512552080
  06MT19990813, AR25h,   533,  1,      4,2,19990820, 63.2997, -35.9485, 2312,   2151.9,   2.0183,  34.8552,2,  34.8552,2,    4.037,2,    2.043,2,1.867819500
  06MT19990813, AR25h,   533,  1,      3,2,19990820, 63.2997, -35.9485, 2312,   2252.4,   1.1251,  34.8434,2,     -999,9,     -999,9,     -999,9,0.981109787
  06MT19990813, AR25h,   533,  1,      2,2,19990820, 63.2997, -35.9485, 2312,   2252.0,   1.1198,  34.8428,2,  34.8430,2,    4.468,2,    2.280,2,0.975933327
  06MT19990813, AR25h,   533,  1,      1,2,19990820, 63.2997, -35.9485, 2312,   2305.7,   0.8990,  34.8519,2,  34.8518,2,    4.469,2,    2.269,2,0.754555777