BOTTLE,20220926CCHSIOCBG
EXPOCODE,SECT_ID,STNNBR,CASTNO,BTLNBR,BTLNBR_FLAG_W,DATE,LATITUDE,LONGITUDE,DEPTH,CTDPRS,CTDTMP,CTDSAL,CTDSAL_FLAG_W,SALNTY,SALNTY_FLAG_W,CFC-11,CFC-11_FLAG_W,CFC-12,CFC-12_FLAG_W,THETA
,,,,,,,,,METERS,DBAR,ITS-90,PSS-78,,PSS-78,,PMOL/KG,,PMOL/KG,,DEG C
  06MT19990813, AR25h,   534,  1,     20,2,19990820, 63.0360, -35.4623, 2655,     12.7,  10.4402,  34.9543,2,  34.9553,2,    4.077,2,    2.191,2,10.438699800
  06MT19990813, AR25h,   534,  1,     19,2,19990820, 63.0360, -35.4623, 2655,    400.7,   5.1688,  34.9824,2,  34.9824,2,    4.198,2,    2.182,2,5.136320470
  06MT19990813, AR25h,   534,  1,     18,2,19990820, 63.0360, -35.4623, 2655,    901.8,   3.7573,  34.8953,2,     -999,9,     -999,9,     -999,9,3.690829000
  06MT19990813, AR25h,   534,  1,     17,2,19990820, 63.0360, -35.4623, 2655,    901.9,   3.7569,  34.8949,2,  34.8973,2,    3.734,2,    1.865,2,3.690417480
  06MT19990813, AR25h,   534,  1,     16,2,19990820, 63.0360, -35.4623, 2655,   1202.4,   3.5026,  34.8972,2,  34.8976,2,    3.526,2,    1.751,2,3.413587640
  06MT19990813, AR25h,   534,  1,     15,2,19990820, 63.0360, -35.4623, 2655,   1402.6,   3.3247,  34.8884,2,  34.8886,2,    3.607,2,    1.817,2,3.220675850
  06MT19990813, AR25h,   534,  1,     14,2,19990820, 63.0360, -35.4623, 2655,   1548.8,   3.2235,  34.8810,2,     -999,9,     -999,9,     -999,9,3.108128220
  06MT19990813, AR25h,   534,  1,     13,2,19990820, 63.0360, -35.4623, 2655,   1551.8,   3.2214,  34.8809,2,  34.8816,2,    3.709,2,    1.816,2,3.105791950
  06MT19990813, AR25h,   534,  1,     12,2,19990820, 63.0360, -35.4623, 2655,   1702.0,   3.1236,  34.8730,2,  34.8732,2,    3.771,2,    1.837,2,2.996162410
  06MT19990813, AR25h,   534,  1,     11,2,19990820, 63.0360, -35.4623, 2655,   1801.6,   3.0361,  34.8650,2,     -999,9,     -999,9,     -999,9,2.901065990
  06MT19990813, AR25h,   534,  1,     10,2,19990820, 63.0360, -35.4623, 2655,   1801.8,   3.0352,  34.8648,2,  34.8656,2,    3.781,2,    1.876,2,2.900157840
  06MT19990813, AR25h,   534,  1,      9,2,19990820, 63.0360, -35.4623, 2655,   1951.2,   3.0484,  34.8767,2,  34.8775,2,    3.496,2,    1.707,2,2.899740770
  06MT19990813, AR25h,   534,  1,      8,2,19990820, 63.0360, -35.4623, 2655,   2102.4,   3.0768,  34.8960,2,     -999,9,     -999,9,     -999,9,2.913750630
  06MT19990813, AR25h,   534,  1,      7,2,19990820, 63.0360, -35.4623, 2655,   2101.2,   3.0768,  34.8956,2,  34.8957,2,    2.893,2,    1.443,2,2.913856930
  06MT19990813, AR25h,   534,  1,      6,2,19990820, 63.0360, -35.4623, 2655,   2251.2,   2.9332,  34.9083,2,  34.9085,2,    2.474,2,    1.230,2,2.758483000
  06MT19990813, AR25h,   534,  1,      5,2,19990820, 63.0360, -35.4623, 2655,   2401.8,   2.2351,  34.8705,2,  34.8706,2,    3.726,2,    1.859,2,2.058589910
  06MT19990813, AR25h,   534,  1,      4,2,19990820, 63.0360, -35.4623, 2655,   2501.2,   1.2693,  34.8555,2,  34.8551,2,    4.316,2,    2.173,2,1.101696200
  06MT19990813, AR25h,   534,  1,      3,2,19990820, 63.0360, -35.4623, 2655,   2600.7,   1.0057,  34.8525,2,     -999,9,     -999,9,     -999,9,0.834563387
  06MT19990813, AR25h,   534,  1,      2,2,19990820, 63.0360, -35.4623, 2655,   2601.0,   1.0052,  34.8526,2,  34.8526,2,    4.514,2,    2.274,2,0.834045952
  06MT19990813, AR25h,   534,  1,      1,2,19990820, 63.0360, -35.4623, 2655,   2654.6,   0.7903,  34.8546,2,  34.8541,2,    4.558,2,    2.302,2,0.618770224
  06MT19990813, AR25h,   535,  1,     24,2,19990820, 62.7683, -34.9560, 2777,     11.8,  10.3240,  34.9659,2,     -999,9,     -999,9,     -999,9,10.322616000
  06MT19990813, AR25h,   535,  1,     23,2,19990820, 62.7683, -34.9560, 2777,     11.7,  10.3250,  34.9659,2,     -999,9,     -999,9,     -999,9,10.323627700
  06MT19990813, AR25h,   535,  1,     22,2,19990820, 62.7683, -34.9560, 2777,     11.3,  10.3250,  34.9659,2,     -999,9,     -999,9,     -999,9,10.323674600
  06MT19990813, AR25h,   535,  1,     21,2,19990820, 62.7683, -34.9560, 2777,     11.4,  10.3260,  34.9629,2,     -999,9,     -999,9,     -999,9,10.324662900
  06MT19990813, AR25h,   535,  1,     20,2,19990820, 62.7683, -34.9560, 2777,     11.6,  10.3173,  34.9677,2,  34.9686,2,    3.994,2,    2.189,2,10.315945900
  06MT19990813, AR25h,   535,  1,     19,2,19990820, 62.7683, -34.9560, 2777,    151.3,   6.4529,  35.0806,2,  35.0808,2,    4.173,2,    2.220,2,6.439382980
  06MT19990813, AR25h,   535,  1,     18,2,19990820, 62.7683, -34.9560, 2777,    402.6,   4.9040,  34.9602,2,  34.9602,2,    4.291,2,    2.256,2,4.872202150
  06MT19990813, AR25h,   535,  1,     17,2,19990820, 62.7683, -34.9560, 2777,    701.5,   3.9176,  34.8920,2,  34.8924,2,     -999,9,     -999,9,3.866091510
  06MT19990813, AR25h,   535,  1,     16,2,19990820, 62.7683, -34.9560, 2777,   1001.2,   3.5635,  34.8904,2,  34.8902,2,    3.733,2,    1.853,2,3.490457650
  06MT19990813, AR25h,   535,  1,     15,2,19990820, 62.7683, -34.9560, 2777,   1151.1,   3.3935,  34.8815,2,  34.8817,2,    3.649,2,    1.821,2,3.309730860
  06MT19990813, AR25h,   535,  1,     14,2,19990820, 62.7683, -34.9560, 2777,   1301.2,   3.3816,  34.8934,2,  34.8937,2,    3.488,2,    1.702,2,3.285514500
  06MT19990813, AR25h,   535,  1,     13,2,19990820, 62.7683, -34.9560, 2777,   1451.2,   3.2434,  34.8806,2,  34.8810,2,    3.623,2,    1.786,2,3.136153720
  06MT19990813, AR25h,   535,  1,     12,2,19990820, 62.7683, -34.9560, 2777,   1601.4,   3.1328,  34.8716,2,  34.8719,2,    3.750,2,    1.832,2,3.014004040
  06MT19990813, AR25h,   535,  1,     11,2,19990820, 62.7683, -34.9560, 2777,   1750.6,   3.0431,  34.8624,2,  34.8625,2,    3.928,2,    1.898,2,2.912478940
  06MT19990813, AR25h,   535,  1,     10,2,19990820, 62.7683, -34.9560, 2777,   1903.6,   3.0143,  34.8625,2,  34.8625,2,    3.799,2,    1.846,2,2.870484250
  06MT19990813, AR25h,   535,  1,      9,2,19990820, 62.7683, -34.9560, 2777,   2051.0,   3.0607,  34.8776,2,  34.8772,2,    3.407,2,    1.657,2,2.902723480
  06MT19990813, AR25h,   535,  1,      8,2,19990820, 62.7683, -34.9560, 2777,   2261.4,   3.0249,  34.8895,2,  34.8908,2,    3.156,2,    1.539,2,2.847744940
  06MT19990813, AR25h,   535,  1,      7,2,19990820, 62.7683, -34.9560, 2777,   2392.4,   2.9769,  34.9050,2,  34.9052,2,    2.563,2,    1.272,2,2.787961860
  06MT19990813, AR25h,   535,  1,      6,2,19990820, 62.7683, -34.9560, 2777,   2501.4,   2.5117,  34.8705,2,  34.8715,2,    3.756,2,    1.880,2,2.320855560
  06MT19990813, AR25h,   535,  1,      5,2,19990820, 62.7683, -34.9560, 2777,   2601.6,   1.9202,  34.8586,2,  34.8590,2,    4.069,2,    2.053,2,1.731194980
  06MT19990813, AR25h,   535,  1,      4,2,19990820, 62.7683, -34.9560, 2777,   2681.0,   1.2857,  34.8395,2,  34.8392,2,    4.562,2,    2.313,2,1.102030730
  06MT19990813, AR25h,   535,  1,      3,2,19990820, 62.7683, -34.9560, 2777,   2715.7,   1.1812,  34.8647,2,  34.8639,2,     -999,9,     -999,9,0.996421727
  06MT19990813, AR25h,   535,  1,      2,2,19990820, 62.7683, -34.9560, 2777,   2715.8,   1.1809,  34.8646,2,  34.8644,2,    4.299,2,    2.189,2,0.996118385
  06MT19990813, AR25h,   535,  1,      1,2,19990820, 62.7683, -34.9560, 2777,   2765.6,   0.7969,  34.8505,2,  34.8507,2,    4.580,2,    2.324,2,0.615646078
  06MT19990813, AR25h,   536,  1,     23,2,19990820, 62.5037, -34.4657, 2839,      3.9,  10.5730,  34.9798,2,     -999,9,     -999,9,     -999,9,10.572535600
  06MT19990813, AR25h,   536,  1,     22,2,19990820, 62.5037, -34.4657, 2839,     11.8,  10.5730,  34.9818,2,     -999,9,     -999,9,     -999,9,10.571594300
  06MT19990813, AR25h,   536,  1,     21,2,19990820, 62.5037, -34.4657, 2839,     15.1,  10.5760,  34.9798,2,     -999,9,     -999,9,     -999,9,10.574200600
  06MT19990813, AR25h,   536,  1,     20,2,19990820, 62.5037, -34.4657, 2839,     14.8,  10.5751,  34.9823,2,  34.9835,2,    3.964,2,    2.158,2,10.573336400
  06MT19990813, AR25h,   536,  1,     19,2,19990820, 62.5037, -34.4657, 2839,    252.3,   5.7885,  35.0010,2,  35.0006,2,    4.259,2,    2.199,2,5.767104940
  06MT19990813, AR25h,   536,  1,     18,2,19990820, 62.5037, -34.4657, 2839,    502.0,   4.5924,  34.9331,2,  34.9321,2,    4.285,2,    2.173,2,4.553618270
  06MT19990813, AR25h,   536,  1,     17,2,19990820, 62.5037, -34.4657, 2839,    751.9,   3.9641,  34.8984,2,  34.8984,2,    4.196,2,    2.158,2,3.908322450
  06MT19990813, AR25h,   536,  1,     16,2,19990820, 62.5037, -34.4657, 2839,   1001.6,   3.5959,  34.8878,2,  34.8877,2,    3.673,2,    1.863,2,3.522573700
  06MT19990813, AR25h,   536,  1,     15,2,19990820, 62.5037, -34.4657, 2839,   1201.4,   3.4108,  34.8841,2,  34.8838,2,    3.663,2,    1.838,2,3.322746400
  06MT19990813, AR25h,   536,  1,     14,2,19990820, 62.5037, -34.4657, 2839,   1351.5,   3.3263,  34.8829,2,     -999,9,     -999,9,     -999,9,3.226579670
  06MT19990813, AR25h,   536,  1,     13,2,19990820, 62.5037, -34.4657, 2839,   1351.8,   3.3260,  34.8828,2,  34.8829,2,    3.562,2,    1.782,2,3.226256720
  06MT19990813, AR25h,   536,  1,     12,2,19990820, 62.5037, -34.4657, 2839,   1502.2,   3.1958,  34.8727,2,  34.8734,2,    3.650,2,    1.831,2,3.084766720
  06MT19990813, AR25h,   536,  1,     11,2,19990820, 62.5037, -34.4657, 2839,   1652.2,   3.1167,  34.8673,2,  34.8679,2,    3.776,2,    1.877,2,2.993716480
  06MT19990813, AR25h,   536,  1,     10,2,19990820, 62.5037, -34.4657, 2839,   1800.6,   3.0490,  34.8614,2,  34.8618,2,    3.864,2,    1.894,2,2.913888810
  06MT19990813, AR25h,   536,  1,      9,2,19990820, 62.5037, -34.4657, 2839,   1950.9,   3.0193,  34.8620,2,  34.8642,2,    3.953,2,    2.022,2,2.871143880
  06MT19990813, AR25h,   536,  1,      8,2,19990820, 62.5037, -34.4657, 2839,   2101.6,   3.0700,  34.8802,2,  34.8802,2,    3.379,2,    1.683,2,2.907184280
  06MT19990813, AR25h,   536,  1,      7,2,19990820, 62.5037, -34.4657, 2839,   2300.6,   3.0914,  34.9031,2,  34.9036,2,    2.672,2,    1.339,2,2.909331260
  06MT19990813, AR25h,   536,  1,      6,2,19990820, 62.5037, -34.4657, 2839,   2499.7,   2.9750,  34.9123,2,  34.9127,2,    2.352,2,    1.166,2,2.775627060
  06MT19990813, AR25h,   536,  1,      5,2,19990820, 62.5037, -34.4657, 2839,   2601.6,   2.8280,  34.9086,2,  34.9088,2,    2.407,2,    1.192,2,2.621379260
  06MT19990813, AR25h,   536,  1,      4,2,19990820, 62.5037, -34.4657, 2839,   2701.3,   2.4684,  34.8860,2,  34.8596,2,    3.151,2,    1.568,2,2.259209120
  06MT19990813, AR25h,   536,  1,      3,2,19990820, 62.5037, -34.4657, 2839,   2791.4,   1.7827,  34.8594,2,     -999,9,     -999,9,     -999,9,1.578716030
  06MT19990813, AR25h,   536,  1,      2,2,19990820, 62.5037, -34.4657, 2839,   2791.7,   1.7755,  34.8596,2,  34.8599,2,    3.906,2,    1.958,2,1.571631750
  06MT19990813, AR25h,   536,  1,      1,2,19990820, 62.5037, -34.4657, 2839,   2843.2,   1.1274,  34.8580,2,  34.8583,2,    4.351,2,    2.183,2,0.932285472
  06MT19990813, AR25h,   537,  1,     20,2,19990821, 61.6773, -36.4470, 2768,     11.8,  10.1331,  34.8689,2,  34.8696,2,    4.006,2,    2.200,2,10.131733100
  06MT19990813, AR25h,   537,  1,     19,2,19990821, 61.6773, -36.4470, 2768,    400.6,   4.4884,  34.9344,2,  34.9352,2,    4.112,2,    2.148,2,4.458083810
  06MT19990813, AR25h,   537,  1,     18,2,19990821, 61.6773, -36.4470, 2768,    798.8,   3.6323,  34.8828,2,     -999,9,     -999,9,     -999,9,3.574845950
  06MT19990813, AR25h,   537,  1,     17,2,19990821, 61.6773, -36.4470, 2768,    798.8,   3.6339,  34.8832,2,  34.8828,2,    3.832,2,    1.926,2,3.576428180
  06MT19990813, AR25h,   537,  1,     16,2,19990821, 61.6773, -36.4470, 2768,   1102.5,   3.3966,  34.8829,2,  34.8831,2,    3.597,2,    1.813,2,3.316750370
  06MT19990813, AR25h,   537,  1,     15,2,19990821, 61.6773, -36.4470, 2768,   1301.4,   3.2739,  34.8795,2,  34.8797,2,    3.570,2,    1.776,2,3.178901700
  06MT19990813, AR25h,   537,  1,     14,2,19990821, 61.6773, -36.4470, 2768,   1501.0,   3.1872,  34.8768,2,     -999,9,     -999,9,     -999,9,3.076361480
  06MT19990813, AR25h,   537,  1,     13,2,19990821, 61.6773, -36.4470, 2768,   1501.2,   3.1888,  34.8773,2,  34.8770,2,    3.617,2,    1.798,2,3.077926480
  06MT19990813, AR25h,   537,  1,     12,2,19990821, 61.6773, -36.4470, 2768,   1653.0,   3.0880,  34.8667,2,  34.8674,2,    3.701,2,    1.866,2,2.965309000
  06MT19990813, AR25h,   537,  1,     11,2,19990821, 61.6773, -36.4470, 2768,   1849.4,   3.0232,  34.8620,2,  34.8620,2,    3.959,2,    1.872,2,2.884106200
  06MT19990813, AR25h,   537,  1,     10,2,19990821, 61.6773, -36.4470, 2768,   1950.9,   3.0393,  34.8701,2,     -999,9,     -999,9,     -999,9,2.890831330
  06MT19990813, AR25h,   537,  1,      9,2,19990821, 61.6773, -36.4470, 2768,   1950.0,   3.0435,  34.8716,2,  34.8719,2,    3.522,2,    1.759,2,2.895047550
  06MT19990813, AR25h,   537,  1,      8,2,19990821, 61.6773, -36.4470, 2768,   2100.9,   3.0686,  34.8867,2,  34.8866,2,    3.159,2,    1.538,2,2.905846450
  06MT19990813, AR25h,   537,  1,      7,2,19990821, 61.6773, -36.4470, 2768,   2302.0,   3.0314,  34.9017,2,     -999,9,     -999,9,     -999,9,2.850225200
  06MT19990813, AR25h,   537,  1,      6,2,19990821, 61.6773, -36.4470, 2768,   2300.5,   3.0286,  34.9014,2,  34.9018,2,    2.630,2,    1.326,2,2.847615920
  06MT19990813, AR25h,   537,  1,      5,2,19990821, 61.6773, -36.4470, 2768,   2450.4,   2.7825,  34.8974,2,  34.8975,2,    2.730,2,    1.399,2,2.591473730
  06MT19990813, AR25h,   537,  1,      4,2,19990821, 61.6773, -36.4470, 2768,   2600.7,   1.9796,  34.8603,2,  34.8597,2,    3.739,2,    1.898,2,1.789528940
  06MT19990813, AR25h,   537,  1,      3,2,19990821, 61.6773, -36.4470, 2768,   2705.7,   1.1894,  34.8597,2,     -999,9,     -999,9,     -999,9,1.005365940
  06MT19990813, AR25h,   537,  1,      2,2,19990821, 61.6773, -36.4470, 2768,   2705.3,   1.1500,  34.8590,2,  34.8584,2,    4.231,2,    2.151,2,0.966803100
  06MT19990813, AR25h,   537,  1,      1,2,19990821, 61.6773, -36.4470, 2768,   2757.3,   0.8357,  34.8682,2,  34.8679,2,    4.219,2,    2.114,2,0.654286450
  06MT19990813, AR25h,   538,  1,     20,2,19990821, 61.8157, -36.8933, 2687,     14.2,  10.1227,  34.8575,2,  34.8577,2,    4.104,2,    2.204,2,10.121057600
  06MT19990813, AR25h,   538,  1,     19,2,19990821, 61.8157, -36.8933, 2687,    252.0,   4.5768,  34.9295,2,  34.9295,2,    4.156,2,    2.169,2,4.557834990
  06MT19990813, AR25h,   538,  1,     18,2,19990821, 61.8157, -36.8933, 2687,    500.5,   3.9258,  34.8928,2,  34.8917,2,    4.393,2,    2.288,2,3.889786030
  06MT19990813, AR25h,   538,  1,     17,2,19990821, 61.8157, -36.8933, 2687,    801.9,   3.5654,  34.8813,2,  34.8814,2,    3.782,2,    1.888,2,3.508118770
  06MT19990813, AR25h,   538,  1,     16,2,19990821, 61.8157, -36.8933, 2687,   1051.1,   3.5035,  34.9022,2,  34.9022,2,    3.405,2,    1.710,2,3.426882810
  06MT19990813, AR25h,   538,  1,     15,2,19990821, 61.8157, -36.8933, 2687,   1302.8,   3.2745,  34.8850,2,     -999,9,     -999,9,     -999,9,3.179374650
  06MT19990813, AR25h,   538,  1,     14,2,19990821, 61.8157, -36.8933, 2687,   1302.3,   3.2747,  34.8850,2,  34.8847,2,    3.564,2,    1.769,2,3.179611460
  06MT19990813, AR25h,   538,  1,     13,2,19990821, 61.8157, -36.8933, 2687,   1502.8,   3.1169,  34.8699,2,  34.8697,2,    3.738,2,    1.833,2,3.006727350
  06MT19990813, AR25h,   538,  1,     12,2,19990821, 61.8157, -36.8933, 2687,   1652.4,   3.0495,  34.8650,2,  34.8653,2,    3.735,2,    1.832,2,2.927348710
  06MT19990813, AR25h,   538,  1,     11,2,19990821, 61.8157, -36.8933, 2687,   1776.4,   3.0303,  34.8671,2,     -999,9,     -999,9,     -999,9,2.897569890
  06MT19990813, AR25h,   538,  1,     10,2,19990821, 61.8157, -36.8933, 2687,   1776.6,   3.0300,  34.8670,2,  34.8670,2,    3.659,2,    1.814,2,2.897255710
  06MT19990813, AR25h,   538,  1,      9,2,19990821, 61.8157, -36.8933, 2687,   1951.0,   3.0569,  34.8820,2,  34.8817,2,    3.235,2,    1.624,2,2.908123790
  06MT19990813, AR25h,   538,  1,      8,2,19990821, 61.8157, -36.8933, 2687,   2101.7,   3.0622,  34.8975,2,  34.8976,2,    2.788,2,    1.427,2,2.899434190
  06MT19990813, AR25h,   538,  1,      7,2,19990821, 61.8157, -36.8933, 2687,   2300.5,   2.8712,  34.9009,2,     -999,9,     -999,9,     -999,9,2.692897660
  06MT19990813, AR25h,   538,  1,      6,2,19990821, 61.8157, -36.8933, 2687,   2300.2,   2.8715,  34.9008,2,  34.8994,2,    2.749,2,    1.397,2,2.693226570
  06MT19990813, AR25h,   538,  1,      5,2,19990821, 61.8157, -36.8933, 2687,   2449.0,   2.6022,  34.8943,2,  34.8923,2,    2.781,2,    1.419,2,2.414589330
  06MT19990813, AR25h,   538,  1,      4,2,19990821, 61.8157, -36.8933, 2687,   2551.3,   2.0048,  34.8614,2,  34.8621,2,    3.783,2,    1.903,2,1.818810020
  06MT19990813, AR25h,   538,  1,      3,2,19990821, 61.8157, -36.8933, 2687,   2631.7,   1.4067,  34.8580,2,     -999,9,     -999,9,     -999,9,1.224953290
  06MT19990813, AR25h,   538,  1,      2,2,19990821, 61.8157, -36.8933, 2687,   2632.3,   1.4046,  34.8588,2,  34.8576,2,    4.172,2,    2.102,2,1.222847090
  06MT19990813, AR25h,   538,  1,      1,2,19990821, 61.8157, -36.8933, 2687,   2686.2,   0.8863,  34.8612,2,  34.8607,2,    4.304,2,    2.166,2,0.710085963