BOTTLE,20220922CCHSIOAMB
EXPOCODE,SECT_ID,STNNBR,CASTNO,SAMPNO,BTLNBR,BTLNBR_FLAG_W,DATE,TIME,LATITUDE,LONGITUDE,DEPTH,CTDPRS,CTDTMP,CTDSAL,CTDSAL_FLAG_W,SALNTY,SALNTY_FLAG_W,OXYGEN,OXYGEN_FLAG_W,SILCAT,SILCAT_FLAG_W,NITRAT,NITRAT_FLAG_W,NITRIT,NITRIT_FLAG_W,PHSPHT,PHSPHT_FLAG_W,TCARBN,TCARBN_FLAG_W,FCO2,FCO2_FLAG_W,FCO2TMP,DELC14,DELC14_FLAG_W,C14ERR,DELC13,DELC13_FLAG_W,THETA,BTL_DATE,BTL_TIME
,,,,,,,,,,,METERS,DBAR,ITS-90,PSS-78,,PSS-78,,UMOL/KG,,UMOL/KG,,UMOL/KG,,UMOL/KG,,UMOL/KG,,UMOL/KG,,UATM,,DEG C,/MILLE,,/MILLE,/MILLE,,DEG C,,
  33LG20060321,  SR01,     7,  1,    118,      1,2,20060324,0638,-57.1320, -64.2530, 3998,   3845.9,   0.8600,  34.7120,2,  34.7130,2,    213.7,2,   123.66,2,    29.83,2,     0.02,2,     2.19,2,   2263.1,2,    502.4,2,     0.86,   -999.0,9,   -999.0,     0.42,2,   0.5750,20060324,0638
  33LG20060321,  SR01,     7,  1,    119,      2,2,20060324,0638,-57.1320, -64.2530, 3998,   3561.3,   0.8800,  34.7140,2,  34.7170,2,    211.7,2,   121.11,2,    29.93,2,     0.02,2,     2.24,2,   -999.0,9,   -999.0,9,     -999,   -999.0,9,   -999.0,  -999.00,9,   0.6232,20060324,0649
  33LG20060321,  SR01,     7,  1,    120,      3,2,20060324,0638,-57.1320, -64.2530, 3998,   3051.2,   1.0800,  34.7200,2,  34.7290,2,    206.4,2,   113.22,2,    30.61,2,     0.02,2,     2.19,2,   2262.4,2,    502.1,2,     1.08,   -999.0,9,   -999.0,  -999.00,9,   0.8674,20060324,0702
  33LG20060321,  SR01,     7,  1,    121,      4,2,20060324,0638,-57.1320, -64.2530, 3998,   2540.1,   1.4300,  34.7270,2,  34.7340,2,    198.7,2,   106.87,2,    29.93,2,     0.02,2,     2.16,2,   -999.0,9,   -999.0,9,     -999,   -999.0,9,   -999.0,  -999.00,9,   1.2565,20060324,0713
  33LG20060321,  SR01,     7,  1,    122,      5,2,20060324,0638,-57.1320, -64.2530, 3998,   2029.8,   1.7800,  34.7200,2,  34.7340,2,    187.6,2,  -999.00,9,  -999.00,9,  -999.00,9,  -999.00,9,   -999.0,9,   -999.0,9,     -999,   -999.0,9,   -999.0,  -999.00,9,   1.6441,20060324,0725
  33LG20060321,  SR01,     7,  1,    123,      6,2,20060324,0638,-57.1320, -64.2530, 3998,   1517.0,   2.1000,  34.6860,2,  34.6940,2,    180.1,2,  -999.00,9,  -999.00,9,  -999.00,9,  -999.00,9,   2263.0,2,    559.8,2,      2.1,   -999.0,9,   -999.0,     0.39,2,   2.0009,20060324,0738
  33LG20060321,  SR01,     7,  1,    124,      7,2,20060324,0638,-57.1320, -64.2530, 3998,   1010.9,   2.3800,  34.5770,2,  34.5870,2,    176.7,2,    65.43,2,    31.38,2,     0.02,2,     2.34,2,   -999.0,9,   -999.0,9,     -999,   -999.0,9,   -999.0,  -999.00,9,   2.3160,20060324,0748
  33LG20060321,  SR01,     7,  1,    125,      8,2,20060324,0638,-57.1320, -64.2530, 3998,    811.0,   2.5600,  34.5010,2,-999.0000,9,    181.1,2,    59.50,2,    31.85,2,     0.02,2,     2.38,2,   2249.0,2,    598.4,2,     2.56,   -999.0,9,   -999.0,     0.47,2,   2.5090,20060324,0754
  33LG20060321,  SR01,     7,  1,    126,      9,2,20060324,0638,-57.1320, -64.2530, 3998,    603.9,   2.6400,  34.3620,2,  34.3720,2,    204.7,2,    46.29,2,    31.22,2,     0.02,2,     2.35,2,   -999.0,9,   -999.0,9,     -999,   -999.0,9,   -999.0,  -999.00,9,   2.6028,20060324,0759
  33LG20060321,  SR01,     7,  1,    127,     10,2,20060324,0638,-57.1320, -64.2530, 3998,    502.8,   2.8100,  34.3280,2,  34.3390,2,    212.8,2,  -999.00,9,  -999.00,9,  -999.00,9,  -999.00,9,   2216.3,2,    552.8,2,     2.81,   -999.0,9,   -999.0,     0.57,2,   2.7787,20060324,0802
  33LG20060321,  SR01,     7,  1,    128,     11,2,20060324,0638,-57.1320, -64.2530, 3998,    403.1,   2.7700,  34.2630,2,  34.2710,2,    233.1,2,    33.42,2,    29.61,2,     0.06,2,     2.17,2,   -999.0,9,   -999.0,9,     -999,   -999.0,9,   -999.0,  -999.00,9,   2.7454,20060324,0805
  33LG20060321,  SR01,     7,  1,    129,     12,2,20060324,0638,-57.1320, -64.2530, 3998,    302.0,   1.7600,  34.0830,2,-999.0000,9,    295.6,2,    22.67,2,    28.03,2,     0.03,2,     1.96,2,   2173.8,2,    441.4,2,     1.76,   -999.0,9,   -999.0,  -999.00,9,   1.7444,20060324,0809
  33LG20060321,  SR01,     7,  1,    130,     13,2,20060324,0638,-57.1320, -64.2530, 3998,    203.1,   1.4800,  33.9930,2,  33.9920,2,    325.8,2,    16.91,2,    26.23,2,     0.07,2,     1.90,2,   2155.9,2,    402.8,2,     1.48,   -999.0,9,   -999.0,     1.24,2,   1.4702,20060324,0813
  33LG20060321,  SR01,     7,  1,    131,     14,2,20060324,0638,-57.1320, -64.2530, 3998,    152.3,   1.9500,  33.9790,2,  33.9850,2,    333.7,2,    15.84,2,    25.20,2,     0.38,2,     1.80,2,   -999.0,9,   -999.0,9,     -999,   -999.0,9,   -999.0,  -999.00,9,   1.9421,20060324,0815
  33LG20060321,  SR01,     7,  1,    132,     15,2,20060324,0638,-57.1320, -64.2530, 3998,    101.1,   3.8400,  33.9080,2,  33.9250,2,    322.7,2,     7.42,2,    21.99,2,     0.30,2,     1.80,2,   2134.6,2,    387.3,2,     3.84,   -999.0,9,   -999.0,  -999.00,9,   3.8333,20060324,0817
  33LG20060321,  SR01,     7,  1,    133,     16,2,20060324,0638,-57.1320, -64.2530, 3998,     73.0,   5.6000,  33.9070,2,  33.9090,2,    311.8,2,     2.21,2,    20.63,2,     0.27,2,     1.50,2,   2114.0,2,    376.5,2,      5.6,   -999.0,9,   -999.0,  -999.00,9,   5.5941,20060324,0819
  33LG20060321,  SR01,     7,  1,    134,     17,2,20060324,0638,-57.1320, -64.2530, 3998,     51.3,   6.3000,  33.9100,2,  33.9140,2,    310.0,2,     1.30,2,    19.83,2,     0.27,2,     1.47,2,   2107.5,2,    399.5,2,      6.3,   -999.0,9,   -999.0,     1.72,2,   6.2956,20060324,0821
  33LG20060321,  SR01,     7,  1,    135,     18,2,20060324,0638,-57.1320, -64.2530, 3998,     24.5,   6.3300,  33.9100,2,  33.9120,2,    306.1,2,     1.99,2,    20.38,2,     0.27,2,     1.44,2,   2107.7,2,    372.5,2,     6.33,   -999.0,9,   -999.0,  -999.00,9,   6.3279,20060324,0822
  33LG20060321,  SR01,     7,  1,    136,     19,2,20060324,0638,-57.1320, -64.2530, 3998,      9.1,   6.3200,  33.9100,2,  33.9090,2,    305.2,2,     2.28,2,    18.98,2,     0.27,2,     1.44,2,   -999.0,9,   -999.0,9,     -999,   -999.0,9,   -999.0,  -999.00,9,   6.3192,20060324,0823
  33LG20060321,  SR01,     7,  1,    137,     20,2,20060324,0638,-57.1320, -64.2530, 3998,      6.0,   6.3300,  33.9080,2,  33.9110,2,    306.6,2,     1.19,2,    19.39,2,     0.27,2,     1.50,2,   2107.9,2,    373.9,2,     6.33,   -999.0,9,   -999.0,     1.46,2,   6.3295,20060324,0824
  33LG20060321,  SR01,     7,  1,    138,     21,2,20060324,0638,-57.1320, -64.2530, 3998,      6.9,   6.3300,  33.9090,2,  33.9100,2,    305.7,2,     1.02,2,    15.65,2,     0.22,2,     1.24,2,   -999.0,9,   -999.0,9,     -999,   -999.0,9,   -999.0,  -999.00,9,   6.3294,20060324,0824
  33LG20060321,  SR01,     9,  1,    140,      1,2,20060325,1222,-57.8390, -64.0230, 4467,   4456.7,   0.8100,  34.7110,2,  34.7090,2,    214.4,2,   123.56,2,    28.20,2,     0.02,2,     2.21,2,   2264.6,2,    504.6,2,     0.81,   -999.0,9,   -999.0,     0.45,2,   0.4611,20060325,1222
  33LG20060321,  SR01,     9,  1,    141,      2,2,20060325,1222,-57.8390, -64.0230, 4467,   4076.8,   0.9600,  34.7160,2,  34.7220,2,    211.5,2,   116.75,2,    29.05,2,     0.02,2,     2.13,2,   -999.0,9,   -999.0,9,     -999,   -999.0,9,   -999.0,  -999.00,9,   0.6479,20060325,1233
  33LG20060321,  SR01,     9,  1,    142,      3,2,20060325,1222,-57.8390, -64.0230, 4467,   3562.6,   1.0500,  34.7190,2,  34.7200,2,    208.6,2,   112.86,2,    29.32,2,     0.16,2,     2.26,2,   2257.1,2,    502.3,2,     1.05,   -999.0,9,   -999.0,  -999.00,9,   0.7887,20060325,1245
  33LG20060321,  SR01,     9,  1,    143,      4,2,20060325,1222,-57.8390, -64.0230, 4467,   3046.9,   1.2500,  34.7260,2,  34.7230,2,    204.6,2,   103.13,2,    29.05,2,     0.03,2,     2.20,2,   -999.0,9,   -999.0,9,     -999,   -999.0,9,   -999.0,  -999.00,9,   1.0340,20060325,1256
  33LG20060321,  SR01,     9,  1,    144,      5,2,20060325,1222,-57.8390, -64.0230, 4467,   2536.9,   1.5700,  34.7290,2,  34.7270,2,    195.9,2,   101.19,2,    28.78,2,     0.02,2,     2.10,2,   -999.0,9,   -999.0,9,     -999,   -999.0,9,   -999.0,  -999.00,9,   1.3941,20060325,1307
  33LG20060321,  SR01,     9,  1,    145,      6,2,20060325,1222,-57.8390, -64.0230, 4467,   2027.9,   1.9300,  34.7170,2,  34.7160,2,    186.0,2,    92.82,2,    29.38,2,     0.02,2,     2.12,2,   2264.3,2,    537.9,2,     1.93,   -999.0,9,   -999.0,     0.17,2,   1.7920,20060325,1318
  33LG20060321,  SR01,     9,  1,    146,      7,2,20060325,1222,-57.8390, -64.0230, 4467,   1517.4,   2.2400,  34.6650,2,  34.6690,2,    179.5,2,    70.55,2,    29.84,2,     0.02,2,     2.12,2,   -999.0,9,   -999.0,9,     -999,   -999.0,9,   -999.0,  -999.00,9,   2.1393,20060325,1330
  33LG20060321,  SR01,     9,  1,    147,      8,2,20060325,1222,-57.8390, -64.0230, 4467,   1011.9,   2.6100,  34.5030,2,  34.5040,2,    181.1,2,    59.07,2,    31.87,2,     0.02,2,     2.23,2,   -999.0,9,   -999.0,9,     -999,   -999.0,9,   -999.0,  -999.00,9,   2.5443,20060325,1341
  33LG20060321,  SR01,     9,  1,    148,      9,2,20060325,1222,-57.8390, -64.0230, 4467,    809.7,   2.8700,  34.4140,2,  34.4140,2,    193.0,2,    50.03,2,    31.19,2,     0.02,2,     2.22,2,   -999.0,9,   -999.0,9,     -999,   -999.0,9,   -999.0,  -999.00,9,   2.8172,20060325,1346
  33LG20060321,  SR01,     9,  1,    149,     10,2,20060325,1222,-57.8390, -64.0230, 4467,    606.2,   3.2100,  34.2950,2,  34.2960,2,    220.0,2,    36.50,2,    29.17,2,     0.02,2,     2.09,2,   2208.4,2,    546.7,2,     3.21,   -999.0,9,   -999.0,     0.80,2,   3.1699,20060325,1350
  33LG20060321,  SR01,     9,  1,    150,     11,2,20060325,1222,-57.8390, -64.0230, 4467,    504.5,   3.3100,  34.2200,2,  34.2210,2,    243.5,2,    26.09,2,    26.83,2,     0.02,2,     2.11,2,   -999.0,9,   -999.0,9,     -999,   -999.0,9,   -999.0,  -999.00,9,   3.2767,20060325,1353
  33LG20060321,  SR01,     9,  1,    151,     12,2,20060325,1222,-57.8390, -64.0230, 4467,    404.0,   3.1000,  34.1250,2,  34.1260,2,    278.0,2,    18.11,2,    25.61,2,     0.02,2,     1.98,2,   -999.0,9,   -999.0,9,     -999,   -999.0,9,   -999.0,  -999.00,9,   3.0744,20060325,1356
  33LG20060321,  SR01,     9,  1,    152,     13,2,20060325,1222,-57.8390, -64.0230, 4467,    304.7,   3.4200,  34.0990,2,  34.1000,2,    286.1,2,    14.21,2,    25.24,2,     0.05,2,     1.69,2,   2159.2,2,    436.7,2,     3.42,   -999.0,9,   -999.0,     1.19,2,   3.4002,20060325,1359
  33LG20060321,  SR01,     9,  1,    153,     14,2,20060325,1222,-57.8390, -64.0230, 4467,    202.0,   3.6800,  34.0670,2,  34.0700,2,    301.3,2,    10.13,2,    22.23,2,     0.02,2,     1.72,2,   2146.1,2,    416.0,2,     3.68,   -999.0,9,   -999.0,  -999.00,9,   3.6666,20060325,1402
  33LG20060321,  SR01,     9,  1,    154,     15,2,20060325,1222,-57.8390, -64.0230, 4467,    151.9,   3.9000,  34.0650,2,  34.0680,2,    304.0,2,     9.06,2,    21.94,2,     0.02,2,     1.78,2,   -999.0,9,   -999.0,9,     -999,   -999.0,9,   -999.0,  -999.00,9,   3.8897,20060325,1403
  33LG20060321,  SR01,     9,  1,    155,     16,2,20060325,1222,-57.8390, -64.0230, 4467,    102.1,   4.0500,  34.0570,2,  34.0610,2,    308.5,2,     8.37,2,    21.71,2,     0.07,2,     1.62,2,   2139.0,2,    403.7,2,     4.05,   -999.0,9,   -999.0,     1.30,2,   4.0430,20060325,1405
  33LG20060321,  SR01,     9,  1,    156,     17,2,20060325,1222,-57.8390, -64.0230, 4467,     76.3,   4.3200,  34.0470,2,  34.0490,2,    312.3,2,     6.23,2,    21.05,2,     0.40,2,     1.59,2,   2135.0,2,    396.2,2,     4.32,   -999.0,9,   -999.0,  -999.00,9,   4.3146,20060325,1406
  33LG20060321,  SR01,     9,  1,    157,     18,2,20060325,1222,-57.8390, -64.0230, 4467,     51.6,   6.0200,  33.9430,2,  33.9470,2,    306.1,2,     0.39,2,    19.33,2,     0.27,2,     1.47,2,   2112.8,2,    439.9,2,     6.02,   -999.0,9,   -999.0,     1.39,2,   6.0157,20060325,1408
  33LG20060321,  SR01,     9,  1,    158,     19,2,20060325,1222,-57.8390, -64.0230, 4467,     25.5,   6.1000,  33.9430,2,  33.9540,2,    305.9,2,     0.39,2,    19.34,2,     0.28,2,     1.45,2,   2114.0,2,    394.0,2,      6.1,   -999.0,9,   -999.0,  -999.00,9,   6.0979,20060325,1409
  33LG20060321,  SR01,     9,  1,    159,     20,2,20060325,1222,-57.8390, -64.0230, 4467,      9.3,   6.1000,  33.9430,2,  33.9490,2,    306.0,2,     0.39,2,    19.30,2,     0.28,2,     1.59,2,   2112.2,2,    369.9,2,      6.1,   -999.0,9,   -999.0,     1.46,2,   6.0992,20060325,1411
  33LG20060321,  SR01,     9,  1,    160,     21,2,20060325,1222,-57.8390, -64.0230, 4467,      6.0,   6.1000,  33.9430,2,  33.9470,2,    306.1,2,     0.39,2,    18.36,2,     0.28,2,     1.44,2,   -999.0,9,   -999.0,9,     -999,   -999.0,9,   -999.0,  -999.00,9,   6.0995,20060325,1411
  33LG20060321,  SR01,     9,  1,    161,     22,2,20060325,1222,-57.8390, -64.0230, 4467,      3.6,   6.1000,  33.9430,2,  33.9510,2,    305.4,2,     1.22,2,    19.33,2,     0.27,2,     1.41,2,   2111.5,2,    369.0,2,      6.1,   -999.0,9,   -999.0,     1.72,2,   6.0997,20060325,1411
  33LG20060321,  SR01,    10,  1,    162,      1,2,20060325,1718,-58.1960, -63.8900, 4136,   1012.1,   2.4800,  34.5410,2,  34.5460,2,    178.7,2,    60.85,2,    31.08,2,     0.07,2,     2.49,2,   2252.2,2,    589.9,2,     2.48,   -999.0,9,   -999.0,     0.34,2,   2.4152,20060325,1718
  33LG20060321,  SR01,    10,  1,    163,      2,2,20060325,1718,-58.1960, -63.8900, 4136,    807.5,   2.6800,  34.4440,2,  34.4490,2,    188.6,2,    51.10,2,    30.76,2,     0.02,2,     2.27,2,   2237.2,2,    591.1,2,     2.68,   -999.0,9,   -999.0,  -999.00,9,   2.6285,20060325,1723
  33LG20060321,  SR01,    10,  1,    164,      3,2,20060325,1718,-58.1960, -63.8900, 4136,    707.5,   2.6900,  34.3680,2,  34.3720,2,    203.2,2,    43.41,2,    31.42,2,     0.02,2,     2.06,2,   -999.0,9,   -999.0,9,     -999,   -999.0,9,   -999.0,  -999.00,9,   2.6455,20060325,1725
  33LG20060321,  SR01,    10,  1,    165,      4,2,20060325,1718,-58.1960, -63.8900, 4136,    606.6,   2.7500,  34.3050,2,  34.3180,2,    219.1,2,    36.89,2,    30.95,2,     0.02,2,     2.03,2,   2213.9,2,    547.4,2,     2.75,   -999.0,9,   -999.0,     0.71,2,   2.7121,20060325,1729
  33LG20060321,  SR01,    10,  1,    166,      5,2,20060325,1718,-58.1960, -63.8900, 4136,    505.4,   2.4900,  34.1950,2,  34.1930,2,    255.7,2,    27.84,2,    28.81,2,     0.02,2,     2.09,2,   2193.4,2,    496.6,2,     2.49,   -999.0,9,   -999.0,  -999.00,9,   2.4600,20060325,1731
  33LG20060321,  SR01,    10,  1,    167,      6,2,20060325,1718,-58.1960, -63.8900, 4136,    454.6,   2.4300,  34.1530,2,  34.1490,2,    270.1,2,    24.34,2,    28.56,2,     0.06,2,     1.85,2,   2185.6,2,    476.5,2,     2.43,   -999.0,9,   -999.0,  -999.00,9,   2.4035,20060325,1734
  33LG20060321,  SR01,    10,  1,    168,      7,2,20060325,1718,-58.1960, -63.8900, 4136,    453.9,   2.4400,  34.1530,2,  34.1490,2,    270.7,2,    24.73,2,    28.04,2,     0.02,2,     1.83,2,   -999.0,9,    481.7,2,     2.44,   -999.0,9,   -999.0,  -999.00,9,   2.4135,20060325,1734
  33LG20060321,  SR01,    10,  1,    169,      8,2,20060325,1718,-58.1960, -63.8900, 4136,    404.3,   2.8400,  34.1710,2,  34.1690,2,    262.0,2,    23.66,2,    28.18,2,     0.02,2,     1.93,2,   2184.2,2,    482.4,2,     2.84,    -64.4,2,      2.2,     0.98,2,   2.8152,20060325,1736
  33LG20060321,  SR01,    10,  1,    170,      9,2,20060325,1718,-58.1960, -63.8900, 4136,    301.9,   3.0200,  34.1050,2,  34.1010,2,    284.0,2,    17.72,2,    26.49,2,     0.02,2,     1.85,2,   2167.2,2,    449.0,2,     3.02,   -999.0,9,   -999.0,  -999.00,9,   3.0013,20060325,1740
  33LG20060321,  SR01,    10,  1,    171,     10,2,20060325,1718,-58.1960, -63.8900, 4136,    252.5,   3.3100,  34.1040,2,  34.0990,2,    284.5,2,    16.45,2,    26.70,2,     0.02,2,     1.79,2,   2162.9,2,    443.9,2,     3.31,   -999.0,9,   -999.0,  -999.00,9,   3.2939,20060325,1742
  33LG20060321,  SR01,    10,  1,    172,     11,2,20060325,1718,-58.1960, -63.8900, 4136,    201.9,   3.1600,  34.0440,2,  34.0370,2,    305.1,2,    12.92,2,    25.06,2,     0.02,2,     1.74,2,   2152.1,2,    417.2,2,     3.16,    -35.1,2,      2.2,     1.22,2,   3.1475,20060325,1744
  33LG20060321,  SR01,    10,  1,    173,     12,2,20060325,1718,-58.1960, -63.8900, 4136,    150.7,   3.4100,  34.0470,2,  34.0420,2,    301.5,2,    11.10,2,    24.96,2,     0.02,2,     1.70,2,   -999.0,9,   -999.0,9,     -999,   -999.0,9,   -999.0,  -999.00,9,   3.4004,20060325,1746
  33LG20060321,  SR01,    10,  1,    174,     13,2,20060325,1718,-58.1960, -63.8900, 4136,    101.2,   3.6100,  34.0310,2,  34.0290,2,    310.6,2,  -999.00,9,  -999.00,9,  -999.00,9,  -999.00,9,   2142.0,2,    404.0,2,     3.61,    -27.4,2,      2.2,     1.34,2,   3.6034,20060325,1749
  33LG20060321,  SR01,    10,  1,    175,     14,2,20060325,1718,-58.1960, -63.8900, 4136,     80.9,   3.7700,  34.0380,2,  34.0350,2,    311.8,2,     9.44,2,    23.20,2,     0.07,2,     1.53,2,   2140.5,2,    403.8,2,     3.77,   -999.0,9,   -999.0,  -999.00,9,   3.7647,20060325,1750
  33LG20060321,  SR01,    10,  1,    176,     15,2,20060325,1718,-58.1960, -63.8900, 4136,     76.3,   3.6900,  34.0240,2,  34.0190,2,    313.9,2,     7.69,2,    20.66,2,     0.24,2,     1.61,2,   -999.0,9,   -999.0,9,     -999,    -26.1,2,      2.2,     1.32,2,   3.6850,20060325,1751
  33LG20060321,  SR01,    10,  1,    177,     16,2,20060325,1718,-58.1960, -63.8900, 4136,     51.3,   5.4600,  33.9280,2,  33.9510,2,    311.9,2,     3.13,2,    21.02,2,     0.40,2,     1.44,2,   -999.0,9,   -999.0,9,     -999,   -999.0,9,   -999.0,  -999.00,9,   5.4559,20060325,1752
  33LG20060321,  SR01,    10,  1,    178,     17,2,20060325,1718,-58.1960, -63.8900, 4136,     24.8,   5.8600,  33.9220,2,  33.9210,2,    308.7,2,     0.39,2,    20.32,2,     0.57,2,     1.50,2,   2114.2,2,    369.0,2,     5.86,    -32.2,2,      2.2,     1.71,2,   5.8580,20060325,1754
  33LG20060321,  SR01,    10,  1,    179,     18,2,20060325,1718,-58.1960, -63.8900, 4136,      5.1,   5.8600,  33.9210,2,  33.9230,2,    309.0,2,     0.39,2,    20.95,2,     0.27,2,     1.47,2,   -999.0,9,   -999.0,9,     -999,   -999.0,9,   -999.0,  -999.00,9,   5.8596,20060325,1755
  33LG20060321,  SR01,    10,  1,    180,     19,2,20060325,1718,-58.1960, -63.8900, 4136,      4.9,   5.8600,  33.9210,2,  33.9190,2,    308.9,2,     0.68,2,    20.60,2,     0.29,2,     1.43,2,   2114.2,2,    369.5,2,     5.86,    -31.8,2,      2.2,     1.70,2,   5.8596,20060325,1755