BOTTLE,20220922CCHSIOAMB
EXPOCODE,SECT_ID,STNNBR,CASTNO,SAMPNO,BTLNBR,BTLNBR_FLAG_W,DATE,TIME,LATITUDE,LONGITUDE,DEPTH,CTDPRS,CTDTMP,CTDSAL,CTDSAL_FLAG_W,SALNTY,SALNTY_FLAG_W,OXYGEN,OXYGEN_FLAG_W,SILCAT,SILCAT_FLAG_W,NITRAT,NITRAT_FLAG_W,NITRIT,NITRIT_FLAG_W,PHSPHT,PHSPHT_FLAG_W,TCARBN,TCARBN_FLAG_W,FCO2,FCO2_FLAG_W,FCO2TMP,DELC14,DELC14_FLAG_W,C14ERR,DELC13,DELC13_FLAG_W,THETA,BTL_DATE,BTL_TIME
,,,,,,,,,,,METERS,DBAR,ITS-90,PSS-78,,PSS-78,,UMOL/KG,,UMOL/KG,,UMOL/KG,,UMOL/KG,,UMOL/KG,,UMOL/KG,,UATM,,DEG C,/MILLE,,/MILLE,/MILLE,,DEG C,,
  33LG20060321,  SR01,     4,  1,     56,      1,2,20060323,1201,-56.0660, -64.6070, 3495,   3105.0,   0.9100,  34.7150,2,  34.7140,2,    210.9,2,   115.59,2,    33.74,2,     0.02,2,     2.21,2,   2255.6,2,    479.2,2,     0.91,   -999.0,9,   -999.0,     0.42,2,   0.6963,20060323,1201
  33LG20060321,  SR01,     4,  1,     57,      2,2,20060323,1201,-56.0660, -64.6070, 3495,   3047.5,   0.9100,  34.7150,2,  34.7130,2,    209.0,2,   109.81,2,    33.31,2,     0.02,2,     2.13,2,   -999.0,9,   -999.0,9,     -999,   -999.0,9,   -999.0,  -999.00,9,   0.7017,20060323,1204
  33LG20060321,  SR01,     4,  1,     58,      3,2,20060323,1201,-56.0660, -64.6070, 3495,   2537.4,   1.1100,  34.7220,2,  34.7210,2,    203.3,2,   104.44,2,    34.17,2,     0.03,2,     2.16,2,   -999.0,9,   -999.0,9,     -999,   -999.0,9,   -999.0,  -999.00,9,   0.9429,20060323,1215
  33LG20060321,  SR01,     4,  1,     59,      4,2,20060323,1201,-56.0660, -64.6070, 3495,   2027.4,   1.5300,  34.7260,2,  34.7250,2,    193.2,2,    95.98,2,    34.17,2,     0.03,2,     2.14,2,   2259.0,2,    513.9,2,     1.53,   -999.0,9,   -999.0,  -999.00,9,   1.3982,20060323,1226
  33LG20060321,  SR01,     4,  1,     60,      5,2,20060323,1201,-56.0660, -64.6070, 3495,   1519.2,   1.8700,  34.7090,2,  34.7110,2,    181.4,2,    91.17,2,    34.45,2,     0.02,2,     2.22,2,   -999.0,9,   -999.0,9,     -999,   -999.0,9,   -999.0,  -999.00,9,   1.7734,20060323,1238
  33LG20060321,  SR01,     4,  1,     61,      6,2,20060323,1201,-56.0660, -64.6070, 3495,   1011.8,   2.1900,  34.6500,2,  34.6490,2,    177.5,2,    65.07,2,    35.87,2,     0.02,2,     2.22,2,   2254.1,2,    571.2,2,     2.19,   -999.0,9,   -999.0,     0.37,2,   2.1274,20060323,1248
  33LG20060321,  SR01,     4,  1,     62,      7,2,20060323,1201,-56.0660, -64.6070, 3495,    808.5,   2.2400,  34.5920,2,  34.5900,2,    177.0,2,    64.22,2,    33.63,2,     0.03,2,     2.21,2,   -999.0,9,   -999.0,9,     -999,   -999.0,9,   -999.0,  -999.00,9,   2.1911,20060323,1253
  33LG20060321,  SR01,     4,  1,     63,      8,2,20060323,1201,-56.0660, -64.6070, 3495,    607.1,   2.3000,  34.4780,2,  34.4790,2,    183.5,2,    55.07,2,    36.66,2,     0.02,2,     2.27,2,   2244.6,2,    608.0,2,      2.3,   -999.0,9,   -999.0,  -999.00,9,   2.2641,20060323,1258
  33LG20060321,  SR01,     4,  1,     64,      9,2,20060323,1201,-56.0660, -64.6070, 3495,    505.1,   2.2800,  34.4190,2,  34.4180,2,    194.4,2,    50.86,2,    37.22,2,     0.03,2,     2.32,2,   -999.0,9,   -999.0,9,     -999,   -999.0,9,   -999.0,     0.48,2,   2.2507,20060323,1301
  33LG20060321,  SR01,     4,  1,     65,     10,2,20060323,1201,-56.0660, -64.6070, 3495,    404.7,   2.0600,  34.3260,2,  34.3290,2,    215.7,2,    44.03,2,    36.10,2,     0.16,2,     2.44,2,   2222.2,2,    568.9,2,     2.06,   -999.0,9,   -999.0,     0.60,2,   2.0376,20060323,1304
  33LG20060321,  SR01,     4,  1,     66,     11,2,20060323,1201,-56.0660, -64.6070, 3495,    302.1,   1.5000,  34.2030,2,  34.2020,2,    257.5,2,    36.06,2,    34.38,2,     0.03,2,     2.14,2,   -999.0,9,   -999.0,9,     -999,   -999.0,9,   -999.0,  -999.00,9,   1.4850,20060323,1307
  33LG20060321,  SR01,     4,  1,     67,     12,2,20060323,1201,-56.0660, -64.6070, 3495,    202.9,   0.0500,  33.9780,2,  33.9800,2,    324.0,2,    24.03,2,    29.39,2,     0.13,2,     2.03,2,   2171.0,2,    414.5,2,     0.05,   -999.0,9,   -999.0,  -999.00,9,   0.0427,20060323,1310
  33LG20060321,  SR01,     4,  1,     68,     13,2,20060323,1201,-56.0660, -64.6070, 3495,    160.8,  -0.4100,  33.8760,2,  33.8750,2,    348.8,2,    19.87,2,    28.90,2,     0.21,2,     1.92,2,   2158.0,2,    377.5,2,    -0.41,   -999.0,9,   -999.0,     1.27,2,  -0.4151,20060323,1311
  33LG20060321,  SR01,     4,  1,     69,     14,2,20060323,1201,-56.0660, -64.6070, 3495,    100.2,   1.5500,  33.8080,2,  33.8110,2,    345.4,2,     9.91,2,    26.28,2,     0.26,2,     1.76,2,   2139.0,2,    368.3,2,     1.55,   -999.0,9,   -999.0,     1.42,2,   1.5452,20060323,1313
  33LG20060321,  SR01,     4,  1,     70,     15,2,20060323,1201,-56.0660, -64.6070, 3495,     75.3,   3.6000,  33.8000,2,  33.7990,2,    328.8,2,     5.12,2,    24.22,2,     0.29,2,     1.72,2,   -999.0,9,   -999.0,9,     -999,   -999.0,9,   -999.0,  -999.00,9,   3.5952,20060323,1315
  33LG20060321,  SR01,     4,  1,     71,     16,2,20060323,1201,-56.0660, -64.6070, 3495,     48.8,   4.8500,  33.7820,2,  33.7840,2,    319.7,2,     3.16,2,    23.87,2,     0.29,2,     1.57,2,   2118.9,2,    377.6,2,     4.85,   -999.0,9,   -999.0,  -999.00,9,   4.8464,20060323,1316
  33LG20060321,  SR01,     4,  1,     72,     17,2,20060323,1201,-56.0660, -64.6070, 3495,     24.2,   5.0900,  33.7780,2,  33.7770,2,    317.3,2,     2.63,2,    25.05,2,     0.29,2,     1.57,2,   -999.0,9,    377.2,2,     5.09,   -999.0,9,   -999.0,     1.72,2,   5.0882,20060323,1317
  33LG20060321,  SR01,     4,  1,     73,     18,2,20060323,1201,-56.0660, -64.6070, 3495,     10.0,   5.0700,  33.7340,2,  33.7350,2,    312.8,2,     2.61,2,    22.70,2,     0.31,2,     1.42,2,   2114.1,2,    371.9,2,     5.07,   -999.0,9,   -999.0,  -999.00,9,   5.0692,20060323,1318
  33LG20060321,  SR01,     4,  1,     74,     19,2,20060323,1201,-56.0660, -64.6070, 3495,      5.6,   5.0800,  33.7340,2,  33.7340,2,    317.1,2,     2.70,2,    24.17,2,     0.31,2,     1.48,2,   -999.0,9,   -999.0,9,     -999,   -999.0,9,   -999.0,  -999.00,9,   5.0796,20060323,1318
  33LG20060321,  SR01,     4,  1,     75,     20,2,20060323,1201,-56.0660, -64.6070, 3495,      4.7,   5.0800,  33.7340,2,  33.7350,2,    317.3,2,     2.63,2,    24.42,2,     0.34,2,     1.49,2,   2115.9,2,    375.1,2,     5.08,   -999.0,9,   -999.0,     1.49,2,   5.0796,20060323,1319
  33LG20060321,  SR01,     5,  1,     76,      1,2,20060323,1641,-56.4210, -64.4940, 3689,   2817.0,   1.1300,  34.7210,2,  34.7260,2,    204.6,2,   112.31,2,    31.33,2,     0.03,2,     2.15,2,   2260.0,2,    505.4,2,     1.13,   -999.0,9,   -999.0,     0.43,2,   0.9378,20060323,1641
  33LG20060321,  SR01,     5,  1,     77,      2,2,20060323,1641,-56.4210, -64.4940, 3689,   2538.3,   1.2800,  34.7240,2,  34.7250,2,    201.5,2,   107.79,2,    33.10,2,     0.02,2,     2.23,2,   -999.0,9,   -999.0,9,     -999,   -999.0,9,   -999.0,  -999.00,9,   1.1095,20060323,1648
  33LG20060321,  SR01,     5,  1,     78,      3,2,20060323,1641,-56.4210, -64.4940, 3689,   2029.8,   1.6700,  34.7240,2,  34.7230,2,    191.6,2,    98.66,2,    34.18,2,     0.02,2,     2.16,2,   2264.5,2,    525.4,2,     1.67,   -999.0,9,   -999.0,  -999.00,9,   1.5358,20060323,1700
  33LG20060321,  SR01,     5,  1,     79,      4,2,20060323,1641,-56.4210, -64.4940, 3689,   1519.7,   2.0600,  34.6990,2,  34.6990,2,    183.8,2,    79.12,2,    33.55,2,     0.02,2,     2.09,2,   -999.0,9,   -999.0,9,     -999,   -999.0,9,   -999.0,  -999.00,9,   1.9612,20060323,1710
  33LG20060321,  SR01,     5,  1,     80,      5,2,20060323,1641,-56.4210, -64.4940, 3689,   1011.3,   2.3400,  34.6060,2,  34.6070,2,    176.6,2,    70.95,2,    35.11,2,     0.02,2,     2.17,2,   -999.0,9,   -999.0,9,     -999,   -999.0,9,   -999.0,     0.39,2,   2.2763,20060323,1720
  33LG20060321,  SR01,     5,  1,     81,      6,2,20060323,1641,-56.4210, -64.4940, 3689,    808.5,   2.4700,  34.5310,2,  34.5320,2,    179.7,2,    60.00,2,    34.80,2,     0.07,2,     2.32,2,   2252.8,2,    591.1,2,     2.47,   -999.0,9,   -999.0,  -999.00,9,   2.4197,20060323,1724
  33LG20060321,  SR01,     5,  1,     82,      7,2,20060323,1641,-56.4210, -64.4940, 3689,    606.3,   2.5900,  34.4010,2,  34.4070,2,    196.1,2,    48.84,2,    34.84,2,     0.02,2,     2.36,2,   -999.0,9,   -999.0,9,     -999,   -999.0,9,   -999.0,  -999.00,9,   2.5528,20060323,1729
  33LG20060321,  SR01,     5,  1,     83,      8,2,20060323,1641,-56.4210, -64.4940, 3689,    507.1,   2.5500,  34.3200,2,  34.3230,2,    216.7,2,    41.15,2,    33.13,2,     0.02,2,     2.16,2,   -999.0,9,   -999.0,9,     -999,   -999.0,9,   -999.0,  -999.00,9,   2.5195,20060323,1732
  33LG20060321,  SR01,     5,  1,     84,      9,2,20060323,1641,-56.4210, -64.4940, 3689,    403.1,   2.5100,  34.2540,2,  34.2590,2,    235.0,2,    34.64,2,    29.73,2,     0.02,2,     2.10,2,   2208.0,2,    533.7,2,     2.51,   -999.0,9,   -999.0,     0.77,2,   2.4863,20060323,1734
  33LG20060321,  SR01,     5,  1,     85,     10,2,20060323,1641,-56.4210, -64.4940, 3689,    352.8,   2.2900,  34.1900,2,  34.1960,2,    258.4,2,    30.81,2,    29.64,2,     0.02,2,     2.14,2,   2193.1,2,    494.2,2,     2.29,   -999.0,9,   -999.0,  -999.00,9,   2.2701,20060323,1737
  33LG20060321,  SR01,     5,  1,     86,     11,2,20060323,1641,-56.4210, -64.4940, 3689,    301.6,   2.5500,  34.1980,2,  34.2010,2,    254.6,2,    28.71,2,    31.87,2,     0.07,2,     2.01,2,   2190.9,2,    496.7,2,     2.55,   -999.0,9,   -999.0,     0.90,2,   2.5325,20060323,1739
  33LG20060321,  SR01,     5,  1,     87,     12,2,20060323,1641,-56.4210, -64.4940, 3689,    201.5,   2.4300,  34.0830,2,  34.0970,2,    292.0,2,    19.30,2,    30.11,2,     0.03,2,     1.99,2,   2166.7,2,    441.9,2,     2.43,   -999.0,9,   -999.0,  -999.00,9,   2.4187,20060323,1741
  33LG20060321,  SR01,     5,  1,     88,     13,2,20060323,1641,-56.4210, -64.4940, 3689,    151.2,   2.6600,  34.0630,2,  34.0650,2,    299.7,2,    16.38,2,    29.08,2,     0.07,2,     1.95,2,   -999.0,9,   -999.0,9,     -999,   -999.0,9,   -999.0,  -999.00,9,   2.6513,20060323,1744
  33LG20060321,  SR01,     5,  1,     89,     14,2,20060323,1641,-56.4210, -64.4940, 3689,    100.7,   2.9800,  34.0270,2,  34.0290,2,    311.2,2,    12.41,2,    27.36,2,     0.18,2,     1.82,2,   2147.5,2,    409.0,2,     2.98,   -999.0,9,   -999.0,     1.26,2,   2.9740,20060323,1746
  33LG20060321,  SR01,     5,  1,     90,     15,2,20060323,1641,-56.4210, -64.4940, 3689,     79.5,   4.1400,  33.9810,2,  33.9890,2,    316.6,2,     7.49,2,    25.16,2,     0.36,2,     1.75,2,   2131.3,2,    393.2,2,     4.14,   -999.0,9,   -999.0,  -999.00,9,   4.1345,20060323,1747
  33LG20060321,  SR01,     5,  1,     91,     16,2,20060323,1641,-56.4210, -64.4940, 3689,     60.8,   5.3200,  33.9430,2,  33.9480,2,    312.6,2,     3.85,2,    23.89,2,     0.30,2,     1.69,2,   -999.0,9,   -999.0,9,     -999,   -999.0,9,   -999.0,  -999.00,9,   5.3153,20060323,1749
  33LG20060321,  SR01,     5,  1,     92,     17,2,20060323,1641,-56.4210, -64.4940, 3689,     50.2,   6.0600,  33.9190,2,  33.9290,2,    309.2,2,     2.42,2,    23.02,2,     0.27,2,     1.59,2,   2114.7,2,    379.5,2,     6.06,   -999.0,9,   -999.0,  -999.00,9,   6.0558,20060323,1749
  33LG20060321,  SR01,     5,  1,     93,     18,2,20060323,1641,-56.4210, -64.4940, 3689,     25.8,   6.4500,  33.9140,2,  33.9140,2,    306.3,2,     1.61,2,    22.28,2,     0.26,2,     1.56,2,   2107.0,2,    373.2,2,     6.45,   -999.0,9,   -999.0,     1.76,2,   6.4478,20060323,1751
  33LG20060321,  SR01,     5,  1,     94,     19,2,20060323,1641,-56.4210, -64.4940, 3689,     10.4,   6.4200,  33.9090,2,  33.9110,2,    306.4,2,     1.35,2,    22.12,2,     0.76,2,     1.54,2,   -999.0,9,   -999.0,9,     -999,   -999.0,9,   -999.0,  -999.00,9,   6.4191,20060323,1752
  33LG20060321,  SR01,     5,  1,     95,     20,2,20060323,1641,-56.4210, -64.4940, 3689,      9.9,   6.4200,  33.9080,2,  33.9100,2,    306.8,2,     1.31,2,    22.41,2,     0.27,2,     1.57,2,   -999.0,9,   -999.0,9,     -999,   -999.0,9,   -999.0,  -999.00,9,   6.4191,20060323,1752
  33LG20060321,  SR01,     5,  1,     96,     21,2,20060323,1641,-56.4210, -64.4940, 3689,      4.7,   6.4200,  33.9080,2,  33.9110,2,    305.5,2,     1.31,2,    22.15,2,     0.26,2,     1.37,2,   2110.0,2,    373.8,2,     6.42,   -999.0,9,   -999.0,     1.78,2,   6.4196,20060323,1753
  33LG20060321,  SR01,     5,  1,     97,     22,2,20060323,1641,-56.4210, -64.4940, 3689,      5.0,   6.4200,  33.9080,2,  33.9110,2,    305.7,2,     1.38,2,    21.68,2,     0.27,2,     1.43,2,   -999.0,9,   -999.0,9,     -999,   -999.0,9,   -999.0,  -999.00,9,   6.4196,20060323,1753
  33LG20060321,  SR01,     6,  1,     98,      1,2,20060323,2125,-56.7770, -64.3690, 3977,   3966.7,   0.8300,  34.7120,2,  34.7090,2,    213.3,2,   119.28,2,    33.31,2,     0.02,2,     2.16,2,   2260.7,2,    499.0,2,     0.83,   -164.6,2,      2.2,     0.42,2,   0.5333,20060323,2125
  33LG20060321,  SR01,     6,  1,     99,      2,2,20060323,2125,-56.7770, -64.3690, 3977,   3562.0,   0.8400,  34.7150,2,  34.7120,2,    212.0,2,   115.99,2,    32.95,2,     0.02,2,     2.17,2,   -999.0,9,   -999.0,9,     -999,   -999.0,9,   -999.0,  -999.00,9,   0.5842,20060323,2133
  33LG20060321,  SR01,     6,  1,    100,      3,2,20060323,2125,-56.7770, -64.3690, 3977,   3050.6,   1.0400,  34.7200,2,  34.7190,2,    207.1,2,   115.20,2,    30.74,2,     0.02,2,     2.14,2,   2260.2,2,    503.8,2,     1.04,   -999.0,9,   -999.0,  -999.00,9,   0.8284,20060323,2143
  33LG20060321,  SR01,     6,  1,    101,      4,2,20060323,2125,-56.7770, -64.3690, 3977,   2539.0,   1.3900,  34.7270,2,  34.7260,2,    199.7,2,   104.31,2,    30.06,2,     0.02,2,     2.13,2,   -999.0,9,   -999.0,9,     -999,   -999.0,9,   -999.0,  -999.00,9,   1.2174,20060323,2153
  33LG20060321,  SR01,     6,  1,    102,      5,2,20060323,2125,-56.7770, -64.3690, 3977,   2027.7,   1.7700,  34.7240,2,  34.7230,2,    189.6,2,    95.26,2,    30.68,2,     0.02,2,     2.10,2,   2258.6,2,   -999.0,9,     -999,   -166.5,2,      2.2,     0.33,2,   1.6344,20060323,2203
  33LG20060321,  SR01,     6,  1,    103,      6,2,20060323,2125,-56.7770, -64.3690, 3977,   1520.2,   2.0400,  34.6940,2,  34.6940,2,    180.0,2,    89.47,2,    28.37,2,     0.02,2,     2.27,2,   -999.0,9,   -999.0,9,     -999,   -999.0,9,   -999.0,  -999.00,9,   1.9414,20060323,2213
  33LG20060321,  SR01,     6,  1,    104,      7,2,20060323,2125,-56.7770, -64.3690, 3977,   1011.1,   2.3600,  34.5970,2,  34.5980,2,    175.0,2,    66.07,2,    31.51,2,     0.02,2,     2.27,2,   2256.7,2,    590.9,2,     2.36,   -151.8,2,      2.2,     0.40,2,   2.2962,20060323,2222
  33LG20060321,  SR01,     6,  1,    105,      8,2,20060323,2125,-56.7770, -64.3690, 3977,    811.1,   2.5000,  34.4960,2,  34.4970,2,    182.2,2,    57.32,2,    32.08,2,     0.02,2,     2.27,2,   -999.0,9,   -999.0,9,     -999,   -999.0,9,   -999.0,  -999.00,9,   2.4493,20060323,2226
  33LG20060321,  SR01,     6,  1,    106,      9,2,20060323,2125,-56.7770, -64.3690, 3977,    606.0,   2.5700,  34.3650,2,  34.3620,2,    204.8,2,    45.76,2,    31.98,2,     0.02,2,     2.24,2,   2229.7,2,    574.3,2,     2.57,   -999.0,9,   -999.0,  -999.00,9,   2.5330,20060323,2229
  33LG20060321,  SR01,     6,  1,    107,     10,2,20060323,2125,-56.7770, -64.3690, 3977,    403.9,   2.0800,  34.1570,2,  34.1560,2,    270.8,2,    28.37,2,    29.14,2,     0.02,2,     2.02,2,   -999.0,9,    479.1,2,     2.08,   -999.0,9,   -999.0,  -999.00,9,   2.0577,20060323,2234
  33LG20060321,  SR01,     6,  1,    108,     11,2,20060323,2125,-56.7770, -64.3690, 3977,    303.7,   3.2000,  34.2090,2,  34.2060,2,    247.7,2,    25.68,2,    28.38,2,     0.02,2,     1.98,2,   2188.4,2,    494.7,2,      3.2,    -67.6,2,      2.2,     0.97,2,   3.1807,20060323,2236
  33LG20060321,  SR01,     6,  1,    109,     12,2,20060323,2125,-56.7770, -64.3690, 3977,    223.3,   2.8900,  34.1080,2,  34.1080,2,    283.7,2,    18.58,2,    26.89,2,     0.02,2,     1.84,2,   2177.7,2,    448.0,2,     2.89,   -999.0,9,   -999.0,  -999.00,9,   2.8766,20060323,2238
  33LG20060321,  SR01,     6,  1,    110,     13,2,20060323,2125,-56.7770, -64.3690, 3977,    151.3,   3.3500,  34.0790,2,  34.0780,2,    292.0,2,    13.75,2,    24.99,2,     0.02,2,     1.72,2,   -999.0,9,   -999.0,9,     -999,   -999.0,9,   -999.0,  -999.00,9,   3.3404,20060323,2240
  33LG20060321,  SR01,     6,  1,    111,     14,2,20060323,2125,-56.7770, -64.3690, 3977,    100.6,   3.3200,  34.0340,2,  34.0340,2,    310.9,2,    10.96,2,    24.70,2,     0.18,2,     1.66,2,   2145.9,2,    418.8,2,     3.32,    -32.4,2,      2.2,     1.06,2,   3.3137,20060323,2242
  33LG20060321,  SR01,     6,  1,    112,     15,2,20060323,2125,-56.7770, -64.3690, 3977,     74.9,   3.7400,  34.0120,2,  34.0180,2,    316.1,2,     7.65,2,    22.77,2,     0.44,2,     1.68,2,   -999.0,9,   -999.0,9,     -999,   -999.0,9,   -999.0,  -999.00,9,   3.7351,20060323,2244
  33LG20060321,  SR01,     6,  1,    113,     16,2,20060323,2125,-56.7770, -64.3690, 3977,     49.7,   5.8100,  33.9410,2,  33.9450,2,    308.8,2,     2.09,2,    20.10,2,     0.30,2,     1.56,2,   2117.4,2,    378.0,2,     5.81,    -31.0,2,      2.2,     1.62,2,   5.8059,20060323,2245
  33LG20060321,  SR01,     6,  1,    114,     17,2,20060323,2125,-56.7770, -64.3690, 3977,     24.2,   6.2600,  33.9110,2,  33.9100,2,    307.3,2,     1.53,2,    20.21,2,     0.27,2,     1.49,2,   2114.6,2,    371.4,2,     6.26,    -27.0,2,      2.2,     1.74,2,   6.2579,20060323,2247
  33LG20060321,  SR01,     6,  1,    115,     18,2,20060323,2125,-56.7770, -64.3690, 3977,     11.0,   6.2900,  33.9130,2,  33.9170,2,    306.6,2,     1.44,2,    19.50,2,     0.56,2,     1.61,2,   -999.0,9,   -999.0,9,     -999,   -999.0,9,   -999.0,  -999.00,9,   6.2891,20060323,2248
  33LG20060321,  SR01,     6,  1,    116,     19,2,20060323,2125,-56.7770, -64.3690, 3977,      5.2,   6.3100,  33.9130,2,  33.9160,2,    306.0,2,     1.36,2,    19.09,2,     0.26,2,     1.57,2,   2110.6,2,    372.0,2,     6.31,   -999.0,9,   -999.0,     1.54,2,   6.3096,20060323,2249
  33LG20060321,  SR01,     6,  1,    117,     20,2,20060323,2125,-56.7770, -64.3690, 3977,      5.5,   6.3100,  33.9130,2,  33.9150,2,    306.5,2,     1.45,2,    20.05,2,     0.40,2,     1.56,2,   -999.0,9,   -999.0,9,     -999,   -999.0,9,   -999.0,  -999.00,9,   6.3095,20060323,2249