BOTTLE,20220922CCHSIOAMB
EXPOCODE,SECT_ID,STNNBR,CASTNO,SAMPNO,BTLNBR,BTLNBR_FLAG_W,DATE,TIME,LATITUDE,LONGITUDE,DEPTH,CTDPRS,CTDTMP,CTDSAL,CTDSAL_FLAG_W,SALNTY,SALNTY_FLAG_W,OXYGEN,OXYGEN_FLAG_W,SILCAT,SILCAT_FLAG_W,NITRAT,NITRAT_FLAG_W,NITRIT,NITRIT_FLAG_W,PHSPHT,PHSPHT_FLAG_W,TCARBN,TCARBN_FLAG_W,FCO2,FCO2_FLAG_W,FCO2TMP,DELC14,DELC14_FLAG_W,C14ERR,DELC13,DELC13_FLAG_W,THETA,BTL_DATE,BTL_TIME
,,,,,,,,,,,METERS,DBAR,ITS-90,PSS-78,,PSS-78,,UMOL/KG,,UMOL/KG,,UMOL/KG,,UMOL/KG,,UMOL/KG,,UMOL/KG,,UATM,,DEG C,/MILLE,,/MILLE,/MILLE,,DEG C,,
  33LG20060321,  SR01,    14,  1,    245,      1,2,20060326,1140,-59.6180, -63.4120, 3865,   1012.9,   1.8000,  34.7280,2,  34.7300,2,    189.9,2,    82.54,2,    28.82,2,     0.02,2,     2.03,2,   2255.3,2,    531.4,2,      1.8,   -166.4,2,      2.2,     0.38,2,   1.7403,20060326,1140
  33LG20060321,  SR01,    14,  1,    246,      2,2,20060326,1140,-59.6180, -63.4120, 3865,    809.8,   1.9800,  34.7060,2,  34.7090,2,    184.4,2,    81.38,2,    28.25,2,     0.02,2,     2.45,2,   2256.2,2,    546.1,2,     1.98,   -999.0,9,   -999.0,  -999.00,9,   1.9325,20060326,1146
  33LG20060321,  SR01,    14,  1,    247,      3,2,20060326,1140,-59.6180, -63.4120, 3865,    706.9,   2.0400,  34.6870,2,  34.6890,2,    180.8,2,    73.91,2,    29.86,2,     0.11,2,     2.12,2,   -999.0,9,   -999.0,9,     -999,   -999.0,9,   -999.0,  -999.00,9,   1.9988,20060326,1148
  33LG20060321,  SR01,    14,  1,    248,      4,2,20060326,1140,-59.6180, -63.4120, 3865,    607.4,   2.1000,  34.6600,2,  34.6590,2,    179.1,2,    70.84,2,    30.06,2,     0.02,2,     2.19,2,   2259.5,2,    576.0,2,      2.1,   -151.5,2,      2.2,     0.39,2,   2.0648,20060326,1152
  33LG20060321,  SR01,    14,  1,    249,      5,2,20060326,1140,-59.6180, -63.4120, 3865,    504.0,   2.1400,  34.6350,2,  34.6390,2,    176.6,2,    75.30,3,    28.43,2,     0.02,2,     2.16,2,   -999.0,9,   -999.0,9,     -999,   -999.0,9,   -999.0,  -999.00,9,   2.1111,20060326,1156
  33LG20060321,  SR01,    14,  1,    250,      6,2,20060326,1140,-59.6180, -63.4120, 3865,    404.5,   2.1300,  34.5860,2,  34.5900,2,    177.4,2,    65.03,2,    31.29,2,     0.02,2,     2.24,2,   2257.6,2,    606.4,2,     2.13,   -999.0,9,   -999.0,  -999.00,9,   2.1072,20060326,1159
  33LG20060321,  SR01,    14,  1,    251,      7,2,20060326,1140,-59.6180, -63.4120, 3865,    302.8,   2.0600,  34.5130,2,  34.5190,2,    183.9,2,    60.32,2,    30.82,2,     0.02,2,     2.23,2,   2253.3,2,    616.0,2,     2.06,   -999.0,9,   -999.0,  -999.00,9,   2.0434,20060326,1201
  33LG20060321,  SR01,    14,  1,    252,      8,2,20060326,1140,-59.6180, -63.4120, 3865,    254.4,   1.8800,  34.4430,2,  34.4460,2,    195.6,2,    55.37,2,    31.59,2,     0.02,2,     2.27,2,   2247.1,2,    610.7,2,     1.88,   -999.0,9,   -999.0,  -999.00,9,   1.8666,20060326,1203
  33LG20060321,  SR01,    14,  1,    253,      9,2,20060326,1140,-59.6180, -63.4120, 3865,    201.5,   1.4900,  34.3360,2,  34.3410,2,    221.5,2,    49.88,2,    30.91,2,     0.02,2,     2.29,2,   2233.2,2,    573.0,2,     1.49,   -115.3,2,      2.2,     0.55,2,   1.4801,20060326,1205
  33LG20060321,  SR01,    14,  1,    254,     10,2,20060326,1140,-59.6180, -63.4120, 3865,    151.8,   0.8300,  34.2150,2,  34.2190,2,    259.7,2,    42.49,2,    29.35,2,     0.02,2,     2.14,2,   2216.8,2,    413.2,2,     0.83,   -999.0,9,   -999.0,  -999.00,9,   0.8235,20060326,1206
  33LG20060321,  SR01,    14,  1,    255,     11,2,20060326,1140,-59.6180, -63.4120, 3865,    101.2,  -0.8400,  33.9800,2,  33.9890,2,    330.4,2,    31.40,2,    25.06,2,     0.26,2,     2.00,2,   -999.0,9,   -999.0,9,     -999,   -999.0,9,   -999.0,  -999.00,9,  -0.8428,20060326,1208
  33LG20060321,  SR01,    14,  1,    256,     12,2,20060326,1140,-59.6180, -63.4120, 3865,     76.0,  -0.8400,  33.8970,2,  33.9190,2,    350.1,2,    27.01,2,    24.18,2,     0.19,2,     1.90,2,   -999.0,9,   -999.0,9,     -999,   -999.0,9,   -999.0,  -999.00,9,  -0.8421,20060326,1209
  33LG20060321,  SR01,    14,  1,    257,     13,2,20060326,1140,-59.6180, -63.4120, 3865,     61.0,  -0.2300,  33.8570,2,  33.8760,2,    353.3,2,    23.18,2,    23.52,2,     0.21,2,     1.90,2,   2164.4,2,    373.6,2,    -0.23,   -999.0,9,   -999.0,     1.11,2,  -0.2320,20060326,1210
  33LG20060321,  SR01,    14,  1,    258,     14,2,20060326,1140,-59.6180, -63.4120, 3865,     44.7,   3.0900,  33.7200,2,  33.7460,2,    331.8,2,    12.05,2,    19.14,2,     0.24,2,     1.50,2,   2133.9,2,    356.2,2,     3.09,   -999.0,9,   -999.0,  -999.00,9,   3.0873,20060326,1212
  33LG20060321,  SR01,    14,  1,    259,     15,2,20060326,1140,-59.6180, -63.4120, 3865,     24.6,   3.1100,  33.7260,2,  33.7310,2,    330.1,2,    10.85,2,    17.11,2,     0.24,2,     1.46,2,   2133.1,2,    353.2,2,     3.11,   -999.0,9,   -999.0,     1.54,2,   3.1085,20060326,1212
  33LG20060321,  SR01,    14,  1,    260,     16,2,20060326,1140,-59.6180, -63.4120, 3865,     10.4,   3.1100,  33.7260,2,  33.7280,2,    330.5,2,    10.93,2,    19.44,2,     0.26,2,     1.36,2,   -999.0,9,   -999.0,9,     -999,   -999.0,9,   -999.0,  -999.00,9,   3.1094,20060326,1213
  33LG20060321,  SR01,    14,  1,    261,     17,2,20060326,1140,-59.6180, -63.4120, 3865,      5.4,   3.1200,  33.7260,2,  33.7320,2,    330.4,2,    10.71,2,    19.37,2,     0.25,2,     1.54,2,   -999.0,9,   -999.0,9,     -999,   -999.0,9,   -999.0,  -999.00,9,   3.1197,20060326,1214
  33LG20060321,  SR01,    14,  1,    262,     18,2,20060326,1140,-59.6180, -63.4120, 3865,      4.9,   3.1200,  33.7250,2,  33.7300,2,    330.6,2,    10.81,2,    19.24,2,     0.25,2,     1.38,2,   2130.9,2,   -999.0,9,     -999,    -76.8,2,      2.2,     1.78,2,   3.1197,20060326,1214
  33LG20060321,  SR01,    15,  1,    263,      1,2,20060326,1544,-59.9780, -63.3120, 3865,   2900.6,   0.5700,  34.7100,2,  34.7110,2,    214.9,2,   119.67,2,    29.09,2,     0.03,2,     2.70,3,   2261.1,2,    494.9,2,     0.57,   -999.0,9,   -999.0,     0.45,2,   0.3824,20060326,1544
  33LG20060321,  SR01,    15,  1,    264,      2,2,20060326,1544,-59.9780, -63.3120, 3865,   2540.7,   0.7800,  34.7160,2,  34.7170,2,    210.4,2,   109.94,2,    28.85,2,     0.02,2,     2.20,2,   -999.0,9,   -999.0,9,     -999,   -999.0,9,   -999.0,  -999.00,9,   0.6189,20060326,1553
  33LG20060321,  SR01,    15,  1,    265,      3,2,20060326,1544,-59.9780, -63.3120, 3865,   2030.7,   1.1000,  34.7250,2,  34.7270,2,    205.0,2,   104.10,2,    28.38,2,     0.02,2,     2.12,2,   2266.5,2,    498.1,2,      1.1,   -999.0,9,   -999.0,  -999.00,9,   0.9746,20060326,1607
  33LG20060321,  SR01,    15,  1,    266,      4,2,20060326,1544,-59.9780, -63.3120, 3865,   1518.9,   1.4200,  34.7330,2,  34.7420,2,    198.0,2,    92.82,2,    27.66,2,     0.02,2,     2.09,2,   -999.0,9,   -999.0,9,     -999,   -999.0,9,   -999.0,  -999.00,9,   1.3287,20060326,1618
  33LG20060321,  SR01,    15,  1,    267,      5,2,20060326,1544,-59.9780, -63.3120, 3865,   1011.0,   1.8300,  34.7270,2,  34.7290,2,    189.6,2,    81.34,2,    28.37,2,     0.02,2,     2.13,2,   2256.0,2,    530.4,2,     1.83,   -999.0,9,   -999.0,     0.37,2,   1.7702,20060326,1628
  33LG20060321,  SR01,    15,  1,    268,      6,2,20060326,1544,-59.9780, -63.3120, 3865,    809.6,   2.0000,  34.7010,2,  34.6960,2,    184.1,2,    85.82,2,    27.04,2,     0.03,2,     2.25,2,   -999.0,9,   -999.0,9,     -999,   -999.0,9,   -999.0,  -999.00,9,   1.9524,20060326,1632
  33LG20060321,  SR01,    15,  1,    269,      7,2,20060326,1544,-59.9780, -63.3120, 3865,    608.0,   2.1100,  34.6610,2,  34.6600,2,    179.0,2,    68.79,2,    28.03,2,     0.03,2,     2.28,2,   2255.6,2,    578.4,2,     2.11,   -999.0,9,   -999.0,     0.34,2,   2.0748,20060326,1637
  33LG20060321,  SR01,    15,  1,    270,      8,2,20060326,1544,-59.9780, -63.3120, 3865,    504.8,   2.1500,  34.6290,2,  34.6290,2,    177.8,2,    65.29,2,    27.92,2,     0.02,2,     2.30,2,   -999.0,9,   -999.0,9,     -999,   -999.0,9,   -999.0,  -999.00,9,   2.1210,20060326,1639
  33LG20060321,  SR01,    15,  1,    271,      9,2,20060326,1544,-59.9780, -63.3120, 3865,    403.0,   2.1600,  34.5860,2,  34.5900,2,    178.0,2,    64.32,2,    27.52,2,     0.02,2,     2.30,2,   2254.5,2,    605.6,2,     2.16,   -999.0,9,   -999.0,  -999.00,9,   2.1372,20060326,1642
  33LG20060321,  SR01,    15,  1,    272,     10,2,20060326,1544,-59.9780, -63.3120, 3865,    303.1,   2.0900,  34.5180,2,  34.5170,2,    183.9,2,    62.57,2,    30.62,2,     0.03,2,     2.35,2,   2251.6,2,    612.8,2,     2.09,   -999.0,9,   -999.0,     0.38,2,   2.0733,20060326,1644
  33LG20060321,  SR01,    15,  1,    273,     11,2,20060326,1544,-59.9780, -63.3120, 3865,    252.3,   2.0400,  34.4510,2,  34.4540,2,    190.6,2,    57.71,2,    30.72,2,     0.02,2,     2.44,2,   -999.0,9,   -999.0,9,     -999,   -999.0,9,   -999.0,  -999.00,9,   2.0264,20060326,1647
  33LG20060321,  SR01,    15,  1,    274,     12,2,20060326,1544,-59.9780, -63.3120, 3865,    200.3,   1.7300,  34.3620,2,  34.3620,2,    212.8,2,    50.71,2,    30.21,2,     0.03,2,     2.35,2,   2235.7,2,    587.9,2,     1.73,   -999.0,9,   -999.0,     0.53,2,   1.7198,20060326,1649
  33LG20060321,  SR01,    15,  1,    275,     13,2,20060326,1544,-59.9780, -63.3120, 3865,    152.2,   1.1200,  34.2440,2,  34.2400,2,    249.3,2,    44.19,2,    28.30,2,     0.06,2,     2.28,2,   -999.0,9,   -999.0,9,     -999,   -999.0,9,   -999.0,  -999.00,9,   1.1131,20060326,1651
  33LG20060321,  SR01,    15,  1,    276,     14,2,20060326,1544,-59.9780, -63.3120, 3865,    100.5,  -0.6400,  34.0200,2,  34.0210,2,    320.1,2,    33.68,2,    25.67,2,     0.24,2,     2.15,2,   2190.0,2,    435.6,2,    -0.64,   -999.0,9,   -999.0,  -999.00,9,  -0.6430,20060326,1654
  33LG20060321,  SR01,    15,  1,    277,     15,2,20060326,1544,-59.9780, -63.3120, 3865,     70.2,  -0.7900,  33.8930,2,  33.8960,2,    351.2,2,    27.84,2,    22.41,2,     0.19,2,     0.48,3,   2168.7,2,    374.9,2,    -0.79,   -999.0,9,   -999.0,  -999.00,9,  -0.7919,20060326,1655
  33LG20060321,  SR01,    15,  1,    278,     16,2,20060326,1544,-59.9780, -63.3120, 3865,     50.8,   2.9400,  33.7260,2,  33.7420,2,    332.8,2,    11.49,2,    19.05,2,     0.25,2,     1.60,2,   2131.9,2,    349.0,2,     2.94,   -999.0,9,   -999.0,     1.75,2,   2.9370,20060326,1656
  33LG20060321,  SR01,    15,  1,    279,     17,2,20060326,1544,-59.9780, -63.3120, 3865,     34.9,   3.2600,  33.7240,2,  33.7260,2,    329.2,2,    11.83,2,    17.24,2,     0.25,2,     1.44,2,   -999.0,9,   -999.0,9,     -999,   -999.0,9,   -999.0,  -999.00,9,   3.2579,20060326,1657
  33LG20060321,  SR01,    15,  1,    280,     18,2,20060326,1544,-59.9780, -63.3120, 3865,     26.0,   3.2700,  33.7240,2,  33.7260,2,    329.2,2,    11.89,2,    18.52,2,     0.29,2,     1.49,2,   2124.8,2,    347.9,2,     3.27,   -999.0,9,   -999.0,     1.82,2,   3.2684,20060326,1658
  33LG20060321,  SR01,    15,  1,    281,     19,2,20060326,1544,-59.9780, -63.3120, 3865,     10.9,   3.2900,  33.7230,2,  33.7240,2,    329.5,2,    10.81,2,    17.95,2,     0.26,2,     1.59,2,   -999.0,9,   -999.0,9,     -999,   -999.0,9,   -999.0,  -999.00,9,   3.2893,20060326,1659
  33LG20060321,  SR01,    15,  1,    282,     20,2,20060326,1544,-59.9780, -63.3120, 3865,      5.0,   3.3000,  33.7220,2,  33.7240,2,    329.2,2,    11.49,2,    18.17,2,     0.25,2,     1.42,2,   2125.2,2,    347.8,2,      3.3,   -999.0,9,   -999.0,     1.79,2,   3.2997,20060326,1700
  33LG20060321,  SR01,    15,  1,    283,     21,2,20060326,1544,-59.9780, -63.3120, 3865,      5.8,   3.3000,  33.7220,2,  33.7250,2,    329.0,2,    12.00,2,    18.53,2,     0.26,2,     1.50,2,   -999.0,9,   -999.0,9,     -999,   -999.0,9,   -999.0,  -999.00,9,   3.2996,20060326,1700
  33LG20060321,  SR01,    16,  1,    284,      1,2,20060326,1934,-60.3250, -63.1700, 3853,   1013.1,   1.8400,  34.7260,2,  34.7250,2,    190.6,2,    90.92,2,    27.94,2,     0.02,2,     2.12,2,   2252.7,2,    528.1,2,     1.84,   -999.0,9,   -999.0,     0.42,2,   1.7800,20060326,1934
  33LG20060321,  SR01,    16,  1,    285,      2,2,20060326,1934,-60.3250, -63.1700, 3853,    808.7,   1.9900,  34.7070,2,  34.7030,2,    185.4,2,    70.08,2,    28.58,2,     0.02,2,     2.23,2,   2255.7,2,    548.9,2,     1.99,   -999.0,9,   -999.0,  -999.00,9,   1.9425,20060326,1939
  33LG20060321,  SR01,    16,  1,    286,      3,2,20060326,1934,-60.3250, -63.1700, 3853,    708.3,   2.0700,  34.6880,2,  34.6860,2,    182.3,2,    70.84,2,    28.25,2,     0.02,2,     2.16,2,   -999.0,9,   -999.0,9,     -999,   -999.0,9,   -999.0,  -999.00,9,   2.0286,20060326,1942
  33LG20060321,  SR01,    16,  1,    287,      4,2,20060326,1934,-60.3250, -63.1700, 3853,    605.8,   2.1100,  34.6670,2,  34.6650,2,    180.2,2,    66.31,2,    28.72,2,     0.02,2,     2.21,2,   2255.0,2,    570.9,2,     2.11,   -999.0,9,   -999.0,  -999.00,9,   2.0749,20060326,1944
  33LG20060321,  SR01,    16,  1,    288,      5,2,20060326,1934,-60.3250, -63.1700, 3853,    504.2,   2.1700,  34.6370,2,  34.6360,2,    176.7,2,    65.38,2,    29.43,2,     0.02,2,     2.10,2,   -999.0,9,   -999.0,9,     -999,   -999.0,9,   -999.0,  -999.00,9,   2.1410,20060326,1947
  33LG20060321,  SR01,    16,  1,    289,      6,2,20060326,1934,-60.3250, -63.1700, 3853,    404.6,   2.2000,  34.5880,2,  34.5950,2,    177.7,2,    63.57,2,    29.96,2,     0.02,2,     2.35,2,   2254.2,2,    596.3,2,      2.2,   -999.0,9,   -999.0,     0.40,2,   2.1770,20060326,1950
  33LG20060321,  SR01,    16,  1,    290,      7,2,20060326,1934,-60.3250, -63.1700, 3853,    304.7,   2.2100,  34.5350,2,  34.5330,2,    180.1,2,    60.09,2,    30.49,2,     0.24,2,     2.38,2,   -999.0,9,   -999.0,9,     -999,   -999.0,9,   -999.0,  -999.00,9,   2.1929,20060326,1952
  33LG20060321,  SR01,    16,  1,    291,      8,2,20060326,1934,-60.3250, -63.1700, 3853,    251.9,   2.1700,  34.4900,2,  34.4830,2,    185.7,2,    55.04,2,    30.48,2,     0.02,2,     2.26,2,   2247.4,2,    609.4,2,     2.17,   -999.0,9,   -999.0,     0.45,2,   2.1561,20060326,1954
  33LG20060321,  SR01,    16,  1,    292,      9,2,20060326,1934,-60.3250, -63.1700, 3853,    201.7,   1.7800,  34.3970,2,  34.3870,2,    207.7,2,    52.02,2,    29.71,2,     0.03,2,     2.37,2,   -999.0,9,   -999.0,9,     -999,   -999.0,9,   -999.0,  -999.00,9,   1.7696,20060326,1955
  33LG20060321,  SR01,    16,  1,    293,     10,2,20060326,1934,-60.3250, -63.1700, 3853,    151.7,   1.0200,  34.2610,2,  34.2530,2,    246.5,2,    45.16,2,    10.01,4,     0.04,2,     2.95,3,   2220.8,2,    543.3,2,     1.02,   -999.0,9,   -999.0,  -999.00,9,   1.0133,20060326,1957
  33LG20060321,  SR01,    16,  1,    294,     11,2,20060326,1934,-60.3250, -63.1700, 3853,    100.5,  -0.6200,  34.0200,2,  33.9950,2,    324.4,2,    32.27,2,    26.62,2,     0.27,2,     2.12,2,   2187.1,2,    431.1,2,    -0.62,   -999.0,9,   -999.0,     1.02,2,  -0.6230,20060326,1958
  33LG20060321,  SR01,    16,  1,    295,     12,2,20060326,1934,-60.3250, -63.1700, 3853,     76.0,  -1.0300,  33.9050,2,  33.9120,2,    348.4,2,    27.99,2,    23.55,2,     0.21,2,     1.96,2,   2173.5,2,    388.8,2,    -1.03,   -999.0,9,   -999.0,  -999.00,9,  -1.0319,20060326,1959
  33LG20060321,  SR01,    16,  1,    296,     13,2,20060326,1934,-60.3250, -63.1700, 3853,     48.5,   0.2400,  33.8340,2,  33.8370,2,    354.2,2,    21.66,2,    21.17,2,     0.19,2,     1.77,2,   2153.8,2,    351.5,2,     0.24,   -999.0,9,   -999.0,  -999.00,9,   0.2382,20060326,2001
  33LG20060321,  SR01,    16,  1,    297,     14,2,20060326,1934,-60.3250, -63.1700, 3853,     25.2,   3.3800,  33.7100,2,  33.7130,2,    328.7,2,     7.68,2,    19.22,2,     0.30,2,     1.50,2,   2125.9,2,    356.6,2,     3.38,   -999.0,9,   -999.0,     1.46,2,   3.3784,20060326,2002
  33LG20060321,  SR01,    16,  1,    298,     15,2,20060326,1934,-60.3250, -63.1700, 3853,     10.2,   3.4400,  33.7090,2,  33.7060,2,    328.6,2,     7.55,2,    17.10,2,     0.34,2,     1.51,2,   2125.9,2,    356.7,2,     3.44,   -999.0,9,   -999.0,  -999.00,9,   3.4394,20060326,2003
  33LG20060321,  SR01,    16,  1,    299,     16,2,20060326,1934,-60.3250, -63.1700, 3853,      5.5,   3.4300,  33.7090,2,  33.7100,2,    328.8,2,     7.90,2,    18.99,2,     0.29,2,     1.48,2,   2125.3,2,    355.0,2,     3.43,   -999.0,9,   -999.0,     1.71,2,   3.4297,20060326,2004
  33LG20060321,  SR01,    16,  1,    300,     17,2,20060326,1934,-60.3250, -63.1700, 3853,      4.9,   3.4400,  33.7090,2,  33.7090,2,    328.6,2,     7.91,2,    19.10,2,     0.30,2,     1.46,2,   -999.0,9,   -999.0,9,     -999,   -999.0,9,   -999.0,  -999.00,9,   3.4397,20060326,2005