BOTTLE,20220922CCHSIOAMB
EXPOCODE,SECT_ID,STNNBR,CASTNO,SAMPNO,BTLNBR,BTLNBR_FLAG_W,DATE,TIME,LATITUDE,LONGITUDE,DEPTH,CTDPRS,CTDTMP,CTDSAL,CTDSAL_FLAG_W,SALNTY,SALNTY_FLAG_W,OXYGEN,OXYGEN_FLAG_W,SILCAT,SILCAT_FLAG_W,NITRAT,NITRAT_FLAG_W,NITRIT,NITRIT_FLAG_W,PHSPHT,PHSPHT_FLAG_W,TCARBN,TCARBN_FLAG_W,FCO2,FCO2_FLAG_W,FCO2TMP,DELC14,DELC14_FLAG_W,C14ERR,DELC13,DELC13_FLAG_W,THETA,BTL_DATE,BTL_TIME
,,,,,,,,,,,METERS,DBAR,ITS-90,PSS-78,,PSS-78,,UMOL/KG,,UMOL/KG,,UMOL/KG,,UMOL/KG,,UMOL/KG,,UMOL/KG,,UATM,,DEG C,/MILLE,,/MILLE,/MILLE,,DEG C,,
  33LG20060321,  SR01,    17,  1,    301,      1,2,20060326,2347,-60.6830, -63.0600, 3677,   3611.4,   0.4400,  34.6970,2,  34.6990,2,    220.4,2,   121.43,2,    27.88,2,     0.02,2,     2.13,2,   2261.6,2,    490.5,2,     0.44,   -999.0,9,   -999.0,     0.44,2,   0.1899,20060326,2347
  33LG20060321,  SR01,    17,  1,    302,      2,2,20060326,2347,-60.6830, -63.0600, 3677,   3563.4,   0.4400,  34.6990,2,  34.6990,2,    221.0,2,   120.64,2,    28.74,2,     0.02,2,     2.21,2,   -999.0,9,   -999.0,9,     -999,   -999.0,9,   -999.0,  -999.00,9,   0.1945,20060326,2350
  33LG20060321,  SR01,    17,  1,    303,      3,2,20060326,2347,-60.6830, -63.0600, 3677,   3048.9,   0.4900,  34.7060,2,  34.7080,2,    217.8,2,   118.91,2,    28.21,2,     0.02,2,     2.14,2,   2263.0,2,    489.0,2,     0.49,   -999.0,9,   -999.0,  -999.00,9,   0.2911,20060326,0001
  33LG20060321,  SR01,    17,  1,    304,      4,2,20060326,2347,-60.6830, -63.0600, 3677,   2541.3,   0.5800,  34.7110,2,  34.7160,2,    214.5,2,   108.97,2,    21.14,4,     0.02,2,     2.08,2,   -999.0,9,   -999.0,9,     -999,   -999.0,9,   -999.0,  -999.00,9,   0.4227,20060326,0011
  33LG20060321,  SR01,    17,  1,    305,      5,2,20060326,2347,-60.6830, -63.0600, 3677,   2027.8,   0.8200,  34.7180,2,  34.7240,2,    210.1,2,   110.68,2,    26.25,2,     0.04,2,     2.49,3,   2259.7,2,    501.0,2,     0.82,   -999.0,9,   -999.0,  -999.00,9,   0.6992,20060326,0022
  33LG20060321,  SR01,    17,  1,    306,      6,2,20060326,2347,-60.6830, -63.0600, 3677,   1520.5,   1.1200,  34.7270,2,  34.7320,2,    204.4,2,    99.02,2,    27.93,2,     0.02,2,     2.10,2,   -999.0,9,   -999.0,9,     -999,   -999.0,9,   -999.0,  -999.00,9,   1.0322,20060326,0032
  33LG20060321,  SR01,    17,  1,    307,      7,2,20060326,2347,-60.6830, -63.0600, 3677,   1011.4,   1.5200,  34.7340,2,  34.7380,2,    196.0,2,    93.16,2,    27.53,2,     0.03,2,     2.16,2,   2257.6,2,    516.7,2,     1.52,   -999.0,9,   -999.0,     0.39,2,   1.4626,20060326,0042
  33LG20060321,  SR01,    17,  1,    308,      8,2,20060326,2347,-60.6830, -63.0600, 3677,    807.8,   1.7200,  34.7310,2,  34.7390,2,    189.9,2,    85.53,2,    26.88,2,     0.02,2,     2.10,2,   -999.0,9,   -999.0,9,     -999,   -999.0,9,   -999.0,  -999.00,9,   1.6743,20060326,0046
  33LG20060321,  SR01,    17,  1,    309,      9,2,20060326,2347,-60.6830, -63.0600, 3677,    605.1,   1.8500,  34.7100,2,  34.7150,2,    185.4,2,    80.57,2,    27.42,2,     0.02,2,     2.22,2,   2259.7,2,    550.1,2,     1.85,   -149.0,2,      2.2,     0.36,2,   1.8161,20060326,0051
  33LG20060321,  SR01,    17,  1,    310,     10,2,20060326,2347,-60.6830, -63.0600, 3677,    505.0,   1.8800,  34.6820,2,  34.6860,2,    180.7,2,    71.91,2,    28.40,2,     0.02,2,     2.28,2,   2261.0,2,    572.8,2,     1.88,   -145.9,2,      2.2,     0.38,2,   1.8521,20060326,0053
  33LG20060321,  SR01,    17,  1,    311,     11,2,20060326,2347,-60.6830, -63.0600, 3677,    459.3,   1.8000,  34.6560,2,  34.6590,2,    182.3,2,    70.93,2,    28.33,2,     0.02,2,     2.26,2,   2258.9,2,    582.9,2,      1.8,   -149.2,2,      2.2,     0.35,2,   1.7751,20060326,0055
  33LG20060321,  SR01,    17,  1,    312,     12,2,20060326,2347,-60.6830, -63.0600, 3677,    404.6,   1.8900,  34.6410,2,  34.6450,2,    179.2,2,    71.62,2,    29.13,2,     0.07,2,     2.48,3,   -999.0,9,   -999.0,9,     -999,   -999.0,9,   -999.0,  -999.00,9,   1.8680,20060326,0058
  33LG20060321,  SR01,    17,  1,    313,     13,2,20060326,2347,-60.6830, -63.0600, 3677,    301.5,   1.8000,  34.5750,2,  34.5800,2,    182.4,2,    72.16,2,    29.44,2,     0.03,2,     2.30,2,   2256.7,2,    608.7,2,      1.8,   -140.6,2,      2.2,     0.32,2,   1.7841,20060326,0101
  33LG20060321,  SR01,    17,  1,    314,     14,2,20060326,2347,-60.6830, -63.0600, 3677,    202.8,   0.4800,  34.3040,2,  34.3080,2,    245.3,2,    59.92,2,    27.86,2,     0.05,2,     2.15,2,   -999.0,9,   -999.0,9,     -999,   -999.0,9,   -999.0,  -999.00,9,   0.4718,20060326,0103
  33LG20060321,  SR01,    17,  1,    315,     15,2,20060326,2347,-60.6830, -63.0600, 3677,    151.5,  -0.3900,  34.0750,2,  34.0840,2,    298.4,2,    49.40,2,    26.06,2,     0.25,2,     2.03,2,   2203.3,2,    455.1,2,    -0.39,   -118.5,2,      2.2,     0.77,2,  -0.3949,20060326,0107
  33LG20060321,  SR01,    17,  1,    316,     16,2,20060326,2347,-60.6830, -63.0600, 3677,    100.7,  -0.2000,  33.9110,2,  33.9180,2,    344.9,2,    43.66,2,    21.81,2,     0.23,2,     1.88,2,   -999.0,9,   -999.0,9,     -999,   -999.0,9,   -999.0,  -999.00,9,  -0.2033,20060326,0110
  33LG20060321,  SR01,    17,  1,    317,     17,2,20060326,2347,-60.6830, -63.0600, 3677,     75.4,   1.4600,  33.8110,2,  33.8190,2,    342.1,2,    31.67,2,    18.89,2,     0.17,2,     1.63,2,   2145.8,2,    350.6,2,     1.46,   -999.0,9,   -999.0,     1.48,2,   1.4565,20060326,0111
  33LG20060321,  SR01,    17,  1,    318,     18,2,20060326,2347,-60.6830, -63.0600, 3677,     51.2,   2.9400,  33.7040,2,  33.7090,2,    330.7,2,    25.03,2,    16.93,2,     0.21,2,     1.46,2,   -999.0,9,   -999.0,9,     -999,   -999.0,9,   -999.0,  -999.00,9,   2.9370,20060326,0112
  33LG20060321,  SR01,    17,  1,    319,     19,2,20060326,2347,-60.6830, -63.0600, 3677,     24.8,   3.0100,  33.7020,2,  33.7080,2,    330.1,2,    24.35,2,    15.93,2,     0.23,2,     1.48,2,   2124.9,2,    337.0,2,     3.01,   -999.0,9,   -999.0,  -999.00,9,   3.0085,20060326,0114
  33LG20060321,  SR01,    17,  1,    320,     20,2,20060326,2347,-60.6830, -63.0600, 3677,     10.4,   3.0700,  33.7020,2,  33.7050,2,    329.1,2,    25.42,2,    16.89,2,     0.20,2,     1.48,2,   -999.0,9,    335.8,2,     3.07,   -999.0,9,   -999.0,  -999.00,9,   3.0694,20060326,0115
  33LG20060321,  SR01,    17,  1,    321,     21,2,20060326,2347,-60.6830, -63.0600, 3677,      4.6,   3.0800,  33.7020,2,  33.7040,2,    328.8,2,    26.85,2,    17.06,2,     0.18,2,     1.45,2,   2125.9,2,    336.1,2,     3.08,   -999.0,9,   -999.0,  -999.00,9,   3.0797,20060326,0116
  33LG20060321,  SR01,    17,  1,    322,     22,2,20060326,2347,-60.6830, -63.0600, 3677,      5.6,   3.0900,  33.7030,2,  33.7040,2,    328.9,2,    26.10,2,    16.65,2,     0.19,2,     1.44,2,   -999.0,9,    336.2,2,     3.09,   -999.0,9,   -999.0,  -999.00,9,   3.0897,20060326,0116
  33LG20060321,  SR01,    17,  1,    323,     23,2,20060326,2347,-60.6830, -63.0600, 3677,      6.9,   3.0900,  33.7010,2,-999.0000,9,   -999.0,9,  -999.00,9,  -999.00,9,  -999.00,9,  -999.00,9,   -999.0,9,   -999.0,9,     -999,   -999.0,9,   -999.0,  -999.00,9,   3.0896,20060326,0116
  33LG20060321,  SR01,    18,  1,    324,      1,2,20060327,0354,-61.0370, -62.9360, 3820,   1013.3,   1.7500,  34.7300,2,  34.7300,2,    190.8,2,    85.14,2,    25.94,2,     0.02,2,     2.17,2,   2255.1,2,    529.5,2,     1.75,   -155.9,2,      2.2,     0.34,2,   1.6907,20060327,0354
  33LG20060321,  SR01,    18,  1,    325,      2,2,20060327,0354,-61.0370, -62.9360, 3820,    809.5,   1.9200,  34.7170,2,  34.7170,2,    187.2,2,    82.02,2,    26.34,2,     0.02,2,     2.06,2,   -999.0,9,   -999.0,9,     -999,   -999.0,9,   -999.0,  -999.00,9,   1.8729,20060327,0401
  33LG20060321,  SR01,    18,  1,    326,      3,2,20060327,0354,-61.0370, -62.9360, 3820,    605.5,   2.0500,  34.6880,2,  34.6870,2,    182.1,2,    69.86,2,    25.23,2,     0.04,2,     2.04,2,   2254.7,2,    567.2,2,     2.05,   -999.0,9,   -999.0,  -999.00,9,   2.0152,20060327,0406
  33LG20060321,  SR01,    18,  1,    327,      4,2,20060327,0354,-61.0370, -62.9360, 3820,    506.0,   2.1000,  34.6610,2,  34.6610,2,    179.1,2,    82.01,3,    26.16,2,     0.04,2,     2.28,2,   -999.0,9,   -999.0,9,     -999,   -999.0,9,   -999.0,  -999.00,9,   2.0711,20060327,0409
  33LG20060321,  SR01,    18,  1,    328,      5,2,20060327,0354,-61.0370, -62.9360, 3820,    398.9,   2.1300,  34.6100,2,  34.6090,2,    177.6,2,    67.73,2,    26.13,2,     0.03,2,     2.19,2,   -999.0,9,   -999.0,9,     -999,   -999.0,9,   -999.0,  -999.00,9,   2.1075,20060327,0412
  33LG20060321,  SR01,    18,  1,    329,      6,2,20060327,0354,-61.0370, -62.9360, 3820,    304.3,   2.0700,  34.5420,2,  34.5410,2,    181.9,2,    64.32,2,    28.44,2,     0.06,2,     2.30,2,   2252.3,2,    612.6,2,     2.07,   -999.0,9,   -999.0,  -999.00,9,   2.0533,20060327,0416
  33LG20060321,  SR01,    18,  1,    330,      7,2,20060327,0354,-61.0370, -62.9360, 3820,    202.6,   1.6700,  34.3890,2,  34.3840,2,    208.7,2,    54.89,2,    27.94,2,     0.05,2,     2.30,2,   -999.0,9,   -999.0,9,     -999,   -999.0,9,   -999.0,  -999.00,9,   1.6598,20060327,0418
  33LG20060321,  SR01,    18,  1,    331,      8,2,20060327,0354,-61.0370, -62.9360, 3820,    151.0,   0.9100,  34.2410,2,  34.2390,2,    253.0,2,    44.19,2,    24.84,2,     0.04,2,     2.17,2,   -999.0,9,   -999.0,9,     -999,   -999.0,9,   -999.0,  -999.00,9,   0.9034,20060327,0421
  33LG20060321,  SR01,    18,  1,    332,      9,2,20060327,0354,-61.0370, -62.9360, 3820,    101.7,  -0.9500,  33.9710,2,  33.9690,2,    331.8,2,    32.03,2,    23.12,2,     0.26,2,     1.91,2,   -999.0,9,   -999.0,9,     -999,   -999.0,9,   -999.0,  -999.00,9,  -0.9527,20060327,0423
  33LG20060321,  SR01,    18,  1,    333,     10,2,20060327,0354,-61.0370, -62.9360, 3820,     86.6,  -1.0500,  33.9320,2,  33.9290,2,    344.1,2,    29.88,2,    22.51,2,     0.23,2,     1.88,2,   2180.4,2,    396.8,2,    -1.05,   -999.0,9,   -999.0,     1.06,2,  -1.0522,20060327,0424
  33LG20060321,  SR01,    18,  1,    334,     11,2,20060327,0354,-61.0370, -62.9360, 3820,     76.4,  -0.9600,  33.8900,2,  33.8850,2,    355.0,2,    26.77,2,    20.74,2,     0.23,2,     1.82,2,   2166.8,2,    379.8,2,    -0.96,   -999.0,9,   -999.0,  -999.00,9,  -0.9620,20060327,0425
  33LG20060321,  SR01,    18,  1,    335,     12,2,20060327,0354,-61.0370, -62.9360, 3820,     51.4,   1.3500,  33.7810,2,  33.7910,2,    347.0,2,    16.36,2,    18.32,2,     0.22,2,     1.57,2,   2143.0,2,    353.8,2,     1.35,   -999.0,9,   -999.0,  -999.00,9,   1.3477,20060327,0426
  33LG20060321,  SR01,    18,  1,    336,     13,2,20060327,0354,-61.0370, -62.9360, 3820,     25.4,   3.0400,  33.7310,2,  33.7300,2,    330.9,2,     9.06,2,    16.57,2,     0.26,2,     1.36,2,   2127.5,2,    346.1,2,     3.04,    -80.5,2,      2.2,     1.77,2,   3.0385,20060327,0428
  33LG20060321,  SR01,    18,  1,    337,     14,2,20060327,0354,-61.0370, -62.9360, 3820,     10.6,   3.1300,  33.7280,2,  33.7250,2,    329.9,2,     8.38,2,    17.40,2,     0.25,2,     1.67,2,   -999.0,9,   -999.0,9,     -999,   -999.0,9,   -999.0,  -999.00,9,   3.1294,20060327,0429
  33LG20060321,  SR01,    18,  1,    338,     15,2,20060327,0354,-61.0370, -62.9360, 3820,      4.2,   3.1400,  33.7270,2,  33.7250,2,    329.5,2,     9.06,2,    16.54,2,     0.27,2,     1.37,2,   2124.3,2,    347.6,2,     3.14,    -74.7,2,      2.2,     1.82,2,   3.1397,20060327,0430
  33LG20060321,  SR01,    18,  1,    339,     16,2,20060327,0354,-61.0370, -62.9360, 3820,      5.1,   3.1400,  33.7270,2,  33.7250,2,    328.2,2,     8.38,2,    16.60,2,     0.30,2,     1.37,2,   -999.0,9,   -999.0,9,     -999,   -999.0,9,   -999.0,  -999.00,9,   3.1397,20060327,0430
  33LG20060321,  SR01,    19,  1,    340,      1,2,20060327,0803,-61.3930, -62.8150, 3820,   3435.3,   0.3800,  34.6940,2,  34.6890,2,    221.8,2,   112.06,2,    27.19,2,     0.02,2,     2.12,2,   2257.1,2,    489.1,2,     0.38,   -999.0,9,   -999.0,     0.10,2,   0.1483,20060327,0803
  33LG20060321,  SR01,    19,  1,    341,      2,2,20060327,0803,-61.3930, -62.8150, 3820,   3050.4,   0.5400,  34.7090,2,  34.7060,2,    216.6,2,   119.64,2,    26.85,2,     0.06,2,     2.15,2,   2260.2,2,    494.1,2,     0.54,   -999.0,9,   -999.0,     0.39,2,   0.3398,20060327,0832
  33LG20060321,  SR01,    19,  1,    342,      3,2,20060327,0803,-61.3930, -62.8150, 3820,   2541.1,   0.6700,  34.7130,2,  34.7070,2,    212.7,2,   111.37,2,    26.59,2,     0.02,2,     2.08,2,   -999.0,9,   -999.0,9,     -999,   -999.0,9,   -999.0,  -999.00,9,   0.5111,20060327,0845
  33LG20060321,  SR01,    19,  1,    343,      4,2,20060327,0803,-61.3930, -62.8150, 3820,   2032.3,   0.9200,  34.7200,2,  34.7170,2,    208.4,2,   106.08,2,    26.88,2,     0.02,2,     2.15,2,   2259.6,2,    497.3,2,     0.92,   -999.0,9,   -999.0,  -999.00,9,   0.7973,20060327,0858
  33LG20060321,  SR01,    19,  1,    344,      5,2,20060327,0803,-61.3930, -62.8150, 3820,   1518.5,   1.2300,  34.7300,2,  34.7290,2,    201.2,2,    95.45,2,    26.35,2,     0.02,2,     2.05,2,   -999.0,9,   -999.0,9,     -999,   -999.0,9,   -999.0,  -999.00,9,   1.1410,20060327,0909
  33LG20060321,  SR01,    19,  1,    345,      6,2,20060327,0803,-61.3930, -62.8150, 3820,   1010.7,   1.6500,  34.7330,2,  34.7290,2,    192.8,2,    86.40,2,    25.79,2,     0.06,2,     2.09,2,   2254.1,2,    521.9,2,     1.65,   -999.0,9,   -999.0,     0.39,2,   1.5917,20060327,0920
  33LG20060321,  SR01,    19,  1,    346,      7,2,20060327,0803,-61.3930, -62.8150, 3820,    808.3,   1.8300,  34.7230,2,  34.7180,2,    187.4,2,    78.23,2,    26.78,2,     0.19,2,     2.07,2,   -999.0,9,   -999.0,9,     -999,   -999.0,9,   -999.0,  -999.00,9,   1.7835,20060327,0926
  33LG20060321,  SR01,    19,  1,    347,      8,2,20060327,0803,-61.3930, -62.8150, 3820,    605.4,   1.9400,  34.7000,2,  34.6970,2,    181.6,2,    76.26,2,    26.02,2,     0.03,2,     2.10,2,   2255.7,2,    566.8,2,     1.94,   -999.0,9,   -999.0,     0.35,2,   1.9057,20060327,0931
  33LG20060321,  SR01,    19,  1,    348,      9,2,20060327,0803,-61.3930, -62.8150, 3820,    504.9,   1.9900,  34.6810,2,  34.6780,2,    180.5,2,    71.20,2,    27.45,2,     0.02,2,     2.14,2,   2255.3,2,    576.6,2,     1.99,   -999.0,9,   -999.0,     0.29,2,   1.9616,20060327,0934
  33LG20060321,  SR01,    19,  1,    349,     10,2,20060327,0803,-61.3930, -62.8150, 3820,    401.1,   2.0300,  34.6490,2,  34.6470,2,    177.5,2,    69.36,2,    27.67,2,     0.02,2,     2.18,2,   -999.0,9,   -999.0,9,     -999,   -999.0,9,   -999.0,  -999.00,9,   2.0077,20060327,0938
  33LG20060321,  SR01,    19,  1,    350,     11,2,20060327,0803,-61.3930, -62.8150, 3820,    303.9,   1.9200,  34.5960,2,  34.5860,2,    178.5,2,    71.41,2,    28.86,2,     0.02,2,     2.26,2,   2256.3,2,    609.5,2,     1.92,   -999.0,9,   -999.0,     0.29,2,   1.9037,20060327,0940
  33LG20060321,  SR01,    19,  1,    351,     12,2,20060327,0803,-61.3930, -62.8150, 3820,    202.9,   1.4500,  34.4710,2,  34.4630,2,    193.7,2,    63.28,2,    29.07,2,     0.02,2,     2.23,2,   -999.0,9,   -999.0,9,     -999,   -999.0,9,   -999.0,  -999.00,9,   1.4401,20060327,0943
  33LG20060321,  SR01,    19,  1,    352,     13,2,20060327,0803,-61.3930, -62.8150, 3820,    152.0,   0.6800,  34.3130,2,  34.3160,2,    225.4,2,    58.82,2,    28.49,2,     0.09,2,     2.21,2,   2233.7,2,    564.8,2,     0.68,   -999.0,9,   -999.0,     0.17,2,   0.6737,20060327,0946
  33LG20060321,  SR01,    19,  1,    353,     14,2,20060327,0803,-61.3930, -62.8150, 3820,    100.6,  -0.7900,  34.0020,2,  34.0000,2,    304.6,2,    48.57,2,    24.03,2,     0.22,2,     2.00,2,   2198.4,2,    447.6,2,    -0.79,   -999.0,9,   -999.0,  -999.00,9,  -0.7928,20060327,0949
  33LG20060321,  SR01,    19,  1,    354,     15,2,20060327,0803,-61.3930, -62.8150, 3820,     75.8,  -0.5900,  33.9120,2,  33.9110,2,    334.1,2,    45.31,2,    20.11,2,     0.13,2,     1.95,2,   2177.5,2,    395.2,2,    -0.59,   -999.0,9,   -999.0,     0.98,2,  -0.5922,20060327,0950
  33LG20060321,  SR01,    19,  1,    355,     16,2,20060327,0803,-61.3930, -62.8150, 3820,     50.7,   2.5000,  33.7340,2,  33.7640,2,    331.6,2,    27.17,2,    16.58,2,     0.34,2,     1.47,2,   -999.0,9,   -999.0,9,     -999,   -999.0,9,   -999.0,  -999.00,9,   2.4972,20060327,0951
  33LG20060321,  SR01,    19,  1,    356,     17,2,20060327,0803,-61.3930, -62.8150, 3820,     24.7,   2.7500,  33.7310,2,  33.7260,2,    329.5,2,    23.96,2,    16.39,2,     0.20,2,     1.38,2,   2128.4,2,    335.7,2,     2.75,   -999.0,9,   -999.0,     1.68,2,   2.7486,20060327,0952
  33LG20060321,  SR01,    19,  1,    357,     18,2,20060327,0803,-61.3930, -62.8150, 3820,     10.3,   2.7600,  33.7290,2,  33.7250,2,    330.2,2,    25.03,2,    14.15,2,     0.18,2,     1.35,2,   -999.0,9,   -999.0,9,     -999,   -999.0,9,   -999.0,  -999.00,9,   2.7594,20060327,0953
  33LG20060321,  SR01,    19,  1,    358,     19,2,20060327,0803,-61.3930, -62.8150, 3820,      4.9,   2.7600,  33.7290,2,  33.7370,2,    329.8,2,    26.78,2,    16.08,2,     0.19,2,     1.36,2,   2129.1,2,    335.7,2,     2.76,   -999.0,9,   -999.0,     1.69,2,   2.7597,20060327,0954
  33LG20060321,  SR01,    19,  1,    359,     20,2,20060327,0803,-61.3930, -62.8150, 3820,      4.9,   2.7600,  33.7280,2,  33.7250,2,    329.4,2,    26.55,2,    16.41,2,     0.19,2,     1.36,2,   -999.0,9,   -999.0,9,     -999,   -999.0,9,   -999.0,  -999.00,9,   2.7597,20060327,0954