BOTTLE,20220922CCHSIOAMB
EXPOCODE,SECT_ID,STNNBR,CASTNO,SAMPNO,BTLNBR,BTLNBR_FLAG_W,DATE,TIME,LATITUDE,LONGITUDE,DEPTH,CTDPRS,CTDTMP,CTDSAL,CTDSAL_FLAG_W,SALNTY,SALNTY_FLAG_W,CTDOXY,CTDOXY_FLAG_W,OXYGEN,OXYGEN_FLAG_W,SILCAT,SILCAT_FLAG_W,NITRAT,NITRAT_FLAG_W,NITRIT,NITRIT_FLAG_W,PHSPHT,PHSPHT_FLAG_W,NH4,NH4_FLAG_W,CFC-11,CFC-11_FLAG_W,CFC-12,CFC-12_FLAG_W,CFC113,CFC113_FLAG_W,TCARBN,TCARBN_FLAG_W,ALKALI,ALKALI_FLAG_W,FCO2,FCO2_FLAG_W,FCO2TMP,DOC,DOC_FLAG_W,THETA,BTL_DATE,BTL_TIME
,,,,,,,,,,,METERS,DBAR,ITS-90,PSS-78,,PSS-78,,UMOL/KG,,UMOL/KG,,UMOL/KG,,UMOL/KG,,UMOL/KG,,UMOL/KG,,UMOL/KG,,PMOL/KG,,PMOL/KG,,PMOL/KG,,UMOL/KG,,UMOL/KG,,UATM,,DEG C,UMOL/KG,,DEG C,,
  33RO20070710,GOMECC,    79,  1,   7901,      1,2,20070731,2227, 39.9055, -69.9298,  752,    728.3,   4.6700,  34.9290,2,  34.9370,2,    233.2,2,    245.5,6,    11.70,2,    17.70,2,     0.03,2,     1.17,2,      0.2,2,    2.670,2,    1.050,2,    0.290,2,   2169.4,2,   2307.2,2,    801.0,2,       20,   -999.0,9,   4.6121,20070731,2227
  33RO20070710,GOMECC,    79,  1,   7903,      3,2,20070731,2227, 39.9055, -69.9298,  752,    604.5,   5.0710,  34.9250,2,  34.9340,2,    217.8,2,    230.4,2,    12.10,2,    18.40,2,     0.06,2,     1.24,2,     0.16,2, -999.000,9, -999.000,9, -999.000,9,   2173.4,2,   2305.6,2,    826.6,2,       20,   -999.0,9,   5.0216,20070731,2230
  33RO20070710,GOMECC,    79,  1,   7904,      4,2,20070731,2227, 39.9055, -69.9298,  752,    504.1,   5.5000,  34.9410,2,  34.9520,2,    204.1,2,    217.2,2,    12.50,2,    19.20,2,     0.10,2,     1.30,2,     0.17,2, -999.000,9, -999.000,9, -999.000,9,   2177.7,2,   2307.7,2,    842.4,2,       20,   -999.0,9,   5.4575,20070731,2233
  33RO20070710,GOMECC,    79,  1,   7905,      5,2,20070731,2227, 39.9055, -69.9298,  752,    433.2,   5.9010,  34.9740,2,  34.9790,2,    194.2,2,    207.3,2,    12.70,2,    19.80,2,     0.08,2,     1.33,2,     0.19,2,    2.390,2,    0.850,2,    0.110,2,   2179.7,2,   2309.9,2,    841.6,2,       20,   -999.0,9,   5.8633,20070731,2235
  33RO20070710,GOMECC,    79,  1,   7906,      6,2,20070731,2227, 39.9055, -69.9298,  752,    373.4,   6.5400,  35.0200,2,  35.0250,6,    180.4,2,    191.3,2,    13.10,2,    20.70,2,     0.05,2,     1.37,2,     0.13,2, -999.000,9, -999.000,9, -999.000,9,   2182.4,2,   2313.9,2,    848.9,2,       20,   -999.0,9,   6.5059,20070731,2237
  33RO20070710,GOMECC,    79,  1,   7907,      7,2,20070731,2227, 39.9055, -69.9298,  752,    312.5,   8.0240,  35.1010,2,  35.1080,2,    149.4,2,    159.4,2,    13.70,2,    22.60,2,     0.09,2,     1.49,2,     0.14,2, -999.000,9, -999.000,9, -999.000,9,   2189.8,2,   2319.0,2,    868.5,2,       20,   -999.0,9,   7.9920,20070731,2238
  33RO20070710,GOMECC,    79,  1,   7908,      8,2,20070731,2227, 39.9055, -69.9298,  752,    261.2,   9.0940,  35.1800,2,  35.1850,2,    135.8,2,    144.9,2,    13.40,2,    22.90,2,     0.02,2,     1.48,2,     0.14,2,    1.320,2,    0.440,2,    0.250,2,   2191.8,2,   2320.6,2,    856.0,2,       20,   -999.0,9,   9.0652,20070731,2240
  33RO20070710,GOMECC,    79,  1,   7909,      9,2,20070731,2227, 39.9055, -69.9298,  752,    211.2,  10.5030,  35.2710,2,  35.2740,2,    139.9,2,    149.0,2,    10.80,2,    20.00,2,     0.03,2,     1.29,2,      0.2,2, -999.000,9, -999.000,9, -999.000,9,   2181.9,2,   2332.5,2,    782.2,2,       20,   -999.0,9,  10.4776,20070731,2242
  33RO20070710,GOMECC,    79,  1,   7910,     10,2,20070731,2227, 39.9055, -69.9298,  752,    170.7,  12.4370,  35.4570,2,  35.4310,4,    166.5,2,    178.9,6,     6.60,2,    13.90,2,     0.03,2,     0.90,2,     0.17,2, -999.000,9, -999.000,9, -999.000,9,   2151.9,2,   2339.2,2,    620.6,2,       20,     73.7,2,  12.4141,20070731,2244
  33RO20070710,GOMECC,    79,  1,   7911,     11,2,20070731,2227, 39.9055, -69.9298,  752,    130.9,  13.9760,  35.6980,2,  35.6970,2,    172.0,2,    184.5,2,     4.80,2,    11.40,2,     0.03,2,     0.72,2,      0.2,2,    2.260,2,    1.240,2,    0.070,2,   2140.5,2,   2348.9,2,    548.0,2,       20,   -999.0,9,  13.9570,20070731,2246
  33RO20070710,GOMECC,    79,  1,   7912,     12,2,20070731,2227, 39.9055, -69.9298,  752,    100.7,  14.1000,  35.6170,2,  35.6130,2,    181.6,2,    205.7,2,     3.90,2,     9.30,2,     0.03,2,     0.60,2,     0.14,2, -999.000,9, -999.000,9, -999.000,9,   2128.0,2,   2351.2,2,    515.8,2,       20,   -999.0,9,  14.0853,20070731,2247
  33RO20070710,GOMECC,    79,  1,   7913,     13,2,20070731,2227, 39.9055, -69.9298,  752,     70.7,  12.4680,  34.9850,2,-999.0000,1,    205.8,2,    218.9,2,     3.70,2,     7.00,2,     0.03,2,     0.54,2,     0.15,2, -999.000,9, -999.000,9, -999.000,9,   2112.5,2,   2319.3,2,    527.6,2,       20,   -999.0,9,  12.4586,20070731,2250
  33RO20070710,GOMECC,    79,  1,   7914,     14,2,20070731,2227, 39.9055, -69.9298,  752,     50.1,  10.3360,  34.0950,2,  34.1180,4,    224.1,2,    239.2,2,     5.10,2,     6.10,2,     0.04,2,     0.60,2,     0.16,2,    3.590,2,    1.680,2,    0.270,2,   2099.3,2,   2282.2,2,    592.1,2,       20,   -999.0,9,  10.3302,20070731,2252
  33RO20070710,GOMECC,    79,  1,   7915,     15,2,20070731,2227, 39.9055, -69.9298,  752,     39.9,  10.2090,  33.9140,2,  33.9190,2,    238.0,2,    254.0,2,     5.20,2,     4.30,2,     0.05,2,     0.53,2,     0.15,2, -999.000,9, -999.000,9, -999.000,9,   2087.3,2,   2274.7,2,    569.3,2,       20,   -999.0,9,  10.2044,20070731,2253
  33RO20070710,GOMECC,    79,  1,   7916,     16,2,20070731,2227, 39.9055, -69.9298,  752,     30.4,  19.8220,  35.8640,2,-999.0000,1,    216.1,2,    237.6,2,     1.90,2,     0.40,2,     0.02,2,     0.12,2,     0.16,2, -999.000,9, -999.000,9, -999.000,9,   2068.1,2,   2357.0,2,    363.0,2,       20,   -999.0,9,  19.8164,20070731,2254
  33RO20070710,GOMECC,    79,  1,   7917,     17,2,20070731,2227, 39.9055, -69.9298,  752,     20.0,  22.6210,  35.6010,2,  35.6510,4,    216.2,2,    235.0,2,     1.00,2,     0.20,2,     0.00,2,     0.02,2,     0.17,2,    2.240,2,    1.260,2,    0.090,2,   2036.8,2,   2354.9,2,    313.8,2,       20,   -999.0,9,  22.6170,20070731,2255
  33RO20070710,GOMECC,    79,  1,   7918,     18,2,20070731,2227, 39.9055, -69.9298,  752,     10.2,  24.4120,  35.2400,2,  35.2500,2,    207.7,2,    234.2,2,     0.90,2,     0.20,2,     0.00,2,     0.01,2,     0.16,2,    2.000,2,    1.210,2,    0.070,2,   2016.2,2,   2328.2,2,    307.0,2,       20,   -999.0,9,  24.4098,20070731,2256
  33RO20070710,GOMECC,    79,  1,   7919,     19,2,20070731,2227, 39.9055, -69.9298,  752,      4.5,  25.7230,  34.9690,2,  34.8890,4,    197.5,2,    213.6,2,     0.80,2,     0.20,2,     0.00,2,     0.00,2,     0.18,2, -999.000,9, -999.000,9, -999.000,9,   2000.8,6,   2309.5,2,    304.0,2,       20,   -999.0,9,  25.7220,20070731,2257
  33RO20070710,GOMECC,    79,  1,   7920,     20,2,20070731,2227, 39.9055, -69.9298,  752,      4.4,  25.8250,  34.9420,2,-999.0000,9,    196.6,2,   -999.0,9,  -999.00,9,  -999.00,9,  -999.00,9,  -999.00,9,     -999,9, -999.000,9, -999.000,9, -999.000,9,   -999.0,9,   -999.0,9,   -999.0,9,     -999,   -999.0,9,  25.8240,20070731,2258
  33RO20070710,GOMECC,    79,  1,   7921,     21,2,20070731,2227, 39.9055, -69.9298,  752,      4.4,  25.7650,  34.9880,2,-999.0000,9,    196.8,2,   -999.0,9,  -999.00,9,  -999.00,9,  -999.00,9,  -999.00,9,     -999,9, -999.000,9, -999.000,9, -999.000,9,   -999.0,9,   -999.0,9,   -999.0,9,     -999,   -999.0,9,  25.7640,20070731,2258
  33RO20070710,GOMECC,    80,  1,   8001,      1,2,20070801,0046, 39.7828, -69.8533, 1632,   1594.1,   3.8920,  34.9450,2,  34.9540,2,    246.6,2,    265.8,6,    12.60,2,    17.20,2,     0.12,4,     1.25,2,      0.2,2, -999.000,9, -999.000,9, -999.000,9,   2164.4,2,   2309.0,2,    753.8,2,       20,   -999.0,9,   3.7645,20070801,0046
  33RO20070710,GOMECC,    80,  1,   8002,      2,4,20070801,0046, 39.7828, -69.8533, 1632,   1313.8,   4.0310,  34.9550,2,-999.0000,9,    243.6,2,   -999.0,9,  -999.00,9,  -999.00,9,  -999.00,9,  -999.00,9,     -999,9, -999.000,9, -999.000,9, -999.000,9,   -999.0,9,   -999.0,9,   -999.0,9,     -999,   -999.0,9,   3.9272,20070801,0051
  33RO20070710,GOMECC,    80,  1,   8003,      3,2,20070801,0046, 39.7828, -69.8533, 1632,   1010.8,   4.1420,  34.9350,2,  34.9440,2,    245.6,2,    264.7,2,    11.40,2,    17.00,2,     0.01,2,     1.23,2,     0.19,2,    2.920,2,    1.050,2,    0.050,2,   2165.6,2,   2307.2,2,    770.8,2,       20,   -999.0,9,   4.0636,20070801,0057
  33RO20070710,GOMECC,    80,  1,   8004,      4,2,20070801,0046, 39.7828, -69.8533, 1632,    908.4,   4.2840,  34.9410,2,  34.9500,2,    242.6,2,    260.4,2,    11.20,2,    17.10,2,     0.00,2,     1.23,2,     0.18,2, -999.000,9, -999.000,9, -999.000,9,   2165.6,2,   2307.7,2,    772.9,2,       20,   -999.0,9,   4.2132,20070801,0059
  33RO20070710,GOMECC,    80,  1,   8005,      5,2,20070801,0046, 39.7828, -69.8533, 1632,    808.4,   4.3770,  34.9380,2,  34.9460,2,    240.7,2,    258.9,2,    11.40,2,    17.20,2,     0.01,2,     1.23,2,      0.2,2, -999.000,9, -999.000,9, -999.000,9,   2166.8,2,   2308.1,2,    780.5,2,       20,   -999.0,9,   4.3140,20070801,0102
  33RO20070710,GOMECC,    80,  1,   8006,      6,2,20070801,0046, 39.7828, -69.8533, 1632,    708.0,   4.5560,  34.9390,2,  34.9490,2,    235.4,2,    252.8,2,    11.50,2,    17.40,2,     0.01,2,     1.24,2,     0.18,2,    2.790,2,    1.030,2,    0.170,2,   2169.9,2,   2307.3,2,   -999.0,9,     -999,   -999.0,9,   4.5004,20070801,0104
  33RO20070710,GOMECC,    80,  1,   8007,      7,2,20070801,0046, 39.7828, -69.8533, 1632,    604.7,   5.3850,  35.0120,2,  35.0190,2,    210.2,2,    223.3,2,    12.70,2,    19.00,2,     0.01,2,     1.33,2,     0.18,2, -999.000,9, -999.000,9, -999.000,9,   2175.1,2,   2313.3,2,    803.6,2,       20,   -999.0,9,   5.3340,20070801,0107
  33RO20070710,GOMECC,    80,  1,   8008,      8,2,20070801,0046, 39.7828, -69.8533, 1632,    504.6,   5.4640,  34.9380,2,  34.9510,2,    204.6,2,    218.9,2,    12.90,2,    19.10,2,     0.01,2,     1.35,2,     0.17,2,    2.440,2,    0.930,2,    0.270,2,   2177.3,2,   2309.6,2,    837.2,2,       20,     44.6,2,   5.4216,20070801,0109
  33RO20070710,GOMECC,    80,  1,   8009,      9,2,20070801,0046, 39.7828, -69.8533, 1632,    434.1,   5.9360,  34.9350,2,  34.9420,2,    191.6,2,    204.7,2,    13.30,2,    19.90,2,     0.01,2,     1.40,2,     0.18,2, -999.000,9, -999.000,9, -999.000,9,   2181.0,2,   2308.7,2,    855.9,2,       20,   -999.0,9,   5.8982,20070801,0111
  33RO20070710,GOMECC,    80,  1,   8010,     10,2,20070801,0046, 39.7828, -69.8533, 1632,    373.1,   6.6400,  34.9740,2,  34.9820,2,    175.2,2,    187.5,2,    13.70,2,    21.00,2,     0.01,2,     1.46,2,     0.19,2, -999.000,9, -999.000,9, -999.000,9,   2184.6,2,   2311.3,2,    863.6,2,       20,   -999.0,9,   6.6056,20070801,0113
  33RO20070710,GOMECC,    80,  1,   8011,     11,2,20070801,0046, 39.7828, -69.8533, 1632,    311.6,   7.9540,  35.0820,2,  35.0890,2,    152.0,2,    162.4,2,    14.00,2,    22.40,2,     0.01,2,     1.53,2,     0.19,2,    1.530,2,    0.680,2,    0.060,2,   2189.9,2,   2316.4,2,    859.8,2,       20,   -999.0,9,   7.9223,20070801,0115
  33RO20070710,GOMECC,    80,  1,   8012,     12,3,20070801,0046, 39.7828, -69.8533, 1632,    260.9,   9.0770,  35.1780,2,-999.0000,9,    135.3,2,    144.2,2,    14.20,2,    23.20,2,     0.01,2,     1.57,2,     0.18,2, -999.000,9, -999.000,9, -999.000,9,   -999.0,9,   -999.0,9,   -999.0,9,     -999,   -999.0,9,   9.0483,20070801,0116
  33RO20070710,GOMECC,    80,  1,   8013,     13,2,20070801,0046, 39.7828, -69.8533, 1632,    210.7,  10.9410,  35.3730,2,  35.3760,2,    130.5,2,    139.6,2,    11.40,2,    21.10,2,     0.01,2,     1.40,2,     0.21,2,    1.390,2,    0.450,2,    0.150,2,   2183.2,2,   2333.1,2,    777.2,2,       20,   -999.0,9,  10.9150,20070801,0118
  33RO20070710,GOMECC,    80,  1,   8014,     14,2,20070801,0046, 39.7828, -69.8533, 1632,    171.3,  12.2120,  35.5150,2,  35.5230,2,    145.7,2,    156.0,2,     8.50,2,    17.10,2,     0.02,2,     1.13,2,      0.2,2, -999.000,9, -999.000,9, -999.000,9,   2167.9,2,   2340.7,2,    673.4,2,       20,   -999.0,9,  12.1893,20070801,0119
  33RO20070710,GOMECC,    80,  1,   8015,     15,2,20070801,0046, 39.7828, -69.8533, 1632,    120.5,  13.2050,  35.5830,2,  35.5910,2,    169.7,2,    182.5,2,     5.60,2,    12.50,2,     0.03,2,     0.84,2,      0.2,2,    2.470,2,    1.160,2,    0.120,2,   2146.6,2,   2343.4,2,    573.8,2,       20,   -999.0,9,  13.1882,20070801,0121
  33RO20070710,GOMECC,    80,  1,   8016,     16,2,20070801,0046, 39.7828, -69.8533, 1632,    100.3,  13.1400,  35.4870,2,  35.5120,4,    180.4,2,    192.0,2,     4.90,2,    11.10,2,     0.02,2,     0.76,2,     0.19,2, -999.000,9, -999.000,9, -999.000,9,   2136.2,2,   2340.9,2,    553.9,2,       20,   -999.0,9,  13.1261,20070801,0122
  33RO20070710,GOMECC,    80,  1,   8017,     17,2,20070801,0046, 39.7828, -69.8533, 1632,     70.4,  14.4980,  35.6280,2,  35.5610,4,    163.6,2,    182.7,2,     4.60,2,    10.50,2,     0.04,2,     0.71,2,     0.17,2,    2.380,2,    1.340,2,    0.010,2,   2135.8,2,   2343.3,2,    543.7,2,       20,   -999.0,9,  14.4876,20070801,0124
  33RO20070710,GOMECC,    80,  1,   8018,     18,2,20070801,0046, 39.7828, -69.8533, 1632,     50.6,  16.0810,  35.4070,2,  35.4200,2,    206.7,2,    222.2,6,     2.00,2,     2.10,2,     0.11,2,     0.29,2,     0.18,2, -999.000,9, -999.000,9, -999.000,9,   2093.4,2,   2343.6,2,    430.1,2,       20,   -999.0,9,  16.0730,20070801,0126
  33RO20070710,GOMECC,    80,  1,   8019,     19,2,20070801,0046, 39.7828, -69.8533, 1632,     50.9,  16.0690,  35.4040,2,  35.4350,4,    206.8,2,   -999.0,9,  -999.00,9,  -999.00,9,  -999.00,9,  -999.00,9,     -999,9, -999.000,9, -999.000,9, -999.000,9,   -999.0,9,   -999.0,9,   -999.0,9,     -999,   -999.0,9,  16.0609,20070801,0126
  33RO20070710,GOMECC,    80,  1,   8020,     20,2,20070801,0046, 39.7828, -69.8533, 1632,     39.9,  19.1800,  35.8550,2,  35.8190,4,    216.0,2,    239.2,2,     1.00,2,     0.00,2,     0.01,2,     0.08,2,     0.18,2, -999.000,9, -999.000,9, -999.000,9,   2061.7,2,   2360.9,2,    342.3,2,       20,   -999.0,9,  19.1728,20070801,0127
  33RO20070710,GOMECC,    80,  1,   8021,     21,2,20070801,0046, 39.7828, -69.8533, 1632,     30.2,  21.5590,  35.8020,2,  35.7980,2,    219.8,2,    237.7,2,     1.00,2,     0.00,2,     0.00,2,     0.04,2,     0.18,2,    2.160,2,    1.480,2,    0.160,2,   2044.2,2,   2359.3,2,    317.1,2,       20,   -999.0,9,  21.5531,20070801,0129
  33RO20070710,GOMECC,    80,  1,   8022,     22,2,20070801,0046, 39.7828, -69.8533, 1632,     20.6,  24.5230,  35.6990,2,  35.7350,4,    202.3,2,    224.6,2,     0.90,2,     0.00,2,     0.00,2,     0.02,2,     0.19,2, -999.000,9, -999.000,9, -999.000,9,   2026.8,2,   2354.8,6,   -999.0,9,     -999,   -999.0,9,  24.5186,20070801,0130
  33RO20070710,GOMECC,    80,  1,   8023,     23,2,20070801,0046, 39.7828, -69.8533, 1632,      9.8,  25.7250,  35.5730,2,  35.4880,4,    193.9,2,    210.5,2,     0.80,2,     0.00,2,     0.00,2,     0.01,2,     0.19,2, -999.000,9, -999.000,9, -999.000,9,   2019.0,2,   2342.7,2,    299.1,2,       20,   -999.0,9,  25.7228,20070801,0131
  33RO20070710,GOMECC,    80,  1,   8024,     24,2,20070801,0046, 39.7828, -69.8533, 1632,      5.2,  25.9310,  35.3710,2,  35.3350,4,    193.6,2,    209.7,2,     0.80,2,     0.00,2,     0.00,2,     0.00,2,     0.19,2, -999.000,9,    0.780,2,    0.020,2,   2015.3,6,   2336.3,2,    300.9,2,       20,     71.0,2,  25.9298,20070801,0132