BOTTLE,20220922CCHSIOAMB
EXPOCODE,SECT_ID,STNNBR,CASTNO,SAMPNO,BTLNBR,BTLNBR_FLAG_W,DATE,TIME,LATITUDE,LONGITUDE,DEPTH,CTDPRS,CTDTMP,CTDSAL,CTDSAL_FLAG_W,SALNTY,SALNTY_FLAG_W,CTDOXY,CTDOXY_FLAG_W,OXYGEN,OXYGEN_FLAG_W,SILCAT,SILCAT_FLAG_W,NITRAT,NITRAT_FLAG_W,NITRIT,NITRIT_FLAG_W,PHSPHT,PHSPHT_FLAG_W,NH4,NH4_FLAG_W,CFC-11,CFC-11_FLAG_W,CFC-12,CFC-12_FLAG_W,CFC113,CFC113_FLAG_W,TCARBN,TCARBN_FLAG_W,ALKALI,ALKALI_FLAG_W,FCO2,FCO2_FLAG_W,FCO2TMP,DOC,DOC_FLAG_W,THETA,BTL_DATE,BTL_TIME
,,,,,,,,,,,METERS,DBAR,ITS-90,PSS-78,,PSS-78,,UMOL/KG,,UMOL/KG,,UMOL/KG,,UMOL/KG,,UMOL/KG,,UMOL/KG,,UMOL/KG,,PMOL/KG,,PMOL/KG,,PMOL/KG,,UMOL/KG,,UMOL/KG,,UATM,,DEG C,UMOL/KG,,DEG C,,
  33RO20070710,GOMECC,     7,  1,    701,      1,2,20070711,2203, 27.4992, -95.0003,  890,    880.5,   5.6090,  34.9110,2,  34.9180,2,    153.2,2,    177.1,3,    25.60,2,    27.40,2,     0.04,2,     1.91,2,     0.11,2, -999.000,9, -999.000,9, -999.000,9,   2211.1,6,   2325.1,2,   -999.0,9,     -999,   -999.0,9,   5.5317,20070711,2203
  33RO20070710,GOMECC,     7,  1,    703,      3,2,20070711,2203, 27.4992, -95.0003,  890,    811.8,   5.8480,  34.9060,2,  34.9110,2,    147.4,2,    151.8,2,    25.20,2,    27.90,2,     0.03,2,     1.97,2,     0.09,2, -999.000,9, -999.000,9, -999.000,9,   2212.3,2,   2319.8,2,   -999.0,9,     -999,   -999.0,9,   5.7757,20070711,2205
  33RO20070710,GOMECC,     7,  1,    704,      4,2,20070711,2203, 27.4992, -95.0003,  890,    710.8,   6.6180,  34.9080,2,  34.9140,2,    131.9,2,    135.6,2,    23.30,2,    29.10,2,     0.05,2,     2.05,2,     0.09,2, -999.000,9, -999.000,9, -999.000,9,   2213.5,2,   2318.4,2,   -999.0,9,     -999,   -999.0,9,   6.5511,20070711,2208
  33RO20070710,GOMECC,     7,  1,    705,      5,2,20070711,2203, 27.4992, -95.0003,  890,    610.7,   7.4840,  34.9440,2,  34.9490,2,    120.4,2,    123.8,2,    21.20,2,    29.40,2,     0.06,2,     2.05,2,      0.1,2, -999.000,9, -999.000,9, -999.000,9,   2212.2,2,   2318.7,2,   -999.0,9,     -999,   -999.0,9,   7.4229,20070711,2210
  33RO20070710,GOMECC,     7,  1,    706,      6,2,20070711,2203, 27.4992, -95.0003,  890,    508.9,   8.5180,  35.0260,2,  33.0690,4,    115.1,2,    118.2,2,    18.30,2,    28.50,2,     0.03,2,     1.98,2,      0.1,2, -999.000,9, -999.000,9, -999.000,9,   2208.1,2,   2318.8,2,   -999.0,9,     -999,   -999.0,9,   8.4635,20070711,2213
  33RO20070710,GOMECC,     7,  1,    707,      7,2,20070711,2203, 27.4992, -95.0003,  890,    458.5,   9.2030,  35.1060,2,  34.6070,4,    112.5,2,    115.8,2,    17.00,2,    27.60,2,     0.02,2,     1.90,2,      0.1,2, -999.000,9, -999.000,9, -999.000,9,   2206.4,2,   2325.7,2,   -999.0,9,     -999,   -999.0,9,   9.1517,20070711,2215
  33RO20070710,GOMECC,     7,  1,    708,      8,2,20070711,2203, 27.4992, -95.0003,  890,    408.6,  10.0470,  35.2150,2,  35.2100,4,    110.8,2,    114.3,2,    15.20,2,    26.40,2,     0.04,2,     1.81,2,      0.1,2, -999.000,9, -999.000,9, -999.000,9,   2203.5,2,   2320.9,2,   -999.0,9,     -999,     39.8,2,   9.9988,20070711,2216
  33RO20070710,GOMECC,     7,  1,    709,      9,2,20070711,2203, 27.4992, -95.0003,  890,    357.8,  11.3340,  35.3950,2,  35.3730,4,    110.3,2,    112.7,2,    13.20,2,    24.40,2,     0.03,2,     1.66,2,     0.09,2, -999.000,9, -999.000,9, -999.000,9,   2197.8,2,   2316.5,2,   -999.0,9,     -999,   -999.0,9,  11.2885,20070711,2218
  33RO20070710,GOMECC,     7,  1,    710,     10,2,20070711,2203, 27.4992, -95.0003,  890,    287.4,  13.1350,  35.6650,2,  35.6720,2,    117.6,2,    121.4,6,     9.40,2,    20.20,2,     0.05,2,     1.35,2,     0.11,2, -999.000,9, -999.000,9, -999.000,9,   2185.2,2,   2324.4,2,   -999.0,9,     -999,   -999.0,9,  13.0948,20070711,2220
  33RO20070710,GOMECC,     7,  1,    711,     11,2,20070711,2203, 27.4992, -95.0003,  890,    226.9,  15.1130,  35.9760,2,  35.9700,2,    124.4,2,    129.8,2,     6.90,2,    16.40,2,     0.03,2,     1.07,2,     0.11,2, -999.000,9, -999.000,9, -999.000,9,   2172.7,2,   2346.1,2,   -999.0,9,     -999,   -999.0,9,  15.0782,20070711,2222
  33RO20070710,GOMECC,     7,  1,    712,     12,2,20070711,2203, 27.4992, -95.0003,  890,    177.2,  16.3460,  36.1670,2,  36.1640,2,    130.6,2,    134.8,2,     5.60,2,    13.70,2,     0.04,2,     0.87,2,     0.14,2, -999.000,9, -999.000,9, -999.000,9,   2163.9,2,   2356.5,2,   -999.0,9,     -999,   -999.0,9,  16.3173,20070711,2224
  33RO20070710,GOMECC,     7,  1,    713,     13,2,20070711,2203, 27.4992, -95.0003,  890,    136.6,  18.1050,  36.3860,2,  36.3750,2,    142.2,2,    147.6,2,     4.10,2,     9.70,2,     0.05,2,     0.59,2,     0.12,2, -999.000,9, -999.000,9, -999.000,9,   2149.3,2,   2376.0,2,   -999.0,9,     -999,   -999.0,9,  18.0813,20070711,2225
  33RO20070710,GOMECC,     7,  1,    714,     14,4,20070711,2203, 27.4992, -95.0003,  890,    105.9,  19.6440,  36.5100,2,-999.0000,9,    165.5,2,   -999.0,9,  -999.00,9,  -999.00,9,  -999.00,9,  -999.00,9,     -999,9, -999.000,9, -999.000,9, -999.000,9,   -999.0,9,   -999.0,9,   -999.0,9,     -999,   -999.0,9,  19.6245,20070711,2227
  33RO20070710,GOMECC,     7,  1,    715,     15,2,20070711,2203, 27.4992, -95.0003,  890,    106.2,  19.6480,  36.5140,2,  36.5090,2,    165.6,2,    171.2,2,     2.70,2,     4.90,2,     0.08,2,     0.29,2,     0.12,2, -999.000,9, -999.000,9, -999.000,9,   2124.0,2,   2385.5,2,   -999.0,9,     -999,   -999.0,9,  19.6285,20070711,2227
  33RO20070710,GOMECC,     7,  1,    716,     16,2,20070711,2203, 27.4992, -95.0003,  890,     75.7,  21.5000,  36.4930,2,  36.4910,2,    204.3,2,    211.6,2,     1.70,2,     0.20,2,     0.31,2,     0.07,2,     0.11,2, -999.000,9, -999.000,9, -999.000,9,   2088.3,2,   2390.6,2,   -999.0,9,     -999,   -999.0,9,  21.4852,20070711,2229
  33RO20070710,GOMECC,     7,  1,    717,     17,2,20070711,2203, 27.4992, -95.0003,  890,     55.1,  23.1270,  36.4590,2,  36.4570,2,    219.7,2,    227.5,2,     0.90,2,     0.00,2,     0.02,2,     0.02,2,      0.1,2, -999.000,9, -999.000,9, -999.000,9,   2064.4,2,   2388.1,2,   -999.0,9,     -999,   -999.0,9,  23.1156,20070711,2230
  33RO20070710,GOMECC,     7,  1,    718,     18,2,20070711,2203, 27.4992, -95.0003,  890,     45.0,  25.1010,  36.3660,2,  36.3700,2,    208.2,2,    226.8,3,     1.50,2,     0.00,2,     0.06,2,     0.02,2,     0.12,2, -999.000,9, -999.000,9, -999.000,9,   2069.9,2,   2399.2,2,   -999.0,9,     -999,   -999.0,9,  25.0912,20070711,2231
  33RO20070710,GOMECC,     7,  1,    719,     19,2,20070711,2203, 27.4992, -95.0003,  890,     34.4,  27.7600,  35.9620,2,  36.0020,4,    200.3,2,    208.9,2,     0.90,2,     0.00,2,     0.04,2,     0.00,2,     0.14,2, -999.000,9, -999.000,9, -999.000,9,   2061.8,2,   2388.0,2,   -999.0,9,     -999,   -999.0,9,  27.7519,20070711,2232
  33RO20070710,GOMECC,     7,  1,    720,     20,2,20070711,2203, 27.4992, -95.0003,  890,     21.7,  29.0960,  34.5470,2,  34.6610,4,    192.5,2,    201.0,2,     0.80,2,     0.00,2,     0.05,2,     0.00,2,     0.12,2, -999.000,9, -999.000,9, -999.000,9,   2035.1,2,   2373.0,2,   -999.0,9,     -999,   -999.0,9,  29.0907,20070711,2234
  33RO20070710,GOMECC,     7,  1,    721,     21,2,20070711,2203, 27.4992, -95.0003,  890,      9.7,  29.2480,  34.5030,2,  34.5190,2,    192.4,2,    199.4,2,     0.70,2,     0.00,2,     0.06,2,     0.01,2,     0.13,2, -999.000,9, -999.000,9, -999.000,9,   2032.5,2,   2374.3,2,   -999.0,9,     -999,     82.6,2,  29.2456,20070711,2235
  33RO20070710,GOMECC,     7,  1,    722,     22,2,20070711,2203, 27.4992, -95.0003,  890,      4.0,  29.8010,  34.5840,2,  34.5760,2,    191.7,2,    198.5,6,     0.80,2,     0.00,2,     0.06,2,     0.00,2,     0.12,2, -999.000,9, -999.000,9, -999.000,9,   2035.0,6,   2371.7,2,   -999.0,9,     -999,     89.6,2,  29.8000,20070711,2236
  33RO20070710,GOMECC,     8,  1,    801,      1,2,20070712,0109, 27.3330, -95.0006, 1115,    999.0,   5.0930,  34.9260,2,  34.9230,2,    169.5,2,    176.8,2,    26.10,2,    25.90,2,     0.03,2,     1.85,2,     0.15,2, -999.000,9, -999.000,9, -999.000,9,   2206.5,6,   2321.7,2,    912.2,2,       20,   -999.0,9,   5.0084,20070712,0109
  33RO20070710,GOMECC,     8,  1,    803,      3,2,20070712,0109, 27.3330, -95.0006, 1115,    904.6,   5.4230,  34.9150,2,  34.9120,2,    158.7,2,    163.4,2,    25.70,2,    26.90,2,     0.03,2,     1.96,2,     0.22,3, -999.000,9, -999.000,9, -999.000,9,   2209.9,2,   2320.6,2,    946.3,2,       20,   -999.0,9,   5.3447,20070712,0112
  33RO20070710,GOMECC,     8,  1,    804,      4,2,20070712,0109, 27.3330, -95.0006, 1115,    807.1,   5.7010,  34.9090,2,  34.8930,4,    150.2,2,    154.6,2,    25.20,2,    27.80,2,     0.02,2,     1.94,2,     0.19,2, -999.000,9, -999.000,9, -999.000,9,   2212.2,2,   2321.0,2,    973.7,2,       20,   -999.0,9,   5.6300,20070712,0115
  33RO20070710,GOMECC,     8,  1,    805,      5,2,20070712,0109, 27.3330, -95.0006, 1115,    706.5,   6.3450,  34.9050,2,  34.9080,2,    136.8,2,    140.2,2,    23.90,2,    29.00,2,     0.02,2,     1.99,2,     0.14,2, -999.000,9, -999.000,9, -999.000,9,   2213.4,2,   2314.6,2,   1003.2,2,       20,   -999.0,9,   6.2799,20070712,0117
  33RO20070710,GOMECC,     8,  1,    806,      6,2,20070712,0109, 27.3330, -95.0006, 1115,    604.3,   7.2190,  34.9300,2,  34.9130,4,    123.4,2,    126.7,2,    21.80,2,    29.40,2,     0.03,2,     2.00,2,     0.18,2, -999.000,9, -999.000,9, -999.000,9,   2214.1,2,   2313.0,2,   1020.1,2,       20,   -999.0,9,   7.1598,20070712,0119
  33RO20070710,GOMECC,     8,  1,    807,      7,2,20070712,0109, 27.3330, -95.0006, 1115,    503.5,   8.9060,  35.0760,2,  33.1210,4,    111.0,2,    113.6,2,    17.60,2,    28.20,2,     0.01,2,     1.94,2,     0.17,2, -999.000,9, -999.000,9, -999.000,9,   2209.9,2,   2316.2,2,    976.7,2,       20,   -999.0,9,   8.8506,20070712,0122
  33RO20070710,GOMECC,     8,  1,    808,      8,2,20070712,0109, 27.3330, -95.0006, 1115,    433.2,   9.9190,  35.1930,2,  34.6910,4,    112.0,2,    115.6,6,    15.30,2,    26.50,2,     0.02,2,     1.74,2,     0.19,2, -999.000,9, -999.000,9, -999.000,9,   2202.6,2,   2320.2,2,    915.7,2,       20,   -999.0,9,   9.8683,20070712,0124
  33RO20070710,GOMECC,     8,  1,    809,      9,2,20070712,0109, 27.3330, -95.0006, 1115,    372.8,  11.0760,  35.3590,2,  35.3600,2,    110.7,2,    114.1,2,    13.30,2,    24.50,2,     0.03,2,     1.62,2,     0.17,2, -999.000,9, -999.000,9, -999.000,9,   2198.1,2,   2325.1,2,    857.4,2,       20,   -999.0,9,  11.0293,20070712,0126
  33RO20070710,GOMECC,     8,  1,    810,     10,2,20070712,0109, 27.3330, -95.0006, 1115,    311.7,  12.8880,  35.6280,2,  35.6180,2,    114.2,2,    117.6,2,    10.10,2,    21.30,2,     0.02,2,     1.39,2,     0.19,2, -999.000,9, -999.000,9, -999.000,9,   2189.0,2,   2336.4,6,    758.2,2,       20,   -999.0,9,  12.8449,20070712,0128
  33RO20070710,GOMECC,     8,  1,    811,     11,2,20070712,0109, 27.3330, -95.0006, 1115,    262.2,  14.2300,  35.8380,2,  35.8240,4,    119.5,2,    122.5,2,     8.30,2,    18.40,2,     0.03,2,     1.16,2,     0.14,2, -999.000,9, -999.000,9, -999.000,9,   2180.9,2,   2343.2,2,    682.5,2,       20,   -999.0,9,  14.1913,20070712,0129
  33RO20070710,GOMECC,     8,  1,    812,     12,3,20070712,0109, 27.3330, -95.0006, 1115,    211.1,  16.0590,  36.1230,2,  36.1190,2,    129.1,2,    133.7,2,     6.00,3,    14.20,3,     0.04,3,     0.89,3,     0.14,3, -999.000,9, -999.000,9, -999.000,9,   2165.6,2,   2358.2,2,    582.4,2,       20,   -999.0,9,  16.0252,20070712,0131
  33RO20070710,GOMECC,     8,  1,    813,     13,2,20070712,0109, 27.3330, -95.0006, 1115,    171.4,  17.2790,  36.2930,2,  36.2910,2,    129.1,2,    135.3,2,     4.90,2,    12.40,2,     0.03,2,     0.73,2,     0.36,2, -999.000,9, -999.000,9, -999.000,9,   2161.0,2,   2375.9,2,    542.0,2,       20,   -999.0,9,  17.2501,20070712,0133
  33RO20070710,GOMECC,     8,  1,    814,     14,4,20070712,0109, 27.3330, -95.0006, 1115,    131.3,  18.6560,  36.4410,2,-999.0000,9,    146.4,2,   -999.0,9,  -999.00,9,  -999.00,9,  -999.00,9,  -999.00,9,     -999,9, -999.000,9, -999.000,9, -999.000,9,   -999.0,9,   -999.0,9,   -999.0,9,     -999,   -999.0,9,  18.6327,20070712,0134
  33RO20070710,GOMECC,     8,  1,    815,     15,2,20070712,0109, 27.3330, -95.0006, 1115,    131.3,  18.6940,  36.4390,2,  36.4410,2,    146.4,2,    152.5,2,     3.80,2,     8.40,2,     0.06,2,     0.50,2,     0.31,2, -999.000,9, -999.000,9, -999.000,9,   2141.8,2,   2390.0,2,    462.7,2,       20,   -999.0,9,  18.6707,20070712,0134
  33RO20070710,GOMECC,     8,  1,    816,     16,2,20070712,0109, 27.3330, -95.0006, 1115,    101.4,  20.0050,  36.5280,2,  36.5320,2,    171.7,2,    177.7,2,     2.10,2,     3.50,2,     0.14,2,     0.19,2,     0.15,2, -999.000,9, -999.000,9, -999.000,9,   2119.2,2,   2400.9,2,    393.0,2,       20,   -999.0,9,  19.9861,20070712,0136
  33RO20070710,GOMECC,     8,  1,    817,     17,2,20070712,0109, 27.3330, -95.0006, 1115,     70.5,  21.9380,  36.4600,2,  36.4640,2,    212.2,2,    220.4,2,     1.40,2,     0.10,2,     0.02,2,     0.04,2,     0.21,2, -999.000,9, -999.000,9, -999.000,9,   2079.4,2,   2404.0,6,    319.5,2,       20,   -999.0,9,  21.9240,20070712,0137
  33RO20070710,GOMECC,     8,  1,    818,     18,3,20070712,0109, 27.3330, -95.0006, 1115,     50.8,  24.1880,  36.4270,2,  36.4310,2,    217.1,2,    226.5,2,     0.90,3,     0.00,3,     0.02,3,     0.03,3,     0.18,3, -999.000,9, -999.000,9, -999.000,9,   2059.6,2,   2401.9,2,    296.4,2,       20,   -999.0,9,  24.1772,20070712,0138
  33RO20070710,GOMECC,     8,  1,    819,     19,2,20070712,0109, 27.3330, -95.0006, 1115,     40.0,  25.3120,  36.3270,2,  36.2990,4,    212.3,2,    215.4,6,     1.10,2,     0.00,2,     0.01,2,     0.01,2,     0.17,2, -999.000,9, -999.000,9, -999.000,9,   2068.7,2,   -999.0,9,    302.5,2,       20,   -999.0,9,  25.3032,20070712,0139
  33RO20070710,GOMECC,     8,  1,    820,     20,2,20070712,0109, 27.3330, -95.0006, 1115,     30.4,  27.8790,  35.8270,2,  35.9370,4,    198.8,2,    207.9,2,     0.90,2,     0.00,2,     0.03,2,     0.00,2,     0.15,2, -999.000,9, -999.000,9, -999.000,9,   2062.1,2,   2400.7,2,    293.1,2,       20,   -999.0,9,  27.8718,20070712,0140
  33RO20070710,GOMECC,     8,  1,    821,     21,2,20070712,0109, 27.3330, -95.0006, 1115,     20.6,  29.1420,  35.1740,2,  35.2580,4,    192.6,2,    199.4,2,     1.00,2,     0.00,2,     0.02,2,     0.00,2,     0.15,2, -999.000,9, -999.000,9, -999.000,9,   -999.0,5,   2394.0,2,    275.3,2,       20,   -999.0,9,  29.1370,20070712,0141
  33RO20070710,GOMECC,     8,  1,    822,     22,2,20070712,0109, 27.3330, -95.0006, 1115,     10.2,  29.0830,  34.4420,2,  34.5370,4,    193.2,2,    199.6,2,     0.80,2,     0.00,2,     0.03,2,     0.00,2,     0.25,2, -999.000,9, -999.000,9, -999.000,9,   2038.9,2,   2387.4,2,    270.8,2,       20,     94.4,2,  29.0805,20070712,0143
  33RO20070710,GOMECC,     8,  1,    823,     23,2,20070712,0109, 27.3330, -95.0006, 1115,      3.7,  29.3070,  34.3860,2,  34.3840,2,    192.4,2,    199.2,2,     0.70,2,     0.00,2,     0.01,2,     0.03,2,     0.34,2, -999.000,9, -999.000,9, -999.000,9,   2036.6,6,   2386.9,2,    271.6,2,       20,     89.8,2,  29.3061,20070712,0144
  33RO20070710,GOMECC,     8,  1,    824,     24,2,20070712,0109, 27.3330, -95.0006, 1115,      3.8,  29.3000,  34.3870,2,-999.0000,9,    192.5,2,   -999.0,9,  -999.00,9,  -999.00,9,  -999.00,9,  -999.00,9,     -999,9, -999.000,9, -999.000,9, -999.000,9,   -999.0,9,   -999.0,9,   -999.0,9,     -999,   -999.0,9,  29.2991,20070712,0144