BOTTLE,20220922CCHSIOAMB
EXPOCODE,SECT_ID,STNNBR,CASTNO,SAMPNO,BTLNBR,BTLNBR_FLAG_W,DATE,TIME,LATITUDE,LONGITUDE,DEPTH,CTDPRS,CTDTMP,CTDSAL,CTDSAL_FLAG_W,SALNTY,SALNTY_FLAG_W,CTDOXY,CTDOXY_FLAG_W,OXYGEN,OXYGEN_FLAG_W,SILCAT,SILCAT_FLAG_W,NITRAT,NITRAT_FLAG_W,NITRIT,NITRIT_FLAG_W,PHSPHT,PHSPHT_FLAG_W,NH4,NH4_FLAG_W,CFC-11,CFC-11_FLAG_W,CFC-12,CFC-12_FLAG_W,CFC113,CFC113_FLAG_W,TCARBN,TCARBN_FLAG_W,ALKALI,ALKALI_FLAG_W,FCO2,FCO2_FLAG_W,FCO2TMP,DOC,DOC_FLAG_W,THETA,BTL_DATE,BTL_TIME
,,,,,,,,,,,METERS,DBAR,ITS-90,PSS-78,,PSS-78,,UMOL/KG,,UMOL/KG,,UMOL/KG,,UMOL/KG,,UMOL/KG,,UMOL/KG,,UMOL/KG,,PMOL/KG,,PMOL/KG,,PMOL/KG,,UMOL/KG,,UMOL/KG,,UATM,,DEG C,UMOL/KG,,DEG C,,
  33RO20070710,GOMECC,    39,  1,   3901,      1,4,20070720,2048, 31.2530, -80.3862,   31,     31.6,  22.9730,  36.3340,2,-999.0000,9,    195.3,2,   -999.0,9,  -999.00,9,  -999.00,9,  -999.00,9,  -999.00,9,     -999,9, -999.000,9, -999.000,9, -999.000,9,   -999.0,9,   -999.0,9,   -999.0,9,     -999,   -999.0,9,  22.9665,20070720,2048
  33RO20070710,GOMECC,    39,  1,   3903,      3,2,20070720,2048, 31.2530, -80.3862,   31,     31.6,  22.9720,  36.3330,2,  36.3390,2,    195.4,2,    208.4,6,     1.10,2,     0.00,2,     0.01,2,     0.10,2,     0.17,2,    1.930,2,    1.810,2,    0.190,2,   2070.2,2,   2389.3,2,    328.6,2,       20,   -999.0,9,  22.9655,20070720,2048
  33RO20070710,GOMECC,    39,  1,   3904,      4,2,20070720,2048, 31.2530, -80.3862,   31,     31.5,  22.9750,  36.3330,2,-999.0000,9,    195.2,2,   -999.0,9,  -999.00,9,  -999.00,9,  -999.00,9,  -999.00,9,     -999,9, -999.000,9, -999.000,9, -999.000,9,   -999.0,9,   -999.0,9,   -999.0,9,     -999,   -999.0,9,  22.9685,20070720,2048
  33RO20070710,GOMECC,    39,  1,   3905,      5,2,20070720,2048, 31.2530, -80.3862,   31,     20.6,  27.7320,  36.2630,2,  36.2740,2,    191.3,2,    204.0,6,     0.40,2,     0.00,2,     0.00,2,     0.04,2,     0.27,2, -999.000,9, -999.000,9, -999.000,9,   2039.3,2,   2379.2,2,    294.6,2,       20,   -999.0,9,  27.7272,20070720,2050
  33RO20070710,GOMECC,    39,  1,   3906,      6,2,20070720,2048, 31.2530, -80.3862,   31,     20.7,  27.8070,  36.2580,2,-999.0000,9,    191.5,2,   -999.0,9,  -999.00,9,  -999.00,9,  -999.00,9,  -999.00,9,     -999,9,    1.670,2,    1.290,2,    0.150,2,   -999.0,9,   -999.0,9,   -999.0,9,     -999,   -999.0,9,  27.8021,20070720,2051
  33RO20070710,GOMECC,    39,  1,   3907,      7,2,20070720,2048, 31.2530, -80.3862,   31,     20.7,  27.8250,  36.2580,2,  36.2540,2,    191.5,2,   -999.0,9,  -999.00,9,  -999.00,9,  -999.00,9,  -999.00,9,     -999,9, -999.000,9, -999.000,9, -999.000,9,   -999.0,9,   -999.0,9,   -999.0,9,     -999,   -999.0,9,  27.8201,20070720,2051
  33RO20070710,GOMECC,    39,  1,   3908,      8,2,20070720,2048, 31.2530, -80.3862,   31,     10.4,  28.4640,  36.2350,2,-999.0000,1,    190.8,2,    202.8,2,     0.20,2,     0.00,2,     0.00,2,     0.06,2,     0.16,2, -999.000,9, -999.000,9, -999.000,9,   2032.4,2,   2377.1,2,    288.0,2,       20,   -999.0,9,  28.4615,20070720,2052
  33RO20070710,GOMECC,    39,  1,   3909,      9,2,20070720,2048, 31.2530, -80.3862,   31,     10.5,  28.4440,  36.2360,2,-999.0000,9,    190.8,2,   -999.0,9,  -999.00,9,  -999.00,9,  -999.00,9,  -999.00,9,     -999,9, -999.000,9, -999.000,9, -999.000,9,   -999.0,9,   -999.0,9,   -999.0,9,     -999,   -999.0,9,  28.4415,20070720,2053
  33RO20070710,GOMECC,    39,  1,   3910,     10,2,20070720,2048, 31.2530, -80.3862,   31,     10.3,  28.4350,  36.2360,2,-999.0000,9,    190.8,2,   -999.0,9,  -999.00,9,  -999.00,9,  -999.00,9,  -999.00,9,     -999,9, -999.000,9, -999.000,9, -999.000,9,   -999.0,9,   -999.0,9,   -999.0,9,     -999,   -999.0,9,  28.4325,20070720,2053
  33RO20070710,GOMECC,    39,  1,   3911,     11,2,20070720,2048, 31.2530, -80.3862,   31,      4.6,  28.6960,  36.2310,2,-999.0000,9,    190.3,2,    203.2,2,     0.10,2,     0.00,2,     0.00,2,     0.03,2,     0.17,2, -999.000,9, -999.000,9, -999.000,9,   2030.1,6,   2376.2,2,    286.2,2,       20,     76.3,2,  28.6949,20070720,2054
  33RO20070710,GOMECC,    39,  1,   3912,     12,2,20070720,2048, 31.2530, -80.3862,   31,      4.6,  28.6910,  36.2170,2,-999.0000,1,    190.2,2,   -999.0,9,  -999.00,9,  -999.00,9,  -999.00,9,  -999.00,9,     -999,9,    1.590,2,    1.050,2,    0.300,2,   -999.0,9,   -999.0,9,   -999.0,9,     -999,   -999.0,9,  28.6899,20070720,2054
  33RO20070710,GOMECC,    39,  1,   3913,     13,2,20070720,2048, 31.2530, -80.3862,   31,      4.5,  28.7050,  36.2310,2,  36.2380,6,    190.1,2,   -999.0,9,  -999.00,9,  -999.00,9,  -999.00,9,  -999.00,9,     -999,9, -999.000,9, -999.000,9, -999.000,9,   -999.0,9,   -999.0,9,   -999.0,9,     -999,   -999.0,9,  28.7039,20070720,2054
  33RO20070710,GOMECC,    40,  1,   4001,      1,2,20070720,2212, 31.1952, -80.2428,   37,     35.8,  22.7990,  36.3740,2,  36.3800,2,    192.4,2,    204.9,6,     1.70,2,     0.30,2,     0.08,2,     0.09,2,     0.26,2, -999.000,9, -999.000,9, -999.000,9,   2074.5,2,   2393.3,2,    332.0,2,       20,   -999.0,9,  22.7917,20070720,2212
  33RO20070710,GOMECC,    40,  1,   4003,      3,2,20070720,2212, 31.1952, -80.2428,   37,     35.8,  22.7950,  36.3750,2,-999.0000,9,    192.7,2,   -999.0,9,  -999.00,9,  -999.00,9,  -999.00,9,  -999.00,9,     -999,9,    1.690,2,    1.230,2, -999.000,9,   -999.0,9,   -999.0,9,   -999.0,9,     -999,   -999.0,9,  22.7877,20070720,2212
  33RO20070710,GOMECC,    40,  1,   4004,      4,2,20070720,2212, 31.1952, -80.2428,   37,     20.5,  27.6420,  36.2320,2,  36.2360,2,    191.3,2,    203.9,2,     0.20,2,     0.00,2,     0.00,2,     0.03,2,     0.21,2, -999.000,9, -999.000,9, -999.000,9,   2033.8,2,   2376.6,2,    292.1,2,       20,   -999.0,9,  27.6372,20070720,2214
  33RO20070710,GOMECC,    40,  1,   4005,      5,2,20070720,2212, 31.1952, -80.2428,   37,     20.6,  27.6350,  36.2330,2,-999.0000,9,    191.3,2,   -999.0,9,  -999.00,9,  -999.00,9,  -999.00,9,  -999.00,9,     -999,9,    1.710,2,    1.350,2,    0.050,2,   -999.0,9,   -999.0,9,   -999.0,9,     -999,   -999.0,9,  27.6302,20070720,2215
  33RO20070710,GOMECC,    40,  1,   4006,      6,2,20070720,2212, 31.1952, -80.2428,   37,     10.8,  28.5070,  36.0920,2,-999.0000,1,    188.2,2,    200.5,2,     0.10,2,     0.00,2,     0.00,2,     0.02,2,     0.16,2, -999.000,9, -999.000,9, -999.000,9,   2031.1,2,   2370.9,6,    295.7,2,       20,   -999.0,9,  28.5044,20070720,2216
  33RO20070710,GOMECC,    40,  1,   4007,      7,9,20070720,2212, 31.1952, -80.2428,   37,     10.6,  28.5080,  36.0920,2,-999.0000,9,    188.1,2,   -999.0,9,  -999.00,9,  -999.00,9,  -999.00,9,  -999.00,9,     -999,9, -999.000,9, -999.000,9, -999.000,9,   -999.0,9,   -999.0,9,   -999.0,9,     -999,   -999.0,9,  28.5055,20070720,2216
  33RO20070710,GOMECC,    40,  1,   4008,      8,2,20070720,2212, 31.1952, -80.2428,   37,      4.0,  28.6270,  36.0920,2,  36.1000,2,    187.9,2,    200.1,2,     0.10,2,     0.00,2,     0.00,2,     0.03,2,     0.17,2, -999.000,9, -999.000,9, -999.000,9,   2031.1,6,   2370.9,2,    295.8,2,       20,     83.2,2,  28.6260,20070720,2218
  33RO20070710,GOMECC,    40,  1,   4009,      9,2,20070720,2212, 31.1952, -80.2428,   37,      3.9,  28.6290,  36.0920,2,  36.1100,2,    188.0,2,   -999.0,9,  -999.00,9,  -999.00,9,  -999.00,9,  -999.00,9,     -999,9,    1.410,2,    1.110,2,    0.230,2,   -999.0,9,   -999.0,9,   -999.0,9,     -999,   -999.0,9,  28.6281,20070720,2218
  33RO20070710,GOMECC,    40,  1,   4010,     10,9,20070720,2212, 31.1952, -80.2428,   37,      4.0,  28.6300,  36.0920,2,-999.0000,9,    187.6,2,   -999.0,9,  -999.00,9,  -999.00,9,  -999.00,9,  -999.00,9,     -999,9, -999.000,9, -999.000,9, -999.000,9,   -999.0,9,   -999.0,9,   -999.0,9,     -999,   -999.0,9,  28.6290,20070720,2218
  33RO20070710,GOMECC,    41,  1,   4101,      1,2,20070721,0037, 31.0787, -79.9582,   45,     45.4,  20.0950,  36.2590,2,  36.2830,4,    162.2,2,    177.8,6,  -999.00,9,  -999.00,9,  -999.00,9,  -999.00,9,     -999,9, -999.000,9, -999.000,9, -999.000,9,   2109.4,2,   2384.9,2,    403.8,2,       20,   -999.0,9,  20.0865,20070721,0037
  33RO20070710,GOMECC,    41,  1,   4103,      3,2,20070721,0037, 31.0787, -79.9582,   45,     45.6,  20.0860,  36.2570,2,-999.0000,1,    162.1,2,   -999.0,9,     2.40,2,     5.70,2,     0.12,2,     0.34,2,     0.17,2,    1.570,2,    1.170,2, -999.000,9,   -999.0,9,   -999.0,9,   -999.0,9,     -999,   -999.0,9,  20.0775,20070721,0037
  33RO20070710,GOMECC,    41,  1,   4104,      4,2,20070721,0037, 31.0787, -79.9582,   45,     30.9,  23.5640,  36.3490,2,-999.0000,1,    229.5,2,    241.4,2,     0.20,2,     0.00,2,     0.01,2,     0.03,2,     0.15,2, -999.000,9, -999.000,9, -999.000,9,   2037.3,3,   2391.6,2,    280.5,2,       20,   -999.0,9,  23.5576,20070721,0039
  33RO20070710,GOMECC,    41,  1,   4105,      5,2,20070721,0037, 31.0787, -79.9582,   45,     30.8,  23.6200,  36.3470,2,-999.0000,9,    229.3,2,   -999.0,9,  -999.00,9,  -999.00,9,  -999.00,9,  -999.00,9,     -999,9, -999.000,9, -999.000,9, -999.000,9,   -999.0,9,   -999.0,9,   -999.0,9,     -999,   -999.0,9,  23.6136,20070721,0039
  33RO20070710,GOMECC,    41,  1,   4106,      6,2,20070721,0037, 31.0787, -79.9582,   45,     20.6,  28.5360,  36.3020,2,  36.3080,2,    189.8,2,    207.9,2,     0.50,2,     0.20,2,     0.01,2,     0.02,2,     0.18,2, -999.000,9, -999.000,9, -999.000,9,   2025.8,2,   2382.9,2,    274.5,2,       20,   -999.0,9,  28.5311,20070721,0041
  33RO20070710,GOMECC,    41,  1,   4107,      7,2,20070721,0037, 31.0787, -79.9582,   45,     20.7,  28.5420,  36.3020,2,-999.0000,9,    189.4,2,   -999.0,9,  -999.00,9,  -999.00,9,  -999.00,9,  -999.00,9,     -999,9,    1.590,2,    1.150,2, -999.000,9,   -999.0,9,   -999.0,9,   -999.0,9,     -999,   -999.0,9,  28.5370,20070721,0041
  33RO20070710,GOMECC,    41,  1,   4108,      8,2,20070721,0037, 31.0787, -79.9582,   45,     10.0,  28.5720,  36.3040,2,  36.3210,2,    188.9,2,    201.3,6,     0.60,2,     0.00,2,     0.00,2,     0.01,2,     0.16,2, -999.000,9, -999.000,9, -999.000,9,   2027.6,2,   2382.5,2,    277.5,2,       20,   -999.0,9,  28.5696,20070721,0043
  33RO20070710,GOMECC,    41,  1,   4109,      9,2,20070721,0037, 31.0787, -79.9582,   45,      9.9,  28.5610,  36.3040,2,-999.0000,9,    189.0,2,   -999.0,9,  -999.00,9,  -999.00,9,  -999.00,9,  -999.00,9,     -999,9, -999.000,9, -999.000,9, -999.000,9,   -999.0,9,   -999.0,9,   -999.0,9,     -999,   -999.0,9,  28.5586,20070721,0043
  33RO20070710,GOMECC,    41,  1,   4110,     10,2,20070721,0037, 31.0787, -79.9582,   45,      3.7,  28.5660,  36.3030,2,-999.0000,9,    188.7,2,    198.1,2,     0.60,2,     0.00,2,     0.00,2,     0.00,2,     0.16,2, -999.000,9, -999.000,9, -999.000,9,   2028.0,6,   2382.7,2,    278.1,2,       20,     72.0,2,  28.5651,20070721,0044
  33RO20070710,GOMECC,    41,  1,   4111,     11,2,20070721,0037, 31.0787, -79.9582,   45,      3.7,  28.5660,  36.3030,2,-999.0000,9,    188.5,2,   -999.0,9,  -999.00,9,  -999.00,9,  -999.00,9,  -999.00,9,     -999,9,    1.430,2,    1.010,2,    0.150,2,   -999.0,9,   -999.0,9,   -999.0,9,     -999,   -999.0,9,  28.5651,20070721,0044
  33RO20070710,GOMECC,    41,  1,   4112,     12,2,20070721,0037, 31.0787, -79.9582,   45,      3.7,  28.5650,  36.3030,2,-999.0000,9,    188.8,2,   -999.0,9,  -999.00,9,  -999.00,9,  -999.00,9,  -999.00,9,     -999,9, -999.000,9, -999.000,9, -999.000,9,   -999.0,9,   -999.0,9,   -999.0,9,     -999,   -999.0,9,  28.5641,20070721,0044
  33RO20070710,GOMECC,    42,  1,   4201,      1,2,20070721,0336, 30.9590, -79.6603,  511,    514.3,   7.4740,  34.9730,2,  34.9800,2,    127.3,2,    113.1,2,    20.70,2,    28.40,2,     0.01,2,     1.94,2,     0.26,3, -999.000,9, -999.000,9, -999.000,9,   2209.2,6,   2319.2,2,    973.8,2,       20,   -999.0,9,   7.4229,20070721,0336
  33RO20070710,GOMECC,    42,  1,   4203,      3,2,20070721,0336, 30.9590, -79.6603,  511,    432.4,   8.3780,  35.0220,2,  35.0280,2,    117.8,2,    123.6,2,    18.40,2,    28.30,2,     0.00,2,     1.93,2,     0.16,2, -999.000,9, -999.000,9, -999.000,9,   2206.0,2,   2317.5,2,    966.8,2,       20,   -999.0,9,   8.3323,20070721,0338
  33RO20070710,GOMECC,    42,  1,   4204,      4,2,20070721,0336, 30.9590, -79.6603,  511,    374.5,   8.8220,  35.0770,2,  35.0850,2,    118.0,2,    123.9,2,    17.20,2,    27.60,2,     0.00,2,     1.87,2,     0.15,2,    1.910,2,    1.100,2, -999.000,9,   2203.3,2,   2320.3,2,    938.7,2,       20,   -999.0,9,   8.7813,20070721,0340
  33RO20070710,GOMECC,    42,  1,   4205,      5,2,20070721,0336, 30.9590, -79.6603,  511,    313.9,   9.3590,  35.1150,2,  35.1260,2,    113.6,2,    119.1,2,    16.20,2,    27.20,2,     0.00,2,     1.84,2,     0.15,2, -999.000,9, -999.000,9, -999.000,9,   2202.6,2,   2319.9,2,    930.5,2,       20,   -999.0,9,   9.3238,20070721,0342
  33RO20070710,GOMECC,    42,  1,   4206,      6,2,20070721,0336, 30.9590, -79.6603,  511,    263.1,  12.6460,  35.5880,2,  35.5930,2,    119.3,2,    125.7,2,    10.10,2,    21.20,2,     0.01,2,     1.38,2,     0.17,2, -999.000,9, -999.000,9, -999.000,9,   2183.8,2,   2337.0,2,    733.7,2,       20,   -999.0,9,  12.6102,20070721,0344
  33RO20070710,GOMECC,    42,  1,   4207,      7,2,20070721,0336, 30.9590, -79.6603,  511,    211.2,  14.8700,  35.9320,2,  35.9320,2,    128.0,2,    135.6,2,     6.70,2,    16.30,2,     0.00,2,     1.04,2,     0.17,2,    0.620,2,    0.410,2, -999.000,9,   2169.1,2,   2352.5,2,    618.2,2,       20,   -999.0,9,  14.8379,20070721,0346
  33RO20070710,GOMECC,    42,  1,   4208,      8,2,20070721,0336, 30.9590, -79.6603,  511,    170.5,  16.8100,  36.2340,2,  36.2280,2,    132.7,2,    140.9,2,     4.70,2,    12.70,2,     0.01,2,     0.79,2,     0.17,2, -999.000,9, -999.000,9, -999.000,9,   2157.5,2,   2375.9,2,    542.2,2,       20,   -999.0,9,  16.7818,20070721,0348
  33RO20070710,GOMECC,    42,  1,   4209,      9,2,20070721,0336, 30.9590, -79.6603,  511,    130.6,  19.6770,  36.5890,2,  36.5840,2,    139.4,2,    148.3,6,     2.70,2,     8.10,2,     0.01,2,     0.48,2,     0.16,2, -999.000,9, -999.000,9, -999.000,9,   2143.2,2,   2394.1,2,    459.2,2,       20,   -999.0,9,  19.6529,20070721,0349
  33RO20070710,GOMECC,    42,  1,   4210,     10,2,20070721,0336, 30.9590, -79.6603,  511,    101.1,  21.7140,  36.6600,2,  36.6670,2,    155.2,2,    165.7,2,     1.70,2,     4.10,2,     0.06,2,     0.25,2,     0.17,2,    1.850,2,    1.280,2,    0.040,2,   2117.9,6,   2404.4,2,    392.8,2,       20,   -999.0,9,  21.6940,20070721,0351
  33RO20070710,GOMECC,    42,  1,   4211,     11,2,20070721,0336, 30.9590, -79.6603,  511,    101.2,  21.7170,  36.6610,2,-999.0000,9,    155.3,2,   -999.0,9,  -999.00,9,  -999.00,9,  -999.00,9,  -999.00,9,     -999,9, -999.000,9, -999.000,9, -999.000,9,   -999.0,9,   -999.0,9,   -999.0,9,     -999,   -999.0,9,  21.6970,20070721,0351
  33RO20070710,GOMECC,    42,  1,   4212,     12,4,20070721,0336, 30.9590, -79.6603,  511,     70.3,  25.4680,  36.5110,2,-999.0000,9,    186.5,2,   -999.0,9,  -999.00,9,  -999.00,9,  -999.00,9,  -999.00,9,     -999,9, -999.000,9, -999.000,9, -999.000,9,   -999.0,9,   -999.0,9,   -999.0,9,     -999,   -999.0,9,  25.4525,20070721,0354
  33RO20070710,GOMECC,    42,  1,   4213,     13,2,20070721,0336, 30.9590, -79.6603,  511,     70.4,  25.4600,  36.5120,2,  36.5200,2,    186.7,2,    198.4,2,     0.90,2,     0.10,2,     0.03,2,     0.05,2,     0.16,2, -999.000,9, -999.000,9, -999.000,9,   2063.5,2,   2399.5,2,    309.4,2,       20,   -999.0,9,  25.4444,20070721,0354
  33RO20070710,GOMECC,    42,  1,   4214,     14,2,20070721,0336, 30.9590, -79.6603,  511,     50.3,  27.1340,  36.3910,2,  36.3580,4,    196.7,2,    205.3,2,     1.00,2,     0.10,2,     0.00,2,     0.04,2,     0.17,2,    1.810,2,    1.300,2,    0.180,2,   2039.3,2,   2389.9,2,    285.2,2,       20,   -999.0,9,  27.1224,20070721,0356
  33RO20070710,GOMECC,    42,  1,   4215,     15,2,20070721,0336, 30.9590, -79.6603,  511,     50.3,  27.1420,  36.4020,2,-999.0000,9,    196.9,2,   -999.0,9,  -999.00,9,  -999.00,9,  -999.00,9,  -999.00,9,     -999,9, -999.000,9, -999.000,9, -999.000,9,   -999.0,9,   -999.0,9,   -999.0,9,     -999,   -999.0,9,  27.1304,20070721,0357
  33RO20070710,GOMECC,    42,  1,   4216,     16,2,20070721,0336, 30.9590, -79.6603,  511,     40.3,  27.7010,  36.1960,2,  36.1990,2,    188.9,2,    201.5,2,     1.00,2,     0.00,2,     0.00,2,     0.02,2,     0.16,2, -999.000,9, -999.000,9, -999.000,9,   2019.7,2,   2373.9,2,    276.5,2,       20,   -999.0,9,  27.6915,20070721,0358
  33RO20070710,GOMECC,    42,  1,   4217,     17,2,20070721,0336, 30.9590, -79.6603,  511,     30.2,  28.1180,  36.1390,2,  36.1560,2,    190.0,2,    202.2,2,     1.10,2,     0.00,2,     0.00,2,     0.01,2,     0.17,2,    1.530,2,    1.220,2, -999.000,9,   2012.4,2,   2373.3,2,    271.6,2,       20,   -999.0,9,  28.1108,20070721,0359
  33RO20070710,GOMECC,    42,  1,   4218,     18,2,20070721,0336, 30.9590, -79.6603,  511,     20.6,  29.2050,  36.1960,2,  36.2020,2,    189.7,2,    202.3,2,     1.00,2,     0.00,2,     0.00,2,     0.00,2,     0.16,2, -999.000,9, -999.000,9, -999.000,9,   2010.8,2,   2373.7,2,    267.9,2,       20,   -999.0,9,  29.2000,20070721,0400
  33RO20070710,GOMECC,    42,  1,   4219,     19,2,20070721,0336, 30.9590, -79.6603,  511,     10.2,  30.1870,  36.2560,2,  36.2590,2,    183.9,2,    196.2,2,     1.00,2,     0.00,2,     0.00,2,     0.01,2,     0.17,2, -999.000,9, -999.000,9, -999.000,9,   2012.8,2,   2380.8,2,    264.2,2,       20,   -999.0,9,  30.1845,20070721,0401
  33RO20070710,GOMECC,    42,  1,   4220,     20,2,20070721,0336, 30.9590, -79.6603,  511,      4.2,  30.1760,  36.2560,2,  36.2620,2,    183.9,2,    196.0,2,     1.00,2,     0.00,2,     0.00,2,     0.00,2,     0.16,2,    1.260,2,    1.020,2,    0.010,2,   2013.1,6,   2380.6,2,    264.2,2,       20,     57.4,2,  30.1750,20070721,0402
  33RO20070710,GOMECC,    42,  1,   4221,     21,2,20070721,0336, 30.9590, -79.6603,  511,      4.2,  30.1670,  36.2570,2,-999.0000,9,    183.8,2,   -999.0,9,  -999.00,9,  -999.00,9,  -999.00,9,  -999.00,9,     -999,9, -999.000,9, -999.000,9, -999.000,9,   -999.0,9,   -999.0,9,   -999.0,9,     -999,   -999.0,9,  30.1660,20070721,0402
  33RO20070710,GOMECC,    42,  1,   4222,     22,2,20070721,0336, 30.9590, -79.6603,  511,      4.2,  30.1720,  36.2560,2,-999.0000,9,    183.7,2,   -999.0,9,  -999.00,9,  -999.00,9,  -999.00,9,  -999.00,9,     -999,9, -999.000,9, -999.000,9, -999.000,9,   -999.0,9,   -999.0,9,   -999.0,9,     -999,   -999.0,9,  30.1710,20070721,0402