BOTTLE,20220922CCHSIOAMB
EXPOCODE,SECT_ID,STNNBR,CASTNO,SAMPNO,BTLNBR,BTLNBR_FLAG_W,DATE,TIME,LATITUDE,LONGITUDE,DEPTH,CTDPRS,CTDTMP,CTDSAL,CTDSAL_FLAG_W,SALNTY,SALNTY_FLAG_W,CTDOXY,CTDOXY_FLAG_W,OXYGEN,OXYGEN_FLAG_W,SILCAT,SILCAT_FLAG_W,NITRAT,NITRAT_FLAG_W,NITRIT,NITRIT_FLAG_W,PHSPHT,PHSPHT_FLAG_W,NH4,NH4_FLAG_W,CFC-11,CFC-11_FLAG_W,CFC-12,CFC-12_FLAG_W,CFC113,CFC113_FLAG_W,TCARBN,TCARBN_FLAG_W,ALKALI,ALKALI_FLAG_W,FCO2,FCO2_FLAG_W,FCO2TMP,DOC,DOC_FLAG_W,THETA,BTL_DATE,BTL_TIME
,,,,,,,,,,,METERS,DBAR,ITS-90,PSS-78,,PSS-78,,UMOL/KG,,UMOL/KG,,UMOL/KG,,UMOL/KG,,UMOL/KG,,UMOL/KG,,UMOL/KG,,PMOL/KG,,PMOL/KG,,PMOL/KG,,UMOL/KG,,UMOL/KG,,UATM,,DEG C,UMOL/KG,,DEG C,,
  33RO20070710,GOMECC,    65,  1,   6501,      1,2,20070729,1337, 42.8890, -70.1383,   71,     55.8,   5.4680,  32.3850,2,  32.3890,2,    259.0,2,    274.5,6,     6.80,2,     9.40,2,     0.16,2,     0.91,2,     0.89,2,    4.560,2,    1.650,2,    0.230,2,   2083.0,2,   2196.3,2,    843.2,2,       20,   -999.0,9,   5.4637,20070729,1337
  33RO20070710,GOMECC,    65,  1,   6503,      3,9,20070729,1337, 42.8890, -70.1383,   71,     55.8,   5.4770,  32.3820,2,-999.0000,9,    259.2,2,   -999.0,9,  -999.00,9,  -999.00,9,  -999.00,9,  -999.00,9,     -999,9, -999.000,9, -999.000,9, -999.000,9,   -999.0,9,   -999.0,9,   -999.0,9,     -999,   -999.0,9,   5.4727,20070729,1337
  33RO20070710,GOMECC,    65,  1,   6504,      4,2,20070729,1337, 42.8890, -70.1383,   71,     40.6,   5.6810,  32.3520,2,  32.3660,2,    260.8,2,    278.8,2,     6.50,2,     8.80,2,     0.19,2,     0.91,2,      0.5,2, -999.000,9, -999.000,9, -999.000,9,   2080.2,2,   2195.4,2,    826.4,2,       20,   -999.0,9,   5.6778,20070729,1339
  33RO20070710,GOMECC,    65,  1,   6505,      5,2,20070729,1337, 42.8890, -70.1383,   71,     40.6,   5.6610,  32.3540,2,-999.0000,9,    260.8,2,   -999.0,9,  -999.00,9,  -999.00,9,  -999.00,9,  -999.00,9,     -999,9, -999.000,9, -999.000,9, -999.000,9,   -999.0,9,   -999.0,9,   -999.0,9,     -999,   -999.0,9,   5.6578,20070729,1339
  33RO20070710,GOMECC,    65,  1,   6506,      6,2,20070729,1337, 42.8890, -70.1383,   71,     30.1,   6.6110,  32.2890,2,  32.3080,2,    273.2,2,    287.7,2,     4.60,2,     6.40,2,     0.20,2,     0.78,2,     0.28,2,    4.230,2,    1.740,2,    0.260,2,   2066.1,2,   2197.4,2,    754.2,2,       20,   -999.0,9,   6.6084,20070729,1340
  33RO20070710,GOMECC,    65,  1,   6507,      7,9,20070729,1337, 42.8890, -70.1383,   71,     29.9,   6.6090,  32.2890,2,-999.0000,9,    273.3,2,   -999.0,9,  -999.00,9,  -999.00,9,  -999.00,9,  -999.00,9,     -999,9, -999.000,9, -999.000,9, -999.000,9,   -999.0,9,   -999.0,9,   -999.0,9,     -999,   -999.0,9,   6.6065,20070729,1340
  33RO20070710,GOMECC,    65,  1,   6508,      8,2,20070729,1337, 42.8890, -70.1383,   71,     20.0,   7.8990,  32.1350,2,  32.2140,4,    308.8,2,    306.5,2,     2.70,2,     3.10,2,     0.12,2,     0.59,2,      0.3,2, -999.000,9, -999.000,9, -999.000,9,   2033.5,2,   2192.2,2,    629.7,2,       20,   -999.0,9,   7.8971,20070729,1341
  33RO20070710,GOMECC,    65,  1,   6509,      9,2,20070729,1337, 42.8890, -70.1383,   71,     20.0,   7.7930,  32.1460,2,-999.0000,9,    308.7,2,   -999.0,9,  -999.00,9,  -999.00,9,  -999.00,9,  -999.00,9,     -999,9, -999.000,9, -999.000,9, -999.000,9,   -999.0,9,   -999.0,9,   -999.0,9,     -999,   -999.0,9,   7.7911,20070729,1341
  33RO20070710,GOMECC,    65,  1,   6510,     10,2,20070729,1337, 42.8890, -70.1383,   71,     10.3,  17.9580,  31.4150,2,  31.6170,4,    253.9,2,    312.9,2,     1.40,2,     0.30,2,     0.00,2,     0.17,2,      0.3,2, -999.000,9, -999.000,9, -999.000,9,   1948.8,6,   2169.9,2,    415.0,2,       20,   -999.0,9,  17.9563,20070729,1342
  33RO20070710,GOMECC,    65,  1,   6511,     11,9,20070729,1337, 42.8890, -70.1383,   71,     10.2,  17.8730,  31.4280,2,-999.0000,9,    254.8,2,   -999.0,9,  -999.00,9,  -999.00,9,  -999.00,9,  -999.00,9,     -999,9, -999.000,9, -999.000,9, -999.000,9,   -999.0,9,   -999.0,9,   -999.0,9,     -999,   -999.0,9,  17.8713,20070729,1343
  33RO20070710,GOMECC,    65,  1,   6512,     12,4,20070729,1337, 42.8890, -70.1383,   71,      4.3,  19.8610,  31.2270,2,-999.0000,9,    234.0,2,   -999.0,9,  -999.00,9,  -999.00,9,  -999.00,9,  -999.00,9,     -999,9, -999.000,9, -999.000,9, -999.000,9,   -999.0,9,   -999.0,9,   -999.0,9,     -999,   -999.0,9,  19.8602,20070729,1343
  33RO20070710,GOMECC,    65,  1,   6513,     13,2,20070729,1337, 42.8890, -70.1383,   71,      4.2,  19.8880,  31.2240,2,  31.2350,2,    234.0,2,    252.6,2,     1.30,2,     0.40,2,     0.01,2,     0.11,2,     0.42,2, -999.000,9, -999.000,9, -999.000,9,   1911.3,2,   2123.2,2,    396.3,2,       20,     84.2,2,  19.8872,20070729,1343
  33RO20070710,GOMECC,    65,  1,   6514,     14,4,20070729,1337, 42.8890, -70.1383,   71,      4.2,  19.8750,  31.2280,2,-999.0000,9,    233.9,2,   -999.0,9,  -999.00,9,  -999.00,9,  -999.00,9,  -999.00,9,     -999,9, -999.000,9, -999.000,9, -999.000,9,   -999.0,9,   -999.0,9,   -999.0,9,     -999,   -999.0,9,  19.8742,20070729,1344
  33RO20070710,GOMECC,    66,  1,   6601,      1,2,20070729,1548, 42.8617, -69.8608,  269,    251.0,   6.2700,  33.8300,2,  33.8370,2,    215.1,2,    229.0,6,    19.40,2,    16.20,2,     0.09,2,     1.37,2,     0.26,2, -999.000,9, -999.000,9, -999.000,9,   2149.2,6,   2255.6,2,    924.4,2,       20,   -999.0,9,   6.2483,20070729,1548
  33RO20070710,GOMECC,    66,  1,   6603,      3,2,20070729,1548, 42.8617, -69.8608,  269,    210.5,   6.3640,  33.7560,2,  33.7670,2,    214.4,2,    227.1,2,    19.30,2,    16.10,2,     0.09,2,     1.38,2,     0.93,2, -999.000,9, -999.000,9, -999.000,9,   2147.4,2,   2252.9,2,    929.8,2,       20,   -999.0,9,   6.3457,20070729,1551
  33RO20070710,GOMECC,    66,  1,   6604,      4,2,20070729,1548, 42.8617, -69.8608,  269,    170.2,   5.8580,  33.5590,2,  33.5790,2,    240.3,2,    254.3,2,    15.80,2,    14.80,2,     0.08,2,     1.27,2,     0.92,2,    3.410,2,    1.400,2,    0.300,2,   2131.0,2,   2244.6,2,    881.9,2,       20,   -999.0,9,   5.8440,20070729,1553
  33RO20070710,GOMECC,    66,  1,   6605,      5,2,20070729,1548, 42.8617, -69.8608,  269,    129.6,   5.1610,  33.1640,2,  33.1860,4,    250.5,2,    266.5,2,    10.00,2,    12.90,2,     0.08,2,     1.16,2,     0.58,2, -999.000,9, -999.000,9, -999.000,9,   2113.9,2,   2228.8,2,    857.5,2,       20,   -999.0,9,   5.1512,20070729,1554
  33RO20070710,GOMECC,    66,  1,   6606,      6,2,20070729,1548, 42.8617, -69.8608,  269,    100.5,   4.8950,  32.9580,2,  32.9680,2,    249.8,2,    265.6,6,     9.50,2,    12.10,2,     0.09,2,     1.11,2,      0.3,2,    4.290,2,    1.570,2,    0.210,2,   2107.3,2,   2220.3,6,    866.6,2,       20,   -999.0,9,   4.8876,20070729,1556
  33RO20070710,GOMECC,    66,  1,   6607,      7,9,20070729,1548, 42.8617, -69.8608,  269,     70.3,   4.9740,  32.7090,2,-999.0000,9,    257.2,2,   -999.0,9,  -999.00,9,  -999.00,9,  -999.00,9,  -999.00,9,     -999,9, -999.000,9, -999.000,9, -999.000,9,   -999.0,9,   -999.0,9,   -999.0,9,     -999,   -999.0,9,   4.9688,20070729,1558
  33RO20070710,GOMECC,    66,  1,   6608,      8,2,20070729,1548, 42.8617, -69.8608,  269,     50.7,   5.2410,  32.6240,2,  32.6260,2,    260.2,2,    274.9,2,     6.50,2,     9.50,2,     0.09,2,     0.96,2,     0.34,2,    4.490,2,    1.800,2,    0.240,2,   2086.3,2,   2207.4,2,    814.8,2,       20,   -999.0,9,   5.2372,20070729,1559
  33RO20070710,GOMECC,    66,  1,   6609,      9,2,20070729,1548, 42.8617, -69.8608,  269,     40.3,   5.6020,  32.5110,2,  32.5670,4,    263.6,2,    277.8,2,     5.90,2,     8.90,2,     0.09,2,     0.94,2,     0.63,2, -999.000,9, -999.000,9, -999.000,9,   2082.9,2,   2205.9,2,    801.2,2,       20,   -999.0,9,   5.5989,20070729,1600
  33RO20070710,GOMECC,    66,  1,   6610,     10,2,20070729,1548, 42.8617, -69.8608,  269,     29.8,   6.7800,  32.4150,2,  32.4400,4,    279.2,2,    293.4,2,     3.90,2,     5.20,2,     0.15,2,     0.74,2,     0.24,2, -999.000,9, -999.000,9, -999.000,9,   2062.4,2,   2201.9,2,    703.0,2,       20,   -999.0,9,   6.7774,20070729,1601
  33RO20070710,GOMECC,    66,  1,   6611,     11,2,20070729,1548, 42.8617, -69.8608,  269,     19.8,   9.1850,  32.2800,2,  32.3560,4,    321.4,2,    330.9,2,     2.40,2,     1.00,2,     0.11,2,     0.50,2,     0.31,2,    4.270,2,    1.900,2,    0.090,2,   2020.3,2,   2202.5,2,    539.2,2,       20,   -999.0,9,   9.1829,20070729,1603
  33RO20070710,GOMECC,    66,  1,   6612,     12,9,20070729,1548, 42.8617, -69.8608,  269,     19.8,   9.1800,  32.2870,2,-999.0000,9,    324.0,2,   -999.0,9,  -999.00,9,  -999.00,9,  -999.00,9,  -999.00,9,     -999,9, -999.000,9, -999.000,9, -999.000,9,   -999.0,9,   -999.0,9,   -999.0,9,     -999,   -999.0,9,   9.1779,20070729,1603
  33RO20070710,GOMECC,    66,  1,   6613,     13,2,20070729,1548, 42.8617, -69.8608,  269,      9.8,  15.4250,  32.0710,2,  32.0800,2,    278.4,2,    318.8,2,     1.20,2,     0.10,2,     0.08,2,     0.28,2,     0.52,2, -999.000,9, -999.000,9, -999.000,9,   1962.3,2,   2187.4,2,    409.9,2,       20,   -999.0,9,  15.4235,20070729,1604
  33RO20070710,GOMECC,    66,  1,   6614,     14,9,20070729,1548, 42.8617, -69.8608,  269,      9.8,  15.2130,  32.0870,2,-999.0000,9,    280.6,2,   -999.0,9,  -999.00,9,  -999.00,9,  -999.00,9,  -999.00,9,     -999,9, -999.000,9, -999.000,9, -999.000,9,   -999.0,9,   -999.0,9,   -999.0,9,     -999,   -999.0,9,  15.2115,20070729,1604
  33RO20070710,GOMECC,    66,  1,   6615,     15,2,20070729,1548, 42.8617, -69.8608,  269,      4.5,  20.3210,  31.6600,2,  31.6690,2,    227.9,2,    245.1,2,     0.70,2,     0.00,2,     0.07,2,     0.17,2,     0.34,2,    2.350,2,    0.900,2,    0.170,2,   1932.6,2,   2156.7,2,    391.7,2,       20,     80.0,2,  20.3202,20070729,1605
  33RO20070710,GOMECC,    66,  1,   6616,     16,9,20070729,1548, 42.8617, -69.8608,  269,      4.5,  20.3210,  31.6600,2,-999.0000,9,    227.9,2,   -999.0,9,  -999.00,9,  -999.00,9,  -999.00,9,  -999.00,9,     -999,9, -999.000,9, -999.000,9, -999.000,9,   -999.0,9,   -999.0,9,   -999.0,9,     -999,   -999.0,9,  20.3202,20070729,1605
  33RO20070710,GOMECC,    66,  1,   6617,     17,9,20070729,1548, 42.8617, -69.8608,  269,      4.5,  20.2310,  31.6710,2,-999.0000,9,    228.3,2,   -999.0,9,  -999.00,9,  -999.00,9,  -999.00,9,  -999.00,9,     -999,9, -999.000,9, -999.000,9, -999.000,9,   -999.0,9,   -999.0,9,   -999.0,9,     -999,   -999.0,9,  20.2302,20070729,1606
  33RO20070710,GOMECC,    66,  1,   6618,     18,2,20070729,1548, 42.8617, -69.8608,  269,      4.4,  20.3100,  31.6630,2,-999.0000,9,    227.6,2,   -999.0,9,  -999.00,9,  -999.00,9,  -999.00,9,  -999.00,9,     -999,9, -999.000,9, -999.000,9, -999.000,9,   -999.0,9,   -999.0,9,   -999.0,9,     -999,   -999.0,9,  20.3092,20070729,1606
  33RO20070710,GOMECC,    67,  1,   6701,      1,3,20070729,1757, 42.7283, -69.6843,  292,    278.3,   6.3990,  33.8830,2,  33.8900,2,    208.7,2,    221.5,6,    20.10,3,    16.40,3,     0.10,3,     1.36,3,     0.82,3,    3.990,2,    1.110,2,    0.180,2,   2154.8,6,   2259.8,2,    944.7,2,       20,   -999.0,9,   6.3745,20070729,1757
  33RO20070710,GOMECC,    67,  1,   6703,      3,2,20070729,1757, 42.7283, -69.6843,  292,    262.6,   6.3210,  33.8550,2,  33.8640,2,    213.1,2,    225.7,2,    19.10,2,    16.20,2,     0.09,2,     1.34,2,     0.62,2, -999.000,9, -999.000,9, -999.000,9,   2152.9,2,   2256.0,2,    933.6,2,       20,   -999.0,9,   6.2981,20070729,1759
  33RO20070710,GOMECC,    67,  1,   6704,      4,2,20070729,1757, 42.7283, -69.6843,  292,    211.5,   6.2080,  33.6960,2,  33.7170,4,    224.7,2,    237.4,2,    17.00,2,    15.60,2,     0.08,2,     1.28,2,     0.27,2,    3.390,2,    1.190,2,    0.220,2,   2144.5,2,   2249.8,2,    914.4,2,       20,   -999.0,9,   6.1899,20070729,1801
  33RO20070710,GOMECC,    67,  1,   6705,      5,2,20070729,1757, 42.7283, -69.6843,  292,    171.2,   5.5420,  33.4400,2,  33.4620,4,    254.9,2,    271.2,2,    13.30,2,    14.00,2,     0.08,2,     1.18,2,     0.24,2, -999.000,9, -999.000,9, -999.000,9,   2123.6,2,   2238.8,2,    854.2,2,       20,   -999.0,9,   5.5283,20070729,1803
  33RO20070710,GOMECC,    67,  1,   6706,      6,2,20070729,1757, 42.7283, -69.6843,  292,    131.1,   5.2080,  33.2410,2,  33.2560,2,    260.6,2,    277.1,2,     9.70,2,    12.80,2,     0.08,2,     1.09,2,     0.75,2,    4.230,2,    1.180,2,    0.290,2,   2111.6,2,   2231.0,2,    828.0,2,       20,   -999.0,9,   5.1980,20070729,1805
  33RO20070710,GOMECC,    67,  1,   6707,      7,2,20070729,1757, 42.7283, -69.6843,  292,    100.7,   5.4750,  33.1080,2,  33.1400,4,    243.5,2,    259.7,6,    10.60,2,    12.40,2,     0.09,2,     1.10,2,     0.45,2, -999.000,9, -999.000,9, -999.000,9,   2113.6,2,   2227.9,2,    863.6,2,       20,   -999.0,9,   5.4671,20070729,1806
  33RO20070710,GOMECC,    67,  1,   6708,      8,2,20070729,1757, 42.7283, -69.6843,  292,     70.9,   5.5560,  32.9020,2,  32.9130,2,    248.5,2,    263.6,2,     8.60,2,    11.00,2,     0.09,2,     1.01,2,     0.58,2,    4.020,2,    1.270,2,    0.270,2,   2101.9,2,   2218.0,2,    837.3,2,       20,   -999.0,9,   5.5505,20070729,1807
  33RO20070710,GOMECC,    67,  1,   6709,      9,2,20070729,1757, 42.7283, -69.6843,  292,     50.8,   6.0510,  32.6720,2,  32.6960,4,    262.5,2,    277.6,2,     5.60,2,     8.00,2,     0.10,2,     0.84,2,     0.62,2, -999.000,9, -999.000,9, -999.000,9,   2081.7,2,   2210.4,2,    760.0,2,       20,   -999.0,9,   6.0469,20070729,1809
  33RO20070710,GOMECC,    67,  1,   6710,     10,2,20070729,1757, 42.7283, -69.6843,  292,     40.5,   7.0880,  32.5520,2,  32.5880,4,    273.8,2,    289.3,2,     4.10,2,     5.10,2,     0.18,2,     0.69,2,     0.62,2, -999.000,9, -999.000,9, -999.000,9,   2065.4,2,   2208.3,2,    687.8,2,       20,   -999.0,9,   7.0844,20070729,1810
  33RO20070710,GOMECC,    67,  1,   6711,     11,2,20070729,1757, 42.7283, -69.6843,  292,     30.5,   9.2380,  32.4550,2,  32.4990,4,    304.4,2,    316.5,2,     2.90,2,     0.80,2,     0.15,2,     0.46,2,     0.36,2,    4.120,2,    1.660,2,    0.230,2,   2029.1,2,   2206.9,2,    550.6,2,       20,   -999.0,9,   9.2348,20070729,1811
  33RO20070710,GOMECC,    67,  1,   6712,     12,3,20070729,1757, 42.7283, -69.6843,  292,     20.6,  12.8070,  32.2230,2,-999.0000,9,    304.2,2,    328.4,2,  -999.00,9,  -999.00,9,  -999.00,9,  -999.00,9,     -999,9, -999.000,9, -999.000,9, -999.000,9,   -999.0,9,   -999.0,9,   -999.0,9,     -999,   -999.0,9,  12.8043,20070729,1813
  33RO20070710,GOMECC,    67,  1,   6713,     13,2,20070729,1757, 42.7283, -69.6843,  292,     20.6,  12.8060,  32.2230,2,  32.2610,4,    304.3,2,   -999.0,9,     1.90,2,     0.00,2,     0.08,2,     0.29,2,     0.37,2, -999.000,9, -999.000,9, -999.000,9,   1974.9,2,   2196.6,2,    419.2,2,       20,   -999.0,9,  12.8033,20070729,1813
  33RO20070710,GOMECC,    67,  1,   6714,     14,4,20070729,1757, 42.7283, -69.6843,  292,     10.4,  18.6340,  32.1700,2,-999.0000,9,    243.2,2,   -999.0,9,  -999.00,9,  -999.00,9,  -999.00,9,  -999.00,9,     -999,9, -999.000,9, -999.000,9, -999.000,9,   -999.0,9,   -999.0,9,   -999.0,9,     -999,   -999.0,9,  18.6322,20070729,1814
  33RO20070710,GOMECC,    67,  1,   6715,     15,2,20070729,1757, 42.7283, -69.6843,  292,     10.5,  18.6480,  32.1670,2,  32.1870,4,    243.5,2,    272.7,2,     1.30,2,     0.00,2,     0.08,2,     0.19,2,     0.39,2, -999.000,9, -999.000,9, -999.000,9,   1963.4,2,   2191.6,2,    402.5,2,       20,   -999.0,9,  18.6462,20070729,1814
  33RO20070710,GOMECC,    67,  1,   6716,     16,2,20070729,1757, 42.7283, -69.6843,  292,      4.0,  19.9170,  32.1520,2,  32.1600,2,    232.4,2,    251.4,2,     1.20,2,     0.00,2,     0.08,2,     0.17,2,     0.34,2,    2.510,2,    0.750,2,    0.200,2,   1963.6,6,   2192.9,2,    403.8,2,       20,     74.1,2,  19.9163,20070729,1816
  33RO20070710,GOMECC,    67,  1,   6717,     17,2,20070729,1757, 42.7283, -69.6843,  292,      3.9,  19.8340,  32.1500,2,-999.0000,9,    232.6,2,    251.3,2,  -999.00,9,  -999.00,9,  -999.00,9,  -999.00,9,     -999,9, -999.000,9, -999.000,9, -999.000,9,   -999.0,9,   -999.0,9,   -999.0,9,     -999,   -999.0,9,  19.8333,20070729,1816
  33RO20070710,GOMECC,    67,  1,   6718,     18,2,20070729,1757, 42.7283, -69.6843,  292,      3.9,  19.7980,  32.1560,2,-999.0000,9,    232.3,2,   -999.0,9,  -999.00,9,  -999.00,9,  -999.00,9,  -999.00,9,     -999,9, -999.000,9, -999.000,9, -999.000,9,   -999.0,9,   -999.0,9,   -999.0,9,     -999,   -999.0,9,  19.7973,20070729,1816