BOTTLE,20220922CCHSIOAMB
EXPOCODE,SECT_ID,STNNBR,CASTNO,SAMPNO,BTLNBR,BTLNBR_FLAG_W,DATE,TIME,LATITUDE,LONGITUDE,DEPTH,CTDPRS,CTDTMP,CTDSAL,CTDSAL_FLAG_W,SALNTY,SALNTY_FLAG_W,CTDOXY,CTDOXY_FLAG_W,OXYGEN,OXYGEN_FLAG_W,SILCAT,SILCAT_FLAG_W,NITRAT,NITRAT_FLAG_W,NITRIT,NITRIT_FLAG_W,PHSPHT,PHSPHT_FLAG_W,NH4,NH4_FLAG_W,CFC-11,CFC-11_FLAG_W,CFC-12,CFC-12_FLAG_W,CFC113,CFC113_FLAG_W,TCARBN,TCARBN_FLAG_W,ALKALI,ALKALI_FLAG_W,FCO2,FCO2_FLAG_W,FCO2TMP,DOC,DOC_FLAG_W,THETA,BTL_DATE,BTL_TIME
,,,,,,,,,,,METERS,DBAR,ITS-90,PSS-78,,PSS-78,,UMOL/KG,,UMOL/KG,,UMOL/KG,,UMOL/KG,,UMOL/KG,,UMOL/KG,,UMOL/KG,,PMOL/KG,,PMOL/KG,,PMOL/KG,,UMOL/KG,,UMOL/KG,,UATM,,DEG C,UMOL/KG,,DEG C,,
  33RO20070710,GOMECC,    26,  1,   2601,      1,2,20070716,2222, 26.3398, -85.5092, 3266,   3292.8,   4.3740,  34.9690,2,  34.9780,2,    203.5,2,    219.5,6,    24.80,2,    21.80,2,     0.05,2,     1.51,2,      0.1,2, -999.000,9, -999.000,9, -999.000,9,   2188.2,6,   2331.8,6,    775.8,2,       20,   -999.0,9,   4.0598,20070716,2222
  33RO20070710,GOMECC,    26,  1,   2602,      2,3,20070716,2222, 26.3398, -85.5092, 3266,   3091.7,   4.3510,  34.9690,2,-999.0000,9,    202.4,2,   -999.0,9,  -999.00,9,  -999.00,9,  -999.00,9,  -999.00,9,     -999,9, -999.000,9, -999.000,9, -999.000,9,   -999.0,9,   -999.0,9,   -999.0,9,     -999,   -999.0,9,   4.0607,20070716,2227
  33RO20070710,GOMECC,    26,  1,   2603,      3,2,20070716,2222, 26.3398, -85.5092, 3266,   2836.7,   4.3250,  34.9680,2,  34.9790,2,    201.3,2,    217.5,2,    24.90,2,    22.00,2,     0.01,2,     1.52,2,     0.09,2, -999.000,9, -999.000,9, -999.000,9,   2187.3,2,   2330.9,2,    778.3,2,       20,   -999.0,9,   4.0641,20070716,2227
  33RO20070710,GOMECC,    26,  1,   2604,      4,2,20070716,2222, 26.3398, -85.5092, 3266,   2583.3,   4.3020,  34.9680,2,  34.9760,2,    200.6,2,    217.6,2,    24.80,2,    22.00,2,     0.03,2,     1.52,2,      0.3,4, -999.000,9, -999.000,9, -999.000,9,   2187.4,2,   2330.2,2,    777.7,2,       20,   -999.0,9,   4.0693,20070716,2232
  33RO20070710,GOMECC,    26,  1,   2605,      5,2,20070716,2222, 26.3398, -85.5092, 3266,   2326.6,   4.2820,  34.9670,2,  34.9750,2,    200.1,2,    216.7,2,    24.90,2,    22.10,2,     0.00,2,     1.52,2,     0.11,2, -999.000,9, -999.000,9, -999.000,9,   2188.4,2,   2331.6,2,    783.6,2,       20,   -999.0,9,   4.0769,20070716,2237
  33RO20070710,GOMECC,    26,  1,   2606,      6,2,20070716,2222, 26.3398, -85.5092, 3266,   2073.5,   4.2650,  34.9670,2,  34.9740,2,    199.6,2,    216.1,2,    24.90,2,    22.20,2,     0.02,2,     1.53,2,     0.11,2, -999.000,9, -999.000,9, -999.000,9,   2189.5,2,   2329.9,2,    783.6,2,       20,   -999.0,9,   4.0862,20070716,2242
  33RO20070710,GOMECC,    26,  1,   2607,      7,2,20070716,2222, 26.3398, -85.5092, 3266,   1819.6,   4.2500,  34.9660,2,  34.9740,2,    199.4,2,    215.5,2,    25.00,2,    22.30,2,     0.07,2,     1.55,2,      0.1,2, -999.000,9, -999.000,9, -999.000,9,   2188.6,2,   2329.3,2,    786.6,2,       20,   -999.0,9,   4.0965,20070716,2247
  33RO20070710,GOMECC,    26,  1,   2608,      8,2,20070716,2222, 26.3398, -85.5092, 3266,   1564.5,   4.2630,  34.9640,2,  34.9710,2,    197.5,2,    213.1,2,    25.10,2,    22.40,2,     0.04,2,     1.55,2,     0.09,2, -999.000,9, -999.000,9, -999.000,9,   2190.0,2,   2329.3,2,    795.6,2,       20,   -999.0,9,   4.1338,20070716,2253
  33RO20070710,GOMECC,    26,  1,   2609,      9,2,20070716,2222, 26.3398, -85.5092, 3266,   1313.5,   4.3510,  34.9580,2,  34.9650,2,    192.6,2,    207.0,2,    25.40,2,    22.90,2,     0.07,2,     1.60,2,      0.1,2, -999.000,9, -999.000,9, -999.000,9,   2192.2,2,   2327.5,2,    814.2,2,       20,   -999.0,9,   4.2440,20070716,2258
  33RO20070710,GOMECC,    26,  1,   2610,     10,2,20070716,2222, 26.3398, -85.5092, 3266,   1058.9,   4.7110,  34.9400,2,  34.9470,2,    177.1,2,    189.1,2,    25.90,2,    24.60,2,     0.10,2,     1.74,2,      0.1,2, -999.000,9, -999.000,9, -999.000,9,   2199.3,2,   2328.4,2,    863.8,2,       20,   -999.0,9,   4.6239,20070716,2303
  33RO20070710,GOMECC,    26,  1,   2611,     11,2,20070716,2222, 26.3398, -85.5092, 3266,    807.1,   5.7470,  34.9040,2,  34.9110,2,    146.1,2,    155.3,3,    25.10,2,    28.00,2,     0.05,2,     1.94,2,      0.1,2, -999.000,9, -999.000,9, -999.000,9,   2208.6,2,   2320.7,2,    964.3,2,       20,   -999.0,9,   5.6758,20070716,2309
  33RO20070710,GOMECC,    26,  1,   2612,     12,2,20070716,2222, 26.3398, -85.5092, 3266,    554.4,   8.1340,  34.9770,2,  34.9830,2,    115.0,2,    120.4,3,    19.50,2,    29.20,2,     0.07,2,     1.96,2,     0.16,2,    0.260,2,    0.260,2, -999.000,9,   2207.7,2,   2314.5,2,    998.8,2,       20,   -999.0,9,   8.0761,20070716,2314
  33RO20070710,GOMECC,    26,  1,   2613,     13,2,20070716,2222, 26.3398, -85.5092, 3266,    302.4,  12.0810,  35.4950,2,  35.5000,2,    115.7,2,    129.1,2,    10.90,2,    22.20,2,     0.06,2,     1.42,2,     0.11,2, -999.000,9, -999.000,9, -999.000,9,   2187.7,3,   2332.4,2,    772.5,2,       20,   -999.0,9,  12.0410,20070716,2319
  33RO20070710,GOMECC,    26,  1,   2614,     14,2,20070716,2222, 26.3398, -85.5092, 3266,    252.4,  13.2890,  35.6770,2,  35.6790,2,    122.4,2,    130.1,2,     8.70,2,    19.50,2,     0.06,2,     1.24,2,      0.1,2, -999.000,9, -999.000,9, -999.000,9,   2178.3,2,   2340.2,2,    701.0,2,       20,   -999.0,9,  13.2535,20070716,2324
  33RO20070710,GOMECC,    26,  1,   2615,     15,4,20070716,2222, 26.3398, -85.5092, 3266,    200.7,  14.9450,  35.9460,2,-999.0000,9,    127.7,2,   -999.0,9,  -999.00,9,  -999.00,9,  -999.00,9,  -999.00,9,     -999,9, -999.000,9, -999.000,9, -999.000,9,   -999.0,9,   -999.0,9,   -999.0,9,     -999,   -999.0,9,  14.9144,20070716,2326
  33RO20070710,GOMECC,    26,  1,   2616,     16,2,20070716,2222, 26.3398, -85.5092, 3266,    150.3,  16.8670,  36.2480,2,  36.2370,2,    131.1,2,    139.0,2,     4.80,2,    12.80,2,     0.10,2,     0.77,2,      0.1,2, -999.000,9, -999.000,9, -999.000,9,   2158.9,2,   2374.9,2,    550.8,2,       20,   -999.0,9,  16.8421,20070716,2328
  33RO20070710,GOMECC,    26,  1,   2617,     17,2,20070716,2222, 26.3398, -85.5092, 3266,    125.4,  18.0960,  36.4160,2,  36.4320,4,    136.8,2,    144.3,2,     3.40,2,    10.10,2,     0.09,2,     0.58,2,     0.11,2, -999.000,9, -999.000,9, -999.000,9,   2147.6,2,   2386.8,2,    497.9,2,       20,   -999.0,9,  18.0742,20070716,2330
  33RO20070710,GOMECC,    26,  1,   2618,     18,2,20070716,2222, 26.3398, -85.5092, 3266,    100.6,  19.4090,  36.5270,2,  36.5300,2,    137.5,2,    144.8,2,     2.90,2,     8.40,2,     0.10,2,     0.46,2,      0.1,2,    2.370,2,    2.140,2,    0.250,2,   2144.3,2,   2393.2,2,    467.6,2,       20,   -999.0,9,  19.3907,20070716,2331
  33RO20070710,GOMECC,    26,  1,   2619,     19,2,20070716,2222, 26.3398, -85.5092, 3266,     75.8,  21.0340,  36.5900,2,  36.5890,2,    163.6,2,    174.6,3,     1.40,2,     2.80,2,     0.26,2,     0.16,2,     0.11,2, -999.000,9, -999.000,9, -999.000,9,   2115.1,3,   2401.3,2,    391.0,2,       20,   -999.0,9,  21.0194,20070716,2332
  33RO20070710,GOMECC,    26,  1,   2620,     20,2,20070716,2222, 26.3398, -85.5092, 3266,     50.8,  24.5150,  36.5100,2,  36.5110,2,    204.3,2,    216.2,3,     0.80,2,     0.00,2,     0.10,2,     0.03,2,     0.12,2, -999.000,9, -999.000,9, -999.000,9,   2055.8,3,   2401.1,2,    301.7,2,       20,   -999.0,9,  24.5041,20070716,2334
  33RO20070710,GOMECC,    26,  1,   2621,     21,2,20070716,2222, 26.3398, -85.5092, 3266,     25.1,  28.9890,  36.5540,2,  36.5470,2,    193.8,2,    204.9,2,     0.80,2,     0.00,2,     0.08,2,     0.01,2,      0.1,2,    1.770,2,    1.390,2,    0.140,2,   2043.7,2,   2398.3,2,    285.0,2,       20,   -999.0,9,  28.9829,20070716,2335
  33RO20070710,GOMECC,    26,  1,   2622,     22,2,20070716,2222, 26.3398, -85.5092, 3266,     10.0,  30.5630,  36.3140,2,  36.3200,2,    187.3,2,    197.0,2,     0.60,2,     0.00,2,     0.06,2,     0.01,2,      0.1,2, -999.000,9, -999.000,9, -999.000,9,   2039.8,2,   2397.1,2,    283.0,2,       20,   -999.0,9,  30.5605,20070716,2337
  33RO20070710,GOMECC,    26,  1,   2623,     23,2,20070716,2222, 26.3398, -85.5092, 3266,      4.2,  30.9880,  36.2700,2,-999.0000,9,    186.5,2,    195.5,6,     0.50,2,     0.00,2,     0.04,2,     0.00,2,      0.1,2,    1.630,2,    1.490,2,    0.110,2,   2040.7,6,   2396.4,2,    284.3,2,       20,     80.9,2,  30.9869,20070716,2338
  33RO20070710,GOMECC,    27,  1,   2701,      1,2,20070717,0447, 25.9992, -85.9967, 3238,   3256.6,   4.3680,  34.9690,2,  34.9790,2,    203.5,2,    219.9,2,    24.90,2,    21.70,2,     0.15,2,     1.52,2,      0.1,2,    0.590,2,    0.370,2,    0.280,2,   2186.9,2,   2335.8,2,   -999.0,9,     -999,   -999.0,9,   4.0582,20070717,0447
  33RO20070710,GOMECC,    27,  1,   2702,      2,2,20070717,0447, 25.9992, -85.9967, 3238,      3.9,  29.6440,  36.1910,2,  36.1960,2,    184.7,2,    196.3,2,  -999.00,9,  -999.00,9,  -999.00,9,  -999.00,9,     -999,9, -999.000,9, -999.000,9, -999.000,9,   -999.0,9,   -999.0,9,   -999.0,9,     -999,   -999.0,9,  29.6430,20070717,0614
  33RO20070710,GOMECC,    27,  1,   2703,      3,2,20070717,0447, 25.9992, -85.9967, 3238,   3044.4,   4.3450,  34.9690,2,  34.9780,2,    201.9,2,    219.2,2,    25.10,2,    21.80,2,     0.05,2,     1.52,2,      0.1,2,    0.130,2,    0.170,2,    0.070,2,   2187.9,6,   2332.1,2,   -999.0,9,     -999,   -999.0,9,   4.0602,20070717,0451
  33RO20070710,GOMECC,    27,  1,   2704,      4,2,20070717,0447, 25.9992, -85.9967, 3238,   2793.9,   4.3210,  34.9680,2,  34.9750,2,    200.8,2,    218.3,2,    25.00,2,    22.00,2,     0.00,2,     1.53,2,     0.12,2, -999.000,9, -999.000,9, -999.000,9,   2193.7,3,   2331.0,2,   -999.0,9,     -999,   -999.0,9,   4.0649,20070717,0455
  33RO20070710,GOMECC,    27,  1,   2705,      5,2,20070717,0447, 25.9992, -85.9967, 3238,   2545.9,   4.2970,  34.9680,2,  34.9760,2,    200.7,2,    218.0,2,    24.90,2,    22.00,2,     0.03,2,     1.54,2,      0.1,2,    0.210,2,    0.170,2,    0.020,2,   2187.7,2,   2330.1,2,   -999.0,9,     -999,   -999.0,9,   4.0684,20070717,0459
  33RO20070710,GOMECC,    27,  1,   2706,      6,2,20070717,0447, 25.9992, -85.9967, 3238,   2300.0,   4.2780,  34.9670,2,  34.9750,2,    200.1,2,    213.2,2,    25.00,2,    21.90,2,     0.04,2,     1.53,2,      0.1,2, -999.000,9, -999.000,9, -999.000,9,   2186.7,2,   2332.1,2,   -999.0,9,     -999,   -999.0,9,   4.0757,20070717,0504
  33RO20070710,GOMECC,    27,  1,   2707,      7,2,20070717,0447, 25.9992, -85.9967, 3238,   2052.0,   4.2660,  34.9660,2,  34.9730,2,    199.4,2,    216.7,2,    25.00,2,    22.10,2,     0.04,2,     1.55,2,     0.15,2,    0.210,2,    0.040,2,    0.060,2,   2185.8,2,   2335.3,2,   -999.0,9,     -999,   -999.0,9,   4.0893,20070717,0509
  33RO20070710,GOMECC,    27,  1,   2708,      8,2,20070717,0447, 25.9992, -85.9967, 3238,   1803.4,   4.2630,  34.9660,2,  34.9750,2,    199.1,2,    215.7,2,    25.00,2,    22.10,2,     0.06,2,     1.55,2,     0.11,2, -999.000,9, -999.000,9, -999.000,9,   2185.4,2,   2336.1,2,   -999.0,9,     -999,   -999.0,9,   4.1109,20070717,0515
  33RO20070710,GOMECC,    27,  1,   2709,      9,2,20070717,0447, 25.9992, -85.9967, 3238,   1554.5,   4.2810,  34.9620,2,  34.9710,2,    196.1,2,    211.5,2,    25.50,2,    22.50,2,     0.06,2,     1.59,2,     0.11,2, -999.000,9, -999.000,9, -999.000,9,   2188.3,2,   2332.8,2,   -999.0,9,     -999,   -999.0,9,   4.1525,20070717,0522
  33RO20070710,GOMECC,    27,  1,   2710,     10,2,20070717,0447, 25.9992, -85.9967, 3238,   1308.3,   4.3810,  34.9560,2,  34.9640,2,    190.4,2,    205.1,2,    25.60,2,    23.10,2,     0.06,2,     1.64,2,     0.13,2, -999.000,9, -999.000,9, -999.000,9,   2187.7,3,   2333.1,2,   -999.0,9,     -999,   -999.0,9,   4.2742,20070717,0529
  33RO20070710,GOMECC,    27,  1,   2711,     11,2,20070717,0447, 25.9992, -85.9967, 3238,   1054.3,   4.9300,  34.9310,2,  34.9380,2,    169.1,2,    181.3,2,    25.80,2,    25.40,2,     0.04,2,     1.77,2,     0.11,2, -999.000,9, -999.000,9, -999.000,9,   2211.4,2,   2330.5,2,   -999.0,9,     -999,   -999.0,9,   4.8416,20070717,0536
  33RO20070710,GOMECC,    27,  1,   2712,     12,2,20070717,0447, 25.9992, -85.9967, 3238,    805.6,   6.2600,  34.8950,2,  34.9010,2,    135.7,2,    147.3,2,    23.10,2,    29.10,2,     0.07,2,     2.00,2,     0.09,2, -999.000,9, -999.000,9, -999.000,9,   2208.6,2,   2323.0,2,   -999.0,9,     -999,   -999.0,9,   6.1858,20070717,0546
  33RO20070710,GOMECC,    27,  1,   2713,     13,2,20070717,0447, 25.9992, -85.9967, 3238,    556.1,   9.2470,  35.0840,2,  35.0950,2,    114.0,2,    120.8,2,    16.50,2,    27.30,2,     0.08,2,     1.82,2,      0.1,2,    1.120,2,    1.490,2,    0.020,2,   2197.5,3,   2318.6,2,   -999.0,9,     -999,   -999.0,9,   9.1842,20070717,0554
  33RO20070710,GOMECC,    27,  1,   2714,     14,2,20070717,0447, 25.9992, -85.9967, 3238,    305.0,  15.4760,  36.0290,2,  36.2910,4,    130.3,2,    148.4,3,     4.50,2,    11.40,2,     0.09,2,     0.67,2,     0.09,2, -999.000,9, -999.000,9, -999.000,9,   2148.8,2,   2379.6,2,   -999.0,9,     -999,   -999.0,9,  15.4283,20070717,0601
  33RO20070710,GOMECC,    27,  1,   2715,     15,2,20070717,0447, 25.9992, -85.9967, 3238,    252.4,  16.9830,  36.2680,2,  36.2880,4,    140.8,2,    146.9,2,     4.50,2,    11.50,2,     0.09,2,     0.71,2,     0.11,2, -999.000,9, -999.000,9, -999.000,9,   2150.3,2,   2378.9,2,   -999.0,9,     -999,   -999.0,9,  16.9409,20070717,0602
  33RO20070710,GOMECC,    27,  1,   2716,     16,2,20070717,0447, 25.9992, -85.9967, 3238,    200.9,  18.9580,  36.5590,2,  36.5600,2,    143.3,2,    152.2,2,     3.00,2,     8.00,2,     0.09,2,     0.45,2,      0.1,2,    3.040,2,    3.610,2,    0.260,2,   2139.7,2,   2394.0,2,   -999.0,9,     -999,   -999.0,9,  18.9219,20070717,0604
  33RO20070710,GOMECC,    27,  1,   2717,     17,2,20070717,0447, 25.9992, -85.9967, 3238,    150.3,  22.2810,  36.8110,2,  36.8240,2,    144.7,2,    153.0,2,     2.20,2,     4.90,2,     0.11,2,     0.29,2,     0.13,2, -999.000,9, -999.000,9, -999.000,9,   2127.2,2,   2408.4,2,   -999.0,9,     -999,   -999.0,9,  22.2507,20070717,0606
  33RO20070710,GOMECC,    27,  1,   2718,     18,2,20070717,0447, 25.9992, -85.9967, 3238,    124.9,  24.6210,  36.7170,2,  36.7500,4,    156.1,2,    165.2,2,     1.80,2,     2.70,2,     0.15,2,     0.17,2,     0.09,2, -999.000,9, -999.000,9, -999.000,9,   2097.8,2,   2404.4,2,   -999.0,9,     -999,   -999.0,9,  24.5940,20070717,0607
  33RO20070710,GOMECC,    27,  1,   2719,     19,2,20070717,0447, 25.9992, -85.9967, 3238,    100.0,  26.1220,  36.4700,2,  36.4770,2,    167.4,2,    177.7,2,     1.60,2,     1.00,2,     0.11,2,     0.09,2,      0.1,2, -999.000,9, -999.000,9, -999.000,9,   2060.0,2,   2389.9,2,   -999.0,9,     -999,   -999.0,9,  26.0995,20070717,0608
  33RO20070710,GOMECC,    27,  1,   2720,     20,2,20070717,0447, 25.9992, -85.9967, 3238,     75.2,  27.9790,  36.2260,2,  36.2320,2,    185.5,2,    196.7,2,     1.50,2,     0.00,2,     0.11,2,     0.03,2,     0.09,2, -999.000,9, -999.000,9, -999.000,9,   2019.4,2,   2366.8,2,   -999.0,9,     -999,   -999.0,9,  27.9612,20070717,0609
  33RO20070710,GOMECC,    27,  1,   2721,     21,2,20070717,0447, 25.9992, -85.9967, 3238,     50.0,  28.6680,  36.2020,2,  36.2130,4,    186.4,2,    197.5,2,     1.40,2,     0.00,2,     0.11,2,     0.01,2,     0.09,2, -999.000,9, -999.000,9, -999.000,9,   2011.3,2,   2362.9,2,   -999.0,9,     -999,   -999.0,9,  28.6560,20070717,0610
  33RO20070710,GOMECC,    27,  1,   2722,     22,2,20070717,0447, 25.9992, -85.9967, 3238,     25.2,  29.4050,  36.1880,2,  36.1910,2,    185.8,2,    196.8,2,     1.30,2,     0.00,2,     0.15,2,     0.01,2,     0.09,2,    1.630,2,    1.740,2,    0.010,2,   2004.1,2,   2361.1,2,   -999.0,9,     -999,   -999.0,9,  29.3988,20070717,0612
  33RO20070710,GOMECC,    27,  1,   2723,     23,2,20070717,0447, 25.9992, -85.9967, 3238,     10.2,  29.5540,  36.1880,2,  36.1910,2,    185.0,2,    195.7,2,     1.30,2,     0.00,2,     0.16,2,     0.00,2,     0.09,2, -999.000,9, -999.000,9, -999.000,9,   2007.6,6,   2363.7,2,   -999.0,9,     -999,   -999.0,9,  29.5515,20070717,0613
  33RO20070710,GOMECC,    27,  1,   2724,     24,2,20070717,0447, 25.9992, -85.9967, 3238,      3.8,  29.6440,  36.1910,2,  36.1920,2,    184.8,2,    195.3,6,     1.40,2,     0.00,2,     0.16,2,     0.00,2,     0.09,2,    2.270,2,    3.180,2,    0.300,2,   2004.8,2,   2362.5,2,   -999.0,9,     -999,     43.9,2,  29.6431,20070717,0614