BOTTLE,20220922CCHSIOAMB
EXPOCODE,SECT_ID,STNNBR,CASTNO,SAMPNO,BTLNBR,BTLNBR_FLAG_W,DATE,TIME,LATITUDE,LONGITUDE,DEPTH,CTDPRS,CTDTMP,CTDSAL,CTDSAL_FLAG_W,SALNTY,SALNTY_FLAG_W,CTDOXY,CTDOXY_FLAG_W,OXYGEN,OXYGEN_FLAG_W,SILCAT,SILCAT_FLAG_W,NITRAT,NITRAT_FLAG_W,NITRIT,NITRIT_FLAG_W,PHSPHT,PHSPHT_FLAG_W,NH4,NH4_FLAG_W,CFC-11,CFC-11_FLAG_W,CFC-12,CFC-12_FLAG_W,CFC113,CFC113_FLAG_W,TCARBN,TCARBN_FLAG_W,ALKALI,ALKALI_FLAG_W,FCO2,FCO2_FLAG_W,FCO2TMP,DOC,DOC_FLAG_W,THETA,BTL_DATE,BTL_TIME
,,,,,,,,,,,METERS,DBAR,ITS-90,PSS-78,,PSS-78,,UMOL/KG,,UMOL/KG,,UMOL/KG,,UMOL/KG,,UMOL/KG,,UMOL/KG,,UMOL/KG,,PMOL/KG,,PMOL/KG,,PMOL/KG,,UMOL/KG,,UMOL/KG,,UATM,,DEG C,UMOL/KG,,DEG C,,
  33RO20070710,GOMECC,    87,  1,   8701,      1,2,20070802,0504, 38.3218, -68.8702, 3830,   3843.2,   2.1360,  34.8750,2,  34.8850,2,    240.1,2,    266.1,2,    33.80,2,    18.70,2,     0.01,2,     1.34,2,     0.11,2, -999.000,9, -999.000,9, -999.000,9,   2181.5,6,   2330.6,2,    748.6,2,       20,   -999.0,9,   1.8155,20070802,0504
  33RO20070710,GOMECC,    87,  1,   8702,      2,3,20070802,0504, 38.3218, -68.8702, 3830,   3659.2,   2.1490,  34.8780,2,  34.8880,2,    241.4,2,    267.6,2,    30.60,3,    18.10,3,     0.01,3,     1.29,3,     0.13,3, -999.000,9, -999.000,9, -999.000,9,   2176.9,2,   2326.5,2,    746.2,2,       20,   -999.0,9,   1.8483,20070802,0508
  33RO20070710,GOMECC,    87,  1,   8703,      3,2,20070802,0504, 38.3218, -68.8702, 3830,   3351.5,   2.2850,  34.8900,2,  34.9010,2,    245.2,2,    272.9,2,    23.80,2,    17.20,2,     0.01,2,     1.21,2,     0.14,2, -999.000,9, -999.000,9, -999.000,9,   2169.6,2,   2319.2,2,    738.8,2,       20,   -999.0,9,   2.0137,20070802,0514
  33RO20070710,GOMECC,    87,  1,   8704,      4,2,20070802,0504, 38.3218, -68.8702, 3830,   3044.4,   2.5030,  34.9030,2,  34.9130,2,    245.4,2,    273.3,2,    20.20,2,    16.90,2,     0.01,2,     1.19,2,     0.12,2, -999.000,9, -999.000,9, -999.000,9,   2163.8,2,   2316.7,2,    733.9,2,       20,   -999.0,9,   2.2585,20070802,0519
  33RO20070710,GOMECC,    87,  1,   8705,      5,2,20070802,0504, 38.3218, -68.8702, 3830,   2737.5,   2.7750,  34.9200,2,  34.9350,2,    242.2,2,    269.5,2,    19.60,2,    17.30,2,     0.01,2,     1.21,2,     0.15,2, -999.000,9, -999.000,9, -999.000,9,   2163.2,2,   2317.6,2,    727.9,2,       20,   -999.0,9,   2.5558,20070802,0525
  33RO20070710,GOMECC,    87,  1,   8706,      6,2,20070802,0504, 38.3218, -68.8702, 3830,   2430.4,   3.0470,  34.9340,2,  34.9450,2,    240.6,2,    267.1,2,    18.10,2,    17.60,2,     0.02,2,     1.22,2,     0.15,2, -999.000,9, -999.000,9, -999.000,9,   2161.8,2,   2317.8,2,    729.0,2,       20,   -999.0,9,   2.8530,20070802,0531
  33RO20070710,GOMECC,    87,  1,   8707,      7,2,20070802,0504, 38.3218, -68.8702, 3830,   2127.7,   3.2940,  34.9370,2,  34.9470,2,    242.2,2,    269.8,2,    15.50,2,    17.20,2,     0.01,2,     1.19,2,     0.12,2, -999.000,9, -999.000,9, -999.000,9,   2160.3,2,   2314.4,2,    729.8,2,       20,   -999.0,9,   3.1250,20070802,0537
  33RO20070710,GOMECC,    87,  1,   8708,      8,2,20070802,0504, 38.3218, -68.8702, 3830,   1822.6,   3.4560,  34.9370,2,  34.9470,2,    243.6,2,    269.2,2,    13.90,2,    17.20,2,     0.01,2,     1.18,2,     0.13,2, -999.000,9, -999.000,9, -999.000,9,   2158.8,2,   2314.5,2,    738.0,2,       20,   -999.0,9,   3.3131,20070802,0542
  33RO20070710,GOMECC,    87,  1,   8709,      9,2,20070802,0504, 38.3218, -68.8702, 3830,   1414.9,   3.8150,  34.9550,2,  34.9640,2,    241.2,2,    263.3,2,    12.50,2,    17.30,2,     0.01,2,     1.17,2,     0.13,2, -999.000,9, -999.000,9, -999.000,9,   2160.1,2,   2313.2,2,    744.1,2,       20,   -999.0,9,   3.7045,20070802,0550
  33RO20070710,GOMECC,    87,  1,   8710,     10,2,20070802,0504, 38.3218, -68.8702, 3830,   1011.2,   4.2920,  34.9840,2,  34.9930,2,    235.1,2,    256.8,2,    11.80,2,    17.50,2,     0.01,2,     1.19,2,     0.13,2, -999.000,9, -999.000,9, -999.000,9,   2164.0,2,   2314.3,2,    756.7,2,       20,   -999.0,9,   4.2123,20070802,0557
  33RO20070710,GOMECC,    87,  1,   8711,     11,3,20070802,0504, 38.3218, -68.8702, 3830,    807.4,   4.6180,  35.0030,2,  35.0140,2,    228.6,2,    248.7,2,    11.70,3,    17.80,3,     0.01,3,     1.20,3,     0.12,3, -999.000,9, -999.000,9, -999.000,9,   2165.9,2,   2315.4,2,    763.2,2,       20,   -999.0,9,   4.5535,20070802,0601
  33RO20070710,GOMECC,    87,  1,   8712,     12,2,20070802,0504, 38.3218, -68.8702, 3830,    707.1,   4.8170,  35.0100,2,  35.0200,2,    224.3,2,    271.6,3,    11.80,2,    18.10,2,     0.01,2,     1.22,2,     0.18,2, -999.000,9, -999.000,9, -999.000,9,   2168.2,2,   2317.8,2,    768.1,2,       20,   -999.0,9,   4.7600,20070802,0605
  33RO20070710,GOMECC,    87,  1,   8713,     13,2,20070802,0504, 38.3218, -68.8702, 3830,    605.4,   5.0730,  35.0130,2,  35.0220,2,    217.3,2,    235.6,2,    12.10,2,    18.40,2,     0.01,2,     1.24,2,     0.12,2, -999.000,9, -999.000,9, -999.000,9,   2170.5,2,   2315.7,2,    787.2,2,       20,   -999.0,9,   5.0234,20070802,0607
  33RO20070710,GOMECC,    87,  1,   8714,     14,2,20070802,0504, 38.3218, -68.8702, 3830,    504.7,   5.6410,  35.0360,2,  35.0470,2,    202.1,2,    218.3,2,    12.60,2,    19.40,2,     0.01,2,     1.31,2,     0.13,2, -999.000,9, -999.000,9, -999.000,9,   2176.8,2,   2316.4,2,    804.9,2,       20,     41.7,2,   5.5978,20070802,0610
  33RO20070710,GOMECC,    87,  1,   8715,     15,2,20070802,0504, 38.3218, -68.8702, 3830,    405.1,   6.3620,  35.0440,2,  35.0530,2,    182.1,2,    194.9,2,    13.40,2,    20.80,2,     0.01,2,     1.38,2,     0.12,2, -999.000,9, -999.000,9, -999.000,9,   2182.8,2,   2319.5,2,    835.7,2,       20,   -999.0,9,   6.3254,20070802,0612
  33RO20070710,GOMECC,    87,  1,   8716,     16,2,20070802,0504, 38.3218, -68.8702, 3830,    303.2,   8.1790,  35.1100,2,  35.1170,2,    144.2,2,    154.8,2,    14.50,2,    23.10,2,     0.01,2,     1.52,2,     0.12,2, -999.000,9, -999.000,9, -999.000,9,   2190.5,2,   2323.7,2,    867.5,2,       20,   -999.0,9,   8.1476,20070802,0615
  33RO20070710,GOMECC,    87,  1,   8717,     17,2,20070802,0504, 38.3218, -68.8702, 3830,    204.0,  10.2960,  35.2770,2,  35.2850,2,    134.6,2,    143.1,6,    11.50,2,    21.10,2,     0.02,2,     1.37,2,     0.13,2, -999.000,9, -999.000,9, -999.000,9,   2183.1,2,   2327.9,2,    795.5,2,       20,   -999.0,9,  10.2718,20070802,0618
  33RO20070710,GOMECC,    87,  1,   8718,     18,2,20070802,0504, 38.3218, -68.8702, 3830,    101.2,  13.5080,  35.6140,2,  35.6180,2,    178.1,2,    192.2,2,     4.50,2,    11.00,2,     0.03,2,     0.70,2,     0.13,2, -999.000,9, -999.000,9, -999.000,9,   2135.4,2,   2346.8,2,    543.4,2,       20,   -999.0,9,  13.4937,20070802,0621
  33RO20070710,GOMECC,    87,  1,   8719,     19,2,20070802,0504, 38.3218, -68.8702, 3830,     75.7,  15.6680,  36.0140,2,  36.0110,2,    157.3,2,    169.2,2,     4.00,2,    10.50,2,     0.06,2,     0.63,2,     0.12,2, -999.000,9, -999.000,9, -999.000,9,   2139.7,2,   2362.2,2,    515.8,2,       20,   -999.0,9,  15.6561,20070802,0623
  33RO20070710,GOMECC,    87,  1,   8720,     20,2,20070802,0504, 38.3218, -68.8702, 3830,     50.3,  14.3090,  35.1060,2,  35.1570,4,    200.9,2,    214.1,2,     3.10,2,     5.30,2,     0.14,2,     0.45,2,     0.14,2, -999.000,9, -999.000,9, -999.000,9,   2105.8,2,   2327.6,2,    494.3,2,       20,   -999.0,9,  14.3017,20070802,0625
  33RO20070710,GOMECC,    87,  1,   8721,     21,2,20070802,0504, 38.3218, -68.8702, 3830,     30.8,  15.6140,  34.5380,2,  34.4940,4,    244.6,2,    264.5,2,     1.40,2,     0.10,2,     0.02,2,     0.15,2,     0.13,2, -999.000,9, -999.000,9, -999.000,9,   2045.3,2,   2301.6,2,    402.0,2,       20,   -999.0,9,  15.6092,20070802,0626
  33RO20070710,GOMECC,    87,  1,   8722,     22,2,20070802,0504, 38.3218, -68.8702, 3830,     19.9,  16.3240,  33.2470,2,  33.3860,4,    264.0,2,    280.1,2,     0.50,2,     0.00,2,     0.01,2,     0.12,2,     0.14,2, -999.000,9, -999.000,9, -999.000,9,   1995.5,2,   2242.7,2,    388.7,2,       20,   -999.0,9,  16.3209,20070802,0627
  33RO20070710,GOMECC,    87,  1,   8723,     23,2,20070802,0504, 38.3218, -68.8702, 3830,     10.0,  25.2750,  34.6450,2,  34.6340,2,    197.3,2,    215.2,2,     0.40,2,     0.00,2,     0.01,2,     0.01,2,     0.13,2, -999.000,9, -999.000,9, -999.000,9,   1992.7,2,   2298.8,2,    309.8,2,       20,     71.0,2,  25.2728,20070802,0628
  33RO20070710,GOMECC,    87,  1,   8724,     24,2,20070802,0504, 38.3218, -68.8702, 3830,      4.8,  25.2660,  34.6420,2,  34.6500,2,    197.4,2,    214.3,2,     0.40,2,     0.00,2,     0.01,2,     0.00,2,     0.13,2, -999.000,9, -999.000,9, -999.000,9,   1993.0,2,   2300.5,2,    309.2,2,       20,     73.0,2,  25.2650,20070802,0630
  33RO20070710,GOMECC,    88,  1,   8801,      1,2,20070802,0942, 38.0905, -68.7002, 4095,   4131.4,   2.1690,  34.8750,2,  34.8850,2,    238.4,2,    263.7,2,    34.40,2,    18.70,2,     0.01,2,     1.27,2,     0.12,2, -999.000,9, -999.000,9, -999.000,9,   -999.0,9,   -999.0,9,   -999.0,9,     -999,   -999.0,9,   1.8150,20070802,0942
  33RO20070710,GOMECC,    88,  1,   8802,      2,2,20070802,0942, 38.0905, -68.7002, 4095,   3502.4,   2.3890,  34.8940,2,  34.9050,2,    245.2,2,    273.8,2,    21.70,2,    17.20,2,     0.01,2,     1.18,2,     0.22,2, -999.000,9, -999.000,9, -999.000,9,   -999.0,9,   -999.0,9,   -999.0,9,     -999,   -999.0,9,   2.0991,20070802,0953
  33RO20070710,GOMECC,    88,  1,   8803,      3,2,20070802,0942, 38.0905, -68.7002, 4095,   3001.3,   2.7510,  34.9190,2,  34.9280,2,    240.7,2,    269.0,2,    20.40,2,    17.30,2,     0.00,2,     1.18,2,     0.13,2, -999.000,9, -999.000,9, -999.000,9,   -999.0,9,   -999.0,9,   -999.0,9,     -999,   -999.0,9,   2.5055,20070802,1002
  33RO20070710,GOMECC,    88,  1,   8804,      4,2,20070802,0942, 38.0905, -68.7002, 4095,   2501.8,   3.1260,  34.9300,2,  34.9390,2,    241.2,2,    269.2,2,    16.60,2,    17.10,2,     0.01,2,     1.14,2,     0.13,2, -999.000,9, -999.000,9, -999.000,9,   -999.0,9,   -999.0,9,   -999.0,9,     -999,   -999.0,9,   2.9235,20070802,1011
  33RO20070710,GOMECC,    88,  1,   8805,      5,2,20070802,0942, 38.0905, -68.7002, 4095,   2001.3,   3.4380,  34.9340,2,  34.9440,2,    242.7,2,    269.5,2,    14.00,2,    17.10,2,     0.01,2,     1.14,2,     0.13,2, -999.000,9, -999.000,9, -999.000,9,   -999.0,9,   -999.0,9,   -999.0,9,     -999,   -999.0,9,   3.2787,20070802,1019
  33RO20070710,GOMECC,    88,  1,   8806,      6,2,20070802,0942, 38.0905, -68.7002, 4095,   1750.1,   3.5960,  34.9390,2,  34.9500,2,    242.4,2,    268.5,2,    13.00,2,    17.20,2,     0.00,2,     1.13,2,     0.12,2, -999.000,9, -999.000,9, -999.000,9,   -999.0,9,   -999.0,9,   -999.0,9,     -999,   -999.0,9,   3.4579,20070802,1024
  33RO20070710,GOMECC,    88,  1,   8807,      7,2,20070802,0942, 38.0905, -68.7002, 4095,   1498.9,   3.7880,  34.9470,2,  34.9560,2,    241.1,2,    265.7,2,    12.40,2,    17.20,2,     0.00,2,     1.13,2,     0.13,2, -999.000,9, -999.000,9, -999.000,9,   -999.0,9,   -999.0,9,   -999.0,9,     -999,   -999.0,9,   3.6703,20070802,1029
  33RO20070710,GOMECC,    88,  1,   8808,      8,2,20070802,0942, 38.0905, -68.7002, 4095,   1250.7,   3.9650,  34.9500,2,  34.9590,2,    239.9,2,    263.0,2,    11.80,2,    17.20,2,     0.00,2,     1.14,2,     0.12,2, -999.000,9, -999.000,9, -999.000,9,   -999.0,9,   -999.0,9,   -999.0,9,     -999,   -999.0,9,   3.8674,20070802,1034
  33RO20070710,GOMECC,    88,  1,   8809,      9,2,20070802,0942, 38.0905, -68.7002, 4095,    999.7,   4.1940,  34.9600,2,  34.9690,2,    236.8,2,    259.9,2,    11.60,2,    17.30,2,     0.00,2,     1.14,2,     0.13,2, -999.000,9, -999.000,9, -999.000,9,   -999.0,9,   -999.0,9,   -999.0,9,     -999,   -999.0,9,   4.1161,20070802,1038
  33RO20070710,GOMECC,    88,  1,   8810,     10,2,20070802,0942, 38.0905, -68.7002, 4095,    800.2,   4.6820,  35.0080,2,  35.0150,2,    225.7,2,    243.1,2,    11.90,2,    17.90,2,     0.00,2,     1.18,2,     0.13,2, -999.000,9, -999.000,9, -999.000,9,   -999.0,9,   -999.0,9,   -999.0,9,     -999,   -999.0,9,   4.6178,20070802,1043
  33RO20070710,GOMECC,    88,  1,   8811,     11,2,20070802,0942, 38.0905, -68.7002, 4095,    699.9,   4.8550,  35.0030,2,  35.0120,2,    221.8,2,    241.6,2,    12.00,2,    18.20,2,     0.00,2,     1.19,2,     0.12,2, -999.000,9, -999.000,9, -999.000,9,   -999.0,9,   -999.0,9,   -999.0,9,     -999,   -999.0,9,   4.7984,20070802,1046
  33RO20070710,GOMECC,    88,  1,   8812,     12,2,20070802,0942, 38.0905, -68.7002, 4095,    600.3,   5.2980,  35.0430,2,  35.0510,2,    210.6,2,    228.2,2,    12.40,2,    18.90,2,     0.01,2,     1.24,2,     0.14,2, -999.000,9, -999.000,9, -999.000,9,   -999.0,9,   -999.0,9,   -999.0,9,     -999,   -999.0,9,   5.2478,20070802,1048
  33RO20070710,GOMECC,    88,  1,   8813,     13,2,20070802,0942, 38.0905, -68.7002, 4095,    499.9,   5.3120,  34.9720,2,  34.9810,2,    207.1,2,    224.0,2,    12.40,2,    19.00,2,     0.01,2,     1.25,2,     0.13,2, -999.000,9, -999.000,9, -999.000,9,   2178.2,2,   2312.4,2,   -999.0,9,     -999,   -999.0,9,   5.2706,20070802,1051
  33RO20070710,GOMECC,    88,  1,   8814,     14,2,20070802,0942, 38.0905, -68.7002, 4095,    400.1,   6.7980,  35.0520,2,  35.0610,2,    170.2,2,    174.1,2,    13.90,2,    21.60,2,     0.01,2,     1.40,2,     0.13,2, -999.000,9, -999.000,9, -999.000,9,   -999.0,9,   -999.0,9,   -999.0,9,     -999,   -999.0,9,   6.7605,20070802,1053
  33RO20070710,GOMECC,    88,  1,   8815,     15,2,20070802,0942, 38.0905, -68.7002, 4095,    300.3,   8.5690,  35.1340,2,  35.1410,2,    138.7,2,    148.9,2,    14.10,2,    23.30,2,     0.01,2,     1.49,2,     0.13,2, -999.000,9, -999.000,9, -999.000,9,   2191.1,2,   2320.9,2,   -999.0,9,     -999,   -999.0,9,   8.5371,20070802,1056
  33RO20070710,GOMECC,    88,  1,   8816,     16,2,20070802,0942, 38.0905, -68.7002, 4095,    199.9,  11.0790,  35.3690,2,  35.3760,2,    134.4,2,    144.6,2,    10.30,2,    20.00,2,     0.01,2,     1.25,2,     0.12,2, -999.000,9, -999.000,9, -999.000,9,   2178.8,2,   2337.8,2,   -999.0,9,     -999,   -999.0,9,  11.0541,20070802,1058
  33RO20070710,GOMECC,    88,  1,   8817,     17,2,20070802,0942, 38.0905, -68.7002, 4095,    100.1,  13.0810,  35.3280,2,  35.3400,2,    184.8,2,    199.0,2,     3.90,2,     9.90,2,     0.04,2,     0.71,2,     0.13,2, -999.000,9, -999.000,9, -999.000,9,   -999.0,9,   -999.0,9,   -999.0,9,     -999,   -999.0,9,  13.0672,20070802,1100
  33RO20070710,GOMECC,    88,  1,   8818,     18,2,20070802,0942, 38.0905, -68.7002, 4095,     74.8,  13.3810,  35.0860,2,  35.1390,4,    196.4,2,    209.5,2,     3.00,2,     7.10,2,     0.07,2,     0.59,2,     0.12,2, -999.000,9, -999.000,9, -999.000,9,   2111.9,2,   2325.2,2,   -999.0,9,     -999,   -999.0,9,  13.3705,20070802,1102
  33RO20070710,GOMECC,    88,  1,   8819,     19,2,20070802,0942, 38.0905, -68.7002, 4095,     50.1,  14.8600,  34.7780,2,  34.8270,4,    236.4,2,    254.2,3,     1.40,2,     0.50,2,     0.16,2,     0.24,2,     0.15,2, -999.000,9, -999.000,9, -999.000,9,   2066.2,2,   2317.2,2,   -999.0,9,     -999,   -999.0,9,  14.8525,20070802,1103
  33RO20070710,GOMECC,    88,  1,   8820,     20,2,20070802,0942, 38.0905, -68.7002, 4095,     30.1,  23.5040,  35.7610,2,  35.7140,4,    205.3,2,    225.5,2,     0.70,2,     0.10,2,     0.02,2,     0.09,2,     0.13,2, -999.000,9, -999.000,9, -999.000,9,   -999.0,9,   -999.0,9,   -999.0,9,     -999,   -999.0,9,  23.4977,20070802,1104
  33RO20070710,GOMECC,    88,  1,   8821,     21,2,20070802,0942, 38.0905, -68.7002, 4095,     20.4,  26.1840,  36.1250,2,  36.1120,2,    191.6,2,    208.6,2,     0.30,2,     0.00,2,     0.00,2,     0.04,2,     0.13,2, -999.000,9, -999.000,9, -999.000,9,   2030.4,2,   2371.1,2,   -999.0,9,     -999,   -999.0,9,  26.1794,20070802,1105
  33RO20070710,GOMECC,    88,  1,   8822,     22,2,20070802,0942, 38.0905, -68.7002, 4095,      9.7,  26.0070,  35.0480,2,  35.1100,4,    196.0,2,    214.2,2,     0.50,2,     0.00,2,     0.00,2,     0.04,2,     0.13,2, -999.000,9, -999.000,9, -999.000,9,   -999.0,9,   -999.0,9,   -999.0,9,     -999,   -999.0,9,  26.0048,20070802,1106
  33RO20070710,GOMECC,    88,  1,   8823,     23,2,20070802,0942, 38.0905, -68.7002, 4095,      4.6,  25.3550,  33.6410,2,  33.7490,4,    199.4,2,    215.0,2,     0.50,2,     0.10,2,     0.00,2,     0.04,2,     0.13,2, -999.000,9, -999.000,9, -999.000,9,   1965.7,2,   2254.5,6,   -999.0,9,     -999,     71.3,2,  25.3540,20070802,1107
  33RO20070710,GOMECC,    88,  1,   8824,     24,2,20070802,0942, 38.0905, -68.7002, 4095,      4.5,  25.3410,  33.6470,2,-999.0000,9,    197.7,2,   -999.0,9,  -999.00,9,  -999.00,9,  -999.00,9,  -999.00,9,     -999,9, -999.000,9, -999.000,9, -999.000,9,   -999.0,9,   -999.0,9,   -999.0,9,     -999,   -999.0,9,  25.3400,20070802,1107