BOTTLE,20220922CCHSIOAMB
EXPOCODE,SECT_ID,STNNBR,CASTNO,SAMPNO,BTLNBR,BTLNBR_FLAG_W,DATE,TIME,LATITUDE,LONGITUDE,DEPTH,CTDPRS,CTDTMP,CTDSAL,CTDSAL_FLAG_W,SALNTY,SALNTY_FLAG_W,CTDOXY,CTDOXY_FLAG_W,OXYGEN,OXYGEN_FLAG_W,SILCAT,SILCAT_FLAG_W,NITRAT,NITRAT_FLAG_W,NITRIT,NITRIT_FLAG_W,PHSPHT,PHSPHT_FLAG_W,NH4,NH4_FLAG_W,CFC-11,CFC-11_FLAG_W,CFC-12,CFC-12_FLAG_W,CFC113,CFC113_FLAG_W,TCARBN,TCARBN_FLAG_W,ALKALI,ALKALI_FLAG_W,FCO2,FCO2_FLAG_W,FCO2TMP,DOC,DOC_FLAG_W,THETA,BTL_DATE,BTL_TIME
,,,,,,,,,,,METERS,DBAR,ITS-90,PSS-78,,PSS-78,,UMOL/KG,,UMOL/KG,,UMOL/KG,,UMOL/KG,,UMOL/KG,,UMOL/KG,,UMOL/KG,,PMOL/KG,,PMOL/KG,,PMOL/KG,,UMOL/KG,,UMOL/KG,,UATM,,DEG C,UMOL/KG,,DEG C,,
  33RO20070710,GOMECC,    53,  1,   5301,      1,2,20070724,1030, 35.6043, -74.2607, 2667,   2640.9,   2.7840,  34.9150,2,  34.9280,2,    251.5,2,    271.5,6,    19.50,2,    17.30,2,     0.02,3,     1.23,2,     0.18,3,    1.540,2,    0.660,2,    0.170,2,   2164.3,6,   2318.3,2,    735.7,2,       20,   -999.0,9,   2.5743,20070724,1030
  33RO20070710,GOMECC,    53,  1,   5302,      2,3,20070724,1030, 35.6043, -74.2607, 2667,   2497.0,   2.9380,  34.9220,2,  34.9340,2,    250.8,2,    270.6,2,    18.10,3,    17.20,3,     0.00,3,     1.23,3,     0.17,3, -999.000,9, -999.000,9, -999.000,9,   2163.8,2,   2315.0,2,   -999.0,9,     -999,   -999.0,9,   2.7395,20070724,1032
  33RO20070710,GOMECC,    53,  1,   5303,      3,2,20070724,1030, 35.6043, -74.2607, 2667,   2298.6,   3.1330,  34.9290,2,  34.9390,2,    249.9,2,    269.9,2,    16.80,2,    17.40,2,     0.00,2,     1.24,2,     0.21,3, -999.000,9, -999.000,9, -999.000,9,   2160.4,2,   2317.5,2,    729.8,2,       20,   -999.0,9,   2.9503,20070724,1037
  33RO20070710,GOMECC,    53,  1,   5304,      4,2,20070724,1030, 35.6043, -74.2607, 2667,   2128.1,   3.2590,  34.9300,2,  34.9410,2,    250.2,2,    270.1,2,    15.70,2,    17.30,2,     0.00,2,     1.22,2,     0.19,3,    1.550,2,    0.830,2,    0.040,2,   2158.8,2,   2312.9,2,    737.4,2,       20,   -999.0,9,   3.0905,20070724,1040
  33RO20070710,GOMECC,    53,  1,   5305,      5,2,20070724,1030, 35.6043, -74.2607, 2667,   1899.3,   3.4540,  34.9310,2,  34.9410,2,    250.5,2,    270.1,2,    14.40,2,    17.40,2,     0.00,2,     1.22,2,      0.2,3, -999.000,9, -999.000,9, -999.000,9,   2159.7,2,   2312.7,2,    740.0,2,       20,   -999.0,9,   3.3041,20070724,1045
  33RO20070710,GOMECC,    53,  1,   5306,      6,2,20070724,1030, 35.6043, -74.2607, 2667,   1699.9,   3.6130,  34.9350,2,  34.9460,2,    249.6,2,    269.5,2,    13.60,2,    17.40,2,     0.00,2,     1.22,2,      0.3,3,    1.980,2,    1.120,2,    0.070,2,   2159.8,2,   2311.7,2,    747.5,2,       20,   -999.0,9,   3.4793,20070724,1049
  33RO20070710,GOMECC,    53,  1,   5307,      7,2,20070724,1030, 35.6043, -74.2607, 2667,   1500.9,   3.7860,  34.9410,2,  34.9520,2,    247.7,2,    267.0,2,    13.10,2,    17.50,2,     0.00,2,     1.24,2,     0.26,3, -999.000,9, -999.000,9, -999.000,9,   2160.2,2,   2307.1,2,    747.6,2,       20,   -999.0,9,   3.6682,20070724,1053
  33RO20070710,GOMECC,    53,  1,   5308,      8,2,20070724,1030, 35.6043, -74.2607, 2667,   1301.4,   3.9660,  34.9480,2,  34.9600,2,    245.9,2,    264.0,2,    12.60,2,    17.50,2,     0.00,2,     1.23,2,     0.22,3,    2.430,2,    1.310,2,    0.130,2,   2162.3,2,   2309.0,2,   -999.0,9,     -999,   -999.0,9,   3.8640,20070724,1058
  33RO20070710,GOMECC,    53,  1,   5309,      9,2,20070724,1030, 35.6043, -74.2607, 2667,   1102.9,   4.0930,  34.9530,2,  34.9630,2,    244.1,2,    261.4,2,    12.40,2,    17.60,2,     0.00,2,     1.24,2,     0.23,3, -999.000,9, -999.000,9, -999.000,9,   2164.6,2,   2308.8,2,    763.7,2,       20,   -999.0,9,   4.0071,20070724,1102
  33RO20070710,GOMECC,    53,  1,   5310,     10,2,20070724,1030, 35.6043, -74.2607, 2667,    903.2,   4.4070,  34.9770,2,  34.9880,2,    237.1,2,    253.2,2,    12.40,2,    17.90,2,     0.00,2,     1.25,2,     0.24,3, -999.000,9, -999.000,9, -999.000,9,   2167.1,2,   2310.3,6,    764.0,2,       20,   -999.0,9,   4.3358,20070724,1107
  33RO20070710,GOMECC,    53,  1,   5311,     11,3,20070724,1030, 35.6043, -74.2607, 2667,    704.8,   5.1140,  35.0270,2,  35.0450,2,    220.2,2,    260.1,3,    12.80,3,    18.80,3,     0.00,3,     1.31,3,      0.2,3, -999.000,9, -999.000,9, -999.000,9,   2174.5,2,   -999.0,9,   -999.0,9,     -999,   -999.0,9,   5.0555,20070724,1112
  33RO20070710,GOMECC,    53,  1,   5312,     12,2,20070724,1030, 35.6043, -74.2607, 2667,    503.8,   7.5240,  35.1180,2,  35.1310,2,    163.1,2,    171.7,2,    15.00,2,    22.70,2,     0.00,2,     1.55,2,     0.17,2,    1.430,2,    0.740,2,    0.020,2,   2189.4,2,   2320.2,2,    837.8,2,       20,   -999.0,9,   7.4737,20070724,1118
  33RO20070710,GOMECC,    53,  1,   5313,     13,2,20070724,1030, 35.6043, -74.2607, 2667,    298.4,  17.3100,  36.3290,2,  36.3360,2,    144.3,2,    153.1,2,     4.00,2,    10.30,2,     0.01,2,     0.62,2,     0.16,2, -999.000,9, -999.000,9, -999.000,9,   2146.0,2,   2380.5,2,    497.7,2,       20,   -999.0,9,  17.2595,20070724,1123
  33RO20070710,GOMECC,    53,  1,   5314,     14,3,20070724,1030, 35.6043, -74.2607, 2667,    252.3,  18.3610,  36.4390,2,  36.4460,2,    133.5,2,    142.8,2,     3.70,3,    10.00,3,     0.01,3,     0.59,3,     0.19,3,    2.070,2,    1.320,2,    0.060,2,   2149.5,2,   2387.9,2,    496.0,2,       20,   -999.0,9,  18.3166,20070724,1124
  33RO20070710,GOMECC,    53,  1,   5315,     15,2,20070724,1030, 35.6043, -74.2607, 2667,    199.3,  19.9390,  36.5930,2,  36.6000,2,    142.7,2,    152.6,6,     2.70,2,     6.80,2,     0.01,2,     0.40,2,     0.19,2, -999.000,9, -999.000,9, -999.000,9,   2137.0,2,   2400.1,2,    447.0,2,       20,   -999.0,9,  19.9019,20070724,1126
  33RO20070710,GOMECC,    53,  1,   5316,     16,2,20070724,1030, 35.6043, -74.2607, 2667,    149.8,  21.4240,  36.6810,2,  36.6870,2,    147.5,2,    157.8,2,     2.10,2,     4.90,2,     0.03,2,     0.29,2,     0.17,2,    2.160,2,    1.370,2,    0.040,2,   2125.6,2,   2400.8,2,    415.5,2,       20,   -999.0,9,  21.3947,20070724,1127
  33RO20070710,GOMECC,    53,  1,   5317,     17,2,20070724,1030, 35.6043, -74.2607, 2667,    125.4,  22.8700,  36.6980,2,  36.7030,2,    146.6,2,    157.5,2,     2.00,2,     4.30,2,     0.08,2,     0.26,2,      0.2,2, -999.000,9, -999.000,9, -999.000,9,   2113.5,2,   2401.2,2,    393.1,2,       20,   -999.0,9,  22.8443,20070724,1129
  33RO20070710,GOMECC,    53,  1,   5318,     18,2,20070724,1030, 35.6043, -74.2607, 2667,     99.3,  24.7270,  36.6350,2,  36.6430,2,    156.7,2,    168.2,2,     1.50,2,     2.10,2,     0.19,2,     0.14,2,     0.17,2,    2.130,2,    1.530,2,    0.030,2,   2089.7,2,   2400.2,2,    350.8,2,       20,   -999.0,9,  24.7055,20070724,1130
  33RO20070710,GOMECC,    53,  1,   5319,     19,2,20070724,1030, 35.6043, -74.2607, 2667,     73.7,  26.7380,  36.3920,2,  36.3990,2,    179.9,2,    193.4,2,     1.20,2,     0.10,2,     0.01,2,     0.04,2,      0.2,2, -999.000,9, -999.000,9, -999.000,9,   2045.3,2,   2388.8,2,    299.0,2,       20,   -999.0,9,  26.7211,20070724,1131
  33RO20070710,GOMECC,    53,  1,   5320,     20,2,20070724,1030, 35.6043, -74.2607, 2667,     49.9,  28.8300,  36.1490,2,  36.1550,2,    183.9,2,    196.6,2,     1.30,2,     0.10,2,     0.00,2,     0.03,2,     0.15,2,    1.450,2,    1.180,2,    0.030,2,   2004.4,2,   2359.6,2,    298.7,3,       20,   -999.0,9,  28.8179,20070724,1132
  33RO20070710,GOMECC,    53,  1,   5321,     21,2,20070724,1030, 35.6043, -74.2607, 2667,     24.8,  28.8420,  36.1440,2,  36.1570,2,    183.8,2,    197.2,6,     1.30,2,     0.10,2,     0.00,2,     0.02,2,     0.15,2, -999.000,9, -999.000,9, -999.000,9,   2005.0,2,   2358.9,2,    262.6,2,       20,   -999.0,9,  28.8360,20070724,1133
  33RO20070710,GOMECC,    53,  1,   5322,     22,2,20070724,1030, 35.6043, -74.2607, 2667,      9.5,  28.8380,  36.1440,2,  36.1510,2,    184.1,2,    197.3,2,     1.40,2,     0.00,2,     0.00,2,     0.02,2,     0.18,2,    1.460,2,    0.960,2,    0.030,2,   2003.1,2,   2358.8,2,    262.3,2,       20,   -999.0,9,  28.8357,20070724,1134
  33RO20070710,GOMECC,    53,  1,   5323,     23,2,20070724,1030, 35.6043, -74.2607, 2667,      3.6,  28.8350,  36.1430,2,-999.0000,1,    184.1,2,    270.0,3,     1.30,2,     0.00,2,     0.00,2,     0.01,2,     0.16,2,    1.630,2,    1.250,2,    0.000,2,   2002.6,2,   2359.0,2,    261.6,2,       20,     67.1,2,  28.8341,20070724,1135
  33RO20070710,GOMECC,    53,  1,   5324,     24,2,20070724,1030, 35.6043, -74.2607, 2667,      3.9,  28.8310,  36.1440,2,-999.0000,9,    183.9,2,   -999.0,9,  -999.00,9,  -999.00,9,  -999.00,9,  -999.00,9,     -999,9, -999.000,9, -999.000,9, -999.000,9,   -999.0,9,   -999.0,9,   -999.0,9,     -999,   -999.0,9,  28.8301,20070724,1135
  33RO20070710,GOMECC,    54,  1,   5401,      1,9,20070724,1413, 35.5188, -73.9917, 3080,   3076.4,   2.1920,  34.8850,2,-999.0000,9,    249.1,2,   -999.0,9,  -999.00,9,  -999.00,9,  -999.00,9,  -999.00,9,     -999,9, -999.000,9, -999.000,9, -999.000,9,   -999.0,9,   -999.0,9,   -999.0,9,     -999,   -999.0,9,   1.9513,20070724,1413
  33RO20070710,GOMECC,    54,  1,   5402,      2,9,20070724,1413, 35.5188, -73.9917, 3080,   2748.4,   2.6240,  34.9080,2,-999.0000,9,    251.4,2,   -999.0,9,  -999.00,9,  -999.00,9,  -999.00,9,  -999.00,9,     -999,9, -999.000,9, -999.000,9, -999.000,9,   -999.0,9,   -999.0,9,   -999.0,9,     -999,   -999.0,9,   2.4069,20070724,1419
  33RO20070710,GOMECC,    54,  1,   5403,      3,9,20070724,1413, 35.5188, -73.9917, 3080,   2500.6,   2.9170,  34.9210,2,-999.0000,9,    249.0,2,   -999.0,9,  -999.00,9,  -999.00,9,  -999.00,9,  -999.00,9,     -999,9, -999.000,9, -999.000,9, -999.000,9,   -999.0,9,   -999.0,9,   -999.0,9,     -999,   -999.0,9,   2.7186,20070724,1424
  33RO20070710,GOMECC,    54,  1,   5404,      4,9,20070724,1413, 35.5188, -73.9917, 3080,   2301.7,   3.1240,  34.9270,2,-999.0000,9,    248.5,2,   -999.0,9,  -999.00,9,  -999.00,9,  -999.00,9,  -999.00,9,     -999,9, -999.000,9, -999.000,9, -999.000,9,   -999.0,9,   -999.0,9,   -999.0,9,     -999,   -999.0,9,   2.9412,20070724,1428
  33RO20070710,GOMECC,    54,  1,   5405,      5,9,20070724,1413, 35.5188, -73.9917, 3080,   2101.8,   3.3140,  34.9300,2,-999.0000,9,    248.9,2,   -999.0,9,  -999.00,9,  -999.00,9,  -999.00,9,  -999.00,9,     -999,9, -999.000,9, -999.000,9, -999.000,9,   -999.0,9,   -999.0,9,   -999.0,9,     -999,   -999.0,9,   3.1472,20070724,1432
  33RO20070710,GOMECC,    54,  1,   5406,      6,9,20070724,1413, 35.5188, -73.9917, 3080,   1899.4,   3.4730,  34.9310,2,-999.0000,9,    248.8,2,   -999.0,9,  -999.00,9,  -999.00,9,  -999.00,9,  -999.00,9,     -999,9, -999.000,9, -999.000,9, -999.000,9,   -999.0,9,   -999.0,9,   -999.0,9,     -999,   -999.0,9,   3.3228,20070724,1437
  33RO20070710,GOMECC,    54,  1,   5407,      7,9,20070724,1413, 35.5188, -73.9917, 3080,   1699.7,   3.7060,  34.9480,2,-999.0000,9,    246.0,2,   -999.0,9,  -999.00,9,  -999.00,9,  -999.00,9,  -999.00,9,     -999,9, -999.000,9, -999.000,9, -999.000,9,   -999.0,9,   -999.0,9,   -999.0,9,     -999,   -999.0,9,   3.5711,20070724,1441
  33RO20070710,GOMECC,    54,  1,   5408,      8,9,20070724,1413, 35.5188, -73.9917, 3080,   1500.0,   3.8690,  34.9530,2,-999.0000,9,    244.5,2,   -999.0,9,  -999.00,9,  -999.00,9,  -999.00,9,  -999.00,9,     -999,9, -999.000,9, -999.000,9, -999.000,9,   -999.0,9,   -999.0,9,   -999.0,9,     -999,   -999.0,9,   3.7503,20070724,1445
  33RO20070710,GOMECC,    54,  1,   5409,      9,9,20070724,1413, 35.5188, -73.9917, 3080,   1301.8,   4.2500,  34.9940,2,-999.0000,9,    237.8,2,   -999.0,9,  -999.00,9,  -999.00,9,  -999.00,9,  -999.00,9,     -999,9, -999.000,9, -999.000,9, -999.000,9,   -999.0,9,   -999.0,9,   -999.0,9,     -999,   -999.0,9,   4.1450,20070724,1449
  33RO20070710,GOMECC,    54,  1,   5410,     10,9,20070724,1413, 35.5188, -73.9917, 3080,   1002.0,   4.7790,  35.0170,2,-999.0000,9,    227.2,2,   -999.0,9,  -999.00,9,  -999.00,9,  -999.00,9,  -999.00,9,     -999,9, -999.000,9, -999.000,9, -999.000,9,   -999.0,9,   -999.0,9,   -999.0,9,     -999,   -999.0,9,   4.6963,20070724,1455
  33RO20070710,GOMECC,    54,  1,   5411,     11,9,20070724,1413, 35.5188, -73.9917, 3080,    800.2,   6.5000,  35.0730,2,-999.0000,9,    182.8,2,   -999.0,9,  -999.00,9,  -999.00,9,  -999.00,9,  -999.00,9,     -999,9, -999.000,9, -999.000,9, -999.000,9,   -999.0,9,   -999.0,9,   -999.0,9,     -999,   -999.0,9,   6.4247,20070724,1500
  33RO20070710,GOMECC,    54,  1,   5412,     12,9,20070724,1413, 35.5188, -73.9917, 3080,    699.0,  10.3380,  35.2770,2,-999.0000,9,    120.3,2,   -999.0,9,  -999.00,9,  -999.00,9,  -999.00,9,  -999.00,9,     -999,9, -999.000,9, -999.000,9, -999.000,9,   -999.0,9,   -999.0,9,   -999.0,9,     -999,   -999.0,9,  10.2529,20070724,1502
  33RO20070710,GOMECC,    54,  1,   5413,     13,9,20070724,1413, 35.5188, -73.9917, 3080,    499.0,  16.7310,  36.3010,2,-999.0000,9,    169.5,2,   -999.0,9,  -999.00,9,  -999.00,9,  -999.00,9,  -999.00,9,     -999,9, -999.000,9, -999.000,9, -999.000,9,   -999.0,9,   -999.0,9,   -999.0,9,     -999,   -999.0,9,  16.6482,20070724,1506
  33RO20070710,GOMECC,    54,  1,   5414,     14,9,20070724,1413, 35.5188, -73.9917, 3080,    303.1,  18.3610,  36.6050,2,-999.0000,9,    193.5,2,   -999.0,9,  -999.00,9,  -999.00,9,  -999.00,9,  -999.00,9,     -999,9, -999.000,9, -999.000,9, -999.000,9,   -999.0,9,   -999.0,9,   -999.0,9,     -999,   -999.0,9,  18.3076,20070724,1510
  33RO20070710,GOMECC,    54,  1,   5415,     15,9,20070724,1413, 35.5188, -73.9917, 3080,    202.9,  19.3410,  36.6710,2,-999.0000,9,    188.2,2,   -999.0,9,  -999.00,9,  -999.00,9,  -999.00,9,  -999.00,9,     -999,9, -999.000,9, -999.000,9, -999.000,9,   -999.0,9,   -999.0,9,   -999.0,9,     -999,   -999.0,9,  19.3040,20070724,1513
  33RO20070710,GOMECC,    54,  1,   5416,     16,9,20070724,1413, 35.5188, -73.9917, 3080,    100.2,  24.1050,  36.7020,2,-999.0000,9,    149.6,2,   -999.0,9,  -999.00,9,  -999.00,9,  -999.00,9,  -999.00,9,     -999,9, -999.000,9, -999.000,9, -999.000,9,   -999.0,9,   -999.0,9,   -999.0,9,     -999,   -999.0,9,  24.0837,20070724,1515
  33RO20070710,GOMECC,    54,  1,   5417,     17,9,20070724,1413, 35.5188, -73.9917, 3080,    100.2,  24.1200,  36.7010,2,-999.0000,9,    149.5,2,   -999.0,9,  -999.00,9,  -999.00,9,  -999.00,9,  -999.00,9,     -999,9, -999.000,9, -999.000,9, -999.000,9,   -999.0,9,   -999.0,9,   -999.0,9,     -999,   -999.0,9,  24.0987,20070724,1515
  33RO20070710,GOMECC,    54,  1,   5418,     18,9,20070724,1413, 35.5188, -73.9917, 3080,     74.3,  26.0580,  36.4670,2,-999.0000,9,    167.9,2,   -999.0,9,  -999.00,9,  -999.00,9,  -999.00,9,  -999.00,9,     -999,9, -999.000,9, -999.000,9, -999.000,9,   -999.0,9,   -999.0,9,   -999.0,9,     -999,   -999.0,9,  26.0413,20070724,1516
  33RO20070710,GOMECC,    54,  1,   5419,     19,9,20070724,1413, 35.5188, -73.9917, 3080,     50.3,  27.5250,  36.1580,2,-999.0000,9,    184.4,2,   -999.0,9,  -999.00,9,  -999.00,9,  -999.00,9,  -999.00,9,     -999,9, -999.000,9, -999.000,9, -999.000,9,   -999.0,9,   -999.0,9,   -999.0,9,     -999,   -999.0,9,  27.5133,20070724,1518
  33RO20070710,GOMECC,    54,  1,   5420,     20,9,20070724,1413, 35.5188, -73.9917, 3080,     50.4,  27.5260,  36.1570,2,-999.0000,9,    184.2,2,   -999.0,9,  -999.00,9,  -999.00,9,  -999.00,9,  -999.00,9,     -999,9, -999.000,9, -999.000,9, -999.000,9,   -999.0,9,   -999.0,9,   -999.0,9,     -999,   -999.0,9,  27.5142,20070724,1518
  33RO20070710,GOMECC,    54,  1,   5421,     21,9,20070724,1413, 35.5188, -73.9917, 3080,     24.2,  28.3170,  36.1370,2,-999.0000,9,    185.9,2,   -999.0,9,  -999.00,9,  -999.00,9,  -999.00,9,  -999.00,9,     -999,9, -999.000,9, -999.000,9, -999.000,9,   -999.0,9,   -999.0,9,   -999.0,9,     -999,   -999.0,9,  28.3112,20070724,1519
  33RO20070710,GOMECC,    54,  1,   5422,     22,9,20070724,1413, 35.5188, -73.9917, 3080,     10.1,  27.9890,  35.9460,2,-999.0000,9,    186.1,2,   -999.0,9,  -999.00,9,  -999.00,9,  -999.00,9,  -999.00,9,     -999,9, -999.000,9, -999.000,9, -999.000,9,   -999.0,9,   -999.0,9,   -999.0,9,     -999,   -999.0,9,  27.9866,20070724,1520
  33RO20070710,GOMECC,    54,  1,   5423,     23,9,20070724,1413, 35.5188, -73.9917, 3080,      4.9,  27.9100,  35.8960,2,-999.0000,9,    186.1,2,   -999.0,9,  -999.00,9,  -999.00,9,  -999.00,9,  -999.00,9,     -999,9, -999.000,9, -999.000,9, -999.000,9,   -999.0,9,   -999.0,9,   -999.0,9,     -999,   -999.0,9,  27.9088,20070724,1521
  33RO20070710,GOMECC,    54,  1,   5424,     24,9,20070724,1413, 35.5188, -73.9917, 3080,      5.1,  27.9080,  35.8960,2,-999.0000,9,    186.3,2,   -999.0,9,  -999.00,9,  -999.00,9,  -999.00,9,  -999.00,9,     -999,9, -999.000,9, -999.000,9, -999.000,9,   -999.0,9,   -999.0,9,   -999.0,9,     -999,   -999.0,9,  27.9068,20070724,1521