BOTTLE,20220922CCHSIOAMB
EXPOCODE,SECT_ID,STNNBR,CASTNO,SAMPNO,BTLNBR,BTLNBR_FLAG_W,DATE,TIME,LATITUDE,LONGITUDE,DEPTH,CTDPRS,CTDTMP,CTDSAL,CTDSAL_FLAG_W,SALNTY,SALNTY_FLAG_W,CTDOXY,CTDOXY_FLAG_W,OXYGEN,OXYGEN_FLAG_W,SILCAT,SILCAT_FLAG_W,NITRAT,NITRAT_FLAG_W,NITRIT,NITRIT_FLAG_W,PHSPHT,PHSPHT_FLAG_W,NH4,NH4_FLAG_W,CFC-11,CFC-11_FLAG_W,CFC-12,CFC-12_FLAG_W,CFC113,CFC113_FLAG_W,TCARBN,TCARBN_FLAG_W,ALKALI,ALKALI_FLAG_W,FCO2,FCO2_FLAG_W,FCO2TMP,DOC,DOC_FLAG_W,THETA,BTL_DATE,BTL_TIME
,,,,,,,,,,,METERS,DBAR,ITS-90,PSS-78,,PSS-78,,UMOL/KG,,UMOL/KG,,UMOL/KG,,UMOL/KG,,UMOL/KG,,UMOL/KG,,UMOL/KG,,PMOL/KG,,PMOL/KG,,PMOL/KG,,UMOL/KG,,UMOL/KG,,UATM,,DEG C,UMOL/KG,,DEG C,,
  33RO20070710,GOMECC,    68,  1,   6801,      1,2,20070729,2314, 42.4787, -69.0073,  230,    212.3,   6.4630,  34.0860,2,  34.0850,2,    204.3,2,    217.7,6,    16.60,2,    16.40,2,     0.10,2,     1.25,2,     0.37,2,    3.450,2,    0.950,2,    0.230,2,   2158.2,6,   2263.3,2,   -999.0,9,     -999,   -999.0,9,   6.4443,20070729,2314
  33RO20070710,GOMECC,    68,  1,   6803,      3,2,20070729,2314, 42.4787, -69.0073,  230,    171.5,   5.7900,  33.5630,2,  33.5840,4,    240.8,2,    255.0,2,    15.20,2,    14.70,2,     0.08,2,     1.18,2,     0.39,2, -999.000,9, -999.000,9, -999.000,9,   2131.0,2,   2242.1,2,   -999.0,9,     -999,   -999.0,9,   5.7760,20070729,2316
  33RO20070710,GOMECC,    68,  1,   6804,      4,2,20070729,2314, 42.4787, -69.0073,  230,    131.0,   5.4430,  33.3900,2,  33.3960,2,    254.4,2,    270.1,2,    13.70,2,    13.80,2,     0.09,2,     1.14,2,     0.47,2,    2.390,2,    1.230,2,    0.160,2,   2120.7,2,   2234.8,2,   -999.0,9,     -999,   -999.0,9,   5.4327,20070729,2317
  33RO20070710,GOMECC,    68,  1,   6805,      5,2,20070729,2314, 42.4787, -69.0073,  230,    100.6,   5.1260,  33.1350,2,  33.1570,4,    254.8,2,    271.3,2,     9.40,2,    12.40,2,     0.09,2,     1.04,2,     0.35,2, -999.000,9, -999.000,9, -999.000,9,   2110.2,2,   2225.9,2,   -999.0,9,     -999,   -999.0,9,   5.1184,20070729,2319
  33RO20070710,GOMECC,    68,  1,   6806,      6,2,20070729,2314, 42.4787, -69.0073,  230,    100.6,   5.1280,  33.1360,2,-999.0000,9,    254.9,2,   -999.0,9,  -999.00,9,  -999.00,9,  -999.00,9,  -999.00,9,     -999,9, -999.000,9, -999.000,9, -999.000,9,   -999.0,9,   -999.0,9,   -999.0,9,     -999,   -999.0,9,   5.1204,20070729,2319
  33RO20070710,GOMECC,    68,  1,   6807,      7,2,20070729,2314, 42.4787, -69.0073,  230,     70.5,   4.9870,  32.9240,2,  32.9630,4,    256.4,2,    272.3,6,     9.10,2,    11.60,2,     0.09,2,     1.07,2,     0.67,2, -999.000,9, -999.000,9, -999.000,9,   2103.4,2,   2218.7,2,   -999.0,9,     -999,   -999.0,9,   4.9818,20070729,2320
  33RO20070710,GOMECC,    68,  1,   6808,      8,2,20070729,2314, 42.4787, -69.0073,  230,     50.6,   4.8380,  32.7030,2,  32.7450,4,    259.2,2,    275.4,2,     8.20,2,    10.80,2,     0.09,2,     1.03,2,      0.4,2, -999.000,9, -999.000,9, -999.000,9,   2095.3,2,   2210.2,2,   -999.0,9,     -999,   -999.0,9,   4.8344,20070729,2322
  33RO20070710,GOMECC,    68,  1,   6809,      9,2,20070729,2314, 42.4787, -69.0073,  230,     50.4,   4.8430,  32.7010,2,-999.0000,9,    259.3,2,   -999.0,9,  -999.00,9,  -999.00,9,  -999.00,9,  -999.00,9,     -999,9, -999.000,9, -999.000,9, -999.000,9,   -999.0,9,   -999.0,9,   -999.0,9,     -999,   -999.0,9,   4.8394,20070729,2322
  33RO20070710,GOMECC,    68,  1,   6810,     10,2,20070729,2314, 42.4787, -69.0073,  230,     40.4,   5.3500,  32.6210,2,  32.6420,4,    261.6,2,    277.3,2,     5.90,2,     9.30,2,     0.09,2,     0.93,2,     0.39,2, -999.000,9, -999.000,9, -999.000,9,   2085.7,2,   2207.6,2,   -999.0,9,     -999,   -999.0,9,   5.3469,20070729,2323
  33RO20070710,GOMECC,    68,  1,   6811,     11,2,20070729,2314, 42.4787, -69.0073,  230,     30.5,   5.8530,  32.5860,2,  32.6050,4,    266.8,2,    281.1,2,     5.00,2,     8.00,2,     0.10,2,     0.87,2,     0.38,2, -999.000,9, -999.000,9, -999.000,9,   2081.4,2,   2206.2,2,   -999.0,9,     -999,   -999.0,9,   5.8506,20070729,2324
  33RO20070710,GOMECC,    68,  1,   6812,     12,2,20070729,2314, 42.4787, -69.0073,  230,     19.9,   9.4600,  32.4250,2,  32.4450,4,    312.5,2,    332.5,2,     2.30,2,     0.00,2,     0.09,2,     0.45,2,     0.44,2, -999.000,9, -999.000,9, -999.000,9,   2007.5,2,   2203.8,2,   -999.0,9,     -999,   -999.0,9,   9.4579,20070729,2325
  33RO20070710,GOMECC,    68,  1,   6813,     13,2,20070729,2314, 42.4787, -69.0073,  230,     19.8,   9.4710,  32.4240,2,-999.0000,9,    312.7,2,   -999.0,9,  -999.00,9,  -999.00,9,  -999.00,9,  -999.00,9,     -999,9, -999.000,9, -999.000,9, -999.000,9,   -999.0,9,   -999.0,9,   -999.0,9,     -999,   -999.0,9,   9.4689,20070729,2325
  33RO20070710,GOMECC,    68,  1,   6814,     14,2,20070729,2314, 42.4787, -69.0073,  230,      9.7,  17.7550,  31.8520,2,  31.8740,4,    253.8,2,    296.7,2,     1.00,2,     0.00,2,     0.08,2,     0.21,2,     0.36,2,    3.640,2,    1.320,2,    0.180,2,   1952.9,2,   2174.2,2,   -999.0,9,     -999,   -999.0,9,  17.7534,20070729,2327
  33RO20070710,GOMECC,    68,  1,   6815,     15,2,20070729,2314, 42.4787, -69.0073,  230,      9.7,  17.3350,  31.8630,2,-999.0000,9,    257.4,2,   -999.0,9,  -999.00,9,  -999.00,9,  -999.00,9,  -999.00,9,     -999,9, -999.000,9, -999.000,9, -999.000,9,   -999.0,9,   -999.0,9,   -999.0,9,     -999,   -999.0,9,  17.3334,20070729,2327
  33RO20070710,GOMECC,    68,  1,   6816,     16,2,20070729,2314, 42.4787, -69.0073,  230,      3.6,  20.5790,  32.0000,2,  31.9910,2,    226.1,2,    252.7,2,     1.10,2,     0.00,2,     0.08,2,     0.18,2,     0.54,2,    2.780,2,    1.130,2,    0.010,2,   1954.3,6,   2180.0,2,   -999.0,9,     -999,     72.5,2,  20.5783,20070729,2328
  33RO20070710,GOMECC,    68,  1,   6817,     17,2,20070729,2314, 42.4787, -69.0073,  230,      3.7,  20.5400,  31.9990,2,-999.0000,9,    226.3,2,   -999.0,9,  -999.00,9,  -999.00,9,  -999.00,9,  -999.00,9,     -999,9, -999.000,9, -999.000,9, -999.000,9,   -999.0,9,   -999.0,9,   -999.0,9,     -999,   -999.0,9,  20.5393,20070729,2328
  33RO20070710,GOMECC,    68,  1,   6818,     18,2,20070729,2314, 42.4787, -69.0073,  230,      3.7,  20.4940,  31.9930,2,-999.0000,9,    227.4,2,   -999.0,9,  -999.00,9,  -999.00,9,  -999.00,9,  -999.00,9,     -999,9, -999.000,9, -999.000,9, -999.000,9,   -999.0,9,   -999.0,9,   -999.0,9,     -999,   -999.0,9,  20.4933,20070729,2328
  33RO20070710,GOMECC,    69,  1,   6901,      1,2,20070730,0658, 41.6245, -68.7843,  168,    148.7,   5.2630,  33.2590,2,  33.2650,2,    253.2,2,    270.7,2,    12.10,2,    13.50,2,     0.04,2,     1.22,2,     0.38,2,    4.640,2,    1.540,2,    0.280,2,   2119.3,6,   2230.7,2,    872.1,2,       20,   -999.0,9,   5.2515,20070730,0658
  33RO20070710,GOMECC,    69,  1,   6903,      3,2,20070730,0658, 41.6245, -68.7843,  168,    130.6,   5.2530,  33.2520,2,  33.2580,2,    253.5,2,    269.0,2,    12.00,2,    13.50,2,     0.04,2,     1.17,2,     0.26,2, -999.000,9, -999.000,9, -999.000,9,   -999.0,5,   2230.2,2,    869.9,2,       20,   -999.0,9,   5.2430,20070730,0659
  33RO20070710,GOMECC,    69,  1,   6904,      4,2,20070730,0658, 41.6245, -68.7843,  168,     99.8,   5.1180,  33.1160,2,  33.1170,2,    255.9,2,    271.3,6,    10.00,2,    12.40,2,     0.02,2,     1.10,2,     0.41,2,    4.170,2,    1.620,2,    0.340,2,   -999.0,5,   2224.8,2,    847.2,2,       20,   -999.0,9,   5.1105,20070730,0701
  33RO20070710,GOMECC,    69,  1,   6905,      5,2,20070730,0658, 41.6245, -68.7843,  168,    100.2,   5.1180,  33.1160,2,-999.0000,9,    256.0,2,   -999.0,9,  -999.00,9,  -999.00,9,  -999.00,9,  -999.00,9,     -999,9, -999.000,9, -999.000,9, -999.000,9,   -999.0,9,   -999.0,9,   -999.0,9,     -999,   -999.0,9,   5.1105,20070730,0701
  33RO20070710,GOMECC,    69,  1,   6906,      6,2,20070730,0658, 41.6245, -68.7843,  168,     70.2,   4.7970,  32.8390,2,  32.8390,2,    261.3,2,    276.9,2,     7.60,2,    10.90,2,     0.02,2,     1.01,2,     0.38,2,    4.370,2,    1.700,2,    0.140,2,   2098.6,2,   2215.0,2,    824.9,2,       20,   -999.0,9,   4.7919,20070730,0703
  33RO20070710,GOMECC,    69,  1,   6907,      7,2,20070730,0658, 41.6245, -68.7843,  168,     50.3,   4.9500,  32.6030,2,  32.6290,4,    265.6,2,    281.2,2,     6.00,2,     9.50,2,     0.02,2,     0.92,2,     0.47,2, -999.000,9, -999.000,9, -999.000,9,   2092.5,2,   2205.8,2,    807.7,2,       20,   -999.0,9,   4.9463,20070730,0705
  33RO20070710,GOMECC,    69,  1,   6908,      8,2,20070730,0658, 41.6245, -68.7843,  168,     50.2,   4.9510,  32.6030,2,-999.0000,9,    265.7,2,   -999.0,9,  -999.00,9,  -999.00,9,  -999.00,9,  -999.00,9,     -999,9, -999.000,9, -999.000,9, -999.000,9,   -999.0,9,   -999.0,9,   -999.0,9,     -999,   -999.0,9,   4.9473,20070730,0705
  33RO20070710,GOMECC,    69,  1,   6909,      9,2,20070730,0658, 41.6245, -68.7843,  168,     40.5,   5.2870,  32.5480,2,  32.5610,2,    269.2,2,    285.2,2,     5.20,2,     8.10,2,     0.03,2,     0.86,2,     0.48,2,    5.320,2,    1.630,2,    0.370,2,   2082.6,2,   2204.8,2,    782.3,2,       20,   -999.0,9,   5.2840,20070730,0706
  33RO20070710,GOMECC,    69,  1,   6910,     10,2,20070730,0658, 41.6245, -68.7843,  168,     29.7,   6.6330,  32.4310,2,  32.4460,2,    292.5,2,    310.6,2,     3.60,2,     3.00,2,     0.08,2,     0.61,2,     0.95,2, -999.000,9, -999.000,9, -999.000,9,   2054.0,2,   2203.3,2,    644.5,2,       20,   -999.0,9,   6.6305,20070730,0707
  33RO20070710,GOMECC,    69,  1,   6911,     11,2,20070730,0658, 41.6245, -68.7843,  168,     20.5,  11.6760,  32.0540,2,  32.0750,4,    306.7,2,    328.8,2,     1.90,2,     0.00,2,     0.01,2,     0.30,2,     0.44,2, -999.000,9, -999.000,9, -999.000,9,   1979.9,2,   2186.8,2,    448.2,2,       20,   -999.0,9,  11.6735,20070730,0708
  33RO20070710,GOMECC,    69,  1,   6912,     12,9,20070730,0658, 41.6245, -68.7843,  168,     20.5,  11.6260,  32.0620,2,-999.0000,9,    306.6,2,   -999.0,9,  -999.00,9,  -999.00,9,  -999.00,9,  -999.00,9,     -999,9, -999.000,9, -999.000,9, -999.000,9,   -999.0,9,   -999.0,9,   -999.0,9,     -999,   -999.0,9,  11.6235,20070730,0708
  33RO20070710,GOMECC,    69,  1,   6913,     13,2,20070730,0658, 41.6245, -68.7843,  168,     10.2,  20.0000,  31.6410,2,  31.6570,2,    231.9,2,    258.7,2,     1.50,2,     0.10,2,     0.01,2,     0.15,2,     0.41,2,    2.910,2,   14.970,2,    0.060,2,   1936.1,2,   2156.4,2,    392.4,2,       20,   -999.0,9,  19.9982,20070730,0709
  33RO20070710,GOMECC,    69,  1,   6914,     14,9,20070730,0658, 41.6245, -68.7843,  168,     10.2,  19.8660,  31.6290,2,-999.0000,9,    236.1,2,   -999.0,9,  -999.00,9,  -999.00,9,  -999.00,9,  -999.00,9,     -999,9, -999.000,9, -999.000,9, -999.000,9,   -999.0,9,   -999.0,9,   -999.0,9,     -999,   -999.0,9,  19.8642,20070730,0709
  33RO20070710,GOMECC,    69,  1,   6915,     15,2,20070730,0658, 41.6245, -68.7843,  168,      4.2,  21.0150,  31.6980,2,  31.7160,2,    225.5,2,    241.7,2,     1.30,2,     0.10,2,     0.01,2,     0.12,2,     1.44,2,    2.260,2,    2.910,2,    0.220,2,   1939.5,6,   2161.0,2,    389.3,2,       20,     80.8,2,  21.0142,20070730,0710
  33RO20070710,GOMECC,    69,  1,   6916,     16,2,20070730,0658, 41.6245, -68.7843,  168,      4.2,  21.0340,  31.6980,2,-999.0000,9,    225.6,2,   -999.0,9,  -999.00,9,  -999.00,9,  -999.00,9,  -999.00,9,     -999,9, -999.000,9, -999.000,9, -999.000,9,   -999.0,9,   -999.0,9,   -999.0,9,     -999,   -999.0,9,  21.0332,20070730,0710
  33RO20070710,GOMECC,    69,  1,   6917,     17,9,20070730,0658, 41.6245, -68.7843,  168,      4.2,  20.9540,  31.6940,2,-999.0000,9,    225.9,2,   -999.0,9,  -999.00,9,  -999.00,9,  -999.00,9,  -999.00,9,     -999,9, -999.000,9, -999.000,9, -999.000,9,   -999.0,9,   -999.0,9,   -999.0,9,     -999,   -999.0,9,  20.9532,20070730,0710
  33RO20070710,GOMECC,    70,  1,   7001,      1,2,20070730,1155, 41.0815, -68.8728,   86,     68.1,   9.0390,  32.6240,2,  32.6320,2,    254.7,2,    270.7,2,     4.70,2,     4.40,2,     0.27,2,     0.66,2,     1.65,2,    3.860,2,    1.530,2,    0.180,2,   2061.7,2,   2207.2,2,    669.3,2,       20,   -999.0,9,   9.0319,20070730,1155
  33RO20070710,GOMECC,    70,  1,   7003,      3,9,20070730,1155, 41.0815, -68.8728,   86,     68.1,   9.0290,  32.6240,2,-999.0000,9,    254.6,2,   -999.0,9,  -999.00,9,  -999.00,9,  -999.00,9,  -999.00,9,     -999,9, -999.000,9, -999.000,9, -999.000,9,   -999.0,9,   -999.0,9,   -999.0,9,     -999,   -999.0,9,   9.0219,20070730,1155
  33RO20070710,GOMECC,    70,  1,   7004,      4,2,20070730,1155, 41.0815, -68.8728,   86,     50.4,   9.4230,  32.6550,2,  32.6740,2,    254.0,2,    270.3,2,     4.10,2,     3.70,2,     0.23,2,     0.62,2,     1.69,2, -999.000,9, -999.000,9, -999.000,9,   2059.1,2,   2209.4,2,    645.2,2,       20,   -999.0,9,   9.4176,20070730,1157
  33RO20070710,GOMECC,    70,  1,   7005,      5,9,20070730,1155, 41.0815, -68.8728,   86,     50.1,  10.1520,  32.6930,2,-999.0000,9,    251.7,2,   -999.0,9,  -999.00,9,  -999.00,9,  -999.00,9,  -999.00,9,     -999,9, -999.000,9, -999.000,9, -999.000,9,   -999.0,9,   -999.0,9,   -999.0,9,     -999,   -999.0,9,  10.1463,20070730,1157
  33RO20070710,GOMECC,    70,  1,   7006,      6,2,20070730,1155, 41.0815, -68.8728,   86,     40.1,  10.3830,  32.7130,2,  32.7190,2,    253.0,2,    269.8,2,     3.60,2,     2.70,2,     0.21,2,     0.56,2,      1.7,2,    4.530,2,    1.850,2,    0.420,2,   2052.9,2,   2209.6,2,    616.2,2,       20,   -999.0,9,  10.3784,20070730,1158
  33RO20070710,GOMECC,    70,  1,   7007,      7,9,20070730,1155, 41.0815, -68.8728,   86,     40.1,  10.3630,  32.7130,2,-999.0000,9,    253.1,2,   -999.0,9,  -999.00,9,  -999.00,9,  -999.00,9,  -999.00,9,     -999,9, -999.000,9, -999.000,9, -999.000,9,   -999.0,9,   -999.0,9,   -999.0,9,     -999,   -999.0,9,  10.3584,20070730,1158
  33RO20070710,GOMECC,    70,  1,   7008,      8,2,20070730,1155, 41.0815, -68.8728,   86,     30.1,  10.5300,  32.7170,2,  32.7240,2,    253.0,2,    270.4,2,     3.50,2,     2.40,2,     0.20,2,     0.55,2,     1.75,2, -999.000,9, -999.000,9, -999.000,9,   2051.4,2,   2212.5,2,    610.2,2,       20,   -999.0,9,  10.5265,20070730,1200
  33RO20070710,GOMECC,    70,  1,   7009,      9,9,20070730,1155, 41.0815, -68.8728,   86,     30.2,  10.5360,  32.7170,2,-999.0000,9,    253.1,2,   -999.0,9,  -999.00,9,  -999.00,9,  -999.00,9,  -999.00,9,     -999,9, -999.000,9, -999.000,9, -999.000,9,   -999.0,9,   -999.0,9,   -999.0,9,     -999,   -999.0,9,  10.5325,20070730,1200
  33RO20070710,GOMECC,    70,  1,   7010,     10,2,20070730,1155, 41.0815, -68.8728,   86,     20.1,  11.1600,  32.7450,2,  32.7510,2,    254.3,2,    271.7,2,     3.00,2,     1.70,2,     0.16,2,     0.50,2,     0.81,2,    4.620,2,    1.490,2,    0.220,2,   2046.4,2,   2212.3,2,    585.7,2,       20,   -999.0,9,  11.1576,20070730,1201
  33RO20070710,GOMECC,    70,  1,   7011,     11,9,20070730,1155, 41.0815, -68.8728,   86,     20.2,  11.1550,  32.7430,2,-999.0000,9,    254.7,2,   -999.0,9,  -999.00,9,  -999.00,9,  -999.00,9,  -999.00,9,     -999,9, -999.000,9, -999.000,9, -999.000,9,   -999.0,9,   -999.0,9,   -999.0,9,     -999,   -999.0,9,  11.1526,20070730,1201
  33RO20070710,GOMECC,    70,  1,   7012,     12,2,20070730,1155, 41.0815, -68.8728,   86,      9.9,  13.9260,  32.6140,2,  32.6670,4,    274.5,2,    288.0,6,     2.10,2,     0.60,2,     0.07,2,     0.35,2,     0.48,2, -999.000,9, -999.000,9, -999.000,9,   2014.1,2,   2207.6,2,    498.7,2,       20,   -999.0,9,  13.9246,20070730,1202
  33RO20070710,GOMECC,    70,  1,   7013,     13,9,20070730,1155, 41.0815, -68.8728,   86,      9.8,  13.3350,  32.6500,2,-999.0000,9,    273.7,2,   -999.0,9,  -999.00,9,  -999.00,9,  -999.00,9,  -999.00,9,     -999,9, -999.000,9, -999.000,9, -999.000,9,   -999.0,9,   -999.0,9,   -999.0,9,     -999,   -999.0,9,  13.3337,20070730,1202
  33RO20070710,GOMECC,    70,  1,   7014,     14,2,20070730,1155, 41.0815, -68.8728,   86,      3.4,  15.3910,  32.6170,2,  32.6300,2,    275.2,2,    295.6,2,     1.30,2,     0.20,2,     0.02,2,     0.22,2,     0.49,2,    3.990,2,    0.210,2,    0.220,2,   1987.8,6,   2204.3,2,    427.0,2,       20,     73.8,2,  15.3905,20070730,1203
  33RO20070710,GOMECC,    70,  1,   7015,     15,9,20070730,1155, 41.0815, -68.8728,   86,      3.4,  15.3920,  32.6190,2,-999.0000,9,    275.2,2,   -999.0,9,  -999.00,9,  -999.00,9,  -999.00,9,  -999.00,9,     -999,9, -999.000,9, -999.000,9, -999.000,9,   -999.0,9,   -999.0,9,   -999.0,9,     -999,   -999.0,9,  15.3915,20070730,1203