BOTTLE,20220922CCHSIOAMB
EXPOCODE,SECT_ID,STNNBR,CASTNO,SAMPNO,BTLNBR,BTLNBR_FLAG_W,DATE,TIME,LATITUDE,LONGITUDE,DEPTH,CTDPRS,CTDTMP,CTDSAL,CTDSAL_FLAG_W,SALNTY,SALNTY_FLAG_W,CTDOXY,CTDOXY_FLAG_W,OXYGEN,OXYGEN_FLAG_W,SILCAT,SILCAT_FLAG_W,NITRAT,NITRAT_FLAG_W,NITRIT,NITRIT_FLAG_W,PHSPHT,PHSPHT_FLAG_W,NH4,NH4_FLAG_W,CFC-11,CFC-11_FLAG_W,CFC-12,CFC-12_FLAG_W,CFC113,CFC113_FLAG_W,TCARBN,TCARBN_FLAG_W,ALKALI,ALKALI_FLAG_W,FCO2,FCO2_FLAG_W,FCO2TMP,DOC,DOC_FLAG_W,THETA,BTL_DATE,BTL_TIME
,,,,,,,,,,,METERS,DBAR,ITS-90,PSS-78,,PSS-78,,UMOL/KG,,UMOL/KG,,UMOL/KG,,UMOL/KG,,UMOL/KG,,UMOL/KG,,UMOL/KG,,PMOL/KG,,PMOL/KG,,PMOL/KG,,UMOL/KG,,UMOL/KG,,UATM,,DEG C,UMOL/KG,,DEG C,,
  33RO20070710,GOMECC,     4,  1,    401,      1,2,20070711,1308, 28.0838, -95.0000,   55,     50.3,  22.9090,  36.4180,2,  36.4230,2,    216.4,2,    220.7,6,     1.20,2,     0.10,2,     0.03,2,     0.03,2,     0.19,2, -999.000,9, -999.000,9, -999.000,9,   2071.5,2,   2417.3,2,    309.4,2,       20,   -999.0,9,  22.8987,20070711,1308
  33RO20070710,GOMECC,     4,  1,    403,      3,2,20070711,1308, 28.0838, -95.0000,   55,     50.2,  22.9110,  36.4190,2,-999.0000,9,    216.3,2,   -999.0,9,  -999.00,9,  -999.00,9,  -999.00,9,  -999.00,9,     -999,9, -999.000,9, -999.000,9, -999.000,9,   -999.0,9,   -999.0,9,   -999.0,9,     -999,   -999.0,9,  22.9007,20070711,1308
  33RO20070710,GOMECC,     4,  1,    404,      4,2,20070711,1308, 28.0838, -95.0000,   55,     40.5,  24.1700,  36.4570,2,  36.4610,2,    215.9,2,    203.5,3,     0.90,2,     0.00,2,     0.01,2,     0.00,2,     0.16,2, -999.000,9, -999.000,9, -999.000,9,   2067.0,2,   2415.1,2,    302.7,2,       20,     68.2,2,  24.1614,20070711,1310
  33RO20070710,GOMECC,     4,  1,    405,      5,2,20070711,1308, 28.0838, -95.0000,   55,     40.5,  24.1700,  36.4540,2,-999.0000,9,    215.9,2,   -999.0,9,  -999.00,9,  -999.00,9,  -999.00,9,  -999.00,9,     -999,9, -999.000,9, -999.000,9, -999.000,9,   -999.0,9,   -999.0,9,   -999.0,9,     -999,   -999.0,9,  24.1614,20070711,1310
  33RO20070710,GOMECC,     4,  1,    406,      6,2,20070711,1308, 28.0838, -95.0000,   55,     30.0,  26.2780,  36.3990,2,  36.4000,2,    204.0,2,    213.4,2,     1.00,2,     0.00,2,     0.01,2,     0.03,2,     0.03,2, -999.000,9, -999.000,9, -999.000,9,   2068.6,2,   2416.0,2,    302.1,2,       20,   -999.0,9,  26.2712,20070711,1312
  33RO20070710,GOMECC,     4,  1,    407,      7,2,20070711,1308, 28.0838, -95.0000,   55,     30.1,  26.2860,  36.3960,2,-999.0000,9,    204.4,2,   -999.0,9,  -999.00,9,  -999.00,9,  -999.00,9,  -999.00,9,     -999,9, -999.000,9, -999.000,9, -999.000,9,   -999.0,9,   -999.0,9,   -999.0,9,     -999,   -999.0,9,  26.2792,20070711,1312
  33RO20070710,GOMECC,     4,  1,    408,      8,2,20070711,1308, 28.0838, -95.0000,   55,     20.4,  28.3010,  35.0560,2,  35.1390,4,    195.1,2,    202.2,2,     0.90,2,     0.00,2,     0.01,2,     0.00,2,     0.13,2, -999.000,9, -999.000,9, -999.000,9,   2052.6,2,   2406.5,2,    286.8,2,       20,   -999.0,9,  28.2962,20070711,1314
  33RO20070710,GOMECC,     4,  1,    409,      9,2,20070711,1308, 28.0838, -95.0000,   55,     20.3,  28.2350,  35.0960,2,-999.0000,9,    195.0,2,   -999.0,9,  -999.00,9,  -999.00,9,  -999.00,9,  -999.00,9,     -999,9, -999.000,9, -999.000,9, -999.000,9,   -999.0,9,   -999.0,9,   -999.0,9,     -999,   -999.0,9,  28.2302,20070711,1314
  33RO20070710,GOMECC,     4,  1,    410,     10,2,20070711,1308, 28.0838, -95.0000,   55,     10.4,  28.8900,  33.5600,2,  33.1990,4,    192.7,2,   -999.0,5,     0.50,2,     0.00,2,     0.02,2,     0.00,2,     0.05,2, -999.000,9, -999.000,9, -999.000,9,   2033.3,2,   2396.2,2,    263.7,2,       20,    105.9,2,  28.8875,20070711,1316
  33RO20070710,GOMECC,     4,  1,    411,     11,2,20070711,1308, 28.0838, -95.0000,   55,     10.5,  28.9070,  33.5590,2,-999.0000,9,    192.8,2,   -999.0,9,  -999.00,9,  -999.00,9,  -999.00,9,  -999.00,9,     -999,9, -999.000,9, -999.000,9, -999.000,9,   -999.0,9,   -999.0,9,   -999.0,9,     -999,   -999.0,9,  28.9045,20070711,1317
  33RO20070710,GOMECC,     4,  1,    412,     12,2,20070711,1308, 28.0838, -95.0000,   55,      4.3,  28.8850,  33.0570,2,  33.0640,2,    193.7,2,    201.5,2,     0.50,2,     0.00,2,     0.02,2,     0.02,2,     0.17,2, -999.000,9, -999.000,9, -999.000,9,   2025.3,6,   2386.8,2,    256.7,2,       20,    104.0,2,  28.8840,20070711,1318
  33RO20070710,GOMECC,     4,  1,    413,     13,2,20070711,1308, 28.0838, -95.0000,   55,      4.1,  28.8830,  33.0590,2,-999.0000,9,    193.8,2,   -999.0,9,  -999.00,9,  -999.00,9,  -999.00,9,  -999.00,9,     -999,9, -999.000,9, -999.000,9, -999.000,9,   -999.0,9,   -999.0,9,   -999.0,9,     -999,   -999.0,9,  28.8820,20070711,1318
  33RO20070710,GOMECC,     5,  1,    501,      1,2,20070711,1551, 27.8330, -94.9998,  217,    218.6,  14.9350,  35.9510,2,  35.9440,2,    122.0,2,    126.7,2,     9.80,2,    16.80,2,     0.03,2,     0.97,2,     0.16,2, -999.000,9, -999.000,9, -999.000,9,   2176.8,2,   2369.7,2,    645.4,2,       20,   -999.0,9,  14.9017,20070711,1551
  33RO20070710,GOMECC,     5,  1,    503,      3,2,20070711,1551, 27.8330, -94.9998,  217,    193.1,  15.7960,  36.0850,2,-999.0000,9,    124.2,2,    129.1,2,     9.40,2,    15.30,2,     0.05,2,     0.91,2,     0.06,2, -999.000,9, -999.000,9, -999.000,9,   2171.2,6,   2358.9,2,    617.3,2,       20,   -999.0,9,  15.7654,20070711,1553
  33RO20070710,GOMECC,     5,  1,    504,      4,2,20070711,1551, 27.8330, -94.9998,  217,    174.3,  16.0740,  36.1280,2,  36.1220,2,    126.1,2,    120.7,2,    10.40,2,    14.70,2,     0.04,2,     0.82,2,     0.18,2, -999.000,9, -999.000,9, -999.000,9,   2170.6,2,   2367.5,2,    596.9,2,       20,   -999.0,9,  16.0461,20070711,1556
  33RO20070710,GOMECC,     5,  1,    505,      5,2,20070711,1551, 27.8330, -94.9998,  217,    135.8,  17.6020,  36.3300,2,  36.3260,2,    134.9,2,    140.1,2,     9.20,2,    11.20,2,     0.05,2,     0.61,2,     0.04,2, -999.000,9, -999.000,9, -999.000,9,   2158.4,2,   2378.5,2,    521.3,2,       20,   -999.0,9,  17.5789,20070711,1557
  33RO20070710,GOMECC,     5,  1,    506,      6,2,20070711,1551, 27.8330, -94.9998,  217,    104.0,  19.2550,  36.4930,2,  36.4860,2,    158.4,2,    163.0,2,     7.70,2,     6.60,2,     0.02,2,     0.34,2,     0.18,2, -999.000,9, -999.000,9, -999.000,9,   2132.9,2,   2389.8,2,    431.5,2,       20,     54.9,2,  19.2361,20070711,1559
  33RO20070710,GOMECC,     5,  1,    507,      7,2,20070711,1551, 27.8330, -94.9998,  217,     75.6,  21.0320,  36.5100,2,  36.5210,2,    198.4,2,    202.7,2,     6.30,2,     0.90,2,     0.16,2,     0.10,2,      0.1,2, -999.000,9, -999.000,9, -999.000,9,   2098.6,2,   2402.2,2,    350.0,2,       20,   -999.0,9,  21.0174,20070711,1604
  33RO20070710,GOMECC,     5,  1,    508,      8,2,20070711,1551, 27.8330, -94.9998,  217,     55.3,  22.2310,  36.4380,2,  36.4390,2,    216.9,2,    223.1,2,     1.20,2,     0.00,2,     0.01,2,     0.02,2,     0.15,2, -999.000,9, -999.000,9, -999.000,9,   2074.9,2,   2401.9,2,    315.0,2,       20,   -999.0,9,  22.2199,20070711,1606
  33RO20070710,GOMECC,     5,  1,    509,      9,2,20070711,1551, 27.8330, -94.9998,  217,     44.7,  23.4860,  36.3920,2,  36.3960,2,    214.6,2,    222.9,2,     1.30,2,     0.80,2,     0.01,2,     0.13,2,     2.75,2, -999.000,9, -999.000,9, -999.000,9,   2074.1,2,   2403.0,2,    309.5,2,       20,   -999.0,9,  23.4767,20070711,1607
  33RO20070710,GOMECC,     5,  1,    510,     10,2,20070711,1551, 27.8330, -94.9998,  217,     35.0,  25.7380,  36.3280,2,  36.3430,2,    201.6,2,    213.6,2,     1.20,2,     0.00,2,     0.00,2,     0.01,2,      0.2,2, -999.000,9, -999.000,9, -999.000,9,   2072.6,2,   2404.8,2,    308.6,2,       20,   -999.0,9,  25.7302,20070711,1609
  33RO20070710,GOMECC,     5,  1,    511,     11,2,20070711,1551, 27.8330, -94.9998,  217,     24.8,  27.6760,  35.8070,2,  35.9110,4,    198.3,2,    206.6,2,     0.90,2,     0.00,2,     0.02,2,     0.01,2,     0.11,2, -999.000,9, -999.000,9, -999.000,9,   2061.3,2,   2398.5,2,    295.6,2,       20,   -999.0,9,  27.6702,20070711,1610
  33RO20070710,GOMECC,     5,  1,    512,     12,2,20070711,1551, 27.8330, -94.9998,  217,      8.5,  29.2150,  33.9450,2,  33.9470,2,    191.3,2,    198.6,2,     0.70,2,     0.10,2,     0.01,2,     0.04,2,     1.82,2, -999.000,9, -999.000,9, -999.000,9,   2021.3,2,   2363.0,2,    269.4,2,       20,     58.7,2,  29.2129,20070711,1612
  33RO20070710,GOMECC,     5,  1,    513,     13,2,20070711,1551, 27.8330, -94.9998,  217,      4.3,  29.2560,  33.9340,2,  33.9340,2,    191.2,2,    199.5,2,     0.70,2,     0.10,2,     0.00,2,     0.00,2,     0.35,2, -999.000,9, -999.000,9, -999.000,9,   2021.0,2,   2362.4,2,    271.3,2,       20,     98.2,2,  29.2550,20070711,1613
  33RO20070710,GOMECC,     5,  1,    514,     14,9,20070711,1551, 27.8330, -94.9998,  217,      4.1,  29.2470,  33.9320,2,-999.0000,9,    191.2,2,   -999.0,9,  -999.00,9,  -999.00,9,  -999.00,9,  -999.00,9,     -999,9, -999.000,9, -999.000,9, -999.000,9,   -999.0,9,   -999.0,9,   -999.0,9,     -999,   -999.0,9,  29.2460,20070711,1613
  33RO20070710,GOMECC,     5,  1,    515,     15,2,20070711,1551, 27.8330, -94.9998,  217,      4.2,  29.2550,  33.9290,2,-999.0000,9,    191.2,2,   -999.0,9,  -999.00,9,  -999.00,9,  -999.00,9,  -999.00,9,     -999,9, -999.000,9, -999.000,9, -999.000,9,   -999.0,9,   -999.0,9,   -999.0,9,     -999,   -999.0,9,  29.2540,20070711,1613
  33RO20070710,GOMECC,     6,  1,    601,      1,2,20070711,1859, 27.6493, -94.9990,  632,    621.4,   7.6600,  34.9590,2,  34.9650,2,    119.5,2,    122.5,6,    20.80,2,    29.30,2,     0.03,2,     1.97,2,      0.1,2, -999.000,9, -999.000,9, -999.000,9,   2211.9,6,   2309.9,2,   1013.6,2,       20,   -999.0,9,   7.5970,20070711,1859
  33RO20070710,GOMECC,     6,  1,    603,      3,2,20070711,1859, 27.6493, -94.9990,  632,    500.1,   8.7770,  35.0570,2,  35.0510,2,    114.0,2,    116.8,2,    18.00,2,    28.20,2,     0.00,2,     1.89,2,      0.1,2, -999.000,9, -999.000,9, -999.000,9,   2208.8,2,   2310.2,2,    978.4,2,       20,   -999.0,9,   8.7225,20070711,1903
  33RO20070710,GOMECC,     6,  1,    604,      4,2,20070711,1859, 27.6493, -94.9990,  632,    453.3,   9.3820,  35.1280,2,  35.1240,2,    112.8,2,    115.9,2,    16.40,2,    27.30,2,     0.00,2,     1.82,2,     0.11,2, -999.000,9, -999.000,9, -999.000,9,   2206.2,2,   2310.8,2,    949.2,2,       20,   -999.0,9,   9.3307,20070711,1905
  33RO20070710,GOMECC,     6,  1,    605,      5,2,20070711,1859, 27.6493, -94.9990,  632,    402.9,  10.1100,  35.2270,2,  35.2270,2,    110.3,2,    113.4,2,    14.90,2,    26.20,2,     0.00,2,     1.73,2,     0.11,2, -999.000,9, -999.000,9, -999.000,9,   2203.5,2,   2315.3,2,   -999.0,9,     -999,   -999.0,9,  10.0623,20070711,1906
  33RO20070710,GOMECC,     6,  1,    606,      6,2,20070711,1859, 27.6493, -94.9990,  632,    350.4,  11.3380,  35.3980,2,  35.3870,2,    110.4,2,    113.4,2,    13.10,2,    24.00,2,     0.02,2,     1.59,2,     0.11,2, -999.000,9, -999.000,9, -999.000,9,   2197.8,2,   2320.2,2,    849.0,2,       20,   -999.0,9,  11.2935,20070711,1908
  33RO20070710,GOMECC,     6,  1,    607,      7,2,20070711,1859, 27.6493, -94.9990,  632,    281.7,  13.2500,  35.6860,2,  35.6870,2,    115.3,2,    118.6,2,     9.40,2,    20.20,2,     0.01,2,     1.30,2,      0.1,2, -999.000,9, -999.000,9, -999.000,9,   2185.2,2,   2331.8,2,    729.4,2,       20,   -999.0,9,  13.2104,20070711,1911
  33RO20070710,GOMECC,     6,  1,    608,      8,2,20070711,1859, 27.6493, -94.9990,  632,    220.7,  14.5250,  35.8850,2,  35.8740,2,    121.1,2,    125.4,2,     5.80,2,    14.10,2,     0.01,2,     0.86,2,     0.11,2, -999.000,9, -999.000,9, -999.000,9,   2175.8,2,   2352.3,2,    657.6,2,       20,     38.4,2,  14.4920,20070711,1913
  33RO20070710,GOMECC,     6,  1,    609,      9,2,20070711,1859, 27.6493, -94.9990,  632,    171.3,  16.1100,  36.1340,2,  36.1200,2,    130.1,2,    133.9,2,     5.80,2,    14.00,2,     0.01,2,     0.86,2,     0.12,2, -999.000,9, -999.000,9, -999.000,9,   2164.0,2,   2367.3,2,    578.9,2,       20,   -999.0,9,  16.0825,20070711,1915
  33RO20070710,GOMECC,     6,  1,    610,     10,2,20070711,1859, 27.6493, -94.9990,  632,    130.1,  17.6700,  36.3390,2,  36.3270,2,    132.1,2,    137.3,2,     4.80,2,    11.50,2,     0.01,2,     0.68,2,     0.11,2, -999.000,9, -999.000,9, -999.000,9,   2155.9,2,   2377.5,2,    521.5,2,       20,   -999.0,9,  17.6478,20070711,1917
  33RO20070710,GOMECC,     6,  1,    611,     11,2,20070711,1859, 27.6493, -94.9990,  632,    100.9,  19.3600,  36.4960,2,  36.4900,2,    156.3,2,    160.9,2,     3.40,2,     6.70,2,     0.01,2,     0.38,2,     0.11,2, -999.000,9, -999.000,9, -999.000,9,   2132.0,2,   2390.4,2,    431.7,2,       20,   -999.0,9,  19.3416,20070711,1919
  33RO20070710,GOMECC,     6,  1,    612,     12,2,20070711,1859, 27.6493, -94.9990,  632,     70.5,  21.6700,  36.5080,2,  36.5060,2,    207.8,2,    216.8,2,     1.10,2,     0.10,2,     0.08,2,     0.04,2,     0.12,2, -999.000,9, -999.000,9, -999.000,9,   2081.0,2,   2398.1,2,    327.2,2,       20,   -999.0,9,  21.6561,20070711,1921
  33RO20070710,GOMECC,     6,  1,    613,     13,2,20070711,1859, 27.6493, -94.9990,  632,     49.6,  23.4430,  36.4310,2,  36.4370,2,    213.9,2,    223.7,2,     1.60,2,     0.00,2,     0.01,2,     0.03,2,     0.11,2, -999.000,9, -999.000,9, -999.000,9,   2071.0,2,   2400.3,2,    312.1,2,       20,   -999.0,9,  23.4327,20070711,1922
  33RO20070710,GOMECC,     6,  1,    614,     14,4,20070711,1859, 27.6493, -94.9990,  632,     39.9,  25.0360,  36.3970,2,-999.0000,9,    216.3,2,   -999.0,9,  -999.00,9,  -999.00,9,  -999.00,9,  -999.00,9,     -999,9, -999.000,9, -999.000,9, -999.000,9,   -999.0,9,   -999.0,9,   -999.0,9,     -999,   -999.0,9,  25.0273,20070711,1923
  33RO20070710,GOMECC,     6,  1,    615,     15,2,20070711,1859, 27.6493, -94.9990,  632,     29.5,  27.6310,  35.8500,2,  35.8450,2,    198.9,2,    208.5,2,     1.00,2,     0.00,2,     0.03,2,     0.01,2,      0.1,2, -999.000,9, -999.000,9, -999.000,9,   2061.9,2,   2395.0,2,    297.2,2,       20,   -999.0,9,  27.6241,20070711,1925
  33RO20070710,GOMECC,     6,  1,    616,     16,2,20070711,1859, 27.6493, -94.9990,  632,     19.9,  28.8190,  34.1940,2,  34.2370,4,    193.2,2,    201.1,2,     0.90,2,     0.00,2,     0.05,2,     0.00,2,      0.1,2, -999.000,9, -999.000,9, -999.000,9,   2028.8,2,   2366.2,2,    275.3,2,       20,   -999.0,9,  28.8142,20070711,1926
  33RO20070710,GOMECC,     6,  1,    617,     17,2,20070711,1859, 27.6493, -94.9990,  632,     12.3,  28.8540,  34.0260,2,  33.9460,4,    193.5,2,    201.9,2,     0.80,2,     0.00,2,     0.06,2,     0.00,2,     0.08,2, -999.000,9, -999.000,9, -999.000,9,   2019.5,2,   2357.2,2,    273.0,2,       20,     89.6,2,  28.8510,20070711,1929
  33RO20070710,GOMECC,     6,  1,    618,     18,2,20070711,1859, 27.6493, -94.9990,  632,      3.9,  29.3640,  33.9020,2,  33.8470,4,    193.2,2,    200.7,6,     0.90,2,     0.00,2,     0.04,2,     0.00,2,      0.1,2, -999.000,9, -999.000,9, -999.000,9,   2017.9,6,   2357.5,2,    272.3,2,       20,     89.4,2,  29.3631,20070711,1931