BOTTLE,20220922CCHSIOAMB
EXPOCODE,SECT_ID,STNNBR,CASTNO,SAMPNO,BTLNBR,BTLNBR_FLAG_W,DATE,TIME,LATITUDE,LONGITUDE,DEPTH,CTDPRS,CTDTMP,CTDSAL,CTDSAL_FLAG_W,SALNTY,SALNTY_FLAG_W,CTDOXY,CTDOXY_FLAG_W,OXYGEN,OXYGEN_FLAG_W,SILCAT,SILCAT_FLAG_W,NITRAT,NITRAT_FLAG_W,NITRIT,NITRIT_FLAG_W,PHSPHT,PHSPHT_FLAG_W,NH4,NH4_FLAG_W,CFC-11,CFC-11_FLAG_W,CFC-12,CFC-12_FLAG_W,CFC113,CFC113_FLAG_W,TCARBN,TCARBN_FLAG_W,ALKALI,ALKALI_FLAG_W,FCO2,FCO2_FLAG_W,FCO2TMP,DOC,DOC_FLAG_W,THETA,BTL_DATE,BTL_TIME
,,,,,,,,,,,METERS,DBAR,ITS-90,PSS-78,,PSS-78,,UMOL/KG,,UMOL/KG,,UMOL/KG,,UMOL/KG,,UMOL/KG,,UMOL/KG,,UMOL/KG,,PMOL/KG,,PMOL/KG,,PMOL/KG,,UMOL/KG,,UMOL/KG,,UATM,,DEG C,UMOL/KG,,DEG C,,
  33RO20070710,GOMECC,    71,  1,   7101,      1,2,20070730,1450, 40.8472, -69.0117,   96,     76.6,  10.5830,  32.8170,2,  32.8240,2,    249.2,2,    266.5,2,     4.50,2,     2.00,2,     0.13,2,     0.51,2,     1.94,2,    4.560,2,    2.130,2,    0.330,2,   2053.5,2,   2216.3,2,    610.7,2,       20,   -999.0,9,  10.5741,20070730,1450
  33RO20070710,GOMECC,    71,  1,   7103,      3,2,20070730,1450, 40.8472, -69.0117,   96,     76.7,  10.5560,  32.8200,2,-999.0000,9,    249.4,2,   -999.0,9,  -999.00,9,  -999.00,9,  -999.00,9,  -999.00,9,     -999,9, -999.000,9, -999.000,9, -999.000,9,   -999.0,9,   -999.0,9,   -999.0,9,     -999,   -999.0,9,  10.5471,20070730,1450
  33RO20070710,GOMECC,    71,  1,   7104,      4,2,20070730,1450, 40.8472, -69.0117,   96,     50.1,  10.8630,  32.7870,2,  32.7920,2,    252.5,2,    269.6,2,     3.90,2,     1.70,2,     0.11,2,     0.47,2,     1.78,2, -999.000,9, -999.000,9, -999.000,9,   2048.1,2,   2214.6,2,    591.6,2,       20,   -999.0,9,  10.8571,20070730,1452
  33RO20070710,GOMECC,    71,  1,   7105,      5,9,20070730,1450, 40.8472, -69.0117,   96,     50.3,  10.8670,  32.7870,2,-999.0000,9,    252.2,2,   -999.0,9,  -999.00,9,  -999.00,9,  -999.00,9,  -999.00,9,     -999,9, -999.000,9, -999.000,9, -999.000,9,   -999.0,9,   -999.0,9,   -999.0,9,     -999,   -999.0,9,  10.8610,20070730,1452
  33RO20070710,GOMECC,    71,  1,   7106,      6,2,20070730,1450, 40.8472, -69.0117,   96,     40.2,  10.9790,  32.7710,2,  32.7810,2,    253.9,2,    271.0,2,     3.60,2,     1.50,2,     0.10,2,     0.45,2,     1.73,2,    4.550,2,    1.940,2,    0.330,2,   2045.4,2,   2213.8,2,    583.6,2,       20,   -999.0,9,  10.9742,20070730,1454
  33RO20070710,GOMECC,    71,  1,   7107,      7,9,20070730,1450, 40.8472, -69.0117,   96,     40.4,  10.9690,  32.7720,2,-999.0000,9,    253.9,2,   -999.0,9,  -999.00,9,  -999.00,9,  -999.00,9,  -999.00,9,     -999,9, -999.000,9, -999.000,9, -999.000,9,   -999.0,9,   -999.0,9,   -999.0,9,     -999,   -999.0,9,  10.9642,20070730,1454
  33RO20070710,GOMECC,    71,  1,   7108,      8,2,20070730,1450, 40.8472, -69.0117,   96,     30.2,  11.0950,  32.7550,2,  32.7690,2,    255.7,2,    273.4,2,     3.40,2,     1.50,2,     0.09,2,     0.45,2,     1.91,2, -999.000,9, -999.000,9, -999.000,9,   2041.7,2,   2212.8,2,    576.3,2,       20,   -999.0,9,  11.0914,20070730,1455
  33RO20070710,GOMECC,    71,  1,   7109,      9,9,20070730,1450, 40.8472, -69.0117,   96,     30.0,  11.0870,  32.7570,2,-999.0000,9,    256.0,2,   -999.0,9,  -999.00,9,  -999.00,9,  -999.00,9,  -999.00,9,     -999,9, -999.000,9, -999.000,9, -999.000,9,   -999.0,9,   -999.0,9,   -999.0,9,     -999,   -999.0,9,  11.0834,20070730,1455
  33RO20070710,GOMECC,    71,  1,   7110,     10,2,20070730,1450, 40.8472, -69.0117,   96,     20.2,  11.5630,  32.7210,2,  32.7320,2,    260.5,2,    278.5,2,     2.70,2,     1.00,2,     0.07,2,     0.39,2,     1.48,2, -999.000,9, -999.000,9, -999.000,9,   2032.3,2,   2211.3,2,    549.8,2,       20,   -999.0,9,  11.5605,20070730,1456
  33RO20070710,GOMECC,    71,  1,   7111,     11,9,20070730,1450, 40.8472, -69.0117,   96,     20.1,  11.5990,  32.7210,2,-999.0000,9,    260.4,2,   -999.0,9,  -999.00,9,  -999.00,9,  -999.00,9,  -999.00,9,     -999,9, -999.000,9, -999.000,9, -999.000,9,   -999.0,9,   -999.0,9,   -999.0,9,     -999,   -999.0,9,  11.5965,20070730,1456
  33RO20070710,GOMECC,    71,  1,   7112,     12,2,20070730,1450, 40.8472, -69.0117,   96,     10.0,  17.1290,  32.6220,2,  32.6400,2,    266.9,2,    290.1,2,     1.00,2,     0.10,2,     0.02,2,     0.18,2,     0.46,2, -999.000,9, -999.000,9, -999.000,9,   1991.7,2,   2203.7,2,    434.0,2,       20,   -999.0,9,  17.1274,20070730,1457
  33RO20070710,GOMECC,    71,  1,   7113,     13,2,20070730,1450, 40.8472, -69.0117,   96,     10.1,  17.0810,  32.6280,2,-999.0000,9,    267.1,2,   -999.0,9,  -999.00,9,  -999.00,9,  -999.00,9,  -999.00,9,     -999,9, -999.000,9, -999.000,9, -999.000,9,   -999.0,9,   -999.0,9,   -999.0,9,     -999,   -999.0,9,  17.0794,20070730,1457
  33RO20070710,GOMECC,    71,  1,   7114,     14,2,20070730,1450, 40.8472, -69.0117,   96,      4.1,  18.7120,  32.6230,2,  32.6280,2,    259.6,2,    278.9,6,     0.50,2,     0.00,2,     0.01,2,     0.10,2,      0.4,2,    3.670,2,   16.010,2,    0.340,2,   1964.6,6,   2197.9,2,    389.1,2,       20,     74.2,2,  18.7113,20070730,1459
  33RO20070710,GOMECC,    71,  1,   7115,     15,2,20070730,1450, 40.8472, -69.0117,   96,      4.0,  18.8370,  32.6140,2,-999.0000,9,    259.2,2,   -999.0,9,  -999.00,9,  -999.00,9,  -999.00,9,  -999.00,9,     -999,9, -999.000,9, -999.000,9, -999.000,9,   -999.0,9,   -999.0,9,   -999.0,9,     -999,   -999.0,9,  18.8363,20070730,1459
  33RO20070710,GOMECC,    72,  1,   7201,      1,2,20070730,1924, 40.5007, -69.3015,   74,     66.1,   9.3460,  33.0620,2,  33.0670,2,    231.7,2,    246.4,6,     9.00,2,     4.80,2,     0.26,2,     0.71,2,     1.04,2,    4.450,2,   11.090,2,    0.230,2,   2091.7,2,   2226.7,2,    708.5,2,       20,   -999.0,9,   9.3389,20070730,1924
  33RO20070710,GOMECC,    72,  1,   7203,      3,2,20070730,1924, 40.5007, -69.3015,   74,     66.0,   9.3480,  33.0610,2,-999.0000,9,    231.4,2,   -999.0,9,  -999.00,9,  -999.00,9,  -999.00,9,  -999.00,9,     -999,9, -999.000,9, -999.000,9, -999.000,9,   -999.0,9,   -999.0,9,   -999.0,9,     -999,   -999.0,9,   9.3409,20070730,1927
  33RO20070710,GOMECC,    72,  1,   7204,      4,2,20070730,1924, 40.5007, -69.3015,   74,     50.4,   9.6660,  32.9930,2,  32.9880,2,    235.3,2,    251.6,2,     7.50,2,     4.00,2,     0.25,2,     0.66,2,     0.99,2, -999.000,9, -999.000,9, -999.000,9,   2077.5,2,   2223.9,2,    683.4,2,       20,   -999.0,9,   9.6605,20070730,1928
  33RO20070710,GOMECC,    72,  1,   7205,      5,2,20070730,1924, 40.5007, -69.3015,   74,     50.4,   9.6710,  32.9910,2,-999.0000,9,    235.2,2,   -999.0,9,  -999.00,9,  -999.00,9,  -999.00,9,  -999.00,9,     -999,9, -999.000,9, -999.000,9, -999.000,9,   -999.0,9,   -999.0,9,   -999.0,9,     -999,   -999.0,9,   9.6655,20070730,1929
  33RO20070710,GOMECC,    72,  1,   7206,      6,2,20070730,1924, 40.5007, -69.3015,   74,     40.2,  10.5820,  32.8340,2,  32.8540,4,    247.8,2,    262.2,2,     5.50,2,     2.70,2,     0.20,2,     0.56,2,     0.88,2,    4.210,2,    5.600,2,    0.410,2,   2059.5,2,   2215.8,2,    630.7,2,       20,   -999.0,9,  10.5773,20070730,1930
  33RO20070710,GOMECC,    72,  1,   7207,      7,2,20070730,1924, 40.5007, -69.3015,   74,     30.5,  10.7980,  32.7530,2,  32.7630,2,    248.5,2,    264.8,2,     5.00,2,     2.10,2,     0.19,2,     0.54,2,     0.93,2, -999.000,9, -999.000,9, -999.000,9,   2051.1,2,   2213.0,2,    617.0,2,       20,   -999.0,9,  10.7944,20070730,1931
  33RO20070710,GOMECC,    72,  1,   7208,      8,2,20070730,1924, 40.5007, -69.3015,   74,     20.3,  11.1340,  32.6950,2,  32.7310,4,    254.4,2,    269.3,2,     4.40,2,     2.00,2,     0.17,2,     0.50,2,     0.95,2,    3.660,2,    2.430,2,    0.250,2,   2045.4,2,   2210.5,2,    599.8,2,       20,   -999.0,9,  11.1316,20070730,1932
  33RO20070710,GOMECC,    72,  1,   7209,      9,2,20070730,1924, 40.5007, -69.3015,   74,     10.2,  11.2940,  32.5030,2,  32.5600,4,    262.8,2,    279.5,2,     4.00,2,     1.70,2,     0.16,2,     0.46,2,     0.69,2, -999.000,9, -999.000,9, -999.000,9,   2034.1,2,   2202.1,6,    582.5,2,       20,   -999.0,9,  11.2928,20070730,1933
  33RO20070710,GOMECC,    72,  1,   7210,     10,2,20070730,1924, 40.5007, -69.3015,   74,      4.1,  12.8680,  32.4450,2,  32.4580,2,    277.2,2,    294.6,2,     3.50,2,     1.10,2,     0.12,2,     0.35,2,     0.22,2,    3.490,2,    1.520,2,    0.460,2,   2013.2,2,   2196.9,2,    523.2,2,       20,     73.4,2,  12.8675,20070730,1934
  33RO20070710,GOMECC,    72,  1,   7211,     11,2,20070730,1924, 40.5007, -69.3015,   74,      4.0,  12.7950,  32.4450,2,-999.0000,9,    277.0,2,   -999.0,9,  -999.00,9,  -999.00,9,  -999.00,9,  -999.00,9,     -999,9, -999.000,9, -999.000,9, -999.000,9,   -999.0,9,   -999.0,9,   -999.0,9,     -999,   -999.0,9,  12.7945,20070730,1934
  33RO20070710,GOMECC,    72,  1,   7212,     12,9,20070730,1924, 40.5007, -69.3015,   74,      4.1,  12.7690,  32.4450,2,-999.0000,9,    277.1,2,   -999.0,9,  -999.00,9,  -999.00,9,  -999.00,9,  -999.00,9,     -999,9, -999.000,9, -999.000,9, -999.000,9,   -999.0,9,   -999.0,9,   -999.0,9,     -999,   -999.0,9,  12.7685,20070730,1934
  33RO20070710,GOMECC,    72,  1,   7213,     13,2,20070730,1924, 40.5007, -69.3015,   74,      4.3,  12.7560,  32.4460,2,-999.0000,9,    277.9,2,   -999.0,9,  -999.00,9,  -999.00,9,  -999.00,9,  -999.00,9,     -999,9, -999.000,9, -999.000,9, -999.000,9,   -999.0,9,   -999.0,9,   -999.0,9,     -999,   -999.0,9,  12.7554,20070730,1934
  33RO20070710,GOMECC,    73,  1,   7301,      1,3,20070731,0632, 41.3190, -70.5605,   23,     13.3,  19.2710,  31.4730,2,  31.4750,2,    238.3,2,    258.2,2,     4.10,3,     0.10,3,     0.02,3,     0.53,3,     0.11,3,    2.720,2,    1.080,2,    0.100,2,   1940.0,2,   2120.2,6,   -999.0,9,     -999,   -999.0,9,  19.2687,20070731,0632
  33RO20070710,GOMECC,    73,  1,   7303,      3,9,20070731,0632, 41.3190, -70.5605,   23,     13.3,  19.2350,  31.4740,2,-999.0000,9,    238.1,2,   -999.0,9,  -999.00,9,  -999.00,9,  -999.00,9,  -999.00,9,     -999,9, -999.000,9, -999.000,9, -999.000,9,   -999.0,9,   -999.0,9,   -999.0,9,     -999,   -999.0,9,  19.2327,20070731,0632
  33RO20070710,GOMECC,    73,  1,   7304,      4,2,20070731,0632, 41.3190, -70.5605,   23,      4.2,  22.0850,  31.4180,2,-999.0000,1,    229.5,2,    253.0,6,     3.10,2,     0.00,2,     0.02,2,     0.52,2,     0.11,2,    2.470,2,    1.050,2,    0.150,2,   1929.1,6,   2114.6,2,   -999.0,9,     -999,     86.9,2,  22.0842,20070731,0633
  33RO20070710,GOMECC,    73,  1,   7305,      5,2,20070731,0632, 41.3190, -70.5605,   23,      4.3,  22.1070,  31.4190,2,-999.0000,9,    229.4,2,   -999.0,9,  -999.00,9,  -999.00,9,  -999.00,9,  -999.00,9,     -999,9, -999.000,9, -999.000,9, -999.000,9,   -999.0,9,   -999.0,9,   -999.0,9,     -999,   -999.0,9,  22.1062,20070731,0633
  33RO20070710,GOMECC,    73,  1,   7306,      6,9,20070731,0632, 41.3190, -70.5605,   23,      4.2,  22.1680,  31.4150,2,-999.0000,9,    229.2,2,   -999.0,9,  -999.00,9,  -999.00,9,  -999.00,9,  -999.00,9,     -999,9, -999.000,9, -999.000,9, -999.000,9,   -999.0,9,   -999.0,9,   -999.0,9,     -999,   -999.0,9,  22.1672,20070731,0633
  33RO20070710,GOMECC,    73,  1,   7307,      7,9,20070731,0632, 41.3190, -70.5605,   23,      4.3,  22.0730,  31.4260,2,  31.4380,2,    229.5,2,   -999.0,9,  -999.00,9,  -999.00,9,  -999.00,9,  -999.00,9,     -999,9, -999.000,9, -999.000,9, -999.000,9,   -999.0,9,   -999.0,9,   -999.0,9,     -999,   -999.0,9,  22.0722,20070731,0633
  33RO20070710,GOMECC,    73,  1,   7308,      8,9,20070731,0632, 41.3190, -70.5605,   23,      4.2,  22.2100,  31.4130,2,-999.0000,9,    229.0,2,   -999.0,9,  -999.00,9,  -999.00,9,  -999.00,9,  -999.00,9,     -999,9, -999.000,9, -999.000,9, -999.000,9,   -999.0,9,   -999.0,9,   -999.0,9,     -999,   -999.0,9,  22.2092,20070731,0634
  33RO20070710,GOMECC,    73,  1,   7309,      9,9,20070731,0632, 41.3190, -70.5605,   23,      4.2,  22.1790,  31.4190,2,-999.0000,9,    229.0,2,   -999.0,9,  -999.00,9,  -999.00,9,  -999.00,9,  -999.00,9,     -999,9, -999.000,9, -999.000,9, -999.000,9,   -999.0,9,   -999.0,9,   -999.0,9,     -999,   -999.0,9,  22.1782,20070731,0634
  33RO20070710,GOMECC,    74,  1,   7401,      1,2,20070731,1048, 40.9350, -70.5345,   61,     41.4,   9.1170,  32.7940,2,  32.8010,2,    212.2,2,    224.2,6,    13.80,2,     1.80,2,     0.34,2,     0.91,2,     1.46,2, -999.000,9, -999.000,9, -999.000,9,   2095.6,2,   2224.7,2,   -999.0,9,     -999,   -999.0,9,   9.1126,20070731,1048
  33RO20070710,GOMECC,    74,  1,   7403,      3,2,20070731,1048, 40.9350, -70.5345,   61,     41.4,   9.1170,  32.7940,2,-999.0000,9,    212.4,2,   -999.0,9,  -999.00,9,  -999.00,9,  -999.00,9,  -999.00,9,     -999,9, -999.000,9, -999.000,9, -999.000,9,   -999.0,9,   -999.0,9,   -999.0,9,     -999,   -999.0,9,   9.1126,20070731,1048
  33RO20070710,GOMECC,    74,  1,   7404,      4,2,20070731,1048, 40.9350, -70.5345,   61,     29.8,   9.5130,  32.6910,2,  32.7460,4,    243.8,2,    244.2,2,     9.10,2,     1.20,2,     0.26,2,     0.76,2,     1.24,2, -999.000,9, -999.000,9, -999.000,9,   2073.5,2,   2216.1,2,   -999.0,9,     -999,   -999.0,9,   9.5098,20070731,1050
  33RO20070710,GOMECC,    74,  1,   7405,      5,9,20070731,1048, 40.9350, -70.5345,   61,     29.9,   9.5010,  32.6950,2,-999.0000,9,    243.1,2,   -999.0,9,  -999.00,9,  -999.00,9,  -999.00,9,  -999.00,9,     -999,9, -999.000,9, -999.000,9, -999.000,9,   -999.0,9,   -999.0,9,   -999.0,9,     -999,   -999.0,9,   9.4978,20070731,1050
  33RO20070710,GOMECC,    74,  1,   7406,      6,2,20070731,1048, 40.9350, -70.5345,   61,     20.2,  11.2520,  32.6220,2,  32.6510,4,    273.1,2,    265.7,2,     4.90,2,     0.40,2,     0.11,2,     0.52,2,     0.64,2,    3.960,2,    1.430,2,    0.300,2,   2039.0,2,   2205.8,2,   -999.0,9,     -999,   -999.0,9,  11.2496,20070731,1051
  33RO20070710,GOMECC,    74,  1,   7407,      7,2,20070731,1048, 40.9350, -70.5345,   61,     20.2,  11.2510,  32.6230,2,-999.0000,9,    272.6,2,   -999.0,9,  -999.00,9,  -999.00,9,  -999.00,9,  -999.00,9,     -999,9, -999.000,9, -999.000,9, -999.000,9,   -999.0,9,   -999.0,9,   -999.0,9,     -999,   -999.0,9,  11.2486,20070731,1051
  33RO20070710,GOMECC,    74,  1,   7408,      8,2,20070731,1048, 40.9350, -70.5345,   61,      9.7,  14.1220,  32.2940,2,  32.3060,2,    290.5,2,    305.9,2,     3.20,2,     0.00,2,     0.01,2,     0.28,2,     0.13,2, -999.000,9, -999.000,9, -999.000,9,   1974.6,2,   2186.3,2,   -999.0,9,     -999,   -999.0,9,  14.1206,20070731,1052
  33RO20070710,GOMECC,    74,  1,   7409,      9,9,20070731,1048, 40.9350, -70.5345,   61,      9.6,  14.2620,  32.2760,2,-999.0000,9,    293.7,2,   -999.0,9,  -999.00,9,  -999.00,9,  -999.00,9,  -999.00,9,     -999,9, -999.000,9, -999.000,9, -999.000,9,   -999.0,9,   -999.0,9,   -999.0,9,     -999,   -999.0,9,  14.2606,20070731,1052
  33RO20070710,GOMECC,    74,  1,   7410,     10,2,20070731,1048, 40.9350, -70.5345,   61,      4.3,  20.9890,  31.8080,2,  31.8440,4,    242.4,2,    264.3,2,     3.80,2,     0.00,2,     0.01,2,     0.20,2,     0.13,2,    2.570,2,    1.060,2,    0.070,2,   1929.0,6,   2150.6,2,   -999.0,9,     -999,     85.2,2,  20.9882,20070731,1053
  33RO20070710,GOMECC,    74,  1,   7411,     11,2,20070731,1048, 40.9350, -70.5345,   61,      4.2,  21.1690,  31.7990,2,-999.0000,9,    240.6,2,   -999.0,9,  -999.00,9,  -999.00,9,  -999.00,9,  -999.00,9,     -999,9, -999.000,9, -999.000,9, -999.000,9,   -999.0,9,   -999.0,9,   -999.0,9,     -999,   -999.0,9,  21.1682,20070731,1053
  33RO20070710,GOMECC,    74,  1,   7412,     12,3,20070731,1048, 40.9350, -70.5345,   61,      4.3,  20.8220,  31.8100,2,-999.0000,9,    243.5,2,   -999.0,9,  -999.00,9,  -999.00,9,  -999.00,9,  -999.00,9,     -999,9, -999.000,9, -999.000,9, -999.000,9,   -999.0,9,   -999.0,9,   -999.0,9,     -999,   -999.0,9,  20.8212,20070731,1053
  33RO20070710,GOMECC,    74,  1,   7413,     13,2,20070731,1048, 40.9350, -70.5345,   61,      4.2,  20.5170,  31.8220,2,-999.0000,9,    244.9,2,   -999.0,9,  -999.00,9,  -999.00,9,  -999.00,9,  -999.00,9,     -999,9, -999.000,9, -999.000,9, -999.000,9,   -999.0,9,   -999.0,9,   -999.0,9,     -999,   -999.0,9,  20.5162,20070731,1054