BOTTLE,20220922CCHSIOAMB
EXPOCODE,SECT_ID,STNNBR,CASTNO,SAMPNO,BTLNBR,BTLNBR_FLAG_W,DATE,TIME,LATITUDE,LONGITUDE,DEPTH,CTDPRS,CTDTMP,CTDSAL,CTDSAL_FLAG_W,SALNTY,SALNTY_FLAG_W,CTDOXY,CTDOXY_FLAG_W,OXYGEN,OXYGEN_FLAG_W,SILCAT,SILCAT_FLAG_W,NITRAT,NITRAT_FLAG_W,NITRIT,NITRIT_FLAG_W,PHSPHT,PHSPHT_FLAG_W,NH4,NH4_FLAG_W,CFC-11,CFC-11_FLAG_W,CFC-12,CFC-12_FLAG_W,CFC113,CFC113_FLAG_W,TCARBN,TCARBN_FLAG_W,ALKALI,ALKALI_FLAG_W,FCO2,FCO2_FLAG_W,FCO2TMP,DOC,DOC_FLAG_W,THETA,BTL_DATE,BTL_TIME
,,,,,,,,,,,METERS,DBAR,ITS-90,PSS-78,,PSS-78,,UMOL/KG,,UMOL/KG,,UMOL/KG,,UMOL/KG,,UMOL/KG,,UMOL/KG,,UMOL/KG,,PMOL/KG,,PMOL/KG,,PMOL/KG,,UMOL/KG,,UMOL/KG,,UATM,,DEG C,UMOL/KG,,DEG C,,
  33RO20070710,GOMECC,    83,  1,   8301,      1,3,20070801,1033, 39.3497, -69.5370, 2532,   2512.1,   2.9550,  34.9210,2,  34.9320,2,    249.3,2,    266.7,2,    18.10,3,    17.00,3,     0.02,3,     1.32,3,     0.17,3,    2.010,2,    1.280,2,    0.370,2,   2163.7,6,   2312.8,2,    734.4,2,       20,   -999.0,9,   2.7547,20070801,1033
  33RO20070710,GOMECC,    83,  1,   8302,      2,4,20070801,1033, 39.3497, -69.5370, 2532,   2198.7,   3.2160,  34.9300,2,-999.0000,9,    247.6,2,   -999.0,9,  -999.00,9,  -999.00,9,  -999.00,9,  -999.00,9,     -999,9, -999.000,9, -999.000,9, -999.000,9,   -999.0,9,   -999.0,9,    735.3,2,       20,   -999.0,9,   3.0415,20070801,1039
  33RO20070710,GOMECC,    83,  1,   8303,      3,2,20070801,1033, 39.3497, -69.5370, 2532,   2000.0,   3.3510,  34.9330,2,  34.9440,2,    247.8,2,    264.2,2,    15.30,2,    17.20,2,     0.02,2,     1.32,2,     0.18,2,    1.240,2,    0.510,2,    0.070,2,   2160.7,2,   2310.7,2,   -999.0,9,     -999,   -999.0,9,   3.1932,20070801,1043
  33RO20070710,GOMECC,    83,  1,   8304,      4,2,20070801,1033, 39.3497, -69.5370, 2532,   1800.5,   3.5030,  34.9360,2,  34.9470,2,    247.4,2,    265.8,2,    14.30,2,    17.20,2,     0.01,2,     1.30,2,     0.23,2, -999.000,9, -999.000,9, -999.000,9,   2160.3,2,   2311.9,2,    738.5,2,       20,   -999.0,9,   3.3615,20070801,1047
  33RO20070710,GOMECC,    83,  1,   8305,      5,2,20070801,1033, 39.3497, -69.5370, 2532,   1599.5,   3.6750,  34.9420,2,  34.9530,2,    246.2,2,    268.3,2,    13.50,2,    17.20,2,     0.01,2,     1.29,2,     0.17,2, -999.000,9, -999.000,9, -999.000,9,   2160.8,2,   2310.6,2,    745.1,2,       20,   -999.0,9,   3.5496,20070801,1051
  33RO20070710,GOMECC,    83,  1,   8306,      6,2,20070801,1033, 39.3497, -69.5370, 2532,   1400.2,   3.8470,  34.9500,2,  34.9600,2,    244.1,2,    266.0,2,    13.00,2,    17.30,2,     0.01,2,     1.30,2,     0.19,2, -999.000,9, -999.000,9, -999.000,9,   2162.2,2,   2308.5,2,    751.2,2,       20,   -999.0,9,   3.7374,20070801,1055
  33RO20070710,GOMECC,    83,  1,   8307,      7,2,20070801,1033, 39.3497, -69.5370, 2532,   1200.5,   4.0560,  34.9610,2,  34.9710,2,    241.5,2,    259.8,2,    12.60,2,    17.40,2,     0.01,2,     1.26,2,     0.18,2,    2.320,2,    0.990,2,    0.170,2,   2163.5,2,   2311.6,2,    754.8,2,       20,   -999.0,9,   3.9619,20070801,1059
  33RO20070710,GOMECC,    83,  1,   8308,      8,2,20070801,1033, 39.3497, -69.5370, 2532,    999.7,   4.2800,  34.9740,2,  34.9820,2,    237.5,2,    257.4,2,    12.60,2,    17.50,2,     0.01,2,     1.30,2,     0.18,2,    2.570,2,    0.930,2,    0.110,2,   2165.3,2,   2311.7,2,    762.6,2,       20,   -999.0,9,   4.2014,20070801,1103
  33RO20070710,GOMECC,    83,  1,   8309,      9,2,20070801,1033, 39.3497, -69.5370, 2532,    799.7,   4.6860,  34.9950,2,  35.0070,2,    228.5,2,    246.5,2,    12.50,2,    18.00,2,     0.01,2,     1.32,2,     0.19,2, -999.000,9, -999.000,9, -999.000,9,   2169.6,2,   2311.1,2,    776.5,2,       20,   -999.0,9,   4.6218,20070801,1107
  33RO20070710,GOMECC,    83,  1,   8310,     10,2,20070801,1033, 39.3497, -69.5370, 2532,    699.9,   4.9590,  35.0130,2,  35.0230,2,    221.2,2,    238.7,2,    12.70,2,    18.40,2,     0.01,2,     1.36,2,     0.19,2, -999.000,9, -999.000,9, -999.000,9,   2172.4,2,   2314.7,2,    786.1,2,       20,   -999.0,9,   4.9018,20070801,1109
  33RO20070710,GOMECC,    83,  1,   8311,     11,2,20070801,1033, 39.3497, -69.5370, 2532,    600.1,   5.4000,  35.0230,2,  35.0320,2,    209.6,2,    226.0,2,    13.10,2,    19.00,2,     0.01,2,     1.39,2,     0.18,2, -999.000,9, -999.000,9, -999.000,9,   2176.6,2,   2316.5,2,    799.7,2,       20,   -999.0,9,   5.3494,20070801,1111
  33RO20070710,GOMECC,    83,  1,   8312,     12,2,20070801,1033, 39.3497, -69.5370, 2532,    499.5,   6.1690,  35.0470,2,  35.0590,2,    189.0,2,    202.5,2,    13.90,2,    20.40,2,     0.01,2,     1.47,2,     0.19,2, -999.000,9, -999.000,9, -999.000,9,   2181.3,2,   2317.1,2,    826.9,2,       20,   -999.0,9,   6.1243,20070801,1114
  33RO20070710,GOMECC,    83,  1,   8313,     13,2,20070801,1033, 39.3497, -69.5370, 2532,    400.0,   7.2300,  35.0580,2,  35.0670,2,    164.6,2,    196.8,2,    14.40,2,    21.80,2,     0.01,2,     1.55,2,     0.17,2, -999.000,9, -999.000,9, -999.000,9,   2189.0,2,   2316.0,2,    862.3,2,       20,   -999.0,9,   7.1912,20070801,1116
  33RO20070710,GOMECC,    83,  1,   8314,     14,2,20070801,1033, 39.3497, -69.5370, 2532,    299.3,   8.7760,  35.1300,2,  35.1420,2,    140.7,2,    149.9,2,    14.20,2,    22.70,2,     0.02,2,     1.59,2,     0.17,2, -999.000,9, -999.000,9, -999.000,9,   2194.1,2,   2321.6,2,    867.3,2,       20,   -999.0,9,   8.7437,20070801,1118
  33RO20070710,GOMECC,    83,  1,   8315,     15,2,20070801,1033, 39.3497, -69.5370, 2532,    249.6,  10.2790,  35.2920,2,  35.2950,2,    130.9,2,    141.5,6,    12.80,2,    21.90,2,     0.02,2,     1.52,2,     0.19,2, -999.000,9, -999.000,9, -999.000,9,   2187.3,2,   2327.1,2,    811.6,2,       20,   -999.0,9,  10.2493,20070801,1120
  33RO20070710,GOMECC,    83,  1,   8316,     16,2,20070801,1033, 39.3497, -69.5370, 2532,    199.6,  11.7520,  35.4730,2,  35.4800,2,    136.4,2,    146.6,2,    10.20,2,    19.00,2,     0.02,2,     1.30,2,     0.17,2, -999.000,9, -999.000,9, -999.000,9,   2177.3,2,   2339.4,2,    718.1,2,       20,   -999.0,9,  11.7262,20070801,1121
  33RO20070710,GOMECC,    83,  1,   8317,     17,2,20070801,1033, 39.3497, -69.5370, 2532,    150.2,  12.0030,  35.3100,2,  35.3330,4,    171.1,2,    183.2,2,     7.30,2,    13.40,2,     0.03,2,     0.98,2,     0.17,2, -999.000,9, -999.000,9, -999.000,9,   -999.0,5,   2328.5,2,    623.7,2,       20,   -999.0,9,  11.9834,20070801,1123
  33RO20070710,GOMECC,    83,  1,   8318,     18,2,20070801,1033, 39.3497, -69.5370, 2532,    100.0,  13.4410,  35.4190,2,  35.4260,2,    185.9,2,    200.4,2,     4.40,2,     9.20,2,     0.04,2,     0.70,2,     0.18,2, -999.000,9, -999.000,9, -999.000,9,   2128.2,2,   2340.4,2,    530.3,2,       20,   -999.0,9,  13.4269,20070801,1124
  33RO20070710,GOMECC,    83,  1,   8319,     19,2,20070801,1033, 39.3497, -69.5370, 2532,     74.3,  13.4840,  35.2510,2,  35.1700,4,    190.6,2,    207.5,2,     4.30,2,     7.70,2,     0.04,2,     0.64,2,     0.18,2, -999.000,9, -999.000,9, -999.000,9,   2118.9,2,   2324.9,2,    528.4,2,       20,   -999.0,9,  13.4735,20070801,1126
  33RO20070710,GOMECC,    83,  1,   8320,     20,2,20070801,1033, 39.3497, -69.5370, 2532,     49.4,  11.2780,  34.2620,2,  34.3330,4,    225.4,2,    239.8,2,     4.50,2,     5.00,2,     0.04,2,     0.58,2,     0.18,2, -999.000,9, -999.000,9, -999.000,9,   2098.2,2,   2292.5,2,    551.8,2,       20,   -999.0,9,  11.2719,20070801,1127
  33RO20070710,GOMECC,    83,  1,   8321,     21,2,20070801,1033, 39.3497, -69.5370, 2532,     30.2,  14.0270,  34.1630,2,  34.2040,4,    252.9,2,    267.5,2,     2.90,2,     0.40,2,     0.03,2,     0.26,2,      0.2,2, -999.000,9, -999.000,9, -999.000,9,   2053.6,2,   2284.8,2,    436.6,2,       20,   -999.0,9,  14.0227,20070801,1128
  33RO20070710,GOMECC,    83,  1,   8322,     22,2,20070801,1033, 39.3497, -69.5370, 2532,     20.0,  16.5900,  34.0310,2,  34.0330,2,    262.6,2,    285.0,2,     1.80,2,     0.00,2,     0.01,2,     0.15,2,      0.2,2, -999.000,9, -999.000,9, -999.000,9,   2015.2,2,   2277.9,2,    376.0,2,       20,   -999.0,9,  16.5868,20070801,1129
  33RO20070710,GOMECC,    83,  1,   8323,     23,2,20070801,1033, 39.3497, -69.5370, 2532,      9.9,  24.3860,  32.7300,2,  32.9260,4,    211.8,2,    237.8,2,     0.80,2,     0.00,2,     0.01,2,     0.05,2,     0.17,2, -999.000,9, -999.000,9, -999.000,9,   1947.4,2,   2210.6,2,    334.2,2,       20,   -999.0,9,  24.3839,20070801,1130
  33RO20070710,GOMECC,    83,  1,   8324,     24,2,20070801,1033, 39.3497, -69.5370, 2532,      4.8,  24.3800,  32.7350,2,-999.0000,1,    212.2,2,    229.8,2,     0.70,2,     0.00,2,     0.01,2,     0.03,2,     0.17,2, -999.000,9, -999.000,9, -999.000,9,   1940.0,6,   2199.1,2,    333.4,2,       20,     80.8,2,  24.3790,20070801,1131
  33RO20070710,GOMECC,    84,  1,   8401,      1,2,20070801,1437, 39.0843, -69.3533, 3025,   3017.4,   2.2750,  34.8900,2,  34.9000,2,    248.7,2,    272.2,6,    25.60,2,    17.20,2,     0.01,2,     1.25,2,     0.19,2, -999.000,9, -999.000,9, -999.000,9,   -999.0,9,   -999.0,9,   -999.0,9,     -999,   -999.0,9,   2.0383,20070801,1437
  33RO20070710,GOMECC,    84,  1,   8402,      2,4,20070801,1437, 39.0843, -69.3533, 3025,   2599.6,   2.8870,  34.9230,2,-999.0000,9,    245.9,2,   -999.0,9,  -999.00,9,  -999.00,9,  -999.00,9,  -999.00,9,     -999,9, -999.000,9, -999.000,9, -999.000,9,   -999.0,9,   -999.0,9,   -999.0,9,     -999,   -999.0,9,   2.6794,20070801,1445
  33RO20070710,GOMECC,    84,  1,   8403,      3,2,20070801,1437, 39.0843, -69.3533, 3025,   2399.7,   3.0780,  34.9310,2,  34.9430,2,    244.9,2,    268.7,2,    18.30,2,    17.20,2,     0.01,2,     1.24,2,     0.18,2, -999.000,9, -999.000,9, -999.000,9,   -999.0,9,   -999.0,9,   -999.0,9,     -999,   -999.0,9,   2.8864,20070801,1449
  33RO20070710,GOMECC,    84,  1,   8404,      4,2,20070801,1437, 39.0843, -69.3533, 3025,   2000.2,   3.3800,  34.9360,2,  34.9470,2,    245.8,2,    269.4,2,    15.60,2,    17.20,2,     0.00,2,     1.23,2,     0.18,2, -999.000,9, -999.000,9, -999.000,9,   -999.0,9,   -999.0,9,   -999.0,9,     -999,   -999.0,9,   3.2217,20070801,1456
  33RO20070710,GOMECC,    84,  1,   8405,      5,2,20070801,1437, 39.0843, -69.3533, 3025,   1800.2,   3.5250,  34.9380,2,  34.9480,2,    246.1,2,    269.8,2,    14.50,2,    17.20,2,     0.00,2,     1.24,2,     0.22,2, -999.000,9, -999.000,9, -999.000,9,   -999.0,9,   -999.0,9,   -999.0,9,     -999,   -999.0,9,   3.3832,20070801,1500
  33RO20070710,GOMECC,    84,  1,   8406,      6,2,20070801,1437, 39.0843, -69.3533, 3025,   1598.9,   3.6670,  34.9430,2,  34.9530,2,    245.2,2,    269.0,2,    13.80,2,    17.20,2,     0.01,2,     1.23,2,     0.18,2, -999.000,9, -999.000,9, -999.000,9,   -999.0,9,   -999.0,9,   -999.0,9,     -999,   -999.0,9,   3.5417,20070801,1504
  33RO20070710,GOMECC,    84,  1,   8407,      7,2,20070801,1437, 39.0843, -69.3533, 3025,   1399.9,   3.8410,  34.9510,2,  34.9610,2,    243.4,2,    263.5,2,    13.00,2,    17.20,2,     0.01,2,     1.23,2,     0.18,2, -999.000,9, -999.000,9, -999.000,9,   -999.0,9,   -999.0,9,   -999.0,9,     -999,   -999.0,9,   3.7315,20070801,1508
  33RO20070710,GOMECC,    84,  1,   8408,      8,2,20070801,1437, 39.0843, -69.3533, 3025,   1199.1,   4.0790,  34.9630,2,  34.9730,2,    240.3,2,    261.9,2,    12.60,2,    17.30,2,     0.00,2,     1.23,2,     0.17,2, -999.000,9, -999.000,9, -999.000,9,   -999.0,9,   -999.0,9,   -999.0,9,     -999,   -999.0,9,   3.9848,20070801,1512
  33RO20070710,GOMECC,    84,  1,   8409,      9,2,20070801,1437, 39.0843, -69.3533, 3025,    999.0,   4.3490,  34.9780,2,  34.9880,2,    235.5,2,    255.9,2,    12.50,2,    17.50,2,     0.00,2,     1.25,2,     0.17,2, -999.000,9, -999.000,9, -999.000,9,   -999.0,9,   -999.0,9,   -999.0,9,     -999,   -999.0,9,   4.2699,20070801,1516
  33RO20070710,GOMECC,    84,  1,   8410,     10,2,20070801,1437, 39.0843, -69.3533, 3025,    900.3,   4.5540,  34.9900,2,  35.0000,2,    231.2,2,    250.9,2,    12.50,2,    17.80,2,     0.00,2,     1.26,2,     0.17,2, -999.000,9, -999.000,9, -999.000,9,   -999.0,9,   -999.0,9,   -999.0,9,     -999,   -999.0,9,   4.4820,20070801,1518
  33RO20070710,GOMECC,    84,  1,   8411,     11,2,20070801,1437, 39.0843, -69.3533, 3025,    800.0,   4.8440,  35.0070,2,  35.0160,2,    224.1,2,    242.0,2,    12.70,2,    18.10,2,     0.01,2,     1.29,2,     0.18,2, -999.000,9, -999.000,9, -999.000,9,   -999.0,9,   -999.0,9,   -999.0,9,     -999,   -999.0,9,   4.7788,20070801,1520
  33RO20070710,GOMECC,    84,  1,   8412,     12,3,20070801,1437, 39.0843, -69.3533, 3025,    699.7,   5.1290,  35.0180,2,  35.0270,2,    216.3,2,    233.8,2,    12.90,2,    18.60,2,     0.00,2,     1.31,2,     0.17,2, -999.000,9, -999.000,9, -999.000,9,   -999.0,9,   -999.0,9,   -999.0,9,     -999,   -999.0,9,   5.0709,20070801,1523
  33RO20070710,GOMECC,    84,  1,   8413,     13,2,20070801,1437, 39.0843, -69.3533, 3025,    599.9,   5.5910,  35.0200,2,  35.0300,2,    203.3,2,    232.0,2,    13.50,2,    19.40,2,     0.00,2,     1.37,2,     0.17,2, -999.000,9, -999.000,9, -999.000,9,   -999.0,9,   -999.0,9,   -999.0,9,     -999,   -999.0,9,   5.5395,20070801,1525
  33RO20070710,GOMECC,    84,  1,   8414,     14,2,20070801,1437, 39.0843, -69.3533, 3025,    500.3,   6.4250,  35.0470,2,  35.0560,2,    182.3,2,    195.7,2,    14.10,2,    20.80,2,     0.00,2,     1.45,2,     0.18,2, -999.000,9, -999.000,9, -999.000,9,   -999.0,9,   -999.0,9,   -999.0,9,     -999,   -999.0,9,   6.3792,20070801,1528
  33RO20070710,GOMECC,    84,  1,   8415,     15,2,20070801,1437, 39.0843, -69.3533, 3025,    400.3,   8.1500,  35.1360,2,  35.1480,2,    148.6,2,    161.3,2,    14.70,2,    22.70,2,     0.01,2,     1.56,2,     0.19,2, -999.000,9, -999.000,9, -999.000,9,   -999.0,9,   -999.0,9,   -999.0,9,     -999,   -999.0,9,   8.1084,20070801,1530
  33RO20070710,GOMECC,    84,  1,   8416,     16,2,20070801,1437, 39.0843, -69.3533, 3025,    300.9,  10.6150,  35.3470,2,  35.3430,2,    131.8,2,    140.7,2,    12.40,2,    21.70,2,     0.01,2,     1.46,2,     0.18,2, -999.000,9, -999.000,9, -999.000,9,   -999.0,9,   -999.0,9,   -999.0,9,     -999,   -999.0,9,  10.5784,20070801,1532
  33RO20070710,GOMECC,    84,  1,   8417,     17,2,20070801,1437, 39.0843, -69.3533, 3025,    201.1,  13.3260,  35.7240,2,  35.7360,2,    134.1,2,    145.4,2,     8.10,2,    17.10,2,     0.01,2,     1.12,2,     0.19,2, -999.000,9, -999.000,9, -999.000,9,   -999.0,9,   -999.0,9,   -999.0,9,     -999,   -999.0,9,  13.2977,20070801,1535
  33RO20070710,GOMECC,    84,  1,   8418,     18,2,20070801,1437, 39.0843, -69.3533, 3025,    100.5,  13.4610,  35.3960,2,  35.4460,4,    184.4,2,    198.3,2,     4.70,2,     9.40,2,     0.02,2,     0.68,2,     0.18,2, -999.000,9, -999.000,9, -999.000,9,   -999.0,9,   -999.0,9,   -999.0,9,     -999,   -999.0,9,  13.4468,20070801,1537
  33RO20070710,GOMECC,    84,  1,   8419,     19,2,20070801,1437, 39.0843, -69.3533, 3025,     76.0,  14.1100,  35.3220,2,  35.3140,2,    190.4,2,    205.0,2,     3.80,2,     7.10,2,     0.04,2,     0.56,2,     0.06,2, -999.000,9, -999.000,9, -999.000,9,   -999.0,9,   -999.0,9,   -999.0,9,     -999,   -999.0,9,  14.0990,20070801,1539
  33RO20070710,GOMECC,    84,  1,   8420,     20,2,20070801,1437, 39.0843, -69.3533, 3025,     50.2,  17.1660,  35.4550,2,  35.4710,2,    211.8,2,    226.8,2,     1.70,2,     1.00,2,     0.20,2,     0.19,2,     0.06,2, -999.000,9, -999.000,9, -999.000,9,   -999.0,9,   -999.0,9,   -999.0,9,     -999,   -999.0,9,  17.1577,20070801,1540
  33RO20070710,GOMECC,    84,  1,   8421,     21,2,20070801,1437, 39.0843, -69.3533, 3025,     20.2,  24.3180,  35.2950,2,  35.2010,4,    205.1,2,    224.6,2,     0.80,2,     0.00,2,     0.00,2,     0.02,2,     0.06,2, -999.000,9, -999.000,9, -999.000,9,   -999.0,9,   -999.0,9,   -999.0,9,     -999,   -999.0,9,  24.3137,20070801,1542
  33RO20070710,GOMECC,    84,  1,   8422,     22,2,20070801,1437, 39.0843, -69.3533, 3025,      9.5,  25.7010,  34.3400,2,  34.4780,4,    204.1,2,    216.5,2,     0.80,2,     0.00,2,     0.00,2,     0.01,2,     0.07,2, -999.000,9, -999.000,9, -999.000,9,   -999.0,9,   -999.0,9,   -999.0,9,     -999,   -999.0,9,  25.6989,20070801,1543
  33RO20070710,GOMECC,    84,  1,   8423,     23,2,20070801,1437, 39.0843, -69.3533, 3025,      5.1,  26.2670,  34.5080,2,  34.5080,2,    193.8,2,    210.4,2,     0.80,2,     0.00,2,     0.00,2,     0.00,2,     0.07,2, -999.000,9, -999.000,9, -999.000,9,   1986.2,6,   2290.8,6,   -999.0,9,     -999,     73.4,2,  26.2659,20070801,1543
  33RO20070710,GOMECC,    84,  1,   8424,     24,2,20070801,1437, 39.0843, -69.3533, 3025,      4.8,  26.2640,  34.5080,2,-999.0000,9,    193.9,2,   -999.0,9,  -999.00,9,  -999.00,9,  -999.00,9,  -999.00,9,     -999,9, -999.000,9, -999.000,9, -999.000,9,   -999.0,9,   -999.0,9,   -999.0,9,     -999,   -999.0,9,  26.2629,20070801,1544