BOTTLE,20220922CCHSIOAMB
EXPOCODE,SECT_ID,STNNBR,CASTNO,SAMPNO,BTLNBR,BTLNBR_FLAG_W,DATE,TIME,LATITUDE,LONGITUDE,DEPTH,CTDPRS,CTDTMP,CTDSAL,CTDSAL_FLAG_W,SALNTY,SALNTY_FLAG_W,CTDOXY,CTDOXY_FLAG_W,OXYGEN,OXYGEN_FLAG_W,SILCAT,SILCAT_FLAG_W,NITRAT,NITRAT_FLAG_W,NITRIT,NITRIT_FLAG_W,PHSPHT,PHSPHT_FLAG_W,NH4,NH4_FLAG_W,CFC-11,CFC-11_FLAG_W,CFC-12,CFC-12_FLAG_W,CFC113,CFC113_FLAG_W,TCARBN,TCARBN_FLAG_W,ALKALI,ALKALI_FLAG_W,FCO2,FCO2_FLAG_W,FCO2TMP,DOC,DOC_FLAG_W,THETA,BTL_DATE,BTL_TIME
,,,,,,,,,,,METERS,DBAR,ITS-90,PSS-78,,PSS-78,,UMOL/KG,,UMOL/KG,,UMOL/KG,,UMOL/KG,,UMOL/KG,,UMOL/KG,,UMOL/KG,,PMOL/KG,,PMOL/KG,,PMOL/KG,,UMOL/KG,,UMOL/KG,,UATM,,DEG C,UMOL/KG,,DEG C,,
  33RO20070710,GOMECC,    45,  1,   4501,      1,2,20070721,1620, 30.4940, -78.4983,  812,    812.2,   9.1100,  35.1320,2,  35.1410,2,    122.4,2,    129.4,6,    16.50,2,    26.40,2,     0.01,2,     1.76,2,     0.07,2, -999.000,9, -999.000,9, -999.000,9,   2199.7,6,   2323.8,2,    893.7,2,       20,   -999.0,9,   9.0178,20070721,1620
  33RO20070710,GOMECC,    45,  1,   4503,      3,2,20070721,1620, 30.4940, -78.4983,  812,    707.2,  13.3790,  35.7420,2,  35.7500,2,    151.3,2,    160.2,2,     6.80,2,    15.80,2,     0.00,2,     1.01,2,     0.03,2, -999.000,9, -999.000,9, -999.000,9,   2158.2,2,   2351.0,2,    604.6,2,       20,   -999.0,9,  13.2774,20070721,1623
  33RO20070710,GOMECC,    45,  1,   4504,      4,2,20070721,1620, 30.4940, -78.4983,  812,    604.2,  15.9560,  36.1640,2,  36.1710,2,    166.8,2,    177.2,2,     3.50,2,    10.10,2,     0.01,2,     0.63,2,     0.03,2,    2.400,2,    1.510,2,    0.040,2,   2136.6,2,   2370.7,2,    486.3,2,       20,   -999.0,9,  15.8586,20070721,1626
  33RO20070710,GOMECC,    45,  1,   4505,      5,2,20070721,1620, 30.4940, -78.4983,  812,    502.6,  17.9100,  36.5410,2,  36.5480,2,    191.6,2,    204.2,2,     1.60,2,     4.40,2,     0.01,2,     0.28,2,     0.04,2,    2.120,2,    1.370,2,    0.070,2,   2107.7,2,   2390.8,2,    388.0,2,       20,   -999.0,9,  17.8225,20070721,1628
  33RO20070710,GOMECC,    45,  1,   4506,      6,4,20070721,1620, 30.4940, -78.4983,  812,    434.8,  18.1470,  36.5630,2,-999.0000,9,    190.0,2,   -999.0,9,  -999.00,9,  -999.00,9,  -999.00,9,  -999.00,9,     -999,9, -999.000,9, -999.000,9, -999.000,9,   -999.0,9,   -999.0,9,   -999.0,9,     -999,   -999.0,9,  18.0707,20070721,1631
  33RO20070710,GOMECC,    45,  1,   4507,      7,2,20070721,1620, 30.4940, -78.4983,  812,    374.8,  18.3830,  36.5890,2,  36.5920,2,    188.2,2,    199.5,2,     1.70,2,     4.00,2,     0.01,2,     0.24,2,     0.04,2, -999.000,9, -999.000,9, -999.000,9,   2106.4,2,   2396.6,2,    385.0,2,       20,   -999.0,9,  18.3168,20070721,1632
  33RO20070710,GOMECC,    45,  1,   4508,      8,2,20070721,1620, 30.4940, -78.4983,  812,    311.8,  18.7550,  36.6040,2,  36.6110,2,    175.5,2,    188.0,2,     1.70,2,     4.30,2,     0.01,2,     0.24,2,     0.04,2,    2.220,2,    1.320,2,    0.030,2,   2114.0,2,   2394.9,2,    397.9,2,       20,   -999.0,9,  18.6992,20070721,1634
  33RO20070710,GOMECC,    45,  1,   4509,      9,2,20070721,1620, 30.4940, -78.4983,  812,    261.6,  19.3920,  36.6730,2,  36.6820,2,    180.9,2,    192.7,2,     1.30,2,     2.80,2,     0.01,2,     0.15,2,     0.19,2, -999.000,9, -999.000,9, -999.000,9,   2106.4,2,   2399.8,2,    376.1,2,       20,   -999.0,9,  19.3441,20070721,1636
  33RO20070710,GOMECC,    45,  1,   4510,     10,2,20070721,1620, 30.4940, -78.4983,  812,    212.4,  20.2290,  36.7150,2,  36.7220,2,    171.8,2,    183.7,2,     1.40,2,     3.00,2,     0.02,2,     0.16,2,     0.05,2,    2.250,2,    1.510,2,    0.120,2,   2109.1,2,   2404.6,2,    376.5,2,       20,   -999.0,9,  20.1890,20070721,1638
  33RO20070710,GOMECC,    45,  1,   4511,     11,2,20070721,1620, 30.4940, -78.4983,  812,    172.4,  21.7580,  36.7320,2,  36.7400,2,    184.3,2,    196.3,2,     1.10,2,     1.10,2,     0.04,2,     0.08,2,     0.03,2, -999.000,9, -999.000,9, -999.000,9,   2084.9,2,   2402.7,2,    330.3,2,       20,   -999.0,9,  21.7239,20070721,1639
  33RO20070710,GOMECC,    45,  1,   4512,     12,9,20070721,1620, 30.4940, -78.4983,  812,    172.8,  21.7570,  36.7330,2,-999.0000,9,    184.1,2,   -999.0,9,  -999.00,9,  -999.00,9,  -999.00,9,  -999.00,9,     -999,9, -999.000,9, -999.000,9, -999.000,9,   -999.0,9,   -999.0,9,   -999.0,9,     -999,   -999.0,9,  21.7228,20070721,1640
  33RO20070710,GOMECC,    45,  1,   4513,     13,2,20070721,1620, 30.4940, -78.4983,  812,    130.5,  23.5040,  36.7390,2,  36.7510,2,    150.0,2,    160.9,2,     1.80,2,     3.30,2,     0.05,2,     0.18,2,     0.06,2,    1.700,2,    1.230,2,    0.060,2,   2109.1,6,   2403.0,2,    371.4,2,       20,   -999.0,9,  23.4767,20070721,1641
  33RO20070710,GOMECC,    45,  1,   4514,     14,2,20070721,1620, 30.4940, -78.4983,  812,    101.2,  25.2170,  36.4940,2,  36.5020,2,    174.6,2,    187.8,2,     1.40,2,     0.20,2,     0.13,2,     0.04,2,      0.1,2, -999.000,9, -999.000,9, -999.000,9,   2060.8,2,   2386.5,2,    312.8,2,       20,   -999.0,9,  25.1948,20070721,1642
  33RO20070710,GOMECC,    45,  1,   4515,     15,2,20070721,1620, 30.4940, -78.4983,  812,    101.2,  25.2150,  36.4950,2,-999.0000,9,    174.8,2,   -999.0,9,  -999.00,9,  -999.00,9,  -999.00,9,  -999.00,9,     -999,9,    1.630,2,    1.340,2,    0.010,2,   -999.0,9,   -999.0,9,   -999.0,9,     -999,   -999.0,9,  25.1928,20070721,1643
  33RO20070710,GOMECC,    45,  1,   4516,     16,2,20070721,1620, 30.4940, -78.4983,  812,     72.2,  26.1500,  36.3180,2,  36.3240,2,    186.9,2,    199.6,2,     1.40,2,     0.00,2,     0.00,2,     0.03,2,     0.03,2, -999.000,9, -999.000,9, -999.000,9,   2037.3,2,   2380.0,2,    287.2,2,       20,   -999.0,9,  26.1338,20070721,1644
  33RO20070710,GOMECC,    45,  1,   4517,     17,2,20070721,1620, 30.4940, -78.4983,  812,     50.4,  27.5560,  36.2450,2,-999.0000,5,    191.9,2,    204.6,2,     1.50,2,     0.00,2,     0.00,2,     0.03,2,     0.04,2, -999.000,9, -999.000,9, -999.000,9,   2019.9,2,   2375.5,2,    273.9,2,       20,   -999.0,9,  27.5442,20070721,1646
  33RO20070710,GOMECC,    45,  1,   4518,     18,2,20070721,1620, 30.4940, -78.4983,  812,     50.6,  27.5560,  36.2460,2,-999.0000,9,    192.4,2,   -999.0,9,  -999.00,9,  -999.00,9,  -999.00,9,  -999.00,9,     -999,9,    1.710,2,    1.210,2,    0.260,2,   -999.0,9,   -999.0,9,   -999.0,9,     -999,   -999.0,9,  27.5442,20070721,1646
  33RO20070710,GOMECC,    45,  1,   4519,     19,2,20070721,1620, 30.4940, -78.4983,  812,     40.6,  28.4130,  36.0980,2,  36.1030,2,    188.0,2,    200.6,2,     1.60,2,     0.00,2,     0.00,2,     0.02,2,     0.13,2, -999.000,9, -999.000,9, -999.000,9,   2001.8,2,   2367.3,2,    261.3,2,       20,   -999.0,9,  28.4033,20070721,1647
  33RO20070710,GOMECC,    45,  1,   4520,     20,2,20070721,1620, 30.4940, -78.4983,  812,     30.1,  28.5210,  36.0640,2,  36.0720,2,    187.6,2,    199.5,2,     1.60,2,     0.00,2,     0.00,2,     0.02,2,     0.04,2, -999.000,9, -999.000,9, -999.000,9,   1999.7,2,   2366.7,2,    260.9,2,       20,   -999.0,9,  28.5138,20070721,1648
  33RO20070710,GOMECC,    45,  1,   4521,     21,2,20070721,1620, 30.4940, -78.4983,  812,     19.8,  28.6480,  36.0610,2,  36.0700,2,    186.5,2,    199.5,2,     1.60,2,     0.00,2,     0.00,2,     0.02,2,     0.05,2,    1.490,2,    1.040,2,    0.060,2,   1998.6,2,   2363.2,2,    260.5,2,       20,   -999.0,9,  28.6432,20070721,1649
  33RO20070710,GOMECC,    45,  1,   4522,     22,2,20070721,1620, 30.4940, -78.4983,  812,     10.6,  28.6480,  36.0620,2,  36.0680,2,    186.6,2,    198.8,2,     1.60,2,     0.00,2,     0.00,2,     0.01,2,     0.05,2, -999.000,9, -999.000,9, -999.000,9,   1998.0,2,   2363.0,2,    260.1,2,       20,   -999.0,9,  28.6455,20070721,1650
  33RO20070710,GOMECC,    45,  1,   4523,     23,2,20070721,1620, 30.4940, -78.4983,  812,      4.8,  28.6430,  36.0610,2,-999.0000,9,    186.6,2,    198.9,2,  -999.00,9,  -999.00,9,  -999.00,9,  -999.00,9,     -999,9,    1.500,2,    1.150,2,    0.160,2,   2000.2,6,   2366.2,2,    260.0,2,       20,     67.1,2,  28.6418,20070721,1652
  33RO20070710,GOMECC,    45,  1,   4524,     24,2,20070721,1620, 30.4940, -78.4983,  812,      4.9,  28.6430,  36.0610,2,  36.0760,2,    186.5,2,   -999.0,9,     1.60,2,     0.00,2,     0.00,2,     0.01,2,     0.05,2, -999.000,9, -999.000,9, -999.000,9,   -999.0,9,   -999.0,9,   -999.0,9,     -999,   -999.0,9,  28.6418,20070721,1652
  33RO20070710,GOMECC,    46,  1,   4601,      1,2,20070721,2036, 30.2973, -78.0015,  804,    803.7,   9.5570,  35.2270,2,  35.2490,4,    131.2,2,    139.6,6,    14.50,2,    24.30,2,     0.00,2,     1.52,2,     0.03,2,    1.050,2,    0.630,2,    0.010,2,   2189.8,6,   2326.5,2,    838.7,2,       20,   -999.0,9,   9.4632,20070721,2036
  33RO20070710,GOMECC,    46,  1,   4603,      3,2,20070721,2036, 30.2973, -78.0015,  804,    705.3,  13.0760,  35.6860,2,  35.6960,2,    139.5,2,    147.7,2,     8.10,2,    17.70,2,     0.00,2,     1.08,2,     0.04,2,    1.660,2,    1.030,2,    0.010,2,   2166.5,2,   2347.5,2,    655.5,2,       20,   -999.0,9,  12.9762,20070721,2038
  33RO20070710,GOMECC,    46,  1,   4604,      4,2,20070721,2036, 30.2973, -78.0015,  804,    605.0,  14.8130,  35.9160,2,  35.9210,2,    128.1,2,    136.8,2,     6.90,2,    16.30,2,     0.00,2,     1.00,2,     0.04,2, -999.000,9, -999.000,9, -999.000,9,   2167.0,2,   2358.7,2,    629.7,2,       20,   -999.0,9,  14.7203,20070721,2041
  33RO20070710,GOMECC,    46,  1,   4605,      5,2,20070721,2036, 30.2973, -78.0015,  804,    481.9,  17.5330,  36.4440,2,  36.4500,2,    177.8,2,    190.1,2,     2.40,2,     6.40,2,     0.01,2,     0.35,2,     0.04,2,    2.160,2,    1.400,2, -999.000,9,   2118.3,2,   2385.9,2,    425.8,2,       20,   -999.0,9,  17.4504,20070721,2044
  33RO20070710,GOMECC,    46,  1,   4606,      6,2,20070721,2036, 30.2973, -78.0015,  804,    409.2,  18.2050,  36.5710,2,  36.5790,2,    190.1,2,    202.8,2,     1.70,2,     4.40,2,     0.01,2,     0.63,2,     0.04,2, -999.000,9, -999.000,9, -999.000,9,   2105.3,3,   2393.6,2,    385.5,2,       20,   -999.0,9,  18.1331,20070721,2047
  33RO20070710,GOMECC,    46,  1,   4607,      7,2,20070721,2036, 30.2973, -78.0015,  804,    371.3,  18.3970,  36.5930,2,  36.5980,2,    189.6,2,    202.0,2,     1.50,2,     3.70,2,     0.01,2,     0.20,2,     0.04,2,    2.420,2,    1.550,2,    0.000,2,   2104.2,2,   2394.8,2,    382.3,2,       20,   -999.0,9,  18.3313,20070721,2049
  33RO20070710,GOMECC,    46,  1,   4608,      8,2,20070721,2036, 30.2973, -78.0015,  804,    309.5,  18.7610,  36.6150,2,  36.6250,2,    180.2,2,    192.4,2,     1.50,2,     3.70,2,     0.01,2,     0.18,2,     0.03,2, -999.000,9, -999.000,9, -999.000,9,   2108.8,2,   2396.8,2,    389.3,2,       20,   -999.0,9,  18.7056,20070721,2051
  33RO20070710,GOMECC,    46,  1,   4609,      9,2,20070721,2036, 30.2973, -78.0015,  804,    259.8,  19.7760,  36.6990,2,  36.7050,2,    183.2,2,    194.8,2,     1.30,2,     2.20,2,     0.01,2,     0.11,2,     0.04,2,    1.970,2,    1.350,2,    0.000,2,   2100.3,2,   2402.2,2,    364.3,2,       20,   -999.0,9,  19.7278,20070721,2053
  33RO20070710,GOMECC,    46,  1,   4610,     10,2,20070721,2036, 30.2973, -78.0015,  804,    209.3,  20.6370,  36.7510,2,  36.7540,2,    180.9,2,    193.3,2,     1.20,2,     1.60,2,     0.02,2,     0.08,2,     0.03,2, -999.000,9, -999.000,9, -999.000,9,   2096.3,2,   2404.3,2,    353.2,2,       20,   -999.0,9,  20.5970,20070721,2055
  33RO20070710,GOMECC,    46,  1,   4611,     11,2,20070721,2036, 30.2973, -78.0015,  804,    169.7,  21.7160,  36.7230,2,  36.7340,2,    186.0,2,    198.1,2,     1.10,2,     1.00,2,     0.04,2,     0.05,2,     0.04,2, -999.000,9, -999.000,9, -999.000,9,   2078.3,2,   2405.4,6,    327.9,2,       20,   -999.0,9,  21.6824,20070721,2057
  33RO20070710,GOMECC,    46,  1,   4612,     12,9,20070721,2036, 30.2973, -78.0015,  804,    130.9,  22.9020,  36.6940,2,-999.0000,9,    191.4,2,   -999.0,9,  -999.00,9,  -999.00,9,  -999.00,9,  -999.00,9,     -999,9, -999.000,9, -999.000,9, -999.000,9,   -999.0,9,   -999.0,9,   -999.0,9,     -999,   -999.0,9,  22.8752,20070721,2059
  33RO20070710,GOMECC,    46,  1,   4613,     13,2,20070721,2036, 30.2973, -78.0015,  804,    131.1,  22.9010,  36.6930,2,  36.7010,2,    191.4,2,    216.1,2,     1.00,2,     0.10,2,     0.10,2,     0.03,2,     0.04,2,    1.990,2,    1.470,2,    0.230,2,   2064.5,2,   2403.3,2,    308.4,2,       20,   -999.0,9,  22.8741,20070721,2059
  33RO20070710,GOMECC,    46,  1,   4614,     14,2,20070721,2036, 30.2973, -78.0015,  804,    101.5,  24.1940,  36.6440,2,  36.6520,2,    180.6,2,    194.3,2,     1.20,2,     0.30,2,     0.08,2,     0.03,2,     0.04,2,    1.750,2,    1.290,2,    0.280,2,   2066.9,2,   2400.5,2,    315.2,2,       20,   -999.0,9,  24.1724,20070721,2101
  33RO20070710,GOMECC,    46,  1,   4615,     15,2,20070721,2036, 30.2973, -78.0015,  804,     70.4,  25.5000,  36.4840,2,  36.4910,2,    177.9,2,    190.3,2,     1.30,2,     0.00,2,     0.00,2,     0.01,2,     0.04,2, -999.000,9, -999.000,9, -999.000,9,   2056.0,2,   2393.6,2,    309.1,2,       20,   -999.0,9,  25.4844,20070721,2102
  33RO20070710,GOMECC,    46,  1,   4616,     16,2,20070721,2036, 30.2973, -78.0015,  804,     50.5,  26.6840,  36.3540,2,  36.3690,2,    192.8,2,    206.3,2,     1.30,2,     0.00,2,     0.00,2,     0.01,2,     0.04,2,    1.570,2,    1.310,2,    0.120,2,   2027.3,2,   2383.8,2,    280.9,2,       20,   -999.0,9,  26.6725,20070721,2104
  33RO20070710,GOMECC,    46,  1,   4617,     17,2,20070721,2036, 30.2973, -78.0015,  804,     39.9,  27.4400,  36.2550,2,  36.2670,2,    191.5,2,    204.5,2,     1.40,2,     0.00,2,     0.00,2,     0.01,2,     0.04,2, -999.000,9, -999.000,9, -999.000,9,   2017.1,2,   2379.1,2,    273.2,2,       20,   -999.0,9,  27.4307,20070721,2105
  33RO20070710,GOMECC,    46,  1,   4618,     18,2,20070721,2036, 30.2973, -78.0015,  804,     29.7,  28.0970,  36.1400,2,  36.1700,4,    189.2,2,    202.2,2,     1.50,2,     0.00,2,     0.00,2,     0.00,2,     0.04,2, -999.000,9,    0.000,2, -999.000,9,   2008.7,2,   2374.0,2,    267.6,2,       20,   -999.0,9,  28.0900,20070721,2106
  33RO20070710,GOMECC,    46,  1,   4619,     19,2,20070721,2036, 30.2973, -78.0015,  804,     20.1,  28.6920,  36.1270,2,  36.1320,2,    186.7,2,    198.9,2,     1.50,2,     0.00,2,     0.00,2,     0.00,2,     0.04,2,    1.540,2,    1.110,2,    0.060,2,   2002.2,2,   2370.4,2,    261.9,2,       20,   -999.0,9,  28.6872,20070721,2107
  33RO20070710,GOMECC,    46,  1,   4620,     20,2,20070721,2036, 30.2973, -78.0015,  804,     10.5,  28.7560,  36.0810,2,  36.0920,2,    186.2,2,    199.2,2,     1.50,2,     0.00,2,     0.00,2,     0.00,2,     0.04,2,    1.480,2,    1.110,2,    0.000,2,   1999.1,2,   2368.3,2,    260.6,2,       20,   -999.0,9,  28.7535,20070721,2109
  33RO20070710,GOMECC,    46,  1,   4621,     21,2,20070721,2036, 30.2973, -78.0015,  804,      4.4,  28.7560,  36.0820,2,-999.0000,1,    186.0,2,    198.7,6,  -999.00,9,  -999.00,9,  -999.00,9,  -999.00,9,     -999,9,    1.720,2,    1.340,2,    0.030,2,   1998.2,6,   2368.4,2,    258.4,2,       20,     69.6,2,  28.7549,20070721,2110
  33RO20070710,GOMECC,    46,  1,   4622,     22,2,20070721,2036, 30.2973, -78.0015,  804,      4.6,  28.7560,  36.0820,2,  36.0900,2,    186.4,2,   -999.0,9,     1.50,2,     0.00,2,     0.00,2,     0.00,2,     0.04,2, -999.000,9, -999.000,9, -999.000,9,   -999.0,9,   -999.0,9,   -999.0,9,     -999,   -999.0,9,  28.7549,20070721,2110
  33RO20070710,GOMECC,    47,  1,   4701,      1,2,20070723,2015, 35.9998, -75.0500,   45,     31.2,  14.1640,  34.2510,2,-999.0000,5,    257.4,2,    272.2,6,     1.00,2,     0.10,2,     0.01,2,     0.33,2,     0.08,2,    3.330,2,    2.080,2,    0.370,2,   2048.1,2,   2290.5,2,    414.8,2,       20,   -999.0,9,  14.1595,20070723,2015
  33RO20070710,GOMECC,    47,  1,   4703,      3,2,20070723,2015, 35.9998, -75.0500,   45,     31.3,  14.1540,  34.2500,2,-999.0000,9,    257.6,2,   -999.0,9,  -999.00,9,  -999.00,9,  -999.00,9,  -999.00,9,     -999,9, -999.000,9, -999.000,9, -999.000,9,   -999.0,9,   -999.0,9,   -999.0,9,     -999,   -999.0,9,  14.1495,20070723,2015
  33RO20070710,GOMECC,    47,  1,   4704,      4,2,20070723,2015, 35.9998, -75.0500,   45,     20.9,  17.7360,  34.6170,2,-999.0000,1,    247.0,2,    262.8,2,     0.60,2,     0.10,2,     0.01,2,     0.21,2,     0.08,2, -999.000,9, -999.000,9, -999.000,9,   2029.8,2,   2304.8,2,    360.4,2,       20,   -999.0,9,  17.7325,20070723,2016
  33RO20070710,GOMECC,    47,  1,   4705,      5,2,20070723,2015, 35.9998, -75.0500,   45,     21.0,  17.8610,  34.6210,2,  34.6290,2,    246.8,2,   -999.0,9,  -999.00,9,  -999.00,9,  -999.00,9,  -999.00,9,     -999,9, -999.000,9, -999.000,9, -999.000,9,   -999.0,9,   -999.0,9,   -999.0,9,     -999,   -999.0,9,  17.8574,20070723,2017
  33RO20070710,GOMECC,    47,  1,   4706,      6,2,20070723,2015, 35.9998, -75.0500,   45,     10.1,  25.1230,  35.9440,2,-999.0000,1,    198.0,2,    211.5,2,     0.00,2,     0.00,2,     0.00,2,     0.05,2,     0.07,2,    1.920,2,    1.220,2,    0.260,2,   2030.9,2,   2372.3,2,    290.5,2,       20,   -999.0,9,  25.1208,20070723,2018
  33RO20070710,GOMECC,    47,  1,   4707,      7,2,20070723,2015, 35.9998, -75.0500,   45,     10.1,  25.2810,  35.9640,2,  35.9630,2,    198.3,2,   -999.0,9,  -999.00,9,  -999.00,9,  -999.00,9,  -999.00,9,     -999,9, -999.000,9, -999.000,9, -999.000,9,   -999.0,9,   -999.0,9,   -999.0,9,     -999,   -999.0,9,  25.2788,20070723,2018
  33RO20070710,GOMECC,    47,  1,   4708,      8,2,20070723,2015, 35.9998, -75.0500,   45,      4.5,  25.4310,  35.9880,2,-999.0000,9,    196.4,2,    210.0,6,  -999.00,9,  -999.00,9,  -999.00,9,  -999.00,9,     -999,9, -999.000,9, -999.000,9, -999.000,9,   2029.9,6,   2371.5,2,    289.4,2,       20,     70.0,2,  25.4300,20070723,2020
  33RO20070710,GOMECC,    47,  1,   4709,      9,2,20070723,2015, 35.9998, -75.0500,   45,      4.1,  25.4140,  35.9800,2,  35.9860,2,    196.9,2,   -999.0,9,     0.00,2,     0.00,2,     0.00,2,     0.04,2,     0.07,2, -999.000,9, -999.000,9, -999.000,9,   -999.0,9,   -999.0,9,   -999.0,9,     -999,   -999.0,9,  25.4131,20070723,2020
  33RO20070710,GOMECC,    47,  1,   4710,     10,2,20070723,2015, 35.9998, -75.0500,   45,      4.5,  25.3140,  35.9780,2,-999.0000,9,    196.9,2,   -999.0,9,  -999.00,9,  -999.00,9,  -999.00,9,  -999.00,9,     -999,9, -999.000,9, -999.000,9, -999.000,9,   -999.0,9,   -999.0,9,   -999.0,9,     -999,   -999.0,9,  25.3130,20070723,2020