BOTTLE,20220922CCHSIOAMB
EXPOCODE,SECT_ID,STNNBR,CASTNO,SAMPNO,BTLNBR,BTLNBR_FLAG_W,DATE,TIME,LATITUDE,LONGITUDE,DEPTH,CTDPRS,CTDTMP,CTDSAL,CTDSAL_FLAG_W,SALNTY,SALNTY_FLAG_W,CTDOXY,CTDOXY_FLAG_W,OXYGEN,OXYGEN_FLAG_W,SILCAT,SILCAT_FLAG_W,NITRAT,NITRAT_FLAG_W,NITRIT,NITRIT_FLAG_W,PHSPHT,PHSPHT_FLAG_W,NH4,NH4_FLAG_W,CFC-11,CFC-11_FLAG_W,CFC-12,CFC-12_FLAG_W,CFC113,CFC113_FLAG_W,TCARBN,TCARBN_FLAG_W,ALKALI,ALKALI_FLAG_W,FCO2,FCO2_FLAG_W,FCO2TMP,DOC,DOC_FLAG_W,THETA,BTL_DATE,BTL_TIME
,,,,,,,,,,,METERS,DBAR,ITS-90,PSS-78,,PSS-78,,UMOL/KG,,UMOL/KG,,UMOL/KG,,UMOL/KG,,UMOL/KG,,UMOL/KG,,UMOL/KG,,PMOL/KG,,PMOL/KG,,PMOL/KG,,UMOL/KG,,UMOL/KG,,UATM,,DEG C,UMOL/KG,,DEG C,,
  33RO20070710,GOMECC,    48,  1,   4801,      1,2,20070723,2125, 35.9640, -74.9535,   71,     58.9,  13.0100,  34.1240,2,  34.1230,2,    243.7,2,    256.8,6,     1.80,2,     1.00,2,     0.21,2,     0.40,2,     0.44,2,    3.650,2,    2.360,2,    0.280,2,   2066.3,2,   2284.5,2,    477.3,2,       20,   -999.0,9,  13.0020,20070723,2125
  33RO20070710,GOMECC,    48,  1,   4803,      3,9,20070723,2125, 35.9640, -74.9535,   71,     58.8,  13.0090,  34.1230,2,-999.0000,9,    243.7,2,   -999.0,9,  -999.00,9,  -999.00,9,  -999.00,9,  -999.00,9,     -999,9, -999.000,9, -999.000,9, -999.000,9,   -999.0,9,   -999.0,9,   -999.0,9,     -999,   -999.0,9,  13.0010,20070723,2125
  33RO20070710,GOMECC,    48,  1,   4804,      4,2,20070723,2125, 35.9640, -74.9535,   71,     40.9,  12.6080,  33.9870,2,  33.9870,2,    245.7,2,    259.0,2,     2.00,2,     1.30,2,     0.23,2,     0.42,2,     0.18,2,    3.750,2,    2.120,2,    0.180,2,   2065.3,2,   2277.9,2,    491.3,2,       20,   -999.0,9,  12.6026,20070723,2127
  33RO20070710,GOMECC,    48,  1,   4805,      5,2,20070723,2125, 35.9640, -74.9535,   71,     30.7,  13.3290,  34.0430,2,  34.0430,2,    251.2,2,    264.6,2,     1.90,2,     0.80,2,     0.16,2,     0.38,2,     0.16,2, -999.000,9, -999.000,9, -999.000,9,   2055.0,2,   2279.8,2,    459.5,2,       20,   -999.0,9,  13.3248,20070723,2129
  33RO20070710,GOMECC,    48,  1,   4806,      6,2,20070723,2125, 35.9640, -74.9535,   71,     20.5,  18.3110,  34.7100,2,  34.6100,4,    235.9,2,    255.0,6,     1.10,2,     0.10,2,     0.04,2,     0.21,2,     0.11,2,    2.910,2,    1.840,2,    0.170,2,   2036.5,2,   2304.6,2,    373.8,2,       20,   -999.0,9,  18.3075,20070723,2130
  33RO20070710,GOMECC,    48,  1,   4807,      7,2,20070723,2125, 35.9640, -74.9535,   71,     10.4,  25.7920,  35.6560,2,  35.5380,4,    195.5,2,    212.7,2,     0.20,2,     0.00,2,     0.00,2,     0.02,2,     0.08,2, -999.000,9, -999.000,9, -999.000,9,   2017.8,2,   2351.8,2,    292.7,2,       20,   -999.0,9,  25.7897,20070723,2132
  33RO20070710,GOMECC,    48,  1,   4808,      8,2,20070723,2125, 35.9640, -74.9535,   71,      4.7,  26.1540,  35.1960,2,  35.2200,4,    194.7,2,    211.6,2,     0.20,2,     0.00,2,     0.00,2,     0.01,2,     0.08,2, -999.000,9, -999.000,9, -999.000,9,   2008.8,6,   2337.2,2,    293.6,2,       20,     78.7,2,  26.1529,20070723,2133
  33RO20070710,GOMECC,    48,  1,   4809,      9,9,20070723,2125, 35.9640, -74.9535,   71,      4.8,  26.1590,  35.1950,2,-999.0000,9,    194.8,2,   -999.0,9,  -999.00,9,  -999.00,9,  -999.00,9,  -999.00,9,     -999,9, -999.000,9, -999.000,9, -999.000,9,   -999.0,9,   -999.0,9,   -999.0,9,     -999,   -999.0,9,  26.1579,20070723,2134
  33RO20070710,GOMECC,    49,  1,   4901,      1,2,20070723,2251, 35.9162, -74.8502,  110,     96.9,  12.2720,  35.1290,2,  35.1270,2,    187.6,2,    197.7,6,     6.00,2,    10.10,2,     0.14,2,     0.75,2,     0.08,2, -999.000,9, -999.000,9, -999.000,9,   2131.4,2,   2322.6,2,    585.6,2,       20,   -999.0,9,  12.2592,20070723,2251
  33RO20070710,GOMECC,    49,  1,   4903,      3,2,20070723,2251, 35.9162, -74.8502,  110,     96.4,  12.2480,  35.1160,2,-999.0000,9,    188.2,2,   -999.0,9,  -999.00,9,  -999.00,9,  -999.00,9,  -999.00,9,     -999,9, -999.000,9, -999.000,9, -999.000,9,   -999.0,9,   -999.0,9,   -999.0,9,     -999,   -999.0,9,  12.2353,20070723,2252
  33RO20070710,GOMECC,    49,  1,   4904,      4,2,20070723,2251, 35.9162, -74.8502,  110,     70.8,  11.9230,  34.7050,2,  34.7340,4,    206.2,2,    216.0,2,     4.20,2,     7.20,2,     0.12,2,     0.63,2,     0.18,2,    3.380,2,    2.190,2,    0.250,2,   2111.4,2,   2306.6,2,    561.1,2,       20,   -999.0,9,  11.9139,20070723,2254
  33RO20070710,GOMECC,    49,  1,   4905,      5,2,20070723,2251, 35.9162, -74.8502,  110,     71.2,  11.8990,  34.7010,2,-999.0000,9,    206.5,2,   -999.0,9,  -999.00,9,  -999.00,9,  -999.00,9,  -999.00,9,     -999,9, -999.000,9, -999.000,9, -999.000,9,   -999.0,9,   -999.0,9,   -999.0,9,     -999,   -999.0,9,  11.8898,20070723,2254
  33RO20070710,GOMECC,    49,  1,   4906,      6,2,20070723,2251, 35.9162, -74.8502,  110,     50.8,  15.9110,  35.5620,2,  35.5590,2,    187.3,2,    198.1,2,     2.80,2,     5.80,2,     0.21,2,     0.45,2,      0.1,2, -999.000,9, -999.000,9, -999.000,9,   2112.8,2,   2344.7,2,    473.5,2,       20,   -999.0,9,  15.9030,20070723,2256
  33RO20070710,GOMECC,    49,  1,   4907,      7,2,20070723,2251, 35.9162, -74.8502,  110,     40.7,  17.2450,  35.6560,2,  35.6810,4,    200.0,2,    210.8,2,     1.90,2,     3.30,2,     0.14,2,     0.30,2,     0.08,2,    2.620,2,    1.650,2,    0.230,2,   2097.2,2,   2352.1,2,    420.0,2,       20,   -999.0,9,  17.2382,20070723,2257
  33RO20070710,GOMECC,    49,  1,   4908,      8,2,20070723,2251, 35.9162, -74.8502,  110,     30.7,  22.3960,  36.1650,2,  36.1670,2,    219.2,2,    234.1,2,     0.30,2,     0.00,2,     0.01,2,     0.03,2,     0.08,2, -999.000,9, -999.000,9, -999.000,9,   2048.4,2,   2381.7,2,    304.7,2,       20,   -999.0,9,  22.3898,20070723,2259
  33RO20070710,GOMECC,    49,  1,   4909,      9,2,20070723,2251, 35.9162, -74.8502,  110,     31.0,  22.3920,  36.1660,2,-999.0000,9,    219.3,2,   -999.0,9,  -999.00,9,  -999.00,9,  -999.00,9,  -999.00,9,     -999,9, -999.000,9, -999.000,9, -999.000,9,   -999.0,9,   -999.0,9,   -999.0,9,     -999,   -999.0,9,  22.3858,20070723,2259
  33RO20070710,GOMECC,    49,  1,   4910,     10,2,20070723,2251, 35.9162, -74.8502,  110,     20.5,  25.8210,  36.0390,2,  36.0610,4,    194.0,2,    208.4,2,     0.50,2,     0.00,2,     0.00,2,     0.02,2,     0.12,2,    1.840,2,    1.330,2,    0.010,2,   2030.7,2,   2374.7,2,    287.9,2,       20,   -999.0,9,  25.8164,20070723,2301
  33RO20070710,GOMECC,    49,  1,   4911,     11,2,20070723,2251, 35.9162, -74.8502,  110,     10.3,  25.9690,  35.7370,2,  35.7470,2,    193.1,2,    206.2,2,     0.60,2,     0.00,2,     0.00,2,     0.00,2,     0.08,2, -999.000,9, -999.000,9, -999.000,9,   2020.1,2,   2354.1,6,    286.0,2,       20,   -999.0,9,  25.9667,20070723,2303
  33RO20070710,GOMECC,    49,  1,   4912,     12,2,20070723,2251, 35.9162, -74.8502,  110,      5.1,  25.9550,  35.5350,2,  35.3810,4,    193.1,2,    206.5,2,     0.60,2,     0.00,2,     0.00,2,     0.00,2,     0.12,2,    1.980,2,    1.280,2, -999.000,9,   2010.2,6,   2339.0,2,    289.7,2,       20,     73.8,2,  25.9539,20070723,2304
  33RO20070710,GOMECC,    49,  1,   4913,     13,9,20070723,2251, 35.9162, -74.8502,  110,      5.3,  25.9550,  35.5360,2,-999.0000,9,    193.2,2,   -999.0,9,  -999.00,9,  -999.00,9,  -999.00,9,  -999.00,9,     -999,9, -999.000,9, -999.000,9, -999.000,9,   -999.0,9,   -999.0,9,   -999.0,9,     -999,   -999.0,9,  25.9538,20070723,2304
  33RO20070710,GOMECC,    49,  1,   4914,     14,2,20070723,2251, 35.9162, -74.8502,  110,      4.8,  25.9560,  35.5460,2,-999.0000,9,    193.1,2,   -999.0,9,  -999.00,9,  -999.00,9,  -999.00,9,  -999.00,9,     -999,9, -999.000,9, -999.000,9, -999.000,9,   -999.0,9,   -999.0,9,   -999.0,9,     -999,   -999.0,9,  25.9549,20070723,2304
  33RO20070710,GOMECC,    50,  1,   5001,      1,2,20070724,0031, 35.8982, -74.7913,  921,    883.3,   4.4580,  34.9650,2,  34.9700,2,    239.1,2,    251.4,6,    12.30,2,    17.70,2,     0.01,2,     1.20,2,     0.13,2,    2.610,2,    1.370,2,    0.040,2,   2168.4,2,   2312.1,2,    775.9,2,       20,   -999.0,9,   4.3881,20070724,0031
  33RO20070710,GOMECC,    50,  1,   5003,      3,2,20070724,0031, 35.8982, -74.7913,  921,    705.8,   4.7140,  34.9710,2,  34.9780,2,    232.0,2,    243.8,2,    12.50,2,    18.10,2,     0.01,2,     1.24,2,     0.08,2, -999.000,9, -999.000,9, -999.000,9,   2171.0,2,   2314.3,2,    786.9,2,       20,   -999.0,9,   4.6577,20070724,0034
  33RO20070710,GOMECC,    50,  1,   5004,      4,2,20070724,0031, 35.8982, -74.7913,  921,    605.0,   5.0730,  34.9810,2,  34.9880,2,    221.2,2,    232.1,2,    12.90,2,    18.60,2,     0.02,2,     1.28,2,     0.09,2,    2.440,2,    1.140,2,    0.070,2,   2173.8,2,   2316.7,2,    801.8,2,       20,   -999.0,9,   5.0235,20070724,0037
  33RO20070710,GOMECC,    50,  1,   5005,      5,2,20070724,0031, 35.8982, -74.7913,  921,    504.3,   5.7340,  35.0060,2,  35.0110,2,    201.3,2,    213.8,2,    13.70,2,    19.90,2,     0.03,2,     1.37,2,     0.09,2, -999.000,9, -999.000,9, -999.000,9,   2179.9,2,   2315.7,2,    831.2,2,       20,   -999.0,9,   5.6905,20070724,0039
  33RO20070710,GOMECC,    50,  1,   5006,      6,2,20070724,0031, 35.8982, -74.7913,  921,    433.2,   7.1630,  35.0500,2,  35.0510,2,    167.5,2,    178.0,2,    14.70,2,    21.90,2,     0.03,2,     1.51,2,     0.08,2, -999.000,9, -999.000,9, -999.000,9,   2188.0,2,   2318.3,2,    859.1,2,       20,   -999.0,9,   7.1211,20070724,0041
  33RO20070710,GOMECC,    50,  1,   5007,      7,2,20070724,0031, 35.8982, -74.7913,  921,    373.2,   8.8700,  35.1640,2,  35.1610,2,    141.3,2,    149.0,2,    14.70,2,    23.20,2,     0.03,2,     1.57,2,     0.09,2,    1.350,2,    0.710,2, -999.000,9,   2192.8,2,   2321.7,2,    851.4,2,       20,   -999.0,9,   8.8293,20070724,0043
  33RO20070710,GOMECC,    50,  1,   5008,      8,2,20070724,0031, 35.8982, -74.7913,  921,    312.5,  11.5020,  35.4730,2,  35.4740,2,    137.2,2,    143.7,2,    11.00,2,    20.10,2,     0.01,2,     1.32,2,     0.08,2, -999.000,9, -999.000,9, -999.000,9,   2178.6,2,   2344.8,2,    727.6,2,       20,   -999.0,9,  11.4619,20070724,0045
  33RO20070710,GOMECC,    50,  1,   5009,      9,2,20070724,0031, 35.8982, -74.7913,  921,    263.3,  12.8940,  35.6720,2,  35.6820,2,    143.4,2,    151.2,2,     8.90,2,    17.10,2,     0.02,2,     1.12,2,     0.11,2, -999.000,9, -999.000,9, -999.000,9,   2168.1,2,   2351.3,2,    648.3,2,       20,   -999.0,9,  12.8576,20070724,0046
  33RO20070710,GOMECC,    50,  1,   5010,     10,2,20070724,0031, 35.8982, -74.7913,  921,    212.1,  13.6230,  35.8110,2,  35.8130,2,    187.5,2,    198.2,2,     5.70,2,    11.10,2,     0.03,2,     0.74,2,     0.08,2,    2.440,2,    1.540,2,    0.270,2,   2139.0,2,   2363.7,2,    524.9,2,       20,   -999.0,9,  13.5927,20070724,0048
  33RO20070710,GOMECC,    50,  1,   5011,     11,2,20070724,0031, 35.8982, -74.7913,  921,    171.8,  13.8590,  35.8410,2,  35.8460,2,    183.1,2,    193.8,2,     5.70,2,    11.10,2,     0.04,2,     0.74,2,     0.09,2, -999.000,9, -999.000,9, -999.000,9,   2138.6,2,   2363.6,2,    522.7,2,       20,   -999.0,9,  13.8342,20070724,0049
  33RO20070710,GOMECC,    50,  1,   5012,     12,3,20070724,0031, 35.8982, -74.7913,  921,    130.7,  13.3280,  35.6350,2,-999.0000,9,    184.6,2,   -999.0,9,  -999.00,9,  -999.00,9,  -999.00,9,  -999.00,9,     -999,9, -999.000,9, -999.000,9, -999.000,9,   -999.0,9,   -999.0,9,   -999.0,9,     -999,   -999.0,9,  13.3097,20070724,0050
  33RO20070710,GOMECC,    50,  1,   5013,     13,2,20070724,0031, 35.8982, -74.7913,  921,    100.3,  14.7090,  35.8380,2,  35.8230,2,    159.5,2,    171.5,6,     6.00,2,    11.60,2,     0.09,2,     0.77,2,     0.08,2,    2.280,2,    1.400,2,    0.010,2,   2145.0,2,   2365.3,6,    547.5,2,       20,   -999.0,9,  14.6940,20070724,0052
  33RO20070710,GOMECC,    50,  1,   5014,     14,2,20070724,0031, 35.8982, -74.7913,  921,    100.2,  14.7060,  35.8380,2,-999.0000,9,    159.9,2,   -999.0,9,  -999.00,9,  -999.00,9,  -999.00,9,  -999.00,9,     -999,9, -999.000,9, -999.000,9, -999.000,9,   -999.0,9,   -999.0,9,   -999.0,9,     -999,   -999.0,9,  14.6910,20070724,0052
  33RO20070710,GOMECC,    50,  1,   5015,     15,2,20070724,0031, 35.8982, -74.7913,  921,     70.6,  12.0510,  34.7880,2,  34.8140,4,    205.4,2,    214.4,2,     4.90,2,     8.00,2,     0.08,2,     0.67,2,     0.08,2, -999.000,9, -999.000,9, -999.000,9,   2115.8,2,   2316.6,2,    563.9,2,       20,   -999.0,9,  12.0418,20070724,0053
  33RO20070710,GOMECC,    50,  1,   5016,     16,2,20070724,0031, 35.8982, -74.7913,  921,     50.7,  14.9740,  35.4020,2,  35.4080,2,    186.2,2,    195.8,2,     4.50,2,     7.00,2,     0.23,2,     0.56,2,     0.08,2, -999.000,9, -999.000,9, -999.000,9,   2118.9,2,   2349.1,2,    503.9,2,       20,   -999.0,9,  14.9663,20070724,0055
  33RO20070710,GOMECC,    50,  1,   5017,     17,2,20070724,0031, 35.8982, -74.7913,  921,     50.8,  14.9080,  35.3960,2,-999.0000,9,    186.7,2,   -999.0,9,  -999.00,9,  -999.00,9,  -999.00,9,  -999.00,9,     -999,9, -999.000,9, -999.000,9, -999.000,9,   -999.0,9,   -999.0,9,   -999.0,9,     -999,   -999.0,9,  14.9003,20070724,0055
  33RO20070710,GOMECC,    50,  1,   5018,     18,2,20070724,0031, 35.8982, -74.7913,  921,     41.2,  16.3920,  35.6830,2,  35.6580,4,    184.2,2,    197.0,2,     3.80,2,     5.90,2,     0.20,2,     0.46,2,     0.08,2,    2.670,2,    1.680,2,    0.130,2,   2114.4,2,   2358.2,2,    466.4,2,       20,   -999.0,9,  16.3854,20070724,0056
  33RO20070710,GOMECC,    50,  1,   5019,     19,2,20070724,0031, 35.8982, -74.7913,  921,     30.6,  23.8990,  36.2470,2,  36.2470,2,    206.0,2,    220.4,2,     1.50,2,     0.10,2,     0.01,2,     0.03,2,     0.07,2, -999.000,9, -999.000,9, -999.000,9,   2050.3,2,   2385.5,2,    303.4,2,       20,   -999.0,9,  23.8926,20070724,0057
  33RO20070710,GOMECC,    50,  1,   5020,     20,2,20070724,0031, 35.8982, -74.7913,  921,     20.7,  26.0860,  35.9180,2,  36.0280,4,    194.4,2,    208.2,2,     1.50,2,     0.00,2,     0.00,2,     0.02,2,      0.1,2,    1.760,2,    1.280,2,    0.180,2,   2029.4,2,   2375.2,2,    286.6,2,       20,   -999.0,9,  26.0814,20070724,0059
  33RO20070710,GOMECC,    50,  1,   5021,     21,2,20070724,0031, 35.8982, -74.7913,  921,     10.6,  25.4360,  34.5360,2,  34.8990,4,    199.2,2,    215.8,2,     1.50,2,     0.00,2,     0.00,2,     0.02,2,     0.14,2, -999.000,9, -999.000,9, -999.000,9,   2005.0,2,   2320.1,2,    299.9,2,       20,   -999.0,9,  25.4337,20070724,0100
  33RO20070710,GOMECC,    50,  1,   5022,     22,2,20070724,0031, 35.8982, -74.7913,  921,      4.2,  25.2390,  34.1170,2,-999.0000,1,    200.6,2,    217.4,2,     1.60,2,     0.00,2,     0.00,2,     0.02,2,     0.09,2, -999.000,9, -999.000,9, -999.000,9,   1987.5,6,   2286.3,2,    313.3,2,       20,     81.3,2,  25.2381,20070724,0101
  33RO20070710,GOMECC,    50,  1,   5023,     23,9,20070724,0031, 35.8982, -74.7913,  921,      3.9,  25.2410,  34.1270,2,  34.1400,2,    200.5,2,   -999.0,9,  -999.00,9,  -999.00,9,  -999.00,9,  -999.00,9,     -999,9, -999.000,9, -999.000,9, -999.000,9,   -999.0,9,   -999.0,9,   -999.0,9,     -999,   -999.0,9,  25.2402,20070724,0101
  33RO20070710,GOMECC,    50,  1,   5024,     24,2,20070724,0031, 35.8982, -74.7913,  921,      4.0,  25.2440,  34.1270,2,-999.0000,9,    200.7,2,   -999.0,9,  -999.00,9,  -999.00,9,  -999.00,9,  -999.00,9,     -999,9, -999.000,9, -999.000,9, -999.000,9,   -999.0,9,   -999.0,9,   -999.0,9,     -999,   -999.0,9,  25.2431,20070724,0101