BOTTLE,20220922CCHSIOAMB
EXPOCODE,SECT_ID,STNNBR,CASTNO,SAMPNO,BTLNBR,BTLNBR_FLAG_W,DATE,TIME,LATITUDE,LONGITUDE,DEPTH,CTDPRS,CTDTMP,CTDSAL,CTDSAL_FLAG_W,SALNTY,SALNTY_FLAG_W,CTDOXY,CTDOXY_FLAG_W,OXYGEN,OXYGEN_FLAG_W,SILCAT,SILCAT_FLAG_W,NITRAT,NITRAT_FLAG_W,NITRIT,NITRIT_FLAG_W,PHSPHT,PHSPHT_FLAG_W,NH4,NH4_FLAG_W,CFC-11,CFC-11_FLAG_W,CFC-12,CFC-12_FLAG_W,CFC113,CFC113_FLAG_W,TCARBN,TCARBN_FLAG_W,ALKALI,ALKALI_FLAG_W,FCO2,FCO2_FLAG_W,FCO2TMP,DOC,DOC_FLAG_W,THETA,BTL_DATE,BTL_TIME
,,,,,,,,,,,METERS,DBAR,ITS-90,PSS-78,,PSS-78,,UMOL/KG,,UMOL/KG,,UMOL/KG,,UMOL/KG,,UMOL/KG,,UMOL/KG,,UMOL/KG,,PMOL/KG,,PMOL/KG,,PMOL/KG,,UMOL/KG,,UMOL/KG,,UATM,,DEG C,UMOL/KG,,DEG C,,
  33RO20070710,GOMECC,    59,  1,   5901,      1,2,20070726,1936, 39.4678, -74.2385,   17,     12.5,  20.9310,  31.6010,2,  31.6030,2,    167.7,2,    188.6,6,     6.30,2,     0.40,2,     0.11,2,     0.53,2,     0.31,2, -999.000,9, -999.000,9, -999.000,9,   -999.0,9,   -999.0,9,   -999.0,9,     -999,   -999.0,9,  20.9287,20070726,1936
  33RO20070710,GOMECC,    59,  1,   5902,      2,9,20070726,1936, 39.4678, -74.2385,   17,      4.2,  23.1530,  31.5870,2,-999.0000,9,    225.9,2,   -999.0,9,  -999.00,9,  -999.00,9,  -999.00,9,  -999.00,9,     -999,9, -999.000,9, -999.000,9, -999.000,9,   -999.0,9,   -999.0,9,   -999.0,9,     -999,   -999.0,9,  23.1522,20070726,1941
  33RO20070710,GOMECC,    59,  1,   5903,      3,2,20070726,1936, 39.4678, -74.2385,   17,     12.5,  20.9290,  31.6020,2,-999.0000,9,    167.9,2,   -999.0,9,  -999.00,9,  -999.00,9,  -999.00,9,  -999.00,9,     -999,9, -999.000,9, -999.000,9, -999.000,9,   -999.0,9,   -999.0,9,   -999.0,9,     -999,   -999.0,9,  20.9267,20070726,1936
  33RO20070710,GOMECC,    59,  1,   5904,      4,2,20070726,1936, 39.4678, -74.2385,   17,     12.5,  20.9280,  31.6020,2,-999.0000,9,    167.9,2,   -999.0,9,  -999.00,9,  -999.00,9,  -999.00,9,  -999.00,9,     -999,9, -999.000,9, -999.000,9, -999.000,9,   -999.0,9,   -999.0,9,   -999.0,9,     -999,   -999.0,9,  20.9257,20070726,1936
  33RO20070710,GOMECC,    59,  1,   5905,      5,2,20070726,1936, 39.4678, -74.2385,   17,     12.6,  20.9280,  31.6020,2,-999.0000,9,    167.9,2,   -999.0,9,  -999.00,9,  -999.00,9,  -999.00,9,  -999.00,9,     -999,9, -999.000,9, -999.000,9, -999.000,9,   1979.3,2,   2133.6,2,    581.9,2,       20,   -999.0,9,  20.9256,20070726,1937
  33RO20070710,GOMECC,    59,  1,   5906,      6,9,20070726,1936, 39.4678, -74.2385,   17,     12.6,  20.9260,  31.6020,2,-999.0000,9,    167.7,2,   -999.0,9,  -999.00,9,  -999.00,9,  -999.00,9,  -999.00,9,     -999,9, -999.000,9, -999.000,9, -999.000,9,   -999.0,9,   -999.0,9,   -999.0,9,     -999,   -999.0,9,  20.9236,20070726,1937
  33RO20070710,GOMECC,    59,  1,   5907,      7,9,20070726,1936, 39.4678, -74.2385,   17,     12.6,  20.9300,  31.6010,2,-999.0000,9,    167.7,2,   -999.0,9,  -999.00,9,  -999.00,9,  -999.00,9,  -999.00,9,     -999,9, -999.000,9, -999.000,9, -999.000,9,   -999.0,9,   -999.0,9,   -999.0,9,     -999,   -999.0,9,  20.9276,20070726,1937
  33RO20070710,GOMECC,    59,  1,   5908,      8,9,20070726,1936, 39.4678, -74.2385,   17,     12.7,  20.9280,  31.6020,2,-999.0000,9,    167.7,2,   -999.0,9,  -999.00,9,  -999.00,9,  -999.00,9,  -999.00,9,     -999,9, -999.000,9, -999.000,9, -999.000,9,   -999.0,9,   -999.0,9,   -999.0,9,     -999,   -999.0,9,  20.9256,20070726,1937
  33RO20070710,GOMECC,    59,  1,   5909,      9,9,20070726,1936, 39.4678, -74.2385,   17,     12.6,  20.9320,  31.6010,2,-999.0000,9,    168.0,2,   -999.0,9,  -999.00,9,  -999.00,9,  -999.00,9,  -999.00,9,     -999,9, -999.000,9, -999.000,9, -999.000,9,   -999.0,9,   -999.0,9,   -999.0,9,     -999,   -999.0,9,  20.9296,20070726,1937
  33RO20070710,GOMECC,    59,  1,   5910,     10,9,20070726,1936, 39.4678, -74.2385,   17,     12.6,  20.9290,  31.6010,2,-999.0000,9,    167.8,2,   -999.0,9,  -999.00,9,  -999.00,9,  -999.00,9,  -999.00,9,     -999,9, -999.000,9, -999.000,9, -999.000,9,   -999.0,9,   -999.0,9,   -999.0,9,     -999,   -999.0,9,  20.9266,20070726,1937
  33RO20070710,GOMECC,    59,  1,   5911,     11,9,20070726,1936, 39.4678, -74.2385,   17,     12.6,  20.9280,  31.6020,2,-999.0000,9,    167.8,2,   -999.0,9,  -999.00,9,  -999.00,9,  -999.00,9,  -999.00,9,     -999,9, -999.000,9, -999.000,9, -999.000,9,   -999.0,9,   -999.0,9,   -999.0,9,     -999,   -999.0,9,  20.9256,20070726,1937
  33RO20070710,GOMECC,    59,  1,   5912,     12,9,20070726,1936, 39.4678, -74.2385,   17,     12.6,  20.9230,  31.6040,2,-999.0000,9,    167.4,2,   -999.0,9,  -999.00,9,  -999.00,9,  -999.00,9,  -999.00,9,     -999,9, -999.000,9, -999.000,9, -999.000,9,   -999.0,9,   -999.0,9,   -999.0,9,     -999,   -999.0,9,  20.9206,20070726,1937
  33RO20070710,GOMECC,    59,  1,   5913,     13,2,20070726,1936, 39.4678, -74.2385,   17,      4.4,  22.7950,  31.5710,2,  31.5820,2,    225.6,2,    237.7,6,     3.90,2,     0.10,2,     0.04,2,     0.32,2,     0.05,2, -999.000,9, -999.000,9, -999.000,9,   -999.0,9,   -999.0,9,   -999.0,9,     -999,   -999.0,9,  22.7941,20070726,1939
  33RO20070710,GOMECC,    59,  1,   5914,     14,3,20070726,1936, 39.4678, -74.2385,   17,      4.3,  22.7520,  31.5660,2,-999.0000,9,    224.3,2,   -999.0,9,  -999.00,9,  -999.00,9,  -999.00,9,  -999.00,9,     -999,9, -999.000,9, -999.000,9, -999.000,9,   -999.0,9,   -999.0,9,   -999.0,9,     -999,   -999.0,9,  22.7511,20070726,1939
  33RO20070710,GOMECC,    59,  1,   5915,     15,2,20070726,1936, 39.4678, -74.2385,   17,      4.4,  22.8850,  31.5740,2,-999.0000,9,    224.8,2,   -999.0,9,  -999.00,9,  -999.00,9,  -999.00,9,  -999.00,9,     -999,9, -999.000,9, -999.000,9, -999.000,9,   1923.0,6,   2127.9,6,    421.2,2,       20,   -999.0,9,  22.8841,20070726,1939
  33RO20070710,GOMECC,    59,  1,   5916,     16,2,20070726,1936, 39.4678, -74.2385,   17,      4.3,  22.8960,  31.5740,2,-999.0000,9,    225.3,2,   -999.0,9,  -999.00,9,  -999.00,9,  -999.00,9,  -999.00,9,     -999,9,    2.410,2,    0.860,2,    0.360,2,   -999.0,9,   -999.0,9,   -999.0,9,     -999,   -999.0,9,  22.8951,20070726,1940
  33RO20070710,GOMECC,    59,  1,   5917,     17,9,20070726,1936, 39.4678, -74.2385,   17,      4.2,  23.1010,  31.5890,2,-999.0000,9,    226.1,2,   -999.0,9,  -999.00,9,  -999.00,9,  -999.00,9,  -999.00,9,     -999,9, -999.000,9, -999.000,9, -999.000,9,   -999.0,9,   -999.0,9,   -999.0,9,     -999,   -999.0,9,  23.1002,20070726,1940
  33RO20070710,GOMECC,    59,  1,   5918,     18,9,20070726,1936, 39.4678, -74.2385,   17,      4.2,  22.9340,  31.5750,2,-999.0000,9,    225.3,2,   -999.0,9,  -999.00,9,  -999.00,9,  -999.00,9,  -999.00,9,     -999,9, -999.000,9, -999.000,9, -999.000,9,   -999.0,9,   -999.0,9,   -999.0,9,     -999,   -999.0,9,  22.9332,20070726,1940
  33RO20070710,GOMECC,    59,  1,   5919,     19,9,20070726,1936, 39.4678, -74.2385,   17,      4.4,  23.0280,  31.5820,2,-999.0000,9,    225.5,2,   -999.0,9,  -999.00,9,  -999.00,9,  -999.00,9,  -999.00,9,     -999,9, -999.000,9, -999.000,9, -999.000,9,   -999.0,9,   -999.0,9,   -999.0,9,     -999,   -999.0,9,  23.0271,20070726,1940
  33RO20070710,GOMECC,    59,  1,   5920,     20,9,20070726,1936, 39.4678, -74.2385,   17,      4.5,  22.7310,  31.5760,2,-999.0000,9,    225.0,2,   -999.0,9,  -999.00,9,  -999.00,9,  -999.00,9,  -999.00,9,     -999,9, -999.000,9, -999.000,9, -999.000,9,   -999.0,9,   -999.0,9,   -999.0,9,     -999,   -999.0,9,  22.7301,20070726,1940
  33RO20070710,GOMECC,    59,  1,   5921,     21,2,20070726,1936, 39.4678, -74.2385,   17,      4.3,  22.9040,  31.5790,2,-999.0000,9,    225.2,2,   -999.0,9,  -999.00,9,  -999.00,9,  -999.00,9,  -999.00,9,     -999,9, -999.000,9, -999.000,9, -999.000,9,   -999.0,9,   -999.0,9,   -999.0,9,     -999,   -999.0,9,  22.9031,20070726,1940
  33RO20070710,GOMECC,    59,  1,   5922,     22,2,20070726,1936, 39.4678, -74.2385,   17,      4.3,  23.0190,  31.5830,2,-999.0000,9,    226.2,2,   -999.0,9,  -999.00,9,  -999.00,9,  -999.00,9,  -999.00,9,     -999,9, -999.000,9, -999.000,9, -999.000,9,   -999.0,9,   -999.0,9,   -999.0,9,     -999,    110.8,2,  23.0181,20070726,1940
  33RO20070710,GOMECC,    59,  1,   5923,     23,2,20070726,1936, 39.4678, -74.2385,   17,      4.3,  23.0140,  31.5800,2,-999.0000,9,    226.4,2,   -999.0,9,  -999.00,9,  -999.00,9,  -999.00,9,  -999.00,9,     -999,9, -999.000,9, -999.000,9, -999.000,9,   -999.0,9,   -999.0,9,   -999.0,9,     -999,   -999.0,9,  23.0131,20070726,1940
  33RO20070710,GOMECC,    59,  1,   5924,     24,2,20070726,1936, 39.4678, -74.2385,   17,      4.3,  22.8150,  31.5740,2,-999.0000,9,    225.7,2,   -999.0,9,  -999.00,9,  -999.00,9,  -999.00,9,  -999.00,9,     -999,9, -999.000,9, -999.000,9, -999.000,9,   -999.0,9,   -999.0,9,   -999.0,9,     -999,    108.0,2,  22.8141,20070726,1941
  33RO20070710,GOMECC,    60,  1,   6001,      1,2,20070726,2111, 39.3492, -74.0852,   30,     23.3,  16.3870,  31.8330,2,  31.8110,4,    166.5,2,    185.2,6,     4.50,2,     0.90,2,     0.14,2,     0.62,2,     0.26,2,    3.480,2,    1.070,2,    0.200,2,   -999.0,9,   -999.0,9,   -999.0,9,     -999,   -999.0,9,  16.3834,20070726,2111
  33RO20070710,GOMECC,    60,  1,   6003,      3,2,20070726,2111, 39.3492, -74.0852,   30,     23.5,  15.8760,  31.8830,2,-999.0000,9,    171.4,2,   -999.0,9,  -999.00,9,  -999.00,9,  -999.00,9,  -999.00,9,     -999,9, -999.000,9, -999.000,9, -999.000,9,   2019.0,2,   2160.6,2,    668.1,2,       20,   -999.0,9,  15.8724,20070726,2112
  33RO20070710,GOMECC,    60,  1,   6004,      4,2,20070726,2111, 39.3492, -74.0852,   30,     23.5,  15.9180,  31.8620,2,-999.0000,9,    170.5,2,   -999.0,9,  -999.00,9,  -999.00,9,  -999.00,9,  -999.00,9,     -999,9, -999.000,9, -999.000,9, -999.000,9,   -999.0,9,   -999.0,9,   -999.0,9,     -999,   -999.0,9,  15.9144,20070726,2112
  33RO20070710,GOMECC,    60,  1,   6005,      5,2,20070726,2111, 39.3492, -74.0852,   30,     10.1,  22.8200,  31.3310,2,  31.3580,4,    210.9,2,    225.3,6,     1.40,2,     0.10,2,     0.00,2,     0.08,2,     0.05,2,    2.190,2,    0.800,2,    0.050,2,   -999.0,9,   -999.0,9,   -999.0,9,     -999,   -999.0,9,  22.8180,20070726,2113
  33RO20070710,GOMECC,    60,  1,   6006,      6,2,20070726,2111, 39.3492, -74.0852,   30,     10.2,  22.8150,  31.3320,2,-999.0000,9,    211.2,2,   -999.0,9,  -999.00,9,  -999.00,9,  -999.00,9,  -999.00,9,     -999,9, -999.000,9, -999.000,9, -999.000,9,   1895.9,2,   2129.3,2,    351.5,2,       20,   -999.0,9,  22.8130,20070726,2114
  33RO20070710,GOMECC,    60,  1,   6007,      7,2,20070726,2111, 39.3492, -74.0852,   30,     10.2,  22.8190,  31.3320,2,-999.0000,9,    211.1,2,   -999.0,9,  -999.00,9,  -999.00,9,  -999.00,9,  -999.00,9,     -999,9, -999.000,9, -999.000,9, -999.000,9,   -999.0,9,   -999.0,9,   -999.0,9,     -999,   -999.0,9,  22.8170,20070726,2114
  33RO20070710,GOMECC,    60,  1,   6008,      8,2,20070726,2111, 39.3492, -74.0852,   30,      4.1,  24.1420,  31.3230,2,  31.3360,2,    209.1,2,    225.9,6,     1.40,2,     0.00,2,     0.00,2,     0.06,2,     0.05,2,    2.210,2,    0.760,2,    0.030,2,   -999.0,9,   -999.0,9,   -999.0,9,     -999,   -999.0,9,  24.1411,20070726,2115
  33RO20070710,GOMECC,    60,  1,   6009,      9,2,20070726,2111, 39.3492, -74.0852,   30,      4.2,  24.1480,  31.3230,2,-999.0000,9,    209.1,2,   -999.0,9,  -999.00,9,  -999.00,9,  -999.00,9,  -999.00,9,     -999,9, -999.000,9, -999.000,9, -999.000,9,   1890.1,6,   2125.7,2,    343.3,2,       20,   -999.0,9,  24.1471,20070726,2115
  33RO20070710,GOMECC,    60,  1,   6010,     10,2,20070726,2111, 39.3492, -74.0852,   30,      4.4,  24.1300,  31.3250,2,-999.0000,9,    209.4,2,   -999.0,9,  -999.00,9,  -999.00,9,  -999.00,9,  -999.00,9,     -999,9, -999.000,9, -999.000,9, -999.000,9,   -999.0,9,   -999.0,9,   -999.0,9,     -999,   -999.0,9,  24.1291,20070726,2116
  33RO20070710,GOMECC,    61,  1,   6101,      1,2,20070729,0737, 43.0383, -70.6415,   28,     21.4,   8.5050,  31.7020,2,  31.6680,4,    263.5,2,    285.6,6,     6.00,2,     2.50,2,     0.16,2,     0.69,2,     0.68,2,    4.770,2,    1.800,2,    0.590,2,   -999.0,9,   -999.0,9,   -999.0,9,     -999,   -999.0,9,   8.5029,20070729,0737
  33RO20070710,GOMECC,    61,  1,   6103,      3,2,20070729,0737, 43.0383, -70.6415,   28,     21.4,   8.4920,  31.7020,2,-999.0000,9,    263.6,2,   -999.0,9,  -999.00,9,  -999.00,9,  -999.00,9,  -999.00,9,     -999,9, -999.000,9, -999.000,9, -999.000,9,   2022.5,2,   2153.9,2,    712.3,2,       20,   -999.0,9,   8.4899,20070729,0738
  33RO20070710,GOMECC,    61,  1,   6104,      4,2,20070729,0737, 43.0383, -70.6415,   28,     21.4,   8.5110,  31.7010,2,-999.0000,9,    263.5,2,   -999.0,9,  -999.00,9,  -999.00,9,  -999.00,9,  -999.00,9,     -999,9, -999.000,9, -999.000,9, -999.000,9,   -999.0,9,   -999.0,9,   -999.0,9,     -999,   -999.0,9,   8.5089,20070729,0738
  33RO20070710,GOMECC,    61,  1,   6105,      5,2,20070729,0737, 43.0383, -70.6415,   28,     21.4,   8.5130,  31.7010,2,-999.0000,9,    263.4,2,   -999.0,9,  -999.00,9,  -999.00,9,  -999.00,9,  -999.00,9,     -999,9, -999.000,9, -999.000,9, -999.000,9,   -999.0,9,   -999.0,9,   -999.0,9,     -999,   -999.0,9,   8.5109,20070729,0738
  33RO20070710,GOMECC,    61,  1,   6106,      6,9,20070729,0737, 43.0383, -70.6415,   28,     21.5,   8.5020,  31.7050,2,-999.0000,9,    263.4,2,   -999.0,9,  -999.00,9,  -999.00,9,  -999.00,9,  -999.00,9,     -999,9, -999.000,9, -999.000,9, -999.000,9,   -999.0,9,   -999.0,9,   -999.0,9,     -999,   -999.0,9,   8.4999,20070729,0738
  33RO20070710,GOMECC,    61,  1,   6107,      7,2,20070729,0737, 43.0383, -70.6415,   28,     10.3,  10.7090,  31.4660,2,  31.4960,4,    285.4,2,    302.9,6,     4.50,2,     0.50,2,     0.02,2,     0.48,2,     0.23,2, -999.000,9, -999.000,9, -999.000,9,   -999.0,9,   -999.0,9,   -999.0,9,     -999,   -999.0,9,  10.7078,20070729,0740
  33RO20070710,GOMECC,    61,  1,   6108,      8,2,20070729,0737, 43.0383, -70.6415,   28,     10.2,  10.7270,  31.4670,2,-999.0000,9,    285.7,2,   -999.0,9,  -999.00,9,  -999.00,9,  -999.00,9,  -999.00,9,     -999,9, -999.000,9, -999.000,9, -999.000,9,   1983.8,2,   2143.3,2,    579.7,2,       20,   -999.0,9,  10.7258,20070729,0740
  33RO20070710,GOMECC,    61,  1,   6109,      9,2,20070729,0737, 43.0383, -70.6415,   28,     10.2,  10.6950,  31.4670,2,-999.0000,9,    286.2,2,   -999.0,9,  -999.00,9,  -999.00,9,  -999.00,9,  -999.00,9,     -999,9, -999.000,9, -999.000,9, -999.000,9,   -999.0,9,   -999.0,9,   -999.0,9,     -999,   -999.0,9,  10.6938,20070729,0740
  33RO20070710,GOMECC,    61,  1,   6110,     10,2,20070729,0737, 43.0383, -70.6415,   28,     10.2,  10.6890,  31.4700,2,-999.0000,9,    285.5,2,   -999.0,9,  -999.00,9,  -999.00,9,  -999.00,9,  -999.00,9,     -999,9, -999.000,9, -999.000,9, -999.000,9,   -999.0,9,   -999.0,9,   -999.0,9,     -999,   -999.0,9,  10.6878,20070729,0740
  33RO20070710,GOMECC,    61,  1,   6111,     11,9,20070729,0737, 43.0383, -70.6415,   28,     10.2,  10.5700,  31.5080,2,-999.0000,9,    285.3,2,   -999.0,9,  -999.00,9,  -999.00,9,  -999.00,9,  -999.00,9,     -999,9, -999.000,9, -999.000,9, -999.000,9,   -999.0,9,   -999.0,9,   -999.0,9,     -999,   -999.0,9,  10.5688,20070729,0740
  33RO20070710,GOMECC,    61,  1,   6112,     12,9,20070729,0737, 43.0383, -70.6415,   28,     10.3,  10.7210,  31.4610,2,-999.0000,9,    284.6,2,   -999.0,9,  -999.00,9,  -999.00,9,  -999.00,9,  -999.00,9,     -999,9, -999.000,9, -999.000,9, -999.000,9,   -999.0,9,   -999.0,9,   -999.0,9,     -999,   -999.0,9,  10.7198,20070729,0740
  33RO20070710,GOMECC,    61,  1,   6113,     13,2,20070729,0737, 43.0383, -70.6415,   28,      3.9,  16.0710,  30.5730,2,  30.7300,4,    270.2,2,    295.0,6,     4.30,2,     0.40,2,     0.02,2,     0.39,2,     1.91,2,    4.060,2,    1.680,2,    0.250,2,   -999.0,9,   -999.0,9,   -999.0,9,     -999,   -999.0,9,  16.0704,20070729,0741
  33RO20070710,GOMECC,    61,  1,   6114,     14,2,20070729,0737, 43.0383, -70.6415,   28,      3.8,  16.1120,  30.5590,2,-999.0000,9,    270.1,2,   -999.0,9,  -999.00,9,  -999.00,9,  -999.00,9,  -999.00,9,     -999,9, -999.000,9, -999.000,9, -999.000,9,   1903.8,6,   2087.4,2,    466.8,2,       20,   -999.0,9,  16.1114,20070729,0742
  33RO20070710,GOMECC,    61,  1,   6115,     15,2,20070729,0737, 43.0383, -70.6415,   28,      3.9,  16.0590,  30.5860,2,-999.0000,9,    270.5,2,   -999.0,9,  -999.00,9,  -999.00,9,  -999.00,9,  -999.00,9,     -999,9, -999.000,9, -999.000,9, -999.000,9,   -999.0,9,   -999.0,9,   -999.0,9,     -999,   -999.0,9,  16.0584,20070729,0742
  33RO20070710,GOMECC,    61,  1,   6116,     16,9,20070729,0737, 43.0383, -70.6415,   28,      3.8,  16.0730,  30.5780,2,-999.0000,9,    270.4,2,   -999.0,9,  -999.00,9,  -999.00,9,  -999.00,9,  -999.00,9,     -999,9, -999.000,9, -999.000,9, -999.000,9,   -999.0,9,   -999.0,9,   -999.0,9,     -999,   -999.0,9,  16.0724,20070729,0742
  33RO20070710,GOMECC,    61,  1,   6117,     17,9,20070729,0737, 43.0383, -70.6415,   28,      3.9,  16.0160,  30.6060,2,-999.0000,9,    270.7,2,   -999.0,9,  -999.00,9,  -999.00,9,  -999.00,9,  -999.00,9,     -999,9, -999.000,9, -999.000,9, -999.000,9,   -999.0,9,   -999.0,9,   -999.0,9,     -999,   -999.0,9,  16.0154,20070729,0742
  33RO20070710,GOMECC,    61,  1,   6118,     18,9,20070729,0737, 43.0383, -70.6415,   28,      3.9,  15.9780,  30.6200,2,-999.0000,9,    270.7,2,   -999.0,9,  -999.00,9,  -999.00,9,  -999.00,9,  -999.00,9,     -999,9, -999.000,9, -999.000,9, -999.000,9,   -999.0,9,   -999.0,9,   -999.0,9,     -999,   -999.0,9,  15.9774,20070729,0742
  33RO20070710,GOMECC,    61,  1,   6119,     19,9,20070729,0737, 43.0383, -70.6415,   28,      3.9,  15.7910,  30.6890,2,-999.0000,9,    271.4,2,   -999.0,9,  -999.00,9,  -999.00,9,  -999.00,9,  -999.00,9,     -999,9, -999.000,9, -999.000,9, -999.000,9,   -999.0,9,   -999.0,9,   -999.0,9,     -999,   -999.0,9,  15.7904,20070729,0742
  33RO20070710,GOMECC,    61,  1,   6120,     20,9,20070729,0737, 43.0383, -70.6415,   28,      3.8,  15.6530,  30.7420,2,-999.0000,9,    273.4,2,   -999.0,9,  -999.00,9,  -999.00,9,  -999.00,9,  -999.00,9,     -999,9, -999.000,9, -999.000,9, -999.000,9,   -999.0,9,   -999.0,9,   -999.0,9,     -999,   -999.0,9,  15.6524,20070729,0742
  33RO20070710,GOMECC,    61,  1,   6121,     21,9,20070729,0737, 43.0383, -70.6415,   28,      3.9,  15.7080,  30.7160,2,-999.0000,9,    273.9,2,   -999.0,9,  -999.00,9,  -999.00,9,  -999.00,9,  -999.00,9,     -999,9, -999.000,9, -999.000,9, -999.000,9,   -999.0,9,   -999.0,9,   -999.0,9,     -999,     91.1,2,  15.7074,20070729,0742
  33RO20070710,GOMECC,    61,  1,   6122,     22,2,20070729,0737, 43.0383, -70.6415,   28,      3.9,  15.5980,  30.7550,2,-999.0000,9,    273.8,2,   -999.0,9,  -999.00,9,  -999.00,9,  -999.00,9,  -999.00,9,     -999,9, -999.000,9, -999.000,9, -999.000,9,   -999.0,9,   -999.0,9,   -999.0,9,     -999,   -999.0,9,  15.5974,20070729,0742
  33RO20070710,GOMECC,    61,  1,   6123,     23,2,20070729,0737, 43.0383, -70.6415,   28,      3.9,  15.5530,  30.7680,2,-999.0000,9,    274.6,2,   -999.0,9,  -999.00,9,  -999.00,9,  -999.00,9,  -999.00,9,     -999,9, -999.000,9, -999.000,9, -999.000,9,   -999.0,9,   -999.0,9,   -999.0,9,     -999,   -999.0,9,  15.5524,20070729,0743
  33RO20070710,GOMECC,    61,  1,   6124,     24,9,20070729,0737, 43.0383, -70.6415,   28,      3.9,  15.3830,  30.8120,2,-999.0000,9,    275.2,2,   -999.0,9,  -999.00,9,  -999.00,9,  -999.00,9,  -999.00,9,     -999,9, -999.000,9, -999.000,9, -999.000,9,   -999.0,9,   -999.0,9,   -999.0,9,     -999,   -999.0,9,  15.3824,20070729,0743