BOTTLE,20220922CCHSIOAMB
EXPOCODE,SECT_ID,STNNBR,CASTNO,SAMPNO,BTLNBR,BTLNBR_FLAG_W,DATE,TIME,LATITUDE,LONGITUDE,DEPTH,CTDPRS,CTDTMP,CTDSAL,CTDSAL_FLAG_W,SALNTY,SALNTY_FLAG_W,CTDOXY,CTDOXY_FLAG_W,OXYGEN,OXYGEN_FLAG_W,SILCAT,SILCAT_FLAG_W,NITRAT,NITRAT_FLAG_W,NITRIT,NITRIT_FLAG_W,PHSPHT,PHSPHT_FLAG_W,NH4,NH4_FLAG_W,CFC-11,CFC-11_FLAG_W,CFC-12,CFC-12_FLAG_W,CFC113,CFC113_FLAG_W,TCARBN,TCARBN_FLAG_W,ALKALI,ALKALI_FLAG_W,FCO2,FCO2_FLAG_W,FCO2TMP,DOC,DOC_FLAG_W,THETA,BTL_DATE,BTL_TIME
,,,,,,,,,,,METERS,DBAR,ITS-90,PSS-78,,PSS-78,,UMOL/KG,,UMOL/KG,,UMOL/KG,,UMOL/KG,,UMOL/KG,,UMOL/KG,,UMOL/KG,,PMOL/KG,,PMOL/KG,,PMOL/KG,,UMOL/KG,,UMOL/KG,,UATM,,DEG C,UMOL/KG,,DEG C,,
  33RO20070710,GOMECC,     9,  1,    901,      1,2,20070713,0337, 28.7942, -90.5563,   17,      9.1,  30.0220,  32.7350,2,-999.0000,9,    185.9,2,    192.7,6,  -999.00,9,  -999.00,9,  -999.00,9,  -999.00,9,     -999,9,    1.620,2,    1.460,2,    0.250,2,   -999.0,9,   -999.0,9,   -999.0,9,     -999,   -999.0,9,  30.0198,20070713,0337
  33RO20070710,GOMECC,     9,  1,    903,      3,2,20070713,0337, 28.7942, -90.5563,   17,      9.2,  30.0290,  32.6970,2,-999.0000,9,    185.7,2,   -999.0,9,  -999.00,9,  -999.00,9,  -999.00,9,  -999.00,9,     -999,9, -999.000,9, -999.000,9, -999.000,9,   -999.0,9,   -999.0,9,   -999.0,9,     -999,   -999.0,9,  30.0267,20070713,0338
  33RO20070710,GOMECC,     9,  1,    904,      4,2,20070713,0337, 28.7942, -90.5563,   17,      9.1,  30.0320,  32.6590,2,-999.0000,9,    185.8,2,   -999.0,9,     2.80,2,     0.20,2,     0.04,2,     0.66,2,      0.2,2, -999.000,9, -999.000,9, -999.000,9,   -999.0,9,   -999.0,9,   -999.0,9,     -999,   -999.0,9,  30.0298,20070713,0338
  33RO20070710,GOMECC,     9,  1,    905,      5,9,20070713,0337, 28.7942, -90.5563,   17,      9.2,  30.0050,  32.7680,2,-999.0000,9,    185.6,2,   -999.0,9,  -999.00,9,  -999.00,9,  -999.00,9,  -999.00,9,     -999,9, -999.000,9, -999.000,9, -999.000,9,   -999.0,9,   -999.0,9,   -999.0,9,     -999,   -999.0,9,  30.0027,20070713,0338
  33RO20070710,GOMECC,     9,  1,    906,      6,9,20070713,0337, 28.7942, -90.5563,   17,      9.2,  30.0290,  32.6800,2,-999.0000,9,    185.9,2,   -999.0,9,  -999.00,9,  -999.00,9,  -999.00,9,  -999.00,9,     -999,9, -999.000,9, -999.000,9, -999.000,9,   -999.0,9,   -999.0,9,   -999.0,9,     -999,   -999.0,9,  30.0267,20070713,0338
  33RO20070710,GOMECC,     9,  1,    907,      7,2,20070713,0337, 28.7942, -90.5563,   17,      9.1,  30.0480,  32.5810,2,  32.4530,4,    186.2,2,   -999.0,9,  -999.00,9,  -999.00,9,  -999.00,9,  -999.00,9,     -999,9, -999.000,9, -999.000,9, -999.000,9,   2000.5,6,   2391.0,2,    216.5,2,       20,   -999.0,9,  30.0458,20070713,0338
  33RO20070710,GOMECC,     9,  1,    908,      8,2,20070713,0337, 28.7942, -90.5563,   17,      9.2,  30.0510,  32.5180,2,-999.0000,9,    186.3,2,   -999.0,9,  -999.00,9,  -999.00,9,  -999.00,9,  -999.00,9,     -999,9, -999.000,9, -999.000,9, -999.000,9,   -999.0,9,   -999.0,9,   -999.0,9,     -999,    125.1,2,  30.0487,20070713,0338
  33RO20070710,GOMECC,     9,  1,    909,      9,9,20070713,0337, 28.7942, -90.5563,   17,      9.2,  30.0990,  32.3640,2,-999.0000,9,    186.0,2,   -999.0,9,  -999.00,9,  -999.00,9,  -999.00,9,  -999.00,9,     -999,9, -999.000,9, -999.000,9, -999.000,9,   -999.0,9,   -999.0,9,   -999.0,9,     -999,    127.3,2,  30.0967,20070713,0338
  33RO20070710,GOMECC,     9,  1,    910,     10,9,20070713,0337, 28.7942, -90.5563,   17,      9.1,  30.6340,  31.5410,2,-999.0000,9,    188.2,2,   -999.0,9,  -999.00,9,  -999.00,9,  -999.00,9,  -999.00,9,     -999,9, -999.000,9, -999.000,9, -999.000,9,   -999.0,9,   -999.0,9,   -999.0,9,     -999,   -999.0,9,  30.6317,20070713,0339
  33RO20070710,GOMECC,     9,  1,    911,     11,9,20070713,0337, 28.7942, -90.5563,   17,      9.1,  30.5860,  31.6980,2,-999.0000,9,    188.3,2,   -999.0,9,  -999.00,9,  -999.00,9,  -999.00,9,  -999.00,9,     -999,9, -999.000,9, -999.000,9, -999.000,9,   -999.0,9,   -999.0,9,   -999.0,9,     -999,   -999.0,9,  30.5837,20070713,0339
  33RO20070710,GOMECC,     9,  1,    912,     12,9,20070713,0337, 28.7942, -90.5563,   17,      9.2,  30.4230,  31.9260,2,-999.0000,9,    187.5,2,   -999.0,9,  -999.00,9,  -999.00,9,  -999.00,9,  -999.00,9,     -999,9, -999.000,9, -999.000,9, -999.000,9,   -999.0,9,   -999.0,9,   -999.0,9,     -999,   -999.0,9,  30.4207,20070713,0339
  33RO20070710,GOMECC,     9,  1,    913,     13,2,20070713,0337, 28.7942, -90.5563,   17,      4.2,  31.1100,  24.7500,2,-999.0000,9,    218.1,2,    219.6,6,    13.50,2,     0.60,2,     0.12,2,     0.16,2,     0.47,2,    1.600,2,    1.560,2,    0.140,2,   -999.0,9,   -999.0,9,   -999.0,9,     -999,   -999.0,9,  31.1090,20070713,0341
  33RO20070710,GOMECC,     9,  1,    914,     14,2,20070713,0337, 28.7942, -90.5563,   17,      4.1,  31.0990,  24.8980,2,-999.0000,9,    218.1,2,   -999.0,9,  -999.00,9,  -999.00,9,  -999.00,9,  -999.00,9,     -999,9, -999.000,9, -999.000,9, -999.000,9,   -999.0,9,   -999.0,9,   -999.0,9,     -999,    201.2,2,  31.0980,20070713,0341
  33RO20070710,GOMECC,     9,  1,    915,     15,9,20070713,0337, 28.7942, -90.5563,   17,      4.1,  31.1120,  24.7350,2,-999.0000,9,    218.7,2,   -999.0,9,  -999.00,9,  -999.00,9,  -999.00,9,  -999.00,9,     -999,9, -999.000,9, -999.000,9, -999.000,9,   -999.0,9,   -999.0,9,   -999.0,9,     -999,   -999.0,9,  31.1110,20070713,0341
  33RO20070710,GOMECC,     9,  1,    916,     16,9,20070713,0337, 28.7942, -90.5563,   17,      4.1,  31.1100,  24.7630,2,-999.0000,9,    218.4,2,   -999.0,9,  -999.00,9,  -999.00,9,  -999.00,9,  -999.00,9,     -999,9, -999.000,9, -999.000,9, -999.000,9,   -999.0,9,   -999.0,9,   -999.0,9,     -999,   -999.0,9,  31.1090,20070713,0341
  33RO20070710,GOMECC,     9,  1,    917,     17,2,20070713,0337, 28.7942, -90.5563,   17,      4.2,  31.0960,  24.9440,2,-999.0000,9,    218.2,2,   -999.0,9,  -999.00,9,  -999.00,9,  -999.00,9,  -999.00,9,     -999,9, -999.000,9, -999.000,9, -999.000,9,   1864.2,3,   2317.7,2,    124.2,2,       20,   -999.0,9,  31.0950,20070713,0341
  33RO20070710,GOMECC,     9,  1,    918,     18,2,20070713,0337, 28.7942, -90.5563,   17,      4.2,  31.1020,  24.8690,2,  24.6580,4,    218.3,2,   -999.0,9,  -999.00,9,  -999.00,9,  -999.00,9,  -999.00,9,     -999,9, -999.000,9, -999.000,9, -999.000,9,   -999.0,9,   -999.0,9,   -999.0,9,     -999,   -999.0,9,  31.1010,20070713,0341
  33RO20070710,GOMECC,     9,  1,    919,     19,2,20070713,0337, 28.7942, -90.5563,   17,      4.1,  31.1040,  24.8370,2,-999.0000,9,    218.5,2,   -999.0,9,  -999.00,9,  -999.00,9,  -999.00,9,  -999.00,9,     -999,9, -999.000,9, -999.000,9, -999.000,9,   -999.0,9,   -999.0,9,   -999.0,9,     -999,   -999.0,9,  31.1030,20070713,0341
  33RO20070710,GOMECC,     9,  1,    920,     20,9,20070713,0337, 28.7942, -90.5563,   17,      4.1,  31.1050,  24.8400,2,-999.0000,9,    218.4,2,   -999.0,9,  -999.00,9,  -999.00,9,  -999.00,9,  -999.00,9,     -999,9, -999.000,9, -999.000,9, -999.000,9,   -999.0,9,   -999.0,9,   -999.0,9,     -999,   -999.0,9,  31.1040,20070713,0342
  33RO20070710,GOMECC,     9,  1,    921,     21,9,20070713,0337, 28.7942, -90.5563,   17,      4.2,  31.0810,  25.1280,2,-999.0000,9,    217.4,2,   -999.0,9,  -999.00,9,  -999.00,9,  -999.00,9,  -999.00,9,     -999,9, -999.000,9, -999.000,9, -999.000,9,   -999.0,9,   -999.0,9,   -999.0,9,     -999,   -999.0,9,  31.0800,20070713,0342
  33RO20070710,GOMECC,     9,  1,    922,     22,9,20070713,0337, 28.7942, -90.5563,   17,      4.1,  31.0820,  25.0820,2,-999.0000,9,    217.0,2,   -999.0,9,  -999.00,9,  -999.00,9,  -999.00,9,  -999.00,9,     -999,9, -999.000,9, -999.000,9, -999.000,9,   -999.0,9,   -999.0,9,   -999.0,9,     -999,   -999.0,9,  31.0810,20070713,0342
  33RO20070710,GOMECC,     9,  1,    923,     23,9,20070713,0337, 28.7942, -90.5563,   17,      4.2,  31.1030,  24.7690,2,-999.0000,9,    218.2,2,   -999.0,9,  -999.00,9,  -999.00,9,  -999.00,9,  -999.00,9,     -999,9, -999.000,9, -999.000,9, -999.000,9,   -999.0,9,   -999.0,9,   -999.0,9,     -999,   -999.0,9,  31.1020,20070713,0342
  33RO20070710,GOMECC,     9,  1,    924,     24,9,20070713,0337, 28.7942, -90.5563,   17,      4.2,  31.0880,  25.0070,2,-999.0000,9,    218.4,2,   -999.0,9,  -999.00,9,  -999.00,9,  -999.00,9,  -999.00,9,     -999,9, -999.000,9, -999.000,9, -999.000,9,   -999.0,9,   -999.0,9,   -999.0,9,     -999,   -999.0,9,  31.0870,20070713,0342
  33RO20070710,GOMECC,    10,  1,   1001,      1,2,20070713,0738, 28.8442, -90.3360,   16,     10.2,  30.2650,  32.4010,2,-999.0000,9,    190.6,2,    196.5,6,  -999.00,9,  -999.00,9,  -999.00,9,  -999.00,9,     -999,9,    1.700,2,    1.420,2,    0.230,2,   1996.8,2,   2414.0,2,    191.3,2,       20,    124.9,6,  30.2625,20070713,0738
  33RO20070710,GOMECC,    10,  1,   1003,      3,2,20070713,0738, 28.8442, -90.3360,   16,     10.3,  30.1700,  32.6470,2,  31.7930,4,    189.8,2,   -999.0,9,     3.60,2,     0.10,2,     0.02,2,     0.06,2,     0.19,2, -999.000,9, -999.000,9, -999.000,9,   -999.0,9,   -999.0,9,   -999.0,9,     -999,   -999.0,9,  30.1675,20070713,0738
  33RO20070710,GOMECC,    10,  1,   1004,      4,9,20070713,0738, 28.8442, -90.3360,   16,     10.2,  30.2280,  32.6850,2,-999.0000,9,    190.2,2,   -999.0,9,  -999.00,9,  -999.00,9,  -999.00,9,  -999.00,9,     -999,9, -999.000,9, -999.000,9, -999.000,9,   -999.0,9,   -999.0,9,   -999.0,9,     -999,   -999.0,9,  30.2255,20070713,0738
  33RO20070710,GOMECC,    10,  1,   1005,      5,2,20070713,0738, 28.8442, -90.3360,   16,      3.9,  30.4440,  28.7590,2,  29.0080,4,    188.0,2,    194.4,2,     7.30,2,     0.40,2,     0.02,2,     0.07,2,     0.27,2,    1.530,2,    1.520,2,    0.210,2,   1940.7,3,   2360.7,2,    169.4,2,       20,    161.5,2,  30.4430,20070713,0740
  33RO20070710,GOMECC,    10,  1,   1006,      6,2,20070713,0738, 28.8442, -90.3360,   16,      3.9,  30.4460,  28.7700,2,-999.0000,9,    188.0,2,   -999.0,9,  -999.00,9,  -999.00,9,  -999.00,9,  -999.00,9,     -999,9, -999.000,9, -999.000,9, -999.000,9,   -999.0,9,   -999.0,9,   -999.0,9,     -999,   -999.0,9,  30.4450,20070713,0740
  33RO20070710,GOMECC,    10,  1,   1007,      7,9,20070713,0738, 28.8442, -90.3360,   16,      3.8,  30.4500,  28.8450,2,-999.0000,9,    188.0,2,   -999.0,9,  -999.00,9,  -999.00,9,  -999.00,9,  -999.00,9,     -999,9, -999.000,9, -999.000,9, -999.000,9,   -999.0,9,   -999.0,9,   -999.0,9,     -999,   -999.0,9,  30.4491,20070713,0740
  33RO20070710,GOMECC,    11,  1,   1101,      1,2,20070713,1036, 29.0547, -89.9903,   15,     10.1,  29.7700,  34.1080,2,  33.0970,4,    204.6,2,    217.3,3,     0.50,2,     0.30,2,     0.03,2,     0.08,2,     0.15,2,    1.150,2,    1.080,2,    0.190,2,   1995.0,2,   2403.9,2,    208.8,2,       20,    131.6,2,  29.7675,20070713,1036
  33RO20070710,GOMECC,    11,  1,   1103,      3,2,20070713,1036, 29.0547, -89.9903,   15,     10.1,  29.4450,  34.5380,2,-999.0000,9,    180.8,2,   -999.0,9,  -999.00,9,  -999.00,9,  -999.00,9,  -999.00,9,     -999,9, -999.000,9, -999.000,9, -999.000,9,   -999.0,9,   -999.0,9,   -999.0,9,     -999,   -999.0,9,  29.4425,20070713,1036
  33RO20070710,GOMECC,    11,  1,   1104,      4,9,20070713,1036, 29.0547, -89.9903,   15,     10.2,  29.0260,  34.7160,2,-999.0000,9,    169.8,2,   -999.0,9,  -999.00,9,  -999.00,9,  -999.00,9,  -999.00,9,     -999,9, -999.000,9, -999.000,9, -999.000,9,   -999.0,9,   -999.0,9,   -999.0,9,     -999,   -999.0,9,  29.0235,20070713,1037
  33RO20070710,GOMECC,    11,  1,   1105,      5,2,20070713,1036, 29.0547, -89.9903,   15,      4.1,  30.2130,  32.4880,2,  32.6500,4,    198.3,2,    219.5,2,     1.20,2,     0.00,2,     0.02,2,     0.06,2,     0.14,2,    8.980,2,    0.220,2,    0.350,2,   2006.4,2,   2409.5,2,    216.6,2,       20,    130.3,6,  30.2120,20070713,1038
  33RO20070710,GOMECC,    11,  1,   1106,      6,2,20070713,1036, 29.0547, -89.9903,   15,      4.1,  30.2140,  32.4520,2,-999.0000,9,    196.6,2,   -999.0,9,  -999.00,9,  -999.00,9,  -999.00,9,  -999.00,9,     -999,9, -999.000,9, -999.000,9, -999.000,9,   -999.0,9,   -999.0,9,   -999.0,9,     -999,   -999.0,9,  30.2130,20070713,1039
  33RO20070710,GOMECC,    11,  1,   1107,      7,9,20070713,1036, 29.0547, -89.9903,   15,      4.1,  30.2150,  32.4450,2,-999.0000,9,    195.5,2,   -999.0,9,  -999.00,9,  -999.00,9,  -999.00,9,  -999.00,9,     -999,9, -999.000,9, -999.000,9, -999.000,9,   -999.0,9,   -999.0,9,   -999.0,9,     -999,   -999.0,9,  30.2140,20070713,1039
  33RO20070710,GOMECC,    12,  1,   1201,      1,2,20070713,1354, 28.7488, -89.9977,   49,     44.2,  23.5170,  36.5440,2,  36.5320,2,     61.5,2,     96.2,3,    15.50,2,     7.80,2,     0.21,2,     0.66,2,      0.1,2,    1.920,2,    2.000,2,    0.110,2,   2166.0,3,   2385.1,2,    517.1,2,       20,     53.6,2,  23.5078,20070713,1354
  33RO20070710,GOMECC,    12,  1,   1203,      3,9,20070713,1354, 28.7488, -89.9977,   49,     44.3,  23.5170,  36.5440,2,-999.0000,9,     60.8,2,   -999.0,9,  -999.00,9,  -999.00,9,  -999.00,9,  -999.00,9,     -999,9, -999.000,9, -999.000,9, -999.000,9,   -999.0,9,   -999.0,9,   -999.0,9,     -999,   -999.0,9,  23.5078,20070713,1355
  33RO20070710,GOMECC,    12,  1,   1204,      4,2,20070713,1354, 28.7488, -89.9977,   49,     30.7,  27.6870,  36.2450,2,  36.2640,4,    196.6,2,    181.6,3,     1.50,2,     0.30,2,     0.49,2,     0.05,2,     0.12,2,    1.770,2,    1.970,2,    0.210,2,   2076.4,2,   2388.2,2,    324.2,2,       20,   -999.0,9,  27.6798,20070713,1357
  33RO20070710,GOMECC,    12,  1,   1205,      5,9,20070713,1354, 28.7488, -89.9977,   49,     30.6,  27.6800,  36.2470,2,-999.0000,9,    196.9,2,   -999.0,9,  -999.00,9,  -999.00,9,  -999.00,9,  -999.00,9,     -999,9, -999.000,9, -999.000,9, -999.000,9,   -999.0,9,   -999.0,9,   -999.0,9,     -999,   -999.0,9,  27.6728,20070713,1358
  33RO20070710,GOMECC,    12,  1,   1206,      6,2,20070713,1354, 28.7488, -89.9977,   49,     20.7,  29.3930,  35.8190,2,  35.9050,4,    191.6,2,    197.6,2,     0.50,2,     0.10,2,     0.06,2,     0.04,2,      0.1,2,    2.200,2,    2.750,2,    0.330,2,   2052.2,2,   2401.0,2,    280.1,2,       20,   -999.0,9,  29.3879,20070713,1400
  33RO20070710,GOMECC,    12,  1,   1207,      7,9,20070713,1354, 28.7488, -89.9977,   49,     20.7,  29.3960,  35.8140,2,-999.0000,9,    191.6,2,   -999.0,9,  -999.00,9,  -999.00,9,  -999.00,9,  -999.00,9,     -999,9, -999.000,9, -999.000,9, -999.000,9,   -999.0,9,   -999.0,9,   -999.0,9,     -999,   -999.0,9,  29.3909,20070713,1400
  33RO20070710,GOMECC,    12,  1,   1208,      8,2,20070713,1354, 28.7488, -89.9977,   49,     10.6,  30.1380,  34.9560,2,  34.8370,4,    189.5,2,    197.0,2,     0.50,2,     0.00,2,     0.03,2,     0.02,2,     0.09,2, -999.000,9, -999.000,9, -999.000,9,   2046.0,2,   2406.9,2,    266.9,2,       20,     91.2,2,  30.1354,20070713,1402
  33RO20070710,GOMECC,    12,  1,   1209,      9,9,20070713,1354, 28.7488, -89.9977,   49,     10.6,  30.1400,  34.9600,2,-999.0000,9,    189.3,2,   -999.0,9,  -999.00,9,  -999.00,9,  -999.00,9,  -999.00,9,     -999,9, -999.000,9, -999.000,9, -999.000,9,   -999.0,9,   -999.0,9,   -999.0,9,     -999,   -999.0,9,  30.1374,20070713,1403
  33RO20070710,GOMECC,    12,  1,   1210,     10,2,20070713,1354, 28.7488, -89.9977,   49,      4.0,  30.0610,  31.7590,2,  31.7590,2,    189.5,2,    196.3,2,     3.90,2,     0.00,2,     0.03,2,     0.04,2,     0.16,2, -999.000,9, -999.000,9, -999.000,9,   2003.7,6,   2432.2,2,    189.2,2,       20,    121.2,2,  30.0600,20070713,1404
  33RO20070710,GOMECC,    12,  1,   1211,     11,2,20070713,1354, 28.7488, -89.9977,   49,      4.0,  30.0640,  31.7320,2,  31.7590,2,    189.8,2,   -999.0,9,  -999.00,9,  -999.00,9,  -999.00,9,  -999.00,9,     -999,9, -999.000,9, -999.000,9, -999.000,9,   -999.0,9,   -999.0,9,   -999.0,9,     -999,   -999.0,9,  30.0630,20070713,1404
  33RO20070710,GOMECC,    13,  1,   1301,      1,2,20070713,1642, 28.4990, -89.9998,   98,     92.7,  18.4820,  36.4320,2,  36.4420,2,    127.2,2,    133.7,2,     6.10,2,    10.00,2,     0.18,2,     0.69,2,     0.08,2,    2.820,2,    3.150,2,    0.390,2,   2168.9,3,   2378.5,2,    521.6,2,       20,   -999.0,9,  18.4657,20070713,1642
  33RO20070710,GOMECC,    13,  1,   1303,      3,2,20070713,1642, 28.4990, -89.9998,   98,     70.4,  19.1000,  36.4960,2,  36.4980,2,    134.1,2,    141.2,2,     4.30,2,     8.80,2,     0.08,2,     0.52,2,     0.08,2, -999.000,9, -999.000,9, -999.000,9,   2153.4,2,   2382.5,2,    489.2,2,       20,     52.4,2,  19.0873,20070713,1645
  33RO20070710,GOMECC,    13,  1,   1304,      4,2,20070713,1642, 28.4990, -89.9998,   98,     50.1,  24.6850,  36.3700,2,  36.3990,4,    159.5,2,    168.5,2,     5.10,2,     0.30,2,     0.41,2,     0.08,2,     0.12,2, -999.000,9, -999.000,9,    0.020,2,   2105.2,2,   2395.5,2,    369.5,2,       20,   -999.0,9,  24.6742,20070713,1647
  33RO20070710,GOMECC,    13,  1,   1305,      5,2,20070713,1642, 28.4990, -89.9998,   98,     40.3,  26.6390,  36.2690,2,  36.2910,4,    209.0,2,    218.3,2,     0.80,2,     0.00,2,     0.05,2,     0.00,2,     0.09,2, -999.000,9, -999.000,9, -999.000,9,   2055.9,6,   2396.0,2,    290.3,2,       20,   -999.0,9,  26.6298,20070713,1649
  33RO20070710,GOMECC,    13,  1,   1306,      6,2,20070713,1642, 28.4990, -89.9998,   98,     30.0,  28.8410,  36.1570,2,  36.1690,2,    195.1,2,    204.5,2,     0.70,2,     0.00,2,     0.03,2,     0.00,2,     0.17,2, -999.000,9, -999.000,9, -999.000,9,   2053.9,2,   2407.2,2,    285.2,2,       20,   -999.0,9,  28.8338,20070713,1650
  33RO20070710,GOMECC,    13,  1,   1307,      7,2,20070713,1642, 28.4990, -89.9998,   98,     20.7,  29.5710,  36.1450,2,  35.4810,4,    191.4,2,    200.7,2,     0.90,2,     0.00,2,     0.03,2,     0.00,2,     0.08,2, -999.000,9, -999.000,9, -999.000,9,   2052.2,2,   2404.6,2,    277.3,2,       20,   -999.0,9,  29.5659,20070713,1654
  33RO20070710,GOMECC,    13,  1,   1308,      8,2,20070713,1642, 28.4990, -89.9998,   98,      9.9,  30.3290,  34.8660,2,  35.3330,4,    188.9,2,    200.3,2,     0.90,2,     0.00,2,     0.02,2,     0.00,2,     0.08,2, -999.000,9, -999.000,9, -999.000,9,   2052.2,2,   2406.7,2,    275.1,2,       20,     84.1,2,  30.3265,20070713,1655
  33RO20070710,GOMECC,    13,  1,   1309,      9,2,20070713,1642, 28.4990, -89.9998,   98,      4.3,  30.1040,  33.5790,2,  34.0460,4,    189.1,2,    197.0,6,     1.10,2,     0.00,2,     0.03,2,     0.00,2,     0.15,2,    2.810,2,    3.390,2,    0.350,2,   2041.2,2,   2383.6,2,    251.0,2,       20,    100.3,2,  30.1029,20070713,1656