BOTTLE,20220922CCHSIOAMB
EXPOCODE,SECT_ID,STNNBR,CASTNO,SAMPNO,BTLNBR,BTLNBR_FLAG_W,DATE,TIME,LATITUDE,LONGITUDE,DEPTH,CTDPRS,CTDTMP,CTDSAL,CTDSAL_FLAG_W,SALNTY,SALNTY_FLAG_W,CTDOXY,CTDOXY_FLAG_W,OXYGEN,OXYGEN_FLAG_W,SILCAT,SILCAT_FLAG_W,NITRAT,NITRAT_FLAG_W,NITRIT,NITRIT_FLAG_W,PHSPHT,PHSPHT_FLAG_W,NH4,NH4_FLAG_W,CFC-11,CFC-11_FLAG_W,CFC-12,CFC-12_FLAG_W,CFC113,CFC113_FLAG_W,TCARBN,TCARBN_FLAG_W,ALKALI,ALKALI_FLAG_W,FCO2,FCO2_FLAG_W,FCO2TMP,DOC,DOC_FLAG_W,THETA,BTL_DATE,BTL_TIME
,,,,,,,,,,,METERS,DBAR,ITS-90,PSS-78,,PSS-78,,UMOL/KG,,UMOL/KG,,UMOL/KG,,UMOL/KG,,UMOL/KG,,UMOL/KG,,UMOL/KG,,PMOL/KG,,PMOL/KG,,PMOL/KG,,UMOL/KG,,UMOL/KG,,UATM,,DEG C,UMOL/KG,,DEG C,,
  33RO20070710,GOMECC,    14,  1,   1401,      1,2,20070713,1900, 28.2498, -89.9992,  175,    168.9,  15.9970,  36.1030,2,  36.1570,4,    127.2,2,    131.1,2,     6.20,2,    13.80,2,     0.11,2,     0.92,2,     0.09,2, -999.000,9, -999.000,9, -999.000,9,   2166.6,6,   2363.4,2,    578.5,2,       20,   -999.0,9,  15.9701,20070713,1900
  33RO20070710,GOMECC,    14,  1,   1403,      3,2,20070713,1900, 28.2498, -89.9992,  175,    131.7,  20.0280,  36.5290,2,  36.5340,2,    169.4,2,    168.6,6,     1.90,2,     4.90,2,     0.11,2,     0.29,2,     0.07,2, -999.000,9, -999.000,9, -999.000,9,   2133.3,2,   2398.9,2,    409.9,2,       20,   -999.0,9,  20.0034,20070713,1903
  33RO20070710,GOMECC,    14,  1,   1404,      4,2,20070713,1900, 28.2498, -89.9992,  175,    101.5,  21.1220,  36.5110,2,  36.5040,2,    191.7,2,    196.8,2,     1.30,2,     1.00,2,     0.27,2,     0.10,2,     0.11,2, -999.000,9, -999.000,9, -999.000,9,   2100.0,2,   2405.8,2,    352.1,2,       20,     66.5,2,  21.1024,20070713,1904
  33RO20070710,GOMECC,    14,  1,   1405,      5,2,20070713,1900, 28.2498, -89.9992,  175,     71.3,  24.2310,  36.4600,2,  36.4630,2,    211.5,2,    228.5,3,     0.80,2,     0.00,2,     0.04,2,     0.04,2,     0.09,2, -999.000,9, -999.000,9, -999.000,9,   2062.1,2,   2400.0,2,    302.8,2,       20,   -999.0,9,  24.2158,20070713,1906
  33RO20070710,GOMECC,    14,  1,   1406,      6,2,20070713,1900, 28.2498, -89.9992,  175,     51.0,  26.8900,  36.3730,2,-999.0000,5,    196.8,2,    205.6,2,     0.80,2,     0.00,2,     0.02,2,     0.03,2,     0.22,2,    3.090,2,    3.730,2,    0.420,2,   2045.0,2,   2388.6,2,    290.9,2,       20,   -999.0,9,  26.8783,20070713,1908
  33RO20070710,GOMECC,    14,  1,   1407,      7,2,20070713,1900, 28.2498, -89.9992,  175,     40.7,  27.7260,  36.2820,2,  36.3020,4,    199.9,2,    209.7,2,     1.00,2,     0.00,2,     0.03,2,     0.02,2,      0.1,2, -999.000,9, -999.000,9, -999.000,9,   2029.8,2,   2385.5,2,    275.4,2,       20,   -999.0,9,  27.7164,20070713,1909
  33RO20070710,GOMECC,    14,  1,   1408,      8,2,20070713,1900, 28.2498, -89.9992,  175,     30.2,  29.0910,  36.3240,2,  36.3230,2,    194.7,2,    205.8,2,     1.10,2,     0.00,2,     0.02,2,     0.02,2,     0.12,2,    2.010,2,    2.480,2,    0.220,2,   2017.6,2,   2382.5,2,    267.9,2,       20,   -999.0,9,  29.0837,20070713,1910
  33RO20070710,GOMECC,    14,  1,   1409,      9,2,20070713,1900, 28.2498, -89.9992,  175,     20.4,  29.4030,  36.2960,2,  36.3120,4,    193.5,2,    203.9,2,     1.10,2,     0.00,2,     0.04,2,     0.02,2,     0.08,2, -999.000,9, -999.000,9, -999.000,9,   2015.1,2,   2381.1,2,    266.7,2,       20,   -999.0,9,  29.3980,20070713,1912
  33RO20070710,GOMECC,    14,  1,   1410,     10,2,20070713,1900, 28.2498, -89.9992,  175,     10.0,  30.6350,  36.1420,2,  34.8630,4,    190.4,2,    201.5,2,     1.00,2,     0.00,2,     0.03,2,     0.02,2,      0.1,2, -999.000,9, -999.000,9, -999.000,9,   2027.2,2,   2387.0,2,    267.2,2,       20,     71.5,2,  30.6325,20070713,1913
  33RO20070710,GOMECC,    14,  1,   1411,     11,2,20070713,1900, 28.2498, -89.9992,  175,      4.1,  30.9550,  34.8090,2,  34.8740,4,    187.3,2,    196.9,6,     1.00,2,     0.00,2,     0.04,2,     0.01,2,      0.1,2,    1.440,2,    1.840,2,    0.130,2,   2051.7,6,   2410.4,2,    272.4,2,       20,   -999.0,9,  30.9540,20070713,1914
  33RO20070710,GOMECC,    14,  1,   1412,     12,2,20070713,1900, 28.2498, -89.9992,  175,      4.1,  30.9030,  34.8200,2,-999.0000,9,    187.3,2,   -999.0,9,  -999.00,9,  -999.00,9,  -999.00,9,  -999.00,9,     -999,9, -999.000,9, -999.000,9, -999.000,9,   -999.0,9,   -999.0,9,   -999.0,9,     -999,     68.8,2,  30.9020,20070713,1914
  33RO20070710,GOMECC,    15,  1,   1501,      1,2,20070713,2114, 28.0823, -89.9998,  434,    427.8,  10.5190,  35.2760,2,  35.2790,2,    115.5,2,    118.8,6,    13.90,2,    24.80,2,     0.05,2,     1.64,2,     0.25,2,    1.170,2,    1.280,2,    0.120,2,   2199.4,6,   2328.7,2,    864.5,2,       20,   -999.0,9,  10.4670,20070713,2114
  33RO20070710,GOMECC,    15,  1,   1503,      3,2,20070713,2114, 28.0823, -89.9998,  434,    373.1,  12.7260,  35.6040,2,  35.6030,2,    112.1,2,    116.8,2,    10.10,2,    21.40,2,     0.02,2,     1.39,2,     0.26,2, -999.000,9, -999.000,9, -999.000,9,   2191.0,2,   2338.3,2,    760.8,2,       20,   -999.0,9,  12.6748,20070713,2116
  33RO20070710,GOMECC,    15,  1,   1504,      4,2,20070713,2114, 28.0823, -89.9998,  434,    311.9,  13.8470,  35.7800,2,  35.7820,2,    113.9,2,    118.8,2,     8.40,2,    19.30,2,     0.02,2,     1.26,2,     0.08,2,    1.360,2,    1.370,2,    0.000,2,   2184.4,2,   2346.0,2,    703.4,2,       20,   -999.0,9,  13.8018,20070713,2118
  33RO20070710,GOMECC,    15,  1,   1505,      5,2,20070713,2114, 28.0823, -89.9998,  434,    262.0,  15.0940,  35.9670,2,  35.9630,2,    132.1,2,    137.9,2,     6.30,2,    15.50,2,     0.05,2,     0.99,2,     0.07,2, -999.000,9, -999.000,9, -999.000,9,   2168.8,2,   2354.1,2,    610.7,2,       20,   -999.0,9,  15.0538,20070713,2120
  33RO20070710,GOMECC,    15,  1,   1506,      6,2,20070713,2114, 28.0823, -89.9998,  434,    211.2,  16.9870,  36.2630,2,  36.2660,2,    136.2,2,    142.2,2,     4.30,2,    12.20,2,     0.03,2,     0.75,2,     0.08,2, -999.000,9, -999.000,9, -999.000,9,   2159.0,2,   2377.9,2,    540.8,2,       20,     54.1,2,  16.9518,20070713,2122
  33RO20070710,GOMECC,    15,  1,   1507,      7,2,20070713,2114, 28.0823, -89.9998,  434,    170.9,  18.5490,  36.4900,2,  36.4960,2,    142.8,2,    149.3,2,     2.80,2,     8.80,2,     0.03,2,     0.52,2,     0.06,2, -999.000,9, -999.000,9, -999.000,9,   2147.2,2,   2388.9,2,    474.6,2,       20,   -999.0,9,  18.5188,20070713,2124
  33RO20070710,GOMECC,    15,  1,   1508,      8,2,20070713,2114, 28.0823, -89.9998,  434,    130.8,  20.6710,  36.7140,2,  36.7200,2,    141.5,2,    147.5,2,     2.00,2,     6.50,2,     0.03,2,     0.36,2,     0.07,2, -999.000,9, -999.000,9, -999.000,9,   2141.5,2,   2400.5,2,    440.9,2,       20,   -999.0,9,  20.6460,20070713,2125
  33RO20070710,GOMECC,    15,  1,   1509,      9,2,20070713,2114, 28.0823, -89.9998,  434,    101.1,  22.4290,  36.7320,2,  36.7250,2,    151.0,2,    158.3,2,     1.50,2,     4.00,2,     0.20,2,     0.22,2,     0.07,2, -999.000,9, -999.000,9, -999.000,9,   2122.5,2,   2404.3,2,    397.6,2,       20,   -999.0,9,  22.4086,20070713,2127
  33RO20070710,GOMECC,    15,  1,   1510,     10,2,20070713,2114, 28.0823, -89.9998,  434,     70.6,  25.5220,  36.5420,2,  36.5500,2,    180.6,2,    188.2,2,     1.00,2,     0.00,2,     0.00,2,     0.03,2,     0.07,2,    1.810,2,    1.600,2,    0.030,2,   2070.8,2,   2394.4,2,    321.4,2,       20,   -999.0,9,  25.5064,20070713,2129
  33RO20070710,GOMECC,    15,  1,   1511,     11,2,20070713,2114, 28.0823, -89.9998,  434,     50.6,  26.7890,  36.3220,2,  36.3550,4,    196.1,2,    205.2,2,     1.10,2,     0.00,2,     0.02,2,     0.02,2,     0.06,2, -999.000,9, -999.000,9, -999.000,9,   2033.6,2,   2381.3,2,    283.3,2,       20,   -999.0,9,  26.7774,20070713,2130
  33RO20070710,GOMECC,    15,  1,   1512,     12,2,20070713,2114, 28.0823, -89.9998,  434,     40.5,  27.4490,  36.2570,2,  36.2670,2,    200.2,2,    210.0,2,     1.20,2,     0.00,2,     0.01,2,     0.01,2,     0.08,2, -999.000,9, -999.000,9, -999.000,9,   2019.2,2,   2379.0,2,    268.9,2,       20,   -999.0,9,  27.4396,20070713,2132
  33RO20070710,GOMECC,    15,  1,   1513,     13,2,20070713,2114, 28.0823, -89.9998,  434,     30.8,  28.0930,  36.2320,2,  36.2440,2,    199.9,2,    207.9,2,     1.30,2,     0.00,2,     0.00,2,     0.01,2,     0.08,2, -999.000,9, -999.000,9, -999.000,9,   2015.5,2,   2377.8,2,    265.9,2,       20,   -999.0,9,  28.0857,20070713,2133
  33RO20070710,GOMECC,    15,  1,   1514,     14,2,20070713,2114, 28.0823, -89.9998,  434,     20.5,  29.8690,  36.3480,2,  36.3390,2,    192.1,2,    203.2,2,     1.20,2,     0.00,2,     0.00,2,     0.00,2,     0.08,2, -999.000,9, -999.000,9, -999.000,9,   2024.3,2,   2387.4,2,    267.8,2,       20,   -999.0,9,  29.8639,20070713,2134
  33RO20070710,GOMECC,    15,  1,   1515,     15,2,20070713,2114, 28.0823, -89.9998,  434,     10.2,  30.1600,  36.3660,2,  36.3620,2,    190.3,2,    199.0,2,     1.30,2,     0.00,2,     0.04,2,     0.01,2,     0.06,2, -999.000,9, -999.000,9, -999.000,9,   2019.5,2,   2389.1,2,    262.9,2,       20,     74.9,2,  30.1575,20070713,2135
  33RO20070710,GOMECC,    15,  1,   1516,     16,2,20070713,2114, 28.0823, -89.9998,  434,      4.2,  30.7980,  35.8270,2,  35.9150,4,    187.8,2,    197.9,6,     1.10,2,     0.00,2,     0.03,2,     0.00,2,     0.09,2,    1.570,2,    1.590,2,    0.190,2,   2030.1,6,   2396.9,2,    263.2,2,       20,     85.0,2,  30.7969,20070713,2136
  33RO20070710,GOMECC,    16,  1,   1601,      1,2,20070713,2329, 27.9168, -90.0000,  665,    657.9,   6.7540,  34.9110,2,  34.9150,2,    132.1,2,    135.8,2,    22.50,2,    29.10,2,     0.04,2,     1.99,2,     0.08,2, -999.000,9, -999.000,9, -999.000,9,   2212.2,6,   2320.5,2,    996.1,2,       20,   -999.0,9,   6.6916,20070713,2329
  33RO20070710,GOMECC,    16,  1,   1603,      3,2,20070713,2329, 27.9168, -90.0000,  665,    604.6,   8.0030,  34.9700,2,  34.9670,2,    118.9,2,    123.7,2,    19.40,2,    29.00,2,     0.07,2,     1.95,2,     0.08,2, -999.000,9, -999.000,9, -999.000,9,   2209.7,2,   2319.5,2,    993.2,2,       20,   -999.0,9,   7.9402,20070713,2331
  33RO20070710,GOMECC,    16,  1,   1604,      4,2,20070713,2329, 27.9168, -90.0000,  665,    504.1,   9.3080,  35.1000,2,  35.1050,2,    116.0,2,    121.1,2,    15.90,2,    27.30,2,     0.08,2,     1.82,2,     0.08,2, -999.000,9, -999.000,9, -999.000,9,   2201.7,2,   2322.5,2,    930.4,2,       20,   -999.0,9,   9.2510,20070713,2334
  33RO20070710,GOMECC,    16,  1,   1605,      5,2,20070713,2329, 27.9168, -90.0000,  665,    433.2,  10.5690,  35.2700,2,  35.2740,2,    115.4,2,    118.4,2,    13.20,2,    25.10,2,     0.07,2,     1.66,2,     0.08,2, -999.000,9, -999.000,9, -999.000,9,   2193.6,2,   2328.6,2,    865.9,2,       20,   -999.0,9,  10.5162,20070713,2336
  33RO20070710,GOMECC,    16,  1,   1606,      6,2,20070713,2329, 27.9168, -90.0000,  665,    372.6,  11.9900,  35.4820,2,  35.4830,2,    116.0,2,    120.4,2,    10.70,2,    22.30,2,     0.10,2,     1.45,2,     0.09,2, -999.000,9, -999.000,9, -999.000,9,   2187.2,2,   2335.4,2,    789.9,2,       20,   -999.0,9,  11.9408,20070713,2338
  33RO20070710,GOMECC,    16,  1,   1607,      7,2,20070713,2329, 27.9168, -90.0000,  665,    312.2,  13.5720,  35.7280,2,  35.7110,4,    122.3,2,    126.1,2,     8.30,2,    19.30,2,     0.07,2,     1.24,2,     0.08,2, -999.000,9, -999.000,9, -999.000,9,   2180.7,2,   2345.4,2,    701.4,2,       20,   -999.0,9,  13.5273,20070713,2340
  33RO20070710,GOMECC,    16,  1,   1608,      8,2,20070713,2329, 27.9168, -90.0000,  665,    262.5,  15.1700,  35.9810,2,  35.9810,2,    133.4,2,    138.7,2,     5.90,2,    15.30,2,     0.04,2,     0.95,2,     0.11,2, -999.000,9, -999.000,9, -999.000,9,   2165.5,2,   2356.2,2,    603.2,2,       20,   -999.0,9,  15.1295,20070713,2341
  33RO20070710,GOMECC,    16,  1,   1609,      9,2,20070713,2329, 27.9168, -90.0000,  665,    211.2,  16.6670,  36.2180,2,  36.2100,2,    134.1,2,    141.2,2,     4.50,2,    12.80,2,     0.06,2,     0.78,2,      0.1,2, -999.000,9, -999.000,9, -999.000,9,   2158.6,2,   2376.2,2,    552.6,2,       20,     53.0,2,  16.6323,20070713,2343
  33RO20070710,GOMECC,    16,  1,   1610,     10,2,20070713,2329, 27.9168, -90.0000,  665,    172.1,  18.5360,  36.4640,2,  36.4540,2,    140.3,2,    146.0,2,     3.30,2,     9.80,2,     0.06,2,     0.55,2,     0.11,2, -999.000,9, -999.000,9, -999.000,9,   2149.6,2,   2390.9,2,    491.4,2,       20,   -999.0,9,  18.5056,20070713,2345
  33RO20070710,GOMECC,    16,  1,   1611,     11,2,20070713,2329, 27.9168, -90.0000,  665,    132.1,  20.1030,  36.5220,2,  36.5280,2,    180.8,2,    186.6,2,     1.40,2,     2.70,2,     0.06,2,     0.13,2,     0.12,2, -999.000,9, -999.000,9, -999.000,9,   2109.5,2,   2401.4,2,    385.3,2,       20,   -999.0,9,  20.0783,20070713,2347
  33RO20070710,GOMECC,    16,  1,   1612,     12,2,20070713,2329, 27.9168, -90.0000,  665,    100.8,  22.3630,  36.5220,2,  36.5720,4,    183.7,2,    185.9,2,     1.20,2,     1.70,2,     0.12,2,     0.11,2,      0.1,2, -999.000,9, -999.000,9, -999.000,9,   2097.3,2,   2404.5,2,    357.3,2,       20,   -999.0,9,  22.3427,20070713,2348
  33RO20070710,GOMECC,    16,  1,   1613,     13,2,20070713,2329, 27.9168, -90.0000,  665,     70.8,  24.2790,  36.4650,2,  36.4560,2,    201.0,2,    223.9,3,     0.90,2,     0.00,2,     0.08,2,     0.02,2,     0.09,2, -999.000,9, -999.000,9, -999.000,9,   2065.3,2,   2401.2,2,    310.0,2,       20,   -999.0,9,  24.2639,20070713,2350
  33RO20070710,GOMECC,    16,  1,   1614,     14,2,20070713,2329, 27.9168, -90.0000,  665,     50.7,  26.7480,  36.4460,2,  36.4500,2,    199.0,2,    209.4,2,     0.60,2,     0.00,2,     0.05,2,     0.01,2,     0.11,2, -999.000,9, -999.000,9, -999.000,9,   2043.0,2,   2393.7,2,    290.3,2,       20,   -999.0,9,  26.7364,20070713,2352
  33RO20070710,GOMECC,    16,  1,   1615,     15,2,20070713,2329, 27.9168, -90.0000,  665,     40.5,  27.3850,  36.3240,2,  36.3340,2,    190.8,2,    200.3,2,     0.70,2,     0.00,2,     0.04,2,     0.01,2,     0.12,2, -999.000,9, -999.000,9, -999.000,9,   2033.0,2,   2381.6,2,    285.5,2,       20,   -999.0,9,  27.3756,20070713,2353
  33RO20070710,GOMECC,    16,  1,   1616,     16,2,20070713,2329, 27.9168, -90.0000,  665,     30.6,  28.2340,  36.2520,2,  36.2760,4,    192.8,2,    201.7,2,     0.70,2,     0.00,2,     0.05,2,     0.01,2,     0.17,2, -999.000,9, -999.000,9, -999.000,9,   2023.7,2,   2377.0,2,    278.7,2,       20,   -999.0,9,  28.2267,20070713,2354
  33RO20070710,GOMECC,    16,  1,   1617,     17,2,20070713,2329, 27.9168, -90.0000,  665,     20.4,  29.3530,  36.3100,2,  36.2920,4,    194.4,2,    204.2,2,     0.80,2,     0.00,2,     0.05,2,     0.00,2,     0.16,2, -999.000,9, -999.000,9, -999.000,9,   2020.0,2,   2382.2,2,    270.0,2,       20,   -999.0,9,  29.3480,20070713,2355
  33RO20070710,GOMECC,    16,  1,   1618,     18,2,20070713,2329, 27.9168, -90.0000,  665,     10.0,  29.6690,  36.3130,2,  36.3090,2,    194.2,2,    203.7,2,     0.90,2,     0.00,2,     0.08,2,     0.00,2,     0.08,2, -999.000,9, -999.000,9, -999.000,9,   2019.8,2,   2385.5,2,    267.4,2,       20,     74.3,2,  29.6665,20070713,2356
  33RO20070710,GOMECC,    16,  1,   1619,     19,2,20070713,2329, 27.9168, -90.0000,  665,      3.8,  30.3000,  36.3170,2,  36.3130,2,    189.9,2,    200.4,6,     0.80,2,     0.00,2,     0.07,2,     0.00,2,     0.13,2, -999.000,9, -999.000,9, -999.000,9,   2015.5,6,   2381.6,6,    265.1,2,       20,     62.8,2,  30.2990,20070713,2357