BOTTLE,20220922CCHSIOAMB
EXPOCODE,SECT_ID,STNNBR,CASTNO,SAMPNO,BTLNBR,BTLNBR_FLAG_W,DATE,TIME,LATITUDE,LONGITUDE,DEPTH,CTDPRS,CTDTMP,CTDSAL,CTDSAL_FLAG_W,SALNTY,SALNTY_FLAG_W,CTDOXY,CTDOXY_FLAG_W,OXYGEN,OXYGEN_FLAG_W,SILCAT,SILCAT_FLAG_W,NITRAT,NITRAT_FLAG_W,NITRIT,NITRIT_FLAG_W,PHSPHT,PHSPHT_FLAG_W,NH4,NH4_FLAG_W,CFC-11,CFC-11_FLAG_W,CFC-12,CFC-12_FLAG_W,CFC113,CFC113_FLAG_W,TCARBN,TCARBN_FLAG_W,ALKALI,ALKALI_FLAG_W,FCO2,FCO2_FLAG_W,FCO2TMP,DOC,DOC_FLAG_W,THETA,BTL_DATE,BTL_TIME
,,,,,,,,,,,METERS,DBAR,ITS-90,PSS-78,,PSS-78,,UMOL/KG,,UMOL/KG,,UMOL/KG,,UMOL/KG,,UMOL/KG,,UMOL/KG,,UMOL/KG,,PMOL/KG,,PMOL/KG,,PMOL/KG,,UMOL/KG,,UMOL/KG,,UATM,,DEG C,UMOL/KG,,DEG C,,
  33RO20070710,GOMECC,    43,  1,   4301,      1,2,20070721,0727, 30.8332, -79.4540,  790,    784.5,   8.2230,  35.0520,2,  35.0600,2,    127.9,2,    137.5,2,    18.00,2,    27.10,2,     0.01,2,     1.83,2,     0.16,2,    0.730,2,    0.500,2, -999.000,9,   2202.4,6,   2319.0,2,   -999.0,9,     -999,   -999.0,9,   8.1393,20070721,0727
  33RO20070710,GOMECC,    43,  1,   4303,      3,2,20070721,0727, 30.8332, -79.4540,  790,    702.4,   8.2510,  35.0480,2,  35.0540,2,    125.6,2,    132.5,2,    18.30,2,    27.30,2,     0.01,2,     1.85,2,     0.17,2,    0.470,2,    0.430,2, -999.000,9,   2204.3,2,   2319.4,2,   -999.0,9,     -999,   -999.0,9,   8.1762,20070721,0729
  33RO20070710,GOMECC,    43,  1,   4304,      4,2,20070721,0727, 30.8332, -79.4540,  790,    603.3,   9.8820,  35.1890,2,  35.2170,4,    113.9,2,    120.0,2,    14.70,2,    25.90,2,     0.01,2,     1.71,2,     0.17,2, -999.000,9, -999.000,9, -999.000,9,   2198.5,2,   2323.1,2,   -999.0,9,     -999,   -999.0,9,   9.8109,20070721,0732
  33RO20070710,GOMECC,    43,  1,   4305,      5,3,20070721,0727, 30.8332, -79.4540,  790,    501.7,  12.9680,  35.6640,2,-999.0000,1,    135.8,2,   -999.0,9,  -999.00,9,  -999.00,9,  -999.00,9,  -999.00,9,     -999,9, -999.000,9, -999.000,9, -999.000,9,   -999.0,9,   -999.0,9,   -999.0,9,     -999,   -999.0,9,  12.8979,20070721,0734
  33RO20070710,GOMECC,    43,  1,   4306,      6,2,20070721,0727, 30.8332, -79.4540,  790,    430.4,  14.9640,  35.9900,2,  36.0050,2,    150.4,2,    160.7,2,     5.10,2,    13.20,2,     0.00,2,     0.83,2,     0.17,2, -999.000,9, -999.000,9, -999.000,9,   2151.4,2,   2355.3,2,   -999.0,9,     -999,   -999.0,9,  14.8979,20070721,0736
  33RO20070710,GOMECC,    43,  1,   4307,      7,2,20070721,0727, 30.8332, -79.4540,  790,    370.9,  16.2670,  36.2210,2,  36.2450,4,    165.7,2,    176.9,6,     3.30,2,     9.50,2,     0.01,2,     0.58,2,     0.18,2, -999.000,9, -999.000,9, -999.000,9,   2133.3,2,   2375.2,2,   -999.0,9,     -999,   -999.0,9,  16.2068,20070721,0738
  33RO20070710,GOMECC,    43,  1,   4308,      8,2,20070721,0727, 30.8332, -79.4540,  790,    310.6,  17.8680,  36.5090,2,  36.5130,2,    182.7,2,    195.2,2,     1.90,2,     5.40,2,     0.00,2,     0.32,2,     0.16,2, -999.000,9, -999.000,9, -999.000,9,   2114.1,2,   2391.0,2,   -999.0,9,     -999,   -999.0,9,  17.8143,20070721,0740
  33RO20070710,GOMECC,    43,  1,   4309,      9,2,20070721,0727, 30.8332, -79.4540,  790,    260.1,  18.2990,  36.5770,2,  36.5830,2,    187.2,2,    199.3,2,     1.50,2,     4.10,2,     0.01,2,     0.25,2,     0.18,2, -999.000,9, -999.000,9, -999.000,9,   2107.2,2,   2393.4,2,   -999.0,9,     -999,   -999.0,9,  18.2533,20070721,0742
  33RO20070710,GOMECC,    43,  1,   4310,     10,2,20070721,0727, 30.8332, -79.4540,  790,    210.2,  18.9300,  36.6410,2,  36.6430,2,    188.5,2,    199.0,2,     1.20,2,     3.00,2,     0.01,2,     0.17,2,     0.17,2,    2.410,2,    1.600,2,    0.080,2,   2105.4,2,   2397.5,2,   -999.0,9,     -999,   -999.0,9,  18.8922,20070721,0744
  33RO20070710,GOMECC,    43,  1,   4311,     11,2,20070721,0727, 30.8332, -79.4540,  790,    170.3,  19.6310,  36.6330,2,  36.6490,2,    143.3,2,    153.6,2,     2.30,2,     6.90,2,     0.01,2,     0.37,2,     0.18,2, -999.000,9, -999.000,9, -999.000,9,   2139.5,2,   2398.0,2,   -999.0,9,     -999,   -999.0,9,  19.5996,20070721,0745
  33RO20070710,GOMECC,    43,  1,   4312,     12,9,20070721,0727, 30.8332, -79.4540,  790,    170.5,  19.6220,  36.6320,2,-999.0000,1,    143.2,2,   -999.0,9,  -999.00,9,  -999.00,9,  -999.00,9,  -999.00,9,     -999,9, -999.000,9, -999.000,9, -999.000,9,   -999.0,9,   -999.0,9,   -999.0,9,     -999,   -999.0,9,  19.5906,20070721,0745
  33RO20070710,GOMECC,    43,  1,   4313,     13,2,20070721,0727, 30.8332, -79.4540,  790,    129.9,  21.7990,  36.7790,2,  36.7850,2,    139.6,2,    148.9,2,     2.00,2,     5.50,2,     0.02,2,     0.30,2,     0.17,2,    1.920,2,    1.210,2,    0.050,2,   2133.6,6,   2404.7,2,   -999.0,9,     -999,   -999.0,9,  21.7733,20070721,0747
  33RO20070710,GOMECC,    43,  1,   4314,     14,2,20070721,0727, 30.8332, -79.4540,  790,     99.7,  24.5980,  36.6360,2,  36.6450,2,    165.1,2,    179.6,2,     1.20,2,     1.40,2,     0.05,2,     0.10,2,     0.19,2, -999.000,9, -999.000,9, -999.000,9,   2077.2,2,   2397.6,2,   -999.0,9,     -999,   -999.0,9,  24.5765,20070721,0748
  33RO20070710,GOMECC,    43,  1,   4315,     15,2,20070721,0727, 30.8332, -79.4540,  790,     70.5,  26.5040,  36.3370,2,  36.3420,2,    190.6,2,    216.3,2,     1.00,2,     0.00,2,     0.00,2,     0.03,2,      0.2,2, -999.000,9, -999.000,9, -999.000,9,   2028.5,2,   2377.4,2,   -999.0,9,     -999,   -999.0,9,  26.4880,20070721,0749
  33RO20070710,GOMECC,    43,  1,   4316,     16,2,20070721,0727, 30.8332, -79.4540,  790,     50.4,  27.9720,  36.1950,2,  36.2020,2,    191.4,2,    203.9,2,     1.20,2,     0.10,2,     0.00,2,     0.03,2,     0.18,2,    1.510,2,    1.120,2,    0.160,2,   2018.3,2,   2373.4,2,   -999.0,9,     -999,   -999.0,9,  27.9601,20070721,0750
  33RO20070710,GOMECC,    43,  1,   4317,     17,2,20070721,0727, 30.8332, -79.4540,  790,     39.6,  28.8200,  36.1500,2,  36.1570,2,    190.7,2,    202.8,2,     1.20,2,     0.10,2,     0.01,2,     0.03,2,     0.18,2, -999.000,9, -999.000,9, -999.000,9,   2007.8,2,   2371.1,2,   -999.0,9,     -999,   -999.0,9,  28.8104,20070721,0752
  33RO20070710,GOMECC,    43,  1,   4318,     18,2,20070721,0727, 30.8332, -79.4540,  790,     29.9,  29.1720,  36.1450,2,  36.1530,2,    189.6,2,    205.3,2,     1.30,2,     0.00,2,     0.00,2,     0.02,2,     0.15,2, -999.000,9, -999.000,9, -999.000,9,   2007.4,2,   2369.6,2,   -999.0,9,     -999,   -999.0,9,  29.1647,20070721,0753
  33RO20070710,GOMECC,    43,  1,   4319,     19,2,20070721,0727, 30.8332, -79.4540,  790,     20.1,  29.9420,  36.1960,2,  36.1980,2,    183.6,2,    195.7,2,     1.20,2,     0.00,2,     0.00,2,     0.01,2,     0.15,2, -999.000,9, -999.000,9, -999.000,9,   2003.0,2,   2369.9,2,   -999.0,9,     -999,   -999.0,9,  29.9370,20070721,0754
  33RO20070710,GOMECC,    43,  1,   4320,     20,2,20070721,0727, 30.8332, -79.4540,  790,      9.9,  29.9370,  36.1960,2,  36.2030,2,    183.4,2,    195.3,2,     1.20,2,     0.00,2,     0.00,2,     0.01,2,     0.15,2,    1.500,2,    1.230,2,    0.160,2,   2003.2,2,   2372.1,2,   -999.0,9,     -999,   -999.0,9,  29.9345,20070721,0755
  33RO20070710,GOMECC,    43,  1,   4321,     21,2,20070721,0727, 30.8332, -79.4540,  790,      3.6,  29.9350,  36.1960,2,  36.2030,2,    183.3,2,    194.9,2,     1.20,2,     0.00,2,     0.00,2,     0.00,2,     0.15,2,    1.380,2,    0.960,2,    0.130,2,   2003.9,6,   2371.9,2,   -999.0,9,     -999,     67.5,2,  29.9341,20070721,0756
  33RO20070710,GOMECC,    43,  1,   4322,     22,9,20070721,0727, 30.8332, -79.4540,  790,      3.8,  29.9400,  36.1950,2,-999.0000,1,    183.6,2,   -999.0,9,  -999.00,9,  -999.00,9,  -999.00,9,  -999.00,9,     -999,9, -999.000,9, -999.000,9, -999.000,9,   -999.0,9,   -999.0,9,   -999.0,9,     -999,   -999.0,9,  29.9391,20070721,0756
  33RO20070710,GOMECC,    43,  1,   4323,     23,9,20070721,0727, 30.8332, -79.4540,  790,      3.9,  29.9420,  36.1950,2,-999.0000,1,    183.7,2,   -999.0,9,  -999.00,9,  -999.00,9,  -999.00,9,  -999.00,9,     -999,9, -999.000,9, -999.000,9, -999.000,9,   -999.0,9,   -999.0,9,   -999.0,9,     -999,   -999.0,9,  29.9410,20070721,0756
  33RO20070710,GOMECC,    43,  1,   4324,     24,9,20070721,0727, 30.8332, -79.4540,  790,      3.7,  29.9430,  36.1950,2,-999.0000,1,    183.7,2,   -999.0,9,  -999.00,9,  -999.00,9,  -999.00,9,  -999.00,9,     -999,9, -999.000,9, -999.000,9, -999.000,9,   -999.0,9,   -999.0,9,   -999.0,9,     -999,   -999.0,9,  29.9421,20070721,0756
  33RO20070710,GOMECC,    44,  1,   4401,      1,3,20070721,1121, 30.6933, -78.9993,  801,    800.8,   9.2970,  35.2120,2,  35.2200,2,    135.2,2,    141.3,2,    15.00,3,    24.20,3,     0.01,3,     1.60,3,     0.19,3,    0.910,2,    0.490,2, -999.000,9,   2196.6,2,   2325.1,2,    829.5,2,       20,   -999.0,9,   9.2050,20070721,1121
  33RO20070710,GOMECC,    44,  1,   4403,      3,2,20070721,1121, 30.6933, -78.9993,  801,    700.7,  11.4830,  35.4700,2,  35.4680,2,    136.0,2,    143.9,2,    10.70,2,    20.70,2,     0.01,2,     1.35,2,     0.18,2, -999.000,9, -999.000,9, -999.000,9,   2177.7,2,   2333.2,2,    724.7,2,       20,   -999.0,9,  11.3918,20070721,1124
  33RO20070710,GOMECC,    44,  1,   4404,      4,2,20070721,1121, 30.6933, -78.9993,  801,    600.5,  14.5680,  35.9280,2,  35.9230,2,    152.2,2,    160.2,2,     5.70,2,    14.00,2,     0.01,2,     0.89,2,     0.18,2,    2.140,2,    1.190,2,    0.130,2,   2152.6,2,   2352.1,2,    564.8,2,       20,   -999.0,9,  14.4770,20070721,1126
  33RO20070710,GOMECC,    44,  1,   4405,      5,2,20070721,1121, 30.6933, -78.9993,  801,    500.1,  16.6410,  36.2750,2,  36.2810,2,    164.1,2,    174.6,2,     3.30,2,     9.30,2,     0.01,2,     0.57,2,     0.17,2, -999.000,9, -999.000,9, -999.000,9,   2132.8,2,   2377.9,2,    467.2,2,       20,   -999.0,9,  16.5583,20070721,1128
  33RO20070710,GOMECC,    44,  1,   4406,      6,2,20070721,1121, 30.6933, -78.9993,  801,    429.7,  17.6280,  36.4570,2,  36.4610,2,    176.8,2,    188.2,2,     2.30,2,     6.40,2,     0.01,2,     0.39,2,     0.18,2,    2.150,2,    1.410,2,    0.010,2,   2119.4,2,   2384.6,2,    420.9,2,       20,   -999.0,9,  17.5542,20070721,1130
  33RO20070710,GOMECC,    44,  1,   4407,      7,2,20070721,1121, 30.6933, -78.9993,  801,    369.9,  18.1550,  36.5590,2,  36.5650,2,    187.8,2,    200.1,2,     1.70,2,     4.40,2,     0.01,2,     0.26,2,     0.19,2,    2.150,2,    1.500,2,    0.020,2,   2107.4,2,   2392.7,2,    390.1,2,       20,   -999.0,9,  18.0902,20070721,1132
  33RO20070710,GOMECC,    44,  1,   4408,      8,2,20070721,1121, 30.6933, -78.9993,  801,    310.6,  18.4340,  36.5900,2,  36.5960,2,    186.1,2,    198.5,6,     1.50,2,     3.90,2,     0.01,2,     0.22,2,     0.21,2, -999.000,9, -999.000,9, -999.000,9,   2106.7,2,   2395.1,2,    386.0,2,       20,   -999.0,9,  18.3791,20070721,1134
  33RO20070710,GOMECC,    44,  1,   4409,      9,2,20070721,1121, 30.6933, -78.9993,  801,    260.7,  18.6940,  36.6190,2,  36.6250,2,    186.1,2,    198.3,2,     1.30,2,     3.40,2,     0.01,2,     0.17,2,     0.19,2, -999.000,9, -999.000,9, -999.000,9,   2105.2,2,   2396.7,2,    380.7,2,       20,   -999.0,9,  18.6475,20070721,1135
  33RO20070710,GOMECC,    44,  1,   4410,     10,2,20070721,1121, 30.6933, -78.9993,  801,    210.2,  19.2380,  36.6660,2,  36.6740,2,    188.7,2,    201.5,2,     1.10,2,     1.60,2,     0.10,2,     0.07,2,     0.18,2,    2.450,2,    1.550,2,    0.170,2,   2098.7,2,   2398.6,2,    366.2,2,       20,   -999.0,9,  19.1998,20070721,1137
  33RO20070710,GOMECC,    44,  1,   4411,     11,2,20070721,1121, 30.6933, -78.9993,  801,    169.7,  20.5310,  36.6840,2,  36.6900,2,    220.8,2,    235.3,2,     0.80,2,     0.00,2,     0.00,2,     0.03,2,     0.19,2, -999.000,9, -999.000,9, -999.000,9,   2069.2,2,   2401.8,2,    315.6,2,       20,   -999.0,9,  20.4987,20070721,1138
  33RO20070710,GOMECC,    44,  1,   4412,     12,4,20070721,1121, 30.6933, -78.9993,  801,    129.9,  23.4220,  36.6910,2,-999.0000,9,    207.8,2,   -999.0,9,  -999.00,9,  -999.00,9,  -999.00,9,  -999.00,9,     -999,9, -999.000,9, -999.000,9, -999.000,9,   -999.0,9,   -999.0,9,   -999.0,9,     -999,   -999.0,9,  23.3949,20070721,1139
  33RO20070710,GOMECC,    44,  1,   4413,     13,2,20070721,1121, 30.6933, -78.9993,  801,    100.2,  24.5330,  36.6310,2,  36.6380,2,    183.7,2,    195.9,2,     1.10,2,     0.10,2,     0.01,2,     0.02,2,     0.19,2, -999.000,9, -999.000,9, -999.000,9,   2065.5,6,   2400.2,2,    309.4,2,       20,   -999.0,9,  24.5114,20070721,1141
  33RO20070710,GOMECC,    44,  1,   4414,     14,2,20070721,1121, 30.6933, -78.9993,  801,     70.6,  26.1020,  36.4280,2,  36.4360,2,    191.0,2,    204.1,2,     1.00,2,     0.00,2,     0.00,2,     0.02,2,     0.18,2,    1.770,2,    1.300,2,    0.020,2,   2039.7,2,   2387.1,2,    286.5,2,       20,   -999.0,9,  26.0861,20070721,1142
  33RO20070710,GOMECC,    44,  1,   4415,     15,2,20070721,1121, 30.6933, -78.9993,  801,     50.2,  27.3200,  36.2450,2,  36.2370,2,    190.8,2,    203.6,2,     1.20,2,     0.00,2,     0.00,2,     0.01,2,     0.19,2,    1.510,2,    1.170,2,    0.070,2,   2017.9,2,   2375.0,2,    272.4,2,       20,   -999.0,9,  27.3083,20070721,1143
  33RO20070710,GOMECC,    44,  1,   4416,     16,2,20070721,1121, 30.6933, -78.9993,  801,     40.2,  28.0110,  36.0920,2,  36.0960,2,    188.5,2,    201.4,2,     1.20,2,     0.00,2,     0.00,2,     0.00,2,     0.18,2, -999.000,9, -999.000,9, -999.000,9,   2007.5,2,   2369.0,2,    267.6,2,       20,   -999.0,9,  28.0015,20070721,1144
  33RO20070710,GOMECC,    44,  1,   4417,     17,2,20070721,1121, 30.6933, -78.9993,  801,     30.4,  28.8500,  36.1400,2,  36.1400,2,    185.4,2,    198.0,2,     1.20,2,     0.00,2,     0.00,2,     0.00,2,     0.19,2,    1.550,2,    1.200,2,    0.180,2,   2009.2,2,   2373.2,2,    266.2,2,       20,   -999.0,9,  28.8427,20070721,1144
  33RO20070710,GOMECC,    44,  1,   4418,     18,2,20070721,1121, 30.6933, -78.9993,  801,     20.1,  28.9340,  36.0830,2,  36.0640,4,    185.2,2,    197.7,2,     1.20,2,     0.00,2,     0.00,2,     0.01,2,     0.19,2, -999.000,9, -999.000,9, -999.000,9,   2003.7,2,   2358.9,2,    264.8,2,       20,   -999.0,9,  28.9291,20070721,1145
  33RO20070710,GOMECC,    44,  1,   4419,     19,2,20070721,1121, 30.6933, -78.9993,  801,     10.2,  28.7820,  35.9500,2,  35.9740,4,    185.7,2,    198.2,2,     1.20,2,     0.00,2,     0.00,2,     0.01,2,      0.2,2, -999.000,9, -999.000,9, -999.000,9,   1997.7,2,   2354.1,2,    263.7,2,       20,   -999.0,9,  28.7795,20070721,1146
  33RO20070710,GOMECC,    44,  1,   4420,     20,2,20070721,1121, 30.6933, -78.9993,  801,      4.1,  28.7420,  35.9330,2,-999.0000,9,    185.6,2,    198.3,2,     1.20,2,     0.00,2,     0.00,2,     0.00,2,      0.2,2,    1.550,2,    1.000,2,    0.090,2,   1996.0,6,   2351.6,2,    263.2,2,       20,     66.8,2,  28.7410,20070721,1147