BOTTLE,20220922CCHSIOAMB
# Copied DATE/TIME to BTL_DATE/BTL_TIME, set DATE and TIME to deepest bottle
#BOTTLE,20130712CCHSIOCBG
# NITRAT at stn 29, cast 1, btl 1 flag changed from 2 to 9
# NITRAT at stn 29, cast 1, btl 3 flag changed from 9 to 2 
#BOTTLE,20130214PRINUNIVRMK
# 3/14/2012 Initialized README file  
# Data source: SHIP: Ron Brown 
# Cruise: RB-07-05; GOMECC2007 
# Region: Gulf of Mexico and U.S. east coast 
# EXPOCODE: 33RO20070710 
# DATES: 7/10 - 8/4/2007 
# Chief Scientist: T.-H. Peng and C. Langdon 
# 90 stations with 24 place Rosette 
# Hydro: Who - T.-H.Peng; Status - final 
# 	Notes: 	 
# Nuts: Who - C.Fischer; Status - final 
# 	Notes: 
# O2: Who - C.Langdon; Status - final 
# 	Notes: 
# TCO2: Who - R.Wanninkhof; Status - final 
# 	Notes:  
# TA: Who - R.Wanninkhof; Status - final 
# 	Notes:  
# pH: Who - R.Wanninkhof; Status - final 
# 	Notes:  
# pCO2: Who - R.Wanninkhof; Status - final 
# 	Notes:  
# CFC: Who - S.Yvon-Lewis; Status - final 
# 	Notes:  
# DOC: Who - J.Salisbury, P.Vlahos; Status - final 
# 	Notes: 
# C13: Who - P.Vlahos; Status - unknown 
# 	Notes: no data in file 
# References: 
# Wanninkhof, R., J.-Z. Zhang, M. Baringer, C. Langdon, W.-J. Cai, J. Salisbury, and R. Byrne. 2011.  Carbon dioxide and hydrographic measurements during the 2007 NACP East Coast Cruise.  http://cdiac.ornl.gov/ftp/oceans/NACP_East_Coast_Cruise/. Carbon Dioxide Information Analysis Center, Oak Ridge National Laboratory, US Department of Energy, Oak Ridge, Tennessee. doi: 10.3334/CDIAC/otg.CLIVAR_NACP_East_Coast_Cruise_2007 
EXPOCODE,SECT_ID,STNNBR,CASTNO,SAMPNO,BTLNBR,BTLNBR_FLAG_W,DATE,TIME,LATITUDE,LONGITUDE,DEPTH,CTDPRS,CTDTMP,CTDSAL,CTDSAL_FLAG_W,SALNTY,SALNTY_FLAG_W,CTDOXY,CTDOXY_FLAG_W,OXYGEN,OXYGEN_FLAG_W,SILCAT,SILCAT_FLAG_W,NITRAT,NITRAT_FLAG_W,NITRIT,NITRIT_FLAG_W,PHSPHT,PHSPHT_FLAG_W,NH4,NH4_FLAG_W,CFC-11,CFC-11_FLAG_W,CFC-12,CFC-12_FLAG_W,CFC113,CFC113_FLAG_W,TCARBN,TCARBN_FLAG_W,ALKALI,ALKALI_FLAG_W,FCO2,FCO2_FLAG_W,FCO2TMP,DOC,DOC_FLAG_W,THETA,BTL_DATE,BTL_TIME
,,,,,,,,,,,METERS,DBAR,ITS-90,PSS-78,,PSS-78,,UMOL/KG,,UMOL/KG,,UMOL/KG,,UMOL/KG,,UMOL/KG,,UMOL/KG,,UMOL/KG,,PMOL/KG,,PMOL/KG,,PMOL/KG,,UMOL/KG,,UMOL/KG,,UATM,,DEG C,UMOL/KG,,DEG C,,
  33RO20070710,GOMECC,     1,  1,    101,      1,2,20070711,0419, 28.9979, -94.9994,   18,     13.6,  26.6140,  36.0000,2,-999.0000,9,    114.4,2,    115.4,6,  -999.00,9,  -999.00,9,  -999.00,9,  -999.00,9,     -999,9, -999.000,9, -999.000,9, -999.000,9,   -999.0,9,   -999.0,9,   -999.0,9,     -999,   -999.0,9,  26.6109,20070711,0419
  33RO20070710,GOMECC,     1,  1,    103,      3,9,20070711,0419, 28.9979, -94.9994,   18,     13.5,  26.6240,  35.9880,2,-999.0000,9,    113.8,2,   -999.0,9,  -999.00,9,  -999.00,9,  -999.00,9,  -999.00,9,     -999,9, -999.000,9, -999.000,9, -999.000,9,   -999.0,9,   -999.0,9,   -999.0,9,     -999,   -999.0,9,  26.6209,20070711,0419
  33RO20070710,GOMECC,     1,  1,    104,      4,9,20070711,0419, 28.9979, -94.9994,   18,     13.6,  26.6180,  35.9950,2,-999.0000,9,    114.1,2,   -999.0,9,  -999.00,9,  -999.00,9,  -999.00,9,  -999.00,9,     -999,9, -999.000,9, -999.000,9, -999.000,9,   -999.0,9,   -999.0,9,   -999.0,9,     -999,   -999.0,9,  26.6149,20070711,0420
  33RO20070710,GOMECC,     1,  1,    105,      5,2,20070711,0419, 28.9979, -94.9994,   18,     13.5,  26.6250,  35.9870,2,  35.9800,2,    114.1,2,   -999.0,9,    14.20,2,     1.50,2,     2.24,2,     0.49,2,     0.14,2, -999.000,9, -999.000,9, -999.000,9,   2151.2,3,   2416.6,2,    449.7,2,       20,    104.5,2,  26.6219,20070711,0420
  33RO20070710,GOMECC,     1,  1,    106,      6,9,20070711,0419, 28.9979, -94.9994,   18,     13.5,  26.6220,  35.9910,2,-999.0000,9,    114.3,2,   -999.0,9,  -999.00,9,  -999.00,9,  -999.00,9,  -999.00,9,     -999,9, -999.000,9, -999.000,9, -999.000,9,   -999.0,9,   -999.0,9,   -999.0,9,     -999,   -999.0,9,  26.6189,20070711,0420
  33RO20070710,GOMECC,     1,  1,    107,      7,2,20070711,0419, 28.9979, -94.9994,   18,     13.5,  26.6230,  35.9890,2,-999.0000,9,    113.7,2,   -999.0,9,  -999.00,9,  -999.00,9,  -999.00,9,  -999.00,9,     -999,9, -999.000,9, -999.000,9, -999.000,9,   -999.0,9,   -999.0,9,   -999.0,9,     -999,   -999.0,9,  26.6199,20070711,0420
  33RO20070710,GOMECC,     1,  1,    108,      8,9,20070711,0419, 28.9979, -94.9994,   18,     13.6,  26.6220,  35.9910,2,-999.0000,9,    113.4,2,   -999.0,9,  -999.00,9,  -999.00,9,  -999.00,9,  -999.00,9,     -999,9, -999.000,9, -999.000,9, -999.000,9,   -999.0,9,   -999.0,9,   -999.0,9,     -999,   -999.0,9,  26.6189,20070711,0420
  33RO20070710,GOMECC,     1,  1,    109,      9,9,20070711,0419, 28.9979, -94.9994,   18,     13.5,  26.6200,  35.9930,2,-999.0000,9,    113.8,2,   -999.0,9,  -999.00,9,  -999.00,9,  -999.00,9,  -999.00,9,     -999,9, -999.000,9, -999.000,9, -999.000,9,   -999.0,9,   -999.0,9,   -999.0,9,     -999,   -999.0,9,  26.6169,20070711,0420
  33RO20070710,GOMECC,     1,  1,    110,     10,9,20070711,0419, 28.9979, -94.9994,   18,     13.5,  26.6210,  35.9920,2,-999.0000,9,    114.6,2,   -999.0,9,  -999.00,9,  -999.00,9,  -999.00,9,  -999.00,9,     -999,9, -999.000,9, -999.000,9, -999.000,9,   -999.0,9,   -999.0,9,   -999.0,9,     -999,   -999.0,9,  26.6179,20070711,0420
  33RO20070710,GOMECC,     1,  1,    111,     11,9,20070711,0419, 28.9979, -94.9994,   18,     13.5,  26.6200,  35.9930,2,-999.0000,9,    114.3,2,   -999.0,9,  -999.00,9,  -999.00,9,  -999.00,9,  -999.00,9,     -999,9, -999.000,9, -999.000,9, -999.000,9,   -999.0,9,   -999.0,9,   -999.0,9,     -999,   -999.0,9,  26.6169,20070711,0421
  33RO20070710,GOMECC,     1,  1,    112,     12,9,20070711,0419, 28.9979, -94.9994,   18,     13.5,  26.6180,  35.9940,2,-999.0000,9,    114.2,2,   -999.0,9,  -999.00,9,  -999.00,9,  -999.00,9,  -999.00,9,     -999,9, -999.000,9, -999.000,9, -999.000,9,   -999.0,9,   -999.0,9,   -999.0,9,     -999,   -999.0,9,  26.6149,20070711,0421
  33RO20070710,GOMECC,     1,  1,    113,     13,2,20070711,0419, 28.9979, -94.9994,   18,      4.0,  29.0720,  30.1300,2,-999.0000,9,    215.5,2,    219.5,6,  -999.00,9,  -999.00,9,  -999.00,9,  -999.00,9,     -999,9, -999.000,9, -999.000,9, -999.000,9,   -999.0,9,   -999.0,9,   -999.0,9,     -999,   -999.0,9,  29.0710,20070711,0423
  33RO20070710,GOMECC,     1,  1,    114,     14,4,20070711,0419, 28.9979, -94.9994,   18,      4.1,  29.0760,  30.1280,2,-999.0000,9,    215.6,2,   -999.0,9,  -999.00,9,  -999.00,9,  -999.00,9,  -999.00,9,     -999,9, -999.000,9, -999.000,9, -999.000,9,   -999.0,9,   -999.0,9,   -999.0,9,     -999,    185.4,2,  29.0750,20070711,0424
  33RO20070710,GOMECC,     1,  1,    115,     15,2,20070711,0419, 28.9979, -94.9994,   18,      4.0,  29.0780,  30.1320,2,  30.1370,2,    215.5,2,   -999.0,9,     7.70,2,     0.00,2,     0.04,2,     0.16,2,     0.19,2, -999.000,9, -999.000,9, -999.000,9,   1995.0,2,   2356.7,2,    236.5,2,       20,   -999.0,9,  29.0770,20070711,0424
  33RO20070710,GOMECC,     1,  1,    116,     16,9,20070711,0419, 28.9979, -94.9994,   18,      4.0,  29.0710,  30.1290,2,-999.0000,9,    215.4,2,   -999.0,9,  -999.00,9,  -999.00,9,  -999.00,9,  -999.00,9,     -999,9, -999.000,9, -999.000,9, -999.000,9,   -999.0,9,   -999.0,9,   -999.0,9,     -999,   -999.0,9,  29.0700,20070711,0424
  33RO20070710,GOMECC,     1,  1,    117,     17,9,20070711,0419, 28.9979, -94.9994,   18,      4.0,  29.0720,  30.1280,2,-999.0000,9,    215.4,2,   -999.0,9,  -999.00,9,  -999.00,9,  -999.00,9,  -999.00,9,     -999,9, -999.000,9, -999.000,9, -999.000,9,   -999.0,9,   -999.0,9,   -999.0,9,     -999,   -999.0,9,  29.0710,20070711,0424
  33RO20070710,GOMECC,     1,  1,    118,     18,9,20070711,0419, 28.9979, -94.9994,   18,      3.8,  29.0720,  30.1250,2,-999.0000,9,    215.6,2,   -999.0,9,  -999.00,9,  -999.00,9,  -999.00,9,  -999.00,9,     -999,9, -999.000,9, -999.000,9, -999.000,9,   -999.0,9,   -999.0,9,   -999.0,9,     -999,   -999.0,9,  29.0711,20070711,0424
  33RO20070710,GOMECC,     1,  1,    119,     19,9,20070711,0419, 28.9979, -94.9994,   18,      4.1,  29.0830,  30.1400,2,  30.1430,2,    215.6,2,   -999.0,9,  -999.00,9,  -999.00,9,  -999.00,9,  -999.00,9,     -999,9, -999.000,9, -999.000,9, -999.000,9,   -999.0,9,   -999.0,9,   -999.0,9,     -999,   -999.0,9,  29.0820,20070711,0424
  33RO20070710,GOMECC,     1,  1,    120,     20,9,20070711,0419, 28.9979, -94.9994,   18,      4.0,  29.0770,  30.1240,2,-999.0000,9,    215.7,2,   -999.0,9,  -999.00,9,  -999.00,9,  -999.00,9,  -999.00,9,     -999,9, -999.000,9, -999.000,9, -999.000,9,   -999.0,9,   -999.0,9,   -999.0,9,     -999,   -999.0,9,  29.0760,20070711,0424
  33RO20070710,GOMECC,     1,  1,    121,     21,9,20070711,0419, 28.9979, -94.9994,   18,      4.0,  29.0860,  30.1300,2,-999.0000,9,    215.9,2,   -999.0,9,  -999.00,9,  -999.00,9,  -999.00,9,  -999.00,9,     -999,9, -999.000,9, -999.000,9, -999.000,9,   -999.0,9,   -999.0,9,   -999.0,9,     -999,   -999.0,9,  29.0850,20070711,0425
  33RO20070710,GOMECC,     1,  1,    122,     22,9,20070711,0419, 28.9979, -94.9994,   18,      3.9,  29.0750,  30.1250,2,-999.0000,9,    215.7,2,   -999.0,9,  -999.00,9,  -999.00,9,  -999.00,9,  -999.00,9,     -999,9, -999.000,9, -999.000,9, -999.000,9,   -999.0,9,   -999.0,9,   -999.0,9,     -999,   -999.0,9,  29.0741,20070711,0425
  33RO20070710,GOMECC,     1,  1,    123,     23,2,20070711,0419, 28.9979, -94.9994,   18,      4.0,  29.0780,  30.1260,2,-999.0000,9,    215.8,2,   -999.0,9,  -999.00,9,  -999.00,9,  -999.00,9,  -999.00,9,     -999,9, -999.000,9, -999.000,9, -999.000,9,   -999.0,9,   -999.0,9,   -999.0,9,     -999,   -999.0,9,  29.0770,20070711,0425
  33RO20070710,GOMECC,     1,  1,    124,     24,2,20070711,0419, 28.9979, -94.9994,   18,      4.1,  29.0760,  30.1310,2,-999.0000,9,    215.9,2,   -999.0,9,  -999.00,9,  -999.00,9,  -999.00,9,  -999.00,9,     -999,9, -999.000,9, -999.000,9, -999.000,9,   -999.0,9,   -999.0,9,   -999.0,9,     -999,   -999.0,9,  29.0750,20070711,0425
  33RO20070710,GOMECC,     2,  1,    201,      1,2,20070711,0720, 28.6838, -94.9997,   27,     17.2,  27.3980,  34.3310,2,  33.9040,4,    137.4,2,    156.3,3,     3.60,2,     0.80,2,     0.58,2,     0.12,2,     0.17,2,    1.870,2,    1.480,2,    0.030,2,   2105.2,3,   2405.9,2,    352.1,2,       20,     97.8,2,  27.3940,20070711,0720
  33RO20070710,GOMECC,     2,  1,    203,      3,2,20070711,0720, 28.6838, -94.9997,   27,     17.1,  27.4800,  34.1720,2,-999.0000,9,    136.8,2,   -999.0,9,  -999.00,9,  -999.00,9,  -999.00,9,  -999.00,9,     -999,9, -999.000,9, -999.000,9, -999.000,9,   -999.0,9,   -999.0,9,   -999.0,9,     -999,   -999.0,9,  27.4760,20070711,0721
  33RO20070710,GOMECC,     2,  1,    204,      4,2,20070711,0720, 28.6838, -94.9997,   27,     10.4,  28.7430,  32.2140,2,  32.1440,4,    202.5,2,    202.8,2,     0.90,2,     0.50,2,     0.03,2,     0.10,2,     0.17,2,    1.990,2,    1.710,2,    0.220,2,   2011.2,2,   2377.7,2,    248.9,2,       20,     98.4,2,  28.7405,20070711,0724
  33RO20070710,GOMECC,     2,  1,    205,      5,2,20070711,0720, 28.6838, -94.9997,   27,     10.4,  28.7080,  32.2820,2,-999.0000,9,    202.3,2,   -999.0,9,  -999.00,9,  -999.00,9,  -999.00,9,  -999.00,9,     -999,9, -999.000,9, -999.000,9, -999.000,9,   -999.0,9,   -999.0,9,   -999.0,9,     -999,   -999.0,9,  28.7055,20070711,0724
  33RO20070710,GOMECC,     2,  1,    206,      6,2,20070711,0720, 28.6838, -94.9997,   27,      4.1,  29.3350,  28.2180,2,  28.3810,4,    211.9,2,    214.2,2,     6.20,2,     0.00,2,     0.04,2,     0.12,2,     0.19,2,    4.500,2,    1.520,2,    0.010,2,   1931.0,3,   2306.0,2,    203.5,2,       20,    165.2,2,  29.3340,20070711,0726
  33RO20070710,GOMECC,     2,  1,    207,      7,9,20070711,0720, 28.6838, -94.9997,   27,      4.1,  29.3340,  28.2190,2,-999.0000,9,    211.8,2,   -999.0,9,  -999.00,9,  -999.00,9,  -999.00,9,  -999.00,9,     -999,9, -999.000,9, -999.000,9, -999.000,9,   -999.0,9,   -999.0,9,   -999.0,9,     -999,   -999.0,9,  29.3330,20070711,0726
  33RO20070710,GOMECC,     2,  1,    208,      8,9,20070711,0720, 28.6838, -94.9997,   27,      4.2,  29.3360,  28.2190,2,-999.0000,9,    211.8,2,   -999.0,9,  -999.00,9,  -999.00,9,  -999.00,9,  -999.00,9,     -999,9, -999.000,9, -999.000,9, -999.000,9,   -999.0,9,   -999.0,9,   -999.0,9,     -999,   -999.0,9,  29.3350,20070711,0726
  33RO20070710,GOMECC,     2,  1,    209,      9,9,20070711,0720, 28.6838, -94.9997,   27,      4.0,  29.3380,  28.2210,2,-999.0000,9,    212.0,2,   -999.0,9,  -999.00,9,  -999.00,9,  -999.00,9,  -999.00,9,     -999,9, -999.000,9, -999.000,9, -999.000,9,   -999.0,9,   -999.0,9,   -999.0,9,     -999,   -999.0,9,  29.3370,20070711,0726
  33RO20070710,GOMECC,     2,  1,    210,     10,9,20070711,0720, 28.6838, -94.9997,   27,      4.2,  29.3310,  28.2140,2,-999.0000,9,    211.8,2,   -999.0,9,  -999.00,9,  -999.00,9,  -999.00,9,  -999.00,9,     -999,9, -999.000,9, -999.000,9, -999.000,9,   -999.0,9,   -999.0,9,   -999.0,9,     -999,   -999.0,9,  29.3300,20070711,0726
  33RO20070710,GOMECC,     2,  1,    211,     11,9,20070711,0720, 28.6838, -94.9997,   27,      4.1,  29.3280,  28.2130,2,-999.0000,9,    212.0,2,   -999.0,9,  -999.00,9,  -999.00,9,  -999.00,9,  -999.00,9,     -999,9, -999.000,9, -999.000,9, -999.000,9,   -999.0,9,   -999.0,9,   -999.0,9,     -999,   -999.0,9,  29.3270,20070711,0726
  33RO20070710,GOMECC,     2,  1,    212,     12,9,20070711,0720, 28.6838, -94.9997,   27,      4.1,  29.3280,  28.2130,2,-999.0000,9,    211.9,2,   -999.0,9,  -999.00,9,  -999.00,9,  -999.00,9,  -999.00,9,     -999,9, -999.000,9, -999.000,9, -999.000,9,   -999.0,9,   -999.0,9,   -999.0,9,     -999,   -999.0,9,  29.3270,20070711,0726
  33RO20070710,GOMECC,     2,  1,    213,     13,2,20070711,0720, 28.6838, -94.9997,   27,      4.1,  29.3240,  28.2130,2,-999.0000,9,    211.8,2,   -999.0,9,  -999.00,9,  -999.00,9,  -999.00,9,  -999.00,9,     -999,9, -999.000,9, -999.000,9, -999.000,9,   -999.0,9,   -999.0,9,   -999.0,9,     -999,   -999.0,9,  29.3230,20070711,0726
  33RO20070710,GOMECC,     2,  1,    214,     14,4,20070711,0720, 28.6838, -94.9997,   27,      4.2,  29.3320,  28.2150,2,-999.0000,9,    212.2,2,   -999.0,9,  -999.00,9,  -999.00,9,  -999.00,9,  -999.00,9,     -999,9, -999.000,9, -999.000,9, -999.000,9,   -999.0,9,   -999.0,9,   -999.0,9,     -999,   -999.0,9,  29.3310,20070711,0727
  33RO20070710,GOMECC,     3,  1,    301,      1,2,20070711,1052, 28.3325, -95.0007,   35,     31.4,  26.8380,  36.3660,2,  36.2910,4,    200.3,2,    204.3,2,     1.00,2,     0.00,2,     0.02,2,     0.04,2,     0.13,2,    1.980,2,    1.880,2,    0.250,2,   2067.2,2,   2414.1,2,    301.2,2,       20,    100.0,2,  26.8308,20070711,1052
  33RO20070710,GOMECC,     3,  1,    303,      3,9,20070711,1052, 28.3325, -95.0007,   35,     31.5,  26.8220,  36.3670,2,-999.0000,9,    200.1,2,   -999.0,9,  -999.00,9,  -999.00,9,  -999.00,9,  -999.00,9,     -999,9, -999.000,9, -999.000,9, -999.000,9,   -999.0,9,   -999.0,9,   -999.0,9,     -999,   -999.0,9,  26.8148,20070711,1052
  33RO20070710,GOMECC,     3,  1,    304,      4,2,20070711,1052, 28.3325, -95.0007,   35,     19.5,  28.1720,  35.5550,2,  35.5700,2,    193.9,2,    202.0,2,     0.40,2,     0.00,2,     0.03,2,     0.03,2,     0.15,2,    1.580,2,    0.680,2,    0.050,2,   2065.3,2,   2417.5,2,    294.8,2,       20,   -999.0,9,  28.1674,20070711,1055
  33RO20070710,GOMECC,     3,  1,    305,      5,9,20070711,1052, 28.3325, -95.0007,   35,     19.5,  28.1700,  35.5690,2,  35.5700,2,    193.9,2,   -999.0,9,  -999.00,9,  -999.00,9,  -999.00,9,  -999.00,9,     -999,9, -999.000,9, -999.000,9, -999.000,9,   -999.0,9,   -999.0,9,   -999.0,9,     -999,   -999.0,9,  28.1654,20070711,1055
  33RO20070710,GOMECC,     3,  1,    306,      6,2,20070711,1052, 28.3325, -95.0007,   35,      9.3,  28.6340,  32.8130,2,  32.7780,2,    199.5,2,    206.3,2,     1.20,2,     0.10,2,     0.01,2,     0.04,2,     0.13,2,    1.480,2,    1.350,2,    0.120,2,   2028.6,2,   2385.8,2,    259.3,2,       20,    107.3,2,  28.6318,20070711,1057
  33RO20070710,GOMECC,     3,  1,    307,      7,9,20070711,1052, 28.3325, -95.0007,   35,      9.2,  28.6420,  32.7890,2,  32.7780,2,    199.7,2,   -999.0,9,  -999.00,9,  -999.00,9,  -999.00,9,  -999.00,9,     -999,9, -999.000,9, -999.000,9, -999.000,9,   -999.0,9,   -999.0,9,   -999.0,9,     -999,   -999.0,9,  28.6398,20070711,1057
  33RO20070710,GOMECC,     3,  1,    308,      8,2,20070711,1052, 28.3325, -95.0007,   35,      3.8,  28.6500,  32.7560,2,  32.7630,2,    199.2,2,    221.6,3,     0.40,2,     0.00,2,     0.03,2,     0.02,2,     0.14,2, -999.000,9, -999.000,9, -999.000,9,   2027.7,2,   2389.3,2,    257.2,2,       20,     85.4,2,  28.6491,20070711,1058
  33RO20070710,GOMECC,     3,  1,    309,      9,9,20070711,1052, 28.3325, -95.0007,   35,      4.1,  28.6510,  32.7560,2,-999.0000,9,    199.4,2,   -999.0,9,  -999.00,9,  -999.00,9,  -999.00,9,  -999.00,9,     -999,9, -999.000,9, -999.000,9, -999.000,9,   -999.0,9,   -999.0,9,   -999.0,9,     -999,   -999.0,9,  28.6500,20070711,1058
  33RO20070710,GOMECC,     3,  1,    310,     10,9,20070711,1052, 28.3325, -95.0007,   35,      4.1,  28.6530,  32.7550,2,-999.0000,9,    199.3,2,   -999.0,9,  -999.00,9,  -999.00,9,  -999.00,9,  -999.00,9,     -999,9, -999.000,9, -999.000,9, -999.000,9,   -999.0,9,   -999.0,9,   -999.0,9,     -999,   -999.0,9,  28.6520,20070711,1058
  33RO20070710,GOMECC,     3,  1,    311,     11,9,20070711,1052, 28.3325, -95.0007,   35,      4.0,  28.6530,  32.7560,2,-999.0000,9,    199.4,2,   -999.0,9,  -999.00,9,  -999.00,9,  -999.00,9,  -999.00,9,     -999,9, -999.000,9, -999.000,9, -999.000,9,   -999.0,9,   -999.0,9,   -999.0,9,     -999,   -999.0,9,  28.6520,20070711,1059
  33RO20070710,GOMECC,     3,  1,    312,     12,9,20070711,1052, 28.3325, -95.0007,   35,      4.3,  28.6530,  32.7560,2,-999.0000,9,    199.5,2,   -999.0,9,  -999.00,9,  -999.00,9,  -999.00,9,  -999.00,9,     -999,9, -999.000,9, -999.000,9, -999.000,9,   -999.0,9,   -999.0,9,   -999.0,9,     -999,   -999.0,9,  28.6520,20070711,1059
  33RO20070710,GOMECC,     3,  1,    313,     13,9,20070711,1052, 28.3325, -95.0007,   35,      4.1,  28.6530,  32.7560,2,-999.0000,9,    199.4,2,   -999.0,9,  -999.00,9,  -999.00,9,  -999.00,9,  -999.00,9,     -999,9, -999.000,9, -999.000,9, -999.000,9,   -999.0,9,   -999.0,9,   -999.0,9,     -999,   -999.0,9,  28.6520,20070711,1059
  33RO20070710,GOMECC,     3,  1,    314,     14,9,20070711,1052, 28.3325, -95.0007,   35,      4.0,  28.6520,  32.7560,2,-999.0000,9,    199.2,2,   -999.0,9,  -999.00,9,  -999.00,9,  -999.00,9,  -999.00,9,     -999,9, -999.000,9, -999.000,9, -999.000,9,   -999.0,9,   -999.0,9,   -999.0,9,     -999,   -999.0,9,  28.6510,20070711,1059