BOTTLE,20220922CCHSIOAMB
EXPOCODE,SECT_ID,STNNBR,CASTNO,SAMPNO,BTLNBR,BTLNBR_FLAG_W,DATE,TIME,LATITUDE,LONGITUDE,DEPTH,CTDPRS,CTDTMP,CTDSAL,CTDSAL_FLAG_W,SALNTY,SALNTY_FLAG_W,CTDOXY,CTDOXY_FLAG_W,OXYGEN,OXYGEN_FLAG_W,SILCAT,SILCAT_FLAG_W,NITRAT,NITRAT_FLAG_W,NITRIT,NITRIT_FLAG_W,PHSPHT,PHSPHT_FLAG_W,NH4,NH4_FLAG_W,CFC-11,CFC-11_FLAG_W,CFC-12,CFC-12_FLAG_W,CFC113,CFC113_FLAG_W,TCARBN,TCARBN_FLAG_W,ALKALI,ALKALI_FLAG_W,FCO2,FCO2_FLAG_W,FCO2TMP,DOC,DOC_FLAG_W,THETA,BTL_DATE,BTL_TIME
,,,,,,,,,,,METERS,DBAR,ITS-90,PSS-78,,PSS-78,,UMOL/KG,,UMOL/KG,,UMOL/KG,,UMOL/KG,,UMOL/KG,,UMOL/KG,,UMOL/KG,,PMOL/KG,,PMOL/KG,,PMOL/KG,,UMOL/KG,,UMOL/KG,,UATM,,DEG C,UMOL/KG,,DEG C,,
  33RO20070710,GOMECC,    17,  1,   1701,      1,2,20070714,0229, 27.7498, -90.0023,  835,    841.6,   5.7780,  34.9040,2,  34.9090,2,    150.9,2,    156.1,6,    23.90,2,    27.60,2,     0.11,2,     1.90,2,     0.06,2,    0.040,2,    0.020,2,    0.010,2,   2209.7,6,   2320.0,2,   -999.0,9,     -999,   -999.0,9,   5.7033,20070714,0229
  33RO20070710,GOMECC,    17,  1,   1703,      3,2,20070714,0229, 27.7498, -90.0023,  835,    705.9,   6.7230,  34.9020,2,  34.9080,2,    131.5,2,    135.3,2,    22.20,2,    29.20,2,     0.08,2,     2.00,2,     0.05,2, -999.000,9, -999.000,9, -999.000,9,   2212.3,2,   2316.1,2,   -999.0,9,     -999,   -999.0,9,   6.6560,20070714,0233
  33RO20070710,GOMECC,    17,  1,   1704,      4,2,20070714,0229, 27.7498, -90.0023,  835,    604.9,   7.9060,  34.9600,2,  34.9620,2,    119.4,2,    123.1,2,    19.20,2,    29.20,2,     0.06,2,     1.96,2,     0.06,2, -999.000,9, -999.000,9, -999.000,9,   2210.3,2,   2315.0,2,   -999.0,9,     -999,   -999.0,9,   7.8436,20070714,0235
  33RO20070710,GOMECC,    17,  1,   1705,      5,2,20070714,0229, 27.7498, -90.0023,  835,    504.1,   9.1880,  35.0850,2,  35.0830,2,    116.1,2,    119.6,2,    16.00,2,    27.50,2,     0.07,2,     1.83,2,     0.05,2, -999.000,9, -999.000,9, -999.000,9,   2205.1,2,   2318.0,2,   -999.0,9,     -999,   -999.0,9,   9.1315,20070714,0238
  33RO20070710,GOMECC,    17,  1,   1706,      6,2,20070714,0229, 27.7498, -90.0023,  835,    433.6,  10.3390,  35.2300,2,  35.2270,2,    117.3,2,    121.0,2,    13.50,2,    25.50,2,     0.07,2,     1.69,2,     0.14,2,    1.110,2,    0.750,2,    0.100,2,   2200.0,2,   2323.1,2,   -999.0,9,     -999,     40.9,2,  10.2869,20070714,0240
  33RO20070710,GOMECC,    17,  1,   1707,      7,2,20070714,0229, 27.7498, -90.0023,  835,    372.9,  11.4210,  35.3890,2,  35.3930,2,    118.8,2,    123.7,2,    11.40,2,    23.20,2,     0.07,2,     1.52,2,     0.06,2, -999.000,9, -999.000,9, -999.000,9,   2190.1,2,   2329.6,2,   -999.0,9,     -999,   -999.0,9,  11.3733,20070714,0242
  33RO20070710,GOMECC,    17,  1,   1708,      8,2,20070714,0229, 27.7498, -90.0023,  835,    311.4,  13.3910,  35.6980,2,  35.6820,4,    122.1,2,    127.5,2,     8.80,2,    19.70,2,     0.08,2,     1.27,2,     0.05,2, -999.000,9, -999.000,9, -999.000,9,   2181.4,2,   2340.8,2,   -999.0,9,     -999,   -999.0,9,  13.3468,20070714,0243
  33RO20070710,GOMECC,    17,  1,   1709,      9,2,20070714,0229, 27.7498, -90.0023,  835,    262.3,  14.7070,  35.9050,2,  35.9060,2,    131.2,2,    136.2,2,     6.50,2,    16.30,2,     0.05,2,     1.03,2,     0.05,2,    1.690,2,    1.520,2, -999.000,9,   2168.6,2,   2351.7,2,   -999.0,9,     -999,   -999.0,9,  14.6674,20070714,0245
  33RO20070710,GOMECC,    17,  1,   1710,     10,2,20070714,0229, 27.7498, -90.0023,  835,    210.9,  16.4140,  36.1800,2,  36.1770,2,    134.3,2,    138.3,2,     5.00,2,    13.30,2,     0.09,2,     0.83,2,     0.05,2, -999.000,9, -999.000,9, -999.000,9,   2159.7,2,   2373.4,2,   -999.0,9,     -999,   -999.0,9,  16.3797,20070714,0247
  33RO20070710,GOMECC,    17,  1,   1711,     11,2,20070714,0229, 27.7498, -90.0023,  835,    171.3,  18.1930,  36.4380,2,-999.0000,5,    140.5,2,    145.7,2,     3.30,2,    10.00,2,     0.07,2,     0.57,2,     0.05,2,    1.930,2,    1.730,2, -999.000,9,   2134.9,3,   2386.3,2,   -999.0,9,     -999,   -999.0,9,  18.1631,20070714,0248
  33RO20070710,GOMECC,    17,  1,   1712,     12,2,20070714,0229, 27.7498, -90.0023,  835,    131.3,  19.7370,  36.5260,2,  36.5180,2,    165.2,2,    189.9,3,     2.20,2,     5.40,2,     0.09,2,     0.30,2,     0.09,2, -999.000,9, -999.000,9, -999.000,9,   2124.3,2,   2399.8,2,   -999.0,9,     -999,   -999.0,9,  19.7128,20070714,0249
  33RO20070710,GOMECC,    17,  1,   1713,     13,2,20070714,0229, 27.7498, -90.0023,  835,    101.6,  21.4760,  36.6060,2,  36.5940,2,    168.5,2,    180.6,2,     1.60,2,     2.10,2,     0.34,2,     0.13,2,     0.08,2,    2.140,2,    2.260,2,    0.080,2,   2109.8,2,   2403.6,2,   -999.0,9,     -999,   -999.0,9,  21.4561,20070714,0252
  33RO20070710,GOMECC,    17,  1,   1714,     14,2,20070714,0229, 27.7498, -90.0023,  835,    101.6,  21.4760,  36.6060,2,-999.0000,9,    168.7,2,   -999.0,9,  -999.00,9,  -999.00,9,  -999.00,9,  -999.00,9,     -999,9, -999.000,9, -999.000,9, -999.000,9,   -999.0,9,   -999.0,9,   -999.0,9,     -999,   -999.0,9,  21.4561,20070714,0252
  33RO20070710,GOMECC,    17,  1,   1715,     15,2,20070714,0229, 27.7498, -90.0023,  835,     71.2,  24.5510,  36.5490,2,  36.5880,4,    167.0,2,    173.2,2,     1.30,2,     2.40,2,     0.20,2,     0.15,2,      0.1,2, -999.000,9, -999.000,9, -999.000,9,   2087.9,2,   2395.7,2,   -999.0,9,     -999,   -999.0,9,  24.5357,20070714,0254
  33RO20070710,GOMECC,    17,  1,   1716,     16,2,20070714,0229, 27.7498, -90.0023,  835,     51.4,  26.0980,  36.4660,2,  36.4680,2,    190.1,2,    198.8,2,     0.30,2,     0.00,2,     0.06,2,     0.02,2,     0.06,2,    1.650,2,    1.770,2, -999.000,9,   2048.2,2,   2389.8,2,   -999.0,9,     -999,   -999.0,9,  26.0864,20070714,0256
  33RO20070710,GOMECC,    17,  1,   1717,     17,2,20070714,0229, 27.7498, -90.0023,  835,     51.4,  26.0970,  36.4670,2,-999.0000,9,    189.8,2,   -999.0,9,  -999.00,9,  -999.00,9,  -999.00,9,  -999.00,9,     -999,9, -999.000,9, -999.000,9, -999.000,9,   -999.0,9,   -999.0,9,   -999.0,9,     -999,   -999.0,9,  26.0854,20070714,0256
  33RO20070710,GOMECC,    17,  1,   1718,     18,2,20070714,0229, 27.7498, -90.0023,  835,     40.8,  27.1310,  36.3210,2,  36.3490,4,    186.1,2,    194.3,2,     1.10,2,     0.00,2,     0.07,2,     0.01,2,     0.07,2,    1.530,2,    1.560,2,    0.230,2,   2038.4,2,   2384.5,2,   -999.0,9,     -999,   -999.0,9,  27.1216,20070714,0257
  33RO20070710,GOMECC,    17,  1,   1719,     19,2,20070714,0229, 27.7498, -90.0023,  835,     30.8,  27.7080,  36.2070,2,  36.2330,4,    192.3,2,    200.1,2,     1.10,2,     0.00,2,     0.02,2,     0.01,2,     0.07,2, -999.000,9, -999.000,9, -999.000,9,   2023.4,2,   2375.1,2,   -999.0,9,     -999,   -999.0,9,  27.7008,20070714,0259
  33RO20070710,GOMECC,    17,  1,   1720,     20,2,20070714,0229, 27.7498, -90.0023,  835,     20.6,  28.3870,  36.2090,2,  36.2080,2,    193.6,2,    201.7,2,     1.10,2,     0.00,2,     0.00,2,     0.01,2,     0.06,2,    2.090,2,    2.110,2,    0.260,2,   2020.2,2,   2378.2,2,   -999.0,9,     -999,   -999.0,9,  28.3821,20070714,0300
  33RO20070710,GOMECC,    17,  1,   1721,     21,2,20070714,0229, 27.7498, -90.0023,  835,     10.5,  30.3330,  36.2800,2,  36.2640,4,    187.6,2,    198.2,2,     1.20,2,     0.00,2,     0.01,2,     0.00,2,     0.08,2, -999.000,9, -999.000,9, -999.000,9,   2015.9,2,   2379.6,2,   -999.0,9,     -999,     62.5,2,  30.3304,20070714,0301
  33RO20070710,GOMECC,    17,  1,   1722,     22,2,20070714,0229, 27.7498, -90.0023,  835,      3.6,  30.3460,  36.2830,2,  36.2080,2,    187.9,2,    195.5,6,     1.30,2,     0.00,2,     0.04,2,     0.01,2,     0.07,2,    1.630,2,    1.400,2,    0.080,2,   2013.2,6,   2381.3,2,   -999.0,9,     -999,   -999.0,9,  30.3451,20070714,0302
  33RO20070710,GOMECC,    17,  1,   1723,     23,2,20070714,0229, 27.7498, -90.0023,  835,      3.6,  30.3600,  36.2820,2,-999.0000,9,    187.9,2,   -999.0,9,  -999.00,9,  -999.00,9,  -999.00,9,  -999.00,9,     -999,9, -999.000,9, -999.000,9, -999.000,9,   -999.0,9,   -999.0,9,   -999.0,9,     -999,   -999.0,9,  30.3591,20070714,0302
  33RO20070710,GOMECC,    17,  1,   1724,     24,2,20070714,0229, 27.7498, -90.0023,  835,      3.6,  30.3640,  36.2810,2,-999.0000,9,    188.0,2,   -999.0,9,  -999.00,9,  -999.00,9,  -999.00,9,  -999.00,9,     -999,9, -999.000,9, -999.000,9, -999.000,9,   -999.0,9,   -999.0,9,   -999.0,9,     -999,     74.0,2,  30.3631,20070714,0302
  33RO20070710,GOMECC,    18,  1,   1801,      1,2,20070714,0538, 27.5827, -90.0040, 1263,   1000.1,   5.0850,  34.9250,2,  34.9330,2,    170.0,2,    177.6,6,    25.70,2,    25.80,2,     0.13,2,     1.81,2,     0.22,3,    0.190,2,    0.160,2,    0.040,2,   2204.3,6,   2325.2,2,    897.0,2,       20,   -999.0,9,   5.0003,20070714,0538
  33RO20070710,GOMECC,    18,  1,   1803,      3,2,20070714,0538, 27.5827, -90.0040, 1263,    899.9,   5.4510,  34.9130,2,  34.9190,2,    158.9,2,    164.6,2,    25.30,2,    27.00,2,     0.12,2,     1.89,2,      0.2,3,    0.400,2,    0.300,2,    0.070,2,   2207.4,2,   2322.6,2,    930.3,2,       20,   -999.0,9,   5.3730,20070714,0541
  33RO20070710,GOMECC,    18,  1,   1804,      4,2,20070714,0538, 27.5827, -90.0040, 1263,    799.8,   5.9920,  34.8990,2,  34.9080,2,    145.7,2,    150.8,2,    24.40,2,    28.20,2,     0.11,2,     1.96,2,     0.26,3, -999.000,9, -999.000,9, -999.000,9,   2207.2,2,   2320.8,2,    965.9,2,       20,   -999.0,9,   5.9200,20070714,0544
  33RO20070710,GOMECC,    18,  1,   1805,      5,2,20070714,0538, 27.5827, -90.0040, 1263,    699.7,   6.7260,  34.9010,2,  34.9080,2,    131.4,2,    141.6,2,    22.90,2,    29.20,2,     0.12,2,     2.01,2,     0.29,3,    0.030,2,    0.110,2, -999.000,9,   2211.1,2,   2315.2,2,   1002.7,2,       20,   -999.0,9,   6.6596,20070714,0547
  33RO20070710,GOMECC,    18,  1,   1806,      6,2,20070714,0538, 27.5827, -90.0040, 1263,    599.7,   7.7890,  34.9510,2,  34.9550,2,    120.0,2,    124.0,2,    20.30,2,    29.40,2,     0.12,2,     2.00,2,     0.16,2,    0.200,2,    0.180,2, -999.000,9,   2208.8,2,   2314.9,2,   1003.2,2,       20,   -999.0,9,   7.7277,20070714,0549
  33RO20070710,GOMECC,    18,  1,   1807,      7,2,20070714,0538, 27.5827, -90.0040, 1263,    499.9,   9.0200,  35.0710,2,  35.0870,4,    114.8,2,    118.0,2,    17.20,2,    27.90,2,     0.10,2,     1.88,2,     0.13,2,    0.990,2,    0.740,2,    0.280,2,   2204.9,2,   2317.3,2,   -999.0,9,     -999,   -999.0,9,   8.9646,20070714,0552
  33RO20070710,GOMECC,    18,  1,   1808,      8,2,20070714,0538, 27.5827, -90.0040, 1263,    429.5,  10.2550,  35.2300,2,  35.2330,2,    114.9,2,    119.0,2,    14.40,2,    25.40,2,     0.09,2,     1.71,2,     0.08,2, -999.000,9, -999.000,9, -999.000,9,   2198.2,2,   2322.4,2,    883.3,2,       20,     41.2,2,  10.2036,20070714,0554
  33RO20070710,GOMECC,    18,  1,   1809,      9,2,20070714,0538, 27.5827, -90.0040, 1263,    370.0,  11.4890,  35.4050,2,  35.4030,2,    116.4,2,    120.8,2,    12.10,2,    23.10,2,     0.09,2,     1.53,2,     0.28,2,    1.430,2,    0.990,2, -999.000,9,   2191.3,2,   2329.8,2,    815.3,2,       20,   -999.0,9,  11.4415,20070714,0556
  33RO20070710,GOMECC,    18,  1,   1810,     10,2,20070714,0538, 27.5827, -90.0040, 1263,    310.1,  13.1200,  35.6570,2,  35.6620,2,    121.8,2,    126.5,2,     9.30,2,    19.70,2,     0.12,2,     1.29,2,     0.13,2, -999.000,9, -999.000,9, -999.000,9,   2180.7,2,   2339.4,2,    718.3,2,       20,   -999.0,9,  13.0766,20070714,0558
  33RO20070710,GOMECC,    18,  1,   1811,     11,2,20070714,0538, 27.5827, -90.0040, 1263,    261.1,  14.5190,  35.8790,2,  35.8770,2,    130.6,2,    136.0,2,     7.30,2,    16.50,2,     0.11,2,     1.05,2,     0.12,2, -999.000,9, -999.000,9, -999.000,9,   2169.9,2,   2348.1,2,    642.8,2,       20,   -999.0,9,  14.4800,20070714,0600
  33RO20070710,GOMECC,    18,  1,   1812,     12,2,20070714,0538, 27.5827, -90.0040, 1263,    209.9,  16.0590,  36.1290,2,  36.1320,2,    133.9,2,    136.5,2,     5.50,2,    13.60,2,     0.12,2,     0.85,2,      0.1,2, -999.000,9, -999.000,9, -999.000,9,   2161.2,2,   2369.7,2,    574.3,2,       20,   -999.0,9,  16.0254,20070714,0602
  33RO20070710,GOMECC,    18,  1,   1813,     13,2,20070714,0538, 27.5827, -90.0040, 1263,    169.5,  17.2640,  36.3100,2,  36.3110,2,    137.2,2,    144.5,2,     4.40,2,    11.30,2,     0.08,2,     0.67,2,     0.08,2,    2.710,2,    2.390,2,    0.130,2,   2153.4,2,   2381.5,2,    525.7,2,       20,   -999.0,9,  17.2355,20070714,0603
  33RO20070710,GOMECC,    18,  1,   1814,     14,2,20070714,0538, 27.5827, -90.0040, 1263,    130.4,  18.7970,  36.4680,2,  36.4690,2,    142.0,2,    147.8,2,     3.50,2,     9.00,2,     0.10,2,     0.51,2,     0.12,2,    2.390,2,    2.200,2,    0.060,2,   2146.4,2,   2392.2,2,    479.9,2,       20,   -999.0,9,  18.7737,20070714,0605
  33RO20070710,GOMECC,    18,  1,   1815,     15,2,20070714,0538, 27.5827, -90.0040, 1263,     99.8,  20.5150,  36.6680,2,  36.6780,2,    142.9,2,    149.3,2,     2.50,2,     6.70,2,     0.10,2,     0.37,2,     0.08,2,    2.330,2,    2.300,2, -999.000,9,   2138.1,2,   2400.0,2,    443.4,2,       20,   -999.0,9,  20.4961,20070714,0606
  33RO20070710,GOMECC,    18,  1,   1816,     16,2,20070714,0538, 27.5827, -90.0040, 1263,     69.7,  22.7720,  36.6270,2,  36.6270,2,    156.8,2,    164.1,2,     2.10,2,     4.10,2,     0.23,2,     0.24,2,     0.11,2, -999.000,9, -999.000,9, -999.000,9,   2109.7,2,   2399.3,2,    386.1,2,       20,   -999.0,9,  22.7578,20070714,0608
  33RO20070710,GOMECC,    18,  1,   1817,     17,2,20070714,0538, 27.5827, -90.0040, 1263,     49.6,  24.6280,  36.5030,2,  36.5800,4,    184.8,2,    187.9,2,     1.50,2,     0.90,2,     0.07,2,     0.10,2,     0.09,2,    1.920,2,    2.080,2,    0.100,2,   2075.7,2,   2396.4,2,    328.8,2,       20,   -999.0,9,  24.6173,20070714,0609
  33RO20070710,GOMECC,    18,  1,   1818,     18,2,20070714,0538, 27.5827, -90.0040, 1263,     39.8,  25.7700,  36.4640,2,  36.4570,2,    199.7,2,    214.7,2,     1.00,2,     0.00,2,     0.06,2,     0.01,2,     0.09,2, -999.000,9, -999.000,9, -999.000,9,   2053.4,2,   2395.6,2,    299.2,2,       20,   -999.0,9,  25.7611,20070714,0610
  33RO20070710,GOMECC,    18,  1,   1819,     19,2,20070714,0538, 27.5827, -90.0040, 1263,     30.0,  27.3200,  36.4180,2,  36.4210,2,    203.9,2,    212.2,2,     1.30,2,     0.00,2,     0.02,2,     0.00,2,     0.14,2,    1.850,2,    1.670,2,    0.090,2,   2049.0,2,   2402.4,2,    287.4,2,       20,   -999.0,9,  27.3130,20070714,0611
  33RO20070710,GOMECC,    18,  1,   1820,     20,2,20070714,0538, 27.5827, -90.0040, 1263,     20.2,  28.9270,  36.2820,2,  36.3300,2,    194.4,2,    205.6,2,     1.20,2,     0.00,2,     0.04,2,     0.00,2,      0.1,2,    1.560,2,    1.570,2,    0.050,2,   2029.7,2,   2386.9,2,    275.6,2,       20,   -999.0,9,  28.9221,20070714,0612
  33RO20070710,GOMECC,    18,  1,   1821,     21,2,20070714,0538, 27.5827, -90.0040, 1263,     10.5,  30.3540,  36.3380,2,  36.3340,6,    188.0,2,    196.3,6,     1.40,2,     0.00,2,     0.00,2,     0.00,2,     0.12,2, -999.000,9, -999.000,9, -999.000,9,   2024.4,2,   2389.8,2,    268.8,2,       20,     69.7,2,  30.3514,20070714,0613
  33RO20070710,GOMECC,    18,  1,   1822,     22,2,20070714,0538, 27.5827, -90.0040, 1263,      3.5,  30.6340,  36.2850,2,  36.2920,2,    187.2,2,    195.0,2,  -999.00,9,  -999.00,9,  -999.00,9,  -999.00,9,     -999,9,    2.230,2,    2.040,2,    0.260,2,   2028.5,6,   2394.8,2,    267.4,2,       20,     57.9,2,  30.6331,20070714,0614
  33RO20070710,GOMECC,    18,  1,   1823,     23,2,20070714,0538, 27.5827, -90.0040, 1263,      3.6,  30.6310,  36.2860,2,-999.0000,9,    187.1,2,   -999.0,9,  -999.00,9,  -999.00,9,  -999.00,9,  -999.00,9,     -999,9, -999.000,9, -999.000,9, -999.000,9,   -999.0,9,   -999.0,9,   -999.0,9,     -999,   -999.0,9,  30.6301,20070714,0615
  33RO20070710,GOMECC,    18,  1,   1824,     24,9,20070714,0538, 27.5827, -90.0040, 1263,      3.5,  30.6260,  36.2860,2,-999.0000,9,    187.2,2,   -999.0,9,  -999.00,9,  -999.00,9,  -999.00,9,  -999.00,9,     -999,9, -999.000,9, -999.000,9, -999.000,9,   -999.0,9,   -999.0,9,   -999.0,9,     -999,   -999.0,9,  30.6251,20070714,0615