BOTTLE,20220922CCHSIOAMB
EXPOCODE,SECT_ID,STNNBR,CASTNO,SAMPNO,BTLNBR,BTLNBR_FLAG_W,DATE,TIME,LATITUDE,LONGITUDE,DEPTH,CTDPRS,CTDTMP,CTDSAL,CTDSAL_FLAG_W,SALNTY,SALNTY_FLAG_W,CTDOXY,CTDOXY_FLAG_W,OXYGEN,OXYGEN_FLAG_W,SILCAT,SILCAT_FLAG_W,NITRAT,NITRAT_FLAG_W,NITRIT,NITRIT_FLAG_W,PHSPHT,PHSPHT_FLAG_W,NH4,NH4_FLAG_W,CFC-11,CFC-11_FLAG_W,CFC-12,CFC-12_FLAG_W,CFC113,CFC113_FLAG_W,TCARBN,TCARBN_FLAG_W,ALKALI,ALKALI_FLAG_W,FCO2,FCO2_FLAG_W,FCO2TMP,DOC,DOC_FLAG_W,THETA,BTL_DATE,BTL_TIME
,,,,,,,,,,,METERS,DBAR,ITS-90,PSS-78,,PSS-78,,UMOL/KG,,UMOL/KG,,UMOL/KG,,UMOL/KG,,UMOL/KG,,UMOL/KG,,UMOL/KG,,PMOL/KG,,PMOL/KG,,PMOL/KG,,UMOL/KG,,UMOL/KG,,UATM,,DEG C,UMOL/KG,,DEG C,,
  33RO20070710,GOMECC,    51,  1,   5101,      1,3,20070724,0306, 35.8323, -74.6477, 1665,   1626.2,   3.6580,  34.9380,2,  34.9480,2,    251.9,2,    267.2,6,    13.70,3,    17.40,3,     0.02,3,     1.22,3,      0.1,3, -999.000,9, -999.000,9, -999.000,9,   2161.1,6,   2309.6,2,    746.6,2,       20,   -999.0,9,   3.5304,20070724,0306
  33RO20070710,GOMECC,    51,  1,   5103,      3,3,20070724,0306, 35.8323, -74.6477, 1665,   1313.2,   3.9550,  34.9490,2,-999.0000,9,    248.2,2,    263.2,2,    12.60,3,    17.50,3,     0.01,3,     1.23,3,      0.1,3,    2.590,2,    1.400,2,    0.190,2,   2162.7,2,   2310.6,2,    754.8,2,       20,   -999.0,9,   3.8520,20070724,0312
  33RO20070710,GOMECC,    51,  1,   5104,      4,2,20070724,0306, 35.8323, -74.6477, 1665,   1110.1,   4.1710,  34.9570,2,  34.9660,2,    245.3,2,    259.9,2,    12.00,2,    17.50,2,     0.01,2,     1.21,2,     0.09,2,    2.470,2,    1.280,2,    0.140,2,   2164.1,2,   2309.7,2,    762.8,2,       20,   -999.0,9,   4.0838,20070724,0316
  33RO20070710,GOMECC,    51,  1,   5105,      5,2,20070724,0306, 35.8323, -74.6477, 1665,    908.8,   4.4540,  34.9700,2,  34.9780,2,    239.2,2,    252.9,2,    11.90,2,    17.80,2,     0.01,2,     1.23,2,      0.1,2, -999.000,9, -999.000,9, -999.000,9,   2166.8,2,   2310.5,2,    773.2,2,       20,   -999.0,9,   4.3820,20070724,0321
  33RO20070710,GOMECC,    51,  1,   5106,      6,2,20070724,0306, 35.8323, -74.6477, 1665,    706.6,   4.8890,  34.9810,2,  34.9900,2,    227.0,2,    239.5,2,    12.40,2,    18.40,2,     0.01,2,     1.28,2,     0.12,2, -999.000,9, -999.000,9, -999.000,9,   2172.0,2,   2312.4,2,    793.5,2,       20,   -999.0,9,   4.8317,20070724,0325
  33RO20070710,GOMECC,    51,  1,   5107,      7,2,20070724,0306, 35.8323, -74.6477, 1665,    605.3,   5.1650,  34.9790,2,  34.9890,2,    218.7,2,    230.6,2,    12.50,2,    18.80,2,     0.01,2,     1.30,2,     0.09,2,    2.590,2,    1.300,2,    0.120,2,   2174.3,2,   2314.1,2,    806.6,2,       20,   -999.0,9,   5.1150,20070724,0328
  33RO20070710,GOMECC,    51,  1,   5108,      8,2,20070724,0306, 35.8323, -74.6477, 1665,    504.3,   6.1430,  35.0420,2,  35.0540,2,    192.6,2,    201.0,2,    13.60,2,    20.60,2,     0.01,2,     1.41,2,     0.09,2, -999.000,9, -999.000,9, -999.000,9,   2181.3,2,   2319.5,2,    820.6,2,       20,   -999.0,9,   6.0979,20070724,0330
  33RO20070710,GOMECC,    51,  1,   5109,      9,2,20070724,0306, 35.8323, -74.6477, 1665,    433.0,   7.2570,  35.0640,2,  35.0740,2,    165.6,2,    172.8,2,    14.40,2,    22.30,2,     0.01,2,     1.53,2,      0.1,2, -999.000,9, -999.000,9, -999.000,9,   2188.1,2,   2318.7,2,    856.5,2,       20,   -999.0,9,   7.2148,20070724,0333
  33RO20070710,GOMECC,    51,  1,   5110,     10,2,20070724,0306, 35.8323, -74.6477, 1665,    373.0,   8.4110,  35.1210,2,  35.1280,2,    147.9,2,    155.9,6,    14.00,2,    22.70,2,     0.01,2,     1.54,2,     0.11,2,    1.730,2,    0.950,2,    0.030,2,   2190.0,2,   2321.5,2,    858.2,2,       20,   -999.0,9,   8.3716,20070724,0335
  33RO20070710,GOMECC,    51,  1,   5111,     11,2,20070724,0306, 35.8323, -74.6477, 1665,    312.3,   9.4540,  35.2140,2,  35.2180,2,    140.5,2,    147.4,2,    13.10,2,    22.20,2,     0.01,2,     1.48,2,      0.1,2, -999.000,9, -999.000,9, -999.000,9,   2188.5,2,   2327.9,2,    830.0,2,       20,   -999.0,9,   9.4187,20070724,0337
  33RO20070710,GOMECC,    51,  1,   5112,     12,2,20070724,0306, 35.8323, -74.6477, 1665,    262.6,  10.7730,  35.3600,2,  35.3650,2,    138.7,2,    155.5,2,    11.20,2,    20.50,2,     0.03,2,     1.36,2,     0.11,2,    1.650,2,    0.950,2, -999.000,9,   2180.8,2,   2331.3,2,    762.4,2,       20,   -999.0,9,  10.7408,20070724,0339
  33RO20070710,GOMECC,    51,  1,   5113,     13,2,20070724,0306, 35.8323, -74.6477, 1665,    211.0,  11.6540,  35.4940,2,  35.4970,2,    148.4,2,    155.4,2,     9.80,2,    18.70,2,     0.03,2,     1.21,2,     0.13,2, -999.000,9, -999.000,9, -999.000,9,   2171.2,2,   2334.6,2,    695.0,2,       20,   -999.0,9,  11.6268,20070724,0341
  33RO20070710,GOMECC,    51,  1,   5114,     14,2,20070724,0306, 35.8323, -74.6477, 1665,    171.7,  13.5070,  35.7900,2,  35.7960,2,    171.4,2,    183.6,2,     6.00,2,    12.90,2,     0.02,2,     0.84,2,     0.12,2,    2.300,2,    1.250,2,    0.090,2,   2146.9,2,   2350.9,2,    557.5,2,       20,   -999.0,9,  13.4826,20070724,0342
  33RO20070710,GOMECC,    51,  1,   5115,     15,2,20070724,0306, 35.8323, -74.6477, 1665,    131.5,  13.5960,  35.6870,2,  35.6740,4,    174.1,2,    183.3,2,     5.70,2,    12.20,2,     0.04,2,     0.83,2,     0.09,2, -999.000,9, -999.000,9, -999.000,9,   2142.6,2,   2344.2,2,    559.3,2,       20,   -999.0,9,  13.5773,20070724,0344
  33RO20070710,GOMECC,    51,  1,   5116,     16,2,20070724,0306, 35.8323, -74.6477, 1665,    100.4,  13.8640,  35.5910,2,  35.6340,4,    170.9,2,    179.7,2,     5.40,2,    11.40,2,     0.07,2,     0.78,2,      0.1,2,    2.760,2,    1.810,2,    0.290,2,   2140.9,2,   2345.1,2,    554.7,2,       20,   -999.0,9,  13.8496,20070724,0345
  33RO20070710,GOMECC,    51,  1,   5117,     17,2,20070724,0306, 35.8323, -74.6477, 1665,     70.3,  10.2500,  34.1830,2,  34.2340,4,    224.3,2,    233.9,2,     4.60,2,     6.90,2,     0.05,2,     0.69,2,     0.12,2, -999.000,9, -999.000,9, -999.000,9,   2103.2,2,   2285.3,2,    594.7,2,       20,   -999.0,9,  10.2418,20070724,0347
  33RO20070710,GOMECC,    51,  1,   5118,     18,2,20070724,0306, 35.8323, -74.6477, 1665,     50.4,  10.7960,  34.1550,2,  34.1670,2,    230.3,2,    242.2,2,     3.90,2,     5.30,2,     0.11,2,     0.60,2,      0.1,2, -999.000,9, -999.000,9, -999.000,9,   2092.6,2,   2285.7,2,    560.0,2,       20,   -999.0,9,  10.7900,20070724,0348
  33RO20070710,GOMECC,    51,  1,   5119,     19,2,20070724,0306, 35.8323, -74.6477, 1665,     40.0,  21.8000,  36.3540,2,  36.2930,4,    183.9,2,    203.1,2,     1.10,2,     0.80,2,     0.16,2,     0.13,2,     0.11,2,    2.180,2,    1.460,2,    0.140,2,   2082.6,2,   2389.4,2,   -999.0,9,     -999,   -999.0,9,  21.7921,20070724,0349
  33RO20070710,GOMECC,    51,  1,   5120,     20,2,20070724,0306, 35.8323, -74.6477, 1665,     30.0,  24.4310,  36.1790,2,  36.2850,4,    201.4,2,    212.6,2,     0.80,2,     0.10,2,     0.02,2,     0.07,2,     0.12,2, -999.000,9, -999.000,9, -999.000,9,   2057.0,2,   2387.4,2,    313.7,2,       20,   -999.0,9,  24.4246,20070724,0351
  33RO20070710,GOMECC,    51,  1,   5121,     21,2,20070724,0306, 35.8323, -74.6477, 1665,     19.9,  26.1250,  36.2230,2,  36.2350,2,    192.6,2,    205.7,2,     0.80,2,     0.00,2,     0.00,2,     0.03,2,      0.1,2,    1.710,2,    1.380,2,    0.100,2,   2035.6,2,   2382.6,2,   -999.0,9,     -999,   -999.0,9,  26.1205,20070724,0352
  33RO20070710,GOMECC,    51,  1,   5122,     22,2,20070724,0306, 35.8323, -74.6477, 1665,     10.1,  26.2230,  36.2170,2,  36.2210,2,    192.5,2,    205.2,2,     0.80,2,     0.00,2,     0.00,2,     0.02,2,      0.1,2, -999.000,9, -999.000,9, -999.000,9,   2034.6,2,   2382.8,2,    287.8,2,       20,   -999.0,9,  26.2207,20070724,0353
  33RO20070710,GOMECC,    51,  1,   5123,     23,2,20070724,0306, 35.8323, -74.6477, 1665,      4.1,  26.3520,  36.0610,2,  36.0640,2,    192.1,2,    204.7,2,     0.70,2,     0.00,2,     0.00,2,     0.02,2,     0.12,2,    1.980,2,    1.470,2,    0.180,2,   2030.6,6,   2375.1,2,   -999.0,9,     -999,     74.3,2,  26.3511,20070724,0354
  33RO20070710,GOMECC,    51,  1,   5124,     24,2,20070724,0306, 35.8323, -74.6477, 1665,      4.0,  26.3500,  36.0890,2,-999.0000,9,    192.3,2,   -999.0,9,  -999.00,9,  -999.00,9,  -999.00,9,  -999.00,9,     -999,9, -999.000,9, -999.000,9, -999.000,9,   -999.0,9,   -999.0,9,   -999.0,9,     -999,   -999.0,9,  26.3491,20070724,0354
  33RO20070710,GOMECC,    52,  1,   5201,      1,2,20070724,0616, 35.7482, -74.4475, 2080,   1547.1,   3.6900,  34.9390,2,  34.9490,2,    251.6,2,    268.3,6,    12.90,2,    17.30,2,     0.00,2,     1.15,2,     0.13,2, -999.000,9, -999.000,9, -999.000,9,   -999.0,9,   -999.0,9,   -999.0,9,     -999,   -999.0,9,   3.5691,20070724,0616
  33RO20070710,GOMECC,    52,  1,   5203,      3,2,20070724,0616, 35.7482, -74.4475, 2080,   1298.2,   3.9310,  34.9490,2,  34.9590,2,    248.2,2,    264.8,2,    12.20,2,    17.30,2,     0.00,2,     1.17,2,     0.18,3, -999.000,9, -999.000,9, -999.000,9,   -999.0,9,   -999.0,9,   -999.0,9,     -999,   -999.0,9,   3.8296,20070724,0620
  33RO20070710,GOMECC,    52,  1,   5204,      4,2,20070724,0616, 35.7482, -74.4475, 2080,   1101.8,   4.1140,  34.9530,2,  34.9620,2,    245.6,2,    261.3,2,    12.00,2,    17.50,2,     0.00,2,     1.19,2,     0.12,2, -999.000,9, -999.000,9, -999.000,9,   -999.0,9,   -999.0,9,   -999.0,9,     -999,   -999.0,9,   4.0280,20070724,0624
  33RO20070710,GOMECC,    52,  1,   5205,      5,2,20070724,0616, 35.7482, -74.4475, 2080,    905.4,   4.3940,  34.9700,2,  34.9780,2,    240.1,2,    255.6,2,    11.90,2,    17.70,2,     0.00,2,     1.21,2,     0.12,2, -999.000,9, -999.000,9, -999.000,9,   -999.0,9,   -999.0,9,   -999.0,9,     -999,   -999.0,9,   4.3227,20070724,0631
  33RO20070710,GOMECC,    52,  1,   5206,      6,2,20070724,0616, 35.7482, -74.4475, 2080,    705.0,   4.8300,  34.9760,2,  34.9840,2,    229.2,2,    242.8,2,    12.00,2,    18.20,2,     0.00,2,     1.25,2,     0.15,2, -999.000,9, -999.000,9, -999.000,9,   -999.0,9,   -999.0,9,   -999.0,9,     -999,   -999.0,9,   4.7731,20070724,0639
  33RO20070710,GOMECC,    52,  1,   5207,      7,2,20070724,0616, 35.7482, -74.4475, 2080,    510.2,   6.6110,  35.0770,2,  35.0620,2,    181.3,2,    192.1,2,    14.30,2,    21.40,2,     0.00,2,     1.45,2,     0.14,2, -999.000,9, -999.000,9, -999.000,9,   -999.0,9,   -999.0,9,   -999.0,9,     -999,   -999.0,9,   6.5636,20070724,0647
  33RO20070710,GOMECC,    52,  1,   5208,      8,2,20070724,0616, 35.7482, -74.4475, 2080,    307.2,   9.5670,  35.2150,2,  35.2530,4,    127.0,2,    136.5,2,    14.10,2,    23.50,2,     0.02,2,     1.56,2,     0.13,2, -999.000,9, -999.000,9, -999.000,9,   -999.0,9,   -999.0,9,   -999.0,9,     -999,   -999.0,9,   9.5320,20070724,0657
  33RO20070710,GOMECC,    52,  1,   5209,      9,2,20070724,0616, 35.7482, -74.4475, 2080,    257.1,  10.8930,  35.3820,2,  35.4020,4,    129.7,2,    135.3,2,    12.10,2,    21.90,2,     0.02,2,     1.43,2,      0.2,2, -999.000,9, -999.000,9, -999.000,9,   -999.0,9,   -999.0,9,   -999.0,9,     -999,   -999.0,9,  10.8613,20070724,0700
  33RO20070710,GOMECC,    52,  1,   5210,     10,2,20070724,0616, 35.7482, -74.4475, 2080,    206.1,  13.0250,  35.6760,2,  35.6910,2,    130.5,2,    138.3,2,     8.80,2,    18.40,2,     0.01,2,     1.17,2,     0.17,2, -999.000,9, -999.000,9, -999.000,9,   -999.0,9,   -999.0,9,   -999.0,9,     -999,   -999.0,9,  12.9964,20070724,0703
  33RO20070710,GOMECC,    52,  1,   5211,     11,3,20070724,0616, 35.7482, -74.4475, 2080,    155.3,  15.3920,  35.9490,2,  36.1140,4,    145.3,2,    150.5,2,     5.70,3,    12.50,3,     0.03,3,     0.78,3,     0.15,3, -999.000,9, -999.000,9, -999.000,9,   -999.0,9,   -999.0,9,   -999.0,9,     -999,   -999.0,9,  15.3679,20070724,0706
  33RO20070710,GOMECC,    52,  1,   5212,     12,2,20070724,0616, 35.7482, -74.4475, 2080,    128.2,  18.4120,  36.3900,2,  36.4100,2,    145.4,2,    154.8,2,     3.80,2,     8.60,2,     0.06,2,     0.53,2,     0.14,2, -999.000,9, -999.000,9, -999.000,9,   -999.0,9,   -999.0,9,   -999.0,9,     -999,   -999.0,9,  18.3895,20070724,0707
  33RO20070710,GOMECC,    52,  1,   5213,     13,2,20070724,0616, 35.7482, -74.4475, 2080,    101.3,  21.0340,  36.5290,2,  36.5490,4,    159.4,2,    169.4,6,     2.30,2,     4.20,2,     0.11,2,     0.28,2,     0.15,2, -999.000,9, -999.000,9, -999.000,9,   -999.0,9,   -999.0,9,   -999.0,9,     -999,   -999.0,9,  21.0145,20070724,0709
  33RO20070710,GOMECC,    52,  1,   5214,     14,3,20070724,0616, 35.7482, -74.4475, 2080,    101.2,  21.0720,  36.5290,2,-999.0000,9,    158.7,2,    170.2,2,  -999.00,9,  -999.00,9,  -999.00,9,  -999.00,9,     -999,9, -999.000,9, -999.000,9, -999.000,9,   -999.0,9,   -999.0,9,   -999.0,9,     -999,   -999.0,9,  21.0525,20070724,0709
  33RO20070710,GOMECC,    52,  1,   5215,     15,2,20070724,0616, 35.7482, -74.4475, 2080,     75.3,  23.9440,  36.6100,2,  36.6180,2,    160.4,2,    171.5,2,     1.40,2,     2.10,2,     0.33,2,     0.14,2,     0.16,2, -999.000,9, -999.000,9, -999.000,9,   -999.0,9,   -999.0,9,   -999.0,9,     -999,   -999.0,9,  23.9281,20070724,0710
  33RO20070710,GOMECC,    52,  1,   5216,     16,2,20070724,0616, 35.7482, -74.4475, 2080,     50.9,  26.3520,  36.4710,2,  36.4730,2,    194.8,2,    208.6,2,     0.90,2,     0.00,2,     0.00,2,     0.02,2,     0.15,2, -999.000,9, -999.000,9, -999.000,9,   -999.0,9,   -999.0,9,   -999.0,9,     -999,   -999.0,9,  26.3405,20070724,0711
  33RO20070710,GOMECC,    52,  1,   5217,     17,2,20070724,0616, 35.7482, -74.4475, 2080,     50.9,  26.3510,  36.4710,2,-999.0000,9,    194.8,2,   -999.0,9,  -999.00,9,  -999.00,9,  -999.00,9,  -999.00,9,     -999,9, -999.000,9, -999.000,9, -999.000,9,   -999.0,9,   -999.0,9,   -999.0,9,     -999,   -999.0,9,  26.3395,20070724,0711
  33RO20070710,GOMECC,    52,  1,   5218,     18,2,20070724,0616, 35.7482, -74.4475, 2080,     25.0,  28.7480,  36.3190,2,  36.3200,2,    184.9,2,    284.2,3,     1.20,2,     0.00,2,     0.00,2,     0.01,2,     0.15,2, -999.000,9, -999.000,9, -999.000,9,   -999.0,9,   -999.0,9,   -999.0,9,     -999,   -999.0,9,  28.7420,20070724,0713
  33RO20070710,GOMECC,    52,  1,   5219,     19,2,20070724,0616, 35.7482, -74.4475, 2080,      9.5,  28.6740,  36.2890,2,  36.3000,2,    185.2,2,    472.0,3,     1.30,2,     0.00,2,     0.00,2,     0.00,2,     0.17,2, -999.000,9, -999.000,9, -999.000,9,   -999.0,9,   -999.0,9,   -999.0,9,     -999,   -999.0,9,  28.6717,20070724,0714
  33RO20070710,GOMECC,    52,  1,   5220,     20,2,20070724,0616, 35.7482, -74.4475, 2080,      3.9,  28.6780,  36.2890,2,  36.2980,2,    185.1,2,    198.3,2,     1.20,2,     0.00,2,     0.00,2,     0.00,2,     0.15,2, -999.000,9, -999.000,9, -999.000,9,   -999.0,9,   -999.0,9,   -999.0,9,     -999,   -999.0,9,  28.6771,20070724,0715
  33RO20070710,GOMECC,    52,  1,   5221,     21,2,20070724,0616, 35.7482, -74.4475, 2080,      3.8,  28.6910,  36.2910,2,-999.0000,9,    185.0,2,   -999.0,9,  -999.00,9,  -999.00,9,  -999.00,9,  -999.00,9,     -999,9, -999.000,9, -999.000,9, -999.000,9,   -999.0,9,   -999.0,9,   -999.0,9,     -999,     69.6,2,  28.6901,20070724,0715