BOTTLE,20220922CCHSIOAMB
EXPOCODE,SECT_ID,STNNBR,CASTNO,SAMPNO,BTLNBR,BTLNBR_FLAG_W,DATE,TIME,LATITUDE,LONGITUDE,DEPTH,CTDPRS,CTDTMP,CTDSAL,CTDSAL_FLAG_W,SALNTY,SALNTY_FLAG_W,CTDOXY,CTDOXY_FLAG_W,OXYGEN,OXYGEN_FLAG_W,SILCAT,SILCAT_FLAG_W,NITRAT,NITRAT_FLAG_W,NITRIT,NITRIT_FLAG_W,PHSPHT,PHSPHT_FLAG_W,NH4,NH4_FLAG_W,CFC-11,CFC-11_FLAG_W,CFC-12,CFC-12_FLAG_W,CFC113,CFC113_FLAG_W,TCARBN,TCARBN_FLAG_W,ALKALI,ALKALI_FLAG_W,FCO2,FCO2_FLAG_W,FCO2TMP,DOC,DOC_FLAG_W,THETA,BTL_DATE,BTL_TIME
,,,,,,,,,,,METERS,DBAR,ITS-90,PSS-78,,PSS-78,,UMOL/KG,,UMOL/KG,,UMOL/KG,,UMOL/KG,,UMOL/KG,,UMOL/KG,,UMOL/KG,,PMOL/KG,,PMOL/KG,,PMOL/KG,,UMOL/KG,,UMOL/KG,,UATM,,DEG C,UMOL/KG,,DEG C,,
  33RO20070710,GOMECC,    28,  1,   2801,      1,2,20070717,1030, 25.7840, -86.3695, 3196,   3213.4,   4.3630,  34.9700,2,  36.0980,4,    204.4,2,    220.7,6,    24.60,2,    21.90,2,     0.08,2,     1.54,2,     0.15,2,    0.230,2,    0.210,2,    0.050,2,   2187.7,2,   2331.4,2,    772.0,2,       20,   -999.0,9,   4.0528,20070717,1030
  33RO20070710,GOMECC,    28,  1,   2802,      2,3,20070717,1030, 25.7840, -86.3695, 3196,   3048.6,   4.3430,  34.9700,2,  34.9780,2,    203.3,2,    220.5,2,  -999.00,9,  -999.00,9,  -999.00,9,  -999.00,9,     -999,9, -999.000,9, -999.000,9, -999.000,9,   2187.7,2,   2332.4,2,    778.5,2,       20,   -999.0,9,   4.0578,20070717,1034
  33RO20070710,GOMECC,    28,  1,   2803,      3,2,20070717,1030, 25.7840, -86.3695, 3196,   2800.3,   4.3180,  34.9680,2,  34.9760,2,    201.3,2,    218.6,2,    24.60,2,    21.90,2,     0.14,2,     1.56,2,     0.09,2,    0.470,2,    0.230,2,    0.130,2,   2188.6,6,   2332.0,2,    783.5,2,       20,   -999.0,9,   4.0613,20070717,1039
  33RO20070710,GOMECC,    28,  1,   2804,      4,2,20070717,1030, 25.7840, -86.3695, 3196,   2549.8,   4.2980,  34.9670,2,  34.9760,2,    200.5,2,    217.2,2,    25.00,2,    21.70,2,     0.09,2,     1.53,2,     0.08,2, -999.000,9, -999.000,9, -999.000,9,   2186.9,2,   2331.5,2,    785.8,2,       20,   -999.0,9,   4.0690,20070717,1044
  33RO20070710,GOMECC,    28,  1,   2805,      5,2,20070717,1030, 25.7840, -86.3695, 3196,   2301.7,   4.2830,  34.9670,2,  34.9760,2,    199.6,2,    216.7,2,    25.10,2,    21.80,2,     0.06,2,     1.54,2,     0.08,2,    0.200,2,    0.040,2,    0.010,2,   2188.8,2,   2330.7,2,    786.9,2,       20,   -999.0,9,   4.0805,20070717,1048
  33RO20070710,GOMECC,    28,  1,   2806,      6,2,20070717,1030, 25.7840, -86.3695, 3196,   2051.1,   4.2750,  34.9660,2,  34.9730,2,    198.3,2,    215.2,2,    25.20,2,    22.10,2,     0.09,2,     1.56,2,     0.08,2, -999.000,9, -999.000,9, -999.000,9,   2189.5,3,   2331.1,2,    794.3,2,       20,   -999.0,9,   4.0983,20070717,1053
  33RO20070710,GOMECC,    28,  1,   2807,      7,2,20070717,1030, 25.7840, -86.3695, 3196,   1801.7,   4.2840,  34.9640,2,  34.9710,2,    197.2,2,    213.5,2,    25.30,2,    22.00,2,     0.05,2,     1.56,2,     0.07,2,    0.170,2,    0.060,2,    0.030,2,   2189.8,2,   2330.0,2,    802.5,2,       20,     45.3,2,   4.1318,20070717,1058
  33RO20070710,GOMECC,    28,  1,   2808,      8,2,20070717,1030, 25.7840, -86.3695, 3196,   1551.6,   4.3320,  34.9600,2,  34.9700,2,    193.5,2,    208.9,2,    25.50,2,    22.20,2,     0.03,2,     1.57,2,     0.11,2, -999.000,9, -999.000,9, -999.000,9,   2191.6,2,   2329.9,2,    805.1,2,       20,   -999.0,9,   4.2032,20070717,1103
  33RO20070710,GOMECC,    28,  1,   2809,      9,2,20070717,1030, 25.7840, -86.3695, 3196,   1302.2,   4.5580,  34.9480,2,  34.9560,2,    183.5,2,    197.3,2,    25.70,2,    22.60,2,     0.03,2,     1.60,2,     0.08,2,    0.420,2,    0.280,2,    0.120,2,   2196.1,2,   2329.6,2,    843.3,2,       20,   -999.0,9,   4.4501,20070717,1109
  33RO20070710,GOMECC,    28,  1,   2810,     10,2,20070717,1030, 25.7840, -86.3695, 3196,   1052.8,   5.4060,  34.9140,2,  34.9210,2,    154.9,2,    165.8,2,    25.90,2,    23.70,2,     0.04,2,     1.68,2,     0.08,2, -999.000,9, -999.000,9, -999.000,9,   2205.3,2,   2324.1,2,    935.5,2,       20,   -999.0,9,   5.3139,20070717,1114
  33RO20070710,GOMECC,    28,  1,   2811,     11,2,20070717,1030, 25.7840, -86.3695, 3196,    801.2,   7.5680,  34.9270,2,  34.9340,2,    119.5,2,    127.3,2,    25.60,2,    26.80,2,     0.04,2,     1.87,2,     0.08,2, -999.000,9, -999.000,9, -999.000,9,   2208.4,2,   2316.1,2,   1005.6,2,       20,   -999.0,9,   7.4864,20070717,1119
  33RO20070710,GOMECC,    28,  1,   2812,     12,2,20070717,1030, 25.7840, -86.3695, 3196,    550.6,  10.7910,  35.2890,2,  35.2970,2,    114.7,2,    128.8,2,    21.10,2,    29.20,2,     0.03,2,     1.98,2,     0.09,2,    1.310,2,    0.830,2,    0.090,2,   2192.5,6,   2324.1,2,    855.1,2,       20,   -999.0,9,  10.7226,20070717,1124
  33RO20070710,GOMECC,    28,  1,   2813,     13,2,20070717,1030, 25.7840, -86.3695, 3196,    300.8,  17.2050,  36.3150,2,  36.3140,2,    143.7,2,    153.2,2,    13.40,2,    24.30,2,     0.03,2,     1.61,2,     0.08,2, -999.000,9, -999.000,9, -999.000,9,   2147.1,2,   2379.4,2,    511.4,2,       20,   -999.0,9,  17.1544,20070717,1129
  33RO20070710,GOMECC,    28,  1,   2814,     14,2,20070717,1030, 25.7840, -86.3695, 3196,    250.1,  18.5560,  36.5050,2,  36.5020,2,    142.9,2,    152.5,2,     4.20,2,    10.70,2,     0.02,2,     0.65,2,     0.08,2,    2.070,2,    1.770,2,    0.090,2,   2142.4,2,   2388.7,2,    476.4,2,       20,   -999.0,9,  18.5117,20070717,1131
  33RO20070710,GOMECC,    28,  1,   2815,     15,2,20070717,1030, 25.7840, -86.3695, 3196,    199.9,  20.8350,  36.7440,2,  36.7480,2,    140.3,2,    149.8,2,     3.40,2,     8.60,2,     0.04,2,     0.51,2,     0.08,2, -999.000,9, -999.000,9, -999.000,9,   2136.8,2,   2402.5,2,    434.6,2,       20,   -999.0,9,  20.7966,20070717,1132
  33RO20070710,GOMECC,    28,  1,   2816,     16,2,20070717,1030, 25.7840, -86.3695, 3196,    149.6,  24.8940,  36.7000,2,  36.7270,4,    155.9,2,    165.1,2,     2.50,2,     6.10,2,     0.01,2,     0.34,2,     0.07,2, -999.000,9, -999.000,9, -999.000,9,   2093.3,2,   2403.5,2,    351.1,2,       20,   -999.0,9,  24.8614,20070717,1134
  33RO20070710,GOMECC,    28,  1,   2817,     17,2,20070717,1030, 25.7840, -86.3695, 3196,    124.9,  26.3510,  36.4300,2,  36.4600,4,    167.8,2,    177.6,2,     1.80,2,     2.50,2,     0.02,2,     0.17,2,     0.07,2,    1.960,2,    1.750,2,    0.250,2,   2061.0,2,   2400.8,2,    318.6,2,       20,   -999.0,9,  26.3227,20070717,1135
  33RO20070710,GOMECC,    28,  1,   2818,     18,2,20070717,1030, 25.7840, -86.3695, 3196,     99.6,  27.1060,  36.1720,2,  36.1870,4,    177.6,2,    188.4,2,     1.40,2,     1.10,2,     0.04,2,     0.09,2,     0.07,2, -999.000,9, -999.000,9, -999.000,9,   2031.8,2,   2375.2,2,    292.0,2,       20,   -999.0,9,  27.0830,20070717,1136
  33RO20070710,GOMECC,    28,  1,   2819,     19,2,20070717,1030, 25.7840, -86.3695, 3196,     74.5,  27.5280,  36.0810,2,  36.0930,2,    186.5,2,    197.4,2,     1.50,2,     0.10,2,     0.02,2,     0.04,2,     0.08,2,    1.660,2,    1.560,2,    0.130,2,   2017.4,2,   2362.2,2,    277.3,2,       20,   -999.0,9,  27.5106,20070717,1138
  33RO20070710,GOMECC,    28,  1,   2820,     20,2,20070717,1030, 25.7840, -86.3695, 3196,     50.0,  28.4760,  36.0330,2,  36.0420,2,    191.1,2,    202.4,2,     1.60,2,     0.00,2,     0.01,2,     0.03,2,     0.08,2, -999.000,9, -999.000,9, -999.000,9,   2002.6,2,   2358.8,2,    264.4,2,       20,   -999.0,9,  28.4640,20070717,1139
  33RO20070710,GOMECC,    28,  1,   2821,     21,2,20070717,1030, 25.7840, -86.3695, 3196,     24.8,  29.4830,  36.0220,2,  36.0270,2,    186.2,2,    197.8,2,     1.60,2,     0.00,2,     0.02,2,     0.01,2,     0.08,2, -999.000,9, -999.000,9, -999.000,9,   2000.0,2,   2357.4,2,    261.8,2,       20,   -999.0,9,  29.4769,20070717,1140
  33RO20070710,GOMECC,    28,  1,   2822,     22,2,20070717,1030, 25.7840, -86.3695, 3196,     10.0,  30.0920,  36.0920,2,  36.0960,2,    183.3,2,    193.9,2,     1.60,2,     0.00,2,     0.01,2,     0.01,2,     0.08,2, -999.000,9, -999.000,9, -999.000,9,   1999.7,6,   2360.4,2,    261.7,2,       20,   -999.0,9,  30.0895,20070717,1141
  33RO20070710,GOMECC,    28,  1,   2823,     23,2,20070717,1030, 25.7840, -86.3695, 3196,      4.0,  30.0870,  36.0920,2,  36.1080,2,    183.1,2,    193.9,6,     1.60,2,     0.00,2,     0.00,2,     0.01,2,     0.08,2,    1.690,2,    1.450,2,    0.330,2,   1999.2,2,   2362.2,2,    260.8,2,       20,     73.4,2,  30.0860,20070717,1142
  33RO20070710,GOMECC,    28,  1,   2824,     24,2,20070717,1030, 25.7840, -86.3695, 3196,      3.9,  30.0860,  36.0920,2,  36.0950,6,    183.2,2,   -999.0,9,     1.60,2,     0.00,2,     0.01,2,     0.00,2,     0.08,2, -999.000,9, -999.000,9, -999.000,9,   -999.0,9,   -999.0,9,   -999.0,9,     -999,   -999.0,9,  30.0850,20070717,1142
  33RO20070710,GOMECC,    29,  1,   2901,      1,2,20070718,2232, 26.9955, -79.9896,   59,     43.0,  16.3130,  35.9480,2,-999.0000,9,    140.0,2,    150.5,6,  -999.00,9,  -999.00,9,  -999.00,9,  -999.00,9,     -999,9,    1.650,2,    1.000,2,    0.370,2,   -999.0,9,   -999.0,9,   -999.0,9,     -999,   -999.0,9,  16.3061,20070718,2232
  33RO20070710,GOMECC,    29,  1,   2903,      3,2,20070718,2232, 26.9955, -79.9896,   59,     43.0,  16.2350,  35.9400,2,  35.9940,4,    139.8,2,    150.5,2,     7.60,2,    13.00,2,     0.09,2,     0.87,2,     0.08,2, -999.000,9, -999.000,9, -999.000,9,   2147.8,3,   2360.5,2,    528.7,2,       20,   -999.0,9,  16.2281,20070718,2232
  33RO20070710,GOMECC,    29,  1,   2904,      4,2,20070718,2232, 26.9955, -79.9896,   59,     30.9,  23.1210,  36.4130,2,  36.3510,4,    180.8,2,    182.9,2,     3.40,2,     4.50,2,     0.11,2,     0.33,2,     0.09,2, -999.000,9, -999.000,9, -999.000,9,   2092.6,3,   2389.2,2,    367.6,2,       20,   -999.0,9,  23.1146,20070718,2234
  33RO20070710,GOMECC,    29,  1,   2905,      5,2,20070718,2232, 26.9955, -79.9896,   59,     20.5,  28.5150,  36.4260,2,  36.4470,4,    188.8,2,    202.1,2,     1.60,2,     0.40,2,     0.02,2,     0.07,2,     0.09,2,    1.510,2,    1.170,2,    0.170,2,   2043.0,2,   2388.5,2,    293.0,2,       20,   -999.0,9,  28.5101,20070718,2236
  33RO20070710,GOMECC,    29,  1,   2906,      6,2,20070718,2232, 26.9955, -79.9896,   59,      9.8,  29.5900,  36.4100,2,-999.0000,9,    187.0,2,    197.9,6,  -999.00,9,  -999.00,9,  -999.00,9,  -999.00,9,     -999,9, -999.000,9, -999.000,9, -999.000,9,   -999.0,9,   -999.0,9,   -999.0,9,     -999,   -999.0,9,  29.5876,20070718,2237
  33RO20070710,GOMECC,    29,  1,   2907,      7,2,20070718,2232, 26.9955, -79.9896,   59,      9.9,  29.5880,  36.4110,2,  36.4190,2,    186.8,2,   -999.0,9,     1.50,2,     0.10,2,     0.01,2,     0.05,2,     0.08,2, -999.000,9, -999.000,9, -999.000,9,   2024.2,2,   2381.3,2,    271.2,2,       20,   -999.0,9,  29.5856,20070718,2237
  33RO20070710,GOMECC,    29,  1,   2908,      8,2,20070718,2232, 26.9955, -79.9896,   59,      3.9,  30.6400,  36.4080,2,  36.4140,2,    184.6,2,    195.0,2,     1.50,2,     0.00,2,     0.00,2,     0.03,2,     0.08,2, -999.000,9, -999.000,9, -999.000,9,   2020.7,6,   2385.0,2,    265.0,2,       20,     76.1,2,  30.6390,20070718,2239
  33RO20070710,GOMECC,    29,  1,   2909,      9,9,20070718,2232, 26.9955, -79.9896,   59,      3.9,  30.6220,  36.4080,2,-999.0000,9,    184.6,2,   -999.0,9,  -999.00,9,  -999.00,9,  -999.00,9,  -999.00,9,     -999,9, -999.000,9, -999.000,9, -999.000,9,   -999.0,9,   -999.0,9,   -999.0,9,     -999,   -999.0,9,  30.6210,20070718,2239
  33RO20070710,GOMECC,    29,  1,   2910,     10,9,20070718,2232, 26.9955, -79.9896,   59,      3.9,  30.5860,  36.4100,2,-999.0000,9,    184.6,2,   -999.0,9,  -999.00,9,  -999.00,9,  -999.00,9,  -999.00,9,     -999,9, -999.000,9, -999.000,9, -999.000,9,   -999.0,9,   -999.0,9,   -999.0,9,     -999,   -999.0,9,  30.5850,20070718,2239
  33RO20070710,GOMECC,    29,  1,   2911,     11,2,20070718,2232, 26.9955, -79.9896,   59,      3.8,  30.6260,  36.4080,2,-999.0000,9,    184.6,2,   -999.0,9,  -999.00,9,  -999.00,9,  -999.00,9,  -999.00,9,     -999,9, -999.000,9, -999.000,9, -999.000,9,   -999.0,9,   -999.0,9,   -999.0,9,     -999,   -999.0,9,  30.6250,20070718,2239
  33RO20070710,GOMECC,    29,  1,   2912,     12,2,20070718,2232, 26.9955, -79.9896,   59,      3.9,  30.6500,  36.4070,2,-999.0000,9,    184.6,2,   -999.0,9,  -999.00,9,  -999.00,9,  -999.00,9,  -999.00,9,     -999,9, -999.000,9, -999.000,9, -999.000,9,   -999.0,9,   -999.0,9,   -999.0,9,     -999,   -999.0,9,  30.6490,20070718,2239
  33RO20070710,GOMECC,    29,  1,   2913,     13,2,20070718,2232, 26.9955, -79.9896,   59,      3.9,  30.6470,  36.4080,2,-999.0000,9,    184.5,2,   -999.0,9,  -999.00,9,  -999.00,9,  -999.00,9,  -999.00,9,     -999,9, -999.000,9, -999.000,9, -999.000,9,   -999.0,9,   -999.0,9,   -999.0,9,     -999,   -999.0,9,  30.6460,20070718,2240
  33RO20070710,GOMECC,    29,  1,   2914,     14,2,20070718,2232, 26.9955, -79.9896,   59,      3.9,  30.6490,  36.4080,2,-999.0000,9,    184.4,2,   -999.0,9,  -999.00,9,  -999.00,9,  -999.00,9,  -999.00,9,     -999,9, -999.000,9, -999.000,9, -999.000,9,   -999.0,9,   -999.0,9,   -999.0,9,     -999,   -999.0,9,  30.6480,20070718,2240
  33RO20070710,GOMECC,    30,  1,   3001,      1,2,20070719,0008, 26.9672, -79.9311,  150,    135.7,   9.9480,  35.2160,2,-999.0000,9,    115.7,2,    119.9,6,  -999.00,9,  -999.00,9,  -999.00,9,  -999.00,9,     -999,9,    1.050,2,    0.670,2,    0.160,2,   -999.0,9,   -999.0,9,   -999.0,9,     -999,     70.2,2,   9.9323,20070719,0008
  33RO20070710,GOMECC,    30,  1,   3003,      3,2,20070719,0008, 26.9672, -79.9311,  150,    135.4,   9.9670,  35.2190,2,  35.2220,2,    115.8,2,    119.9,2,    15.60,3,    26.00,3,     0.01,2,     1.69,3,     0.18,2, -999.000,9, -999.000,9, -999.000,9,   2199.1,2,   2323.5,2,    885.7,2,       20,   -999.0,9,   9.9513,20070719,0008
  33RO20070710,GOMECC,    30,  1,   3004,      4,2,20070719,0008, 26.9672, -79.9311,  150,    106.0,  11.5040,  35.4340,2,  35.5160,4,    119.1,2,    125.1,2,    12.00,3,    21.90,3,     0.02,2,     1.40,3,     0.08,2,    1.280,2,    0.780,2, -999.000,9,   2187.8,2,   2336.2,2,    760.4,2,       20,   -999.0,9,  11.4905,20070719,0011
  33RO20070710,GOMECC,    30,  1,   3005,      5,2,20070719,0008, 26.9672, -79.9311,  150,    107.0,  11.4860,  35.4290,2,-999.0000,9,    118.6,2,   -999.0,9,  -999.00,9,  -999.00,9,  -999.00,9,  -999.00,9,     -999,9, -999.000,9, -999.000,9, -999.000,9,   -999.0,9,   -999.0,9,   -999.0,9,     -999,   -999.0,9,  11.4724,20070719,0011
  33RO20070710,GOMECC,    30,  1,   3006,      6,2,20070719,0008, 26.9672, -79.9311,  150,     71.2,  16.3090,  36.0840,2,  36.0460,4,    133.9,2,    138.3,2,     6.50,2,    14.20,2,     0.02,2,     0.88,2,     0.08,2, -999.000,9, -999.000,9, -999.000,9,   2162.5,2,   2358.8,2,    575.9,2,       20,   -999.0,9,  16.2975,20070719,0014
  33RO20070710,GOMECC,    30,  1,   3007,      7,2,20070719,0008, 26.9672, -79.9311,  150,     50.8,  23.1200,  36.4940,2,  36.4920,2,    183.7,2,    179.8,2,     2.80,2,     4.40,2,     0.14,2,     0.29,2,     0.15,2, -999.000,9, -999.000,9, -999.000,9,   2102.9,3,   2392.3,2,    376.9,2,       20,   -999.0,9,  23.1095,20070719,0016
  33RO20070710,GOMECC,    30,  1,   3008,      8,2,20070719,0008, 26.9672, -79.9311,  150,     50.7,  23.1650,  36.4950,2,-999.0000,9,    183.7,2,   -999.0,9,  -999.00,9,  -999.00,9,  -999.00,9,  -999.00,9,     -999,9, -999.000,9, -999.000,9, -999.000,9,   -999.0,9,   -999.0,9,   -999.0,9,     -999,   -999.0,9,  23.1545,20070719,0016
  33RO20070710,GOMECC,    30,  1,   3009,      9,2,20070719,0008, 26.9672, -79.9311,  150,     40.6,  25.4290,  36.4850,2,-999.0000,1,    201.3,2,    208.7,2,     1.40,2,     0.30,2,     0.02,2,     0.06,2,     0.21,2,    1.680,2,    1.330,2,    0.290,2,   2056.3,2,   2397.2,2,    298.0,2,       20,   -999.0,9,  25.4200,20070719,0018
  33RO20070710,GOMECC,    30,  1,   3010,     10,2,20070719,0008, 26.9672, -79.9311,  150,     30.1,  27.2840,  36.4030,2,  36.4280,4,    195.1,2,    207.5,2,     1.30,2,     0.00,2,     0.01,2,     0.03,2,     0.13,2, -999.000,9, -999.000,9, -999.000,9,   2042.0,2,   2392.0,2,    284.2,2,       20,   -999.0,9,  27.2770,20070719,0019
  33RO20070710,GOMECC,    30,  1,   3011,     11,2,20070719,0008, 26.9672, -79.9311,  150,     20.1,  29.0040,  36.3190,2,  36.3240,2,    193.6,2,    205.4,6,     1.50,2,     0.00,2,     0.01,2,     0.01,2,     0.09,2, -999.000,9, -999.000,9, -999.000,9,   2032.1,2,   2391.4,6,    272.9,2,       20,   -999.0,9,  28.9991,20070719,0020
  33RO20070710,GOMECC,    30,  1,   3012,     12,2,20070719,0008, 26.9672, -79.9311,  150,      9.9,  30.3000,  36.2850,2,  36.2980,2,    185.3,2,    199.3,2,     1.50,2,     0.00,2,     0.01,2,     0.01,2,     0.13,2, -999.000,9, -999.000,9, -999.000,9,   2021.9,2,   2386.5,2,    266.9,2,       20,   -999.0,9,  30.2975,20070719,0021
  33RO20070710,GOMECC,    30,  1,   3013,     13,2,20070719,0008, 26.9672, -79.9311,  150,      4.0,  30.5580,  36.3290,2,  36.3330,2,    184.5,2,    195.0,2,     1.40,2,     0.00,2,     0.01,2,     0.00,2,     0.12,2,    1.600,2,    1.280,2,    0.330,2,   2019.1,6,   2387.1,2,    262.8,2,       20,   -999.0,9,  30.5570,20070719,0022
  33RO20070710,GOMECC,    30,  1,   3014,     14,2,20070719,0008, 26.9672, -79.9311,  150,      3.9,  30.5610,  36.3290,2,-999.0000,9,    184.6,2,   -999.0,9,  -999.00,9,  -999.00,9,  -999.00,9,  -999.00,9,     -999,9, -999.000,9, -999.000,9, -999.000,9,   -999.0,9,   -999.0,9,   -999.0,9,     -999,   -999.0,9,  30.5600,20070719,0022
  33RO20070710,GOMECC,    30,  1,   3015,     15,2,20070719,0008, 26.9672, -79.9311,  150,      4.0,  30.5550,  36.3300,2,-999.0000,9,    184.5,2,   -999.0,9,  -999.00,9,  -999.00,9,  -999.00,9,  -999.00,9,     -999,9, -999.000,9, -999.000,9, -999.000,9,   -999.0,9,   -999.0,9,   -999.0,9,     -999,   -999.0,9,  30.5540,20070719,0022