BOTTLE,20220922CCHSIOAMB
EXPOCODE,SECT_ID,STNNBR,CASTNO,SAMPNO,BTLNBR,BTLNBR_FLAG_W,DATE,TIME,LATITUDE,LONGITUDE,DEPTH,CTDPRS,CTDTMP,CTDSAL,CTDSAL_FLAG_W,SALNTY,SALNTY_FLAG_W,CTDOXY,CTDOXY_FLAG_W,OXYGEN,OXYGEN_FLAG_W,SILCAT,SILCAT_FLAG_W,NITRAT,NITRAT_FLAG_W,NITRIT,NITRIT_FLAG_W,PHSPHT,PHSPHT_FLAG_W,NH4,NH4_FLAG_W,CFC-11,CFC-11_FLAG_W,CFC-12,CFC-12_FLAG_W,CFC113,CFC113_FLAG_W,TCARBN,TCARBN_FLAG_W,ALKALI,ALKALI_FLAG_W,FCO2,FCO2_FLAG_W,FCO2TMP,DOC,DOC_FLAG_W,THETA,BTL_DATE,BTL_TIME
,,,,,,,,,,,METERS,DBAR,ITS-90,PSS-78,,PSS-78,,UMOL/KG,,UMOL/KG,,UMOL/KG,,UMOL/KG,,UMOL/KG,,UMOL/KG,,UMOL/KG,,PMOL/KG,,PMOL/KG,,PMOL/KG,,UMOL/KG,,UMOL/KG,,UATM,,DEG C,UMOL/KG,,DEG C,,
  33RO20070710,GOMECC,    85,  1,   8501,      1,2,20070801,1921, 38.8183, -69.2008, 3268,   3268.2,   2.1700,  34.8820,2,  34.8930,2,    245.2,2,    269.8,6,    29.10,2,    17.80,2,     0.01,2,     1.44,3,      0.1,2, -999.000,9, -999.000,9, -999.000,9,   2174.7,6,   2326.4,2,   -999.0,9,     -999,   -999.0,9,   1.9102,20070801,1921
  33RO20070710,GOMECC,    85,  1,   8502,      2,2,20070801,1921, 38.8183, -69.2008, 3268,   2999.4,   2.3950,  34.8970,2,  34.9070,2,    248.8,2,    274.4,2,    21.60,2,    16.80,2,     0.00,2,     1.34,2,     0.07,2, -999.000,9, -999.000,9, -999.000,9,   2164.1,2,   2317.8,2,   -999.0,9,     -999,   -999.0,9,   2.1575,20070801,1927
  33RO20070710,GOMECC,    85,  1,   8503,      3,2,20070801,1921, 38.8183, -69.2008, 3268,   2601.4,   2.8670,  34.9200,2,  34.9300,2,    245.6,2,    271.5,2,    18.60,2,    17.00,2,     0.00,2,     1.34,2,     0.08,2, -999.000,9, -999.000,9, -999.000,9,   2162.5,2,   2312.1,2,   -999.0,9,     -999,   -999.0,9,   2.6596,20070801,1934
  33RO20070710,GOMECC,    85,  1,   8504,      4,2,20070801,1921, 38.8183, -69.2008, 3268,   2200.2,   3.2400,  34.9340,2,  34.9450,2,    244.3,2,    269.7,2,    16.60,2,    17.20,2,     0.00,2,     1.32,2,     0.07,2, -999.000,9, -999.000,9, -999.000,9,   2157.0,2,   2311.4,2,   -999.0,9,     -999,   -999.0,9,   3.0649,20070801,1941
  33RO20070710,GOMECC,    85,  1,   8505,      5,2,20070801,1921, 38.8183, -69.2008, 3268,   1999.9,   3.3630,  34.9340,2,  34.9440,2,    245.2,2,    269.8,2,    15.90,2,    17.20,2,     0.00,2,     1.32,2,     0.07,2, -999.000,9, -999.000,9, -999.000,9,   2160.4,2,   2310.0,2,   -999.0,9,     -999,   -999.0,9,   3.2050,20070801,1946
  33RO20070710,GOMECC,    85,  1,   8506,      6,2,20070801,1921, 38.8183, -69.2008, 3268,   1798.8,   3.5300,  34.9380,2,  34.9490,2,    245.0,2,    269.7,2,    14.30,2,    17.20,2,     0.00,2,     1.31,2,     0.07,2, -999.000,9, -999.000,9, -999.000,9,   -999.0,5,   2307.3,2,   -999.0,9,     -999,   -999.0,9,   3.3883,20070801,1950
  33RO20070710,GOMECC,    85,  1,   8507,      7,2,20070801,1921, 38.8183, -69.2008, 3268,   1599.3,   3.6870,  34.9420,2,  34.9520,2,    244.5,2,    268.4,2,    13.40,2,    17.20,2,     0.00,2,     1.30,2,     0.06,2, -999.000,9, -999.000,9, -999.000,9,   2160.1,2,   2307.3,2,   -999.0,9,     -999,   -999.0,9,   3.5615,20070801,1955
  33RO20070710,GOMECC,    85,  1,   8508,      8,2,20070801,1921, 38.8183, -69.2008, 3268,   1399.7,   3.8070,  34.9380,2,  34.9480,2,    244.5,2,    268.2,2,    12.60,2,    17.20,2,     0.00,2,     1.28,2,     0.07,2, -999.000,9, -999.000,9, -999.000,9,   2161.5,2,   2307.0,2,   -999.0,9,     -999,   -999.0,9,   3.6979,20070801,1959
  33RO20070710,GOMECC,    85,  1,   8509,      9,2,20070801,1921, 38.8183, -69.2008, 3268,   1199.3,   3.9750,  34.9420,2,  34.9520,2,    243.6,2,    266.0,2,    12.20,2,    17.20,2,     0.00,2,     1.27,2,     0.08,2, -999.000,9, -999.000,9, -999.000,9,   2162.5,2,   2307.4,2,   -999.0,9,     -999,   -999.0,9,   3.8818,20070801,2004
  33RO20070710,GOMECC,    85,  1,   8510,     10,2,20070801,1921, 38.8183, -69.2008, 3268,   1001.0,   4.3640,  34.9740,2,  34.9850,2,    235.2,2,    255.6,2,    12.20,2,    17.60,2,     0.00,2,     1.30,2,     0.08,2, -999.000,9, -999.000,9, -999.000,9,   2165.3,2,   2310.5,2,   -999.0,9,     -999,   -999.0,9,   4.2846,20070801,2009
  33RO20070710,GOMECC,    85,  1,   8511,     11,2,20070801,1921, 38.8183, -69.2008, 3268,    799.1,   4.8030,  35.0000,2,  35.0110,2,    224.8,2,   -999.0,5,    12.40,2,    18.10,2,     0.00,2,     1.32,2,     0.06,2, -999.000,9, -999.000,9, -999.000,9,   2169.1,2,   2312.4,2,   -999.0,9,     -999,   -999.0,9,   4.7381,20070801,2013
  33RO20070710,GOMECC,    85,  1,   8512,     12,3,20070801,1921, 38.8183, -69.2008, 3268,    699.8,   4.9930,  34.9860,2,-999.0000,9,    220.3,2,    237.2,2,  -999.00,9,  -999.00,9,  -999.00,9,  -999.00,9,     -999,9, -999.000,9, -999.000,9, -999.000,9,   -999.0,9,   -999.0,9,   -999.0,9,     -999,   -999.0,9,   4.9357,20070801,2016
  33RO20070710,GOMECC,    85,  1,   8513,     13,2,20070801,1921, 38.8183, -69.2008, 3268,    599.8,   5.2910,  34.9720,2,  34.9840,2,    210.6,2,    227.5,2,    12.80,2,    18.90,2,     0.00,2,     1.37,2,     0.08,2, -999.000,9, -999.000,9, -999.000,9,   2175.4,2,   2309.6,2,   -999.0,9,     -999,   -999.0,9,   5.2409,20070801,2019
  33RO20070710,GOMECC,    85,  1,   8514,     14,2,20070801,1921, 38.8183, -69.2008, 3268,    498.5,   6.2470,  34.9990,2,  35.0130,2,    184.3,2,    198.7,2,    13.90,2,    20.50,2,     0.00,2,     1.47,2,     0.12,2, -999.000,9, -999.000,9, -999.000,9,   2182.9,2,   2312.2,2,   -999.0,9,     -999,   -999.0,9,   6.2021,20070801,2022
  33RO20070710,GOMECC,    85,  1,   8515,     15,2,20070801,1921, 38.8183, -69.2008, 3268,    400.1,   8.2890,  35.1600,2,  35.1680,2,    149.9,2,    161.5,2,    14.20,2,    22.50,2,     0.01,2,     1.56,2,     0.07,2, -999.000,9, -999.000,9, -999.000,9,   2188.3,2,   2318.7,2,   -999.0,9,     -999,   -999.0,9,   8.2470,20070801,2025
  33RO20070710,GOMECC,    85,  1,   8516,     16,2,20070801,1921, 38.8183, -69.2008, 3268,    298.8,   9.8000,  35.2480,2,  35.2600,2,    128.6,2,    137.3,2,    13.90,2,    23.20,2,     0.01,2,     1.59,2,     0.07,2, -999.000,9, -999.000,9, -999.000,9,   2190.6,2,   2325.8,2,   -999.0,9,     -999,   -999.0,9,   9.7655,20070801,2027
  33RO20070710,GOMECC,    85,  1,   8517,     17,2,20070801,1921, 38.8183, -69.2008, 3268,    199.2,  13.0410,  35.6970,2,  35.7050,2,    146.1,2,    157.2,2,     7.60,2,    16.30,2,     0.01,2,     1.09,2,     0.08,2, -999.000,9, -999.000,9, -999.000,9,   2161.6,2,   2345.8,2,   -999.0,9,     -999,   -999.0,9,  13.0134,20070801,2030
  33RO20070710,GOMECC,    85,  1,   8518,     18,2,20070801,1921, 38.8183, -69.2008, 3268,    100.0,  15.1630,  35.7870,2,  35.7890,2,    175.9,2,    190.5,2,     3.80,2,     8.50,2,     0.02,2,     0.60,2,     0.09,2, -999.000,9, -999.000,9, -999.000,9,   2125.3,2,   2352.5,2,   -999.0,9,     -999,   -999.0,9,  15.1477,20070801,2033
  33RO20070710,GOMECC,    85,  1,   8519,     19,2,20070801,1921, 38.8183, -69.2008, 3268,     73.9,  15.6590,  35.6480,2,  35.6550,2,    190.1,2,    205.3,2,     2.90,2,     5.10,2,     0.05,2,     0.43,2,     0.08,2, -999.000,9, -999.000,9, -999.000,9,   2110.7,2,   2349.9,2,   -999.0,9,     -999,   -999.0,9,  15.6475,20070801,2035
  33RO20070710,GOMECC,    85,  1,   8520,     20,2,20070801,1921, 38.8183, -69.2008, 3268,     48.3,  17.9200,  35.7860,2,  35.7750,2,    198.7,2,    217.1,2,     1.80,2,     1.10,2,     0.19,2,     0.19,2,     0.09,2, -999.000,9, -999.000,9, -999.000,9,   2090.3,2,   2361.1,2,   -999.0,9,     -999,   -999.0,9,  17.9117,20070801,2037
  33RO20070710,GOMECC,    85,  1,   8521,     21,2,20070801,1921, 38.8183, -69.2008, 3268,     29.8,  20.9660,  35.5180,2,  35.4660,4,    225.1,2,    245.6,3,     1.00,2,     0.00,2,     0.00,2,     0.04,2,     0.08,2, -999.000,9, -999.000,9, -999.000,9,   2032.9,2,   2344.6,2,   -999.0,9,     -999,   -999.0,9,  20.9603,20070801,2039
  33RO20070710,GOMECC,    85,  1,   8522,     22,2,20070801,1921, 38.8183, -69.2008, 3268,     15.2,  26.1470,  34.8570,2,  34.9340,4,    194.7,2,    214.5,2,     0.80,2,     0.00,2,     0.00,2,     0.02,2,     0.08,2, -999.000,9, -999.000,9, -999.000,9,   1999.9,2,   2312.9,2,   -999.0,9,     -999,   -999.0,9,  26.1436,20070801,2041
  33RO20070710,GOMECC,    85,  1,   8523,     23,2,20070801,1921, 38.8183, -69.2008, 3268,      8.2,  26.2070,  34.8280,2,  34.8350,2,    193.8,2,    210.1,6,     2.20,2,     0.00,2,     0.00,2,     0.01,2,     0.08,2, -999.000,9, -999.000,9, -999.000,9,   1992.7,2,   2308.2,2,   -999.0,9,     -999,   -999.0,9,  26.2052,20070801,2042
  33RO20070710,GOMECC,    85,  1,   8524,     24,2,20070801,1921, 38.8183, -69.2008, 3268,      4.8,  26.2100,  34.8270,2,  34.8340,2,    193.7,2,    210.0,2,     0.90,2,     0.00,2,     0.00,2,     0.00,2,     0.08,2, -999.000,9, -999.000,9, -999.000,9,   1993.7,2,   2305.7,2,   -999.0,9,     -999,     60.3,2,  26.2089,20070801,2043
  33RO20070710,GOMECC,    86,  1,   8601,      1,2,20070801,2353, 38.5577, -69.0110, 3494,   3498.6,   2.1910,  34.8830,2,  34.8920,2,    245.5,2,    269.5,6,    27.40,2,    17.80,2,     0.01,2,     1.35,2,     0.08,2, -999.000,9, -999.000,9, -999.000,9,   -999.0,9,   -999.0,9,   -999.0,9,     -999,   -999.0,9,   1.9065,20070801,2353
  33RO20070710,GOMECC,    86,  1,   8602,      2,2,20070801,2353, 38.5577, -69.0110, 3494,   3001.1,   2.4630,  34.9010,2,  34.9090,2,    246.7,2,    273.5,2,    20.40,2,    16.90,2,     0.00,2,     1.25,2,     0.09,2,    1.460,2,    0.540,2,    0.150,2,   -999.0,9,   -999.0,9,   -999.0,9,     -999,   -999.0,9,   2.2238,20070801,0003
  33RO20070710,GOMECC,    86,  1,   8603,      3,2,20070801,2353, 38.5577, -69.0110, 3494,   2598.5,   2.8360,  34.9210,2,  34.9300,2,    244.2,2,    270.3,2,    18.00,2,    17.10,2,     0.00,2,     1.24,2,     0.09,2, -999.000,9, -999.000,9, -999.000,9,   -999.0,9,   -999.0,9,   -999.0,9,     -999,   -999.0,9,   2.6294,20070801,0010
  33RO20070710,GOMECC,    86,  1,   8604,      4,2,20070801,2353, 38.5577, -69.0110, 3494,   2194.6,   3.1530,  34.9300,2,  34.9370,2,    244.2,2,    270.4,2,    15.50,2,    17.10,2,     0.00,2,     1.23,2,     0.08,2,    1.350,2,    0.320,2,    0.040,2,   -999.0,9,   -999.0,9,   -999.0,9,     -999,   -999.0,9,   2.9799,20070801,0018
  33RO20070710,GOMECC,    86,  1,   8605,      5,2,20070801,2353, 38.5577, -69.0110, 3494,   1985.9,   3.3030,  34.9300,2,  34.9390,2,    245.2,2,    270.8,2,    14.20,2,    17.00,2,     0.00,2,     1.22,2,      0.1,2, -999.000,9, -999.000,9, -999.000,9,   -999.0,9,   -999.0,9,   -999.0,9,     -999,   -999.0,9,   3.1472,20070801,0023
  33RO20070710,GOMECC,    86,  1,   8606,      6,2,20070801,2353, 38.5577, -69.0110, 3494,   1773.3,   3.4190,  34.9280,2,  34.9370,2,    246.1,2,    271.2,2,    13.20,2,    17.10,2,     0.00,2,     1.20,2,      0.1,2,    1.920,2,    0.560,2,    0.100,2,   -999.0,9,   -999.0,9,   -999.0,9,     -999,   -999.0,9,   3.2811,20070801,0028
  33RO20070710,GOMECC,    86,  1,   8607,      7,2,20070801,2353, 38.5577, -69.0110, 3494,   1604.5,   3.5590,  34.9310,2,  34.9400,2,    245.9,2,    270.1,2,    12.50,2,    17.10,2,     0.00,2,     1.20,2,     0.17,2, -999.000,9, -999.000,9, -999.000,9,   -999.0,9,   -999.0,9,   -999.0,9,     -999,   -999.0,9,   3.4346,20070801,0032
  33RO20070710,GOMECC,    86,  1,   8608,      8,2,20070801,2353, 38.5577, -69.0110, 3494,   1419.4,   3.7810,  34.9370,2,  34.9430,2,    244.3,2,    268.0,2,    11.70,2,    17.00,2,     0.00,2,     1.19,2,     0.07,2,    2.210,2,    1.190,2,    0.150,2,   -999.0,9,   -999.0,9,   -999.0,9,     -999,   -999.0,9,   3.6705,20070801,0038
  33RO20070710,GOMECC,    86,  1,   8609,      9,2,20070801,2353, 38.5577, -69.0110, 3494,   1200.7,   3.9330,  34.9410,2,  34.9480,2,    243.4,2,    267.6,2,    11.20,2,    17.00,2,     0.00,2,     1.18,2,     0.09,2, -999.000,9, -999.000,9, -999.000,9,   -999.0,9,   -999.0,9,   -999.0,9,     -999,   -999.0,9,   3.8401,20070801,0044
  33RO20070710,GOMECC,    86,  1,   8610,     10,2,20070801,2353, 38.5577, -69.0110, 3494,    998.4,   4.0300,  34.9380,2,  34.9460,2,    243.9,2,    266.2,2,    11.00,2,    17.00,2,     0.00,2,     1.18,2,      0.1,2,    2.260,2,    1.170,2,    0.090,2,   -999.0,9,   -999.0,9,   -999.0,9,     -999,   -999.0,9,   3.9535,20070801,0050
  33RO20070710,GOMECC,    86,  1,   8611,     11,2,20070801,2353, 38.5577, -69.0110, 3494,    789.0,   4.2060,  34.9380,2,  34.9450,2,    242.4,2,    263.4,2,    10.70,2,    17.00,2,     0.00,2,     1.17,2,      0.1,2, -999.000,9, -999.000,9, -999.000,9,   -999.0,9,   -999.0,9,   -999.0,9,     -999,   -999.0,9,   4.1457,20070801,0055
  33RO20070710,GOMECC,    86,  1,   8612,     12,3,20070801,2353, 38.5577, -69.0110, 3494,    704.3,   4.3050,  34.9330,2,-999.0000,9,    240.4,2,    276.3,3,  -999.00,9,  -999.00,9,  -999.00,9,  -999.00,9,     -999,9, -999.000,9, -999.000,9, -999.000,9,   -999.0,9,   -999.0,9,   -999.0,9,     -999,   -999.0,9,   4.2511,20070801,0058
  33RO20070710,GOMECC,    86,  1,   8613,     13,2,20070801,2353, 38.5577, -69.0110, 3494,    612.9,   4.8530,  34.9860,2,  34.9950,2,    224.0,2,    241.7,2,    11.50,2,    18.10,2,     0.00,2,     1.24,2,      0.1,2,    2.530,2,    1.090,2,    0.270,2,   -999.0,9,   -999.0,9,   -999.0,9,     -999,   -999.0,9,   4.8039,20070801,0102
  33RO20070710,GOMECC,    86,  1,   8614,     14,2,20070801,2353, 38.5577, -69.0110, 3494,    501.3,   5.5420,  34.9970,2,  35.0050,2,    203.2,2,    218.7,2,    12.40,2,    19.30,2,     0.01,2,     1.32,2,     0.11,2,    2.130,2,    1.060,2,    0.140,2,   -999.0,9,   -999.0,9,   -999.0,9,     -999,   -999.0,9,   5.4995,20070801,0105
  33RO20070710,GOMECC,    86,  1,   8615,     15,2,20070801,2353, 38.5577, -69.0110, 3494,    400.1,   6.0970,  34.9660,2,  34.9740,2,    186.7,2,    200.6,2,    12.90,2,    20.40,2,     0.00,2,     1.38,2,     0.09,2, -999.000,9, -999.000,9, -999.000,9,   -999.0,9,   -999.0,9,   -999.0,9,     -999,   -999.0,9,   6.0617,20070801,0108
  33RO20070710,GOMECC,    86,  1,   8616,     16,2,20070801,2353, 38.5577, -69.0110, 3494,    297.5,   7.3810,  35.0020,2,  33.7010,4,    159.9,2,    171.7,2,    13.40,2,    21.70,2,     0.01,2,     1.47,2,     0.11,2,    1.770,2,    0.600,2,    0.120,2,   -999.0,9,   -999.0,9,   -999.0,9,     -999,   -999.0,9,   7.3521,20070801,0111
  33RO20070710,GOMECC,    86,  1,   8617,     17,2,20070801,2353, 38.5577, -69.0110, 3494,    297.4,   7.3850,  35.0020,2,  35.0080,2,    160.0,2,    172.1,2,    13.60,2,    21.80,2,     0.01,2,     1.46,2,     0.11,2, -999.000,9, -999.000,9, -999.000,9,   -999.0,9,   -999.0,9,   -999.0,9,     -999,   -999.0,9,   7.3561,20070801,0112
  33RO20070710,GOMECC,    86,  1,   8618,     18,2,20070801,2353, 38.5577, -69.0110, 3494,    101.6,  10.6810,  34.9160,2,  34.9000,2,    191.5,2,    210.4,2,     6.10,2,    11.70,2,     0.02,2,     0.86,2,     0.12,2,    3.160,2,    1.600,2,    0.140,2,   -999.0,9,   -999.0,9,   -999.0,9,     -999,   -999.0,9,  10.6688,20070801,0117
  33RO20070710,GOMECC,    86,  1,   8619,     19,2,20070801,2353, 38.5577, -69.0110, 3494,     75.1,  10.9690,  34.6810,2,  34.6800,2,    206.0,2,    221.7,2,     5.00,2,     9.10,2,     0.02,2,     0.73,2,     0.11,2, -999.000,9, -999.000,9, -999.000,9,   -999.0,9,   -999.0,9,   -999.0,9,     -999,   -999.0,9,  10.9598,20070801,0118
  33RO20070710,GOMECC,    86,  1,   8620,     20,2,20070801,2353, 38.5577, -69.0110, 3494,     49.9,   9.0230,  33.6800,2,  33.6990,4,    236.8,2,    253.9,2,     5.20,2,     6.90,2,     0.05,2,     0.70,2,      0.1,2, -999.000,9, -999.000,9, -999.000,9,   -999.0,9,   2260.9,2,   -999.0,9,     -999,   -999.0,9,   9.0177,20070801,0120
  33RO20070710,GOMECC,    86,  1,   8621,     21,2,20070801,2353, 38.5577, -69.0110, 3494,     19.5,  23.1380,  34.2340,2,  34.3880,4,    217.4,2,    233.0,2,     0.20,2,     0.10,2,     0.00,2,     0.04,2,     0.11,2, -999.000,9, -999.000,9, -999.000,9,   -999.0,9,   -999.0,9,   -999.0,9,     -999,   -999.0,9,  23.1340,20070801,0122
  33RO20070710,GOMECC,    86,  1,   8622,     22,2,20070801,2353, 38.5577, -69.0110, 3494,      9.3,  24.3130,  33.5450,2,  33.5740,4,    205.5,2,    222.7,2,     0.20,2,     0.00,2,     0.00,2,     0.04,2,      0.1,2,    1.930,2,    1.200,2,    0.200,2,   -999.0,9,   -999.0,9,   -999.0,9,     -999,   -999.0,9,  24.3110,20070801,0124
  33RO20070710,GOMECC,    86,  1,   8623,     23,2,20070801,2353, 38.5577, -69.0110, 3494,      4.3,  24.3120,  33.5420,2,  33.5490,2,    205.8,2,    222.5,2,     0.00,2,     0.00,2,     0.00,2,     0.03,2,     0.11,2,    1.980,2,    1.170,2,    0.220,2,   -999.0,9,   2247.4,2,   -999.0,9,     -999,     72.2,2,  24.3111,20070801,0125
  33RO20070710,GOMECC,    86,  1,   8624,     24,3,20070801,2353, 38.5577, -69.0110, 3494,      4.3,  24.3120,  33.5410,2,-999.0000,9,    205.7,2,   -999.0,9,  -999.00,9,  -999.00,9,  -999.00,9,  -999.00,9,     -999,9, -999.000,9, -999.000,9, -999.000,9,   -999.0,9,   -999.0,9,   -999.0,9,     -999,   -999.0,9,  24.3111,20070801,0125