BOTTLE,20220922CCHSIOAMB
EXPOCODE,SECT_ID,STNNBR,CASTNO,SAMPNO,BTLNBR,BTLNBR_FLAG_W,DATE,TIME,LATITUDE,LONGITUDE,DEPTH,CTDPRS,CTDTMP,CTDSAL,CTDSAL_FLAG_W,SALNTY,SALNTY_FLAG_W,CTDOXY,CTDOXY_FLAG_W,OXYGEN,OXYGEN_FLAG_W,SILCAT,SILCAT_FLAG_W,NITRAT,NITRAT_FLAG_W,NITRIT,NITRIT_FLAG_W,PHSPHT,PHSPHT_FLAG_W,NH4,NH4_FLAG_W,CFC-11,CFC-11_FLAG_W,CFC-12,CFC-12_FLAG_W,CFC113,CFC113_FLAG_W,TCARBN,TCARBN_FLAG_W,ALKALI,ALKALI_FLAG_W,FCO2,FCO2_FLAG_W,FCO2TMP,DOC,DOC_FLAG_W,THETA,BTL_DATE,BTL_TIME
,,,,,,,,,,,METERS,DBAR,ITS-90,PSS-78,,PSS-78,,UMOL/KG,,UMOL/KG,,UMOL/KG,,UMOL/KG,,UMOL/KG,,UMOL/KG,,UMOL/KG,,PMOL/KG,,PMOL/KG,,PMOL/KG,,UMOL/KG,,UMOL/KG,,UATM,,DEG C,UMOL/KG,,DEG C,,
  33RO20070710,GOMECC,    62,  1,   6201,      1,2,20070729,0841, 43.0177, -70.5585,   97,     54.7,   5.7490,  32.0490,2,  32.0390,2,    258.9,2,    277.6,2,     7.60,2,     6.80,2,     0.24,2,     0.98,2,     2.24,2,    5.800,2,    2.210,2,    0.010,2,   2073.9,6,   2184.8,2,    863.8,2,       20,   -999.0,9,   5.7447,20070729,0841
  33RO20070710,GOMECC,    62,  1,   6203,      3,9,20070729,0841, 43.0177, -70.5585,   97,     54.8,   5.7510,  32.0480,2,-999.0000,9,    259.2,2,   -999.0,9,  -999.00,9,  -999.00,9,  -999.00,9,  -999.00,9,     -999,9, -999.000,9, -999.000,9, -999.000,9,   -999.0,9,   -999.0,9,   -999.0,9,     -999,   -999.0,9,   5.7467,20070729,0841
  33RO20070710,GOMECC,    62,  1,   6204,      4,2,20070729,0841, 43.0177, -70.5585,   97,     39.9,   6.2290,  31.9830,2,  31.9880,2,    265.4,2,    284.2,2,     6.00,2,     5.40,2,     0.25,2,     0.96,2,     2.61,2, -999.000,9, -999.000,9, -999.000,9,   2070.7,2,   2181.9,2,    810.7,2,       20,   -999.0,9,   6.2257,20070729,0842
  33RO20070710,GOMECC,    62,  1,   6205,      5,2,20070729,0841, 43.0177, -70.5585,   97,     40.0,   6.3490,  31.9640,2,-999.0000,9,    265.6,2,    284.5,6,  -999.00,9,  -999.00,9,  -999.00,9,  -999.00,9,     -999,9, -999.000,9, -999.000,9, -999.000,9,   -999.0,9,   -999.0,9,   -999.0,9,     -999,   -999.0,9,   6.3457,20070729,0842
  33RO20070710,GOMECC,    62,  1,   6206,      6,2,20070729,0841, 43.0177, -70.5585,   97,     30.0,   6.9740,  31.9050,2,-999.0000,9,    290.0,2,    307.7,2,     2.60,2,     2.30,2,     0.14,2,     0.69,2,     0.99,2, -999.000,9, -999.000,9, -999.000,9,   2041.9,2,   2176.5,2,    705.8,2,       20,   -999.0,9,   6.9714,20070729,0843
  33RO20070710,GOMECC,    62,  1,   6207,      7,2,20070729,0841, 43.0177, -70.5585,   97,     30.0,   6.9950,  31.9010,2,  31.9160,2,    290.3,2,   -999.0,9,  -999.00,9,  -999.00,9,  -999.00,9,  -999.00,9,     -999,9, -999.000,9, -999.000,9, -999.000,9,   -999.0,9,   -999.0,9,   -999.0,9,     -999,   -999.0,9,   6.9924,20070729,0843
  33RO20070710,GOMECC,    62,  1,   6208,      8,2,20070729,0841, 43.0177, -70.5585,   97,     20.0,   7.5490,  31.8440,2,  31.8690,4,    319.9,2,    337.0,2,     1.20,2,     0.50,2,     0.01,2,     0.44,2,     0.23,2, -999.000,9, -999.000,9, -999.000,9,   2017.2,2,   2176.3,2,    595.7,2,       20,   -999.0,9,   7.5472,20070729,0845
  33RO20070710,GOMECC,    62,  1,   6209,      9,2,20070729,0841, 43.0177, -70.5585,   97,     19.9,   7.5630,  31.8430,2,-999.0000,9,    320.5,2,   -999.0,9,  -999.00,9,  -999.00,9,  -999.00,9,  -999.00,9,     -999,9, -999.000,9, -999.000,9, -999.000,9,   -999.0,9,   -999.0,9,   -999.0,9,     -999,   -999.0,9,   7.5612,20070729,0845
  33RO20070710,GOMECC,    62,  1,   6210,     10,2,20070729,0841, 43.0177, -70.5585,   97,      9.8,  12.7960,  31.6090,2,  31.7480,4,    305.2,2,    340.9,2,     1.40,2,     0.30,2,     0.00,2,     0.26,2,     0.37,2, -999.000,9, -999.000,9, -999.000,9,   1970.6,2,   2159.7,2,    476.5,2,       20,   -999.0,9,  12.7947,20070729,0846
  33RO20070710,GOMECC,    62,  1,   6211,     11,9,20070729,0841, 43.0177, -70.5585,   97,      9.8,  10.9390,  31.7610,2,-999.0000,9,    310.9,2,   -999.0,9,  -999.00,9,  -999.00,9,  -999.00,9,  -999.00,9,     -999,9, -999.000,9, -999.000,9, -999.000,9,   -999.0,9,   -999.0,9,   -999.0,9,     -999,   -999.0,9,  10.9379,20070729,0846
  33RO20070710,GOMECC,    62,  1,   6212,     12,2,20070729,0841, 43.0177, -70.5585,   97,      3.7,  15.5060,  31.3920,2,  31.3010,4,    275.0,2,    301.2,6,     2.20,2,     0.40,2,     0.00,2,     0.23,2,     0.44,2,    4.160,2,    1.770,2,    0.670,2,   1925.1,2,   2126.5,6,    422.6,2,       20,     80.4,2,  15.5054,20070729,0847
  33RO20070710,GOMECC,    62,  1,   6213,     13,2,20070729,0841, 43.0177, -70.5585,   97,      3.7,  16.3740,  31.4030,2,-999.0000,9,    279.0,2,   -999.0,9,  -999.00,9,  -999.00,9,  -999.00,9,  -999.00,9,     -999,9, -999.000,9, -999.000,9, -999.000,9,   -999.0,9,   -999.0,9,   -999.0,9,     -999,   -999.0,9,  16.3734,20070729,0847
  33RO20070710,GOMECC,    63,  1,   6301,      1,3,20070729,1028, 42.9933, -70.4215,  114,     94.7,   4.4190,  32.3960,2,  32.3650,4,    257.1,2,    276.6,2,    11.20,3,    10.00,3,     0.20,3,     0.99,3,     1.09,3,    5.730,2,    1.130,2,    0.590,2,   2091.9,2,   2196.2,2,    904.9,2,       20,   -999.0,9,   4.4125,20070729,1028
  33RO20070710,GOMECC,    63,  1,   6303,      3,9,20070729,1028, 42.9933, -70.4215,  114,     94.7,   4.4220,  32.3920,2,-999.0000,9,    257.1,2,   -999.0,9,  -999.00,9,  -999.00,9,  -999.00,9,  -999.00,9,     -999,9, -999.000,9, -999.000,9, -999.000,9,   -999.0,9,   -999.0,9,   -999.0,9,     -999,   -999.0,9,   4.4155,20070729,1028
  33RO20070710,GOMECC,    63,  1,   6304,      4,2,20070729,1028, 42.9933, -70.4215,  114,     70.0,   5.9140,  32.1730,2,  32.1770,2,    265.2,2,    282.5,6,     6.10,2,     7.70,2,     0.13,2,     0.93,2,     1.83,2, -999.000,9, -999.000,9, -999.000,9,   2075.7,2,   2188.1,2,    828.5,2,       20,   -999.0,9,   5.9084,20070729,1030
  33RO20070710,GOMECC,    63,  1,   6305,      5,9,20070729,1028, 42.9933, -70.4215,  114,     69.9,   5.9270,  32.1730,2,-999.0000,9,    265.3,2,   -999.0,9,  -999.00,9,  -999.00,9,  -999.00,9,  -999.00,9,     -999,9, -999.000,9, -999.000,9, -999.000,9,   -999.0,9,   -999.0,9,   -999.0,9,     -999,   -999.0,9,   5.9214,20070729,1030
  33RO20070710,GOMECC,    63,  1,   6306,      6,2,20070729,1028, 42.9933, -70.4215,  114,     50.2,   6.2940,  32.0090,2,  32.0280,2,    266.5,2,    283.8,2,     3.70,2,     5.50,2,     0.32,2,     0.95,2,      3.1,2,    5.330,2,    1.060,2,    0.360,2,   2069.7,2,   2182.9,2,    809.6,2,       20,   -999.0,9,   6.2899,20070729,1031
  33RO20070710,GOMECC,    63,  1,   6307,      7,9,20070729,1028, 42.9933, -70.4215,  114,     50.1,   6.2930,  32.0100,2,-999.0000,9,    266.5,2,   -999.0,9,  -999.00,9,  -999.00,9,  -999.00,9,  -999.00,9,     -999,9, -999.000,9, -999.000,9, -999.000,9,   -999.0,9,   -999.0,9,   -999.0,9,     -999,   -999.0,9,   6.2889,20070729,1032
  33RO20070710,GOMECC,    63,  1,   6308,      8,2,20070729,1028, 42.9933, -70.4215,  114,     40.3,   6.5920,  31.9660,2,  31.9770,2,    267.0,2,    283.6,6,     3.20,2,     4.60,2,     0.29,2,     0.98,2,     1.47,2, -999.000,9, -999.000,9, -999.000,9,   2064.4,2,   2181.0,2,    811.1,2,       20,   -999.0,9,   6.5886,20070729,1033
  33RO20070710,GOMECC,    63,  1,   6309,      9,9,20070729,1028, 42.9933, -70.4215,  114,     40.2,   6.5870,  31.9670,2,-999.0000,9,    267.1,2,   -999.0,9,  -999.00,9,  -999.00,9,  -999.00,9,  -999.00,9,     -999,9, -999.000,9, -999.000,9, -999.000,9,   -999.0,9,   -999.0,9,   -999.0,9,     -999,   -999.0,9,   6.5836,20070729,1033
  33RO20070710,GOMECC,    63,  1,   6310,     10,2,20070729,1028, 42.9933, -70.4215,  114,     30.1,   6.6580,  31.9480,2,  31.9510,2,    270.2,2,    290.2,2,     4.60,2,     3.90,2,     0.26,2,     0.86,2,     2.51,2, -999.000,9, -999.000,9, -999.000,9,   2057.9,2,   2178.4,2,    793.3,2,       20,   -999.0,9,   6.6554,20070729,1034
  33RO20070710,GOMECC,    63,  1,   6311,     11,9,20070729,1028, 42.9933, -70.4215,  114,     30.0,   6.6560,  31.9510,2,-999.0000,9,    269.2,2,   -999.0,9,  -999.00,9,  -999.00,9,  -999.00,9,  -999.00,9,     -999,9, -999.000,9, -999.000,9, -999.000,9,   -999.0,9,   -999.0,9,   -999.0,9,     -999,   -999.0,9,   6.6534,20070729,1034
  33RO20070710,GOMECC,    63,  1,   6312,     12,4,20070729,1028, 42.9933, -70.4215,  114,     20.1,   6.9710,  31.9130,2,-999.0000,9,    280.1,2,   -999.0,9,  -999.00,9,  -999.00,9,  -999.00,9,  -999.00,9,     -999,9, -999.000,9, -999.000,9, -999.000,9,   -999.0,9,   -999.0,9,   -999.0,9,     -999,   -999.0,9,   6.9692,20070729,1035
  33RO20070710,GOMECC,    63,  1,   6313,     13,2,20070729,1028, 42.9933, -70.4215,  114,     20.1,   6.9920,  31.9020,2,  31.9020,2,    282.6,2,    305.5,2,     3.40,2,     2.40,2,     0.16,2,     0.67,2,     1.07,2, -999.000,9, -999.000,9, -999.000,9,   2039.7,2,   2176.3,2,    708.2,2,       20,   -999.0,9,   6.9902,20070729,1035
  33RO20070710,GOMECC,    63,  1,   6314,     14,4,20070729,1028, 42.9933, -70.4215,  114,      9.8,  17.7100,  31.2490,2,-999.0000,9,    256.8,2,   -999.0,9,  -999.00,9,  -999.00,9,  -999.00,9,  -999.00,9,     -999,9,    3.730,2,    0.910,2,    0.140,2,   -999.0,9,   -999.0,9,   -999.0,9,     -999,   -999.0,9,  17.7084,20070729,1036
  33RO20070710,GOMECC,    63,  1,   6315,     15,2,20070729,1028, 42.9933, -70.4215,  114,      9.7,  17.7660,  31.2430,2,  31.3070,4,    256.8,2,    287.8,2,     1.40,2,     0.40,2,     0.00,2,     0.16,2,     0.23,2, -999.000,9, -999.000,9, -999.000,9,   1922.7,2,   2128.9,2,    413.9,2,       20,   -999.0,9,  17.7644,20070729,1036
  33RO20070710,GOMECC,    63,  1,   6316,     16,2,20070729,1028, 42.9933, -70.4215,  114,      4.3,  18.7240,  31.1370,2,  31.1660,4,    245.9,2,    271.0,2,     1.50,2,     0.30,2,     0.01,2,     0.14,2,     0.25,2,    3.450,2,    0.910,2,    0.250,2,   1912.4,6,   2119.3,2,    405.1,2,       20,     83.2,2,  18.7233,20070729,1037
  33RO20070710,GOMECC,    63,  1,   6317,     17,2,20070729,1028, 42.9933, -70.4215,  114,      4.2,  18.7370,  31.1340,2,-999.0000,9,    245.8,2,   -999.0,9,  -999.00,9,  -999.00,9,  -999.00,9,  -999.00,9,     -999,9, -999.000,9, -999.000,9, -999.000,9,   -999.0,9,   -999.0,9,   -999.0,9,     -999,   -999.0,9,  18.7363,20070729,1038
  33RO20070710,GOMECC,    64,  1,   6401,      1,2,20070729,1204, 42.9395, -70.2925,  151,    133.0,   4.4690,  32.7880,2,  32.7790,2,    238.1,2,    257.4,2,    14.30,2,    13.70,2,     0.38,2,     1.16,2,     1.11,2,    5.250,2,    1.390,2,    0.480,2,   2116.2,6,   2211.5,2,    971.1,2,       20,   -999.0,9,   4.4597,20070729,1204
  33RO20070710,GOMECC,    64,  1,   6403,      3,9,20070729,1204, 42.9395, -70.2925,  151,    133.0,   4.4680,  32.7880,2,-999.0000,9,    238.2,2,   -999.0,9,  -999.00,9,  -999.00,9,  -999.00,9,  -999.00,9,     -999,9, -999.000,9, -999.000,9, -999.000,9,   -999.0,9,   -999.0,9,   -999.0,9,     -999,   -999.0,9,   4.4587,20070729,1205
  33RO20070710,GOMECC,    64,  1,   6404,      4,2,20070729,1204, 42.9395, -70.2925,  151,     99.7,   4.6020,  32.4550,2,  32.4850,4,    253.3,2,    268.8,2,    10.00,2,    11.50,2,     0.24,2,     1.04,2,     2.84,2,    3.980,2,    1.150,2,    0.380,2,   2098.4,2,   2200.1,2,    914.6,2,       20,   -999.0,9,   4.5950,20070729,1206
  33RO20070710,GOMECC,    64,  1,   6405,      5,9,20070729,1204, 42.9395, -70.2925,  151,     99.7,   4.6010,  32.4550,2,-999.0000,9,    253.2,2,   -999.0,9,  -999.00,9,  -999.00,9,  -999.00,9,  -999.00,9,     -999,9, -999.000,9, -999.000,9, -999.000,9,   -999.0,9,   -999.0,9,   -999.0,9,     -999,   -999.0,9,   4.5940,20070729,1206
  33RO20070710,GOMECC,    64,  1,   6406,      6,2,20070729,1204, 42.9395, -70.2925,  151,     70.2,   5.6880,  32.2700,2,  32.2810,2,    260.9,2,    277.5,6,     6.20,2,     5.40,2,     0.17,2,     0.92,2,     2.25,2, -999.000,9, -999.000,9, -999.000,9,   2080.2,2,   2192.2,2,    836.0,2,       20,   -999.0,9,   5.6825,20070729,1208
  33RO20070710,GOMECC,    64,  1,   6407,      7,9,20070729,1204, 42.9395, -70.2925,  151,     70.2,   5.6870,  32.2700,2,-999.0000,9,    260.8,2,   -999.0,9,  -999.00,9,  -999.00,9,  -999.00,9,  -999.00,9,     -999,9, -999.000,9, -999.000,9, -999.000,9,   -999.0,9,   -999.0,9,   -999.0,9,     -999,   -999.0,9,   5.6815,20070729,1208
  33RO20070710,GOMECC,    64,  1,   6408,      8,2,20070729,1204, 42.9395, -70.2925,  151,     49.7,   6.0780,  32.0710,2,  32.0870,2,    261.2,2,    278.1,2,     6.00,2,     6.10,2,     0.27,2,     0.96,2,     2.18,2,    5.690,2,    1.360,2,    0.210,2,   2074.2,2,   2186.0,2,    838.4,2,       20,   -999.0,9,   6.0740,20070729,1210
  33RO20070710,GOMECC,    64,  1,   6409,      9,9,20070729,1204, 42.9395, -70.2925,  151,     49.7,   6.0820,  32.0700,2,-999.0000,9,    261.2,2,   -999.0,9,  -999.00,9,  -999.00,9,  -999.00,9,  -999.00,9,     -999,9, -999.000,9, -999.000,9, -999.000,9,   -999.0,9,   -999.0,9,   -999.0,9,     -999,   -999.0,9,   6.0780,20070729,1210
  33RO20070710,GOMECC,    64,  1,   6410,     10,2,20070729,1204, 42.9395, -70.2925,  151,     40.3,   6.4840,  32.0330,2,  32.0420,2,    263.7,2,    280.7,2,     4.90,2,     5.00,2,     0.30,2,     0.94,2,     0.59,2, -999.000,9, -999.000,9, -999.000,9,   2067.2,2,   2183.0,2,    808.9,2,       20,   -999.0,9,   6.4806,20070729,1211
  33RO20070710,GOMECC,    64,  1,   6411,     11,9,20070729,1204, 42.9395, -70.2925,  151,     40.2,   6.4870,  32.0350,2,-999.0000,9,    263.9,2,   -999.0,9,  -999.00,9,  -999.00,9,  -999.00,9,  -999.00,9,     -999,9, -999.000,9, -999.000,9, -999.000,9,   -999.0,9,   -999.0,9,   -999.0,9,     -999,   -999.0,9,   6.4836,20070729,1211
  33RO20070710,GOMECC,    64,  1,   6412,     12,4,20070729,1204, 42.9395, -70.2925,  151,     30.3,   6.8700,  32.0290,2,-999.0000,9,    271.9,2,   -999.0,9,  -999.00,9,  -999.00,9,  -999.00,9,  -999.00,9,     -999,9, -999.000,9, -999.000,9, -999.000,9,   -999.0,9,   -999.0,9,   -999.0,9,     -999,   -999.0,9,   6.8674,20070729,1212
  33RO20070710,GOMECC,    64,  1,   6413,     13,2,20070729,1204, 42.9395, -70.2925,  151,     30.3,   6.8300,  32.0290,2,  32.0380,2,    270.3,2,    287.7,2,     4.40,2,     4.00,2,     0.24,2,     0.84,2,     0.71,2, -999.000,9, -999.000,9, -999.000,9,   2058.7,2,   2182.5,2,    764.1,2,       20,   -999.0,9,   6.8274,20070729,1212
  33RO20070710,GOMECC,    64,  1,   6414,     14,2,20070729,1204, 42.9395, -70.2925,  151,     20.0,   8.8890,  32.1590,2,  32.0680,4,    292.1,2,    328.8,2,     2.40,2,     1.40,2,     0.07,2,     0.54,2,      0.3,2,    4.910,2,    1.440,2,    0.320,2,   2024.0,2,   2185.8,2,    586.4,2,       20,   -999.0,9,   8.8870,20070729,1213
  33RO20070710,GOMECC,    64,  1,   6415,     15,9,20070729,1204, 42.9395, -70.2925,  151,     20.0,   7.5420,  32.3480,2,-999.0000,9,    330.2,2,   -999.0,9,  -999.00,9,  -999.00,9,  -999.00,9,  -999.00,9,     -999,9, -999.000,9, -999.000,9, -999.000,9,   -999.0,9,   -999.0,9,   -999.0,9,     -999,   -999.0,9,   7.5402,20070729,1213
  33RO20070710,GOMECC,    64,  1,   6416,     16,2,20070729,1204, 42.9395, -70.2925,  151,     10.0,  14.6280,  31.7640,2,  31.8550,4,    292.5,2,    336.9,2,     1.30,2,     0.40,2,     0.01,2,     0.23,2,     0.96,2, -999.000,9, -999.000,9, -999.000,9,   1973.0,2,   2177.4,2,    451.8,2,       20,   -999.0,9,  14.6266,20070729,1214
  33RO20070710,GOMECC,    64,  1,   6417,     17,9,20070729,1204, 42.9395, -70.2925,  151,     10.0,  14.6290,  31.7670,2,-999.0000,9,    292.6,2,   -999.0,9,  -999.00,9,  -999.00,9,  -999.00,9,  -999.00,9,     -999,9, -999.000,9, -999.000,9, -999.000,9,   -999.0,9,   -999.0,9,   -999.0,9,     -999,   -999.0,9,  14.6276,20070729,1214
  33RO20070710,GOMECC,    64,  1,   6418,     18,2,20070729,1204, 42.9395, -70.2925,  151,      4.3,  18.2710,  31.3940,2,  31.4320,4,    252.7,2,    278.5,2,     1.30,2,     0.30,2,     0.00,2,     0.14,2,     0.61,2,    3.080,2,    1.340,2,    0.120,2,   1925.3,2,   2138.6,2,    395.9,2,       20,     73.2,2,  18.2703,20070729,1215
  33RO20070710,GOMECC,    64,  1,   6419,     19,2,20070729,1204, 42.9395, -70.2925,  151,      4.3,  18.4180,  31.3660,2,-999.0000,9,    251.3,2,   -999.0,9,  -999.00,9,  -999.00,9,  -999.00,9,  -999.00,9,     -999,9, -999.000,9, -999.000,9, -999.000,9,   -999.0,9,   -999.0,9,   -999.0,9,     -999,   -999.0,9,  18.4173,20070729,1216