BOTTLE,20220922CCHSIOAMB
EXPOCODE,SECT_ID,STNNBR,CASTNO,SAMPNO,BTLNBR,BTLNBR_FLAG_W,DATE,TIME,LATITUDE,LONGITUDE,DEPTH,CTDPRS,CTDTMP,CTDSAL,CTDSAL_FLAG_W,SALNTY,SALNTY_FLAG_W,CTDOXY,CTDOXY_FLAG_W,OXYGEN,OXYGEN_FLAG_W,SILCAT,SILCAT_FLAG_W,NITRAT,NITRAT_FLAG_W,NITRIT,NITRIT_FLAG_W,PHSPHT,PHSPHT_FLAG_W,NH4,NH4_FLAG_W,CFC-11,CFC-11_FLAG_W,CFC-12,CFC-12_FLAG_W,CFC113,CFC113_FLAG_W,TCARBN,TCARBN_FLAG_W,ALKALI,ALKALI_FLAG_W,FCO2,FCO2_FLAG_W,FCO2TMP,DOC,DOC_FLAG_W,THETA,BTL_DATE,BTL_TIME
,,,,,,,,,,,METERS,DBAR,ITS-90,PSS-78,,PSS-78,,UMOL/KG,,UMOL/KG,,UMOL/KG,,UMOL/KG,,UMOL/KG,,UMOL/KG,,UMOL/KG,,PMOL/KG,,PMOL/KG,,PMOL/KG,,UMOL/KG,,UMOL/KG,,UATM,,DEG C,UMOL/KG,,DEG C,,
  33RO20070710,GOMECC,    75,  1,   7501,      1,2,20070731,1345, 40.6347, -70.3895,   71,     50.1,   9.2830,  32.9360,2,  32.9370,2,    218.2,2,    232.1,2,    12.00,2,     2.60,2,     0.50,2,     0.94,2,     2.22,2,    4.120,2,    1.840,2,    0.310,2,   2094.1,6,   2231.8,2,    743.8,2,       20,   -999.0,9,   9.2776,20070731,1345
  33RO20070710,GOMECC,    75,  1,   7503,      3,9,20070731,1345, 40.6347, -70.3895,   71,     50.0,   9.2870,  32.9350,2,-999.0000,9,    217.8,2,   -999.0,9,  -999.00,9,  -999.00,9,  -999.00,9,  -999.00,9,     -999,9, -999.000,9, -999.000,9, -999.000,9,   -999.0,9,   -999.0,9,   -999.0,9,     -999,   -999.0,9,   9.2817,20070731,1345
  33RO20070710,GOMECC,    75,  1,   7504,      4,2,20070731,1345, 40.6347, -70.3895,   71,     39.7,   9.4290,  32.9060,2,  32.9230,2,    217.5,2,    232.4,2,    12.20,2,     2.50,2,     0.49,2,     0.95,2,     2.29,2,    3.980,2,    1.680,2,    0.230,2,   2092.7,2,   2231.6,2,    742.0,2,       20,   -999.0,9,   9.4247,20070731,1346
  33RO20070710,GOMECC,    75,  1,   7505,      5,9,20070731,1345, 40.6347, -70.3895,   71,     39.6,   9.4250,  32.9070,2,-999.0000,9,    217.5,2,   -999.0,9,  -999.00,9,  -999.00,9,  -999.00,9,  -999.00,9,     -999,9, -999.000,9, -999.000,9, -999.000,9,   -999.0,9,   -999.0,9,   -999.0,9,     -999,   -999.0,9,   9.4207,20070731,1346
  33RO20070710,GOMECC,    75,  1,   7506,      6,2,20070731,1345, 40.6347, -70.3895,   71,     29.9,   9.5780,  32.8800,2,  32.8890,2,    219.4,2,    233.7,6,    12.10,2,     2.40,2,     0.47,2,     0.91,2,     2.32,2, -999.000,9, -999.000,9, -999.000,9,   2088.8,2,   2228.6,2,    731.5,2,       20,   -999.0,9,   9.5747,20070731,1347
  33RO20070710,GOMECC,    75,  1,   7507,      7,9,20070731,1345, 40.6347, -70.3895,   71,     29.9,   9.5780,  32.8800,2,-999.0000,9,    219.7,2,   -999.0,9,  -999.00,9,  -999.00,9,  -999.00,9,  -999.00,9,     -999,9, -999.000,9, -999.000,9, -999.000,9,   -999.0,9,   -999.0,9,   -999.0,9,     -999,   -999.0,9,   9.5747,20070731,1347
  33RO20070710,GOMECC,    75,  1,   7508,      8,2,20070731,1345, 40.6347, -70.3895,   71,     20.3,   9.9560,  32.8570,2,  32.8760,2,    228.6,2,    242.9,2,    10.30,2,     2.10,2,     0.39,2,     0.84,2,     1.96,2, -999.000,9, -999.000,9, -999.000,9,   2081.3,2,   2226.6,2,    702.8,2,       20,   -999.0,9,   9.9537,20070731,1348
  33RO20070710,GOMECC,    75,  1,   7509,      9,9,20070731,1345, 40.6347, -70.3895,   71,     20.2,   9.9520,  32.8610,2,-999.0000,9,    227.7,2,   -999.0,9,  -999.00,9,  -999.00,9,  -999.00,9,  -999.00,9,     -999,9, -999.000,9, -999.000,9, -999.000,9,   -999.0,9,   -999.0,9,   -999.0,9,     -999,   -999.0,9,   9.9497,20070731,1349
  33RO20070710,GOMECC,    75,  1,   7510,     10,2,20070731,1345, 40.6347, -70.3895,   71,     10.1,  20.0640,  32.6970,2,  32.7460,4,    250.1,2,    264.4,2,     2.50,2,     0.40,2,     0.08,2,     0.34,2,     0.45,2,    2.950,2,    1.590,2,    0.330,2,   1997.9,2,   2208.5,2,    453.3,2,       20,   -999.0,9,  20.0622,20070731,1350
  33RO20070710,GOMECC,    75,  1,   7511,     11,9,20070731,1345, 40.6347, -70.3895,   71,     10.2,  19.8930,  32.7010,2,-999.0000,9,    250.9,2,   -999.0,9,  -999.00,9,  -999.00,9,  -999.00,9,  -999.00,9,     -999,9, -999.000,9, -999.000,9, -999.000,9,   -999.0,9,   -999.0,9,   -999.0,9,     -999,   -999.0,9,  19.8912,20070731,1350
  33RO20070710,GOMECC,    75,  1,   7512,     12,3,20070731,1345, 40.6347, -70.3895,   71,      3.7,  23.0010,  32.6920,2,  32.7020,2,    230.3,2,    249.5,2,     0.60,3,     0.10,3,     0.01,3,     0.19,3,     0.15,3, -999.000,9, -999.000,9, -999.000,9,   1965.0,2,   2201.6,2,    385.9,2,       20,     75.9,2,  23.0003,20070731,1351
  33RO20070710,GOMECC,    75,  1,   7513,     13,2,20070731,1345, 40.6347, -70.3895,   71,      3.7,  22.9940,  32.6920,2,-999.0000,9,    230.5,2,   -999.0,9,  -999.00,9,  -999.00,9,  -999.00,9,  -999.00,9,     -999,9, -999.000,9, -999.000,9, -999.000,9,   -999.0,9,   -999.0,9,   -999.0,9,     -999,   -999.0,9,  22.9933,20070731,1351
  33RO20070710,GOMECC,    75,  1,   7514,     14,9,20070731,1345, 40.6347, -70.3895,   71,      3.8,  22.9750,  32.6930,2,-999.0000,9,    230.6,2,   -999.0,9,  -999.00,9,  -999.00,9,  -999.00,9,  -999.00,9,     -999,9, -999.000,9, -999.000,9, -999.000,9,   -999.0,9,   -999.0,9,   -999.0,9,     -999,   -999.0,9,  22.9742,20070731,1351
  33RO20070710,GOMECC,    75,  1,   7515,     15,9,20070731,1345, 40.6347, -70.3895,   71,      3.8,  23.0430,  32.6910,2,-999.0000,9,    230.6,2,   -999.0,9,  -999.00,9,  -999.00,9,  -999.00,9,  -999.00,9,     -999,9, -999.000,9, -999.000,9, -999.000,9,   -999.0,9,   -999.0,9,   -999.0,9,     -999,   -999.0,9,  23.0422,20070731,1351
  33RO20070710,GOMECC,    76,  1,   7601,      1,3,20070731,1701, 40.2938, -70.2035,   95,     87.6,   9.4060,  33.8840,2,  33.8570,4,    219.6,2,    237.4,2,     9.70,3,     8.60,3,     0.03,3,     0.87,3,      0.1,3,    4.060,2,    1.450,2,    0.540,2,   2116.1,2,   2264.7,2,    683.3,2,       20,   -999.0,9,   9.3964,20070731,1701
  33RO20070710,GOMECC,    76,  1,   7603,      3,2,20070731,1701, 40.2938, -70.2035,   95,     70.5,   8.8300,  33.6020,2,  33.6680,4,    226.5,2,    237.4,2,     9.50,2,     8.80,2,     0.02,2,     0.91,2,     0.12,2, -999.000,9, -999.000,9, -999.000,9,   2114.3,2,   2255.5,2,    706.0,2,       20,   -999.0,9,   8.8226,20070731,1703
  33RO20070710,GOMECC,    76,  1,   7604,      4,2,20070731,1701, 40.2938, -70.2035,   95,     60.5,   8.1550,  33.3650,2,  33.3820,2,    227.2,2,    241.8,2,    10.70,2,     9.40,2,     0.03,2,     0.97,2,     0.12,2,    3.600,2, -999.000,9,    0.360,2,   2114.5,2,   2242.4,2,    766.9,2,       20,   -999.0,9,   8.1490,20070731,1704
  33RO20070710,GOMECC,    76,  1,   7605,      5,2,20070731,1701, 40.2938, -70.2035,   95,     50.4,   8.2500,  33.2990,2,  33.3070,2,    230.3,2,    245.1,2,    10.00,2,     8.60,2,     0.22,2,     0.94,2,     0.13,2, -999.000,9, -999.000,9, -999.000,9,   2108.3,2,   2241.9,2,    756.9,2,       20,   -999.0,9,   8.2450,20070731,1705
  33RO20070710,GOMECC,    76,  1,   7606,      6,2,20070731,1701, 40.2938, -70.2035,   95,     40.6,   8.2670,  33.1210,2,  33.1400,2,    237.6,2,    252.4,2,     9.10,2,     6.80,2,     0.31,2,     0.89,2,     0.66,2, -999.000,9, -999.000,9, -999.000,9,   2101.6,2,   2236.2,2,    746.7,2,       20,   -999.0,9,   8.2630,20070731,1706
  33RO20070710,GOMECC,    76,  1,   7607,      7,2,20070731,1701, 40.2938, -70.2035,   95,     29.9,   8.9200,  33.0850,2,  33.1010,2,    239.0,2,    253.9,2,     8.30,2,     5.20,2,     0.32,2,     0.82,2,     0.89,2, -999.000,9, -999.000,9, -999.000,9,   2094.5,2,   2233.1,2,    708.8,2,       20,   -999.0,9,   8.9169,20070731,1707
  33RO20070710,GOMECC,    76,  1,   7608,      8,2,20070731,1701, 40.2938, -70.2035,   95,     20.6,  11.2350,  33.1110,2,  33.0970,2,    283.0,2,    296.5,2,     3.90,2,     1.30,2,     0.11,2,     0.47,2,     0.28,2, -999.000,9, -999.000,9, -999.000,9,   2050.8,2,   2233.2,2,    530.0,2,       20,   -999.0,9,  11.2325,20070731,1708
  33RO20070710,GOMECC,    76,  1,   7609,      9,2,20070731,1701, 40.2938, -70.2035,   95,      9.8,  21.8110,  33.3910,2,  33.3610,4,    233.3,2,    257.3,2,     0.90,2,     0.00,2,     0.00,2,     0.12,2,     0.12,2,    2.480,2,    1.430,2,    0.260,2,   1972.4,2,   2239.8,2,    340.0,2,       20,   -999.0,9,  21.8091,20070731,1709
  33RO20070710,GOMECC,    76,  1,   7610,     10,2,20070731,1701, 40.2938, -70.2035,   95,      4.0,  24.5250,  33.2430,2,  33.2490,2,    214.5,2,    238.0,2,     0.70,2,     0.00,2,     0.00,2,     0.09,2,     0.14,2,    1.890,2,    1.090,2,    0.230,2,   1966.7,6,   2237.4,2,    326.0,2,       20,     81.7,2,  24.5242,20070731,1710
  33RO20070710,GOMECC,    76,  1,   7611,     11,2,20070731,1701, 40.2938, -70.2035,   95,      4.1,  24.5160,  33.2710,2,-999.0000,9,    214.1,2,   -999.0,9,  -999.00,9,  -999.00,9,  -999.00,9,  -999.00,9,     -999,9, -999.000,9, -999.000,9, -999.000,9,   -999.0,9,   -999.0,9,   -999.0,9,     -999,   -999.0,9,  24.5151,20070731,1710
  33RO20070710,GOMECC,    77,  1,   7701,      1,2,20070731,1857, 40.1405, -70.1162,  124,    118.9,  10.8620,  35.2020,2,  35.2170,2,    154.3,2,    166.3,6,    11.60,2,    16.50,2,     0.06,2,     1.15,2,     0.18,2, -999.000,9, -999.000,9, -999.000,9,   2165.3,2,   2321.7,2,    718.8,2,       20,   -999.0,9,  10.8475,20070731,1857
  33RO20070710,GOMECC,    77,  1,   7703,      3,2,20070731,1857, 40.1405, -70.1162,  124,    100.9,  11.8740,  35.2640,2,  35.2660,2,    172.5,2,    182.2,2,     8.90,2,    13.50,2,     0.05,2,     0.96,2,     0.22,2, -999.000,9, -999.000,9, -999.000,9,   2149.1,2,   2332.7,2,    638.4,2,       20,   -999.0,9,  11.8609,20070731,1859
  33RO20070710,GOMECC,    77,  1,   7704,      4,2,20070731,1857, 40.1405, -70.1162,  124,     70.7,  11.4300,  34.6490,2,  34.6790,4,    208.1,2,    222.5,2,     5.30,2,     7.40,2,     0.03,2,     0.65,2,     0.11,2, -999.000,9, -999.000,9, -999.000,9,   2110.2,2,   2303.8,2,    567.7,2,       20,   -999.0,9,  11.4211,20070731,1901
  33RO20070710,GOMECC,    77,  1,   7705,      5,2,20070731,1857, 40.1405, -70.1162,  124,     50.2,  13.2170,  34.7600,2,  34.6630,4,    215.0,2,    227.4,2,     4.30,2,     4.60,2,     0.05,2,     0.51,2,     0.15,2, -999.000,9, -999.000,9, -999.000,9,   2099.1,2,   2304.9,2,    527.9,2,       20,   -999.0,9,  13.2101,20070731,1902
  33RO20070710,GOMECC,    77,  1,   7706,      6,2,20070731,1857, 40.1405, -70.1162,  124,     39.8,  15.6600,  35.0260,2,  35.0320,2,    230.4,2,    246.3,2,     2.20,2,     0.20,2,     0.03,2,     0.20,2,      0.1,2, -999.000,9, -999.000,9, -999.000,9,   2068.8,2,   2321.9,2,    407.6,2,       20,   -999.0,9,  15.6538,20070731,1903
  33RO20070710,GOMECC,    77,  1,   7707,      7,2,20070731,1857, 40.1405, -70.1162,  124,     30.4,  17.1810,  34.9330,2,  34.9270,2,    240.9,2,    259.9,2,     1.80,2,     0.10,2,     0.00,2,     0.12,2,     0.11,2, -999.000,9, -999.000,9, -999.000,9,   2045.6,2,   2319.6,2,    371.2,2,       20,   -999.0,9,  17.1760,20070731,1904
  33RO20070710,GOMECC,    77,  1,   7708,      8,2,20070731,1857, 40.1405, -70.1162,  124,     20.6,  18.3310,  34.9850,2,  34.9930,2,    244.5,2,    263.2,2,     1.20,2,     0.00,2,     0.00,2,     0.05,2,     0.11,2, -999.000,9, -999.000,9, -999.000,9,   2027.8,2,   2318.2,2,    339.1,2,       20,   -999.0,9,  18.3274,20070731,1905
  33RO20070710,GOMECC,    77,  1,   7709,      9,2,20070731,1857, 40.1405, -70.1162,  124,     10.1,  22.4020,  33.0460,2,  33.5710,4,    229.7,2,    261.5,2,     0.90,2,     0.00,2,     0.00,2,     0.05,2,      0.1,2, -999.000,9, -999.000,9, -999.000,9,   1985.8,2,   2259.8,2,    334.5,2,       20,   -999.0,9,  22.4000,20070731,1906
  33RO20070710,GOMECC,    77,  1,   7710,     10,2,20070731,1857, 40.1405, -70.1162,  124,      3.9,  25.0140,  32.9170,2,  32.9310,2,    211.6,2,    229.9,2,     0.70,2,     0.00,2,     0.00,2,     0.03,2,     0.11,2, -999.000,9, -999.000,9, -999.000,9,   1943.2,6,   2216.7,6,    329.7,2,       20,     77.0,2,  25.0132,20070731,1907
  33RO20070710,GOMECC,    77,  1,   7711,     11,9,20070731,1857, 40.1405, -70.1162,  124,      3.9,  25.0530,  32.9130,2,-999.0000,9,    211.5,2,   -999.0,9,  -999.00,9,  -999.00,9,  -999.00,9,  -999.00,9,     -999,9, -999.000,9, -999.000,9, -999.000,9,   -999.0,9,   -999.0,9,   -999.0,9,     -999,   -999.0,9,  25.0522,20070731,1907
  33RO20070710,GOMECC,    77,  1,   7712,     12,2,20070731,1857, 40.1405, -70.1162,  124,      4.0,  25.0630,  32.9130,2,-999.0000,9,    211.6,2,   -999.0,9,  -999.00,9,  -999.00,9,  -999.00,9,  -999.00,9,     -999,9, -999.000,9, -999.000,9, -999.000,9,   -999.0,9,   -999.0,9,   -999.0,9,     -999,   -999.0,9,  25.0621,20070731,1908
  33RO20070710,GOMECC,    78,  1,   7801,      1,2,20070731,2040, 39.9990, -69.9822,  164,    160.4,  11.3460,  35.2710,2,  35.2810,2,    160.0,2,    171.2,6,     9.30,2,    15.90,2,     0.18,2,     1.15,2,     0.13,2,    2.410,2,    0.950,2, -999.000,9,   2177.3,2,   2324.7,2,    687.2,2,       20,   -999.0,9,  11.3258,20070731,2040
  33RO20070710,GOMECC,    78,  1,   7803,      3,2,20070731,2040, 39.9990, -69.9822,  164,    131.0,  12.1010,  35.3710,2,  35.3870,2,    169.0,2,    180.2,2,     7.10,2,    14.00,2,     0.02,2,     1.01,2,     0.12,2, -999.000,9, -999.000,9, -999.000,9,   2153.8,2,   2339.7,2,    624.8,2,       20,   -999.0,9,  12.0838,20070731,2042
  33RO20070710,GOMECC,    78,  1,   7804,      4,2,20070731,2040, 39.9990, -69.9822,  164,    101.1,  13.1100,  35.4260,2,-999.0000,1,    182.0,2,    194.3,2,     4.80,2,    10.60,2,     0.02,2,     0.77,2,     0.13,2,    2.310,2,    1.060,2,    0.160,2,   2135.9,2,   2338.9,2,    548.6,2,       20,   -999.0,9,  13.0960,20070731,2044
  33RO20070710,GOMECC,    78,  1,   7805,      5,2,20070731,2040, 39.9990, -69.9822,  164,    100.7,  13.2230,  35.4470,2,  35.4630,2,    181.9,2,   -999.0,9,  -999.00,9,  -999.00,9,  -999.00,9,  -999.00,9,     -999,9, -999.000,9, -999.000,9, -999.000,9,   -999.0,9,   -999.0,9,   -999.0,9,     -999,   -999.0,9,  13.2090,20070731,2044
  33RO20070710,GOMECC,    78,  1,   7806,      6,2,20070731,2040, 39.9990, -69.9822,  164,     70.7,  12.5430,  35.0240,2,  35.0580,4,    199.9,2,    214.0,2,     4.10,2,     7.50,2,     0.04,2,     0.65,2,     0.11,2, -999.000,9, -999.000,9, -999.000,9,   2118.8,2,   2321.4,2,    535.0,2,       20,   -999.0,9,  12.5335,20070731,2046
  33RO20070710,GOMECC,    78,  1,   7807,      7,2,20070731,2040, 39.9990, -69.9822,  164,     50.1,  12.3320,  34.5470,2,-999.0000,1,    217.3,2,    234.1,2,     3.70,2,     4.00,2,     0.07,2,     0.51,2,     0.13,2,    2.950,2,    1.250,2,    0.360,2,   2096.4,2,   2298.3,2,    524.3,2,       20,   -999.0,9,  12.3254,20070731,2047
  33RO20070710,GOMECC,    78,  1,   7808,      8,2,20070731,2040, 39.9990, -69.9822,  164,     50.1,  12.3390,  34.5290,2,  34.5210,2,    217.4,2,   -999.0,9,  -999.00,9,  -999.00,9,  -999.00,9,  -999.00,9,     -999,9, -999.000,9, -999.000,9, -999.000,9,   -999.0,9,   -999.0,9,   -999.0,9,     -999,   -999.0,9,  12.3324,20070731,2047
  33RO20070710,GOMECC,    78,  1,   7809,      9,2,20070731,2040, 39.9990, -69.9822,  164,     39.7,  12.9660,  34.3920,2,  34.4500,4,    226.6,2,    241.6,2,     3.20,2,     2.40,2,     0.15,2,     0.42,2,     0.21,2, -999.000,9, -999.000,9, -999.000,9,   2082.9,2,   2295.3,2,    495.3,2,       20,   -999.0,9,  12.9606,20070731,2049
  33RO20070710,GOMECC,    78,  1,   7810,     10,2,20070731,2040, 39.9990, -69.9822,  164,     30.3,  13.8020,  34.3690,2,  34.4140,4,    239.8,2,    257.4,2,     2.60,2,     0.50,2,     0.05,2,     0.29,2,     0.15,2, -999.000,9, -999.000,9, -999.000,9,   2066.0,2,   2301.1,2,    441.5,2,       20,   -999.0,9,  13.7977,20070731,2050
  33RO20070710,GOMECC,    78,  1,   7811,     11,2,20070731,2040, 39.9990, -69.9822,  164,     20.2,  19.4460,  34.9510,2,  34.9370,2,    245.8,2,    264.7,2,     0.90,2,     0.20,2,     0.01,2,     0.11,2,      0.1,2,    2.520,2,    1.370,2,    0.190,2,   2034.5,2,   2317.3,2,    334.9,3,       20,     82.0,2,  19.4424,20070731,2051
  33RO20070710,GOMECC,    78,  1,   7812,     12,2,20070731,2040, 39.9990, -69.9822,  164,     10.3,  21.8950,  33.6700,2,  34.2660,4,    231.3,2,    291.7,2,     0.40,2,     0.10,2,     0.00,2,     0.05,2,     0.14,2, -999.000,9, -999.000,9, -999.000,9,   1996.6,2,   2293.6,2,    313.7,2,       20,   -999.0,9,  21.8930,20070731,2052
  33RO20070710,GOMECC,    78,  1,   7813,     13,2,20070731,2040, 39.9990, -69.9822,  164,      4.8,  24.5690,  32.9270,2,  33.0150,4,    214.0,2,    233.2,2,     0.40,2,     0.20,2,     0.00,2,     0.04,2,     0.16,2,    2.130,2,    1.130,2,    0.130,2,   1946.5,6,   2223.2,2,    325.6,2,       20,   -999.0,9,  24.5680,20070731,2053
  33RO20070710,GOMECC,    78,  1,   7814,     14,2,20070731,2040, 39.9990, -69.9822,  164,      4.7,  24.6730,  32.9100,2,-999.0000,9,    213.6,2,   -999.0,9,  -999.00,9,  -999.00,9,  -999.00,9,  -999.00,9,     -999,9, -999.000,9, -999.000,9, -999.000,9,   -999.0,9,   -999.0,9,   -999.0,9,     -999,   -999.0,9,  24.6720,20070731,2053
  33RO20070710,GOMECC,    78,  1,   7815,     15,2,20070731,2040, 39.9990, -69.9822,  164,      4.8,  24.6500,  32.8970,2,-999.0000,9,    213.6,2,   -999.0,9,  -999.00,9,  -999.00,9,  -999.00,9,  -999.00,9,     -999,9, -999.000,9, -999.000,9, -999.000,9,   -999.0,9,   -999.0,9,   -999.0,9,     -999,   -999.0,9,  24.6490,20070731,2053