BOTTLE,20220922CCHSIOAMB
EXPOCODE,SECT_ID,STNNBR,CASTNO,SAMPNO,BTLNBR,BTLNBR_FLAG_W,DATE,TIME,LATITUDE,LONGITUDE,DEPTH,CTDPRS,CTDTMP,CTDSAL,CTDSAL_FLAG_W,SALNTY,SALNTY_FLAG_W,CTDOXY,CTDOXY_FLAG_W,OXYGEN,OXYGEN_FLAG_W,SILCAT,SILCAT_FLAG_W,NITRAT,NITRAT_FLAG_W,NITRIT,NITRIT_FLAG_W,PHSPHT,PHSPHT_FLAG_W,NH4,NH4_FLAG_W,CFC-11,CFC-11_FLAG_W,CFC-12,CFC-12_FLAG_W,CFC113,CFC113_FLAG_W,TCARBN,TCARBN_FLAG_W,ALKALI,ALKALI_FLAG_W,FCO2,FCO2_FLAG_W,FCO2TMP,DOC,DOC_FLAG_W,THETA,BTL_DATE,BTL_TIME
,,,,,,,,,,,METERS,DBAR,ITS-90,PSS-78,,PSS-78,,UMOL/KG,,UMOL/KG,,UMOL/KG,,UMOL/KG,,UMOL/KG,,UMOL/KG,,UMOL/KG,,PMOL/KG,,PMOL/KG,,PMOL/KG,,UMOL/KG,,UMOL/KG,,UATM,,DEG C,UMOL/KG,,DEG C,,
  33RO20070710,GOMECC,    24,  1,   2401,      1,2,20070716,1219, 26.8899, -84.6659,  219,    209.8,  14.6110,  35.8820,2,  35.8900,2,    120.8,2,    124.3,6,     8.70,2,    17.00,2,     0.04,2,     1.00,2,     0.04,2, -999.000,9, -999.000,9, -999.000,9,   2179.9,6,   2362.3,2,    661.2,2,       20,   -999.0,9,  14.5795,20070716,1219
  33RO20070710,GOMECC,    24,  1,   2403,      3,2,20070716,1219, 26.8899, -84.6659,  219,    170.3,  17.1100,  36.2830,2,  36.2780,2,    136.4,2,    139.2,2,     4.60,2,    11.70,2,     0.05,2,     0.66,2,     0.04,2, -999.000,9, -999.000,9, -999.000,9,   2159.2,2,   2377.2,2,    536.5,2,       20,   -999.0,9,  17.0815,20070716,1221
  33RO20070710,GOMECC,    24,  1,   2404,      4,2,20070716,1219, 26.8899, -84.6659,  219,    129.7,  19.2120,  36.4870,2,  36.4910,2,    153.4,2,    155.3,2,     3.60,2,     8.10,2,     0.04,2,     0.44,2,     0.23,2, -999.000,9, -999.000,9, -999.000,9,   2139.2,2,   2397.2,2,    447.6,2,       20,   -999.0,9,  19.1885,20070716,1223
  33RO20070710,GOMECC,    24,  1,   2405,      5,2,20070716,1219, 26.8899, -84.6659,  219,    100.1,  20.8710,  36.6030,2,  36.6020,2,    158.0,2,    161.5,2,     2.70,2,     4.90,2,     0.24,2,     0.25,2,     0.21,2, -999.000,9, -999.000,9, -999.000,9,   2128.7,2,   2403.2,2,    414.9,2,       20,     62.6,2,  20.8518,20070716,1225
  33RO20070710,GOMECC,    24,  1,   2406,      6,2,20070716,1219, 26.8899, -84.6659,  219,    100.1,  20.8810,  36.6050,2,-999.0000,9,    158.1,2,   -999.0,9,  -999.00,9,  -999.00,9,  -999.00,9,  -999.00,9,     -999,9, -999.000,9, -999.000,9, -999.000,9,   -999.0,9,   -999.0,9,   -999.0,9,     -999,   -999.0,9,  20.8618,20070716,1225
  33RO20070710,GOMECC,    24,  1,   2407,      7,2,20070716,1219, 26.8899, -84.6659,  219,     70.0,  22.9960,  36.5050,2,  36.4710,4,    200.7,2,    211.3,2,     1.10,2,     0.30,2,     0.01,2,     0.05,2,      0.1,2, -999.000,9, -999.000,9, -999.000,9,   2075.4,2,   2402.6,2,    315.5,2,       20,   -999.0,9,  22.9816,20070716,1228
  33RO20070710,GOMECC,    24,  1,   2408,      8,2,20070716,1219, 26.8899, -84.6659,  219,     49.9,  25.3450,  36.5380,2,  36.5300,2,    202.2,2,    208.7,2,     1.00,2,     0.10,2,     0.02,2,     0.03,2,     0.08,2, -999.000,9, -999.000,9, -999.000,9,   2061.9,2,   2399.8,2,    300.9,2,       20,   -999.0,9,  25.3340,20070716,1230
  33RO20070710,GOMECC,    24,  1,   2409,      9,2,20070716,1219, 26.8899, -84.6659,  219,     50.0,  25.3040,  36.5390,2,-999.0000,9,    202.3,2,   -999.0,9,  -999.00,9,  -999.00,9,  -999.00,9,  -999.00,9,     -999,9, -999.000,9, -999.000,9, -999.000,9,   -999.0,9,   -999.0,9,   -999.0,9,     -999,   -999.0,9,  25.2930,20070716,1230
  33RO20070710,GOMECC,    24,  1,   2410,     10,2,20070716,1219, 26.8899, -84.6659,  219,     40.0,  26.2150,  36.4940,2,  36.5050,2,    204.2,2,    213.1,2,     0.90,2,     0.10,2,     0.01,2,     0.01,2,     0.06,2, -999.000,9, -999.000,9, -999.000,9,   2047.8,2,   2397.4,2,    285.3,2,       20,   -999.0,9,  26.2060,20070716,1231
  33RO20070710,GOMECC,    24,  1,   2411,     11,2,20070716,1219, 26.8899, -84.6659,  219,     30.1,  28.1180,  36.4250,2,  36.4510,4,    200.1,2,    209.6,2,     1.10,2,     0.10,2,     0.00,2,     0.01,2,     0.06,2, -999.000,9, -999.000,9, -999.000,9,   2045.4,2,   2396.6,2,    280.9,2,       20,   -999.0,9,  28.1109,20070716,1232
  33RO20070710,GOMECC,    24,  1,   2412,     12,2,20070716,1219, 26.8899, -84.6659,  219,     19.9,  29.9800,  36.4380,2,  36.4390,2,    190.3,2,    197.7,2,     1.20,2,     0.10,2,     0.01,2,     0.01,2,     0.07,2, -999.000,9, -999.000,9, -999.000,9,   2033.6,2,   2397.1,2,    268.7,2,       20,   -999.0,9,  29.9751,20070716,1233
  33RO20070710,GOMECC,    24,  1,   2413,     13,2,20070716,1219, 26.8899, -84.6659,  219,      9.5,  30.0740,  36.3970,2,  36.4050,2,    188.2,2,    195.4,2,     1.10,2,     0.00,2,     0.01,2,     0.00,2,     0.06,2, -999.000,9, -999.000,9, -999.000,9,   2030.9,2,   2396.8,2,    267.1,2,       20,   -999.0,9,  30.0716,20070716,1234
  33RO20070710,GOMECC,    24,  1,   2414,     14,2,20070716,1219, 26.8899, -84.6659,  219,      3.9,  30.0860,  36.3980,2,  36.4060,6,    188.2,2,    195.1,2,     1.10,2,     0.00,2,     0.02,2,     0.00,2,     0.07,2, -999.000,9, -999.000,9, -999.000,9,   2033.1,2,   2396.1,2,    267.1,2,       20,   -999.0,9,  30.0850,20070716,1235
  33RO20070710,GOMECC,    24,  1,   2415,     15,2,20070716,1219, 26.8899, -84.6659,  219,      3.9,  30.0740,  36.3980,2,-999.0000,9,    188.4,2,   -999.0,9,  -999.00,9,  -999.00,9,  -999.00,9,  -999.00,9,     -999,9, -999.000,9, -999.000,9, -999.000,9,   -999.0,9,   -999.0,9,   -999.0,9,     -999,   -999.0,9,  30.0730,20070716,1235
  33RO20070710,GOMECC,    24,  1,   2416,     16,2,20070716,1219, 26.8899, -84.6659,  219,      4.0,  30.0760,  36.3970,2,-999.0000,9,    188.1,2,   -999.0,9,  -999.00,9,  -999.00,9,  -999.00,9,  -999.00,9,     -999,9, -999.000,9, -999.000,9, -999.000,9,   -999.0,9,   -999.0,9,   -999.0,9,     -999,   -999.0,9,  30.0750,20070716,1235
  33RO20070710,GOMECC,    25,  1,   2501,      1,2,20070716,1612, 26.6658, -84.9996, 3294,   3272.7,   4.3730,  34.9690,2,  34.9760,2,    203.7,2,    217.8,6,    24.90,2,    21.70,2,     0.08,2,     1.55,2,     0.07,2, -999.000,9, -999.000,9, -999.000,9,   2188.0,2,   2334.4,2,    775.1,2,       20,   -999.0,9,   4.0612,20070716,1612
  33RO20070710,GOMECC,    25,  1,   2503,      3,2,20070716,1612, 26.6658, -84.9996, 3294,   3092.0,   4.3550,  34.9680,2,  34.9730,2,    202.3,2,    217.2,2,    24.90,2,    21.80,2,     0.04,2,     1.55,2,     0.08,2, -999.000,9, -999.000,9, -999.000,9,   2188.4,6,   2334.4,2,    779.7,2,       20,   -999.0,9,   4.0646,20070716,1616
  33RO20070710,GOMECC,    25,  1,   2504,      4,2,20070716,1612, 26.6658, -84.9996, 3294,   2837.3,   4.3280,  34.9680,2,  34.9730,2,    201.6,2,    217.1,2,    24.90,2,    21.90,2,     0.01,2,     1.56,2,     0.08,2, -999.000,9, -999.000,9, -999.000,9,   2188.4,2,   2335.1,2,    780.8,2,       20,   -999.0,9,   4.0670,20070716,1621
  33RO20070710,GOMECC,    25,  1,   2505,      5,2,20070716,1612, 26.6658, -84.9996, 3294,   2582.7,   4.3040,  34.9680,2,  34.9690,2,    201.1,2,    216.2,2,    25.00,2,    21.90,2,     0.01,2,     1.56,2,     0.08,2, -999.000,9, -999.000,9, -999.000,9,   2188.4,2,   2335.0,2,    783.4,2,       20,   -999.0,9,   4.0713,20070716,1626
  33RO20070710,GOMECC,    25,  1,   2506,      6,2,20070716,1612, 26.6658, -84.9996, 3294,   2328.1,   4.2890,  34.9670,2,  34.9730,2,    200.3,2,    215.3,2,    25.00,2,    22.00,2,     0.00,2,     1.56,2,     0.08,2, -999.000,9, -999.000,9, -999.000,9,   2187.1,2,   2334.7,2,    786.6,2,       20,   -999.0,9,   4.0836,20070716,1631
  33RO20070710,GOMECC,    25,  1,   2507,      7,2,20070716,1612, 26.6658, -84.9996, 3294,   2073.7,   4.2790,  34.9660,2,  34.9700,2,    199.3,2,    214.1,2,    25.10,2,    22.20,2,     0.01,2,     1.57,2,     0.07,2, -999.000,9, -999.000,9, -999.000,9,   2189.0,2,   2338.4,2,    792.0,2,       20,   -999.0,9,   4.0999,20070716,1636
  33RO20070710,GOMECC,    25,  1,   2508,      8,2,20070716,1612, 26.6658, -84.9996, 3294,   1820.1,   4.2840,  34.9640,2,  34.9660,2,    198.0,2,    212.9,2,    25.20,2,    22.20,2,     0.06,2,     1.58,2,     0.07,2, -999.000,9, -999.000,9, -999.000,9,   2189.2,2,   2337.4,2,    798.4,2,       20,   -999.0,9,   4.1301,20070716,1641
  33RO20070710,GOMECC,    25,  1,   2509,      9,2,20070716,1612, 26.6658, -84.9996, 3294,   1566.5,   4.3060,  34.9620,2,  34.9670,2,    196.1,2,    210.1,2,    25.30,2,    22.50,2,     0.09,2,     1.62,2,      0.1,2, -999.000,9, -999.000,9, -999.000,9,   2190.3,2,   2339.9,2,    803.2,2,       20,   -999.0,9,   4.1761,20070716,1647
  33RO20070710,GOMECC,    25,  1,   2510,     10,2,20070716,1612, 26.6658, -84.9996, 3294,   1312.9,   4.3960,  34.9570,2,  34.9580,2,    192.1,2,    205.3,2,    25.50,2,    22.90,2,     0.06,2,     1.64,2,     0.07,2, -999.000,9, -999.000,9, -999.000,9,   2192.5,2,   2339.6,2,    820.6,2,       20,   -999.0,9,   4.2887,20070716,1652
  33RO20070710,GOMECC,    25,  1,   2511,     11,2,20070716,1612, 26.6658, -84.9996, 3294,   1059.6,   4.7740,  34.9370,2,  34.9400,2,    175.3,2,    186.4,2,    26.10,2,    24.80,2,     0.03,2,     1.77,2,     0.06,2, -999.000,9, -999.000,9, -999.000,9,   2200.0,2,   2338.0,2,    872.2,2,       20,   -999.0,9,   4.6863,20070716,1657
  33RO20070710,GOMECC,    25,  1,   2512,     12,2,20070716,1612, 26.6658, -84.9996, 3294,    807.4,   5.8550,  34.9020,2,  34.9070,2,    144.5,2,    152.6,2,    24.80,2,    28.00,2,     0.06,2,     1.97,2,     0.06,2,    0.160,2, -999.000,9, -999.000,9,   2208.2,2,   2328.5,2,    969.4,2,       20,   -999.0,9,   5.7831,20070716,1703
  33RO20070710,GOMECC,    25,  1,   2513,     13,2,20070716,1612, 26.6658, -84.9996, 3294,    554.7,   7.8490,  34.9540,2,  34.9590,2,    116.9,2,    130.5,2,    20.10,2,    29.20,2,     0.08,2,     2.00,2,     0.06,2, -999.000,9, -999.000,9, -999.000,9,   2207.0,2,   2320.8,2,   1002.4,2,       20,   -999.0,9,   7.7922,20070716,1708
  33RO20070710,GOMECC,    25,  1,   2514,     14,2,20070716,1612, 26.6658, -84.9996, 3294,    302.3,  12.2630,  35.5220,2,-999.0000,9,    116.2,2,    121.9,2,    11.00,2,    21.70,2,     0.03,2,     1.43,2,     0.07,2, -999.000,9, -999.000,9, -999.000,9,   2184.9,6,   2347.0,2,    764.6,2,       20,   -999.0,9,  12.2226,20070716,1713
  33RO20070710,GOMECC,    25,  1,   2515,     15,2,20070716,1612, 26.6658, -84.9996, 3294,    252.0,  13.5910,  35.7330,2,-999.0000,9,    119.8,2,    125.7,2,     9.00,2,    19.10,2,     0.02,2,     1.24,2,      0.1,2, -999.000,9, -999.000,9, -999.000,9,   2177.6,2,   2352.1,2,    695.2,2,       20,   -999.0,9,  13.5550,20070716,1715
  33RO20070710,GOMECC,    25,  1,   2516,     16,2,20070716,1612, 26.6658, -84.9996, 3294,    201.9,  15.5770,  36.0530,2,  36.0510,2,    131.3,2,    137.6,2,     6.20,2,    14.60,2,     0.07,2,     0.92,2,      0.2,2, -999.000,9, -999.000,9, -999.000,9,   2162.3,2,   2369.0,2,    590.1,2,       20,   -999.0,9,  15.5454,20070716,1717
  33RO20070710,GOMECC,    25,  1,   2517,     17,2,20070716,1612, 26.6658, -84.9996, 3294,    151.0,  17.8570,  36.3820,2,  36.3860,2,    134.1,2,    141.3,2,     4.30,2,    10.80,2,     0.03,2,     0.64,2,     0.09,2, -999.000,9, -999.000,9, -999.000,9,   2151.1,2,   2385.6,2,    513.6,2,       20,   -999.0,9,  17.8310,20070716,1719
  33RO20070710,GOMECC,    25,  1,   2518,     18,2,20070716,1612, 26.6658, -84.9996, 3294,    125.9,  18.8350,  36.4660,2,  36.4680,2,    142.4,2,    149.2,2,     4.00,2,     8.70,2,     0.04,2,     0.51,2,     0.08,2, -999.000,9, -999.000,9, -999.000,9,   2142.0,2,   2397.0,2,    471.1,2,       20,   -999.0,9,  18.8125,20070716,1721
  33RO20070710,GOMECC,    25,  1,   2519,     19,2,20070716,1612, 26.6658, -84.9996, 3294,    101.1,  19.6480,  36.5040,2,  36.4940,2,    155.9,2,    161.8,2,     3.20,2,     6.00,2,     0.03,2,     0.35,2,     0.08,2, -999.000,9, -999.000,9, -999.000,9,   2128.8,2,   2400.9,2,    430.4,2,       20,   -999.0,9,  19.6294,20070716,1723
  33RO20070710,GOMECC,    25,  1,   2520,     20,2,20070716,1612, 26.6658, -84.9996, 3294,     75.8,  21.3180,  36.5260,2,  36.5290,2,    186.5,2,    193.8,6,     1.70,2,     0.60,2,     0.24,2,     0.08,2,     0.09,2, -999.000,9, -999.000,9, -999.000,9,   2096.3,2,   2405.7,2,    358.8,2,       20,   -999.0,9,  21.3032,20070716,1725
  33RO20070710,GOMECC,    25,  1,   2521,     21,2,20070716,1612, 26.6658, -84.9996, 3294,     50.7,  23.9280,  36.4110,2,  36.4740,4,    203.6,2,    213.6,2,     1.40,2,     0.10,2,     0.03,2,     0.04,2,     0.09,2,    1.660,2,    1.650,2,    0.280,2,   2065.4,2,   2402.5,2,    311.0,2,       20,   -999.0,9,  23.9173,20070716,1727
  33RO20070710,GOMECC,    25,  1,   2522,     22,2,20070716,1612, 26.6658, -84.9996, 3294,     24.9,  27.1120,  36.4130,2,  36.4500,4,    196.6,2,    208.7,2,     1.50,2,     0.00,2,     0.04,2,     0.02,2,     0.09,2, -999.000,9, -999.000,9, -999.000,9,   2047.8,2,   2401.8,2,    288.4,2,       20,   -999.0,9,  27.1062,20070716,1729
  33RO20070710,GOMECC,    25,  1,   2523,     23,2,20070716,1612, 26.6658, -84.9996, 3294,     10.3,  30.2080,  36.3460,2,  36.3520,2,    186.9,2,    198.5,2,     1.40,2,     0.00,2,     0.03,2,     0.01,2,     0.12,2, -999.000,9, -999.000,9, -999.000,9,   2028.0,6,   2398.5,2,    267.9,2,       20,   -999.0,9,  30.2054,20070716,1731
  33RO20070710,GOMECC,    25,  1,   2524,     24,2,20070716,1612, 26.6658, -84.9996, 3294,      3.6,  30.6060,  36.3610,2,  36.3640,2,    186.8,2,    196.8,2,     1.40,2,     0.00,2,     0.00,2,     0.00,2,     0.15,2,    0.650,2,    0.690,2,    0.480,2,   2026.1,2,   2400.0,2,    266.0,2,       20,     56.4,2,  30.6051,20070716,1732