BOTTLE,20220922CCHSIOAMB
EXPOCODE,SECT_ID,STNNBR,CASTNO,SAMPNO,BTLNBR,BTLNBR_FLAG_W,DATE,TIME,LATITUDE,LONGITUDE,DEPTH,CTDPRS,CTDTMP,CTDSAL,CTDSAL_FLAG_W,SALNTY,SALNTY_FLAG_W,CTDOXY,CTDOXY_FLAG_W,OXYGEN,OXYGEN_FLAG_W,SILCAT,SILCAT_FLAG_W,NITRAT,NITRAT_FLAG_W,NITRIT,NITRIT_FLAG_W,PHSPHT,PHSPHT_FLAG_W,NH4,NH4_FLAG_W,CFC-11,CFC-11_FLAG_W,CFC-12,CFC-12_FLAG_W,CFC113,CFC113_FLAG_W,TCARBN,TCARBN_FLAG_W,ALKALI,ALKALI_FLAG_W,FCO2,FCO2_FLAG_W,FCO2TMP,DOC,DOC_FLAG_W,THETA,BTL_DATE,BTL_TIME
,,,,,,,,,,,METERS,DBAR,ITS-90,PSS-78,,PSS-78,,UMOL/KG,,UMOL/KG,,UMOL/KG,,UMOL/KG,,UMOL/KG,,UMOL/KG,,UMOL/KG,,PMOL/KG,,PMOL/KG,,PMOL/KG,,UMOL/KG,,UMOL/KG,,UATM,,DEG C,UMOL/KG,,DEG C,,
  33RO20070710,GOMECC,    34,  1,   3401,      1,2,20070719,0913, 26.9619, -79.6235,  639,    615.7,   7.6720,  34.9600,2,  34.9650,2,    121.6,2,    128.7,2,    21.30,2,    29.40,2,     0.01,2,     1.98,2,     0.26,3,    0.510,2,    0.210,2,    0.080,2,   2208.4,6,   2315.4,2,    982.0,2,       20,   -999.0,9,   7.6095,20070719,0913
  33RO20070710,GOMECC,    34,  1,   3403,      3,2,20070719,0913, 26.9619, -79.6235,  639,    600.5,   7.8620,  34.9740,2,  34.9790,2,    120.0,2,    125.6,2,    19.40,2,    29.00,2,     0.02,2,     1.94,2,      0.2,2,    0.490,2,    0.200,2,    0.150,2,   2207.2,2,   2316.1,2,    973.2,2,       20,   -999.0,9,   7.8003,20070719,0914
  33RO20070710,GOMECC,    34,  1,   3404,      4,3,20070719,0913, 26.9619, -79.6235,  639,    503.9,   8.9280,  35.0650,2,-999.0000,9,    112.6,2,   -999.0,9,  -999.00,9,  -999.00,9,  -999.00,9,  -999.00,9,     -999,9, -999.000,9, -999.000,9, -999.000,9,   -999.0,9,   -999.0,9,   -999.0,9,     -999,   -999.0,9,   8.8725,20070719,0917
  33RO20070710,GOMECC,    34,  1,   3405,      5,2,20070719,0913, 26.9619, -79.6235,  639,    434.0,  10.2150,  35.2220,2,  35.2290,2,    112.9,2,    118.3,2,    16.70,2,    27.80,2,     0.01,2,     1.84,2,     0.19,2,    1.080,2,    0.580,2,    0.240,2,   2199.0,2,   2321.3,2,    880.1,2,       20,   -999.0,9,  10.1632,20070719,0919
  33RO20070710,GOMECC,    34,  1,   3406,      6,2,20070719,0913, 26.9619, -79.6235,  639,    372.8,  11.5480,  35.4140,2,  35.4220,2,    116.1,2,    122.1,2,    14.30,2,    25.80,2,     0.00,2,     1.68,2,     0.19,2, -999.000,9, -999.000,9, -999.000,9,   2191.6,2,   2330.1,2,    796.9,2,       20,   -999.0,9,  11.5000,20070719,0921
  33RO20070710,GOMECC,    34,  1,   3407,      7,2,20070719,0913, 26.9619, -79.6235,  639,    312.0,  14.0610,  35.8050,2,  35.8130,2,    126.6,2,    133.5,2,    11.90,2,    23.30,2,     0.01,2,     1.52,2,     0.21,2, -999.000,9, -999.000,9, -999.000,9,   2173.8,3,   2345.5,2,    649.2,2,       20,   -999.0,9,  14.0153,20070719,0923
  33RO20070710,GOMECC,    34,  1,   3408,      8,2,20070719,0913, 26.9619, -79.6235,  639,    261.4,  16.6300,  36.2080,2,  36.2090,2,    134.1,2,    142.0,6,     8.20,2,    17.80,2,     0.01,2,     1.11,2,     0.18,2,    1.800,2,    1.210,2,    0.030,2,   2158.7,3,   2372.6,2,    542.1,2,       20,   -999.0,9,  16.5871,20070719,0925
  33RO20070710,GOMECC,    34,  1,   3409,      9,2,20070719,0913, 26.9619, -79.6235,  639,    210.3,  18.2990,  36.4620,2,  36.4670,2,    142.3,2,    150.9,2,     3.90,2,    10.80,2,     0.01,2,     0.64,2,     0.23,2, -999.000,9, -999.000,9, -999.000,9,   2146.0,2,   2386.5,2,    478.0,2,       20,   -999.0,9,  18.2621,20070719,0927
  33RO20070710,GOMECC,    34,  1,   3410,     10,2,20070719,0913, 26.9619, -79.6235,  639,    170.1,  19.6160,  36.6330,2,  36.6400,2,    142.5,2,    150.9,2,     3.30,2,     9.00,2,     0.01,2,     0.52,2,     0.19,2, -999.000,9, -999.000,9, -999.000,9,   2141.9,2,   2396.9,2,    452.5,2,       20,   -999.0,9,  19.5847,20070719,0928
  33RO20070710,GOMECC,    34,  1,   3411,     11,2,20070719,0913, 26.9619, -79.6235,  639,    130.0,  21.2800,  36.7620,2,  36.7640,2,    139.1,2,    147.6,2,     2.30,2,     6.20,2,     0.01,2,     0.34,2,     0.19,2, -999.000,9, -999.000,9, -999.000,9,   2138.0,2,   2405.5,2,    429.9,2,       20,   -999.0,9,  21.2547,20070719,0929
  33RO20070710,GOMECC,    34,  1,   3412,     12,2,20070719,0913, 26.9619, -79.6235,  639,     99.8,  23.3660,  36.8290,2,  36.8340,2,    146.5,2,    172.7,3,     1.90,2,     4.50,2,     0.03,2,     0.25,2,     0.17,2, -999.000,9, -999.000,9, -999.000,9,   2118.5,2,   2408.0,2,    384.5,2,       20,   -999.0,9,  23.3452,20070719,0931
  33RO20070710,GOMECC,    34,  1,   3413,     13,2,20070719,0913, 26.9619, -79.6235,  639,     99.7,  23.3670,  36.8300,2,-999.0000,9,    146.7,2,   -999.0,9,  -999.00,9,  -999.00,9,  -999.00,9,  -999.00,9,     -999,9,    2.030,2,    1.540,2,    0.170,2,   -999.0,9,   -999.0,9,   -999.0,9,     -999,   -999.0,9,  23.3463,20070719,0931
  33RO20070710,GOMECC,    34,  1,   3414,     14,2,20070719,0913, 26.9619, -79.6235,  639,     69.7,  25.9740,  36.4800,2,  36.4940,2,    193.5,2,    205.6,2,     1.20,2,     0.20,2,     0.05,2,     0.05,2,      0.2,2,    1.760,2,    1.280,2,    0.040,2,   2053.1,2,   2396.4,2,    297.1,2,       20,   -999.0,9,  25.9584,20070719,0932
  33RO20070710,GOMECC,    34,  1,   3415,     15,2,20070719,0913, 26.9619, -79.6235,  639,     49.6,  27.4210,  36.1890,2,  36.2340,4,    186.4,2,    198.2,2,     1.10,2,     0.10,2,     0.00,2,     0.04,2,     0.18,2, -999.000,9, -999.000,9, -999.000,9,   2025.3,2,   2376.6,6,    283.1,2,       20,   -999.0,9,  27.4095,20070719,0933
  33RO20070710,GOMECC,    34,  1,   3416,     16,2,20070719,0913, 26.9619, -79.6235,  639,     49.6,  27.4240,  36.1890,2,-999.0000,9,    186.5,2,   -999.0,9,  -999.00,9,  -999.00,9,  -999.00,9,  -999.00,9,     -999,9, -999.000,9, -999.000,9, -999.000,9,   -999.0,9,   -999.0,9,   -999.0,9,     -999,   -999.0,9,  27.4125,20070719,0934
  33RO20070710,GOMECC,    34,  1,   3417,     17,2,20070719,0913, 26.9619, -79.6235,  639,     39.5,  28.0140,  36.1580,2,  36.1670,2,    188.5,2,    200.0,2,     1.10,2,     0.00,2,     0.00,2,     0.02,2,     0.17,2, -999.000,9, -999.000,9, -999.000,9,   2015.9,2,   2371.1,2,    274.6,2,       20,   -999.0,9,  28.0047,20070719,0934
  33RO20070710,GOMECC,    34,  1,   3418,     18,2,20070719,0913, 26.9619, -79.6235,  639,     29.7,  28.5830,  36.1150,2,  36.1270,2,    188.8,2,    200.4,2,     1.10,2,     0.00,2,     0.00,2,     0.02,2,     0.19,2, -999.000,9, -999.000,9, -999.000,9,   2009.4,2,   2369.8,2,    269.0,2,       20,   -999.0,9,  28.5759,20070719,0935
  33RO20070710,GOMECC,    34,  1,   3419,     19,2,20070719,0913, 26.9619, -79.6235,  639,     19.9,  28.9620,  36.0820,2,  36.0950,2,    188.5,2,    200.0,2,     1.20,2,     0.00,2,     0.00,2,     0.01,2,     0.19,2, -999.000,9, -999.000,9, -999.000,9,   2007.2,2,   2367.6,3,    266.2,2,       20,   -999.0,9,  28.9572,20070719,0936
  33RO20070710,GOMECC,    34,  1,   3420,     20,2,20070719,0913, 26.9619, -79.6235,  639,     10.1,  30.0590,  36.1540,2,  36.1580,2,    183.6,2,    194.7,2,     1.30,2,     0.00,2,     0.00,2,     0.01,2,     0.17,2, -999.000,9, -999.000,9, -999.000,9,   2004.9,2,   2370.4,2,    261.8,2,       20,   -999.0,9,  30.0565,20070719,0937
  33RO20070710,GOMECC,    34,  1,   3421,     21,2,20070719,0913, 26.9619, -79.6235,  639,      4.2,  30.0510,  36.1550,2,  36.1630,2,    183.6,2,    194.2,2,     1.30,2,     0.00,2,     0.00,2,     0.00,2,     0.17,2,    1.520,2,    1.100,2,    0.340,2,   2004.8,6,   2370.6,2,    261.9,2,       20,     66.5,2,  30.0500,20070719,0938
  33RO20070710,GOMECC,    34,  1,   3422,     22,2,20070719,0913, 26.9619, -79.6235,  639,      4.2,  30.0510,  36.1550,2,-999.0000,9,    183.7,2,   -999.0,9,  -999.00,9,  -999.00,9,  -999.00,9,  -999.00,9,     -999,9, -999.000,9, -999.000,9, -999.000,9,   -999.0,9,   -999.0,9,   -999.0,9,     -999,   -999.0,9,  30.0500,20070719,0938
  33RO20070710,GOMECC,    34,  1,   3423,     23,2,20070719,0913, 26.9619, -79.6235,  639,      4.2,  30.0520,  36.1550,2,-999.0000,9,    183.4,2,   -999.0,9,  -999.00,9,  -999.00,9,  -999.00,9,  -999.00,9,     -999,9, -999.000,9, -999.000,9, -999.000,9,   -999.0,9,   -999.0,9,   -999.0,9,     -999,   -999.0,9,  30.0510,20070719,0939
  33RO20070710,GOMECC,    34,  1,   3424,     24,9,20070719,0913, 26.9619, -79.6235,  639,      4.2,  30.0520,  36.1550,2,-999.0000,9,    183.7,2,   -999.0,9,  -999.00,9,  -999.00,9,  -999.00,9,  -999.00,9,     -999,9, -999.000,9, -999.000,9, -999.000,9,   -999.0,9,   -999.0,9,   -999.0,9,     -999,   -999.0,9,  30.0510,20070719,0939
  33RO20070710,GOMECC,    35,  1,   3501,      1,2,20070720,0637, 31.4013, -80.8582,   13,     13.9,  28.6800,  35.8410,2,-999.0000,9,    191.4,2,    206.7,2,     0.30,2,     0.30,2,     0.01,2,     0.16,2,     0.08,2, -999.000,9, -999.000,9, -999.000,9,   2008.5,2,   2341.1,2,    289.1,2,       20,     96.2,2,  28.6767,20070720,0637
  33RO20070710,GOMECC,    35,  1,   3503,      3,2,20070720,0637, 31.4013, -80.8582,   13,      4.0,  28.7200,  35.8030,2,-999.0000,9,    192.2,2,    204.1,6,     0.30,2,     0.10,2,     0.01,2,     0.14,2,     0.27,2, -999.000,9, -999.000,9, -999.000,9,   2006.1,6,   -999.0,9,    286.9,2,       20,   -999.0,9,  28.7190,20070720,0640
  33RO20070710,GOMECC,    35,  1,   3504,      4,9,20070720,0637, 31.4013, -80.8582,   13,      3.9,  28.7220,  35.8030,2,-999.0000,9,    191.9,2,   -999.0,9,  -999.00,9,  -999.00,9,  -999.00,9,  -999.00,9,     -999,9, -999.000,9, -999.000,9, -999.000,9,   -999.0,9,   -999.0,9,   -999.0,9,     -999,   -999.0,9,  28.7211,20070720,0640
  33RO20070710,GOMECC,    35,  1,   3505,      5,2,20070720,0637, 31.4013, -80.8582,   13,      4.0,  28.7260,  35.8030,2,-999.0000,9,    191.7,2,   -999.0,9,  -999.00,9,  -999.00,9,  -999.00,9,  -999.00,9,     -999,9, -999.000,9, -999.000,9, -999.000,9,   -999.0,9,   2340.3,2,   -999.0,9,     -999,   -999.0,9,  28.7250,20070720,0640
  33RO20070710,GOMECC,    35,  1,   3506,      6,2,20070720,0637, 31.4013, -80.8582,   13,      4.1,  28.7240,  35.8010,2,-999.0000,9,    192.0,2,   -999.0,9,  -999.00,9,  -999.00,9,  -999.00,9,  -999.00,9,     -999,9, -999.000,9, -999.000,9, -999.000,9,   -999.0,9,   -999.0,9,   -999.0,9,     -999,   -999.0,9,  28.7230,20070720,0640
  33RO20070710,GOMECC,    35,  1,   3507,      7,2,20070720,0637, 31.4013, -80.8582,   13,      4.1,  28.7190,  35.8020,2,-999.0000,9,    192.2,2,   -999.0,9,  -999.00,9,  -999.00,9,  -999.00,9,  -999.00,9,     -999,9, -999.000,9, -999.000,9, -999.000,9,   -999.0,9,   -999.0,9,   -999.0,9,     -999,   -999.0,9,  28.7180,20070720,0640
  33RO20070710,GOMECC,    36,  1,   3601,      1,2,20070720,0944, 31.4658, -80.9208,   15,     11.5,  28.9840,  35.5540,2,-999.0000,1,    190.8,2,    202.4,6,     0.30,2,     0.30,2,     0.02,2,     0.16,2,      0.2,2,    1.660,2,    1.350,2,    0.200,2,   1987.4,6,   2326.0,6,    275.9,2,       20,   -999.0,9,  28.9812,20070720,0944
  33RO20070710,GOMECC,    36,  1,   3603,      3,2,20070720,0944, 31.4658, -80.9208,   15,     11.5,  28.9830,  35.5570,2,  35.5660,2,    190.9,2,   -999.0,9,  -999.00,9,  -999.00,9,  -999.00,9,  -999.00,9,     -999,9, -999.000,9, -999.000,9, -999.000,9,   -999.0,9,   -999.0,9,   -999.0,9,     -999,   -999.0,9,  28.9802,20070720,0945
  33RO20070710,GOMECC,    36,  1,   3604,      4,2,20070720,0944, 31.4658, -80.9208,   15,      3.8,  28.9780,  35.5560,2,  35.5620,2,    190.9,2,    202.4,6,     0.30,2,     0.10,2,     0.02,2,     0.10,2,     0.19,2,    1.450,2,    1.010,2,    0.100,2,   1986.7,2,   2327.1,2,    276.5,2,       20,    115.6,2,  28.9771,20070720,0947
  33RO20070710,GOMECC,    36,  1,   3605,      5,2,20070720,0944, 31.4658, -80.9208,   15,      4.0,  28.9820,  35.5520,2,-999.0000,9,    190.8,2,   -999.0,9,  -999.00,9,  -999.00,9,  -999.00,9,  -999.00,9,     -999,9, -999.000,9, -999.000,9, -999.000,9,   -999.0,9,   -999.0,9,   -999.0,9,     -999,   -999.0,9,  28.9810,20070720,0947
  33RO20070710,GOMECC,    37,  1,   3701,      1,2,20070720,1732, 31.3972, -80.7420,   23,     21.3,  28.2060,  36.0700,2,-999.0000,9,    187.8,2,    201.0,6,  -999.00,9,  -999.00,9,  -999.00,9,  -999.00,9,     -999,9,    1.760,2,    1.210,2,    0.040,2,   -999.0,9,   -999.0,9,   -999.0,9,     -999,   -999.0,9,  28.2009,20070720,1732
  33RO20070710,GOMECC,    37,  1,   3703,      3,2,20070720,1732, 31.3972, -80.7420,   23,     21.3,  28.2070,  36.0690,2,  36.0710,2,    187.7,2,   -999.0,9,     0.30,2,     0.10,2,     0.01,2,     0.09,2,     0.26,2, -999.000,9, -999.000,9, -999.000,9,   2024.6,2,   2353.9,2,    295.3,2,       20,   -999.0,9,  28.2019,20070720,1732
  33RO20070710,GOMECC,    37,  1,   3704,      4,2,20070720,1732, 31.3972, -80.7420,   23,     10.2,  28.3850,  36.0090,2,  36.0200,2,    190.8,2,    203.3,6,     0.20,2,     0.00,2,     0.01,2,     0.06,2,     0.17,2,    1.450,2,    1.100,2,    0.160,2,   2017.9,2,   2350.7,2,    290.1,2,       20,   -999.0,9,  28.3826,20070720,1734
  33RO20070710,GOMECC,    37,  1,   3705,      5,9,20070720,1732, 31.3972, -80.7420,   23,     10.2,  28.4560,  35.9910,2,-999.0000,9,    192.5,2,   -999.0,9,  -999.00,9,  -999.00,9,  -999.00,9,  -999.00,9,     -999,9, -999.000,9, -999.000,9, -999.000,9,   -999.0,9,   -999.0,9,   -999.0,9,     -999,   -999.0,9,  28.4536,20070720,1734
  33RO20070710,GOMECC,    37,  1,   3706,      6,2,20070720,1732, 31.3972, -80.7420,   23,      4.2,  28.6070,  35.9670,2,-999.0000,9,    192.4,2,    204.5,6,  -999.00,9,  -999.00,9,  -999.00,9,  -999.00,9,     -999,9,    1.470,2,    1.120,2, -999.000,9,   2014.7,6,   2350.0,2,    288.0,2,       20,     99.3,2,  28.6060,20070720,1736
  33RO20070710,GOMECC,    37,  1,   3707,      7,2,20070720,1732, 31.3972, -80.7420,   23,      4.0,  28.5690,  35.9720,2,-999.0000,9,    192.8,2,   -999.0,9,  -999.00,9,  -999.00,9,  -999.00,9,  -999.00,9,     -999,9, -999.000,9, -999.000,9, -999.000,9,   -999.0,9,   -999.0,9,   -999.0,9,     -999,   -999.0,9,  28.5680,20070720,1736
  33RO20070710,GOMECC,    38,  1,   3801,      1,2,20070720,1904, 31.3240, -80.5645,   26,     24.1,  24.3420,  36.3250,2,  36.3310,2,    196.2,2,    208.3,6,     0.70,2,     0.00,2,     0.01,2,     0.09,2,     0.25,2,    1.860,2,    1.310,2,    0.140,2,   2057.4,2,   2388.2,2,    313.2,2,       20,   -999.0,9,  24.3369,20070720,1904
  33RO20070710,GOMECC,    38,  1,   3803,      3,2,20070720,1904, 31.3240, -80.5645,   26,     24.0,  24.3320,  36.3270,2,-999.0000,9,    196.3,2,   -999.0,9,  -999.00,9,  -999.00,9,  -999.00,9,  -999.00,9,     -999,9, -999.000,9, -999.000,9, -999.000,9,   -999.0,9,   -999.0,9,   -999.0,9,     -999,   -999.0,9,  24.3269,20070720,1905
  33RO20070710,GOMECC,    38,  1,   3804,      4,9,20070720,1904, 31.3240, -80.5645,   26,     10.3,  28.3960,  36.1260,2,-999.0000,9,    193.6,2,   -999.0,9,  -999.00,9,  -999.00,9,  -999.00,9,  -999.00,9,     -999,9, -999.000,9, -999.000,9, -999.000,9,   -999.0,9,   -999.0,9,   -999.0,9,     -999,   -999.0,9,  28.3935,20070720,1907
  33RO20070710,GOMECC,    38,  1,   3805,      5,2,20070720,1904, 31.3240, -80.5645,   26,     10.3,  28.3900,  36.1260,2,-999.0000,1,    193.5,2,    206.5,6,     0.00,2,     0.00,2,     0.00,2,     0.05,2,     0.23,2, -999.000,9, -999.000,9, -999.000,9,   2021.7,2,   2370.4,2,    285.5,2,       20,   -999.0,9,  28.3875,20070720,1907
  33RO20070710,GOMECC,    38,  1,   3806,      6,2,20070720,1904, 31.3240, -80.5645,   26,      4.2,  28.6350,  36.1320,2,-999.0000,9,    192.5,2,    205.9,6,     0.10,2,     0.00,2,     0.00,2,     0.09,2,      0.2,2,    1.470,2,    1.010,2,    0.160,2,   2021.5,6,   2367.1,2,    284.6,2,       20,     76.1,2,  28.6340,20070720,1909
  33RO20070710,GOMECC,    38,  1,   3807,      7,2,20070720,1904, 31.3240, -80.5645,   26,      4.1,  28.6410,  36.1320,2,  36.1430,6,    192.3,2,   -999.0,9,  -999.00,9,  -999.00,9,  -999.00,9,  -999.00,9,     -999,9, -999.000,9, -999.000,9, -999.000,9,   -999.0,9,   -999.0,9,   -999.0,9,     -999,   -999.0,9,  28.6400,20070720,1909
  33RO20070710,GOMECC,    38,  1,   3808,      8,9,20070720,1904, 31.3240, -80.5645,   26,      4.0,  28.6410,  36.1320,2,-999.0000,9,    192.3,2,   -999.0,9,  -999.00,9,  -999.00,9,  -999.00,9,  -999.00,9,     -999,9, -999.000,9, -999.000,9, -999.000,9,   -999.0,9,   -999.0,9,   -999.0,9,     -999,   -999.0,9,  28.6400,20070720,1909
  33RO20070710,GOMECC,    38,  1,   3809,      9,9,20070720,1904, 31.3240, -80.5645,   26,      4.0,  28.6260,  36.1320,2,-999.0000,9,    192.4,2,   -999.0,9,  -999.00,9,  -999.00,9,  -999.00,9,  -999.00,9,     -999,9, -999.000,9, -999.000,9, -999.000,9,   -999.0,9,   -999.0,9,   -999.0,9,     -999,   -999.0,9,  28.6250,20070720,1909