BOTTLE,20220922CCHSIOAMB
EXPOCODE,SECT_ID,STNNBR,CASTNO,SAMPNO,BTLNBR,BTLNBR_FLAG_W,DATE,TIME,LATITUDE,LONGITUDE,DEPTH,CTDPRS,CTDTMP,CTDSAL,CTDSAL_FLAG_W,SALNTY,SALNTY_FLAG_W,CTDOXY,CTDOXY_FLAG_W,OXYGEN,OXYGEN_FLAG_W,SILCAT,SILCAT_FLAG_W,NITRAT,NITRAT_FLAG_W,NITRIT,NITRIT_FLAG_W,PHSPHT,PHSPHT_FLAG_W,NH4,NH4_FLAG_W,CFC-11,CFC-11_FLAG_W,CFC-12,CFC-12_FLAG_W,CFC113,CFC113_FLAG_W,TCARBN,TCARBN_FLAG_W,ALKALI,ALKALI_FLAG_W,FCO2,FCO2_FLAG_W,FCO2TMP,DOC,DOC_FLAG_W,THETA,BTL_DATE,BTL_TIME
,,,,,,,,,,,METERS,DBAR,ITS-90,PSS-78,,PSS-78,,UMOL/KG,,UMOL/KG,,UMOL/KG,,UMOL/KG,,UMOL/KG,,UMOL/KG,,UMOL/KG,,PMOL/KG,,PMOL/KG,,PMOL/KG,,UMOL/KG,,UMOL/KG,,UATM,,DEG C,UMOL/KG,,DEG C,,
  33RO20070710,GOMECC,    19,  1,   1901,      1,2,20070715,2019, 28.0002, -83.0008,   16,     12.9,  30.8070,  36.1710,2,-999.0000,9,    197.3,2,    203.5,6,     4.40,2,     0.00,2,     0.10,2,     0.10,2,      0.2,2, -999.000,9, -999.000,9, -999.000,9,   -999.0,9,   -999.0,9,   -999.0,9,     -999,   -999.0,9,  30.8037,20070715,2019
  33RO20070710,GOMECC,    19,  1,   1903,      3,2,20070715,2019, 28.0002, -83.0008,   16,     12.9,  30.8060,  36.1710,2,-999.0000,9,    197.5,2,   -999.0,9,  -999.00,9,  -999.00,9,  -999.00,9,  -999.00,9,     -999,9, -999.000,9, -999.000,9, -999.000,9,   -999.0,9,   -999.0,9,   -999.0,9,     -999,   -999.0,9,  30.8027,20070715,2019
  33RO20070710,GOMECC,    19,  1,   1904,      4,9,20070715,2019, 28.0002, -83.0008,   16,     12.9,  30.8060,  36.1710,2,-999.0000,9,    198.1,2,   -999.0,9,  -999.00,9,  -999.00,9,  -999.00,9,  -999.00,9,     -999,9, -999.000,9, -999.000,9, -999.000,9,   -999.0,9,   -999.0,9,   -999.0,9,     -999,   -999.0,9,  30.8027,20070715,2020
  33RO20070710,GOMECC,    19,  1,   1905,      5,2,20070715,2019, 28.0002, -83.0008,   16,     12.9,  30.8070,  36.1710,2,-999.0000,9,    197.8,2,   -999.0,9,  -999.00,9,  -999.00,9,  -999.00,9,  -999.00,9,     -999,9, -999.000,9, -999.000,9, -999.000,9,   2051.1,2,   2400.1,6,    289.4,2,       20,    101.9,2,  30.8037,20070715,2020
  33RO20070710,GOMECC,    19,  1,   1906,      6,2,20070715,2019, 28.0002, -83.0008,   16,     12.9,  30.8080,  36.1700,2,  36.1710,2,    197.3,2,   -999.0,9,  -999.00,9,  -999.00,9,  -999.00,9,  -999.00,9,     -999,9, -999.000,9, -999.000,9, -999.000,9,   -999.0,9,   -999.0,9,   -999.0,9,     -999,   -999.0,9,  30.8047,20070715,2020
  33RO20070710,GOMECC,    19,  1,   1907,      7,2,20070715,2019, 28.0002, -83.0008,   16,     12.9,  30.8070,  36.1710,2,-999.0000,9,    197.9,2,   -999.0,9,  -999.00,9,  -999.00,9,  -999.00,9,  -999.00,9,     -999,9, -999.000,9, -999.000,9, -999.000,9,   -999.0,9,   -999.0,9,   -999.0,9,     -999,   -999.0,9,  30.8037,20070715,2020
  33RO20070710,GOMECC,    19,  1,   1908,      8,9,20070715,2019, 28.0002, -83.0008,   16,     12.9,  30.8060,  36.1710,2,-999.0000,9,    198.2,2,   -999.0,9,  -999.00,9,  -999.00,9,  -999.00,9,  -999.00,9,     -999,9, -999.000,9, -999.000,9, -999.000,9,   -999.0,9,   -999.0,9,   -999.0,9,     -999,   -999.0,9,  30.8027,20070715,2020
  33RO20070710,GOMECC,    19,  1,   1909,      9,9,20070715,2019, 28.0002, -83.0008,   16,     12.9,  30.8050,  36.1710,2,-999.0000,9,    198.5,2,   -999.0,9,  -999.00,9,  -999.00,9,  -999.00,9,  -999.00,9,     -999,9, -999.000,9, -999.000,9, -999.000,9,   -999.0,9,   -999.0,9,   -999.0,9,     -999,   -999.0,9,  30.8017,20070715,2020
  33RO20070710,GOMECC,    19,  1,   1910,     10,9,20070715,2019, 28.0002, -83.0008,   16,     12.9,  30.8060,  36.1710,2,-999.0000,9,    198.2,2,   -999.0,9,  -999.00,9,  -999.00,9,  -999.00,9,  -999.00,9,     -999,9, -999.000,9, -999.000,9, -999.000,9,   -999.0,9,   -999.0,9,   -999.0,9,     -999,   -999.0,9,  30.8027,20070715,2020
  33RO20070710,GOMECC,    19,  1,   1911,     11,9,20070715,2019, 28.0002, -83.0008,   16,     12.9,  30.8060,  36.1710,2,-999.0000,9,    198.5,2,   -999.0,9,  -999.00,9,  -999.00,9,  -999.00,9,  -999.00,9,     -999,9, -999.000,9, -999.000,9, -999.000,9,   -999.0,9,   -999.0,9,   -999.0,9,     -999,   -999.0,9,  30.8027,20070715,2020
  33RO20070710,GOMECC,    19,  1,   1912,     12,9,20070715,2019, 28.0002, -83.0008,   16,     12.9,  30.8050,  36.1710,2,-999.0000,9,    198.4,2,   -999.0,9,  -999.00,9,  -999.00,9,  -999.00,9,  -999.00,9,     -999,9, -999.000,9, -999.000,9, -999.000,9,   -999.0,9,   -999.0,9,   -999.0,9,     -999,   -999.0,9,  30.8017,20070715,2021
  33RO20070710,GOMECC,    19,  1,   1913,     13,2,20070715,2019, 28.0002, -83.0008,   16,      4.1,  31.2620,  36.1480,2,-999.0000,9,    190.6,2,    197.8,6,     3.80,2,     0.00,2,     0.06,2,     0.08,2,     0.31,2, -999.000,9, -999.000,9, -999.000,9,   -999.0,9,   -999.0,9,   -999.0,9,     -999,   -999.0,9,  31.2609,20070715,2023
  33RO20070710,GOMECC,    19,  1,   1914,     14,3,20070715,2019, 28.0002, -83.0008,   16,      4.1,  31.2530,  36.1470,2,-999.0000,9,    190.4,2,   -999.0,9,  -999.00,9,  -999.00,9,  -999.00,9,  -999.00,9,     -999,9, -999.000,9, -999.000,9, -999.000,9,   -999.0,9,   -999.0,9,   -999.0,9,     -999,   -999.0,9,  31.2519,20070715,2023
  33RO20070710,GOMECC,    19,  1,   1915,     15,2,20070715,2019, 28.0002, -83.0008,   16,      4.1,  31.2490,  36.1470,2,-999.0000,9,    190.6,2,   -999.0,9,  -999.00,9,  -999.00,9,  -999.00,9,  -999.00,9,     -999,9, -999.000,9, -999.000,9, -999.000,9,   2053.1,6,   2397.8,2,    294.3,2,       20,    105.2,2,  31.2479,20070715,2023
  33RO20070710,GOMECC,    19,  1,   1916,     16,2,20070715,2019, 28.0002, -83.0008,   16,      4.1,  31.2500,  36.1470,2,  36.1550,2,    190.7,2,   -999.0,9,  -999.00,9,  -999.00,9,  -999.00,9,  -999.00,9,     -999,9, -999.000,9, -999.000,9, -999.000,9,   -999.0,9,   -999.0,9,   -999.0,9,     -999,   -999.0,9,  31.2489,20070715,2023
  33RO20070710,GOMECC,    19,  1,   1917,     17,2,20070715,2019, 28.0002, -83.0008,   16,      4.1,  31.2540,  36.1460,2,-999.0000,9,    190.6,2,   -999.0,9,  -999.00,9,  -999.00,9,  -999.00,9,  -999.00,9,     -999,9, -999.000,9, -999.000,9, -999.000,9,   -999.0,9,   -999.0,9,   -999.0,9,     -999,   -999.0,9,  31.2529,20070715,2023
  33RO20070710,GOMECC,    19,  1,   1918,     18,2,20070715,2019, 28.0002, -83.0008,   16,      4.2,  31.2350,  36.1440,2,-999.0000,9,    190.6,2,   -999.0,9,  -999.00,9,  -999.00,9,  -999.00,9,  -999.00,9,     -999,9, -999.000,9, -999.000,9, -999.000,9,   -999.0,9,   -999.0,9,   -999.0,9,     -999,   -999.0,9,  31.2339,20070715,2023
  33RO20070710,GOMECC,    19,  1,   1919,     19,9,20070715,2019, 28.0002, -83.0008,   16,      4.2,  31.2250,  36.1440,2,-999.0000,9,    190.8,2,   -999.0,9,  -999.00,9,  -999.00,9,  -999.00,9,  -999.00,9,     -999,9, -999.000,9, -999.000,9, -999.000,9,   -999.0,9,   -999.0,9,   -999.0,9,     -999,   -999.0,9,  31.2239,20070715,2024
  33RO20070710,GOMECC,    19,  1,   1920,     20,9,20070715,2019, 28.0002, -83.0008,   16,      4.1,  31.2370,  36.1440,2,-999.0000,9,    190.5,2,   -999.0,9,  -999.00,9,  -999.00,9,  -999.00,9,  -999.00,9,     -999,9, -999.000,9, -999.000,9, -999.000,9,   -999.0,9,   -999.0,9,   -999.0,9,     -999,   -999.0,9,  31.2359,20070715,2024
  33RO20070710,GOMECC,    19,  1,   1921,     21,9,20070715,2019, 28.0002, -83.0008,   16,      4.2,  31.2100,  36.1430,2,-999.0000,9,    190.5,2,   -999.0,9,  -999.00,9,  -999.00,9,  -999.00,9,  -999.00,9,     -999,9, -999.000,9, -999.000,9, -999.000,9,   -999.0,9,   -999.0,9,   -999.0,9,     -999,   -999.0,9,  31.2089,20070715,2024
  33RO20070710,GOMECC,    19,  1,   1922,     22,9,20070715,2019, 28.0002, -83.0008,   16,      4.2,  31.2100,  36.1430,2,-999.0000,9,    190.8,2,   -999.0,9,  -999.00,9,  -999.00,9,  -999.00,9,  -999.00,9,     -999,9, -999.000,9, -999.000,9, -999.000,9,   -999.0,9,   -999.0,9,   -999.0,9,     -999,   -999.0,9,  31.2089,20070715,2024
  33RO20070710,GOMECC,    19,  1,   1923,     23,9,20070715,2019, 28.0002, -83.0008,   16,      4.1,  31.2320,  36.1440,2,-999.0000,9,    190.5,2,   -999.0,9,  -999.00,9,  -999.00,9,  -999.00,9,  -999.00,9,     -999,9, -999.000,9, -999.000,9, -999.000,9,   -999.0,9,   -999.0,9,   -999.0,9,     -999,   -999.0,9,  31.2309,20070715,2024
  33RO20070710,GOMECC,    19,  1,   1924,     24,9,20070715,2019, 28.0002, -83.0008,   16,      4.2,  31.2360,  36.1450,2,-999.0000,9,    190.5,2,   -999.0,9,  -999.00,9,  -999.00,9,  -999.00,9,  -999.00,9,     -999,9, -999.000,9, -999.000,9, -999.000,9,   -999.0,9,   -999.0,9,   -999.0,9,     -999,   -999.0,9,  31.2349,20070715,2024
  33RO20070710,GOMECC,    20,  1,   2001,      1,2,20070716,0019, 27.7774, -83.3353,   29,     27.2,  27.6150,  36.5280,2,  36.5350,2,    218.8,2,    228.5,6,     4.50,2,     0.00,2,     0.02,2,     0.12,2,     0.05,2, -999.000,9, -999.000,9, -999.000,9,   2042.2,6,   2393.0,2,    286.5,2,       20,     82.7,2,  27.6086,20070716,0019
  33RO20070710,GOMECC,    20,  1,   2003,      3,2,20070716,0019, 27.7774, -83.3353,   29,     20.3,  27.8870,  36.5160,2,  36.5230,2,    222.3,2,    229.0,6,     3.30,2,     0.00,2,     0.02,2,     0.04,2,     0.04,2, -999.000,9, -999.000,9, -999.000,9,   2044.5,2,   2395.8,2,    287.3,2,       20,   -999.0,9,  27.8822,20070716,0022
  33RO20070710,GOMECC,    20,  1,   2004,      4,2,20070716,0019, 27.7774, -83.3353,   29,     20.3,  27.8770,  36.5160,2,-999.0000,9,    222.3,2,   -999.0,9,  -999.00,9,  -999.00,9,  -999.00,9,  -999.00,9,     -999,9, -999.000,9, -999.000,9, -999.000,9,   -999.0,9,   -999.0,9,   -999.0,9,     -999,   -999.0,9,  27.8722,20070716,0022
  33RO20070710,GOMECC,    20,  1,   2005,      5,2,20070716,0019, 27.7774, -83.3353,   29,     10.2,  30.2780,  36.6120,2,  36.5980,4,    188.1,2,    206.9,3,     1.40,2,     0.00,2,     0.00,2,     0.03,2,     0.04,2, -999.000,9, -999.000,9, -999.000,9,   2057.2,2,   2408.3,2,    289.2,2,       20,     84.9,2,  30.2754,20070716,0024
  33RO20070710,GOMECC,    20,  1,   2006,      6,2,20070716,0019, 27.7774, -83.3353,   29,      3.9,  30.3750,  36.6110,2,  36.6160,2,    187.8,2,    207.3,3,     1.20,2,     0.00,2,     0.03,2,     0.03,2,     0.08,2, -999.000,9, -999.000,9, -999.000,9,   2060.4,2,   2412.7,2,    288.7,2,       20,     82.1,2,  30.3740,20070716,0025
  33RO20070710,GOMECC,    20,  1,   2007,      7,2,20070716,0019, 27.7774, -83.3353,   29,      3.8,  30.3900,  36.6100,2,-999.0000,9,    187.9,2,   -999.0,9,  -999.00,9,  -999.00,9,  -999.00,9,  -999.00,9,     -999,9, -999.000,9, -999.000,9, -999.000,9,   -999.0,9,   -999.0,9,   -999.0,9,     -999,   -999.0,9,  30.3890,20070716,0025
  33RO20070710,GOMECC,    21,  1,   2101,      1,2,20070716,0313, 27.5558, -83.6659,   43,     43.2,  24.9880,  36.5770,2,  36.5850,2,    200.1,2,    209.9,2,     3.40,2,     0.00,2,     0.03,2,     0.04,2,     0.04,2, -999.000,9, -999.000,9, -999.000,9,   2069.7,6,   2401.7,2,    315.5,2,       20,   -999.0,9,  24.9786,20070716,0313
  33RO20070710,GOMECC,    21,  1,   2103,      3,2,20070716,0313, 27.5558, -83.6659,   43,     30.6,  26.3530,  36.5840,2,  36.5830,2,    205.5,2,    211.2,2,     2.30,2,     0.00,2,     0.03,2,     0.01,2,     0.04,2, -999.000,9, -999.000,9, -999.000,9,   2058.8,2,   2399.9,2,    302.7,2,       20,   -999.0,9,  26.3461,20070716,0315
  33RO20070710,GOMECC,    21,  1,   2104,      4,2,20070716,0313, 27.5558, -83.6659,   43,     20.2,  27.9140,  36.5260,2,  36.5340,2,    201.8,2,    211.3,2,     1.60,2,     0.00,2,     0.03,2,     0.00,2,     0.04,2, -999.000,9, -999.000,9, -999.000,9,   2049.5,2,   2397.5,2,    288.2,2,       20,   -999.0,9,  27.9092,20070716,0317
  33RO20070710,GOMECC,    21,  1,   2105,      5,2,20070716,0313, 27.5558, -83.6659,   43,     10.0,  29.9650,  36.6580,2,  36.6680,2,    189.3,2,    196.3,2,     1.40,2,     0.00,2,     0.04,2,     0.00,2,     0.04,2, -999.000,9, -999.000,9, -999.000,9,   2051.4,2,   2406.7,2,    283.2,2,       20,     62.4,2,  29.9625,20070716,0318
  33RO20070710,GOMECC,    21,  1,   2106,      6,2,20070716,0313, 27.5558, -83.6659,   43,      4.2,  30.2750,  36.6790,2,  36.6830,2,    187.5,2,    195.0,6,     1.40,2,     0.00,2,     0.05,2,     0.00,2,     0.04,2, -999.000,9, -999.000,9, -999.000,9,   2051.7,2,   2407.7,2,    282.5,2,       20,     78.3,2,  30.2739,20070716,0320
  33RO20070710,GOMECC,    22,  1,   2201,      1,2,20070716,0618, 27.3292, -84.0040,   65,     55.3,  21.7830,  36.4660,2,  36.4680,2,    186.6,2,    196.9,6,     1.90,2,     0.10,2,     0.36,2,     0.04,2,     0.05,2, -999.000,9, -999.000,9, -999.000,9,   2095.5,6,   2398.5,2,    354.6,2,       20,   -999.0,9,  21.7721,20070716,0618
  33RO20070710,GOMECC,    22,  1,   2203,      3,2,20070716,0618, 27.3292, -84.0040,   65,     55.3,  21.7820,  36.4670,2,  36.4620,2,    186.6,2,   -999.0,9,  -999.00,9,  -999.00,9,  -999.00,9,  -999.00,9,     -999,9, -999.000,9, -999.000,9, -999.000,9,   -999.0,9,   -999.0,9,   -999.0,9,     -999,   -999.0,9,  21.7711,20070716,0618
  33RO20070710,GOMECC,    22,  1,   2204,      4,2,20070716,0618, 27.3292, -84.0040,   65,     49.7,  22.5150,  36.4490,2,  36.4620,2,    194.6,2,    200.4,2,     2.00,2,     0.50,2,     0.31,2,     0.05,2,     0.06,2, -999.000,9, -999.000,9, -999.000,9,   2089.7,2,   2398.9,2,    342.4,2,       20,   -999.0,9,  22.5050,20070716,0620
  33RO20070710,GOMECC,    22,  1,   2205,      5,2,20070716,0618, 27.3292, -84.0040,   65,     40.2,  23.8380,  36.4500,2,  36.4570,2,    197.0,2,    206.3,2,     2.10,2,     0.20,2,     0.11,2,     0.04,2,     0.05,2, -999.000,9, -999.000,9, -999.000,9,   2078.5,2,   2397.5,2,    328.7,2,       20,   -999.0,9,  23.8295,20070716,0621
  33RO20070710,GOMECC,    22,  1,   2206,      6,2,20070716,0618, 27.3292, -84.0040,   65,     30.0,  24.8470,  36.4360,2,  36.4440,2,    204.6,2,    213.5,2,     2.00,2,     0.10,2,     0.13,2,     0.02,2,     0.05,2, -999.000,9, -999.000,9, -999.000,9,   2069.7,2,   2398.2,2,    315.4,2,       20,   -999.0,9,  24.8405,20070716,0623
  33RO20070710,GOMECC,    22,  1,   2207,      7,2,20070716,0618, 27.3292, -84.0040,   65,     19.8,  27.9990,  36.4090,2,  36.3870,2,    227.8,2,    226.3,6,     1.30,2,     0.00,2,     0.09,2,     0.02,2,     0.05,2, -999.000,9, -999.000,9, -999.000,9,   2055.7,2,   2397.1,2,    297.3,2,       20,   -999.0,9,  27.9943,20070716,0625
  33RO20070710,GOMECC,    22,  1,   2208,      8,2,20070716,0618, 27.3292, -84.0040,   65,     19.9,  28.0200,  36.4000,2,  36.3870,2,    227.6,2,   -999.0,9,  -999.00,9,  -999.00,9,  -999.00,9,  -999.00,9,     -999,9, -999.000,9, -999.000,9, -999.000,9,   -999.0,9,   -999.0,9,   -999.0,9,     -999,   -999.0,9,  28.0153,20070716,0625
  33RO20070710,GOMECC,    22,  1,   2209,      9,2,20070716,0618, 27.3292, -84.0040,   65,      9.7,  30.0560,  36.2640,2,  36.2710,2,    192.3,2,    201.0,2,     1.10,2,     0.10,2,     0.07,2,     0.02,2,     0.04,2, -999.000,9, -999.000,9, -999.000,9,   2047.3,2,   2400.6,2,    282.7,2,       20,     70.6,2,  30.0536,20070716,0627
  33RO20070710,GOMECC,    22,  1,   2210,     10,2,20070716,0618, 27.3292, -84.0040,   65,      3.7,  30.3650,  36.2690,2,  36.2760,2,    193.4,2,    200.3,2,     0.90,2,     0.00,2,     0.11,2,     0.00,2,     0.04,2, -999.000,9, -999.000,9, -999.000,9,   2044.9,2,   2400.4,6,    280.2,2,       20,   -999.0,9,  30.3641,20070716,0628
  33RO20070710,GOMECC,    22,  1,   2211,     11,2,20070716,0618, 27.3292, -84.0040,   65,      3.8,  30.3660,  36.2680,2,-999.0000,9,    192.9,2,   -999.0,9,  -999.00,9,  -999.00,9,  -999.00,9,  -999.00,9,     -999,9, -999.000,9, -999.000,9, -999.000,9,   -999.0,9,   -999.0,9,   -999.0,9,     -999,   -999.0,9,  30.3650,20070716,0628
  33RO20070710,GOMECC,    23,  1,   2301,      1,2,20070716,0900, 27.1111, -84.3340,  126,    116.6,  17.6220,  36.2990,2,  36.3340,4,    137.6,2,    144.3,6,     5.00,2,    10.30,2,     0.06,2,     0.63,2,     0.07,2, -999.000,9, -999.000,9, -999.000,9,   2150.6,2,   2385.4,2,    502.6,2,       20,   -999.0,9,  17.6021,20070716,0900
  33RO20070710,GOMECC,    23,  1,   2303,      3,2,20070716,0900, 27.1111, -84.3340,  126,     99.9,  19.1400,  36.4770,2,  36.4810,2,    151.5,2,    155.9,2,     3.60,2,     7.10,2,     0.09,2,     0.42,2,     0.04,2, -999.000,9, -999.000,9, -999.000,9,   2139.2,2,   2392.2,2,    448.6,2,       20,   -999.0,9,  19.1220,20070716,0902
  33RO20070710,GOMECC,    23,  1,   2304,      4,2,20070716,0900, 27.1111, -84.3340,  126,     69.4,  21.1970,  36.4960,2,  36.5200,4,    171.3,2,    178.3,2,     2.20,2,     2.00,2,     0.27,2,     0.17,2,     0.04,2, -999.000,9, -999.000,9, -999.000,9,   2117.7,2,   2400.5,2,    386.5,2,       20,   -999.0,9,  21.1835,20070716,0904
  33RO20070710,GOMECC,    23,  1,   2305,      5,2,20070716,0900, 27.1111, -84.3340,  126,     49.7,  23.3320,  36.4510,2,  36.4540,2,    197.8,2,    202.7,2,     2.10,2,     0.10,2,     0.08,2,     0.07,2,     0.07,2, -999.000,9, -999.000,9, -999.000,9,   2086.1,2,   2397.0,2,    341.5,2,       20,   -999.0,9,  23.3217,20070716,0905
  33RO20070710,GOMECC,    23,  1,   2306,      6,2,20070716,0900, 27.1111, -84.3340,  126,     49.5,  23.3540,  36.4500,2,-999.0000,9,    197.8,2,   -999.0,9,  -999.00,9,  -999.00,9,  -999.00,9,  -999.00,9,     -999,9, -999.000,9, -999.000,9, -999.000,9,   -999.0,9,   -999.0,9,   -999.0,9,     -999,   -999.0,9,  23.3437,20070716,0905
  33RO20070710,GOMECC,    23,  1,   2307,      7,2,20070716,0900, 27.1111, -84.3340,  126,     40.9,  24.8050,  36.4840,2,  36.4880,2,    203.3,2,    211.3,2,     1.50,2,     0.20,2,     0.05,2,     0.07,2,     0.05,2, -999.000,9, -999.000,9, -999.000,9,   2058.4,2,   2399.1,2,    299.4,2,       20,   -999.0,9,  24.7961,20070716,0906
  33RO20070710,GOMECC,    23,  1,   2308,      8,2,20070716,0900, 27.1111, -84.3340,  126,     30.1,  25.8510,  36.5090,2,  36.5150,2,    205.5,2,    213.6,2,     1.10,2,     0.10,2,     0.02,2,     0.03,2,     0.07,2, -999.000,9, -999.000,9, -999.000,9,   2052.4,2,   2399.2,2,    289.7,2,       20,   -999.0,9,  25.8443,20070716,0908
  33RO20070710,GOMECC,    23,  1,   2309,      9,2,20070716,0900, 27.1111, -84.3340,  126,     30.1,  25.8490,  36.5090,2,-999.0000,9,    205.8,2,   -999.0,9,  -999.00,9,  -999.00,9,  -999.00,9,  -999.00,9,     -999,9, -999.000,9, -999.000,9, -999.000,9,   -999.0,9,   -999.0,9,   -999.0,9,     -999,   -999.0,9,  25.8423,20070716,0908
  33RO20070710,GOMECC,    23,  1,   2310,     10,2,20070716,0900, 27.1111, -84.3340,  126,     20.3,  27.8940,  36.3800,2,  36.2830,4,    200.8,2,    210.3,2,     1.20,2,     0.00,2,     0.06,2,     0.02,2,      0.1,2, -999.000,9, -999.000,9, -999.000,9,   2046.5,2,   2396.3,2,    284.8,2,       20,   -999.0,9,  27.8892,20070716,0909
  33RO20070710,GOMECC,    23,  1,   2311,     11,2,20070716,0900, 27.1111, -84.3340,  126,     10.0,  29.7890,  36.1820,2,  36.1870,2,    189.5,2,    197.6,2,     1.00,2,     0.00,2,     0.05,2,     0.02,2,     0.06,2, -999.000,9, -999.000,9, -999.000,9,   2034.9,2,   2393.0,2,    273.8,2,       20,     61.9,2,  29.7865,20070716,0910
  33RO20070710,GOMECC,    23,  1,   2312,     12,2,20070716,0900, 27.1111, -84.3340,  126,      3.7,  29.8250,  36.1390,2,  36.1380,2,    189.1,2,    196.2,2,     1.00,2,     0.10,2,     0.04,2,     0.02,2,     0.13,2, -999.000,9, -999.000,9, -999.000,9,   2033.0,6,   2391.9,2,    272.9,2,       20,     75.3,2,  29.8241,20070716,0911
  33RO20070710,GOMECC,    23,  1,   2313,     13,2,20070716,0900, 27.1111, -84.3340,  126,      3.6,  29.8320,  36.1400,2,-999.0000,9,    189.1,2,   -999.0,9,  -999.00,9,  -999.00,9,  -999.00,9,  -999.00,9,     -999,9, -999.000,9, -999.000,9, -999.000,9,   -999.0,9,   -999.0,9,   -999.0,9,     -999,   -999.0,9,  29.8311,20070716,0912