BOTTLE,20220922CCHSIOAMB
EXPOCODE,SECT_ID,STNNBR,CASTNO,SAMPNO,BTLNBR,BTLNBR_FLAG_W,DATE,TIME,LATITUDE,LONGITUDE,DEPTH,CTDPRS,CTDTMP,CTDSAL,CTDSAL_FLAG_W,SALNTY,SALNTY_FLAG_W,CTDOXY,CTDOXY_FLAG_W,OXYGEN,OXYGEN_FLAG_W,SILCAT,SILCAT_FLAG_W,NITRAT,NITRAT_FLAG_W,NITRIT,NITRIT_FLAG_W,PHSPHT,PHSPHT_FLAG_W,NH4,NH4_FLAG_W,CFC-11,CFC-11_FLAG_W,CFC-12,CFC-12_FLAG_W,CFC113,CFC113_FLAG_W,TCARBN,TCARBN_FLAG_W,ALKALI,ALKALI_FLAG_W,FCO2,FCO2_FLAG_W,FCO2TMP,DOC,DOC_FLAG_W,THETA,BTL_DATE,BTL_TIME
,,,,,,,,,,,METERS,DBAR,ITS-90,PSS-78,,PSS-78,,UMOL/KG,,UMOL/KG,,UMOL/KG,,UMOL/KG,,UMOL/KG,,UMOL/KG,,UMOL/KG,,PMOL/KG,,PMOL/KG,,PMOL/KG,,UMOL/KG,,UMOL/KG,,UATM,,DEG C,UMOL/KG,,DEG C,,
  33RO20070710,GOMECC,    89,  1,   8901,      1,2,20070802,1532, 37.8638, -68.5045, 4382,   4434.2,   2.1900,  34.8730,2,  34.8860,2,    235.9,2,    263.5,6,    35.80,2,    19.10,2,     0.01,2,     1.39,2,     0.23,2, -999.000,9, -999.000,9, -999.000,9,   2181.5,6,   2339.9,2,    746.8,2,       20,   -999.0,9,   1.8001,20070802,1532
  33RO20070710,GOMECC,    89,  1,   8902,      2,2,20070802,1532, 37.8638, -68.5045, 4382,   4070.0,   2.2080,  34.8800,2,  34.8910,2,    237.8,2,    266.7,2,    31.00,2,    18.30,2,     0.01,2,     1.33,2,     0.14,2, -999.000,9, -999.000,9, -999.000,9,   2174.8,2,   2333.7,2,    740.6,2,       20,   -999.0,9,   1.8599,20070802,1538
  33RO20070710,GOMECC,    89,  1,   8903,      3,2,20070802,1532, 37.8638, -68.5045, 4382,   3556.7,   2.2830,  34.8900,2,  34.9000,2,    239.6,2,    269.7,2,    26.20,2,    17.70,2,     0.01,2,     1.27,2,     0.13,2, -999.000,9, -999.000,9, -999.000,9,   2169.6,2,   2327.5,2,    733.7,2,       20,   -999.0,9,   1.9899,20070802,1547
  33RO20070710,GOMECC,    89,  1,   8904,      4,2,20070802,1532, 37.8638, -68.5045, 4382,   3045.0,   2.5620,  34.9070,2,  34.9180,2,    241.3,2,    271.7,2,    20.20,2,    17.10,2,     0.01,2,     1.22,2,     0.37,3, -999.000,9, -999.000,9, -999.000,9,   2162.0,2,   2319.1,2,    728.7,2,       20,   -999.0,9,   2.3161,20070802,1557
  33RO20070710,GOMECC,    89,  1,   8905,      5,2,20070802,1532, 37.8638, -68.5045, 4382,   2535.0,   3.0570,  34.9320,2,  34.9410,2,    238.7,2,    268.8,2,    17.30,2,    17.30,2,     0.01,2,     1.23,2,     0.24,2, -999.000,9, -999.000,9, -999.000,9,   2159.7,2,   2315.8,2,    723.2,2,       20,   -999.0,9,   2.8525,20070802,1606
  33RO20070710,GOMECC,    89,  1,   8906,      6,2,20070802,1532, 37.8638, -68.5045, 4382,   2026.9,   3.3790,  34.9330,2,  34.9440,2,    241.4,2,    269.8,2,    14.00,2,    17.20,2,     0.00,2,     1.20,2,     0.13,2, -999.000,9, -999.000,9, -999.000,9,   2159.0,2,   2313.4,2,    733.7,2,       20,   -999.0,9,   3.2182,20070802,1616
  33RO20070710,GOMECC,    89,  1,   8907,      7,2,20070802,1532, 37.8638, -68.5045, 4382,   1770.8,   3.5910,  34.9420,2,  34.9510,2,    240.9,2,    266.7,2,    12.70,2,    17.20,2,     0.00,2,     1.20,2,     0.13,2, -999.000,9, -999.000,9, -999.000,9,   2159.1,2,   2312.1,2,    735.2,2,       20,   -999.0,9,   3.4510,20070802,1621
  33RO20070710,GOMECC,    89,  1,   8908,      8,2,20070802,1532, 37.8638, -68.5045, 4382,   1515.8,   3.7860,  34.9480,2,  34.9580,2,    239.8,2,    266.4,2,    11.90,2,    17.30,2,     0.01,2,     1.20,2,     0.12,2, -999.000,9, -999.000,9, -999.000,9,   2160.5,2,   2311.3,2,    746.7,2,       20,   -999.0,9,   3.6668,20070802,1626
  33RO20070710,GOMECC,    89,  1,   8909,      9,2,20070802,1532, 37.8638, -68.5045, 4382,   1262.2,   4.0410,  34.9640,2,  34.9730,2,    236.7,2,    261.7,2,    11.50,2,    17.40,2,     0.01,2,     1.20,2,     0.14,2, -999.000,9, -999.000,9, -999.000,9,   2162.7,2,   2313.6,2,    754.0,2,       20,   -999.0,9,   3.9416,20070802,1631
  33RO20070710,GOMECC,    89,  1,   8910,     10,2,20070802,1532, 37.8638, -68.5045, 4382,   1010.7,   4.3630,  34.9810,2,  34.9900,2,    231.9,2,    255.4,2,    11.20,2,    17.60,2,     0.01,2,     1.22,2,     0.14,2, -999.000,9, -999.000,9, -999.000,9,   2165.8,2,   2313.0,2,    763.9,2,       20,   -999.0,9,   4.2828,20070802,1636
  33RO20070710,GOMECC,    89,  1,   8911,     11,2,20070802,1532, 37.8638, -68.5045, 4382,    809.3,   4.6800,  34.9810,2,  34.9930,2,    225.8,2,    247.2,2,    11.00,2,    17.90,2,     0.01,2,     1.23,2,     0.12,2, -999.000,9, -999.000,9, -999.000,9,   2168.7,2,   2314.6,2,    781.0,2,       20,   -999.0,9,   4.6150,20070802,1640
  33RO20070710,GOMECC,    89,  1,   8912,     12,2,20070802,1532, 37.8638, -68.5045, 4382,    709.5,   5.2890,  35.0400,2,  34.9980,4,    209.2,2,    249.9,3,    11.40,2,    18.40,2,     0.01,2,     1.27,2,     0.13,2, -999.000,9, -999.000,9, -999.000,9,   2172.6,2,   2313.8,2,    798.0,2,       20,   -999.0,9,   5.2292,20070802,1643
  33RO20070710,GOMECC,    89,  1,   8913,     13,2,20070802,1532, 37.8638, -68.5045, 4382,    608.1,   5.8440,  35.0410,2,  35.0530,2,    194.4,2,    211.8,6,    12.30,2,    19.90,2,     0.01,2,     1.37,2,     0.13,2, -999.000,9, -999.000,9, -999.000,9,   2178.4,2,   2319.7,2,    811.6,2,       20,   -999.0,9,   5.7906,20070802,1646
  33RO20070710,GOMECC,    89,  1,   8914,     14,2,20070802,1532, 37.8638, -68.5045, 4382,    506.0,   7.4350,  35.0970,2,  35.1090,2,    156.7,2,    169.5,2,    13.50,2,    22.50,2,     0.01,2,     1.52,2,     0.17,2, -999.000,9, -999.000,9, -999.000,9,   2188.1,2,   2322.7,2,    861.4,2,       20,   -999.0,9,   7.3848,20070802,1649
  33RO20070710,GOMECC,    89,  1,   8915,     15,2,20070802,1532, 37.8638, -68.5045, 4382,    405.0,   9.4630,  35.2240,2,  35.2410,2,    130.1,2,    140.1,2,    13.10,2,    23.40,2,     0.01,2,     1.57,2,     0.14,2, -999.000,9, -999.000,9, -999.000,9,   2188.1,2,   2331.9,2,    840.0,2,       20,   -999.0,9,   9.4169,20070802,1652
  33RO20070710,GOMECC,    89,  1,   8916,     16,2,20070802,1532, 37.8638, -68.5045, 4382,    302.2,  14.1400,  35.9250,2,  35.9270,2,    193.2,2,    210.0,2,     3.10,2,     9.50,2,     0.02,2,     0.62,2,     0.13,2, -999.000,9, -999.000,9, -999.000,9,   2129.2,2,   2363.6,2,    491.6,2,       20,   -999.0,9,  14.0955,20070802,1654
  33RO20070710,GOMECC,    89,  1,   8917,     17,2,20070802,1532, 37.8638, -68.5045, 4382,    202.1,  13.7350,  35.2930,2,  35.3440,4,    176.9,2,    190.8,2,     3.60,2,     9.30,2,     0.04,2,     0.69,2,     0.15,2, -999.000,9, -999.000,9, -999.000,9,   2128.4,2,   2338.1,2,    546.8,2,       20,   -999.0,9,  13.7061,20070802,1657
  33RO20070710,GOMECC,    89,  1,   8918,     18,2,20070802,1532, 37.8638, -68.5045, 4382,    100.9,  22.6690,  36.6110,2,  36.6180,2,    159.9,2,    174.2,2,     0.70,2,     2.50,2,     0.12,2,     0.17,2,     0.16,2, -999.000,9, -999.000,9, -999.000,9,   2103.9,2,   2400.6,2,    370.5,2,       20,   -999.0,9,  22.6485,20070802,1659
  33RO20070710,GOMECC,    89,  1,   8919,     19,2,20070802,1532, 37.8638, -68.5045, 4382,     76.0,  24.5590,  36.5730,2,  36.5720,2,    169.0,2,    184.5,2,     0.30,2,     0.50,2,     0.41,2,     0.07,2,     0.23,2, -999.000,9, -999.000,9, -999.000,9,   2078.9,2,   2397.7,2,    334.7,2,       20,   -999.0,9,  24.5426,20070802,1701
  33RO20070710,GOMECC,    89,  1,   8920,     20,2,20070802,1532, 37.8638, -68.5045, 4382,     50.4,  26.9470,  36.3500,2,  36.3520,2,    188.0,2,    205.9,2,     0.10,2,     0.10,2,     0.00,2,     0.03,2,     0.15,2, -999.000,9, -999.000,9, -999.000,9,   2035.5,2,   2385.5,2,    284.8,2,       20,   -999.0,9,  26.9354,20070802,1703
  33RO20070710,GOMECC,    89,  1,   8921,     21,2,20070802,1532, 37.8638, -68.5045, 4382,     30.9,  29.5140,  36.2020,2,  36.2170,2,    180.8,2,    196.9,2,     0.30,2,     0.00,2,     0.00,2,     0.02,2,     0.15,2, -999.000,9, -999.000,9, -999.000,9,   2008.8,2,   2374.8,2,    261.3,2,       20,   -999.0,9,  29.5064,20070802,1705
  33RO20070710,GOMECC,    89,  1,   8922,     22,2,20070802,1532, 37.8638, -68.5045, 4382,     20.4,  29.5150,  36.1980,2,  36.2070,2,    180.8,2,    196.6,2,     0.80,2,     0.00,2,     0.00,2,     0.01,2,     0.15,2, -999.000,9, -999.000,9, -999.000,9,   2009.2,2,   2373.1,2,    260.9,2,       20,   -999.0,9,  29.5100,20070802,1706
  33RO20070710,GOMECC,    89,  1,   8923,     23,2,20070802,1532, 37.8638, -68.5045, 4382,      9.6,  29.5530,  36.2030,2,  36.2150,2,    181.2,2,    196.6,2,     0.20,2,     0.00,2,     0.00,2,     0.01,2,     0.15,2, -999.000,9, -999.000,9, -999.000,9,   2009.9,2,   2372.7,2,    260.7,2,       20,   -999.0,9,  29.5506,20070802,1707
  33RO20070710,GOMECC,    89,  1,   8924,     24,2,20070802,1532, 37.8638, -68.5045, 4382,      5.6,  29.6040,  36.2080,2,  36.2150,2,    181.1,2,    196.4,2,     0.30,2,     0.00,2,     0.00,2,     0.00,2,     0.15,2, -999.000,9, -999.000,9, -999.000,9,   2011.2,6,   2372.7,6,    260.6,2,       20,     72.5,2,  29.6026,20070802,1709
  33RO20070710,GOMECC,    90,  1,   9001,      1,2,20070802,2152, 37.6017, -68.4170, 4597,   4640.2,   2.2160,  34.8730,2,  34.8860,2,    234.2,2,    263.2,6,    35.20,2,    19.00,2,     0.01,2,     1.32,2,     0.15,2, -999.000,9, -999.000,9, -999.000,9,   2184.7,6,   2335.0,2,   -999.0,9,     -999,   -999.0,9,   1.8005,20070802,2152
  33RO20070710,GOMECC,    90,  1,   9002,      2,2,20070802,2152, 37.6017, -68.4170, 4597,   3992.6,   2.2380,  34.8830,2,  34.8960,2,    236.0,2,    267.5,2,    29.30,2,    18.10,2,     0.00,2,     1.28,2,     0.15,2, -999.000,9, -999.000,9, -999.000,9,   2177.8,2,   2328.8,2,   -999.0,9,     -999,   -999.0,9,   1.8978,20070802,2203
  33RO20070710,GOMECC,    90,  1,   9003,      3,2,20070802,2152, 37.6017, -68.4170, 4597,   3498.8,   2.3170,  34.8920,2,  34.9050,2,    237.5,2,    269.7,2,    25.40,2,    17.70,2,     0.00,2,     1.24,2,     0.15,2, -999.000,9, -999.000,9, -999.000,9,   2170.1,2,   2332.3,2,   -999.0,9,     -999,   -999.0,9,   2.0292,20070802,2212
  33RO20070710,GOMECC,    90,  1,   9004,      4,2,20070802,2152, 37.6017, -68.4170, 4597,   3002.3,   2.6120,  34.9120,2,  34.9250,2,    238.1,2,    269.8,2,    20.70,2,    17.30,2,     0.01,2,     1.22,2,      0.2,2, -999.000,9, -999.000,9, -999.000,9,   2164.7,2,   2318.7,2,   -999.0,9,     -999,   -999.0,9,   2.3694,20070802,2223
  33RO20070710,GOMECC,    90,  1,   9005,      5,2,20070802,2152, 37.6017, -68.4170, 4597,   2502.1,   3.0860,  34.9280,2,  34.9400,2,    238.6,2,    269.9,2,    16.00,2,    17.10,2,     0.00,2,     1.20,2,     0.16,2, -999.000,9, -999.000,9, -999.000,9,   2162.0,2,   2314.2,2,   -999.0,9,     -999,   -999.0,9,   2.8842,20070802,2233
  33RO20070710,GOMECC,    90,  1,   9006,      6,2,20070802,2152, 37.6017, -68.4170, 4597,   2003.4,   3.4850,  34.9360,2,  34.9490,2,    239.7,2,    269.5,2,    13.10,2,    17.20,2,     0.00,2,     1.20,2,     0.17,2, -999.000,9, -999.000,9, -999.000,9,   2160.5,2,   2311.1,2,   -999.0,9,     -999,   -999.0,9,   3.3248,20070802,2243
  33RO20070710,GOMECC,    90,  1,   9007,      7,2,20070802,2152, 37.6017, -68.4170, 4597,   1753.9,   3.6330,  34.9380,2,  34.9510,2,    240.0,2,    268.4,2,    12.30,2,    17.20,2,     0.01,2,     1.20,2,     0.18,2, -999.000,9, -999.000,9, -999.000,9,   2160.2,2,   2314.3,2,   -999.0,9,     -999,   -999.0,9,   3.4940,20070802,2250
  33RO20070710,GOMECC,    90,  1,   9008,      8,2,20070802,2152, 37.6017, -68.4170, 4597,   1506.3,   3.9360,  34.9590,2,  34.9720,2,    236.4,2,    264.3,2,    11.60,2,    17.30,2,     0.00,2,     1.20,2,     0.18,2, -999.000,9, -999.000,9, -999.000,9,   2163.1,2,   2312.6,2,   -999.0,9,     -999,   -999.0,9,   3.8159,20070802,2256
  33RO20070710,GOMECC,    90,  1,   9009,      9,2,20070802,2152, 37.6017, -68.4170, 4597,   1255.2,   4.2710,  34.9800,2,  34.9940,2,    231.7,2,    257.0,2,    11.60,2,    17.50,2,     0.00,2,     1.21,2,     0.18,2, -999.000,9, -999.000,9, -999.000,9,   2165.8,2,   2316.6,2,   -999.0,9,     -999,   -999.0,9,   4.1700,20070802,2302
  33RO20070710,GOMECC,    90,  1,   9010,     10,2,20070802,2152, 37.6017, -68.4170, 4597,   1005.6,   4.7950,  35.0060,2,  35.0180,2,    221.2,2,    244.0,2,    11.20,2,    18.00,2,     0.00,2,     1.25,2,     0.18,2, -999.000,9, -999.000,9, -999.000,9,   2170.5,2,   2316.5,2,   -999.0,9,     -999,   -999.0,9,   4.7119,20070802,2309
  33RO20070710,GOMECC,    90,  1,   9011,     11,2,20070802,2152, 37.6017, -68.4170, 4597,    805.7,   5.8470,  35.0700,2,  35.0840,2,    195.0,2,    214.4,2,    12.30,2,    19.80,2,     0.00,2,     1.35,2,     0.18,2, -999.000,9, -999.000,9, -999.000,9,   2178.2,2,   2323.6,2,   -999.0,9,     -999,   -999.0,9,   5.7751,20070802,2314
  33RO20070710,GOMECC,    90,  1,   9012,     12,2,20070802,2152, 37.6017, -68.4170, 4597,    704.9,   6.9740,  35.1030,2,  35.1150,2,    167.6,2,    193.5,2,    13.40,2,    21.80,2,     0.00,2,     1.49,2,     0.18,2, -999.000,9, -999.000,9, -999.000,9,   2186.3,2,   2328.3,2,   -999.0,9,     -999,   -999.0,9,   6.9056,20070802,2317
  33RO20070710,GOMECC,    90,  1,   9013,     13,2,20070802,2152, 37.6017, -68.4170, 4597,    600.3,  10.9490,  35.4000,2,  35.4120,2,    127.5,2,    138.5,2,    11.00,2,    21.50,2,     0.00,2,     1.42,2,     0.18,2, -999.000,9, -999.000,9, -999.000,9,   2185.8,2,   2338.2,2,   -999.0,9,     -999,   -999.0,9,  10.8735,20070802,2320
  33RO20070710,GOMECC,    90,  1,   9014,     14,2,20070802,2152, 37.6017, -68.4170, 4597,    498.1,  13.9980,  35.8420,2,  35.8520,2,    152.7,2,    167.3,2,     4.90,2,    13.80,2,     0.01,2,     0.88,2,     0.19,2, -999.000,9, -999.000,9, -999.000,9,   2152.8,2,   2354.7,2,   -999.0,9,     -999,   -999.0,9,  13.9247,20070802,2323
  33RO20070710,GOMECC,    90,  1,   9015,     15,2,20070802,2152, 37.6017, -68.4170, 4597,    398.5,  16.7860,  36.2950,2,  36.3040,2,    158.6,2,    172.9,2,     2.20,2,     9.00,2,     0.00,2,     0.54,2,     0.18,2, -999.000,9, -999.000,9, -999.000,9,   2136.0,2,   2379.0,2,   -999.0,9,     -999,   -999.0,9,  16.7199,20070802,2326
  33RO20070710,GOMECC,    90,  1,   9016,     16,2,20070802,2152, 37.6017, -68.4170, 4597,    299.8,  18.1820,  36.5620,2,  36.5720,2,    182.3,2,    198.7,2,     0.60,2,     4.20,2,     0.01,2,     0.23,2,     0.19,2, -999.000,9, -999.000,9, -999.000,9,   2108.8,2,   2395.9,2,   -999.0,9,     -999,   -999.0,9,  18.1295,20070802,2329
  33RO20070710,GOMECC,    90,  1,   9017,     17,2,20070802,2152, 37.6017, -68.4170, 4597,    202.9,  18.9970,  36.6390,2,  36.6500,2,    175.0,2,    190.3,2,     0.40,2,     3.40,2,     0.01,2,     0.16,2,      0.2,2, -999.000,9, -999.000,9, -999.000,9,   2108.5,2,   2399.2,2,   -999.0,9,     -999,   -999.0,9,  18.9604,20070802,2332
  33RO20070710,GOMECC,    90,  1,   9018,     18,2,20070802,2152, 37.6017, -68.4170, 4597,     99.7,  23.0330,  36.7190,2,  36.7300,2,    172.2,2,    187.7,2,     0.20,2,     1.30,2,     0.15,2,     0.08,2,      0.2,2, -999.000,9, -999.000,9, -999.000,9,   2082.3,2,   2402.9,2,   -999.0,9,     -999,   -999.0,9,  23.0125,20070802,2335
  33RO20070710,GOMECC,    90,  1,   9019,     19,2,20070802,2152, 37.6017, -68.4170, 4597,     75.5,  25.3230,  36.6100,2,  36.6130,2,    158.6,2,    174.4,2,     0.40,2,     1.00,2,     0.17,2,     0.07,2,      0.2,2, -999.000,9, -999.000,9, -999.000,9,   2079.0,2,   2399.1,2,   -999.0,9,     -999,   -999.0,9,  25.3064,20070802,2336
  33RO20070710,GOMECC,    90,  1,   9020,     20,2,20070802,2152, 37.6017, -68.4170, 4597,     49.3,  27.5620,  36.2650,2,  36.2730,2,    185.3,2,    201.4,2,     0.30,2,     0.00,2,     0.00,2,     0.01,2,      0.2,2, -999.000,9, -999.000,9, -999.000,9,   2027.0,2,   2379.3,2,   -999.0,9,     -999,   -999.0,9,  27.5505,20070802,2338
  33RO20070710,GOMECC,    90,  1,   9021,     21,2,20070802,2152, 37.6017, -68.4170, 4597,     19.6,  29.0860,  36.1260,2,  36.1360,2,    181.3,2,    197.1,2,     0.50,2,     0.40,2,     0.00,2,     0.01,2,      0.2,2, -999.000,9, -999.000,9, -999.000,9,   2004.2,2,   2370.2,2,   -999.0,9,     -999,   -999.0,9,  29.0812,20070802,2339
  33RO20070710,GOMECC,    90,  1,   9022,     22,2,20070802,2152, 37.6017, -68.4170, 4597,      9.7,  29.2770,  36.1390,2,  36.1490,2,    181.0,2,    197.5,2,     0.40,2,     0.00,2,     0.00,2,     0.00,2,     0.18,2, -999.000,9, -999.000,9, -999.000,9,   2004.7,2,   2370.0,2,   -999.0,9,     -999,   -999.0,9,  29.2746,20070802,2341
  33RO20070710,GOMECC,    90,  1,   9023,     23,2,20070802,2152, 37.6017, -68.4170, 4597,      3.9,  29.2560,  36.1390,2,  36.1500,2,    181.1,2,    196.9,2,     0.40,2,     0.00,2,     0.00,2,     0.00,2,      0.2,2, -999.000,9, -999.000,9, -999.000,9,   2005.6,2,   2369.6,6,   -999.0,9,     -999,     71.1,2,  29.2550,20070802,2342
  33RO20070710,GOMECC,    90,  1,   9024,     24,2,20070802,2152, 37.6017, -68.4170, 4597,      4.0,  29.2490,  36.1390,2,-999.0000,9,    181.3,2,   -999.0,9,  -999.00,9,  -999.00,9,  -999.00,9,  -999.00,9,     -999,9, -999.000,9, -999.000,9, -999.000,9,   -999.0,9,   -999.0,9,   -999.0,9,     -999,   -999.0,9,  29.2480,20070802,2342