BOTTLE,20220922CCHSIOAMB
EXPOCODE,SECT_ID,STNNBR,CASTNO,SAMPNO,BTLNBR,BTLNBR_FLAG_W,DATE,TIME,LATITUDE,LONGITUDE,DEPTH,CTDPRS,CTDTMP,CTDSAL,CTDSAL_FLAG_W,SALNTY,SALNTY_FLAG_W,CTDOXY,CTDOXY_FLAG_W,OXYGEN,OXYGEN_FLAG_W,SILCAT,SILCAT_FLAG_W,NITRAT,NITRAT_FLAG_W,NITRIT,NITRIT_FLAG_W,PHSPHT,PHSPHT_FLAG_W,NH4,NH4_FLAG_W,CFC-11,CFC-11_FLAG_W,CFC-12,CFC-12_FLAG_W,CFC113,CFC113_FLAG_W,TCARBN,TCARBN_FLAG_W,ALKALI,ALKALI_FLAG_W,FCO2,FCO2_FLAG_W,FCO2TMP,DOC,DOC_FLAG_W,THETA,BTL_DATE,BTL_TIME
,,,,,,,,,,,METERS,DBAR,ITS-90,PSS-78,,PSS-78,,UMOL/KG,,UMOL/KG,,UMOL/KG,,UMOL/KG,,UMOL/KG,,UMOL/KG,,UMOL/KG,,PMOL/KG,,PMOL/KG,,PMOL/KG,,UMOL/KG,,UMOL/KG,,UATM,,DEG C,UMOL/KG,,DEG C,,
  33RO20070710,GOMECC,    57,  1,   5701,      1,2,20070725,0355, 35.0273, -73.4068, 3991,   4024.9,   2.1660,  34.8760,2,  34.8860,2,    239.3,2,    263.4,6,    34.70,2,    19.10,2,     0.01,2,     1.38,2,     0.06,2,    0.840,2,    1.800,2,    0.030,2,   2181.6,6,   2332.0,2,    746.1,2,       20,   -999.0,9,   1.8243,20070725,0355
  33RO20070710,GOMECC,    57,  1,   5702,      2,2,20070725,0355, 35.0273, -73.4068, 3991,   3800.5,   2.2210,  34.8830,2,  34.8930,2,    243.0,2,    268.4,2,    28.90,2,    18.20,2,     0.01,2,     1.31,2,     0.07,2, -999.000,9, -999.000,9, -999.000,9,   2174.0,2,   2322.9,2,    740.7,2,       20,   -999.0,9,   1.9029,20070725,0400
  33RO20070710,GOMECC,    57,  1,   5703,      3,2,20070725,0355, 35.0273, -73.4068, 3991,   3400.7,   2.4800,  34.9000,2,  34.9090,2,    246.2,2,    273.1,6,    21.00,2,    17.20,2,     0.01,2,     1.22,2,     0.07,2,    1.490,2,    1.570,2,    0.000,2,   2165.3,2,   2316.8,2,    735.6,2,       20,   -999.0,9,   2.1987,20070725,0407
  33RO20070710,GOMECC,    57,  1,   5704,      4,2,20070725,0355, 35.0273, -73.4068, 3991,   3000.3,   2.9290,  34.9230,2,  34.9330,2,    242.6,2,    269.2,2,    18.50,2,    17.50,2,     0.00,2,     1.23,2,     0.08,2, -999.000,9, -999.000,9, -999.000,9,   2162.7,2,   2315.9,2,    728.0,2,       20,   -999.0,9,   2.6797,20070725,0414
  33RO20070710,GOMECC,    57,  1,   5705,      5,2,20070725,0355, 35.0273, -73.4068, 3991,   2600.7,   3.3120,  34.9380,2,  34.9460,2,    241.7,2,    268.2,2,    16.30,2,    17.60,2,     0.01,2,     1.24,2,     0.07,2,    1.470,2,    0.730,2,    0.000,2,   2160.6,2,   2313.8,2,    729.5,2,       20,   -999.0,9,   3.0961,20070725,0421
  33RO20070710,GOMECC,    57,  1,   5706,      6,2,20070725,0355, 35.0273, -73.4068, 3991,   2200.9,   3.5890,  34.9410,2,  34.9490,2,    242.8,2,    268.7,2,    13.90,2,    17.60,2,     0.00,2,     1.22,2,     0.07,2, -999.000,9, -999.000,9, -999.000,9,   2160.4,2,   2309.1,2,    737.1,2,       20,   -999.0,9,   3.4082,20070725,0428
  33RO20070710,GOMECC,    57,  1,   5707,      7,2,20070725,0355, 35.0273, -73.4068, 3991,   1800.0,   4.0760,  34.9740,2,  34.9820,2,    236.8,2,    262.2,2,    12.70,2,    17.80,2,     0.00,2,     1.23,2,     0.07,2,    1.740,2,    0.770,2,    0.010,2,   2163.5,2,   2312.6,2,    745.2,2,       20,   -999.0,9,   3.9267,20070725,0436
  33RO20070710,GOMECC,    57,  1,   5708,      8,2,20070725,0355, 35.0273, -73.4068, 3991,   1398.9,   4.8340,  35.0220,2,  35.0320,2,    222.8,2,    243.3,2,    12.40,2,    18.50,2,     0.00,2,     1.27,2,     0.07,2, -999.000,9, -999.000,9, -999.000,9,   2170.8,2,   2311.9,2,    763.8,2,       20,   -999.0,9,   4.7140,20070725,0443
  33RO20070710,GOMECC,    57,  1,   5709,      9,2,20070725,0355, 35.0273, -73.4068, 3991,    999.6,   8.2170,  35.1450,2,  35.1530,2,    146.9,2,    159.5,2,    14.40,2,    23.40,2,     0.00,2,     1.58,2,     0.07,2,    1.120,2,    0.670,2,    0.160,2,   2189.1,2,   2320.0,2,    843.0,2,       20,   -999.0,9,   8.1089,20070725,0450
  33RO20070710,GOMECC,    57,  1,   5710,     10,2,20070725,0355, 35.0273, -73.4068, 3991,    900.1,  10.1070,  35.3080,2,  35.3160,2,    134.9,2,    145.2,2,    12.60,2,    22.50,2,     0.00,2,     1.49,2,     0.07,2,    1.250,2, -999.000,9, -999.000,9,   2184.8,2,   2326.0,2,    793.8,2,       20,   -999.0,9,   9.9978,20070725,0452
  33RO20070710,GOMECC,    57,  1,   5711,     11,2,20070725,0355, 35.0273, -73.4068, 3991,    849.0,  11.1180,  35.4170,2,-999.0000,9,    132.7,2,   -999.0,5,  -999.00,9,  -999.00,9,  -999.00,9,  -999.00,9,     -999,9, -999.000,9, -999.000,9, -999.000,9,   -999.0,9,   -999.0,9,   -999.0,9,     -999,   -999.0,9,  11.0090,20070725,0454
  33RO20070710,GOMECC,    57,  1,   5712,     12,2,20070725,0355, 35.0273, -73.4068, 3991,    848.8,  11.1150,  35.4170,2,  35.4210,2,    132.7,2,    142.9,2,    11.20,2,    21.40,2,     0.00,2,     1.40,2,     0.06,2,    1.350,2,    7.390,2, -999.000,9,   2181.6,2,   2331.0,2,    752.6,2,       20,   -999.0,9,  11.0061,20070725,0454
  33RO20070710,GOMECC,    57,  1,   5713,     13,2,20070725,0355, 35.0273, -73.4068, 3991,    800.0,  12.4950,  35.6050,2,  35.6110,2,    138.9,2,    149.2,2,     8.50,2,    18.50,2,     0.00,2,     1.19,2,     0.07,2,    1.560,2,    5.490,2, -999.000,9,   2170.1,2,   2336.5,2,    675.0,2,       20,   -999.0,9,  12.3847,20070725,0456
  33RO20070710,GOMECC,    57,  1,   5714,     14,9,20070725,0355, 35.0273, -73.4068, 3991,    750.4,  13.6920,  35.7890,2,-999.0000,9,    152.8,2,   -999.0,9,  -999.00,9,  -999.00,9,  -999.00,9,  -999.00,9,     -999,9, -999.000,9, -999.000,9, -999.000,9,   -999.0,9,   -999.0,9,   -999.0,9,     -999,   -999.0,9,  13.5824,20070725,0457
  33RO20070710,GOMECC,    57,  1,   5715,     15,2,20070725,0355, 35.0273, -73.4068, 3991,    749.7,  13.7160,  35.7910,2,  35.8020,2,    152.7,2,    164.8,2,     6.20,2,    14.80,2,     0.01,2,     0.95,2,     0.08,2,    1.910,2,    5.550,2, -999.000,9,   2153.8,2,   2345.5,2,    591.1,2,       20,   -999.0,9,  13.6063,20070725,0458
  33RO20070710,GOMECC,    57,  1,   5716,     16,2,20070725,0355, 35.0273, -73.4068, 3991,    500.5,  18.0330,  36.5730,2,  36.5770,2,    193.7,2,    209.3,2,     1.50,2,     3.80,2,     0.01,2,     0.24,2,     0.07,2, -999.000,9, -999.000,9, -999.000,9,   2103.2,2,   2390.9,2,    380.2,2,       20,   -999.0,9,  17.9455,20070725,0503
  33RO20070710,GOMECC,    57,  1,   5717,     17,2,20070725,0355, 35.0273, -73.4068, 3991,    299.9,  18.5030,  36.6210,2,  36.6280,2,    192.1,2,    207.1,2,     1.30,2,     3.10,2,     0.01,2,     0.19,2,     0.08,2,    2.030,2,    2.890,2, -999.000,9,   2102.5,2,   2394.3,2,    371.8,2,       20,   -999.0,9,  18.4498,20070725,0507
  33RO20070710,GOMECC,    57,  1,   5718,     18,2,20070725,0355, 35.0273, -73.4068, 3991,    199.9,  19.1150,  36.6640,2,  36.6700,2,    189.3,2,    204.1,2,     1.10,2,     2.10,2,     0.01,2,     0.13,2,     0.08,2, -999.000,9, -999.000,9, -999.000,9,   2098.5,2,   2396.4,2,    363.0,2,       20,   -999.0,9,  19.0788,20070725,0509
  33RO20070710,GOMECC,    57,  1,   5719,     19,2,20070725,0355, 35.0273, -73.4068, 3991,    100.3,  21.8000,  36.7220,2,  36.7310,2,    189.0,2,    204.2,2,     0.80,2,     0.60,2,     0.17,2,     0.07,2,     0.08,2, -999.000,9, -999.000,9, -999.000,9,   2078.4,2,   2400.6,2,    325.0,2,       20,   -999.0,9,  21.7801,20070725,0512
  33RO20070710,GOMECC,    57,  1,   5720,     20,2,20070725,0355, 35.0273, -73.4068, 3991,     74.5,  23.2830,  36.6770,2,  36.6850,2,    189.2,2,    202.3,2,     0.90,2,     0.30,2,     0.02,2,     0.05,2,     0.08,2, -999.000,9, -999.000,9, -999.000,9,   2063.9,2,   2397.8,2,    308.5,2,       20,   -999.0,9,  23.2676,20070725,0513
  33RO20070710,GOMECC,    57,  1,   5721,     21,2,20070725,0355, 35.0273, -73.4068, 3991,     51.1,  24.4240,  36.5790,2,  36.5790,2,    187.3,2,    209.6,2,     0.90,2,     0.10,2,     0.00,2,     0.03,2,     0.08,2,    1.410,2,   10.140,2,    0.010,2,   2048.2,2,   2391.3,2,    290.5,2,       20,   -999.0,9,  24.4130,20070725,0515
  33RO20070710,GOMECC,    57,  1,   5722,     22,2,20070725,0355, 35.0273, -73.4068, 3991,     24.6,  25.8630,  36.4650,2,  36.4790,2,    194.8,2,    210.4,2,     1.10,2,     0.10,2,     0.00,2,     0.02,2,     0.08,2, -999.000,9, -999.000,9, -999.000,9,   2036.2,2,   2386.6,2,    283.6,2,       20,   -999.0,9,  25.8575,20070725,0516
  33RO20070710,GOMECC,    57,  1,   5723,     23,2,20070725,0355, 35.0273, -73.4068, 3991,     10.2,  27.0280,  36.2720,2,  36.2910,2,    187.6,2,    202.6,2,     1.10,2,     0.00,2,     0.00,2,     0.02,2,     0.09,2,    1.170,2,    1.080,2, -999.000,9,   2022.1,2,   2375.1,2,    276.0,2,       20,   -999.0,9,  27.0257,20070725,0517
  33RO20070710,GOMECC,    57,  1,   5724,     24,2,20070725,0355, 35.0273, -73.4068, 3991,      4.2,  27.3710,  36.2790,2,  36.2840,2,    187.3,2,    201.8,2,     1.10,2,     0.00,2,     0.00,2,     0.02,2,     0.08,2,    1.130,2,    0.110,2, -999.000,9,   2021.7,6,   2374.7,2,    276.8,2,       20,     60.7,2,  27.3700,20070725,0519
  33RO20070710,GOMECC,    58,  1,   5801,      1,2,20070725,0843, 34.8737, -73.1152, 4774,   4345.4,   2.1760,  34.8730,2,  34.8840,2,    235.8,2,    261.0,2,    34.70,2,    19.10,2,     0.01,2,     1.38,2,     0.07,2, -999.000,9, -999.000,9, -999.000,9,   2184.7,6,   2331.8,2,   -999.0,9,     -999,   -999.0,9,   1.7970,20070725,0843
  33RO20070710,GOMECC,    58,  1,   5802,      2,3,20070725,0843, 34.8737, -73.1152, 4774,   3999.6,   2.2140,  34.8810,2,  34.8920,2,    239.6,2,    266.7,6,    30.40,3,    18.40,3,     0.00,3,     1.28,3,     0.08,3, -999.000,9, -999.000,9, -999.000,9,   2176.3,2,   2324.6,2,   -999.0,9,     -999,   -999.0,9,   1.8737,20070725,0849
  33RO20070710,GOMECC,    58,  1,   5803,      3,2,20070725,0843, 34.8737, -73.1152, 4774,   3500.0,   2.3950,  34.8970,2,  34.9060,2,    242.4,2,    270.7,2,    23.40,2,    17.40,2,     0.00,2,     1.21,2,     0.09,2, -999.000,9, -999.000,9, -999.000,9,   2166.2,2,   2315.1,2,   -999.0,9,     -999,   -999.0,9,   2.1052,20070725,0858
  33RO20070710,GOMECC,    58,  1,   5804,      4,2,20070725,0843, 34.8737, -73.1152, 4774,   3000.2,   2.8400,  34.9200,2,  34.9280,2,    241.2,2,    270.1,2,    18.80,2,    17.30,2,     0.00,2,     1.20,2,     0.08,2, -999.000,9, -999.000,9, -999.000,9,   2161.7,2,   2314.2,2,   -999.0,9,     -999,   -999.0,9,   2.5927,20070725,0906
  33RO20070710,GOMECC,    58,  1,   5805,      5,2,20070725,0843, 34.8737, -73.1152, 4774,   2500.0,   3.3100,  34.9320,2,  34.9420,2,    241.4,2,    269.0,2,    15.30,2,    17.30,2,     0.00,2,     1.20,2,     0.08,2, -999.000,9, -999.000,9, -999.000,9,   2160.2,2,   2309.6,2,   -999.0,9,     -999,   -999.0,9,   3.1044,20070725,0915
  33RO20070710,GOMECC,    58,  1,   5806,      6,2,20070725,0843, 34.8737, -73.1152, 4774,   2000.8,   3.7350,  34.9410,2,  34.9510,2,    240.8,2,    266.6,2,    12.80,2,    17.40,2,     0.01,2,     1.19,2,     0.08,2, -999.000,9, -999.000,9, -999.000,9,   2160.1,2,   2307.1,2,   -999.0,9,     -999,   -999.0,9,   3.5714,20070725,0923
  33RO20070710,GOMECC,    58,  1,   5807,      7,2,20070725,0843, 34.8737, -73.1152, 4774,   1500.1,   4.5490,  34.9940,2,  35.0010,2,    228.1,2,    251.1,2,    12.00,2,    17.90,2,     0.01,2,     1.23,2,     0.08,2, -999.000,9, -999.000,9, -999.000,9,   2166.6,2,   2310.7,2,   -999.0,9,     -999,   -999.0,9,   4.4225,20070725,0932
  33RO20070710,GOMECC,    58,  1,   5808,      8,3,20070725,0843, 34.8737, -73.1152, 4774,   1000.6,   8.0650,  35.1430,2,  35.1470,2,    150.6,2,    164.8,2,    14.00,3,    22.70,3,     0.00,3,     1.52,3,     0.07,3, -999.000,9, -999.000,9, -999.000,9,   2187.3,2,   2318.8,2,   -999.0,9,     -999,   -999.0,9,   7.9579,20070725,0941
  33RO20070710,GOMECC,    58,  1,   5809,      9,2,20070725,0843, 34.8737, -73.1152, 4774,    850.8,  11.4010,  35.4600,2,  35.4680,2,    136.1,2,    146.0,2,    10.20,2,    20.10,2,     0.01,2,     1.30,2,     0.09,2, -999.000,9, -999.000,9, -999.000,9,   2176.3,6,   2333.7,2,   -999.0,9,     -999,   -999.0,9,  11.2900,20070725,0944
  33RO20070710,GOMECC,    58,  1,   5810,     10,2,20070725,0843, 34.8737, -73.1152, 4774,    749.6,  13.6270,  35.7760,2,  35.7760,2,    148.8,2,    159.7,2,     6.50,2,    15.20,2,     0.01,2,     0.97,2,     0.08,2, -999.000,9, -999.000,9, -999.000,9,   2157.6,2,   2343.1,2,   -999.0,9,     -999,   -999.0,9,  13.5178,20070725,0947
  33RO20070710,GOMECC,    58,  1,   5812,     12,3,20070725,0843, 34.8737, -73.1152, 4774,    500.6,  17.8240,  36.5090,2,  36.5150,2,    182.4,2,    209.7,2,     1.90,3,     5.20,3,     0.01,3,     0.29,3,     0.07,3, -999.000,9, -999.000,9, -999.000,9,   2112.7,2,   2388.7,2,   -999.0,9,     -999,   -999.0,9,  17.7372,20070725,0952
  33RO20070710,GOMECC,    58,  1,   5813,     13,2,20070725,0843, 34.8737, -73.1152, 4774,    301.7,  18.4930,  36.6130,2,  36.6180,2,    188.4,2,    203.1,2,     1.40,2,     3.30,2,     0.01,2,     0.18,2,     0.07,2, -999.000,9, -999.000,9, -999.000,9,   2104.8,2,   2392.9,6,   -999.0,9,     -999,   -999.0,9,  18.4395,20070725,0955
  33RO20070710,GOMECC,    58,  1,   5815,     15,2,20070725,0843, 34.8737, -73.1152, 4774,    200.0,  19.3680,  36.6730,2,  36.6790,2,    188.1,2,    202.3,2,     1.10,2,     2.00,2,     0.02,2,     0.11,2,     0.08,2, -999.000,9, -999.000,9, -999.000,9,   2097.1,2,   2397.8,2,   -999.0,9,     -999,   -999.0,9,  19.3315,20070725,0958
  33RO20070710,GOMECC,    58,  1,   5816,     16,2,20070725,0843, 34.8737, -73.1152, 4774,     99.9,  22.2770,  36.7140,2,  36.7260,2,    179.0,2,    192.4,2,     1.10,2,     1.20,2,     0.05,2,     0.07,2,     0.08,2, -999.000,9, -999.000,9, -999.000,9,   2081.8,2,   2402.3,2,   -999.0,9,     -999,   -999.0,9,  22.2569,20070725,1000
  33RO20070710,GOMECC,    58,  1,   5817,     17,2,20070725,0843, 34.8737, -73.1152, 4774,    100.1,  22.2780,  36.7140,2,-999.0000,9,    178.9,2,   -999.0,9,  -999.00,9,  -999.00,9,  -999.00,9,  -999.00,9,     -999,9, -999.000,9, -999.000,9, -999.000,9,   -999.0,9,   -999.0,9,   -999.0,9,     -999,   -999.0,9,  22.2579,20070725,1001
  33RO20070710,GOMECC,    58,  1,   5818,     18,2,20070725,0843, 34.8737, -73.1152, 4774,     74.3,  23.0410,  36.6890,2,  36.6970,2,    189.5,2,    203.7,2,     0.90,2,     0.10,2,     0.05,2,     0.03,2,     0.08,2, -999.000,9, -999.000,9, -999.000,9,   2062.5,2,   2399.1,2,   -999.0,9,     -999,   -999.0,9,  23.0257,20070725,1002
  33RO20070710,GOMECC,    58,  1,   5819,     19,3,20070725,0843, 34.8737, -73.1152, 4774,     50.4,  24.6240,  36.5610,2,  36.5710,2,    194.2,2,    208.9,2,     1.00,3,     0.10,3,     0.00,3,     0.01,3,     0.08,3, -999.000,9, -999.000,9, -999.000,9,   2044.0,2,   2393.5,2,   -999.0,9,     -999,   -999.0,9,  24.6131,20070725,1003
  33RO20070710,GOMECC,    58,  1,   5820,     20,2,20070725,0843, 34.8737, -73.1152, 4774,     50.3,  24.6250,  36.5610,2,-999.0000,9,    193.7,2,   -999.0,9,  -999.00,9,  -999.00,9,  -999.00,9,  -999.00,9,     -999,9, -999.000,9, -999.000,9, -999.000,9,   -999.0,9,   -999.0,9,   -999.0,9,     -999,   -999.0,9,  24.6142,20070725,1003
  33RO20070710,GOMECC,    58,  1,   5821,     21,2,20070725,0843, 34.8737, -73.1152, 4774,     24.9,  26.4010,  36.3490,2,  36.4170,4,    190.6,2,    207.6,2,     1.20,2,     0.10,2,     0.00,2,     0.00,2,     0.08,2, -999.000,9, -999.000,9, -999.000,9,   2032.1,2,   2382.8,2,   -999.0,9,     -999,   -999.0,9,  26.3954,20070725,1005
  33RO20070710,GOMECC,    58,  1,   5822,     22,2,20070725,0843, 34.8737, -73.1152, 4774,      9.7,  26.9060,  36.2470,2,  36.2500,2,    187.0,2,    201.1,2,     1.30,2,     0.10,2,     0.00,2,     0.01,2,     0.06,2, -999.000,9, -999.000,9, -999.000,9,   2018.8,2,   2377.6,2,   -999.0,9,     -999,   -999.0,9,  26.9038,20070725,1006
  33RO20070710,GOMECC,    58,  1,   5823,     23,2,20070725,0843, 34.8737, -73.1152, 4774,      3.9,  26.9920,  36.2490,2,  36.2570,2,    187.0,2,    200.4,2,     1.30,2,     0.10,2,     0.00,2,     0.00,2,     0.07,2, -999.000,9, -999.000,9, -999.000,9,   2019.0,6,   2373.4,2,   -999.0,9,     -999,     64.5,2,  26.9911,20070725,1007
  33RO20070710,GOMECC,    58,  1,   5824,     24,2,20070725,0843, 34.8737, -73.1152, 4774,      3.7,  26.9910,  36.2490,2,-999.0000,9,    186.9,2,   -999.0,9,  -999.00,9,  -999.00,9,  -999.00,9,  -999.00,9,     -999,9, -999.000,9, -999.000,9, -999.000,9,   -999.0,9,   -999.0,9,   -999.0,9,     -999,   -999.0,9,  26.9901,20070725,1007