BOTTLE,20220922CCHSIOAMB
EXPOCODE,SECT_ID,STNNBR,CASTNO,SAMPNO,BTLNBR,BTLNBR_FLAG_W,DATE,TIME,LATITUDE,LONGITUDE,DEPTH,CTDPRS,CTDTMP,CTDSAL,CTDSAL_FLAG_W,SALNTY,SALNTY_FLAG_W,CTDOXY,CTDOXY_FLAG_W,OXYGEN,OXYGEN_FLAG_W,SILCAT,SILCAT_FLAG_W,NITRAT,NITRAT_FLAG_W,NITRIT,NITRIT_FLAG_W,PHSPHT,PHSPHT_FLAG_W,NH4,NH4_FLAG_W,CFC-11,CFC-11_FLAG_W,CFC-12,CFC-12_FLAG_W,CFC113,CFC113_FLAG_W,TCARBN,TCARBN_FLAG_W,ALKALI,ALKALI_FLAG_W,FCO2,FCO2_FLAG_W,FCO2TMP,DOC,DOC_FLAG_W,THETA,BTL_DATE,BTL_TIME
,,,,,,,,,,,METERS,DBAR,ITS-90,PSS-78,,PSS-78,,UMOL/KG,,UMOL/KG,,UMOL/KG,,UMOL/KG,,UMOL/KG,,UMOL/KG,,UMOL/KG,,PMOL/KG,,PMOL/KG,,PMOL/KG,,UMOL/KG,,UMOL/KG,,UATM,,DEG C,UMOL/KG,,DEG C,,
  33RO20070710,GOMECC,    31,  1,   3101,      1,2,20070719,0202, 26.9676, -79.8513,  293,    271.6,   8.5470,  35.0510,2,  35.0580,2,    118.1,2,    122.7,6,    18.90,2,    28.00,2,     0.01,2,     1.87,2,     0.42,2,    0.550,2,    0.370,2,    0.010,2,   2206.6,2,   2318.1,2,    960.4,2,       20,   -999.0,9,   8.5182,20070719,0202
  33RO20070710,GOMECC,    31,  1,   3103,      3,2,20070719,0202, 26.9676, -79.8513,  293,    242.8,   9.6300,  35.1770,2,  35.1860,2,    116.3,2,    120.7,2,    16.30,2,    26.30,2,     0.01,2,     1.75,2,     0.31,2, -999.000,9, -999.000,9, -999.000,9,   2200.7,2,   2322.6,2,    900.1,2,       20,   -999.0,9,   9.6023,20070719,0204
  33RO20070710,GOMECC,    31,  1,   3104,      4,2,20070719,0202, 26.9676, -79.8513,  293,    214.6,  10.2770,  35.2480,2,  35.2580,2,    115.4,2,    119.4,2,    14.80,2,    25.30,2,     0.01,2,     1.66,2,     0.73,3,    0.970,2,    0.610,2,    0.020,2,   2197.0,2,   2325.2,2,    872.9,2,       20,   -999.0,9,  10.2516,20070719,0207
  33RO20070710,GOMECC,    31,  1,   3105,      5,2,20070719,0202, 26.9676, -79.8513,  293,    174.2,  12.3510,  35.5530,2,  35.6070,4,    120.7,2,    126.1,2,    10.70,2,    20.70,2,     0.01,2,     1.34,2,     0.46,2, -999.000,9, -999.000,9, -999.000,9,   2182.4,2,   2338.6,2,    729.8,2,       20,   -999.0,9,  12.3277,20070719,0212
  33RO20070710,GOMECC,    31,  1,   3106,      6,2,20070719,0202, 26.9676, -79.8513,  293,    134.1,  14.6230,  35.8830,2,  35.8920,2,    127.1,2,    133.5,2,     7.80,2,    16.70,2,     0.01,2,     1.06,2,     0.44,2, -999.000,9, -999.000,9, -999.000,9,   2169.6,2,   2352.4,2,    632.0,2,       20,   -999.0,9,  14.6029,20070719,0214
  33RO20070710,GOMECC,    31,  1,   3107,      7,2,20070719,0202, 26.9676, -79.8513,  293,    104.3,  17.1760,  36.1480,2,  36.1760,4,    139.3,2,    147.5,2,     5.80,2,    11.60,2,     0.04,2,     0.73,2,     0.44,2,    1.990,2,    1.340,2,    0.210,2,   2148.1,2,   2376.2,2,    513.0,2,       20,   -999.0,9,  17.1586,20070719,0215
  33RO20070710,GOMECC,    31,  1,   3108,      8,2,20070719,0202, 26.9676, -79.8513,  293,     71.5,  22.8320,  36.5490,2,  36.5340,2,    180.4,2,    191.2,2,     2.30,2,     1.60,2,     0.20,2,     0.15,2,      0.4,2, -999.000,9, -999.000,9, -999.000,9,   2092.4,2,   2397.9,2,    351.9,2,       20,   -999.0,9,  22.8174,20070719,0217
  33RO20070710,GOMECC,    31,  1,   3109,      9,2,20070719,0202, 26.9676, -79.8513,  293,     50.4,  25.2500,  36.5210,2,  36.5160,6,    193.1,2,    203.1,2,     1.60,2,     0.10,2,     0.01,2,     0.05,2,     0.13,2, -999.000,9, -999.000,9, -999.000,9,   2063.1,2,   2400.3,2,    307.7,2,       20,   -999.0,9,  25.2389,20070719,0219
  33RO20070710,GOMECC,    31,  1,   3110,     10,2,20070719,0202, 26.9676, -79.8513,  293,     40.3,  26.0540,  36.5020,2,-999.0000,1,    201.2,2,    210.3,6,     1.50,2,     0.00,2,     0.00,2,     0.03,2,     0.13,2, -999.000,9, -999.000,9, -999.000,9,   2051.2,2,   2396.6,2,    292.1,2,       20,   -999.0,9,  26.0450,20070719,0220
  33RO20070710,GOMECC,    31,  1,   3111,     11,2,20070719,0202, 26.9676, -79.8513,  293,     30.4,  26.9970,  36.4350,2,  36.4630,4,    197.5,2,    234.0,3,     1.60,2,     0.00,2,     0.00,2,     0.02,2,     0.13,2, -999.000,9, -999.000,9, -999.000,9,   2041.7,2,   2394.1,2,    284.1,2,       20,   -999.0,9,  26.9900,20070719,0221
  33RO20070710,GOMECC,    31,  1,   3112,     12,2,20070719,0202, 26.9676, -79.8513,  293,     20.1,  29.0140,  36.4160,2,  36.4030,2,    192.6,2,    207.4,2,     1.60,2,     0.00,2,     0.00,2,     0.01,2,      0.2,2, -999.000,9, -999.000,9, -999.000,9,   2038.6,2,   2394.7,2,    280.3,2,       20,   -999.0,9,  29.0091,20070719,0222
  33RO20070710,GOMECC,    31,  1,   3113,     13,2,20070719,0202, 26.9676, -79.8513,  293,     10.1,  30.3560,  36.3550,2,  36.3590,2,    184.9,2,    195.8,2,     1.70,2,     0.00,2,     0.00,2,     0.01,2,     0.38,2, -999.000,9, -999.000,9, -999.000,9,   2023.0,2,   2389.2,2,    265.2,2,       20,   -999.0,9,  30.3535,20070719,0223
  33RO20070710,GOMECC,    31,  1,   3114,     14,2,20070719,0202, 26.9676, -79.8513,  293,      3.8,  30.5380,  36.3680,2,  36.3730,2,    184.5,2,    194.9,2,     1.70,2,     0.00,2,     0.00,2,     0.00,2,     0.14,2, -999.000,9, -999.000,9, -999.000,9,   2024.2,6,   2390.1,2,    263.2,2,       20,     69.5,2,  30.5370,20070719,0225
  33RO20070710,GOMECC,    31,  1,   3115,     15,2,20070719,0202, 26.9676, -79.8513,  293,      3.7,  30.5420,  36.3680,2,-999.0000,9,    184.5,2,   -999.0,9,  -999.00,9,  -999.00,9,  -999.00,9,  -999.00,9,     -999,9, -999.000,9, -999.000,9, -999.000,9,   -999.0,9,   -999.0,9,   -999.0,9,     -999,   -999.0,9,  30.5411,20070719,0225
  33RO20070710,GOMECC,    32,  1,   3201,      1,2,20070719,0506, 26.9634, -79.7770,  405,    380.3,   8.1210,  35.0110,2,  35.0150,2,    120.1,2,    126.1,2,    19.00,2,    28.50,2,     0.02,2,     1.88,2,     0.17,2, -999.000,9, -999.000,9, -999.000,9,   2208.5,6,   2320.3,2,    973.5,2,       20,   -999.0,9,   8.0817,20070719,0506
  33RO20070710,GOMECC,    32,  1,   3203,      3,2,20070719,0506, 26.9634, -79.7770,  405,    313.5,  10.2920,  35.2370,2,  35.2470,2,    113.4,2,    117.7,2,    13.80,2,    25.60,2,     0.01,2,     1.68,2,     0.19,2, -999.000,9, -999.000,9, -999.000,9,   2198.7,2,   2325.6,2,    884.6,2,       20,   -999.0,9,  10.2546,20070719,0509
  33RO20070710,GOMECC,    32,  1,   3204,      4,2,20070719,0506, 26.9634, -79.7770,  405,    262.9,  10.9850,  35.3320,2,  35.3440,2,    115.3,2,    119.7,2,    12.30,2,    24.00,2,     0.01,2,     1.55,2,     0.17,2, -999.000,9, -999.000,9, -999.000,9,   2194.5,2,   2327.4,2,    836.4,2,       20,   -999.0,9,  10.9524,20070719,0511
  33RO20070710,GOMECC,    32,  1,   3205,      5,2,20070719,0506, 26.9634, -79.7770,  405,    212.6,  13.6080,  35.7320,2,  35.7260,2,    122.9,2,    128.2,2,     8.50,2,    19.00,2,     0.01,2,     1.21,2,     0.15,2, -999.000,9, -999.000,9, -999.000,9,   2178.8,2,   2345.2,2,    690.2,2,       20,   -999.0,9,  13.5776,20070719,0513
  33RO20070710,GOMECC,    32,  1,   3206,      6,2,20070719,0506, 26.9634, -79.7770,  405,    171.3,  16.0740,  36.0280,2,  36.0390,2,    135.3,2,    142.0,2,     6.10,2,    13.80,2,     0.04,2,     0.88,2,     0.16,2, -999.000,9, -999.000,9, -999.000,9,   2157.7,2,   2371.7,2,    562.0,2,       20,   -999.0,9,  16.0466,20070719,0514
  33RO20070710,GOMECC,    32,  1,   3207,      7,2,20070719,0506, 26.9634, -79.7770,  405,    131.0,  19.4160,  36.4700,2,-999.0000,1,    152.7,2,    161.6,2,     2.60,2,     6.30,2,     0.05,2,     0.38,2,     0.15,2, -999.000,9, -999.000,9, -999.000,9,   2130.4,2,   2394.4,2,    435.9,2,       20,   -999.0,9,  19.3921,20070719,0516
  33RO20070710,GOMECC,    32,  1,   3208,      8,2,20070719,0506, 26.9634, -79.7770,  405,    100.1,  21.9070,  36.5360,2,-999.0000,1,    170.7,2,    181.0,6,     1.70,2,     1.90,2,     0.24,2,     0.16,2,     0.19,2, -999.000,9, -999.000,9, -999.000,9,   2102.4,2,   2398.7,2,    369.5,2,       20,   -999.0,9,  21.8871,20070719,0518
  33RO20070710,GOMECC,    32,  1,   3209,      9,2,20070719,0506, 26.9634, -79.7770,  405,    100.2,  21.8910,  36.5340,2,-999.0000,9,    170.4,2,    181.4,2,  -999.00,9,  -999.00,9,  -999.00,9,  -999.00,9,     -999,9, -999.000,9, -999.000,9, -999.000,9,   -999.0,9,   -999.0,9,   -999.0,9,     -999,   -999.0,9,  21.8711,20070719,0518
  33RO20070710,GOMECC,    32,  1,   3210,     10,2,20070719,0506, 26.9634, -79.7770,  405,     69.8,  24.2510,  36.5410,2,  36.5430,2,    185.0,2,    194.9,2,     1.00,2,     0.20,2,     0.11,2,     0.06,2,     0.17,2, -999.000,9, -999.000,9, -999.000,9,   2080.6,2,   2401.1,2,    332.1,2,       20,   -999.0,9,  24.2361,20070719,0519
  33RO20070710,GOMECC,    32,  1,   3211,     11,2,20070719,0506, 26.9634, -79.7770,  405,     49.9,  26.1940,  36.4920,2,  36.4960,6,    198.4,2,    209.5,2,     0.60,2,     0.00,2,     0.00,2,     0.03,2,     0.15,2, -999.000,9, -999.000,9, -999.000,9,   2049.8,2,   2396.2,2,    291.0,2,       20,   -999.0,9,  26.1828,20070719,0521
  33RO20070710,GOMECC,    32,  1,   3212,     12,2,20070719,0506, 26.9634, -79.7770,  405,     49.9,  26.2070,  36.4920,2,-999.0000,9,    198.5,2,   -999.0,9,  -999.00,9,  -999.00,9,  -999.00,9,  -999.00,9,     -999,9, -999.000,9, -999.000,9, -999.000,9,   -999.0,9,   -999.0,9,   -999.0,9,     -999,   -999.0,9,  26.1957,20070719,0521
  33RO20070710,GOMECC,    32,  1,   3213,     13,2,20070719,0506, 26.9634, -79.7770,  405,     39.7,  27.1430,  36.4140,2,  36.4270,2,    197.9,2,    209.4,2,     0.80,2,     0.00,2,     0.00,2,     0.02,2,     0.15,2, -999.000,9, -999.000,9, -999.000,9,   2039.1,2,   2390.4,2,    283.4,2,       20,   -999.0,9,  27.1338,20070719,0522
  33RO20070710,GOMECC,    32,  1,   3214,     14,2,20070719,0506, 26.9634, -79.7770,  405,     30.5,  28.1830,  36.3330,2,  36.3300,2,    192.8,2,    219.6,3,     0.80,2,     0.00,2,     0.00,2,     0.03,2,     0.19,2, -999.000,9, -999.000,9, -999.000,9,   2037.3,2,   2387.2,2,   -999.0,9,     -999,   -999.0,9,  28.1758,20070719,0523
  33RO20070710,GOMECC,    32,  1,   3215,     15,2,20070719,0506, 26.9634, -79.7770,  405,     20.3,  29.6190,  36.3140,2,-999.0000,1,    190.1,2,    201.9,2,     0.80,2,     0.00,2,     0.00,2,     0.01,2,     0.17,2, -999.000,9, -999.000,9, -999.000,9,   2028.2,2,   2387.2,2,    272.6,2,       20,   -999.0,9,  29.6140,20070719,0524
  33RO20070710,GOMECC,    32,  1,   3216,     16,2,20070719,0506, 26.9634, -79.7770,  405,     10.4,  30.3350,  36.2360,2,  36.2630,4,    184.0,2,    195.5,2,     0.90,2,     0.00,2,     0.00,2,     0.00,2,     0.15,2, -999.000,9, -999.000,9, -999.000,9,   2016.9,2,   2379.8,2,    266.4,2,       20,   -999.0,9,  30.3324,20070719,0525
  33RO20070710,GOMECC,    32,  1,   3217,     17,2,20070719,0506, 26.9634, -79.7770,  405,      3.9,  30.3350,  36.2340,2,  36.2410,2,    183.7,2,    194.4,2,     1.00,2,     0.00,2,     0.00,2,     0.00,2,     0.16,2,    1.600,2,    1.270,2,    0.470,2,   2014.0,6,   2378.3,2,    264.5,2,       20,     71.1,2,  30.3340,20070719,0526
  33RO20070710,GOMECC,    32,  1,   3218,     18,2,20070719,0506, 26.9634, -79.7770,  405,      3.8,  30.3340,  36.2350,2,-999.0000,9,    183.8,2,   -999.0,9,  -999.00,9,  -999.00,9,  -999.00,9,  -999.00,9,     -999,9, -999.000,9, -999.000,9, -999.000,9,   -999.0,9,   -999.0,9,   -999.0,9,     -999,   -999.0,9,  30.3330,20070719,0526
  33RO20070710,GOMECC,    33,  1,   3301,      1,2,20070719,0708, 26.9629, -79.6874,  542,    525.8,   7.3450,  34.9340,2,  34.9440,2,    124.0,2,    131.0,2,    20.70,2,    29.20,2,     0.01,2,     1.97,2,     0.16,2,    0.710,2,    0.440,2,    0.060,2,   2209.2,6,   2316.2,2,    998.3,2,       20,   -999.0,9,   7.2933,20070719,0708
  33RO20070710,GOMECC,    33,  1,   3303,      3,2,20070719,0708, 26.9629, -79.6874,  542,    500.9,   8.0730,  34.9920,2,  35.0010,2,    118.4,2,    124.5,2,    18.80,2,    28.80,2,     0.01,2,     1.93,2,     0.16,2, -999.000,9, -999.000,9, -999.000,9,   2206.6,2,   2316.6,2,    981.3,2,       20,   -999.0,9,   8.0210,20070719,0709
  33RO20070710,GOMECC,    33,  1,   3304,      4,2,20070719,0708, 26.9629, -79.6874,  542,    433.5,   9.1430,  35.0850,2,  35.0930,2,    113.7,2,    120.1,2,    16.30,2,    27.60,2,     0.00,2,     1.82,2,     0.18,2,    0.800,2,    0.360,2,    0.060,2,   2202.3,2,   2316.9,2,    943.3,2,       20,   -999.0,9,   9.0947,20070719,0711
  33RO20070710,GOMECC,    33,  1,   3305,      5,2,20070719,0708, 26.9629, -79.6874,  542,    374.1,  10.1910,  35.2220,2,  35.2350,2,    113.0,2,    119.5,6,    13.80,2,    25.60,2,     0.00,2,     1.67,2,     0.16,2,    0.920,2,    0.480,2,    0.000,2,   2196.7,2,   2323.2,2,    884.9,2,       20,   -999.0,9,  10.1465,20070719,0713
  33RO20070710,GOMECC,    33,  1,   3306,      6,2,20070719,0708, 26.9629, -79.6874,  542,    313.7,  11.5170,  35.4110,2,  35.4170,2,    116.3,2,    122.6,2,    11.40,2,    23.10,2,     0.01,2,     1.48,2,      0.2,2, -999.000,9, -999.000,9, -999.000,9,   2188.2,2,   2328.9,2,    806.0,2,       20,   -999.0,9,  11.4768,20070719,0716
  33RO20070710,GOMECC,    33,  1,   3307,      7,2,20070719,0708, 26.9629, -79.6874,  542,    263.3,  14.2350,  35.8160,2,  35.8210,2,    124.5,2,    131.7,2,     7.60,2,    17.60,2,     0.01,2,     1.11,2,     0.19,2,    1.800,2,    1.020,2,    0.130,2,   2172.2,2,   2347.2,2,    653.8,2,       20,   -999.0,9,  14.1962,20070719,0718
  33RO20070710,GOMECC,    33,  1,   3308,      8,2,20070719,0708, 26.9629, -79.6874,  542,    211.7,  17.2650,  36.3120,2,  36.3270,2,    141.2,2,    149.5,2,     3.50,2,    10.80,2,     0.01,2,     0.65,2,     0.18,2, -999.000,9, -999.000,9, -999.000,9,   2148.8,2,   2378.6,2,    508.0,2,       20,   -999.0,9,  17.2293,20070719,0720
  33RO20070710,GOMECC,    33,  1,   3309,      9,2,20070719,0708, 26.9629, -79.6874,  542,    170.3,  18.7310,  36.5000,2,  36.4940,2,    140.8,2,    149.3,2,     2.80,2,     8.90,2,     0.01,2,     0.52,2,     0.18,2,    1.880,2,    1.230,2, -999.000,9,   2144.3,2,   2388.0,2,    483.9,2,       20,   -999.0,9,  18.7007,20070719,0721
  33RO20070710,GOMECC,    33,  1,   3310,     10,2,20070719,0708, 26.9629, -79.6874,  542,    130.3,  20.9310,  36.7470,2,  36.7460,2,    140.3,2,    149.1,2,     1.80,2,     6.20,2,     0.01,2,     0.35,2,     0.17,2, -999.000,9, -999.000,9, -999.000,9,   2137.2,2,   2402.7,2,    437.9,2,       20,   -999.0,9,  20.9059,20070719,0723
  33RO20070710,GOMECC,    33,  1,   3311,     11,2,20070719,0708, 26.9629, -79.6874,  542,    100.2,  22.8340,  36.8040,2,  36.8160,2,    146.1,2,    154.5,2,     1.50,2,     4.50,2,     0.03,2,     0.25,2,     0.16,2,    1.920,2,    1.510,2,    0.070,2,   2122.2,2,   2407.5,2,    399.2,2,       20,   -999.0,9,  22.8135,20070719,0724
  33RO20070710,GOMECC,    33,  1,   3312,     12,2,20070719,0708, 26.9629, -79.6874,  542,     70.3,  24.9330,  36.5000,2,  36.5130,2,    190.7,2,    200.9,2,     0.80,2,     0.20,2,     0.05,2,     0.05,2,     0.21,2, -999.000,9, -999.000,9, -999.000,9,   2065.6,2,   2396.8,2,    316.4,2,       20,   -999.0,9,  24.9177,20070719,0725
  33RO20070710,GOMECC,    33,  1,   3313,     13,2,20070719,0708, 26.9629, -79.6874,  542,     50.2,  27.1200,  36.3650,2,  36.3680,2,    192.3,2,    204.4,2,     0.70,2,     0.10,2,     0.00,2,     0.04,2,     0.17,2,    1.540,2,    1.290,2,    0.030,2,   2037.2,2,   2386.0,2,    287.2,2,       20,   -999.0,9,  27.1084,20070719,0727
  33RO20070710,GOMECC,    33,  1,   3314,     14,2,20070719,0708, 26.9629, -79.6874,  542,     40.0,  28.3090,  36.3740,2,  36.2500,4,    194.7,2,    203.4,2,     0.80,2,     0.00,2,     0.00,2,     0.02,2,      0.2,2, -999.000,9, -999.000,9, -999.000,9,   2022.5,2,   2380.7,2,    273.1,2,       20,   -999.0,9,  28.2995,20070719,0728
  33RO20070710,GOMECC,    33,  1,   3315,     15,2,20070719,0708, 26.9629, -79.6874,  542,     30.0,  28.7770,  36.2340,2,  36.2550,4,    190.9,2,    203.6,2,     0.80,2,     0.00,2,     0.00,2,     0.02,2,     0.19,2, -999.000,9, -999.000,9, -999.000,9,   2022.8,2,   2380.5,2,    273.5,2,       20,   -999.0,9,  28.7698,20070719,0729
  33RO20070710,GOMECC,    33,  1,   3316,     16,2,20070719,0708, 26.9629, -79.6874,  542,     19.9,  30.0390,  36.1800,2,  36.2120,4,    184.5,2,    198.4,2,     0.90,2,     0.00,2,     0.00,2,     0.00,2,     0.17,2,    1.430,2,    1.170,2,    0.200,2,   2015.9,2,   2378.9,2,    266.9,2,       20,   -999.0,9,  30.0340,20070719,0730
  33RO20070710,GOMECC,    33,  1,   3317,     17,2,20070719,0708, 26.9629, -79.6874,  542,      9.6,  30.1090,  36.1730,2,  36.1800,2,    184.0,2,    196.2,2,     1.00,2,     0.00,2,     0.00,2,     0.01,2,     0.18,2, -999.000,9, -999.000,9, -999.000,9,   2006.6,2,   2372.1,2,    262.6,2,       20,   -999.0,9,  30.1066,20070719,0731
  33RO20070710,GOMECC,    33,  1,   3318,     18,2,20070719,0708, 26.9629, -79.6874,  542,      4.1,  30.1060,  36.1730,2,  36.1810,2,    184.0,2,    195.5,2,     1.00,2,     0.00,2,     0.00,2,     0.00,2,     0.18,2,    1.680,2,    1.340,2,    0.170,2,   2006.5,6,   2373.2,2,    262.2,2,       20,     51.9,2,  30.1050,20070719,0731