BOTTLE,20220922CCHSIOAMB
EXPOCODE,SECT_ID,STNNBR,CASTNO,SAMPNO,BTLNBR,BTLNBR_FLAG_W,DATE,TIME,LATITUDE,LONGITUDE,DEPTH,CTDPRS,CTDTMP,CTDSAL,CTDSAL_FLAG_W,SALNTY,SALNTY_FLAG_W,CTDOXY,CTDOXY_FLAG_W,OXYGEN,OXYGEN_FLAG_W,SILCAT,SILCAT_FLAG_W,NITRAT,NITRAT_FLAG_W,NITRIT,NITRIT_FLAG_W,PHSPHT,PHSPHT_FLAG_W,NH4,NH4_FLAG_W,CFC-11,CFC-11_FLAG_W,CFC-12,CFC-12_FLAG_W,CFC113,CFC113_FLAG_W,TCARBN,TCARBN_FLAG_W,ALKALI,ALKALI_FLAG_W,FCO2,FCO2_FLAG_W,FCO2TMP,DOC,DOC_FLAG_W,THETA,BTL_DATE,BTL_TIME
,,,,,,,,,,,METERS,DBAR,ITS-90,PSS-78,,PSS-78,,UMOL/KG,,UMOL/KG,,UMOL/KG,,UMOL/KG,,UMOL/KG,,UMOL/KG,,UMOL/KG,,PMOL/KG,,PMOL/KG,,PMOL/KG,,UMOL/KG,,UMOL/KG,,UATM,,DEG C,UMOL/KG,,DEG C,,
  33RO20070710,GOMECC,    81,  1,   8101,      1,2,20070801,0347, 39.7010, -69.8003, 2118,   2084.8,   3.3880,  34.9290,2,  34.9380,2,    249.9,2,    270.3,2,    15.50,2,    17.40,2,     0.01,2,     1.33,2,     0.19,2, -999.000,9, -999.000,9, -999.000,9,   2161.3,2,   2309.7,2,   -999.0,9,     -999,   -999.0,9,   3.2216,20070801,0347
  33RO20070710,GOMECC,    81,  1,   8102,      2,4,20070801,0347, 39.7010, -69.8003, 2118,   1700.9,   3.6650,  34.9350,2,-999.0000,9,    248.0,2,   -999.0,9,  -999.00,9,  -999.00,9,  -999.00,9,  -999.00,9,     -999,9, -999.000,9, -999.000,9, -999.000,9,   -999.0,9,   -999.0,9,   -999.0,9,     -999,   -999.0,9,   3.5305,20070801,0355
  33RO20070710,GOMECC,    81,  1,   8103,      3,2,20070801,0347, 39.7010, -69.8003, 2118,   1500.2,   3.7670,  34.9440,2,  34.9540,2,    246.3,2,    266.8,2,    13.60,2,    17.30,2,     0.00,2,     1.31,2,     0.23,2, -999.000,9, -999.000,9, -999.000,9,   2161.9,2,   2308.6,2,   -999.0,9,     -999,   -999.0,9,   3.6494,20070801,0359
  33RO20070710,GOMECC,    81,  1,   8104,      4,2,20070801,0347, 39.7010, -69.8003, 2118,   1299.5,   3.9240,  34.9470,2,  34.9580,2,    245.0,2,    265.5,2,    13.00,2,    17.20,2,     0.00,2,     1.30,2,     0.26,2, -999.000,9, -999.000,9, -999.000,9,   2165.1,2,   2308.3,2,   -999.0,9,     -999,   -999.0,9,   3.8225,20070801,0403
  33RO20070710,GOMECC,    81,  1,   8105,      5,2,20070801,0347, 39.7010, -69.8003, 2118,   1101.2,   4.0770,  34.9440,2,  34.9520,2,    244.5,2,    264.7,6,    12.40,2,    17.10,2,     0.00,2,     1.29,2,     0.19,2, -999.000,9, -999.000,9, -999.000,9,   2165.3,2,   2307.8,2,   -999.0,9,     -999,   -999.0,9,   3.9914,20070801,0408
  33RO20070710,GOMECC,    81,  1,   8106,      6,2,20070801,0347, 39.7010, -69.8003, 2118,    900.4,   4.4390,  34.9710,2,  34.9790,2,    236.0,2,    254.4,2,    12.50,2,    17.50,2,     0.00,2,     1.32,2,     0.18,2, -999.000,9, -999.000,9, -999.000,9,   2168.3,2,   2308.8,2,   -999.0,9,     -999,   -999.0,9,   4.3678,20070801,0412
  33RO20070710,GOMECC,    81,  1,   8107,      7,2,20070801,0347, 39.7010, -69.8003, 2118,    699.9,   4.8480,  34.9930,2,  35.0000,2,    225.3,2,    242.7,2,    12.80,2,    18.10,2,     0.00,2,     1.34,2,     0.19,2, -999.000,9, -999.000,9, -999.000,9,   2171.2,2,   2310.4,2,   -999.0,9,     -999,   -999.0,9,   4.7915,20070801,0416
  33RO20070710,GOMECC,    81,  1,   8108,      8,2,20070801,0347, 39.7010, -69.8003, 2118,    600.7,   5.3460,  35.0240,2,  35.0260,2,    211.1,2,    236.4,2,    13.40,2,    18.90,2,     0.00,2,     1.40,2,     0.18,2, -999.000,9, -999.000,9, -999.000,9,   2177.5,2,   2313.9,2,   -999.0,9,     -999,   -999.0,9,   5.2956,20070801,0419
  33RO20070710,GOMECC,    81,  1,   8109,      9,2,20070801,0347, 39.7010, -69.8003, 2118,    501.2,   5.9250,  35.0280,2,  35.0360,2,    195.2,2,    209.3,2,    13.90,2,    20.00,2,     0.00,2,     1.46,2,     0.18,2, -999.000,9, -999.000,9, -999.000,9,   2181.4,2,   2314.5,2,   -999.0,9,     -999,     41.7,2,   5.8811,20070801,0422
  33RO20070710,GOMECC,    81,  1,   8110,     10,2,20070801,0347, 39.7010, -69.8003, 2118,    431.0,   6.6300,  35.0480,2,  35.0550,2,    178.6,2,    191.2,2,    14.20,2,    20.90,2,     0.00,2,     1.51,2,     0.21,2, -999.000,9, -999.000,9, -999.000,9,   2185.7,2,   2315.8,2,   -999.0,9,     -999,   -999.0,9,   6.5901,20070801,0424
  33RO20070710,GOMECC,    81,  1,   8111,     11,2,20070801,0347, 39.7010, -69.8003, 2118,    370.1,   7.4610,  35.1010,2,  35.1080,2,    161.1,2,    172.5,2,    14.80,2,    22.10,2,     0.00,2,     1.58,2,     0.19,2, -999.000,9, -999.000,9, -999.000,9,   2186.8,2,   2318.0,2,   -999.0,9,     -999,   -999.0,9,   7.4245,20070801,0426
  33RO20070710,GOMECC,    81,  1,   8112,     12,2,20070801,0347, 39.7010, -69.8003, 2118,    310.4,   8.3420,  35.1320,2,  35.1380,2,    144.2,2,    154.0,2,    15.00,2,    23.20,2,     0.01,2,     1.63,2,     0.18,2, -999.000,9, -999.000,9, -999.000,9,   2191.9,2,   2318.8,2,   -999.0,9,     -999,   -999.0,9,   8.3095,20070801,0428
  33RO20070710,GOMECC,    81,  1,   8113,     13,2,20070801,0347, 39.7010, -69.8003, 2118,    260.2,   9.1750,  35.1640,2,  35.1660,2,    136.8,2,    146.3,2,    14.00,2,    22.60,2,     0.01,2,     1.59,2,     0.19,2, -999.000,9, -999.000,9, -999.000,9,   2189.9,2,   2318.7,2,   -999.0,9,     -999,   -999.0,9,   9.1462,20070801,0430
  33RO20070710,GOMECC,    81,  1,   8114,     14,2,20070801,0347, 39.7010, -69.8003, 2118,    209.8,  10.7600,  35.3540,2,  35.3610,2,    130.5,2,    139.2,2,    12.00,2,    21.30,2,     0.01,2,     1.48,2,     0.18,2, -999.000,9, -999.000,9, -999.000,9,   2184.7,2,   2327.7,2,   -999.0,9,     -999,   -999.0,9,  10.7344,20070801,0431
  33RO20070710,GOMECC,    81,  1,   8115,     15,2,20070801,0347, 39.7010, -69.8003, 2118,    169.9,  11.8890,  35.4800,2,  35.4890,2,    138.9,2,    148.7,2,     9.90,2,    18.60,2,     0.01,2,     1.28,2,     0.17,2, -999.000,9, -999.000,9, -999.000,9,   2172.8,2,   2332.3,2,   -999.0,9,     -999,   -999.0,9,  11.8669,20070801,0433
  33RO20070710,GOMECC,    81,  1,   8116,     16,2,20070801,0347, 39.7010, -69.8003, 2118,    130.5,  13.3480,  35.6990,2,  35.7080,2,    157.3,2,    168.9,2,     7.20,2,    14.30,2,     0.01,2,     0.99,2,     0.18,2, -999.000,9, -999.000,9, -999.000,9,   2153.4,2,   2349.1,2,   -999.0,9,     -999,   -999.0,9,  13.3297,20070801,0434
  33RO20070710,GOMECC,    81,  1,   8117,     17,2,20070801,0347, 39.7010, -69.8003, 2118,     99.9,  14.6610,  35.8900,2,  35.8820,2,    140.8,2,    152.3,2,     6.80,2,    14.20,2,     0.02,2,     0.96,2,     0.17,2, -999.000,9, -999.000,9, -999.000,9,   2156.1,2,   2353.6,2,   -999.0,9,     -999,   -999.0,9,  14.6460,20070801,0436
  33RO20070710,GOMECC,    81,  1,   8118,     18,2,20070801,0347, 39.7010, -69.8003, 2118,     70.3,  14.5040,  35.5950,2,  35.6050,2,    164.0,2,    176.6,2,     5.20,2,    10.60,2,     0.03,2,     0.76,2,     0.16,2, -999.000,9, -999.000,9, -999.000,9,   2135.7,2,   2347.8,2,   -999.0,9,     -999,   -999.0,9,  14.4936,20070801,0437
  33RO20070710,GOMECC,    81,  1,   8119,     19,2,20070801,0347, 39.7010, -69.8003, 2118,     49.3,  14.4170,  35.1030,2,  35.1540,4,    200.1,2,    212.9,2,     3.40,2,     4.90,2,     0.09,2,     0.50,2,     0.17,2, -999.000,9, -999.000,9, -999.000,9,   2104.9,2,   2326.9,2,   -999.0,9,     -999,   -999.0,9,  14.4098,20070801,0438
  33RO20070710,GOMECC,    81,  1,   8120,     20,2,20070801,0347, 39.7010, -69.8003, 2118,     39.7,  16.8700,  35.0640,2,  35.0930,4,    238.1,2,    253.1,2,     2.10,2,     0.20,2,     0.03,2,     0.20,2,     0.16,2, -999.000,9, -999.000,9, -999.000,9,   2059.4,2,   2326.3,2,   -999.0,9,     -999,   -999.0,9,  16.8635,20070801,0439
  33RO20070710,GOMECC,    81,  1,   8121,     21,2,20070801,0347, 39.7010, -69.8003, 2118,     30.1,  20.7010,  35.2920,2,  35.2770,2,    229.1,2,    250.0,2,     1.40,2,     0.10,2,     0.01,2,     0.12,2,     0.19,2, -999.000,9, -999.000,9, -999.000,9,   2036.0,2,   2334.3,2,   -999.0,9,     -999,   -999.0,9,  20.6953,20070801,0440
  33RO20070710,GOMECC,    81,  1,   8122,     22,2,20070801,0347, 39.7010, -69.8003, 2118,     10.0,  26.4380,  35.1770,2,  35.2060,4,    191.8,2,    208.6,2,     1.20,2,     0.00,2,     0.01,2,     0.04,2,     0.16,2, -999.000,9, -999.000,9, -999.000,9,   2006.9,2,   2324.8,2,   -999.0,9,     -999,   -999.0,9,  26.4357,20070801,0442
  33RO20070710,GOMECC,    81,  1,   8123,     23,2,20070801,0347, 39.7010, -69.8003, 2118,      4.1,  26.4470,  35.1800,2,  35.1910,2,    191.9,2,    208.4,2,     1.20,2,     0.00,2,     0.01,2,     0.03,2,     0.16,2, -999.000,9, -999.000,9, -999.000,9,   2006.9,6,   2322.8,6,   -999.0,9,     -999,     67.3,2,  26.4461,20070801,0443
  33RO20070710,GOMECC,    81,  1,   8124,     24,2,20070801,0347, 39.7010, -69.8003, 2118,      3.7,  26.4460,  35.1800,2,-999.0000,9,    192.1,2,   -999.0,9,  -999.00,9,  -999.00,9,  -999.00,9,  -999.00,9,     -999,9, -999.000,9, -999.000,9, -999.000,9,   -999.0,9,   -999.0,9,   -999.0,9,     -999,   -999.0,9,  26.4452,20070801,0443
  33RO20070710,GOMECC,    82,  1,   8201,      1,2,20070801,0723, 39.4770, -69.6408, 2439,   2415.1,   2.9360,  34.9210,2,  34.9320,2,    249.5,2,    271.9,2,    18.00,2,    16.90,2,     0.01,2,     1.18,2,     0.16,2, -999.000,9, -999.000,9, -999.000,9,   -999.0,9,   -999.0,9,   -999.0,9,     -999,   -999.0,9,   2.7455,20070801,0723
  33RO20070710,GOMECC,    82,  1,   8202,      2,4,20070801,0723, 39.4770, -69.6408, 2439,   2199.4,   3.2490,  34.9310,2,-999.0000,9,    247.9,2,   -999.0,9,  -999.00,9,  -999.00,9,  -999.00,9,  -999.00,9,     -999,9, -999.000,9, -999.000,9, -999.000,9,   -999.0,9,   -999.0,9,   -999.0,9,     -999,   -999.0,9,   3.0739,20070801,0727
  33RO20070710,GOMECC,    82,  1,   8203,      3,2,20070801,0723, 39.4770, -69.6408, 2439,   2000.3,   3.3870,  34.9350,2,  34.9460,2,    247.7,2,    269.9,2,    15.10,2,    17.20,2,     0.01,2,     1.20,2,     0.19,2, -999.000,9, -999.000,9, -999.000,9,   -999.0,9,   -999.0,9,   -999.0,9,     -999,   -999.0,9,   3.2286,20070801,0731
  33RO20070710,GOMECC,    82,  1,   8204,      4,2,20070801,0723, 39.4770, -69.6408, 2439,   1799.9,   3.5070,  34.9360,2,  34.9460,2,    247.9,2,    269.9,2,    14.20,2,    17.00,2,     0.01,2,     1.20,2,     0.17,2, -999.000,9, -999.000,9, -999.000,9,   -999.0,9,   -999.0,9,   -999.0,9,     -999,   -999.0,9,   3.3655,20070801,0735
  33RO20070710,GOMECC,    82,  1,   8205,      5,2,20070801,0723, 39.4770, -69.6408, 2439,   1600.2,   3.6560,  34.9420,2,  34.9530,2,    246.5,2,    268.5,2,    13.60,2,    17.30,2,     0.02,2,     1.20,2,     0.17,2, -999.000,9, -999.000,9, -999.000,9,   -999.0,9,   -999.0,9,   -999.0,9,     -999,   -999.0,9,   3.5308,20070801,0739
  33RO20070710,GOMECC,    82,  1,   8206,      6,2,20070801,0723, 39.4770, -69.6408, 2439,   1400.9,   3.8310,  34.9500,2,  34.9590,2,    244.6,2,    265.8,2,    13.10,2,    17.20,2,     0.01,2,     1.20,2,     0.17,2, -999.000,9, -999.000,9, -999.000,9,   -999.0,9,   -999.0,9,   -999.0,9,     -999,   -999.0,9,   3.7216,20070801,0743
  33RO20070710,GOMECC,    82,  1,   8207,      7,2,20070801,0723, 39.4770, -69.6408, 2439,   1201.1,   4.0320,  34.9600,2,  34.9700,2,    242.0,2,    260.0,2,    12.70,2,    17.30,2,     0.01,2,     1.21,2,     0.17,2, -999.000,9, -999.000,9, -999.000,9,   -999.0,9,   -999.0,9,   -999.0,9,     -999,   -999.0,9,   3.9381,20070801,0747
  33RO20070710,GOMECC,    82,  1,   8208,      8,2,20070801,0723, 39.4770, -69.6408, 2439,    999.3,   4.2300,  34.9660,2,  34.9760,2,    238.7,2,    260.5,2,    12.50,2,    17.40,2,     0.00,2,     1.22,2,     0.19,2, -999.000,9, -999.000,9, -999.000,9,   -999.0,9,   -999.0,9,   -999.0,9,     -999,   -999.0,9,   4.1518,20070801,0751
  33RO20070710,GOMECC,    82,  1,   8209,      9,2,20070801,0723, 39.4770, -69.6408, 2439,    800.1,   4.5320,  34.9750,2,  34.9830,2,    232.8,2,    251.8,2,    12.20,2,    17.70,2,     0.01,2,     1.23,2,     0.17,2, -999.000,9, -999.000,9, -999.000,9,   -999.0,9,   -999.0,9,   -999.0,9,     -999,   -999.0,9,   4.4687,20070801,0755
  33RO20070710,GOMECC,    82,  1,   8210,     10,2,20070801,0723, 39.4770, -69.6408, 2439,    699.9,   4.8620,  35.0050,2,  35.0140,2,    224.1,2,    241.9,2,    12.60,2,    18.20,2,     0.01,2,     1.27,2,     0.17,2, -999.000,9, -999.000,9, -999.000,9,   -999.0,9,   -999.0,9,   -999.0,9,     -999,   -999.0,9,   4.8054,20070801,0757
  33RO20070710,GOMECC,    82,  1,   8211,     11,2,20070801,0723, 39.4770, -69.6408, 2439,    598.6,   5.2500,  35.0210,2,  35.0300,2,    213.5,2,    229.9,2,    12.90,2,    18.70,2,     0.01,2,     1.30,2,     0.16,2, -999.000,9, -999.000,9, -999.000,9,   -999.0,9,   -999.0,9,   -999.0,9,     -999,   -999.0,9,   5.2002,20070801,0800
  33RO20070710,GOMECC,    82,  1,   8212,     12,2,20070801,0723, 39.4770, -69.6408, 2439,    499.6,   5.8610,  35.0390,2,  35.0500,2,    196.1,2,    205.3,2,    13.50,2,    20.00,2,     0.01,2,     1.38,2,     0.17,2, -999.000,9, -999.000,9, -999.000,9,   -999.0,9,   -999.0,9,   -999.0,9,     -999,     42.6,2,   5.8174,20070801,0802
  33RO20070710,GOMECC,    82,  1,   8213,     13,2,20070801,0723, 39.4770, -69.6408, 2439,    299.8,   7.7940,  35.0650,2,  35.0760,2,    153.8,2,    164.6,2,    14.30,2,    22.20,2,     0.01,2,     1.52,2,     0.16,2, -999.000,9, -999.000,9, -999.000,9,   -999.0,9,   -999.0,9,   -999.0,9,     -999,   -999.0,9,   7.7639,20070801,0806
  33RO20070710,GOMECC,    82,  1,   8214,     14,2,20070801,0723, 39.4770, -69.6408, 2439,    250.0,   8.8290,  35.1220,2,  35.1300,2,    142.6,2,    161.9,2,    13.70,2,    22.10,2,     0.01,2,     1.51,2,     0.16,2, -999.000,9, -999.000,9, -999.000,9,   -999.0,9,   -999.0,9,   -999.0,9,     -999,   -999.0,9,   8.8020,20070801,0807
  33RO20070710,GOMECC,    82,  1,   8215,     15,2,20070801,0723, 39.4770, -69.6408, 2439,    199.0,  10.0840,  35.1850,2,  35.1960,2,    145.2,2,    155.8,6,    11.60,2,    19.50,2,     0.01,2,     1.33,2,     0.16,2, -999.000,9, -999.000,9, -999.000,9,   -999.0,9,   -999.0,9,   -999.0,9,     -999,   -999.0,9,  10.0607,20070801,0809
  33RO20070710,GOMECC,    82,  1,   8216,     16,2,20070801,0723, 39.4770, -69.6408, 2439,    149.9,  11.8710,  35.2830,2,  35.2870,2,    175.6,2,    188.3,2,     7.20,2,    13.30,2,     0.02,2,     0.93,2,     0.17,2, -999.000,9, -999.000,9, -999.000,9,   -999.0,9,   -999.0,9,   -999.0,9,     -999,   -999.0,9,  11.8516,20070801,0810
  33RO20070710,GOMECC,    82,  1,   8217,     17,2,20070801,0723, 39.4770, -69.6408, 2439,     99.5,  11.5430,  34.9440,2,  34.9580,2,    199.1,2,    213.6,2,     5.40,2,     9.50,2,     0.02,2,     0.74,2,     0.17,2, -999.000,9, -999.000,9, -999.000,9,   -999.0,9,   -999.0,9,   -999.0,9,     -999,   -999.0,9,  11.5304,20070801,0812
  33RO20070710,GOMECC,    82,  1,   8218,     18,2,20070801,0723, 39.4770, -69.6408, 2439,     74.2,  11.0940,  34.5240,2,  34.5340,2,    212.8,2,    228.9,2,     5.00,2,     7.00,2,     0.03,2,     0.63,2,     0.16,2, -999.000,9, -999.000,9, -999.000,9,   -999.0,9,   -999.0,9,   -999.0,9,     -999,   -999.0,9,  11.0849,20070801,0813
  33RO20070710,GOMECC,    82,  1,   8219,     19,2,20070801,0723, 39.4770, -69.6408, 2439,     50.7,  11.4180,  34.2240,2,  34.2430,2,    224.0,2,    238.9,2,     4.50,2,     4.40,2,     0.06,2,     0.52,2,     0.17,2, -999.000,9, -999.000,9, -999.000,9,   -999.0,9,   -999.0,9,   -999.0,9,     -999,   -999.0,9,  11.4117,20070801,0814
  33RO20070710,GOMECC,    82,  1,   8220,     20,2,20070801,0723, 39.4770, -69.6408, 2439,     28.9,  17.3480,  34.5450,2,  34.5990,4,    253.0,2,    272.5,2,     1.30,2,     0.10,2,     0.01,2,     0.08,2,     0.19,2, -999.000,9, -999.000,9, -999.000,9,   -999.0,9,   -999.0,9,   -999.0,9,     -999,   -999.0,9,  17.3432,20070801,0816
  33RO20070710,GOMECC,    82,  1,   8221,     21,2,20070801,0723, 39.4770, -69.6408, 2439,     19.8,  20.2400,  33.8720,2,  33.9140,4,    243.6,2,    263.2,2,     0.50,2,     0.00,2,     0.00,2,     0.02,2,      0.2,2, -999.000,9, -999.000,9, -999.000,9,   -999.0,9,   -999.0,9,   -999.0,9,     -999,   -999.0,9,  20.2363,20070801,0817
  33RO20070710,GOMECC,    82,  1,   8222,     22,2,20070801,0723, 39.4770, -69.6408, 2439,     10.4,  23.3660,  33.2200,2,  33.1650,4,    219.9,2,    232.6,2,     0.50,2,     0.00,2,     0.00,2,     0.00,2,     0.16,2, -999.000,9, -999.000,9, -999.000,9,   -999.0,9,   -999.0,9,   -999.0,9,     -999,   -999.0,9,  23.3639,20070801,0818
  33RO20070710,GOMECC,    82,  1,   8223,     23,2,20070801,0723, 39.4770, -69.6408, 2439,      4.7,  24.5300,  33.0650,2,  33.0950,4,    210.2,2,    229.3,2,     0.40,2,     0.00,2,     0.00,2,     0.00,2,     0.16,2, -999.000,9, -999.000,9, -999.000,9,   -999.0,9,   -999.0,9,   -999.0,9,     -999,     77.0,2,  24.5290,20070801,0819
  33RO20070710,GOMECC,    82,  1,   8224,     24,9,20070801,0723, 39.4770, -69.6408, 2439,      4.4,  24.5820,  33.0510,2,-999.0000,9,    209.8,2,   -999.0,9,  -999.00,9,  -999.00,9,  -999.00,9,  -999.00,9,     -999,9, -999.000,9, -999.000,9, -999.000,9,   -999.0,9,   -999.0,9,   -999.0,9,     -999,   -999.0,9,  24.5811,20070801,0819