BOTTLE,20220922CCHSIOAMB
EXPOCODE,SECT_ID,STNNBR,CASTNO,SAMPNO,BTLNBR,BTLNBR_FLAG_W,DATE,TIME,LATITUDE,LONGITUDE,DEPTH,CTDPRS,CTDTMP,CTDSAL,CTDSAL_FLAG_W,SALNTY,SALNTY_FLAG_W,CTDOXY,CTDOXY_FLAG_W,OXYGEN,OXYGEN_FLAG_W,SILCAT,SILCAT_FLAG_W,NITRAT,NITRAT_FLAG_W,NITRIT,NITRIT_FLAG_W,PHSPHT,PHSPHT_FLAG_W,NH4,NH4_FLAG_W,CFC-11,CFC-11_FLAG_W,CFC-12,CFC-12_FLAG_W,CFC113,CFC113_FLAG_W,TCARBN,TCARBN_FLAG_W,ALKALI,ALKALI_FLAG_W,FCO2,FCO2_FLAG_W,FCO2TMP,DOC,DOC_FLAG_W,THETA,BTL_DATE,BTL_TIME
,,,,,,,,,,,METERS,DBAR,ITS-90,PSS-78,,PSS-78,,UMOL/KG,,UMOL/KG,,UMOL/KG,,UMOL/KG,,UMOL/KG,,UMOL/KG,,UMOL/KG,,PMOL/KG,,PMOL/KG,,PMOL/KG,,UMOL/KG,,UMOL/KG,,UATM,,DEG C,UMOL/KG,,DEG C,,
  33RO20070710,GOMECC,    55,  1,   5501,      1,2,20070724,1902, 35.3273, -73.8337, 3385,   3403.4,   2.1520,  34.8810,2,  34.8930,2,    246.6,2,    268.6,6,    30.20,2,    18.10,2,     0.01,2,     1.25,2,     0.03,2,    1.140,2,    0.490,2,    0.010,2,   2174.7,6,   2326.3,2,    743.4,2,       20,   -999.0,9,   1.8785,20070724,1902
  33RO20070710,GOMECC,    55,  1,   5502,      2,2,20070724,1902, 35.3273, -73.8337, 3385,   3044.0,   2.4030,  34.8970,2,  34.9070,2,    250.6,2,    274.0,2,    21.20,2,    16.90,2,     0.00,2,     1.18,2,     0.05,2, -999.000,9, -999.000,9, -999.000,9,   2164.2,2,   2315.6,2,    734.9,2,       20,   -999.0,9,   2.1608,20070724,1908
  33RO20070710,GOMECC,    55,  1,   5503,      3,2,20070724,1902, 35.3273, -73.8337, 3385,   2736.7,   2.7490,  34.9160,2,  34.9270,2,    247.7,2,    270.6,2,    19.50,2,    17.10,2,     0.00,2,     1.20,2,     0.06,2,    1.170,2,    0.570,2,    0.020,2,   2160.3,2,   2315.4,2,    727.6,2,       20,   -999.0,9,   2.5304,20070724,1914
  33RO20070710,GOMECC,    55,  1,   5504,      4,2,20070724,1902, 35.3273, -73.8337, 3385,   2431.9,   3.1270,  34.9290,2,  34.9380,2,    246.1,2,    268.9,2,    17.20,2,    17.20,2,     0.00,2,     1.21,2,     0.04,2, -999.000,9, -999.000,9, -999.000,9,   2160.6,2,   2314.7,2,    729.2,2,       20,   -999.0,9,   2.9314,20070724,1920
  33RO20070710,GOMECC,    55,  1,   5505,      5,2,20070724,1902, 35.3273, -73.8337, 3385,   2126.3,   3.4570,  34.9410,2,  34.9500,2,    245.7,2,    267.8,2,    15.10,2,    17.40,2,     0.00,2,     1.21,2,     0.04,2,    1.400,2,    0.730,2, -999.000,9,   2158.3,2,   2313.0,2,    730.1,2,       20,   -999.0,9,   3.2855,20070724,1926
  33RO20070710,GOMECC,    55,  1,   5506,      6,2,20070724,1902, 35.3273, -73.8337, 3385,   1822.1,   3.6880,  34.9450,2,  34.9570,2,    245.2,2,    266.7,2,    13.60,2,    17.30,2,     0.00,2,     1.21,2,     0.04,2, -999.000,9, -999.000,9, -999.000,9,   2159.4,2,   2310.8,2,    740.1,2,       20,   -999.0,9,   3.5420,20070724,1932
  33RO20070710,GOMECC,    55,  1,   5507,      7,2,20070724,1902, 35.3273, -73.8337, 3385,   1416.0,   4.2980,  34.9940,2,  35.0040,2,    235.8,2,    255.1,2,    12.80,2,    17.80,2,     0.00,2,     1.23,2,     0.07,2,    1.640,2,    0.880,2, -999.000,9,   2163.1,2,   2311.9,2,    749.8,2,       20,   -999.0,9,   4.1821,20070724,1940
  33RO20070710,GOMECC,    55,  1,   5508,      8,2,20070724,1902, 35.3273, -73.8337, 3385,   1212.9,   4.6300,  35.0030,2,  35.0120,2,    229.5,2,    248.0,2,    12.70,2,    18.10,2,     0.00,2,     1.25,2,     0.05,2, -999.000,9, -999.000,9, -999.000,9,   2166.6,2,   2315.4,2,    765.1,2,       20,   -999.0,9,   4.5295,20070724,1944
  33RO20070710,GOMECC,    55,  1,   5509,      9,2,20070724,1902, 35.3273, -73.8337, 3385,    909.1,   8.1930,  35.0720,2,  35.0810,2,    132.6,2,    140.3,2,    17.60,2,    25.90,2,     0.00,2,     1.76,2,     0.07,2,    0.650,2,    0.290,2, -999.000,9,   2198.1,2,   2323.0,2,    911.0,2,       20,   -999.0,9,   8.0954,20070724,1950
  33RO20070710,GOMECC,    55,  1,   5510,     10,2,20070724,1902, 35.3273, -73.8337, 3385,    837.3,   9.1870,  35.1630,2,  35.1720,2,    126.3,2,    135.9,2,    15.50,2,    25.00,2,     0.00,2,     1.68,2,     0.04,2,    0.810,2,    0.530,2,    0.070,2,   2194.5,2,   2322.0,2,    871.9,2,       20,   -999.0,9,   9.0914,20070724,1952
  33RO20070710,GOMECC,    55,  1,   5511,     11,3,20070724,1902, 35.3273, -73.8337, 3385,    705.9,  13.7170,  35.8010,2,-999.0000,9,    153.4,2,    164.3,2,  -999.00,9,  -999.00,9,  -999.00,9,  -999.00,9,     -999,9, -999.000,9, -999.000,9, -999.000,9,   -999.0,9,   -999.0,9,   -999.0,9,     -999,   -999.0,9,  13.6139,20070724,1955
  33RO20070710,GOMECC,    55,  1,   5512,     12,2,20070724,1902, 35.3273, -73.8337, 3385,    605.1,  15.7340,  36.1230,2,  36.1380,2,    162.2,2,   -999.0,5,     4.00,2,    10.50,2,     0.00,2,     0.64,2,     0.04,2,    1.660,2,    0.930,2, -999.000,9,   2137.6,2,   2362.5,6,    498.8,2,       20,   -999.0,9,  15.6374,20070724,1957
  33RO20070710,GOMECC,    55,  1,   5513,     13,2,20070724,1902, 35.3273, -73.8337, 3385,    504.3,  17.5340,  36.4590,2,  36.4650,2,    181.2,2,    193.8,3,     2.20,2,     5.90,2,     0.00,2,     0.35,2,     0.04,2, -999.000,9, -999.000,9, -999.000,9,   2115.2,2,   2387.4,2,    411.4,2,       20,   -999.0,9,  17.4475,20070724,2000
  33RO20070710,GOMECC,    55,  1,   5514,     14,3,20070724,1902, 35.3273, -73.8337, 3385,    302.7,  18.4200,  36.6060,2,  36.6140,2,    191.4,2,    205.7,2,     1.40,3,     3.30,3,     0.01,3,     0.18,3,     0.03,3, -999.000,9, -999.000,9, -999.000,9,   2102.0,2,   2394.3,2,    372.6,2,       20,   -999.0,9,  18.3665,20070724,2004
  33RO20070710,GOMECC,    55,  1,   5515,     15,2,20070724,1902, 35.3273, -73.8337, 3385,    202.3,  19.0000,  36.6530,2,  36.6600,2,    188.5,2,    201.3,2,     1.30,2,     2.60,2,     0.01,2,     0.13,2,     0.09,2, -999.000,9, -999.000,9, -999.000,9,   2100.0,2,   2397.3,2,    367.4,2,       20,   -999.0,9,  18.9635,20070724,2006
  33RO20070710,GOMECC,    55,  1,   5516,     16,2,20070724,1902, 35.3273, -73.8337, 3385,     99.9,  21.7930,  36.7050,2,  36.7110,2,    194.7,2,    209.8,2,     0.90,2,     0.20,2,     0.22,2,     0.04,2,     0.05,2,    2.500,2,   27.920,2, -999.000,9,   2074.4,2,   2401.4,2,    321.7,2,       20,   -999.0,9,  21.7732,20070724,2009
  33RO20070710,GOMECC,    55,  1,   5517,     17,2,20070724,1902, 35.3273, -73.8337, 3385,    100.0,  21.7900,  36.7050,2,-999.0000,9,    194.9,2,    209.9,2,  -999.00,9,  -999.00,9,  -999.00,9,  -999.00,9,     -999,9, -999.000,9, -999.000,9, -999.000,9,   -999.0,9,   -999.0,9,   -999.0,9,     -999,   -999.0,9,  21.7702,20070724,2009
  33RO20070710,GOMECC,    55,  1,   5518,     18,2,20070724,1902, 35.3273, -73.8337, 3385,     75.8,  23.4200,  36.6950,2,  36.7050,2,    203.2,2,    217.4,2,     0.90,2,     0.00,2,     0.00,2,     0.02,2,     0.04,2, -999.000,9, -999.000,9, -999.000,9,   2058.9,2,   2399.8,2,    299.3,2,       20,   -999.0,9,  23.4042,20070724,2010
  33RO20070710,GOMECC,    55,  1,   5519,     19,2,20070724,1902, 35.3273, -73.8337, 3385,     50.9,  25.4380,  36.5460,2,  36.5610,2,    196.2,2,    210.0,2,     0.90,2,     0.00,2,     0.00,2,     0.01,2,     0.05,2,    1.860,2,    9.740,2,    0.200,2,   2048.2,2,   2392.1,2,    294.0,2,       20,   -999.0,9,  25.4268,20070724,2012
  33RO20070710,GOMECC,    55,  1,   5520,     20,2,20070724,1902, 35.3273, -73.8337, 3385,     50.7,  25.4190,  36.5510,2,-999.0000,9,    196.0,2,   -999.0,9,  -999.00,9,  -999.00,9,  -999.00,9,  -999.00,9,     -999,9, -999.000,9, -999.000,9, -999.000,9,   -999.0,9,   -999.0,9,   -999.0,9,     -999,   -999.0,9,  25.4078,20070724,2013
  33RO20070710,GOMECC,    55,  1,   5521,     21,2,20070724,1902, 35.3273, -73.8337, 3385,     24.5,  26.4240,  35.9890,2,  36.0090,4,    191.0,2,    204.2,2,     1.20,2,     0.00,2,     0.00,2,     0.01,2,     0.04,2,    1.820,2,    4.650,2, -999.000,9,   2006.1,2,   2351.4,2,    272.7,2,       20,   -999.0,9,  26.4185,20070724,2015
  33RO20070710,GOMECC,    55,  1,   5522,     22,2,20070724,1902, 35.3273, -73.8337, 3385,     10.1,  26.5740,  35.9580,2,  35.9670,2,    190.4,2,   -999.0,5,     1.20,2,     0.00,2,     0.00,2,     0.01,2,     0.04,2, -999.000,9, -999.000,9, -999.000,9,   2003.0,2,   2348.5,2,    272.8,2,       20,   -999.0,9,  26.5717,20070724,2016
  33RO20070710,GOMECC,    55,  1,   5523,     23,2,20070724,1902, 35.3273, -73.8337, 3385,      4.5,  26.7030,  35.9590,2,  35.9700,2,    190.4,2,    203.3,2,     1.20,2,     0.00,2,     0.00,2,     0.00,2,     0.04,2,    1.950,2,    2.100,2,    0.040,2,   2003.5,6,   2349.0,2,    270.8,2,       20,     66.2,2,  26.7020,20070724,2018
  33RO20070710,GOMECC,    55,  1,   5524,     24,2,20070724,1902, 35.3273, -73.8337, 3385,      4.6,  26.7480,  35.9590,2,-999.0000,9,    190.5,2,   -999.0,9,  -999.00,9,  -999.00,9,  -999.00,9,  -999.00,9,     -999,9, -999.000,9, -999.000,9, -999.000,9,   -999.0,9,   -999.0,9,   -999.0,9,     -999,   -999.0,9,  26.7469,20070724,2018
  33RO20070710,GOMECC,    56,  1,   5601,      1,2,20070724,2255, 35.2067, -73.6978, 3602,   3631.9,   2.1510,  34.8790,2,  34.8890,2,    243.2,2,    266.0,6,    32.60,2,    18.50,2,     0.01,2,     1.41,2,     0.07,2, -999.000,9, -999.000,9, -999.000,9,   -999.0,9,   -999.0,9,   -999.0,9,     -999,   -999.0,9,   1.8532,20070724,2255
  33RO20070710,GOMECC,    56,  1,   5602,      2,2,20070724,2255, 35.2067, -73.6978, 3602,   3042.9,   2.6700,  34.9100,2,  34.9200,2,    247.4,2,    272.8,2,    19.60,2,    16.90,2,     0.00,2,     1.26,2,     0.05,2, -999.000,9, -999.000,9, -999.000,9,   -999.0,9,   -999.0,9,   -999.0,9,     -999,   -999.0,9,   2.4220,20070724,2305
  33RO20070710,GOMECC,    56,  1,   5603,      3,2,20070724,2255, 35.2067, -73.6978, 3602,   2737.9,   3.0260,  34.9260,2,  34.9350,2,    244.9,2,    269.2,2,    17.90,2,    17.20,2,     0.00,2,     1.25,2,     0.25,3, -999.000,9, -999.000,9, -999.000,9,   -999.0,9,   -999.0,9,   -999.0,9,     -999,   -999.0,9,   2.8018,20070724,2312
  33RO20070710,GOMECC,    56,  1,   5604,      4,2,20070724,2255, 35.2067, -73.6978, 3602,   2433.1,   3.3840,  34.9420,2,  34.9520,2,    243.2,2,    267.2,2,    16.20,2,    17.40,2,     0.00,2,     1.24,2,     0.05,2, -999.000,9, -999.000,9, -999.000,9,   -999.0,9,   -999.0,9,   -999.0,9,     -999,   -999.0,9,   3.1837,20070724,2318
  33RO20070710,GOMECC,    56,  1,   5605,      5,2,20070724,2255, 35.2067, -73.6978, 3602,   2127.2,   3.6040,  34.9410,2,  34.9510,2,    244.5,2,    268.0,2,    14.10,2,    17.30,2,     0.00,2,     1.23,2,     0.04,2, -999.000,9, -999.000,9, -999.000,9,   -999.0,9,   -999.0,9,   -999.0,9,     -999,   -999.0,9,   3.4301,20070724,2324
  33RO20070710,GOMECC,    56,  1,   5606,      6,2,20070724,2255, 35.2067, -73.6978, 3602,   1820.5,   3.9890,  34.9750,2,  34.9850,2,    238.8,2,    262.2,2,    13.50,2,    17.60,2,     0.00,2,     1.24,2,     0.04,2, -999.000,9, -999.000,9, -999.000,9,   -999.0,9,   -999.0,9,   -999.0,9,     -999,   -999.0,9,   3.8389,20070724,2330
  33RO20070710,GOMECC,    56,  1,   5607,      7,2,20070724,2255, 35.2067, -73.6978, 3602,   1514.9,   4.3310,  34.9860,2,  34.9960,2,    234.6,2,    254.7,2,    12.60,2,    17.70,2,     0.00,2,     1.28,2,     0.22,3, -999.000,9, -999.000,9, -999.000,9,   -999.0,9,   -999.0,9,   -999.0,9,     -999,   -999.0,9,   4.2056,20070724,2336
  33RO20070710,GOMECC,    56,  1,   5608,      8,2,20070724,2255, 35.2067, -73.6978, 3602,   1212.7,   5.3930,  35.0560,2,  35.0660,2,    210.0,2,    227.0,2,    13.20,2,    19.00,2,     0.00,2,     1.33,2,     0.05,2, -999.000,9, -999.000,9, -999.000,9,   -999.0,9,   -999.0,9,   -999.0,9,     -999,   -999.0,9,   5.2854,20070724,2341
  33RO20070710,GOMECC,    56,  1,   5609,      9,2,20070724,2255, 35.2067, -73.6978, 3602,    908.8,   9.1510,  35.2210,2,  35.2300,2,    139.4,2,    149.8,2,    13.90,2,    22.90,2,     0.00,2,     1.56,2,     0.06,2, -999.000,9, -999.000,9, -999.000,9,   -999.0,9,   -999.0,9,   -999.0,9,     -999,   -999.0,9,   9.0470,20070724,2347
  33RO20070710,GOMECC,    56,  1,   5610,     10,2,20070724,2255, 35.2067, -73.6978, 3602,    837.2,  11.0750,  35.4260,2,  35.4330,2,    139.6,2,    149.7,2,    10.70,2,    20.10,2,     0.00,2,     1.33,2,     0.05,2, -999.000,9, -999.000,9, -999.000,9,   -999.0,9,   -999.0,9,   -999.0,9,     -999,   -999.0,9,  10.9678,20070724,2349
  33RO20070710,GOMECC,    56,  1,   5611,     11,9,20070724,2255, 35.2067, -73.6978, 3602,    837.7,  11.0560,  35.4250,2,-999.0000,9,    139.8,2,   -999.0,9,  -999.00,9,  -999.00,9,  -999.00,9,  -999.00,9,     -999,9, -999.000,9, -999.000,9, -999.000,9,   -999.0,9,   -999.0,9,   -999.0,9,     -999,   -999.0,9,  10.9489,20070724,2350
  33RO20070710,GOMECC,    56,  1,   5612,     12,2,20070724,2255, 35.2067, -73.6978, 3602,    706.2,  13.9870,  35.8340,2,  35.8470,2,    153.7,2,    183.9,2,     6.00,2,    14.10,2,     0.00,2,     0.91,2,     0.05,2, -999.000,9, -999.000,9, -999.000,9,   -999.0,9,   -999.0,9,   -999.0,9,     -999,   -999.0,9,  13.8825,20070724,2354
  33RO20070710,GOMECC,    56,  1,   5613,     13,2,20070724,2255, 35.2067, -73.6978, 3602,    604.8,  16.0390,  36.1770,2,  36.1870,2,    164.3,2,    178.0,2,     3.60,2,     9.90,2,     0.00,2,     0.62,2,     0.09,2, -999.000,9, -999.000,9, -999.000,9,   -999.0,9,   -999.0,9,   -999.0,9,     -999,   -999.0,9,  15.9412,20070724,2356
  33RO20070710,GOMECC,    56,  1,   5614,     14,9,20070724,2255, 35.2067, -73.6978, 3602,    503.9,  17.6740,  36.4850,2,-999.0000,9,    182.7,2,   -999.0,9,  -999.00,9,  -999.00,9,  -999.00,9,  -999.00,9,     -999,9, -999.000,9, -999.000,9, -999.000,9,   -999.0,9,   -999.0,9,   -999.0,9,     -999,   -999.0,9,  17.5871,20070724,2359
  33RO20070710,GOMECC,    56,  1,   5615,     15,2,20070724,2255, 35.2067, -73.6978, 3602,    503.7,  17.6750,  36.4860,2,  36.4850,2,    182.6,2,    195.4,2,     2.10,2,     5.50,2,     0.00,2,     0.33,2,     0.07,2, -999.000,9, -999.000,9, -999.000,9,   -999.0,9,   -999.0,9,   -999.0,9,     -999,   -999.0,9,  17.5881,20070724,2359
  33RO20070710,GOMECC,    56,  1,   5616,     16,2,20070724,2255, 35.2067, -73.6978, 3602,    302.0,  18.3870,  36.5990,2,  36.6050,2,    189.7,2,    203.6,6,     1.50,2,     3.50,2,     0.01,2,     0.19,2,     0.06,2, -999.000,9, -999.000,9, -999.000,9,   -999.0,9,   -999.0,9,   -999.0,9,     -999,   -999.0,9,  18.3337,20070724,0003
  33RO20070710,GOMECC,    56,  1,   5617,     17,2,20070724,2255, 35.2067, -73.6978, 3602,    201.4,  18.9810,  36.6480,2,  36.6540,2,    184.8,2,    198.4,2,     1.30,2,     2.80,2,     0.01,2,     0.14,2,     0.08,2, -999.000,9, -999.000,9, -999.000,9,   -999.0,9,   -999.0,9,   -999.0,9,     -999,   -999.0,9,  18.9447,20070724,0006
  33RO20070710,GOMECC,    56,  1,   5618,     18,2,20070724,2255, 35.2067, -73.6978, 3602,    100.4,  21.6770,  36.7190,2,  36.7250,2,    184.7,2,    201.4,2,     1.00,2,     1.10,2,     0.08,2,     0.07,2,     0.06,2, -999.000,9, -999.000,9, -999.000,9,   -999.0,9,   -999.0,9,   -999.0,9,     -999,   -999.0,9,  21.6572,20070724,0009
  33RO20070710,GOMECC,    56,  1,   5619,     19,2,20070724,2255, 35.2067, -73.6978, 3602,     75.2,  22.6150,  36.6900,2,  36.7020,2,    194.3,2,    203.6,2,     0.90,2,     0.60,2,     0.14,2,     0.04,2,     0.07,2, -999.000,9, -999.000,9, -999.000,9,   -999.0,9,   -999.0,9,   -999.0,9,     -999,   -999.0,9,  22.5997,20070724,0010
  33RO20070710,GOMECC,    56,  1,   5620,     20,2,20070724,2255, 35.2067, -73.6978, 3602,     49.9,  23.7440,  36.7000,2,  36.7090,2,    200.1,2,    216.6,2,     0.90,2,     0.00,2,     0.00,2,     0.01,2,     0.06,2, -999.000,9, -999.000,9, -999.000,9,   -999.0,9,   -999.0,9,   -999.0,9,     -999,   -999.0,9,  23.7335,20070724,0011
  33RO20070710,GOMECC,    56,  1,   5621,     21,2,20070724,2255, 35.2067, -73.6978, 3602,     24.9,  26.2490,  36.1820,2,  36.2000,2,    190.1,2,    209.1,2,     1.20,2,     0.00,2,     0.00,2,     0.01,2,     0.06,2, -999.000,9, -999.000,9, -999.000,9,   -999.0,9,   -999.0,9,   -999.0,9,     -999,   -999.0,9,  26.2434,20070724,0013
  33RO20070710,GOMECC,    56,  1,   5622,     22,2,20070724,2255, 35.2067, -73.6978, 3602,      9.9,  26.3370,  36.1250,2,  36.1480,4,    190.2,2,    206.6,2,     1.20,2,     0.00,2,     0.00,2,     0.00,2,     0.08,2, -999.000,9, -999.000,9, -999.000,9,   -999.0,9,   -999.0,9,   -999.0,9,     -999,   -999.0,9,  26.3348,20070724,0014
  33RO20070710,GOMECC,    56,  1,   5623,     23,2,20070724,2255, 35.2067, -73.6978, 3602,      3.4,  26.3840,  36.0650,2,  36.0590,2,    190.7,2,    208.1,2,     1.20,2,     0.00,2,     0.00,2,     0.00,2,     0.05,2, -999.000,9, -999.000,9, -999.000,9,   -999.0,9,   -999.0,9,   -999.0,9,     -999,     72.0,2,  26.3832,20070724,0016
  33RO20070710,GOMECC,    56,  1,   5624,     24,2,20070724,2255, 35.2067, -73.6978, 3602,      3.5,  26.4340,  36.0560,2,-999.0000,9,    190.4,2,   -999.0,9,  -999.00,9,  -999.00,9,  -999.00,9,  -999.00,9,     -999,9, -999.000,9, -999.000,9, -999.000,9,   -999.0,9,   -999.0,9,   -999.0,9,     -999,   -999.0,9,  26.4332,20070724,0016