BOTTLE,20220922CCHSIOAMB
EXPOCODE,SECT_ID,STNNBR,CASTNO,SAMPNO,BTLNBR,BTLNBR_FLAG_W,DATE,TIME,LATITUDE,LONGITUDE,DEPTH,CTDPRS,CTDSAL,CTDSAL_FLAG_W,SALNTY,SALNTY_FLAG_W,CTDOXY,CTDOXY_FLAG_W,OXYGEN,OXYGEN_FLAG_W,SILCAT,SILCAT_FLAG_W,NITRAT,NITRAT_FLAG_W,NITRIT,NITRIT_FLAG_W,PHSPHT,PHSPHT_FLAG_W,CFC-11,CFC-11_FLAG_W,CFC-12,CFC-12_FLAG_W,TRITUM,TRITUM_FLAG_W,HELIUM,HELIUM_FLAG_W,DELHE3,DELHE3_FLAG_W,NEON,NEON_FLAG_W,NEONER,TRITER,CTDTMP,HELIER,DELHER
,,,,,,,,,,,METERS,DBAR,PSS-78,,PSS-78,,UMOL/KG,,UMOL/KG,,UMOL/KG,,UMOL/KG,,UMOL/KG,,UMOL/KG,,PMOL/KG,,PMOL/KG,,TU,,NMOL/KG,,PERCNT,,NMOL/KG,,NMOL/KG,TU,IPTS-68,NMOL/KG,PERCNT
32OC19880723,       A16N,      97,          1,          1,          1,2,19880818,       1736,    12.4933,   -28.9883,       5496,    15.5,  36.3299,2,  36.3200,2,    202.8,2,   201.2,2,    0.50,2,    0.40,2,    0.00,2,    0.06,2,   1.555,3,   0.802,3,   1.138,2,   1.6918,2,   -1.64,2,-999.000,9,  -7.493,   0.035,    27.7870,   0.0118,    0.18
32OC19880723,       A16N,      97,          1,          2,          2,2,19880818,       1736,    12.4933,   -28.9883,       5496,    40.6,  36.3852,2,  36.3840,2,    226.9,2,   220.1,2,    0.40,2,    0.70,2,    0.00,2,    0.07,2,   1.746,3,   0.890,3,   1.305,2,   1.7043,2,   -1.24,2,-999.000,9,  -7.493,   0.049,    24.1480,   0.0119,    0.18
32OC19880723,       A16N,      97,          1,          3,          3,2,19880818,       1736,    12.4933,   -28.9883,       5496,    70.7,  36.2652,2,  35.9130,3,    142.5,2,    98.8,3,    4.50,2,   18.20,2,    0.24,2,    1.04,2,   1.035,3,   0.506,3,-999.000,9,   1.7401,2,    1.31,2,-999.000,9,  -7.493,-999.000,    17.0700,   0.0122,    0.18
32OC19880723,       A16N,      97,          1,          4,          4,2,19880818,       1736,    12.4933,   -28.9883,       5496,   110.2,  35.5863,2,  35.4430,2,     81.4,2,    96.6,2,    8.10,2,   23.90,2,    0.01,2,    1.43,2,   0.781,3,   0.326,3,   0.759,2,   1.7494,2,    1.96,2,-999.000,9,  -7.493,   0.028,    13.4930,   0.0122,    0.18
32OC19880723,       A16N,      97,          1,          5,          5,2,19880818,       1736,    12.4933,   -28.9883,       5496,   160.3,  35.2418,2,  35.2100,2,    108.5,2,    99.2,2,   10.00,2,   26.40,2,    0.00,2,    1.58,2,   0.582,3,   0.249,3,   0.488,2,   1.7603,2,    1.73,2,-999.000,9,  -7.493,   0.027,    11.9230,   0.0123,    0.18
32OC19880723,       A16N,      97,          1,          6,          6,2,19880818,       1736,    12.4933,   -28.9883,       5496,   210.5,  35.2409,2,  35.1780,2,     89.6,2,    92.6,2,   10.70,2, -999.00,9,    0.00,2,    1.68,2,   0.459,3,   0.203,3,   0.564,2,   1.7709,2,    2.25,2,-999.000,9,  -7.493,   0.041,    11.4180,   0.0124,    0.18
32OC19880723,       A16N,      97,          1,          7,          7,2,19880818,       1736,    12.4933,   -28.9883,       5496,   260.9,  35.1012,2,  35.1270,2,     94.0,2,    77.4,2,   12.00,2,   30.40,2,    0.00,2,    1.80,2,   0.305,3,   0.115,3,   0.432,2,   1.7778,2,    2.57,2,-999.000,9,  -7.493,   0.024,    10.8950,   0.0124,    0.18
32OC19880723,       A16N,      97,          1,          8,          8,2,19880818,       1736,    12.4933,   -28.9883,       5496,   311.1,  35.1155,2,  35.1410,2,     77.2,2,    67.4,2,   12.70,2,   32.10,2,    0.00,2,    1.86,2,   0.238,3,   0.101,3,   0.404,2,   1.7747,2,    2.89,2,-999.000,9,  -7.493,   0.025,    10.6620,   0.0124,    0.18
32OC19880723,       A16N,      97,          1,          9,          9,2,19880818,       1736,    12.4933,   -28.9883,       5496,   411.7,  35.1174,2,  35.1050,2,     55.8,2,    60.9,2,   14.60,2,   33.70,2,    0.00,2,    2.01,2,   0.078,3,   0.049,3,   0.319,2,   1.7780,2,    2.90,2,-999.000,9,  -7.493,   0.037,     9.9590,   0.0124,    0.18
32OC19880723,       A16N,      97,          1,         10,         10,2,19880818,       1736,    12.4933,   -28.9883,       5496,   512.8,  35.0041,2,  35.0010,2,     79.1,2,    78.3,2,   16.90,2,   33.60,2,    0.00,2,    2.03,2,   0.049,3,   0.032,3,   0.187,2,   1.7784,2,    2.20,2,-999.000,9,  -7.493,   0.024,     8.9100,   0.0124,    0.18
32OC19880723,       A16N,      97,          1,         11,         11,2,19880818,       1736,    12.4933,   -28.9883,       5496,   763.8,  34.8288,2,  34.8220,2,     98.9,2,    98.2,2,   23.70,2, -999.00,9,    0.00,2,    2.23,2,  -0.013,4,   0.008,4,   0.029,2,   1.8061,2,    1.01,2,-999.000,9,  -7.493,   0.020,     6.6660,   0.0126,    0.18
32OC19880723,       A16N,      97,          1,         12,         12,2,19880818,       1736,    12.4933,   -28.9883,       5496,  1015.7,  34.8775,2,  34.8760,2,    135.0,2,   136.0,2,   24.60,2,   31.50,2,    0.01,2,    2.05,2,   0.076,3,   0.018,3,   0.043,2,   1.8144,2,    1.03,2,-999.000,9,  -7.493,   0.023,     5.6320,   0.0127,    0.18
32OC19880723,       A16N,      97,          1,         13,         13,2,19880818,       1736,    12.4933,   -28.9883,       5496,  1318.3,  34.9722,2,  34.9710,2,    187.1,2,   188.2,2,   21.60,2,   26.50,2,    0.01,2,    1.68,2,   0.074,3,   0.011,3,   0.032,2,   1.8176,2,    0.84,2,-999.000,9,  -7.493,   0.022,     4.7980,   0.0127,    0.18
32OC19880723,       A16N,      97,          1,         14,         14,2,19880818,       1736,    12.4933,   -28.9883,       5496,  1621.5,  34.9818,2,  34.9810,2,    228.0,2,   229.4,2,   19.30,2,   22.70,2,    0.01,2,    1.41,2,   0.061,3,   0.018,3,   0.028,2,   1.8378,2,    0.89,2,-999.000,9,  -7.493,   0.017,     4.0900,   0.0129,    0.18
32OC19880723,       A16N,      97,          1,         15,         15,2,19880818,       1736,    12.4933,   -28.9883,       5496,  2025.7,  34.9690,2,  34.9670,2,    239.6,2,   241.1,2,   22.60,2,   21.80,2,    0.02,2,    1.36,2,   0.044,3,   0.019,3,-999.000,9,-999.0000,9, -999.00,9,-999.000,9,-999.000,   9.000,     3.5160,-999.0000, -999.00
32OC19880723,       A16N,      97,          1,         16,         16,2,19880818,       1736,    12.4933,   -28.9883,       5496,  2431.1,  34.9520,2,  34.9520,2,    239.0,2,   239.0,2,   30.00,2,   22.50,2,    0.02,2,    1.39,2,   0.051,3,   0.005,3,-999.000,9,-999.0000,9, -999.00,9,-999.000,9,-999.000,-999.000,     3.1050,-999.0000, -999.00
32OC19880723,       A16N,      97,          1,         17,         17,2,19880818,       1736,    12.4933,   -28.9883,       5496,  2837.3,  34.9348,2,  34.9330,2,    247.7,2,   248.1,2,   33.00,2,   21.90,2,    0.02,2,    1.39,2,   0.033,3,   0.008,3,-999.000,9,-999.0000,9, -999.00,9,-999.000,9,-999.000,   9.000,     2.8010,-999.0000, -999.00
32OC19880723,       A16N,      97,          1,         18,         18,2,19880818,       1736,    12.4933,   -28.9883,       5496,  3244.1,  34.9200,2,  34.9180,2,    249.2,2,   249.0,2,   37.20,2,   22.20,2,    0.01,2,    1.38,2,  -0.020,3,   0.020,3,-999.000,9,-999.0000,9, -999.00,9,-999.000,9,-999.000,-999.000,     2.6020,-999.0000, -999.00
32OC19880723,       A16N,      97,          1,         19,         19,2,19880818,       1736,    12.4933,   -28.9883,       5496,  3652.2,  34.9063,2,  34.9040,2,    248.1,2,   247.7,2,   41.20,2,   22.80,2,    0.01,2,    1.43,2,-999.000,9,-999.000,9,-999.000,9,-999.0000,9, -999.00,9,-999.000,9,-999.000,   9.000,     2.4720,-999.0000, -999.00
32OC19880723,       A16N,      97,          1,         20,         20,2,19880818,       1736,    12.4933,   -28.9883,       5496,  4060.2,  34.8947,2,  34.8930,2,    245.9,2,   245.5,2,   44.80,2,   23.10,2,    0.01,2,    1.47,2,-999.000,9,-999.000,9,-999.000,9,-999.0000,9, -999.00,9,-999.000,9,-999.000,-999.000,     2.3830,-999.0000, -999.00
32OC19880723,       A16N,      97,          1,         21,         21,2,19880818,       1736,    12.4933,   -28.9883,       5496,  4469.6,  34.8831,2,  34.8810,2,    241.6,2,   241.1,2,   49.40,2,   23.70,2,    0.01,2,    1.48,2,-999.000,9,-999.000,9,-999.000,9,-999.0000,9, -999.00,9,-999.000,9,-999.000,   9.000,     2.3240,-999.0000, -999.00
32OC19880723,       A16N,      97,          1,         22,         22,2,19880818,       1736,    12.4933,   -28.9883,       5496,  4879.3,  34.8761,2,  34.8770,2,    244.2,2,   245.0,2,   49.90,2,   23.40,2,    0.02,2,    1.48,2,-999.000,9,-999.000,9,-999.000,9,-999.0000,9, -999.00,9,-999.000,9,-999.000,-999.000,     2.2970,-999.0000, -999.00
32OC19880723,       A16N,      97,          1,         23,         23,2,19880818,       1736,    12.4933,   -28.9883,       5496,  5289.3,  34.8705,2,  34.8700,2,    246.8,2,   247.2,2,   50.10,2,   23.40,2,    0.01,2,    1.48,2,-999.000,9,-999.000,9,-999.000,9,-999.0000,9, -999.00,9,-999.000,9,-999.000,   9.000,     2.2950,-999.0000, -999.00
32OC19880723,       A16N,      97,          1,         24,         24,2,19880818,       1736,    12.4933,   -28.9883,       5496,  5605.6,  34.8689,2,  34.8690,2,    246.6,2,   246.8,2,   51.10,2,   23.40,2,    0.03,2,    1.48,2,   0.003,3,   0.027,3,-999.000,9,-999.0000,9, -999.00,9,-999.000,9,-999.000,-999.000,     2.3200,-999.0000, -999.00
32OC19880723,       A16N,      97,          1,         99,     -999.0,9,19880818,       1736,    12.4933,   -28.9883,       5496,  5607.1,  34.8689,2,-999.0000,9,    246.5,2,  -999.0,9, -999.00,9, -999.00,9, -999.00,9, -999.00,9,-999.000,9,-999.000,9,-999.000,9,-999.0000,9, -999.00,9,-999.000,9,-999.000,   9.000,     2.3210,-999.0000, -999.00
32OC19880723,       A16N,      98,          1,          1,          1,2,19880818,       2336,    11.7600,   -28.9850,       5729,    13.6,  36.1911,2,  36.1890,2,    226.7,2,   204.2,2,    0.30,2,    0.00,2,    0.02,2,    0.05,2,-999.000,9,-999.000,9,-999.000,9,-999.0000,9, -999.00,9,-999.000,9,-999.000,-999.000,    27.7490,-999.0000, -999.00
32OC19880723,       A16N,      98,          1,          2,          2,2,19880818,       2336,    11.7600,   -28.9850,       5729,    38.4,  36.1239,2,  36.1470,2,    219.7,2,   218.9,2,    0.80,2,    0.00,2,    0.01,2,    0.07,2,-999.000,9,-999.000,9,-999.000,9,-999.0000,9, -999.00,9,-999.000,9,-999.000,   9.000,    24.7730,-999.0000, -999.00
32OC19880723,       A16N,      98,          1,          3,          3,2,19880818,       2336,    11.7600,   -28.9850,       5729,    67.7,  35.7961,2,  35.8320,2,    129.7,2,   124.5,2,    2.90,2,    9.40,2,    0.60,2,    0.69,2,-999.000,9,-999.000,9,-999.000,9,-999.0000,9, -999.00,9,-999.000,9,-999.000,-999.000,    18.5770,-999.0000, -999.00
32OC19880723,       A16N,      98,          1,          4,          4,2,19880818,       2336,    11.7600,   -28.9850,       5729,   107.1,  35.4172,2,  35.3970,2,     84.2,2,    86.6,2,    8.20,2,   24.30,2,    0.05,2,    1.54,2,-999.000,9,-999.000,9,-999.000,9,-999.0000,9, -999.00,9,-999.000,9,-999.000,   9.000,    13.5180,-999.0000, -999.00
32OC19880723,       A16N,      98,          1,          5,          5,2,19880818,       2336,    11.7600,   -28.9850,       5729,   156.7,  35.2548,2,  35.2380,2,     92.5,2,    93.5,2,    9.40,2,   25.40,2,    0.02,2,    1.70,2,-999.000,9,-999.000,9,-999.000,9,-999.0000,9, -999.00,9,-999.000,9,-999.000,-999.000,    12.2960,-999.0000, -999.00
32OC19880723,       A16N,      98,          1,          6,          6,2,19880818,       2336,    11.7600,   -28.9850,       5729,   205.9,  35.1924,2,  35.1790,2,     93.8,2,    93.1,2,   10.40,2,   26.60,2,    0.02,2,    1.71,2,-999.000,9,-999.000,9,-999.000,9,-999.0000,9, -999.00,9,-999.000,9,-999.000,   9.000,    11.7120,-999.0000, -999.00
32OC19880723,       A16N,      98,          1,          7,          7,2,19880818,       2336,    11.7600,   -28.9850,       5729,   255.3,  35.2211,2,  35.1930,2,     81.7,2,    79.2,2,   11.30,2,   28.50,2,    0.01,2,    1.82,2,-999.000,9,-999.000,9,-999.000,9,-999.0000,9, -999.00,9,-999.000,9,-999.000,-999.000,    11.4530,-999.0000, -999.00
32OC19880723,       A16N,      98,          1,          8,          8,2,19880818,       2336,    11.7600,   -28.9850,       5729,   304.3,  35.1984,2,  35.1970,2,     72.3,2,    70.9,2,   11.90,2,   30.00,2,    0.01,2,    1.91,2,-999.000,9,-999.000,9,-999.000,9,-999.0000,9, -999.00,9,-999.000,9,-999.000,   9.000,    11.1540,-999.0000, -999.00
32OC19880723,       A16N,      98,          1,          9,          9,2,19880818,       2336,    11.7600,   -28.9850,       5729,   403.1,  35.1601,2,  35.1310,2,     61.1,2,    58.7,2,   14.30,2,   33.30,2,    0.01,2,    2.09,2,-999.000,9,-999.000,9,-999.000,9,-999.0000,9, -999.00,9,-999.000,9,-999.000,-999.000,    10.1710,-999.0000, -999.00
32OC19880723,       A16N,      98,          1,         10,         10,2,19880818,       2336,    11.7600,   -28.9850,       5729,   502.6,  35.0742,2,  35.0660,2,     59.3,2,    57.4,2,   16.60,2,   35.10,2,    0.01,2,    2.18,2,-999.000,9,-999.000,9,-999.000,9,-999.0000,9, -999.00,9,-999.000,9,-999.000,   9.000,     9.3170,-999.0000, -999.00
32OC19880723,       A16N,      98,          1,         11,         11,2,19880818,       2336,    11.7600,   -28.9850,       5729,   752.3,  34.8254,2,  34.8130,2,     82.5,2,    92.2,2,   23.20,2,   36.00,2,    0.01,2,    2.35,2,-999.000,9,-999.000,9,-999.000,9,-999.0000,9, -999.00,9,-999.000,9,-999.000,-999.000,     6.6640,-999.0000, -999.00
32OC19880723,       A16N,      98,          1,         12,         12,2,19880818,       2336,    11.7600,   -28.9850,       5729,   997.4,  34.7985,2,  34.8120,2,    122.9,2,   131.3,2,   26.00,2,   33.00,2,    0.01,2,    2.22,2,-999.000,9,-999.000,9,-999.000,9,-999.0000,9, -999.00,9,-999.000,9,-999.000,   9.000,     5.4480,-999.0000, -999.00
32OC19880723,       A16N,      98,          1,         13,         13,2,19880818,       2336,    11.7600,   -28.9850,       5729,  1296.6,  34.9522,2,  34.9550,2,    172.8,2,   179.0,2,   22.60,2,   27.50,2,    0.01,2,    1.81,2,-999.000,9,-999.000,9,-999.000,9,-999.0000,9, -999.00,9,-999.000,9,-999.000,-999.000,     4.8820,-999.0000, -999.00
32OC19880723,       A16N,      98,          1,         14,         14,2,19880818,       2336,    11.7600,   -28.9850,       5729,  1595.5,  34.9793,2,  34.9760,2,    222.8,2,   226.4,2,   19.50,2,   22.70,2,    0.01,2,    1.50,2,-999.000,9,-999.000,9,-999.000,9,-999.0000,9, -999.00,9,-999.000,9,-999.000,   9.000,     4.1140,-999.0000, -999.00
32OC19880723,       A16N,      98,          1,         15,         15,2,19880818,       2336,    11.7600,   -28.9850,       5729,  2047.1,  34.9647,2,  34.9650,2,    243.4,2,   245.5,2,   21.50,2,   21.30,2,    0.01,2,    1.38,2,-999.000,9,-999.000,9,-999.000,9,-999.0000,9, -999.00,9,-999.000,9,-999.000,-999.000,     3.4910,-999.0000, -999.00
32OC19880723,       A16N,      98,          1,         16,         16,2,19880818,       2336,    11.7600,   -28.9850,       5729,  2494.2,  34.9469,2,  34.9480,2,    242.9,2,   242.9,2,   28.60,2,   21.60,2,    0.01,2,    1.45,2,-999.000,9,-999.000,9,-999.000,9,-999.0000,9, -999.00,9,-999.000,9,-999.000,   9.000,     3.0800,-999.0000, -999.00
32OC19880723,       A16N,      98,          1,         17,         17,2,19880818,       2336,    11.7600,   -28.9850,       5729,  2938.1,  34.9282,2,  34.9280,2,    249.3,2,   249.0,2,   33.20,2,   21.60,2,    0.01,2,    1.42,2,-999.000,9,-999.000,9,-999.000,9,-999.0000,9, -999.00,9,-999.000,9,-999.000,-999.000,     2.7450,-999.0000, -999.00
32OC19880723,       A16N,      98,          1,         18,         18,2,19880818,       2336,    11.7600,   -28.9850,       5729,  3391.4,  34.9120,2,  34.9100,2,    251.1,2,   250.3,2,   37.90,2,   21.90,2,    0.02,2,    1.44,2,-999.000,9,-999.000,9,-999.000,9,-999.0000,9, -999.00,9,-999.000,9,-999.000,   9.000,     2.5380,-999.0000, -999.00
32OC19880723,       A16N,      98,          1,         19,         19,2,19880818,       2336,    11.7600,   -28.9850,       5729,  3836.4,  34.8996,2,  34.8980,2,    249.0,2,   249.0,2,   41.80,2,   22.50,2,    0.02,2,    1.46,2,-999.000,9,-999.000,9,-999.000,9,-999.0000,9, -999.00,9,-999.000,9,-999.000,-999.000,     2.4260,-999.0000, -999.00
32OC19880723,       A16N,      98,          1,         20,         20,2,19880818,       2336,    11.7600,   -28.9850,       5729,  4286.9,  34.8874,2,  34.8880,2,    246.9,2,   245.5,2,   45.80,2,   23.10,2,    0.02,2,    1.50,2,-999.000,9,-999.000,9,-999.000,9,-999.0000,9, -999.00,9,-999.000,9,-999.000,   9.000,     2.3480,-999.0000, -999.00
32OC19880723,       A16N,      98,          1,         21,         21,2,19880818,       2336,    11.7600,   -28.9850,       5729,  4743.3,  34.8780,2,  34.8790,2,    245.8,2,   245.5,2,   49.10,2,   23.40,2,    0.02,2,    1.52,2,-999.000,9,-999.000,9,-999.000,9,-999.0000,9, -999.00,9,-999.000,9,-999.000,-999.000,     2.3010,-999.0000, -999.00
32OC19880723,       A16N,      98,          1,         22,         22,2,19880818,       2336,    11.7600,   -28.9850,       5729,  5201.3,  34.8711,2,  34.8710,2,    248.5,2,   248.5,2,   50.00,2,   23.40,2,    0.01,2,    1.51,2,-999.000,9,-999.000,9,-999.000,9,-999.0000,9, -999.00,9,-999.000,9,-999.000,   9.000,     2.2860,-999.0000, -999.00
32OC19880723,       A16N,      98,          1,         23,         23,2,19880818,       2336,    11.7600,   -28.9850,       5729,  5607.7,  34.8687,2,  34.8670,2,    249.4,2,   249.4,2,   50.40,2,   23.30,2,    0.01,2,    1.52,2,-999.000,9,-999.000,9,-999.000,9,-999.0000,9, -999.00,9,-999.000,9,-999.000,-999.000,     2.3140,-999.0000, -999.00
32OC19880723,       A16N,      98,          1,         24,         24,2,19880818,       2336,    11.7600,   -28.9850,       5729,  5833.5,  34.8684,2,  34.8670,2,    248.7,2,   249.8,2,   50.60,2,   23.30,2,    0.03,2,    1.51,2,-999.000,9,-999.000,9,-999.000,9,-999.0000,9, -999.00,9,-999.000,9,-999.000,   9.000,     2.3380,-999.0000, -999.00
32OC19880723,       A16N,      98,          1,         99,     -999.0,9,19880818,       2336,    11.7600,   -28.9850,       5729,  5834.9,  34.8684,2,-999.0000,9,    248.7,2,  -999.0,9, -999.00,9, -999.00,9, -999.00,9, -999.00,9,-999.000,9,-999.000,9,-999.000,9,-999.0000,9, -999.00,9,-999.000,9,-999.000,-999.000,     2.3390,-999.0000, -999.00