BOTTLE,20220922CCHSIOAMB
EXPOCODE,SECT_ID,STNNBR,CASTNO,SAMPNO,BTLNBR,BTLNBR_FLAG_W,DATE,TIME,LATITUDE,LONGITUDE,DEPTH,CTDPRS,CTDSAL,CTDSAL_FLAG_W,SALNTY,SALNTY_FLAG_W,CTDOXY,CTDOXY_FLAG_W,OXYGEN,OXYGEN_FLAG_W,SILCAT,SILCAT_FLAG_W,NITRAT,NITRAT_FLAG_W,NITRIT,NITRIT_FLAG_W,PHSPHT,PHSPHT_FLAG_W,CFC-11,CFC-11_FLAG_W,CFC-12,CFC-12_FLAG_W,TRITUM,TRITUM_FLAG_W,HELIUM,HELIUM_FLAG_W,DELHE3,DELHE3_FLAG_W,NEON,NEON_FLAG_W,NEONER,TRITER,CTDTMP,HELIER,DELHER
,,,,,,,,,,,METERS,DBAR,PSS-78,,PSS-78,,UMOL/KG,,UMOL/KG,,UMOL/KG,,UMOL/KG,,UMOL/KG,,UMOL/KG,,PMOL/KG,,PMOL/KG,,TU,,NMOL/KG,,PERCNT,,NMOL/KG,,NMOL/KG,TU,IPTS-68,NMOL/KG,PERCNT
32OC19880723,       A16N,      20,          1,          4,          4,2,19880727,       0923,    55.4883,   -20.0100,       1251,     3.2,  35.3677,2,  35.3660,2,    266.9,2,   265.8,2,    0.30,2,    4.10,2,    0.10,2,    0.31,2,   3.241,2,   1.510,2,   2.869,2,   1.7662,2,   -1.28,2,   7.356,2,   0.055,   0.055,    12.5270,   0.0124,    0.18
32OC19880723,       A16N,      20,          1,          5,          5,2,19880727,       0923,    55.4883,   -20.0100,       1251,    33.0,  35.3684,2,  35.3640,2,    265.8,2,   265.8,2,    0.30,2,    4.10,2,    0.10,2,    0.34,2,   3.224,2,   1.516,2,-999.000,9,-999.0000,9, -999.00,9,-999.000,9,-999.000,   9.000,    12.5230,-999.0000, -999.00
32OC19880723,       A16N,      20,          1,          6,          6,2,19880727,       0923,    55.4883,   -20.0100,       1251,    62.7,  35.3800,2,  35.3790,2,    260.7,2,   259.6,2,    1.40,2,    7.70,2,    0.34,2,    0.53,2,   3.306,6,   1.546,6,-999.000,9,-999.0000,9, -999.00,9,-999.000,9,-999.000,-999.000,    11.3410,-999.0000, -999.00
32OC19880723,       A16N,      20,          1,          7,          7,2,19880727,       0923,    55.4883,   -20.0100,       1251,   102.7,  35.3856,2,  35.3920,2,    253.8,2,   251.3,2,    4.70,2,   12.10,2,    0.01,2,    0.72,2,   3.102,2,   1.447,2,   2.640,2,   1.7860,2,   -0.19,2,   7.539,2,   0.057,   0.053,    10.3830,   0.0125,    0.18
32OC19880723,       A16N,      20,          1,          8,          8,2,19880727,       0923,    55.4883,   -20.0100,       1251,   153.0,  35.3622,2,  35.3510,2,    254.4,2,   253.5,2,    5.30,2,   12.50,2,    0.00,2,    0.73,2,   3.067,2,   1.439,2,-999.000,9,-999.0000,9, -999.00,9,-999.000,9,-999.000,   9.000,    10.0250,-999.0000, -999.00
32OC19880723,       A16N,      20,          1,          9,          9,2,19880727,       0923,    55.4883,   -20.0100,       1251,   203.1,  35.3356,2,  35.3320,2,    252.7,2,   255.6,2,    5.60,2,   12.70,2,    0.00,2,    0.79,2,   3.101,2,   1.455,2,-999.000,9,-999.0000,9, -999.00,9,-999.000,9,-999.000,-999.000,     9.7840,-999.0000, -999.00
32OC19880723,       A16N,      20,          1,         10,         10,2,19880727,       0923,    55.4883,   -20.0100,       1251,   250.9,  35.3049,2,  35.2950,2,    257.2,2,   255.2,2,    6.10,2,   12.90,2,    0.00,2,    0.77,2,   3.076,2,   1.462,2,   2.732,2,   1.8070,2,    0.21,2,   7.607,2,   0.057,   0.054,     9.5460,   0.0126,    0.18
32OC19880723,       A16N,      20,          1,         11,         11,2,19880727,       0923,    55.4883,   -20.0100,       1251,   300.1,  35.2921,2,  35.2910,2,    255.6,2,   254.3,2,    6.10,2,   13.00,2,    0.00,2,    0.77,2,   3.063,2,   1.394,2,-999.000,9,-999.0000,9, -999.00,9,-999.000,9,-999.000,   9.000,     9.4550,-999.0000, -999.00
32OC19880723,       A16N,      20,          1,         12,         12,2,19880727,       0923,    55.4883,   -20.0100,       1251,   300.1,  35.2921,2,  35.2890,2,    255.6,2,   254.8,2,    6.10,2,   13.00,2,    0.00,2,    0.77,2,   3.009,2,   1.423,2,-999.000,9,-999.0000,9, -999.00,9,-999.000,9,-999.000,-999.000,     9.4550,-999.0000, -999.00
32OC19880723,       A16N,      20,          1,         13,         13,2,19880727,       0923,    55.4883,   -20.0100,       1251,   401.3,  35.2650,2,  35.2550,2,    247.4,2,   246.9,2,    6.80,2,   14.00,2,    0.00,2,    0.82,2,   2.829,4,   1.317,4,   2.627,2,   1.8085,2,    1.73,2,   7.641,2,   0.057,   0.053,     9.1000,   0.0127,    0.18
32OC19880723,       A16N,      20,          1,         14,         14,2,19880727,       0923,    55.4883,   -20.0100,       1251,   502.4,  35.2925,2,  35.2950,2,    238.3,2,   240.0,2,    7.30,2,   14.40,2,    0.00,2,    0.88,2,   2.655,2,   1.188,2,-999.000,9,-999.0000,9, -999.00,9,-999.000,9,-999.000,   9.000,     9.0050,-999.0000, -999.00
32OC19880723,       A16N,      20,          1,         15,         15,2,19880727,       0923,    55.4883,   -20.0100,       1251,   502.4,  35.2925,2,  35.2950,2,    238.3,2,   240.0,2,    7.30,2,   14.60,2,    0.00,2,    0.90,2,   2.629,2,   1.186,2,   2.527,2,   1.7977,2,    2.89,2,   7.606,2,   0.057,   0.052,     9.0050,   0.0126,    0.18
32OC19880723,       A16N,      20,          1,         16,         16,2,19880727,       0923,    55.4883,   -20.0100,       1251,   703.8,  35.1912,2,  35.2090,2,    218.8,2,   222.1,2,   10.00,2,   17.80,2,    0.00,2,    1.05,2,   1.986,2,   0.841,2,-999.000,9,-999.0000,9, -999.00,9,-999.000,9,-999.000,-999.000,     7.7410,-999.0000, -999.00
32OC19880723,       A16N,      20,          1,         17,         17,2,19880727,       0923,    55.4883,   -20.0100,       1251,   731.2,  35.1340,2,  35.1560,2,    216.8,2,   214.3,2,   10.70,2,   18.10,2,    0.01,2,    1.08,2,   1.750,4,   0.720,4,-999.000,9,-999.0000,9, -999.00,9,-999.000,9,-999.000,   9.000,     7.3400,-999.0000, -999.00
32OC19880723,       A16N,      20,          1,         18,         18,2,19880727,       0923,    55.4883,   -20.0100,       1251,   795.3,  35.1833,2,  35.1770,2,    212.7,2,   214.3,2,   11.30,2,   18.60,2,    0.01,2,    1.09,2,   1.607,2,   0.755,2,   2.024,2,   1.8165,2,    7.43,2,   7.746,2,   0.058,   0.049,     7.1230,   0.0127,    0.18
32OC19880723,       A16N,      20,          1,         19,         19,2,19880727,       0923,    55.4883,   -20.0100,       1251,   795.3,  35.1833,2,  35.1780,2,    212.7,2,   214.3,2,   11.20,2,   18.50,2,    0.00,2,    1.09,2,   1.724,4,   0.644,4,-999.000,9,-999.0000,9, -999.00,9,-999.000,9,-999.000,-999.000,     7.1230,-999.0000, -999.00
32OC19880723,       A16N,      20,          1,         20,         20,2,19880727,       0923,    55.4883,   -20.0100,       1251,   897.7,  35.1380,2,  35.1520,2,    222.1,2,   219.5,2,   11.80,2,   18.50,2,    0.00,2,    1.10,2,   1.389,2,   0.590,2,-999.000,9,-999.0000,9, -999.00,9,-999.000,9,-999.000,   9.000,     6.4330,-999.0000, -999.00
32OC19880723,       A16N,      20,          1,         21,         21,2,19880727,       0923,    55.4883,   -20.0100,       1251,  1001.3,  35.0587,2,  35.0600,2,    235.4,2,   234.2,2,   11.80,2,   18.60,2,    0.00,2,    1.09,2,   1.597,2,   0.662,2,   2.013,2,   1.8425,2,    7.93,2,   7.899,2,   0.059,   0.050,     5.5550,   0.0129,    0.18
32OC19880723,       A16N,      20,          1,         22,         22,2,19880727,       0923,    55.4883,   -20.0100,       1251,  1101.3,  35.0310,2,  35.0270,2,    241.6,2,   241.6,2,   11.80,2,   18.10,2,    0.01,2,    1.09,2,   1.470,6,   0.741,6,-999.000,9,-999.0000,9, -999.00,9,-999.000,9,-999.000,-999.000,     5.1460,-999.0000, -999.00
32OC19880723,       A16N,      20,          1,         23,         23,2,19880727,       0923,    55.4883,   -20.0100,       1251,  1197.2,  35.0070,2,  35.0060,2,    248.8,2,   249.9,2,   11.80,2,   18.10,2,    0.01,2,    1.06,2,   1.505,4,   0.628,4,   1.966,2,   1.8241,2,    7.88,2,   6.530,4,   0.049,   0.049,     4.8180,   0.0128,    0.18
32OC19880723,       A16N,      20,          1,         24,         24,2,19880727,       0923,    55.4883,   -20.0100,       1251,  1197.2,  35.0070,2,  35.0070,2,    248.8,2,   249.4,2,   11.80,2,   17.80,2,    0.01,2,    1.07,2,   1.451,2,   0.610,2,-999.000,9,-999.0000,9, -999.00,9,-999.000,9,-999.000,   9.000,     4.8180,-999.0000, -999.00
32OC19880723,       A16N,      20,          1,         99,     -999.0,9,19880727,       0923,    55.4883,   -20.0100,       1251,  1257.4,  34.9723,2,-999.0000,9,    259.3,2,  -999.0,9, -999.00,9, -999.00,9, -999.00,9, -999.00,9,-999.000,9,-999.000,9,-999.000,9,-999.0000,9, -999.00,9,-999.000,9,-999.000,-999.000,     4.3770,-999.0000, -999.00
32OC19880723,       A16N,      21,          1,          2,          2,2,19880727,       1406,    54.9850,   -19.9967,       1670,    10.2,  35.3521,2,  35.3490,2,    258.9,2,   265.8,2,    0.10,2,    3.60,2,    0.00,2,    0.33,2,-999.000,9,-999.000,9,-999.000,9,-999.0000,9, -999.00,9,-999.000,9,-999.000,   9.000,    12.7640,-999.0000, -999.00
32OC19880723,       A16N,      21,          1,          3,          3,2,19880727,       1406,    54.9850,   -19.9967,       1670,    64.8,  35.3577,2,  35.3620,2,    258.5,2,   258.7,2,    0.90,2,    7.20,2,    0.00,2,    0.57,2,-999.000,9,-999.000,9,-999.000,9,-999.0000,9, -999.00,9,-999.000,9,-999.000,-999.000,    11.4190,-999.0000, -999.00
32OC19880723,       A16N,      21,          1,          4,          4,2,19880727,       1406,    54.9850,   -19.9967,       1670,   104.3,  35.3686,2,  35.3640,2,    245.4,2,   251.7,2,    4.20,2,   12.40,2,    0.00,2,    0.77,2,-999.000,9,-999.000,9,-999.000,9,-999.0000,9, -999.00,9,-999.000,9,-999.000,   9.000,    10.2340,-999.0000, -999.00
32OC19880723,       A16N,      21,          1,          5,          5,2,19880727,       1406,    54.9850,   -19.9967,       1670,   104.3,  35.3686,2,  35.3640,2,    245.4,2,   251.7,2,    4.20,2,   12.20,2,    0.00,2,    0.77,2,-999.000,9,-999.000,9,-999.000,9,-999.0000,9, -999.00,9,-999.000,9,-999.000,-999.000,    10.2340,-999.0000, -999.00
32OC19880723,       A16N,      21,          1,          6,          6,2,19880727,       1406,    54.9850,   -19.9967,       1670,   205.4,  35.3363,2,  35.3330,2,    255.2,2,   255.2,2,    5.20,2,   12.70,2,    0.00,2,    0.78,2,-999.000,9,-999.000,9,-999.000,9,-999.0000,9, -999.00,9,-999.000,9,-999.000,   9.000,     9.8030,-999.0000, -999.00
32OC19880723,       A16N,      21,          1,          7,          7,2,19880727,       1406,    54.9850,   -19.9967,       1670,   255.2,  35.3010,2,  35.3030,2,    258.2,2,   257.8,2,    5.50,2,   12.90,2,    0.00,2,    0.79,2,-999.000,9,-999.000,9,-999.000,9,-999.0000,9, -999.00,9,-999.000,9,-999.000,-999.000,     9.5910,-999.0000, -999.00
32OC19880723,       A16N,      21,          1,          8,          8,2,19880727,       1406,    54.9850,   -19.9967,       1670,   255.2,  35.3010,2,  35.3030,2,    258.2,2,   257.8,2,    5.50,2,   13.00,2,    0.00,2,    0.78,2,-999.000,9,-999.000,9,-999.000,9,-999.0000,9, -999.00,9,-999.000,9,-999.000,   9.000,     9.5910,-999.0000, -999.00
32OC19880723,       A16N,      21,          1,          9,          9,2,19880727,       1406,    54.9850,   -19.9967,       1670,   355.2,  35.2557,2,  35.2600,2,    262.6,2,   261.7,2,    5.70,2,   13.10,2,    0.00,2,    0.83,2,-999.000,9,-999.000,9,-999.000,9,-999.0000,9, -999.00,9,-999.000,9,-999.000,-999.000,     9.2470,-999.0000, -999.00
32OC19880723,       A16N,      21,          1,         10,         10,2,19880727,       1406,    54.9850,   -19.9967,       1670,   355.2,  35.2557,2,  35.2570,2,    262.6,2,   261.7,2,    5.70,2,   13.10,2,    0.00,2,    0.80,2,-999.000,9,-999.000,9,-999.000,9,-999.0000,9, -999.00,9,-999.000,9,-999.000,   9.000,     9.2470,-999.0000, -999.00
32OC19880723,       A16N,      21,          1,         11,         11,2,19880727,       1406,    54.9850,   -19.9967,       1670,   453.4,  35.2334,2,  35.2480,2,    253.1,2,   252.1,2,    6.30,2,   14.00,2,    0.00,2,    0.81,2,-999.000,9,-999.000,9,-999.000,9,-999.0000,9, -999.00,9,-999.000,9,-999.000,-999.000,     9.0440,-999.0000, -999.00
32OC19880723,       A16N,      21,          1,         12,         12,2,19880727,       1406,    54.9850,   -19.9967,       1670,   453.4,  35.2334,2,  35.2480,2,    253.1,2,   252.1,2,    6.30,2,   14.00,2,    0.00,2,    0.83,2,-999.000,9,-999.000,9,-999.000,9,-999.0000,9, -999.00,9,-999.000,9,-999.000,   9.000,     9.0440,-999.0000, -999.00
32OC19880723,       A16N,      21,          1,         13,         13,2,19880727,       1406,    54.9850,   -19.9967,       1670,   603.5,  35.1509,2,  35.1890,2,    220.5,2,   219.1,2,    9.30,2,   17.50,2,    0.00,2,    1.03,2,-999.000,9,-999.000,9,-999.000,9,-999.0000,9, -999.00,9,-999.000,9,-999.000,-999.000,     8.0780,-999.0000, -999.00
32OC19880723,       A16N,      21,          1,         14,         14,2,19880727,       1406,    54.9850,   -19.9967,       1670,   704.0,  35.1299,2,  35.1290,2,    212.0,2,   211.7,2,   10.80,2,   19.10,2,    0.00,2,    1.13,2,-999.000,9,-999.000,9,-999.000,9,-999.0000,9, -999.00,9,-999.000,9,-999.000,   9.000,     7.1300,-999.0000, -999.00
32OC19880723,       A16N,      21,          1,         15,         15,2,19880727,       1406,    54.9850,   -19.9967,       1670,   704.0,  35.1299,2,  35.1300,2,    212.0,2,   211.7,2,   10.80,2,   19.20,2,    0.00,2,    1.13,2,-999.000,9,-999.000,9,-999.000,9,-999.0000,9, -999.00,9,-999.000,9,-999.000,-999.000,     7.1300,-999.0000, -999.00
32OC19880723,       A16N,      21,          1,         16,         16,2,19880727,       1406,    54.9850,   -19.9967,       1670,   904.8,  35.1032,2,  35.1100,2,    227.5,2,   225.5,2,   11.50,2,   19.10,2,    0.00,2,    1.16,2,-999.000,9,-999.000,9,-999.000,9,-999.0000,9, -999.00,9,-999.000,9,-999.000,   9.000,     5.9980,-999.0000, -999.00
32OC19880723,       A16N,      21,          1,         17,         17,2,19880727,       1406,    54.9850,   -19.9967,       1670,   904.8,  35.1032,2,  35.1100,2,    227.5,2,   226.0,2,   11.50,2,   19.00,2,    0.00,2,    1.15,2,-999.000,9,-999.000,9,-999.000,9,-999.0000,9, -999.00,9,-999.000,9,-999.000,-999.000,     5.9980,-999.0000, -999.00
32OC19880723,       A16N,      21,          1,         18,         18,2,19880727,       1406,    54.9850,   -19.9967,       1670,  1005.0,  35.0261,2,  35.0290,2,    240.1,2,   239.9,2,   11.30,2,   18.90,2,    0.00,2,    1.16,2,-999.000,9,-999.000,9,-999.000,9,-999.0000,9, -999.00,9,-999.000,9,-999.000,   9.000,     5.1690,-999.0000, -999.00
32OC19880723,       A16N,      21,          1,         19,         19,2,19880727,       1406,    54.9850,   -19.9967,       1670,  1105.5,  34.9917,2,  34.9940,2,    253.0,2,   252.5,2,   11.20,2,   18.40,2,    0.00,2,    1.11,2,-999.000,9,-999.000,9,-999.000,9,-999.0000,9, -999.00,9,-999.000,9,-999.000,-999.000,     4.6700,-999.0000, -999.00
32OC19880723,       A16N,      21,          1,         20,         20,2,19880727,       1406,    54.9850,   -19.9967,       1670,  1306.7,  34.9504,2,  34.9520,2,    263.2,2,   263.8,2,   11.00,2,   18.10,2,    0.00,2,    1.11,2,-999.000,9,-999.000,9,-999.000,9,-999.0000,9, -999.00,9,-999.000,9,-999.000,   9.000,     4.2030,-999.0000, -999.00
32OC19880723,       A16N,      21,          1,         21,         21,2,19880727,       1406,    54.9850,   -19.9967,       1670,  1407.8,  34.9385,2,  34.9380,2,    267.4,2,   269.0,2,   11.20,2,   17.90,2,    0.00,2,    1.10,2,-999.000,9,-999.000,9,-999.000,9,-999.0000,9, -999.00,9,-999.000,9,-999.000,-999.000,     3.9880,-999.0000, -999.00
32OC19880723,       A16N,      21,          1,         22,         22,2,19880727,       1406,    54.9850,   -19.9967,       1670,  1507.5,  34.9305,2,  34.9340,2,    269.0,2,   270.3,2,   11.50,2,   17.90,2,    0.00,2,    1.09,2,-999.000,9,-999.000,9,-999.000,9,-999.0000,9, -999.00,9,-999.000,9,-999.000,   9.000,     3.9110,-999.0000, -999.00
32OC19880723,       A16N,      21,          1,         23,         23,2,19880727,       1406,    54.9850,   -19.9967,       1670,  1507.5,  34.9305,2,  34.9330,2,    269.0,2,   270.3,2,   11.50,2,   17.80,2,    0.00,2,    1.10,2,-999.000,9,-999.000,9,-999.000,9,-999.0000,9, -999.00,9,-999.000,9,-999.000,-999.000,     3.9110,-999.0000, -999.00
32OC19880723,       A16N,      21,          1,         24,         24,2,19880727,       1406,    54.9850,   -19.9967,       1670,  1649.3,  34.9389,2,  34.9440,2,    269.0,2,   269.0,2,   12.00,2,   17.80,2,    0.00,2,    1.09,2,-999.000,9,-999.000,9,-999.000,9,-999.0000,9, -999.00,9,-999.000,9,-999.000,   9.000,     3.7860,-999.0000, -999.00
32OC19880723,       A16N,      21,          1,         99,     -999.0,9,19880727,       1406,    54.9850,   -19.9967,       1670,  1660.4,-999.0000,9,-999.0000,9,   -999.0,9,  -999.0,9, -999.00,9, -999.00,9, -999.00,9, -999.00,9,-999.000,9,-999.000,9,-999.000,9,-999.0000,9, -999.00,9,-999.000,9,-999.000,-999.000,     3.7850,-999.0000, -999.00