BOTTLE,20220922CCHSIOAMB
EXPOCODE,SECT_ID,STNNBR,CASTNO,SAMPNO,BTLNBR,BTLNBR_FLAG_W,DATE,TIME,LATITUDE,LONGITUDE,DEPTH,CTDPRS,CTDSAL,CTDSAL_FLAG_W,SALNTY,SALNTY_FLAG_W,CTDOXY,CTDOXY_FLAG_W,OXYGEN,OXYGEN_FLAG_W,SILCAT,SILCAT_FLAG_W,NITRAT,NITRAT_FLAG_W,NITRIT,NITRIT_FLAG_W,PHSPHT,PHSPHT_FLAG_W,CFC-11,CFC-11_FLAG_W,CFC-12,CFC-12_FLAG_W,TRITUM,TRITUM_FLAG_W,HELIUM,HELIUM_FLAG_W,DELHE3,DELHE3_FLAG_W,NEON,NEON_FLAG_W,NEONER,TRITER,CTDTMP,HELIER,DELHER
,,,,,,,,,,,METERS,DBAR,PSS-78,,PSS-78,,UMOL/KG,,UMOL/KG,,UMOL/KG,,UMOL/KG,,UMOL/KG,,UMOL/KG,,PMOL/KG,,PMOL/KG,,TU,,NMOL/KG,,PERCNT,,NMOL/KG,,NMOL/KG,TU,IPTS-68,NMOL/KG,PERCNT
32OC19880723,       A16N,     119,          1,          1,          1,2,19880823,       1218,    -0.6683,   -25.0000,       3213,    10.0,  36.1731,2,  36.1670,2,    207.2,2,   203.7,2,    0.60,2,    0.00,2,    0.00,2,    0.16,2,   1.495,2,   0.776,2,-999.000,9,-999.0000,9, -999.00,9,-999.000,9,-999.000,-999.000,    25.8600,-999.0000, -999.00
32OC19880723,       A16N,     119,          1,          2,          2,2,19880823,       1218,    -0.6683,   -25.0000,       3213,    35.1,  36.1821,2,  36.1730,2,    198.0,2,   201.0,2,    0.80,2,    0.50,2,    0.00,2,    0.19,2,   1.485,2,   0.754,2,-999.000,9,-999.0000,9, -999.00,9,-999.000,9,-999.000,   9.000,    25.6720,-999.0000, -999.00
32OC19880723,       A16N,     119,          1,          3,          3,2,19880823,       1218,    -0.6683,   -25.0000,       3213,    65.0,  36.3055,2,  36.2650,2,    189.6,2,   192.7,2,    1.00,2,    2.10,2,    0.01,2,    0.35,2,   1.455,2,   0.738,2,-999.000,9,-999.0000,9, -999.00,9,-999.000,9,-999.000,-999.000,    25.0010,-999.0000, -999.00
32OC19880723,       A16N,     119,          1,          4,          4,2,19880823,       1218,    -0.6683,   -25.0000,       3213,    83.8,  36.2284,2,  36.1660,2,    150.8,2,   150.7,2,    2.20,2,    7.70,2,    0.10,2,    0.65,2,   1.325,2,   0.664,2,-999.000,9,-999.0000,9, -999.00,9,-999.000,9,-999.000,   9.000,    21.2460,-999.0000, -999.00
32OC19880723,       A16N,     119,          1,          5,          5,2,19880823,       1218,    -0.6683,   -25.0000,       3213,   101.9,  35.8699,2,  35.9290,2,    149.8,2,   157.6,2,    3.20,2,   11.30,2,    0.23,2,    0.78,2,   1.326,2,   0.659,2,-999.000,9,-999.0000,9, -999.00,9,-999.000,9,-999.000,-999.000,    17.8560,-999.0000, -999.00
32OC19880723,       A16N,     119,          1,          6,          6,2,19880823,       1218,    -0.6683,   -25.0000,       3213,   151.7,  35.3689,2,  35.3760,2,    155.1,2,   155.3,2,    6.20,2,   17.80,2,    0.05,2,    1.17,2,   1.062,2,   0.489,2,-999.000,9,-999.0000,9, -999.00,9,-999.000,9,-999.000,   9.000,    13.7590,-999.0000, -999.00
32OC19880723,       A16N,     119,          1,          7,          7,2,19880823,       1218,    -0.6683,   -25.0000,       3213,   202.1,  35.3335,2,  35.3340,2,    137.9,2,   137.9,2,    6.90,2,   20.10,2,    0.00,2,    1.32,2,   0.958,2,   0.441,2,-999.000,9,-999.0000,9, -999.00,9,-999.000,9,-999.000,-999.000,    13.4430,-999.0000, -999.00
32OC19880723,       A16N,     119,          1,          8,          8,2,19880823,       1218,    -0.6683,   -25.0000,       3213,   252.3,  35.2391,2,  35.2450,2,    107.1,2,   107.9,2,    8.60,2,   25.30,2,    0.00,2,    1.53,2,   0.674,2,   0.300,2,-999.000,9,-999.0000,9, -999.00,9,-999.000,9,-999.000,   9.000,    12.7390,-999.0000, -999.00
32OC19880723,       A16N,     119,          1,          9,          9,2,19880823,       1218,    -0.6683,   -25.0000,       3213,   302.1,  34.9977,2,  34.9760,2,     85.6,2,    84.4,2,   12.60,2,   31.90,2,    0.00,2,    1.93,2,   0.303,4,   0.125,4,-999.000,9,-999.0000,9, -999.00,9,-999.000,9,-999.000,-999.000,    10.3620,-999.0000, -999.00
32OC19880723,       A16N,     119,          1,         10,         10,2,19880823,       1218,    -0.6683,   -25.0000,       3213,   401.2,  34.7939,2,  34.7770,2,    102.5,2,   106.5,2,   16.00,2,   32.90,2,    0.00,2,    2.04,2,   0.224,2,   0.094,2,-999.000,9,-999.0000,9, -999.00,9,-999.000,9,-999.000,   9.000,     8.6130,-999.0000, -999.00
32OC19880723,       A16N,     119,          1,         11,         11,2,19880823,       1218,    -0.6683,   -25.0000,       3213,   501.4,  34.5407,2,  34.5520,2,    158.1,2,   159.6,2,   19.50,2, -999.00,9,    0.00,2,    2.03,2,   0.298,2,   0.128,2,-999.000,9,-999.0000,9, -999.00,9,-999.000,9,-999.000,-999.000,     6.5800,-999.0000, -999.00
32OC19880723,       A16N,     119,          1,         12,         12,2,19880823,       1218,    -0.6683,   -25.0000,       3213,   602.3,  34.5004,2,  34.5060,2,    153.3,2,   149.6,2,   24.40,2,   34.60,2,    0.00,2,    2.21,2,   0.098,2,   0.032,2,-999.000,9,-999.0000,9, -999.00,9,-999.000,9,-999.000,   9.000,     5.6770,-999.0000, -999.00
32OC19880723,       A16N,     119,          1,         13,         13,2,19880823,       1218,    -0.6683,   -25.0000,       3213,   803.3,  34.4989,2,  34.5070,2,    144.2,2,   147.8,2,   29.60,2,   36.20,2,    0.00,2,    2.34,2,   0.015,2,   0.005,7,-999.000,9,-999.0000,9, -999.00,9,-999.000,9,-999.000,-999.000,     4.8700,-999.0000, -999.00
32OC19880723,       A16N,     119,          1,         14,         14,2,19880823,       1218,    -0.6683,   -25.0000,       3213,  1003.0,  34.6109,2,  34.6270,2,    160.2,2,   165.2,2,   31.50,2,   33.60,2,    0.00,2,    2.22,2,   0.009,2,   0.005,7,-999.000,9,-999.0000,9, -999.00,9,-999.000,9,-999.000,   9.000,     4.3540,-999.0000, -999.00
32OC19880723,       A16N,     119,          1,         15,         15,2,19880823,       1218,    -0.6683,   -25.0000,       3213,  1203.6,  34.8247,2,  34.8240,2,    183.9,2,   186.0,2,   24.40,2,   29.10,2,    0.00,2,    1.92,2,  -0.004,2,  -0.001,2,-999.000,9,-999.0000,9, -999.00,9,-999.000,9,-999.000,-999.000,     4.4720,-999.0000, -999.00
32OC19880723,       A16N,     119,          1,         16,         16,2,19880823,       1218,    -0.6683,   -25.0000,       3213,  1403.3,  34.9284,2,-999.0000,9,    214.4,2,   215.1,2,   19.80,2,   25.10,2,    0.00,2,    1.60,2,   0.000,2,   0.013,2,-999.000,9,-999.0000,9, -999.00,9,-999.000,9,-999.000,   9.000,     4.3660,-999.0000, -999.00
32OC19880723,       A16N,     119,          1,         17,         17,2,19880823,       1218,    -0.6683,   -25.0000,       3213,  1606.6,  34.9620,2,  34.9660,2,    231.9,2,   232.5,2,   17.90,2,   22.70,2,    0.00,2,    1.47,2,  -0.021,2,   0.005,7,-999.000,9,-999.0000,9, -999.00,9,-999.000,9,-999.000,-999.000,     4.1630,-999.0000, -999.00
32OC19880723,       A16N,     119,          1,         18,         18,2,19880823,       1218,    -0.6683,   -25.0000,       3213,  1809.7,  34.9764,2,  34.9770,2,    248.6,2,   248.5,2,   17.10,2,   20.90,2,    0.00,2,    1.34,2,  -0.013,2,   0.012,2,-999.000,9,-999.0000,9, -999.00,9,-999.000,9,-999.000,   9.000,     3.8970,-999.0000, -999.00
32OC19880723,       A16N,     119,          1,         19,         19,2,19880823,       1218,    -0.6683,   -25.0000,       3213,  2013.2,  34.9669,2,  34.9710,2,    251.3,2,   250.3,2,   19.30,2,   20.80,2,    0.00,2,    1.36,2,  -0.007,2,   0.005,7,-999.000,9,-999.0000,9, -999.00,9,-999.000,9,-999.000,-999.000,     3.6460,-999.0000, -999.00
32OC19880723,       A16N,     119,          1,         20,         20,2,19880823,       1218,    -0.6683,   -25.0000,       3213,  2266.7,  34.9484,2,  34.9490,2,    251.9,2,   251.1,2,   24.50,2,   21.20,2,    0.00,2,    1.43,2,  -0.013,2,   0.005,7,-999.000,9,-999.0000,9, -999.00,9,-999.000,9,-999.000,   9.000,     3.2510,-999.0000, -999.00
32OC19880723,       A16N,     119,          1,         21,         21,2,19880823,       1218,    -0.6683,   -25.0000,       3213,  2522.2,  34.9332,2,  34.9340,2,    251.1,2,   251.6,2,   28.80,2,   21.40,2,    0.01,2,    1.42,2,   0.016,2,   0.005,7,-999.000,9,-999.0000,9, -999.00,9,-999.000,9,-999.000,-999.000,     2.9390,-999.0000, -999.00
32OC19880723,       A16N,     119,          1,         22,         22,2,19880823,       1218,    -0.6683,   -25.0000,       3213,  2775.4,  34.9205,2,  34.9200,2,    251.1,2,   250.7,2,   32.80,2,   21.70,2,    0.01,2,    1.46,2,  -0.018,2,   0.002,7,-999.000,9,-999.0000,9, -999.00,9,-999.000,9,-999.000,   9.000,     2.7440,-999.0000, -999.00
32OC19880723,       A16N,     119,          1,         23,         23,2,19880823,       1218,    -0.6683,   -25.0000,       3213,  2927.2,  34.9168,2,  34.9160,2,    251.6,2,   251.1,2,   33.30,2,   21.40,2,    0.01,2,    1.47,2,   0.011,2,   0.005,7,-999.000,9,-999.0000,9, -999.00,9,-999.000,9,-999.000,-999.000,     2.6940,-999.0000, -999.00
32OC19880723,       A16N,     119,          1,         24,         24,2,19880823,       1218,    -0.6683,   -25.0000,       3213,  3272.3,  34.9129,2,  34.9130,2,    250.9,2,   252.4,2,   34.50,2,   21.70,2,    0.01,2,    1.48,2,  -0.019,2,   0.005,7,-999.000,9,-999.0000,9, -999.00,9,-999.000,9,-999.000,   9.000,     2.6540,-999.0000, -999.00
32OC19880723,       A16N,     119,          1,         99,     -999.0,9,19880823,       1218,    -0.6683,   -25.0000,       3213,  3274.3,  34.9130,2,-999.0000,9,    251.1,2,  -999.0,9, -999.00,9, -999.00,9, -999.00,9, -999.00,9,-999.000,9,-999.000,9,-999.000,9,-999.0000,9, -999.00,9,-999.000,9,-999.000,-999.000,     2.6540,-999.0000, -999.00
32OC19880723,       A16N,     120,          1,          1,          1,2,19880823,       1523,    -1.0017,   -25.0050,       3067,    10.1,  36.1855,2,  36.1720,2,    197.1,2,   204.1,2,    0.80,2,    0.10,2,    0.04,2,    0.20,2,-999.000,9,-999.000,9,-999.000,9,-999.0000,9, -999.00,9,-999.000,9,-999.000,   9.000,    25.9760,-999.0000, -999.00
32OC19880723,       A16N,     120,          1,          2,          2,2,19880823,       1523,    -1.0017,   -25.0050,       3067,    35.2,  36.1882,2,  36.1770,2,    200.3,2,   203.7,2,    0.80,2,    0.30,2,    0.05,2,    0.20,2,-999.000,9,-999.000,9,-999.000,9,-999.0000,9, -999.00,9,-999.000,9,-999.000,-999.000,    25.7200,-999.0000, -999.00
32OC19880723,       A16N,     120,          1,          3,          3,2,19880823,       1523,    -1.0017,   -25.0050,       3067,    64.2,  36.2397,2,  36.2360,2,    196.3,2,   197.1,2,    0.80,2,    1.00,2,    0.17,2,    0.24,2,-999.000,9,-999.000,9,-999.000,9,-999.0000,9, -999.00,9,-999.000,9,-999.000,   9.000,    25.3230,-999.0000, -999.00
32OC19880723,       A16N,     120,          1,          4,          4,2,19880823,       1523,    -1.0017,   -25.0050,       3067,    84.1,  36.2196,2,  36.2240,2,    178.8,2,   173.9,2,    1.40,2,    3.20,2,    0.96,2,    0.46,2,-999.000,9,-999.000,9,-999.000,9,-999.0000,9, -999.00,9,-999.000,9,-999.000,-999.000,    23.3510,-999.0000, -999.00
32OC19880723,       A16N,     120,          1,          5,          5,2,19880823,       1523,    -1.0017,   -25.0050,       3067,   104.0,  35.8024,2,  35.7740,2,    142.2,2,   147.5,2,    4.30,2,   14.00,2,    0.08,2,    1.08,2,-999.000,9,-999.000,9,-999.000,9,-999.0000,9, -999.00,9,-999.000,9,-999.000,   9.000,    16.6770,-999.0000, -999.00
32OC19880723,       A16N,     120,          1,          6,          6,2,19880823,       1523,    -1.0017,   -25.0050,       3067,   154.2,  35.3858,2,  35.3740,2,    158.2,2,   157.5,2,    6.20,2,   17.10,2,    0.06,2,    1.23,2,-999.000,9,-999.000,9,-999.000,9,-999.0000,9, -999.00,9,-999.000,9,-999.000,-999.000,    13.7720,-999.0000, -999.00
32OC19880723,       A16N,     120,          1,          7,          7,2,19880823,       1523,    -1.0017,   -25.0050,       3067,   204.6,  35.3327,2,  35.3250,2,    139.8,2,   133.6,2,    7.10,2,   20.70,2,    0.00,2,    1.43,2,-999.000,9,-999.000,9,-999.000,9,-999.0000,9, -999.00,9,-999.000,9,-999.000,   9.000,    13.3820,-999.0000, -999.00
32OC19880723,       A16N,     120,          1,          8,          8,2,19880823,       1523,    -1.0017,   -25.0050,       3067,   254.9,  35.2619,2,  35.2420,2,    109.7,2,   106.6,2,    8.70,2,   24.90,2,    0.00,2,    1.64,2,-999.000,9,-999.000,9,-999.000,9,-999.0000,9, -999.00,9,-999.000,9,-999.000,-999.000,    12.7110,-999.0000, -999.00
32OC19880723,       A16N,     120,          1,          9,          9,2,19880823,       1523,    -1.0017,   -25.0050,       3067,   304.1,  34.9990,2,  34.9650,2,     85.3,2,    83.9,2,   12.90,2,   31.80,2,    0.00,2,    2.04,2,-999.000,9,-999.000,9,-999.000,9,-999.0000,9, -999.00,9,-999.000,9,-999.000,   9.000,    10.3170,-999.0000, -999.00
32OC19880723,       A16N,     120,          1,         10,         10,2,19880823,       1523,    -1.0017,   -25.0050,       3067,   403.8,  34.7976,2,  34.8100,2,    104.7,2,   103.9,2,   15.30,2,   32.40,2,    0.00,2,    2.11,2,-999.000,9,-999.000,9,-999.000,9,-999.0000,9, -999.00,9,-999.000,9,-999.000,-999.000,     8.9140,-999.0000, -999.00
32OC19880723,       A16N,     120,          1,         11,         11,2,19880823,       1523,    -1.0017,   -25.0050,       3067,   503.5,  34.5718,2,  34.5720,2,    153.4,2,   159.1,2,   18.80,2,   31.20,2,    0.00,2,    2.09,2,-999.000,9,-999.000,9,-999.000,9,-999.0000,9, -999.00,9,-999.000,9,-999.000,   9.000,     6.8530,-999.0000, -999.00
32OC19880723,       A16N,     120,          1,         12,         12,2,19880823,       1523,    -1.0017,   -25.0050,       3067,   603.9,  34.5048,2,  34.5120,2,    144.6,2,   145.2,2,   25.10,2,   35.10,2,    0.00,2,    2.38,2,-999.000,9,-999.000,9,-999.000,9,-999.0000,9, -999.00,9,-999.000,9,-999.000,-999.000,     5.6350,-999.0000, -999.00
32OC19880723,       A16N,     120,          1,         13,         13,2,19880823,       1523,    -1.0017,   -25.0050,       3067,   804.4,  34.5081,2,  34.5090,2,    145.0,2,   149.5,2,   29.70,2,   35.80,2,    0.01,2,    2.44,2,-999.000,9,-999.000,9,-999.000,9,-999.0000,9, -999.00,9,-999.000,9,-999.000,   9.000,     4.8770,-999.0000, -999.00
32OC19880723,       A16N,     120,          1,         14,         14,2,19880823,       1523,    -1.0017,   -25.0050,       3067,  1005.7,  34.6399,2,  34.6470,2,    161.0,2,   167.3,2,   31.20,2,   33.00,2,    0.01,2,    2.30,2,-999.000,9,-999.000,9,-999.000,9,-999.0000,9, -999.00,9,-999.000,9,-999.000,-999.000,     4.3210,-999.0000, -999.00
32OC19880723,       A16N,     120,          1,         15,         15,2,19880823,       1523,    -1.0017,   -25.0050,       3067,  1256.3,  34.8654,2,  34.8670,2,    187.6,2,   194.7,2,   23.00,2,   27.40,2,    0.02,2,    1.88,2,-999.000,9,-999.000,9,-999.000,9,-999.0000,9, -999.00,9,-999.000,9,-999.000,   9.000,     4.5120,-999.0000, -999.00
32OC19880723,       A16N,     120,          1,         16,         16,2,19880823,       1523,    -1.0017,   -25.0050,       3067,  1508.9,  34.9558,2,  34.9510,2,    223.5,2,   226.8,2,   18.60,2,   23.40,2,    0.02,2,    1.55,2,-999.000,9,-999.000,9,-999.000,9,-999.0000,9, -999.00,9,-999.000,9,-999.000,-999.000,     4.2700,-999.0000, -999.00
32OC19880723,       A16N,     120,          1,         17,         17,2,19880823,       1523,    -1.0017,   -25.0050,       3067,  1810.9,  34.9827,2,  34.9810,2,    250.8,2,   250.7,2,   17.10,2,   20.60,2,    0.02,2,    1.36,2,-999.000,9,-999.000,9,-999.000,9,-999.0000,9, -999.00,9,-999.000,9,-999.000,   9.000,     3.8750,-999.0000, -999.00
32OC19880723,       A16N,     120,          1,         18,         18,2,19880823,       1523,    -1.0017,   -25.0050,       3067,  2013.0,  34.9681,2,  34.9650,2,    252.0,2,   251.6,2,   20.40,2,   21.00,2,    0.03,2,    1.40,2,-999.000,9,-999.000,9,-999.000,9,-999.0000,9, -999.00,9,-999.000,9,-999.000,-999.000,     3.5390,-999.0000, -999.00
32OC19880723,       A16N,     120,          1,         19,         19,2,19880823,       1523,    -1.0017,   -25.0050,       3067,  2215.3,  34.9591,2,  34.9580,2,    252.9,2,   252.4,2,   22.70,2,   21.10,2,    0.00,2,    1.42,2,-999.000,9,-999.000,9,-999.000,9,-999.0000,9, -999.00,9,-999.000,9,-999.000,   9.000,     3.3880,-999.0000, -999.00
32OC19880723,       A16N,     120,          1,         20,         20,2,19880823,       1523,    -1.0017,   -25.0050,       3067,  2417.7,  34.9447,2,  34.9440,2,    252.3,2,   251.1,2,   27.30,2,   21.50,2,    0.00,2,    1.47,2,-999.000,9,-999.000,9,-999.000,9,-999.0000,9, -999.00,9,-999.000,9,-999.000,-999.000,     3.1190,-999.0000, -999.00
32OC19880723,       A16N,     120,          1,         21,         21,2,19880823,       1523,    -1.0017,   -25.0050,       3067,  2620.0,  34.9382,2,  34.9330,2,    252.4,2,   252.0,2,   29.70,2,   21.60,2,    0.01,2,    1.49,2,-999.000,9,-999.000,9,-999.000,9,-999.0000,9, -999.00,9,-999.000,9,-999.000,   9.000,     2.9620,-999.0000, -999.00
32OC19880723,       A16N,     120,          1,         22,         22,2,19880823,       1523,    -1.0017,   -25.0050,       3067,  2823.2,  34.9192,2,  34.9190,2,    249.1,2,   249.0,2,   34.60,2,   22.20,2,    0.01,2,    1.49,2,-999.000,9,-999.000,9,-999.000,9,-999.0000,9, -999.00,9,-999.000,9,-999.000,-999.000,     2.7250,-999.0000, -999.00
32OC19880723,       A16N,     120,          1,         23,         23,2,19880823,       1523,    -1.0017,   -25.0050,       3067,  3027.1,  34.9168,2,  34.9170,2,    251.9,2,   252.0,2,   34.30,2,   22.10,2,    0.01,2,    1.50,2,-999.000,9,-999.000,9,-999.000,9,-999.0000,9, -999.00,9,-999.000,9,-999.000,   9.000,     2.6660,-999.0000, -999.00
32OC19880723,       A16N,     120,          1,         24,         24,2,19880823,       1523,    -1.0017,   -25.0050,       3067,  3226.7,  34.9116,2,  34.9100,2,    251.4,2,   252.9,2,   35.50,2,   21.90,2,    0.01,2,    1.52,2,-999.000,9,-999.000,9,-999.000,9,-999.0000,9, -999.00,9,-999.000,9,-999.000,-999.000,     2.5900,-999.0000, -999.00
32OC19880723,       A16N,     120,          1,         99,     -999.0,9,19880823,       1523,    -1.0017,   -25.0050,       3067,  3228.0,  34.9117,2,-999.0000,9,    251.5,2,  -999.0,9, -999.00,9, -999.00,9, -999.00,9, -999.00,9,-999.000,9,-999.000,9,-999.000,9,-999.0000,9, -999.00,9,-999.000,9,-999.000,   9.000,     2.5900,-999.0000, -999.00