BOTTLE,20220922CCHSIOAMB
EXPOCODE,SECT_ID,STNNBR,CASTNO,SAMPNO,BTLNBR,BTLNBR_FLAG_W,DATE,TIME,LATITUDE,LONGITUDE,DEPTH,CTDPRS,CTDSAL,CTDSAL_FLAG_W,SALNTY,SALNTY_FLAG_W,CTDOXY,CTDOXY_FLAG_W,OXYGEN,OXYGEN_FLAG_W,SILCAT,SILCAT_FLAG_W,NITRAT,NITRAT_FLAG_W,NITRIT,NITRIT_FLAG_W,PHSPHT,PHSPHT_FLAG_W,CFC-11,CFC-11_FLAG_W,CFC-12,CFC-12_FLAG_W,TRITUM,TRITUM_FLAG_W,HELIUM,HELIUM_FLAG_W,DELHE3,DELHE3_FLAG_W,NEON,NEON_FLAG_W,NEONER,TRITER,CTDTMP,HELIER,DELHER
,,,,,,,,,,,METERS,DBAR,PSS-78,,PSS-78,,UMOL/KG,,UMOL/KG,,UMOL/KG,,UMOL/KG,,UMOL/KG,,UMOL/KG,,PMOL/KG,,PMOL/KG,,TU,,NMOL/KG,,PERCNT,,NMOL/KG,,NMOL/KG,TU,IPTS-68,NMOL/KG,PERCNT
32OC19880723,       A16N,     111,          1,          1,          1,2,19880822,       0400,     2.6917,   -25.4967,       4199,    12.9,  35.8140,2,  35.8030,2,    195.5,2,   201.2,2,    0.40,2,    0.00,2,    0.00,2,    0.02,2,-999.000,9,-999.000,9,-999.000,9,-999.0000,9, -999.00,9,-999.000,9,-999.000,   9.000,    27.6990,-999.0000, -999.00
32OC19880723,       A16N,     111,          1,          2,          2,2,19880822,       0400,     2.6917,   -25.4967,       4199,    38.4,  35.8138,2,  35.8050,2,    199.8,2,   201.2,2,    0.40,2,    0.10,2,    0.00,2,    0.05,2,-999.000,9,-999.000,9,-999.000,9,-999.0000,9, -999.00,9,-999.000,9,-999.000,-999.000,    27.6970,-999.0000, -999.00
32OC19880723,       A16N,     111,          1,          3,          3,2,19880822,       0400,     2.6917,   -25.4967,       4199,    68.4,  35.9174,2,  35.8680,2,    203.9,2,   200.3,2,    0.40,2,    0.30,2,    0.00,2,    0.05,2,-999.000,9,-999.000,9,-999.000,9,-999.0000,9, -999.00,9,-999.000,9,-999.000,   9.000,    27.6970,-999.0000, -999.00
32OC19880723,       A16N,     111,          1,          4,          4,2,19880822,       0400,     2.6917,   -25.4967,       4199,   106.5,  35.5930,2,  35.6410,2,     79.0,2,    91.8,2,    5.70,2,   20.50,2,    0.08,2,    1.34,2,-999.000,9,-999.000,9,-999.000,9,-999.0000,9, -999.00,9,-999.000,9,-999.000,-999.000,    16.0180,-999.0000, -999.00
32OC19880723,       A16N,     111,          1,          5,          5,2,19880822,       0400,     2.6917,   -25.4967,       4199,   155.3,  35.4602,2,  35.4640,2,     98.6,2,    99.6,2,    7.10,2,   21.30,2,    0.02,2,    1.36,2,-999.000,9,-999.000,9,-999.000,9,-999.0000,9, -999.00,9,-999.000,9,-999.000,   9.000,    14.4110,-999.0000, -999.00
32OC19880723,       A16N,     111,          1,          6,          6,2,19880822,       0400,     2.6917,   -25.4967,       4199,   203.3,  35.3315,2,  35.3690,2,     92.1,2,    87.0,2,    8.40,2,   23.90,2,    0.00,2,    1.55,2,-999.000,9,-999.000,9,-999.000,9,-999.0000,9, -999.00,9,-999.000,9,-999.000,-999.000,    13.7100,-999.0000, -999.00
32OC19880723,       A16N,     111,          1,          7,          7,2,19880822,       0400,     2.6917,   -25.4967,       4199,   250.7,  35.2447,2,  35.2720,2,    113.4,2,    96.6,2,    8.70,2,   24.20,2,    0.03,2,    1.56,2,-999.000,9,-999.000,9,-999.000,9,-999.0000,9, -999.00,9,-999.000,9,-999.000,   9.000,    12.9240,-999.0000, -999.00
32OC19880723,       A16N,     111,          1,          8,          8,2,19880822,       0400,     2.6917,   -25.4967,       4199,   298.6,  35.1673,2,  35.1850,2,    110.0,2,   110.5,2,    9.20,2,   24.10,2,    0.02,2,    1.53,2,-999.000,9,-999.000,9,-999.000,9,-999.0000,9, -999.00,9,-999.000,9,-999.000,-999.000,    12.1870,-999.0000, -999.00
32OC19880723,       A16N,     111,          1,          9,          9,2,19880822,       0400,     2.6917,   -25.4967,       4199,   395.0,  34.8641,2,  34.9090,2,     85.7,2,    82.6,2,   14.80,2,   31.60,2,    0.02,2,    2.00,2,-999.000,9,-999.000,9,-999.000,9,-999.0000,9, -999.00,9,-999.000,9,-999.000,   9.000,     9.5580,-999.0000, -999.00
32OC19880723,       A16N,     111,          1,         10,         10,2,19880822,       0400,     2.6917,   -25.4967,       4199,   490.8,  34.6737,2,  34.6900,2,    115.9,2,   112.6,2,   19.20,2,   32.60,2,    0.03,2,    2.12,2,-999.000,9,-999.000,9,-999.000,9,-999.0000,9, -999.00,9,-999.000,9,-999.000,-999.000,     7.5050,-999.0000, -999.00
32OC19880723,       A16N,     111,          1,         11,         11,2,19880822,       0400,     2.6917,   -25.4967,       4199,   731.4,  34.5329,2,  34.5340,2,    137.9,2,   141.7,2,   28.60,2,   34.10,2,    0.00,2,    2.30,2,-999.000,9,-999.000,9,-999.000,9,-999.0000,9, -999.00,9,-999.000,9,-999.000,   9.000,     5.1350,-999.0000, -999.00
32OC19880723,       A16N,     111,          1,         12,         12,2,19880822,       0400,     2.6917,   -25.4967,       4199,   974.1,  34.6166,2,  34.6240,2,    150.3,2,   153.9,2,   30.10,2,   32.50,2,    0.03,2,    2.22,2,-999.000,9,-999.000,9,-999.000,9,-999.0000,9, -999.00,9,-999.000,9,-999.000,-999.000,     4.6380,-999.0000, -999.00
32OC19880723,       A16N,     111,          1,         13,         13,2,19880822,       0400,     2.6917,   -25.4967,       4199,  1220.2,  34.8280,2,  34.8290,2,    176.1,2,   180.8,2,   25.20,2,   27.80,2,    0.02,2,    1.88,2,-999.000,9,-999.000,9,-999.000,9,-999.0000,9, -999.00,9,-999.000,9,-999.000,   9.000,     4.4850,-999.0000, -999.00
32OC19880723,       A16N,     111,          1,         14,         14,2,19880822,       0400,     2.6917,   -25.4967,       4199,  1470.1,  34.9495,2,  34.9510,2,    219.0,2,   222.1,2,   19.00,2,   22.60,2,    0.00,2,    1.48,2,-999.000,9,-999.000,9,-999.000,9,-999.0000,9, -999.00,9,-999.000,9,-999.000,-999.000,     4.3290,-999.0000, -999.00
32OC19880723,       A16N,     111,          1,         15,         15,2,19880822,       0400,     2.6917,   -25.4967,       4199,  1767.2,  34.9697,2,  34.9690,2,    242.1,2,   243.3,2,   18.70,2,   20.60,2,    0.00,2,    1.33,2,-999.000,9,-999.000,9,-999.000,9,-999.0000,9, -999.00,9,-999.000,9,-999.000,   9.000,     3.8540,-999.0000, -999.00
32OC19880723,       A16N,     111,          1,         16,         16,2,19880822,       0400,     2.6917,   -25.4967,       4199,  2064.0,  34.9580,2,  34.9590,2,    248.7,2,   249.4,2,   22.30,2,   20.40,2,    0.00,2,    1.34,2,-999.000,9,-999.000,9,-999.000,9,-999.0000,9, -999.00,9,-999.000,9,-999.000,-999.000,     3.4350,-999.0000, -999.00
32OC19880723,       A16N,     111,          1,         17,         17,2,19880822,       0400,     2.6917,   -25.4967,       4199,  2364.1,  34.9447,2,  34.9440,2,    250.7,2,   251.6,2,   26.00,2,   20.40,2,    0.00,2,    1.34,2,-999.000,9,-999.000,9,-999.000,9,-999.0000,9, -999.00,9,-999.000,9,-999.000,   9.000,     3.1440,-999.0000, -999.00
32OC19880723,       A16N,     111,          1,         18,         18,2,19880822,       0400,     2.6917,   -25.4967,       4199,  2666.6,  34.9284,2,  34.9280,2,    249.8,2,   249.8,2,   31.50,2,   20.90,2,    0.00,2,    1.36,2,-999.000,9,-999.000,9,-999.000,9,-999.0000,9, -999.00,9,-999.000,9,-999.000,-999.000,     2.8700,-999.0000, -999.00
32OC19880723,       A16N,     111,          1,         19,         19,2,19880822,       0400,     2.6917,   -25.4967,       4199,  2969.6,  34.9141,2,  34.9140,2,    245.5,2,   245.5,2,   36.80,2,   21.80,2,    0.01,2,    1.43,2,-999.000,9,-999.000,9,-999.000,9,-999.0000,9, -999.00,9,-999.000,9,-999.000,   9.000,     2.6790,-999.0000, -999.00
32OC19880723,       A16N,     111,          1,         20,         20,2,19880822,       0400,     2.6917,   -25.4967,       4199,  3274.1,  34.9052,2,  34.9050,2,    247.0,2,   246.8,2,   39.10,2,   21.90,2,    0.02,2,    1.45,2,-999.000,9,-999.000,9,-999.000,9,-999.0000,9, -999.00,9,-999.000,9,-999.000,-999.000,     2.5530,-999.0000, -999.00
32OC19880723,       A16N,     111,          1,         21,         21,2,19880822,       0400,     2.6917,   -25.4967,       4199,  3584.7,  34.8965,2,  34.8970,2,    248.3,2,   248.5,2,   41.60,2,   21.90,2,    0.01,2,    1.46,2,-999.000,9,-999.000,9,-999.000,9,-999.0000,9, -999.00,9,-999.000,9,-999.000,   9.000,     2.4340,-999.0000, -999.00
32OC19880723,       A16N,     111,          1,         22,         22,2,19880822,       0400,     2.6917,   -25.4967,       4199,  3895.1,  34.8901,2,  34.8920,2,    247.7,2,   247.2,2,   44.10,2,   22.20,2,    0.02,2,    1.48,2,-999.000,9,-999.000,9,-999.000,9,-999.0000,9, -999.00,9,-999.000,9,-999.000,-999.000,     2.3710,-999.0000, -999.00
32OC19880723,       A16N,     111,          1,         23,         23,2,19880822,       0400,     2.6917,   -25.4967,       4199,  4152.8,  34.8848,2,  34.8850,2,    246.7,2,   246.8,2,   45.90,2,   22.50,2,    0.00,2,    1.46,2,-999.000,9,-999.000,9,-999.000,9,-999.0000,9, -999.00,9,-999.000,9,-999.000,   9.000,     2.3460,-999.0000, -999.00
32OC19880723,       A16N,     111,          1,         24,         24,2,19880822,       0400,     2.6917,   -25.4967,       4199,  4247.2,  34.8845,2,  34.8840,2,    245.3,2,   245.9,2,   46.30,2,   22.50,2,    0.02,2,    1.49,2,-999.000,9,-999.000,9,-999.000,9,-999.0000,9, -999.00,9,-999.000,9,-999.000,-999.000,     2.3450,-999.0000, -999.00
32OC19880723,       A16N,     111,          1,         99,     -999.0,9,19880822,       0400,     2.6917,   -25.4967,       4199,  4248.5,  34.8846,2,-999.0000,9,    245.2,2,  -999.0,9, -999.00,9, -999.00,9, -999.00,9, -999.00,9,-999.000,9,-999.000,9,-999.000,9,-999.0000,9, -999.00,9,-999.000,9,-999.000,   9.000,     2.3460,-999.0000, -999.00
32OC19880723,       A16N,     112,          1,         98,     -999.0,9,19880822,       0948,     2.0033,   -25.2150,       3878,    11.2,  35.8835,2,-999.0000,9,    209.0,2,  -999.0,9, -999.00,9, -999.00,9, -999.00,9, -999.00,9,-999.000,9,-999.000,9,-999.000,9,-999.0000,9, -999.00,9,-999.000,9,-999.000,-999.000,    27.2740,-999.0000, -999.00
32OC19880723,       A16N,     112,          1,          1,          1,2,19880822,       0948,     2.0033,   -25.2150,       3878,    27.0,  35.8829,2,  35.8790,2,    199.0,2,   200.3,2,    0.30,2,    0.00,2,    0.00,2,    0.05,2,-999.000,9,-999.000,9,-999.000,9,-999.0000,9, -999.00,9,-999.000,9,-999.000,   9.000,    27.2680,-999.0000, -999.00
32OC19880723,       A16N,     112,          1,          2,          2,2,19880822,       0948,     2.0033,   -25.2150,       3878,    37.0,  35.8826,2,  35.8790,2,    207.3,2,   200.8,2,    0.50,2,    0.00,2,    0.00,2,    0.03,2,-999.000,9,-999.000,9,-999.000,9,-999.0000,9, -999.00,9,-999.000,9,-999.000,-999.000,    27.2690,-999.0000, -999.00
32OC19880723,       A16N,     112,          1,          3,          3,2,19880822,       0948,     2.0033,   -25.2150,       3878,    66.5,  36.0302,2,  35.8820,2,    197.6,2,   200.3,2,    0.50,2,    0.30,2,    0.00,2,    0.06,2,-999.000,9,-999.000,9,-999.000,9,-999.0000,9, -999.00,9,-999.000,9,-999.000,   9.000,    27.2590,-999.0000, -999.00
32OC19880723,       A16N,     112,          1,          4,          4,2,19880822,       0948,     2.0033,   -25.2150,       3878,   103.1,  35.5287,2,  35.5820,2,     94.7,2,    94.4,2,    6.30,2,   20.90,2,    0.05,2,    1.39,2,-999.000,9,-999.000,9,-999.000,9,-999.0000,9, -999.00,9,-999.000,9,-999.000,-999.000,    15.5130,-999.0000, -999.00
32OC19880723,       A16N,     112,          1,          5,          5,2,19880822,       0948,     2.0033,   -25.2150,       3878,   147.3,  35.3477,2,  35.3410,2,     99.0,2,    97.4,2,    8.20,2,   23.20,2,    0.00,2,    1.51,2,-999.000,9,-999.000,9,-999.000,9,-999.0000,9, -999.00,9,-999.000,9,-999.000,   9.000,    13.4400,-999.0000, -999.00
32OC19880723,       A16N,     112,          1,          6,          6,2,19880822,       0948,     2.0033,   -25.2150,       3878,   189.1,  35.2710,2,  35.2640,2,    118.1,2,   114.8,2,    8.30,2,   22.50,2,    0.00,2,    1.50,2,-999.000,9,-999.000,9,-999.000,9,-999.0000,9, -999.00,9,-999.000,9,-999.000,-999.000,    12.8850,-999.0000, -999.00
32OC19880723,       A16N,     112,          1,          7,          7,2,19880822,       0948,     2.0033,   -25.2150,       3878,   230.8,  35.2211,2,  35.2110,2,    105.9,2,   102.7,2,    9.40,2,   24.40,2,    0.01,2,    1.61,2,-999.000,9,-999.000,9,-999.000,9,-999.0000,9, -999.00,9,-999.000,9,-999.000,   9.000,    12.4670,-999.0000, -999.00
32OC19880723,       A16N,     112,          1,          8,          8,2,19880822,       0948,     2.0033,   -25.2150,       3878,   268.8,  35.1710,2,  35.1530,2,    100.0,2,    93.1,2,   10.20,2,   26.40,2,    0.00,2,    1.71,2,-999.000,9,-999.000,9,-999.000,9,-999.0000,9, -999.00,9,-999.000,9,-999.000,-999.000,    11.9690,-999.0000, -999.00
32OC19880723,       A16N,     112,          1,          9,          9,2,19880822,       0948,     2.0033,   -25.2150,       3878,   349.3,  34.9118,2,  34.9140,2,    123.2,2,   121.8,2,   13.10,2,   27.40,2,    0.01,2,    1.80,2,-999.000,9,-999.000,9,-999.000,9,-999.0000,9, -999.00,9,-999.000,9,-999.000,   9.000,     9.7880,-999.0000, -999.00
32OC19880723,       A16N,     112,          1,         10,         10,2,19880822,       0948,     2.0033,   -25.2150,       3878,   426.5,  34.7020,2,  34.7000,2,    139.5,2,   140.9,2,   16.80,2,   29.30,2,    0.00,2,    1.95,2,-999.000,9,-999.000,9,-999.000,9,-999.0000,9, -999.00,9,-999.000,9,-999.000,-999.000,     7.9070,-999.0000, -999.00
32OC19880723,       A16N,     112,          1,         11,         11,2,19880822,       0948,     2.0033,   -25.2150,       3878,   601.4,  34.5323,2,  34.5350,2,    139.3,2,   141.3,2,   25.80,2,   33.70,2,    0.00,2,    2.30,2,-999.000,9,-999.000,9,-999.000,9,-999.0000,9, -999.00,9,-999.000,9,-999.000,   9.000,     5.6010,-999.0000, -999.00
32OC19880723,       A16N,     112,          1,         12,         12,2,19880822,       0948,     2.0033,   -25.2150,       3878,   780.3,  34.5127,2,  34.5120,2,    150.9,2,   151.7,2,   29.10,2,   33.50,2,    0.00,2,    2.33,2,-999.000,9,-999.000,9,-999.000,9,-999.0000,9, -999.00,9,-999.000,9,-999.000,-999.000,     4.9620,-999.0000, -999.00
32OC19880723,       A16N,     112,          1,         13,         13,2,19880822,       0948,     2.0033,   -25.2150,       3878,   964.4,  34.6036,2,  34.5930,2,    155.0,2,   152.1,2,   30.40,2,   33.10,2,    0.00,2,    2.33,2,   0.013,2,   0.005,7,-999.000,9,-999.0000,9, -999.00,9,-999.000,9,-999.000,   9.000,     4.6730,-999.0000, -999.00
32OC19880723,       A16N,     112,          1,         14,         14,2,19880822,       0948,     2.0033,   -25.2150,       3878,  1149.5,  34.7863,2,  34.7900,2,    179.9,2,   179.5,2,   26.00,2,   28.00,2,    0.00,2, -999.00,9,  -0.008,2,   0.008,7,-999.000,9,-999.0000,9, -999.00,9,-999.000,9,-999.000,-999.000,     4.4680,-999.0000, -999.00
32OC19880723,       A16N,     112,          1,         15,         15,2,19880822,       0948,     2.0033,   -25.2150,       3878,  1338.2,  34.8945,2,  34.8950,2,    199.3,2,   199.9,2,   22.00,2,   25.20,2,    0.00,2, -999.00,9,  -0.012,2,   0.013,2,-999.000,9,-999.0000,9, -999.00,9,-999.000,9,-999.000,   9.000,     4.4560,-999.0000, -999.00
32OC19880723,       A16N,     112,          1,         16,         16,2,19880822,       0948,     2.0033,   -25.2150,       3878,  1623.5,  34.9721,2,  34.9700,2,    236.7,2,   237.7,2,   17.60,2, -999.00,9,    0.00,2, -999.00,9,  -0.002,2,   0.015,2,-999.000,9,-999.0000,9, -999.00,9,-999.000,9,-999.000,-999.000,     4.1130,-999.0000, -999.00
32OC19880723,       A16N,     112,          1,         17,         17,2,19880822,       0948,     2.0033,   -25.2150,       3878,  1917.0,  34.9699,2,  34.9680,2,    248.5,2,   247.7,2,   19.40,2,   20.20,2,    0.00,2, -999.00,9,  -0.010,7,   0.008,7,-999.000,9,-999.0000,9, -999.00,9,-999.000,9,-999.000,   9.000,     3.6970,-999.0000, -999.00
32OC19880723,       A16N,     112,          1,         18,         18,2,19880822,       0948,     2.0033,   -25.2150,       3878,  2212.1,  34.9565,2,  34.9560,2,    253.0,2,   252.4,2,   23.20,2,   20.00,2,    0.00,2, -999.00,9,   0.017,2,   0.008,7,-999.000,9,-999.0000,9, -999.00,9,-999.000,9,-999.000,-999.000,     3.3210,-999.0000, -999.00
32OC19880723,       A16N,     112,          1,         19,         19,2,19880822,       0948,     2.0033,   -25.2150,       3878,  2513.0,  34.9343,2,  34.9320,2,    244.6,2,   247.7,2,   30.60,2,   20.90,2,    0.00,2, -999.00,9,   0.034,2,   0.002,7,-999.000,9,-999.0000,9, -999.00,9,-999.000,9,-999.000,   9.000,     2.9700,-999.0000, -999.00
32OC19880723,       A16N,     112,          1,         20,         20,2,19880822,       0948,     2.0033,   -25.2150,       3878,  2817.0,  34.9229,2,  34.9210,2,    245.5,2,   246.8,2,   34.00,2,   21.30,2,    0.00,2, -999.00,9,-999.000,9,-999.000,9,-999.000,9,-999.0000,9, -999.00,9,-999.000,9,-999.000,-999.000,     2.8080,-999.0000, -999.00
32OC19880723,       A16N,     112,          1,         21,         21,2,19880822,       0948,     2.0033,   -25.2150,       3878,  3122.6,  34.9119,2,  34.9090,2,    246.4,2,   247.2,2,   37.90,2,   21.40,2,    0.00,2, -999.00,9,-999.000,9,-999.000,9,-999.000,9,-999.0000,9, -999.00,9,-999.000,9,-999.000,   9.000,     2.6210,-999.0000, -999.00
32OC19880723,       A16N,     112,          1,         22,         22,2,19880822,       0948,     2.0033,   -25.2150,       3878,  3432.5,  34.9013,2,  34.9000,2,    248.1,2,   247.7,2,   40.70,2,   21.70,2,    0.00,2, -999.00,9,-999.000,9,-999.000,9,-999.000,9,-999.0000,9, -999.00,9,-999.000,9,-999.000,-999.000,     2.4710,-999.0000, -999.00
32OC19880723,       A16N,     112,          1,         23,         23,2,19880822,       0948,     2.0033,   -25.2150,       3878,  3741.4,  34.8949,2,  34.8910,2,    248.1,2,   247.7,2,   43.10,2,   21.80,2,    0.01,2, -999.00,9,-999.000,9,-999.000,9,-999.000,9,-999.0000,9, -999.00,9,-999.000,9,-999.000,   9.000,     2.4010,-999.0000, -999.00
32OC19880723,       A16N,     112,          1,         24,         24,2,19880822,       0948,     2.0033,   -25.2150,       3878,  3926.5,  34.8912,2,  34.8880,2,    246.5,2,   246.3,2,   44.70,2,   22.10,2,    0.01,2, -999.00,9,-999.000,9,-999.000,9,-999.000,9,-999.0000,9, -999.00,9,-999.000,9,-999.000,-999.000,     2.3700,-999.0000, -999.00
32OC19880723,       A16N,     112,          1,         99,     -999.0,9,19880822,       0948,     2.0033,   -25.2150,       3878,  3928.5,  34.8912,2,-999.0000,9,    246.5,2,  -999.0,9, -999.00,9, -999.00,9, -999.00,9, -999.00,9,-999.000,9,-999.000,9,-999.000,9,-999.0000,9, -999.00,9,-999.000,9,-999.000,   9.000,     2.3700,-999.0000, -999.00