BOTTLE,20220922CCHSIOAMB
EXPOCODE,SECT_ID,STNNBR,CASTNO,SAMPNO,BTLNBR,BTLNBR_FLAG_W,DATE,TIME,LATITUDE,LONGITUDE,DEPTH,CTDPRS,CTDSAL,CTDSAL_FLAG_W,SALNTY,SALNTY_FLAG_W,CTDOXY,CTDOXY_FLAG_W,OXYGEN,OXYGEN_FLAG_W,SILCAT,SILCAT_FLAG_W,NITRAT,NITRAT_FLAG_W,NITRIT,NITRIT_FLAG_W,PHSPHT,PHSPHT_FLAG_W,CFC-11,CFC-11_FLAG_W,CFC-12,CFC-12_FLAG_W,TRITUM,TRITUM_FLAG_W,HELIUM,HELIUM_FLAG_W,DELHE3,DELHE3_FLAG_W,NEON,NEON_FLAG_W,NEONER,TRITER,CTDTMP,HELIER,DELHER
,,,,,,,,,,,METERS,DBAR,PSS-78,,PSS-78,,UMOL/KG,,UMOL/KG,,UMOL/KG,,UMOL/KG,,UMOL/KG,,UMOL/KG,,PMOL/KG,,PMOL/KG,,TU,,NMOL/KG,,PERCNT,,NMOL/KG,,NMOL/KG,TU,IPTS-68,NMOL/KG,PERCNT
32OC19880723,       A16N,     105,          1,          1,          1,2,19880820,       1653,     6.8350,   -27.2533,       4219,    13.7,  35.0596,2,  35.0180,2,    203.4,2,   202.2,2,    0.20,2,    0.00,2,    0.00,2,    0.13,2,   1.447,2,   0.765,2,   1.051,2,   1.7077,2,   -1.23,2,-999.000,9,  -7.493,   0.034,    27.5910,   0.0120,    0.18
32OC19880723,       A16N,     105,          1,          2,          2,2,19880820,       1653,     6.8350,   -27.2533,       4219,    39.1,  35.4851,2,  35.4800,2,    204.2,2,   202.2,2,    0.30,2,    0.00,2,    0.00,2,    0.15,2,   1.458,2,   0.748,2,   1.105,2,   1.6970,2,   -1.43,2,-999.000,9,  -7.493,   0.034,    27.7340,   0.0119,    0.18
32OC19880723,       A16N,     105,          1,          3,          3,2,19880820,       1653,     6.8350,   -27.2533,       4219,    69.1,  36.1399,2,  36.2250,2,    170.2,2,   178.7,2,    1.80,2,    0.10,2,    0.20,2,    0.21,2,   1.354,2,   0.668,2,   1.080,2,   1.7262,2,    0.22,2,-999.000,9,  -7.493,   0.050,    23.0150,   0.0121,    0.18
32OC19880723,       A16N,     105,          1,          4,          4,2,19880820,       1653,     6.8350,   -27.2533,       4219,   109.1,  35.5710,2,  35.6210,2,    122.0,2,   115.3,2,    6.20,2,   19.30,2,    0.02,2,    1.27,2,   0.887,2,   0.405,2,   0.839,2,   1.7505,2,    1.51,2,-999.000,9,  -7.493,   0.032,    15.1380,   0.0123,    0.18
32OC19880723,       A16N,     105,          1,          5,          5,2,19880820,       1653,     6.8350,   -27.2533,       4219,   159.3,  35.2547,2,  35.2580,2,    134.4,2,   134.4,2,    7.80,2,   20.30,2,    0.00,2,    1.48,2,   0.837,2,   0.377,2,   0.592,2,   1.7671,2,    1.56,2,-999.000,9,  -7.493,   0.029,    12.6190,   0.0124,    0.18
32OC19880723,       A16N,     105,          1,          6,          6,2,19880820,       1653,     6.8350,   -27.2533,       4219,   209.3,  35.1592,2,  35.1750,2,    115.6,2,   120.0,2,    9.30,2,   23.40,2,    0.00,2,    1.51,2,   0.605,2,   0.271,2,-999.000,9,   2.0651,4,    1.49,2,-999.000,9,  -7.493,-999.000,    11.9050,   0.0145,    0.18
32OC19880723,       A16N,     105,          1,          7,          7,2,19880820,       1653,     6.8350,   -27.2533,       4219,   259.5,  35.0382,2,  35.0710,2,    117.7,2,   118.7,2,   10.50,2,   25.00,2,    0.00,2,    1.61,2,   0.588,4,   0.247,4,   0.360,2,   1.7640,2,    1.46,2,-999.000,9,  -7.493,   0.025,    11.1210,   0.0123,    0.18
32OC19880723,       A16N,     105,          1,          8,          8,2,19880820,       1653,     6.8350,   -27.2533,       4219,   309.8,  34.9829,2,  35.0240,2,     98.7,2,    99.2,2,   12.10,2,   28.20,2,    0.00,2,    1.81,2,   0.357,4,   0.144,4,   0.347,2,   1.7743,2,    1.89,2,-999.000,9,  -7.493,   0.025,    10.5240,   0.0124,    0.18
32OC19880723,       A16N,     105,          1,          9,          9,2,19880820,       1653,     6.8350,   -27.2533,       4219,   410.5,  34.8331,2,  34.8520,2,    105.6,2,   103.9,2,   15.10,2,   30.70,2,    0.00,2,    1.95,2,   0.209,4,   0.086,4,   0.206,2,   1.7766,2,    1.16,2,-999.000,9,  -7.493,   0.035,     9.0430,   0.0124,    0.18
32OC19880723,       A16N,     105,          1,         10,         10,2,19880820,       1653,     6.8350,   -27.2533,       4219,   510.9,  34.7969,2,  34.8330,2,     82.4,2,    77.4,2,   18.40,2,   34.90,2,    0.00,2,    2.20,2,   0.066,2,   0.011,2,   0.053,2,   1.8075,2,    0.91,2,-999.000,9,  -7.493,   0.020,     8.2240,   0.0127,    0.18
32OC19880723,       A16N,     105,          1,         11,         11,2,19880820,       1653,     6.8350,   -27.2533,       4219,   711.9,  34.6676,2,  34.6670,2,    103.7,2,   104.8,2,   25.40,2,   35.90,2,    0.00,2,    2.37,2,   0.029,2,   0.002,7,  -0.013,2,   1.7987,2,    1.07,2,-999.000,9,  -7.493,   0.021,     6.0720,   0.0126,    0.18
32OC19880723,       A16N,     105,          1,         12,         12,2,19880820,       1653,     6.8350,   -27.2533,       4219,   913.2,  34.6334,2,-999.0000,9,    134.7,2,   137.4,2,   26.60,2,   32.10,2,    0.00,2,    2.15,2,   0.120,4,   0.005,7,   0.098,2,   1.8002,2,    1.31,2,-999.000,9,  -7.493,   0.023,     4.8780,   0.0126,    0.18
32OC19880723,       A16N,     105,          1,         13,         13,2,19880820,       1653,     6.8350,   -27.2533,       4219,  1165.0,  34.8197,2,  34.8230,2,    165.4,2,   170.4,2,   25.30,2,   28.70,2,    0.00,2,    1.95,2,   0.018,2,   0.005,7,  -0.009,2,   1.8171,2,    1.15,2,-999.000,9,  -7.493,   0.020,     4.6570,   0.0127,    0.18
32OC19880723,       A16N,     105,          1,         14,         14,2,19880820,       1653,     6.8350,   -27.2533,       4219,  1416.3,  34.9349,2,  34.9360,2,    205.9,2,   211.2,2,   20.20,2,   23.90,2,    0.00,2,    1.62,2,   0.041,2,   0.005,7,-999.000,9,-999.0000,9, -999.00,9,-999.000,9,-999.000,   9.000,     4.3910,-999.0000, -999.00
32OC19880723,       A16N,     105,          1,         15,         15,2,19880820,       1653,     6.8350,   -27.2533,       4219,  1719.0,  34.9677,2,  34.9670,2,    238.1,2,   241.6,2,   19.00,2,   21.00,2,    0.00,2,    1.37,2,  -0.028,3,   0.002,7,-999.000,9,-999.0000,9, -999.00,9,-999.000,9,-999.000,-999.000,     3.8270,-999.0000, -999.00
32OC19880723,       A16N,     105,          1,         16,         16,2,19880820,       1653,     6.8350,   -27.2533,       4219,  2022.4,  34.9563,2,  34.9550,2,    245.0,2,   245.1,2,   22.70,2,   20.90,2,    0.00,2,    1.38,2,  -0.008,3,   0.005,7,-999.000,9,-999.0000,9, -999.00,9,-999.000,9,-999.000,   9.000,     3.4430,-999.0000, -999.00
32OC19880723,       A16N,     105,          1,         17,         17,2,19880820,       1653,     6.8350,   -27.2533,       4219,  2326.1,  34.9433,2,  34.9430,2,    246.8,2,   246.4,2,   27.00,2,   20.90,2,    0.00,2,    1.40,2,  -0.014,3,   0.002,7,-999.000,9,-999.0000,9, -999.00,9,-999.000,9,-999.000,-999.000,     3.1440,-999.0000, -999.00
32OC19880723,       A16N,     105,          1,         18,         18,2,19880820,       1653,     6.8350,   -27.2533,       4219,  2630.1,  34.9325,2,  34.9310,2,    248.5,2,   248.1,2,   30.70,2,   21.00,2,    0.00,2,    1.39,2,   0.005,2,   0.002,7,-999.000,9,-999.0000,9, -999.00,9,-999.000,9,-999.000,   9.000,     2.8980,-999.0000, -999.00
32OC19880723,       A16N,     105,          1,         19,         19,2,19880820,       1653,     6.8350,   -27.2533,       4219,  2934.0,  34.9214,2,  34.9200,2,    249.6,2,   249.0,2,   34.10,2,   21.30,2,    0.01,2,    1.42,2,   0.002,2,   0.002,7,-999.000,9,-999.0000,9, -999.00,9,-999.000,9,-999.000,-999.000,     2.7360,-999.0000, -999.00
32OC19880723,       A16N,     105,          1,         20,         20,2,19880820,       1653,     6.8350,   -27.2533,       4219,  3238.6,  34.9122,2,  34.9110,2,    249.1,2,   248.1,2,   36.70,2,   21.30,2,    0.02,2,    1.43,2,   0.011,2,   0.002,7,-999.000,9,-999.0000,9, -999.00,9,-999.000,9,-999.000,   9.000,     2.6210,-999.0000, -999.00
32OC19880723,       A16N,     105,          1,         21,         21,2,19880820,       1653,     6.8350,   -27.2533,       4219,  3543.3,  34.9024,2,  34.9030,2,    251.7,2,   251.6,2,   38.90,2,   21.20,2,    0.02,2,    1.46,2,   0.034,2,   0.005,7,-999.000,9,-999.0000,9, -999.00,9,-999.000,9,-999.000,-999.000,     2.4850,-999.0000, -999.00
32OC19880723,       A16N,     105,          1,         22,         22,2,19880820,       1653,     6.8350,   -27.2533,       4219,  3848.7,  34.8928,2,  34.8920,2,    252.4,2,   252.0,2,   41.50,2,   21.20,2,    0.02,2,    1.48,2,   0.003,2,   0.005,7,-999.000,9,-999.0000,9, -999.00,9,-999.000,9,-999.000,   9.000,     2.3740,-999.0000, -999.00
32OC19880723,       A16N,     105,          1,         23,         23,2,19880820,       1653,     6.8350,   -27.2533,       4219,  4104.2,  34.8884,2,  34.8870,2,    250.9,2,   251.6,2,   43.20,2,   21.40,2,    0.01,2,    1.47,2,   0.002,2,   0.002,7,-999.000,9,-999.0000,9, -999.00,9,-999.000,9,-999.000,-999.000,     2.3520,-999.0000, -999.00
32OC19880723,       A16N,     105,          1,         24,         24,2,19880820,       1653,     6.8350,   -27.2533,       4219,  4277.1,  34.8858,2,  34.8850,2,    249.0,2,   252.0,2,   44.20,2,   21.40,2,    0.03,2,    1.47,2,   0.012,2,   0.005,7,-999.000,9,-999.0000,9, -999.00,9,-999.000,9,-999.000,   9.000,     2.3510,-999.0000, -999.00
32OC19880723,       A16N,     105,          1,         99,     -999.0,9,19880820,       1653,     6.8350,   -27.2533,       4219,  4278.9,  34.8858,2,-999.0000,9,    249.0,2,  -999.0,9, -999.00,9, -999.00,9, -999.00,9, -999.00,9,-999.000,9,-999.000,9,-999.000,9,-999.0000,9, -999.00,9,-999.000,9,-999.000,-999.000,     2.3510,-999.0000, -999.00
32OC19880723,       A16N,     106,          1,          1,          1,2,19880820,       2236,     6.1550,   -26.9317,       4614,    13.1,  35.4224,2,  35.4150,2,    201.2,2,   201.3,2,    0.50,2,    0.20,2,    0.01,2,    0.03,2,-999.000,9,-999.000,9,-999.000,9,-999.0000,9, -999.00,9,-999.000,9,-999.000,   9.000,    27.5280,-999.0000, -999.00
32OC19880723,       A16N,     106,          1,          2,          2,2,19880820,       2236,     6.1550,   -26.9317,       4614,    37.4,  35.4838,2,  35.4420,2,    201.1,2,   201.7,2,    0.30,2,    0.00,2,    0.02,2,    0.02,2,-999.000,9,-999.000,9,-999.000,9,-999.0000,9, -999.00,9,-999.000,9,-999.000,-999.000,    27.5220,-999.0000, -999.00
32OC19880723,       A16N,     106,          1,          3,          3,2,19880820,       2236,     6.1550,   -26.9317,       4614,    66.5,  36.2218,2,  36.2560,2,    138.6,2,   162.5,2,    1.80,2,    2.40,2,    0.53,2,    0.25,2,-999.000,9,-999.000,9,-999.000,9,-999.0000,9, -999.00,9,-999.000,9,-999.000,   9.000,    22.7420,-999.0000, -999.00
32OC19880723,       A16N,     106,          1,          4,          4,2,19880820,       2236,     6.1550,   -26.9317,       4614,   105.0,  35.7815,2,  35.7310,2,    121.9,2,   133.2,2,    5.20,2,   16.10,2,    0.04,2,    1.07,2,-999.000,9,-999.000,9,-999.000,9,-999.0000,9, -999.00,9,-999.000,9,-999.000,-999.000,    16.0020,-999.0000, -999.00
32OC19880723,       A16N,     106,          1,          5,          5,2,19880820,       2236,     6.1550,   -26.9317,       4614,   151.1,  35.3610,2,  35.3360,2,    101.5,2,   102.2,2,    7.80,2,   23.30,2,    0.03,2,    1.52,2,-999.000,9,-999.000,9,-999.000,9,-999.0000,9, -999.00,9,-999.000,9,-999.000,   9.000,    13.2840,-999.0000, -999.00
32OC19880723,       A16N,     106,          1,          6,          6,2,19880820,       2236,     6.1550,   -26.9317,       4614,   189.9,  35.3039,2,  35.3050,2,    143.2,2,   142.7,2,    7.50,2,   19.90,2,    0.02,2,    1.33,2,-999.000,9,-999.000,9,-999.000,9,-999.0000,9, -999.00,9,-999.000,9,-999.000,-999.000,    12.7530,-999.0000, -999.00
32OC19880723,       A16N,     106,          1,          7,          7,2,19880820,       2236,     6.1550,   -26.9317,       4614,   225.6,  35.1672,2,  35.1800,2,    124.2,2,   114.4,2,    9.30,2,   24.30,2,    0.00,2,    1.59,2,-999.000,9,-999.000,9,-999.000,9,-999.0000,9, -999.00,9,-999.000,9,-999.000,   9.000,    11.8780,-999.0000, -999.00
32OC19880723,       A16N,     106,          1,          8,          8,2,19880820,       2236,     6.1550,   -26.9317,       4614,   256.4,  35.1048,2,  35.1040,2,     98.6,2,    99.6,2,   10.80,2,   27.10,2,    0.00,2,    1.76,2,-999.000,9,-999.000,9,-999.000,9,-999.0000,9, -999.00,9,-999.000,9,-999.000,-999.000,    11.2720,-999.0000, -999.00
32OC19880723,       A16N,     106,          1,          9,          9,2,19880820,       2236,     6.1550,   -26.9317,       4614,   319.7,  34.9701,2,  34.9680,2,    124.2,2,   121.3,2,   12.10,2,   26.90,2,    0.00,2,    1.76,2,-999.000,9,-999.000,9,-999.000,9,-999.0000,9, -999.00,9,-999.000,9,-999.000,   9.000,    10.1860,-999.0000, -999.00
32OC19880723,       A16N,     106,          1,         10,         10,2,19880820,       2236,     6.1550,   -26.9317,       4614,   397.5,  34.8728,2,  34.8630,2,     90.9,2,   102.6,2,   14.80,2,   30.70,2,    0.00,2,    2.00,2,-999.000,9,-999.000,9,-999.000,9,-999.0000,9, -999.00,9,-999.000,9,-999.000,-999.000,     9.1680,-999.0000, -999.00
32OC19880723,       A16N,     106,          1,         11,         11,2,19880820,       2236,     6.1550,   -26.9317,       4614,   557.0,  34.7468,2,  34.7650,2,     86.6,2,    83.0,2,   18.30,2,   35.60,2,    0.00,2,    2.36,2,-999.000,9,-999.000,9,-999.000,9,-999.0000,9, -999.00,9,-999.000,9,-999.000,   9.000,     7.6550,-999.0000, -999.00
32OC19880723,       A16N,     106,          1,         12,         12,2,19880820,       2236,     6.1550,   -26.9317,       4614,   701.7,  34.6346,2,-999.0000,9,    107.6,2,   107.8,2,   24.20,2,   35.20,2,    0.00,2,    2.37,2,-999.000,9,-999.000,9,-999.000,9,-999.0000,9, -999.00,9,-999.000,9,-999.000,-999.000,     5.9790,-999.0000, -999.00
32OC19880723,       A16N,     106,          1,         13,         13,2,19880820,       2236,     6.1550,   -26.9317,       4614,   935.2,  34.6513,2,  34.6420,2,    138.0,2,   136.9,2,   28.20,2,   34.30,2,    0.00,2,    2.39,2,-999.000,9,-999.000,9,-999.000,9,-999.0000,9, -999.00,9,-999.000,9,-999.000,   9.000,     4.9460,-999.0000, -999.00
32OC19880723,       A16N,     106,          1,         14,         14,2,19880820,       2236,     6.1550,   -26.9317,       4614,  1195.5,  34.8272,2,  34.8320,2,    168.2,2,   171.7,2,   25.20,2,   29.30,2,    0.00,2,    2.02,2,-999.000,9,-999.000,9,-999.000,9,-999.0000,9, -999.00,9,-999.000,9,-999.000,-999.000,     4.6200,-999.0000, -999.00
32OC19880723,       A16N,     106,          1,         15,         15,2,19880820,       2236,     6.1550,   -26.9317,       4614,  1482.6,  34.9414,2,  34.9410,2,    217.3,2,   214.2,2,   20.70,2,   23.70,2,    0.00,2,    1.61,2,-999.000,9,-999.000,9,-999.000,9,-999.0000,9, -999.00,9,-999.000,9,-999.000,   9.000,     4.1920,-999.0000, -999.00
32OC19880723,       A16N,     106,          1,         16,         16,2,19880820,       2236,     6.1550,   -26.9317,       4614,  1794.5,  34.9590,2,  34.9580,2,    239.0,2,   239.8,2,   20.70,2,   21.50,2,    0.00,2,    1.43,2,-999.000,9,-999.000,9,-999.000,9,-999.0000,9, -999.00,9,-999.000,9,-999.000,-999.000,     3.6920,-999.0000, -999.00
32OC19880723,       A16N,     106,          1,         17,         17,2,19880820,       2236,     6.1550,   -26.9317,       4614,  2059.5,  34.9533,2,  34.9520,2,    246.3,2,   245.1,2,   23.00,2,   20.90,2,    0.00,2,    1.40,2,-999.000,9,-999.000,9,-999.000,9,-999.0000,9, -999.00,9,-999.000,9,-999.000,   9.000,     3.4120,-999.0000, -999.00
32OC19880723,       A16N,     106,          1,         18,         18,2,19880820,       2236,     6.1550,   -26.9317,       4614,  2426.6,  34.9397,2,  34.9360,2,    246.7,2,   245.5,2,   28.40,2,   20.80,2,    0.00,2,    1.43,2,-999.000,9,-999.000,9,-999.000,9,-999.0000,9, -999.00,9,-999.000,9,-999.000,-999.000,     3.0460,-999.0000, -999.00
32OC19880723,       A16N,     106,          1,         19,         19,2,19880820,       2236,     6.1550,   -26.9317,       4614,  2852.9,  34.9236,2,  34.9200,2,    249.1,2,   248.1,2,   33.20,2,   21.20,2,    0.00,2,    1.42,2,-999.000,9,-999.000,9,-999.000,9,-999.0000,9, -999.00,9,-999.000,9,-999.000,   9.000,     2.7790,-999.0000, -999.00
32OC19880723,       A16N,     106,          1,         20,         20,2,19880820,       2236,     6.1550,   -26.9317,       4614,  3280.0,  34.9117,2,  34.9080,2,    251.1,2,   250.3,2,   36.60,2,   21.10,2,    0.00,2,    1.42,2,-999.000,9,-999.000,9,-999.000,9,-999.0000,9, -999.00,9,-999.000,9,-999.000,-999.000,     2.5930,-999.0000, -999.00
32OC19880723,       A16N,     106,          1,         21,         21,2,19880820,       2236,     6.1550,   -26.9317,       4614,  3700.2,  34.8969,2,  34.8940,2,    251.6,2,   252.9,2,   40.10,2,   21.20,2,    0.00,2,    1.47,2,-999.000,9,-999.000,9,-999.000,9,-999.0000,9, -999.00,9,-999.000,9,-999.000,   9.000,     2.4070,-999.0000, -999.00
32OC19880723,       A16N,     106,          1,         22,         22,2,19880820,       2236,     6.1550,   -26.9317,       4614,  4100.3,  34.8899,2,  34.8880,2,    250.7,2,   250.7,2,   43.00,2,   21.60,2,    0.00,2,    1.47,2,-999.000,9,-999.000,9,-999.000,9,-999.0000,9, -999.00,9,-999.000,9,-999.000,-999.000,     2.3670,-999.0000, -999.00
32OC19880723,       A16N,     106,          1,         23,         23,2,19880820,       2236,     6.1550,   -26.9317,       4614,  4490.9,  34.8864,2,  34.8850,2,    249.8,2,   249.0,2,   44.50,2,   21.50,2,    0.02,2,    1.48,2,-999.000,9,-999.000,9,-999.000,9,-999.0000,9, -999.00,9,-999.000,9,-999.000,   9.000,     2.3730,-999.0000, -999.00
32OC19880723,       A16N,     106,          1,         24,         24,2,19880820,       2236,     6.1550,   -26.9317,       4614,  4678.3,  34.8862,2,  34.8840,2,    248.1,2,   248.5,2,   44.80,2,   21.80,2,    0.02,2,    1.47,2,-999.000,9,-999.000,9,-999.000,9,-999.0000,9, -999.00,9,-999.000,9,-999.000,-999.000,     2.3880,-999.0000, -999.00
32OC19880723,       A16N,     106,          1,         99,     -999.0,9,19880820,       2236,     6.1550,   -26.9317,       4614,  4680.5,-999.0000,9,-999.0000,9,   -999.0,9,  -999.0,9, -999.00,9, -999.00,9, -999.00,9, -999.00,9,-999.000,9,-999.000,9,-999.000,9,-999.0000,9, -999.00,9,-999.000,9,-999.000,   9.000,     2.3880,-999.0000, -999.00