BOTTLE,20220922CCHSIOAMB
EXPOCODE,SECT_ID,STNNBR,CASTNO,SAMPNO,BTLNBR,BTLNBR_FLAG_W,DATE,TIME,LATITUDE,LONGITUDE,DEPTH,CTDPRS,CTDSAL,CTDSAL_FLAG_W,SALNTY,SALNTY_FLAG_W,CTDOXY,CTDOXY_FLAG_W,OXYGEN,OXYGEN_FLAG_W,SILCAT,SILCAT_FLAG_W,NITRAT,NITRAT_FLAG_W,NITRIT,NITRIT_FLAG_W,PHSPHT,PHSPHT_FLAG_W,CFC-11,CFC-11_FLAG_W,CFC-12,CFC-12_FLAG_W,TRITUM,TRITUM_FLAG_W,HELIUM,HELIUM_FLAG_W,DELHE3,DELHE3_FLAG_W,NEON,NEON_FLAG_W,NEONER,TRITER,CTDTMP,HELIER,DELHER
,,,,,,,,,,,METERS,DBAR,PSS-78,,PSS-78,,UMOL/KG,,UMOL/KG,,UMOL/KG,,UMOL/KG,,UMOL/KG,,UMOL/KG,,PMOL/KG,,PMOL/KG,,TU,,NMOL/KG,,PERCNT,,NMOL/KG,,NMOL/KG,TU,IPTS-68,NMOL/KG,PERCNT
32OC19880723,       A16N,      77,          1,          7,          7,2,19880813,       1953,    26.7483,   -25.2750,       5153,    13.4,  37.2434,2,  37.2390,2,    213.0,2,   215.1,2,    0.00,2,    0.00,2,    0.00,2,    0.00,2,   1.944,2,   0.948,2,   2.248,2,   1.7044,2,   -1.71,2,-999.000,9,  -7.493,   0.044,    23.4620,   0.0119,    0.18
32OC19880723,       A16N,      77,          1,          8,          8,2,19880813,       1953,    26.7483,   -25.2750,       5153,    39.3,  37.2383,2,  37.2360,2,    214.1,2,   216.4,2,    0.20,2,    0.00,2,    0.00,2,    0.00,2,   1.951,2,   0.951,2,-999.000,9,   1.7136,2,   -0.93,2,-999.000,9,  -7.493,   9.000,    23.1300,   0.0120,    0.18
32OC19880723,       A16N,      77,          1,          9,          9,2,19880813,       1953,    26.7483,   -25.2750,       5153,    69.5,  36.8985,2,  37.0090,2,    233.3,2,   235.0,2,    0.20,2,    0.00,2,    0.00,2,    0.00,2,   2.111,2,   1.000,2,-999.000,9,-999.0000,9, -999.00,9,-999.000,9,-999.000,-999.000,    21.0840,-999.0000, -999.00
32OC19880723,       A16N,      77,          1,         10,         10,2,19880813,       1953,    26.7483,   -25.2750,       5153,   109.3,  36.8277,2,  36.8120,2,    222.8,2,   221.9,2,    0.30,2,    0.20,2,    0.00,2,    0.00,2,   2.159,2,   1.016,2,   2.421,2,   1.7232,2,   -1.22,2,-999.000,9,  -7.493,   0.047,    19.1690,   0.0121,    0.18
32OC19880723,       A16N,      77,          1,         11,         11,2,19880813,       1953,    26.7483,   -25.2750,       5153,   158.7,  36.6937,2,  36.6870,2,    213.7,2,   210.6,2,    0.60,2,    2.00,2,    0.03,2,    0.06,2,   2.145,2,   1.020,2,-999.000,9,-999.0000,9, -999.00,9,-999.000,9,-999.000,   9.000,    18.3530,-999.0000, -999.00
32OC19880723,       A16N,      77,          1,         12,         12,2,19880813,       1953,    26.7483,   -25.2750,       5153,   206.7,  36.4209,2,  36.4520,2,    205.2,2,   202.7,2,    1.00,2,    4.50,2,    0.00,2,    0.20,2,   2.043,2,   0.964,2,-999.000,9,   1.7358,2,    1.31,2,-999.000,9,  -7.493,-999.000,    17.1870,   0.0122,    0.18
32OC19880723,       A16N,      77,          1,         13,         13,2,19880813,       1953,    26.7483,   -25.2750,       5153,   306.6,  36.0682,2,  36.1100,2,    197.3,2,   195.7,2,    2.30,2,    8.40,2,    0.00,2,    0.42,2,   1.786,2,   0.831,2,   2.283,2,   1.7432,2,    4.00,2,-999.000,9,  -7.493,   0.045,    15.3500,   0.0122,    0.18
32OC19880723,       A16N,      77,          1,         14,         14,2,19880813,       1953,    26.7483,   -25.2750,       5153,   405.9,  35.8388,2,  35.8470,2,    195.3,2,   193.1,2,    3.50,2,   11.70,2,    0.00,2,    0.61,2,   1.681,2,   0.751,2,   2.610,2,   1.7678,2,    6.55,2,   7.341,2,   0.055,   0.049,    13.6310,   0.0124,    0.18
32OC19880723,       A16N,      77,          1,         15,         15,2,19880813,       1953,    26.7483,   -25.2750,       5153,   603.8,  35.5431,2,  35.5430,2,    176.8,2,   176.9,2,    7.30,2,   17.50,2,    0.00,2,    1.01,2,   0.896,2,   0.383,2,   1.859,2,   1.7856,2,   10.60,2,   7.487,2,   0.056,   0.043,    11.0660,   0.0125,    0.18
32OC19880723,       A16N,      77,          1,         16,         16,2,19880813,       1953,    26.7483,   -25.2750,       5153,   802.8,  35.8187,2,  35.8640,2,    174.2,2,   174.7,2,    8.70,2,   17.00,2,    0.00,2,    0.99,2,   0.789,4,   0.348,4,   1.623,2,   1.7853,2,    7.63,2,   7.455,2,   0.056,   0.040,    11.1060,   0.0125,    0.18
32OC19880723,       A16N,      77,          1,         17,         17,2,19880813,       1953,    26.7483,   -25.2750,       5153,  1050.6,  35.8165,2,  35.8410,2,    174.3,2,   174.3,2,   11.10,2,   18.40,2,    0.00,2,    1.10,2,   0.573,4,   0.235,4,   1.114,2,   1.7786,2,    6.69,2,-999.000,9,  -7.493,   0.040,    10.0540,   0.0125,    0.18
32OC19880723,       A16N,      77,          1,         18,         18,2,19880813,       1953,    26.7483,   -25.2750,       5153,  1297.5,  35.5076,2,  35.5230,2,    183.4,2,   182.9,2,   14.90,2,   20.80,2,    0.00,2,    1.29,2,   0.177,2,   0.076,2,   0.500,2,   1.7961,2,    3.87,2,-999.000,9,  -7.493,   0.033,     7.8020,   0.0126,    0.18
32OC19880723,       A16N,      77,          1,         19,         19,2,19880813,       1953,    26.7483,   -25.2750,       5153,  1544.0,  35.2486,2,  35.2560,2,    206.3,2,   206.4,2,   17.80,2,   21.30,2,    0.00,2,    1.34,2,   0.001,2,   0.023,2,   0.033,2,   1.8088,2,    1.59,2,-999.000,9,  -7.493,   0.025,     5.8250,   0.0127,    0.18
32OC19880723,       A16N,      77,          1,         20,         20,2,19880813,       1953,    26.7483,   -25.2750,       5153,  1792.6,  35.1590,2,  35.1700,2,    225.3,2,   224.2,2,   20.90,2,   20.30,2,    0.00,2,    1.37,2,   0.020,2,   0.002,7,-999.000,9,-999.0000,9, -999.00,9,-999.000,9,-999.000,   9.000,     4.9020,-999.0000, -999.00
32OC19880723,       A16N,      77,          1,         21,         21,2,19880813,       1953,    26.7483,   -25.2750,       5153,  2141.4,  35.0526,2,  35.0540,2,    242.6,2,   243.3,2,   21.70,2,   19.80,2,    0.00,2,    1.27,2,   0.022,2,   0.002,7,  -0.051,2,   1.8326,2,    1.00,2,-999.000,9,  -7.493,   0.024,     3.8650,   0.0128,    0.18
32OC19880723,       A16N,      77,          1,         22,         22,2,19880813,       1953,    26.7483,   -25.2750,       5153,  2488.2,  34.9836,2,  34.9900,2,    247.0,2,   248.1,2,   26.40,2,   20.10,2,    0.00,2,    1.33,2,   0.025,2,   0.002,7,-999.000,9,-999.0000,9, -999.00,9,-999.000,9,-999.000,-999.000,     3.2720,-999.0000, -999.00
32OC19880723,       A16N,      77,          1,         23,         23,2,19880813,       1953,    26.7483,   -25.2750,       5153,  2836.9,  34.9491,2,  34.9490,2,    248.0,2,   248.5,2,   32.20,2,   20.70,2,    0.01,2,    1.36,2,   0.011,2,  -0.001,2,   0.016,2,   1.8465,2,    1.49,2,-999.000,9,  -7.493,   0.022,     2.8520,   0.0129,    0.18
32OC19880723,       A16N,      77,          1,         24,         24,2,19880813,       1953,    26.7483,   -25.2750,       5153,  3188.2,  34.9279,2,  34.9280,2,    247.1,2,   246.8,2,   37.00,2,   21.20,2,    0.01,2,    1.40,2,   0.049,3,   0.002,7,-999.000,9,-999.0000,9, -999.00,9,-999.000,9,-999.000,   9.000,     2.6540,-999.0000, -999.00
32OC19880723,       A16N,      77,          1,          1,          1,2,19880813,       1953,    26.7483,   -25.2750,       5153,  3541.4,  34.9140,2,  34.9160,2,    245.9,2,   245.9,2,   40.50,2,   21.70,2,    0.01,2, -999.00,9,   0.002,2,  -0.001,2,-999.000,9,-999.0000,9, -999.00,9,-999.000,9,-999.000,-999.000,     2.5400,-999.0000, -999.00
32OC19880723,       A16N,      77,          1,          2,          2,2,19880813,       1953,    26.7483,   -25.2750,       5153,  3946.3,  34.9021,2,  34.9030,2,    245.9,2,   245.5,2,   43.00,2,   21.90,2,    0.01,2, -999.00,9,   0.020,2,  -0.001,2,-999.000,9,-999.0000,9, -999.00,9,-999.000,9,-999.000,   9.000,     2.4640,-999.0000, -999.00
32OC19880723,       A16N,      77,          1,          3,          3,2,19880813,       1953,    26.7483,   -25.2750,       5153,  4352.7,  34.8936,2,  34.8940,2,    245.5,2,   245.5,2,   45.20,2,   21.90,2,    0.01,2, -999.00,9,   0.035,3,   0.002,7,-999.000,9,-999.0000,9, -999.00,9,-999.000,9,-999.000,-999.000,     2.4180,-999.0000, -999.00
32OC19880723,       A16N,      77,          1,          4,          4,2,19880813,       1953,    26.7483,   -25.2750,       5153,  4710.4,  34.8873,2,  34.8880,2,    245.5,2,   245.9,2,   46.70,2,   22.10,2,    0.01,2, -999.00,9,   0.000,2,  -0.001,2,-999.000,9,-999.0000,9, -999.00,9,-999.000,9,-999.000,   9.000,     2.4010,-999.0000, -999.00
32OC19880723,       A16N,      77,          1,          5,          5,2,19880813,       1953,    26.7483,   -25.2750,       5153,  5020.0,  34.8854,2,  34.8880,2,    245.5,2,   245.9,2,   47.00,2,   22.00,2,    0.01,2, -999.00,9,  -0.008,2,  -0.001,2,-999.000,9,-999.0000,9, -999.00,9,-999.000,9,-999.000,-999.000,     2.4200,-999.0000, -999.00
32OC19880723,       A16N,      77,          1,          6,          6,2,19880813,       1953,    26.7483,   -25.2750,       5153,  5261.7,  34.8859,2,  34.8860,2,    245.8,2,   245.9,2,   47.00,2,   21.60,2,    0.01,2,    1.46,2,  -0.003,2,   0.002,7,-999.000,9,-999.0000,9, -999.00,9,-999.000,9,-999.000,   9.000,     2.4460,-999.0000, -999.00
32OC19880723,       A16N,      77,          1,         99,     -999.0,9,19880813,       1953,    26.7483,   -25.2750,       5153,  5262.3,  34.8859,2,-999.0000,9,    245.8,2,  -999.0,9, -999.00,9, -999.00,9, -999.00,9, -999.00,9,-999.000,9,-999.000,9,-999.000,9,-999.0000,9, -999.00,9,-999.000,9,-999.000,-999.000,     2.4460,-999.0000, -999.00
32OC19880723,       A16N,      78,          1,          7,          7,2,19880814,       0136,    26.0350,   -25.8250,       5246,    11.1,  37.3436,2,  37.3470,2,    212.9,2,   213.8,2,    0.00,2,    0.00,2,    0.01,2,    0.03,2,-999.000,9,-999.000,9,-999.000,9,-999.0000,9, -999.00,9,-999.000,9,-999.000,   9.000,    23.5440,-999.0000, -999.00
32OC19880723,       A16N,      78,          1,          8,          8,2,19880814,       0136,    26.0350,   -25.8250,       5246,    37.4,  37.3457,2,  37.3470,2,    215.7,2,   214.7,2,    0.00,2,    0.10,2,    0.01,2,    0.04,2,-999.000,9,-999.000,9,-999.000,9,-999.0000,9, -999.00,9,-999.000,9,-999.000,-999.000,    23.4810,-999.0000, -999.00
32OC19880723,       A16N,      78,          1,          9,          9,2,19880814,       0136,    26.0350,   -25.8250,       5246,    67.4,  37.1075,2,  37.0950,2,    228.4,2,   231.2,2,    0.10,2,    0.20,2,    0.01,2,    0.04,2,-999.000,9,-999.000,9,-999.000,9,-999.0000,9, -999.00,9,-999.000,9,-999.000,   9.000,    21.7240,-999.0000, -999.00
32OC19880723,       A16N,      78,          1,         10,         10,2,19880814,       0136,    26.0350,   -25.8250,       5246,   106.4,  36.9682,2,  36.9350,2,    218.5,2,   220.2,2,    0.10,2,    0.20,2,    0.01,2,    0.01,2,-999.000,9,-999.000,9,-999.000,9,-999.0000,9, -999.00,9,-999.000,9,-999.000,-999.000,    19.8840,-999.0000, -999.00
32OC19880723,       A16N,      78,          1,         11,         11,2,19880814,       0136,    26.0350,   -25.8250,       5246,   155.1,  36.8229,2,  36.8180,2,    212.8,2,   213.2,2,    0.30,2,    1.00,2,    0.03,2,    0.04,2,-999.000,9,-999.000,9,-999.000,9,-999.0000,9, -999.00,9,-999.000,9,-999.000,   9.000,    19.1590,-999.0000, -999.00
32OC19880723,       A16N,      78,          1,         12,         12,2,19880814,       0136,    26.0350,   -25.8250,       5246,   203.3,  36.5498,2,  36.6300,2,    201.7,2,   210.1,2,    0.60,2,    2.60,2,    0.03,2,    0.14,2,-999.000,9,-999.000,9,-999.000,9,-999.0000,9, -999.00,9,-999.000,9,-999.000,-999.000,    18.2940,-999.0000, -999.00
32OC19880723,       A16N,      78,          1,         13,         13,2,19880814,       0136,    26.0350,   -25.8250,       5246,   299.3,  36.1892,2,  36.2170,2,    200.5,2,   198.3,2,    1.70,2,    7.10,2,    0.00,2,    0.37,2,-999.000,9,-999.000,9,-999.000,9,-999.0000,9, -999.00,9,-999.000,9,-999.000,   9.000,    15.9490,-999.0000, -999.00
32OC19880723,       A16N,      78,          1,         14,         14,2,19880814,       0136,    26.0350,   -25.8250,       5246,   395.0,  35.9152,2,  35.9000,2,    187.4,2,   184.8,2,    3.50,2,   16.90,2,    0.00,2,    0.64,2,-999.000,9,-999.000,9,-999.000,9,-999.0000,9, -999.00,9,-999.000,9,-999.000,-999.000,    13.9920,-999.0000, -999.00
32OC19880723,       A16N,      78,          1,         16,         16,2,19880814,       0136,    26.0350,   -25.8250,       5246,   585.4,  35.5841,2,  35.5880,2,    168.4,2,   167.4,2,    6.90,2,   17.80,2,    0.00,2,    1.03,2,-999.000,9,-999.000,9,-999.000,9,-999.0000,9, -999.00,9,-999.000,9,-999.000,   9.000,    11.6300,-999.0000, -999.00
32OC19880723,       A16N,      78,          1,         15,         15,2,19880814,       0136,    26.0350,   -25.8250,       5246,   586.6,  35.5830,2,-999.0000,9,    168.7,2,  -999.0,9, -999.00,9, -999.00,9, -999.00,9, -999.00,9,-999.000,9,-999.000,9,-999.000,9,-999.0000,9, -999.00,9,-999.000,9,-999.000,-999.000,    11.6090,-999.0000, -999.00
32OC19880723,       A16N,      78,          1,         17,         17,2,19880814,       0136,    26.0350,   -25.8250,       5246,   776.4,  35.3640,2,  35.3830,2,    140.6,2,   141.3,2,   12.70,2,   24.00,2,    0.00,2,    1.44,2,-999.000,9,-999.000,9,-999.000,9,-999.0000,9, -999.00,9,-999.000,9,-999.000,   9.000,     9.6080,-999.0000, -999.00
32OC19880723,       A16N,      78,          1,         18,         18,2,19880814,       0136,    26.0350,   -25.8250,       5246,  1016.9,  35.2056,2,  35.2000,2,    153.2,2,   150.4,2,   18.00,2,   26.10,2,    0.00,2,    1.64,2,-999.000,9,-999.000,9,-999.000,9,-999.0000,9, -999.00,9,-999.000,9,-999.000,-999.000,     7.3740,-999.0000, -999.00
32OC19880723,       A16N,      78,          1,         19,         19,2,19880814,       0136,    26.0350,   -25.8250,       5246,  1257.0,  35.2352,2,  35.2390,2,    178.6,2,   179.9,2,   18.00,2,   23.40,2,    0.00,2,    1.50,2,-999.000,9,-999.000,9,-999.000,9,-999.0000,9, -999.00,9,-999.000,9,-999.000,   9.000,     6.5190,-999.0000, -999.00
32OC19880723,       A16N,      78,          1,         20,         20,2,19880814,       0136,    26.0350,   -25.8250,       5246,  1499.0,  35.2116,2,  35.2160,2,    203.3,2,   204.7,2,   18.30,2,   21.80,2,    0.00,2,    1.37,2,-999.000,9,-999.000,9,-999.000,9,-999.0000,9, -999.00,9,-999.000,9,-999.000,-999.000,     5.6420,-999.0000, -999.00
32OC19880723,       A16N,      78,          1,         21,         21,2,19880814,       0136,    26.0350,   -25.8250,       5246,  1744.1,  35.1463,2,  35.1490,2,    220.2,2,   222.0,2,   19.60,2,   20.90,2,    0.00,2,    1.34,2,-999.000,9,-999.000,9,-999.000,9,-999.0000,9, -999.00,9,-999.000,9,-999.000,   9.000,     4.8280,-999.0000, -999.00
32OC19880723,       A16N,      78,          1,         22,         22,2,19880814,       0136,    26.0350,   -25.8250,       5246,  2086.8,  35.0548,2,  35.0590,2,    236.8,2,   238.5,2,   22.30,2,   20.10,2,    0.00,2,    1.33,2,-999.000,9,-999.000,9,-999.000,9,-999.0000,9, -999.00,9,-999.000,9,-999.000,-999.000,     3.9190,-999.0000, -999.00
32OC19880723,       A16N,      78,          1,         23,         23,2,19880814,       0136,    26.0350,   -25.8250,       5246,  2481.8,  34.9818,2,  34.9840,2,    246.3,2,   247.2,2,   27.30,2,   20.20,2,    0.00,2,    1.32,2,-999.000,9,-999.000,9,-999.000,9,-999.0000,9, -999.00,9,-999.000,9,-999.000,   9.000,     3.1840,-999.0000, -999.00
32OC19880723,       A16N,      78,          1,         24,         24,2,19880814,       0136,    26.0350,   -25.8250,       5246,  2884.3,  34.9472,2,  34.9500,2,    246.1,2,   246.8,2,   33.20,2,   20.70,2,    0.00,2,    1.36,2,-999.000,9,-999.000,9,-999.000,9,-999.0000,9, -999.00,9,-999.000,9,-999.000,-999.000,     2.8540,-999.0000, -999.00
32OC19880723,       A16N,      78,          1,          1,          1,2,19880814,       0136,    26.0350,   -25.8250,       5246,  3289.9,  34.9251,2,  34.9260,2,    246.4,2,   245.9,2,   37.90,2,   21.00,2,    0.00,2,    1.40,2,-999.000,9,-999.000,9,-999.000,9,-999.0000,9, -999.00,9,-999.000,9,-999.000,   9.000,     2.6310,-999.0000, -999.00
32OC19880723,       A16N,      78,          1,          2,          2,2,19880814,       0136,    26.0350,   -25.8250,       5246,  3695.1,  34.9108,2,  34.9120,2,    245.7,2,   245.5,2,   41.10,2,   21.80,2,    0.00,2,    1.44,2,-999.000,9,-999.000,9,-999.000,9,-999.0000,9, -999.00,9,-999.000,9,-999.000,-999.000,     2.5150,-999.0000, -999.00
32OC19880723,       A16N,      78,          1,          3,          3,2,19880814,       0136,    26.0350,   -25.8250,       5246,  4103.4,  34.8961,2,  34.8980,2,    245.6,2,   245.0,2,   44.30,2,   22.00,2,    0.00,2,    1.44,2,-999.000,9,-999.000,9,-999.000,9,-999.0000,9, -999.00,9,-999.000,9,-999.000,   9.000,     2.4270,-999.0000, -999.00
32OC19880723,       A16N,      78,          1,          4,          4,2,19880814,       0136,    26.0350,   -25.8250,       5246,  4518.2,  34.8898,2,  34.8920,2,    245.6,2,   245.0,2,   45.70,2,   22.10,2,    0.00,2,    1.45,2,-999.000,9,-999.000,9,-999.000,9,-999.0000,9, -999.00,9,-999.000,9,-999.000,-999.000,     2.4070,-999.0000, -999.00
32OC19880723,       A16N,      78,          1,          5,          5,2,19880814,       0136,    26.0350,   -25.8250,       5246,  4934.4,  34.8858,2,  34.8860,2,    245.7,2,   245.5,2,   46.20,2,   22.10,2,    0.00,2,    1.46,2,-999.000,9,-999.000,9,-999.000,9,-999.0000,9, -999.00,9,-999.000,9,-999.000,   9.000,     2.4180,-999.0000, -999.00
32OC19880723,       A16N,      78,          1,          6,          6,2,19880814,       0136,    26.0350,   -25.8250,       5246,  5368.2,  34.8866,2,  34.8860,2,    245.1,2,   245.5,2,   46.80,2,   22.20,2,    0.00,2,    1.46,2,-999.000,9,-999.000,9,-999.000,9,-999.0000,9, -999.00,9,-999.000,9,-999.000,-999.000,     2.4730,-999.0000, -999.00
32OC19880723,       A16N,      78,          1,         99,     -999.0,9,19880814,       0136,    26.0350,   -25.8250,       5246,  5369.0,  34.8866,2,-999.0000,9,    245.1,2,  -999.0,9, -999.00,9, -999.00,9, -999.00,9, -999.00,9,-999.000,9,-999.000,9,-999.000,9,-999.0000,9, -999.00,9,-999.000,9,-999.000,   9.000,     2.4730,-999.0000, -999.00