BOTTLE,20220922CCHSIOAMB
EXPOCODE,SECT_ID,STNNBR,CASTNO,SAMPNO,BTLNBR,BTLNBR_FLAG_W,DATE,TIME,LATITUDE,LONGITUDE,DEPTH,CTDPRS,CTDSAL,CTDSAL_FLAG_W,SALNTY,SALNTY_FLAG_W,CTDOXY,CTDOXY_FLAG_W,OXYGEN,OXYGEN_FLAG_W,SILCAT,SILCAT_FLAG_W,NITRAT,NITRAT_FLAG_W,NITRIT,NITRIT_FLAG_W,PHSPHT,PHSPHT_FLAG_W,CFC-11,CFC-11_FLAG_W,CFC-12,CFC-12_FLAG_W,TRITUM,TRITUM_FLAG_W,HELIUM,HELIUM_FLAG_W,DELHE3,DELHE3_FLAG_W,NEON,NEON_FLAG_W,NEONER,TRITER,CTDTMP,HELIER,DELHER
,,,,,,,,,,,METERS,DBAR,PSS-78,,PSS-78,,UMOL/KG,,UMOL/KG,,UMOL/KG,,UMOL/KG,,UMOL/KG,,UMOL/KG,,PMOL/KG,,PMOL/KG,,TU,,NMOL/KG,,PERCNT,,NMOL/KG,,NMOL/KG,TU,IPTS-68,NMOL/KG,PERCNT
32OC19880723,       A16N,      71,          1,          2,          2,2,19880812,       0953,    30.6017,   -23.1733,       5292,    12.3,  36.8915,2,  36.9020,2,    218.0,2,   216.1,2,    0.00,2,    0.00,2,    0.00,2,    0.11,2,-999.000,9,-999.000,9,-999.000,9,-999.0000,9, -999.00,9,-999.000,9,-999.000,   9.000,    23.5230,-999.0000, -999.00
32OC19880723,       A16N,      71,          1,          3,          3,2,19880812,       0953,    30.6017,   -23.1733,       5292,    37.3,  36.7393,2,  36.7580,2,    233.0,2,   235.1,2,    0.00,2,    0.10,2,    0.01,2,    0.11,2,-999.000,9,-999.000,9,-999.000,9,-999.0000,9, -999.00,9,-999.000,9,-999.000,-999.000,    21.5630,-999.0000, -999.00
32OC19880723,       A16N,      71,          1,          4,          4,2,19880812,       0953,    30.6017,   -23.1733,       5292,    67.3,  36.5847,2,  36.5760,2,    239.3,2,   237.2,2,    0.00,2,    0.20,2,    0.01,2,    0.12,2,-999.000,9,-999.000,9,-999.000,9,-999.0000,9, -999.00,9,-999.000,9,-999.000,   9.000,    19.1080,-999.0000, -999.00
32OC19880723,       A16N,      71,          1,          5,          5,2,19880812,       0953,    30.6017,   -23.1733,       5292,   107.8,  36.5221,2,  36.4740,2,    221.3,2,   214.5,2,    0.50,2,    1.40,2,    0.08,2,    0.20,2,-999.000,9,-999.000,9,-999.000,9,-999.0000,9, -999.00,9,-999.000,9,-999.000,-999.000,    17.8700,-999.0000, -999.00
32OC19880723,       A16N,      71,          1,          6,          6,2,19880812,       0953,    30.6017,   -23.1733,       5292,   157.4,  36.3821,2,  36.3640,2,    210.4,2,   210.6,2,    1.10,2,    4.30,2,    0.03,2,    0.22,2,-999.000,9,-999.000,9,-999.000,9,-999.0000,9, -999.00,9,-999.000,9,-999.000,   9.000,    17.1410,-999.0000, -999.00
32OC19880723,       A16N,      71,          1,          7,          7,2,19880812,       0953,    30.6017,   -23.1733,       5292,   207.7,  36.3525,2,  36.2560,2,    215.2,2,   211.4,2,    1.30,2,    5.40,2,    0.02,2,    0.31,2,-999.000,9,-999.000,9,-999.000,9,-999.0000,9, -999.00,9,-999.000,9,-999.000,-999.000,    16.4800,-999.0000, -999.00
32OC19880723,       A16N,      71,          1,          8,          8,2,19880812,       0953,    30.6017,   -23.1733,       5292,   308.1,  36.0171,2,  36.0330,2,    204.1,2,   204.0,2,    2.40,2,    8.50,2,    0.02,2,    0.57,2,-999.000,9,-999.000,9,-999.000,9,-999.0000,9, -999.00,9,-999.000,9,-999.000,   9.000,    14.9940,-999.0000, -999.00
32OC19880723,       A16N,      71,          1,          9,          9,2,19880812,       0953,    30.6017,   -23.1733,       5292,   408.0,  35.8301,2,  35.8170,2,    203.6,2,   204.0,2,    3.40,2,   11.00,2,    0.01,2,    0.63,2,-999.000,9,-999.000,9,-999.000,9,-999.0000,9, -999.00,9,-999.000,9,-999.000,-999.000,    13.5200,-999.0000, -999.00
32OC19880723,       A16N,      71,          1,         10,         10,2,19880812,       0953,    30.6017,   -23.1733,       5292,   607.1,  35.5648,2,  35.5520,2,    195.7,2,   195.7,2,    5.80,2,   15.20,2,    0.01,2,    0.91,2,-999.000,9,-999.000,9,-999.000,9,-999.0000,9, -999.00,9,-999.000,9,-999.000,   9.000,    11.4120,-999.0000, -999.00
32OC19880723,       A16N,      71,          1,         11,         11,2,19880812,       0953,    30.6017,   -23.1733,       5292,   806.4,  35.5149,2,  35.5170,2,    179.0,2,   178.7,2,    9.20,2,   18.80,2,    0.01,2,    1.15,2,-999.000,9,-999.000,9,-999.000,9,-999.0000,9, -999.00,9,-999.000,9,-999.000,-999.000,    10.0020,-999.0000, -999.00
32OC19880723,       A16N,      71,          1,         12,         12,2,19880812,       0953,    30.6017,   -23.1733,       5292,  1056.7,  35.5674,2,  35.5650,2,    191.5,2,   191.6,2,   11.10,2,   18.80,2,    0.01,2,    1.16,2,-999.000,9,-999.000,9,-999.000,9,-999.0000,9, -999.00,9,-999.000,9,-999.000,   9.000,     8.6000,-999.0000, -999.00
32OC19880723,       A16N,      71,          1,         13,         13,2,19880812,       0953,    30.6017,   -23.1733,       5292,  1056.7,  35.5674,2,  35.5640,2,    191.5,2,   191.2,2,   11.10,2,   18.90,2,    0.01,2,    1.17,2,-999.000,9,-999.000,9,-999.000,9,-999.0000,9, -999.00,9,-999.000,9,-999.000,-999.000,     8.6000,-999.0000, -999.00
32OC19880723,       A16N,      71,          1,         14,         14,2,19880812,       0953,    30.6017,   -23.1733,       5292,  1815.8,  35.1830,2,  35.1870,2,    241.1,2,   240.7,2,   15.30,2,   18.90,2,    0.01,2,    1.22,2,-999.000,9,-999.000,9,-999.000,9,-999.0000,9, -999.00,9,-999.000,9,-999.000,   9.000,     4.8760,-999.0000, -999.00
32OC19880723,       A16N,      71,          1,         15,         15,2,19880812,       0953,    30.6017,   -23.1733,       5292,  2170.2,  35.0575,2,  35.0540,2,    245.9,2,   246.4,2,   21.50,2,   19.60,2,    0.01,2,    1.27,2,-999.000,9,-999.000,9,-999.000,9,-999.0000,9, -999.00,9,-999.000,9,-999.000,-999.000,     3.8280,-999.0000, -999.00
32OC19880723,       A16N,      71,          1,         16,         16,2,19880812,       0953,    30.6017,   -23.1733,       5292,  2525.6,  34.9877,2,  34.9880,2,    247.9,2,   249.0,2,   26.80,2,   20.00,2,    0.01,2,    1.38,2,-999.000,9,-999.000,9,-999.000,9,-999.0000,9, -999.00,9,-999.000,9,-999.000,   9.000,     3.2410,-999.0000, -999.00
32OC19880723,       A16N,      71,          1,         17,         17,2,19880812,       0953,    30.6017,   -23.1733,       5292,  2879.9,  34.9488,2,  34.9480,2,    250.3,2,   250.3,2,   31.50,2,   20.40,2,    0.01,2,    1.36,2,-999.000,9,-999.000,9,-999.000,9,-999.0000,9, -999.00,9,-999.000,9,-999.000,-999.000,     2.8580,-999.0000, -999.00
32OC19880723,       A16N,      71,          1,         18,         18,2,19880812,       0953,    30.6017,   -23.1733,       5292,  3234.5,  34.9292,2,  34.9280,2,    247.7,2,   247.2,2,   36.70,2,   21.00,2,    0.01,2,    1.42,2,-999.000,9,-999.000,9,-999.000,9,-999.0000,9, -999.00,9,-999.000,9,-999.000,   9.000,     2.6630,-999.0000, -999.00
32OC19880723,       A16N,      71,          1,         19,         19,2,19880812,       0953,    30.6017,   -23.1733,       5292,  3589.4,  34.9141,2,  34.9140,2,    246.8,2,   246.3,2,   40.40,2,   21.70,2,    0.01,2,    1.46,2,-999.000,9,-999.000,9,-999.000,9,-999.0000,9, -999.00,9,-999.000,9,-999.000,-999.000,     2.5410,-999.0000, -999.00
32OC19880723,       A16N,      71,          1,         20,         20,2,19880812,       0953,    30.6017,   -23.1733,       5292,  3999.7,  34.9013,2,  34.9020,2,    246.4,2,   245.9,2,   43.10,2,   21.70,2,    0.01,2,    1.47,2,-999.000,9,-999.000,9,-999.000,9,-999.0000,9, -999.00,9,-999.000,9,-999.000,   9.000,     2.4640,-999.0000, -999.00
32OC19880723,       A16N,      71,          1,         21,         21,2,19880812,       0953,    30.6017,   -23.1733,       5292,  4410.8,  34.8928,2,  34.8920,2,    246.8,2,   247.2,2,   45.10,2,   22.20,2,    0.01,2,    1.48,2,-999.000,9,-999.000,9,-999.000,9,-999.0000,9, -999.00,9,-999.000,9,-999.000,-999.000,     2.4210,-999.0000, -999.00
32OC19880723,       A16N,      71,          1,         22,         22,2,19880812,       0953,    30.6017,   -23.1733,       5292,  4772.5,  34.8880,2,  34.8890,2,    246.5,2,   245.9,2,   46.30,2,   22.30,2,    0.01,2,    1.48,2,-999.000,9,-999.000,9,-999.000,9,-999.0000,9, -999.00,9,-999.000,9,-999.000,   9.000,     2.4160,-999.0000, -999.00
32OC19880723,       A16N,      71,          1,         23,         23,2,19880812,       0953,    30.6017,   -23.1733,       5292,  5131.8,  34.8855,2,  34.8860,2,    246.4,2,   246.3,2,   46.60,2,   22.30,2,    0.01,2,    1.48,2,-999.000,9,-999.000,9,-999.000,9,-999.0000,9, -999.00,9,-999.000,9,-999.000,-999.000,     2.4410,-999.0000, -999.00
32OC19880723,       A16N,      71,          1,         24,         24,2,19880812,       0953,    30.6017,   -23.1733,       5292,  5392.8,  34.8854,2,  34.8860,2,    245.5,2,   246.3,2,   46.80,2,   22.30,2,    0.01,2,    1.48,2,-999.000,9,-999.000,9,-999.000,9,-999.0000,9, -999.00,9,-999.000,9,-999.000,   9.000,     2.4700,-999.0000, -999.00
32OC19880723,       A16N,      71,          1,         99,     -999.0,9,19880812,       0953,    30.6017,   -23.1733,       5292,  5393.7,  34.8854,2,-999.0000,9,    245.5,2,  -999.0,9, -999.00,9, -999.00,9, -999.00,9, -999.00,9,-999.000,9,-999.000,9,-999.000,9,-999.0000,9, -999.00,9,-999.000,9,-999.000,-999.000,     2.4710,-999.0000, -999.00
32OC19880723,       A16N,      72,          1,          1,          1,2,19880812,       1436,    30.1517,   -23.4117,       5292,    12.4,  37.0610,2,  37.0550,2,    214.3,2,   216.5,2,    0.00,2,    0.30,2,    0.01,2, -999.00,9,   2.010,6,   0.966,6,-999.000,9,-999.0000,9, -999.00,9,-999.000,9,-999.000,   9.000,    23.3990,-999.0000, -999.00
32OC19880723,       A16N,      72,          1,          2,          2,2,19880812,       1436,    30.1517,   -23.4117,       5292,    37.5,  37.0558,2,  37.0490,2,    217.9,2,   218.2,2,    0.00,2,    0.10,2,    0.00,2, -999.00,9,   2.037,6,   0.955,6,-999.000,9,-999.0000,9, -999.00,9,-999.000,9,-999.000,-999.000,    23.1350,-999.0000, -999.00
32OC19880723,       A16N,      72,          1,          3,          3,2,19880812,       1436,    30.1517,   -23.4117,       5292,    67.6,  36.9819,2,  36.8690,2,    233.3,2,   244.2,2,    0.00,2,    0.00,2,    0.01,2, -999.00,9,   2.199,6,   1.052,6,-999.000,9,-999.0000,9, -999.00,9,-999.000,9,-999.000,   9.000,    20.7200,-999.0000, -999.00
32OC19880723,       A16N,      72,          1,          4,          4,2,19880812,       1436,    30.1517,   -23.4117,       5292,   107.8,  36.7435,2,  36.7200,2,    237.3,2,   231.0,2,    0.20,2,    0.00,2,    0.03,2, -999.00,9,   2.194,6,   1.048,6,-999.000,9,-999.0000,9, -999.00,9,-999.000,9,-999.000,-999.000,    18.6850,-999.0000, -999.00
32OC19880723,       A16N,      72,          1,          5,          5,2,19880812,       1436,    30.1517,   -23.4117,       5292,   157.9,  36.6113,2,  36.5890,2,    217.7,2,   217.5,2,    0.50,2,    1.80,2,    0.01,2, -999.00,9,   2.258,6,   1.072,6,-999.000,9,-999.0000,9, -999.00,9,-999.000,9,-999.000,   9.000,    17.9040,-999.0000, -999.00
32OC19880723,       A16N,      72,          1,          6,          6,2,19880812,       1436,    30.1517,   -23.4117,       5292,   208.1,  36.4786,2,  36.4210,2,    211.2,2,   208.4,2,    1.00,2,    4.10,2,    0.01,2, -999.00,9,-999.000,9,-999.000,9,-999.000,9,-999.0000,9, -999.00,9,-999.000,9,-999.000,-999.000,    16.9940,-999.0000, -999.00
32OC19880723,       A16N,      72,          1,          7,          7,2,19880812,       1436,    30.1517,   -23.4117,       5292,   307.2,  36.0615,2,  36.0620,2,    200.6,2,   201.4,2,    2.10,2,    8.00,2,    0.01,2, -999.00,9,-999.000,9,-999.000,9,-999.000,9,-999.0000,9, -999.00,9,-999.000,9,-999.000,   9.000,    15.0450,-999.0000, -999.00
32OC19880723,       A16N,      72,          1,          8,          8,2,19880812,       1436,    30.1517,   -23.4117,       5292,   406.3,  35.8489,2,  35.8390,2,    199.5,2,   200.0,2,    3.40,2,   10.80,2,    0.01,2, -999.00,9,-999.000,9,-999.000,9,-999.000,9,-999.0000,9, -999.00,9,-999.000,9,-999.000,-999.000,    13.5760,-999.0000, -999.00
32OC19880723,       A16N,      72,          1,          9,          9,2,19880812,       1436,    30.1517,   -23.4117,       5292,   605.2,  35.5771,2,  35.5760,2,    184.4,2,   184.8,2,    6.20,2,   15.90,2,    0.01,2, -999.00,9,-999.000,9,-999.000,9,-999.000,9,-999.0000,9, -999.00,9,-999.000,9,-999.000,   9.000,    11.4770,-999.0000, -999.00
32OC19880723,       A16N,      72,          1,         10,         10,2,19880812,       1436,    30.1517,   -23.4117,       5292,   805.4,  35.4889,2,  35.4850,2,    166.5,2,   166.1,2,   10.50,2,   20.20,2,    0.01,2, -999.00,9,-999.000,9,-999.000,9,-999.000,9,-999.0000,9, -999.00,9,-999.000,9,-999.000,-999.000,     9.8490,-999.0000, -999.00
32OC19880723,       A16N,      72,          1,         11,         11,2,19880812,       1436,    30.1517,   -23.4117,       5292,  1055.9,  35.5637,2,  35.5900,2,    178.9,2,   179.9,2,   12.10,2,   19.80,2,    0.01,2, -999.00,9,-999.000,9,-999.000,9,-999.000,9,-999.0000,9, -999.00,9,-999.000,9,-999.000,   9.000,     8.8040,-999.0000, -999.00
32OC19880723,       A16N,      72,          1,         12,         12,2,19880812,       1436,    30.1517,   -23.4117,       5292,  1307.7,  35.4559,2,  35.4740,2,    200.4,2,   203.8,2,   12.90,2,   19.20,2,    0.01,2, -999.00,9,-999.000,9,-999.000,9,-999.000,9,-999.0000,9, -999.00,9,-999.000,9,-999.000,-999.000,     7.3190,-999.0000, -999.00
32OC19880723,       A16N,      72,          1,         13,         13,2,19880812,       1436,    30.1517,   -23.4117,       5292,  1307.7,  35.4559,2,  35.4760,2,    200.4,2,   202.9,2,   13.00,2,   19.30,2,    0.00,2, -999.00,9,-999.000,9,-999.000,9,-999.000,9,-999.0000,9, -999.00,9,-999.000,9,-999.000,   9.000,     7.3190,-999.0000, -999.00
32OC19880723,       A16N,      72,          1,         14,         14,2,19880812,       1436,    30.1517,   -23.4117,       5292,  1813.2,  35.1723,2,  35.1860,2,    239.5,2,   239.0,2,   15.20,2,   19.10,2,    0.00,2, -999.00,9,-999.000,9,-999.000,9,-999.000,9,-999.0000,9, -999.00,9,-999.000,9,-999.000,-999.000,     4.9520,-999.0000, -999.00
32OC19880723,       A16N,      72,          1,         15,         15,2,19880812,       1436,    30.1517,   -23.4117,       5292,  2167.8,  35.0546,2,  35.0520,2,    246.2,2,   249.0,2,   19.90,2,   19.30,2,    0.00,2, -999.00,9,-999.000,9,-999.000,9,-999.000,9,-999.0000,9, -999.00,9,-999.000,9,-999.000,   9.000,     3.8640,-999.0000, -999.00
32OC19880723,       A16N,      72,          1,         16,         16,2,19880812,       1436,    30.1517,   -23.4117,       5292,  2522.5,  34.9854,2,  34.9850,2,    249.0,2,   249.0,2,   26.30,2,   20.00,2,    0.00,2, -999.00,9,-999.000,9,-999.000,9,-999.000,9,-999.0000,9, -999.00,9,-999.000,9,-999.000,-999.000,     3.2360,-999.0000, -999.00
32OC19880723,       A16N,      72,          1,         17,         17,2,19880812,       1436,    30.1517,   -23.4117,       5292,  2876.8,  34.9493,2,  34.9480,2,    249.7,2,   249.8,2,   31.40,2,   20.50,2,    0.00,2, -999.00,9,-999.000,9,-999.000,9,-999.000,9,-999.0000,9, -999.00,9,-999.000,9,-999.000,   9.000,     2.8650,-999.0000, -999.00
32OC19880723,       A16N,      72,          1,         18,         18,2,19880812,       1436,    30.1517,   -23.4117,       5292,  3232.4,  34.9295,2,  34.9290,2,    247.6,2,   246.8,2,   36.60,2,   21.30,2,    0.00,2, -999.00,9,-999.000,9,-999.000,9,-999.000,9,-999.0000,9, -999.00,9,-999.000,9,-999.000,-999.000,     2.6640,-999.0000, -999.00
32OC19880723,       A16N,      72,          1,         19,         19,2,19880812,       1436,    30.1517,   -23.4117,       5292,  3588.8,  34.9140,2,  34.9130,2,    245.6,2,   245.0,2,   40.40,2,   21.70,2,    0.00,2, -999.00,9,-999.000,9,-999.000,9,-999.000,9,-999.0000,9, -999.00,9,-999.000,9,-999.000,   9.000,     2.5330,-999.0000, -999.00
32OC19880723,       A16N,      72,          1,         20,         20,2,19880812,       1436,    30.1517,   -23.4117,       5292,  3996.0,  34.9003,2,  34.9010,2,    246.6,2,   245.5,2,   43.30,2,   22.10,2,    0.00,2, -999.00,9,-999.000,9,-999.000,9,-999.000,9,-999.0000,9, -999.00,9,-999.000,9,-999.000,-999.000,     2.4530,-999.0000, -999.00
32OC19880723,       A16N,      72,          1,         21,         21,2,19880812,       1436,    30.1517,   -23.4117,       5292,  4405.1,  34.8924,2,  34.8920,2,    246.6,2,   246.3,2,   45.20,2,   22.00,2,    0.00,2, -999.00,9,-999.000,9,-999.000,9,-999.000,9,-999.0000,9, -999.00,9,-999.000,9,-999.000,   9.000,     2.4180,-999.0000, -999.00
32OC19880723,       A16N,      72,          1,         22,         22,2,19880812,       1436,    30.1517,   -23.4117,       5292,  4816.3,  34.8877,2,  34.8890,2,    245.8,2,   245.9,2,   46.60,2,   22.30,2,    0.00,2, -999.00,9,-999.000,9,-999.000,9,-999.000,9,-999.0000,9, -999.00,9,-999.000,9,-999.000,-999.000,     2.4190,-999.0000, -999.00
32OC19880723,       A16N,      72,          1,         23,         23,2,19880812,       1436,    30.1517,   -23.4117,       5292,  5228.0,  34.8865,2,  34.8850,2,    245.2,2,   245.5,2,   46.80,2,   22.00,2,    0.00,2, -999.00,9,-999.000,9,-999.000,9,-999.000,9,-999.0000,9, -999.00,9,-999.000,9,-999.000,   9.000,     2.4550,-999.0000, -999.00
32OC19880723,       A16N,      72,          1,         24,         24,2,19880812,       1436,    30.1517,   -23.4117,       5292,  5381.5,  34.8867,2,  34.8840,2,    244.6,2,   245.5,2,   47.30,2,   22.50,2,    0.00,2, -999.00,9,-999.000,9,-999.000,9,-999.000,9,-999.0000,9, -999.00,9,-999.000,9,-999.000,-999.000,     2.4700,-999.0000, -999.00
32OC19880723,       A16N,      72,          1,         99,     -999.0,9,19880812,       1436,    30.1517,   -23.4117,       5292,  5382.3,  34.8867,2,-999.0000,9,    244.6,2,  -999.0,9, -999.00,9, -999.00,9, -999.00,9, -999.00,9,-999.000,9,-999.000,9,-999.000,9,-999.0000,9, -999.00,9,-999.000,9,-999.000,   9.000,     2.4710,-999.0000, -999.00