BOTTLE,20220922CCHSIOAMB
EXPOCODE,SECT_ID,STNNBR,CASTNO,SAMPNO,BTLNBR,BTLNBR_FLAG_W,DATE,TIME,LATITUDE,LONGITUDE,DEPTH,CTDPRS,CTDSAL,CTDSAL_FLAG_W,SALNTY,SALNTY_FLAG_W,CTDOXY,CTDOXY_FLAG_W,OXYGEN,OXYGEN_FLAG_W,SILCAT,SILCAT_FLAG_W,NITRAT,NITRAT_FLAG_W,NITRIT,NITRIT_FLAG_W,PHSPHT,PHSPHT_FLAG_W,CFC-11,CFC-11_FLAG_W,CFC-12,CFC-12_FLAG_W,TRITUM,TRITUM_FLAG_W,HELIUM,HELIUM_FLAG_W,DELHE3,DELHE3_FLAG_W,NEON,NEON_FLAG_W,NEONER,TRITER,CTDTMP,HELIER,DELHER
,,,,,,,,,,,METERS,DBAR,PSS-78,,PSS-78,,UMOL/KG,,UMOL/KG,,UMOL/KG,,UMOL/KG,,UMOL/KG,,UMOL/KG,,PMOL/KG,,PMOL/KG,,TU,,NMOL/KG,,PERCNT,,NMOL/KG,,NMOL/KG,TU,IPTS-68,NMOL/KG,PERCNT
32OC19880723,       A16N,      93,          1,          1,          1,2,19880817,       1800,    15.5117,   -29.0050,       5252,    14.2,  36.5076,2,  36.5090,2,    207.5,2,   206.2,2,    0.60,2,    0.00,2,    0.00,2,    0.07,2,   1.730,2,   0.855,2,   0.941,2,   1.6984,2,   -1.43,2,-999.000,9,  -7.493,   0.031,    25.6380,   0.0119,    0.18
32OC19880723,       A16N,      93,          1,          2,          2,2,19880817,       1800,    15.5117,   -29.0050,       5252,    39.7,  36.7624,2,-999.0000,9,    229.6,2,  -999.0,9, -999.00,9, -999.00,9, -999.00,9, -999.00,9,-999.000,9,-999.000,9,-999.000,9,-999.0000,9, -999.00,9,-999.000,9,-999.000,   9.000,    24.4660,-999.0000, -999.00
32OC19880723,       A16N,      93,          1,          3,          3,2,19880817,       1800,    15.5117,   -29.0050,       5252,    69.9,  36.8385,2,  36.8140,2,    227.7,2,   214.6,2,    0.80,2,    0.30,2,    0.00,2,    0.12,2,   1.997,2,   0.946,2,-999.000,9,   1.7093,2,   -1.22,2,-999.000,9,  -7.493,-999.000,    21.5100,   0.0120,    0.18
32OC19880723,       A16N,      93,          1,          4,          4,2,19880817,       1800,    15.5117,   -29.0050,       5252,   109.9,  36.4644,2,  36.4420,2,    129.9,2,   131.0,2,    3.50,2,   12.70,2,    0.03,2,    0.75,2,   1.644,4,   0.725,4,   1.949,2,   1.7212,2,    0.87,2,-999.000,9,  -7.493,   0.043,    18.1940,   0.0120,    0.18
32OC19880723,       A16N,      93,          1,          5,          5,2,19880817,       1800,    15.5117,   -29.0050,       5252,   160.2,  35.9114,2,  35.8630,2,     87.8,2,    83.5,2,    7.30,2,   22.20,2,    0.00,2,    1.31,2,   0.979,2,   0.445,2,   1.492,2,   1.7431,2,    3.41,2,-999.000,9,  -7.493,   0.038,    14.8220,   0.0122,    0.18
32OC19880723,       A16N,      93,          1,          6,          6,2,19880817,       1800,    15.5117,   -29.0050,       5252,   210.3,  35.6003,2,  35.5960,2,     76.5,2,    75.7,2,    9.20,2,   25.40,2,    0.00,2,    1.48,2,   0.586,2,   0.287,2,   1.028,2,   1.7611,2,    4.64,2,-999.000,9,  -7.493,   0.034,    13.1960,   0.0123,    0.18
32OC19880723,       A16N,      93,          1,          7,          7,2,19880817,       1800,    15.5117,   -29.0050,       5252,   310.3,  35.3119,2,  35.3200,2,     72.2,2,    70.9,2,   12.00,2,   29.10,2,    0.00,2,    1.46,2,-999.000,9,-999.000,9,   0.728,2,   1.7632,2,    4.35,2,-999.000,9,  -7.493,   0.031,    11.3990,   0.0123,    0.18
32OC19880723,       A16N,      93,          1,          8,          8,2,19880817,       1800,    15.5117,   -29.0050,       5252,   410.6,  35.2110,2,  35.2100,2,     65.1,2,    65.2,2,   14.20,2,   31.60,2,    0.00,2,    1.69,2,   0.183,2,   0.077,2,   0.480,2,   1.7682,2,    3.99,2,-999.000,9,  -7.493,   0.028,    10.4870,   0.0124,    0.18
32OC19880723,       A16N,      93,          1,          9,          9,2,19880817,       1800,    15.5117,   -29.0050,       5252,   611.3,  34.9838,2,  34.9860,2,     72.7,2,    72.6,2,   19.50,2,   34.70,2,    0.00,2,    2.00,2,   0.066,2,   0.009,7,   0.101,2,   1.7774,2,    1.27,2,-999.000,9,  -7.493,   0.022,     8.3820,   0.0124,    0.18
32OC19880723,       A16N,      93,          1,         10,         10,2,19880817,       1800,    15.5117,   -29.0050,       5252,   812.2,  34.8795,2,  34.8820,2,     94.5,2,    95.6,2,   23.40,2,   34.30,2,    0.00,2,    2.15,2,   0.006,3,   0.002,7,  -0.014,2,-999.0000,9, -999.00,9,-999.000,9,-999.000,   0.022,     6.9310,-999.0000, -999.00
32OC19880723,       A16N,      93,          1,         11,         11,2,19880817,       1800,    15.5117,   -29.0050,       5252,  1063.5,  34.9042,2,  34.9000,2,    133.9,2,   136.0,2,   24.90,2,   30.80,2,    0.00,2,    1.98,2,   0.045,2,   0.006,7,   0.019,2,   1.8157,2,    1.06,2,-999.000,9,  -7.493,   0.018,     5.7730,   0.0127,    0.18
32OC19880723,       A16N,      93,          1,         12,         12,2,19880817,       1800,    15.5117,   -29.0050,       5252,  1314.6,  34.9842,2,  34.9850,2,    170.1,2,   173.8,2,   23.50,2,   26.80,2,    0.01,2,    1.73,2,   0.054,2,   0.002,7,  -0.019,2,   1.8134,2,    0.98,2,-999.000,9,  -7.493,   0.011,     5.0840,   0.0127,    0.18
32OC19880723,       A16N,      93,          1,         13,         13,2,19880817,       1800,    15.5117,   -29.0050,       5252,  1565.8,  34.9922,2,  34.9930,2,    205.0,2,   209.9,2,   23.40,2,   23.50,2,    0.01,2,    1.52,2,   0.050,2,   0.006,7,  -0.008,2,   1.8276,2,    1.23,2,-999.000,9,  -7.493,   0.017,     4.2600,   0.0128,    0.18
32OC19880723,       A16N,      93,          1,         14,         14,2,19880817,       1800,    15.5117,   -29.0050,       5252,  1817.6,  34.9841,2,  34.9850,2,    224.6,2,   227.7,2,   23.60,2,   22.00,2,    0.01,2,    1.42,2,   0.023,2,   0.006,7,-999.000,9,-999.0000,9, -999.00,9,-999.000,9,-999.000,   9.000,     3.8250,-999.0000, -999.00
32OC19880723,       A16N,      93,          1,         15,         15,2,19880817,       1800,    15.5117,   -29.0050,       5252,  2170.2,  34.9661,2,  34.9680,2,    240.3,2,   240.3,2,   26.20,2,   21.10,2,    0.01,2,    1.36,2,  -0.002,3,   0.002,7,-999.000,9,-999.0000,9, -999.00,9,-999.000,9,-999.000,-999.000,     3.3860,-999.0000, -999.00
32OC19880723,       A16N,      93,          1,         16,         16,2,19880817,       1800,    15.5117,   -29.0050,       5252,  2523.9,  34.9498,2,  34.9520,2,    245.3,2,   245.0,2,   29.80,2,   21.00,2,    0.01,2,    1.36,2,   0.047,3,   0.002,7,-999.000,9,-999.0000,9, -999.00,9,-999.000,9,-999.000,   9.000,     3.0910,-999.0000, -999.00
32OC19880723,       A16N,      93,          1,         17,         17,2,19880817,       1800,    15.5117,   -29.0050,       5252,  2881.3,  34.9380,2,  34.9400,2,    249.3,2,   247.7,2,   34.40,2,   21.20,2,    0.01,2,    1.36,2,   0.022,2,   0.002,7,-999.000,9,-999.0000,9, -999.00,9,-999.000,9,-999.000,-999.000,     2.8440,-999.0000, -999.00
32OC19880723,       A16N,      93,          1,         18,         18,2,19880817,       1800,    15.5117,   -29.0050,       5252,  3238.3,  34.9236,2,  34.9230,2,    246.9,2,   245.5,2,   38.80,2,   21.60,2,    0.01,2,    1.39,2,   0.013,2,   0.002,7,-999.000,9,-999.0000,9, -999.00,9,-999.000,9,-999.000,   9.000,     2.6390,-999.0000, -999.00
32OC19880723,       A16N,      93,          1,         19,         19,2,19880817,       1800,    15.5117,   -29.0050,       5252,  3596.0,  34.9083,2,  34.9090,2,    241.8,2,   241.6,2,   43.70,2,   22.00,2,    0.01,2,    1.46,2,  -0.028,3,  -0.001,2,-999.000,9,-999.0000,9, -999.00,9,-999.000,9,-999.000,-999.000,     2.4900,-999.0000, -999.00
32OC19880723,       A16N,      93,          1,         20,         20,2,19880817,       1800,    15.5117,   -29.0050,       5252,  3952.9,  34.8940,2,  34.8950,2,    241.5,2,   241.6,2,   47.60,2,   22.30,2,    0.01,2,    1.46,2,   0.019,2,   0.002,7,-999.000,9,-999.0000,9, -999.00,9,-999.000,9,-999.000,   9.000,     2.3770,-999.0000, -999.00
32OC19880723,       A16N,      93,          1,         21,         21,2,19880817,       1800,    15.5117,   -29.0050,       5252,  4310.2,  34.8849,2,  34.8880,2,    239.8,2,   240.3,2,   49.90,2,   22.90,2,    0.00,2,    1.47,2,  -0.022,3,   0.024,3,-999.000,9,-999.0000,9, -999.00,9,-999.000,9,-999.000,-999.000,     2.3440,-999.0000, -999.00
32OC19880723,       A16N,      93,          1,         22,         22,2,19880817,       1800,    15.5117,   -29.0050,       5252,  4670.0,  34.8793,2,  34.8810,2,    237.2,2,   238.5,2,   51.70,2,   23.20,2,    0.01,2,    1.49,2,-999.000,9,-999.000,9,-999.000,9,-999.0000,9, -999.00,9,-999.000,9,-999.000,   9.000,     2.3360,-999.0000, -999.00
32OC19880723,       A16N,      93,          1,         23,         23,2,19880817,       1800,    15.5117,   -29.0050,       5252,  5027.9,  34.8762,2,  34.8780,2,    245.0,2,   245.9,2,   51.60,2,   22.30,2,    0.01,2,    1.46,2,   0.032,3,   0.002,7,-999.000,9,-999.0000,9, -999.00,9,-999.000,9,-999.000,-999.000,     2.3320,-999.0000, -999.00
32OC19880723,       A16N,      93,          1,         24,         24,2,19880817,       1800,    15.5117,   -29.0050,       5252,  5340.8,  34.8722,2,  34.8730,2,    247.2,2,   247.2,2,   50.70,2,   22.30,2,    0.02,2,    1.43,2,   0.137,4,   0.009,7,-999.000,9,-999.0000,9, -999.00,9,-999.000,9,-999.000,   9.000,     2.3280,-999.0000, -999.00
32OC19880723,       A16N,      93,          1,         99,     -999.0,9,19880817,       1800,    15.5117,   -29.0050,       5252,  5341.8,  34.8721,2,-999.0000,9,    247.3,2,  -999.0,9, -999.00,9, -999.00,9, -999.00,9, -999.00,9,-999.000,9,-999.000,9,-999.000,9,-999.0000,9, -999.00,9,-999.000,9,-999.000,-999.000,     2.3270,-999.0000, -999.00
32OC19880723,       A16N,      94,          1,          1,          1,2,19880817,       2347,    14.7567,   -29.0183,       5299,    14.6,  36.4796,2,  36.4770,2,    196.9,2,   200.2,2,    0.40,2,    0.10,2,    0.00,2,    0.02,2,   1.589,2,   0.800,2,-999.000,9,-999.0000,9, -999.00,9,-999.000,9,-999.000,   9.000,    27.2900,-999.0000, -999.00
32OC19880723,       A16N,      94,          1,          2,          2,2,19880817,       2347,    14.7567,   -29.0183,       5299,    39.0,  36.3377,2,  36.6070,3,    217.2,2,   217.1,2,    0.40,2,    0.40,2,    0.00,2,    0.06,2,   1.803,2,   0.875,2,-999.000,9,-999.0000,9, -999.00,9,-999.000,9,-999.000,-999.000,    25.5220,-999.0000, -999.00
32OC19880723,       A16N,      94,          1,          3,          3,2,19880817,       2347,    14.7567,   -29.0183,       5299,    68.5,  36.0992,2,  36.3310,3,    131.6,2,   155.0,2,    1.70,2,    4.30,2,    0.23,2,    0.36,2,   1.490,2,   0.689,2,-999.000,9,-999.0000,9, -999.00,9,-999.000,9,-999.000,   9.000,    19.8090,-999.0000, -999.00
32OC19880723,       A16N,      94,          1,          4,          4,2,19880817,       2347,    14.7567,   -29.0183,       5299,   107.4,  35.8454,2,  35.9120,2,     79.3,2,    80.1,2,    5.70,2,   21.80,2,    0.05,2,    1.35,2,   0.991,2,   0.481,2,-999.000,9,-999.0000,9, -999.00,9,-999.000,9,-999.000,-999.000,    15.9100,-999.0000, -999.00
32OC19880723,       A16N,      94,          1,          5,          5,2,19880817,       2347,    14.7567,   -29.0183,       5299,   154.6,  35.5487,2,  35.5090,2,     76.7,2,    77.0,2,    8.50,2,   25.80,2,    0.00,2,    1.61,2,   0.654,2,   0.290,2,-999.000,9,-999.0000,9, -999.00,9,-999.000,9,-999.000,   9.000,    13.4880,-999.0000, -999.00
32OC19880723,       A16N,      94,          1,          6,          6,2,19880817,       2347,    14.7567,   -29.0183,       5299,   201.0,  35.5534,2,  35.5520,2,     76.0,2,    75.2,2,    9.00,2,   26.40,2,    0.00,2,    1.61,2,   0.598,2,   0.264,2,-999.000,9,-999.0000,9, -999.00,9,-999.000,9,-999.000,-999.000,    13.0160,-999.0000, -999.00
32OC19880723,       A16N,      94,          1,          7,          7,2,19880817,       2347,    14.7567,   -29.0183,       5299,   293.9,  35.2894,2,  35.3000,2,     70.5,2,    69.1,2,   11.80,2,   29.50,2,    0.00,2,    1.85,2,   0.254,2,   0.125,2,-999.000,9,-999.0000,9, -999.00,9,-999.000,9,-999.000,   9.000,    11.3110,-999.0000, -999.00
32OC19880723,       A16N,      94,          1,          8,          8,2,19880817,       2347,    14.7567,   -29.0183,       5299,   385.6,  35.2060,2,  35.1940,2,     65.7,2,    63.5,2,   13.80,2,   32.50,2,    0.00,2,    1.97,2,   0.148,2,   0.062,2,-999.000,9,-999.0000,9, -999.00,9,-999.000,9,-999.000,-999.000,    10.3570,-999.0000, -999.00
32OC19880723,       A16N,      94,          1,          9,          9,2,19880817,       2347,    14.7567,   -29.0183,       5299,   563.6,  34.9922,2,  34.9940,2,     72.2,2,    70.9,2,   18.90,2,   34.90,2,    0.00,2,    2.27,2,   0.010,2,   0.009,7,-999.000,9,-999.0000,9, -999.00,9,-999.000,9,-999.000,   9.000,     8.4660,-999.0000, -999.00
32OC19880723,       A16N,      94,          1,         10,         10,2,19880817,       2347,    14.7567,   -29.0183,       5299,   745.2,  34.8926,2,  34.8920,2,     89.6,2,    90.9,2,   22.70,2,   35.20,2,    0.00,2,    2.32,2,-999.000,9,-999.000,9,-999.000,9,-999.0000,9, -999.00,9,-999.000,9,-999.000,-999.000,     7.1430,-999.0000, -999.00
32OC19880723,       A16N,      94,          1,         11,         11,2,19880817,       2347,    14.7567,   -29.0183,       5299,   933.1,  34.8708,2,  34.8840,2,    115.2,2,   120.8,2,   24.30,2,   32.50,2,    0.00,2,    2.18,2,-999.000,9,-999.000,9,-999.000,9,-999.0000,9, -999.00,9,-999.000,9,-999.000,   9.000,     6.1820,-999.0000, -999.00
32OC19880723,       A16N,      94,          1,         12,         12,2,19880817,       2347,    14.7567,   -29.0183,       5299,  1172.4,  34.9570,2,  34.9620,2,    155.5,2,   159.5,2,   23.40,2,   28.70,2,    0.00,2,    1.92,2,-999.000,9,-999.000,9,-999.000,9,-999.0000,9, -999.00,9,-999.000,9,-999.000,-999.000,     5.3820,-999.0000, -999.00
32OC19880723,       A16N,      94,          1,         13,         13,2,19880817,       2347,    14.7567,   -29.0183,       5299,  1416.2,  34.9916,2,  34.9920,2,    189.5,2,   192.9,2,   23.10,2,   25.40,2,    0.00,2,    1.70,2,-999.000,9,-999.000,9,-999.000,9,-999.0000,9, -999.00,9,-999.000,9,-999.000,   9.000,     4.6430,-999.0000, -999.00
32OC19880723,       A16N,      94,          1,         14,         14,2,19880817,       2347,    14.7567,   -29.0183,       5299,  1763.8,  34.9803,2,  34.9840,2,    224.8,2,   225.5,2,   23.10,2,   22.70,2,    0.00,2,    1.48,2,-999.000,9,-999.000,9,-999.000,9,-999.0000,9, -999.00,9,-999.000,9,-999.000,-999.000,     3.8790,-999.0000, -999.00
32OC19880723,       A16N,      94,          1,         15,         15,2,19880817,       2347,    14.7567,   -29.0183,       5299,  2125.1,  34.9624,2,  34.9650,2,    237.0,2,   238.1,2,   26.20,2,   21.70,2,    0.01,2,    1.45,2,-999.000,9,-999.000,9,-999.000,9,-999.0000,9, -999.00,9,-999.000,9,-999.000,   9.000,     3.4040,-999.0000, -999.00
32OC19880723,       A16N,      94,          1,         16,         16,2,19880817,       2347,    14.7567,   -29.0183,       5299,  2478.4,  34.9472,2,  34.9490,2,    241.6,2,   241.1,2,   30.20,2,   21.60,2,    0.00,2,    1.43,2,-999.000,9,-999.000,9,-999.000,9,-999.0000,9, -999.00,9,-999.000,9,-999.000,-999.000,     3.0850,-999.0000, -999.00
32OC19880723,       A16N,      94,          1,         17,         17,2,19880817,       2347,    14.7567,   -29.0183,       5299,  2825.0,  34.9374,2,  34.9370,2,    248.5,2,   247.2,2,   32.70,2,   21.10,2,    0.00,2,    1.42,2,-999.000,9,-999.000,9,-999.000,9,-999.0000,9, -999.00,9,-999.000,9,-999.000,   9.000,     2.8680,-999.0000, -999.00
32OC19880723,       A16N,      94,          1,         18,         18,2,19880817,       2347,    14.7567,   -29.0183,       5299,  3219.8,  34.9204,2,  34.9200,2,    248.1,2,   246.3,2,   37.50,2,   21.70,2,    0.00,2,    1.42,2,-999.000,9,-999.000,9,-999.000,9,-999.0000,9, -999.00,9,-999.000,9,-999.000,-999.000,     2.6410,-999.0000, -999.00
32OC19880723,       A16N,      94,          1,         19,         19,2,19880817,       2347,    14.7567,   -29.0183,       5299,  3617.4,  34.9054,2,  34.9050,2,    245.6,2,   245.0,2,   42.00,2,   22.10,2,    0.00,2,    1.47,2,-999.000,9,-999.000,9,-999.000,9,-999.0000,9, -999.00,9,-999.000,9,-999.000,   9.000,     2.4690,-999.0000, -999.00
32OC19880723,       A16N,      94,          1,         20,         20,2,19880817,       2347,    14.7567,   -29.0183,       5299,  4020.7,  34.8932,2,  34.8910,2,    240.3,2,   239.8,2,   47.00,2,   22.60,2,    0.00,2,    1.50,2,-999.000,9,-999.000,9,-999.000,9,-999.0000,9, -999.00,9,-999.000,9,-999.000,-999.000,     2.3810,-999.0000, -999.00
32OC19880723,       A16N,      94,          1,         21,         21,2,19880817,       2347,    14.7567,   -29.0183,       5299,  4425.7,  34.8814,2,  34.8820,2,    236.8,2,   236.8,2,   50.60,2,   23.10,2,    0.00,2,    1.51,2,-999.000,9,-999.000,9,-999.000,9,-999.0000,9, -999.00,9,-999.000,9,-999.000,   9.000,     2.3250,-999.0000, -999.00
32OC19880723,       A16N,      94,          1,         22,         22,2,19880817,       2347,    14.7567,   -29.0183,       5299,  4830.3,  34.8776,2,  34.8770,2,    240.3,2,   241.1,2,   50.40,2,   23.00,2,    0.00,2,    1.51,2,-999.000,9,-999.000,9,-999.000,9,-999.0000,9, -999.00,9,-999.000,9,-999.000,-999.000,     2.3240,-999.0000, -999.00
32OC19880723,       A16N,      94,          1,         23,         23,2,19880817,       2347,    14.7567,   -29.0183,       5299,  5240.5,  34.8728,2,  34.8720,2,    245.9,2,  -999.0,9,   49.30,2,   22.60,2,    0.00,2,    1.49,2,-999.000,9,-999.000,9,-999.000,9,-999.0000,9, -999.00,9,-999.000,9,-999.000,   9.000,     2.3200,-999.0000, -999.00
32OC19880723,       A16N,      94,          1,         24,         24,2,19880817,       2347,    14.7567,   -29.0183,       5299,  5436.6,  34.8706,2,  34.8690,2,    246.1,2,   246.8,2,   49.80,2,   22.60,2,    0.00,2,    1.49,2,-999.000,9,-999.000,9,-999.000,9,-999.0000,9, -999.00,9,-999.000,9,-999.000,-999.000,     2.3240,-999.0000, -999.00
32OC19880723,       A16N,      94,          1,         99,     -999.0,9,19880817,       2347,    14.7567,   -29.0183,       5299,  5437.9,  34.8706,2,-999.0000,9,    246.0,2,  -999.0,9, -999.00,9, -999.00,9, -999.00,9, -999.00,9,-999.000,9,-999.000,9,-999.000,9,-999.0000,9, -999.00,9,-999.000,9,-999.000,   9.000,     2.3240,-999.0000, -999.00