BOTTLE,20220922CCHSIOAMB
EXPOCODE,SECT_ID,STNNBR,CASTNO,SAMPNO,BTLNBR,BTLNBR_FLAG_W,DATE,TIME,LATITUDE,LONGITUDE,DEPTH,CTDPRS,CTDSAL,CTDSAL_FLAG_W,SALNTY,SALNTY_FLAG_W,CTDOXY,CTDOXY_FLAG_W,OXYGEN,OXYGEN_FLAG_W,SILCAT,SILCAT_FLAG_W,NITRAT,NITRAT_FLAG_W,NITRIT,NITRIT_FLAG_W,PHSPHT,PHSPHT_FLAG_W,CFC-11,CFC-11_FLAG_W,CFC-12,CFC-12_FLAG_W,TRITUM,TRITUM_FLAG_W,HELIUM,HELIUM_FLAG_W,DELHE3,DELHE3_FLAG_W,NEON,NEON_FLAG_W,NEONER,TRITER,CTDTMP,HELIER,DELHER
,,,,,,,,,,,METERS,DBAR,PSS-78,,PSS-78,,UMOL/KG,,UMOL/KG,,UMOL/KG,,UMOL/KG,,UMOL/KG,,UMOL/KG,,PMOL/KG,,PMOL/KG,,TU,,NMOL/KG,,PERCNT,,NMOL/KG,,NMOL/KG,TU,IPTS-68,NMOL/KG,PERCNT
32OC19880723,       A16N,      69,          1,          7,          7,2,19880812,       0000,    31.5000,   -22.6950,       5252,    12.4,  37.0357,2,  37.0370,2,    215.2,2,   216.0,2,    0.00,2,    0.00,2, -999.00,9,    0.05,2,-999.000,9,-999.000,9,-999.000,9,-999.0000,9, -999.00,9,-999.000,9,-999.000,   9.000,    23.3910,-999.0000, -999.00
32OC19880723,       A16N,      69,          1,          8,          8,2,19880812,       0000,    31.5000,   -22.6950,       5252,    12.4,  37.0357,2,  37.0390,2,    215.2,2,   219.5,2,    0.20,2,    0.00,2, -999.00,9,    0.02,2,-999.000,9,-999.000,9,-999.000,9,-999.0000,9, -999.00,9,-999.000,9,-999.000,-999.000,    23.3910,-999.0000, -999.00
32OC19880723,       A16N,      69,          1,          9,          9,2,19880812,       0000,    31.5000,   -22.6950,       5252,    37.4,  37.0140,2,  37.0130,2,    221.9,2,  -999.0,9,    0.00,2,    0.00,2, -999.00,9,    0.05,2,-999.000,9,-999.000,9,-999.000,9,-999.0000,9, -999.00,9,-999.000,9,-999.000,   9.000,    22.7400,-999.0000, -999.00
32OC19880723,       A16N,      69,          1,         98,     -999.0,9,19880812,       0000,    31.5000,   -22.6950,       5252,    67.4,  36.7293,2,-999.0000,9,    249.1,2,  -999.0,9, -999.00,9, -999.00,9, -999.00,9, -999.00,9,-999.000,9,-999.000,9,-999.000,9,-999.0000,9, -999.00,9,-999.000,9,-999.000,-999.000,    20.3540,-999.0000, -999.00
32OC19880723,       A16N,      69,          1,         10,         10,2,19880812,       0000,    31.5000,   -22.6950,       5252,   107.7,  36.5967,2,  36.6290,2,    230.3,2,   232.3,2,    0.20,2,    0.00,2, -999.00,9,    0.05,2,-999.000,9,-999.000,9,-999.000,9,-999.0000,9, -999.00,9,-999.000,9,-999.000,   9.000,    17.9940,-999.0000, -999.00
32OC19880723,       A16N,      69,          1,         11,         11,2,19880812,       0000,    31.5000,   -22.6950,       5252,   157.8,  36.4477,2,  36.4940,2,    215.1,2,   215.8,2,    0.60,2,    2.50,2, -999.00,9,    0.13,2,-999.000,9,-999.000,9,-999.000,9,-999.0000,9, -999.00,9,-999.000,9,-999.000,-999.000,    17.1600,-999.0000, -999.00
32OC19880723,       A16N,      69,          1,         13,         13,2,19880812,       0000,    31.5000,   -22.6950,       5252,   208.0,  36.1831,2,  36.2120,2,    203.3,2,   203.1,2,    1.60,2,    6.20,2, -999.00,9,    0.35,2,-999.000,9,-999.000,9,-999.000,9,-999.0000,9, -999.00,9,-999.000,9,-999.000,   9.000,    15.7430,-999.0000, -999.00
32OC19880723,       A16N,      69,          1,         12,         12,2,19880812,       0000,    31.5000,   -22.6950,       5252,   208.0,  36.1831,2,  36.2130,2,    203.3,2,   202.3,2,    1.60,2,    6.20,2, -999.00,9,    0.31,2,-999.000,9,-999.000,9,-999.000,9,-999.0000,9, -999.00,9,-999.000,9,-999.000,-999.000,    15.7430,-999.0000, -999.00
32OC19880723,       A16N,      69,          1,         97,     -999.0,9,19880812,       0000,    31.5000,   -22.6950,       5252,   308.1,  35.9188,2,-999.0000,9,    200.5,2,  -999.0,9, -999.00,9, -999.00,9, -999.00,9, -999.00,9,-999.000,9,-999.000,9,-999.000,9,-999.0000,9, -999.00,9,-999.000,9,-999.000,   9.000,    13.9730,-999.0000, -999.00
32OC19880723,       A16N,      69,          1,         96,     -999.0,9,19880812,       0000,    31.5000,   -22.6950,       5252,   408.7,  35.7478,2,-999.0000,9,    199.5,2,  -999.0,9, -999.00,9, -999.00,9, -999.00,9, -999.00,9,-999.000,9,-999.000,9,-999.000,9,-999.0000,9, -999.00,9,-999.000,9,-999.000,-999.000,    12.8990,-999.0000, -999.00
32OC19880723,       A16N,      69,          1,         95,     -999.0,9,19880812,       0000,    31.5000,   -22.6950,       5252,   608.7,  35.5587,2,-999.0000,9,    187.1,2,  -999.0,9, -999.00,9, -999.00,9, -999.00,9, -999.00,9,-999.000,9,-999.000,9,-999.000,9,-999.0000,9, -999.00,9,-999.000,9,-999.000,   9.000,    11.0260,-999.0000, -999.00
32OC19880723,       A16N,      69,          1,         94,     -999.0,9,19880812,       0000,    31.5000,   -22.6950,       5252,   808.4,  35.5321,2,-999.0000,9,    165.0,2,  -999.0,9, -999.00,9, -999.00,9, -999.00,9, -999.00,9,-999.000,9,-999.000,9,-999.000,9,-999.0000,9, -999.00,9,-999.000,9,-999.000,-999.000,     9.8600,-999.0000, -999.00
32OC19880723,       A16N,      69,          1,         93,     -999.0,9,19880812,       0000,    31.5000,   -22.6950,       5252,  1058.9,  35.5285,2,-999.0000,9,    174.6,2,  -999.0,9, -999.00,9, -999.00,9, -999.00,9, -999.00,9,-999.000,9,-999.000,9,-999.000,9,-999.0000,9, -999.00,9,-999.000,9,-999.000,   9.000,     8.6380,-999.0000, -999.00
32OC19880723,       A16N,      69,          1,         92,     -999.0,9,19880812,       0000,    31.5000,   -22.6950,       5252,  1310.1,  35.4523,2,-999.0000,9,    196.4,2,  -999.0,9, -999.00,9, -999.00,9, -999.00,9, -999.00,9,-999.000,9,-999.000,9,-999.000,9,-999.0000,9, -999.00,9,-999.000,9,-999.000,-999.000,     7.2730,-999.0000, -999.00
32OC19880723,       A16N,      69,          1,         91,     -999.0,9,19880812,       0000,    31.5000,   -22.6950,       5252,  1561.3,  35.2998,2,-999.0000,9,    222.1,2,  -999.0,9, -999.00,9, -999.00,9, -999.00,9, -999.00,9,-999.000,9,-999.000,9,-999.000,9,-999.0000,9, -999.00,9,-999.000,9,-999.000,   9.000,     5.9120,-999.0000, -999.00
32OC19880723,       A16N,      69,          1,         14,         14,2,19880812,       0000,    31.5000,   -22.6950,       5252,  1814.5,  35.1869,2,  35.1900,2,    234.5,2,   234.2,2,   16.30,2,   19.00,2, -999.00,9,    1.14,2,-999.000,9,-999.000,9,-999.000,9,-999.0000,9, -999.00,9,-999.000,9,-999.000,-999.000,     4.9440,-999.0000, -999.00
32OC19880723,       A16N,      69,          1,         15,         15,2,19880812,       0000,    31.5000,   -22.6950,       5252,  2170.2,  35.0679,2,  35.0700,2,    247.2,2,   248.5,2,   19.30,2,   18.70,2, -999.00,9,    1.24,2,-999.000,9,-999.000,9,-999.000,9,-999.0000,9, -999.00,9,-999.000,9,-999.000,   9.000,     3.9580,-999.0000, -999.00
32OC19880723,       A16N,      69,          1,         16,         16,2,19880812,       0000,    31.5000,   -22.6950,       5252,  2523.9,  34.9838,2,  34.9850,2,    253.1,2,   253.3,2,   24.30,2,   19.50,2, -999.00,9,    1.22,2,-999.000,9,-999.000,9,-999.000,9,-999.0000,9, -999.00,9,-999.000,9,-999.000,-999.000,     3.2410,-999.0000, -999.00
32OC19880723,       A16N,      69,          1,         17,         17,2,19880812,       0000,    31.5000,   -22.6950,       5252,  2878.6,  34.9540,2,  34.9540,2,    250.8,2,   250.3,2,   30.40,2,   20.10,2, -999.00,9,    1.27,2,-999.000,9,-999.000,9,-999.000,9,-999.0000,9, -999.00,9,-999.000,9,-999.000,   9.000,     2.8960,-999.0000, -999.00
32OC19880723,       A16N,      69,          1,         18,         18,2,19880812,       0000,    31.5000,   -22.6950,       5252,  3234.9,  34.9352,2,  34.9330,2,    247.0,2,   246.8,2,   35.90,2,   21.00,2, -999.00,9,    1.37,2,-999.000,9,-999.000,9,-999.000,9,-999.0000,9, -999.00,9,-999.000,9,-999.000,-999.000,     2.6950,-999.0000, -999.00
32OC19880723,       A16N,      69,          1,         19,         19,2,19880812,       0000,    31.5000,   -22.6950,       5252,  3590.6,  34.9187,2,  34.9160,2,    245.5,2,   245.5,2,   39.90,2,   21.50,2, -999.00,9,    1.41,2,-999.000,9,-999.000,9,-999.000,9,-999.0000,9, -999.00,9,-999.000,9,-999.000,   9.000,     2.5680,-999.0000, -999.00
32OC19880723,       A16N,      69,          1,         20,         20,2,19880812,       0000,    31.5000,   -22.6950,       5252,  3997.7,  34.9052,2,  34.9070,2,    245.8,2,   245.5,2,   43.00,2,   21.80,2, -999.00,9,    1.42,2,   0.014,6,   0.001,6,-999.000,9,-999.0000,9, -999.00,9,-999.000,9,-999.000,-999.000,     2.4770,-999.0000, -999.00
32OC19880723,       A16N,      69,          1,         21,         21,2,19880812,       0000,    31.5000,   -22.6950,       5252,  4405.2,  34.8953,2,  34.8950,2,    245.9,2,   245.0,2,   44.80,2,   22.20,2, -999.00,9,    1.46,2,   0.002,6,   0.002,6,-999.000,9,-999.0000,9, -999.00,9,-999.000,9,-999.000,   9.000,     2.4310,-999.0000, -999.00
32OC19880723,       A16N,      69,          1,         22,         22,2,19880812,       0000,    31.5000,   -22.6950,       5252,  4767.6,  34.8909,2,  34.8910,2,    245.8,2,   245.5,2,   46.30,2,   22.30,2, -999.00,9,    1.47,2,  -0.011,6,   0.002,6,-999.000,9,-999.0000,9, -999.00,9,-999.000,9,-999.000,-999.000,     2.4270,-999.0000, -999.00
32OC19880723,       A16N,      69,          1,         23,         23,2,19880812,       0000,    31.5000,   -22.6950,       5252,  5119.6,  34.8890,2,  34.8880,2,    244.6,2,   245.0,2,   46.80,2,   22.20,2, -999.00,9,    1.45,2,  -0.006,6,  -0.001,6,-999.000,9,-999.0000,9, -999.00,9,-999.000,9,-999.000,   9.000,     2.4560,-999.0000, -999.00
32OC19880723,       A16N,      69,          1,         24,         24,2,19880812,       0000,    31.5000,   -22.6950,       5252,  5344.9,  34.8889,2,  34.8860,2,    244.2,2,   245.0,2,   47.10,2,   22.10,2, -999.00,9,    1.48,2,  -0.018,6,   0.001,6,-999.000,9,-999.0000,9, -999.00,9,-999.000,9,-999.000,-999.000,     2.4770,-999.0000, -999.00
32OC19880723,       A16N,      69,          1,         99,     -999.0,9,19880812,       0000,    31.5000,   -22.6950,       5252,  5346.2,  34.8888,2,-999.0000,9,    244.2,2,  -999.0,9, -999.00,9, -999.00,9, -999.00,9, -999.00,9,-999.000,9,-999.000,9,-999.000,9,-999.0000,9, -999.00,9,-999.000,9,-999.000,   9.000,     2.4770,-999.0000, -999.00
32OC19880723,       A16N,      70,          1,          2,          2,2,19880812,       0454,    31.0500,   -22.9150,       5262,     5.4,  36.9363,2,  36.9560,2,    213.1,2,   216.0,2,    0.00,2,    0.00,2,    0.00,2,    0.05,2,   2.060,2,   0.978,2,   2.305,2,   1.6849,2,   -1.50,2,-999.000,9,  -7.493,   0.053,    23.3660,   0.0118,    0.18
32OC19880723,       A16N,      70,          1,          3,          3,2,19880812,       0454,    31.0500,   -22.9150,       5262,    37.3,  36.9566,2,  36.9360,2,    223.9,2,   224.3,2,    0.00,2,    0.00,2,    0.00,2,    0.03,2,   2.133,2,   1.011,2,   2.393,2,   1.7193,2,   -1.72,2,-999.000,9,  -7.493,   0.054,    22.4310,   0.0120,    0.18
32OC19880723,       A16N,      70,          1,          4,          4,2,19880812,       0454,    31.0500,   -22.9150,       5262,    67.4,  36.7162,2,  36.6670,2,    246.0,2,   245.0,2,    0.00,2,    0.00,2,    0.00,2,    0.06,2,   2.328,2,   1.116,2,-999.000,9,   1.7342,2,   -0.88,2,-999.000,9,  -7.493,-999.000,    19.2820,   0.0121,    0.18
32OC19880723,       A16N,      70,          1,          5,          5,2,19880812,       0454,    31.0500,   -22.9150,       5262,   107.3,  36.5548,2,  36.5340,2,    223.0,2,   219.7,2,    0.30,2,    3.60,2,    0.00,2,    0.10,2,   2.253,2,   1.084,2,   2.417,2,   1.7152,2,   -0.58,2,-999.000,9,  -7.493,   0.054,    17.6670,   0.0120,    0.18
32OC19880723,       A16N,      70,          1,          6,          6,2,19880812,       0454,    31.0500,   -22.9150,       5262,   157.1,  36.3708,2,  36.4090,2,    212.5,2,   215.3,2,    0.60,2,    5.70,2,    0.00,2,    0.18,2,   2.209,2,   1.067,2,   2.444,2,   1.7462,2,    0.12,2,-999.000,9,  -7.493,   0.054,    17.0680,   0.0122,    0.18
32OC19880723,       A16N,      70,          1,          7,          7,2,19880812,       0454,    31.0500,   -22.9150,       5262,   206.5,  36.1799,2,  36.1980,2,    206.4,2,   206.6,2,    1.60,2,    8.30,2,    0.00,2,    0.30,2,   2.020,2,   0.958,2,   2.394,2,   1.7470,2,    1.84,2,-999.000,9,  -7.493,   0.054,    15.9260,   0.0122,    0.18
32OC19880723,       A16N,      70,          1,          8,          8,2,19880812,       0454,    31.0500,   -22.9150,       5262,   305.8,  35.9532,2,  35.9410,2,    202.6,2,   203.1,2,    2.60,2,   11.60,2,    0.00,2,    0.53,2,   1.963,2,   0.912,2,-999.000,9,   1.7574,2,    4.46,2,-999.000,9,  -7.493,   9.000,    14.2630,   0.0123,    0.18
32OC19880723,       A16N,      70,          1,          9,          9,2,19880812,       0454,    31.0500,   -22.9150,       5262,   404.7,  35.7656,2,  35.7460,2,    201.1,2,   205.2,2,    3.60,2,   13.80,2,    0.00,2,    0.68,2,   1.823,2,   0.855,2,-999.000,9,   1.7586,2,    5.57,2,-999.000,9,  -7.493,-999.000,    12.9460,   0.0123,    0.18
32OC19880723,       A16N,      70,          1,         10,         10,2,19880812,       0454,    31.0500,   -22.9150,       5262,   603.4,  35.5253,2,  35.5380,2,    192.3,2,   190.0,2,    6.30,2,   17.80,2,    0.00,2,    0.86,2,   1.202,2,   0.559,2,   2.230,2,   1.7674,2,    9.90,2,-999.000,9,  -7.493,   0.052,    11.1820,   0.0124,    0.18
32OC19880723,       A16N,      70,          1,         11,         11,2,19880812,       0454,    31.0500,   -22.9150,       5262,   802.4,  35.5488,2,  35.5560,2,    169.0,2,   169.1,2,   10.00,2,   21.00,2,    0.00,2,    1.18,2,   0.472,2,   0.216,2,   1.187,2,   1.7782,2,    8.79,2,-999.000,9,  -7.493,   0.042,    10.0540,   0.0124,    0.18
32OC19880723,       A16N,      70,          1,         13,         13,2,19880812,       0454,    31.0500,   -22.9150,       5262,  1052.6,  35.5591,2,  35.5320,2,    174.3,2,   173.8,2,   13.40,2,   22.10,2,    0.00,2,    1.30,2,   0.205,2,   0.099,2,   0.599,2,   1.7916,2,    5.67,2,-999.000,9,  -7.493,   0.036,     8.5770,   0.0125,    0.18
32OC19880723,       A16N,      70,          1,         12,         12,2,19880812,       0454,    31.0500,   -22.9150,       5262,  1052.6,  35.5591,2,  35.5320,2,    174.3,2,   173.8,2,   13.40,2,   22.10,2,    0.00,2,    1.35,2,   0.232,2,   0.103,2,   0.661,2,   1.7994,2,    5.10,2,-999.000,9,  -7.493,   0.036,     8.5770,   0.0126,    0.18
32OC19880723,       A16N,      70,          1,         14,         14,2,19880812,       0454,    31.0500,   -22.9150,       5262,  1805.2,  35.2191,2,  35.2220,2,    236.6,2,   236.8,2,   15.00,2,   19.60,2,    0.00,2,    1.23,2,   0.075,2,   0.049,2,   0.173,2,   1.8109,2,    2.63,2,-999.000,9,  -7.493,   0.029,     5.1040,   0.0127,    0.18
32OC19880723,       A16N,      70,          1,         15,         15,2,19880812,       0454,    31.0500,   -22.9150,       5262,  2157.5,  35.0509,2,  35.0560,2,    248.3,2,   249.0,2,   19.30,2,   20.00,2,    0.00,2,    1.27,2,   0.054,2,   0.024,2,  -0.001,2,   1.8348,2,    1.35,2,-999.000,9,  -7.493,   0.026,     3.8770,   0.0128,    0.18
32OC19880723,       A16N,      70,          1,         16,         16,2,19880812,       0454,    31.0500,   -22.9150,       5262,  2512.1,  34.9807,2,  34.9800,2,    252.0,2,   253.3,2,   24.50,2,   20.40,2,    0.00,2,    1.33,2,   0.066,2,   0.021,2,-999.000,9,-999.0000,9, -999.00,9,-999.000,9,-999.000,   9.000,     3.2170,-999.0000, -999.00
32OC19880723,       A16N,      70,          1,         17,         17,2,19880812,       0454,    31.0500,   -22.9150,       5262,  2868.3,  34.9495,2,  34.9510,2,    250.0,2,   250.7,2,   30.50,2,   20.60,2,    0.00,2,    1.37,2,   0.039,2,  -0.001,2,  -0.036,2,   1.8440,2,    1.69,2,-999.000,9,  -7.493,   0.025,     2.8860,   0.0129,    0.18
32OC19880723,       A16N,      70,          1,         18,         18,2,19880812,       0454,    31.0500,   -22.9150,       5262,  3225.2,  34.9317,2,  34.9320,2,    247.7,2,   246.8,2,   35.90,2,   21.70,2,    0.00,2,    1.40,2,   0.079,2,   0.006,7,-999.000,9,-999.0000,9, -999.00,9,-999.000,9,-999.000,-999.000,     2.6850,-999.0000, -999.00
32OC19880723,       A16N,      70,          1,         19,         19,2,19880812,       0454,    31.0500,   -22.9150,       5262,  3582.1,  34.9159,2,  34.9180,2,    246.4,2,   245.9,2,   39.80,2,   21.80,2,    0.00,2,    1.45,2,   0.017,2,   0.002,7,  -0.047,2,   1.8489,2,    2.39,2,-999.000,9,  -7.493,   0.029,     2.5580,   0.0129,    0.18
32OC19880723,       A16N,      70,          1,         20,         20,2,19880812,       0454,    31.0500,   -22.9150,       5262,  3991.7,  34.9029,2,  34.9030,2,    246.4,2,   245.5,2,   42.60,2,   22.00,2,    0.00,2,    1.47,2,  -0.024,3,   0.006,7,-999.000,9,-999.0000,9, -999.00,9,-999.000,9,-999.000,   9.000,     2.4760,-999.0000, -999.00
32OC19880723,       A16N,      70,          1,         21,         21,2,19880812,       0454,    31.0500,   -22.9150,       5262,  4401.1,  34.8940,2,  34.8950,2,    246.8,2,   245.5,2,   44.90,2,   22.30,2,    0.00,2,    1.52,2,   0.008,2,   0.002,7,-999.000,9,-999.0000,9, -999.00,9,-999.000,9,-999.000,-999.000,     2.4290,-999.0000, -999.00
32OC19880723,       A16N,      70,          1,         22,         22,2,19880812,       0454,    31.0500,   -22.9150,       5262,  4760.8,  34.8899,2,  34.8890,2,    246.4,2,   245.5,2,   45.80,2,   22.60,2,    0.00,2,    1.54,2,   0.022,2,   0.002,7,-999.000,9,-999.0000,9, -999.00,9,-999.000,9,-999.000,   9.000,     2.4290,-999.0000, -999.00
32OC19880723,       A16N,      70,          1,         23,         23,2,19880812,       0454,    31.0500,   -22.9150,       5262,  5120.9,  34.8880,2,  34.8880,2,    245.9,2,   245.9,2,   46.60,2,   22.80,2,    0.00,2,    1.51,2,   0.038,2,   0.006,7,-999.000,9,-999.0000,9, -999.00,9,-999.000,9,-999.000,-999.000,     2.4560,-999.0000, -999.00
32OC19880723,       A16N,      70,          1,         24,         24,2,19880812,       0454,    31.0500,   -22.9150,       5262,  5347.6,  34.8873,2,  34.8870,2,    244.3,2,   245.5,2,   46.90,2,   23.00,2,    0.00,2,    1.50,2,   0.015,2,   0.002,7,-999.000,9,-999.0000,9, -999.00,9,-999.000,9,-999.000,   9.000,     2.4760,-999.0000, -999.00
32OC19880723,       A16N,      70,          1,         99,     -999.0,9,19880812,       0454,    31.0500,   -22.9150,       5262,  5348.5,  34.8873,2,-999.0000,9,    244.3,2,  -999.0,9, -999.00,9, -999.00,9, -999.00,9, -999.00,9,-999.000,9,-999.000,9,-999.000,9,-999.0000,9, -999.00,9,-999.000,9,-999.000,-999.000,     2.4760,-999.0000, -999.00