BOTTLE,20220922CCHSIOAMB
EXPOCODE,SECT_ID,STNNBR,CASTNO,SAMPNO,BTLNBR,BTLNBR_FLAG_W,DATE,TIME,LATITUDE,LONGITUDE,DEPTH,CTDPRS,CTDSAL,CTDSAL_FLAG_W,SALNTY,SALNTY_FLAG_W,CTDOXY,CTDOXY_FLAG_W,OXYGEN,OXYGEN_FLAG_W,SILCAT,SILCAT_FLAG_W,NITRAT,NITRAT_FLAG_W,NITRIT,NITRIT_FLAG_W,PHSPHT,PHSPHT_FLAG_W,CFC-11,CFC-11_FLAG_W,CFC-12,CFC-12_FLAG_W,TRITUM,TRITUM_FLAG_W,HELIUM,HELIUM_FLAG_W,DELHE3,DELHE3_FLAG_W,NEON,NEON_FLAG_W,NEONER,TRITER,CTDTMP,HELIER,DELHER
,,,,,,,,,,,METERS,DBAR,PSS-78,,PSS-78,,UMOL/KG,,UMOL/KG,,UMOL/KG,,UMOL/KG,,UMOL/KG,,UMOL/KG,,PMOL/KG,,PMOL/KG,,TU,,NMOL/KG,,PERCNT,,NMOL/KG,,NMOL/KG,TU,IPTS-68,NMOL/KG,PERCNT
32OC19880723,       A16N,     115,          1,          1,          1,2,19880822,       2323,     0.6567,   -24.9783,       4250,    13.7,  36.0462,2,  36.0430,2,    205.6,2,   203.3,2,    0.50,2,    0.10,2,    0.00,2,    0.11,2,   1.475,2,   0.764,2,-999.000,9,-999.0000,9, -999.00,9,-999.000,9,-999.000,   9.000,    26.3740,-999.0000, -999.00
32OC19880723,       A16N,     115,          1,          2,          2,2,19880822,       2323,     0.6567,   -24.9783,       4250,    38.7,  36.0555,2,  36.0500,2,    200.0,2,   202.0,2,    0.50,2,    0.30,2,    0.00,2,    0.11,2,   1.488,2,   0.774,2,-999.000,9,-999.0000,9, -999.00,9,-999.000,9,-999.000,-999.000,    26.3430,-999.0000, -999.00
32OC19880723,       A16N,     115,          1,          3,          3,2,19880822,       2323,     0.6567,   -24.9783,       4250,    67.0,  36.0913,2,  36.0810,2,    185.8,2,   197.2,2,    0.50,2,    0.90,2,    0.08,2,    0.16,2,   1.460,2,   0.766,2,-999.000,9,-999.0000,9, -999.00,9,-999.000,9,-999.000,   9.000,    26.0630,-999.0000, -999.00
32OC19880723,       A16N,     115,          1,          4,          4,2,19880822,       2323,     0.6567,   -24.9783,       4250,    87.4,  35.9555,2,  35.9420,2,    147.2,2,   142.9,2,    2.50,2,    8.30,2,    0.14,2,    0.60,2,   1.213,2,   0.609,2,-999.000,9,-999.0000,9, -999.00,9,-999.000,9,-999.000,-999.000,    21.2980,-999.0000, -999.00
32OC19880723,       A16N,     115,          1,          5,          5,2,19880822,       2323,     0.6567,   -24.9783,       4250,   108.0,  35.7945,2,  35.8050,2,    135.2,2,   133.2,2,    4.30,2,   14.70,2,    0.04,2,    1.00,2,   1.097,2,   0.543,2,-999.000,9,-999.0000,9, -999.00,9,-999.000,9,-999.000,   9.000,    17.3130,-999.0000, -999.00
32OC19880723,       A16N,     115,          1,          6,          6,2,19880822,       2323,     0.6567,   -24.9783,       4250,   157.8,  35.4258,2,  35.4270,2,    136.9,2,   131.4,2,    6.50,2,   19.00,2,    0.00,2,    1.26,2,   0.921,2,   0.458,2,-999.000,9,-999.0000,9, -999.00,9,-999.000,9,-999.000,-999.000,    14.0810,-999.0000, -999.00
32OC19880723,       A16N,     115,          1,          7,          7,2,19880822,       2323,     0.6567,   -24.9783,       4250,   207.0,  35.2940,2,-999.0000,9,    122.9,2,  -999.0,9, -999.00,9, -999.00,9, -999.00,9, -999.00,9,-999.000,9,-999.000,9,-999.000,9,-999.0000,9, -999.00,9,-999.000,9,-999.000,   9.000,    13.1400,-999.0000, -999.00
32OC19880723,       A16N,     115,          1,          8,          8,2,19880822,       2323,     0.6567,   -24.9783,       4250,   254.2,  35.2337,2,  35.2350,2,    116.1,2,   109.6,2,    8.70,2,   23.60,2,    0.00,2,    1.50,2,   0.742,4,   0.325,4,-999.000,9,-999.0000,9, -999.00,9,-999.000,9,-999.000,-999.000,    12.6640,-999.0000, -999.00
32OC19880723,       A16N,     115,          1,          9,          9,2,19880822,       2323,     0.6567,   -24.9783,       4250,   301.7,  35.1038,2,  35.1060,2,     89.7,2,    89.2,2,   10.80,2,   27.80,2,    0.01,2,    1.73,2,   0.415,4,   0.178,4,-999.000,9,-999.0000,9, -999.00,9,-999.000,9,-999.000,   9.000,    11.5100,-999.0000, -999.00
32OC19880723,       A16N,     115,          1,         10,         10,2,19880822,       2323,     0.6567,   -24.9783,       4250,   396.8,  34.7482,2,  34.7500,2,    114.7,2,   113.9,2,   16.20,2,   31.50,2,    0.00,2,    2.01,2,   0.187,2,   0.091,2,-999.000,9,-999.0000,9, -999.00,9,-999.000,9,-999.000,-999.000,     8.3780,-999.0000, -999.00
32OC19880723,       A16N,     115,          1,         11,         11,2,19880822,       2323,     0.6567,   -24.9783,       4250,   493.4,  34.6301,2,  34.6320,2,    134.7,2,   134.8,2,   19.10,2,   31.30,2,    0.00,2,    2.04,2,   0.191,4,   0.065,2,-999.000,9,-999.0000,9, -999.00,9,-999.000,9,-999.000,   9.000,     7.1550,-999.0000, -999.00
32OC19880723,       A16N,     115,          1,         12,         12,2,19880822,       2323,     0.6567,   -24.9783,       4250,   591.2,  34.5285,2,  34.5330,2,    142.3,2,   143.9,2,   23.90,2,   33.20,2,    0.00,2,    2.17,2,   0.091,2,   0.042,2,-999.000,9,-999.0000,9, -999.00,9,-999.000,9,-999.000,-999.000,     5.8970,-999.0000, -999.00
32OC19880723,       A16N,     115,          1,         13,         13,2,19880822,       2323,     0.6567,   -24.9783,       4250,   787.8,  34.5073,2,  34.5080,2,    147.8,2,   147.8,2,   29.60,2,   34.60,2,    0.00,2,    2.31,2,   0.021,2,   0.008,7,-999.000,9,-999.0000,9, -999.00,9,-999.000,9,-999.000,   9.000,     4.9040,-999.0000, -999.00
32OC19880723,       A16N,     115,          1,         14,         14,2,19880822,       2323,     0.6567,   -24.9783,       4250,   983.8,  34.6096,2,  34.6100,2,    155.4,2,   156.5,2,   30.60,2,   32.70,2,    0.00,2,    2.20,2,  -0.014,2,   0.002,7,-999.000,9,-999.0000,9, -999.00,9,-999.000,9,-999.000,-999.000,     4.5870,-999.0000, -999.00
32OC19880723,       A16N,     115,          1,         15,         15,2,19880822,       2323,     0.6567,   -24.9783,       4250,  1279.5,  34.8577,2,  34.8580,2,    193.2,2,   191.6,2,   23.20,2,   26.40,2,    0.00,2,    1.75,2,  -0.019,2,   0.005,7,-999.000,9,-999.0000,9, -999.00,9,-999.000,9,-999.000,   9.000,     4.5000,-999.0000, -999.00
32OC19880723,       A16N,     115,          1,         16,         16,2,19880822,       2323,     0.6567,   -24.9783,       4250,  1571.9,  34.9620,2,  34.9630,2,    232.4,2,   232.0,2,   18.20,2,   21.60,2,    0.00,2,    1.42,2,  -0.018,2,   0.011,7,-999.000,9,-999.0000,9, -999.00,9,-999.000,9,-999.000,-999.000,     4.1780,-999.0000, -999.00
32OC19880723,       A16N,     115,          1,         17,         17,2,19880822,       2323,     0.6567,   -24.9783,       4250,  1862.8,  34.9760,2,  34.9790,2,    250.6,2,   250.7,2,   17.70,2,   19.40,2,    0.00,2,    1.31,2,  -0.007,2,   0.016,2,-999.000,9,-999.0000,9, -999.00,9,-999.000,9,-999.000,   9.000,     3.7970,-999.0000, -999.00
32OC19880723,       A16N,     115,          1,         18,         18,2,19880822,       2323,     0.6567,   -24.9783,       4250,  2257.1,  34.9466,2,  34.9480,2,    252.9,2,   251.6,2,   25.40,2,   20.20,2,    0.00,2,    1.33,2,  -0.007,2,   0.005,7,-999.000,9,-999.0000,9, -999.00,9,-999.000,9,-999.000,-999.000,     3.1990,-999.0000, -999.00
32OC19880723,       A16N,     115,          1,         19,         19,2,19880822,       2323,     0.6567,   -24.9783,       4250,  2656.9,  34.9271,2,  34.9270,2,    249.2,2,   249.8,2,   31.20,2,   20.70,2,    0.00,2,    1.37,2,  -0.015,2,   0.008,7,-999.000,9,-999.0000,9, -999.00,9,-999.000,9,-999.000,   9.000,     2.8840,-999.0000, -999.00
32OC19880723,       A16N,     115,          1,         20,         20,2,19880822,       2323,     0.6567,   -24.9783,       4250,  3056.5,  34.9127,2,  34.9130,2,    248.7,2,   249.4,2,   36.10,2,   21.20,2,    0.00,2,    1.39,2,   0.013,2,   0.005,7,-999.000,9,-999.0000,9, -999.00,9,-999.000,9,-999.000,-999.000,     2.6470,-999.0000, -999.00
32OC19880723,       A16N,     115,          1,         21,         21,2,19880822,       2323,     0.6567,   -24.9783,       4250,  3461.3,  34.9033,2,  34.9040,2,    249.6,2,   251.6,2,   37.50,2,   20.70,2,    0.00,2,    1.40,2,   0.014,2,   0.008,7,-999.000,9,-999.0000,9, -999.00,9,-999.000,9,-999.000,   9.000,     2.5130,-999.0000, -999.00
32OC19880723,       A16N,     115,          1,         22,         22,2,19880822,       2323,     0.6567,   -24.9783,       4250,  3817.0,  34.8961,2,  34.8960,2,    254.2,2,   255.5,2,   37.90,2,   20.60,2,    0.00,2,    1.38,2,   0.000,2,   0.011,7,-999.000,9,-999.0000,9, -999.00,9,-999.000,9,-999.000,-999.000,     2.4110,-999.0000, -999.00
32OC19880723,       A16N,     115,          1,         23,         23,2,19880822,       2323,     0.6567,   -24.9783,       4250,  3817.0,  34.8961,2,  34.8940,2,    254.2,2,   255.9,2,   38.50,2,   20.70,2,    0.00,2,    1.37,2,   0.028,2,   0.011,7,-999.000,9,-999.0000,9, -999.00,9,-999.000,9,-999.000,   9.000,     2.4110,-999.0000, -999.00
32OC19880723,       A16N,     115,          1,         24,         24,2,19880822,       2323,     0.6567,   -24.9783,       4250,  4178.6,  34.8923,2,  34.8920,2,    255.6,2,   255.9,2,   38.90,2,   20.70,2,    0.00,2,    1.37,2,  -0.008,2,   0.011,7,-999.000,9,-999.0000,9, -999.00,9,-999.000,9,-999.000,-999.000,     2.4150,-999.0000, -999.00
32OC19880723,       A16N,     115,          1,         99,     -999.0,9,19880822,       2323,     0.6567,   -24.9783,       4250,  4333.3,  34.8910,2,-999.0000,9,    257.1,2,  -999.0,9, -999.00,9, -999.00,9, -999.00,9, -999.00,9,-999.000,9,-999.000,9,-999.000,9,-999.0000,9, -999.00,9,-999.000,9,-999.000,   9.000,     2.4180,-999.0000, -999.00
32OC19880723,       A16N,     116,          1,          1,          1,2,19880823,       0247,     0.3333,   -25.0017,       3572,    10.9,  36.1171,2,  36.1080,2,    206.8,2,   203.3,2,    0.50,2,    0.30,2,    0.05,2,    0.11,2,-999.000,9,-999.000,9,-999.000,9,-999.0000,9, -999.00,9,-999.000,9,-999.000,-999.000,    26.1430,-999.0000, -999.00
32OC19880723,       A16N,     116,          1,          2,          2,2,19880823,       0247,     0.3333,   -25.0017,       3572,    36.4,  36.1179,2,  36.1110,2,    205.8,2,   202.0,2,    0.50,2,    0.20,2,    0.07,2,    0.14,2,-999.000,9,-999.000,9,-999.000,9,-999.0000,9, -999.00,9,-999.000,9,-999.000,   9.000,    26.0770,-999.0000, -999.00
32OC19880723,       A16N,     116,          1,          3,          3,2,19880823,       0247,     0.3333,   -25.0017,       3572,    65.7,  36.1313,2,  36.1240,2,    196.6,2,   193.6,2,    0.50,2,    1.10,2,    0.15,2,    0.15,2,-999.000,9,-999.000,9,-999.000,9,-999.0000,9, -999.00,9,-999.000,9,-999.000,-999.000,    25.6840,-999.0000, -999.00
32OC19880723,       A16N,     116,          1,          4,          4,2,19880823,       0247,     0.3333,   -25.0017,       3572,    85.5,  36.0522,2,  36.0070,2,    156.9,2,   145.5,2,    2.60,2,    8.30,2,    0.12,2,    0.65,2,-999.000,9,-999.000,9,-999.000,9,-999.0000,9, -999.00,9,-999.000,9,-999.000,   9.000,    20.5420,-999.0000, -999.00
32OC19880723,       A16N,     116,          1,          5,          5,2,19880823,       0247,     0.3333,   -25.0017,       3572,   105.2,  36.0328,2,  36.0040,2,    155.0,2,   164.5,2,    3.10,2,    9.70,2,    0.10,2,    0.72,2,-999.000,9,-999.000,9,-999.000,9,-999.0000,9, -999.00,9,-999.000,9,-999.000,-999.000,    18.5070,-999.0000, -999.00
32OC19880723,       A16N,     116,          1,          6,          6,2,19880823,       0247,     0.3333,   -25.0017,       3572,   156.2,  35.4845,2,  35.4900,2,    152.8,2,   152.7,2,    5.60,2,   15.10,2,    0.04,2,    1.08,2,-999.000,9,-999.000,9,-999.000,9,-999.0000,9, -999.00,9,-999.000,9,-999.000,   9.000,    14.4680,-999.0000, -999.00
32OC19880723,       A16N,     116,          1,          7,          7,2,19880823,       0247,     0.3333,   -25.0017,       3572,   206.6,  35.3377,2,-999.0000,9,    125.9,2,  -999.0,9, -999.00,9, -999.00,9, -999.00,9, -999.00,9,-999.000,9,-999.000,9,-999.000,9,-999.0000,9, -999.00,9,-999.000,9,-999.000,-999.000,    13.4650,-999.0000, -999.00
32OC19880723,       A16N,     116,          1,          8,          8,2,19880823,       0247,     0.3333,   -25.0017,       3572,   257.0,  35.2341,2,  35.2430,2,    113.1,2,   110.5,2,    8.20,2,   22.90,2,    0.02,2,    1.50,2,-999.000,9,-999.000,9,-999.000,9,-999.0000,9, -999.00,9,-999.000,9,-999.000,   9.000,    12.7270,-999.0000, -999.00
32OC19880723,       A16N,     116,          1,          9,          9,2,19880823,       0247,     0.3333,   -25.0017,       3572,   307.2,  35.0591,2,  35.0670,2,     87.6,2,    86.6,2,   11.30,2,   28.20,2,    0.02,2,    1.79,2,-999.000,9,-999.000,9,-999.000,9,-999.0000,9, -999.00,9,-999.000,9,-999.000,-999.000,    11.1750,-999.0000, -999.00
32OC19880723,       A16N,     116,          1,         10,         10,2,19880823,       0247,     0.3333,   -25.0017,       3572,   407.2,  34.7426,2,  34.7220,2,    118.2,2,   119.6,2,   16.50,2,   30.80,2,    0.05,2,    2.01,2,-999.000,9,-999.000,9,-999.000,9,-999.0000,9, -999.00,9,-999.000,9,-999.000,   9.000,     8.1010,-999.0000, -999.00
32OC19880723,       A16N,     116,          1,         11,         11,2,19880823,       0247,     0.3333,   -25.0017,       3572,   507.9,  34.6431,2,  34.6310,2,    137.4,2,   134.4,2,   18.80,2,   31.30,2,    0.00,2,    2.08,2,-999.000,9,-999.000,9,-999.000,9,-999.0000,9, -999.00,9,-999.000,9,-999.000,-999.000,     7.1510,-999.0000, -999.00
32OC19880723,       A16N,     116,          1,         12,         12,2,19880823,       0247,     0.3333,   -25.0017,       3572,   608.4,  34.5338,2,  34.5250,2,    143.4,2,   143.9,2,   22.40,2,   33.20,2,    0.00,2,    2.21,2,-999.000,9,-999.000,9,-999.000,9,-999.0000,9, -999.00,9,-999.000,9,-999.000,   9.000,     5.7900,-999.0000, -999.00
32OC19880723,       A16N,     116,          1,         13,         13,2,19880823,       0247,     0.3333,   -25.0017,       3572,   709.3,  34.5061,2,  34.5080,2,    146.8,2,   146.9,2,   26.00,2,   33.50,2,    0.00,2,    2.25,2,-999.000,9,-999.000,9,-999.000,9,-999.0000,9, -999.00,9,-999.000,9,-999.000,-999.000,     5.4430,-999.0000, -999.00
32OC19880723,       A16N,     116,          1,         14,         14,2,19880823,       0247,     0.3333,   -25.0017,       3572,   809.2,  34.5052,2,  34.5090,2,    146.1,2,   148.7,2,   29.40,2,   34.10,2,    0.00,2,    2.34,2,-999.000,9,-999.000,9,-999.000,9,-999.0000,9, -999.00,9,-999.000,9,-999.000,   9.000,     4.8780,-999.0000, -999.00
32OC19880723,       A16N,     116,          1,         15,         15,2,19880823,       0247,     0.3333,   -25.0017,       3572,  1011.0,  34.6449,2,  34.6430,2,    155.6,2,   158.6,2,   29.40,2,   31.80,2,    0.00,2,    2.19,2,-999.000,9,-999.000,9,-999.000,9,-999.0000,9, -999.00,9,-999.000,9,-999.000,-999.000,     4.5750,-999.0000, -999.00
32OC19880723,       A16N,     116,          1,         16,         16,2,19880823,       0247,     0.3333,   -25.0017,       3572,  1263.0,  34.8438,2,  34.8380,2,    184.7,2,   188.6,2,   23.60,2,   27.60,2,    0.00,2,    1.84,2,-999.000,9,-999.000,9,-999.000,9,-999.0000,9, -999.00,9,-999.000,9,-999.000,   9.000,     4.4960,-999.0000, -999.00
32OC19880723,       A16N,     116,          1,         17,         17,2,19880823,       0247,     0.3333,   -25.0017,       3572,  1518.5,  34.9638,2,  34.9640,2,    231.4,2,   233.3,2,   17.70,2,   22.00,2,    0.00,2,    1.41,2,-999.000,9,-999.000,9,-999.000,9,-999.0000,9, -999.00,9,-999.000,9,-999.000,-999.000,     4.1620,-999.0000, -999.00
32OC19880723,       A16N,     116,          1,         18,         18,2,19880823,       0247,     0.3333,   -25.0017,       3572,  1818.4,  34.9793,2,  34.9780,2,    250.7,2,   250.3,2,   17.00,2,   20.20,2,    0.00,2,    1.28,2,-999.000,9,-999.000,9,-999.000,9,-999.0000,9, -999.00,9,-999.000,9,-999.000,   9.000,     3.8170,-999.0000, -999.00
32OC19880723,       A16N,     116,          1,         19,         19,2,19880823,       0247,     0.3333,   -25.0017,       3572,  2121.7,  34.9560,2,  34.9560,2,    251.3,2,   251.1,2,   22.60,2,   20.60,2,    0.00,2,    1.33,2,-999.000,9,-999.000,9,-999.000,9,-999.0000,9, -999.00,9,-999.000,9,-999.000,-999.000,     3.3670,-999.0000, -999.00
32OC19880723,       A16N,     116,          1,         20,         20,2,19880823,       0247,     0.3333,   -25.0017,       3572,  2476.1,  34.9342,2,  34.9340,2,    250.7,2,   250.3,2,   29.30,2,   20.80,2,    0.01,2,    1.37,2,-999.000,9,-999.000,9,-999.000,9,-999.0000,9, -999.00,9,-999.000,9,-999.000,   9.000,     2.9600,-999.0000, -999.00
32OC19880723,       A16N,     116,          1,         21,         21,2,19880823,       0247,     0.3333,   -25.0017,       3572,  2831.2,  34.9205,2,  34.9190,2,    250.6,2,   250.3,2,   33.20,2,   21.30,2,    0.01,2,    1.40,2,-999.000,9,-999.000,9,-999.000,9,-999.0000,9, -999.00,9,-999.000,9,-999.000,-999.000,     2.7530,-999.0000, -999.00
32OC19880723,       A16N,     116,          1,         22,         22,2,19880823,       0247,     0.3333,   -25.0017,       3572,  3187.2,  34.9109,2,  34.9100,2,    250.6,2,   250.3,2,   35.90,2,   21.50,2,    0.00,2,    1.36,2,-999.000,9,-999.000,9,-999.000,9,-999.0000,9, -999.00,9,-999.000,9,-999.000,   9.000,     2.6350,-999.0000, -999.00
32OC19880723,       A16N,     116,          1,         23,         23,2,19880823,       0247,     0.3333,   -25.0017,       3572,  3441.3,  34.9035,2,  34.9060,2,    251.7,2,   251.6,2,   36.90,2,   21.10,2,    0.00,2,    1.39,2,-999.000,9,-999.000,9,-999.000,9,-999.0000,9, -999.00,9,-999.000,9,-999.000,-999.000,     2.5280,-999.0000, -999.00
32OC19880723,       A16N,     116,          1,         24,         24,2,19880823,       0247,     0.3333,   -25.0017,       3572,  3630.6,  34.9008,2,  34.9000,2,    252.3,2,   252.9,2,   38.60,2,   21.30,2,    0.00,2,    1.42,2,-999.000,9,-999.000,9,-999.000,9,-999.0000,9, -999.00,9,-999.000,9,-999.000,   9.000,     2.4750,-999.0000, -999.00
32OC19880723,       A16N,     116,          1,         99,     -999.0,9,19880823,       0247,     0.3333,   -25.0017,       3572,  3632.4,  34.9008,2,-999.0000,9,    252.1,2,  -999.0,9, -999.00,9, -999.00,9, -999.00,9, -999.00,9,-999.000,9,-999.000,9,-999.000,9,-999.0000,9, -999.00,9,-999.000,9,-999.000,-999.000,     2.4750,-999.0000, -999.00