BOTTLE,20220922CCHSIOAMB
EXPOCODE,SECT_ID,STNNBR,CASTNO,SAMPNO,BTLNBR,BTLNBR_FLAG_W,DATE,TIME,LATITUDE,LONGITUDE,DEPTH,CTDPRS,CTDSAL,CTDSAL_FLAG_W,SALNTY,SALNTY_FLAG_W,CTDOXY,CTDOXY_FLAG_W,OXYGEN,OXYGEN_FLAG_W,SILCAT,SILCAT_FLAG_W,NITRAT,NITRAT_FLAG_W,NITRIT,NITRIT_FLAG_W,PHSPHT,PHSPHT_FLAG_W,CFC-11,CFC-11_FLAG_W,CFC-12,CFC-12_FLAG_W,TRITUM,TRITUM_FLAG_W,HELIUM,HELIUM_FLAG_W,DELHE3,DELHE3_FLAG_W,NEON,NEON_FLAG_W,NEONER,TRITER,CTDTMP,HELIER,DELHER
,,,,,,,,,,,METERS,DBAR,PSS-78,,PSS-78,,UMOL/KG,,UMOL/KG,,UMOL/KG,,UMOL/KG,,UMOL/KG,,UMOL/KG,,PMOL/KG,,PMOL/KG,,TU,,NMOL/KG,,PERCNT,,NMOL/KG,,NMOL/KG,TU,IPTS-68,NMOL/KG,PERCNT
32OC19880723,       A16N,      79,          1,          7,          7,2,19880814,       0724,    25.3900,   -26.0033,       5359,    13.7,  37.3061,2,  37.2970,2,    215.0,2,   213.8,2,    0.00,2,    0.00,2,    0.00,2,    0.03,2,   1.899,2,   0.929,2,-999.000,9,-999.0000,9, -999.00,9,-999.000,9,-999.000,-999.000,    23.4870,-999.0000, -999.00
32OC19880723,       A16N,      79,          1,          8,          8,2,19880814,       0724,    25.3900,   -26.0033,       5359,    39.2,  37.3071,2,  37.2980,2,    212.9,2,   213.8,2,    0.00,2,    0.00,2,    0.00,2,    0.05,2,   1.945,2,   0.933,2,-999.000,9,-999.0000,9, -999.00,9,-999.000,9,-999.000,   9.000,    23.4870,-999.0000, -999.00
32OC19880723,       A16N,      79,          1,          9,          9,2,19880814,       0724,    25.3900,   -26.0033,       5359,    67.1,  37.2155,2,  37.2740,2,    219.1,2,   219.9,2,    0.00,2,    0.00,2,    0.00,2,    0.04,2,   1.914,2,   0.958,2,-999.000,9,-999.0000,9, -999.00,9,-999.000,9,-999.000,-999.000,    22.8510,-999.0000, -999.00
32OC19880723,       A16N,      79,          1,         10,         10,2,19880814,       0724,    25.3900,   -26.0033,       5359,   103.8,  36.9965,2,  37.0270,2,    217.4,2,   221.1,2,    0.00,2,    0.00,2,    0.00,2,    0.05,2,   2.111,2,   0.997,2,-999.000,9,-999.0000,9, -999.00,9,-999.000,9,-999.000,   9.000,    20.4390,-999.0000, -999.00
32OC19880723,       A16N,      79,          1,         11,         11,2,19880814,       0724,    25.3900,   -26.0033,       5359,   146.6,  36.8201,2,  36.8520,2,    208.3,2,   207.1,2,    0.20,2,    1.60,2,    0.04,2,    0.12,2,   2.061,2,   0.993,2,-999.000,9,-999.0000,9, -999.00,9,-999.000,9,-999.000,-999.000,    19.3170,-999.0000, -999.00
32OC19880723,       A16N,      79,          1,         12,         12,2,19880814,       0724,    25.3900,   -26.0033,       5359,   188.2,  36.6727,2,  36.7280,2,    204.6,2,   205.4,2,    0.30,2,    2.30,2,    0.00,2,    0.15,2,   2.064,2,   0.966,2,-999.000,9,-999.0000,9, -999.00,9,-999.000,9,-999.000,   9.000,    18.6630,-999.0000, -999.00
32OC19880723,       A16N,      79,          1,         13,         13,2,19880814,       0724,    25.3900,   -26.0033,       5359,   273.9,  36.2978,2,  36.3040,2,    188.6,2,   186.6,2,    1.80,2,    7.50,2,    0.00,2,    0.40,2,   1.908,2,   0.879,2,-999.000,9,-999.0000,9, -999.00,9,-999.000,9,-999.000,-999.000,    16.3740,-999.0000, -999.00
32OC19880723,       A16N,      79,          1,         14,         14,2,19880814,       0724,    25.3900,   -26.0033,       5359,   358.6,  36.0208,2,  35.9970,2,    182.5,2,   182.7,2,    3.10,2,   10.80,2,    0.00,2,    0.60,2,   1.715,2,   0.770,2,-999.000,9,-999.0000,9, -999.00,9,-999.000,9,-999.000,   9.000,    14.5730,-999.0000, -999.00
32OC19880723,       A16N,      79,          1,         15,         15,2,19880814,       0724,    25.3900,   -26.0033,       5359,   537.6,  35.6094,2,  35.6220,2,    185.0,2,   185.7,2,    5.30,2,   15.20,2,    0.00,2,    0.89,2,   1.303,2,   0.584,2,-999.000,9,-999.0000,9, -999.00,9,-999.000,9,-999.000,-999.000,    11.8910,-999.0000, -999.00
32OC19880723,       A16N,      79,          1,         16,         16,2,19880814,       0724,    25.3900,   -26.0033,       5359,   722.5,  36.2083,2,  36.0680,3,    194.0,2,   188.7,2,    5.20,3,   13.10,3,    0.00,2,    0.80,3,   1.354,2,   0.600,2,-999.000,9,-999.0000,9, -999.00,9,-999.000,9,-999.000,   9.000,    12.3600,-999.0000, -999.00
32OC19880723,       A16N,      79,          1,         17,         17,2,19880814,       0724,    25.3900,   -26.0033,       5359,   950.4,  35.6691,2,  35.6970,3,    168.8,2,   159.5,2,   11.40,2,   20.00,2,    0.00,2,    1.26,2,   0.600,2,   0.275,2,-999.000,9,-999.0000,9, -999.00,9,-999.000,9,-999.000,-999.000,    10.2050,-999.0000, -999.00
32OC19880723,       A16N,      79,          1,         18,         18,2,19880814,       0724,    25.3900,   -26.0033,       5359,  1172.5,  35.2434,2,  35.2550,2,    162.9,2,   162.5,2,   17.70,2,   24.50,2,    0.00,2,    1.64,2,   0.126,2,   0.032,2,-999.000,9,-999.0000,9, -999.00,9,-999.000,9,-999.000,   9.000,     7.1150,-999.0000, -999.00
32OC19880723,       A16N,      79,          1,         19,         19,2,19880814,       0724,    25.3900,   -26.0033,       5359,  1395.7,  35.2493,2,  35.2470,2,    188.4,2,   188.6,2,   18.20,2,   22.50,2,    0.00,2,    1.49,2,   0.078,2,   0.006,7,-999.000,9,-999.0000,9, -999.00,9,-999.000,9,-999.000,-999.000,     6.1750,-999.0000, -999.00
32OC19880723,       A16N,      79,          1,         20,         20,2,19880814,       0724,    25.3900,   -26.0033,       5359,  1624.9,  35.1751,2,  35.1710,2,    210.7,2,   212.9,2,   19.40,2,   21.00,2,    0.00,2,    1.42,2,   0.031,2,   0.002,7,-999.000,9,-999.0000,9, -999.00,9,-999.000,9,-999.000,   9.000,     5.1420,-999.0000, -999.00
32OC19880723,       A16N,      79,          1,         21,         21,2,19880814,       0724,    25.3900,   -26.0033,       5359,  1960.6,  35.0786,2,  35.0900,2,    228.6,2,   231.6,2,   21.30,2,   20.40,2,    0.00,2,    1.34,2,   0.044,2,   0.006,7,-999.000,9,-999.0000,9, -999.00,9,-999.000,9,-999.000,-999.000,     4.2520,-999.0000, -999.00
32OC19880723,       A16N,      79,          1,         22,         22,2,19880814,       0724,    25.3900,   -26.0033,       5359,  2307.6,  35.0152,2,  35.0120,2,    241.5,2,   244.2,2,   25.00,2,   20.10,2,    0.00,2,    1.35,2,   0.026,2,   0.006,7,-999.000,9,-999.0000,9, -999.00,9,-999.000,9,-999.000,   9.000,     3.4710,-999.0000, -999.00
32OC19880723,       A16N,      79,          1,         23,         23,2,19880814,       0724,    25.3900,   -26.0033,       5359,  2662.3,  34.9659,2,  34.9630,2,    245.4,2,   246.3,2,   30.50,2,   20.30,2,    0.00,2,    1.38,2,-999.000,9,-999.000,9,-999.000,9,-999.0000,9, -999.00,9,-999.000,9,-999.000,-999.000,     2.9960,-999.0000, -999.00
32OC19880723,       A16N,      79,          1,         24,         24,2,19880814,       0724,    25.3900,   -26.0033,       5359,  3020.8,  34.9378,2,  34.9360,2,    246.4,2,   245.9,2,   35.60,2,   20.70,2,    0.00,2,    1.41,2,-999.000,9,-999.000,9,-999.000,9,-999.0000,9, -999.00,9,-999.000,9,-999.000,   9.000,     2.7180,-999.0000, -999.00
32OC19880723,       A16N,      79,          1,          1,          1,2,19880814,       0724,    25.3900,   -26.0033,       5359,  3432.1,  34.9180,2,  34.9140,2,    246.4,2,   245.9,2,   40.10,2,   21.30,2,    0.00,2,    1.40,2,   0.001,2,  -0.001,2,-999.000,9,-999.0000,9, -999.00,9,-999.000,9,-999.000,-999.000,     2.5290,-999.0000, -999.00
32OC19880723,       A16N,      79,          1,          2,          2,2,19880814,       0724,    25.3900,   -26.0033,       5359,  3846.1,  34.9039,2,  34.9030,2,    245.9,2,   245.5,2,   42.60,2,   21.60,2,    0.00,2,    1.48,2,-999.000,9,-999.000,9,-999.000,9,-999.0000,9, -999.00,9,-999.000,9,-999.000,   9.000,     2.4480,-999.0000, -999.00
32OC19880723,       A16N,      79,          1,          3,          3,2,19880814,       0724,    25.3900,   -26.0033,       5359,  4266.0,  34.8928,2,  34.8940,2,    245.7,2,   245.0,2,   45.00,2,   22.20,2,    0.00,2,    1.49,2,  -0.006,2,  -0.001,2,-999.000,9,-999.0000,9, -999.00,9,-999.000,9,-999.000,-999.000,     2.3980,-999.0000, -999.00
32OC19880723,       A16N,      79,          1,          4,          4,2,19880814,       0724,    25.3900,   -26.0033,       5359,  4687.4,  34.8876,2,  34.8880,2,    245.5,2,   245.5,2,   46.40,2,   22.00,2,    0.00,2,    1.50,2,-999.000,9,-999.000,9,-999.000,9,-999.0000,9, -999.00,9,-999.000,9,-999.000,   9.000,     2.3960,-999.0000, -999.00
32OC19880723,       A16N,      79,          1,          5,          5,2,19880814,       0724,    25.3900,   -26.0033,       5359,  5112.1,  34.8860,2,  34.8850,2,    245.1,2,   245.5,2,   46.50,2,   22.00,2,    0.01,2,    1.50,2,  -0.017,2,   0.002,7,-999.000,9,-999.0000,9, -999.00,9,-999.000,9,-999.000,-999.000,     2.4350,-999.0000, -999.00
32OC19880723,       A16N,      79,          1,          6,          6,2,19880814,       0724,    25.3900,   -26.0033,       5359,  5456.5,  34.8861,2,  34.8840,2,    243.9,2,   244.6,2,   46.70,2,   22.50,2,    0.01,2,    1.51,2,   0.026,3,   0.002,7,-999.000,9,-999.0000,9, -999.00,9,-999.000,9,-999.000,   9.000,     2.4770,-999.0000, -999.00
32OC19880723,       A16N,      79,          1,         99,     -999.0,9,19880814,       0724,    25.3900,   -26.0033,       5359,  5458.5,  34.8860,2,-999.0000,9,    243.9,2,  -999.0,9, -999.00,9, -999.00,9, -999.00,9, -999.00,9,-999.000,9,-999.000,9,-999.000,9,-999.0000,9, -999.00,9,-999.000,9,-999.000,-999.000,     2.4780,-999.0000, -999.00
32OC19880723,       A16N,      80,          1,          7,          7,2,19880814,       1306,    24.7317,   -26.3517,       5406,    13.7,  37.1317,2,  37.1260,2,    213.9,2,   212.6,2,    0.10,2,    0.00,2,    0.00,2,    0.03,2,-999.000,9,-999.000,9,-999.000,9,-999.0000,9, -999.00,9,-999.000,9,-999.000,   9.000,    23.8580,-999.0000, -999.00
32OC19880723,       A16N,      80,          1,          8,          8,2,19880814,       1306,    24.7317,   -26.3517,       5406,    38.7,  37.1307,2,  37.1260,2,    213.5,2,   213.0,2,    0.20,2,    0.10,2,    0.00,2,    0.03,2,-999.000,9,-999.000,9,-999.000,9,-999.0000,9, -999.00,9,-999.000,9,-999.000,-999.000,    23.8100,-999.0000, -999.00
32OC19880723,       A16N,      80,          1,          9,          9,2,19880814,       1306,    24.7317,   -26.3517,       5406,    67.7,  37.1692,2,  37.1040,2,    223.2,2,   226.4,2,    0.30,2,    0.00,2,    0.00,2,    0.00,2,-999.000,9,-999.000,9,-999.000,9,-999.0000,9, -999.00,9,-999.000,9,-999.000,   9.000,    21.5670,-999.0000, -999.00
32OC19880723,       A16N,      80,          1,         10,         10,2,19880814,       1306,    24.7317,   -26.3517,       5406,   105.8,  37.0550,2,  37.0280,2,    222.7,2,   221.9,2,    0.30,2,    0.20,2,    0.00,2,    0.04,2,-999.000,9,-999.000,9,-999.000,9,-999.0000,9, -999.00,9,-999.000,9,-999.000,-999.000,    20.3750,-999.0000, -999.00
32OC19880723,       A16N,      80,          1,         11,         11,2,19880814,       1306,    24.7317,   -26.3517,       5406,   152.3,  36.8992,2,  36.8380,2,    206.0,2,   205.4,2,    0.50,2,    1.80,2,    0.04,2,    0.11,2,-999.000,9,-999.000,9,-999.000,9,-999.0000,9, -999.00,9,-999.000,9,-999.000,   9.000,    19.1680,-999.0000, -999.00
32OC19880723,       A16N,      80,          1,         12,         12,2,19880814,       1306,    24.7317,   -26.3517,       5406,   197.4,  36.6530,2,  36.5820,2,    198.3,2,   195.8,2,    1.00,2,    4.40,2,    0.02,2,    0.21,2,-999.000,9,-999.000,9,-999.000,9,-999.0000,9, -999.00,9,-999.000,9,-999.000,-999.000,    17.9070,-999.0000, -999.00
32OC19880723,       A16N,      80,          1,         13,         13,2,19880814,       1306,    24.7317,   -26.3517,       5406,   287.7,  36.2514,2,  36.2070,2,    188.3,2,   189.6,2,    2.10,2,    8.30,2,    0.00,2,    0.44,2,-999.000,9,-999.000,9,-999.000,9,-999.0000,9, -999.00,9,-999.000,9,-999.000,   9.000,    15.8640,-999.0000, -999.00
32OC19880723,       A16N,      80,          1,         14,         14,2,19880814,       1306,    24.7317,   -26.3517,       5406,   375.1,  35.9496,2,  35.9320,2,    187.4,2,   187.0,2,    3.40,2,   11.40,2,    0.00,2,    0.62,2,-999.000,9,-999.000,9,-999.000,9,-999.0000,9, -999.00,9,-999.000,9,-999.000,-999.000,    14.1900,-999.0000, -999.00
32OC19880723,       A16N,      80,          1,         15,         15,2,19880814,       1306,    24.7317,   -26.3517,       5406,   551.4,  35.6095,2,  35.6000,2,    171.2,2,   172.2,2,    6.50,2,   17.20,2,    0.00,2,    1.00,2,-999.000,9,-999.000,9,-999.000,9,-999.0000,9, -999.00,9,-999.000,9,-999.000,   9.000,    11.7070,-999.0000, -999.00
32OC19880723,       A16N,      80,          1,         16,         16,2,19880814,       1306,    24.7317,   -26.3517,       5406,   731.8,  35.3981,2,  35.4010,2,    145.7,2,   146.1,2,   12.00,2,   23.20,2,    0.00,2,    1.40,2,-999.000,9,-999.000,9,-999.000,9,-999.0000,9, -999.00,9,-999.000,9,-999.000,-999.000,     9.7630,-999.0000, -999.00
32OC19880723,       A16N,      80,          1,         17,         17,2,19880814,       1306,    24.7317,   -26.3517,       5406,   965.4,  35.2159,2,  35.2050,2,    149.4,2,   146.9,2,   18.00,2, -999.00,9,    0.01,2,    1.68,2,-999.000,9,-999.000,9,-999.000,9,-999.0000,9, -999.00,9,-999.000,9,-999.000,   9.000,     7.5390,-999.0000, -999.00
32OC19880723,       A16N,      80,          1,         18,         18,2,19880814,       1306,    24.7317,   -26.3517,       5406,  1200.1,  35.2416,2,  35.2440,2,    172.1,2,   172.1,2,   18.60,2,   24.00,2,    0.01,2,    1.54,2,-999.000,9,-999.000,9,-999.000,9,-999.0000,9, -999.00,9,-999.000,9,-999.000,-999.000,     6.6580,-999.0000, -999.00
32OC19880723,       A16N,      80,          1,         19,         19,2,19880814,       1306,    24.7317,   -26.3517,       5406,  1435.7,  35.2099,2,  35.2070,2,    197.8,2,   198.1,2,   19.10,2,   22.60,2,    0.01,2,    1.43,2,-999.000,9,-999.000,9,-999.000,9,-999.0000,9, -999.00,9,-999.000,9,-999.000,   9.000,     5.7160,-999.0000, -999.00
32OC19880723,       A16N,      80,          1,         20,         20,2,19880814,       1306,    24.7317,   -26.3517,       5406,  1671.2,  35.1423,2,  35.1450,2,    214.5,2,   214.6,2,   20.60,2,   21.40,2,    0.01,2,    1.42,2,-999.000,9,-999.000,9,-999.000,9,-999.0000,9, -999.00,9,-999.000,9,-999.000,-999.000,     4.9190,-999.0000, -999.00
32OC19880723,       A16N,      80,          1,         21,         21,2,19880814,       1306,    24.7317,   -26.3517,       5406,  2000.6,  35.0680,2,  35.0690,2,    235.0,2,   232.9,2,   22.70,2,   21.00,2,    0.01,2,    1.35,2,-999.000,9,-999.000,9,-999.000,9,-999.0000,9, -999.00,9,-999.000,9,-999.000,   9.000,     4.0750,-999.0000, -999.00
32OC19880723,       A16N,      80,          1,         22,         22,2,19880814,       1306,    24.7317,   -26.3517,       5406,  2384.9,  34.9978,2,  34.9970,2,    247.9,2,   246.4,2,   26.30,2,   20.30,2,    0.01,2,    1.31,2,-999.000,9,-999.000,9,-999.000,9,-999.0000,9, -999.00,9,-999.000,9,-999.000,-999.000,     3.3470,-999.0000, -999.00
32OC19880723,       A16N,      80,          1,         23,         23,2,19880814,       1306,    24.7317,   -26.3517,       5406,  2778.8,  34.9504,2,  34.9500,2,    247.2,2,   247.7,2,   32.70,2,   21.00,2,    0.01,2,    1.38,2,-999.000,9,-999.000,9,-999.000,9,-999.0000,9, -999.00,9,-999.000,9,-999.000,   9.000,     2.8710,-999.0000, -999.00
32OC19880723,       A16N,      80,          1,         24,         24,2,19880814,       1306,    24.7317,   -26.3517,       5406,  3179.5,  34.9241,2,  34.9240,2,    245.5,2,   245.9,2,   38.10,2,   21.50,2,    0.01,2,    1.41,2,-999.000,9,-999.000,9,-999.000,9,-999.0000,9, -999.00,9,-999.000,9,-999.000,-999.000,     2.6260,-999.0000, -999.00
32OC19880723,       A16N,      80,          1,          1,          1,2,19880814,       1306,    24.7317,   -26.3517,       5406,  3584.3,  34.9110,2,  34.9130,2,    244.9,2,   245.5,2,   41.00,2,   21.80,2,    0.01,2,    1.44,2,-999.000,9,-999.000,9,-999.000,9,-999.0000,9, -999.00,9,-999.000,9,-999.000,   9.000,     2.5120,-999.0000, -999.00
32OC19880723,       A16N,      80,          1,          2,          2,2,19880814,       1306,    24.7317,   -26.3517,       5406,  3996.5,  34.9001,2,  34.9000,2,    244.9,2,   245.0,2,   43.90,2,   22.10,2,    0.01,2,    1.44,2,-999.000,9,-999.000,9,-999.000,9,-999.0000,9, -999.00,9,-999.000,9,-999.000,-999.000,     2.4310,-999.0000, -999.00
32OC19880723,       A16N,      80,          1,          3,          3,2,19880814,       1306,    24.7317,   -26.3517,       5406,  4417.1,  34.8894,2,  34.8890,2,    245.1,2,   245.5,2,   46.20,2,   22.60,2,    0.01,2,    1.48,2,-999.000,9,-999.000,9,-999.000,9,-999.0000,9, -999.00,9,-999.000,9,-999.000,   9.000,     2.3910,-999.0000, -999.00
32OC19880723,       A16N,      80,          1,          4,          4,2,19880814,       1306,    24.7317,   -26.3517,       5406,  4786.8,  34.8859,2,  34.8850,2,    245.6,2,   245.9,2,   47.00,2,   22.30,2,    0.02,2,    1.49,2,-999.000,9,-999.000,9,-999.000,9,-999.0000,9, -999.00,9,-999.000,9,-999.000,-999.000,     2.4030,-999.0000, -999.00
32OC19880723,       A16N,      80,          1,          5,          5,2,19880814,       1306,    24.7317,   -26.3517,       5406,  5150.2,  34.8849,2,  34.8830,2,    246.4,2,   245.5,2,   47.50,2,   22.50,2,    0.02,2,    1.47,2,-999.000,9,-999.000,9,-999.000,9,-999.0000,9, -999.00,9,-999.000,9,-999.000,   9.000,     2.4350,-999.0000, -999.00
32OC19880723,       A16N,      80,          1,          6,          6,2,19880814,       1306,    24.7317,   -26.3517,       5406,  5504.2,  34.8846,2,  34.8830,2,    245.9,2,   245.9,2,   47.70,2,   22.20,2,    0.02,2,    1.50,2,-999.000,9,-999.000,9,-999.000,9,-999.0000,9, -999.00,9,-999.000,9,-999.000,-999.000,     2.4760,-999.0000, -999.00
32OC19880723,       A16N,      80,          1,         99,     -999.0,9,19880814,       1306,    24.7317,   -26.3517,       5406,  5505.2,  34.8845,2,-999.0000,9,    245.9,2,  -999.0,9, -999.00,9, -999.00,9, -999.00,9, -999.00,9,-999.000,9,-999.000,9,-999.000,9,-999.0000,9, -999.00,9,-999.000,9,-999.000,   9.000,     2.4760,-999.0000, -999.00