BOTTLE,20220922CCHSIOAMB
EXPOCODE,SECT_ID,STNNBR,CASTNO,SAMPNO,BTLNBR,BTLNBR_FLAG_W,DATE,TIME,LATITUDE,LONGITUDE,DEPTH,CTDPRS,CTDSAL,CTDSAL_FLAG_W,SALNTY,SALNTY_FLAG_W,CTDOXY,CTDOXY_FLAG_W,OXYGEN,OXYGEN_FLAG_W,SILCAT,SILCAT_FLAG_W,NITRAT,NITRAT_FLAG_W,NITRIT,NITRIT_FLAG_W,PHSPHT,PHSPHT_FLAG_W,CFC-11,CFC-11_FLAG_W,CFC-12,CFC-12_FLAG_W,TRITUM,TRITUM_FLAG_W,HELIUM,HELIUM_FLAG_W,DELHE3,DELHE3_FLAG_W,NEON,NEON_FLAG_W,NEONER,TRITER,CTDTMP,HELIER,DELHER
,,,,,,,,,,,METERS,DBAR,PSS-78,,PSS-78,,UMOL/KG,,UMOL/KG,,UMOL/KG,,UMOL/KG,,UMOL/KG,,UMOL/KG,,PMOL/KG,,PMOL/KG,,TU,,NMOL/KG,,PERCNT,,NMOL/KG,,NMOL/KG,TU,IPTS-68,NMOL/KG,PERCNT
32OC19880723,       A16N,      95,          1,          1,          1,2,19880818,       0541,    14.0017,   -29.0000,       5439,    12.4,  36.5375,2,  36.5240,2,    174.6,2,   201.9,2,    0.10,2,    0.10,2,    0.02,2,    0.04,2,-999.000,9,-999.000,9,-999.000,9,-999.0000,9, -999.00,9,-999.000,9,-999.000,-999.000,    26.9470,-999.0000, -999.00
32OC19880723,       A16N,      95,          1,          2,          2,2,19880818,       0541,    14.0017,   -29.0000,       5439,    38.4,  36.5792,2,  36.6290,2,    222.2,2,   227.0,2,    0.00,2,    0.20,2,    0.03,2,    0.04,2,-999.000,9,-999.000,9,-999.000,9,-999.0000,9, -999.00,9,-999.000,9,-999.000,   9.000,    24.1800,-999.0000, -999.00
32OC19880723,       A16N,      95,          1,          3,          3,2,19880818,       0541,    14.0017,   -29.0000,       5439,    68.0,  36.6379,2,  36.5970,2,    159.9,2,   171.1,2,    1.10,2,    4.60,2,    0.26,2,    0.35,2,-999.000,9,-999.000,9,-999.000,9,-999.0000,9, -999.00,9,-999.000,9,-999.000,-999.000,    20.1600,-999.0000, -999.00
32OC19880723,       A16N,      95,          1,          4,          4,2,19880818,       0541,    14.0017,   -29.0000,       5439,   107.3,  36.2116,2,  36.2900,2,    110.4,2,   118.3,2,    3.60,2,   15.40,2,    0.07,2,    0.88,2,-999.000,9,-999.000,9,-999.000,9,-999.0000,9, -999.00,9,-999.000,9,-999.000,   9.000,    16.9450,-999.0000, -999.00
32OC19880723,       A16N,      95,          1,          5,          5,2,19880818,       0541,    14.0017,   -29.0000,       5439,   157.2,  35.7237,2,  35.9180,2,     92.7,2,    97.4,2,    5.80,2,   20.50,2,    0.03,2,    1.17,2,-999.000,9,-999.000,9,-999.000,9,-999.0000,9, -999.00,9,-999.000,9,-999.000,-999.000,    14.8740,-999.0000, -999.00
32OC19880723,       A16N,      95,          1,          6,          6,2,19880818,       0541,    14.0017,   -29.0000,       5439,   206.0,  35.3266,2,  35.4940,2,     89.8,2,    87.0,2,    8.90,2,   25.30,2,    0.02,2,    1.50,2,-999.000,9,-999.000,9,-999.000,9,-999.0000,9, -999.00,9,-999.000,9,-999.000,   9.000,    12.6050,-999.0000, -999.00
32OC19880723,       A16N,      95,          1,          7,          7,2,19880818,       0541,    14.0017,   -29.0000,       5439,   303.8,  35.1473,2,  35.1510,2,     72.1,2,    72.2,2,   12.30,2,   30.60,2,    0.02,2,    1.83,2,-999.000,9,-999.000,9,-999.000,9,-999.0000,9, -999.00,9,-999.000,9,-999.000,-999.000,    10.5950,-999.0000, -999.00
32OC19880723,       A16N,      95,          1,          8,          8,2,19880818,       0541,    14.0017,   -29.0000,       5439,   403.6,  35.0883,2,  35.0890,2,     72.7,2,    67.8,2,   14.40,2,   32.30,2,    0.02,2,    1.95,2,-999.000,9,-999.000,9,-999.000,9,-999.0000,9, -999.00,9,-999.000,9,-999.000,   9.000,     9.8550,-999.0000, -999.00
32OC19880723,       A16N,      95,          1,          9,          9,2,19880818,       0541,    14.0017,   -29.0000,       5439,   602.0,  34.9753,2,  34.9820,2,     72.1,2,    71.7,2,   19.30,2,   34.60,2,    0.02,2,    2.19,2,-999.000,9,-999.000,9,-999.000,9,-999.0000,9, -999.00,9,-999.000,9,-999.000,-999.000,     8.2210,-999.0000, -999.00
32OC19880723,       A16N,      95,          1,         10,         10,2,19880818,       0541,    14.0017,   -29.0000,       5439,   799.9,  34.8308,2,  34.8350,2,    100.4,2,   100.8,2,   23.70,2,   34.30,2,    0.02,2,    2.23,2,-999.000,9,-999.000,9,-999.000,9,-999.0000,9, -999.00,9,-999.000,9,-999.000,   9.000,     6.4930,-999.0000, -999.00
32OC19880723,       A16N,      95,          1,         11,         11,2,19880818,       0541,    14.0017,   -29.0000,       5439,  1046.0,  34.9060,2,  34.9000,2,    136.4,2,   135.6,2,   24.20,2,   31.00,2,    0.02,2,    2.01,2,-999.000,9,-999.000,9,-999.000,9,-999.0000,9, -999.00,9,-999.000,9,-999.000,-999.000,     5.6800,-999.0000, -999.00
32OC19880723,       A16N,      95,          1,         12,         12,2,19880818,       0541,    14.0017,   -29.0000,       5439,  1291.3,  34.9695,2,  34.9710,2,    180.1,2,   180.8,2,   22.00,2,   26.30,2,    0.02,2,    1.71,2,-999.000,9,-999.000,9,-999.000,9,-999.0000,9, -999.00,9,-999.000,9,-999.000,   9.000,     4.8990,-999.0000, -999.00
32OC19880723,       A16N,      95,          1,         13,         13,2,19880818,       0541,    14.0017,   -29.0000,       5439,  1588.8,  34.9850,2,  34.9880,2,    224.9,2,   222.9,2,   19.50,2,   22.50,2,    0.02,2,    1.45,2,-999.000,9,-999.000,9,-999.000,9,-999.0000,9, -999.00,9,-999.000,9,-999.000,-999.000,     4.2210,-999.0000, -999.00
32OC19880723,       A16N,      95,          1,         14,         14,2,19880818,       0541,    14.0017,   -29.0000,       5439,  1939.6,  34.9740,2,  34.9750,2,    239.9,2,   238.5,2,   21.50,2,   21.10,2,    0.02,2,    1.36,2,-999.000,9,-999.000,9,-999.000,9,-999.0000,9, -999.00,9,-999.000,9,-999.000,   9.000,     3.6470,-999.0000, -999.00
32OC19880723,       A16N,      95,          1,         15,         15,2,19880818,       0541,    14.0017,   -29.0000,       5439,  2288.4,  34.9579,2,  34.9570,2,    241.6,2,   241.1,2,   26.90,2,   21.30,2,    0.02,2,    1.38,2,-999.000,9,-999.000,9,-999.000,9,-999.0000,9, -999.00,9,-999.000,9,-999.000,-999.000,     3.2350,-999.0000, -999.00
32OC19880723,       A16N,      95,          1,         16,         16,2,19880818,       0541,    14.0017,   -29.0000,       5439,  2639.1,  34.9433,2,  34.9430,2,    243.3,2,   243.3,2,   31.10,2,   21.30,2,    0.03,2,    1.39,2,-999.000,9,-999.000,9,-999.000,9,-999.0000,9, -999.00,9,-999.000,9,-999.000,   9.000,     2.9570,-999.0000, -999.00
32OC19880723,       A16N,      95,          1,         17,         17,2,19880818,       0541,    14.0017,   -29.0000,       5439,  2994.0,  34.9299,2,  34.9300,2,    247.2,2,   247.2,2,   34.40,2,   21.20,2,    0.03,2,    1.40,2,-999.000,9,-999.000,9,-999.000,9,-999.0000,9, -999.00,9,-999.000,9,-999.000,-999.000,     2.7480,-999.0000, -999.00
32OC19880723,       A16N,      95,          1,         18,         18,2,19880818,       0541,    14.0017,   -29.0000,       5439,  3350.8,  34.9175,2,  34.9160,2,    248.5,2,   248.1,2,   37.70,2,   21.50,2,    0.03,2,    1.42,2,-999.000,9,-999.000,9,-999.000,9,-999.0000,9, -999.00,9,-999.000,9,-999.000,   9.000,     2.5850,-999.0000, -999.00
32OC19880723,       A16N,      95,          1,         19,         19,2,19880818,       0541,    14.0017,   -29.0000,       5439,  3762.2,  34.9031,2,  34.9010,2,    243.2,2,   242.9,2,   43.40,2,   22.20,2,    0.03,2,    1.45,2,-999.000,9,-999.000,9,-999.000,9,-999.0000,9, -999.00,9,-999.000,9,-999.000,-999.000,     2.4370,-999.0000, -999.00
32OC19880723,       A16N,      95,          1,         20,         20,2,19880818,       0541,    14.0017,   -29.0000,       5439,  4125.4,  34.8908,2,  34.8900,2,    239.2,2,   239.4,2, -999.00,9,   22.90,2,    0.03,2,    1.49,2,-999.000,9,-999.000,9,-999.000,9,-999.0000,9, -999.00,9,-999.000,9,-999.000,   9.000,     2.3570,-999.0000, -999.00
32OC19880723,       A16N,      95,          1,         21,         21,2,19880818,       0541,    14.0017,   -29.0000,       5439,  4541.5,  34.8800,2,  34.8800,2,    236.3,2,   238.5,2, -999.00,9,   23.20,2,    0.02,2, -999.00,9,-999.000,9,-999.000,9,-999.000,9,-999.0000,9, -999.00,9,-999.000,9,-999.000,-999.000,     2.3150,-999.0000, -999.00
32OC19880723,       A16N,      95,          1,         22,         22,2,19880818,       0541,    14.0017,   -29.0000,       5439,  4956.7,  34.8759,2,  34.8770,2,    246.2,2,   246.3,2,   48.80,2,   22.20,2,    0.02,2, -999.00,9,-999.000,9,-999.000,9,-999.000,9,-999.0000,9, -999.00,9,-999.000,9,-999.000,   9.000,     2.3110,-999.0000, -999.00
32OC19880723,       A16N,      95,          1,         23,         23,2,19880818,       0541,    14.0017,   -29.0000,       5439,  5372.4,  34.8705,2,  34.8700,2,    248.4,2,   248.5,2,   49.70,2,   22.70,2,    0.03,2, -999.00,9,-999.000,9,-999.000,9,-999.000,9,-999.0000,9, -999.00,9,-999.000,9,-999.000,-999.000,     2.3060,-999.0000, -999.00
32OC19880723,       A16N,      95,          1,         24,         24,2,19880818,       0541,    14.0017,   -29.0000,       5439,  5530.2,  34.8694,2,  34.8690,2,    246.4,2,   247.6,2,   50.30,2,   22.50,2,    0.02,2, -999.00,9,-999.000,9,-999.000,9,-999.000,9,-999.0000,9, -999.00,9,-999.000,9,-999.000,   9.000,     2.3140,-999.0000, -999.00
32OC19880723,       A16N,      95,          1,         99,     -999.0,9,19880818,       0541,    14.0017,   -29.0000,       5439,  5531.6,  34.8694,2,-999.0000,9,    246.5,2,  -999.0,9, -999.00,9, -999.00,9, -999.00,9, -999.00,9,-999.000,9,-999.000,9,-999.000,9,-999.0000,9, -999.00,9,-999.000,9,-999.000,-999.000,     2.3140,-999.0000, -999.00
32OC19880723,       A16N,      96,          1,          1,          1,2,19880818,       1141,    13.2617,   -29.0117,       5522,    13.8,  36.3959,2,  36.3910,2,    194.9,2,   202.0,2,    0.50,2,    0.30,2,    0.00,2,    0.03,2,   1.795,4,   0.822,2,-999.000,9,-999.0000,9, -999.00,9,-999.000,9,-999.000,   9.000,    27.2930,-999.0000, -999.00
32OC19880723,       A16N,      96,          1,          2,          2,2,19880818,       1141,    13.2617,   -29.0117,       5522,    38.8,  36.5278,2,  36.5290,2,    214.4,2,   219.1,2,    0.30,2,    0.50,2,    0.00,2,    0.07,2,-999.000,9,-999.000,9,-999.000,9,-999.0000,9, -999.00,9,-999.000,9,-999.000,-999.000,    23.1050,-999.0000, -999.00
32OC19880723,       A16N,      96,          1,          3,          3,2,19880818,       1141,    13.2617,   -29.0117,       5522,    68.8,  36.6890,2,  36.6780,2,    159.3,2,   168.4,2,    1.10,2,    0.00,2,    0.32,2,    0.34,2,   1.621,2,   0.843,2,-999.000,9,-999.0000,9, -999.00,9,-999.000,9,-999.000,   9.000,    20.0940,-999.0000, -999.00
32OC19880723,       A16N,      96,          1,          4,          4,2,19880818,       1141,    13.2617,   -29.0117,       5522,   108.8,  36.3474,2,  36.2420,2,    114.7,2,   118.3,2,    3.80,2,   16.20,2,    0.03,2,    0.89,2,   1.358,2,   0.668,2,-999.000,9,-999.0000,9, -999.00,9,-999.000,9,-999.000,-999.000,    16.5110,-999.0000, -999.00
32OC19880723,       A16N,      96,          1,          5,          5,2,19880818,       1141,    13.2617,   -29.0117,       5522,   159.2,  35.7460,2,  35.7480,2,     86.2,2,    92.6,2,    7.20,2,   22.90,2,    0.01,2,    1.30,2,   0.846,2,   0.386,2,-999.000,9,-999.0000,9, -999.00,9,-999.000,9,-999.000,   9.000,    14.0800,-999.0000, -999.00
32OC19880723,       A16N,      96,          1,          6,          6,2,19880818,       1141,    13.2617,   -29.0117,       5522,   209.2,  35.5378,2,  35.5260,2,     82.3,2,    83.9,2,    9.00,2,   25.60,2,    0.00,2,    1.49,2,   0.620,4,   0.273,4,-999.000,9,-999.0000,9, -999.00,9,-999.000,9,-999.000,-999.000,    12.6880,-999.0000, -999.00
32OC19880723,       A16N,      96,          1,          7,          7,2,19880818,       1141,    13.2617,   -29.0117,       5522,   309.2,  35.2163,2,  35.2090,2,     79.2,2,    77.8,2,   12.20,2,   29.60,2,    0.00,2,    1.77,2,   0.264,4,   0.107,4,-999.000,9,-999.0000,9, -999.00,9,-999.000,9,-999.000,   9.000,    10.7460,-999.0000, -999.00
32OC19880723,       A16N,      96,          1,          8,          8,2,19880818,       1141,    13.2617,   -29.0117,       5522,   409.9,  35.0755,2,  35.0700,2,     77.0,2,    73.9,2,   15.00,2,   32.40,2,    0.00,2,    1.94,2,   0.136,2,   0.052,2,-999.000,9,-999.0000,9, -999.00,9,-999.000,9,-999.000,-999.000,     9.6260,-999.0000, -999.00
32OC19880723,       A16N,      96,          1,          9,          9,2,19880818,       1141,    13.2617,   -29.0117,       5522,   610.8,  34.9129,2,  34.9190,2,     81.3,2,    81.3,2,   19.80,2,   34.80,2,    0.00,2,    2.17,2,   0.123,4,   0.008,7,-999.000,9,-999.0000,9, -999.00,9,-999.000,9,-999.000,   9.000,     7.8980,-999.0000, -999.00
32OC19880723,       A16N,      96,          1,         10,         10,2,19880818,       1141,    13.2617,   -29.0117,       5522,   812.2,  34.8554,2,  34.8570,2,    101.6,2,   103.5,2,   23.50,2,   34.00,2,    0.00,2,    2.17,2,   0.201,4,   0.135,4,-999.000,9,-999.0000,9, -999.00,9,-999.000,9,-999.000,-999.000,     6.5650,-999.0000, -999.00
32OC19880723,       A16N,      96,          1,         11,         11,2,19880818,       1141,    13.2617,   -29.0117,       5522,  1064.0,  34.9073,2,  34.9080,2,    137.8,2,   140.8,2,   23.90,2,   30.40,2,    0.00,2,    1.96,2,-999.000,9,-999.000,9,-999.000,9,-999.0000,9, -999.00,9,-999.000,9,-999.000,   9.000,     5.5450,-999.0000, -999.00
32OC19880723,       A16N,      96,          1,         12,         12,2,19880818,       1141,    13.2617,   -29.0117,       5522,  1315.9,  34.9711,2,  34.9740,2,    188.1,2,   189.5,2,   21.40,2,   25.60,2,    0.00,2,    1.64,2,-999.000,9,-999.000,9,-999.000,9,-999.0000,9, -999.00,9,-999.000,9,-999.000,-999.000,     4.7790,-999.0000, -999.00
32OC19880723,       A16N,      96,          1,         13,         13,2,19880818,       1141,    13.2617,   -29.0117,       5522,  1618.8,  34.9800,2,  34.9820,2,    227.3,2,   229.0,2,   19.50,2,   22.00,2,    0.00,2,    1.39,2,-999.000,9,-999.000,9,-999.000,9,-999.0000,9, -999.00,9,-999.000,9,-999.000,   9.000,     4.0680,-999.0000, -999.00
32OC19880723,       A16N,      96,          1,         14,         14,2,19880818,       1141,    13.2617,   -29.0117,       5522,  1921.5,  34.9689,2,  34.9710,2,    238.5,2,   240.7,2,   21.80,2,   20.80,2,    0.00,2,    1.34,2,-999.000,9,-999.000,9,-999.000,9,-999.0000,9, -999.00,9,-999.000,9,-999.000,-999.000,     3.5790,-999.0000, -999.00
32OC19880723,       A16N,      96,          1,         15,         15,2,19880818,       1141,    13.2617,   -29.0117,       5522,  2325.7,  34.9527,2,  34.9550,2,    240.0,2,   240.3,2,   28.10,2,   21.50,2,    0.00,2,    1.38,2,-999.000,9,-999.000,9,-999.000,9,-999.0000,9, -999.00,9,-999.000,9,-999.000,   9.000,     3.1760,-999.0000, -999.00
32OC19880723,       A16N,      96,          1,         16,         16,2,19880818,       1141,    13.2617,   -29.0117,       5522,  2731.6,  34.9372,2,  34.9380,2,    245.1,2,   245.0,2,   31.80,2,   21.00,2,    0.01,2,    1.36,2,-999.000,9,-999.000,9,-999.000,9,-999.0000,9, -999.00,9,-999.000,9,-999.000,-999.000,     2.8760,-999.0000, -999.00
32OC19880723,       A16N,      96,          1,         17,         17,2,19880818,       1141,    13.2617,   -29.0117,       5522,  3137.1,  34.9207,2,  34.9210,2,    249.8,2,   249.8,2,   35.70,2,   21.40,2,    0.01,2,    1.37,2,-999.000,9,-999.000,9,-999.000,9,-999.0000,9, -999.00,9,-999.000,9,-999.000,   9.000,     2.6370,-999.0000, -999.00
32OC19880723,       A16N,      96,          1,         18,         18,2,19880818,       1141,    13.2617,   -29.0117,       5522,  3542.9,  34.9072,2,  34.9070,2,    248.5,2,   248.1,2,   40.00,2,   21.80,2,    0.01,2,    1.40,2,-999.000,9,-999.000,9,-999.000,9,-999.0000,9, -999.00,9,-999.000,9,-999.000,-999.000,     2.4920,-999.0000, -999.00
32OC19880723,       A16N,      96,          1,         19,         19,2,19880818,       1141,    13.2617,   -29.0117,       5522,  3950.3,  34.8972,2,  34.8970,2,    245.9,2,   245.0,2,   43.90,2,   22.30,2,    0.01,2,    1.41,2,-999.000,9,-999.000,9,-999.000,9,-999.0000,9, -999.00,9,-999.000,9,-999.000,   9.000,     2.4130,-999.0000, -999.00
32OC19880723,       A16N,      96,          1,         20,         20,2,19880818,       1141,    13.2617,   -29.0117,       5522,  4357.8,  34.8844,2,  34.8860,2,    242.0,2,   242.4,2,   47.90,2,   23.00,2,    0.01,2,    1.47,2,-999.000,9,-999.000,9,-999.000,9,-999.0000,9, -999.00,9,-999.000,9,-999.000,-999.000,     2.3410,-999.0000, -999.00
32OC19880723,       A16N,      96,          1,         21,         21,2,19880818,       1141,    13.2617,   -29.0117,       5522,  4766.2,  34.8767,2,  34.8780,2,    242.7,2,   243.3,2,   49.50,2,   23.10,2,    0.01,2,    1.48,2,-999.000,9,-999.000,9,-999.000,9,-999.0000,9, -999.00,9,-999.000,9,-999.000,   9.000,     2.3150,-999.0000, -999.00
32OC19880723,       A16N,      96,          1,         22,         22,2,19880818,       1141,    13.2617,   -29.0117,       5522,  5175.8,  34.8719,2,  34.8720,2,    247.0,2,   247.6,2,   49.10,2,   22.80,2,    0.01,2,    1.46,2,-999.000,9,-999.000,9,-999.000,9,-999.0000,9, -999.00,9,-999.000,9,-999.000,-999.000,     2.3020,-999.0000, -999.00
32OC19880723,       A16N,      96,          1,         23,         23,2,19880818,       1141,    13.2617,   -29.0117,       5522,  5586.9,  34.8684,2,  34.8680,2,    247.2,2,   247.7,2,   50.10,2,   22.80,2,    0.01,2,    1.47,2,-999.000,9,-999.000,9,-999.000,9,-999.0000,9, -999.00,9,-999.000,9,-999.000,   9.000,     2.3260,-999.0000, -999.00
32OC19880723,       A16N,      96,          1,         24,         24,2,19880818,       1141,    13.2617,   -29.0117,       5522,  5731.1,  34.8686,2,  34.8670,2,    247.6,2,   248.1,2,   50.30,2,   22.80,2,    0.02,2,    1.48,2,-999.000,9,-999.000,9,-999.000,9,-999.0000,9, -999.00,9,-999.000,9,-999.000,-999.000,     2.3360,-999.0000, -999.00
32OC19880723,       A16N,      96,          1,         99,     -999.0,9,19880818,       1141,    13.2617,   -29.0117,       5522,  5732.2,  34.8685,2,-999.0000,9,    247.6,2,  -999.0,9, -999.00,9, -999.00,9, -999.00,9, -999.00,9,-999.000,9,-999.000,9,-999.000,9,-999.0000,9, -999.00,9,-999.000,9,-999.000,   9.000,     2.3360,-999.0000, -999.00