BOTTLE,20220922CCHSIOAMB
EXPOCODE,SECT_ID,STNNBR,CASTNO,SAMPNO,BTLNBR,BTLNBR_FLAG_W,DATE,TIME,LATITUDE,LONGITUDE,DEPTH,CTDPRS,CTDSAL,CTDSAL_FLAG_W,SALNTY,SALNTY_FLAG_W,CTDOXY,CTDOXY_FLAG_W,OXYGEN,OXYGEN_FLAG_W,SILCAT,SILCAT_FLAG_W,NITRAT,NITRAT_FLAG_W,NITRIT,NITRIT_FLAG_W,PHSPHT,PHSPHT_FLAG_W,CFC-11,CFC-11_FLAG_W,CFC-12,CFC-12_FLAG_W,TRITUM,TRITUM_FLAG_W,HELIUM,HELIUM_FLAG_W,DELHE3,DELHE3_FLAG_W,NEON,NEON_FLAG_W,NEONER,TRITER,CTDTMP,HELIER,DELHER
,,,,,,,,,,,METERS,DBAR,PSS-78,,PSS-78,,UMOL/KG,,UMOL/KG,,UMOL/KG,,UMOL/KG,,UMOL/KG,,UMOL/KG,,PMOL/KG,,PMOL/KG,,TU,,NMOL/KG,,PERCNT,,NMOL/KG,,NMOL/KG,TU,IPTS-68,NMOL/KG,PERCNT
32OC19880723,       A16N,       8,          1,          8,          8,2,19880724,       1823,    61.3267,   -20.0133,       2350,     2.9,  35.0680,2,-999.0000,9,    244.0,2,  -999.0,9, -999.00,9, -999.00,9, -999.00,9, -999.00,9,-999.000,9,-999.000,9,-999.000,9,-999.0000,9, -999.00,9,-999.000,9,-999.000,   9.000,    10.8820,-999.0000, -999.00
32OC19880723,       A16N,       8,          1,          9,          9,2,19880724,       1823,    61.3267,   -20.0133,       2350,    35.9,  35.1198,2,  35.0690,4,    277.7,2,   278.8,2,    2.50,2,   11.10,2, -999.00,9, -999.00,9,   3.476,2,   1.645,2,-999.000,9,-999.0000,9, -999.00,9,-999.000,9,-999.000,-999.000,    10.8460,-999.0000, -999.00
32OC19880723,       A16N,       8,          1,         10,         10,2,19880724,       1823,    61.3267,   -20.0133,       2350,    65.8,  35.1735,2,  35.1550,2,    268.2,2,   269.5,2,    5.10,2,   12.90,2, -999.00,9, -999.00,9,-999.000,9,-999.000,9,-999.000,9,-999.0000,9, -999.00,9,-999.000,9,-999.000,   9.000,     8.9710,-999.0000, -999.00
32OC19880723,       A16N,       8,          1,         11,         11,2,19880724,       1823,    61.3267,   -20.0133,       2350,   106.0,  35.1650,2,  35.1690,2,    269.6,2,   266.5,2,    5.60,2,   13.00,2, -999.00,9, -999.00,9,   3.314,2,   1.605,2,-999.000,9,-999.0000,9, -999.00,9,-999.000,9,-999.000,-999.000,     8.4940,-999.0000, -999.00
32OC19880723,       A16N,       8,          1,         12,         12,2,19880724,       1823,    61.3267,   -20.0133,       2350,   155.3,  35.1879,2,  35.1810,2,    266.5,2,   265.6,2,    5.80,2,   13.10,2, -999.00,9, -999.00,9,-999.000,9,-999.000,9,-999.000,9,-999.0000,9, -999.00,9,-999.000,9,-999.000,   9.000,     8.3840,-999.0000, -999.00
32OC19880723,       A16N,       8,          1,         13,         13,2,19880724,       1823,    61.3267,   -20.0133,       2350,   205.1,  35.1561,2,  35.1650,2,    270.0,2,   270.8,2,    6.10,2,   13.50,2, -999.00,9, -999.00,9,-999.000,9,-999.000,9,-999.000,9,-999.0000,9, -999.00,9,-999.000,9,-999.000,-999.000,     8.1650,-999.0000, -999.00
32OC19880723,       A16N,       8,          1,         14,         14,2,19880724,       1823,    61.3267,   -20.0133,       2350,   304.4,  35.1385,2,  35.1410,2,    272.1,2,   272.1,2,    6.10,2,   14.00,2, -999.00,9, -999.00,9,-999.000,9,-999.000,9,-999.000,9,-999.0000,9, -999.00,9,-999.000,9,-999.000,   9.000,     7.8490,-999.0000, -999.00
32OC19880723,       A16N,       8,          1,         15,         15,2,19880724,       1823,    61.3267,   -20.0133,       2350,   402.9,  35.1375,2,  35.1410,2,    272.5,2,   274.7,2,    6.20,2,   13.70,2, -999.00,9, -999.00,9,   3.513,2,   1.676,2,-999.000,9,-999.0000,9, -999.00,9,-999.000,9,-999.000,-999.000,     7.6340,-999.0000, -999.00
32OC19880723,       A16N,       8,          1,         16,         16,2,19880724,       1823,    61.3267,   -20.0133,       2350,   501.2,  35.1363,2,  35.1370,2,    275.4,2,   274.7,2,    6.20,2,   13.70,2, -999.00,9, -999.00,9,-999.000,9,-999.000,9,-999.000,9,-999.0000,9, -999.00,9,-999.000,9,-999.000,   9.000,     7.5240,-999.0000, -999.00
32OC19880723,       A16N,       8,          1,         17,         17,2,19880724,       1823,    61.3267,   -20.0133,       2350,   601.0,  35.1423,2,  35.1420,2,    273.9,2,   276.0,2,    6.20,2,   13.70,2, -999.00,9, -999.00,9,-999.000,9,-999.000,9,-999.000,9,-999.0000,9, -999.00,9,-999.000,9,-999.000,-999.000,     7.4050,-999.0000, -999.00
32OC19880723,       A16N,       8,          1,         18,         18,2,19880724,       1823,    61.3267,   -20.0133,       2350,   702.1,  35.1447,2,  35.1460,2,    275.2,2,   276.4,2,    6.80,2,   14.40,2, -999.00,9, -999.00,9,   3.456,2,   1.653,2,-999.000,9,-999.0000,9, -999.00,9,-999.000,9,-999.000,   9.000,     7.3290,-999.0000, -999.00
32OC19880723,       A16N,       8,          1,         19,         19,2,19880724,       1823,    61.3267,   -20.0133,       2350,   800.1,  35.1310,2,  35.1280,2,    271.2,2,   269.9,2,    8.70,2,   16.30,2, -999.00,9, -999.00,9,-999.000,9,-999.000,9,-999.000,9,-999.0000,9, -999.00,9,-999.000,9,-999.000,-999.000,     7.1180,-999.0000, -999.00
32OC19880723,       A16N,       8,          1,         20,         20,2,19880724,       1823,    61.3267,   -20.0133,       2350,   900.7,  35.0898,2,  35.0900,2,    245.2,2,   246.0,2,   10.40,2,   17.70,2, -999.00,9, -999.00,9,   2.614,2,   1.169,2,-999.000,9,-999.0000,9, -999.00,9,-999.000,9,-999.000,   9.000,     6.5980,-999.0000, -999.00
32OC19880723,       A16N,       8,          1,         21,         21,2,19880724,       1823,    61.3267,   -20.0133,       2350,  1005.1,  35.0400,2,  35.0340,2,    236.6,2,   235.5,2, -999.00,9, -999.00,9, -999.00,9, -999.00,9,-999.000,9,-999.000,9,-999.000,9,-999.0000,9, -999.00,9,-999.000,9,-999.000,-999.000,     5.7600,-999.0000, -999.00
32OC19880723,       A16N,       8,          1,         22,         22,2,19880724,       1823,    61.3267,   -20.0133,       2350,  1111.0,  35.0113,2,  35.0100,2,    248.7,2,   249.9,2,   10.40,2,   17.80,2, -999.00,9, -999.00,9,   2.110,2,   0.893,2,-999.000,9,-999.0000,9, -999.00,9,-999.000,9,-999.000,   9.000,     5.1820,-999.0000, -999.00
32OC19880723,       A16N,       8,          1,         23,         23,2,19880724,       1823,    61.3267,   -20.0133,       2350,  1213.3,  34.9636,2,  34.9710,2,    254.7,2,   253.8,2,    9.90,2,   16.80,2, -999.00,9, -999.00,9,-999.000,9,-999.000,9,-999.000,9,-999.0000,9, -999.00,9,-999.000,9,-999.000,-999.000,     4.6310,-999.0000, -999.00
32OC19880723,       A16N,       8,          1,         24,         24,2,19880724,       1823,    61.3267,   -20.0133,       2350,  1313.8,  34.9604,2,  34.9620,2,    265.2,2,   265.5,2,    9.90,2,   16.70,2, -999.00,9, -999.00,9,   2.087,2,   0.953,2,-999.000,9,-999.0000,9, -999.00,9,-999.000,9,-999.000,   9.000,     4.3980,-999.0000, -999.00
32OC19880723,       A16N,       8,          1,          1,          1,2,19880724,       1823,    61.3267,   -20.0133,       2350,  1414.8,  34.9455,2,  34.9490,2,    270.5,2,   271.1,2,    9.80,2,   16.00,2, -999.00,9, -999.00,9,-999.000,9,-999.000,9,-999.000,9,-999.0000,9, -999.00,9,-999.000,9,-999.000,-999.000,     4.1640,-999.0000, -999.00
32OC19880723,       A16N,       8,          1,          2,          2,2,19880724,       1823,    61.3267,   -20.0133,       2350,  1615.2,  34.9330,2,  34.9350,2,    277.7,2,   275.9,2,    9.80,2,   15.80,2, -999.00,9, -999.00,9,   1.948,2,   0.802,2,-999.000,9,-999.0000,9, -999.00,9,-999.000,9,-999.000,   9.000,     3.8730,-999.0000, -999.00
32OC19880723,       A16N,       8,          1,          3,          3,2,19880724,       1823,    61.3267,   -20.0133,       2350,  1819.8,  34.9595,2,  34.9600,2,    277.7,2,   277.7,2,    9.80,2,   15.40,2, -999.00,9, -999.00,9,-999.000,9,-999.000,9,-999.000,9,-999.0000,9, -999.00,9,-999.000,9,-999.000,-999.000,     3.7730,-999.0000, -999.00
32OC19880723,       A16N,       8,          1,          4,          4,2,19880724,       1823,    61.3267,   -20.0133,       2350,  2025.7,  34.9696,2,  34.9710,2,    275.6,2,   275.5,2,   10.60,2,   15.30,2, -999.00,9, -999.00,9,   1.766,2,   0.759,2,-999.000,9,-999.0000,9, -999.00,9,-999.000,9,-999.000,   9.000,     3.4850,-999.0000, -999.00
32OC19880723,       A16N,       8,          1,          5,          5,2,19880724,       1823,    61.3267,   -20.0133,       2350,  2255.2,  34.9761,2,  34.9750,2,    277.2,2,   278.5,2,   11.50,2,   14.90,2, -999.00,9, -999.00,9,   1.790,2,   1.228,4,-999.000,9,-999.0000,9, -999.00,9,-999.000,9,-999.000,-999.000,     2.6800,-999.0000, -999.00
32OC19880723,       A16N,       8,          1,          6,          6,2,19880724,       1823,    61.3267,   -20.0133,       2350,  2376.0,  34.9770,2,  34.9770,2,    284.5,2,   282.8,2,    9.90,2,   14.90,2, -999.00,9, -999.00,9,   1.990,2,   0.923,2,-999.000,9,-999.0000,9, -999.00,9,-999.000,9,-999.000,   9.000,     2.3970,-999.0000, -999.00
32OC19880723,       A16N,       8,          1,         99,     -999.0,9,19880724,       1823,    61.3267,   -20.0133,       2350,  2379.4,  34.9769,2,-999.0000,9,    284.9,2,  -999.0,9, -999.00,9, -999.00,9, -999.00,9, -999.00,9,-999.000,9,-999.000,9,-999.000,9,-999.0000,9, -999.00,9,-999.000,9,-999.000,-999.000,     2.3940,-999.0000, -999.00
32OC19880723,       A16N,       9,          1,         11,         11,2,19880724,       2253,    60.8250,   -19.9817,       2361,     4.0,  35.0721,2,  35.0740,2,    285.4,2,   278.8,2,    0.40,2,    4.10,2, -999.00,9,    0.21,2,-999.000,9,-999.000,9,-999.000,9,-999.0000,9, -999.00,9,-999.000,9,-999.000,   9.000,    10.8700,-999.0000, -999.00
32OC19880723,       A16N,       9,          1,         12,         12,2,19880724,       2253,    60.8250,   -19.9817,       2361,    34.0,  35.0752,2,  35.0750,2,    284.7,2,   279.2,2,    0.40,2,    4.30,2, -999.00,9,    0.22,2,-999.000,9,-999.000,9,-999.000,9,-999.0000,9, -999.00,9,-999.000,9,-999.000,-999.000,    10.7490,-999.0000, -999.00
32OC19880723,       A16N,       9,          1,         13,         13,2,19880724,       2253,    60.8250,   -19.9817,       2361,    63.9,  35.1320,2,  35.1290,2,    282.8,2,   280.0,2,    0.90,2,    7.20,2, -999.00,9,    0.49,2,-999.000,9,-999.000,9,-999.000,9,-999.0000,9, -999.00,9,-999.000,9,-999.000,   9.000,     9.0850,-999.0000, -999.00
32OC19880723,       A16N,       9,          1,         14,         14,2,19880724,       2253,    60.8250,   -19.9817,       2361,   104.2,  35.1395,2,  35.1410,2,    271.6,2,   268.6,2,    4.80,2,   12.60,2, -999.00,9,    0.71,2,-999.000,9,-999.000,9,-999.000,9,-999.0000,9, -999.00,9,-999.000,9,-999.000,-999.000,     8.3250,-999.0000, -999.00
32OC19880723,       A16N,       9,          1,         15,         15,2,19880724,       2253,    60.8250,   -19.9817,       2361,   153.6,  35.1275,2,  35.1420,2,    266.6,2,   267.3,2,    6.20,2,   13.30,2, -999.00,9,    0.77,2,-999.000,9,-999.000,9,-999.000,9,-999.0000,9, -999.00,9,-999.000,9,-999.000,   9.000,     8.0200,-999.0000, -999.00
32OC19880723,       A16N,       9,          1,         16,         16,2,19880724,       2253,    60.8250,   -19.9817,       2361,   203.8,  35.1369,2,  35.1290,2,    269.7,2,   270.4,2,    6.10,2,   13.30,2, -999.00,9,    0.79,2,-999.000,9,-999.000,9,-999.000,9,-999.0000,9, -999.00,9,-999.000,9,-999.000,-999.000,     7.7920,-999.0000, -999.00
32OC19880723,       A16N,       9,          1,         17,         17,2,19880724,       2253,    60.8250,   -19.9817,       2361,   304.5,  35.1482,2,  35.1460,2,    269.6,2,   269.5,2,    6.40,2,   13.60,2, -999.00,9,    0.80,2,-999.000,9,-999.000,9,-999.000,9,-999.0000,9, -999.00,9,-999.000,9,-999.000,   9.000,     7.6390,-999.0000, -999.00
32OC19880723,       A16N,       9,          1,         18,         18,2,19880724,       2253,    60.8250,   -19.9817,       2361,   404.7,  35.1340,2,  35.1450,2,    264.8,2,   270.8,2,    6.60,2,   14.00,2, -999.00,9, -999.00,9,-999.000,9,-999.000,9,-999.000,9,-999.0000,9, -999.00,9,-999.000,9,-999.000,-999.000,     7.4380,-999.0000, -999.00
32OC19880723,       A16N,       9,          1,         19,         19,2,19880724,       2253,    60.8250,   -19.9817,       2361,   493.8,  35.1433,2,  35.1450,2,    270.4,2,   272.5,2,    6.40,2,   13.60,2, -999.00,9,    0.80,2,-999.000,9,-999.000,9,-999.000,9,-999.0000,9, -999.00,9,-999.000,9,-999.000,   9.000,     7.3290,-999.0000, -999.00
32OC19880723,       A16N,       9,          1,         20,         20,2,19880724,       2253,    60.8250,   -19.9817,       2361,   590.4,  35.1361,2,  35.1310,2,    269.6,2,   267.7,2,    6.70,2,   14.20,2, -999.00,9,    0.84,2,-999.000,9,-999.000,9,-999.000,9,-999.0000,9, -999.00,9,-999.000,9,-999.000,-999.000,     7.1420,-999.0000, -999.00
32OC19880723,       A16N,       9,          1,         21,         21,2,19880724,       2253,    60.8250,   -19.9817,       2361,   697.3,  35.0934,2,  35.1000,2,    254.5,2,   256.0,2,    8.00,2,   15.20,2, -999.00,9,    0.92,2,-999.000,9,-999.000,9,-999.000,9,-999.0000,9, -999.00,9,-999.000,9,-999.000,   9.000,     6.7180,-999.0000, -999.00
32OC19880723,       A16N,       9,          1,         22,         22,2,19880724,       2253,    60.8250,   -19.9817,       2361,   800.9,  35.0621,2,  35.0680,2,    238.8,2,   242.1,2,    9.60,2,   16.30,2, -999.00,9,    1.01,2,-999.000,9,-999.000,9,-999.000,9,-999.0000,9, -999.00,9,-999.000,9,-999.000,-999.000,     6.2200,-999.0000, -999.00
32OC19880723,       A16N,       9,          1,         23,         23,2,19880724,       2253,    60.8250,   -19.9817,       2361,   901.1,  35.0213,2,  35.0310,2,    243.8,2,   242.5,2,   10.00,2,   16.90,2, -999.00,9,    1.02,2,-999.000,9,-999.000,9,-999.000,9,-999.0000,9, -999.00,9,-999.000,9,-999.000,   9.000,     5.6060,-999.0000, -999.00
32OC19880723,       A16N,       9,          1,         24,         24,2,19880724,       2253,    60.8250,   -19.9817,       2361,  1002.4,  34.9777,2,  34.9860,2,    248.6,2,   245.5,2,   10.60,2,   17.50,2, -999.00,9,    1.07,2,-999.000,9,-999.000,9,-999.000,9,-999.0000,9, -999.00,9,-999.000,9,-999.000,-999.000,     4.9790,-999.0000, -999.00
32OC19880723,       A16N,       9,          1,          1,          1,2,19880724,       2253,    60.8250,   -19.9817,       2361,  1204.3,  34.9357,2,  34.9420,2,    262.2,2,   262.9,2,   10.40,2,   16.60,2, -999.00,9,    1.02,2,-999.000,9,-999.000,9,-999.000,9,-999.0000,9, -999.00,9,-999.000,9,-999.000,   9.000,     4.2620,-999.0000, -999.00
32OC19880723,       A16N,       9,          1,          2,          2,2,19880724,       2253,    60.8250,   -19.9817,       2361,  1408.3,  34.9114,2,  34.9110,2,    271.3,2,   272.5,2,   10.40,2,   16.80,2, -999.00,9,    0.99,2,-999.000,9,-999.000,9,-999.000,9,-999.0000,9, -999.00,9,-999.000,9,-999.000,-999.000,     3.8730,-999.0000, -999.00
32OC19880723,       A16N,       9,          1,          3,          3,2,19880724,       2253,    60.8250,   -19.9817,       2361,  1617.0,  34.9147,2,  34.9160,2,    277.4,2,   277.2,2,   10.10,2,   16.30,2, -999.00,9,    0.97,2,-999.000,9,-999.000,9,-999.000,9,-999.0000,9, -999.00,9,-999.000,9,-999.000,   9.000,     3.7360,-999.0000, -999.00
32OC19880723,       A16N,       9,          1,          4,          4,2,19880724,       2253,    60.8250,   -19.9817,       2361,  1821.3,  34.9492,2,  34.9520,2,    277.8,2,   276.8,2,   10.10,2,   15.70,2, -999.00,9,    0.98,2,-999.000,9,-999.000,9,-999.000,9,-999.0000,9, -999.00,9,-999.000,9,-999.000,-999.000,     3.6990,-999.0000, -999.00
32OC19880723,       A16N,       9,          1,          5,          5,2,19880724,       2253,    60.8250,   -19.9817,       2361,  2023.9,  34.9709,2,  34.9760,2,    277.7,2,   278.1,2,   10.10,2,   15.60,2, -999.00,9,    0.92,2,-999.000,9,-999.000,9,-999.000,9,-999.0000,9, -999.00,9,-999.000,9,-999.000,   9.000,     3.4450,-999.0000, -999.00
32OC19880723,       A16N,       9,          1,          6,          6,2,19880724,       2253,    60.8250,   -19.9817,       2361,  2227.7,  34.9833,2,  34.9830,2,    282.2,2,   282.8,2,    9.10,2,   14.40,2, -999.00,9,    0.87,2,-999.000,9,-999.000,9,-999.000,9,-999.0000,9, -999.00,9,-999.000,9,-999.000,-999.000,     2.9000,-999.0000, -999.00
32OC19880723,       A16N,       9,          1,          7,          7,2,19880724,       2253,    60.8250,   -19.9817,       2361,  2386.3,  34.9763,2,  34.9760,2,    283.8,2,   284.6,2, -999.00,9, -999.00,9, -999.00,9, -999.00,9,-999.000,9,-999.000,9,-999.000,9,-999.0000,9, -999.00,9,-999.000,9,-999.000,   9.000,     2.4200,-999.0000, -999.00
32OC19880723,       A16N,       9,          1,         99,     -999.0,9,19880724,       2253,    60.8250,   -19.9817,       2361,  2389.2,  34.9765,2,-999.0000,9,    283.7,2,  -999.0,9, -999.00,9, -999.00,9, -999.00,9, -999.00,9,-999.000,9,-999.000,9,-999.000,9,-999.0000,9, -999.00,9,-999.000,9,-999.000,-999.000,     2.4200,-999.0000, -999.00