BOTTLE,20220922CCHSIOAMB
EXPOCODE,SECT_ID,STNNBR,CASTNO,SAMPNO,BTLNBR,BTLNBR_FLAG_W,DATE,TIME,LATITUDE,LONGITUDE,DEPTH,CTDPRS,CTDSAL,CTDSAL_FLAG_W,SALNTY,SALNTY_FLAG_W,CTDOXY,CTDOXY_FLAG_W,OXYGEN,OXYGEN_FLAG_W,SILCAT,SILCAT_FLAG_W,NITRAT,NITRAT_FLAG_W,NITRIT,NITRIT_FLAG_W,PHSPHT,PHSPHT_FLAG_W,CFC-11,CFC-11_FLAG_W,CFC-12,CFC-12_FLAG_W,TRITUM,TRITUM_FLAG_W,HELIUM,HELIUM_FLAG_W,DELHE3,DELHE3_FLAG_W,NEON,NEON_FLAG_W,NEONER,TRITER,CTDTMP,HELIER,DELHER
,,,,,,,,,,,METERS,DBAR,PSS-78,,PSS-78,,UMOL/KG,,UMOL/KG,,UMOL/KG,,UMOL/KG,,UMOL/KG,,UMOL/KG,,PMOL/KG,,PMOL/KG,,TU,,NMOL/KG,,PERCNT,,NMOL/KG,,NMOL/KG,TU,IPTS-68,NMOL/KG,PERCNT
32OC19880723,       A16N,      83,          1,          7,          7,2,19880815,       0654,    22.7267,   -27.4767,       5516,    12.5,  36.8507,2,  36.8430,2,    209.9,2,   210.9,2,    0.00,2,    0.00,2,    0.01,2,    0.04,2,   1.886,2,   0.917,2,-999.000,9,-999.0000,9, -999.00,9,-999.000,9,-999.000,-999.000,    24.0800,-999.0000, -999.00
32OC19880723,       A16N,      83,          1,          8,          8,2,19880815,       0654,    22.7267,   -27.4767,       5516,    38.0,  37.3422,2,  37.3440,2,    211.5,2,   212.1,2,    0.00,2,    0.00,2,    0.01,2,    0.01,2,   1.850,2,   0.914,2,-999.000,9,-999.0000,9, -999.00,9,-999.000,9,-999.000,   9.000,    23.8410,-999.0000, -999.00
32OC19880723,       A16N,      83,          1,          9,          9,2,19880815,       0654,    22.7267,   -27.4767,       5516,    68.3,  37.2311,2,  37.1810,2,    221.7,2,   228.1,2,    0.00,2,    0.10,2,    0.01,2,    0.02,2,   2.033,2,   1.003,2,-999.000,9,-999.0000,9, -999.00,9,-999.000,9,-999.000,-999.000,    22.1220,-999.0000, -999.00
32OC19880723,       A16N,      83,          1,         10,         10,2,19880815,       0654,    22.7267,   -27.4767,       5516,   107.8,  37.0726,2,  37.0490,2,    223.3,2,   220.2,2,    0.30,2,    0.10,2,    0.01,2,    0.03,2,   2.011,2,   0.967,2,-999.000,9,-999.0000,9, -999.00,9,-999.000,9,-999.000,   9.000,    20.5250,-999.0000, -999.00
32OC19880723,       A16N,      83,          1,         11,         11,2,19880815,       0654,    22.7267,   -27.4767,       5516,   157.3,  36.9009,2,  36.8600,2,    207.9,2,   206.2,2,    0.60,2,    1.60,2,    0.04,2,    0.10,2,   2.096,2,   1.050,2,-999.000,9,-999.0000,9, -999.00,9,-999.000,9,-999.000,-999.000,    19.4170,-999.0000, -999.00
32OC19880723,       A16N,      83,          1,         12,         12,2,19880815,       0654,    22.7267,   -27.4767,       5516,   206.4,  36.5327,2,  36.5080,2,    183.6,2,   182.7,2,    1.60,2,    6.30,2,    0.00,2,    0.31,2,   1.846,2,   0.876,2,-999.000,9,-999.0000,9, -999.00,9,-999.000,9,-999.000,   9.000,    17.5620,-999.0000, -999.00
32OC19880723,       A16N,      83,          1,         13,         13,2,19880815,       0654,    22.7267,   -27.4767,       5516,   303.7,  36.1482,2,  36.1520,2,    177.2,2,   175.3,2,    3.10,2,   10.30,2,    0.00,2,    0.56,2,   1.665,2,   0.777,2,-999.000,9,-999.0000,9, -999.00,9,-999.000,9,-999.000,-999.000,    15.5210,-999.0000, -999.00
32OC19880723,       A16N,      83,          1,         14,         14,2,19880815,       0654,    22.7267,   -27.4767,       5516,   401.7,  35.8527,2,  35.8330,2,    161.0,2,   157.4,2,    5.30,2,   15.30,2,    0.00,2,    0.87,2,   1.310,4,   0.592,4,-999.000,9,-999.0000,9, -999.00,9,-999.000,9,-999.000,   9.000,    13.5990,-999.0000, -999.00
32OC19880723,       A16N,      83,          1,         15,         15,2,19880815,       0654,    22.7267,   -27.4767,       5516,   597.8,  35.4891,2,  35.5230,2,    141.5,2,   150.9,2,    9.10,2,   20.00,2,    0.00,2,    1.21,2,   0.583,4,   0.261,4,-999.000,9,-999.0000,9, -999.00,9,-999.000,9,-999.000,-999.000,    11.1320,-999.0000, -999.00
32OC19880723,       A16N,      83,          1,         16,         16,2,19880815,       0654,    22.7267,   -27.4767,       5516,   796.8,  35.2339,2,  35.1980,2,    125.1,2,   123.9,2,   18.10,2,   27.70,2,    0.00,2,    1.77,2,   0.066,2,   0.025,2,-999.000,9,-999.0000,9, -999.00,9,-999.000,9,-999.000,   9.000,     8.3300,-999.0000, -999.00
32OC19880723,       A16N,      83,          1,         17,         17,2,19880815,       0654,    22.7267,   -27.4767,       5516,  1047.0,  35.0947,2,  35.0840,2,    147.9,2,   154.3,2,   21.60,2,   26.60,2,    0.00,2,    1.75,2,   0.011,3,   0.006,7,-999.000,9,-999.0000,9, -999.00,9,-999.000,9,-999.000,-999.000,     6.5290,-999.0000, -999.00
32OC19880723,       A16N,      83,          1,         18,         18,2,19880815,       0654,    22.7267,   -27.4767,       5516,  1295.8,  35.1626,2,  35.1510,2,    177.4,2,   185.1,2,   20.80,2,   23.80,2,    0.00,2,    1.54,2,   0.041,2,   0.006,7,-999.000,9,-999.0000,9, -999.00,9,-999.000,9,-999.000,   9.000,     5.8720,-999.0000, -999.00
32OC19880723,       A16N,      83,          1,         19,         19,2,19880815,       0654,    22.7267,   -27.4767,       5516,  1546.8,  35.1493,2,  35.1460,2,    202.8,2,   205.1,2,   19.90,2,   22.20,2,    0.00,2,    1.47,2,   0.041,2,   0.002,7,-999.000,9,-999.0000,9, -999.00,9,-999.000,9,-999.000,-999.000,     5.1760,-999.0000, -999.00
32OC19880723,       A16N,      83,          1,         20,         20,2,19880815,       0654,    22.7267,   -27.4767,       5516,  1797.5,  35.0816,2,  35.0840,2,    218.8,2,   220.3,2,   22.60,2,   21.60,2,    0.00,2,    1.39,2,   0.001,3,  -0.001,2,-999.000,9,-999.0000,9, -999.00,9,-999.000,9,-999.000,   9.000,     4.3800,-999.0000, -999.00
32OC19880723,       A16N,      83,          1,         21,         21,2,19880815,       0654,    22.7267,   -27.4767,       5516,  2149.0,  35.0163,2,  35.0190,2,    232.0,2,   233.3,2,   25.50,2,   21.10,2,    0.00,2,    1.37,2,   0.045,3,   0.002,7,-999.000,9,-999.0000,9, -999.00,9,-999.000,9,-999.000,-999.000,     3.6750,-999.0000, -999.00
32OC19880723,       A16N,      83,          1,         22,         22,2,19880815,       0654,    22.7267,   -27.4767,       5516,  2501.0,  34.9794,2,  34.9900,2,    241.6,2,   241.6,2,   28.60,2,   20.80,2,    0.00,2,    1.34,2,  -0.002,2,  -0.001,7,-999.000,9,-999.0000,9, -999.00,9,-999.000,9,-999.000,   9.000,     3.2480,-999.0000, -999.00
32OC19880723,       A16N,      83,          1,         23,         23,2,19880815,       0654,    22.7267,   -27.4767,       5516,  2856.2,  34.9433,2,  34.9470,2,    245.3,2,   244.6,2,   35.20,2,   21.00,2,    0.00,2,    1.40,2,  -0.004,2,   0.002,7,-999.000,9,-999.0000,9, -999.00,9,-999.000,9,-999.000,-999.000,     2.8410,-999.0000, -999.00
32OC19880723,       A16N,      83,          1,         24,         24,2,19880815,       0654,    22.7267,   -27.4767,       5516,  3262.1,  34.9191,2,  34.9220,2,    246.3,2,   245.5,2,   38.60,2,   21.40,2,    0.00,2,    1.41,2,   0.020,3,  -0.001,2,-999.000,9,-999.0000,9, -999.00,9,-999.000,9,-999.000,   9.000,     2.5950,-999.0000, -999.00
32OC19880723,       A16N,      83,          1,          1,          1,2,19880815,       0654,    22.7267,   -27.4767,       5516,  3668.8,  34.9047,2,  34.9080,2,    246.3,2,   245.5,2,   42.20,2,   21.60,2,    0.00,2,    1.46,2,-999.000,9,-999.000,9,-999.000,9,-999.0000,9, -999.00,9,-999.000,9,-999.000,-999.000,     2.4630,-999.0000, -999.00
32OC19880723,       A16N,      83,          1,          2,          2,2,19880815,       0654,    22.7267,   -27.4767,       5516,  4075.7,  34.8959,2,  34.8960,2,    245.9,2,   245.0,2,   45.70,2,   22.10,2,    0.00,2,    1.47,2,  -0.004,2,  -0.001,2,-999.000,9,-999.0000,9, -999.00,9,-999.000,9,-999.000,   9.000,     2.4010,-999.0000, -999.00
32OC19880723,       A16N,      83,          1,          3,          3,2,19880815,       0654,    22.7267,   -27.4767,       5516,  4483.0,  34.8879,2,  34.8900,2,    245.2,2,   245.0,2,   46.00,2,   22.10,2,    0.00,2,    1.48,2,-999.000,9,-999.000,9,-999.000,9,-999.0000,9, -999.00,9,-999.000,9,-999.000,-999.000,     2.3820,-999.0000, -999.00
32OC19880723,       A16N,      83,          1,          4,          4,2,19880815,       0654,    22.7267,   -27.4767,       5516,  4892.3,  34.8846,2,-999.0000,9,    245.3,2,   245.0,2,   47.00,2,   22.10,2,    0.00,2,    1.48,2,   0.006,2,   0.002,7,-999.000,9,-999.0000,9, -999.00,9,-999.000,9,-999.000,   9.000,     2.4100,-999.0000, -999.00
32OC19880723,       A16N,      83,          1,          5,          5,2,19880815,       0654,    22.7267,   -27.4767,       5516,  5303.7,  34.8839,2,  34.8850,2,    244.9,2,   245.0,2,   46.80,2,   22.20,2,    0.00,2,    1.47,2,-999.000,9,-999.000,9,-999.000,9,-999.0000,9, -999.00,9,-999.000,9,-999.000,-999.000,     2.4540,-999.0000, -999.00
32OC19880723,       A16N,      83,          1,          6,          6,2,19880815,       0654,    22.7267,   -27.4767,       5516,  5612.9,  34.8846,2,  34.8830,2,    243.8,2,   244.6,2,   47.30,2,   22.30,2,    0.00,2,    1.46,2,   0.022,2,   0.002,7,-999.000,9,-999.0000,9, -999.00,9,-999.000,9,-999.000,   9.000,     2.4950,-999.0000, -999.00
32OC19880723,       A16N,      83,          1,         99,     -999.0,9,19880815,       0654,    22.7267,   -27.4767,       5516,  5614.5,  34.8846,2,-999.0000,9,    243.8,2,  -999.0,9, -999.00,9, -999.00,9, -999.00,9, -999.00,9,-999.000,9,-999.000,9,-999.000,9,-999.0000,9, -999.00,9,-999.000,9,-999.000,-999.000,     2.4950,-999.0000, -999.00
32OC19880723,       A16N,      84,          1,          7,          7,2,19880815,       1253,    22.0717,   -27.8517,       5449,    13.0,  37.2078,2,  37.3070,2,    213.6,2,   212.5,2,    0.00,2,    0.30,2,    0.00,2,    0.01,2,   1.827,2,   0.915,2,-999.000,9,-999.0000,9, -999.00,9,-999.000,9,-999.000,   9.000,    23.9280,-999.0000, -999.00
32OC19880723,       A16N,      84,          1,          8,          8,2,19880815,       1253,    22.0717,   -27.8517,       5449,    38.2,  37.3293,2,  37.3070,2,    215.9,2,   212.5,2,    0.00,2, -999.00,9,    0.00,2,    0.01,2,   1.837,2,   0.909,2,-999.000,9,-999.0000,9, -999.00,9,-999.000,9,-999.000,-999.000,    23.8910,-999.0000, -999.00
32OC19880723,       A16N,      84,          1,          9,          9,2,19880815,       1253,    22.0717,   -27.8517,       5449,    68.4,  37.2319,2,  37.2360,2,    219.0,2,   218.2,2,    0.00,2,    0.00,2,    0.00,2,    0.02,2,   1.874,2,   0.913,2,-999.000,9,-999.0000,9, -999.00,9,-999.000,9,-999.000,   9.000,    23.2250,-999.0000, -999.00
32OC19880723,       A16N,      84,          1,         10,         10,2,19880815,       1253,    22.0717,   -27.8517,       5449,   107.7,  37.1129,2,  37.0920,2,    201.4,2,   205.4,2,    0.20,2,    0.80,2,    0.00,2,    0.03,2,   2.012,2,   0.965,2,-999.000,9,-999.0000,9, -999.00,9,-999.000,9,-999.000,-999.000,    20.8280,-999.0000, -999.00
32OC19880723,       A16N,      84,          1,         11,         11,2,19880815,       1253,    22.0717,   -27.8517,       5449,   156.4,  36.8924,2,  36.8910,2,    187.1,2,   189.3,2,    0.70,2,    3.60,2,    0.00,2,    0.16,2,-999.000,9,-999.000,9,-999.000,9,-999.0000,9, -999.00,9,-999.000,9,-999.000,   9.000,    19.6610,-999.0000, -999.00
32OC19880723,       A16N,      84,          1,         12,         12,2,19880815,       1253,    22.0717,   -27.8517,       5449,   203.8,  36.4997,2,  36.4570,2,    165.5,2,   167.9,2,    1.90,2,    8.50,2,    0.03,2,    0.45,2,   1.780,2,   0.855,2,-999.000,9,-999.0000,9, -999.00,9,-999.000,9,-999.000,-999.000,    17.4290,-999.0000, -999.00
32OC19880723,       A16N,      84,          1,         13,         13,2,19880815,       1253,    22.0717,   -27.8517,       5449,   297.7,  36.1190,2,  36.1120,2,    159.2,2,   158.3,2,    3.40,2,   12.50,2,    0.01,2,    0.67,2,-999.000,9,-999.000,9,-999.000,9,-999.0000,9, -999.00,9,-999.000,9,-999.000,   9.000,    15.4020,-999.0000, -999.00
32OC19880723,       A16N,      84,          1,         14,         14,2,19880815,       1253,    22.0717,   -27.8517,       5449,   390.8,  35.8738,2,  35.8950,2,    160.0,2,   157.4,2,    4.50,2,   14.80,2,    0.00,2,    0.83,2,   1.338,2,   0.591,2,-999.000,9,-999.0000,9, -999.00,9,-999.000,9,-999.000,-999.000,    14.0250,-999.0000, -999.00
32OC19880723,       A16N,      84,          1,         15,         15,2,19880815,       1253,    22.0717,   -27.8517,       5449,   579.2,  35.4850,2,  35.4910,2,    135.6,2,   133.5,2,    9.80,2,   22.80,2,    0.01,2,    1.32,2,-999.000,9,-999.000,9,-999.000,9,-999.0000,9, -999.00,9,-999.000,9,-999.000,   9.000,    11.0390,-999.0000, -999.00
32OC19880723,       A16N,      84,          1,         16,         16,2,19880815,       1253,    22.0717,   -27.8517,       5449,   772.7,  35.1172,2,  35.1080,2,    118.8,2,   116.9,2,   18.10,2,   29.10,2,    0.01,2,    1.84,2,   0.066,2,   0.018,3,-999.000,9,-999.0000,9, -999.00,9,-999.000,9,-999.000,-999.000,     8.0280,-999.0000, -999.00
32OC19880723,       A16N,      84,          1,         17,         17,2,19880815,       1253,    22.0717,   -27.8517,       5449,  1017.4,  35.0011,2,  35.0030,2,    145.8,2,   147.8,2,   21.20,2,   28.40,2,    0.01,2,    1.84,2,-999.000,9,-999.000,9,-999.000,9,-999.0000,9, -999.00,9,-999.000,9,-999.000,   9.000,     6.2750,-999.0000, -999.00
32OC19880723,       A16N,      84,          1,         18,         18,2,19880815,       1253,    22.0717,   -27.8517,       5449,  1263.3,  35.0581,2,  35.0620,2,    178.1,2,   180.3,2,   20.10,2, -999.00,9,    0.01,2,    1.63,2,   0.025,2,   0.006,7,-999.000,9,-999.0000,9, -999.00,9,-999.000,9,-999.000,-999.000,     5.5360,-999.0000, -999.00
32OC19880723,       A16N,      84,          1,         19,         19,2,19880815,       1253,    22.0717,   -27.8517,       5449,  1509.5,  35.0812,2,  35.0800,2,    202.8,2,   204.7,2,   20.10,2,   23.30,2,    0.01,2,    1.48,2,-999.000,9,-999.000,9,-999.000,9,-999.0000,9, -999.00,9,-999.000,9,-999.000,   9.000,     4.9330,-999.0000, -999.00
32OC19880723,       A16N,      84,          1,         20,         20,2,19880815,       1253,    22.0717,   -27.8517,       5449,  1757.2,  35.0511,2,  35.0460,2,    220.6,2,   221.2,2,   21.20,2,   21.80,2,    0.01,2,    1.41,2,  -0.007,2,   0.002,7,-999.000,9,-999.0000,9, -999.00,9,-999.000,9,-999.000,-999.000,     4.3240,-999.0000, -999.00
32OC19880723,       A16N,      84,          1,         21,         21,2,19880815,       1253,    22.0717,   -27.8517,       5449,  2105.1,  35.0208,2,  35.0220,2,    234.4,2,   235.1,2,   24.00,2, -999.00,9,    0.02,2,    1.38,2,-999.000,9,-999.000,9,-999.000,9,-999.0000,9, -999.00,9,-999.000,9,-999.000,   9.000,     3.7420,-999.0000, -999.00
32OC19880723,       A16N,      84,          1,         22,         22,2,19880815,       1253,    22.0717,   -27.8517,       5449,  2456.8,  34.9795,2,  34.9840,2,    239.3,2,   239.0,2,   28.60,2, -999.00,9,    0.02,2,    1.38,2,-999.000,9,-999.000,9,-999.000,9,-999.0000,9, -999.00,9,-999.000,9,-999.000,-999.000,     3.2640,-999.0000, -999.00
32OC19880723,       A16N,      84,          1,         23,         23,2,19880815,       1253,    22.0717,   -27.8517,       5449,  2813.0,  34.9496,2,  34.9540,2,    245.1,2,   244.2,2,   32.90,2,   21.20,2,    0.02,2,    1.39,2,   0.020,3,  -0.001,2,-999.000,9,-999.0000,9, -999.00,9,-999.000,9,-999.000,   9.000,     2.8950,-999.0000, -999.00
32OC19880723,       A16N,      84,          1,         24,         24,2,19880815,       1253,    22.0717,   -27.8517,       5449,  3222.9,  34.9221,2,  34.9210,2,    246.5,2,   245.5,2,   37.90,2,   21.70,2,    0.02,2,    1.41,2,-999.000,9,-999.000,9,-999.000,9,-999.0000,9, -999.00,9,-999.000,9,-999.000,-999.000,     2.6110,-999.0000, -999.00
32OC19880723,       A16N,      84,          1,          1,          1,2,19880815,       1253,    22.0717,   -27.8517,       5449,  3632.2,  34.9064,2,  34.9050,2,    246.0,2,   245.5,2,   41.90,2,   22.20,2,    0.02,2,    1.46,2,-999.000,9,-999.000,9,-999.000,9,-999.0000,9, -999.00,9,-999.000,9,-999.000,   9.000,     2.4600,-999.0000, -999.00
32OC19880723,       A16N,      84,          1,          2,          2,2,19880815,       1253,    22.0717,   -27.8517,       5449,  4040.9,  34.8967,2,  34.8960,2,    245.1,2,   245.0,2,   44.50,2,   22.20,2,    0.01,2,    1.48,2,-999.000,9,-999.000,9,-999.000,9,-999.0000,9, -999.00,9,-999.000,9,-999.000,-999.000,     2.3980,-999.0000, -999.00
32OC19880723,       A16N,      84,          1,          3,          3,2,19880815,       1253,    22.0717,   -27.8517,       5449,  4451.5,  34.8880,2,  34.8870,2,    245.0,2,   245.0,2,   46.30,2,   22.60,2,    0.03,2,    1.50,2,   0.025,3,  -0.001,2,-999.000,9,-999.0000,9, -999.00,9,-999.000,9,-999.000,   9.000,     2.3760,-999.0000, -999.00
32OC19880723,       A16N,      84,          1,          4,          4,2,19880815,       1253,    22.0717,   -27.8517,       5449,  4865.0,  34.8848,2,  34.8860,2,    244.2,2,   243.7,2,   46.70,2,   22.20,2,    0.02,2,    1.48,2,-999.000,9,-999.000,9,-999.000,9,-999.0000,9, -999.00,9,-999.000,9,-999.000,-999.000,     2.4010,-999.0000, -999.00
32OC19880723,       A16N,      84,          1,          5,          5,2,19880815,       1253,    22.0717,   -27.8517,       5449,  5278.0,  34.8841,2,  34.8860,2,    243.4,2,   244.2,2,   47.10,2,   22.30,2,    0.02,2,    1.49,2,-999.000,9,-999.000,9,-999.000,9,-999.0000,9, -999.00,9,-999.000,9,-999.000,   9.000,     2.4470,-999.0000, -999.00
32OC19880723,       A16N,      84,          1,          6,          6,2,19880815,       1253,    22.0717,   -27.8517,       5449,  5550.5,  34.8840,2,  34.8820,2,    242.5,2,   243.3,2,   47.00,2,   22.30,2,    0.02,2,    1.47,2,   0.129,4,   0.006,7,-999.000,9,-999.0000,9, -999.00,9,-999.000,9,-999.000,-999.000,     2.4830,-999.0000, -999.00
32OC19880723,       A16N,      84,          1,         99,     -999.0,9,19880815,       1253,    22.0717,   -27.8517,       5449,  5551.6,  34.8840,2,-999.0000,9,    242.6,2,  -999.0,9, -999.00,9, -999.00,9, -999.00,9, -999.00,9,-999.000,9,-999.000,9,-999.000,9,-999.0000,9, -999.00,9,-999.000,9,-999.000,   9.000,     2.4840,-999.0000, -999.00