BOTTLE,20220922CCHSIOAMB
EXPOCODE,SECT_ID,STNNBR,CASTNO,SAMPNO,BTLNBR,BTLNBR_FLAG_W,DATE,TIME,LATITUDE,LONGITUDE,DEPTH,CTDPRS,CTDSAL,CTDSAL_FLAG_W,SALNTY,SALNTY_FLAG_W,CTDOXY,CTDOXY_FLAG_W,OXYGEN,OXYGEN_FLAG_W,SILCAT,SILCAT_FLAG_W,NITRAT,NITRAT_FLAG_W,NITRIT,NITRIT_FLAG_W,PHSPHT,PHSPHT_FLAG_W,CFC-11,CFC-11_FLAG_W,CFC-12,CFC-12_FLAG_W,TRITUM,TRITUM_FLAG_W,HELIUM,HELIUM_FLAG_W,DELHE3,DELHE3_FLAG_W,NEON,NEON_FLAG_W,NEONER,TRITER,CTDTMP,HELIER,DELHER
,,,,,,,,,,,METERS,DBAR,PSS-78,,PSS-78,,UMOL/KG,,UMOL/KG,,UMOL/KG,,UMOL/KG,,UMOL/KG,,UMOL/KG,,PMOL/KG,,PMOL/KG,,TU,,NMOL/KG,,PERCNT,,NMOL/KG,,NMOL/KG,TU,IPTS-68,NMOL/KG,PERCNT
32OC19880723,       A16N,     113,          1,          1,          1,2,19880822,       1548,     1.4317,   -25.0150,       1960,    10.2,  35.9115,2,  35.8940,2,    200.3,2,   201.2,2,    0.50,2,    0.20,2,    0.00,2,    0.07,2,   1.462,2,   0.733,2,   1.064,2,   1.7207,2,   -1.39,2,   6.758,2,   0.051,   0.046,    26.6920,   0.0120,    0.18
32OC19880723,       A16N,     113,          1,          2,          2,2,19880822,       1548,     1.4317,   -25.0150,       1960,    35.6,  35.9064,2,  35.8920,2,    199.5,2,   201.6,2,    0.50,2,    0.10,2,    0.00,2,    0.09,2,   1.491,2,   0.762,2,   1.029,2,   1.7123,2,   -1.75,2,   6.759,2,   0.051,   0.041,    26.5780,   0.0120,    0.18
32OC19880723,       A16N,     113,          1,          3,          3,2,19880822,       1548,     1.4317,   -25.0150,       1960,    66.0,  36.0152,2,  35.9070,2,    192.6,2,   198.9,2,    0.50,2,    0.20,2,    0.00,2,    0.11,2,   1.469,2,   0.746,2,   1.051,2,   1.7094,2,   -1.69,2,   6.761,2,   0.051,   0.043,    26.3930,   0.0120,    0.18
32OC19880723,       A16N,     113,          1,          4,          4,2,19880822,       1548,     1.4317,   -25.0150,       1960,   105.7,  35.5201,2,  35.5030,2,     98.7,2,    96.6,2,    6.70,2,   21.10,2,    0.00,2,    1.45,2,   0.878,2,   0.419,2,   0.616,2,   1.7404,2,    1.12,2,   7.333,2,   0.055,   0.043,    14.7230,   0.0122,    0.18
32OC19880723,       A16N,     113,          1,          5,          5,2,19880822,       1548,     1.4317,   -25.0150,       1960,   153.0,  35.2774,2,  35.2620,2,    113.2,2,   110.5,2,    8.30,2,   22.90,2,    0.00,2,    1.50,2,   0.818,4,   0.350,4,   0.502,2,   1.7526,2,    0.83,2,   7.429,2,   0.056,   0.034,    12.8450,   0.0123,    0.18
32OC19880723,       A16N,     113,          1,          6,          6,2,19880822,       1548,     1.4317,   -25.0150,       1960,   197.5,  35.2319,2,  35.2280,2,    109.7,2,   108.7,2,    8.90,2,   23.80,2,    0.00,2,    1.55,2,   0.667,2,   0.339,2,   0.485,2,   1.7802,2,    0.93,2,   7.438,2,   0.056,   0.034,    12.6140,   0.0125,    0.18
32OC19880723,       A16N,     113,          1,          7,          7,2,19880822,       1548,     1.4317,   -25.0150,       1960,   243.6,  35.2027,2,  35.2010,2,    102.5,2,   100.9,2,    9.40,2,   25.00,2,    0.00,2,    1.64,2,   0.604,2,   0.310,2,   0.445,2,   1.7693,2,    1.35,2,-999.000,9,  -7.493,   0.025,    12.3840,   0.0124,    0.18
32OC19880723,       A16N,     113,          1,          8,          8,2,19880822,       1548,     1.4317,   -25.0150,       1960,   290.7,  35.0248,2,  35.0220,2,     93.1,2,    91.3,2,   12.10,2,   28.60,2,    0.00,2,    1.84,2,   0.355,2,   0.172,2,   0.253,2,   1.7743,2,    1.25,2,-999.000,9,  -7.493,   0.026,    10.7810,   0.0124,    0.18
32OC19880723,       A16N,     113,          1,          9,          9,2,19880822,       1548,     1.4317,   -25.0150,       1960,   384.3,  34.7806,2,  34.7860,2,    110.4,2,   112.6,2,   15.60,2,   30.90,2,    0.00,2,    1.97,2,   0.264,2,   0.118,2,   0.196,2,   1.7851,2,    1.02,2,-999.000,9,  -7.493,   0.027,     8.7000,   0.0125,    0.18
32OC19880723,       A16N,     113,          1,         10,         10,2,19880822,       1548,     1.4317,   -25.0150,       1960,   478.0,  34.6812,2,  34.6790,2,    137.1,2,   136.5,2,   17.60,2, -999.00,9,    0.00,2,    2.01,2,   0.231,2,   0.116,4,   0.171,2,   1.7941,2,    1.10,2,-999.000,9,  -7.493,   0.021,     7.6950,   0.0126,    0.18
32OC19880723,       A16N,     113,          1,         11,         11,2,19880822,       1548,     1.4317,   -25.0150,       1960,   575.2,  34.5464,2,  34.5540,2,    135.3,2,   136.1,2,   24.30,2,   33.80,2,    0.00,2,    2.28,2,   0.072,2,   0.036,2,   0.007,2,   1.8023,2,    1.20,2,-999.000,9,  -7.493,   0.018,     5.9260,   0.0126,    0.18
32OC19880723,       A16N,     113,          1,         12,         12,2,19880822,       1548,     1.4317,   -25.0150,       1960,   672.5,  34.5008,2,  34.5050,2,    145.1,2,   147.4,2,   27.60,2, -999.00,9,    0.00,2,    2.31,2,   0.033,2,   0.025,2,   0.034,2,   1.8106,2,    1.27,2,-999.000,9,  -7.493,   0.018,     5.2470,   0.0127,    0.18
32OC19880723,       A16N,     113,          1,         13,         13,2,19880822,       1548,     1.4317,   -25.0150,       1960,   770.3,  34.5006,2,  34.5050,2,    146.5,2,   150.0,2,   28.70,2,   33.90,2,    0.00,2,    2.31,2,   0.026,2,   0.022,2,   0.028,2,   1.8097,2,    1.43,2,-999.000,9,  -7.493,   0.018,     5.0770,   0.0127,    0.18
32OC19880723,       A16N,     113,          1,         14,         14,2,19880822,       1548,     1.4317,   -25.0150,       1960,   868.0,  34.5165,2,  34.5120,2,    148.1,2,   148.7,2,   30.40,2,   35.10,2,    0.00,2,    2.36,2,   0.033,2,   0.010,2,-999.000,9,-999.0000,9, -999.00,9,-999.000,9,-999.000,-999.000,     4.8100,-999.0000, -999.00
32OC19880723,       A16N,     113,          1,         15,         15,2,19880822,       1548,     1.4317,   -25.0150,       1960,   965.6,  34.5736,2,  34.5500,2,    153.0,2,   151.7,2,   30.90,2,   33.90,2,    0.00,2,    2.32,2,   0.018,2,   0.008,7,-999.000,9,-999.0000,9, -999.00,9,-999.000,9,-999.000,   9.000,     4.6740,-999.0000, -999.00
32OC19880723,       A16N,     113,          1,         16,         16,2,19880822,       1548,     1.4317,   -25.0150,       1960,  1063.8,  34.7345,2,  34.7240,2,    168.0,2,   168.2,2,   28.10,2,   31.00,2,    0.00,2,    2.07,2,  -0.008,2,   0.005,7,-999.000,9,-999.0000,9, -999.00,9,-999.000,9,-999.000,-999.000,     4.5250,-999.0000, -999.00
32OC19880723,       A16N,     113,          1,         17,         17,2,19880822,       1548,     1.4317,   -25.0150,       1960,  1163.8,  34.7977,2,-999.0000,9,    180.5,2,  -999.0,9, -999.00,9, -999.00,9, -999.00,9, -999.00,9,-999.000,9,-999.000,9,-999.000,9,-999.0000,9, -999.00,9,-999.000,9,-999.000,   9.000,     4.4740,-999.0000, -999.00
32OC19880723,       A16N,     113,          1,         18,         18,2,19880822,       1548,     1.4317,   -25.0150,       1960,  1262.1,  34.8340,2,  34.8300,2,    188.2,2,   186.9,2,   24.50,2,   28.00,2,    0.00,2,    1.87,2,   0.023,2,   0.006,2,-999.000,9,-999.0000,9, -999.00,9,-999.000,9,-999.000,-999.000,     4.4850,-999.0000, -999.00
32OC19880723,       A16N,     113,          1,         19,         19,2,19880822,       1548,     1.4317,   -25.0150,       1960,  1361.9,  34.8868,2,  34.8840,2,    199.6,2,   200.8,2,   22.00,2,   26.10,2,    0.00,2,    1.72,2,  -0.001,2,   0.008,7,-999.000,9,-999.0000,9, -999.00,9,-999.000,9,-999.000,   9.000,     4.4760,-999.0000, -999.00
32OC19880723,       A16N,     113,          1,         20,         20,2,19880822,       1548,     1.4317,   -25.0150,       1960,  1461.6,  34.9579,2,  34.9550,2,    226.5,2,   225.5,2,   18.50,2,   22.80,2,    0.00,2,    1.48,2,   0.138,4,   0.021,4,-999.000,9,-999.0000,9, -999.00,9,-999.000,9,-999.000,-999.000,     4.3070,-999.0000, -999.00
32OC19880723,       A16N,     113,          1,         21,         21,2,19880822,       1548,     1.4317,   -25.0150,       1960,  1561.4,  34.9668,2,  34.9640,2,    235.6,2,   233.3,2,   18.00,2,   22.00,2,    0.00,2,    1.44,2,  -0.010,2,   0.012,2,-999.000,9,-999.0000,9, -999.00,9,-999.000,9,-999.000,   9.000,     4.1520,-999.0000, -999.00
32OC19880723,       A16N,     113,          1,         22,         22,2,19880822,       1548,     1.4317,   -25.0150,       1960,  1714.0,  34.9722,2,  34.9720,2,    240.4,2,   240.3,2,   17.30,2,   20.90,2,    0.00,2,    1.38,2,  -0.009,2,   0.011,7,-999.000,9,-999.0000,9, -999.00,9,-999.000,9,-999.000,-999.000,     4.0550,-999.0000, -999.00
32OC19880723,       A16N,     113,          1,         23,         23,2,19880822,       1548,     1.4317,   -25.0150,       1960,  1872.5,  34.9716,2,  34.9700,2,    246.6,2,   246.8,2,   18.60,2,   20.40,2,    0.00,2,    1.36,2,   0.000,2,   0.013,2,-999.000,9,-999.0000,9, -999.00,9,-999.000,9,-999.000,   9.000,     3.7930,-999.0000, -999.00
32OC19880723,       A16N,     113,          1,         24,         24,2,19880822,       1548,     1.4317,   -25.0150,       1960,  2050.5,  34.9658,2,  34.9630,2,    249.1,2,   250.3,2,   20.00,2,   20.50,2,    0.00,2,    1.34,2,  -0.030,3,   0.008,7,-999.000,9,-999.0000,9, -999.00,9,-999.000,9,-999.000,-999.000,     3.5720,-999.0000, -999.00
32OC19880723,       A16N,     113,          1,         99,     -999.0,9,19880822,       1548,     1.4317,   -25.0150,       1960,  2053.2,  34.9656,2,-999.0000,9,    249.4,2,  -999.0,9, -999.00,9, -999.00,9, -999.00,9, -999.00,9,-999.000,9,-999.000,9,-999.000,9,-999.0000,9, -999.00,9,-999.000,9,-999.000,   9.000,     3.5770,-999.0000, -999.00
32OC19880723,       A16N,     114,          1,          1,          1,2,19880822,       1923,     1.0033,   -25.0033,       3054,    11.2,  35.9970,2,  35.9750,2,    202.9,2,   202.9,2,    0.60,2,    0.20,2,    0.01,2,    0.08,2,-999.000,9,-999.000,9,-999.000,9,-999.0000,9, -999.00,9,-999.000,9,-999.000,-999.000,    26.6170,-999.0000, -999.00
32OC19880723,       A16N,     114,          1,          2,          2,2,19880822,       1923,     1.0033,   -25.0033,       3054,    35.6,  35.9899,2,  35.9720,2,    203.9,2,   202.4,2,    0.60,2,    0.20,2,    0.02,2,    0.08,2,-999.000,9,-999.000,9,-999.000,9,-999.0000,9, -999.00,9,-999.000,9,-999.000,   9.000,    26.5170,-999.0000, -999.00
32OC19880723,       A16N,     114,          1,          3,          3,2,19880822,       1923,     1.0033,   -25.0033,       3054,    63.9,  36.0034,2,  35.9990,2,    200.7,2,   198.5,2,    0.60,2,    0.40,2,    0.05,2,    0.12,2,-999.000,9,-999.000,9,-999.000,9,-999.0000,9, -999.00,9,-999.000,9,-999.000,-999.000,    26.1520,-999.0000, -999.00
32OC19880723,       A16N,     114,          1,          4,          4,2,19880822,       1923,     1.0033,   -25.0033,       3054,    85.0,  35.9319,2,  35.9350,2,    157.3,2,   149.0,2,    2.20,2,    6.80,2,    0.29,2,    0.54,2,-999.000,9,-999.000,9,-999.000,9,-999.0000,9, -999.00,9,-999.000,9,-999.000,   9.000,    21.9700,-999.0000, -999.00
32OC19880723,       A16N,     114,          1,          5,          5,2,19880822,       1923,     1.0033,   -25.0033,       3054,   104.3,  35.6925,2,  35.6980,2,    108.0,2,   106.2,2,    5.10,2,   18.50,2,    0.08,2,    1.22,2,-999.000,9,-999.000,9,-999.000,9,-999.0000,9, -999.00,9,-999.000,9,-999.000,-999.000,    16.8130,-999.0000, -999.00
32OC19880723,       A16N,     114,          1,          6,          6,2,19880822,       1923,     1.0033,   -25.0033,       3054,   152.5,  35.3553,2,  35.3510,2,    109.8,2,   114.8,2,    7.50,2,   21.90,2,    0.02,2,    1.47,2,-999.000,9,-999.000,9,-999.000,9,-999.0000,9, -999.00,9,-999.000,9,-999.000,   9.000,    13.5090,-999.0000, -999.00
32OC19880723,       A16N,     114,          1,          7,          7,2,19880822,       1923,     1.0033,   -25.0033,       3054,   198.5,  35.2577,2,  35.2410,2,    112.2,2,   110.5,2,    8.50,2,   23.60,2,    0.02,2,    1.55,2,-999.000,9,-999.000,9,-999.000,9,-999.0000,9, -999.00,9,-999.000,9,-999.000,-999.000,    12.7180,-999.0000, -999.00
32OC19880723,       A16N,     114,          1,          8,          8,2,19880822,       1923,     1.0033,   -25.0033,       3054,   242.8,  35.2312,2,  35.2150,2,    107.7,2,   103.5,2,    9.00,2,   25.10,2,    0.02,2,    1.62,2,-999.000,9,-999.000,9,-999.000,9,-999.0000,9, -999.00,9,-999.000,9,-999.000,   9.000,    12.5170,-999.0000, -999.00
32OC19880723,       A16N,     114,          1,          9,          9,2,19880822,       1923,     1.0033,   -25.0033,       3054,   284.0,  35.1593,2,  35.1260,2,    100.0,2,    90.5,2,   10.70,2,   27.90,2,    0.02,2,    1.80,2,-999.000,9,-999.000,9,-999.000,9,-999.0000,9, -999.00,9,-999.000,9,-999.000,-999.000,    11.6960,-999.0000, -999.00
32OC19880723,       A16N,     114,          1,         10,         10,2,19880822,       1923,     1.0033,   -25.0033,       3054,   370.8,  34.7726,2,  34.7780,2,    108.4,2,   107.8,2,   15.80,2,   32.10,2,    0.02,2,    2.06,2,-999.000,9,-999.000,9,-999.000,9,-999.0000,9, -999.00,9,-999.000,9,-999.000,   9.000,     8.6040,-999.0000, -999.00
32OC19880723,       A16N,     114,          1,         11,         11,2,19880822,       1923,     1.0033,   -25.0033,       3054,   460.2,  34.7195,2,  34.7170,2,    121.8,2,   123.5,2,   16.90,2,   31.70,2,    0.02,2,    2.07,2,-999.000,9,-999.000,9,-999.000,9,-999.0000,9, -999.00,9,-999.000,9,-999.000,-999.000,     8.0610,-999.0000, -999.00
32OC19880723,       A16N,     114,          1,         12,         12,2,19880822,       1923,     1.0033,   -25.0033,       3054,   551.8,  34.5859,2,  34.5850,2,    135.8,2,   137.8,2,   21.20,2,   33.20,2,    0.02,2,    2.25,2,-999.000,9,-999.000,9,-999.000,9,-999.0000,9, -999.00,9,-999.000,9,-999.000,   9.000,     6.5970,-999.0000, -999.00
32OC19880723,       A16N,     114,          1,         13,         13,2,19880822,       1923,     1.0033,   -25.0033,       3054,   742.9,  34.5013,2,  34.5030,2,    144.2,2,   146.5,2,   28.60,2,   35.10,2,    0.02,2,    2.39,2,-999.000,9,-999.000,9,-999.000,9,-999.0000,9, -999.00,9,-999.000,9,-999.000,-999.000,     5.0780,-999.0000, -999.00
32OC19880723,       A16N,     114,          1,         14,         14,2,19880822,       1923,     1.0033,   -25.0033,       3054,   932.6,  34.5597,2,  34.5590,2,    154.8,2,   153.4,2,   30.90,2,   34.20,2,    0.02,2,    2.38,2,-999.000,9,-999.000,9,-999.000,9,-999.0000,9, -999.00,9,-999.000,9,-999.000,   9.000,     4.6460,-999.0000, -999.00
32OC19880723,       A16N,     114,          1,         15,         15,2,19880822,       1923,     1.0033,   -25.0033,       3054,  1125.0,  34.7752,2,  34.7680,2,    177.5,2,   175.1,2,   27.00,2,   30.20,2,    0.03,2,    2.04,2,-999.000,9,-999.000,9,-999.000,9,-999.0000,9, -999.00,9,-999.000,9,-999.000,-999.000,     4.4610,-999.0000, -999.00
32OC19880723,       A16N,     114,          1,         16,         16,2,19880822,       1923,     1.0033,   -25.0033,       3054,  1316.8,  34.8657,2,  34.8600,2,    194.8,2,   192.1,2,   23.20,2,   27.30,2,    0.00,2,    1.84,2,-999.000,9,-999.000,9,-999.000,9,-999.0000,9, -999.00,9,-999.000,9,-999.000,   9.000,     4.5280,-999.0000, -999.00
32OC19880723,       A16N,     114,          1,         17,         17,2,19880822,       1923,     1.0033,   -25.0033,       3054,  1509.0,  34.9669,2,  34.9610,2,    232.5,2,   232.5,2,   18.10,2,   22.30,2,    0.00,2,    1.48,2,-999.000,9,-999.000,9,-999.000,9,-999.0000,9, -999.00,9,-999.000,9,-999.000,-999.000,     4.1720,-999.0000, -999.00
32OC19880723,       A16N,     114,          1,         18,         18,2,19880822,       1923,     1.0033,   -25.0033,       3054,  1702.0,  34.9760,2,  34.9740,2,    241.4,2,   242.0,2,   17.10,2,   21.30,2,    0.00,2,    1.40,2,-999.000,9,-999.000,9,-999.000,9,-999.0000,9, -999.00,9,-999.000,9,-999.000,   9.000,     4.0560,-999.0000, -999.00
32OC19880723,       A16N,     114,          1,         19,         19,2,19880822,       1923,     1.0033,   -25.0033,       3054,  1896.9,  34.9727,2,  34.9720,2,    249.9,2,   249.8,2,   18.40,2,   20.60,2,    0.00,2,    1.38,2,-999.000,9,-999.000,9,-999.000,9,-999.0000,9, -999.00,9,-999.000,9,-999.000,-999.000,     3.7490,-999.0000, -999.00
32OC19880723,       A16N,     114,          1,         20,         20,2,19880822,       1923,     1.0033,   -25.0033,       3054,  2194.5,  34.9521,2,  34.9530,2,    252.7,2,   252.4,2,   23.60,2,   20.80,2,    0.00,2,    1.39,2,-999.000,9,-999.000,9,-999.000,9,-999.0000,9, -999.00,9,-999.000,9,-999.000,   9.000,     3.2760,-999.0000, -999.00
32OC19880723,       A16N,     114,          1,         21,         21,2,19880822,       1923,     1.0033,   -25.0033,       3054,  2493.6,  34.9413,2,  34.9410,2,    253.2,2,   252.4,2,   27.30,2,   21.00,2,    0.00,2,    1.42,2,-999.000,9,-999.000,9,-999.000,9,-999.0000,9, -999.00,9,-999.000,9,-999.000,-999.000,     3.0680,-999.0000, -999.00
32OC19880723,       A16N,     114,          1,         22,         22,2,19880822,       1923,     1.0033,   -25.0033,       3054,  2745.4,  34.9239,2,  34.9230,2,    248.7,2,   248.1,2,   33.40,2,   22.00,2,    0.00,2,    1.47,2,-999.000,9,-999.000,9,-999.000,9,-999.0000,9, -999.00,9,-999.000,9,-999.000,   9.000,     2.8090,-999.0000, -999.00
32OC19880723,       A16N,     114,          1,         23,         23,2,19880822,       1923,     1.0033,   -25.0033,       3054,  3008.4,  34.9155,2,  34.9150,2,    248.5,2,   248.5,2,   35.90,2,   22.00,2,    0.00,2,    1.47,2,-999.000,9,-999.000,9,-999.000,9,-999.0000,9, -999.00,9,-999.000,9,-999.000,-999.000,     2.6700,-999.0000, -999.00
32OC19880723,       A16N,     114,          1,         24,         24,2,19880822,       1923,     1.0033,   -25.0033,       3054,  3197.5,  34.9092,2,  34.9090,2,    248.5,2,   249.0,2,   37.50,2,   22.10,2,    0.00,2,    1.45,2,-999.000,9,-999.000,9,-999.000,9,-999.0000,9, -999.00,9,-999.000,9,-999.000,   9.000,     2.5910,-999.0000, -999.00
32OC19880723,       A16N,     114,          1,         99,     -999.0,9,19880822,       1923,     1.0033,   -25.0033,       3054,  3199.6,  34.9091,2,-999.0000,9,    248.5,2,  -999.0,9, -999.00,9, -999.00,9, -999.00,9, -999.00,9,-999.000,9,-999.000,9,-999.000,9,-999.0000,9, -999.00,9,-999.000,9,-999.000,-999.000,     2.5890,-999.0000, -999.00