BOTTLE,20220922CCHSIOAMB
EXPOCODE,SECT_ID,STNNBR,CASTNO,SAMPNO,BTLNBR,BTLNBR_FLAG_W,DATE,TIME,LATITUDE,LONGITUDE,DEPTH,CTDPRS,CTDSAL,CTDSAL_FLAG_W,SALNTY,SALNTY_FLAG_W,CTDOXY,CTDOXY_FLAG_W,OXYGEN,OXYGEN_FLAG_W,SILCAT,SILCAT_FLAG_W,NITRAT,NITRAT_FLAG_W,NITRIT,NITRIT_FLAG_W,PHSPHT,PHSPHT_FLAG_W,CFC-11,CFC-11_FLAG_W,CFC-12,CFC-12_FLAG_W,TRITUM,TRITUM_FLAG_W,HELIUM,HELIUM_FLAG_W,DELHE3,DELHE3_FLAG_W,NEON,NEON_FLAG_W,NEONER,TRITER,CTDTMP,HELIER,DELHER
,,,,,,,,,,,METERS,DBAR,PSS-78,,PSS-78,,UMOL/KG,,UMOL/KG,,UMOL/KG,,UMOL/KG,,UMOL/KG,,UMOL/KG,,PMOL/KG,,PMOL/KG,,TU,,NMOL/KG,,PERCNT,,NMOL/KG,,NMOL/KG,TU,IPTS-68,NMOL/KG,PERCNT
32OC19880723,       A16N,     101,          1,          1,          1,2,19880819,       1742,     9.5883,   -28.4033,       5517,    14.7,  36.0337,2,  36.0290,2,    205.0,2,   202.9,2,    0.20,2,    0.10,2,    0.00,2,    0.01,2,   1.551,2,   0.783,2,   1.103,2,   1.6979,2,   -1.33,2,-999.000,9,  -7.493,   0.034,    27.4200,   0.0119,    0.18
32OC19880723,       A16N,     101,          1,          2,          2,2,19880819,       1742,     9.5883,   -28.4033,       5517,    40.1,  36.1738,2,  36.1020,2,    216.8,2,   227.6,2,    0.20,2,    0.30,2,    0.00,2,    0.15,2,   1.796,2,   0.893,2,   1.105,2,   1.7096,2,   -1.27,2,-999.000,9,  -7.493,   0.034,    24.1350,   0.0120,    0.18
32OC19880723,       A16N,     101,          1,          3,          3,2,19880819,       1742,     9.5883,   -28.4033,       5517,    69.7,  35.8947,2,  35.9220,2,    174.8,2,   129.7,3,    2.80,2,    9.70,2,    0.46,2,    0.63,2,   1.260,2,   0.617,2,   1.009,2,   1.7389,2,    0.68,2,-999.000,9,  -7.493,   0.031,    19.1420,   0.0122,    0.18
32OC19880723,       A16N,     101,          1,          4,          4,2,19880819,       1742,     9.5883,   -28.4033,       5517,   109.3,  35.4931,2,  35.4040,2,     95.7,2,    91.4,2,    8.00,2, -999.00,9,    0.01,2,    1.46,2,   0.718,2,   0.326,2,   0.599,2,   1.7755,2,    1.69,2,-999.000,9,  -7.493,   0.028,    13.6240,   0.0124,    0.18
32OC19880723,       A16N,     101,          1,          5,          5,2,19880819,       1742,     9.5883,   -28.4033,       5517,   159.0,  35.2542,2,  35.2280,2,     92.0,2,    92.6,2,    9.60,2,   23.90,2,    0.00,2,    1.57,2,   0.528,4,   0.212,4,   0.486,2,   1.7689,2,    1.97,2,-999.000,9,  -7.493,   0.039,    12.2340,   0.0124,    0.18
32OC19880723,       A16N,     101,          1,          6,          6,2,19880819,       1742,     9.5883,   -28.4033,       5517,   209.2,  35.1563,2,  35.1570,2,     85.6,2,    87.0,2,   10.70,2,   27.60,2,    0.00,2,    1.70,2,   0.385,2,   0.171,2,   0.397,2,   1.7701,2,    2.05,2,-999.000,9,  -7.493,   0.026,    11.5030,   0.0124,    0.18
32OC19880723,       A16N,     101,          1,          7,          7,2,19880819,       1742,     9.5883,   -28.4033,       5517,   258.6,  35.1308,2,  35.1190,2,     77.3,2,    77.8,2,   11.90,2,   28.70,2,    0.00,2,    1.78,2,   0.279,2,   0.127,2,   0.403,2,   1.8389,2,    2.23,2,-999.000,9,  -7.493,   0.025,    10.9800,   0.0129,    0.18
32OC19880723,       A16N,     101,          1,          8,          8,2,19880819,       1742,     9.5883,   -28.4033,       5517,   307.9,  35.1108,2,  35.0840,2,     65.2,2,    73.5,2,   12.70,2,   30.50,2,    0.00,2,    1.87,2,   0.214,2,   0.002,4,   0.335,2,   1.7782,2,    2.36,2,-999.000,9,  -7.493,   0.027,    10.5620,   0.0124,    0.18
32OC19880723,       A16N,     101,          1,          9,          9,2,19880819,       1742,     9.5883,   -28.4033,       5517,   406.8,  35.0314,2,  35.0460,2,     54.7,2,    55.7,2,   15.30,2,   33.80,2,    0.00,2,    2.06,2,   0.114,2,   0.041,2,   0.244,2,   1.7798,2,    2.22,2,-999.000,9,  -7.493,   0.026,     9.7130,   0.0125,    0.18
32OC19880723,       A16N,     101,          1,         10,         10,2,19880819,       1742,     9.5883,   -28.4033,       5517,   504.4,  34.9406,2,  34.9530,2,     59.1,2,    60.0,2,   18.20,2,   35.20,2,    0.00,2,    2.19,2,   0.029,4,   0.005,7,   0.097,2,   1.7907,2,    1.46,2,-999.000,9,  -7.493,   0.023,     8.6730,   0.0125,    0.18
32OC19880723,       A16N,     101,          1,         11,         11,2,19880819,       1742,     9.5883,   -28.4033,       5517,   748.7,  34.7165,2,  34.7260,2,     88.1,2,    93.0,2,   24.90,2,   35.40,2,    0.00,2,    2.36,2,   0.066,2,   0.005,7,   0.048,2,   1.8076,2,    0.98,2,-999.000,9,  -7.493,   0.027,     6.2550,   0.0127,    0.18
32OC19880723,       A16N,     101,          1,         12,         12,2,19880819,       1742,     9.5883,   -28.4033,       5517,   998.9,  34.7621,2,  34.7500,2,    124.7,2,   133.9,2,   27.30,2,   32.40,2,    0.00,2,    2.18,2,  -0.028,4,   0.005,7,   0.025,2,   1.8301,2,    1.19,2,-999.000,9,  -7.493,   0.025,     5.1890,   0.0128,    0.18
32OC19880723,       A16N,     101,          1,         13,         13,2,19880819,       1742,     9.5883,   -28.4033,       5517,  1299.4,  34.9187,2,  34.9200,2,    177.6,2,   186.9,2,   22.40,2,   26.00,2,    0.00,2,    1.71,2,   0.016,2,   0.005,7,   0.015,2,   1.8161,2,    0.87,2,-999.000,9,  -7.493,   0.024,     4.6260,   0.0127,    0.18
32OC19880723,       A16N,     101,          1,         14,         14,2,19880819,       1742,     9.5883,   -28.4033,       5517,  1602.5,  34.9565,2,  34.9580,2,    217.1,2,   224.2,2,   20.50,2,   22.20,2,    0.00,2,    1.46,2,-999.000,9,-999.000,9,-999.000,9,-999.0000,9, -999.00,9,-999.000,9,-999.000,   9.000,     4.0270,-999.0000, -999.00
32OC19880723,       A16N,     101,          1,         15,         15,2,19880819,       1742,     9.5883,   -28.4033,       5517,  2003.0,  34.9607,2,  34.9610,2,    243.8,2,   248.5,2,   21.00,2, -999.00,9,    0.00,2,    1.33,2,   0.073,4,   0.005,7,-999.000,9,-999.0000,9, -999.00,9,-999.000,9,-999.000,-999.000,     3.4960,-999.0000, -999.00
32OC19880723,       A16N,     101,          1,         16,         16,2,19880819,       1742,     9.5883,   -28.4033,       5517,  2402.3,  34.9483,2,  34.9480,2,    251.6,2,   252.9,2,   25.50,2, -999.00,9,    0.00,2,    1.31,2,-999.000,9,-999.000,9,-999.000,9,-999.0000,9, -999.00,9,-999.000,9,-999.000,   9.000,     3.1180,-999.0000, -999.00
32OC19880723,       A16N,     101,          1,         17,         17,2,19880819,       1742,     9.5883,   -28.4033,       5517,  2801.3,  34.9282,2,  34.9280,2,    252.8,2,   252.4,2,   30.90,2, -999.00,9,    0.00,2,    1.34,2,   0.002,2,   0.002,7,-999.000,9,-999.0000,9, -999.00,9,-999.000,9,-999.000,-999.000,     2.8090,-999.0000, -999.00
32OC19880723,       A16N,     101,          1,         18,         18,2,19880819,       1742,     9.5883,   -28.4033,       5517,  3199.8,  34.9139,2,  34.9140,2,    252.0,2,   252.4,2,   35.60,2, -999.00,9,    0.00,2,    1.37,2,  -0.021,3,  -0.001,7,-999.000,9,-999.0000,9, -999.00,9,-999.000,9,-999.000,   9.000,     2.6050,-999.0000, -999.00
32OC19880723,       A16N,     101,          1,         19,         19,2,19880819,       1742,     9.5883,   -28.4033,       5517,  3648.5,  34.9006,2,  34.9020,2,    252.8,2,   252.4,2,   38.90,2, -999.00,9,    0.00,2,    1.40,2,-999.000,9,-999.000,9,-999.000,9,-999.0000,9, -999.00,9,-999.000,9,-999.000,-999.000,     2.4640,-999.0000, -999.00
32OC19880723,       A16N,     101,          1,         20,         20,2,19880819,       1742,     9.5883,   -28.4033,       5517,  4100.7,  34.8892,2,  34.8900,2,    254.2,2,   252.9,2,   41.80,2, -999.00,9,    0.01,2,    1.41,2,  -0.012,3,   0.005,7,-999.000,9,-999.0000,9, -999.00,9,-999.000,9,-999.000,   9.000,     2.3660,-999.0000, -999.00
32OC19880723,       A16N,     101,          1,         21,         21,2,19880819,       1742,     9.5883,   -28.4033,       5517,  4555.0,  34.8788,2,  34.8800,2,    249.0,2,   249.0,2,   47.00,2,   22.00,2,    0.01,2,    1.47,2,-999.000,9,-999.000,9,-999.000,9,-999.0000,9, -999.00,9,-999.000,9,-999.000,-999.000,     2.3070,-999.0000, -999.00
32OC19880723,       A16N,     101,          1,         22,         22,2,19880819,       1742,     9.5883,   -28.4033,       5517,  5005.4,  34.8719,2,  34.8740,2,    245.1,2,   246.3,2,   50.40,2,   22.70,2,    0.00,2,    1.50,2,   0.076,4,   0.008,7,-999.000,9,-999.0000,9, -999.00,9,-999.000,9,-999.000,   9.000,     2.2830,-999.0000, -999.00
32OC19880723,       A16N,     101,          1,         23,         23,2,19880819,       1742,     9.5883,   -28.4033,       5517,  5409.2,  34.8699,2,  34.8700,2,    245.5,2,   246.3,2,   50.60,2,   22.10,2,    0.00,2,    1.49,2,-999.000,9,-999.000,9,-999.000,9,-999.0000,9, -999.00,9,-999.000,9,-999.000,-999.000,     2.3140,-999.0000, -999.00
32OC19880723,       A16N,     101,          1,         24,         24,2,19880819,       1742,     9.5883,   -28.4033,       5517,  5635.5,  34.8702,2,  34.8700,2,    245.5,2,   245.0,2,   50.60,2,   22.50,2,    0.00,2,    1.47,2,   0.041,2,   0.008,7,-999.000,9,-999.0000,9, -999.00,9,-999.000,9,-999.000,   9.000,     2.3420,-999.0000, -999.00
32OC19880723,       A16N,     101,          1,         99,     -999.0,9,19880819,       1742,     9.5883,   -28.4033,       5517,  5636.3,  34.8702,2,-999.0000,9,    245.5,2,  -999.0,9, -999.00,9, -999.00,9, -999.00,9, -999.00,9,-999.000,9,-999.000,9,-999.000,9,-999.0000,9, -999.00,9,-999.000,9,-999.000,-999.000,     2.3430,-999.0000, -999.00
32OC19880723,       A16N,     102,          1,          1,          1,2,19880819,       2336,     8.9283,   -28.0967,       4987,    13.8,  35.9065,2,  35.8760,2,    210.7,2,   203.8,2,    0.30,2, -999.00,9,    0.00,2,    0.02,2,-999.000,9,-999.000,9,-999.000,9,-999.0000,9, -999.00,9,-999.000,9,-999.000,   9.000,    27.3950,-999.0000, -999.00
32OC19880723,       A16N,     102,          1,          2,          2,2,19880819,       2336,     8.9283,   -28.0967,       4987,    38.0,  36.0773,2,  36.1620,2,    197.8,2,   215.0,2,    0.50,2,    0.30,2,    0.02,2,    0.05,2,-999.000,9,-999.000,9,-999.000,9,-999.0000,9, -999.00,9,-999.000,9,-999.000,-999.000,    26.2530,-999.0000, -999.00
32OC19880723,       A16N,     102,          1,          3,          3,2,19880819,       2336,     8.9283,   -28.0967,       4987,    65.3,  35.7498,2,  35.7860,2,    111.6,2,   111.4,2,    5.20,2,   17.40,2,    0.38,2,    1.08,2,-999.000,9,-999.000,9,-999.000,9,-999.0000,9, -999.00,9,-999.000,9,-999.000,   9.000,    16.9930,-999.0000, -999.00
32OC19880723,       A16N,     102,          1,          4,          4,2,19880819,       2336,     8.9283,   -28.0967,       4987,   100.2,  35.4857,2,  35.4680,2,    113.2,2,   114.4,2,    7.40,2,   21.40,2,    0.07,2,    1.37,2,-999.000,9,-999.000,9,-999.000,9,-999.0000,9, -999.00,9,-999.000,9,-999.000,-999.000,    13.9260,-999.0000, -999.00
32OC19880723,       A16N,     102,          1,          5,          5,2,19880819,       2336,     8.9283,   -28.0967,       4987,   144.6,  35.2083,2,  35.1990,2,    118.2,2,   122.7,2,    9.00,2,   23.20,2,    0.03,2,    1.50,2,-999.000,9,-999.000,9,-999.000,9,-999.0000,9, -999.00,9,-999.000,9,-999.000,   9.000,    12.1330,-999.0000, -999.00
32OC19880723,       A16N,     102,          1,          6,          6,2,19880819,       2336,     8.9283,   -28.0967,       4987,   186.6,  35.0984,2,  35.1320,2,    124.2,2,   123.1,2,    9.50,2,   23.70,2,    0.00,2,    1.58,2,-999.000,9,-999.000,9,-999.000,9,-999.0000,9, -999.00,9,-999.000,9,-999.000,-999.000,    11.6600,-999.0000, -999.00
32OC19880723,       A16N,     102,          1,          7,          7,2,19880819,       2336,     8.9283,   -28.0967,       4987,   226.6,  35.0506,2,  35.0870,2,    113.6,2,   118.7,2,   10.30,2,   25.50,2,    0.00,2,    1.67,2,-999.000,9,-999.000,9,-999.000,9,-999.0000,9, -999.00,9,-999.000,9,-999.000,   9.000,    11.1810,-999.0000, -999.00
32OC19880723,       A16N,     102,          1,          8,          8,2,19880819,       2336,     8.9283,   -28.0967,       4987,   264.3,  34.9946,2,  35.0410,2,    111.2,2,   111.3,2,   11.30,2,   27.10,2,    0.00,2,    1.77,2,-999.000,9,-999.000,9,-999.000,9,-999.0000,9, -999.00,9,-999.000,9,-999.000,-999.000,    10.7320,-999.0000, -999.00
32OC19880723,       A16N,     102,          1,          9,          9,2,19880819,       2336,     8.9283,   -28.0967,       4987,   341.5,  34.8815,2,  34.8960,2,    111.8,2,   111.8,2,   13.90,2,   29.40,2,    0.00,2,    1.89,2,-999.000,9,-999.000,9,-999.000,9,-999.0000,9, -999.00,9,-999.000,9,-999.000,   9.000,     9.4800,-999.0000, -999.00
32OC19880723,       A16N,     102,          1,         10,         10,2,19880819,       2336,     8.9283,   -28.0967,       4987,   418.2,  34.8132,2,  34.8290,2,    102.5,2,    97.0,2,   16.30,2,   32.60,2,    0.00,2,    2.06,2,-999.000,9,-999.000,9,-999.000,9,-999.0000,9, -999.00,9,-999.000,9,-999.000,-999.000,     8.7090,-999.0000, -999.00
32OC19880723,       A16N,     102,          1,         11,         11,2,19880819,       2336,     8.9283,   -28.0967,       4987,   621.5,  34.7570,2,  34.7760,2,     83.7,2,    80.9,2,   21.80,2,   36.90,2,    0.00,2,    2.43,2,-999.000,9,-999.000,9,-999.000,9,-999.0000,9, -999.00,9,-999.000,9,-999.000,   9.000,     7.1910,-999.0000, -999.00
32OC19880723,       A16N,     102,          1,         12,         12,2,19880819,       2336,     8.9283,   -28.0967,       4987,   837.9,  34.6622,2,  34.6600,2,    116.1,2,   115.2,2,   27.70,2,   36.00,2,    0.02,2,    2.44,2,-999.000,9,-999.000,9,-999.000,9,-999.0000,9, -999.00,9,-999.000,9,-999.000,-999.000,     5.4820,-999.0000, -999.00
32OC19880723,       A16N,     102,          1,         13,         13,2,19880819,       2336,     8.9283,   -28.0967,       4987,  1066.9,  34.7453,2,  34.7430,2,    145.9,2,   146.5,2,   27.50,2,   32.40,2,    0.02,2,    2.23,2,-999.000,9,-999.000,9,-999.000,9,-999.0000,9, -999.00,9,-999.000,9,-999.000,   9.000,     4.8910,-999.0000, -999.00
32OC19880723,       A16N,     102,          1,         14,         14,2,19880819,       2336,     8.9283,   -28.0967,       4987,  1400.8,  34.9474,2,  34.9400,2,    206.2,2,   206.0,2,   20.40,2,   24.30,2,    0.14,2,    1.65,2,-999.000,9,-999.000,9,-999.000,9,-999.0000,9, -999.00,9,-999.000,9,-999.000,-999.000,     4.4840,-999.0000, -999.00
32OC19880723,       A16N,     102,          1,         15,         15,2,19880819,       2336,     8.9283,   -28.0967,       4987,  1596.6,  34.9715,2,  34.9680,2,    234.2,2,   233.8,2,   18.10,2,   21.70,2,    0.00,2, -999.00,9,-999.000,9,-999.000,9,-999.000,9,-999.0000,9, -999.00,9,-999.000,9,-999.000,   9.000,     4.1060,-999.0000, -999.00
32OC19880723,       A16N,     102,          1,         16,         16,2,19880819,       2336,     8.9283,   -28.0967,       4987,  1986.2,  34.9598,2,  34.9550,2,    247.0,2,   247.7,2,   20.90,2,   20.60,2,    0.01,2, -999.00,9,-999.000,9,-999.000,9,-999.000,9,-999.0000,9, -999.00,9,-999.000,9,-999.000,-999.000,     3.5100,-999.0000, -999.00
32OC19880723,       A16N,     102,          1,         17,         17,2,19880819,       2336,     8.9283,   -28.0967,       4987,  2370.2,  34.9429,2,  34.9440,2,    247.2,2,   247.2,2,   26.90,2,   20.90,2,    0.01,2, -999.00,9,-999.000,9,-999.000,9,-999.000,9,-999.0000,9, -999.00,9,-999.000,9,-999.000,   9.000,     3.1140,-999.0000, -999.00
32OC19880723,       A16N,     102,          1,         18,         18,2,19880819,       2336,     8.9283,   -28.0967,       4987,  2764.9,  34.9286,2,  34.9260,2,    251.3,2,   251.1,2,   31.50,2,   20.90,2,    0.01,2, -999.00,9,-999.000,9,-999.000,9,-999.000,9,-999.0000,9, -999.00,9,-999.000,9,-999.000,-999.000,     2.8090,-999.0000, -999.00
32OC19880723,       A16N,     102,          1,         19,         19,2,19880819,       2336,     8.9283,   -28.0967,       4987,  3170.0,  34.9130,2,  34.9110,2,    250.7,2,   249.8,2,   36.60,2,   21.60,2,    0.01,2, -999.00,9,-999.000,9,-999.000,9,-999.000,9,-999.0000,9, -999.00,9,-999.000,9,-999.000,   9.000,     2.6100,-999.0000, -999.00
32OC19880723,       A16N,     102,          1,         20,         20,2,19880819,       2336,     8.9283,   -28.0967,       4987,  3565.3,  34.9034,2,  34.9020,2,    251.3,2,   249.8,2,   39.20,2,   21.70,2,    0.01,2, -999.00,9,-999.000,9,-999.000,9,-999.000,9,-999.0000,9, -999.00,9,-999.000,9,-999.000,-999.000,     2.4950,-999.0000, -999.00
32OC19880723,       A16N,     102,          1,         21,         21,2,19880819,       2336,     8.9283,   -28.0967,       4987,  3974.4,  34.8925,2,  34.8890,2,    254.2,2,   254.2,2,   41.30,2,   21.40,2,    0.01,2, -999.00,9,-999.000,9,-999.000,9,-999.000,9,-999.0000,9, -999.00,9,-999.000,9,-999.000,   9.000,     2.3680,-999.0000, -999.00
32OC19880723,       A16N,     102,          1,         22,         22,2,19880819,       2336,     8.9283,   -28.0967,       4987,  4395.3,  34.8825,2,  34.8820,2,    252.6,2,   251.6,2,   44.80,2,   21.50,2,    0.01,2, -999.00,9,-999.000,9,-999.000,9,-999.000,9,-999.0000,9, -999.00,9,-999.000,9,-999.000,-999.000,     2.3190,-999.0000, -999.00
32OC19880723,       A16N,     102,          1,         23,         23,2,19880819,       2336,     8.9283,   -28.0967,       4987,  4810.6,  34.8758,2,  34.8750,2,    245.9,2,   245.9,2,   49.10,2,   22.80,2,    0.02,2, -999.00,9,-999.000,9,-999.000,9,-999.000,9,-999.0000,9, -999.00,9,-999.000,9,-999.000,   9.000,     2.3050,-999.0000, -999.00
32OC19880723,       A16N,     102,          1,         24,         24,2,19880819,       2336,     8.9283,   -28.0967,       4987,  5081.7,  34.8734,2,  34.8720,2,    243.8,2,   244.6,2,   50.60,2,   22.80,2,    0.02,2, -999.00,9,-999.000,9,-999.000,9,-999.000,9,-999.0000,9, -999.00,9,-999.000,9,-999.000,-999.000,     2.2960,-999.0000, -999.00
32OC19880723,       A16N,     102,          1,         99,     -999.0,9,19880819,       2336,     8.9283,   -28.0967,       4987,  5083.4,  34.8733,2,-999.0000,9,    243.8,2,  -999.0,9, -999.00,9, -999.00,9, -999.00,9, -999.00,9,-999.000,9,-999.000,9,-999.000,9,-999.0000,9, -999.00,9,-999.000,9,-999.000,   9.000,     2.2950,-999.0000, -999.00