BOTTLE,20220922CCHSIOAMB
EXPOCODE,SECT_ID,STNNBR,CASTNO,SAMPNO,BTLNBR,BTLNBR_FLAG_W,DATE,TIME,LATITUDE,LONGITUDE,DEPTH,CTDPRS,CTDSAL,CTDSAL_FLAG_W,SALNTY,SALNTY_FLAG_W,CTDOXY,CTDOXY_FLAG_W,OXYGEN,OXYGEN_FLAG_W,SILCAT,SILCAT_FLAG_W,NITRAT,NITRAT_FLAG_W,NITRIT,NITRIT_FLAG_W,PHSPHT,PHSPHT_FLAG_W,CFC-11,CFC-11_FLAG_W,CFC-12,CFC-12_FLAG_W,TRITUM,TRITUM_FLAG_W,HELIUM,HELIUM_FLAG_W,DELHE3,DELHE3_FLAG_W,NEON,NEON_FLAG_W,NEONER,TRITER,CTDTMP,HELIER,DELHER
,,,,,,,,,,,METERS,DBAR,PSS-78,,PSS-78,,UMOL/KG,,UMOL/KG,,UMOL/KG,,UMOL/KG,,UMOL/KG,,UMOL/KG,,PMOL/KG,,PMOL/KG,,TU,,NMOL/KG,,PERCNT,,NMOL/KG,,NMOL/KG,TU,IPTS-68,NMOL/KG,PERCNT
32OC19880723,       A16N,      26,          1,          1,          1,2,19880728,       1148,    52.4850,   -20.0050,       2813,     8.7,  35.3199,2,  35.3060,2,    258.4,2,   265.3,2,    0.20,2,    3.30,2,    0.09,2,    0.29,2,   3.198,2,   1.502,2,-999.000,9,-999.0000,9, -999.00,9,-999.000,9,-999.000,   9.000,    12.8330,-999.0000, -999.00
32OC19880723,       A16N,      26,          1,          2,          2,2,19880728,       1148,    52.4850,   -20.0050,       2813,    34.3,  35.3165,2,  35.3030,2,    263.3,2,   265.3,2,    0.00,2,    3.40,2,    0.10,2,    0.30,2,-999.000,9,-999.000,9,-999.000,9,-999.0000,9, -999.00,9,-999.000,9,-999.000,-999.000,    12.8020,-999.0000, -999.00
32OC19880723,       A16N,      26,          1,          3,          3,2,19880728,       1148,    52.4850,   -20.0050,       2813,    64.6,  35.3316,2,  35.3180,2,    262.0,2,   260.1,2,    0.50,2,    4.90,2,    0.22,2,    0.38,2,   3.207,2,   1.492,2,-999.000,9,-999.0000,9, -999.00,9,-999.000,9,-999.000,   9.000,    12.1720,-999.0000, -999.00
32OC19880723,       A16N,      26,          1,          4,          4,2,19880728,       1148,    52.4850,   -20.0050,       2813,   106.2,  35.3626,2,  35.3390,2,    252.1,2,   249.6,2,    4.80,2,   12.70,2,    0.03,2,    0.75,2,-999.000,9,-999.000,9,-999.000,9,-999.0000,9, -999.00,9,-999.000,9,-999.000,-999.000,    10.1660,-999.0000, -999.00
32OC19880723,       A16N,      26,          1,          5,          5,2,19880728,       1148,    52.4850,   -20.0050,       2813,   156.6,  35.2900,2,  35.2660,2,    250.2,2,   250.4,2,    6.10,2,   13.80,2,    0.03,2,    0.93,2,   3.044,2,   1.421,2,-999.000,9,-999.0000,9, -999.00,9,-999.000,9,-999.000,   9.000,     9.5800,-999.0000, -999.00
32OC19880723,       A16N,      26,          1,          6,          6,2,19880728,       1148,    52.4850,   -20.0050,       2813,   207.1,  35.2402,2,  35.2870,2,    255.2,2,   258.2,2,    5.50,2,   12.90,2,    0.01,2,    0.77,2,-999.000,9,-999.000,9,-999.000,9,-999.0000,9, -999.00,9,-999.000,9,-999.000,-999.000,     9.5650,-999.0000, -999.00
32OC19880723,       A16N,      26,          1,          7,          7,2,19880728,       1148,    52.4850,   -20.0050,       2813,   257.2,  35.2543,2,  35.2530,2,    254.2,2,   258.7,2,    5.60,2,   13.00,2,    0.01,2,    0.77,2,   3.147,2,   1.475,2,-999.000,9,-999.0000,9, -999.00,9,-999.000,9,-999.000,   9.000,     9.3150,-999.0000, -999.00
32OC19880723,       A16N,      26,          1,          8,          8,2,19880728,       1148,    52.4850,   -20.0050,       2813,   307.7,  35.1688,2,  35.2320,2,    256.5,2,   255.6,2,    5.90,2,   13.30,2,    0.01,2,    0.81,2,-999.000,9,-999.000,9,-999.000,9,-999.0000,9, -999.00,9,-999.000,9,-999.000,-999.000,     9.1170,-999.0000, -999.00
32OC19880723,       A16N,      26,          1,          9,          9,2,19880728,       1148,    52.4850,   -20.0050,       2813,   409.0,  35.0877,2,  35.1720,3,    250.2,2,   236.5,3,    7.60,2,   15.30,2,    0.01,2,    0.94,2,   2.594,2,   1.171,2,-999.000,9,-999.0000,9, -999.00,9,-999.000,9,-999.000,   9.000,     8.5050,-999.0000, -999.00
32OC19880723,       A16N,      26,          1,         10,         10,2,19880728,       1148,    52.4850,   -20.0050,       2813,   409.0,  35.0877,2,  35.1730,3,    250.2,2,   237.3,3,    7.80,2,   15.50,2,    0.01,2,    0.94,2,-999.000,9,-999.000,9,-999.000,9,-999.0000,9, -999.00,9,-999.000,9,-999.000,-999.000,     8.5050,-999.0000, -999.00
32OC19880723,       A16N,      26,          1,         96,     -999.0,9,19880728,       1148,    52.4850,   -20.0050,       2813,   509.3,  34.9871,2,-999.0000,9,    226.6,2,  -999.0,9, -999.00,9, -999.00,9, -999.00,9, -999.00,9,-999.000,9,-999.000,9,-999.000,9,-999.0000,9, -999.00,9,-999.000,9,-999.000,   9.000,     6.9900,-999.0000, -999.00
32OC19880723,       A16N,      26,          1,         11,         11,2,19880728,       1148,    52.4850,   -20.0050,       2813,   609.6,  35.0119,2,  35.0480,2,    219.9,2,   218.2,2,   10.80,2,   18.60,2,    0.01,2,    1.11,2,   1.849,2,   0.754,2,-999.000,9,-999.0000,9, -999.00,9,-999.000,9,-999.000,-999.000,     6.5260,-999.0000, -999.00
32OC19880723,       A16N,      26,          1,         12,         12,2,19880728,       1148,    52.4850,   -20.0050,       2813,   609.6,  35.0119,2,  35.0470,2,    219.9,2,   218.2,2,   10.80,2,   18.70,2,    0.01,2,    1.11,2,-999.000,9,-999.000,9,-999.000,9,-999.0000,9, -999.00,9,-999.000,9,-999.000,   9.000,     6.5260,-999.0000, -999.00
32OC19880723,       A16N,      26,          1,         97,     -999.0,9,19880728,       1148,    52.4850,   -20.0050,       2813,   710.2,  35.0393,2,-999.0000,9,    222.1,2,  -999.0,9, -999.00,9, -999.00,9, -999.00,9, -999.00,9,-999.000,9,-999.000,9,-999.000,9,-999.0000,9, -999.00,9,-999.000,9,-999.000,-999.000,     5.9650,-999.0000, -999.00
32OC19880723,       A16N,      26,          1,         13,         13,2,19880728,       1148,    52.4850,   -20.0050,       2813,   810.6,  35.0816,2,  35.0420,2,    228.5,2,   231.6,2,   11.20,2,   18.60,2,    0.01,2,    1.11,2,   1.583,2,   0.657,2,-999.000,9,-999.0000,9, -999.00,9,-999.000,9,-999.000,   9.000,     5.5500,-999.0000, -999.00
32OC19880723,       A16N,      26,          1,         14,         14,2,19880728,       1148,    52.4850,   -20.0050,       2813,   911.8,  35.0461,2,  35.0480,2,    237.3,2,   238.6,2,   11.00,2,   18.30,2,    0.01,2, -999.00,9,-999.000,9,-999.000,9,-999.000,9,-999.0000,9, -999.00,9,-999.000,9,-999.000,-999.000,     5.2860,-999.0000, -999.00
32OC19880723,       A16N,      26,          1,         15,         15,2,19880728,       1148,    52.4850,   -20.0050,       2813,  1013.3,  35.0081,2,  35.0170,2,    249.0,2,   248.1,2,   11.00,2,   18.00,2,    0.01,2,    1.11,2,   1.450,2,   0.611,2,-999.000,9,-999.0000,9, -999.00,9,-999.000,9,-999.000,   9.000,     4.9230,-999.0000, -999.00
32OC19880723,       A16N,      26,          1,         16,         16,2,19880728,       1148,    52.4850,   -20.0050,       2813,  1114.6,  34.9731,2,  34.9810,2,    256.6,2,   256.4,2,   10.80,2,   17.70,2,    0.01,2,    1.07,2,-999.000,9,-999.000,9,-999.000,9,-999.0000,9, -999.00,9,-999.000,9,-999.000,-999.000,     4.5340,-999.0000, -999.00
32OC19880723,       A16N,      26,          1,         17,         17,2,19880728,       1148,    52.4850,   -20.0050,       2813,  1317.6,  34.9387,2,  34.9340,2,    268.1,2,   269.0,2,   10.80,2,   17.40,2,    0.00,2,    1.06,2,-999.000,9,-999.000,9,-999.000,9,-999.0000,9, -999.00,9,-999.000,9,-999.000,   9.000,     3.9650,-999.0000, -999.00
32OC19880723,       A16N,      26,          1,         18,         18,2,19880728,       1148,    52.4850,   -20.0050,       2813,  1520.6,  34.9255,2,  34.9240,2,    273.8,2,   274.2,2,   11.20,2,   17.20,2,    0.00,2,    1.05,2,   1.218,2,   0.514,2,-999.000,9,-999.0000,9, -999.00,9,-999.000,9,-999.000,-999.000,     3.7260,-999.0000, -999.00
32OC19880723,       A16N,      26,          1,         19,         19,2,19880728,       1148,    52.4850,   -20.0050,       2813,  1520.6,  34.9255,2,  34.9240,2,    273.8,2,   274.6,2,   11.20,2,   17.10,2,    0.00,2,    1.04,2,-999.000,9,-999.000,9,-999.000,9,-999.0000,9, -999.00,9,-999.000,9,-999.000,   9.000,     3.7260,-999.0000, -999.00
32OC19880723,       A16N,      26,          1,         98,     -999.0,9,19880728,       1148,    52.4850,   -20.0050,       2813,  1723.5,  34.9406,2,-999.0000,9,    271.0,2,  -999.0,9, -999.00,9, -999.00,9, -999.00,9, -999.00,9,-999.000,9,-999.000,9,-999.000,9,-999.0000,9, -999.00,9,-999.000,9,-999.000,-999.000,     3.6430,-999.0000, -999.00
32OC19880723,       A16N,      26,          1,         20,         20,2,19880728,       1148,    52.4850,   -20.0050,       2813,  2028.1,  34.9508,2,  34.9520,2,    269.3,2,   268.1,2,   15.60,2,   17.50,2,    0.00,2,    1.08,2,-999.000,9,-999.000,9,-999.000,9,-999.0000,9, -999.00,9,-999.000,9,-999.000,   9.000,     3.4310,-999.0000, -999.00
32OC19880723,       A16N,      26,          1,         21,         21,2,19880728,       1148,    52.4850,   -20.0050,       2813,  2333.2,  34.9522,2,  34.9520,2,    263.0,2,   264.2,2,   20.60,2,   17.90,2,    0.00,2,    1.08,2,   0.442,2,   0.177,2,-999.000,9,-999.0000,9, -999.00,9,-999.000,9,-999.000,-999.000,     3.0650,-999.0000, -999.00
32OC19880723,       A16N,      26,          1,         23,         23,2,19880728,       1148,    52.4850,   -20.0050,       2813,  2536.5,  34.9535,2,-999.0000,9,    265.1,2,   263.3,2,   22.50,2,   18.20,2,    0.00,2,    1.12,2,   0.586,2,   0.223,2,-999.000,9,-999.0000,9, -999.00,9,-999.000,9,-999.000,   9.000,     2.8880,-999.0000, -999.00
32OC19880723,       A16N,      26,          1,         22,         22,2,19880728,       1148,    52.4850,   -20.0050,       2813,  2536.5,  34.9535,2,  34.9520,2,    265.1,2,   263.3,2,   22.50,2,   17.80,2,    0.00,2,    1.12,2,-999.000,9,-999.000,9,-999.000,9,-999.0000,9, -999.00,9,-999.000,9,-999.000,-999.000,     2.8880,-999.0000, -999.00
32OC19880723,       A16N,      26,          1,         24,         24,2,19880728,       1148,    52.4850,   -20.0050,       2813,  2739.0,  34.9423,2,  34.9420,2,    255.0,2,   256.3,2,   29.60,2,   19.20,2,    0.00,2,    1.21,2,   0.376,2,   0.158,2,-999.000,9,-999.0000,9, -999.00,9,-999.000,9,-999.000,   9.000,     2.7060,-999.0000, -999.00
32OC19880723,       A16N,      26,          1,         99,     -999.0,9,19880728,       1148,    52.4850,   -20.0050,       2813,  2852.1,  34.9127,2,-999.0000,9,    235.4,2,  -999.0,9, -999.00,9, -999.00,9, -999.00,9, -999.00,9,-999.000,9,-999.000,9,-999.000,9,-999.0000,9, -999.00,9,-999.000,9,-999.000,-999.000,     2.4370,-999.0000, -999.00
32OC19880723,       A16N,      27,          1,          1,          1,2,19880728,       1623,    51.9850,   -19.9933,       3727,     3.5,  35.3259,2,  35.3260,2,    268.3,2,   267.5,2,    0.30,2,    2.60,2,    0.07,2, -999.00,9,-999.000,9,-999.000,9,-999.000,9,-999.0000,9, -999.00,9,-999.000,9,-999.000,   9.000,    13.0060,-999.0000, -999.00
32OC19880723,       A16N,      27,          1,          2,          2,2,19880728,       1623,    51.9850,   -19.9933,       3727,    37.7,  35.3314,2,  35.3350,2,    267.0,2,   263.2,2,    0.40,2,    2.90,2,    0.08,2, -999.00,9,-999.000,9,-999.000,9,-999.000,9,-999.0000,9, -999.00,9,-999.000,9,-999.000,-999.000,    12.8630,-999.0000, -999.00
32OC19880723,       A16N,      27,          1,          3,          3,2,19880728,       1623,    51.9850,   -19.9933,       3727,    67.9,  35.6033,2,  35.6150,2,    244.5,2,   243.1,2,    2.90,2,    9.80,2,    0.02,2, -999.00,9,-999.000,9,-999.000,9,-999.000,9,-999.0000,9, -999.00,9,-999.000,9,-999.000,   9.000,    12.1650,-999.0000, -999.00
32OC19880723,       A16N,      27,          1,          4,          4,2,19880728,       1623,    51.9850,   -19.9933,       3727,   108.2,  35.5008,2,  35.5010,2,    238.4,2,   237.4,2,    5.40,2,   12.40,2,    0.02,2, -999.00,9,-999.000,9,-999.000,9,-999.000,9,-999.0000,9, -999.00,9,-999.000,9,-999.000,-999.000,    11.2170,-999.0000, -999.00
32OC19880723,       A16N,      27,          1,          5,          5,2,19880728,       1623,    51.9850,   -19.9933,       3727,   158.4,  35.4675,2,  35.4430,2,    247.2,2,   250.9,2,    4.50,2,   11.70,2,    0.01,2, -999.00,9,-999.000,9,-999.000,9,-999.000,9,-999.0000,9, -999.00,9,-999.000,9,-999.000,   9.000,    10.6980,-999.0000, -999.00
32OC19880723,       A16N,      27,          1,          6,          6,2,19880728,       1623,    51.9850,   -19.9933,       3727,   207.4,  35.4253,2,  35.4100,2,    252.3,2,   251.3,2,    5.20,2,   12.00,2,    0.02,2, -999.00,9,-999.000,9,-999.000,9,-999.000,9,-999.0000,9, -999.00,9,-999.000,9,-999.000,-999.000,    10.4230,-999.0000, -999.00
32OC19880723,       A16N,      27,          1,          7,          7,2,19880728,       1623,    51.9850,   -19.9933,       3727,   304.7,  35.3712,2,  35.3750,2,    254.8,2,   253.5,2,    5.40,2,   12.00,2,    0.01,2, -999.00,9,-999.000,9,-999.000,9,-999.000,9,-999.0000,9, -999.00,9,-999.000,9,-999.000,   9.000,    10.0930,-999.0000, -999.00
32OC19880723,       A16N,      27,          1,          8,          8,2,19880728,       1623,    51.9850,   -19.9933,       3727,   304.7,  35.3712,2,  35.3750,2,    254.8,2,   253.5,2,    5.50,2,   12.10,2,    0.02,2, -999.00,9,-999.000,9,-999.000,9,-999.000,9,-999.0000,9, -999.00,9,-999.000,9,-999.000,-999.000,    10.0930,-999.0000, -999.00
32OC19880723,       A16N,      27,          1,          9,          9,2,19880728,       1623,    51.9850,   -19.9933,       3727,   508.1,  35.2724,2,  35.2880,2,    236.4,2,   236.9,2,    7.20,2,   14.40,2,    0.02,2, -999.00,9,-999.000,9,-999.000,9,-999.000,9,-999.0000,9, -999.00,9,-999.000,9,-999.000,   9.000,     9.2600,-999.0000, -999.00
32OC19880723,       A16N,      27,          1,         10,         10,2,19880728,       1623,    51.9850,   -19.9933,       3727,   609.2,  35.1834,2,  35.1090,2,    211.5,2,   211.3,2,   10.50,2,   18.10,2,    0.04,2, -999.00,9,-999.000,9,-999.000,9,-999.000,9,-999.0000,9, -999.00,9,-999.000,9,-999.000,-999.000,     7.8630,-999.0000, -999.00
32OC19880723,       A16N,      27,          1,         11,         11,2,19880728,       1623,    51.9850,   -19.9933,       3727,   709.7,  35.0894,2,  35.0920,2,    214.6,2,   213.4,2,   11.40,2,   18.60,2,    0.07,2, -999.00,9,-999.000,9,-999.000,9,-999.000,9,-999.0000,9, -999.00,9,-999.000,9,-999.000,   9.000,     6.8980,-999.0000, -999.00
32OC19880723,       A16N,      27,          1,         12,         12,2,19880728,       1623,    51.9850,   -19.9933,       3727,   709.7,  35.0894,2,  35.0930,2,    214.6,2,   213.8,2,   11.50,2,   18.70,2,    0.06,2, -999.00,9,-999.000,9,-999.000,9,-999.000,9,-999.0000,9, -999.00,9,-999.000,9,-999.000,-999.000,     6.8980,-999.0000, -999.00
32OC19880723,       A16N,      27,          1,         13,         13,2,19880728,       1623,    51.9850,   -19.9933,       3727,   912.1,  35.0007,2,  34.9870,2,    233.8,2,   234.7,2,   12.00,2,   18.60,2,    0.06,2, -999.00,9,-999.000,9,-999.000,9,-999.000,9,-999.0000,9, -999.00,9,-999.000,9,-999.000,   9.000,     5.2860,-999.0000, -999.00
32OC19880723,       A16N,      27,          1,         14,         14,2,19880728,       1623,    51.9850,   -19.9933,       3727,  1014.0,  34.9598,2,  34.9670,2,    245.8,2,   246.0,2,   11.80,2,   18.20,2,    0.06,2, -999.00,9,-999.000,9,-999.000,9,-999.000,9,-999.0000,9, -999.00,9,-999.000,9,-999.000,-999.000,     4.8130,-999.0000, -999.00
32OC19880723,       A16N,      27,          1,         15,         15,2,19880728,       1623,    51.9850,   -19.9933,       3727,  1014.0,  34.9598,2,  34.9670,2,    245.8,2,   246.0,2,   11.70,2,   18.40,2,    0.06,2, -999.00,9,-999.000,9,-999.000,9,-999.000,9,-999.0000,9, -999.00,9,-999.000,9,-999.000,   9.000,     4.8130,-999.0000, -999.00
32OC19880723,       A16N,      27,          1,         16,         16,2,19880728,       1623,    51.9850,   -19.9933,       3727,  1419.6,  34.9043,2,  34.9070,2,    271.3,2,   274.2,2,   11.20,2,   17.30,2,    0.06,2, -999.00,9,-999.000,9,-999.000,9,-999.000,9,-999.0000,9, -999.00,9,-999.000,9,-999.000,-999.000,     3.8510,-999.0000, -999.00
32OC19880723,       A16N,      27,          1,         17,         17,2,19880728,       1623,    51.9850,   -19.9933,       3727,  1723.2,  34.8921,2,  34.8940,2,    279.3,2,   280.7,2,   11.40,2,   17.00,2,    0.06,2, -999.00,9,-999.000,9,-999.000,9,-999.000,9,-999.0000,9, -999.00,9,-999.000,9,-999.000,   9.000,     3.5650,-999.0000, -999.00
32OC19880723,       A16N,      27,          1,         18,         18,2,19880728,       1623,    51.9850,   -19.9933,       3727,  2024.2,  34.9171,2,  34.9170,2,    276.8,2,   276.8,2,   12.40,2,   16.80,2,    0.06,2, -999.00,9,   1.172,4,   0.463,4,-999.000,9,-999.0000,9, -999.00,9,-999.000,9,-999.000,-999.000,     3.5300,-999.0000, -999.00
32OC19880723,       A16N,      27,          1,         19,         19,2,19880728,       1623,    51.9850,   -19.9933,       3727,  2024.2,  34.9171,2,  34.9180,2,    276.8,2,   277.2,2,   12.50,2,   16.90,2,    0.05,2, -999.00,9,   1.114,2,   0.472,2,-999.000,9,-999.0000,9, -999.00,9,-999.000,9,-999.000,   9.000,     3.5300,-999.0000, -999.00
32OC19880723,       A16N,      27,          1,         20,         20,2,19880728,       1623,    51.9850,   -19.9933,       3727,  2329.3,  34.9436,2,  34.9440,2,    273.3,2,   271.6,2,   14.40,2,   17.20,2,    0.05,2, -999.00,9,   0.600,2,   0.324,2,-999.000,9,-999.0000,9, -999.00,9,-999.000,9,-999.000,-999.000,     3.4230,-999.0000, -999.00
32OC19880723,       A16N,      27,          1,         98,     -999.0,9,19880728,       1623,    51.9850,   -19.9933,       3727,  2635.4,  34.9529,2,-999.0000,9,    269.6,2,  -999.0,9, -999.00,9, -999.00,9, -999.00,9, -999.00,9,-999.000,9,-999.000,9,-999.000,9,-999.0000,9, -999.00,9,-999.000,9,-999.000,   9.000,     3.1820,-999.0000, -999.00
32OC19880723,       A16N,      27,          1,         22,         22,2,19880728,       1623,    51.9850,   -19.9933,       3727,  2943.0,  34.9495,2,  34.9510,2,    261.7,2,   260.3,2,   25.40,2,   18.50,2,    0.05,2, -999.00,9,   0.501,4,   0.211,4,-999.000,9,-999.0000,9, -999.00,9,-999.000,9,-999.000,-999.000,     2.9250,-999.0000, -999.00
32OC19880723,       A16N,      27,          1,         21,         21,2,19880728,       1623,    51.9850,   -19.9933,       3727,  2943.0,  34.9495,2,  34.9510,2,    261.7,2,   261.1,2,   25.20,2,   18.40,2,    0.05,2, -999.00,9,   0.518,2,   0.241,2,-999.000,9,-999.0000,9, -999.00,9,-999.000,9,-999.000,   9.000,     2.9250,-999.0000, -999.00
32OC19880723,       A16N,      27,          1,         23,         23,2,19880728,       1623,    51.9850,   -19.9933,       3727,  3250.0,  34.9384,2,  34.9370,2,    255.5,2,   254.2,2,   32.20,2,   19.40,2,    0.05,2, -999.00,9,   0.506,4,   0.151,4,-999.000,9,-999.0000,9, -999.00,9,-999.000,9,-999.000,-999.000,     2.7290,-999.0000, -999.00
32OC19880723,       A16N,      27,          1,         24,         24,2,19880728,       1623,    51.9850,   -19.9933,       3727,  3791.8,  34.9102,2,  34.9140,2,    242.3,2,   242.9,2,   42.80,2,   21.70,2,    0.05,2, -999.00,9,   0.316,4,   0.055,4,-999.000,9,-999.0000,9, -999.00,9,-999.000,9,-999.000,   9.000,     2.5010,-999.0000, -999.00
32OC19880723,       A16N,      27,          1,         99,     -999.0,9,19880728,       1623,    51.9850,   -19.9933,       3727,  3795.1,  34.9101,2,-999.0000,9,    242.2,2,  -999.0,9, -999.00,9, -999.00,9, -999.00,9, -999.00,9,-999.000,9,-999.000,9,-999.000,9,-999.0000,9, -999.00,9,-999.000,9,-999.000,-999.000,     2.5010,-999.0000, -999.00