BOTTLE,20220922CCHSIOAMB
EXPOCODE,SECT_ID,STNNBR,CASTNO,SAMPNO,BTLNBR,BTLNBR_FLAG_W,DATE,TIME,LATITUDE,LONGITUDE,DEPTH,CTDPRS,CTDSAL,CTDSAL_FLAG_W,SALNTY,SALNTY_FLAG_W,CTDOXY,CTDOXY_FLAG_W,OXYGEN,OXYGEN_FLAG_W,SILCAT,SILCAT_FLAG_W,NITRAT,NITRAT_FLAG_W,NITRIT,NITRIT_FLAG_W,PHSPHT,PHSPHT_FLAG_W,CFC-11,CFC-11_FLAG_W,CFC-12,CFC-12_FLAG_W,TRITUM,TRITUM_FLAG_W,HELIUM,HELIUM_FLAG_W,DELHE3,DELHE3_FLAG_W,NEON,NEON_FLAG_W,NEONER,TRITER,CTDTMP,HELIER,DELHER
,,,,,,,,,,,METERS,DBAR,PSS-78,,PSS-78,,UMOL/KG,,UMOL/KG,,UMOL/KG,,UMOL/KG,,UMOL/KG,,UMOL/KG,,PMOL/KG,,PMOL/KG,,TU,,NMOL/KG,,PERCNT,,NMOL/KG,,NMOL/KG,TU,IPTS-68,NMOL/KG,PERCNT
32OC19880723,       A16N,      62,          1,         12,         12,2,19880805,       0511,    34.6733,   -20.8100,       5154,  1313.1,  35.3950,2,  35.3640,2,    221.1,2,   223.8,2,   11.50,2,   17.70,2,    0.00,2,    1.11,2,-999.000,9,-999.000,9,-999.000,9,-999.0000,9, -999.00,9,-999.000,9,-999.000,   9.000,     6.4600,-999.0000, -999.00
32OC19880723,       A16N,      62,          1,         13,         13,2,19880805,       0511,    34.6733,   -20.8100,       5154,  1565.2,  35.1940,2,  35.1890,2,    245.2,2,   243.8,2,   12.00,2,   17.60,2,    0.01,2,    1.11,2,-999.000,9,-999.000,9,-999.000,9,-999.0000,9, -999.00,9,-999.000,9,-999.000,-999.000,     5.1250,-999.0000, -999.00
32OC19880723,       A16N,      62,          1,         15,         15,2,19880805,       0511,    34.6733,   -20.8100,       5154,  1817.7,  35.0836,2,  35.0860,2,    255.6,2,   254.2,2,   13.40,2,   17.50,2,    0.00,2,    1.12,2,   0.199,6,   0.087,6,-999.000,9,-999.0000,9, -999.00,9,-999.000,9,-999.000,   9.000,     4.3450,-999.0000, -999.00
32OC19880723,       A16N,      62,          1,         14,         14,2,19880805,       0511,    34.6733,   -20.8100,       5154,  1817.7,  35.0836,2,  35.0870,2,    255.6,2,   254.2,2,   13.40,2,   17.50,2,    0.02,2,    1.13,2,-999.000,9,-999.000,9,-999.000,9,-999.0000,9, -999.00,9,-999.000,9,-999.000,-999.000,     4.3450,-999.0000, -999.00
32OC19880723,       A16N,      62,          1,         16,         16,2,19880805,       0511,    34.6733,   -20.8100,       5154,  2524.3,  34.9660,2,-999.0000,9,    257.5,2,  -999.0,9, -999.00,9, -999.00,9, -999.00,9, -999.00,9,-999.000,9,-999.000,9,-999.000,9,-999.0000,9, -999.00,9,-999.000,9,-999.000,   9.000,     3.1140,-999.0000, -999.00
32OC19880723,       A16N,      62,          1,         17,         17,2,19880805,       0511,    34.6733,   -20.8100,       5154,  2929.7,  34.9465,2,  34.9460,2,    252.0,2,   251.6,2,   29.80,2,   20.00,2,    0.00,2,    1.25,2,   0.100,6,   0.025,6,-999.000,9,-999.0000,9, -999.00,9,-999.000,9,-999.000,-999.000,     2.8430,-999.0000, -999.00
32OC19880723,       A16N,      62,          1,         18,         18,2,19880805,       0511,    34.6733,   -20.8100,       5154,  2929.7,  34.9465,2,  34.9450,2,    252.0,2,   251.6,2,   30.20,2,   20.20,2,    0.02,2,    1.26,2,   0.051,6,   0.030,6,-999.000,9,-999.0000,9, -999.00,9,-999.000,9,-999.000,   9.000,     2.8430,-999.0000, -999.00
32OC19880723,       A16N,      62,          1,         19,         19,2,19880805,       0511,    34.6733,   -20.8100,       5154,  3640.8,  34.9185,2,  34.9180,2,    245.1,2,   245.9,2,   38.90,2,   21.40,2,    0.02,2,    1.34,2,   0.017,6,   0.004,6,-999.000,9,-999.0000,9, -999.00,9,-999.000,9,-999.000,-999.000,     2.5870,-999.0000, -999.00
32OC19880723,       A16N,      62,          1,         20,         20,2,19880805,       0511,    34.6733,   -20.8100,       5154,  3996.7,  34.9071,2,  34.9090,2,    245.2,2,   245.5,2,   41.80,2,   22.00,2,    0.02,2,    1.37,2,   0.033,6,   0.008,6,-999.000,9,-999.0000,9, -999.00,9,-999.000,9,-999.000,   9.000,     2.5130,-999.0000, -999.00
32OC19880723,       A16N,      62,          1,         21,         21,2,19880805,       0511,    34.6733,   -20.8100,       5154,  4353.9,  34.8984,2,  34.9000,2,    245.3,2,   245.9,2,   43.70,2,   22.30,2,    0.01,2,    1.39,2,   0.007,6,   0.005,6,-999.000,9,-999.0000,9, -999.00,9,-999.000,9,-999.000,-999.000,     2.4670,-999.0000, -999.00
32OC19880723,       A16N,      62,          1,         22,         22,2,19880805,       0511,    34.6733,   -20.8100,       5154,  4712.8,  34.8929,2,  34.8940,2,    245.5,2,   245.5,2,   45.20,2,   22.50,2,    0.01,2,    1.39,2,   0.012,2,   0.010,6,-999.000,9,-999.0000,9, -999.00,9,-999.000,9,-999.000,   9.000,     2.4550,-999.0000, -999.00
32OC19880723,       A16N,      62,          1,         23,         23,2,19880805,       0511,    34.6733,   -20.8100,       5154,  5071.3,  34.8902,2,  34.8890,2,    246.3,2,   245.9,2,   45.80,2,   22.60,2,    0.01,2,    1.40,2,   0.024,6,   0.005,6,-999.000,9,-999.0000,9, -999.00,9,-999.000,9,-999.000,-999.000,     2.4720,-999.0000, -999.00
32OC19880723,       A16N,      62,          1,         24,         24,2,19880805,       0511,    34.6733,   -20.8100,       5154,  5250.0,  34.8890,2,  34.8890,2,    245.5,2,   245.5,2,   45.80,2,   22.10,2,    0.07,2,    1.39,2,   0.073,4,   0.007,6,-999.000,9,-999.0000,9, -999.00,9,-999.000,9,-999.000,   9.000,     2.4870,-999.0000, -999.00
32OC19880723,       A16N,      62,          1,         99,     -999.0,9,19880805,       0511,    34.6733,   -20.8100,       5154,  5251.5,  34.8890,2,-999.0000,9,    245.5,2,  -999.0,9, -999.00,9, -999.00,9, -999.00,9, -999.00,9,-999.000,9,-999.000,9,-999.000,9,-999.0000,9, -999.00,9,-999.000,9,-999.000,-999.000,     2.4870,-999.0000, -999.00
32OC19880723,       A16N,      62,          2,          9,          9,2,19880805,       2347,    34.6733,   -20.8100,       5154,     2.5,  36.6892,2,  36.5760,2,    222.9,2,   221.3,2,    0.30,2,    0.00,2,    0.00,2,    0.09,2,-999.000,9,-999.000,9,-999.000,9,-999.0000,9, -999.00,9,-999.000,9,-999.000,   9.000,    22.7890,-999.0000, -999.00
32OC19880723,       A16N,      62,          2,          8,          8,2,19880805,       2347,    34.6733,   -20.8100,       5154,     2.5,  36.6892,2,-999.0000,9,    222.9,2,   221.3,2,    0.40,2,    0.00,2,    0.00,2,    0.08,2,-999.000,9,-999.000,9,-999.000,9,-999.0000,9, -999.00,9,-999.000,9,-999.000,-999.000,    22.7890,-999.0000, -999.00
32OC19880723,       A16N,      62,          2,         10,         10,2,19880805,       2347,    34.6733,   -20.8100,       5154,     8.4,  36.6872,2,  36.5770,2,    223.7,2,   221.3,2,    0.40,2,    0.00,2,    0.00,2,    0.11,2,-999.000,9,-999.000,9,-999.000,9,-999.0000,9, -999.00,9,-999.000,9,-999.000,   9.000,    22.7560,-999.0000, -999.00
32OC19880723,       A16N,      62,          2,         11,         11,2,19880805,       2347,    34.6733,   -20.8100,       5154,    34.6,  36.6183,2,  36.3310,3,    221.9,2,   238.2,3,    0.40,2,    0.00,2,    0.00,2,    0.11,2,-999.000,9,-999.000,9,-999.000,9,-999.0000,9, -999.00,9,-999.000,9,-999.000,-999.000,    21.1110,-999.0000, -999.00
32OC19880723,       A16N,      62,          2,         12,         12,2,19880805,       2347,    34.6733,   -20.8100,       5154,    64.6,  36.1859,2,  36.2330,2,    261.0,2,   256.3,2,    0.40,2,    0.10,2,    0.09,2,    0.11,2,-999.000,9,-999.000,9,-999.000,9,-999.0000,9, -999.00,9,-999.000,9,-999.000,   9.000,    18.1650,-999.0000, -999.00
32OC19880723,       A16N,      62,          2,         13,         13,2,19880805,       2347,    34.6733,   -20.8100,       5154,   104.8,  36.1405,2,  36.1600,2,    235.2,2,   233.6,2,    1.40,2,    4.90,2,    0.02,2,    0.33,2,-999.000,9,-999.000,9,-999.000,9,-999.0000,9, -999.00,9,-999.000,9,-999.000,-999.000,    16.0500,-999.0000, -999.00
32OC19880723,       A16N,      62,          2,         14,         14,2,19880805,       2347,    34.6733,   -20.8100,       5154,   154.9,  36.0455,2,  36.0250,2,    232.1,2,   222.7,2,    1.70,2,    6.00,2,    0.00,2,    0.39,2,-999.000,9,-999.000,9,-999.000,9,-999.0000,9, -999.00,9,-999.000,9,-999.000,   9.000,    15.1010,-999.0000, -999.00
32OC19880723,       A16N,      62,          2,         15,         15,2,19880805,       2347,    34.6733,   -20.8100,       5154,   205.0,  35.9117,2,  35.9290,2,    223.6,2,   226.2,2,    3.00,2,    9.50,2,    0.00,2,    0.58,2,-999.000,9,-999.000,9,-999.000,9,-999.0000,9, -999.00,9,-999.000,9,-999.000,-999.000,    14.2990,-999.0000, -999.00
32OC19880723,       A16N,      62,          2,         16,         16,2,19880805,       2347,    34.6733,   -20.8100,       5154,   304.1,  35.7652,2,  35.7700,2,    214.7,2,   218.3,2,    4.00,2,   11.50,2,    0.00,2,    0.70,2,-999.000,9,-999.000,9,-999.000,9,-999.0000,9, -999.00,9,-999.000,9,-999.000,   9.000,    13.1940,-999.0000, -999.00
32OC19880723,       A16N,      62,          2,         17,         17,2,19880805,       2347,    34.6733,   -20.8100,       5154,   403.8,  35.6208,2,  35.6570,2,    209.1,2,   214.4,2,    6.20,2,   15.00,2,    0.00,2,    0.93,2,-999.000,9,-999.000,9,-999.000,9,-999.0000,9, -999.00,9,-999.000,9,-999.000,-999.000,    12.3340,-999.0000, -999.00
32OC19880723,       A16N,      62,          2,         18,         18,2,19880805,       2347,    34.6733,   -20.8100,       5154,   503.2,  35.5208,2,  35.5450,2,    216.5,2,   196.1,3,    6.90,2,   16.00,2,    0.00,2,    0.99,2,-999.000,9,-999.000,9,-999.000,9,-999.0000,9, -999.00,9,-999.000,9,-999.000,   9.000,    11.4620,-999.0000, -999.00
32OC19880723,       A16N,      62,          2,         19,         19,2,19880805,       2347,    34.6733,   -20.8100,       5154,   602.3,  35.4873,2,  35.4960,2,    196.7,2,   191.7,2,    8.20,2,   17.10,2,    0.00,2,    1.05,2,-999.000,9,-999.000,9,-999.000,9,-999.0000,9, -999.00,9,-999.000,9,-999.000,-999.000,    10.7470,-999.0000, -999.00
32OC19880723,       A16N,      62,          2,         20,         20,2,19880805,       2347,    34.6733,   -20.8100,       5154,   701.6,  35.5042,2,  35.4560,2,    186.6,2,   192.6,2,   10.00,2,   18.50,2,    0.00,2,    1.13,2,-999.000,9,-999.000,9,-999.000,9,-999.0000,9, -999.00,9,-999.000,9,-999.000,   9.000,     9.9940,-999.0000, -999.00
32OC19880723,       A16N,      62,          2,         21,         21,2,19880805,       2347,    34.6733,   -20.8100,       5154,   800.8,  35.5392,2,  35.5210,2,    181.3,2,   182.1,2,   10.70,2,   18.90,2,    0.00,2,    1.15,2,-999.000,9,-999.000,9,-999.000,9,-999.0000,9, -999.00,9,-999.000,9,-999.000,-999.000,     9.5620,-999.0000, -999.00
32OC19880723,       A16N,      62,          2,         22,         22,2,19880805,       2347,    34.6733,   -20.8100,       5154,   899.6,  35.5244,2,  35.5360,2,    189.9,2,   185.1,2,   10.50,2,   18.00,2,    0.00,2,    1.13,2,-999.000,9,-999.000,9,-999.000,9,-999.0000,9, -999.00,9,-999.000,9,-999.000,   9.000,     9.0300,-999.0000, -999.00
32OC19880723,       A16N,      62,          2,         23,         23,2,19880805,       2347,    34.6733,   -20.8100,       5154,   998.7,  35.5767,2,  35.5370,2,    194.2,2,   194.7,2,   11.10,2,   18.20,2,    0.00,2,    1.13,2,-999.000,9,-999.000,9,-999.000,9,-999.0000,9, -999.00,9,-999.000,9,-999.000,-999.000,     8.5170,-999.0000, -999.00
32OC19880723,       A16N,      62,          2,         24,         24,2,19880805,       2347,    34.6733,   -20.8100,       5154,  1097.7,  35.5381,2,  35.5670,2,    204.7,2,   200.3,2, -999.00,9, -999.00,9, -999.00,9, -999.00,9,-999.000,9,-999.000,9,-999.000,9,-999.0000,9, -999.00,9,-999.000,9,-999.000,   9.000,     8.1550,-999.0000, -999.00
32OC19880723,       A16N,      62,          2,          1,          1,2,19880805,       2347,    34.6733,   -20.8100,       5154,  1197.1,  35.4868,2,-999.0000,9,    211.6,2,  -999.0,9, -999.00,9, -999.00,9, -999.00,9, -999.00,9,-999.000,9,-999.000,9,-999.000,9,-999.0000,9, -999.00,9,-999.000,9,-999.000,-999.000,     7.7200,-999.0000, -999.00