BOTTLE,20220922CCHSIOAMB
EXPOCODE,SECT_ID,STNNBR,CASTNO,SAMPNO,BTLNBR,BTLNBR_FLAG_W,DATE,TIME,LATITUDE,LONGITUDE,DEPTH,CTDPRS,CTDSAL,CTDSAL_FLAG_W,SALNTY,SALNTY_FLAG_W,CTDOXY,CTDOXY_FLAG_W,OXYGEN,OXYGEN_FLAG_W,SILCAT,SILCAT_FLAG_W,NITRAT,NITRAT_FLAG_W,NITRIT,NITRIT_FLAG_W,PHSPHT,PHSPHT_FLAG_W,CFC-11,CFC-11_FLAG_W,CFC-12,CFC-12_FLAG_W,TRITUM,TRITUM_FLAG_W,HELIUM,HELIUM_FLAG_W,DELHE3,DELHE3_FLAG_W,NEON,NEON_FLAG_W,NEONER,TRITER,CTDTMP,HELIER,DELHER
,,,,,,,,,,,METERS,DBAR,PSS-78,,PSS-78,,UMOL/KG,,UMOL/KG,,UMOL/KG,,UMOL/KG,,UMOL/KG,,UMOL/KG,,PMOL/KG,,PMOL/KG,,TU,,NMOL/KG,,PERCNT,,NMOL/KG,,NMOL/KG,TU,IPTS-68,NMOL/KG,PERCNT
32OC19880723,       A16N,      50,          1,          1,          1,2,19880802,       1206,    40.5150,   -20.0300,       4870,    11.1,  35.9446,2,  35.9410,2,    225.8,2,   228.2,2,    0.30,2,    0.00,2,    0.00,2,    0.05,2,   2.330,2,   1.316,4,   2.861,2,   1.7448,2,   -1.23,2,   7.004,2,   0.053,   0.056,    20.7230,   0.0122,    0.18
32OC19880723,       A16N,      50,          1,          2,          2,2,19880802,       1206,    40.5150,   -20.0300,       4870,    37.9,  35.9586,2,  35.9760,2,    248.5,2,   246.8,2,    0.40,2,    0.00,2,    0.00,2,    0.07,2,   2.598,2,   1.241,2,   2.718,2,   1.7527,2,   -1.20,2,   7.123,2,   0.053,   0.053,    18.2640,   0.0123,    0.18
32OC19880723,       A16N,      50,          1,          3,          3,2,19880802,       1206,    40.5150,   -20.0300,       4870,    68.0,  35.9145,2,  35.9150,2,    259.6,2,   255.4,2,    0.50,2,    0.00,2,    0.00,2,    0.08,2,   2.810,2,   1.319,2,   2.721,2,   1.7702,2,   -1.11,2,   7.251,2,   0.054,   0.054,    15.3570,   0.0124,    0.18
32OC19880723,       A16N,      50,          1,          4,          4,2,19880802,       1206,    40.5150,   -20.0300,       4870,   108.0,  35.9244,2,  35.9100,2,    235.5,2,   234.0,2,    1.30,2,    5.50,2,    0.00,2,    0.35,2,   2.759,2,   1.309,2,   2.691,2,   1.7685,2,   -0.41,2,   7.326,2,   0.055,   0.055,    14.2580,   0.0124,    0.18
32OC19880723,       A16N,      50,          1,          5,          5,2,19880802,       1206,    40.5150,   -20.0300,       4870,   148.2,  35.8719,2,  35.8520,2,    235.2,2,   234.4,2,    1.50,2,    6.30,2,    0.00,2,    0.39,2,   2.687,2,   1.288,2,   2.751,2,   1.7658,2,   -0.08,2,   7.353,2,   0.055,   0.054,    13.7500,   0.0124,    0.18
32OC19880723,       A16N,      50,          1,          6,          6,2,19880802,       1206,    40.5150,   -20.0300,       4870,   207.4,  35.7962,2,  35.7770,2,    232.5,2,   232.7,2,    2.30,2,    8.00,2,    0.00,2,    0.46,2,   2.660,6,   1.243,6,   2.662,2,   1.7720,2,    0.70,2,   7.365,2,   0.055,   0.053,    13.2110,   0.0124,    0.18
32OC19880723,       A16N,      50,          1,          7,          7,2,19880802,       1206,    40.5150,   -20.0300,       4870,   307.5,  35.6976,2,  35.6800,2,    229.7,2,   226.1,2,    3.10,2,   10.20,2,    0.00,2,    0.59,2,   2.485,2,   1.156,2,   2.658,2,   1.7740,2,    2.04,2,   7.407,2,   0.056,   0.053,    12.4960,   0.0124,    0.18
32OC19880723,       A16N,      50,          1,          8,          8,2,19880802,       1206,    40.5150,   -20.0300,       4870,   406.6,  35.5950,2,  35.5850,2,    220.3,2,   218.7,2,    4.10,2,   12.10,2,    0.00,2,    0.71,2,   2.181,2,   1.040,2,   2.684,2,   1.7857,2,    3.78,2,   7.427,2,   0.056,   0.054,    11.8030,   0.0125,    0.18
32OC19880723,       A16N,      50,          1,          9,          9,2,19880802,       1206,    40.5150,   -20.0300,       4870,   605.0,  35.4454,2,  35.4430,2,    209.8,2,   209.6,2,    5.90,2,   14.80,2,    0.00,2,    0.88,2,   1.865,2,   0.831,2,   2.393,2,-999.0000,9, -999.00,9,-999.000,9,-999.000,   0.066,    10.5500,-999.0000, -999.00
32OC19880723,       A16N,      50,          1,         10,         10,2,19880802,       1206,    40.5150,   -20.0300,       4870,   805.4,  35.5058,2,  35.5020,2,    188.4,2,   187.8,2,    8.60,2,   17.50,2,    0.00,2,    1.05,2,   0.992,4,   0.417,4,-999.000,9,-999.0000,9, -999.00,9,-999.000,9,-999.000,-999.000,     9.7200,-999.0000, -999.00
32OC19880723,       A16N,      50,          1,         11,         11,2,19880802,       1206,    40.5150,   -20.0300,       4870,  1005.5,  35.5344,2,  35.5380,2,    194.5,2,   195.1,2,   10.10,2,   17.90,2,    0.00,2,    1.07,2,   0.828,4,   0.331,4,   1.153,2,-999.0000,9, -999.00,9,-999.000,9,-999.000,   0.049,     8.6320,-999.0000, -999.00
32OC19880723,       A16N,      50,          1,         12,         12,2,19880802,       1206,    40.5150,   -20.0300,       4870,  1206.8,  35.5427,2,  35.4880,2,    208.6,2,   211.2,2,   10.40,2,   17.60,2,    0.00,2,    1.05,2,   0.731,2,   0.345,2,-999.000,9,-999.0000,9, -999.00,9,-999.000,9,-999.000,   9.000,     7.5660,-999.0000, -999.00
32OC19880723,       A16N,      50,          1,         13,         13,2,19880802,       1206,    40.5150,   -20.0300,       4870,  1408.0,  35.4022,2,  35.3810,2,    224.9,2,   227.2,2,   10.90,2,   17.50,2,    0.00,2,    1.06,2,   0.634,2,   0.270,2,-999.000,9,-999.0000,9, -999.00,9,-999.000,9,-999.000,-999.000,     6.5120,-999.0000, -999.00
32OC19880723,       A16N,      50,          1,         14,         14,2,19880802,       1206,    40.5150,   -20.0300,       4870,  1610.6,  35.2174,2,  35.1980,2,    242.9,2,   245.1,2,   11.40,2,   17.70,2,    0.00,2,    1.09,2,   0.553,2,   0.236,2,-999.000,9,-999.0000,9, -999.00,9,-999.000,9,-999.000,   9.000,     5.2820,-999.0000, -999.00
32OC19880723,       A16N,      50,          1,         15,         15,2,19880802,       1206,    40.5150,   -20.0300,       4870,  1962.5,  35.0512,2,  35.0380,2,    257.9,2,   259.4,2,   13.60,2,   17.60,2,    0.00,2,    1.08,2,   0.280,2,   0.158,2,-999.000,9,-999.0000,9, -999.00,9,-999.000,9,-999.000,-999.000,     4.0880,-999.0000, -999.00
32OC19880723,       A16N,      50,          1,         16,         16,2,19880802,       1206,    40.5150,   -20.0300,       4870,  2319.4,  34.9937,2,  34.9890,2,    260.3,2,   260.7,2,   17.90,2,   18.20,2,    0.00,2,    1.12,2,   0.173,2,   0.066,2,   0.230,2,   1.8322,2,    2.45,2,-999.000,9,  -7.493,   0.033,     3.5160,   0.0128,    0.18
32OC19880723,       A16N,      50,          1,         17,         17,2,19880802,       1206,    40.5150,   -20.0300,       4870,  2675.7,  34.9598,2,  34.9600,2,    259.6,2,   258.5,2,   23.40,2,   18.70,2,    0.01,2,    1.17,2,   0.150,2,   0.050,2,-999.000,9,-999.0000,9, -999.00,9,-999.000,9,-999.000,   9.000,     3.0870,-999.0000, -999.00
32OC19880723,       A16N,      50,          1,         18,         18,2,19880802,       1206,    40.5150,   -20.0300,       4870,  3031.2,  34.9439,2,  34.9450,2,    254.1,2,   252.9,2,   30.20,2,   19.70,2,    0.01,2,    1.27,2,   0.110,2,   0.105,3,-999.000,9,-999.0000,9, -999.00,9,-999.000,9,-999.000,-999.000,     2.8250,-999.0000, -999.00
32OC19880723,       A16N,      50,          1,         19,         19,2,19880802,       1206,    40.5150,   -20.0300,       4870,  3385.4,  34.9300,2,  34.9290,2,    248.7,2,   248.1,2,   36.40,2,   20.60,2,    0.01,2,    1.31,2,   0.086,2,   0.061,3,-999.000,9,   1.8426,2,    2.48,2,-999.000,9,  -7.493,   9.000,     2.6630,   0.0129,    0.18
32OC19880723,       A16N,      50,          1,         20,         20,2,19880802,       1206,    40.5150,   -20.0300,       4870,  3737.8,  34.9174,2,  34.9170,2,    245.5,2,   245.0,2,   39.70,2,   21.50,2,    0.01,2,    1.35,2,   0.070,2,   0.034,2,-999.000,9,-999.0000,9, -999.00,9,-999.000,9,-999.000,-999.000,     2.5910,-999.0000, -999.00
32OC19880723,       A16N,      50,          1,         21,         21,2,19880802,       1206,    40.5150,   -20.0300,       4870,  4095.0,  34.9094,2,  34.9090,2,    244.6,2,   244.6,2,   42.30,2,   21.60,2,    0.01,2,    1.38,2,   0.059,2,   0.030,2,-999.000,9,-999.0000,9, -999.00,9,-999.000,9,-999.000,   9.000,     2.5520,-999.0000, -999.00
32OC19880723,       A16N,      50,          1,         22,         22,2,19880802,       1206,    40.5150,   -20.0300,       4870,  4450.0,  34.9013,2,  34.9020,2,    244.2,2,   244.6,2,   43.80,2,   21.80,2,    0.00,2,    1.39,2,   0.030,3,   0.042,2,   0.034,2,   1.8494,2,    2.37,2,-999.000,9,  -7.493,   0.033,     2.5200,   0.0129,    0.18
32OC19880723,       A16N,      50,          1,         23,         23,2,19880802,       1206,    40.5150,   -20.0300,       4870,  4808.3,  34.8987,2,  34.9010,2,    243.8,2,   243.7,2,   44.70,2,   22.00,2,    0.01,2,    1.39,2,   0.012,2,   0.003,3,-999.000,9,-999.0000,9, -999.00,9,-999.000,9,-999.000,-999.000,     2.5400,-999.0000, -999.00
32OC19880723,       A16N,      50,          1,         24,         24,2,19880802,       1206,    40.5150,   -20.0300,       4870,  4937.1,  34.8980,2,  34.9020,2,    243.9,2,   243.3,2,   44.70,2,   22.20,2,    0.01,2,    1.39,2,   0.040,6,   0.029,6,-999.000,9,-999.0000,9, -999.00,9,-999.000,9,-999.000,   9.000,     2.5460,-999.0000, -999.00
32OC19880723,       A16N,      50,          1,         99,     -999.0,9,19880802,       1206,    40.5150,   -20.0300,       4870,  4938.4,  34.8980,2,-999.0000,9,    243.9,2,  -999.0,9, -999.00,9, -999.00,9, -999.00,9, -999.00,9,-999.000,9,-999.000,9,-999.000,9,-999.0000,9, -999.00,9,-999.000,9,-999.000,-999.000,     2.5470,-999.0000, -999.00
32OC19880723,       A16N,      51,          1,          1,          1,2,19880802,       1653,    40.0183,   -19.9950,       4655,     5.1,  35.9778,2,  35.9720,2,    229.1,2,   229.1,2,    0.60,2,    0.00,2,    0.00,2,    0.08,2,-999.000,9,-999.000,9,-999.000,9,-999.0000,9, -999.00,9,-999.000,9,-999.000,   9.000,    20.8690,-999.0000, -999.00
32OC19880723,       A16N,      51,          1,          2,          2,2,19880802,       1653,    40.0183,   -19.9950,       4655,    37.6,  35.8924,2,  35.9860,2,    237.1,2,   245.1,2,    0.60,2,    0.00,2,    0.01,2,    0.07,2,-999.000,9,-999.000,9,-999.000,9,-999.0000,9, -999.00,9,-999.000,9,-999.000,-999.000,    18.5050,-999.0000, -999.00
32OC19880723,       A16N,      51,          1,          3,          3,2,19880802,       1653,    40.0183,   -19.9950,       4655,    67.0,  35.9064,2,  35.9040,2,    255.9,2,   260.1,2,    0.60,2,    0.00,2,    0.00,2,    0.07,2,-999.000,9,-999.000,9,-999.000,9,-999.0000,9, -999.00,9,-999.000,9,-999.000,   9.000,    15.3500,-999.0000, -999.00
32OC19880723,       A16N,      51,          1,          4,          4,2,19880802,       1653,    40.0183,   -19.9950,       4655,   106.8,  35.9197,2,  35.9270,2,    234.5,2,   234.0,2,    1.30,2,    5.00,2,    0.05,2,    0.30,2,-999.000,9,-999.000,9,-999.000,9,-999.0000,9, -999.00,9,-999.000,9,-999.000,-999.000,    14.2880,-999.0000, -999.00
32OC19880723,       A16N,      51,          1,          5,          5,2,19880802,       1653,    40.0183,   -19.9950,       4655,   155.6,  35.8395,2,  35.8640,2,    235.9,2,   237.0,2,    1.30,2,    5.40,2,    0.00,2,    0.31,2,-999.000,9,-999.000,9,-999.000,9,-999.0000,9, -999.00,9,-999.000,9,-999.000,   9.000,    13.8090,-999.0000, -999.00
32OC19880723,       A16N,      51,          1,          6,          6,2,19880802,       1653,    40.0183,   -19.9950,       4655,   203.6,  35.7795,2,  35.8040,2,    233.5,2,   231.8,2,    2.10,2,    7.60,2,    0.00,2,    0.44,2,-999.000,9,-999.000,9,-999.000,9,-999.0000,9, -999.00,9,-999.000,9,-999.000,-999.000,    13.3970,-999.0000, -999.00
32OC19880723,       A16N,      51,          1,          7,          7,2,19880802,       1653,    40.0183,   -19.9950,       4655,   299.7,  35.6743,2,  35.6960,2,    219.7,2,   219.6,2,    3.20,2,   10.60,2,    0.00,2,    0.60,2,-999.000,9,-999.000,9,-999.000,9,-999.0000,9, -999.00,9,-999.000,9,-999.000,   9.000,    12.5980,-999.0000, -999.00
32OC19880723,       A16N,      51,          1,          8,          8,2,19880802,       1653,    40.0183,   -19.9950,       4655,   396.4,  35.5932,2,  35.6120,2,    219.7,2,   216.1,2,    3.80,2,   12.00,2,    0.00,2, -999.00,9,-999.000,9,-999.000,9,-999.000,9,-999.0000,9, -999.00,9,-999.000,9,-999.000,-999.000,    11.9140,-999.0000, -999.00
32OC19880723,       A16N,      51,          1,          9,          9,2,19880802,       1653,    40.0183,   -19.9950,       4655,   496.0,  35.5185,2,  35.5580,2,    213.6,2,   213.5,2,    4.50,2,   13.30,2,    0.00,2,    0.79,2,-999.000,9,-999.000,9,-999.000,9,-999.0000,9, -999.00,9,-999.000,9,-999.000,   9.000,    11.4800,-999.0000, -999.00
32OC19880723,       A16N,      51,          1,         10,         10,2,19880802,       1653,    40.0183,   -19.9950,       4655,   597.1,  35.4573,2,  35.4980,2,    206.4,2,   204.3,2,    5.90,2,   15.20,2,    0.00,2,    0.86,2,-999.000,9,-999.000,9,-999.000,9,-999.0000,9, -999.00,9,-999.000,9,-999.000,-999.000,    10.8360,-999.0000, -999.00
32OC19880723,       A16N,      51,          1,         11,         11,2,19880802,       1653,    40.0183,   -19.9950,       4655,   597.1,  35.4573,2,  35.4950,2,    206.4,2,   204.8,2,    5.90,2,   15.00,2,    0.00,2,    0.87,2,-999.000,9,-999.000,9,-999.000,9,-999.0000,9, -999.00,9,-999.000,9,-999.000,   9.000,    10.8360,-999.0000, -999.00
32OC19880723,       A16N,      51,          1,         12,         12,2,19880802,       1653,    40.0183,   -19.9950,       4655,   995.5,  35.6646,2,  35.6350,2,    187.8,2,   189.9,2,    9.90,2,   17.90,2,    0.00,2,    1.06,2,-999.000,9,-999.000,9,-999.000,9,-999.0000,9, -999.00,9,-999.000,9,-999.000,-999.000,     9.2310,-999.0000, -999.00
32OC19880723,       A16N,      51,          1,         13,         13,2,19880802,       1653,    40.0183,   -19.9950,       4655,  1196.0,  35.5903,2,  35.5750,2,    203.8,2,   205.1,2,   10.50,2,   17.80,2,    0.00,2,    1.06,2,-999.000,9,-999.000,9,-999.000,9,-999.0000,9, -999.00,9,-999.000,9,-999.000,   9.000,     8.0670,-999.0000, -999.00
32OC19880723,       A16N,      51,          1,         14,         14,2,19880802,       1653,    40.0183,   -19.9950,       4655,  1495.8,  35.1866,2,  35.2030,2,    238.9,2,   241.2,2,   11.00,2,   18.00,2,    0.00,2,    1.08,2,-999.000,9,-999.000,9,-999.000,9,-999.0000,9, -999.00,9,-999.000,9,-999.000,-999.000,     5.4980,-999.0000, -999.00
32OC19880723,       A16N,      51,          1,         15,         15,2,19880802,       1653,    40.0183,   -19.9950,       4655,  1797.7,  35.0846,2,  35.0760,2,    253.6,2,   256.8,2,   11.80,2,   17.90,2,    0.00,2,    1.07,2,-999.000,9,-999.000,9,-999.000,9,-999.0000,9, -999.00,9,-999.000,9,-999.000,   9.000,     4.4810,-999.0000, -999.00
32OC19880723,       A16N,      51,          1,         16,         16,2,19880802,       1653,    40.0183,   -19.9950,       4655,  2154.0,  35.0233,2,  35.0140,2,    258.5,2,   261.1,2,   14.80,2,   17.90,2,    0.00,2,    1.10,2,-999.000,9,-999.000,9,-999.000,9,-999.0000,9, -999.00,9,-999.000,9,-999.000,-999.000,     3.8530,-999.0000, -999.00
32OC19880723,       A16N,      51,          1,         17,         17,2,19880802,       1653,    40.0183,   -19.9950,       4655,  2503.5,  34.9844,2,  34.9850,2,    258.4,2,   257.6,2,   21.20,2,   18.70,2,    0.00,2,    1.16,2,-999.000,9,-999.000,9,-999.000,9,-999.0000,9, -999.00,9,-999.000,9,-999.000,   9.000,     3.3510,-999.0000, -999.00
32OC19880723,       A16N,      51,          1,         18,         18,2,19880802,       1653,    40.0183,   -19.9950,       4655,  2853.6,  34.9556,2,  34.9550,2,    255.9,2,   256.3,2,   26.80,2,   19.30,2,    0.00,2,    1.21,2,-999.000,9,-999.000,9,-999.000,9,-999.0000,9, -999.00,9,-999.000,9,-999.000,-999.000,     2.9730,-999.0000, -999.00
32OC19880723,       A16N,      51,          1,         19,         19,2,19880802,       1653,    40.0183,   -19.9950,       4655,  3199.6,  34.9394,2,  34.9410,2,    252.4,2,   251.1,2,   32.20,2,   20.40,2,    0.00,2,    1.25,2,-999.000,9,-999.000,9,-999.000,9,-999.0000,9, -999.00,9,-999.000,9,-999.000,   9.000,     2.7750,-999.0000, -999.00
32OC19880723,       A16N,      51,          1,         20,         20,2,19880802,       1653,    40.0183,   -19.9950,       4655,  3549.9,  34.9264,2,  34.9260,2,    247.7,2,   247.2,2,   37.20,2,   20.90,2,    0.00,2,    1.32,2,   0.060,2,  -0.001,2,-999.000,9,-999.0000,9, -999.00,9,-999.000,9,-999.000,-999.000,     2.6470,-999.0000, -999.00
32OC19880723,       A16N,      51,          1,         21,         21,2,19880802,       1653,    40.0183,   -19.9950,       4655,  3908.7,  34.9156,2,  34.9150,2,    245.2,2,   245.0,2,   40.80,2,   21.70,2,    0.00,2,    1.37,2,-999.000,9,-999.000,9,-999.000,9,-999.0000,9, -999.00,9,-999.000,9,-999.000,   9.000,     2.5740,-999.0000, -999.00
32OC19880723,       A16N,      51,          1,         22,         22,2,19880802,       1653,    40.0183,   -19.9950,       4655,  4272.3,  34.9069,2,  34.9070,2,    244.4,2,   244.2,2,   42.70,2,   21.90,2,    0.00,2,    1.37,2,   0.034,6,   0.005,6,-999.000,9,-999.0000,9, -999.00,9,-999.000,9,-999.000,-999.000,     2.5420,-999.0000, -999.00
32OC19880723,       A16N,      51,          1,         23,         23,2,19880802,       1653,    40.0183,   -19.9950,       4655,  4651.2,  34.9024,2,  34.9020,2,    244.2,2,   244.2,2,   43.80,2,   22.30,2,    0.00,2,    1.39,2,   0.010,2,   0.001,6,-999.000,9,-999.0000,9, -999.00,9,-999.000,9,-999.000,   9.000,     2.5370,-999.0000, -999.00
32OC19880723,       A16N,      51,          1,         24,         24,2,19880802,       1653,    40.0183,   -19.9950,       4655,  4863.6,  34.9008,2,  34.9010,2,    243.2,2,   244.6,2,   44.30,2,   22.00,2,    0.00,2,    1.40,2,   0.042,3,   0.007,2,-999.000,9,-999.0000,9, -999.00,9,-999.000,9,-999.000,-999.000,     2.5480,-999.0000, -999.00
32OC19880723,       A16N,      51,          1,         99,     -999.0,9,19880802,       1653,    40.0183,   -19.9950,       4655,  4865.2,  34.9009,2,-999.0000,9,    243.1,2,  -999.0,9, -999.00,9, -999.00,9, -999.00,9, -999.00,9,-999.000,9,-999.000,9,-999.000,9,-999.0000,9, -999.00,9,-999.000,9,-999.000,   9.000,     2.5490,-999.0000, -999.00