BOTTLE,20220922CCHSIOAMB
EXPOCODE,SECT_ID,STNNBR,CASTNO,SAMPNO,BTLNBR,BTLNBR_FLAG_W,DATE,TIME,LATITUDE,LONGITUDE,DEPTH,CTDPRS,CTDSAL,CTDSAL_FLAG_W,SALNTY,SALNTY_FLAG_W,CTDOXY,CTDOXY_FLAG_W,OXYGEN,OXYGEN_FLAG_W,SILCAT,SILCAT_FLAG_W,NITRAT,NITRAT_FLAG_W,NITRIT,NITRIT_FLAG_W,PHSPHT,PHSPHT_FLAG_W,CFC-11,CFC-11_FLAG_W,CFC-12,CFC-12_FLAG_W,TRITUM,TRITUM_FLAG_W,HELIUM,HELIUM_FLAG_W,DELHE3,DELHE3_FLAG_W,NEON,NEON_FLAG_W,NEONER,TRITER,CTDTMP,HELIER,DELHER
,,,,,,,,,,,METERS,DBAR,PSS-78,,PSS-78,,UMOL/KG,,UMOL/KG,,UMOL/KG,,UMOL/KG,,UMOL/KG,,UMOL/KG,,PMOL/KG,,PMOL/KG,,TU,,NMOL/KG,,PERCNT,,NMOL/KG,,NMOL/KG,TU,IPTS-68,NMOL/KG,PERCNT
32OC19880723,       A16N,      14,          1,          1,          1,2,19880726,       0535,    58.3750,   -20.0200,       2163,    10.4,  35.1822,2,  35.1670,2,    268.0,2,   270.1,2,    0.20,2,    3.80,2,    0.11,2, -999.00,9,   3.251,2,   1.595,2,-999.000,9,-999.0000,9, -999.00,9,-999.000,9,-999.000,-999.000,    11.7620,-999.0000, -999.00
32OC19880723,       A16N,      14,          1,          2,          2,2,19880726,       0535,    58.3750,   -20.0200,       2163,    36.2,  35.1817,2,  35.1660,2,    268.9,2,   270.1,2,    0.20,2,    3.70,2,    0.11,2, -999.00,9,-999.000,9,-999.000,9,-999.000,9,-999.0000,9, -999.00,9,-999.000,9,-999.000,   9.000,    11.7670,-999.0000, -999.00
32OC19880723,       A16N,      14,          1,          3,          3,2,19880726,       0535,    58.3750,   -20.0200,       2163,    65.5,  35.2036,2,  35.1950,2,    263.8,2,   266.5,2,    1.30,2,    7.90,2,    0.37,2, -999.00,9,-999.000,9,-999.000,9,-999.000,9,-999.0000,9, -999.00,9,-999.000,9,-999.000,-999.000,     9.7620,-999.0000, -999.00
32OC19880723,       A16N,      14,          1,          4,          4,2,19880726,       0535,    58.3750,   -20.0200,       2163,   105.4,  35.2492,2,  35.2290,2,    258.0,2,   262.6,2,    3.90,2,   12.30,2,    0.02,2, -999.00,9,-999.000,9,-999.000,9,-999.000,9,-999.0000,9, -999.00,9,-999.000,9,-999.000,   9.000,     9.1110,-999.0000, -999.00
32OC19880723,       A16N,      14,          1,          5,          5,2,19880726,       0535,    58.3750,   -20.0200,       2163,   204.2,  35.2130,2,  35.2100,2,    264.5,2,   262.1,2,    5.50,2,   13.10,2,    0.03,2, -999.00,9,   3.374,2,   1.555,2,-999.000,9,-999.0000,9, -999.00,9,-999.000,9,-999.000,-999.000,     8.7980,-999.0000, -999.00
32OC19880723,       A16N,      14,          1,          6,          6,2,19880726,       0535,    58.3750,   -20.0200,       2163,   304.5,  35.2251,2,  35.2460,2,    259.4,2,   260.8,2,    5.50,2,   13.10,2,    0.03,2, -999.00,9,-999.000,9,-999.000,9,-999.000,9,-999.0000,9, -999.00,9,-999.000,9,-999.000,   9.000,     8.8370,-999.0000, -999.00
32OC19880723,       A16N,      14,          1,          7,          7,2,19880726,       0535,    58.3750,   -20.0200,       2163,   406.1,  35.2074,2,  35.1830,2,    262.1,2,   264.7,2,    6.00,2,   13.80,2,    0.03,2, -999.00,9,-999.000,9,-999.000,9,-999.000,9,-999.0000,9, -999.00,9,-999.000,9,-999.000,-999.000,     8.3880,-999.0000, -999.00
32OC19880723,       A16N,      14,          1,          8,          8,2,19880726,       0535,    58.3750,   -20.0200,       2163,   508.8,  35.1802,2,  35.1640,2,    272.5,2,   268.6,2,    6.30,2,   13.70,2,    0.01,2, -999.00,9,-999.000,9,-999.000,9,-999.000,9,-999.0000,9, -999.00,9,-999.000,9,-999.000,   9.000,     8.1300,-999.0000, -999.00
32OC19880723,       A16N,      14,          1,          9,          9,2,19880726,       0535,    58.3750,   -20.0200,       2163,   610.7,  35.1522,2,  35.1400,2,    256.6,2,   253.8,2,    7.30,2,   14.90,2,    0.01,2, -999.00,9,-999.000,9,-999.000,9,-999.000,9,-999.0000,9, -999.00,9,-999.000,9,-999.000,-999.000,     7.8120,-999.0000, -999.00
32OC19880723,       A16N,      14,          1,         10,         10,2,19880726,       0535,    58.3750,   -20.0200,       2163,   711.3,  35.1371,2,  35.1400,2,    234.9,2,   235.6,2,    8.90,2,   16.80,2,    0.01,2, -999.00,9,-999.000,9,-999.000,9,-999.000,9,-999.0000,9, -999.00,9,-999.000,9,-999.000,   9.000,     7.4850,-999.0000, -999.00
32OC19880723,       A16N,      14,          1,         11,         11,2,19880726,       0535,    58.3750,   -20.0200,       2163,   810.9,  35.1159,2,  35.1140,2,    219.6,2,   230.8,3,    9.80,2,   17.40,2,    0.01,2, -999.00,9,-999.000,9,-999.000,9,-999.000,9,-999.0000,9, -999.00,9,-999.000,9,-999.000,-999.000,     6.9160,-999.0000, -999.00
32OC19880723,       A16N,      14,          1,         12,         12,2,19880726,       0535,    58.3750,   -20.0200,       2163,   910.3,  35.0645,2,  35.0580,2,    226.4,2,   226.9,2,   10.80,2,   18.40,2,    0.01,2, -999.00,9,   1.752,2,   0.765,2,-999.000,9,-999.0000,9, -999.00,9,-999.000,9,-999.000,   9.000,     6.0520,-999.0000, -999.00
32OC19880723,       A16N,      14,          1,         13,         13,2,19880726,       0535,    58.3750,   -20.0200,       2163,  1011.6,  34.9958,2,  34.9990,2,    236.9,2,   237.3,2,   11.00,2,   18.40,2,    0.01,2, -999.00,9,-999.000,9,-999.000,9,-999.000,9,-999.0000,9, -999.00,9,-999.000,9,-999.000,-999.000,     5.2320,-999.0000, -999.00
32OC19880723,       A16N,      14,          1,         14,         14,2,19880726,       0535,    58.3750,   -20.0200,       2163,  1112.9,  34.9704,2,  34.9720,2,    249.9,2,   247.3,2,   11.00,2,   18.20,2,    0.01,2, -999.00,9,   1.701,6,   0.781,6,-999.000,9,-999.0000,9, -999.00,9,-999.000,9,-999.000,   9.000,     4.7940,-999.0000, -999.00
32OC19880723,       A16N,      14,          1,         15,         15,2,19880726,       0535,    58.3750,   -20.0200,       2163,  1214.7,  34.9421,2,  34.9430,2,    259.4,2,   257.3,2,   10.70,2,   17.90,2,    0.01,2, -999.00,9,-999.000,9,-999.000,9,-999.000,9,-999.0000,9, -999.00,9,-999.000,9,-999.000,-999.000,     4.3870,-999.0000, -999.00
32OC19880723,       A16N,      14,          1,         16,         16,2,19880726,       0535,    58.3750,   -20.0200,       2163,  1315.6,  34.9249,2,  34.9270,2,    264.7,2,   265.1,2,   10.60,2,   17.60,2,    0.01,2, -999.00,9,-999.000,9,-999.000,9,-999.000,9,-999.0000,9, -999.00,9,-999.000,9,-999.000,   9.000,     4.1240,-999.0000, -999.00
32OC19880723,       A16N,      14,          1,         17,         17,2,19880726,       0535,    58.3750,   -20.0200,       2163,  1417.6,  34.9156,2,  34.9170,2,    269.7,2,   269.4,2,   10.70,2,   17.40,2,    0.01,2, -999.00,9,   1.753,2,   0.748,2,-999.000,9,-999.0000,9, -999.00,9,-999.000,9,-999.000,-999.000,     3.9610,-999.0000, -999.00
32OC19880723,       A16N,      14,          1,         18,         18,2,19880726,       0535,    58.3750,   -20.0200,       2163,  1518.7,  34.9072,2,  34.9090,2,    274.4,2,   274.6,2,   10.40,2,   17.30,2,    0.01,2, -999.00,9,-999.000,9,-999.000,9,-999.000,9,-999.0000,9, -999.00,9,-999.000,9,-999.000,   9.000,     3.8150,-999.0000, -999.00
32OC19880723,       A16N,      14,          1,         19,         19,2,19880726,       0535,    58.3750,   -20.0200,       2163,  1622.4,  34.9013,2,  34.9020,2,    276.4,2,   276.4,2,   10.40,2,   17.10,2,    0.00,2, -999.00,9,-999.000,9,-999.000,9,-999.000,9,-999.0000,9, -999.00,9,-999.000,9,-999.000,-999.000,     3.7130,-999.0000, -999.00
32OC19880723,       A16N,      14,          1,         20,         20,2,19880726,       0535,    58.3750,   -20.0200,       2163,  1720.9,  34.8987,2,  34.8990,2,    277.0,2,   278.1,2,   10.40,2,   17.10,2,    0.00,2, -999.00,9,-999.000,9,-999.000,9,-999.000,9,-999.0000,9, -999.00,9,-999.000,9,-999.000,   9.000,     3.6340,-999.0000, -999.00
32OC19880723,       A16N,      14,          1,         21,         21,2,19880726,       0535,    58.3750,   -20.0200,       2163,  1821.0,  34.9013,2,  34.9010,2,    278.0,2,   279.0,2,   10.40,2,   16.90,2,    0.00,2, -999.00,9,   1.524,2,   0.667,2,-999.000,9,-999.0000,9, -999.00,9,-999.000,9,-999.000,-999.000,     3.5840,-999.0000, -999.00
32OC19880723,       A16N,      14,          1,         22,         22,2,19880726,       0535,    58.3750,   -20.0200,       2163,  1972.3,  34.9221,2,  34.9240,2,    275.9,2,   275.9,2,   10.90,2,   16.80,2,    0.00,2, -999.00,9,-999.000,9,-999.000,9,-999.000,9,-999.0000,9, -999.00,9,-999.000,9,-999.000,   9.000,     3.5700,-999.0000, -999.00
32OC19880723,       A16N,      14,          1,         23,         23,2,19880726,       0535,    58.3750,   -20.0200,       2163,  2125.4,  34.9433,2,  34.9430,2,    273.8,2,   273.7,2,   11.70,2,   16.70,2,    0.00,2, -999.00,9,-999.000,9,-999.000,9,-999.000,9,-999.0000,9, -999.00,9,-999.000,9,-999.000,-999.000,     3.4920,-999.0000, -999.00
32OC19880723,       A16N,      14,          1,         24,         24,2,19880726,       0535,    58.3750,   -20.0200,       2163,  2187.9,  34.9487,2,  34.9480,2,    273.6,2,   272.9,2,   12.00,2,   16.70,2,    0.00,2, -999.00,9,   0.874,2,   0.378,2,-999.000,9,-999.0000,9, -999.00,9,-999.000,9,-999.000,   9.000,     3.4370,-999.0000, -999.00
32OC19880723,       A16N,      14,          1,         99,     -999.0,9,19880726,       0535,    58.3750,   -20.0200,       2163,  2190.1,-999.0000,9,-999.0000,9,   -999.0,9,  -999.0,9, -999.00,9, -999.00,9, -999.00,9, -999.00,9,-999.000,9,-999.000,9,-999.000,9,-999.0000,9, -999.00,9,-999.000,9,-999.000,-999.000,     3.4380,-999.0000, -999.00
32OC19880723,       A16N,      15,          1,          4,          4,2,19880726,       0930,    57.9933,   -20.0133,       1660,     3.8,  35.2003,2,  35.2000,2,    265.1,2,   269.7,2,    0.00,2,    3.50,2,    0.09,2,    0.32,2,   3.314,2,   1.570,2,-999.000,9,-999.0000,9, -999.00,9,-999.000,9,-999.000,   9.000,    11.9820,-999.0000, -999.00
32OC19880723,       A16N,      15,          1,          5,          5,2,19880726,       0930,    57.9933,   -20.0133,       1660,    34.2,  35.2002,2,  35.2000,2,    266.9,2,   269.2,2,    0.00,2,    3.60,2,    0.09,2,    0.27,2,   3.281,2,   1.532,2,-999.000,9,-999.0000,9, -999.00,9,-999.000,9,-999.000,-999.000,    11.9660,-999.0000, -999.00
32OC19880723,       A16N,      15,          1,          6,          6,2,19880726,       0930,    57.9933,   -20.0133,       1660,    64.1,  35.2129,2,  35.2010,2,    267.6,2,   266.5,2,    1.00,2,    7.00,2,    0.30,2,    0.56,2,   3.667,2,   1.791,2,-999.000,9,-999.0000,9, -999.00,9,-999.000,9,-999.000,   9.000,    10.0170,-999.0000, -999.00
32OC19880723,       A16N,      15,          1,          7,          7,2,19880726,       0930,    57.9933,   -20.0133,       1660,   104.6,  35.2960,2,  35.2990,2,    257.6,2,   256.5,2,    4.70,2,   12.70,2,    0.01,2,    0.80,2,   3.172,2,   1.641,2,-999.000,9,-999.0000,9, -999.00,9,-999.000,9,-999.000,-999.000,     9.6190,-999.0000, -999.00
32OC19880723,       A16N,      15,          1,          8,          8,2,19880726,       0930,    57.9933,   -20.0133,       1660,   155.0,  35.2556,2,  35.2650,2,    257.8,2,   260.0,2,    5.30,2,   12.90,2,    0.00,2,    0.80,2,   3.179,2,   1.658,2,-999.000,9,-999.0000,9, -999.00,9,-999.000,9,-999.000,   9.000,     9.2570,-999.0000, -999.00
32OC19880723,       A16N,      15,          1,          9,          9,2,19880726,       0930,    57.9933,   -20.0133,       1660,   205.5,  35.2313,2,  35.2260,2,    262.5,2,   264.7,2,    4.50,2,   12.80,2,    0.00,2, -999.00,9,   3.477,2,   1.601,2,-999.000,9,-999.0000,9, -999.00,9,-999.000,9,-999.000,-999.000,     9.0000,-999.0000, -999.00
32OC19880723,       A16N,      15,          1,         10,         10,2,19880726,       0930,    57.9933,   -20.0133,       1660,   255.6,  35.2303,2,  35.2180,2,    260.8,2,   262.6,2,    5.30,2, -999.00,9,    0.00,2, -999.00,9,   3.290,2,   1.569,2,-999.000,9,-999.0000,9, -999.00,9,-999.000,9,-999.000,   9.000,     8.8740,-999.0000, -999.00
32OC19880723,       A16N,      15,          1,         11,         11,2,19880726,       0930,    57.9933,   -20.0133,       1660,   306.6,  35.2097,2,  35.2140,2,    263.7,2,   263.4,2,    5.40,2, -999.00,9,    0.00,2, -999.00,9,   3.334,2,   1.535,2,-999.000,9,-999.0000,9, -999.00,9,-999.000,9,-999.000,-999.000,     8.7690,-999.0000, -999.00
32OC19880723,       A16N,      15,          1,         12,         12,2,19880726,       0930,    57.9933,   -20.0133,       1660,   406.8,  35.1896,2,  35.1970,2,    264.1,2,   263.9,2,    5.80,2, -999.00,9,    0.00,2, -999.00,9,   3.459,2,   1.759,2,-999.000,9,-999.0000,9, -999.00,9,-999.000,9,-999.000,   9.000,     8.5310,-999.0000, -999.00
32OC19880723,       A16N,      15,          1,         13,         13,2,19880726,       0930,    57.9933,   -20.0133,       1660,   508.1,  35.1930,2,  35.1970,2,    251.7,2,   253.9,2, -999.00,9, -999.00,9, -999.00,9, -999.00,9,   2.938,2,   1.470,2,-999.000,9,-999.0000,9, -999.00,9,-999.000,9,-999.000,-999.000,     8.4090,-999.0000, -999.00
32OC19880723,       A16N,      15,          1,         14,         14,2,19880726,       0930,    57.9933,   -20.0133,       1660,   608.7,  35.1781,2,  35.1520,2,    242.1,2,   243.9,2,    7.70,2, -999.00,9,    0.00,2, -999.00,9,   2.745,2,   1.253,2,-999.000,9,-999.0000,9, -999.00,9,-999.000,9,-999.000,   9.000,     7.9570,-999.0000, -999.00
32OC19880723,       A16N,      15,          1,         15,         15,2,19880726,       0930,    57.9933,   -20.0133,       1660,   708.8,  35.1041,2,  35.1050,2,    231.9,2,   229.9,2,    9.30,2, -999.00,9,    0.00,2, -999.00,9,   2.238,2,   0.977,2,-999.000,9,-999.0000,9, -999.00,9,-999.000,9,-999.000,-999.000,     7.2540,-999.0000, -999.00
32OC19880723,       A16N,      15,          1,         16,         16,2,19880726,       0930,    57.9933,   -20.0133,       1660,   807.3,  35.1735,2,  35.1740,2,    217.5,2,   214.7,2,   10.40,2, -999.00,9,    0.00,2, -999.00,9,-999.000,9,-999.000,9,-999.000,9,-999.0000,9, -999.00,9,-999.000,9,-999.000,   9.000,     7.1500,-999.0000, -999.00
32OC19880723,       A16N,      15,          1,         17,         17,2,19880726,       0930,    57.9933,   -20.0133,       1660,   907.6,  35.1074,2,  35.1060,2,    222.5,2,   223.8,2,   11.10,2, -999.00,9,    0.00,2, -999.00,9,   1.497,3,   0.643,3,-999.000,9,-999.0000,9, -999.00,9,-999.000,9,-999.000,-999.000,     6.2020,-999.0000, -999.00
32OC19880723,       A16N,      15,          1,         18,         18,2,19880726,       0930,    57.9933,   -20.0133,       1660,  1010.1,  34.9945,2,  35.0130,2,    233.4,2,   236.4,2,   11.00,2, -999.00,9,    0.00,2, -999.00,9,   1.888,4,   0.733,4,-999.000,9,-999.0000,9, -999.00,9,-999.000,9,-999.000,   9.000,     5.3450,-999.0000, -999.00
32OC19880723,       A16N,      15,          1,         19,         19,2,19880726,       0930,    57.9933,   -20.0133,       1660,  1111.1,  35.0087,2,  34.9730,2,    241.4,2,  -999.0,9,   10.80,2, -999.00,9,    0.00,2, -999.00,9,-999.000,9,-999.000,9,-999.000,9,-999.0000,9, -999.00,9,-999.000,9,-999.000,-999.000,     4.7730,-999.0000, -999.00
32OC19880723,       A16N,      15,          1,         20,         20,2,19880726,       0930,    57.9933,   -20.0133,       1660,  1213.9,  34.9669,2,  34.9700,2,    253.3,2,   255.9,2,   10.80,2, -999.00,9,    0.00,2, -999.00,9,   1.596,2,   0.705,2,-999.000,9,-999.0000,9, -999.00,9,-999.000,9,-999.000,   9.000,     4.5020,-999.0000, -999.00
32OC19880723,       A16N,      15,          1,         21,         21,2,19880726,       0930,    57.9933,   -20.0133,       1660,  1315.1,  34.9569,2,  34.9590,2,    259.4,2,   260.7,2,   11.00,2, -999.00,9,    0.00,2, -999.00,9,-999.000,9,-999.000,9,-999.000,9,-999.0000,9, -999.00,9,-999.000,9,-999.000,-999.000,     4.2610,-999.0000, -999.00
32OC19880723,       A16N,      15,          1,         22,         22,2,19880726,       0930,    57.9933,   -20.0133,       1660,  1415.7,  34.9401,2,  34.9450,2,    264.9,2,   264.2,2,   11.30,2, -999.00,9,    0.00,2, -999.00,9,   1.534,2,   0.656,2,-999.000,9,-999.0000,9, -999.00,9,-999.000,9,-999.000,   9.000,     4.0780,-999.0000, -999.00
32OC19880723,       A16N,      15,          1,         23,         23,2,19880726,       0930,    57.9933,   -20.0133,       1660,  1563.3,  34.9221,2,  34.9220,2,    270.9,2,   272.0,2,   11.40,2, -999.00,9,    0.00,2, -999.00,9,-999.000,9,-999.000,9,-999.000,9,-999.0000,9, -999.00,9,-999.000,9,-999.000,-999.000,     3.7630,-999.0000, -999.00
32OC19880723,       A16N,      15,          1,         24,         24,2,19880726,       0930,    57.9933,   -20.0133,       1660,  1677.9,  34.9189,2,  34.9180,2,    276.8,2,   273.7,2,   11.40,2, -999.00,9,    0.00,2, -999.00,9,   1.267,2,   0.575,2,-999.000,9,-999.0000,9, -999.00,9,-999.000,9,-999.000,   9.000,     3.6160,-999.0000, -999.00
32OC19880723,       A16N,      15,          1,         99,     -999.0,9,19880726,       0930,    57.9933,   -20.0133,       1660,  1680.2,-999.0000,9,-999.0000,9,   -999.0,9,  -999.0,9, -999.00,9, -999.00,9, -999.00,9, -999.00,9,-999.000,9,-999.000,9,-999.000,9,-999.0000,9, -999.00,9,-999.000,9,-999.000,-999.000,     3.6150,-999.0000, -999.00