BOTTLE,20220922CCHSIOAMB
EXPOCODE,SECT_ID,STNNBR,CASTNO,SAMPNO,BTLNBR,BTLNBR_FLAG_W,DATE,TIME,LATITUDE,LONGITUDE,DEPTH,CTDPRS,CTDSAL,CTDSAL_FLAG_W,SALNTY,SALNTY_FLAG_W,CTDOXY,CTDOXY_FLAG_W,OXYGEN,OXYGEN_FLAG_W,SILCAT,SILCAT_FLAG_W,NITRAT,NITRAT_FLAG_W,NITRIT,NITRIT_FLAG_W,PHSPHT,PHSPHT_FLAG_W,CFC-11,CFC-11_FLAG_W,CFC-12,CFC-12_FLAG_W,TRITUM,TRITUM_FLAG_W,HELIUM,HELIUM_FLAG_W,DELHE3,DELHE3_FLAG_W,NEON,NEON_FLAG_W,NEONER,TRITER,CTDTMP,HELIER,DELHER
,,,,,,,,,,,METERS,DBAR,PSS-78,,PSS-78,,UMOL/KG,,UMOL/KG,,UMOL/KG,,UMOL/KG,,UMOL/KG,,UMOL/KG,,PMOL/KG,,PMOL/KG,,TU,,NMOL/KG,,PERCNT,,NMOL/KG,,NMOL/KG,TU,IPTS-68,NMOL/KG,PERCNT
32OC19880723,       A16N,      60,          1,          1,          1,2,19880804,       1647,    35.5817,   -20.2800,       5252,    36.0,  36.3317,2,  36.2520,2,    234.2,2,   238.2,2,    0.40,2,    0.60,2, -999.00,9,    0.03,2,-999.000,9,-999.000,9,-999.000,9,-999.0000,9, -999.00,9,-999.000,9,-999.000,   9.000,    20.0900,-999.0000, -999.00
32OC19880723,       A16N,      60,          1,          2,          2,2,19880804,       1647,    35.5817,   -20.2800,       5252,    69.0,  36.0892,2,  36.0370,2,    254.0,2,   254.9,2,    0.50,2,    0.60,2, -999.00,9,    0.05,2,-999.000,9,-999.000,9,-999.000,9,-999.0000,9, -999.00,9,-999.000,9,-999.000,-999.000,    16.1850,-999.0000, -999.00
32OC19880723,       A16N,      60,          1,          3,          3,2,19880804,       1647,    35.5817,   -20.2800,       5252,   109.0,  36.0662,2,  36.0510,2,    229.3,2,   226.6,2,    1.20,2,    4.70,2, -999.00,9,    0.18,2,-999.000,9,-999.000,9,-999.000,9,-999.0000,9, -999.00,9,-999.000,9,-999.000,   9.000,    15.0930,-999.0000, -999.00
32OC19880723,       A16N,      60,          1,          4,          4,2,19880804,       1647,    35.5817,   -20.2800,       5252,   205.4,  35.8718,2,  35.8350,2,    218.2,2,   212.7,2,    2.50,2,    9.10,2, -999.00,9,    0.49,2,-999.000,9,-999.000,9,-999.000,9,-999.0000,9, -999.00,9,-999.000,9,-999.000,-999.000,    13.5790,-999.0000, -999.00
32OC19880723,       A16N,      60,          1,          6,          6,2,19880804,       1647,    35.5817,   -20.2800,       5252,   300.3,  35.7287,2,  35.7010,2,    213.5,2,   221.8,2,    3.10,2,   10.20,2, -999.00,9,    0.58,2,-999.000,9,-999.000,9,-999.000,9,-999.0000,9, -999.00,9,-999.000,9,-999.000,   9.000,    12.6530,-999.0000, -999.00
32OC19880723,       A16N,      60,          1,          5,          5,2,19880804,       1647,    35.5817,   -20.2800,       5252,   303.0,  35.7240,2,  35.6990,2,    213.4,2,   220.9,2,    3.10,2,   10.50,2, -999.00,9,    0.58,2,-999.000,9,-999.000,9,-999.000,9,-999.0000,9, -999.00,9,-999.000,9,-999.000,-999.000,    12.6350,-999.0000, -999.00
32OC19880723,       A16N,      60,          1,          7,          7,2,19880804,       1647,    35.5817,   -20.2800,       5252,   396.5,  35.6266,2,  35.6110,2,    211.0,2,   210.9,2,    4.20,2,   12.70,2, -999.00,9,    0.70,2,-999.000,9,-999.000,9,-999.000,9,-999.0000,9, -999.00,9,-999.000,9,-999.000,   9.000,    11.9210,-999.0000, -999.00
32OC19880723,       A16N,      60,          1,          8,          8,2,19880804,       1647,    35.5817,   -20.2800,       5252,   587.4,  35.5149,2,  35.5230,2,    194.9,2,   192.6,2,    6.70,2,   16.30,2, -999.00,9,    0.96,2,-999.000,9,-999.000,9,-999.000,9,-999.0000,9, -999.00,9,-999.000,9,-999.000,-999.000,    10.6970,-999.0000, -999.00
32OC19880723,       A16N,      60,          1,          9,          9,2,19880804,       1647,    35.5817,   -20.2800,       5252,   780.0,  35.5812,2,  35.5770,2,    182.6,2,   181.7,2,    9.50,2,   18.20,2, -999.00,9,    1.06,2,-999.000,9,-999.000,9,-999.000,9,-999.0000,9, -999.00,9,-999.000,9,-999.000,   9.000,     9.7630,-999.0000, -999.00
32OC19880723,       A16N,      60,          1,         10,         10,2,19880804,       1647,    35.5817,   -20.2800,       5252,  1023.9,  35.8982,2,  35.9130,2,    184.7,2,   184.7,2,   10.10,2,   17.50,2, -999.00,9,    0.99,2,-999.000,9,-999.000,9,-999.000,9,-999.0000,9, -999.00,9,-999.000,9,-999.000,-999.000,     9.9090,-999.0000, -999.00
32OC19880723,       A16N,      60,          1,         11,         11,2,19880804,       1647,    35.5817,   -20.2800,       5252,  1023.9,  35.8982,2,  35.9170,2,    184.7,2,   184.7,2,   10.10,2,   17.30,2, -999.00,9,    1.01,2,-999.000,9,-999.000,9,-999.000,9,-999.0000,9, -999.00,9,-999.000,9,-999.000,   9.000,     9.9090,-999.0000, -999.00
32OC19880723,       A16N,      60,          1,         12,         12,2,19880804,       1647,    35.5817,   -20.2800,       5252,  1516.4,  35.3777,2,  35.3890,2,    230.7,2,   229.4,2,   12.00,2,   18.00,2, -999.00,9,    1.07,2,-999.000,9,-999.000,9,-999.000,9,-999.0000,9, -999.00,9,-999.000,9,-999.000,-999.000,     6.2640,-999.0000, -999.00
32OC19880723,       A16N,      60,          1,         13,         13,2,19880804,       1647,    35.5817,   -20.2800,       5252,  1763.9,  35.1956,2,  35.1900,2,    244.6,2,   244.6,2,   13.40,2,   17.60,2, -999.00,9,    1.10,2,-999.000,9,-999.000,9,-999.000,9,-999.0000,9, -999.00,9,-999.000,9,-999.000,   9.000,     4.9560,-999.0000, -999.00
32OC19880723,       A16N,      60,          1,         14,         14,2,19880804,       1647,    35.5817,   -20.2800,       5252,  2109.7,  35.0541,2,  35.0480,2,    253.8,2,   253.7,2,   17.20,2,   18.40,2, -999.00,9,    1.13,2,-999.000,9,-999.000,9,-999.000,9,-999.0000,9, -999.00,9,-999.000,9,-999.000,-999.000,     3.9160,-999.0000, -999.00
32OC19880723,       A16N,      60,          1,         15,         15,2,19880804,       1647,    35.5817,   -20.2800,       5252,  2458.3,  34.9849,2,  34.9820,2,    256.4,2,   256.8,2,   22.20,2,   18.60,2, -999.00,9,    1.17,2,-999.000,9,-999.000,9,-999.000,9,-999.0000,9, -999.00,9,-999.000,9,-999.000,   9.000,     3.2780,-999.0000, -999.00
32OC19880723,       A16N,      60,          1,         16,         16,2,19880804,       1647,    35.5817,   -20.2800,       5252,  2812.1,  34.9532,2,  34.9530,2,    253.3,2,   253.7,2,   28.10,2,   19.70,2, -999.00,9,    1.24,2,-999.000,9,-999.000,9,-999.000,9,-999.0000,9, -999.00,9,-999.000,9,-999.000,-999.000,     2.9300,-999.0000, -999.00
32OC19880723,       A16N,      60,          1,         17,         17,2,19880804,       1647,    35.5817,   -20.2800,       5252,  3226.7,  34.9355,2,  34.9340,2,    248.8,2,   248.5,2,   34.40,2,   20.10,2, -999.00,9,    1.29,2,-999.000,9,-999.000,9,-999.000,9,-999.0000,9, -999.00,9,-999.000,9,-999.000,   9.000,     2.7100,-999.0000, -999.00
32OC19880723,       A16N,      60,          1,         18,         18,2,19880804,       1647,    35.5817,   -20.2800,       5252,  3630.2,  34.9193,2,  34.9180,2,    246.4,2,   245.9,2,   39.40,2,   20.90,2, -999.00,9,    1.35,2,-999.000,9,-999.000,9,-999.000,9,-999.0000,9, -999.00,9,-999.000,9,-999.000,-999.000,     2.5820,-999.0000, -999.00
32OC19880723,       A16N,      60,          1,         19,         19,2,19880804,       1647,    35.5817,   -20.2800,       5252,  4037.8,  34.9045,2,  34.9060,2,    245.5,2,   245.5,2,   42.10,2,   21.40,2, -999.00,9,    1.35,2,-999.000,9,-999.000,9,-999.000,9,-999.0000,9, -999.00,9,-999.000,9,-999.000,   9.000,     2.4890,-999.0000, -999.00
32OC19880723,       A16N,      60,          1,         20,         20,2,19880804,       1647,    35.5817,   -20.2800,       5252,  4449.6,  34.8953,2,  34.8940,2,    245.9,2,   245.9,2,   44.80,2,   21.80,2, -999.00,9,    1.40,2,-999.000,9,-999.000,9,-999.000,9,-999.0000,9, -999.00,9,-999.000,9,-999.000,-999.000,     2.4410,-999.0000, -999.00
32OC19880723,       A16N,      60,          1,         22,         22,2,19880804,       1647,    35.5817,   -20.2800,       5252,  4858.2,  34.8916,2,  34.8900,2,    245.4,2,   245.9,2,   45.60,2,   22.20,2, -999.00,9,    1.37,2,-999.000,9,-999.000,9,-999.000,9,-999.0000,9, -999.00,9,-999.000,9,-999.000,   9.000,     2.4540,-999.0000, -999.00
32OC19880723,       A16N,      60,          1,         23,         23,2,19880804,       1647,    35.5817,   -20.2800,       5252,  4858.2,  34.8916,2,  34.8900,2,    245.4,2,   245.5,2,   46.00,2,   22.30,2, -999.00,9,    1.38,2,-999.000,9,-999.000,9,-999.000,9,-999.0000,9, -999.00,9,-999.000,9,-999.000,-999.000,     2.4540,-999.0000, -999.00
32OC19880723,       A16N,      60,          1,         21,         21,2,19880804,       1647,    35.5817,   -20.2800,       5252,  4858.4,  34.8916,2,  34.8900,2,    245.4,2,   245.9,2,   45.60,2,   21.70,2, -999.00,9,    1.38,2,-999.000,9,-999.000,9,-999.000,9,-999.0000,9, -999.00,9,-999.000,9,-999.000,   9.000,     2.4540,-999.0000, -999.00
32OC19880723,       A16N,      60,          1,         24,         24,2,19880804,       1647,    35.5817,   -20.2800,       5252,  5218.7,  34.8910,2,  34.8900,2,    245.0,2,   244.6,2,   46.20,2,   22.30,2, -999.00,9,    1.38,2,-999.000,9,-999.000,9,-999.000,9,-999.0000,9, -999.00,9,-999.000,9,-999.000,-999.000,     2.4940,-999.0000, -999.00
32OC19880723,       A16N,      60,          1,         99,     -999.0,9,19880804,       1647,    35.5817,   -20.2800,       5252,  5351.2,  34.8920,2,-999.0000,9,    242.9,2,  -999.0,9, -999.00,9, -999.00,9, -999.00,9, -999.00,9,-999.000,9,-999.000,9,-999.000,9,-999.0000,9, -999.00,9,-999.000,9,-999.000,   9.000,     2.5120,-999.0000, -999.00
32OC19880723,       A16N,      61,          1,         12,         12,2,19880804,       2300,    35.1000,   -20.5567,       5226,  1189.9,  35.7376,2,  35.7280,2,    200.3,2,   199.9,2,   10.50,2,   17.30,2,    0.00,2, -999.00,9,-999.000,9,-999.000,9,-999.000,9,-999.0000,9, -999.00,9,-999.000,9,-999.000,-999.000,     8.5950,-999.0000, -999.00
32OC19880723,       A16N,      61,          1,         13,         13,2,19880804,       2300,    35.1000,   -20.5567,       5226,  1189.9,  35.7376,2,  35.7280,2,    200.3,2,   200.3,2,   10.50,2,   17.30,2,    0.00,2, -999.00,9,-999.000,9,-999.000,9,-999.000,9,-999.0000,9, -999.00,9,-999.000,9,-999.000,   9.000,     8.5950,-999.0000, -999.00
32OC19880723,       A16N,      61,          1,        24a,         24,2,19880804,       2300,    35.1000,   -20.5567,       5226,  1203.7,  35.7306,2,  35.7100,2,    201.3,2,   201.2,2,   10.80,2,   17.20,2,    0.01,2,    1.07,2,   0.486,3,   0.180,2,   1.055,2,   1.8006,2,    6.90,2,-999.000,9,  -7.493,   0.038,     8.4080,   0.0126,    0.18
32OC19880723,       A16N,      61,          1,         15,         15,2,19880804,       2300,    35.1000,   -20.5567,       5226,  1692.0,  35.1950,2,  35.1860,2,    239.2,2,   245.5,2,   12.50,2,   17.80,2,    0.00,2, -999.00,9,-999.000,9,-999.000,9,-999.000,9,-999.0000,9, -999.00,9,-999.000,9,-999.000,-999.000,     4.9800,-999.0000, -999.00
32OC19880723,       A16N,      61,          1,         14,         14,2,19880804,       2300,    35.1000,   -20.5567,       5226,  1692.0,  35.1950,2,  35.1820,2,    239.2,2,   245.9,2,   12.60,2,   17.90,2,    0.00,2, -999.00,9,-999.000,9,-999.000,9,-999.000,9,-999.0000,9, -999.00,9,-999.000,9,-999.000,   9.000,     4.9800,-999.0000, -999.00
32OC19880723,       A16N,      61,          1,         17,         17,2,19880804,       2300,    35.1000,   -20.5567,       5226,  2386.9,  34.9835,2,  34.9810,2,    255.9,2,   259.0,2,   21.10,2,   18.70,2,    0.00,2, -999.00,9,-999.000,9,-999.000,9,-999.000,9,-999.0000,9, -999.00,9,-999.000,9,-999.000,-999.000,     3.2930,-999.0000, -999.00
32OC19880723,       A16N,      61,          1,         16,         16,2,19880804,       2300,    35.1000,   -20.5567,       5226,  2386.9,  34.9835,2,  34.9800,2,    255.9,2,   258.1,2,   21.00,2,   18.80,2,    0.00,2, -999.00,9,-999.000,9,-999.000,9,-999.000,9,-999.0000,9, -999.00,9,-999.000,9,-999.000,   9.000,     3.2930,-999.0000, -999.00
32OC19880723,       A16N,      61,          1,         18,         18,2,19880804,       2300,    35.1000,   -20.5567,       5226,  3194.5,  34.9378,2,  34.9340,2,    248.5,2,   249.0,2,   34.10,2,   20.30,2,    0.00,2, -999.00,9,-999.000,9,-999.000,9,-999.000,9,-999.0000,9, -999.00,9,-999.000,9,-999.000,-999.000,     2.7180,-999.0000, -999.00
32OC19880723,       A16N,      61,          1,         19,         19,2,19880804,       2300,    35.1000,   -20.5567,       5226,  3601.1,  34.9199,2,-999.0000,9,    245.9,2,  -999.0,9, -999.00,9, -999.00,9, -999.00,9, -999.00,9,-999.000,9,-999.000,9,-999.000,9,-999.0000,9, -999.00,9,-999.000,9,-999.000,   9.000,     2.5950,-999.0000, -999.00
32OC19880723,       A16N,      61,          1,         20,         20,2,19880804,       2300,    35.1000,   -20.5567,       5226,  4010.1,  34.9075,2,  34.9100,2,    246.4,2,   245.9,2,   41.10,2,   21.10,2,    0.00,2, -999.00,9,   0.029,6,   0.003,6,-999.000,9,-999.0000,9, -999.00,9,-999.000,9,-999.000,-999.000,     2.5130,-999.0000, -999.00
32OC19880723,       A16N,      61,          1,         21,         21,2,19880804,       2300,    35.1000,   -20.5567,       5226,  4418.9,  34.8966,2,  34.8960,2,    246.3,2,   245.9,2,   44.10,2,   21.60,2,    0.00,2, -999.00,9,   0.004,6,   0.004,6,-999.000,9,-999.0000,9, -999.00,9,-999.000,9,-999.000,   9.000,     2.4480,-999.0000, -999.00
32OC19880723,       A16N,      61,          1,         22,         22,2,19880804,       2300,    35.1000,   -20.5567,       5226,  4778.1,  34.8923,2,  34.8920,2,    246.3,2,   245.9,2,   44.70,2,   21.60,2,    0.00,2, -999.00,9,   0.027,6,   0.006,6,-999.000,9,-999.0000,9, -999.00,9,-999.000,9,-999.000,-999.000,     2.4520,-999.0000, -999.00
32OC19880723,       A16N,      61,          1,         23,         23,2,19880804,       2300,    35.1000,   -20.5567,       5226,  5138.4,  34.8898,2,  34.8900,2,    245.9,2,   246.3,2,   45.60,2,   21.70,2,    0.00,2, -999.00,9,   0.035,6,   0.003,6,-999.000,9,-999.0000,9, -999.00,9,-999.000,9,-999.000,   9.000,     2.4770,-999.0000, -999.00
32OC19880723,       A16N,      61,          1,        24b,         24,2,19880804,       2300,    35.1000,   -20.5567,       5226,  5316.1,  34.8895,2,  34.8870,2,    245.1,2,   245.5,2,   45.70,2,   21.80,2,    0.00,2, -999.00,9,-999.000,9,-999.000,9,-999.000,9,-999.0000,9, -999.00,9,-999.000,9,-999.000,-999.000,     2.4940,-999.0000, -999.00
32OC19880723,       A16N,      61,          1,         99,     -999.0,9,19880804,       2300,    35.1000,   -20.5567,       5226,  5316.9,  34.8895,2,-999.0000,9,    245.1,2,  -999.0,9, -999.00,9, -999.00,9, -999.00,9, -999.00,9,-999.000,9,-999.000,9,-999.000,9,-999.0000,9, -999.00,9,-999.000,9,-999.000,   9.000,     2.4930,-999.0000, -999.00
32OC19880723,       A16N,      61,          2,          9,          9,2,19880804,       2017,    35.1000,   -20.5567,       5226,     3.5,  36.4604,2,  36.4430,2,    224.6,2,   223.9,2,    0.50,2,    0.00,2,    0.01,2,    0.09,2,   2.195,2,   1.004,2,   2.673,2,   1.7353,2,   -1.69,2,-999.000,9,  -7.493,   0.053,    22.0680,   0.0121,    0.18
32OC19880723,       A16N,      61,          2,         10,         10,2,19880804,       2017,    35.1000,   -20.5567,       5226,    33.9,  36.3409,2,  36.2710,2,    239.4,2,   245.6,2,    0.50,2,    0.00,2,    0.01,2,    0.09,2,   2.342,2,   1.110,2,   2.549,2,   1.7882,2,   -0.93,2,-999.000,9,  -7.493,   0.052,    20.0930,   0.0125,    0.18
32OC19880723,       A16N,      61,          2,         11,         11,2,19880804,       2017,    35.1000,   -20.5567,       5226,    63.8,  36.1472,2,  36.1140,2,    249.8,2,   251.9,2,    0.50,2,    0.00,2,    0.00,2,    0.10,2,   2.574,2,   1.212,2,   2.660,2,   1.7566,2,   -1.49,2,-999.000,9,  -7.493,   0.052,    16.8020,   0.0123,    0.18
32OC19880723,       A16N,      61,          2,         12,         12,2,19880804,       2017,    35.1000,   -20.5567,       5226,   104.1,  36.0949,2,  36.0870,2,    230.2,2,   227.9,2,    1.00,2,    2.90,2,    0.13,2,    0.25,2,   2.492,2,   1.165,2,   2.704,2,   1.7644,2,   -0.86,2,-999.000,9,  -7.493,   0.054,    15.4790,   0.0124,    0.18
32OC19880723,       A16N,      61,          2,         13,         13,2,19880804,       2017,    35.1000,   -20.5567,       5226,   153.6,  36.0272,2,  36.0150,2,    222.5,2,   225.3,2,    1.30,2,    4.80,2,    0.09,2,    0.30,2,   2.474,2,   1.168,2,   2.742,2,   1.7594,2,   -0.39,2,-999.000,9,  -7.493,   0.054,    14.7660,   0.0123,    0.18
32OC19880723,       A16N,      61,          2,         14,         14,2,19880804,       2017,    35.1000,   -20.5567,       5226,   203.0,  35.9344,2,  35.9060,2,    221.3,2,   220.5,2,    2.10,2,    7.10,2,    0.03,2,    0.41,2,   2.461,2,   1.140,2,   2.764,2,   1.7846,2,    1.57,2,-999.000,9,  -7.493,   0.054,    14.0830,   0.0125,    0.18
32OC19880723,       A16N,      61,          2,         15,         15,2,19880804,       2017,    35.1000,   -20.5567,       5226,   302.7,  35.7718,2,  35.7440,2,    212.2,2,   212.2,2,    3.20,2,   10.60,2,    0.02,2,    0.61,2,   2.173,2,   1.003,2,   2.733,2,   1.7727,2,    3.58,2,-999.000,9,  -7.493,   0.053,    12.9060,   0.0124,    0.18
32OC19880723,       A16N,      61,          2,         16,         16,2,19880804,       2017,    35.1000,   -20.5567,       5226,   401.8,  35.6356,2,  35.6370,2,    211.7,2,   211.3,2,    4.00,2,   12.20,2,    0.02,2,    0.69,2,   2.023,2,   0.917,2,   2.694,2,   1.7804,2,    4.71,2,-999.000,9,  -7.493,   0.054,    12.1380,   0.0125,    0.18
32OC19880723,       A16N,      61,          2,         17,         17,2,19880804,       2017,    35.1000,   -20.5567,       5226,   501.7,  35.5485,2,  35.5470,2,    203.9,2,   203.0,2,    5.30,2,   14.30,2,    0.02,2,    0.83,2,   1.641,2,   0.753,2,   2.660,2,   1.7698,2,    7.03,2,-999.000,9,  -7.493,   0.052,    11.3810,   0.0124,    0.18
32OC19880723,       A16N,      61,          2,         18,         18,2,19880804,       2017,    35.1000,   -20.5567,       5226,   601.2,  35.5124,2,  35.5140,2,    192.6,2,   195.2,2,    6.50,2,   15.90,2,    0.02,2,    0.92,2,   1.310,2,   0.600,2,   2.364,2,   1.8018,2,    9.44,2,-999.000,9,  -7.493,   0.050,    10.8230,   0.0126,    0.18
32OC19880723,       A16N,      61,          2,         19,         19,2,19880804,       2017,    35.1000,   -20.5567,       5226,   701.9,  35.5500,2,  35.5610,2,    183.1,2,   183.4,2,    8.40,2,   17.60,2,    0.02,2,    1.04,2,   0.793,2,   0.356,2,   1.828,2,   1.7757,2,    9.03,2,-999.000,9,  -7.493,   0.047,    10.2750,   0.0124,    0.18
32OC19880723,       A16N,      61,          2,         20,         20,2,19880804,       2017,    35.1000,   -20.5567,       5226,   802.0,  35.6418,2,  35.6500,2,    181.2,2,   182.1,2,    9.00,2,   17.50,2,    0.02,2,    1.08,2,   0.637,2,   0.285,2,   1.675,2,   1.7810,2,    8.75,2,-999.000,9,  -7.493,   0.044,    10.1050,   0.0125,    0.18
32OC19880723,       A16N,      61,          2,         21,         21,2,19880804,       2017,    35.1000,   -20.5567,       5226,   901.9,  35.6283,2,  35.6240,2,    184.7,2,   183.8,2,   10.20,2,   18.20,2,    0.01,2,    1.11,2,   0.489,2,   0.224,2,   1.290,2,   1.7844,2,    7.72,2,-999.000,9,  -7.493,   0.039,     9.3990,   0.0125,    0.18
32OC19880723,       A16N,      61,          2,         22,         22,2,19880804,       2017,    35.1000,   -20.5567,       5226,  1002.1,  35.6794,2,  35.6770,2,    189.1,2,   189.9,2,   10.30,2,   18.00,2,    0.01,2,    1.10,2,   0.465,2,   0.213,2,   1.084,2,   1.8076,2,    7.56,2,-999.000,9,  -7.493,   0.038,     9.0190,   0.0127,    0.18
32OC19880723,       A16N,      61,          2,         23,         23,2,19880804,       2017,    35.1000,   -20.5567,       5226,  1103.2,  35.7338,2,  35.7440,2,    194.2,2,   194.2,2,   10.50,2,   17.50,2,    0.01,2,    1.06,2,   0.448,2,   0.205,2,-999.000,9,   1.8146,2,    8.16,2,-999.000,9,  -7.493,-999.000,     8.9240,   0.0127,    0.18