BOTTLE,20220922CCHSIOAMB
EXPOCODE,SECT_ID,STNNBR,CASTNO,SAMPNO,BTLNBR,BTLNBR_FLAG_W,DATE,TIME,LATITUDE,LONGITUDE,DEPTH,CTDPRS,CTDSAL,CTDSAL_FLAG_W,SALNTY,SALNTY_FLAG_W,CTDOXY,CTDOXY_FLAG_W,OXYGEN,OXYGEN_FLAG_W,SILCAT,SILCAT_FLAG_W,NITRAT,NITRAT_FLAG_W,NITRIT,NITRIT_FLAG_W,PHSPHT,PHSPHT_FLAG_W,CFC-11,CFC-11_FLAG_W,CFC-12,CFC-12_FLAG_W,TRITUM,TRITUM_FLAG_W,HELIUM,HELIUM_FLAG_W,DELHE3,DELHE3_FLAG_W,NEON,NEON_FLAG_W,NEONER,TRITER,CTDTMP,HELIER,DELHER
,,,,,,,,,,,METERS,DBAR,PSS-78,,PSS-78,,UMOL/KG,,UMOL/KG,,UMOL/KG,,UMOL/KG,,UMOL/KG,,UMOL/KG,,PMOL/KG,,PMOL/KG,,TU,,NMOL/KG,,PERCNT,,NMOL/KG,,NMOL/KG,TU,IPTS-68,NMOL/KG,PERCNT
32OC19880723,       A16N,      63,          1,         94,     -999.0,9,19880805,       1106,    34.2133,   -21.0650,       5231,     0.9,  36.6639,2,-999.0000,9,    217.3,2,  -999.0,9, -999.00,9, -999.00,9, -999.00,9, -999.00,9,-999.000,9,-999.000,9,-999.000,9,-999.0000,9, -999.00,9,-999.000,9,-999.000,   9.000,    23.1590,-999.0000, -999.00
32OC19880723,       A16N,      63,          1,          1,          1,2,19880805,       1106,    34.2133,   -21.0650,       5231,    12.4,  36.6591,2,-999.0000,9,    225.4,2,  -999.0,9, -999.00,9, -999.00,9, -999.00,9, -999.00,9,-999.000,9,-999.000,9,-999.000,9,-999.0000,9, -999.00,9,-999.000,9,-999.000,-999.000,    23.0840,-999.0000, -999.00
32OC19880723,       A16N,      63,          1,          2,          2,2,19880805,       1106,    34.2133,   -21.0650,       5231,    37.4,  36.5401,2,-999.0000,9,    239.8,2,  -999.0,9, -999.00,9, -999.00,9, -999.00,9, -999.00,9,-999.000,9,-999.000,9,-999.000,9,-999.0000,9, -999.00,9,-999.000,9,-999.000,   9.000,    22.3100,-999.0000, -999.00
32OC19880723,       A16N,      63,          1,          3,          3,2,19880805,       1106,    34.2133,   -21.0650,       5231,    67.3,  36.2840,2,-999.0000,9,    250.3,2,  -999.0,9, -999.00,9, -999.00,9, -999.00,9, -999.00,9,-999.000,9,-999.000,9,-999.000,9,-999.0000,9, -999.00,9,-999.000,9,-999.000,-999.000,    17.9620,-999.0000, -999.00
32OC19880723,       A16N,      63,          1,          4,          4,2,19880805,       1106,    34.2133,   -21.0650,       5231,   107.5,  36.2113,2,-999.0000,9,    217.5,2,  -999.0,9, -999.00,9, -999.00,9, -999.00,9, -999.00,9,-999.000,9,-999.000,9,-999.000,9,-999.0000,9, -999.00,9,-999.000,9,-999.000,   9.000,    16.5750,-999.0000, -999.00
32OC19880723,       A16N,      63,          1,          5,          5,2,19880805,       1106,    34.2133,   -21.0650,       5231,   157.8,  36.0928,2,-999.0000,9,    216.8,2,  -999.0,9, -999.00,9, -999.00,9, -999.00,9, -999.00,9,-999.000,9,-999.000,9,-999.000,9,-999.0000,9, -999.00,9,-999.000,9,-999.000,-999.000,    15.5420,-999.0000, -999.00
32OC19880723,       A16N,      63,          1,          6,          6,2,19880805,       1106,    34.2133,   -21.0650,       5231,   208.1,  35.9884,2,-999.0000,9,    214.4,2,  -999.0,9, -999.00,9, -999.00,9, -999.00,9, -999.00,9,-999.000,9,-999.000,9,-999.000,9,-999.0000,9, -999.00,9,-999.000,9,-999.000,   9.000,    14.7340,-999.0000, -999.00
32OC19880723,       A16N,      63,          1,          7,          7,2,19880805,       1106,    34.2133,   -21.0650,       5231,   308.7,  35.8336,2,-999.0000,9,    225.2,2,  -999.0,9, -999.00,9, -999.00,9, -999.00,9, -999.00,9,-999.000,9,-999.000,9,-999.000,9,-999.0000,9, -999.00,9,-999.000,9,-999.000,-999.000,    13.5870,-999.0000, -999.00
32OC19880723,       A16N,      63,          1,          8,          8,2,19880805,       1106,    34.2133,   -21.0650,       5231,   409.6,  35.6635,2,-999.0000,9,    203.6,2,  -999.0,9, -999.00,9, -999.00,9, -999.00,9, -999.00,9,-999.000,9,-999.000,9,-999.000,9,-999.0000,9, -999.00,9,-999.000,9,-999.000,   9.000,    12.4990,-999.0000, -999.00
32OC19880723,       A16N,      63,          1,          9,          9,2,19880805,       1106,    34.2133,   -21.0650,       5231,   610.4,  35.4998,2,-999.0000,9,    203.9,2,  -999.0,9, -999.00,9, -999.00,9, -999.00,9, -999.00,9,-999.000,9,-999.000,9,-999.000,9,-999.0000,9, -999.00,9,-999.000,9,-999.000,-999.000,    10.9560,-999.0000, -999.00
32OC19880723,       A16N,      63,          1,         10,         10,2,19880805,       1106,    34.2133,   -21.0650,       5231,   811.4,  35.5249,2,-999.0000,9,    182.1,2,  -999.0,9, -999.00,9, -999.00,9, -999.00,9, -999.00,9,-999.000,9,-999.000,9,-999.000,9,-999.0000,9, -999.00,9,-999.000,9,-999.000,   9.000,     9.6480,-999.0000, -999.00
32OC19880723,       A16N,      63,          1,         11,         11,2,19880805,       1106,    34.2133,   -21.0650,       5231,   908.3,  35.5280,2,-999.0000,9,    193.0,2,  -999.0,9, -999.00,9, -999.00,9, -999.00,9, -999.00,9,-999.000,9,-999.000,9,-999.000,9,-999.0000,9, -999.00,9,-999.000,9,-999.000,-999.000,     9.0960,-999.0000, -999.00
32OC19880723,       A16N,      63,          1,         12,         12,2,19880805,       1106,    34.2133,   -21.0650,       5231,  1060.2,  35.5506,2,  35.5340,2,    200.3,2,  -999.0,9,   10.80,2,   18.10,2,    0.01,2,    1.13,2,-999.000,9,-999.000,9,-999.000,9,-999.0000,9, -999.00,9,-999.000,9,-999.000,   9.000,     8.2070,-999.0000, -999.00
32OC19880723,       A16N,      63,          1,         13,         13,2,19880805,       1106,    34.2133,   -21.0650,       5231,  1307.8,  35.3915,2,  35.4010,2,    222.3,2,   219.4,2,   11.70,2,   18.00,2,    0.01,2,    1.12,2,-999.000,9,-999.000,9,-999.000,9,-999.0000,9, -999.00,9,-999.000,9,-999.000,-999.000,     6.7490,-999.0000, -999.00
32OC19880723,       A16N,      63,          1,         14,         14,2,19880805,       1106,    34.2133,   -21.0650,       5231,  1557.3,  35.2784,2,  35.2540,2,    236.4,2,   236.8,2,   12.80,2,   18.00,2,    0.01,2,    1.14,2,-999.000,9,-999.000,9,-999.000,9,-999.0000,9, -999.00,9,-999.000,9,-999.000,   9.000,     5.5250,-999.0000, -999.00
32OC19880723,       A16N,      63,          1,         15,         15,2,19880805,       1106,    34.2133,   -21.0650,       5231,  1557.3,  35.2784,2,  35.2540,2,    236.4,2,   237.2,2,   12.60,2,   18.00,2,    0.01,2,    1.14,2,-999.000,9,-999.000,9,-999.000,9,-999.0000,9, -999.00,9,-999.000,9,-999.000,-999.000,     5.5250,-999.0000, -999.00
32OC19880723,       A16N,      63,          1,         95,     -999.0,9,19880805,       1106,    34.2133,   -21.0650,       5231,  1858.5,  35.0956,2,-999.0000,9,    252.6,2,  -999.0,9, -999.00,9, -999.00,9, -999.00,9, -999.00,9,-999.000,9,-999.000,9,-999.000,9,-999.0000,9, -999.00,9,-999.000,9,-999.000,   9.000,     4.3750,-999.0000, -999.00
32OC19880723,       A16N,      63,          1,         16,         16,2,19880805,       1106,    34.2133,   -21.0650,       5231,  2159.1,  35.0064,2,  35.0070,2,    258.5,2,   259.4,2,   17.50,2,   18.20,2,    0.01,2,    1.18,2,-999.000,9,-999.000,9,-999.000,9,-999.0000,9, -999.00,9,-999.000,9,-999.000,-999.000,     3.6510,-999.0000, -999.00
32OC19880723,       A16N,      63,          1,         17,         17,2,19880805,       1106,    34.2133,   -21.0650,       5231,  2159.1,  35.0064,2,  35.0070,2,    258.5,2,   259.0,2,   17.50,2,   17.90,2,    0.02,2,    1.18,2,-999.000,9,-999.000,9,-999.000,9,-999.0000,9, -999.00,9,-999.000,9,-999.000,   9.000,     3.6510,-999.0000, -999.00
32OC19880723,       A16N,      63,          1,         96,     -999.0,9,19880805,       1106,    34.2133,   -21.0650,       5231,  2510.8,  34.9751,2,-999.0000,9,    254.6,2,  -999.0,9, -999.00,9, -999.00,9, -999.00,9, -999.00,9,-999.000,9,-999.000,9,-999.000,9,-999.0000,9, -999.00,9,-999.000,9,-999.000,-999.000,     3.1910,-999.0000, -999.00
32OC19880723,       A16N,      63,          1,         97,     -999.0,9,19880805,       1106,    34.2133,   -21.0650,       5231,  2862.8,  34.9495,2,-999.0000,9,    253.2,2,  -999.0,9, -999.00,9, -999.00,9, -999.00,9, -999.00,9,-999.000,9,-999.000,9,-999.000,9,-999.0000,9, -999.00,9,-999.000,9,-999.000,   9.000,     2.8930,-999.0000, -999.00
32OC19880723,       A16N,      63,          1,         18,         18,2,19880805,       1106,    34.2133,   -21.0650,       5231,  3266.4,  34.9346,2,  34.9340,2,    249.0,2,   248.5,2,   35.40,2,   20.50,2,    0.02,2,    1.35,2,-999.000,9,-999.000,9,-999.000,9,-999.0000,9, -999.00,9,-999.000,9,-999.000,-999.000,     2.7090,-999.0000, -999.00
32OC19880723,       A16N,      63,          1,         19,         19,2,19880805,       1106,    34.2133,   -21.0650,       5231,  3266.4,  34.9346,2,  34.9330,2,    249.0,2,   248.5,2,   35.20,2,   20.50,2,    0.02,2,    1.35,2,-999.000,9,-999.000,9,-999.000,9,-999.0000,9, -999.00,9,-999.000,9,-999.000,   9.000,     2.7090,-999.0000, -999.00
32OC19880723,       A16N,      63,          1,         98,     -999.0,9,19880805,       1106,    34.2133,   -21.0650,       5231,  3671.6,  34.9164,2,-999.0000,9,    247.6,2,  -999.0,9, -999.00,9, -999.00,9, -999.00,9, -999.00,9,-999.000,9,-999.000,9,-999.000,9,-999.0000,9, -999.00,9,-999.000,9,-999.000,-999.000,     2.5830,-999.0000, -999.00
32OC19880723,       A16N,      63,          1,         20,         20,2,19880805,       1106,    34.2133,   -21.0650,       5231,  4077.9,  34.9046,2,  34.9040,2,    246.6,2,   245.9,2,   42.50,2,   21.30,2,    0.02,2,    1.43,2,-999.000,9,-999.000,9,-999.000,9,-999.0000,9, -999.00,9,-999.000,9,-999.000,   9.000,     2.5050,-999.0000, -999.00
32OC19880723,       A16N,      63,          1,         21,         21,2,19880805,       1106,    34.2133,   -21.0650,       5231,  4435.0,  34.8960,2,  34.8950,2,    246.1,2,   246.3,2,   44.30,2,   21.70,2,    0.01,2,    1.43,2,-999.000,9,-999.000,9,-999.000,9,-999.0000,9, -999.00,9,-999.000,9,-999.000,-999.000,     2.4610,-999.0000, -999.00
32OC19880723,       A16N,      63,          1,         22,         22,2,19880805,       1106,    34.2133,   -21.0650,       5231,  4794.8,  34.8917,2,  34.8960,2,    245.9,2,   245.5,2,   44.20,2,   21.60,2,    0.01,2,    1.45,2,-999.000,9,-999.000,9,-999.000,9,-999.0000,9, -999.00,9,-999.000,9,-999.000,   9.000,     2.4540,-999.0000, -999.00
32OC19880723,       A16N,      63,          1,         23,         23,2,19880805,       1106,    34.2133,   -21.0650,       5231,  5052.6,  34.8895,2,  34.8900,2,    245.2,2,   245.5,2,   45.60,2,   21.70,2,    0.01,2,    1.45,2,-999.000,9,-999.000,9,-999.000,9,-999.0000,9, -999.00,9,-999.000,9,-999.000,-999.000,     2.4660,-999.0000, -999.00
32OC19880723,       A16N,      63,          1,         24,         24,2,19880805,       1106,    34.2133,   -21.0650,       5231,  5325.5,  34.8886,2,  34.8870,2,    244.4,2,   244.6,2,   46.60,2,   21.70,2,    0.01,2,    1.46,2,-999.000,9,-999.000,9,-999.000,9,-999.0000,9, -999.00,9,-999.000,9,-999.000,   9.000,     2.4920,-999.0000, -999.00
32OC19880723,       A16N,      63,          1,         99,     -999.0,9,19880805,       1106,    34.2133,   -21.0650,       5231,  5326.4,  34.8887,2,-999.0000,9,    244.3,2,  -999.0,9, -999.00,9, -999.00,9, -999.00,9, -999.00,9,-999.000,9,-999.000,9,-999.000,9,-999.0000,9, -999.00,9,-999.000,9,-999.000,-999.000,     2.4920,-999.0000, -999.00
32OC19880723,       A16N,      63,          2,          4,          4,2,19880805,       0342,    34.2133,   -21.0650,       5231,     9.9,  36.6594,2,  36.7360,2,    225.1,2,   218.7,2,    0.20,2,    0.00,2,    0.01,2,    0.12,2,-999.000,9,-999.000,9,-999.000,9,-999.0000,9, -999.00,9,-999.000,9,-999.000,   9.000,    23.0690,-999.0000, -999.00
32OC19880723,       A16N,      63,          2,          5,          5,2,19880805,       0342,    34.2133,   -21.0650,       5231,    35.3,  36.5731,2,  36.7250,2,    236.2,2,   219.1,3,    0.20,2,    0.00,2,    0.01,2,    0.09,2,-999.000,9,-999.000,9,-999.000,9,-999.0000,9, -999.00,9,-999.000,9,-999.000,-999.000,    22.9930,-999.0000, -999.00
32OC19880723,       A16N,      63,          2,          6,          6,2,19880805,       0342,    34.2133,   -21.0650,       5231,    65.0,  36.2891,2,  36.1980,2,    251.8,2,   253.7,2,    0.00,2,    0.00,2,    0.01,2,    0.12,2,-999.000,9,-999.000,9,-999.000,9,-999.0000,9, -999.00,9,-999.000,9,-999.000,   9.000,    18.4220,-999.0000, -999.00
32OC19880723,       A16N,      63,          2,          7,          7,2,19880805,       0342,    34.2133,   -21.0650,       5231,   105.4,  36.2135,2,  36.1690,2,    219.3,2,   231.4,2,    0.00,2,    0.20,2,    0.17,2,    0.16,2,-999.000,9,-999.000,9,-999.000,9,-999.0000,9, -999.00,9,-999.000,9,-999.000,-999.000,    16.3730,-999.0000, -999.00
32OC19880723,       A16N,      63,          2,          8,          8,2,19880805,       0342,    34.2133,   -21.0650,       5231,   155.7,  36.0968,2,  36.0650,2,    217.0,2,   218.8,2,    1.60,2,    5.20,2,    0.03,2,    0.31,2,-999.000,9,-999.000,9,-999.000,9,-999.0000,9, -999.00,9,-999.000,9,-999.000,   9.000,    15.3870,-999.0000, -999.00
32OC19880723,       A16N,      63,          2,          9,          9,2,19880805,       0342,    34.2133,   -21.0650,       5231,   205.8,  35.9918,2,  35.9480,2,    214.4,2,   214.9,2,    2.10,2,    7.50,2,    0.02,2,    0.42,2,-999.000,9,-999.000,9,-999.000,9,-999.0000,9, -999.00,9,-999.000,9,-999.000,-999.000,    14.5790,-999.0000, -999.00
32OC19880723,       A16N,      63,          2,         10,         10,2,19880805,       0342,    34.2133,   -21.0650,       5231,   306.0,  35.8356,2,  35.8000,2,    223.2,2,   224.0,2,    2.40,2,    8.10,2,    0.01,2,    0.47,2,-999.000,9,-999.000,9,-999.000,9,-999.0000,9, -999.00,9,-999.000,9,-999.000,   9.000,    13.4070,-999.0000, -999.00
32OC19880723,       A16N,      63,          2,         11,         11,2,19880805,       0342,    34.2133,   -21.0650,       5231,   306.0,  35.8356,2,  35.8000,2,    223.2,2,   223.1,2,    2.30,2,    8.20,2,    0.03,2,    0.47,2,-999.000,9,-999.000,9,-999.000,9,-999.0000,9, -999.00,9,-999.000,9,-999.000,-999.000,    13.4070,-999.0000, -999.00
32OC19880723,       A16N,      63,          2,         12,         12,2,19880805,       0342,    34.2133,   -21.0650,       5231,   499.4,  35.5738,2,  35.5760,2,    217.1,2,   219.1,2,    4.10,2,   11.90,2,    0.03,2,    0.71,2,-999.000,9,-999.000,9,-999.000,9,-999.0000,9, -999.00,9,-999.000,9,-999.000,   9.000,    11.6710,-999.0000, -999.00
32OC19880723,       A16N,      63,          2,         13,         13,2,19880805,       0342,    34.2133,   -21.0650,       5231,   506.8,  35.5706,2,  35.5660,2,    218.8,2,   214.8,2,    4.60,2,   12.40,2,    0.02,2,    0.77,2,-999.000,9,-999.000,9,-999.000,9,-999.0000,9, -999.00,9,-999.000,9,-999.000,-999.000,    11.6190,-999.0000, -999.00
32OC19880723,       A16N,      63,          2,         14,         14,2,19880805,       0342,    34.2133,   -21.0650,       5231,   607.1,  35.5053,2,  35.4870,2,    203.3,2,   203.5,2,    6.00,2,   14.80,2,    0.02,2,    0.92,2,-999.000,9,-999.000,9,-999.000,9,-999.0000,9, -999.00,9,-999.000,9,-999.000,   9.000,    10.8310,-999.0000, -999.00
32OC19880723,       A16N,      63,          2,         15,         15,2,19880805,       0342,    34.2133,   -21.0650,       5231,   707.8,  35.4662,2,  35.4850,2,    188.5,2,   184.8,2,    8.10,2,   17.10,2,    0.01,2,    1.06,2,-999.000,9,-999.000,9,-999.000,9,-999.0000,9, -999.00,9,-999.000,9,-999.000,-999.000,    10.2450,-999.0000, -999.00
32OC19880723,       A16N,      63,          2,         16,         16,2,19880805,       0342,    34.2133,   -21.0650,       5231,   808.0,  35.5229,2,  35.5220,2,    181.8,2,   182.1,2,    9.60,2,   18.70,2,    0.01,2,    1.14,2,-999.000,9,-999.000,9,-999.000,9,-999.0000,9, -999.00,9,-999.000,9,-999.000,   9.000,     9.6660,-999.0000, -999.00
32OC19880723,       A16N,      63,          2,         17,         17,2,19880805,       0342,    34.2133,   -21.0650,       5231,   908.3,  35.5280,2,  35.5330,2,    193.0,2,   189.5,2,    9.90,2,   18.30,2,    0.01,2,    1.13,2,-999.000,9,-999.000,9,-999.000,9,-999.0000,9, -999.00,9,-999.000,9,-999.000,-999.000,     9.0960,-999.0000, -999.00
32OC19880723,       A16N,      63,          2,         18,         18,2,19880805,       0342,    34.2133,   -21.0650,       5231,  1008.4,  35.5795,2,  35.5380,2,    194.7,2,   193.4,2,   10.70,2,   18.80,2,    0.01,2,    1.14,2,-999.000,9,-999.000,9,-999.000,9,-999.0000,9, -999.00,9,-999.000,9,-999.000,   9.000,     8.5340,-999.0000, -999.00
32OC19880723,       A16N,      63,          2,         19,         19,2,19880805,       0342,    34.2133,   -21.0650,       5231,  1110.0,  35.5331,2,  35.5010,2,    204.2,2,   205.5,2,   10.70,2,   18.20,2,    0.01,2,    1.14,2,-999.000,9,-999.000,9,-999.000,9,-999.0000,9, -999.00,9,-999.000,9,-999.000,-999.000,     7.8400,-999.0000, -999.00
32OC19880723,       A16N,      63,          2,         20,         20,2,19880805,       0342,    34.2133,   -21.0650,       5231,  1210.7,  35.4235,2,  35.4120,2,    214.8,2,   215.1,2,   11.20,2,   18.40,2,    0.01,2,    1.14,2,-999.000,9,-999.000,9,-999.000,9,-999.0000,9, -999.00,9,-999.000,9,-999.000,   9.000,     7.0790,-999.0000, -999.00
32OC19880723,       A16N,      63,          2,         21,         21,2,19880805,       0342,    34.2133,   -21.0650,       5231,  1411.6,  35.3277,2,  35.3310,2,    227.8,2,   227.7,2,   12.10,2,   18.30,2,    0.01,2,    1.15,2,-999.000,9,-999.000,9,-999.000,9,-999.0000,9, -999.00,9,-999.000,9,-999.000,-999.000,     6.1530,-999.0000, -999.00
32OC19880723,       A16N,      63,          2,         22,         22,2,19880805,       0342,    34.2133,   -21.0650,       5231,  1612.9,  35.2343,2,  35.2320,2,    238.7,2,   239.4,2,   12.70,2,   18.00,2,    0.01,2,    1.15,2,-999.000,9,-999.000,9,-999.000,9,-999.0000,9, -999.00,9,-999.000,9,-999.000,   9.000,     5.3240,-999.0000, -999.00
32OC19880723,       A16N,      63,          2,         23,         23,2,19880805,       0342,    34.2133,   -21.0650,       5231,  1814.6,  35.1039,2,  35.0970,2,    250.9,2,   253.3,2,   13.40,2,   18.10,2,    0.01,2,    1.16,2,-999.000,9,-999.000,9,-999.000,9,-999.0000,9, -999.00,9,-999.000,9,-999.000,-999.000,     4.4200,-999.0000, -999.00
32OC19880723,       A16N,      63,          2,         24,         24,2,19880805,       0342,    34.2133,   -21.0650,       5231,  1915.7,  35.0704,2,  35.0630,2,    254.2,2,   255.9,2,   14.60,2,   18.10,2,    0.00,2, -999.00,9,-999.000,9,-999.000,9,-999.000,9,-999.0000,9, -999.00,9,-999.000,9,-999.000,   9.000,     4.1250,-999.0000, -999.00
32OC19880723,       A16N,      63,          2,          1,          1,2,19880805,       0342,    34.2133,   -21.0650,       5231,  1915.7,  35.0704,2,  35.0620,2,    254.2,2,   255.9,2, -999.00,9, -999.00,9, -999.00,9, -999.00,9,-999.000,9,-999.000,9,-999.000,9,-999.0000,9, -999.00,9,-999.000,9,-999.000,-999.000,     4.1250,-999.0000, -999.00