BOTTLE,20220922CCHSIOAMB
EXPOCODE,SECT_ID,STNNBR,CASTNO,SAMPNO,BTLNBR,BTLNBR_FLAG_W,DATE,TIME,LATITUDE,LONGITUDE,DEPTH,CTDPRS,CTDSAL,CTDSAL_FLAG_W,SALNTY,SALNTY_FLAG_W,CTDOXY,CTDOXY_FLAG_W,OXYGEN,OXYGEN_FLAG_W,SILCAT,SILCAT_FLAG_W,NITRAT,NITRAT_FLAG_W,NITRIT,NITRIT_FLAG_W,PHSPHT,PHSPHT_FLAG_W,CFC-11,CFC-11_FLAG_W,CFC-12,CFC-12_FLAG_W,TRITUM,TRITUM_FLAG_W,HELIUM,HELIUM_FLAG_W,DELHE3,DELHE3_FLAG_W,NEON,NEON_FLAG_W,NEONER,TRITER,CTDTMP,HELIER,DELHER
,,,,,,,,,,,METERS,DBAR,PSS-78,,PSS-78,,UMOL/KG,,UMOL/KG,,UMOL/KG,,UMOL/KG,,UMOL/KG,,UMOL/KG,,PMOL/KG,,PMOL/KG,,TU,,NMOL/KG,,PERCNT,,NMOL/KG,,NMOL/KG,TU,IPTS-68,NMOL/KG,PERCNT
32OC19880723,       A16N,      10,          1,          2,          2,2,19880725,       0418,    60.3267,   -19.9983,       2619,    55.4,  35.1135,2,  35.1160,2,    276.2,2,   277.8,2,    1.50,2,    7.90,2,    0.25,2,    0.57,2,-999.000,9,-999.000,9,-999.000,9,-999.0000,9, -999.00,9,-999.000,9,-999.000,   9.000,     9.3220,-999.0000, -999.00
32OC19880723,       A16N,      10,          1,          3,          3,2,19880725,       0418,    60.3267,   -19.9983,       2619,   105.1,  35.1482,2,  35.1470,2,    270.4,2,   269.1,2,    4.10,2,   12.70,2,    0.00,2,    0.75,2,   3.475,2,   1.678,2,-999.000,9,-999.0000,9, -999.00,9,-999.000,9,-999.000,-999.000,     8.5250,-999.0000, -999.00
32OC19880723,       A16N,      10,          1,          4,          4,2,19880725,       0418,    60.3267,   -19.9983,       2619,   205.9,  35.1223,2,  35.1270,2,    270.5,2,   267.3,2,    6.00,2,   14.10,2,    0.01,2,    0.81,2,-999.000,9,-999.000,9,-999.000,9,-999.0000,9, -999.00,9,-999.000,9,-999.000,   9.000,     8.0430,-999.0000, -999.00
32OC19880723,       A16N,      10,          1,          5,          5,2,19880725,       0418,    60.3267,   -19.9983,       2619,   305.4,  35.1016,2,  35.1100,2,    267.7,2,   265.1,2,    6.40,2,   14.40,2,    0.00,2,    0.84,2,   3.297,2,   1.660,2,-999.000,9,-999.0000,9, -999.00,9,-999.000,9,-999.000,-999.000,     7.6440,-999.0000, -999.00
32OC19880723,       A16N,      10,          1,          6,          6,2,19880725,       0418,    60.3267,   -19.9983,       2619,   405.8,  35.1013,2,  35.1080,2,    256.1,2,   256.9,2,    7.20,2,   15.30,2,    0.00,2,    0.93,2,-999.000,9,-999.000,9,-999.000,9,-999.0000,9, -999.00,9,-999.000,9,-999.000,   9.000,     7.3220,-999.0000, -999.00
32OC19880723,       A16N,      10,          1,          7,          7,2,19880725,       0418,    60.3267,   -19.9983,       2619,   506.2,  35.1148,2,  35.1180,2,    264.2,2,   266.4,2,    6.80,2,   14.80,2,    0.00,2,    0.89,2,   3.241,2,   1.521,2,-999.000,9,-999.0000,9, -999.00,9,-999.000,9,-999.000,-999.000,     7.1460,-999.0000, -999.00
32OC19880723,       A16N,      10,          1,          9,          9,2,19880725,       0418,    60.3267,   -19.9983,       2619,   608.0,  35.0689,2,  35.0720,2,    233.1,2,   235.1,2,    9.40,2,   17.60,2,    0.00,2,    1.07,2,   2.505,4,   1.026,4,-999.000,9,-999.0000,9, -999.00,9,-999.000,9,-999.000,   9.000,     6.5810,-999.0000, -999.00
32OC19880723,       A16N,      10,          1,         10,         10,2,19880725,       0418,    60.3267,   -19.9983,       2619,   760.2,  34.9874,2,  34.9870,2,    236.9,2,   234.7,2,   10.50,2,   18.20,2,    0.00,2,    1.12,2,   1.948,2,   0.859,2,-999.000,9,-999.0000,9, -999.00,9,-999.000,9,-999.000,-999.000,     5.4630,-999.0000, -999.00
32OC19880723,       A16N,      10,          1,         11,         11,2,19880725,       0418,    60.3267,   -19.9983,       2619,   910.9,  34.9777,2,  34.9800,2,    243.7,2,   243.4,2,   10.60,2,   18.20,2,    0.00,2,    1.10,2,   1.901,4,   0.751,4,-999.000,9,-999.0000,9, -999.00,9,-999.000,9,-999.000,   9.000,     4.9150,-999.0000, -999.00
32OC19880723,       A16N,      10,          1,         12,         12,2,19880725,       0418,    60.3267,   -19.9983,       2619,  1062.9,  34.9397,2,-999.0000,9,    256.2,2,   258.1,2,   10.50,2,   17.70,2,    0.00,2,    1.08,2,   1.881,2,   0.820,2,-999.000,9,-999.0000,9, -999.00,9,-999.000,9,-999.000,-999.000,     4.3530,-999.0000, -999.00
32OC19880723,       A16N,      10,          1,         13,         13,2,19880725,       0418,    60.3267,   -19.9983,       2619,  1213.8,  34.9201,2,-999.0000,9,    267.5,2,   267.2,2,   10.30,2,   17.60,2,    0.00,2,    1.08,2,   1.936,2,   0.803,2,-999.000,9,-999.0000,9, -999.00,9,-999.000,9,-999.000,   9.000,     4.0250,-999.0000, -999.00
32OC19880723,       A16N,      10,          1,         14,         14,2,19880725,       0418,    60.3267,   -19.9983,       2619,  1365.8,  34.9089,2,-999.0000,9,    273.3,2,   273.8,2,   10.20,2,   17.20,2,    0.00,2, -999.00,9,-999.000,9,-999.000,9,-999.000,9,-999.0000,9, -999.00,9,-999.000,9,-999.000,-999.000,     3.8180,-999.0000, -999.00
32OC19880723,       A16N,      10,          1,         15,         15,2,19880725,       0418,    60.3267,   -19.9983,       2619,  1515.8,  34.9035,2,  34.9030,2,    277.0,2,   276.8,2,   10.20,2,   16.90,2,    0.00,2, -999.00,9,   1.620,2,   0.729,2,-999.000,9,-999.0000,9, -999.00,9,-999.000,9,-999.000,   9.000,     3.6820,-999.0000, -999.00
32OC19880723,       A16N,      10,          1,         16,         16,2,19880725,       0418,    60.3267,   -19.9983,       2619,  1670.5,  34.9047,2,  34.9030,2,    277.2,2,   278.5,2,   10.30,2,   16.90,2,    0.00,2,    1.04,2,-999.000,9,-999.000,9,-999.000,9,-999.0000,9, -999.00,9,-999.000,9,-999.000,-999.000,     3.5960,-999.0000, -999.00
32OC19880723,       A16N,      10,          1,         17,         17,2,19880725,       0418,    60.3267,   -19.9983,       2619,  1820.2,  34.9133,2,-999.0000,9,    278.1,2,   277.2,2,   10.50,2,   16.60,2,    0.00,2,    1.04,2,   1.361,2,   0.545,2,-999.000,9,-999.0000,9, -999.00,9,-999.000,9,-999.000,   9.000,     3.5600,-999.0000, -999.00
32OC19880723,       A16N,      10,          1,         18,         18,2,19880725,       0418,    60.3267,   -19.9983,       2619,  1975.2,  34.9399,2,  34.9390,2,    275.7,2,   274.6,2,   10.70,2,   16.60,2,    0.00,2,    1.04,2,   1.188,4,   0.476,4,-999.000,9,-999.0000,9, -999.00,9,-999.000,9,-999.000,-999.000,     3.5730,-999.0000, -999.00
32OC19880723,       A16N,      10,          1,         19,         19,2,19880725,       0418,    60.3267,   -19.9983,       2619,  2127.3,  34.9546,2,  34.9550,2,    273.5,2,   273.3,2,   11.70,2,   16.60,2,    0.00,2,    1.03,2,   1.004,4,   0.397,4,-999.000,9,-999.0000,9, -999.00,9,-999.000,9,-999.000,   9.000,     3.4690,-999.0000, -999.00
32OC19880723,       A16N,      10,          1,         20,         20,2,19880725,       0418,    60.3267,   -19.9983,       2619,  2278.8,  34.9638,2,  34.9670,2,    272.8,2,   273.3,2,   12.30,2,   16.60,2,    0.01,2,    1.04,2,-999.000,9,-999.000,9,-999.000,9,-999.0000,9, -999.00,9,-999.000,9,-999.000,-999.000,     3.3120,-999.0000, -999.00
32OC19880723,       A16N,      10,          1,         21,         21,2,19880725,       0418,    60.3267,   -19.9983,       2619,  2433.5,  34.9717,2,  34.9750,2,    271.7,2,   272.0,2,   14.20,2,   16.10,2,    0.00,2,    0.99,2,   1.183,4,   0.484,4,-999.000,9,-999.0000,9, -999.00,9,-999.000,9,-999.000,   9.000,     3.0690,-999.0000, -999.00
32OC19880723,       A16N,      10,          1,         98,     -999.0,9,19880725,       0418,    60.3267,   -19.9983,       2619,  2536.2,  34.9780,2,-999.0000,9,    275.3,2,  -999.0,9, -999.00,9, -999.00,9, -999.00,9, -999.00,9,-999.000,9,-999.000,9,-999.000,9,-999.0000,9, -999.00,9,-999.000,9,-999.000,-999.000,     2.8460,-999.0000, -999.00
32OC19880723,       A16N,      10,          1,         22,         22,2,19880725,       0418,    60.3267,   -19.9983,       2619,  2587.6,  34.9769,2,  34.9750,2,    277.4,2,   276.8,2,   12.10,2,   15.60,2,    0.00,2,    0.98,2,-999.000,9,-999.000,9,-999.000,9,-999.0000,9, -999.00,9,-999.000,9,-999.000,   9.000,     2.6440,-999.0000, -999.00
32OC19880723,       A16N,      10,          1,         23,         23,2,19880725,       0418,    60.3267,   -19.9983,       2619,  2587.6,  34.9769,2,  34.9740,2,    277.4,2,   276.8,2,   12.10,2,   15.50,2,    0.00,2,    0.97,2,   1.775,4,   0.723,4,-999.000,9,-999.0000,9, -999.00,9,-999.000,9,-999.000,-999.000,     2.6440,-999.0000, -999.00
32OC19880723,       A16N,      10,          1,         24,         24,2,19880725,       0418,    60.3267,   -19.9983,       2619,  2646.8,  34.9748,2,  34.9750,2,    280.3,2,   279.4,2,   10.80,2,   15.00,2,    0.01,2,    0.97,2,   1.884,2,   0.793,2,-999.000,9,-999.0000,9, -999.00,9,-999.000,9,-999.000,   9.000,     2.4970,-999.0000, -999.00
32OC19880723,       A16N,      10,          1,         99,     -999.0,9,19880725,       0418,    60.3267,   -19.9983,       2619,  2649.8,  34.9746,2,-999.0000,9,    280.7,2,  -999.0,9, -999.00,9, -999.00,9, -999.00,9, -999.00,9,-999.000,9,-999.000,9,-999.000,9,-999.0000,9, -999.00,9,-999.000,9,-999.000,-999.000,     2.4970,-999.0000, -999.00
32OC19880723,       A16N,      11,          2,          1,          1,2,19880725,       1041,    59.8433,   -19.9867,       2730,    11.6,  35.0986,2,-999.0000,9,    271.8,2,  -999.0,9, -999.00,9, -999.00,9, -999.00,9, -999.00,9,-999.000,9,-999.000,9,-999.000,9,-999.0000,9, -999.00,9,-999.000,9,-999.000,   9.000,    11.2160,-999.0000, -999.00
32OC19880723,       A16N,      11,          2,          3,          3,2,19880725,       1041,    59.8433,   -19.9867,       2730,   106.2,  35.2138,2,-999.0000,9,    277.5,2,  -999.0,9, -999.00,9, -999.00,9, -999.00,9, -999.00,9,-999.000,9,-999.000,9,-999.000,9,-999.0000,9, -999.00,9,-999.000,9,-999.000,-999.000,     9.0250,-999.0000, -999.00
32OC19880723,       A16N,      11,          2,          4,          4,2,19880725,       1041,    59.8433,   -19.9867,       2730,   156.4,  35.2039,2,-999.0000,9,    271.4,2,  -999.0,9, -999.00,9, -999.00,9, -999.00,9, -999.00,9,-999.000,9,-999.000,9,-999.000,9,-999.0000,9, -999.00,9,-999.000,9,-999.000,   9.000,     8.7920,-999.0000, -999.00
32OC19880723,       A16N,      11,          2,          5,          5,2,19880725,       1041,    59.8433,   -19.9867,       2730,   188.2,  35.1398,2,-999.0000,9,    273.8,2,  -999.0,9, -999.00,9, -999.00,9, -999.00,9, -999.00,9,-999.000,9,-999.000,9,-999.000,9,-999.0000,9, -999.00,9,-999.000,9,-999.000,-999.000,     8.6170,-999.0000, -999.00
32OC19880723,       A16N,      11,          2,          6,          6,2,19880725,       1041,    59.8433,   -19.9867,       2730,   261.5,  35.1392,2,-999.0000,9,    274.6,2,  -999.0,9, -999.00,9, -999.00,9, -999.00,9, -999.00,9,-999.000,9,-999.000,9,-999.000,9,-999.0000,9, -999.00,9,-999.000,9,-999.000,   9.000,     8.4710,-999.0000, -999.00
32OC19880723,       A16N,      11,          2,          7,          7,2,19880725,       1041,    59.8433,   -19.9867,       2730,   264.1,  35.1376,2,-999.0000,9,    274.4,2,  -999.0,9, -999.00,9, -999.00,9, -999.00,9, -999.00,9,-999.000,9,-999.000,9,-999.000,9,-999.0000,9, -999.00,9,-999.000,9,-999.000,-999.000,     8.3870,-999.0000, -999.00
32OC19880723,       A16N,      11,          2,          8,          8,2,19880725,       1041,    59.8433,   -19.9867,       2730,   305.4,  35.1608,2,-999.0000,9,    274.1,2,  -999.0,9, -999.00,9, -999.00,9, -999.00,9, -999.00,9,-999.000,9,-999.000,9,-999.000,9,-999.0000,9, -999.00,9,-999.000,9,-999.000,   9.000,     8.3000,-999.0000, -999.00
32OC19880723,       A16N,      11,          2,          9,          9,2,19880725,       1041,    59.8433,   -19.9867,       2730,   402.1,  35.1126,2,-999.0000,9,    273.0,2,  -999.0,9, -999.00,9, -999.00,9, -999.00,9, -999.00,9,-999.000,9,-999.000,9,-999.000,9,-999.0000,9, -999.00,9,-999.000,9,-999.000,-999.000,     8.0860,-999.0000, -999.00
32OC19880723,       A16N,      11,          2,         11,         11,2,19880725,       1041,    59.8433,   -19.9867,       2730,   403.4,  35.1130,2,-999.0000,9,    273.0,2,  -999.0,9, -999.00,9, -999.00,9, -999.00,9, -999.00,9,-999.000,9,-999.000,9,-999.000,9,-999.0000,9, -999.00,9,-999.000,9,-999.000,   9.000,     8.1090,-999.0000, -999.00
32OC19880723,       A16N,      11,          2,         10,         10,2,19880725,       1041,    59.8433,   -19.9867,       2730,   405.6,  35.1136,2,-999.0000,9,    273.0,2,  -999.0,9, -999.00,9, -999.00,9, -999.00,9, -999.00,9,-999.000,9,-999.000,9,-999.000,9,-999.0000,9, -999.00,9,-999.000,9,-999.000,-999.000,     8.1120,-999.0000, -999.00
32OC19880723,       A16N,      11,          2,         12,         12,2,19880725,       1041,    59.8433,   -19.9867,       2730,   406.8,  35.1139,2,-999.0000,9,    273.0,2,  -999.0,9, -999.00,9, -999.00,9, -999.00,9, -999.00,9,-999.000,9,-999.000,9,-999.000,9,-999.0000,9, -999.00,9,-999.000,9,-999.000,   9.000,     8.0430,-999.0000, -999.00
32OC19880723,       A16N,      11,          2,         13,         13,2,19880725,       1041,    59.8433,   -19.9867,       2730,   506.0,  35.1113,2,-999.0000,9,    258.8,2,   262.5,2,    7.00,2,   15.00,2,    0.02,2,    0.97,2,   3.170,2,   1.497,2,-999.000,9,-999.0000,9, -999.00,9,-999.000,9,-999.000,-999.000,     7.4870,-999.0000, -999.00
32OC19880723,       A16N,      11,          2,         14,         14,2,19880725,       1041,    59.8433,   -19.9867,       2730,   506.0,  35.1113,2,  35.0820,3,    258.8,2,   262.1,2,    7.00,2,   14.90,2,    0.03,2,    0.95,2,   3.215,2,   1.499,2,-999.000,9,-999.0000,9, -999.00,9,-999.000,9,-999.000,   9.000,     7.4870,-999.0000, -999.00
32OC19880723,       A16N,      11,          2,         15,         15,2,19880725,       1041,    59.8433,   -19.9867,       2730,   703.6,  35.1122,2,  35.1190,2,    270.6,2,   265.6,2,    7.10,3,   14.90,3,    0.03,2,    1.06,2,   3.089,2,   1.464,2,-999.000,9,-999.0000,9, -999.00,9,-999.000,9,-999.000,-999.000,     7.0710,-999.0000, -999.00
32OC19880723,       A16N,      11,          2,         16,         16,2,19880725,       1041,    59.8433,   -19.9867,       2730,   802.2,  35.0450,2,  35.0440,2,    237.0,2,   232.1,3,   10.00,2,   17.60,2,    0.03,2,    1.07,2,   2.163,4,   0.901,4,-999.000,9,-999.0000,9, -999.00,9,-999.000,9,-999.000,   9.000,     6.2830,-999.0000, -999.00
32OC19880723,       A16N,      11,          2,         17,         17,2,19880725,       1041,    59.8433,   -19.9867,       2730,  1001.8,  34.9807,2,  34.9790,2,    240.5,2,   241.6,2,   10.70,2,   18.00,2,    0.01,2,    1.09,2,   1.764,2,   0.760,2,-999.000,9,-999.0000,9, -999.00,9,-999.000,9,-999.000,-999.000,     5.0100,-999.0000, -999.00
32OC19880723,       A16N,      11,          2,         18,         18,2,19880725,       1041,    59.8433,   -19.9867,       2730,  1201.7,  34.9323,2,  34.9320,2,    258.0,2,   260.3,2,   10.40,2,   17.50,2,    0.00,2,    1.07,2,   1.805,2,   0.811,2,-999.000,9,-999.0000,9, -999.00,9,-999.000,9,-999.000,   9.000,     4.2640,-999.0000, -999.00
32OC19880723,       A16N,      11,          2,         19,         19,2,19880725,       1041,    59.8433,   -19.9867,       2730,  1401.8,  34.9084,2,  34.9100,2,    272.2,2,   272.0,2,   10.10,2,   17.20,2,    0.00,2, -999.00,9,   1.818,2,   0.771,2,-999.000,9,-999.0000,9, -999.00,9,-999.000,9,-999.000,-999.000,     3.8980,-999.0000, -999.00
32OC19880723,       A16N,      11,          2,         20,         20,2,19880725,       1041,    59.8433,   -19.9867,       2730,  1606.2,  34.8964,2,  34.9020,2,    277.9,2,   276.8,2,   10.00,2,   16.80,2,    0.01,2,    1.03,2,   1.715,2,   0.743,2,-999.000,9,-999.0000,9, -999.00,9,-999.000,9,-999.000,   9.000,     3.6810,-999.0000, -999.00
32OC19880723,       A16N,      11,          2,         21,         21,2,19880725,       1041,    59.8433,   -19.9867,       2730,  2008.5,  34.9262,2,  34.9230,2,    275.2,2,   275.9,2,   11.00,2,   16.70,2,    0.01,2,    1.01,2,   1.026,2,   0.493,2,-999.000,9,-999.0000,9, -999.00,9,-999.000,9,-999.000,-999.000,     3.5460,-999.0000, -999.00
32OC19880723,       A16N,      11,          2,         22,         22,2,19880725,       1041,    59.8433,   -19.9867,       2730,  2216.0,  34.9478,2,  34.9500,2,    270.9,2,   273.3,2,   11.90,2,   16.70,2,    0.01,2,    1.02,2,   0.913,2,   0.375,2,-999.000,9,-999.0000,9, -999.00,9,-999.000,9,-999.000,   9.000,     3.4610,-999.0000, -999.00
32OC19880723,       A16N,      11,          2,         23,         23,2,19880725,       1041,    59.8433,   -19.9867,       2730,  2505.3,  34.9698,2,  34.9690,2,    272.0,2,   271.5,2,   14.40,2,   16.60,2,    0.00,2,    1.02,2,-999.000,9,-999.000,9,-999.000,9,-999.0000,9, -999.00,9,-999.000,9,-999.000,-999.000,     3.0480,-999.0000, -999.00
32OC19880723,       A16N,      11,          2,         24,         24,2,19880725,       1041,    59.8433,   -19.9867,       2730,  2760.3,  34.9760,2,  34.9750,2,    278.5,2,   278.1,2,   11.60,2,   15.30,2,    0.01,2,    0.95,2,   1.744,4,   0.731,4,-999.000,9,-999.0000,9, -999.00,9,-999.000,9,-999.000,   9.000,     2.5200,-999.0000, -999.00
32OC19880723,       A16N,      11,          2,         99,     -999.0,9,19880725,       1041,    59.8433,   -19.9867,       2730,  2763.7,  34.9758,2,-999.0000,9,    278.5,2,  -999.0,9, -999.00,9, -999.00,9, -999.00,9, -999.00,9,-999.000,9,-999.000,9,-999.000,9,-999.0000,9, -999.00,9,-999.000,9,-999.000,-999.000,     2.5180,-999.0000, -999.00