BOTTLE,20220922CCHSIOAMB
EXPOCODE,SECT_ID,STNNBR,CASTNO,SAMPNO,BTLNBR,BTLNBR_FLAG_W,DATE,TIME,LATITUDE,LONGITUDE,DEPTH,CTDPRS,CTDSAL,CTDSAL_FLAG_W,SALNTY,SALNTY_FLAG_W,CTDOXY,CTDOXY_FLAG_W,OXYGEN,OXYGEN_FLAG_W,SILCAT,SILCAT_FLAG_W,NITRAT,NITRAT_FLAG_W,NITRIT,NITRIT_FLAG_W,PHSPHT,PHSPHT_FLAG_W,CFC-11,CFC-11_FLAG_W,CFC-12,CFC-12_FLAG_W,TRITUM,TRITUM_FLAG_W,HELIUM,HELIUM_FLAG_W,DELHE3,DELHE3_FLAG_W,NEON,NEON_FLAG_W,NEONER,TRITER,CTDTMP,HELIER,DELHER
,,,,,,,,,,,METERS,DBAR,PSS-78,,PSS-78,,UMOL/KG,,UMOL/KG,,UMOL/KG,,UMOL/KG,,UMOL/KG,,UMOL/KG,,PMOL/KG,,PMOL/KG,,TU,,NMOL/KG,,PERCNT,,NMOL/KG,,NMOL/KG,TU,IPTS-68,NMOL/KG,PERCNT
32OC19880723,       A16N,      91,          1,          7,          7,2,19880817,       0618,    17.0167,   -28.9983,       4871,    13.0,  36.5508,2,  36.5410,2,    207.0,2,   206.6,2,    0.00,2,    0.10,2,    0.00,2,    0.03,2,   1.809,2,   0.894,2,-999.000,9,-999.0000,9, -999.00,9,-999.000,9,-999.000,   9.000,    25.3480,-999.0000, -999.00
32OC19880723,       A16N,      91,          1,          8,          8,2,19880817,       0618,    17.0167,   -28.9983,       4871,    38.4,  36.5498,2,  36.5400,2,    208.3,2,   207.1,2,    0.00,2,    0.20,2,    0.00,2,    0.03,2,   1.771,2,   0.867,2,-999.000,9,-999.0000,9, -999.00,9,-999.000,9,-999.000,-999.000,    25.3560,-999.0000, -999.00
32OC19880723,       A16N,      91,          1,          9,          9,2,19880817,       0618,    17.0167,   -28.9983,       4871,    68.5,  36.8255,2,  36.7880,2,    223.0,2,   217.7,2,    0.30,2,    0.50,2,    0.00,2,    0.08,2,-999.000,9,-999.000,9,-999.000,9,-999.0000,9, -999.00,9,-999.000,9,-999.000,   9.000,    22.0490,-999.0000, -999.00
32OC19880723,       A16N,      91,          1,         10,         10,2,19880817,       0618,    17.0167,   -28.9983,       4871,   108.7,  36.6112,2,  36.5870,2,    148.8,2,   148.8,2,    2.00,2,    9.80,2,    0.04,2,    0.55,2,   1.710,2,   0.809,2,-999.000,9,-999.0000,9, -999.00,9,-999.000,9,-999.000,-999.000,    19.0300,-999.0000, -999.00
32OC19880723,       A16N,      91,          1,         11,         11,2,19880817,       0618,    17.0167,   -28.9983,       4871,   158.7,  36.2180,2,  36.2120,2,    119.2,2,   119.2,2,    4.00,2,   15.60,2,    0.00,2,    0.91,2,   1.409,2,   0.660,2,-999.000,9,-999.0000,9, -999.00,9,-999.000,9,-999.000,   9.000,    16.5440,-999.0000, -999.00
32OC19880723,       A16N,      91,          1,         12,         12,2,19880817,       0618,    17.0167,   -28.9983,       4871,   208.9,  35.9430,2,  35.9000,2,     96.5,2,    89.2,2,    6.20,2,   21.50,2,    0.00,2,    1.24,2,   1.038,2,   0.471,2,-999.000,9,-999.0000,9, -999.00,9,-999.000,9,-999.000,-999.000,    14.9240,-999.0000, -999.00
32OC19880723,       A16N,      91,          1,         13,         13,2,19880817,       0618,    17.0167,   -28.9983,       4871,   309.2,  35.5954,2,  35.5560,2,     92.4,2,    87.8,2,    9.10,2,   25.00,2,    0.00,2,    1.46,2,   0.513,2,   0.236,2,-999.000,9,-999.0000,9, -999.00,9,-999.000,9,-999.000,   9.000,    12.5730,-999.0000, -999.00
32OC19880723,       A16N,      91,          1,         14,         14,2,19880817,       0618,    17.0167,   -28.9983,       4871,   409.9,  35.2863,2,  35.2740,2,     84.8,2,    83.5,2,   12.80,2,   29.20,2,    0.00,2,    1.76,2,   0.204,2,   0.086,2,-999.000,9,-999.0000,9, -999.00,9,-999.000,9,-999.000,-999.000,    10.5950,-999.0000, -999.00
32OC19880723,       A16N,      91,          1,         15,         15,2,19880817,       0618,    17.0167,   -28.9983,       4871,   609.0,  34.9335,2,  34.9550,2,     92.1,2,    91.3,2,   19.00,2,   33.00,2,    0.00,2,    2.06,2,   0.082,2,   0.006,7,-999.000,9,-999.0000,9, -999.00,9,-999.000,9,-999.000,   9.000,     8.0780,-999.0000, -999.00
32OC19880723,       A16N,      91,          1,         16,         16,2,19880817,       0618,    17.0167,   -28.9983,       4871,   806.7,  34.8420,2,  34.8470,2,    101.4,2,   102.2,2,   23.10,2,   34.40,2,    0.00,2,    2.19,2,   0.011,3,  -0.001,2,-999.000,9,-999.0000,9, -999.00,9,-999.000,9,-999.000,-999.000,     6.7320,-999.0000, -999.00
32OC19880723,       A16N,      91,          1,         17,         17,2,19880817,       0618,    17.0167,   -28.9983,       4871,  1003.1,  34.9140,2,  34.8980,2,    130.5,2,   129.5,2,   23.60,2,   31.10,2,    0.00,2,    2.03,2,  -0.029,3,   0.002,7,-999.000,9,-999.0000,9, -999.00,9,-999.000,9,-999.000,   9.000,     6.0800,-999.0000, -999.00
32OC19880723,       A16N,      91,          1,         18,         18,2,19880817,       0618,    17.0167,   -28.9983,       4871,  1200.2,  35.0118,2,  35.0040,2,    162.5,2,   162.1,2,   22.10,2,   26.90,2,    0.00,2,    1.78,2,  -0.004,2,  -0.001,2,-999.000,9,-999.0000,9, -999.00,9,-999.000,9,-999.000,-999.000,     5.5600,-999.0000, -999.00
32OC19880723,       A16N,      91,          1,         19,         19,2,19880817,       0618,    17.0167,   -28.9983,       4871,  1401.6,  35.0244,2,  35.0230,2,    189.7,2,   191.6,2,   21.50,2,   24.20,2,    0.00,2,    1.60,2,   0.017,2,  -0.001,2,-999.000,9,-999.0000,9, -999.00,9,-999.000,9,-999.000,   9.000,     4.8980,-999.0000, -999.00
32OC19880723,       A16N,      91,          1,         20,         20,2,19880817,       0618,    17.0167,   -28.9983,       4871,  1604.9,  35.0064,2,  35.0060,2,    207.7,2,   210.3,2,   22.60,2,   23.00,2,    0.00,2,    1.50,2,   0.019,2,  -0.001,2,-999.000,9,-999.0000,9, -999.00,9,-999.000,9,-999.000,-999.000,     4.2750,-999.0000, -999.00
32OC19880723,       A16N,      91,          1,         21,         21,2,19880817,       0618,    17.0167,   -28.9983,       4871,  1958.7,  34.9826,2,  34.9820,2,    229.8,2,   232.0,2,   23.80,2,   21.30,2,    0.00,2,    1.41,2,   0.026,2,  -0.001,2,-999.000,9,-999.0000,9, -999.00,9,-999.000,9,-999.000,   9.000,     3.6590,-999.0000, -999.00
32OC19880723,       A16N,      91,          1,         22,         22,2,19880817,       0618,    17.0167,   -28.9983,       4871,  2311.2,  34.9629,2,  34.9630,2,    239.1,2,   241.1,2,   26.70,2,   21.00,2,    0.01,2,    1.36,2,  -0.007,2,  -0.001,2,-999.000,9,-999.0000,9, -999.00,9,-999.000,9,-999.000,-999.000,     3.2880,-999.0000, -999.00
32OC19880723,       A16N,      91,          1,         23,         23,2,19880817,       0618,    17.0167,   -28.9983,       4871,  2662.8,  34.9475,2,  34.9480,2,    245.2,2,   245.0,2,   30.60,2,   20.60,2,    0.01,2,    1.36,2,   0.007,2,   0.002,7,-999.000,9,-999.0000,9, -999.00,9,-999.000,9,-999.000,   9.000,     3.0060,-999.0000, -999.00
32OC19880723,       A16N,      91,          1,         24,         24,2,19880817,       0618,    17.0167,   -28.9983,       4871,  3016.2,  34.9336,2,  34.9330,2,    245.7,2,   245.0,2,   35.50,2,   21.10,2,    0.01,2,    1.39,2,   0.010,2,   0.002,7,-999.000,9,-999.0000,9, -999.00,9,-999.000,9,-999.000,-999.000,     2.7630,-999.0000, -999.00
32OC19880723,       A16N,      91,          1,          1,          1,2,19880817,       0618,    17.0167,   -28.9983,       4871,  3373.1,  34.9167,2,  34.9160,2,    243.6,2,   243.3,2,   40.30,2,   21.30,2,    0.01,2,    1.45,2,-999.000,9,-999.000,9,-999.000,9,-999.0000,9, -999.00,9,-999.000,9,-999.000,   9.000,     2.5580,-999.0000, -999.00
32OC19880723,       A16N,      91,          1,          2,          2,2,19880817,       0618,    17.0167,   -28.9983,       4871,  3727.5,  34.9027,2,  34.9010,2,    242.9,2,   242.4,2,   43.90,2,   22.30,2,    0.01,2,    1.47,2,  -0.004,2,   0.002,7,-999.000,9,-999.0000,9, -999.00,9,-999.000,9,-999.000,-999.000,     2.4310,-999.0000, -999.00
32OC19880723,       A16N,      91,          1,          3,          3,2,19880817,       0618,    17.0167,   -28.9983,       4871,  4084.0,  34.8927,2,  34.8950,2,    242.0,2,   241.6,2,   46.80,2,   23.00,2,    0.01,2,    1.48,2,-999.000,9,-999.000,9,-999.000,9,-999.0000,9, -999.00,9,-999.000,9,-999.000,   9.000,     2.3670,-999.0000, -999.00
32OC19880723,       A16N,      91,          1,          4,          4,2,19880817,       0618,    17.0167,   -28.9983,       4871,  4438.8,  34.8832,2,  34.8820,2,    240.3,2,   240.7,2,   49.00,2,   23.10,2,    0.02,2,    1.48,2,  -0.038,3,  -0.001,2,-999.000,9,-999.0000,9, -999.00,9,-999.000,9,-999.000,-999.000,     2.3340,-999.0000, -999.00
32OC19880723,       A16N,      91,          1,          5,          5,2,19880817,       0618,    17.0167,   -28.9983,       4871,  4745.6,  34.8790,2,  34.8780,2,    241.6,2,   241.6,2,   49.60,2,   22.90,2,    0.02,2,    1.47,2,-999.000,9,-999.000,9,-999.000,9,-999.0000,9, -999.00,9,-999.000,9,-999.000,   9.000,     2.3330,-999.0000, -999.00
32OC19880723,       A16N,      91,          1,          6,          6,2,19880817,       0618,    17.0167,   -28.9983,       4871,  4947.2,  34.8790,2,  34.8810,2,    241.2,2,   242.0,2,   49.70,2,   23.00,2,    0.02,2,    1.48,2,   0.025,2,  -0.001,2,-999.000,9,-999.0000,9, -999.00,9,-999.000,9,-999.000,-999.000,     2.3510,-999.0000, -999.00
32OC19880723,       A16N,      91,          1,         99,     -999.0,9,19880817,       0618,    17.0167,   -28.9983,       4871,  4948.9,  34.8791,2,-999.0000,9,    241.2,2,  -999.0,9, -999.00,9, -999.00,9, -999.00,9, -999.00,9,-999.000,9,-999.000,9,-999.000,9,-999.0000,9, -999.00,9,-999.000,9,-999.000,   9.000,     2.3520,-999.0000, -999.00
32OC19880723,       A16N,      92,          1,          7,          7,2,19880817,       1211,    16.2550,   -28.9450,       5108,    13.8,  36.5011,2,  36.4950,2,    207.8,2,   207.5,2,    0.20,2,    0.10,2,    0.00,2,    0.05,2,   1.733,2,   0.880,2,-999.000,9,-999.0000,9, -999.00,9,-999.000,9,-999.000,-999.000,    25.5130,-999.0000, -999.00
32OC19880723,       A16N,      92,          1,          8,          8,2,19880817,       1211,    16.2550,   -28.9450,       5108,    38.0,  36.5013,2,  36.6330,2,    210.7,2,   222.7,2,    0.20,2,    0.30,2,    0.00,2,    0.02,2,   1.928,2,   0.939,2,-999.000,9,-999.0000,9, -999.00,9,-999.000,9,-999.000,   9.000,    23.9030,-999.0000, -999.00
32OC19880723,       A16N,      92,          1,          9,          9,2,19880817,       1211,    16.2550,   -28.9450,       5108,    67.4,  36.7789,2,  36.8360,2,    216.6,2,   204.2,2,    0.50,2,    0.60,2,    0.09,2,    0.11,2,   1.912,2,   0.930,2,-999.000,9,-999.0000,9, -999.00,9,-999.000,9,-999.000,-999.000,    21.4370,-999.0000, -999.00
32OC19880723,       A16N,      92,          1,         10,         10,2,19880817,       1211,    16.2550,   -28.9450,       5108,   104.2,  36.5657,2,  36.3390,3,    149.4,2,   118.8,3,    3.40,2,   14.40,2,    0.04,2,    0.83,2,   1.520,2,   0.715,2,-999.000,9,-999.0000,9, -999.00,9,-999.000,9,-999.000,   9.000,    17.7170,-999.0000, -999.00
32OC19880723,       A16N,      92,          1,         11,         11,2,19880817,       1211,    16.2550,   -28.9450,       5108,   149.4,  36.1222,2,  35.8970,3,     99.6,2,    90.5,2,    6.40,2,   20.80,2,    0.00,2,    1.18,2,   0.985,2,   0.483,2,-999.000,9,-999.0000,9, -999.00,9,-999.000,9,-999.000,-999.000,    14.9360,-999.0000, -999.00
32OC19880723,       A16N,      92,          1,         12,         12,2,19880817,       1211,    16.2550,   -28.9450,       5108,   195.1,  35.8036,2,  35.6950,2,     83.9,2,    80.5,2,    8.00,2,   23.80,2,    0.00,2,    1.37,2,   0.753,2,   0.363,2,-999.000,9,-999.0000,9, -999.00,9,-999.000,9,-999.000,   9.000,    13.6610,-999.0000, -999.00
32OC19880723,       A16N,      92,          1,         13,         13,2,19880817,       1211,    16.2550,   -28.9450,       5108,   284.0,  35.5191,2,  35.4650,2,     78.9,2,    77.4,2,   10.20,2,   26.40,2,    0.00,2,    1.53,2,   0.407,2,   0.212,2,-999.000,9,-999.0000,9, -999.00,9,-999.000,9,-999.000,-999.000,    12.2040,-999.0000, -999.00
32OC19880723,       A16N,      92,          1,         14,         14,2,19880817,       1211,    16.2550,   -28.9450,       5108,   371.5,  35.2761,2,  35.2570,2,     70.2,2,    70.4,2,   12.80,2,   29.90,2,    0.00,2,    1.76,2,   0.205,2,   0.101,2,-999.000,9,-999.0000,9, -999.00,9,-999.000,9,-999.000,   9.000,    10.7990,-999.0000, -999.00
32OC19880723,       A16N,      92,          1,         15,         15,2,19880817,       1211,    16.2550,   -28.9450,       5108,   550.3,  35.0400,2,  35.0410,2,     77.5,2,    70.4,2,   18.10,2,   33.50,2,    0.00,2,    2.19,2,   0.052,2,   0.012,7,-999.000,9,-999.0000,9, -999.00,9,-999.000,9,-999.000,-999.000,     8.9040,-999.0000, -999.00
32OC19880723,       A16N,      92,          1,         16,         16,2,19880817,       1211,    16.2550,   -28.9450,       5108,   734.2,  34.8915,2,  34.8810,2,     89.9,2,    92.6,2,   22.20,2,   33.80,2,    0.00,2,    2.11,2,   0.031,2,   0.002,7,-999.000,9,-999.0000,9, -999.00,9,-999.000,9,-999.000,   9.000,     7.2190,-999.0000, -999.00
32OC19880723,       A16N,      92,          1,         17,         17,2,19880817,       1211,    16.2550,   -28.9450,       5108,   966.2,  34.8590,2,  34.8630,2,    125.9,2,   123.4,2,   24.60,2,   31.80,2,    0.00,2,    2.03,2,-999.000,9,-999.000,9,-999.000,9,-999.0000,9, -999.00,9,-999.000,9,-999.000,-999.000,     6.0020,-999.0000, -999.00
32OC19880723,       A16N,      92,          1,         18,         18,2,19880817,       1211,    16.2550,   -28.9450,       5108,  1203.8,  34.9664,2,  34.9560,2,    163.1,2,   159.1,2,   23.10,2,   27.90,2,    0.00,2,    1.79,2,-999.000,9,-999.000,9,-999.000,9,-999.0000,9, -999.00,9,-999.000,9,-999.000,   9.000,     5.4390,-999.0000, -999.00
32OC19880723,       A16N,      92,          1,         19,         19,2,19880817,       1211,    16.2550,   -28.9450,       5108,  1446.8,  35.0122,2,  35.0120,2,    193.0,2,   192.9,2,   22.50,2,   24.40,2,    0.00,2,    1.56,2,-999.000,9,-999.000,9,-999.000,9,-999.0000,9, -999.00,9,-999.000,9,-999.000,-999.000,     4.7580,-999.0000, -999.00
32OC19880723,       A16N,      92,          1,         20,         20,2,19880817,       1211,    16.2550,   -28.9450,       5108,  1689.6,  34.9990,2,  34.9990,2,    215.5,2,   217.7,2,   22.80,2,   22.30,2,    0.00,2,    1.43,2,-999.000,9,-999.000,9,-999.000,9,-999.0000,9, -999.00,9,-999.000,9,-999.000,   9.000,     4.1180,-999.0000, -999.00
32OC19880723,       A16N,      92,          1,         21,         21,2,19880817,       1211,    16.2550,   -28.9450,       5108,  2025.6,  34.9755,2,  34.9760,2,    231.8,2,   235.5,2,   24.50,2,   21.20,2,    0.01,2,    1.35,2,-999.000,9,-999.000,9,-999.000,9,-999.0000,9, -999.00,9,-999.000,9,-999.000,-999.000,     3.5610,-999.0000, -999.00
32OC19880723,       A16N,      92,          1,         22,         22,2,19880817,       1211,    16.2550,   -28.9450,       5108,  2370.1,  34.9570,2,  34.9590,2,    243.3,2,   245.5,2,   27.00,2,   20.60,2,    0.01,2,    1.33,2,-999.000,9,-999.000,9,-999.000,9,-999.0000,9, -999.00,9,-999.000,9,-999.000,   9.000,     3.2070,-999.0000, -999.00
32OC19880723,       A16N,      92,          1,         23,         23,2,19880817,       1211,    16.2550,   -28.9450,       5108,  2720.9,  34.9438,2,  34.9430,2,    246.8,2,   247.7,2,   31.40,2,   20.70,2,    0.01,2,    1.32,2,-999.000,9,-999.000,9,-999.000,9,-999.0000,9, -999.00,9,-999.000,9,-999.000,-999.000,     2.9340,-999.0000, -999.00
32OC19880723,       A16N,      92,          1,         24,         24,2,19880817,       1211,    16.2550,   -28.9450,       5108,  3074.9,  34.9289,2,  34.9280,2,    247.0,2,   246.8,2,   36.10,2,   21.10,2,    0.01,2,    1.37,2,-999.000,9,-999.000,9,-999.000,9,-999.0000,9, -999.00,9,-999.000,9,-999.000,   9.000,     2.7150,-999.0000, -999.00
32OC19880723,       A16N,      92,          1,          1,          1,2,19880817,       1211,    16.2550,   -28.9450,       5108,  3431.3,  34.9139,2,  34.9130,2,    245.1,2,   245.5,2,   40.30,2,   21.60,2,    0.01,2,    1.41,2,-999.000,9,-999.000,9,-999.000,9,-999.0000,9, -999.00,9,-999.000,9,-999.000,-999.000,     2.5400,-999.0000, -999.00
32OC19880723,       A16N,      92,          1,          2,          2,2,19880817,       1211,    16.2550,   -28.9450,       5108,  3788.3,  34.9005,2,  34.8990,2,    242.9,2,   242.4,2,   44.50,2,   22.10,2,    0.00,2,    1.42,2,-999.000,9,-999.000,9,-999.000,9,-999.0000,9, -999.00,9,-999.000,9,-999.000,   9.000,     2.4190,-999.0000, -999.00
32OC19880723,       A16N,      92,          1,          3,          3,2,19880817,       1211,    16.2550,   -28.9450,       5108,  4147.7,  34.8908,2,  34.8890,2,    239.8,2,   239.4,2,   48.00,2,   22.20,2,    0.00,2,    1.44,2,-999.000,9,-999.000,9,-999.000,9,-999.0000,9, -999.00,9,-999.000,9,-999.000,-999.000,     2.3620,-999.0000, -999.00
32OC19880723,       A16N,      92,          1,          4,          4,2,19880817,       1211,    16.2550,   -28.9450,       5108,  4513.4,  34.8820,2,  34.8820,2,    238.8,2,   238.5,2,   50.00,2,   22.90,2,    0.00,2,    1.47,2,-999.000,9,-999.000,9,-999.000,9,-999.0000,9, -999.00,9,-999.000,9,-999.000,   9.000,     2.3400,-999.0000, -999.00
32OC19880723,       A16N,      92,          1,          5,          5,2,19880817,       1211,    16.2550,   -28.9450,       5108,  4896.3,  34.8770,2,  34.8780,2,    241.4,2,   241.6,2,   49.90,2,   22.50,2,    0.00,2,    1.46,2,-999.000,9,-999.000,9,-999.000,9,-999.0000,9, -999.00,9,-999.000,9,-999.000,-999.000,     2.3360,-999.0000, -999.00
32OC19880723,       A16N,      92,          1,          6,          6,2,19880817,       1211,    16.2550,   -28.9450,       5108,  5190.6,  34.8742,2,  34.8740,2,    244.2,2,   243.7,2,   49.90,2,   22.20,2,    0.01,2,    1.44,2,-999.000,9,-999.000,9,-999.000,9,-999.0000,9, -999.00,9,-999.000,9,-999.000,   9.000,     2.3330,-999.0000, -999.00
32OC19880723,       A16N,      92,          1,         99,     -999.0,9,19880817,       1211,    16.2550,   -28.9450,       5108,  5191.7,  34.8742,2,-999.0000,9,    244.1,2,  -999.0,9, -999.00,9, -999.00,9, -999.00,9, -999.00,9,-999.000,9,-999.000,9,-999.000,9,-999.0000,9, -999.00,9,-999.000,9,-999.000,-999.000,     2.3340,-999.0000, -999.00