BOTTLE,20220922CCHSIOAMB
EXPOCODE,SECT_ID,STNNBR,CASTNO,SAMPNO,BTLNBR,BTLNBR_FLAG_W,DATE,TIME,LATITUDE,LONGITUDE,DEPTH,CTDPRS,CTDSAL,CTDSAL_FLAG_W,SALNTY,SALNTY_FLAG_W,CTDOXY,CTDOXY_FLAG_W,OXYGEN,OXYGEN_FLAG_W,SILCAT,SILCAT_FLAG_W,NITRAT,NITRAT_FLAG_W,NITRIT,NITRIT_FLAG_W,PHSPHT,PHSPHT_FLAG_W,CFC-11,CFC-11_FLAG_W,CFC-12,CFC-12_FLAG_W,TRITUM,TRITUM_FLAG_W,HELIUM,HELIUM_FLAG_W,DELHE3,DELHE3_FLAG_W,NEON,NEON_FLAG_W,NEONER,TRITER,CTDTMP,HELIER,DELHER
,,,,,,,,,,,METERS,DBAR,PSS-78,,PSS-78,,UMOL/KG,,UMOL/KG,,UMOL/KG,,UMOL/KG,,UMOL/KG,,UMOL/KG,,PMOL/KG,,PMOL/KG,,TU,,NMOL/KG,,PERCNT,,NMOL/KG,,NMOL/KG,TU,IPTS-68,NMOL/KG,PERCNT
32OC19880723,       A16N,     129,          1,          1,          1,2,19880827,       2236,    11.9500,   -21.7333,       4954,    13.8,  35.6290,2,  35.6110,2,    205.2,2,   206.0,2,    0.30,2,    0.00,2,    0.00,2,    0.11,2,-999.000,9,-999.000,9,-999.000,9,-999.0000,9, -999.00,9,-999.000,9,-999.000,-999.000,    26.7580,-999.0000, -999.00
32OC19880723,       A16N,     129,          1,          2,          2,2,19880827,       2236,    11.9500,   -21.7333,       4954,    57.4,  35.6416,2,  35.6060,2,     66.0,2,    62.2,2,    6.10,2,   23.30,2,    0.07,2,    1.50,2,-999.000,9,-999.000,9,-999.000,9,-999.0000,9, -999.00,9,-999.000,9,-999.000,   9.000,    15.9540,-999.0000, -999.00
32OC19880723,       A16N,     129,          1,          3,          3,2,19880827,       2236,    11.9500,   -21.7333,       4954,   103.0,  35.4637,2,  35.4430,2,     71.3,2,    71.8,2,    7.70,2,   25.40,2,    0.01,2,    1.61,2,-999.000,9,-999.000,9,-999.000,9,-999.0000,9, -999.00,9,-999.000,9,-999.000,-999.000,    14.2290,-999.0000, -999.00
32OC19880723,       A16N,     129,          1,          4,          4,2,19880827,       2236,    11.9500,   -21.7333,       4954,   147.6,  35.3651,2,  35.3600,2,     78.9,2,    78.7,2,    8.50,2,   25.30,2,    0.01,2,    1.63,2,-999.000,9,-999.000,9,-999.000,9,-999.0000,9, -999.00,9,-999.000,9,-999.000,   9.000,    13.4580,-999.0000, -999.00
32OC19880723,       A16N,     129,          1,          5,          5,2,19880827,       2236,    11.9500,   -21.7333,       4954,   190.5,  35.2928,2,  35.2920,2,     78.0,2,    78.7,2,    9.40,2,   26.80,2,    0.01,2,    1.69,2,-999.000,9,-999.000,9,-999.000,9,-999.0000,9, -999.00,9,-999.000,9,-999.000,-999.000,    12.7670,-999.0000, -999.00
32OC19880723,       A16N,     129,          1,          6,          6,2,19880827,       2236,    11.9500,   -21.7333,       4954,   277.6,  35.2534,2,  35.2380,2,     65.6,2,    64.4,2,   11.00,2,   30.00,2,    0.00,2,    1.82,2,-999.000,9,-999.000,9,-999.000,9,-999.0000,9, -999.00,9,-999.000,9,-999.000,   9.000,    11.6770,-999.0000, -999.00
32OC19880723,       A16N,     129,          1,          7,          7,2,19880827,       2236,    11.9500,   -21.7333,       4954,   364.6,  35.2411,2,  35.2400,2,     47.9,2,    46.1,2,   13.00,2,   33.30,2,    0.00,2,    2.01,2,-999.000,9,-999.000,9,-999.000,9,-999.0000,9, -999.00,9,-999.000,9,-999.000,-999.000,    10.9590,-999.0000, -999.00
32OC19880723,       A16N,     129,          1,          8,          8,2,19880827,       2236,    11.9500,   -21.7333,       4954,   541.7,  34.9802,2,  34.9660,2,     50.3,2,    52.6,2,   18.90,2,   36.80,2,    0.00,2,    2.35,2,-999.000,9,-999.000,9,-999.000,9,-999.0000,9, -999.00,9,-999.000,9,-999.000,   9.000,     8.5110,-999.0000, -999.00
32OC19880723,       A16N,     129,          1,          9,          9,2,19880827,       2236,    11.9500,   -21.7333,       4954,   722.7,  34.8251,2,  34.8060,2,     76.7,2,    81.3,2,   23.70,2,   37.50,2,    0.00,2,    2.39,2,-999.000,9,-999.000,9,-999.000,9,-999.0000,9, -999.00,9,-999.000,9,-999.000,-999.000,     6.7570,-999.0000, -999.00
32OC19880723,       A16N,     129,          1,         10,         10,2,19880827,       2236,    11.9500,   -21.7333,       4954,   907.2,  34.7938,2,  34.7950,2,    109.4,2,   114.8,2,   25.80,2,   35.50,2,    0.00,2,    2.32,2,-999.000,9,-999.000,9,-999.000,9,-999.0000,9, -999.00,9,-999.000,9,-999.000,   9.000,     5.7620,-999.0000, -999.00
32OC19880723,       A16N,     129,          1,         11,         11,2,19880827,       2236,    11.9500,   -21.7333,       4954,  1093.8,  34.8606,2,  34.8680,2,    139.8,2,   143.0,2,   25.10,2,   32.30,2,    0.00,2,    2.12,2,-999.000,9,-999.000,9,-999.000,9,-999.0000,9, -999.00,9,-999.000,9,-999.000,-999.000,     5.2650,-999.0000, -999.00
32OC19880723,       A16N,     129,          1,         12,         12,2,19880827,       2236,    11.9500,   -21.7333,       4954,  1475.5,  34.9516,2,-999.0000,9,    201.7,2,  -999.0,9, -999.00,9, -999.00,9, -999.00,9, -999.00,9,-999.000,9,-999.000,9,-999.000,9,-999.0000,9, -999.00,9,-999.000,9,-999.000,   9.000,     4.2840,-999.0000, -999.00
32OC19880723,       A16N,     129,          1,         13,         13,2,19880827,       2236,    11.9500,   -21.7333,       4954,  1858.2,  34.9640,2,  34.9640,2,    230.9,2,   233.3,2,   22.00,2,   22.50,2,    0.00,2, -999.00,9,-999.000,9,-999.000,9,-999.000,9,-999.0000,9, -999.00,9,-999.000,9,-999.000,-999.000,     3.6780,-999.0000, -999.00
32OC19880723,       A16N,     129,          1,         14,         14,2,19880827,       2236,    11.9500,   -21.7333,       4954,  2294.6,  34.9513,2,  34.9530,2,    239.2,2,   239.0,2,   27.30,2,   22.30,2,    0.00,2, -999.00,9,-999.000,9,-999.000,9,-999.000,9,-999.0000,9, -999.00,9,-999.000,9,-999.000,   9.000,     3.2190,-999.0000, -999.00
32OC19880723,       A16N,     129,          1,         15,         15,2,19880827,       2236,    11.9500,   -21.7333,       4954,  2739.7,  34.9334,2,  34.9330,2,    242.0,2,   242.0,2,   32.60,2,   22.10,2,    0.00,2, -999.00,9,-999.000,9,-999.000,9,-999.000,9,-999.0000,9, -999.00,9,-999.000,9,-999.000,-999.000,     2.8590,-999.0000, -999.00
32OC19880723,       A16N,     129,          1,         16,         16,2,19880827,       2236,    11.9500,   -21.7333,       4954,  3187.6,  34.9188,2,  34.9190,2,    246.4,2,   245.5,2,   36.70,2,   22.30,2,    0.00,2, -999.00,9,-999.000,9,-999.000,9,-999.000,9,-999.0000,9, -999.00,9,-999.000,9,-999.000,   9.000,     2.6420,-999.0000, -999.00
32OC19880723,       A16N,     129,          1,         17,         17,2,19880827,       2236,    11.9500,   -21.7333,       4954,  3639.5,  34.9042,2,  34.9040,2,    245.9,2,   244.2,2,   41.20,2,   22.30,2,    0.00,2, -999.00,9,-999.000,9,-999.000,9,-999.000,9,-999.0000,9, -999.00,9,-999.000,9,-999.000,-999.000,     2.4830,-999.0000, -999.00
32OC19880723,       A16N,     129,          1,         18,         18,2,19880827,       2236,    11.9500,   -21.7333,       4954,  3844.6,  34.8973,2,  34.8960,2,    243.8,2,   243.3,2,   43.70,2,   23.40,2,    0.00,2, -999.00,9,-999.000,9,-999.000,9,-999.000,9,-999.0000,9, -999.00,9,-999.000,9,-999.000,   9.000,     2.4170,-999.0000, -999.00
32OC19880723,       A16N,     129,          1,         19,         19,2,19880827,       2236,    11.9500,   -21.7333,       4954,  4052.7,  34.8911,2,  34.8900,2,    243.5,2,   243.3,2,   45.60,2,   23.20,2,    0.00,2, -999.00,9,-999.000,9,-999.000,9,-999.000,9,-999.0000,9, -999.00,9,-999.000,9,-999.000,-999.000,     2.3740,-999.0000, -999.00
32OC19880723,       A16N,     129,          1,         20,         20,2,19880827,       2236,    11.9500,   -21.7333,       4954,  4261.4,  34.8850,2,  34.8850,2,    242.8,2,   242.0,2,   47.40,2,   23.60,2,    0.00,2, -999.00,9,-999.000,9,-999.000,9,-999.000,9,-999.0000,9, -999.00,9,-999.000,9,-999.000,   9.000,     2.3380,-999.0000, -999.00
32OC19880723,       A16N,     129,          1,         21,         21,2,19880827,       2236,    11.9500,   -21.7333,       4954,  4468.9,  34.8782,2,  34.8800,2,    241.1,2,   241.6,2,   50.00,2,   23.90,2,    0.00,2, -999.00,9,-999.000,9,-999.000,9,-999.000,9,-999.0000,9, -999.00,9,-999.000,9,-999.000,-999.000,     2.3160,-999.0000, -999.00
32OC19880723,       A16N,     129,          1,         22,         22,2,19880827,       2236,    11.9500,   -21.7333,       4954,  4675.5,  34.8751,2,  34.8760,2,    240.0,2,   239.4,2,   51.30,2,   24.10,2,    0.02,2,    1.48,2,-999.000,9,-999.000,9,-999.000,9,-999.0000,9, -999.00,9,-999.000,9,-999.000,   9.000,     2.3090,-999.0000, -999.00
32OC19880723,       A16N,     129,          1,         23,         23,2,19880827,       2236,    11.9500,   -21.7333,       4954,  4880.5,  34.8758,2,  34.8770,2,    235.5,2,   235.9,2,   52.50,2,   23.10,2,    0.01,2,    1.47,2,-999.000,9,-999.000,9,-999.000,9,-999.0000,9, -999.00,9,-999.000,9,-999.000,-999.000,     2.3270,-999.0000, -999.00
32OC19880723,       A16N,     129,          1,         24,         24,2,19880827,       2236,    11.9500,   -21.7333,       4954,  5032.9,  34.8755,2,  34.8770,2,    234.2,2,   235.5,2,   53.30,2,   24.00,2,    0.00,2,    1.55,2,-999.000,9,-999.000,9,-999.000,9,-999.0000,9, -999.00,9,-999.000,9,-999.000,   9.000,     2.3340,-999.0000, -999.00
32OC19880723,       A16N,     129,          1,         99,     -999.0,9,19880827,       2236,    11.9500,   -21.7333,       4954,  5034.1,  34.8755,2,-999.0000,9,    234.2,2,  -999.0,9, -999.00,9, -999.00,9, -999.00,9, -999.00,9,-999.000,9,-999.000,9,-999.000,9,-999.0000,9, -999.00,9,-999.000,9,-999.000,-999.000,     2.3340,-999.0000, -999.00