BOTTLE,20220922CCHSIOAMB
EXPOCODE,SECT_ID,STNNBR,CASTNO,SAMPNO,BTLNBR,BTLNBR_FLAG_W,DATE,TIME,LATITUDE,LONGITUDE,DEPTH,CTDPRS,CTDSAL,CTDSAL_FLAG_W,SALNTY,SALNTY_FLAG_W,CTDOXY,CTDOXY_FLAG_W,OXYGEN,OXYGEN_FLAG_W,SILCAT,SILCAT_FLAG_W,NITRAT,NITRAT_FLAG_W,NITRIT,NITRIT_FLAG_W,PHSPHT,PHSPHT_FLAG_W,CFC-11,CFC-11_FLAG_W,CFC-12,CFC-12_FLAG_W,TRITUM,TRITUM_FLAG_W,HELIUM,HELIUM_FLAG_W,DELHE3,DELHE3_FLAG_W,NEON,NEON_FLAG_W,NEONER,TRITER,CTDTMP,HELIER,DELHER
,,,,,,,,,,,METERS,DBAR,PSS-78,,PSS-78,,UMOL/KG,,UMOL/KG,,UMOL/KG,,UMOL/KG,,UMOL/KG,,UMOL/KG,,PMOL/KG,,PMOL/KG,,TU,,NMOL/KG,,PERCNT,,NMOL/KG,,NMOL/KG,TU,IPTS-68,NMOL/KG,PERCNT
32OC19880723,       A16N,      34,          1,          1,          1,2,19880730,       0300,    48.5050,   -19.9933,       4018,     9.6,  35.5887,2,  35.5890,2,    251.0,2,   254.1,2,    0.00,2,    0.20,2,    0.06,2,    0.13,2,-999.000,9,-999.000,9,-999.000,9,-999.0000,9, -999.00,9,-999.000,9,-999.000,   9.000,    15.1630,-999.0000, -999.00
32OC19880723,       A16N,      34,          1,          2,          2,2,19880730,       0300,    48.5050,   -19.9933,       4018,    37.0,  35.6098,2,  35.6180,2,    249.6,2,   248.4,2,    0.70,2,    3.00,2,    0.53,2,    0.27,2,-999.000,9,-999.000,9,-999.000,9,-999.0000,9, -999.00,9,-999.000,9,-999.000,-999.000,    13.8470,-999.0000, -999.00
32OC19880723,       A16N,      34,          1,          3,          3,2,19880730,       0300,    48.5050,   -19.9933,       4018,    67.0,  35.6191,2,  35.6130,2,    247.0,2,   248.7,2,    2.10,2,    7.70,2,    0.09,2,    0.47,2,-999.000,9,-999.000,9,-999.000,9,-999.0000,9, -999.00,9,-999.000,9,-999.000,   9.000,    12.4330,-999.0000, -999.00
32OC19880723,       A16N,      34,          1,          4,          4,2,19880730,       0300,    48.5050,   -19.9933,       4018,   107.5,  35.6245,2,  35.6270,2,    247.8,2,   246.1,2,    3.10,2,    9.50,2,    0.05,2,    0.53,2,-999.000,9,-999.000,9,-999.000,9,-999.0000,9, -999.00,9,-999.000,9,-999.000,-999.000,    12.1290,-999.0000, -999.00
32OC19880723,       A16N,      34,          1,          5,          5,2,19880730,       0300,    48.5050,   -19.9933,       4018,   157.6,  35.5956,2,  35.5960,2,    245.8,2,   246.1,2,    3.60,2,   10.30,2,    0.03,2,    0.58,2,-999.000,9,-999.000,9,-999.000,9,-999.0000,9, -999.00,9,-999.000,9,-999.000,   9.000,    11.7690,-999.0000, -999.00
32OC19880723,       A16N,      34,          1,          6,          6,2,19880730,       0300,    48.5050,   -19.9933,       4018,   207.6,  35.5548,2,  35.5490,2,    246.2,2,   245.7,2,    3.90,2,   10.80,2,    0.01,2,    0.63,2,-999.000,9,-999.000,9,-999.000,9,-999.0000,9, -999.00,9,-999.000,9,-999.000,-999.000,    11.4850,-999.0000, -999.00
32OC19880723,       A16N,      34,          1,          7,          7,2,19880730,       0300,    48.5050,   -19.9933,       4018,   307.4,  35.4566,2,  35.4730,2,    242.2,2,   245.2,2,    4.40,2,   11.60,2,    0.01,2,    0.64,2,-999.000,9,-999.000,9,-999.000,9,-999.0000,9, -999.00,9,-999.000,9,-999.000,   9.000,    10.9660,-999.0000, -999.00
32OC19880723,       A16N,      34,          1,          8,          8,2,19880730,       0300,    48.5050,   -19.9933,       4018,   407.7,  35.4086,2,  35.3850,2,    243.5,2,   247.4,2,    5.00,2,   12.40,2,    0.01,2,    0.72,2,-999.000,9,-999.000,9,-999.000,9,-999.0000,9, -999.00,9,-999.000,9,-999.000,-999.000,    10.4010,-999.0000, -999.00
32OC19880723,       A16N,      34,          1,          9,          9,2,19880730,       0300,    48.5050,   -19.9933,       4018,   507.9,  35.3522,2,  35.3290,2,    238.1,2,   236.1,2,    6.10,2,   13.80,2,    0.01,2,    0.82,2,-999.000,9,-999.000,9,-999.000,9,-999.0000,9, -999.00,9,-999.000,9,-999.000,   9.000,     9.9610,-999.0000, -999.00
32OC19880723,       A16N,      34,          1,         10,         10,2,19880730,       0300,    48.5050,   -19.9933,       4018,   608.8,  35.2761,2,  35.2810,2,    219.1,2,   217.4,2,    7.80,2,   15.50,2,    0.01,2,    0.95,2,-999.000,9,-999.000,9,-999.000,9,-999.0000,9, -999.00,9,-999.000,9,-999.000,-999.000,     9.4160,-999.0000, -999.00
32OC19880723,       A16N,      34,          1,         11,         11,2,19880730,       0300,    48.5050,   -19.9933,       4018,   770.8,  35.2949,2,  35.3140,2,    197.2,2,   196.9,2,   10.00,2,   18.10,2,    0.01,2,    1.06,2,-999.000,9,-999.000,9,-999.000,9,-999.0000,9, -999.00,9,-999.000,9,-999.000,   9.000,     8.5310,-999.0000, -999.00
32OC19880723,       A16N,      34,          1,         12,         12,2,19880730,       0300,    48.5050,   -19.9933,       4018,   831.6,  35.0600,2,  35.0550,2,    208.2,2,   211.2,2,   11.00,2,   18.90,2,    0.01,2,    1.08,2,-999.000,9,-999.000,9,-999.000,9,-999.0000,9, -999.00,9,-999.000,9,-999.000,-999.000,     6.7240,-999.0000, -999.00
32OC19880723,       A16N,      34,          1,         13,         13,2,19880730,       0300,    48.5050,   -19.9933,       4018,  1115.0,  34.9961,2,  34.9980,2,    242.5,2,   242.5,2,   10.90,2,   18.10,2,    0.01,2,    1.10,2,-999.000,9,-999.000,9,-999.000,9,-999.0000,9, -999.00,9,-999.000,9,-999.000,   9.000,     5.0060,-999.0000, -999.00
32OC19880723,       A16N,      34,          1,         14,         14,2,19880730,       0300,    48.5050,   -19.9933,       4018,  1266.5,  35.0087,2,  35.0170,2,    251.0,2,   250.7,2,   10.70,2,   17.80,2,    0.01,2, -999.00,9,-999.000,9,-999.000,9,-999.000,9,-999.0000,9, -999.00,9,-999.000,9,-999.000,-999.000,     4.7710,-999.0000, -999.00
32OC19880723,       A16N,      34,          1,         15,         15,2,19880730,       0300,    48.5050,   -19.9933,       4018,  1518.3,  34.9361,2,  34.9320,2,    266.4,2,   269.4,2,   10.50,2,   17.20,2,    0.01,2,    1.05,2,-999.000,9,-999.000,9,-999.000,9,-999.0000,9, -999.00,9,-999.000,9,-999.000,   9.000,     3.9950,-999.0000, -999.00
32OC19880723,       A16N,      34,          1,         16,         16,2,19880730,       0300,    48.5050,   -19.9933,       4018,  1820.9,  34.9207,2,  34.9230,2,    272.0,2,   273.7,2,   10.90,2,   16.90,2,    0.01,2,    1.02,2,-999.000,9,-999.000,9,-999.000,9,-999.0000,9, -999.00,9,-999.000,9,-999.000,-999.000,     3.7300,-999.0000, -999.00
32OC19880723,       A16N,      34,          1,         17,         17,2,19880730,       0300,    48.5050,   -19.9933,       4018,  2123.4,  34.9364,2,  34.9370,2,    272.0,2,   272.9,2,   12.30,2,   17.00,2,    0.01,2,    1.04,2,-999.000,9,-999.000,9,-999.000,9,-999.0000,9, -999.00,9,-999.000,9,-999.000,   9.000,     3.5590,-999.0000, -999.00
32OC19880723,       A16N,      34,          1,         18,         18,2,19880730,       0300,    48.5050,   -19.9933,       4018,  2426.0,  34.9497,2,  34.9510,2,    270.3,2,   269.0,2,   15.50,2,   17.20,2,    0.00,2,    1.05,2,-999.000,9,-999.000,9,-999.000,9,-999.0000,9, -999.00,9,-999.000,9,-999.000,-999.000,     3.3480,-999.0000, -999.00
32OC19880723,       A16N,      34,          1,         19,         19,2,19880730,       0300,    48.5050,   -19.9933,       4018,  2731.6,  34.9532,2,  34.9550,2,    262.3,2,   260.7,2,   23.00,2,   18.10,2,    0.00,2,    1.11,2,-999.000,9,-999.000,9,-999.000,9,-999.0000,9, -999.00,9,-999.000,9,-999.000,   9.000,     3.0580,-999.0000, -999.00
32OC19880723,       A16N,      34,          1,         20,         20,2,19880730,       0300,    48.5050,   -19.9933,       4018,  3037.4,  34.9444,2,  34.9460,2,    256.5,2,   255.9,2,   28.40,2,   19.00,2,    0.00,2,    1.17,2,-999.000,9,-999.000,9,-999.000,9,-999.0000,9, -999.00,9,-999.000,9,-999.000,-999.000,     2.8600,-999.0000, -999.00
32OC19880723,       A16N,      34,          1,         21,         21,2,19880730,       0300,    48.5050,   -19.9933,       4018,  3343.3,  34.9334,2,  34.9330,2,    251.1,2,   250.7,2,   33.70,2,   19.70,2,    0.00,2,    1.20,2,-999.000,9,-999.000,9,-999.000,9,-999.0000,9, -999.00,9,-999.000,9,-999.000,   9.000,     2.7130,-999.0000, -999.00
32OC19880723,       A16N,      34,          1,         22,         22,2,19880730,       0300,    48.5050,   -19.9933,       4018,  3649.9,  34.9185,2,  34.9190,2,    244.2,2,   244.6,2,   39.90,2,   20.70,2,    0.00,2,    1.30,2,-999.000,9,-999.000,9,-999.000,9,-999.0000,9, -999.00,9,-999.000,9,-999.000,-999.000,     2.5850,-999.0000, -999.00
32OC19880723,       A16N,      34,          1,         23,         23,2,19880730,       0300,    48.5050,   -19.9933,       4018,  3957.7,  34.9108,2,  34.9090,2,    242.4,2,   243.3,2,   42.30,2,   21.20,2,    0.00,2,    1.34,2,-999.000,9,-999.000,9,-999.000,9,-999.0000,9, -999.00,9,-999.000,9,-999.000,   9.000,     2.5510,-999.0000, -999.00
32OC19880723,       A16N,      34,          1,         24,         24,2,19880730,       0300,    48.5050,   -19.9933,       4018,  4096.7,  34.9066,2,  34.9060,2,    241.0,2,   241.1,2,   43.80,2,   21.50,2,    0.00,2,    1.36,2,-999.000,9,-999.000,9,-999.000,9,-999.0000,9, -999.00,9,-999.000,9,-999.000,-999.000,     2.5240,-999.0000, -999.00
32OC19880723,       A16N,      34,          1,         99,     -999.0,9,19880730,       0300,    48.5050,   -19.9933,       4018,  4099.0,  34.9067,2,-999.0000,9,    241.1,2,  -999.0,9, -999.00,9, -999.00,9, -999.00,9, -999.00,9,-999.000,9,-999.000,9,-999.000,9,-999.0000,9, -999.00,9,-999.000,9,-999.000,   9.000,     2.5240,-999.0000, -999.00
32OC19880723,       A16N,      35,          1,          1,          1,2,19880730,       0735,    47.9967,   -20.0100,       4347,     4.0,  35.5808,2,  35.5800,2,    253.2,2,   254.1,2,    0.00,2,    0.70,2,    0.06,2,    0.14,2,   2.915,2,   1.334,2,   2.759,2,   1.7385,2,   -0.60,2,   7.254,2,   0.054,   0.053,    15.4080,   0.0122,    0.18
32OC19880723,       A16N,      35,          1,          2,          2,2,19880730,       0735,    47.9967,   -20.0100,       4347,    37.4,  35.5907,2,  35.5790,2,    254.3,2,   253.2,2,    0.00,2,    0.80,2,    0.08,2,    0.14,2,   2.901,2,   1.345,2,   2.815,2,-999.0000,9, -999.00,9,-999.000,9,-999.000,   0.054,    15.1830,-999.0000, -999.00
32OC19880723,       A16N,      35,          1,          3,          3,2,19880730,       0735,    47.9967,   -20.0100,       4347,    67.4,  35.6078,2,  35.5730,2,    246.3,2,   249.2,2,    1.40,2,    7.80,2,    0.20,2,    0.46,2,   3.234,2,   1.449,2,-999.000,9,-999.0000,9, -999.00,9,-999.000,9,-999.000,-999.000,    12.3040,-999.0000, -999.00
32OC19880723,       A16N,      35,          1,          4,          4,2,19880730,       0735,    47.9967,   -20.0100,       4347,   106.3,  35.5860,2,  35.6220,2,    246.6,2,   245.2,2,    3.20,2,   10.10,2,    0.04,2,    0.57,2,   2.998,2,   1.408,2,   2.743,2,-999.0000,9, -999.00,9,-999.000,9,-999.000,   0.054,    11.9900,-999.0000, -999.00
32OC19880723,       A16N,      35,          1,          5,          5,2,19880730,       0735,    47.9967,   -20.0100,       4347,   155.7,  35.5598,2,  35.5830,2,    246.0,2,   247.8,2,    3.40,2,   10.50,2,    0.04,2,    0.58,2,   3.017,2,   1.410,2,-999.000,9,-999.0000,9, -999.00,9,-999.000,9,-999.000,   9.000,    11.6620,-999.0000, -999.00
32OC19880723,       A16N,      35,          1,          6,          6,2,19880730,       0735,    47.9967,   -20.0100,       4347,   202.6,  35.5266,2,  35.5100,2,    248.2,2,   245.2,2,    3.90,2,   11.50,2,    0.04,2,    0.64,2,   2.941,2,   1.361,2,-999.000,9,-999.0000,9, -999.00,9,-999.000,9,-999.000,-999.000,    11.2170,-999.0000, -999.00
32OC19880723,       A16N,      35,          1,          7,          7,2,19880730,       0735,    47.9967,   -20.0100,       4347,   303.4,  35.4846,2,  35.4830,2,    251.2,2,   248.7,2,    3.70,2,   11.60,2,    0.04,2,    0.64,2,   2.957,2,   1.381,2,   2.903,2,-999.0000,9, -999.00,9,-999.000,9,-999.000,   0.055,    10.8750,-999.0000, -999.00
32OC19880723,       A16N,      35,          1,          8,          8,2,19880730,       0735,    47.9967,   -20.0100,       4347,   401.4,  35.4354,2,  35.4540,2,    251.2,2,   251.7,2,    3.90,2,   11.80,2,    0.04,2,    0.63,2,   3.034,2,   1.428,2,   2.831,2,   1.8015,2,    0.73,2,   7.618,2,   0.057,   0.054,    10.5970,   0.0126,    0.18
32OC19880723,       A16N,      35,          1,          9,          9,2,19880730,       0735,    47.9967,   -20.0100,       4347,   499.6,  35.4348,2,  35.4350,2,    256.8,2,   256.9,2,    3.70,2,   11.70,2,    0.04,2,    0.62,2,   3.150,2,   1.463,2,   2.683,2,   1.7605,2,    0.31,2,   7.570,2,   0.057,   0.054,    10.4330,   0.0123,    0.18
32OC19880723,       A16N,      35,          1,         10,         10,2,19880730,       0735,    47.9967,   -20.0100,       4347,   598.2,  35.4156,2,  35.4070,2,    246.2,2,   244.8,2,    4.80,2,   13.10,2,    0.04,2,    0.71,2,   2.841,2,   1.283,2,   2.865,2,   1.7737,2,    1.16,2,   7.607,2,   0.057,   0.054,    10.1850,   0.0124,    0.18
32OC19880723,       A16N,      35,          1,         11,         11,2,19880730,       0735,    47.9967,   -20.0100,       4347,   801.2,  35.3607,2,  35.3360,2,    200.1,2,   202.1,2,    8.70,2,   17.70,2,    0.03,2,    1.03,2,   1.560,2,   0.676,2,   2.035,2,   1.7804,2,    6.44,2,   7.625,2,   0.057,   0.048,     9.1090,   0.0125,    0.18
32OC19880723,       A16N,      35,          1,         12,         12,2,19880730,       0735,    47.9967,   -20.0100,       4347,  1004.8,  35.2883,2,  35.3110,2,    208.2,2,   205.6,2,   10.60,2,   19.10,2,    0.03,2,    1.10,2,   1.173,2,   0.743,4,   1.875,2,-999.0000,9, -999.00,9,-999.000,9,-999.000,   0.048,     7.5220,-999.0000, -999.00
32OC19880723,       A16N,      35,          1,         13,         13,2,19880730,       0735,    47.9967,   -20.0100,       4347,  1210.2,  35.1843,2,  35.1820,2,    235.0,2,   230.7,2,   10.90,2,   18.90,2,    0.03,2,    1.10,2,   1.069,2,   0.459,2,   1.692,2,   1.8029,2,    8.51,2,-999.000,9,  -7.493,   0.044,     5.9510,   0.0126,    0.18
32OC19880723,       A16N,      35,          1,         14,         14,2,19880730,       0735,    47.9967,   -20.0100,       4347,  1511.4,  34.9474,2,  34.9510,2,    263.5,2,   264.2,2,   10.70,2,   18.30,2,    0.03,2,    1.07,2,   1.393,2,   0.680,2,   1.926,2,-999.0000,9, -999.00,9,-999.000,9,-999.000,   0.046,     4.1820,-999.0000, -999.00
32OC19880723,       A16N,      35,          1,         15,         15,2,19880730,       0735,    47.9967,   -20.0100,       4347,  1813.1,  34.9092,2,  34.9110,2,    274.0,2,   275.5,2,   10.80,2,   18.00,2,    0.03,2,    1.03,2,   1.233,2,   0.529,2,   1.717,2,-999.0000,9, -999.00,9,-999.000,9,-999.000,   0.045,     3.7120,-999.0000, -999.00
32OC19880723,       A16N,      35,          1,         16,         16,2,19880730,       0735,    47.9967,   -20.0100,       4347,  2117.1,  34.9300,2,  34.9320,2,    271.9,2,   273.3,2,   12.20,2,   17.90,2,    0.03,2,    1.03,2,   0.784,2,   0.313,2,   1.251,2,-999.0000,9, -999.00,9,-999.000,9,-999.000,   0.040,     3.5750,-999.0000, -999.00
32OC19880723,       A16N,      35,          1,         17,         17,2,19880730,       0735,    47.9967,   -20.0100,       4347,  2421.4,  34.9516,2,  34.9520,2,    266.8,2,   269.0,2,   15.70,2,   18.20,2,    0.03,2,    1.06,2,   0.418,2,   0.189,2,-999.000,9,-999.0000,9, -999.00,9,-999.000,9,-999.000,   9.000,     3.3600,-999.0000, -999.00
32OC19880723,       A16N,      35,          1,         18,         18,2,19880730,       0735,    47.9967,   -20.0100,       4347,  2725.7,  34.9528,2,  34.9550,2,    262.6,2,   262.4,2,   21.80,2,   18.70,2,    0.01,2,    1.09,2,   0.316,2,   0.118,2,-999.000,9,-999.0000,9, -999.00,9,-999.000,9,-999.000,-999.000,     3.1000,-999.0000, -999.00
32OC19880723,       A16N,      35,          1,         19,         19,2,19880730,       0735,    47.9967,   -20.0100,       4347,  3030.7,  34.9455,2,  34.9470,2,    256.4,2,   255.9,2,   28.00,2,   19.70,2,    0.01,2,    1.13,2,   0.246,2,   0.087,2,   0.362,2,-999.0000,9, -999.00,9,-999.000,9,-999.000,   0.030,     2.8970,-999.0000, -999.00
32OC19880723,       A16N,      35,          1,         20,         20,2,19880730,       0735,    47.9967,   -20.0100,       4347,  3337.8,  34.9329,2,  34.9380,2,    251.5,2,   250.7,2,   34.00,2,   20.70,2,    0.01,2,    1.24,2,   0.252,3,   0.058,2,-999.000,9,-999.0000,9, -999.00,9,-999.000,9,-999.000,   9.000,     2.7260,-999.0000, -999.00
32OC19880723,       A16N,      35,          1,         21,         21,2,19880730,       0735,    47.9967,   -20.0100,       4347,  3644.7,  34.9214,2,  34.9230,2,    249.0,2,   246.8,2,   38.30,2,   21.20,2,    0.01,2,    1.29,2,   0.127,2,   0.043,2,-999.000,9,-999.0000,9, -999.00,9,-999.000,9,-999.000,-999.000,     2.6280,-999.0000, -999.00
32OC19880723,       A16N,      35,          1,         22,         22,2,19880730,       0735,    47.9967,   -20.0100,       4347,  3950.7,  34.9125,2,  34.9130,2,    244.2,2,   244.2,2,   41.70,2,   21.70,2,    0.01,2,    1.28,2,   0.100,6,   0.025,6,   0.077,2,-999.0000,9, -999.00,9,-999.000,9,-999.000,   0.026,     2.5750,-999.0000, -999.00
32OC19880723,       A16N,      35,          1,         23,         23,2,19880730,       0735,    47.9967,   -20.0100,       4347,  4259.4,  34.9053,2,  34.9060,2,    241.6,2,   242.0,2,   43.90,2,   22.00,2,    0.00,2,    1.35,2,   0.049,6,   0.034,6,-999.000,9,-999.0000,9, -999.00,9,-999.000,9,-999.000,   9.000,     2.5450,-999.0000, -999.00
32OC19880723,       A16N,      35,          1,         24,         24,2,19880730,       0735,    47.9967,   -20.0100,       4347,  4424.0,  34.9051,2,  34.9070,2,    241.6,2,   242.4,2,   44.70,2,   22.20,2,    0.02,2,    1.34,2,   0.273,4,   0.023,2,   0.043,2,-999.0000,9, -999.00,9,-999.000,9,-999.000,   0.024,     2.5520,-999.0000, -999.00
32OC19880723,       A16N,      35,          1,         99,     -999.0,9,19880730,       0735,    47.9967,   -20.0100,       4347,  4425.4,  34.9050,2,-999.0000,9,    241.6,2,  -999.0,9, -999.00,9, -999.00,9, -999.00,9, -999.00,9,-999.000,9,-999.000,9,-999.000,9,-999.0000,9, -999.00,9,-999.000,9,-999.000,-999.000,     2.5520,-999.0000, -999.00