BOTTLE,20220922CCHSIOAMB
EXPOCODE,SECT_ID,STNNBR,CASTNO,SAMPNO,BTLNBR,BTLNBR_FLAG_W,DATE,TIME,LATITUDE,LONGITUDE,DEPTH,CTDPRS,CTDSAL,CTDSAL_FLAG_W,SALNTY,SALNTY_FLAG_W,CTDOXY,CTDOXY_FLAG_W,OXYGEN,OXYGEN_FLAG_W,SILCAT,SILCAT_FLAG_W,NITRAT,NITRAT_FLAG_W,NITRIT,NITRIT_FLAG_W,PHSPHT,PHSPHT_FLAG_W,CFC-11,CFC-11_FLAG_W,CFC-12,CFC-12_FLAG_W,TRITUM,TRITUM_FLAG_W,HELIUM,HELIUM_FLAG_W,DELHE3,DELHE3_FLAG_W,NEON,NEON_FLAG_W,NEONER,TRITER,CTDTMP,HELIER,DELHER
,,,,,,,,,,,METERS,DBAR,PSS-78,,PSS-78,,UMOL/KG,,UMOL/KG,,UMOL/KG,,UMOL/KG,,UMOL/KG,,UMOL/KG,,PMOL/KG,,PMOL/KG,,TU,,NMOL/KG,,PERCNT,,NMOL/KG,,NMOL/KG,TU,IPTS-68,NMOL/KG,PERCNT
32OC19880723,       A16N,      73,          1,          1,          1,2,19880812,       2023,    29.4850,   -23.8000,       5215,    14.0,  36.9934,2,  36.9820,2,    217.8,2,   215.6,2,    0.00,2, -999.00,9,    0.02,2,    0.02,2,   1.995,2,   0.973,2,   1.791,2,   1.7154,2,   -1.26,2,   6.894,2,   0.052,   0.041,    23.2720,   0.0120,    0.18
32OC19880723,       A16N,      73,          1,          2,          2,2,19880812,       2023,    29.4850,   -23.8000,       5215,    39.4,  37.0083,2,  36.9940,2,    214.8,2,   218.2,2,    0.00,2, -999.00,9,    0.02,2,    0.02,2,   2.048,2,   0.979,2,   2.259,2,   1.7737,2,   -1.53,2,   7.007,2,   0.053,   0.046,    22.8960,   0.0124,    0.18
32OC19880723,       A16N,      73,          1,          3,          3,2,19880812,       2023,    29.4850,   -23.8000,       5215,    69.8,  36.8008,2,  36.7980,2,    241.9,2,   245.0,2,    0.00,2,    0.30,2,    0.02,2,    0.06,2,   2.282,2,   1.081,2,   2.066,2,   1.8242,2,   -0.25,2,   7.077,2,   0.053,   0.044,    19.9180,   0.0128,    0.18
32OC19880723,       A16N,      73,          1,          4,          4,2,19880812,       2023,    29.4850,   -23.8000,       5215,   109.6,  36.6964,2,  36.6480,2,    223.9,2,   224.1,2,    0.20,2,    2.00,2,    0.02,2,    0.04,2,   2.220,2,   1.057,2,   2.346,2,   1.8015,2,   -0.20,2,   7.114,2,   0.053,   0.048,    18.3920,   0.0126,    0.18
32OC19880723,       A16N,      73,          1,          5,          5,2,19880812,       2023,    29.4850,   -23.8000,       5215,   159.6,  36.5973,2,  36.5270,2,    216.2,2,   217.5,2,    0.60,2,    2.60,2,    0.04,2,    0.10,2,   2.233,2,   1.094,2,-999.000,9,-999.0000,9, -999.00,9,-999.000,9,-999.000,-999.000,    17.7220,-999.0000, -999.00
32OC19880723,       A16N,      73,          1,          6,          6,2,19880812,       2023,    29.4850,   -23.8000,       5215,   209.6,  36.5050,2,  36.4950,2,    212.7,2,   214.9,2,    0.80,2,    3.70,2,    0.03,2,    0.17,2,   2.187,2,   1.044,2,-999.000,9,   1.7806,2,    0.50,2,   7.133,2,   0.053,   9.000,    17.3830,   0.0125,    0.18
32OC19880723,       A16N,      73,          1,          7,          7,2,19880812,       2023,    29.4850,   -23.8000,       5215,   308.6,  36.0298,2,  36.0800,2,    201.3,2,   200.5,2,    2.30,2,    8.80,2,    0.01,2,    0.47,2,   1.883,2,   0.890,2,   2.412,2,   1.8010,2,    3.67,2,   7.275,2,   0.055,   0.054,    15.1810,   0.0126,    0.18
32OC19880723,       A16N,      73,          1,          8,          8,2,19880812,       2023,    29.4850,   -23.8000,       5215,   407.6,  35.8275,2,  35.8490,2,    201.6,2,   199.6,2,    3.20,2,   11.40,2,    0.01,2,    0.60,2,   1.812,2,   0.833,2,   2.623,2,   1.7733,2,    5.79,2,   7.356,2,   0.055,   0.049,    13.6380,   0.0124,    0.18
32OC19880723,       A16N,      73,          1,          9,          9,2,19880812,       2023,    29.4850,   -23.8000,       5215,   604.3,  35.5806,2,  35.5820,2,    183.3,2,   185.7,2,    6.10,2,   16.50,2,    0.01,2,    0.94,2,   1.066,2,   0.497,2,   2.149,2,   1.7806,2,   10.54,2,   7.463,2,   0.056,   0.046,    11.5380,   0.0125,    0.18
32OC19880723,       A16N,      73,          1,         10,         10,2,19880812,       2023,    29.4850,   -23.8000,       5215,   799.3,  35.4869,2,  35.4880,2,    162.1,2,   161.7,2,   10.50,2,   21.30,2,    0.01,2,    1.25,2,   0.380,2,   0.174,2,   0.642,2,   1.8395,2,    8.99,2,   7.587,2,   0.057,   0.029,     9.9960,   0.0129,    0.18
32OC19880723,       A16N,      73,          1,         11,         11,2,19880812,       2023,    29.4850,   -23.8000,       5215,  1043.9,  35.4475,2,  35.4200,2,    164.2,2,   166.0,2,   14.80,2,   23.20,2,    0.01,2,    1.39,2,   0.181,2,   0.072,2,   0.274,2,   1.8071,2,    4.31,2,   7.695,2,   0.058,   0.030,     8.2230,   0.0126,    0.18
32OC19880723,       A16N,      73,          1,         12,         12,2,19880812,       2023,    29.4850,   -23.8000,       5215,  1292.2,  35.4318,2,  35.4530,2,    185.9,2,   189.5,2,   14.60,2,   21.40,2,    0.01,2,    1.27,2,   0.137,2,   0.056,2,   0.336,2,   1.7971,2,    3.36,2,   7.778,2,   0.058,   0.033,     7.3930,   0.0126,    0.18
32OC19880723,       A16N,      73,          1,         13,         13,2,19880812,       2023,    29.4850,   -23.8000,       5215,  1292.2,  35.4318,2,  35.4540,2,    185.9,2,   189.9,2,   14.60,2,   21.30,2,    0.01,2,    1.27,2,   0.121,2,   0.051,2,   0.305,2,   1.8780,2,    4.32,2,   7.783,2,   0.058,   0.028,     7.3930,   0.0131,    0.18
32OC19880723,       A16N,      73,          1,         14,         14,2,19880812,       2023,    29.4850,   -23.8000,       5215,  1790.5,  35.2153,2,  35.2090,2,    225.2,2,   224.6,2,   18.50,2,   20.60,2,    0.01,2,    1.27,2,   0.028,2,   0.006,7,   0.033,2,   1.8820,2,    2.25,2,   7.948,2,   0.060,   0.030,     5.1130,   0.0132,    0.18
32OC19880723,       A16N,      73,          1,         15,         15,2,19880812,       2023,    29.4850,   -23.8000,       5215,  2140.2,  35.0690,2,  35.0720,2,    237.7,2,   236.8,2,   22.50,2,   20.60,2,    0.01,2,    1.27,2,   0.043,2,   0.002,7,-999.000,9,-999.0000,9, -999.00,9,-999.000,9,-999.000,-999.000,     4.0150,-999.0000, -999.00
32OC19880723,       A16N,      73,          1,         16,         16,2,19880812,       2023,    29.4850,   -23.8000,       5215,  2491.4,  34.9984,2,  35.0000,2,    246.2,2,   247.2,2,   25.70,2,   20.40,2,    0.01,2,    1.26,2,   0.043,2,   0.002,7,  -0.055,2,   1.9298,2,    2.48,2,-999.000,9,  -7.493,   0.027,     3.3510,   0.0135,    0.18
32OC19880723,       A16N,      73,          1,         17,         17,2,19880812,       2023,    29.4850,   -23.8000,       5215,  2842.8,  34.9538,2,  34.9550,2,    248.6,2,   248.1,2,   31.10,2,   21.00,2,    0.01,2,    1.27,2,   0.024,2,   0.002,7,-999.000,9,-999.0000,9, -999.00,9,-999.000,9,-999.000,   9.000,     2.9180,-999.0000, -999.00
32OC19880723,       A16N,      73,          1,         18,         18,2,19880812,       2023,    29.4850,   -23.8000,       5215,  3196.3,  34.9330,2,  34.9300,2,    246.8,2,   245.9,2,   36.60,2,   21.90,2,    0.01,2,    1.38,2,   0.063,3,   0.002,7,  -0.059,2,   1.9217,2,    2.52,2,   8.073,2,   0.061,   0.027,     2.6810,   0.0135,    0.18
32OC19880723,       A16N,      73,          1,         19,         19,2,19880812,       2023,    29.4850,   -23.8000,       5215,  3551.9,  34.9155,2,  34.9150,2,    244.7,2,   244.6,2,   40.40,2,   22.20,2,    0.01,2,    1.37,2,   0.005,2,  -0.001,2,-999.000,9,-999.0000,9, -999.00,9,-999.000,9,-999.000,-999.000,     2.5400,-999.0000, -999.00
32OC19880723,       A16N,      73,          1,         20,         20,2,19880812,       2023,    29.4850,   -23.8000,       5215,  3961.8,  34.9021,2,  34.9020,2,    245.2,2,   245.0,2,   43.20,2,   22.50,2,    0.01,2,    1.43,2,  -0.018,3,   0.006,7,  -0.049,2,   1.9279,2,    3.04,2,   8.131,2,   0.061,   0.027,     2.4510,   0.0135,    0.18
32OC19880723,       A16N,      73,          1,         21,         21,2,19880812,       2023,    29.4850,   -23.8000,       5215,  4372.6,  34.8925,2,  34.8920,2,    245.4,2,   245.0,2,   45.10,2,   22.60,2,    0.01,2,    1.46,2,   0.012,2,   0.002,7,-999.000,9,-999.0000,9, -999.00,9,-999.000,9,-999.000,   9.000,     2.4130,-999.0000, -999.00
32OC19880723,       A16N,      73,          1,         22,         22,2,19880812,       2023,    29.4850,   -23.8000,       5215,  4727.6,  34.8876,2,  34.8880,2,    244.5,2,   244.2,2,   46.20,2,   22.60,2,    0.01,2,    1.48,2,   0.022,2,  -0.001,2,-999.000,9,-999.0000,9, -999.00,9,-999.000,9,-999.000,-999.000,     2.4140,-999.0000, -999.00
32OC19880723,       A16N,      73,          1,         23,         23,2,19880812,       2023,    29.4850,   -23.8000,       5215,  5083.1,  34.8871,2,  34.8870,2,    244.2,2,   244.6,2,   46.50,2,   22.70,2,    0.01,2,    1.46,2,   0.038,2,   0.002,7,-999.000,9,-999.0000,9, -999.00,9,-999.000,9,-999.000,   9.000,     2.4450,-999.0000, -999.00
32OC19880723,       A16N,      73,          1,         24,         24,2,19880812,       2023,    29.4850,   -23.8000,       5215,  5313.1,  34.8862,2,  34.8870,2,    243.8,2,   243.7,2,   46.50,2,   22.70,2,    0.01,2,    1.50,2,   0.022,2,   0.002,7,-999.000,9,-999.0000,9, -999.00,9,-999.000,9,-999.000,-999.000,     2.4680,-999.0000, -999.00
32OC19880723,       A16N,      73,          1,         99,     -999.0,9,19880812,       2023,    29.4850,   -23.8000,       5215,  5314.4,  34.8862,2,-999.0000,9,    243.8,2,  -999.0,9, -999.00,9, -999.00,9, -999.00,9, -999.00,9,-999.000,9,-999.000,9,-999.000,9,-999.0000,9, -999.00,9,-999.000,9,-999.000,   9.000,     2.4690,-999.0000, -999.00
32OC19880723,       A16N,      74,          1,          1,          1,2,19880813,       0217,    28.8450,   -24.2167,       5215,    11.0,  37.2157,2,  37.1990,2,    216.1,2,   216.4,2,    0.20,2,    0.10,2,    0.01,2,    0.06,2,-999.000,9,-999.000,9,-999.000,9,-999.0000,9, -999.00,9,-999.000,9,-999.000,-999.000,    23.2110,-999.0000, -999.00
32OC19880723,       A16N,      74,          1,          2,          2,2,19880813,       0217,    28.8450,   -24.2167,       5215,    36.6,  37.1640,2,  37.1450,2,    218.9,2,   217.7,2,    0.00,2,    0.10,2,    0.00,2,    0.02,2,-999.000,9,-999.000,9,-999.000,9,-999.0000,9, -999.00,9,-999.000,9,-999.000,   9.000,    22.9780,-999.0000, -999.00
32OC19880723,       A16N,      74,          1,          3,          3,2,19880813,       0217,    28.8450,   -24.2167,       5215,    66.4,  36.7606,2,  36.8070,2,    245.3,2,   245.1,2,    0.00,2,    0.10,2,    0.00,2,    0.05,2,-999.000,9,-999.000,9,-999.000,9,-999.0000,9, -999.00,9,-999.000,9,-999.000,-999.000,    20.5140,-999.0000, -999.00
32OC19880723,       A16N,      74,          1,          4,          4,2,19880813,       0217,    28.8450,   -24.2167,       5215,   106.9,  36.6734,2,  36.6910,2,    224.3,2,   228.0,2,    0.20,2,    0.00,2,    0.00,2,    0.07,2,-999.000,9,-999.000,9,-999.000,9,-999.0000,9, -999.00,9,-999.000,9,-999.000,   9.000,    18.5850,-999.0000, -999.00
32OC19880723,       A16N,      74,          1,          5,          5,2,19880813,       0217,    28.8450,   -24.2167,       5215,   156.7,  36.5510,2,  36.5550,2,    216.7,2,   217.1,2,    0.70,2,    2.00,2,    0.02,2,    0.11,2,-999.000,9,-999.000,9,-999.000,9,-999.0000,9, -999.00,9,-999.000,9,-999.000,-999.000,    17.7490,-999.0000, -999.00
32OC19880723,       A16N,      74,          1,          6,          6,2,19880813,       0217,    28.8450,   -24.2167,       5215,   206.5,  36.4545,2,  36.4520,2,    214.3,2,   213.2,2,    0.80,2,    3.40,2,    0.02,2,    0.19,2,-999.000,9,-999.000,9,-999.000,9,-999.0000,9, -999.00,9,-999.000,9,-999.000,   9.000,    17.1310,-999.0000, -999.00
32OC19880723,       A16N,      74,          1,          7,          7,2,19880813,       0217,    28.8450,   -24.2167,       5215,   305.7,  36.0225,2,  36.0350,2,    202.2,2,   201.8,2,    2.30,2,    8.20,2,    0.01,2,    0.46,2,-999.000,9,-999.000,9,-999.000,9,-999.0000,9, -999.00,9,-999.000,9,-999.000,-999.000,    14.9290,-999.0000, -999.00
32OC19880723,       A16N,      74,          1,          8,          8,2,19880813,       0217,    28.8450,   -24.2167,       5215,   404.2,  35.8352,2,  35.8400,2,    198.5,2,   197.9,2,    3.30,2,   10.70,2,    0.01,2,    0.63,2,-999.000,9,-999.000,9,-999.000,9,-999.0000,9, -999.00,9,-999.000,9,-999.000,   9.000,    13.5400,-999.0000, -999.00
32OC19880723,       A16N,      74,          1,          9,          9,2,19880813,       0217,    28.8450,   -24.2167,       5215,   600.6,  35.5759,2,  35.5810,2,    186.9,2,   187.0,2,    5.80,2,   15.40,2,    0.01,2,    0.92,2,-999.000,9,-999.000,9,-999.000,9,-999.0000,9, -999.00,9,-999.000,9,-999.000,-999.000,    11.5200,-999.0000, -999.00
32OC19880723,       A16N,      74,          1,         10,         10,2,19880813,       0217,    28.8450,   -24.2167,       5215,   796.5,  35.4760,2,  35.4830,2,    158.5,2,   159.5,2,   10.90,2,   20.70,2,    0.01,2,    1.19,2,-999.000,9,-999.000,9,-999.000,9,-999.0000,9, -999.00,9,-999.000,9,-999.000,   9.000,     9.9400,-999.0000, -999.00
32OC19880723,       A16N,      74,          1,         11,         11,2,19880813,       0217,    28.8450,   -24.2167,       5215,  1040.8,  35.4062,2,  35.4040,2,    163.9,2,   163.4,2,   14.90,2,   22.80,2,    0.01,2,    1.44,2,-999.000,9,-999.000,9,-999.000,9,-999.0000,9, -999.00,9,-999.000,9,-999.000,-999.000,     8.2410,-999.0000, -999.00
32OC19880723,       A16N,      74,          1,         12,         12,2,19880813,       0217,    28.8450,   -24.2167,       5215,  1284.3,  35.4360,2,  35.4410,2,    185.7,2,   185.5,2,   15.20,2,   21.00,2,    0.01,2,    1.35,2,-999.000,9,-999.000,9,-999.000,9,-999.0000,9, -999.00,9,-999.000,9,-999.000,   9.000,     7.3950,-999.0000, -999.00
32OC19880723,       A16N,      74,          1,         13,         13,2,19880813,       0217,    28.8450,   -24.2167,       5215,  1529.0,  35.3303,2,  35.3350,2,    205.0,2,   206.4,2,   16.60,2,   20.20,2,    0.01,2,    1.33,2,-999.000,9,-999.000,9,-999.000,9,-999.0000,9, -999.00,9,-999.000,9,-999.000,-999.000,     6.2100,-999.0000, -999.00
32OC19880723,       A16N,      74,          1,         14,         14,2,19880813,       0217,    28.8450,   -24.2167,       5215,  1776.6,  35.2097,2,  35.2150,2,    224.6,2,   227.2,2,   17.10,2,   19.60,2,    0.01,2,    1.25,2,-999.000,9,-999.000,9,-999.000,9,-999.0000,9, -999.00,9,-999.000,9,-999.000,   9.000,     5.1660,-999.0000, -999.00
32OC19880723,       A16N,      74,          1,         15,         15,2,19880813,       0217,    28.8450,   -24.2167,       5215,  2125.8,  35.0663,2,  35.0720,2,    236.4,2,   237.7,2,   22.40,2,   20.00,2,    0.01,2,    1.33,2,-999.000,9,-999.000,9,-999.000,9,-999.0000,9, -999.00,9,-999.000,9,-999.000,-999.000,     4.0190,-999.0000, -999.00
32OC19880723,       A16N,      74,          1,         16,         16,2,19880813,       0217,    28.8450,   -24.2167,       5215,  2477.1,  34.9938,2,  35.0010,2,    245.2,2,   246.3,2,   26.20,2,   20.00,2,    0.01,2,    1.30,2,-999.000,9,-999.000,9,-999.000,9,-999.0000,9, -999.00,9,-999.000,9,-999.000,   9.000,     3.3500,-999.0000, -999.00
32OC19880723,       A16N,      74,          1,         17,         17,2,19880813,       0217,    28.8450,   -24.2167,       5215,  2828.7,  34.9552,2,  34.9560,2,    247.2,2,   247.2,2,   31.50,2,   20.40,2,    0.01,2,    1.37,2,-999.000,9,-999.000,9,-999.000,9,-999.0000,9, -999.00,9,-999.000,9,-999.000,-999.000,     2.9240,-999.0000, -999.00
32OC19880723,       A16N,      74,          1,         18,         18,2,19880813,       0217,    28.8450,   -24.2167,       5215,  3183.0,  34.9293,2,  34.9300,2,    247.2,2,   246.3,2,   36.50,2,   21.00,2,    0.01,2,    1.41,2,-999.000,9,-999.000,9,-999.000,9,-999.0000,9, -999.00,9,-999.000,9,-999.000,   9.000,     2.6680,-999.0000, -999.00
32OC19880723,       A16N,      74,          1,         19,         19,2,19880813,       0217,    28.8450,   -24.2167,       5215,  3539.7,  34.9134,2,  34.9140,2,    245.9,2,   245.5,2,   40.50,2,   21.50,2,    0.01,2,    1.46,2,-999.000,9,-999.000,9,-999.000,9,-999.0000,9, -999.00,9,-999.000,9,-999.000,-999.000,     2.5320,-999.0000, -999.00
32OC19880723,       A16N,      74,          1,         20,         20,2,19880813,       0217,    28.8450,   -24.2167,       5215,  3950.4,  34.9008,2,  34.9000,2,    246.4,2,   245.5,2,   43.30,2,   21.80,2,    0.01,2,    1.47,2,-999.000,9,-999.000,9,-999.000,9,-999.0000,9, -999.00,9,-999.000,9,-999.000,   9.000,     2.4500,-999.0000, -999.00
32OC19880723,       A16N,      74,          1,         21,         21,2,19880813,       0217,    28.8450,   -24.2167,       5215,  4361.3,  34.8908,2,  34.8930,2,    246.0,2,   245.9,2,   45.40,2,   22.00,2,    0.01,2,    1.48,2,-999.000,9,-999.000,9,-999.000,9,-999.0000,9, -999.00,9,-999.000,9,-999.000,-999.000,     2.4100,-999.0000, -999.00
32OC19880723,       A16N,      74,          1,         22,         22,2,19880813,       0217,    28.8450,   -24.2167,       5215,  4722.1,  34.8859,2,  34.8880,2,    246.4,2,   245.5,2,   46.50,2,   22.10,2,    0.01,2,    1.49,2,-999.000,9,-999.000,9,-999.000,9,-999.0000,9, -999.00,9,-999.000,9,-999.000,   9.000,     2.4080,-999.0000, -999.00
32OC19880723,       A16N,      74,          1,         23,         23,2,19880813,       0217,    28.8450,   -24.2167,       5215,  5084.7,  34.8843,2,  34.8870,2,    245.9,2,   245.9,2,   46.80,2,   22.20,2,    0.01,2,    1.48,2,-999.000,9,-999.000,9,-999.000,9,-999.0000,9, -999.00,9,-999.000,9,-999.000,-999.000,     2.4360,-999.0000, -999.00
32OC19880723,       A16N,      74,          1,         24,         24,2,19880813,       0217,    28.8450,   -24.2167,       5215,  5312.3,  34.8840,2,  34.8830,2,    245.4,2,   246.8,2,   47.00,2,   22.20,2,    0.00,2,    1.50,2,-999.000,9,-999.000,9,-999.000,9,-999.0000,9, -999.00,9,-999.000,9,-999.000,   9.000,     2.4570,-999.0000, -999.00
32OC19880723,       A16N,      74,          1,         99,     -999.0,9,19880813,       0217,    28.8450,   -24.2167,       5215,  5313.6,  34.8839,2,-999.0000,9,    245.4,2,  -999.0,9, -999.00,9, -999.00,9, -999.00,9, -999.00,9,-999.000,9,-999.000,9,-999.000,9,-999.0000,9, -999.00,9,-999.000,9,-999.000,-999.000,     2.4580,-999.0000, -999.00