BOTTLE,20220922CCHSIOAMB
EXPOCODE,SECT_ID,STNNBR,CASTNO,SAMPNO,BTLNBR,BTLNBR_FLAG_W,DATE,TIME,LATITUDE,LONGITUDE,DEPTH,CTDPRS,CTDSAL,CTDSAL_FLAG_W,SALNTY,SALNTY_FLAG_W,CTDOXY,CTDOXY_FLAG_W,OXYGEN,OXYGEN_FLAG_W,SILCAT,SILCAT_FLAG_W,NITRAT,NITRAT_FLAG_W,NITRIT,NITRIT_FLAG_W,PHSPHT,PHSPHT_FLAG_W,CFC-11,CFC-11_FLAG_W,CFC-12,CFC-12_FLAG_W,TRITUM,TRITUM_FLAG_W,HELIUM,HELIUM_FLAG_W,DELHE3,DELHE3_FLAG_W,NEON,NEON_FLAG_W,NEONER,TRITER,CTDTMP,HELIER,DELHER
,,,,,,,,,,,METERS,DBAR,PSS-78,,PSS-78,,UMOL/KG,,UMOL/KG,,UMOL/KG,,UMOL/KG,,UMOL/KG,,UMOL/KG,,PMOL/KG,,PMOL/KG,,TU,,NMOL/KG,,PERCNT,,NMOL/KG,,NMOL/KG,TU,IPTS-68,NMOL/KG,PERCNT
32OC19880723,       A16N,     103,          1,          1,          1,2,19880820,       0518,     8.2250,   -27.8217,       4230,    12.1,  35.4113,2,  35.4680,2,    201.3,2,   202.6,2,    0.10,2,    2.60,2,    0.00,2,    0.04,2,   1.456,2,   0.764,2,-999.000,9,-999.0000,9, -999.00,9,-999.000,9,-999.000,-999.000,    27.4010,-999.0000, -999.00
32OC19880723,       A16N,     103,          1,          2,          2,2,19880820,       0518,     8.2250,   -27.8217,       4230,    12.1,  35.4113,2,  35.4600,2,    201.3,2,   202.1,2,    0.20,2,    2.60,2,    0.00,2,    0.04,2,   1.510,2,   0.780,2,-999.000,9,-999.0000,9, -999.00,9,-999.000,9,-999.000,   9.000,    27.4010,-999.0000, -999.00
32OC19880723,       A16N,     103,          1,          3,          3,2,19880820,       0518,     8.2250,   -27.8217,       4230,    37.5,  36.3496,2,  36.4360,2,    197.0,2,   205.8,2,    0.50,2,    2.70,2,    0.00,2,    0.05,2,   1.476,2,   0.763,2,-999.000,9,-999.0000,9, -999.00,9,-999.000,9,-999.000,-999.000,    25.7490,-999.0000, -999.00
32OC19880723,       A16N,     103,          1,          4,          4,2,19880820,       0518,     8.2250,   -27.8217,       4230,    67.5,  36.1115,2,  36.1640,2,    146.1,2,   149.4,2,    2.50,2,    9.10,2,    0.49,2,    0.45,2,   1.262,2,   0.618,2,-999.000,9,-999.0000,9, -999.00,9,-999.000,9,-999.000,   9.000,    21.1380,-999.0000, -999.00
32OC19880723,       A16N,     103,          1,          5,          5,2,19880820,       0518,     8.2250,   -27.8217,       4230,   153.0,  35.2398,2,  35.2060,2,    145.1,2,   144.4,2,    8.20,2,   21.10,2,    0.01,2,    1.28,2,   0.809,2,   0.390,2,-999.000,9,-999.0000,9, -999.00,9,-999.000,9,-999.000,-999.000,    12.0670,-999.0000, -999.00
32OC19880723,       A16N,     103,          1,          6,          6,2,19880820,       0518,     8.2250,   -27.8217,       4230,   199.4,  35.1053,2,  35.1100,2,    143.5,2,   121.8,3,   10.00,2,   24.60,2,    0.01,2,    1.56,2,   0.575,4,   0.248,4,-999.000,9,-999.0000,9, -999.00,9,-999.000,9,-999.000,   9.000,    11.3170,-999.0000, -999.00
32OC19880723,       A16N,     103,          1,          7,          7,2,19880820,       0518,     8.2250,   -27.8217,       4230,   295.6,  34.9771,2,  34.9430,2,    116.6,2,   114.8,2,   12.60,2,   27.90,2,    0.01,2,    1.75,2,   0.376,2,   0.163,2,-999.000,9,-999.0000,9, -999.00,9,-999.000,9,-999.000,-999.000,     9.9080,-999.0000, -999.00
32OC19880723,       A16N,     103,          1,          8,          8,2,19880820,       0518,     8.2250,   -27.8217,       4230,   391.6,  34.9029,2,  34.9170,2,     98.0,2,    72.6,3,   15.70,2,   33.10,2,    0.01,2,    2.06,2,   0.127,2,   0.040,2,-999.000,9,-999.0000,9, -999.00,9,-999.000,9,-999.000,   9.000,     9.2630,-999.0000, -999.00
32OC19880723,       A16N,     103,          1,          9,          9,2,19880820,       0518,     8.2250,   -27.8217,       4230,   587.7,  34.7826,2,  34.7820,2,     84.8,2,    83.5,2,   20.50,2,   35.10,2,    0.01,2,    2.25,2,   0.026,2,   0.008,7,-999.000,9,-999.0000,9, -999.00,9,-999.000,9,-999.000,-999.000,     7.5820,-999.0000, -999.00
32OC19880723,       A16N,     103,          1,         10,         10,2,19880820,       0518,     8.2250,   -27.8217,       4230,   785.9,  34.6458,2,  34.6480,2,    112.0,2,   113.0,2,   26.80,2,   35.40,2,    0.01,2,    2.34,2,-999.000,9,-999.000,9,-999.000,9,-999.0000,9, -999.00,9,-999.000,9,-999.000,   9.000,     5.7010,-999.0000, -999.00
32OC19880723,       A16N,     103,          1,         11,         11,2,19880820,       0518,     8.2250,   -27.8217,       4230,   984.1,  34.7103,2,  34.7100,2,    129.1,2,   127.8,2,   27.70,2,   34.10,2,    0.01,2,    2.25,2,   0.011,2,   0.002,7,-999.000,9,-999.0000,9, -999.00,9,-999.000,9,-999.000,-999.000,     5.2510,-999.0000, -999.00
32OC19880723,       A16N,     103,          1,         12,         12,2,19880820,       0518,     8.2250,   -27.8217,       4230,  1184.8,  34.8433,2,  34.8450,2,    159.6,2,   164.3,2,   24.70,2,   29.20,2,    0.01,2,    1.94,2,   0.003,2,   0.002,7,-999.000,9,-999.0000,9, -999.00,9,-999.000,9,-999.000,   9.000,     4.8540,-999.0000, -999.00
32OC19880723,       A16N,     103,          1,         13,         13,2,19880820,       0518,     8.2250,   -27.8217,       4230,  1384.9,  34.9341,2,  34.9330,2,    199.5,2,   201.6,2,   21.00,2,   25.60,2,    0.05,2,    1.62,2,-999.000,9,-999.000,9,-999.000,9,-999.0000,9, -999.00,9,-999.000,9,-999.000,-999.000,     4.4750,-999.0000, -999.00
32OC19880723,       A16N,     103,          1,         14,         14,2,19880820,       0518,     8.2250,   -27.8217,       4230,  1585.5,  34.9636,2,  34.9640,2,    228.4,2,   229.0,2,   18.60,2,   22.70,2,    0.01,2,    1.41,2,   0.022,2,   0.002,7,-999.000,9,-999.0000,9, -999.00,9,-999.000,9,-999.000,   9.000,     4.1120,-999.0000, -999.00
32OC19880723,       A16N,     103,          1,         15,         15,2,19880820,       0518,     8.2250,   -27.8217,       4230,  1786.0,  34.9632,2,  34.9650,2,    238.8,2,   239.8,2,   19.50,2,   22.10,2,    0.00,2,    1.37,2,-999.000,9,-999.000,9,-999.000,9,-999.0000,9, -999.00,9,-999.000,9,-999.000,-999.000,     3.7750,-999.0000, -999.00
32OC19880723,       A16N,     103,          1,         16,         16,2,19880820,       0518,     8.2250,   -27.8217,       4230,  1987.9,  34.9569,2,  34.9580,2,    243.2,2,   243.8,2,   21.80,2,   21.70,2,    0.02,2,    1.35,2,  -0.009,2,   0.002,7,-999.000,9,-999.0000,9, -999.00,9,-999.000,9,-999.000,   9.000,     3.5090,-999.0000, -999.00
32OC19880723,       A16N,     103,          1,         17,         17,2,19880820,       0518,     8.2250,   -27.8217,       4230,  2292.1,  34.9456,2,  34.9460,2,    246.3,2,   245.5,2,   25.70,2,   21.50,2,    0.00,2,    1.37,2,-999.000,9,-999.000,9,-999.000,9,-999.0000,9, -999.00,9,-999.000,9,-999.000,-999.000,     3.1980,-999.0000, -999.00
32OC19880723,       A16N,     103,          1,         18,         18,2,19880820,       0518,     8.2250,   -27.8217,       4230,  2596.6,  34.9350,2,  34.9360,2,    247.8,2,   247.2,2,   29.30,2,   21.60,2,    0.00,2,    1.36,2,  -0.012,2,   0.002,7,-999.000,9,-999.0000,9, -999.00,9,-999.000,9,-999.000,   9.000,     2.9610,-999.0000, -999.00
32OC19880723,       A16N,     103,          1,         19,         19,2,19880820,       0518,     8.2250,   -27.8217,       4230,  2900.0,  34.9204,2,  34.9200,2,    250.7,2,   249.8,2,   33.30,2,   21.70,2,    0.02,2,    1.39,2,-999.000,9,-999.000,9,-999.000,9,-999.0000,9, -999.00,9,-999.000,9,-999.000,-999.000,     2.7250,-999.0000, -999.00
32OC19880723,       A16N,     103,          1,         20,         20,2,19880820,       0518,     8.2250,   -27.8217,       4230,  3203.2,  34.9108,2,  34.9100,2,    249.0,2,   248.1,2,   37.00,2,   22.00,2,    0.01,2,    1.43,2,   0.019,2,   0.002,7,-999.000,9,-999.0000,9, -999.00,9,-999.000,9,-999.000,   9.000,     2.6010,-999.0000, -999.00
32OC19880723,       A16N,     103,          1,         21,         21,2,19880820,       0518,     8.2250,   -27.8217,       4230,  3507.7,  34.9028,2,  34.9030,2,    249.8,2,   249.8,2,   39.00,2,   22.00,2,    0.01,2,    1.43,2,-999.000,9,-999.000,9,-999.000,9,-999.0000,9, -999.00,9,-999.000,9,-999.000,-999.000,     2.4970,-999.0000, -999.00
32OC19880723,       A16N,     103,          1,         22,         22,2,19880820,       0518,     8.2250,   -27.8217,       4230,  3813.9,  34.8940,2,-999.0000,9,    252.2,2,   252.0,2,   40.60,2,   21.80,2,    0.01,2,    1.43,2,  -0.007,2,   0.005,7,-999.000,9,-999.0000,9, -999.00,9,-999.000,9,-999.000,   9.000,     2.3990,-999.0000, -999.00
32OC19880723,       A16N,     103,          1,         23,         23,2,19880820,       0518,     8.2250,   -27.8217,       4230,  4119.0,  34.8870,2,  34.8860,2,    254.6,2,   254.2,2,   42.10,2,   21.70,2,    0.00,2,    1.44,2,-999.000,9,-999.000,9,-999.000,9,-999.0000,9, -999.00,9,-999.000,9,-999.000,-999.000,     2.3390,-999.0000, -999.00
32OC19880723,       A16N,     103,          1,         24,         24,2,19880820,       0518,     8.2250,   -27.8217,       4230,  4266.8,  34.8847,2,  34.8830,2,    252.0,2,   253.7,2,   43.60,2,   21.90,2,    0.03,2,    1.42,2,-999.000,9,-999.000,9,-999.000,9,-999.0000,9, -999.00,9,-999.000,9,-999.000,   9.000,     2.3250,-999.0000, -999.00
32OC19880723,       A16N,     103,          1,         99,     -999.0,9,19880820,       0518,     8.2250,   -27.8217,       4230,  4268.2,  34.8848,2,-999.0000,9,    252.0,2,  -999.0,9, -999.00,9, -999.00,9, -999.00,9, -999.00,9,-999.000,9,-999.000,9,-999.000,9,-999.0000,9, -999.00,9,-999.000,9,-999.000,-999.000,     2.3270,-999.0000, -999.00
32OC19880723,       A16N,     104,          1,          1,          1,2,19880820,       1106,     7.5367,   -27.5233,       4230,     1.4,  35.4092,2,  35.4680,2,    201.3,2,   202.6,2,    0.30,2,    0.10,2,    0.00,2,    0.07,2,   1.462,2,   0.756,2,-999.000,9,-999.0000,9, -999.00,9,-999.000,9,-999.000,   9.000,    27.3580,-999.0000, -999.00
32OC19880723,       A16N,     104,          1,          2,          2,2,19880820,       1106,     7.5367,   -27.5233,       4230,    37.2,  35.5494,2,  35.5050,2,    202.1,2,   204.7,2,    0.30,2,    0.30,2,    0.00,2,    0.08,2,   1.477,2,   0.755,2,-999.000,9,-999.0000,9, -999.00,9,-999.000,9,-999.000,-999.000,    27.3530,-999.0000, -999.00
32OC19880723,       A16N,     104,          1,          3,          3,2,19880820,       1106,     7.5367,   -27.5233,       4230,    65.3,  36.2039,2,  36.2640,2,    170.4,2,   171.2,2,    1.80,2,    2.70,2,    0.43,2,    0.23,2,   1.371,2,   0.645,2,-999.000,9,-999.0000,9, -999.00,9,-999.000,9,-999.000,   9.000,    22.8000,-999.0000, -999.00
32OC19880723,       A16N,     104,          1,          4,          4,2,19880820,       1106,     7.5367,   -27.5233,       4230,   102.3,  35.5055,2,  35.4920,2,    110.3,2,   114.4,2,    7.30,2,   20.80,2,    0.01,2,    1.34,2,   0.776,4,   0.334,4,-999.000,9,-999.0000,9, -999.00,9,-999.000,9,-999.000,-999.000,    14.1580,-999.0000, -999.00
32OC19880723,       A16N,     104,          1,          5,          5,2,19880820,       1106,     7.5367,   -27.5233,       4230,   147.4,  35.2433,2,  35.2560,2,    111.8,2,   110.5,2,    8.40,2,   23.20,2,    0.00,2,    1.52,2,   0.667,4,   0.297,4,-999.000,9,-999.0000,9, -999.00,9,-999.000,9,-999.000,   9.000,    12.6280,-999.0000, -999.00
32OC19880723,       A16N,     104,          1,          6,          6,2,19880820,       1106,     7.5367,   -27.5233,       4230,   189.5,  35.1571,2,  35.1720,2,    115.4,2,   114.8,2,    9.40,2,   24.00,2,    0.00,2,    1.56,2,   0.636,4,   0.253,4,-999.000,9,-999.0000,9, -999.00,9,-999.000,9,-999.000,-999.000,    11.9050,-999.0000, -999.00
32OC19880723,       A16N,     104,          1,          7,          7,2,19880820,       1106,     7.5367,   -27.5233,       4230,   228.4,  35.0617,2,  35.0870,2,    119.6,2,   119.2,2,   10.20,2,   25.00,2,    0.00,2,    1.64,2,-999.000,9,-999.000,9,-999.000,9,-999.0000,9, -999.00,9,-999.000,9,-999.000,   9.000,    11.2200,-999.0000, -999.00
32OC19880723,       A16N,     104,          1,          8,          8,2,19880820,       1106,     7.5367,   -27.5233,       4230,   264.5,  35.0130,2,  35.0480,2,    110.4,2,    98.7,2,   11.60,2,   27.80,2,    0.00,2,    1.80,2,   0.390,4,   0.155,4,-999.000,9,-999.0000,9, -999.00,9,-999.000,9,-999.000,-999.000,    10.7670,-999.0000, -999.00
32OC19880723,       A16N,     104,          1,          9,          9,2,19880820,       1106,     7.5367,   -27.5233,       4230,   340.9,  34.9259,2,  34.9320,2,     89.6,2,    87.4,2,   13.80,2,   30.80,2,    0.00,2,    1.97,2,   0.242,4,   0.088,4,-999.000,9,-999.0000,9, -999.00,9,-999.000,9,-999.000,   9.000,     9.7720,-999.0000, -999.00
32OC19880723,       A16N,     104,          1,         10,         10,2,19880820,       1106,     7.5367,   -27.5233,       4230,   418.5,  34.8331,2,  34.8340,2,    101.5,2,   101.8,2,   15.80,2,   31.50,2,    0.00,2,    2.27,2,   0.181,4,   0.064,4,-999.000,9,-999.0000,9, -999.00,9,-999.000,9,-999.000,-999.000,     8.8270,-999.0000, -999.00
32OC19880723,       A16N,     104,          1,         11,         11,2,19880820,       1106,     7.5367,   -27.5233,       4230,   581.9,  34.8551,2,  34.8010,2,     76.1,2,    79.1,2,   20.40,2,   35.70,2,    0.00,2,    2.29,2,   0.045,2,   0.005,7,-999.000,9,-999.0000,9, -999.00,9,-999.000,9,-999.000,   9.000,     7.6180,-999.0000, -999.00
32OC19880723,       A16N,     104,          1,         12,         12,2,19880820,       1106,     7.5367,   -27.5233,       4230,   757.1,  34.6342,2,  34.6450,2,    112.9,2,   113.9,2,   26.90,2,   35.40,2,    0.00,2,    2.38,2,  -0.028,4,   0.002,7,-999.000,9,-999.0000,9, -999.00,9,-999.000,9,-999.000,-999.000,     5.6790,-999.0000, -999.00
32OC19880723,       A16N,     104,          1,         13,         13,2,19880820,       1106,     7.5367,   -27.5233,       4230,   941.7,  34.6706,2,  34.6750,2,    136.8,2,   138.2,2,   28.50,2,   33.40,2,    0.00,2,    2.29,2,-999.000,9,-999.000,9,-999.000,9,-999.0000,9, -999.00,9,-999.000,9,-999.000,   9.000,     5.0120,-999.0000, -999.00
32OC19880723,       A16N,     104,          1,         14,         14,2,19880820,       1106,     7.5367,   -27.5233,       4230,  1131.5,  34.7892,2,  34.7840,2,    155.6,2,   155.6,2,   26.60,2,   30.30,2,    0.00,2,    2.07,2,   0.007,2,   0.002,7,-999.000,9,-999.0000,9, -999.00,9,-999.000,9,-999.000,-999.000,     4.7970,-999.0000, -999.00
32OC19880723,       A16N,     104,          1,         15,         15,2,19880820,       1106,     7.5367,   -27.5233,       4230,  1420.7,  34.9288,2,  34.9320,2,    204.7,2,   205.1,2,   21.20,2,   24.60,2,    0.00,2,    1.65,2,-999.000,9,-999.000,9,-999.000,9,-999.0000,9, -999.00,9,-999.000,9,-999.000,   9.000,     4.3680,-999.0000, -999.00
32OC19880723,       A16N,     104,          1,         16,         16,2,19880820,       1106,     7.5367,   -27.5233,       4230,  1706.5,  34.9649,2,  34.9660,2,    237.2,2,   237.2,2,   18.80,2,   21.30,2,    0.00,2,    1.43,2,  -0.017,3,   0.005,7,-999.000,9,-999.0000,9, -999.00,9,-999.000,9,-999.000,-999.000,     3.9330,-999.0000, -999.00
32OC19880723,       A16N,     104,          1,         17,         17,2,19880820,       1106,     7.5367,   -27.5233,       4230,  2000.1,  34.9597,2,  34.9620,2,    248.5,2,   248.1,2,   20.70,2,   20.40,2,    0.00,2,    1.34,2,-999.000,9,-999.000,9,-999.000,9,-999.0000,9, -999.00,9,-999.000,9,-999.000,   9.000,     3.5330,-999.0000, -999.00
32OC19880723,       A16N,     104,          1,         18,         18,2,19880820,       1106,     7.5367,   -27.5233,       4230,  2341.9,  34.9445,2,  34.9460,2,    250.7,2,   250.3,2,   25.70,2,   20.50,2,    0.00,2,    1.38,2,   0.010,2,   0.002,7,-999.000,9,-999.0000,9, -999.00,9,-999.000,9,-999.000,-999.000,     3.1400,-999.0000, -999.00
32OC19880723,       A16N,     104,          1,         19,         19,2,19880820,       1106,     7.5367,   -27.5233,       4230,  2678.7,  34.9308,2,  34.9310,2,    250.7,2,   250.3,2,   30.30,2,   20.80,2,    0.00,2,    1.39,2,-999.000,9,-999.000,9,-999.000,9,-999.0000,9, -999.00,9,-999.000,9,-999.000,   9.000,     2.8950,-999.0000, -999.00
32OC19880723,       A16N,     104,          1,         20,         20,2,19880820,       1106,     7.5367,   -27.5233,       4230,  3028.2,  34.9175,2,  34.9180,2,    249.8,2,   249.4,2,   34.00,2,   21.20,2,    0.00,2,    1.42,2,  -0.002,2,   0.005,7,-999.000,9,-999.0000,9, -999.00,9,-999.000,9,-999.000,-999.000,     2.7170,-999.0000, -999.00
32OC19880723,       A16N,     104,          1,         21,         21,2,19880820,       1106,     7.5367,   -27.5233,       4230,  3387.1,  34.9081,2,  34.9080,2,    250.1,2,   250.3,2,   37.60,2,   21.30,2,    0.01,2,    1.46,2,-999.000,9,-999.000,9,-999.000,9,-999.0000,9, -999.00,9,-999.000,9,-999.000,   9.000,     2.5750,-999.0000, -999.00
32OC19880723,       A16N,     104,          1,         22,         22,2,19880820,       1106,     7.5367,   -27.5233,       4230,  3736.2,  34.8951,2,  34.8960,2,    252.2,2,   252.4,2,   39.70,2,   21.30,2,    0.01,2,    1.47,2,   0.000,2,   0.005,7,-999.000,9,-999.0000,9, -999.00,9,-999.000,9,-999.000,-999.000,     2.4110,-999.0000, -999.00
32OC19880723,       A16N,     104,          1,         23,         23,2,19880820,       1106,     7.5367,   -27.5233,       4230,  4074.7,  34.8863,2,  34.8870,2,    251.8,2,   252.0,2,   43.10,2,   21.50,2,    0.01,2,    1.46,2,-999.000,9,-999.000,9,-999.000,9,-999.0000,9, -999.00,9,-999.000,9,-999.000,   9.000,     2.3310,-999.0000, -999.00
32OC19880723,       A16N,     104,          1,         24,         24,2,19880820,       1106,     7.5367,   -27.5233,       4230,  4255.8,  34.8850,2,  34.8840,2,    250.7,2,   251.1,2,   44.00,2,   21.70,2,    0.01,2,    1.47,2,   0.008,2,   0.005,7,-999.000,9,-999.0000,9, -999.00,9,-999.000,9,-999.000,-999.000,     2.3310,-999.0000, -999.00
32OC19880723,       A16N,     104,          1,         99,     -999.0,9,19880820,       1106,     7.5367,   -27.5233,       4230,  4258.0,  34.8848,2,-999.0000,9,    250.7,2,  -999.0,9, -999.00,9, -999.00,9, -999.00,9, -999.00,9,-999.000,9,-999.000,9,-999.000,9,-999.0000,9, -999.00,9,-999.000,9,-999.000,   9.000,     2.3310,-999.0000, -999.00