BOTTLE,20220922CCHSIOAMB
EXPOCODE,SECT_ID,STNNBR,CASTNO,SAMPNO,BTLNBR,BTLNBR_FLAG_W,DATE,TIME,LATITUDE,LONGITUDE,DEPTH,CTDPRS,CTDSAL,CTDSAL_FLAG_W,SALNTY,SALNTY_FLAG_W,CTDOXY,CTDOXY_FLAG_W,OXYGEN,OXYGEN_FLAG_W,SILCAT,SILCAT_FLAG_W,NITRAT,NITRAT_FLAG_W,NITRIT,NITRIT_FLAG_W,PHSPHT,PHSPHT_FLAG_W,CFC-11,CFC-11_FLAG_W,CFC-12,CFC-12_FLAG_W,TRITUM,TRITUM_FLAG_W,HELIUM,HELIUM_FLAG_W,DELHE3,DELHE3_FLAG_W,NEON,NEON_FLAG_W,NEONER,TRITER,CTDTMP,HELIER,DELHER
,,,,,,,,,,,METERS,DBAR,PSS-78,,PSS-78,,UMOL/KG,,UMOL/KG,,UMOL/KG,,UMOL/KG,,UMOL/KG,,UMOL/KG,,PMOL/KG,,PMOL/KG,,TU,,NMOL/KG,,PERCNT,,NMOL/KG,,NMOL/KG,TU,IPTS-68,NMOL/KG,PERCNT
32OC19880723,       A16N,      89,          1,          7,          7,2,19880816,       1842,    18.5117,   -29.0100,       4671,    13.0,  36.7202,2,  36.7120,2,    205.7,2,   208.8,2,    0.00,2, -999.00,9,    0.00,2,    0.06,2,   1.829,2,   0.893,2,   1.455,2,   1.7027,2,   -1.45,2,-999.000,9,  -7.493,   0.040,    24.8700,   0.0119,    0.18
32OC19880723,       A16N,      89,          1,          8,          8,2,19880816,       1842,    18.5117,   -29.0100,       4671,    38.3,  36.7346,2,  36.7150,2,    208.3,2,   209.2,2,    0.00,2, -999.00,9,    0.00,2,    0.06,2,   1.878,2,   0.898,2,   1.433,2,   1.7241,2,   -1.43,2,-999.000,9,  -7.493,   0.040,    24.7990,   0.0121,    0.18
32OC19880723,       A16N,      89,          1,          9,          9,2,19880816,       1842,    18.5117,   -29.0100,       4671,    68.6,  36.8401,2,  36.8130,2,    223.4,2,   218.7,2,    0.10,2,    0.00,2,    0.00,2,    0.06,2,   1.894,2,   0.964,2,   1.446,2,   1.7070,2,   -1.21,2,-999.000,9,  -7.493,   0.039,    23.2500,   0.0119,    0.18
32OC19880723,       A16N,      89,          1,         10,         10,2,19880816,       1842,    18.5117,   -29.0100,       4671,   108.6,  36.9025,2,  36.8730,2,    175.1,2,   171.9,2,    1.10,2,    5.20,2,    0.03,2,    0.34,2,   1.937,2,   0.909,2,   2.132,2,   1.7282,2,   -0.28,2,-999.000,9,  -7.493,   0.045,    20.1620,   0.0121,    0.18
32OC19880723,       A16N,      89,          1,         11,         11,2,19880816,       1842,    18.5117,   -29.0100,       4671,   158.9,  36.2822,2,  36.2660,2,    123.8,2,   122.2,2,    4.00,2,   14.80,2,    0.00,2,    0.87,2,   1.509,4,   0.692,4,   1.892,2,   1.7456,2,    2.04,2,-999.000,9,  -7.493,   0.044,    16.7810,   0.0122,    0.18
32OC19880723,       A16N,      89,          1,         12,         12,2,19880816,       1842,    18.5117,   -29.0100,       4671,   208.9,  35.8506,2,  35.8930,2,     89.0,2,    94.0,2,    6.40,2,   20.90,2,    0.00,2,    1.25,2,   0.960,4,   0.465,4,   1.239,2,   1.7560,2,    3.90,2,-999.000,9,  -7.493,   0.037,    14.8370,   0.0123,    0.18
32OC19880723,       A16N,      89,          1,         13,         13,2,19880816,       1842,    18.5117,   -29.0100,       4671,   308.8,  35.7320,2,  35.6990,2,    102.6,2,    96.1,2,    7.80,2,   22.60,2,    0.00,2,    1.32,2,   0.759,4,   0.329,4,   1.414,2,   1.7618,2,    6.53,2,-999.000,9,  -7.493,   0.039,    13.2800,   0.0123,    0.18
32OC19880723,       A16N,      89,          1,         14,         14,2,19880816,       1842,    18.5117,   -29.0100,       4671,   408.4,  35.4548,2,  35.4320,2,     76.0,2,    80.4,2,   11.20,2,   27.50,2,    0.00,2,    1.67,2,   0.395,4,   0.157,4,   0.974,2,   1.7737,2,    7.07,2,-999.000,9,  -7.493,   0.033,    11.5080,   0.0124,    0.18
32OC19880723,       A16N,      89,          1,         15,         15,2,19880816,       1842,    18.5117,   -29.0100,       4671,   608.1,  35.1102,2,  35.0810,2,     88.2,2,    88.3,2,   17.90,2,   31.80,2,    0.00,2,    2.03,2,   0.094,2,   0.009,7,   0.246,2,-999.0000,9, -999.00,9,-999.000,9,-999.000,   0.025,     8.6790,-999.0000, -999.00
32OC19880723,       A16N,      89,          1,         16,         16,2,19880816,       1842,    18.5117,   -29.0100,       4671,   807.0,  34.8939,2,  34.8940,2,    108.7,2,   106.5,2,   22.70,2,   32.60,2,    0.00,2,    2.18,2,   0.009,4,  -0.001,4,   0.014,2,   1.8136,2,    0.95,2,-999.000,9,  -7.493,   0.014,     6.8380,   0.0127,    0.18
32OC19880723,       A16N,      89,          1,         17,         17,2,19880816,       1842,    18.5117,   -29.0100,       4671,  1006.1,  34.9593,2,  34.9450,2,    143.8,2,   140.0,2,   22.50,2,   29.70,2,    0.00,2,    1.95,2,   0.075,3,   0.002,7,   0.048,2,   1.8144,2,    1.08,2,-999.000,9,  -7.493,   0.021,     6.1970,   0.0127,    0.18
32OC19880723,       A16N,      89,          1,         18,         18,2,19880816,       1842,    18.5117,   -29.0100,       4671,  1205.2,  35.0360,2,  35.0270,2,    166.5,2,   165.6,2,   21.40,2,   26.30,2,    0.00,2,    1.76,2,   0.040,2,   0.002,7,-999.000,9,-999.0000,9, -999.00,9,-999.000,9,-999.000,-999.000,     5.6480,-999.0000, -999.00
32OC19880723,       A16N,      89,          1,         19,         19,2,19880816,       1842,    18.5117,   -29.0100,       4671,  1404.3,  35.0548,2,  35.0520,2,    191.8,2,   192.1,2,   21.40,2,   24.20,2,    0.00,2,    1.60,2,  -0.023,3,   0.006,7,   0.007,2,   1.8195,2,    0.87,2,-999.000,9,  -7.493,   0.017,     5.0010,   0.0127,    0.18
32OC19880723,       A16N,      89,          1,         20,         20,2,19880816,       1842,    18.5117,   -29.0100,       4671,  1604.7,  35.0349,2,  35.0330,2,    210.7,2,   212.0,2,   21.60,2,   22.60,2,    0.00,2,    1.50,2,   0.009,2,  -0.001,2,-999.000,9,-999.0000,9, -999.00,9,-999.000,9,-999.000,   9.000,     4.4190,-999.0000, -999.00
32OC19880723,       A16N,      89,          1,         21,         21,2,19880816,       1842,    18.5117,   -29.0100,       4671,  1806.2,  34.9995,2,  35.0010,2,    226.1,2,   225.5,2,   23.10,2,   21.80,2,    0.00,2,    1.46,2,   0.020,2,  -0.001,2,   0.005,2,   1.8297,2,    1.34,2,-999.000,9,  -7.493,   0.023,     3.9210,   0.0128,    0.18
32OC19880723,       A16N,      89,          1,         22,         22,2,19880816,       1842,    18.5117,   -29.0100,       4671,  2107.5,  34.9787,2,  34.9770,2,    235.2,2,   235.1,2,   25.70,2,   21.20,2,    0.00,2,    1.43,2,   0.003,2,   0.002,7,-999.000,9,-999.0000,9, -999.00,9,-999.000,9,-999.000,-999.000,     3.4820,-999.0000, -999.00
32OC19880723,       A16N,      89,          1,         23,         23,2,19880816,       1842,    18.5117,   -29.0100,       4671,  2410.6,  34.9598,2,  34.9620,2,    242.9,2,   242.4,2,   28.50,2,   20.80,2,    0.00,2,    1.38,2,  -0.004,2,  -0.001,2,-999.000,9,-999.0000,9, -999.00,9,-999.000,9,-999.000,   9.000,     3.1800,-999.0000, -999.00
32OC19880723,       A16N,      89,          1,         24,         24,2,19880816,       1842,    18.5117,   -29.0100,       4671,  2765.2,  34.9461,2,  34.9460,2,    244.2,2,   243.7,2,   32.50,2,   20.90,2,    0.00,2,    1.41,2,   0.011,2,   0.002,7,-999.000,9,-999.0000,9, -999.00,9,-999.000,9,-999.000,-999.000,     2.9220,-999.0000, -999.00
32OC19880723,       A16N,      89,          1,          1,          1,2,19880816,       1842,    18.5117,   -29.0100,       4671,  3120.8,  34.9292,2,  34.9280,2,    242.9,2,   243.3,2,   37.50,2,   21.20,2,    0.00,2,    1.47,2,  -0.009,2,  -0.001,2,-999.000,9,-999.0000,9, -999.00,9,-999.000,9,-999.000,   9.000,     2.6860,-999.0000, -999.00
32OC19880723,       A16N,      89,          1,          2,          2,2,19880816,       1842,    18.5117,   -29.0100,       4671,  3474.8,  34.9110,2,  34.9110,2,    242.9,2,   242.9,2,   42.40,2,   21.90,2,    0.00,2,    1.46,2,   0.239,4,   0.002,7,-999.000,9,-999.0000,9, -999.00,9,-999.000,9,-999.000,-999.000,     2.4960,-999.0000, -999.00
32OC19880723,       A16N,      89,          1,          3,          3,2,19880816,       1842,    18.5117,   -29.0100,       4671,  3830.6,  34.8989,2,  34.8980,2,    244.6,2,   245.5,2,   44.50,2,   21.70,2,    0.00,2,    1.49,2,  -0.002,2,   0.002,7,-999.000,9,-999.0000,9, -999.00,9,-999.000,9,-999.000,   9.000,     2.3930,-999.0000, -999.00
32OC19880723,       A16N,      89,          1,          4,          4,2,19880816,       1842,    18.5117,   -29.0100,       4671,  4188.6,  34.8907,2,  34.8920,2,    243.9,2,   244.2,2,   46.30,2,   22.50,2,    0.00,2,    1.49,2,  -0.011,2,  -0.001,2,-999.000,9,-999.0000,9, -999.00,9,-999.000,9,-999.000,-999.000,     2.3600,-999.0000, -999.00
32OC19880723,       A16N,      89,          1,          5,          5,2,19880816,       1842,    18.5117,   -29.0100,       4671,  4546.2,  34.8875,2,  34.8860,2,    244.2,2,   243.7,2,   47.10,2,   22.00,2,    0.00,2,    1.50,2,   0.018,2,  -0.001,2,-999.000,9,-999.0000,9, -999.00,9,-999.000,9,-999.000,   9.000,     2.3830,-999.0000, -999.00
32OC19880723,       A16N,      89,          1,          6,          6,2,19880816,       1842,    18.5117,   -29.0100,       4671,  4734.7,  34.8875,2,  34.8870,2,    242.9,2,   243.3,2,   47.30,2,   22.10,2,    0.00,2,    1.50,2,  -0.004,2,  -0.001,2,-999.000,9,-999.0000,9, -999.00,9,-999.000,9,-999.000,-999.000,     2.4000,-999.0000, -999.00
32OC19880723,       A16N,      89,          1,         99,     -999.0,9,19880816,       1842,    18.5117,   -29.0100,       4671,  4735.9,  34.8875,2,-999.0000,9,    242.9,2,  -999.0,9, -999.00,9, -999.00,9, -999.00,9, -999.00,9,-999.000,9,-999.000,9,-999.000,9,-999.0000,9, -999.00,9,-999.000,9,-999.000,   9.000,     2.4000,-999.0000, -999.00
32OC19880723,       A16N,      90,          1,          7,          7,2,19880817,       0036,    17.7483,   -29.0083,       4669,    11.3,  36.6569,2,  36.6410,2,    203.1,2,   207.9,2,    0.30,2,    0.00,2,    0.02,2,    0.06,2,-999.000,9,-999.000,9,-999.000,9,-999.0000,9, -999.00,9,-999.000,9,-999.000,-999.000,    25.1100,-999.0000, -999.00
32OC19880723,       A16N,      90,          1,          8,          8,2,19880817,       0036,    17.7483,   -29.0083,       4669,    36.5,  36.7765,2,  36.7320,2,    208.6,2,   207.9,2,    0.00,2,    0.00,2,    0.01,2,    0.03,2,-999.000,9,-999.000,9,-999.000,9,-999.0000,9, -999.00,9,-999.000,9,-999.000,   9.000,    25.1350,-999.0000, -999.00
32OC19880723,       A16N,      90,          1,          9,          9,2,19880817,       0036,    17.7483,   -29.0083,       4669,    66.7,  36.7971,2,  36.8180,2,    222.4,2,   222.5,2,    0.00,2,    0.00,2,    0.01,2,    0.07,2,-999.000,9,-999.000,9,-999.000,9,-999.0000,9, -999.00,9,-999.000,9,-999.000,-999.000,    22.3920,-999.0000, -999.00
32OC19880723,       A16N,      90,          1,         10,         10,2,19880817,       0036,    17.7483,   -29.0083,       4669,   106.7,  36.7286,2,  36.7540,2,    173.7,2,   163.6,2,    1.40,2,    6.30,2,    0.04,2,    0.30,2,-999.000,9,-999.000,9,-999.000,9,-999.0000,9, -999.00,9,-999.000,9,-999.000,   9.000,    19.8740,-999.0000, -999.00
32OC19880723,       A16N,      90,          1,         11,         11,2,19880817,       0036,    17.7483,   -29.0083,       4669,   155.8,  36.1438,2,  36.1690,2,    111.2,2,   112.7,2,    4.70,2,   16.40,2,    0.01,2,    0.96,2,-999.000,9,-999.000,9,-999.000,9,-999.0000,9, -999.00,9,-999.000,9,-999.000,-999.000,    16.3330,-999.0000, -999.00
32OC19880723,       A16N,      90,          1,         12,         12,2,19880817,       0036,    17.7483,   -29.0083,       4669,   204.4,  35.7819,2,  35.8980,2,     89.3,2,    95.7,2,    6.50,2,   20.40,2,    0.01,2,    1.23,2,-999.000,9,-999.000,9,-999.000,9,-999.0000,9, -999.00,9,-999.000,9,-999.000,   9.000,    14.7810,-999.0000, -999.00
32OC19880723,       A16N,      90,          1,         13,         13,2,19880817,       0036,    17.7483,   -29.0083,       4669,   303.0,  35.5531,2,  35.5640,2,     88.0,2,    87.0,2,    9.40,2,   24.80,2,    0.02,2,    1.52,2,-999.000,9,-999.000,9,-999.000,9,-999.0000,9, -999.00,9,-999.000,9,-999.000,-999.000,    12.5700,-999.0000, -999.00
32OC19880723,       A16N,      90,          1,         14,         14,2,19880817,       0036,    17.7483,   -29.0083,       4669,   401.7,  35.3392,2,  35.3690,2,     83.9,2,    83.1,2,   11.70,2,   28.00,2,    0.02,2,    1.68,2,-999.000,9,-999.000,9,-999.000,9,-999.0000,9, -999.00,9,-999.000,9,-999.000,   9.000,    11.1740,-999.0000, -999.00
32OC19880723,       A16N,      90,          1,         15,         15,2,19880817,       0036,    17.7483,   -29.0083,       4669,   596.4,  34.9624,2,  34.9900,2,     98.0,2,    96.5,2,   18.50,2,   32.10,2,    0.02,2,    1.99,2,-999.000,9,-999.000,9,-999.000,9,-999.0000,9, -999.00,9,-999.000,9,-999.000,-999.000,     8.3760,-999.0000, -999.00
32OC19880723,       A16N,      90,          1,         16,         16,2,19880817,       0036,    17.7483,   -29.0083,       4669,   794.0,  34.8718,2,  34.8650,2,    103.5,2,   104.3,2,   23.00,2,   33.60,2,    0.02,2,    2.19,2,-999.000,9,-999.000,9,-999.000,9,-999.0000,9, -999.00,9,-999.000,9,-999.000,   9.000,     6.7840,-999.0000, -999.00
32OC19880723,       A16N,      90,          1,         17,         17,2,19880817,       0036,    17.7483,   -29.0083,       4669,   990.2,  34.9285,2,  34.9270,2,    126.6,2,   126.9,2,   23.50,2,   31.50,2,    0.02,2,    2.05,2,-999.000,9,-999.000,9,-999.000,9,-999.0000,9, -999.00,9,-999.000,9,-999.000,-999.000,     6.2280,-999.0000, -999.00
32OC19880723,       A16N,      90,          1,         18,         18,2,19880817,       0036,    17.7483,   -29.0083,       4669,  1186.3,  35.0015,2,  35.0020,2,    158.4,2,   161.7,2,   22.20,2,   27.90,2,    0.01,2,    1.78,2,-999.000,9,-999.000,9,-999.000,9,-999.0000,9, -999.00,9,-999.000,9,-999.000,   9.000,     5.6340,-999.0000, -999.00
32OC19880723,       A16N,      90,          1,         19,         19,2,19880817,       0036,    17.7483,   -29.0083,       4669,  1383.6,  35.0253,2,  35.0230,2,    188.3,2,   191.2,2,   21.70,2,   25.00,2,    0.01,2,    1.64,2,-999.000,9,-999.000,9,-999.000,9,-999.0000,9, -999.00,9,-999.000,9,-999.000,-999.000,     4.9440,-999.0000, -999.00
32OC19880723,       A16N,      90,          1,         20,         20,2,19880817,       0036,    17.7483,   -29.0083,       4669,  1577.0,  35.0191,2,  35.0170,2,    209.2,2,   209.4,2,   21.90,2,   23.50,2,    0.01,2,    1.52,2,-999.000,9,-999.000,9,-999.000,9,-999.0000,9, -999.00,9,-999.000,9,-999.000,   9.000,     4.4300,-999.0000, -999.00
32OC19880723,       A16N,      90,          1,         21,         21,2,19880817,       0036,    17.7483,   -29.0083,       4669,  1773.4,  34.9980,2,  34.9990,2,    225.7,2,   225.1,2,   22.50,2, -999.00,9,    0.01,2,    1.48,2,-999.000,9,-999.000,9,-999.000,9,-999.0000,9, -999.00,9,-999.000,9,-999.000,-999.000,     4.0020,-999.0000, -999.00
32OC19880723,       A16N,      90,          1,         22,         22,2,19880817,       0036,    17.7483,   -29.0083,       4669,  2018.7,  34.9779,2,  34.9760,2,    237.0,2,   235.9,2,   24.10,2, -999.00,9,    0.01,2,    1.40,2,-999.000,9,-999.000,9,-999.000,9,-999.0000,9, -999.00,9,-999.000,9,-999.000,   9.000,     3.5930,-999.0000, -999.00
32OC19880723,       A16N,      90,          1,         23,         23,2,19880817,       0036,    17.7483,   -29.0083,       4669,  2263.1,  34.9639,2,  34.9640,2,    241.1,2,   242.0,2,   26.70,2, -999.00,9,    0.01,2,    1.39,2,-999.000,9,-999.000,9,-999.000,9,-999.0000,9, -999.00,9,-999.000,9,-999.000,-999.000,     3.2890,-999.0000, -999.00
32OC19880723,       A16N,      90,          1,         24,         24,2,19880817,       0036,    17.7483,   -29.0083,       4669,  2608.9,  34.9474,2,  34.9470,2,    244.6,2,   243.7,2,   30.90,2, -999.00,9,    0.02,2,    1.40,2,-999.000,9,-999.000,9,-999.000,9,-999.0000,9, -999.00,9,-999.000,9,-999.000,   9.000,     3.0150,-999.0000, -999.00
32OC19880723,       A16N,      90,          1,          1,          1,2,19880817,       0036,    17.7483,   -29.0083,       4669,  2956.7,  34.9369,2,  34.9350,2,    246.1,2,   244.6,2,   35.10,2, -999.00,9,    0.02,2,    1.41,2,-999.000,9,-999.000,9,-999.000,9,-999.0000,9, -999.00,9,-999.000,9,-999.000,-999.000,     2.7950,-999.0000, -999.00
32OC19880723,       A16N,      90,          1,          2,          2,2,19880817,       0036,    17.7483,   -29.0083,       4669,  3308.3,  34.9220,2,  34.9190,2,    242.2,2,   242.0,2,   39.90,2, -999.00,9,    0.02,2,    1.46,2,-999.000,9,-999.000,9,-999.000,9,-999.0000,9, -999.00,9,-999.000,9,-999.000,   9.000,     2.5970,-999.0000, -999.00
32OC19880723,       A16N,      90,          1,          3,          3,2,19880817,       0036,    17.7483,   -29.0083,       4669,  3661.7,  34.9035,2,-999.0000,9,    243.3,2,   244.6,2,   44.10,2, -999.00,9,    0.01,2,    1.49,2,-999.000,9,-999.000,9,-999.000,9,-999.0000,9, -999.00,9,-999.000,9,-999.000,-999.000,     2.4230,-999.0000, -999.00
32OC19880723,       A16N,      90,          1,          4,          4,2,19880817,       0036,    17.7483,   -29.0083,       4669,  4017.8,  34.8924,2,  34.8920,2,    243.8,2,   244.2,2,   46.20,2, -999.00,9,    0.01,2,    1.50,2,-999.000,9,-999.000,9,-999.000,9,-999.0000,9, -999.00,9,-999.000,9,-999.000,   9.000,     2.3570,-999.0000, -999.00
32OC19880723,       A16N,      90,          1,          5,          5,2,19880817,       0036,    17.7483,   -29.0083,       4669,  4376.9,  34.8868,2,  34.8890,2,    243.8,2,   243.7,2,   47.30,2, -999.00,9,    0.01,2,    1.50,2,-999.000,9,-999.000,9,-999.000,9,-999.0000,9, -999.00,9,-999.000,9,-999.000,-999.000,     2.3580,-999.0000, -999.00
32OC19880723,       A16N,      90,          1,          6,          6,2,19880817,       0036,    17.7483,   -29.0083,       4669,  4476.2,  34.8862,2,  34.8870,2,    242.2,2,   243.3,2,   47.50,2, -999.00,9,    0.01,2,    1.51,2,-999.000,9,-999.000,9,-999.000,9,-999.0000,9, -999.00,9,-999.000,9,-999.000,   9.000,     2.3670,-999.0000, -999.00
32OC19880723,       A16N,      90,          1,         99,     -999.0,9,19880817,       0036,    17.7483,   -29.0083,       4669,  4477.6,  34.8861,2,-999.0000,9,    242.1,2,  -999.0,9, -999.00,9, -999.00,9, -999.00,9, -999.00,9,-999.000,9,-999.000,9,-999.000,9,-999.0000,9, -999.00,9,-999.000,9,-999.000,-999.000,     2.3670,-999.0000, -999.00