BOTTLE,20220922CCHSIOAMB
EXPOCODE,SECT_ID,STNNBR,CASTNO,SAMPNO,BTLNBR,BTLNBR_FLAG_W,DATE,TIME,LATITUDE,LONGITUDE,DEPTH,CTDPRS,CTDSAL,CTDSAL_FLAG_W,SALNTY,SALNTY_FLAG_W,CTDOXY,CTDOXY_FLAG_W,OXYGEN,OXYGEN_FLAG_W,SILCAT,SILCAT_FLAG_W,NITRAT,NITRAT_FLAG_W,NITRIT,NITRIT_FLAG_W,PHSPHT,PHSPHT_FLAG_W,CFC-11,CFC-11_FLAG_W,CFC-12,CFC-12_FLAG_W,TRITUM,TRITUM_FLAG_W,HELIUM,HELIUM_FLAG_W,DELHE3,DELHE3_FLAG_W,NEON,NEON_FLAG_W,NEONER,TRITER,CTDTMP,HELIER,DELHER
,,,,,,,,,,,METERS,DBAR,PSS-78,,PSS-78,,UMOL/KG,,UMOL/KG,,UMOL/KG,,UMOL/KG,,UMOL/KG,,UMOL/KG,,PMOL/KG,,PMOL/KG,,TU,,NMOL/KG,,PERCNT,,NMOL/KG,,NMOL/KG,TU,IPTS-68,NMOL/KG,PERCNT
32OC19880723,       A16N,      52,          1,          1,          1,2,19880802,       2223,    39.5183,   -20.0100,       4593,     6.0,  36.0522,2,  36.0460,2,    227.9,2,   229.1,2,    0.30,2,    0.00,2,    0.00,2, -999.00,9,-999.000,9,-999.000,9,-999.000,9,-999.0000,9, -999.00,9,-999.000,9,-999.000,-999.000,    20.8620,-999.0000, -999.00
32OC19880723,       A16N,      52,          1,          2,          2,2,19880802,       2223,    39.5183,   -20.0100,       4593,    37.3,  35.8988,2,  35.9860,2,    245.1,2,   244.7,2,    0.20,2,    0.00,2,    0.00,2, -999.00,9,-999.000,9,-999.000,9,-999.000,9,-999.0000,9, -999.00,9,-999.000,9,-999.000,   9.000,    18.8130,-999.0000, -999.00
32OC19880723,       A16N,      52,          1,          3,          3,2,19880802,       2223,    39.5183,   -20.0100,       4593,    67.4,  35.9128,2,  35.8520,2,    239.3,2,   258.4,3,    0.30,2,    0.00,2,    0.00,2, -999.00,9,-999.000,9,-999.000,9,-999.000,9,-999.0000,9, -999.00,9,-999.000,9,-999.000,-999.000,    15.1160,-999.0000, -999.00
32OC19880723,       A16N,      52,          1,          4,          4,2,19880802,       2223,    39.5183,   -20.0100,       4593,   105.7,  35.9285,2,  35.8970,2,    232.9,2,   233.1,2,    0.90,2,    4.80,2,    0.00,2, -999.00,9,-999.000,9,-999.000,9,-999.000,9,-999.0000,9, -999.00,9,-999.000,9,-999.000,   9.000,    14.0750,-999.0000, -999.00
32OC19880723,       A16N,      52,          1,          5,          5,2,19880802,       2223,    39.5183,   -20.0100,       4593,   155.2,  35.8068,2,  35.8220,2,    235.4,2,   234.0,2,    1.40,2,    6.30,2,    0.00,2, -999.00,9,-999.000,9,-999.000,9,-999.000,9,-999.0000,9, -999.00,9,-999.000,9,-999.000,-999.000,    13.4570,-999.0000, -999.00
32OC19880723,       A16N,      52,          1,          6,          6,2,19880802,       2223,    39.5183,   -20.0100,       4593,   202.9,  35.7436,2,  35.7420,2,    228.6,2,   234.4,2,    2.10,2,    7.70,2,    0.00,2, -999.00,9,-999.000,9,-999.000,9,-999.000,9,-999.0000,9, -999.00,9,-999.000,9,-999.000,   9.000,    12.9380,-999.0000, -999.00
32OC19880723,       A16N,      52,          1,          7,          7,2,19880802,       2223,    39.5183,   -20.0100,       4593,   298.0,  35.6510,2,  35.6480,2,    218.3,2,   222.2,2,    3.30,2,   10.90,2,    0.00,2, -999.00,9,-999.000,9,-999.000,9,-999.000,9,-999.0000,9, -999.00,9,-999.000,9,-999.000,-999.000,    12.2640,-999.0000, -999.00
32OC19880723,       A16N,      52,          1,          8,          8,2,19880802,       2223,    39.5183,   -20.0100,       4593,   395.5,  35.5802,2,  35.5830,2,    219.2,2,   220.9,2,    3.70,2,   12.10,2,    0.00,2, -999.00,9,-999.000,9,-999.000,9,-999.000,9,-999.0000,9, -999.00,9,-999.000,9,-999.000,   9.000,    11.7090,-999.0000, -999.00
32OC19880723,       A16N,      52,          1,          9,          9,2,19880802,       2223,    39.5183,   -20.0100,       4593,   491.9,  35.5181,2,  35.5180,2,    218.5,2,   221.7,2,    4.30,2,   12.90,2,    0.01,2,    0.77,2,-999.000,9,-999.000,9,-999.000,9,-999.0000,9, -999.00,9,-999.000,9,-999.000,-999.000,    11.1350,-999.0000, -999.00
32OC19880723,       A16N,      52,          1,         10,         10,2,19880802,       2223,    39.5183,   -20.0100,       4593,   590.6,  35.5060,2,  35.5010,2,    208.6,2,   210.0,2,    5.40,2,   14.50,2,    0.01,2,    0.93,2,-999.000,9,-999.000,9,-999.000,9,-999.0000,9, -999.00,9,-999.000,9,-999.000,   9.000,    10.7820,-999.0000, -999.00
32OC19880723,       A16N,      52,          1,         11,         11,2,19880802,       2223,    39.5183,   -20.0100,       4593,   590.6,  35.5060,2,  35.5000,2,    208.6,2,   210.4,2,    5.40,2,   14.50,2,    0.01,2, -999.00,9,-999.000,9,-999.000,9,-999.000,9,-999.0000,9, -999.00,9,-999.000,9,-999.000,-999.000,    10.7820,-999.0000, -999.00
32OC19880723,       A16N,      52,          1,         12,         12,2,19880802,       2223,    39.5183,   -20.0100,       4593,   987.3,  35.7863,2,  35.8170,2,    188.2,2,   185.6,2,    9.20,2,   17.10,2,    0.01,2, -999.00,9,-999.000,9,-999.000,9,-999.000,9,-999.0000,9, -999.00,9,-999.000,9,-999.000,   9.000,     9.9420,-999.0000, -999.00
32OC19880723,       A16N,      52,          1,         13,         13,2,19880802,       2223,    39.5183,   -20.0100,       4593,  1188.6,  35.7312,2,  35.6700,2,    201.5,2,   201.6,2,   10.10,2,   17.50,2,    0.01,2,    1.02,2,-999.000,9,-999.000,9,-999.000,9,-999.0000,9, -999.00,9,-999.000,9,-999.000,-999.000,     8.4810,-999.0000, -999.00
32OC19880723,       A16N,      52,          1,         14,         14,2,19880802,       2223,    39.5183,   -20.0100,       4593,  1389.5,  35.4676,2,  35.4390,2,    223.2,2,   222.5,2,   10.70,2,   17.90,2,    0.00,2,    1.01,2,-999.000,9,-999.000,9,-999.000,9,-999.0000,9, -999.00,9,-999.000,9,-999.000,   9.000,     6.8750,-999.0000, -999.00
32OC19880723,       A16N,      52,          1,         15,         15,2,19880802,       2223,    39.5183,   -20.0100,       4593,  1692.7,  35.1224,2,  35.1210,2,    251.9,2,   252.9,2,   11.40,2,   17.70,2,    0.02,2,    1.05,2,-999.000,9,-999.000,9,-999.000,9,-999.0000,9, -999.00,9,-999.000,9,-999.000,-999.000,     4.8010,-999.0000, -999.00
32OC19880723,       A16N,      52,          1,         16,         16,2,19880802,       2223,    39.5183,   -20.0100,       4593,  2049.4,  35.0495,2,-999.0000,9,    258.0,2,  -999.0,9, -999.00,9, -999.00,9, -999.00,9, -999.00,9,-999.000,9,-999.000,9,-999.000,9,-999.0000,9, -999.00,9,-999.000,9,-999.000,   9.000,     4.1360,-999.0000, -999.00
32OC19880723,       A16N,      52,          1,         17,         17,2,19880802,       2223,    39.5183,   -20.0100,       4593,  2406.4,  34.9914,2,  34.9900,2,    259.4,2,   258.5,2,   19.80,2,   18.70,2,    0.02,2,    1.12,2,-999.000,9,-999.000,9,-999.000,9,-999.0000,9, -999.00,9,-999.000,9,-999.000,-999.000,     3.4350,-999.0000, -999.00
32OC19880723,       A16N,      52,          1,         18,         18,2,19880802,       2223,    39.5183,   -20.0100,       4593,  2763.5,  34.9590,2,  34.9570,2,    257.5,2,   256.3,2,   25.50,2,   19.30,2,    0.02,2,    1.14,2,-999.000,9,-999.000,9,-999.000,9,-999.0000,9, -999.00,9,-999.000,9,-999.000,   9.000,     3.0150,-999.0000, -999.00
32OC19880723,       A16N,      52,          1,         19,         19,2,19880802,       2223,    39.5183,   -20.0100,       4593,  3119.9,  34.9425,2,  34.9420,2,    251.6,2,   252.4,2,   31.30,2,   20.30,2,    0.01,2,    1.26,2,-999.000,9,-999.000,9,-999.000,9,-999.0000,9, -999.00,9,-999.000,9,-999.000,-999.000,     2.7980,-999.0000, -999.00
32OC19880723,       A16N,      52,          1,         20,         20,2,19880802,       2223,    39.5183,   -20.0100,       4593,  3477.5,  34.9270,2,  34.9260,2,    246.4,2,   246.8,2,   36.80,2,   21.10,2,    0.01,2,    1.31,2,-999.000,9,-999.000,9,-999.000,9,-999.0000,9, -999.00,9,-999.000,9,-999.000,   9.000,     2.6570,-999.0000, -999.00
32OC19880723,       A16N,      52,          1,         21,         21,2,19880802,       2223,    39.5183,   -20.0100,       4593,  3833.8,  34.9173,2,  34.9140,2,    244.6,2,   244.6,2,   40.20,2,   21.50,2,    0.01,2,    1.32,2,-999.000,9,-999.000,9,-999.000,9,-999.0000,9, -999.00,9,-999.000,9,-999.000,-999.000,     2.5840,-999.0000, -999.00
32OC19880723,       A16N,      52,          1,         22,         22,2,19880802,       2223,    39.5183,   -20.0100,       4593,  4187.9,  34.9070,2,  34.9050,2,    243.3,2,   243.3,2,   42.50,2,   21.80,2,    0.01,2,    1.34,2,-999.000,9,-999.000,9,-999.000,9,-999.0000,9, -999.00,9,-999.000,9,-999.000,   9.000,     2.5300,-999.0000, -999.00
32OC19880723,       A16N,      52,          1,         23,         23,2,19880802,       2223,    39.5183,   -20.0100,       4593,  4535.2,  34.8997,2,  34.8990,2,    243.6,2,   243.3,2,   44.20,2,   22.10,2,    0.01,2,    1.35,2,-999.000,9,-999.000,9,-999.000,9,-999.0000,9, -999.00,9,-999.000,9,-999.000,-999.000,     2.5010,-999.0000, -999.00
32OC19880723,       A16N,      52,          1,         24,         24,2,19880802,       2223,    39.5183,   -20.0100,       4593,  4712.6,  34.8976,2,  34.9010,2,    242.8,2,   242.9,2,   44.70,2,   22.20,2,    0.01,2,    1.36,2,-999.000,9,-999.000,9,-999.000,9,-999.0000,9, -999.00,9,-999.000,9,-999.000,   9.000,     2.4980,-999.0000, -999.00
32OC19880723,       A16N,      52,          1,         99,     -999.0,9,19880802,       2223,    39.5183,   -20.0100,       4593,  4714.0,  34.8976,2,-999.0000,9,    242.7,2,  -999.0,9, -999.00,9, -999.00,9, -999.00,9, -999.00,9,-999.000,9,-999.000,9,-999.000,9,-999.0000,9, -999.00,9,-999.000,9,-999.000,-999.000,     2.4980,-999.0000, -999.00
32OC19880723,       A16N,      53,          1,          1,          1,2,19880803,       0448,    38.9917,   -20.0133,       4731,    12.2,  36.1775,2,  36.1690,2,    225.7,2,   226.1,2,    0.40,2,    0.00,2,    0.00,2,    0.05,2,   2.224,2,   1.077,2,   2.768,2,   1.7410,2,   -1.20,2,   7.043,2,   0.053,   0.056,    21.1680,   0.0122,    0.18
32OC19880723,       A16N,      53,          1,          2,          2,2,19880803,       0448,    38.9917,   -20.0133,       4731,    37.4,  35.9492,2,  35.9010,2,    248.4,2,   243.8,2,    0.40,2,    0.00,2,    0.00,2,    0.05,2,   2.558,2,   1.207,2,   2.955,2,   1.7453,2,   -1.50,2,   7.121,2,   0.053,   0.064,    18.8430,   0.0122,    0.18
32OC19880723,       A16N,      53,          1,          3,          3,2,19880803,       0448,    38.9917,   -20.0133,       4731,    67.8,  35.9169,2,  35.8520,2,    248.6,2,   257.1,2,    0.60,2,    0.00,2,    0.00,2,    0.10,2,   2.893,2,   1.334,2,-999.000,9,-999.0000,9, -999.00,9,-999.000,9,-999.000,   9.000,    15.0700,-999.0000, -999.00
32OC19880723,       A16N,      53,          1,          4,          4,2,19880803,       0448,    38.9917,   -20.0133,       4731,   107.3,  35.9119,2,  35.8780,2,    227.6,2,   233.5,2,    1.20,2,    4.90,2,    0.01,2,    0.28,2,   2.805,2,   1.338,2,   2.850,2,   1.7943,2,   -0.52,2,   7.419,2,   0.056,   0.057,    13.9370,   0.0126,    0.18
32OC19880723,       A16N,      53,          1,          5,          5,2,19880803,       0448,    38.9917,   -20.0133,       4731,   157.5,  35.7873,2,  35.7830,2,    231.2,2,   233.5,2,    1.80,2,    6.90,2,    0.01,2,    0.44,2,   2.690,2,   1.276,2,   2.738,2,   1.7619,2,   -0.19,2,   7.387,2,   0.055,   0.057,    13.2090,   0.0123,    0.18
32OC19880723,       A16N,      53,          1,          6,          6,2,19880803,       0448,    38.9917,   -20.0133,       4731,   207.4,  35.7175,2,  35.7210,2,    223.2,2,   232.6,2,    2.40,2,    8.50,2,    0.00,2,    0.52,2,   2.620,2,   1.303,2,   2.745,2,   1.7647,2,    0.81,2,   7.416,2,   0.056,   0.056,    12.7740,   0.0124,    0.18
32OC19880723,       A16N,      53,          1,          7,          7,2,19880803,       0448,    38.9917,   -20.0133,       4731,   306.9,  35.6316,2,  35.6420,2,    222.3,2,   218.7,2,    3.50,2,   11.30,2,    0.00,2,    0.63,2,   2.274,2,   1.043,2,   2.779,2,   1.7593,2,    3.79,2,   7.453,2,   0.056,   0.055,    12.1350,   0.0123,    0.18
32OC19880723,       A16N,      53,          1,          8,          8,2,19880803,       0448,    38.9917,   -20.0133,       4731,   405.1,  35.5702,2,  35.5580,2,    217.2,2,   223.0,2,    3.90,2,   12.50,2,    0.01,2,    0.69,2,   2.327,2,   1.101,2,   2.768,2,   1.7781,2,    3.64,2,   7.489,2,   0.056,   0.054,    11.5190,   0.0124,    0.18
32OC19880723,       A16N,      53,          1,          9,          9,2,19880803,       0448,    38.9917,   -20.0133,       4731,   504.0,  35.5042,2,  35.5070,2,    217.6,2,   217.8,2,    4.70,2,   13.70,2,    0.01,2,    0.79,2,   2.144,2,   0.998,2,   2.661,2,   1.7798,2,    5.34,2,   7.520,2,   0.056,   0.055,    10.9870,   0.0125,    0.18
32OC19880723,       A16N,      53,          1,         10,         10,2,19880803,       0448,    38.9917,   -20.0133,       4731,   603.9,  35.5386,2,  35.5640,2,    203.0,2,   200.8,2,    6.10,2,   15.50,2,    0.01,2,    0.92,2,   1.559,2,   0.720,2,   2.445,2,   1.7989,2,    8.44,2,   7.524,2,   0.056,   0.051,    10.8240,   0.0126,    0.18
32OC19880723,       A16N,      53,          1,         11,         11,2,19880803,       0448,    38.9917,   -20.0133,       4731,   804.1,  35.8835,2,  35.8440,2,    183.2,2,   183.4,2,    8.10,2,   16.10,2,    0.01,2,    0.96,2,   0.797,2,   0.404,2,   1.792,2,   1.7736,2,    9.09,2,   7.506,2,   0.056,   0.049,    10.8680,   0.0124,    0.18
32OC19880723,       A16N,      53,          1,         12,         12,2,19880803,       0448,    38.9917,   -20.0133,       4731,  1006.1,  35.9758,2,  35.9590,2,    185.2,2,   184.7,2,    9.50,2,   16.70,2,    0.01,2,    0.98,2,   0.636,2,   0.283,2,   1.369,2,   1.7971,2,    7.94,2,   7.530,2,   0.056,   0.042,    10.2610,   0.0126,    0.18
32OC19880723,       A16N,      53,          1,         13,         13,2,19880803,       0448,    38.9917,   -20.0133,       4731,  1206.9,  35.9110,2,  35.9830,2,    197.6,2,   193.8,2, -999.00,9, -999.00,9,    0.00,2, -999.00,9,   0.602,2,   0.270,2,   1.344,2,   1.8229,2,    8.02,2,   7.569,2,   0.057,   0.041,     9.7560,   0.0128,    0.18
32OC19880723,       A16N,      53,          1,         14,         14,2,19880803,       0448,    38.9917,   -20.0133,       4731,  1504.5,  35.2526,2,  35.2540,2,    238.2,2,   239.0,2,   11.10,2,   18.10,2,    0.00,2,    1.09,2,   0.587,2,   0.289,2,   1.201,2,   1.8155,2,    8.28,2,   7.834,2,   0.059,   0.039,     5.6810,   0.0127,    0.18
32OC19880723,       A16N,      53,          1,         15,         15,2,19880803,       0448,    38.9917,   -20.0133,       4731,  1802.8,  35.0541,2,  35.0970,2,    256.8,2,   255.1,2,   11.90,2,   17.60,2,    0.00,2,    1.10,2,   0.417,2,   0.196,2,-999.000,9,-999.0000,9, -999.00,9,-999.000,9,-999.000,-999.000,     4.5940,-999.0000, -999.00
32OC19880723,       A16N,      53,          1,         16,         16,2,19880803,       0448,    38.9917,   -20.0133,       4731,  2147.3,  35.0196,2,  35.0250,2,    259.6,2,   259.8,2,   15.20,2,   18.10,2,    0.01,2,    1.13,2,   0.191,2,   0.075,2,-999.000,9,-999.0000,9, -999.00,9,-999.000,9,-999.000,   9.000,     3.8850,-999.0000, -999.00
32OC19880723,       A16N,      53,          1,         17,         17,2,19880803,       0448,    38.9917,   -20.0133,       4731,  2496.5,  34.9747,2,  34.9810,2,    260.4,2,   258.5,2,   20.90,2,   18.70,2,    0.01,2,    1.19,2,   0.093,2,   0.038,2,   0.096,2,   1.8427,2,    1.42,2,   8.032,2,   0.060,   0.027,     3.3180,   0.0129,    0.18
32OC19880723,       A16N,      53,          1,         18,         18,2,19880803,       0448,    38.9917,   -20.0133,       4731,  2841.7,  34.9554,2,  34.9530,2,    255.2,2,   254.6,2,   27.70,2,   19.50,2,    0.01,2,    1.25,2,   0.087,3,   0.019,2,-999.000,9,-999.0000,9, -999.00,9,-999.000,9,-999.000,-999.000,     2.9560,-999.0000, -999.00
32OC19880723,       A16N,      53,          1,         19,         19,2,19880803,       0448,    38.9917,   -20.0133,       4731,  3187.5,  34.9381,2,  34.9360,2,    251.0,2,   250.7,2,   33.30,2,   20.20,2,    0.01,2,    1.30,2,   0.090,3,   0.039,3,-999.000,9,-999.0000,9, -999.00,9,-999.000,9,-999.000,   9.000,     2.7410,-999.0000, -999.00
32OC19880723,       A16N,      53,          1,         20,         20,2,19880803,       0448,    38.9917,   -20.0133,       4731,  3539.0,  34.9248,2,  34.9230,2,    246.8,2,   246.3,2,   38.00,2,   20.90,2,    0.01,2,    1.34,2,   0.036,2,   0.011,7,   0.092,2,   2.0907,4,    0.85,2,   8.826,3,   0.066,   0.027,     2.6290,   0.0146,    0.18
32OC19880723,       A16N,      53,          1,         21,         21,2,19880803,       0448,    38.9917,   -20.0133,       4731,  3894.4,  34.9148,2,  34.9140,2,    244.2,2,   245.0,2,   40.90,2,   21.50,2,    0.01,2,    1.39,2,   0.064,3,   0.024,3,-999.000,9,-999.0000,9, -999.00,9,-999.000,9,-999.000,-999.000,     2.5720,-999.0000, -999.00
32OC19880723,       A16N,      53,          1,         22,         22,2,19880803,       0448,    38.9917,   -20.0133,       4731,  4245.9,  34.9081,2,  34.9080,2,    244.4,2,   244.2,2,   42.50,2,   21.70,2,    0.01,2,    1.41,2,   0.033,2,   0.007,7,-999.000,9,-999.0000,9, -999.00,9,-999.000,9,-999.000,   9.000,     2.5480,-999.0000, -999.00
32OC19880723,       A16N,      53,          1,         23,         23,2,19880803,       0448,    38.9917,   -20.0133,       4731,  4596.9,  34.9031,2,  34.9030,2,    243.5,2,   243.7,2,   43.70,2,   21.90,2,    0.01,2,    1.41,2,   0.012,2,   0.003,6,-999.000,9,-999.0000,9, -999.00,9,-999.000,9,-999.000,-999.000,     2.5430,-999.0000, -999.00
32OC19880723,       A16N,      53,          1,         24,         24,2,19880803,       0448,    38.9917,   -20.0133,       4731,  4796.3,  34.8998,2,  34.8990,2,    243.8,2,   243.7,2,   44.30,2,   21.80,2,    0.02,2,    1.40,2,   0.050,3,   0.023,3,  -0.094,2,   1.8614,2,    2.14,2,   8.067,2,   0.061,   0.022,     2.5360,   0.0130,    0.18
32OC19880723,       A16N,      53,          1,         99,     -999.0,9,19880803,       0448,    38.9917,   -20.0133,       4731,  4797.9,  34.8998,2,-999.0000,9,    243.8,2,  -999.0,9, -999.00,9, -999.00,9, -999.00,9, -999.00,9,-999.000,9,-999.000,9,-999.000,9,-999.0000,9, -999.00,9,-999.000,9,-999.000,   9.000,     2.5360,-999.0000, -999.00