BOTTLE,20220922CCHSIOAMB
EXPOCODE,SECT_ID,STNNBR,CASTNO,SAMPNO,BTLNBR,BTLNBR_FLAG_W,DATE,TIME,LATITUDE,LONGITUDE,DEPTH,CTDPRS,CTDSAL,CTDSAL_FLAG_W,SALNTY,SALNTY_FLAG_W,CTDOXY,CTDOXY_FLAG_W,OXYGEN,OXYGEN_FLAG_W,SILCAT,SILCAT_FLAG_W,NITRAT,NITRAT_FLAG_W,NITRIT,NITRIT_FLAG_W,PHSPHT,PHSPHT_FLAG_W,CFC-11,CFC-11_FLAG_W,CFC-12,CFC-12_FLAG_W,TRITUM,TRITUM_FLAG_W,HELIUM,HELIUM_FLAG_W,DELHE3,DELHE3_FLAG_W,NEON,NEON_FLAG_W,NEONER,TRITER,CTDTMP,HELIER,DELHER
,,,,,,,,,,,METERS,DBAR,PSS-78,,PSS-78,,UMOL/KG,,UMOL/KG,,UMOL/KG,,UMOL/KG,,UMOL/KG,,UMOL/KG,,PMOL/KG,,PMOL/KG,,TU,,NMOL/KG,,PERCNT,,NMOL/KG,,NMOL/KG,TU,IPTS-68,NMOL/KG,PERCNT
32OC19880723,       A16N,      36,          1,          1,          1,2,19880730,       1218,    47.4867,   -20.0233,       4551,    12.4,  35.5494,2,  35.5500,2,    260.7,2,   258.5,2,    0.00,2,    0.10,2,    0.02,2,    0.14,2,-999.000,9,-999.000,9,-999.000,9,-999.0000,9, -999.00,9,-999.000,9,-999.000,   9.000,    15.3030,-999.0000, -999.00
32OC19880723,       A16N,      36,          1,          2,          2,2,19880730,       1218,    47.4867,   -20.0233,       4551,    37.5,  35.5879,2,  35.5460,2,    252.3,2,   255.4,2,    0.00,2,    0.10,2,    0.03,2,    0.15,2,-999.000,9,-999.000,9,-999.000,9,-999.0000,9, -999.00,9,-999.000,9,-999.000,-999.000,    15.1400,-999.0000, -999.00
32OC19880723,       A16N,      36,          1,          3,          3,2,19880730,       1218,    47.4867,   -20.0233,       4551,    67.8,  35.6106,2,  35.5930,2,    249.1,2,   248.3,2,    1.10,2,    5.80,2,    0.96,2,    0.41,2,-999.000,9,-999.000,9,-999.000,9,-999.0000,9, -999.00,9,-999.000,9,-999.000,   9.000,    12.6130,-999.0000, -999.00
32OC19880723,       A16N,      36,          1,          4,          4,2,19880730,       1218,    47.4867,   -20.0233,       4551,   108.0,  35.6091,2,  35.6170,2,    247.6,2,   246.1,2,    2.90,2,    8.80,2,    0.03,2,    0.52,2,-999.000,9,-999.000,9,-999.000,9,-999.0000,9, -999.00,9,-999.000,9,-999.000,-999.000,    12.1400,-999.0000, -999.00
32OC19880723,       A16N,      36,          1,          5,          5,2,19880730,       1218,    47.4867,   -20.0233,       4551,   158.4,  35.5612,2,  35.5820,2,    248.0,2,   246.1,2,    3.50,2,    9.90,2,    0.02,2,    0.60,2,-999.000,9,-999.000,9,-999.000,9,-999.0000,9, -999.00,9,-999.000,9,-999.000,   9.000,    11.7010,-999.0000, -999.00
32OC19880723,       A16N,      36,          1,          6,          6,2,19880730,       1218,    47.4867,   -20.0233,       4551,   208.3,  35.5075,2,  35.5270,2,    247.6,2,   245.2,2,    3.80,2,   10.60,2,    0.00,2,    0.63,2,-999.000,9,-999.000,9,-999.000,9,-999.0000,9, -999.00,9,-999.000,9,-999.000,-999.000,    11.3050,-999.0000, -999.00
32OC19880723,       A16N,      36,          1,          7,          7,2,19880730,       1218,    47.4867,   -20.0233,       4551,   304.2,  35.4909,2,  35.4870,2,    249.6,2,   249.1,2,    3.80,2,   10.70,2,    0.03,2,    0.64,2,-999.000,9,-999.000,9,-999.000,9,-999.0000,9, -999.00,9,-999.000,9,-999.000,   9.000,    10.9010,-999.0000, -999.00
32OC19880723,       A16N,      36,          1,          8,          8,2,19880730,       1218,    47.4867,   -20.0233,       4551,   408.8,  35.4340,2,  35.4110,2,    256.9,2,   236.5,3,    5.20,2,   12.70,2,    0.02,2,    0.73,2,-999.000,9,-999.000,9,-999.000,9,-999.0000,9, -999.00,9,-999.000,9,-999.000,-999.000,    10.3890,-999.0000, -999.00
32OC19880723,       A16N,      36,          1,          9,          9,2,19880730,       1218,    47.4867,   -20.0233,       4551,   610.3,  35.3212,2,  35.3490,2,    229.0,2,   217.4,3,    7.20,2,   15.20,2,    0.00,2,    0.93,2,-999.000,9,-999.000,9,-999.000,9,-999.0000,9, -999.00,9,-999.000,9,-999.000,   9.000,     9.4710,-999.0000, -999.00
32OC19880723,       A16N,      36,          1,         10,         10,2,19880730,       1218,    47.4867,   -20.0233,       4551,   812.7,  35.3444,2,  35.3130,2,    199.1,2,   197.3,2,   10.20,2,   18.20,2,    0.00,2,    1.08,2,-999.000,9,-999.000,9,-999.000,9,-999.0000,9, -999.00,9,-999.000,9,-999.000,-999.000,     8.1560,-999.0000, -999.00
32OC19880723,       A16N,      36,          1,         11,         11,2,19880730,       1218,    47.4867,   -20.0233,       4551,  1014.7,  35.2408,2,  35.2340,2,    213.1,2,   216.8,2,   10.90,2,   18.40,2,    0.00,2,    1.11,2,-999.000,9,-999.000,9,-999.000,9,-999.0000,9, -999.00,9,-999.000,9,-999.000,   9.000,     6.6550,-999.0000, -999.00
32OC19880723,       A16N,      36,          1,         12,         12,2,19880730,       1218,    47.4867,   -20.0233,       4551,  1217.2,  35.0991,2,  35.0990,2,    233.1,2,   238.6,2,   10.90,2,   18.20,2,    0.00,2,    1.09,2,-999.000,9,-999.000,9,-999.000,9,-999.0000,9, -999.00,9,-999.000,9,-999.000,-999.000,     5.4020,-999.0000, -999.00
32OC19880723,       A16N,      36,          1,         13,         13,2,19880730,       1218,    47.4867,   -20.0233,       4551,  1419.5,  34.9753,2,  34.9760,2,    256.0,2,   260.7,2,   10.70,2,   17.30,2,    0.00,2,    1.08,2,-999.000,9,-999.000,9,-999.000,9,-999.0000,9, -999.00,9,-999.000,9,-999.000,   9.000,     4.3610,-999.0000, -999.00
32OC19880723,       A16N,      36,          1,         14,         14,2,19880730,       1218,    47.4867,   -20.0233,       4551,  1722.8,  34.9361,2,  34.9450,2,    268.8,2,   269.8,2,   11.40,2,   17.30,2,    0.00,2,    1.04,2,-999.000,9,-999.000,9,-999.000,9,-999.0000,9, -999.00,9,-999.000,9,-999.000,-999.000,     3.9010,-999.0000, -999.00
32OC19880723,       A16N,      36,          1,         15,         15,2,19880730,       1218,    47.4867,   -20.0233,       4551,  2026.6,  34.9319,2,  34.9310,2,    272.0,2,   273.3,2,   11.80,2,   16.80,2,    0.00,2,    1.07,2,-999.000,9,-999.000,9,-999.000,9,-999.0000,9, -999.00,9,-999.000,9,-999.000,   9.000,     3.5900,-999.0000, -999.00
32OC19880723,       A16N,      36,          1,         16,         16,2,19880730,       1218,    47.4867,   -20.0233,       4551,  2331.0,  34.9494,2,  34.9510,2,    270.6,2,   269.0,2,   15.00,2,   16.80,2,    0.00,2,    1.07,2,-999.000,9,-999.000,9,-999.000,9,-999.0000,9, -999.00,9,-999.000,9,-999.000,-999.000,     3.3910,-999.0000, -999.00
32OC19880723,       A16N,      36,          1,         17,         17,2,19880730,       1218,    47.4867,   -20.0233,       4551,  2635.9,  34.9551,2,  34.9570,2,    262.6,2,   260.7,2,   22.40,2,   17.90,2,    0.00,2, -999.00,9,-999.000,9,-999.000,9,-999.000,9,-999.0000,9, -999.00,9,-999.000,9,-999.000,   9.000,     3.1180,-999.0000, -999.00
32OC19880723,       A16N,      36,          1,         18,         18,2,19880730,       1218,    47.4867,   -20.0233,       4551,  2940.2,  34.9455,2,  34.9490,2,    256.4,2,   255.0,2,   28.40,2,   19.00,2,    0.00,2, -999.00,9,-999.000,9,-999.000,9,-999.000,9,-999.0000,9, -999.00,9,-999.000,9,-999.000,-999.000,     2.8990,-999.0000, -999.00
32OC19880723,       A16N,      36,          1,         19,         19,2,19880730,       1218,    47.4867,   -20.0233,       4551,  3242.6,  34.9341,2,  34.9350,2,    251.1,2,   249.8,2,   34.00,2,   19.40,2,    0.00,2, -999.00,9,-999.000,9,-999.000,9,-999.000,9,-999.0000,9, -999.00,9,-999.000,9,-999.000,   9.000,     2.7200,-999.0000, -999.00
32OC19880723,       A16N,      36,          1,         20,         20,2,19880730,       1218,    47.4867,   -20.0233,       4551,  3550.2,  34.9210,2,  34.9210,2,    246.4,2,   245.9,2,   38.80,2,   20.20,2,    0.00,2, -999.00,9,-999.000,9,-999.000,9,-999.000,9,-999.0000,9, -999.00,9,-999.000,9,-999.000,-999.000,     2.6080,-999.0000, -999.00
32OC19880723,       A16N,      36,          1,         21,         21,2,19880730,       1218,    47.4867,   -20.0233,       4551,  3855.2,  34.9124,2,  34.9120,2,    243.3,2,   243.7,2,   41.70,2,   20.60,2,    0.00,2, -999.00,9,-999.000,9,-999.000,9,-999.000,9,-999.0000,9, -999.00,9,-999.000,9,-999.000,   9.000,     2.5640,-999.0000, -999.00
32OC19880723,       A16N,      36,          1,         22,         22,2,19880730,       1218,    47.4867,   -20.0233,       4551,  4161.8,  34.9082,2,  34.9080,2,    241.1,2,   241.6,2,   43.50,2,   21.00,2,    0.00,2, -999.00,9,   0.079,6,   0.016,6,-999.000,9,-999.0000,9, -999.00,9,-999.000,9,-999.000,-999.000,     2.5510,-999.0000, -999.00
32OC19880723,       A16N,      36,          1,         23,         23,2,19880730,       1218,    47.4867,   -20.0233,       4551,  4468.9,  34.9064,2,  34.9060,2,    240.2,2,   240.7,2,   44.20,2,   21.00,2,    0.00,2, -999.00,9,   0.061,2,   0.018,6,-999.000,9,-999.0000,9, -999.00,9,-999.000,9,-999.000,   9.000,     2.5660,-999.0000, -999.00
32OC19880723,       A16N,      36,          1,         24,         24,2,19880730,       1218,    47.4867,   -20.0233,       4551,  4623.7,  34.9059,2,  34.9060,2,    238.5,2,   239.4,2,   44.40,2,   21.10,2,    0.00,2, -999.00,9,   0.021,6,   0.022,6,-999.000,9,-999.0000,9, -999.00,9,-999.000,9,-999.000,-999.000,     2.5740,-999.0000, -999.00
32OC19880723,       A16N,      36,          1,         99,     -999.0,9,19880730,       1218,    47.4867,   -20.0233,       4551,  4624.6,  34.9059,2,-999.0000,9,    238.5,2,  -999.0,9, -999.00,9, -999.00,9, -999.00,9, -999.00,9,-999.000,9,-999.000,9,-999.000,9,-999.0000,9, -999.00,9,-999.000,9,-999.000,   9.000,     2.5740,-999.0000, -999.00
32OC19880723,       A16N,      37,          1,          1,          1,2,19880730,       1712,    46.9883,   -19.9900,       4494,     4.2,  35.7016,2,  35.6880,2,    260.6,2,   248.1,3,    0.10,2,    0.00,2,    0.00,2,    0.09,2,-999.000,9,-999.000,9,-999.000,9,-999.0000,9, -999.00,9,-999.000,9,-999.000,-999.000,    16.6410,-999.0000, -999.00
32OC19880723,       A16N,      37,          1,          2,          2,2,19880730,       1712,    46.9883,   -19.9900,       4494,    38.6,  35.6835,2,  35.6800,2,    238.6,2,   240.1,2,    0.40,2,    1.80,2,    0.51,2,    0.21,2,-999.000,9,-999.000,9,-999.000,9,-999.0000,9, -999.00,9,-999.000,9,-999.000,   9.000,    14.2790,-999.0000, -999.00
32OC19880723,       A16N,      37,          1,          3,          3,2,19880730,       1712,    46.9883,   -19.9900,       4494,    68.5,  35.6916,2,  35.6870,2,    246.5,2,   246.1,2,    1.50,2,    7.00,2,    0.02,2,    0.41,2,-999.000,9,-999.000,9,-999.000,9,-999.0000,9, -999.00,9,-999.000,9,-999.000,-999.000,    12.9120,-999.0000, -999.00
32OC19880723,       A16N,      37,          1,          4,          4,2,19880730,       1712,    46.9883,   -19.9900,       4494,   108.8,  35.7058,2,  35.6870,2,    237.8,2,   242.2,2,    2.60,2,    8.50,2,    0.01,2,    0.51,2,-999.000,9,-999.000,9,-999.000,9,-999.0000,9, -999.00,9,-999.000,9,-999.000,   9.000,    12.5990,-999.0000, -999.00
32OC19880723,       A16N,      37,          1,          5,          5,2,19880730,       1712,    46.9883,   -19.9900,       4494,   209.6,  35.5989,2,  35.6030,2,    243.1,2,   242.2,2,    3.50,2, -999.00,9,    0.01,2,    0.57,2,-999.000,9,-999.000,9,-999.000,9,-999.0000,9, -999.00,9,-999.000,9,-999.000,-999.000,    11.8720,-999.0000, -999.00
32OC19880723,       A16N,      37,          1,          6,          6,2,19880730,       1712,    46.9883,   -19.9900,       4494,   310.3,  35.5252,2,  35.5210,2,    237.8,2,   237.4,2,    3.80,2,   11.10,2,    0.01,2,    0.64,2,-999.000,9,-999.000,9,-999.000,9,-999.0000,9, -999.00,9,-999.000,9,-999.000,   9.000,    11.3210,-999.0000, -999.00
32OC19880723,       A16N,      37,          1,          7,          7,2,19880730,       1712,    46.9883,   -19.9900,       4494,   411.3,  35.4612,2,  35.4630,2,    234.7,2,   231.3,2,    4.50,2,   12.10,2,    0.01,2,    0.68,2,-999.000,9,-999.000,9,-999.000,9,-999.0000,9, -999.00,9,-999.000,9,-999.000,-999.000,    10.9060,-999.0000, -999.00
32OC19880723,       A16N,      37,          1,          8,          8,2,19880730,       1712,    46.9883,   -19.9900,       4494,   512.3,  35.4056,2,  35.4090,2,    244.6,2,   224.8,3,    5.40,2,   13.60,2,    0.01,2,    0.80,2,-999.000,9,-999.000,9,-999.000,9,-999.0000,9, -999.00,9,-999.000,9,-999.000,   9.000,    10.4350,-999.0000, -999.00
32OC19880723,       A16N,      37,          1,          9,          9,2,19880730,       1712,    46.9883,   -19.9900,       4494,   613.2,  35.3248,2,  35.3260,2,    221.8,2,   216.5,2,    6.80,2,   15.30,2,    0.01,2,    0.92,2,-999.000,9,-999.000,9,-999.000,9,-999.0000,9, -999.00,9,-999.000,9,-999.000,-999.000,     9.7190,-999.0000, -999.00
32OC19880723,       A16N,      37,          1,         10,         10,2,19880730,       1712,    46.9883,   -19.9900,       4494,   714.0,  35.3517,2,  35.3470,2,    199.0,2,   196.5,2,    8.50,2,   17.40,2,    0.01,2,    1.03,2,-999.000,9,-999.000,9,-999.000,9,-999.0000,9, -999.00,9,-999.000,9,-999.000,   9.000,     9.2490,-999.0000, -999.00
32OC19880723,       A16N,      37,          1,         11,         11,2,19880730,       1712,    46.9883,   -19.9900,       4494,   915.8,  35.2116,2,  35.1830,2,    203.2,2,   208.2,2,   10.80,2,   19.00,2,    0.01,2,    1.12,2,-999.000,9,-999.000,9,-999.000,9,-999.0000,9, -999.00,9,-999.000,9,-999.000,-999.000,     6.9650,-999.0000, -999.00
32OC19880723,       A16N,      37,          1,         12,         12,2,19880730,       1712,    46.9883,   -19.9900,       4494,  1118.1,  35.1793,2,  35.1720,2,    227.8,2,   228.1,2,   10.80,2,   18.30,2,    0.01,2,    1.09,2,-999.000,9,-999.000,9,-999.000,9,-999.0000,9, -999.00,9,-999.000,9,-999.000,   9.000,     6.0220,-999.0000, -999.00
32OC19880723,       A16N,      37,          1,         13,         13,2,19880730,       1712,    46.9883,   -19.9900,       4494,  1320.1,  35.0245,2,  35.0340,2,    246.8,2,   250.7,2,   10.70,2,   18.00,2,    0.01,2,    1.07,2,-999.000,9,-999.000,9,-999.000,9,-999.0000,9, -999.00,9,-999.000,9,-999.000,-999.000,     4.7840,-999.0000, -999.00
32OC19880723,       A16N,      37,          1,         14,         14,2,19880730,       1712,    46.9883,   -19.9900,       4494,  1522.7,  34.9607,2,  34.9710,2,    262.7,2,   263.8,2,   10.70,2,   17.60,2,    0.01,2,    1.06,2,-999.000,9,-999.000,9,-999.000,9,-999.0000,9, -999.00,9,-999.000,9,-999.000,   9.000,     4.2070,-999.0000, -999.00
32OC19880723,       A16N,      37,          1,         15,         15,2,19880730,       1712,    46.9883,   -19.9900,       4494,  1724.2,  34.9345,2,  34.9440,2,    269.2,2,   270.3,2,   10.90,2,   17.40,2,    0.01,2,    1.06,2,-999.000,9,-999.000,9,-999.000,9,-999.0000,9, -999.00,9,-999.000,9,-999.000,-999.000,     3.8960,-999.0000, -999.00
32OC19880723,       A16N,      37,          1,         16,         16,2,19880730,       1712,    46.9883,   -19.9900,       4494,  1926.8,  34.9404,2,  34.9400,2,    269.8,2,   272.0,2,   11.50,2,   17.20,2,    0.01,2,    1.05,2,-999.000,9,-999.000,9,-999.000,9,-999.0000,9, -999.00,9,-999.000,9,-999.000,   9.000,     3.7360,-999.0000, -999.00
32OC19880723,       A16N,      37,          1,         17,         17,2,19880730,       1712,    46.9883,   -19.9900,       4494,  2229.6,  34.9617,2,  34.9620,2,    266.8,2,   267.7,2,   14.50,2,   17.60,2,    0.01,2,    1.07,2,-999.000,9,-999.000,9,-999.000,9,-999.0000,9, -999.00,9,-999.000,9,-999.000,-999.000,     3.5730,-999.0000, -999.00
32OC19880723,       A16N,      37,          1,         18,         18,2,19880730,       1712,    46.9883,   -19.9900,       4494,  2530.5,  34.9576,2,  34.9600,2,    265.5,2,   264.2,2,   19.10,2,   18.00,2,    0.00,2,    1.09,2,-999.000,9,-999.000,9,-999.000,9,-999.0000,9, -999.00,9,-999.000,9,-999.000,   9.000,     3.2440,-999.0000, -999.00
32OC19880723,       A16N,      37,          1,         19,         19,2,19880730,       1712,    46.9883,   -19.9900,       4494,  2831.3,  34.9520,2,  34.9530,2,    258.6,2,   257.6,2,   25.90,2,   19.00,2,    0.00,2,    1.17,2,-999.000,9,-999.000,9,-999.000,9,-999.0000,9, -999.00,9,-999.000,9,-999.000,-999.000,     2.9780,-999.0000, -999.00
32OC19880723,       A16N,      37,          1,         20,         20,2,19880730,       1712,    46.9883,   -19.9900,       4494,  3131.8,  34.9408,2,  34.9420,2,    254.6,2,   252.9,2,   31.00,2,   19.60,2,    0.00,2,    1.22,2,-999.000,9,-999.000,9,-999.000,9,-999.0000,9, -999.00,9,-999.000,9,-999.000,   9.000,     2.7970,-999.0000, -999.00
32OC19880723,       A16N,      37,          1,         21,         21,2,19880730,       1712,    46.9883,   -19.9900,       4494,  3534.9,  34.9240,2,  34.9240,2,    247.7,2,   246.3,2,   38.50,2,   20.90,2,    0.00,2,    1.31,2,-999.000,9,-999.000,9,-999.000,9,-999.0000,9, -999.00,9,-999.000,9,-999.000,-999.000,     2.6180,-999.0000, -999.00
32OC19880723,       A16N,      37,          1,         22,         22,2,19880730,       1712,    46.9883,   -19.9900,       4494,  3939.3,  34.9120,2,  34.9140,2,    244.2,2,   243.3,2,   42.20,2,   21.50,2,    0.00,2,    1.36,2,   0.087,2,   0.023,6,-999.000,9,-999.0000,9, -999.00,9,-999.000,9,-999.000,   9.000,     2.5550,-999.0000, -999.00
32OC19880723,       A16N,      37,          1,         23,         23,2,19880730,       1712,    46.9883,   -19.9900,       4494,  4348.3,  34.9068,2,  34.9110,2,    241.7,2,   241.6,2,   44.10,2,   21.80,2,    0.01,2,    1.36,2,   0.092,6,   0.016,6,-999.000,9,-999.0000,9, -999.00,9,-999.000,9,-999.000,-999.000,     2.5530,-999.0000, -999.00
32OC19880723,       A16N,      37,          1,         24,         24,2,19880730,       1712,    46.9883,   -19.9900,       4494,  4601.1,  34.9051,2,  34.9080,2,    240.6,2,   241.1,2,   44.70,2,   21.90,2,    0.01,2,    1.39,2,   0.060,6,   0.021,6,-999.000,9,-999.0000,9, -999.00,9,-999.000,9,-999.000,   9.000,     2.5660,-999.0000, -999.00
32OC19880723,       A16N,      37,          1,         99,     -999.0,9,19880730,       1712,    46.9883,   -19.9900,       4494,  4602.6,  34.9051,2,-999.0000,9,    240.4,2,  -999.0,9, -999.00,9, -999.00,9, -999.00,9, -999.00,9,-999.000,9,-999.000,9,-999.000,9,-999.0000,9, -999.00,9,-999.000,9,-999.000,-999.000,     2.5660,-999.0000, -999.00