BOTTLE,20220922CCHSIOAMB
EXPOCODE,SECT_ID,STNNBR,CASTNO,SAMPNO,BTLNBR,BTLNBR_FLAG_W,DATE,TIME,LATITUDE,LONGITUDE,DEPTH,CTDPRS,CTDSAL,CTDSAL_FLAG_W,SALNTY,SALNTY_FLAG_W,CTDOXY,CTDOXY_FLAG_W,OXYGEN,OXYGEN_FLAG_W,SILCAT,SILCAT_FLAG_W,NITRAT,NITRAT_FLAG_W,NITRIT,NITRIT_FLAG_W,PHSPHT,PHSPHT_FLAG_W,CFC-11,CFC-11_FLAG_W,CFC-12,CFC-12_FLAG_W,TRITUM,TRITUM_FLAG_W,HELIUM,HELIUM_FLAG_W,DELHE3,DELHE3_FLAG_W,NEON,NEON_FLAG_W,NEONER,TRITER,CTDTMP,HELIER,DELHER
,,,,,,,,,,,METERS,DBAR,PSS-78,,PSS-78,,UMOL/KG,,UMOL/KG,,UMOL/KG,,UMOL/KG,,UMOL/KG,,UMOL/KG,,PMOL/KG,,PMOL/KG,,TU,,NMOL/KG,,PERCNT,,NMOL/KG,,NMOL/KG,TU,IPTS-68,NMOL/KG,PERCNT
32OC19880723,       A16N,      65,          2,          1,          1,2,19880806,       0411,    33.3217,   -21.6067,       5304,    10.2,  36.7087,2,-999.0000,9,    227.4,2,   218.6,2,    0.20,2,    0.10,2,    0.02,2,    0.15,2,-999.000,9,-999.000,9,-999.000,9,-999.0000,9, -999.00,9,-999.000,9,-999.000,   9.000,    22.9630,-999.0000, -999.00
32OC19880723,       A16N,      65,          2,          2,          2,2,19880806,       0411,    33.3217,   -21.6067,       5304,    35.5,  36.6300,2,-999.0000,9,    240.0,2,   221.7,3,    0.40,2,    0.10,2,    0.01,2,    0.10,2,-999.000,9,-999.000,9,-999.000,9,-999.0000,9, -999.00,9,-999.000,9,-999.000,-999.000,    22.2760,-999.0000, -999.00
32OC19880723,       A16N,      65,          2,          3,          3,2,19880806,       0411,    33.3217,   -21.6067,       5304,    65.7,  36.5570,2,-999.0000,9,    229.2,2,   249.0,3,    0.20,2,    0.10,2,    0.01,2,    0.10,2,-999.000,9,-999.000,9,-999.000,9,-999.0000,9, -999.00,9,-999.000,9,-999.000,   9.000,    19.7070,-999.0000, -999.00
32OC19880723,       A16N,      65,          2,          4,          4,2,19880806,       0411,    33.3217,   -21.6067,       5304,   105.8,  36.4449,2,-999.0000,9,    223.9,2,   235.4,2,    0.40,2,    0.20,2,    0.01,2,    0.15,2,-999.000,9,-999.000,9,-999.000,9,-999.0000,9, -999.00,9,-999.000,9,-999.000,-999.000,    17.0300,-999.0000, -999.00
32OC19880723,       A16N,      65,          2,          5,          5,2,19880806,       0411,    33.3217,   -21.6067,       5304,   155.8,  36.3974,2,-999.0000,9,    217.5,2,   221.4,2,    0.80,2,    3.20,2,    0.01,2,    0.27,2,-999.000,9,-999.000,9,-999.000,9,-999.0000,9, -999.00,9,-999.000,9,-999.000,   9.000,    16.3280,-999.0000, -999.00
32OC19880723,       A16N,      65,          2,          6,          6,2,19880806,       0411,    33.3217,   -21.6067,       5304,   205.6,  36.2904,2,-999.0000,9,    213.5,2,   215.3,2,    1.50,2,    5.50,2,    0.01,2,    0.40,2,-999.000,9,-999.000,9,-999.000,9,-999.0000,9, -999.00,9,-999.000,9,-999.000,-999.000,    15.5060,-999.0000, -999.00
32OC19880723,       A16N,      65,          2,          7,          7,2,19880806,       0411,    33.3217,   -21.6067,       5304,   305.5,  36.0057,2,-999.0000,9,    204.2,2,   206.1,2,    3.00,2,    9.50,2,    0.01,2,    0.66,2,-999.000,9,-999.000,9,-999.000,9,-999.0000,9, -999.00,9,-999.000,9,-999.000,   9.000,    14.0250,-999.0000, -999.00
32OC19880723,       A16N,      65,          2,          8,          8,2,19880806,       0411,    33.3217,   -21.6067,       5304,   404.8,  35.8047,2,-999.0000,9,    207.7,2,   206.6,2,    3.80,2,   11.40,2,    0.01,2,    0.80,2,-999.000,9,-999.000,9,-999.000,9,-999.0000,9, -999.00,9,-999.000,9,-999.000,-999.000,    12.8850,-999.0000, -999.00
32OC19880723,       A16N,      65,          2,          9,          9,2,19880806,       0411,    33.3217,   -21.6067,       5304,   503.6,  35.6581,2,-999.0000,9,    210.9,2,   202.6,2,    4.70,2,   13.10,2,    0.01,2,    0.91,2,-999.000,9,-999.000,9,-999.000,9,-999.0000,9, -999.00,9,-999.000,9,-999.000,   9.000,    12.0560,-999.0000, -999.00
32OC19880723,       A16N,      65,          2,         10,         10,2,19880806,       0411,    33.3217,   -21.6067,       5304,   601.3,  35.5648,2,-999.0000,9,    199.8,2,   197.0,2,    5.80,2,   15.10,2,    0.01,2,    1.00,2,-999.000,9,-999.000,9,-999.000,9,-999.0000,9, -999.00,9,-999.000,9,-999.000,-999.000,    11.2160,-999.0000, -999.00
32OC19880723,       A16N,      65,          2,         11,         11,2,19880806,       0411,    33.3217,   -21.6067,       5304,   699.0,  35.5050,2,-999.0000,9,    187.3,2,   186.9,2,    7.50,2,   16.90,2,    0.00,2,    1.10,2,-999.000,9,-999.000,9,-999.000,9,-999.0000,9, -999.00,9,-999.000,9,-999.000,   9.000,    10.5320,-999.0000, -999.00
32OC19880723,       A16N,      65,          2,         12,         12,2,19880806,       0411,    33.3217,   -21.6067,       5304,   797.4,  35.5018,2,-999.0000,9,    179.7,2,   180.0,2,    9.10,2,   17.80,2,    0.01,2,    1.18,2,-999.000,9,-999.000,9,-999.000,9,-999.0000,9, -999.00,9,-999.000,9,-999.000,-999.000,    10.0260,-999.0000, -999.00
32OC19880723,       A16N,      65,          2,         13,         13,2,19880806,       0411,    33.3217,   -21.6067,       5304,   895.8,  35.5414,2,-999.0000,9,    181.8,2,   180.8,2,   10.00,2,   18.40,2,    0.01,2,    1.22,2,-999.000,9,-999.000,9,-999.000,9,-999.0000,9, -999.00,9,-999.000,9,-999.000,   9.000,     9.5360,-999.0000, -999.00
32OC19880723,       A16N,      65,          2,         14,         14,2,19880806,       0411,    33.3217,   -21.6067,       5304,   994.6,  35.5887,2,-999.0000,9,    183.4,2,   185.1,2,   10.60,2,   18.50,2,    0.00,2,    1.18,2,-999.000,9,-999.000,9,-999.000,9,-999.0000,9, -999.00,9,-999.000,9,-999.000,-999.000,     9.1660,-999.0000, -999.00
32OC19880723,       A16N,      65,          2,         15,         15,2,19880806,       0411,    33.3217,   -21.6067,       5304,  1094.0,  35.6199,2,-999.0000,9,    188.4,2,   188.6,2,   11.00,2,   17.90,2,    0.00,2,    1.13,2,-999.000,9,-999.000,9,-999.000,9,-999.0000,9, -999.00,9,-999.000,9,-999.000,   9.000,     8.8070,-999.0000, -999.00
32OC19880723,       A16N,      65,          2,         16,         16,2,19880806,       0411,    33.3217,   -21.6067,       5304,  1193.2,  35.5657,2,-999.0000,9,    200.0,2,   196.4,2,   11.30,2,   18.10,2,    0.00,2,    1.10,2,-999.000,9,-999.000,9,-999.000,9,-999.0000,9, -999.00,9,-999.000,9,-999.000,-999.000,     8.3000,-999.0000, -999.00
32OC19880723,       A16N,      65,          2,         17,         17,2,19880806,       0411,    33.3217,   -21.6067,       5304,  1292.5,  35.4995,2,-999.0000,9,    207.2,2,   209.9,2,   11.30,2,   18.00,2,    0.00,2,    1.11,2,-999.000,9,-999.000,9,-999.000,9,-999.0000,9, -999.00,9,-999.000,9,-999.000,   9.000,     7.4170,-999.0000, -999.00
32OC19880723,       A16N,      65,          2,         18,         18,2,19880806,       0411,    33.3217,   -21.6067,       5304,  1392.9,  35.3775,2,-999.0000,9,    219.7,2,   222.0,2,   11.50,2,   17.90,2,    0.01,2,    1.08,2,-999.000,9,-999.000,9,-999.000,9,-999.0000,9, -999.00,9,-999.000,9,-999.000,-999.000,     6.5810,-999.0000, -999.00
32OC19880723,       A16N,      65,          2,         19,         19,2,19880806,       0411,    33.3217,   -21.6067,       5304,  1493.8,  35.3752,2,-999.0000,9,    222.7,2,   232.0,2,   12.00,2,   17.70,2,    0.02,2, -999.00,9,-999.000,9,-999.000,9,-999.000,9,-999.0000,9, -999.00,9,-999.000,9,-999.000,   9.000,     5.9160,-999.0000, -999.00
32OC19880723,       A16N,      65,          2,         20,         20,2,19880806,       0411,    33.3217,   -21.6067,       5304,  1594.3,  35.2890,2,-999.0000,9,    231.0,2,   239.0,2,   12.00,2,   17.70,2,    0.02,2,    1.21,2,-999.000,9,-999.000,9,-999.000,9,-999.0000,9, -999.00,9,-999.000,9,-999.000,-999.000,     5.5040,-999.0000, -999.00
32OC19880723,       A16N,      65,          2,         21,         21,2,19880806,       0411,    33.3217,   -21.6067,       5304,  1695.6,  35.2255,2,-999.0000,9,    235.7,2,   245.5,2,   12.30,2,   17.70,2,    0.01,2,    1.20,2,-999.000,9,-999.000,9,-999.000,9,-999.0000,9, -999.00,9,-999.000,9,-999.000,   9.000,     5.0590,-999.0000, -999.00
32OC19880723,       A16N,      65,          2,         22,         22,2,19880806,       0411,    33.3217,   -21.6067,       5304,  1797.0,  35.1712,2,-999.0000,9,    241.2,2,   249.4,2,   12.90,2,   17.70,2,    0.01,2,    1.22,2,-999.000,9,-999.000,9,-999.000,9,-999.0000,9, -999.00,9,-999.000,9,-999.000,-999.000,     4.6510,-999.0000, -999.00
32OC19880723,       A16N,      65,          2,         23,         23,2,19880806,       0411,    33.3217,   -21.6067,       5304,  1898.5,  35.1091,2,-999.0000,9,    248.4,2,   252.4,2,   14.20,2,   18.00,2,    0.01,2,    1.23,2,-999.000,9,-999.000,9,-999.000,9,-999.0000,9, -999.00,9,-999.000,9,-999.000,   9.000,     4.3760,-999.0000, -999.00
32OC19880723,       A16N,      65,          2,         24,         24,2,19880806,       0411,    33.3217,   -21.6067,       5304,  2000.3,  35.0677,2,-999.0000,9,    251.2,2,   255.9,2,   15.00,2,   18.00,2,    0.02,2,    1.21,2,-999.000,9,-999.000,9,-999.000,9,-999.0000,9, -999.00,9,-999.000,9,-999.000,-999.000,     4.0440,-999.0000, -999.00
32OC19880723,       A16N,      66,          1,          1,          1,2,19880811,       0818,    32.8317,   -21.8767,       5247,    12.7,  36.6866,2,  36.6830,2,    219.5,2,   222.6,2,    0.30,2,    0.00,2,    0.01,2,    0.06,2,   2.194,4,   1.009,4,-999.000,9,-999.0000,9, -999.00,9,-999.000,9,-999.000,   9.000,    22.5440,-999.0000, -999.00
32OC19880723,       A16N,      66,          1,          2,          2,2,19880811,       0818,    32.8317,   -21.8767,       5247,    38.0,  36.6039,2,  36.6460,2,    234.3,2,   228.6,2,    0.30,2,    0.00,2,    0.01,2,    0.05,2,   2.196,2,   1.039,2,-999.000,9,-999.0000,9, -999.00,9,-999.000,9,-999.000,-999.000,    21.8030,-999.0000, -999.00
32OC19880723,       A16N,      66,          1,          3,          3,2,19880811,       0818,    32.8317,   -21.8767,       5247,    66.8,  36.4691,2,  36.4550,2,    241.3,2,   240.6,2,    0.00,2,    0.00,2,    0.01,2,    0.06,2,   2.254,2,   1.101,2,-999.000,9,-999.0000,9, -999.00,9,-999.000,9,-999.000,   9.000,    18.2670,-999.0000, -999.00
32OC19880723,       A16N,      66,          1,          4,          4,2,19880811,       0818,    32.8317,   -21.8767,       5247,   107.2,  36.4136,2,  36.4070,2,    211.4,2,   212.7,2,    1.00,2,    2.90,2,    0.01,2,    0.18,2,   2.198,2,   1.048,2,-999.000,9,-999.0000,9, -999.00,9,-999.000,9,-999.000,-999.000,    17.3780,-999.0000, -999.00
32OC19880723,       A16N,      66,          1,          5,          5,2,19880811,       0818,    32.8317,   -21.8767,       5247,   205.9,  36.2151,2,  36.1580,2,    210.4,2,   211.0,2,    1.90,2,    6.10,2,    0.01,2,    0.34,2,   2.221,2,   1.045,2,-999.000,9,-999.0000,9, -999.00,9,-999.000,9,-999.000,   9.000,    15.8950,-999.0000, -999.00
32OC19880723,       A16N,      66,          1,          6,          6,2,19880811,       0818,    32.8317,   -21.8767,       5247,   304.9,  35.9423,2,  35.9140,2,    209.0,2,   205.7,2,    3.10,2,    9.80,2,    0.01,2,    0.55,2,   2.082,2,   1.006,2,-999.000,9,-999.0000,9, -999.00,9,-999.000,9,-999.000,-999.000,    14.2820,-999.0000, -999.00
32OC19880723,       A16N,      66,          1,          7,          7,2,19880811,       0818,    32.8317,   -21.8767,       5247,   404.0,  35.7986,2,  35.7470,2,    205.3,2,   206.6,2,    3.90,2,   11.60,2,    0.01,2,    0.67,2,   2.013,2,   0.917,2,-999.000,9,-999.0000,9, -999.00,9,-999.000,9,-999.000,   9.000,    13.0660,-999.0000, -999.00
32OC19880723,       A16N,      66,          1,          8,          8,2,19880811,       0818,    32.8317,   -21.8767,       5247,   601.2,  35.5476,2,  35.5490,2,    206.9,2,   200.9,2,    5.80,2,   15.10,2,    0.01,2,    0.87,2,-999.000,9,-999.000,9,-999.000,9,-999.0000,9, -999.00,9,-999.000,9,-999.000,-999.000,    11.4440,-999.0000, -999.00
32OC19880723,       A16N,      66,          1,          9,          9,2,19880811,       0818,    32.8317,   -21.8767,       5247,   796.9,  35.4918,2,  35.4930,2,    181.9,2,   181.3,2,    9.00,2,   18.90,2,    0.01,2,    1.13,2,   0.748,2,   0.328,2,-999.000,9,-999.0000,9, -999.00,9,-999.000,9,-999.000,   9.000,    10.0730,-999.0000, -999.00
32OC19880723,       A16N,      66,          1,         10,         10,2,19880811,       0818,    32.8317,   -21.8767,       5247,   989.4,  35.5890,2,  35.6040,2,    179.5,2,   180.8,2,   11.40,2,   19.50,2,    0.01,2,    1.20,2,   0.338,2,   0.161,2,-999.000,9,-999.0000,9, -999.00,9,-999.000,9,-999.000,-999.000,     9.0820,-999.0000, -999.00
32OC19880723,       A16N,      66,          1,         11,         11,2,19880811,       0818,    32.8317,   -21.8767,       5247,  1227.3,  35.5943,2,  35.5830,2,    200.4,2,   201.6,2,   11.60,2,   18.80,2,    0.01,2,    1.15,2,   0.358,2,   0.159,2,-999.000,9,-999.0000,9, -999.00,9,-999.000,9,-999.000,   9.000,     7.9920,-999.0000, -999.00
32OC19880723,       A16N,      66,          1,         12,         12,2,19880811,       0818,    32.8317,   -21.8767,       5247,  1467.2,  35.3358,2,  35.3420,2,    227.9,2,   227.7,2,   11.90,2,   18.60,2,    0.01,2,    1.14,2,   0.326,2,   0.156,2,-999.000,9,-999.0000,9, -999.00,9,-999.000,9,-999.000,-999.000,     6.2370,-999.0000, -999.00
32OC19880723,       A16N,      66,          1,         13,         13,2,19880811,       0818,    32.8317,   -21.8767,       5247,  1467.2,  35.3358,2,  35.3420,2,    227.9,2,   227.7,2,   11.90,2,   18.60,2,    0.01,2,    1.15,2,-999.000,9,-999.000,9,-999.000,9,-999.0000,9, -999.00,9,-999.000,9,-999.000,   9.000,     6.2370,-999.0000, -999.00
32OC19880723,       A16N,      66,          1,         14,         14,2,19880811,       0818,    32.8317,   -21.8767,       5247,  1957.4,  35.0819,2,  35.0840,2,    251.7,2,   252.9,2,   15.40,2,   18.60,2,    0.01,2,    1.16,2,   0.109,2,   0.044,2,-999.000,9,-999.0000,9, -999.00,9,-999.000,9,-999.000,-999.000,     4.2120,-999.0000, -999.00
32OC19880723,       A16N,      66,          1,         15,         15,2,19880811,       0818,    32.8317,   -21.8767,       5247,  2253.7,  34.9970,2,  35.0030,2,    257.7,2,   257.2,2,   19.50,2,   19.10,2,    0.01,2,    1.16,2,-999.000,9,-999.000,9,-999.000,9,-999.0000,9, -999.00,9,-999.000,9,-999.000,   9.000,     3.5200,-999.0000, -999.00
32OC19880723,       A16N,      66,          1,         16,         16,2,19880811,       0818,    32.8317,   -21.8767,       5247,  2602.1,  34.9604,2,  34.9660,2,    255.5,2,   255.9,2,   25.10,2,   19.80,2,    0.01,2,    1.30,2,   0.069,2,   0.017,2,-999.000,9,-999.0000,9, -999.00,9,-999.000,9,-999.000,-999.000,     3.0840,-999.0000, -999.00
32OC19880723,       A16N,      66,          1,         17,         17,2,19880811,       0818,    32.8317,   -21.8767,       5247,  2953.5,  34.9414,2,  34.9460,2,    249.4,2,   250.7,2,   31.80,2,   20.50,2,    0.01,2,    1.34,2,-999.000,9,-999.000,9,-999.000,9,-999.0000,9, -999.00,9,-999.000,9,-999.000,   9.000,     2.8220,-999.0000, -999.00
32OC19880723,       A16N,      66,          1,         18,         18,2,19880811,       0818,    32.8317,   -21.8767,       5247,  3306.0,  34.9259,2,  34.9290,2,    246.6,2,   246.8,2,   37.20,2,   21.30,2,    0.01,2,    1.42,2,   0.065,3,   0.006,7,-999.000,9,-999.0000,9, -999.00,9,-999.000,9,-999.000,-999.000,     2.6550,-999.0000, -999.00
32OC19880723,       A16N,      66,          1,         19,         19,2,19880811,       0818,    32.8317,   -21.8767,       5247,  3660.4,  34.9135,2,  34.9130,2,    245.9,2,   245.5,2,   40.80,2,   21.80,2,    0.01,2,    1.44,2,  -0.006,3,   0.057,4,-999.000,9,-999.0000,9, -999.00,9,-999.000,9,-999.000,   9.000,     2.5420,-999.0000, -999.00
32OC19880723,       A16N,      66,          1,         20,         20,2,19880811,       0818,    32.8317,   -21.8767,       5247,  4017.3,  34.9025,2,  34.9040,2,    246.3,2,   245.5,2,   43.10,2,   22.20,2,    0.02,2,    1.45,2,  -0.018,2,  -0.001,2,-999.000,9,-999.0000,9, -999.00,9,-999.000,9,-999.000,-999.000,     2.4780,-999.0000, -999.00
32OC19880723,       A16N,      66,          1,         21,         21,2,19880811,       0818,    32.8317,   -21.8767,       5247,  4377.9,  34.8956,2,  34.8960,2,    246.3,2,   245.9,2,   44.80,2,   22.30,2,    0.02,2,    1.44,2,-999.000,9,-999.000,9,-999.000,9,-999.0000,9, -999.00,9,-999.000,9,-999.000,   9.000,     2.4430,-999.0000, -999.00
32OC19880723,       A16N,      66,          1,         22,         22,2,19880811,       0818,    32.8317,   -21.8767,       5247,  4738.5,  34.8901,2,  34.8920,2,    245.5,2,   245.5,2,   46.00,2,   22.30,2,    0.02,2,    1.46,2,   0.231,4,   0.020,2,-999.000,9,-999.0000,9, -999.00,9,-999.000,9,-999.000,-999.000,     2.4340,-999.0000, -999.00
32OC19880723,       A16N,      66,          1,         23,         23,2,19880811,       0818,    32.8317,   -21.8767,       5247,  5097.6,  34.8885,2,  34.8890,2,    245.2,2,   245.9,2,   46.60,2,   22.50,2,    0.02,2,    1.48,2,   0.018,2,   0.002,7,-999.000,9,-999.0000,9, -999.00,9,-999.000,9,-999.000,   9.000,     2.4570,-999.0000, -999.00
32OC19880723,       A16N,      66,          1,         24,         24,2,19880811,       0818,    32.8317,   -21.8767,       5247,  5343.2,  34.8880,2,  34.8870,2,    244.5,2,   245.0,2,   46.80,2,   22.30,2,    0.01,2,    1.47,2,   0.036,2,  -0.001,2,-999.000,9,-999.0000,9, -999.00,9,-999.000,9,-999.000,-999.000,     2.4840,-999.0000, -999.00
32OC19880723,       A16N,      66,          1,         99,     -999.0,9,19880811,       0818,    32.8317,   -21.8767,       5247,  5345.3,  34.8879,2,-999.0000,9,    244.7,2,  -999.0,9, -999.00,9, -999.00,9, -999.00,9, -999.00,9,-999.000,9,-999.000,9,-999.000,9,-999.0000,9, -999.00,9,-999.000,9,-999.000,   9.000,     2.4840,-999.0000, -999.00