BOTTLE,20220922CCHSIOAMB
EXPOCODE,SECT_ID,STNNBR,CASTNO,SAMPNO,BTLNBR,BTLNBR_FLAG_W,DATE,TIME,LATITUDE,LONGITUDE,DEPTH,CTDPRS,CTDSAL,CTDSAL_FLAG_W,SALNTY,SALNTY_FLAG_W,CTDOXY,CTDOXY_FLAG_W,OXYGEN,OXYGEN_FLAG_W,SILCAT,SILCAT_FLAG_W,NITRAT,NITRAT_FLAG_W,NITRIT,NITRIT_FLAG_W,PHSPHT,PHSPHT_FLAG_W,CFC-11,CFC-11_FLAG_W,CFC-12,CFC-12_FLAG_W,TRITUM,TRITUM_FLAG_W,HELIUM,HELIUM_FLAG_W,DELHE3,DELHE3_FLAG_W,NEON,NEON_FLAG_W,NEONER,TRITER,CTDTMP,HELIER,DELHER
,,,,,,,,,,,METERS,DBAR,PSS-78,,PSS-78,,UMOL/KG,,UMOL/KG,,UMOL/KG,,UMOL/KG,,UMOL/KG,,UMOL/KG,,PMOL/KG,,PMOL/KG,,TU,,NMOL/KG,,PERCNT,,NMOL/KG,,NMOL/KG,TU,IPTS-68,NMOL/KG,PERCNT
32OC19880723,       A16N,     109,          1,          1,          1,2,19880821,       1612,     4.0650,   -26.0750,       4576,    11.9,  35.8304,2,  35.8050,2,    189.4,2,   204.3,2,    0.30,2,    0.30,2,    0.00,2,    0.02,2,   1.413,2,   0.758,2,   1.016,2,   1.6975,2,   -1.43,2,-999.000,9,  -7.493,   0.033,    27.8560,   0.0119,    0.18
32OC19880723,       A16N,     109,          1,          2,          2,2,19880821,       1612,     4.0650,   -26.0750,       4576,    37.6,  35.8334,2,  35.8060,2,    200.1,2,   200.8,2,    0.30,2,    0.30,2,    0.00,2,    0.02,2,   1.475,2,   0.772,2,   1.075,2,   1.6991,2,   -1.56,2,-999.000,9,  -7.493,   0.050,    27.8030,   0.0119,    0.18
32OC19880723,       A16N,     109,          1,          3,          3,2,19880821,       1612,     4.0650,   -26.0750,       4576,    67.6,  35.8720,2,  35.8230,2,    201.4,2,   199.9,2,    0.30,2,    0.40,2,    0.00,2,    0.02,2,   1.478,4,   0.695,4,-999.000,9,   1.6932,2,   -1.49,2,-999.000,9,  -7.493,-999.000,    27.7760,   0.0119,    0.18
32OC19880723,       A16N,     109,          1,          4,          4,2,19880821,       1612,     4.0650,   -26.0750,       4576,   105.0,  35.6604,2,  35.7130,2,     83.1,2,    94.4,2,    4.90,2,   18.80,2,    0.07,2,    1.24,2,   1.015,2,   0.474,2,-999.000,9,   1.7921,2,    1.20,2,-999.000,9,  -7.493,   9.000,    16.9130,   0.0125,    0.18
32OC19880723,       A16N,     109,          1,          5,          5,2,19880821,       1612,     4.0650,   -26.0750,       4576,   154.5,  35.4976,2,  35.5180,2,     98.8,2,    97.9,2,    6.50,2,   21.40,2,    0.00,2,    1.43,2,   0.819,2,   0.412,2,   0.658,2,   1.7555,2,    1.34,2,-999.000,9,  -7.493,   0.037,    14.9080,   0.0123,    0.18
32OC19880723,       A16N,     109,          1,          6,          6,2,19880821,       1612,     4.0650,   -26.0750,       4576,   204.1,  35.3670,2,  35.3770,2,    110.4,2,   111.8,2,    7.10,2,   21.60,2,    0.00,2,    1.46,2,   0.876,4,   0.383,4,   0.572,2,   1.7593,2,    1.36,2,-999.000,9,  -7.493,   0.040,    13.7360,   0.0123,    0.18
32OC19880723,       A16N,     109,          1,          7,          7,2,19880821,       1612,     4.0650,   -26.0750,       4576,   253.0,  35.2652,2,  35.3060,2,     98.0,2,    91.4,2,    8.50,2,   24.70,2,    0.00,2,    1.64,2,   0.698,4,   0.279,4,   0.512,2,   1.7621,2,    1.46,2,-999.000,9,  -7.493,   0.043,    13.2060,   0.0123,    0.18
32OC19880723,       A16N,     109,          1,          8,          8,2,19880821,       1612,     4.0650,   -26.0750,       4576,   301.4,  35.1647,2,  35.1840,2,     98.6,2,    98.3,2,    9.80,2,   26.00,2,    0.01,2,    1.69,2,   0.468,2,   0.225,2,   0.417,2,   1.7666,2,    1.45,2,-999.000,9,  -7.493,   0.036,    12.0880,   0.0124,    0.18
32OC19880723,       A16N,     109,          1,          9,          9,2,19880821,       1612,     4.0650,   -26.0750,       4576,   399.7,  34.8972,2,  34.9070,2,     85.6,2,    83.5,2,   15.00,2,   31.90,2,    0.00,2,    2.08,2,   0.164,2,   0.071,2,   0.213,2,   1.7781,2,    1.15,2,-999.000,9,  -7.493,   0.031,     9.4660,   0.0124,    0.18
32OC19880723,       A16N,     109,          1,         10,         10,2,19880821,       1612,     4.0650,   -26.0750,       4576,   496.7,  34.6724,2,  34.6680,2,    107.8,2,   109.6,2,   20.10,2,   33.90,2,    0.00,2,    2.27,2,   0.052,2,   0.014,2,   0.048,2,   1.7962,2,    0.94,2,-999.000,9,  -7.493,   0.034,     7.2350,   0.0126,    0.18
32OC19880723,       A16N,     109,          1,         11,         11,2,19880821,       1612,     4.0650,   -26.0750,       4576,   741.1,  34.5366,2,  34.5390,2,    136.1,2,   140.4,2,   28.20,2,   34.50,2,    0.00,2,    2.36,2,   0.034,2,   0.008,7,   0.015,2,   1.8087,2,    1.38,2,-999.000,9,  -7.493,   0.017,     5.2290,   0.0127,    0.18
32OC19880723,       A16N,     109,          1,         12,         12,2,19880821,       1612,     4.0650,   -26.0750,       4576,   988.3,  34.6251,2,  34.6320,2,    150.8,2,   153.0,2,   30.60,2,   32.80,2,    0.00,2,    2.33,2,   0.030,2,   0.005,7,  -0.014,2,   1.8159,2,    1.63,2,-999.000,9,  -7.493,   0.033,     4.5800,   0.0127,    0.18
32OC19880723,       A16N,     109,          1,         13,         13,2,19880821,       1612,     4.0650,   -26.0750,       4576,  1234.7,  34.8197,2,  34.8180,2,    177.5,2,   178.6,2,   25.40,2,   28.40,2,    0.01,2,    1.98,2,  -0.029,3,   0.002,7,   0.096,2,   1.8192,2,    1.11,2,-999.000,9,  -7.493,   0.030,     4.5400,   0.0127,    0.18
32OC19880723,       A16N,     109,          1,         14,         14,2,19880821,       1612,     4.0650,   -26.0750,       4576,  1477.8,  34.9449,2,  34.9460,2,    215.8,2,   218.6,2,   19.60,2,   23.30,2,    0.00,2,    1.57,2,   0.005,2,   0.005,7,-999.000,9,-999.0000,9, -999.00,9,-999.000,9,-999.000,-999.000,     4.3170,-999.0000, -999.00
32OC19880723,       A16N,     109,          1,         15,         15,2,19880821,       1612,     4.0650,   -26.0750,       4576,  1777.1,  34.9694,2,  34.9710,2,    242.4,2,   243.3,2,   18.40,2,   20.80,2,    0.01,2,    1.37,2,  -0.017,3,   0.005,7,-999.000,9,-999.0000,9, -999.00,9,-999.000,9,-999.000,   9.000,     3.8580,-999.0000, -999.00
32OC19880723,       A16N,     109,          1,         16,         16,2,19880821,       1612,     4.0650,   -26.0750,       4576,  2130.6,  34.9532,2,  34.9550,2,    245.9,2,   246.4,2,   23.30,2,   20.90,2,    0.01,2,    1.42,2,  -0.009,3,   0.008,7,-999.000,9,-999.0000,9, -999.00,9,-999.000,9,-999.000,-999.000,     3.4040,-999.0000, -999.00
32OC19880723,       A16N,     109,          1,         17,         17,2,19880821,       1612,     4.0650,   -26.0750,       4576,  2484.7,  34.9378,2,  34.9400,2,    249.4,2,   249.0,2,   28.30,2,   21.20,2,    0.00,2,    1.43,2,   0.007,2,   0.008,7,-999.000,9,-999.0000,9, -999.00,9,-999.000,9,-999.000,   9.000,     3.0580,-999.0000, -999.00
32OC19880723,       A16N,     109,          1,         18,         18,2,19880821,       1612,     4.0650,   -26.0750,       4576,  2791.6,  34.9251,2,  34.9260,2,    247.8,2,   248.1,2,   33.00,2,   21.70,2,    0.00,2,    1.45,2,   0.047,3,   0.005,7,-999.000,9,-999.0000,9, -999.00,9,-999.000,9,-999.000,-999.000,     2.8300,-999.0000, -999.00
32OC19880723,       A16N,     109,          1,         19,         19,2,19880821,       1612,     4.0650,   -26.0750,       4576,  3095.8,  34.9130,2,  34.9150,2,    247.9,2,   247.2,2,   36.60,2,   22.00,2,    0.01,2,    1.50,2,   0.011,2,   0.002,7,-999.000,9,-999.0000,9, -999.00,9,-999.000,9,-999.000,   9.000,     2.6640,-999.0000, -999.00
32OC19880723,       A16N,     109,          1,         20,         20,2,19880821,       1612,     4.0650,   -26.0750,       4576,  3401.0,  34.9055,2,  34.9050,2,    248.1,2,   246.8,2,   39.50,2,   22.00,2,    0.01,2,    1.50,2,   0.001,2,   0.002,7,-999.000,9,-999.0000,9, -999.00,9,-999.000,9,-999.000,-999.000,     2.5510,-999.0000, -999.00
32OC19880723,       A16N,     109,          1,         21,         21,2,19880821,       1612,     4.0650,   -26.0750,       4576,  3708.7,  34.8965,2,  34.8950,2,    250.3,2,   249.4,2,   41.50,2,   22.10,2,    0.00,2,    1.50,2,   0.025,2,   0.002,7,-999.000,9,-999.0000,9, -999.00,9,-999.000,9,-999.000,   9.000,     2.4220,-999.0000, -999.00
32OC19880723,       A16N,     109,          1,         22,         22,2,19880821,       1612,     4.0650,   -26.0750,       4576,  4066.8,  34.8892,2,  34.8880,2,    247.7,2,   247.2,2,   44.50,2,   22.50,2,    0.00,2,    1.49,2,   0.004,2,   0.002,7,-999.000,9,-999.0000,9, -999.00,9,-999.000,9,-999.000,-999.000,     2.3710,-999.0000, -999.00
32OC19880723,       A16N,     109,          1,         23,         23,2,19880821,       1612,     4.0650,   -26.0750,       4576,  4377.1,  34.8839,2,  34.8840,2,    245.6,2,   245.5,2,   46.40,2,   22.80,2,    0.00,2, -999.00,9,  -0.006,2,   0.005,7,-999.000,9,-999.0000,9, -999.00,9,-999.000,9,-999.000,   9.000,     2.3640,-999.0000, -999.00
32OC19880723,       A16N,     109,          1,         24,         24,2,19880821,       1612,     4.0650,   -26.0750,       4576,  4564.6,  34.8831,2,  34.8830,2,    244.9,2,   245.9,2,   46.90,2,   22.90,2,    0.00,2, -999.00,9,   0.006,2,   0.005,7,-999.000,9,-999.0000,9, -999.00,9,-999.000,9,-999.000,-999.000,     2.3720,-999.0000, -999.00
32OC19880723,       A16N,     109,          1,         99,     -999.0,9,19880821,       1612,     4.0650,   -26.0750,       4576,  4566.0,  34.8830,2,-999.0000,9,    244.8,2,  -999.0,9, -999.00,9, -999.00,9, -999.00,9, -999.00,9,-999.000,9,-999.000,9,-999.000,9,-999.0000,9, -999.00,9,-999.000,9,-999.000,   9.000,     2.3730,-999.0000, -999.00
32OC19880723,       A16N,     110,          1,          1,          1,2,19880821,       2200,     3.4083,   -25.6633,       4340,    11.9,  35.6736,2,  35.6640,2,    198.9,2,   201.7,2,    0.50,2,    0.10,2,    0.00,2,    0.05,2,-999.000,9,-999.000,9,-999.000,9,-999.0000,9, -999.00,9,-999.000,9,-999.000,-999.000,    27.7660,-999.0000, -999.00
32OC19880723,       A16N,     110,          1,          2,          2,2,19880821,       2200,     3.4083,   -25.6633,       4340,    36.8,  35.6710,2,  35.6670,2,    199.7,2,   201.3,2,    0.50,2,    0.00,2,    0.00,2,    0.04,2,-999.000,9,-999.000,9,-999.000,9,-999.0000,9, -999.00,9,-999.000,9,-999.000,   9.000,    27.7670,-999.0000, -999.00
32OC19880723,       A16N,     110,          1,          3,          3,2,19880821,       2200,     3.4083,   -25.6633,       4340,    67.4,  36.0370,2,  35.6860,3,    195.4,2,   200.8,2,    0.50,2,    0.30,2,    0.00,2,    0.07,2,-999.000,9,-999.000,9,-999.000,9,-999.0000,9, -999.00,9,-999.000,9,-999.000,-999.000,    27.7660,-999.0000, -999.00
32OC19880723,       A16N,     110,          1,          4,          4,2,19880821,       2200,     3.4083,   -25.6633,       4340,   105.7,  35.6099,2,  35.6390,2,     87.8,2,    88.3,2,    5.70,2,   20.20,2,    0.05,2,    1.34,2,-999.000,9,-999.000,9,-999.000,9,-999.0000,9, -999.00,9,-999.000,9,-999.000,   9.000,    16.0310,-999.0000, -999.00
32OC19880723,       A16N,     110,          1,          5,          5,2,19880821,       2200,     3.4083,   -25.6633,       4340,   152.9,  35.5392,2,  35.5420,2,     93.7,2,    93.5,2,    6.80,2,   20.70,2,    0.00,2,    1.39,2,-999.000,9,-999.000,9,-999.000,9,-999.0000,9, -999.00,9,-999.000,9,-999.000,-999.000,    15.0830,-999.0000, -999.00
32OC19880723,       A16N,     110,          1,          6,          6,2,19880821,       2200,     3.4083,   -25.6633,       4340,   197.9,  35.4484,2,  35.4480,2,     98.4,2,    97.0,2,    7.30,2,   21.80,2,    0.00,2,    1.42,2,-999.000,9,-999.000,9,-999.000,9,-999.0000,9, -999.00,9,-999.000,9,-999.000,   9.000,    14.3280,-999.0000, -999.00
32OC19880723,       A16N,     110,          1,          7,          7,2,19880821,       2200,     3.4083,   -25.6633,       4340,   243.8,  35.3206,2,  35.3150,2,    103.5,2,   110.5,2,    8.00,2,   22.00,2,    0.00,2,    1.44,2,-999.000,9,-999.000,9,-999.000,9,-999.0000,9, -999.00,9,-999.000,9,-999.000,-999.000,    13.2780,-999.0000, -999.00
32OC19880723,       A16N,     110,          1,          8,          8,2,19880821,       2200,     3.4083,   -25.6633,       4340,   287.5,  35.2452,2,  35.2330,2,    107.4,2,   111.8,2,    8.80,2,   23.20,2,    0.00,2,    1.49,2,-999.000,9,-999.000,9,-999.000,9,-999.0000,9, -999.00,9,-999.000,9,-999.000,   9.000,    12.5680,-999.0000, -999.00
32OC19880723,       A16N,     110,          1,          9,          9,2,19880821,       2200,     3.4083,   -25.6633,       4340,   377.7,  34.9665,2,  34.9590,2,     88.5,2,    86.5,2,   13.70,2,   30.40,2,    0.00,2,    1.90,2,-999.000,9,-999.000,9,-999.000,9,-999.0000,9, -999.00,9,-999.000,9,-999.000,-999.000,    10.0720,-999.0000, -999.00
32OC19880723,       A16N,     110,          1,         10,         10,2,19880821,       2200,     3.4083,   -25.6633,       4340,   467.4,  34.7427,2,  34.7290,2,    104.8,2,   106.5,2,   18.40,2,   32.40,2,    0.00,2,    2.08,2,-999.000,9,-999.000,9,-999.000,9,-999.0000,9, -999.00,9,-999.000,9,-999.000,   9.000,     7.9140,-999.0000, -999.00
32OC19880723,       A16N,     110,          1,         11,         11,2,19880821,       2200,     3.4083,   -25.6633,       4340,   650.7,  34.5720,2,  34.5460,2,    114.4,2,   130.0,2,   28.50,2,   34.50,2,    0.00,2,    2.31,2,-999.000,9,-999.000,9,-999.000,9,-999.0000,9, -999.00,9,-999.000,9,-999.000,-999.000,     5.5530,-999.0000, -999.00
32OC19880723,       A16N,     110,          1,         12,         12,2,19880821,       2200,     3.4083,   -25.6633,       4340,   832.3,  34.5509,2,  34.5550,2,    143.7,2,   146.9,2,   30.70,2,   33.80,2,    0.00,2,    2.25,2,-999.000,9,-999.000,9,-999.000,9,-999.0000,9, -999.00,9,-999.000,9,-999.000,   9.000,     4.7670,-999.0000, -999.00
32OC19880723,       A16N,     110,          1,         13,         13,2,19880821,       2200,     3.4083,   -25.6633,       4340,  1015.8,  34.6263,2,  34.6230,2,    152.8,2,   152.6,2,   30.70,2,   32.10,2,    0.00,2,    2.22,2,-999.000,9,-999.000,9,-999.000,9,-999.0000,9, -999.00,9,-999.000,9,-999.000,-999.000,     4.5980,-999.0000, -999.00
32OC19880723,       A16N,     110,          1,         14,         14,2,19880821,       2200,     3.4083,   -25.6633,       4340,  1298.6,  34.8563,2,  34.8530,2,    188.4,2,   188.2,2,   24.10,2,   26.90,2,    0.00,2,    1.79,2,-999.000,9,-999.000,9,-999.000,9,-999.0000,9, -999.00,9,-999.000,9,-999.000,   9.000,     4.5060,-999.0000, -999.00
32OC19880723,       A16N,     110,          1,         15,         15,2,19880821,       2200,     3.4083,   -25.6633,       4340,  1586.5,  34.9661,2,  34.9650,2,    229.8,2,   230.7,2,   18.40,2,   21.50,2,    0.00,2,    1.39,2,-999.000,9,-999.000,9,-999.000,9,-999.0000,9, -999.00,9,-999.000,9,-999.000,-999.000,     4.2070,-999.0000, -999.00
32OC19880723,       A16N,     110,          1,         16,         16,2,19880821,       2200,     3.4083,   -25.6633,       4340,  1879.3,  34.9717,2,  34.9710,2,    248.1,2,   248.1,2,   18.70,2,   20.30,2,    0.01,2,    1.30,2,-999.000,9,-999.000,9,-999.000,9,-999.0000,9, -999.00,9,-999.000,9,-999.000,   9.000,     3.7440,-999.0000, -999.00
32OC19880723,       A16N,     110,          1,         17,         17,2,19880821,       2200,     3.4083,   -25.6633,       4340,  2174.0,  34.9547,2,  34.9580,2,    250.8,2,   252.0,2,   22.30,2,   19.90,2,    0.01,2,    1.28,2,-999.000,9,-999.000,9,-999.000,9,-999.0000,9, -999.00,9,-999.000,9,-999.000,-999.000,     3.3800,-999.0000, -999.00
32OC19880723,       A16N,     110,          1,         18,         18,2,19880821,       2200,     3.4083,   -25.6633,       4340,  2471.3,  34.9397,2,  34.9380,2,    248.9,2,   248.5,2,   28.40,2,   20.60,2,    0.01,2,    1.33,2,-999.000,9,-999.000,9,-999.000,9,-999.0000,9, -999.00,9,-999.000,9,-999.000,   9.000,     3.0380,-999.0000, -999.00
32OC19880723,       A16N,     110,          1,         19,         19,2,19880821,       2200,     3.4083,   -25.6633,       4340,  2815.6,  34.9232,2,  34.9210,2,    248.3,2,   246.8,2,   34.20,2,   21.10,2,    0.01,2,    1.38,2,-999.000,9,-999.000,9,-999.000,9,-999.0000,9, -999.00,9,-999.000,9,-999.000,-999.000,     2.7760,-999.0000, -999.00
32OC19880723,       A16N,     110,          1,         20,         20,2,19880821,       2200,     3.4083,   -25.6633,       4340,  3158.0,  34.9118,2,  34.9100,2,    247.2,2,   246.8,2,   37.80,2,   21.60,2,    0.01,2,    1.40,2,-999.000,9,-999.000,9,-999.000,9,-999.0000,9, -999.00,9,-999.000,9,-999.000,   9.000,     2.6240,-999.0000, -999.00
32OC19880723,       A16N,     110,          1,         21,         21,2,19880821,       2200,     3.4083,   -25.6633,       4340,  3510.3,  34.9037,2,  34.8990,2,    249.4,2,   249.8,2,   39.90,2,   21.50,2,    0.01,2,    1.41,2,-999.000,9,-999.000,9,-999.000,9,-999.0000,9, -999.00,9,-999.000,9,-999.000,-999.000,     2.4750,-999.0000, -999.00
32OC19880723,       A16N,     110,          1,         22,         22,2,19880821,       2200,     3.4083,   -25.6633,       4340,  3867.0,  34.8914,2,  34.8890,2,    247.7,2,   248.1,2,   43.90,2,   22.10,2,    0.00,2,    1.44,2,-999.000,9,-999.000,9,-999.000,9,-999.0000,9, -999.00,9,-999.000,9,-999.000,   9.000,     2.3720,-999.0000, -999.00
32OC19880723,       A16N,     110,          1,         23,         23,2,19880821,       2200,     3.4083,   -25.6633,       4340,  4223.8,  34.8837,2,  34.8810,2,    245.9,2,   245.5,2,   46.90,2,   22.50,2,    0.00,2,    1.44,2,-999.000,9,-999.000,9,-999.000,9,-999.0000,9, -999.00,9,-999.000,9,-999.000,-999.000,     2.3360,-999.0000, -999.00
32OC19880723,       A16N,     110,          1,         24,         24,2,19880821,       2200,     3.4083,   -25.6633,       4340,  4403.4,  34.8817,2,  34.8810,2,    244.6,2,   245.0,2,   47.40,2,   22.70,2,    0.00,2,    1.46,2,-999.000,9,-999.000,9,-999.000,9,-999.0000,9, -999.00,9,-999.000,9,-999.000,   9.000,     2.3450,-999.0000, -999.00
32OC19880723,       A16N,     110,          1,         99,     -999.0,9,19880821,       2200,     3.4083,   -25.6633,       4340,  4405.6,  34.8818,2,-999.0000,9,    244.6,2,  -999.0,9, -999.00,9, -999.00,9, -999.00,9, -999.00,9,-999.000,9,-999.000,9,-999.000,9,-999.0000,9, -999.00,9,-999.000,9,-999.000,-999.000,     2.3460,-999.0000, -999.00