BOTTLE,20220922CCHSIOAMB
EXPOCODE,SECT_ID,STNNBR,CASTNO,SAMPNO,BTLNBR,BTLNBR_FLAG_W,DATE,TIME,LATITUDE,LONGITUDE,DEPTH,CTDPRS,CTDSAL,CTDSAL_FLAG_W,SALNTY,SALNTY_FLAG_W,CTDOXY,CTDOXY_FLAG_W,OXYGEN,OXYGEN_FLAG_W,SILCAT,SILCAT_FLAG_W,NITRAT,NITRAT_FLAG_W,NITRIT,NITRIT_FLAG_W,PHSPHT,PHSPHT_FLAG_W,CFC-11,CFC-11_FLAG_W,CFC-12,CFC-12_FLAG_W,TRITUM,TRITUM_FLAG_W,HELIUM,HELIUM_FLAG_W,DELHE3,DELHE3_FLAG_W,NEON,NEON_FLAG_W,NEONER,TRITER,CTDTMP,HELIER,DELHER
,,,,,,,,,,,METERS,DBAR,PSS-78,,PSS-78,,UMOL/KG,,UMOL/KG,,UMOL/KG,,UMOL/KG,,UMOL/KG,,UMOL/KG,,PMOL/KG,,PMOL/KG,,TU,,NMOL/KG,,PERCNT,,NMOL/KG,,NMOL/KG,TU,IPTS-68,NMOL/KG,PERCNT
32OC19880723,       A16N,      12,          1,          1,          1,2,19880725,       1900,    59.3933,   -19.9867,       2765,     4.6,  35.1406,2,  35.1420,2,    252.2,2,   272.3,4,    0.30,2,    4.20,2,    0.11,2,    0.32,2,   3.408,2,   1.589,2,-999.000,9,-999.0000,9, -999.00,9,-999.000,9,-999.000,   9.000,    11.4950,-999.0000, -999.00
32OC19880723,       A16N,      12,          1,          2,          2,2,19880725,       1900,    59.3933,   -19.9867,       2765,    36.1,  35.1361,2,  35.1370,2,    272.3,2,   272.3,2,    0.30,2,    4.20,2,    0.09,2,    0.31,2,-999.000,9,-999.000,9,-999.000,9,-999.0000,9, -999.00,9,-999.000,9,-999.000,-999.000,    11.4940,-999.0000, -999.00
32OC19880723,       A16N,      12,          1,          3,          3,2,19880725,       1900,    59.3933,   -19.9867,       2765,    66.5,  35.1481,2,  35.1510,2,    271.8,2,   269.6,2,    1.60,2,    8.50,2,    0.46,2,    0.68,2,   3.550,2,   1.676,2,-999.000,9,-999.0000,9, -999.00,9,-999.000,9,-999.000,   9.000,     9.4600,-999.0000, -999.00
32OC19880723,       A16N,      12,          1,          4,          4,2,19880725,       1900,    59.3933,   -19.9867,       2765,   107.0,  35.2236,2,  35.2340,2,    262.5,2,   262.1,2,    4.00,2,   12.60,2,    0.02,2,    0.78,2,-999.000,9,-999.000,9,-999.000,9,-999.0000,9, -999.00,9,-999.000,9,-999.000,-999.000,     9.1350,-999.0000, -999.00
32OC19880723,       A16N,      12,          1,          5,          5,2,19880725,       1900,    59.3933,   -19.9867,       2765,   157.1,  35.2166,2,  35.2190,2,    262.7,2,   264.3,2,    4.80,2,   13.00,2,    0.02,2,    0.81,2,   3.324,2,   1.588,2,-999.000,9,-999.0000,9, -999.00,9,-999.000,9,-999.000,   9.000,     8.9150,-999.0000, -999.00
32OC19880723,       A16N,      12,          1,          6,          6,2,19880725,       1900,    59.3933,   -19.9867,       2765,   207.1,  35.1940,2,  35.1940,2,    262.7,2,   263.9,2,    5.60,2,   13.40,2,    0.01,2,    0.84,2,-999.000,9,-999.000,9,-999.000,9,-999.0000,9, -999.00,9,-999.000,9,-999.000,-999.000,     8.6570,-999.0000, -999.00
32OC19880723,       A16N,      12,          1,          7,          7,2,19880725,       1900,    59.3933,   -19.9867,       2765,   257.9,  35.1719,2,  35.1690,2,    263.0,2,   263.9,2,    6.10,2,   13.90,2,    0.00,2,    0.85,2,-999.000,9,-999.000,9,-999.000,9,-999.0000,9, -999.00,9,-999.000,9,-999.000,   9.000,     8.4640,-999.0000, -999.00
32OC19880723,       A16N,      12,          1,          8,          8,2,19880725,       1900,    59.3933,   -19.9867,       2765,   307.8,  35.1680,2,  35.1700,2,    265.1,2,   263.9,2,    6.20,2,   13.80,2,    0.01,2,    0.86,2,   3.213,2,   1.537,2,-999.000,9,-999.0000,9, -999.00,9,-999.000,9,-999.000,-999.000,     8.3870,-999.0000, -999.00
32OC19880723,       A16N,      12,          1,          9,          9,2,19880725,       1900,    59.3933,   -19.9867,       2765,   404.5,  35.1633,2,  35.1430,2,    257.5,2,   257.3,2,    6.90,2,   14.60,2,    0.00,2,    0.90,2,-999.000,9,-999.000,9,-999.000,9,-999.0000,9, -999.00,9,-999.000,9,-999.000,   9.000,     8.0620,-999.0000, -999.00
32OC19880723,       A16N,      12,          1,         10,         10,2,19880725,       1900,    59.3933,   -19.9867,       2765,   510.0,  35.1295,2,  35.1380,2,    243.4,2,   240.8,2,    8.20,2,   16.00,2,    0.00,2,    0.98,2,   2.554,2,   1.150,2,   2.409,2,   1.7910,2,    6.09,2,-999.000,9,-999.000,   0.059,     7.7730,   0.0125,    0.18
32OC19880723,       A16N,      12,          1,         11,         11,2,19880725,       1900,    59.3933,   -19.9867,       2765,   609.4,  35.1295,2,  35.1250,2,    243.7,2,   244.7,2,    8.50,2,   16.60,2,    0.01,2,    0.99,2,-999.000,9,-999.000,9,-999.000,9,-999.0000,9, -999.00,9,-999.000,9,-999.000,-999.000,     7.2990,-999.0000, -999.00
32OC19880723,       A16N,      12,          1,         12,         12,2,19880725,       1900,    59.3933,   -19.9867,       2765,   712.4,  35.1085,2,  35.1270,2,    222.9,2,   219.9,2,   10.70,2,   18.30,2,    0.00,2,    1.12,2,   1.759,2,   0.753,2,   2.033,2,   1.8152,2,    8.09,2,-999.000,9,-999.000,   0.055,     6.8140,   0.0127,    0.18
32OC19880723,       A16N,      12,          1,         13,         13,2,19880725,       1900,    59.3933,   -19.9867,       2765,   813.0,  35.0055,2,  35.0040,2,    230.5,2,   229.9,2,   10.90,2,   18.70,2,    0.02,2,    1.15,2,-999.000,9,-999.000,9,   2.096,2,   1.8343,2,    7.08,2,   7.915,2,   0.059,   0.055,     5.6920,   0.0128,    0.18
32OC19880723,       A16N,      12,          1,         14,         14,2,19880725,       1900,    59.3933,   -19.9867,       2765,   913.4,  34.9809,2,  34.9840,2,    239.6,2,   239.9,2,   10.90,2,   18.50,2,    0.01,2,    1.14,2,-999.000,9,-999.000,9,-999.000,9,-999.0000,9, -999.00,9,-999.000,9,-999.000,   9.000,     5.1350,-999.0000, -999.00
32OC19880723,       A16N,      12,          1,         15,         15,2,19880725,       1900,    59.3933,   -19.9867,       2765,  1014.5,  34.9690,2,  34.9690,2,    248.3,2,   248.6,2,   10.90,2,   18.50,2,    0.01,2,    1.14,2,   1.676,2,   0.729,2,   2.212,2,-999.0000,9, -999.00,9,-999.000,9,-999.000,   0.059,     4.7560,-999.0000, -999.00
32OC19880723,       A16N,      12,          1,         16,         16,2,19880725,       1900,    59.3933,   -19.9867,       2765,  1216.1,  34.9264,2,  34.9240,2,    262.2,2,   264.2,2,   10.70,2,   18.00,2,    0.02,2,    1.10,2,-999.000,9,-999.000,9,-999.000,9,-999.0000,9, -999.00,9,-999.000,9,-999.000,-999.000,     4.1300,-999.0000, -999.00
32OC19880723,       A16N,      12,          1,         17,         17,2,19880725,       1900,    59.3933,   -19.9867,       2765,  1417.4,  34.9092,2,  34.9090,2,    273.7,2,   272.9,2,   10.70,2,   17.40,2,    0.00,2,    1.08,2,   1.681,2,   0.714,2,   1.969,2,   1.8194,2,    8.08,2,   8.056,2,   0.060,   0.054,     3.8420,   0.0127,    0.18
32OC19880723,       A16N,      12,          1,         18,         18,2,19880725,       1900,    59.3933,   -19.9867,       2765,  1619.7,  34.9015,2,  34.9000,2,    279.0,2,   278.1,2,   10.60,2,   17.50,2,    0.00,2,    1.06,2,-999.000,9,-999.000,9,   1.857,2,   1.8105,2,    7.81,2,   8.051,2,   0.060,   0.052,     3.6590,   0.0127,    0.18
32OC19880723,       A16N,      12,          1,         19,         19,2,19880725,       1900,    59.3933,   -19.9867,       2765,  1819.6,  34.9109,2,  34.9060,2,    278.5,2,   278.1,2,   10.70,2,   17.40,2,    0.02,2,    1.09,2,   1.416,2,   0.596,2,-999.000,9,-999.0000,9, -999.00,9,-999.000,9,-999.000,   9.000,     3.5670,-999.0000, -999.00
32OC19880723,       A16N,      12,          1,         20,         20,2,19880725,       1900,    59.3933,   -19.9867,       2765,  2022.0,  34.9359,2,  34.9330,2,    276.2,2,   274.6,2,   11.30,2,   17.30,2,    0.00,2,    1.07,2,-999.000,9,-999.000,9,   1.342,2,   1.8185,2,    6.87,2,   8.049,2,   0.060,   0.051,     3.5600,   0.0127,    0.18
32OC19880723,       A16N,      12,          1,         21,         21,2,19880725,       1900,    59.3933,   -19.9867,       2765,  2223.9,  34.9529,2,  34.9500,2,    274.2,2,   273.3,2,   12.20,2,   16.90,2,    0.01,2,    1.07,2,   0.856,2,   0.371,2,-999.000,9,-999.0000,9, -999.00,9,-999.000,9,-999.000,-999.000,     3.4210,-999.0000, -999.00
32OC19880723,       A16N,      12,          1,         22,         22,2,19880725,       1900,    59.3933,   -19.9867,       2765,  2426.6,  34.9679,2,  34.9640,2,    272.4,2,   272.0,2,   14.10,2,   16.60,2,    0.01,2,    1.06,2,   1.010,4,   0.415,4,   1.473,2,   1.8430,2,    5.97,2,   8.100,2,   0.061,   0.053,     3.1720,   0.0129,    0.18
32OC19880723,       A16N,      12,          1,         23,         23,2,19880725,       1900,    59.3933,   -19.9867,       2765,  2680.4,  34.9757,2,  34.9710,2,    272.5,2,   274.1,2,   14.40,2,   16.50,2,    0.01,2,    1.08,2,   1.434,2,   0.596,2,-999.000,9,-999.0000,9, -999.00,9,-999.000,9,-999.000,   9.000,     2.7900,-999.0000, -999.00
32OC19880723,       A16N,      12,          1,         24,         24,2,19880725,       1900,    59.3933,   -19.9867,       2765,  2801.2,  34.9770,2,  34.9740,2,    278.5,2,   278.9,2,   11.80,2,   15.90,2,    0.01,2,    0.98,2,   1.699,2,   0.728,2,   1.778,2,   1.9110,2,    5.89,2,-999.000,9,  -7.493,   0.061,     2.5250,   0.0134,    0.18
32OC19880723,       A16N,      12,          1,         99,     -999.0,9,19880725,       1900,    59.3933,   -19.9867,       2765,  2803.1,  34.9772,2,-999.0000,9,    278.4,2,  -999.0,9, -999.00,9, -999.00,9, -999.00,9, -999.00,9,-999.000,9,-999.000,9,-999.000,9,-999.0000,9, -999.00,9,-999.000,9,-999.000,-999.000,     2.5200,-999.0000, -999.00
32OC19880723,       A16N,      13,          1,          1,          1,2,19880726,       0048,    58.8233,   -20.0133,       2866,    10.1,  35.1543,2,  35.1540,2,    273.0,2,   271.4,2,    0.20,2,    3.70,2,    0.09,2,    0.25,2,   3.357,2,   1.707,2,   2.937,2,-999.0000,9, -999.00,9,-999.000,9,-999.000,   0.055,    11.5510,-999.0000, -999.00
32OC19880723,       A16N,      13,          1,          2,          2,2,19880726,       0048,    58.8233,   -20.0133,       2866,    36.0,  35.1549,2,  35.1530,2,    271.0,2,   272.3,2,    0.20,2,    3.70,2,    0.11,2,    0.26,2,   3.480,3,   1.600,3,-999.000,9,-999.0000,9, -999.00,9,-999.000,9,-999.000,   9.000,    11.5450,-999.0000, -999.00
32OC19880723,       A16N,      13,          1,          3,          3,2,19880726,       0048,    58.8233,   -20.0133,       2866,    65.6,  35.2358,2,  35.2140,2,    254.3,2,   260.0,2,    2.30,2,   10.90,2,    0.35,2,    0.68,2,   3.476,2,   1.618,2,   2.875,2,   1.8242,2,   -0.65,2,   7.203,2,   0.054,   0.053,     9.4100,   0.0128,    0.18
32OC19880723,       A16N,      13,          1,          4,          4,2,19880726,       0048,    58.8233,   -20.0133,       2866,   106.0,  35.2201,2,  35.2130,2,    257.6,2,   258.7,2,    5.30,2,   13.30,2,    0.00,2,    0.81,2,   3.319,2,   1.543,2,   2.728,2,   1.8037,2,   -0.49,2,   7.581,2,   0.057,   0.055,     9.0480,   0.0126,    0.18
32OC19880723,       A16N,      13,          1,          5,          5,2,19880726,       0048,    58.8233,   -20.0133,       2866,   207.3,  35.2113,2,  35.2170,2,    264.9,2,   263.9,2,    5.10,2,   13.00,2,    0.00,2,    0.81,2,   3.485,2,   1.596,2,-999.000,9,-999.0000,9, -999.00,9,-999.000,9,-999.000,-999.000,     8.8380,-999.0000, -999.00
32OC19880723,       A16N,      13,          1,          6,          6,2,19880726,       0048,    58.8233,   -20.0133,       2866,   307.0,  35.1977,2,  35.1950,2,    268.3,2,   265.6,2,    5.50,2,   13.20,2,    0.00,2,    0.82,2,   3.316,2,   1.561,2,-999.000,9,-999.0000,9, -999.00,9,-999.000,9,-999.000,   9.000,     8.6310,-999.0000, -999.00
32OC19880723,       A16N,      13,          1,          7,          7,2,19880726,       0048,    58.8233,   -20.0133,       2866,   406.7,  35.1812,2,  35.1770,2,    268.4,2,   269.9,2,    5.50,2,   13.20,2,    0.00,2,    0.81,2,   3.470,2,   1.649,2,-999.000,9,-999.0000,9, -999.00,9,-999.000,9,-999.000,-999.000,     8.4220,-999.0000, -999.00
32OC19880723,       A16N,      13,          1,          8,          8,2,19880726,       0048,    58.8233,   -20.0133,       2866,   507.5,  35.1726,2,  35.1740,2,    267.7,2,   265.6,2, -999.00,9, -999.00,9, -999.00,9, -999.00,9,   3.336,2,   1.533,2,   2.776,2,   1.8270,2,   -0.35,2,   7.706,2,   0.058,   0.056,     8.3140,   0.0128,    0.18
32OC19880723,       A16N,      13,          1,          9,          9,2,19880726,       0048,    58.8233,   -20.0133,       2866,   608.2,  35.1367,2,  35.1310,2,    264.3,2,   258.6,2,    6.60,2,   14.60,2,    0.00,2,    0.90,2,   3.153,2,   1.446,2,-999.000,9,-999.0000,9, -999.00,9,-999.000,9,-999.000,   9.000,     7.9020,-999.0000, -999.00
32OC19880723,       A16N,      13,          1,         10,         10,2,19880726,       0048,    58.8233,   -20.0133,       2866,   708.9,  35.0986,2,  35.0960,2,    234.2,2,   233.8,2,    9.00,2,   16.70,2,    0.01,2,    1.02,2,   2.410,2,   1.069,2,-999.000,9,-999.0000,9, -999.00,9,-999.000,9,-999.000,-999.000,     7.2610,-999.0000, -999.00
32OC19880723,       A16N,      13,          1,         11,         11,2,19880726,       0048,    58.8233,   -20.0133,       2866,   809.4,  35.0548,2,  35.0580,2,    225.5,2,   225.6,2,   10.30,2,   18.20,2,    0.01,2,    1.07,2,   1.943,4,   0.823,4,-999.000,9,-999.0000,9, -999.00,9,-999.000,9,-999.000,   9.000,     6.5220,-999.0000, -999.00
32OC19880723,       A16N,      13,          1,         12,         12,2,19880726,       0048,    58.8233,   -20.0133,       2866,   911.3,  35.0223,2,  35.0120,2,    226.5,2,   228.6,2,   10.80,2,   18.50,2,    0.01,2,    1.13,2,   1.792,2,   0.768,2,-999.000,9,-999.0000,9, -999.00,9,-999.000,9,-999.000,-999.000,     5.7100,-999.0000, -999.00
32OC19880723,       A16N,      13,          1,         13,         13,2,19880726,       0048,    58.8233,   -20.0133,       2866,  1012.4,  34.9908,2,  34.9950,2,    239.6,2,   238.6,2,   10.80,2,   18.30,2,    0.01,2,    1.14,2,   1.731,2,   0.746,2,-999.000,9,-999.0000,9, -999.00,9,-999.000,9,-999.000,   9.000,     5.1930,-999.0000, -999.00
32OC19880723,       A16N,      13,          1,         14,         14,2,19880726,       0048,    58.8233,   -20.0133,       2866,  1112.7,  34.9544,2,  34.9600,2,    248.5,2,   249.0,2,   10.70,2,   18.10,2,    0.01,2,    1.11,2,   1.783,2,   0.769,2,-999.000,9,-999.0000,9, -999.00,9,-999.000,9,-999.000,-999.000,     4.6710,-999.0000, -999.00
32OC19880723,       A16N,      13,          1,         15,         15,2,19880726,       0048,    58.8233,   -20.0133,       2866,  1214.3,  34.9358,2,  34.9380,2,    259.0,2,   258.6,2,   10.60,2,   17.80,2,    0.01,2,    1.13,2,   1.793,2,   0.769,2,-999.000,9,-999.0000,9, -999.00,9,-999.000,9,-999.000,   9.000,     4.3500,-999.0000, -999.00
32OC19880723,       A16N,      13,          1,         16,         16,2,19880726,       0048,    58.8233,   -20.0133,       2866,  1415.6,  34.9135,2,  34.9130,2,    269.0,2,   270.3,2,   10.30,2,   17.30,2,    0.01,2,    1.07,2,   1.827,2,   0.770,2,-999.000,9,-999.0000,9, -999.00,9,-999.000,9,-999.000,-999.000,     3.9590,-999.0000, -999.00
32OC19880723,       A16N,      13,          1,         17,         17,2,19880726,       0048,    58.8233,   -20.0133,       2866,  1616.8,  34.8999,2,  34.9010,2,    275.2,2,   276.8,2,   10.10,2,   17.10,2,    0.01,2,    1.07,2,   1.641,2,   0.742,2,-999.000,9,-999.0000,9, -999.00,9,-999.000,9,-999.000,   9.000,     3.7190,-999.0000, -999.00
32OC19880723,       A16N,      13,          1,         18,         18,2,19880726,       0048,    58.8233,   -20.0133,       2866,  1820.4,  34.9012,2,  34.9020,2,    279.8,2,   278.5,2,   10.30,2,   16.80,2,    0.01,2, -999.00,9,   1.427,2,   0.642,2,-999.000,9,-999.0000,9, -999.00,9,-999.000,9,-999.000,-999.000,     3.6060,-999.0000, -999.00
32OC19880723,       A16N,      13,          1,         19,         19,2,19880726,       0048,    58.8233,   -20.0133,       2866,  2022.8,  34.9214,2,  34.9210,2,    275.6,2,   276.4,2,   10.70,2,   16.80,2,    0.01,2,    1.05,2,   1.127,2,   0.464,2,-999.000,9,-999.0000,9, -999.00,9,-999.000,9,-999.000,   9.000,     3.5730,-999.0000, -999.00
32OC19880723,       A16N,      13,          1,         20,         20,2,19880726,       0048,    58.8233,   -20.0133,       2866,  2226.2,  34.9408,2,  34.9420,2,    273.8,2,   274.2,2,   11.60,2,   16.70,2,    0.01,2,    1.04,2,   0.878,2,   0.379,2,-999.000,9,-999.0000,9, -999.00,9,-999.000,9,-999.000,-999.000,     3.5040,-999.0000, -999.00
32OC19880723,       A16N,      13,          1,         21,         21,2,19880726,       0048,    58.8233,   -20.0133,       2866,  2429.1,  34.9615,2,  34.9600,2,    273.0,2,   273.3,2,   12.30,2,   16.40,2,    0.01,2,    1.04,2,   0.956,2,   0.419,2,-999.000,9,-999.0000,9, -999.00,9,-999.000,9,-999.000,   9.000,     3.3640,-999.0000, -999.00
32OC19880723,       A16N,      13,          1,         22,         22,2,19880726,       0048,    58.8233,   -20.0133,       2866,  2631.6,  34.9694,2,  34.9740,2,    273.4,2,   273.3,2,   13.70,2,   16.30,2,    0.01,2, -999.00,9,   1.123,4,   0.470,4,-999.000,9,-999.0000,9, -999.00,9,-999.000,9,-999.000,-999.000,     3.1360,-999.0000, -999.00
32OC19880723,       A16N,      13,          1,         23,         23,2,19880726,       0048,    58.8233,   -20.0133,       2866,  2834.7,  34.9753,2,  34.9760,2,    276.7,2,   277.2,2,   12.90,2,   15.70,2,    0.01,2, -999.00,9,   1.668,2,   0.689,2,-999.000,9,-999.0000,9, -999.00,9,-999.000,9,-999.000,   9.000,     2.6070,-999.0000, -999.00
32OC19880723,       A16N,      13,          1,         24,         24,2,19880726,       0048,    58.8233,   -20.0133,       2866,  2908.5,  34.9752,2,  34.9740,2,    277.9,2,   277.6,2,   12.00,2,   15.40,2,    0.01,2, -999.00,9,   1.702,6,   0.721,6,-999.000,9,-999.0000,9, -999.00,9,-999.000,9,-999.000,-999.000,     2.4970,-999.0000, -999.00
32OC19880723,       A16N,      13,          1,         99,     -999.0,9,19880726,       0048,    58.8233,   -20.0133,       2866,  2911.2,  34.9752,2,-999.0000,9,    277.9,2,  -999.0,9, -999.00,9, -999.00,9, -999.00,9, -999.00,9,-999.000,9,-999.000,9,-999.000,9,-999.0000,9, -999.00,9,-999.000,9,-999.000,   9.000,     2.4970,-999.0000, -999.00