BOTTLE,20220922CCHSIOAMB
EXPOCODE,SECT_ID,STNNBR,CASTNO,SAMPNO,BTLNBR,BTLNBR_FLAG_W,DATE,TIME,LATITUDE,LONGITUDE,DEPTH,CTDPRS,CTDSAL,CTDSAL_FLAG_W,SALNTY,SALNTY_FLAG_W,CTDOXY,CTDOXY_FLAG_W,OXYGEN,OXYGEN_FLAG_W,SILCAT,SILCAT_FLAG_W,NITRAT,NITRAT_FLAG_W,NITRIT,NITRIT_FLAG_W,PHSPHT,PHSPHT_FLAG_W,CFC-11,CFC-11_FLAG_W,CFC-12,CFC-12_FLAG_W,TRITUM,TRITUM_FLAG_W,HELIUM,HELIUM_FLAG_W,DELHE3,DELHE3_FLAG_W,NEON,NEON_FLAG_W,NEONER,TRITER,CTDTMP,HELIER,DELHER
,,,,,,,,,,,METERS,DBAR,PSS-78,,PSS-78,,UMOL/KG,,UMOL/KG,,UMOL/KG,,UMOL/KG,,UMOL/KG,,UMOL/KG,,PMOL/KG,,PMOL/KG,,TU,,NMOL/KG,,PERCNT,,NMOL/KG,,NMOL/KG,TU,IPTS-68,NMOL/KG,PERCNT
32OC19880723,       A16N,      30,          1,          8,          8,2,19880729,       0705,    50.4733,   -20.0217,       4039,    10.4,  35.5440,2,-999.0000,9,    262.6,2,  -999.0,9, -999.00,9, -999.00,9, -999.00,9, -999.00,9,-999.000,9,-999.000,9,-999.000,9,-999.0000,9, -999.00,9,-999.000,9,-999.000,-999.000,    13.7610,-999.0000, -999.00
32OC19880723,       A16N,      30,          1,          9,          9,2,19880729,       0705,    50.4733,   -20.0217,       4039,    37.6,  35.5440,2,  35.5440,2,    260.6,2,   260.6,2,    0.00,2,    2.20,2,    0.12,2,    0.24,2,-999.000,9,-999.000,9,-999.000,9,-999.0000,9, -999.00,9,-999.000,9,-999.000,   9.000,    13.7300,-999.0000, -999.00
32OC19880723,       A16N,      30,          1,         10,         10,2,19880729,       0705,    50.4733,   -20.0217,       4039,    67.5,  35.5055,2,  35.5160,2,    255.9,2,   254.0,2,    1.20,2,    6.20,2,    0.40,2,    0.43,2,-999.000,9,-999.000,9,-999.000,9,-999.0000,9, -999.00,9,-999.000,9,-999.000,-999.000,    12.3310,-999.0000, -999.00
32OC19880723,       A16N,      30,          1,         11,         11,2,19880729,       0705,    50.4733,   -20.0217,       4039,   107.1,  35.4955,2,  35.5000,2,    251.8,2,   250.9,2,    3.00,2,   10.20,2,    0.02,2,    0.59,2,-999.000,9,-999.000,9,-999.000,9,-999.0000,9, -999.00,9,-999.000,9,-999.000,   9.000,    11.3080,-999.0000, -999.00
32OC19880723,       A16N,      30,          1,         12,         12,2,19880729,       0705,    50.4733,   -20.0217,       4039,   202.9,  35.4251,2,  35.4080,2,    248.9,2,   247.4,2,    4.60,2,   12.10,2,    0.02,2,    0.71,2,-999.000,9,-999.000,9,-999.000,9,-999.0000,9, -999.00,9,-999.000,9,-999.000,-999.000,    10.4620,-999.0000, -999.00
32OC19880723,       A16N,      30,          1,         13,         13,2,19880729,       0705,    50.4733,   -20.0217,       4039,   298.5,  35.4184,2,  35.4180,2,    256.0,2,   255.2,2,    4.20,2,   11.50,2,    0.01,2,    0.65,2,-999.000,9,-999.000,9,-999.000,9,-999.0000,9, -999.00,9,-999.000,9,-999.000,   9.000,    10.3710,-999.0000, -999.00
32OC19880723,       A16N,      30,          1,         15,         15,2,19880729,       0705,    50.4733,   -20.0217,       4039,   391.1,  35.3728,2,  35.3660,2,    254.2,2,   253.9,2,    4.80,2,   12.10,2,    0.02,2,    0.72,2,-999.000,9,-999.000,9,-999.000,9,-999.0000,9, -999.00,9,-999.000,9,-999.000,-999.000,    10.0330,-999.0000, -999.00
32OC19880723,       A16N,      30,          1,         14,         14,2,19880729,       0705,    50.4733,   -20.0217,       4039,   391.1,  35.3728,2,  35.3660,2,    254.2,2,   253.9,2,    4.60,2,   12.10,2,    0.02,2,    0.70,2,-999.000,9,-999.000,9,-999.000,9,-999.0000,9, -999.00,9,-999.000,9,-999.000,   9.000,    10.0330,-999.0000, -999.00
32OC19880723,       A16N,      30,          1,         16,         16,2,19880729,       0705,    50.4733,   -20.0217,       4039,   668.0,  35.1898,2,  35.2040,2,    217.8,2,   208.6,3,    9.40,2,   17.60,2,    0.01,2,    1.06,2,-999.000,9,-999.000,9,-999.000,9,-999.0000,9, -999.00,9,-999.000,9,-999.000,-999.000,     8.2400,-999.0000, -999.00
32OC19880723,       A16N,      30,          1,         17,         17,2,19880729,       0705,    50.4733,   -20.0217,       4039,   855.6,  35.1902,2,  35.1730,2,    211.8,2,   210.3,2,   10.90,2,   19.00,2,    0.01,2,    1.14,2,-999.000,9,-999.000,9,-999.000,9,-999.0000,9, -999.00,9,-999.000,9,-999.000,   9.000,     6.9290,-999.0000, -999.00
32OC19880723,       A16N,      30,          1,         19,         19,2,19880729,       0705,    50.4733,   -20.0217,       4039,  1050.3,  35.1182,2,  35.1190,2,    229.0,2,   230.7,2,   10.90,2,   18.70,2,    0.01,2,    1.12,2,-999.000,9,-999.000,9,-999.000,9,-999.0000,9, -999.00,9,-999.000,9,-999.000,-999.000,     5.7850,-999.0000, -999.00
32OC19880723,       A16N,      30,          1,         18,         18,2,19880729,       0705,    50.4733,   -20.0217,       4039,  1050.3,  35.1182,2,  35.1190,2,    229.0,2,   230.7,2,   10.90,2,   18.40,2,    0.01,2,    1.12,2,-999.000,9,-999.000,9,-999.000,9,-999.0000,9, -999.00,9,-999.000,9,-999.000,   9.000,     5.7850,-999.0000, -999.00
32OC19880723,       A16N,      30,          1,         20,         20,2,19880729,       0705,    50.4733,   -20.0217,       4039,  2638.8,  34.9522,2,  34.9530,2,    265.6,2,   265.5,2,   19.90,2,   18.20,2,    0.01,2,    1.12,2,-999.000,9,-999.000,9,-999.000,9,-999.0000,9, -999.00,9,-999.000,9,-999.000,-999.000,     3.0620,-999.0000, -999.00
32OC19880723,       A16N,      30,          1,         22,         22,2,19880729,       0705,    50.4733,   -20.0217,       4039,  3227.7,  34.9312,2,  34.9330,2,    252.0,2,   250.7,2,   34.30,2,   20.40,2,    0.01,2,    1.26,2,-999.000,9,-999.000,9,-999.000,9,-999.0000,9, -999.00,9,-999.000,9,-999.000,   9.000,     2.6770,-999.0000, -999.00
32OC19880723,       A16N,      30,          1,         21,         21,2,19880729,       0705,    50.4733,   -20.0217,       4039,  3227.7,  34.9312,2,  34.9330,2,    252.0,2,   251.1,2,   34.30,2,   20.50,2,    0.01,2,    1.28,2,-999.000,9,-999.000,9,-999.000,9,-999.0000,9, -999.00,9,-999.000,9,-999.000,-999.000,     2.6770,-999.0000, -999.00
32OC19880723,       A16N,      30,          1,         23,         23,2,19880729,       0705,    50.4733,   -20.0217,       4039,  3526.6,  34.9154,2,  34.9150,2,    245.1,2,   244.2,2,   41.30,2,   21.60,2,    0.01,2,    1.38,2,-999.000,9,-999.000,9,-999.000,9,-999.0000,9, -999.00,9,-999.000,9,-999.000,   9.000,     2.5370,-999.0000, -999.00
32OC19880723,       A16N,      30,          1,         24,         24,2,19880729,       0705,    50.4733,   -20.0217,       4039,  3834.8,  34.9072,2,  34.9070,2,    241.8,2,   242.4,2,   43.70,2,   22.00,2,    0.01,2,    1.39,2,-999.000,9,-999.000,9,-999.000,9,-999.0000,9, -999.00,9,-999.000,9,-999.000,-999.000,     2.4920,-999.0000, -999.00
32OC19880723,       A16N,      30,          1,         99,     -999.0,9,19880729,       0705,    50.4733,   -20.0217,       4039,  4077.6,  34.9041,2,-999.0000,9,    239.4,2,  -999.0,9, -999.00,9, -999.00,9, -999.00,9, -999.00,9,-999.000,9,-999.000,9,-999.000,9,-999.0000,9, -999.00,9,-999.000,9,-999.000,   9.000,     2.5000,-999.0000, -999.00
32OC19880723,       A16N,      31,          1,          1,          1,2,19880729,       1148,    50.0767,   -19.9900,       4434,    10.4,  35.5240,2,  35.5300,2,    261.6,2,   261.9,2,    0.00,2, -999.00,9,    0.14,2,    0.25,2,   3.051,2,   1.460,2,-999.000,9,-999.0000,9, -999.00,9,-999.000,9,-999.000,-999.000,    13.7610,-999.0000, -999.00
32OC19880723,       A16N,      31,          1,          2,          2,2,19880729,       1148,    50.0767,   -19.9900,       4434,    36.6,  35.5358,2,  35.5350,2,    263.7,2,   261.0,2,    0.00,2, -999.00,9,    0.14,2,    0.28,2,   3.033,2,   1.423,2,-999.000,9,-999.0000,9, -999.00,9,-999.000,9,-999.000,   9.000,    13.7760,-999.0000, -999.00
32OC19880723,       A16N,      31,          1,          3,          3,2,19880729,       1148,    50.0767,   -19.9900,       4434,    66.6,  35.5296,2,  35.5250,2,    255.5,2,   256.2,2,    0.00,2, -999.00,9,    0.25,2,    0.30,2,   3.116,2,   1.552,2,-999.000,9,-999.0000,9, -999.00,9,-999.000,9,-999.000,-999.000,    13.4000,-999.0000, -999.00
32OC19880723,       A16N,      31,          1,          4,          4,2,19880729,       1148,    50.0767,   -19.9900,       4434,   106.9,  35.5267,2,  35.4920,2,    252.6,2,   253.5,2,    1.80,2, -999.00,9,    0.04,2,    0.57,2,   3.170,2,   1.488,2,-999.000,9,-999.0000,9, -999.00,9,-999.000,9,-999.000,   9.000,    11.5620,-999.0000, -999.00
32OC19880723,       A16N,      31,          1,          5,          5,2,19880729,       1148,    50.0767,   -19.9900,       4434,   207.6,  35.4294,2,  35.4270,2,    247.3,2,   244.8,2,    4.80,2, -999.00,9,    0.00,2,    0.78,2,   2.827,3,   1.358,3,-999.000,9,-999.0000,9, -999.00,9,-999.000,9,-999.000,-999.000,    10.7050,-999.0000, -999.00
32OC19880723,       A16N,      31,          1,          6,          6,2,19880729,       1148,    50.0767,   -19.9900,       4434,   308.4,  35.3242,2,  35.3290,2,    243.1,2,   250.0,2,    5.50,2, -999.00,9,    0.01,2,    0.81,2,   3.028,2,   1.398,2,-999.000,9,-999.0000,9, -999.00,9,-999.000,9,-999.000,   9.000,    10.0380,-999.0000, -999.00
32OC19880723,       A16N,      31,          1,          7,          7,2,19880729,       1148,    50.0767,   -19.9900,       4434,   409.1,  35.2534,2,  35.2290,2,    251.0,2,   247.4,2,    6.40,2, -999.00,9,    0.00,2,    0.86,2,   2.921,2,   1.355,2,-999.000,9,-999.0000,9, -999.00,9,-999.000,9,-999.000,-999.000,     9.3450,-999.0000, -999.00
32OC19880723,       A16N,      31,          1,          8,          8,2,19880729,       1148,    50.0767,   -19.9900,       4434,   509.5,  35.1390,2,  35.1110,2,    220.9,2,   218.7,2,    9.00,2, -999.00,9,    0.01,2,    1.09,2,   2.200,2,   0.973,2,-999.000,9,-999.0000,9, -999.00,9,-999.000,9,-999.000,   9.000,     8.3190,-999.0000, -999.00
32OC19880723,       A16N,      31,          1,          9,          9,2,19880729,       1148,    50.0767,   -19.9900,       4434,   608.3,  35.1516,2,  35.1870,2,    205.4,2,   205.6,2,    9.70,2, -999.00,9,    0.01,2,    1.11,2,   1.658,2,   0.725,2,-999.000,9,-999.0000,9, -999.00,9,-999.000,9,-999.000,-999.000,     8.0630,-999.0000, -999.00
32OC19880723,       A16N,      31,          1,         10,         10,2,19880729,       1148,    50.0767,   -19.9900,       4434,   708.1,  35.1928,2,  35.1480,2,    204.8,2,   205.6,2,   10.70,2, -999.00,9,    0.01,2,    1.17,2,   1.504,4,   0.594,4,-999.000,9,-999.0000,9, -999.00,9,-999.000,9,-999.000,   9.000,     7.1800,-999.0000, -999.00
32OC19880723,       A16N,      31,          1,         11,         11,2,19880729,       1148,    50.0767,   -19.9900,       4434,   809.5,  35.1920,2,  35.1150,2,    214.7,2,   217.7,2,   11.00,2, -999.00,9,    0.01,2,    1.18,2,   1.555,4,   0.644,4,-999.000,9,-999.0000,9, -999.00,9,-999.000,9,-999.000,-999.000,     6.3460,-999.0000, -999.00
32OC19880723,       A16N,      31,          1,         12,         12,2,19880729,       1148,    50.0767,   -19.9900,       4434,   910.5,  35.0902,2,  35.0440,2,    230.0,2,   232.5,2,   11.00,2, -999.00,9,    0.01,2,    1.17,2,   1.622,4,   0.642,4,-999.000,9,-999.0000,9, -999.00,9,-999.000,9,-999.000,   9.000,     5.4660,-999.0000, -999.00
32OC19880723,       A16N,      31,          1,         13,         13,2,19880729,       1148,    50.0767,   -19.9900,       4434,  1108.7,  34.9701,2,  34.9430,2,    256.7,2,   257.7,2,   10.60,2, -999.00,9,    0.01,2,    1.15,2,   1.920,2,   0.795,2,-999.000,9,-999.0000,9, -999.00,9,-999.000,9,-999.000,-999.000,     4.3970,-999.0000, -999.00
32OC19880723,       A16N,      31,          1,         14,         14,2,19880729,       1148,    50.0767,   -19.9900,       4434,  1405.1,  34.9190,2,  34.9260,2,    271.6,2,   270.7,2,   10.50,2, -999.00,9,    0.01,2,    1.09,2,-999.000,9,-999.000,9,-999.000,9,-999.0000,9, -999.00,9,-999.000,9,-999.000,   9.000,     3.9340,-999.0000, -999.00
32OC19880723,       A16N,      31,          1,         15,         15,2,19880729,       1148,    50.0767,   -19.9900,       4434,  1703.6,  34.9110,2,  34.9090,2,    274.5,2,   277.2,2,   10.70,2, -999.00,9,    0.01,2,    1.08,2,   1.223,2,   0.571,2,-999.000,9,-999.0000,9, -999.00,9,-999.000,9,-999.000,-999.000,     3.6550,-999.0000, -999.00
32OC19880723,       A16N,      31,          1,         16,         16,2,19880729,       1148,    50.0767,   -19.9900,       4434,  2010.0,  34.9305,2,  34.9310,2,    272.0,2,   273.3,2,   12.00,2, -999.00,9,    0.01,2,    1.08,2,-999.000,9,-999.000,9,-999.000,9,-999.0000,9, -999.00,9,-999.000,9,-999.000,   9.000,     3.5730,-999.0000, -999.00
32OC19880723,       A16N,      31,          1,         17,         17,2,19880729,       1148,    50.0767,   -19.9900,       4434,  2317.2,  34.9441,2,  34.9450,2,    270.9,2,   271.6,2,   13.70,2, -999.00,9,    0.01,2,    1.11,2,   0.645,2,   0.256,2,-999.000,9,-999.0000,9, -999.00,9,-999.000,9,-999.000,-999.000,     3.3790,-999.0000, -999.00
32OC19880723,       A16N,      31,          1,         18,         18,2,19880729,       1148,    50.0767,   -19.9900,       4434,  2625.1,  34.9521,2,  34.9530,2,    267.9,2,   267.6,2,   17.90,2, -999.00,9,    0.01,2,    1.12,2,   0.460,2,   0.184,2,-999.000,9,-999.0000,9, -999.00,9,-999.000,9,-999.000,   9.000,     3.1540,-999.0000, -999.00
32OC19880723,       A16N,      31,          1,         19,         19,2,19880729,       1148,    50.0767,   -19.9900,       4434,  2932.5,  34.9489,2,  34.9480,2,    259.6,2,   258.9,2,   25.50,2, -999.00,9,    0.01,2,    1.20,2,-999.000,9,-999.000,9,-999.000,9,-999.0000,9, -999.00,9,-999.000,9,-999.000,-999.000,     2.9160,-999.0000, -999.00
32OC19880723,       A16N,      31,          1,         20,         20,2,19880729,       1148,    50.0767,   -19.9900,       4434,  3237.5,  34.9384,2,  34.9370,2,    253.7,2,   252.9,2,   32.10,2, -999.00,9,    0.01,2,    1.28,2,   0.287,2,   0.116,2,-999.000,9,-999.0000,9, -999.00,9,-999.000,9,-999.000,   9.000,     2.7330,-999.0000, -999.00
32OC19880723,       A16N,      31,          1,         21,         21,2,19880729,       1148,    50.0767,   -19.9900,       4434,  3538.6,  34.9226,2,-999.0000,9,    246.9,2,   245.9,2,   39.10,2, -999.00,9,    0.01,2,    1.38,2,-999.000,9,-999.000,9,-999.000,9,-999.0000,9, -999.00,9,-999.000,9,-999.000,-999.000,     2.6020,-999.0000, -999.00
32OC19880723,       A16N,      31,          1,         22,         22,2,19880729,       1148,    50.0767,   -19.9900,       4434,  3835.9,  34.9112,2,  34.9100,2,    244.2,2,   243.3,2,   42.20,2, -999.00,9,    0.01,2,    1.39,2,   0.104,2,   0.021,2,-999.000,9,-999.0000,9, -999.00,9,-999.000,9,-999.000,   9.000,     2.5420,-999.0000, -999.00
32OC19880723,       A16N,      31,          1,         23,         23,2,19880729,       1148,    50.0767,   -19.9900,       4434,  4138.7,  34.9067,2,  34.9050,2,    243.0,2,   242.4,2,   43.80,2, -999.00,9,    0.01,2,    1.43,2,   0.238,2,   0.025,4,-999.000,9,-999.0000,9, -999.00,9,-999.000,9,-999.000,-999.000,     2.5250,-999.0000, -999.00
32OC19880723,       A16N,      31,          1,         24,         24,2,19880729,       1148,    50.0767,   -19.9900,       4434,  4510.4,  34.9056,2,  34.9040,2,    242.9,2,   243.7,2,   44.90,2, -999.00,9,    0.01,2,    1.45,2,   0.086,4,   0.079,2,-999.000,9,-999.0000,9, -999.00,9,-999.000,9,-999.000,   9.000,     2.5510,-999.0000, -999.00
32OC19880723,       A16N,      31,          1,         99,     -999.0,9,19880729,       1148,    50.0767,   -19.9900,       4434,  4512.7,  34.9056,2,-999.0000,9,    243.1,2,  -999.0,9, -999.00,9, -999.00,9, -999.00,9, -999.00,9,-999.000,9,-999.000,9,-999.000,9,-999.0000,9, -999.00,9,-999.000,9,-999.000,-999.000,     2.5510,-999.0000, -999.00