BOTTLE,20220922CCHSIOAMB
EXPOCODE,SECT_ID,STNNBR,CASTNO,SAMPNO,BTLNBR,BTLNBR_FLAG_W,DATE,TIME,LATITUDE,LONGITUDE,DEPTH,CTDPRS,CTDSAL,CTDSAL_FLAG_W,SALNTY,SALNTY_FLAG_W,CTDOXY,CTDOXY_FLAG_W,OXYGEN,OXYGEN_FLAG_W,SILCAT,SILCAT_FLAG_W,NITRAT,NITRAT_FLAG_W,NITRIT,NITRIT_FLAG_W,PHSPHT,PHSPHT_FLAG_W,CFC-11,CFC-11_FLAG_W,CFC-12,CFC-12_FLAG_W,TRITUM,TRITUM_FLAG_W,HELIUM,HELIUM_FLAG_W,DELHE3,DELHE3_FLAG_W,NEON,NEON_FLAG_W,NEONER,TRITER,CTDTMP,HELIER,DELHER
,,,,,,,,,,,METERS,DBAR,PSS-78,,PSS-78,,UMOL/KG,,UMOL/KG,,UMOL/KG,,UMOL/KG,,UMOL/KG,,UMOL/KG,,PMOL/KG,,PMOL/KG,,TU,,NMOL/KG,,PERCNT,,NMOL/KG,,NMOL/KG,TU,IPTS-68,NMOL/KG,PERCNT
32OC19880723,       A16N,     123,          1,          1,          1,2,19880824,       0635,    -2.6300,   -24.9967,       5431,    13.1,  35.9711,2,  35.9760,2,    204.7,2,   205.4,2,    0.80,2,    0.00,2,    0.00,2,    0.35,2,-999.000,9,-999.000,9,-999.000,9,-999.0000,9, -999.00,9,-999.000,9,-999.000,   9.000,    25.8280,-999.0000, -999.00
32OC19880723,       A16N,     123,          1,          2,          2,2,19880824,       0635,    -2.6300,   -24.9967,       5431,    38.4,  35.9721,2,  35.9770,2,    205.5,2,   205.0,2,    0.80,2,    0.20,2,    0.00,2,    0.33,2,-999.000,9,-999.000,9,-999.000,9,-999.0000,9, -999.00,9,-999.000,9,-999.000,-999.000,    25.8250,-999.0000, -999.00
32OC19880723,       A16N,     123,          1,          3,          3,2,19880824,       0635,    -2.6300,   -24.9967,       5431,    69.0,  36.0431,2,  36.0430,2,    204.2,2,   202.8,2,    0.80,2,    0.50,2,    0.00,2,    0.38,2,-999.000,9,-999.000,9,-999.000,9,-999.0000,9, -999.00,9,-999.000,9,-999.000,   9.000,    25.5100,-999.0000, -999.00
32OC19880723,       A16N,     123,          1,          4,          4,2,19880824,       0635,    -2.6300,   -24.9967,       5431,    88.4,  36.0828,2,  35.9410,3,    156.1,2,   138.0,2,    3.40,2,   11.60,2,    0.33,2,    1.07,2,-999.000,9,-999.000,9,-999.000,9,-999.0000,9, -999.00,9,-999.000,9,-999.000,-999.000,    19.0300,-999.0000, -999.00
32OC19880723,       A16N,     123,          1,          5,          5,2,19880824,       0635,    -2.6300,   -24.9967,       5431,   108.3,  35.5750,2,  35.5400,2,    103.6,2,   101.4,2,    6.10,2,   20.50,2,    0.05,2,    1.51,2,-999.000,9,-999.000,9,-999.000,9,-999.0000,9, -999.00,9,-999.000,9,-999.000,   9.000,    15.1440,-999.0000, -999.00
32OC19880723,       A16N,     123,          1,          6,          6,2,19880824,       0635,    -2.6300,   -24.9967,       5431,   158.3,  35.3453,2,  35.3540,2,    100.2,2,   101.4,2,    7.50,2,   22.70,2,    0.02,2,    1.67,2,-999.000,9,-999.000,9,-999.000,9,-999.0000,9, -999.00,9,-999.000,9,-999.000,-999.000,    13.5540,-999.0000, -999.00
32OC19880723,       A16N,     123,          1,          7,          7,2,19880824,       0635,    -2.6300,   -24.9967,       5431,   208.4,  35.2394,2,  35.2530,2,     95.2,2,    97.9,2,    8.80,2,   24.30,2,    0.00,2,    1.73,2,-999.000,9,-999.000,9,-999.000,9,-999.0000,9, -999.00,9,-999.000,9,-999.000,   9.000,    12.8050,-999.0000, -999.00
32OC19880723,       A16N,     123,          1,          8,          8,2,19880824,       0635,    -2.6300,   -24.9967,       5431,   258.6,  35.1481,2,  35.1590,2,     94.3,2,    95.3,2,    9.70,2,   25.90,2,    0.01,2,    1.83,2,-999.000,9,-999.000,9,-999.000,9,-999.0000,9, -999.00,9,-999.000,9,-999.000,-999.000,    12.0640,-999.0000, -999.00
32OC19880723,       A16N,     123,          1,          9,          9,2,19880824,       0635,    -2.6300,   -24.9967,       5431,   308.7,  35.0589,2,  35.0590,2,     85.6,2,    83.5,2,   11.40,2,   28.70,2,    0.00,2,    1.98,2,-999.000,9,-999.000,9,-999.000,9,-999.0000,9, -999.00,9,-999.000,9,-999.000,   9.000,    11.2020,-999.0000, -999.00
32OC19880723,       A16N,     123,          1,         10,         10,2,19880824,       0635,    -2.6300,   -24.9967,       5431,   409.3,  34.8755,2,  34.8460,2,     78.5,2,    77.0,2,   15.10,2,   32.50,2,    0.00,2,    2.32,2,-999.000,9,-999.000,9,-999.000,9,-999.0000,9, -999.00,9,-999.000,9,-999.000,-999.000,     9.2900,-999.0000, -999.00
32OC19880723,       A16N,     123,          1,         11,         11,2,19880824,       0635,    -2.6300,   -24.9967,       5431,   609.8,  34.4765,2,  34.4740,2,    145.5,2,   156.5,2,   25.40,2,   32.70,2,    0.00,2,    2.40,2,-999.000,9,-999.000,9,-999.000,9,-999.0000,9, -999.00,9,-999.000,9,-999.000,   9.000,     5.3970,-999.0000, -999.00
32OC19880723,       A16N,     123,          1,         12,         12,2,19880824,       0635,    -2.6300,   -24.9967,       5431,   810.2,  34.4607,2,  34.4670,2,    159.1,2,   166.9,2,   31.30,2,   33.00,2,    0.01,2,    2.44,2,-999.000,9,-999.000,9,-999.000,9,-999.0000,9, -999.00,9,-999.000,9,-999.000,-999.000,     4.5120,-999.0000, -999.00
32OC19880723,       A16N,     123,          1,         13,         13,2,19880824,       0635,    -2.6300,   -24.9967,       5431,  1010.5,  34.5713,2,  34.5800,2,    155.6,2,   159.1,2,   32.50,2,   32.40,2,    0.01,2,    2.44,2,-999.000,9,-999.000,9,-999.000,9,-999.0000,9, -999.00,9,-999.000,9,-999.000,   9.000,     4.3170,-999.0000, -999.00
32OC19880723,       A16N,     123,          1,         14,         14,2,19880824,       0635,    -2.6300,   -24.9967,       5431,  1310.2,  34.8970,2,  34.9010,2,    201.2,2,   207.7,2,   21.00,2,   24.30,2,    0.01,2,    1.80,2,-999.000,9,-999.000,9,-999.000,9,-999.0000,9, -999.00,9,-999.000,9,-999.000,-999.000,     4.4230,-999.0000, -999.00
32OC19880723,       A16N,     123,          1,         15,         15,2,19880824,       0635,    -2.6300,   -24.9967,       5431,  1713.0,  34.9687,2,  34.9720,2,    246.6,2,   249.8,2,   18.10,2,   19.70,2,    0.02,2,    1.47,2,-999.000,9,-999.000,9,-999.000,9,-999.0000,9, -999.00,9,-999.000,9,-999.000,   9.000,     3.7580,-999.0000, -999.00
32OC19880723,       A16N,     123,          1,         16,         16,2,19880824,       0635,    -2.6300,   -24.9967,       5431,  2118.1,  34.9524,2,  34.9520,2,    253.2,2,   253.3,2,   23.30,2,   20.00,2,    0.02,2,    1.54,2,-999.000,9,-999.000,9,-999.000,9,-999.0000,9, -999.00,9,-999.000,9,-999.000,-999.000,     3.2860,-999.0000, -999.00
32OC19880723,       A16N,     123,          1,         17,         17,2,19880824,       0635,    -2.6300,   -24.9967,       5431,  2573.0,  34.9251,2,  34.9250,2,    249.4,2,   248.1,2,   32.00,2,   21.10,2,    0.00,2,    1.58,2,-999.000,9,-999.000,9,-999.000,9,-999.0000,9, -999.00,9,-999.000,9,-999.000,   9.000,     2.8930,-999.0000, -999.00
32OC19880723,       A16N,     123,          1,         18,         18,2,19880824,       0635,    -2.6300,   -24.9967,       5431,  3030.4,  34.9105,2,  34.9090,2,    251.1,2,   249.0,2,   36.40,2,   21.20,2,    0.00,2,    1.64,2,-999.000,9,-999.000,9,-999.000,9,-999.0000,9, -999.00,9,-999.000,9,-999.000,-999.000,     2.6380,-999.0000, -999.00
32OC19880723,       A16N,     123,          1,         19,         19,2,19880824,       0635,    -2.6300,   -24.9967,       5431,  3488.7,  34.9091,2,  34.9080,2,    260.3,2,   259.8,2,   32.60,2,   20.10,2,    0.01,2,    1.52,2,-999.000,9,-999.000,9,-999.000,9,-999.0000,9, -999.00,9,-999.000,9,-999.000,   9.000,     2.5060,-999.0000, -999.00
32OC19880723,       A16N,     123,          1,         20,         20,2,19880824,       0635,    -2.6300,   -24.9967,       5431,  3946.8,  34.8725,2,  34.8730,2,    258.4,2,   257.6,2,   44.10,2,   21.60,2,    0.01,2,    1.65,2,-999.000,9,-999.000,9,-999.000,9,-999.0000,9, -999.00,9,-999.000,9,-999.000,-999.000,     2.1140,-999.0000, -999.00
32OC19880723,       A16N,     123,          1,         21,         21,2,19880824,       0635,    -2.6300,   -24.9967,       5431,  4404.8,  34.7555,2,  34.7580,2,    231.8,2,   231.6,2,   93.30,2,   28.40,2,    0.00,2,    2.19,2,-999.000,9,-999.000,9,-999.000,9,-999.0000,9, -999.00,9,-999.000,9,-999.000,   9.000,     1.0730,-999.0000, -999.00
32OC19880723,       A16N,     123,          1,         22,         22,2,19880824,       0635,    -2.6300,   -24.9967,       5431,  4864.8,  34.7160,2,  34.7140,2,    224.2,2,   224.6,2,  108.00,2,   30.60,2,    0.00,2,    2.35,2,-999.000,9,-999.000,9,-999.000,9,-999.0000,9, -999.00,9,-999.000,9,-999.000,-999.000,     0.7640,-999.0000, -999.00
32OC19880723,       A16N,     123,          1,         23,         23,2,19880824,       0635,    -2.6300,   -24.9967,       5431,  5274.3,  34.7042,2,  34.7050,2,    222.7,2,   223.3,2,  112.80,2,   31.00,2,    0.02,2,    2.38,2,-999.000,9,-999.000,9,-999.000,9,-999.0000,9, -999.00,9,-999.000,9,-999.000,   9.000,     0.6910,-999.0000, -999.00
32OC19880723,       A16N,     123,          1,         24,         24,2,19880824,       0635,    -2.6300,   -24.9967,       5431,  5525.0,  34.7023,2,  34.7040,2,    222.2,2,   222.9,2,  113.50,2,   31.00,2,    0.02,2,    2.41,2,-999.000,9,-999.000,9,-999.000,9,-999.0000,9, -999.00,9,-999.000,9,-999.000,-999.000,     0.7020,-999.0000, -999.00
32OC19880723,       A16N,     123,          1,         99,     -999.0,9,19880824,       0635,    -2.6300,   -24.9967,       5431,  5526.3,  34.7022,2,-999.0000,9,    222.2,2,  -999.0,9, -999.00,9, -999.00,9, -999.00,9, -999.00,9,-999.000,9,-999.000,9,-999.000,9,-999.0000,9, -999.00,9,-999.000,9,-999.000,   9.000,     0.7020,-999.0000, -999.00
32OC19880723,       A16N,     124,          1,          1,          1,2,19880824,       1241,    -3.0283,   -24.9800,       5540,    13.4,  35.9692,2,  35.9660,2,    205.6,2,   205.0,2,    0.70,2,    0.00,2,    0.00,2,    0.32,2,   1.583,2,   0.802,2,   0.909,2,   1.7036,2,   -1.41,2,-999.000,9,  -7.493,   0.035,    25.7010,   0.0119,    0.18
32OC19880723,       A16N,     124,          1,          2,          2,2,19880824,       1241,    -3.0283,   -24.9800,       5540,    38.3,  35.9691,2,  35.9660,2,    203.6,2,   205.0,2,    0.80,2,    0.10,2,    0.00,2,    0.33,2,   1.497,2,   0.761,2,-999.000,9,   1.7071,2,   -1.33,2,-999.000,9,  -7.493,-999.000,    25.7080,   0.0119,    0.18
32OC19880723,       A16N,     124,          1,          3,          3,2,19880824,       1241,    -3.0283,   -24.9800,       5540,    68.8,  36.2064,2,  36.0990,2,    199.7,2,   201.5,2,    0.80,2,    0.20,2,    0.02,2,    0.35,2,   1.557,2,   0.776,2,   0.974,2,   1.7047,2,   -1.37,2,-999.000,9,  -7.493,   0.034,    25.1810,   0.0119,    0.18
32OC19880723,       A16N,     124,          1,          4,          4,2,19880824,       1241,    -3.0283,   -24.9800,       5540,   108.2,  35.4604,2,  35.4120,2,    105.3,2,   106.6,2,    7.00,2,   22.20,2,    0.00,2,    1.64,2,   0.886,4,   0.381,4,   0.626,2,   1.7596,2,    1.15,2,-999.000,9,  -7.493,   0.032,    13.9920,   0.0123,    0.18
32OC19880723,       A16N,     124,          1,          5,          5,2,19880824,       1241,    -3.0283,   -24.9800,       5540,   158.0,  35.3147,2,  35.3030,2,    101.7,2,   101.8,2,    8.20,2,   23.90,2,    0.00,2,    1.72,2,   0.737,4,   0.323,4,   0.470,2,   1.7657,2,    1.37,2,-999.000,9,  -7.493,   0.029,    13.1330,   0.0124,    0.18
32OC19880723,       A16N,     124,          1,          6,          6,2,19880824,       1241,    -3.0283,   -24.9800,       5540,   208.5,  35.2402,2,-999.0000,9,     97.9,2,    96.1,2,    9.10,2,   25.90,2,    0.00,2,    1.83,2,   0.589,2,   0.280,2,   0.449,2,   1.7628,2,    1.41,2,-999.000,9,  -7.493,   0.029,    12.6270,   0.0123,    0.18
32OC19880723,       A16N,     124,          1,          7,          7,2,19880824,       1241,    -3.0283,   -24.9800,       5540,   258.1,  35.1494,2,  35.1260,2,     88.7,2,    87.4,2,   10.60,2,   28.00,2,    0.00,2,    1.95,2,   0.480,4,   0.202,4,   0.346,2,   1.7853,2,    1.27,2,-999.000,9,  -7.493,   0.028,    11.7890,   0.0125,    0.18
32OC19880723,       A16N,     124,          1,          8,          8,2,19880824,       1241,    -3.0283,   -24.9800,       5540,   307.7,  35.0412,2,  35.0280,2,     85.2,2,    79.2,2,   12.00,2,   30.80,2,    0.00,2,    2.10,2,   0.354,2,   0.152,2,   0.306,2,   1.7758,2,    1.15,2,-999.000,9,  -7.493,   0.028,    10.9290,   0.0124,    0.18
32OC19880723,       A16N,     124,          1,          9,          9,2,19880824,       1241,    -3.0283,   -24.9800,       5540,   408.4,  34.8013,2,  34.7670,2,     80.4,2,    77.8,2,   17.20,2,   35.80,2,    0.00,2,    2.45,2,   0.106,2,   0.046,2,   0.102,2,   1.7939,2,    0.44,2,   7.660,2,   0.057,   0.025,     8.5190,   0.0126,    0.18
32OC19880723,       A16N,     124,          1,         10,         10,2,19880824,       1241,    -3.0283,   -24.9800,       5540,   509.0,  34.6091,2,  34.6010,2,    109.0,2,   114.8,2,   20.70,2,   35.50,2,    0.00,2,    2.48,2,   0.114,2,   0.039,2,   0.079,2,   1.7966,2,    0.56,2,   7.768,2,   0.058,   0.029,     6.8480,   0.0126,    0.18
32OC19880723,       A16N,     124,          1,         11,         11,2,19880824,       1241,    -3.0283,   -24.9800,       5540,   760.2,  34.4778,2,  34.4770,2,    139.7,2,   146.9,2,   29.90,2,   35.80,2,    0.00,2,    2.58,2,   0.055,2,   0.002,7,-999.000,9,   1.8165,2,    1.75,2,-999.000,9,  -7.493,   9.000,     4.8260,   0.0127,    0.18
32OC19880723,       A16N,     124,          1,         12,         12,2,19880824,       1241,    -3.0283,   -24.9800,       5540,  1010.5,  34.5762,2,  34.5790,2,    156.9,2,   163.0,2,   32.80,2,   33.60,2,    0.00,2,    2.50,2,  -0.003,2,   0.002,7,   0.001,2,   1.8215,2,    2.25,2,-999.000,9,  -7.493,   0.023,     4.2610,   0.0128,    0.18
32OC19880723,       A16N,     124,          1,         13,         13,2,19880824,       1241,    -3.0283,   -24.9800,       5540,  1313.7,  34.8581,2,  34.8550,2,    191.7,2,   195.1,2,   23.70,2,   27.40,2,    0.00,2,    1.98,2,   0.005,2,   0.005,7,   0.009,2,   1.8295,2,    1.31,2,-999.000,9,  -7.493,   0.020,     4.3750,   0.0128,    0.18
32OC19880723,       A16N,     124,          1,         14,         14,2,19880824,       1241,    -3.0283,   -24.9800,       5540,  1617.3,  34.9689,2,  34.9660,2,    240.5,2,   242.9,2,   18.40,2,   21.40,2,    0.00,2,    1.57,2,   0.017,2,   0.005,7,-999.000,9,-999.0000,9, -999.00,9,-999.000,9,-999.000,-999.000,     3.8820,-999.0000, -999.00
32OC19880723,       A16N,     124,          1,         15,         15,2,19880824,       1241,    -3.0283,   -24.9800,       5540,  2022.0,  34.9639,2,  34.9620,2,    254.3,2,   255.0,2,   20.50,2,   20.60,2,    0.00,2,    1.50,2,   0.008,2,   0.012,2,-999.000,9,-999.0000,9, -999.00,9,-999.000,9,-999.000,   9.000,     3.4230,-999.0000, -999.00
32OC19880723,       A16N,     124,          1,         16,         16,2,19880824,       1241,    -3.0283,   -24.9800,       5540,  2427.3,  34.9341,2,  34.9300,2,    249.4,2,   248.5,2,   30.10,2,   21.90,2,    0.00,2,    1.58,2,  -0.017,2,  -0.001,2,-999.000,9,-999.0000,9, -999.00,9,-999.000,9,-999.000,-999.000,     2.9950,-999.0000, -999.00
32OC19880723,       A16N,     124,          1,         17,         17,2,19880824,       1241,    -3.0283,   -24.9800,       5540,  2883.9,  34.9162,2,  34.9130,2,    248.7,2,   246.8,2,   35.90,2,   22.20,2,    0.01,2,    1.61,2,   0.012,2,   0.002,7,-999.000,9,-999.0000,9, -999.00,9,-999.000,9,-999.000,   9.000,     2.7160,-999.0000, -999.00
32OC19880723,       A16N,     124,          1,         18,         18,2,19880824,       1241,    -3.0283,   -24.9800,       5540,  3342.0,  34.9101,2,  34.9070,2,    253.0,2,   252.4,2,   35.70,2,   21.80,2,    0.01,2,    1.58,2,   0.031,2,   0.002,7,-999.000,9,-999.0000,9, -999.00,9,-999.000,9,-999.000,-999.000,     2.5740,-999.0000, -999.00
32OC19880723,       A16N,     124,          1,         19,         19,2,19880824,       1241,    -3.0283,   -24.9800,       5540,  3801.3,  34.9041,2,  34.9000,2,    262.4,2,   262.0,2,   33.50,2,   20.70,2,    0.01,2,    1.53,2,   0.014,6,   0.010,6,-999.000,9,-999.0000,9, -999.00,9,-999.000,9,-999.000,   9.000,     2.3780,-999.0000, -999.00
32OC19880723,       A16N,     124,          1,         20,         20,2,19880824,       1241,    -3.0283,   -24.9800,       5540,  4261.2,  34.7861,2,  34.7840,2,    237.6,2,   236.8,2,   73.20,2,   27.80,2,    0.02,2,    2.04,2,  -0.011,2,   0.004,6,-999.000,9,-999.0000,9, -999.00,9,-999.000,9,-999.000,-999.000,     1.3360,-999.0000, -999.00
32OC19880723,       A16N,     124,          1,         21,         21,2,19880824,       1241,    -3.0283,   -24.9800,       5540,  4722.3,  34.7235,2,  34.7230,2,    224.1,2,   224.6,2,  105.90,2,   31.20,2,    0.02,2,    2.35,2,   0.028,2,   0.004,6,-999.000,9,-999.0000,9, -999.00,9,-999.000,9,-999.000,   9.000,     0.8130,-999.0000, -999.00
32OC19880723,       A16N,     124,          1,         22,         22,2,19880824,       1241,    -3.0283,   -24.9800,       5540,  5183.8,  34.7090,2,  34.7090,2,    221.6,2,   222.5,2,  111.20,2,   32.30,2,    0.02,2,    2.38,2,   0.012,2,   0.002,6,-999.000,9,-999.0000,9, -999.00,9,-999.000,9,-999.000,-999.000,     0.7230,-999.0000, -999.00
32OC19880723,       A16N,     124,          1,         23,         23,2,19880824,       1241,    -3.0283,   -24.9800,       5540,  5440.3,  34.7034,2,  34.7020,2,    221.2,2,   221.6,2,  112.90,2,   32.40,2,    0.03,2,    2.38,2,   0.022,2,   0.005,7,-999.000,9,-999.0000,9, -999.00,9,-999.000,9,-999.000,   9.000,     0.6960,-999.0000, -999.00
32OC19880723,       A16N,     124,          1,         24,         24,2,19880824,       1241,    -3.0283,   -24.9800,       5540,  5641.6,  34.7022,2,  34.7030,2,    220.7,2,   221.2,2,  113.90,2,   32.40,2,    0.03,2,    2.40,2,  -0.002,6,   0.004,6,-999.000,9,-999.0000,9, -999.00,9,-999.000,9,-999.000,-999.000,     0.7060,-999.0000, -999.00
32OC19880723,       A16N,     124,          1,         99,     -999.0,9,19880824,       1241,    -3.0283,   -24.9800,       5540,  5643.0,  34.7022,2,-999.0000,9,    220.7,2,  -999.0,9, -999.00,9, -999.00,9, -999.00,9, -999.00,9,-999.000,9,-999.000,9,-999.000,9,-999.0000,9, -999.00,9,-999.000,9,-999.000,   9.000,     0.7050,-999.0000, -999.00