BOTTLE,20220922CCHSIOAMB
EXPOCODE,SECT_ID,STNNBR,CASTNO,SAMPNO,BTLNBR,BTLNBR_FLAG_W,DATE,TIME,LATITUDE,LONGITUDE,DEPTH,CTDPRS,CTDSAL,CTDSAL_FLAG_W,SALNTY,SALNTY_FLAG_W,CTDOXY,CTDOXY_FLAG_W,OXYGEN,OXYGEN_FLAG_W,SILCAT,SILCAT_FLAG_W,NITRAT,NITRAT_FLAG_W,NITRIT,NITRIT_FLAG_W,PHSPHT,PHSPHT_FLAG_W,CFC-11,CFC-11_FLAG_W,CFC-12,CFC-12_FLAG_W,TRITUM,TRITUM_FLAG_W,HELIUM,HELIUM_FLAG_W,DELHE3,DELHE3_FLAG_W,NEON,NEON_FLAG_W,NEONER,TRITER,CTDTMP,HELIER,DELHER
,,,,,,,,,,,METERS,DBAR,PSS-78,,PSS-78,,UMOL/KG,,UMOL/KG,,UMOL/KG,,UMOL/KG,,UMOL/KG,,UMOL/KG,,PMOL/KG,,PMOL/KG,,TU,,NMOL/KG,,PERCNT,,NMOL/KG,,NMOL/KG,TU,IPTS-68,NMOL/KG,PERCNT
32OC19880723,       A16N,     121,          1,          1,          1,2,19880823,       2012,    -1.5033,   -24.9967,       4743,    11.9,  36.1668,2,  36.1560,2,    201.4,2,   204.1,2,    0.60,2,    0.00,2,    0.01,2,    0.20,2,   1.540,2,   0.770,2,   0.936,2,   1.6976,2,   -1.28,2,-999.000,9,  -7.493,   0.036,    25.8320,   0.0119,    0.18
32OC19880723,       A16N,     121,          1,          2,          2,2,19880823,       2012,    -1.5033,   -24.9967,       4743,    37.4,  36.1597,2,  36.1500,2,    201.3,2,   203.2,2,    0.60,2,    0.00,2,    0.02,2,    0.21,2,   1.519,2,   0.787,2,-999.000,9,   1.7070,2,   -1.40,2,-999.000,9,  -7.493,-999.000,    25.6770,   0.0119,    0.18
32OC19880723,       A16N,     121,          1,          3,          3,2,19880823,       2012,    -1.5033,   -24.9967,       4743,    68.2,  36.1680,2,  36.1490,2,    198.0,2,   199.3,2,    0.60,2,    0.40,2,    0.07,2,    0.22,2,   1.510,2,   0.726,2,   0.896,2,   1.6973,2,   -1.42,2,-999.000,9,  -7.493,   0.036,    25.3980,   0.0119,    0.18
32OC19880723,       A16N,     121,          1,          4,          4,2,19880823,       2012,    -1.5033,   -24.9967,       4743,    87.8,  36.1739,2,  36.2540,2,    163.3,2,   179.1,2,    1.30,2,    2.60,2,    0.33,2,    0.43,2,   1.498,2,   0.732,2,   0.896,2,   1.7065,2,   -0.79,2,-999.000,9,  -7.493,   0.031,    23.6520,   0.0119,    0.18
32OC19880723,       A16N,     121,          1,          5,          5,2,19880823,       2012,    -1.5033,   -24.9967,       4743,   107.4,  35.7031,2,  35.7400,2,    133.1,2,   128.8,2,    4.60,2,   15.10,2,    0.07,2,    1.08,2,   1.158,2,   0.544,2,   0.702,2,   1.7390,2,    0.35,2,-999.000,9,  -7.493,   0.033,    16.6670,   0.0122,    0.18
32OC19880723,       A16N,     121,          1,          6,          6,2,19880823,       2012,    -1.5033,   -24.9967,       4743,   157.1,  35.3628,2,  35.3620,2,    140.1,2,   138.3,2,    6.60,2,   18.50,2,    0.02,2,    1.24,2,   0.979,2,   0.487,2,-999.000,9,   1.7473,2,    1.07,2,-999.000,9,  -7.493,   9.000,    13.6700,   0.0122,    0.18
32OC19880723,       A16N,     121,          1,          7,          7,2,19880823,       2012,    -1.5033,   -24.9967,       4743,   207.4,  35.3144,2,  35.3170,2,    125.5,2,   123.5,2,    7.30,2,   20.90,2,    0.00,2,    1.34,2,   0.871,2,   0.397,2,   0.582,2,   1.7640,2,    1.07,2,-999.000,9,  -7.493,   0.028,    13.3020,   0.0123,    0.18
32OC19880723,       A16N,     121,          1,          8,          8,2,19880823,       2012,    -1.5033,   -24.9967,       4743,   257.4,  35.2416,2,  35.2470,2,    107.4,2,   104.0,2,    8.70,2,   23.90,2,    0.01,2,    1.51,2,   0.719,4,   0.298,4,   0.479,2,-999.0000,9, -999.00,9,-999.000,9,-999.000,   0.031,    12.7650,-999.0000, -999.00
32OC19880723,       A16N,     121,          1,          9,          9,2,19880823,       2012,    -1.5033,   -24.9967,       4743,   307.5,  35.1212,2,  35.1150,2,     98.7,2,    92.6,2,   10.30,2,   27.10,2,    0.01,2,    1.68,2,   0.499,4,   0.206,4,   0.343,2,   1.7698,2,    1.18,2,-999.000,9,  -7.493,   0.027,    11.6690,   0.0124,    0.18
32OC19880723,       A16N,     121,          1,         10,         10,2,19880823,       2012,    -1.5033,   -24.9967,       4743,   407.8,  34.8129,2,  34.8140,2,    117.0,2,   113.1,2,   14.60,2,   30.00,2,    0.01,2,    1.87,2,   0.354,4,   0.118,4,   0.206,2,   1.7867,2,    1.11,2,-999.000,9,  -7.493,   0.025,     9.0200,   0.0125,    0.18
32OC19880723,       A16N,     121,          1,         11,         11,2,19880823,       2012,    -1.5033,   -24.9967,       4743,   608.4,  34.4879,2,  34.4890,2,    153.2,2,   153.0,2,   26.80,2,   33.40,2,    0.01,2,    2.21,2,   0.080,2,   0.011,2,   0.060,2,   1.8084,2,    1.44,2,-999.000,9,  -7.493,   0.022,     5.2560,   0.0127,    0.18
32OC19880723,       A16N,     121,          1,         12,         12,2,19880823,       2012,    -1.5033,   -24.9967,       4743,   809.5,  34.5018,2,  34.5000,2,    146.2,2,   149.5,2,   29.30,2,   34.10,2,    0.01,2,    2.27,2,   0.013,2,   0.005,7,  -0.002,2,-999.0000,9, -999.00,9,-999.000,9,-999.000,   0.021,     4.9300,-999.0000, -999.00
32OC19880723,       A16N,     121,          1,         13,         13,2,19880823,       2012,    -1.5033,   -24.9967,       4743,  1009.8,  34.6189,2,  34.5940,2,    163.3,2,   159.1,2,   32.60,2,   32.60,2,    0.01,2,    2.20,2,  -0.013,2,   0.002,7,   0.001,2,   1.8159,2,    1.89,2,-999.000,9,  -7.493,   0.021,     4.2970,   0.0127,    0.18
32OC19880723,       A16N,     121,          1,         14,         14,2,19880823,       2012,    -1.5033,   -24.9967,       4743,  1261.9,  34.8776,2,  34.8750,2,    192.6,2,   197.7,2,   22.20,2,   25.70,2,    0.01,2,    1.68,2,  -0.005,2,   0.005,7,-999.000,9,-999.0000,9, -999.00,9,-999.000,9,-999.000,-999.000,     4.4880,-999.0000, -999.00
32OC19880723,       A16N,     121,          1,         15,         15,2,19880823,       2012,    -1.5033,   -24.9967,       4743,  1514.2,  34.9644,2,  34.9610,2,    230.1,2,   231.6,2,   17.90,2,   21.60,2,    0.01,2,    1.39,2,   0.004,2,   0.008,7,-999.000,9,-999.0000,9, -999.00,9,-999.000,9,-999.000,   9.000,     4.1860,-999.0000, -999.00
32OC19880723,       A16N,     121,          1,         16,         16,2,19880823,       2012,    -1.5033,   -24.9967,       4743,  1817.5,  34.9845,2,  34.9790,2,    250.1,2,   250.7,2,   16.90,2,   19.70,2,    0.01,2,    1.28,2,   0.012,2,   0.014,2,-999.000,9,-999.0000,9, -999.00,9,-999.000,9,-999.000,-999.000,     3.8730,-999.0000, -999.00
32OC19880723,       A16N,     121,          1,         17,         17,2,19880823,       2012,    -1.5033,   -24.9967,       4743,  2222.7,  34.9504,2,  34.9500,2,    252.8,2,   252.0,2,   24.80,2,   20.30,2,    0.01,2,    1.34,2,  -0.006,2,   0.002,7,-999.000,9,-999.0000,9, -999.00,9,-999.000,9,-999.000,   9.000,     3.2180,-999.0000, -999.00
32OC19880723,       A16N,     121,          1,         18,         18,2,19880823,       2012,    -1.5033,   -24.9967,       4743,  2627.5,  34.9334,2,  34.9260,2,    251.6,2,   250.3,2,   30.20,2,   20.80,2,    0.01,2,    1.37,2,   0.010,2,   0.002,7,-999.000,9,-999.0000,9, -999.00,9,-999.000,9,-999.000,-999.000,     2.9370,-999.0000, -999.00
32OC19880723,       A16N,     121,          1,         19,         19,2,19880823,       2012,    -1.5033,   -24.9967,       4743,  3032.0,  34.9142,2,  34.9120,2,    249.1,2,   248.5,2,   36.30,2,   21.40,2,    0.01,2,    1.41,2,  -0.021,2,   0.005,7,-999.000,9,-999.0000,9, -999.00,9,-999.000,9,-999.000,   9.000,     2.6660,-999.0000, -999.00
32OC19880723,       A16N,     121,          1,         20,         20,2,19880823,       2012,    -1.5033,   -24.9967,       4743,  3438.9,  34.9057,2,  34.9050,2,    252.9,2,   252.9,2,   36.70,2,   20.90,2,    0.00,2,    1.40,2,  -0.016,2,   0.002,7,-999.000,9,-999.0000,9, -999.00,9,-999.000,9,-999.000,-999.000,     2.5210,-999.0000, -999.00
32OC19880723,       A16N,     121,          1,         21,         21,2,19880823,       2012,    -1.5033,   -24.9967,       4743,  3846.7,  34.9002,2,  34.8990,2,    260.8,2,   262.4,2,   33.80,2,   20.00,2,    0.01,2,    1.32,2,   0.025,2,   0.008,7,-999.000,9,-999.0000,9, -999.00,9,-999.000,9,-999.000,   9.000,     2.3470,-999.0000, -999.00
32OC19880723,       A16N,     121,          1,         22,         22,2,19880823,       2012,    -1.5033,   -24.9967,       4743,  4254.7,  34.8039,2,  34.8030,2,    241.4,2,   240.3,2,   73.30,2,   25.80,2,    0.01,2,    1.74,2,  -0.001,2,   0.005,7,-999.000,9,-999.0000,9, -999.00,9,-999.000,9,-999.000,-999.000,     1.5020,-999.0000, -999.00
32OC19880723,       A16N,     121,          1,         23,         23,2,19880823,       2012,    -1.5033,   -24.9967,       4743,  4662.7,  34.7278,2,  34.7280,2,    224.2,2,   224.2,2,  103.50,2,   29.70,2,    0.03,2,    2.07,2,   0.004,2,   0.005,7,-999.000,9,-999.0000,9, -999.00,9,-999.000,9,-999.000,   9.000,     0.8540,-999.0000, -999.00
32OC19880723,       A16N,     121,          1,         24,         24,2,19880823,       2012,    -1.5033,   -24.9967,       4743,  4834.5,  34.7188,2,  34.7210,2,    222.5,2,   222.5,2,  104.80,2,   29.80,2,    0.03,2,    2.09,2,  -0.009,2,   0.002,7,-999.000,9,-999.0000,9, -999.00,9,-999.000,9,-999.000,-999.000,     0.7870,-999.0000, -999.00
32OC19880723,       A16N,     121,          1,         99,     -999.0,9,19880823,       2012,    -1.5033,   -24.9967,       4743,  4836.7,  34.7189,2,-999.0000,9,    222.3,2,  -999.0,9, -999.00,9, -999.00,9, -999.00,9, -999.00,9,-999.000,9,-999.000,9,-999.000,9,-999.0000,9, -999.00,9,-999.000,9,-999.000,   9.000,     0.7870,-999.0000, -999.00
32OC19880723,       A16N,     122,          1,          1,          1,2,19880824,       0036,    -2.0050,   -24.9867,       4922,    12.3,  36.0949,2,  36.0840,2,    203.9,2,   204.6,2,    0.70,2, -999.00,9, -999.00,9,    0.27,2,-999.000,9,-999.000,9,-999.000,9,-999.0000,9, -999.00,9,-999.000,9,-999.000,-999.000,    25.6900,-999.0000, -999.00
32OC19880723,       A16N,     122,          1,          2,          2,2,19880824,       0036,    -2.0050,   -24.9867,       4922,    37.7,  36.0912,2,  36.0830,2,    200.4,2,   203.7,2,    0.70,2, -999.00,9, -999.00,9,    0.23,2,-999.000,9,-999.000,9,-999.000,9,-999.0000,9, -999.00,9,-999.000,9,-999.000,   9.000,    25.6710,-999.0000, -999.00
32OC19880723,       A16N,     122,          1,          3,          3,2,19880824,       0036,    -2.0050,   -24.9867,       4922,    68.1,  36.1007,2,  36.0850,2,    202.1,2,   202.4,2,    0.70,2, -999.00,9, -999.00,9,    0.25,2,-999.000,9,-999.000,9,-999.000,9,-999.0000,9, -999.00,9,-999.000,9,-999.000,-999.000,    25.5750,-999.0000, -999.00
32OC19880723,       A16N,     122,          1,          4,          4,2,19880824,       0036,    -2.0050,   -24.9867,       4922,    88.1,  36.0853,2,  36.1370,2,    164.5,2,   194.0,2,    0.80,2, -999.00,9, -999.00,9,    0.34,2,-999.000,9,-999.000,9,-999.000,9,-999.0000,9, -999.00,9,-999.000,9,-999.000,   9.000,    24.8290,-999.0000, -999.00
32OC19880723,       A16N,     122,          1,          5,          5,2,19880824,       0036,    -2.0050,   -24.9867,       4922,   108.1,  35.6890,2,  35.6420,2,    112.0,2,   110.1,2,    5.20,2, -999.00,9, -999.00,9,    1.33,2,-999.000,9,-999.000,9,-999.000,9,-999.0000,9, -999.00,9,-999.000,9,-999.000,-999.000,    16.2830,-999.0000, -999.00
32OC19880723,       A16N,     122,          1,          6,          6,2,19880824,       0036,    -2.0050,   -24.9867,       4922,   157.9,  35.3502,2,  35.3490,2,    106.5,2,   107.5,2,    7.50,2, -999.00,9, -999.00,9,    1.56,2,-999.000,9,-999.000,9,-999.000,9,-999.0000,9, -999.00,9,-999.000,9,-999.000,   9.000,    13.5410,-999.0000, -999.00
32OC19880723,       A16N,     122,          1,          7,          7,2,19880824,       0036,    -2.0050,   -24.9867,       4922,   207.8,  35.2870,2,  35.2750,2,    101.3,2,   100.5,2,    8.30,2, -999.00,9, -999.00,9,    1.61,2,-999.000,9,-999.000,9,-999.000,9,-999.0000,9, -999.00,9,-999.000,9,-999.000,-999.000,    12.9810,-999.0000, -999.00
32OC19880723,       A16N,     122,          1,          8,          8,2,19880824,       0036,    -2.0050,   -24.9867,       4922,   257.8,  35.1649,2,  35.1560,2,    101.5,2,    99.2,2,    9.50,2, -999.00,9, -999.00,9,    1.73,2,-999.000,9,-999.000,9,-999.000,9,-999.0000,9, -999.00,9,-999.000,9,-999.000,   9.000,    12.0600,-999.0000, -999.00
32OC19880723,       A16N,     122,          1,          9,          9,2,19880824,       0036,    -2.0050,   -24.9867,       4922,   307.7,  35.0560,2,  35.0490,2,     88.4,2,    83.9,2,   11.40,2, -999.00,9, -999.00,9,    1.92,2,-999.000,9,-999.000,9,-999.000,9,-999.0000,9, -999.00,9,-999.000,9,-999.000,-999.000,    11.0960,-999.0000, -999.00
32OC19880723,       A16N,     122,          1,         10,         10,2,19880824,       0036,    -2.0050,   -24.9867,       4922,   408.6,  34.7975,2,  34.7790,2,    100.1,2,   100.0,2,   15.70,2, -999.00,9, -999.00,9,    2.12,2,-999.000,9,-999.000,9,-999.000,9,-999.0000,9, -999.00,9,-999.000,9,-999.000,   9.000,     8.7860,-999.0000, -999.00
32OC19880723,       A16N,     122,          1,         11,         11,2,19880824,       0036,    -2.0050,   -24.9867,       4922,   609.4,  34.4913,2,  34.4870,2,    144.9,2,   151.7,2,   27.30,2, -999.00,9, -999.00,9,    2.35,2,-999.000,9,-999.000,9,-999.000,9,-999.0000,9, -999.00,9,-999.000,9,-999.000,-999.000,     5.1400,-999.0000, -999.00
32OC19880723,       A16N,     122,          1,         12,         12,2,19880824,       0036,    -2.0050,   -24.9867,       4922,   810.8,  34.5023,2,  34.5020,2,    147.9,2,   149.1,2,   29.90,2, -999.00,9, -999.00,9,    2.43,2,-999.000,9,-999.000,9,-999.000,9,-999.0000,9, -999.00,9,-999.000,9,-999.000,   9.000,     4.8700,-999.0000, -999.00
32OC19880723,       A16N,     122,          1,         13,         13,2,19880824,       0036,    -2.0050,   -24.9867,       4922,  1012.0,  34.6494,2,  34.6550,2,    163.7,2,   167.8,2,   30.70,2, -999.00,9, -999.00,9,    2.25,2,-999.000,9,-999.000,9,-999.000,9,-999.0000,9, -999.00,9,-999.000,9,-999.000,-999.000,     4.3190,-999.0000, -999.00
32OC19880723,       A16N,     122,          1,         14,         14,2,19880824,       0036,    -2.0050,   -24.9867,       4922,  1314.6,  34.9135,2,  34.9140,2,    206.2,2,   208.6,2,   20.40,2, -999.00,9, -999.00,9,    1.73,2,-999.000,9,-999.000,9,-999.000,9,-999.0000,9, -999.00,9,-999.000,9,-999.000,   9.000,     4.4580,-999.0000, -999.00
32OC19880723,       A16N,     122,          1,         15,         15,2,19880824,       0036,    -2.0050,   -24.9867,       4922,  1668.0,  34.9788,2,  34.9720,2,    241.3,2,   239.9,2,   16.90,2, -999.00,9, -999.00,9,    1.46,2,-999.000,9,-999.000,9,-999.000,9,-999.0000,9, -999.00,9,-999.000,9,-999.000,-999.000,     4.1020,-999.0000, -999.00
32OC19880723,       A16N,     122,          1,         16,         16,2,19880824,       0036,    -2.0050,   -24.9867,       4922,  2022.2,  34.9679,2,  34.9660,2,    254.0,2,   255.9,2,   19.60,2, -999.00,9, -999.00,9,    1.36,2,-999.000,9,-999.000,9,-999.000,9,-999.0000,9, -999.00,9,-999.000,9,-999.000,   9.000,     3.4820,-999.0000, -999.00
32OC19880723,       A16N,     122,          1,         17,         17,2,19880824,       0036,    -2.0050,   -24.9867,       4922,  2426.8,  34.9410,2,  34.9390,2,    253.9,2,   252.4,2,   26.60,2, -999.00,9, -999.00,9,    1.45,2,-999.000,9,-999.000,9,-999.000,9,-999.0000,9, -999.00,9,-999.000,9,-999.000,-999.000,     3.0640,-999.0000, -999.00
32OC19880723,       A16N,     122,          1,         18,         18,2,19880824,       0036,    -2.0050,   -24.9867,       4922,  2833.3,  34.9167,2,  34.9150,2,    250.0,2,   248.5,2,   34.80,2, -999.00,9, -999.00,9,    1.50,2,-999.000,9,-999.000,9,-999.000,9,-999.0000,9, -999.00,9,-999.000,9,-999.000,   9.000,     2.7160,-999.0000, -999.00
32OC19880723,       A16N,     122,          1,         19,         19,2,19880824,       0036,    -2.0050,   -24.9867,       4922,  3240.2,  34.9126,2,  34.9110,2,    254.2,2,   253.7,2,   33.90,2, -999.00,9, -999.00,9,    1.47,2,-999.000,9,-999.000,9,-999.000,9,-999.0000,9, -999.00,9,-999.000,9,-999.000,-999.000,     2.5910,-999.0000, -999.00
32OC19880723,       A16N,     122,          1,         20,         20,2,19880824,       0036,    -2.0050,   -24.9867,       4922,  3647.9,  34.9091,2,  34.9060,2,    260.2,2,   261.6,2,   31.80,2, -999.00,9, -999.00,9,    1.40,2,-999.000,9,-999.000,9,-999.000,9,-999.0000,9, -999.00,9,-999.000,9,-999.000,   9.000,     2.4650,-999.0000, -999.00
32OC19880723,       A16N,     122,          1,         21,         21,2,19880824,       0036,    -2.0050,   -24.9867,       4922,  4056.0,  34.8522,2,  34.8490,2,    253.4,2,   251.6,2,   53.70,2, -999.00,9, -999.00,9,    1.72,2,-999.000,9,-999.000,9,-999.000,9,-999.0000,9, -999.00,9,-999.000,9,-999.000,-999.000,     1.9230,-999.0000, -999.00
32OC19880723,       A16N,     122,          1,         22,         22,2,19880824,       0036,    -2.0050,   -24.9867,       4922,  4465.1,  34.7549,2,  34.7520,2,    230.9,2,   231.1,2,   94.20,2, -999.00,9, -999.00,9,    2.04,2,-999.000,9,-999.000,9,-999.000,9,-999.0000,9, -999.00,9,-999.000,9,-999.000,   9.000,     1.0560,-999.0000, -999.00
32OC19880723,       A16N,     122,          1,         23,         23,2,19880824,       0036,    -2.0050,   -24.9867,       4922,  4874.5,  34.7154,2,  34.7160,2,    224.4,2,   224.2,2,  108.50,2, -999.00,9, -999.00,9,    2.20,2,-999.000,9,-999.000,9,-999.000,9,-999.0000,9, -999.00,9,-999.000,9,-999.000,-999.000,     0.7600,-999.0000, -999.00
32OC19880723,       A16N,     122,          1,         24,         24,2,19880824,       0036,    -2.0050,   -24.9867,       4922,  4999.0,  34.7152,2,-999.0000,9,    224.2,2,  -999.0,9, -999.00,9, -999.00,9, -999.00,9, -999.00,9,-999.000,9,-999.000,9,-999.000,9,-999.0000,9, -999.00,9,-999.000,9,-999.000,   9.000,     0.7650,-999.0000, -999.00
32OC19880723,       A16N,     122,          1,         99,     -999.0,9,19880824,       0036,    -2.0050,   -24.9867,       4922,  5000.1,-999.0000,9,-999.0000,9,   -999.0,9,  -999.0,9, -999.00,9, -999.00,9, -999.00,9, -999.00,9,-999.000,9,-999.000,9,-999.000,9,-999.0000,9, -999.00,9,-999.000,9,-999.000,-999.000,     0.7650,-999.0000, -999.00