BOTTLE,20220922CCHSIOAMB
EXPOCODE,SECT_ID,STNNBR,CASTNO,SAMPNO,BTLNBR,BTLNBR_FLAG_W,DATE,TIME,LATITUDE,LONGITUDE,DEPTH,CTDPRS,CTDSAL,CTDSAL_FLAG_W,SALNTY,SALNTY_FLAG_W,CTDOXY,CTDOXY_FLAG_W,OXYGEN,OXYGEN_FLAG_W,SILCAT,SILCAT_FLAG_W,NITRAT,NITRAT_FLAG_W,NITRIT,NITRIT_FLAG_W,PHSPHT,PHSPHT_FLAG_W,CFC-11,CFC-11_FLAG_W,CFC-12,CFC-12_FLAG_W,TRITUM,TRITUM_FLAG_W,HELIUM,HELIUM_FLAG_W,DELHE3,DELHE3_FLAG_W,NEON,NEON_FLAG_W,NEONER,TRITER,CTDTMP,HELIER,DELHER
,,,,,,,,,,,METERS,DBAR,PSS-78,,PSS-78,,UMOL/KG,,UMOL/KG,,UMOL/KG,,UMOL/KG,,UMOL/KG,,UMOL/KG,,PMOL/KG,,PMOL/KG,,TU,,NMOL/KG,,PERCNT,,NMOL/KG,,NMOL/KG,TU,IPTS-68,NMOL/KG,PERCNT
32OC19880723,       A16N,     125,          1,          1,          1,2,19880827,       0500,    10.0333,   -22.1333,       5026,    13.2,  35.6404,2,  35.6360,2,    208.7,2,   204.7,2,    0.10,2,    0.20,2, -999.00,9,    0.03,2,   1.517,2,   0.774,2,-999.000,9,-999.0000,9, -999.00,9,-999.000,9,-999.000,-999.000,    26.6570,-999.0000, -999.00
32OC19880723,       A16N,     125,          1,          2,          2,2,19880827,       0500,    10.0333,   -22.1333,       5026,    57.7,  35.7654,2,  35.7700,2,     95.8,2,   109.3,2,    3.40,2,   15.70,2, -999.00,9,    0.96,2,   0.991,2,   0.493,2,-999.000,9,-999.0000,9, -999.00,9,-999.000,9,-999.000,   9.000,    17.6780,-999.0000, -999.00
32OC19880723,       A16N,     125,          1,          3,          3,2,19880827,       0500,    10.0333,   -22.1333,       5026,   107.9,  35.4236,2,  35.4410,2,     86.4,2,    80.1,2,    7.60,2,   24.60,2, -999.00,9,    1.43,2,   0.667,2,   0.320,2,-999.000,9,-999.0000,9, -999.00,9,-999.000,9,-999.000,-999.000,    14.1650,-999.0000, -999.00
32OC19880723,       A16N,     125,          1,          4,          4,2,19880827,       0500,    10.0333,   -22.1333,       5026,   158.1,  35.3295,2,  35.3490,2,     95.1,2,    94.0,2,    8.20,2,   24.70,2, -999.00,9,    1.80,2,   0.650,4,   0.271,4,-999.000,9,-999.0000,9, -999.00,9,-999.000,9,-999.000,   9.000,    13.3500,-999.0000, -999.00
32OC19880723,       A16N,     125,          1,          5,          5,2,19880827,       0500,    10.0333,   -22.1333,       5026,   207.8,  35.2315,2,  35.2470,2,     86.9,2,    85.7,2,    9.60,2,   26.40,2, -999.00,9,    1.91,2,   0.477,2,   0.243,2,-999.000,9,-999.0000,9, -999.00,9,-999.000,9,-999.000,-999.000,    12.4010,-999.0000, -999.00
32OC19880723,       A16N,     125,          1,          6,          6,2,19880827,       0500,    10.0333,   -22.1333,       5026,   307.5,  35.2010,2,  35.2020,2,     59.6,2,    62.2,2,   11.20,2,   31.40,2, -999.00,9,    2.04,2,   0.250,2,   0.129,2,-999.000,9,-999.0000,9, -999.00,9,-999.000,9,-999.000,   9.000,    11.4010,-999.0000, -999.00
32OC19880723,       A16N,     125,          1,          7,          7,2,19880827,       0500,    10.0333,   -22.1333,       5026,   407.9,  35.1612,2,  35.1700,2,     44.3,2,    43.5,2,   14.00,2,   34.40,2, -999.00,9,    2.26,2,   0.135,2,   0.061,2,-999.000,9,-999.0000,9, -999.00,9,-999.000,9,-999.000,-999.000,    10.4570,-999.0000, -999.00
32OC19880723,       A16N,     125,          1,          8,          8,2,19880827,       0500,    10.0333,   -22.1333,       5026,   608.9,  34.8879,2,  34.9020,2,     63.5,2,    63.5,2,   20.70,2,   37.80,2, -999.00,9,    2.63,2,   0.008,2,   0.013,2,-999.000,9,-999.0000,9, -999.00,9,-999.000,9,-999.000,   9.000,     7.7660,-999.0000, -999.00
32OC19880723,       A16N,     125,          1,          9,          9,2,19880827,       0500,    10.0333,   -22.1333,       5026,   810.4,  34.7231,2,  34.7290,2,     99.2,2,   103.9,2,   26.00,2,   36.60,2, -999.00,9,    2.60,2,  -0.011,2,   0.005,7,-999.000,9,-999.0000,9, -999.00,9,-999.000,9,-999.000,-999.000,     5.8970,-999.0000, -999.00
32OC19880723,       A16N,     125,          1,         10,         10,2,19880827,       0500,    10.0333,   -22.1333,       5026,  1011.2,  34.7770,2,  34.7830,2,    129.2,2,   133.0,2,   26.80,2,   33.90,2, -999.00,9,    2.44,2,   0.032,3,  -0.001,2,-999.000,9,-999.0000,9, -999.00,9,-999.000,9,-999.000,   9.000,     5.2500,-999.0000, -999.00
32OC19880723,       A16N,     125,          1,         11,         11,2,19880827,       0500,    10.0333,   -22.1333,       5026,  1212.7,  34.8956,2,  34.9020,2,    163.1,2,   166.0,2,   23.80,2,   28.50,2, -999.00,9,    2.02,2,   0.001,2,   0.012,2,-999.000,9,-999.0000,9, -999.00,9,-999.000,9,-999.000,-999.000,     4.8820,-999.0000, -999.00
32OC19880723,       A16N,     125,          1,         12,         12,2,19880827,       0500,    10.0333,   -22.1333,       5026,  1615.5,  34.9465,2,  34.9540,2,    219.2,2,   219.4,2,   21.80,2,   23.60,2, -999.00,9,    1.63,2,  -0.027,3,   0.005,7,-999.000,9,-999.0000,9, -999.00,9,-999.000,9,-999.000,   9.000,     3.9590,-999.0000, -999.00
32OC19880723,       A16N,     125,          1,         13,         13,2,19880827,       0500,    10.0333,   -22.1333,       5026,  2018.7,  34.9492,2,  34.9570,2,    242.7,2,   242.0,2,   22.70,2,   21.50,2, -999.00,9,    1.49,2,   0.025,2,   0.005,7,-999.000,9,-999.0000,9, -999.00,9,-999.000,9,-999.000,-999.000,     3.4360,-999.0000, -999.00
32OC19880723,       A16N,     125,          1,         14,         14,2,19880827,       0500,    10.0333,   -22.1333,       5026,  2422.9,  34.9370,2,  34.9420,2,    246.8,2,   245.1,2,   28.20,2,   21.50,2, -999.00,9,    1.50,2,   0.025,2,   0.005,7,-999.000,9,-999.0000,9, -999.00,9,-999.000,9,-999.000,   9.000,     3.0450,-999.0000, -999.00
32OC19880723,       A16N,     125,          1,         15,         15,2,19880827,       0500,    10.0333,   -22.1333,       5026,  2827.4,  34.9221,2,  34.9260,2,    249.2,2,   249.0,2,   32.10,2,   21.70,2, -999.00,9,    1.54,2,  -0.036,3,   0.005,7,-999.000,9,-999.0000,9, -999.00,9,-999.000,9,-999.000,-999.000,     2.7760,-999.0000, -999.00
32OC19880723,       A16N,     125,          1,         16,         16,2,19880827,       0500,    10.0333,   -22.1333,       5026,  3283.1,  34.9066,2,  34.9100,2,    245.3,2,   245.9,2,   38.40,2,   22.70,2, -999.00,9,    1.57,2,   0.020,2,   0.005,7,-999.000,9,-999.0000,9, -999.00,9,-999.000,9,-999.000,   9.000,     2.5690,-999.0000, -999.00
32OC19880723,       A16N,     125,          1,         17,         17,2,19880827,       0500,    10.0333,   -22.1333,       5026,  3740.8,  34.8939,2,  34.8950,2,    246.8,2,   247.2,2,   41.70,2,   22.50,2, -999.00,9,    1.55,2,  -0.018,2,   0.086,4,-999.000,9,-999.0000,9, -999.00,9,-999.000,9,-999.000,-999.000,     2.4190,-999.0000, -999.00
32OC19880723,       A16N,     125,          1,         18,         18,2,19880827,       0500,    10.0333,   -22.1333,       5026,  3944.3,  34.8898,2,  34.8910,2,    247.9,2,   248.1,2,   43.40,2,   22.70,2, -999.00,9,    1.59,2,   0.088,4,   0.018,2,-999.000,9,-999.0000,9, -999.00,9,-999.000,9,-999.000,   9.000,     2.3780,-999.0000, -999.00
32OC19880723,       A16N,     125,          1,         19,         19,2,19880827,       0500,    10.0333,   -22.1333,       5026,  4147.8,  34.8863,2,  34.8870,2,    248.0,2,   248.1,2,   45.00,2, -999.00,9, -999.00,9,    1.55,2,   0.059,2,   0.015,2,-999.000,9,-999.0000,9, -999.00,9,-999.000,9,-999.000,-999.000,     2.3480,-999.0000, -999.00
32OC19880723,       A16N,     125,          1,         20,         20,2,19880827,       0500,    10.0333,   -22.1333,       5026,  4351.2,  34.8816,2,  34.8820,2,    245.5,2,   245.9,2,   46.90,2,   23.10,2, -999.00,9,    1.56,2,  -0.019,3,   0.016,2,-999.000,9,-999.0000,9, -999.00,9,-999.000,9,-999.000,   9.000,     2.3260,-999.0000, -999.00
32OC19880723,       A16N,     125,          1,         21,         21,2,19880827,       0500,    10.0333,   -22.1333,       5026,  4555.2,  34.8793,2,  34.8800,2,    243.8,2,   243.7,2,   48.70,2,   23.60,2, -999.00,9,    1.55,2,   0.020,6,   0.010,6,-999.000,9,-999.0000,9, -999.00,9,-999.000,9,-999.000,-999.000,     2.3160,-999.0000, -999.00
32OC19880723,       A16N,     125,          1,         22,         22,2,19880827,       0500,    10.0333,   -22.1333,       5026,  4759.5,  34.8774,2,  34.8770,2,    244.2,2,   242.9,2,   49.60,2,   23.50,2, -999.00,9,    1.58,2,   0.032,2,   0.016,2,-999.000,9,-999.0000,9, -999.00,9,-999.000,9,-999.000,   9.000,     2.3120,-999.0000, -999.00
32OC19880723,       A16N,     125,          1,         23,         23,2,19880827,       0500,    10.0333,   -22.1333,       5026,  4964.7,  34.8766,2,  34.8760,2,    244.6,2,   242.0,2,   50.50,2,   23.70,2, -999.00,9,    1.56,2,-999.000,9,-999.000,9,-999.000,9,-999.0000,9, -999.00,9,-999.000,9,-999.000,-999.000,     2.3210,-999.0000, -999.00
32OC19880723,       A16N,     125,          1,         24,         24,2,19880827,       0500,    10.0333,   -22.1333,       5026,  5110.1,  34.8754,2,  34.8730,2,    246.4,2,   242.0,2,   51.00,2,   23.70,2, -999.00,9,    1.54,2,   0.069,4,   0.012,2,-999.000,9,-999.0000,9, -999.00,9,-999.000,9,-999.000,   9.000,     2.3210,-999.0000, -999.00
32OC19880723,       A16N,     125,          1,         99,     -999.0,9,19880827,       0500,    10.0333,   -22.1333,       5026,  5111.7,  34.8754,2,-999.0000,9,    246.4,2,  -999.0,9, -999.00,9, -999.00,9, -999.00,9, -999.00,9,-999.000,9,-999.000,9,-999.000,9,-999.0000,9, -999.00,9,-999.000,9,-999.000,-999.000,     2.3220,-999.0000, -999.00
32OC19880723,       A16N,     126,          1,          1,          1,2,19880827,       0936,    10.4833,   -22.0667,       5140,    14.4,  35.6592,2,  35.6510,2,    202.3,2,   205.5,2,    0.30,2,    0.30,2,    0.02,2,    0.11,2,-999.000,9,-999.000,9,-999.000,9,-999.0000,9, -999.00,9,-999.000,9,-999.000,   9.000,    26.2640,-999.0000, -999.00
32OC19880723,       A16N,     126,          1,          2,          2,2,19880827,       0936,    10.4833,   -22.0667,       5140,    58.5,  35.5738,2,  35.5650,2,     66.6,2,    63.5,2,    6.70,2,   25.00,2,    0.31,2,    1.65,2,-999.000,9,-999.000,9,-999.000,9,-999.0000,9, -999.00,9,-999.000,9,-999.000,-999.000,    15.3640,-999.0000, -999.00
32OC19880723,       A16N,     126,          1,          3,          3,2,19880827,       0936,    10.4833,   -22.0667,       5140,   108.4,  35.4408,2,  35.4680,2,     91.2,2,    90.9,2,    7.40,2,   24.40,2,    0.07,2,    1.56,2,-999.000,9,-999.000,9,-999.000,9,-999.0000,9, -999.00,9,-999.000,9,-999.000,   9.000,    14.2200,-999.0000, -999.00
32OC19880723,       A16N,     126,          1,          4,          4,2,19880827,       0936,    10.4833,   -22.0667,       5140,   158.6,  35.2919,2,  35.3050,2,     93.6,2,    90.9,2,    8.70,2,   26.00,2,    0.05,2,    1.67,2,-999.000,9,-999.000,9,-999.000,9,-999.0000,9, -999.00,9,-999.000,9,-999.000,-999.000,    12.9870,-999.0000, -999.00
32OC19880723,       A16N,     126,          1,          5,          5,2,19880827,       0936,    10.4833,   -22.0667,       5140,   207.9,  35.2240,2,  35.2300,2,    106.4,2,   100.9,2,    9.40,2,   26.10,2,    0.03,2,    1.70,2,-999.000,9,-999.000,9,-999.000,9,-999.0000,9, -999.00,9,-999.000,9,-999.000,   9.000,    12.3470,-999.0000, -999.00
32OC19880723,       A16N,     126,          1,          6,          6,2,19880827,       0936,    10.4833,   -22.0667,       5140,   307.5,  35.1481,2,  35.0950,2,     78.3,2,    90.0,2,   11.70,2,   29.90,2,    0.00,2,    1.90,2,-999.000,9,-999.000,9,-999.000,9,-999.0000,9, -999.00,9,-999.000,9,-999.000,-999.000,    11.0580,-999.0000, -999.00
32OC19880723,       A16N,     126,          1,          7,          7,2,19880827,       0936,    10.4833,   -22.0667,       5140,   407.6,  35.0603,2,  35.0880,2,     58.5,2,    57.8,2,   14.00,2,   34.50,2,    0.00,2,    2.15,2,-999.000,9,-999.000,9,-999.000,9,-999.0000,9, -999.00,9,-999.000,9,-999.000,   9.000,    10.3050,-999.0000, -999.00
32OC19880723,       A16N,     126,          1,          8,          8,2,19880827,       0936,    10.4833,   -22.0667,       5140,   607.3,  34.8516,2,  34.8880,2,     67.0,2,    60.0,2,   20.70,2,   38.40,2,    0.00,2,    2.53,2,-999.000,9,-999.000,9,-999.000,9,-999.0000,9, -999.00,9,-999.000,9,-999.000,-999.000,     7.8470,-999.0000, -999.00
32OC19880723,       A16N,     126,          1,          9,          9,2,19880827,       0936,    10.4833,   -22.0667,       5140,   808.3,  34.7482,2,  34.7620,2,    101.8,2,    99.5,2,   25.70,2,   37.50,2,    0.00,2,    2.48,2,-999.000,9,-999.000,9,-999.000,9,-999.0000,9, -999.00,9,-999.000,9,-999.000,   9.000,     6.1210,-999.0000, -999.00
32OC19880723,       A16N,     126,          1,         10,         10,2,19880827,       0936,    10.4833,   -22.0667,       5140,  1009.5,  34.7837,2,  34.7850,2,    132.0,2,   132.6,2,   26.80,2,   34.30,2,    0.00,2,    2.30,2,-999.000,9,-999.000,9,-999.000,9,-999.0000,9, -999.00,9,-999.000,9,-999.000,-999.000,     5.2620,-999.0000, -999.00
32OC19880723,       A16N,     126,          1,         11,         11,2,19880827,       0936,    10.4833,   -22.0667,       5140,  1209.8,  34.8925,2,  34.8920,2,    164.2,2,   164.7,2,   24.30,2,   29.60,2,    0.00,2,    2.00,2,-999.000,9,-999.000,9,-999.000,9,-999.0000,9, -999.00,9,-999.000,9,-999.000,   9.000,     4.8600,-999.0000, -999.00
32OC19880723,       A16N,     126,          1,         12,         12,2,19880827,       0936,    10.4833,   -22.0667,       5140,  1610.5,  34.9597,2,  34.9630,2,    220.8,2,   224.2,2,   21.00,2,   23.50,2,    0.00,2,    1.58,2,-999.000,9,-999.000,9,-999.000,9,-999.0000,9, -999.00,9,-999.000,9,-999.000,-999.000,     3.9590,-999.0000, -999.00
32OC19880723,       A16N,     126,          1,         13,         13,2,19880827,       0936,    10.4833,   -22.0667,       5140,  2013.5,  34.9478,2,  34.9480,2,    236.4,2,   237.2,2,   25.00,2,   22.60,2,    0.00,2,    1.51,2,-999.000,9,-999.000,9,-999.000,9,-999.0000,9, -999.00,9,-999.000,9,-999.000,   9.000,     3.4150,-999.0000, -999.00
32OC19880723,       A16N,     126,          1,         14,         14,2,19880827,       0936,    10.4833,   -22.0667,       5140,  2416.9,  34.9384,2,  34.9390,2,    242.5,2,   242.4,2,   29.60,2,   22.20,2,    0.01,2,    1.46,2,-999.000,9,-999.000,9,-999.000,9,-999.0000,9, -999.00,9,-999.000,9,-999.000,-999.000,     3.0480,-999.0000, -999.00
32OC19880723,       A16N,     126,          1,         15,         15,2,19880827,       0936,    10.4833,   -22.0667,       5140,  2822.2,  34.9250,2,  34.9240,2,    245.9,2,   245.0,2,   34.00,2,   22.20,2,    0.01,2,    1.50,2,-999.000,9,-999.000,9,-999.000,9,-999.0000,9, -999.00,9,-999.000,9,-999.000,   9.000,     2.7600,-999.0000, -999.00
32OC19880723,       A16N,     126,          1,         16,         16,2,19880827,       0936,    10.4833,   -22.0667,       5140,  3327.7,  34.9080,2,  34.9070,2,    245.8,2,   245.0,2,   39.80,2,   22.80,2,    0.01,2,    1.51,2,-999.000,9,-999.000,9,-999.000,9,-999.0000,9, -999.00,9,-999.000,9,-999.000,-999.000,     2.5500,-999.0000, -999.00
32OC19880723,       A16N,     126,          1,         17,         17,2,19880827,       0936,    10.4833,   -22.0667,       5140,  3834.9,  34.8953,2,  34.8950,2,    244.6,2,   244.2,2,   44.50,2,   23.10,2,    0.01,2,    1.50,2,-999.000,9,-999.000,9,-999.000,9,-999.0000,9, -999.00,9,-999.000,9,-999.000,   9.000,     2.4080,-999.0000, -999.00
32OC19880723,       A16N,     126,          1,         18,         18,2,19880827,       0936,    10.4833,   -22.0667,       5140,  4037.9,  34.8895,2,  34.8880,2,    245.5,2,   245.0,2,   45.50,2,   23.50,2,    0.01,2,    1.52,2,-999.000,9,-999.000,9,-999.000,9,-999.0000,9, -999.00,9,-999.000,9,-999.000,-999.000,     2.3660,-999.0000, -999.00
32OC19880723,       A16N,     126,          1,         19,         19,2,19880827,       0936,    10.4833,   -22.0667,       5140,  4241.6,  34.8851,2,  34.8840,2,    246.4,2,   245.9,2,   46.70,2,   23.00,2,    0.01,2,    1.55,2,-999.000,9,-999.000,9,-999.000,9,-999.0000,9, -999.00,9,-999.000,9,-999.000,   9.000,     2.3310,-999.0000, -999.00
32OC19880723,       A16N,     126,          1,         20,         20,2,19880827,       0936,    10.4833,   -22.0667,       5140,  4444.9,  34.8800,2,  34.8790,2,    243.5,2,   242.9,2,   49.30,2,   23.20,2,    0.01,2,    1.55,2,-999.000,9,-999.000,9,-999.000,9,-999.0000,9, -999.00,9,-999.000,9,-999.000,-999.000,     2.3120,-999.0000, -999.00
32OC19880723,       A16N,     126,          1,         21,         21,2,19880827,       0936,    10.4833,   -22.0667,       5140,  4648.2,  34.8777,2,  34.8760,2,    241.6,2,   241.1,2,   50.30,2,   23.50,2,    0.01,2,    1.55,2,-999.000,9,-999.000,9,-999.000,9,-999.0000,9, -999.00,9,-999.000,9,-999.000,   9.000,     2.3060,-999.0000, -999.00
32OC19880723,       A16N,     126,          1,         22,         22,2,19880827,       0936,    10.4833,   -22.0667,       5140,  4903.4,  34.8759,2,-999.0000,9,    240.0,2,   240.3,2,   51.80,2,   23.70,2,    0.01,2,    1.58,2,-999.000,9,-999.000,9,-999.000,9,-999.0000,9, -999.00,9,-999.000,9,-999.000,-999.000,     2.3120,-999.0000, -999.00
32OC19880723,       A16N,     126,          1,         23,         23,2,19880827,       0936,    10.4833,   -22.0667,       5140,  5107.1,  34.8752,2,  34.8740,2,    240.2,2,   241.6,2,   51.90,2,   23.60,2,    0.02,2,    1.56,2,-999.000,9,-999.000,9,-999.000,9,-999.0000,9, -999.00,9,-999.000,9,-999.000,   9.000,     2.3250,-999.0000, -999.00
32OC19880723,       A16N,     126,          1,         24,         24,2,19880827,       0936,    10.4833,   -22.0667,       5140,  5223.9,  34.8753,2,  34.8740,2,    240.7,2,   241.1,2,   51.80,2,   23.70,2,    0.02,2,    1.55,2,-999.000,9,-999.000,9,-999.000,9,-999.0000,9, -999.00,9,-999.000,9,-999.000,-999.000,     2.3340,-999.0000, -999.00
32OC19880723,       A16N,     126,          1,         99,     -999.0,9,19880827,       0936,    10.4833,   -22.0667,       5140,  5225.2,  34.8753,2,-999.0000,9,    240.7,2,  -999.0,9, -999.00,9, -999.00,9, -999.00,9, -999.00,9,-999.000,9,-999.000,9,-999.000,9,-999.0000,9, -999.00,9,-999.000,9,-999.000,   9.000,     2.3350,-999.0000, -999.00