BOTTLE,20220922CCHSIOAMB
EXPOCODE,SECT_ID,STNNBR,CASTNO,SAMPNO,BTLNBR,BTLNBR_FLAG_W,DATE,TIME,LATITUDE,LONGITUDE,DEPTH,CTDPRS,CTDSAL,CTDSAL_FLAG_W,SALNTY,SALNTY_FLAG_W,CTDOXY,CTDOXY_FLAG_W,OXYGEN,OXYGEN_FLAG_W,SILCAT,SILCAT_FLAG_W,NITRAT,NITRAT_FLAG_W,NITRIT,NITRIT_FLAG_W,PHSPHT,PHSPHT_FLAG_W,CFC-11,CFC-11_FLAG_W,CFC-12,CFC-12_FLAG_W,TRITUM,TRITUM_FLAG_W,HELIUM,HELIUM_FLAG_W,DELHE3,DELHE3_FLAG_W,NEON,NEON_FLAG_W,NEONER,TRITER,CTDTMP,HELIER,DELHER
,,,,,,,,,,,METERS,DBAR,PSS-78,,PSS-78,,UMOL/KG,,UMOL/KG,,UMOL/KG,,UMOL/KG,,UMOL/KG,,UMOL/KG,,PMOL/KG,,PMOL/KG,,TU,,NMOL/KG,,PERCNT,,NMOL/KG,,NMOL/KG,TU,IPTS-68,NMOL/KG,PERCNT
32OC19880723,       A16N,      67,          1,          4,          4,2,19880811,       1300,    32.3900,   -22.1417,       5185,    13.7,  36.7528,2,  36.7860,2,    217.2,2,   217.4,2,    0.30,2,    0.10,2,    0.01,2,    0.05,2,   2.047,3,   0.980,3,   2.406,2,   1.7145,2,   -1.31,2,-999.000,9,  -7.493,   0.053,    23.3320,   0.0120,    0.18
32OC19880723,       A16N,      67,          1,          5,          5,2,19880811,       1300,    32.3900,   -22.1417,       5185,    38.5,  36.7716,2,  36.7390,2,    226.8,2,   224.3,2,    0.30,2,    0.00,2,    0.02,2,    0.06,2,   2.085,3,   1.037,3,   2.326,2,   1.7209,2,   -1.32,2,-999.000,9,  -7.493,   0.052,    22.2160,   0.0120,    0.18
32OC19880723,       A16N,      67,          1,          6,          6,2,19880811,       1300,    32.3900,   -22.1417,       5185,    67.5,  36.6521,2,  36.5560,2,    242.9,2,   248.5,2,    0.20,2,    0.00,2,    0.02,2,    0.04,2,   2.281,3,   1.092,3,   2.276,2,   1.7308,2,   -1.12,2,-999.000,9,  -7.493,   0.051,    19.3380,   0.0121,    0.18
32OC19880723,       A16N,      67,          1,          7,          7,2,19880811,       1300,    32.3900,   -22.1417,       5185,   104.9,  36.5133,2,  36.5040,2,    228.8,2,   227.1,2,    0.30,2,    0.20,2,    0.07,2,    0.06,2,   4.274,4,   1.059,3,   2.256,2,   1.7326,2,   -0.86,2,-999.000,9,  -7.493,   0.052,    17.6840,   0.0121,    0.18
32OC19880723,       A16N,      67,          1,          8,          8,2,19880811,       1300,    32.3900,   -22.1417,       5185,   151.3,  36.4471,2,  36.4700,2,    217.2,2,   219.3,2,    0.70,2,    2.30,2,    0.02,2,    0.15,2,   2.388,3,   1.093,4,   2.179,2,   1.7470,2,   -0.58,2,-999.000,9,  -7.493,   0.049,    17.2960,   0.0122,    0.18
32OC19880723,       A16N,      67,          1,          9,          9,2,19880811,       1300,    32.3900,   -22.1417,       5185,   197.4,  36.4089,2,  36.3980,2,    218.6,2,   220.5,2,    0.70,2,    2.90,2,    0.02,2,    0.18,2,   2.354,3,   1.093,3,-999.000,9,-999.0000,9, -999.00,9,-999.000,9,-999.000,-999.000,    16.9010,-999.0000, -999.00
32OC19880723,       A16N,      67,          1,         10,         10,2,19880811,       1300,    32.3900,   -22.1417,       5185,   289.8,  36.1533,2,  36.0920,2,    204.1,2,   204.0,2,    2.10,2,    7.70,2,    0.02,2,    0.43,2,   2.023,3,   0.954,3,   2.527,2,   1.7483,2,    2.54,2,-999.000,9,  -7.493,   0.053,    15.3230,   0.0122,    0.18
32OC19880723,       A16N,      67,          1,         11,         11,2,19880811,       1300,    32.3900,   -22.1417,       5185,   382.6,  35.8965,2,  35.9030,2,    202.9,2,   204.0,2,    2.90,2,    9.80,2,    0.00,2,    0.54,2,   1.981,3,   0.902,3,-999.000,9,   1.7618,2,    4.22,2,-999.000,9,  -7.493,   9.000,    14.0840,   0.0123,    0.18
32OC19880723,       A16N,      67,          1,         12,         12,2,19880811,       1300,    32.3900,   -22.1417,       5185,   569.1,  35.6183,2,  35.6280,2,    195.0,2,   195.7,2,    4.80,2,   13.90,2,    0.02,2,    0.80,2,   1.578,3,   0.690,3,   2.589,2,   1.7839,2,    8.41,2,   7.451,2,   0.056,   0.061,    11.9980,   0.0125,    0.18
32OC19880723,       A16N,      67,          1,         13,         13,2,19880811,       1300,    32.3900,   -22.1417,       5185,   569.1,  35.6183,2,  35.6280,2,    195.0,2,   195.7,2,    4.80,2,   14.40,2,    0.02,2,    0.81,2,   1.616,3,   0.694,3,   2.565,2,   1.7663,2,    8.20,2,   7.464,2,   0.056,   0.060,    11.9980,   0.0124,    0.18
32OC19880723,       A16N,      67,          1,         14,         14,2,19880811,       1300,    32.3900,   -22.1417,       5185,  1719.4,  35.1991,2,  35.2380,2,    240.2,2,   238.5,2,   13.20,2,   18.40,2,    0.02,2,    1.15,2,   0.219,3,   0.083,3,   0.435,2,   1.8767,2,    4.93,2,   7.891,2,   0.059,   0.032,     5.3090,   0.0131,    0.18
32OC19880723,       A16N,      67,          1,         15,         15,2,19880811,       1300,    32.3900,   -22.1417,       5185,  2071.1,  35.0449,2,  35.0500,2,    253.4,2,   254.6,2,   16.20,2,   18.40,2,    0.02,2,    1.19,2,   0.107,3,   0.025,3,   0.184,2,   1.8501,2,    1.71,2,   8.013,2,   0.060,   0.032,     3.9580,   0.0130,    0.18
32OC19880723,       A16N,      67,          1,         16,         16,2,19880811,       1300,    32.3900,   -22.1417,       5185,  2422.5,  34.9764,2,  34.9790,2,    256.7,2,   256.8,2,   21.80,2,   19.00,2,    0.02,2,    1.21,2,-999.000,9,-999.000,9,   0.124,2,   1.8562,2,    1.86,2,   8.066,2,   0.060,   0.033,     3.2750,   0.0130,    0.18
32OC19880723,       A16N,      67,          1,         17,         17,2,19880811,       1300,    32.3900,   -22.1417,       5185,  2773.6,  34.9528,2,  34.9550,2,    251.0,2,   250.7,2,   29.00,2,   19.80,2,    0.02,2,    1.29,2,   0.093,3,   0.009,3,   0.014,2,   1.8604,2,    1.64,2,   8.083,2,   0.061,   0.029,     2.9340,   0.0130,    0.18
32OC19880723,       A16N,      67,          1,         18,         18,2,19880811,       1300,    32.3900,   -22.1417,       5185,  3131.9,  34.9363,2,  34.9360,2,    247.2,2,   247.2,2,   34.90,2,   20.90,2,    0.02,2,    1.37,2,   0.079,3,   0.006,3,   0.118,2,   1.8618,2,    1.68,2,   8.101,2,   0.061,   0.033,     2.7160,   0.0130,    0.18
32OC19880723,       A16N,      67,          1,         19,         19,2,19880811,       1300,    32.3900,   -22.1417,       5185,  3489.5,  34.9208,2,  34.9210,2,    245.5,2,   245.9,2,   38.90,2,   21.30,2,    0.02,2,    1.38,2,   0.077,3,   0.006,3,-999.000,9,-999.0000,9, -999.00,9,-999.000,9,-999.000,-999.000,     2.5840,-999.0000, -999.00
32OC19880723,       A16N,      67,          1,         20,         20,2,19880811,       1300,    32.3900,   -22.1417,       5185,  3851.0,  34.9075,2,  34.9090,2,    245.1,2,   245.0,2,   41.80,2,   21.90,2,    0.02,2,    1.42,2,   0.027,4,   0.006,2,   0.054,2,   1.8654,2,    2.37,2,   8.101,2,   0.061,   0.029,     2.5000,   0.0131,    0.18
32OC19880723,       A16N,      67,          1,         21,         21,2,19880811,       1300,    32.3900,   -22.1417,       5185,  4217.8,  34.8988,2,  34.9000,2,    245.6,2,   245.5,2,   43.90,2,   21.90,2,    0.02,2,    1.44,2,-999.000,9,-999.000,9,-999.000,9,-999.0000,9, -999.00,9,-999.000,9,-999.000,   9.000,     2.4500,-999.0000, -999.00
32OC19880723,       A16N,      67,          1,         22,         22,2,19880811,       1300,    32.3900,   -22.1417,       5185,  4582.9,  34.8925,2,  34.8930,2,    245.1,2,   245.0,2,   45.60,2,   22.00,2,    0.02,2,    1.44,2,   0.075,4,   0.002,2,-999.000,9,-999.0000,9, -999.00,9,-999.000,9,-999.000,-999.000,     2.4240,-999.0000, -999.00
32OC19880723,       A16N,      67,          1,         23,         23,2,19880811,       1300,    32.3900,   -22.1417,       5185,  4943.0,  34.8895,2,  34.8890,2,    245.1,2,   245.0,2,   46.40,2,   22.20,2,    0.01,2,    1.45,2,   0.099,4,   0.006,2,-999.000,9,-999.0000,9, -999.00,9,-999.000,9,-999.000,   9.000,     2.4380,-999.0000, -999.00
32OC19880723,       A16N,      67,          1,         24,         24,2,19880811,       1300,    32.3900,   -22.1417,       5185,  5275.3,  34.8889,2,  34.8870,2,    244.6,2,   244.6,2,   46.70,2,   22.30,2,    0.01,2,    1.45,2,   0.065,4,   0.003,2,-999.000,9,-999.0000,9, -999.00,9,-999.000,9,-999.000,-999.000,     2.4720,-999.0000, -999.00
32OC19880723,       A16N,      67,          1,         99,     -999.0,9,19880811,       1300,    32.3900,   -22.1417,       5185,  5276.1,  34.8889,2,-999.0000,9,    244.6,2,  -999.0,9, -999.00,9, -999.00,9, -999.00,9, -999.00,9,-999.000,9,-999.000,9,-999.000,9,-999.0000,9, -999.00,9,-999.000,9,-999.000,   9.000,     2.4720,-999.0000, -999.00
32OC19880723,       A16N,      68,          1,          1,          1,2,19880811,       1753,    31.9483,   -22.3967,       5158,    14.0,  37.1291,2,  37.1100,2,    218.2,2,   216.5,2,    0.30,2,    0.00,2,    0.00,2, -999.00,9,-999.000,9,-999.000,9,-999.000,9,-999.0000,9, -999.00,9,-999.000,9,-999.000,-999.000,    23.6000,-999.0000, -999.00
32OC19880723,       A16N,      68,          1,          2,          2,2,19880811,       1753,    31.9483,   -22.3967,       5158,    39.1,  37.1038,2,  37.1140,2,    221.4,2,   220.8,2,    0.10,2,    0.10,2,    0.00,2, -999.00,9,-999.000,9,-999.000,9,-999.000,9,-999.0000,9, -999.00,9,-999.000,9,-999.000,   9.000,    22.7250,-999.0000, -999.00
32OC19880723,       A16N,      68,          1,          3,          3,2,19880811,       1753,    31.9483,   -22.3967,       5158,    69.0,  36.6880,2,  36.7320,2,    246.8,2,   248.5,2,    0.10,2,    0.00,2,    0.00,2, -999.00,9,-999.000,9,-999.000,9,-999.000,9,-999.0000,9, -999.00,9,-999.000,9,-999.000,-999.000,    19.7190,-999.0000, -999.00
32OC19880723,       A16N,      68,          1,          4,          4,2,19880811,       1753,    31.9483,   -22.3967,       5158,   108.3,  36.6796,2,  36.6480,2,    222.1,2,   221.0,2,    0.30,2,    0.30,2,    0.10,2, -999.00,9,-999.000,9,-999.000,9,-999.000,9,-999.0000,9, -999.00,9,-999.000,9,-999.000,   9.000,    18.1290,-999.0000, -999.00
32OC19880723,       A16N,      68,          1,          5,          5,2,19880811,       1753,    31.9483,   -22.3967,       5158,   157.7,  36.5589,2,  36.5410,2,    217.9,2,   217.1,2,    0.60,2,    2.10,2,    0.03,2, -999.00,9,-999.000,9,-999.000,9,-999.000,9,-999.0000,9, -999.00,9,-999.000,9,-999.000,-999.000,    17.4780,-999.0000, -999.00
32OC19880723,       A16N,      68,          1,          6,          6,2,19880811,       1753,    31.9483,   -22.3967,       5158,   206.2,  36.4031,2,  36.3550,2,    215.9,2,   210.5,2,    1.10,2,    4.40,2,    0.03,2, -999.00,9,-999.000,9,-999.000,9,-999.000,9,-999.0000,9, -999.00,9,-999.000,9,-999.000,   9.000,    16.5690,-999.0000, -999.00
32OC19880723,       A16N,      68,          1,          7,          7,2,19880811,       1753,    31.9483,   -22.3967,       5158,   303.1,  36.0560,2,  36.0150,2,    198.1,2,   198.8,2,    2.40,2,    9.00,2,    0.01,2, -999.00,9,-999.000,9,-999.000,9,-999.000,9,-999.0000,9, -999.00,9,-999.000,9,-999.000,-999.000,    14.6130,-999.0000, -999.00
32OC19880723,       A16N,      68,          1,          8,          8,2,19880811,       1753,    31.9483,   -22.3967,       5158,   398.4,  35.8209,2,  35.8070,2,    197.9,2,   196.1,2,    3.60,2,   12.30,2,    0.01,2, -999.00,9,-999.000,9,-999.000,9,-999.000,9,-999.0000,9, -999.00,9,-999.000,9,-999.000,   9.000,    13.2660,-999.0000, -999.00
32OC19880723,       A16N,      68,          1,          9,          9,2,19880811,       1753,    31.9483,   -22.3967,       5158,   589.7,  35.5971,2,  35.5810,2,    174.5,2,   184.3,2,    6.10,2,   16.30,2,    0.01,2, -999.00,9,-999.000,9,-999.000,9,-999.000,9,-999.0000,9, -999.00,9,-999.000,9,-999.000,-999.000,    11.5070,-999.0000, -999.00
32OC19880723,       A16N,      68,          1,         10,         10,2,19880811,       1753,    31.9483,   -22.3967,       5158,   785.8,  35.5107,2,  35.5090,2,    169.0,2,   166.1,2,   10.00,2,   20.10,2,    0.01,2, -999.00,9,-999.000,9,-999.000,9,-999.000,9,-999.0000,9, -999.00,9,-999.000,9,-999.000,   9.000,    10.1090,-999.0000, -999.00
32OC19880723,       A16N,      68,          1,         11,         11,2,19880811,       1753,    31.9483,   -22.3967,       5158,  1033.1,  35.5164,2,  35.5050,2,    173.4,2,   177.3,2,   12.70,2,   21.10,2,    0.02,2, -999.00,9,-999.000,9,-999.000,9,-999.000,9,-999.0000,9, -999.00,9,-999.000,9,-999.000,-999.000,     8.6130,-999.0000, -999.00
32OC19880723,       A16N,      68,          1,         12,         12,2,19880811,       1753,    31.9483,   -22.3967,       5158,  1278.6,  35.5917,2,  35.6120,2,    190.1,2,   191.6,2,   13.10,2,   19.80,2,    0.02,2, -999.00,9,-999.000,9,-999.000,9,-999.000,9,-999.0000,9, -999.00,9,-999.000,9,-999.000,   9.000,     8.0950,-999.0000, -999.00
32OC19880723,       A16N,      68,          1,         13,         13,2,19880811,       1753,    31.9483,   -22.3967,       5158,  1278.6,  35.5917,2,  35.6120,2,    190.1,2,   190.8,2,   13.10,2,   19.80,2,    0.02,2, -999.00,9,-999.000,9,-999.000,9,-999.000,9,-999.0000,9, -999.00,9,-999.000,9,-999.000,-999.000,     8.0950,-999.0000, -999.00
32OC19880723,       A16N,      68,          1,         14,         14,2,19880811,       1753,    31.9483,   -22.3967,       5158,  1769.7,  35.2444,2,  35.2450,2,    232.0,2,   233.8,2,   15.20,2,   19.40,2,    0.02,2, -999.00,9,-999.000,9,-999.000,9,-999.000,9,-999.0000,9, -999.00,9,-999.000,9,-999.000,   9.000,     5.2600,-999.0000, -999.00
32OC19880723,       A16N,      68,          1,         15,         15,2,19880811,       1753,    31.9483,   -22.3967,       5158,  2119.2,  35.0930,2,  35.0940,2,    245.1,2,   246.4,2,   18.90,2,   19.50,2,    0.02,2, -999.00,9,-999.000,9,-999.000,9,-999.000,9,-999.0000,9, -999.00,9,-999.000,9,-999.000,-999.000,     4.1370,-999.0000, -999.00
32OC19880723,       A16N,      68,          1,         16,         16,2,19880811,       1753,    31.9483,   -22.3967,       5158,  2470.2,  34.9980,2,  35.0030,2,    251.1,2,   250.7,2,   23.90,2,   20.00,2,    0.02,2, -999.00,9,-999.000,9,-999.000,9,-999.000,9,-999.0000,9, -999.00,9,-999.000,9,-999.000,   9.000,     3.3830,-999.0000, -999.00
32OC19880723,       A16N,      68,          1,         17,         17,2,19880811,       1753,    31.9483,   -22.3967,       5158,  2817.8,  34.9557,2,  34.9570,2,    252.1,2,   252.0,2,   28.80,2,   20.60,2,    0.02,2, -999.00,9,-999.000,9,-999.000,9,-999.000,9,-999.0000,9, -999.00,9,-999.000,9,-999.000,-999.000,     2.9480,-999.0000, -999.00
32OC19880723,       A16N,      68,          1,         18,         18,2,19880811,       1753,    31.9483,   -22.3967,       5158,  3163.4,  34.9376,2,  34.9380,2,    248.8,2,   248.1,2,   34.50,2,   20.90,2,    0.02,2, -999.00,9,-999.000,9,-999.000,9,-999.000,9,-999.0000,9, -999.00,9,-999.000,9,-999.000,   9.000,     2.7310,-999.0000, -999.00
32OC19880723,       A16N,      68,          1,         19,         19,2,19880811,       1753,    31.9483,   -22.3967,       5158,  3510.8,  34.9222,2,  34.9220,2,    246.4,2,   245.9,2,   38.80,2,   21.80,2, -999.00,9, -999.00,9,-999.000,9,-999.000,9,-999.000,9,-999.0000,9, -999.00,9,-999.000,9,-999.000,-999.000,     2.5980,-999.0000, -999.00
32OC19880723,       A16N,      68,          1,         20,         20,2,19880811,       1753,    31.9483,   -22.3967,       5158,  3861.7,  34.9093,2,  34.9110,2,    245.6,2,   245.5,2,   41.20,2,   22.20,2, -999.00,9, -999.00,9,-999.000,9,-999.000,9,-999.000,9,-999.0000,9, -999.00,9,-999.000,9,-999.000,   9.000,     2.5180,-999.0000, -999.00
32OC19880723,       A16N,      68,          1,         21,         21,2,19880811,       1753,    31.9483,   -22.3967,       5158,  4209.5,  34.9001,2,  34.9010,2,    245.9,2,   245.9,2,   42.10,2,   22.30,2, -999.00,9, -999.00,9,-999.000,9,-999.000,9,-999.000,9,-999.0000,9, -999.00,9,-999.000,9,-999.000,-999.000,     2.4590,-999.0000, -999.00
32OC19880723,       A16N,      68,          1,         22,         22,2,19880811,       1753,    31.9483,   -22.3967,       5158,  4563.6,  34.8931,2,  34.8950,2,    245.9,2,   245.9,2,   45.00,2,   22.50,2, -999.00,9, -999.00,9,-999.000,9,-999.000,9,-999.000,9,-999.0000,9, -999.00,9,-999.000,9,-999.000,   9.000,     2.4400,-999.0000, -999.00
32OC19880723,       A16N,      68,          1,         23,         23,2,19880811,       1753,    31.9483,   -22.3967,       5158,  4867.6,  34.8896,2,  34.8910,2,    245.1,2,   245.0,2,   46.00,2,   22.90,2, -999.00,9, -999.00,9,-999.000,9,-999.000,9,-999.000,9,-999.0000,9, -999.00,9,-999.000,9,-999.000,-999.000,     2.4380,-999.0000, -999.00
32OC19880723,       A16N,      68,          1,         24,         24,2,19880811,       1753,    31.9483,   -22.3967,       5158,  5255.1,  34.8888,2,  34.8870,2,    244.7,2,   244.6,2,   46.50,2,   22.80,2, -999.00,9, -999.00,9,-999.000,9,-999.000,9,-999.000,9,-999.0000,9, -999.00,9,-999.000,9,-999.000,   9.000,     2.4720,-999.0000, -999.00
32OC19880723,       A16N,      68,          1,         99,     -999.0,9,19880811,       1753,    31.9483,   -22.3967,       5158,  5257.0,  34.8888,2,-999.0000,9,    244.8,2,  -999.0,9, -999.00,9, -999.00,9, -999.00,9, -999.00,9,-999.000,9,-999.000,9,-999.000,9,-999.0000,9, -999.00,9,-999.000,9,-999.000,-999.000,     2.4720,-999.0000, -999.00