BOTTLE,20220922CCHSIOAMB
EXPOCODE,SECT_ID,STNNBR,CASTNO,SAMPNO,BTLNBR,BTLNBR_FLAG_W,DATE,TIME,LATITUDE,LONGITUDE,DEPTH,CTDPRS,CTDSAL,CTDSAL_FLAG_W,SALNTY,SALNTY_FLAG_W,CTDOXY,CTDOXY_FLAG_W,OXYGEN,OXYGEN_FLAG_W,SILCAT,SILCAT_FLAG_W,NITRAT,NITRAT_FLAG_W,NITRIT,NITRIT_FLAG_W,PHSPHT,PHSPHT_FLAG_W,CFC-11,CFC-11_FLAG_W,CFC-12,CFC-12_FLAG_W,TRITUM,TRITUM_FLAG_W,HELIUM,HELIUM_FLAG_W,DELHE3,DELHE3_FLAG_W,NEON,NEON_FLAG_W,NEONER,TRITER,CTDTMP,HELIER,DELHER
,,,,,,,,,,,METERS,DBAR,PSS-78,,PSS-78,,UMOL/KG,,UMOL/KG,,UMOL/KG,,UMOL/KG,,UMOL/KG,,UMOL/KG,,PMOL/KG,,PMOL/KG,,TU,,NMOL/KG,,PERCNT,,NMOL/KG,,NMOL/KG,TU,IPTS-68,NMOL/KG,PERCNT
32OC19880723,       A16N,      42,          1,          2,          2,2,19880731,       2117,    44.4933,   -19.9933,       4213,     5.7,  35.7186,2,  35.7150,2,    252.0,2,   242.5,2,    0.40,2, -999.00,9,    0.00,2,    0.10,2,-999.000,9,-999.000,9,-999.000,9,-999.0000,9, -999.00,9,-999.000,9,-999.000,-999.000,    17.9050,-999.0000, -999.00
32OC19880723,       A16N,      42,          1,          3,          3,2,19880731,       2117,    44.4933,   -19.9933,       4213,    38.0,  35.7135,2,  35.7010,2,    240.7,2,   241.5,2,    0.60,2, -999.00,9,    0.23,2,    0.13,2,-999.000,9,-999.000,9,-999.000,9,-999.0000,9, -999.00,9,-999.000,9,-999.000,   9.000,    15.5770,-999.0000, -999.00
32OC19880723,       A16N,      42,          1,          4,          4,2,19880731,       2117,    44.4933,   -19.9933,       4213,    68.0,  35.7105,2,  35.7010,2,    234.8,2,   239.6,2,    1.70,2, -999.00,9,    0.00,2,    0.41,2,-999.000,9,-999.000,9,-999.000,9,-999.0000,9, -999.00,9,-999.000,9,-999.000,-999.000,    13.1220,-999.0000, -999.00
32OC19880723,       A16N,      42,          1,          5,          5,2,19880731,       2117,    44.4933,   -19.9933,       4213,   158.6,  35.6902,2,  35.6740,2,    238.8,2,   244.4,2,    2.70,2, -999.00,9,    0.01,2,    0.51,2,-999.000,9,-999.000,9,-999.000,9,-999.0000,9, -999.00,9,-999.000,9,-999.000,   9.000,    12.3780,-999.0000, -999.00
32OC19880723,       A16N,      42,          1,          6,          6,2,19880731,       2117,    44.4933,   -19.9933,       4213,   208.4,  35.6731,2,  35.6710,2,    245.1,2,   246.5,2,    2.80,2, -999.00,9, -999.00,9,    0.52,2,-999.000,9,-999.000,9,-999.000,9,-999.0000,9, -999.00,9,-999.000,9,-999.000,-999.000,    12.2830,-999.0000, -999.00
32OC19880723,       A16N,      42,          1,          7,          7,2,19880731,       2117,    44.4933,   -19.9933,       4213,   309.1,  35.6217,2,  35.6030,2,    246.7,2,   245.2,2,    3.20,2, -999.00,9,    0.00,2,    0.57,2,-999.000,9,-999.000,9,-999.000,9,-999.0000,9, -999.00,9,-999.000,9,-999.000,   9.000,    11.8750,-999.0000, -999.00
32OC19880723,       A16N,      42,          1,          8,          8,2,19880731,       2117,    44.4933,   -19.9933,       4213,   409.0,  35.5787,2,  35.5620,2,    246.4,2,   242.6,2,    3.60,2, -999.00,9,    0.00,2,    0.59,2,-999.000,9,-999.000,9,-999.000,9,-999.0000,9, -999.00,9,-999.000,9,-999.000,-999.000,    11.5820,-999.0000, -999.00
32OC19880723,       A16N,      42,          1,          9,          9,2,19880731,       2117,    44.4933,   -19.9933,       4213,   508.8,  35.5106,2,  35.5000,2,    238.0,2,   235.7,2,    4.30,2, -999.00,9,    0.00,2,    0.66,2,-999.000,9,-999.000,9,-999.000,9,-999.0000,9, -999.00,9,-999.000,9,-999.000,   9.000,    11.1640,-999.0000, -999.00
32OC19880723,       A16N,      42,          1,         10,         10,2,19880731,       2117,    44.4933,   -19.9933,       4213,   608.1,  35.4402,2,  35.4330,2,    227.1,2,   225.6,2,    5.30,2, -999.00,9,    0.00,2,    0.81,2,-999.000,9,-999.000,9,-999.000,9,-999.0000,9, -999.00,9,-999.000,9,-999.000,-999.000,    10.5970,-999.0000, -999.00
32OC19880723,       A16N,      42,          1,         11,         11,2,19880731,       2117,    44.4933,   -19.9933,       4213,   708.0,  35.3980,2,  35.3780,2,    221.3,2,   219.1,2,    6.30,2, -999.00,9,    0.00,2,    0.89,2,-999.000,9,-999.000,9,-999.000,9,-999.0000,9, -999.00,9,-999.000,9,-999.000,   9.000,    10.0860,-999.0000, -999.00
32OC19880723,       A16N,      42,          1,         12,         12,2,19880731,       2117,    44.4933,   -19.9933,       4213,   808.1,  35.3204,2,  35.3210,2,    204.9,2,   205.2,2,    8.10,2, -999.00,9,    0.00,2,    1.01,2,-999.000,9,-999.000,9,-999.000,9,-999.0000,9, -999.00,9,-999.000,9,-999.000,-999.000,     9.3610,-999.0000, -999.00
32OC19880723,       A16N,      42,          1,         13,         13,2,19880731,       2117,    44.4933,   -19.9933,       4213,  1008.1,  35.5862,2,  35.5240,2,    184.3,2,   192.5,2,    9.80,2, -999.00,9,    0.00,2,    1.08,2,   0.908,2,   0.415,2,-999.000,9,-999.0000,9, -999.00,9,-999.000,9,-999.000,   9.000,     8.8610,-999.0000, -999.00
32OC19880723,       A16N,      42,          1,         14,         14,2,19880731,       2117,    44.4933,   -19.9933,       4213,  1208.1,  35.2365,2,  35.2330,2,    216.1,2,   220.8,2,   10.60,2, -999.00,9,    0.00,2,    1.10,2,-999.000,9,-999.000,9,-999.000,9,-999.0000,9, -999.00,9,-999.000,9,-999.000,-999.000,     6.4630,-999.0000, -999.00
32OC19880723,       A16N,      42,          1,         15,         15,2,19880731,       2117,    44.4933,   -19.9933,       4213,  1409.5,  35.1202,2,  35.1320,2,    242.4,2,   241.2,2,   10.70,2, -999.00,9,    0.00,2,    1.10,2,-999.000,9,-999.000,9,-999.000,9,-999.0000,9, -999.00,9,-999.000,9,-999.000,   9.000,     5.4080,-999.0000, -999.00
32OC19880723,       A16N,      42,          1,         16,         16,2,19880731,       2117,    44.4933,   -19.9933,       4213,  1711.4,  34.9472,2,  34.9620,2,    264.9,2,   265.9,2,   10.70,2, -999.00,9,    0.00,2,    1.07,2,-999.000,9,-999.000,9,-999.000,9,-999.0000,9, -999.00,9,-999.000,9,-999.000,-999.000,     4.1080,-999.0000, -999.00
32OC19880723,       A16N,      42,          1,         17,         17,2,19880731,       2117,    44.4933,   -19.9933,       4213,  2015.7,  34.9315,2,  34.9370,2,    270.7,2,   271.1,2,   11.30,2, -999.00,9,    0.00,2,    1.07,2,-999.000,9,-999.000,9,-999.000,9,-999.0000,9, -999.00,9,-999.000,9,-999.000,   9.000,     3.7630,-999.0000, -999.00
32OC19880723,       A16N,      42,          1,         18,         18,2,19880731,       2117,    44.4933,   -19.9933,       4213,  2318.4,  34.9494,2,  34.9510,2,    267.8,2,   269.0,2,   13.60,2, -999.00,9,    0.00,2,    1.08,2,-999.000,9,-999.000,9,-999.000,9,-999.0000,9, -999.00,9,-999.000,9,-999.000,-999.000,     3.5370,-999.0000, -999.00
32OC19880723,       A16N,      42,          1,         19,         19,2,19880731,       2117,    44.4933,   -19.9933,       4213,  2626.6,  34.9529,2,  34.9550,2,    267.4,2,   265.9,2,   17.90,2, -999.00,9,    0.00,2,    1.09,2,-999.000,9,-999.000,9,-999.000,9,-999.0000,9, -999.00,9,-999.000,9,-999.000,   9.000,     3.2310,-999.0000, -999.00
32OC19880723,       A16N,      42,          1,         20,         20,2,19880731,       2117,    44.4933,   -19.9933,       4213,  2931.1,  34.9521,2,  34.9510,2,    261.5,2,   259.8,2,   30.60,3, -999.00,9,    0.00,2,    1.23,2,   0.236,6,   0.132,6,-999.000,9,-999.0000,9, -999.00,9,-999.000,9,-999.000,-999.000,     2.9780,-999.0000, -999.00
32OC19880723,       A16N,      42,          1,         21,         21,2,19880731,       2117,    44.4933,   -19.9933,       4213,  3236.7,  34.9381,2,  34.9390,2,    253.0,2,   254.2,2,   30.60,2, -999.00,9,    0.00,2,    1.23,2,   0.271,6,   0.100,6,-999.000,9,-999.0000,9, -999.00,9,-999.000,9,-999.000,   9.000,     2.7830,-999.0000, -999.00
32OC19880723,       A16N,      42,          1,         22,         22,2,19880731,       2117,    44.4933,   -19.9933,       4213,  3645.4,  34.9207,2,  34.9220,2,    243.8,2,   245.0,2,   39.10,2, -999.00,9,    0.01,2,    1.32,2,   0.116,6,   0.052,6,-999.000,9,-999.0000,9, -999.00,9,-999.000,9,-999.000,-999.000,     2.6110,-999.0000, -999.00
32OC19880723,       A16N,      42,          1,         23,         23,2,19880731,       2117,    44.4933,   -19.9933,       4213,  4055.4,  34.9132,2,  34.9130,2,    242.4,2,   242.4,2,   41.90,2, -999.00,9,    0.01,2,    1.37,2,-999.000,9,-999.000,9,-999.000,9,-999.0000,9, -999.00,9,-999.000,9,-999.000,   9.000,     2.5850,-999.0000, -999.00
32OC19880723,       A16N,      42,          1,         24,         24,2,19880731,       2117,    44.4933,   -19.9933,       4213,  4282.3,  34.9107,2,  34.9100,2,    241.7,2,   242.0,2,   43.60,2, -999.00,9,    0.01,2,    1.36,2,-999.000,9,-999.000,9,-999.000,9,-999.0000,9, -999.00,9,-999.000,9,-999.000,-999.000,     2.5790,-999.0000, -999.00
32OC19880723,       A16N,      42,          1,         99,     -999.0,9,19880731,       2117,    44.4933,   -19.9933,       4213,  4284.3,  34.9107,2,-999.0000,9,    241.8,2,  -999.0,9, -999.00,9, -999.00,9, -999.00,9, -999.00,9,-999.000,9,-999.000,9,-999.000,9,-999.0000,9, -999.00,9,-999.000,9,-999.000,   9.000,     2.5790,-999.0000, -999.00
32OC19880723,       A16N,      43,          1,          1,          1,2,19880801,       0254,    43.9967,   -19.9850,       4029,    11.6,  35.7116,2,  35.7070,2,    244.7,2,   245.5,2,    0.60,2,    1.10,2,    0.05,2,    0.09,2,-999.000,9,-999.000,9,-999.000,9,-999.0000,9, -999.00,9,-999.000,9,-999.000,-999.000,    17.1900,-999.0000, -999.00
32OC19880723,       A16N,      43,          1,          2,          2,2,19880801,       0254,    43.9967,   -19.9850,       4029,    36.2,  35.7128,2,  35.7050,2,    244.8,2,   245.5,2,    0.60,2,    1.10,2,    0.05,2,    0.09,2,-999.000,9,-999.000,9,-999.000,9,-999.0000,9, -999.00,9,-999.000,9,-999.000,   9.000,    17.1230,-999.0000, -999.00
32OC19880723,       A16N,      43,          1,          3,          3,2,19880801,       0254,    43.9967,   -19.9850,       4029,    65.8,  35.6712,2,  35.6880,2,    242.5,2,   241.4,2,    1.20,2,    4.30,2,    0.37,2,    0.27,2,-999.000,9,-999.000,9,-999.000,9,-999.0000,9, -999.00,9,-999.000,9,-999.000,-999.000,    14.0000,-999.0000, -999.00
32OC19880723,       A16N,      43,          1,          4,          4,2,19880801,       0254,    43.9967,   -19.9850,       4029,   104.8,  35.6487,2,  35.6740,2,    247.6,2,   246.1,2,    2.10,2,    7.80,2,    0.02,2,    0.41,2,-999.000,9,-999.000,9,-999.000,9,-999.0000,9, -999.00,9,-999.000,9,-999.000,   9.000,    12.6550,-999.0000, -999.00
32OC19880723,       A16N,      43,          1,          5,          5,2,19880801,       0254,    43.9967,   -19.9850,       4029,   153.2,  35.6253,2,  35.6440,2,    248.6,2,   248.3,2,    2.40,2,    8.40,2,    0.02,2,    0.47,2,-999.000,9,-999.000,9,-999.000,9,-999.0000,9, -999.00,9,-999.000,9,-999.000,-999.000,    12.2420,-999.0000, -999.00
32OC19880723,       A16N,      43,          1,          6,          6,2,19880801,       0254,    43.9967,   -19.9850,       4029,   199.4,  35.6252,2,  35.6270,2,    248.0,2,   248.7,2,    2.80,2,    8.90,2,    0.01,2,    0.49,2,-999.000,9,-999.000,9,-999.000,9,-999.0000,9, -999.00,9,-999.000,9,-999.000,   9.000,    12.0340,-999.0000, -999.00
32OC19880723,       A16N,      43,          1,          7,          7,2,19880801,       0254,    43.9967,   -19.9850,       4029,   293.5,  35.6102,2,  35.6070,2,    250.8,2,   250.0,2,    2.80,2,    9.30,2,    0.01,2,    0.51,2,-999.000,9,-999.000,9,-999.000,9,-999.0000,9, -999.00,9,-999.000,9,-999.000,-999.000,    11.8050,-999.0000, -999.00
32OC19880723,       A16N,      43,          1,          8,          8,2,19880801,       0254,    43.9967,   -19.9850,       4029,   381.2,  35.5788,2,  35.5830,2,    248.8,2,   250.4,2,    3.10,2,    9.50,2,    0.01,2,    0.52,2,-999.000,9,-999.000,9,-999.000,9,-999.0000,9, -999.00,9,-999.000,9,-999.000,   9.000,    11.6660,-999.0000, -999.00
32OC19880723,       A16N,      43,          1,          9,          9,2,19880801,       0254,    43.9967,   -19.9850,       4029,   469.2,  35.5414,2,  35.5430,2,    250.9,2,   249.1,2,    3.60,2,   10.20,2,    0.01,2,    0.58,2,-999.000,9,-999.000,9,-999.000,9,-999.0000,9, -999.00,9,-999.000,9,-999.000,-999.000,    11.4490,-999.0000, -999.00
32OC19880723,       A16N,      43,          1,         10,         10,2,19880801,       0254,    43.9967,   -19.9850,       4029,   554.7,  35.5011,2,  35.5070,2,    244.0,2,   242.2,2,    3.70,2,   10.90,2,    0.01,2,    0.60,2,-999.000,9,-999.000,9,-999.000,9,-999.0000,9, -999.00,9,-999.000,9,-999.000,   9.000,    11.1590,-999.0000, -999.00
32OC19880723,       A16N,      43,          1,         11,         11,2,19880801,       0254,    43.9967,   -19.9850,       4029,   725.3,  35.4272,2,  35.4270,2,    235.7,2,   234.3,2,    5.00,2,   12.80,2,    0.00,2,    0.79,2,-999.000,9,-999.000,9,-999.000,9,-999.0000,9, -999.00,9,-999.000,9,-999.000,-999.000,    10.4450,-999.0000, -999.00
32OC19880723,       A16N,      43,          1,         12,         12,2,19880801,       0254,    43.9967,   -19.9850,       4029,   892.9,  35.3726,2,  35.3640,2,    211.6,2,   208.2,2,    7.60,2,   15.90,2,    0.00,2,    1.00,2,-999.000,9,-999.000,9,-999.000,9,-999.0000,9, -999.00,9,-999.000,9,-999.000,   9.000,     9.5290,-999.0000, -999.00
32OC19880723,       A16N,      43,          1,         13,         13,2,19880801,       0254,    43.9967,   -19.9850,       4029,  1058.8,  35.4056,2,  35.3940,2,    195.6,2,   196.0,2,    9.90,2,   17.80,2,    0.00,2,    1.03,2,-999.000,9,-999.000,9,-999.000,9,-999.0000,9, -999.00,9,-999.000,9,-999.000,-999.000,     8.6160,-999.0000, -999.00
32OC19880723,       A16N,      43,          1,         14,         14,2,19880801,       0254,    43.9967,   -19.9850,       4029,  1305.4,  35.1633,2,  35.1580,2,    229.1,2,   229.0,2,   10.80,2,   18.00,2,    0.00,2,    1.07,2,-999.000,9,-999.000,9,-999.000,9,-999.0000,9, -999.00,9,-999.000,9,-999.000,   9.000,     5.9600,-999.0000, -999.00
32OC19880723,       A16N,      43,          1,         15,         15,2,19880801,       0254,    43.9967,   -19.9850,       4029,  1565.8,  35.0016,2,  35.0120,2,    259.1,2,   255.5,2,   10.70,2,   17.60,2,    0.00,2,    1.05,2,-999.000,9,-999.000,9,-999.000,9,-999.0000,9, -999.00,9,-999.000,9,-999.000,-999.000,     4.6140,-999.0000, -999.00
32OC19880723,       A16N,      43,          1,         16,         16,2,19880801,       0254,    43.9967,   -19.9850,       4029,  1847.7,  34.9370,2,  34.9390,2,    269.3,2,   271.1,2,   10.80,2,   17.20,2,    0.00,2,    1.05,2,-999.000,9,-999.000,9,-999.000,9,-999.0000,9, -999.00,9,-999.000,9,-999.000,   9.000,     3.8840,-999.0000, -999.00
32OC19880723,       A16N,      43,          1,         17,         17,2,19880801,       0254,    43.9967,   -19.9850,       4029,  2142.5,  34.9457,2,  34.9460,2,    269.1,2,   271.1,2,   12.20,2,   16.90,2,    0.00,2,    1.03,2,-999.000,9,-999.000,9,-999.000,9,-999.0000,9, -999.00,9,-999.000,9,-999.000,-999.000,     3.6950,-999.0000, -999.00
32OC19880723,       A16N,      43,          1,         18,         18,2,19880801,       0254,    43.9967,   -19.9850,       4029,  2448.6,  34.9547,2,  34.9540,2,    268.0,2,   269.0,2,   15.00,2,   16.70,2,    0.00,2,    1.06,2,-999.000,9,-999.000,9,-999.000,9,-999.0000,9, -999.00,9,-999.000,9,-999.000,   9.000,     3.4480,-999.0000, -999.00
32OC19880723,       A16N,      43,          1,         19,         19,2,19880801,       0254,    43.9967,   -19.9850,       4029,  2760.2,  34.9590,2,  34.9570,2,    263.3,2,   262.9,2,   20.40,2,   17.40,2,    0.00,2,    1.08,2,-999.000,9,-999.000,9,-999.000,9,-999.0000,9, -999.00,9,-999.000,9,-999.000,-999.000,     3.1810,-999.0000, -999.00
32OC19880723,       A16N,      43,          1,         20,         20,2,19880801,       0254,    43.9967,   -19.9850,       4029,  3080.0,  34.9478,2,  34.9490,2,    255.0,2,   255.0,2,   28.10,2,   19.30,2,    0.00,2,    1.12,2,-999.000,9,-999.000,9,-999.000,9,-999.0000,9, -999.00,9,-999.000,9,-999.000,   9.000,     2.8740,-999.0000, -999.00
32OC19880723,       A16N,      43,          1,         21,         21,2,19880801,       0254,    43.9967,   -19.9850,       4029,  3287.7,  34.9383,2,-999.0000,9,    251.8,2,   251.6,2,   32.20,2,   20.00,2,    0.00,2,    1.13,2,-999.000,9,-999.000,9,-999.000,9,-999.0000,9, -999.00,9,-999.000,9,-999.000,-999.000,     2.7620,-999.0000, -999.00
32OC19880723,       A16N,      43,          1,         22,         22,2,19880801,       0254,    43.9967,   -19.9850,       4029,  3608.5,  34.9233,2,  34.9250,2,    246.0,2,   246.3,2, -999.00,9, -999.00,9, -999.00,9, -999.00,9,   0.100,6,   0.032,6,-999.000,9,-999.0000,9, -999.00,9,-999.000,9,-999.000,   9.000,     2.6220,-999.0000, -999.00
32OC19880723,       A16N,      43,          1,         23,         23,2,19880801,       0254,    43.9967,   -19.9850,       4029,  3930.7,  34.9138,2,  34.9120,2,    242.4,2,   242.9,2,   42.10,2,   21.20,2,    0.00,2,    1.36,2,   0.056,6,   0.018,6,-999.000,9,-999.0000,9, -999.00,9,-999.000,9,-999.000,-999.000,     2.5680,-999.0000, -999.00
32OC19880723,       A16N,      43,          1,         24,         24,2,19880801,       0254,    43.9967,   -19.9850,       4029,  4070.9,  34.9146,2,  34.9140,2,    242.4,2,   242.4,2,   42.30,2,   21.50,2,    0.00,2,    1.35,2,   0.075,6,   0.020,2,-999.000,9,-999.0000,9, -999.00,9,-999.000,9,-999.000,   9.000,     2.5780,-999.0000, -999.00
32OC19880723,       A16N,      43,          1,         99,     -999.0,9,19880801,       0254,    43.9967,   -19.9850,       4029,  4072.2,  34.9146,2,-999.0000,9,    242.3,2,  -999.0,9, -999.00,9, -999.00,9, -999.00,9, -999.00,9,-999.000,9,-999.000,9,-999.000,9,-999.0000,9, -999.00,9,-999.000,9,-999.000,-999.000,     2.5780,-999.0000, -999.00