BOTTLE,20220922CCHSIOAMB
# Disambiguated duplicate station 61, cast 1, sample 24 by adding subsequent letters, the data and pressures were different
#BOTTLE,20211124CCHSIORKP
# Original header:
# Changed all fill flags to 9
# Changed TRITUM & NEON flag from -999 to 9
# CTDSAL and CTDOXY flags initialized from flag 9 to 2
# BOTTLE,20140313PRINUNIVRMK
# Original header:
# code : jjward hyd_to_exchange.pl  
# original files copied from HTML directory: 20020821 
# original HYD file: a16nhy.txt   Wed Aug 21 13:33:22 2002 
# original SUM file: a16nsu.txt   Wed Aug 21 13:34:13 2002 
# 12/21/01 Initialized README file for leg  
# Cruise dates: 7/23 - 8/27/1988 
# Chief scientist: M. McCartney 
# Ship and cruise designation: Oceanus; 32OC202_1-2 
# EXPOCODE: 32OC19880723 
# 129 stations;  with 36 place Rosette 
# WOCE A16N line 
# Hydro: Who - SIO; Status - final 
# 	Notes: data from WHP-SIO 
# 	CTDSAL interpolated to bottle trip depths from 10m CTD data 
# 	CTDSAL calibrated	 
# Nuts/O2: Who - J.Jennings/SIO; Status - final 
# 	Notes data from WHP-SIO 
# 	CTDOXY interpolated to bottle trip depths from 10m CTD data 
# 	CTDXOY calibrated	 
# CFC: Who - Bullister; Status - final 
# 	Notes: data from WHP-SIO   
# H-3/He-3: Who - Jenkins; Status - final   
# 	Notes: Data rcd from Jenkins 3/11/14 
# Other:  
EXPOCODE,SECT_ID,STNNBR,CASTNO,SAMPNO,BTLNBR,BTLNBR_FLAG_W,DATE,TIME,LATITUDE,LONGITUDE,DEPTH,CTDPRS,CTDSAL,CTDSAL_FLAG_W,SALNTY,SALNTY_FLAG_W,CTDOXY,CTDOXY_FLAG_W,OXYGEN,OXYGEN_FLAG_W,SILCAT,SILCAT_FLAG_W,NITRAT,NITRAT_FLAG_W,NITRIT,NITRIT_FLAG_W,PHSPHT,PHSPHT_FLAG_W,CFC-11,CFC-11_FLAG_W,CFC-12,CFC-12_FLAG_W,TRITUM,TRITUM_FLAG_W,HELIUM,HELIUM_FLAG_W,DELHE3,DELHE3_FLAG_W,NEON,NEON_FLAG_W,NEONER,TRITER,CTDTMP,HELIER,DELHER
,,,,,,,,,,,METERS,DBAR,PSS-78,,PSS-78,,UMOL/KG,,UMOL/KG,,UMOL/KG,,UMOL/KG,,UMOL/KG,,UMOL/KG,,PMOL/KG,,PMOL/KG,,TU,,NMOL/KG,,PERCNT,,NMOL/KG,,NMOL/KG,TU,IPTS-68,NMOL/KG,PERCNT
32OC19880723,       A16N,       1,          1,          1,          1,2,19880723,       2117,    63.3300,   -19.9983,        199,     3.3,-999.0000,9,  34.8450,2,   -999.0,9,   298.8,2, -999.00,9, -999.00,9, -999.00,9, -999.00,9,   3.580,2,   1.714,2,-999.000,9,-999.0000,9, -999.00,9,-999.000,9,-999.000,-999.000,    10.6570,-999.0000, -999.00
32OC19880723,       A16N,       1,          1,          2,          2,2,19880723,       2117,    63.3300,   -19.9983,        199,    28.6,-999.0000,9,  34.9090,2,   -999.0,9,   280.9,2, -999.00,9, -999.00,9, -999.00,9, -999.00,9,-999.000,9,-999.000,9,-999.000,9,-999.0000,9, -999.00,9,-999.000,9,-999.000,   9.000,    10.1280,-999.0000, -999.00
32OC19880723,       A16N,       1,          1,          3,          3,2,19880723,       2117,    63.3300,   -19.9983,        199,    44.8,-999.0000,9,  35.0620,2,   -999.0,9,   280.5,2, -999.00,9, -999.00,9, -999.00,9, -999.00,9,   4.083,4,   2.038,4,-999.000,9,-999.0000,9, -999.00,9,-999.000,9,-999.000,-999.000,    10.1710,-999.0000, -999.00
32OC19880723,       A16N,       1,          1,          4,          4,2,19880723,       2117,    63.3300,   -19.9983,        199,    69.9,-999.0000,9,  35.0980,2,   -999.0,9,   269.1,2, -999.00,9, -999.00,9, -999.00,9, -999.00,9,-999.000,9,-999.000,9,-999.000,9,-999.0000,9, -999.00,9,-999.000,9,-999.000,   9.000,     8.1550,-999.0000, -999.00
32OC19880723,       A16N,       1,          1,          5,          5,2,19880723,       2117,    63.3300,   -19.9983,        199,    94.8,-999.0000,9,  35.1290,2,   -999.0,9,   263.0,2, -999.00,9, -999.00,9, -999.00,9, -999.00,9,   3.550,2,   1.680,2,-999.000,9,-999.0000,9, -999.00,9,-999.000,9,-999.000,-999.000,     7.6020,-999.0000, -999.00
32OC19880723,       A16N,       1,          1,         19,         19,2,19880723,       2117,    63.3300,   -19.9983,        199,   119.8,-999.0000,9,-999.0000,9,   -999.0,9,   262.1,2, -999.00,9, -999.00,9, -999.00,9, -999.00,9,-999.000,9,-999.000,9,-999.000,9,-999.0000,9, -999.00,9,-999.000,9,-999.000,   9.000,     7.5350,-999.0000, -999.00
32OC19880723,       A16N,       1,          1,         21,         21,2,19880723,       2117,    63.3300,   -19.9983,        199,   119.8,-999.0000,9,  35.1330,2,   -999.0,9,   261.2,2, -999.00,9, -999.00,9, -999.00,9, -999.00,9,-999.000,9,-999.000,9,-999.000,9,-999.0000,9, -999.00,9,-999.000,9,-999.000,-999.000,     7.5350,-999.0000, -999.00
32OC19880723,       A16N,       1,          1,         18,         18,2,19880723,       2117,    63.3300,   -19.9983,        199,   119.9,-999.0000,9,  35.1310,2,   -999.0,9,   261.7,2, -999.00,9, -999.00,9, -999.00,9, -999.00,9,-999.000,9,-999.000,9,-999.000,9,-999.0000,9, -999.00,9,-999.000,9,-999.000,   9.000,     7.5360,-999.0000, -999.00
32OC19880723,       A16N,       1,          1,         22,         22,2,19880723,       2117,    63.3300,   -19.9983,        199,   145.1,-999.0000,9,  35.1330,2,   -999.0,9,   261.7,2, -999.00,9, -999.00,9, -999.00,9, -999.00,9,   3.756,2,   1.653,2,-999.000,9,-999.0000,9, -999.00,9,-999.000,9,-999.000,-999.000,     7.5040,-999.0000, -999.00
32OC19880723,       A16N,       1,          1,         23,         23,2,19880723,       2117,    63.3300,   -19.9983,        199,   170.2,-999.0000,9,  35.1350,2,   -999.0,9,   263.0,2, -999.00,9, -999.00,9, -999.00,9, -999.00,9,   3.506,2,   1.693,2,-999.000,9,-999.0000,9, -999.00,9,-999.000,9,-999.000,   9.000,     7.4670,-999.0000, -999.00
32OC19880723,       A16N,       1,          1,         24,         24,2,19880723,       2117,    63.3300,   -19.9983,        199,   195.4,-999.0000,9,  35.1350,2,   -999.0,9,   257.7,2, -999.00,9, -999.00,9, -999.00,9, -999.00,9,   3.525,2,   1.613,2,-999.000,9,-999.0000,9, -999.00,9,-999.000,9,-999.000,-999.000,     7.3730,-999.0000, -999.00
32OC19880723,       A16N,       1,          1,         99,     -999.0,9,19880723,       2117,    63.3300,   -19.9983,        199,   196.0,-999.0000,9,-999.0000,9,   -999.0,9,  -999.0,9, -999.00,9, -999.00,9, -999.00,9, -999.00,9,-999.000,9,-999.000,9,-999.000,9,-999.0000,9, -999.00,9,-999.000,9,-999.000,   9.000,     7.3730,-999.0000, -999.00
32OC19880723,       A16N,       2,          1,          9,          9,2,19880723,       2300,    63.2100,   -20.0050,        621,     2.4,  34.9849,2,  34.9770,2,    295.4,2,   296.6,2, -999.00,9, -999.00,9, -999.00,9, -999.00,9,   3.838,2,   1.759,2,-999.000,9,-999.0000,9, -999.00,9,-999.000,9,-999.000,-999.000,    10.7000,-999.0000, -999.00
32OC19880723,       A16N,       2,          1,         10,         10,2,19880723,       2300,    63.2100,   -20.0050,        621,    32.0,  35.0677,2,  35.0430,3,    282.8,2,   283.5,2, -999.00,9, -999.00,9, -999.00,9, -999.00,9,-999.000,9,-999.000,9,-999.000,9,-999.0000,9, -999.00,9,-999.000,9,-999.000,   9.000,     9.2980,-999.0000, -999.00
32OC19880723,       A16N,       2,          1,         11,         11,2,19880723,       2300,    63.2100,   -20.0050,        621,    62.5,  35.1088,2,  35.1110,2,    274.6,2,   275.2,2, -999.00,9, -999.00,9, -999.00,9, -999.00,9,-999.000,9,-999.000,9,-999.000,9,-999.0000,9, -999.00,9,-999.000,9,-999.000,-999.000,     8.3770,-999.0000, -999.00
32OC19880723,       A16N,       2,          1,         12,         12,2,19880723,       2300,    63.2100,   -20.0050,        621,   102.3,  35.1383,2,  35.1410,2,    271.0,2,   269.9,2, -999.00,9, -999.00,9, -999.00,9, -999.00,9,   3.823,2,   1.774,2,-999.000,9,-999.0000,9, -999.00,9,-999.000,9,-999.000,   9.000,     7.7510,-999.0000, -999.00
32OC19880723,       A16N,       2,          1,         13,         13,2,19880723,       2300,    63.2100,   -20.0050,        621,   152.5,  35.1433,2,  35.1460,2,    270.4,2,   269.9,2, -999.00,9, -999.00,9, -999.00,9, -999.00,9,   3.687,2,   1.716,2,-999.000,9,-999.0000,9, -999.00,9,-999.000,9,-999.000,-999.000,     7.5580,-999.0000, -999.00
32OC19880723,       A16N,       2,          1,         14,         14,2,19880723,       2300,    63.2100,   -20.0050,        621,   202.7,  35.1427,2,  35.1480,2,    269.8,2,   269.5,2, -999.00,9, -999.00,9, -999.00,9, -999.00,9,-999.000,9,-999.000,9,-999.000,9,-999.0000,9, -999.00,9,-999.000,9,-999.000,   9.000,     7.4630,-999.0000, -999.00
32OC19880723,       A16N,       2,          1,         15,         15,2,19880723,       2300,    63.2100,   -20.0050,        621,   253.7,  35.1423,2,  35.1440,2,    269.1,2,   269.5,2, -999.00,9, -999.00,9, -999.00,9, -999.00,9,-999.000,9,-999.000,9,-999.000,9,-999.0000,9, -999.00,9,-999.000,9,-999.000,-999.000,     7.3510,-999.0000, -999.00
32OC19880723,       A16N,       2,          1,         16,         16,2,19880723,       2300,    63.2100,   -20.0050,        621,   304.6,  35.1417,2,  35.1440,2,    268.6,2,   267.7,2, -999.00,9, -999.00,9, -999.00,9, -999.00,9,-999.000,9,-999.000,9,-999.000,9,-999.0000,9, -999.00,9,-999.000,9,-999.000,   9.000,     7.2990,-999.0000, -999.00
32OC19880723,       A16N,       2,          1,         17,         17,2,19880723,       2300,    63.2100,   -20.0050,        621,   354.8,  35.1400,2,  35.1420,2,    267.5,2,   268.6,2, -999.00,9, -999.00,9, -999.00,9, -999.00,9,   4.699,4,   1.612,2,-999.000,9,-999.0000,9, -999.00,9,-999.000,9,-999.000,-999.000,     7.2350,-999.0000, -999.00
32OC19880723,       A16N,       2,          1,         18,         18,2,19880723,       2300,    63.2100,   -20.0050,        621,   405.7,  35.1360,2,  35.1390,2,    267.3,2,   266.4,2, -999.00,9, -999.00,9, -999.00,9, -999.00,9,-999.000,9,-999.000,9,-999.000,9,-999.0000,9, -999.00,9,-999.000,9,-999.000,   9.000,     7.1290,-999.0000, -999.00
32OC19880723,       A16N,       2,          1,         19,         19,2,19880723,       2300,    63.2100,   -20.0050,        621,   453.6,  35.1339,2,  35.1360,2,    266.4,2,   268.2,2, -999.00,9, -999.00,9, -999.00,9, -999.00,9,   3.384,2,   1.589,2,-999.000,9,-999.0000,9, -999.00,9,-999.000,9,-999.000,-999.000,     7.0580,-999.0000, -999.00
32OC19880723,       A16N,       2,          1,         20,         20,2,19880723,       2300,    63.2100,   -20.0050,        621,   505.7,  35.1292,2,  35.1280,2,    265.8,2,   263.4,2, -999.00,9, -999.00,9, -999.00,9, -999.00,9,-999.000,9,-999.000,9,-999.000,9,-999.0000,9, -999.00,9,-999.000,9,-999.000,   9.000,     6.9490,-999.0000, -999.00
32OC19880723,       A16N,       2,          1,         21,         21,2,19880723,       2300,    63.2100,   -20.0050,        621,   546.1,  35.1256,2,  35.1260,2,    265.1,2,   264.7,2, -999.00,9, -999.00,9, -999.00,9, -999.00,9,   3.214,2,   1.464,2,-999.000,9,-999.0000,9, -999.00,9,-999.000,9,-999.000,-999.000,     6.8470,-999.0000, -999.00
32OC19880723,       A16N,       2,          1,         22,         22,2,19880723,       2300,    63.2100,   -20.0050,        621,   581.2,  35.1190,2,  35.1190,2,    264.6,2,   264.2,2, -999.00,9, -999.00,9, -999.00,9, -999.00,9,   3.192,2,   1.497,2,-999.000,9,-999.0000,9, -999.00,9,-999.000,9,-999.000,   9.000,     6.7490,-999.0000, -999.00
32OC19880723,       A16N,       2,          1,         23,         23,2,19880723,       2300,    63.2100,   -20.0050,        621,   606.2,  35.1178,2,  35.1190,2,    263.3,2,   264.7,2, -999.00,9, -999.00,9, -999.00,9, -999.00,9,   3.150,2,   1.491,2,-999.000,9,-999.0000,9, -999.00,9,-999.000,9,-999.000,-999.000,     6.7190,-999.0000, -999.00
32OC19880723,       A16N,       2,          1,         24,         24,2,19880723,       2300,    63.2100,   -20.0050,        621,   633.5,  35.1113,2,  35.1100,2,    262.6,2,   261.6,2, -999.00,9, -999.00,9, -999.00,9, -999.00,9,   3.126,2,   1.431,2,-999.000,9,-999.0000,9, -999.00,9,-999.000,9,-999.000,   9.000,     6.5760,-999.0000, -999.00
32OC19880723,       A16N,       2,          1,         99,     -999.0,9,19880723,       2300,    63.2100,   -20.0050,        621,   634.1,  35.1113,2,-999.0000,9,    262.6,2,  -999.0,9, -999.00,9, -999.00,9, -999.00,9, -999.00,9,-999.000,9,-999.000,9,-999.000,9,-999.0000,9, -999.00,9,-999.000,9,-999.000,-999.000,     6.5790,-999.0000, -999.00
32OC19880723,       A16N,       3,          1,          3,          3,2,19880724,       0054,    63.1333,   -20.0067,        927,     7.7,  35.0411,2,  35.0390,2,    278.7,2,   281.8,2, -999.00,9, -999.00,9, -999.00,9, -999.00,9,-999.000,9,-999.000,9,-999.000,9,-999.0000,9, -999.00,9,-999.000,9,-999.000,   9.000,    10.9740,-999.0000, -999.00
32OC19880723,       A16N,       3,          1,          4,          4,2,19880724,       0054,    63.1333,   -20.0067,        927,    32.9,  35.0727,2,  35.0810,2,    283.1,2,   282.6,2, -999.00,9, -999.00,9, -999.00,9, -999.00,9,-999.000,9,-999.000,9,-999.000,9,-999.0000,9, -999.00,9,-999.000,9,-999.000,-999.000,     9.2200,-999.0000, -999.00
32OC19880723,       A16N,       3,          1,          5,          5,2,19880724,       0054,    63.1333,   -20.0067,        927,    63.1,  35.1027,2,  35.1050,2,    279.3,2,   276.0,2, -999.00,9, -999.00,9, -999.00,9, -999.00,9,-999.000,9,-999.000,9,-999.000,9,-999.0000,9, -999.00,9,-999.000,9,-999.000,   9.000,     8.3460,-999.0000, -999.00
32OC19880723,       A16N,       3,          1,          6,          6,2,19880724,       0054,    63.1333,   -20.0067,        927,   154.1,  35.1372,2,  35.1370,2,    270.0,2,   270.8,2, -999.00,9, -999.00,9, -999.00,9, -999.00,9,-999.000,9,-999.000,9,-999.000,9,-999.0000,9, -999.00,9,-999.000,9,-999.000,-999.000,     7.5310,-999.0000, -999.00
32OC19880723,       A16N,       3,          1,          7,          7,2,19880724,       0054,    63.1333,   -20.0067,        927,   204.5,  35.1401,2,  35.1410,2,    270.1,2,   270.3,2, -999.00,9, -999.00,9, -999.00,9, -999.00,9,-999.000,9,-999.000,9,-999.000,9,-999.0000,9, -999.00,9,-999.000,9,-999.000,   9.000,     7.3600,-999.0000, -999.00
32OC19880723,       A16N,       3,          1,          8,          8,2,19880724,       0054,    63.1333,   -20.0067,        927,   254.8,  35.1421,2,  35.1410,2,    270.8,2,   270.8,2, -999.00,9, -999.00,9, -999.00,9, -999.00,9,-999.000,9,-999.000,9,-999.000,9,-999.0000,9, -999.00,9,-999.000,9,-999.000,-999.000,     7.2590,-999.0000, -999.00
32OC19880723,       A16N,       3,          1,          9,          9,2,19880724,       0054,    63.1333,   -20.0067,        927,   305.3,  35.1395,2,  35.1400,2,    270.8,2,   268.6,2, -999.00,9, -999.00,9, -999.00,9, -999.00,9,-999.000,9,-999.000,9,-999.000,9,-999.0000,9, -999.00,9,-999.000,9,-999.000,   9.000,     7.2000,-999.0000, -999.00
32OC19880723,       A16N,       3,          1,         10,         10,2,19880724,       0054,    63.1333,   -20.0067,        927,   356.2,  35.1373,2,  35.1360,2,    269.5,2,   268.2,2, -999.00,9, -999.00,9, -999.00,9, -999.00,9,-999.000,9,-999.000,9,-999.000,9,-999.0000,9, -999.00,9,-999.000,9,-999.000,-999.000,     7.1280,-999.0000, -999.00
32OC19880723,       A16N,       3,          1,         11,         11,2,19880724,       0054,    63.1333,   -20.0067,        927,   406.5,  35.1315,2,  35.1350,2,    268.5,2,   268.2,2, -999.00,9, -999.00,9, -999.00,9, -999.00,9,-999.000,9,-999.000,9,-999.000,9,-999.0000,9, -999.00,9,-999.000,9,-999.000,   9.000,     7.0690,-999.0000, -999.00
32OC19880723,       A16N,       3,          1,         12,         12,2,19880724,       0054,    63.1333,   -20.0067,        927,   457.0,  35.1265,2,  35.1290,2,    266.8,2,   266.4,2, -999.00,9, -999.00,9, -999.00,9, -999.00,9,-999.000,9,-999.000,9,-999.000,9,-999.0000,9, -999.00,9,-999.000,9,-999.000,-999.000,     6.9470,-999.0000, -999.00
32OC19880723,       A16N,       3,          1,         13,         13,2,19880724,       0054,    63.1333,   -20.0067,        927,   506.8,  35.1255,2,  35.1250,2,    266.6,2,   265.1,2, -999.00,9, -999.00,9, -999.00,9, -999.00,9,-999.000,9,-999.000,9,-999.000,9,-999.0000,9, -999.00,9,-999.000,9,-999.000,   9.000,     6.8130,-999.0000, -999.00
32OC19880723,       A16N,       3,          1,         14,         14,2,19880724,       0054,    63.1333,   -20.0067,        927,   557.4,  35.1094,2,  35.1070,2,    264.0,2,   254.7,3, -999.00,9, -999.00,9, -999.00,9, -999.00,9,-999.000,9,-999.000,9,-999.000,9,-999.0000,9, -999.00,9,-999.000,9,-999.000,-999.000,     6.5380,-999.0000, -999.00
32OC19880723,       A16N,       3,          1,         15,         15,2,19880724,       0054,    63.1333,   -20.0067,        927,   607.6,  35.0943,2,  35.0940,2,    253.6,2,   254.7,2, -999.00,9, -999.00,9, -999.00,9, -999.00,9,-999.000,9,-999.000,9,-999.000,9,-999.0000,9, -999.00,9,-999.000,9,-999.000,   9.000,     6.3270,-999.0000, -999.00
32OC19880723,       A16N,       3,          1,         16,         16,2,19880724,       0054,    63.1333,   -20.0067,        927,   657.6,  35.0800,2,  35.0790,2,    256.8,2,   252.5,2, -999.00,9, -999.00,9, -999.00,9, -999.00,9,-999.000,9,-999.000,9,-999.000,9,-999.0000,9, -999.00,9,-999.000,9,-999.000,-999.000,     6.0560,-999.0000, -999.00
32OC19880723,       A16N,       3,          1,         17,         17,2,19880724,       0054,    63.1333,   -20.0067,        927,   707.5,  35.0688,2,  35.0680,2,    258.6,2,   259.9,2, -999.00,9, -999.00,9, -999.00,9, -999.00,9,-999.000,9,-999.000,9,-999.000,9,-999.0000,9, -999.00,9,-999.000,9,-999.000,   9.000,     5.7910,-999.0000, -999.00
32OC19880723,       A16N,       3,          1,         18,         18,2,19880724,       0054,    63.1333,   -20.0067,        927,   758.3,  35.0596,2,  35.0660,2,    263.1,2,   263.3,2, -999.00,9, -999.00,9, -999.00,9, -999.00,9,-999.000,9,-999.000,9,-999.000,9,-999.0000,9, -999.00,9,-999.000,9,-999.000,-999.000,     5.6280,-999.0000, -999.00
32OC19880723,       A16N,       3,          1,         19,         19,2,19880724,       0054,    63.1333,   -20.0067,        927,   809.6,  35.0502,2,-999.0000,9,    265.4,2,   265.5,2, -999.00,9, -999.00,9, -999.00,9, -999.00,9,-999.000,9,-999.000,9,-999.000,9,-999.0000,9, -999.00,9,-999.000,9,-999.000,   9.000,     5.4360,-999.0000, -999.00
32OC19880723,       A16N,       3,          1,         20,         20,2,19880724,       0054,    63.1333,   -20.0067,        927,   834.8,  35.0430,2,  35.0430,2,    267.5,2,   265.9,2, -999.00,9, -999.00,9, -999.00,9, -999.00,9,-999.000,9,-999.000,9,-999.000,9,-999.0000,9, -999.00,9,-999.000,9,-999.000,-999.000,     5.2950,-999.0000, -999.00
32OC19880723,       A16N,       3,          1,         21,         21,2,19880724,       0054,    63.1333,   -20.0067,        927,   860.2,  35.0357,2,  35.0390,2,    267.3,2,   267.7,2, -999.00,9, -999.00,9, -999.00,9, -999.00,9,-999.000,9,-999.000,9,-999.000,9,-999.0000,9, -999.00,9,-999.000,9,-999.000,   9.000,     5.1830,-999.0000, -999.00
32OC19880723,       A16N,       3,          1,         22,         22,2,19880724,       0054,    63.1333,   -20.0067,        927,   885.5,  35.0327,2,  35.0340,2,    266.3,2,   268.6,2, -999.00,9, -999.00,9, -999.00,9, -999.00,9,-999.000,9,-999.000,9,-999.000,9,-999.0000,9, -999.00,9,-999.000,9,-999.000,-999.000,     5.1130,-999.0000, -999.00
32OC19880723,       A16N,       3,          1,         23,         23,2,19880724,       0054,    63.1333,   -20.0067,        927,   911.0,  35.0283,2,  35.0290,2,    267.5,2,   269.0,2, -999.00,9, -999.00,9, -999.00,9, -999.00,9,-999.000,9,-999.000,9,-999.000,9,-999.0000,9, -999.00,9,-999.000,9,-999.000,   9.000,     5.0120,-999.0000, -999.00
32OC19880723,       A16N,       3,          1,         24,         24,2,19880724,       0054,    63.1333,   -20.0067,        927,   949.8,  35.0229,2,  35.0220,2,    273.2,2,   269.9,2, -999.00,9, -999.00,9, -999.00,9, -999.00,9,-999.000,9,-999.000,9,-999.000,9,-999.0000,9, -999.00,9,-999.000,9,-999.000,-999.000,     4.8730,-999.0000, -999.00
32OC19880723,       A16N,       3,          1,         99,     -999.0,9,19880724,       0054,    63.1333,   -20.0067,        927,   950.8,-999.0000,9,-999.0000,9,   -999.0,9,  -999.0,9, -999.00,9, -999.00,9, -999.00,9, -999.00,9,-999.000,9,-999.000,9,-999.000,9,-999.0000,9, -999.00,9,-999.000,9,-999.000,   9.000,     4.8730,-999.0000, -999.00