BOTTLE,20220922CCHSIOAMB
EXPOCODE,SECT_ID,STNNBR,CASTNO,SAMPNO,BTLNBR,BTLNBR_FLAG_W,DATE,TIME,LATITUDE,LONGITUDE,DEPTH,CTDPRS,CTDSAL,CTDSAL_FLAG_W,SALNTY,SALNTY_FLAG_W,CTDOXY,CTDOXY_FLAG_W,OXYGEN,OXYGEN_FLAG_W,SILCAT,SILCAT_FLAG_W,NITRAT,NITRAT_FLAG_W,NITRIT,NITRIT_FLAG_W,PHSPHT,PHSPHT_FLAG_W,CFC-11,CFC-11_FLAG_W,CFC-12,CFC-12_FLAG_W,TRITUM,TRITUM_FLAG_W,HELIUM,HELIUM_FLAG_W,DELHE3,DELHE3_FLAG_W,NEON,NEON_FLAG_W,NEONER,TRITER,CTDTMP,HELIER,DELHER
,,,,,,,,,,,METERS,DBAR,PSS-78,,PSS-78,,UMOL/KG,,UMOL/KG,,UMOL/KG,,UMOL/KG,,UMOL/KG,,UMOL/KG,,PMOL/KG,,PMOL/KG,,TU,,NMOL/KG,,PERCNT,,NMOL/KG,,NMOL/KG,TU,IPTS-68,NMOL/KG,PERCNT
32OC19880723,       A16N,      85,          1,          7,          7,2,19880815,       1847,    21.3783,   -28.2467,       5190,    13.8,  37.1086,2,  37.0850,2,    209.8,2,   212.6,2,    0.00,2, -999.00,9,    0.00,2,    0.01,2,   1.840,2,   0.911,2,   1.312,2,   1.7065,2,   -1.20,2,-999.000,9,  -7.493,   0.036,    24.3720,   0.0119,    0.18
32OC19880723,       A16N,      85,          1,          8,          8,2,19880815,       1847,    21.3783,   -28.2467,       5190,    39.3,  37.1167,2,  37.0830,2,    207.7,2,   211.3,2,    0.00,2, -999.00,9,    0.00,2,    0.01,2,   1.867,2,   0.914,2,   1.645,2,   1.7050,2,   -1.25,2,-999.000,9,  -7.493,   0.038,    24.3030,   0.0119,    0.18
32OC19880723,       A16N,      85,          1,          9,          9,2,19880815,       1847,    21.3783,   -28.2467,       5190,    69.1,  37.1788,2,  37.1540,2,    217.2,2,   223.3,2,    0.00,2, -999.00,9,    0.00,2,    0.00,2,   1.952,2,   0.971,2,   1.881,2,   1.7164,2,   -1.10,2,-999.000,9,  -7.493,   0.041,    22.4070,   0.0120,    0.18
32OC19880723,       A16N,      85,          1,         10,         10,2,19880815,       1847,    21.3783,   -28.2467,       5190,   108.9,  37.0824,2,  37.0800,2,    203.1,2,   204.6,2,    0.30,2, -999.00,9,    0.05,2,    0.06,2,   2.062,2,   0.988,2,   1.984,2,   1.7187,2,   -0.68,2,-999.000,9,  -7.493,   0.042,    20.9000,   0.0120,    0.18
32OC19880723,       A16N,      85,          1,         11,         11,2,19880815,       1847,    21.3783,   -28.2467,       5190,   158.4,  36.8785,2,  36.7970,2,    188.9,2,   184.9,2,    0.80,2, -999.00,9,    0.01,2,    0.22,2,   1.911,2,   0.970,2,   2.171,2,   1.7341,2,    0.36,2,-999.000,9,  -7.493,   0.044,    19.1980,   0.0121,    0.18
32OC19880723,       A16N,      85,          1,         12,         12,2,19880815,       1847,    21.3783,   -28.2467,       5190,   207.4,  36.5212,2,  36.4490,2,    170.3,2,   170.1,2,    2.00,2, -999.00,9,    0.00,2,    0.47,2,   1.801,2,   0.863,2,   2.086,2,   1.7362,2,    2.07,2,-999.000,9,  -7.493,   0.044,    17.3420,   0.0122,    0.18
32OC19880723,       A16N,      85,          1,         13,         13,2,19880815,       1847,    21.3783,   -28.2467,       5190,   305.8,  36.1495,2,  36.0990,2,    170.9,2,   164.8,2,    3.60,2, -999.00,9,    0.00,2,    0.64,2,   1.404,4,   0.677,4,   2.132,2,   1.7520,2,    5.57,2,-999.000,9,  -7.493,   0.044,    15.2670,   0.0123,    0.18
32OC19880723,       A16N,      85,          1,         14,         14,2,19880815,       1847,    21.3783,   -28.2467,       5190,   404.4,  35.8631,2,  35.8540,2,    171.4,2,   185.3,2,    4.20,2, -999.00,9,    0.00,2,    0.71,2,   1.450,4,   0.689,4,   2.200,2,   1.7596,2,    8.40,2,-999.000,9,  -7.493,   0.042,    13.6780,   0.0123,    0.18
32OC19880723,       A16N,      85,          1,         15,         15,2,19880815,       1847,    21.3783,   -28.2467,       5190,   601.4,  35.4685,2,  35.4750,2,    143.1,2,   135.6,2,   10.50,2, -999.00,9,    0.00,2,    1.36,2,   0.346,2,   0.204,2,   1.294,2,   1.7750,2,    9.50,2,-999.000,9,  -7.493,   0.035,    10.8100,   0.0124,    0.18
32OC19880723,       A16N,      85,          1,         16,         16,2,19880815,       1847,    21.3783,   -28.2467,       5190,   798.8,  35.0612,2,  35.0940,2,    128.0,2,   126.5,2,   18.80,2, -999.00,9,    0.00,2,    1.85,2,   0.014,3,   0.031,2,   0.150,2,   1.7935,2,    1.73,2,-999.000,9,  -7.493,   0.019,     7.8050,   0.0126,    0.18
32OC19880723,       A16N,      85,          1,         17,         17,2,19880815,       1847,    21.3783,   -28.2467,       5190,  1044.8,  34.9861,2,  34.9910,2,    155.1,2,  -999.0,9,   21.70,2, -999.00,9,    0.00,2,    1.83,2,-999.000,9,-999.000,9,   0.015,2,   1.8151,2,    0.79,2,-999.000,9,  -7.493,   0.018,     6.0140,   0.0127,    0.18
32OC19880723,       A16N,      85,          1,         18,         18,2,19880815,       1847,    21.3783,   -28.2467,       5190,  1291.9,  35.0783,2,  35.0790,2,    190.6,2,   189.9,2,   19.50,2, -999.00,9,    0.00,2,    1.55,2,   0.029,2,   0.006,7,   0.025,2,-999.0000,9, -999.00,9,-999.000,9,-999.000,   0.019,     5.4910,-999.0000, -999.00
32OC19880723,       A16N,      85,          1,         19,         19,2,19880815,       1847,    21.3783,   -28.2467,       5190,  1539.3,  35.0595,2,  35.0590,2,    209.3,2,   209.4,2,   20.80,2, -999.00,9,    0.00,2,    1.50,2,   0.007,2,   0.006,7,   0.012,2,   1.8270,2,    0.72,2,-999.000,9,  -7.493,   0.019,     4.7130,   0.0128,    0.18
32OC19880723,       A16N,      85,          1,         20,         20,2,19880815,       1847,    21.3783,   -28.2467,       5190,  1788.7,  35.0287,2,  35.0340,2,    226.2,2,   226.8,2,   22.20,2, -999.00,9,    0.00,2,    1.43,2,   0.038,3,   0.002,7,   0.004,2,   1.8309,2,    1.24,2,-999.000,9,  -7.493,   0.021,     4.0920,   0.0128,    0.18
32OC19880723,       A16N,      85,          1,         21,         21,2,19880815,       1847,    21.3783,   -28.2467,       5190,  2130.1,  35.0089,2,  35.0130,2,    236.4,2,   235.5,2,   25.30,2, -999.00,9,    0.00,2,    1.37,2,   0.005,2,   0.002,7,-999.000,9,-999.0000,9, -999.00,9,-999.000,9,-999.000,-999.000,     3.6340,-999.0000, -999.00
32OC19880723,       A16N,      85,          1,         22,         22,2,19880815,       1847,    21.3783,   -28.2467,       5190,  2479.2,  34.9781,2,  34.9850,2,    239.8,2,   240.7,2,   29.20,2, -999.00,9,    0.00,2,    1.37,2,   0.023,2,   0.002,7,-999.000,9,-999.0000,9, -999.00,9,-999.000,9,-999.000,   9.000,     3.2320,-999.0000, -999.00
32OC19880723,       A16N,      85,          1,         23,         23,2,19880815,       1847,    21.3783,   -28.2467,       5190,  2830.1,  34.9459,2,  34.9490,2,    242.4,2,   242.0,2,   35.00,2, -999.00,9,    0.00,2,    1.43,2,   0.037,3,   0.002,7,-999.000,9,-999.0000,9, -999.00,9,-999.000,9,-999.000,-999.000,     2.8370,-999.0000, -999.00
32OC19880723,       A16N,      85,          1,         24,         24,2,19880815,       1847,    21.3783,   -28.2467,       5190,  3182.7,  34.9229,2,  34.9230,2,    244.3,2,   244.2,2,   38.90,2, -999.00,9,    0.00,2,    1.46,2,   0.062,3,   0.002,7,-999.000,9,-999.0000,9, -999.00,9,-999.000,9,-999.000,   9.000,     2.5970,-999.0000, -999.00
32OC19880723,       A16N,      85,          1,          1,          1,2,19880815,       1847,    21.3783,   -28.2467,       5190,  3537.1,  34.9071,2,  34.9100,2,    245.5,2,   245.0,2,   42.20,2, -999.00,9,    0.00,2,    1.47,2,   0.009,2,  -0.001,2,-999.000,9,-999.0000,9, -999.00,9,-999.000,9,-999.000,-999.000,     2.4620,-999.0000, -999.00
32OC19880723,       A16N,      85,          1,          2,          2,2,19880815,       1847,    21.3783,   -28.2467,       5190,  3943.6,  34.8957,2,  34.8970,2,    244.3,2,   245.0,2,   44.70,2, -999.00,9,    0.00,2,    1.47,2,  -0.027,3,   0.002,7,-999.000,9,-999.0000,9, -999.00,9,-999.000,9,-999.000,   9.000,     2.3900,-999.0000, -999.00
32OC19880723,       A16N,      85,          1,          3,          3,2,19880815,       1847,    21.3783,   -28.2467,       5190,  4352.6,  34.8876,2,  34.8890,2,    245.2,2,   245.5,2,   46.70,2, -999.00,9,    0.00,2,    1.49,2,-999.000,9,-999.000,9,-999.000,9,-999.0000,9, -999.00,9,-999.000,9,-999.000,-999.000,     2.3660,-999.0000, -999.00
32OC19880723,       A16N,      85,          1,          4,          4,2,19880815,       1847,    21.3783,   -28.2467,       5190,  4759.7,  34.8838,2,  34.8880,2,    245.1,2,   245.5,2,   47.50,2, -999.00,9,    0.01,2,    1.48,2,  -0.004,2,  -0.001,2,-999.000,9,-999.0000,9, -999.00,9,-999.000,9,-999.000,   9.000,     2.3900,-999.0000, -999.00
32OC19880723,       A16N,      85,          1,          5,          5,2,19880815,       1847,    21.3783,   -28.2467,       5190,  5113.7,  34.8826,2,  34.8860,2,    245.2,2,   244.6,2,   47.70,2, -999.00,9,    0.00,2,    1.48,2,   0.022,2,   0.002,7,-999.000,9,-999.0000,9, -999.00,9,-999.000,9,-999.000,-999.000,     2.4260,-999.0000, -999.00
32OC19880723,       A16N,      85,          1,          6,          6,2,19880815,       1847,    21.3783,   -28.2467,       5190,  5383.6,  34.8830,2,  34.8850,2,    245.4,2,  -999.0,9,   47.70,2, -999.00,9,    0.00,2,    1.46,2,   0.003,2,   0.002,7,-999.000,9,-999.0000,9, -999.00,9,-999.000,9,-999.000,   9.000,     2.4620,-999.0000, -999.00
32OC19880723,       A16N,      85,          1,         99,     -999.0,9,19880815,       1847,    21.3783,   -28.2467,       5190,  5385.2,  34.8829,2,-999.0000,9,    245.3,2,  -999.0,9, -999.00,9, -999.00,9, -999.00,9, -999.00,9,-999.000,9,-999.000,9,-999.000,9,-999.0000,9, -999.00,9,-999.000,9,-999.000,-999.000,     2.4620,-999.0000, -999.00
32OC19880723,       A16N,      86,          1,          7,          7,2,19880816,       0054,    20.6833,   -28.6117,       5165,    13.0,  37.1421,2,  37.1330,2,    210.3,2,   210.0,2,    0.00,2, -999.00,9,    0.00,2,    0.02,2,   1.920,2,   0.903,2,-999.000,9,-999.0000,9, -999.00,9,-999.000,9,-999.000,   9.000,    24.4350,-999.0000, -999.00
32OC19880723,       A16N,      86,          1,          8,          8,2,19880816,       0054,    20.6833,   -28.6117,       5165,    38.1,  37.1559,2,  37.1550,2,    212.6,2,   210.4,2,    0.00,2,    0.70,2,    0.00,2,    0.01,2,   1.860,2,   0.881,2,-999.000,9,-999.0000,9, -999.00,9,-999.000,9,-999.000,-999.000,    24.3940,-999.0000, -999.00
32OC19880723,       A16N,      86,          1,          9,          9,2,19880816,       0054,    20.6833,   -28.6117,       5165,    68.3,  37.2410,2,  37.1810,2,    220.9,2,   218.6,2,    0.00,2,    0.60,2,    0.00,2,    0.03,2,   1.825,2,   0.905,2,-999.000,9,-999.0000,9, -999.00,9,-999.000,9,-999.000,   9.000,    23.1260,-999.0000, -999.00
32OC19880723,       A16N,      86,          1,         10,         10,2,19880816,       0054,    20.6833,   -28.6117,       5165,   108.4,  37.1884,2,  37.1840,2,    206.1,2,   205.5,2,    0.20,2,    0.60,2,    0.06,2,    0.04,2,   1.932,2,   0.950,2,-999.000,9,-999.0000,9, -999.00,9,-999.000,9,-999.000,-999.000,    21.7410,-999.0000, -999.00
32OC19880723,       A16N,      86,          1,         11,         11,2,19880816,       0054,    20.6833,   -28.6117,       5165,   158.3,  36.7893,2,  36.8690,2,    180.7,2,   182.3,2,    0.80,2,    3.60,2,    0.03,2,    0.22,2,   1.915,4,   0.908,4,-999.000,9,-999.0000,9, -999.00,9,-999.000,9,-999.000,   9.000,    19.6430,-999.0000, -999.00
32OC19880723,       A16N,      86,          1,         12,         12,2,19880816,       0054,    20.6833,   -28.6117,       5165,   207.8,  36.4708,2,  36.4860,2,    168.4,2,   169.2,2,    2.00,2,    7.90,2,    0.00,2,    0.41,2,   1.818,4,   0.843,4,-999.000,9,-999.0000,9, -999.00,9,-999.000,9,-999.000,-999.000,    17.5480,-999.0000, -999.00
32OC19880723,       A16N,      86,          1,         13,         13,2,19880816,       0054,    20.6833,   -28.6117,       5165,   305.2,  36.0707,2,  36.1060,2,    156.8,2,   154.4,2,    3.90,2,   12.80,2,    0.00,2,    0.71,2,   1.487,4,   0.671,4,-999.000,9,-999.0000,9, -999.00,9,-999.000,9,-999.000,   9.000,    15.4000,-999.0000, -999.00
32OC19880723,       A16N,      86,          1,         14,         14,2,19880816,       0054,    20.6833,   -28.6117,       5165,   402.8,  35.7825,2,  35.8040,2,    151.7,2,   151.3,2,    5.70,2,   16.20,2,    0.00,2,    0.93,2,   1.183,4,   0.538,4,-999.000,9,-999.0000,9, -999.00,9,-999.000,9,-999.000,-999.000,    13.4210,-999.0000, -999.00
32OC19880723,       A16N,      86,          1,         15,         15,2,19880816,       0054,    20.6833,   -28.6117,       5165,   599.6,  35.4036,2,  35.3880,2,    131.5,2,   126.5,2,   12.00,2,   24.30,2,    0.00,2,    1.49,2,   0.233,2,   0.108,2,-999.000,9,-999.0000,9, -999.00,9,-999.000,9,-999.000,   9.000,    10.2470,-999.0000, -999.00
32OC19880723,       A16N,      86,          1,         16,         16,2,19880816,       0054,    20.6833,   -28.6117,       5165,   796.9,  35.0318,2,  35.0230,2,    125.2,2,   125.2,2,   19.90,2,   29.20,2,    0.00,2,    1.88,2,   0.089,2,   0.020,2,-999.000,9,-999.0000,9, -999.00,9,-999.000,9,-999.000,-999.000,     7.3970,-999.0000, -999.00
32OC19880723,       A16N,      86,          1,         17,         17,2,19880816,       0054,    20.6833,   -28.6117,       5165,  1045.9,  34.9862,2,  34.9970,2,    151.2,2,   153.0,2,   21.80,2,   28.40,2,    0.00,2,    1.84,2,   0.067,7,   0.006,7,-999.000,9,-999.0000,9, -999.00,9,-999.000,9,-999.000,   9.000,     6.0410,-999.0000, -999.00
32OC19880723,       A16N,      86,          1,         18,         18,2,19880816,       0054,    20.6833,   -28.6117,       5165,  1296.9,  35.0689,2,  35.0690,2,    179.1,2,   179.5,2,   20.50,2,   25.30,2,    0.00,2,    1.64,2,   0.022,2,   0.002,7,-999.000,9,-999.0000,9, -999.00,9,-999.000,9,-999.000,-999.000,     5.5540,-999.0000, -999.00
32OC19880723,       A16N,      86,          1,         19,         19,2,19880816,       0054,    20.6833,   -28.6117,       5165,  1546.7,  35.0556,2,  35.0590,2,    202.5,2,   207.7,2,   20.90,2, -999.00,9,    0.00,2,    1.48,2,   0.080,3,   0.006,7,-999.000,9,-999.0000,9, -999.00,9,-999.000,9,-999.000,   9.000,     4.7280,-999.0000, -999.00
32OC19880723,       A16N,      86,          1,         20,         20,2,19880816,       0054,    20.6833,   -28.6117,       5165,  1795.4,  35.0264,2,  35.0240,2,    219.3,2,   225.1,2,   22.60,2,   21.70,2,    0.00,2,    1.44,2,   0.032,2,   0.002,7,-999.000,9,-999.0000,9, -999.00,9,-999.000,9,-999.000,-999.000,     4.0810,-999.0000, -999.00
32OC19880723,       A16N,      86,          1,         21,         21,2,19880816,       0054,    20.6833,   -28.6117,       5165,  2144.4,  34.9970,2,  34.9990,2,    234.4,2,   235.5,2,   25.70,2,   21.40,2,    0.00,2,    1.40,2,-999.000,9,-999.000,9,-999.000,9,-999.0000,9, -999.00,9,-999.000,9,-999.000,   9.000,     3.5650,-999.0000, -999.00
32OC19880723,       A16N,      86,          1,         22,         22,2,19880816,       0054,    20.6833,   -28.6117,       5165,  2495.6,  34.9763,2,-999.0000,9,    239.4,2,   239.4,2,   29.30,2,   20.90,2,    0.00,2,    1.40,2,-999.000,9,-999.000,9,-999.000,9,-999.0000,9, -999.00,9,-999.000,9,-999.000,-999.000,     3.2050,-999.0000, -999.00
32OC19880723,       A16N,      86,          1,         23,         23,2,19880816,       0054,    20.6833,   -28.6117,       5165,  2848.8,  34.9470,2,  34.9510,2,    242.9,2,   242.9,2,   34.30,2,   21.20,2,    0.00,2,    1.39,2,-999.000,9,-999.000,9,-999.000,9,-999.0000,9, -999.00,9,-999.000,9,-999.000,   9.000,     2.8490,-999.0000, -999.00
32OC19880723,       A16N,      86,          1,         24,         24,2,19880816,       0054,    20.6833,   -28.6117,       5165,  3204.4,  34.9219,2,  34.9240,2,    244.2,2,   244.2,2,   39.10,2,   21.70,2,    0.00,2,    1.43,2,-999.000,9,-999.000,9,-999.000,9,-999.0000,9, -999.00,9,-999.000,9,-999.000,-999.000,     2.5930,-999.0000, -999.00
32OC19880723,       A16N,      86,          1,          1,          1,2,19880816,       0054,    20.6833,   -28.6117,       5165,  3561.0,  34.9078,2,  34.9090,2,    245.5,2,   245.5,2,   42.00,2,   22.10,2,    0.00,2,    1.49,2,-999.000,9,-999.000,9,-999.000,9,-999.0000,9, -999.00,9,-999.000,9,-999.000,   9.000,     2.4660,-999.0000, -999.00
32OC19880723,       A16N,      86,          1,          2,          2,2,19880816,       0054,    20.6833,   -28.6117,       5165,  3969.4,  34.8953,2,  34.8970,2,    245.5,2,   245.0,2,   44.80,2,   22.20,2,    0.00,2,    1.46,2,-999.000,9,-999.000,9,-999.000,9,-999.0000,9, -999.00,9,-999.000,9,-999.000,-999.000,     2.3840,-999.0000, -999.00
32OC19880723,       A16N,      86,          1,          3,          3,2,19880816,       0054,    20.6833,   -28.6117,       5165,  4378.9,  34.8884,2,  34.8910,2,    245.5,2,   245.5,2,   46.30,2, -999.00,9,    0.00,2,    1.46,2,-999.000,9,-999.000,9,-999.000,9,-999.0000,9, -999.00,9,-999.000,9,-999.000,   9.000,     2.3750,-999.0000, -999.00
32OC19880723,       A16N,      86,          1,          4,          4,2,19880816,       0054,    20.6833,   -28.6117,       5165,  4736.5,  34.8852,2,-999.0000,9,    244.9,2,   245.0,2,   47.00,2,   21.90,2,    0.00,2,    1.50,2,-999.000,9,-999.000,9,-999.000,9,-999.0000,9, -999.00,9,-999.000,9,-999.000,-999.000,     2.3940,-999.0000, -999.00
32OC19880723,       A16N,      86,          1,          5,          5,2,19880816,       0054,    20.6833,   -28.6117,       5165,  5092.4,  34.8845,2,  34.8860,2,    245.1,2,   245.0,2,   47.50,2,   21.90,2,    0.00,2,    1.49,2,-999.000,9,-999.000,9,-999.000,9,-999.0000,9, -999.00,9,-999.000,9,-999.000,   9.000,     2.4300,-999.0000, -999.00
32OC19880723,       A16N,      86,          1,          6,          6,2,19880816,       0054,    20.6833,   -28.6117,       5165,  5257.1,  34.8843,2,  34.8870,2,    244.3,2,   244.6,2,   47.30,2,   22.10,2,    0.00,2,    1.50,2,-999.000,9,-999.000,9,-999.000,9,-999.0000,9, -999.00,9,-999.000,9,-999.000,-999.000,     2.4490,-999.0000, -999.00
32OC19880723,       A16N,      86,          1,         99,     -999.0,9,19880816,       0054,    20.6833,   -28.6117,       5165,  5258.4,  34.8843,2,-999.0000,9,    244.3,2,  -999.0,9, -999.00,9, -999.00,9, -999.00,9, -999.00,9,-999.000,9,-999.000,9,-999.000,9,-999.0000,9, -999.00,9,-999.000,9,-999.000,   9.000,     2.4490,-999.0000, -999.00