BOTTLE,20220922CCHSIOAMB
EXPOCODE,SECT_ID,STNNBR,CASTNO,SAMPNO,BTLNBR,BTLNBR_FLAG_W,DATE,TIME,LATITUDE,LONGITUDE,DEPTH,CTDPRS,CTDSAL,CTDSAL_FLAG_W,SALNTY,SALNTY_FLAG_W,CTDOXY,CTDOXY_FLAG_W,OXYGEN,OXYGEN_FLAG_W,SILCAT,SILCAT_FLAG_W,NITRAT,NITRAT_FLAG_W,NITRIT,NITRIT_FLAG_W,PHSPHT,PHSPHT_FLAG_W,CFC-11,CFC-11_FLAG_W,CFC-12,CFC-12_FLAG_W,TRITUM,TRITUM_FLAG_W,HELIUM,HELIUM_FLAG_W,DELHE3,DELHE3_FLAG_W,NEON,NEON_FLAG_W,NEONER,TRITER,CTDTMP,HELIER,DELHER
,,,,,,,,,,,METERS,DBAR,PSS-78,,PSS-78,,UMOL/KG,,UMOL/KG,,UMOL/KG,,UMOL/KG,,UMOL/KG,,UMOL/KG,,PMOL/KG,,PMOL/KG,,TU,,NMOL/KG,,PERCNT,,NMOL/KG,,NMOL/KG,TU,IPTS-68,NMOL/KG,PERCNT
32OC19880723,       A16N,      16,          1,          6,          6,2,19880726,       1341,    57.4917,   -20.0100,       1158,     7.8,  35.2191,2,  35.2250,2,    266.1,2,   267.1,2,    0.00,2,    3.50,2,    0.10,2,    0.27,2,-999.000,9,-999.000,9,-999.000,9,-999.0000,9, -999.00,9,-999.000,9,-999.000,   9.000,    12.1760,-999.0000, -999.00
32OC19880723,       A16N,      16,          1,          7,          7,2,19880726,       1341,    57.4917,   -20.0100,       1158,    33.0,  35.2194,2,  35.2260,2,    267.3,2,   267.5,2,    0.00,2,    3.40,2,    0.10,2,    0.24,2,-999.000,9,-999.000,9,-999.000,9,-999.0000,9, -999.00,9,-999.000,9,-999.000,-999.000,    12.1490,-999.0000, -999.00
32OC19880723,       A16N,      16,          1,          8,          8,2,19880726,       1341,    57.4917,   -20.0100,       1158,    63.1,  35.2637,2,  35.3160,3,    264.0,2,   260.9,2,    1.40,2,    8.80,2,    0.40,2,    0.56,2,-999.000,9,-999.000,9,-999.000,9,-999.0000,9, -999.00,9,-999.000,9,-999.000,   9.000,    10.5270,-999.0000, -999.00
32OC19880723,       A16N,      16,          1,          9,          9,2,19880726,       1341,    57.4917,   -20.0100,       1158,   102.9,  35.3323,2,  35.3200,2,    253.3,2,   254.3,2,    4.60,2,   12.60,2,    0.01,2,    0.71,2,-999.000,9,-999.000,9,-999.000,9,-999.0000,9, -999.00,9,-999.000,9,-999.000,-999.000,     9.8470,-999.0000, -999.00
32OC19880723,       A16N,      16,          1,         10,         10,2,19880726,       1341,    57.4917,   -20.0100,       1158,   153.3,  35.3083,2,  35.3040,2,    256.6,2,   256.9,2,    5.00,2,   12.60,2,    0.00,2,    0.81,2,-999.000,9,-999.000,9,-999.000,9,-999.0000,9, -999.00,9,-999.000,9,-999.000,   9.000,     9.5810,-999.0000, -999.00
32OC19880723,       A16N,      16,          1,         11,         11,2,19880726,       1341,    57.4917,   -20.0100,       1158,   203.5,  35.2755,2,  35.2740,2,    260.6,2,   259.1,2,    5.10,2,   12.60,2,    0.00,2,    0.77,2,-999.000,9,-999.000,9,-999.000,9,-999.0000,9, -999.00,9,-999.000,9,-999.000,-999.000,     9.3690,-999.0000, -999.00
32OC19880723,       A16N,      16,          1,         12,         12,2,19880726,       1341,    57.4917,   -20.0100,       1158,   253.3,  35.2877,2,  35.2730,2,    256.6,2,   258.2,2,    5.10,2,   12.70,2,    0.00,2,    0.78,2,-999.000,9,-999.000,9,-999.000,9,-999.0000,9, -999.00,9,-999.000,9,-999.000,   9.000,     9.3070,-999.0000, -999.00
32OC19880723,       A16N,      16,          1,         13,         13,2,19880726,       1341,    57.4917,   -20.0100,       1158,   303.6,  35.2765,2,  35.2770,2,    258.7,2,   258.7,2,    5.00,2,   12.70,2,    0.00,2,    0.79,2,-999.000,9,-999.000,9,-999.000,9,-999.0000,9, -999.00,9,-999.000,9,-999.000,-999.000,     9.2330,-999.0000, -999.00
32OC19880723,       A16N,      16,          1,         14,         14,2,19880726,       1341,    57.4917,   -20.0100,       1158,   354.3,  35.2672,2,  35.2740,2,    260.7,2,   260.4,2,    5.10,2, -999.00,9,    0.00,2,    0.81,2,-999.000,9,-999.000,9,-999.000,9,-999.0000,9, -999.00,9,-999.000,9,-999.000,   9.000,     9.0640,-999.0000, -999.00
32OC19880723,       A16N,      16,          1,         15,         15,2,19880726,       1341,    57.4917,   -20.0100,       1158,   404.7,  35.2579,2,  35.2570,2,    261.1,2,   260.8,2,    5.10,2,   12.90,2,    0.00,2,    0.80,2,-999.000,9,-999.000,9,-999.000,9,-999.0000,9, -999.00,9,-999.000,9,-999.000,-999.000,     8.9430,-999.0000, -999.00
32OC19880723,       A16N,      16,          1,         16,         16,2,19880726,       1341,    57.4917,   -20.0100,       1158,   454.7,  35.2525,2,  35.2600,2,    259.4,2,   262.6,2,    5.40,2,   13.10,2,    0.00,2,    0.82,2,-999.000,9,-999.000,9,-999.000,9,-999.0000,9, -999.00,9,-999.000,9,-999.000,   9.000,     8.7900,-999.0000, -999.00
32OC19880723,       A16N,      16,          1,         17,         17,2,19880726,       1341,    57.4917,   -20.0100,       1158,   504.5,  35.2375,2,  35.2380,2,    264.3,2,   263.4,2,    5.40,2,   13.30,2,    0.00,2,    0.85,2,-999.000,9,-999.000,9,-999.000,9,-999.0000,9, -999.00,9,-999.000,9,-999.000,-999.000,     8.6520,-999.0000, -999.00
32OC19880723,       A16N,      16,          1,         18,         18,2,19880726,       1341,    57.4917,   -20.0100,       1158,   605.8,  35.2357,2,  35.2370,2,    241.3,2,   241.2,2,    7.10,2,   14.90,2,    0.00,2,    0.84,2,-999.000,9,-999.000,9,-999.000,9,-999.0000,9, -999.00,9,-999.000,9,-999.000,   9.000,     8.4310,-999.0000, -999.00
32OC19880723,       A16N,      16,          1,         19,         19,2,19880726,       1341,    57.4917,   -20.0100,       1158,   706.8,  35.2142,2,  35.2210,2,    225.7,2,   227.3,2,    8.70,2,   16.40,2,    0.00,2, -999.00,9,-999.000,9,-999.000,9,-999.000,9,-999.0000,9, -999.00,9,-999.000,9,-999.000,-999.000,     7.9920,-999.0000, -999.00
32OC19880723,       A16N,      16,          1,         20,         20,2,19880726,       1341,    57.4917,   -20.0100,       1158,   809.2,  35.1811,2,  35.1810,2,    215.4,2,   215.1,2,   10.60,2,   18.00,2,    0.00,2, -999.00,9,-999.000,9,-999.000,9,-999.000,9,-999.0000,9, -999.00,9,-999.000,9,-999.000,   9.000,     7.2090,-999.0000, -999.00
32OC19880723,       A16N,      16,          1,         21,         21,2,19880726,       1341,    57.4917,   -20.0100,       1158,   910.5,  35.1525,2,  35.1570,2,    219.5,2,   219.5,2,   11.10,2,   18.40,2,    0.00,2,    1.07,2,-999.000,9,-999.000,9,-999.000,9,-999.0000,9, -999.00,9,-999.000,9,-999.000,-999.000,     6.6110,-999.0000, -999.00
32OC19880723,       A16N,      16,          1,         22,         22,2,19880726,       1341,    57.4917,   -20.0100,       1158,  1011.4,  35.1164,2,  35.1180,2,    226.1,2,   226.4,2,   11.60,2,   18.40,2,    0.00,2,    1.08,2,-999.000,9,-999.000,9,-999.000,9,-999.0000,9, -999.00,9,-999.000,9,-999.000,   9.000,     6.0690,-999.0000, -999.00
32OC19880723,       A16N,      16,          1,         23,         23,2,19880726,       1341,    57.4917,   -20.0100,       1158,  1112.2,  35.0498,2,  35.0570,2,    236.7,2,   237.3,2,   12.40,2,   18.30,2,    0.00,2,    1.10,2,-999.000,9,-999.000,9,-999.000,9,-999.0000,9, -999.00,9,-999.000,9,-999.000,-999.000,     5.3150,-999.0000, -999.00
32OC19880723,       A16N,      16,          1,         24,         24,2,19880726,       1341,    57.4917,   -20.0100,       1158,  1174.4,  34.9886,2,  34.9890,2,    250.3,2,   251.2,2,   13.30,2,   17.90,2,    0.00,2,    1.08,2,-999.000,9,-999.000,9,-999.000,9,-999.0000,9, -999.00,9,-999.000,9,-999.000,   9.000,     4.5520,-999.0000, -999.00
32OC19880723,       A16N,      16,          1,         99,     -999.0,9,19880726,       1341,    57.4917,   -20.0100,       1158,  1176.5,  34.9883,2,-999.0000,9,    250.9,2,  -999.0,9, -999.00,9, -999.00,9, -999.00,9, -999.00,9,-999.000,9,-999.000,9,-999.000,9,-999.0000,9, -999.00,9,-999.000,9,-999.000,-999.000,     4.5490,-999.0000, -999.00
32OC19880723,       A16N,      17,          1,          8,          8,2,19880726,       1753,    56.9867,   -20.0200,        982,     3.2,  35.2516,2,  35.2520,2,    266.3,2,   266.2,2, -999.00,9,    3.90,2,    0.12,2,    0.33,2,   3.263,2,   1.525,2,-999.000,9,-999.0000,9, -999.00,9,-999.000,9,-999.000,   9.000,    12.3740,-999.0000, -999.00
32OC19880723,       A16N,      17,          1,          9,          9,2,19880726,       1753,    56.9867,   -20.0200,        982,    34.1,  35.2509,2,  35.2520,2,    264.0,2,   266.2,2, -999.00,9,    3.90,2,    0.10,2,    0.33,2,   3.361,2,   1.619,2,-999.000,9,-999.0000,9, -999.00,9,-999.000,9,-999.000,-999.000,    12.3680,-999.0000, -999.00
32OC19880723,       A16N,      17,          1,         10,         10,2,19880726,       1753,    56.9867,   -20.0200,        982,    64.1,  35.3026,2,  35.3090,2,    264.7,2,   261.8,2,    1.00,2,    8.00,2,    0.49,2,    0.56,2,   3.417,2,   1.619,2,-999.000,9,-999.0000,9, -999.00,9,-999.000,9,-999.000,   9.000,    10.6230,-999.0000, -999.00
32OC19880723,       A16N,      17,          1,         11,         11,2,19880726,       1753,    56.9867,   -20.0200,        982,   104.6,  35.3231,2,  35.3350,2,    252.9,2,   253.5,2,    4.10,2,   12.30,2,    0.02,2,    0.75,2,   3.401,2,   1.589,2,-999.000,9,-999.0000,9, -999.00,9,-999.000,9,-999.000,-999.000,     9.8730,-999.0000, -999.00
32OC19880723,       A16N,      17,          1,         12,         12,2,19880726,       1753,    56.9867,   -20.0200,        982,   155.1,  35.3059,2,  35.3100,2,    258.9,2,   258.7,2,    4.70,2,   12.40,2,    0.02,2,    0.78,2,   3.242,2,   1.588,2,-999.000,9,-999.0000,9, -999.00,9,-999.000,9,-999.000,   9.000,     9.5970,-999.0000, -999.00
32OC19880723,       A16N,      17,          1,         13,         13,2,19880726,       1753,    56.9867,   -20.0200,        982,   205.3,  35.2854,2,  35.2890,2,    257.7,2,   259.1,2,    5.00,2,   12.70,2,    0.02,2,    0.80,2,   3.182,2,   1.495,2,-999.000,9,-999.0000,9, -999.00,9,-999.000,9,-999.000,-999.000,     9.4380,-999.0000, -999.00
32OC19880723,       A16N,      17,          1,         14,         14,2,19880726,       1753,    56.9867,   -20.0200,        982,   255.2,  35.2684,2,  35.2890,2,    255.3,2,   258.7,2,    5.00,2,   12.70,2,    0.02,2,    0.77,2,-999.000,9,-999.000,9,-999.000,9,-999.0000,9, -999.00,9,-999.000,9,-999.000,   9.000,     9.3430,-999.0000, -999.00
32OC19880723,       A16N,      17,          1,         15,         15,2,19880726,       1753,    56.9867,   -20.0200,        982,   306.0,  35.2627,2,  35.2720,2,    259.5,2,   260.4,2,    5.00,2,   12.70,2,    0.01,2,    0.78,2,   3.284,2,   1.628,2,-999.000,9,-999.0000,9, -999.00,9,-999.000,9,-999.000,-999.000,     9.2370,-999.0000, -999.00
32OC19880723,       A16N,      17,          1,         16,         16,2,19880726,       1753,    56.9867,   -20.0200,        982,   356.6,  35.2574,2,  35.2630,2,    258.0,2,   259.5,2,    5.20,2,   13.00,2,    0.01,2,    0.77,2,-999.000,9,-999.000,9,-999.000,9,-999.0000,9, -999.00,9,-999.000,9,-999.000,   9.000,     9.1420,-999.0000, -999.00
32OC19880723,       A16N,      17,          1,         17,         17,2,19880726,       1753,    56.9867,   -20.0200,        982,   406.7,  35.2581,2,  35.2670,2,    261.3,2,   259.5,2,    5.30,2,   13.10,2,    0.01,2,    0.81,2,   3.531,2,   1.602,2,-999.000,9,-999.0000,9, -999.00,9,-999.000,9,-999.000,-999.000,     9.0510,-999.0000, -999.00
32OC19880723,       A16N,      17,          1,         18,         18,2,19880726,       1753,    56.9867,   -20.0200,        982,   456.9,  35.2509,2,  35.2500,2,    259.2,2,   261.3,2,    5.30,2,   13.00,2,    0.01,2,    0.78,2,   3.300,2,   1.523,2,-999.000,9,-999.0000,9, -999.00,9,-999.000,9,-999.000,   9.000,     8.9350,-999.0000, -999.00
32OC19880723,       A16N,      17,          1,         19,         19,2,19880726,       1753,    56.9867,   -20.0200,        982,   507.4,  35.2487,2,-999.0000,9,    258.6,2,  -999.0,9, -999.00,9, -999.00,9, -999.00,9, -999.00,9,-999.000,9,-999.000,9,-999.000,9,-999.0000,9, -999.00,9,-999.000,9,-999.000,-999.000,     8.8320,-999.0000, -999.00
32OC19880723,       A16N,      17,          1,         20,         20,2,19880726,       1753,    56.9867,   -20.0200,        982,   608.1,  35.2411,2,  35.2410,2,    251.8,2,   251.7,2,    6.30,2,   14.20,2,    0.01,2,    0.85,2,   3.045,2,   1.469,2,-999.000,9,-999.0000,9, -999.00,9,-999.000,9,-999.000,   9.000,     8.5910,-999.0000, -999.00
32OC19880723,       A16N,      17,          1,         21,         21,2,19880726,       1753,    56.9867,   -20.0200,        982,   709.2,  35.1403,2,  35.1480,2,    224.7,2,   223.0,2,    9.20,2,   17.10,2,    0.01,2,    1.04,2,   2.179,2,   0.984,2,-999.000,9,-999.0000,9, -999.00,9,-999.000,9,-999.000,-999.000,     7.7750,-999.0000, -999.00
32OC19880723,       A16N,      17,          1,         22,         22,2,19880726,       1753,    56.9867,   -20.0200,        982,   809.9,  35.1654,2,  35.1660,2,    212.5,2,   212.5,2,   10.50,2, -999.00,9,    0.01,2,    1.11,2,   1.730,2,   0.767,2,-999.000,9,-999.0000,9, -999.00,9,-999.000,9,-999.000,   9.000,     7.2290,-999.0000, -999.00
32OC19880723,       A16N,      17,          1,         23,         23,2,19880726,       1753,    56.9867,   -20.0200,        982,   911.6,  35.1538,2,  35.1500,2,    216.0,2,   217.3,2,   10.90,2,   18.50,2,    0.01,2,    1.17,2,   1.550,4,   0.610,4,-999.000,9,-999.0000,9, -999.00,9,-999.000,9,-999.000,-999.000,     6.5690,-999.0000, -999.00
32OC19880723,       A16N,      17,          1,         24,         24,2,19880726,       1753,    56.9867,   -20.0200,        982,   985.2,  35.1217,2,  35.1240,2,    224.0,2,   223.4,2,   11.20,2,   18.50,2,    0.01,2,    1.15,2,   1.522,2,   0.655,2,-999.000,9,-999.0000,9, -999.00,9,-999.000,9,-999.000,   9.000,     6.1230,-999.0000, -999.00
32OC19880723,       A16N,      17,          1,         99,     -999.0,9,19880726,       1753,    56.9867,   -20.0200,        982,   987.9,  35.1215,2,-999.0000,9,    224.1,2,  -999.0,9, -999.00,9, -999.00,9, -999.00,9, -999.00,9,-999.000,9,-999.000,9,-999.000,9,-999.0000,9, -999.00,9,-999.000,9,-999.000,-999.000,     6.1230,-999.0000, -999.00