BOTTLE,20220922CCHSIOAMB
EXPOCODE,SECT_ID,STNNBR,CASTNO,SAMPNO,BTLNBR,BTLNBR_FLAG_W,DATE,TIME,LATITUDE,LONGITUDE,DEPTH,CTDPRS,CTDSAL,CTDSAL_FLAG_W,SALNTY,SALNTY_FLAG_W,CTDOXY,CTDOXY_FLAG_W,OXYGEN,OXYGEN_FLAG_W,SILCAT,SILCAT_FLAG_W,NITRAT,NITRAT_FLAG_W,NITRIT,NITRIT_FLAG_W,PHSPHT,PHSPHT_FLAG_W,CFC-11,CFC-11_FLAG_W,CFC-12,CFC-12_FLAG_W,TRITUM,TRITUM_FLAG_W,HELIUM,HELIUM_FLAG_W,DELHE3,DELHE3_FLAG_W,NEON,NEON_FLAG_W,NEONER,TRITER,CTDTMP,HELIER,DELHER
,,,,,,,,,,,METERS,DBAR,PSS-78,,PSS-78,,UMOL/KG,,UMOL/KG,,UMOL/KG,,UMOL/KG,,UMOL/KG,,UMOL/KG,,PMOL/KG,,PMOL/KG,,TU,,NMOL/KG,,PERCNT,,NMOL/KG,,NMOL/KG,TU,IPTS-68,NMOL/KG,PERCNT
32OC19880723,       A16N,      18,          1,          4,          4,2,19880727,       0054,    56.4867,   -20.0200,       1366,     5.9,  35.3012,2,  35.2980,2,    267.2,2,   264.0,2, -999.00,9,    4.00,2,    0.09,2,    0.31,2,-999.000,9,-999.000,9,-999.000,9,-999.0000,9, -999.00,9,-999.000,9,-999.000,   9.000,    12.4190,-999.0000, -999.00
32OC19880723,       A16N,      18,          1,          5,          5,2,19880727,       0054,    56.4867,   -20.0200,       1366,    33.1,  35.3027,2,  35.2970,2,    261.3,2,   264.5,2, -999.00,9,    3.90,2,    0.09,2,    0.29,2,-999.000,9,-999.000,9,-999.000,9,-999.0000,9, -999.00,9,-999.000,9,-999.000,-999.000,    12.4240,-999.0000, -999.00
32OC19880723,       A16N,      18,          1,          6,          6,2,19880727,       0054,    56.4867,   -20.0200,       1366,    62.8,  35.3855,2,  35.3780,2,    253.9,2,   256.1,2,    1.90,2,    9.70,2,    0.18,2,    0.58,2,-999.000,9,-999.000,9,-999.000,9,-999.0000,9, -999.00,9,-999.000,9,-999.000,   9.000,    10.8240,-999.0000, -999.00
32OC19880723,       A16N,      18,          1,          7,          7,2,19880727,       0054,    56.4867,   -20.0200,       1366,    62.8,  35.3855,2,  35.3780,2,    253.9,2,   256.1,2,    1.90,2,    9.70,2,    0.18,2,    0.59,2,-999.000,9,-999.000,9,-999.000,9,-999.0000,9, -999.00,9,-999.000,9,-999.000,-999.000,    10.8240,-999.0000, -999.00
32OC19880723,       A16N,      18,          1,          8,          8,2,19880727,       0054,    56.4867,   -20.0200,       1366,   101.8,  35.3715,2,  35.3880,2,    252.3,2,   253.5,2,    3.10,2,   11.70,2,    0.01,2,    0.67,2,-999.000,9,-999.000,9,-999.000,9,-999.0000,9, -999.00,9,-999.000,9,-999.000,   9.000,    10.2390,-999.0000, -999.00
32OC19880723,       A16N,      18,          1,          9,          9,2,19880727,       0054,    56.4867,   -20.0200,       1366,   152.7,  35.3728,2,  35.3650,2,    254.3,2,   255.2,2,    4.20,2,   12.10,2,    0.02,2,    0.73,2,-999.000,9,-999.000,9,-999.000,9,-999.0000,9, -999.00,9,-999.000,9,-999.000,-999.000,    10.0170,-999.0000, -999.00
32OC19880723,       A16N,      18,          1,         95,     -999.0,9,19880727,       0054,    56.4867,   -20.0200,       1366,   201.8,  35.3226,2,-999.0000,9,    255.7,2,  -999.0,9, -999.00,9, -999.00,9, -999.00,9, -999.00,9,-999.000,9,-999.000,9,-999.000,9,-999.0000,9, -999.00,9,-999.000,9,-999.000,   9.000,     9.8330,-999.0000, -999.00
32OC19880723,       A16N,      18,          1,         11,         11,2,19880727,       0054,    56.4867,   -20.0200,       1366,   251.6,  35.2968,2,  35.3120,2,    259.0,2,   257.8,2,    5.20,2,   12.80,2,    0.01,2,    0.76,2,-999.000,9,-999.000,9,-999.000,9,-999.0000,9, -999.00,9,-999.000,9,-999.000,-999.000,     9.5490,-999.0000, -999.00
32OC19880723,       A16N,      18,          1,         10,         10,2,19880727,       0054,    56.4867,   -20.0200,       1366,   251.6,  35.2968,2,  35.3050,2,    259.0,2,   257.8,2,    5.00,2,   12.70,2,    0.01,2,    0.75,2,-999.000,9,-999.000,9,-999.000,9,-999.0000,9, -999.00,9,-999.000,9,-999.000,   9.000,     9.5490,-999.0000, -999.00
32OC19880723,       A16N,      18,          1,         12,         12,2,19880727,       0054,    56.4867,   -20.0200,       1366,   300.4,  35.2779,2,  35.3010,2,    254.4,2,   256.9,2,    5.30,2,   12.90,2,    0.01,2,    0.76,2,-999.000,9,-999.000,9,-999.000,9,-999.0000,9, -999.00,9,-999.000,9,-999.000,-999.000,     9.4350,-999.0000, -999.00
32OC19880723,       A16N,      18,          1,         96,     -999.0,9,19880727,       0054,    56.4867,   -20.0200,       1366,   351.0,  35.2785,2,-999.0000,9,    260.3,2,  -999.0,9, -999.00,9, -999.00,9, -999.00,9, -999.00,9,-999.000,9,-999.000,9,-999.000,9,-999.0000,9, -999.00,9,-999.000,9,-999.000,   9.000,     9.2110,-999.0000, -999.00
32OC19880723,       A16N,      18,          1,         13,         13,2,19880727,       0054,    56.4867,   -20.0200,       1366,   400.4,  35.2680,2,  35.2780,2,    260.8,2,   257.4,2,    5.30,2,   13.20,2,    0.01,2,    0.80,2,-999.000,9,-999.000,9,-999.000,9,-999.0000,9, -999.00,9,-999.000,9,-999.000,-999.000,     9.1760,-999.0000, -999.00
32OC19880723,       A16N,      18,          1,         14,         14,2,19880727,       0054,    56.4867,   -20.0200,       1366,   449.2,  35.2406,2,  35.2400,2,    262.5,2,   261.7,2,    5.30,2,   13.10,2,    0.01,2,    0.79,2,-999.000,9,-999.000,9,-999.000,9,-999.0000,9, -999.00,9,-999.000,9,-999.000,   9.000,     8.8900,-999.0000, -999.00
32OC19880723,       A16N,      18,          1,         15,         15,2,19880727,       0054,    56.4867,   -20.0200,       1366,   498.1,  35.2531,2,  35.2460,2,    259.9,2,   262.1,2,    5.30,2,   13.20,2,    0.01,2,    0.82,2,-999.000,9,-999.000,9,-999.000,9,-999.0000,9, -999.00,9,-999.000,9,-999.000,-999.000,     8.8750,-999.0000, -999.00
32OC19880723,       A16N,      18,          1,         16,         16,2,19880727,       0054,    56.4867,   -20.0200,       1366,   598.1,  35.2507,2,  35.2470,2,    259.7,2,   258.2,2,    5.80,2,   13.70,2,    0.01,2,    0.82,2,-999.000,9,-999.000,9,-999.000,9,-999.0000,9, -999.00,9,-999.000,9,-999.000,   9.000,     8.6780,-999.0000, -999.00
32OC19880723,       A16N,      18,          1,         17,         17,2,19880727,       0054,    56.4867,   -20.0200,       1366,   699.0,  35.2234,2,-999.0000,9,    259.6,2,  -999.0,9, -999.00,9, -999.00,9, -999.00,9, -999.00,9,-999.000,9,-999.000,9,-999.000,9,-999.0000,9, -999.00,9,-999.000,9,-999.000,-999.000,     8.3600,-999.0000, -999.00
32OC19880723,       A16N,      18,          1,         18,         18,2,19880727,       0054,    56.4867,   -20.0200,       1366,   800.2,  35.2005,2,  35.2090,2,    216.9,2,   217.3,2,    9.60,2,   17.80,2,    0.01,2,    1.09,2,-999.000,9,-999.000,9,-999.000,9,-999.0000,9, -999.00,9,-999.000,9,-999.000,   9.000,     7.8180,-999.0000, -999.00
32OC19880723,       A16N,      18,          1,         19,         19,2,19880727,       0054,    56.4867,   -20.0200,       1366,   800.2,  35.2005,2,  35.2130,2,    216.9,2,   216.9,2,    9.60,2,   17.50,2,    0.01,2,    1.07,2,-999.000,9,-999.000,9,-999.000,9,-999.0000,9, -999.00,9,-999.000,9,-999.000,-999.000,     7.8180,-999.0000, -999.00
32OC19880723,       A16N,      18,          1,         20,         20,2,19880727,       0054,    56.4867,   -20.0200,       1366,   903.2,  35.1881,2,  35.1850,2,    214.7,2,   213.8,2,   10.50,2,   18.40,2,    0.01,2,    1.13,2,-999.000,9,-999.000,9,-999.000,9,-999.0000,9, -999.00,9,-999.000,9,-999.000,   9.000,     7.1030,-999.0000, -999.00
32OC19880723,       A16N,      18,          1,         97,     -999.0,9,19880727,       0054,    56.4867,   -20.0200,       1366,  1003.8,  35.1414,2,-999.0000,9,    223.5,2,  -999.0,9, -999.00,9, -999.00,9, -999.00,9, -999.00,9,-999.000,9,-999.000,9,-999.000,9,-999.0000,9, -999.00,9,-999.000,9,-999.000,-999.000,     6.2910,-999.0000, -999.00
32OC19880723,       A16N,      18,          1,         21,         21,2,19880727,       0054,    56.4867,   -20.0200,       1366,  1106.7,  35.0729,2,  35.0750,2,    235.7,2,   235.5,2,   11.20,2,   18.50,2,    0.01,2,    1.14,2,-999.000,9,-999.000,9,-999.000,9,-999.0000,9, -999.00,9,-999.000,9,-999.000,   9.000,     5.5350,-999.0000, -999.00
32OC19880723,       A16N,      18,          1,         22,         22,2,19880727,       0054,    56.4867,   -20.0200,       1366,  1208.8,  35.0169,2,  35.0180,2,    248.4,2,   249.0,2,   11.20,2,   18.20,2,    0.01,2,    1.11,2,-999.000,9,-999.000,9,-999.000,9,-999.0000,9, -999.00,9,-999.000,9,-999.000,-999.000,     4.8710,-999.0000, -999.00
32OC19880723,       A16N,      18,          1,         23,         23,2,19880727,       0054,    56.4867,   -20.0200,       1366,  1208.8,  35.0169,2,  35.0170,2,    248.4,2,   249.0,2,   11.20,2,   18.00,2,    0.01,2,    1.11,2,-999.000,9,-999.000,9,-999.000,9,-999.0000,9, -999.00,9,-999.000,9,-999.000,   9.000,     4.8710,-999.0000, -999.00
32OC19880723,       A16N,      18,          1,         98,     -999.0,9,19880727,       0054,    56.4867,   -20.0200,       1366,  1311.7,  34.9676,2,-999.0000,9,    258.9,2,  -999.0,9, -999.00,9, -999.00,9, -999.00,9, -999.00,9,-999.000,9,-999.000,9,-999.000,9,-999.0000,9, -999.00,9,-999.000,9,-999.000,-999.000,     4.2530,-999.0000, -999.00
32OC19880723,       A16N,      18,          1,         24,         24,2,19880727,       0054,    56.4867,   -20.0200,       1366,  1376.5,  34.9461,2,  34.9510,2,    263.7,2,   264.6,2,   13.00,2,   17.70,2,    0.01,2,    1.09,2,-999.000,9,-999.000,9,-999.000,9,-999.0000,9, -999.00,9,-999.000,9,-999.000,   9.000,     3.9080,-999.0000, -999.00
32OC19880723,       A16N,      18,          1,         99,     -999.0,9,19880727,       0054,    56.4867,   -20.0200,       1366,  1379.1,  34.9467,2,-999.0000,9,    263.1,2,  -999.0,9, -999.00,9, -999.00,9, -999.00,9, -999.00,9,-999.000,9,-999.000,9,-999.000,9,-999.0000,9, -999.00,9,-999.000,9,-999.000,-999.000,     3.9080,-999.0000, -999.00
32OC19880723,       A16N,      19,          1,          4,          4,2,19880727,       0511,    55.9883,   -20.0300,       1415,     9.3,  35.3483,2,  35.3480,2,    260.2,2,   264.0,2,    0.00,2,    3.40,2,    0.09,2,    0.26,2,-999.000,9,-999.000,9,-999.000,9,-999.0000,9, -999.00,9,-999.000,9,-999.000,   9.000,    12.6310,-999.0000, -999.00
32OC19880723,       A16N,      19,          1,          5,          5,2,19880727,       0511,    55.9883,   -20.0300,       1415,     9.3,  35.3483,2,  35.3480,2,    260.2,2,   264.0,2,    0.00,2,    3.40,2,    0.09,2,    0.28,2,-999.000,9,-999.000,9,-999.000,9,-999.0000,9, -999.00,9,-999.000,9,-999.000,-999.000,    12.6310,-999.0000, -999.00
32OC19880723,       A16N,      19,          1,          6,          6,2,19880727,       0511,    55.9883,   -20.0300,       1415,    64.6,  35.3673,2,  35.3630,2,    261.5,2,   258.3,2,    1.30,2,    7.70,2,    0.39,2,    0.53,2,-999.000,9,-999.000,9,-999.000,9,-999.0000,9, -999.00,9,-999.000,9,-999.000,   9.000,    10.9400,-999.0000, -999.00
32OC19880723,       A16N,      19,          1,          7,          7,2,19880727,       0511,    55.9883,   -20.0300,       1415,    64.6,  35.3673,2,  35.3720,2,    261.5,2,   258.7,2,    1.30,2,    7.60,2,    0.39,2,    0.52,2,-999.000,9,-999.000,9,-999.000,9,-999.0000,9, -999.00,9,-999.000,9,-999.000,-999.000,    10.9400,-999.0000, -999.00
32OC19880723,       A16N,      19,          1,          8,          8,2,19880727,       0511,    55.9883,   -20.0300,       1415,   155.1,  35.3913,2,  35.3960,2,    253.9,2,   251.7,2,    4.50,2,   12.00,2,    0.03,2,    0.69,2,-999.000,9,-999.000,9,-999.000,9,-999.0000,9, -999.00,9,-999.000,9,-999.000,   9.000,    10.1730,-999.0000, -999.00
32OC19880723,       A16N,      19,          1,          9,          9,2,19880727,       0511,    55.9883,   -20.0300,       1415,   205.8,  35.3680,2,  35.3650,2,    258.0,2,   256.5,2,    4.90,2,   11.90,2,    0.00,2,    0.68,2,-999.000,9,-999.000,9,-999.000,9,-999.0000,9, -999.00,9,-999.000,9,-999.000,-999.000,     9.9990,-999.0000, -999.00
32OC19880723,       A16N,      19,          1,         10,         10,2,19880727,       0511,    55.9883,   -20.0300,       1415,   255.7,  35.3172,2,  35.3160,2,    257.4,2,   255.2,2,    5.30,2,   12.60,2,    0.00,2,    0.73,2,-999.000,9,-999.000,9,-999.000,9,-999.0000,9, -999.00,9,-999.000,9,-999.000,   9.000,     9.6900,-999.0000, -999.00
32OC19880723,       A16N,      19,          1,         11,         11,2,19880727,       0511,    55.9883,   -20.0300,       1415,   306.6,  35.2900,2,  35.2760,2,    257.1,2,   257.4,2,    5.70,2,   12.80,2,    0.00,2,    0.76,2,-999.000,9,-999.000,9,-999.000,9,-999.0000,9, -999.00,9,-999.000,9,-999.000,-999.000,     9.4340,-999.0000, -999.00
32OC19880723,       A16N,      19,          1,         12,         12,2,19880727,       0511,    55.9883,   -20.0300,       1415,   306.6,  35.2900,2,  35.2780,2,    257.1,2,   257.4,2,    5.70,2,   12.90,2,    0.01,2,    0.73,2,-999.000,9,-999.000,9,-999.000,9,-999.0000,9, -999.00,9,-999.000,9,-999.000,   9.000,     9.4340,-999.0000, -999.00
32OC19880723,       A16N,      19,          1,         13,         13,2,19880727,       0511,    55.9883,   -20.0300,       1415,   407.6,  35.2920,2,  35.2900,2,    256.6,2,   254.7,2,    5.70,2,   13.10,2,    0.01,2,    0.78,2,-999.000,9,-999.000,9,-999.000,9,-999.0000,9, -999.00,9,-999.000,9,-999.000,-999.000,     9.3140,-999.0000, -999.00
32OC19880723,       A16N,      19,          1,         14,         14,2,19880727,       0511,    55.9883,   -20.0300,       1415,   457.5,  35.3091,2,  35.3070,2,    258.6,2,   253.4,2,    5.80,2,   13.20,2,    0.01,2, -999.00,9,-999.000,9,-999.000,9,-999.000,9,-999.0000,9, -999.00,9,-999.000,9,-999.000,   9.000,     9.2890,-999.0000, -999.00
32OC19880723,       A16N,      19,          1,         15,         15,2,19880727,       0511,    55.9883,   -20.0300,       1415,   507.5,  35.2965,2,  35.3050,2,    253.8,2,   253.4,2,    5.80,2,   13.30,2,    0.01,2,    0.78,2,-999.000,9,-999.000,9,-999.000,9,-999.0000,9, -999.00,9,-999.000,9,-999.000,-999.000,     9.1710,-999.0000, -999.00
32OC19880723,       A16N,      19,          1,         16,         16,2,19880727,       0511,    55.9883,   -20.0300,       1415,   608.9,  35.2625,2,  35.2650,2,    239.5,2,   237.8,2,    7.30,2,   14.90,2,    0.01,2,    0.86,2,-999.000,9,-999.000,9,-999.000,9,-999.0000,9, -999.00,9,-999.000,9,-999.000,   9.000,     8.6840,-999.0000, -999.00
32OC19880723,       A16N,      19,          1,         17,         17,2,19880727,       0511,    55.9883,   -20.0300,       1415,   708.1,  35.2045,2,  35.2260,2,    215.9,2,   218.2,2,    9.40,2,   17.20,2,    0.01,2,    1.04,2,-999.000,9,-999.000,9,-999.000,9,-999.0000,9, -999.00,9,-999.000,9,-999.000,-999.000,     7.9990,-999.0000, -999.00
32OC19880723,       A16N,      19,          1,         18,         18,2,19880727,       0511,    55.9883,   -20.0300,       1415,   808.7,  35.1921,2,  35.1930,2,    212.8,2,   212.5,2,   10.60,2,   18.20,2,    0.01,2,    1.06,2,-999.000,9,-999.000,9,-999.000,9,-999.0000,9, -999.00,9,-999.000,9,-999.000,   9.000,     7.3600,-999.0000, -999.00
32OC19880723,       A16N,      19,          1,         19,         19,2,19880727,       0511,    55.9883,   -20.0300,       1415,   808.7,  35.1921,2,  35.1910,2,    212.8,2,   212.5,2,   10.60,2,   18.40,2,    0.01,2,    1.07,2,-999.000,9,-999.000,9,-999.000,9,-999.0000,9, -999.00,9,-999.000,9,-999.000,-999.000,     7.3600,-999.0000, -999.00
32OC19880723,       A16N,      19,          1,         20,         20,2,19880727,       0511,    55.9883,   -20.0300,       1415,  1114.0,  35.0356,2,  35.0340,2,    242.1,2,   242.9,2,   11.10,2,   18.40,2,    0.01,2,    1.11,2,-999.000,9,-999.000,9,-999.000,9,-999.0000,9, -999.00,9,-999.000,9,-999.000,   9.000,     5.1260,-999.0000, -999.00
32OC19880723,       A16N,      19,          1,         21,         21,2,19880727,       0511,    55.9883,   -20.0300,       1415,  1215.2,  34.9948,2,  34.9940,2,    255.4,2,   255.9,2,   11.10,2,   17.80,2,    0.01,2,    1.07,2,-999.000,9,-999.000,9,-999.000,9,-999.0000,9, -999.00,9,-999.000,9,-999.000,-999.000,     4.6070,-999.0000, -999.00
32OC19880723,       A16N,      19,          1,         22,         22,2,19880727,       0511,    55.9883,   -20.0300,       1415,  1316.3,  34.9642,2,  34.9640,2,    261.8,2,   262.5,2,   11.40,2,   17.50,2,    0.01,2,    1.07,2,-999.000,9,-999.000,9,-999.000,9,-999.0000,9, -999.00,9,-999.000,9,-999.000,   9.000,     4.2360,-999.0000, -999.00
32OC19880723,       A16N,      19,          1,         23,         23,2,19880727,       0511,    55.9883,   -20.0300,       1415,  1417.4,  34.9509,2,  34.9510,2,    267.8,2,   266.8,2,   12.00,2,   17.40,2,    0.00,2, -999.00,9,-999.000,9,-999.000,9,-999.000,9,-999.0000,9, -999.00,9,-999.000,9,-999.000,-999.000,     3.9820,-999.0000, -999.00
32OC19880723,       A16N,      19,          1,         24,         24,2,19880727,       0511,    55.9883,   -20.0300,       1415,  1470.7,  34.9460,2,  34.9460,2,    263.3,2,   265.5,2,   12.50,2,   17.50,2,    0.03,2,    1.07,2,-999.000,9,-999.000,9,-999.000,9,-999.0000,9, -999.00,9,-999.000,9,-999.000,   9.000,     3.8560,-999.0000, -999.00
32OC19880723,       A16N,      19,          1,         99,     -999.0,9,19880727,       0511,    55.9883,   -20.0300,       1415,  1473.3,  34.9459,2,-999.0000,9,    263.5,2,  -999.0,9, -999.00,9, -999.00,9, -999.00,9, -999.00,9,-999.000,9,-999.000,9,-999.000,9,-999.0000,9, -999.00,9,-999.000,9,-999.000,-999.000,     3.8560,-999.0000, -999.00