BOTTLE,20220922CCHSIOAMB
EXPOCODE,SECT_ID,STNNBR,CASTNO,SAMPNO,BTLNBR,BTLNBR_FLAG_W,DATE,TIME,LATITUDE,LONGITUDE,DEPTH,CTDPRS,CTDSAL,CTDSAL_FLAG_W,SALNTY,SALNTY_FLAG_W,CTDOXY,CTDOXY_FLAG_W,OXYGEN,OXYGEN_FLAG_W,SILCAT,SILCAT_FLAG_W,NITRAT,NITRAT_FLAG_W,NITRIT,NITRIT_FLAG_W,PHSPHT,PHSPHT_FLAG_W,CFC-11,CFC-11_FLAG_W,CFC-12,CFC-12_FLAG_W,TRITUM,TRITUM_FLAG_W,HELIUM,HELIUM_FLAG_W,DELHE3,DELHE3_FLAG_W,NEON,NEON_FLAG_W,NEONER,TRITER,CTDTMP,HELIER,DELHER
,,,,,,,,,,,METERS,DBAR,PSS-78,,PSS-78,,UMOL/KG,,UMOL/KG,,UMOL/KG,,UMOL/KG,,UMOL/KG,,UMOL/KG,,PMOL/KG,,PMOL/KG,,TU,,NMOL/KG,,PERCNT,,NMOL/KG,,NMOL/KG,TU,IPTS-68,NMOL/KG,PERCNT
32OC19880723,       A16N,      32,          1,          1,          1,2,19880729,       1712,    49.4683,   -20.0033,       3790,     6.5,  35.5955,2,  35.5890,2,    261.3,2,   259.3,2,    0.00,2,    0.60,2,    0.06,2,    0.11,2,-999.000,9,-999.000,9,-999.000,9,-999.0000,9, -999.00,9,-999.000,9,-999.000,   9.000,    14.6520,-999.0000, -999.00
32OC19880723,       A16N,      32,          1,          2,          2,2,19880729,       1712,    49.4683,   -20.0033,       3790,    37.3,  35.6316,2,  35.5960,2,    254.8,2,   257.1,2,    0.00,2,    0.80,2,    0.09,2,    0.15,2,-999.000,9,-999.000,9,-999.000,9,-999.0000,9, -999.00,9,-999.000,9,-999.000,-999.000,    14.6020,-999.0000, -999.00
32OC19880723,       A16N,      32,          1,          3,          3,2,19880729,       1712,    49.4683,   -20.0033,       3790,    67.4,  35.6167,2,  35.6380,2,    255.8,2,   248.3,2,    2.10,2,    7.70,2,    0.01,2,    0.42,2,-999.000,9,-999.000,9,-999.000,9,-999.0000,9, -999.00,9,-999.000,9,-999.000,   9.000,    12.5080,-999.0000, -999.00
32OC19880723,       A16N,      32,          1,          4,          4,2,19880729,       1712,    49.4683,   -20.0033,       3790,   107.9,  35.6754,2,  35.6480,2,    242.4,2,   246.1,2,    2.60,2,    8.40,2,    0.00,2,    0.48,2,-999.000,9,-999.000,9,-999.000,9,-999.0000,9, -999.00,9,-999.000,9,-999.000,-999.000,    12.2350,-999.0000, -999.00
32OC19880723,       A16N,      32,          1,          5,          5,2,19880729,       1712,    49.4683,   -20.0033,       3790,   158.2,  35.6040,2,  35.6070,2,    243.4,2,   246.1,2,    3.50,2,    9.70,2,    0.00,2,    0.53,2,-999.000,9,-999.000,9,-999.000,9,-999.0000,9, -999.00,9,-999.000,9,-999.000,   9.000,    11.8720,-999.0000, -999.00
32OC19880723,       A16N,      32,          1,          6,          6,2,19880729,       1712,    49.4683,   -20.0033,       3790,   208.3,  35.5647,2,  35.5650,2,    242.8,2,   243.1,2,    4.10,2,   10.60,2,    0.00,2,    0.60,2,-999.000,9,-999.000,9,-999.000,9,-999.0000,9, -999.00,9,-999.000,9,-999.000,-999.000,    11.6080,-999.0000, -999.00
32OC19880723,       A16N,      32,          1,          7,          7,2,19880729,       1712,    49.4683,   -20.0033,       3790,   308.8,  35.4818,2,  35.4790,2,    242.3,2,   239.6,2,    4.40,2,   11.40,2,    0.00,2,    0.64,2,-999.000,9,-999.000,9,-999.000,9,-999.0000,9, -999.00,9,-999.000,9,-999.000,   9.000,    11.0130,-999.0000, -999.00
32OC19880723,       A16N,      32,          1,          8,          8,2,19880729,       1712,    49.4683,   -20.0033,       3790,   409.6,  35.4070,2,  35.4040,2,    244.2,2,   242.6,2,    5.10,2,   12.30,2,    0.00,2,    0.69,2,-999.000,9,-999.000,9,-999.000,9,-999.0000,9, -999.00,9,-999.000,9,-999.000,-999.000,    10.5020,-999.0000, -999.00
32OC19880723,       A16N,      32,          1,          9,          9,2,19880729,       1712,    49.4683,   -20.0033,       3790,   510.2,  35.3718,2,  35.2820,2,    241.2,2,   228.2,3,    6.70,2,   14.50,2,    0.00,2,    0.90,2,-999.000,9,-999.000,9,-999.000,9,-999.0000,9, -999.00,9,-999.000,9,-999.000,   9.000,     9.7050,-999.0000, -999.00
32OC19880723,       A16N,      32,          1,         10,         10,2,19880729,       1712,    49.4683,   -20.0033,       3790,   608.0,  35.2257,2,  35.2190,2,    218.1,2,   214.8,2,    8.40,2,   16.40,2,    0.00,2,    0.99,2,-999.000,9,-999.000,9,-999.000,9,-999.0000,9, -999.00,9,-999.000,9,-999.000,-999.000,     9.0390,-999.0000, -999.00
32OC19880723,       A16N,      32,          1,         11,         11,2,19880729,       1712,    49.4683,   -20.0033,       3790,   705.7,  35.3255,2,  35.3330,2,    202.1,2,   202.1,2,    8.80,2,   17.00,2,    0.00,2,    1.02,2,-999.000,9,-999.000,9,-999.000,9,-999.0000,9, -999.00,9,-999.000,9,-999.000,   9.000,     8.9400,-999.0000, -999.00
32OC19880723,       A16N,      32,          1,         12,         12,2,19880729,       1712,    49.4683,   -20.0033,       3790,   803.4,  35.2771,2,  35.2740,2,    198.3,2,   199.1,2,   10.60,2,   18.30,2,    0.00,2,    1.11,2,-999.000,9,-999.000,9,-999.000,9,-999.0000,9, -999.00,9,-999.000,9,-999.000,-999.000,     7.9270,-999.0000, -999.00
32OC19880723,       A16N,      32,          1,         13,         13,2,19880729,       1712,    49.4683,   -20.0033,       3790,   892.8,  35.2343,2,  35.2660,2,    204.2,2,   205.1,2,   10.70,2,   18.40,2,    0.00,2,    1.10,2,-999.000,9,-999.000,9,-999.000,9,-999.0000,9, -999.00,9,-999.000,9,-999.000,   9.000,     7.3700,-999.0000, -999.00
32OC19880723,       A16N,      32,          1,         14,         14,2,19880729,       1712,    49.4683,   -20.0033,       3790,   986.0,  35.2330,2,  35.2030,2,    213.9,2,   216.9,2,   10.80,2,   18.40,2,    0.00,2, -999.00,9,-999.000,9,-999.000,9,-999.000,9,-999.0000,9, -999.00,9,-999.000,9,-999.000,-999.000,     6.5740,-999.0000, -999.00
32OC19880723,       A16N,      32,          1,         15,         15,2,19880729,       1712,    49.4683,   -20.0033,       3790,  1179.4,  34.9629,2,  34.9660,2,    253.7,2,   252.9,2,   10.70,2,   17.90,2,    0.00,2,    1.12,2,-999.000,9,-999.000,9,-999.000,9,-999.0000,9, -999.00,9,-999.000,9,-999.000,   9.000,     4.6090,-999.0000, -999.00
32OC19880723,       A16N,      32,          1,         16,         16,2,19880729,       1712,    49.4683,   -20.0033,       3790,  1474.8,  34.9071,2,  34.9120,2,    274.2,2,   272.5,2,   10.30,2,   17.80,2,    0.00,2,    1.07,2,-999.000,9,-999.000,9,-999.000,9,-999.0000,9, -999.00,9,-999.000,9,-999.000,-999.000,     3.9020,-999.0000, -999.00
32OC19880723,       A16N,      32,          1,         17,         17,2,19880729,       1712,    49.4683,   -20.0033,       3790,  1770.4,  34.8939,2,  34.8960,2,    279.8,2,   279.8,2,   10.30,2,   17.10,2,    0.01,2,    1.07,2,-999.000,9,-999.000,9,-999.000,9,-999.0000,9, -999.00,9,-999.000,9,-999.000,   9.000,     3.6110,-999.0000, -999.00
32OC19880723,       A16N,      32,          1,         18,         18,2,19880729,       1712,    49.4683,   -20.0033,       3790,  2070.9,  34.9224,2,  34.9180,2,    273.8,2,   276.4,2,   11.20,2,   16.90,2,    0.01,2,    1.07,2,-999.000,9,-999.000,9,-999.000,9,-999.0000,9, -999.00,9,-999.000,9,-999.000,-999.000,     3.5810,-999.0000, -999.00
32OC19880723,       A16N,      32,          1,         19,         19,2,19880729,       1712,    49.4683,   -20.0033,       3790,  2372.5,  34.9396,2,  34.9410,2,    271.6,2,   273.3,2,   12.80,2,   17.10,2,    0.01,2,    1.07,2,-999.000,9,-999.000,9,-999.000,9,-999.0000,9, -999.00,9,-999.000,9,-999.000,   9.000,     3.4540,-999.0000, -999.00
32OC19880723,       A16N,      32,          1,         20,         20,2,19880729,       1712,    49.4683,   -20.0033,       3790,  2674.9,  34.9505,2,  34.9530,2,    269.6,2,   269.4,2,   16.20,2,   17.20,2,    0.01,2,    1.10,2,-999.000,9,-999.000,9,-999.000,9,-999.0000,9, -999.00,9,-999.000,9,-999.000,-999.000,     3.2280,-999.0000, -999.00
32OC19880723,       A16N,      32,          1,         21,         21,2,19880729,       1712,    49.4683,   -20.0033,       3790,  2974.4,  34.9496,2,  34.9520,2,    262.9,2,   262.0,2,   23.30,2,   18.50,2,    0.01,2,    1.18,2,-999.000,9,-999.000,9,-999.000,9,-999.0000,9, -999.00,9,-999.000,9,-999.000,   9.000,     2.9560,-999.0000, -999.00
32OC19880723,       A16N,      32,          1,         22,         22,2,19880729,       1712,    49.4683,   -20.0033,       3790,  3277.6,  34.9370,2,  34.9400,2,    254.3,2,   254.6,2,   30.90,2,   19.70,2,    0.01,2,    1.25,2,-999.000,9,-999.000,9,-999.000,9,-999.0000,9, -999.00,9,-999.000,9,-999.000,-999.000,     2.7610,-999.0000, -999.00
32OC19880723,       A16N,      32,          1,         23,         23,2,19880729,       1712,    49.4683,   -20.0033,       3790,  3583.8,  34.9246,2,  34.9250,2,    248.3,2,   247.6,2,   37.50,2,   20.80,2,    0.01,2,    1.33,2,-999.000,9,-999.000,9,-999.000,9,-999.0000,9, -999.00,9,-999.000,9,-999.000,   9.000,     2.6370,-999.0000, -999.00
32OC19880723,       A16N,      32,          1,         24,         24,2,19880729,       1712,    49.4683,   -20.0033,       3790,  3884.9,  34.9075,2,  34.9080,2,    241.6,2,   241.1,2,   43.60,2,   21.80,2,    0.01,2,    1.44,2,-999.000,9,-999.000,9,-999.000,9,-999.0000,9, -999.00,9,-999.000,9,-999.000,-999.000,     2.5140,-999.0000, -999.00
32OC19880723,       A16N,      32,          1,         99,     -999.0,9,19880729,       1712,    49.4683,   -20.0033,       3790,  3887.1,  34.9073,2,-999.0000,9,    241.6,2,  -999.0,9, -999.00,9, -999.00,9, -999.00,9, -999.00,9,-999.000,9,-999.000,9,-999.000,9,-999.0000,9, -999.00,9,-999.000,9,-999.000,   9.000,     2.5140,-999.0000, -999.00
32OC19880723,       A16N,      33,          1,          1,          1,2,19880729,       2217,    48.9783,   -20.0117,       4401,     4.7,  35.5505,2,  35.5500,2,    256.7,2,   256.7,2, -999.00,9,    1.30,2,    0.03,2, -999.00,9,-999.000,9,-999.000,9,-999.000,9,-999.0000,9, -999.00,9,-999.000,9,-999.000,-999.000,    14.8920,-999.0000, -999.00
32OC19880723,       A16N,      33,          1,          2,          2,2,19880729,       2217,    48.9783,   -20.0117,       4401,    37.2,  35.5705,2,  35.5500,2,    258.2,2,   256.7,2, -999.00,9,    1.50,2,    0.04,2, -999.00,9,   2.926,2,   1.380,2,-999.000,9,-999.0000,9, -999.00,9,-999.000,9,-999.000,   9.000,    14.9090,-999.0000, -999.00
32OC19880723,       A16N,      33,          1,          3,          3,2,19880729,       2217,    48.9783,   -20.0117,       4401,    67.4,  35.5788,2,  35.5550,2,    247.3,2,   254.4,2, -999.00,9,    5.50,2,    0.42,2, -999.00,9,-999.000,9,-999.000,9,-999.000,9,-999.0000,9, -999.00,9,-999.000,9,-999.000,-999.000,    12.6930,-999.0000, -999.00
32OC19880723,       A16N,      33,          1,          4,          4,2,19880729,       2217,    48.9783,   -20.0117,       4401,   107.2,  35.5947,2,  35.5790,2,    248.0,2,   248.7,2, -999.00,9,   10.20,2,    0.01,2, -999.00,9,   3.102,2,   1.514,2,-999.000,9,-999.0000,9, -999.00,9,-999.000,9,-999.000,   9.000,    12.0660,-999.0000, -999.00
32OC19880723,       A16N,      33,          1,          5,          5,2,19880729,       2217,    48.9783,   -20.0117,       4401,   158.0,  35.5799,2,  35.5620,2,    245.0,2,   247.0,2, -999.00,9,   11.30,2,    0.01,2, -999.00,9,   2.772,2,   1.375,2,-999.000,9,-999.0000,9, -999.00,9,-999.000,9,-999.000,-999.000,    11.5950,-999.0000, -999.00
32OC19880723,       A16N,      33,          1,          6,          6,2,19880729,       2217,    48.9783,   -20.0117,       4401,   208.1,  35.5241,2,  35.5120,2,    246.7,2,   247.0,2, -999.00,9,   12.10,2,    0.01,2, -999.00,9,   2.910,2,   1.412,2,-999.000,9,-999.0000,9, -999.00,9,-999.000,9,-999.000,   9.000,    11.2330,-999.0000, -999.00
32OC19880723,       A16N,      33,          1,          7,          7,2,19880729,       2217,    48.9783,   -20.0117,       4401,   309.4,  35.4376,2,  35.4420,2,    245.3,2,   243.9,2, -999.00,9,   13.00,2,    0.01,2, -999.00,9,   2.802,2,   1.323,2,-999.000,9,-999.0000,9, -999.00,9,-999.000,9,-999.000,-999.000,    10.7500,-999.0000, -999.00
32OC19880723,       A16N,      33,          1,          8,          8,2,19880729,       2217,    48.9783,   -20.0117,       4401,   409.6,  35.3358,2,  35.3500,2,    239.2,2,   240.4,2, -999.00,9,   14.10,2,    0.01,2, -999.00,9,   2.760,2,   1.278,2,-999.000,9,-999.0000,9, -999.00,9,-999.000,9,-999.000,   9.000,    10.1780,-999.0000, -999.00
32OC19880723,       A16N,      33,          1,          9,          9,2,19880729,       2217,    48.9783,   -20.0117,       4401,   511.0,  35.2729,2,  35.2810,2,    227.5,2,   224.3,2, -999.00,9,   15.70,2,    0.01,2, -999.00,9,   2.309,2,   1.070,2,-999.000,9,-999.0000,9, -999.00,9,-999.000,9,-999.000,-999.000,     9.6340,-999.0000, -999.00
32OC19880723,       A16N,      33,          1,         10,         10,2,19880729,       2217,    48.9783,   -20.0117,       4401,   610.4,  35.2303,2,  35.2340,2,    204.8,2,   206.1,2, -999.00,9,   16.00,2,    0.01,2, -999.00,9,   1.766,2,   0.780,2,-999.000,9,-999.0000,9, -999.00,9,-999.000,9,-999.000,   9.000,     8.9460,-999.0000, -999.00
32OC19880723,       A16N,      33,          1,         11,         11,2,19880729,       2217,    48.9783,   -20.0117,       4401,   710.5,  35.1481,2,  35.1880,2,    198.8,2,   200.8,2, -999.00,9,   17.20,2,    0.01,2, -999.00,9,   1.482,2,   0.630,2,-999.000,9,-999.0000,9, -999.00,9,-999.000,9,-999.000,-999.000,     8.0900,-999.0000, -999.00
32OC19880723,       A16N,      33,          1,         12,         12,2,19880729,       2217,    48.9783,   -20.0117,       4401,   810.4,  35.0806,2,  35.1190,2,    207.8,2,   206.0,2, -999.00,9,   17.90,2,    0.01,2, -999.00,9,   1.437,2,   0.608,2,-999.000,9,-999.0000,9, -999.00,9,-999.000,9,-999.000,   9.000,     7.0980,-999.0000, -999.00
32OC19880723,       A16N,      33,          1,         13,         13,2,19880729,       2217,    48.9783,   -20.0117,       4401,   911.1,  35.0792,2,  35.0920,2,    218.9,2,   216.0,2, -999.00,9,   17.90,2,    0.01,2, -999.00,9,-999.000,9,-999.000,9,-999.000,9,-999.0000,9, -999.00,9,-999.000,9,-999.000,-999.000,     6.3190,-999.0000, -999.00
32OC19880723,       A16N,      33,          1,         14,         14,2,19880729,       2217,    48.9783,   -20.0117,       4401,  1011.6,  35.1055,2,  35.1120,2,    227.1,2,   225.5,2, -999.00,9,   17.30,2,    0.00,2, -999.00,9,   1.332,2,   0.599,2,-999.000,9,-999.0000,9, -999.00,9,-999.000,9,-999.000,   9.000,     5.9360,-999.0000, -999.00
32OC19880723,       A16N,      33,          1,         15,         15,2,19880729,       2217,    48.9783,   -20.0117,       4401,  1212.5,  35.0318,2,  35.0220,2,    247.7,2,   248.6,2, -999.00,9,   17.30,2,    0.00,2, -999.00,9,   1.364,2,   0.572,2,-999.000,9,-999.0000,9, -999.00,9,-999.000,9,-999.000,-999.000,     4.8620,-999.0000, -999.00
32OC19880723,       A16N,      33,          1,         16,         16,2,19880729,       2217,    48.9783,   -20.0117,       4401,  1515.5,  34.9179,2,  34.9190,2,    269.7,2,   271.1,2, -999.00,9,   16.30,2,    0.00,2, -999.00,9,   1.509,2,   0.682,2,-999.000,9,-999.0000,9, -999.00,9,-999.000,9,-999.000,   9.000,     3.9250,-999.0000, -999.00
32OC19880723,       A16N,      33,          1,         17,         17,2,19880729,       2217,    48.9783,   -20.0117,       4401,  1819.5,  34.9028,2,  34.9130,2,    276.3,2,   276.8,2, -999.00,9,   16.40,2,    0.00,2, -999.00,9,   1.232,2,   0.517,2,-999.000,9,-999.0000,9, -999.00,9,-999.000,9,-999.000,-999.000,     3.6440,-999.0000, -999.00
32OC19880723,       A16N,      33,          1,         18,         18,2,19880729,       2217,    48.9783,   -20.0117,       4401,  2122.9,  34.9354,2,  34.9400,2,    271.6,2,   272.0,2, -999.00,9,   16.30,2,    0.00,2, -999.00,9,   0.634,2,   0.270,2,-999.000,9,-999.0000,9, -999.00,9,-999.000,9,-999.000,   9.000,     3.5900,-999.0000, -999.00
32OC19880723,       A16N,      33,          1,         19,         19,2,19880729,       2217,    48.9783,   -20.0117,       4401,  2529.4,  34.9496,2,  34.9520,2,    269.4,2,   269.4,2, -999.00,9,   16.70,2,    0.01,2, -999.00,9,   0.438,2,   0.175,2,-999.000,9,-999.0000,9, -999.00,9,-999.000,9,-999.000,-999.000,     3.2780,-999.0000, -999.00
32OC19880723,       A16N,      33,          1,         20,         20,2,19880729,       2217,    48.9783,   -20.0117,       4401,  2936.2,  34.9507,2,  34.9550,2,    262.1,2,   260.7,2, -999.00,9,   17.80,2,    0.01,2, -999.00,9,-999.000,9,-999.000,9,-999.000,9,-999.0000,9, -999.00,9,-999.000,9,-999.000,   9.000,     2.9880,-999.0000, -999.00
32OC19880723,       A16N,      33,          1,         21,         21,2,19880729,       2217,    48.9783,   -20.0117,       4401,  3345.0,  34.9346,2,  34.9360,2,    250.5,2,   250.3,2, -999.00,9,   19.80,2,    0.01,2, -999.00,9,   0.173,2,   0.059,2,-999.000,9,-999.0000,9, -999.00,9,-999.000,9,-999.000,-999.000,     2.7180,-999.0000, -999.00
32OC19880723,       A16N,      33,          1,         22,         22,2,19880729,       2217,    48.9783,   -20.0117,       4401,  3753.3,  34.9166,2,  34.9180,2,    243.8,2,   243.7,2, -999.00,9,   20.80,2,    0.01,2, -999.00,9,   0.105,2,   0.045,2,-999.000,9,-999.0000,9, -999.00,9,-999.000,9,-999.000,   9.000,     2.5850,-999.0000, -999.00
32OC19880723,       A16N,      33,          1,         23,         23,2,19880729,       2217,    48.9783,   -20.0117,       4401,  4162.5,  34.9097,2,  34.9100,2,    241.6,2,   242.0,2, -999.00,9,   21.10,2,    0.01,2, -999.00,9,   0.126,2,   0.026,2,-999.000,9,-999.0000,9, -999.00,9,-999.000,9,-999.000,-999.000,     2.5600,-999.0000, -999.00
32OC19880723,       A16N,      33,          1,         24,         24,2,19880729,       2217,    48.9783,   -20.0117,       4401,  4470.0,  34.9050,2,  34.9070,2,    241.1,2,   240.7,2, -999.00,9,   21.90,2,    0.02,2, -999.00,9,   0.074,2,   0.007,7,-999.000,9,-999.0000,9, -999.00,9,-999.000,9,-999.000,   9.000,     2.5540,-999.0000, -999.00
32OC19880723,       A16N,      33,          1,         99,     -999.0,9,19880729,       2217,    48.9783,   -20.0117,       4401,  4472.4,  34.9051,2,-999.0000,9,    241.1,2,  -999.0,9, -999.00,9, -999.00,9, -999.00,9, -999.00,9,-999.000,9,-999.000,9,-999.000,9,-999.0000,9, -999.00,9,-999.000,9,-999.000,-999.000,     2.5540,-999.0000, -999.00