BOTTLE,20220922CCHSIOAMB
EXPOCODE,SECT_ID,STNNBR,CASTNO,SAMPNO,BTLNBR,BTLNBR_FLAG_W,DATE,TIME,LATITUDE,LONGITUDE,DEPTH,CTDPRS,CTDSAL,CTDSAL_FLAG_W,SALNTY,SALNTY_FLAG_W,CTDOXY,CTDOXY_FLAG_W,OXYGEN,OXYGEN_FLAG_W,SILCAT,SILCAT_FLAG_W,NITRAT,NITRAT_FLAG_W,NITRIT,NITRIT_FLAG_W,PHSPHT,PHSPHT_FLAG_W,CFC-11,CFC-11_FLAG_W,CFC-12,CFC-12_FLAG_W,TRITUM,TRITUM_FLAG_W,HELIUM,HELIUM_FLAG_W,DELHE3,DELHE3_FLAG_W,NEON,NEON_FLAG_W,NEONER,TRITER,CTDTMP,HELIER,DELHER
,,,,,,,,,,,METERS,DBAR,PSS-78,,PSS-78,,UMOL/KG,,UMOL/KG,,UMOL/KG,,UMOL/KG,,UMOL/KG,,UMOL/KG,,PMOL/KG,,PMOL/KG,,TU,,NMOL/KG,,PERCNT,,NMOL/KG,,NMOL/KG,TU,IPTS-68,NMOL/KG,PERCNT
32OC19880723,       A16N,      46,          1,          1,          1,2,19880801,       1712,    42.5117,   -20.0117,       4177,     4.4,  35.7497,2,-999.0000,9,    220.1,2,   236.0,3,    0.10,2,    0.00,2,    0.00,2,    0.08,2,-999.000,9,-999.000,9,-999.000,9,-999.0000,9, -999.00,9,-999.000,9,-999.000,-999.000,    19.3650,-999.0000, -999.00
32OC19880723,       A16N,      46,          1,          2,          2,2,19880801,       1712,    42.5117,   -20.0117,       4177,    37.1,  35.7055,2,  35.7270,2,    234.3,2,   247.9,3,    0.60,2,    0.70,2,    0.20,2,    0.17,2,-999.000,9,-999.000,9,-999.000,9,-999.0000,9, -999.00,9,-999.000,9,-999.000,   9.000,    14.5170,-999.0000, -999.00
32OC19880723,       A16N,      46,          1,          3,          3,2,19880801,       1712,    42.5117,   -20.0117,       4177,    67.3,  35.6969,2,  35.7150,2,    237.1,2,   237.5,2,    1.40,2,    5.90,2,    0.00,2,    0.37,2,-999.000,9,-999.000,9,-999.000,9,-999.0000,9, -999.00,9,-999.000,9,-999.000,-999.000,    13.3200,-999.0000, -999.00
32OC19880723,       A16N,      46,          1,          4,          4,2,19880801,       1712,    42.5117,   -20.0117,       4177,   107.6,  35.7263,2,  35.7080,2,    241.0,2,   240.5,2,    2.10,2,    7.80,2,    0.00,2,    0.46,2,-999.000,9,-999.000,9,-999.000,9,-999.0000,9, -999.00,9,-999.000,9,-999.000,   9.000,    12.7640,-999.0000, -999.00
32OC19880723,       A16N,      46,          1,          5,          5,2,19880801,       1712,    42.5117,   -20.0117,       4177,   207.6,  35.6538,2,  35.6240,2,    243.3,2,   233.9,2,    3.20,2,   10.20,2,    0.00,2,    0.59,2,-999.000,9,-999.000,9,-999.000,9,-999.0000,9, -999.00,9,-999.000,9,-999.000,-999.000,    12.0690,-999.0000, -999.00
32OC19880723,       A16N,      46,          1,          6,          6,2,19880801,       1712,    42.5117,   -20.0117,       4177,   307.9,  35.5909,2,  35.5750,2,    238.2,2,   239.1,2,    3.20,2, -999.00,9,    0.00,2,    0.62,2,-999.000,9,-999.000,9,-999.000,9,-999.0000,9, -999.00,9,-999.000,9,-999.000,   9.000,    11.6660,-999.0000, -999.00
32OC19880723,       A16N,      46,          1,          7,          7,2,19880801,       1712,    42.5117,   -20.0117,       4177,   408.0,  35.5000,2,  35.4990,2,    228.3,2,   232.2,2,    4.20,2,   11.90,2,    0.00,2,    0.69,2,-999.000,9,-999.000,9,-999.000,9,-999.0000,9, -999.00,9,-999.000,9,-999.000,-999.000,    11.1730,-999.0000, -999.00
32OC19880723,       A16N,      46,          1,          8,          8,2,19880801,       1712,    42.5117,   -20.0117,       4177,   509.1,  35.4192,2,  35.4400,2,    222.8,2,   221.7,2,    5.50,2,   13.80,2,    0.00,2,    0.81,2,-999.000,9,-999.000,9,-999.000,9,-999.0000,9, -999.00,9,-999.000,9,-999.000,   9.000,    10.5780,-999.0000, -999.00
32OC19880723,       A16N,      46,          1,          9,          9,2,19880801,       1712,    42.5117,   -20.0117,       4177,   608.8,  35.3678,2,  35.3800,2,    207.4,2,   207.4,2,    7.10,2,   15.90,2,    0.00,2,    0.96,2,-999.000,9,-999.000,9,-999.000,9,-999.0000,9, -999.00,9,-999.000,9,-999.000,-999.000,     9.8910,-999.0000, -999.00
32OC19880723,       A16N,      46,          1,         10,         10,2,19880801,       1712,    42.5117,   -20.0117,       4177,   810.5,  35.4432,2,  35.3860,2,    194.7,2,   195.1,2,   10.00,2,   18.10,2,    0.00,2,    1.07,2,-999.000,9,-999.000,9,-999.000,9,-999.0000,9, -999.00,9,-999.000,9,-999.000,   9.000,     8.5430,-999.0000, -999.00
32OC19880723,       A16N,      46,          1,         11,         11,2,19880801,       1712,    42.5117,   -20.0117,       4177,  1010.3,  35.3289,2,  35.2360,2,    210.0,2,   219.5,2,   10.70,2,   18.20,2,    0.00,2,    1.07,2,-999.000,9,-999.000,9,-999.000,9,-999.0000,9, -999.00,9,-999.000,9,-999.000,-999.000,     6.5820,-999.0000, -999.00
32OC19880723,       A16N,      46,          1,         12,         12,2,19880801,       1712,    42.5117,   -20.0117,       4177,  1213.1,  35.0558,2,  35.0360,2,    250.6,2,   248.1,2,   10.60,2,   17.90,2,    0.00,2,    1.07,2,-999.000,9,-999.000,9,-999.000,9,-999.0000,9, -999.00,9,-999.000,9,-999.000,   9.000,     4.9230,-999.0000, -999.00
32OC19880723,       A16N,      46,          1,         13,         13,2,19880801,       1712,    42.5117,   -20.0117,       4177,  1414.9,  34.9530,2,  34.9500,2,    265.9,2,   265.9,2,   10.50,2,   17.50,2,    0.00,2,    1.05,2,-999.000,9,-999.000,9,-999.000,9,-999.0000,9, -999.00,9,-999.000,9,-999.000,-999.000,     4.1410,-999.0000, -999.00
32OC19880723,       A16N,      46,          1,         14,         14,2,19880801,       1712,    42.5117,   -20.0117,       4177,  1619.8,  34.9334,2,  34.9340,2,    272.0,2,   271.1,2,   10.50,2,   17.20,2,    0.00,2,    1.02,2,-999.000,9,-999.000,9,-999.000,9,-999.0000,9, -999.00,9,-999.000,9,-999.000,   9.000,     3.8880,-999.0000, -999.00
32OC19880723,       A16N,      46,          1,         15,         15,2,19880801,       1712,    42.5117,   -20.0117,       4177,  1824.0,  34.9453,2,  34.9500,2,    270.7,2,   271.1,2,   11.30,2,   17.20,2,    0.00,2,    1.07,2,-999.000,9,-999.000,9,-999.000,9,-999.0000,9, -999.00,9,-999.000,9,-999.000,-999.000,     3.8190,-999.0000, -999.00
32OC19880723,       A16N,      46,          1,         16,         16,2,19880801,       1712,    42.5117,   -20.0117,       4177,  2026.6,  34.9341,2,  34.9310,2,    272.6,2,   272.4,2,   12.00,2,   17.00,2,    0.00,2,    1.07,2,-999.000,9,-999.000,9,-999.000,9,-999.0000,9, -999.00,9,-999.000,9,-999.000,   9.000,     3.5840,-999.0000, -999.00
32OC19880723,       A16N,      46,          1,         17,         17,2,19880801,       1712,    42.5117,   -20.0117,       4177,  2229.0,  34.9426,2,  34.9410,2,    270.3,2,   271.1,2,   13.60,2,   17.10,2,    0.00,2,    1.07,2,-999.000,9,-999.000,9,-999.000,9,-999.0000,9, -999.00,9,-999.000,9,-999.000,-999.000,     3.4500,-999.0000, -999.00
32OC19880723,       A16N,      46,          1,         18,         18,2,19880801,       1712,    42.5117,   -20.0117,       4177,  2432.8,  34.9511,2,  34.9500,2,    269.1,2,   269.0,2,   15.50,2,   17.20,2,    0.00,2,    1.08,2,-999.000,9,-999.000,9,-999.000,9,-999.0000,9, -999.00,9,-999.000,9,-999.000,   9.000,     3.2890,-999.0000, -999.00
32OC19880723,       A16N,      46,          1,         19,         19,2,19880801,       1712,    42.5117,   -20.0117,       4177,  2736.8,  34.9531,2,  34.9530,2,    263.6,2,   263.7,2,   21.20,2,   17.50,2,    0.00,2,    1.13,2,-999.000,9,-999.000,9,-999.000,9,-999.0000,9, -999.00,9,-999.000,9,-999.000,-999.000,     3.0120,-999.0000, -999.00
32OC19880723,       A16N,      46,          1,         20,         20,2,19880801,       1712,    42.5117,   -20.0117,       4177,  3043.1,  34.9434,2,  34.9420,2,    255.8,2,   255.0,2,   29.20,2,   19.20,2,    0.00,2,    1.22,2,-999.000,9,-999.000,9,-999.000,9,-999.0000,9, -999.00,9,-999.000,9,-999.000,   9.000,     2.7860,-999.0000, -999.00
32OC19880723,       A16N,      46,          1,         21,         21,2,19880801,       1712,    42.5117,   -20.0117,       4177,  3348.6,  34.9315,2,  34.9330,2,    249.0,2,   249.0,2,   35.20,2,   20.30,2,    0.00,2,    1.33,2,-999.000,9,-999.000,9,-999.000,9,-999.0000,9, -999.00,9,-999.000,9,-999.000,-999.000,     2.6720,-999.0000, -999.00
32OC19880723,       A16N,      46,          1,         22,         22,2,19880801,       1712,    42.5117,   -20.0117,       4177,  3652.6,  34.9223,2,  34.9210,2,    245.5,2,   245.9,2,   38.40,2,   20.80,2,    0.00,2,    1.32,2,-999.000,9,-999.000,9,-999.000,9,-999.0000,9, -999.00,9,-999.000,9,-999.000,   9.000,     2.6290,-999.0000, -999.00
32OC19880723,       A16N,      46,          1,         23,         23,2,19880801,       1712,    42.5117,   -20.0117,       4177,  3958.7,  34.9180,2,  34.9170,2,    243.8,2,   244.2,2,   40.40,2,   21.20,2,    0.00,2,    1.36,2,-999.000,9,-999.000,9,-999.000,9,-999.0000,9, -999.00,9,-999.000,9,-999.000,-999.000,     2.6200,-999.0000, -999.00
32OC19880723,       A16N,      46,          1,         24,         24,2,19880801,       1712,    42.5117,   -20.0117,       4177,  4237.7,  34.9156,2,  34.9140,2,    242.2,2,   241.6,2,   41.30,2,   21.40,2,    0.00,2,    1.42,2,-999.000,9,-999.000,9,-999.000,9,-999.0000,9, -999.00,9,-999.000,9,-999.000,   9.000,     2.6210,-999.0000, -999.00
32OC19880723,       A16N,      46,          1,         99,     -999.0,9,19880801,       1712,    42.5117,   -20.0117,       4177,  4258.7,  34.9155,2,-999.0000,9,    241.7,2,  -999.0,9, -999.00,9, -999.00,9, -999.00,9, -999.00,9,-999.000,9,-999.000,9,-999.000,9,-999.0000,9, -999.00,9,-999.000,9,-999.000,-999.000,     2.6220,-999.0000, -999.00
32OC19880723,       A16N,      47,          1,          1,          1,2,19880801,       2136,    42.0133,   -20.0083,       2649,     5.1,  35.7466,2,  35.7380,2,    235.4,2,   236.5,2,    0.30,2,    0.00,2,    0.00,2,    0.08,2,   2.445,2,   1.162,2,   2.379,2,-999.0000,9, -999.00,9,-999.000,9,-999.000,   0.052,    19.3640,-999.0000, -999.00
32OC19880723,       A16N,      47,          1,          2,          2,2,19880801,       2136,    42.0133,   -20.0083,       2649,    35.8,  35.7265,2,  35.7250,2,    252.9,2,   251.9,2,    0.50,2,    0.10,2,    0.08,2,    0.11,2,   2.853,2,   1.345,2,   2.393,2,   1.7523,2,   -1.20,2,-999.000,9,  -7.493,   0.051,    15.0120,   0.0123,    0.18
32OC19880723,       A16N,      47,          1,          3,          3,2,19880801,       2136,    42.0133,   -20.0083,       2649,    65.1,  35.7331,2,  35.7540,2,    236.2,2,   239.2,2,    1.30,2,    5.00,2,    0.07,2,    0.32,2,   2.944,2,   1.393,2,   2.552,2,   1.7571,2,   -0.94,2,-999.000,9,  -7.493,   0.054,    13.5930,   0.0123,    0.18
32OC19880723,       A16N,      47,          1,          4,          4,2,19880801,       2136,    42.0133,   -20.0083,       2649,   105.1,  35.7082,2,  35.7510,2,    238.1,2,   239.2,2,    2.10,2,    7.30,2,    0.01,2,    0.40,2,   2.801,2,   1.322,2,   2.654,2,   1.7585,2,   -0.41,2,-999.000,9,  -7.493,   0.053,    13.0160,   0.0123,    0.18
32OC19880723,       A16N,      47,          1,          5,          5,2,19880801,       2136,    42.0133,   -20.0083,       2649,   153.9,  35.6703,2,  35.7090,2,    245.8,2,   240.0,2,    2.50,2,    8.10,2,    0.01,2,    0.44,2,   2.821,2,   1.552,2,-999.000,9,   1.7669,2,    0.08,2,-999.000,9,  -7.493,   9.000,    12.6560,   0.0124,    0.18
32OC19880723,       A16N,      47,          1,          6,          6,2,19880801,       2136,    42.0133,   -20.0083,       2649,   202.4,  35.6550,2,  35.6600,2,    247.2,2,   241.8,2,    2.50,2,    8.40,2,    0.00,2,    0.49,2,   2.785,2,   1.442,2,   2.731,2,   1.7706,2,   -0.16,2,-999.000,9,  -7.493,   0.056,    12.2940,   0.0124,    0.18
32OC19880723,       A16N,      47,          1,          7,          7,2,19880801,       2136,    42.0133,   -20.0083,       2649,   298.8,  35.5617,2,  35.5690,2,    229.6,2,   223.1,2,    4.10,2,   11.80,2,    0.00,2,    0.63,2,   2.389,2,   1.240,2,   2.826,2,   1.7643,2,    2.98,2,-999.000,9,  -7.493,   0.056,    11.6620,   0.0124,    0.18
32OC19880723,       A16N,      47,          1,          8,          8,2,19880801,       2136,    42.0133,   -20.0083,       2649,   396.8,  35.4968,2,  35.5150,2,    234.5,2,   233.5,2,    4.10,2,   11.50,2,    0.00,2,    0.64,2,   2.520,2,   1.386,2,   2.602,2,   1.7738,2,    2.06,2,-999.000,9,  -7.493,   0.054,    11.2180,   0.0124,    0.18
32OC19880723,       A16N,      47,          1,          9,          9,2,19880801,       2136,    42.0133,   -20.0083,       2649,   496.1,  35.4478,2,  35.4540,2,    220.5,2,   222.2,2,    5.20,2,   13.40,2,    0.00,2,    0.76,2,   2.254,2,   1.046,2,   2.688,2,   1.7780,2,    4.48,2,-999.000,9,  -7.493,   0.068,    10.7110,   0.0124,    0.18
32OC19880723,       A16N,      47,          1,         10,         10,2,19880801,       2136,    42.0133,   -20.0083,       2649,   594.6,  35.4184,2,  35.4310,2,    210.7,2,   210.0,2,    6.30,2,   15.10,2,    0.00,2,    0.86,2,   1.779,2,   0.818,2,   2.114,2,   1.7706,2,    6.49,2,-999.000,9,  -7.493,   0.051,    10.2730,   0.0124,    0.18
32OC19880723,       A16N,      47,          1,         11,         11,2,19880801,       2136,    42.0133,   -20.0083,       2649,   789.5,  35.4874,2,  35.4930,2,    190.4,2,   191.7,2,    9.00,2,   17.50,2,    0.00,2,    1.02,2,   1.092,2,   0.683,2,   1.995,2,   1.7846,2,    9.07,2,-999.000,9,  -7.493,   0.062,     9.3130,   0.0125,    0.18
32OC19880723,       A16N,      47,          1,         12,         12,2,19880801,       2136,    42.0133,   -20.0083,       2649,   886.9,  35.6269,2,  35.6640,2,    190.8,2,   189.0,2,    9.50,2,   17.10,2,    0.00,2,    1.01,2,   0.745,2,   0.371,2,-999.000,9,-999.0000,9, -999.00,9,-999.000,9,-999.000,-999.000,     9.3670,-999.0000, -999.00
32OC19880723,       A16N,      47,          1,         13,         13,2,19880801,       2136,    42.0133,   -20.0083,       2649,   987.6,  35.7037,2,  35.6890,2,    196.9,2,   195.1,2,   10.00,2,   17.10,2,    0.00,2,    1.01,2,   0.699,2,   0.335,2,   1.501,2,   1.7856,2,    8.93,2,-999.000,9,  -7.493,   0.056,     9.0030,   0.0125,    0.18
32OC19880723,       A16N,      47,          1,         14,         14,2,19880801,       2136,    42.0133,   -20.0083,       2649,  1087.8,  35.6263,2,  35.6420,2,    207.2,2,   203.8,2,   10.10,2,   17.10,2,    0.01,2,    1.02,2,   0.696,2,   0.404,2,-999.000,9,-999.0000,9, -999.00,9,-999.000,9,-999.000,   9.000,     8.3530,-999.0000, -999.00
32OC19880723,       A16N,      47,          1,         15,         15,2,19880801,       2136,    42.0133,   -20.0083,       2649,  1188.3,  35.4679,2,  35.3980,2,    218.6,2,   223.3,2,   10.60,2,   17.50,2,    0.00,2,    1.06,2,   0.805,2,   0.376,2,-999.000,9,   1.7972,2,   10.69,2,-999.000,9,  -7.493,-999.000,     6.9150,   0.0126,    0.18
32OC19880723,       A16N,      47,          1,         16,         16,2,19880801,       2136,    42.0133,   -20.0083,       2649,  1388.9,  34.9922,2,  34.9900,2,    263.0,2,   259.8,2,   10.60,2,   17.60,2,    0.00,2,    1.08,2,   1.262,2,   0.564,2,-999.000,9,-999.0000,9, -999.00,9,-999.000,9,-999.000,   9.000,     4.3890,-999.0000, -999.00
32OC19880723,       A16N,      47,          1,         17,         17,2,19880801,       2136,    42.0133,   -20.0083,       2649,  1594.0,  34.9152,2,  34.9170,2,    271.5,2,   272.4,2,   10.50,2,   17.20,2,    0.00,2,    1.07,2,   1.300,2,   0.578,2,   1.499,2,   1.8155,2,    9.02,2,-999.000,9,  -7.493,   0.045,     3.8160,   0.0127,    0.18
32OC19880723,       A16N,      47,          1,         18,         18,2,19880801,       2136,    42.0133,   -20.0083,       2649,  1795.7,  34.9155,2,  34.9190,2,    273.5,2,   275.5,2,   10.80,2,   17.10,2,    0.00,2,    1.07,2,   0.952,2,   0.489,2,-999.000,9,-999.0000,9, -999.00,9,-999.000,9,-999.000,-999.000,     3.6440,-999.0000, -999.00
32OC19880723,       A16N,      47,          1,         19,         19,2,19880801,       2136,    42.0133,   -20.0083,       2649,  1999.2,  34.9316,2,  34.9320,2,    271.2,2,   272.9,2,   11.80,2,   17.10,2,    0.00,2,    1.07,2,   0.648,2,   0.317,2,-999.000,9,-999.0000,9, -999.00,9,-999.000,9,-999.000,   9.000,     3.5790,-999.0000, -999.00
32OC19880723,       A16N,      47,          1,         20,         20,2,19880801,       2136,    42.0133,   -20.0083,       2649,  2304.5,  34.9520,2,  34.9530,2,    267.8,2,   268.1,2,   15.00,2,   17.40,2,    0.00,2,    1.09,2,   0.377,2,   0.171,2,   0.064,2,   1.8339,2,    5.71,2,-999.000,9,  -7.493,   0.018,     3.4110,   0.0128,    0.18
32OC19880723,       A16N,      47,          1,         21,         21,2,19880801,       2136,    42.0133,   -20.0083,       2649,  2612.6,  34.9552,2,  34.9570,2,    261.0,2,   260.3,2,   22.90,2,   18.60,2,    0.00,2,    1.15,2,   0.228,2,   0.116,2,-999.000,9,-999.0000,9, -999.00,9,-999.000,9,-999.000,-999.000,     3.0600,-999.0000, -999.00
32OC19880723,       A16N,      47,          1,         22,         22,2,19880801,       2136,    42.0133,   -20.0083,       2649,  2724.6,  34.9528,2,  34.9530,2,    258.5,2,   258.1,2,   24.50,2,   18.70,2,    0.00,2,    1.19,2,   0.179,6,   0.095,6,-999.000,9,-999.0000,9, -999.00,9,-999.000,9,-999.000,   9.000,     3.0000,-999.0000, -999.00
32OC19880723,       A16N,      47,          1,         23,         23,2,19880801,       2136,    42.0133,   -20.0083,       2649,  2724.8,  34.9529,2,  34.9520,2,    258.5,2,   258.5,2,   24.50,2,   18.80,2,    0.00,2,    1.18,2,   0.170,6,   0.084,6,-999.000,9,-999.0000,9, -999.00,9,-999.000,9,-999.000,-999.000,     2.9950,-999.0000, -999.00
32OC19880723,       A16N,      47,          1,         24,         24,2,19880801,       2136,    42.0133,   -20.0083,       2649,  2724.8,  34.9529,2,  34.9510,2,    258.5,2,   258.9,2,   24.80,2,   18.80,2,    0.05,2,    1.17,2,   0.213,2,   0.089,2,   0.336,2,   1.8402,2,    3.68,2,-999.000,9,  -7.493,   0.031,     2.9750,   0.0129,    0.18
32OC19880723,       A16N,      47,          1,         99,     -999.0,9,19880801,       2136,    42.0133,   -20.0083,       2649,  2727.1,  34.9532,2,-999.0000,9,    258.5,2,  -999.0,9, -999.00,9, -999.00,9, -999.00,9, -999.00,9,-999.000,9,-999.000,9,-999.000,9,-999.0000,9, -999.00,9,-999.000,9,-999.000,   9.000,     2.9720,-999.0000, -999.00