BOTTLE,20220922CCHSIOAMB
EXPOCODE,SECT_ID,STNNBR,CASTNO,SAMPNO,BTLNBR,BTLNBR_FLAG_W,DATE,TIME,LATITUDE,LONGITUDE,DEPTH,CTDPRS,CTDSAL,CTDSAL_FLAG_W,SALNTY,SALNTY_FLAG_W,CTDOXY,CTDOXY_FLAG_W,OXYGEN,OXYGEN_FLAG_W,SILCAT,SILCAT_FLAG_W,NITRAT,NITRAT_FLAG_W,NITRIT,NITRIT_FLAG_W,PHSPHT,PHSPHT_FLAG_W,CFC-11,CFC-11_FLAG_W,CFC-12,CFC-12_FLAG_W,TRITUM,TRITUM_FLAG_W,HELIUM,HELIUM_FLAG_W,DELHE3,DELHE3_FLAG_W,NEON,NEON_FLAG_W,NEONER,TRITER,CTDTMP,HELIER,DELHER
,,,,,,,,,,,METERS,DBAR,PSS-78,,PSS-78,,UMOL/KG,,UMOL/KG,,UMOL/KG,,UMOL/KG,,UMOL/KG,,UMOL/KG,,PMOL/KG,,PMOL/KG,,TU,,NMOL/KG,,PERCNT,,NMOL/KG,,NMOL/KG,TU,IPTS-68,NMOL/KG,PERCNT
32OC19880723,       A16N,      99,          1,          1,          1,2,19880819,       0541,    10.9867,   -28.9900,       5959,    16.4,  35.9920,2,  35.9650,2,    197.8,2,   201.6,2,    0.00,2,    0.00,2,    0.00,2,    0.01,2,   1.586,2,   0.793,2,-999.000,9,-999.0000,9, -999.00,9,-999.000,9,-999.000,   9.000,    27.7880,-999.0000, -999.00
32OC19880723,       A16N,      99,          1,          2,          2,2,19880819,       0541,    10.9867,   -28.9900,       5959,    41.2,  35.9775,2,  35.9620,2,    216.1,2,   224.0,2,    0.00,2,    0.20,2,    0.00,2,    0.04,2,   1.734,4,   0.913,2,-999.000,9,-999.0000,9, -999.00,9,-999.000,9,-999.000,-999.000,    23.2340,-999.0000, -999.00
32OC19880723,       A16N,      99,          1,          3,          3,2,19880819,       0541,    10.9867,   -28.9900,       5959,    70.8,  35.8568,2,  35.8090,2,    116.8,2,   102.3,2,    3.60,2,   15.20,2,    0.33,2,    1.02,2,   1.186,2,   0.545,2,-999.000,9,-999.0000,9, -999.00,9,-999.000,9,-999.000,   9.000,    18.0050,-999.0000, -999.00
32OC19880723,       A16N,      99,          1,          4,          4,2,19880819,       0541,    10.9867,   -28.9900,       5959,   110.2,  35.5759,2,  35.5380,2,    107.5,2,   108.3,2,    6.90,2,   20.70,2,    0.03,2,    1.32,2,   0.941,4,   0.414,4,-999.000,9,-999.0000,9, -999.00,9,-999.000,9,-999.000,-999.000,    14.4640,-999.0000, -999.00
32OC19880723,       A16N,      99,          1,          5,          5,2,19880819,       0541,    10.9867,   -28.9900,       5959,   159.5,  35.2946,2,  35.2970,2,    106.4,2,   110.5,2,    8.70,2,   23.00,2,    0.00,2,    1.47,2,   0.706,2,   0.323,2,-999.000,9,-999.0000,9, -999.00,9,-999.000,9,-999.000,   9.000,    12.6260,-999.0000, -999.00
32OC19880723,       A16N,      99,          1,          6,          6,2,19880819,       0541,    10.9867,   -28.9900,       5959,   208.8,  35.1571,2,  35.1470,2,    112.3,2,   104.4,2,   10.10,2,   25.40,2,    0.00,2,    1.62,2,   0.538,4,   0.225,4,-999.000,9,-999.0000,9, -999.00,9,-999.000,9,-999.000,-999.000,    11.5310,-999.0000, -999.00
32OC19880723,       A16N,      99,          1,          7,          7,2,19880819,       0541,    10.9867,   -28.9900,       5959,   257.3,  35.0757,2,  35.0740,2,    105.0,2,   105.7,2,   11.00,2,   26.00,2,    0.00,2,    1.69,2,   0.523,4,   0.201,4,-999.000,9,-999.0000,9, -999.00,9,-999.000,9,-999.000,   9.000,    10.9640,-999.0000, -999.00
32OC19880723,       A16N,      99,          1,          8,          8,2,19880819,       0541,    10.9867,   -28.9900,       5959,   304.3,  35.0493,2,  35.0510,2,     96.2,2,    96.1,2,   11.80,2,   27.70,2,    0.00,2,    1.78,2,   0.376,4,   0.165,4,-999.000,9,-999.0000,9, -999.00,9,-999.000,9,-999.000,-999.000,    10.6880,-999.0000, -999.00
32OC19880723,       A16N,      99,          1,          9,          9,2,19880819,       0541,    10.9867,   -28.9900,       5959,   398.9,  34.9540,2,  34.9310,2,     85.8,2,    88.7,2,   14.40,2,   30.60,2,    0.00,2,    1.93,2,   0.215,4,   0.090,4,-999.000,9,-999.0000,9, -999.00,9,-999.000,9,-999.000,   9.000,     9.5400,-999.0000, -999.00
32OC19880723,       A16N,      99,          1,         10,         10,2,19880819,       0541,    10.9867,   -28.9900,       5959,   491.3,  35.0750,2,  35.0760,2,     50.7,2,    50.0,2,   15.50,2,   33.70,2,    0.00,2,    2.09,2,   0.100,2,   0.024,2,-999.000,9,-999.0000,9, -999.00,9,-999.000,9,-999.000,-999.000,     9.6980,-999.0000, -999.00
32OC19880723,       A16N,      99,          1,         11,         11,2,19880819,       0541,    10.9867,   -28.9900,       5959,   716.1,  34.8151,2,  34.8270,2,     86.2,2,    86.1,2,   22.20,2,   34.60,2,    0.01,2,    2.28,2,   0.049,2,   0.005,7,-999.000,9,-999.0000,9, -999.00,9,-999.000,9,-999.000,   9.000,     7.1020,-999.0000, -999.00
32OC19880723,       A16N,      99,          1,         12,         12,2,19880819,       0541,    10.9867,   -28.9900,       5959,   950.4,  34.7615,2,  34.7630,2,    126.5,2,   134.7,2,   26.50,2,   31.70,2,    0.01,2,    2.16,2,   0.028,2,   0.005,7,-999.000,9,-999.0000,9, -999.00,9,-999.000,9,-999.000,-999.000,     5.3440,-999.0000, -999.00
32OC19880723,       A16N,      99,          1,         13,         13,2,19880819,       0541,    10.9867,   -28.9900,       5959,  1273.1,  34.9258,2,  34.9380,2,    177.7,2,   189.9,2,   21.40,2, -999.00,9,    0.01,2,    1.66,2,   0.039,3,   0.005,7,-999.000,9,-999.0000,9, -999.00,9,-999.000,9,-999.000,   9.000,     4.7580,-999.0000, -999.00
32OC19880723,       A16N,      99,          1,         14,         14,2,19880819,       0541,    10.9867,   -28.9900,       5959,  1689.9,  34.9708,2,  34.9670,2,    228.6,2,   232.0,2,   20.10,2,   21.30,2,    0.01,2,    1.43,2,   0.003,2,   0.005,7,-999.000,9,-999.0000,9, -999.00,9,-999.000,9,-999.000,-999.000,     3.8590,-999.0000, -999.00
32OC19880723,       A16N,      99,          1,         15,         15,2,19880819,       0541,    10.9867,   -28.9900,       5959,  2111.8,  34.9604,2,  34.9590,2,    243.9,2,   246.4,2,   22.80,2,   20.30,2,    0.01,2,    1.34,2,  -0.002,2,   0.005,7,-999.000,9,-999.0000,9, -999.00,9,-999.000,9,-999.000,   9.000,     3.3730,-999.0000, -999.00
32OC19880723,       A16N,      99,          1,         16,         16,2,19880819,       0541,    10.9867,   -28.9900,       5959,  2541.7,  34.9449,2,  34.9440,2,    245.0,2,   245.9,2,   29.40,2,   20.70,2,    0.01,2,    1.35,2,   0.067,4,   0.008,7,-999.000,9,-999.0000,9, -999.00,9,-999.000,9,-999.000,-999.000,     2.9920,-999.0000, -999.00
32OC19880723,       A16N,      99,          1,         17,         17,2,19880819,       0541,    10.9867,   -28.9900,       5959,  2975.8,  34.9270,2,  34.9260,2,    249.8,2,   249.4,2,   33.20,2,   20.40,2,    0.01,2,    1.42,2,   0.014,3,   0.005,7,-999.000,9,-999.0000,9, -999.00,9,-999.000,9,-999.000,   9.000,     2.7320,-999.0000, -999.00
32OC19880723,       A16N,      99,          1,         18,         18,2,19880819,       0541,    10.9867,   -28.9900,       5959,  3415.3,  34.9118,2,  34.9100,2,    250.0,2,   249.0,2,   38.10,2,   21.00,2,    0.02,2,    1.43,2,   0.020,2,   0.004,2,-999.000,9,-999.0000,9, -999.00,9,-999.000,9,-999.000,-999.000,     2.5410,-999.0000, -999.00
32OC19880723,       A16N,      99,          1,         19,         19,2,19880819,       0541,    10.9867,   -28.9900,       5959,  3864.2,  34.8977,2,  34.8960,2,    247.9,2,   247.7,2,   42.50,2,   21.30,2,    0.02,2,    1.46,2,  -0.027,3,   0.002,7,-999.000,9,-999.0000,9, -999.00,9,-999.000,9,-999.000,   9.000,     2.4060,-999.0000, -999.00
32OC19880723,       A16N,      99,          1,         20,         20,2,19880819,       0541,    10.9867,   -28.9900,       5959,  4315.5,  34.8851,2,  34.8850,2,    246.1,2,   245.0,2,   47.00,2,   21.90,2,    0.02,2,    1.50,2,   0.002,2,   0.008,2,-999.000,9,-999.0000,9, -999.00,9,-999.000,9,-999.000,-999.000,     2.3290,-999.0000, -999.00
32OC19880723,       A16N,      99,          1,         21,         21,2,19880819,       0541,    10.9867,   -28.9900,       5959,  4784.9,  34.8757,2,  34.8780,2,    244.8,2,   245.9,2,   49.10,2,   22.10,2,    0.02,2,    1.52,2,   0.038,2,   0.005,7,-999.000,9,-999.0000,9, -999.00,9,-999.000,9,-999.000,   9.000,     2.2930,-999.0000, -999.00
32OC19880723,       A16N,      99,          1,         22,         22,2,19880819,       0541,    10.9867,   -28.9900,       5959,  5255.9,  34.8698,2,  34.8710,2,    246.8,2,   247.2,2,   50.00,2,   22.00,2,    0.02,2,    1.51,2,   0.014,2,   0.008,7,-999.000,9,-999.0000,9, -999.00,9,-999.000,9,-999.000,-999.000,     2.2940,-999.0000, -999.00
32OC19880723,       A16N,      99,          1,         23,         23,2,19880819,       0541,    10.9867,   -28.9900,       5959,  5678.3,  34.8672,2,  34.8690,2,    248.1,2,   249.0,2,   50.50,2,   22.30,2,    0.02,2,    1.52,2,   0.024,2,   0.013,2,-999.000,9,-999.0000,9, -999.00,9,-999.000,9,-999.000,   9.000,     2.3230,-999.0000, -999.00
32OC19880723,       A16N,      99,          1,         24,         24,2,19880819,       0541,    10.9867,   -28.9900,       5959,  6070.1,  34.8672,2,  34.8680,2,    248.1,2,   248.5,2,   50.60,2,   22.00,2,    0.03,2,    1.51,2,  -0.001,2,   0.005,7,-999.000,9,-999.0000,9, -999.00,9,-999.000,9,-999.000,-999.000,     2.3710,-999.0000, -999.00
32OC19880723,       A16N,      99,          1,         99,     -999.0,9,19880819,       0541,    10.9867,   -28.9900,       5959,  6072.0,  34.8672,2,-999.0000,9,    248.1,2,  -999.0,9, -999.00,9, -999.00,9, -999.00,9, -999.00,9,-999.000,9,-999.000,9,-999.000,9,-999.0000,9, -999.00,9,-999.000,9,-999.000,   9.000,     2.3710,-999.0000, -999.00
32OC19880723,       A16N,     100,          1,          1,          1,2,19880819,       1148,    10.2917,   -28.6817,       5755,    13.4,  35.9632,2,  35.9390,2,    215.4,2,   207.3,2,    0.10,2,    0.80,2,    0.00,2,    0.03,2,-999.000,9,-999.000,9,-999.000,9,-999.0000,9, -999.00,9,-999.000,9,-999.000,-999.000,    27.1590,-999.0000, -999.00
32OC19880723,       A16N,     100,          1,          2,          2,2,19880819,       1148,    10.2917,   -28.6817,       5755,    38.3,  36.0098,2,  35.9980,2,    214.0,2,   223.6,2,    0.00,2,    0.90,2,    0.01,2,    0.08,2,-999.000,9,-999.000,9,-999.000,9,-999.0000,9, -999.00,9,-999.000,9,-999.000,   9.000,    23.2440,-999.0000, -999.00
32OC19880723,       A16N,     100,          1,          3,          3,2,19880819,       1148,    10.2917,   -28.6817,       5755,    68.6,  35.7700,2,  35.9000,2,    107.0,2,   143.7,3,    1.90,2,    8.20,2,    0.26,2,    0.58,2,-999.000,9,-999.000,9,-999.000,9,-999.0000,9, -999.00,9,-999.000,9,-999.000,-999.000,    20.1010,-999.0000, -999.00
32OC19880723,       A16N,     100,          1,          4,          4,2,19880819,       1148,    10.2917,   -28.6817,       5755,   108.4,  35.4997,2,  35.5380,2,     83.7,2,    74.0,2,    7.00,2,   24.60,2,    0.02,2,    1.50,2,-999.000,9,-999.000,9,-999.000,9,-999.0000,9, -999.00,9,-999.000,9,-999.000,   9.000,    14.9540,-999.0000, -999.00
32OC19880723,       A16N,     100,          1,          5,          5,2,19880819,       1148,    10.2917,   -28.6817,       5755,   158.3,  35.4889,2,  35.5750,2,    106.0,2,    99.6,2,    7.00,2,   22.80,2,    0.00,2,    1.35,2,-999.000,9,-999.000,9,-999.000,9,-999.0000,9, -999.00,9,-999.000,9,-999.000,-999.000,    14.1740,-999.0000, -999.00
32OC19880723,       A16N,     100,          1,          6,          6,2,19880819,       1148,    10.2917,   -28.6817,       5755,   207.6,  35.1821,2,  35.1550,2,    113.0,2,   115.3,2,    9.80,2,   24.50,2,    0.00,2,    1.59,2,-999.000,9,-999.000,9,-999.000,9,-999.0000,9, -999.00,9,-999.000,9,-999.000,   9.000,    11.6910,-999.0000, -999.00
32OC19880723,       A16N,     100,          1,          7,          7,2,19880819,       1148,    10.2917,   -28.6817,       5755,   256.9,  35.0980,2,  35.0960,2,    101.4,2,    92.2,2,   11.30,2,   28.20,2,    0.00,2,    1.74,2,-999.000,9,-999.000,9,-999.000,9,-999.0000,9, -999.00,9,-999.000,9,-999.000,-999.000,    11.1170,-999.0000, -999.00
32OC19880723,       A16N,     100,          1,          8,          8,2,19880819,       1148,    10.2917,   -28.6817,       5755,   306.2,  35.0606,2,  35.0680,2,     87.6,2,    89.2,2,   11.80,2,   29.80,2,    0.03,2,    1.85,2,-999.000,9,-999.000,9,-999.000,9,-999.0000,9, -999.00,9,-999.000,9,-999.000,   9.000,    10.7900,-999.0000, -999.00
32OC19880723,       A16N,     100,          1,          9,          9,2,19880819,       1148,    10.2917,   -28.6817,       5755,   404.7,  34.9716,2,  34.9580,2,     83.6,2,    80.4,2,   14.50,2,   33.00,2,    0.00,2,    1.97,2,-999.000,9,-999.000,9,-999.000,9,-999.0000,9, -999.00,9,-999.000,9,-999.000,-999.000,     9.6350,-999.0000, -999.00
32OC19880723,       A16N,     100,          1,         10,         10,2,19880819,       1148,    10.2917,   -28.6817,       5755,   505.2,  35.0720,2,  35.0590,2,     48.7,2,    48.7,2,   16.80,2,   35.30,2,    0.01,2,    2.17,2,-999.000,9,-999.000,9,-999.000,9,-999.0000,9, -999.00,9,-999.000,9,-999.000,   9.000,     9.3360,-999.0000, -999.00
32OC19880723,       A16N,     100,          1,         11,         11,2,19880819,       1148,    10.2917,   -28.6817,       5755,   748.7,  34.7603,2,  34.7540,2,     96.0,2,   103.0,2,   24.30,2,   34.30,2,    0.00,2,    2.30,2,-999.000,9,-999.000,9,-999.000,9,-999.0000,9, -999.00,9,-999.000,9,-999.000,-999.000,     6.3490,-999.0000, -999.00
32OC19880723,       A16N,     100,          1,         12,         12,2,19880819,       1148,    10.2917,   -28.6817,       5755,   985.1,  34.7521,2,-999.0000,9,    130.4,2,  -999.0,9, -999.00,9, -999.00,9, -999.00,9, -999.00,9,-999.000,9,-999.000,9,-999.000,9,-999.0000,9, -999.00,9,-999.000,9,-999.000,   9.000,     5.2420,-999.0000, -999.00
32OC19880723,       A16N,     100,          1,         13,         13,2,19880819,       1148,    10.2917,   -28.6817,       5755,  1277.9,  34.9131,2,  34.9260,2,    176.2,2,   186.4,2,   22.00,2,   26.00,2,    0.00,2,    1.74,2,-999.000,9,-999.000,9,-999.000,9,-999.0000,9, -999.00,9,-999.000,9,-999.000,-999.000,     4.7550,-999.0000, -999.00
32OC19880723,       A16N,     100,          1,         14,         14,2,19880819,       1148,    10.2917,   -28.6817,       5755,  1564.2,  34.9706,2,  34.9720,2,    225.3,2,   228.6,2,   19.20,2,   21.40,2,    0.00,2,    1.46,2,-999.000,9,-999.000,9,-999.000,9,-999.0000,9, -999.00,9,-999.000,9,-999.000,   9.000,     4.0910,-999.0000, -999.00
32OC19880723,       A16N,     100,          1,         15,         15,2,19880819,       1148,    10.2917,   -28.6817,       5755,  1949.1,  34.9636,2,  34.9640,2,    246.6,2,   246.8,2,   20.80,2,   20.50,2,    0.01,2,    1.37,2,-999.000,9,-999.000,9,-999.000,9,-999.0000,9, -999.00,9,-999.000,9,-999.000,-999.000,     3.5410,-999.0000, -999.00
32OC19880723,       A16N,     100,          1,         16,         16,2,19880819,       1148,    10.2917,   -28.6817,       5755,  2398.5,  34.9483,2,  34.9490,2,    247.2,2,   248.1,2,   26.50,2,   20.40,2,    0.00,2,    1.35,2,-999.000,9,-999.000,9,-999.000,9,-999.0000,9, -999.00,9,-999.000,9,-999.000,   9.000,     3.1160,-999.0000, -999.00
32OC19880723,       A16N,     100,          1,         17,         17,2,19880819,       1148,    10.2917,   -28.6817,       5755,  2836.4,  34.9295,2,  34.9300,2,    250.3,2,   250.7,2,   31.90,2,   20.50,2,    0.01,2,    1.39,2,-999.000,9,-999.000,9,-999.000,9,-999.0000,9, -999.00,9,-999.000,9,-999.000,-999.000,     2.7940,-999.0000, -999.00
32OC19880723,       A16N,     100,          1,         18,         18,2,19880819,       1148,    10.2917,   -28.6817,       5755,  3291.6,  34.9121,2,  34.9110,2,    250.2,2,   249.4,2,   37.20,2,   21.10,2,    0.00,2,    1.41,2,-999.000,9,-999.000,9,-999.000,9,-999.0000,9, -999.00,9,-999.000,9,-999.000,   9.000,     2.5650,-999.0000, -999.00
32OC19880723,       A16N,     100,          1,         19,         19,2,19880819,       1148,    10.2917,   -28.6817,       5755,  3737.2,  34.8987,2,  34.8980,2,    248.4,2,   248.1,2,   41.60,2,   21.80,2,    0.00,2,    1.43,2,-999.000,9,-999.000,9,-999.000,9,-999.0000,9, -999.00,9,-999.000,9,-999.000,-999.000,     2.4290,-999.0000, -999.00
32OC19880723,       A16N,     100,          1,         20,         20,2,19880819,       1148,    10.2917,   -28.6817,       5755,  4189.7,  34.8876,2,  34.8880,2,    249.4,2,   248.5,2,   44.90,2,   22.00,2,    0.01,2,    1.45,2,-999.000,9,-999.000,9,-999.000,9,-999.0000,9, -999.00,9,-999.000,9,-999.000,   9.000,     2.3480,-999.0000, -999.00
32OC19880723,       A16N,     100,          1,         21,         21,2,19880819,       1148,    10.2917,   -28.6817,       5755,  4644.4,  34.8775,2,  34.8780,2,    245.5,2,   245.9,2,   48.70,2,   22.70,2,    0.01,2,    1.51,2,-999.000,9,-999.000,9,-999.000,9,-999.0000,9, -999.00,9,-999.000,9,-999.000,-999.000,     2.2990,-999.0000, -999.00
32OC19880723,       A16N,     100,          1,         22,         22,2,19880819,       1148,    10.2917,   -28.6817,       5755,  5097.5,  34.8702,2,  34.8710,2,    245.9,2,   246.8,2,   50.30,2,   22.50,2,    0.01,2,    1.49,2,-999.000,9,-999.000,9,-999.000,9,-999.0000,9, -999.00,9,-999.000,9,-999.000,   9.000,     2.2800,-999.0000, -999.00
32OC19880723,       A16N,     100,          1,         23,         23,2,19880819,       1148,    10.2917,   -28.6817,       5755,  5556.2,  34.8678,2,  34.8690,2,    248.5,2,   248.1,2,   50.80,2,   22.80,2,    0.01,2, -999.00,9,-999.000,9,-999.000,9,-999.000,9,-999.0000,9, -999.00,9,-999.000,9,-999.000,-999.000,     2.3120,-999.0000, -999.00
32OC19880723,       A16N,     100,          1,         24,         24,2,19880819,       1148,    10.2917,   -28.6817,       5755,  5810.2,  34.8681,2,  34.8680,2,    248.1,2,   248.5,2,   50.70,2,   22.10,2,    0.01,2,    1.50,2,-999.000,9,-999.000,9,-999.000,9,-999.0000,9, -999.00,9,-999.000,9,-999.000,   9.000,     2.3420,-999.0000, -999.00
32OC19880723,       A16N,     100,          1,         99,     -999.0,9,19880819,       1148,    10.2917,   -28.6817,       5755,  5812.1,  34.8681,2,-999.0000,9,    248.1,2,  -999.0,9, -999.00,9, -999.00,9, -999.00,9, -999.00,9,-999.000,9,-999.000,9,-999.000,9,-999.0000,9, -999.00,9,-999.000,9,-999.000,-999.000,     2.3420,-999.0000, -999.00