BOTTLE,20220922CCHSIOAMB
EXPOCODE,SECT_ID,STNNBR,CASTNO,SAMPNO,BTLNBR,BTLNBR_FLAG_W,DATE,TIME,LATITUDE,LONGITUDE,DEPTH,CTDPRS,CTDSAL,CTDSAL_FLAG_W,SALNTY,SALNTY_FLAG_W,CTDOXY,CTDOXY_FLAG_W,OXYGEN,OXYGEN_FLAG_W,SILCAT,SILCAT_FLAG_W,NITRAT,NITRAT_FLAG_W,NITRIT,NITRIT_FLAG_W,PHSPHT,PHSPHT_FLAG_W,CFC-11,CFC-11_FLAG_W,CFC-12,CFC-12_FLAG_W,TRITUM,TRITUM_FLAG_W,HELIUM,HELIUM_FLAG_W,DELHE3,DELHE3_FLAG_W,NEON,NEON_FLAG_W,NEONER,TRITER,CTDTMP,HELIER,DELHER
,,,,,,,,,,,METERS,DBAR,PSS-78,,PSS-78,,UMOL/KG,,UMOL/KG,,UMOL/KG,,UMOL/KG,,UMOL/KG,,UMOL/KG,,PMOL/KG,,PMOL/KG,,TU,,NMOL/KG,,PERCNT,,NMOL/KG,,NMOL/KG,TU,IPTS-68,NMOL/KG,PERCNT
32OC19880723,       A16N,      64,          1,          5,          5,2,19880806,       0806,    33.7633,   -21.3150,       5087,     3.2,  36.8076,2,  36.8000,2,    221.4,2,   220.4,2,    0.00,2,    0.10,2,    0.01,2,    0.07,2,   2.067,2,   0.964,2,   2.522,2,   1.7354,2,   -1.54,2,   6.926,2,   0.052,   0.060,    22.6770,   0.0121,    0.18
32OC19880723,       A16N,      64,          1,          4,          4,2,19880806,       0806,    33.7633,   -21.3150,       5087,     3.2,  36.8076,2,  36.8000,2,    221.4,2,   219.5,2,    1.10,2,    0.30,2,    0.00,2,    0.09,2,   2.027,2,   0.965,2,   2.480,2,   1.7408,2,   -1.41,2,   6.922,2,   0.052,   0.059,    22.6770,   0.0122,    0.18
32OC19880723,       A16N,      64,          1,          6,          6,2,19880806,       0806,    33.7633,   -21.3150,       5087,    68.2,  36.4473,2,  36.4680,2,    247.5,2,   243.7,2, -999.00,9,    0.20,2,    0.00,2,    0.06,2,   2.300,2,   1.091,2,   2.429,2,   1.7446,2,   -1.24,2,   7.120,2,   0.053,   0.060,    18.8320,   0.0122,    0.18
32OC19880723,       A16N,      64,          1,          7,          7,2,19880806,       0806,    33.7633,   -21.3150,       5087,    68.2,  36.4473,2,  36.4690,2,    247.5,2,   243.7,2,    0.00,2,    0.20,2,    0.00,2,    0.12,2,   2.312,2,   1.099,2,   2.260,2,   1.7398,2,   -0.90,2,   7.108,2,   0.053,   0.057,    18.8320,   0.0122,    0.18
32OC19880723,       A16N,      64,          1,          8,          8,2,19880806,       0806,    33.7633,   -21.3150,       5087,   159.0,  36.3235,2,  36.2980,2,    216.2,2,   211.4,2,    1.60,2,    4.90,2,    0.00,2,    0.27,2,   2.148,2,   1.006,2,   2.439,2,   1.7582,2,    0.81,2,   7.201,2,   0.054,   0.061,    16.7010,   0.0123,    0.18
32OC19880723,       A16N,      64,          1,          9,          9,2,19880806,       0806,    33.7633,   -21.3150,       5087,   208.8,  36.2111,2,  36.1880,2,    218.0,2,   213.1,2,    2.00,2,    6.00,2,    0.00,2,    0.35,2,   2.258,2,   1.055,2,   2.452,2,   1.7579,2,    0.78,2,   7.246,2,   0.054,   0.061,    16.0490,   0.0123,    0.18
32OC19880723,       A16N,      64,          1,         11,         11,2,19880806,       0806,    33.7633,   -21.3150,       5087,   308.9,  35.9746,2,  35.9520,2,    209.5,2,   207.0,2,    2.20,2,    9.00,2,    0.00,2,    0.52,2,   2.030,2,   0.939,2,   2.548,2,   1.7922,2,    3.08,2,   7.330,2,   0.055,   0.060,    14.5170,   0.0125,    0.18
32OC19880723,       A16N,      64,          1,         10,         10,2,19880806,       0806,    33.7633,   -21.3150,       5087,   308.9,  35.9746,2,  35.9490,2,    209.5,2,   207.0,2,    1.70,2,    9.00,2,    0.00,2,    0.49,2,   2.039,2,   0.954,2,   2.538,2,   1.8361,2,    3.67,2,   7.345,2,   0.055,   0.058,    14.5170,   0.0129,    0.18
32OC19880723,       A16N,      64,          1,         13,         13,2,19880806,       0806,    33.7633,   -21.3150,       5087,   609.4,  35.5136,2,  35.5350,2,    194.0,2,   196.1,2,    5.80,2,   15.20,2,    0.00,2,    0.92,2,-999.000,9,-999.000,9,-999.000,9,   1.7874,2,    8.05,2,   7.507,2,   0.056,   9.000,    11.3230,   0.0125,    0.18
32OC19880723,       A16N,      64,          1,         12,         12,2,19880806,       0806,    33.7633,   -21.3150,       5087,   609.4,  35.5136,2,  35.5330,2,    194.0,2,   196.1,2,    5.70,2,   15.10,2,    0.00,2,    0.90,2,   1.516,2,   0.669,2,   2.431,2,   1.7639,2,    6.92,2,   7.523,2,   0.056,   0.059,    11.3230,   0.0123,    0.18
32OC19880723,       A16N,      64,          1,         15,         15,2,19880806,       0806,    33.7633,   -21.3150,       5087,  1010.5,  35.5482,2,  35.5520,2,    189.5,2,   190.8,2,   10.10,2,   18.30,2,    0.00,2,    1.08,2,   0.477,2,   0.220,2,   1.216,2,   1.7976,2,    8.59,2,   7.671,2,   0.058,   0.048,     8.8160,   0.0126,    0.18
32OC19880723,       A16N,      64,          1,         14,         14,2,19880806,       0806,    33.7633,   -21.3150,       5087,  1010.5,  35.5482,2,  35.5520,2,    189.5,2,   190.4,2,   10.10,2,   18.50,2,    0.00,2,    1.13,2,   0.506,2,   0.236,2,   1.250,2,   1.7585,2,    8.10,2,   7.640,2,   0.057,   0.044,     8.8160,   0.0123,    0.18
32OC19880723,       A16N,      64,          1,         16,         16,2,19880806,       0806,    33.7633,   -21.3150,       5087,  1410.7,  35.2681,2,  35.2750,2,    231.4,2,   232.0,2,   11.20,2,   18.30,2,    0.00,2,    1.13,2,   0.497,2,   0.216,2,   1.029,2,   1.8669,2,    7.93,2,   7.832,2,   0.059,   0.045,     5.9900,   0.0131,    0.18
32OC19880723,       A16N,      64,          1,         17,         17,2,19880806,       0806,    33.7633,   -21.3150,       5087,  1761.5,  35.1427,2,  35.1440,2,    248.4,2,   248.5,2,   12.60,2,   18.10,2,    0.00,2,    1.15,2,-999.000,9,-999.000,9,-999.000,9,-999.0000,9, -999.00,9,-999.000,9,-999.000,-999.000,     4.7550,-999.0000, -999.00
32OC19880723,       A16N,      64,          1,         18,         18,2,19880806,       0806,    33.7633,   -21.3150,       5087,  2112.6,  35.0274,2,  35.0310,2,    256.6,2,   257.2,2,   16.40,2,   18.40,2,    0.00,2,    1.18,2,   0.099,2,   0.021,2,   0.149,2,   1.8633,2,    2.62,2,   7.988,2,   0.060,   0.032,     3.8230,   0.0130,    0.18
32OC19880723,       A16N,      64,          1,         19,         19,2,19880806,       0806,    33.7633,   -21.3150,       5087,  2464.1,  34.9772,2,  34.9790,2,    255.9,2,   257.2,2,   21.90,2,   18.90,2,    0.00,2,    1.21,2,-999.000,9,-999.000,9,-999.000,9,-999.0000,9, -999.00,9,-999.000,9,-999.000,   9.000,     3.2630,-999.0000, -999.00
32OC19880723,       A16N,      64,          1,         20,         20,2,19880806,       0806,    33.7633,   -21.3150,       5087,  2464.1,  34.9772,2,  34.9800,2,    255.9,2,   257.6,2,   21.90,2,   18.70,2,    0.00,2,    1.24,2,   0.087,2,   0.024,2,-999.000,9,   1.8513,2,    1.78,2,   8.084,2,   0.061,-999.000,     3.2630,   0.0130,    0.18
32OC19880723,       A16N,      64,          1,         21,         21,2,19880806,       0806,    33.7633,   -21.3150,       5087,  2819.0,  34.9529,2,  34.9540,2,    253.8,2,   253.3,2,   29.60,2,   19.70,2,    0.00,2,    1.29,2,   0.070,2,   0.011,7,-999.000,9,-999.0000,9, -999.00,9,-999.000,9,-999.000,   9.000,     2.9340,-999.0000, -999.00
32OC19880723,       A16N,      64,          1,         23,         23,2,19880806,       0806,    33.7633,   -21.3150,       5087,  3530.0,  34.9229,2,  34.9230,2,    247.7,2,   247.2,2,   37.80,2,   21.10,2,    0.00,2,    1.39,2,   0.032,2,   0.003,7,-999.000,9,-999.0000,9, -999.00,9,-999.000,9,-999.000,-999.000,     2.6230,-999.0000, -999.00
32OC19880723,       A16N,      64,          1,         22,         22,2,19880806,       0806,    33.7633,   -21.3150,       5087,  3530.0,  34.9229,2,  34.9240,2,    247.7,2,   247.2,2,   37.50,2,   20.80,2,    0.00,2,    1.39,2,-999.000,9,-999.000,9,   0.031,2,   1.8615,2,    2.26,2,   8.132,2,   0.061,   0.031,     2.6230,   0.0130,    0.18
32OC19880723,       A16N,      64,          1,         24,         24,2,19880806,       0806,    33.7633,   -21.3150,       5087,  3885.5,  34.9086,2,  34.9110,2,    246.8,2,   246.3,2,   41.10,2,   21.40,2,    0.00,2,    1.45,2,   0.022,2,   0.003,7,-999.000,9,-999.0000,9, -999.00,9,-999.000,9,-999.000,   9.000,     2.5280,-999.0000, -999.00
32OC19880723,       A16N,      64,          1,          1,          1,2,19880806,       0806,    33.7633,   -21.3150,       5087,  5203.9,  34.8877,2,-999.0000,9,    245.6,2,   246.3,2,   45.50,2,   21.70,2,    0.00,2,    1.35,2,   0.038,2,   0.003,7,-999.000,9,-999.0000,9, -999.00,9,-999.000,9,-999.000,-999.000,     2.4690,-999.0000, -999.00
32OC19880723,       A16N,      64,          1,         99,     -999.0,9,19880806,       0806,    33.7633,   -21.3150,       5087,  5204.6,  34.8877,2,-999.0000,9,    245.5,2,  -999.0,9, -999.00,9, -999.00,9, -999.00,9, -999.00,9,-999.000,9,-999.000,9,-999.000,9,-999.0000,9, -999.00,9,-999.000,9,-999.000,   9.000,     2.4690,-999.0000, -999.00
32OC19880723,       A16N,      65,          1,          4,          4,2,19880806,       1253,    33.3217,   -21.6067,       5304,    14.2,  36.7098,2,  36.7050,2,    229.1,2,   223.4,2,    0.00,2,    0.10,2, -999.00,9,    0.05,2,-999.000,9,-999.000,9,-999.000,9,-999.0000,9, -999.00,9,-999.000,9,-999.000,-999.000,    22.0050,-999.0000, -999.00
32OC19880723,       A16N,      65,          1,          5,          5,2,19880806,       1253,    33.3217,   -21.6067,       5304,    14.2,  36.7098,2,  36.7050,2,    229.1,2,   223.0,2,    0.00,2,    0.10,2, -999.00,9,    0.04,2,-999.000,9,-999.000,9,-999.000,9,-999.0000,9, -999.00,9,-999.000,9,-999.000,   9.000,    22.0050,-999.0000, -999.00
32OC19880723,       A16N,      65,          1,          6,          6,2,19880806,       1253,    33.3217,   -21.6067,       5304,   158.5,  36.3966,2,-999.0000,9,    218.9,2,   216.6,2,    4.90,2,    7.90,2, -999.00,9,    0.40,2,-999.000,9,-999.000,9,-999.000,9,-999.0000,9, -999.00,9,-999.000,9,-999.000,-999.000,    17.0350,-999.0000, -999.00
32OC19880723,       A16N,      65,          1,          7,          7,2,19880806,       1253,    33.3217,   -21.6067,       5304,   207.2,  36.2846,2,  36.2620,2,    212.3,2,   211.0,2,    1.10,2,    5.00,2, -999.00,9,    0.21,2,-999.000,9,-999.000,9,-999.000,9,-999.0000,9, -999.00,9,-999.000,9,-999.000,   9.000,    16.4300,-999.0000, -999.00
32OC19880723,       A16N,      65,          1,          8,          8,2,19880806,       1253,    33.3217,   -21.6067,       5304,   304.8,  36.0074,2,  36.0110,2,    204.2,2,   202.2,2,    2.50,2,    8.60,2, -999.00,9,    0.46,2,-999.000,9,-999.000,9,-999.000,9,-999.0000,9, -999.00,9,-999.000,9,-999.000,-999.000,    14.8800,-999.0000, -999.00
32OC19880723,       A16N,      65,          1,          9,          9,2,19880806,       1253,    33.3217,   -21.6067,       5304,   402.1,  35.8102,2,  35.7890,2,    208.5,2,   203.5,2,    3.50,2,   11.00,2, -999.00,9,    0.60,2,-999.000,9,-999.000,9,-999.000,9,-999.0000,9, -999.00,9,-999.000,9,-999.000,   9.000,    13.4290,-999.0000, -999.00
32OC19880723,       A16N,      65,          1,         10,         10,2,19880806,       1253,    33.3217,   -21.6067,       5304,   596.9,  35.5687,2,  35.5720,2,    203.1,2,   199.1,2,    5.30,2,   14.20,2, -999.00,9,    0.77,2,-999.000,9,-999.000,9,-999.000,9,-999.0000,9, -999.00,9,-999.000,9,-999.000,-999.000,    11.6290,-999.0000, -999.00
32OC19880723,       A16N,      65,          1,         11,         11,2,19880806,       1253,    33.3217,   -21.6067,       5304,   792.8,  35.5010,2,  35.4950,2,    180.1,2,   181.7,2,    8.50,2,   18.00,2, -999.00,9,    1.03,2,-999.000,9,-999.000,9,-999.000,9,-999.0000,9, -999.00,9,-999.000,9,-999.000,   9.000,    10.0720,-999.0000, -999.00
32OC19880723,       A16N,      65,          1,         12,         12,2,19880806,       1253,    33.3217,   -21.6067,       5304,   792.8,  35.5010,2,  35.4940,2,    180.1,2,   181.7,2,    8.60,2,   18.30,2, -999.00,9,    1.03,2,-999.000,9,-999.000,9,-999.000,9,-999.0000,9, -999.00,9,-999.000,9,-999.000,-999.000,    10.0720,-999.0000, -999.00
32OC19880723,       A16N,      65,          1,         13,         13,2,19880806,       1253,    33.3217,   -21.6067,       5304,  1039.2,  35.5955,2,  35.5810,2,    187.1,2,   187.7,2,   10.70,2,   18.80,2, -999.00,9,    1.08,2,-999.000,9,-999.000,9,-999.000,9,-999.0000,9, -999.00,9,-999.000,9,-999.000,   9.000,     8.8550,-999.0000, -999.00
32OC19880723,       A16N,      65,          1,         14,         14,2,19880806,       1253,    33.3217,   -21.6067,       5304,  1537.7,  35.3402,2,  35.3550,2,    226.3,2,   225.5,2,   12.90,2,   18.40,2, -999.00,9,    1.07,2,-999.000,9,-999.000,9,-999.000,9,-999.0000,9, -999.00,9,-999.000,9,-999.000,-999.000,     6.1350,-999.0000, -999.00
32OC19880723,       A16N,      65,          1,         15,         15,2,19880806,       1253,    33.3217,   -21.6067,       5304,  1537.7,  35.3402,2,  35.3540,2,    226.3,2,   225.5,2,   12.60,2,   18.40,2, -999.00,9,    1.09,2,-999.000,9,-999.000,9,-999.000,9,-999.0000,9, -999.00,9,-999.000,9,-999.000,   9.000,     6.1350,-999.0000, -999.00
32OC19880723,       A16N,      65,          1,         16,         16,2,19880806,       1253,    33.3217,   -21.6067,       5304,  2146.2,  35.0238,2,  35.0240,2,    254.4,2,   256.3,2,   17.80,2,   18.50,2, -999.00,9,    1.10,2,-999.000,9,-999.000,9,-999.000,9,-999.0000,9, -999.00,9,-999.000,9,-999.000,-999.000,     3.7040,-999.0000, -999.00
32OC19880723,       A16N,      65,          1,         17,         17,2,19880806,       1253,    33.3217,   -21.6067,       5304,  2504.3,  34.9794,2,  34.9780,2,    253.1,2,   254.2,2,   24.00,2,   19.30,2, -999.00,9,    1.17,2,-999.000,9,-999.000,9,-999.000,9,-999.0000,9, -999.00,9,-999.000,9,-999.000,   9.000,     3.2110,-999.0000, -999.00
32OC19880723,       A16N,      65,          1,         18,         18,2,19880806,       1253,    33.3217,   -21.6067,       5304,  2914.2,  34.9504,2,-999.0000,9,    250.5,2,   250.7,2,   30.80,2,   20.10,2, -999.00,9,    1.24,2,-999.000,9,-999.000,9,-999.000,9,-999.0000,9, -999.00,9,-999.000,9,-999.000,-999.000,     2.8660,-999.0000, -999.00
32OC19880723,       A16N,      65,          1,         19,         19,2,19880806,       1253,    33.3217,   -21.6067,       5304,  3324.0,  34.9310,2,  34.9290,2,    247.2,2,   247.7,2,   36.50,2,   20.80,2, -999.00,9,    1.31,2,-999.000,9,-999.000,9,-999.000,9,-999.0000,9, -999.00,9,-999.000,9,-999.000,   9.000,     2.6650,-999.0000, -999.00
32OC19880723,       A16N,      65,          1,         20,         20,2,19880806,       1253,    33.3217,   -21.6067,       5304,  3324.0,  34.9310,2,  34.9300,2,    247.2,2,   246.8,2,   36.50,2,   20.50,2, -999.00,9,    1.30,2,   0.023,6,   0.009,6,-999.000,9,-999.0000,9, -999.00,9,-999.000,9,-999.000,-999.000,     2.6650,-999.0000, -999.00
32OC19880723,       A16N,      65,          1,         21,         21,2,19880806,       1253,    33.3217,   -21.6067,       5304,  3682.6,  34.9158,2,  34.9170,2,    246.5,2,   245.9,2,   40.00,2,   21.30,2, -999.00,9,    1.33,2,   0.030,6,   0.004,6,-999.000,9,-999.0000,9, -999.00,9,-999.000,9,-999.000,   9.000,     2.5500,-999.0000, -999.00
32OC19880723,       A16N,      65,          1,         22,         22,2,19880806,       1253,    33.3217,   -21.6067,       5304,  4040.5,  34.9047,2,  34.9070,2,    246.8,2,   246.3,2,   42.40,2,   21.40,2, -999.00,9,    1.35,2,   0.023,6,   0.004,6,-999.000,9,-999.0000,9, -999.00,9,-999.000,9,-999.000,-999.000,     2.4870,-999.0000, -999.00
32OC19880723,       A16N,      65,          1,         23,         23,2,19880806,       1253,    33.3217,   -21.6067,       5304,  4435.0,  34.8949,2,  34.8980,2,    246.4,2,   245.9,2,   44.00,2,   21.80,2, -999.00,9,    1.35,2,   0.060,6,   0.004,6,-999.000,9,-999.0000,9, -999.00,9,-999.000,9,-999.000,   9.000,     2.4610,-999.0000, -999.00
32OC19880723,       A16N,      65,          1,         24,         24,2,19880806,       1253,    33.3217,   -21.6067,       5304,  4794.8,  34.8898,2,  34.8920,2,    245.9,2,   245.9,2,   45.60,2,   21.90,2, -999.00,9,    1.38,2,   0.050,6,   0.012,6,-999.000,9,-999.0000,9, -999.00,9,-999.000,9,-999.000,-999.000,     2.4540,-999.0000, -999.00
32OC19880723,       A16N,      65,          1,          1,          1,2,19880806,       1253,    33.3217,   -21.6067,       5304,  5052.6,  34.8883,2,  34.8920,2,    245.9,2,   245.9,2,   46.10,2,   21.90,2, -999.00,9,    1.38,2,   0.076,6,   0.007,6,-999.000,9,-999.0000,9, -999.00,9,-999.000,9,-999.000,   9.000,     2.4660,-999.0000, -999.00
32OC19880723,       A16N,      65,          1,         97,     -999.0,9,19880806,       1253,    33.3217,   -21.6067,       5304,  5108.7,  34.8881,2,-999.0000,9,    246.4,2,  -999.0,9, -999.00,9, -999.00,9, -999.00,9, -999.00,9,-999.000,9,-999.000,9,-999.000,9,-999.0000,9, -999.00,9,-999.000,9,-999.000,-999.000,     2.4660,-999.0000, -999.00
32OC19880723,       A16N,      65,          1,         98,     -999.0,9,19880806,       1253,    33.3217,   -21.6067,       5304,  5396.4,  34.8864,2,-999.0000,9,    244.8,2,  -999.0,9, -999.00,9, -999.00,9, -999.00,9, -999.00,9,-999.000,9,-999.000,9,-999.000,9,-999.0000,9, -999.00,9,-999.000,9,-999.000,   9.000,     2.4890,-999.0000, -999.00
32OC19880723,       A16N,      65,          1,         99,     -999.0,9,19880806,       1253,    33.3217,   -21.6067,       5304,  5398.0,  34.8864,2,-999.0000,9,    244.7,2,  -999.0,9, -999.00,9, -999.00,9, -999.00,9, -999.00,9,-999.000,9,-999.000,9,-999.000,9,-999.0000,9, -999.00,9,-999.000,9,-999.000,-999.000,     2.4890,-999.0000, -999.00