BOTTLE,20220922CCHSIOAMB
EXPOCODE,SECT_ID,STNNBR,CASTNO,SAMPNO,BTLNBR,BTLNBR_FLAG_W,DATE,TIME,LATITUDE,LONGITUDE,DEPTH,CTDPRS,CTDSAL,CTDSAL_FLAG_W,SALNTY,SALNTY_FLAG_W,CTDOXY,CTDOXY_FLAG_W,OXYGEN,OXYGEN_FLAG_W,SILCAT,SILCAT_FLAG_W,NITRAT,NITRAT_FLAG_W,NITRIT,NITRIT_FLAG_W,PHSPHT,PHSPHT_FLAG_W,CFC-11,CFC-11_FLAG_W,CFC-12,CFC-12_FLAG_W,TRITUM,TRITUM_FLAG_W,HELIUM,HELIUM_FLAG_W,DELHE3,DELHE3_FLAG_W,NEON,NEON_FLAG_W,NEONER,TRITER,CTDTMP,HELIER,DELHER
,,,,,,,,,,,METERS,DBAR,PSS-78,,PSS-78,,UMOL/KG,,UMOL/KG,,UMOL/KG,,UMOL/KG,,UMOL/KG,,UMOL/KG,,PMOL/KG,,PMOL/KG,,TU,,NMOL/KG,,PERCNT,,NMOL/KG,,NMOL/KG,TU,IPTS-68,NMOL/KG,PERCNT
32OC19880723,       A16N,     117,          1,          1,          1,2,19880823,       0600,     0.0050,   -24.9967,       3049,    10.8,  36.1517,2,  36.1530,2,    202.0,2,   201.5,2,    0.60,2,    0.30,2,    0.00,2, -999.00,9,   1.485,2,   0.774,2,   0.949,2,   1.7747,2,   -0.58,2,   6.762,2,   0.051,   0.041,    25.9960,   0.0124,    0.18
32OC19880723,       A16N,     117,          1,          2,          2,2,19880823,       0600,     0.0050,   -24.9967,       3049,    36.5,  36.1447,2,  36.1500,2,    201.1,2,   200.2,2,    0.60,2,    0.40,2,    0.00,2, -999.00,9,   1.477,2,   0.771,2,   0.974,2,   1.8164,2,   -1.24,2,   7.092,2,   0.053,   0.043,    25.9680,   0.0127,    0.18
32OC19880723,       A16N,     117,          1,          3,          3,2,19880823,       0600,     0.0050,   -24.9967,       3049,    66.4,  36.1385,2,  36.1380,2,    193.6,2,   194.9,2,    0.80,2,    1.50,2,    0.00,2, -999.00,9,   1.467,2,   0.743,2,   0.961,2,   1.7707,2,   -0.60,2,   6.757,2,   0.051,   0.041,    25.6830,   0.0124,    0.18
32OC19880723,       A16N,     117,          1,          4,          4,2,19880823,       0600,     0.0050,   -24.9967,       3049,    84.4,  36.1578,2,  36.1340,2,    167.0,2,   162.1,2,    2.20,2,    6.20,2,    0.07,2, -999.00,9,   1.354,2,   0.674,2,   1.112,2,   1.7201,2,   -0.29,2,   6.963,2,   0.052,   0.049,    21.8710,   0.0120,    0.18
32OC19880723,       A16N,     117,          1,          5,          5,2,19880823,       0600,     0.0050,   -24.9967,       3049,   105.5,  36.0196,2,  36.1710,3,    167.3,2,   166.8,2,    2.40,2,    8.00,2,    0.14,2, -999.00,9,   1.360,2,   0.694,2,   0.939,2,   1.7753,2,    0.48,2,   7.009,2,   0.053,   0.042,    20.6180,   0.0124,    0.18
32OC19880723,       A16N,     117,          1,          6,          6,2,19880823,       0600,     0.0050,   -24.9967,       3049,   155.7,  35.4541,2,  35.4610,2,    150.6,2,   153.1,2,    5.90,2,   16.30,2,    0.04,2, -999.00,9,   1.044,2,   0.517,2,   0.683,2,   1.7485,2,    0.25,2,   7.329,2,   0.055,   0.039,    14.3460,   0.0122,    0.18
32OC19880723,       A16N,     117,          1,          7,          7,2,19880823,       0600,     0.0050,   -24.9967,       3049,   203.6,  35.3307,2,  35.3420,2,    128.1,2,   131.8,2,    6.90,2,   19.90,2,    0.00,2, -999.00,9,   0.915,2,   0.421,2,   0.581,2,   1.7829,2,    1.11,2,   7.394,2,   0.055,   0.037,    13.4890,   0.0125,    0.18
32OC19880723,       A16N,     117,          1,          8,          8,2,19880823,       0600,     0.0050,   -24.9967,       3049,   253.4,  35.1825,2,  35.2110,2,    102.0,2,   104.4,2,    8.90,2,   24.70,2,    0.00,2, -999.00,9,   0.625,2,   0.290,2,   0.460,2,   1.7682,2,    0.79,2,   7.456,2,   0.056,   0.036,    12.4690,   0.0124,    0.18
32OC19880723,       A16N,     117,          1,          9,          9,2,19880823,       0600,     0.0050,   -24.9967,       3049,   303.0,  34.9738,2,  35.0090,2,     90.6,2,    86.5,2,   12.20,2,   29.70,2,    0.00,2, -999.00,9,   0.304,2,   0.149,2,   0.293,2,   1.8248,2,    1.60,2,   7.575,2,   0.057,   0.034,    10.6690,   0.0128,    0.18
32OC19880723,       A16N,     117,          1,         10,         10,2,19880823,       0600,     0.0050,   -24.9967,       3049,   401.3,  34.7388,2,  34.7720,2,    108.8,2,   108.7,2,   15.80,2,   31.50,2,    0.00,2, -999.00,9,   0.184,2,   0.078,2,   0.045,2,   1.8231,2,    1.22,2,   7.681,2,   0.058,   0.033,     8.5760,   0.0128,    0.18
32OC19880723,       A16N,     117,          1,         11,         11,2,19880823,       0600,     0.0050,   -24.9967,       3049,   499.8,  34.6140,2,  34.6280,2,    132.2,2,   135.2,2,   19.00,2,   31.40,2,    0.00,2, -999.00,9,   0.196,2,   0.083,2,   0.132,2,   1.8089,2,    1.20,2,   7.770,2,   0.058,   0.030,     7.1420,   0.0127,    0.18
32OC19880723,       A16N,     117,          1,         12,         12,2,19880823,       0600,     0.0050,   -24.9967,       3049,   597.0,  34.5174,2,  34.5180,2,    145.8,2,   151.3,2,   23.30,2,   32.40,2,    0.00,2, -999.00,9,   0.139,2,   0.064,2,   0.015,2,-999.0000,9, -999.00,9,-999.000,9,-999.000,   0.028,     5.9100,-999.0000, -999.00
32OC19880723,       A16N,     117,          1,         13,         13,2,19880823,       0600,     0.0050,   -24.9967,       3049,   790.9,  34.5021,2,  34.5030,2,    144.9,2,   146.5,2,   27.50,2,   33.90,2,    0.00,2, -999.00,9,   0.043,2,   0.018,2,   0.013,2,   1.8090,2,    1.13,2,   7.881,2,   0.059,   0.028,     5.2150,   0.0127,    0.18
32OC19880723,       A16N,     117,          1,         14,         14,2,19880823,       0600,     0.0050,   -24.9967,       3049,   989.3,  34.5967,2,  34.5960,2,    158.6,2,   160.0,2,   31.40,2,   32.60,2,    0.00,2, -999.00,9,  -0.007,2,   0.005,7,   0.079,2,   1.8391,2,    1.51,2,   7.979,2,   0.060,   0.030,     4.4480,   0.0129,    0.18
32OC19880723,       A16N,     117,          1,         15,         15,2,19880823,       0600,     0.0050,   -24.9967,       3049,  1189.3,  34.7854,2,  34.7850,2,    173.5,2,   179.1,2,   26.20,2,   28.50,2,    0.00,2, -999.00,9,   0.013,2,   0.005,7,   0.051,2,   1.8181,2,    0.96,2,   7.936,2,   0.060,   0.029,     4.4640,   0.0127,    0.18
32OC19880723,       A16N,     117,          1,         16,         16,2,19880823,       0600,     0.0050,   -24.9967,       3049,  1392.1,  34.9286,2,  34.9280,2,    213.7,2,   213.8,2,   19.90,2,   23.60,2,    0.00,2, -999.00,9,  -0.016,2,   0.008,7,-999.000,9,-999.0000,9, -999.00,9,-999.000,9,-999.000,   9.000,     4.3980,-999.0000, -999.00
32OC19880723,       A16N,     117,          1,         17,         17,2,19880823,       0600,     0.0050,   -24.9967,       3049,  1595.7,  34.9727,2,  34.9720,2,    239.4,2,   240.7,2,   17.20,2,   20.60,2,    0.00,2, -999.00,9,  -0.008,2,   0.014,2,-999.000,9,-999.0000,9, -999.00,9,-999.000,9,-999.000,-999.000,     4.0530,-999.0000, -999.00
32OC19880723,       A16N,     117,          1,         18,         18,2,19880823,       0600,     0.0050,   -24.9967,       3049,  1799.4,  34.9768,2,  34.9790,2,    250.3,2,   250.3,2,   17.20,2,   19.80,2,    0.00,2, -999.00,9,  -0.003,2,   0.010,2,-999.000,9,-999.0000,9, -999.00,9,-999.000,9,-999.000,   9.000,     3.8410,-999.0000, -999.00
32OC19880723,       A16N,     117,          1,         19,         19,2,19880823,       0600,     0.0050,   -24.9967,       3049,  2002.6,  34.9621,2,  34.9640,2,    251.7,2,   251.6,2,   20.60,2,   20.30,2,    0.00,2, -999.00,9,  -0.002,2,   0.005,7,-999.000,9,-999.0000,9, -999.00,9,-999.000,9,-999.000,-999.000,     3.5270,-999.0000, -999.00
32OC19880723,       A16N,     117,          1,         20,         20,2,19880823,       0600,     0.0050,   -24.9967,       3049,  2206.8,  34.9532,2,  34.9550,2,    253.2,2,   251.6,2,   23.10,2,   20.30,2,    0.00,2, -999.00,9,  -0.007,2,   0.005,7,-999.000,9,-999.0000,9, -999.00,9,-999.000,9,-999.000,   9.000,     3.3450,-999.0000, -999.00
32OC19880723,       A16N,     117,          1,         21,         21,2,19880823,       0600,     0.0050,   -24.9967,       3049,  2410.5,  34.9381,2,  34.9380,2,    250.3,2,   250.3,2,   28.10,2,   20.80,2,    0.00,2, -999.00,9,  -0.037,3,   0.002,7,-999.000,9,-999.0000,9, -999.00,9,-999.000,9,-999.000,-999.000,     3.0590,-999.0000, -999.00
32OC19880723,       A16N,     117,          1,         22,         22,2,19880823,       0600,     0.0050,   -24.9967,       3049,  2716.7,  34.9231,2,  34.9260,2,    251.1,2,   251.1,2,   32.30,2,   21.10,2,    0.00,2, -999.00,9,  -0.010,2,   0.002,7,-999.000,9,-999.0000,9, -999.00,9,-999.000,9,-999.000,   9.000,     2.8040,-999.0000, -999.00
32OC19880723,       A16N,     117,          1,         23,         23,2,19880823,       0600,     0.0050,   -24.9967,       3049,  3022.4,  34.9118,2,  34.9120,2,    250.3,2,   250.7,2,   35.30,2,   21.20,2,    0.00,2, -999.00,9,   0.010,2,   0.005,7,-999.000,9,-999.0000,9, -999.00,9,-999.000,9,-999.000,-999.000,     2.6500,-999.0000, -999.00
32OC19880723,       A16N,     117,          1,         24,         24,2,19880823,       0600,     0.0050,   -24.9967,       3049,  3203.0,  34.9081,2,  34.9110,2,    250.6,2,   250.7,2,   36.50,2,   21.20,2,    0.01,2, -999.00,9,  -0.016,2,   0.005,7,-999.000,9,-999.0000,9, -999.00,9,-999.000,9,-999.000,   9.000,     2.6010,-999.0000, -999.00
32OC19880723,       A16N,     117,          1,         99,     -999.0,9,19880823,       0600,     0.0050,   -24.9967,       3049,  3204.4,  34.9083,2,-999.0000,9,    250.5,2,  -999.0,9, -999.00,9, -999.00,9, -999.00,9, -999.00,9,-999.000,9,-999.000,9,-999.000,9,-999.0000,9, -999.00,9,-999.000,9,-999.000,-999.000,     2.6020,-999.0000, -999.00
32OC19880723,       A16N,     118,          1,          1,          1,2,19880823,       0911,    -0.3317,   -25.0133,       3005,     9.7,  36.1751,2,  36.1680,2,    205.3,2,   202.8,2,    0.60,2,    0.50,2,    0.00,2,    0.12,2,-999.000,9,-999.000,9,-999.000,9,-999.0000,9, -999.00,9,-999.000,9,-999.000,   9.000,    25.9070,-999.0000, -999.00
32OC19880723,       A16N,     118,          1,          2,          2,2,19880823,       0911,    -0.3317,   -25.0133,       3005,    35.5,  36.1754,2,  36.1680,2,    204.6,2,   201.9,2,    0.60,2,    0.60,2,    0.01,2,    0.13,2,-999.000,9,-999.000,9,-999.000,9,-999.0000,9, -999.00,9,-999.000,9,-999.000,-999.000,    25.8770,-999.0000, -999.00
32OC19880723,       A16N,     118,          1,          3,          3,2,19880823,       0911,    -0.3317,   -25.0133,       3005,    64.3,  36.1905,2,  36.1770,2,    192.9,2,   195.4,2,    0.80,2,    1.30,2,    0.06,2,    0.21,2,-999.000,9,-999.000,9,-999.000,9,-999.0000,9, -999.00,9,-999.000,9,-999.000,   9.000,    25.3770,-999.0000, -999.00
32OC19880723,       A16N,     118,          1,          4,          4,2,19880823,       0911,    -0.3317,   -25.0133,       3005,    81.7,  36.2530,2,  36.2300,2,    180.8,2,   187.0,2,    1.10,2,    2.90,2,    0.06,2,    0.31,2,-999.000,9,-999.000,9,-999.000,9,-999.0000,9, -999.00,9,-999.000,9,-999.000,-999.000,    24.2450,-999.0000, -999.00
32OC19880723,       A16N,     118,          1,          5,          5,2,19880823,       0911,    -0.3317,   -25.0133,       3005,   102.2,  36.0238,2,  36.1190,2,    160.4,2,   163.3,2,    2.50,2,    8.80,2,    0.04,2,    0.67,2,-999.000,9,-999.000,9,-999.000,9,-999.0000,9, -999.00,9,-999.000,9,-999.000,   9.000,    19.5020,-999.0000, -999.00
32OC19880723,       A16N,     118,          1,          6,          6,2,19880823,       0911,    -0.3317,   -25.0133,       3005,   153.4,  35.4380,2,  35.4420,2,    153.2,2,   154.4,2,    5.90,2,   16.40,2,    0.01,2,    1.11,2,-999.000,9,-999.000,9,-999.000,9,-999.0000,9, -999.00,9,-999.000,9,-999.000,-999.000,    14.2210,-999.0000, -999.00
32OC19880723,       A16N,     118,          1,          7,          7,2,19880823,       0911,    -0.3317,   -25.0133,       3005,   203.8,  35.3551,2,-999.0000,9,    145.2,2,  -999.0,9, -999.00,9, -999.00,9, -999.00,9, -999.00,9,-999.000,9,-999.000,9,-999.000,9,-999.0000,9, -999.00,9,-999.000,9,-999.000,   9.000,    13.5230,-999.0000, -999.00
32OC19880723,       A16N,     118,          1,          8,          8,2,19880823,       0911,    -0.3317,   -25.0133,       3005,   253.5,  35.2423,2,  35.2300,2,    111.5,2,   107.0,2,    8.80,2,   24.00,2,    0.00,2,    1.55,2,-999.000,9,-999.000,9,-999.000,9,-999.0000,9, -999.00,9,-999.000,9,-999.000,-999.000,    12.6400,-999.0000, -999.00
32OC19880723,       A16N,     118,          1,          9,          9,2,19880823,       0911,    -0.3317,   -25.0133,       3005,   303.3,  34.9771,2,  34.9680,2,     89.3,2,    87.0,2,   12.90,2,   30.30,2,    0.00,2,    1.93,2,-999.000,9,-999.000,9,-999.000,9,-999.0000,9, -999.00,9,-999.000,9,-999.000,   9.000,    10.2520,-999.0000, -999.00
32OC19880723,       A16N,     118,          1,         10,         10,2,19880823,       0911,    -0.3317,   -25.0133,       3005,   401.6,  34.7533,2,  34.7450,2,    109.0,2,   114.8,2,   16.60,2,   31.50,2,    0.00,2,    2.03,2,-999.000,9,-999.000,9,-999.000,9,-999.0000,9, -999.00,9,-999.000,9,-999.000,-999.000,     8.3070,-999.0000, -999.00
32OC19880723,       A16N,     118,          1,         11,         11,2,19880823,       0911,    -0.3317,   -25.0133,       3005,   501.5,  34.5867,2,  34.5800,2,    142.5,2,   148.3,2,   19.50,2,   31.30,2,    0.00,2,    2.09,2,-999.000,9,-999.000,9,-999.000,9,-999.0000,9, -999.00,9,-999.000,9,-999.000,   9.000,     6.7930,-999.0000, -999.00
32OC19880723,       A16N,     118,          1,         12,         12,2,19880823,       0911,    -0.3317,   -25.0133,       3005,   603.1,  34.5144,2,  34.5100,2,    149.8,2,   157.0,2,   23.10,2,   32.50,2,    0.00,2,    2.14,2,-999.000,9,-999.000,9,-999.000,9,-999.0000,9, -999.00,9,-999.000,9,-999.000,-999.000,     5.9010,-999.0000, -999.00
32OC19880723,       A16N,     118,          1,         13,         13,2,19880823,       0911,    -0.3317,   -25.0133,       3005,   803.4,  34.5027,2,  34.5120,2,    145.2,2,   149.5,2,   29.80,2,   34.60,2,    0.00,2,    2.37,2,-999.000,9,-999.000,9,-999.000,9,-999.0000,9, -999.00,9,-999.000,9,-999.000,   9.000,     4.8090,-999.0000, -999.00
32OC19880723,       A16N,     118,          1,         14,         14,2,19880823,       0911,    -0.3317,   -25.0133,       3005,  1004.6,  34.6866,2,  34.6840,2,    162.0,2,   163.9,2,   29.30,2,   31.60,2,    0.00,2,    2.15,2,-999.000,9,-999.000,9,-999.000,9,-999.0000,9, -999.00,9,-999.000,9,-999.000,-999.000,     4.4940,-999.0000, -999.00
32OC19880723,       A16N,     118,          1,         15,         15,2,19880823,       0911,    -0.3317,   -25.0133,       3005,  1206.7,  34.8374,2,  34.8370,2,    186.7,2,   188.6,2,   23.90,2,   27.10,2,    0.00,2,    1.86,2,-999.000,9,-999.000,9,-999.000,9,-999.0000,9, -999.00,9,-999.000,9,-999.000,   9.000,     4.4900,-999.0000, -999.00
32OC19880723,       A16N,     118,          1,         16,         16,2,19880823,       0911,    -0.3317,   -25.0133,       3005,  1408.5,  34.9322,2,  34.9380,2,    215.9,2,   216.8,2,   19.80,2,   23.70,2,    0.00,2,    1.55,2,-999.000,9,-999.000,9,-999.000,9,-999.0000,9, -999.00,9,-999.000,9,-999.000,-999.000,     4.3570,-999.0000, -999.00
32OC19880723,       A16N,     118,          1,         17,         17,2,19880823,       0911,    -0.3317,   -25.0133,       3005,  1614.7,  34.9711,2,  34.9720,2,    239.6,2,   240.3,2,   17.40,2,   21.00,2,    0.00,2,    1.38,2,-999.000,9,-999.000,9,-999.000,9,-999.0000,9, -999.00,9,-999.000,9,-999.000,   9.000,     4.0740,-999.0000, -999.00
32OC19880723,       A16N,     118,          1,         18,         18,2,19880823,       0911,    -0.3317,   -25.0133,       3005,  1811.9,  34.9782,2,  34.9780,2,    250.2,2,   249.8,2,   17.00,2,   20.00,2,    0.00,2,    1.32,2,-999.000,9,-999.000,9,-999.000,9,-999.0000,9, -999.00,9,-999.000,9,-999.000,-999.000,     3.8710,-999.0000, -999.00
32OC19880723,       A16N,     118,          1,         19,         19,2,19880823,       0911,    -0.3317,   -25.0133,       3005,  2014.8,  34.9665,2,  34.9660,2,    252.5,2,   251.1,2,   20.00,2,   20.50,2,    0.00,2,    1.33,2,-999.000,9,-999.000,9,-999.000,9,-999.0000,9, -999.00,9,-999.000,9,-999.000,   9.000,     3.5830,-999.0000, -999.00
32OC19880723,       A16N,     118,          1,         20,         20,2,19880823,       0911,    -0.3317,   -25.0133,       3005,  2268.5,  34.9488,2,  34.9480,2,    252.4,2,   251.1,2,   25.40,2,   20.90,2,    0.00,2,    1.35,2,-999.000,9,-999.000,9,-999.000,9,-999.0000,9, -999.00,9,-999.000,9,-999.000,-999.000,     3.2100,-999.0000, -999.00
32OC19880723,       A16N,     118,          1,         21,         21,2,19880823,       0911,    -0.3317,   -25.0133,       3005,  2523.2,  34.9350,2,  34.9340,2,    250.7,2,   251.1,2,   29.00,2,   21.20,2,    0.00,2,    1.40,2,-999.000,9,-999.000,9,-999.000,9,-999.0000,9, -999.00,9,-999.000,9,-999.000,   9.000,     2.9970,-999.0000, -999.00
32OC19880723,       A16N,     118,          1,         22,         22,2,19880823,       0911,    -0.3317,   -25.0133,       3005,  2777.9,  34.9212,2,  34.9210,2,    251.1,2,   251.6,2,   32.70,2,   21.30,2,    0.01,2,    1.40,2,-999.000,9,-999.000,9,-999.000,9,-999.0000,9, -999.00,9,-999.000,9,-999.000,-999.000,     2.7550,-999.0000, -999.00
32OC19880723,       A16N,     118,          1,         23,         23,2,19880823,       0911,    -0.3317,   -25.0133,       3005,  3030.4,  34.9160,2,  34.9180,2,    251.1,2,   252.0,2,   33.70,2,   21.60,2,    0.01,2,    1.42,2,-999.000,9,-999.000,9,-999.000,9,-999.0000,9, -999.00,9,-999.000,9,-999.000,   9.000,     2.6910,-999.0000, -999.00
32OC19880723,       A16N,     118,          1,         24,         24,2,19880823,       0911,    -0.3317,   -25.0133,       3005,  3128.8,  34.9170,2,  34.9180,2,    251.9,2,   252.0,2,   33.70,2,   21.60,2,    0.01,2,    1.40,2,-999.000,9,-999.000,9,-999.000,9,-999.0000,9, -999.00,9,-999.000,9,-999.000,-999.000,     2.7040,-999.0000, -999.00
32OC19880723,       A16N,     118,          1,         99,     -999.0,9,19880823,       0911,    -0.3317,   -25.0133,       3005,  3131.1,  34.9169,2,-999.0000,9,    252.0,2,  -999.0,9, -999.00,9, -999.00,9, -999.00,9, -999.00,9,-999.000,9,-999.000,9,-999.000,9,-999.0000,9, -999.00,9,-999.000,9,-999.000,   9.000,     2.7040,-999.0000, -999.00