BOTTLE,20220922CCHSIOAMB
EXPOCODE,SECT_ID,STNNBR,CASTNO,SAMPNO,BTLNBR,BTLNBR_FLAG_W,DATE,TIME,LATITUDE,LONGITUDE,DEPTH,CTDPRS,CTDSAL,CTDSAL_FLAG_W,SALNTY,SALNTY_FLAG_W,CTDOXY,CTDOXY_FLAG_W,OXYGEN,OXYGEN_FLAG_W,SILCAT,SILCAT_FLAG_W,NITRAT,NITRAT_FLAG_W,NITRIT,NITRIT_FLAG_W,PHSPHT,PHSPHT_FLAG_W,CFC-11,CFC-11_FLAG_W,CFC-12,CFC-12_FLAG_W,TRITUM,TRITUM_FLAG_W,HELIUM,HELIUM_FLAG_W,DELHE3,DELHE3_FLAG_W,NEON,NEON_FLAG_W,NEONER,TRITER,CTDTMP,HELIER,DELHER
,,,,,,,,,,,METERS,DBAR,PSS-78,,PSS-78,,UMOL/KG,,UMOL/KG,,UMOL/KG,,UMOL/KG,,UMOL/KG,,UMOL/KG,,PMOL/KG,,PMOL/KG,,TU,,NMOL/KG,,PERCNT,,NMOL/KG,,NMOL/KG,TU,IPTS-68,NMOL/KG,PERCNT
32OC19880723,       A16N,     107,          1,          1,          1,2,19880821,       0418,     5.4600,   -26.6667,       4358,    12.8,  35.4998,2,  35.4840,2,    198.9,2,   200.8,2,    0.00,2,    0.00,2,    0.00,2,    0.06,2,   1.483,2,   0.773,2,-999.000,9,-999.0000,9, -999.00,9,-999.000,9,-999.000,-999.000,    27.5990,-999.0000, -999.00
32OC19880723,       A16N,     107,          1,          2,          2,2,19880821,       0418,     5.4600,   -26.6667,       4358,    38.3,  35.5029,2,  35.4840,2,    199.3,2,   200.4,2,    0.00,2,    0.10,2,    0.00,2,    0.06,2,   1.477,2,   0.763,2,-999.000,9,-999.0000,9, -999.00,9,-999.000,9,-999.000,   9.000,    27.6050,-999.0000, -999.00
32OC19880723,       A16N,     107,          1,          3,          3,2,19880821,       0418,     5.4600,   -26.6667,       4358,    67.4,  36.2414,2,  36.4180,2,    186.9,2,   205.4,2,    0.20,2,    0.40,2,    0.00,2,    0.10,2,   1.518,2,   0.785,2,-999.000,9,-999.0000,9, -999.00,9,-999.000,9,-999.000,-999.000,    26.6320,-999.0000, -999.00
32OC19880723,       A16N,     107,          1,          4,          4,2,19880821,       0418,     5.4600,   -26.6667,       4358,   107.2,  35.6560,2,  35.6790,2,    115.2,2,   111.0,2,    4.90,2,   18.30,2,    0.04,2,    1.25,2,   1.047,4,   0.462,4,-999.000,9,-999.0000,9, -999.00,9,-999.000,9,-999.000,   9.000,    16.2240,-999.0000, -999.00
32OC19880723,       A16N,     107,          1,          5,          5,2,19880821,       0418,     5.4600,   -26.6667,       4358,   155.3,  35.4696,2,  35.4500,2,    116.1,2,   117.9,2,    6.40,2,   19.80,2,    0.01,2,    1.32,2,   0.906,2,   0.408,2,-999.000,9,-999.0000,9, -999.00,9,-999.000,9,-999.000,-999.000,    14.2200,-999.0000, -999.00
32OC19880723,       A16N,     107,          1,          6,          6,2,19880821,       0418,     5.4600,   -26.6667,       4358,   201.9,  35.3260,2,  35.3310,2,    132.2,2,   124.4,2,    7.00,2,   20.80,2,    0.01,2,    1.43,2,   0.863,4,   0.370,4,-999.000,9,-999.0000,9, -999.00,9,-999.000,9,-999.000,   9.000,    13.2610,-999.0000, -999.00
32OC19880723,       A16N,     107,          1,          7,          7,2,19880821,       0418,     5.4600,   -26.6667,       4358,   246.9,  35.2134,2,-999.0000,9,    118.2,2,  -999.0,9, -999.00,9, -999.00,9, -999.00,9, -999.00,9,-999.000,9,-999.000,9,-999.000,9,-999.0000,9, -999.00,9,-999.000,9,-999.000,-999.000,    12.4320,-999.0000, -999.00
32OC19880723,       A16N,     107,          1,          8,          8,2,19880821,       0418,     5.4600,   -26.6667,       4358,   290.7,  35.1448,2,  35.1480,2,    127.9,2,   131.4,2,    8.50,2,   22.30,2,    0.01,2,    1.52,2,   0.727,4,   0.305,4,-999.000,9,-999.0000,9, -999.00,9,-999.000,9,-999.000,   9.000,    11.8960,-999.0000, -999.00
32OC19880723,       A16N,     107,          1,          9,          9,2,19880821,       0418,     5.4600,   -26.6667,       4358,   381.0,  35.0054,2,  35.0120,2,    101.5,2,   103.5,2,   12.00,2,   28.10,2,    0.01,2,    1.82,2,   0.344,2,   0.144,2,-999.000,9,-999.0000,9, -999.00,9,-999.000,9,-999.000,-999.000,    10.4090,-999.0000, -999.00
32OC19880723,       A16N,     107,          1,         10,         10,2,19880821,       0418,     5.4600,   -26.6667,       4358,   564.8,  34.7661,2,  34.7930,2,     85.4,2,    75.7,2,   19.60,2,   35.80,2,    0.01,2,    2.36,2,   0.018,2,   0.008,7,-999.000,9,-999.0000,9, -999.00,9,-999.000,9,-999.000,   9.000,     7.7870,-999.0000, -999.00
32OC19880723,       A16N,     107,          1,         11,         11,2,19880821,       0418,     5.4600,   -26.6667,       4358,   752.5,  34.6115,2,  34.6060,2,    116.6,2,   116.9,2,   26.20,2,   35.50,2,    0.01,2,    2.40,2,   0.017,2,   0.002,7,-999.000,9,-999.0000,9, -999.00,9,-999.000,9,-999.000,-999.000,     5.6970,-999.0000, -999.00
32OC19880723,       A16N,     107,          1,         12,         12,2,19880821,       0418,     5.4600,   -26.6667,       4358,   990.1,  34.6698,2,  34.6870,2,    139.5,2,   140.0,2,   28.20,2,   33.20,2,    0.02,2,    2.30,2,   0.032,2,   0.002,7,-999.000,9,-999.0000,9, -999.00,9,-999.000,9,-999.000,   9.000,     4.8610,-999.0000, -999.00
32OC19880723,       A16N,     107,          1,         13,         13,2,19880821,       0418,     5.4600,   -26.6667,       4358,  1231.8,  34.8601,2,  34.8700,2,    176.4,2,   183.0,2,   23.30,2,   26.90,2,    0.01,2,    1.88,2,  -0.023,3,   0.002,7,-999.000,9,-999.0000,9, -999.00,9,-999.000,9,-999.000,-999.000,     4.5840,-999.0000, -999.00
32OC19880723,       A16N,     107,          1,         14,         14,2,19880821,       0418,     5.4600,   -26.6667,       4358,  1524.6,  34.9599,2,  34.9640,2,    223.1,2,   228.6,2,   18.40,2,   22.00,2,    0.00,2,    1.51,2,   0.009,2,   0.005,7,-999.000,9,-999.0000,9, -999.00,9,-999.000,9,-999.000,   9.000,     4.1730,-999.0000, -999.00
32OC19880723,       A16N,     107,          1,         15,         15,2,19880821,       0418,     5.4600,   -26.6667,       4358,  1815.4,  34.9635,2,  34.9640,2,    239.4,2,   241.6,2,   19.80,2,   20.90,2,    0.00,2,    1.40,2,  -0.022,3,   0.005,7,-999.000,9,-999.0000,9, -999.00,9,-999.000,9,-999.000,-999.000,     3.7200,-999.0000, -999.00
32OC19880723,       A16N,     107,          1,         16,         16,2,19880821,       0418,     5.4600,   -26.6667,       4358,  2008.8,  34.9542,2,  34.9550,2,    242.0,2,   244.2,2,   22.70,2,   21.00,2,    0.00,2,    1.42,2,  -0.003,2,   0.002,7,-999.000,9,-999.0000,9, -999.00,9,-999.000,9,-999.000,   9.000,     3.4470,-999.0000, -999.00
32OC19880723,       A16N,     107,          1,         17,         17,2,19880821,       0418,     5.4600,   -26.6667,       4358,  2299.5,  34.9440,2,  34.9460,2,    248.1,2,   248.5,2,   25.80,2,   20.90,2,    0.03,2,    1.43,2,  -0.002,2,   0.002,7,-999.000,9,-999.0000,9, -999.00,9,-999.000,9,-999.000,-999.000,     3.1750,-999.0000, -999.00
32OC19880723,       A16N,     107,          1,         18,         18,2,19880821,       0418,     5.4600,   -26.6667,       4358,  2643.0,  34.9255,2,  34.9260,2,    248.2,2,   247.7,2,   32.50,2,   20.80,2,    0.02,2,    1.45,2,   0.010,2,   0.002,7,-999.000,9,-999.0000,9, -999.00,9,-999.000,9,-999.000,   9.000,     2.7980,-999.0000, -999.00
32OC19880723,       A16N,     107,          1,         19,         19,2,19880821,       0418,     5.4600,   -26.6667,       4358,  2992.5,  34.9173,2,  34.9160,2,    248.2,2,   247.7,2,   35.50,2,   21.40,2,    0.02,2,    1.45,2,  -0.027,3,   0.002,7,-999.000,9,-999.0000,9, -999.00,9,-999.000,9,-999.000,-999.000,     2.6850,-999.0000, -999.00
32OC19880723,       A16N,     107,          1,         20,         20,2,19880821,       0418,     5.4600,   -26.6667,       4358,  3294.9,  34.9094,2,  34.9090,2,    250.3,2,   249.4,2,   37.40,2,   21.20,2,    0.02,2,    1.48,2,  -0.003,2,   0.002,7,-999.000,9,-999.0000,9, -999.00,9,-999.000,9,-999.000,   9.000,     2.5710,-999.0000, -999.00
32OC19880723,       A16N,     107,          1,         21,         21,2,19880821,       0418,     5.4600,   -26.6667,       4358,  3600.4,  34.9003,2,  34.9010,2,    250.7,2,   249.8,2,   40.00,2,   21.50,2,    0.02,2,    1.47,2,   0.014,2,  -0.001,2,-999.000,9,-999.0000,9, -999.00,9,-999.000,9,-999.000,-999.000,     2.4670,-999.0000, -999.00
32OC19880723,       A16N,     107,          1,         22,         22,2,19880821,       0418,     5.4600,   -26.6667,       4358,  3910.2,  34.8916,2,-999.0000,9,    249.0,2,   249.4,2,   42.70,2,   21.70,2,    0.02,2,    1.48,2,  -0.027,3,   0.005,7,-999.000,9,-999.0000,9, -999.00,9,-999.000,9,-999.000,   9.000,     2.3750,-999.0000, -999.00
32OC19880723,       A16N,     107,          1,         23,         23,2,19880821,       0418,     5.4600,   -26.6667,       4358,  4224.0,  34.8879,2,  34.8880,2,    248.3,2,   249.0,2,   44.10,2,   21.90,2,    0.02,2,    1.47,2,  -0.009,3,   0.002,7,-999.000,9,-999.0000,9, -999.00,9,-999.000,9,-999.000,-999.000,     2.3750,-999.0000, -999.00
32OC19880723,       A16N,     107,          1,         24,         24,2,19880821,       0418,     5.4600,   -26.6667,       4358,  4426.5,  34.8878,2,  34.8870,2,    246.5,2,   247.2,2,   44.90,2,   21.70,2,    0.09,2,    1.47,2,  -0.015,3,   0.005,7,-999.000,9,-999.0000,9, -999.00,9,-999.000,9,-999.000,   9.000,     2.3890,-999.0000, -999.00
32OC19880723,       A16N,     107,          1,         99,     -999.0,9,19880821,       0418,     5.4600,   -26.6667,       4358,  4428.7,  34.8879,2,-999.0000,9,    246.5,2,  -999.0,9, -999.00,9, -999.00,9, -999.00,9, -999.00,9,-999.000,9,-999.000,9,-999.000,9,-999.0000,9, -999.00,9,-999.000,9,-999.000,-999.000,     2.3890,-999.0000, -999.00
32OC19880723,       A16N,     108,          1,          1,          1,2,19880821,       1011,     4.7683,   -26.3967,       4307,    12.5,  35.5274,2,  35.5130,2,    200.6,2,   201.3,2,    0.50,2,    0.00,2,    0.00,2,    0.06,2,-999.000,9,-999.000,9,-999.000,9,-999.0000,9, -999.00,9,-999.000,9,-999.000,   9.000,    27.7600,-999.0000, -999.00
32OC19880723,       A16N,     108,          1,          2,          2,2,19880821,       1011,     4.7683,   -26.3967,       4307,    37.7,  35.5306,2,  35.5180,2,    195.9,2,   200.8,2,    0.50,2,    0.10,2,    0.00,2,    0.06,2,-999.000,9,-999.000,9,-999.000,9,-999.0000,9, -999.00,9,-999.000,9,-999.000,-999.000,    27.7540,-999.0000, -999.00
32OC19880723,       A16N,     108,          1,          3,          3,2,19880821,       1011,     4.7683,   -26.3967,       4307,    67.1,  36.2134,2,  36.2420,2,    194.5,2,   191.8,2,    1.30,2,    0.40,2,    0.00,2,    0.11,2,-999.000,9,-999.000,9,-999.000,9,-999.0000,9, -999.00,9,-999.000,9,-999.000,   9.000,    24.7640,-999.0000, -999.00
32OC19880723,       A16N,     108,          1,          4,          4,2,19880821,       1011,     4.7683,   -26.3967,       4307,   106.3,  35.7143,2,  35.6910,2,    100.1,2,    89.7,2,    5.00,2,   19.60,2,    0.00,2,    1.30,2,-999.000,9,-999.000,9,-999.000,9,-999.0000,9, -999.00,9,-999.000,9,-999.000,-999.000,    16.7580,-999.0000, -999.00
32OC19880723,       A16N,     108,          1,          5,          5,2,19880821,       1011,     4.7683,   -26.3967,       4307,   154.8,  35.4907,2,  35.4710,2,     99.8,2,   100.1,2,    7.00,2,   21.70,2,    0.00,2,    1.43,2,-999.000,9,-999.000,9,-999.000,9,-999.0000,9, -999.00,9,-999.000,9,-999.000,   9.000,    14.5150,-999.0000, -999.00
32OC19880723,       A16N,     108,          1,          6,          6,2,19880821,       1011,     4.7683,   -26.3967,       4307,   202.4,  35.3976,2,  35.3800,2,     97.6,2,   110.5,2,    7.40,2,   21.70,2,    0.00,2,    1.43,2,-999.000,9,-999.000,9,-999.000,9,-999.0000,9, -999.00,9,-999.000,9,-999.000,-999.000,    13.7300,-999.0000, -999.00
32OC19880723,       A16N,     108,          1,          7,          7,2,19880821,       1011,     4.7683,   -26.3967,       4307,   249.6,  35.2983,2,-999.0000,9,    112.1,2,  -999.0,9, -999.00,9, -999.00,9, -999.00,9, -999.00,9,-999.000,9,-999.000,9,-999.000,9,-999.0000,9, -999.00,9,-999.000,9,-999.000,   9.000,    13.0290,-999.0000, -999.00
32OC19880723,       A16N,     108,          1,          8,          8,2,19880821,       1011,     4.7683,   -26.3967,       4307,   294.3,  35.1929,2,  35.1850,2,    100.5,2,    99.6,2,    9.70,2,   25.60,2,    0.00,2,    1.66,2,-999.000,9,-999.000,9,-999.000,9,-999.0000,9, -999.00,9,-999.000,9,-999.000,-999.000,    12.1360,-999.0000, -999.00
32OC19880723,       A16N,     108,          1,          9,          9,2,19880821,       1011,     4.7683,   -26.3967,       4307,   384.7,  34.9695,2,  34.9700,2,     78.1,2,    78.7,2,   13.90,2,   31.90,2,    0.00,2,    2.00,2,-999.000,9,-999.000,9,-999.000,9,-999.0000,9, -999.00,9,-999.000,9,-999.000,   9.000,    10.0200,-999.0000, -999.00
32OC19880723,       A16N,     108,          1,         10,         10,2,19880821,       1011,     4.7683,   -26.3967,       4307,   473.7,  34.8384,2,  34.8620,2,     71.4,2,    71.7,2,   17.40,2,   34.40,2,    0.00,2,    2.21,2,-999.000,9,-999.000,9,-999.000,9,-999.0000,9, -999.00,9,-999.000,9,-999.000,-999.000,     8.6590,-999.0000, -999.00
32OC19880723,       A16N,     108,          1,         11,         11,2,19880821,       1011,     4.7683,   -26.3967,       4307,   657.3,  34.6015,2,  34.6200,2,    111.1,2,   112.6,2,   24.30,2,   35.70,2,    0.00,2,    2.39,2,-999.000,9,-999.000,9,-999.000,9,-999.0000,9, -999.00,9,-999.000,9,-999.000,   9.000,     6.1860,-999.0000, -999.00
32OC19880723,       A16N,     108,          1,         12,         12,2,19880821,       1011,     4.7683,   -26.3967,       4307,   843.1,  34.6068,2,  34.6140,2,    124.3,2,   130.4,2,   29.00,2,   35.10,2,    0.00,2,    2.38,2,-999.000,9,-999.000,9,-999.000,9,-999.0000,9, -999.00,9,-999.000,9,-999.000,-999.000,     5.0850,-999.0000, -999.00
32OC19880723,       A16N,     108,          1,         13,         13,2,19880821,       1011,     4.7683,   -26.3967,       4307,  1027.5,  34.7240,2,  34.7290,2,    144.3,2,   152.1,2,   28.10,2,   32.10,2,    0.00,2,    2.18,2,-999.000,9,-999.000,9,-999.000,9,-999.0000,9, -999.00,9,-999.000,9,-999.000,   9.000,     4.7400,-999.0000, -999.00
32OC19880723,       A16N,     108,          1,         14,         14,2,19880821,       1011,     4.7683,   -26.3967,       4307,  1310.2,  34.9230,2,  34.9210,2,    201.2,2,   206.8,2,   20.60,2,   24.60,2,    0.00,2,    1.65,2,-999.000,9,-999.000,9,-999.000,9,-999.0000,9, -999.00,9,-999.000,9,-999.000,-999.000,     4.4640,-999.0000, -999.00
32OC19880723,       A16N,     108,          1,         15,         15,2,19880821,       1011,     4.7683,   -26.3967,       4307,  1597.4,  34.9755,2,  34.9750,2,    235.6,2,   238.6,2,   17.30,2,   20.60,2,    0.00,2,    1.40,2,-999.000,9,-999.000,9,-999.000,9,-999.0000,9, -999.00,9,-999.000,9,-999.000,   9.000,     4.1260,-999.0000, -999.00
32OC19880723,       A16N,     108,          1,         16,         16,2,19880821,       1011,     4.7683,   -26.3967,       4307,  1890.2,  34.9716,2,  34.9710,2,    248.5,2,   249.0,2,   18.70,2,   20.20,2,    0.00,2,    1.34,2,-999.000,9,-999.000,9,-999.000,9,-999.0000,9, -999.00,9,-999.000,9,-999.000,-999.000,     3.7270,-999.0000, -999.00
32OC19880723,       A16N,     108,          1,         17,         17,2,19880821,       1011,     4.7683,   -26.3967,       4307,  2187.8,  34.9508,2,  34.9510,2,    246.5,2,   247.2,2,   24.10,2,   20.70,2,    0.00,2,    1.41,2,-999.000,9,-999.000,9,-999.000,9,-999.0000,9, -999.00,9,-999.000,9,-999.000,   9.000,     3.3190,-999.0000, -999.00
32OC19880723,       A16N,     108,          1,         18,         18,2,19880821,       1011,     4.7683,   -26.3967,       4307,  2486.8,  34.9366,2,  34.9360,2,    248.4,2,   248.5,2,   28.60,2,   21.00,2,    0.00,2,    1.40,2,-999.000,9,-999.000,9,-999.000,9,-999.0000,9, -999.00,9,-999.000,9,-999.000,-999.000,     3.0150,-999.0000, -999.00
32OC19880723,       A16N,     108,          1,         19,         19,2,19880821,       1011,     4.7683,   -26.3967,       4307,  2790.1,  34.9236,2,  34.9230,2,    248.5,2,   248.5,2,   32.80,2,   21.30,2,    0.00,2,    1.45,2,-999.000,9,-999.000,9,-999.000,9,-999.0000,9, -999.00,9,-999.000,9,-999.000,   9.000,     2.7980,-999.0000, -999.00
32OC19880723,       A16N,     108,          1,         20,         20,2,19880821,       1011,     4.7683,   -26.3967,       4307,  3099.1,  34.9143,2,  34.9140,2,    248.5,2,   248.1,2,   36.50,2,   21.50,2,    0.04,2,    1.48,2,-999.000,9,-999.000,9,-999.000,9,-999.0000,9, -999.00,9,-999.000,9,-999.000,-999.000,     2.6580,-999.0000, -999.00
32OC19880723,       A16N,     108,          1,         21,         21,2,19880821,       1011,     4.7683,   -26.3967,       4307,  3409.0,  34.9075,2,  34.9060,2,    248.1,2,   248.1,2,   39.00,2,   21.70,2,    0.02,2, -999.00,9,-999.000,9,-999.000,9,-999.000,9,-999.0000,9, -999.00,9,-999.000,9,-999.000,   9.000,     2.5640,-999.0000, -999.00
32OC19880723,       A16N,     108,          1,         22,         22,2,19880821,       1011,     4.7683,   -26.3967,       4307,  3721.1,  34.8969,2,  34.8960,2,    250.2,2,   249.4,2,   41.40,2,   21.70,2,    0.05,2, -999.00,9,-999.000,9,-999.000,9,-999.000,9,-999.0000,9, -999.00,9,-999.000,9,-999.000,-999.000,     2.4280,-999.0000, -999.00
32OC19880723,       A16N,     108,          1,         23,         23,2,19880821,       1011,     4.7683,   -26.3967,       4307,  4137.5,  34.8896,2,  34.8890,2,    248.6,2,   248.5,2,   44.00,2,   22.00,2,    0.04,2, -999.00,9,-999.000,9,-999.000,9,-999.000,9,-999.0000,9, -999.00,9,-999.000,9,-999.000,   9.000,     2.3750,-999.0000, -999.00
32OC19880723,       A16N,     108,          1,         24,         24,2,19880821,       1011,     4.7683,   -26.3967,       4307,  4263.4,  34.8870,2,  34.8870,2,    247.4,2,   248.5,2,   45.10,2,   22.10,2,    0.02,2, -999.00,9,-999.000,9,-999.000,9,-999.000,9,-999.0000,9, -999.00,9,-999.000,9,-999.000,-999.000,     2.3750,-999.0000, -999.00
32OC19880723,       A16N,     108,          1,         99,     -999.0,9,19880821,       1011,     4.7683,   -26.3967,       4307,  4266.4,  34.8870,2,-999.0000,9,    247.5,2,  -999.0,9, -999.00,9, -999.00,9, -999.00,9, -999.00,9,-999.000,9,-999.000,9,-999.000,9,-999.0000,9, -999.00,9,-999.000,9,-999.000,   9.000,     2.3760,-999.0000, -999.00