BOTTLE,20220922CCHSIOAMB
EXPOCODE,SECT_ID,STNNBR,CASTNO,SAMPNO,BTLNBR,BTLNBR_FLAG_W,DATE,TIME,LATITUDE,LONGITUDE,DEPTH,CTDPRS,CTDSAL,CTDSAL_FLAG_W,SALNTY,SALNTY_FLAG_W,CTDOXY,CTDOXY_FLAG_W,OXYGEN,OXYGEN_FLAG_W,SILCAT,SILCAT_FLAG_W,NITRAT,NITRAT_FLAG_W,NITRIT,NITRIT_FLAG_W,PHSPHT,PHSPHT_FLAG_W,CFC-11,CFC-11_FLAG_W,CFC-12,CFC-12_FLAG_W,TRITUM,TRITUM_FLAG_W,HELIUM,HELIUM_FLAG_W,DELHE3,DELHE3_FLAG_W,NEON,NEON_FLAG_W,NEONER,TRITER,CTDTMP,HELIER,DELHER
,,,,,,,,,,,METERS,DBAR,PSS-78,,PSS-78,,UMOL/KG,,UMOL/KG,,UMOL/KG,,UMOL/KG,,UMOL/KG,,UMOL/KG,,PMOL/KG,,PMOL/KG,,TU,,NMOL/KG,,PERCNT,,NMOL/KG,,NMOL/KG,TU,IPTS-68,NMOL/KG,PERCNT
32OC19880723,       A16N,      58,          1,          1,          1,2,19880804,       0705,    36.4950,   -20.0067,       5169,     3.2,  36.3306,2,-999.0000,9,    232.5,2,  -999.0,9, -999.00,9, -999.00,9, -999.00,9, -999.00,9,-999.000,9,-999.000,9,-999.000,9,-999.0000,9, -999.00,9,-999.000,9,-999.000,-999.000,    21.2990,-999.0000, -999.00
32OC19880723,       A16N,      58,          1,          2,          2,2,19880804,       0705,    36.4950,   -20.0067,       5169,    37.8,  36.2110,2,  36.0790,3,    240.1,2,   244.6,2,    0.30,2,    0.00,2,    0.00,2,    0.05,2,-999.000,9,-999.000,9,-999.000,9,-999.0000,9, -999.00,9,-999.000,9,-999.000,   9.000,    18.8510,-999.0000, -999.00
32OC19880723,       A16N,      58,          1,          3,          3,2,19880804,       0705,    36.4950,   -20.0067,       5169,    68.2,  36.1110,2,  36.0980,2,    259.1,2,   255.3,2,    0.50,2,    0.00,2,    0.00,2,    0.06,2,-999.000,9,-999.000,9,-999.000,9,-999.0000,9, -999.00,9,-999.000,9,-999.000,-999.000,    15.8590,-999.0000, -999.00
32OC19880723,       A16N,      58,          1,          4,          4,2,19880804,       0705,    36.4950,   -20.0067,       5169,   107.8,  36.0693,2,  36.0680,2,    237.9,2,   231.4,2,    0.70,2,    2.90,2,    0.17,2,    0.18,2,-999.000,9,-999.000,9,-999.000,9,-999.0000,9, -999.00,9,-999.000,9,-999.000,   9.000,    14.8590,-999.0000, -999.00
32OC19880723,       A16N,      58,          1,          5,          5,2,19880804,       0705,    36.4950,   -20.0067,       5169,   157.7,  35.9981,2,  35.9640,2,    225.5,2,   229.2,2,    1.10,2,    4.90,2,    0.01,2,    0.24,2,-999.000,9,-999.000,9,-999.000,9,-999.0000,9, -999.00,9,-999.000,9,-999.000,-999.000,    14.2640,-999.0000, -999.00
32OC19880723,       A16N,      58,          1,          6,          6,2,19880804,       0705,    36.4950,   -20.0067,       5169,   207.3,  35.9098,2,  35.8860,2,    224.6,2,   225.7,2,    1.60,2,    6.60,2,    0.01,2,    0.34,2,-999.000,9,-999.000,9,-999.000,9,-999.0000,9, -999.00,9,-999.000,9,-999.000,   9.000,    13.7200,-999.0000, -999.00
32OC19880723,       A16N,      58,          1,          7,          7,2,19880804,       0705,    36.4950,   -20.0067,       5169,   305.2,  35.6893,2,  35.6740,2,    217.2,2,   216.5,2,    3.30,2, -999.00,9,    0.00,2,    0.59,2,-999.000,9,-999.000,9,-999.000,9,-999.0000,9, -999.00,9,-999.000,9,-999.000,-999.000,    12.4190,-999.0000, -999.00
32OC19880723,       A16N,      58,          1,          8,          8,2,19880804,       0705,    36.4950,   -20.0067,       5169,   305.2,  35.6893,2,  35.6730,2,    217.2,2,   217.0,2,    3.30,2,   10.90,2,    0.01,2,    0.60,2,-999.000,9,-999.000,9,-999.000,9,-999.0000,9, -999.00,9,-999.000,9,-999.000,   9.000,    12.4190,-999.0000, -999.00
32OC19880723,       A16N,      58,          1,          9,          9,2,19880804,       0705,    36.4950,   -20.0067,       5169,   591.3,  35.5297,2,  35.5160,2,    198.5,2,   195.6,2,    6.30,2,   15.60,2,    0.00,2,    0.90,2,-999.000,9,-999.000,9,-999.000,9,-999.0000,9, -999.00,9,-999.000,9,-999.000,-999.000,    10.7730,-999.0000, -999.00
32OC19880723,       A16N,      58,          1,         10,         10,2,19880804,       0705,    36.4950,   -20.0067,       5169,   782.8,  35.7267,2,  35.6600,2,    182.5,2,   182.6,2,    8.40,2,   17.20,2,    0.00,2,    1.01,2,-999.000,9,-999.000,9,-999.000,9,-999.0000,9, -999.00,9,-999.000,9,-999.000,   9.000,    10.1500,-999.0000, -999.00
32OC19880723,       A16N,      58,          1,         11,         11,2,19880804,       0705,    36.4950,   -20.0067,       5169,  1025.4,  35.6529,2,  35.6130,2,    188.7,2,   192.1,2,   10.50,2,   17.90,2,    0.01,2,    1.07,2,-999.000,9,-999.000,9,-999.000,9,-999.0000,9, -999.00,9,-999.000,9,-999.000,-999.000,     8.7590,-999.0000, -999.00
32OC19880723,       A16N,      58,          1,         12,         12,2,19880804,       0705,    36.4950,   -20.0067,       5169,  1268.4,  35.6792,2,  35.6750,2,    203.9,2,   203.8,2,   10.80,2,   17.10,2,    0.01,2,    1.03,2,-999.000,9,-999.000,9,-999.000,9,-999.0000,9, -999.00,9,-999.000,9,-999.000,   9.000,     8.2190,-999.0000, -999.00
32OC19880723,       A16N,      58,          1,         13,         13,2,19880804,       0705,    36.4950,   -20.0067,       5169,  1513.3,  35.3688,2,  35.3600,2,    231.6,2,   231.6,2,   11.50,2, -999.00,9,    0.01,2,    1.05,2,-999.000,9,-999.000,9,-999.000,9,-999.0000,9, -999.00,9,-999.000,9,-999.000,-999.000,     6.1480,-999.0000, -999.00
32OC19880723,       A16N,      58,          1,         14,         14,2,19880804,       0705,    36.4950,   -20.0067,       5169,  1757.5,  35.2001,2,  35.2000,2,    243.5,2,   245.1,2,   12.90,2,   17.50,2,    0.01,2,    1.09,2,-999.000,9,-999.000,9,-999.000,9,-999.0000,9, -999.00,9,-999.000,9,-999.000,   9.000,     5.0570,-999.0000, -999.00
32OC19880723,       A16N,      58,          1,         15,         15,2,19880804,       0705,    36.4950,   -20.0067,       5169,  2100.6,  35.0326,2,  35.0390,2,    256.4,2,   257.7,2,   15.80,2,   17.90,2,    0.01,2,    1.11,2,-999.000,9,-999.000,9,-999.000,9,-999.0000,9, -999.00,9,-999.000,9,-999.000,-999.000,     3.9100,-999.0000, -999.00
32OC19880723,       A16N,      58,          1,         16,         16,2,19880804,       0705,    36.4950,   -20.0067,       5169,  2447.8,  34.9790,2,  34.9810,2,    257.6,2,   258.5,2,   21.20,2,   19.00,2,    0.01,2,    1.17,2,-999.000,9,-999.000,9,-999.000,9,-999.0000,9, -999.00,9,-999.000,9,-999.000,   9.000,     3.3110,-999.0000, -999.00
32OC19880723,       A16N,      58,          1,         17,         17,2,19880804,       0705,    36.4950,   -20.0067,       5169,  2801.6,  34.9510,2,  34.9530,2,    254.2,2,   254.6,2,   27.60,2,   19.40,2,    0.01,2,    1.24,2,-999.000,9,-999.000,9,-999.000,9,-999.0000,9, -999.00,9,-999.000,9,-999.000,-999.000,     2.9340,-999.0000, -999.00
32OC19880723,       A16N,      58,          1,         18,         18,2,19880804,       0705,    36.4950,   -20.0067,       5169,  3159.5,  34.9360,2,  34.9380,2,    249.4,2,   249.0,2,   33.60,2,   20.20,2,    0.01,2,    1.30,2,-999.000,9,-999.000,9,-999.000,9,-999.0000,9, -999.00,9,-999.000,9,-999.000,   9.000,     2.7390,-999.0000, -999.00
32OC19880723,       A16N,      58,          1,         19,         19,2,19880804,       0705,    36.4950,   -20.0067,       5169,  3520.7,  34.9228,2,  34.9230,2,    247.1,2,   246.8,2,   38.00,2,   20.70,2,    0.02,2,    1.33,2,-999.000,9,-999.000,9,-999.000,9,-999.0000,9, -999.00,9,-999.000,9,-999.000,-999.000,     2.6130,-999.0000, -999.00
32OC19880723,       A16N,      58,          1,         20,         20,2,19880804,       0705,    36.4950,   -20.0067,       5169,  3881.4,  34.9088,2,  34.9100,2,    246.4,2,   245.5,2,   41.20,2,   21.20,2,    0.02,2,    1.38,2,-999.000,9,-999.000,9,-999.000,9,-999.0000,9, -999.00,9,-999.000,9,-999.000,   9.000,     2.5260,-999.0000, -999.00
32OC19880723,       A16N,      58,          1,         21,         21,2,19880804,       0705,    36.4950,   -20.0067,       5169,  4241.9,  34.8987,2,  34.9000,2,    246.5,2,   246.3,2,   43.80,2,   21.50,2,    0.02,2,    1.40,2,-999.000,9,-999.000,9,-999.000,9,-999.0000,9, -999.00,9,-999.000,9,-999.000,-999.000,     2.4620,-999.0000, -999.00
32OC19880723,       A16N,      58,          1,         22,         22,2,19880804,       0705,    36.4950,   -20.0067,       5169,  4602.5,  34.8924,2,  34.8930,2,    245.9,2,   245.5,2,   45.40,2,   21.80,2,    0.02,2,    1.41,2,-999.000,9,-999.000,9,-999.000,9,-999.0000,9, -999.00,9,-999.000,9,-999.000,   9.000,     2.4390,-999.0000, -999.00
32OC19880723,       A16N,      58,          1,         23,         23,2,19880804,       0705,    36.4950,   -20.0067,       5169,  4966.0,  34.8908,2,  34.8920,2,    244.8,2,   245.5,2,   46.00,2, -999.00,9,    0.02,2,    1.42,2,-999.000,9,-999.000,9,-999.000,9,-999.0000,9, -999.00,9,-999.000,9,-999.000,-999.000,     2.4690,-999.0000, -999.00
32OC19880723,       A16N,      58,          1,         24,         24,2,19880804,       0705,    36.4950,   -20.0067,       5169,  5253.1,  34.8909,2,  34.8900,2,    244.1,2,   244.6,2,   45.90,2,   21.90,2,    0.02,2,    1.41,2,-999.000,9,-999.000,9,-999.000,9,-999.0000,9, -999.00,9,-999.000,9,-999.000,   9.000,     2.5030,-999.0000, -999.00
32OC19880723,       A16N,      58,          1,         99,     -999.0,9,19880804,       0705,    36.4950,   -20.0067,       5169,  5254.8,  34.8909,2,-999.0000,9,    244.0,2,  -999.0,9, -999.00,9, -999.00,9, -999.00,9, -999.00,9,-999.000,9,-999.000,9,-999.000,9,-999.0000,9, -999.00,9,-999.000,9,-999.000,-999.000,     2.5030,-999.0000, -999.00
32OC19880723,       A16N,      59,          1,          1,          1,2,19880804,       1153,    36.0050,   -20.0233,       5267,    13.9,  36.3143,2,-999.0000,9,    211.0,2,  -999.0,9, -999.00,9, -999.00,9, -999.00,9, -999.00,9,-999.000,9,-999.000,9,-999.000,9,-999.0000,9, -999.00,9,-999.000,9,-999.000,   9.000,    21.6370,-999.0000, -999.00
32OC19880723,       A16N,      59,          1,          2,          2,2,19880804,       1153,    36.0050,   -20.0233,       5267,    39.0,  36.3072,2,-999.0000,9,    236.6,2,   237.3,2,    0.40,2, -999.00,9,    0.01,2,    0.04,2,   2.427,6,   1.137,6,   2.768,2,   1.7543,2,   -0.57,2,   7.086,2,   0.053,   0.056,    20.1020,   0.0123,    0.18
32OC19880723,       A16N,      59,          1,          3,          3,2,19880804,       1153,    36.0050,   -20.0233,       5267,    68.9,  36.1109,2,  36.1040,2,    251.3,2,   254.9,2,    0.60,2, -999.00,9,    0.01,2,    0.08,2,   2.668,2,   1.235,2,   2.621,2,   1.7585,2,   -0.26,2,   7.255,2,   0.054,   0.053,    16.0730,   0.0123,    0.18
32OC19880723,       A16N,      59,          1,          4,          4,2,19880804,       1153,    36.0050,   -20.0233,       5267,   108.9,  36.0159,2,  36.0170,2,    224.5,2,   225.3,2,    1.20,2,    4.40,2,    0.01,2,    0.29,2,   2.546,2,   1.204,2,   2.821,2,   1.7536,2,    0.96,2,   7.315,2,   0.055,   0.054,    14.7490,   0.0123,    0.18
32OC19880723,       A16N,      59,          1,          5,          5,2,19880804,       1153,    36.0050,   -20.0233,       5267,   158.7,  35.9572,2,  35.9620,2,    231.9,2,   230.9,2,    1.10,2,    4.30,2,    0.01,2,    0.31,2,   2.666,2,   1.258,2,   2.853,2,   1.7993,2,    0.28,2,   5.217,4,   0.039,   0.056,    14.1870,   0.0126,    0.18
32OC19880723,       A16N,      59,          1,          6,          6,2,19880804,       1153,    36.0050,   -20.0233,       5267,   208.3,  35.8409,2,  35.8150,2,    227.7,2,   231.4,2,    2.00,2,    6.40,2,    0.01,2,    0.40,2,   2.649,2,   1.252,2,   2.628,2,   1.7633,2,    0.90,2,   7.405,2,   0.056,   0.053,    13.4280,   0.0123,    0.18
32OC19880723,       A16N,      59,          1,          7,          7,2,19880804,       1153,    36.0050,   -20.0233,       5267,   307.5,  35.6896,2,  35.6880,2,    218.4,2,   218.3,2,    3.00,2,   10.10,2,    0.01,2,    0.60,2,   2.284,2,   1.089,2,-999.000,9,-999.0000,9, -999.00,9,-999.000,9,-999.000,-999.000,    12.5040,-999.0000, -999.00
32OC19880723,       A16N,      59,          1,          8,          8,2,19880804,       1153,    36.0050,   -20.0233,       5267,   406.7,  35.6059,2,  35.6000,2,    218.4,2,   217.8,2,    3.80,2,   11.40,2,    0.01,2,    0.67,2,   2.190,2,   1.022,2,   2.879,2,   1.8146,2,    4.71,2,   9.859,4,   0.074,   0.054,    11.8130,   0.0127,    0.18
32OC19880723,       A16N,      59,          1,          9,          9,2,19880804,       1153,    36.0050,   -20.0233,       5267,   604.0,  35.5300,2,  35.5240,2,    203.4,2,   202.6,2,    6.10,2,   14.50,2,    0.01,2,    0.85,2,   1.611,2,   0.733,2,   2.447,2,   1.7771,2,    8.39,2,-999.000,9,  -7.493,   0.053,    10.8190,   0.0124,    0.18
32OC19880723,       A16N,      59,          1,         10,         10,2,19880804,       1153,    36.0050,   -20.0233,       5267,   801.7,  35.6840,2,  35.7480,2,    181.7,2,   182.6,2,    8.30,2,   15.90,2,    0.01,2,    0.94,2,   0.821,2,   0.385,2,   1.653,2,   1.7797,2,    9.69,2,-999.000,9,  -7.493,   0.047,    10.6230,   0.0125,    0.18
32OC19880723,       A16N,      59,          1,         11,         11,2,19880804,       1153,    36.0050,   -20.0233,       5267,  1049.8,  35.8881,2,  35.8290,2,    186.4,2,   188.2,2,   10.10,2,   16.40,2,    0.01,2,    0.97,2,   0.617,2,   0.252,2,   1.227,2,   1.7907,2,    8.15,2,-999.000,9,  -7.493,   0.042,     9.6770,   0.0125,    0.18
32OC19880723,       A16N,      59,          1,         12,         12,2,19880804,       1153,    36.0050,   -20.0233,       5267,  1300.0,  35.5709,2,  35.5620,2,    212.5,2,   213.8,2,   10.90,2, -999.00,9,    0.01,2,    1.05,2,   0.539,2,   0.244,2,   1.223,2,   1.8030,2,    8.07,2,-999.000,9,  -7.493,   0.051,     7.5820,   0.0126,    0.18
32OC19880723,       A16N,      59,          1,         13,         13,2,19880804,       1153,    36.0050,   -20.0233,       5267,  1551.0,  35.3062,2,  35.2980,2,    235.4,2,   236.4,2,   11.70,2, -999.00,9,    0.01,2,    1.02,2,   0.392,2,   0.187,2,-999.000,9,-999.0000,9, -999.00,9,-999.000,9,-999.000,   9.000,     5.7490,-999.0000, -999.00
32OC19880723,       A16N,      59,          1,         14,         14,2,19880804,       1153,    36.0050,   -20.0233,       5267,  1803.3,  35.1186,2,  35.1170,2,    251.7,2,   251.6,2,   13.30,2, -999.00,9,    0.01,2,    1.04,2,   0.207,2,   0.126,2,   0.476,2,-999.0000,9, -999.00,9,-999.000,9,-999.000,   0.026,     4.5360,-999.0000, -999.00
32OC19880723,       A16N,      59,          1,         15,         15,2,19880804,       1153,    36.0050,   -20.0233,       5267,  2146.5,  35.0428,2,  35.0410,2,    254.1,2,   254.2,2,   18.30,2, -999.00,9,    0.01,2,    1.10,2,   0.048,3,   0.030,2,-999.000,9,-999.0000,9, -999.00,9,-999.000,9,-999.000,-999.000,     3.8050,-999.0000, -999.00
32OC19880723,       A16N,      59,          1,         16,         16,2,19880804,       1153,    36.0050,   -20.0233,       5267,  2513.1,  34.9738,2,  34.9730,2,    256.5,2,   256.3,2,   23.40,2, -999.00,9,    0.02,2,    1.14,2,   0.060,2,   0.023,2,   0.062,2,-999.0000,9, -999.00,9,-999.000,9,-999.000,   0.023,     3.1760,-999.0000, -999.00
32OC19880723,       A16N,      59,          1,         17,         17,2,19880804,       1153,    36.0050,   -20.0233,       5267,  2866.7,  34.9513,2,  34.9490,2,    252.9,2,   252.4,2,   29.40,2, -999.00,9,    0.02,2,    1.21,2,   0.094,2,   0.033,2,-999.000,9,-999.0000,9, -999.00,9,-999.000,9,-999.000,   9.000,     2.8880,-999.0000, -999.00
32OC19880723,       A16N,      59,          1,         18,         18,2,19880804,       1153,    36.0050,   -20.0233,       5267,  3271.8,  34.9352,2,  34.9310,2,    248.5,2,   247.7,2,   35.40,2, -999.00,9,    0.02,2,    1.28,2,  -0.021,4,   0.023,2,   0.029,2,-999.0000,9, -999.00,9,-999.000,9,-999.000,   0.020,     2.6920,-999.0000, -999.00
32OC19880723,       A16N,      59,          1,         19,         19,2,19880804,       1153,    36.0050,   -20.0233,       5267,  3677.8,  34.9180,2,  34.9150,2,    246.4,2,   245.9,2,   39.60,2, -999.00,9,    0.02,2,    1.31,2,   0.002,3,   0.014,7,-999.000,9,-999.0000,9, -999.00,9,-999.000,9,-999.000,-999.000,     2.5730,-999.0000, -999.00
32OC19880723,       A16N,      59,          1,         20,         20,2,19880804,       1153,    36.0050,   -20.0233,       5267,  4083.0,  34.9052,2,  34.9060,2,    245.5,2,   245.0,2,   42.50,2, -999.00,9,    0.02,2,    1.31,2,   0.032,2,   0.007,7,   0.018,2,-999.0000,9, -999.00,9,-999.000,9,-999.000,   0.019,     2.4930,-999.0000, -999.00
32OC19880723,       A16N,      59,          1,         21,         21,2,19880804,       1153,    36.0050,   -20.0233,       5267,  4436.4,  34.8958,2,  34.8960,2,    246.1,2,   245.5,2,   44.90,2, -999.00,9,    0.02,2,    1.34,2,   0.047,2,   0.017,6,-999.000,9,-999.0000,9, -999.00,9,-999.000,9,-999.000,   9.000,     2.4410,-999.0000, -999.00
32OC19880723,       A16N,      59,          1,         22,         22,2,19880804,       1153,    36.0050,   -20.0233,       5267,  4792.6,  34.8917,2,  34.8920,2,    245.8,2,   245.5,2,   45.60,2, -999.00,9,    0.02,2,    1.32,2,   0.034,2,   0.020,2,   0.036,2,   1.8722,2,    2.35,2,   6.013,4,   0.045,   0.025,     2.4480,   0.0131,    0.18
32OC19880723,       A16N,      59,          1,         23,         23,2,19880804,       1153,    36.0050,   -20.0233,       5267,  5154.5,  34.8909,2,  34.8920,2,    244.9,2,   245.0,2,   46.00,2, -999.00,9,    0.02,2,    1.36,2,   0.026,2,   0.011,7,-999.000,9,-999.0000,9, -999.00,9,-999.000,9,-999.000,-999.000,     2.4890,-999.0000, -999.00
32OC19880723,       A16N,      59,          1,         24,         24,2,19880804,       1153,    36.0050,   -20.0233,       5267,  5420.3,  34.8912,2,  34.8890,2,    243.3,2,   244.6,2,   46.10,2, -999.00,9,    0.02,2,    1.33,2,   0.024,2,   0.007,6,-999.000,9,-999.0000,9, -999.00,9,-999.000,9,-999.000,   9.000,     2.5230,-999.0000, -999.00
32OC19880723,       A16N,      59,          1,         99,     -999.0,9,19880804,       1153,    36.0050,   -20.0233,       5267,  5421.7,  34.8912,2,-999.0000,9,    243.3,2,  -999.0,9, -999.00,9, -999.00,9, -999.00,9, -999.00,9,-999.000,9,-999.000,9,-999.000,9,-999.0000,9, -999.00,9,-999.000,9,-999.000,-999.000,     2.5230,-999.0000, -999.00