BOTTLE,20220922CCHSIOAMB
EXPOCODE,SECT_ID,STNNBR,CASTNO,SAMPNO,BTLNBR,BTLNBR_FLAG_W,DATE,TIME,LATITUDE,LONGITUDE,DEPTH,CTDPRS,CTDSAL,CTDSAL_FLAG_W,SALNTY,SALNTY_FLAG_W,CTDOXY,CTDOXY_FLAG_W,OXYGEN,OXYGEN_FLAG_W,SILCAT,SILCAT_FLAG_W,NITRAT,NITRAT_FLAG_W,NITRIT,NITRIT_FLAG_W,PHSPHT,PHSPHT_FLAG_W,CFC-11,CFC-11_FLAG_W,CFC-12,CFC-12_FLAG_W,TRITUM,TRITUM_FLAG_W,HELIUM,HELIUM_FLAG_W,DELHE3,DELHE3_FLAG_W,NEON,NEON_FLAG_W,NEONER,TRITER,CTDTMP,HELIER,DELHER
,,,,,,,,,,,METERS,DBAR,PSS-78,,PSS-78,,UMOL/KG,,UMOL/KG,,UMOL/KG,,UMOL/KG,,UMOL/KG,,UMOL/KG,,PMOL/KG,,PMOL/KG,,TU,,NMOL/KG,,PERCNT,,NMOL/KG,,NMOL/KG,TU,IPTS-68,NMOL/KG,PERCNT
32OC19880723,       A16N,      24,          1,          2,          2,2,19880728,       0317,    53.5000,   -20.0100,       2285,     9.3,  35.4207,2,  35.4240,2,    265.9,2,   265.8,2,    0.10,2,    2.50,2,    0.08,2,    0.28,2,-999.000,9,-999.000,9,-999.000,9,-999.0000,9, -999.00,9,-999.000,9,-999.000,   9.000,    13.2170,-999.0000, -999.00
32OC19880723,       A16N,      24,          1,          3,          3,2,19880728,       0317,    53.5000,   -20.0100,       2285,    34.5,  35.4225,2,  35.4200,2,    260.2,2,   264.5,2,    0.10,2,    2.70,2,    0.08,2,    0.30,2,-999.000,9,-999.000,9,-999.000,9,-999.0000,9, -999.00,9,-999.000,9,-999.000,-999.000,    13.1250,-999.0000, -999.00
32OC19880723,       A16N,      24,          1,          4,          4,2,19880728,       0317,    53.5000,   -20.0100,       2285,    64.5,  35.4909,2,  35.4400,2,    249.3,2,   256.1,2,    1.40,2,    7.00,2,    0.36,2,    0.50,2,-999.000,9,-999.000,9,-999.000,9,-999.0000,9, -999.00,9,-999.000,9,-999.000,   9.000,    11.6180,-999.0000, -999.00
32OC19880723,       A16N,      24,          1,          5,          5,2,19880728,       0317,    53.5000,   -20.0100,       2285,   105.0,  35.4718,2,  35.4800,2,    249.1,2,   249.6,2,    4.40,2,   11.30,2,    0.00,2,    0.68,2,-999.000,9,-999.000,9,-999.000,9,-999.0000,9, -999.00,9,-999.000,9,-999.000,-999.000,    10.9690,-999.0000, -999.00
32OC19880723,       A16N,      24,          1,          6,          6,2,19880728,       0317,    53.5000,   -20.0100,       2285,   155.5,  35.4058,2,  35.4210,2,    250.9,2,   249.1,2,    4.80,2,   12.10,2,    0.00,2,    0.73,2,-999.000,9,-999.000,9,-999.000,9,-999.0000,9, -999.00,9,-999.000,9,-999.000,   9.000,    10.5170,-999.0000, -999.00
32OC19880723,       A16N,      24,          1,          7,          7,2,19880728,       0317,    53.5000,   -20.0100,       2285,   256.0,  35.3189,2,  35.4060,3,    255.3,2,   252.6,2,    4.80,2,   11.90,2,    0.00,2,    0.72,2,-999.000,9,-999.000,9,-999.000,9,-999.0000,9, -999.00,9,-999.000,9,-999.000,-999.000,    10.2270,-999.0000, -999.00
32OC19880723,       A16N,      24,          1,          8,          8,2,19880728,       0317,    53.5000,   -20.0100,       2285,   256.0,  35.3189,2,  35.4080,3,    255.3,2,   252.6,2,    4.60,2,   11.90,2,    0.00,2,    0.69,2,-999.000,9,-999.000,9,-999.000,9,-999.0000,9, -999.00,9,-999.000,9,-999.000,   9.000,    10.2270,-999.0000, -999.00
32OC19880723,       A16N,      24,          1,          9,          9,2,19880728,       0317,    53.5000,   -20.0100,       2285,   305.9,  35.2991,2,  35.3140,2,    257.0,2,   255.2,2,    5.60,2,   12.70,2,    0.00,2,    0.79,2,-999.000,9,-999.000,9,-999.000,9,-999.0000,9, -999.00,9,-999.000,9,-999.000,-999.000,     9.7200,-999.0000, -999.00
32OC19880723,       A16N,      24,          1,         10,         10,2,19880728,       0317,    53.5000,   -20.0100,       2285,   356.8,  35.3199,2,  35.2830,2,    254.0,2,   255.2,2,    5.70,2,   12.90,2,    0.00,2,    0.81,2,-999.000,9,-999.000,9,-999.000,9,-999.0000,9, -999.00,9,-999.000,9,-999.000,   9.000,     9.4960,-999.0000, -999.00
32OC19880723,       A16N,      24,          1,         11,         11,2,19880728,       0317,    53.5000,   -20.0100,       2285,   407.4,  35.3682,2,  35.3860,2,    248.1,2,   246.5,2,    5.40,2,   12.50,2,    0.00,2,    0.78,2,-999.000,9,-999.000,9,-999.000,9,-999.0000,9, -999.00,9,-999.000,9,-999.000,-999.000,     9.8590,-999.0000, -999.00
32OC19880723,       A16N,      24,          1,         12,         12,2,19880728,       0317,    53.5000,   -20.0100,       2285,   407.4,  35.3682,2,  35.3850,2,    248.1,2,   246.5,2,    5.40,2,   12.60,2,    0.00,2,    0.78,2,-999.000,9,-999.000,9,-999.000,9,-999.0000,9, -999.00,9,-999.000,9,-999.000,   9.000,     9.8590,-999.0000, -999.00
32OC19880723,       A16N,      24,          1,         13,         13,2,19880728,       0317,    53.5000,   -20.0100,       2285,   508.0,  35.1574,2,  35.1440,2,    217.5,2,   219.5,2,    9.10,2,   17.00,2,    0.00,2,    1.05,2,-999.000,9,-999.000,9,-999.000,9,-999.0000,9, -999.00,9,-999.000,9,-999.000,-999.000,     8.3660,-999.0000, -999.00
32OC19880723,       A16N,      24,          1,         14,         14,2,19880728,       0317,    53.5000,   -20.0100,       2285,   608.7,  35.1524,2,  35.1220,2,    220.3,2,   217.8,2,    9.90,2,   17.70,2,    0.00,2,    1.08,2,-999.000,9,-999.000,9,-999.000,9,-999.0000,9, -999.00,9,-999.000,9,-999.000,   9.000,     7.6420,-999.0000, -999.00
32OC19880723,       A16N,      24,          1,         15,         15,2,19880728,       0317,    53.5000,   -20.0100,       2285,   608.7,  35.1524,2,  35.1230,2,    220.3,2,   217.3,2,    9.90,2,   17.70,2,    0.00,2,    1.08,2,-999.000,9,-999.000,9,-999.000,9,-999.0000,9, -999.00,9,-999.000,9,-999.000,-999.000,     7.6420,-999.0000, -999.00
32OC19880723,       A16N,      24,          1,         16,         16,2,19880728,       0317,    53.5000,   -20.0100,       2285,   810.5,  35.2130,2,  35.2230,2,    213.9,2,   213.4,2,   11.30,2,   18.50,2,    0.00,2,    1.15,2,-999.000,9,-999.000,9,-999.000,9,-999.0000,9, -999.00,9,-999.000,9,-999.000,   9.000,     6.8700,-999.0000, -999.00
32OC19880723,       A16N,      24,          1,         17,         17,2,19880728,       0317,    53.5000,   -20.0100,       2285,   911.0,  35.1544,2,  35.1430,2,    223.9,2,   226.8,2,   11.30,2,   18.40,2,    0.00,2,    1.13,2,-999.000,9,-999.000,9,-999.000,9,-999.0000,9, -999.00,9,-999.000,9,-999.000,-999.000,     6.0690,-999.0000, -999.00
32OC19880723,       A16N,      24,          1,         18,         18,2,19880728,       0317,    53.5000,   -20.0100,       2285,  1011.8,  35.0671,2,  35.0660,2,    234.4,2,   237.7,2,   11.30,2,   18.20,2,    0.00,2,    1.12,2,-999.000,9,-999.000,9,-999.000,9,-999.0000,9, -999.00,9,-999.000,9,-999.000,   9.000,     5.4070,-999.0000, -999.00
32OC19880723,       A16N,      24,          1,         19,         19,2,19880728,       0317,    53.5000,   -20.0100,       2285,  1214.3,  34.9717,2,  34.9670,2,    257.9,2,   261.2,2,   10.90,2,   17.60,2,    0.00,2,    1.10,2,-999.000,9,-999.000,9,-999.000,9,-999.0000,9, -999.00,9,-999.000,9,-999.000,-999.000,     4.3490,-999.0000, -999.00
32OC19880723,       A16N,      24,          1,         20,         20,2,19880728,       0317,    53.5000,   -20.0100,       2285,  1214.3,  34.9717,2,  34.9660,2,    257.9,2,   260.7,2,   10.90,2,   17.60,2,    0.00,2,    1.10,2,-999.000,9,-999.000,9,-999.000,9,-999.0000,9, -999.00,9,-999.000,9,-999.000,   9.000,     4.3490,-999.0000, -999.00
32OC19880723,       A16N,      24,          1,         21,         21,2,19880728,       0317,    53.5000,   -20.0100,       2285,  1617.9,  34.9317,2,  34.9310,2,    273.3,2,   272.9,2,   11.70,2,   17.10,2,    0.00,2,    1.08,2,-999.000,9,-999.000,9,-999.000,9,-999.0000,9, -999.00,9,-999.000,9,-999.000,-999.000,     3.7530,-999.0000, -999.00
32OC19880723,       A16N,      24,          1,         22,         22,2,19880728,       0317,    53.5000,   -20.0100,       2285,  1820.5,  34.9404,2,  34.9450,2,    272.0,2,   270.7,2,   13.30,2,   17.10,2,    0.00,2,    1.07,2,-999.000,9,-999.000,9,-999.000,9,-999.0000,9, -999.00,9,-999.000,9,-999.000,   9.000,     3.6180,-999.0000, -999.00
32OC19880723,       A16N,      24,          1,         23,         23,2,19880728,       0317,    53.5000,   -20.0100,       2285,  1820.5,  34.9404,2,  34.9450,2,    272.0,2,   270.3,2,   13.30,2,   17.10,2,    0.00,2,    1.08,2,-999.000,9,-999.000,9,-999.000,9,-999.0000,9, -999.00,9,-999.000,9,-999.000,-999.000,     3.6180,-999.0000, -999.00
32OC19880723,       A16N,      24,          1,         24,         24,2,19880728,       0317,    53.5000,   -20.0100,       2285,  2226.8,  34.9509,2,  34.9510,2,    258.7,2,   259.4,2,   24.40,2,   18.40,2,    0.00,2,    1.18,2,-999.000,9,-999.000,9,-999.000,9,-999.0000,9, -999.00,9,-999.000,9,-999.000,   9.000,     3.0660,-999.0000, -999.00
32OC19880723,       A16N,      24,          1,         99,     -999.0,9,19880728,       0317,    53.5000,   -20.0100,       2285,  2314.7,  34.9511,2,-999.0000,9,    257.0,2,  -999.0,9, -999.00,9, -999.00,9, -999.00,9, -999.00,9,-999.000,9,-999.000,9,-999.000,9,-999.0000,9, -999.00,9,-999.000,9,-999.000,-999.000,     3.0570,-999.0000, -999.00
32OC19880723,       A16N,      25,          1,          1,          1,2,19880728,       0748,    52.9850,   -20.0183,       2695,     5.2,  35.4074,2,  35.4040,2,    263.6,2,   265.3,2,    0.10,2,    2.60,2,    0.08,2,    0.26,2,   3.173,2,   1.466,2,-999.000,9,-999.0000,9, -999.00,9,-999.000,9,-999.000,   9.000,    13.1330,-999.0000, -999.00
32OC19880723,       A16N,      25,          1,          2,          2,2,19880728,       0748,    52.9850,   -20.0183,       2695,    35.4,  35.4063,2,  35.4050,2,    261.4,2,   264.5,2,    0.10,2,    2.60,2,    0.08,2,    0.26,2,   3.157,2,   1.469,2,-999.000,9,-999.0000,9, -999.00,9,-999.000,9,-999.000,-999.000,    13.1270,-999.0000, -999.00
32OC19880723,       A16N,      25,          1,          3,          3,2,19880728,       0748,    52.9850,   -20.0183,       2695,    65.6,  35.3978,2,  35.3970,2,    258.7,2,   259.6,2,    1.20,2,    6.60,2,    0.37,2,    0.48,2,   3.324,2,   1.534,2,-999.000,9,-999.0000,9, -999.00,9,-999.000,9,-999.000,   9.000,    11.5530,-999.0000, -999.00
32OC19880723,       A16N,      25,          1,          4,          4,2,19880728,       0748,    52.9850,   -20.0183,       2695,   105.6,  35.4035,2,  35.4060,2,    252.4,2,   250.4,2,    4.60,2,   11.60,2,    0.01,2,    0.69,2,   3.266,2,   1.443,2,-999.000,9,-999.0000,9, -999.00,9,-999.000,9,-999.000,-999.000,    10.4600,-999.0000, -999.00
32OC19880723,       A16N,      25,          1,          5,          5,2,19880728,       0748,    52.9850,   -20.0183,       2695,   155.7,  35.3229,2,  35.3250,2,    250.7,2,   251.7,2,    5.50,2,   12.60,2,    0.01,2,    0.78,2,   3.049,2,   1.447,2,-999.000,9,-999.0000,9, -999.00,9,-999.000,9,-999.000,   9.000,     9.9210,-999.0000, -999.00
32OC19880723,       A16N,      25,          1,          6,          6,2,19880728,       0748,    52.9850,   -20.0183,       2695,   206.2,  35.2959,2,  35.2990,2,    252.9,2,   254.8,2,    5.50,2,   12.60,2,    0.01,2,    0.76,2,   3.174,2,   1.478,2,-999.000,9,-999.0000,9, -999.00,9,-999.000,9,-999.000,-999.000,     9.7100,-999.0000, -999.00
32OC19880723,       A16N,      25,          1,          7,          7,2,19880728,       0748,    52.9850,   -20.0183,       2695,   256.6,  35.2954,2,  35.3590,2,    252.9,2,   253.0,2,    5.00,2,   12.10,2,    0.01,2,    0.71,2,   2.950,2,   1.409,2,-999.000,9,-999.0000,9, -999.00,9,-999.000,9,-999.000,   9.000,     9.8830,-999.0000, -999.00
32OC19880723,       A16N,      25,          1,          8,          8,2,19880728,       0748,    52.9850,   -20.0183,       2695,   306.3,  35.2910,2,  35.3040,2,    252.7,2,   252.6,2,    5.60,2,   12.70,2,    0.01,2,    0.77,2,   2.986,2,   1.390,2,-999.000,9,-999.0000,9, -999.00,9,-999.000,9,-999.000,-999.000,     9.5690,-999.0000, -999.00
32OC19880723,       A16N,      25,          1,          9,          9,2,19880728,       0748,    52.9850,   -20.0183,       2695,   357.0,  35.2874,2,  35.2430,2,    250.4,2,   251.7,2,    6.30,2,   13.30,2,    0.01,2,    0.80,2,-999.000,9,-999.000,9,-999.000,9,-999.0000,9, -999.00,9,-999.000,9,-999.000,   9.000,     9.1940,-999.0000, -999.00
32OC19880723,       A16N,      25,          1,         10,         10,2,19880728,       0748,    52.9850,   -20.0183,       2695,   406.8,  35.2283,2,  35.2310,2,    245.5,2,   239.1,2,    6.80,2,   14.40,2,    0.01,2,    0.87,2,   2.654,2,   1.208,2,-999.000,9,-999.0000,9, -999.00,9,-999.000,9,-999.000,-999.000,     9.0150,-999.0000, -999.00
32OC19880723,       A16N,      25,          1,         11,         11,2,19880728,       0748,    52.9850,   -20.0183,       2695,   457.0,  35.1728,2,  35.1710,2,    232.8,2,   229.1,2,    8.20,2,   15.70,2,    0.01,2, -999.00,9,-999.000,9,-999.000,9,-999.000,9,-999.0000,9, -999.00,9,-999.000,9,-999.000,   9.000,     8.5690,-999.0000, -999.00
32OC19880723,       A16N,      25,          1,         12,         12,2,19880728,       0748,    52.9850,   -20.0183,       2695,   457.0,  35.1728,2,  35.1720,2,    232.8,2,   229.1,2,    8.20,2,   15.70,2,    0.01,2,    0.95,2,   2.397,2,   1.089,2,-999.000,9,-999.0000,9, -999.00,9,-999.000,9,-999.000,-999.000,     8.5690,-999.0000, -999.00
32OC19880723,       A16N,      25,          1,         13,         13,2,19880728,       0748,    52.9850,   -20.0183,       2695,   606.3,  35.2463,2,  35.1070,4,    208.0,2,   210.4,2,   10.70,2,   18.20,2,    0.01,2,    1.11,2,   1.770,4,   0.726,4,-999.000,9,-999.0000,9, -999.00,9,-999.000,9,-999.000,   9.000,     7.2150,-999.0000, -999.00
32OC19880723,       A16N,      25,          1,         14,         14,2,19880728,       0748,    52.9850,   -20.0183,       2695,   704.4,  35.1733,2,  35.1700,2,    213.0,2,   213.4,2,   10.90,2,   18.10,2,    0.01,2,    1.11,2,   1.434,2,   0.605,2,-999.000,9,-999.0000,9, -999.00,9,-999.000,9,-999.000,-999.000,     6.8850,-999.0000, -999.00
32OC19880723,       A16N,      25,          1,         15,         15,2,19880728,       0748,    52.9850,   -20.0183,       2695,   704.4,  35.1733,2,  35.1700,2,    213.0,2,   213.4,2,   10.90,2,   18.10,2,    0.01,2,    1.10,2,   1.397,2,   0.592,2,-999.000,9,-999.0000,9, -999.00,9,-999.000,9,-999.000,   9.000,     6.8850,-999.0000, -999.00
32OC19880723,       A16N,      25,          1,         16,         16,2,19880728,       0748,    52.9850,   -20.0183,       2695,   902.3,  35.0278,2,  35.0210,2,    237.1,2,   239.0,2,   11.00,2,   18.00,2,    0.01,2,    1.09,2,-999.000,9,-999.000,9,-999.000,9,-999.0000,9, -999.00,9,-999.000,9,-999.000,-999.000,     5.1900,-999.0000, -999.00
32OC19880723,       A16N,      25,          1,         17,         17,2,19880728,       0748,    52.9850,   -20.0183,       2695,   902.3,  35.0278,2,  35.0200,2,    237.1,2,   239.4,2,   11.00,2,   17.80,2,    0.01,2,    1.09,2,   1.632,2,   0.674,2,-999.000,9,-999.0000,9, -999.00,9,-999.000,9,-999.000,   9.000,     5.1900,-999.0000, -999.00
32OC19880723,       A16N,      25,          1,         18,         18,2,19880728,       0748,    52.9850,   -20.0183,       2695,  1101.6,  34.9528,2,  34.9700,2,    256.2,2,   255.5,2,   11.00,2,   17.80,2,    0.03,2,    1.07,2,   1.607,2,   0.680,2,-999.000,9,-999.0000,9, -999.00,9,-999.000,9,-999.000,-999.000,     4.5030,-999.0000, -999.00
32OC19880723,       A16N,      25,          1,         19,         19,2,19880728,       0748,    52.9850,   -20.0183,       2695,  1405.6,  34.9133,2,  34.9140,2,    273.4,2,   274.2,2,   10.60,2,   17.20,2,    0.03,2,    1.05,2,   1.437,2,   0.604,2,-999.000,9,-999.0000,9, -999.00,9,-999.000,9,-999.000,   9.000,     3.7720,-999.0000, -999.00
32OC19880723,       A16N,      25,          1,         20,         20,2,19880728,       0748,    52.9850,   -20.0183,       2695,  1405.6,  34.9133,2,  34.9130,2,    273.4,2,   273.8,2,   10.60,2,   17.20,2,    0.03,2,    1.05,2,   1.403,2,   0.588,2,-999.000,9,-999.0000,9, -999.00,9,-999.000,9,-999.000,-999.000,     3.7720,-999.0000, -999.00
32OC19880723,       A16N,      25,          1,         98,     -999.0,9,19880728,       0748,    52.9850,   -20.0183,       2695,  1708.1,  34.9011,2,-999.0000,9,    280.6,2,  -999.0,9, -999.00,9, -999.00,9, -999.00,9, -999.00,9,-999.000,9,-999.000,9,-999.000,9,-999.0000,9, -999.00,9,-999.000,9,-999.000,   9.000,     3.5340,-999.0000, -999.00
32OC19880723,       A16N,      25,          1,         21,         21,2,19880728,       0748,    52.9850,   -20.0183,       2695,  2012.7,  34.9354,2,  34.9350,2,    274.9,2,   273.7,2,   12.10,2,   16.80,2,    0.03,2,    1.04,2,   0.774,2,   0.320,2,-999.000,9,-999.0000,9, -999.00,9,-999.000,9,-999.000,-999.000,     3.4640,-999.0000, -999.00
32OC19880723,       A16N,      25,          1,         22,         22,2,19880728,       0748,    52.9850,   -20.0183,       2695,  2316.6,  34.9515,2,-999.0000,9,    265.2,2,   264.6,2,   19.40,2,   17.60,2,    0.03,2,    1.08,2,   0.451,2,   0.180,2,-999.000,9,-999.0000,9, -999.00,9,-999.000,9,-999.000,   9.000,     3.1610,-999.0000, -999.00
32OC19880723,       A16N,      25,          1,         24,         24,2,19880728,       0748,    52.9850,   -20.0183,       2695,  2618.7,  34.9383,2,  34.9380,2,    250.6,2,   249.8,2,   32.30,2,   19.70,2,    0.03,2,    1.23,2,   0.213,2,   0.092,2,-999.000,9,-999.0000,9, -999.00,9,-999.000,9,-999.000,-999.000,     2.7760,-999.0000, -999.00
32OC19880723,       A16N,      25,          1,         23,         23,2,19880728,       0748,    52.9850,   -20.0183,       2695,  2618.7,  34.9383,2,  34.9380,2,    250.6,2,   251.1,2,   32.10,2,   19.80,2,    0.03,2,    1.22,2,   0.251,2,   0.081,2,-999.000,9,-999.0000,9, -999.00,9,-999.000,9,-999.000,   9.000,     2.7760,-999.0000, -999.00
32OC19880723,       A16N,      25,          1,         99,     -999.0,9,19880728,       0748,    52.9850,   -20.0183,       2695,  2740.0,  34.9215,2,-999.0000,9,    244.6,2,  -999.0,9, -999.00,9, -999.00,9, -999.00,9, -999.00,9,-999.000,9,-999.000,9,-999.000,9,-999.0000,9, -999.00,9,-999.000,9,-999.000,-999.000,     2.5080,-999.0000, -999.00