BOTTLE,20220922CCHSIOAMB
EXPOCODE,SECT_ID,STNNBR,CASTNO,SAMPNO,BTLNBR,BTLNBR_FLAG_W,DATE,TIME,LATITUDE,LONGITUDE,DEPTH,CTDPRS,CTDSAL,CTDSAL_FLAG_W,SALNTY,SALNTY_FLAG_W,CTDOXY,CTDOXY_FLAG_W,OXYGEN,OXYGEN_FLAG_W,SILCAT,SILCAT_FLAG_W,NITRAT,NITRAT_FLAG_W,NITRIT,NITRIT_FLAG_W,PHSPHT,PHSPHT_FLAG_W,CFC-11,CFC-11_FLAG_W,CFC-12,CFC-12_FLAG_W,TRITUM,TRITUM_FLAG_W,HELIUM,HELIUM_FLAG_W,DELHE3,DELHE3_FLAG_W,NEON,NEON_FLAG_W,NEONER,TRITER,CTDTMP,HELIER,DELHER
,,,,,,,,,,,METERS,DBAR,PSS-78,,PSS-78,,UMOL/KG,,UMOL/KG,,UMOL/KG,,UMOL/KG,,UMOL/KG,,UMOL/KG,,PMOL/KG,,PMOL/KG,,TU,,NMOL/KG,,PERCNT,,NMOL/KG,,NMOL/KG,TU,IPTS-68,NMOL/KG,PERCNT
32OC19880723,       A16N,       6,          1,          8,          8,2,19880724,       0930,    62.3300,   -20.0017,       1809,     4.2,  35.0962,2,  35.0930,2,    277.3,2,   280.1,2, -999.00,9, -999.00,9, -999.00,9, -999.00,9,   3.576,2,   1.970,4,-999.000,9,-999.0000,9, -999.00,9,-999.000,9,-999.000,   9.000,    10.9900,-999.0000, -999.00
32OC19880723,       A16N,       6,          1,          9,          9,2,19880724,       0930,    62.3300,   -20.0017,       1809,    54.1,  35.1510,2,  35.1490,2,    280.1,2,   278.3,2, -999.00,9, -999.00,9, -999.00,9, -999.00,9,-999.000,9,-999.000,9,-999.000,9,-999.0000,9, -999.00,9,-999.000,9,-999.000,-999.000,     9.2700,-999.0000, -999.00
32OC19880723,       A16N,       6,          1,         10,         10,2,19880724,       0930,    62.3300,   -20.0017,       1809,   104.7,  35.1623,2,  35.1610,2,    271.5,2,   272.1,2, -999.00,9, -999.00,9, -999.00,9, -999.00,9,   3.654,2,   1.795,2,-999.000,9,-999.0000,9, -999.00,9,-999.000,9,-999.000,   9.000,     8.1920,-999.0000, -999.00
32OC19880723,       A16N,       6,          1,         11,         11,2,19880724,       0930,    62.3300,   -20.0017,       1809,   155.3,  35.1601,2,  35.1610,2,    274.5,2,   272.5,2, -999.00,9, -999.00,9, -999.00,9, -999.00,9,-999.000,9,-999.000,9,-999.000,9,-999.0000,9, -999.00,9,-999.000,9,-999.000,-999.000,     7.9730,-999.0000, -999.00
32OC19880723,       A16N,       6,          1,         12,         12,2,19880724,       0930,    62.3300,   -20.0017,       1809,   205.6,  35.1557,2,  35.1580,2,    273.7,2,   272.5,2, -999.00,9, -999.00,9, -999.00,9, -999.00,9,-999.000,9,-999.000,9,-999.000,9,-999.0000,9, -999.00,9,-999.000,9,-999.000,   9.000,     7.8650,-999.0000, -999.00
32OC19880723,       A16N,       6,          1,         13,         13,2,19880724,       0930,    62.3300,   -20.0017,       1809,   303.8,  35.1493,2,  35.1510,2,    270.6,2,   270.8,2, -999.00,9, -999.00,9, -999.00,9, -999.00,9,-999.000,9,-999.000,9,-999.000,9,-999.0000,9, -999.00,9,-999.000,9,-999.000,-999.000,     7.6660,-999.0000, -999.00
32OC19880723,       A16N,       6,          1,         14,         14,2,19880724,       0930,    62.3300,   -20.0017,       1809,   400.4,  35.1546,2,  35.1550,2,    270.8,2,   270.4,2, -999.00,9, -999.00,9, -999.00,9, -999.00,9,-999.000,9,-999.000,9,-999.000,9,-999.0000,9, -999.00,9,-999.000,9,-999.000,   9.000,     7.5310,-999.0000, -999.00
32OC19880723,       A16N,       6,          1,         15,         15,2,19880724,       0930,    62.3300,   -20.0017,       1809,   498.4,  35.1539,2,  35.1540,2,    272.2,2,   272.5,2, -999.00,9, -999.00,9, -999.00,9, -999.00,9,   3.476,2,   1.639,2,-999.000,9,-999.0000,9, -999.00,9,-999.000,9,-999.000,-999.000,     7.4380,-999.0000, -999.00
32OC19880723,       A16N,       6,          1,         16,         16,2,19880724,       0930,    62.3300,   -20.0017,       1809,   595.1,  35.1477,2,  35.1440,2,    268.6,2,   268.2,2, -999.00,9, -999.00,9, -999.00,9, -999.00,9,-999.000,9,-999.000,9,-999.000,9,-999.0000,9, -999.00,9,-999.000,9,-999.000,   9.000,     7.2800,-999.0000, -999.00
32OC19880723,       A16N,       6,          1,         17,         17,2,19880724,       0930,    62.3300,   -20.0017,       1809,   696.8,  35.1294,2,  35.1250,2,    258.0,2,   256.0,2, -999.00,9, -999.00,9, -999.00,9, -999.00,9,-999.000,9,-999.000,9,-999.000,9,-999.0000,9, -999.00,9,-999.000,9,-999.000,-999.000,     7.0140,-999.0000, -999.00
32OC19880723,       A16N,       6,          1,         18,         18,2,19880724,       0930,    62.3300,   -20.0017,       1809,   795.3,  35.1127,2,  35.1130,2,    255.9,2,   254.2,2, -999.00,9, -999.00,9, -999.00,9, -999.00,9,-999.000,9,-999.000,9,-999.000,9,-999.0000,9, -999.00,9,-999.000,9,-999.000,   9.000,     6.7070,-999.0000, -999.00
32OC19880723,       A16N,       6,          1,         19,         19,2,19880724,       0930,    62.3300,   -20.0017,       1809,   891.5,  35.0917,2,  35.0930,2,    255.7,2,   255.5,2, -999.00,9, -999.00,9, -999.00,9, -999.00,9,-999.000,9,-999.000,9,-999.000,9,-999.0000,9, -999.00,9,-999.000,9,-999.000,-999.000,     6.1950,-999.0000, -999.00
32OC19880723,       A16N,       6,          1,         20,         20,2,19880724,       0930,    62.3300,   -20.0017,       1809,  1093.0,  35.0174,2,  35.0170,2,    255.2,2,   256.8,2, -999.00,9, -999.00,9, -999.00,9, -999.00,9,   2.680,4,   1.080,4,-999.000,9,-999.0000,9, -999.00,9,-999.000,9,-999.000,   9.000,     5.0230,-999.0000, -999.00
32OC19880723,       A16N,       6,          1,         21,         21,2,19880724,       0930,    62.3300,   -20.0017,       1809,  1302.3,  34.9969,2,  34.9960,2,    272.9,2,   274.6,2, -999.00,9, -999.00,9, -999.00,9, -999.00,9,-999.000,9,-999.000,9,-999.000,9,-999.0000,9, -999.00,9,-999.000,9,-999.000,-999.000,     4.2820,-999.0000, -999.00
32OC19880723,       A16N,       6,          1,         22,         22,2,19880724,       0930,    62.3300,   -20.0017,       1809,  1510.8,  34.9856,2,  34.9840,2,    278.0,2,   278.5,2, -999.00,9, -999.00,9, -999.00,9, -999.00,9,   2.255,2,   1.049,2,-999.000,9,-999.0000,9, -999.00,9,-999.000,9,-999.000,   9.000,     3.3780,-999.0000, -999.00
32OC19880723,       A16N,       6,          1,         23,         23,2,19880724,       0930,    62.3300,   -20.0017,       1809,  1759.1,  34.9762,2,  34.9760,2,    282.5,2,   283.7,2, -999.00,9, -999.00,9, -999.00,9, -999.00,9,   2.344,2,   1.003,2,-999.000,9,-999.0000,9, -999.00,9,-999.000,9,-999.000,-999.000,     2.7890,-999.0000, -999.00
32OC19880723,       A16N,       6,          1,         24,         24,2,19880724,       0930,    62.3300,   -20.0017,       1809,  1831.5,  34.9746,2,  34.9750,2,    284.5,2,   283.7,2, -999.00,9, -999.00,9, -999.00,9, -999.00,9,   2.119,2,   0.977,2,-999.000,9,-999.0000,9, -999.00,9,-999.000,9,-999.000,   9.000,     2.6020,-999.0000, -999.00
32OC19880723,       A16N,       6,          1,         99,     -999.0,9,19880724,       0930,    62.3300,   -20.0017,       1809,  1833.4,  34.9746,2,-999.0000,9,    284.4,2,  -999.0,9, -999.00,9, -999.00,9, -999.00,9, -999.00,9,-999.000,9,-999.000,9,-999.000,9,-999.0000,9, -999.00,9,-999.000,9,-999.000,-999.000,     2.6030,-999.0000, -999.00
32OC19880723,       A16N,       7,          1,          1,          1,2,19880724,       1406,    61.8267,   -20.0217,       1769,    34.6,  35.1357,2,-999.0000,9,    283.4,2,  -999.0,9, -999.00,9, -999.00,9, -999.00,9, -999.00,9,-999.000,9,-999.000,9,-999.000,9,-999.0000,9, -999.00,9,-999.000,9,-999.000,   9.000,    11.1080,-999.0000, -999.00
32OC19880723,       A16N,       7,          1,          2,          2,2,19880724,       1406,    61.8267,   -20.0217,       1769,    64.6,  35.1575,2,-999.0000,9,    279.5,2,  -999.0,9, -999.00,9, -999.00,9, -999.00,9, -999.00,9,-999.000,9,-999.000,9,-999.000,9,-999.0000,9, -999.00,9,-999.000,9,-999.000,-999.000,     8.9320,-999.0000, -999.00
32OC19880723,       A16N,       7,          1,          3,          3,2,19880724,       1406,    61.8267,   -20.0217,       1769,   105.0,  35.1470,2,-999.0000,9,    270.0,2,  -999.0,9, -999.00,9, -999.00,9, -999.00,9, -999.00,9,-999.000,9,-999.000,9,-999.000,9,-999.0000,9, -999.00,9,-999.000,9,-999.000,   9.000,     8.3150,-999.0000, -999.00
32OC19880723,       A16N,       7,          1,          4,          4,2,19880724,       1406,    61.8267,   -20.0217,       1769,   155.4,  35.1389,2,-999.0000,9,    271.7,2,  -999.0,9, -999.00,9, -999.00,9, -999.00,9, -999.00,9,-999.000,9,-999.000,9,-999.000,9,-999.0000,9, -999.00,9,-999.000,9,-999.000,-999.000,     8.0000,-999.0000, -999.00
32OC19880723,       A16N,       7,          1,          5,          5,2,19880724,       1406,    61.8267,   -20.0217,       1769,   206.2,  35.1361,2,-999.0000,9,    270.6,2,  -999.0,9, -999.00,9, -999.00,9, -999.00,9, -999.00,9,-999.000,9,-999.000,9,-999.000,9,-999.0000,9, -999.00,9,-999.000,9,-999.000,   9.000,     7.9160,-999.0000, -999.00
32OC19880723,       A16N,       7,          1,          6,          6,2,19880724,       1406,    61.8267,   -20.0217,       1769,   256.4,  35.1301,2,-999.0000,9,    269.6,2,  -999.0,9, -999.00,9, -999.00,9, -999.00,9, -999.00,9,-999.000,9,-999.000,9,-999.000,9,-999.0000,9, -999.00,9,-999.000,9,-999.000,-999.000,     7.7450,-999.0000, -999.00
32OC19880723,       A16N,       7,          1,          7,          7,2,19880724,       1406,    61.8267,   -20.0217,       1769,   306.9,  35.1533,2,-999.0000,9,    268.3,2,  -999.0,9, -999.00,9, -999.00,9, -999.00,9, -999.00,9,-999.000,9,-999.000,9,-999.000,9,-999.0000,9, -999.00,9,-999.000,9,-999.000,   9.000,     7.6980,-999.0000, -999.00
32OC19880723,       A16N,       7,          1,          9,          9,2,19880724,       1406,    61.8267,   -20.0217,       1769,   357.0,  35.1560,2,  35.1580,2,    270.3,2,   268.6,2,    6.50,2,   13.50,2, -999.00,9,    0.83,2,-999.000,9,-999.000,9,-999.000,9,-999.0000,9, -999.00,9,-999.000,9,-999.000,-999.000,     7.7430,-999.0000, -999.00
32OC19880723,       A16N,       7,          1,         10,         10,2,19880724,       1406,    61.8267,   -20.0217,       1769,   408.3,  35.1440,2,  35.1470,2,    262.4,2,   261.7,2,    6.80,2,   14.50,2, -999.00,9,    0.84,2,-999.000,9,-999.000,9,-999.000,9,-999.0000,9, -999.00,9,-999.000,9,-999.000,   9.000,     7.6050,-999.0000, -999.00
32OC19880723,       A16N,       7,          1,         11,         11,2,19880724,       1406,    61.8267,   -20.0217,       1769,   508.0,  35.1201,2,  35.1230,2,    258.0,2,   258.6,2,    7.60,2,   14.80,2, -999.00,9,    0.90,2,-999.000,9,-999.000,9,-999.000,9,-999.0000,9, -999.00,9,-999.000,9,-999.000,-999.000,     7.2870,-999.0000, -999.00
32OC19880723,       A16N,       7,          1,         12,         12,2,19880724,       1406,    61.8267,   -20.0217,       1769,   609.2,  35.1035,2,  35.0990,2,    240.8,2,   239.5,2,    9.00,2, -999.00,9, -999.00,9,    0.99,2,-999.000,9,-999.000,9,-999.000,9,-999.0000,9, -999.00,9,-999.000,9,-999.000,   9.000,     6.9580,-999.0000, -999.00
32OC19880723,       A16N,       7,          1,         13,         13,2,19880724,       1406,    61.8267,   -20.0217,       1769,   710.4,  35.0903,2,  35.1110,2,    247.3,2,   257.7,3, -999.00,9, -999.00,9, -999.00,9,    1.01,2,-999.000,9,-999.000,9,-999.000,9,-999.0000,9, -999.00,9,-999.000,9,-999.000,-999.000,     6.7230,-999.0000, -999.00
32OC19880723,       A16N,       7,          1,         14,         14,2,19880724,       1406,    61.8267,   -20.0217,       1769,   810.5,  35.0869,2,  35.0740,2,    251.7,2,   244.2,3,    9.30,2,   17.20,2, -999.00,9,    1.05,2,-999.000,9,-999.000,9,-999.000,9,-999.0000,9, -999.00,9,-999.000,9,-999.000,   9.000,     6.1180,-999.0000, -999.00
32OC19880723,       A16N,       7,          1,         15,         15,2,19880724,       1406,    61.8267,   -20.0217,       1769,   909.7,  35.0103,2,  35.0200,2,    244.7,2,   245.1,2,   10.30,2, -999.00,9, -999.00,9,    1.05,2,-999.000,9,-999.000,9,-999.000,9,-999.0000,9, -999.00,9,-999.000,9,-999.000,-999.000,     5.3170,-999.0000, -999.00
32OC19880723,       A16N,       7,          1,         16,         16,2,19880724,       1406,    61.8267,   -20.0217,       1769,  1008.3,  34.9847,2,  34.9930,2,    260.3,2,   258.6,2,    9.90,2, -999.00,9, -999.00,9, -999.00,9,-999.000,9,-999.000,9,-999.000,9,-999.0000,9, -999.00,9,-999.000,9,-999.000,   9.000,     4.7820,-999.0000, -999.00
32OC19880723,       A16N,       7,          1,         17,         17,2,19880724,       1406,    61.8267,   -20.0217,       1769,  1108.6,  34.9546,2,  34.9480,2,    265.0,2,   265.9,2,   10.10,2,   17.20,2, -999.00,9,    1.04,2,-999.000,9,-999.000,9,-999.000,9,-999.0000,9, -999.00,9,-999.000,9,-999.000,-999.000,     4.2520,-999.0000, -999.00
32OC19880723,       A16N,       7,          1,         18,         18,2,19880724,       1406,    61.8267,   -20.0217,       1769,  1209.2,  34.9455,2,  34.9490,2,    273.6,2,   272.9,2,    9.80,2,   16.50,2, -999.00,9,    1.05,2,-999.000,9,-999.000,9,-999.000,9,-999.0000,9, -999.00,9,-999.000,9,-999.000,   9.000,     4.0840,-999.0000, -999.00
32OC19880723,       A16N,       7,          1,         19,         19,2,19880724,       1406,    61.8267,   -20.0217,       1769,  1309.9,  34.9223,2,  34.9240,2,    274.6,2,   275.9,2,   10.10,2,   16.90,2, -999.00,9,    1.00,2,-999.000,9,-999.000,9,-999.000,9,-999.0000,9, -999.00,9,-999.000,9,-999.000,-999.000,     3.7990,-999.0000, -999.00
32OC19880723,       A16N,       7,          1,         20,         20,2,19880724,       1406,    61.8267,   -20.0217,       1769,  1410.4,  34.9542,2,  34.9540,2,    276.3,2,   276.4,2,   10.10,2,   16.60,2, -999.00,9,    0.99,2,-999.000,9,-999.000,9,-999.000,9,-999.0000,9, -999.00,9,-999.000,9,-999.000,   9.000,     3.7190,-999.0000, -999.00
32OC19880723,       A16N,       7,          1,         21,         21,2,19880724,       1406,    61.8267,   -20.0217,       1769,  1514.6,  34.9513,2,  34.9520,2,    274.2,2,   274.2,2,   11.20,2,   16.80,2, -999.00,9,    0.96,2,-999.000,9,-999.000,9,-999.000,9,-999.0000,9, -999.00,9,-999.000,9,-999.000,-999.000,     3.4800,-999.0000, -999.00
32OC19880723,       A16N,       7,          1,         22,         22,2,19880724,       1406,    61.8267,   -20.0217,       1769,  1614.9,  34.9798,2,  34.9810,2,    286.8,2,   286.3,2, -999.00,9, -999.00,9, -999.00,9, -999.00,9,-999.000,9,-999.000,9,-999.000,9,-999.0000,9, -999.00,9,-999.000,9,-999.000,   9.000,     3.1670,-999.0000, -999.00
32OC19880723,       A16N,       7,          1,         23,         23,2,19880724,       1406,    61.8267,   -20.0217,       1769,  1692.5,  34.9772,2,  34.9780,2,    282.8,2,   282.0,2,    9.70,2,   15.60,2, -999.00,9,    0.82,2,-999.000,9,-999.000,9,-999.000,9,-999.0000,9, -999.00,9,-999.000,9,-999.000,-999.000,     2.9470,-999.0000, -999.00
32OC19880723,       A16N,       7,          1,         24,         24,2,19880724,       1406,    61.8267,   -20.0217,       1769,  1731.6,  34.9743,2,  34.9750,2,    278.9,2,   282.4,2,    9.30,2, -999.00,9, -999.00,9,    0.86,2,-999.000,9,-999.000,9,-999.000,9,-999.0000,9, -999.00,9,-999.000,9,-999.000,   9.000,     2.8590,-999.0000, -999.00
32OC19880723,       A16N,       7,          1,         99,     -999.0,9,19880724,       1406,    61.8267,   -20.0217,       1769,  1733.3,  34.9743,2,-999.0000,9,    279.7,2,  -999.0,9, -999.00,9, -999.00,9, -999.00,9, -999.00,9,-999.000,9,-999.000,9,-999.000,9,-999.0000,9, -999.00,9,-999.000,9,-999.000,-999.000,     2.8590,-999.0000, -999.00