BOTTLE,20220922CCHSIOAMB
EXPOCODE,SECT_ID,STNNBR,CASTNO,SAMPNO,BTLNBR,BTLNBR_FLAG_W,DATE,TIME,LATITUDE,LONGITUDE,DEPTH,CTDPRS,CTDSAL,CTDSAL_FLAG_W,SALNTY,SALNTY_FLAG_W,CTDOXY,CTDOXY_FLAG_W,OXYGEN,OXYGEN_FLAG_W,SILCAT,SILCAT_FLAG_W,NITRAT,NITRAT_FLAG_W,NITRIT,NITRIT_FLAG_W,PHSPHT,PHSPHT_FLAG_W,CFC-11,CFC-11_FLAG_W,CFC-12,CFC-12_FLAG_W,TRITUM,TRITUM_FLAG_W,HELIUM,HELIUM_FLAG_W,DELHE3,DELHE3_FLAG_W,NEON,NEON_FLAG_W,NEONER,TRITER,CTDTMP,HELIER,DELHER
,,,,,,,,,,,METERS,DBAR,PSS-78,,PSS-78,,UMOL/KG,,UMOL/KG,,UMOL/KG,,UMOL/KG,,UMOL/KG,,UMOL/KG,,PMOL/KG,,PMOL/KG,,TU,,NMOL/KG,,PERCNT,,NMOL/KG,,NMOL/KG,TU,IPTS-68,NMOL/KG,PERCNT
32OC19880723,       A16N,      87,          1,          7,          7,2,19880816,       0641,    20.0067,   -29.0150,       4794,    13.2,  36.6779,2,  36.6690,2,    198.3,2,   208.8,2,    0.00,2,    0.00,2,    0.00,2,    0.02,2,   1.791,2,   0.892,2,-999.000,9,-999.0000,9, -999.00,9,-999.000,9,-999.000,-999.000,    24.6750,-999.0000, -999.00
32OC19880723,       A16N,      87,          1,          8,          8,2,19880816,       0641,    20.0067,   -29.0150,       4794,    38.5,  36.8651,2,  36.8450,2,    211.0,2,   211.3,2,    0.00,2,    0.00,2,    0.00,2,    0.00,2,   1.800,2,   0.917,2,-999.000,9,-999.0000,9, -999.00,9,-999.000,9,-999.000,   9.000,    24.3790,-999.0000, -999.00
32OC19880723,       A16N,      87,          1,          9,          9,2,19880816,       0641,    20.0067,   -29.0150,       4794,    68.7,  37.1408,2,  37.1190,2,    224.8,2,   219.9,2,    0.30,2,    0.00,2,    0.00,2,    0.02,2,   1.964,2,   0.950,2,-999.000,9,-999.0000,9, -999.00,9,-999.000,9,-999.000,-999.000,    22.4380,-999.0000, -999.00
32OC19880723,       A16N,      87,          1,         10,         10,2,19880816,       0641,    20.0067,   -29.0150,       4794,   108.9,  37.0844,2,  37.0660,2,    208.7,2,   195.4,2,    0.50,2,    2.20,2,    0.04,2,    0.11,2,   1.965,2,   0.943,2,-999.000,9,-999.0000,9, -999.00,9,-999.000,9,-999.000,   9.000,    20.9810,-999.0000, -999.00
32OC19880723,       A16N,      87,          1,         11,         11,2,19880816,       0641,    20.0067,   -29.0150,       4794,   158.8,  36.6060,2,  36.5770,2,    165.4,2,   162.3,2,    2.00,2,    8.30,2,    0.01,2,    0.42,2,   1.810,2,   0.839,2,-999.000,9,-999.0000,9, -999.00,9,-999.000,9,-999.000,-999.000,    18.1520,-999.0000, -999.00
32OC19880723,       A16N,      87,          1,         12,         12,2,19880816,       0641,    20.0067,   -29.0150,       4794,   208.6,  36.2431,2,  36.2370,2,    138.4,2,   136.6,2,    3.90,2,   13.60,2,    0.00,2,    0.77,2,   1.521,2,   0.700,2,-999.000,9,-999.0000,9, -999.00,9,-999.000,9,-999.000,   9.000,    16.4000,-999.0000, -999.00
32OC19880723,       A16N,      87,          1,         13,         13,2,19880816,       0641,    20.0067,   -29.0150,       4794,   307.8,  35.8068,2,  35.7860,2,    106.9,2,   101.3,2,    7.20,2,   21.10,2,    0.00,2,    1.20,2,   1.001,2,   0.449,2,-999.000,9,-999.0000,9, -999.00,9,-999.000,9,-999.000,-999.000,    13.8100,-999.0000, -999.00
32OC19880723,       A16N,      87,          1,         14,         14,2,19880816,       0641,    20.0067,   -29.0150,       4794,   406.5,  35.5512,2,  35.5480,2,     93.8,2,    89.1,2,    9.60,2,   25.30,2,    0.00,2,    1.47,2,   0.500,2,   0.245,2,-999.000,9,-999.0000,9, -999.00,9,-999.000,9,-999.000,   9.000,    12.2250,-999.0000, -999.00
32OC19880723,       A16N,      87,          1,         15,         15,2,19880816,       0641,    20.0067,   -29.0150,       4794,   603.7,  35.1327,2,  35.1390,2,     79.9,2,    79.6,2,   16.50,2,   31.70,2,    0.00,2,    1.92,2,-999.000,9,-999.000,9,-999.000,9,-999.0000,9, -999.00,9,-999.000,9,-999.000,-999.000,     9.2660,-999.0000, -999.00
32OC19880723,       A16N,      87,          1,         16,         16,2,19880816,       0641,    20.0067,   -29.0150,       4794,   801.5,  34.9365,2,  34.9380,2,    108.0,2,   106.1,2,   21.90,2,   32.70,2,    0.00,2,    2.08,2,   0.071,2,   0.002,7,-999.000,9,-999.0000,9, -999.00,9,-999.000,9,-999.000,   9.000,     7.0920,-999.0000, -999.00
32OC19880723,       A16N,      87,          1,         17,         17,2,19880816,       0641,    20.0067,   -29.0150,       4794,   999.9,  34.9181,2,  34.9190,2,    132.1,2,   131.7,2,   23.60,2,   31.10,2,    0.00,2,    2.01,2,-999.000,9,-999.000,9,-999.000,9,-999.0000,9, -999.00,9,-999.000,9,-999.000,-999.000,     6.1210,-999.0000, -999.00
32OC19880723,       A16N,      87,          1,         18,         18,2,19880816,       0641,    20.0067,   -29.0150,       4794,  1198.3,  35.0276,2,  35.0330,2,    161.5,2,   163.0,2,   22.00,2,   26.80,2,    0.00,2,    1.74,2,   0.052,2,  -0.001,2,-999.000,9,-999.0000,9, -999.00,9,-999.000,9,-999.000,   9.000,     5.7110,-999.0000, -999.00
32OC19880723,       A16N,      87,          1,         19,         19,2,19880816,       0641,    20.0067,   -29.0150,       4794,  1397.7,  35.0610,2,  35.0600,2,    187.5,2,   188.2,2,   21.20,2,   24.80,2,    0.00,2,    1.60,2,-999.000,9,-999.000,9,-999.000,9,-999.0000,9, -999.00,9,-999.000,9,-999.000,-999.000,     5.1690,-999.0000, -999.00
32OC19880723,       A16N,      87,          1,         20,         20,2,19880816,       0641,    20.0067,   -29.0150,       4794,  1597.4,  35.0404,2,  35.0370,2,    206.6,2,   209.9,2,   21.70,2,   23.20,2,    0.00,2,    1.48,2,   0.014,2,  -0.001,2,-999.000,9,-999.0000,9, -999.00,9,-999.000,9,-999.000,   9.000,     4.5180,-999.0000, -999.00
32OC19880723,       A16N,      87,          1,         21,         21,2,19880816,       0641,    20.0067,   -29.0150,       4794,  1946.7,  34.9967,2,  34.9980,2,    227.4,2,   227.2,2,   24.30,2,   22.00,2,    0.00,2,    1.41,2,-999.000,9,-999.000,9,-999.000,9,-999.0000,9, -999.00,9,-999.000,9,-999.000,-999.000,     3.7800,-999.0000, -999.00
32OC19880723,       A16N,      87,          1,         22,         22,2,19880816,       0641,    20.0067,   -29.0150,       4794,  2297.1,  34.9765,2,  34.9770,2,    238.0,2,   237.7,2,   27.40,2,   21.40,2,    0.00,2,    1.39,2,-999.000,9,-999.000,9,-999.000,9,-999.0000,9, -999.00,9,-999.000,9,-999.000,   9.000,     3.3580,-999.0000, -999.00
32OC19880723,       A16N,      87,          1,         23,         23,2,19880816,       0641,    20.0067,   -29.0150,       4794,  2649.8,  34.9636,2,  34.9640,2,    240.3,2,   240.3,2,   31.90,2,   21.30,2,    0.00,2,    1.39,2,-999.000,9,-999.000,9,-999.000,9,-999.0000,9, -999.00,9,-999.000,9,-999.000,-999.000,     3.0620,-999.0000, -999.00
32OC19880723,       A16N,      87,          1,         24,         24,2,19880816,       0641,    20.0067,   -29.0150,       4794,  3003.9,  34.9349,2,  34.9360,2,    241.4,2,   241.6,2,   37.00,2,   21.40,2,    0.00,2,    1.39,2,   0.019,2,  -0.001,2,-999.000,9,-999.0000,9, -999.00,9,-999.000,9,-999.000,   9.000,     2.7260,-999.0000, -999.00
32OC19880723,       A16N,      87,          1,          1,          1,2,19880816,       0641,    20.0067,   -29.0150,       4794,  3357.5,  34.9173,2,  34.9170,2,    244.6,2,   244.6,2,   40.40,2,   21.80,2,    0.01,2,    1.43,2,-999.000,9,-999.000,9,-999.000,9,-999.0000,9, -999.00,9,-999.000,9,-999.000,-999.000,     2.5470,-999.0000, -999.00
32OC19880723,       A16N,      87,          1,          2,          2,2,19880816,       0641,    20.0067,   -29.0150,       4794,  3710.7,  34.9030,2,  34.9020,2,    245.5,2,   245.5,2,   43.00,2,   21.80,2,    0.01,2,    1.46,2,   0.018,2,   0.002,7,-999.000,9,-999.0000,9, -999.00,9,-999.000,9,-999.000,   9.000,     2.4310,-999.0000, -999.00
32OC19880723,       A16N,      87,          1,          3,          3,2,19880816,       0641,    20.0067,   -29.0150,       4794,  4065.4,  34.8932,2,  34.8930,2,    245.1,2,   245.5,2,   45.60,2,   22.20,2,    0.01,2,    1.47,2,-999.000,9,-999.000,9,-999.000,9,-999.0000,9, -999.00,9,-999.000,9,-999.000,-999.000,     2.3670,-999.0000, -999.00
32OC19880723,       A16N,      87,          1,          4,          4,2,19880816,       0641,    20.0067,   -29.0150,       4794,  4421.5,  34.8877,2,  34.8870,2,    244.6,2,   244.6,2,   46.70,2,   22.30,2,    0.01,2,    1.49,2,   0.190,4,   0.006,7,-999.000,9,-999.0000,9, -999.00,9,-999.000,9,-999.000,   9.000,     2.3670,-999.0000, -999.00
32OC19880723,       A16N,      87,          1,          5,          5,2,19880816,       0641,    20.0067,   -29.0150,       4794,  4677.3,  34.8859,2,  34.8860,2,    245.1,2,   244.6,2,   47.20,2,   22.30,2,    0.01,2,    1.48,2,-999.000,9,-999.000,9,-999.000,9,-999.0000,9, -999.00,9,-999.000,9,-999.000,-999.000,     2.3850,-999.0000, -999.00
32OC19880723,       A16N,      87,          1,          6,          6,2,19880816,       0641,    20.0067,   -29.0150,       4794,  4869.9,  34.8864,2,  34.8850,2,    244.6,2,   244.6,2,   47.20,2,   22.20,2,    0.00,2,    1.49,2,  -0.021,3,   0.002,7,-999.000,9,-999.0000,9, -999.00,9,-999.000,9,-999.000,   9.000,     2.4070,-999.0000, -999.00
32OC19880723,       A16N,      87,          1,         99,     -999.0,9,19880816,       0641,    20.0067,   -29.0150,       4794,  4871.2,  34.8863,2,-999.0000,9,    244.6,2,  -999.0,9, -999.00,9, -999.00,9, -999.00,9, -999.00,9,-999.000,9,-999.000,9,-999.000,9,-999.0000,9, -999.00,9,-999.000,9,-999.000,-999.000,     2.4080,-999.0000, -999.00
32OC19880723,       A16N,      88,          1,          7,          7,2,19880816,       1230,    19.2567,   -29.0033,       4517,    13.6,  36.6131,2,  36.5990,2,    206.2,2,   208.8,2,    0.00,2,    0.10,2,    0.00,2,    0.01,2,-999.000,9,-999.000,9,-999.000,9,-999.0000,9, -999.00,9,-999.000,9,-999.000,   9.000,    25.1030,-999.0000, -999.00
32OC19880723,       A16N,      88,          1,          8,          8,2,19880816,       1230,    19.2567,   -29.0033,       4517,    39.0,  36.6893,2,  36.6010,2,    201.3,2,   207.9,2,    0.00,2,    0.20,2,    0.00,2,    0.03,2,-999.000,9,-999.000,9,-999.000,9,-999.0000,9, -999.00,9,-999.000,9,-999.000,-999.000,    25.0610,-999.0000, -999.00
32OC19880723,       A16N,      88,          1,          9,          9,2,19880816,       1230,    19.2567,   -29.0033,       4517,    68.3,  36.8377,2,  36.8580,2,    225.3,2,   221.7,2,    0.00,2,    0.40,2,    0.01,2,    0.05,2,-999.000,9,-999.000,9,-999.000,9,-999.0000,9, -999.00,9,-999.000,9,-999.000,   9.000,    22.4900,-999.0000, -999.00
32OC19880723,       A16N,      88,          1,         10,         10,2,19880816,       1230,    19.2567,   -29.0033,       4517,   107.1,  36.8641,2,  36.8810,2,    185.7,2,   192.0,2,    0.60,2,    2.70,2,    0.05,2,    0.18,2,-999.000,9,-999.000,9,-999.000,9,-999.0000,9, -999.00,9,-999.000,9,-999.000,-999.000,    20.8200,-999.0000, -999.00
32OC19880723,       A16N,      88,          1,         11,         11,2,19880816,       1230,    19.2567,   -29.0033,       4517,   155.1,  36.4133,2,  36.4920,2,    135.9,2,   140.5,2,    2.60,2,   11.40,2,    0.02,2,    0.65,2,-999.000,9,-999.000,9,-999.000,9,-999.0000,9, -999.00,9,-999.000,9,-999.000,   9.000,    17.8910,-999.0000, -999.00
32OC19880723,       A16N,      88,          1,         12,         12,2,19880816,       1230,    19.2567,   -29.0033,       4517,   201.3,  36.2645,2,  36.2210,2,    136.0,2,   130.1,2,    3.90,2,   14.60,2,    0.02,2,    0.81,2,-999.000,9,-999.000,9,-999.000,9,-999.0000,9, -999.00,9,-999.000,9,-999.000,-999.000,    16.3950,-999.0000, -999.00
32OC19880723,       A16N,      88,          1,         13,         13,2,19880816,       1230,    19.2567,   -29.0033,       4517,   294.0,  35.8587,2,  35.8100,2,    112.8,2,   102.2,2,    6.80,2,   21.00,2,    0.00,2,    1.23,2,-999.000,9,-999.000,9,-999.000,9,-999.0000,9, -999.00,9,-999.000,9,-999.000,   9.000,    13.9290,-999.0000, -999.00
32OC19880723,       A16N,      88,          1,         14,         14,2,19880816,       1230,    19.2567,   -29.0033,       4517,   384.3,  35.7236,2,  35.6790,2,    130.4,2,   120.0,2,    7.60,2,   21.50,2,    0.00,2,    1.21,2,-999.000,9,-999.000,9,-999.000,9,-999.0000,9, -999.00,9,-999.000,9,-999.000,-999.000,    12.7660,-999.0000, -999.00
32OC19880723,       A16N,      88,          1,         15,         15,2,19880816,       1230,    19.2567,   -29.0033,       4517,   563.0,  35.4162,2,  35.3800,2,    117.7,2,   117.4,2,   12.30,2,   25.70,2,    0.00,2,    1.57,2,-999.000,9,-999.000,9,-999.000,9,-999.0000,9, -999.00,9,-999.000,9,-999.000,   9.000,    10.3550,-999.0000, -999.00
32OC19880723,       A16N,      88,          1,         16,         16,2,19880816,       1230,    19.2567,   -29.0033,       4517,   751.3,  35.0441,2,  35.0450,2,    117.3,2,   116.1,2,   19.20,2,   30.10,2,    0.00,2,    1.93,2,-999.000,9,-999.000,9,-999.000,9,-999.0000,9, -999.00,9,-999.000,9,-999.000,-999.000,     7.7480,-999.0000, -999.00
32OC19880723,       A16N,      88,          1,         17,         17,2,19880816,       1230,    19.2567,   -29.0033,       4517,   944.2,  34.9584,2,  34.9640,2,    132.6,2,   135.6,2,   22.00,2,   29.80,2,    0.00,2,    1.96,2,-999.000,9,-999.000,9,-999.000,9,-999.0000,9, -999.00,9,-999.000,9,-999.000,   9.000,     6.4360,-999.0000, -999.00
32OC19880723,       A16N,      88,          1,         18,         18,2,19880816,       1230,    19.2567,   -29.0033,       4517,  1137.3,  35.0166,2,  35.0190,2,    156.1,2,   159.5,2,   21.70,2,   27.50,2,    0.00,2,    1.81,2,-999.000,9,-999.000,9,-999.000,9,-999.0000,9, -999.00,9,-999.000,9,-999.000,-999.000,     5.7760,-999.0000, -999.00
32OC19880723,       A16N,      88,          1,         19,         19,2,19880816,       1230,    19.2567,   -29.0033,       4517,  1332.3,  35.0628,2,  35.0610,2,    184.6,2,   184.2,2,   20.90,2,   25.00,2,    0.00,2,    1.67,2,-999.000,9,-999.000,9,-999.000,9,-999.0000,9, -999.00,9,-999.000,9,-999.000,   9.000,     5.3060,-999.0000, -999.00
32OC19880723,       A16N,      88,          1,         20,         20,2,19880816,       1230,    19.2567,   -29.0033,       4517,  1529.9,  35.0358,2,  35.0390,2,    207.3,2,   205.5,2,   21.40,2,   23.40,2,    0.00,2,    1.57,2,-999.000,9,-999.000,9,-999.000,9,-999.0000,9, -999.00,9,-999.000,9,-999.000,-999.000,     4.5950,-999.0000, -999.00
32OC19880723,       A16N,      88,          1,         21,         21,2,19880816,       1230,    19.2567,   -29.0033,       4517,  1730.7,  35.0194,2,  35.0150,2,    221.3,2,   223.3,2,   22.50,2,   22.00,2,    0.00,2,    1.48,2,-999.000,9,-999.000,9,-999.000,9,-999.0000,9, -999.00,9,-999.000,9,-999.000,   9.000,     4.0510,-999.0000, -999.00
32OC19880723,       A16N,      88,          1,         22,         22,2,19880816,       1230,    19.2567,   -29.0033,       4517,  1985.0,  34.9909,2,  34.9960,2,    233.8,2,   232.9,2,   24.20,2,   21.60,2,    0.00,2,    1.43,2,-999.000,9,-999.000,9,-999.000,9,-999.0000,9, -999.00,9,-999.000,9,-999.000,-999.000,     3.6660,-999.0000, -999.00
32OC19880723,       A16N,      88,          1,         23,         23,2,19880816,       1230,    19.2567,   -29.0033,       4517,  2227.1,  34.9715,2,  34.9730,2,    237.2,2,   238.5,2,   28.70,3,   21.20,2,    0.00,2,    1.41,2,-999.000,9,-999.000,9,-999.000,9,-999.0000,9, -999.00,9,-999.000,9,-999.000,   9.000,     3.3340,-999.0000, -999.00
32OC19880723,       A16N,      88,          1,         24,         24,2,19880816,       1230,    19.2567,   -29.0033,       4517,  2578.2,  34.9498,2,  34.9500,2,    243.8,2,   242.9,2,   31.10,2,   21.20,2,    0.00,2, -999.00,9,-999.000,9,-999.000,9,-999.000,9,-999.0000,9, -999.00,9,-999.000,9,-999.000,-999.000,     3.0100,-999.0000, -999.00
32OC19880723,       A16N,      88,          1,          1,          1,2,19880816,       1230,    19.2567,   -29.0033,       4517,  2931.6,  34.9355,2,  34.9360,2,    245.1,2,   244.2,2,   35.60,2,   21.40,2,    0.00,2, -999.00,9,-999.000,9,-999.000,9,-999.000,9,-999.0000,9, -999.00,9,-999.000,9,-999.000,   9.000,     2.7630,-999.0000, -999.00
32OC19880723,       A16N,      88,          1,          2,          2,2,19880816,       1230,    19.2567,   -29.0033,       4517,  3287.8,  34.9200,2,  34.9200,2,    243.3,2,   242.9,2,   40.60,2,   21.70,2,    0.01,2, -999.00,9,-999.000,9,-999.000,9,-999.000,9,-999.0000,9, -999.00,9,-999.000,9,-999.000,-999.000,     2.5590,-999.0000, -999.00
32OC19880723,       A16N,      88,          1,          3,          3,2,19880816,       1230,    19.2567,   -29.0033,       4517,  3648.3,  34.9029,2,  34.9030,2,    244.6,2,   244.6,2,   43.30,2,   22.10,2,    0.01,2, -999.00,9,-999.000,9,-999.000,9,-999.000,9,-999.0000,9, -999.00,9,-999.000,9,-999.000,   9.000,     2.4140,-999.0000, -999.00
32OC19880723,       A16N,      88,          1,          4,          4,2,19880816,       1230,    19.2567,   -29.0033,       4517,  4009.9,  34.8928,2,  34.8920,2,    244.2,2,   244.2,2,   46.10,2,   22.10,2,    0.01,2, -999.00,9,-999.000,9,-999.000,9,-999.000,9,-999.0000,9, -999.00,9,-999.000,9,-999.000,-999.000,     2.3510,-999.0000, -999.00
32OC19880723,       A16N,      88,          1,          5,          5,2,19880816,       1230,    19.2567,   -29.0033,       4517,  4374.5,  34.8874,2,  34.8890,2,    244.2,2,   244.2,2,   46.90,2,   22.30,2,    0.01,2, -999.00,9,-999.000,9,-999.000,9,-999.000,9,-999.0000,9, -999.00,9,-999.000,9,-999.000,   9.000,     2.3600,-999.0000, -999.00
32OC19880723,       A16N,      88,          1,          6,          6,2,19880816,       1230,    19.2567,   -29.0033,       4517,  4596.7,  34.8862,2,  34.8860,2,    242.8,2,   243.3,2,   47.60,2,   22.50,2,    0.01,2, -999.00,9,-999.000,9,-999.000,9,-999.000,9,-999.0000,9, -999.00,9,-999.000,9,-999.000,-999.000,     2.3760,-999.0000, -999.00
32OC19880723,       A16N,      88,          1,         99,     -999.0,9,19880816,       1230,    19.2567,   -29.0033,       4517,  4597.4,  34.8862,2,-999.0000,9,    242.7,2,  -999.0,9, -999.00,9, -999.00,9, -999.00,9, -999.00,9,-999.000,9,-999.000,9,-999.000,9,-999.0000,9, -999.00,9,-999.000,9,-999.000,   9.000,     2.3760,-999.0000, -999.00