BOTTLE,20220922CCHSIOAMB
EXPOCODE,SECT_ID,STNNBR,CASTNO,SAMPNO,BTLNBR,BTLNBR_FLAG_W,DATE,TIME,LATITUDE,LONGITUDE,DEPTH,CTDPRS,CTDSAL,CTDSAL_FLAG_W,SALNTY,SALNTY_FLAG_W,CTDOXY,CTDOXY_FLAG_W,OXYGEN,OXYGEN_FLAG_W,SILCAT,SILCAT_FLAG_W,NITRAT,NITRAT_FLAG_W,NITRIT,NITRIT_FLAG_W,PHSPHT,PHSPHT_FLAG_W,CFC-11,CFC-11_FLAG_W,CFC-12,CFC-12_FLAG_W,TRITUM,TRITUM_FLAG_W,HELIUM,HELIUM_FLAG_W,DELHE3,DELHE3_FLAG_W,NEON,NEON_FLAG_W,NEONER,TRITER,CTDTMP,HELIER,DELHER
,,,,,,,,,,,METERS,DBAR,PSS-78,,PSS-78,,UMOL/KG,,UMOL/KG,,UMOL/KG,,UMOL/KG,,UMOL/KG,,UMOL/KG,,PMOL/KG,,PMOL/KG,,TU,,NMOL/KG,,PERCNT,,NMOL/KG,,NMOL/KG,TU,IPTS-68,NMOL/KG,PERCNT
32OC19880723,       A16N,      28,          1,          1,          1,2,19880728,       2136,    51.4867,   -20.0150,       3638,     4.1,  35.5137,2,  35.5060,2,    265.2,2,   262.7,2,    0.00,2,    2.30,2,    0.16,2,    0.29,2,-999.000,9,-999.000,9,-999.000,9,-999.0000,9, -999.00,9,-999.000,9,-999.000,   9.000,    13.6350,-999.0000, -999.00
32OC19880723,       A16N,      28,          1,          2,          2,2,19880728,       2136,    51.4867,   -20.0150,       3638,    36.4,  35.5076,2,  35.5040,2,    263.6,2,   260.6,2,    0.00,2,    2.70,2,    0.17,2,    0.31,2,-999.000,9,-999.000,9,-999.000,9,-999.0000,9, -999.00,9,-999.000,9,-999.000,-999.000,    13.5380,-999.0000, -999.00
32OC19880723,       A16N,      28,          1,          3,          3,2,19880728,       2136,    51.4867,   -20.0150,       3638,    66.6,  35.5998,2,  35.5790,2,    248.9,2,   251.4,2,    1.10,2,    6.90,2,    0.40,2,    0.46,2,-999.000,9,-999.000,9,-999.000,9,-999.0000,9, -999.00,9,-999.000,9,-999.000,   9.000,    12.5120,-999.0000, -999.00
32OC19880723,       A16N,      28,          1,          4,          4,2,19880728,       2136,    51.4867,   -20.0150,       3638,   106.6,  35.5837,2,  35.5990,2,    243.6,2,   243.1,2,    3.70,2, -999.00,9,    0.04,2,    0.63,2,-999.000,9,-999.000,9,-999.000,9,-999.0000,9, -999.00,9,-999.000,9,-999.000,-999.000,    11.9650,-999.0000, -999.00
32OC19880723,       A16N,      28,          1,          5,          5,2,19880728,       2136,    51.4867,   -20.0150,       3638,   157.1,  35.5368,2,  35.5220,2,    245.9,2,   239.6,2,    4.60,2,   12.00,2,    0.01,2,    0.67,2,-999.000,9,-999.000,9,-999.000,9,-999.0000,9, -999.00,9,-999.000,9,-999.000,   9.000,    11.3610,-999.0000, -999.00
32OC19880723,       A16N,      28,          1,          6,          6,2,19880728,       2136,    51.4867,   -20.0150,       3638,   206.8,  35.4826,2,  35.4670,2,    246.6,2,   245.2,2,    4.60,2,   12.10,2,    0.03,2,    0.72,2,-999.000,9,-999.000,9,-999.000,9,-999.0000,9, -999.00,9,-999.000,9,-999.000,-999.000,    10.9560,-999.0000, -999.00
32OC19880723,       A16N,      28,          1,          7,          7,2,19880728,       2136,    51.4867,   -20.0150,       3638,   305.1,  35.3948,2,  35.3820,2,    245.8,2,   246.9,2,    5.10,2,   12.70,2,    0.02,2,    0.77,2,-999.000,9,-999.000,9,-999.000,9,-999.0000,9, -999.00,9,-999.000,9,-999.000,   9.000,    10.3770,-999.0000, -999.00
32OC19880723,       A16N,      28,          1,          8,          8,2,19880728,       2136,    51.4867,   -20.0150,       3638,   405.4,  35.3146,2,  35.3250,2,    248.9,2,   249.1,2,    5.40,2, -999.00,9,    0.01,2,    0.79,2,-999.000,9,-999.000,9,-999.000,9,-999.0000,9, -999.00,9,-999.000,9,-999.000,-999.000,     9.9380,-999.0000, -999.00
32OC19880723,       A16N,      28,          1,          9,          9,2,19880728,       2136,    51.4867,   -20.0150,       3638,   504.6,  35.2436,2,  35.2300,2,    242.8,2,   241.7,2,    6.70,2,   14.40,2,    0.02,2,    0.90,2,-999.000,9,-999.000,9,-999.000,9,-999.0000,9, -999.00,9,-999.000,9,-999.000,   9.000,     9.2820,-999.0000, -999.00
32OC19880723,       A16N,      28,          1,         10,         10,2,19880728,       2136,    51.4867,   -20.0150,       3638,   598.7,  35.1469,2,  35.1440,2,    234.6,2,   217.4,3,    8.80,2,   16.80,2,    0.02,2,    1.10,2,-999.000,9,-999.000,9,-999.000,9,-999.0000,9, -999.00,9,-999.000,9,-999.000,-999.000,     8.4910,-999.0000, -999.00
32OC19880723,       A16N,      28,          1,         11,         11,2,19880728,       2136,    51.4867,   -20.0150,       3638,   692.9,  35.1575,2,  35.1770,2,    205.7,2,   202.1,2,   10.10,2,   18.20,2,    0.02,2,    1.14,2,-999.000,9,-999.000,9,-999.000,9,-999.0000,9, -999.00,9,-999.000,9,-999.000,   9.000,     8.0540,-999.0000, -999.00
32OC19880723,       A16N,      28,          1,         12,         12,2,19880728,       2136,    51.4867,   -20.0150,       3638,   788.3,  35.2001,2,  35.0620,4,    206.8,2,   210.4,2,   10.90,2,   18.40,2,    0.02,2,    1.17,2,   1.621,2,   0.835,2,-999.000,9,-999.0000,9, -999.00,9,-999.000,9,-999.000,-999.000,     6.7220,-999.0000, -999.00
32OC19880723,       A16N,      28,          1,         13,         13,2,19880728,       2136,    51.4867,   -20.0150,       3638,   884.8,  35.2030,2,  35.2110,2,    211.9,2,   212.5,2,   10.90,2,   18.30,2,    0.01,2,    1.12,2,-999.000,9,-999.000,9,-999.000,9,-999.0000,9, -999.00,9,-999.000,9,-999.000,   9.000,     6.8000,-999.0000, -999.00
32OC19880723,       A16N,      28,          1,         14,         14,2,19880728,       2136,    51.4867,   -20.0150,       3638,   984.4,  35.1678,2,  35.1240,2,    222.7,2,   225.5,2,   11.10,2,   18.00,2,    0.01,2,    1.13,2,   1.327,2,   0.570,2,-999.000,9,-999.0000,9, -999.00,9,-999.000,9,-999.000,-999.000,     5.9650,-999.0000, -999.00
32OC19880723,       A16N,      28,          1,         15,         15,2,19880728,       2136,    51.4867,   -20.0150,       3638,   984.4,  35.1678,2,  35.1210,2,    222.7,2,   225.1,2,   11.10,2,   18.00,2,    0.01,2,    1.16,2,-999.000,9,-999.000,9,-999.000,9,-999.0000,9, -999.00,9,-999.000,9,-999.000,   9.000,     5.9650,-999.0000, -999.00
32OC19880723,       A16N,      28,          1,         16,         16,2,19880728,       2136,    51.4867,   -20.0150,       3638,  1389.3,  34.9182,2,  34.9190,2,    266.4,2,   269.0,2,   10.40,2, -999.00,9,    0.01,2,    1.07,2,-999.000,9,-999.000,9,-999.000,9,-999.0000,9, -999.00,9,-999.000,9,-999.000,-999.000,     3.9960,-999.0000, -999.00
32OC19880723,       A16N,      28,          1,         17,         17,2,19880728,       2136,    51.4867,   -20.0150,       3638,  1695.1,  34.8961,2,  34.9020,2,    278.5,2,   277.2,2,   10.40,2, -999.00,9,    0.01,2,    1.07,2,-999.000,9,-999.000,9,-999.000,9,-999.0000,9, -999.00,9,-999.000,9,-999.000,   9.000,     3.6660,-999.0000, -999.00
32OC19880723,       A16N,      28,          1,         18,         18,2,19880728,       2136,    51.4867,   -20.0150,       3638,  1695.1,  34.8961,2,  34.9030,2,    278.5,2,   276.8,2,   10.20,2,   17.70,2,    0.07,2,    1.08,2,   1.527,2,   0.787,2,-999.000,9,-999.0000,9, -999.00,9,-999.000,9,-999.000,-999.000,     3.6660,-999.0000, -999.00
32OC19880723,       A16N,      28,          1,         19,         19,2,19880728,       2136,    51.4867,   -20.0150,       3638,  1996.4,  34.9119,2,  34.9120,2,    277.7,2,   278.1,2,   11.00,2,   17.80,2,    0.07,2,    1.09,2,-999.000,9,-999.000,9,-999.000,9,-999.0000,9, -999.00,9,-999.000,9,-999.000,   9.000,     3.5320,-999.0000, -999.00
32OC19880723,       A16N,      28,          1,         20,         20,2,19880728,       2136,    51.4867,   -20.0150,       3638,  2301.0,  34.9413,2,  34.9420,2,    273.7,2,   271.6,2,   13.00,2,   17.50,2,    0.08,2,    1.07,2,   0.615,2,   0.339,2,-999.000,9,-999.0000,9, -999.00,9,-999.000,9,-999.000,-999.000,     3.4480,-999.0000, -999.00
32OC19880723,       A16N,      28,          1,         21,         21,2,19880728,       2136,    51.4867,   -20.0150,       3638,  2913.3,  34.9499,2,  34.9500,2,    260.3,2,   259.8,2,   24.50,2,   19.10,2,    0.08,2,    1.19,2,-999.000,9,-999.000,9,-999.000,9,-999.0000,9, -999.00,9,-999.000,9,-999.000,   9.000,     2.9340,-999.0000, -999.00
32OC19880723,       A16N,      28,          1,         22,         22,2,19880728,       2136,    51.4867,   -20.0150,       3638,  3216.9,  34.9409,2,  34.9410,2,    255.3,2,   254.6,2,   30.00,2,   19.70,2,    0.08,2,    1.28,2,   0.439,4,   0.148,4,-999.000,9,-999.0000,9, -999.00,9,-999.000,9,-999.000,-999.000,     2.7430,-999.0000, -999.00
32OC19880723,       A16N,      28,          1,         23,         23,2,19880728,       2136,    51.4867,   -20.0150,       3638,  3216.9,  34.9409,2,  34.9400,2,    255.3,2,   254.6,2,   30.10,2,   19.70,2,    0.08,2,    1.26,2,-999.000,9,-999.000,9,-999.000,9,-999.0000,9, -999.00,9,-999.000,9,-999.000,   9.000,     2.7430,-999.0000, -999.00
32OC19880723,       A16N,      28,          1,         24,         24,2,19880728,       2136,    51.4867,   -20.0150,       3638,  3692.2,  34.9105,2,  34.9090,2,    237.7,2,   238.5,2,   44.10,2,   22.00,2,    0.08,2,    1.44,2,   0.095,2,   0.044,2,-999.000,9,-999.0000,9, -999.00,9,-999.000,9,-999.000,-999.000,     2.4990,-999.0000, -999.00
32OC19880723,       A16N,      28,          1,         99,     -999.0,9,19880728,       2136,    51.4867,   -20.0150,       3638,  3693.6,  34.9104,2,-999.0000,9,    237.7,2,  -999.0,9, -999.00,9, -999.00,9, -999.00,9, -999.00,9,-999.000,9,-999.000,9,-999.000,9,-999.0000,9, -999.00,9,-999.000,9,-999.000,   9.000,     2.4990,-999.0000, -999.00
32OC19880723,       A16N,      29,          1,          1,          1,2,19880729,       0224,    50.9817,   -19.9983,       3633,    10.7,  35.5528,2,  35.5520,2,    258.9,2,   258.8,2,    0.20,2,    2.10,2,    0.13,2,    0.20,2,   3.139,2,   1.499,2,   2.816,2,   1.7573,2,   -0.69,2,   7.339,2,   0.055,   0.055,    13.9360,   0.0123,    0.18
32OC19880723,       A16N,      29,          1,          2,          2,2,19880729,       0224,    50.9817,   -19.9983,       3633,    10.7,  35.5528,2,  35.5530,2,    258.9,2,   258.8,2,    0.00,2,    2.00,2,    0.13,2,    0.21,2,   2.968,2,   1.436,2,   2.722,2,   1.7825,2,   -0.99,2,   7.372,2,   0.055,   0.052,    13.9360,   0.0125,    0.18
32OC19880723,       A16N,      29,          1,          3,          3,2,19880729,       0224,    50.9817,   -19.9983,       3633,    66.2,  35.5420,2,  35.5420,2,    251.3,2,   253.6,2,    0.40,2,    3.40,2,    0.30,2,    0.26,2,   3.168,2,   1.452,2,   2.718,2,   1.7742,2,   -0.71,2,   7.374,2,   0.055,   0.055,    13.2230,   0.0124,    0.18
32OC19880723,       A16N,      29,          1,          4,          4,2,19880729,       0224,    50.9817,   -19.9983,       3633,   106.0,  35.5229,2,  35.5020,2,    246.6,2,   250.9,2,    2.90,2,    9.40,2,    0.04,2,    0.53,2,   3.228,2,   1.492,2,   2.667,2,   1.7143,2,   -1.25,2,   7.454,2,   0.056,   0.053,    11.5970,   0.0120,    0.18
32OC19880723,       A16N,      29,          1,          5,          5,2,19880729,       0224,    50.9817,   -19.9983,       3633,   106.0,  35.5229,2,  35.5010,2,    246.6,2,   251.3,2,    2.90,2,    9.40,2,    0.03,2,    0.51,2,   3.359,2,   1.631,2,   2.725,2,   1.7101,2,   -0.78,2,   7.452,2,   0.056,   0.055,    11.5970,   0.0120,    0.18
32OC19880723,       A16N,      29,          1,          6,          6,2,19880729,       0224,    50.9817,   -19.9983,       3633,   305.8,  35.3825,2,  35.3770,2,    248.9,2,   247.4,2,    5.20,2,   12.40,2,    0.01,2,    0.69,2,   2.943,2,   1.370,2,   2.757,2,   2.0413,4,   -1.58,2,   8.627,4,   0.065,   0.055,    10.2290,   0.0143,    0.18
32OC19880723,       A16N,      29,          1,          7,          7,2,19880729,       0224,    50.9817,   -19.9983,       3633,   406.1,  35.3484,2,  35.3370,2,    250.0,2,   250.0,2,    5.30,2,   12.70,2,    0.01,2,    0.75,2,   2.940,2,   1.363,2,   2.758,2,   1.7565,2,    0.82,2,   7.615,2,   0.057,   0.053,     9.8440,   0.0123,    0.18
32OC19880723,       A16N,      29,          1,          8,          8,2,19880729,       0224,    50.9817,   -19.9983,       3633,   406.1,  35.3484,2,  35.3370,2,    250.0,2,   250.0,2,    5.30,2,   12.60,2,    0.01,2,    0.72,2,   2.964,2,   1.410,2,   2.759,2,   1.7825,2,    0.74,2,   7.585,2,   0.057,   0.054,     9.8440,   0.0125,    0.18
32OC19880723,       A16N,      29,          1,          9,          9,2,19880729,       0224,    50.9817,   -19.9983,       3633,   707.4,  35.0457,2,  35.0520,2,    212.9,2,   209.9,2,   10.80,2,   18.80,2,    0.01,2,    1.16,2,   1.739,2,   0.915,2,-999.000,9,-999.0000,9, -999.00,9,-999.000,9,-999.000,-999.000,     7.0530,-999.0000, -999.00
32OC19880723,       A16N,      29,          1,         10,         10,2,19880729,       0224,    50.9817,   -19.9983,       3633,   707.4,  35.0457,2,  35.0500,2,    212.9,2,   210.8,2,   10.80,2,   18.80,2,    0.01,2,    1.16,2,   1.768,4,   0.735,4,   2.127,2,   1.8626,2,    5.64,2,   7.857,2,   0.059,   0.048,     7.0530,   0.0130,    0.18
32OC19880723,       A16N,      29,          1,         11,         11,2,19880729,       0224,    50.9817,   -19.9983,       3633,  1108.0,  35.0638,2,  35.0500,2,    240.3,2,   242.0,2,   11.00,2,   18.20,2,    0.01,2,    1.10,2,-999.000,9,-999.000,9,-999.000,9,-999.0000,9, -999.00,9,-999.000,9,-999.000,   9.000,     5.1420,-999.0000, -999.00
32OC19880723,       A16N,      29,          1,         12,         12,2,19880729,       0224,    50.9817,   -19.9983,       3633,  1108.0,  35.0638,2,  35.0500,2,    240.3,2,   242.9,2,   11.20,2,   18.20,2,    0.01,2,    1.10,2,   1.437,2,   0.667,2,-999.000,9,-999.0000,9, -999.00,9,-999.000,9,-999.000,-999.000,     5.1420,-999.0000, -999.00
32OC19880723,       A16N,      29,          1,         13,         13,2,19880729,       0224,    50.9817,   -19.9983,       3633,  1509.4,  34.9232,2,  34.9220,2,    269.9,2,   272.0,2,   10.70,2,   17.40,2,    0.01,2,    1.08,2,   1.391,2,   0.668,2,-999.000,9,-999.0000,9, -999.00,9,-999.000,9,-999.000,   9.000,     3.8770,-999.0000, -999.00
32OC19880723,       A16N,      29,          1,         14,         14,2,19880729,       0224,    50.9817,   -19.9983,       3633,  1711.3,  34.9201,2,  34.9240,2,    272.9,2,   271.6,2,   10.70,2,   17.30,2,    0.01,2,    1.04,2,   1.396,2,   0.593,2,   1.825,2,   1.8355,2,    8.56,2,   7.969,2,   0.060,   0.046,     3.7000,   0.0128,    0.18
32OC19880723,       A16N,      29,          1,         15,         15,2,19880729,       0224,    50.9817,   -19.9983,       3633,  1911.5,  34.9312,2,  34.9210,2,    273.0,2,   274.6,2,   11.20,2,   17.30,2,    0.01,2,    1.07,2,-999.000,9,-999.000,9,-999.000,9,-999.0000,9, -999.00,9,-999.000,9,-999.000,-999.000,     3.5910,-999.0000, -999.00
32OC19880723,       A16N,      29,          1,         16,         16,2,19880729,       0224,    50.9817,   -19.9983,       3633,  2113.3,  34.9391,2,  34.9370,2,    273.2,2,   272.4,2,   12.60,2,   17.00,2,    0.01,2,    1.06,2,   0.690,2,   0.300,2,-999.000,9,-999.0000,9, -999.00,9,-999.000,9,-999.000,   9.000,     3.4850,-999.0000, -999.00
32OC19880723,       A16N,      29,          1,         17,         17,2,19880729,       0224,    50.9817,   -19.9983,       3633,  2314.0,  34.9474,2,  34.9490,2,    271.8,2,   269.8,2,   15.10,2,   17.20,2,    0.01,2,    1.06,2,   0.493,2,   0.225,2,   0.801,2,   1.8384,2,    5.59,2,   8.039,2,   0.060,   0.035,     3.3540,   0.0129,    0.18
32OC19880723,       A16N,      29,          1,         98,     -999.0,9,19880729,       0224,    50.9817,   -19.9983,       3633,  2516.3,  34.9516,2,-999.0000,9,    268.7,2,  -999.0,9, -999.00,9, -999.00,9, -999.00,9, -999.00,9,-999.000,9,-999.000,9,-999.000,9,-999.0000,9, -999.00,9,-999.000,9,-999.000,-999.000,     3.1970,-999.0000, -999.00
32OC19880723,       A16N,      29,          1,         19,         19,2,19880729,       0224,    50.9817,   -19.9983,       3633,  2719.8,  34.9517,2,  34.9540,2,    263.7,2,   265.0,2,   19.40,2,   17.90,2,    0.01,2,    1.08,2,   0.150,4,   0.220,2,-999.000,9,-999.0000,9, -999.00,9,-999.000,9,-999.000,   9.000,     3.0280,-999.0000, -999.00
32OC19880723,       A16N,      29,          1,         18,         18,2,19880729,       0224,    50.9817,   -19.9983,       3633,  2719.8,  34.9517,2,  34.9550,2,    263.7,2,   264.6,2,   19.40,2,   17.90,2,    0.01,2,    1.09,2,-999.000,9,-999.000,9,-999.000,9,-999.0000,9, -999.00,9,-999.000,9,-999.000,-999.000,     3.0280,-999.0000, -999.00
32OC19880723,       A16N,      29,          1,         20,         20,2,19880729,       0224,    50.9817,   -19.9983,       3633,  2923.1,  34.9469,2,  34.9500,2,    259.7,2,   261.6,2,   24.50,2,   18.20,2,    0.00,2,    1.11,2,   0.451,2,   0.201,2,   0.628,2,   1.8518,2,    4.34,2,   8.073,2,   0.061,   0.031,     2.8770,   0.0130,    0.18
32OC19880723,       A16N,      29,          1,         22,         22,2,19880729,       0224,    50.9817,   -19.9983,       3633,  3127.1,  34.9372,2,  34.9410,2,    254.7,2,   255.9,2,   30.20,2,   19.20,2,    0.00,2,    1.19,2,   0.399,2,   0.155,2,   0.575,2,   1.8532,2,    4.04,2,   8.065,2,   0.060,   0.032,     2.7210,   0.0130,    0.18
32OC19880723,       A16N,      29,          1,         21,         21,2,19880729,       0224,    50.9817,   -19.9983,       3633,  3127.1,  34.9372,2,  34.9400,2,    254.7,2,   256.8,2,   30.20,2,   19.20,2,    0.00,2,    1.15,2,   0.464,2,   0.186,2,-999.000,9,-999.0000,9, -999.00,9,-999.000,9,-999.000,   9.000,     2.7210,-999.0000, -999.00
32OC19880723,       A16N,      29,          1,         23,         23,2,19880729,       0224,    50.9817,   -19.9983,       3633,  3330.2,  34.9230,2,  34.9220,2,    248.1,2,   246.3,2,   39.00,2,   20.80,2,    0.00,2,    1.33,2,   0.159,2,   0.064,2,-999.000,9,-999.0000,9, -999.00,9,-999.000,9,-999.000,-999.000,     2.5880,-999.0000, -999.00
32OC19880723,       A16N,      29,          1,         24,         24,2,19880729,       0224,    50.9817,   -19.9983,       3633,  3698.1,  34.9063,2,  34.9090,2,    241.6,2,   241.6,2,   44.30,2,   21.80,2,    0.00,2,    1.38,2,   0.155,2,   0.026,2,   0.015,2,   1.8907,2,    2.47,2,   8.179,2,   0.061,   0.026,     2.4630,   0.0132,    0.18
32OC19880723,       A16N,      29,          1,         99,     -999.0,9,19880729,       0224,    50.9817,   -19.9983,       3633,  3701.6,  34.9062,2,-999.0000,9,    241.7,2,  -999.0,9, -999.00,9, -999.00,9, -999.00,9, -999.00,9,-999.000,9,-999.000,9,-999.000,9,-999.0000,9, -999.00,9,-999.000,9,-999.000,   9.000,     2.4650,-999.0000, -999.00