BOTTLE,20220922CCHSIOAMB
EXPOCODE,SECT_ID,STNNBR,CASTNO,SAMPNO,BTLNBR,BTLNBR_FLAG_W,DATE,TIME,LATITUDE,LONGITUDE,DEPTH,CTDPRS,CTDSAL,CTDSAL_FLAG_W,SALNTY,SALNTY_FLAG_W,CTDOXY,CTDOXY_FLAG_W,OXYGEN,OXYGEN_FLAG_W,SILCAT,SILCAT_FLAG_W,NITRAT,NITRAT_FLAG_W,NITRIT,NITRIT_FLAG_W,PHSPHT,PHSPHT_FLAG_W,CFC-11,CFC-11_FLAG_W,CFC-12,CFC-12_FLAG_W,TRITUM,TRITUM_FLAG_W,HELIUM,HELIUM_FLAG_W,DELHE3,DELHE3_FLAG_W,NEON,NEON_FLAG_W,NEONER,TRITER,CTDTMP,HELIER,DELHER
,,,,,,,,,,,METERS,DBAR,PSS-78,,PSS-78,,UMOL/KG,,UMOL/KG,,UMOL/KG,,UMOL/KG,,UMOL/KG,,UMOL/KG,,PMOL/KG,,PMOL/KG,,TU,,NMOL/KG,,PERCNT,,NMOL/KG,,NMOL/KG,TU,IPTS-68,NMOL/KG,PERCNT
32OC19880723,       A16N,      22,          1,         10,         10,2,19880727,       1847,    54.4867,   -20.0133,       1380,     4.8,  35.3602,2,  35.3500,2,    267.6,2,   269.7,2,    0.00,2,    3.10,2,    0.08,2,    0.31,2,   3.239,2,   1.505,2,-999.000,9,-999.0000,9, -999.00,9,-999.000,9,-999.000,   9.000,    12.6530,-999.0000, -999.00
32OC19880723,       A16N,      22,          1,         11,         11,2,19880727,       1847,    54.4867,   -20.0133,       1380,     4.8,  35.3602,2,  35.3510,2,    267.6,2,   269.2,2,    0.00,2,    3.10,2,    0.09,2,    0.31,2,   3.236,2,   1.518,2,-999.000,9,-999.0000,9, -999.00,9,-999.000,9,-999.000,-999.000,    12.6530,-999.0000, -999.00
32OC19880723,       A16N,      22,          1,         12,         12,2,19880727,       1847,    54.4867,   -20.0133,       1380,    65.0,  35.3531,2,  35.3580,2,    260.0,2,   255.6,2,    3.30,2,   11.40,2,    0.01,2,    0.69,2,   3.221,2,   1.536,2,-999.000,9,-999.0000,9, -999.00,9,-999.000,9,-999.000,   9.000,    10.0930,-999.0000, -999.00
32OC19880723,       A16N,      22,          1,         13,         13,2,19880727,       1847,    54.4867,   -20.0133,       1380,   105.3,  35.3664,2,  35.3730,2,    258.1,2,   258.7,2,    4.10,2,   11.90,2,    0.01,2,    0.71,2,   3.262,2,   1.535,2,-999.000,9,-999.0000,9, -999.00,9,-999.000,9,-999.000,-999.000,     9.8390,-999.0000, -999.00
32OC19880723,       A16N,      22,          1,         14,         14,2,19880727,       1847,    54.4867,   -20.0133,       1380,   155.5,  35.3732,2,  35.3720,2,    259.1,2,   262.1,2,    4.20,2,   11.70,2,    0.01,2,    0.72,2,   3.237,2,   1.533,2,-999.000,9,-999.0000,9, -999.00,9,-999.000,9,-999.000,   9.000,     9.8250,-999.0000, -999.00
32OC19880723,       A16N,      22,          1,         15,         15,2,19880727,       1847,    54.4867,   -20.0133,       1380,   205.9,  35.3732,2,  35.3730,2,    263.5,2,   261.7,2,    4.20,2,   11.70,2,    0.02,2,    0.73,2,   3.300,2,   1.600,2,-999.000,9,-999.0000,9, -999.00,9,-999.000,9,-999.000,-999.000,     9.8250,-999.0000, -999.00
32OC19880723,       A16N,      22,          1,         16,         16,2,19880727,       1847,    54.4867,   -20.0133,       1380,   256.0,  35.3731,2,  35.3730,2,    264.5,2,   263.0,2,    4.20,2,   11.40,2,    0.02,2,    0.70,2,   3.193,2,   1.506,2,-999.000,9,-999.0000,9, -999.00,9,-999.000,9,-999.000,   9.000,     9.8260,-999.0000, -999.00
32OC19880723,       A16N,      22,          1,         17,         17,2,19880727,       1847,    54.4867,   -20.0133,       1380,   306.3,  35.3733,2,  35.3730,2,    263.2,2,   263.9,2,    4.20,2,   11.40,2,    0.00,2,    0.70,2,   3.151,2,   1.502,2,-999.000,9,-999.0000,9, -999.00,9,-999.000,9,-999.000,-999.000,     9.8250,-999.0000, -999.00
32OC19880723,       A16N,      22,          1,         18,         18,2,19880727,       1847,    54.4867,   -20.0133,       1380,   306.3,  35.3733,2,  35.3720,2,    263.2,2,   263.9,2,    4.40,2,   11.30,2,    0.00,2,    0.71,2,   3.218,2,   1.568,2,-999.000,9,-999.0000,9, -999.00,9,-999.000,9,-999.000,   9.000,     9.8250,-999.0000, -999.00
32OC19880723,       A16N,      22,          1,         19,         19,2,19880727,       1847,    54.4867,   -20.0133,       1380,   406.9,  35.3734,2,  35.3710,2,    264.3,2,   263.4,2,    4.40,2,   11.40,2,    0.00,2,    0.69,2,   3.325,2,   1.555,2,-999.000,9,-999.0000,9, -999.00,9,-999.000,9,-999.000,-999.000,     9.8190,-999.0000, -999.00
32OC19880723,       A16N,      22,          1,         20,         20,2,19880727,       1847,    54.4867,   -20.0133,       1380,  1061.9,  35.0434,2,  35.0420,2,    227.8,2,   227.3,2,   11.20,2,   18.80,2,    0.00,2,    1.15,2,   1.567,2,   0.697,2,-999.000,9,-999.0000,9, -999.00,9,-999.000,9,-999.000,   9.000,     5.7320,-999.0000, -999.00
32OC19880723,       A16N,      22,          1,         21,         21,2,19880727,       1847,    54.4867,   -20.0133,       1380,  1112.5,  35.0902,2,  35.0890,2,    230.1,2,   229.9,2,   11.00,2,   18.50,2,    0.00,2,    1.14,2,   1.429,2,   0.597,2,-999.000,9,-999.0000,9, -999.00,9,-999.000,9,-999.000,-999.000,     5.7950,-999.0000, -999.00
32OC19880723,       A16N,      22,          1,         23,         23,2,19880727,       1847,    54.4867,   -20.0133,       1380,  1213.6,  35.0391,2,  35.0380,2,    240.8,2,   242.0,2,   10.80,2,   18.40,2,    0.00,2,    1.12,2,   1.411,2,   0.600,2,-999.000,9,-999.0000,9, -999.00,9,-999.000,9,-999.000,   9.000,     5.1900,-999.0000, -999.00
32OC19880723,       A16N,      22,          1,         22,         22,2,19880727,       1847,    54.4867,   -20.0133,       1380,  1213.6,  35.0391,2,  35.0390,2,    240.8,2,   241.6,2,   10.80,2,   18.40,2,    0.00,2,    1.13,2,-999.000,9,-999.000,9,-999.000,9,-999.0000,9, -999.00,9,-999.000,9,-999.000,-999.000,     5.1900,-999.0000, -999.00
32OC19880723,       A16N,      22,          1,         24,         24,2,19880727,       1847,    54.4867,   -20.0133,       1380,  1315.0,  34.9823,2,  34.9820,2,    256.6,2,   256.8,2,   10.80,2,   17.80,2,    0.00,2,    1.08,2,   1.634,2,   0.710,2,-999.000,9,-999.0000,9, -999.00,9,-999.000,9,-999.000,   9.000,     4.4750,-999.0000, -999.00
32OC19880723,       A16N,      22,          1,         99,     -999.0,9,19880727,       1847,    54.4867,   -20.0133,       1380,  1397.8,  34.9625,2,-999.0000,9,    264.8,2,  -999.0,9, -999.00,9, -999.00,9, -999.00,9, -999.00,9,-999.000,9,-999.000,9,-999.000,9,-999.0000,9, -999.00,9,-999.000,9,-999.000,-999.000,     4.1860,-999.0000, -999.00
32OC19880723,       A16N,      23,          1,          6,          6,2,19880727,       2247,    53.9833,   -20.0133,       1443,     2.7,  35.4104,2,  35.4060,2,    265.2,2,   264.9,2,    0.00,2,    2.20,2,    0.07,2,    0.26,2,   3.173,2,   1.482,2,-999.000,9,-999.0000,9, -999.00,9,-999.000,9,-999.000,   9.000,    13.2580,-999.0000, -999.00
32OC19880723,       A16N,      23,          1,          7,          7,2,19880727,       2247,    53.9833,   -20.0133,       1443,    34.4,  35.4094,2,  35.4050,2,    263.1,2,   262.7,2,    0.00,2,    2.30,2,    0.08,2,    0.25,2,-999.000,9,-999.000,9,-999.000,9,-999.0000,9, -999.00,9,-999.000,9,-999.000,-999.000,    13.1850,-999.0000, -999.00
32OC19880723,       A16N,      23,          1,          8,          8,2,19880727,       2247,    53.9833,   -20.0133,       1443,    64.7,  35.4178,2,  35.3960,2,    261.2,2,   256.1,2,    1.30,2,    7.00,2,    0.36,2,    0.52,2,   3.301,2,   1.543,2,-999.000,9,-999.0000,9, -999.00,9,-999.000,9,-999.000,   9.000,    11.5840,-999.0000, -999.00
32OC19880723,       A16N,      23,          1,          9,          9,2,19880727,       2247,    53.9833,   -20.0133,       1443,   104.5,  35.3889,2,  35.3860,2,    250.1,2,   251.3,2,    4.30,2,   12.10,2,    0.02,2,    0.72,2,-999.000,9,-999.000,9,-999.000,9,-999.0000,9, -999.00,9,-999.000,9,-999.000,-999.000,    10.3650,-999.0000, -999.00
32OC19880723,       A16N,      23,          1,         10,         10,2,19880727,       2247,    53.9833,   -20.0133,       1443,   154.7,  35.3577,2,  35.3540,2,    252.1,2,   253.0,2,    5.00,2,   12.50,2,    0.02,2,    0.73,2,   3.048,2,   1.435,2,-999.000,9,-999.0000,9, -999.00,9,-999.000,9,-999.000,   9.000,    10.0390,-999.0000, -999.00
32OC19880723,       A16N,      23,          1,         11,         11,2,19880727,       2247,    53.9833,   -20.0133,       1443,   205.5,  35.3372,2,  35.3450,2,    255.1,2,   254.8,2,    5.00,2,   12.40,2,    0.01,2,    0.73,2,-999.000,9,-999.000,9,-999.000,9,-999.0000,9, -999.00,9,-999.000,9,-999.000,-999.000,     9.9260,-999.0000, -999.00
32OC19880723,       A16N,      23,          1,         12,         12,2,19880727,       2247,    53.9833,   -20.0133,       1443,   205.5,  35.3372,2,  35.3450,2,    255.1,2,   254.8,2,    5.00,2,   12.30,2,    0.01,2,    0.75,2,-999.000,9,-999.000,9,-999.000,9,-999.0000,9, -999.00,9,-999.000,9,-999.000,   9.000,     9.9260,-999.0000, -999.00
32OC19880723,       A16N,      23,          1,         13,         13,2,19880727,       2247,    53.9833,   -20.0133,       1443,   306.4,  35.2875,2,  35.2960,2,    254.9,2,   254.3,2,    5.40,2,   12.90,2,    0.01,2,    0.77,2,   3.053,2,   1.441,2,-999.000,9,-999.0000,9, -999.00,9,-999.000,9,-999.000,-999.000,     9.5620,-999.0000, -999.00
32OC19880723,       A16N,      23,          1,         14,         14,2,19880727,       2247,    53.9833,   -20.0133,       1443,   407.6,  35.2183,2,  35.2200,2,    248.8,2,   243.0,2,    6.80,2,   14.40,2,    0.00,2,    0.87,2,-999.000,9,-999.000,9,-999.000,9,-999.0000,9, -999.00,9,-999.000,9,-999.000,   9.000,     9.0060,-999.0000, -999.00
32OC19880723,       A16N,      23,          1,         15,         15,2,19880727,       2247,    53.9833,   -20.0133,       1443,   508.3,  35.1480,2,  35.1410,2,    220.5,2,   218.2,2,    9.10,2,   17.20,2,    0.00,2,    1.04,2,   2.049,2,   0.919,2,-999.000,9,-999.0000,9, -999.00,9,-999.000,9,-999.000,-999.000,     8.1810,-999.0000, -999.00
32OC19880723,       A16N,      23,          1,         16,         16,2,19880727,       2247,    53.9833,   -20.0133,       1443,   607.8,  35.2072,2,  35.2360,2,    207.2,2,   205.2,2,   10.10,2,   18.00,2,    0.00,2,    1.06,2,   1.591,2,   0.669,2,-999.000,9,-999.0000,9, -999.00,9,-999.000,9,-999.000,   9.000,     8.0980,-999.0000, -999.00
32OC19880723,       A16N,      23,          1,         17,         17,2,19880727,       2247,    53.9833,   -20.0133,       1443,   708.1,  35.1995,2,  35.1960,2,    208.5,2,   207.3,2,   10.60,2,   18.60,2,    0.00,2,    1.12,2,-999.000,9,-999.000,9,-999.000,9,-999.0000,9, -999.00,9,-999.000,9,-999.000,-999.000,     7.3170,-999.0000, -999.00
32OC19880723,       A16N,      23,          1,         18,         18,2,19880727,       2247,    53.9833,   -20.0133,       1443,   806.1,  35.1916,2,  35.1810,2,    214.0,2,   215.1,2,   11.10,2,   18.60,2,    0.00,2,    1.12,2,   1.345,2,   0.560,2,-999.000,9,-999.0000,9, -999.00,9,-999.000,9,-999.000,   9.000,     6.6960,-999.0000, -999.00
32OC19880723,       A16N,      23,          1,         19,         19,2,19880727,       2247,    53.9833,   -20.0133,       1443,   806.1,  35.1916,2,  35.1830,2,    214.0,2,   215.1,2,   11.10,2,   18.60,2,    0.00,2,    1.11,2,-999.000,9,-999.000,9,-999.000,9,-999.0000,9, -999.00,9,-999.000,9,-999.000,-999.000,     6.6960,-999.0000, -999.00
32OC19880723,       A16N,      23,          1,         20,         20,2,19880727,       2247,    53.9833,   -20.0133,       1443,   999.3,  35.0258,2,  35.0290,2,    241.5,2,   242.9,2,   11.10,2,   18.10,2,    0.00,2,    1.09,2,-999.000,9,-999.000,9,-999.000,9,-999.0000,9, -999.00,9,-999.000,9,-999.000,   9.000,     5.0830,-999.0000, -999.00
32OC19880723,       A16N,      23,          1,         21,         21,2,19880727,       2247,    53.9833,   -20.0133,       1443,  1095.5,  34.9833,2,  34.9790,2,    251.7,2,   256.4,2,   10.80,2,   17.80,2,    0.00,2,    1.07,2,   1.489,2,   0.634,2,-999.000,9,-999.0000,9, -999.00,9,-999.000,9,-999.000,-999.000,     4.5210,-999.0000, -999.00
32OC19880723,       A16N,      23,          1,         22,         22,2,19880727,       2247,    53.9833,   -20.0133,       1443,  1192.2,  34.9627,2,  34.9610,2,    259.6,2,   262.5,2,   10.80,2,   17.50,2,    0.00,2,    1.07,2,-999.000,9,-999.000,9,-999.000,9,-999.0000,9, -999.00,9,-999.000,9,-999.000,   9.000,     4.2840,-999.0000, -999.00
32OC19880723,       A16N,      23,          1,         23,         23,2,19880727,       2247,    53.9833,   -20.0133,       1443,  1289.3,  34.9329,2,  34.9340,2,    268.9,2,   269.4,2,   10.80,2,   17.30,2,    0.00,2,    1.06,2,   1.445,2,   0.601,2,-999.000,9,-999.0000,9, -999.00,9,-999.000,9,-999.000,-999.000,     3.9610,-999.0000, -999.00
32OC19880723,       A16N,      23,          1,         24,         24,2,19880727,       2247,    53.9833,   -20.0133,       1443,  1436.7,  34.9368,2,  34.9360,2,    273.3,2,   269.8,2,   11.70,2,   17.20,2,    0.00,2,    1.06,2,   1.164,2,   0.521,2,-999.000,9,-999.0000,9, -999.00,9,-999.000,9,-999.000,   9.000,     3.8420,-999.0000, -999.00
32OC19880723,       A16N,      23,          1,         99,     -999.0,9,19880727,       2247,    53.9833,   -20.0133,       1443,  1438.1,  34.9368,2,-999.0000,9,    273.3,2,  -999.0,9, -999.00,9, -999.00,9, -999.00,9, -999.00,9,-999.000,9,-999.000,9,-999.000,9,-999.0000,9, -999.00,9,-999.000,9,-999.000,-999.000,     3.8410,-999.0000, -999.00