BOTTLE,20220922CCHSIOAMB
EXPOCODE,SECT_ID,STNNBR,CASTNO,SAMPNO,BTLNBR,BTLNBR_FLAG_W,DATE,TIME,LATITUDE,LONGITUDE,DEPTH,CTDPRS,CTDSAL,CTDSAL_FLAG_W,SALNTY,SALNTY_FLAG_W,CTDOXY,CTDOXY_FLAG_W,OXYGEN,OXYGEN_FLAG_W,SILCAT,SILCAT_FLAG_W,NITRAT,NITRAT_FLAG_W,NITRIT,NITRIT_FLAG_W,PHSPHT,PHSPHT_FLAG_W,CFC-11,CFC-11_FLAG_W,CFC-12,CFC-12_FLAG_W,TRITUM,TRITUM_FLAG_W,HELIUM,HELIUM_FLAG_W,DELHE3,DELHE3_FLAG_W,NEON,NEON_FLAG_W,NEONER,TRITER,CTDTMP,HELIER,DELHER
,,,,,,,,,,,METERS,DBAR,PSS-78,,PSS-78,,UMOL/KG,,UMOL/KG,,UMOL/KG,,UMOL/KG,,UMOL/KG,,UMOL/KG,,PMOL/KG,,PMOL/KG,,TU,,NMOL/KG,,PERCNT,,NMOL/KG,,NMOL/KG,TU,IPTS-68,NMOL/KG,PERCNT
32OC19880723,       A16N,      38,          1,          1,          1,2,19880730,       2223,    46.4900,   -19.9733,       4854,     4.3,  35.7323,2,  35.7270,2,    238.5,2,   247.6,2,    0.50,2,    0.00,2,    0.01,2,    0.13,2,   2.731,2,   1.312,2,   2.749,2,   1.7584,2,   -1.14,2,   7.194,2,   0.054,   0.056,    16.8430,   0.0123,    0.18
32OC19880723,       A16N,      38,          1,          2,          2,2,19880730,       2223,    46.4900,   -19.9733,       4854,    57.4,  35.7151,2,  35.7070,2,    238.2,2,   241.8,2,    2.00,2,    6.10,2,    0.01,2,    0.41,2,   3.042,2,   1.510,2,   2.721,2,   1.7698,2,   -1.06,2,   7.364,2,   0.055,   0.058,    13.1200,   0.0124,    0.18
32OC19880723,       A16N,      38,          1,          3,          3,2,19880730,       2223,    46.4900,   -19.9733,       4854,   108.8,  35.6906,2,  35.7060,2,    244.2,2,   244.4,2,    2.40,2,    7.20,2,    0.01,2,    0.45,2,   3.059,2,   1.430,2,   2.709,2,   1.7886,2,   -1.15,2,   7.414,2,   0.056,   0.060,    12.7840,   0.0125,    0.18
32OC19880723,       A16N,      38,          1,          4,          4,2,19880730,       2223,    46.4900,   -19.9733,       4854,   208.9,  35.6491,2,  35.6630,2,    241.0,2,   245.2,2,    3.00,2,    8.80,2,    0.01,2,    0.56,2,   2.866,2,   1.361,2,   2.741,2,   1.8261,2,    0.21,2,   7.477,2,   0.056,   0.063,    12.2410,   0.0128,    0.18
32OC19880723,       A16N,      38,          1,          5,          5,2,19880730,       2223,    46.4900,   -19.9733,       4854,   309.6,  35.5849,2,  35.5820,2,    238.2,2,   239.1,2,    3.70,2,   10.10,2,    0.01,2,    0.63,2,   2.662,2,   1.261,2,   2.780,2,   1.8581,2,    1.71,2,   7.494,2,   0.056,   0.060,    11.7220,   0.0130,    0.18
32OC19880723,       A16N,      38,          1,          6,          6,2,19880730,       2223,    46.4900,   -19.9733,       4854,   409.2,  35.5275,2,  35.5110,2,    240.5,2,   240.4,2,    4.10,2,   10.80,2,    0.01,2,    0.68,2,   2.730,2,   1.264,2,   2.733,2,   1.7919,2,    1.22,2,   7.498,2,   0.056,   0.062,    11.2620,   0.0125,    0.18
32OC19880723,       A16N,      38,          1,          7,          7,2,19880730,       2223,    46.4900,   -19.9733,       4854,   503.2,  35.4799,2,  35.4690,2,    236.9,2,   234.3,2,    4.60,2,   11.70,2,    0.01,2,    0.71,2,   2.572,2,   1.196,2,-999.000,9,-999.0000,9, -999.00,9,-999.000,9,-999.000,   9.000,    10.8890,-999.0000, -999.00
32OC19880723,       A16N,      38,          1,          8,          8,2,19880730,       2223,    46.4900,   -19.9733,       4854,   602.9,  35.4021,2,  35.4000,2,    234.3,2,   233.9,2,    5.40,2,   12.60,2,    0.00,2,    0.79,2,   2.503,2,   1.136,2,   2.766,2,   1.7890,2,    2.19,2,   7.559,2,   0.057,   0.062,    10.4150,   0.0125,    0.18
32OC19880723,       A16N,      38,          1,          9,          9,2,19880730,       2223,    46.4900,   -19.9733,       4854,   705.0,  35.3436,2,  35.3550,2,    210.9,2,   209.5,2,    7.20,2,   15.30,2,    0.00,2,    0.94,2,   1.827,2,   0.832,2,-999.000,9,-999.0000,9, -999.00,9,-999.000,9,-999.000,-999.000,     9.8380,-999.0000, -999.00
32OC19880723,       A16N,      38,          1,         10,         10,2,19880730,       2223,    46.4900,   -19.9733,       4854,   804.8,  35.2942,2,  35.3040,2,    200.4,2,   198.7,2,    8.90,2,   16.90,2,    0.00,2,    1.05,2,   1.439,2,   0.651,2,-999.000,9,   1.7930,2,    7.81,2,   7.630,2,   0.057,   9.000,     9.0870,   0.0126,    0.18
32OC19880723,       A16N,      38,          1,         11,         11,2,19880730,       2223,    46.4900,   -19.9733,       4854,   898.1,  35.3231,2,  35.3100,2,    197.1,2,   196.5,2,   10.00,2,   17.80,2,    0.00,2,    1.11,2,   1.199,2,   0.526,2,   1.994,2,   2.0114,4,    7.17,2,   8.454,4,   0.063,   0.056,     8.4010,   0.0141,    0.18
32OC19880723,       A16N,      38,          1,         12,         12,2,19880730,       2223,    46.4900,   -19.9733,       4854,   986.0,  35.3963,2,  35.4000,2,    198.0,2,   199.0,2,   10.30,2,   17.50,2,    0.00,2,    1.08,2,   1.034,2,   0.451,2,-999.000,9,-999.0000,9, -999.00,9,-999.000,9,-999.000,-999.000,     8.1260,-999.0000, -999.00
32OC19880723,       A16N,      38,          1,         13,         13,2,19880730,       2223,    46.4900,   -19.9733,       4854,  1171.1,  35.1510,2,  35.1640,2,    226.1,2,   228.1,2,   10.70,2,   17.60,2,    0.00,2,    1.10,2,   1.131,2,   0.496,2,   1.707,2,   1.8715,2,    8.61,2,   7.884,2,   0.059,   0.048,     6.0330,   0.0131,    0.18
32OC19880723,       A16N,      38,          1,         14,         14,2,19880730,       2223,    46.4900,   -19.9733,       4854,  1355.0,  35.0232,2,  35.0330,2,    250.1,2,   250.3,2,   10.70,2,   17.40,2,    0.00,2,    1.08,2,-999.000,9,-999.000,9,-999.000,9,-999.0000,9, -999.00,9,-999.000,9,-999.000,   9.000,     4.7950,-999.0000, -999.00
32OC19880723,       A16N,      38,          1,         15,         15,2,19880730,       2223,    46.4900,   -19.9733,       4854,  1559.7,  34.9450,2,  34.9590,2,    264.2,2,   263.8,2,   10.70,2,   17.10,2,    0.00,2,    1.06,2,   1.254,2,   0.582,2,-999.000,9,-999.0000,9, -999.00,9,-999.000,9,-999.000,-999.000,     4.2160,-999.0000, -999.00
32OC19880723,       A16N,      38,          1,         16,         16,2,19880730,       2223,    46.4900,   -19.9733,       4854,  1855.9,  34.9144,2,  34.9150,2,    273.3,2,   274.2,2,   10.70,2,   16.70,2,    0.00,2,    1.05,2,   1.204,2,   0.523,2,   1.869,2,-999.0000,9, -999.00,9,-999.000,9,-999.000,   0.054,     3.7370,-999.0000, -999.00
32OC19880723,       A16N,      38,          1,         17,         17,2,19880730,       2223,    46.4900,   -19.9733,       4854,  2146.1,  34.9235,2,  34.9230,2,    272.5,2,   274.2,2,   11.50,2,   16.70,2,    0.00,2,    1.06,2,-999.000,9,-999.000,9,-999.000,9,-999.0000,9, -999.00,9,-999.000,9,-999.000,   9.000,     3.6060,-999.0000, -999.00
32OC19880723,       A16N,      38,          1,         18,         18,2,19880730,       2223,    46.4900,   -19.9733,       4854,  2445.5,  34.9448,2,  34.9430,2,    268.9,2,   271.1,2,   13.40,2,   16.80,2,    0.00,2,    1.08,2,   0.533,2,   0.241,2,-999.000,9,-999.0000,9, -999.00,9,-999.000,9,-999.000,-999.000,     3.4640,-999.0000, -999.00
32OC19880723,       A16N,      38,          1,         19,         19,2,19880730,       2223,    46.4900,   -19.9733,       4854,  2846.1,  34.9537,2,  34.9560,2,    263.7,2,   263.3,2,   20.90,2,   18.00,2,    0.00,2,    1.15,2,   0.296,2,   0.125,2,   0.542,2,   1.9022,2,    4.15,2,   8.209,2,   0.062,   0.032,     3.1320,   0.0133,    0.18
32OC19880723,       A16N,      38,          1,         20,         20,2,19880730,       2223,    46.4900,   -19.9733,       4854,  3253.9,  34.9429,2,  34.9440,2,    252.4,2,   254.2,2,   29.80,2,   19.30,2,    0.00,2,    1.23,2,   0.220,3,   0.058,2,-999.000,9,-999.0000,9, -999.00,9,-999.000,9,-999.000,   9.000,     2.8520,-999.0000, -999.00
32OC19880723,       A16N,      38,          1,         21,         21,2,19880730,       2223,    46.4900,   -19.9733,       4854,  3668.0,  34.9239,2,  34.9240,2,    246.3,2,   246.3,2,   37.60,2,   20.80,2,    0.00,2,    1.31,2,   0.168,2,   0.024,7,-999.000,9,-999.0000,9, -999.00,9,-999.000,9,-999.000,-999.000,     2.6550,-999.0000, -999.00
32OC19880723,       A16N,      38,          1,         22,         22,2,19880730,       2223,    46.4900,   -19.9733,       4854,  4081.1,  34.9136,2,  34.9150,2,    242.0,2,   242.4,2,   41.60,2,   21.20,2,    0.00,2,    1.37,2,   0.087,2,   0.021,2,   0.041,2,   1.8099,2,    4.57,2,-999.000,9,  -7.493,   0.040,     2.5920,   0.0127,    0.18
32OC19880723,       A16N,      38,          1,         23,         23,2,19880730,       2223,    46.4900,   -19.9733,       4854,  4502.1,  34.9096,2,  34.9100,2,    241.0,2,   241.1,2,   43.40,2,   21.50,2,    0.00,2,    1.38,2,   0.017,3,   0.049,6,-999.000,9,-999.0000,9, -999.00,9,-999.000,9,-999.000,   9.000,     2.5990,-999.0000, -999.00
32OC19880723,       A16N,      38,          1,         24,         24,2,19880730,       2223,    46.4900,   -19.9733,       4854,  4932.6,  34.9084,2,  34.9070,2,    240.2,2,   239.4,2,   44.00,2,   21.50,2,    0.00,2,    1.38,2,   0.090,2,   0.024,2,   0.058,2,   1.8632,2,    2.45,2,   8.066,2,   0.060,   0.027,     2.6320,   0.0130,    0.18
32OC19880723,       A16N,      38,          1,         99,     -999.0,9,19880730,       2223,    46.4900,   -19.9733,       4854,  4933.3,  34.9084,2,-999.0000,9,    240.1,2,  -999.0,9, -999.00,9, -999.00,9, -999.00,9, -999.00,9,-999.000,9,-999.000,9,-999.000,9,-999.0000,9, -999.00,9,-999.000,9,-999.000,-999.000,     2.6320,-999.0000, -999.00
32OC19880723,       A16N,      39,          1,          1,          1,2,19880731,       0541,    45.9800,   -20.0033,       4843,    11.5,  35.6742,2,  35.6750,2,    245.1,2,   248.9,2,    0.20,2, -999.00,9,    0.02,2,    0.11,2,-999.000,9,-999.000,9,-999.000,9,-999.0000,9, -999.00,9,-999.000,9,-999.000,   9.000,    16.3930,-999.0000, -999.00
32OC19880723,       A16N,      39,          1,          2,          2,2,19880731,       0541,    45.9800,   -20.0033,       4843,    57.6,  35.7139,2,  35.7830,2,    239.2,2,   239.6,2,    1.60,2, -999.00,9,    0.06,2,    0.34,2,-999.000,9,-999.000,9,-999.000,9,-999.0000,9, -999.00,9,-999.000,9,-999.000,-999.000,    13.7460,-999.0000, -999.00
32OC19880723,       A16N,      39,          1,          3,          3,2,19880731,       0541,    45.9800,   -20.0033,       4843,   104.6,  35.6960,2,  35.7480,2,    246.5,2,   240.9,2,    2.00,2, -999.00,9,    0.02,2,    0.43,2,-999.000,9,-999.000,9,-999.000,9,-999.0000,9, -999.00,9,-999.000,9,-999.000,   9.000,    13.0780,-999.0000, -999.00
32OC19880723,       A16N,      39,          1,          4,          4,2,19880731,       0541,    45.9800,   -20.0033,       4843,   199.4,  35.6742,2,  35.6640,2,    244.8,2,   237.0,2,    3.20,2, -999.00,9,    0.00,2,    0.54,2,-999.000,9,-999.000,9,-999.000,9,-999.0000,9, -999.00,9,-999.000,9,-999.000,-999.000,    12.3270,-999.0000, -999.00
32OC19880723,       A16N,      39,          1,          5,          5,2,19880731,       0541,    45.9800,   -20.0033,       4843,   293.1,  35.6200,2,  35.5930,2,    244.4,2,   245.2,2,    3.50,2, -999.00,9,    0.00,2,    0.58,2,-999.000,9,-999.000,9,-999.000,9,-999.0000,9, -999.00,9,-999.000,9,-999.000,   9.000,    11.7870,-999.0000, -999.00
32OC19880723,       A16N,      39,          1,          6,          6,2,19880731,       0541,    45.9800,   -20.0033,       4843,   385.9,  35.5468,2,  35.5330,2,    239.0,2,   243.0,2,    4.00,2, -999.00,9,    0.00,2,    0.63,2,-999.000,9,-999.000,9,-999.000,9,-999.0000,9, -999.00,9,-999.000,9,-999.000,-999.000,    11.4080,-999.0000, -999.00
32OC19880723,       A16N,      39,          1,          7,          7,2,19880731,       0541,    45.9800,   -20.0033,       4843,   479.9,  35.4951,2,  35.4820,2,    243.1,2,   238.7,2,    4.30,2, -999.00,9,    0.00,2,    0.68,2,-999.000,9,-999.000,9,-999.000,9,-999.0000,9, -999.00,9,-999.000,9,-999.000,   9.000,    11.0460,-999.0000, -999.00
32OC19880723,       A16N,      39,          1,          8,          8,2,19880731,       0541,    45.9800,   -20.0033,       4843,   573.8,  35.4528,2,  35.4190,2,    242.9,2,   236.9,2,    4.90,2, -999.00,9,    0.00,2,    0.73,2,-999.000,9,-999.000,9,-999.000,9,-999.0000,9, -999.00,9,-999.000,9,-999.000,-999.000,    10.5760,-999.0000, -999.00
32OC19880723,       A16N,      39,          1,          9,          9,2,19880731,       0541,    45.9800,   -20.0033,       4843,   665.5,  35.3899,2,  35.3790,2,    228.0,2,   226.9,2,    4.90,2, -999.00,9,    0.00,2,    0.81,2,-999.000,9,-999.000,9,-999.000,9,-999.0000,9, -999.00,9,-999.000,9,-999.000,   9.000,    10.1410,-999.0000, -999.00
32OC19880723,       A16N,      39,          1,         10,         10,2,19880731,       0541,    45.9800,   -20.0033,       4843,   752.9,  35.3369,2,  35.3350,2,    221.2,2,   217.8,2,    6.90,2, -999.00,9,    0.00,2,    0.91,2,-999.000,9,-999.000,9,-999.000,9,-999.0000,9, -999.00,9,-999.000,9,-999.000,-999.000,     9.5870,-999.0000, -999.00
32OC19880723,       A16N,      39,          1,         11,         11,2,19880731,       0541,    45.9800,   -20.0033,       4843,   839.7,  35.2883,2,-999.0000,9,    200.5,2,   199.1,2,    8.80,2, -999.00,9,    0.00,2,    1.04,2,-999.000,9,-999.000,9,-999.000,9,-999.0000,9, -999.00,9,-999.000,9,-999.000,   9.000,     8.9700,-999.0000, -999.00
32OC19880723,       A16N,      39,          1,         12,         12,2,19880731,       0541,    45.9800,   -20.0033,       4843,   927.2,  35.3629,2,  35.3590,2,    194.2,2,   194.7,2,    9.70,2, -999.00,9,    0.00,2,    1.10,2,-999.000,9,-999.000,9,-999.000,9,-999.0000,9, -999.00,9,-999.000,9,-999.000,-999.000,     8.5270,-999.0000, -999.00
32OC19880723,       A16N,      39,          1,         13,         13,2,19880731,       0541,    45.9800,   -20.0033,       4843,  1103.0,  35.2992,2,  35.3020,2,    201.3,2,   209.0,2,   10.50,2, -999.00,9,    0.00,2,    1.08,2,-999.000,9,-999.000,9,-999.000,9,-999.0000,9, -999.00,9,-999.000,9,-999.000,   9.000,     7.1840,-999.0000, -999.00
32OC19880723,       A16N,      39,          1,         14,         14,2,19880731,       0541,    45.9800,   -20.0033,       4843,  1277.0,  35.0602,2,  35.1060,2,    226.5,2,   235.5,2,   10.70,2, -999.00,9,    0.00,2,    1.11,2,-999.000,9,-999.000,9,-999.000,9,-999.0000,9, -999.00,9,-999.000,9,-999.000,-999.000,     5.5710,-999.0000, -999.00
32OC19880723,       A16N,      39,          1,         15,         15,2,19880731,       0541,    45.9800,   -20.0033,       4843,  1445.6,  35.0373,2,  35.0440,2,    243.6,2,   250.7,2,   10.50,2, -999.00,9,    0.00,2,    1.09,2,-999.000,9,-999.000,9,-999.000,9,-999.0000,9, -999.00,9,-999.000,9,-999.000,   9.000,     4.8690,-999.0000, -999.00
32OC19880723,       A16N,      39,          1,         16,         16,2,19880731,       0541,    45.9800,   -20.0033,       4843,  1718.4,  34.9341,2,  34.9410,2,    265.0,2,   269.0,2,   10.50,2, -999.00,9,    0.00,2,    1.07,2,-999.000,9,-999.000,9,-999.000,9,-999.0000,9, -999.00,9,-999.000,9,-999.000,-999.000,     4.0010,-999.0000, -999.00
32OC19880723,       A16N,      39,          1,         17,         17,2,19880731,       0541,    45.9800,   -20.0033,       4843,  1989.7,  34.9244,2,  34.9240,2,    272.0,2,   273.7,2,   10.90,2, -999.00,9,    0.00,2,    1.08,2,-999.000,9,-999.000,9,-999.000,9,-999.0000,9, -999.00,9,-999.000,9,-999.000,   9.000,     3.7170,-999.0000, -999.00
32OC19880723,       A16N,      39,          1,         18,         18,2,19880731,       0541,    45.9800,   -20.0033,       4843,  2279.6,  34.9462,2,  34.9430,2,    269.8,2,   271.1,2,   12.80,2, -999.00,9,    0.01,2,    1.08,2,-999.000,9,-999.000,9,-999.000,9,-999.0000,9, -999.00,9,-999.000,9,-999.000,-999.000,     3.5590,-999.0000, -999.00
32OC19880723,       A16N,      39,          1,         19,         19,2,19880731,       0541,    45.9800,   -20.0033,       4843,  2675.4,  34.9601,2,  34.9650,2,    264.0,2,   261.6,2,   20.60,2, -999.00,9,    0.01,2,    1.18,2,-999.000,9,-999.000,9,-999.000,9,-999.0000,9, -999.00,9,-999.000,9,-999.000,   9.000,     3.2770,-999.0000, -999.00
32OC19880723,       A16N,      39,          1,         20,         20,2,19880731,       0541,    45.9800,   -20.0033,       4843,  3067.4,  34.9471,2,  34.9480,2,    258.6,2,   257.6,2,   26.50,2, -999.00,9,    0.01,2,    1.20,2,-999.000,9,-999.000,9,-999.000,9,-999.0000,9, -999.00,9,-999.000,9,-999.000,-999.000,     2.9200,-999.0000, -999.00
32OC19880723,       A16N,      39,          1,         21,         21,2,19880731,       0541,    45.9800,   -20.0033,       4843,  3453.4,  34.9319,2,  34.9320,2,    251.0,2,   250.7,2,   34.10,2, -999.00,9,    0.01,2,    1.30,2,-999.000,9,-999.000,9,-999.000,9,-999.0000,9, -999.00,9,-999.000,9,-999.000,   9.000,     2.7230,-999.0000, -999.00
32OC19880723,       A16N,      39,          1,         22,         22,2,19880731,       0541,    45.9800,   -20.0033,       4843,  3869.5,  34.9151,2,  34.9170,2,    244.6,2,   244.2,2,   40.40,2, -999.00,9,    0.01,2,    1.39,2,-999.000,9,-999.000,9,-999.000,9,-999.0000,9, -999.00,9,-999.000,9,-999.000,-999.000,     2.5980,-999.0000, -999.00
32OC19880723,       A16N,      39,          1,         23,         23,2,19880731,       0541,    45.9800,   -20.0033,       4843,  4291.9,  34.9107,2,  34.9100,2,    242.5,2,   242.0,2,   42.50,2, -999.00,9,    0.01,2,    1.40,2,-999.000,9,-999.000,9,-999.000,9,-999.0000,9, -999.00,9,-999.000,9,-999.000,   9.000,     2.5910,-999.0000, -999.00
32OC19880723,       A16N,      39,          1,         24,         24,2,19880731,       0541,    45.9800,   -20.0033,       4843,  4925.4,  34.9092,2,  34.9080,2,    240.4,2,   241.1,2,   43.70,2, -999.00,9,    0.01,2,    1.39,2,-999.000,9,-999.000,9,-999.000,9,-999.0000,9, -999.00,9,-999.000,9,-999.000,-999.000,     2.6470,-999.0000, -999.00
32OC19880723,       A16N,      39,          1,         99,     -999.0,9,19880731,       0541,    45.9800,   -20.0033,       4843,  4926.9,  34.9092,2,-999.0000,9,    240.2,2,  -999.0,9, -999.00,9, -999.00,9, -999.00,9, -999.00,9,-999.000,9,-999.000,9,-999.000,9,-999.0000,9, -999.00,9,-999.000,9,-999.000,   9.000,     2.6470,-999.0000, -999.00