BOTTLE,20220922CCHSIOAMB
EXPOCODE,SECT_ID,STNNBR,CASTNO,SAMPNO,BTLNBR,BTLNBR_FLAG_W,DATE,TIME,LATITUDE,LONGITUDE,DEPTH,CTDPRS,CTDSAL,CTDSAL_FLAG_W,SALNTY,SALNTY_FLAG_W,CTDOXY,CTDOXY_FLAG_W,OXYGEN,OXYGEN_FLAG_W,SILCAT,SILCAT_FLAG_W,NITRAT,NITRAT_FLAG_W,NITRIT,NITRIT_FLAG_W,PHSPHT,PHSPHT_FLAG_W,CFC-11,CFC-11_FLAG_W,CFC-12,CFC-12_FLAG_W,TRITUM,TRITUM_FLAG_W,HELIUM,HELIUM_FLAG_W,DELHE3,DELHE3_FLAG_W,NEON,NEON_FLAG_W,NEONER,TRITER,CTDTMP,HELIER,DELHER
,,,,,,,,,,,METERS,DBAR,PSS-78,,PSS-78,,UMOL/KG,,UMOL/KG,,UMOL/KG,,UMOL/KG,,UMOL/KG,,UMOL/KG,,PMOL/KG,,PMOL/KG,,TU,,NMOL/KG,,PERCNT,,NMOL/KG,,NMOL/KG,TU,IPTS-68,NMOL/KG,PERCNT
32OC19880723,       A16N,      48,          1,          1,          1,2,19880802,       0142,    41.4983,   -20.0217,       2514,     9.2,  35.7476,2,  35.7480,2,    234.2,2,   232.2,2,    0.50,2,    0.00,2,    0.00,2,    0.04,2,-999.000,9,-999.000,9,-999.000,9,-999.0000,9, -999.00,9,-999.000,9,-999.000,-999.000,    20.0550,-999.0000, -999.00
32OC19880723,       A16N,      48,          1,          2,          2,2,19880802,       0142,    41.4983,   -20.0217,       2514,    29.4,  35.7451,2,  35.7370,2,    246.3,2,   248.5,2,    0.50,2,    0.00,2,    0.01,2,    0.06,2,-999.000,9,-999.000,9,-999.000,9,-999.0000,9, -999.00,9,-999.000,9,-999.000,   9.000,    17.4430,-999.0000, -999.00
32OC19880723,       A16N,      48,          1,          3,          3,2,19880802,       0142,    41.4983,   -20.0217,       2514,    53.9,  35.7011,2,  35.6940,2,    248.0,2,   239.7,2,    0.80,2,    2.60,2,    0.21,2,    0.22,2,-999.000,9,-999.000,9,-999.000,9,-999.0000,9, -999.00,9,-999.000,9,-999.000,-999.000,    14.0640,-999.0000, -999.00
32OC19880723,       A16N,      48,          1,          4,          4,2,19880802,       0142,    41.4983,   -20.0217,       2514,    79.5,  35.6825,2,  35.6940,2,    232.1,2,   240.1,2,    1.70,2,    6.30,2,    0.00,2,    0.37,2,-999.000,9,-999.000,9,-999.000,9,-999.0000,9, -999.00,9,-999.000,9,-999.000,   9.000,    13.0690,-999.0000, -999.00
32OC19880723,       A16N,      48,          1,          5,          5,2,19880802,       0142,    41.4983,   -20.0217,       2514,   104.2,  35.6753,2,  35.6780,2,    239.9,2,   243.5,2,    2.30,2,    7.70,2,    0.00,2,    0.44,2,-999.000,9,-999.000,9,-999.000,9,-999.0000,9, -999.00,9,-999.000,9,-999.000,-999.000,    12.5790,-999.0000, -999.00
32OC19880723,       A16N,      48,          1,          6,          6,2,19880802,       0142,    41.4983,   -20.0217,       2514,   153.3,  35.6632,2,  35.6640,2,    244.9,2,   243.9,2,    2.40,2,    8.50,2,    0.00,2,    0.46,2,-999.000,9,-999.000,9,-999.000,9,-999.0000,9, -999.00,9,-999.000,9,-999.000,   9.000,    12.2690,-999.0000, -999.00
32OC19880723,       A16N,      48,          1,          7,          7,2,19880802,       0142,    41.4983,   -20.0217,       2514,   252.6,  35.6129,2,  35.6150,2,    240.5,2,   241.8,2,    3.00,2,    9.70,2,    0.00,2,    0.53,2,-999.000,9,-999.000,9,-999.000,9,-999.0000,9, -999.00,9,-999.000,9,-999.000,-999.000,    11.9280,-999.0000, -999.00
32OC19880723,       A16N,      48,          1,          8,          8,2,19880802,       0142,    41.4983,   -20.0217,       2514,   303.0,  35.5759,2,  35.5660,2,    239.2,2,   236.5,2,    3.40,2,   10.50,2,    0.00,2,    0.58,2,-999.000,9,-999.000,9,-999.000,9,-999.0000,9, -999.00,9,-999.000,9,-999.000,   9.000,    11.6110,-999.0000, -999.00
32OC19880723,       A16N,      48,          1,          9,          9,2,19880802,       0142,    41.4983,   -20.0217,       2514,   353.6,  35.5358,2,  35.5410,2,    235.2,2,   233.5,2,    3.80,2,   11.30,2,    0.00,2,    0.63,2,-999.000,9,-999.000,9,-999.000,9,-999.0000,9, -999.00,9,-999.000,9,-999.000,-999.000,    11.3790,-999.0000, -999.00
32OC19880723,       A16N,      48,          1,         10,         10,2,19880802,       0142,    41.4983,   -20.0217,       2514,   403.5,  35.4985,2,  35.4960,2,    230.1,2,   227.0,2,    4.30,2,   12.30,2,    0.01,2,    0.70,2,-999.000,9,-999.000,9,-999.000,9,-999.0000,9, -999.00,9,-999.000,9,-999.000,   9.000,    11.1230,-999.0000, -999.00
32OC19880723,       A16N,      48,          1,         11,         11,2,19880802,       0142,    41.4983,   -20.0217,       2514,   503.3,  35.4177,2,  35.4210,2,    221.3,2,   220.4,2,    5.60,2,   13.90,2,    0.01,2,    0.78,2,-999.000,9,-999.000,9,-999.000,9,-999.0000,9, -999.00,9,-999.000,9,-999.000,-999.000,    10.5220,-999.0000, -999.00
32OC19880723,       A16N,      48,          1,         12,         12,2,19880802,       0142,    41.4983,   -20.0217,       2514,   603.0,  35.3555,2,  35.3570,2,    213.3,2,   213.9,2,    6.90,2,   15.30,2,    0.01,2,    0.92,2,-999.000,9,-999.000,9,-999.000,9,-999.0000,9, -999.00,9,-999.000,9,-999.000,   9.000,     9.8210,-999.0000, -999.00
32OC19880723,       A16N,      48,          1,         13,         13,2,19880802,       0142,    41.4983,   -20.0217,       2514,   703.3,  35.3676,2,  35.3530,2,    197.2,2,   199.1,2,    8.50,2,   17.20,2,    0.00,2,    1.04,2,-999.000,9,-999.000,9,-999.000,9,-999.0000,9, -999.00,9,-999.000,9,-999.000,-999.000,     9.2370,-999.0000, -999.00
32OC19880723,       A16N,      48,          1,         14,         14,2,19880802,       0142,    41.4983,   -20.0217,       2514,   802.8,  35.2787,2,  35.2780,2,    196.5,2,   197.8,2,   10.00,2,   18.30,2,    0.00,2,    1.11,2,-999.000,9,-999.000,9,-999.000,9,-999.0000,9, -999.00,9,-999.000,9,-999.000,   9.000,     8.1420,-999.0000, -999.00
32OC19880723,       A16N,      48,          1,         15,         15,2,19880802,       0142,    41.4983,   -20.0217,       2514,   902.7,  35.3686,2,  35.3710,2,    200.6,2,   199.9,2,   10.40,2,   18.20,2,    0.00,2,    1.10,2,-999.000,9,-999.000,9,-999.000,9,-999.0000,9, -999.00,9,-999.000,9,-999.000,-999.000,     7.9870,-999.0000, -999.00
32OC19880723,       A16N,      48,          1,         16,         16,2,19880802,       0142,    41.4983,   -20.0217,       2514,  1002.8,  35.6121,2,  35.6150,2,    198.6,2,   198.2,2,   10.00,2,   17.50,2,    0.01,2,    1.04,2,-999.000,9,-999.000,9,-999.000,9,-999.0000,9, -999.00,9,-999.000,9,-999.000,   9.000,     8.6110,-999.0000, -999.00
32OC19880723,       A16N,      48,          1,         17,         17,2,19880802,       0142,    41.4983,   -20.0217,       2514,  1200.0,  35.2606,2,  35.2620,2,    232.0,2,   230.3,2,   10.60,2,   17.80,2,    0.01,2,    1.08,2,-999.000,9,-999.000,9,-999.000,9,-999.0000,9, -999.00,9,-999.000,9,-999.000,-999.000,     6.1250,-999.0000, -999.00
32OC19880723,       A16N,      48,          1,         18,         18,2,19880802,       0142,    41.4983,   -20.0217,       2514,  1403.5,  35.0858,2,  35.0810,2,    249.2,2,   250.7,2,   10.70,2,   17.70,2,    0.01,2,    1.10,2,-999.000,9,-999.000,9,-999.000,9,-999.0000,9, -999.00,9,-999.000,9,-999.000,   9.000,     4.8970,-999.0000, -999.00
32OC19880723,       A16N,      48,          1,         19,         19,2,19880802,       0142,    41.4983,   -20.0217,       2514,  1606.3,  35.0471,2,  35.0550,2,    256.2,2,   256.8,2,   11.00,2,   17.60,2,    0.01,2,    1.10,2,-999.000,9,-999.000,9,-999.000,9,-999.0000,9, -999.00,9,-999.000,9,-999.000,-999.000,     4.5790,-999.0000, -999.00
32OC19880723,       A16N,      48,          1,         20,         20,2,19880802,       0142,    41.4983,   -20.0217,       2514,  1809.7,  34.9872,2,-999.0000,9,    263.8,2,   265.1,2,   11.80,2,   17.50,2,    0.01,2,    1.08,2,-999.000,9,-999.000,9,-999.000,9,-999.0000,9, -999.00,9,-999.000,9,-999.000,   9.000,     4.0010,-999.0000, -999.00
32OC19880723,       A16N,      48,          1,         21,         21,2,19880802,       0142,    41.4983,   -20.0217,       2514,  2015.1,  34.9770,2,-999.0000,9,    265.5,2,   265.5,2,   13.60,2,   17.60,2,    0.01,2,    1.11,2,-999.000,9,-999.000,9,-999.000,9,-999.0000,9, -999.00,9,-999.000,9,-999.000,-999.000,     3.7490,-999.0000, -999.00
32OC19880723,       A16N,      48,          1,         22,         22,2,19880802,       0142,    41.4983,   -20.0217,       2514,  2217.3,  34.9669,2,  34.9700,2,    263.7,2,   264.2,2,   16.40,2,   17.90,2,    0.01,2,    1.12,2,-999.000,9,-999.000,9,-999.000,9,-999.0000,9, -999.00,9,-999.000,9,-999.000,   9.000,     3.4590,-999.0000, -999.00
32OC19880723,       A16N,      48,          1,         23,         23,2,19880802,       0142,    41.4983,   -20.0217,       2514,  2417.9,  34.9618,2,  34.9660,2,    262.5,2,   261.6,2,   20.30,2,   18.50,2,    0.02,2,    1.16,2,-999.000,9,-999.000,9,-999.000,9,-999.0000,9, -999.00,9,-999.000,9,-999.000,-999.000,     3.2280,-999.0000, -999.00
32OC19880723,       A16N,      48,          1,         24,         24,2,19880802,       0142,    41.4983,   -20.0217,       2514,  2539.9,  34.9541,2,-999.0000,9,    258.1,2,   258.1,2,   24.40,2,   18.90,2,    0.02,2,    1.19,2,-999.000,9,-999.000,9,-999.000,9,-999.0000,9, -999.00,9,-999.000,9,-999.000,   9.000,     3.0320,-999.0000, -999.00
32OC19880723,       A16N,      48,          1,         99,     -999.0,9,19880802,       0142,    41.4983,   -20.0217,       2514,  2541.8,  34.9540,2,-999.0000,9,    258.1,2,  -999.0,9, -999.00,9, -999.00,9, -999.00,9, -999.00,9,-999.000,9,-999.000,9,-999.000,9,-999.0000,9, -999.00,9,-999.000,9,-999.000,-999.000,     3.0260,-999.0000, -999.00
32OC19880723,       A16N,      49,          1,          1,          1,2,19880802,       0618,    41.0133,   -19.9933,       4691,    11.2,  35.8525,2,  35.8450,2,    234.7,2,   231.3,2,    0.60,2,    0.00,2,    0.01,2,    0.11,2,   2.321,2,   1.119,2,-999.000,9,-999.0000,9, -999.00,9,-999.000,9,-999.000,   9.000,    20.2480,-999.0000, -999.00
32OC19880723,       A16N,      49,          1,          2,          2,2,19880802,       0618,    41.0133,   -19.9933,       4691,    36.2,  35.8662,2,  35.8340,2,    247.5,2,   258.9,3,    0.60,2,    0.00,2,    0.01,2,    0.08,2,-999.000,9,-999.000,9,-999.000,9,-999.0000,9, -999.00,9,-999.000,9,-999.000,-999.000,    16.2540,-999.0000, -999.00
32OC19880723,       A16N,      49,          1,          3,          3,2,19880802,       0618,    41.0133,   -19.9933,       4691,    65.0,  35.8312,2,  35.8280,2,    259.9,2,   244.9,3,    0.90,2,    2.10,2,    0.20,2,    0.20,2,-999.000,9,-999.000,9,-999.000,9,-999.0000,9, -999.00,9,-999.000,9,-999.000,   9.000,    14.3620,-999.0000, -999.00
32OC19880723,       A16N,      49,          1,          4,          4,2,19880802,       0618,    41.0133,   -19.9933,       4691,   105.8,  35.8290,2,  35.8130,2,    244.2,2,   235.3,2,    2.00,2,    6.70,2,    0.02,2,    0.38,2,   2.713,6,   1.299,6,-999.000,9,-999.0000,9, -999.00,9,-999.000,9,-999.000,-999.000,    13.5090,-999.0000, -999.00
32OC19880723,       A16N,      49,          1,          5,          5,2,19880802,       0618,    41.0133,   -19.9933,       4691,   155.5,  35.7656,2,  35.7510,2,    236.9,2,   234.8,2,    2.40,2,    7.70,2,    0.01,2,    0.41,2,-999.000,9,-999.000,9,-999.000,9,-999.0000,9, -999.00,9,-999.000,9,-999.000,   9.000,    13.0460,-999.0000, -999.00
32OC19880723,       A16N,      49,          1,          6,          6,2,19880802,       0618,    41.0133,   -19.9933,       4691,   203.2,  35.7482,2,  35.7330,2,    235.6,2,   234.8,2,    2.90,2,    8.80,2,    0.02,2,    0.52,2,   2.616,2,   1.243,2,-999.000,9,-999.0000,9, -999.00,9,-999.000,9,-999.000,-999.000,    12.8360,-999.0000, -999.00
32OC19880723,       A16N,      49,          1,          7,          7,2,19880802,       0618,    41.0133,   -19.9933,       4691,   298.7,  35.6573,2,  35.6650,2,    233.8,2,   240.9,2,    3.00,2,    9.10,2,    0.02,2,    0.51,2,   2.711,2,   1.289,2,-999.000,9,-999.0000,9, -999.00,9,-999.000,9,-999.000,   9.000,    12.3080,-999.0000, -999.00
32OC19880723,       A16N,      49,          1,          8,          8,2,19880802,       0618,    41.0133,   -19.9933,       4691,   395.6,  35.5820,2,  35.5800,2,    224.6,2,   223.9,2,    4.00,2,   11.70,2,    0.00,2,    0.65,2,   2.348,2,   1.102,2,-999.000,9,-999.0000,9, -999.00,9,-999.000,9,-999.000,-999.000,    11.7540,-999.0000, -999.00
32OC19880723,       A16N,      49,          1,          9,          9,2,19880802,       0618,    41.0133,   -19.9933,       4691,   489.6,  35.5161,2,  35.5100,2,    219.6,2,   215.7,2,    4.90,2,   13.30,2,    0.00,2,    0.73,2,   2.056,2,   0.968,2,-999.000,9,-999.0000,9, -999.00,9,-999.000,9,-999.000,   9.000,    11.1760,-999.0000, -999.00
32OC19880723,       A16N,      49,          1,         10,         10,2,19880802,       0618,    41.0133,   -19.9933,       4691,   692.3,  35.4421,2,  35.4380,2,    198.9,2,   195.2,2,    7.60,2,   16.60,2,    0.00,2,    0.96,2,   1.279,2,   0.586,2,-999.000,9,-999.0000,9, -999.00,9,-999.000,9,-999.000,-999.000,     9.9990,-999.0000, -999.00
32OC19880723,       A16N,      49,          1,         11,         11,2,19880802,       0618,    41.0133,   -19.9933,       4691,   889.1,  35.5380,2,  35.5510,2,    192.0,2,   190.8,2,    9.70,2,   17.60,2,    0.01,2,    1.03,2,   0.821,2,   0.364,2,-999.000,9,-999.0000,9, -999.00,9,-999.000,9,-999.000,   9.000,     9.1190,-999.0000, -999.00
32OC19880723,       A16N,      49,          1,         12,         12,2,19880802,       0618,    41.0133,   -19.9933,       4691,  1191.4,  35.2528,2,  35.2790,2,    226.8,2,   224.7,2,   10.70,2,   18.00,2,    0.01,2,    1.06,2,-999.000,9,-999.000,9,-999.000,9,-999.0000,9, -999.00,9,-999.000,9,-999.000,-999.000,     6.4310,-999.0000, -999.00
32OC19880723,       A16N,      49,          1,         13,         13,2,19880802,       0618,    41.0133,   -19.9933,       4691,  1493.7,  34.9475,2,  34.9430,2,    267.1,2,   266.8,2,   10.60,2,   17.20,2,    0.01,2,    1.07,2,   1.186,2,   0.551,2,-999.000,9,-999.0000,9, -999.00,9,-999.000,9,-999.000,   9.000,     4.0590,-999.0000, -999.00
32OC19880723,       A16N,      49,          1,         14,         14,2,19880802,       0618,    41.0133,   -19.9933,       4691,  1793.4,  34.9241,2,  34.9240,2,    273.2,2,   273.7,2,   11.00,2,   17.00,2,    0.01,2,    1.06,2,-999.000,9,-999.000,9,-999.000,9,-999.0000,9, -999.00,9,-999.000,9,-999.000,-999.000,     3.7080,-999.0000, -999.00
32OC19880723,       A16N,      49,          1,         15,         15,2,19880802,       0618,    41.0133,   -19.9933,       4691,  2095.8,  34.9426,2,  34.9410,2,    270.3,2,   271.6,2,   12.70,2,   17.40,2,    0.02,2,    1.07,2,   0.530,2,   0.228,2,-999.000,9,-999.0000,9, -999.00,9,-999.000,9,-999.000,   9.000,     3.5400,-999.0000, -999.00
32OC19880723,       A16N,      49,          1,         16,         16,2,19880802,       0618,    41.0133,   -19.9933,       4691,  2405.5,  34.9645,2,  34.9630,2,    265.0,2,   264.2,2,   18.30,2,   18.00,2,    0.02,2,    1.09,2,-999.000,9,-999.000,9,-999.000,9,-999.0000,9, -999.00,9,-999.000,9,-999.000,-999.000,     3.3220,-999.0000, -999.00
32OC19880723,       A16N,      49,          1,         17,         17,2,19880802,       0618,    41.0133,   -19.9933,       4691,  2715.5,  34.9546,2,  34.9540,2,    259.6,2,   259.0,2,   24.50,2,   18.60,2,    0.02,2,    1.18,2,-999.000,9,-999.000,9,-999.000,9,-999.0000,9, -999.00,9,-999.000,9,-999.000,   9.000,     3.0160,-999.0000, -999.00
32OC19880723,       A16N,      49,          1,         18,         18,2,19880802,       0618,    41.0133,   -19.9933,       4691,  3023.6,  34.9423,2,  34.9420,2,    254.5,2,   252.9,2,   30.80,2,   19.60,2,    0.03,2,    1.24,2,   0.100,2,   0.043,2,-999.000,9,-999.0000,9, -999.00,9,-999.000,9,-999.000,-999.000,     2.7980,-999.0000, -999.00
32OC19880723,       A16N,      49,          1,         19,         19,2,19880802,       0618,    41.0133,   -19.9933,       4691,  3334.1,  34.9294,2,  34.9280,2,    248.5,2,   248.5,2,   36.30,2,   20.50,2,    0.03,2,    1.28,2,-999.000,9,-999.000,9,-999.000,9,-999.0000,9, -999.00,9,-999.000,9,-999.000,   9.000,     2.6610,-999.0000, -999.00
32OC19880723,       A16N,      49,          1,         20,         20,2,19880802,       0618,    41.0133,   -19.9933,       4691,  3642.2,  34.9179,2,  34.9200,2,    244.6,2,   244.6,2,   40.20,2,   21.20,2,    0.03,2,    1.33,2,-999.000,9,-999.000,9,-999.000,9,-999.0000,9, -999.00,9,-999.000,9,-999.000,-999.000,     2.5870,-999.0000, -999.00
32OC19880723,       A16N,      49,          1,         21,         21,2,19880802,       0618,    41.0133,   -19.9933,       4691,  3949.7,  34.9129,2,  34.9150,2,    243.3,2,   243.3,2,   41.80,2,   21.30,2,    0.03,2,    1.35,2,   0.126,3,   0.164,3,-999.000,9,-999.0000,9, -999.00,9,-999.000,9,-999.000,   9.000,     2.5790,-999.0000, -999.00
32OC19880723,       A16N,      49,          1,         22,         22,2,19880802,       0618,    41.0133,   -19.9933,       4691,  4255.8,  34.9056,2,  34.9050,2,    243.1,2,   243.3,2,   43.60,2,   21.80,2,    0.03,2,    1.38,2,-999.000,9,-999.000,9,-999.000,9,-999.0000,9, -999.00,9,-999.000,9,-999.000,-999.000,     2.5350,-999.0000, -999.00
32OC19880723,       A16N,      49,          1,         23,         23,2,19880802,       0618,    41.0133,   -19.9933,       4691,  4562.7,  34.9002,2,  34.9010,2,    243.8,2,   243.7,2,   44.30,2,   21.70,2,    0.03,2,    1.38,2,-999.000,9,-999.000,9,-999.000,9,-999.0000,9, -999.00,9,-999.000,9,-999.000,   9.000,     2.5180,-999.0000, -999.00
32OC19880723,       A16N,      49,          1,         24,         24,2,19880802,       0618,    41.0133,   -19.9933,       4691,  4771.3,  34.8986,2,  34.8980,2,    242.1,2,  -999.0,9,   45.10,2,   21.90,2,    0.03,2,    1.37,2,   0.034,2,   0.011,7,-999.000,9,-999.0000,9, -999.00,9,-999.000,9,-999.000,-999.000,     2.5270,-999.0000, -999.00
32OC19880723,       A16N,      49,          1,         99,     -999.0,9,19880802,       0618,    41.0133,   -19.9933,       4691,  4772.8,  34.8987,2,-999.0000,9,    242.3,2,  -999.0,9, -999.00,9, -999.00,9, -999.00,9, -999.00,9,-999.000,9,-999.000,9,-999.000,9,-999.0000,9, -999.00,9,-999.000,9,-999.000,   9.000,     2.5270,-999.0000, -999.00