BOTTLE,20220922CCHSIOAMB
EXPOCODE,SECT_ID,STNNBR,CASTNO,SAMPNO,BTLNBR,BTLNBR_FLAG_W,DATE,TIME,LATITUDE,LONGITUDE,DEPTH,CTDPRS,CTDSAL,CTDSAL_FLAG_W,SALNTY,SALNTY_FLAG_W,CTDOXY,CTDOXY_FLAG_W,OXYGEN,OXYGEN_FLAG_W,SILCAT,SILCAT_FLAG_W,NITRAT,NITRAT_FLAG_W,NITRIT,NITRIT_FLAG_W,PHSPHT,PHSPHT_FLAG_W,CFC-11,CFC-11_FLAG_W,CFC-12,CFC-12_FLAG_W,TRITUM,TRITUM_FLAG_W,HELIUM,HELIUM_FLAG_W,DELHE3,DELHE3_FLAG_W,NEON,NEON_FLAG_W,NEONER,TRITER,CTDTMP,HELIER,DELHER
,,,,,,,,,,,METERS,DBAR,PSS-78,,PSS-78,,UMOL/KG,,UMOL/KG,,UMOL/KG,,UMOL/KG,,UMOL/KG,,UMOL/KG,,PMOL/KG,,PMOL/KG,,TU,,NMOL/KG,,PERCNT,,NMOL/KG,,NMOL/KG,TU,IPTS-68,NMOL/KG,PERCNT
32OC19880723,       A16N,       4,          1,          1,          1,2,19880724,       0317,    62.9883,   -20.0117,       1237,     7.9,  35.0501,2,  35.0500,2,    284.7,2,   283.6,2, -999.00,9, -999.00,9, -999.00,9, -999.00,9,-999.000,9,-999.000,9,   3.017,2,   1.7185,2,   -1.65,2,-999.000,9,-999.000,   0.074,    10.9480,   0.0120,    0.18
32OC19880723,       A16N,       4,          1,          2,          2,2,19880724,       0317,    62.9883,   -20.0117,       1237,    32.8,  35.0676,2,  35.0620,2,    287.3,2,   284.8,2, -999.00,9, -999.00,9, -999.00,9, -999.00,9,-999.000,9,-999.000,9,-999.000,9,-999.0000,9, -999.00,9,-999.000,9,-999.000,-999.000,     9.8540,-999.0000, -999.00
32OC19880723,       A16N,       4,          1,          3,          3,2,19880724,       0317,    62.9883,   -20.0117,       1237,    63.0,  35.0979,2,  35.1020,2,    280.5,2,   279.1,2, -999.00,9, -999.00,9, -999.00,9, -999.00,9,   3.751,2,   1.893,2,   2.963,2,   1.8019,2,   -1.58,2,-999.000,9,-999.000,   0.071,     8.4480,   0.0126,    0.18
32OC19880723,       A16N,       4,          1,          4,          4,2,19880724,       0317,    62.9883,   -20.0117,       1237,   103.2,  35.1169,2,  35.1210,2,    273.0,2,   273.4,2, -999.00,9, -999.00,9, -999.00,9, -999.00,9,-999.000,9,-999.000,9,-999.000,9,-999.0000,9, -999.00,9,-999.000,9,-999.000,   9.000,     7.8910,-999.0000, -999.00
32OC19880723,       A16N,       4,          1,          5,          5,2,19880724,       0317,    62.9883,   -20.0117,       1237,   154.1,  35.1224,2,  35.1270,2,    272.6,2,   273.8,2, -999.00,9, -999.00,9, -999.00,9, -999.00,9,   3.945,2,   1.868,2,   2.692,2,   1.7674,2,   -0.37,2,-999.000,9,-999.000,   0.062,     7.4810,   0.0124,    0.18
32OC19880723,       A16N,       4,          1,          6,          6,2,19880724,       0317,    62.9883,   -20.0117,       1237,   204.5,  35.1270,2,  35.1310,2,    274.3,2,   274.3,2, -999.00,9, -999.00,9, -999.00,9, -999.00,9,-999.000,9,-999.000,9,-999.000,9,-999.0000,9, -999.00,9,-999.000,9,-999.000,-999.000,     7.2610,-999.0000, -999.00
32OC19880723,       A16N,       4,          1,          7,          7,2,19880724,       0317,    62.9883,   -20.0117,       1237,   254.8,  35.1297,2,  35.1330,2,    274.1,2,   274.3,2, -999.00,9, -999.00,9, -999.00,9, -999.00,9,   3.754,3,   1.819,3,   2.715,2,   1.7767,2,   -0.37,2,-999.000,9,-999.000,   0.063,     7.1640,   0.0124,    0.18
32OC19880723,       A16N,       4,          1,          8,          8,2,19880724,       0317,    62.9883,   -20.0117,       1237,   305.4,  35.1276,2,  35.1310,2,    273.8,2,   274.7,2, -999.00,9, -999.00,9, -999.00,9, -999.00,9,-999.000,9,-999.000,9,-999.000,9,-999.0000,9, -999.00,9,-999.000,9,-999.000,   9.000,     7.0700,-999.0000, -999.00
32OC19880723,       A16N,       4,          1,          9,          9,2,19880724,       0317,    62.9883,   -20.0117,       1237,   356.1,  35.1258,2,  35.1280,2,    272.6,2,   272.5,2, -999.00,9, -999.00,9, -999.00,9, -999.00,9,   3.420,2,   1.687,2,   2.736,2,   1.7992,2,    0.53,2,-999.000,9,-999.000,   0.070,     7.0030,   0.0126,    0.18
32OC19880723,       A16N,       4,          1,         10,         10,2,19880724,       0317,    62.9883,   -20.0117,       1237,   406.5,  35.1241,2,  35.1260,2,    268.9,2,   269.0,2, -999.00,9, -999.00,9, -999.00,9, -999.00,9,-999.000,9,-999.000,9,-999.000,9,-999.0000,9, -999.00,9,-999.000,9,-999.000,-999.000,     6.9140,-999.0000, -999.00
32OC19880723,       A16N,       4,          1,         11,         11,2,19880724,       0317,    62.9883,   -20.0117,       1237,   457.0,  35.1205,2,  35.1220,2,    266.7,2,   265.1,2, -999.00,9, -999.00,9, -999.00,9, -999.00,9,   3.201,2,   1.702,2,   2.723,2,   1.7890,2,    1.30,2,-999.000,9,-999.000,   0.071,     6.8310,   0.0125,    0.18
32OC19880723,       A16N,       4,          1,         12,         12,2,19880724,       0317,    62.9883,   -20.0117,       1237,   507.3,  35.1105,2,  35.1140,2,    263.1,2,   263.8,2, -999.00,9, -999.00,9, -999.00,9, -999.00,9,-999.000,9,-999.000,9,-999.000,9,-999.0000,9, -999.00,9,-999.000,9,-999.000,   9.000,     6.6900,-999.0000, -999.00
32OC19880723,       A16N,       4,          1,         13,         13,2,19880724,       0317,    62.9883,   -20.0117,       1237,   558.0,  35.1042,2,  35.1030,2,    261.5,2,   257.3,2, -999.00,9, -999.00,9, -999.00,9, -999.00,9,   2.870,2,   1.298,2,   2.590,2,   1.8038,2,    4.45,2,-999.000,9,-999.000,   0.061,     6.4720,   0.0126,    0.18
32OC19880723,       A16N,       4,          1,         14,         14,2,19880724,       0317,    62.9883,   -20.0117,       1237,   608.4,  35.0962,2,  35.0930,2,    256.3,2,   253.4,2, -999.00,9, -999.00,9, -999.00,9, -999.00,9,-999.000,9,-999.000,9,-999.000,9,-999.0000,9, -999.00,9,-999.000,9,-999.000,-999.000,     6.3240,-999.0000, -999.00
32OC19880723,       A16N,       4,          1,         15,         15,2,19880724,       0317,    62.9883,   -20.0117,       1237,   659.0,  35.0770,2,  35.0790,2,    254.5,2,   253.4,2, -999.00,9, -999.00,9, -999.00,9, -999.00,9,   2.575,2,   1.146,2,   2.333,2,   1.8064,2,    2.12,2,-999.000,9,-999.000,   0.057,     6.0400,   0.0126,    0.18
32OC19880723,       A16N,       4,          1,         16,         16,2,19880724,       0317,    62.9883,   -20.0117,       1237,   709.5,  35.0667,2,  35.0690,2,    257.7,2,   259.9,2, -999.00,9, -999.00,9, -999.00,9, -999.00,9,-999.000,9,-999.000,9,-999.000,9,-999.0000,9, -999.00,9,-999.000,9,-999.000,   9.000,     5.7250,-999.0000, -999.00
32OC19880723,       A16N,       4,          1,         17,         17,2,19880724,       0317,    62.9883,   -20.0117,       1237,   810.3,  35.0059,2,-999.0000,9,    254.2,2,   254.2,2, -999.00,9, -999.00,9, -999.00,9, -999.00,9,   2.155,2,   1.011,2,   2.220,2,   1.7863,2,    7.46,2,-999.000,9,-999.000,   0.065,     5.0180,   0.0125,    0.18
32OC19880723,       A16N,       4,          1,         18,         18,2,19880724,       0317,    62.9883,   -20.0117,       1237,   911.6,  35.0024,2,  35.0020,2,    267.8,2,   268.1,2, -999.00,9, -999.00,9, -999.00,9, -999.00,9,   2.408,2,   1.133,2,   2.329,2,   1.8095,2,    5.06,2,-999.000,9,-999.000,   0.065,     4.6680,   0.0127,    0.18
32OC19880723,       A16N,       4,          1,         19,         19,2,19880724,       0317,    62.9883,   -20.0117,       1237,  1012.5,  35.0009,2,  35.0040,2,    272.1,2,   272.9,2, -999.00,9, -999.00,9, -999.00,9, -999.00,9,   2.622,2,   1.156,2,   2.329,2,   1.8201,2,    4.46,2,-999.000,9,-999.000,   0.066,     4.5150,   0.0127,    0.18
32OC19880723,       A16N,       4,          1,         20,         20,2,19880724,       0317,    62.9883,   -20.0117,       1237,  1063.3,  34.9998,2,  35.0000,2,    272.5,2,   273.8,2, -999.00,9, -999.00,9, -999.00,9, -999.00,9,   2.565,2,   1.201,2,   2.249,2,   1.8113,2,    4.31,2,-999.000,9,-999.000,   0.057,     4.4750,   0.0127,    0.18
32OC19880723,       A16N,       4,          1,         21,         21,2,19880724,       0317,    62.9883,   -20.0117,       1237,  1114.1,  34.9989,2,  35.0000,2,    274.1,2,   274.6,2, -999.00,9, -999.00,9, -999.00,9, -999.00,9,-999.000,9,-999.000,9,-999.000,9,-999.0000,9, -999.00,9,-999.000,9,-999.000,-999.000,     4.4610,-999.0000, -999.00
32OC19880723,       A16N,       4,          1,         22,         22,2,19880724,       0317,    62.9883,   -20.0117,       1237,  1164.7,  34.9998,2,  34.9990,2,    274.4,2,   273.8,2, -999.00,9, -999.00,9, -999.00,9, -999.00,9,   2.607,2,   1.192,2,   2.300,2,   1.8338,2,    4.74,2,-999.000,9,-999.000,   0.066,     4.4460,   0.0128,    0.18
32OC19880723,       A16N,       4,          1,         23,         23,2,19880724,       0317,    62.9883,   -20.0117,       1237,  1215.3,  35.0003,2,  35.0000,2,    273.5,2,   275.1,2, -999.00,9, -999.00,9, -999.00,9, -999.00,9,   2.698,2,   1.253,2,   2.378,2,   1.8500,2,    7.13,2,-999.000,9,-999.000,   0.063,     4.4380,   0.0130,    0.18
32OC19880723,       A16N,       4,          1,         24,         24,2,19880724,       0317,    62.9883,   -20.0117,       1237,  1244.8,  35.0012,2,-999.0000,9,    277.0,2,   274.2,2, -999.00,9, -999.00,9, -999.00,9, -999.00,9,   2.714,2,   1.245,2,   2.250,2,-999.0000,9, -999.00,9,-999.000,9,-999.000,   0.060,     4.4120,-999.0000, -999.00
32OC19880723,       A16N,       4,          1,         99,     -999.0,9,19880724,       0317,    62.9883,   -20.0117,       1237,  1246.4,  35.0010,2,-999.0000,9,    277.2,2,  -999.0,9, -999.00,9, -999.00,9, -999.00,9, -999.00,9,-999.000,9,-999.000,9,-999.000,9,-999.0000,9, -999.00,9,-999.000,9,-999.000,   9.000,     4.4120,-999.0000, -999.00
32OC19880723,       A16N,       5,          1,          1,          1,2,19880724,       0618,    62.6717,   -19.9983,       1481,     4.6,  35.0902,2,  35.0890,2,    282.2,2,   282.3,2, -999.00,9, -999.00,9, -999.00,9, -999.00,9,-999.000,9,-999.000,9,-999.000,9,-999.0000,9, -999.00,9,-999.000,9,-999.000,-999.000,    10.9540,-999.0000, -999.00
32OC19880723,       A16N,       5,          1,          2,          2,2,19880724,       0618,    62.6717,   -19.9983,       1481,    34.1,  35.1327,2,  35.1320,2,    282.6,2,   285.7,2, -999.00,9, -999.00,9, -999.00,9, -999.00,9,-999.000,9,-999.000,9,-999.000,9,-999.0000,9, -999.00,9,-999.000,9,-999.000,   9.000,     9.7420,-999.0000, -999.00
32OC19880723,       A16N,       5,          1,          3,          3,2,19880724,       0618,    62.6717,   -19.9983,       1481,    64.3,  35.1433,2,  35.1380,2,    279.4,2,   278.2,2, -999.00,9, -999.00,9, -999.00,9, -999.00,9,-999.000,9,-999.000,9,-999.000,9,-999.0000,9, -999.00,9,-999.000,9,-999.000,-999.000,     9.1110,-999.0000, -999.00
32OC19880723,       A16N,       5,          1,          4,          4,2,19880724,       0618,    62.6717,   -19.9983,       1481,    84.4,  35.1605,2,  35.1630,2,    271.0,2,   271.3,2, -999.00,9, -999.00,9, -999.00,9, -999.00,9,-999.000,9,-999.000,9,-999.000,9,-999.0000,9, -999.00,9,-999.000,9,-999.000,   9.000,     8.5240,-999.0000, -999.00
32OC19880723,       A16N,       5,          1,          5,          5,2,19880724,       0618,    62.6717,   -19.9983,       1481,   134.9,  35.1611,2,  35.1620,2,    269.3,2,   273.0,2, -999.00,9, -999.00,9, -999.00,9, -999.00,9,-999.000,9,-999.000,9,-999.000,9,-999.0000,9, -999.00,9,-999.000,9,-999.000,-999.000,     8.0820,-999.0000, -999.00
32OC19880723,       A16N,       5,          1,          6,          6,2,19880724,       0618,    62.6717,   -19.9983,       1481,   185.1,  35.1435,2,  35.1440,2,    270.6,2,   271.7,2, -999.00,9, -999.00,9, -999.00,9, -999.00,9,-999.000,9,-999.000,9,-999.000,9,-999.0000,9, -999.00,9,-999.000,9,-999.000,   9.000,     7.8570,-999.0000, -999.00
32OC19880723,       A16N,       5,          1,          7,          7,2,19880724,       0618,    62.6717,   -19.9983,       1481,   234.9,  35.1388,2,  35.1430,2,    271.1,2,   271.2,2, -999.00,9, -999.00,9, -999.00,9, -999.00,9,-999.000,9,-999.000,9,-999.000,9,-999.0000,9, -999.00,9,-999.000,9,-999.000,-999.000,     7.7370,-999.0000, -999.00
32OC19880723,       A16N,       5,          1,          8,          8,2,19880724,       0618,    62.6717,   -19.9983,       1481,   285.3,  35.1384,2,  35.1410,2,    271.4,2,   272.1,2, -999.00,9, -999.00,9, -999.00,9, -999.00,9,-999.000,9,-999.000,9,-999.000,9,-999.0000,9, -999.00,9,-999.000,9,-999.000,   9.000,     7.6350,-999.0000, -999.00
32OC19880723,       A16N,       5,          1,          9,          9,2,19880724,       0618,    62.6717,   -19.9983,       1481,   336.3,  35.1366,2,  35.1360,2,    272.6,2,   271.7,2, -999.00,9, -999.00,9, -999.00,9, -999.00,9,-999.000,9,-999.000,9,-999.000,9,-999.0000,9, -999.00,9,-999.000,9,-999.000,-999.000,     7.4980,-999.0000, -999.00
32OC19880723,       A16N,       5,          1,         10,         10,2,19880724,       0618,    62.6717,   -19.9983,       1481,   386.9,  35.1361,2,  35.1350,2,    271.5,2,   269.9,2, -999.00,9, -999.00,9, -999.00,9, -999.00,9,-999.000,9,-999.000,9,-999.000,9,-999.0000,9, -999.00,9,-999.000,9,-999.000,   9.000,     7.4160,-999.0000, -999.00
32OC19880723,       A16N,       5,          1,         11,         11,2,19880724,       0618,    62.6717,   -19.9983,       1481,   437.2,  35.1372,2,  35.1360,2,    269.9,2,   269.9,2, -999.00,9, -999.00,9, -999.00,9, -999.00,9,-999.000,9,-999.000,9,-999.000,9,-999.0000,9, -999.00,9,-999.000,9,-999.000,-999.000,     7.3390,-999.0000, -999.00
32OC19880723,       A16N,       5,          1,         12,         12,2,19880724,       0618,    62.6717,   -19.9983,       1481,   488.1,  35.1377,2,  35.1370,2,    270.6,2,   271.2,2, -999.00,9, -999.00,9, -999.00,9, -999.00,9,-999.000,9,-999.000,9,-999.000,9,-999.0000,9, -999.00,9,-999.000,9,-999.000,   9.000,     7.2920,-999.0000, -999.00
32OC19880723,       A16N,       5,          1,         13,         13,2,19880724,       0618,    62.6717,   -19.9983,       1481,   538.5,  35.1322,2,  35.1310,2,    267.7,2,   267.7,2, -999.00,9, -999.00,9, -999.00,9, -999.00,9,-999.000,9,-999.000,9,-999.000,9,-999.0000,9, -999.00,9,-999.000,9,-999.000,-999.000,     7.2060,-999.0000, -999.00
32OC19880723,       A16N,       5,          1,         14,         14,2,19880724,       0618,    62.6717,   -19.9983,       1481,   588.7,  35.1303,2,  35.1300,2,    265.3,2,   264.7,2, -999.00,9, -999.00,9, -999.00,9, -999.00,9,-999.000,9,-999.000,9,-999.000,9,-999.0000,9, -999.00,9,-999.000,9,-999.000,   9.000,     7.1260,-999.0000, -999.00
32OC19880723,       A16N,       5,          1,         15,         15,2,19880724,       0618,    62.6717,   -19.9983,       1481,   638.3,  35.1242,2,  35.1230,2,    262.5,2,   259.0,2, -999.00,9, -999.00,9, -999.00,9, -999.00,9,-999.000,9,-999.000,9,-999.000,9,-999.0000,9, -999.00,9,-999.000,9,-999.000,-999.000,     7.0050,-999.0000, -999.00
32OC19880723,       A16N,       5,          1,         16,         16,2,19880724,       0618,    62.6717,   -19.9983,       1481,   688.1,  35.1118,2,  35.1120,2,    249.3,2,   249.0,2, -999.00,9, -999.00,9, -999.00,9, -999.00,9,-999.000,9,-999.000,9,-999.000,9,-999.0000,9, -999.00,9,-999.000,9,-999.000,   9.000,     6.7780,-999.0000, -999.00
32OC19880723,       A16N,       5,          1,         17,         17,2,19880724,       0618,    62.6717,   -19.9983,       1481,   788.2,  35.0895,2,  35.0900,2,    244.7,2,   247.3,2, -999.00,9, -999.00,9, -999.00,9, -999.00,9,-999.000,9,-999.000,9,-999.000,9,-999.0000,9, -999.00,9,-999.000,9,-999.000,-999.000,     6.2640,-999.0000, -999.00
32OC19880723,       A16N,       5,          1,         18,         18,2,19880724,       0618,    62.6717,   -19.9983,       1481,   889.3,  35.0691,2,  35.0670,2,    263.9,2,   263.8,2, -999.00,9, -999.00,9, -999.00,9, -999.00,9,-999.000,9,-999.000,9,-999.000,9,-999.0000,9, -999.00,9,-999.000,9,-999.000,   9.000,     5.6160,-999.0000, -999.00
32OC19880723,       A16N,       5,          1,         19,         19,2,19880724,       0618,    62.6717,   -19.9983,       1481,   990.0,  35.0186,2,  35.0260,2,    267.7,2,   269.4,2, -999.00,9, -999.00,9, -999.00,9, -999.00,9,-999.000,9,-999.000,9,-999.000,9,-999.0000,9, -999.00,9,-999.000,9,-999.000,-999.000,     4.8870,-999.0000, -999.00
32OC19880723,       A16N,       5,          1,         20,         20,2,19880724,       0618,    62.6717,   -19.9983,       1481,  1091.9,  35.0154,2,  35.0220,2,    272.9,2,   274.2,2, -999.00,9, -999.00,9, -999.00,9, -999.00,9,-999.000,9,-999.000,9,-999.000,9,-999.0000,9, -999.00,9,-999.000,9,-999.000,   9.000,     4.6020,-999.0000, -999.00
32OC19880723,       A16N,       5,          1,         21,         21,2,19880724,       0618,    62.6717,   -19.9983,       1481,  1191.4,  34.9690,2,  34.9690,2,    276.5,2,   276.4,2, -999.00,9, -999.00,9, -999.00,9, -999.00,9,-999.000,9,-999.000,9,-999.000,9,-999.0000,9, -999.00,9,-999.000,9,-999.000,-999.000,     4.0590,-999.0000, -999.00
32OC19880723,       A16N,       5,          1,         22,         22,2,19880724,       0618,    62.6717,   -19.9983,       1481,  1292.7,  34.9842,2,  34.9930,2,    277.6,2,   277.2,2, -999.00,9, -999.00,9, -999.00,9, -999.00,9,-999.000,9,-999.000,9,-999.000,9,-999.0000,9, -999.00,9,-999.000,9,-999.000,   9.000,     3.8990,-999.0000, -999.00
32OC19880723,       A16N,       5,          1,         23,         23,2,19880724,       0618,    62.6717,   -19.9983,       1481,  1395.7,  34.9837,2,  34.9840,2,    278.3,2,   278.1,2, -999.00,9, -999.00,9, -999.00,9, -999.00,9,-999.000,9,-999.000,9,-999.000,9,-999.0000,9, -999.00,9,-999.000,9,-999.000,-999.000,     3.5220,-999.0000, -999.00
32OC19880723,       A16N,       5,          1,         24,         24,2,19880724,       0618,    62.6717,   -19.9983,       1481,  1497.0,  34.9905,2,  34.9910,2,    279.8,2,   280.7,2, -999.00,9, -999.00,9, -999.00,9, -999.00,9,-999.000,9,-999.000,9,-999.000,9,-999.0000,9, -999.00,9,-999.000,9,-999.000,   9.000,     3.3870,-999.0000, -999.00
32OC19880723,       A16N,       5,          1,         99,     -999.0,9,19880724,       0618,    62.6717,   -19.9983,       1481,  1499.0,  34.9904,2,-999.0000,9,    279.8,2,  -999.0,9, -999.00,9, -999.00,9, -999.00,9, -999.00,9,-999.000,9,-999.000,9,-999.000,9,-999.0000,9, -999.00,9,-999.000,9,-999.000,-999.000,     3.3900,-999.0000, -999.00