BOTTLE,20220922CCHSIOAMB
EXPOCODE,SECT_ID,STNNBR,CASTNO,SAMPNO,BTLNBR,BTLNBR_FLAG_W,DATE,TIME,LATITUDE,LONGITUDE,DEPTH,CTDPRS,CTDSAL,CTDSAL_FLAG_W,SALNTY,SALNTY_FLAG_W,CTDOXY,CTDOXY_FLAG_W,OXYGEN,OXYGEN_FLAG_W,SILCAT,SILCAT_FLAG_W,NITRAT,NITRAT_FLAG_W,NITRIT,NITRIT_FLAG_W,PHSPHT,PHSPHT_FLAG_W,CFC-11,CFC-11_FLAG_W,CFC-12,CFC-12_FLAG_W,TRITUM,TRITUM_FLAG_W,HELIUM,HELIUM_FLAG_W,DELHE3,DELHE3_FLAG_W,NEON,NEON_FLAG_W,NEONER,TRITER,CTDTMP,HELIER,DELHER
,,,,,,,,,,,METERS,DBAR,PSS-78,,PSS-78,,UMOL/KG,,UMOL/KG,,UMOL/KG,,UMOL/KG,,UMOL/KG,,UMOL/KG,,PMOL/KG,,PMOL/KG,,TU,,NMOL/KG,,PERCNT,,NMOL/KG,,NMOL/KG,TU,IPTS-68,NMOL/KG,PERCNT
32OC19880723,       A16N,      44,          1,          1,          1,2,19880801,       0724,    43.4950,   -20.0417,       3958,     4.7,  35.7156,2,  35.7100,2,    243.4,2,   243.8,2,    0.30,2, -999.00,9,    0.02,2, -999.00,9,   2.616,2,   1.220,2,   2.608,2,   1.7760,2,   -0.90,2,   7.184,2,   0.054,   0.054,    17.5110,   0.0124,    0.18
32OC19880723,       A16N,      44,          1,          2,          2,2,19880801,       0724,    43.4950,   -20.0417,       3958,    38.3,  35.6654,2,  35.6970,2,    240.0,2,   240.2,2,    0.30,2, -999.00,9,    0.07,2, -999.00,9,   2.882,2,   1.428,2,-999.000,9,-999.0000,9, -999.00,9,-999.000,9,-999.000,   9.000,    16.1840,-999.0000, -999.00
32OC19880723,       A16N,      44,          1,          3,          3,2,19880801,       0724,    43.4950,   -20.0417,       3958,    68.2,  35.6515,2,  35.6510,2,    244.3,2,   243.1,2,    1.30,2,    6.20,2,    0.44,2, -999.00,9,   3.110,2,   1.458,2,   2.747,2,   1.7618,2,   -1.02,2,   7.378,2,   0.055,   0.055,    12.8450,   0.0123,    0.18
32OC19880723,       A16N,      44,          1,          4,          4,2,19880801,       0724,    43.4950,   -20.0417,       3958,   106.7,  35.6402,2,  35.6390,2,    247.0,2,   246.6,2,    2.10,2,    7.20,2,    0.04,2, -999.00,9,   3.069,2,   1.460,2,-999.000,9,-999.0000,9, -999.00,9,-999.000,9,-999.000,-999.000,    12.3490,-999.0000, -999.00
32OC19880723,       A16N,      44,          1,          5,          5,2,19880801,       0724,    43.4950,   -20.0417,       3958,   154.8,  35.6420,2,  35.6390,2,    245.8,2,   242.6,2,    3.20,2,    9.30,2,    0.04,2, -999.00,9,   2.826,2,   1.319,2,   2.685,2,   1.7714,2,    0.40,2,   7.458,2,   0.056,   0.054,    12.1060,   0.0124,    0.18
32OC19880723,       A16N,      44,          1,          6,          6,2,19880801,       0724,    43.4950,   -20.0417,       3958,   202.5,  35.6156,2,  35.6150,2,    243.9,2,   242.6,2,    3.40,2,    9.50,2,    0.04,2, -999.00,9,   2.743,2,   1.308,2,   2.245,2,   1.7967,2,    0.29,2,   7.469,2,   0.056,   0.053,    11.9360,   0.0126,    0.18
32OC19880723,       A16N,      44,          1,          7,          7,2,19880801,       0724,    43.4950,   -20.0417,       3958,   297.1,  35.5742,2,  35.5730,2,    246.5,2,   246.1,2,    3.70,2,   10.00,2,    0.03,2, -999.00,9,   2.859,2,   1.359,2,   2.333,2,   1.7488,2,   -0.26,2,   7.458,2,   0.056,   0.053,    11.5960,   0.0122,    0.18
32OC19880723,       A16N,      44,          1,          8,          8,2,19880801,       0724,    43.4950,   -20.0417,       3958,   393.3,  35.5037,2,  35.5010,2,    246.1,2,   242.2,2,    4.00,2,   10.90,2,    0.03,2, -999.00,9,   2.728,2,   1.287,2,-999.000,9,   1.7284,2,    0.65,2,   7.504,2,   0.056,   9.000,    11.1770,   0.0121,    0.18
32OC19880723,       A16N,      44,          1,          9,          9,2,19880801,       0724,    43.4950,   -20.0417,       3958,   484.0,  35.4577,2,  35.4630,2,    241.8,2,   245.6,2,    4.10,2,   11.10,2,    0.03,2, -999.00,9,   2.816,2,   1.319,2,   2.627,2,   1.7220,2,    0.19,2,   7.547,2,   0.057,   0.055,    10.8030,   0.0121,    0.18
32OC19880723,       A16N,      44,          1,         10,         10,2,19880801,       0724,    43.4950,   -20.0417,       3958,   576.9,  35.3904,2,  35.4050,2,    226.9,2,   220.9,2,    5.90,2,   13.90,2,    0.02,2, -999.00,9,   2.182,2,   1.021,2,   2.484,2,   1.7044,2,    3.92,2,   7.542,2,   0.057,   0.055,    10.3140,   0.0119,    0.18
32OC19880723,       A16N,      44,          1,         11,         11,2,19880801,       0724,    43.4950,   -20.0417,       3958,   755.4,  35.2957,2,  35.2900,2,    199.9,2,   199.5,2,    9.10,2,   17.30,2,    0.02,2, -999.00,9,   1.487,2,   0.653,2,   2.202,2,   1.8509,2,    7.85,2,   7.669,2,   0.058,   0.048,     8.8900,   0.0130,    0.18
32OC19880723,       A16N,      44,          1,         12,         12,2,19880801,       0724,    43.4950,   -20.0417,       3958,   926.2,  35.2996,2,  35.3340,2,    197.7,2,   199.5,2,   10.30,2,   18.20,2,    0.02,2, -999.00,9,   1.106,2,   0.487,2,   1.906,2,   1.7913,2,    8.63,2,   7.731,2,   0.058,   0.047,     7.9910,   0.0125,    0.18
32OC19880723,       A16N,      44,          1,         13,         13,2,19880801,       0724,    43.4950,   -20.0417,       3958,  1096.4,  35.3716,2,  35.2890,2,    213.9,2,   216.4,2,   10.70,2,   17.90,2,    0.02,2, -999.00,9,   1.031,2,   0.458,2,   1.683,2,   1.7961,2,    8.58,2,   7.775,2,   0.058,   0.045,     6.8540,   0.0126,    0.18
32OC19880723,       A16N,      44,          1,         14,         14,2,19880801,       0724,    43.4950,   -20.0417,       3958,  1269.4,  35.1538,2,-999.0000,9,    237.6,2,   238.1,2,   10.70,2,   17.50,2,    0.02,2, -999.00,9,   1.077,2,   0.492,2,   1.627,2,   1.8240,2,    8.64,2,   7.877,2,   0.059,   0.043,     5.5790,   0.0128,    0.18
32OC19880723,       A16N,      44,          1,         15,         15,2,19880801,       0724,    43.4950,   -20.0417,       3958,  1443.2,  35.0034,2,  35.0130,2,    253.7,2,   257.7,2,   10.70,2,   17.20,2,    0.02,2, -999.00,9,   1.165,2,   0.516,2,   1.695,2,   1.8152,2,    8.67,2,   7.975,2,   0.060,   0.045,     4.5370,   0.0127,    0.18
32OC19880723,       A16N,      44,          1,         16,         16,2,19880801,       0724,    43.4950,   -20.0417,       3958,  1721.5,  34.9351,2,  34.9390,2,    268.2,2,   270.7,2,   10.90,2,   16.80,2,    0.02,2, -999.00,9,   0.905,2,   0.449,2,-999.000,9,-999.0000,9, -999.00,9,-999.000,9,-999.000,-999.000,     3.8480,-999.0000, -999.00
32OC19880723,       A16N,      44,          1,         17,         17,2,19880801,       0724,    43.4950,   -20.0417,       3958,  2005.7,  34.9372,2,  34.9430,2,    271.8,2,   271.6,2,   12.00,2,   16.90,2,    0.02,2, -999.00,9,   0.603,2,   0.284,2,-999.000,9,-999.0000,9, -999.00,9,-999.000,9,-999.000,   9.000,     3.6650,-999.0000, -999.00
32OC19880723,       A16N,      44,          1,         18,         18,2,19880801,       0724,    43.4950,   -20.0417,       3958,  2303.1,  34.9534,2,  34.9550,2,    267.8,2,   267.7,2,   15.00,2,   17.00,2,    0.02,2, -999.00,9,   0.335,2,   0.166,2,   0.667,2,   1.8257,2,    4.78,2,   8.028,2,   0.060,   0.036,     3.4330,   0.0128,    0.18
32OC19880723,       A16N,      44,          1,         19,         19,2,19880801,       0724,    43.4950,   -20.0417,       3958,  2612.1,  34.9582,2,  34.9600,2,    262.1,2,   261.1,2,   21.40,2,   18.10,2,    0.02,2, -999.00,9,   0.204,2,   0.092,2,-999.000,9,-999.0000,9, -999.00,9,-999.000,9,-999.000,-999.000,     3.1290,-999.0000, -999.00
32OC19880723,       A16N,      44,          1,         20,         20,2,19880801,       0724,    43.4950,   -20.0417,       3958,  2913.9,  34.9499,2,  34.9530,2,    257.4,2,   255.9,2, -999.00,9, -999.00,9,    0.01,2, -999.00,9,   0.249,3,   0.079,2,-999.000,9,-999.0000,9, -999.00,9,-999.000,9,-999.000,   9.000,     2.8900,-999.0000, -999.00
32OC19880723,       A16N,      44,          1,         21,         21,2,19880801,       0724,    43.4950,   -20.0417,       3958,  3204.4,  34.9374,2,-999.0000,9,    250.7,2,   251.1,2,   33.40,2,   19.80,2,    0.01,2, -999.00,9,   0.108,2,   0.052,2,   0.153,2,   1.8530,2,    2.36,2,   8.121,2,   0.061,   0.030,     2.7150,   0.0130,    0.18
32OC19880723,       A16N,      44,          1,         22,         22,2,19880801,       0724,    43.4950,   -20.0417,       3958,  3523.7,  34.9223,2,  34.9210,2,    244.5,2,   245.0,2,   39.40,2,   20.90,2,    0.01,2, -999.00,9,   0.089,2,   0.029,2,-999.000,9,-999.0000,9, -999.00,9,-999.000,9,-999.000,-999.000,     2.5860,-999.0000, -999.00
32OC19880723,       A16N,      44,          1,         23,         23,2,19880801,       0724,    43.4950,   -20.0417,       3958,  3793.0,  34.9141,2,  34.9140,2,    242.9,2,   242.9,2,   41.70,2,   21.50,2,    0.01,2, -999.00,9,   0.005,3,   0.046,2,-999.000,9,-999.0000,9, -999.00,9,-999.000,9,-999.000,   9.000,     2.5580,-999.0000, -999.00
32OC19880723,       A16N,      44,          1,         24,         24,2,19880801,       0724,    43.4950,   -20.0417,       3958,  4058.6,  34.9112,2,  34.9100,2,    240.5,2,   241.1,2,   43.00,2,   21.50,2,    0.01,2, -999.00,9,   0.081,2,   0.023,7,  -0.029,2,   1.8534,2,    1.86,2,   8.132,2,   0.061,   0.027,     2.5580,   0.0130,    0.18
32OC19880723,       A16N,      44,          1,         99,     -999.0,9,19880801,       0724,    43.4950,   -20.0417,       3958,  4060.7,-999.0000,9,-999.0000,9,   -999.0,9,  -999.0,9, -999.00,9, -999.00,9, -999.00,9, -999.00,9,-999.000,9,-999.000,9,-999.000,9,-999.0000,9, -999.00,9,-999.000,9,-999.000,-999.000,     2.5580,-999.0000, -999.00
32OC19880723,       A16N,      45,          1,          1,          1,2,19880801,       1223,    43.0017,   -20.0233,       5163,    13.2,  35.7348,2,  35.7420,2,    235.4,2,   236.9,2,    0.40,2,    0.00,2,    0.01,2,    0.09,2,-999.000,9,-999.000,9,-999.000,9,-999.0000,9, -999.00,9,-999.000,9,-999.000,   9.000,    19.0330,-999.0000, -999.00
32OC19880723,       A16N,      45,          1,          2,          2,2,19880801,       1223,    43.0017,   -20.0233,       5163,    58.0,  35.6946,2,  35.7060,2,    235.9,2,   237.5,2,    1.30,2,    3.30,2,    0.05,2,    0.38,2,-999.000,9,-999.000,9,-999.000,9,-999.0000,9, -999.00,9,-999.000,9,-999.000,-999.000,    13.2480,-999.0000, -999.00
32OC19880723,       A16N,      45,          1,          3,          3,2,19880801,       1223,    43.0017,   -20.0233,       5163,   108.5,  35.6835,2,  35.6980,2,    236.9,2,   238.7,2,    2.30,2,    6.00,2,    0.03,2,    0.47,2,-999.000,9,-999.000,9,-999.000,9,-999.0000,9, -999.00,9,-999.000,9,-999.000,   9.000,    12.6370,-999.0000, -999.00
32OC19880723,       A16N,      45,          1,          4,          4,2,19880801,       1223,    43.0017,   -20.0233,       5163,   207.7,  35.6404,2,  35.6600,2,    240.8,2,   243.5,2,    2.70,2,    6.90,2,    0.02,2,    0.51,2,-999.000,9,-999.000,9,-999.000,9,-999.0000,9, -999.00,9,-999.000,9,-999.000,-999.000,    12.2370,-999.0000, -999.00
32OC19880723,       A16N,      45,          1,          5,          5,2,19880801,       1223,    43.0017,   -20.0233,       5163,   303.5,  35.5671,2,  35.5970,2,    234.2,2,   237.8,2,    3.40,2,    8.80,2,    0.03,2,    0.59,2,-999.000,9,-999.000,9,-999.000,9,-999.0000,9, -999.00,9,-999.000,9,-999.000,   9.000,    11.7900,-999.0000, -999.00
32OC19880723,       A16N,      45,          1,          6,          6,2,19880801,       1223,    43.0017,   -20.0233,       5163,   398.7,  35.5055,2,  35.5190,2,    233.3,2,   234.4,2,    4.10,2,   10.00,2,    0.01,2,    0.66,2,-999.000,9,-999.000,9,-999.000,9,-999.0000,9, -999.00,9,-999.000,9,-999.000,-999.000,    11.2570,-999.0000, -999.00
32OC19880723,       A16N,      45,          1,          7,          7,2,19880801,       1223,    43.0017,   -20.0233,       5163,   494.8,  35.4859,2,  35.5050,2,    224.7,2,   224.8,2,    4.40,2,   11.30,2,    0.00,2,    0.72,2,-999.000,9,-999.000,9,-999.000,9,-999.0000,9, -999.00,9,-999.000,9,-999.000,   9.000,    10.9820,-999.0000, -999.00
32OC19880723,       A16N,      45,          1,          8,          8,2,19880801,       1223,    43.0017,   -20.0233,       5163,   590.3,  35.3783,2,  35.3950,2,    216.4,2,   216.1,2,    6.30,2,   13.80,2,    0.00,2,    0.89,2,-999.000,9,-999.000,9,-999.000,9,-999.0000,9, -999.00,9,-999.000,9,-999.000,-999.000,    10.1730,-999.0000, -999.00
32OC19880723,       A16N,      45,          1,          9,          9,2,19880801,       1223,    43.0017,   -20.0233,       5163,   785.3,  35.3299,2,  35.3360,2,    194.0,2,   194.7,2,    9.60,2,   17.50,2,    0.00,2,    1.07,2,-999.000,9,-999.000,9,-999.000,9,-999.0000,9, -999.00,9,-999.000,9,-999.000,   9.000,     8.7350,-999.0000, -999.00
32OC19880723,       A16N,      45,          1,         10,         10,2,19880801,       1223,    43.0017,   -20.0233,       5163,   987.3,  35.3723,2,  35.3660,2,    204.4,2,   206.4,2,   10.40,2,   17.60,2,    0.00,2,    1.10,2,-999.000,9,-999.000,9,-999.000,9,-999.0000,9, -999.00,9,-999.000,9,-999.000,-999.000,     7.4860,-999.0000, -999.00
32OC19880723,       A16N,      45,          1,         11,         11,2,19880801,       1223,    43.0017,   -20.0233,       5163,  1291.7,  35.1917,2,  35.2230,2,    232.0,2,   235.1,2,   10.80,2, -999.00,9,    0.00,2,    1.10,2,-999.000,9,-999.000,9,-999.000,9,-999.0000,9, -999.00,9,-999.000,9,-999.000,   9.000,     5.8440,-999.0000, -999.00
32OC19880723,       A16N,      45,          1,         12,         12,2,19880801,       1223,    43.0017,   -20.0233,       5163,  1497.4,  35.0589,2,  35.0610,2,    251.7,2,   254.2,2,   10.90,2, -999.00,9,    0.00,2,    1.09,2,-999.000,9,-999.000,9,-999.000,9,-999.0000,9, -999.00,9,-999.000,9,-999.000,-999.000,     4.6910,-999.0000, -999.00
32OC19880723,       A16N,      45,          1,         13,         13,2,19880801,       1223,    43.0017,   -20.0233,       5163,  1802.3,  34.9578,2,  34.9670,2,    266.1,2,   267.7,2,   11.70,2, -999.00,9,    0.00,2,    1.09,2,-999.000,9,-999.000,9,-999.000,9,-999.0000,9, -999.00,9,-999.000,9,-999.000,   9.000,     3.8860,-999.0000, -999.00
32OC19880723,       A16N,      45,          1,         14,         14,2,19880801,       1223,    43.0017,   -20.0233,       5163,  2098.0,  34.9626,2,  34.9670,2,    265.8,2,   268.1,2,   14.60,2, -999.00,9,    0.00,2,    1.10,2,-999.000,9,-999.000,9,-999.000,9,-999.0000,9, -999.00,9,-999.000,9,-999.000,-999.000,     3.5900,-999.0000, -999.00
32OC19880723,       A16N,      45,          1,         15,         15,2,19880801,       1223,    43.0017,   -20.0233,       5163,  2293.8,  34.9607,2,  34.9650,2,    266.4,2,   265.5,2,   17.40,2, -999.00,9,    0.00,2,    1.12,2,-999.000,9,-999.000,9,-999.000,9,-999.0000,9, -999.00,9,-999.000,9,-999.000,   9.000,     3.3580,-999.0000, -999.00
32OC19880723,       A16N,      45,          1,         16,         16,2,19880801,       1223,    43.0017,   -20.0233,       5163,  2595.1,  34.9534,2,  34.9580,2,    264.6,2,   263.3,2,   20.10,2,   17.50,2,    0.00,2,    1.13,2,-999.000,9,-999.000,9,-999.000,9,-999.0000,9, -999.00,9,-999.000,9,-999.000,-999.000,     3.0800,-999.0000, -999.00
32OC19880723,       A16N,      45,          1,         17,         17,2,19880801,       1223,    43.0017,   -20.0233,       5163,  2898.4,  34.9469,2,  34.9530,2,    257.8,2,   256.3,2,   27.40,2,   18.60,2,    0.00,2,    1.22,2,-999.000,9,-999.000,9,-999.000,9,-999.0000,9, -999.00,9,-999.000,9,-999.000,   9.000,     2.8590,-999.0000, -999.00
32OC19880723,       A16N,      45,          1,         18,         18,2,19880801,       1223,    43.0017,   -20.0233,       5163,  3255.9,  34.9321,2,  34.9350,2,    249.6,2,   249.4,2,   35.00,2,   20.10,2,    0.01,2,    1.28,2,-999.000,9,-999.000,9,-999.000,9,-999.0000,9, -999.00,9,-999.000,9,-999.000,-999.000,     2.6750,-999.0000, -999.00
32OC19880723,       A16N,      45,          1,         19,         19,2,19880801,       1223,    43.0017,   -20.0233,       5163,  3615.0,  34.9204,2,  34.9220,2,    244.9,2,   244.6,2,   39.60,2,   21.10,2,    0.00,2,    1.34,2,-999.000,9,-999.000,9,-999.000,9,-999.0000,9, -999.00,9,-999.000,9,-999.000,   9.000,     2.5850,-999.0000, -999.00
32OC19880723,       A16N,      45,          1,         20,         20,2,19880801,       1223,    43.0017,   -20.0233,       5163,  3976.7,  34.9132,2,  34.9160,2,    242.4,2,   242.0,2,   41.90,2,   21.60,2,    0.00,2,    1.37,2,-999.000,9,-999.000,9,-999.000,9,-999.0000,9, -999.00,9,-999.000,9,-999.000,-999.000,     2.5760,-999.0000, -999.00
32OC19880723,       A16N,      45,          1,         21,         21,2,19880801,       1223,    43.0017,   -20.0233,       5163,  4336.0,  34.9115,2,  34.9160,2,    241.4,2,   242.0,2,   42.80,2,   21.80,2,    0.00,2,    1.37,2,-999.000,9,-999.000,9,-999.000,9,-999.0000,9, -999.00,9,-999.000,9,-999.000,   9.000,     2.6020,-999.0000, -999.00
32OC19880723,       A16N,      45,          1,         22,         22,2,19880801,       1223,    43.0017,   -20.0233,       5163,  4693.0,  34.9115,2,  34.9150,2,    241.4,2,   241.1,2,   43.00,2,   21.70,2,    0.00,2,    1.38,2,-999.000,9,-999.000,9,-999.000,9,-999.0000,9, -999.00,9,-999.000,9,-999.000,-999.000,     2.6440,-999.0000, -999.00
32OC19880723,       A16N,      45,          1,         23,         23,2,19880801,       1223,    43.0017,   -20.0233,       5163,  5051.9,  34.9114,2,  34.9130,2,    241.2,2,   241.1,2,   42.70,2,   21.70,2,    0.02,2,    1.36,2,-999.000,9,-999.000,9,-999.000,9,-999.0000,9, -999.00,9,-999.000,9,-999.000,   9.000,     2.6870,-999.0000, -999.00
32OC19880723,       A16N,      45,          1,         24,         24,2,19880801,       1223,    43.0017,   -20.0233,       5163,  5349.6,  34.9123,2,  34.9120,2,    240.7,2,   241.1,2,   42.90,2,   21.30,2,    0.02,2,    1.40,2,-999.000,9,-999.000,9,-999.000,9,-999.0000,9, -999.00,9,-999.000,9,-999.000,-999.000,     2.7240,-999.0000, -999.00
32OC19880723,       A16N,      45,          1,         99,     -999.0,9,19880801,       1223,    43.0017,   -20.0233,       5163,  5352.4,  34.9122,2,-999.0000,9,    240.8,2,  -999.0,9, -999.00,9, -999.00,9, -999.00,9, -999.00,9,-999.000,9,-999.000,9,-999.000,9,-999.0000,9, -999.00,9,-999.000,9,-999.000,   9.000,     2.7240,-999.0000, -999.00