BOTTLE,20220922CCHSIOAMB
EXPOCODE,SECT_ID,STNNBR,CASTNO,SAMPNO,BTLNBR,BTLNBR_FLAG_W,DATE,TIME,LATITUDE,LONGITUDE,DEPTH,CTDPRS,CTDSAL,CTDSAL_FLAG_W,SALNTY,SALNTY_FLAG_W,CTDOXY,CTDOXY_FLAG_W,OXYGEN,OXYGEN_FLAG_W,SILCAT,SILCAT_FLAG_W,NITRAT,NITRAT_FLAG_W,NITRIT,NITRIT_FLAG_W,PHSPHT,PHSPHT_FLAG_W,CFC-11,CFC-11_FLAG_W,CFC-12,CFC-12_FLAG_W,TRITUM,TRITUM_FLAG_W,HELIUM,HELIUM_FLAG_W,DELHE3,DELHE3_FLAG_W,NEON,NEON_FLAG_W,NEONER,TRITER,CTDTMP,HELIER,DELHER
,,,,,,,,,,,METERS,DBAR,PSS-78,,PSS-78,,UMOL/KG,,UMOL/KG,,UMOL/KG,,UMOL/KG,,UMOL/KG,,UMOL/KG,,PMOL/KG,,PMOL/KG,,TU,,NMOL/KG,,PERCNT,,NMOL/KG,,NMOL/KG,TU,IPTS-68,NMOL/KG,PERCNT
32OC19880723,       A16N,      81,          1,          7,          7,2,19880814,       1847,    24.0033,   -26.9117,       5448,    13.8,  37.3251,2,  37.3140,2,    211.9,2,   212.1,2,    0.10,2,    0.00,2,    0.01,2,    0.05,2,   1.883,2,   0.912,2,   2.124,2,   1.7007,2,   -1.61,2,-999.000,9,  -7.493,   0.045,    23.9710,   0.0119,    0.18
32OC19880723,       A16N,      81,          1,          8,          8,2,19880814,       1847,    24.0033,   -26.9117,       5448,    39.3,  37.3249,2,  37.3170,2,    213.4,2,   213.0,2,    0.00,2,    0.00,2,    0.01,2,    0.03,2,   1.892,2,   0.924,2,   2.173,2,   1.7434,2,   -1.59,2,-999.000,9,  -7.493,   0.045,    23.7830,   0.0122,    0.18
32OC19880723,       A16N,      81,          1,          9,          9,2,19880814,       1847,    24.0033,   -26.9117,       5448,    69.5,  37.1870,2,  37.2850,2,    223.0,2,   218.6,2,    0.00,2,    0.00,2,    0.01,2,    0.06,2,   1.938,2,   0.938,2,   2.243,2,-999.0000,9, -999.00,9,-999.000,9,-999.000,   0.047,    23.3160,-999.0000, -999.00
32OC19880723,       A16N,      81,          1,         10,         10,2,19880814,       1847,    24.0033,   -26.9117,       5448,   109.5,  37.0184,2,  37.0320,2,    221.6,2,   224.1,2,    0.20,2,    0.10,2,    0.02,2,    0.05,2,-999.000,9,-999.000,9,   2.370,2,   1.7292,2,   -1.22,2,-999.000,9,  -7.493,   0.045,    20.4560,   0.0121,    0.18
32OC19880723,       A16N,      81,          1,         11,         11,2,19880814,       1847,    24.0033,   -26.9117,       5448,   159.9,  36.8095,2,  36.8060,2,    203.2,2,   203.6,2,    0.50,2,    2.20,2,    0.03,2,    0.09,2,   2.046,2,   0.986,2,-999.000,9,-999.0000,9, -999.00,9,-999.000,9,-999.000,-999.000,    19.0960,-999.0000, -999.00
32OC19880723,       A16N,      81,          1,         12,         12,2,19880814,       1847,    24.0033,   -26.9117,       5448,   209.9,  36.4830,2,  36.4940,2,    188.0,2,   188.4,2,    1.10,2,    5.60,2,    0.03,2,    0.28,2,   1.905,2,   0.930,2,   2.463,2,   1.7316,2,    1.37,2,-999.000,9,  -7.493,   0.046,    17.4210,   0.0121,    0.18
32OC19880723,       A16N,      81,          1,         13,         13,2,19880814,       1847,    24.0033,   -26.9117,       5448,   310.5,  36.0719,2,-999.0000,9,    195.3,2,   192.2,2,    2.40,2,    8.90,2,    0.02,2,    0.49,2,   1.761,2,   0.836,2,   2.421,2,   1.7559,2,    4.14,2,-999.000,9,  -7.493,   0.047,    15.3240,   0.0123,    0.18
32OC19880723,       A16N,      81,          1,         14,         14,2,19880814,       1847,    24.0033,   -26.9117,       5448,   410.9,  35.8220,2,  35.8490,2,    190.0,2,   191.8,2,    3.70,2,   11.90,2,    0.02,2,    0.67,2,   1.547,2,   0.708,2,   2.633,2,   1.7603,2,    7.25,2,-999.000,9,  -7.493,   0.048,    13.6130,   0.0123,    0.18
32OC19880723,       A16N,      81,          1,         15,         15,2,19880814,       1847,    24.0033,   -26.9117,       5448,   610.6,  35.5311,2,  35.5360,2,    162.6,2,   162.2,2,    7.90,2,   19.10,2,    0.03,2,    1.17,2,   0.679,2,   0.311,2,   1.785,2,   1.7747,2,   10.89,2,-999.000,9,  -7.493,   0.040,    11.1380,   0.0124,    0.18
32OC19880723,       A16N,      81,          1,         16,         16,2,19880814,       1847,    24.0033,   -26.9117,       5448,   810.2,  35.3114,2,-999.0000,9,    143.0,2,  -999.0,9, -999.00,9, -999.00,9, -999.00,9, -999.00,9,-999.000,9,-999.000,9,-999.000,9,-999.0000,9, -999.00,9,-999.000,9,-999.000,   9.000,     8.8550,-999.0000, -999.00
32OC19880723,       A16N,      81,          1,         17,         17,2,19880814,       1847,    24.0033,   -26.9117,       5448,  1060.1,  35.2048,2,  35.2030,2,    160.8,2,   160.8,2,   18.30,2,   25.40,2,    0.03,2,    1.64,2,   0.089,2,   0.022,2,   0.127,2,   1.8128,2,    1.63,2,-999.000,9,  -7.493,   0.021,     6.9650,   0.0127,    0.18
32OC19880723,       A16N,      81,          1,         18,         18,2,19880814,       1847,    24.0033,   -26.9117,       5448,  1311.2,  35.2135,2,  35.2160,2,    184.0,2,   182.5,2,   19.20,2,   23.50,2,    0.01,2,    1.49,2,   0.043,2,   0.009,7,   0.076,2,   1.8112,2,    1.36,2,-999.000,9,  -7.493,   0.019,     6.1380,   0.0127,    0.18
32OC19880723,       A16N,      81,          1,         19,         19,2,19880814,       1847,    24.0033,   -26.9117,       5448,  1563.4,  35.1566,2,  35.1590,2,    208.0,2,   208.1,2,   20.20,2,   22.00,2,    0.01,2,    1.43,2,   0.008,2,   0.002,7,   0.004,2,   1.8194,2,    1.12,2,-999.000,9,  -7.493,   0.018,     5.1450,   0.0127,    0.18
32OC19880723,       A16N,      81,          1,         20,         20,2,19880814,       1847,    24.0033,   -26.9117,       5448,  1815.7,  35.0974,2,  35.0970,2,    223.0,2,   224.2,2,   21.90,2,   21.40,2,    0.01,2,    1.37,2,  -0.004,2,   0.002,7,   0.025,2,   1.8348,2,    0.89,2,-999.000,9,  -7.493,   0.021,     4.4050,   0.0128,    0.18
32OC19880723,       A16N,      81,          1,         21,         21,2,19880814,       1847,    24.0033,   -26.9117,       5448,  2170.6,  35.0332,2,  35.0370,2,    237.2,2,   238.1,2,   24.10,2,   20.50,2,    0.01,2,    1.30,2,   0.101,4,   0.006,7,-999.000,9,-999.0000,9, -999.00,9,-999.000,9,-999.000,-999.000,     3.7280,-999.0000, -999.00
32OC19880723,       A16N,      81,          1,         22,         22,2,19880814,       1847,    24.0033,   -26.9117,       5448,  2576.5,  34.9714,2,  34.9760,2,    244.3,2,   246.8,2,   29.10,2,   20.40,2,    0.01,2,    1.32,2,   0.037,3,   0.006,7,-999.000,9,-999.0000,9, -999.00,9,-999.000,9,-999.000,   9.000,     3.1020,-999.0000, -999.00
32OC19880723,       A16N,      81,          1,         23,         23,2,19880814,       1847,    24.0033,   -26.9117,       5448,  2982.5,  34.9379,2,  34.9410,2,    246.7,2,   246.3,2,   35.00,2,   21.00,2,    0.01,2,    1.36,2,   0.010,2,  -0.001,2,-999.000,9,-999.0000,9, -999.00,9,-999.000,9,-999.000,-999.000,     2.7490,-999.0000, -999.00
32OC19880723,       A16N,      81,          1,         24,         24,2,19880814,       1847,    24.0033,   -26.9117,       5448,  3389.2,  34.9169,2,  34.9190,2,    246.4,2,   245.9,2,   39.40,2,   21.40,2,    0.01,2,    1.44,2,   0.003,2,  -0.001,2,-999.000,9,-999.0000,9, -999.00,9,-999.000,9,-999.000,   9.000,     2.5620,-999.0000, -999.00
32OC19880723,       A16N,      81,          1,          1,          1,2,19880814,       1847,    24.0033,   -26.9117,       5448,  3798.1,  34.9044,2,  34.9040,2,    246.3,2,   245.5,2,   44.30,2,   22.00,2,    0.01,2,    1.43,2,  -0.037,3,   0.002,7,-999.000,9,-999.0000,9, -999.00,9,-999.000,9,-999.000,-999.000,     2.4590,-999.0000, -999.00
32OC19880723,       A16N,      81,          1,          2,          2,2,19880814,       1847,    24.0033,   -26.9117,       5448,  4207.9,  34.8936,2,  34.8960,2,    246.5,2,   245.0,2,   45.30,2,   22.30,2,    0.01,2,    1.43,2,   0.007,2,  -0.001,2,-999.000,9,-999.0000,9, -999.00,9,-999.000,9,-999.000,   9.000,     2.4010,-999.0000, -999.00
32OC19880723,       A16N,      81,          1,          3,          3,2,19880814,       1847,    24.0033,   -26.9117,       5448,  4619.2,  34.8873,2,  34.8880,2,    245.9,2,   245.5,2,   46.50,2,   22.50,2,    0.01,2,    1.44,2,  -0.035,3,   0.002,7,-999.000,9,-999.0000,9, -999.00,9,-999.000,9,-999.000,-999.000,     2.3920,-999.0000, -999.00
32OC19880723,       A16N,      81,          1,          4,          4,2,19880814,       1847,    24.0033,   -26.9117,       5448,  4978.9,  34.8861,2,  34.8860,2,    245.5,2,   245.5,2,   47.20,2,   22.30,2,    0.01,2,    1.45,2,   0.032,3,   0.002,7,-999.000,9,-999.0000,9, -999.00,9,-999.000,9,-999.000,   9.000,     2.4190,-999.0000, -999.00
32OC19880723,       A16N,      81,          1,          5,          5,2,19880814,       1847,    24.0033,   -26.9117,       5448,  5338.7,  34.8846,2,  34.8870,2,    244.6,2,   245.0,2,   47.50,2,   22.50,2,    0.01,2,    1.43,2,  -0.036,4,  -0.001,7,-999.000,9,-999.0000,9, -999.00,9,-999.000,9,-999.000,-999.000,     2.4590,-999.0000, -999.00
32OC19880723,       A16N,      81,          1,          6,          6,2,19880814,       1847,    24.0033,   -26.9117,       5448,  5544.9,  34.8844,2,  34.8850,2,    243.6,2,   244.6,2,   47.50,2,   22.50,2,    0.01,2,    1.43,2,   0.002,3,   0.002,7,-999.000,9,-999.0000,9, -999.00,9,-999.000,9,-999.000,   9.000,     2.4820,-999.0000, -999.00
32OC19880723,       A16N,      81,          1,         99,     -999.0,9,19880814,       1847,    24.0033,   -26.9117,       5448,  5545.8,  34.8844,2,-999.0000,9,    243.5,2,  -999.0,9, -999.00,9, -999.00,9, -999.00,9, -999.00,9,-999.000,9,-999.000,9,-999.000,9,-999.0000,9, -999.00,9,-999.000,9,-999.000,-999.000,     2.4830,-999.0000, -999.00
32OC19880723,       A16N,      82,          1,          7,          7,2,19880815,       0048,    23.3967,   -27.0917,       5501,    12.4,  37.3623,2,  37.3510,2,    203.4,2,   213.0,2,    0.00,2,    0.00,2,    0.03,2,    0.02,2,-999.000,9,-999.000,9,-999.000,9,-999.0000,9, -999.00,9,-999.000,9,-999.000,   9.000,    23.7310,-999.0000, -999.00
32OC19880723,       A16N,      82,          1,          8,          8,2,19880815,       0048,    23.3967,   -27.0917,       5501,    37.5,  37.3465,2,  37.3410,2,    207.9,2,   213.4,2,    0.00,2,    0.10,2,    0.03,2,    0.02,2,-999.000,9,-999.000,9,-999.000,9,-999.0000,9, -999.00,9,-999.000,9,-999.000,-999.000,    23.6610,-999.0000, -999.00
32OC19880723,       A16N,      82,          1,          9,          9,2,19880815,       0048,    23.3967,   -27.0917,       5501,    67.7,  37.1001,2,  37.2660,2,    221.0,2,   219.9,2,    0.00,2,    0.10,2,    0.03,2,    0.03,2,-999.000,9,-999.000,9,-999.000,9,-999.0000,9, -999.00,9,-999.000,9,-999.000,   9.000,    22.5590,-999.0000, -999.00
32OC19880723,       A16N,      82,          1,         10,         10,2,19880815,       0048,    23.3967,   -27.0917,       5501,   107.3,  36.9914,2,  37.0190,2,    202.2,2,   205.8,2,    0.10,2,    0.90,2,    0.03,2,    0.06,2,-999.000,9,-999.000,9,-999.000,9,-999.0000,9, -999.00,9,-999.000,9,-999.000,-999.000,    20.3820,-999.0000, -999.00
32OC19880723,       A16N,      82,          1,         11,         11,2,19880815,       0048,    23.3967,   -27.0917,       5501,   156.3,  36.7645,2,  36.7970,2,    191.0,2,   194.9,2,    0.60,2,    3.40,2,    0.03,2,    0.15,2,-999.000,9,-999.000,9,-999.000,9,-999.0000,9, -999.00,9,-999.000,9,-999.000,   9.000,    19.0710,-999.0000, -999.00
32OC19880723,       A16N,      82,          1,         12,         12,2,19880815,       0048,    23.3967,   -27.0917,       5501,   203.8,  36.5277,2,  36.5430,2,    184.2,2,   183.6,2,    1.10,2,    6.10,2,    0.01,2,    0.25,2,-999.000,9,-999.000,9,-999.000,9,-999.0000,9, -999.00,9,-999.000,9,-999.000,-999.000,    17.7880,-999.0000, -999.00
32OC19880723,       A16N,      82,          1,         13,         13,2,19880815,       0048,    23.3967,   -27.0917,       5501,   299.4,  36.1430,2,  36.0900,2,    171.5,2,   157.9,2,    3.40,2,   12.80,2,    0.01,2,    0.62,2,-999.000,9,-999.000,9,-999.000,9,-999.0000,9, -999.00,9,-999.000,9,-999.000,   9.000,    15.2670,-999.0000, -999.00
32OC19880723,       A16N,      82,          1,         14,         14,2,19880815,       0048,    23.3967,   -27.0917,       5501,   394.5,  35.8753,2,  35.8310,2,    163.3,2,   155.3,2,    5.00,2,   16.00,2,    0.01,2,    0.90,2,-999.000,9,-999.000,9,-999.000,9,-999.0000,9, -999.00,9,-999.000,9,-999.000,-999.000,    13.6020,-999.0000, -999.00
32OC19880723,       A16N,      82,          1,         15,         15,2,19880815,       0048,    23.3967,   -27.0917,       5501,   585.8,  35.5372,2,  35.5230,2,    152.1,2,   144.3,2,    8.60,2,   21.40,2,    0.01,2,    1.29,2,-999.000,9,-999.000,9,-999.000,9,-999.0000,9, -999.00,9,-999.000,9,-999.000,   9.000,    11.1900,-999.0000, -999.00
32OC19880723,       A16N,      82,          1,         16,         16,2,19880815,       0048,    23.3967,   -27.0917,       5501,   779.6,  35.2735,2,  35.2770,2,    128.7,2,   127.8,2,   15.20,2,   27.00,2,    0.02,2,    1.70,2,-999.000,9,-999.000,9,-999.000,9,-999.0000,9, -999.00,9,-999.000,9,-999.000,-999.000,     8.8990,-999.0000, -999.00
32OC19880723,       A16N,      82,          1,         17,         17,2,19880815,       0048,    23.3967,   -27.0917,       5501,  1015.8,  35.1242,2,  35.1260,2,    149.0,2,   148.2,2,   19.30,2,   27.70,2,    0.02,2,    1.80,2,-999.000,9,-999.000,9,-999.000,9,-999.0000,9, -999.00,9,-999.000,9,-999.000,   9.000,     6.9050,-999.0000, -999.00
32OC19880723,       A16N,      82,          1,         18,         18,2,19880815,       0048,    23.3967,   -27.0917,       5501,  1261.0,  35.1706,2,  35.1710,2,    179.5,2,   179.9,2,   19.10,2,   24.60,2,    0.02,2,    1.61,2,-999.000,9,-999.000,9,-999.000,9,-999.0000,9, -999.00,9,-999.000,9,-999.000,-999.000,     6.0900,-999.0000, -999.00
32OC19880723,       A16N,      82,          1,         19,         19,2,19880815,       0048,    23.3967,   -27.0917,       5501,  1502.1,  35.1572,2,  35.1650,2,    202.7,2,   201.6,2,   19.80,2,   23.00,2,    0.02,2,    1.50,2,-999.000,9,-999.000,9,-999.000,9,-999.0000,9, -999.00,9,-999.000,9,-999.000,   9.000,     5.3480,-999.0000, -999.00
32OC19880723,       A16N,      82,          1,         20,         20,2,19880815,       0048,    23.3967,   -27.0917,       5501,  1747.2,  35.0931,2,  35.0960,2,    217.3,2,   219.9,2,   21.70,2,   22.10,2,    0.02,2,    1.45,2,-999.000,9,-999.000,9,-999.000,9,-999.0000,9, -999.00,9,-999.000,9,-999.000,-999.000,     4.4770,-999.0000, -999.00
32OC19880723,       A16N,      82,          1,         21,         21,2,19880815,       0048,    23.3967,   -27.0917,       5501,  2094.3,  35.0283,2,  35.0290,2,    232.7,2,   232.5,2,   25.00,2,   21.60,2,    0.02,2,    1.42,2,-999.000,9,-999.000,9,-999.000,9,-999.0000,9, -999.00,9,-999.000,9,-999.000,   9.000,     3.7460,-999.0000, -999.00
32OC19880723,       A16N,      82,          1,         22,         22,2,19880815,       0048,    23.3967,   -27.0917,       5501,  2447.1,  34.9905,2,  34.9940,2,    241.2,2,   240.7,2,   27.70,2,   21.20,2,    0.02,2,    1.40,2,-999.000,9,-999.000,9,-999.000,9,-999.0000,9, -999.00,9,-999.000,9,-999.000,-999.000,     3.3230,-999.0000, -999.00
32OC19880723,       A16N,      82,          1,         23,         23,2,19880815,       0048,    23.3967,   -27.0917,       5501,  2802.2,  34.9502,2,  34.9550,2,    246.4,2,   245.0,2,   32.50,2,   21.00,2,    0.02,2,    1.43,2,-999.000,9,-999.000,9,-999.000,9,-999.0000,9, -999.00,9,-999.000,9,-999.000,   9.000,     2.9030,-999.0000, -999.00
32OC19880723,       A16N,      82,          1,         24,         24,2,19880815,       0048,    23.3967,   -27.0917,       5501,  3209.3,  34.9231,2,  34.9240,2,    246.8,2,   246.3,2,   38.00,2,   21.90,2,    0.02,2,    1.44,2,-999.000,9,-999.000,9,-999.000,9,-999.0000,9, -999.00,9,-999.000,9,-999.000,-999.000,     2.6130,-999.0000, -999.00
32OC19880723,       A16N,      82,          1,          1,          1,2,19880815,       0048,    23.3967,   -27.0917,       5501,  3616.4,  34.9080,2,  34.9060,2,    246.1,2,   245.9,2,   41.60,2,   22.20,2,    0.02,2, -999.00,9,-999.000,9,-999.000,9,-999.000,9,-999.0000,9, -999.00,9,-999.000,9,-999.000,   9.000,     2.4740,-999.0000, -999.00
32OC19880723,       A16N,      82,          1,          2,          2,2,19880815,       0048,    23.3967,   -27.0917,       5501,  4026.4,  34.8970,2,  34.8960,2,    245.6,2,   245.0,2,   44.00,2,   22.50,2,    0.02,2,    1.50,2,-999.000,9,-999.000,9,-999.000,9,-999.0000,9, -999.00,9,-999.000,9,-999.000,-999.000,     2.4030,-999.0000, -999.00
32OC19880723,       A16N,      82,          1,          3,          3,2,19880815,       0048,    23.3967,   -27.0917,       5501,  4436.9,  34.8886,2,  34.8880,2,    245.2,2,   245.5,2,   45.40,2,   22.50,2,    0.03,2,    1.52,2,-999.000,9,-999.000,9,-999.000,9,-999.0000,9, -999.00,9,-999.000,9,-999.000,   9.000,     2.3820,-999.0000, -999.00
32OC19880723,       A16N,      82,          1,          4,          4,2,19880815,       0048,    23.3967,   -27.0917,       5501,  4846.2,  34.8853,2,  34.8860,2,    245.3,2,   245.5,2,   46.70,2,   22.80,2,    0.03,2,    1.50,2,-999.000,9,-999.000,9,-999.000,9,-999.0000,9, -999.00,9,-999.000,9,-999.000,-999.000,     2.4030,-999.0000, -999.00
32OC19880723,       A16N,      82,          1,          5,          5,2,19880815,       0048,    23.3967,   -27.0917,       5501,  5250.7,  34.8838,2,  34.8840,2,    244.6,2,   245.0,2,   46.70,2,   22.60,2,    0.03,2,    1.48,2,-999.000,9,-999.000,9,-999.000,9,-999.0000,9, -999.00,9,-999.000,9,-999.000,   9.000,     2.4480,-999.0000, -999.00
32OC19880723,       A16N,      82,          1,          6,          6,2,19880815,       0048,    23.3967,   -27.0917,       5501,  5602.7,  34.8847,2,  34.8820,2,    244.5,2,   242.4,2,   46.80,2,   22.90,2,    0.03,2,    1.49,2,-999.000,9,-999.000,9,-999.000,9,-999.0000,9, -999.00,9,-999.000,9,-999.000,-999.000,     2.4920,-999.0000, -999.00
32OC19880723,       A16N,      82,          1,         99,     -999.0,9,19880815,       0048,    23.3967,   -27.0917,       5501,  5604.0,  34.8846,2,-999.0000,9,    244.4,2,  -999.0,9, -999.00,9, -999.00,9, -999.00,9, -999.00,9,-999.000,9,-999.000,9,-999.000,9,-999.0000,9, -999.00,9,-999.000,9,-999.000,   9.000,     2.4930,-999.0000, -999.00