BOTTLE,20220922CCHSIOAMB
EXPOCODE,SECT_ID,STNNBR,CASTNO,SAMPNO,BTLNBR,BTLNBR_FLAG_W,DATE,TIME,LATITUDE,LONGITUDE,DEPTH,CTDPRS,CTDSAL,CTDSAL_FLAG_W,SALNTY,SALNTY_FLAG_W,CTDOXY,CTDOXY_FLAG_W,OXYGEN,OXYGEN_FLAG_W,SILCAT,SILCAT_FLAG_W,NITRAT,NITRAT_FLAG_W,NITRIT,NITRIT_FLAG_W,PHSPHT,PHSPHT_FLAG_W,CFC-11,CFC-11_FLAG_W,CFC-12,CFC-12_FLAG_W,TRITUM,TRITUM_FLAG_W,HELIUM,HELIUM_FLAG_W,DELHE3,DELHE3_FLAG_W,NEON,NEON_FLAG_W,NEONER,TRITER,CTDTMP,HELIER,DELHER
,,,,,,,,,,,METERS,DBAR,PSS-78,,PSS-78,,UMOL/KG,,UMOL/KG,,UMOL/KG,,UMOL/KG,,UMOL/KG,,UMOL/KG,,PMOL/KG,,PMOL/KG,,TU,,NMOL/KG,,PERCNT,,NMOL/KG,,NMOL/KG,TU,IPTS-68,NMOL/KG,PERCNT
32OC19880723,       A16N,      56,          1,          1,          1,2,19880803,       2153,    37.5000,   -20.0050,       4812,     4.3,  36.3339,2,  36.3350,2,    226.9,2,   226.9,2,    0.20,2,    0.10,2,    0.00,2,    0.04,2,   2.175,2,   1.045,2,   2.542,2,-999.0000,9, -999.00,9,-999.000,9,-999.000,   0.047,    21.3640,-999.0000, -999.00
32OC19880723,       A16N,      56,          1,          2,          2,2,19880803,       2153,    37.5000,   -20.0050,       4812,    37.7,  36.3038,2,  36.2320,2,    238.1,2,   240.3,2,    0.10,2,    0.10,2,    0.00,2,    0.05,2,   2.307,2,   1.125,2,-999.000,9,-999.0000,9, -999.00,9,-999.000,9,-999.000,-999.000,    19.7650,-999.0000, -999.00
32OC19880723,       A16N,      56,          1,          3,          3,2,19880803,       2153,    37.5000,   -20.0050,       4812,    67.6,  36.1674,2,  36.0770,2,    253.5,2,   254.1,2,    0.30,2,    0.00,2,    0.10,2,    0.05,2,   2.608,2,   1.227,2,   2.457,2,-999.0000,9, -999.00,9,-999.000,9,-999.000,   0.053,    16.4720,-999.0000, -999.00
32OC19880723,       A16N,      56,          1,          4,          4,2,19880803,       2153,    37.5000,   -20.0050,       4812,   107.6,  36.1256,2,  36.0990,2,    234.1,2,   227.9,2,    0.50,2,    3.40,2,    0.01,2,    0.21,2,   2.499,2,   1.159,2,   2.630,2,-999.0000,9, -999.00,9,-999.000,9,-999.000,   0.055,    15.3060,-999.0000, -999.00
32OC19880723,       A16N,      56,          1,          5,          5,2,19880803,       2153,    37.5000,   -20.0050,       4812,   158.2,  36.0099,2,  35.9910,2,    227.4,2,   226.6,2,    1.10,2,    5.00,2,    0.00,2,    0.28,2,   2.523,2,   1.191,2,   2.728,2,-999.0000,9, -999.00,9,-999.000,9,-999.000,   0.050,    14.5700,-999.0000, -999.00
32OC19880723,       A16N,      56,          1,          6,          6,2,19880803,       2153,    37.5000,   -20.0050,       4812,   208.4,  35.9256,2,  35.8720,2,    228.7,2,   222.7,2,    1.70,2,    7.10,2,    0.00,2,    0.40,2,   2.466,2,   1.165,2,   2.693,2,-999.0000,9, -999.00,9,-999.000,9,-999.000,   0.055,    13.8490,-999.0000, -999.00
32OC19880723,       A16N,      56,          1,          7,          7,2,19880803,       2153,    37.5000,   -20.0050,       4812,   308.9,  35.7492,2,  35.7310,2,    215.7,2,   215.7,2,    2.70,2,   10.50,2,    0.00,2,    0.55,2,   2.227,2,   1.052,2,-999.000,9,-999.0000,9, -999.00,9,-999.000,9,-999.000,   9.000,    12.8410,-999.0000, -999.00
32OC19880723,       A16N,      56,          1,          8,          8,2,19880803,       2153,    37.5000,   -20.0050,       4812,   308.9,  35.7492,2,  35.7340,2,    215.7,2,   215.2,2,    2.70,2,   10.60,2,    0.00,2,    0.58,2,   2.248,2,   1.067,2,   2.271,2,-999.0000,9, -999.00,9,-999.000,9,-999.000,   0.052,    12.8410,-999.0000, -999.00
32OC19880723,       A16N,      56,          1,          9,          9,2,19880803,       2153,    37.5000,   -20.0050,       4812,   509.9,  35.5611,2,  35.5580,2,    213.1,2,   213.0,2,    4.00,2,   13.40,2,    0.00,2,    0.76,2,   1.989,2,   0.926,2,   2.313,2,-999.0000,9, -999.00,9,-999.000,9,-999.000,   0.064,    11.4130,-999.0000, -999.00
32OC19880723,       A16N,      56,          1,         10,         10,2,19880803,       2153,    37.5000,   -20.0050,       4812,   711.2,  35.6233,2,  35.6110,2,    186.0,2,   186.5,2,    6.90,2,   16.90,2,    0.00,2,    0.93,2,   0.970,2,   0.459,2,   2.100,2,-999.0000,9, -999.00,9,-999.000,9,-999.000,   0.061,    10.6290,-999.0000, -999.00
32OC19880723,       A16N,      56,          1,         11,         11,2,19880803,       2153,    37.5000,   -20.0050,       4812,   711.2,  35.6233,2,  35.6110,2,    186.0,2,   186.5,2,    7.10,2,   16.30,2,    0.00,2,    0.96,2,-999.000,9,-999.000,9,-999.000,9,-999.0000,9, -999.00,9,-999.000,9,-999.000,-999.000,    10.6290,-999.0000, -999.00
32OC19880723,       A16N,      56,          1,         12,         12,2,19880803,       2153,    37.5000,   -20.0050,       4812,  1115.6,  35.9606,2,  35.9730,2,    186.2,2,   184.7,2,    8.90,2,   16.30,2,    0.00,2,    0.95,2,   0.612,2,   0.285,2,   1.388,2,-999.0000,9, -999.00,9,-999.000,9,-999.000,   0.053,    10.2280,-999.0000, -999.00
32OC19880723,       A16N,      56,          1,         13,         13,2,19880803,       2153,    37.5000,   -20.0050,       4812,  1317.6,  35.7751,2,  35.7720,2,    200.3,2,   198.1,2,   10.00,2,   17.30,2,    0.00,2,    0.97,2,   0.433,2,   0.207,2,   1.106,2,-999.0000,9, -999.00,9,-999.000,9,-999.000,   0.050,     8.7970,-999.0000, -999.00
32OC19880723,       A16N,      56,          1,         14,         14,2,19880803,       2153,    37.5000,   -20.0050,       4812,  1621.0,  35.3927,2,  35.3920,2,    229.4,2,   229.0,2,   11.50,2,   17.80,2,    0.00,2,    1.03,2,-999.000,9,-999.000,9,-999.000,9,-999.0000,9, -999.00,9,-999.000,9,-999.000,   9.000,     6.2860,-999.0000, -999.00
32OC19880723,       A16N,      56,          1,         15,         15,2,19880803,       2153,    37.5000,   -20.0050,       4812,  1925.1,  35.1702,2,  35.1560,2,    245.3,2,   247.7,2,   13.40,2,   17.80,2,    0.00,2,    1.06,2,   0.189,2,   0.080,2,-999.000,9,-999.0000,9, -999.00,9,-999.000,9,-999.000,-999.000,     4.7080,-999.0000, -999.00
32OC19880723,       A16N,      56,          1,         16,         16,2,19880803,       2153,    37.5000,   -20.0050,       4812,  2229.4,  35.0300,2,  35.0210,2,    258.0,2,   257.2,2,   16.90,2,   18.30,2,    0.00,2,    1.11,2,-999.000,9,-999.000,9,-999.000,9,-999.0000,9, -999.00,9,-999.000,9,-999.000,   9.000,     3.7500,-999.0000, -999.00
32OC19880723,       A16N,      56,          1,         17,         17,2,19880803,       2153,    37.5000,   -20.0050,       4812,  2584.4,  34.9715,2,  34.9690,2,    259.2,2,   259.0,2,   22.20,2,   18.90,2,    0.00,2,    1.14,2,   0.108,2,   0.035,2,   0.106,2,-999.0000,9, -999.00,9,-999.000,9,-999.000,   0.029,     3.1800,-999.0000, -999.00
32OC19880723,       A16N,      56,          1,         18,         18,2,19880803,       2153,    37.5000,   -20.0050,       4812,  2584.4,  34.9715,2,  34.9690,2,    259.2,2,   259.0,2,   22.20,2,   18.90,2,    0.00,2,    1.13,2,-999.000,9,-999.000,9,-999.000,9,-999.0000,9, -999.00,9,-999.000,9,-999.000,-999.000,     3.1800,-999.0000, -999.00
32OC19880723,       A16N,      56,          1,         19,         19,2,19880803,       2153,    37.5000,   -20.0050,       4812,  3296.9,  34.9340,2,  34.9330,2,    249.0,2,   249.0,2,   34.90,2,   20.80,2,    0.00,2,    1.27,2,-999.000,9,-999.000,9,-999.000,9,-999.0000,9, -999.00,9,-999.000,9,-999.000,   9.000,     2.6980,-999.0000, -999.00
32OC19880723,       A16N,      56,          1,         20,         20,2,19880803,       2153,    37.5000,   -20.0050,       4812,  3654.9,  34.9196,2,  34.9200,2,    245.3,2,   245.5,2,   39.60,2,   21.20,2,    0.00,2,    1.32,2,   0.053,2,   0.031,2,  -0.019,2,-999.0000,9, -999.00,9,-999.000,9,-999.000,   0.026,     2.5960,-999.0000, -999.00
32OC19880723,       A16N,      56,          1,         21,         21,2,19880803,       2153,    37.5000,   -20.0050,       4812,  4012.6,  34.9109,2,  34.9120,2,    244.6,2,   244.6,2,   42.30,2,   21.80,2,    0.00,2,    1.36,2,-999.000,9,-999.000,9,-999.000,9,-999.0000,9, -999.00,9,-999.000,9,-999.000,-999.000,     2.5560,-999.0000, -999.00
32OC19880723,       A16N,      56,          1,         22,         22,2,19880803,       2153,    37.5000,   -20.0050,       4812,  4370.7,  34.9059,2,  34.9070,2,    244.2,2,   243.7,2,   43.10,2,   22.00,2,    0.04,2,    1.36,2,-999.000,9,-999.000,9,-999.000,9,-999.0000,9, -999.00,9,-999.000,9,-999.000,   9.000,     2.5480,-999.0000, -999.00
32OC19880723,       A16N,      56,          1,         23,         23,2,19880803,       2153,    37.5000,   -20.0050,       4812,  4729.6,  34.8998,2,  34.9010,2,    244.2,2,   244.6,2,   45.00,2,   22.00,2,    0.02,2,    1.37,2,   0.034,2,   0.011,7,  -0.006,2,-999.0000,9, -999.00,9,-999.000,9,-999.000,   0.016,     2.5250,-999.0000, -999.00
32OC19880723,       A16N,      56,          1,         24,         24,2,19880803,       2153,    37.5000,   -20.0050,       4812,  4911.0,  34.8934,2,-999.0000,9,    244.3,2,  -999.0,9, -999.00,9, -999.00,9, -999.00,9, -999.00,9,-999.000,9,-999.000,9,-999.000,9,-999.0000,9, -999.00,9,-999.000,9,-999.000,-999.000,     2.4860,-999.0000, -999.00
32OC19880723,       A16N,      56,          1,         99,     -999.0,9,19880803,       2153,    37.5000,   -20.0050,       4812,  4912.3,  34.8934,2,-999.0000,9,    244.4,2,  -999.0,9, -999.00,9, -999.00,9, -999.00,9, -999.00,9,-999.000,9,-999.000,9,-999.000,9,-999.0000,9, -999.00,9,-999.000,9,-999.000,   9.000,     2.4870,-999.0000, -999.00
32OC19880723,       A16N,      57,          1,          4,          4,2,19880804,       0230,    37.0033,   -20.0067,       3741,    11.1,  36.3672,2,  36.3640,2,    220.3,2,   225.6,2,    0.20,2,    0.10,2,    0.00,2,    0.03,2,-999.000,9,-999.000,9,-999.000,9,-999.0000,9, -999.00,9,-999.000,9,-999.000,-999.000,    21.4800,-999.0000, -999.00
32OC19880723,       A16N,      57,          1,          5,          5,2,19880804,       0230,    37.0033,   -20.0067,       3741,    35.9,  36.2686,2,  36.2940,2,    239.8,2,   239.0,2,    0.20,2,    0.00,2,    0.02,2,    0.04,2,-999.000,9,-999.000,9,-999.000,9,-999.0000,9, -999.00,9,-999.000,9,-999.000,   9.000,    20.1230,-999.0000, -999.00
32OC19880723,       A16N,      57,          1,          6,          6,2,19880804,       0230,    37.0033,   -20.0067,       3741,    66.3,  36.1977,2,  36.2080,2,    251.4,2,   252.8,2,    0.20,2,    0.00,2,    0.00,2,    0.04,2,-999.000,9,-999.000,9,-999.000,9,-999.0000,9, -999.00,9,-999.000,9,-999.000,-999.000,    17.5060,-999.0000, -999.00
32OC19880723,       A16N,      57,          1,          7,          7,2,19880804,       0230,    37.0033,   -20.0067,       3741,   105.8,  36.1460,2,  36.1420,2,    242.7,2,   237.1,2,    0.50,2,    1.40,2,    0.08,2,    0.11,2,-999.000,9,-999.000,9,-999.000,9,-999.0000,9, -999.00,9,-999.000,9,-999.000,   9.000,    15.6370,-999.0000, -999.00
32OC19880723,       A16N,      57,          1,          8,          8,2,19880804,       0230,    37.0033,   -20.0067,       3741,   156.5,  36.0104,2,  35.9990,2,    226.5,2,   228.3,2,    1.00,2,    4.60,2,    0.02,2,    0.25,2,-999.000,9,-999.000,9,-999.000,9,-999.0000,9, -999.00,9,-999.000,9,-999.000,-999.000,    14.6130,-999.0000, -999.00
32OC19880723,       A16N,      57,          1,          9,          9,2,19880804,       0230,    37.0033,   -20.0067,       3741,   206.5,  35.9256,2,  35.8920,2,    226.1,2,   223.5,2,    1.70,2,    6.80,2,    0.01,2,    0.34,2,-999.000,9,-999.000,9,-999.000,9,-999.0000,9, -999.00,9,-999.000,9,-999.000,   9.000,    13.9530,-999.0000, -999.00
32OC19880723,       A16N,      57,          1,         10,         10,2,19880804,       0230,    37.0033,   -20.0067,       3741,   306.9,  35.7369,2,  35.7200,2,    213.2,2,   214.4,2,    3.10,2,   10.60,2,    0.01,2,    0.56,2,-999.000,9,-999.000,9,-999.000,9,-999.0000,9, -999.00,9,-999.000,9,-999.000,-999.000,    12.7620,-999.0000, -999.00
32OC19880723,       A16N,      57,          1,         11,         11,2,19880804,       0230,    37.0033,   -20.0067,       3741,   306.9,  35.7369,2,  35.7210,2,    213.2,2,   214.4,2,    3.10,2,   10.60,2,    0.01,2,    0.56,2,-999.000,9,-999.000,9,-999.000,9,-999.0000,9, -999.00,9,-999.000,9,-999.000,   9.000,    12.7620,-999.0000, -999.00
32OC19880723,       A16N,      57,          1,         12,         12,2,19880804,       0230,    37.0033,   -20.0067,       3741,   811.1,  36.0888,2,  36.0900,2,    186.0,2,   186.5,2,    6.20,2,   14.30,2,    0.00,2,    0.75,2,-999.000,9,-999.000,9,-999.000,9,-999.0000,9, -999.00,9,-999.000,9,-999.000,-999.000,    11.9110,-999.0000, -999.00
32OC19880723,       A16N,      57,          1,         13,         13,2,19880804,       0230,    37.0033,   -20.0067,       3741,  1013.6,  36.1360,2,  36.1330,2,    184.3,2,   183.0,2,    7.60,2,   15.10,2,    0.00,2,    0.83,2,-999.000,9,-999.000,9,-999.000,9,-999.0000,9, -999.00,9,-999.000,9,-999.000,   9.000,    11.3690,-999.0000, -999.00
32OC19880723,       A16N,      57,          1,         14,         14,2,19880804,       0230,    37.0033,   -20.0067,       3741,  1215.6,  36.0790,2,  36.0760,2,    185.8,2,   185.5,2,    9.20,2,   16.40,2,    0.00,2,    0.91,2,-999.000,9,-999.000,9,-999.000,9,-999.0000,9, -999.00,9,-999.000,9,-999.000,-999.000,    10.4640,-999.0000, -999.00
32OC19880723,       A16N,      57,          1,         15,         15,2,19880804,       0230,    37.0033,   -20.0067,       3741,  1416.9,  35.7055,2,  35.7070,2,    203.4,2,   205.5,2,   10.70,2,   17.40,2,    0.00,2,    1.02,2,-999.000,9,-999.000,9,-999.000,9,-999.0000,9, -999.00,9,-999.000,9,-999.000,   9.000,     8.3120,-999.0000, -999.00
32OC19880723,       A16N,      57,          1,         16,         16,2,19880804,       0230,    37.0033,   -20.0067,       3741,  1619.3,  35.3830,2,  35.4100,2,    226.0,2,   228.5,2,   11.30,2,   17.70,2,    0.00,2,    1.06,2,-999.000,9,-999.000,9,-999.000,9,-999.0000,9, -999.00,9,-999.000,9,-999.000,-999.000,     6.3920,-999.0000, -999.00
32OC19880723,       A16N,      57,          1,         17,         17,2,19880804,       0230,    37.0033,   -20.0067,       3741,  1822.2,  35.2313,2,  35.2620,2,    238.8,2,   239.8,2,   12.60,2,   18.20,2,    0.00,2,    1.06,2,-999.000,9,-999.000,9,-999.000,9,-999.0000,9, -999.00,9,-999.000,9,-999.000,   9.000,     5.4420,-999.0000, -999.00
32OC19880723,       A16N,      57,          1,         18,         18,2,19880804,       0230,    37.0033,   -20.0067,       3741,  2127.1,  35.0808,2,  35.0900,2,    251.0,2,   252.0,2,   15.80,2,   18.50,2,    0.00,2,    1.09,2,-999.000,9,-999.000,9,-999.000,9,-999.0000,9, -999.00,9,-999.000,9,-999.000,-999.000,     4.2260,-999.0000, -999.00
32OC19880723,       A16N,      57,          1,         19,         19,2,19880804,       0230,    37.0033,   -20.0067,       3741,  2431.9,  35.0024,2,  35.0050,2,    255.2,2,   255.9,2,   20.80,2,   19.10,2,    0.00,2,    1.13,2,-999.000,9,-999.000,9,-999.000,9,-999.0000,9, -999.00,9,-999.000,9,-999.000,   9.000,     3.4840,-999.0000, -999.00
32OC19880723,       A16N,      57,          1,         20,         20,2,19880804,       0230,    37.0033,   -20.0067,       3741,  2736.7,  34.9597,2,  34.9620,2,    256.1,2,   255.5,2,   25.90,2,   19.60,2,    0.00,2,    1.19,2,-999.000,9,-999.000,9,-999.000,9,-999.0000,9, -999.00,9,-999.000,9,-999.000,-999.000,     3.0310,-999.0000, -999.00
32OC19880723,       A16N,      57,          1,         21,         21,2,19880804,       0230,    37.0033,   -20.0067,       3741,  3041.6,  34.9450,2,  34.9480,2,    253.4,2,   252.9,2,   30.00,2,   19.70,2,    0.00,2,    1.23,2,-999.000,9,-999.000,9,-999.000,9,-999.0000,9, -999.00,9,-999.000,9,-999.000,   9.000,     2.8540,-999.0000, -999.00
32OC19880723,       A16N,      57,          1,         22,         22,2,19880804,       0230,    37.0033,   -20.0067,       3741,  3347.2,  34.9366,2,  34.9360,2,    251.2,2,   250.3,2,   33.40,2,   20.70,2,    0.00,2,    1.26,2,-999.000,9,-999.000,9,-999.000,9,-999.0000,9, -999.00,9,-999.000,9,-999.000,-999.000,     2.7600,-999.0000, -999.00
32OC19880723,       A16N,      57,          1,         23,         23,2,19880804,       0230,    37.0033,   -20.0067,       3741,  3653.5,  34.9224,2,  34.9220,2,    246.4,2,   246.3,2,   38.30,2,   20.80,2,    0.00,2,    1.30,2,-999.000,9,-999.000,9,-999.000,9,-999.0000,9, -999.00,9,-999.000,9,-999.000,   9.000,     2.6190,-999.0000, -999.00
32OC19880723,       A16N,      57,          1,         24,         24,2,19880804,       0230,    37.0033,   -20.0067,       3741,  3824.3,  34.9180,2,  34.9180,2,    243.7,2,   245.0,2,   39.70,2,   21.40,2,    0.00,2,    1.33,2,-999.000,9,-999.000,9,-999.000,9,-999.0000,9, -999.00,9,-999.000,9,-999.000,-999.000,     2.5940,-999.0000, -999.00
32OC19880723,       A16N,      57,          1,         99,     -999.0,9,19880804,       0230,    37.0033,   -20.0067,       3741,  3825.5,  34.9179,2,-999.0000,9,    243.8,2,  -999.0,9, -999.00,9, -999.00,9, -999.00,9, -999.00,9,-999.000,9,-999.000,9,-999.000,9,-999.0000,9, -999.00,9,-999.000,9,-999.000,   9.000,     2.5940,-999.0000, -999.00