BOTTLE,20220922CCHSIOAMB
EXPOCODE,SECT_ID,STNNBR,CASTNO,SAMPNO,BTLNBR,BTLNBR_FLAG_W,DATE,TIME,LATITUDE,LONGITUDE,DEPTH,CTDPRS,CTDSAL,CTDSAL_FLAG_W,SALNTY,SALNTY_FLAG_W,CTDOXY,CTDOXY_FLAG_W,OXYGEN,OXYGEN_FLAG_W,SILCAT,SILCAT_FLAG_W,NITRAT,NITRAT_FLAG_W,NITRIT,NITRIT_FLAG_W,PHSPHT,PHSPHT_FLAG_W,CFC-11,CFC-11_FLAG_W,CFC-12,CFC-12_FLAG_W,TRITUM,TRITUM_FLAG_W,HELIUM,HELIUM_FLAG_W,DELHE3,DELHE3_FLAG_W,NEON,NEON_FLAG_W,NEONER,TRITER,CTDTMP,HELIER,DELHER
,,,,,,,,,,,METERS,DBAR,PSS-78,,PSS-78,,UMOL/KG,,UMOL/KG,,UMOL/KG,,UMOL/KG,,UMOL/KG,,UMOL/KG,,PMOL/KG,,PMOL/KG,,TU,,NMOL/KG,,PERCNT,,NMOL/KG,,NMOL/KG,TU,IPTS-68,NMOL/KG,PERCNT
32OC19880723,       A16N,      40,          1,          1,          1,2,19880731,       1048,    45.4850,   -20.0117,       4530,     4.9,  35.7240,2,-999.0000,9,    239.4,2,   239.4,2, -999.00,9, -999.00,9, -999.00,9, -999.00,9,-999.000,9,-999.000,9,-999.000,9,-999.0000,9, -999.00,9,-999.000,9,-999.000,-999.000,    16.9810,-999.0000, -999.00
32OC19880723,       A16N,      40,          1,          2,          2,2,19880731,       1048,    45.4850,   -20.0117,       4530,    56.8,  35.7429,2,  35.7620,2,    241.8,2,   240.5,2,    1.70,2,    5.70,2,    0.24,2,    0.39,2,-999.000,9,-999.000,9,-999.000,9,-999.0000,9, -999.00,9,-999.000,9,-999.000,   9.000,    13.7210,-999.0000, -999.00
32OC19880723,       A16N,      40,          1,          3,          3,2,19880731,       1048,    45.4850,   -20.0117,       4530,   107.7,  35.6768,2,  35.6880,2,    245.7,2,   244.4,2,    2.20,2,    6.50,2,    0.01,2,    0.44,2,-999.000,9,-999.000,9,-999.000,9,-999.0000,9, -999.00,9,-999.000,9,-999.000,-999.000,    12.7910,-999.0000, -999.00
32OC19880723,       A16N,      40,          1,          4,          4,2,19880731,       1048,    45.4850,   -20.0117,       4530,   208.5,  35.6421,2,  35.6530,2,    242.2,2,   245.2,2,    2.50,2,    7.70,2,    0.01,2,    0.49,2,-999.000,9,-999.000,9,-999.000,9,-999.0000,9, -999.00,9,-999.000,9,-999.000,   9.000,    12.2310,-999.0000, -999.00
32OC19880723,       A16N,      40,          1,          5,          5,2,19880731,       1048,    45.4850,   -20.0117,       4530,   309.0,  35.5760,2,  35.5870,2,    243.9,2,   246.5,2,    3.50,2,    9.40,2,    0.00,2,    0.62,2,-999.000,9,-999.000,9,-999.000,9,-999.0000,9, -999.00,9,-999.000,9,-999.000,-999.000,    11.7100,-999.0000, -999.00
32OC19880723,       A16N,      40,          1,          6,          6,2,19880731,       1048,    45.4850,   -20.0117,       4530,   410.0,  35.4808,2,  35.4910,2,    240.0,2,   238.7,2,    4.30,2,   11.00,2,    0.00,2,    0.65,2,-999.000,9,-999.000,9,-999.000,9,-999.0000,9, -999.00,9,-999.000,9,-999.000,   9.000,    11.1340,-999.0000, -999.00
32OC19880723,       A16N,      40,          1,          7,          7,2,19880731,       1048,    45.4850,   -20.0117,       4530,   510.2,  35.4454,2,-999.0000,9,    238.5,2,   230.4,2,    4.90,2,   12.20,2,    0.00,2,    0.73,2,-999.000,9,-999.000,9,-999.000,9,-999.0000,9, -999.00,9,-999.000,9,-999.000,-999.000,    10.6280,-999.0000, -999.00
32OC19880723,       A16N,      40,          1,          8,          8,2,19880731,       1048,    45.4850,   -20.0117,       4530,   579.8,  35.3847,2,  35.4090,2,    226.5,2,   221.7,2,    5.80,2,   13.20,2,    0.00,2,    0.81,2,-999.000,9,-999.000,9,-999.000,9,-999.0000,9, -999.00,9,-999.000,9,-999.000,   9.000,    10.3210,-999.0000, -999.00
32OC19880723,       A16N,      40,          1,          9,          9,2,19880731,       1048,    45.4850,   -20.0117,       4530,   705.0,  35.3235,2,  35.3140,2,    206.3,2,   204.3,2,    8.10,2,   15.80,2,    0.00,2,    1.00,2,-999.000,9,-999.000,9,-999.000,9,-999.0000,9, -999.00,9,-999.000,9,-999.000,-999.000,     9.3390,-999.0000, -999.00
32OC19880723,       A16N,      40,          1,         10,         10,2,19880731,       1048,    45.4850,   -20.0117,       4530,   803.0,  35.2128,2,  35.2330,2,    201.7,2,   199.1,2,    9.90,2,   17.40,2,    0.00,2,    1.10,2,-999.000,9,-999.000,9,-999.000,9,-999.0000,9, -999.00,9,-999.000,9,-999.000,   9.000,     8.1830,-999.0000, -999.00
32OC19880723,       A16N,      40,          1,         11,         11,2,19880731,       1048,    45.4850,   -20.0117,       4530,   903.1,  35.3418,2,  35.3470,2,    199.3,2,   199.1,2,   10.20,2,   17.40,2,    0.00,2,    1.08,2,-999.000,9,-999.000,9,-999.000,9,-999.0000,9, -999.00,9,-999.000,9,-999.000,-999.000,     8.0310,-999.0000, -999.00
32OC19880723,       A16N,      40,          1,         12,         12,2,19880731,       1048,    45.4850,   -20.0117,       4530,  1004.6,  35.3081,2,  35.3000,2,    206.0,2,   208.6,2,   10.60,2,   17.60,2,    0.00,2,    1.11,2,-999.000,9,-999.000,9,-999.000,9,-999.0000,9, -999.00,9,-999.000,9,-999.000,   9.000,     7.2310,-999.0000, -999.00
32OC19880723,       A16N,      40,          1,         13,         13,2,19880731,       1048,    45.4850,   -20.0117,       4530,  1204.2,  35.3289,2,  35.2190,3,    221.9,2,   229.4,2,   10.70,2,   17.10,2,    0.00,2,    1.11,2,-999.000,9,-999.000,9,-999.000,9,-999.0000,9, -999.00,9,-999.000,9,-999.000,-999.000,     6.1220,-999.0000, -999.00
32OC19880723,       A16N,      40,          1,         14,         14,2,19880731,       1048,    45.4850,   -20.0117,       4530,  1402.3,  34.9713,2,  34.9900,2,    259.4,2,   255.9,2,   10.60,2,   17.10,2,    0.00,2,    1.09,2,-999.000,9,-999.000,9,-999.000,9,-999.0000,9, -999.00,9,-999.000,9,-999.000,   9.000,     4.5070,-999.0000, -999.00
32OC19880723,       A16N,      40,          1,         15,         15,2,19880731,       1048,    45.4850,   -20.0117,       4530,  1602.0,  34.9176,2,  34.9220,2,    270.2,2,   271.1,2,   10.30,2,   16.60,2,    0.01,2,    1.05,2,-999.000,9,-999.000,9,-999.000,9,-999.0000,9, -999.00,9,-999.000,9,-999.000,-999.000,     3.9110,-999.0000, -999.00
32OC19880723,       A16N,      40,          1,         16,         16,2,19880731,       1048,    45.4850,   -20.0117,       4530,  1801.3,  34.9084,2,  34.9170,2,    273.7,2,   274.6,2,   10.60,2,   16.50,2,    0.01,2,    1.07,2,-999.000,9,-999.000,9,-999.000,9,-999.0000,9, -999.00,9,-999.000,9,-999.000,   9.000,     3.7220,-999.0000, -999.00
32OC19880723,       A16N,      40,          1,         17,         17,2,19880731,       1048,    45.4850,   -20.0117,       4530,  2106.2,  34.9394,2,  34.9370,2,    270.9,2,   272.4,2,   11.90,2,   16.50,2,    0.01,2,    1.06,2,-999.000,9,-999.000,9,-999.000,9,-999.0000,9, -999.00,9,-999.000,9,-999.000,-999.000,     3.5890,-999.0000, -999.00
32OC19880723,       A16N,      40,          1,         18,         18,2,19880731,       1048,    45.4850,   -20.0117,       4530,  2411.6,  34.9470,2,  34.9480,2,    269.4,2,   269.4,2,   14.10,2,   16.60,2,    0.01,2,    1.06,2,-999.000,9,-999.000,9,-999.000,9,-999.0000,9, -999.00,9,-999.000,9,-999.000,   9.000,     3.3590,-999.0000, -999.00
32OC19880723,       A16N,      40,          1,         19,         19,2,19880731,       1048,    45.4850,   -20.0117,       4530,  2715.9,  34.9555,2,  34.9580,2,    264.2,2,   264.2,2,   20.40,2,   17.50,2,    0.01,2,    1.13,2,-999.000,9,-999.000,9,-999.000,9,-999.0000,9, -999.00,9,-999.000,9,-999.000,-999.000,     3.1260,-999.0000, -999.00
32OC19880723,       A16N,      40,          1,         20,         20,2,19880731,       1048,    45.4850,   -20.0117,       4530,  3020.6,  34.9491,2,  34.9500,2,    259.8,2,   258.5,2,   25.60,2,   18.20,2,    0.01,2,    1.16,2,-999.000,9,-999.000,9,-999.000,9,-999.0000,9, -999.00,9,-999.000,9,-999.000,   9.000,     2.9160,-999.0000, -999.00
32OC19880723,       A16N,      40,          1,         21,         21,2,19880731,       1048,    45.4850,   -20.0117,       4530,  3422.7,  34.9311,2,  34.9320,2,    250.3,2,   249.4,2,   35.10,2,   19.70,2,    0.01,2,    1.28,2,-999.000,9,-999.000,9,-999.000,9,-999.0000,9, -999.00,9,-999.000,9,-999.000,-999.000,     2.6850,-999.0000, -999.00
32OC19880723,       A16N,      40,          1,         22,         22,2,19880731,       1048,    45.4850,   -20.0117,       4530,  3829.2,  34.9160,2,  34.9160,2,    244.6,2,   244.6,2,   40.70,2,   20.60,2,    0.01,2,    1.33,2,-999.000,9,-999.000,9,-999.000,9,-999.0000,9, -999.00,9,-999.000,9,-999.000,   9.000,     2.5870,-999.0000, -999.00
32OC19880723,       A16N,      40,          1,         23,         23,2,19880731,       1048,    45.4850,   -20.0117,       4530,  4239.9,  34.9112,2,  34.9100,2,    242.0,2,   242.9,2,   42.50,2,   21.20,2,    0.01,2,    1.40,2,-999.000,9,-999.000,9,-999.000,9,-999.0000,9, -999.00,9,-999.000,9,-999.000,-999.000,     2.5800,-999.0000, -999.00
32OC19880723,       A16N,      40,          1,         24,         24,2,19880731,       1048,    45.4850,   -20.0117,       4530,  4610.0,  34.9099,2,-999.0000,9,    240.7,2,   240.7,2,   43.50,2,   21.40,2,    0.01,2,    1.39,2,-999.000,9,-999.000,9,-999.000,9,-999.0000,9, -999.00,9,-999.000,9,-999.000,   9.000,     2.6030,-999.0000, -999.00
32OC19880723,       A16N,      40,          1,         99,     -999.0,9,19880731,       1048,    45.4850,   -20.0117,       4530,  4612.0,  34.9098,2,-999.0000,9,    240.7,2,  -999.0,9, -999.00,9, -999.00,9, -999.00,9, -999.00,9,-999.000,9,-999.000,9,-999.000,9,-999.0000,9, -999.00,9,-999.000,9,-999.000,-999.000,     2.6040,-999.0000, -999.00
32OC19880723,       A16N,      41,          1,          1,          1,2,19880731,       1600,    44.9900,   -19.9950,       4398,     4.9,  35.6828,2,  35.6870,2,    251.2,2,   250.7,2,    1.60,2, -999.00,9,    0.01,2,    0.11,2,   2.720,2,   1.278,2,   2.515,2,   1.7463,2,   -0.89,2,   7.166,2,   0.054,   0.054,    16.9700,   0.0122,    0.18
32OC19880723,       A16N,      41,          1,          2,          2,2,19880731,       1600,    44.9900,   -19.9950,       4398,    36.3,  35.6918,2,  35.6650,2,    246.3,2,   245.0,2,    1.60,2, -999.00,9,    0.08,2,    0.13,2,   2.784,2,   1.306,2,   2.682,2,   1.7530,2,   -1.22,2,   7.207,2,   0.054,   0.055,    16.3180,   0.0123,    0.18
32OC19880723,       A16N,      41,          1,          3,          3,2,19880731,       1600,    44.9900,   -19.9950,       4398,    66.2,  35.7364,2,  35.7900,2,    235.6,2,   237.9,2,    3.20,2,    5.20,2,    0.02,2,    0.37,2,   2.857,2,   1.343,2,-999.000,9,   1.7603,2,   -0.35,2,   7.360,2,   0.055,   9.000,    13.4910,   0.0123,    0.18
32OC19880723,       A16N,      41,          1,          4,          4,2,19880731,       1600,    44.9900,   -19.9950,       4398,   106.9,  35.6952,2,  35.7270,2,    243.1,2,   241.8,2,    3.60,2,    7.20,2,    0.02,2,    0.45,2,   2.870,2,   1.420,2,   2.448,2,   1.8103,2,   -0.27,2,   7.458,2,   0.056,   0.055,    12.8750,   0.0127,    0.18
32OC19880723,       A16N,      41,          1,          5,          5,2,19880731,       1600,    44.9900,   -19.9950,       4398,   156.5,  35.6679,2,  35.6930,2,    244.9,2,   240.9,2,    3.90,2,    8.10,2,    0.04,2,    0.49,2,   2.854,2,   1.339,2,   2.350,2,   1.7860,2,    0.14,2,   7.438,2,   0.056,   0.052,    12.5900,   0.0125,    0.18
32OC19880723,       A16N,      41,          1,          6,          6,2,19880731,       1600,    44.9900,   -19.9950,       4398,   205.3,  35.6607,2,  35.6540,2,    239.9,2,   244.4,2,    4.40,2,    8.80,2,    0.01,2,    0.55,2,   2.906,2,   1.385,2,   2.463,2,   1.7814,2,   -0.08,2,   7.421,2,   0.056,   0.055,    12.1990,   0.0125,    0.18
32OC19880723,       A16N,      41,          1,          7,          7,2,19880731,       1600,    44.9900,   -19.9950,       4398,   299.8,  35.6065,2,-999.0000,9,    249.6,2,   248.3,2,    4.50,2,    9.00,2,    0.01,2,    0.57,2,   2.931,2,   1.567,2,-999.000,9,   1.7663,2,   -0.26,2,   7.480,2,   0.056,-999.000,    11.8100,   0.0124,    0.18
32OC19880723,       A16N,      41,          1,          8,          8,2,19880731,       1600,    44.9900,   -19.9950,       4398,   394.7,  35.5699,2,  35.5720,2,    249.9,2,   248.7,2,    6.20,2,    9.20,2,    0.01,2,    0.62,2,   2.844,2,   1.356,2,   2.364,2,   1.7758,2,   -0.32,2,   7.501,2,   0.056,   0.053,    11.6080,   0.0124,    0.18
32OC19880723,       A16N,      41,          1,          9,          9,2,19880731,       1600,    44.9900,   -19.9950,       4398,   491.3,  35.4804,2,  35.4890,2,    243.7,2,   244.8,2,    6.40,2,   10.60,2,    0.01,2,    0.70,2,   2.817,2,   1.332,2,   2.776,2,   1.7822,2,    0.19,2,   7.506,2,   0.056,   0.060,    11.1370,   0.0125,    0.18
32OC19880723,       A16N,      41,          1,         10,         10,2,19880731,       1600,    44.9900,   -19.9950,       4398,   682.2,  35.2632,2,  35.2300,2,    215.8,2,   214.8,2,    8.80,2,   15.40,2,    0.01,2,    1.01,2,   2.016,2,   0.925,2,   2.308,2,   1.8336,2,    4.59,2,   7.601,2,   0.057,   0.055,     9.1800,   0.0128,    0.18
32OC19880723,       A16N,      41,          1,         11,         11,2,19880731,       1600,    44.9900,   -19.9950,       4398,   871.0,  35.2058,2,  35.2080,2,    200.8,2,   200.4,2,   11.20,2,   18.60,2,    0.01,2,    1.16,2,   1.268,2,   0.536,2,   1.884,2,   1.8049,2,    7.90,2,   7.726,2,   0.058,   0.048,     7.6950,   0.0126,    0.18
32OC19880723,       A16N,      41,          1,         12,         12,2,19880731,       1600,    44.9900,   -19.9950,       4398,  1068.7,  35.2385,2,  35.2950,2,    218.9,2,   214.7,2,   11.30,2, -999.00,9,    0.01,2,    1.13,2,   1.014,2,   0.454,2,-999.000,9,-999.0000,9, -999.00,9,-999.000,9,-999.000,   9.000,     6.9380,-999.0000, -999.00
32OC19880723,       A16N,      41,          1,         13,         13,2,19880731,       1600,    44.9900,   -19.9950,       4398,  1367.0,  35.0720,2,  35.1050,2,    245.5,2,   247.7,2,   11.30,2, -999.00,9,    0.01,2,    1.13,2,   1.062,2,   0.497,2,   1.620,2,   1.8102,2,    8.93,2,   7.886,2,   0.059,   0.045,     5.1670,   0.0127,    0.18
32OC19880723,       A16N,      41,          1,         14,         14,2,19880731,       1600,    44.9900,   -19.9950,       4398,  1668.2,  34.9212,2,  34.9270,2,    267.6,2,   271.6,2,   11.10,2, -999.00,9,    0.02,2,    1.12,2,   1.226,2,   0.645,2,-999.000,9,-999.0000,9, -999.00,9,-999.000,9,-999.000,-999.000,     3.8690,-999.0000, -999.00
32OC19880723,       A16N,      41,          1,         15,         15,2,19880731,       1600,    44.9900,   -19.9950,       4398,  1970.4,  34.9231,2,  34.9250,2,    273.8,2,   273.7,2,   11.70,2, -999.00,9,    0.02,2,    1.13,2,   0.840,2,   0.381,2,   1.422,2,   1.8282,2,    8.32,2,   7.997,2,   0.060,   0.043,     3.6340,   0.0128,    0.18
32OC19880723,       A16N,      41,          1,         16,         16,2,19880731,       1600,    44.9900,   -19.9950,       4398,  2275.4,  34.9466,2,  34.9490,2,    270.2,2,   270.7,2,   13.90,2,   16.60,2,    0.02,2,    1.13,2,   0.434,2,   0.188,2,-999.000,9,-999.0000,9, -999.00,9,-999.000,9,-999.000,   9.000,     3.5040,-999.0000, -999.00
32OC19880723,       A16N,      41,          1,         17,         17,2,19880731,       1600,    44.9900,   -19.9950,       4398,  2583.3,  34.9520,2,  34.9530,2,    267.8,2,   267.2,2,   17.60,2,   17.00,2,    0.03,2,    1.13,2,   0.343,2,   0.168,2,-999.000,9,-999.0000,9, -999.00,9,-999.000,9,-999.000,-999.000,     3.2250,-999.0000, -999.00
32OC19880723,       A16N,      41,          1,         18,         18,2,19880731,       1600,    44.9900,   -19.9950,       4398,  2886.0,  34.9543,2,  34.9560,2,    262.5,2,   262.0,2,   23.00,2,   18.50,2,    0.03,2,    1.21,2,   0.356,3,   0.135,2,   0.545,2,   1.8855,2,    4.55,2,   8.031,2,   0.060,   0.031,     3.0140,   0.0132,    0.18
32OC19880723,       A16N,      41,          1,         19,         19,2,19880731,       1600,    44.9900,   -19.9950,       4398,  3190.5,  34.9438,2,  34.9410,2,    254.6,2,   254.2,2,   30.70,2,   19.10,2,    0.03,2,    1.28,2,   0.195,2,   0.100,2,-999.000,9,-999.0000,9, -999.00,9,-999.000,9,-999.000,   9.000,     2.7970,-999.0000, -999.00
32OC19880723,       A16N,      41,          1,         20,         20,2,19880731,       1600,    44.9900,   -19.9950,       4398,  3497.1,  34.9297,2,  34.9290,2,    249.4,2,   248.5,2,   36.80,2,   20.60,2,    0.03,2,    1.39,2,   0.162,6,   0.065,6,-999.000,9,-999.0000,9, -999.00,9,-999.000,9,-999.000,-999.000,     2.6660,-999.0000, -999.00
32OC19880723,       A16N,      41,          1,         21,         21,2,19880731,       1600,    44.9900,   -19.9950,       4398,  3811.5,  34.9175,2,  34.9200,2,    245.0,2,   244.2,2,   40.90,2,   20.40,2,    0.03,2,    1.41,2,   0.035,3,   0.097,3,   0.125,2,   1.9130,2,    2.50,2,   8.198,2,   0.061,   0.025,     2.5940,   0.0134,    0.18
32OC19880723,       A16N,      41,          1,         22,         22,2,19880731,       1600,    44.9900,   -19.9950,       4398,  4122.9,  34.9136,2,  34.9150,2,    242.4,2,   242.0,2,   42.60,2, -999.00,9,    0.03,2,    1.44,2,   0.054,2,   0.041,6,-999.000,9,-999.0000,9, -999.00,9,-999.000,9,-999.000,   9.000,     2.5870,-999.0000, -999.00
32OC19880723,       A16N,      41,          1,         23,         23,2,19880731,       1600,    44.9900,   -19.9950,       4398,  4294.8,  34.9123,2,  34.9130,2,    240.9,2,   241.1,2,   43.50,2, -999.00,9,    0.03,2,    1.43,2,   0.480,4,   0.053,2,   0.027,2,   1.8537,2,    2.38,2,   8.108,2,   0.061,   0.027,     2.5940,   0.0130,    0.18
32OC19880723,       A16N,      41,          1,         24,         24,2,19880731,       1600,    44.9900,   -19.9950,       4398,  4431.4,  34.9128,2,  34.9130,2,    239.7,2,   240.3,2,   43.10,2,   21.30,2,    0.01,2,    1.43,2,   0.099,2,   0.036,2,-999.000,9,-999.0000,9, -999.00,9,-999.000,9,-999.000,-999.000,     2.6110,-999.0000, -999.00
32OC19880723,       A16N,      41,          1,         99,     -999.0,9,19880731,       1600,    44.9900,   -19.9950,       4398,  4433.9,  34.9128,2,-999.0000,9,    239.6,2,  -999.0,9, -999.00,9, -999.00,9, -999.00,9, -999.00,9,-999.000,9,-999.000,9,-999.000,9,-999.0000,9, -999.00,9,-999.000,9,-999.000,   9.000,     2.6110,-999.0000, -999.00