BOTTLE,20220922CCHSIOAMB
EXPOCODE,SECT_ID,STNNBR,CASTNO,SAMPNO,BTLNBR,BTLNBR_FLAG_W,DATE,TIME,LATITUDE,LONGITUDE,DEPTH,CTDPRS,CTDSAL,CTDSAL_FLAG_W,SALNTY,SALNTY_FLAG_W,CTDOXY,CTDOXY_FLAG_W,OXYGEN,OXYGEN_FLAG_W,SILCAT,SILCAT_FLAG_W,NITRAT,NITRAT_FLAG_W,NITRIT,NITRIT_FLAG_W,PHSPHT,PHSPHT_FLAG_W,CFC-11,CFC-11_FLAG_W,CFC-12,CFC-12_FLAG_W,TRITUM,TRITUM_FLAG_W,HELIUM,HELIUM_FLAG_W,DELHE3,DELHE3_FLAG_W,NEON,NEON_FLAG_W,NEONER,TRITER,CTDTMP,HELIER,DELHER
,,,,,,,,,,,METERS,DBAR,PSS-78,,PSS-78,,UMOL/KG,,UMOL/KG,,UMOL/KG,,UMOL/KG,,UMOL/KG,,UMOL/KG,,PMOL/KG,,PMOL/KG,,TU,,NMOL/KG,,PERCNT,,NMOL/KG,,NMOL/KG,TU,IPTS-68,NMOL/KG,PERCNT
32OC19880723,       A16N,      75,          1,          7,          7,2,19880813,       0818,    28.1200,   -24.5117,       5225,    14.2,  37.3610,2,  37.3600,2,    219.2,2,   215.1,2,    0.00,2,    0.20,2,    0.00,2,    0.02,2,   1.992,2,   0.925,2,-999.000,9,-999.0000,9, -999.00,9,-999.000,9,-999.000,   9.000,    23.3840,-999.0000, -999.00
32OC19880723,       A16N,      75,          1,          8,          8,2,19880813,       0818,    28.1200,   -24.5117,       5225,    39.4,  37.3557,2,  37.3520,2,    214.1,2,   215.5,2,    0.00,2,    0.30,2,    0.00,2,    0.03,2,   1.986,2,   0.949,2,-999.000,9,-999.0000,9, -999.00,9,-999.000,9,-999.000,-999.000,    23.2870,-999.0000, -999.00
32OC19880723,       A16N,      75,          1,          9,          9,2,19880813,       0818,    28.1200,   -24.5117,       5225,    69.7,  36.9298,2,  37.2030,3,    236.5,2,   224.6,2,    0.00,2,    0.40,2,    0.00,2,    0.02,2,-999.000,9,-999.000,9,-999.000,9,-999.0000,9, -999.00,9,-999.000,9,-999.000,   9.000,    22.2080,-999.0000, -999.00
32OC19880723,       A16N,      75,          1,         10,         10,2,19880813,       0818,    28.1200,   -24.5117,       5225,   109.4,  36.8127,2,  36.7350,2,    217.6,2,   226.7,2,    0.20,2,    0.40,2,    0.00,2,    0.02,2,   2.179,2,   1.040,2,-999.000,9,-999.0000,9, -999.00,9,-999.000,9,-999.000,-999.000,    18.8110,-999.0000, -999.00
32OC19880723,       A16N,      75,          1,         11,         11,2,19880813,       0818,    28.1200,   -24.5117,       5225,   158.3,  36.6518,2,  36.6670,2,    212.7,2,   213.2,2,    0.40,2,    1.90,2,    0.04,2,    0.09,2,   2.139,2,   1.037,2,-999.000,9,-999.0000,9, -999.00,9,-999.000,9,-999.000,   9.000,    18.2330,-999.0000, -999.00
32OC19880723,       A16N,      75,          1,         12,         12,2,19880813,       0818,    28.1200,   -24.5117,       5225,   208.5,  36.3456,2,  36.4860,2,    203.5,2,   204.9,2,    0.90,2,    4.50,2,    0.00,2,    0.20,2,   2.097,2,   0.993,2,-999.000,9,-999.0000,9, -999.00,9,-999.000,9,-999.000,-999.000,    17.2710,-999.0000, -999.00
32OC19880723,       A16N,      75,          1,         13,         13,2,19880813,       0818,    28.1200,   -24.5117,       5225,   308.7,  36.0493,2,  36.0770,2,    199.3,2,   200.5,2,    2.20,2,    8.50,2,    0.00,2,    0.44,2,   1.940,2,   0.886,2,-999.000,9,-999.0000,9, -999.00,9,-999.000,9,-999.000,   9.000,    15.1090,-999.0000, -999.00
32OC19880723,       A16N,      75,          1,         14,         14,2,19880813,       0818,    28.1200,   -24.5117,       5225,   407.4,  35.8026,2,  35.8260,2,    195.3,2,   194.0,2,    3.60,2,   11.90,2,    0.00,2,    0.65,2,   1.582,2,   0.739,2,-999.000,9,-999.0000,9, -999.00,9,-999.000,9,-999.000,-999.000,    13.4790,-999.0000, -999.00
32OC19880723,       A16N,      75,          1,         15,         15,2,19880813,       0818,    28.1200,   -24.5117,       5225,   606.8,  35.5566,2,  35.5650,2,    176.8,2,   177.8,2,    6.70,2,   17.30,2,    0.01,2,    1.01,2,   0.957,4,   0.416,4,-999.000,9,-999.0000,9, -999.00,9,-999.000,9,-999.000,   9.000,    11.2830,-999.0000, -999.00
32OC19880723,       A16N,      75,          1,         16,         16,2,19880813,       0818,    28.1200,   -24.5117,       5225,   804.4,  35.4420,2,  35.4420,2,    156.3,2,   156.0,2,   12.00,2,   21.80,2,    0.01,2,    1.36,2,   0.286,4,   0.119,4,-999.000,9,-999.0000,9, -999.00,9,-999.000,9,-999.000,-999.000,     9.5060,-999.0000, -999.00
32OC19880723,       A16N,      75,          1,         17,         17,2,19880813,       0818,    28.1200,   -24.5117,       5225,  1051.2,  35.3779,2,  35.3800,2,    166.1,2,   164.3,2,   15.50,2,   23.30,2,    0.01,2,    1.44,2,   0.107,2,   0.075,2,-999.000,9,-999.0000,9, -999.00,9,-999.000,9,-999.000,   9.000,     7.9680,-999.0000, -999.00
32OC19880723,       A16N,      75,          1,         18,         18,2,19880813,       0818,    28.1200,   -24.5117,       5225,  1299.6,  35.4174,2,  35.4140,2,    187.6,2,   189.0,2,   15.50,2,   21.40,2,    0.01,2,    1.34,2,   0.119,2,   0.046,2,-999.000,9,-999.0000,9, -999.00,9,-999.000,9,-999.000,-999.000,     7.1650,-999.0000, -999.00
32OC19880723,       A16N,      75,          1,         19,         19,2,19880813,       0818,    28.1200,   -24.5117,       5225,  1547.7,  35.2841,2,  35.2820,2,    209.8,2,   210.7,2,   17.40,2,   20.70,2,    0.01,2,    1.32,2,   0.087,2,   0.020,2,-999.000,9,-999.0000,9, -999.00,9,-999.000,9,-999.000,   9.000,     5.8310,-999.0000, -999.00
32OC19880723,       A16N,      75,          1,         20,         20,2,19880813,       0818,    28.1200,   -24.5117,       5225,  1796.3,  35.1704,2,  35.1730,2,    227.2,2,   227.2,2,   19.20,2,   20.40,2,    0.01,2,    1.31,2,   0.048,2,   0.006,7,-999.000,9,-999.0000,9, -999.00,9,-999.000,9,-999.000,-999.000,     4.8640,-999.0000, -999.00
32OC19880723,       A16N,      75,          1,         21,         21,2,19880813,       0818,    28.1200,   -24.5117,       5225,  2144.5,  35.0565,2,  35.0570,2,    238.3,2,   238.1,2,   23.10,2,   20.40,2,    0.01,2,    1.33,2,   0.021,2,   0.002,7,-999.000,9,-999.0000,9, -999.00,9,-999.000,9,-999.000,   9.000,     3.8930,-999.0000, -999.00
32OC19880723,       A16N,      75,          1,         22,         22,2,19880813,       0818,    28.1200,   -24.5117,       5225,  2494.1,  34.9905,2,  34.9920,2,    247.5,2,   247.2,2,   26.20,2,   20.20,2,    0.01,2,    1.33,2,  -0.004,2,  -0.001,2,-999.000,9,-999.0000,9, -999.00,9,-999.000,9,-999.000,-999.000,     3.2940,-999.0000, -999.00
32OC19880723,       A16N,      75,          1,         23,         23,2,19880813,       0818,    28.1200,   -24.5117,       5225,  2844.5,  34.9525,2,  34.9550,2,    247.7,2,   247.2,2,   31.60,2,   20.80,2,    0.01,2,    1.39,2,  -0.037,3,  -0.001,2,-999.000,9,-999.0000,9, -999.00,9,-999.000,9,-999.000,   9.000,     2.9110,-999.0000, -999.00
32OC19880723,       A16N,      75,          1,         24,         24,2,19880813,       0818,    28.1200,   -24.5117,       5225,  3199.1,  34.9286,2,  34.9300,2,    246.8,2,   246.3,2,   36.70,2,   21.40,2,    0.01,2,    1.40,2,   0.002,2,   0.002,7,-999.000,9,-999.0000,9, -999.00,9,-999.000,9,-999.000,-999.000,     2.6580,-999.0000, -999.00
32OC19880723,       A16N,      75,          1,          1,          1,2,19880813,       0818,    28.1200,   -24.5117,       5225,  3552.2,  34.9123,2,  34.9120,2,    246.3,2,   246.3,2,   40.80,2,   21.80,2,    0.01,2,    1.40,2,-999.000,9,-999.000,9,-999.000,9,-999.0000,9, -999.00,9,-999.000,9,-999.000,   9.000,     2.5250,-999.0000, -999.00
32OC19880723,       A16N,      75,          1,          2,          2,2,19880813,       0818,    28.1200,   -24.5117,       5225,  3960.0,  34.9008,2,  34.8990,2,    246.4,2,   245.9,2,   43.10,2,   22.10,2,    0.01,2,    1.42,2,   0.015,2,  -0.001,2,-999.000,9,-999.0000,9, -999.00,9,-999.000,9,-999.000,-999.000,     2.4480,-999.0000, -999.00
32OC19880723,       A16N,      75,          1,          3,          3,2,19880813,       0818,    28.1200,   -24.5117,       5225,  4368.1,  34.8919,2,  34.8920,2,    246.3,2,   246.3,2,   45.10,2,   22.20,2,    0.01,2,    1.43,2,-999.000,9,-999.000,9,-999.000,9,-999.0000,9, -999.00,9,-999.000,9,-999.000,   9.000,     2.4170,-999.0000, -999.00
32OC19880723,       A16N,      75,          1,          4,          4,2,19880813,       0818,    28.1200,   -24.5117,       5225,  4725.4,  34.8863,2,  34.8880,2,    246.1,2,   246.8,2,   46.00,2,   22.30,2,    0.01,2, -999.00,9,  -0.020,3,  -0.001,2,-999.000,9,-999.0000,9, -999.00,9,-999.000,9,-999.000,-999.000,     2.4050,-999.0000, -999.00
32OC19880723,       A16N,      75,          1,          5,          5,2,19880813,       0818,    28.1200,   -24.5117,       5225,  5079.5,  34.8850,2,  34.8840,2,    246.8,2,   246.3,2,   46.40,2, -999.00,9,    0.01,2, -999.00,9,-999.000,9,-999.000,9,-999.000,9,-999.0000,9, -999.00,9,-999.000,9,-999.000,   9.000,     2.4280,-999.0000, -999.00
32OC19880723,       A16N,      75,          1,          6,          6,2,19880813,       0818,    28.1200,   -24.5117,       5225,  5319.4,  34.8846,2,-999.0000,9,    245.5,2,  -999.0,9, -999.00,9, -999.00,9, -999.00,9, -999.00,9,   1.693,4,   0.810,4,-999.000,9,-999.0000,9, -999.00,9,-999.000,9,-999.000,-999.000,     2.4570,-999.0000, -999.00
32OC19880723,       A16N,      75,          1,         99,     -999.0,9,19880813,       0818,    28.1200,   -24.5117,       5225,  5320.4,-999.0000,9,-999.0000,9,   -999.0,9,  -999.0,9, -999.00,9, -999.00,9, -999.00,9, -999.00,9,-999.000,9,-999.000,9,-999.000,9,-999.0000,9, -999.00,9,-999.000,9,-999.000,   9.000,     2.4570,-999.0000, -999.00
32OC19880723,       A16N,      76,          1,          1,          1,2,19880813,       1411,    27.4183,   -24.9250,       5236,    12.8,  37.2029,2,  37.1990,2,    222.3,2,   216.9,2,    0.30,2,    0.10,2,    0.02,2,    0.02,2,-999.000,9,-999.000,9,-999.000,9,-999.0000,9, -999.00,9,-999.000,9,-999.000,-999.000,    23.4260,-999.0000, -999.00
32OC19880723,       A16N,      76,          1,          2,          2,2,19880813,       1411,    27.4183,   -24.9250,       5236,    38.0,  37.2028,2,  37.1900,2,    213.9,2,   217.3,2,    0.20,2,    0.00,2,    0.01,2,    0.00,2,-999.000,9,-999.000,9,-999.000,9,-999.0000,9, -999.00,9,-999.000,9,-999.000,   9.000,    23.2990,-999.0000, -999.00
32OC19880723,       A16N,      76,          1,          3,          3,2,19880813,       1411,    27.4183,   -24.9250,       5236,    67.8,  36.8712,2,  36.7400,2,    240.2,2,   245.5,2,    0.20,2,    0.00,2,    0.01,2,    0.06,2,-999.000,9,-999.000,9,-999.000,9,-999.0000,9, -999.00,9,-999.000,9,-999.000,-999.000,    20.2380,-999.0000, -999.00
32OC19880723,       A16N,      76,          1,          4,          4,2,19880813,       1411,    27.4183,   -24.9250,       5236,   107.4,  36.7097,2,  36.7060,2,    227.1,2,   226.7,2,    0.20,2,    0.00,2,    0.01,2,    0.04,2,-999.000,9,-999.000,9,-999.000,9,-999.0000,9, -999.00,9,-999.000,9,-999.000,   9.000,    18.9660,-999.0000, -999.00
32OC19880723,       A16N,      76,          1,          5,          5,2,19880813,       1411,    27.4183,   -24.9250,       5236,   156.3,  36.5647,2,  36.6300,2,    211.5,2,   212.7,2,    0.60,2,    1.50,2,    0.06,2,    0.13,2,-999.000,9,-999.000,9,-999.000,9,-999.0000,9, -999.00,9,-999.000,9,-999.000,-999.000,    18.2330,-999.0000, -999.00
32OC19880723,       A16N,      76,          1,          6,          6,2,19880813,       1411,    27.4183,   -24.9250,       5236,   204.7,  36.3278,2,  36.3900,2,    201.2,2,   202.7,2,    1.30,2,    4.70,2,    0.01,2,    0.25,2,-999.000,9,-999.000,9,-999.000,9,-999.0000,9, -999.00,9,-999.000,9,-999.000,   9.000,    17.0240,-999.0000, -999.00
32OC19880723,       A16N,      76,          1,          7,          7,2,19880813,       1411,    27.4183,   -24.9250,       5236,   302.1,  36.0272,2,  36.0510,2,    198.4,2,   200.1,2,    2.40,2,    8.30,2,    0.03,2,    0.49,2,-999.000,9,-999.000,9,-999.000,9,-999.0000,9, -999.00,9,-999.000,9,-999.000,-999.000,    15.0100,-999.0000, -999.00
32OC19880723,       A16N,      76,          1,          8,          8,2,19880813,       1411,    27.4183,   -24.9250,       5236,   398.0,  35.8489,2,  35.8620,2,    195.4,2,   194.0,2,    3.60,2,   11.00,2,    0.02,2,    0.64,2,-999.000,9,-999.000,9,-999.000,9,-999.0000,9, -999.00,9,-999.000,9,-999.000,   9.000,    13.7460,-999.0000, -999.00
32OC19880723,       A16N,      76,          1,          9,          9,2,19880813,       1411,    27.4183,   -24.9250,       5236,   589.5,  35.5714,2,  35.5910,2,    181.8,2,   180.4,2,    6.30,2,   15.90,2,    0.02,2,    0.93,2,-999.000,9,-999.000,9,-999.000,9,-999.0000,9, -999.00,9,-999.000,9,-999.000,-999.000,    11.5990,-999.0000, -999.00
32OC19880723,       A16N,      76,          1,         10,         10,2,19880813,       1411,    27.4183,   -24.9250,       5236,   781.9,  35.4156,2,  35.4090,2,    155.3,2,   155.6,2,   11.80,2,   21.30,2,    0.02,2,    1.32,2,-999.000,9,-999.000,9,-999.000,9,-999.0000,9, -999.00,9,-999.000,9,-999.000,   9.000,     9.5580,-999.0000, -999.00
32OC19880723,       A16N,      76,          1,         11,         11,2,19880813,       1411,    27.4183,   -24.9250,       5236,  1022.2,  35.2939,2,  35.2760,2,    163.9,2,   164.3,2,   16.20,2,   23.80,2,    0.02,2,    1.49,2,-999.000,9,-999.000,9,-999.000,9,-999.0000,9, -999.00,9,-999.000,9,-999.000,-999.000,     7.5570,-999.0000, -999.00
32OC19880723,       A16N,      76,          1,         12,         12,2,19880813,       1411,    27.4183,   -24.9250,       5236,  1264.6,  35.4178,2,  35.3690,2,    183.1,2,   184.7,2,   16.10,2,   21.70,2,    0.02,2,    1.40,2,-999.000,9,-999.000,9,-999.000,9,-999.0000,9, -999.00,9,-999.000,9,-999.000,   9.000,     7.0560,-999.0000, -999.00
32OC19880723,       A16N,      76,          1,         13,         13,2,19880813,       1411,    27.4183,   -24.9250,       5236,  1506.9,  35.2862,2,  35.2700,2,    203.6,2,   206.8,2,   17.60,2,   20.90,2,    0.02,2,    1.34,2,-999.000,9,-999.000,9,-999.000,9,-999.0000,9, -999.00,9,-999.000,9,-999.000,-999.000,     5.8670,-999.0000, -999.00
32OC19880723,       A16N,      76,          1,         14,         14,2,19880813,       1411,    27.4183,   -24.9250,       5236,  1506.9,  35.2862,2,  35.2670,2,    203.6,2,   206.4,2,   17.60,2,   20.80,2,    0.02,2,    1.37,2,-999.000,9,-999.000,9,-999.000,9,-999.0000,9, -999.00,9,-999.000,9,-999.000,   9.000,     5.8670,-999.0000, -999.00
32OC19880723,       A16N,      76,          1,         15,         15,2,19880813,       1411,    27.4183,   -24.9250,       5236,  2090.5,  35.0737,2,  35.0770,2,    238.1,2,   242.0,2,   20.60,2,   19.60,2,    0.02,2,    1.27,2,-999.000,9,-999.000,9,-999.000,9,-999.0000,9, -999.00,9,-999.000,9,-999.000,-999.000,     4.0710,-999.0000, -999.00
32OC19880723,       A16N,      76,          1,         16,         16,2,19880813,       1411,    27.4183,   -24.9250,       5236,  2090.5,  35.0737,2,  35.0770,2,    238.1,2,   242.0,2,   20.60,2,   19.40,2,    0.02,2,    1.28,2,-999.000,9,-999.000,9,-999.000,9,-999.0000,9, -999.00,9,-999.000,9,-999.000,   9.000,     4.0710,-999.0000, -999.00
32OC19880723,       A16N,      76,          1,         17,         17,2,19880813,       1411,    27.4183,   -24.9250,       5236,  2788.0,  34.9513,2,  34.9590,2,    249.1,2,   249.4,2,   30.50,2,   20.40,2,    0.01,2,    1.34,2,-999.000,9,-999.000,9,-999.000,9,-999.0000,9, -999.00,9,-999.000,9,-999.000,-999.000,     2.9390,-999.0000, -999.00
32OC19880723,       A16N,      76,          1,         18,         18,2,19880813,       1411,    27.4183,   -24.9250,       5236,  3142.4,  34.9306,2,  34.9330,2,    248.2,2,   247.7,2,   35.70,2,   20.60,2,    0.01,2,    1.44,2,-999.000,9,-999.000,9,-999.000,9,-999.0000,9, -999.00,9,-999.000,9,-999.000,   9.000,     2.7040,-999.0000, -999.00
32OC19880723,       A16N,      76,          1,         19,         19,2,19880813,       1411,    27.4183,   -24.9250,       5236,  3497.4,  34.9144,2,  34.9160,2,    247.1,2,   246.8,2,   39.80,2,   21.30,2,    0.01,2,    1.44,2,-999.000,9,-999.000,9,-999.000,9,-999.0000,9, -999.00,9,-999.000,9,-999.000,-999.000,     2.5630,-999.0000, -999.00
32OC19880723,       A16N,      76,          1,         20,         20,2,19880813,       1411,    27.4183,   -24.9250,       5236,  3904.2,  34.9035,2,  34.9030,2,    246.8,2,   245.9,2,   42.60,2,   21.60,2,    0.00,2,    1.47,2,-999.000,9,-999.000,9,-999.000,9,-999.0000,9, -999.00,9,-999.000,9,-999.000,   9.000,     2.4730,-999.0000, -999.00
32OC19880723,       A16N,      76,          1,         21,         21,2,19880813,       1411,    27.4183,   -24.9250,       5236,  4314.2,  34.8947,2,  34.8960,2,    246.4,2,   245.9,2,   44.30,2,   21.90,2,    0.00,2,    1.47,2,-999.000,9,-999.000,9,-999.000,9,-999.0000,9, -999.00,9,-999.000,9,-999.000,-999.000,     2.4400,-999.0000, -999.00
32OC19880723,       A16N,      76,          1,         22,         22,2,19880813,       1411,    27.4183,   -24.9250,       5236,  4675.6,  34.8881,2,  34.8900,2,    246.6,2,   246.3,2,   45.90,2,   22.00,2,    0.00,2,    1.45,2,-999.000,9,-999.000,9,-999.000,9,-999.0000,9, -999.00,9,-999.000,9,-999.000,   9.000,     2.4150,-999.0000, -999.00
32OC19880723,       A16N,      76,          1,         23,         23,2,19880813,       1411,    27.4183,   -24.9250,       5236,  5040.0,  34.8850,2,  34.8870,2,    246.4,2,   246.8,2,   46.50,2,   22.10,2,    0.00,2,    1.46,2,-999.000,9,-999.000,9,-999.000,9,-999.0000,9, -999.00,9,-999.000,9,-999.000,-999.000,     2.4260,-999.0000, -999.00
32OC19880723,       A16N,      76,          1,         24,         24,2,19880813,       1411,    27.4183,   -24.9250,       5236,  5329.5,  34.8846,2,  34.8860,2,    245.5,2,   246.3,2,   46.90,2,   22.10,2,    0.00,2,    1.45,2,-999.000,9,-999.000,9,-999.000,9,-999.0000,9, -999.00,9,-999.000,9,-999.000,   9.000,     2.4540,-999.0000, -999.00
32OC19880723,       A16N,      76,          1,         99,     -999.0,9,19880813,       1411,    27.4183,   -24.9250,       5236,  5330.6,-999.0000,9,-999.0000,9,   -999.0,9,  -999.0,9, -999.00,9, -999.00,9, -999.00,9, -999.00,9,-999.000,9,-999.000,9,-999.000,9,-999.0000,9, -999.00,9,-999.000,9,-999.000,-999.000,     2.4540,-999.0000, -999.00