BOTTLE,20220922CCHSIOAMB
EXPOCODE,SECT_ID,STNNBR,CASTNO,SAMPNO,BTLNBR,BTLNBR_FLAG_W,DATE,TIME,LATITUDE,LONGITUDE,DEPTH,CTDPRS,CTDSAL,CTDSAL_FLAG_W,SALNTY,SALNTY_FLAG_W,CTDOXY,CTDOXY_FLAG_W,OXYGEN,OXYGEN_FLAG_W,SILCAT,SILCAT_FLAG_W,NITRAT,NITRAT_FLAG_W,NITRIT,NITRIT_FLAG_W,PHSPHT,PHSPHT_FLAG_W,CFC-11,CFC-11_FLAG_W,CFC-12,CFC-12_FLAG_W,TRITUM,TRITUM_FLAG_W,HELIUM,HELIUM_FLAG_W,DELHE3,DELHE3_FLAG_W,NEON,NEON_FLAG_W,NEONER,TRITER,CTDTMP,HELIER,DELHER
,,,,,,,,,,,METERS,DBAR,PSS-78,,PSS-78,,UMOL/KG,,UMOL/KG,,UMOL/KG,,UMOL/KG,,UMOL/KG,,UMOL/KG,,PMOL/KG,,PMOL/KG,,TU,,NMOL/KG,,PERCNT,,NMOL/KG,,NMOL/KG,TU,IPTS-68,NMOL/KG,PERCNT
32OC19880723,       A16N,     127,          1,          3,          3,2,19880827,       1400,    10.9667,   -21.9500,       5103,  3830.6,  34.8977,2,  34.8950,2,    243.3,2,   243.3,2,   44.10,2,   22.00,2,    0.00,2,    1.49,2,   0.023,2,   0.005,7,-999.000,9,-999.0000,9, -999.00,9,-999.000,9,-999.000,-999.000,     2.4110,-999.0000, -999.00
32OC19880723,       A16N,     127,          1,          4,          4,2,19880827,       1400,    10.9667,   -21.9500,       5103,  3830.7,  34.8977,2,  34.8970,2,    243.3,2,   243.3,2,   44.30,2,   21.80,2,    0.00,2,    1.49,2,-999.000,9,-999.000,9,-999.000,9,-999.0000,9, -999.00,9,-999.000,9,-999.000,   9.000,     2.4110,-999.0000, -999.00
32OC19880723,       A16N,     127,          1,          1,          1,2,19880827,       1400,    10.9667,   -21.9500,       5103,  3830.8,  34.8977,2,  34.8960,2,    243.3,2,   243.7,2,   44.00,2,   21.90,2,    0.00,2,    1.46,2,   0.041,2,   0.012,2,-999.000,9,-999.0000,9, -999.00,9,-999.000,9,-999.000,-999.000,     2.4100,-999.0000, -999.00
32OC19880723,       A16N,     127,          1,          2,          2,2,19880827,       1400,    10.9667,   -21.9500,       5103,  3830.9,  34.8977,2,  34.8960,2,    243.3,2,   243.3,2,   43.90,2,   22.00,2,    0.01,2,    1.48,2,   0.028,2,   0.005,7,-999.000,9,-999.0000,9, -999.00,9,-999.000,9,-999.000,   9.000,     2.4100,-999.0000, -999.00
32OC19880723,       A16N,     127,          1,          8,          8,2,19880827,       1400,    10.9667,   -21.9500,       5103,  4134.8,  34.8876,2,  34.8870,2,    243.8,2,   242.9,2,   47.10,2,   21.90,2,    0.00,2,    1.50,2,   0.003,2,   0.005,7,-999.000,9,-999.0000,9, -999.00,9,-999.000,9,-999.000,-999.000,     2.3430,-999.0000, -999.00
32OC19880723,       A16N,     127,          1,          6,          6,2,19880827,       1400,    10.9667,   -21.9500,       5103,  4135.0,  34.8876,2,  34.8870,2,    243.8,2,   242.9,2,   47.00,2,   22.30,2,    0.00,2,    1.51,2,   0.006,2,   0.002,7,-999.000,9,-999.0000,9, -999.00,9,-999.000,9,-999.000,   9.000,     2.3440,-999.0000, -999.00
32OC19880723,       A16N,     127,          1,          7,          7,2,19880827,       1400,    10.9667,   -21.9500,       5103,  4135.1,  34.8876,2,  34.8870,2,    243.8,2,   242.9,2,   46.80,2,   22.00,2,    0.00,2,    1.50,2,   0.011,2,   0.005,7,-999.000,9,-999.0000,9, -999.00,9,-999.000,9,-999.000,-999.000,     2.3440,-999.0000, -999.00
32OC19880723,       A16N,     127,          1,          5,          5,2,19880827,       1400,    10.9667,   -21.9500,       5103,  4135.4,  34.8875,2,  34.8880,2,    243.8,2,   243.3,2,   47.00,2,   22.30,2,    0.00,2,    1.51,2,   0.033,2,   0.005,7,-999.000,9,-999.0000,9, -999.00,9,-999.000,9,-999.000,   9.000,     2.3440,-999.0000, -999.00
32OC19880723,       A16N,     127,          1,         12,         12,2,19880827,       1400,    10.9667,   -21.9500,       5103,  4439.8,  34.8798,2,  34.8790,2,    241.6,2,   241.6,2,   49.60,2,   23.00,2,    0.00,2,    1.53,2,   0.057,2,   0.008,7,-999.000,9,-999.0000,9, -999.00,9,-999.000,9,-999.000,-999.000,     2.3100,-999.0000, -999.00
32OC19880723,       A16N,     127,          1,         11,         11,2,19880827,       1400,    10.9667,   -21.9500,       5103,  4440.2,  34.8798,2,  34.8800,2,    241.6,2,   241.6,2,   49.50,2,   22.50,2,    0.00,2,    1.53,2,   0.024,2,   0.005,7,-999.000,9,-999.0000,9, -999.00,9,-999.000,9,-999.000,   9.000,     2.3100,-999.0000, -999.00
32OC19880723,       A16N,     127,          1,         10,         10,2,19880827,       1400,    10.9667,   -21.9500,       5103,  4440.2,  34.8798,2,  34.8800,2,    241.6,2,   241.1,2,   49.60,2,   22.80,2,    0.00,2,    1.52,2,   0.014,2,   0.005,7,-999.000,9,-999.0000,9, -999.00,9,-999.000,9,-999.000,-999.000,     2.3100,-999.0000, -999.00
32OC19880723,       A16N,     127,          1,          9,          9,2,19880827,       1400,    10.9667,   -21.9500,       5103,  4440.5,  34.8798,2,  34.8810,2,    241.6,2,   241.1,2,   49.50,2,   22.70,2,    0.00,2,    1.52,2,  -0.003,2,   0.005,7,-999.000,9,-999.0000,9, -999.00,9,-999.000,9,-999.000,   9.000,     2.3110,-999.0000, -999.00
32OC19880723,       A16N,     127,          1,         15,         15,2,19880827,       1400,    10.9667,   -21.9500,       5103,  4745.2,  34.8773,2,  34.8750,2,    239.1,2,   239.0,2,   51.60,2,   22.60,2,    0.02,2,    1.54,2,  -0.031,2,   0.005,7,-999.000,9,-999.0000,9, -999.00,9,-999.000,9,-999.000,-999.000,     2.3080,-999.0000, -999.00
32OC19880723,       A16N,     127,          1,         16,         16,2,19880827,       1400,    10.9667,   -21.9500,       5103,  4745.3,  34.8773,2,  34.8770,2,    239.1,2,   239.0,2,   51.70,2,   23.10,2,    0.05,2,    1.56,2,  -0.012,2,   0.005,7,-999.000,9,-999.0000,9, -999.00,9,-999.000,9,-999.000,   9.000,     2.3080,-999.0000, -999.00
32OC19880723,       A16N,     127,          1,         13,         13,2,19880827,       1400,    10.9667,   -21.9500,       5103,  4745.6,  34.8773,2,  34.8770,2,    239.1,2,   239.0,2,   51.60,2,   22.70,2,    0.03,2,    1.53,2,   0.058,4,   0.011,2,-999.000,9,-999.0000,9, -999.00,9,-999.000,9,-999.000,-999.000,     2.3080,-999.0000, -999.00
32OC19880723,       A16N,     127,          1,         14,         14,2,19880827,       1400,    10.9667,   -21.9500,       5103,  4745.6,  34.8773,2,  34.8770,2,    239.1,2,   239.0,2,   51.70,2,   23.10,2,    0.03,2,    1.56,2,  -0.018,6,   0.017,6,-999.000,9,-999.0000,9, -999.00,9,-999.000,9,-999.000,   9.000,     2.3080,-999.0000, -999.00
32OC19880723,       A16N,     127,          1,         20,         20,2,19880827,       1400,    10.9667,   -21.9500,       5103,  5051.8,  34.8765,2,  34.8740,2,    238.4,2,   239.0,2,   52.20,2,   23.00,2,    0.04,2,    1.55,2,   0.005,2,   0.005,7,-999.000,9,-999.0000,9, -999.00,9,-999.000,9,-999.000,-999.000,     2.3290,-999.0000, -999.00
32OC19880723,       A16N,     127,          1,         17,         17,2,19880827,       1400,    10.9667,   -21.9500,       5103,  5051.9,  34.8765,2,  34.8760,2,    238.4,2,   238.5,2,   51.90,2,   22.90,2,    0.03,2,    1.55,2,  -0.004,2,   0.002,7,-999.000,9,-999.0000,9, -999.00,9,-999.000,9,-999.000,   9.000,     2.3290,-999.0000, -999.00
32OC19880723,       A16N,     127,          1,         19,         19,2,19880827,       1400,    10.9667,   -21.9500,       5103,  5051.9,  34.8765,2,  34.8740,2,    238.4,2,   239.0,2,   51.90,2,   22.90,2,    0.04,2,    1.56,2,  -0.013,2,   0.005,7,-999.000,9,-999.0000,9, -999.00,9,-999.000,9,-999.000,-999.000,     2.3290,-999.0000, -999.00
32OC19880723,       A16N,     127,          1,         18,         18,2,19880827,       1400,    10.9667,   -21.9500,       5103,  5052.0,  34.8765,2,  34.8750,2,    238.4,2,   239.0,2,   52.20,2,   22.90,2,    0.03,2,    1.55,2,   0.009,2,   0.024,2,-999.000,9,-999.0000,9, -999.00,9,-999.000,9,-999.000,   9.000,     2.3290,-999.0000, -999.00
32OC19880723,       A16N,     127,          1,         23,         23,2,19880827,       1400,    10.9667,   -21.9500,       5103,  5190.4,  34.8766,2,  34.8730,2,    237.7,2,  -999.0,9,   52.20,2,   23.00,2,    0.05,2,    1.54,2,   0.043,2,   0.013,2,-999.000,9,-999.0000,9, -999.00,9,-999.000,9,-999.000,-999.000,     2.3410,-999.0000, -999.00
32OC19880723,       A16N,     127,          1,         22,         22,2,19880827,       1400,    10.9667,   -21.9500,       5103,  5190.5,  34.8766,2,  34.8720,2,    237.7,2,   238.5,2,   52.60,2,   22.90,2,    0.05,2,    1.55,2,  -0.040,2,   0.005,7,-999.000,9,-999.0000,9, -999.00,9,-999.000,9,-999.000,   9.000,     2.3410,-999.0000, -999.00
32OC19880723,       A16N,     127,          1,         24,         24,2,19880827,       1400,    10.9667,   -21.9500,       5103,  5190.5,  34.8766,2,  34.8730,2,    237.7,2,   239.0,2,   52.20,2,   23.00,2,    0.03,2,    1.56,2,  -0.013,2,   0.011,2,-999.000,9,-999.0000,9, -999.00,9,-999.000,9,-999.000,-999.000,     2.3410,-999.0000, -999.00
32OC19880723,       A16N,     127,          1,         21,         21,2,19880827,       1400,    10.9667,   -21.9500,       5103,  5190.7,  34.8765,2,  34.8730,2,    237.7,2,   238.5,2,   52.10,2,   23.00,2,    0.04,2,    1.55,2,   0.041,2,   0.008,7,-999.000,9,-999.0000,9, -999.00,9,-999.000,9,-999.000,   9.000,     2.3410,-999.0000, -999.00
32OC19880723,       A16N,     127,          1,         99,     -999.0,9,19880827,       1400,    10.9667,   -21.9500,       5103,  5191.7,  34.8765,2,-999.0000,9,    237.6,2,  -999.0,9, -999.00,9, -999.00,9, -999.00,9, -999.00,9,-999.000,9,-999.000,9,-999.000,9,-999.0000,9, -999.00,9,-999.000,9,-999.000,-999.000,     2.3410,-999.0000, -999.00
32OC19880723,       A16N,     128,          1,          1,          1,2,19880827,       1817,    11.4550,   -21.8583,       5031,    13.9,  35.6987,2,  35.6100,2,    202.4,2,   207.7,2,    0.10,2,    0.10,2,    0.00,2,    0.07,2,-999.000,9,-999.000,9,-999.000,9,-999.0000,9, -999.00,9,-999.000,9,-999.000,   9.000,    26.6360,-999.0000, -999.00
32OC19880723,       A16N,     128,          1,          2,          2,2,19880827,       1817,    11.4550,   -21.8583,       5031,    58.5,  35.5774,2,  35.5980,2,     67.0,2,    65.7,2,    6.30,2,   25.30,2,    0.12,2,    1.46,2,-999.000,9,-999.000,9,-999.000,9,-999.0000,9, -999.00,9,-999.000,9,-999.000,-999.000,    15.6980,-999.0000, -999.00
32OC19880723,       A16N,     128,          1,          3,          3,2,19880827,       1817,    11.4550,   -21.8583,       5031,   107.9,  35.4255,2,  35.4430,2,     98.7,2,    89.6,2,    7.30,2,   24.50,2,    0.02,2,    1.46,2,-999.000,9,-999.000,9,-999.000,9,-999.0000,9, -999.00,9,-999.000,9,-999.000,   9.000,    14.0020,-999.0000, -999.00
32OC19880723,       A16N,     128,          1,          4,          4,2,19880827,       1817,    11.4550,   -21.8583,       5031,   156.9,  35.2801,2,  35.3040,2,    113.3,2,    80.5,2,    9.00,2,   27.30,2,    0.00,2,    1.62,2,-999.000,9,-999.000,9,-999.000,9,-999.0000,9, -999.00,9,-999.000,9,-999.000,-999.000,    12.9090,-999.0000, -999.00
32OC19880723,       A16N,     128,          1,          5,          5,2,19880827,       1817,    11.4550,   -21.8583,       5031,   205.7,  35.1971,2,  35.2310,2,    116.4,2,    81.3,2,   10.00,2,   28.30,2,    0.00,2,    1.68,2,-999.000,9,-999.000,9,-999.000,9,-999.0000,9, -999.00,9,-999.000,9,-999.000,   9.000,    12.1940,-999.0000, -999.00
32OC19880723,       A16N,     128,          1,          6,          6,2,19880827,       1817,    11.4550,   -21.8583,       5031,   302.8,  35.2046,2,  35.2260,2,     55.6,2,    54.8,2,   11.90,2,   32.90,2,    0.00,2,    1.90,2,-999.000,9,-999.000,9,-999.000,9,-999.0000,9, -999.00,9,-999.000,9,-999.000,-999.000,    11.2740,-999.0000, -999.00
32OC19880723,       A16N,     128,          1,          7,          7,2,19880827,       1817,    11.4550,   -21.8583,       5031,   399.9,  35.1587,2,  35.1700,2,     44.8,2,    43.9,2,   14.60,2,   35.60,2,    0.00,2,    2.07,2,-999.000,9,-999.000,9,-999.000,9,-999.0000,9, -999.00,9,-999.000,9,-999.000,   9.000,    10.2580,-999.0000, -999.00
32OC19880723,       A16N,     128,          1,          8,          8,2,19880827,       1817,    11.4550,   -21.8583,       5031,   595.1,  34.9111,2,  34.9160,2,     60.0,2,    62.2,2,   20.50,2,   38.30,2,    0.00,2,    2.32,2,-999.000,9,-999.000,9,-999.000,9,-999.0000,9, -999.00,9,-999.000,9,-999.000,-999.000,     7.8580,-999.0000, -999.00
32OC19880723,       A16N,     128,          1,          9,          9,2,19880827,       1817,    11.4550,   -21.8583,       5031,   792.1,  34.7640,2,  34.7590,2,     94.6,2,    97.8,2,   25.40,2,   37.90,2,    0.00,2,    2.37,2,-999.000,9,-999.000,9,-999.000,9,-999.0000,9, -999.00,9,-999.000,9,-999.000,   9.000,     6.1200,-999.0000, -999.00
32OC19880723,       A16N,     128,          1,         10,         10,2,19880827,       1817,    11.4550,   -21.8583,       5031,   989.9,  34.8066,2,  34.8030,2,    129.5,2,   128.7,2,   26.10,2,   35.00,2,    0.00,2,    2.18,2,-999.000,9,-999.000,9,-999.000,9,-999.0000,9, -999.00,9,-999.000,9,-999.000,-999.000,     5.3980,-999.0000, -999.00
32OC19880723,       A16N,     128,          1,         11,         11,2,19880827,       1817,    11.4550,   -21.8583,       5031,  1186.8,  34.9070,2,  34.9050,2,    160.9,2,   159.1,2,   24.10,2,   29.90,2,    0.00,2,    1.92,2,-999.000,9,-999.000,9,-999.000,9,-999.0000,9, -999.00,9,-999.000,9,-999.000,   9.000,     4.9860,-999.0000, -999.00
32OC19880723,       A16N,     128,          1,         12,         12,2,19880827,       1817,    11.4550,   -21.8583,       5031,  1581.5,  34.9599,2,  34.9610,2,    213.7,2,   215.5,2,   21.40,2,   24.70,2,    0.00,2,    1.54,2,-999.000,9,-999.000,9,-999.000,9,-999.0000,9, -999.00,9,-999.000,9,-999.000,-999.000,     4.0780,-999.0000, -999.00
32OC19880723,       A16N,     128,          1,         13,         13,2,19880827,       1817,    11.4550,   -21.8583,       5031,  1978.4,  34.9541,2,  34.9560,2,    238.1,2,   237.2,2,   23.40,2,   22.80,2,    0.00,2,    1.43,2,-999.000,9,-999.000,9,-999.000,9,-999.0000,9, -999.00,9,-999.000,9,-999.000,   9.000,     3.5030,-999.0000, -999.00
32OC19880723,       A16N,     128,          1,         14,         14,2,19880827,       1817,    11.4550,   -21.8583,       5031,  2376.0,  34.9454,2,  34.9480,2,    241.8,2,   241.1,2,   28.00,2,   22.20,2,    0.00,2,    1.41,2,-999.000,9,-999.000,9,-999.000,9,-999.0000,9, -999.00,9,-999.000,9,-999.000,-999.000,     3.1390,-999.0000, -999.00
32OC19880723,       A16N,     128,          1,         15,         15,2,19880827,       1817,    11.4550,   -21.8583,       5031,  2828.1,  34.9292,2,  34.9310,2,    244.6,2,   243.7,2,   33.30,2,   22.30,2,    0.00,2,    1.39,2,-999.000,9,-999.000,9,-999.000,9,-999.0000,9, -999.00,9,-999.000,9,-999.000,   9.000,     2.8160,-999.0000, -999.00
32OC19880723,       A16N,     128,          1,         16,         16,2,19880827,       1817,    11.4550,   -21.8583,       5031,  3287.1,  34.9143,2,  34.9160,2,    245.1,2,   245.0,2,   37.80,2,   22.70,2,    0.00,2,    1.46,2,-999.000,9,-999.000,9,-999.000,9,-999.0000,9, -999.00,9,-999.000,9,-999.000,-999.000,     2.5970,-999.0000, -999.00
32OC19880723,       A16N,     128,          1,         17,         17,2,19880827,       1817,    11.4550,   -21.8583,       5031,  3746.6,  34.8995,2,  34.9010,2,    244.2,2,   244.2,2,   42.70,2,   23.20,2,    0.01,2,    1.45,2,-999.000,9,-999.000,9,-999.000,9,-999.0000,9, -999.00,9,-999.000,9,-999.000,   9.000,     2.4360,-999.0000, -999.00
32OC19880723,       A16N,     128,          1,         18,         18,2,19880827,       1817,    11.4550,   -21.8583,       5031,  3950.6,  34.8928,2,  34.8940,2,    243.4,2,   243.3,2,   44.70,2,   23.10,2,    0.01,2,    1.45,2,-999.000,9,-999.000,9,-999.000,9,-999.0000,9, -999.00,9,-999.000,9,-999.000,-999.000,     2.3870,-999.0000, -999.00
32OC19880723,       A16N,     128,          1,         19,         19,2,19880827,       1817,    11.4550,   -21.8583,       5031,  4154.1,  34.8856,2,  34.8870,2,    243.7,2,   244.2,2,   46.80,2,   23.30,2,    0.01,2,    1.48,2,-999.000,9,-999.000,9,-999.000,9,-999.0000,9, -999.00,9,-999.000,9,-999.000,   9.000,     2.3380,-999.0000, -999.00
32OC19880723,       A16N,     128,          1,         20,         20,2,19880827,       1817,    11.4550,   -21.8583,       5031,  4358.0,  34.8801,2,  34.8830,2,    242.6,2,   242.9,2,   48.20,2,   23.70,2,    0.00,2,    1.50,2,-999.000,9,-999.000,9,-999.000,9,-999.0000,9, -999.00,9,-999.000,9,-999.000,-999.000,     2.3180,-999.0000, -999.00
32OC19880723,       A16N,     128,          1,         21,         21,2,19880827,       1817,    11.4550,   -21.8583,       5031,  4563.8,  34.8777,2,  34.8790,2,    241.4,2,   241.6,2,   49.80,2,   24.00,2,    0.00,2,    1.53,2,-999.000,9,-999.000,9,-999.000,9,-999.0000,9, -999.00,9,-999.000,9,-999.000,   9.000,     2.3050,-999.0000, -999.00
32OC19880723,       A16N,     128,          1,         22,         22,2,19880827,       1817,    11.4550,   -21.8583,       5031,  4770.1,  34.8757,2,  34.8770,2,    239.8,2,   239.4,2,   51.00,2,   23.60,2,    0.01,2,    1.51,2,-999.000,9,-999.000,9,-999.000,9,-999.0000,9, -999.00,9,-999.000,9,-999.000,-999.000,     2.3100,-999.0000, -999.00
32OC19880723,       A16N,     128,          1,         23,         23,2,19880827,       1817,    11.4550,   -21.8583,       5031,  4977.6,  34.8752,2,  34.8750,2,    238.1,2,   239.0,2,   51.80,2,   23.90,2,    0.01,2,    1.51,2,-999.000,9,-999.000,9,-999.000,9,-999.0000,9, -999.00,9,-999.000,9,-999.000,   9.000,     2.3220,-999.0000, -999.00
32OC19880723,       A16N,     128,          1,         24,         24,2,19880827,       1817,    11.4550,   -21.8583,       5031,  5112.9,  34.8754,2,  34.8760,2,    237.7,2,   236.8,2,   52.00,2,   23.80,2,    0.01,2,    1.53,2,-999.000,9,-999.000,9,-999.000,9,-999.0000,9, -999.00,9,-999.000,9,-999.000,-999.000,     2.3330,-999.0000, -999.00
32OC19880723,       A16N,     128,          1,         99,     -999.0,9,19880827,       1817,    11.4550,   -21.8583,       5031,  5114.6,  34.8755,2,-999.0000,9,    237.5,2,  -999.0,9, -999.00,9, -999.00,9, -999.00,9, -999.00,9,-999.000,9,-999.000,9,-999.000,9,-999.0000,9, -999.00,9,-999.000,9,-999.000,   9.000,     2.3330,-999.0000, -999.00