BOTTLE,20220922CCHSIOAMB
EXPOCODE,SECT_ID,STNNBR,CASTNO,SAMPNO,BTLNBR,BTLNBR_FLAG_W,DATE,TIME,LATITUDE,LONGITUDE,DEPTH,CTDPRS,CTDSAL,CTDSAL_FLAG_W,SALNTY,SALNTY_FLAG_W,CTDOXY,CTDOXY_FLAG_W,OXYGEN,OXYGEN_FLAG_W,SILCAT,SILCAT_FLAG_W,NITRAT,NITRAT_FLAG_W,NITRIT,NITRIT_FLAG_W,PHSPHT,PHSPHT_FLAG_W,CFC-11,CFC-11_FLAG_W,CFC-12,CFC-12_FLAG_W,TRITUM,TRITUM_FLAG_W,HELIUM,HELIUM_FLAG_W,DELHE3,DELHE3_FLAG_W,NEON,NEON_FLAG_W,NEONER,TRITER,CTDTMP,HELIER,DELHER
,,,,,,,,,,,METERS,DBAR,PSS-78,,PSS-78,,UMOL/KG,,UMOL/KG,,UMOL/KG,,UMOL/KG,,UMOL/KG,,UMOL/KG,,PMOL/KG,,PMOL/KG,,TU,,NMOL/KG,,PERCNT,,NMOL/KG,,NMOL/KG,TU,IPTS-68,NMOL/KG,PERCNT
32OC19880723,       A16N,      54,          1,          1,          1,2,19880803,       1123,    38.5267,   -20.0383,       4444,    12.2,  36.1640,2,  36.1660,2,    233.3,2,   226.5,2,    0.40,2,    0.10,2,    0.00,2,    0.05,2,-999.000,9,-999.000,9,-999.000,9,-999.0000,9, -999.00,9,-999.000,9,-999.000,-999.000,    20.9320,-999.0000, -999.00
32OC19880723,       A16N,      54,          1,          2,          2,2,19880803,       1123,    38.5267,   -20.0383,       4444,    34.6,  35.9786,2,  35.9820,2,    251.8,2,   254.6,2,    0.40,2,    0.10,2,    0.00,2,    0.06,2,-999.000,9,-999.000,9,-999.000,9,-999.0000,9, -999.00,9,-999.000,9,-999.000,   9.000,    17.2230,-999.0000, -999.00
32OC19880723,       A16N,      54,          1,          3,          3,2,19880803,       1123,    38.5267,   -20.0383,       4444,    67.4,  35.9624,2,  35.9490,2,    253.9,2,   239.2,3,    1.20,2,    3.60,2,    0.11,2,    0.18,2,-999.000,9,-999.000,9,-999.000,9,-999.0000,9, -999.00,9,-999.000,9,-999.000,-999.000,    14.5460,-999.0000, -999.00
32OC19880723,       A16N,      54,          1,          4,          4,2,19880803,       1123,    38.5267,   -20.0383,       4444,   107.1,  35.9262,2,  35.9240,2,    234.0,2,   233.5,2,    1.30,2,    5.00,2,    0.01,2,    0.30,2,-999.000,9,-999.000,9,-999.000,9,-999.0000,9, -999.00,9,-999.000,9,-999.000,   9.000,    14.0170,-999.0000, -999.00
32OC19880723,       A16N,      54,          1,          5,          5,2,19880803,       1123,    38.5267,   -20.0383,       4444,   156.8,  35.7934,2,  35.7860,2,    235.8,2,   237.4,2,    1.80,2,    6.50,2,    0.00,2,    0.39,2,-999.000,9,-999.000,9,-999.000,9,-999.0000,9, -999.00,9,-999.000,9,-999.000,-999.000,    13.2450,-999.0000, -999.00
32OC19880723,       A16N,      54,          1,          6,          6,2,19880803,       1123,    38.5267,   -20.0383,       4444,   206.1,  35.7278,2,  35.7280,2,    221.2,2,   221.3,2,    2.80,2,    9.50,2,    0.00,2,    0.52,2,-999.000,9,-999.000,9,-999.000,9,-999.0000,9, -999.00,9,-999.000,9,-999.000,   9.000,    12.7980,-999.0000, -999.00
32OC19880723,       A16N,      54,          1,          7,          7,2,19880803,       1123,    38.5267,   -20.0383,       4444,   305.2,  35.6397,2,  35.6360,2,    219.6,2,   231.3,2,    3.30,2,   10.40,2,    0.00,2,    0.57,2,-999.000,9,-999.000,9,-999.000,9,-999.0000,9, -999.00,9,-999.000,9,-999.000,-999.000,    12.1200,-999.0000, -999.00
32OC19880723,       A16N,      54,          1,          8,          8,2,19880803,       1123,    38.5267,   -20.0383,       4444,   404.0,  35.5737,2,  35.5790,2,    213.3,2,   216.1,2,    4.10,2,   12.60,2,    0.00,2,    0.67,2,-999.000,9,-999.000,9,-999.000,9,-999.0000,9, -999.00,9,-999.000,9,-999.000,   9.000,    11.6040,-999.0000, -999.00
32OC19880723,       A16N,      54,          1,          9,          9,2,19880803,       1123,    38.5267,   -20.0383,       4444,   498.4,  35.5408,2,  35.5350,2,    205.3,2,   209.6,2,    5.00,2,   14.00,2,    0.00,2,    0.78,2,-999.000,9,-999.000,9,-999.000,9,-999.0000,9, -999.00,9,-999.000,9,-999.000,-999.000,    11.0950,-999.0000, -999.00
32OC19880723,       A16N,      54,          1,         10,         10,2,19880803,       1123,    38.5267,   -20.0383,       4444,   592.2,  35.5810,2,  35.5570,2,    195.9,2,   196.9,2,    6.30,2,   15.40,2,    0.00,2,    0.85,2,-999.000,9,-999.000,9,-999.000,9,-999.0000,9, -999.00,9,-999.000,9,-999.000,   9.000,    10.7940,-999.0000, -999.00
32OC19880723,       A16N,      54,          1,         11,         11,2,19880803,       1123,    38.5267,   -20.0383,       4444,   786.1,  35.7937,2,  35.8020,2,    183.1,2,   183.0,2,    8.10,2,   16.50,2,    0.00,2,    0.92,2,-999.000,9,-999.000,9,-999.000,9,-999.0000,9, -999.00,9,-999.000,9,-999.000,-999.000,    10.6830,-999.0000, -999.00
32OC19880723,       A16N,      54,          1,         12,         12,2,19880803,       1123,    38.5267,   -20.0383,       4444,   979.5,  35.9244,2,  35.9300,2,    186.0,2,   183.8,2,    9.10,2,   16.50,2,    0.00,2,    0.93,2,-999.000,9,-999.000,9,-999.000,9,-999.0000,9, -999.00,9,-999.000,9,-999.000,   9.000,    10.3360,-999.0000, -999.00
32OC19880723,       A16N,      54,          1,         13,         13,2,19880803,       1123,    38.5267,   -20.0383,       4444,  1221.3,  35.7039,2,  35.7770,2,    210.1,2,   199.9,2,   10.20,2,   17.00,2,    0.00,2,    0.94,2,-999.000,9,-999.000,9,-999.000,9,-999.0000,9, -999.00,9,-999.000,9,-999.000,-999.000,     8.8660,-999.0000, -999.00
32OC19880723,       A16N,      54,          1,         14,         14,2,19880803,       1123,    38.5267,   -20.0383,       4444,  1468.2,  35.2910,2,  35.3100,2,    238.5,2,   235.1,2,   11.30,2,   17.60,2,    0.00,2,    1.03,2,-999.000,9,-999.000,9,-999.000,9,-999.0000,9, -999.00,9,-999.000,9,-999.000,   9.000,     5.9730,-999.0000, -999.00
32OC19880723,       A16N,      54,          1,         15,         15,2,19880803,       1123,    38.5267,   -20.0383,       4444,  1711.3,  35.1079,2,  35.1210,2,    254.7,2,   252.4,2,   11.80,2,   17.50,2,    0.00,2,    1.07,2,-999.000,9,-999.000,9,-999.000,9,-999.0000,9, -999.00,9,-999.000,9,-999.000,-999.000,     4.7480,-999.0000, -999.00
32OC19880723,       A16N,      54,          1,         16,         16,2,19880803,       1123,    38.5267,   -20.0383,       4444,  1966.4,  35.0582,2,  35.0640,2,    257.4,2,   256.4,2,   14.30,2,   18.00,2,    0.00,2,    1.07,2,-999.000,9,-999.000,9,-999.000,9,-999.0000,9, -999.00,9,-999.000,9,-999.000,   9.000,     4.1600,-999.0000, -999.00
32OC19880723,       A16N,      54,          1,         17,         17,2,19880803,       1123,    38.5267,   -20.0383,       4444,  2261.9,  35.0023,2,  34.9980,2,    258.7,2,   259.8,2,   18.00,2,   18.20,2,    0.00,2,    1.09,2,-999.000,9,-999.000,9,-999.000,9,-999.0000,9, -999.00,9,-999.000,9,-999.000,-999.000,     3.5520,-999.0000, -999.00
32OC19880723,       A16N,      54,          1,         18,         18,2,19880803,       1123,    38.5267,   -20.0383,       4444,  2611.6,  34.9668,2,  34.9640,2,    258.4,2,   258.1,2,   23.80,2,   18.80,2,    0.00,2,    1.13,2,-999.000,9,-999.000,9,-999.000,9,-999.0000,9, -999.00,9,-999.000,9,-999.000,   9.000,     3.1010,-999.0000, -999.00
32OC19880723,       A16N,      54,          1,         19,         19,2,19880803,       1123,    38.5267,   -20.0383,       4444,  2963.5,-999.0000,9,  34.9460,2,   -999.0,9,   253.3,2,   30.20,2,   20.20,2,    0.00,2,    1.19,2,-999.000,9,-999.000,9,-999.000,9,-999.0000,9, -999.00,9,-999.000,9,-999.000,-999.000,     2.8360,-999.0000, -999.00
32OC19880723,       A16N,      54,          1,         20,         20,2,19880803,       1123,    38.5267,   -20.0383,       4444,  3324.6,-999.0000,9,  34.9320,2,   -999.0,9,   248.5,2,   35.60,2,   20.90,2,    0.00,2,    1.26,2,-999.000,9,-999.000,9,-999.000,9,-999.0000,9, -999.00,9,-999.000,9,-999.000,   9.000,     2.6900,-999.0000, -999.00
32OC19880723,       A16N,      54,          1,         21,         21,2,19880803,       1123,    38.5267,   -20.0383,       4444,  3685.1,-999.0000,9,  34.9200,2,   -999.0,9,   245.5,2,   39.60,2,   21.30,2,    0.00,2,    1.30,2,-999.000,9,-999.000,9,-999.000,9,-999.0000,9, -999.00,9,-999.000,9,-999.000,-999.000,     2.6000,-999.0000, -999.00
32OC19880723,       A16N,      54,          1,         22,         22,2,19880803,       1123,    38.5267,   -20.0383,       4444,  4047.7,-999.0000,9,  34.9090,2,   -999.0,9,   244.2,2,   42.00,2,   21.30,2,    0.00,2,    1.32,2,-999.000,9,-999.000,9,-999.000,9,-999.0000,9, -999.00,9,-999.000,9,-999.000,   9.000,     2.5500,-999.0000, -999.00
32OC19880723,       A16N,      54,          1,         23,         23,2,19880803,       1123,    38.5267,   -20.0383,       4444,  4407.2,-999.0000,9,  34.9050,2,   -999.0,9,   243.7,2,   43.30,2,   21.50,2,    0.00,2,    1.33,2,-999.000,9,-999.000,9,-999.000,9,-999.0000,9, -999.00,9,-999.000,9,-999.000,-999.000,     2.5450,-999.0000, -999.00
32OC19880723,       A16N,      54,          1,         24,         24,2,19880803,       1123,    38.5267,   -20.0383,       4444,  4566.2,-999.0000,9,  34.9020,2,   -999.0,9,   243.7,2,   43.80,2,   21.50,2,    0.00,2,    1.33,2,-999.000,9,-999.000,9,-999.000,9,-999.0000,9, -999.00,9,-999.000,9,-999.000,   9.000,     2.5400,-999.0000, -999.00
32OC19880723,       A16N,      54,          1,         99,     -999.0,9,19880803,       1123,    38.5267,   -20.0383,       4444,  4567.4,-999.0000,9,-999.0000,9,   -999.0,9,  -999.0,9, -999.00,9, -999.00,9, -999.00,9, -999.00,9,-999.000,9,-999.000,9,-999.000,9,-999.0000,9, -999.00,9,-999.000,9,-999.000,-999.000,     2.5400,-999.0000, -999.00
32OC19880723,       A16N,      55,          1,          1,          1,2,19880803,       1653,    38.0183,   -19.9850,       5149,     4.6,  36.3103,2,  36.3030,2,    224.2,2,   224.3,2,    0.60,2, -999.00,9,    0.00,2,    0.04,2,-999.000,9,-999.000,9,-999.000,9,-999.0000,9, -999.00,9,-999.000,9,-999.000,   9.000,    21.8670,-999.0000, -999.00
32OC19880723,       A16N,      55,          1,          2,          2,2,19880803,       1653,    38.0183,   -19.9850,       5149,    37.6,  36.2389,2,  36.2330,2,    231.4,2,   244.2,3,    0.50,2, -999.00,9,    0.00,2,    0.04,2,-999.000,9,-999.000,9,-999.000,9,-999.0000,9, -999.00,9,-999.000,9,-999.000,-999.000,    19.6240,-999.0000, -999.00
32OC19880723,       A16N,      55,          1,          3,          3,2,19880803,       1653,    38.0183,   -19.9850,       5149,    67.9,  36.0763,2,  36.0710,2,    253.5,2,   252.3,2,    0.60,2, -999.00,9,    0.00,2,    0.04,2,-999.000,9,-999.000,9,-999.000,9,-999.0000,9, -999.00,9,-999.000,9,-999.000,   9.000,    15.7190,-999.0000, -999.00
32OC19880723,       A16N,      55,          1,          4,          4,2,19880803,       1653,    38.0183,   -19.9850,       5149,   108.1,  36.0057,2,  35.9950,2,    234.8,2,   231.4,2,    1.10,2,    4.30,2,    0.08,2,    0.23,2,-999.000,9,-999.000,9,-999.000,9,-999.0000,9, -999.00,9,-999.000,9,-999.000,-999.000,    14.5480,-999.0000, -999.00
32OC19880723,       A16N,      55,          1,          5,          5,2,19880803,       1653,    38.0183,   -19.9850,       5149,   157.9,  35.9365,2,  35.8900,2,    230.1,2,   227.4,2,    1.70,2,    6.40,2,    0.02,2,    0.33,2,-999.000,9,-999.000,9,-999.000,9,-999.0000,9, -999.00,9,-999.000,9,-999.000,   9.000,    13.9020,-999.0000, -999.00
32OC19880723,       A16N,      55,          1,          6,          6,2,19880803,       1653,    38.0183,   -19.9850,       5149,   206.6,  35.8196,2,  35.7940,2,    229.5,2,   218.7,2,    2.70,2,    9.40,2,    0.01,2,    0.47,2,-999.000,9,-999.000,9,-999.000,9,-999.0000,9, -999.00,9,-999.000,9,-999.000,-999.000,    13.2900,-999.0000, -999.00
32OC19880723,       A16N,      55,          1,          7,          7,2,19880803,       1653,    38.0183,   -19.9850,       5149,   306.3,  35.6821,2,  35.6730,2,    216.6,2,   217.0,2,    3.50,2,   11.60,2,    0.00,2,    0.57,2,-999.000,9,-999.000,9,-999.000,9,-999.0000,9, -999.00,9,-999.000,9,-999.000,   9.000,    12.4150,-999.0000, -999.00
32OC19880723,       A16N,      55,          1,          8,          8,2,19880803,       1653,    38.0183,   -19.9850,       5149,   406.9,  35.5888,2,  35.5900,2,    221.6,2,   220.4,2,    6.30,2,   12.80,2,    0.00,2,    0.63,2,-999.000,9,-999.000,9,-999.000,9,-999.0000,9, -999.00,9,-999.000,9,-999.000,-999.000,    11.7510,-999.0000, -999.00
32OC19880723,       A16N,      55,          1,          9,          9,2,19880803,       1653,    38.0183,   -19.9850,       5149,   607.3,  35.5014,2,  35.5040,2,    207.6,2,   203.5,2,    8.80,2,   16.40,2,    0.00,2,    0.87,2,-999.000,9,-999.000,9,-999.000,9,-999.0000,9, -999.00,9,-999.000,9,-999.000,   9.000,    10.6450,-999.0000, -999.00
32OC19880723,       A16N,      55,          1,         10,         10,2,19880803,       1653,    38.0183,   -19.9850,       5149,   806.6,  35.7138,2,  35.6410,2,    184.4,2,   185.2,2,    9.10,2,   18.30,2,    0.00,2,    1.00,2,-999.000,9,-999.000,9,-999.000,9,-999.0000,9, -999.00,9,-999.000,9,-999.000,-999.000,     9.9800,-999.0000, -999.00
32OC19880723,       A16N,      55,          1,         11,         11,2,19880803,       1653,    38.0183,   -19.9850,       5149,  1055.0,  35.7192,2,  35.7210,2,    193.4,2,   192.9,2,   10.30,2,   18.60,2,    0.00,2,    0.99,2,-999.000,9,-999.000,9,-999.000,9,-999.0000,9, -999.00,9,-999.000,9,-999.000,   9.000,     9.1170,-999.0000, -999.00
32OC19880723,       A16N,      55,          1,         12,         12,2,19880803,       1653,    38.0183,   -19.9850,       5149,  1300.2,  35.4284,2,  35.4230,2,    223.8,2,   222.0,2, -999.00,9, -999.00,9,    0.00,2, -999.00,9,-999.000,9,-999.000,9,-999.000,9,-999.0000,9, -999.00,9,-999.000,9,-999.000,-999.000,     6.8800,-999.0000, -999.00
32OC19880723,       A16N,      55,          1,         13,         13,2,19880803,       1653,    38.0183,   -19.9850,       5149,  1599.3,  35.1006,2,  35.1040,2,    252.9,2,   253.3,2,   11.40,2,   18.40,2,    0.00,2,    1.06,2,-999.000,9,-999.000,9,-999.000,9,-999.0000,9, -999.00,9,-999.000,9,-999.000,   9.000,     4.7600,-999.0000, -999.00
32OC19880723,       A16N,      55,          1,         14,         14,2,19880803,       1653,    38.0183,   -19.9850,       5149,  1902.2,  35.0870,2,  35.0480,2,    255.0,2,   259.0,2,   13.00,2,   18.50,2,    0.00,2,    1.12,2,-999.000,9,-999.000,9,-999.000,9,-999.0000,9, -999.00,9,-999.000,9,-999.000,-999.000,     4.1840,-999.0000, -999.00
32OC19880723,       A16N,      55,          1,         15,         15,2,19880803,       1653,    38.0183,   -19.9850,       5149,  2206.2,  35.0170,2,  35.0200,2,    257.7,2,   258.1,2,   13.40,3,   18.60,2,    0.00,2,    1.11,2,-999.000,9,-999.000,9,-999.000,9,-999.0000,9, -999.00,9,-999.000,9,-999.000,   9.000,     3.7490,-999.0000, -999.00
32OC19880723,       A16N,      55,          1,         16,         16,2,19880803,       1653,    38.0183,   -19.9850,       5149,  2562.3,  34.9629,2,  34.9620,2,    259.5,2,  -999.0,9,   22.20,2,   19.70,2,    0.00,2,    1.14,2,-999.000,9,-999.000,9,-999.000,9,-999.0000,9, -999.00,9,-999.000,9,-999.000,-999.000,     3.1240,-999.0000, -999.00
32OC19880723,       A16N,      55,          1,         17,         17,2,19880803,       1653,    38.0183,   -19.9850,       5149,  2917.2,  34.9475,2,  34.9460,2,    253.8,2,   253.3,2,   30.20,2,   20.50,2,    0.00,2,    1.18,2,-999.000,9,-999.000,9,-999.000,9,-999.0000,9, -999.00,9,-999.000,9,-999.000,   9.000,     2.8380,-999.0000, -999.00
32OC19880723,       A16N,      55,          1,         18,         18,2,19880803,       1653,    38.0183,   -19.9850,       5149,  3274.1,  34.9315,2,  34.9310,2,    248.5,2,   248.5,2,   36.20,2,   21.20,2,    0.00,2,    1.28,2,-999.000,9,-999.000,9,-999.000,9,-999.0000,9, -999.00,9,-999.000,9,-999.000,-999.000,     2.6680,-999.0000, -999.00
32OC19880723,       A16N,      55,          1,         19,         19,2,19880803,       1653,    38.0183,   -19.9850,       5149,  3630.6,  34.9189,2,  34.9210,2,    245.9,2,   245.0,2,   40.60,2,   22.20,2,    0.00,2,    1.29,2,   0.052,2,   0.038,2,-999.000,9,-999.0000,9, -999.00,9,-999.000,9,-999.000,   9.000,     2.5750,-999.0000, -999.00
32OC19880723,       A16N,      55,          1,         20,         20,2,19880803,       1653,    38.0183,   -19.9850,       5149,  3988.4,  34.9093,2,  34.9110,2,    245.1,2,   245.5,2,   42.60,2,   22.20,2,    0.00,2,    1.33,2,   0.045,2,   0.020,6,-999.000,9,-999.0000,9, -999.00,9,-999.000,9,-999.000,-999.000,     2.5350,-999.0000, -999.00
32OC19880723,       A16N,      55,          1,         21,         21,2,19880803,       1653,    38.0183,   -19.9850,       5149,  4348.1,  34.9071,2,  34.9070,2,    245.1,2,   244.6,2,   43.10,2,   22.10,2,    0.00,2,    1.35,2,   0.031,6,   0.027,6,-999.000,9,-999.0000,9, -999.00,9,-999.000,9,-999.000,   9.000,     2.5520,-999.0000, -999.00
32OC19880723,       A16N,      55,          1,         22,         22,2,19880803,       1653,    38.0183,   -19.9850,       5149,  4707.7,  34.9028,2,  34.9060,2,    245.0,2,   244.2,2,   44.40,2,   22.00,2,    0.00,2,    1.34,2,   0.040,2,   0.034,6,-999.000,9,-999.0000,9, -999.00,9,-999.000,9,-999.000,-999.000,     2.5570,-999.0000, -999.00
32OC19880723,       A16N,      55,          1,         23,         23,2,19880803,       1653,    38.0183,   -19.9850,       5149,  5066.4,  34.8944,2,  34.8950,2,    245.9,2,   245.5,2,   45.90,2,   22.30,2,    0.00,2,    1.33,2,   0.053,6,   0.027,6,-999.000,9,-999.0000,9, -999.00,9,-999.000,9,-999.000,   9.000,     2.5160,-999.0000, -999.00
32OC19880723,       A16N,      55,          1,         24,         24,2,19880803,       1653,    38.0183,   -19.9850,       5149,  5234.1,  34.8935,2,  34.8960,2,    244.7,2,   245.5,2,   46.10,2,   22.10,2,    0.00,2,    1.32,2,   0.049,6,   0.014,6,-999.000,9,-999.0000,9, -999.00,9,-999.000,9,-999.000,-999.000,     2.5310,-999.0000, -999.00
32OC19880723,       A16N,      55,          1,         99,     -999.0,9,19880803,       1653,    38.0183,   -19.9850,       5149,  5235.0,  34.8934,2,-999.0000,9,    244.6,2,  -999.0,9, -999.00,9, -999.00,9, -999.00,9, -999.00,9,-999.000,9,-999.000,9,-999.000,9,-999.0000,9, -999.00,9,-999.000,9,-999.000,   9.000,     2.5320,-999.0000, -999.00