BOTTLE,20220922CCHSIOAMB
# Disambiguated SAMPNOs for station 5 by added sequential letters
#BOTTLE,20010516WHPSIOKJU
#code : jjward hyd_to_exchange.pl 
#original files copied from HTML directory: 20010516
#original HYD file: pr16_bhy2.txt   Wed May 16 13:13:01 2001
#original SUM file: pr16_bsu.txt   Thu Apr 26 14:26:55 2001
EXPOCODE,SECT_ID,STNNBR,CASTNO,SAMPNO,BTLNBR,BTLNBR_FLAG_W,DATE,TIME,LATITUDE,LONGITUDE,DEPTH,CTDPRS,CTDTMP,CTDSAL,CTDSAL_FLAG_W,SALNTY,SALNTY_FLAG_W,CTDOXY,CTDOXY_FLAG_W,OXYGEN,OXYGEN_FLAG_W
,,,,,,,,,,,,DBAR,ITS-90,PSS-78,,PSS-78,,UMOL/KG,,UMOL/KG,
   3175EP191_1,  PR16,     2,  1,     12,     12,2,19910403,1248,  4.9658,-110.0670, 3895,      8.0,  28.2783,  34.1011,2,  34.0940,2,    242.5,2,    205.9,2
   3175EP191_1,  PR16,     2,  1,     11,     11,2,19910403,1248,  4.9658,-110.0670, 3895,    253.5,  10.5739,  34.7239,2,  34.7210,2,     41.3,2,     28.7,2
   3175EP191_1,  PR16,     2,  1,     10,     10,2,19910403,1248,  4.9658,-110.0670, 3895,    503.4,   8.0932,  34.6232,2,  34.6180,2,     10.1,2,      7.4,2
   3175EP191_1,  PR16,     2,  1,      9,      9,2,19910403,1248,  4.9658,-110.0670, 3895,    755.7,   5.8114,  34.5578,2,  34.5570,2,     34.2,2,     27.0,2
   3175EP191_1,  PR16,     2,  1,      8,      8,2,19910403,1248,  4.9658,-110.0670, 3895,   1004.1,   4.5875,  34.5635,2,  34.5630,2,     63.0,2,     48.7,2
   3175EP191_1,  PR16,     2,  1,      7,      7,2,19910403,1248,  4.9658,-110.0670, 3895,   1255.0,   3.6026,  34.5888,2,  34.5860,2,     87.3,2,     67.8,2
   3175EP191_1,  PR16,     2,  1,      6,      6,2,19910403,1248,  4.9658,-110.0670, 3895,   1504.6,   3.0276,  34.6088,2,  34.6090,2,     99.6,2,     77.8,2
   3175EP191_1,  PR16,     2,  1,      5,      5,2,19910403,1248,  4.9658,-110.0670, 3895,   1756.0,   2.6077,  34.6259,2,  34.6250,2,    113.6,2,     88.7,2
   3175EP191_1,  PR16,     2,  1,      3,      3,2,19910403,1248,  4.9658,-110.0670, 3895,   2011.7,   2.2477,  34.6433,2,  34.6430,2,    126.4,2,   -999.0,9
   3175EP191_1,  PR16,     2,  1,      2,      2,2,19910403,1248,  4.9658,-110.0670, 3895,   2011.7,   2.2477,  34.6433,2,  34.6410,2,    126.4,2,   -999.0,9
   3175EP191_1,  PR16,     2,  1,      1,      1,2,19910403,1248,  4.9658,-110.0670, 3895,   2011.7,   2.2477,  34.6433,2,  34.6430,2,    126.4,2,   -999.0,9
   3175EP191_1,  PR16,     2,  1,      4,      4,2,19910403,1248,  4.9658,-110.0670, 3895,   2013.1,   2.2457,  34.6460,2,  34.6370,2,    127.9,2,     98.6,2
   3175EP191_1,  PR16,     2,  2,      4,      4,2,19910404,0338,  5.0407,-110.0113, 3887,      9.9,  28.4373,  34.0644,2,  34.0680,2,    267.2,2,    215.5,2
   3175EP191_1,  PR16,     2,  2,      3,      3,2,19910404,0338,  5.0407,-110.0113, 3887,     10.5,  28.4263,  34.0666,2,  34.0680,2,    261.5,2,    215.5,2
   3175EP191_1,  PR16,     2,  2,      2,      2,2,19910404,0338,  5.0407,-110.0113, 3887,    508.3,   8.1812,  34.6227,2,  34.6240,2,      7.9,2,     10.0,2
   3175EP191_1,  PR16,     2,  2,      1,      1,2,19910404,0338,  5.0407,-110.0113, 3887,    508.9,   8.1912,  34.6126,2,  34.6240,2,      8.6,2,      9.1,2
   3175EP191_1,  PR16,     3,  1,      8,      8,2,19910404,0921,  4.0072,-109.9952, 3885,     10.9,  28.0173,  34.1861,2,  34.1760,2,    280.0,2,    219.9,2
   3175EP191_1,  PR16,     3,  1,      7,      7,2,19910404,0921,  4.0072,-109.9952, 3885,     51.6,  21.8959,  34.7379,2,  34.7840,4,    185.4,2,    157.4,2
   3175EP191_1,  PR16,     3,  1,      6,      6,2,19910404,0921,  4.0072,-109.9952, 3885,    251.8,  11.9488,  34.8313,2,  34.8270,2,     39.8,2,     31.8,2
   3175EP191_1,  PR16,     3,  1,      5,      5,2,19910404,0921,  4.0072,-109.9952, 3885,    502.7,   8.5281,  34.6440,2,  34.6350,2,      8.5,2,     10.0,2
   3175EP191_1,  PR16,     3,  1,      4,      4,2,19910404,0921,  4.0072,-109.9952, 3885,    703.2,   6.1703,  34.5691,2,  34.5560,2,     48.5,2,     42.2,2
   3175EP191_1,  PR16,     3,  1,      3,      3,2,19910404,0921,  4.0072,-109.9952, 3885,    800.9,   5.5364,  34.5640,2,  34.5530,2,     59.4,2,     51.3,2
   3175EP191_1,  PR16,     3,  1,      2,      2,2,19910404,0921,  4.0072,-109.9952, 3885,    903.6,   5.0535,  34.5741,2,  34.5550,3,     66.4,2,     55.2,2
   3175EP191_1,  PR16,     3,  1,      1,      1,2,19910404,0921,  4.0072,-109.9952, 3885,   1004.9,   4.7265,  34.5699,2,  34.5600,2,     66.2,2,     56.9,2
   3175EP191_1,  PR16,     4,  1,      8,      8,2,19910404,1504,  3.0062,-110.0065, 3903,      9.7,  27.2304,  33.8187,2,  33.8220,2,    264.0,2,    215.9,2
   3175EP191_1,  PR16,     4,  1,      7,      7,2,19910404,1504,  3.0062,-110.0065, 3903,     49.0,  20.2061,  34.1826,2,  34.6980,4,    129.8,2,    138.7,2
   3175EP191_1,  PR16,     4,  1,      6,      6,2,19910404,1504,  3.0062,-110.0065, 3903,    249.5,  12.5168,  34.8711,2,  34.8680,2,     32.2,2,     31.3,2
   3175EP191_1,  PR16,     4,  1,      5,      5,2,19910404,1504,  3.0062,-110.0065, 3903,    502.8,   8.7821,  34.6536,2,  34.6510,2,     13.6,2,     15.2,2
   3175EP191_1,  PR16,     4,  1,      4,      4,2,19910404,1504,  3.0062,-110.0065, 3903,    702.3,   6.3803,  34.5678,2,  34.5690,2,     47.3,2,     45.2,2
   3175EP191_1,  PR16,     4,  1,      3,      3,2,19910404,1504,  3.0062,-110.0065, 3903,    802.2,   5.6134,  34.5561,2,  34.5580,2,     62.7,2,     57.0,2
   3175EP191_1,  PR16,     4,  1,      2,      2,2,19910404,1504,  3.0062,-110.0065, 3903,    904.2,   5.0195,  34.5514,2,  34.5530,2,     81.5,2,     72.2,2
   3175EP191_1,  PR16,     4,  1,      1,      1,2,19910404,1504,  3.0062,-110.0065, 3903,   1006.3,   4.6015,  34.5572,2,  34.5650,2,     88.1,2,     76.1,2
   3175EP191_1,  PR16,     5,  1,     4a,      4,2,19910405,2143,  2.0675,-110.2005, 3923,      9.2,  27.0384,  33.9749,2,  33.9510,3,    266.2,2,    223.8,2
   3175EP191_1,  PR16,     5,  1,     3a,      3,2,19910405,2143,  2.0675,-110.2005, 3923,      9.2,  27.0384,  33.9749,2,  33.9520,3,    266.2,2,   -999.0,9
   3175EP191_1,  PR16,     5,  1,     12,     12,2,19910405,2143,  2.0675,-110.2005, 3923,     10.5,  26.6715,  34.0336,2,  34.0360,2,    270.6,2,    221.5,2
   3175EP191_1,  PR16,     5,  1,     11,     11,2,19910405,2143,  2.0675,-110.2005, 3923,    251.8,  12.2908,  34.8523,2,  34.8570,2,     42.1,2,     40.5,2
   3175EP191_1,  PR16,     5,  1,     10,     10,2,19910405,2143,  2.0675,-110.2005, 3923,    502.0,   8.2512,  34.6365,2,  34.6310,2,     20.0,2,     18.3,2
   3175EP191_1,  PR16,     5,  1,     2a,      2,2,19910405,2143,  2.0675,-110.2005, 3923,    505.3,   7.9832,  34.6410,2,  34.6180,3,     33.5,2,   -999.0,9
   3175EP191_1,  PR16,     5,  1,     1a,      1,2,19910405,2143,  2.0675,-110.2005, 3923,    505.3,   7.9832,  34.6410,2,  34.6210,3,     33.5,2,     46.5,2
   3175EP191_1,  PR16,     5,  1,      9,      9,2,19910405,2143,  2.0675,-110.2005, 3923,    753.0,   5.9104,  34.5665,2,  34.5610,2,     55.3,2,     50.4,2
   3175EP191_1,  PR16,     5,  1,      8,      8,2,19910405,2143,  2.0675,-110.2005, 3923,   1002.7,   4.5875,  34.5573,2,  34.5620,2,     81.0,2,     76.9,2
   3175EP191_1,  PR16,     5,  1,      7,      7,2,19910405,2143,  2.0675,-110.2005, 3923,   1504.7,   3.1056,  34.6043,2,  34.6080,2,     97.3,2,     86.1,2
   3175EP191_1,  PR16,     5,  1,      6,      6,2,19910405,2143,  2.0675,-110.2005, 3923,   2005.2,   2.1957,  34.6433,2,  34.6470,2,    129.3,2,    114.3,2
   3175EP191_1,  PR16,     5,  1,      5,      5,2,19910405,2143,  2.0675,-110.2005, 3923,   2505.6,   1.8088,  34.6638,2,  34.6680,2,    149.0,2,    133.0,2
   3175EP191_1,  PR16,     5,  1,     4b,      4,2,19910405,2143,  2.0675,-110.2005, 3923,   2756.1,   1.7228,  34.6694,2,  34.6680,2,    158.0,2,    139.5,2
   3175EP191_1,  PR16,     5,  1,     3b,      3,2,19910405,2143,  2.0675,-110.2005, 3923,   3004.8,   1.6568,  34.6738,2,  34.6740,2,    166.2,2,    145.6,2
   3175EP191_1,  PR16,     5,  1,     2b,      2,2,19910405,2143,  2.0675,-110.2005, 3923,   3254.7,   1.5638,  34.6803,2,  34.6800,2,    174.7,2,    151.2,2
   3175EP191_1,  PR16,     5,  1,     1b,      1,2,19910405,2143,  2.0675,-110.2005, 3923,   3507.0,   1.5068,  34.6863,2,  34.6860,2,    181.3,2,    156.9,2
   3175EP191_1,  PR16,     6,  1,      8,      8,2,19910406,0201,  1.5065,-110.0052, 3798,     10.9,  26.7835,  34.0810,2,  34.0940,2,    265.9,2,    217.2,2
   3175EP191_1,  PR16,     6,  1,      7,      7,2,19910406,0201,  1.5065,-110.0052, 3798,     49.9,  17.3003,  34.9000,2,  34.8440,4,    120.5,2,    106.3,2
   3175EP191_1,  PR16,     6,  1,      6,      6,2,19910406,0201,  1.5065,-110.0052, 3798,    250.9,  12.4198,  34.8661,2,  34.9400,4,     61.2,2,     54.0,2
   3175EP191_1,  PR16,     6,  1,      5,      5,2,19910406,0201,  1.5065,-110.0052, 3798,    503.8,   8.5281,  34.6456,2,  34.6540,2,     31.7,2,     24.8,2
   3175EP191_1,  PR16,     6,  1,      4,      4,2,19910406,0201,  1.5065,-110.0052, 3798,    702.8,   6.5043,  34.5657,2,  34.5710,2,     58.1,2,     49.6,2
   3175EP191_1,  PR16,     6,  1,      3,      3,2,19910406,0201,  1.5065,-110.0052, 3798,    802.2,   5.6514,  34.5513,2,  34.5620,2,     62.8,2,     54.3,2
   3175EP191_1,  PR16,     6,  1,      2,      2,2,19910406,0201,  1.5065,-110.0052, 3798,    903.5,   4.9475,  34.5432,2,  34.5550,2,     88.0,2,     72.6,2
   3175EP191_1,  PR16,     6,  1,      1,      1,2,19910406,0201,  1.5065,-110.0052, 3798,   1006.0,   4.6275,  34.5525,2,  34.5650,2,     88.9,2,     74.8,2
   3175EP191_1,  PR16,     7,  1,      8,      8,2,19910406,0528,  1.0043,-109.9992, 3803,      9.8,  24.6616,  34.7099,2,  34.7440,3,    245.2,2,    198.2,2
   3175EP191_1,  PR16,     7,  1,      7,      7,2,19910406,0528,  1.0043,-109.9992, 3803,     50.9,  18.3722,  34.7733,2,  34.7620,2,    138.1,2,    117.6,2
   3175EP191_1,  PR16,     7,  1,      6,      6,2,19910406,0528,  1.0043,-109.9992, 3803,    251.5,  12.3228,  34.8604,2,  34.8660,2,     50.0,2,     41.8,2
   3175EP191_1,  PR16,     7,  1,      5,      5,2,19910406,0528,  1.0043,-109.9992, 3803,    503.8,   8.2252,  34.6294,2,  34.6380,2,     35.1,2,     29.1,2
   3175EP191_1,  PR16,     7,  1,      4,      4,2,19910406,0528,  1.0043,-109.9992, 3803,    702.8,   6.3773,  34.5517,2,  34.5600,2,     78.5,2,     63.0,2
   3175EP191_1,  PR16,     7,  1,      3,      3,2,19910406,0528,  1.0043,-109.9992, 3803,    803.3,   5.6354,  34.5423,2,  34.5540,2,     83.5,2,     66.1,2
   3175EP191_1,  PR16,     7,  1,      2,      2,2,19910406,0528,  1.0043,-109.9992, 3803,    900.9,   5.2864,  34.5410,2,  34.5520,2,     84.8,2,     66.5,2
   3175EP191_1,  PR16,     7,  1,      1,      1,2,19910406,0528,  1.0043,-109.9992, 3803,   1006.8,   4.7855,  34.5427,2,  34.5540,2,     98.2,2,     77.8,2
   3175EP191_1,  PR16,     8,  1,      8,      8,2,19910406,1044,  0.0532,-109.9898, 3775,     10.1,  24.1557,  34.9535,2,  34.9530,2,    230.5,2,    185.0,2
   3175EP191_1,  PR16,     8,  1,      7,      7,2,19910406,1044,  0.0532,-109.9898, 3775,     50.4,  18.3552,  35.0647,2,  35.0430,3,    167.4,2,    131.1,2
   3175EP191_1,  PR16,     8,  1,      6,      6,2,19910406,1044,  0.0532,-109.9898, 3775,    251.7,  12.6088,  34.8887,2,  34.8860,2,     95.7,2,     73.5,2
   3175EP191_1,  PR16,     8,  1,      5,      5,2,19910406,1044,  0.0532,-109.9898, 3775,    503.2,   8.0212,  34.6174,2,  34.6240,2,     54.2,2,     45.7,2
   3175EP191_1,  PR16,     8,  1,      4,      4,2,19910406,1044,  0.0532,-109.9898, 3775,    702.8,   6.2163,  34.5651,2,  34.5580,2,     81.5,2,     64.3,2
   3175EP191_1,  PR16,     8,  1,      3,      3,2,19910406,1044,  0.0532,-109.9898, 3775,    803.4,   5.5924,  34.5533,2,  34.5510,2,     90.7,2,     72.6,2
   3175EP191_1,  PR16,     8,  1,      2,      2,2,19910406,1044,  0.0532,-109.9898, 3775,    903.3,   5.2084,  34.5524,2,  34.5510,2,     97.5,2,     76.5,2
   3175EP191_1,  PR16,     8,  1,      1,      1,2,19910406,1044,  0.0532,-109.9898, 3775,   1003.2,   4.5635,  34.5610,2,  34.5580,2,    102.6,2,     81.3,2
   3175EP191_1,  PR16,     9,  1,      8,      8,2,19910406,1617, -1.0030,-110.0015, 3963,     10.8,  25.2736,  34.8086,2,  34.8160,2,    239.8,2,    199.0,2
   3175EP191_1,  PR16,     9,  1,      7,      7,2,19910406,1617, -1.0030,-110.0015, 3963,     51.5,  20.4830,  35.1391,2,  35.1470,2,    165.7,2,    146.9,2
   3175EP191_1,  PR16,     9,  1,      6,      6,2,19910406,1617, -1.0030,-110.0015, 3963,    251.4,  12.2908,  34.8573,2,  34.9000,4,     49.2,2,     45.7,2
   3175EP191_1,  PR16,     9,  1,      4,      4,2,19910406,1617, -1.0030,-110.0015, 3963,    703.1,   6.0644,  34.5468,2,  34.5520,2,     89.5,2,     79.6,2
   3175EP191_1,  PR16,     9,  1,      3,      3,2,19910406,1617, -1.0030,-110.0015, 3963,    803.2,   5.6434,  34.5444,2,  34.5500,2,     94.6,2,     78.7,2
   3175EP191_1,  PR16,     9,  1,      2,      2,2,19910406,1617, -1.0030,-110.0015, 3963,    902.9,   4.9855,  34.5388,2,  34.5460,2,    107.2,2,    100.4,2
   3175EP191_1,  PR16,     9,  1,      1,      1,2,19910406,1617, -1.0030,-110.0015, 3963,   1004.8,   4.5195,  34.5442,2,  34.5540,2,    110.4,2,     98.2,2
   3175EP191_1,  PR16,    10,  1,      8,      8,2,19910406,2127, -2.0033,-110.0047, 3935,     11.0,  26.0525,  34.5498,2,  34.5580,2,    238.1,2,    214.9,2
   3175EP191_1,  PR16,    10,  1,      7,      7,2,19910406,2127, -2.0033,-110.0047, 3935,     51.5,  18.5702,  35.0255,2,  34.3280,4,    117.4,2,    206.9,4
   3175EP191_1,  PR16,    10,  1,      6,      6,2,19910406,2127, -2.0033,-110.0047, 3935,    252.3,  12.2738,  34.8602,2,  34.8720,2,     46.5,2,     40.5,2
   3175EP191_1,  PR16,    10,  1,      5,      5,2,19910406,2127, -2.0033,-110.0047, 3935,    503.7,   8.1452,  34.6347,2,  34.6380,2,     33.5,2,     27.0,2
   3175EP191_1,  PR16,    10,  1,      4,      4,2,19910406,2127, -2.0033,-110.0047, 3935,    701.9,   6.2643,  34.5583,2,  34.5630,2,     67.9,2,     56.1,2
   3175EP191_1,  PR16,    10,  1,      3,      3,2,19910406,2127, -2.0033,-110.0047, 3935,    802.0,   5.4484,  34.5410,2,  34.5500,2,     86.3,2,     70.4,2
   3175EP191_1,  PR16,    10,  1,      2,      2,2,19910406,2127, -2.0033,-110.0047, 3935,    903.8,   4.8725,  34.5443,2,  34.5520,2,     94.6,2,     78.7,2
   3175EP191_1,  PR16,    10,  1,      1,      1,2,19910406,2127, -2.0033,-110.0047, 3935,   1003.7,   4.5095,  34.5458,2,  34.5560,2,    103.0,2,     83.0,2
   3175EP191_1,  PR16,    11,  1,      8,      8,2,19910407,0233, -2.9973,-110.0050, 3793,     10.9,  26.9194,  34.5716,2,  34.5790,2,    259.9,2,    213.6,2
   3175EP191_1,  PR16,    11,  1,      7,      7,2,19910407,0233, -2.9973,-110.0050, 3793,     51.2,  16.9004,  35.1483,2,  35.1880,3,    105.1,2,    105.8,2
   3175EP191_1,  PR16,    11,  1,      6,      6,2,19910407,0233, -2.9973,-110.0050, 3793,    251.3,  12.5428,  34.8789,2,  34.8850,2,     47.7,2,     41.8,2
   3175EP191_1,  PR16,    11,  1,      5,      5,2,19910407,0233, -2.9973,-110.0050, 3793,    502.5,   8.6401,  34.6536,2,  34.6630,2,     38.8,2,     34.4,2
   3175EP191_1,  PR16,    11,  1,      4,      4,2,19910407,0233, -2.9973,-110.0050, 3793,    701.9,   6.3843,  34.5584,2,  34.5670,2,     65.1,2,     54.3,2
   3175EP191_1,  PR16,    11,  1,      3,      3,2,19910407,0233, -2.9973,-110.0050, 3793,    803.1,   5.4404,  34.5419,2,  34.5520,2,     83.7,2,     67.0,2
   3175EP191_1,  PR16,    11,  1,      2,      2,2,19910407,0233, -2.9973,-110.0050, 3793,    903.0,   4.8885,  34.5386,2,  34.5510,2,     98.4,2,     80.9,2
   3175EP191_1,  PR16,    11,  1,      1,      1,2,19910407,0233, -2.9973,-110.0050, 3793,   1005.6,   4.4655,  34.5428,2,  34.5640,3,    106.1,2,     87.4,2
   3175EP191_1,  PR16,    12,  1,      8,      8,2,19910407,0805, -3.9940,-110.0058, 3680,     11.5,  27.4614,  34.5700,2,  34.5800,2,    235.8,2,    212.3,2
   3175EP191_1,  PR16,    12,  1,      7,      7,2,19910407,0805, -3.9940,-110.0058, 3680,     51.5,  20.5040,  35.5605,2,  35.5430,3,    168.2,2,    162.9,2
   3175EP191_1,  PR16,    12,  1,      6,      6,2,19910407,0805, -3.9940,-110.0058, 3680,    251.6,  12.3848,  34.8896,2,  34.8870,2,     13.7,2,     11.3,2
   3175EP191_1,  PR16,    12,  1,      5,      5,2,19910407,0805, -3.9940,-110.0058, 3680,    502.2,   8.4141,  34.6587,2,  34.6560,2,     25.0,2,     20.0,2
   3175EP191_1,  PR16,    12,  1,      4,      4,2,19910407,0805, -3.9940,-110.0058, 3680,    702.3,   6.3813,  34.5601,2,  34.9960,4,     80.5,2,     65.7,2
   3175EP191_1,  PR16,    12,  1,      3,      3,2,19910407,0805, -3.9940,-110.0058, 3680,    802.5,   5.4864,  34.5485,2,  34.5480,2,     92.2,2,     77.8,2
   3175EP191_1,  PR16,    12,  1,      2,      2,2,19910407,0805, -3.9940,-110.0058, 3680,    903.3,   4.9575,  34.5445,2,  34.5440,2,    108.5,2,     87.4,2
   3175EP191_1,  PR16,    12,  1,      1,      1,2,19910407,0805, -3.9940,-110.0058, 3680,   1005.1,   4.5065,  34.5483,2,  34.5490,2,    119.4,2,     94.8,2
   3175EP191_1,  PR16,    13,  1,      8,      8,2,19910408,0448, -4.9533,-110.0020, 3562,     10.9,  27.4004,  34.7624,2,  34.7570,2,    247.3,2,    206.2,2
   3175EP191_1,  PR16,    13,  1,      7,      7,2,19910408,0448, -4.9533,-110.0020, 3562,     48.9,  26.4775,  35.0489,2,  35.0490,2,    235.1,2,    206.9,2
   3175EP191_1,  PR16,    13,  1,      6,      6,2,19910408,0448, -4.9533,-110.0020, 3562,    251.5,  11.7218,  34.8642,2,  34.8590,2,     72.6,2,     60.5,2
   3175EP191_1,  PR16,    13,  1,      5,      5,2,19910408,0448, -4.9533,-110.0020, 3562,    503.0,   8.4931,  34.6655,2,  34.6600,2,     21.3,2,     21.3,2
   3175EP191_1,  PR16,    13,  1,      4,      4,2,19910408,0448, -4.9533,-110.0020, 3562,    704.5,   6.3063,  34.5680,2,  34.5650,2,     60.3,2,     50.4,2
   3175EP191_1,  PR16,    13,  1,      3,      3,2,19910408,0448, -4.9533,-110.0020, 3562,    803.8,   5.5544,  34.5511,2,  34.5450,2,     84.3,2,     70.4,2
   3175EP191_1,  PR16,    13,  1,      2,      2,2,19910408,0448, -4.9533,-110.0020, 3562,    904.7,   4.8995,  34.5517,2,  34.5460,2,     94.0,2,     77.4,2
   3175EP191_1,  PR16,    13,  1,      1,      1,2,19910408,0448, -4.9533,-110.0020, 3562,   1008.9,   4.4475,  34.5575,2,  34.5540,2,     99.4,2,     82.6,2