BOTTLE,20220922CCHSIOAMB
EXPOCODE,SECT_ID,STNNBR,CASTNO,SAMPNO,BTLNBR,BTLNBR_FLAG_W,DATE,TIME,LATITUDE,LONGITUDE,DEPTH,CTDPRS,CTDTMP,CTDSAL,CTDSAL_FLAG_W,SALNTY,SALNTY_FLAG_W,CTDOXY,CTDOXY_FLAG_W,THETA,OXYGEN,OXYGEN_FLAG_W,SILCAT,SILCAT_FLAG_W,NITRAT,NITRAT_FLAG_W,PHSPHT,PHSPHT_FLAG_W,CFC-11,CFC-11_FLAG_W,CFC-12,CFC-12_FLAG_W,DELC14,DELC14_FLAG_W,TCARBN,TCARBN_FLAG_W,ALKALI,ALKALI_FLAG_W,C14ERR
,,,,,,,,,,,,DBAR,ITS-90,PSS-78,,PSS-78,,UMOL/KG,,DEG C,UMOL/KG,,UMOL/KG,,UMOL/KG,,UMOL/KG,,PMOL/KG,,PMOL/KG,,/MILLE,,UMOL/KG,,UMOL/KG,,/MILLE
    35MFCIVA_1, I06SA,    16,  3,     10,     12,2,19930210,2014,-62.3382,  30.0025, 5182,     11.3,   1.6914,  33.5923,2,  33.5950,2,    321.7,2,  1.6909,    340.4,2,    40.43,2,    24.66,2,     1.70,2,    6.088,2,    2.881,2,   -999.0,9,   2128.4,2,   2285.0,2,  -999.0
    35MFCIVA_1, I06SA,    16,  3,     20,     11,2,19930210,2014,-62.3382,  30.0025, 5182,     21.2,   1.5155,  33.5965,2,  33.6250,2,    320.7,2,  1.5145,    341.0,2,    41.25,2,    24.97,2,     1.70,2,    6.114,2,    2.913,2,   -999.0,9,   2131.2,2,   2290.0,2,  -999.0
    35MFCIVA_1, I06SA,    16,  3,     40,     10,2,19930210,2014,-62.3382,  30.0025, 5182,     41.1,  -1.4351,  33.9742,2,  33.9750,2,    357.6,2, -1.4360,    358.3,2,    49.48,2,    27.54,2,     1.94,2,    6.276,2,    2.972,2,   -999.0,9,   2165.9,2,   2310.0,2,  -999.0
    35MFCIVA_1, I06SA,    16,  3,     60,      9,2,19930210,2014,-62.3382,  30.0025, 5182,     61.5,  -1.5943,  34.0506,2,  34.0530,2,    348.5,2, -1.5956,    346.3,2,    52.77,2,    28.29,2,     2.01,2,    6.158,2,    2.903,2,   -999.0,9,   2176.0,2,   2317.0,2,  -999.0
    35MFCIVA_1, I06SA,    16,  3,     80,      8,2,19930210,2014,-62.3382,  30.0025, 5182,     81.0,  -1.5592,  34.0911,2,  34.0940,2,    334.5,2, -1.5610,    337.4,2,    56.07,2,    29.20,2,     2.07,2,    6.170,2,    2.908,2,   -999.0,9,   2181.8,2,   2316.0,2,  -999.0
    35MFCIVA_1, I06SA,    16,  3,    100,      7,2,19930210,2014,-62.3382,  30.0025, 5182,    101.3,  -1.3730,  34.1279,2,  34.1320,2,    329.8,2, -1.3753,    333.4,2,    59.78,2,    29.96,2,     2.09,2,    6.021,2,    2.823,2,   -999.0,9,   2188.3,2,   2320.0,2,  -999.0
    35MFCIVA_1, I06SA,    16,  3,    125,      6,2,19930210,2014,-62.3382,  30.0025, 5182,    125.8,  -1.0146,  34.1977,2,  34.1980,2,    319.5,2, -1.0179,    323.5,2,    66.79,2,    30.72,2,     2.15,2,    5.710,2,    2.647,2,   -999.0,9,   2199.6,2,   2325.0,2,  -999.0
    35MFCIVA_1, I06SA,    16,  3,    150,      5,2,19930210,2014,-62.3382,  30.0025, 5182,    151.3,  -0.2179,  34.3112,2,  34.3100,2,    288.1,2, -0.2231,    285.0,2,    72.97,2,    32.24,2,     2.26,2,    4.507,2,    2.063,2,   -999.0,9,   2216.3,2,   2331.0,2,  -999.0
    35MFCIVA_1, I06SA,    16,  3,    175,      4,2,19930210,2014,-62.3382,  30.0025, 5182,    176.5,   0.7564,  34.4603,2,  34.4570,2,    230.3,2,  0.7489,    229.5,2,    80.79,2,    34.05,2,     2.39,2,    2.542,2,    1.167,2,   -999.0,9,   2238.3,2,   2339.0,2,  -999.0
    35MFCIVA_1, I06SA,    16,  3,    200,      3,2,19930210,2014,-62.3382,  30.0025, 5182,    201.9,   1.1725,  34.5342,2,  34.5320,2,    204.8,2,  1.1631,    206.8,2,    85.32,2,    34.66,2,     2.45,2,    1.703,2,    0.761,2,   -999.0,9,   2247.1,2,   2344.0,2,  -999.0
    35MFCIVA_1, I06SA,    16,  3,    250a,      1,2,19930210,2014,-62.3382,  30.0025, 5182,    254.4,   1.4355,  34.6264,2,  34.6230,2,    188.7,2,  1.4229,    190.2,2,    92.33,2,    34.51,2,     2.43,2,    0.913,2,    0.388,2,   -999.0,9,   2260.0,2,   2350.0,2,  -999.0
    35MFCIVA_1, I06SA,    16,  3,    250b,      2,2,19930210,2014,-62.3382,  30.0025, 5182,    254.6,   1.4355,  34.6250,2,  34.6240,2,    188.6,2,  1.4229,    190.2,2,    92.33,2,    34.51,2,     2.43,2,    0.899,2,    0.379,2,   -999.0,9,   2255.0,2,   2350.0,2,  -999.0
    35MFCIVA_1, I06SA,    17,  1,    325,     12,2,19930211,0058,-61.6687,  30.0043, 5192,    329.1,   1.6424,  34.6630,2,  34.6610,2,    192.7,2,  1.6254,    186.0,2,    94.53,2,    33.84,2,     2.42,2,    0.565,2,    0.243,2,   -999.0,9,   2252.7,2,   2346.0,2,  -999.0
    35MFCIVA_1, I06SA,    17,  1,    400,     11,2,19930211,0058,-61.6687,  30.0043, 5192,    402.9,   1.6294,  34.6948,2,  34.6960,2,    195.5,2,  1.6083,    188.6,2,    91.21,2,    33.21,2,     2.37,2,    0.402,2,    0.176,2,   -999.0,9,   2252.1,2,   2348.0,2,  -999.0
    35MFCIVA_1, I06SA,    17,  1,    500,     10,2,19930211,0058,-61.6687,  30.0043, 5192,    503.3,   1.4215,  34.6982,2,  34.7010,2,    196.4,2,  1.3955,    193.3,2,    96.18,2,    32.89,2,     2.36,2,    0.427,2,    0.196,2,   -999.0,9,   2249.9,2,   2350.0,2,  -999.0
    35MFCIVA_1, I06SA,    17,  1,    600,      9,2,19930211,0058,-61.6687,  30.0043, 5192,    604.7,   1.3885,  34.7192,2,  34.7190,2,    202.5,2,  1.3569,    198.2,2,    97.42,2,    32.50,2,     2.31,2,    0.297,2,    0.112,3,   -999.0,9,   2249.4,2,   2355.0,2,  -999.0
    35MFCIVA_1, I06SA,    17,  1,    700,      8,2,19930211,0058,-61.6687,  30.0043, 5192,    703.3,   1.2445,  34.7170,2,  34.7180,2,    203.7,2,  1.2080,    198.7,2,   101.57,2,    32.50,2,     2.31,2,    0.281,2,    0.125,2,   -999.0,9,   2252.6,2,   2355.0,2,  -999.0
    35MFCIVA_1, I06SA,    17,  1,    800,      7,2,19930211,0058,-61.6687,  30.0043, 5192,    810.0,   1.1405,  34.7184,2,  34.7190,2,    202.3,2,  1.0984,    201.0,2,   104.47,2,    32.42,2,     2.30,2,    0.277,2,    0.122,2,   -999.0,9,   2253.9,2,   2357.0,2,  -999.0
    35MFCIVA_1, I06SA,    17,  1,    900,      6,2,19930211,0058,-61.6687,  30.0043, 5192,    906.8,   1.0695,  34.7199,2,  34.7210,2,    206.0,2,  1.0222,    203.3,2,   105.30,2,    32.50,2,     2.29,2,    0.210,2,    0.087,2,   -999.0,9,   2252.3,2,   2358.0,2,  -999.0
    35MFCIVA_1, I06SA,    17,  1,   1000,      5,2,19930211,0058,-61.6687,  30.0043, 5192,   1008.2,   0.9465,  34.7137,2,  34.7160,2,    209.5,2,  0.8940,    204.6,2,   111.10,2,    32.58,2,     2.31,2,    0.197,2,    0.074,3,   -999.0,9,   2252.1,2,   2360.0,2,  -999.0
    35MFCIVA_1, I06SA,    17,  1,   1200,      4,2,19930211,0058,-61.6687,  30.0043, 5192,   1210.9,   0.7284,  34.7033,2,  34.7030,2,    210.7,2,  0.6655,    205.9,2,   115.25,2,    33.21,2,     2.32,2,    0.211,2,    0.078,3,   -999.0,9,   2254.8,2,   2361.0,2,  -999.0
    35MFCIVA_1, I06SA,    17,  1,   1400,      3,2,19930211,0058,-61.6687,  30.0043, 5192,   1414.0,   0.5394,  34.6922,2,  34.6930,2,    208.4,2,  0.4656,    207.0,2,   121.05,2,    33.76,2,     2.37,2,    0.220,2,    0.088,2,   -999.0,9,   2260.3,2,   2359.0,2,  -999.0
    35MFCIVA_1, I06SA,    17,  1,   1600a,      1,2,19930211,0058,-61.6687,  30.0043, 5192,   1609.7,   0.4404,  34.6886,2,  34.6880,2,    210.3,2,  0.3550,    208.6,2,   123.95,2,    33.76,2,     2.39,2,    0.189,2,    0.076,2,   -999.0,9,   2257.0,2,   2360.0,2,  -999.0
    35MFCIVA_1, I06SA,    17,  1,   1600b,      2,2,19930211,0058,-61.6687,  30.0043, 5192,   1610.3,   0.4384,  34.6879,2,  34.6880,2,    210.3,2,  0.3529,    208.5,2,   123.12,2,    33.68,2,     2.38,2,    0.190,2,    0.076,2,   -999.0,9,   2261.0,2,   2364.0,2,  -999.0
    35MFCIVA_1, I06SA,    17,  2,     10,     12,2,19930211,0441,-61.6673,  30.0035, 5235,     10.5,   1.5514,  33.7085,2,  33.7030,2,    326.6,2,  1.5510,    336.0,2,    41.91,2,    25.83,2,     1.80,2,    6.099,2,    2.854,2,   -999.0,9,   2143.1,2,   2284.0,2,  -999.0
    35MFCIVA_1, I06SA,    17,  2,     20,     11,2,19930211,0441,-61.6673,  30.0035, 5235,     19.7,   1.1645,  33.7393,2,  33.7490,2,    332.8,2,  1.1636,    338.6,2,    43.15,2,    26.23,2,     1.82,2,    6.122,2,    2.859,2,   -999.0,9,   2148.5,2,   2290.0,2,  -999.0
    35MFCIVA_1, I06SA,    17,  2,     40,     10,2,19930211,0441,-61.6673,  30.0035, 5235,     40.0,   0.7464,  33.7756,2,  33.7880,2,    342.1,2,  0.7448,    343.8,2,    43.98,2,    26.30,2,     1.82,2,    6.225,2,    2.857,2,   -999.0,9,   2150.5,2,   2291.0,2,  -999.0
    35MFCIVA_1, I06SA,    17,  2,     60,      9,2,19930211,0441,-61.6673,  30.0035, 5235,     61.3,  -1.4110,  34.0446,2,  34.0490,2,    353.5,2, -1.4124,    348.4,2,    50.60,2,    28.66,2,     2.02,2,    6.246,2,    2.852,2,   -999.0,9,   2175.2,2,   2308.0,2,  -999.0
    35MFCIVA_1, I06SA,    17,  2,     80,      8,2,19930211,0441,-61.6673,  30.0035, 5235,     81.1,  -1.4431,  34.0909,2,  34.0910,2,    340.6,2, -1.4449,    338.2,2,    53.08,2,    29.44,2,     2.07,2,    6.082,2,    2.803,2,   -999.0,9,   2184.9,2,   2310.0,2,  -999.0
    35MFCIVA_1, I06SA,    17,  2,    100,      7,2,19930211,0441,-61.6673,  30.0035, 5235,    102.0,  -1.3820,  34.1350,2,  34.1350,2,    330.6,2, -1.3844,    329.1,2,    56.40,2,    29.91,2,     2.07,2,    5.819,2,    2.697,2,   -999.0,9,   2190.3,2,   2312.0,2,  -999.0
    35MFCIVA_1, I06SA,    17,  2,    125,      6,2,19930211,0441,-61.6673,  30.0035, 5235,    126.9,  -0.5582,  34.2339,2,  34.2340,2,    308.0,2, -0.5621,    305.1,2,    66.35,2,    31.56,2,     2.19,2,    5.061,2,    2.319,2,   -999.0,9,   2205.9,2,   2319.0,2,  -999.0
    35MFCIVA_1, I06SA,    17,  2,    150,      5,2,19930211,0441,-61.6673,  30.0035, 5235,    152.7,   0.0432,  34.3293,2,  34.3340,2,    280.9,2,  0.0377,    270.3,2,    70.91,2,    32.98,2,     2.30,2,    3.919,2,    1.801,2,   -999.0,9,   2221.3,2,   2325.0,2,  -999.0
    35MFCIVA_1, I06SA,    17,  2,    175,      4,2,19930211,0441,-61.6673,  30.0035, 5235,    176.2,   0.7784,  34.4387,2,  34.4440,2,    231.2,2,  0.7709,    229.0,2,    77.12,2,    34.47,2,     2.41,2,    2.486,2,    1.131,2,   -999.0,9,   2239.1,2,   2332.0,2,  -999.0
    35MFCIVA_1, I06SA,    17,  2,    200,      3,2,19930211,0441,-61.6673,  30.0035, 5235,    201.8,   1.1545,  34.5195,2,  34.5190,2,    210.4,2,  1.1451,    208.3,2,    81.68,2,    35.02,2,     2.45,2,    1.720,2,    0.779,2,   -999.0,9,   2247.4,2,   2336.0,2,  -999.0
    35MFCIVA_1, I06SA,    17,  2,    250a,      1,2,19930211,0441,-61.6673,  30.0035, 5235,    253.5,   1.5115,  34.6081,2,  34.6060,2,    189.6,2,  1.4988,    189.7,2,    86.65,2,    35.02,2,     2.45,2,    0.936,2,    0.411,2,   -999.0,9,   2254.5,2,   2341.0,2,  -999.0
    35MFCIVA_1, I06SA,    17,  2,    250b,      2,2,19930211,0441,-61.6673,  30.0035, 5235,    254.6,   1.5155,  34.6094,2,  34.6060,2,    189.6,2,  1.5027,    189.0,2,    86.65,2,    35.02,2,     2.45,2,    0.930,2,    0.404,2,   -999.0,9,   2254.2,2,   -999.0,9,  -999.0
    35MFCIVA_1, I06SA,    18,  1,   1500,     12,2,19930211,0931,-60.9958,  30.0078, 5265,   1515.5,   0.4754,  34.6901,2,  34.6890,2,    210.8,2,  0.3958,    208.3,2,   120.56,2,    33.55,2,     2.30,2,    0.191,2,    0.073,3,   -999.0,9,   2263.4,2,   -999.0,9,  -999.0
    35MFCIVA_1, I06SA,    18,  1,   1750,     11,2,19930211,0931,-60.9958,  30.0078, 5265,   1770.0,   0.3383,  34.6838,2,  34.6840,2,    209.9,2,  0.2435,    211.5,2,   124.78,2,    33.62,2,     2.30,2,    0.187,2,    0.063,3,   -999.0,9,   2264.3,2,   -999.0,9,  -999.0
    35MFCIVA_1, I06SA,    18,  1,   2000,     10,2,19930211,0931,-60.9958,  30.0078, 5265,   2023.6,   0.2303,  34.6790,2,  34.6780,2,    213.2,2,  0.1193,    214.6,2,   127.31,2,    33.77,2,     2.30,2,    0.165,2,    0.083,2,   -999.0,9,   2262.8,2,   -999.0,9,  -999.0
    35MFCIVA_1, I06SA,    18,  1,   2250,      9,2,19930211,0931,-60.9958,  30.0078, 5265,   2278.4,   0.1312,  34.6737,2,  34.6730,2,    217.5,2,  0.0032,    218.4,2,   127.31,2,    33.62,2,     2.31,2,    0.215,2,    0.074,3,   -156.0,2,   2262.9,2,   -999.0,9,     5.0
    35MFCIVA_1, I06SA,    18,  1,   2500,      8,2,19930211,0931,-60.9958,  30.0078, 5265,   2533.1,   0.0382,  34.6706,2,  34.6700,2,    221.5,2, -0.1077,    222.4,2,   128.15,2,    33.69,2,     2.29,2,    0.220,2,    0.092,2,   -999.0,9,   2262.0,2,   -999.0,9,  -999.0
    35MFCIVA_1, I06SA,    18,  1,   3000,      7,2,19930211,0931,-60.9958,  30.0078, 5265,   3046.1,  -0.1039,  34.6626,2,  34.6640,2,    229.4,2, -0.2888,    231.1,2,   127.31,2,    33.62,2,     2.29,2,    0.232,2,    0.097,2,   -157.0,2,   2259.7,2,   -999.0,9,     5.0
    35MFCIVA_1, I06SA,    18,  1,   3500,      6,2,19930211,0931,-60.9958,  30.0078, 5265,   3558.6,  -0.1889,  34.6600,2,  34.6600,2,    236.4,2, -0.4173,    236.6,2,   127.31,2,    33.47,2,     2.26,2,    0.227,2,    0.085,2,   -999.0,9,   2257.4,2,   -999.0,9,  -999.0
    35MFCIVA_1, I06SA,    18,  1,   4000,      5,2,19930211,0931,-60.9958,  30.0078, 5265,   4070.6,  -0.2430,  34.6565,2,  34.6580,2,    239.1,2, -0.5189,    240.3,2,   128.15,2,    33.25,2,     2.24,2,    0.312,2,    0.130,2,   -999.0,9,   2255.7,2,   -999.0,9,  -999.0
    35MFCIVA_1, I06SA,    18,  1,   4400,      4,2,19930211,0931,-60.9958,  30.0078, 5265,   4071.5,  -0.2440,  34.6572,2,  34.6570,2,    237.5,2, -0.5200,    240.0,2,   126.46,2,    33.25,2,     2.25,2,    0.401,4,    0.173,3,   -999.0,9,   2255.0,2,   -999.0,9,  -999.0
    35MFCIVA_1, I06SA,    18,  1,   4700,      3,2,19930211,0931,-60.9958,  30.0078, 5265,   4587.7,  -0.2790,  34.6547,2,  34.6550,2,    242.1,2, -0.6071,    243.8,2,   128.99,2,    33.18,2,     2.25,2,    0.257,2,    0.093,2,   -154.0,2,   2256.0,2,   2360.0,2,     5.0
    35MFCIVA_1, I06SA,    18,  1,   5000,      2,2,19930211,0931,-60.9958,  30.0078, 5265,   4846.0,  -0.2910,  34.6535,2,  34.6540,2,    248.2,2, -0.6466,    244.3,2,   132.36,2,    33.32,2,     2.24,2,    0.208,2,    0.094,2,   -999.0,9,   2255.0,2,   -999.0,9,  -999.0
    35MFCIVA_1, I06SA,    18,  1,   F-20,      1,2,19930211,0931,-60.9958,  30.0078, 5265,   5344.2,  -0.3050,  34.6515,2,  34.6520,2,    249.9,2, -0.7164,    246.2,2,   137.84,2,    33.18,2,     2.24,2,    0.263,2,    0.101,2,   -999.0,9,   2255.7,2,   2358.0,2,  -999.0
    35MFCIVA_1, I06SA,    18,  2,    325,     12,2,19930211,1250,-61.0007,  29.9977, 5255,    327.8,   1.5384,  34.6755,2,  34.6780,2,    188.1,2,  1.5217,    187.4,2,    93.59,2,    33.48,2,     2.25,2,    0.582,2,    0.232,2,   -999.0,9,   2249.1,2,   -999.0,9,  -999.0
    35MFCIVA_1, I06SA,    18,  2,    400,     11,2,19930211,1250,-61.0007,  29.9977, 5255,    403.1,   1.5564,  34.7015,2,  34.7020,2,    189.5,2,  1.5356,    190.1,2,    93.59,2,    32.88,2,     2.24,2,    0.412,2,    0.171,2,   -999.0,9,   2248.9,2,   -999.0,9,  -999.0
    35MFCIVA_1, I06SA,    18,  2,    500,     10,2,19930211,1250,-61.0007,  29.9977, 5255,    504.2,   1.4625,  34.7135,2,  34.7140,2,    191.7,2,  1.4363,    193.8,2,    96.54,2,    32.36,2,     2.19,2,    0.335,2,    0.100,3,   -999.0,9,   2245.9,2,   -999.0,9,  -999.0
    35MFCIVA_1, I06SA,    18,  2,    600,      9,2,19930211,1250,-61.0007,  29.9977, 5255,    605.7,   1.3235,  34.7178,2,  34.7180,2,    195.1,2,  1.2922,    198.8,2,   100.33,2,    32.29,2,     2.21,2,    0.352,2,    0.151,2,   -143.0,2,   2245.9,2,   -999.0,9,     6.0
    35MFCIVA_1, I06SA,    18,  2,    700,      8,2,19930211,1250,-61.0007,  29.9977, 5255,    706.0,   1.2465,  34.7208,2,  34.7220,2,    196.1,2,  1.2098,    201.7,2,   102.02,2,    32.14,2,     2.19,2,    0.255,2,    0.080,3,   -999.0,9,   2247.7,2,   -999.0,9,  -999.0
    35MFCIVA_1, I06SA,    18,  2,    800,      7,2,19930211,1250,-61.0007,  29.9977, 5255,    808.9,   1.0905,  34.7142,2,  34.7140,2,    198.6,2,  1.0488,    199.9,2,   107.08,2,    32.58,2,     2.20,2,    0.306,2,    0.115,2,   -166.0,2,   2251.2,2,   -999.0,9,     5.0
    35MFCIVA_1, I06SA,    18,  2,    900,      6,2,19930211,1250,-61.0007,  29.9977, 5255,    911.4,   0.9975,  34.7137,2,  34.7120,2,    200.2,2,  0.9504,    201.3,2,   109.60,2,    32.58,2,     2.21,2,    0.256,2,    0.089,3,   -999.0,9,   2256.4,2,   -999.0,9,  -999.0
    35MFCIVA_1, I06SA,    18,  2,   1000,      5,2,19930211,1250,-61.0007,  29.9977, 5255,   1010.9,   0.8975,  34.7100,2,  34.7090,2,    199.7,2,  0.8452,    203.6,2,   112.13,2,    32.73,2,     2.22,2,    0.233,2,    0.097,2,   -164.0,2,   2255.2,2,   -999.0,9,     5.0
    35MFCIVA_1, I06SA,    18,  2,   1100,      4,2,19930211,1250,-61.0007,  29.9977, 5255,   1111.3,   0.8024,  34.7057,2,  34.7050,2,    202.9,2,  0.7449,    204.3,2,   113.82,2,    32.88,2,     2.22,2,    0.245,2,    0.088,3,   -999.0,9,   2258.8,2,   -999.0,9,  -999.0
    35MFCIVA_1, I06SA,    18,  2,   1200,      3,2,19930211,1250,-61.0007,  29.9977, 5255,   1212.6,   0.7054,  34.7008,2,  34.7000,2,    202.6,2,  0.6426,    205.5,2,   116.35,2,    33.03,2,     2.25,2,    0.210,8,    0.089,2,   -162.0,2,   2258.3,2,   -999.0,9,     5.0
    35MFCIVA_1, I06SA,    18,  2,   1350a,      2,2,19930211,1250,-61.0007,  29.9977, 5255,   1363.7,   0.5714,  34.6957,2,  34.6950,2,    204.4,2,  0.5005,    207.4,2,   118.88,2,    33.18,2,     2.25,2,    0.205,2,    0.093,2,   -999.0,9,   2259.0,2,   -999.0,9,  -999.0
    35MFCIVA_1, I06SA,    18,  2,   1350b,      1,2,19930211,1250,-61.0007,  29.9977, 5255,   1365.7,   0.5714,  34.6947,2,  34.6940,2,    204.2,2,  0.5003,    207.3,2,   120.56,2,    33.18,2,     2.26,2,    0.213,2,    0.071,3,   -999.0,9,   2262.0,2,   -999.0,9,  -999.0