BOTTLE,20220922CCHSIOAMB
EXPOCODE,SECT_ID,STNNBR,CASTNO,SAMPNO,BTLNBR,BTLNBR_FLAG_W,DATE,TIME,LATITUDE,LONGITUDE,DEPTH,CTDPRS,CTDTMP,CTDSAL,CTDSAL_FLAG_W,SALNTY,SALNTY_FLAG_W,CTDOXY,CTDOXY_FLAG_W,THETA,OXYGEN,OXYGEN_FLAG_W,SILCAT,SILCAT_FLAG_W,NITRAT,NITRAT_FLAG_W,PHSPHT,PHSPHT_FLAG_W,CFC-11,CFC-11_FLAG_W,CFC-12,CFC-12_FLAG_W,DELC14,DELC14_FLAG_W,TCARBN,TCARBN_FLAG_W,ALKALI,ALKALI_FLAG_W,C14ERR
,,,,,,,,,,,,DBAR,ITS-90,PSS-78,,PSS-78,,UMOL/KG,,DEG C,UMOL/KG,,UMOL/KG,,UMOL/KG,,UMOL/KG,,PMOL/KG,,PMOL/KG,,/MILLE,,UMOL/KG,,UMOL/KG,,/MILLE
    35MFCIVA_1, I06SA,    35,  1,    325,     12,2,19930303,0727,-50.6778,  29.9668, 3475,    326.8,   2.0983,  34.2227,2,  34.2350,2,    242.0,2,  2.0804,    238.4,2,    46.99,2,    33.52,2,     2.36,2,    2.663,2,    1.270,2,   -999.0,9,   2199.1,2,   2310.0,2,  -999.0
    35MFCIVA_1, I06SA,    35,  1,    400,     11,2,19930303,0727,-50.6778,  29.9668, 3475,    402.0,   2.0943,  34.2813,2,  34.2900,2,    223.3,2,  2.0720,    222.4,2,    54.45,2,    34.44,2,     2.44,2,    2.103,2,    0.912,2,   -999.0,9,   2212.6,2,   2318.0,2,  -999.0
    35MFCIVA_1, I06SA,    35,  1,    500,     10,2,19930303,0727,-50.6778,  29.9668, 3475,    506.5,   2.4002,  34.3938,2,  34.4060,2,    197.7,2,  2.3704,    195.4,2,    64.09,2,    35.20,2,     2.49,2,    1.022,2,    0.492,2,   -999.0,9,   2228.3,2,   2328.0,2,  -999.0
    35MFCIVA_1, I06SA,    35,  1,    600,      9,2,19930303,0727,-50.6778,  29.9668, 3475,    602.3,   2.4052,  34.4672,2,  34.4560,2,    187.7,2,  2.3691,    186.3,2,    70.24,2,    35.50,2,  -999.00,5,    0.787,2,    0.364,2,   -999.0,9,   2239.1,2,   2335.0,2,  -999.0
    35MFCIVA_1, I06SA,    35,  1,    700,      8,2,19930303,0727,-50.6778,  29.9668, 3475,    706.6,   2.3183,  34.5264,2,  34.5280,2,    177.8,2,  2.2757,    176.3,2,    78.15,2,    35.65,2,     2.51,2,    0.577,2,    0.252,2,   -999.0,9,   2246.8,2,   2338.0,2,  -999.0
    35MFCIVA_1, I06SA,    35,  1,    800,      7,2,19930303,0727,-50.6778,  29.9668, 3475,    804.4,   2.3543,  34.5782,2,  34.5760,2,    175.3,2,  2.3049,    175.9,2,    80.34,2,    34.96,2,     2.46,2,    0.423,2,    0.173,2,   -999.0,9,   2247.0,2,   2342.0,2,  -999.0
    35MFCIVA_1, I06SA,    35,  1,    900,      6,2,19930303,0727,-50.6778,  29.9668, 3475,    911.1,   2.4392,  34.6453,2,  34.6500,2,    174.0,2,  2.3818,    179.3,2,    79.90,2,    33.51,2,     2.36,2,    0.293,2,    0.126,2,   -999.0,9,   2243.2,2,   2347.0,2,  -999.0
    35MFCIVA_1, I06SA,    35,  1,   1000,      5,2,19930303,0727,-50.6778,  29.9668, 3475,   1009.2,   2.3383,  34.6562,2,  34.6590,2,    177.8,2,  2.2746,    178.2,2,    83.86,2,    33.74,2,     2.33,2,    0.237,2,    0.088,2,   -999.0,9,   2243.7,2,   2350.0,2,  -999.0
    35MFCIVA_1, I06SA,    35,  1,   1200,      4,2,19930303,0727,-50.6778,  29.9668, 3475,   1212.1,   2.3622,  34.7267,2,  34.7270,2,    188.2,2,  2.2835,    189.0,2,    81.66,2,    31.76,2,     2.18,2,    0.132,2,    0.000,3,   -999.0,9,   2238.2,2,   2353.0,2,  -999.0
    35MFCIVA_1, I06SA,    35,  1,   1400,      3,2,19930303,0727,-50.6778,  29.9668, 3475,   1413.0,   2.2993,  34.7639,2,  34.7670,2,    194.8,2,  2.2058,    198.9,2,    79.91,2,    30.46,2,     2.10,2,    0.066,2,    0.000,3,   -999.0,9,   2231.4,2,   2353.0,2,  -999.0
    35MFCIVA_1, I06SA,    35,  1,   1600a,      1,2,19930303,0727,-50.6778,  29.9668, 3475,   1620.6,   2.1983,  34.7772,2,  34.7790,2,    204.2,2,  2.0897,    204.1,2,    81.68,2,    30.01,2,     2.02,2,    0.049,2,    0.000,3,   -999.0,9,   2225.0,2,   2353.0,2,  -999.0
    35MFCIVA_1, I06SA,    35,  1,   1600b,      2,2,19930303,0727,-50.6778,  29.9668, 3475,   1624.4,   2.1963,  34.7774,2,  34.7790,2,    204.9,2,  2.0874,    203.8,2,    81.24,2,    29.93,2,     2.03,2,    0.059,2,    0.000,3,   -999.0,9,   2230.0,2,   2355.0,2,  -999.0
    35MFCIVA_1, I06SA,    35,  2,     10,     12,2,19930303,1305,-50.6670,  29.9963, 3227,     11.4,   4.4720,  33.8779,2,  33.8780,2,    323.0,2,  4.4712,    316.3,2,     3.91,2,    22.17,2,     1.51,2,    5.285,2,    2.597,2,   -999.0,9,   2120.1,2,   2294.0,2,  -999.0
    35MFCIVA_1, I06SA,    35,  2,     20,     11,2,19930303,1305,-50.6670,  29.9963, 3227,     21.5,   4.4700,  33.8793,2,  33.8780,2,    315.0,2,  4.4685,    316.8,2,     3.91,2,    22.17,2,     1.52,2,    5.318,2,    2.585,2,   -999.0,9,   2116.9,2,   2295.0,2,  -999.0
    35MFCIVA_1, I06SA,    35,  2,     40,     10,2,19930303,1305,-50.6670,  29.9963, 3227,     41.6,   4.4720,  33.8784,2,  33.8780,2,    325.8,2,  4.4690,    316.4,2,     3.91,2,    22.17,2,     1.53,2,    5.293,2,    2.565,2,   -999.0,9,   2116.5,2,   2294.0,2,  -999.0
    35MFCIVA_1, I06SA,    35,  2,     60,      9,2,19930303,1305,-50.6670,  29.9963, 3227,     63.2,   4.4700,  33.8786,2,  33.8770,2,    326.1,2,  4.4655,    316.3,2,     3.91,2,    22.10,2,     1.54,2,    5.260,2,    2.565,2,   -999.0,9,   2117.3,2,   2297.0,2,  -999.0
    35MFCIVA_1, I06SA,    35,  2,     80,      8,2,19930303,1305,-50.6670,  29.9963, 3227,     81.6,   4.3821,  33.8807,2,  33.8830,2,    318.8,2,  4.3763,    316.0,2,     4.35,2,    22.17,2,     1.56,2,    5.247,2,    2.521,2,   -999.0,9,   2119.4,2,   2295.0,2,  -999.0
    35MFCIVA_1, I06SA,    35,  2,    100,      7,2,19930303,1305,-50.6670,  29.9963, 3227,    101.5,   3.5586,  33.9035,2,  33.9080,2,    319.8,2,  3.5521,    313.8,2,     8.70,2,    23.62,2,     1.71,2,    5.490,2,    2.654,2,   -999.0,9,   2129.6,2,   2293.0,2,  -999.0
    35MFCIVA_1, I06SA,    35,  2,    125,      6,2,19930303,1305,-50.6670,  29.9963, 3227,    126.7,   2.1853,  33.9617,2,  33.9650,2,    311.9,2,  2.1786,    312.0,2,    20.48,2,    27.67,2,     1.97,2,    5.604,2,    2.706,2,   -999.0,9,   2151.8,2,   2290.0,2,  -999.0
    35MFCIVA_1, I06SA,    35,  2,    150,      5,2,19930303,1305,-50.6670,  29.9963, 3227,    151.5,   1.7944,  33.9864,2,  33.9850,2,    313.6,2,  1.7868,    312.0,2,    23.54,2,    28.82,2,     2.02,2,    5.577,2,    2.685,2,   -999.0,9,   2155.9,2,   2292.0,2,  -999.0
    35MFCIVA_1, I06SA,    35,  2,    175,      4,2,19930303,1305,-50.6670,  29.9963, 3227,    178.4,   1.6344,  33.9973,2,  33.9990,2,    310.5,2,  1.6256,    312.3,2,    25.29,2,    29.20,2,     2.03,2,    5.524,2,    2.696,2,   -999.0,9,   2159.8,2,   2296.0,2,  -999.0
    35MFCIVA_1, I06SA,    35,  2,    200,      3,2,19930303,1305,-50.6670,  29.9963, 3227,    202.9,   1.6244,  34.0334,2,  34.0280,2,    304.8,2,  1.6144,    305.2,2,    27.47,2,    29.58,2,     2.05,2,    5.199,2,    2.529,2,   -999.0,9,   2163.8,2,   2297.0,2,  -999.0
    35MFCIVA_1, I06SA,    35,  2,    250a,      1,2,19930303,1305,-50.6670,  29.9963, 3227,    254.3,   1.7874,  34.1060,2,  34.1050,2,    285.0,2,  1.7743,    281.8,2,    33.57,2,    31.03,2,     2.13,2,    4.277,2,    2.032,2,   -999.0,9,   2177.0,2,   2299.0,2,  -999.0
    35MFCIVA_1, I06SA,    35,  2,    250b,      2,2,19930303,1305,-50.6670,  29.9963, 3227,    254.4,   1.7854,  34.1056,2,  34.1050,2,    285.0,2,  1.7723,    281.4,2,    33.57,2,    31.11,2,     2.13,2,    4.239,2,    2.028,2,   -999.0,9,   2173.0,2,   2298.0,2,  -999.0
    35MFCIVA_1, I06SA,    36,  1,   1500,     12,2,19930303,1628,-50.3470,  29.9935, 3885,   1212.6,   2.1503,  34.7293,2,  34.7310,2,    190.5,2,  2.0735,    189.4,2,    84.82,2,    31.12,2,     2.21,2,    0.150,2,    0.000,3,   -999.0,9,   2247.7,2,   2355.0,2,  -999.0
    35MFCIVA_1, I06SA,    36,  1,   1750,     11,2,19930303,1628,-50.3470,  29.9935, 3885,   1311.6,   2.0094,  34.7331,2,  34.7330,2,    190.6,2,  1.9267,    190.2,2,    88.43,2,    31.19,2,     2.20,2,    0.171,2,    0.089,3,   -999.0,9,   2246.1,2,   2357.0,2,  -999.0
    35MFCIVA_1, I06SA,    36,  1,   2000,     10,2,19930303,1628,-50.3470,  29.9935, 3885,   1412.4,   2.0703,  34.7570,2,  34.7580,2,    198.4,2,  1.9795,    197.9,2,    84.37,2,    30.09,2,     2.15,2, -999.000,5, -999.000,5,   -999.0,9,   2239.2,2,   2357.0,2,  -999.0
    35MFCIVA_1, I06SA,    36,  1,   2250,      9,2,19930303,1628,-50.3470,  29.9935, 3885,   1511.9,   2.0124,  34.7632,2,  34.7630,2,    200.4,2,  1.9145,    200.7,2,    85.72,2,    30.02,2,     2.12,2,    0.067,2,    0.000,3,   -999.0,9,   2241.5,2,   2357.0,2,  -999.0
    35MFCIVA_1, I06SA,    36,  1,   2500,      8,2,19930303,1628,-50.3470,  29.9935, 3885,   1769.0,   1.7074,  34.7525,2,  34.7530,2,    202.4,2,  1.5936,    202.5,2,    94.29,2,    30.49,2,     2.15,2,    0.117,2,    0.065,2,   -999.0,9,   2241.1,2,   2362.0,2,  -999.0
    35MFCIVA_1, I06SA,    36,  1,   3000,      7,2,19930303,1628,-50.3470,  29.9935, 3885,   2017.0,   1.4955,  34.7454,2,  34.7470,2,    202.6,2,  1.3650,    204.6,2,   100.16,2,    30.72,2,     2.17,2,    0.113,2,    0.066,2,   -999.0,9,   2243.9,2,   2365.0,2,  -999.0
    35MFCIVA_1, I06SA,    36,  1,   3500,      6,2,19930303,1628,-50.3470,  29.9935, 3885,   2279.9,   1.1495,  34.7149,2,  34.7160,2,    201.8,2,  1.0033,    202.6,2,   111.43,2,    32.06,2,     2.28,2,    0.182,2,    0.132,3,   -999.0,9,   2252.3,2,   2366.0,2,  -999.0
    35MFCIVA_1, I06SA,    36,  1,   4000a,      5,2,19930303,1628,-50.3470,  29.9935, 3885,   2535.0,   1.0835,  34.7351,2,  34.7350,2,    212.3,2,  0.9170,    212.2,2,   110.53,2,    31.11,2,     2.19,2,    0.050,2,    0.000,3,   -999.0,9,   2246.0,2,   2370.0,2,  -999.0
    35MFCIVA_1, I06SA,    36,  1,   4000b,      4,2,19930303,1628,-50.3470,  29.9935, 3885,   2966.5,   0.7554,  34.7086,2,  34.7090,2,    214.5,2,  0.5580,    213.4,2,   121.36,2,    32.21,2,     2.28,2,    0.126,2,    0.073,2,   -999.0,9,   2252.0,2,   2372.0,2,  -999.0
    35MFCIVA_1, I06SA,    36,  1,   4200,      3,2,19930303,1628,-50.3470,  29.9935, 3885,   3557.8,   0.0832,  34.6712,2,  34.6720,2,    228.5,2, -0.1522,    229.5,2,   133.99,2,    33.00,2,     2.33,2,    0.179,2,    0.102,2,   -999.0,9,   2251.6,2,   2369.0,2,  -999.0
    35MFCIVA_1, I06SA,    36,  1,   F-20,      1,2,19930303,1628,-50.3470,  29.9935, 3885,   3983.7,  -0.0699,  34.6628,2,  34.6640,2,    233.6,2, -0.3423,    233.6,2,   135.34,2,    33.23,2,     2.36,2,    0.256,2,    0.142,2,   -999.0,9,   2247.3,2,   2365.0,2,  -999.0
    35MFCIVA_1, I06SA,    36,  1,   4400,      2,2,19930303,1628,-50.3470,  29.9935, 3885,   3984.8,  -0.0689,  34.6625,2,  34.6640,2,    233.9,2, -0.3414,    234.0,2,   135.34,2,    33.16,2,     2.36,2,    0.212,2,    0.062,3,   -999.0,9,   2250.4,2,   2367.0,2,  -999.0
    35MFCIVA_1, I06SA,    36,  2,    325,     12,2,19930303,1959,-50.3272,  29.9902, 4020,    304.4,   1.6924,  34.2360,2,  34.2360,2,    240.3,2,  1.6768,    238.5,2,    50.14,2,    33.32,2,     2.43,2,    2.813,2,    1.337,2,   -999.0,9,   2208.3,2,   2313.0,2,  -999.0
    35MFCIVA_1, I06SA,    36,  2,    400,     11,2,19930303,1959,-50.3272,  29.9902, 4020,    352.5,   1.4555,  34.2689,2,  34.2680,2,    234.2,2,  1.4379,    233.6,2,    56.79,2,    33.80,2,     2.44,2,    2.752,2,    1.356,2,   -999.0,9,   2216.8,2,   2319.0,2,  -999.0
    35MFCIVA_1, I06SA,    36,  2,    500,     10,2,19930303,1959,-50.3272,  29.9902, 4020,    403.2,   1.7364,  34.3532,2,  34.3540,2,    210.7,2,  1.7152,    208.3,2,    64.33,2,    34.91,2,     2.48,2,    1.867,2,    0.998,2,   -999.0,9,   2231.0,2,   2324.0,2,  -999.0
    35MFCIVA_1, I06SA,    36,  2,    600,      9,2,19930303,1959,-50.3272,  29.9902, 4020,    453.8,   1.9244,  34.4287,2,  34.4270,2,    189.8,2,  1.8995,    191.9,2,    70.54,2,    35.38,2,     2.45,2,    1.269,2,    0.519,2,   -999.0,9,   2241.6,2,   2332.0,2,  -999.0
    35MFCIVA_1, I06SA,    36,  2,    700,      8,2,19930303,1959,-50.3272,  29.9902, 4020,    504.5,   2.1193,  34.4793,2,  34.4780,2,    183.5,2,  2.0906,    181.2,2,    74.53,2,    35.46,2,     2.61,2,    0.879,2,    0.436,2,   -999.0,9,   2253.1,2,   2334.0,2,  -999.0
    35MFCIVA_1, I06SA,    36,  2,    800,      7,2,19930303,1959,-50.3272,  29.9902, 4020,    603.1,   2.2393,  34.5577,2,  34.5560,2,    178.0,2,  2.2038,    175.4,2,    78.96,2,    35.06,2,     2.57,2,    0.483,2,    0.204,2,   -999.0,9,   2252.1,2,   2344.0,2,  -999.0
    35MFCIVA_1, I06SA,    36,  2,    900,      6,2,19930303,1959,-50.3272,  29.9902, 4020,    705.8,   2.2873,  34.6109,2,  34.6080,2,    173.4,2,  2.2449,    175.6,2,    85.17,2,    34.11,2,     2.42,2,    0.340,8,    0.161,2,   -999.0,9,   2251.5,2,   2347.0,2,  -999.0
    35MFCIVA_1, I06SA,    36,  2,   1000,      5,2,19930303,1959,-50.3272,  29.9902, 4020,    803.9,   2.1123,  34.6130,2,  34.6130,2,    174.5,2,  2.0645,    173.6,2,    85.17,2,    34.51,2,     2.43,2,    0.461,3,    0.173,2,   -999.0,9,   2256.9,2,   2348.0,2,  -999.0
    35MFCIVA_1, I06SA,    36,  2,   1100,      4,2,19930303,1959,-50.3272,  29.9902, 4020,    907.1,   2.1973,  34.6664,2,  34.6650,2,    176.2,2,  2.1419,    176.7,2,    84.28,2,    33.31,2,     2.35,2,    0.226,2,    0.029,3,   -999.0,9,   2255.2,2,   2353.0,2,  -999.0
    35MFCIVA_1, I06SA,    36,  2,   1200,      3,2,19930303,1959,-50.3272,  29.9902, 4020,   1007.8,   2.1903,  34.6918,2,  34.6900,2,    181.0,2,  2.1279,    180.7,2,    84.72,2,    32.68,2,     2.27,2,    0.226,2,    0.000,3,   -999.0,9,   2250.4,2,   2354.0,2,  -999.0
    35MFCIVA_1, I06SA,    36,  2,   1350a,      2,2,19930303,1959,-50.3272,  29.9902, 4020,   1109.5,   2.1583,  34.7132,2,  34.7120,2,    182.8,2,  2.0889,    185.1,2,    84.72,2,    32.04,2,     2.24,2,    0.170,2,    0.000,3,   -999.0,9,   2251.0,2,   2355.0,2,  -999.0
    35MFCIVA_1, I06SA,    36,  2,   1350b,      1,2,19930303,1959,-50.3272,  29.9902, 4020,   1110.5,   2.1573,  34.7138,2,  34.7120,2,    183.0,2,  2.0879,    185.6,2,    85.16,2,    31.97,2,     2.23,2,    0.189,2,    0.104,2,   -999.0,9,   2249.0,2,   2356.0,2,  -999.0
    35MFCIVA_1, I06SA,    36,  3,     10,     12,2,19930303,2128,-50.3313,  29.9643, 4500,      9.2,   3.1579,  33.8451,2,  33.8450,2,    330.9,2,  3.1573,    332.0,2,    30.12,2,    24.96,2,     1.56,2, -999.000,5, -999.000,5,   -999.0,9,   2142.0,2,   2299.0,2,  -999.0
    35MFCIVA_1, I06SA,    36,  3,     20,     11,2,19930303,2128,-50.3313,  29.9643, 4500,     20.3,   3.1609,  33.8456,2,  33.8450,2,    332.6,2,  3.1597,    332.1,2,    30.12,2,    24.96,2,     1.55,2,    6.134,2,    3.000,2,   -999.0,9,   2141.1,2,   2298.0,2,  -999.0
    35MFCIVA_1, I06SA,    36,  3,     40,     10,2,19930303,2128,-50.3313,  29.9643, 4500,     37.7,   3.1679,  33.8470,2,  33.8450,2,    340.8,2,  3.1656,    333.0,2,    29.68,2,    24.88,2,     1.54,2,    5.730,2,    2.670,2,   -999.0,9,   2142.9,2,   2299.0,2,  -999.0
    35MFCIVA_1, I06SA,    36,  3,     60,      9,2,19930303,2128,-50.3313,  29.9643, 4500,     59.4,   3.1689,  33.8463,2,  33.8440,2,    334.6,2,  3.1653,    332.7,2,    30.55,2,    24.96,2,     1.56,2,    5.747,2,    2.743,2,   -999.0,9,   2142.5,2,   2299.0,2,  -999.0
    35MFCIVA_1, I06SA,    36,  3,     80,      8,2,19930303,2128,-50.3313,  29.9643, 4500,     80.5,   2.8430,  33.8496,2,-999.0000,5,    334.3,2,  2.8384,    332.9,2,  -999.00,5,  -999.00,5,  -999.00,5,    5.806,2,    2.674,2,   -999.0,9,   -999.0,9,   -999.0,9,  -999.0
    35MFCIVA_1, I06SA,    36,  3,    100,      7,2,19930303,2128,-50.3313,  29.9643, 4500,    102.3,   1.8344,  33.9322,2,  33.9290,2,    328.6,2,  1.8293,    328.1,2,    30.55,2,    26.71,2,     1.87,2, -999.000,5, -999.000,5,   -999.0,9,   2165.4,2,   2300.0,2,  -999.0
    35MFCIVA_1, I06SA,    36,  3,    125,      6,2,19930303,2128,-50.3313,  29.9643, 4500,    128.3,   0.8034,  33.9922,2,  33.9920,2,    326.9,2,  0.7981,    328.1,2,    31.42,2,    28.77,2,     1.95,2,    5.960,2,    2.853,2,   -999.0,9,   2166.6,2,   2299.0,2,  -999.0
    35MFCIVA_1, I06SA,    36,  3,    150,      5,2,19930303,2128,-50.3313,  29.9643, 4500,    150.6,   0.7434,  33.9971,2,  33.9980,2,    329.3,2,  0.7372,    327.5,2,    31.42,2,    28.77,2,     1.95,2,    5.874,2,    2.699,2,   -999.0,9,   2167.2,2,   2302.0,2,  -999.0
    35MFCIVA_1, I06SA,    36,  3,    175,      4,2,19930303,2128,-50.3313,  29.9643, 4500,    175.4,   0.6564,  34.0145,2,  34.0160,2,    323.4,2,  0.6492,    322.6,2,    33.16,2,    29.09,2,     1.96,2,    5.712,2,    2.657,2,   -999.0,9,   2169.1,2,   2303.0,2,  -999.0
    35MFCIVA_1, I06SA,    36,  3,    200,      3,2,19930303,2128,-50.3313,  29.9643, 4500,    199.1,   0.6024,  34.0353,2,  34.0350,2,    311.7,2,  0.5943,    318.4,2,    35.78,2,    29.41,2,     2.07,2,    5.511,2,    2.515,2,   -999.0,9,   2176.3,2,   2305.0,2,  -999.0
    35MFCIVA_1, I06SA,    36,  3,    250a,      2,2,19930303,2128,-50.3313,  29.9643, 4500,    249.7,   1.2925,  34.1525,2,  34.1420,2,    276.9,2,  1.2807,    273.4,2,    41.89,2,    31.63,2,     2.13,2,    3.879,2,    1.764,2,   -999.0,9,   2192.0,2,   2309.0,2,  -999.0
    35MFCIVA_1, I06SA,    36,  3,    250b,      1,2,19930303,2128,-50.3313,  29.9643, 4500,    253.9,   1.3035,  34.1547,2,  34.1520,2,    268.6,2,  1.2914,    269.7,2,    43.19,2,    31.95,2,     2.13,2,    4.042,2,    1.850,2,   -999.0,9,   2195.0,2,   2309.0,2,  -999.0