BOTTLE,20220922CCHSIOAMB
EXPOCODE,SECT_ID,STNNBR,CASTNO,SAMPNO,BTLNBR,BTLNBR_FLAG_W,DATE,TIME,LATITUDE,LONGITUDE,DEPTH,CTDPRS,CTDTMP,CTDSAL,CTDSAL_FLAG_W,SALNTY,SALNTY_FLAG_W,CTDOXY,CTDOXY_FLAG_W,THETA,OXYGEN,OXYGEN_FLAG_W,SILCAT,SILCAT_FLAG_W,NITRAT,NITRAT_FLAG_W,PHSPHT,PHSPHT_FLAG_W,CFC-11,CFC-11_FLAG_W,CFC-12,CFC-12_FLAG_W,DELC14,DELC14_FLAG_W,TCARBN,TCARBN_FLAG_W,ALKALI,ALKALI_FLAG_W,C14ERR
,,,,,,,,,,,,DBAR,ITS-90,PSS-78,,PSS-78,,UMOL/KG,,DEG C,UMOL/KG,,UMOL/KG,,UMOL/KG,,UMOL/KG,,PMOL/KG,,PMOL/KG,,/MILLE,,UMOL/KG,,UMOL/KG,,/MILLE
    35MFCIVA_1, I06SA,    14,  3,     10,     12,2,19930210,0214,-63.6682,  29.9957, 5088,     11.1,   1.0265,  33.8285,2,  33.8280,2,    340.8,2,  1.0260,    338.5,2,    51.48,2,    25.39,2,     1.92,2,    6.370,2,    2.924,2,   -999.0,9,   2162.9,2,   2301.0,2,  -999.0
    35MFCIVA_1, I06SA,    14,  3,     20,     11,2,19930210,0214,-63.6682,  29.9957, 5088,     21.0,   0.7824,  33.8316,2,  33.8340,2,    338.7,2,  0.7816,    339.1,2,    50.65,2,    25.39,2,     1.94,2,    6.372,2,    2.942,2,   -999.0,9,   2161.6,2,   -999.0,9,  -999.0
    35MFCIVA_1, I06SA,    14,  3,     40,     10,2,19930210,0214,-63.6682,  29.9957, 5088,     40.9,  -0.8845,  34.0561,2,  34.0020,2,    334.0,2, -0.8856,    339.8,2,    56.45,2,    26.12,2,     1.98,2,    6.196,2,    2.812,2,   -999.0,9,   2175.9,2,   2308.0,2,  -999.0
    35MFCIVA_1, I06SA,    14,  3,     60,      9,2,19930210,0214,-63.6682,  29.9957, 5088,     60.8,  -1.5873,  34.1637,2,  34.1640,2,    337.5,2, -1.5886,    334.0,2,    63.08,2,    27.00,2,     2.07,2,    6.063,2,    2.736,2,   -999.0,9,   2191.2,2,   2321.0,2,  -999.0
    35MFCIVA_1, I06SA,    14,  3,     80,      8,2,19930210,0214,-63.6682,  29.9957, 5088,     80.7,  -1.6654,  34.1966,2,  34.1960,2,    329.8,2, -1.6670,    327.0,2,    63.91,2,    27.29,2,     2.10,2,    5.912,2,    2.669,2,   -999.0,9,   2198.3,2,   2323.0,2,  -999.0
    35MFCIVA_1, I06SA,    14,  3,    100,      7,2,19930210,0214,-63.6682,  29.9957, 5088,    100.5,  -1.0726,  34.2850,2,  34.2870,2,    300.3,2, -1.0753,    298.8,2,    79.67,2,    29.34,2,     2.26,2,    5.070,2,    2.261,2,   -999.0,9,   2212.5,2,   2329.0,2,  -999.0
    35MFCIVA_1, I06SA,    14,  3,    125,      6,2,19930210,0214,-63.6682,  29.9957, 5088,    125.4,   0.4754,  34.4753,2,  34.4720,2,    227.6,2,  0.4704,    225.0,2,    94.61,2,    32.57,2,     2.52,2,    2.516,2,    1.114,2,   -999.0,9,   2247.3,2,   2338.0,2,  -999.0
    35MFCIVA_1, I06SA,    14,  3,    150,      5,2,19930210,0214,-63.6682,  29.9957, 5088,    150.3,   1.0845,  34.5679,2,  34.5660,2,    200.7,2,  1.0776,    199.1,2,    93.77,2,    33.01,2,     2.53,2,    1.437,2,    0.653,2,   -999.0,9,   2259.3,2,   2345.0,2,  -999.0
    35MFCIVA_1, I06SA,    14,  3,    175,      4,2,19930210,0214,-63.6682,  29.9957, 5088,    176.2,   1.2355,  34.6076,2,  34.6050,2,    197.2,2,  1.2272,    192.4,2,    98.75,2,    33.01,2,     2.53,2,    1.091,2,    0.492,2,   -999.0,9,   2262.8,2,   2349.0,2,  -999.0
    35MFCIVA_1, I06SA,    14,  3,    200,      3,2,19930210,0214,-63.6682,  29.9957, 5088,    204.1,   1.3545,  34.6453,2,  34.6410,2,    192.4,2,  1.3446,    189.7,2,    99.58,2,    32.71,2,     2.46,2,    0.828,2,    0.354,2,   -999.0,9,   2262.6,2,   2352.0,2,  -999.0
    35MFCIVA_1, I06SA,    14,  3,    250a,      1,2,19930210,0214,-63.6682,  29.9957, 5088,    253.3,   1.3805,  34.6763,2,  34.6720,2,    188.6,2,  1.3680,    189.5,2,   102.89,2,    32.13,2,     2.44,2,    0.613,2,    0.267,2,   -999.0,9,   2262.0,2,   2355.0,2,  -999.0
    35MFCIVA_1, I06SA,    14,  3,    250b,      2,2,19930210,0214,-63.6682,  29.9957, 5088,    253.6,   1.3805,  34.6774,2,  34.6720,2,    188.6,2,  1.3680,    189.4,2,   102.89,2,    32.13,2,     2.46,2,    0.587,2,    0.259,2,   -999.0,9,   2261.0,2,   2356.0,2,  -999.0
    35MFCIVA_1, I06SA,    15,  1,    325,     12,2,19930210,0711,-63.0038,  29.9993, 5178,    326.5,   1.4815,  34.6844,2,  34.6840,2,    191.8,2,  1.4650,    188.7,2,    94.96,2,    33.62,2,     2.43,2,    0.513,2,    0.199,3,   -999.0,9,   2259.9,2,   2355.0,2,  -999.0
    35MFCIVA_1, I06SA,    15,  1,    400,     11,2,19930210,0711,-63.0038,  29.9993, 5178,    402.7,   1.4345,  34.7003,2,  34.6990,2,    196.2,2,  1.4140,    191.7,2,    97.41,2,    33.02,2,     2.36,2,    0.433,2,    0.182,2,   -999.0,9,   2259.3,2,   2357.0,2,  -999.0
    35MFCIVA_1, I06SA,    15,  1,    500,     10,2,19930210,0711,-63.0038,  29.9993, 5178,    504.1,   1.3455,  34.7116,2,  34.7100,2,    198.4,2,  1.3198,    195.5,2,   100.69,2,    32.71,2,     2.33,2,    0.357,2,    0.131,3,   -999.0,9,   2260.1,2,   2360.0,2,  -999.0
    35MFCIVA_1, I06SA,    15,  1,    600,      9,2,19930210,0711,-63.0038,  29.9993, 5178,    605.0,   1.2405,  34.7155,2,  34.7150,2,    201.1,2,  1.2096,    198.1,2,   103.14,2,    32.48,2,     2.30,2,    0.284,3,    0.098,2,   -999.0,9,   2260.9,2,   2361.0,2,  -999.0
    35MFCIVA_1, I06SA,    15,  1,    700,      8,2,19930210,0711,-63.0038,  29.9993, 5178,    705.1,   1.1245,  34.7144,2,  34.7150,2,    202.9,2,  1.0886,    200.2,2,   108.05,2,    32.71,2,     2.30,2,    0.289,2,    0.115,3,   -999.0,9,   2260.6,2,   2363.0,2,  -999.0
    35MFCIVA_1, I06SA,    15,  1,    800,      7,2,19930210,0711,-63.0038,  29.9993, 5178,    806.8,   0.9905,  34.7107,2,  34.7090,2,    200.4,2,  0.9496,    201.4,2,   111.33,2,    32.86,2,     2.30,2,    0.264,2,    0.101,3,   -999.0,9,   2264.1,2,   2363.0,2,  -999.0
    35MFCIVA_1, I06SA,    15,  1,    900,      6,2,19930210,0711,-63.0038,  29.9993, 5178,    911.5,   0.8774,  34.7079,2,  34.7070,2,    206.0,2,  0.8313,    203.9,2,   113.78,2,    33.01,2,     2.34,2,    0.260,2,    0.105,3,   -999.0,9,   2268.0,2,   2365.0,2,  -999.0
    35MFCIVA_1, I06SA,    15,  1,   1000,      5,2,19930210,0711,-63.0038,  29.9993, 5178,   1009.9,   0.7874,  34.7052,2,  34.7050,2,    205.4,2,  0.7362,    204.6,2,   116.24,2,    33.01,2,     2.32,2,    0.236,2,    0.091,3,   -999.0,9,   2265.3,2,   2364.0,2,  -999.0
    35MFCIVA_1, I06SA,    15,  1,   1200,      4,2,19930210,0711,-63.0038,  29.9993, 5178,   1212.4,   0.6274,  34.6971,2,  34.6970,2,    208.4,2,  0.5654,    207.2,2,   120.33,2,    33.16,2,     2.33,2,    0.210,2,    0.077,3,   -999.0,9,   2266.6,2,   2365.0,2,  -999.0
    35MFCIVA_1, I06SA,    15,  1,   1400,      3,2,19930210,0711,-63.0038,  29.9993, 5178,   1402.1,   0.4944,  34.6892,2,  34.6900,2,    210.3,2,  0.4219,    207.3,2,   124.42,2,    33.62,2,     2.36,2,    0.093,2,    0.068,3,   -999.0,9,   2269.3,2,   2365.0,2,  -999.0
    35MFCIVA_1, I06SA,    15,  1,   1600a,      1,2,19930210,0711,-63.0038,  29.9993, 5178,   1618.2,   0.3793,  34.6870,2,  34.6820,2,    211.9,2,  0.2942,    209.8,2,   127.69,2,    33.77,2,     2.36,2,    0.183,2,    0.069,2,   -999.0,9,   2271.0,2,   2367.0,2,  -999.0
    35MFCIVA_1, I06SA,    15,  1,   1600b,      2,2,19930210,0711,-63.0038,  29.9993, 5178,   1622.0,   0.3773,  34.6859,2,  34.6840,2,    212.1,2,  0.2919,    209.9,2,   128.51,2,    33.77,2,     2.36,2,    0.190,2,    0.079,2,   -999.0,9,   2272.0,2,   2368.0,2,  -999.0
    35MFCIVA_1, I06SA,    15,  2,     10,     12,2,19930210,0951,-63.0032,  30.0038, 5180,     10.8,   1.2665,  33.7685,2,  33.7680,2,    338.9,2,  1.2660,    337.2,2,    47.10,2,    26.45,2,     1.85,2,    6.283,2,    2.944,2,   -999.0,9,   2116.7,2,   2295.0,2,  -999.0
    35MFCIVA_1, I06SA,    15,  2,     20,     11,2,19930210,0951,-63.0032,  30.0038, 5180,     20.6,   1.2115,  33.7699,2,  33.7690,2,    333.6,2,  1.2106,    337.5,2,    47.92,2,    26.37,2,     1.85,2,    6.253,2,    2.936,2,   -999.0,9,   2125.4,2,   2295.0,2,  -999.0
    35MFCIVA_1, I06SA,    15,  2,     40,     10,2,19930210,0951,-63.0032,  30.0038, 5180,     41.2,  -0.0058,  33.8905,2,  33.8580,2,    331.3,2, -0.0072,    343.3,2,    49.14,2,    26.82,2,     1.84,2,    6.219,2,    2.894,2,   -999.0,9,   2138.5,2,   2300.0,2,  -999.0
    35MFCIVA_1, I06SA,    15,  2,     60,      9,2,19930210,0951,-63.0032,  30.0038, 5180,     61.3,  -1.5612,  34.1044,2,  34.1080,2,    341.4,2, -1.5625,    341.8,2,    53.23,2,    27.72,2,     1.94,2,    6.044,2,    2.788,2,   -999.0,9,   2163.5,2,   2317.0,2,  -999.0
    35MFCIVA_1, I06SA,    15,  2,     80,      8,2,19930210,0951,-63.0032,  30.0038, 5180,     80.9,  -1.6724,  34.1391,2,  34.1370,2,    330.1,2, -1.6740,    329.8,2,    55.68,2,    28.63,2,     2.02,2,    5.953,2,    2.743,2,   -999.0,9,   2176.0,2,   2318.0,2,  -999.0
    35MFCIVA_1, I06SA,    15,  2,    100,      7,2,19930210,0951,-63.0032,  30.0038, 5180,    101.0,  -1.3590,  34.1810,2,  34.1850,2,    318.1,2, -1.3613,    318.6,2,    58.14,2,    29.39,2,     2.07,2,    5.654,2,    2.578,2,   -999.0,9,   2187.7,2,   2322.0,2,  -999.0
    35MFCIVA_1, I06SA,    15,  2,    125,      6,2,19930210,0951,-63.0032,  30.0038, 5180,    125.9,  -0.0518,  34.3434,2,  34.3460,2,    259.2,2, -0.0563,    262.3,2,    73.69,2,    32.72,2,     2.30,2,    3.886,2,    1.746,2,   -999.0,9,   2218.0,2,   2330.0,2,  -999.0
    35MFCIVA_1, I06SA,    15,  2,    150,      5,2,19930210,0951,-63.0032,  30.0038, 5180,    152.8,   0.7344,  34.4715,2,  34.4730,2,    218.9,2,  0.7280,    219.9,2,    80.64,2,    34.23,2,     2.43,2,    2.311,2,    1.027,2,   -999.0,9,   2236.7,2,   2338.0,2,  -999.0
    35MFCIVA_1, I06SA,    15,  2,    175,      4,2,19930210,0951,-63.0032,  30.0038, 5180,    176.9,   1.1715,  34.5549,2,  34.5530,2,    198.2,2,  1.1633,    201.5,2,    87.60,2,    34.53,2,     2.43,2,    1.548,2,    0.685,2,   -999.0,9,   2248.4,2,   2343.0,2,  -999.0
    35MFCIVA_1, I06SA,    15,  2,    200,      3,2,19930210,0951,-63.0032,  30.0038, 5180,    202.3,   1.3465,  34.6016,2,  34.5990,2,    195.2,2,  1.3367,    193.6,2,    95.37,2,    34.53,2,     2.42,2,    1.131,2,    0.485,2,   -999.0,9,   2255.6,2,   2349.0,2,  -999.0
    35MFCIVA_1, I06SA,    15,  2,    250a,      1,2,19930210,0951,-63.0032,  30.0038, 5180,    254.2,   1.4755,  34.6499,2,  34.6500,2,    188.7,2,  1.4628,    187.8,2,    94.14,2,    34.08,2,     2.38,2,    0.708,2,    0.307,2,   -999.0,9,   2261.0,2,   2352.0,2,  -999.0
    35MFCIVA_1, I06SA,    15,  2,    250b,      2,2,19930210,0951,-63.0032,  30.0038, 5180,    254.7,   1.4735,  34.6505,2,  34.6500,2,    188.9,2,  1.4608,    187.3,2,    94.14,2,    34.08,2,     2.36,2,    0.713,2,    0.302,2,   -999.0,9,   2258.0,2,   2351.0,2,  -999.0
    35MFCIVA_1, I06SA,    16,  1,   1500,     12,2,19930210,1448,-62.3363,  30.0025, 5160,   1515.2,   0.4494,  34.6881,2,  34.6890,2,    210.0,2,  0.3701,    206.8,2,   124.46,2,    33.97,2,     2.40,2,    0.207,2,    0.078,3,   -999.0,9,   2261.2,2,   2365.0,2,  -999.0
    35MFCIVA_1, I06SA,    16,  1,   1750,     11,2,19930210,1448,-62.3363,  30.0025, 5160,   1769.4,   0.3133,  34.6833,2,  34.6830,2,    213.0,2,  0.2189,    210.8,2,   127.76,2,    33.97,2,     2.40,2,    0.183,2,    0.068,2,   -999.0,9,   2259.8,2,   2363.0,2,  -999.0
    35MFCIVA_1, I06SA,    16,  1,   2000,     10,2,19930210,1448,-62.3363,  30.0025, 5160,   2024.0,   0.2043,  34.6778,2,  34.6790,2,    216.2,2,  0.0936,    214.5,2,   129.41,2,    34.05,2,     2.40,2,    0.180,2,    0.073,2,   -999.0,9,   2260.3,2,   2362.0,2,  -999.0
    35MFCIVA_1, I06SA,    16,  1,   2250,      9,2,19930210,1448,-62.3363,  30.0025, 5160,   2277.7,   0.1052,  34.6743,2,  34.6730,2,    220.7,2, -0.0223,    218.9,2,   130.64,2,    33.90,2,     2.40,2,    0.192,2,    0.077,2,   -999.0,9,   2261.5,2,   2363.0,2,  -999.0
    35MFCIVA_1, I06SA,    16,  1,   2500,      8,2,19930210,1448,-62.3363,  30.0025, 5160,   2527.2,   0.0182,  34.6697,2,  34.6730,2,    223.0,2, -0.1269,    222.7,2,   130.64,2,    33.90,2,     2.39,2,    0.197,2,    0.089,2,   -999.0,9,   2255.4,2,   2362.0,2,  -999.0
    35MFCIVA_1, I06SA,    16,  1,   2750,      7,2,19930210,1448,-62.3363,  30.0025, 5160,   2787.5,  -0.0558,  34.6659,2,  34.6660,2,    226.5,2, -0.2202,    226.9,2,   130.64,2,    33.74,2,     2.39,2,    0.220,2,    0.088,3,   -999.0,9,   2252.1,2,   2361.0,2,  -999.0
    35MFCIVA_1, I06SA,    16,  1,   3000,      6,2,19930210,1448,-62.3363,  30.0025, 5160,   3041.4,  -0.1179,  34.6622,2,  34.6630,2,    232.7,2, -0.3021,    230.5,2,   131.47,2,    33.67,2,     2.37,2,    0.207,2,    0.092,2,   -999.0,9,   2257.2,2,   2362.0,2,  -999.0
    35MFCIVA_1, I06SA,    16,  1,   3500,      5,2,19930210,1448,-62.3363,  30.0025, 5160,   3556.5,  -0.1969,  34.6607,2,  34.6600,2,    236.1,2, -0.4249,    235.3,2,   131.05,2,    33.44,2,     2.35,2,    0.247,8,    0.111,2,   -999.0,9,   2255.1,2,   -999.0,9,  -999.0
    35MFCIVA_1, I06SA,    16,  1,   4000,      4,2,19930210,1448,-62.3363,  30.0025, 5160,   4071.7,  -0.2570,  34.6572,2,  34.6570,2,    242.7,2, -0.5326,    239.7,2,   131.47,2,    33.29,2,     2.34,2,    0.273,2,    0.116,2,   -999.0,9,   2182.0,3,   2361.0,2,  -999.0
    35MFCIVA_1, I06SA,    16,  1,   4400,      3,2,19930210,1448,-62.3363,  30.0025, 5160,   4072.4,  -0.2570,  34.6569,2,  34.6570,2,    242.7,2, -0.5327,    240.1,2,   131.47,2,    33.29,2,     2.34,2,    0.277,8,    0.119,2,   -999.0,9,   2193.0,3,   2362.0,2,  -999.0
    35MFCIVA_1, I06SA,    16,  1,   4700,      2,2,19930210,1448,-62.3363,  30.0025, 5160,   4585.7,  -0.2900,  34.6547,2,  34.6550,2,    247.1,2, -0.6175,    243.1,2,   133.53,2,    33.29,2,     2.34,2,    0.258,2,    0.115,2,   -999.0,9,   2211.6,3,   2362.0,2,  -999.0
    35MFCIVA_1, I06SA,    16,  1,   5000,      1,2,19930210,1448,-62.3363,  30.0025, 5160,   5257.1,  -0.3180,  34.6516,2,  34.6520,2,    248.7,2, -0.7188,    245.3,2,   139.30,2,    33.29,2,     2.34,2,    0.186,2,    0.081,2,   -999.0,9,   2219.0,3,   2360.0,2,  -999.0
    35MFCIVA_1, I06SA,    16,  2,    325,     12,2,19930210,1825,-62.3348,  30.0013, 5182,    327.6,   1.5754,  34.6768,2,-999.0000,5,    189.2,2,  1.5586,    189.4,2,    92.32,2,    33.52,2,     2.40,2,    0.545,2,    0.232,2,   -999.0,9,   2253.5,2,   2352.0,2,  -999.0
    35MFCIVA_1, I06SA,    16,  2,    400,     11,2,19930210,1825,-62.3348,  30.0013, 5182,    403.5,   1.5105,  34.6974,2,  34.6970,2,    191.7,2,  1.4897,    191.6,2,    94.80,2,    33.14,2,     2.37,2,    0.456,2,    0.195,2,   -999.0,9,   2250.4,2,   2356.0,2,  -999.0
    35MFCIVA_1, I06SA,    16,  2,    500,     10,2,19930210,1825,-62.3348,  30.0013, 5182,    504.3,   1.4445,  34.7168,2,  34.7150,2,    194.4,2,  1.4183,    195.1,2,    97.27,2,    32.68,2,     2.31,2,    0.329,2,    0.148,2,   -999.0,9,   2250.3,2,   2358.0,2,  -999.0
    35MFCIVA_1, I06SA,    16,  2,    600,      9,2,19930210,1825,-62.3348,  30.0013, 5182,    606.4,   1.3725,  34.7270,2,  34.7270,2,    199.0,2,  1.3409,    198.3,2,    99.74,2,    32.23,2,     2.28,2,    0.246,2,    0.093,3,   -999.0,9,   2238.5,3,   2361.0,2,  -999.0
    35MFCIVA_1, I06SA,    16,  2,    700,      8,2,19930210,1825,-62.3348,  30.0013, 5182,    707.3,   1.2705,  34.7306,2,  34.7280,2,    201.7,2,  1.2336,    201.0,2,   102.21,2,    32.15,2,     2.28,2,    0.210,2,    0.072,3,   -999.0,9,   2249.6,2,   2364.0,2,  -999.0
    35MFCIVA_1, I06SA,    16,  2,    800,      7,2,19930210,1825,-62.3348,  30.0013, 5182,    807.6,   1.1515,  34.7255,2,  34.7240,2,    202.1,2,  1.1095,    202.4,2,   105.51,2,    32.46,2,     2.28,2,    0.219,2,    0.090,2,   -999.0,9,   2249.8,2,   2364.0,2,  -999.0
    35MFCIVA_1, I06SA,    16,  2,    900,      6,2,19930210,1825,-62.3348,  30.0013, 5182,    909.2,   1.0395,  34.7210,2,  34.7160,2,    202.6,2,  0.9922,    203.8,2,   108.80,2,    32.46,2,     2.29,2,    0.202,2,    0.071,3,   -999.0,9,   2251.7,2,   2364.0,2,  -999.0
    35MFCIVA_1, I06SA,    16,  2,   1000,      5,2,19930210,1825,-62.3348,  30.0013, 5182,   1010.2,   0.9255,  34.7166,2,  34.7160,2,    203.8,2,  0.8730,    204.9,2,   112.10,2,    32.68,2,     2.31,2,    0.211,2,    0.068,3,   -999.0,9,   2254.0,2,   2365.0,2,  -999.0
    35MFCIVA_1, I06SA,    16,  2,   1100,      4,2,19930210,1825,-62.3348,  30.0013, 5182,   1111.4,   0.7944,  34.7081,2,  34.7060,2,    204.8,2,  0.7370,    205.3,2,   115.40,2,    33.14,2,     2.32,2,    0.219,2,    0.090,2,   -999.0,9,   2256.9,2,   2365.0,2,  -999.0
    35MFCIVA_1, I06SA,    16,  2,   1200,      3,2,19930210,1825,-62.3348,  30.0013, 5182,   1212.6,   0.7044,  34.7045,2,  34.7030,2,    205.7,2,  0.6416,    206.8,2,   118.28,2,    33.29,2,     2.34,2,    0.225,2,    0.086,3,   -999.0,9,   2256.1,2,   2365.0,2,  -999.0
    35MFCIVA_1, I06SA,    16,  2,   1350a,      1,2,19930210,1825,-62.3348,  30.0013, 5182,   1364.5,   0.5454,  34.6944,2,  34.6920,2,    203.5,2,  0.4747,    206.1,2,   121.99,2,    33.82,2,     2.37,2,    0.223,2,    0.080,3,   -999.0,9,   2261.0,2,   2363.0,2,  -999.0
    35MFCIVA_1, I06SA,    16,  2,   1350b,      2,2,19930210,1825,-62.3348,  30.0013, 5182,   1365.1,   0.5454,  34.6954,2,  34.6920,2,    203.5,2,  0.4746,    210.7,4,   122.40,2,    33.82,2,     2.35,2,    0.242,3,    0.093,2,   -999.0,9,   2258.0,2,   2364.0,2,  -999.0