BOTTLE,20220922CCHSIOAMB
EXPOCODE,SECT_ID,STNNBR,CASTNO,SAMPNO,BTLNBR,BTLNBR_FLAG_W,DATE,TIME,LATITUDE,LONGITUDE,DEPTH,CTDPRS,CTDTMP,CTDSAL,CTDSAL_FLAG_W,SALNTY,SALNTY_FLAG_W,CTDOXY,CTDOXY_FLAG_W,THETA,OXYGEN,OXYGEN_FLAG_W,SILCAT,SILCAT_FLAG_W,NITRAT,NITRAT_FLAG_W,PHSPHT,PHSPHT_FLAG_W,CFC-11,CFC-11_FLAG_W,CFC-12,CFC-12_FLAG_W,DELC14,DELC14_FLAG_W,TCARBN,TCARBN_FLAG_W,ALKALI,ALKALI_FLAG_W,C14ERR
,,,,,,,,,,,,DBAR,ITS-90,PSS-78,,PSS-78,,UMOL/KG,,DEG C,UMOL/KG,,UMOL/KG,,UMOL/KG,,UMOL/KG,,PMOL/KG,,PMOL/KG,,/MILLE,,UMOL/KG,,UMOL/KG,,/MILLE
    35MFCIVA_1, I06SA,    43,  1,    325,     12,2,19930307,0907,-47.5017,  29.9825, 4883,    325.2,   5.5211,  34.2515,2,  34.2510,2,    256.5,2,  5.4944,    260.5,2,    12.41,2,    22.21,2,     1.59,2,    3.576,2,    1.944,4,   -999.0,9,   2136.9,2,   2288.0,2,  -999.0
    35MFCIVA_1, I06SA,    43,  1,    400,     11,2,19930307,0907,-47.5017,  29.9825, 4883,    407.6,   5.1634,  34.2785,2,  34.2620,2,    244.5,2,  5.1309,    242.8,2,    17.38,2,    25.13,2,     1.79,2,    2.864,2,    1.514,4,   -999.0,9,   2156.5,2,   2288.0,2,  -999.0
    35MFCIVA_1, I06SA,    43,  1,    500,     10,2,19930307,0907,-47.5017,  29.9825, 4883,    503.5,   4.3551,  34.2234,2,  34.2240,2,    253.9,2,  4.3177,    249.1,2,    19.86,2,    26.22,2,     1.87,2,    3.507,3,    1.510,4,   -999.0,9,   2159.1,2,   2288.0,2,  -999.0
    35MFCIVA_1, I06SA,    43,  1,    600,      9,2,19930307,0907,-47.5017,  29.9825, 4883,    603.5,   3.8455,  34.2232,2,  34.2260,2,    242.5,2,  3.8026,    246.3,2,    24.41,2,    27.32,2,     1.96,2,    2.550,2,    1.350,4,   -999.0,9,   2173.4,2,   2295.0,2,  -999.0
    35MFCIVA_1, I06SA,    43,  1,    700,      8,2,19930307,0907,-47.5017,  29.9825, 4883,    703.2,   3.5317,  34.2479,2,  34.2530,2,    234.0,2,  3.4829,    235.7,2,    30.62,2,    28.70,2,     2.05,2,    2.059,2,    1.079,4,   -999.0,9,   2181.5,2,   2299.0,2,  -999.0
    35MFCIVA_1, I06SA,    43,  1,    800,      7,2,19930307,0907,-47.5017,  29.9825, 4883,    805.3,   3.2198,  34.2881,2,  34.2920,2,    221.2,2,  3.1653,    222.6,2,    38.47,2,    30.01,2,     2.15,2,    1.582,2,    0.859,4,   -999.0,9,   2198.1,2,   2308.0,2,  -999.0
    35MFCIVA_1, I06SA,    43,  1,    900,      6,2,19930307,0907,-47.5017,  29.9825, 4883,    901.7,   3.2198,  34.3584,2,  34.3470,2,    209.7,2,  3.1580,    207.6,2,    45.51,2,    30.74,2,     2.20,2,    1.163,2,    0.616,4,   -999.0,9,   2209.9,2,   2314.0,2,  -999.0
    35MFCIVA_1, I06SA,    43,  1,   1000,      5,2,19930307,0907,-47.5017,  29.9825, 4883,   1010.0,   3.0759,  34.4265,2,  34.4270,2,    194.0,2,  3.0068,    189.9,2,    55.43,2,    31.62,2,     2.28,2,    0.660,2,    0.332,4,   -999.0,9,   2224.4,2,   2326.0,2,  -999.0
    35MFCIVA_1, I06SA,    43,  1,   1200,      4,2,19930307,0907,-47.5017,  29.9825, 4883,   1210.5,   2.8111,  34.5119,2,  34.5120,2,    181.2,2,  2.7286,    180.2,2,    64.52,2,    32.13,2,     2.28,2,    0.343,2,    0.186,4,   -999.0,9,   2237.4,2,   2337.0,2,  -999.0
    35MFCIVA_1, I06SA,    43,  1,   1400,      3,2,19930307,0907,-47.5017,  29.9825, 4883,   1412.0,   2.6511,  34.5958,2,  34.5960,2,    179.0,2,  2.5543,    178.9,2,    69.48,2,    31.83,2,     2.23,2,    0.170,2,    0.092,4,   -999.0,9,   2240.9,2,   2344.0,2,  -999.0
    35MFCIVA_1, I06SA,    43,  1,   1600a,      2,2,19930307,0907,-47.5017,  29.9825, 4883,   1610.1,   2.5872,  34.6599,2,  34.6610,2,    182.0,2,  2.4749,    181.9,2,    71.13,2,    30.81,2,     2.13,2,    0.126,2,    0.066,4,   -999.0,9,   2239.0,2,   2345.0,2,  -999.0
    35MFCIVA_1, I06SA,    43,  1,   1600b,      1,2,19930307,0907,-47.5017,  29.9825, 4883,   1612.1,   2.5912,  34.6631,2,  34.6600,2,    181.4,2,  2.4787,    182.9,2,    71.13,2,    31.10,2,     2.13,2,    0.122,3,    0.037,4,   -999.0,9,   2232.0,2,   2346.0,2,  -999.0
    35MFCIVA_1, I06SA,    43,  2,     10,     12,2,19930307,1220,-47.4967,  30.0038, 4853,     10.9,   8.8490,  34.2679,2,  34.2650,2,    279.0,2,  8.8479,    283.9,2,     3.69,2,    13.72,2,     1.00,2,    3.905,2,    2.166,4,   -999.0,9,   2088.1,2,   2290.0,2,  -999.0
    35MFCIVA_1, I06SA,    43,  2,     20,     11,2,19930307,1220,-47.4967,  30.0038, 4853,     21.0,   8.8580,  34.2682,2,  34.2660,2,    282.8,2,  8.8558,    284.0,2,     3.69,2,    13.72,2,     1.01,2,    3.891,2,    2.176,4,   -999.0,9,   2088.4,2,   2291.0,2,  -999.0
    35MFCIVA_1, I06SA,    43,  2,     40,     10,2,19930307,1220,-47.4967,  30.0038, 4853,     39.2,   8.8410,  34.2677,2,  34.2640,2,    288.0,2,  8.8369,    284.9,2,     3.69,2,    13.87,2,     1.00,2,    3.897,2,    2.119,4,   -999.0,9,   2086.8,2,   2291.0,2,  -999.0
    35MFCIVA_1, I06SA,    43,  2,     60,      9,2,19930307,1220,-47.4967,  30.0038, 4853,     60.6,   8.7941,  34.2611,2,  34.2590,2,    289.3,2,  8.7877,    283.7,2,     3.69,2,    13.94,2,     1.03,2,    3.904,2,    2.162,4,   -999.0,9,   2088.5,2,   2291.0,2,  -999.0
    35MFCIVA_1, I06SA,    43,  2,     80,      8,2,19930307,1220,-47.4967,  30.0038, 4853,     79.7,   8.8191,  34.2764,2,  34.2690,2,    287.7,2,  8.8106,    282.2,2,     3.69,2,    13.87,2,     1.03,2,    3.899,2,    2.184,4,   -999.0,9,   2092.2,2,   2291.0,2,  -999.0
    35MFCIVA_1, I06SA,    43,  2,    100,      7,2,19930307,1220,-47.4967,  30.0038, 4853,    101.2,   8.6043,  34.4697,2,  34.4690,2,    268.7,2,  8.5937,    260.8,2,     6.97,2,    15.64,2,     1.12,2,    3.621,2,    2.012,4,   -999.0,9,   2113.6,2,   2296.0,2,  -999.0
    35MFCIVA_1, I06SA,    43,  2,    125,      6,2,19930307,1220,-47.4967,  30.0038, 4853,    124.8,   7.8659,  34.4514,2,  34.4640,2,    258.3,2,  7.8536,    246.2,3,     8.61,2,    17.04,2,     1.24,2,    3.576,2,    1.975,4,   -999.0,9,   2117.8,2,   2296.0,2,  -999.0
    35MFCIVA_1, I06SA,    43,  2,    150,      5,2,19930307,1220,-47.4967,  30.0038, 4853,    150.4,   7.2845,  34.3940,2,  34.3880,2,    267.8,2,  7.2703,    265.5,2,     9.02,2,    18.14,2,     1.34,2,    3.778,2,    2.079,4,   -999.0,9,   2119.2,2,   2290.0,2,  -999.0
    35MFCIVA_1, I06SA,    43,  2,    175,      4,2,19930307,1220,-47.4967,  30.0038, 4853,    174.5,   6.6890,  34.3312,2,  34.3350,2,    272.1,2,  6.6733,    267.1,2,     9.84,2,    19.32,2,     1.39,2,    3.747,2,    2.038,4,   -999.0,9,   2124.2,2,   2289.0,2,  -999.0
    35MFCIVA_1, I06SA,    43,  2,    200,      3,2,19930307,1220,-47.4967,  30.0038, 4853,    200.5,   6.3274,  34.2989,2,  34.2970,2,    274.1,2,  6.3099,    274.7,2,     9.43,2,    19.32,2,     1.40,2,    3.967,2,    2.148,4,   -999.0,9,   2122.8,2,   -999.0,9,  -999.0
    35MFCIVA_1, I06SA,    43,  2,    250a,      1,2,19930307,1220,-47.4967,  30.0038, 4853,    251.8,   5.8988,  34.2545,2,  34.2540,2,    274.9,2,  5.8775,    277.9,2,    10.25,2,    20.06,2,     1.41,2,    4.066,2,    2.174,4,   -999.0,9,   2126.0,2,   2286.0,2,  -999.0
    35MFCIVA_1, I06SA,    43,  2,    250b,      2,2,19930307,1220,-47.4967,  30.0038, 4853,    253.3,   5.8528,  34.2505,2,  34.2490,2,    275.1,2,  5.8315,    277.3,2,    10.25,2,    20.06,2,     1.46,2,    4.055,2,    2.184,4,   -999.0,9,   2127.0,2,   2288.0,2,  -999.0
    35MFCIVA_1, I06SA,    44,  1,   1100,     12,2,19930307,1605,-47.0067,  30.0018, 3615,   1108.5,   2.9130,  34.4417,2,  34.4410,2,    191.2,2,  2.8377,    188.4,2,    59.72,2,    31.90,2,     2.28,2,    0.585,2,    0.266,4,   -999.0,9,   2226.6,2,   -999.0,9,  -999.0
    35MFCIVA_1, I06SA,    44,  1,   1250,     11,2,19930307,1605,-47.0067,  30.0018, 3615,   1259.0,   2.7351,  34.5093,2,  34.5100,2,    184.7,2,  2.6496,    180.6,2,    66.82,2,    32.05,2,     2.28,2,    0.364,2,    0.135,4,   -999.0,9,   2235.3,2,   2335.0,2,  -999.0
    35MFCIVA_1, I06SA,    44,  1,   1500,     10,2,19930307,1605,-47.0067,  30.0018, 3615,   1513.7,   2.6631,  34.6167,2,  34.6160,2,    181.4,2,  2.5580,    178.5,2,    70.99,2,    31.01,2,     2.19,2,    0.139,2,    0.053,4,   -999.0,9,   2239.8,2,   2345.0,2,  -999.0
    35MFCIVA_1, I06SA,    44,  1,   1750,      9,2,19930307,1605,-47.0067,  30.0018, 3615,   1766.4,   2.5952,  34.7070,2,  34.7080,2,    187.0,2,  2.4696,    187.5,2,    71.40,2,    29.10,2,     2.05,2,    0.079,2,    0.000,4,   -999.0,9,   2235.6,2,   2350.0,2,  -999.0
    35MFCIVA_1, I06SA,    44,  1,   2000,      8,2,19930307,1605,-47.0067,  30.0018, 3615,   2019.7,   2.4942,  34.7553,2,  34.7580,2,    196.6,2,  2.3481,    196.5,2,    71.40,2,    27.78,2,     1.93,2,    0.071,2,    0.000,4,   -999.0,9,   2229.9,2,   2351.0,2,  -999.0
    35MFCIVA_1, I06SA,    44,  1,   2250,      7,2,19930307,1605,-47.0067,  30.0018, 3615,   2277.5,   2.3602,  34.7817,2,  34.7810,2,    203.9,2,  2.1933,    204.2,2,    72.65,2,    26.89,2,     1.87,2,    0.000,2,    0.000,4,   -999.0,9,   2227.0,2,   2352.0,2,  -999.0
    35MFCIVA_1, I06SA,    44,  1,   2500,      6,2,19930307,1605,-47.0067,  30.0018, 3615,   2530.4,   2.1743,  34.7911,2,  34.7920,2,    208.4,2,  1.9874,    210.3,2,    75.98,2,    26.45,2,     1.86,2,    0.045,2,    0.000,4,   -999.0,9,   2227.3,2,   2356.0,2,  -999.0
    35MFCIVA_1, I06SA,    44,  1,   2750a,      5,2,19930307,1605,-47.0067,  30.0018, 3615,   2781.4,   1.9184,  34.7801,2,  34.7780,2,    209.0,2,  1.7130,    209.6,2,    84.75,2,    27.33,2,     1.89,2,    0.072,2,    0.000,4,   -999.0,9,   2233.0,2,   2360.0,2,  -999.0
    35MFCIVA_1, I06SA,    44,  1,   2750b,      4,2,19930307,1605,-47.0067,  30.0018, 3615,   2786.0,   1.9274,  34.7818,2,  34.7800,2,    208.7,2,  1.7213,    210.0,2,    84.33,2,    27.26,2,     1.87,2,    0.072,2,    0.000,4,   -999.0,9,   2232.0,2,   2360.0,2,  -999.0
    35MFCIVA_1, I06SA,    44,  1,   3000,      3,2,19930307,1605,-47.0067,  30.0018, 3615,   3040.5,   1.7634,  34.7781,2,  34.7790,2,    213.1,2,  1.5364,    213.0,2,    87.25,2,    27.33,2,     1.87,2,    0.000,2,    0.000,4,   -999.0,9,   2233.4,2,   2364.0,2,  -999.0
    35MFCIVA_1, I06SA,    44,  1,   3250,      2,2,19930307,1605,-47.0067,  30.0018, 3615,   3293.6,   1.4835,  34.7542,2,  34.7550,2,    211.7,2,  1.2381,    210.8,2,    98.53,2,    28.36,2,     1.98,2,    0.065,2,    0.029,4,   -999.0,9,   2241.1,2,   2367.0,2,  -999.0
    35MFCIVA_1, I06SA,    44,  1,   F-20,      1,2,19930307,1605,-47.0067,  30.0018, 3615,   3703.4,   1.1605,  34.7319,2,  34.7320,2,    213.4,2,  0.8820,    212.6,2,   109.38,2,    29.24,2,     2.02,2,    0.047,2,    0.000,4,   -999.0,9,   2246.2,2,   2370.0,2,  -999.0
    35MFCIVA_1, I06SA,    44,  2,    300,     12,2,19930307,1910,-46.9962,  30.0072, 3592,    300.5,   5.8568,  34.2432,2,  34.2420,2,    266.6,2,  5.8314,    270.4,2,    10.92,2,    21.30,2,     1.47,2,    3.843,2,    2.022,4,   -999.0,9,   2127.9,2,   -999.0,9,  -999.0
    35MFCIVA_1, I06SA,    44,  2,    350,     11,2,19930307,1910,-46.9962,  30.0072, 3592,    352.0,   5.7959,  34.2792,2,  34.2780,2,    252.0,2,  5.7662,    255.6,2,    13.34,2,    22.63,2,     1.55,2,    3.379,2,    1.796,4,   -999.0,9,   2136.6,2,   2287.0,2,  -999.0
    35MFCIVA_1, I06SA,    44,  2,    400,     10,2,19930307,1910,-46.9962,  30.0072, 3592,    402.3,   5.0905,  34.2225,2,  34.2210,2,    257.1,2,  5.0586,    260.8,2,    14.15,2,    23.82,2,     1.65,2,    4.063,2,    1.895,4,   -999.0,9,   2141.4,2,   -999.0,9,  -999.0
    35MFCIVA_1, I06SA,    44,  2,    450,      9,2,19930307,1910,-46.9962,  30.0072, 3592,    451.4,   4.9056,  34.2312,2,  34.2290,2,    251.9,2,  4.8704,    256.3,2,    15.36,2,    25.15,2,     1.72,2,    3.283,2,    1.700,4,   -999.0,9,   2148.3,2,   2286.0,2,  -999.0
    35MFCIVA_1, I06SA,    44,  2,    500,      8,2,19930307,1910,-46.9962,  30.0072, 3592,    503.1,   5.0885,  34.3093,2,  34.3070,2,    231.8,2,  5.0482,    230.3,2,    21.02,2,    26.33,2,     1.80,2,    2.344,2,    1.169,4,   -999.0,9,   2161.2,2,   -999.0,9,  -999.0
    35MFCIVA_1, I06SA,    44,  2,    550,      7,2,19930307,1910,-46.9962,  30.0072, 3592,    551.8,   4.6628,  34.2930,2,  34.2940,2,    231.4,2,  4.6203,    230.2,2,    23.85,2,    27.22,2,     1.86,2,    2.189,2,    1.094,4,   -999.0,9,   2165.9,2,   2300.0,2,  -999.0
    35MFCIVA_1, I06SA,    44,  2,    600,      6,2,19930307,1910,-46.9962,  30.0072, 3592,    603.9,   4.4470,  34.2958,2,  34.2940,2,    226.4,2,  4.4012,    228.9,2,    26.28,2,    27.73,2,     1.90,2,    2.031,2,    1.013,4,   -999.0,9,   2175.0,2,   2301.0,2,  -999.0
    35MFCIVA_1, I06SA,    44,  2,    700,      5,2,19930307,1910,-46.9962,  30.0072, 3592,    703.5,   3.7725,  34.2772,2,  34.2740,2,    230.8,2,  3.7224,    229.3,2,    31.53,2,    29.06,2,     2.01,2,    1.877,2,    0.942,4,   -999.0,9,   2181.7,2,   2305.0,2,  -999.0
    35MFCIVA_1, I06SA,    44,  2,    800,      4,2,19930307,1910,-46.9962,  30.0072, 3592,    804.9,   3.1489,  34.2774,2,  34.2760,2,    228.7,2,  3.0948,    225.9,2,    37.59,2,    30.39,2,     2.08,2,    1.644,2,    0.786,4,   -999.0,9,   2193.7,2,   2309.0,2,  -999.0
    35MFCIVA_1, I06SA,    44,  2,    900,      3,2,19930307,1910,-46.9962,  30.0072, 3592,    907.1,   3.2128,  34.3642,2,  34.3640,2,    206.0,2,  3.1506,    203.5,2,    47.29,2,    31.35,2,     2.17,2,    1.023,2,    0.489,4,   -999.0,9,   2209.7,2,   2318.0,2,  -999.0
    35MFCIVA_1, I06SA,    44,  2,   1000a,      2,2,19930307,1910,-46.9962,  30.0072, 3592,   1010.1,   3.0359,  34.4035,2,  34.4020,2,    196.0,2,  2.9672,    194.7,2,    53.35,2,    31.94,2,     2.21,2,    0.794,2,    0.384,4,   -999.0,9,   2218.0,2,   2328.0,2,  -999.0
    35MFCIVA_1, I06SA,    44,  2,   1000b,      1,2,19930307,1910,-46.9962,  30.0072, 3592,   1010.3,   3.0369,  34.4036,2,  34.4030,2,    196.0,2,  2.9681,    194.4,2,    53.35,2,    31.65,2,     2.19,2,    0.777,2,    0.353,4,   -999.0,9,   2219.0,2,   2327.0,2,  -999.0
    35MFCIVA_1, I06SA,    44,  3,     10,     12,2,19930307,2038,-46.9980,  30.0028, 3600,     10.5,  10.1619,  34.3512,2,  34.3480,2,    275.0,2, 10.1607,    277.7,2,     2.86,2,    10.56,2,     0.81,2,    3.707,2,    2.029,4,   -999.0,9,   2072.8,2,   2292.0,2,  -999.0
    35MFCIVA_1, I06SA,    44,  3,     20,     11,2,19930307,2038,-46.9980,  30.0028, 3600,     20.0,  10.1609,  34.3489,2,  34.3490,2,    272.8,2, 10.1586,    281.0,2,     3.27,2,    10.56,2,     0.80,2,    3.709,2,    2.009,4,   -999.0,9,   2073.8,2,   2292.0,2,  -999.0
    35MFCIVA_1, I06SA,    44,  3,     40,     10,2,19930307,2038,-46.9980,  30.0028, 3600,     38.6,  10.1539,  34.3471,2,  34.3440,2,    276.4,2, 10.1494,    276.9,2,     3.27,2,    10.71,2,     0.80,2,    3.676,2,    2.022,4,   -999.0,9,   2070.6,2,   2295.0,2,  -999.0
    35MFCIVA_1, I06SA,    44,  3,     60,      9,2,19930307,2038,-46.9980,  30.0028, 3600,     58.6,  10.1389,  34.3452,2,  34.3430,2,    271.3,2, 10.1321,    276.7,2,     3.27,2,    10.71,2,     0.83,2,    3.692,2,    2.022,4,   -999.0,9,   2073.6,2,   2293.0,2,  -999.0
    35MFCIVA_1, I06SA,    44,  3,     80,      8,2,19930307,2038,-46.9980,  30.0028, 3600,     80.3,   9.6303,  34.4334,2,  34.4310,2,    271.9,2,  9.6214,    272.8,2,     4.49,2,    11.44,2,     0.94,2,    3.805,2,    2.063,4,   -999.0,9,   2087.2,2,   2296.0,2,  -999.0
    35MFCIVA_1, I06SA,    44,  3,    100,      7,2,19930307,2038,-46.9980,  30.0028, 3600,     99.9,   9.0339,  34.5023,2,  34.4990,2,    264.5,2,  9.0231,    263.8,2,     6.94,2,    14.08,2,     1.14,2,    3.761,2,    2.036,4,   -999.0,9,   2101.5,2,   2295.0,2,  -999.0
    35MFCIVA_1, I06SA,    44,  3,    125,      6,2,19930307,2038,-46.9980,  30.0028, 3600,    125.7,   8.0877,  34.4129,2,  34.4110,2,    265.4,2,  8.0751,    266.8,2,     8.17,2,    16.28,2,     1.18,2,    3.864,2,    2.064,4,   -999.0,9,   2103.8,2,   2292.0,2,  -999.0
    35MFCIVA_1, I06SA,    44,  3,    150,      5,2,19930307,2038,-46.9980,  30.0028, 3600,    149.9,   7.5902,  34.3814,2,  34.3840,2,    266.3,2,  7.5757,    267.3,2,     8.98,2,    17.08,2,     1.21,2,    3.861,2,    2.051,4,   -999.0,9,   2111.6,2,   2291.0,2,  -999.0
    35MFCIVA_1, I06SA,    44,  3,    175,      4,2,19930307,2038,-46.9980,  30.0028, 3600,    174.8,   7.1316,  34.3505,2,  34.3480,2,    265.7,2,  7.1153,    267.4,2,     9.80,2,    18.25,2,     1.28,2,    3.842,2,    2.055,4,   -999.0,9,   2115.1,2,   2285.0,2,  -999.0
    35MFCIVA_1, I06SA,    44,  3,    200,      3,2,19930307,2038,-46.9980,  30.0028, 3600,    198.7,   6.7979,  34.3088,2,  34.3060,2,    266.6,2,  6.7798,    269.6,2,    10.62,2,    18.84,2,     1.31,2,    3.901,2,    2.097,4,   -999.0,9,   2118.7,2,   2283.0,2,  -999.0
    35MFCIVA_1, I06SA,    44,  3,    250a,      2,2,19930307,2038,-46.9980,  30.0028, 3600,    252.8,   6.2215,  34.2689,2,  34.2660,2,    265.0,2,  6.1995,    269.5,2,    11.02,2,    20.23,2,     1.40,2,    3.839,2,    2.049,4,   -999.0,9,   2124.1,2,   2292.0,2,  -999.0
    35MFCIVA_1, I06SA,    44,  3,    250b,      1,2,19930307,2038,-46.9980,  30.0028, 3600,    252.8,   6.2225,  34.2679,2,  34.2660,2,    265.0,2,  6.2005,    269.2,2,    10.62,2,    20.23,2,     1.38,2,    3.848,2,    2.036,4,   -999.0,9,   2123.9,2,   2291.0,2,  -999.0