BOTTLE,20220922CCHSIOAMB
EXPOCODE,SECT_ID,STNNBR,CASTNO,SAMPNO,BTLNBR,BTLNBR_FLAG_W,DATE,TIME,LATITUDE,LONGITUDE,DEPTH,CTDPRS,CTDTMP,CTDSAL,CTDSAL_FLAG_W,SALNTY,SALNTY_FLAG_W,CTDOXY,CTDOXY_FLAG_W,THETA,OXYGEN,OXYGEN_FLAG_W,SILCAT,SILCAT_FLAG_W,NITRAT,NITRAT_FLAG_W,PHSPHT,PHSPHT_FLAG_W,CFC-11,CFC-11_FLAG_W,CFC-12,CFC-12_FLAG_W,DELC14,DELC14_FLAG_W,TCARBN,TCARBN_FLAG_W,ALKALI,ALKALI_FLAG_W,C14ERR
,,,,,,,,,,,,DBAR,ITS-90,PSS-78,,PSS-78,,UMOL/KG,,DEG C,UMOL/KG,,UMOL/KG,,UMOL/KG,,UMOL/KG,,PMOL/KG,,PMOL/KG,,/MILLE,,UMOL/KG,,UMOL/KG,,/MILLE
    35MFCIVA_1, I06SA,    37,  1,    325,     12,2,19930305,0703,-49.9993,  30.0062, 3671,    327.5,   2.1063,  34.2786,2,  34.2750,2,    228.1,2,  2.0883,    226.7,2,    49.51,2,    33.44,2,     2.14,2,    2.297,2,    1.249,3,   -999.0,9,   2211.8,2,   2314.0,2,  -999.0
    35MFCIVA_1, I06SA,    37,  1,    400,     11,2,19930305,0703,-49.9993,  30.0062, 3671,    404.1,   2.1793,  34.3505,2,  34.3540,2,    207.2,2,  2.1566,    205.6,2,    59.50,2,    34.42,2,     2.27,2,    1.590,2,    0.809,2,   -999.0,9,   2229.4,2,   2323.0,2,  -999.0
    35MFCIVA_1, I06SA,    37,  1,    500,     10,2,19930305,0703,-49.9993,  30.0062, 3671,    505.6,   2.2273,  34.4305,2,  34.4370,2,    188.3,2,  2.1981,    187.8,2,    69.04,2,    35.10,2,     2.25,2,    1.025,2,    0.506,2,   -999.0,9,   2240.9,2,   2332.0,2,  -999.0
    35MFCIVA_1, I06SA,    37,  1,    600,      9,2,19930305,0703,-49.9993,  30.0062, 3671,    603.5,   2.2763,  34.4965,2,  34.4980,2,    180.5,2,  2.2407,    178.9,2,    73.58,2,    35.10,2,     2.25,2,    0.716,2,    0.364,2,   -999.0,9,   2249.0,2,   2337.0,2,  -999.0
    35MFCIVA_1, I06SA,    37,  1,    700,      8,2,19930305,0703,-49.9993,  30.0062, 3671,    702.3,   2.3103,  34.5547,2,  34.5500,2,    177.1,2,  2.2680,    175.3,2,    77.21,2,    34.72,2,     2.24,2,    0.527,2,    0.241,2,   -999.0,9,   2252.5,2,   2342.0,2,  -999.0
    35MFCIVA_1, I06SA,    37,  1,    800,      7,2,19930305,0703,-49.9993,  30.0062, 3671,    804.9,   2.4742,  34.6237,2,  34.6230,2,    178.6,2,  2.4240,    179.1,2,    74.48,2,    33.28,2,     2.11,2,    0.226,2,    0.119,2,   -999.0,9,   2247.4,2,   2344.0,2,  -999.0
    35MFCIVA_1, I06SA,    37,  1,    900,      6,2,19930305,0703,-49.9993,  30.0062, 3671,    906.3,   2.4782,  34.6637,2,  34.6640,2,    181.6,2,  2.4208,    184.2,2,    74.48,2,    32.52,2,     2.07,2,    0.149,2,    0.135,3,   -999.0,9,   2246.9,2,   2348.0,2,  -999.0
    35MFCIVA_1, I06SA,    37,  1,   1000,      5,2,19930305,0703,-49.9993,  30.0062, 3671,   1010.6,   2.4272,  34.6816,2,  34.6810,2,    183.3,2,  2.3628,    182.2,2,    76.29,2,    32.36,2,     2.05,2,    0.142,2,    0.061,2,   -999.0,9,   2250.4,2,   2348.0,2,  -999.0
    35MFCIVA_1, I06SA,    37,  1,   1200,      4,2,19930305,0703,-49.9993,  30.0062, 3671,   1211.8,   2.2433,  34.7171,2,  34.7150,2,    184.8,2,  2.1657,    186.0,2,    81.28,2,    31.75,2,     1.99,2,    0.127,2,    0.067,2,   -999.0,9,   2250.9,2,   2352.0,2,  -999.0
    35MFCIVA_1, I06SA,    37,  1,   1400,      3,2,19930305,0703,-49.9993,  30.0062, 3671,   1412.9,   2.1263,  34.7408,2,  34.7410,2,    189.9,2,  2.0348,    192.3,2,    83.55,2,    30.99,2,     1.94,2,    0.156,2,    0.000,2,   -999.0,9,   2247.4,2,   2354.0,2,  -999.0
    35MFCIVA_1, I06SA,    37,  1,   1600a,      2,2,19930305,0703,-49.9993,  30.0062, 3671,   1612.7,   1.9324,  34.7494,2,  34.7500,2,    194.9,2,  1.8278,    196.4,2,    89.00,2,    30.84,2,     1.94,2,    0.143,2,    0.000,2,   -999.0,9,   2249.0,2,   2359.0,2,  -999.0
    35MFCIVA_1, I06SA,    37,  1,   1600b,      1,2,19930305,0703,-49.9993,  30.0062, 3671,   1616.5,   1.9244,  34.7487,2,  34.7490,2,    193.4,2,  1.8196,    196.4,2,    89.00,2,    30.92,2,     1.92,2,    0.125,2,    0.000,2,   -999.0,9,   2250.0,2,   2356.0,2,  -999.0
    35MFCIVA_1, I06SA,    37,  2,     10,     12,2,19930305,0916,-50.0227,  30.0112, 4062,     10.0,   4.0143,  33.8728,2,  33.8740,2,    300.5,2,  4.0137,    321.2,2,     6.21,2,    22.26,2,     1.36,2,    5.432,2,    2.875,3,   -999.0,9,   2128.0,2,   2301.0,2,  -999.0
    35MFCIVA_1, I06SA,    37,  2,     20,     11,2,19930305,0916,-50.0227,  30.0112, 4062,     20.5,   4.0133,  33.8742,2,  33.8730,2,    305.3,2,  4.0120,    320.9,2,     6.21,2,    22.26,2,     1.36,2,    5.423,2,    2.888,2,   -999.0,9,   2127.7,2,   2301.0,2,  -999.0
    35MFCIVA_1, I06SA,    37,  2,     40,     10,2,19930305,0916,-50.0227,  30.0112, 4062,     39.0,   4.0073,  33.8741,2,  33.8730,2,    307.3,2,  4.0047,    321.1,2,     6.21,2,    22.26,2,     1.35,2,    5.409,2,    2.910,3,   -999.0,9,   2127.9,2,   2300.0,2,  -999.0
    35MFCIVA_1, I06SA,    37,  2,     60,      9,2,19930305,0916,-50.0227,  30.0112, 4062,     59.2,   3.9854,  33.8743,2,  33.8730,2,    306.5,2,  3.9814,    320.9,2,     6.65,2,    22.26,2,     1.35,2,    5.436,2,    2.827,3,   -999.0,9,   2130.0,2,   2298.0,2,  -999.0
    35MFCIVA_1, I06SA,    37,  2,     80,      8,2,19930305,0916,-50.0227,  30.0112, 4062,     81.0,   3.8075,  33.8793,2,  33.8790,2,    310.0,2,  3.8021,    321.0,2,     7.98,2,    22.57,2,     1.41,2,    5.491,2,    2.859,2,   -999.0,9,   2134.0,2,   2300.0,2,  -999.0
    35MFCIVA_1, I06SA,    37,  2,    100,      7,2,19930305,0916,-50.0227,  30.0112, 4062,    101.2,   2.4132,  33.9389,2,  33.9340,2,    304.7,2,  2.4077,    320.8,2,    16.84,2,    24.41,2,     1.71,2,    5.828,2,    3.025,3,   -999.0,9,   2153.1,2,   2302.0,2,  -999.0
    35MFCIVA_1, I06SA,    37,  2,    125,      6,2,19930305,0916,-50.0227,  30.0112, 4062,    127.0,   1.2555,  33.9629,2,  33.9720,2,    310.6,2,  1.2497,    325.2,2,    26.15,2,    27.70,2,     1.87,2,    6.049,2,    3.095,3,   -999.0,9,   2164.1,2,   2300.0,2,  -999.0
    35MFCIVA_1, I06SA,    37,  2,    150,      5,2,19930305,0916,-50.0227,  30.0112, 4062,    152.0,   0.9895,  33.9841,2,  33.9830,2,    314.9,2,  0.9828,    327.7,2,    27.92,2,    28.24,2,     1.87,2,    6.104,2,    3.135,3,   -999.0,9,   2165.9,2,   2300.0,2,  -999.0
    35MFCIVA_1, I06SA,    37,  2,    175,      4,2,19930305,0916,-50.0227,  30.0112, 4062,    176.7,   0.8614,  33.9975,2,  33.9980,2,    310.4,2,  0.8539,    325.5,2,    30.58,2,    28.47,2,     1.87,2,    5.985,3,    3.115,2,   -999.0,9,   2170.6,2,   2302.0,2,  -999.0
    35MFCIVA_1, I06SA,    37,  2,    200,      3,2,19930305,0916,-50.0227,  30.0112, 4062,    203.8,   0.9795,  34.0398,2,  34.0420,2,    306.4,2,  0.9705,    310.2,2,    32.80,2,    29.31,2,     1.91,2,    5.363,2,    2.806,3,   -999.0,9,   2173.5,2,   2301.0,2,  -999.0
    35MFCIVA_1, I06SA,    37,  2,    250a,      2,2,19930305,0916,-50.0227,  30.0112, 4062,    249.2,   0.9665,  34.0807,2,  34.0960,2,    274.4,2,  0.9554,    291.2,2,    38.56,2,    30.46,2,     1.96,2,    4.727,2,    2.471,3,   -999.0,9,   2184.6,2,   2304.0,2,  -999.0
    35MFCIVA_1, I06SA,    37,  2,    250b,      1,2,19930305,0916,-50.0227,  30.0112, 4062,    250.2,   0.9975,  34.0886,2,  34.0920,2,    274.5,2,  0.9863,    292.5,2,    37.67,2,    30.39,2,     1.95,2,    4.726,2,    2.519,3,   -999.0,9,   2185.5,2,   2304.0,2,  -999.0
    35MFCIVA_1, I06SA,    38,  1,   1500,     12,2,19930305,1314,-49.6770,  30.0230, 5484,   2021.7,   1.8224,  34.7591,2,  34.7590,2,    198.7,2,  1.6864,    202.5,2,    89.56,2,    30.35,2,     1.97,2,    0.070,2,    0.000,4,   -999.0,9,   2242.8,2,   2369.0,2,  -999.0
    35MFCIVA_1, I06SA,    38,  1,   1750,     11,2,19930305,1314,-49.6770,  30.0230, 5484,   2277.1,   1.5524,  34.7502,2,  34.7480,2,    201.2,2,  1.3994,    204.4,2,    98.25,2,    30.65,2,     1.99,2,    0.088,2,    0.000,4,   -999.0,9,   2246.7,2,   2373.0,2,  -999.0
    35MFCIVA_1, I06SA,    38,  1,   2000,     10,2,19930305,1314,-49.6770,  30.0230, 5484,   2535.1,   1.2845,  34.7355,2,  34.7350,2,    202.4,2,  1.1142,    206.7,2,   105.64,2,    31.27,2,     2.06,2,    0.079,2,    0.000,4,   -158.0,2,   2250.9,2,   2372.0,2,     5.0
    35MFCIVA_1, I06SA,    38,  1,   2250,      9,2,19930305,1314,-49.6770,  30.0230, 5484,   3043.9,   0.7894,  34.7034,2,  34.7030,2,    207.1,2,  0.5843,    209.8,2,   120.86,2,    32.50,2,     2.15,2,    0.129,2,    0.108,4,   -999.0,9,   2261.3,2,   2368.0,2,  -999.0
    35MFCIVA_1, I06SA,    38,  1,   2500,      8,2,19930305,1314,-49.6770,  30.0230, 5484,   3542.7,   0.5144,  34.6891,2,  34.6880,2,    212.6,2,  0.2691,    215.1,2,   129.12,2,    32.96,2,     2.19,2,    0.149,2,    0.086,4,   -999.0,9,   2260.1,2,   2369.0,2,  -999.0
    35MFCIVA_1, I06SA,    38,  1,   3000,      7,2,19930305,1314,-49.6770,  30.0230, 5484,   4067.5,   0.1813,  34.6732,2,  34.6720,2,    222.0,2, -0.1069,    225.1,2,   132.16,2,    33.04,2,     2.20,2,    0.244,2,    0.120,4,   -156.0,2,   2257.0,2,   2367.0,2,     5.0
    35MFCIVA_1, I06SA,    38,  1,   3500,      6,2,19930305,1314,-49.6770,  30.0230, 5484,   4067.5,   0.1813,  34.6732,2,  34.6710,2,    222.0,2, -0.1069,    224.8,2,   132.16,2,    33.04,2,     2.20,2,    0.159,2,    0.102,4,   -999.0,9,   2258.0,2,   -999.0,9,  -999.0
    35MFCIVA_1, I06SA,    38,  1,   4000a,      5,2,19930305,1314,-49.6770,  30.0230, 5484,   4569.0,  -0.0408,  34.6622,2,  34.6610,2,    229.9,2, -0.3746,    233.7,2,   133.90,2,    33.03,2,     2.20,2,    0.262,2,    0.119,4,   -999.0,9,   2251.8,2,   2365.0,2,  -999.0
    35MFCIVA_1, I06SA,    38,  1,   4000b,      4,2,19930305,1314,-49.6770,  30.0230, 5484,   5085.2,  -0.0729,  34.6591,2,  34.6580,2,    237.1,2, -0.4628,    236.8,2,   134.33,2,    32.88,2,     2.19,2,    0.202,2,    0.105,4,   -999.0,9,   2254.0,2,   2366.0,2,  -999.0
    35MFCIVA_1, I06SA,    38,  1,   4200,      3,2,19930305,1314,-49.6770,  30.0230, 5484,   5292.8,  -0.0689,  34.6559,2,  34.6570,2,    239.2,2, -0.4829,    237.6,2,   134.77,2,    32.88,2,     2.20,2,    0.223,2,    0.110,4,   -999.0,9,   2253.7,2,   2364.0,2,  -999.0
    35MFCIVA_1, I06SA,    38,  1,   4400,      2,2,19930305,1314,-49.6770,  30.0230, 5484,   5292.8,  -0.0689,  34.6559,2,  34.6560,2,    239.2,2, -0.4829,    237.9,2,   135.20,2,    32.88,2,     2.21,2,    0.209,2,    0.080,4,   -153.0,2,   2253.4,2,   -999.0,9,     5.0
    35MFCIVA_1, I06SA,    38,  1,   F-20,      1,2,19930305,1314,-49.6770,  30.0230, 5484,   5583.4,  -0.0649,  34.6563,2,  34.6560,2,    240.9,2, -0.5135,    239.1,2,   134.77,2,    32.88,2,     2.19,2,    0.236,2,    0.128,4,   -999.0,9,   2242.1,2,   2366.0,2,  -999.0
    35MFCIVA_1, I06SA,    38,  2,    325,     12,2,19930305,1644,-49.6710,  30.0020, 5476,    328.5,   2.6421,  34.2003,2,  34.1990,2,    245.3,2,  2.6227,    249.9,2,    34.17,2,    31.70,2,     2.02,2,    2.910,2,    1.590,4,    -61.0,2,   2186.4,2,   2303.0,2,     6.0
    35MFCIVA_1, I06SA,    38,  2,    400,     11,2,19930305,1644,-49.6710,  30.0020, 5476,    403.3,   2.4842,  34.2368,2,  34.2350,2,    234.4,2,  2.4606,    237.8,2,    39.86,2,    32.69,2,     2.08,2,    2.460,2,    1.376,4,   -999.0,9,   2197.5,2,   2310.0,2,  -999.0
    35MFCIVA_1, I06SA,    38,  2,    500,     10,2,19930305,1644,-49.6710,  30.0020, 5476,    502.9,   2.3722,  34.3047,2,  34.3030,2,    216.2,2,  2.3428,    217.4,2,    49.49,2,    33.90,2,     2.18,2,    1.751,2,    0.966,4,   -999.0,9,   2209.4,2,   2316.0,2,  -999.0
    35MFCIVA_1, I06SA,    38,  2,    600,      9,2,19930305,1644,-49.6710,  30.0020, 5476,    582.3,   2.3782,  34.3625,2,  34.3600,2,    205.0,2,  2.3437,    203.4,2,    56.50,2,    34.51,2,     2.23,2,    1.320,2,    0.683,4,   -100.0,2,   2227.7,2,   2322.0,2,     5.0
    35MFCIVA_1, I06SA,    38,  2,    700,      8,2,19930305,1644,-49.6710,  30.0020, 5476,    704.0,   2.4872,  34.4561,2,  34.4540,2,    186.4,2,  2.4440,    185.9,2,    64.81,2,    34.81,2,     2.23,2,    0.693,2,    0.354,4,   -999.0,9,   2238.1,2,   2333.0,2,  -999.0
    35MFCIVA_1, I06SA,    38,  2,    800,      7,2,19930305,1644,-49.6710,  30.0020, 5476,    803.8,   2.4932,  34.5265,2,  34.5250,2,    181.9,2,  2.4431,    179.3,2,    70.07,2,    34.58,2,     2.23,2,    0.506,2,    0.263,4,   -130.0,2,   2244.6,2,   2340.0,2,     5.0
    35MFCIVA_1, I06SA,    38,  2,    900,      6,2,19930305,1644,-49.6710,  30.0020, 5476,    907.4,   2.4752,  34.5693,2,  34.5680,2,    178.6,2,  2.4179,    177.4,2,    72.25,2,    34.28,2,     2.18,2,    0.345,2,    0.166,4,   -999.0,9,   2245.4,2,   2341.0,2,  -999.0
    35MFCIVA_1, I06SA,    38,  2,   1000,      5,2,19930305,1644,-49.6710,  30.0020, 5476,   1009.0,   2.4402,  34.6144,2,  34.6130,2,    178.0,2,  2.3759,    177.1,2,    75.32,2,    33.74,2,     2.13,2,    0.222,3,    0.093,4,   -141.0,2,   2247.5,2,   2346.0,2,     8.0
    35MFCIVA_1, I06SA,    38,  2,   1100,      4,4,19930305,1644,-49.6710,  30.0020, 5476,   1108.4,   2.4632,  34.6529,2,-999.0000,9,    179.7,3,  2.3914,   -999.0,9,  -999.00,5,  -999.00,5,  -999.00,5, -999.000,9, -999.000,9,   -999.0,9,   -999.0,9,   -999.0,9,  -999.0
    35MFCIVA_1, I06SA,    38,  2,   1200,      3,2,19930305,1644,-49.6710,  30.0020, 5476,   1211.8,   2.4502,  34.6876,2,  34.6850,2,    182.3,2,  2.3707,    183.4,2,    75.31,2,    32.22,2,     1.99,2,    0.157,2,    0.000,4,   -131.0,2,   2244.0,2,   2349.0,2,     5.0
    35MFCIVA_1, I06SA,    38,  2,   1350a,      2,2,19930305,1644,-49.6710,  30.0020, 5476,   1374.8,   2.4102,  34.7257,2,  34.7230,2,    186.5,2,  2.3186,    188.9,2,    75.31,2,    31.15,2,     1.96,2,    0.078,2,    0.070,4,   -999.0,9,   2240.0,2,   2351.0,2,  -999.0
    35MFCIVA_1, I06SA,    38,  2,   1350b,      1,2,19930305,1644,-49.6710,  30.0020, 5476,   1374.8,   2.4102,  34.7257,2,  34.7240,2,    186.5,2,  2.3186,    189.0,2,    75.31,2,    31.07,2,     1.95,2,    0.088,2,    0.000,4,   -999.0,9,   2242.0,2,   2354.0,2,  -999.0
    35MFCIVA_1, I06SA,    38,  3,     10,     12,2,19930305,1832,-49.6763,  30.0242, 5514,      9.4,   4.5369,  33.8755,2,  33.8740,2,    359.1,2,  4.5363,    314.9,2,     3.03,2,    21.90,2,     1.28,2,    5.207,2,    3.000,4,    -52.0,2,   2122.1,2,   2293.0,2,     5.0
    35MFCIVA_1, I06SA,    38,  3,     20,     11,2,19930305,1832,-49.6763,  30.0242, 5514,     19.0,   4.5379,  33.8764,2,  33.8740,2,    350.1,2,  4.5366,    315.4,2,     3.89,2,    21.90,2,     1.31,2,    5.240,2,    2.943,4,    -50.0,2,   2119.7,2,   2295.0,2,     5.0
    35MFCIVA_1, I06SA,    38,  3,     40,     10,2,19930305,1832,-49.6763,  30.0242, 5514,     38.5,   4.5329,  33.8761,2,  33.8760,2,    330.6,2,  4.5302,    316.0,2,     5.19,2,    21.82,2,     1.21,2,    5.215,2,    2.930,4,    -47.0,2,   2120.5,2,   2295.0,2,     5.0
    35MFCIVA_1, I06SA,    38,  3,     60,      9,2,19930305,1832,-49.6763,  30.0242, 5514,     59.5,   4.0653,  33.9100,2,  33.9050,2,    320.0,2,  4.0613,    311.5,2,     6.91,2,    23.10,2,     1.39,2,    5.247,2,    2.969,4,   -999.0,9,   2129.0,2,   2289.0,2,  -999.0
    35MFCIVA_1, I06SA,    38,  3,     80,      8,2,19930305,1832,-49.6763,  30.0242, 5514,     79.7,   3.1439,  33.9829,2,  33.9820,2,    315.3,2,  3.1390,    304.3,2,    15.12,2,    26.19,2,     1.66,2,    5.217,2,    2.895,4,    -27.0,2,   2141.2,2,   2285.0,2,     5.0
    35MFCIVA_1, I06SA,    38,  3,    100,      7,2,19930305,1832,-49.6763,  30.0242, 5514,     99.7,   2.9690,  33.9921,2,  33.9910,2,    308.5,2,  2.9630,    303.7,2,    16.42,2,    26.65,2,     1.61,2,    5.145,2,    2.850,4,   -999.0,9,   2143.3,2,   2288.0,2,  -999.0
    35MFCIVA_1, I06SA,    38,  3,    125,      6,2,19930305,1832,-49.6763,  30.0242, 5514,    127.0,   2.7061,  34.0118,2,  34.0110,2,    305.0,2,  2.6988,    300.5,2,    18.15,2,    27.40,2,     1.76,2,    5.035,2,    2.793,4,    -45.0,2,   2151.3,2,   2291.0,2,     5.0
    35MFCIVA_1, I06SA,    38,  3,    150,      5,2,19930305,1832,-49.6763,  30.0242, 5514,    149.8,   3.1199,  34.0975,2,  34.0840,2,    296.6,2,  3.1107,    286.5,2,    19.44,2,    27.93,2,     1.71,2,    4.398,2,    2.479,4,   -999.0,9,   2154.3,2,   2290.0,2,  -999.0
    35MFCIVA_1, I06SA,    38,  3,    175,      4,2,19930305,1832,-49.6763,  30.0242, 5514,    174.5,   3.1799,  34.1276,2,  34.1250,2,    278.3,2,  3.1690,    277.3,2,    20.31,2,    28.68,2,     1.77,2,    4.043,2,    2.245,4,    -31.0,2,   2160.6,2,   2292.0,2,     6.0
    35MFCIVA_1, I06SA,    38,  3,    200,      3,2,19930305,1832,-49.6763,  30.0242, 5514,    201.2,   3.0999,  34.1539,2,  34.1460,2,    272.1,2,  3.0875,    272.0,2,    23.33,2,    29.28,2,     1.81,2, -999.000,5, -999.000,5,   -999.0,9,   2166.2,2,   2295.0,2,  -999.0
    35MFCIVA_1, I06SA,    38,  3,    250a,      2,2,19930305,1832,-49.6763,  30.0242, 5514,    252.9,   2.8251,  34.1659,2,  34.1630,2,    264.1,2,  2.8099,    264.9,2,    27.22,2,    30.19,2,     1.86,2,    3.483,2,    1.893,4,   -999.0,9,   2173.0,2,   2296.0,2,  -999.0
    35MFCIVA_1, I06SA,    38,  3,    250b,      1,2,19930305,1832,-49.6763,  30.0242, 5514,    252.9,   2.8211,  34.1652,2,  34.1630,2,    264.1,2,  2.8059,    265.0,2,    26.78,2,    30.19,2,     1.84,2,    3.532,2,    1.882,4,   -999.0,9,   2175.0,2,   2298.0,2,  -999.0