BOTTLE,20220922CCHSIOAMB
EXPOCODE,SECT_ID,STNNBR,CASTNO,SAMPNO,BTLNBR,BTLNBR_FLAG_W,DATE,TIME,LATITUDE,LONGITUDE,DEPTH,CTDPRS,CTDTMP,CTDSAL,CTDSAL_FLAG_W,SALNTY,SALNTY_FLAG_W,CTDOXY,CTDOXY_FLAG_W,THETA,OXYGEN,OXYGEN_FLAG_W,SILCAT,SILCAT_FLAG_W,NITRAT,NITRAT_FLAG_W,PHSPHT,PHSPHT_FLAG_W,CFC-11,CFC-11_FLAG_W,CFC-12,CFC-12_FLAG_W,DELC14,DELC14_FLAG_W,TCARBN,TCARBN_FLAG_W,ALKALI,ALKALI_FLAG_W,C14ERR
,,,,,,,,,,,,DBAR,ITS-90,PSS-78,,PSS-78,,UMOL/KG,,DEG C,UMOL/KG,,UMOL/KG,,UMOL/KG,,UMOL/KG,,PMOL/KG,,PMOL/KG,,/MILLE,,UMOL/KG,,UMOL/KG,,/MILLE
    35MFCIVA_1, I06SA,     8,  3,     10,     12,2,19930207,0549,-67.0000,  29.9825, 4148,     10.7,   0.6464,  33.8657,2,  33.8660,2,    355.8,2,  0.6460,    347.3,2,    60.00,2,    26.55,2,     1.71,2,    6.473,2,    2.938,2,    -97.0,2,   2158.0,2,   2298.0,2,     4.0
    35MFCIVA_1, I06SA,     8,  3,     20,     11,2,19930207,0549,-67.0000,  29.9825, 4148,     20.4,   0.6414,  33.8655,2,  33.8690,2,    345.4,2,  0.6406,    346.7,2,    60.00,2,    26.40,2,     1.73,2,    6.462,2,    2.887,2,    -97.0,2,   2153.0,2,   2302.0,2,     5.0
    35MFCIVA_1, I06SA,     8,  3,     40,     10,2,19930207,0549,-67.0000,  29.9825, 4148,     40.4,  -1.5042,  34.2558,2,  34.2490,2,    337.3,2, -1.5050,    345.0,2,    60.77,2,    27.60,2,     1.82,2,    5.601,2,    2.506,2,   -104.0,2,   2116.0,4,   2329.0,2,     4.0
    35MFCIVA_1, I06SA,     8,  3,     60,      9,2,19930207,0549,-67.0000,  29.9825, 4148,     61.6,  -1.6724,  34.3407,2,  34.3400,2,    318.0,2, -1.6737,    323.4,2,    64.71,2,    28.96,2,     1.99,2,    5.394,2,    2.394,2,   -999.0,9,   2205.9,2,   2332.0,2,  -999.0
    35MFCIVA_1, I06SA,     8,  3,     80,      8,2,19930207,0549,-67.0000,  29.9825, 4148,     81.6,  -1.7024,  34.3543,2,  34.3560,2,    310.6,2, -1.7041,    317.0,2,    65.50,2,    29.71,2,     2.07,2,    5.339,2,    2.398,2,   -103.0,2,   2211.0,2,   2332.0,2,     4.0
    35MFCIVA_1, I06SA,     8,  3,    100,      7,2,19930207,0549,-67.0000,  29.9825, 4148,    101.0,  -1.6444,  34.3737,2,  34.3740,2,    300.3,2, -1.6465,    309.4,2,    66.68,2,    30.61,2,     2.10,2,    5.153,2,    2.279,2,   -999.0,9,   2216.5,2,   2333.0,2,  -999.0
    35MFCIVA_1, I06SA,     8,  3,    125,      6,2,19930207,0549,-67.0000,  29.9825, 4148,    126.0,  -1.1387,  34.4119,2,  34.4120,2,    285.6,2, -1.1420,    289.0,2,    71.02,2,    30.91,2,     2.14,2,    4.544,2,    1.990,2,   -111.0,2,   2220.2,2,   2336.0,2,     4.0
    35MFCIVA_1, I06SA,     8,  3,    150,      5,2,19930207,0549,-67.0000,  29.9825, 4148,    152.0,  -0.1919,  34.4948,2,  34.4940,2,    240.5,2, -0.1972,    248.8,2,    78.91,2,    31.82,2,     2.21,2,    3.016,2,    1.355,2,   -999.0,9,   2237.6,2,   2344.0,2,  -999.0
    35MFCIVA_1, I06SA,     8,  3,    175,      4,2,19930207,0549,-67.0000,  29.9825, 4148,    177.7,   0.4484,  34.5634,2,  34.5640,2,    217.9,2,  0.4412,    221.2,2,    86.01,2,    32.42,2,     2.27,2,    1.968,2,    0.868,2,   -130.0,2,   2245.4,2,   2344.0,2,     5.0
    35MFCIVA_1, I06SA,     8,  3,    200,      3,2,19930207,0549,-67.0000,  29.9825, 4148,    203.1,   0.7704,  34.6069,2,  34.6070,2,    209.5,2,  0.7616,    209.0,2,    89.16,2,    32.72,2,     2.27,2,    1.489,2,    0.619,2,   -999.0,9,   2250.8,2,   2346.0,2,  -999.0
    35MFCIVA_1, I06SA,     8,  3,    250a,      2,2,19930207,0549,-67.0000,  29.9825, 4148,    248.9,   1.1355,  34.6557,2,  34.6550,2,    196.2,2,  1.1238,    199.6,2,    92.32,2,    32.12,2,     2.24,2,    0.943,2,    0.393,2,   -999.0,9,   2254.3,2,   2353.0,2,  -999.0
    35MFCIVA_1, I06SA,     8,  3,    250b,      1,2,19930207,0549,-67.0000,  29.9825, 4148,    251.3,   1.1445,  34.6597,2,  34.6590,2,    195.5,2,  1.1326,    199.3,2,    93.11,2,    32.12,2,     2.24,2,    0.932,2,    0.386,2,   -999.0,9,   2253.8,2,   2350.0,2,  -999.0
    35MFCIVA_1, I06SA,     9,  1,    325,     12,2,19930207,1103,-66.4985,  29.9850, 4226,    324.4,   1.0625,  34.6685,2,  34.6700,2,    203.7,2,  1.0472,    201.8,2,    93.60,2,    32.01,2,     2.39,2,    0.798,2,    0.375,2,   -999.0,9,   2253.3,2,   2356.0,2,  -999.0
    35MFCIVA_1, I06SA,     9,  1,    400,     11,2,19930207,1103,-66.4985,  29.9850, 4226,    400.5,   1.1045,  34.6897,2,  34.6880,2,    206.6,2,  1.0852,    202.2,2,    97.47,2,    31.71,2,     2.24,2,    0.601,2,    0.272,2,   -999.0,9,   2253.8,2,   2355.0,2,  -999.0
    35MFCIVA_1, I06SA,     9,  1,    500,     10,2,19930207,1103,-66.4985,  29.9850, 4226,    503.5,   1.0225,  34.6958,2,  34.6880,2,    205.4,2,  0.9981,    204.0,2,    99.01,2,    31.71,2,     2.15,2,    0.567,2,    0.246,2,   -999.0,9,   2254.5,2,   2359.0,2,  -999.0
    35MFCIVA_1, I06SA,     9,  1,    600,      9,2,19930207,1103,-66.4985,  29.9850, 4226,    605.6,   0.9335,  34.6976,2,  34.6970,2,    208.0,2,  0.9041,    205.8,2,   104.43,2,    31.71,2,     2.27,2,    0.490,2,    0.213,2,   -999.0,9,   2255.0,2,   2358.0,2,  -999.0
    35MFCIVA_1, I06SA,     9,  1,    700,      8,2,19930207,1103,-66.4985,  29.9850, 4226,    705.6,   0.8314,  34.6972,2,  34.6960,2,    209.7,2,  0.7972,    207.4,2,   105.97,2,    31.57,2,     2.21,2,    0.480,2,    0.212,2,   -999.0,9,   2254.7,2,   2363.0,2,  -999.0
    35MFCIVA_1, I06SA,     9,  1,    800,      7,2,19930207,1103,-66.4985,  29.9850, 4226,    804.8,   0.7424,  34.6948,2,  34.6950,2,    210.7,2,  0.7033,    209.6,2,   107.52,2,    31.57,2,     2.25,2,    0.444,2,    0.180,3,   -999.0,9,   2255.8,2,   2365.0,2,  -999.0
    35MFCIVA_1, I06SA,     9,  1,    900,      6,2,19930207,1103,-66.4985,  29.9850, 4226,    906.2,   0.6494,  34.6932,2,  34.6950,2,    212.3,2,  0.6053,    210.9,2,   110.61,2,    31.71,2,     2.15,2,    0.430,2,    0.180,2,   -999.0,9,   2257.6,2,   -999.0,9,  -999.0
    35MFCIVA_1, I06SA,     9,  1,   1000,      5,2,19930207,1103,-66.4985,  29.9850, 4226,   1008.9,   0.5684,  34.6894,2,  34.6890,2,    212.8,2,  0.5190,    213.5,2,   112.93,2,    31.86,2,     2.17,2,    0.388,2,    0.175,2,   -999.0,9,   2257.4,2,   2360.0,2,  -999.0
    35MFCIVA_1, I06SA,     9,  1,   1200,      4,2,19930207,1103,-66.4985,  29.9850, 4226,   1212.1,   0.4404,  34.6850,2,  34.6840,2,    215.4,2,  0.3802,    212.1,2,   116.80,2,    31.86,2,     2.17,2,    0.338,8,    0.152,8,   -999.0,9,   2259.9,2,   2364.0,2,  -999.0
    35MFCIVA_1, I06SA,     9,  1,   1400,      3,2,19930207,1103,-66.4985,  29.9850, 4226,   1413.0,   0.3103,  34.6802,2,  34.6790,2,    215.1,2,  0.2392,    214.0,2,   120.67,2,    31.57,2,     2.18,2,    0.335,2,    0.138,2,   -999.0,9,   2258.8,2,   2363.0,2,  -999.0
    35MFCIVA_1, I06SA,     9,  1,   1600a,      2,2,19930207,1103,-66.4985,  29.9850, 4226,   1615.5,   0.2063,  34.6755,2,  34.6740,2,    219.9,2,  0.1235,    217.3,2,   122.99,2,    31.86,2,     2.17,2,    0.351,2,    0.163,2,   -999.0,9,   2259.0,2,   2366.0,2,  -999.0
    35MFCIVA_1, I06SA,     9,  1,   1600b,      1,2,19930207,1103,-66.4985,  29.9850, 4226,   1616.5,   0.2063,  34.6763,2,  34.6760,2,    220.0,2,  0.1235,    217.3,2,   123.76,2,    32.00,2,     2.17,2,    0.317,2,    0.124,3,   -999.0,9,   2254.0,3,   2362.0,2,  -999.0
    35MFCIVA_1, I06SA,     9,  2,     10,     12,2,19930207,1343,-66.5007,  29.9967, 4271,      5.8,   0.8764,  33.8764,2,  33.8770,2,    350.5,2,  0.8762,    341.7,2,    57.28,2,    26.93,2,     1.86,2,    6.325,2,    2.967,2,   -999.0,9,   2168.0,2,   2299.0,2,  -999.0
    35MFCIVA_1, I06SA,     9,  2,     20,     11,2,19930207,1343,-66.5007,  29.9967, 4271,     20.1,   0.8724,  33.8776,2,  33.8770,2,    343.5,2,  0.8716,    341.4,2,    58.05,2,    26.79,2,     1.87,2,    6.372,2,    2.981,2,   -999.0,9,   2165.5,2,   2298.0,2,  -999.0
    35MFCIVA_1, I06SA,     9,  2,     40,     10,2,19930207,1343,-66.5007,  29.9967, 4271,     39.1,  -1.1297,  34.1378,2,  34.1250,2,    347.0,2, -1.1307,    351.9,2,    59.58,2,    26.49,2,     1.87,2,    5.883,2,    2.709,2,   -999.0,9,   2182.1,2,   2319.0,2,  -999.0
    35MFCIVA_1, I06SA,     9,  2,     60,      9,2,19930207,1343,-66.5007,  29.9967, 4271,     60.6,  -1.6614,  34.3355,2,  34.3360,2,    327.6,2, -1.6626,    324.6,2,    61.89,2,    27.21,2,     1.97,2,    5.383,2,    2.460,2,   -999.0,9,   2170.8,2,   2331.0,2,  -999.0
    35MFCIVA_1, I06SA,     9,  2,     80,      8,2,19930207,1343,-66.5007,  29.9967, 4271,     78.8,  -1.7175,  34.3470,2,  34.3470,2,    321.2,2, -1.7191,    320.1,2,    62.67,2,    28.95,2,     2.14,2,    5.329,2,    2.436,2,   -999.0,9,   2209.2,2,   2331.0,2,  -999.0
    35MFCIVA_1, I06SA,     9,  2,    100,      7,2,19930207,1343,-66.5007,  29.9967, 4271,    100.7,  -1.6323,  34.3641,2,  34.3630,2,    309.2,2, -1.6345,    311.0,2,    64.21,2,    29.54,2,     2.15,2,    5.237,2,    2.380,2,   -999.0,9,   2215.2,2,   2332.0,2,  -999.0
    35MFCIVA_1, I06SA,     9,  2,    125,      6,2,19930207,1343,-66.5007,  29.9967, 4271,    124.2,  -1.1447,  34.4062,2,  34.4070,2,    287.6,2, -1.1480,    287.3,2,    69.63,2,    30.55,2,     2.23,2,    4.408,2,    1.983,2,   -999.0,9,   2227.4,2,   2336.0,2,  -999.0
    35MFCIVA_1, I06SA,     9,  2,    150,      5,2,19930207,1343,-66.5007,  29.9967, 4271,    150.4,  -0.1579,  34.5026,2,  34.4980,2,    245.2,2, -0.1632,    245.8,2,    79.68,2,    31.43,2,     2.24,2, -999.000,5, -999.000,5,   -999.0,9,   2238.4,2,   2341.0,2,  -999.0
    35MFCIVA_1, I06SA,     9,  2,    175,      4,2,19930207,1343,-66.5007,  29.9967, 4271,    173.9,   0.4284,  34.5658,2,  34.5620,2,    223.7,2,  0.4214,    220.5,2,    85.87,2,    32.01,2,     2.34,2,    1.909,2,    0.881,2,   -999.0,9,   2247.8,2,   2341.0,2,  -999.0
    35MFCIVA_1, I06SA,     9,  2,    200,      3,2,19930207,1343,-66.5007,  29.9967, 4271,    201.9,   0.6884,  34.5978,2,  34.5960,2,    213.8,2,  0.6798,    212.7,2,    88.19,2,    32.15,2,     2.36,2,    1.515,2,    0.680,2,   -999.0,9,   2252.0,2,   2346.0,2,  -999.0
    35MFCIVA_1, I06SA,     9,  2,    250a,      1,2,19930207,1343,-66.5007,  29.9967, 4271,    254.7,   1.1705,  34.6648,2,  34.6620,2,    199.3,2,  1.1584,    197.5,2,    92.05,2,    32.73,2,     2.27,2,    0.871,2,    0.387,2,   -999.0,9,   2255.3,2,   2354.0,2,  -999.0
    35MFCIVA_1, I06SA,     9,  2,    250b,      2,2,19930207,1343,-66.5007,  29.9967, 4271,    254.9,   1.1245,  34.6593,2,  34.6590,2,    199.3,2,  1.1125,    198.3,2,    92.05,2,    32.73,2,     2.31,2,    0.813,2,    0.364,2,   -999.0,9,   2255.4,2,   2354.0,2,  -999.0
    35MFCIVA_1, I06SA,    10,  1,   1500,     12,2,19930207,1840,-66.0008,  29.9990, 4537,   1516.1,   0.3813,  34.6841,2,  34.6850,2,    210.9,2,  0.3028,    212.3,2,   124.14,2,    31.68,2,     2.27,2,    0.209,2,    0.073,3,   -999.0,9,   2270.2,2,   2364.0,2,  -999.0
    35MFCIVA_1, I06SA,    10,  1,   1750,     11,2,19930207,1840,-66.0008,  29.9990, 4537,   1769.2,   0.2563,  34.6780,2,  34.6790,2,    214.8,2,  0.1627,    215.7,2,   126.10,2,    31.68,2,     2.27,2,    0.235,2,    0.089,3,   -999.0,9,   2267.8,2,   2364.0,2,  -999.0
    35MFCIVA_1, I06SA,    10,  1,   2000,     10,2,19930207,1840,-66.0008,  29.9990, 4537,   2025.0,   0.1432,  34.6748,2,  34.6740,2,    218.2,2,  0.0335,    218.6,2,   126.88,2,    31.68,2,     2.27,2,    0.293,2,    0.111,3,   -999.0,9,   2265.7,2,   -999.0,9,  -999.0
    35MFCIVA_1, I06SA,    10,  1,   2250,      9,2,19930207,1840,-66.0008,  29.9990, 4537,   2279.7,   0.0452,  34.6709,2,  34.6700,2,    223.5,2, -0.0814,    223.4,2,   127.27,2,    31.54,2,     2.25,2,    0.330,2,    0.101,3,   -999.0,9,   2266.1,2,   2363.0,2,  -999.0
    35MFCIVA_1, I06SA,    10,  1,   2500,      8,2,19930207,1840,-66.0008,  29.9990, 4537,   2535.5,  -0.0308,  34.6665,2,  34.6660,2,    227.4,2, -0.1756,    229.5,2,   126.88,2,    31.41,2,     2.27,2,    0.447,2,    0.177,3,   -999.0,9,   2262.5,2,   2360.0,2,  -999.0
    35MFCIVA_1, I06SA,    10,  1,   2750,      7,2,19930207,1840,-66.0008,  29.9990, 4537,   2790.9,  -0.0989,  34.6638,2,  34.6630,2,    230.0,2, -0.2626,    231.5,2,   126.49,2,    31.13,2,     2.22,2,    0.522,2,    0.196,3,   -999.0,9,   2257.8,2,   2360.0,2,  -999.0
    35MFCIVA_1, I06SA,    10,  1,   3000,      6,2,19930207,1840,-66.0008,  29.9990, 4537,   3046.6,  -0.1499,  34.6613,2,  34.6600,2,    233.2,2, -0.3338,    235.6,2,   126.49,2,    30.99,2,     2.23,2,    0.637,2,    0.277,2,   -999.0,9,   2255.3,2,   2363.0,2,  -999.0
    35MFCIVA_1, I06SA,    10,  1,   3250,      5,2,19930207,1840,-66.0008,  29.9990, 4537,   3302.5,  -0.1879,  34.6611,2,  34.6610,2,    238.1,2, -0.3931,    238.1,2,   126.10,2,    30.99,2,     2.22,2,    0.672,2,    0.291,2,   -999.0,9,   2256.0,2,   2359.0,2,  -999.0
    35MFCIVA_1, I06SA,    10,  1,   3500,      4,2,19930207,1840,-66.0008,  29.9990, 4537,   3559.6,  -0.2129,  34.6601,2,  34.6590,2,    238.6,2, -0.4408,    238.4,2,   126.88,2,    31.13,2,     2.21,2,    0.540,2,    0.224,2,   -999.0,9,   2255.6,2,   2356.0,2,  -999.0
    35MFCIVA_1, I06SA,    10,  1,   4000a,      2,2,19930207,1840,-66.0008,  29.9990, 4537,   4076.6,  -0.2560,  34.6552,2,  34.6600,2,    244.0,2, -0.5321,    244.0,2,   125.70,2,    30.99,2,     2.21,2,    0.703,2,    0.302,2,   -999.0,9,   2255.0,2,   2358.0,2,  -999.0
    35MFCIVA_1, I06SA,    10,  1,   4000b,      3,2,19930207,1840,-66.0008,  29.9990, 4537,   4077.0,  -0.2550,  34.6553,2,  34.6560,2,    244.0,2, -0.5312,    241.7,2,   124.92,2,    30.92,2,     2.19,2,    0.877,3,    0.377,3,   -999.0,9,   2254.0,2,   2356.0,2,  -999.0
    35MFCIVA_1, I06SA,    10,  1,   F-20,      1,2,19930207,1840,-66.0008,  29.9990, 4537,   4570.1,  -0.3360,  34.6524,2,  34.6510,2,    248.7,2, -0.6604,    247.8,2,   133.14,2,    30.99,2,     2.19,2,    0.588,2,    0.239,2,   -999.0,9,   2252.0,2,   2362.0,2,  -999.0
    35MFCIVA_1, I06SA,    10,  2,    325,     12,2,19930207,2157,-65.9982,  29.9972, 4537,    327.8,   1.4525,  34.7080,2,  34.7070,2,    191.7,2,  1.4360,    190.9,2,    96.34,2,    31.13,2,     2.23,2,    0.562,2,    0.146,3,   -999.0,9,   2262.9,2,   2355.0,2,  -999.0
    35MFCIVA_1, I06SA,    10,  2,    400,     11,2,19930207,2157,-65.9982,  29.9972, 4537,    403.5,   1.3635,  34.7120,2,  34.7100,2,    193.0,2,  1.3432,    195.1,2,    97.91,2,    30.99,2,     2.22,2,    0.448,2,    0.169,2,   -999.0,9,   2262.0,2,   2361.0,2,  -999.0
    35MFCIVA_1, I06SA,    10,  2,    500,     10,2,19930207,2157,-65.9982,  29.9972, 4537,    505.9,   1.2645,  34.7171,2,  34.7190,2,    196.1,2,  1.2390,    197.9,2,   101.04,2,    30.72,2,     2.17,2,    0.303,3,    0.113,3,   -999.0,9,   2263.8,2,   2358.0,2,  -999.0
    35MFCIVA_1, I06SA,    10,  2,    600,      9,2,19930207,2157,-65.9982,  29.9972, 4537,    606.1,   1.1725,  34.7185,2,  34.7190,2,    199.1,2,  1.1419,    198.9,2,   104.95,2,    30.72,2,     2.19,2,    0.331,2,    0.109,3,   -999.0,9,   2260.7,2,   2362.0,2,  -999.0
    35MFCIVA_1, I06SA,    10,  2,    700,      8,2,19930207,2157,-65.9982,  29.9972, 4537,    706.4,   1.0595,  34.7164,2,  34.7150,2,    200.9,2,  1.0239,    201.5,2,   107.30,2,    30.58,2,     2.16,2,    0.304,2,    0.113,3,   -999.0,9,   2263.1,2,   2361.0,2,  -999.0
    35MFCIVA_1, I06SA,    10,  2,    800,      7,2,19930207,2157,-65.9982,  29.9972, 4537,    808.7,   0.9635,  34.7139,2,  34.7120,2,    203.1,2,  0.9226,    203.5,2,   109.65,2,    30.58,2,     2.16,2,    0.214,2,    0.078,3,   -999.0,9,   2262.7,2,   2363.0,2,  -999.0
    35MFCIVA_1, I06SA,    10,  2,    900,      6,2,19930207,2157,-65.9982,  29.9972, 4537,    910.3,   0.8504,  34.7089,2,  34.7070,2,    204.6,2,  0.8046,    204.6,2,   112.78,2,    30.72,2,     2.17,2,    0.233,2,    0.080,3,   -999.0,9,   2269.2,3,   2364.0,2,  -999.0
    35MFCIVA_1, I06SA,    10,  2,   1000,      5,2,19930207,2157,-65.9982,  29.9972, 4537,   1010.5,   0.7434,  34.7047,2,  34.7020,2,    205.4,2,  0.6925,    207.0,2,   114.35,2,    30.99,2,     2.17,2,    0.288,2,    0.113,3,   -999.0,9,   2264.0,2,   2365.0,2,  -999.0
    35MFCIVA_1, I06SA,    10,  2,   1100,      4,2,19930207,2157,-65.9982,  29.9972, 4537,   1112.5,   0.6654,  34.7011,2,  34.6880,2,    206.4,2,  0.6091,    207.5,2,   117.48,2,    31.27,2,     2.19,2,    0.321,2,    0.122,3,   -999.0,9,   2265.5,2,   2365.0,2,  -999.0
    35MFCIVA_1, I06SA,    10,  2,   1200,      3,2,19930207,2157,-65.9982,  29.9972, 4537,   1213.0,   0.5804,  34.6960,2,  34.6940,2,    206.8,2,  0.5188,    212.8,4,   118.27,2,    31.41,2,     2.22,2,    0.285,2,    0.105,3,   -999.0,9,   2265.2,2,   2364.0,2,  -999.0
    35MFCIVA_1, I06SA,    10,  2,   1350a,      1,2,19930207,2157,-65.9982,  29.9972, 4537,   1368.2,   0.4664,  34.6908,2,  34.6890,2,    207.9,2,  0.3963,    211.3,2,   120.61,2,    31.54,2,     2.23,2,    0.240,3,    0.090,3,   -999.0,9,   2266.0,2,   2364.0,2,  -999.0
    35MFCIVA_1, I06SA,    10,  2,   1350b,      2,2,19930207,2157,-65.9982,  29.9972, 4537,   1368.8,   0.4654,  34.6916,2,  34.6880,2,    208.0,2,  0.3953,    209.8,2,   121.40,2,    31.41,2,     2.22,2,    0.297,2,    0.115,3,   -999.0,9,   2262.0,2,   2370.0,3,  -999.0