BOTTLE,20220922CCHSIOAMB
EXPOCODE,SECT_ID,STNNBR,CASTNO,SAMPNO,BTLNBR,BTLNBR_FLAG_W,DATE,TIME,LATITUDE,LONGITUDE,DEPTH,CTDPRS,CTDTMP,CTDSAL,CTDSAL_FLAG_W,SALNTY,SALNTY_FLAG_W,CTDOXY,CTDOXY_FLAG_W,THETA,OXYGEN,OXYGEN_FLAG_W,SILCAT,SILCAT_FLAG_W,NITRAT,NITRAT_FLAG_W,PHSPHT,PHSPHT_FLAG_W,CFC-11,CFC-11_FLAG_W,CFC-12,CFC-12_FLAG_W,DELC14,DELC14_FLAG_W,TCARBN,TCARBN_FLAG_W,ALKALI,ALKALI_FLAG_W,C14ERR
,,,,,,,,,,,,DBAR,ITS-90,PSS-78,,PSS-78,,UMOL/KG,,DEG C,UMOL/KG,,UMOL/KG,,UMOL/KG,,UMOL/KG,,PMOL/KG,,PMOL/KG,,/MILLE,,UMOL/KG,,UMOL/KG,,/MILLE
    35MFCIVA_1, I06SA,    22,  3,     10,     12,2,19930213,1523,-58.3360,  30.0015, 5415,      9.8,   2.1943,  33.5976,2,  33.5990,2,    368.8,2,  2.1938,    335.0,2,    33.81,2,    24.24,2,     1.67,2,    6.085,2,    2.855,2,   -999.0,9,   2127.4,2,   2281.0,2,  -999.0
    35MFCIVA_1, I06SA,    22,  3,     20,     11,2,19930213,1523,-58.3360,  30.0015, 5415,     20.1,   2.1973,  33.5974,2,  33.5990,2,    356.6,2,  2.1963,    334.8,2,    33.81,2,    24.24,2,     1.67,2,    6.093,2,    2.828,2,   -999.0,9,   2127.0,2,   2278.0,2,  -999.0
    35MFCIVA_1, I06SA,    22,  3,     40,     10,2,19930213,1523,-58.3360,  30.0015, 5415,     40.8,   2.1733,  33.6051,2,  33.6000,2,    351.8,2,  2.1712,    334.6,2,    33.81,2,    24.09,2,     1.68,2,    6.080,2,    2.814,2,   -999.0,9,   2128.5,2,   2279.0,2,  -999.0
    35MFCIVA_1, I06SA,    22,  3,     60,      9,2,19930213,1523,-58.3360,  30.0015, 5415,     63.0,  -0.2830,  33.9609,2,  33.9620,2,    373.4,2, -0.2850,    358.9,2,    38.27,2,    26.18,2,     1.88,2,    6.457,2,    3.002,2,   -999.0,9,   2159.8,2,   2302.0,2,  -999.0
    35MFCIVA_1, I06SA,    22,  3,     80,      8,2,19930213,1523,-58.3360,  30.0015, 5415,     83.2,  -0.6402,  34.0512,2,  34.0480,2,    355.9,2, -0.6427,    344.1,2,    47.63,2,    28.00,2,     2.08,2,    6.288,2,    2.945,2,   -999.0,9,   2171.0,2,   2309.0,2,  -999.0
    35MFCIVA_1, I06SA,    22,  3,    100,      7,2,19930213,1523,-58.3360,  30.0015, 5415,    102.5,  -0.3720,  34.1183,2,  34.1180,2,    335.4,2, -0.3753,    330.3,2,    56.58,2,    29.30,2,     2.17,2,    6.037,2,    2.814,2,   -999.0,9,   2180.9,2,   2311.0,2,  -999.0
    35MFCIVA_1, I06SA,    22,  3,    125,      6,2,19930213,1523,-58.3360,  30.0015, 5415,    127.7,  -0.2870,  34.1801,2,  34.1780,2,    317.4,2, -0.2912,    314.3,2,    58.62,2,    30.02,2,     2.20,2,    5.520,2,    2.597,2,   -999.0,9,   2165.4,2,   2316.0,2,  -999.0
    35MFCIVA_1, I06SA,    22,  3,    150,      5,2,19930213,1523,-58.3360,  30.0015, 5415,    154.1,   0.6064,  34.2968,2,  34.2970,2,    271.7,2,  0.6001,    262.6,2,    65.13,2,    31.91,2,     2.35,2,    3.731,2,    1.743,2,   -999.0,9,   2220.4,2,   2321.0,2,  -999.0
    35MFCIVA_1, I06SA,    22,  3,    175,      4,2,19930213,1523,-58.3360,  30.0015, 5415,    178.9,   0.2843,  34.2935,2,  34.3010,2,    289.8,2,  0.2774,    276.2,3,    69.20,2,    31.62,2,     2.33,2,    4.228,3,    1.958,3,   -999.0,9,   2222.6,2,   2323.0,2,  -999.0
    35MFCIVA_1, I06SA,    22,  3,    200,      3,2,19930213,1523,-58.3360,  30.0015, 5415,    203.7,   0.6914,  34.3620,2,  34.3620,2,    259.6,2,  0.6828,    251.6,2,    72.04,2,    32.49,2,     2.39,2,    3.386,2,    1.601,2,   -999.0,9,   2232.9,2,   2326.0,2,  -999.0
    35MFCIVA_1, I06SA,    22,  3,    250a,      2,2,19930213,1523,-58.3360,  30.0015, 5415,    251.8,   1.1275,  34.4498,2,  34.4470,2,    230.8,2,  1.1158,    223.1,2,    77.33,2,    33.21,2,     2.45,2,    2.375,2,    1.112,2,   -999.0,9,   2240.0,2,   2331.0,2,  -999.0
    35MFCIVA_1, I06SA,    22,  3,    250b,      1,2,19930213,1523,-58.3360,  30.0015, 5415,    253.1,   1.2205,  34.4645,2,  34.4480,2,    230.7,2,  1.2085,    222.9,2,    77.33,2,    33.21,2,     2.45,2,    2.407,2,    1.135,2,   -999.0,9,   2241.0,2,   2332.0,2,  -999.0
    35MFCIVA_1, I06SA,    23,  1,    325,     12,2,19930213,2129,-57.6735,  29.9913, 5444,    325.6,   1.8734,  34.5823,2,  34.5830,2,    181.7,2,  1.8560,    181.0,2,    81.46,2,    34.05,2,     2.31,2,    0.771,2,    0.356,2,   -999.0,9,   2251.1,2,   2341.0,2,  -999.0
    35MFCIVA_1, I06SA,    23,  1,    400,     11,2,19930213,2129,-57.6735,  29.9913, 5444,    401.7,   1.9024,  34.6296,2,  34.6320,2,    182.3,2,  1.8805,    179.5,2,    85.03,2,    33.57,2,     2.28,2,    0.578,2,    0.258,2,   -999.0,9,   2253.2,2,   2346.0,2,  -999.0
    35MFCIVA_1, I06SA,    23,  1,    500,     10,2,19930213,2129,-57.6735,  29.9913, 5444,    503.1,   1.8914,  34.6777,2,  34.6780,2,    185.3,2,  1.8635,    184.2,2,    86.62,2,    32.69,2,     2.19,2,    0.392,2,    0.160,2,   -999.0,9,   2250.8,2,   2348.0,2,  -999.0
    35MFCIVA_1, I06SA,    23,  1,    600,      9,2,19930213,2129,-57.6735,  29.9913, 5444,    603.1,   1.7654,  34.6982,2,  34.6980,2,    188.8,2,  1.7321,    188.4,2,    89.79,2,    32.13,2,     2.15,2,    0.374,2,    0.147,2,   -999.0,9,   2254.0,2,   2352.0,2,  -999.0
    35MFCIVA_1, I06SA,    23,  1,    700,      8,2,19930213,2129,-57.6735,  29.9913, 5444,    704.1,   1.7394,  34.7233,2,  34.7250,2,    195.6,2,  1.7001,    192.1,2,    90.58,2,    31.40,2,     2.07,2,    0.260,2,    0.103,2,   -999.0,9,   2246.2,2,   2354.0,2,  -999.0
    35MFCIVA_1, I06SA,    23,  1,    800,      7,2,19930213,2129,-57.6735,  29.9913, 5444,    807.3,   1.6454,  34.7328,2,  34.7330,2,    196.4,2,  1.6002,    196.2,2,    92.17,2,    31.08,2,     2.04,2, -999.000,5, -999.000,5,   -999.0,9,   2241.0,3,   2353.0,2,  -999.0
    35MFCIVA_1, I06SA,    23,  1,    900,      6,2,19930213,2129,-57.6735,  29.9913, 5444,    906.7,   1.5594,  34.7371,2,  34.7380,2,    197.7,2,  1.5085,    198.7,2,    94.16,2,    30.92,2,     2.00,2,    0.191,2,    0.072,3,   -999.0,9,   2227.3,3,   2356.0,2,  -999.0
    35MFCIVA_1, I06SA,    23,  1,   1000,      5,2,19930213,2129,-57.6735,  29.9913, 5444,   1011.3,   1.2855,  34.7210,2,  34.7220,2,    202.4,2,  1.2300,    199.7,2,   101.71,2,    31.56,2,     2.08,2,    0.268,2,    0.097,3,   -999.0,9,   2236.6,3,   2361.0,2,  -999.0
    35MFCIVA_1, I06SA,    23,  1,   1200,      4,2,19930213,2129,-57.6735,  29.9913, 5444,   1212.9,   1.1005,  34.7205,2,  34.7210,2,    204.2,2,  1.0337,    203.6,2,   106.47,2,    31.56,2,     2.06,2,    0.206,2,    0.074,3,   -999.0,9,   2218.5,3,   2361.0,2,  -999.0
    35MFCIVA_1, I06SA,    23,  1,   1400,      3,2,19930213,2129,-57.6735,  29.9913, 5444,   1413.9,   0.7614,  34.6990,2,  34.7010,2,    205.2,2,  0.6851,    206.5,2,   115.61,2,    32.36,2,     2.13,2,    0.264,2,    0.109,2,   -999.0,9,   2226.1,3,   2360.0,2,  -999.0
    35MFCIVA_1, I06SA,    23,  1,   1600a,      2,2,19930213,2129,-57.6735,  29.9913, 5444,   1614.4,   0.6374,  34.6963,2,  34.6960,2,    205.6,2,  0.5492,    206.5,2,   119.18,2,    32.60,2,     2.15,2,    0.231,2,    0.098,2,   -999.0,9,   2202.0,3,   2362.0,2,  -999.0
    35MFCIVA_1, I06SA,    23,  1,   1600b,      1,2,19930213,2129,-57.6735,  29.9913, 5444,   1617.1,   0.6374,  34.6949,2,  34.6970,2,    205.7,2,  0.5490,    207.1,2,   119.18,2,    32.60,2,     2.15,2,    0.225,2,    0.091,2,   -999.0,9,   2157.0,4,   2362.0,2,  -999.0
    35MFCIVA_1, I06SA,    23,  2,     10,     12,2,19930214,0003,-57.6652,  30.0128, 5440,     10.0,   2.1803,  33.7095,2,  33.7110,2,    331.4,2,  2.1798,    333.9,2,    38.17,2,    25.18,2,     1.56,2,    6.113,2,    2.829,2,   -999.0,9,   2134.6,2,   2290.0,2,  -999.0
    35MFCIVA_1, I06SA,    23,  2,     20,     11,2,19930214,0003,-57.6652,  30.0128, 5440,     20.6,   2.1843,  33.7118,2,  33.7110,2,    325.2,2,  2.1832,    333.7,2,    38.17,2,    25.18,2,     1.57,2,    6.100,2,    2.848,2,   -999.0,9,   2137.7,2,   2289.0,2,  -999.0
    35MFCIVA_1, I06SA,    23,  2,     40,     10,2,19930214,0003,-57.6652,  30.0128, 5440,     40.9,   2.1803,  33.7284,2,  33.7300,2,    335.4,2,  2.1782,    333.9,2,    38.17,2,    25.34,2,     1.58,2,    6.124,2,    2.826,2,   -999.0,9,   2138.6,2,   2291.0,2,  -999.0
    35MFCIVA_1, I06SA,    23,  2,     60,      9,2,19930214,0003,-57.6652,  30.0128, 5440,     60.9,   0.3773,  33.9925,2,  33.9780,2,    343.9,2,  0.3750,    348.5,2,    38.95,2,    27.09,2,     1.71,2,    6.378,2,    2.924,2,   -999.0,9,   2160.2,2,   2305.0,2,  -999.0
    35MFCIVA_1, I06SA,    23,  2,     80,      8,2,19930214,0003,-57.6652,  30.0128, 5440,     81.8,  -0.1609,  34.0853,2,  34.0890,2,    336.5,2, -0.1636,    331.2,2,    50.48,2,    29.49,2,     1.94,2,    6.020,2,    2.793,2,   -999.0,9,   2181.0,2,   2310.0,2,  -999.0
    35MFCIVA_1, I06SA,    23,  2,    100,      7,2,19930214,0003,-57.6652,  30.0128, 5440,    101.7,  -0.2219,  34.1362,2,  34.1360,2,    318.9,2, -0.2253,    320.7,2,    54.85,2,    30.29,2,     1.99,2,    5.739,2,    2.653,2,   -999.0,9,   2191.4,2,   2311.0,2,  -999.0
    35MFCIVA_1, I06SA,    23,  2,    125,      6,2,19930214,0003,-57.6652,  30.0128, 5440,    125.7,  -0.2400,  34.1620,2,  34.1650,2,    316.4,2, -0.2441,    317.2,2,    55.64,2,    30.53,2,     1.97,2,    5.586,2,    2.586,2,   -999.0,9,   2191.7,2,   2317.0,2,  -999.0
    35MFCIVA_1, I06SA,    23,  2,    150,      5,2,19930214,0003,-57.6652,  30.0128, 5440,    151.5,   0.2093,  34.2355,2,  34.2310,2,    295.4,2,  0.2036,    290.7,2,    60.41,2,    31.49,2,     2.07,2,    4.705,2,    2.164,2,   -999.0,9,   2205.2,2,   2318.0,2,  -999.0
    35MFCIVA_1, I06SA,    23,  2,    175,      4,2,19930214,0003,-57.6652,  30.0128, 5440,    175.9,   0.5844,  34.2966,2,  34.3030,2,    288.2,2,  0.5772,    261.9,2,    64.38,2,    32.53,2,     2.15,2,    3.704,2,    1.710,2,   -999.0,9,   2218.5,2,   2323.0,2,  -999.0
    35MFCIVA_1, I06SA,    23,  2,    200,      3,2,19930214,0003,-57.6652,  30.0128, 5440,    202.3,   1.3635,  34.4042,2,  34.4000,2,    217.0,2,  1.3538,    219.4,2,    69.94,2,    33.82,2,     2.25,2,    2.243,2,    1.044,2,   -999.0,9,   2229.0,2,   2329.0,2,  -999.0
    35MFCIVA_1, I06SA,    23,  2,    250a,      1,2,19930214,0003,-57.6652,  30.0128, 5440,    254.3,   1.7404,  34.5047,2,  34.5010,2,    194.9,2,  1.7273,    193.4,2,    76.69,2,    34.46,2,     2.31,2,    1.309,2,    0.606,2,   -999.0,9,   2245.3,2,   2334.0,2,  -999.0
    35MFCIVA_1, I06SA,    23,  2,    250b,      2,2,19930214,0003,-57.6652,  30.0128, 5440,    254.9,   1.7374,  34.5026,2,  34.4990,2,    194.9,2,  1.7242,    193.6,2,    76.30,2,    34.46,2,     2.30,2,    1.314,2,    0.596,2,   -999.0,9,   2245.5,2,   2336.0,2,  -999.0
    35MFCIVA_1, I06SA,    24,  1,   1500,     12,2,19930214,0542,-56.9988,  30.0018, 5460,   1514.5,   0.3373,  34.6833,2,  34.6830,2,    208.6,2,  0.2595,    207.9,2,   126.54,2,    33.12,2,     2.08,2,    0.205,2,    0.064,3,   -999.0,9,   2263.2,2,   2364.0,2,  -999.0
    35MFCIVA_1, I06SA,    24,  1,   1750,     11,2,19930214,0542,-56.9988,  30.0018, 5460,   1770.5,   0.2403,  34.6782,2,  34.6800,2,    211.7,2,  0.1468,    212.6,2,   128.17,2,    32.96,2,     2.08,2,    0.174,3,    0.046,2,   -999.0,9,   2261.4,2,   2364.0,2,  -999.0
    35MFCIVA_1, I06SA,    24,  1,   2000,     10,2,19930214,0542,-56.9988,  30.0018, 5460,   2021.1,   0.1462,  34.6748,2,  34.6750,2,    216.4,2,  0.0367,    217.4,2,   128.98,2,    32.80,2,     2.05,2,    0.183,3,    0.069,2,   -177.0,2,   2258.5,2,   2365.0,2,     5.0
    35MFCIVA_1, I06SA,    24,  1,   2250,      9,2,19930214,0542,-56.9988,  30.0018, 5460,   2275.7,   0.0542,  34.6708,2,  34.6700,2,    218.3,2, -0.0723,    221.2,2,   128.98,2,    32.96,2,     2.08,2,    0.374,4,    0.081,2,   -999.0,9,   2257.4,2,   2363.0,2,  -999.0
    35MFCIVA_1, I06SA,    24,  1,   2500,      8,2,19930214,0542,-56.9988,  30.0018, 5460,   2532.1,  -0.0068,  34.6677,2,  34.6680,2,    223.9,2, -0.1518,    224.2,2,   130.60,2,    32.88,2,     2.06,2,    0.199,2,    0.082,2,   -999.0,9,   2257.0,2,   2364.0,2,  -999.0
    35MFCIVA_1, I06SA,    24,  1,   3000,      7,2,19930214,0542,-56.9988,  30.0018, 5460,   3044.9,  -0.1229,  34.6634,2,  34.6630,2,    229.8,2, -0.3072,    230.9,2,   130.60,2,    32.72,2,     2.06,2,    0.219,2,    0.082,2,   -171.0,2,   2254.4,2,   2362.0,2,     4.0
    35MFCIVA_1, I06SA,    24,  1,   3500,      6,2,19930214,0542,-56.9988,  30.0018, 5460,   3557.3,  -0.1989,  34.6587,2,  34.6590,2,    235.9,2, -0.4269,    235.9,2,   128.97,2,    32.64,2,     2.04,2,    0.250,2,    0.107,2,   -999.0,9,   2252.4,2,   2362.0,2,  -999.0
    35MFCIVA_1, I06SA,    24,  1,   4000,      5,2,19930214,0542,-56.9988,  30.0018, 5460,   4070.9,  -0.2530,  34.6557,2,  34.6560,2,    241.4,2, -0.5287,    239.8,2,   129.38,2,    32.48,2,     2.03,2,    0.314,2,    0.129,2,   -999.0,9,   2249.6,2,   2363.0,2,  -999.0
    35MFCIVA_1, I06SA,    24,  1,   4500,      4,2,19930214,0542,-56.9988,  30.0018, 5460,   4585.7,  -0.2890,  34.6524,2,  34.6540,2,    245.2,2, -0.6165,    243.3,2,   129.38,2,    32.33,2,     2.01,2,    0.224,2,    0.091,2,   -156.0,2,   2248.5,2,   2362.0,2,     4.0
    35MFCIVA_1, I06SA,    24,  1,   5000,      3,2,19930214,0542,-56.9988,  30.0018, 5460,   5102.2,  -0.3060,  34.6509,2,  34.6520,2,    249.5,2, -0.6896,    245.8,2,   130.60,2,    32.33,2,     2.01,2,    0.244,2,    0.104,2,   -999.0,9,   2248.2,2,   2361.0,2,  -999.0
    35MFCIVA_1, I06SA,    24,  1,   5250,      2,2,19930214,0542,-56.9988,  30.0018, 5460,   5360.7,  -0.2980,  34.6515,2,  34.6510,2,    251.1,2, -0.7115,    247.4,2,   128.97,2,    32.33,2,     2.01,2,    0.268,2,    0.108,2,   -999.0,9,   2246.6,2,   2361.0,2,  -999.0
    35MFCIVA_1, I06SA,    24,  1,   F-20,      1,2,19930214,0542,-56.9988,  30.0018, 5460,   5543.1,  -0.3000,  34.6486,2,  34.6500,2,    250.9,2, -0.7349,    247.7,2,   128.97,2,    32.17,2,     2.01,2,    0.274,2,    0.108,2,   -150.0,2,   2238.9,2,   2361.0,2,     4.0
    35MFCIVA_1, I06SA,    24,  2,    325,     12,2,19930214,0851,-57.0023,  30.0047, 5460,    323.9,   0.5304,  34.5957,2,  34.5960,2,    220.3,2,  0.5166,    216.9,2,    99.78,2,    32.96,2,     2.07,2,    1.575,2,    0.717,2,   -141.0,2,   2252.0,2,   2350.0,2,     5.0
    35MFCIVA_1, I06SA,    24,  2,    400,     11,2,19930214,0851,-57.0023,  30.0047, 5460,    402.7,   1.0085,  34.6805,2,  34.6810,2,    199.8,2,  0.9894,    199.7,2,   104.65,2,    32.80,2,     2.03,2,    0.646,2,    0.283,2,   -999.0,9,   2257.3,2,   2356.0,2,  -999.0
    35MFCIVA_1, I06SA,    24,  2,    500,     10,2,19930214,0851,-57.0023,  30.0047, 5460,    502.1,   0.9815,  34.6945,2,  34.6950,2,    199.1,2,  0.9574,    200.7,2,   108.30,2,    32.49,2,     2.03,2,    0.447,2,    0.180,2,   -153.0,2,   2258.8,2,   2359.0,2,     5.0
    35MFCIVA_1, I06SA,    24,  2,    600,      9,2,19930214,0851,-57.0023,  30.0047, 5460,    605.9,   0.9355,  34.7016,2,  34.7020,2,    200.7,2,  0.9061,    203.0,2,   110.32,2,    32.17,2,     2.01,2, -999.000,5, -999.000,5,   -999.0,9,   2258.6,2,   2359.0,2,  -999.0
    35MFCIVA_1, I06SA,    24,  2,    700,      8,2,19930214,0851,-57.0023,  30.0047, 5460,    703.7,   0.7674,  34.6959,2,  34.6950,2,    201.6,2,  0.7337,    202.9,2,   114.38,2,    32.49,2,     2.03,2,    0.379,2,    0.157,2,   -151.0,2,   2254.1,2,   2360.0,2,     5.0
    35MFCIVA_1, I06SA,    24,  2,    800,      7,2,19930214,0851,-57.0023,  30.0047, 5460,    805.8,   0.7534,  34.7000,2,  34.6990,2,    201.5,2,  0.7142,    204.3,2,   116.00,2,    32.33,2,     2.01,2,    0.312,2,    0.129,2,   -999.0,9,   2256.1,2,   2362.0,2,  -999.0
    35MFCIVA_1, I06SA,    24,  2,    900,      6,2,19930214,0851,-57.0023,  30.0047, 5460,    906.0,   0.6734,  34.6963,2,  34.6970,2,    201.4,2,  0.6291,    205.8,2,   118.84,2,    32.49,2,     2.03,2,    0.350,2,    0.120,3,   -999.0,9,   2260.3,2,   2363.0,2,  -999.0
    35MFCIVA_1, I06SA,    24,  2,   1000,      5,2,19930214,0851,-57.0023,  30.0047, 5460,   1008.8,   0.6074,  34.6952,2,  34.6950,2,    203.4,2,  0.5577,    206.1,2,   120.87,2,    32.49,2,     2.03,2, -999.000,5, -999.000,5,   -151.0,2,   2261.8,2,   2365.0,2,     5.0
    35MFCIVA_1, I06SA,    24,  2,   1100,      4,2,19930214,0851,-57.0023,  30.0047, 5460,   1110.1,   0.5304,  34.6920,2,  34.6900,2,    202.0,2,  0.4754,    205.7,2,   122.89,2,    32.80,2,     2.04,2,    0.233,2,    0.098,2,   -999.0,9,   2261.6,2,   2366.0,2,  -999.0
    35MFCIVA_1, I06SA,    24,  2,   1200,      3,2,19930214,0851,-57.0023,  30.0047, 5460,   1210.4,   0.4924,  34.6917,2,  34.6900,2,    203.7,2,  0.4318,    207.7,2,   125.33,2,    33.44,2,     2.05,2,    0.228,2,    0.111,2,   -175.0,2,   2262.6,2,   2363.0,2,     5.0
    35MFCIVA_1, I06SA,    24,  2,   1350a,      2,2,19930214,0851,-57.0023,  30.0047, 5460,   1366.2,   0.4123,  34.6884,2,  34.6870,2,    202.0,2,  0.3430,    208.3,2,   126.54,2,    33.12,2,     2.03,2,    0.178,2,    0.072,2,   -999.0,9,   2265.0,2,   2364.0,2,  -999.0
    35MFCIVA_1, I06SA,    24,  2,   1350b,      1,2,19930214,0851,-57.0023,  30.0047, 5460,   1367.4,   0.4123,  34.6878,2,  34.6870,2,    202.0,2,  0.3429,    208.9,2,   126.95,2,    33.12,2,     2.06,2,    0.201,2,    0.068,2,   -999.0,9,   2262.0,2,   2366.0,2,  -999.0