BOTTLE,20220922CCHSIOAMB
EXPOCODE,SECT_ID,STNNBR,CASTNO,SAMPNO,BTLNBR,BTLNBR_FLAG_W,DATE,TIME,LATITUDE,LONGITUDE,DEPTH,CTDPRS,CTDTMP,CTDSAL,CTDSAL_FLAG_W,SALNTY,SALNTY_FLAG_W,CTDOXY,CTDOXY_FLAG_W,THETA,OXYGEN,OXYGEN_FLAG_W,SILCAT,SILCAT_FLAG_W,NITRAT,NITRAT_FLAG_W,PHSPHT,PHSPHT_FLAG_W,CFC-11,CFC-11_FLAG_W,CFC-12,CFC-12_FLAG_W,DELC14,DELC14_FLAG_W,TCARBN,TCARBN_FLAG_W,ALKALI,ALKALI_FLAG_W,C14ERR
,,,,,,,,,,,,DBAR,ITS-90,PSS-78,,PSS-78,,UMOL/KG,,DEG C,UMOL/KG,,UMOL/KG,,UMOL/KG,,UMOL/KG,,PMOL/KG,,PMOL/KG,,/MILLE,,UMOL/KG,,UMOL/KG,,/MILLE
    35MFCIVA_1, I06SA,    24,  3,     10,     12,2,19930214,1030,-57.0013,  30.0072, 5460,     10.5,   2.2183,  33.6241,2,  33.6260,2,    336.6,2,  2.2178,    333.4,2,    40.60,2,    24.74,2,     1.45,2,    6.163,2,    2.887,2,    -83.0,2,   2136.9,2,   2282.0,2,     5.0
    35MFCIVA_1, I06SA,    24,  3,     20,     11,2,19930214,1030,-57.0013,  30.0072, 5460,     20.0,   2.2143,  33.6243,2,  33.6250,2,    332.7,2,  2.2133,    333.7,2,    40.60,2,    24.74,2,     1.45,2,    6.167,2,    2.872,2,    -77.0,2,   2136.3,2,   2283.0,2,     5.0
    35MFCIVA_1, I06SA,    24,  3,     40,     10,2,19930214,1030,-57.0013,  30.0072, 5460,     41.1,   2.2033,  33.6342,2,  33.6330,2,    332.7,2,  2.2012,    333.3,2,    40.60,2,    24.74,2,     1.45,2,    6.153,2,    2.887,2,    -74.0,2,   2137.7,2,   2284.0,2,     5.0
    35MFCIVA_1, I06SA,    24,  3,     60,      9,2,19930214,1030,-57.0013,  30.0072, 5460,     60.8,   1.4005,  33.6974,2,  33.7050,2,    337.5,2,  1.3977,    341.4,2,    41.40,2,    24.90,2,     1.49,2,    6.388,2,    2.971,2,   -999.0,9,   2141.7,2,   2289.0,2,  -999.0
    35MFCIVA_1, I06SA,    24,  3,     80,      8,2,19930214,1030,-57.0013,  30.0072, 5460,     81.9,  -0.1319,  33.8361,2,  33.8400,2,    358.1,2, -0.1346,    357.3,2,    46.27,2,    24.89,2,     1.53,2,    6.802,2,    3.134,2,   -999.0,9,   2152.4,2,   2302.0,2,  -999.0
    35MFCIVA_1, I06SA,    24,  3,    100,      7,2,19930214,1030,-57.0013,  30.0072, 5460,     99.9,  -0.7233,  33.9196,2,  33.9200,2,    355.9,2, -0.7262,    357.5,2,    50.32,2,    25.69,2,     1.59,2,    6.795,2,    3.113,2,    -81.0,2,   2163.4,2,   -999.0,9,     5.0
    35MFCIVA_1, I06SA,    24,  3,    125,      6,2,19930214,1030,-57.0013,  30.0072, 5460,    126.4,  -1.3650,  34.0383,2,  34.0490,2,    355.5,2, -1.3679,    348.8,2,    62.89,2,    27.11,2,     1.74,2,    6.671,2,    3.057,2,   -999.0,9,   2183.2,2,   2315.0,2,  -999.0
    35MFCIVA_1, I06SA,    24,  3,    150,      5,2,19930214,1030,-57.0013,  30.0072, 5460,    152.0,  -1.6013,  34.1391,2,  34.1410,2,    343.6,2, -1.6046,    340.8,2,    68.97,2,    28.14,2,     1.77,2,    6.511,2,    2.967,2,    -87.0,2,   2193.1,2,   2320.0,2,     5.0
    35MFCIVA_1, I06SA,    24,  3,    175,      4,2,19930214,1030,-57.0013,  30.0072, 5460,    177.9,  -1.5863,  34.1929,2,  34.1950,2,    336.8,2, -1.5902,    334.5,2,    70.59,2,    28.69,2,     1.78,2,    6.264,2,    2.880,2,   -999.0,9,   2200.2,2,   -999.0,9,  -999.0
    35MFCIVA_1, I06SA,    24,  3,    200,      3,2,19930214,1030,-57.0013,  30.0072, 5460,    201.2,  -1.4521,  34.2347,2,  34.2340,2,    329.7,2, -1.4569,    326.4,2,    73.03,2,    29.24,2,     1.79,2,    5.981,2,    2.733,2,    -92.0,2,   2206.6,2,   2328.0,2,     5.0
    35MFCIVA_1, I06SA,    24,  3,    250a,      1,2,19930214,1030,-57.0013,  30.0072, 5460,    253.4,  -0.6362,  34.3732,2,  34.3750,2,    288.0,2, -0.6442,    282.0,2,    83.97,2,    30.91,2,     1.89,2,    4.142,2,    1.902,2,   -999.0,9,   2226.0,2,   2337.0,2,  -999.0
    35MFCIVA_1, I06SA,    24,  3,    250b,      2,2,19930214,1030,-57.0013,  30.0072, 5460,    255.0,  -0.5952,  34.3796,2,  34.3860,2,    288.0,2, -0.6033,    279.7,2,    81.94,2,    30.75,2,     1.86,2,    4.252,2,    1.964,2,   -999.0,9,   2228.0,2,   -999.0,9,  -999.0
    35MFCIVA_1, I06SA,    25,  1,    325,     12,2,19930214,1520,-56.3287,  30.0192, 5450,    325.7,   1.8394,  34.5741,2,  34.5820,6,    192.2,2,  1.8182,     34.6,4,     4.42,8,    33.85,8,     2.42,3,    0.761,3, -999.000,1,   -999.0,9,   2254.5,4,   2344.0,4,  -999.0
    35MFCIVA_1, I06SA,    25,  1,    400,     11,2,19930214,1520,-56.3287,  30.0192, 5450,    399.6,   1.8554,  34.6181,2,  34.6180,6,    184.9,2,  1.8947,     34.6,4,     4.25,3,    33.53,3,     2.29,3,    0.652,7,    0.280,4,   -999.0,9,   2257.0,4,   2347.0,4,  -999.0
    35MFCIVA_1, I06SA,    25,  1,    500,     10,2,19930214,1520,-56.3287,  30.0192, 5450,    504.6,   1.9864,  34.6797,2,  34.6800,6,    186.0,2,  1.8718,     34.7,4,     4.28,7,    32.21,7,     2.18,4, -999.000,1, -999.000,5,   -999.0,9,   2254.3,4,   2351.0,4,  -999.0
    35MFCIVA_1, I06SA,    25,  1,    600,      9,2,19930214,1520,-56.3287,  30.0192, 5450,    604.5,   1.8854,  34.7006,2,  34.7000,6,    187.0,2,  1.8430,     34.7,4,     4.30,3,    31.82,6,     2.14,2,    0.308,3,    0.120,6,   -999.0,9,   2254.2,4,   2353.0,4,  -999.0
    35MFCIVA_1, I06SA,    25,  1,    700,      8,2,19930214,1520,-56.3287,  30.0192, 5450,    704.3,   1.7624,  34.7119,2,  34.7140,6,    189.8,2,  1.7861,     34.7,4,     4.37,2,    31.50,3,     2.12,3,    0.295,3,    0.125,3,   -999.0,9,   2254.4,4,   2354.0,4,  -999.0
    35MFCIVA_1, I06SA,    25,  1,    800,      7,2,19930214,1520,-56.3287,  30.0192, 5450,    804.9,   1.6664,  34.7237,2,  34.7240,6,    194.0,2,  1.6706,     34.7,3,     4.46,4,    31.19,3,     2.09,2,    0.291,3,    0.108,3,   -999.0,9,   2255.2,4,   2356.0,4,  -999.0
    35MFCIVA_1, I06SA,    25,  1,    900,      6,2,19930214,1520,-56.3287,  30.0192, 5450,    907.7,   1.6024,  34.7361,2,  34.7360,6,    199.5,2,  1.6038,     34.7,3,     4.59,2,    30.72,3,     2.07,0, -999.000,5, -999.000,5,   -999.0,9,   2254.6,4,   2358.0,4,  -999.0
    35MFCIVA_1, I06SA,    25,  1,   1000,      5,2,19930214,1520,-56.3287,  30.0192, 5450,   1006.6,   1.4475,  34.7332,2,  34.7340,6,    202.1,2,  1.4446,     34.7,3,     4.65,3,    30.88,2,     2.08,3,    0.225,8, -999.000,1,   -999.0,9,   2258.0,4,   2359.0,4,  -999.0
    35MFCIVA_1, I06SA,    25,  1,   1200,      4,2,19930214,1520,-56.3287,  30.0192, 5450,   1208.3,   1.2265,  34.7281,2,  34.7280,3,    203.0,2,  1.2085,     34.7,3,     4.67,3,    31.03,3,     2.08,2,    0.207,7,    0.074,4,   -999.0,9,   2259.4,4,   2364.0,4,  -999.0
    35MFCIVA_1, I06SA,    25,  1,   1400,      3,2,19930214,1520,-56.3287,  30.0192, 5450,   1411.6,   1.0035,  34.7175,2,  34.7180,3,    205.4,2,  1.0063,     34.7,7,     4.73,6,    31.50,3,     2.12,3,    0.210,2,    0.076,3,   -999.0,9,   2264.0,4,   2365.0,4,  -999.0
    35MFCIVA_1, I06SA,    25,  1,   1600a,      2,2,19930214,1520,-56.3287,  30.0192, 5450,   1606.8,   0.7854,  34.7064,2,  34.7050,3,    210.3,2,  0.7881,     34.7,3,     4.84,8,    31.81,6,     2.15,3,    0.201,2,    0.078,3,   -999.0,9,   2266.0,4,   2366.0,4,  -999.0
    35MFCIVA_1, I06SA,    25,  1,   1600b,      1,2,19930214,1520,-56.3287,  30.0192, 5450,   1613.6,   0.7734,  34.7045,2,  34.7050,3,    209.0,2,  0.7762,     34.7,3,     4.81,6,    31.81,3,     2.15,6,    0.197,4,    0.074,2,   -999.0,9,   2264.0,4,   2367.0,4,  -999.0
    35MFCIVA_1, I06SA,    25,  2,     10,     12,2,19930214,1749,-56.3312,  30.0080, 5454,      9.8,   2.3343,  33.8010,2,  33.8020,2,    337.0,2,  2.3337,    333.9,2,    29.63,2,    25.52,2,     1.61,2,    6.026,2,    2.793,2,   -999.0,9,   2134.9,2,   2291.0,2,  -999.0
    35MFCIVA_1, I06SA,    25,  2,     20,     11,2,19930214,1749,-56.3312,  30.0080, 5454,     19.8,   2.3333,  33.8015,2,  33.8010,2,    334.5,2,  2.3322,    333.7,2,    29.63,2,    25.52,2,     1.61,2,    6.010,2,    2.768,8,   -999.0,9,   2133.1,2,   2291.0,2,  -999.0
    35MFCIVA_1, I06SA,    25,  2,     40,     10,2,19930214,1749,-56.3312,  30.0080, 5454,     39.5,   2.3323,  33.8015,2,  33.8040,2,    333.7,2,  2.3301,    334.0,2,    29.63,2,    25.52,2,     1.62,2,    5.982,2,    2.945,2,   -999.0,9,   2131.5,2,   2289.0,2,  -999.0
    35MFCIVA_1, I06SA,    25,  2,     60,      9,2,19930214,1749,-56.3312,  30.0080, 5454,     60.2,   1.9994,  33.8631,2,  33.8510,2,    332.4,2,  1.9963,    335.4,2,    29.63,2,    25.52,2,     1.64,2,    6.038,2,    2.811,2,   -999.0,9,   2137.2,2,   2292.0,2,  -999.0
    35MFCIVA_1, I06SA,    25,  2,     80,      8,2,19930214,1749,-56.3312,  30.0080, 5454,     81.4,   0.4594,  34.0155,2,  34.0170,2,    342.6,2,  0.4562,    343.5,2,    48.84,2,    26.84,2,     1.82,2,    6.818,2,    3.195,2,   -999.0,9,   2162.9,2,   2307.0,2,  -999.0
    35MFCIVA_1, I06SA,    25,  2,    100,      7,2,19930214,1749,-56.3312,  30.0080, 5454,    101.4,  -0.1859,  34.0708,2,  34.0840,2,    331.8,2, -0.1893,    333.1,2,    50.44,2,    28.86,2,     1.92,2, -999.000,5, -999.000,5,   -999.0,9,   2177.7,2,   2309.0,2,  -999.0
    35MFCIVA_1, I06SA,    25,  2,    125,      6,2,19930214,1749,-56.3312,  30.0080, 5454,    127.0,  -0.3550,  34.1259,2,  34.1270,2,    332.0,2, -0.3591,    325.8,2,    55.24,2,    29.72,2,     1.99,2, -999.000,5, -999.000,5,   -999.0,9,   2195.6,2,   2313.0,2,  -999.0
    35MFCIVA_1, I06SA,    25,  2,    150,      5,2,19930214,1749,-56.3312,  30.0080, 5454,    151.8,  -0.2700,  34.1745,2,  34.1770,2,    312.1,2, -0.2750,    311.7,2,    62.44,2,    30.42,2,     2.02,2,    5.454,2,    2.501,2,   -999.0,9,   2196.3,2,   2314.0,2,  -999.0
    35MFCIVA_1, I06SA,    25,  2,    175,      4,2,19930214,1749,-56.3312,  30.0080, 5454,    164.6,   0.0052,  34.2137,2,  34.2100,2,    284.6,2, -0.0007,    300.3,2,    60.04,2,    30.73,2,     2.04,2,    5.023,2,    2.296,2,   -999.0,9,   2201.3,2,   2318.0,2,  -999.0
    35MFCIVA_1, I06SA,    25,  2,    200,      3,2,19930214,1749,-56.3312,  30.0080, 5454,    200.2,   0.9065,  34.3593,2,  34.3450,2,    247.7,2,  0.8976,    246.3,2,    67.24,2,    32.68,2,     2.19,2,    3.175,2,    1.477,2,   -999.0,9,   2222.3,2,   2327.0,2,  -999.0
    35MFCIVA_1, I06SA,    25,  2,    250a,      1,2,19930214,1749,-56.3312,  30.0080, 5454,    249.0,   1.2135,  34.4387,2,  34.4390,2,    224.0,2,  1.2017,     62.6,4,    73.64,2,    33.38,2,     2.24,2,    2.199,2,    1.024,2,   -999.0,9,   2239.6,2,   2334.0,2,  -999.0
    35MFCIVA_1, I06SA,    25,  2,    250b,      2,2,19930214,1749,-56.3312,  30.0080, 5454,    253.6,   1.2745,  34.4483,2,  34.4450,2,    218.2,2,  1.2624,    217.4,2,    73.64,2,    33.38,2,     2.22,2,    2.255,2,    1.045,2,   -999.0,9,   2239.8,2,   2335.0,2,  -999.0
    35MFCIVA_1, I06SA,    26,  1,   1500,     12,2,19930214,2258,-55.6718,  30.0035, 5464,   1769.0,   1.0365,  34.7202,2,  34.7210,2,    202.7,2,  0.9319,    206.0,2,   108.00,2,    31.13,2,     2.14,2,    0.146,2,    0.060,2,   -999.0,9,   2249.0,2,   2366.0,2,  -999.0
    35MFCIVA_1, I06SA,    26,  1,   1750,     11,2,19930214,2258,-55.6718,  30.0035, 5464,   2019.7,   0.7334,  34.7038,2,  34.7050,2,    205.8,2,  0.6147,    208.7,2,   116.12,2,    31.75,2,     2.19,2,    0.153,2,    0.064,2,   -999.0,9,   2252.1,2,   2364.0,2,  -999.0
    35MFCIVA_1, I06SA,    26,  1,   2000,     10,2,19930214,2258,-55.6718,  30.0035, 5464,   2277.8,   0.5354,  34.6911,2,  34.6910,2,    207.8,2,  0.4002,    209.7,2,   116.12,2,    32.37,2,     2.23,2,    0.179,2,    0.070,2,   -999.0,9,   2252.0,2,   2363.0,2,  -999.0
    35MFCIVA_1, I06SA,    26,  1,   2250,      9,2,19930214,2258,-55.6718,  30.0035, 5464,   2529.8,   0.3703,  34.6830,2,  34.6820,2,    210.0,2,  0.2182,    210.7,2,   125.06,2,    32.68,2,     2.26,2,    0.443,4,    0.072,2,   -999.0,9,   2250.6,2,   2362.0,2,  -999.0
    35MFCIVA_1, I06SA,    26,  1,   2500,      8,2,19930214,2258,-55.6718,  30.0035, 5464,   3043.8,   0.1062,  34.6703,2,  34.6700,2,    219.9,2, -0.0833,    221.2,2,   128.30,2,    32.61,2,     2.26,2,    0.193,2,    0.081,2,   -999.0,9,   2247.0,2,   2358.0,2,  -999.0
    35MFCIVA_1, I06SA,    26,  1,   3000,      7,2,19930214,2258,-55.6718,  30.0035, 5464,   3556.9,  -0.0619,  34.6633,2,  34.6630,2,    227.1,2, -0.2934,    230.3,2,   127.90,2,    32.53,2,     2.25,2,    0.235,2,    0.087,2,   -999.0,9,   2250.0,2,   2359.0,2,  -999.0
    35MFCIVA_1, I06SA,    26,  1,   3500,      6,2,19930214,2258,-55.6718,  30.0035, 5464,   3556.9,  -0.0619,  34.6633,2,  34.6630,2,    227.1,2, -0.2934,    230.3,2,   127.49,2,    32.53,2,     2.24,2,    0.221,2,    0.096,2,   -999.0,9,   2204.0,4,   -999.0,9,  -999.0
    35MFCIVA_1, I06SA,    26,  1,   4000,      5,2,19930214,2258,-55.6718,  30.0035, 5464,   4069.7,  -0.1549,  34.6585,2,  34.6590,2,    236.0,2, -0.4334,    236.0,2,   127.49,2,    32.22,2,     2.24,2,    0.268,2,    0.115,2,   -999.0,9,   2224.8,3,   2358.0,2,  -999.0
    35MFCIVA_1, I06SA,    26,  1,   4500,      4,2,19930214,2258,-55.6718,  30.0035, 5464,   4582.4,  -0.2189,  34.6558,2,  34.6560,2,    241.4,2, -0.5484,    240.3,2,   129.52,2,    32.06,2,     2.22,2,    0.224,2,    0.099,2,   -999.0,9,   2211.6,3,   2360.0,2,  -999.0
    35MFCIVA_1, I06SA,    26,  1,   5000,      3,2,19930214,2258,-55.6718,  30.0035, 5464,   5102.6,  -0.2610,  34.6530,2,  34.6530,2,    244.3,2, -0.6462,    244.2,2,   129.11,2,    32.06,2,     2.20,2,    0.210,2,    0.092,2,   -999.0,9,   2179.5,3,   2358.0,2,  -999.0
    35MFCIVA_1, I06SA,    26,  1,   5250,      2,2,19930214,2258,-55.6718,  30.0035, 5464,   5359.2,  -0.2700,  34.6511,2,  34.6510,2,    244.4,2, -0.6844,    245.5,2,   129.52,2,    32.06,2,     2.19,2,    0.224,2,    0.090,2,   -999.0,9,   2172.4,3,   2359.0,2,  -999.0
    35MFCIVA_1, I06SA,    26,  1,   F-20,      1,2,19930214,2258,-55.6718,  30.0035, 5464,   5562.6,  -0.2780,  34.6503,2,  34.6510,2,    248.7,2, -0.7160,    246.8,2,   128.30,2,    32.06,2,     2.10,2,    0.252,2,    0.105,2,   -999.0,9,   2241.9,3,   2358.0,2,  -999.0
    35MFCIVA_1, I06SA,    26,  2,    325,     12,2,19930215,0214,-55.6705,  29.9978, 5465,    325.8,   1.9294,  34.4610,2,  34.4630,2,    194.8,2,  1.9119,    193.0,2,    71.48,2,    34.24,2,     2.37,2,    1.268,2,    0.575,2,   -999.0,9,   2246.7,2,   2330.0,2,  -999.0
    35MFCIVA_1, I06SA,    26,  2,    400,     11,2,19930215,0214,-55.6705,  29.9978, 5465,    396.3,   2.1173,  34.5489,2,  34.5520,2,    179.9,2,  2.0951,    178.1,2,    77.16,2,    34.09,2,     2.36,2,    0.667,2,    0.297,2,   -999.0,9,   2254.4,2,   2337.0,2,  -999.0
    35MFCIVA_1, I06SA,    26,  2,    500,     10,2,19930215,0214,-55.6705,  29.9978, 5465,    508.6,   2.1623,  34.6271,2,  34.6280,2,    177.0,2,  2.1331,    176.3,2,    81.22,2,    33.15,2,     2.29,2,    0.374,2,    0.149,2,   -999.0,9,   2253.5,2,   2342.0,2,  -999.0
    35MFCIVA_1, I06SA,    26,  2,    600,      9,2,19930215,0214,-55.6705,  29.9978, 5465,    608.7,   2.1503,  34.6758,2,  34.6760,2,    178.3,2,  2.1148,    179.7,2,    82.03,2,    32.22,2,     2.22,2,    0.248,2,    0.105,2,   -999.0,9,   2251.7,2,   2344.0,2,  -999.0
    35MFCIVA_1, I06SA,    26,  2,    700,      8,2,19930215,0214,-55.6705,  29.9978, 5465,    706.7,   2.1223,  34.7022,2,  34.7020,2,    181.3,2,  2.0807,    183.7,2,    82.43,2,    31.53,2,     2.16,2,    0.964,4,    0.073,2,   -999.0,9,   2249.7,2,   2348.0,2,  -999.0
    35MFCIVA_1, I06SA,    26,  2,    800,      7,2,19930215,0214,-55.6705,  29.9978, 5465,    810.6,   2.0653,  34.7249,2,  34.7260,2,    187.5,2,  2.0172,    188.2,2,    83.24,2,    30.90,2,     2.11,2,    0.197,2,    0.071,3,   -999.0,9,   2247.4,2,   2351.0,2,  -999.0
    35MFCIVA_1, I06SA,    26,  2,    900,      6,2,19930215,0214,-55.6705,  29.9978, 5465,    906.2,   1.9984,  34.7396,2,  34.7400,2,    189.7,2,  1.9443,    192.4,2,    84.46,2,    30.36,2,     2.08,2,    0.173,2,    0.055,3,   -999.0,9,   2247.6,2,   2351.0,2,  -999.0
    35MFCIVA_1, I06SA,    26,  2,   1000,      5,2,19930215,0214,-55.6705,  29.9978, 5465,   1006.9,   1.9224,  34.7517,2,  34.7510,2,    193.1,2,  1.8621,    196.5,2,    84.86,2,    29.97,2,     2.04,2,    0.129,2,    0.000,3,   -999.0,9,   2234.9,2,   2355.0,2,  -999.0
    35MFCIVA_1, I06SA,    26,  2,   1100,      4,2,19930215,0214,-55.6705,  29.9978, 5465,   1107.3,   1.7844,  34.7518,2,  34.7520,2,    197.3,2,  1.7184,    198.5,2,    88.52,2,    29.97,2,     2.03,2,    0.135,2,    0.041,3,   -999.0,9,   2237.0,2,   2356.0,2,  -999.0
    35MFCIVA_1, I06SA,    26,  2,   1200,      3,2,19930215,0214,-55.6705,  29.9978, 5465,   1210.8,   1.7194,  34.7585,2,  34.7580,2,    200.8,2,  1.6468,    202.4,2,  -999.00,5,    29.59,2,     2.01,2,    0.120,2,    0.036,2,   -999.0,9,   2239.6,2,   2357.0,2,  -999.0
    35MFCIVA_1, I06SA,    26,  2,   1350a,      2,2,19930215,0214,-55.6705,  29.9978, 5465,   1360.5,   1.5734,  34.7541,2,  34.7550,2,    201.3,2,  1.4918,    203.9,2,  -999.00,5,    29.74,2,     2.03,2,    0.114,2,    0.039,2,   -999.0,9,   2242.0,2,   2359.0,2,  -999.0
    35MFCIVA_1, I06SA,    26,  2,   1350b,      1,2,19930215,0214,-55.6705,  29.9978, 5465,   1363.3,   1.5274,  34.7500,2,  34.7530,2,    201.5,2,  1.4461,    204.0,2,  -999.00,5,    29.74,2,     2.02,2,    0.102,2,    0.000,3,   -999.0,9,   2245.0,2,   2357.0,2,  -999.0