BOTTLE,20220922CCHSIOAMB
# Extracted rows with no pressure into residual file
# Disambiguated duplicate SAMPNOs by appending sequential letters, SAMPNOs appear to be "target depth"
# Removed exactly duplicated station 50 profiles
#BOTTLE,20061204WHPSIODBK
#code : jjward hyd_to_exchange.pl 
#original files copied from HTML directory: 20061204
#original HYD file: i06sahy.txt   Mon Dec  4 12:27:46 2006
#original SUM file: i06sasu.txt   Wed Nov 29 12:03:15 2006
EXPOCODE,SECT_ID,STNNBR,CASTNO,SAMPNO,BTLNBR,BTLNBR_FLAG_W,DATE,TIME,LATITUDE,LONGITUDE,DEPTH,CTDPRS,CTDTMP,CTDSAL,CTDSAL_FLAG_W,SALNTY,SALNTY_FLAG_W,CTDOXY,CTDOXY_FLAG_W,THETA,OXYGEN,OXYGEN_FLAG_W,SILCAT,SILCAT_FLAG_W,NITRAT,NITRAT_FLAG_W,PHSPHT,PHSPHT_FLAG_W,CFC-11,CFC-11_FLAG_W,CFC-12,CFC-12_FLAG_W,DELC14,DELC14_FLAG_W,TCARBN,TCARBN_FLAG_W,ALKALI,ALKALI_FLAG_W,C14ERR
,,,,,,,,,,,,DBAR,ITS-90,PSS-78,,PSS-78,,UMOL/KG,,DEG C,UMOL/KG,,UMOL/KG,,UMOL/KG,,UMOL/KG,,PMOL/KG,,PMOL/KG,,/MILLE,,UMOL/KG,,UMOL/KG,,/MILLE
    35MFCIVA_1, I06SA,     1,  1,     10,     12,2,19930205,0202,-68.9762,  30.1473,  272,     11.3,  -1.6373,  33.4524,2,  33.4460,2,    365.9,2, -1.6376,    373.9,2,    55.63,2,    23.00,2,     1.52,2,    6.382,2,    2.931,2,   -999.0,9,   2112.5,2,   2285.0,2,  -999.0
    35MFCIVA_1, I06SA,     1,  1,     20,     11,2,19930205,0202,-68.9762,  30.1473,  272,     19.7,  -1.6353,  33.5323,2,  33.5320,2,    367.4,2, -1.6357,    367.3,2,    55.62,2,    23.75,2,     1.63,2,    6.258,2,    2.866,2,   -999.0,9,   2123.3,2,   2288.0,2,  -999.0
    35MFCIVA_1, I06SA,     1,  1,     40,     10,2,19930205,0202,-68.9762,  30.1473,  272,     40.2,  -1.5743,  33.6902,2,  33.7020,2,    351.2,2, -1.5751,    357.3,2,    57.87,2,    24.85,2,     1.72,2,    6.217,2,    2.803,2,   -999.0,9,   2144.2,2,   2309.0,2,  -999.0
    35MFCIVA_1, I06SA,     1,  1,     60,      9,2,19930205,0202,-68.9762,  30.1473,  272,     60.9,  -1.5933,  33.8861,2,  33.8860,2,    350.2,2, -1.5945,    345.5,2,    60.12,2,    26.51,2,     1.82,2,    5.887,2,    2.668,2,   -999.0,9,   2167.1,2,   2312.0,2,  -999.0
    35MFCIVA_1, I06SA,     1,  1,     80,      8,2,19930205,0202,-68.9762,  30.1473,  272,     80.4,  -1.6604,  33.9810,2,  33.9820,2,    340.3,2, -1.6620,    335.5,2,    62.37,2,    27.89,2,  -999.00,5,    5.717,2,    2.607,2,   -999.0,9,   2178.6,2,   2321.0,2,  -999.0
    35MFCIVA_1, I06SA,     1,  1,    100,      7,2,19930205,0202,-68.9762,  30.1473,  272,    100.5,  -1.6824,  34.0409,2,  34.0400,2,    332.9,2, -1.6845,    331.4,2,    61.61,2,    28.44,2,     1.89,2,    5.646,2,    2.560,2,   -999.0,9,   2185.8,2,   2320.0,2,  -999.0
    35MFCIVA_1, I06SA,     1,  1,    125,      6,2,19930205,0202,-68.9762,  30.1473,  272,    125.8,  -1.6924,  34.0990,2,  34.1050,2,    327.4,2, -1.6950,    325.0,2,    63.11,2,    29.13,2,     1.94,2,    5.481,2,    2.495,2,   -999.0,9,   2193.2,2,   2324.0,2,  -999.0
    35MFCIVA_1, I06SA,     1,  1,    150,      5,2,19930205,0202,-68.9762,  30.1473,  272,    152.4,  -1.6894,  34.1484,2,  34.1450,2,    321.8,2, -1.6926,    320.7,2,    68.37,2,    29.54,2,     1.93,2,    5.392,2,    2.469,2,   -999.0,9,   2197.5,2,   2322.0,2,  -999.0
    35MFCIVA_1, I06SA,     1,  1,    175,      4,2,19930205,0202,-68.9762,  30.1473,  272,    176.9,  -1.6133,  34.2191,2,  34.2000,2,    314.4,2, -1.6172,    315.4,2,    65.36,2,    29.81,2,     1.98,2,    5.261,2,    2.408,2,   -999.0,9,   2204.8,2,   2328.0,2,  -999.0
    35MFCIVA_1, I06SA,     1,  1,    200,      3,2,19930205,0202,-68.9762,  30.1473,  272,    201.4,  -1.2729,  34.2922,2,  34.2930,2,    302.2,2, -1.2780,    301.3,2,    69.86,2,    30.50,2,     1.98,2,    4.636,2,    2.086,2,   -999.0,9,   2214.8,2,   2334.0,2,  -999.0
    35MFCIVA_1, I06SA,     1,  1,    250,      2,2,19930205,0202,-68.9762,  30.1473,  272,    254.3,  -0.7113,  34.4039,2,  34.4020,2,    273.8,2, -0.7192,    274.0,2,    78.12,2,    31.19,2,     2.05,2,    3.618,2,    1.642,2,   -999.0,9,   2227.0,2,   2345.0,2,  -999.0
    35MFCIVA_1, I06SA,     1,  1,   F-20,      1,2,19930205,0202,-68.9762,  30.1473,  272,    269.6,  -0.3820,  34.4663,2,  34.4640,2,    258.0,2, -0.3912,    258.4,2,    84.13,2,    31.33,2,     2.03,2,    2.977,2,    1.351,2,   -999.0,9,   2218.2,2,   2352.0,2,  -999.0
    35MFCIVA_1, I06SA,     2,  1,    325,      4,2,19930205,0428,-68.9778,  30.0817,  690,    329.3,  -0.3390,  34.4619,2,  34.4670,2,    266.3,2, -0.3505,    258.4,2,    82.63,2,    31.60,2,     2.02,2,    3.047,2,    1.368,2,   -999.0,9,   2230.6,2,   2347.0,2,  -999.0
    35MFCIVA_1, I06SA,     2,  1,    400,      3,2,19930205,0428,-68.9778,  30.0817,  690,    404.0,   0.2193,  34.5787,2,  34.5700,2,    240.0,2,  0.2029,    233.2,2,    92.76,2,    31.88,2,     1.99,2,    1.858,2,    0.851,2,   -999.0,9,   2243.1,2,   2353.0,2,  -999.0
    35MFCIVA_1, I06SA,     2,  1,    500,      2,2,19930205,0428,-68.9778,  30.0817,  690,    554.7,   0.4093,  34.6458,2,  34.6440,2,    222.4,2,  0.3852,    221.8,2,   105.15,2,    32.01,2,     2.08,2,    1.079,2,    0.477,2,   -999.0,9,   2250.5,2,   2362.0,2,  -999.0
    35MFCIVA_1, I06SA,     2,  1,   F-20,      1,2,19930205,0428,-68.9778,  30.0817,  690,    691.2,   0.3943,  34.6503,2,  34.6490,2,    215.5,2,  0.3635,    222.2,2,   107.40,2,    32.01,2,     2.04,2,    1.023,2,    0.437,2,   -999.0,9,   2247.9,3,   2364.0,2,  -999.0
    35MFCIVA_1, I06SA,     2,  2,     10,     12,2,19930205,0539,-68.9837,  30.0547,  750,     10.4,  -1.5793,  33.4097,2,  33.4160,2,    376.3,2, -1.5795,    379.1,2,    55.63,2,    22.38,2,     1.44,2,    6.423,2,    2.964,2,   -999.0,9,   2111.4,2,   2277.0,2,  -999.0
    35MFCIVA_1, I06SA,     2,  2,     20,     11,2,19930205,0539,-68.9837,  30.0547,  750,     21.2,  -1.6664,  33.4164,2,  33.4240,2,    380.4,2, -1.6668,    378.1,2,    57.13,2,    22.51,2,     1.41,2,    6.396,2,    2.913,2,   -999.0,9,   2116.7,2,   -999.0,9,  -999.0
    35MFCIVA_1, I06SA,     2,  2,     40,     10,2,19930205,0539,-68.9837,  30.0547,  750,     41.2,  -1.4881,  33.7415,2,  33.7440,2,    370.0,2, -1.4890,    360.5,2,    57.12,2,    24.16,2,     1.60,2,    6.172,2,    2.832,2,   -999.0,9,   2149.4,2,   2301.0,2,  -999.0
    35MFCIVA_1, I06SA,     2,  2,     60,      9,2,19930205,0539,-68.9837,  30.0547,  750,     62.7,  -1.5582,  33.8727,2,  33.8750,2,    363.9,2, -1.5595,    349.3,2,    59.37,2,    25.82,2,     1.69,2,    6.001,2,    2.708,2,   -999.0,9,   2168.4,2,   2309.0,2,  -999.0
    35MFCIVA_1, I06SA,     2,  2,     80,      8,2,19930205,0539,-68.9837,  30.0547,  750,     81.7,  -1.6504,  33.9840,2,  33.9830,2,    353.2,2, -1.6520,    339.6,2,    60.86,2,    27.20,2,     1.86,2,    5.777,2,    2.649,2,   -999.0,9,   2182.5,2,   2316.0,2,  -999.0
    35MFCIVA_1, I06SA,     2,  2,    100,      7,2,19930205,0539,-68.9837,  30.0547,  750,    101.6,  -1.6964,  34.0340,2,  34.0350,2,    346.4,2, -1.6985,    333.3,2,    61.61,2,    27.89,2,     1.89,2,    5.637,2,    2.597,2,   -999.0,9,   2191.0,2,   2318.0,2,  -999.0
    35MFCIVA_1, I06SA,     2,  2,    125,      6,2,19930205,0539,-68.9837,  30.0547,  750,    126.9,  -1.7034,  34.1263,2,  34.1060,2,    341.0,2, -1.7061,    323.8,2,    62.36,2,    29.13,2,     1.98,2,    5.485,2,    2.477,2,   -999.0,9,   2200.3,2,   2321.0,2,  -999.0
    35MFCIVA_1, I06SA,     2,  2,    150,      5,2,19930205,0539,-68.9837,  30.0547,  750,    152.2,  -1.7104,  34.1546,2,  34.1560,2,    333.6,2, -1.7136,    320.0,2,    63.11,2,    29.54,2,     1.92,2,    5.347,2,    2.452,2,   -999.0,9,   2203.8,2,   2323.0,2,  -999.0
    35MFCIVA_1, I06SA,     2,  2,    175,      4,2,19930205,0539,-68.9837,  30.0547,  750,    179.1,  -1.6814,  34.1988,2,  34.1990,2,    329.2,2, -1.6852,    316.9,2,    63.86,2,    29.81,2,     1.98,2,    5.259,2,    2.422,2,   -999.0,9,   2208.4,2,   2327.0,2,  -999.0
    35MFCIVA_1, I06SA,     2,  2,    200,      3,2,19930205,0539,-68.9837,  30.0547,  750,    203.6,  -1.6283,  34.2057,2,  34.2050,2,    329.6,2, -1.6328,    315.9,2,    63.86,2,    29.95,2,     1.95,2,    5.204,2,    2.398,2,   -999.0,9,   2211.0,2,   2325.0,2,  -999.0
    35MFCIVA_1, I06SA,     2,  2,    250a,      1,2,19930205,0539,-68.9837,  30.0547,  750,    256.1,  -0.9555,  34.3540,2,  34.3500,2,    287.0,2, -0.9629,    285.5,2,    74.37,2,    30.71,2,     1.98,2,    4.048,2,    1.861,2,   -999.0,9,   2217.0,2,   2338.0,2,  -999.0
    35MFCIVA_1, I06SA,     2,  2,    250b,      2,2,19930205,0539,-68.9837,  30.0547,  750,    257.4,  -0.9565,  34.3543,2,  34.3500,2,    287.0,2, -0.9639,    285.7,2,    69.86,2,    30.78,2,     2.01,2,    4.048,2,    1.846,2,   -999.0,9,   2225.0,2,   2336.0,2,  -999.0
    35MFCIVA_1, I06SA,     3,  1,    325,     10,2,19930205,0750,-68.9877,  29.9903, 1275,    328.3,  -0.6673,  34.4061,2,  34.4120,2,    273.7,2, -0.6778,    273.3,2,    75.87,2,    31.20,2,     2.13,2,    3.579,2,    1.639,2,   -999.0,9,   2220.9,2,   -999.0,9,  -999.0
    35MFCIVA_1, I06SA,     3,  1,    400,      9,2,19930205,0750,-68.9877,  29.9903, 1275,    403.5,  -0.0258,  34.5286,2,  34.5290,2,    240.8,2, -0.0413,    245.3,2,    89.38,2,    31.61,2,     2.12,2,    2.366,2,    1.078,2,   -999.0,9,   2238.1,2,   -999.0,9,  -999.0
    35MFCIVA_1, I06SA,     3,  1,    500,      8,2,19930205,0750,-68.9877,  29.9903, 1275,    510.1,   0.3283,  34.6370,2,  34.6360,2,    224.9,2,  0.3066,    224.3,2,   106.65,2,    31.74,2,  -999.00,5,    1.214,2,    0.528,2,   -999.0,9,   2249.4,2,   2342.0,3,  -999.0
    35MFCIVA_1, I06SA,     3,  1,    600,      7,2,19930205,0750,-68.9877,  29.9903, 1275,    609.2,   0.2893,  34.6583,2,  34.6560,2,    223.9,2,  0.2631,    222.6,2,   113.41,2,    31.88,2,     2.16,2,    0.924,2,    0.411,2,   -999.0,9,   2253.7,2,   2349.0,3,  -999.0
    35MFCIVA_1, I06SA,     3,  1,    700,      6,2,19930205,0750,-68.9877,  29.9903, 1275,    710.5,   0.2713,  34.6618,2,  34.6610,2,    224.0,2,  0.2401,    221.7,2,   117.17,2,    31.88,2,     2.19,2,    0.830,2,    0.361,2,   -999.0,9,   2255.7,2,   2362.0,2,  -999.0
    35MFCIVA_1, I06SA,     3,  1,    800,      5,2,19930205,0750,-68.9877,  29.9903, 1275,    811.5,   0.2523,  34.6643,2,  34.6660,2,    222.9,2,  0.2161,    222.4,2,   118.67,2,    32.43,2,     2.16,2,    0.758,2,    0.318,2,   -999.0,9,   2257.0,2,   2364.0,2,  -999.0
    35MFCIVA_1, I06SA,     3,  1,    900,      4,2,19930205,0750,-68.9877,  29.9903, 1275,    911.8,   0.2413,  34.6678,2,  34.6670,2,    224.6,2,  0.1999,    221.9,2,   120.17,2,    31.88,2,     2.19,2,    0.711,2,    0.299,2,   -999.0,9,   2257.3,2,   2358.0,3,  -999.0
    35MFCIVA_1, I06SA,     3,  1,   1000,      3,2,19930205,0750,-68.9877,  29.9903, 1275,   1011.0,   0.2303,  34.6696,2,  34.6670,2,    222.6,2,  0.1836,    221.6,2,   120.92,2,    32.98,2,     2.13,2,    0.698,2,    0.297,2,   -999.0,9,   2257.8,2,   2367.0,2,  -999.0
    35MFCIVA_1, I06SA,     3,  1,   F-20a,      2,2,19930205,0750,-68.9877,  29.9903, 1275,   1109.1,   0.2113,  34.6709,2,  34.6680,2,    223.8,2,  0.1593,    221.0,2,   119.42,2,    32.16,2,     2.21,2,    0.665,2,    0.275,2,   -999.0,9,   2259.0,2,   2360.0,2,  -999.0
    35MFCIVA_1, I06SA,     3,  1,   F-20b,      1,2,19930205,0750,-68.9877,  29.9903, 1275,   1111.8,   0.2113,  34.6707,2,  34.6680,2,    222.9,2,  0.1591,    222.8,2,   120.17,2,    32.16,2,     2.22,2,    0.662,2,    0.285,2,   -999.0,9,   2251.0,3,   2364.0,2,  -999.0
    35MFCIVA_1, I06SA,     3,  2,     10,     12,2,19930205,0928,-68.9930,  29.9315, 1240,      7.9,  -1.3860,  33.3987,2,  33.4030,2,    379.3,2, -1.3862,   -999.0,5,    57.62,2,    21.99,2,     1.37,2,    6.563,2,    3.044,2,   -999.0,9,   2102.5,2,   2277.0,2,  -999.0
    35MFCIVA_1, I06SA,     3,  2,     20,     11,2,19930205,0928,-68.9930,  29.9315, 1240,     19.4,  -1.5893,  33.4597,2,  33.4390,2,    376.8,2, -1.5896,   -999.0,5,    57.61,2,    22.13,2,     1.38,2,    6.555,2,    3.025,2,   -999.0,9,   2107.5,2,   2281.0,2,  -999.0
    35MFCIVA_1, I06SA,     3,  2,     40,     10,2,19930205,0928,-68.9930,  29.9315, 1240,     38.1,  -1.5422,  33.5944,2,  33.6520,2,    368.2,2, -1.5430,   -999.0,5,    57.61,2,    23.09,2,     1.47,2,    6.376,2,    2.931,2,   -999.0,9,   2126.9,2,   2289.0,2,  -999.0
    35MFCIVA_1, I06SA,     3,  2,     60,      9,2,19930205,0928,-68.9930,  29.9315, 1240,     60.8,  -1.5803,  33.8935,2,  33.8860,2,    347.5,2, -1.5815,    347.1,2,    61.29,2,    26.10,2,     1.75,2,    5.922,2,    2.706,2,   -999.0,9,   2166.5,2,   2309.0,2,  -999.0
    35MFCIVA_1, I06SA,     3,  2,     80,      8,2,19930205,0928,-68.9930,  29.9315, 1240,     80.4,  -1.6864,  34.0066,2,  34.0060,2,    337.3,2, -1.6880,    337.6,2,    63.50,2,    27.34,2,     1.91,2,    5.784,2,    2.639,2,   -999.0,9,   2186.1,2,   2315.0,2,  -999.0
    35MFCIVA_1, I06SA,     3,  2,    100,      7,2,19930205,0928,-68.9930,  29.9315, 1240,    100.4,  -1.7155,  34.0482,2,  34.0500,2,    331.7,2, -1.7175,    331.0,2,    64.97,2,    28.30,2,     1.93,2,    5.613,2,    2.586,2,   -999.0,9,   -999.0,5,   2317.0,2,  -999.0
    35MFCIVA_1, I06SA,     3,  2,    125,      6,2,19930205,0928,-68.9930,  29.9315, 1240,    126.2,  -1.7926,  34.1094,2,  34.1100,2,    329.4,2, -1.7951,    325.8,2,    66.44,2,    29.95,2,     1.98,2,    5.673,2,    2.602,2,   -999.0,9,   2192.8,2,   2321.0,2,  -999.0
    35MFCIVA_1, I06SA,     3,  2,    150,      5,2,19930205,0928,-68.9930,  29.9315, 1240,    150.5,  -1.7856,  34.1627,2,  34.1650,2,    323.9,2, -1.7886,    326.1,2,    66.44,2,    29.67,2,     1.98,2,    5.610,2,    2.588,2,   -999.0,9,   2195.3,2,   2323.0,2,  -999.0
    35MFCIVA_1, I06SA,     3,  2,    175,      4,2,19930205,0928,-68.9930,  29.9315, 1240,    175.8,  -1.7906,  34.2026,2,  34.2020,2,    324.2,2, -1.7942,    326.2,2,    67.91,2,    30.36,2,     1.98,2,    5.574,2,    2.571,2,   -999.0,9,   2197.8,2,   2324.0,2,  -999.0
    35MFCIVA_1, I06SA,     3,  2,    200,      3,2,19930205,0928,-68.9930,  29.9315, 1240,    200.3,  -1.7004,  34.2463,2,  34.2480,2,    321.3,2, -1.7048,    320.3,2,    67.17,2,    30.22,2,     2.00,2,    5.371,2,    2.491,2,   -999.0,9,   2203.0,2,   2329.0,2,  -999.0
    35MFCIVA_1, I06SA,     3,  2,    250a,      2,2,19930205,0928,-68.9930,  29.9315, 1240,    262.0,  -1.6764,  34.2938,2,  34.2950,2,    314.7,2, -1.6823,    320.8,2,    68.65,2,    30.35,2,     2.01,2,    5.428,2,    2.517,2,   -999.0,9,   2206.0,2,   2334.0,2,  -999.0
    35MFCIVA_1, I06SA,     3,  2,    250b,      1,2,19930205,0928,-68.9930,  29.9315, 1240,    262.0,  -1.6784,  34.2947,2,  34.2950,2,    314.7,2, -1.6843,    273.5,4,    69.39,2,    30.49,2,     2.00,2,    5.478,3,    2.516,2,   -999.0,9,   2207.0,2,   -999.0,9,  -999.0
    35MFCIVA_1, I06SA,     4,  1,    700,     12,2,19930205,1205,-68.9723,  29.8548, 2197,    708.3,   0.5664,  34.6853,2,-999.0000,5,    206.9,2,  0.5336,    212.8,2,   114.39,2,    31.86,2,     2.31,2,    0.567,2,    0.235,2,   -999.0,9,   2254.8,2,   2364.0,2,  -999.0
    35MFCIVA_1, I06SA,     4,  1,    800,     11,2,19930205,1205,-68.9723,  29.8548, 2197,    808.3,   0.4614,  34.6804,2,  34.6820,2,    209.6,2,  0.4239,    208.3,4,   115.87,2,    31.99,2,     2.34,2,    0.598,2,    0.258,2,   -999.0,9,   2254.6,2,   2365.0,2,  -999.0
    35MFCIVA_1, I06SA,     4,  1,    900,     10,2,19930205,1205,-68.9723,  29.8548, 2197,    908.9,   0.4043,  34.6791,2,  34.6800,2,    212.7,2,  0.3619,    215.3,2,   117.34,2,    32.13,2,     2.32,2,    0.557,2,    0.236,2,   -999.0,9,   2256.1,2,   2368.0,2,  -999.0
    35MFCIVA_1, I06SA,     4,  1,   1000,      9,2,19930205,1205,-68.9723,  29.8548, 2197,   1010.2,   0.3413,  34.6778,2,  34.6790,2,    212.6,2,  0.2937,    215.5,2,   120.29,2,    32.13,2,     2.35,2,    0.553,2,    0.217,2,   -999.0,9,   2256.6,2,   2366.0,2,  -999.0
    35MFCIVA_1, I06SA,     4,  1,   1100,      8,2,19930205,1205,-68.9723,  29.8548, 2197,   1111.1,   0.2673,  34.6751,2,  34.6770,2,    213.4,2,  0.2147,    216.6,2,   123.24,2,    32.13,2,     2.38,2, -999.000,5, -999.000,5,   -999.0,9,   2257.7,2,   2365.0,2,  -999.0
    35MFCIVA_1, I06SA,     4,  1,   1200,      7,2,19930205,1205,-68.9723,  29.8548, 2197,   1213.0,   0.1903,  34.6716,2,  34.6750,2,    216.9,2,  0.1325,    219.0,2,   124.72,2,    32.27,2,     2.32,2,    0.511,2,    0.214,2,   -999.0,9,   2256.2,2,   2369.0,2,  -999.0
    35MFCIVA_1, I06SA,     4,  1,   1350,      6,2,19930205,1205,-68.9723,  29.8548, 2197,   1363.2,   0.1392,  34.6727,2,  34.6710,2,    219.2,2,  0.0731,    219.7,2,   125.46,2,    32.41,2,     2.35,2,    0.507,2,    0.215,2,   -999.0,9,   2256.5,2,   2366.0,2,  -999.0
    35MFCIVA_1, I06SA,     4,  1,   1500,      5,2,19930205,1205,-68.9723,  29.8548, 2197,   1517.4,   0.0942,  34.6710,2,  34.6710,2,    219.0,2,  0.0191,    221.0,2,   126.93,2,    32.54,2,     2.40,2,    0.469,2,    0.191,2,   -999.0,9,   2253.7,2,   2368.0,2,  -999.0
    35MFCIVA_1, I06SA,     4,  1,   1750,      4,2,19930205,1205,-68.9723,  29.8548, 2197,   1771.8,   0.0492,  34.6712,2,  34.6690,2,    220.3,2, -0.0417,    222.7,2,   129.15,2,    32.41,2,     2.34,2,    0.481,2,    0.196,2,   -999.0,9,   2256.5,2,   2368.0,2,  -999.0
    35MFCIVA_1, I06SA,     4,  1,   2000,      3,2,19930205,1205,-68.9723,  29.8548, 2197,   2023.9,  -0.0158,  34.6672,2,  34.6680,2,    223.0,2, -0.1229,    225.6,2,   129.88,2,    32.41,2,     2.34,2,    0.504,2,    0.216,2,   -999.0,9,   2254.6,2,   2368.0,2,  -999.0
    35MFCIVA_1, I06SA,     4,  1,   F-20a,      1,2,19930205,1205,-68.9723,  29.8548, 2197,   2186.7,  -0.0148,  34.6684,2,  34.6680,2,    222.5,2, -0.1336,    226.1,2,   129.88,2,    32.13,2,     2.31,2,    0.534,2,    0.223,2,   -999.0,9,   2251.0,2,   2369.0,2,  -999.0
    35MFCIVA_1, I06SA,     4,  1,   F-20b,      2,2,19930205,1205,-68.9723,  29.8548, 2197,   2187.3,  -0.0128,  34.6685,2,  34.6680,2,    222.5,2, -0.1317,    225.9,2,   129.88,2,    32.27,2,     2.32,2,    0.574,2,    0.193,3,   -999.0,9,   2254.0,2,   2370.0,2,  -999.0
    35MFCIVA_1, I06SA,     4,  2,    250a,      6,2,19930205,1420,-68.9712,  29.8640, 2146,    253.0,  -1.4391,  34.3213,2,  34.3230,2,    319.9,2, -1.4453,    307.4,2,    70.86,2,    30.76,2,     2.06,2,    5.016,2,    2.258,2,   -999.0,9,   2213.0,3,   2330.0,2,  -999.0
    35MFCIVA_1, I06SA,     4,  2,    250b,      5,2,19930205,1420,-68.9712,  29.8640, 2146,    253.1,  -1.4361,  34.3220,2,  34.3250,2,    319.9,2, -1.4423,    307.9,2,    70.86,2,    30.63,2,     2.18,2,    4.990,2,    2.249,2,   -999.0,9,   2229.0,3,   -999.0,9,  -999.0
    35MFCIVA_1, I06SA,     4,  2,    325,      4,2,19930205,1420,-68.9712,  29.8640, 2146,    328.9,  -1.0116,  34.4168,2,  34.4190,2,    284.7,2, -1.0212,    285.8,2,    76.76,2,    31.04,2,     2.16,2,    4.130,2,    1.848,2,   -999.0,9,   2216.0,4,   2337.0,2,  -999.0
    35MFCIVA_1, I06SA,     4,  2,    400,      3,2,19930205,1420,-68.9712,  29.8640, 2146,    406.1,   0.0512,  34.5712,2,  34.5710,2,    241.3,2,  0.0353,    238.7,2,    94.47,2,    32.00,2,     2.22,2,    2.028,2,    0.919,2,   -999.0,9,   2241.9,2,   2351.0,2,  -999.0
    35MFCIVA_1, I06SA,     4,  2,    500,      2,2,19930205,1420,-68.9712,  29.8640, 2146,    508.8,   0.6594,  34.6782,2,  34.6770,2,    212.1,2,  0.6364,    213.8,2,   107.01,2,    31.86,2,     2.22,2,    0.825,2,    0.348,2,   -999.0,9,   2252.0,2,   -999.0,9,  -999.0
    35MFCIVA_1, I06SA,     4,  2,    600,      1,2,19930205,1420,-68.9712,  29.8640, 2146,    609.5,   0.6284,  34.6871,2,  34.6850,2,    206.3,2,  0.6004,    212.7,2,   110.70,2,    31.99,2,     2.18,2,    0.682,8,    0.238,3,   -999.0,9,   2252.8,2,   2363.0,2,  -999.0