BOTTLE,20220922CCHSIOAMB
EXPOCODE,SECT_ID,STNNBR,CASTNO,SAMPNO,BTLNBR,BTLNBR_FLAG_W,DATE,TIME,LATITUDE,LONGITUDE,DEPTH,CTDPRS,CTDTMP,CTDSAL,CTDSAL_FLAG_W,SALNTY,SALNTY_FLAG_W,CTDOXY,CTDOXY_FLAG_W,THETA,OXYGEN,OXYGEN_FLAG_W,SILCAT,SILCAT_FLAG_W,NITRAT,NITRAT_FLAG_W,PHSPHT,PHSPHT_FLAG_W,CFC-11,CFC-11_FLAG_W,CFC-12,CFC-12_FLAG_W,DELC14,DELC14_FLAG_W,TCARBN,TCARBN_FLAG_W,ALKALI,ALKALI_FLAG_W,C14ERR
,,,,,,,,,,,,DBAR,ITS-90,PSS-78,,PSS-78,,UMOL/KG,,DEG C,UMOL/KG,,UMOL/KG,,UMOL/KG,,UMOL/KG,,PMOL/KG,,PMOL/KG,,/MILLE,,UMOL/KG,,UMOL/KG,,/MILLE
    35MFCIVA_1, I06SA,    47,  2,     10,     12,2,19930308,1829,-46.0080,  30.0037, 4890,      8.9,  10.8873,  34.4394,2,  34.4350,2,    274.2,2, 10.8862,    274.8,2,     2.15,2,     9.09,2,     0.71,2,    3.561,2,    1.984,4,   -999.0,9,   2064.1,2,   2293.0,2,  -999.0
    35MFCIVA_1, I06SA,    47,  2,     20,     11,2,19930308,1829,-46.0080,  30.0037, 4890,     20.0,  10.8893,  34.4376,2,  34.4360,2,    271.7,2, 10.8869,    275.1,2,     2.59,2,     9.09,2,     0.69,2,    3.572,2,    2.017,4,   -999.0,9,   2064.7,2,   2297.0,2,  -999.0
    35MFCIVA_1, I06SA,    47,  2,     40,     10,2,19930308,1829,-46.0080,  30.0037, 4890,     40.0,  10.9093,  34.4729,2,  34.4690,2,    274.2,2, 10.9045,    274.9,2,     3.45,2,     8.80,2,     0.67,2,    3.531,2,    1.952,4,   -999.0,9,   2060.0,2,   2299.0,2,  -999.0
    35MFCIVA_1, I06SA,    47,  2,     60,      9,2,19930308,1829,-46.0080,  30.0037, 4890,     59.3,  10.8543,  34.4931,2,  34.4900,2,    273.6,2, 10.8472,    273.2,2,     3.45,2,     8.88,2,     0.68,2,    3.549,2,    1.981,4,   -999.0,9,   2063.7,2,   2299.0,2,  -999.0
    35MFCIVA_1, I06SA,    47,  2,     80,      8,2,19930308,1829,-46.0080,  30.0037, 4890,     79.2,  10.0350,  34.5501,2,  34.5400,2,    265.1,2, 10.0259,    266.3,2,     3.88,2,    11.26,2,     0.89,2,    3.657,2,    2.026,4,   -999.0,9,   2082.6,2,   2301.0,2,  -999.0
    35MFCIVA_1, I06SA,    47,  2,    100,      7,2,19930308,1829,-46.0080,  30.0037, 4890,    100.0,   9.3806,  34.5323,2,  34.5290,2,    269.1,2,  9.3695,    264.6,2,     6.89,2,    13.42,2,     0.98,2,    3.721,2,    2.044,4,   -999.0,9,   2092.2,2,   2299.0,2,  -999.0
    35MFCIVA_1, I06SA,    47,  2,    125,      6,2,19930308,1829,-46.0080,  30.0037, 4890,    124.8,   9.0458,  34.5784,2,  34.5800,2,    259.5,2,  9.0324,    256.9,2,     7.75,2,    15.29,2,     1.10,2,    3.570,2,    1.976,4,   -999.0,9,   2102.7,2,   2300.0,2,  -999.0
    35MFCIVA_1, I06SA,    47,  2,    150,      5,2,19930308,1829,-46.0080,  30.0037, 4890,    149.7,   8.6003,  34.5374,2,  34.5360,2,    259.1,2,  8.5846,    260.6,2,     8.18,2,    16.01,2,     1.13,2,    3.626,2,    1.993,4,   -999.0,9,   2105.6,2,   2296.0,2,  -999.0
    35MFCIVA_1, I06SA,    47,  2,    175,      4,2,19930308,1829,-46.0080,  30.0037, 4890,    174.4,   8.3025,  34.5087,2,  34.5090,2,    262.8,2,  8.2846,    263.7,2,     8.18,2,    16.38,2,     1.14,2,    3.716,2,    2.073,4,   -999.0,9,   2105.5,2,   2297.0,2,  -999.0
    35MFCIVA_1, I06SA,    47,  2,    200,      3,2,19930308,1829,-46.0080,  30.0037, 4890,    199.7,   8.0118,  34.4791,2,  34.4770,2,    266.9,2,  7.9917,    267.6,2,     8.61,2,    16.66,2,     1.17,2,    3.791,2,    2.111,4,   -999.0,9,   2107.2,2,   2296.0,2,  -999.0
    35MFCIVA_1, I06SA,    47,  2,    250a,      1,2,19930308,1829,-46.0080,  30.0037, 4890,    256.0,   7.2695,  34.3949,2,  34.3930,2,    267.3,2,  7.2451,    267.4,2,     9.47,2,    18.54,2,     1.26,2,    3.752,2,    2.037,4,   -999.0,9,   2112.9,2,   2292.0,2,  -999.0
    35MFCIVA_1, I06SA,    47,  2,    250b,      2,2,19930308,1829,-46.0080,  30.0037, 4890,    258.0,   7.2565,  34.3927,2,  34.3930,2,    267.3,2,  7.2320,    267.9,2,     9.47,2,    18.39,2,     1.29,2,    3.750,2,    2.028,4,   -999.0,9,   2116.9,2,   2292.0,2,  -999.0
    35MFCIVA_1, I06SA,    48,  1,   1500,     12,2,19930308,2208,-45.6768,  29.9923, 5115,   1515.1,   2.7581,  34.5915,2,  34.5920,2,    173.7,2,  2.6518,    177.4,2,    72.40,2,    33.58,2,     2.24,2,    0.171,2,    0.093,4,   -999.0,9,   2244.5,2,   -999.0,9,  -999.0
    35MFCIVA_1, I06SA,    48,  1,   1750,     11,2,19930308,2208,-45.6768,  29.9923, 5115,   1768.1,   2.6501,  34.6878,2,  34.6880,2,    178.9,2,  2.5238,    185.6,2,    72.39,2,    31.72,2,     2.10,2,    0.060,3,    0.000,3,   -999.0,9,   2242.6,2,   2345.0,2,  -999.0
    35MFCIVA_1, I06SA,    48,  1,   2000,     10,2,19930308,2208,-45.6768,  29.9923, 5115,   2022.3,   2.4842,  34.7295,2,  34.7300,2,    187.8,2,  2.3381,    191.3,2,    77.03,2,    30.17,2,     2.02,2,    0.060,3,    0.000,3,   -999.0,9,   2239.6,2,   2351.0,2,  -999.0
    35MFCIVA_1, I06SA,    48,  1,   2250,      9,2,19930308,2208,-45.6768,  29.9923, 5115,   2277.8,   2.3123,  34.7535,2,  34.7560,2,    189.9,2,  2.1462,    196.6,2,    80.74,2,    30.24,2,     1.98,2,    0.076,3,    0.000,3,   -999.0,9,   2237.0,2,   2355.0,2,  -999.0
    35MFCIVA_1, I06SA,    48,  1,   2500,      8,2,19930308,2208,-45.6768,  29.9923, 5115,   2535.2,   2.1913,  34.7756,2,  34.7780,2,    199.8,2,  2.0037,    204.3,2,  -999.00,5,  -999.00,5,  -999.00,5,    0.000,2,    0.000,4,   -999.0,9,   2232.7,2,   2357.0,2,  -999.0
    35MFCIVA_1, I06SA,    48,  1,   3000,      7,2,19930308,2208,-45.6768,  29.9923, 5115,   3042.3,   1.6684,  34.7558,2,  34.7570,2,    202.2,2,  1.4435,    207.0,2,    97.44,2,    30.39,2,     1.96,2,    0.075,3,    0.000,3,   -999.0,9,   2243.5,2,   2366.0,2,  -999.0
    35MFCIVA_1, I06SA,    48,  1,   3500,      6,2,19930308,2208,-45.6768,  29.9923, 5115,   3556.2,   1.2525,  34.7380,2,  34.7390,2,    208.6,2,  0.9866,    212.7,2,   109.50,2,    31.05,2,     2.04,2,    0.080,2,    0.032,4,   -999.0,9,   2248.7,2,   2371.0,2,  -999.0
    35MFCIVA_1, I06SA,    48,  1,   4000a,      5,2,19930308,2208,-45.6768,  29.9923, 5115,   4067.6,   0.7994,  34.7019,2,  34.7030,2,    210.8,2,  0.4932,    212.7,2,   128.06,2,    32.53,2,     2.12,2, -999.000,5, -999.000,5,   -999.0,9,   2255.6,2,   2374.0,2,  -999.0
    35MFCIVA_1, I06SA,    48,  1,   4000b,      4,2,19930308,2208,-45.6768,  29.9923, 5115,   4580.4,   0.5564,  34.6893,2,  34.6910,2,    217.9,2,  0.2020,    219.0,2,   132.23,2,    32.98,2,     2.15,2,    0.104,2,    0.000,4,   -999.0,9,   2256.7,2,   2373.0,2,  -999.0
    35MFCIVA_1, I06SA,    48,  1,   4500,      3,2,19930308,2208,-45.6768,  29.9923, 5115,   4837.8,   0.4314,  34.6806,2,  34.6820,2,    220.7,2,  0.0522,    222.8,2,   135.48,2,    33.12,2,     2.21,2,    0.138,2,    0.079,4,   -999.0,9,   2256.4,2,   2370.0,2,  -999.0
    35MFCIVA_1, I06SA,    48,  1,   4750,      2,2,19930308,2208,-45.6768,  29.9923, 5115,   5096.8,   0.2583,  34.6695,2,  34.6700,2,    224.5,2, -0.1446,    226.5,2,   139.19,2,    33.42,2,     2.24,2,    0.159,2,    0.100,4,   -999.0,9,   2257.9,2,   2369.0,2,  -999.0
    35MFCIVA_1, I06SA,    48,  1,   F-20,      1,2,19930308,2208,-45.6768,  29.9923, 5115,   5206.6,   0.1983,  34.6654,2,  34.6660,2,    227.1,2, -0.2153,    228.4,2,   139.19,2,    33.49,2,     2.22,2,    0.184,2,    0.130,4,   -999.0,9,   2251.5,2,   2367.0,2,  -999.0
    35MFCIVA_1, I06SA,    48,  2,    325,     12,2,19930309,0147,-45.6823,  30.0098, 5062,    326.9,   7.1826,  34.3871,2,  34.3860,2,    264.4,2,  7.1515,    269.5,2,     9.17,2,    19.83,2,     1.31,2,    3.784,2,    2.056,4,   -999.0,9,   2127.2,2,   2291.0,2,  -999.0
    35MFCIVA_1, I06SA,    48,  2,    400,     11,2,19930309,0147,-45.6823,  30.0098, 5062,    402.8,   6.3024,  34.2756,2,  34.2750,2,    271.3,2,  6.2667,    278.1,2,     9.17,2,    21.23,2,     1.41,2,    3.987,2,    2.188,4,   -999.0,9,   2125.4,2,   2286.0,2,  -999.0
    35MFCIVA_1, I06SA,    48,  2,    500,     10,2,19930309,0147,-45.6823,  30.0098, 5062,    503.0,   5.7149,  34.2772,2,  34.2780,2,    253.3,2,  5.6723,    249.0,2,    13.75,2,    25.00,2,     1.64,2,    3.356,2,    1.695,4,   -999.0,9,   2144.6,2,   2288.0,2,  -999.0
    35MFCIVA_1, I06SA,    48,  2,    600,      9,2,19930309,0147,-45.6823,  30.0098, 5062,    603.9,   5.0285,  34.2776,2,  34.2790,2,    234.1,2,  4.9801,    236.7,2,    19.25,2,    27.81,2,     1.86,2,    2.587,2,    1.415,4,   -999.0,9,   2164.1,2,   2288.0,2,  -999.0
    35MFCIVA_1, I06SA,    48,  2,    700,      8,2,19930309,0147,-45.6823,  30.0098, 5062,    703.6,   4.5140,  34.2870,2,  34.2870,2,    230.7,2,  4.4597,    230.7,2,    25.20,2,    29.43,2,     1.98,2,    2.103,2,    1.156,4,   -999.0,9,   2176.4,2,   2296.0,2,  -999.0
    35MFCIVA_1, I06SA,    48,  2,    800,      7,2,19930309,0147,-45.6823,  30.0098, 5062,    803.9,   3.9764,  34.2895,2,  34.2940,2,    224.9,2,  3.9172,    227.6,2,    30.70,2,    30.17,2,     2.01,2,    1.814,2,    0.923,4,   -999.0,9,   2182.3,2,   2301.0,2,  -999.0
    35MFCIVA_1, I06SA,    48,  2,    900,      6,2,19930309,0147,-45.6823,  30.0098, 5062,    905.0,   3.6916,  34.3274,2,  34.3260,2,    212.8,2,  3.6262,    214.0,2,    39.86,2,    32.09,2,     2.16,2,    1.383,2,    0.765,4,   -999.0,9,   2199.5,2,   2310.0,2,  -999.0
    35MFCIVA_1, I06SA,    48,  2,   1000,      5,2,19930309,0147,-45.6823,  30.0098, 5062,   1011.4,   3.2508,  34.3487,2,  34.3550,2,    206.5,2,  3.1803,    205.3,2,    47.65,2,    33.35,2,     2.25,2,    1.067,2,    0.588,4,   -999.0,9,   2214.3,2,   -999.0,9,  -999.0
    35MFCIVA_1, I06SA,    48,  2,   1100,      4,2,19930309,0147,-45.6823,  30.0098, 5062,   1107.0,   3.0519,  34.3888,2,  34.3890,2,    198.0,2,  2.9756,    197.5,2,    53.14,2,    33.94,2,     2.26,2,    0.834,2,    0.432,4,   -999.0,9,   2225.8,2,   2322.0,2,  -999.0
    35MFCIVA_1, I06SA,    48,  2,   1200,      3,2,19930309,0147,-45.6823,  30.0098, 5062,   1207.1,   2.8780,  34.4342,2,  34.4270,2,    188.2,2,  2.7954,    190.8,2,    59.10,2,    34.60,2,     2.33,2,    0.654,2,    0.356,4,   -999.0,9,   2233.8,2,   2326.0,2,  -999.0
    35MFCIVA_1, I06SA,    48,  2,   1350a,      2,2,19930309,0147,-45.6823,  30.0098, 5062,   1335.3,   2.8640,  34.5192,2,  34.5160,2,    178.1,2,  2.7713,    178.9,2,    66.88,2,    34.45,2,     2.32,2,    0.296,2,    0.132,4,   -999.0,9,   2243.6,2,   2336.0,2,  -999.0
    35MFCIVA_1, I06SA,    48,  2,   1350b,      1,2,19930309,0147,-45.6823,  30.0098, 5062,   1350.0,   2.8380,  34.5247,2,  34.5210,2,    177.7,2,  2.7443,    178.9,2,    66.88,2,    34.45,2,     2.28,2,    0.300,2,    0.160,4,   -999.0,9,   2248.7,2,   2336.0,2,  -999.0
    35MFCIVA_1, I06SA,    48,  3,     10,     12,2,19930309,0415,-45.6870,  30.0072, 5069,     10.7,  11.5338,  34.6698,2,  34.6670,2,    272.2,2, 11.5325,    270.6,2,     2.75,2,     7.10,2,     0.57,2,    3.306,2,    1.912,4,   -999.0,9,   2009.9,3,   2304.0,2,  -999.0
    35MFCIVA_1, I06SA,    48,  3,     20,     11,2,19930309,0415,-45.6870,  30.0072, 5069,     20.1,  11.5298,  34.6685,2,  34.6670,2,    275.4,2, 11.5273,    270.4,2,     2.75,2,     6.88,2,     0.54,2,    3.325,2,    1.882,4,   -999.0,9,   2061.4,2,   2306.0,2,  -999.0
    35MFCIVA_1, I06SA,    48,  3,     40,     10,2,19930309,0415,-45.6870,  30.0072, 5069,     39.1,  11.5428,  34.6707,2,  34.6690,2,    272.1,2, 11.5379,    270.2,2,     2.75,2,     6.88,2,     0.53,2,    3.311,2,    1.932,4,   -999.0,9,   2035.6,2,   2306.0,2,  -999.0
    35MFCIVA_1, I06SA,    48,  3,     60,      9,2,19930309,0415,-45.6870,  30.0072, 5069,     59.8,  11.5498,  34.6748,2,  34.6720,2,    269.5,2, 11.5423,    270.2,2,     2.75,2,     7.18,2,     0.57,2,    3.335,2,    1.858,4,   -999.0,9,   2031.1,2,   2305.0,2,  -999.0
    35MFCIVA_1, I06SA,    48,  3,     80,      8,2,19930309,0415,-45.6870,  30.0072, 5069,     80.4,  11.5029,  34.7443,2,  34.7480,2,    263.5,2, 11.4927,    265.1,2,     3.21,2,     7.77,2,     0.61,2,    3.263,2,    1.853,4,   -999.0,9,   2042.9,2,   2307.0,2,  -999.0
    35MFCIVA_1, I06SA,    48,  3,    100,      7,2,19930309,0415,-45.6870,  30.0072, 5069,    100.5,  10.5726,  34.7276,2,  34.7310,2,    256.5,2, 10.5606,    255.5,2,     4.58,2,    11.43,2,     0.77,2,    3.297,2,    1.876,4,   -999.0,9,   1962.9,3,   2303.0,2,  -999.0
    35MFCIVA_1, I06SA,    48,  3,    125,      6,2,19930309,0415,-45.6870,  30.0072, 5069,    126.1,   9.4685,  34.5970,2,  34.5990,2,    259.2,2,  9.4545,    256.9,2,     6.88,2,    14.94,2,     1.04,2,    3.471,2,    1.966,4,   -999.0,9,   2019.0,3,   2297.0,2,  -999.0
    35MFCIVA_1, I06SA,    48,  3,    150,      5,2,19930309,0415,-45.6870,  30.0072, 5069,    150.5,   8.5903,  34.5014,2,  34.5050,2,    270.1,2,  8.5745,    263.8,2,     7.33,2,    16.51,2,     1.10,2,    3.674,2,    2.062,4,   -999.0,9,   2103.6,2,   2294.0,2,  -999.0
    35MFCIVA_1, I06SA,    48,  3,    175,      4,2,19930309,0415,-45.6870,  30.0072, 5069,    168.4,   8.1776,  34.4582,2,  34.4640,2,    267.2,2,  8.1605,    268.1,2,     7.79,2,    17.26,2,     1.10,2,    3.745,2,    2.096,4,   -999.0,9,   2107.2,2,   2291.0,2,  -999.0
    35MFCIVA_1, I06SA,    48,  3,    200,      3,2,19930309,0415,-45.6870,  30.0072, 5069,    200.1,   7.9588,  34.4389,2,  34.4380,2,    271.6,2,  7.9388,    271.4,2,     7.79,2,    17.63,2,     1.10,2,    3.782,2,    2.117,4,   -999.0,9,   -999.0,5,   2292.0,2,  -999.0
    35MFCIVA_1, I06SA,    48,  3,    250a,      2,2,19930309,0415,-45.6870,  30.0072, 5069,    249.8,   8.0208,  34.4797,2,  34.4790,2,    262.8,2,  7.9956,    264.4,2,     8.25,2,    18.38,2,     1.15,2,    3.609,2,    1.948,4,   -999.0,9,   2114.1,2,   2293.0,2,  -999.0
    35MFCIVA_1, I06SA,    48,  3,    250b,      1,2,19930309,0415,-45.6870,  30.0072, 5069,    251.7,   7.9499,  34.4693,2,  34.4740,2,    260.8,2,  7.9246,    264.8,2,     8.25,2,    18.23,2,     1.17,2,    3.621,2,    1.983,4,   -999.0,9,   2117.1,2,   2292.0,2,  -999.0
    35MFCIVA_1, I06SA,    49,  1,    325,     12,2,19930309,0814,-45.3700,  30.0060, 5188,    328.2,   7.3274,  34.3899,2,  34.3800,2,    271.4,2,  7.2959,    273.1,2,     7.94,2,    18.86,2,     1.30,2,    3.843,2,    2.124,4,   -999.0,9,   2117.5,2,   2292.0,2,  -999.0
    35MFCIVA_1, I06SA,    49,  1,    400,     11,2,19930309,0814,-45.3700,  30.0060, 5188,    403.5,   6.5831,  34.3008,2,  34.2850,2,    276.4,2,  6.5465,    275.9,2,     8.41,2,    20.68,2,     1.40,2,    3.991,2,    2.169,4,   -999.0,9,   2120.9,2,   2288.0,2,  -999.0
    35MFCIVA_1, I06SA,    49,  1,    500,     10,2,19930309,0814,-45.3700,  30.0060, 5188,    502.6,   5.7519,  34.2118,2,  34.2100,2,    260.2,2,  5.7092,    276.6,2,     9.35,2,    22.36,2,     1.49,2,    4.105,2,    2.201,4,   -999.0,9,   2126.8,2,   2285.0,2,  -999.0
    35MFCIVA_1, I06SA,    49,  1,    600,      9,2,19930309,0814,-45.3700,  30.0060, 5188,    601.6,   5.5281,  34.3034,2,  34.3050,2,    232.9,2,  5.4775,    235.9,2,    16.82,2,    26.75,2,     1.83,2,    2.799,2,    1.497,4,   -999.0,9,   2150.3,2,   -999.0,9,  -999.0
    35MFCIVA_1, I06SA,    49,  1,    700,      8,2,19930309,0814,-45.3700,  30.0060, 5188,    706.3,   4.7428,  34.2837,2,  34.2790,2,    232.5,2,  4.6871,    232.5,2,    22.42,2,    29.01,2,     1.94,2,    2.344,2,    1.219,4,   -999.0,9,   2171.9,2,   2293.0,2,  -999.0
    35MFCIVA_1, I06SA,    49,  1,    800,      7,2,19930309,0814,-45.3700,  30.0060, 5188,    806.9,   4.1832,  34.2818,2,  34.2830,2,    226.2,2,  4.1225,    227.6,2,    28.96,2,    30.32,2,     2.04,2,    1.983,2,    1.020,4,   -999.0,9,   2186.2,2,   2302.0,2,  -999.0
    35MFCIVA_1, I06SA,    49,  1,    900,      6,2,19930309,0814,-45.3700,  30.0060, 5188,    910.3,   3.6466,  34.3122,2,  34.3140,2,    217.0,2,  3.5811,    216.1,2,    39.24,2,    32.00,2,     2.18,2,    1.456,2,    0.753,4,   -999.0,9,   2199.9,2,   2309.0,2,  -999.0
    35MFCIVA_1, I06SA,    49,  1,   1000,      5,2,19930309,0814,-45.3700,  30.0060, 5188,   1007.9,   3.2988,  34.3433,2,  34.3440,2,    208.4,2,  3.2282,    208.4,2,    45.31,2,    33.02,2,     2.24,2,    1.154,2,    0.597,4,   -999.0,9,   2238.8,2,   2314.0,2,  -999.0
    35MFCIVA_1, I06SA,    49,  1,   1200,      4,2,19930309,0814,-45.3700,  30.0060, 5188,   1210.8,   2.9300,  34.4330,2,  34.4430,2,    188.1,2,  2.8466,    187.4,2,    60.25,2,    34.41,2,     2.32,2,    0.598,2,    0.280,4,   -999.0,9,   2246.5,2,   2327.0,2,  -999.0
    35MFCIVA_1, I06SA,    49,  1,   1400,      3,2,19930309,0814,-45.3700,  30.0060, 5188,   1415.2,   2.7411,  34.5157,2,  34.5210,2,    176.2,2,  2.6432,    179.7,2,    67.25,2,    34.62,2,     2.34,2,    0.327,2,    0.205,4,   -999.0,9,   2235.6,2,   2336.0,2,  -999.0
    35MFCIVA_1, I06SA,    49,  1,   1600a,      1,2,19930309,0814,-45.3700,  30.0060, 5188,   1615.0,   2.6771,  34.6274,2,  34.6280,2,    177.0,2,  2.5634,    178.7,2,    71.91,2,    33.60,2,     2.26,2,    0.120,3,    0.000,3,   -999.0,9,   2249.0,2,   2342.0,2,  -999.0
    35MFCIVA_1, I06SA,    49,  1,   1600b,      2,2,19930309,0814,-45.3700,  30.0060, 5188,   1618.9,   2.6821,  34.6298,2,  34.6330,2,    176.6,2,  2.5680,    178.6,2,    71.91,2,    33.45,2,     2.23,2,    0.122,2,    0.081,4,   -999.0,9,   2255.0,2,   2343.0,2,  -999.0