BOTTLE,20220922CCHSIOAMB
EXPOCODE,SECT_ID,STNNBR,CASTNO,SAMPNO,BTLNBR,BTLNBR_FLAG_W,DATE,TIME,LATITUDE,LONGITUDE,DEPTH,CTDPRS,CTDTMP,CTDSAL,CTDSAL_FLAG_W,SALNTY,SALNTY_FLAG_W,CTDOXY,CTDOXY_FLAG_W,THETA,OXYGEN,OXYGEN_FLAG_W,SILCAT,SILCAT_FLAG_W,NITRAT,NITRAT_FLAG_W,PHSPHT,PHSPHT_FLAG_W,CFC-11,CFC-11_FLAG_W,CFC-12,CFC-12_FLAG_W,DELC14,DELC14_FLAG_W,TCARBN,TCARBN_FLAG_W,ALKALI,ALKALI_FLAG_W,C14ERR
,,,,,,,,,,,,DBAR,ITS-90,PSS-78,,PSS-78,,UMOL/KG,,DEG C,UMOL/KG,,UMOL/KG,,UMOL/KG,,UMOL/KG,,PMOL/KG,,PMOL/KG,,/MILLE,,UMOL/KG,,UMOL/KG,,/MILLE
    35MFCIVA_1, I06SA,    33,  1,    325,     12,2,19930302,1353,-51.3203,  29.9767, 4386,    325.6,   2.0453,  34.1931,2,  34.1930,2,    254.7,2,  2.0277,    252.0,2,    38.24,2,    31.85,2,     2.27,2, -999.000,5,    1.447,2,   -999.0,9,   2188.9,2,   2298.0,2,  -999.0
    35MFCIVA_1, I06SA,    33,  1,    400,     11,2,19930302,1353,-51.3203,  29.9767, 4386,    404.0,   2.0084,  34.2530,2,  34.2510,2,    232.2,2,  1.9863,    233.2,2,    46.20,2,    33.12,2,     2.32,2, -999.000,5,    1.151,2,   -999.0,9,   2203.9,2,   2306.0,2,  -999.0
    35MFCIVA_1, I06SA,    33,  1,    500,     10,2,19930302,1353,-51.3203,  29.9767, 4386,    496.0,   2.2663,  34.3541,2,  34.3520,2,    207.0,2,  2.2376,    207.3,2,    55.76,2,    33.42,2,     2.41,2, -999.000,5, -999.000,5,   -999.0,9,   2220.3,2,   2317.0,2,  -999.0
    35MFCIVA_1, I06SA,    33,  1,    600,      9,3,19930302,1353,-51.3203,  29.9767, 4386,    604.0,   2.3652,  34.4450,2,-999.0000,9,    191.8,3,  2.3293,   -999.0,9,  -999.00,9,  -999.00,9,  -999.00,9, -999.000,9, -999.000,9,   -999.0,9,   -999.0,9,   -999.0,9,  -999.0
    35MFCIVA_1, I06SA,    33,  1,    700,      8,2,19930302,1353,-51.3203,  29.9767, 4386,    703.8,   2.2933,  34.4992,2,  34.4990,2,    182.2,2,  2.2511,    179.1,2,    70.09,2,    34.76,2,     2.46,2,    0.756,8,    0.303,8,   -999.0,9,   2242.9,2,   2331.0,2,  -999.0
    35MFCIVA_1, I06SA,    33,  1,    800,      7,2,19930302,1353,-51.3203,  29.9767, 4386,    804.5,   2.4562,  34.5757,2,  34.5760,2,    177.2,2,  2.4062,    177.3,2,    71.68,2,    33.93,2,     2.38,2,    0.418,2,    0.269,2,   -999.0,9,   2240.9,2,   2337.0,2,  -999.0
    35MFCIVA_1, I06SA,    33,  1,    900,      6,2,19930302,1353,-51.3203,  29.9767, 4386,    904.9,   2.4732,  34.6219,2,  34.6220,2,    177.3,2,  2.4160,    178.7,2,    72.47,2,    33.19,2,     2.35,2,    0.264,8,    0.069,3,   -999.0,9,   2241.3,2,   2336.0,2,  -999.0
    35MFCIVA_1, I06SA,    33,  1,   1000,      5,2,19930302,1353,-51.3203,  29.9767, 4386,   1009.3,   2.4422,  34.6514,2,  34.6510,2,    177.8,2,  2.3778,    179.5,2,    74.06,2,    32.66,2,     2.28,2,    0.228,2,    0.041,3,   -999.0,9,   2243.1,2,   2341.0,2,  -999.0
    35MFCIVA_1, I06SA,    33,  1,   1200,      4,2,19930302,1353,-51.3203,  29.9767, 4386,   1207.7,   2.3443,  34.7053,2,  34.7040,2,    185.2,2,  2.2661,    184.8,2,    75.65,2,    31.69,2,     2.20,2,    0.134,2,    0.057,2,   -999.0,9,   2240.0,2,   2346.0,2,  -999.0
    35MFCIVA_1, I06SA,    33,  1,   1400,      3,2,19930302,1353,-51.3203,  29.9767, 4386,   1412.3,   2.3193,  34.7501,2,  34.7500,2,    194.2,2,  2.2257,    195.0,2,    73.66,2,    30.20,2,     2.09,2,    0.116,2,    0.117,3,   -999.0,9,   2233.5,2,   2347.0,2,  -999.0
    35MFCIVA_1, I06SA,    33,  1,   1600a,      2,2,19930302,1353,-51.3203,  29.9767, 4386,   1613.1,   2.1783,  34.7681,2,  34.7680,2,    200.0,2,  2.0706,    200.1,2,    76.44,2,    29.68,2,     2.06,2,    0.072,2,    0.000,3,   -999.0,9,   2232.0,2,   2348.0,2,  -999.0
    35MFCIVA_1, I06SA,    33,  1,   1600b,      1,2,19930302,1353,-51.3203,  29.9767, 4386,   1614.8,   2.1753,  34.7680,2,  34.7680,2,    200.8,2,  2.0675,    199.9,2,    76.44,2,    29.68,2,     2.04,2,    0.114,2,    0.056,2,   -999.0,9,   2223.0,3,   2347.0,2,  -999.0
    35MFCIVA_1, I06SA,    33,  2,     10,     12,2,19930302,1643,-51.3378,  30.0002, 4536,     10.6,   4.5639,  33.8823,2,  33.8800,2,    317.4,2,  4.5632,    313.1,2,     5.57,2,    21.43,2,     1.53,2,    5.168,2,    2.459,2,   -999.0,9,   2111.6,2,   2282.0,2,  -999.0
    35MFCIVA_1, I06SA,    33,  2,     20,     11,2,19930302,1643,-51.3378,  30.0002, 4536,     22.5,   4.5629,  33.8818,2,  33.8810,2,    312.6,2,  4.5613,    313.5,2,     5.57,2,    21.43,2,     1.53,2,    5.189,2,    2.489,2,   -999.0,9,   2112.7,2,   2283.0,2,  -999.0
    35MFCIVA_1, I06SA,    33,  2,     40,     10,2,19930302,1643,-51.3378,  30.0002, 4536,     40.6,   4.5649,  33.8819,2,  33.8810,2,    314.1,2,  4.5620,    312.3,2,     5.57,2,    21.36,2,     1.51,2,    5.188,2,    2.461,2,   -999.0,9,   2113.8,2,   2284.0,2,  -999.0
    35MFCIVA_1, I06SA,    33,  2,     60,      9,2,19930302,1643,-51.3378,  30.0002, 4536,     58.3,   4.5619,  33.8816,2,  33.8810,2,    319.2,2,  4.5577,    313.3,2,     5.57,2,    21.43,2,     1.53,2,    5.233,2,    2.481,2,   -999.0,9,   2113.2,2,   2285.0,2,  -999.0
    35MFCIVA_1, I06SA,    33,  2,     80,      8,2,19930302,1643,-51.3378,  30.0002, 4536,     77.8,   4.5429,  33.8827,2,  33.8820,2,    314.5,2,  4.5373,    312.7,2,     5.57,2,    21.51,2,     1.53,2,    5.189,2,    2.494,2,   -999.0,9,   2116.3,2,   2286.0,2,  -999.0
    35MFCIVA_1, I06SA,    33,  2,    100,      7,2,19930302,1643,-51.3378,  30.0002, 4536,    100.2,   3.1259,  33.9554,2,  33.9380,2,    316.5,2,  3.1198,    308.1,2,    12.73,2,    24.41,2,     1.81,2,    5.445,2,    2.495,2,   -999.0,9,   2139.3,2,   2286.0,2,  -999.0
    35MFCIVA_1, I06SA,    33,  2,    125,      6,2,19930302,1643,-51.3378,  30.0002, 4536,    126.2,   1.9934,  33.9815,2,  33.9780,2,    313.1,2,  1.9868,    310.3,2,    21.47,2,    27.62,2,     1.94,2, -999.000,5, -999.000,5,   -999.0,9,   2153.9,2,   2284.0,2,  -999.0
    35MFCIVA_1, I06SA,    33,  2,    150,      5,2,19930302,1643,-51.3378,  30.0002, 4536,    151.5,   1.7394,  33.9940,2,  33.9950,2,    308.5,2,  1.7319,    312.4,2,    23.06,2,    28.07,2,     1.94,2,    5.551,2,    2.621,2,   -999.0,9,   2153.7,2,   2286.0,2,  -999.0
    35MFCIVA_1, I06SA,    33,  2,    175,      4,2,19930302,1643,-51.3378,  30.0002, 4536,    173.2,   1.5814,  33.9942,2,  33.9970,2,    312.3,2,  1.5730,    317.6,2,    23.86,2,    28.22,2,     1.93,2,    5.660,2,    2.647,2,   -999.0,9,   2163.2,2,   2289.0,2,  -999.0
    35MFCIVA_1, I06SA,    33,  2,    200,      3,2,19930302,1643,-51.3378,  30.0002, 4536,    198.2,   1.4695,  34.0099,2,  34.0100,2,    311.0,2,  1.4599,    315.5,2,    25.05,2,    28.37,2,     1.97,2,    5.578,2,    2.493,2,   -999.0,9,   2157.0,2,   2290.0,2,  -999.0
    35MFCIVA_1, I06SA,    33,  2,    250a,      1,2,19930302,1643,-51.3378,  30.0002, 4536,    252.6,   1.6124,  34.0727,2,  34.0790,2,    294.5,2,  1.5998,    291.1,2,    30.22,2,    29.78,2,     2.06,2,    4.381,8,    2.050,8,   -999.0,9,   2170.0,2,   2294.0,2,  -999.0
    35MFCIVA_1, I06SA,    33,  2,    250b,      2,2,19930302,1643,-51.3378,  30.0002, 4536,    256.8,   1.7074,  34.0952,2,  34.0970,2,    294.1,2,  1.6944,    285.0,2,    31.02,2,    30.16,2,     2.04,2,    4.659,2,    2.101,2,   -999.0,9,   2173.0,2,   2291.0,2,  -999.0
    35MFCIVA_1, I06SA,    34,  1,   1500,     12,2,19930302,2052,-50.9987,  29.9752, 5720,   1511.5,   2.3203,  34.7570,2,  34.7560,2,    197.7,2,  2.2189,    196.0,2,    74.30,2,    29.94,2,     2.05,2,    0.100,2,    0.000,3,   -999.0,9,   2223.5,2,   -999.0,9,  -999.0
    35MFCIVA_1, I06SA,    34,  1,   1750,     11,2,19930302,2052,-50.9987,  29.9752, 5720,   1766.8,   2.1733,  34.7756,2,  34.7770,2,    204.1,2,  2.0532,    203.2,2,    76.28,2,    29.35,2,     2.01,2,    0.036,2,    0.000,3,   -999.0,9,   2223.8,2,   -999.0,9,  -999.0
    35MFCIVA_1, I06SA,    34,  1,   2000,     10,2,19930302,2052,-50.9987,  29.9752, 5720,   2022.5,   1.8914,  34.7635,2,  34.7650,2,    203.5,2,  1.7543,    203.2,2,    85.02,2,    30.01,2,     2.05,2,    0.128,2,    0.069,2,   -999.0,9,   2230.4,2,   2349.0,2,  -999.0
    35MFCIVA_1, I06SA,    34,  1,   2250,      9,2,19930302,2052,-50.9987,  29.9752, 5720,   2281.6,   1.5524,  34.7492,2,  34.7480,2,    203.6,2,  1.3991,    204.9,2,    94.95,2,    30.68,2,     2.11,2,    0.131,2,    0.067,2,   -999.0,9,   2239.7,2,   2354.0,2,  -999.0
    35MFCIVA_1, I06SA,    34,  1,   2500,      8,2,19930302,2052,-50.9987,  29.9752, 5720,   2525.3,   1.2665,  34.7297,2,  34.7300,2,    204.5,2,  1.0974,    205.1,2,   102.50,2,    31.42,2,     2.17,2,    0.196,2,    0.032,3,   -999.0,9,   2244.0,2,   2358.0,2,  -999.0
    35MFCIVA_1, I06SA,    34,  1,   3000,      7,2,19930302,2052,-50.9987,  29.9752, 5720,   3037.1,   0.8014,  34.7037,2,  34.7040,2,    208.8,2,  0.5966,    209.6,2,   116.80,2,    32.45,2,     2.23,2,    0.241,2,    0.106,2,   -999.0,9,   2250.0,2,   2361.0,2,  -999.0
    35MFCIVA_1, I06SA,    34,  1,   3500,      6,2,19930302,2052,-50.9987,  29.9752, 5720,   3558.5,   0.4624,  34.6851,2,  34.6860,2,    212.0,2,  0.2169,    214.9,2,   124.74,2,    33.04,2,     2.27,2,    0.224,2,    0.000,3,   -999.0,9,   2251.0,2,   2362.0,2,  -999.0
    35MFCIVA_1, I06SA,    34,  1,   4000a,      5,2,19930302,2052,-50.9987,  29.9752, 5720,   4063.5,   0.1753,  34.6726,2,  34.6710,2,    224.8,2, -0.1123,    225.2,2,   129.91,2,    33.04,2,     2.29,2,    0.176,2,    0.058,3,   -999.0,9,   2251.4,2,   2362.0,2,  -999.0
    35MFCIVA_1, I06SA,    34,  1,   4000b,      4,3,19930302,2052,-50.9987,  29.9752, 5720,   4583.2,   0.1072,  34.6677,2,-999.0000,9,    231.1,3, -0.2329,   -999.0,9,  -999.00,9,  -999.00,9,  -999.00,9, -999.000,9, -999.000,9,   -999.0,9,   -999.0,9,   -999.0,9,  -999.0
    35MFCIVA_1, I06SA,    34,  1,   4250,      3,2,19930302,2052,-50.9987,  29.9752, 5720,   5096.0,   0.0712,  34.6641,2,  34.6630,2,    236.2,2, -0.3250,    232.8,2,   131.50,2,    32.96,2,     2.29,2,    0.167,2,    0.128,3,   -999.0,9,   2256.3,2,   2356.0,2,  -999.0
    35MFCIVA_1, I06SA,    34,  1,   4500,      2,2,19930302,2052,-50.9987,  29.9752, 5720,   5552.0,   0.0862,  34.6627,2,  34.6620,2,    237.1,2, -0.3644,    235.9,2,   133.48,2,    32.96,2,     2.28,2,    0.174,2,    0.079,2,   -999.0,9,   2252.1,2,   2355.0,2,  -999.0
    35MFCIVA_1, I06SA,    34,  1,   F-20,      1,3,19930302,2052,-50.9987,  29.9752, 5720,   5873.3,   0.1112,  34.6616,2,-999.0000,9,    242.8,3, -0.3798,   -999.0,9,  -999.00,9,  -999.00,9,  -999.00,9, -999.000,9, -999.000,9,   -999.0,9,   -999.0,9,   -999.0,9,  -999.0
    35MFCIVA_1, I06SA,    34,  2,    325,     12,2,19930303,0027,-50.9867,  30.0122, 5762,    326.4,   2.6851,  34.2170,2,  34.2180,2,    242.7,2,  2.6657,    242.4,2,    35.29,2,    31.63,2,     2.26,2,    2.637,2,    1.179,2,   -999.0,9,   2154.0,3,   2301.0,2,  -999.0
    35MFCIVA_1, I06SA,    34,  2,    400,     11,2,19930303,0027,-50.9867,  30.0122, 5762,    402.0,   2.4532,  34.2583,2,-999.0000,5,    230.6,2,  2.4298,    230.4,2,    42.27,2,    32.66,2,     2.31,2,    2.205,2,    1.084,2,   -999.0,9,   2168.9,3,   2309.0,2,  -999.0
    35MFCIVA_1, I06SA,    34,  2,    500,     10,2,19930303,0027,-50.9867,  30.0122, 5762,    505.5,   2.4062,  34.3447,2,  34.3450,2,    208.3,2,  2.3764,    207.5,2,    53.34,2,    33.83,2,     2.43,2, -999.000,5, -999.000,5,   -999.0,9,   2178.4,3,   2321.0,2,  -999.0
    35MFCIVA_1, I06SA,    34,  2,    600,      9,2,19930303,0027,-50.9867,  30.0122, 5762,    605.4,   2.4382,  34.4251,2,  34.4220,2,    192.1,2,  2.4018,    191.2,2,    60.73,2,    34.41,2,     2.47,2,    0.891,2,    0.381,2,   -999.0,9,   2209.2,2,   2329.0,2,  -999.0
    35MFCIVA_1, I06SA,    34,  2,    700,      8,2,19930303,0027,-50.9867,  30.0122, 5762,    705.2,   2.5162,  34.5154,2,  34.5130,2,    183.5,2,  2.4726,    181.8,2,    66.88,2,    34.12,2,     2.45,2,    0.417,2,    0.139,3,   -999.0,9,   2220.4,2,   2338.0,2,  -999.0
    35MFCIVA_1, I06SA,    34,  2,    800,      7,2,19930303,0027,-50.9867,  30.0122, 5762,    808.3,   2.4462,  34.5549,2,  34.5540,2,    178.1,2,  2.3960,    178.2,2,    70.57,2,    33.97,2,     2.43,2,    0.457,2,    0.191,3,   -999.0,9,   2228.5,2,   2341.0,2,  -999.0
    35MFCIVA_1, I06SA,    34,  2,    900,      6,2,19930303,0027,-50.9867,  30.0122, 5762,    910.0,   2.5792,  34.6196,2,  34.6200,2,    178.6,2,  2.5209,    180.0,2,    69.74,2,    32.72,2,     2.34,2,    0.176,2,    0.112,3,   -999.0,9,   2226.6,2,   2345.0,2,  -999.0
    35MFCIVA_1, I06SA,    34,  2,   1000,      5,2,19930303,0027,-50.9867,  30.0122, 5762,   1010.5,   2.5562,  34.6548,2,  34.6530,2,    180.7,2,  2.4907,    181.6,2,    70.56,2,    32.28,2,     2.31,2,    0.213,2,    0.060,3,   -999.0,9,   2227.8,2,   2346.0,2,  -999.0
    35MFCIVA_1, I06SA,    34,  2,   1100,      4,2,19930303,0027,-50.9867,  30.0122, 5762,   1111.7,   2.4992,  34.6910,2,  34.6890,2,    185.0,2,  2.4267,    185.9,2,    71.38,2,    31.48,2,     2.24,2,    0.128,2,    0.000,3,   -999.0,9,   2226.0,2,   2348.0,2,  -999.0
    35MFCIVA_1, I06SA,    34,  2,   1200,      3,2,19930303,0027,-50.9867,  30.0122, 5762,   1211.5,   2.4852,  34.7213,2,  34.7200,2,    188.1,2,  2.4053,    189.8,2,    70.97,2,    30.67,2,     2.18,2,    0.082,2,    0.000,3,   -999.0,9,   2225.9,2,   2348.0,2,  -999.0
    35MFCIVA_1, I06SA,    34,  2,   1350a,      1,2,19930303,0027,-50.9867,  30.0122, 5762,   1367.4,   2.4872,  34.7559,2,  34.7540,2,    194.7,2,  2.3953,    196.5,2,    69.74,2,    29.64,2,     2.07,2,    0.031,2,    0.000,3,   -999.0,9,   2224.0,2,   2349.0,2,  -999.0
    35MFCIVA_1, I06SA,    34,  2,   1350b,      2,2,19930303,0027,-50.9867,  30.0122, 5762,   1368.7,   2.4882,  34.7554,2,  34.7540,2,    194.6,2,  2.3962,    196.4,2,    68.50,2,    29.57,2,     2.08,2,    0.055,2,    0.000,3,   -999.0,9,   2222.0,2,   2349.0,2,  -999.0
    35MFCIVA_1, I06SA,    34,  3,     10,     12,2,19930303,0227,-51.0025,  30.0037, 5830,     20.8,   4.6718,  33.8913,2,  33.8890,2,    319.9,2,  4.6703,    314.0,2,     4.02,2,    21.20,2,     1.48,2,    5.105,2,    2.362,2,   -999.0,9,   2112.0,2,   2293.0,2,  -999.0
    35MFCIVA_1, I06SA,    34,  3,     20,     11,2,19930303,0227,-51.0025,  30.0037, 5830,     39.3,   4.6808,  33.8911,2,  33.8910,2,    322.6,2,  4.6780,    312.5,2,     4.02,2,    21.35,2,     1.49,2,    5.115,2,    2.335,2,   -999.0,9,   2112.5,2,   2291.0,2,  -999.0
    35MFCIVA_1, I06SA,    34,  3,     40,     10,2,19930303,0227,-51.0025,  30.0037, 5830,     59.6,   4.2202,  33.9024,2,  33.8960,2,    306.9,2,  4.2161,    312.3,2,     4.02,2,    21.42,2,     1.49,2,    5.126,2,    2.350,2,   -999.0,9,   2114.0,2,   2284.0,2,  -999.0
    35MFCIVA_1, I06SA,    34,  3,     60,      9,2,19930303,0227,-51.0025,  30.0037, 5830,     78.8,   3.3638,  34.0028,2,  34.0050,2,    311.0,2,  3.3588,    303.2,2,    12.87,2,    25.53,2,     1.81,2,    5.162,2,    2.338,2,   -999.0,9,   2136.2,2,   2287.0,2,  -999.0
    35MFCIVA_1, I06SA,    34,  3,     80,      8,2,19930303,0227,-51.0025,  30.0037, 5830,    100.3,   3.2838,  34.0281,2,  34.0280,2,    307.9,2,  3.2776,    301.2,2,    13.27,2,    25.89,2,     1.81,2,    5.036,2,    2.248,2,   -999.0,9,   2135.0,2,   2287.0,2,  -999.0
    35MFCIVA_1, I06SA,    34,  3,    100,      7,2,19930303,0227,-51.0025,  30.0037, 5830,    121.3,   3.1539,  34.0468,2,  34.0500,2,    302.9,2,  3.1464,    296.5,2,    15.29,2,    26.40,2,     1.82,2,    4.820,2,    2.217,2,   -999.0,9,   2141.1,2,   2288.0,2,  -999.0
    35MFCIVA_1, I06SA,    34,  3,    125,      6,2,19930303,0227,-51.0025,  30.0037, 5830,    149.2,   3.1999,  34.0754,2,  34.0720,2,    292.4,2,  3.1906,    292.0,2,    16.09,2,    26.92,2,     1.87,2,    4.591,2,    2.105,2,   -999.0,9,   2145.8,2,   2289.0,2,  -999.0
    35MFCIVA_1, I06SA,    34,  3,    150,      5,2,19930303,0227,-51.0025,  30.0037, 5830,    175.2,   3.4407,  34.1424,2,  34.1370,2,    273.1,2,  3.4295,    274.2,2,    19.31,2,    28.09,2,     1.92,2,    3.943,2,    1.928,2,   -999.0,9,   2151.8,2,   2292.0,2,  -999.0
    35MFCIVA_1, I06SA,    34,  3,    175,      4,2,19930303,0227,-51.0025,  30.0037, 5830,    198.8,   3.2768,  34.1659,2,  34.1710,2,    266.6,2,  3.2643,    115.7,4,    22.93,2,    29.34,2,     2.00,2,    3.546,2,    1.709,2,   -999.0,9,   2162.3,2,   2298.0,2,  -999.0
    35MFCIVA_1, I06SA,    34,  3,    200,      3,2,19930303,0227,-51.0025,  30.0037, 5830,    252.0,   3.0200,  34.1890,2,  34.1900,2,    254.0,2,  3.0044,    254.2,2,    27.75,2,    30.29,2,     2.06,2,    3.082,2,    1.473,2,   -999.0,9,   2172.7,2,   2298.0,2,  -999.0
    35MFCIVA_1, I06SA,    34,  3,    250a,      2,2,19930303,0227,-51.0025,  30.0037, 5830,    252.9,   3.0210,  34.1899,2,  34.1880,2,    253.8,2,  3.0054,    254.5,2,    27.75,2,    30.36,2,     2.05,2,    3.134,2,    1.459,2,   -999.0,9,   2174.0,2,   2298.0,2,  -999.0
    35MFCIVA_1, I06SA,    34,  3,    250b,      1,2,19930303,0227,-51.0025,  30.0037, 5830,    252.9,   3.0210,  34.1899,2,  34.1880,2,    253.8,2,  3.0054,    254.6,2,    27.35,2,    30.21,2,     2.05,2,    3.095,2,    1.503,2,   -999.0,9,   2173.0,2,   -999.0,9,  -999.0