BOTTLE,20220922CCHSIOAMB
EXPOCODE,SECT_ID,STNNBR,CASTNO,SAMPNO,BTLNBR,BTLNBR_FLAG_W,DATE,TIME,LATITUDE,LONGITUDE,DEPTH,CTDPRS,CTDTMP,CTDSAL,CTDSAL_FLAG_W,SALNTY,SALNTY_FLAG_W,CTDOXY,CTDOXY_FLAG_W,THETA,OXYGEN,OXYGEN_FLAG_W,SILCAT,SILCAT_FLAG_W,NITRAT,NITRAT_FLAG_W,PHSPHT,PHSPHT_FLAG_W,CFC-11,CFC-11_FLAG_W,CFC-12,CFC-12_FLAG_W,DELC14,DELC14_FLAG_W,TCARBN,TCARBN_FLAG_W,ALKALI,ALKALI_FLAG_W,C14ERR
,,,,,,,,,,,,DBAR,ITS-90,PSS-78,,PSS-78,,UMOL/KG,,DEG C,UMOL/KG,,UMOL/KG,,UMOL/KG,,UMOL/KG,,PMOL/KG,,PMOL/KG,,/MILLE,,UMOL/KG,,UMOL/KG,,/MILLE
    35MFCIVA_1, I06SA,    18,  3,     10,     12,2,19930211,1437,-60.9973,  30.0018, 5255,     11.4,   1.7764,  33.6881,2,  33.6860,2,    351.6,2,  1.7759,    335.2,2,    44.30,2,    25.72,2,     1.70,2,    6.218,2,    2.880,2,    -74.0,2,   2143.5,2,   2275.0,2,     5.0
    35MFCIVA_1, I06SA,    18,  3,     20,     11,2,19930211,1437,-60.9973,  30.0018, 5255,     21.1,   1.6264,  33.7183,2,  33.7210,2,    340.7,2,  1.6254,    336.3,2,    44.72,2,    26.01,2,     1.74,2,    6.227,2,    2.903,2,    -85.0,2,   2147.7,2,   2277.0,2,     5.0
    35MFCIVA_1, I06SA,    18,  3,     40,     10,2,19930211,1437,-60.9973,  30.0018, 5255,     41.1,  -0.0158,  33.8897,2,  33.8910,2,    345.4,2, -0.0172,    346.1,2,    45.56,2,    26.53,2,     1.77,2,    6.299,2,    2.906,2,    -80.0,2,   2158.4,2,   2288.0,2,     5.0
    35MFCIVA_1, I06SA,    18,  3,     60,      9,2,19930211,1437,-60.9973,  30.0018, 5255,     60.8,  -1.5142,  34.0951,2,  34.0970,2,    352.3,2, -1.5155,    345.3,2,    48.50,2,    27.26,2,     1.81,2,    6.077,2,    2.818,2,   -999.0,9,   2177.0,2,   2302.0,2,  -999.0
    35MFCIVA_1, I06SA,    18,  3,     80,      8,2,19930211,1437,-60.9973,  30.0018, 5255,     80.8,  -1.6183,  34.1229,2,  34.1220,2,    344.0,2, -1.6200,    335.4,2,    50.60,2,    28.15,2,     1.91,2,    6.012,2,    2.787,2,    -87.0,2,   2185.4,2,   2303.0,2,     5.0
    35MFCIVA_1, I06SA,    18,  3,    100,      7,2,19930211,1437,-60.9973,  30.0018, 5255,    101.1,  -1.6283,  34.1397,2,  34.1400,2,    331.0,2, -1.6305,    329.0,2,    51.87,2,    28.67,2,     1.94,2,    5.989,2,    2.706,2,   -999.0,9,   2191.5,2,   2306.0,2,  -999.0
    35MFCIVA_1, I06SA,    18,  3,    125,      6,2,19930211,1437,-60.9973,  30.0018, 5255,    127.8,  -1.2098,  34.1959,2,  34.1980,2,    319.3,2, -1.2130,    308.4,2,    57.35,2,    30.30,2,     2.03,2,    5.472,2,    2.479,2,    -91.0,2,   2205.8,2,   2307.0,2,     5.0
    35MFCIVA_1, I06SA,    18,  3,    150,      5,2,19930211,1437,-60.9973,  30.0018, 5255,    152.5,  -0.5572,  34.3060,2,  34.3110,2,    291.8,2, -0.5619,    275.4,2,    66.62,2,    31.85,2,     2.14,2,    4.362,2,    1.991,2,   -999.0,9,   2212.6,2,   2317.0,2,  -999.0
    35MFCIVA_1, I06SA,    18,  3,    175,      4,2,19930211,1437,-60.9973,  30.0018, 5255,    177.0,   0.7504,  34.4823,2,  34.4820,2,    229.8,2,  0.7429,    216.8,2,    82.22,2,    33.63,2,     2.32,2, -999.000,5, -999.000,5,   -124.0,2,   2238.8,2,   2324.0,2,     5.0
    35MFCIVA_1, I06SA,    18,  3,    200,      3,2,19930211,1437,-60.9973,  30.0018, 5255,    202.0,   1.2185,  34.5679,2,  34.5670,2,    202.6,2,  1.2090,    196.7,2,    87.70,2,    34.51,2,     2.33,2,    1.425,2,    0.633,2,   -999.0,9,   2247.3,2,   2328.0,2,  -999.0
    35MFCIVA_1, I06SA,    18,  3,    250a,      2,2,19930211,1437,-60.9973,  30.0018, 5255,    254.7,   1.4875,  34.6364,2,  34.6350,2,    190.9,2,  1.4748,    187.1,2,    90.64,2,    34.07,2,     2.29,2,    0.835,2,    0.339,2,   -146.0,2,   2251.0,2,   2335.0,2,     5.0
    35MFCIVA_1, I06SA,    18,  3,    250b,      1,2,19930211,1437,-60.9973,  30.0018, 5255,    254.7,   1.4905,  34.6381,2,  34.6350,2,    190.9,2,  1.4777,    187.1,2,    88.54,2,    34.07,2,     2.30,2,    0.837,2,    0.372,2,   -999.0,9,   2253.0,2,   2335.0,2,  -999.0
    35MFCIVA_1, I06SA,    19,  1,    325,     12,2,19930211,1937,-60.3325,  29.9978, 5166,    327.2,   1.6594,  34.6606,2,  34.6620,2,    190.8,2,  1.6424,    187.1,2,    88.66,2,    33.77,2,     2.29,2,    0.634,2,    0.294,2,   -999.0,9,   2253.4,2,   2348.0,2,  -999.0
    35MFCIVA_1, I06SA,    19,  1,    400,     11,2,19930211,1937,-60.3325,  29.9978, 5166,    401.8,   1.5744,  34.6863,2,  34.6880,2,    191.1,2,  1.5536,    188.6,2,    93.50,2,    33.01,2,     2.26,2,    0.511,2,    0.226,2,   -999.0,9,   2256.1,2,   2351.0,2,  -999.0
    35MFCIVA_1, I06SA,    19,  1,    500,     10,2,19930211,1937,-60.3325,  29.9978, 5166,    503.1,   1.4935,  34.7041,2,  34.7060,2,    194.2,2,  1.4672,    192.2,2,    95.91,2,    32.79,2,     2.27,2,    0.387,2,    0.176,2,   -999.0,9,   2252.0,2,   2355.0,2,  -999.0
    35MFCIVA_1, I06SA,    19,  1,    600,      9,2,19930211,1937,-60.3325,  29.9978, 5166,    607.0,   1.3815,  34.7142,2,  34.7160,2,    196.9,2,  1.3498,    196.0,2,    99.14,2,    32.49,2,     2.21,2,    0.383,2,    0.151,2,   -999.0,9,   2254.0,2,   2358.0,2,  -999.0
    35MFCIVA_1, I06SA,    19,  1,    700,      8,2,19930211,1937,-60.3325,  29.9978, 5166,    704.8,   1.3235,  34.7206,2,  34.7230,2,    199.5,2,  1.2864,    198.3,2,   100.75,2,    32.18,2,     2.18,2,    0.292,2,    0.101,3,   -999.0,9,   2251.4,2,   2358.0,2,  -999.0
    35MFCIVA_1, I06SA,    19,  1,    800,      7,2,19930211,1937,-60.3325,  29.9978, 5166,    806.9,   1.1725,  34.7193,2,  34.7190,2,    201.5,2,  1.1304,    200.7,2,   102.36,2,    32.33,2,     2.21,2, -999.000,5, -999.000,5,   -999.0,9,   2254.3,2,   2363.0,2,  -999.0
    35MFCIVA_1, I06SA,    19,  1,    900,      6,2,19930211,1937,-60.3325,  29.9978, 5166,    907.2,   1.0665,  34.7191,2,  34.7180,2,    200.2,2,  1.0192,    202.6,2,   105.58,2,    32.56,2,     2.22,2,    0.240,2,    0.100,2,   -999.0,9,   2256.4,2,   -999.0,9,  -999.0
    35MFCIVA_1, I06SA,    19,  1,   1000,      5,2,19930211,1937,-60.3325,  29.9978, 5166,   1007.9,   0.9275,  34.7067,2,  34.7100,2,    203.8,2,  0.8752,    203.5,2,   108.80,2,    32.71,2,     2.24,2,    0.269,2,    0.083,3,   -999.0,9,   2257.8,2,   2355.0,2,  -999.0
    35MFCIVA_1, I06SA,    19,  1,   1200,      4,2,19930211,1937,-60.3325,  29.9978, 5166,   1211.9,   0.7304,  34.7031,2,  34.7030,2,    205.5,2,  0.6674,    207.3,2,   114.44,2,    32.94,2,     2.25,2,    0.226,2,    0.097,2,   -999.0,9,   2259.4,2,   2353.0,2,  -999.0
    35MFCIVA_1, I06SA,    19,  1,   1400,      3,2,19930211,1937,-60.3325,  29.9978, 5166,   1413.2,   0.5574,  34.6934,2,  34.6930,2,    206.6,2,  0.4834,    207.9,2,   118.88,2,    33.46,2,     2.29,2,    0.211,2,    0.071,3,   -999.0,9,   2260.9,2,   2353.0,2,  -999.0
    35MFCIVA_1, I06SA,    19,  1,   1600a,      2,2,19930211,1937,-60.3325,  29.9978, 5166,   1614.8,   0.4414,  34.6886,2,  34.6890,2,    206.3,2,  0.3556,    209.6,2,   121.70,2,    33.61,2,     2.27,2,    0.191,2,    0.082,2,   -999.0,9,   2262.8,2,   2350.0,2,  -999.0
    35MFCIVA_1, I06SA,    19,  1,   1600b,      1,2,19930211,1937,-60.3325,  29.9978, 5166,   1615.9,   0.4394,  34.6890,2,  34.6870,2,    205.8,2,  0.3536,    209.9,2,   122.50,2,    33.69,2,     2.31,2,    0.216,2,    0.061,3,   -999.0,9,   2257.8,2,   -999.0,9,  -999.0
    35MFCIVA_1, I06SA,    19,  2,     10,     12,2,19930211,2225,-60.3360,  30.0112, 5235,      9.5,   1.7794,  33.6306,2,  33.6310,2,    334.0,2,  1.7790,    337.1,2,    40.74,2,    25.12,2,     1.65,2,    6.273,2,    3.011,2,   -999.0,9,   2132.7,2,   2285.0,2,  -999.0
    35MFCIVA_1, I06SA,    19,  2,     20,     11,2,19930211,2225,-60.3360,  30.0112, 5235,     20.5,   1.7724,  33.6293,2,  33.6310,2,    337.0,2,  1.7714,    336.5,2,    41.14,2,    25.12,2,     1.64,2,    6.250,2,    2.924,2,   -999.0,9,   2132.7,2,   2284.0,2,  -999.0
    35MFCIVA_1, I06SA,    19,  2,     40,     10,2,19930211,2225,-60.3360,  30.0112, 5235,     40.2,   0.8454,  33.6858,2,  33.7120,2,    331.0,2,  0.8438,    346.3,2,    41.14,2,    25.65,2,     1.69,2, -999.000,5, -999.000,5,   -999.0,9,   2138.8,2,   2286.0,2,  -999.0
    35MFCIVA_1, I06SA,    19,  2,     60,      9,2,19930211,2225,-60.3360,  30.0112, 5235,     60.8,  -1.4371,  34.0208,2,  34.0190,2,    351.8,2, -1.4384,    352.8,2,    49.18,2,    27.75,2,     1.87,2,    6.464,2,    2.992,2,   -999.0,9,   2176.1,2,   2310.0,2,  -999.0
    35MFCIVA_1, I06SA,    19,  2,     80,      8,2,19930211,2225,-60.3360,  30.0112, 5235,     81.1,  -1.4160,  34.0807,2,  34.0820,2,    339.5,2, -1.4179,    341.5,2,    53.21,2,    29.10,2,     1.97,2,    6.369,2,    2.945,2,   -999.0,9,   2183.0,2,   2313.0,2,  -999.0
    35MFCIVA_1, I06SA,    19,  2,    100,      7,2,19930211,2225,-60.3360,  30.0112, 5235,    101.2,  -1.3480,  34.1159,2,  34.1190,2,    333.6,2, -1.3503,    334.4,2,    55.63,2,    29.71,2,     1.99,2,    6.215,2,    2.816,2,   -999.0,9,   2188.6,2,   2315.0,2,  -999.0
    35MFCIVA_1, I06SA,    19,  2,    125,      6,2,19930211,2225,-60.3360,  30.0112, 5235,    127.0,  -0.9125,  34.1776,2,  34.1870,2,    318.7,2, -0.9160,    320.0,2,    62.08,2,    30.46,2,     2.06,2,    5.796,2,    2.649,2,   -999.0,9,   2198.8,2,   2320.0,2,  -999.0
    35MFCIVA_1, I06SA,    19,  2,    150,      5,2,19930211,2225,-60.3360,  30.0112, 5235,    152.8,  -0.4561,  34.2669,2,  34.2770,2,    283.3,2, -0.4610,    296.7,2,    69.33,2,    31.51,2,     2.14,2,    4.957,2,    2.282,2,   -999.0,9,   2213.7,2,   2324.0,2,  -999.0
    35MFCIVA_1, I06SA,    19,  2,    175,      4,2,19930211,2225,-60.3360,  30.0112, 5235,    176.4,   0.9565,  34.4612,2,  34.4580,2,    239.0,2,  0.9486,    223.0,2,    78.60,2,    34.07,2,     2.31,2,    2.410,2,    1.080,2,   -999.0,9,   2240.7,2,   2333.0,2,  -999.0
    35MFCIVA_1, I06SA,    19,  2,    200,      3,2,19930211,2225,-60.3360,  30.0112, 5235,    202.0,   1.3585,  34.5375,2,  34.5370,2,    205.8,2,  1.3487,    200.9,2,    83.03,2,    34.37,2,     2.36,2,    1.506,2,    0.756,2,   -999.0,9,   2248.8,2,   2340.0,2,  -999.0
    35MFCIVA_1, I06SA,    19,  2,    250a,      2,2,19930211,2225,-60.3360,  30.0112, 5235,    250.2,   1.4845,  34.5889,2,  34.5880,2,    192.8,2,  1.4720,    193.0,2,    85.44,2,    34.37,2,     2.33,2,    1.128,2,    0.485,2,   -999.0,9,   2253.2,2,   2343.0,2,  -999.0
    35MFCIVA_1, I06SA,    19,  2,    250b,      1,2,19930211,2225,-60.3360,  30.0112, 5235,    251.3,   1.4795,  34.5886,2,  34.5890,2,    193.0,2,  1.4670,    192.2,2,    85.85,2,    34.37,2,     2.35,2,    1.144,8,    0.512,2,   -999.0,9,   2254.4,2,   2346.0,2,  -999.0
    35MFCIVA_1, I06SA,    20,  1,   1500,     12,2,19930212,0404,-59.6758,  29.9955, 5210,   1516.0,   0.4654,  34.6880,2,  34.6890,2,    206.2,2,  0.3858,    207.9,2,   120.33,2,    33.05,2,     2.42,2,    0.241,2,    0.071,3,   -999.0,9,   2263.1,2,   2363.0,2,  -999.0
    35MFCIVA_1, I06SA,    20,  1,   1750,     11,2,19930212,0404,-59.6758,  29.9955, 5210,   1771.6,   0.3243,  34.6829,2,  34.6820,2,    208.7,2,  0.2296,    210.3,2,   122.32,2,    33.19,2,     2.42,2,    0.189,2,    0.077,2,   -999.0,9,   2263.0,2,   2362.0,2,  -999.0
    35MFCIVA_1, I06SA,    20,  1,   2000,     10,2,19930212,0404,-59.6758,  29.9955, 5210,   2026.5,   0.2013,  34.6772,2,  34.6760,2,    213.6,2,  0.0905,    214.1,2,   124.70,2,    33.19,2,     2.43,2,    0.177,2,    0.043,3,   -999.0,9,   2262.1,2,   2362.0,2,  -999.0
    35MFCIVA_1, I06SA,    20,  1,   2250,      9,2,19930212,0404,-59.6758,  29.9955, 5210,   2276.7,   0.1162,  34.6743,2,  34.6730,2,    217.0,2, -0.0114,    218.8,2,   125.89,2,    33.05,2,     2.44,2,    0.193,2,    0.090,2,   -999.0,9,   2260.0,2,   2363.0,2,  -999.0
    35MFCIVA_1, I06SA,    20,  1,   2500,      8,2,19930212,0404,-59.6758,  29.9955, 5210,   2533.5,   0.0142,  34.6684,2,  34.6690,2,    220.3,2, -0.1313,    224.7,2,   125.49,2,    33.12,2,     2.43,2,    0.189,2,    0.090,2,   -999.0,9,   2257.9,2,   2361.0,2,  -999.0
    35MFCIVA_1, I06SA,    20,  1,   3000,      7,2,19930212,0404,-59.6758,  29.9955, 5210,   3046.7,  -0.1329,  34.6619,2,  34.6620,2,    229.3,2, -0.3172,    231.6,2,   125.89,2,    33.05,2,     2.42,2,    0.250,2,    0.096,2,   -999.0,9,   2256.2,2,   2361.0,2,  -999.0
    35MFCIVA_1, I06SA,    20,  1,   3500,      6,2,19930212,0404,-59.6758,  29.9955, 5210,   3557.1,  -0.2099,  34.6580,2,  34.6580,2,    232.8,2, -0.4376,    236.5,2,   126.29,2,    32.75,2,     2.41,2,    0.239,2,    0.115,2,   -999.0,9,   2253.8,2,   2361.0,2,  -999.0
    35MFCIVA_1, I06SA,    20,  1,   4000,      5,2,19930212,0404,-59.6758,  29.9955, 5210,   4071.6,  -0.2660,  34.6555,2,  34.6560,2,    240.5,2, -0.5414,    240.2,2,   127.08,2,    32.75,2,     2.37,2,    0.245,2,    0.113,2,   -999.0,9,   2241.0,2,   2360.0,2,  -999.0
    35MFCIVA_1, I06SA,    20,  1,   4500,      4,2,19930212,0404,-59.6758,  29.9955, 5210,   4072.2,  -0.2680,  34.6549,2,  34.6560,2,    240.5,2, -0.5434,    239.7,2,   127.88,2,    32.60,2,     2.38,2,    0.251,2,    0.095,2,   -999.0,9,   2217.0,4,   2361.0,2,  -999.0
    35MFCIVA_1, I06SA,    20,  1,   5000,      3,2,19930212,0404,-59.6758,  29.9955, 5210,   4588.8,  -0.2990,  34.6530,2,  34.6540,2,    244.6,2, -0.6265,    242.6,2,   128.67,2,    32.60,2,     2.37,2,    0.229,2,    0.088,2,   -999.0,9,   2252.5,2,   2359.0,2,  -999.0
    35MFCIVA_1, I06SA,    20,  1,   5250,      2,2,19930212,0404,-59.6758,  29.9955, 5210,   5103.8,  -0.3110,  34.6518,2,  34.6510,2,    247.8,2, -0.6946,    245.6,2,   128.67,2,    32.60,2,     2.37,2,    0.258,2,    0.102,2,   -999.0,9,   2246.4,2,   2359.0,2,  -999.0
    35MFCIVA_1, I06SA,    20,  1,   F-20,      1,2,19930212,0404,-59.6758,  29.9955, 5210,   5283.3,  -0.3200,  34.6498,2,  34.6510,2,    247.9,2, -0.7238,    246.8,2,   129.46,2,    32.60,2,     2.34,2,    0.268,2,    0.125,2,   -999.0,9,   2251.1,2,   2359.0,2,  -999.0
    35MFCIVA_1, I06SA,    20,  2,    325,     12,2,19930212,1656,-59.6693,  30.0082, 5200,    327.1,   1.6894,  34.6606,2,  34.6620,2,    187.2,2,  1.6724,    185.5,2,    86.59,2,    33.71,2,     2.42,2,    0.589,2,    0.277,2,   -999.0,9,   2255.0,2,   2348.0,2,  -999.0
    35MFCIVA_1, I06SA,    20,  2,    400,     11,2,19930212,1656,-59.6693,  30.0082, 5200,    401.4,   1.7004,  34.6935,2,  34.6940,2,    192.3,2,  1.6792,    187.8,2,    89.36,2,    32.16,2,     2.35,2,    0.434,2,    0.192,2,   -999.0,9,   2251.8,2,   2349.0,2,  -999.0
    35MFCIVA_1, I06SA,    20,  2,    500,     10,2,19930212,1656,-59.6693,  30.0082, 5200,    503.6,   1.5684,  34.7125,2,  34.7100,2,    193.2,2,  1.5419,    195.4,2,    92.14,2,    31.72,2,     2.32,2,    0.360,2,    0.147,2,   -999.0,9,   2252.8,2,   2353.0,2,  -999.0
    35MFCIVA_1, I06SA,    20,  2,    600,      9,2,19930212,1656,-59.6693,  30.0082, 5200,    606.5,   1.4525,  34.7227,2,  34.7230,2,    198.4,2,  1.4205,    196.8,2,    94.52,2,    31.57,2,     2.30,2,    0.314,2,    0.178,3,   -999.0,9,   2254.1,2,   2355.0,2,  -999.0
    35MFCIVA_1, I06SA,    20,  2,    700,      8,2,19930212,1656,-59.6693,  30.0082, 5200,    704.0,   1.3535,  34.7274,2,  34.7280,2,    201.4,2,  1.3163,    199.3,2,    97.70,2,    31.42,2,     2.30,2,    0.253,2,    0.097,2,   -999.0,9,   2262.7,3,   2356.0,2,  -999.0
    35MFCIVA_1, I06SA,    20,  2,    800,      7,2,19930212,1656,-59.6693,  30.0082, 5200,    808.2,   1.2085,  34.7234,2,  34.7230,2,    203.0,2,  1.1661,    201.3,2,   101.27,2,    31.42,2,     2.28,2,    0.253,2,    0.100,2,   -999.0,9,   2255.2,2,   2358.0,2,  -999.0
    35MFCIVA_1, I06SA,    20,  2,    900,      6,2,19930212,1656,-59.6693,  30.0082, 5200,    911.0,   1.0375,  34.7171,2,  34.7170,2,    202.8,2,  0.9901,    202.7,2,   105.64,2,    31.87,2,     2.32,2,    0.274,2,    0.114,2,   -999.0,9,   2253.1,2,   2360.0,2,  -999.0
    35MFCIVA_1, I06SA,    20,  2,   1000,      5,2,19930212,1656,-59.6693,  30.0082, 5200,   1008.2,   0.9305,  34.7135,2,  34.7120,2,    204.9,2,  0.8781,    207.0,2,   108.82,2,    31.87,2,     2.33,2,    0.221,2,    0.099,2,   -999.0,9,   2254.9,2,   2359.0,2,  -999.0
    35MFCIVA_1, I06SA,    20,  2,   1100,      4,2,19930212,1656,-59.6693,  30.0082, 5200,   1110.7,   0.8324,  34.7101,2,  34.7090,2,    205.0,2,  0.7747,    205.5,2,   111.20,2,    31.94,2,     2.38,2,    0.200,3,    0.077,2,   -999.0,9,   2257.3,2,   2363.0,2,  -999.0
    35MFCIVA_1, I06SA,    20,  2,   1200,      3,2,19930212,1656,-59.6693,  30.0082, 5200,   1209.0,   0.7114,  34.7026,2,  34.7030,2,    205.8,2,  0.6488,    206.2,2,   113.58,2,    32.16,2,     2.37,2,    0.207,2,    0.089,2,   -999.0,9,   2255.0,2,   2363.0,2,  -999.0
    35MFCIVA_1, I06SA,    20,  2,   1350a,      2,2,19930212,1656,-59.6693,  30.0082, 5200,   1363.8,   0.5644,  34.6957,2,  34.6930,2,    205.6,2,  0.4935,    206.2,2,   117.55,2,    32.60,2,     2.38,2,    0.223,2,    0.091,2,   -999.0,9,   2261.0,2,   2362.0,2,  -999.0
    35MFCIVA_1, I06SA,    20,  2,   1350b,      1,2,19930212,1656,-59.6693,  30.0082, 5200,   1365.7,   0.5634,  34.6945,2,  34.6930,2,    205.7,2,  0.4924,    206.6,2,   117.55,2,    32.68,2,     2.40,2,    0.224,2,    0.087,2,   -999.0,9,   2268.0,3,   2362.0,2,  -999.0