BOTTLE,20220922CCHSIOAMB
EXPOCODE,SECT_ID,STNNBR,CASTNO,SAMPNO,BTLNBR,BTLNBR_FLAG_W,DATE,TIME,LATITUDE,LONGITUDE,DEPTH,CTDPRS,CTDTMP,CTDSAL,CTDSAL_FLAG_W,SALNTY,SALNTY_FLAG_W,CTDOXY,CTDOXY_FLAG_W,THETA,OXYGEN,OXYGEN_FLAG_W,SILCAT,SILCAT_FLAG_W,NITRAT,NITRAT_FLAG_W,PHSPHT,PHSPHT_FLAG_W,CFC-11,CFC-11_FLAG_W,CFC-12,CFC-12_FLAG_W,DELC14,DELC14_FLAG_W,TCARBN,TCARBN_FLAG_W,ALKALI,ALKALI_FLAG_W,C14ERR
,,,,,,,,,,,,DBAR,ITS-90,PSS-78,,PSS-78,,UMOL/KG,,DEG C,UMOL/KG,,UMOL/KG,,UMOL/KG,,UMOL/KG,,PMOL/KG,,PMOL/KG,,/MILLE,,UMOL/KG,,UMOL/KG,,/MILLE
    35MFCIVA_1, I06SA,    10,  3,     10,     12,2,19930208,0015,-65.9995,  29.9900, 4500,     13.3,   0.8644,  33.8424,2,  33.8440,2,    334.4,2,  0.8639,    338.4,2,    54.08,2,    26.47,2,     1.83,2,    6.254,2,    2.914,2,   -999.0,9,   2165.1,2,   2295.0,2,  -999.0
    35MFCIVA_1, I06SA,    10,  3,     20,     11,2,19930208,0015,-65.9995,  29.9900, 4500,     23.5,   0.8264,  33.8495,2,  33.8460,2,    336.5,2,  0.8255,    338.7,2,    55.65,2,    26.19,2,     1.82,2,    6.252,2,    2.892,2,   -999.0,9,   2172.7,2,   2299.0,2,  -999.0
    35MFCIVA_1, I06SA,    10,  3,     40,     10,2,19930208,0015,-65.9995,  29.9900, 4500,     43.5,  -1.3359,  34.2941,2,  34.2940,2,    318.9,2, -1.3370,    320.1,2,    61.11,2,    27.83,2,     1.93,2,    5.054,2,    2.259,2,   -999.0,9,   2208.1,2,   2324.0,2,  -999.0
    35MFCIVA_1, I06SA,    10,  3,     60,      9,2,19930208,0015,-65.9995,  29.9900, 4500,     63.3,  -0.7573,  34.3977,2,  34.3930,2,    298.5,2, -0.7592,    296.8,2,    66.58,2,    29.21,2,     2.08,2,    4.453,2,    1.970,2,   -999.0,9,   2223.1,2,   2336.0,2,  -999.0
    35MFCIVA_1, I06SA,    10,  3,     80,      8,2,19930208,0015,-65.9995,  29.9900, 4500,     83.2,   0.4184,  34.5224,2,  34.5050,2,    234.2,2,  0.4151,    233.4,2,    79.12,2,    31.55,2,     2.25,2,    2.515,2,    1.113,2,   -999.0,9,   2248.4,2,   2348.0,2,  -999.0
    35MFCIVA_1, I06SA,    10,  3,    100,      7,2,19930208,0015,-65.9995,  29.9900, 4500,    103.0,   0.8534,  34.5760,2,  34.5770,2,    214.2,2,  0.8490,    205.0,2,    86.95,2,    32.65,2,     2.33,2,    1.554,2,    0.659,2,   -999.0,9,   2261.9,2,   2343.0,2,  -999.0
    35MFCIVA_1, I06SA,    10,  3,    125,      6,2,19930208,0015,-65.9995,  29.9900, 4500,    127.3,   1.1535,  34.6180,2,  34.6150,2,    200.8,2,  1.1476,    194.8,2,    90.08,2,    32.79,2,     2.34,2,    1.145,2,    0.488,2,   -999.0,9,   2265.4,2,   2346.0,2,  -999.0
    35MFCIVA_1, I06SA,    10,  3,    150,      5,2,19930208,0015,-65.9995,  29.9900, 4500,    152.6,   1.3975,  34.6507,2,  34.6490,2,    188.1,2,  1.3901,    186.7,2,    91.64,2,    32.65,2,     2.27,2,    0.782,2,    0.334,2,   -999.0,9,   2268.6,2,   2352.0,2,  -999.0
    35MFCIVA_1, I06SA,    10,  3,    175,      4,2,19930208,0015,-65.9995,  29.9900, 4500,    177.0,   1.4945,  34.6695,2,  34.6680,2,    187.8,2,  1.4857,    185.5,2,    93.21,2,    32.24,2,     2.27,2,    0.772,2,    0.320,2,   -999.0,9,   2266.7,2,   2352.0,2,  -999.0
    35MFCIVA_1, I06SA,    10,  3,    200,      3,2,19930208,0015,-65.9995,  29.9900, 4500,    204.9,   1.5245,  34.6852,2,  34.6830,2,    190.0,2,  1.5142,    187.7,2,    93.99,2,    32.10,2,     2.23,2,    0.477,2,    0.207,2,   -999.0,9,   2265.7,2,   2353.0,2,  -999.0
    35MFCIVA_1, I06SA,    10,  3,    250a,      1,2,19930208,0015,-65.9995,  29.9900, 4500,    254.3,   1.4515,  34.6916,2,  34.6900,2,    188.2,2,  1.4388,    190.0,2,    94.78,2,    31.68,2,     2.27,2,    0.456,2,    0.195,2,   -999.0,9,   2264.0,2,   2355.0,2,  -999.0
    35MFCIVA_1, I06SA,    10,  3,    250b,      2,2,19930208,0015,-65.9995,  29.9900, 4500,    254.8,   1.4525,  34.6927,2,  34.6900,2,    188.2,2,  1.4398,    189.3,2,    94.77,2,    31.55,2,     2.19,2,    0.483,2,    0.205,2,   -999.0,9,   2265.0,2,   2353.0,2,  -999.0
    35MFCIVA_1, I06SA,    11,  1,    325,     12,4,19930208,0438,-65.5047,  29.9873, 4702,    326.7,   1.3085,  34.6906,2,-999.0000,5,    198.1,2,  1.2924,   -999.0,5,  -999.00,5,  -999.00,5,  -999.00,5,    0.496,2,    0.199,3,   -999.0,9,   -999.0,5,   -999.0,5,  -999.0
    35MFCIVA_1, I06SA,    11,  1,    400,     11,2,19930208,0438,-65.5047,  29.9873, 4702,    402.6,   1.2915,  34.7028,2,  34.7020,2,    200.0,2,  1.2715,    196.7,2,    97.63,2,    31.29,2,     2.25,2,    0.454,2,    0.165,3,   -999.0,9,   2254.9,2,   2358.0,2,  -999.0
    35MFCIVA_1, I06SA,    11,  1,    500,     10,2,19930208,0438,-65.5047,  29.9873, 4702,    504.0,   1.2865,  34.7181,2,  34.7160,2,    201.1,2,  1.2610,    197.7,2,   101.60,2,    31.16,2,     2.21,2,    0.290,2,    0.106,3,   -999.0,9,   2255.6,2,   2359.0,2,  -999.0
    35MFCIVA_1, I06SA,    11,  1,    600,      9,2,19930208,0438,-65.5047,  29.9873, 4702,    606.0,   1.1965,  34.7189,2,  34.7190,2,    204.2,2,  1.1658,    198.3,2,   104.77,2,    31.16,2,     2.22,2,    0.239,2,    0.074,3,   -999.0,9,   2256.1,2,   2363.0,2,  -999.0
    35MFCIVA_1, I06SA,    11,  1,    700,      8,2,19930208,0438,-65.5047,  29.9873, 4702,    706.7,   1.0895,  34.7189,2,  34.7170,2,    205.9,2,  1.0537,    200.3,2,   106.36,2,    31.16,2,     2.22,2,    0.213,2,    0.071,3,   -999.0,9,   2257.7,2,   2362.0,2,  -999.0
    35MFCIVA_1, I06SA,    11,  1,    800,      7,2,19930208,0438,-65.5047,  29.9873, 4702,    807.1,   0.9835,  34.7144,2,  34.7140,2,    206.0,2,  0.9426,    202.1,2,   108.74,2,    31.43,2,     2.21,2,    0.200,2,    0.075,3,   -999.0,9,   2252.4,3,   2361.0,2,  -999.0
    35MFCIVA_1, I06SA,    11,  1,    900,      6,2,19930208,0438,-65.5047,  29.9873, 4702,    909.3,   0.8864,  34.7094,2,  34.7100,2,    208.9,2,  0.8403,    203.7,2,   111.12,2,    31.43,2,     2.24,2,    0.217,2,    0.060,3,   -999.0,9,   2258.9,2,   2364.0,2,  -999.0
    35MFCIVA_1, I06SA,    11,  1,   1000,      5,2,19930208,0438,-65.5047,  29.9873, 4702,   1010.0,   0.7944,  34.7076,2,  34.7060,2,    209.2,2,  0.7431,    204.9,2,   114.30,2,    31.57,2,     2.24,2,    0.195,2,    0.060,3,   -999.0,9,   2256.1,2,   2364.0,2,  -999.0
    35MFCIVA_1, I06SA,    11,  1,   1200,      4,2,19930208,0438,-65.5047,  29.9873, 4702,   1212.8,   0.6024,  34.6975,2,  34.6960,2,    212.1,2,  0.5406,    207.6,2,   118.26,2,    31.98,2,     2.25,2,    0.169,2,    0.062,3,   -999.0,9,   2258.8,2,   2364.0,2,  -999.0
    35MFCIVA_1, I06SA,    11,  1,   1400,      3,2,19930208,0438,-65.5047,  29.9873, 4702,   1415.5,   0.4654,  34.6908,2,  34.6900,2,    210.8,2,  0.3923,    209.0,2,   123.03,2,    32.12,2,  -999.00,5,    0.171,2,    0.060,3,   -999.0,9,   2260.5,2,   2364.0,2,  -999.0
    35MFCIVA_1, I06SA,    11,  1,   1600a,      2,2,19930208,0438,-65.5047,  29.9873, 4702,   1616.6,   0.3463,  34.6843,2,  34.6840,2,    216.6,2,  0.2617,    211.4,2,   124.61,2,    32.40,2,     2.27,2,    0.178,3,    0.068,3,   -999.0,9,   2260.0,2,   2367.0,2,  -999.0
    35MFCIVA_1, I06SA,    11,  1,   1600b,      1,2,19930208,0438,-65.5047,  29.9873, 4702,   1618.1,   0.3453,  34.6846,2,  34.6840,2,    216.4,2,  0.2606,    211.2,2,   124.61,2,    32.26,2,     2.28,2,    0.177,2,    0.066,3,   -999.0,9,   2259.0,2,   2366.0,2,  -999.0
    35MFCIVA_1, I06SA,    11,  2,     10,     12,2,19930208,0856,-65.4977,  30.0013, 4750,     11.0,   0.9785,  33.8382,2,  33.8390,2,    334.8,2,  0.9780,    336.7,2,    54.80,2,    26.35,2,     1.86,2,    6.234,2,    2.883,2,   -999.0,9,   2164.3,2,   2302.0,2,  -999.0
    35MFCIVA_1, I06SA,    11,  2,     20,     11,2,19930208,0856,-65.4977,  30.0013, 4750,     20.7,   0.9725,  33.8404,2,  33.8410,2,    331.8,2,  0.9716,    336.7,2,    54.80,2,    26.35,2,     1.86,2,    6.207,2,    2.881,2,   -999.0,9,   2162.5,2,   2300.0,2,  -999.0
    35MFCIVA_1, I06SA,    11,  2,     40,     10,2,19930208,0856,-65.4977,  30.0013, 4750,     41.3,  -0.9675,  34.2047,2,  34.1820,2,    332.3,2, -0.9686,    335.4,2,    61.14,2,    26.89,2,     1.90,2,    5.553,2,    2.522,2,   -999.0,9,   2189.2,2,   2325.0,2,  -999.0
    35MFCIVA_1, I06SA,    11,  2,     60,      9,2,19930208,0856,-65.4977,  30.0013, 4750,     61.5,  -1.3700,  34.3412,2,  34.3380,2,    325.7,2, -1.3714,    322.2,2,    64.30,2,    27.85,2,     1.99,2,    5.166,2,    2.343,2,   -999.0,9,   2204.1,2,   2335.0,2,  -999.0
    35MFCIVA_1, I06SA,    11,  2,     80,      8,2,19930208,0856,-65.4977,  30.0013, 4750,     81.4,  -1.3379,  34.3759,2,  34.3790,2,    308.1,2, -1.3399,    305.1,2,    64.30,2,    29.37,2,     2.09,2,    4.858,2,    2.197,2,   -999.0,9,   2215.8,2,   2336.0,2,  -999.0
    35MFCIVA_1, I06SA,    11,  2,    100,      7,2,19930208,0856,-65.4977,  30.0013, 4750,    101.6,  -0.8384,  34.4339,2,  34.4220,2,    277.9,2, -0.8413,    281.8,2,    69.86,2,    30.61,2,     2.16,2,    4.223,2,    1.890,2,   -999.0,9,   2226.2,2,   2335.0,2,  -999.0
    35MFCIVA_1, I06SA,    11,  2,    125,      6,2,19930208,0856,-65.4977,  30.0013, 4750,    126.4,   0.1352,  34.5274,2,  34.5220,2,    232.5,2,  0.1305,    236.5,2,    80.97,2,    31.85,2,     2.27,2,    2.574,2,    1.136,2,   -999.0,9,   2242.7,2,   2343.0,2,  -999.0
    35MFCIVA_1, I06SA,    11,  2,    150,      5,2,19930208,0856,-65.4977,  30.0013, 4750,    151.4,   0.7154,  34.5871,2,  34.5850,2,    213.7,2,  0.7090,    211.1,2,    87.32,2,    32.26,2,     2.28,2,    1.594,2,    0.702,2,   -999.0,9,   2250.4,2,   2348.0,2,  -999.0
    35MFCIVA_1, I06SA,    11,  2,    175,      4,2,19930208,0856,-65.4977,  30.0013, 4750,    177.0,   1.0285,  34.6272,2,  34.6250,2,    205.2,2,  1.0204,    200.1,2,    91.29,2,    32.26,2,     2.27,2,    1.143,2,    0.482,2,   -999.0,9,   2256.1,2,   2351.0,2,  -999.0
    35MFCIVA_1, I06SA,    11,  2,    200,      3,2,19930208,0856,-65.4977,  30.0013, 4750,    201.7,   1.1675,  34.6438,2,  34.6430,2,    201.3,2,  1.1580,    198.5,2,    93.67,2,    31.99,2,     2.27,2,    0.929,2,    0.384,2,   -999.0,9,   2256.4,2,   2353.0,2,  -999.0
    35MFCIVA_1, I06SA,    11,  2,    250a,      2,2,19930208,0856,-65.4977,  30.0013, 4750,    252.3,   1.3335,  34.6765,2,  34.6760,2,    195.4,2,  1.3212,    193.4,2,    95.25,2,    31.57,2,     2.24,2,    0.644,2,    0.252,2,   -999.0,9,   2256.3,2,   2356.0,2,  -999.0
    35MFCIVA_1, I06SA,    11,  2,    250b,      1,2,19930208,0856,-65.4977,  30.0013, 4750,    328.7,   1.3395,  34.6986,2,  34.6960,2,    192.4,2,  1.3232,    195.9,2,    97.63,2,    31.43,2,     2.19,2, -999.000,5, -999.000,5,   -999.0,9,   2255.5,2,   2359.0,2,  -999.0
    35MFCIVA_1, I06SA,    12,  2,    325,     12,2,19930208,1840,-65.0022,  29.9983, 4890,    328.0,   1.2165,  34.6766,2,  34.6750,2,    191.1,2,  1.2006,    197.6,2,    95.66,2,    31.68,2,     2.23,2,    0.711,2,    0.265,3,   -148.0,2,   2257.2,2,   2351.0,2,     4.0
    35MFCIVA_1, I06SA,    12,  2,    400,     11,2,19930208,1840,-65.0022,  29.9983, 4890,    404.1,   1.3985,  34.7100,2,  34.7090,2,    190.5,2,  1.3780,    192.6,2,    98.84,2,    31.35,2,     2.21,2,    0.351,2,    0.102,3,   -999.0,9,   2259.3,2,   2354.0,2,  -999.0
    35MFCIVA_1, I06SA,    12,  2,    500,     10,2,19930208,1840,-65.0022,  29.9983, 4890,    505.4,   1.3005,  34.7172,2,  34.7150,2,    191.4,2,  1.2749,    195.9,2,   102.03,2,    31.19,2,     2.18,2,    0.292,2,    0.071,3,   -152.0,2,   2257.7,2,   2359.0,2,     4.0
    35MFCIVA_1, I06SA,    12,  2,    600,      9,2,19930208,1840,-65.0022,  29.9983, 4890,    606.8,   1.1835,  34.7149,2,  34.7130,2,    194.2,2,  1.1528,    197.8,2,   105.22,2,    31.19,2,     2.20,2,    0.279,2,    0.071,3,   -999.0,9,   2256.9,2,   2359.0,2,  -999.0
    35MFCIVA_1, I06SA,    12,  2,    700,      8,2,19930208,1840,-65.0022,  29.9983, 4890,    707.0,   1.1115,  34.7174,2,  34.7180,2,    196.2,2,  1.0755,    199.7,2,  -999.00,5,    31.19,2,     2.20,2,    0.234,2,    0.051,3,   -158.0,2,   2258.5,2,   2362.0,2,     4.0
    35MFCIVA_1, I06SA,    12,  2,    800,      7,2,19930208,1840,-65.0022,  29.9983, 4890,    808.6,   1.0135,  34.7163,2,  34.7140,2,    197.0,2,  0.9723,    201.4,2,   107.61,2,    31.35,2,     2.20,2,    0.230,2,    0.041,3,   -999.0,9,   2259.0,2,   2364.0,2,  -999.0
    35MFCIVA_1, I06SA,    12,  2,    900,      6,2,19930208,1840,-65.0022,  29.9983, 4890,    910.3,   0.9135,  34.7124,2,  34.7110,2,    198.8,2,  0.8671,    203.2,2,   110.00,2,    31.51,2,     2.21,2,    0.202,2,    0.031,3,   -999.0,9,   2260.3,2,   2364.0,2,  -999.0
    35MFCIVA_1, I06SA,    12,  2,   1000,      5,2,19930208,1840,-65.0022,  29.9983, 4890,   1010.3,   0.8004,  34.7085,2,  34.7060,2,    200.6,2,  0.7490,    204.7,2,   113.19,2,    31.84,2,     2.21,2,    0.195,2,    0.041,3,   -152.0,2,   2262.4,2,   2362.0,2,     4.0
    35MFCIVA_1, I06SA,    12,  2,   1100,      4,2,19930208,1840,-65.0022,  29.9983, 4890,   1112.2,   0.7174,  34.7042,2,  34.7020,2,    200.0,2,  0.6606,    206.1,2,   115.58,2,    31.84,2,     2.20,2,    0.190,2,    0.031,3,   -999.0,9,   2260.2,2,   2364.0,2,  -999.0
    35MFCIVA_1, I06SA,    12,  2,   1200,      3,2,19930208,1840,-65.0022,  29.9983, 4890,   1212.5,   0.6374,  34.7002,2,  34.6990,2,    202.6,2,  0.5752,    207.0,2,   116.38,2,    31.84,2,     2.21,2,    0.196,2,    0.031,3,   -161.0,2,   2260.9,2,   2368.0,2,     4.0
    35MFCIVA_1, I06SA,    12,  2,   1350a,      1,2,19930208,1840,-65.0022,  29.9983, 4890,   1362.3,   0.5264,  34.6934,2,  34.6910,2,    201.5,2,  0.4560,    209.0,2,   122.75,2,    31.84,2,     2.21,2,    0.195,2,    0.031,3,   -999.0,9,   2259.0,2,   2363.0,2,  -999.0
    35MFCIVA_1, I06SA,    12,  2,   1350b,      2,2,19930208,1840,-65.0022,  29.9983, 4890,   1362.4,   0.5254,  34.6932,2,  34.6920,2,    201.5,2,  0.4550,    208.8,2,   120.36,2,    32.01,2,     2.22,2,    0.191,2,    0.031,3,   -999.0,9,   2262.0,2,   2363.0,2,  -999.0
    35MFCIVA_1, I06SA,    12,  3,     10,     12,2,19930208,1645,-65.0008,  30.0028, 4892,     10.7,   1.0045,  33.8243,2,  33.8290,2,    333.0,2,  1.0040,    336.9,2,    54.24,2,    25.95,2,     1.82,2,    6.344,2,    2.841,2,   -117.0,2,   2164.1,2,   2298.0,2,     5.0
    35MFCIVA_1, I06SA,    12,  3,     20,     11,2,19930208,1645,-65.0008,  30.0028, 4892,     20.3,   1.0015,  33.8246,2,  33.8290,2,    335.4,2,  1.0006,    337.1,2,    53.44,2,    25.95,2,     1.82,2,    6.338,2,    2.841,2,    -97.0,2,   2164.5,2,   2298.0,2,     4.0
    35MFCIVA_1, I06SA,    12,  3,     40,     10,2,19930208,1645,-65.0008,  30.0028, 4892,     39.8,   0.6754,  33.8611,2,  33.8420,2,    337.0,2,  0.6738,    338.8,2,    54.24,2,    26.12,2,     1.82,2,    6.358,2,    2.861,2,    -97.0,2,   2165.1,2,   2297.0,2,     5.0
    35MFCIVA_1, I06SA,    12,  3,     60,      9,2,19930208,1645,-65.0008,  30.0028, 4892,     60.3,  -1.3119,  34.2752,2,  34.2820,2,    329.8,2, -1.3133,    325.8,2,    61.39,2,    27.25,2,     1.92,2,    5.269,2,    2.331,3,   -999.0,9,   2200.8,2,   2325.0,2,  -999.0
    35MFCIVA_1, I06SA,    12,  3,     80,      8,2,19930208,1645,-65.0008,  30.0028, 4892,     81.0,  -1.3480,  34.3505,2,  34.3490,2,    322.4,2, -1.3499,    319.1,2,    63.78,2,    28.07,2,     2.01,2,    5.117,2,    2.270,3,   -999.0,9,   2209.6,2,   2330.0,2,  -999.0
    35MFCIVA_1, I06SA,    12,  3,    100,      7,2,19930208,1645,-65.0008,  30.0028, 4892,    100.8,  -0.9555,  34.4090,2,  34.4110,2,    295.8,2, -0.9583,    285.0,2,    70.95,2,    30.21,2,     2.12,2,    4.303,2,    1.904,3,   -125.0,2,   2221.8,2,   2331.0,2,     5.0
    35MFCIVA_1, I06SA,    12,  3,    125,      6,2,19930208,1645,-65.0008,  30.0028, 4892,    126.2,   0.2653,  34.5212,2,  34.5200,2,    232.3,2,  0.2605,    227.3,2,    82.11,2,    32.01,2,     2.26,2,    2.392,2,    1.018,3,   -999.0,9,   2242.9,2,   2340.0,2,  -999.0
    35MFCIVA_1, I06SA,    12,  3,    150,      5,2,19930208,1645,-65.0008,  30.0028, 4892,    151.2,   0.6794,  34.5702,2,  34.5700,2,    223.3,2,  0.6731,    212.6,2,    85.30,2,    31.85,2,     2.28,2,    1.808,2,    0.764,3,   -140.0,2,   2252.0,2,   2344.0,2,     4.0
    35MFCIVA_1, I06SA,    12,  3,    175,      4,2,19930208,1645,-65.0008,  30.0028, 4892,    176.3,   1.0785,  34.6121,2,  34.6190,2,    216.1,2,  1.0704,    195.9,2,    89.28,2,    33.32,2,     2.29,2,    1.099,2,    0.428,3,   -999.0,9,   2252.3,2,   2348.0,2,  -999.0
    35MFCIVA_1, I06SA,    12,  3,    200,      3,2,19930208,1645,-65.0008,  30.0028, 4892,    202.2,   0.9855,  34.6178,2,  34.6150,2,    207.2,2,  0.9763,    201.0,2,    89.28,2,    33.16,2,     2.24,2,    1.269,3,    0.499,3,   -144.0,2,   2256.4,2,   2349.0,2,     4.0
    35MFCIVA_1, I06SA,    12,  3,    250a,      1,2,19930208,1645,-65.0008,  30.0028, 4892,    254.1,   1.3135,  34.6656,2,  34.6660,2,    195.3,2,  1.3012,    192.2,2,    93.27,2,    34.14,2,     2.24,2,    0.659,2,    0.234,3,   -999.0,9,   2251.0,2,   2355.0,2,  -999.0
    35MFCIVA_1, I06SA,    12,  3,    250b,      2,2,19930208,1645,-65.0008,  30.0028, 4892,    254.9,   1.3115,  34.6661,2,  34.6700,2,    195.2,2,  1.2991,    191.2,2,    93.27,2,    32.67,2,     2.27,2,    0.712,2,    0.255,3,   -999.0,9,   2259.0,2,   2353.0,2,  -999.0
    35MFCIVA_1, I06SA,    12,  4,   4500,      2,2,19930209,0400,-65.0028,  29.9932, 4850,   4589.3,  -0.2890,  34.6521,2,  34.6520,2,    252.9,2, -0.6169,    245.6,2,   129.24,2,    31.47,2,     2.24,2,    0.616,2,    0.224,3,   -164.0,2,   2255.5,2,   2357.0,2,     4.0
    35MFCIVA_1, I06SA,    12,  4,   F-20,      1,2,19930209,0400,-65.0028,  29.9932, 4850,   4954.8,  -0.3270,  34.6517,2,  34.6520,2,    251.7,2, -0.6934,    244.9,2,   139.54,2,    31.47,2,     2.22,2,    0.237,2,    0.051,3,   -999.0,9,   2252.0,2,   2361.0,2,  -999.0