BOTTLE,20220922CCHSIOAMB
EXPOCODE,SECT_ID,STNNBR,CASTNO,SAMPNO,BTLNBR,BTLNBR_FLAG_W,DATE,TIME,LATITUDE,LONGITUDE,DEPTH,CTDPRS,CTDTMP,CTDSAL,CTDSAL_FLAG_W,SALNTY,SALNTY_FLAG_W,CTDOXY,CTDOXY_FLAG_W,THETA,OXYGEN,OXYGEN_FLAG_W,SILCAT,SILCAT_FLAG_W,NITRAT,NITRAT_FLAG_W,PHSPHT,PHSPHT_FLAG_W,CFC-11,CFC-11_FLAG_W,CFC-12,CFC-12_FLAG_W,DELC14,DELC14_FLAG_W,TCARBN,TCARBN_FLAG_W,ALKALI,ALKALI_FLAG_W,C14ERR
,,,,,,,,,,,,DBAR,ITS-90,PSS-78,,PSS-78,,UMOL/KG,,DEG C,UMOL/KG,,UMOL/KG,,UMOL/KG,,UMOL/KG,,PMOL/KG,,PMOL/KG,,/MILLE,,UMOL/KG,,UMOL/KG,,/MILLE
    35MFCIVA_1, I06SA,     4,  3,     10,     10,2,19930205,1529,-68.9732,  29.8620, 2160,      9.4,  -0.7994,  33.7150,2,  33.7050,2,    369.1,2, -0.7996,    372.2,2,    58.04,2,    23.59,2,     1.59,2,    6.532,2,    2.926,2,   -999.0,9,   2127.0,2,   2294.0,2,  -999.0
    35MFCIVA_1, I06SA,     4,  3,     20,      9,2,19930205,1529,-68.9732,  29.8620, 2160,     21.8,  -0.8554,  33.7648,2,  33.7660,2,    373.7,2, -0.8560,    370.7,2,    58.74,2,    24.26,2,     1.63,2,    6.505,2,    2.949,2,   -999.0,9,   2134.8,2,   2295.0,2,  -999.0
    35MFCIVA_1, I06SA,     4,  3,     40,      8,2,19930205,1529,-68.9732,  29.8620, 2160,     41.4,  -0.7814,  33.8351,2,  33.8390,2,    357.5,2, -0.7825,    359.8,2,    59.43,2,    25.35,2,     1.69,2,    6.431,2,    2.920,2,   -999.0,9,   2147.4,2,   2302.0,2,  -999.0
    35MFCIVA_1, I06SA,     4,  3,     60,      7,2,19930205,1529,-68.9732,  29.8620, 2160,     62.1,  -1.7175,  34.0120,2,  34.0150,2,    350.7,2, -1.7187,    337.0,2,    62.22,2,    28.19,2,     1.92,2,    5.825,2,    2.650,2,   -999.0,9,   2179.4,2,   2311.0,2,  -999.0
    35MFCIVA_1, I06SA,     4,  3,     80,      6,2,19930205,1529,-68.9732,  29.8620, 2160,     81.7,  -1.8016,  34.0795,2,  34.0810,2,    340.4,2, -1.8032,    331.1,2,    62.92,2,    29.54,2,     2.08,2,    5.701,2,    2.592,2,   -999.0,9,   2188.0,2,   2314.0,2,  -999.0
    35MFCIVA_1, I06SA,     4,  3,    100,      5,2,19930205,1529,-68.9732,  29.8620, 2160,    101.7,  -1.7996,  34.1301,2,  34.1300,2,    338.3,2, -1.8016,    328.3,2,    63.61,2,    29.27,2,     2.11,2,    5.783,2,    2.626,2,   -999.0,9,   2194.5,2,   2316.0,2,  -999.0
    35MFCIVA_1, I06SA,     4,  3,    125,      4,2,19930205,1529,-68.9732,  29.8620, 2160,    125.6,  -1.7785,  34.1857,2,  34.1890,2,    330.5,2, -1.7811,    324.5,2,    63.61,2,    29.81,2,     2.08,2,    5.661,2,    2.573,2,   -999.0,9,   2198.3,2,   2318.0,2,  -999.0
    35MFCIVA_1, I06SA,     4,  3,    150,      3,2,19930205,1529,-68.9732,  29.8620, 2160,    152.2,  -1.7745,  34.2131,2,-999.0000,5,    331.3,2, -1.7776,    323.4,2,    62.91,2,    29.81,2,     2.09,2,    5.629,2,    2.547,2,   -999.0,9,   2199.7,2,   2322.0,2,  -999.0
    35MFCIVA_1, I06SA,     4,  3,    175,      2,2,19930205,1529,-68.9732,  29.8620, 2160,    176.7,  -1.7335,  34.2338,2,-999.0000,5,    327.3,2, -1.7372,    321.2,2,    63.61,2,    29.81,2,     2.09,2,    5.487,2,    2.492,2,   -999.0,9,   2202.4,2,   2323.0,2,  -999.0
    35MFCIVA_1, I06SA,     4,  3,    200,      1,2,19930205,1529,-68.9732,  29.8620, 2160,    201.4,  -1.6514,  34.2600,2,  34.2590,2,    324.0,2, -1.6558,    317.4,2,    65.00,2,    30.08,2,     2.08,2,    5.375,2,    2.437,2,   -999.0,9,   2205.4,2,   2323.0,2,  -999.0
    35MFCIVA_1, I06SA,     5,  1,    900,     12,2,19930205,2109,-68.6642,  29.9703, 3075,    909.8,   0.5694,  34.6843,2,  34.6860,2,    222.5,2,  0.5256,    213.6,2,   123.89,2,    33.29,2,     2.24,2,    0.581,2,    0.247,2,   -999.0,9,   2256.7,2,   2365.0,2,  -999.0
    35MFCIVA_1, I06SA,     5,  1,   1000,     11,2,19930205,2109,-68.6642,  29.9703, 3075,   1011.4,   0.4834,  34.6827,2,  34.6830,2,    215.6,2,  0.4346,    213.7,2,   127.94,2,    33.29,2,     2.23,2,    0.519,2,    0.214,2,   -999.0,9,   2258.5,2,   2365.0,2,  -999.0
    35MFCIVA_1, I06SA,     5,  1,   1100,     10,2,19930205,2109,-68.6642,  29.9703, 3075,   1112.5,   0.4083,  34.6799,2,  34.6810,2,    216.6,2,  0.3544,    214.5,2,   131.17,2,    33.57,2,     2.23,2,    0.495,2,    0.200,2,   -999.0,9,   2256.3,2,   2364.0,2,  -999.0
    35MFCIVA_1, I06SA,     5,  1,   1200,      9,2,19930205,2109,-68.6642,  29.9703, 3075,   1213.6,   0.3343,  34.6775,2,  34.6770,2,    219.5,2,  0.2751,    215.7,2,   131.17,2,    33.57,2,     2.25,2,    0.435,2,    0.190,2,   -999.0,9,   2258.2,2,   2365.0,2,  -999.0
    35MFCIVA_1, I06SA,     5,  1,   1350,      8,2,19930205,2109,-68.6642,  29.9703, 3075,   1363.9,   0.2423,  34.6735,2,  34.6800,2,    218.8,2,  0.1750,    217.3,2,   135.22,2,    33.71,2,     2.25,2,    0.471,3,    0.184,2,   -999.0,9,   2242.0,4,   2368.0,2,  -999.0
    35MFCIVA_1, I06SA,     5,  1,   1500,      7,2,19930205,2109,-68.6642,  29.9703, 3075,   1518.0,   0.1623,  34.6732,2,  34.6740,2,    219.5,2,  0.0863,    219.4,2,   135.22,2,    33.71,2,     2.25,2,    0.435,2,    0.175,2,   -999.0,9,   2258.6,2,   2366.0,2,  -999.0
    35MFCIVA_1, I06SA,     5,  1,   1750,      6,2,19930205,2109,-68.6642,  29.9703, 3075,   1773.4,   0.0632,  34.6678,2,  34.6700,2,    225.4,2, -0.0280,    222.2,2,   140.89,2,    33.85,2,     2.27,2,    0.444,2,    0.184,2,   -999.0,9,   2256.8,2,   2364.0,2,  -999.0
    35MFCIVA_1, I06SA,     5,  1,   2000,      5,2,19930205,2109,-68.6642,  29.9703, 3075,   2026.0,  -0.0178,  34.6670,2,  34.6690,2,    229.2,2, -0.1251,    226.9,2,   140.89,2,    33.71,2,     2.28,2,    0.495,2,    0.205,2,   -999.0,9,   2256.6,2,   2363.0,2,  -999.0
    35MFCIVA_1, I06SA,     5,  1,   2250,      4,2,19930205,2109,-68.6642,  29.9703, 3075,   2281.2,  -0.0929,  34.6645,2,  34.6670,2,    232.0,2, -0.2172,    230.0,2,   144.13,2,    33.71,2,     2.23,2,    0.564,2,    0.240,2,   -999.0,9,   2251.9,2,   2363.0,2,  -999.0
    35MFCIVA_1, I06SA,     5,  1,   2500,      3,2,19930205,2109,-68.6642,  29.9703, 3075,   2537.0,  -0.1369,  34.6622,2,  34.6640,2,    234.7,2, -0.2797,    233.2,2,   140.08,2,    33.57,2,     2.24,2,    0.663,3,    0.281,3,   -999.0,9,   2251.2,2,   2361.0,2,  -999.0
    35MFCIVA_1, I06SA,     5,  1,   F-20a,      1,2,19930205,2109,-68.6642,  29.9703, 3075,   3074.6,  -0.2390,  34.6590,2,  34.6650,2,    240.3,2, -0.4232,    241.0,2,   143.32,2,    33.43,2,     2.20,2,    0.896,2,    0.385,2,   -999.0,9,   2248.0,2,   -999.0,9,  -999.0
    35MFCIVA_1, I06SA,     5,  1,   F-20b,      2,2,19930205,2109,-68.6642,  29.9703, 3075,   3075.1,  -0.2390,  34.6588,2,  34.6600,2,    240.3,2, -0.4232,    238.9,2,   141.70,2,    33.14,2,     2.23,2,    0.903,2,    0.390,2,   -999.0,9,   2251.0,2,   2364.0,2,  -999.0
    35MFCIVA_1, I06SA,     5,  2,    325,      6,2,19930205,2358,-68.6670,  29.9658, 3247,    329.1,  -0.8084,  34.4444,2,  34.4480,2,    277.9,2, -0.8186,    276.7,2,    85.03,2,    32.15,2,     2.20,2,    3.797,2,    1.704,2,   -999.0,9,   2228.1,2,   2340.0,2,  -999.0
    35MFCIVA_1, I06SA,     5,  2,    400,      5,2,19930205,2358,-68.6670,  29.9658, 3247,    403.7,   0.1222,  34.5601,2,  34.5600,2,    236.9,2,  0.1062,    236.6,2,    97.17,2,    32.86,2,     2.20,2,    2.251,2,    1.003,2,   -999.0,9,   2242.4,2,   2348.0,2,  -999.0
    35MFCIVA_1, I06SA,     5,  2,    500,      4,2,19930205,2358,-68.6670,  29.9658, 3247,    504.2,   0.6814,  34.6434,2,  34.6410,2,    215.4,2,  0.6585,    217.7,2,   107.70,2,    32.86,2,     2.18,2,    1.298,2,    0.564,2,   -999.0,9,   2249.1,2,   2356.0,2,  -999.0
    35MFCIVA_1, I06SA,     5,  2,    600,      3,2,19930205,2358,-68.6670,  29.9658, 3247,    606.6,   0.6594,  34.6594,2,  34.6620,2,    210.7,2,  0.6314,    214.6,2,   110.13,2,    32.72,2,     2.18,2,    1.055,2,    0.459,2,   -999.0,9,   2251.9,2,   2359.0,2,  -999.0
    35MFCIVA_1, I06SA,     5,  2,    700,      2,2,19930205,2358,-68.6670,  29.9658, 3247,    705.4,   0.7194,  34.6785,2,  34.6770,2,    206.2,2,  0.6859,    213.8,2,   116.60,2,    32.58,2,     2.28,2,    0.837,2,    0.350,2,   -999.0,9,   2252.3,2,   2362.0,2,  -999.0
    35MFCIVA_1, I06SA,     5,  2,    800,      1,2,19930205,2358,-68.6670,  29.9658, 3247,    809.5,   0.5384,  34.6718,2,  34.6720,2,    205.4,2,  0.5004,    216.9,2,   119.84,2,    33.14,2,     2.17,2,    0.822,2,    0.351,2,   -999.0,9,   2248.8,3,   2362.0,2,  -999.0
    35MFCIVA_1, I06SA,     5,  3,     10,     12,2,19930206,0111,-68.6680,  29.9718, 3006,     10.2,  -1.0746,  33.7513,2,  33.7520,2,    375.4,2, -1.0749,   -999.0,5,    65.88,2,    23.98,2,     1.55,2,    6.585,2,    2.998,2,   -999.0,9,   -999.0,5,   2297.0,2,  -999.0
    35MFCIVA_1, I06SA,     5,  3,     20,     11,3,19930206,0111,-68.6680,  29.9718, 3006,     20.8,  -0.1279,  33.8975,2,-999.0000,5,    375.5,2, -0.1286,    357.1,2,    68.20,2,    26.50,2,     1.67,2,    6.517,2,    2.889,2,   -999.0,9,   2152.7,2,   2304.0,2,  -999.0
    35MFCIVA_1, I06SA,     5,  3,     40,     10,2,19930206,0111,-68.6680,  29.9718, 3006,     39.5,  -0.3220,  33.9091,2,-999.0000,5,    348.1,2, -0.3232,    354.8,2,    68.20,2,    27.00,2,     1.70,2,    6.413,2,    2.875,2,   -999.0,9,   2159.6,2,   2304.0,2,  -999.0
    35MFCIVA_1, I06SA,     5,  3,     60,      9,2,19930206,0111,-68.6680,  29.9718, 3006,     61.3,  -1.6293,  34.1131,2,  34.1130,2,    330.9,2, -1.6306,    340.1,2,    71.29,2,    29.51,2,     1.96,2,    5.844,2,    2.650,2,   -999.0,9,   2191.5,2,   2317.0,2,  -999.0
    35MFCIVA_1, I06SA,     5,  3,     80,      8,2,19930206,0111,-68.6680,  29.9718, 3006,     80.9,  -1.7255,  34.1751,2,  34.1800,2,    316.9,2, -1.7271,    320.3,2,    72.06,2,    30.85,2,     2.03,2,    5.517,2,    2.517,2,   -999.0,9,   2200.6,2,   -999.0,9,  -999.0
    35MFCIVA_1, I06SA,     5,  3,    100,      7,2,19930206,0111,-68.6680,  29.9718, 3006,    101.3,  -1.7966,  34.2010,2,  34.2030,2,    317.2,2, -1.7986,    324.1,2,    70.51,2,    31.18,2,     2.03,2,    5.697,2,    2.575,2,   -999.0,9,   2201.8,2,   2320.0,2,  -999.0
    35MFCIVA_1, I06SA,     5,  3,    125,      6,2,19930206,0111,-68.6680,  29.9718, 3006,    123.4,  -1.8016,  34.2234,2,  34.2240,2,    315.5,2, -1.8040,    322.8,2,    70.51,2,    31.35,2,     2.09,2,    6.115,2,    2.834,2,   -999.0,9,   2206.4,2,   2323.0,2,  -999.0
    35MFCIVA_1, I06SA,     5,  3,    150,      5,2,19930206,0111,-68.6680,  29.9718, 3006,    152.2,  -1.7715,  34.2417,2,  34.2420,2,    315.4,2, -1.7747,    322.0,2,    72.06,2,    31.52,2,     2.09,2, -999.000,5, -999.000,5,   -999.0,9,   2206.5,2,   2325.0,2,  -999.0
    35MFCIVA_1, I06SA,     5,  3,    175,      4,2,19930206,0111,-68.6680,  29.9718, 3006,    175.4,  -1.7064,  34.2605,2,  34.2620,2,    314.8,2, -1.7102,    319.4,2,    71.28,2,    31.52,2,     2.09,2,    5.532,2,    2.516,2,   -999.0,9,   2207.9,2,   2325.0,2,  -999.0
    35MFCIVA_1, I06SA,     5,  3,    200,      3,2,19930206,0111,-68.6680,  29.9718, 3006,    200.5,  -1.5662,  34.2888,2,  34.2910,2,    313.0,2, -1.5708,    314.4,2,    73.60,2,    31.52,2,     2.09,2,    5.272,2,    2.420,2,   -999.0,9,   2210.2,2,   2327.0,2,  -999.0
    35MFCIVA_1, I06SA,     5,  3,    250a,      2,2,19930206,0111,-68.6680,  29.9718, 3006,    254.1,  -1.4441,  34.3513,2,  34.3500,2,    308.2,2, -1.4503,    307.7,2,    76.70,2,    31.68,2,     2.11,2,    4.980,2,    2.257,2,   -999.0,9,   2216.0,2,   2332.0,2,  -999.0
    35MFCIVA_1, I06SA,     5,  3,    250b,      1,2,19930206,0111,-68.6680,  29.9718, 3006,    254.2,  -1.4401,  34.3521,2,  34.3520,2,    308.2,2, -1.4463,    307.2,2,    76.70,2,    31.68,2,     2.06,2,    5.029,2,    2.293,2,   -999.0,9,   2214.0,2,   2332.0,2,  -999.0
    35MFCIVA_1, I06SA,     6,  1,   1100,     12,2,19930206,0617,-68.0030,  30.0058, 3750,   1113.5,   0.4163,  34.6834,2,  34.6840,2,    213.3,2,  0.3622,    213.7,2,   129.36,2,    34.19,2,     2.36,2,    0.415,2,    0.158,3,   -999.0,9,   2258.0,2,   2363.0,2,  -999.0
    35MFCIVA_1, I06SA,     6,  1,   1200,     11,3,19930206,0617,-68.0030,  30.0058, 3750,   1214.4,   0.3493,  34.6812,2,  34.6830,2,    216.3,2,  0.2899,    214.6,2,   130.90,2,    34.36,2,     2.28,2,    0.406,2,    0.172,2,   -164.0,2,   2257.9,2,   2364.0,2,     4.0
    35MFCIVA_1, I06SA,     6,  1,   1350,     10,2,19930206,0617,-68.0030,  30.0058, 3750,   1364.4,   0.2743,  34.6780,2,  34.6790,2,    215.9,2,  0.2066,    215.8,2,   133.23,2,    34.19,2,     2.37,2,    0.350,2,    0.127,3,   -999.0,9,   2258.7,2,   2363.0,2,  -999.0
    35MFCIVA_1, I06SA,     6,  1,   1500,      9,2,19930206,0617,-68.0030,  30.0058, 3750,   1517.7,   0.2003,  34.6753,2,  34.6770,2,    218.4,2,  0.1239,    218.8,2,   137.88,2,    34.19,2,     2.31,2,    0.361,2,    0.147,2,   -999.0,9,   2261.2,2,   -999.0,9,  -999.0
    35MFCIVA_1, I06SA,     6,  1,   1750,      8,2,19930206,0617,-68.0030,  30.0058, 3750,   1773.1,   0.0742,  34.6713,2,  34.6720,2,    221.9,2, -0.0171,    221.6,2,   137.87,2,    34.02,2,     2.30,2,    0.404,2,    0.152,3,   -999.0,9,   2259.1,2,   2362.0,2,  -999.0
    35MFCIVA_1, I06SA,     6,  1,   2000,      7,2,19930206,0617,-68.0030,  30.0058, 3750,   2026.3,  -0.0228,  34.6672,2,  34.6680,2,    226.7,2, -0.1300,    227.7,2,   137.87,2,    34.19,2,     2.30,2,    0.479,2,    0.193,3,   -999.0,9,   2258.8,2,   2359.0,2,  -999.0
    35MFCIVA_1, I06SA,     6,  1,   2250,      6,2,19930206,0617,-68.0030,  30.0058, 3750,   2282.2,  -0.0859,  34.6653,2,  34.6660,2,    230.7,2, -0.2104,    229.1,2,   136.32,2,    33.85,2,     2.31,2,    0.547,2,    0.212,3,   -158.0,2,   2255.5,2,   2361.0,2,     4.0
    35MFCIVA_1, I06SA,     6,  1,   2500,      5,2,19930206,0617,-68.0030,  30.0058, 3750,   2538.1,  -0.1299,  34.6630,2,-999.0000,5,    232.2,2, -0.2729,    232.1,2,   135.55,2,    33.69,2,     2.28,2,    0.632,2,    0.243,3,   -153.0,2,   2255.3,2,   2362.0,2,     4.0
    35MFCIVA_1, I06SA,     6,  1,   3000,      4,2,19930206,0617,-68.0030,  30.0058, 3750,   3049.8,  -0.1949,  34.6601,2,  34.6650,2,    236.4,2, -0.3780,    241.7,2,   136.32,2,    33.52,2,     2.27,2,    0.892,2,    0.372,2,   -145.0,2,   2250.3,2,   2360.0,2,     7.0
    35MFCIVA_1, I06SA,     6,  1,   3500,      3,2,19930206,0617,-68.0030,  30.0058, 3750,   3560.9,  -0.2500,  34.6562,2,  34.6550,2,    246.4,2, -0.4769,    246.0,2,   137.10,2,    33.52,2,  -999.00,5,    0.983,2,    0.414,2,   -157.0,2,   2250.9,2,   2360.0,2,     4.0
    35MFCIVA_1, I06SA,     6,  1,   F-20a,      1,2,19930206,0617,-68.0030,  30.0058, 3750,   3751.4,  -0.3240,  34.6538,2,  34.6550,2,    246.2,2, -0.5667,    246.5,2,   137.10,2,    33.52,2,     2.22,2,    0.972,2,    0.411,2,   -162.0,2,   -999.0,5,   -999.0,9,     4.0
    35MFCIVA_1, I06SA,     6,  1,   F-20b,      2,2,19930206,0617,-68.0030,  30.0058, 3750,   3751.6,  -0.3320,  34.6547,2,-999.0000,5,    246.2,2, -0.5745,    248.2,4,  -999.00,5,  -999.00,5,  -999.00,5, -999.000,5, -999.000,5,   -999.0,9,   -999.0,5,   2361.0,2,  -999.0
    35MFCIVA_1, I06SA,     6,  2,    325,      8,2,19930206,0938,-68.0017,  29.9933, 3757,    327.9,   0.7664,  34.6407,2,  34.6420,2,    229.0,2,  0.7518,    212.7,2,    99.93,2,    33.35,2,     2.28,2,    1.125,2,    0.470,2,   -165.0,2,   2254.6,2,   2353.0,2,     4.0
    35MFCIVA_1, I06SA,     6,  2,    400,      7,2,19930206,0938,-68.0017,  29.9933, 3757,    407.7,   0.8314,  34.6642,2,  34.6640,2,    216.5,2,  0.8128,    211.2,2,   106.12,2,    33.02,2,     2.31,2,    1.027,2,    0.432,2,   -999.0,9,   2255.7,2,   2354.0,2,  -999.0
    35MFCIVA_1, I06SA,     6,  2,    500,      6,2,19930206,0938,-68.0017,  29.9933, 3757,    504.6,   0.8764,  34.6835,2,  34.6850,2,    215.6,2,  0.8527,    208.8,2,   107.67,2,    32.85,2,     2.28,2,    0.787,2,    0.338,2,   -999.0,9,   2258.4,2,   2358.0,2,  -999.0
    35MFCIVA_1, I06SA,     6,  2,    600,      5,2,19930206,0938,-68.0017,  29.9933, 3757,    606.9,   0.7564,  34.6833,2,  34.6830,2,    211.8,2,  0.7279,    212.0,2,   109.22,2,    33.02,2,     2.31,2,    0.782,2,    0.326,2,   -999.0,9,   2258.2,2,   -999.0,9,  -999.0
    35MFCIVA_1, I06SA,     6,  2,    700,      4,2,19930206,0938,-68.0017,  29.9933, 3757,    707.1,   0.7474,  34.6916,2,  34.6930,2,    213.9,2,  0.7136,    209.7,2,   115.41,2,    33.18,2,     2.27,2,    0.568,2,    0.237,2,   -157.0,2,   2260.5,2,   2361.0,2,     4.0
    35MFCIVA_1, I06SA,     6,  2,    800,      3,2,19930206,0938,-68.0017,  29.9933, 3757,    809.0,   0.6584,  34.6914,2,  34.6920,2,    211.3,2,  0.6196,    211.3,2,   119.29,2,    33.35,2,     2.24,2,    0.509,2,    0.208,3,   -999.0,9,   2253.0,3,   2362.0,2,  -999.0
    35MFCIVA_1, I06SA,     6,  2,    900,      2,2,19930206,0938,-68.0017,  29.9933, 3757,    911.5,   0.5874,  34.6905,2,  34.6900,2,    212.7,2,  0.5434,    211.7,2,   122.39,2,    33.35,2,     2.27,2,    0.461,2,    0.170,3,   -999.0,9,   2261.9,2,   2363.0,2,  -999.0
    35MFCIVA_1, I06SA,     6,  2,   1000,      1,2,19930206,0938,-68.0017,  29.9933, 3757,   1011.3,   0.4974,  34.6879,2,  34.6870,2,    212.1,2,  0.4484,    213.4,2,   124.71,2,    34.02,2,     2.33,2,    0.456,2,    0.182,3,   -157.0,2,   2256.3,2,   2362.0,2,     4.0