BOTTLE,20220922CCHSIOAMB
EXPOCODE,SECT_ID,STNNBR,CASTNO,SAMPNO,BTLNBR,BTLNBR_FLAG_W,DATE,TIME,LATITUDE,LONGITUDE,DEPTH,CTDPRS,CTDTMP,CTDSAL,CTDSAL_FLAG_W,SALNTY,SALNTY_FLAG_W,CTDOXY,CTDOXY_FLAG_W,THETA,OXYGEN,OXYGEN_FLAG_W,SILCAT,SILCAT_FLAG_W,NITRAT,NITRAT_FLAG_W,PHSPHT,PHSPHT_FLAG_W,CFC-11,CFC-11_FLAG_W,CFC-12,CFC-12_FLAG_W,DELC14,DELC14_FLAG_W,TCARBN,TCARBN_FLAG_W,ALKALI,ALKALI_FLAG_W,C14ERR
,,,,,,,,,,,,DBAR,ITS-90,PSS-78,,PSS-78,,UMOL/KG,,DEG C,UMOL/KG,,UMOL/KG,,UMOL/KG,,UMOL/KG,,PMOL/KG,,PMOL/KG,,/MILLE,,UMOL/KG,,UMOL/KG,,/MILLE
    35MFCIVA_1, I06SA,    20,  3,     10,     12,2,19930212,1847,-59.6687,  30.0270, 5215,     10.9,   1.8674,  33.7170,2,  33.7180,2,    345.6,2,  1.8669,    335.5,2,    40.15,2,    25.25,2,     1.75,2,    6.134,2,    2.909,2,   -999.0,9,   2128.5,2,   2286.0,2,  -999.0
    35MFCIVA_1, I06SA,    20,  3,     20,     11,2,19930212,1847,-59.6687,  30.0270, 5215,     20.1,   1.8654,  33.7165,2,  33.7180,2,    338.9,2,  1.8644,    335.7,2,    40.54,2,    25.25,2,     1.77,2,    6.132,2,    2.914,2,   -999.0,9,   2127.0,2,   2287.0,2,  -999.0
    35MFCIVA_1, I06SA,    20,  3,     40,     10,2,19930212,1847,-59.6687,  30.0270, 5215,     40.6,   0.2253,  33.9097,2,  33.8240,2,    336.5,2,  0.2238,    346.2,2,    40.53,2,    26.42,2,     1.83,2,    6.355,2,    3.027,2,   -999.0,9,   2137.9,2,   2295.0,2,  -999.0
    35MFCIVA_1, I06SA,    20,  3,     60,      9,2,19930212,1847,-59.6687,  30.0270, 5215,     61.1,  -0.3480,  34.0388,2,  34.0440,2,    353.8,2, -0.3500,    349.6,2,    48.47,2,    27.82,2,     2.02,2,    6.358,2,    3.013,2,   -999.0,9,   2164.4,2,   2308.0,2,  -999.0
    35MFCIVA_1, I06SA,    20,  3,     80,      8,2,19930212,1847,-59.6687,  30.0270, 5215,     81.1,  -0.8334,  34.1013,2,  34.1110,2,    343.7,2, -0.8357,    338.8,2,    56.81,2,    28.93,2,     2.14,2,    6.230,2,    2.962,2,   -999.0,9,   2177.0,2,   2311.0,2,  -999.0
    35MFCIVA_1, I06SA,    20,  3,    100,      7,2,19930212,1847,-59.6687,  30.0270, 5215,    103.0,  -1.0096,  34.1542,2,  34.1570,2,    333.1,2, -1.0123,    335.0,2,    60.78,2,    29.66,2,     2.16,2,    6.037,2,    2.842,2,   -999.0,9,   2187.2,2,   2313.0,2,  -999.0
    35MFCIVA_1, I06SA,    20,  3,    125,      6,2,19930212,1847,-59.6687,  30.0270, 5215,    124.8,  -0.7193,  34.2191,2,  34.2130,2,    321.6,2, -0.7230,    320.9,2,    65.95,2,    30.25,2,     2.20,2,    5.741,2,    2.725,2,   -999.0,9,   2195.0,2,   2318.0,2,  -999.0
    35MFCIVA_1, I06SA,    20,  3,    150,      5,2,19930212,1847,-59.6687,  30.0270, 5215,    152.1,  -0.3730,  34.2849,2,  34.2850,2,    305.7,2, -0.3780,    300.2,2,    71.50,2,    31.06,2,     2.28,2,    4.981,2,    2.375,2,   -999.0,9,   2208.1,2,   2324.0,2,  -999.0
    35MFCIVA_1, I06SA,    20,  3,    175,      4,2,19930212,1847,-59.6687,  30.0270, 5215,    177.5,   0.1753,  34.3832,2,  34.3890,2,    264.4,2,  0.1686,    257.8,2,    76.27,2,    32.02,2,     2.37,2,    3.546,2,    1.675,2,   -999.0,9,   2222.1,2,   2330.0,2,  -999.0
    35MFCIVA_1, I06SA,    20,  3,    200,      3,2,19930212,1847,-59.6687,  30.0270, 5215,    202.2,   1.4225,  34.5332,2,  34.5360,2,    197.4,2,  1.4126,    199.6,2,    80.63,2,    33.94,2,     2.48,2,    1.476,2,    0.685,2,   -999.0,9,   2243.1,2,   2337.0,2,  -999.0
    35MFCIVA_1, I06SA,    20,  3,    250a,      1,2,19930212,1847,-59.6687,  30.0270, 5215,    252.0,   1.5674,  34.6007,2,  34.6030,2,    193.6,2,  1.5547,    190.4,2,    84.21,2,    33.64,2,     2.45,2,    0.993,2,    0.449,2,   -999.0,9,   2251.0,2,   2342.0,2,  -999.0
    35MFCIVA_1, I06SA,    20,  3,    250b,      2,2,19930212,1847,-59.6687,  30.0270, 5215,    255.2,   1.5474,  34.5993,2,  34.6000,2,    193.6,2,  1.5346,    189.6,2,    85.00,2,    33.79,2,     2.48,2,    0.994,2,    0.439,2,   -999.0,9,   2249.0,2,   2342.0,2,  -999.0
    35MFCIVA_1, I06SA,    21,  1,    325,     12,2,19930213,0123,-59.0163,  30.0082, 5423,    326.7,   1.7814,  34.6370,2,  34.6390,2,    186.6,2,  1.7641,    180.8,2,    82.87,2,    33.91,2,     2.46,2,    0.651,2,    0.289,2,   -999.0,9,   2253.5,2,   2345.0,2,  -999.0
    35MFCIVA_1, I06SA,    21,  1,    400,     11,2,19930213,0123,-59.0163,  30.0082, 5423,    407.1,   1.9874,  34.6992,2,  34.7000,2,    185.0,2,  1.9648,    185.3,2,    81.67,2,    32.38,2,     2.35,2,    0.317,2,    0.159,2,   -999.0,9,   2251.4,2,   2347.0,2,  -999.0
    35MFCIVA_1, I06SA,    21,  1,    500,     10,2,19930213,0123,-59.0163,  30.0082, 5423,    507.9,   1.7684,  34.6977,2,  34.7000,2,    190.2,2,  1.7408,    188.0,2,    85.64,2,    31.79,2,     2.32,2,    0.383,2,    0.125,3,   -999.0,9,   2250.0,2,   -999.0,9,  -999.0
    35MFCIVA_1, I06SA,    21,  1,    600,      9,2,19930213,0123,-59.0163,  30.0082, 5423,    606.8,   1.6914,  34.7242,2,  34.7250,2,    190.2,2,  1.6582,    196.6,2,    88.01,2,    31.57,2,     2.29,2,    0.336,2,    0.160,2,   -999.0,9,   2248.0,2,   2352.0,2,  -999.0
    35MFCIVA_1, I06SA,    21,  1,    700,      8,2,19930213,0123,-59.0163,  30.0082, 5423,    710.1,   1.5874,  34.7341,2,  34.7360,2,    198.6,2,  1.5486,    196.9,2,    89.20,2,    31.20,2,     2.25,2,    0.220,2,    0.092,2,   -999.0,9,   2246.5,2,   2353.0,2,  -999.0
    35MFCIVA_1, I06SA,    21,  1,    800,      7,2,19930213,0123,-59.0163,  30.0082, 5423,    805.9,   1.4505,  34.7327,2,  34.7340,2,    201.1,2,  1.4066,    199.6,2,    93.56,2,    31.28,2,     2.24,2,    0.256,2,    0.100,2,   -999.0,9,   2247.7,2,   2356.0,2,  -999.0
    35MFCIVA_1, I06SA,    21,  1,    900,      6,2,19930213,0123,-59.0163,  30.0082, 5423,    879.1,   1.3885,  34.7350,2,  34.7370,2,    201.5,2,  1.3405,    201.6,2,    95.15,2,    31.20,2,     2.23,2,    0.202,2,    0.085,2,   -999.0,9,   2248.7,2,   2357.0,2,  -999.0
    35MFCIVA_1, I06SA,    21,  1,   1000,      5,2,19930213,0123,-59.0163,  30.0082, 5423,   1006.7,   1.1995,  34.7266,2,  34.7330,2,    201.3,2,  1.1450,    203.0,2,    97.13,2,    31.50,2,     2.27,2,    0.198,2,    0.089,2,   -999.0,9,   2251.3,2,   2359.0,2,  -999.0
    35MFCIVA_1, I06SA,    21,  1,   1200,      4,2,19930213,0123,-59.0163,  30.0082, 5423,   1211.0,   0.9935,  34.7156,2,  34.7180,2,    206.4,2,  0.9279,    204.5,2,   107.04,2,    31.86,2,     2.29,2,    0.206,2,    0.096,2,   -999.0,9,   2254.0,2,   2362.0,2,  -999.0
    35MFCIVA_1, I06SA,    21,  1,   1400,      3,2,19930213,0123,-59.0163,  30.0082, 5423,   1413.8,   0.8044,  34.7093,2,  34.7110,2,    207.3,2,  0.7276,    207.5,2,   111.80,2,    32.30,2,     2.32,2,    0.188,2,    0.064,3,   -999.0,9,   2257.8,2,   2363.0,2,  -999.0
    35MFCIVA_1, I06SA,    21,  1,   1600a,      1,2,19930213,0123,-59.0163,  30.0082, 5423,   1616.5,   0.5724,  34.6937,2,  34.6950,2,    208.4,2,  0.4848,    207.9,2,   117.35,2,    32.74,2,     2.35,2,    0.194,2,    0.076,2,   -999.0,9,   2268.0,2,   2362.0,2,  -999.0
    35MFCIVA_1, I06SA,    21,  1,   1600b,      2,2,19930213,0123,-59.0163,  30.0082, 5423,   1621.8,   0.5734,  34.6936,2,  34.7020,2,    207.7,2,  0.4855,    208.0,2,   118.14,2,    32.81,2,     2.37,2,    0.209,2,    0.078,2,   -999.0,9,   2264.0,2,   2361.0,2,  -999.0
    35MFCIVA_1, I06SA,    21,  2,     10,     12,2,19930213,0404,-59.0003,  30.0028, 5430,     10.4,   1.8114,  33.7054,2,  33.7080,2,    362.0,2,  1.8109,    336.4,2,    40.07,2,    25.74,2,     1.78,2,    6.197,2,    2.885,2,   -999.0,9,   2140.6,2,   2285.0,2,  -999.0
    35MFCIVA_1, I06SA,    21,  2,     20,     11,2,19930213,0404,-59.0003,  30.0028, 5430,     19.8,   1.8124,  33.7054,2,  33.7080,2,    352.1,2,  1.8114,    334.9,2,    40.07,2,    25.82,2,     1.80,2,    6.205,2,    2.919,2,   -999.0,9,   2141.9,2,   2284.0,2,  -999.0
    35MFCIVA_1, I06SA,    21,  2,     40,     10,2,19930213,0404,-59.0003,  30.0028, 5430,     39.0,   1.6444,  33.7622,2,  33.7540,2,    346.8,2,  1.6426,    338.6,2,    40.07,2,    25.89,2,     1.80,2,    6.258,2,    2.947,2,   -999.0,9,   2143.6,2,   2287.0,2,  -999.0
    35MFCIVA_1, I06SA,    21,  2,     60,      9,2,19930213,0404,-59.0003,  30.0028, 5430,     61.4,  -0.2630,  34.0624,2,  34.0580,2,    359.3,2, -0.2650,    346.2,2,    48.39,2,    28.29,2,     2.02,2,    6.434,2,    2.956,2,   -999.0,9,   2176.7,2,   -999.0,9,  -999.0
    35MFCIVA_1, I06SA,    21,  2,     80,      8,2,19930213,0404,-59.0003,  30.0028, 5430,     81.6,  -0.3951,  34.1354,2,  34.1350,2,    341.2,2, -0.3976,    327.0,2,    56.32,2,    30.12,2,     2.19,2,    5.937,2,    2.747,2,   -999.0,9,   2190.8,2,   2313.0,2,  -999.0
    35MFCIVA_1, I06SA,    21,  2,    100,      7,2,19930213,0404,-59.0003,  30.0028, 5430,    102.0,  -0.2009,  34.2192,2,  34.2180,2,    323.9,2, -0.2043,    308.2,2,    64.24,2,    31.29,2,     2.26,2,    5.376,2,    2.447,2,   -999.0,9,   2205.0,2,   2318.0,2,  -999.0
    35MFCIVA_1, I06SA,    21,  2,    125,      6,2,19930213,0404,-59.0003,  30.0028, 5430,    126.6,   0.0392,  34.2740,2,  34.2720,2,    290.7,2,  0.0347,    292.1,2,    66.62,2,    31.87,2,     2.30,2,    4.846,2,    2.214,2,   -999.0,9,   2214.0,2,   2321.0,2,  -999.0
    35MFCIVA_1, I06SA,    21,  2,    150,      5,2,19930213,0404,-59.0003,  30.0028, 5430,    151.7,   0.1122,  34.3081,2,  34.3130,2,    293.8,2,  0.1066,    282.1,2,    67.81,2,    32.31,2,     2.33,2,    4.504,2,    2.079,2,   -999.0,9,   2216.7,2,   2323.0,2,  -999.0
    35MFCIVA_1, I06SA,    21,  2,    175,      4,2,19930213,0404,-59.0003,  30.0028, 5430,    166.7,   0.2673,  34.3341,2,  34.3290,2,    288.5,2,  0.2609,    274.9,2,    70.19,2,    32.53,2,     2.35,2,    4.257,2,    1.967,2,   -999.0,9,   2206.1,2,   2325.0,2,  -999.0
    35MFCIVA_1, I06SA,    21,  2,    200,      3,2,19930213,0404,-59.0003,  30.0028, 5430,    202.5,   0.9265,  34.4378,2,  34.4400,2,    252.2,2,  0.9175,    227.6,2,    78.51,2,    33.92,2,     2.44,2,    2.577,2,    1.196,2,   -999.0,9,   2214.9,2,   2330.0,2,  -999.0
    35MFCIVA_1, I06SA,    21,  2,    250a,      2,2,19930213,0404,-59.0003,  30.0028, 5430,    251.3,   1.4715,  34.5390,2,  34.5390,2,    204.3,2,  1.4590,    196.5,2,    80.10,2,    34.43,2,     2.47,2,    1.479,8,    0.674,2,   -999.0,9,   2249.0,2,   -999.0,9,  -999.0
    35MFCIVA_1, I06SA,    21,  2,    250b,      1,2,19930213,0404,-59.0003,  30.0028, 5430,    252.7,   1.4655,  34.5371,2,  34.5370,2,    203.3,2,  1.4530,    196.9,2,    79.30,2,    34.21,2,     2.46,2,    1.424,2,    0.686,2,   -999.0,9,   2250.0,2,   2338.0,2,  -999.0
    35MFCIVA_1, I06SA,    22,  1,   1500,     12,2,19930213,1023,-58.3482,  29.9750, 5415,   1513.7,   0.8774,  34.7122,2,  34.6930,2,    205.7,2,  0.7931,    206.0,2,   118.00,2,    32.04,2,     2.33,2,    0.187,2,    0.062,3,   -999.0,9,   2259.0,2,   2363.0,2,  -999.0
    35MFCIVA_1, I06SA,    22,  1,   1750,     11,2,19930213,1023,-58.3482,  29.9750, 5415,   1766.1,   0.6604,  34.6985,2,  34.6990,2,    206.7,2,  0.5613,    207.4,2,   120.04,2,    32.48,2,     2.38,2,    0.199,2,    0.053,3,   -999.0,9,   2259.4,2,   2362.0,2,  -999.0
    35MFCIVA_1, I06SA,    22,  1,   2000,     10,2,19930213,1023,-58.3482,  29.9750, 5415,   2026.7,   0.4914,  34.6897,2,  34.6920,2,    208.6,2,  0.3760,    209.7,2,   120.44,2,    32.77,2,     2.38,2,    0.183,2,    0.074,2,   -999.0,9,   2260.5,2,   2363.0,2,  -999.0
    35MFCIVA_1, I06SA,    22,  1,   2250,      9,2,19930213,1023,-58.3482,  29.9750, 5415,   2280.1,   0.3603,  34.6822,2,  34.6830,2,    210.6,2,  0.2281,    215.9,2,   124.92,2,    32.91,2,     2.38,2,    0.152,2,    0.053,3,   -999.0,9,   2262.0,2,   2363.0,2,  -999.0
    35MFCIVA_1, I06SA,    22,  1,   2500,      8,2,19930213,1023,-58.3482,  29.9750, 5415,   2535.6,   0.2373,  34.6759,2,  34.6780,2,    213.1,2,  0.0873,    215.9,2,   127.77,2,    33.20,2,     2.40,2,    0.206,2,    0.086,2,   -999.0,9,   2257.7,2,   2352.0,3,  -999.0
    35MFCIVA_1, I06SA,    22,  1,   3000,      7,2,19930213,1023,-58.3482,  29.9750, 5415,   3050.2,   0.0372,  34.6696,2,-999.0000,5,    224.6,2, -0.1513,    211.6,4,  -999.00,5,    32.62,2,     2.38,2,    0.238,2,    0.075,3,   -999.0,9,   2253.0,2,   2353.0,3,  -999.0
    35MFCIVA_1, I06SA,    22,  1,   3500,      6,2,19930213,1023,-58.3482,  29.9750, 5415,   3558.8,  -0.0959,  34.6598,2,  34.6620,2,    230.6,2, -0.3267,    231.9,2,   131.02,2,    33.06,2,     2.40,2,    0.209,2,    0.113,2,   -999.0,9,   2253.6,2,   2358.0,2,  -999.0
    35MFCIVA_1, I06SA,    22,  1,   4000,      5,2,19930213,1023,-58.3482,  29.9750, 5415,   4074.3,  -0.1769,  34.6574,2,  34.6600,2,    232.5,2, -0.4552,    235.2,2,   132.65,2,    32.84,2,     2.38,2,    0.222,2,    0.109,2,   -999.0,9,   2254.0,2,   2356.0,2,  -999.0
    35MFCIVA_1, I06SA,    22,  1,   4500,      4,2,19930213,1023,-58.3482,  29.9750, 5415,   4572.4,  -0.2279,  34.6544,2,  34.6550,2,    240.6,2, -0.5560,    240.8,2,   131.84,2,    32.91,2,     2.39,2,    0.211,2,    0.106,2,   -999.0,9,   2251.0,2,   2356.0,2,  -999.0
    35MFCIVA_1, I06SA,    22,  1,   5000,      3,2,19930213,1023,-58.3482,  29.9750, 5415,   5102.6,  -0.2540,  34.6531,2,  34.6530,2,    246.4,2, -0.6395,    244.6,2,   132.65,2,    32.77,2,     2.38,2,    0.220,2,    0.080,3,   -999.0,9,   2248.3,2,   2359.0,2,  -999.0
    35MFCIVA_1, I06SA,    22,  1,   5250,      2,2,19930213,1023,-58.3482,  29.9750, 5415,   5360.4,  -0.2630,  34.6507,2,  34.6530,2,    247.7,2, -0.6778,    244.9,2,   135.09,2,    32.77,2,     2.38,2,    0.215,2,    0.088,2,   -999.0,9,   2250.9,2,   2358.0,2,  -999.0
    35MFCIVA_1, I06SA,    22,  1,   F-20,      1,2,19930213,1023,-58.3482,  29.9750, 5415,   5491.2,  -0.2810,  34.6495,2,  34.6510,2,    248.7,2, -0.7105,    246.2,2,   134.28,2,    32.62,2,     2.37,2,    0.302,2,    0.115,2,   -999.0,9,   2251.6,2,   2359.0,2,  -999.0
    35MFCIVA_1, I06SA,    22,  2,    325,     12,2,19930213,1340,-58.3353,  29.9982, 5420,    323.4,   1.4985,  34.5507,2,  34.5540,2,    198.5,2,  1.4822,    193.1,2,    83.43,2,    34.22,2,     2.50,2,    1.290,2,    0.593,2,   -999.0,9,   2251.9,2,   2338.0,2,  -999.0
    35MFCIVA_1, I06SA,    22,  2,    400,     11,2,19930213,1340,-58.3353,  29.9982, 5420,    400.7,   1.6464,  34.6269,2,  34.6240,2,    189.8,2,  1.6254,    186.9,2,    88.72,2,    33.64,2,     2.44,2,    0.820,2,    0.346,2,   -999.0,9,   2257.5,2,   2344.0,2,  -999.0
    35MFCIVA_1, I06SA,    22,  2,    500,     10,2,19930213,1340,-58.3353,  29.9982, 5420,    503.0,   1.8834,  34.6953,2,  34.6950,2,    187.5,2,  1.8556,    185.1,2,    87.90,2,    32.41,2,     2.37,2,    0.328,2,    0.134,2,   -999.0,9,   2256.6,2,   2348.0,2,  -999.0
    35MFCIVA_1, I06SA,    22,  2,    600,      9,2,19930213,1340,-58.3353,  29.9982, 5420,    604.6,   1.7884,  34.7086,2,  34.7100,2,    191.8,2,  1.7549,    192.8,2,    89.53,2,    32.04,2,     2.30,2,    0.341,2,    0.132,2,   -999.0,9,   2250.6,2,   2352.0,2,  -999.0
    35MFCIVA_1, I06SA,    22,  2,    700,      8,2,19930213,1340,-58.3353,  29.9982, 5420,    704.0,   1.8194,  34.7376,2,  34.7370,2,    194.3,2,  1.7796,    194.3,2,    88.71,2,    31.17,2,     2.25,2,    0.191,2,    0.067,3,   -999.0,9,   2247.3,2,   2354.0,2,  -999.0
    35MFCIVA_1, I06SA,    22,  2,    800,      7,2,19930213,1340,-58.3353,  29.9982, 5420,    805.4,   1.6344,  34.7333,2,  34.7330,2,    198.3,2,  1.5894,    195.8,2,    93.59,2,    31.32,2,     2.27,2,    0.237,2,    0.083,3,   -999.0,9,   2247.4,2,   2356.0,2,  -999.0
    35MFCIVA_1, I06SA,    22,  2,    900,      6,2,19930213,1340,-58.3353,  29.9982, 5420,    907.1,   1.5374,  34.7370,2,  34.7350,2,    200.8,2,  1.4867,    198.8,2,    95.22,2,    31.17,2,     2.25,2,    0.241,2,    0.079,3,   -999.0,9,   2251.2,2,   2356.0,2,  -999.0
    35MFCIVA_1, I06SA,    22,  2,   1000,      5,2,19930213,1340,-58.3353,  29.9982, 5420,   1006.7,   1.4305,  34.7341,2,  34.7350,2,    197.3,2,  1.3741,    200.1,2,    97.66,2,    31.17,2,     2.25,2,    0.193,2,    0.053,3,   -999.0,9,   2251.6,2,   2357.0,2,  -999.0
    35MFCIVA_1, I06SA,    22,  2,   1100,      4,2,19930213,1340,-58.3353,  29.9982, 5420,   1093.1,   1.3155,  34.7284,2,  34.7290,2,    201.7,2,  1.2545,    200.7,2,   100.51,2,    31.75,2,     2.26,2,    0.200,4,    0.128,3,   -999.0,9,   2251.9,2,   2360.0,2,  -999.0
    35MFCIVA_1, I06SA,    22,  2,   1200,      3,2,19930213,1340,-58.3353,  29.9982, 5420,   1209.8,   1.1885,  34.7271,2,  34.7280,2,    205.7,2,  1.1211,    203.3,2,   104.17,2,    31.54,2,     2.29,2,    0.190,2,    0.083,2,   -999.0,9,   2252.0,2,   2362.0,2,  -999.0
    35MFCIVA_1, I06SA,    22,  2,   1350a,      1,2,19930213,1340,-58.3353,  29.9982, 5420,   1366.4,   1.0225,  34.7208,2,  34.7200,2,    205.3,2,  0.9464,    204.7,2,   110.68,2,    31.75,2,     2.30,2,    0.154,2,    0.055,3,   -999.0,9,   2253.0,2,   2362.0,2,  -999.0
    35MFCIVA_1, I06SA,    22,  2,   1350b,      2,2,19930213,1340,-58.3353,  29.9982, 5420,   1366.9,   1.0205,  34.7215,2,  34.7200,2,    205.4,2,  0.9444,    205.3,2,   109.87,2,    31.83,2,     2.28,2,    0.184,2,    0.089,2,   -999.0,9,   2254.0,2,   2363.0,2,  -999.0