BOTTLE,20220922CCHSIOAMB
EXPOCODE,SECT_ID,STNNBR,CASTNO,SAMPNO,BTLNBR,BTLNBR_FLAG_W,DATE,TIME,LATITUDE,LONGITUDE,DEPTH,CTDPRS,CTDTMP,CTDSAL,CTDSAL_FLAG_W,SALNTY,SALNTY_FLAG_W,CTDOXY,CTDOXY_FLAG_W,THETA,OXYGEN,OXYGEN_FLAG_W,SILCAT,SILCAT_FLAG_W,NITRAT,NITRAT_FLAG_W,PHSPHT,PHSPHT_FLAG_W,CFC-11,CFC-11_FLAG_W,CFC-12,CFC-12_FLAG_W,DELC14,DELC14_FLAG_W,TCARBN,TCARBN_FLAG_W,ALKALI,ALKALI_FLAG_W,C14ERR
,,,,,,,,,,,,DBAR,ITS-90,PSS-78,,PSS-78,,UMOL/KG,,DEG C,UMOL/KG,,UMOL/KG,,UMOL/KG,,UMOL/KG,,PMOL/KG,,PMOL/KG,,/MILLE,,UMOL/KG,,UMOL/KG,,/MILLE
    35MFCIVA_1, I06SA,    39,  1,    325,     12,2,19930305,2209,-49.3328,  30.0053, 3285,    327.9,   3.3498,  34.1598,2,  34.1590,2,    259.6,2,  3.3285,    265.9,2,    22.28,2,    29.42,2,     1.98,2,    3.589,2,    1.905,4,   -999.0,9,   2170.6,2,   2294.0,2,  -999.0
    35MFCIVA_1, I06SA,    39,  1,    400,     11,2,19930305,2209,-49.3328,  30.0053, 3285,    402.2,   3.0579,  34.1833,2,  34.1830,2,    252.6,2,  3.0326,    255.0,2,    27.75,2,    30.86,2,     2.08,2,    3.097,2,    1.645,4,   -999.0,9,   2181.3,2,   2300.0,2,  -999.0
    35MFCIVA_1, I06SA,    39,  1,    500,     10,2,19930305,2209,-49.3328,  30.0053, 3285,    505.7,   2.7331,  34.2195,2,  34.2200,2,    236.5,2,  2.7021,    240.6,2,    35.31,2,    32.30,2,     2.16,2,    2.552,2,    1.307,4,   -999.0,9,   2194.6,2,   2307.0,2,  -999.0
    35MFCIVA_1, I06SA,    39,  1,    600,      9,2,19930305,2209,-49.3328,  30.0053, 3285,    604.9,   2.5432,  34.2763,2,  34.2740,2,    224.1,2,  2.5064,    223.9,2,    43.71,2,    33.66,2,     2.25,2,    1.965,2,    0.994,4,   -999.0,9,   2211.0,2,   2314.0,2,  -999.0
    35MFCIVA_1, I06SA,    39,  1,    700,      8,2,19930305,2209,-49.3328,  30.0053, 3285,    704.3,   2.4302,  34.3385,2,  34.3390,2,    205.8,2,  2.3874,    208.1,2,    52.96,2,    34.57,2,     2.33,2,    1.453,2,    0.753,4,   -999.0,9,   2224.7,2,   2323.0,2,  -999.0
    35MFCIVA_1, I06SA,    39,  1,    800,      7,2,19930305,2209,-49.3328,  30.0053, 3285,    805.6,   2.4132,  34.3973,2,  34.3940,2,    193.1,2,  2.3637,    196.0,2,    59.68,2,    35.03,2,     2.36,2,    1.150,2,    0.581,4,   -999.0,9,   2236.4,2,   2327.0,2,  -999.0
    35MFCIVA_1, I06SA,    39,  1,    900,      6,2,19930305,2209,-49.3328,  30.0053, 3285,    909.0,   2.3932,  34.4596,2,  34.4640,2,    186.2,2,  2.3366,    184.1,2,    67.24,2,    35.02,2,     2.36,2,    0.728,2,    0.393,4,   -999.0,9,   2244.1,2,   2333.0,2,  -999.0
    35MFCIVA_1, I06SA,    39,  1,   1000,      5,2,19930305,2209,-49.3328,  30.0053, 3285,   1007.5,   2.5152,  34.5349,2,  34.5330,2,    179.6,2,  2.4505,    179.3,2,    69.76,2,    34.57,2,     2.32,2,    0.418,2,    0.248,4,   -999.0,9,   2249.6,2,   2337.0,2,  -999.0
    35MFCIVA_1, I06SA,    39,  1,   1200,      4,2,19930305,2209,-49.3328,  30.0053, 3285,   1210.5,   2.5112,  34.6230,2,  34.6230,2,    178.0,2,  2.4314,    178.8,2,    73.12,2,    33.50,2,     2.27,2,    0.180,2,    0.086,4,   -999.0,9,   2253.2,2,   2346.0,2,  -999.0
    35MFCIVA_1, I06SA,    39,  1,   1400,      3,2,19930305,2209,-49.3328,  30.0053, 3285,   1414.4,   2.4572,  34.6844,2,  34.6840,2,    181.8,2,  2.3621,    183.1,2,    75.21,2,    32.36,2,     2.14,2,    0.144,2,    0.055,4,   -999.0,9,   2250.0,2,   2350.0,2,  -999.0
    35MFCIVA_1, I06SA,    39,  1,   1600a,      2,2,19930305,2209,-49.3328,  30.0053, 3285,   1616.4,   2.3882,  34.7276,2,  34.7260,2,    187.6,2,  2.2777,    188.9,2,    76.47,2,    31.38,2,     2.07,2,    0.126,3,    0.095,4,   -999.0,9,   2246.0,2,   2353.0,2,  -999.0
    35MFCIVA_1, I06SA,    39,  1,   1600b,      1,2,19930305,2209,-49.3328,  30.0053, 3285,   1616.7,   2.3892,  34.7276,2,  34.7260,2,    187.7,2,  2.2787,   -999.0,5,    76.47,2,    31.23,2,     2.06,2,    0.087,2,    0.056,4,   -999.0,9,   2241.0,2,   2349.0,2,  -999.0
    35MFCIVA_1, I06SA,    39,  2,     10,     12,2,19930306,0032,-49.3325,  30.0295, 3528,     11.2,   5.3872,  33.8535,2,  33.8550,2,    328.6,2,  5.3864,    308.6,2,     3.39,2,    20.89,2,     1.34,2,    5.000,2,    2.799,4,   -999.0,9,   2113.9,2,   2286.0,2,  -999.0
    35MFCIVA_1, I06SA,    39,  2,     20,     11,2,19930306,0032,-49.3325,  30.0295, 3528,     21.1,   5.3852,  33.8550,2,  33.8530,2,    322.6,2,  5.3836,    308.8,2,     3.39,2,    21.27,2,     1.31,2,    4.972,2,    2.820,4,   -999.0,9,   2122.1,2,   2287.0,2,  -999.0
    35MFCIVA_1, I06SA,    39,  2,     40,     10,2,19930306,0032,-49.3325,  30.0295, 3528,     40.9,   5.3862,  33.8542,2,  33.8530,2,    315.7,2,  5.3830,    308.6,2,     3.39,2,    20.96,2,     1.34,2,    4.969,2,    2.797,4,   -999.0,9,   2116.0,2,   2288.0,2,  -999.0
    35MFCIVA_1, I06SA,    39,  2,     60,      9,2,19930306,0032,-49.3325,  30.0295, 3528,     60.8,   5.3762,  33.8553,2,  33.8530,2,    315.1,2,  5.3715,    308.6,2,     3.39,2,    21.11,2,     1.35,2,    4.982,2,    2.756,4,   -999.0,9,   2115.1,2,   2286.0,2,  -999.0
    35MFCIVA_1, I06SA,    39,  2,     80,      8,2,19930306,0032,-49.3325,  30.0295, 3528,     82.0,   5.3273,  33.8585,2,  33.8570,2,    314.0,2,  5.3209,    308.6,2,     3.39,2,    21.11,2,     1.36,2,    5.006,2,    2.781,4,   -999.0,9,   2118.6,2,   2287.0,2,  -999.0
    35MFCIVA_1, I06SA,    39,  2,    100,      7,2,19930306,0032,-49.3325,  30.0295, 3528,    101.8,   4.7268,  33.9455,2,  33.9410,2,    309.6,2,  4.7193,    307.8,2,     6.77,2,    22.63,2,     1.45,2,    5.088,2,    2.761,4,   -999.0,9,   2125.8,2,   2287.0,2,  -999.0
    35MFCIVA_1, I06SA,    39,  2,    125,      6,2,19930306,0032,-49.3325,  30.0295, 3528,    126.3,   3.9764,  34.0189,2,  34.0200,2,    306.8,2,  3.9678,    305.4,2,    10.58,2,    24.60,2,     1.62,2,    5.038,2,    2.791,4,   -999.0,9,   2136.4,2,   2285.0,2,  -999.0
    35MFCIVA_1, I06SA,    39,  2,    150,      5,2,19930306,0032,-49.3325,  30.0295, 3528,    151.5,   3.7585,  34.0275,2,  34.0280,2,    303.3,2,  3.7485,    304.0,2,    11.00,2,    24.90,2,     1.64,2,    5.020,2,    2.818,4,   -999.0,9,   2137.3,2,   2285.0,2,  -999.0
    35MFCIVA_1, I06SA,    39,  2,    175,      4,2,19930306,0032,-49.3325,  30.0295, 3528,    176.2,   3.6066,  34.0365,2,  34.0360,2,    301.7,2,  3.5951,    302.6,2,    12.27,2,    25.43,2,     1.67,2,    4.946,2,    2.708,4,   -999.0,9,   2140.1,2,   2284.0,2,  -999.0
    35MFCIVA_1, I06SA,    39,  2,    200,      3,2,19930306,0032,-49.3325,  30.0295, 3528,    201.2,   3.3728,  34.0372,2,  34.0380,2,    301.5,2,  3.3599,    299.9,2,    13.96,2,    26.27,2,     1.72,2,    4.880,2,    2.679,4,   -999.0,9,   2145.7,2,   2284.0,2,  -999.0
    35MFCIVA_1, I06SA,    39,  2,    250a,      2,2,19930306,0032,-49.3325,  30.0295, 3528,    254.1,   3.4407,  34.1086,2,  34.1050,2,    284.0,2,  3.4242,    283.1,2,    16.92,2,    27.48,2,     1.78,2,    4.292,2,    2.349,4,   -999.0,9,   2155.4,2,   2289.0,2,  -999.0
    35MFCIVA_1, I06SA,    39,  2,    250b,      1,2,19930306,0032,-49.3325,  30.0295, 3528,    254.2,   3.4407,  34.1085,2,  34.1050,2,    284.0,2,  3.4242,    283.4,2,    16.92,2,    27.71,2,     1.77,2,    4.279,2,    2.290,4,   -999.0,9,   2154.6,2,   2290.0,2,  -999.0
    35MFCIVA_1, I06SA,    40,  1,   1500,     12,2,19930306,0432,-48.9953,  30.0187, 4022,   1514.3,   2.5982,  34.6819,2,  34.6830,2,    184.3,2,  2.4935,    183.7,2,    70.60,2,    31.47,2,     2.12,2,    0.087,2,    0.038,4,   -999.0,9,   2243.5,2,   2349.0,2,  -999.0
    35MFCIVA_1, I06SA,    40,  1,   1750,     11,2,19930306,0432,-48.9953,  30.0187, 4022,   1770.9,   2.4892,  34.7362,2,  34.7370,2,    191.9,2,  2.3646,    192.1,2,    71.44,2,    29.97,2,     2.06,2,    0.069,2,    0.000,4,   -999.0,9,   2239.9,2,   2351.0,2,  -999.0
    35MFCIVA_1, I06SA,    40,  1,   2000,     10,2,19930306,0432,-48.9953,  30.0187, 4022,   2023.4,   2.4352,  34.7799,2,  34.7810,2,    201.3,2,  2.2896,    203.2,2,    68.89,2,    28.55,2,     1.93,2,    0.000,2,    0.000,4,   -999.0,9,   2234.0,2,   2351.0,2,  -999.0
    35MFCIVA_1, I06SA,    40,  1,   2250,      9,2,19930306,0432,-48.9953,  30.0187, 4022,   2278.3,   2.1233,  34.7718,2,  34.7730,2,    202.9,2,  1.9603,    203.4,2,    79.09,2,    29.08,2,     1.98,2,    0.082,2,    0.042,4,   -999.0,9,   2244.4,2,   2359.0,2,  -999.0
    35MFCIVA_1, I06SA,    40,  1,   2500,      8,2,19930306,0432,-48.9953,  30.0187, 4022,   2531.6,   1.8484,  34.7615,2,  34.7630,2,    201.3,2,  1.6676,    204.0,2,    88.02,2,    29.97,2,     2.04,2,    0.131,2,    0.064,4,   -999.0,9,   2291.1,3,   2362.0,2,  -999.0
    35MFCIVA_1, I06SA,    40,  1,   2750,      7,2,19930306,0432,-48.9953,  30.0187, 4022,   2747.7,   1.6254,  34.7514,2,  34.7510,2,    205.0,2,  1.4293,    205.0,2,    95.25,2,    30.42,2,     2.04,2,    0.149,2,    0.048,4,   -999.0,9,   2276.1,2,   2363.0,2,  -999.0
    35MFCIVA_1, I06SA,    40,  1,   3000,      6,2,19930306,0432,-48.9953,  30.0187, 4022,   3043.4,   1.4915,  34.7548,2,  34.7560,2,    209.1,2,  1.2703,    211.1,2,    96.52,2,    30.05,2,     2.01,2,    0.076,2,    0.000,4,   -999.0,9,   2268.6,2,   2367.0,2,  -999.0
    35MFCIVA_1, I06SA,    40,  1,   3500,      5,2,19930306,0432,-48.9953,  30.0187, 4022,   3299.5,   1.3175,  34.7450,2,  34.7450,2,    211.7,2,  1.0756,    211.7,2,   102.90,2,    30.42,2,     2.03,2,    0.104,2,    0.056,4,   -999.0,9,   2276.7,2,   2371.0,2,  -999.0
    35MFCIVA_1, I06SA,    40,  1,   4000a,      4,2,19930306,0432,-48.9953,  30.0187, 4022,   3553.5,   1.0345,  34.7145,2,  34.7150,2,    210.2,2,  0.7746,    208.8,2,   113.96,2,    31.84,2,     2.13,2,    0.118,2,    0.071,4,   -999.0,9,   2281.3,2,   2367.0,2,  -999.0
    35MFCIVA_1, I06SA,    40,  1,   4000b,      3,2,19930306,0432,-48.9953,  30.0187, 4022,   3553.7,   1.0355,  34.7146,2,  34.7160,2,    210.2,2,  0.7755,    208.9,2,   113.96,2,    31.91,2,     2.13,2,    0.166,2,    0.085,4,   -999.0,9,   2261.1,4,   2372.0,2,  -999.0
    35MFCIVA_1, I06SA,    40,  1,   4200,      2,2,19930306,0432,-48.9953,  30.0187, 4022,   3813.0,   0.8764,  34.7059,2,  34.7060,2,    211.0,2,  0.5945,    210.4,2,   119.06,2,    32.14,2,     2.16,2,    0.354,3,    0.189,4,   -999.0,9,   2275.4,2,   2371.0,2,  -999.0
    35MFCIVA_1, I06SA,    40,  1,   F-20,      1,2,19930306,0432,-48.9953,  30.0187, 4022,   4195.6,  -0.0388,  34.6640,2,  34.6630,2,    231.7,2, -0.3335,   -999.0,5,   132.66,2,    32.89,2,     2.18,2,    0.207,2,    0.105,4,   -999.0,9,   2254.1,2,   2366.0,2,  -999.0
    35MFCIVA_1, I06SA,    40,  2,    325,     12,2,19930306,0752,-49.0002,  30.0292, 4044,    328.0,   4.0693,  34.1893,2,  34.1990,2,    257.2,2,  4.0462,    255.3,2,    19.42,2,    27.67,2,     1.90,2,    3.109,2,    1.706,4,   -999.0,9,   2162.7,2,   2291.0,2,  -999.0
    35MFCIVA_1, I06SA,    40,  2,    400,     11,2,19930306,0752,-49.0002,  30.0292, 4044,    406.9,   3.6596,  34.2020,2,  34.2030,2,    253.3,2,  3.6319,    252.0,2,    23.64,2,    28.87,2,     1.99,2,    2.837,2,    1.512,4,   -999.0,9,   2169.5,2,   2295.0,2,  -999.0
    35MFCIVA_1, I06SA,    40,  2,    500,     10,2,19930306,0752,-49.0002,  30.0292, 4044,    503.7,   3.2808,  34.2111,2,  34.2110,2,    245.0,2,  3.2477,    246.1,2,    28.70,2,    30.08,2,     2.07,2,    2.520,2,    1.338,4,   -999.0,9,   2177.8,2,   2299.0,2,  -999.0
    35MFCIVA_1, I06SA,    40,  2,    600,      9,2,19930306,0752,-49.0002,  30.0292, 4044,    606.0,   2.8620,  34.2269,2,  34.2360,2,    232.2,2,  2.8237,    237.1,2,    35.88,2,    31.29,2,     2.15,2,    2.217,2,    1.180,4,   -999.0,9,   2193.7,2,   2305.0,2,  -999.0
    35MFCIVA_1, I06SA,    40,  2,    700,      8,2,19930306,0752,-49.0002,  30.0292, 4044,    707.7,   3.0679,  34.3303,2,  34.3250,2,    210.1,2,  3.0213,    212.1,2,    44.32,2,    32.27,2,     2.22,2,    1.277,2,    0.657,4,   -999.0,9,   2205.8,2,   2314.0,2,  -999.0
    35MFCIVA_1, I06SA,    40,  2,    800,      7,2,19930306,0752,-49.0002,  30.0292, 4044,    805.8,   2.8420,  34.3638,2,  34.3560,2,    203.3,2,  2.7898,    205.3,2,    49.80,2,    33.10,2,     2.29,2,    1.186,2,    0.625,4,   -999.0,9,   2216.7,2,   2322.0,2,  -999.0
    35MFCIVA_1, I06SA,    40,  2,    900,      6,2,19930306,0752,-49.0002,  30.0292, 4044,    906.7,   2.5852,  34.3885,2,  34.3860,2,    197.3,2,  2.5274,    197.8,2,    56.55,2,    33.78,2,     2.32,2,    1.000,2,    0.507,4,   -999.0,9,   2226.9,2,   2325.0,2,  -999.0
    35MFCIVA_1, I06SA,    40,  2,   1000,      5,2,19930306,0752,-49.0002,  30.0292, 4044,   1008.2,   2.7071,  34.4728,2,  34.4650,2,    186.6,2,  2.6410,    185.6,2,    61.19,2,    34.00,2,     2.32,2,    0.505,2,    0.258,4,   -999.0,9,   2235.7,2,   2334.0,2,  -999.0
    35MFCIVA_1, I06SA,    40,  2,   1100,      4,2,19930306,0752,-49.0002,  30.0292, 4044,   1111.2,   2.6451,  34.5193,2,  34.5170,2,    181.2,2,  2.5718,    181.5,2,    65.83,2,    33.85,2,     2.31,2,    0.359,2,    0.173,4,   -999.0,9,   2241.6,2,   2339.0,2,  -999.0
    35MFCIVA_1, I06SA,    40,  2,   1200,      3,2,19930306,0752,-49.0002,  30.0292, 4044,   1209.5,   2.6201,  34.5634,2,  34.5600,2,    180.3,2,  2.5395,    180.2,2,    68.36,2,    33.55,2,     2.28,2,    0.273,2,    0.126,4,   -999.0,9,   2243.0,2,   2343.0,2,  -999.0
    35MFCIVA_1, I06SA,    40,  2,   1350a,      1,2,19930306,0752,-49.0002,  30.0292, 4044,   1357.9,   2.6151,  34.6313,2,  34.6300,2,    180.4,2,  2.5229,   -999.0,5,    70.04,2,    32.72,2,     2.17,2,    0.153,2,    0.063,4,   -999.0,9,   2245.0,2,   2347.0,2,  -999.0
    35MFCIVA_1, I06SA,    40,  2,   1350b,      2,2,19930306,0752,-49.0002,  30.0292, 4044,   1361.1,   2.6151,  34.6358,2,  34.6320,2,    180.4,2,  2.5227,    155.9,4,    70.47,2,    32.72,2,     2.22,2,    0.161,2,    0.072,4,   -999.0,9,   2246.0,2,   2347.0,2,  -999.0
    35MFCIVA_1, I06SA,    40,  3,     10,     12,2,19930306,0942,-49.0015,  30.0203, 4134,      7.8,   6.3913,  33.8919,2,  33.8870,2,    305.6,2,  6.3907,    302.8,2,     3.77,2,    19.69,2,     1.38,2,    4.539,2,    2.638,4,   -999.0,9,   2099.6,2,   2284.0,2,  -999.0
    35MFCIVA_1, I06SA,    40,  3,     20,     11,2,19930306,0942,-49.0015,  30.0203, 4134,     19.5,   6.3833,  33.9186,2,  33.9160,2,    302.8,2,  6.3817,    303.5,2,  -999.00,5,  -999.00,5,  -999.00,5,    4.584,2,    2.664,4,   -999.0,9,   2102.9,2,   2285.0,2,  -999.0
    35MFCIVA_1, I06SA,    40,  3,     40,     10,2,19930306,0942,-49.0015,  30.0203, 4134,     41.9,   6.2984,  33.9173,2,  33.9170,2,    305.9,2,  6.2948,    304.5,2,     4.19,2,    19.76,2,     1.37,2,    4.564,2,    2.651,4,   -999.0,9,   2100.8,2,   2286.0,2,  -999.0
    35MFCIVA_1, I06SA,    40,  3,     60,      9,2,19930306,0942,-49.0015,  30.0203, 4134,     61.6,   6.2604,  33.9163,2,  33.9160,2,    305.2,2,  6.2552,    304.1,2,     4.19,2,    19.76,2,     1.38,2,    4.601,2,    2.652,4,   -999.0,9,   2100.0,2,   2285.0,2,  -999.0
    35MFCIVA_1, I06SA,    40,  3,     80,      8,2,19930306,0942,-49.0015,  30.0203, 4134,     78.6,   6.1615,  33.9271,2,  33.9290,2,    308.6,2,  6.1549,    305.0,2,     4.19,2,    19.91,2,     1.41,2,    4.623,2,    2.627,4,   -999.0,9,   2104.0,2,   2285.0,2,  -999.0
    35MFCIVA_1, I06SA,    40,  3,    100,      7,2,19930306,0942,-49.0015,  30.0203, 4134,    102.9,   4.9936,  33.9843,2,  33.9920,2,    306.3,2,  4.9858,    305.4,2,     7.54,2,    21.36,2,     1.55,2,    4.877,2,    2.803,4,   -999.0,9,   2116.3,2,   2284.0,2,  -999.0
    35MFCIVA_1, I06SA,    40,  3,    125,      6,2,19930306,0942,-49.0015,  30.0203, 4134,    126.5,   4.3951,  34.0317,2,  34.0310,2,    303.2,2,  4.3860,    304.1,2,    10.05,2,    23.19,2,     1.63,2,    4.873,2,    2.824,4,   -999.0,9,   2124.7,2,   2282.0,2,  -999.0
    35MFCIVA_1, I06SA,    40,  3,    150,      5,2,19930306,0942,-49.0015,  30.0203, 4134,    150.9,   4.1732,  34.0445,2,  34.0430,2,    303.6,2,  4.1627,    303.7,2,     9.63,2,    23.57,2,     1.64,2,    4.836,2,    2.767,4,   -999.0,9,   2126.5,2,   2284.0,2,  -999.0
    35MFCIVA_1, I06SA,    40,  3,    175,      4,2,19930306,0942,-49.0015,  30.0203, 4134,    175.7,   4.0653,  34.0486,2,  34.0480,2,    295.1,2,  4.0532,    303.0,2,    11.31,2,    23.80,2,     1.64,2,    4.804,2,    2.744,4,   -999.0,9,   2126.3,2,   2286.0,2,  -999.0
    35MFCIVA_1, I06SA,    40,  3,    200,      3,2,19930306,0942,-49.0015,  30.0203, 4134,    199.2,   4.1702,  34.0918,2,-999.0000,5,    291.1,2,  4.1562,    295.5,2,    11.72,2,    24.25,2,     1.68,2,    4.633,2,    2.609,4,   -999.0,9,   2133.1,2,   2286.0,2,  -999.0
    35MFCIVA_1, I06SA,    40,  3,    250a,      1,2,19930306,0942,-49.0015,  30.0203, 4134,    255.9,   4.5010,  34.1981,2,  34.1970,2,    263.8,2,  4.4822,    259.4,2,    15.91,2,    26.62,2,     1.83,2,    3.421,2,    1.888,4,   -999.0,9,   2152.0,2,   2289.0,2,  -999.0
    35MFCIVA_1, I06SA,    40,  3,    250b,      2,2,19930306,0942,-49.0015,  30.0203, 4134,    259.0,   4.4720,  34.1984,2,  34.1950,2,    263.9,2,  4.4530,    260.0,2,    15.91,2,    26.62,2,     1.83,2,    3.418,2,    1.882,4,   -999.0,9,   2153.0,2,   2289.0,2,  -999.0