BOTTLE,20220922CCHSIOAMB
EXPOCODE,SECT_ID,STNNBR,CASTNO,SAMPNO,BTLNBR,BTLNBR_FLAG_W,DATE,TIME,LATITUDE,LONGITUDE,DEPTH,CTDPRS,CTDTMP,CTDSAL,CTDSAL_FLAG_W,SALNTY,SALNTY_FLAG_W,CTDOXY,CTDOXY_FLAG_W,THETA,OXYGEN,OXYGEN_FLAG_W,SILCAT,SILCAT_FLAG_W,NITRAT,NITRAT_FLAG_W,PHSPHT,PHSPHT_FLAG_W,CFC-11,CFC-11_FLAG_W,CFC-12,CFC-12_FLAG_W,DELC14,DELC14_FLAG_W,TCARBN,TCARBN_FLAG_W,ALKALI,ALKALI_FLAG_W,C14ERR
,,,,,,,,,,,,DBAR,ITS-90,PSS-78,,PSS-78,,UMOL/KG,,DEG C,UMOL/KG,,UMOL/KG,,UMOL/KG,,UMOL/KG,,PMOL/KG,,PMOL/KG,,/MILLE,,UMOL/KG,,UMOL/KG,,/MILLE
    35MFCIVA_1, I06SA,    28,  3,     10,     12,2,19930215,2232,-54.3383,  30.0223, 5482,     11.0,   2.8820,  33.8759,2,  33.8760,2,    321.9,2,  2.8814,    330.8,2,    26.37,2,    25.36,2,     1.63,2,    5.814,2,    2.770,2,    -69.0,2,   2141.6,2,   2295.0,2,     6.0
    35MFCIVA_1, I06SA,    28,  3,     20,     11,2,19930215,2232,-54.3383,  30.0223, 5482,     20.1,   2.8840,  33.8762,2,  33.8770,2,    317.4,2,  2.8829,    330.6,2,    26.37,2,    25.36,2,     1.63,2,    5.021,2,    2.572,2,    -81.0,2,   2141.5,2,   2293.0,2,     5.0
    35MFCIVA_1, I06SA,    28,  3,     40,     10,2,19930215,2232,-54.3383,  30.0223, 5482,     39.9,   2.7801,  33.9494,2,  33.9520,2,    319.9,2,  2.7778,    333.8,2,    29.66,2,    25.05,2,     1.59,2,    5.846,2,    2.769,2,    -83.0,2,   2151.0,2,   2302.0,2,     5.0
    35MFCIVA_1, I06SA,    28,  3,     60,      9,2,19930215,2232,-54.3383,  30.0223, 5482,     61.3,   2.5312,  33.9777,2,  33.9820,2,    330.2,2,  2.5278,    335.2,2,    36.25,2,    25.51,2,     1.68,2,    5.967,2,    2.920,2,   -999.0,9,   2164.3,2,   2308.0,2,  -999.0
    35MFCIVA_1, I06SA,    28,  3,     80,      8,2,19930215,2232,-54.3383,  30.0223, 5482,     82.2,   1.1735,  34.0229,2,  34.0230,2,    333.4,2,  1.1698,    340.1,2,    53.55,2,    26.74,2,     1.83,2,    6.201,2,    3.006,2,   -999.0,9,   2159.7,2,   2312.0,2,  -999.0
    35MFCIVA_1, I06SA,    28,  3,    100,      7,2,19930215,2232,-54.3383,  30.0223, 5482,    102.1,   0.0692,  34.1016,2,  34.0960,2,    331.0,2,  0.0656,    324.9,2,    48.60,2,    29.43,2,     2.01,2,    5.751,2,    2.721,2,    -97.0,2,   2118.6,3,   2308.0,2,     5.0
    35MFCIVA_1, I06SA,    28,  3,    125,      6,2,19930215,2232,-54.3383,  30.0223, 5482,    126.4,   0.3463,  34.1703,2,  34.1820,2,    314.4,2,  0.3415,    296.8,2,    51.89,2,    30.73,2,     2.10,2,    4.925,2,    2.281,2,   -999.0,9,   2186.1,2,   2313.0,2,  -999.0
    35MFCIVA_1, I06SA,    28,  3,    150,      5,2,19930215,2232,-54.3383,  30.0223, 5482,    152.5,   0.6154,  34.2370,2,  34.2940,2,    292.7,2,  0.6092,    290.9,2,    55.18,2,    31.04,2,     2.12,2,    4.729,2,    2.125,2,    -80.0,2,   2196.8,2,   2317.0,2,     5.0
    35MFCIVA_1, I06SA,    28,  3,    175,      4,2,19930215,2232,-54.3383,  30.0223, 5482,    176.0,   1.0295,  34.3151,2,  34.2930,2,    245.5,2,  1.0216,    256.2,2,    60.54,2,    32.26,2,     2.21,2,    3.554,2,    1.580,2,   -999.0,9,   2213.9,2,   2320.0,2,  -999.0
    35MFCIVA_1, I06SA,    28,  3,    200,      3,2,19930215,2232,-54.3383,  30.0223, 5482,    199.1,   1.3915,  34.3677,2,  34.3660,2,    226.6,2,  1.3819,    228.0,2,    65.07,2,    33.26,2,     2.32,2,    2.496,2,    1.105,2,   -109.0,2,   2186.4,3,   2327.0,2,     5.0
    35MFCIVA_1, I06SA,    28,  3,    250a,      1,2,19930215,2232,-54.3383,  30.0223, 5482,    256.2,   1.5294,  34.4484,2,  34.4470,2,    204.2,2,  1.5167,    209.2,2,    71.65,2,    33.65,2,     2.33,2,    1.889,2,    0.857,2,   -999.0,9,   2251.0,2,   2333.0,2,  -999.0
    35MFCIVA_1, I06SA,    28,  3,    250b,      2,2,19930215,2232,-54.3383,  30.0223, 5482,    256.9,   1.5314,  34.4484,2,  34.4450,2,    204.2,2,  1.5186,    210.3,2,    71.65,2,    33.65,2,     2.32,2,    1.861,2,    0.816,2,   -999.0,9,   2218.0,3,   2334.0,2,  -999.0
    35MFCIVA_1, I06SA,    29,  1,    325,     12,2,19930228,0649,-53.6770,  29.9857, 5494,    323.5,   0.4884,  34.5398,2,  34.5430,2,    223.4,2,  0.4748,    221.7,2,    92.24,2,    33.44,2,     2.34,2,    2.188,2,    1.033,2,   -999.0,9,   2250.1,2,   2348.0,2,  -999.0
    35MFCIVA_1, I06SA,    29,  1,    400,     11,2,19930228,0649,-53.6770,  29.9857, 5494,    404.1,   1.0075,  34.6268,2,  34.6300,2,    198.1,2,  0.9884,    199.0,2,    97.63,2,    33.67,2,     2.34,2,    1.142,2,    0.500,2,   -999.0,9,   2258.7,2,   2354.0,2,  -999.0
    35MFCIVA_1, I06SA,    29,  1,    500,     10,2,19930228,0649,-53.6770,  29.9857, 5494,    498.0,   1.1405,  34.6734,2,  34.6710,2,    192.7,2,  1.1160,    194.5,2,   102.13,2,    33.43,2,     2.33,2,    0.705,2,    0.266,2,   -999.0,9,   2259.3,2,   2359.0,2,  -999.0
    35MFCIVA_1, I06SA,    29,  1,    600,      9,2,19930228,0649,-53.6770,  29.9857, 5494,    602.2,   1.1195,  34.6911,2,  34.6890,2,    190.1,2,  1.0894,    196.6,2,   104.83,2,    33.13,2,     2.30,2,    0.532,2,    0.254,2,   -999.0,9,   2259.5,2,   2360.0,2,  -999.0
    35MFCIVA_1, I06SA,    29,  1,    700,      8,2,19930228,0649,-53.6770,  29.9857, 5494,    705.1,   1.0555,  34.6985,2,  34.6980,2,    195.4,2,  1.0200,    201.3,2,   107.52,2,    32.97,2,     2.30,2,    0.594,2,    0.147,3,   -999.0,9,   2260.9,2,   2362.0,2,  -999.0
    35MFCIVA_1, I06SA,    29,  1,    800,      7,2,19930228,0649,-53.6770,  29.9857, 5494,    805.8,   0.9485,  34.6987,2,  34.6980,2,    194.1,2,  0.9079,    198.6,2,   109.77,2,    33.05,2,     2.27,2,    0.436,2,    0.221,2,   -999.0,9,   2259.4,2,   2363.0,2,  -999.0
    35MFCIVA_1, I06SA,    29,  1,    900,      6,2,19930228,0649,-53.6770,  29.9857, 5494,    905.8,   0.8284,  34.6985,2,  34.6970,2,    195.7,2,  0.7830,    200.7,2,   114.72,2,    33.13,2,     2.31,2,    0.386,3,    0.148,3,   -999.0,9,   2259.8,2,   2363.0,2,  -999.0
    35MFCIVA_1, I06SA,    29,  1,   1000,      5,2,19930228,0649,-53.6770,  29.9857, 5494,   1008.5,   0.7914,  34.6989,2,  34.6980,2,    199.2,2,  0.7402,    201.0,2,   115.62,2,    33.13,2,     2.29,2,    0.305,2,    0.154,2,   -999.0,9,   2260.7,2,   2364.0,2,  -999.0
    35MFCIVA_1, I06SA,    29,  1,   1200,      4,2,19930228,0649,-53.6770,  29.9857, 5494,   1206.9,   0.6274,  34.6924,2,  34.6910,2,    201.4,2,  0.5657,    202.2,2,   121.02,2,    33.51,2,     2.33,2,    0.333,2,    0.149,2,   -999.0,9,   2262.4,2,   2368.0,2,  -999.0
    35MFCIVA_1, I06SA,    29,  1,   1400,      3,2,19930228,0649,-53.6770,  29.9857, 5494,   1411.6,   0.5764,  34.6964,2,  34.6960,2,    201.4,2,  0.5023,    205.4,2,   122.82,2,    33.36,2,     2.33,2,    0.197,2,    0.107,2,   -999.0,9,   2260.0,2,   2367.0,2,  -999.0
    35MFCIVA_1, I06SA,    29,  1,   1600a,      2,2,19930228,0649,-53.6770,  29.9857, 5494,   1612.2,   0.4614,  34.6911,2,  34.6910,2,    202.3,2,  0.3755,    207.1,2,   126.87,2,    33.51,2,     2.34,2,    0.194,2,    0.072,2,   -999.0,9,   2262.0,2,   2370.0,2,  -999.0
    35MFCIVA_1, I06SA,    29,  1,   1600b,      1,2,19930228,0649,-53.6770,  29.9857, 5494,   1613.8,   0.4594,  34.6912,2,  34.6900,2,    203.0,2,  0.3734,    206.8,2,   126.87,2,    33.51,2,     2.31,2,    0.198,2,    0.102,2,   -999.0,9,   2259.0,2,   2366.0,2,  -999.0
    35MFCIVA_1, I06SA,    29,  2,     10,     12,2,19930228,1033,-53.6637,  30.0113, 5502,     11.5,   2.7061,  33.9538,2,  33.9540,2,    321.7,2,  2.7055,    324.4,2,    44.97,2,    25.54,2,     1.74,2,    5.958,2,    2.654,2,   -999.0,9,   2156.7,2,   2311.0,2,  -999.0
    35MFCIVA_1, I06SA,    29,  2,     20,     11,2,19930228,1033,-53.6637,  30.0113, 5502,     22.3,   2.6921,  33.9541,2,  33.9550,2,    325.9,2,  2.6909,    323.0,2,    44.97,2,    25.69,2,     1.78,2,    5.956,2,    2.699,2,   -999.0,9,   2157.8,2,   2309.0,2,  -999.0
    35MFCIVA_1, I06SA,    29,  2,     40,     10,2,19930228,1033,-53.6637,  30.0113, 5502,     42.5,   2.6831,  33.9537,2,  33.9540,2,    326.9,2,  2.6807,    320.9,2,    44.97,2,    25.69,2,     1.80,2,    5.928,2,    2.647,2,   -999.0,9,   2158.7,2,   2313.0,2,  -999.0
    35MFCIVA_1, I06SA,    29,  2,     60,      9,2,19930228,1033,-53.6637,  30.0113, 5502,     60.8,   2.2593,  33.9730,2,  33.9710,2,    324.2,2,  2.2560,    322.6,2,    47.26,2,    25.69,2,     1.78,2,    6.114,2,    2.724,2,   -999.0,9,   2161.2,2,   2314.0,2,  -999.0
    35MFCIVA_1, I06SA,    29,  2,     80,      8,2,19930228,1033,-53.6637,  30.0113, 5502,     81.2,   1.1425,  34.0149,2,  34.0090,2,    326.3,2,  1.1389,    335.0,2,    56.89,2,    25.99,2,     1.86,2,    6.346,2,    2.931,2,   -999.0,9,   2171.0,2,   2317.0,2,  -999.0
    35MFCIVA_1, I06SA,    29,  2,    100,      7,2,19930228,1033,-53.6637,  30.0113, 5502,    103.5,   0.6064,  34.0322,2,  34.0340,2,    327.6,2,  0.6023,    337.7,2,    61.47,2,    26.30,2,     1.92,2,    6.539,2,    3.024,2,   -999.0,9,   2176.9,2,   2315.0,2,  -999.0
    35MFCIVA_1, I06SA,    29,  2,    125,      6,2,19930228,1033,-53.6637,  30.0113, 5502,    125.6,   0.0062,  34.0691,2,  34.0640,2,    326.6,2,  0.0018,    337.2,2,    65.60,2,    27.06,2,     1.99,2,    6.554,2,    3.047,2,   -999.0,9,   2185.0,2,   2322.0,2,  -999.0
    35MFCIVA_1, I06SA,    29,  2,    150,      5,2,19930228,1033,-53.6637,  30.0113, 5502,    151.0,  -0.5572,  34.1158,2,  34.1150,2,    318.3,2, -0.5618,    332.3,2,    71.10,2,    28.05,2,     2.12,2,    6.408,2,    2.986,2,   -999.0,9,   2193.5,2,   2321.0,2,  -999.0
    35MFCIVA_1, I06SA,    29,  2,    175,      4,2,19930228,1033,-53.6637,  30.0113, 5502,    176.6,  -0.9986,  34.2285,2,  34.2280,2,    302.8,2, -1.0034,    313.9,2,    77.97,2,    30.04,2,     2.29,2,    5.719,2,    2.653,2,   -999.0,9,   2210.3,2,   2328.0,2,  -999.0
    35MFCIVA_1, I06SA,    29,  2,    200,      3,2,19930228,1033,-53.6637,  30.0113, 5502,    208.1,  -0.8274,  34.3028,2,  34.3190,2,    292.2,2, -0.8335,    291.4,2,    83.01,2,    31.34,2,     2.26,2,    4.930,2,    2.287,2,   -999.0,9,   2220.9,2,   2333.0,2,  -999.0
    35MFCIVA_1, I06SA,    29,  2,    250a,      2,2,19930228,1033,-53.6637,  30.0113, 5502,    232.1,  -0.6633,  34.3507,2,  34.3100,2,    275.8,2, -0.6705,    293.1,2,    82.09,2,    31.18,2,     2.21,2,    4.460,2,    2.067,2,   -999.0,9,   2222.0,2,   2333.0,2,  -999.0
    35MFCIVA_1, I06SA,    29,  2,    250b,      1,2,19930228,1033,-53.6637,  30.0113, 5502,    248.0,  -0.5141,  34.3781,2,  34.3590,2,    268.5,2, -0.5222,    280.8,2,    84.84,2,    31.56,2,     2.26,2,    4.950,3,    2.326,3,   -999.0,9,   2229.0,2,   2335.0,2,  -999.0
    35MFCIVA_1, I06SA,    30,  1,   1750,     11,2,19930228,1648,-53.0018,  30.0075, 5494,   1766.6,   1.1425,  34.7220,2,  34.7220,2,    199.8,2,  1.0366,    201.8,2,   106.15,2,    32.14,2,     2.23,2,    0.139,2,    0.092,3,   -999.0,9,   2244.7,2,   2363.0,2,  -999.0
    35MFCIVA_1, I06SA,    30,  1,   2000,     10,2,19930228,1648,-53.0018,  30.0075, 5494,   2022.0,   0.8774,  34.7103,2,  34.7100,2,    201.9,2,  0.7563,    204.2,2,   114.05,2,    32.61,2,     2.26,2,    0.189,2,    0.075,2,   -999.0,9,   2247.8,2,   2370.0,2,  -999.0
    35MFCIVA_1, I06SA,    30,  1,   2250,      9,2,19930228,1648,-53.0018,  30.0075, 5494,   2276.7,   0.6844,  34.6994,2,  34.6990,2,    205.0,2,  0.5467,    205.8,2,   119.75,2,    33.07,2,     2.31,2,    0.192,2,    0.092,2,   -999.0,9,   2251.8,2,   2369.0,2,  -999.0
    35MFCIVA_1, I06SA,    30,  1,   2500,      8,2,19930228,1648,-53.0018,  30.0075, 5494,   2531.7,   0.4884,  34.6896,2,  34.6890,2,    204.9,2,  0.3338,    208.0,2,   125.45,2,    33.38,2,     2.31,2,    0.192,2,    0.095,2,   -999.0,9,   2252.0,2,   2368.0,2,  -999.0
    35MFCIVA_1, I06SA,    30,  1,   3000,      7,2,19930228,1648,-53.0018,  30.0075, 5494,   3043.4,   0.2263,  34.6776,2,  34.6830,2,    214.3,2,  0.0340,    213.6,2,   125.45,2,    33.38,2,     2.31,2,    0.199,2,    0.090,2,   -999.0,9,   2249.3,2,   2367.0,2,  -999.0
    35MFCIVA_1, I06SA,    30,  1,   3500,      6,2,19930228,1648,-53.0018,  30.0075, 5494,   3555.2,   0.0202,  34.6682,2,  34.6660,2,    225.0,2, -0.2134,    224.3,2,   131.59,2,    33.46,2,     2.32,2,    0.191,2,    0.098,2,   -999.0,9,   2247.7,2,   2364.0,2,  -999.0
    35MFCIVA_1, I06SA,    30,  1,   4000a,      4,2,19930228,1648,-53.0018,  30.0075, 5494,   4070.5,  -0.1229,  34.6604,2,  34.6600,2,    231.3,2, -0.4024,    231.5,2,   132.47,2,    33.46,2,     2.31,2,    0.209,2,    0.105,2,   -999.0,9,   2244.0,2,   2362.0,2,  -999.0
    35MFCIVA_1, I06SA,    30,  1,   4000b,      5,2,19930228,1648,-53.0018,  30.0075, 5494,   4070.8,  -0.1239,  34.6614,2,  34.6600,2,    231.3,2, -0.4034,    231.5,2,   131.59,2,    33.38,2,     2.31,2,    0.236,2,    0.111,2,   -999.0,9,   2246.0,2,   2362.0,2,  -999.0
    35MFCIVA_1, I06SA,    30,  1,   4500,      3,2,19930228,1648,-53.0018,  30.0075, 5494,   4587.3,  -0.2009,  34.6572,2,  34.6570,2,    238.9,2, -0.5315,    237.0,2,   133.35,2,    33.22,2,     2.32,2,    0.232,2,    0.096,2,   -999.0,9,   2227.9,3,   2362.0,2,  -999.0
    35MFCIVA_1, I06SA,    30,  1,   4750,      2,2,19930228,1648,-53.0018,  30.0075, 5494,   4844.9,  -0.1939,  34.6573,2,  34.6560,2,    240.8,2, -0.5527,    237.2,2,   133.78,2,    33.22,2,     2.31,2,    0.206,2,    0.098,2,   -999.0,9,   2244.7,2,   2360.0,2,  -999.0
    35MFCIVA_1, I06SA,    30,  1,   F-20,      1,2,19930228,1648,-53.0018,  30.0075, 5494,   5594.9,  -0.1939,  34.6540,2,  34.6540,2,    246.4,2, -0.6391,    241.4,2,   134.66,2,    33.22,2,     2.29,2,    0.203,2,    0.096,2,   -999.0,9,   2243.8,2,   2363.0,2,  -999.0
    35MFCIVA_1, I06SA,    30,  2,    400,     11,2,19930301,0537,-53.0015,  30.0077, 5498,    329.3,   1.7954,  34.4389,2,  34.4390,2,    192.0,2,  1.7781,    188.7,2,    77.42,2,    34.92,2,     2.50,2,    2.392,2,    0.598,3,   -999.0,9,   2243.7,2,   2331.0,2,  -999.0
    35MFCIVA_1, I06SA,    30,  2,    500,     10,2,19930301,0537,-53.0015,  30.0077, 5498,    403.9,   1.7764,  34.4906,2,  34.4910,2,    182.8,2,  1.7549,    182.4,2,    82.68,2,    34.99,2,     2.49,2,    1.411,2,    0.456,3,   -999.0,9,   2247.7,2,   2335.0,2,  -999.0
    35MFCIVA_1, I06SA,    30,  2,    600,      9,2,19930301,0537,-53.0015,  30.0077, 5498,    504.4,   2.2813,  34.6086,2,  34.6090,2,    176.4,2,  2.2518,    176.9,2,    81.24,2,    33.28,2,     2.38,2,    1.161,2,    0.145,3,   -999.0,9,   2243.4,2,   2341.0,2,  -999.0
    35MFCIVA_1, I06SA,    30,  2,    700,      8,2,19930301,0537,-53.0015,  30.0077, 5498,    605.8,   2.1663,  34.6389,2,  34.6390,2,    177.6,2,  2.1310,    176.4,2,    84.58,2,    33.20,2,     2.35,2,    0.410,3,    0.119,8,   -999.0,9,   2247.9,2,   2347.0,2,  -999.0
    35MFCIVA_1, I06SA,    30,  2,    800,      7,2,19930301,0537,-53.0015,  30.0077, 5498,    708.4,   2.2143,  34.6772,2,  34.6790,2,    178.7,2,  2.1720,    179.0,2,    84.58,2,    32.31,2,     2.27,2,    0.950,2,    0.103,3,   -999.0,9,   2243.4,2,   2348.0,2,  -999.0
    35MFCIVA_1, I06SA,    30,  2,    900,      6,2,19930301,0537,-53.0015,  30.0077, 5498,    809.6,   2.1973,  34.7090,2,  34.7100,2,    182.6,2,  2.1484,    183.2,2,    84.10,2,    31.64,2,     2.21,2,    0.248,2,    0.072,3,   -999.0,9,   2242.3,2,   2351.0,2,  -999.0
    35MFCIVA_1, I06SA,    30,  2,   1000,      5,2,19930301,0537,-53.0015,  30.0077, 5498,    909.6,   2.0433,  34.7151,2,  34.7190,2,    186.6,2,  1.9888,    185.5,2,    87.92,2,    31.56,2,     2.19,2,    0.176,2,    0.065,2,   -999.0,9,   2244.6,2,   2352.0,2,  -999.0
    35MFCIVA_1, I06SA,    30,  2,   1100,      4,2,19930301,0537,-53.0015,  30.0077, 5498,   1011.5,   1.9984,  34.7315,2,  34.7340,2,    190.5,2,  1.9372,    189.4,2,    87.92,2,    31.12,2,     2.16,2,    0.218,2,    0.059,3,   -999.0,9,   2246.4,2,   2353.0,2,  -999.0
    35MFCIVA_1, I06SA,    30,  2,   1200,      3,2,19930301,0537,-53.0015,  30.0077, 5498,   1111.0,   1.8744,  34.7306,2,  34.7320,2,    191.8,2,  1.8074,    190.6,2,    90.78,2,    31.56,2,     2.20,2,    0.184,2,    0.070,2,   -999.0,9,   2246.3,2,   2356.0,2,  -999.0
    35MFCIVA_1, I06SA,    30,  2,   1350a,      2,2,19930301,0537,-53.0015,  30.0077, 5498,   1211.9,   1.7444,  34.7370,2,  34.7330,2,    192.4,2,  1.6715,    193.9,2,    93.65,2,    31.19,2,     2.15,2,    0.218,2,    0.091,2,   -999.0,9,   2243.4,2,   2356.0,2,  -999.0
    35MFCIVA_1, I06SA,    30,  2,   1350b,      1,2,19930301,0537,-53.0015,  30.0077, 5498,   1373.4,   1.6274,  34.7449,2,  34.7470,2,    199.3,2,  1.5443,    198.6,2,    94.60,2,    30.74,2,     2.13,2,    0.238,2,    0.070,3,   -999.0,9,   2236.1,3,   2359.0,2,  -999.0
    35MFCIVA_1, I06SA,    30,  3,     10,     12,2,19930301,0738,-52.9998,  30.0002, 5498,     14.1,   3.1229,  33.8815,2,  33.8840,2,    290.9,2,  3.1221,    328.1,2,    37.68,2,    24.82,2,     1.67,2,    5.672,2,    2.631,2,   -999.0,9,   2139.3,2,   2302.0,2,  -999.0
    35MFCIVA_1, I06SA,    30,  3,     20,     11,2,19930301,0738,-52.9998,  30.0002, 5498,     23.3,   3.1259,  33.8819,2,  33.8850,2,    293.4,2,  3.1245,    328.0,2,    38.13,2,    25.27,2,     1.67,2,    5.682,2,    2.603,2,   -999.0,9,   2137.5,2,   2300.0,2,  -999.0
    35MFCIVA_1, I06SA,    30,  3,     40,     10,2,19930301,0738,-52.9998,  30.0002, 5498,     44.2,   3.1079,  33.8845,2,  33.8850,2,    296.0,2,  3.1053,    328.0,2,    41.23,2,    24.97,2,     1.67,2,    5.687,2,    2.581,2,   -999.0,9,   2139.9,2,   2302.0,2,  -999.0
    35MFCIVA_1, I06SA,    30,  3,     60,      9,2,19930301,0738,-52.9998,  30.0002, 5498,     65.1,   1.8044,  33.9099,2,  33.9170,2,    297.6,2,  1.8012,    333.5,2,    46.54,2,    26.64,2,     2.01,2,    5.686,2,    2.753,2,   -999.0,9,   2159.3,2,   2304.0,2,  -999.0
    35MFCIVA_1, I06SA,    30,  3,     80,      8,2,19930301,0738,-52.9998,  30.0002, 5498,     84.4,   0.7804,  33.9445,2,  33.9470,2,    306.0,2,  0.7770,    336.0,2,    46.54,2,    27.55,2,     1.99,2,    6.157,2,    2.902,2,   -999.0,9,   2167.3,2,   2304.0,2,  -999.0
    35MFCIVA_1, I06SA,    30,  3,    100,      7,3,19930301,0738,-52.9998,  30.0002, 5498,    105.1,   0.4424,  33.9535,2,  33.9520,2,    305.2,2,  0.4383,    334.8,2,    45.21,2,    27.78,2,     2.02,2,    6.300,2,    2.885,2,   -999.0,9,   2168.0,2,   2304.0,2,  -999.0
    35MFCIVA_1, I06SA,    30,  3,    125,      6,2,19930301,0738,-52.9998,  30.0002, 5498,    130.5,   0.1573,  33.9777,2,  33.9790,2,    299.5,2,  0.1525,    329.6,2,    42.10,2,    28.61,2,     2.03,2,    6.229,2,    2.813,2,   -999.0,9,   2172.6,2,   2299.0,2,  -999.0
    35MFCIVA_1, I06SA,    30,  3,    150,      5,2,19930301,0738,-52.9998,  30.0002, 5498,    156.1,   0.0132,  34.0272,2,  34.0280,2,    288.9,2,  0.0076,    318.1,2,    47.42,2,    29.68,2,     2.09,2,    6.117,2,    2.670,2,   -999.0,9,   2180.4,2,   2304.0,2,  -999.0
    35MFCIVA_1, I06SA,    30,  3,    175,      4,2,19930301,0738,-52.9998,  30.0002, 5498,    181.4,   0.3883,  34.0978,2,  34.1010,2,    272.9,2,  0.3813,    291.2,2,    47.86,2,    30.89,2,     2.16,2,    5.738,2,    2.233,3,   -999.0,9,   2190.4,2,   2307.0,2,  -999.0
    35MFCIVA_1, I06SA,    30,  3,    200,      3,2,19930301,0738,-52.9998,  30.0002, 5498,    205.1,   0.7754,  34.1854,2,  34.1820,2,    253.0,2,  0.7667,    264.1,2,    53.18,2,    32.26,2,     2.27,2,    4.821,2,    1.828,3,   -999.0,9,   2205.4,2,   2311.0,2,  -999.0
    35MFCIVA_1, I06SA,    30,  3,    250a,      1,2,19930301,0738,-52.9998,  30.0002, 5498,    257.2,   1.4075,  34.3221,2,  34.3230,2,    217.5,2,  1.3949,    218.7,2,    62.04,2,    34.24,2,     2.43,2,    3.914,2,    1.108,3,   -999.0,9,   2228.0,2,   2320.0,2,  -999.0
    35MFCIVA_1, I06SA,    30,  3,    250b,      2,2,19930301,0738,-52.9998,  30.0002, 5498,    258.2,   1.4145,  34.3228,2,  34.3210,2,    217.5,2,  1.4019,    219.3,2,    62.04,2,    34.32,2,     2.43,2,    2.448,2,    1.094,3,   -999.0,9,   2224.0,2,   2320.0,2,  -999.0