BOTTLE,20220922CCHSIOAMB
EXPOCODE,SECT_ID,STNNBR,CASTNO,SAMPNO,BTLNBR,BTLNBR_FLAG_W,DATE,TIME,LATITUDE,LONGITUDE,DEPTH,CTDPRS,CTDTMP,CTDSAL,CTDSAL_FLAG_W,SALNTY,SALNTY_FLAG_W,CTDOXY,CTDOXY_FLAG_W,THETA,OXYGEN,OXYGEN_FLAG_W,SILCAT,SILCAT_FLAG_W,NITRAT,NITRAT_FLAG_W,PHSPHT,PHSPHT_FLAG_W,CFC-11,CFC-11_FLAG_W,CFC-12,CFC-12_FLAG_W,DELC14,DELC14_FLAG_W,TCARBN,TCARBN_FLAG_W,ALKALI,ALKALI_FLAG_W,C14ERR
,,,,,,,,,,,,DBAR,ITS-90,PSS-78,,PSS-78,,UMOL/KG,,DEG C,UMOL/KG,,UMOL/KG,,UMOL/KG,,UMOL/KG,,PMOL/KG,,PMOL/KG,,/MILLE,,UMOL/KG,,UMOL/KG,,/MILLE
    35MFCIVA_1, I06SA,    49,  2,     10,     12,2,19930309,1101,-45.3498,  30.0075, 5165,     11.4,  10.8963,  34.4968,2,  34.4940,2,    269.3,2, 10.8949,    274.9,2,     1.87,2,     7.71,2,     0.68,2,    3.518,2,    2.019,4,   -999.0,9,   2058.2,2,   2300.0,2,  -999.0
    35MFCIVA_1, I06SA,    49,  2,     20,     11,2,19930309,1101,-45.3498,  30.0075, 5165,     20.8,  10.8973,  34.4967,2,  34.4940,2,    274.0,2, 10.8948,    275.0,2,     1.87,2,     7.71,2,     0.69,2,    3.549,2,    2.008,4,   -999.0,9,   2062.3,2,   2303.0,2,  -999.0
    35MFCIVA_1, I06SA,    49,  2,     40,     10,2,19930309,1101,-45.3498,  30.0075, 5165,     40.2,  10.8863,  34.4975,2,  34.4940,2,    273.3,2, 10.8814,    275.8,2,     1.87,2,     7.71,2,     0.69,2,    3.523,2,    1.986,4,   -999.0,9,   2064.2,2,   2301.0,2,  -999.0
    35MFCIVA_1, I06SA,    49,  2,     60,      9,2,19930309,1101,-45.3498,  30.0075, 5165,     59.8,  10.8703,  34.4998,2,  34.4950,2,    275.0,2, 10.8631,    274.5,2,     2.34,2,     7.86,2,     0.77,2,    3.538,2,    2.021,4,   -999.0,9,   2066.3,2,   2299.0,2,  -999.0
    35MFCIVA_1, I06SA,    49,  2,     80,      8,2,19930309,1101,-45.3498,  30.0075, 5165,     80.2,  10.4077,  34.4955,2,  34.4950,2,    271.9,2, 10.3983,    272.5,2,     2.34,2,     8.75,2,     0.77,2,    3.585,2,    2.038,4,   -999.0,9,   2077.8,2,   2303.0,2,  -999.0
    35MFCIVA_1, I06SA,    49,  2,    100,      7,2,19930309,1101,-45.3498,  30.0075, 5165,     99.3,   9.4095,  34.4632,2,  34.4620,2,    271.1,2,  9.3986,    269.5,2,     3.74,2,    10.97,2,     0.95,2,    3.767,2,    2.091,4,   -999.0,9,   2090.2,2,   2299.0,2,  -999.0
    35MFCIVA_1, I06SA,    49,  2,    125,      6,2,19930309,1101,-45.3498,  30.0075, 5165,    126.7,   8.7112,  34.4886,2,  34.4710,2,    270.2,2,  8.6978,    267.0,2,     6.07,2,    15.27,2,     1.11,2,    3.896,2,    2.124,4,   -999.0,9,   2103.4,2,   2295.0,2,  -999.0
    35MFCIVA_1, I06SA,    49,  2,    150,      5,2,19930309,1101,-45.3498,  30.0075, 5165,    150.2,   7.9109,  34.4122,2,  34.4110,2,    273.0,2,  7.8960,    273.1,2,     6.07,2,    16.60,2,     1.17,2,    3.944,2,    2.171,4,   -999.0,9,   2109.6,2,   2291.0,2,  -999.0
    35MFCIVA_1, I06SA,    49,  2,    175,      4,2,19930309,1101,-45.3498,  30.0075, 5165,    176.8,   7.7630,  34.4009,2,  34.4000,2,    274.7,2,  7.7456,    274.9,2,     6.07,2,    16.89,2,     1.19,2,    3.987,2,    2.234,4,   -999.0,9,   2099.6,2,   2291.0,2,  -999.0
    35MFCIVA_1, I06SA,    49,  2,    200,      3,2,19930309,1101,-45.3498,  30.0075, 5165,    203.7,   7.7251,  34.4029,2,  34.4000,2,    275.4,2,  7.7050,    276.6,2,     6.07,2,    16.82,2,     1.18,2,    3.991,2,    2.199,4,   -999.0,9,   2105.5,2,   2291.0,2,  -999.0
    35MFCIVA_1, I06SA,    49,  2,    250a,      2,2,19930309,1101,-45.3498,  30.0075, 5165,    255.1,   7.6382,  34.4080,2,  34.4060,2,    273.9,2,  7.6132,    274.8,2,     7.01,2,    17.26,2,     1.19,2,    3.900,2,    2.143,4,   -999.0,9,   2110.0,2,   2292.0,2,  -999.0
    35MFCIVA_1, I06SA,    49,  2,    250b,      1,2,19930309,1101,-45.3498,  30.0075, 5165,    259.1,   7.6252,  34.4081,2,  34.4050,2,    274.8,2,  7.5998,    275.0,2,     7.01,2,    17.34,2,     1.19,2,    3.908,2,    2.173,4,   -999.0,9,   2109.0,2,   2292.0,2,  -999.0
    35MFCIVA_1, I06SA,    50,  1,   1500,     12,2,19930309,1431,-45.0022,  29.9903, 5337,   1768.7,   2.6151,  34.6968,2,  34.6980,2,    184.5,2,  2.4892,    185.0,2,    74.96,2,    30.93,2,     2.13,2,    0.072,3,    0.000,3,   -999.0,9,   2236.3,2,   2354.0,2,  -999.0
    35MFCIVA_1, I06SA,    50,  1,   1750,     11,2,19930309,1431,-45.0022,  29.9903, 5337,   2020.9,   2.5352,  34.7609,2,  34.7620,2,    191.9,2,  2.3884,    196.9,2,    73.37,2,    29.11,2,     2.00,2,    0.036,3,    0.000,3,   -999.0,9,   2227.4,2,   2356.0,2,  -999.0
    35MFCIVA_1, I06SA,    50,  1,   2000,     10,2,19930309,1431,-45.0022,  29.9903, 5337,   2275.3,   2.3962,  34.7821,2,  34.7820,2,    200.8,2,  2.2288,    203.0,2,    74.42,2,    27.90,2,     1.92,2,    0.000,2,    0.000,4,   -999.0,9,   2224.8,2,   2355.0,2,  -999.0
    35MFCIVA_1, I06SA,    50,  1,   2250,      9,2,19930309,1431,-45.0022,  29.9903, 5337,   2530.1,   2.2583,  34.7956,2,  34.7960,2,    208.0,2,  2.0698,    208.9,2,    77.06,2,    27.90,2,     1.92,2,    0.000,3,    0.045,3,   -999.0,9,   2225.6,2,   2364.0,2,  -999.0
    35MFCIVA_1, I06SA,    50,  1,   2500,      8,2,19930309,1431,-45.0022,  29.9903, 5337,   3045.8,   1.8724,  34.7868,2,  34.7880,2,    211.6,2,  1.6424,    212.8,2,    88.67,2,    28.65,2,     1.97,2,    0.054,3,    0.000,3,   -999.0,9,   2241.6,2,   2372.0,2,  -999.0
    35MFCIVA_1, I06SA,    50,  1,   3000,      7,2,19930309,1431,-45.0022,  29.9903, 5337,   3555.6,   1.3485,  34.7469,2,  34.7480,2,    210.7,2,  1.0801,    211.5,2,   109.25,2,    30.78,2,     2.12,2,    0.046,3,    0.000,3,   -999.0,9,   2231.0,3,   2371.0,2,  -999.0
    35MFCIVA_1, I06SA,    50,  1,   3500,      6,2,19930309,1431,-45.0022,  29.9903, 5337,   3555.6,   1.3485,  34.7469,2,  34.7480,2,    210.7,2,  1.0801,    211.0,2,   109.25,2,    31.08,2,     2.14,2,    0.000,3,    0.000,3,   -999.0,9,   2252.0,2,   -999.0,9,  -999.0
    35MFCIVA_1, I06SA,    50,  1,   4000,      5,2,19930309,1431,-45.0022,  29.9903, 5337,   4071.0,   0.9275,  34.7128,2,  34.7140,2,    213.7,2,  0.6171,    212.2,2,   125.08,2,    32.14,2,     2.21,2,    0.103,3,    0.000,3,   -999.0,9,   2271.0,2,   2374.0,2,  -999.0
    35MFCIVA_1, I06SA,    50,  1,   4500,      4,2,19930309,1431,-45.0022,  29.9903, 5337,   4582.7,   0.5524,  34.6864,2,  34.6870,2,    216.1,2,  0.1979,    215.6,2,   138.28,2,    33.66,2,     2.31,2,    0.132,2,    0.058,4,   -999.0,9,   2262.0,2,   2373.0,2,  -999.0
    35MFCIVA_1, I06SA,    50,  1,   5000,      3,2,19930309,1431,-45.0022,  29.9903, 5337,   4837.3,   0.4143,  34.6790,2,  34.6780,2,    219.7,2,  0.0358,    219.8,2,   141.44,2,    33.51,2,     2.30,2,    0.137,2,    0.058,4,   -999.0,9,   2268.2,2,   2372.0,2,  -999.0
    35MFCIVA_1, I06SA,    50,  1,   5250,      2,2,19930309,1431,-45.0022,  29.9903, 5337,   5096.8,   0.2873,  34.6698,2,  34.6710,2,    224.5,2, -0.1166,    223.6,2,   143.03,2,    33.73,2,     2.32,2,    0.209,2,    0.096,4,   -999.0,9,   2286.6,2,   2370.0,2,  -999.0
    35MFCIVA_1, I06SA,    50,  1,   F-20,      1,2,19930309,1431,-45.0022,  29.9903, 5337,   5488.4,   0.2443,  34.6673,2,  34.6670,2,    229.2,2, -0.2045,    226.4,2,   142.50,2,    33.20,2,     2.28,2,    0.172,2,    0.079,4,   -999.0,9,   2223.9,3,   2370.0,2,  -999.0
    35MFCIVA_1, I06SA,    50,  2,    325,     12,2,19930309,1832,-45.0037,  29.9928, 5385,    327.9,   6.8359,  34.3325,2,  34.3320,2,    275.5,2,  6.8057,    272.3,2,     9.01,2,    18.96,2,     1.34,2,    3.933,2,    2.079,4,   -999.0,9,   2120.3,2,   2296.0,2,  -999.0
    35MFCIVA_1, I06SA,    50,  2,    400,     11,2,19930309,1832,-45.0037,  29.9928, 5385,    400.4,   6.1056,  34.2454,2,  34.2470,2,    279.4,2,  6.0707,    278.7,2,     9.54,2,    19.34,2,     1.42,2,    4.102,2,    2.148,4,   -999.0,9,   2121.5,2,   2292.0,2,  -999.0
    35MFCIVA_1, I06SA,    50,  2,    500,     10,2,19930309,1832,-45.0037,  29.9928, 5385,    503.0,   5.7609,  34.3053,2,  34.3030,2,    241.9,2,  5.7180,    239.9,2,    15.36,2,    24.87,2,     1.70,2,    3.033,2,    1.640,4,   -999.0,9,   2149.9,2,   2297.0,2,  -999.0
    35MFCIVA_1, I06SA,    50,  2,    600,      9,2,19930309,1832,-45.0037,  29.9928, 5385,    601.7,   5.0176,  34.2830,2,  34.2810,2,    238.6,2,  4.9693,    235.3,2,    20.13,2,    27.24,2,     1.88,2,    2.635,2,    1.330,4,   -999.0,9,   2159.7,2,   2299.0,2,  -999.0
    35MFCIVA_1, I06SA,    50,  2,    700,      8,2,19930309,1832,-45.0037,  29.9928, 5385,    702.5,   4.3621,  34.2785,2,  34.2770,2,    230.8,2,  4.3088,    230.5,2,    26.48,2,    28.24,2,     2.00,2,    2.148,2,    1.073,4,   -999.0,9,   2174.8,2,   2305.0,2,  -999.0
    35MFCIVA_1, I06SA,    50,  2,    800,      7,2,19930309,1832,-45.0037,  29.9928, 5385,    806.4,   3.8764,  34.2928,2,-999.0000,5,    225.2,2,  3.8177,    228.1,2,  -999.00,5,  -999.00,5,  -999.00,5,    1.851,2,    0.933,4,   -999.0,9,   2166.8,3,   2306.0,2,  -999.0
    35MFCIVA_1, I06SA,    50,  2,    900,      6,2,19930309,1832,-45.0037,  29.9928, 5385,    906.6,   3.4577,  34.3160,2,  34.3150,2,    215.4,2,  3.3939,    214.4,2,    41.30,2,    31.61,2,     2.18,2,    1.438,2,    0.710,4,   -999.0,9,   2193.6,2,   2318.0,2,  -999.0
    35MFCIVA_1, I06SA,    50,  2,   1000,      5,2,19930309,1832,-45.0037,  29.9928, 5385,   1005.0,   3.2228,  34.3586,2,  34.3560,2,    206.1,2,  3.1531,    203.6,2,    49.77,2,    32.23,2,     2.27,2,    1.092,2,    0.508,4,   -999.0,9,   2217.8,2,   2325.0,2,  -999.0
    35MFCIVA_1, I06SA,    50,  2,   1100,      4,2,19930309,1832,-45.0037,  29.9928, 5385,   1109.4,   2.9840,  34.4073,2,  34.4060,2,    194.3,2,  2.9080,    193.2,2,    58.24,2,    33.91,2,     2.30,2,    0.773,2,    0.368,4,   -999.0,9,   2222.5,2,   2331.0,2,  -999.0
    35MFCIVA_1, I06SA,    50,  2,   1200,      3,2,19930309,1832,-45.0037,  29.9928, 5385,   1211.6,   2.9010,  34.4633,2,  34.4620,2,    183.3,2,  2.8178,    184.3,2,    64.59,2,    34.60,2,     2.33,2,    0.513,2,    0.221,4,   -999.0,9,   2230.9,2,   2337.0,2,  -999.0
    35MFCIVA_1, I06SA,    50,  2,   1350a,      1,2,19930309,1832,-45.0037,  29.9928, 5385,   1366.3,   2.7371,  34.5484,2,  34.5490,2,    178.4,2,  2.6431,    177.2,2,    73.06,2,    33.45,2,     2.28,2,    0.226,2,    0.109,4,   -999.0,9,   2229.0,3,   2346.0,2,  -999.0
    35MFCIVA_1, I06SA,    50,  2,   1350b,      2,2,19930309,1832,-45.0037,  29.9928, 5385,   1366.8,   2.7351,  34.5502,2,  34.5500,2,    178.6,2,  2.6411,    177.1,2,    72.53,2,    34.75,2,     2.30,2,    0.238,2,    0.109,4,   -999.0,9,   2245.0,2,   2346.0,2,  -999.0
    35MFCIVA_1, I06SA,    50,  3,     10,     12,2,19930309,2007,-45.0237,  29.9697, 5332,      9.3,  10.7025,  34.4389,2,  34.4370,2,    275.3,2, 10.7013,    277.0,2,     1.51,2,     7.86,2,     0.78,2,    3.671,2,    2.007,4,   -999.0,9,   2036.3,2,   2299.0,2,  -999.0
    35MFCIVA_1, I06SA,    50,  3,     20,     11,2,19930309,2007,-45.0237,  29.9697, 5332,     19.9,  10.7074,  34.4385,2,  34.4370,2,    279.0,2, 10.7051,    276.6,2,     1.51,2,     6.76,2,     0.69,2,    3.693,2,    1.989,4,   -999.0,9,   2065.1,2,   2301.0,2,  -999.0
    35MFCIVA_1, I06SA,    50,  3,     40,     10,2,19930309,2007,-45.0237,  29.9697, 5332,     38.5,  10.7114,  34.4395,2,  34.4370,2,    282.7,2, 10.7068,    276.7,2,     1.51,2,     6.76,2,     0.66,2,    3.645,2,    1.972,4,   -999.0,9,   2066.2,2,   2300.0,2,  -999.0
    35MFCIVA_1, I06SA,    50,  3,     60,      9,2,19930309,2007,-45.0237,  29.9697, 5332,     59.3,  10.7184,  34.4447,2,  34.4400,2,    280.7,2, 10.7113,    276.4,2,     1.51,2,     7.64,2,     0.68,2,    3.665,2,    1.987,4,   -999.0,9,   2067.4,2,   2301.0,2,  -999.0
    35MFCIVA_1, I06SA,    50,  3,     80,      8,2,19930309,2007,-45.0237,  29.9697, 5332,     80.3,  10.3018,  34.4674,2,  34.4640,2,    272.8,2, 10.2924,    272.6,2,     2.01,2,     8.45,2,     0.78,2,    3.704,2,    1.962,4,   -999.0,9,   2076.2,2,   2301.0,2,  -999.0
    35MFCIVA_1, I06SA,    50,  3,    100,      7,2,19930309,2007,-45.0237,  29.9697, 5332,     99.1,  10.0750,  34.6375,2,  34.6330,2,    269.2,2, 10.0635,    259.3,2,     4.02,2,     8.96,2,     0.81,2,    3.570,2,    1.966,4,   -999.0,9,   2092.7,2,   2309.0,2,  -999.0
    35MFCIVA_1, I06SA,    50,  3,    125,      6,2,19930309,2007,-45.0237,  29.9697, 5332,    126.2,  10.3527,  34.8007,2,  34.8020,2,    250.1,2, 10.3379,    235.3,2,     8.03,2,    13.45,2,     0.99,2,    2.971,2,    1.605,4,   -999.0,9,   2112.1,2,   2312.0,2,  -999.0
    35MFCIVA_1, I06SA,    50,  3,    150,      5,2,19930309,2007,-45.0237,  29.9697, 5332,    152.0,   9.3016,  34.6376,2,  34.6180,2,    252.6,2,  9.2849,    251.5,2,     7.53,2,    14.62,2,     0.99,2,    3.460,2,    1.856,4,   -999.0,9,   2111.0,2,   2306.0,2,  -999.0
    35MFCIVA_1, I06SA,    50,  3,    175,      4,2,19930309,2007,-45.0237,  29.9697, 5332,    176.0,   8.7301,  34.5691,2,  34.5660,2,    258.4,2,  8.7115,    255.3,2,     7.53,2,    15.14,2,     1.10,2,    3.531,2,    1.859,4,   -999.0,9,   2112.1,2,   2303.0,2,  -999.0
    35MFCIVA_1, I06SA,    50,  3,    200,      3,2,19930309,2007,-45.0237,  29.9697, 5332,    199.0,   8.5013,  34.5422,2,  34.5400,2,    262.5,2,  8.4806,    257.8,2,     8.03,2,    15.43,2,     1.12,2,    3.603,2,    1.916,4,   -999.0,9,   2113.8,2,   2303.0,2,  -999.0
    35MFCIVA_1, I06SA,    50,  3,    250a,      2,2,19930309,2007,-45.0237,  29.9697, 5332,    239.7,   7.9179,  34.4711,2,  34.4720,2,    263.6,2,  7.8939,    263.0,2,     8.03,2,    16.90,2,     1.20,2,    3.712,2,    1.979,4,   -999.0,9,   2115.8,2,   2299.0,2,  -999.0
    35MFCIVA_1, I06SA,    50,  3,    250b,      1,2,19930309,2007,-45.0237,  29.9697, 5332,    246.7,   7.8400,  34.4608,2,  34.4680,2,    266.1,2,  7.8154,    263.0,2,     8.54,2,    16.82,2,     1.18,2,    3.707,2,    1.975,4,   -999.0,9,   2115.9,2,   2300.0,2,  -999.0
    35MFCIVA_1, I06SA,    51,  1,   1500,     12,2,19930310,0037,-44.5188,  29.9895, 5310,   1768.5,   2.6351,  34.7265,2,  34.7280,2,    186.0,2,  2.5088,    189.9,2,    69.68,2,    29.54,2,     2.06,2,    0.000,3,    0.065,3,   -999.0,9,   2243.5,2,   2354.0,2,  -999.0
    35MFCIVA_1, I06SA,    51,  1,   1750,     11,2,19930310,0037,-44.5188,  29.9895, 5310,   2021.5,   2.5552,  34.7818,2,  34.7830,2,    197.4,2,  2.4079,    202.6,2,    66.66,2,    27.38,2,     1.91,2,    0.000,2,    0.000,4,   -999.0,9,   2236.8,2,   2357.0,2,  -999.0
    35MFCIVA_1, I06SA,    51,  1,   2000,     10,2,19930310,0037,-44.5188,  29.9895, 5310,   2272.7,   2.4472,  34.8019,2,  34.8020,2,    204.0,2,  2.2791,    209.7,2,    68.17,2,    26.71,2,     1.85,2,    0.000,2,    0.000,4,   -999.0,9,   2230.9,2,   2357.0,2,  -999.0
    35MFCIVA_1, I06SA,    51,  1,   2250,      9,2,19930310,0037,-44.5188,  29.9895, 5310,   2531.3,   2.2953,  34.8079,2,  34.8090,2,    209.7,2,  2.1059,    213.4,2,    70.17,2,    26.33,2,     1.83,2,    0.000,2,    0.000,4,   -999.0,9,   2232.5,2,   2365.0,2,  -999.0
    35MFCIVA_1, I06SA,    51,  1,   2500,      8,2,19930310,0037,-44.5188,  29.9895, 5310,   3033.8,   1.9634,  34.8005,2,  34.8020,2,    213.3,2,  1.7325,    216.4,2,    79.19,2,    26.78,2,     1.87,2,    0.000,2,    0.000,4,   -999.0,9,   2235.0,2,   2373.0,2,  -999.0
    35MFCIVA_1, I06SA,    51,  1,   3000,      7,2,19930310,0037,-44.5188,  29.9895, 5310,   3556.4,   1.3955,  34.7531,2,  34.7530,2,    211.6,2,  1.1258,    213.1,2,   102.24,2,    29.24,2,     2.01,2,    0.000,2,    0.000,4,   -999.0,9,   2246.5,2,   2376.0,2,  -999.0
    35MFCIVA_1, I06SA,    51,  1,   3500,      6,2,19930310,0037,-44.5188,  29.9895, 5310,   4067.9,   0.9655,  34.7219,2,  34.7240,2,    214.2,2,  0.6542,    214.8,2,   117.28,2,    30.43,2,     2.11,2,    0.000,2,    0.000,4,   -999.0,9,   2235.5,3,   2377.0,2,  -999.0
    35MFCIVA_1, I06SA,    51,  1,   4000,      5,2,19930310,0037,-44.5188,  29.9895, 5310,   4581.1,   0.5704,  34.6903,2,  34.6910,2,    218.9,2,  0.2155,    217.4,2,   130.31,2,    31.78,2,     2.23,2,    0.105,3,    0.000,3,   -999.0,9,   2261.9,2,   2373.0,2,  -999.0
    35MFCIVA_1, I06SA,    51,  1,   4500,      4,2,19930310,0037,-44.5188,  29.9895, 5310,   4831.8,   0.4284,  34.6788,2,  34.6800,2,    222.0,2,  0.0500,    220.0,2,   135.32,2,    32.00,2,     2.24,2,    0.136,2,    0.094,4,   -999.0,9,   2252.8,2,   2372.0,2,  -999.0
    35MFCIVA_1, I06SA,    51,  1,   4750,      3,2,19930310,0037,-44.5188,  29.9895, 5310,   5094.1,   0.2533,  34.6697,2,  34.6710,2,    227.4,2, -0.1491,    225.0,2,   136.83,2,    32.22,2,     2.26,2,    0.179,2,    0.118,4,   -999.0,9,   2245.9,2,   2373.0,2,  -999.0
    35MFCIVA_1, I06SA,    51,  1,   5000,      2,2,19930310,0037,-44.5188,  29.9895, 5310,   5397.8,   0.2223,  34.6668,2,  34.6660,2,    227.9,2, -0.2148,    226.5,2,   137.83,2,    32.22,2,     2.28,2,    0.190,2,    0.111,4,   -999.0,9,   2250.5,2,   2375.0,2,  -999.0
    35MFCIVA_1, I06SA,    51,  1,   F-20,      1,2,19930310,0037,-44.5188,  29.9895, 5310,   5397.8,   0.2223,  34.6668,2,  34.6670,2,    227.9,2, -0.2148,    227.6,2,   137.33,2,    32.22,2,     2.24,2,    0.153,2,    0.094,4,   -999.0,9,   2242.7,2,   -999.0,9,  -999.0