BOTTLE,20220922CCHSIOAMB
EXPOCODE,SECT_ID,STNNBR,CASTNO,SAMPNO,BTLNBR,BTLNBR_FLAG_W,DATE,TIME,LATITUDE,LONGITUDE,DEPTH,CTDPRS,CTDTMP,CTDSAL,CTDSAL_FLAG_W,SALNTY,SALNTY_FLAG_W,CTDOXY,CTDOXY_FLAG_W,THETA,OXYGEN,OXYGEN_FLAG_W,SILCAT,SILCAT_FLAG_W,NITRAT,NITRAT_FLAG_W,PHSPHT,PHSPHT_FLAG_W,CFC-11,CFC-11_FLAG_W,CFC-12,CFC-12_FLAG_W,DELC14,DELC14_FLAG_W,TCARBN,TCARBN_FLAG_W,ALKALI,ALKALI_FLAG_W,C14ERR
,,,,,,,,,,,,DBAR,ITS-90,PSS-78,,PSS-78,,UMOL/KG,,DEG C,UMOL/KG,,UMOL/KG,,UMOL/KG,,UMOL/KG,,PMOL/KG,,PMOL/KG,,/MILLE,,UMOL/KG,,UMOL/KG,,/MILLE
    35MFCIVA_1, I06SA,    51,  2,    325,     12,2,19930310,0412,-44.4982,  30.0048, 5290,    327.2,   6.3154,  34.3310,2,  34.3290,2,    249.8,2,  6.2865,    249.1,2,    11.99,2,    22.15,2,     1.61,2,    3.240,2,    1.703,4,   -999.0,9,   2146.9,2,   2298.0,2,  -999.0
    35MFCIVA_1, I06SA,    51,  2,    400,     11,2,19930310,0412,-44.4982,  30.0048, 5290,    401.4,   5.4662,  34.2725,2,  34.2760,2,    238.7,2,  5.4332,    245.2,2,    14.98,2,    24.54,2,     1.76,2,    3.119,2,    1.608,4,   -999.0,9,   2160.5,2,   2297.0,2,  -999.0
    35MFCIVA_1, I06SA,    51,  2,    500,     10,2,19930310,0412,-44.4982,  30.0048, 5290,    505.2,   5.0096,  34.2844,2,  34.2850,2,    234.5,2,  4.9694,    233.7,2,    19.47,2,    26.93,2,     1.92,2,    2.581,2,    1.332,4,   -999.0,9,   2172.5,2,   2299.0,2,  -999.0
    35MFCIVA_1, I06SA,    51,  2,    600,      9,2,19930310,0412,-44.4982,  30.0048, 5290,    604.4,   4.4210,  34.2768,2,  34.2710,2,    230.5,2,  4.3754,    232.2,2,    23.97,2,    28.35,2,     2.06,2,    2.270,2,    1.147,4,   -999.0,9,   2182.3,2,   2302.0,2,  -999.0
    35MFCIVA_1, I06SA,    51,  2,    700,      8,2,19930310,0412,-44.4982,  30.0048, 5290,    703.3,   4.0353,  34.2972,2,  34.2960,2,    221.6,2,  3.9837,    222.2,2,    30.95,2,    29.77,2,     2.13,2,    1.804,2,    0.946,4,   -999.0,9,   2197.9,2,   2308.0,2,  -999.0
    35MFCIVA_1, I06SA,    51,  2,    800,      7,2,19930310,0412,-44.4982,  30.0048, 5290,    803.2,   3.4817,  34.2927,2,  34.2910,2,    220.8,2,  3.4256,    220.0,2,    36.44,2,    31.12,2,     2.22,2,    1.691,2,    0.890,4,   -999.0,9,   2201.9,2,   2313.0,2,  -999.0
    35MFCIVA_1, I06SA,    51,  2,    900,      6,2,19930310,0412,-44.4982,  30.0048, 5290,    905.8,   3.1449,  34.3365,2,  34.3360,2,    209.1,2,  3.0833,    207.8,2,    45.43,2,    32.16,2,     2.29,2,    1.207,2,    0.645,4,   -999.0,9,   2190.8,3,   2321.0,2,  -999.0
    35MFCIVA_1, I06SA,    51,  2,   1000,      5,2,19930310,0412,-44.4982,  30.0048, 5290,   1008.2,   2.9240,  34.3668,2,  34.3690,2,    200.1,2,  2.8563,    200.2,2,    51.92,2,    32.91,2,     2.38,2,    0.975,2,    0.525,4,   -999.0,9,   -999.0,5,   2326.0,2,  -999.0
    35MFCIVA_1, I06SA,    51,  2,   1200,      4,2,19930310,0412,-44.4982,  30.0048, 5290,   1109.3,   2.7981,  34.4199,2,  34.4190,2,    190.0,2,  2.7237,    190.6,2,    58.40,2,    33.51,2,     2.38,2,    0.685,2,    0.385,4,   -999.0,9,   2239.0,2,   2332.0,2,  -999.0
    35MFCIVA_1, I06SA,    51,  2,   1400,      3,2,19930310,0412,-44.4982,  30.0048, 5290,   1208.2,   2.6871,  34.4770,2,  34.4740,2,    184.0,2,  2.6061,    183.7,2,    64.39,2,    33.58,2,     2.38,2,    0.472,2,    0.251,4,   -999.0,9,   2252.4,2,   2338.0,2,  -999.0
    35MFCIVA_1, I06SA,    51,  2,   1600a,      2,2,19930310,0412,-44.4982,  30.0048, 5290,   1364.0,   2.7161,  34.5755,2,  34.5750,2,    176.1,2,  2.6225,    176.1,2,    70.37,2,    32.98,2,     2.35,2,    0.167,2,    0.109,4,   -999.0,9,   2252.0,2,   2348.0,2,  -999.0
    35MFCIVA_1, I06SA,    51,  2,   1600b,      1,2,19930310,0412,-44.4982,  30.0048, 5290,   1364.4,   2.7121,  34.5759,2,  34.5740,2,    176.1,2,  2.6185,    176.1,2,    70.87,2,    32.98,2,     2.37,2,    0.209,2,    0.119,4,   -999.0,9,   2249.0,2,   2348.0,2,  -999.0
    35MFCIVA_1, I06SA,    51,  3,     10,     12,2,19930310,0549,-44.4983,  30.0013, 5325,     10.4,  12.0485,  34.4487,2,  34.4460,2,    259.4,2, 12.0471,    270.9,2,     2.38,2,     5.93,2,     0.64,2,    3.427,2,    1.877,4,   -999.0,9,   2061.1,2,   2300.0,2,  -999.0
    35MFCIVA_1, I06SA,    51,  3,     20,     11,2,19930310,0549,-44.4983,  30.0013, 5325,     21.0,  12.0485,  34.4490,2,  34.4450,2,    263.6,2, 12.0458,    270.2,2,     1.43,2,     6.07,2,     0.63,2,    3.409,2,    1.877,4,   -999.0,9,   2062.0,2,   2301.0,2,  -999.0
    35MFCIVA_1, I06SA,    51,  3,     40,     10,2,19930310,0549,-44.4983,  30.0013, 5325,     40.3,  12.0505,  34.4525,2,  34.4460,2,    268.4,2, 12.0453,    270.4,2,     1.43,2,     6.07,2,     0.59,2,    3.395,2,    1.848,4,   -999.0,9,   2064.3,2,   2300.0,2,  -999.0
    35MFCIVA_1, I06SA,    51,  3,     60,      9,2,19930310,0549,-44.4983,  30.0013, 5325,     56.4,  10.6265,  34.5671,2,  34.5630,2,    259.3,2, 10.6198,    265.8,2,     1.91,2,     8.52,2,     0.80,2,    3.567,2,    1.974,4,   -999.0,9,   2095.7,2,   2305.0,2,  -999.0
    35MFCIVA_1, I06SA,    51,  3,     80,      8,2,19930310,0549,-44.4983,  30.0013, 5325,     77.3,  10.0320,  34.5548,2,  34.5570,2,    264.9,2, 10.0231,    266.6,2,     2.86,2,     9.85,2,     0.86,2,    3.682,2,    1.983,4,   -999.0,9,   2087.1,2,   2310.0,2,  -999.0
    35MFCIVA_1, I06SA,    51,  3,    100,      7,2,19930310,0549,-44.4983,  30.0013, 5325,    100.8,   9.2307,  34.5251,2,  34.5280,2,    268.1,2,  9.2197,    259.3,2,     4.76,2,    13.47,2,     1.09,2,    3.751,2,    1.932,4,   -999.0,9,   2112.0,2,   2301.0,2,  -999.0
    35MFCIVA_1, I06SA,    51,  3,    125,      6,2,19930310,0549,-44.4983,  30.0013, 5325,    125.7,   8.7571,  34.5590,2,  34.5570,2,    256.7,2,  8.7438,    252.2,2,     7.62,2,    15.55,2,     1.18,2,    3.519,2,    1.866,4,   -999.0,9,   2115.8,2,   2305.0,2,  -999.0
    35MFCIVA_1, I06SA,    51,  3,    150,      5,2,19930310,0549,-44.4983,  30.0013, 5325,    150.3,   8.5193,  34.5602,2,  34.5600,2,    247.8,2,  8.5037,    249.2,2,     7.62,2,    16.43,2,     1.21,2,    3.319,2,    1.776,4,   -999.0,9,   2127.9,2,   2306.0,2,  -999.0
    35MFCIVA_1, I06SA,    51,  3,    175,      4,2,19930310,0549,-44.4983,  30.0013, 5325,    175.2,   8.1157,  34.5052,2,  34.5030,2,    250.8,2,  8.0980,    254.9,2,     8.10,2,    16.88,2,     1.29,2,    3.495,2,    1.911,4,   -999.0,9,   2128.8,2,   2304.0,2,  -999.0
    35MFCIVA_1, I06SA,    51,  3,    200,      3,2,19930310,0549,-44.4983,  30.0013, 5325,    201.2,   7.5562,  34.4369,2,  34.4360,2,    255.1,2,  7.5367,    258.8,2,     8.58,2,    17.84,2,     1.31,2,    3.609,2,    1.810,4,   -999.0,9,   2129.5,2,   2300.0,2,  -999.0
    35MFCIVA_1, I06SA,    51,  3,    250a,      2,2,19930310,0549,-44.4983,  30.0013, 5325,    253.3,   6.4653,  34.2959,2,  34.2950,2,    268.5,2,  6.4427,    271.3,2,     8.10,2,    19.54,2,     1.41,2,    3.909,2,    2.138,4,   -999.0,9,   2131.0,2,   2294.0,2,  -999.0
    35MFCIVA_1, I06SA,    51,  3,    250b,      1,2,19930310,0549,-44.4983,  30.0013, 5325,    254.6,   6.4603,  34.2947,2,  34.2950,2,    268.6,2,  6.4376,    270.6,2,     8.57,2,    19.54,2,     1.43,2,    3.908,2,    2.128,4,   -999.0,9,   2133.0,2,   2294.0,2,  -999.0