BOTTLE,20220922CCHSIOAMB
EXPOCODE,SECT_ID,STNNBR,CASTNO,SAMPNO,BTLNBR,BTLNBR_FLAG_W,DATE,TIME,LATITUDE,LONGITUDE,DEPTH,CTDPRS,CTDTMP,CTDSAL,CTDSAL_FLAG_W,SALNTY,SALNTY_FLAG_W,CTDOXY,CTDOXY_FLAG_W,THETA,OXYGEN,OXYGEN_FLAG_W,SILCAT,SILCAT_FLAG_W,NITRAT,NITRAT_FLAG_W,PHSPHT,PHSPHT_FLAG_W,CFC-11,CFC-11_FLAG_W,CFC-12,CFC-12_FLAG_W,DELC14,DELC14_FLAG_W,TCARBN,TCARBN_FLAG_W,ALKALI,ALKALI_FLAG_W,C14ERR
,,,,,,,,,,,,DBAR,ITS-90,PSS-78,,PSS-78,,UMOL/KG,,DEG C,UMOL/KG,,UMOL/KG,,UMOL/KG,,UMOL/KG,,PMOL/KG,,PMOL/KG,,/MILLE,,UMOL/KG,,UMOL/KG,,/MILLE
    35MFCIVA_1, I06SA,    13,  1,   1750,     12,2,19930209,1415,-64.3400,  30.0023, 5070,   2024.8,   0.1723,  34.6765,2,  34.6740,2,    212.4,2,  0.0621,    215.6,2,   140.22,2,  -999.00,5,  -999.00,5,    0.334,4,    0.074,2,   -999.0,9,   2264.8,2,   2358.0,2,  -999.0
    35MFCIVA_1, I06SA,    13,  1,   2000,     11,2,19930209,1415,-64.3400,  30.0023, 5070,   2279.8,   0.0712,  34.6719,2,  34.6700,2,    215.7,2, -0.0559,    219.7,2,   140.22,2,  -999.00,5,  -999.00,5,    0.182,2,    0.086,2,   -999.0,9,   2268.2,3,   2364.0,2,  -999.0
    35MFCIVA_1, I06SA,    13,  1,   2250,     10,2,19930209,1415,-64.3400,  30.0023, 5070,   2535.8,  -0.0098,  34.6678,2,  34.6670,2,    218.9,2, -0.1550,    224.4,2,   140.22,2,  -999.00,5,  -999.00,5,    0.185,2,    0.081,2,   -999.0,9,   2259.2,2,   2358.0,2,  -999.0
    35MFCIVA_1, I06SA,    13,  1,   2500,      9,2,19930209,1415,-64.3400,  30.0023, 5070,   2790.1,  -0.0809,  34.6650,2,  34.6640,2,    226.9,2, -0.2449,    227.8,2,  -999.00,5,  -999.00,5,  -999.00,5,    0.210,2,    0.092,2,   -999.0,9,   2259.0,2,   2357.0,2,  -999.0
    35MFCIVA_1, I06SA,    13,  1,   2750,      8,2,19930209,1415,-64.3400,  30.0023, 5070,   3047.0,  -0.1299,  34.6598,2,  34.6620,2,    226.7,2, -0.3143,    230.6,2,   139.39,2,  -999.00,5,  -999.00,5,    0.223,2,    0.086,3,   -999.0,9,   2257.8,2,   2357.0,2,  -999.0
    35MFCIVA_1, I06SA,    13,  1,   3000,      7,2,19930209,1415,-64.3400,  30.0023, 5070,   3304.1,  -0.1789,  34.6608,2,  34.6590,2,    232.4,2, -0.3845,    233.4,2,   140.22,2,  -999.00,5,  -999.00,5,    0.225,3,    0.085,2,   -999.0,9,   2256.4,2,   2354.0,2,  -999.0
    35MFCIVA_1, I06SA,    13,  1,   3250,      6,2,19930209,1415,-64.3400,  30.0023, 5070,   3559.7,  -0.2169,  34.6580,2,  34.6590,2,    235.8,2, -0.4447,    236.2,2,   140.22,2,  -999.00,5,  -999.00,5,    0.211,2,    0.088,2,   -999.0,9,   2255.9,2,   2353.0,2,  -999.0
    35MFCIVA_1, I06SA,    13,  1,   4000a,      4,2,19930209,1415,-64.3400,  30.0023, 5070,   4074.5,  -0.2730,  34.6567,2,  34.6550,2,    240.4,2, -0.5485,    240.1,2,   141.05,2,  -999.00,5,  -999.00,5,    0.245,2,    0.105,2,   -999.0,9,   2254.0,2,   2358.0,2,  -999.0
    35MFCIVA_1, I06SA,    13,  1,   3500,      5,2,19930209,1415,-64.3400,  30.0023, 5070,   4074.8,  -0.2730,  34.6566,2,  34.6550,2,    240.4,2, -0.5485,    239.9,2,   140.64,2,  -999.00,5,  -999.00,5,    0.227,2,    0.102,2,   -999.0,9,   2253.2,2,   2355.0,2,  -999.0
    35MFCIVA_1, I06SA,    13,  1,   4000b,      3,2,19930209,1415,-64.3400,  30.0023, 5070,   4589.2,  -0.3020,  34.6548,2,  34.6530,2,    242.8,2, -0.6295,    242.9,2,   142.71,2,  -999.00,5,  -999.00,5,    0.176,2,    0.071,2,   -999.0,9,   2252.0,2,   2356.0,2,  -999.0
    35MFCIVA_1, I06SA,    13,  1,   4500,      2,2,19930209,1415,-64.3400,  30.0023, 5070,   5124.7,  -0.3220,  34.6502,2,  34.6510,2,    245.8,2, -0.7076,    244.9,2,   150.18,2,  -999.00,5,  -999.00,5,    0.232,2,    0.092,2,   -999.0,9,   2251.9,2,   2357.0,2,  -999.0
    35MFCIVA_1, I06SA,    13,  1,   F-20,      1,2,19930209,1415,-64.3400,  30.0023, 5070,   5124.7,  -0.3220,  34.6502,2,  34.6510,2,    245.8,2, -0.7076,    244.7,2,   149.76,2,  -999.00,5,  -999.00,5,    0.190,2,    0.082,2,   -999.0,9,   2243.1,3,   -999.0,9,  -999.0
    35MFCIVA_1, I06SA,    13,  2,    325,     12,2,19930209,1113,-64.3363,  29.9957, 5070,    326.6,   1.5125,  34.6883,2,  34.6880,2,    187.7,2,  1.4959,    188.1,2,   109.78,2,    32.53,2,     2.41,2,    0.485,2,    0.201,3,   -999.0,9,   2258.0,2,   2355.0,2,  -999.0
    35MFCIVA_1, I06SA,    13,  2,    400,     11,2,19930209,1113,-64.3363,  29.9957, 5070,    402.1,   1.4435,  34.7060,2,  34.7050,2,    189.7,2,  1.4230,    191.2,2,   108.88,2,    32.16,2,     2.39,2,    0.420,2,    0.183,2,   -999.0,9,   2256.0,2,   2354.0,2,  -999.0
    35MFCIVA_1, I06SA,    13,  2,    500,     10,2,19930209,1113,-64.3363,  29.9957, 5070,    503.8,   1.3295,  34.7116,2,  34.7110,2,    192.0,2,  1.3039,    195.0,2,   113.37,2,    32.01,2,     2.36,2,    0.383,2,    0.135,3,   -999.0,9,   2257.0,2,   2356.0,2,  -999.0
    35MFCIVA_1, I06SA,    13,  2,    600,      9,2,19930209,1113,-64.3363,  29.9957, 5070,    605.0,   1.2465,  34.7178,2,  34.7160,2,    195.0,2,  1.2156,    198.6,2,   116.07,2,    31.78,2,     2.35,2,    0.322,2,    0.128,3,   -999.0,9,   2258.0,2,   2359.0,2,  -999.0
    35MFCIVA_1, I06SA,    13,  2,    700,      8,2,19930209,1113,-64.3363,  29.9957, 5070,    707.1,   1.1295,  34.7180,2,  34.7160,2,    197.2,2,  1.0934,    199.8,2,   120.57,2,    32.01,2,     2.34,2,    0.264,2,    0.109,2,   -999.0,9,   2258.2,2,   2361.0,2,  -999.0
    35MFCIVA_1, I06SA,    13,  2,    800,      7,2,19930209,1113,-64.3363,  29.9957, 5070,    806.1,   1.0145,  34.7153,2,  34.7130,2,    199.2,2,  0.9735,    201.7,2,   123.27,2,    31.93,2,     2.33,2,    0.264,2,    0.115,2,   -999.0,9,   2257.8,2,   -999.0,9,  -999.0
    35MFCIVA_1, I06SA,    13,  2,    900,      6,2,19930209,1113,-64.3363,  29.9957, 5070,    909.4,   0.8925,  34.7104,2,  34.7090,2,    199.6,2,  0.8463,    204.3,2,   127.77,2,    32.01,2,     2.35,2,    0.267,2,    0.104,3,   -999.0,9,   2257.8,2,   2360.0,2,  -999.0
    35MFCIVA_1, I06SA,    13,  2,   1000,      5,2,19930209,1113,-64.3363,  29.9957, 5070,   1010.3,   0.7904,  34.7067,2,  34.7040,2,    200.8,2,  0.7391,    204.6,2,   131.37,2,    32.23,2,     2.35,2,    0.247,2,    0.092,3,   -999.0,9,   2259.0,2,   2362.0,2,  -999.0
    35MFCIVA_1, I06SA,    13,  2,   1200,      4,2,19930209,1113,-64.3363,  29.9957, 5070,   1212.5,   0.6104,  34.6979,2,  34.6950,2,    203.3,2,  0.5485,    206.2,2,   135.86,2,    32.53,2,     2.39,2,    0.215,2,    0.086,3,   -999.0,9,   2259.4,2,   2363.0,2,  -999.0
    35MFCIVA_1, I06SA,    13,  2,   1400,      3,2,19930209,1113,-64.3363,  29.9957, 5070,   1414.6,   0.4664,  34.6901,2,  34.6880,2,    205.3,2,  0.3934,    208.3,2,   140.36,2,    32.75,2,     2.40,2,    0.214,2,    0.090,2,   -999.0,9,   2262.9,2,   2362.0,2,  -999.0
    35MFCIVA_1, I06SA,    13,  2,   1600a,      1,2,19930209,1113,-64.3363,  29.9957, 5070,   1619.1,   0.3423,  34.6861,2,  34.6820,2,    206.7,2,  0.2576,    209.4,2,   144.86,2,    33.13,2,     2.41,2,    0.201,2,    0.082,2,   -999.0,9,   2260.0,2,   2359.0,2,  -999.0
    35MFCIVA_1, I06SA,    13,  2,   1600b,      2,2,19930209,1113,-64.3363,  29.9957, 5070,   1619.4,   0.3433,  34.6848,2,  34.6820,2,    206.7,2,  0.2585,    209.6,2,   143.96,2,    32.98,2,     2.43,2,    0.200,2,    0.075,2,   -999.0,9,   2264.0,2,   2364.0,2,  -999.0
    35MFCIVA_1, I06SA,    13,  3,     10,     12,3,19930209,0921,-64.3368,  30.0027, 5070,     11.7,   1.1065,  33.8003,2,  33.8020,2,    339.6,2,  1.1060,    337.4,2,    53.12,2,    26.03,2,     1.84,2,    6.244,2,    2.907,2,   -999.0,9,   2152.7,2,   2295.0,2,  -999.0
    35MFCIVA_1, I06SA,    13,  3,     20,     11,2,19930209,0921,-64.3368,  30.0027, 5070,     22.0,   1.0605,  33.7993,2,  33.8020,2,    341.9,2,  1.0595,    337.4,2,    52.22,2,    25.87,2,     1.82,2,    6.189,2,    2.905,2,   -999.0,9,   2156.0,2,   2294.0,2,  -999.0
    35MFCIVA_1, I06SA,    13,  3,     40,     10,2,19930209,0921,-64.3368,  30.0027, 5070,     41.7,  -0.6673,  33.9908,2,  33.9860,2,    345.8,2, -0.6685,    342.8,2,    54.01,2,    26.56,2,     1.88,2,    6.126,2,    2.818,2,   -999.0,9,   2169.3,2,   2310.0,2,  -999.0
    35MFCIVA_1, I06SA,    13,  3,     60,      9,2,19930209,0921,-64.3368,  30.0027, 5070,     61.6,  -1.5612,  34.1389,2,  34.1420,2,    341.9,2, -1.5625,    334.9,2,    56.70,2,    27.85,2,     2.01,2,    5.938,2,    2.732,2,   -999.0,9,   2182.7,2,   2319.0,2,  -999.0
    35MFCIVA_1, I06SA,    13,  3,     80,      8,2,19930209,0921,-64.3368,  30.0027, 5070,     82.4,  -1.4861,  34.1837,2,  34.1880,2,    332.5,2, -1.4880,    320.9,2,    61.20,2,    28.92,2,     2.11,2,    5.646,2,    2.573,2,   -999.0,9,   2196.9,2,   2322.0,2,  -999.0
    35MFCIVA_1, I06SA,    13,  3,    100,      7,2,19930209,0921,-64.3368,  30.0027, 5070,    102.7,  -0.5892,  34.3108,2,  34.3030,2,    275.3,2, -0.5923,    279.1,2,    73.80,2,    31.52,2,     2.30,2,    4.473,2,    2.014,2,   -999.0,9,   2220.1,2,   2325.0,2,  -999.0
    35MFCIVA_1, I06SA,    13,  3,    125,      6,2,19930209,0921,-64.3368,  30.0027, 5070,    127.2,   1.0285,  34.5121,2,  34.5070,2,    213.5,2,  1.0228,    209.1,2,    94.49,2,    34.43,2,     2.52,2,    1.966,2,    0.866,2,   -999.0,9,   2255.0,2,   2338.0,2,  -999.0
    35MFCIVA_1, I06SA,    13,  3,    150,      5,2,19930209,0921,-64.3368,  30.0027, 5070,    152.3,   1.2955,  34.5719,2,  34.5700,2,    199.8,2,  1.2883,    194.8,2,    98.99,2,    34.58,2,     2.53,2,    1.384,2,    0.594,2,   -999.0,9,   2262.0,2,   2341.0,2,  -999.0
    35MFCIVA_1, I06SA,    13,  3,    175,      4,2,19930209,0921,-64.3368,  30.0027, 5070,    178.1,   1.4415,  34.6128,2,  34.6090,2,    190.0,2,  1.4328,    189.0,2,   101.69,2,    34.27,2,     2.49,2,    0.994,2,    0.423,2,   -999.0,9,   2259.0,2,   2347.0,2,  -999.0
    35MFCIVA_1, I06SA,    13,  3,    200,      3,2,19930209,0921,-64.3368,  30.0027, 5070,    204.0,   1.4825,  34.6354,2,  34.6330,2,    192.5,2,  1.4724,    188.5,2,  -999.00,5,    34.04,2,     2.46,2,    0.865,2,    0.366,2,   -999.0,9,   2264.0,2,   2346.0,2,  -999.0
    35MFCIVA_1, I06SA,    13,  3,    250a,      1,2,19930209,0921,-64.3368,  30.0027, 5070,    254.0,   1.5694,  34.6709,2,  34.6660,2,    189.8,2,  1.5566,    185.5,2,   105.28,2,    33.81,2,     2.44,2,    0.588,2,    0.254,2,   -999.0,9,   2265.0,2,   -999.0,9,  -999.0
    35MFCIVA_1, I06SA,    13,  3,    250b,      2,2,19930209,0921,-64.3368,  30.0027, 5070,    254.2,   1.5704,  34.6697,2,  34.6670,2,    189.8,2,  1.5576,    186.5,2,   105.28,2,    33.97,2,     2.45,2,    0.582,2,    0.228,3,   -999.0,9,   2263.0,2,   2349.0,2,  -999.0
    35MFCIVA_1, I06SA,    14,  1,   1500,     12,2,19930209,2049,-63.6708,  30.0047, 5138,   2025.3,   0.1483,  34.6756,2,-999.0000,9,    213.4,2,  0.0384,    216.5,2,  -999.00,5,  -999.00,5,  -999.00,5,    0.215,3,    0.073,2,   -999.0,9,   2266.2,2,   2366.0,2,  -999.0
    35MFCIVA_1, I06SA,    14,  1,   1750,     11,2,19930209,2049,-63.6708,  30.0047, 5138,   2280.2,   0.0622,  34.6713,2,  34.6710,2,    218.2,2, -0.0648,    221.2,2,   137.73,2,    32.12,2,  -999.00,5,    0.151,2,    0.078,2,   -999.0,9,   2263.3,2,   2359.0,2,  -999.0
    35MFCIVA_1, I06SA,    14,  1,   2000,     10,2,19930209,2049,-63.6708,  30.0047, 5138,   2534.9,  -0.0238,  34.6669,2,  34.6670,2,    224.8,2, -0.1687,    225.9,2,   136.90,2,    31.98,2,     2.53,2,    0.211,2,    0.112,2,   -999.0,9,   2260.8,2,   2361.0,2,  -999.0
    35MFCIVA_1, I06SA,    14,  1,   2250,      9,2,19930209,2049,-63.6708,  30.0047, 5138,   3049.4,  -0.1449,  34.6635,2,  34.6620,2,    230.6,2, -0.3291,    231.9,2,   137.73,2,    31.83,2,     2.48,2,    0.221,2,    0.109,2,   -999.0,9,   2259.3,2,   2358.0,2,  -999.0
    35MFCIVA_1, I06SA,    14,  1,   2500,      8,2,19930209,2049,-63.6708,  30.0047, 5138,   3557.4,  -0.2139,  34.6596,2,-999.0000,5,    237.3,2, -0.4415,    236.6,2,   136.07,2,    31.68,2,     2.48,2,    0.292,2,    0.137,2,   -999.0,9,   2256.6,2,   -999.0,9,  -999.0
    35MFCIVA_1, I06SA,    14,  1,   3000,      7,2,19930209,2049,-63.6708,  30.0047, 5138,   4072.0,  -0.2630,  34.6572,2,  34.6550,2,    241.1,2, -0.5385,    240.8,2,   136.90,2,    31.61,2,     2.46,2,    0.325,2,    0.156,2,   -999.0,9,   2256.7,2,   -999.0,9,  -999.0
    35MFCIVA_1, I06SA,    14,  1,   3500,      6,2,19930209,2049,-63.6708,  30.0047, 5138,   4072.9,  -0.2630,  34.6568,2,  34.6550,2,    241.1,2, -0.5386,    241.4,2,   137.73,2,    31.61,2,     2.46,2,    0.316,2,    0.145,2,   -999.0,9,   2254.5,2,   2358.0,2,  -999.0
    35MFCIVA_1, I06SA,    14,  1,   4000,      5,2,19930209,2049,-63.6708,  30.0047, 5138,   4584.7,  -0.3000,  34.6545,2,  34.6560,2,    241.4,2, -0.6271,    241.5,2,   144.37,2,    31.54,2,     2.45,2,    0.196,2,    0.087,2,   -999.0,9,   2253.0,2,   2360.0,2,  -999.0
    35MFCIVA_1, I06SA,    14,  1,   4400,      4,2,19930209,2049,-63.6708,  30.0047, 5138,   4842.4,  -0.3110,  34.6536,2,  34.6540,2,    244.8,2, -0.6655,    243.3,2,   136.90,2,    31.54,2,     2.47,2,    0.333,4,    0.168,4,   -999.0,9,   2254.0,2,   -999.0,9,  -999.0
    35MFCIVA_1, I06SA,    14,  1,   4700,      3,2,19930209,2049,-63.6708,  30.0047, 5138,   5205.2,  -0.3270,  34.6514,2,  34.6510,2,    247.3,2, -0.7216,    245.6,2,   145.20,2,    31.54,2,     2.43,2,    0.168,2,    0.082,2,   -999.0,9,   2255.2,2,   2357.0,2,  -999.0
    35MFCIVA_1, I06SA,    14,  1,   5000,      2,2,19930209,2049,-63.6708,  30.0047, 5138,   5205.2,  -0.3270,  34.6514,2,  34.6510,2,    247.3,2, -0.7216,    246.5,2,   144.37,2,    31.54,2,     2.45,2,    0.172,2,    0.072,2,   -999.0,9,   2257.3,2,   -999.0,9,  -999.0
    35MFCIVA_1, I06SA,    14,  1,   F-20,      1,2,19930209,2049,-63.6708,  30.0047, 5138,   5205.2,  -0.3270,  34.6514,2,  34.6510,2,    247.3,2, -0.7216,    245.6,2,   146.03,2,    31.54,2,     2.42,2,    0.175,2,    0.078,2,   -999.0,9,   2259.4,2,   -999.0,9,  -999.0
    35MFCIVA_1, I06SA,    14,  2,    325,     12,2,19930210,0027,-63.6667,  30.0085, 5130,    327.8,   1.3635,  34.6891,2,  34.6890,2,    190.2,2,  1.3472,    191.0,2,   103.72,2,    31.54,2,     2.45,2,    0.493,2,    0.203,2,   -999.0,9,   2256.1,2,   2357.0,2,  -999.0
    35MFCIVA_1, I06SA,    14,  2,    400,     11,2,19930210,0027,-63.6667,  30.0085, 5130,    403.6,   1.3645,  34.7070,2,  34.7060,2,    192.7,2,  1.3442,    193.1,2,   105.38,2,    31.10,2,     2.40,2,    0.348,2,    0.168,2,   -999.0,9,   2260.1,2,   2358.0,2,  -999.0
    35MFCIVA_1, I06SA,    14,  2,    500,     10,2,19930210,0027,-63.6667,  30.0085, 5130,    504.2,   1.2215,  34.7095,2,  34.7080,2,    193.5,2,  1.1963,   -999.0,5,   109.53,2,    31.10,2,     2.40,2,    0.336,2,    0.156,2,   -999.0,9,   2259.6,2,   2359.0,2,  -999.0
    35MFCIVA_1, I06SA,    14,  2,    600,      9,2,19930210,0027,-63.6667,  30.0085, 5130,    606.1,   1.1225,  34.7137,2,  34.7120,2,    191.1,2,  1.0921,    198.9,2,   112.02,2,    30.88,2,     2.36,2,    0.271,2,    0.135,2,   -999.0,9,   2258.7,2,   2358.0,2,  -999.0
    35MFCIVA_1, I06SA,    14,  2,    700,      8,2,19930210,0027,-63.6667,  30.0085, 5130,    699.6,   1.0365,  34.7124,2,  34.7110,2,    194.4,2,  1.0014,    200.6,2,   114.50,2,    30.95,2,     2.40,2,    0.225,2,    0.113,2,   -999.0,9,   2256.2,2,   2361.0,2,  -999.0
    35MFCIVA_1, I06SA,    14,  2,    800,      7,2,19930210,0027,-63.6667,  30.0085, 5130,    808.0,   0.9285,  34.7119,2,  34.7090,2,    197.4,2,  0.8879,    202.1,2,   117.82,2,    30.95,2,     2.35,2,    0.275,2,    0.125,2,   -999.0,9,   2259.0,2,   2364.0,2,  -999.0
    35MFCIVA_1, I06SA,    14,  2,    900,      6,2,19930210,0027,-63.6667,  30.0085, 5130,    911.3,   0.8014,  34.7048,2,  34.7030,2,    197.4,2,  0.7559,    203.9,2,   121.14,2,    31.39,2,     2.38,2,    0.244,2,    0.110,2,   -999.0,9,   2263.2,2,   2357.0,3,  -999.0
    35MFCIVA_1, I06SA,    14,  2,   1000,      5,2,19930210,0027,-63.6667,  30.0085, 5130,   1010.2,   0.7164,  34.7026,2,  34.7000,2,    200.2,2,  0.6657,    205.3,2,   123.63,2,    31.39,2,     2.37,2,    0.193,2,    0.088,2,   -999.0,9,   2260.7,2,   2365.0,2,  -999.0
    35MFCIVA_1, I06SA,    14,  2,   1100,      4,2,19930210,0027,-63.6667,  30.0085, 5130,   1114.1,   0.6364,  34.7001,2,  34.6970,2,    201.1,2,  0.5802,    205.8,2,   126.12,2,    31.54,2,     2.39,2,    0.178,2,    0.096,2,   -999.0,9,   2263.2,2,   2370.0,3,  -999.0
    35MFCIVA_1, I06SA,    14,  2,   1200,      3,2,19930210,0027,-63.6667,  30.0085, 5130,   1212.7,   0.5724,  34.6973,2,  34.6940,2,    201.2,2,  0.5109,    206.7,2,   127.78,2,    31.90,2,     2.43,2,    0.202,2,    0.093,2,   -999.0,9,   2264.3,2,   2365.0,2,  -999.0
    35MFCIVA_1, I06SA,    14,  2,   1350a,      2,2,19930210,0027,-63.6667,  30.0085, 5130,   1365.6,   0.4694,  34.6928,2,  34.6890,2,    202.3,2,  0.3994,    208.4,2,   131.10,2,    31.83,2,     2.44,2,    0.168,2,    0.095,2,   -999.0,9,   2265.0,2,   2366.0,2,  -999.0
    35MFCIVA_1, I06SA,    14,  2,   1350b,      1,2,19930210,0027,-63.6667,  30.0085, 5130,   1366.3,   0.4714,  34.6915,2,  34.6890,2,    202.3,2,  0.4014,    207.6,2,   131.10,2,    31.83,2,     2.43,2,    0.172,2,    0.075,2,   -999.0,9,   2267.0,2,   2364.0,2,  -999.0