BOTTLE,20220922CCHSIOAMB
EXPOCODE,SECT_ID,STNNBR,CASTNO,SAMPNO,BTLNBR,BTLNBR_FLAG_W,DATE,TIME,LATITUDE,LONGITUDE,DEPTH,CTDPRS,CTDTMP,CTDSAL,CTDSAL_FLAG_W,SALNTY,SALNTY_FLAG_W,CTDOXY,CTDOXY_FLAG_W,THETA,OXYGEN,OXYGEN_FLAG_W,SILCAT,SILCAT_FLAG_W,NITRAT,NITRAT_FLAG_W,PHSPHT,PHSPHT_FLAG_W,CFC-11,CFC-11_FLAG_W,CFC-12,CFC-12_FLAG_W,DELC14,DELC14_FLAG_W,TCARBN,TCARBN_FLAG_W,ALKALI,ALKALI_FLAG_W,C14ERR
,,,,,,,,,,,,DBAR,ITS-90,PSS-78,,PSS-78,,UMOL/KG,,DEG C,UMOL/KG,,UMOL/KG,,UMOL/KG,,UMOL/KG,,PMOL/KG,,PMOL/KG,,/MILLE,,UMOL/KG,,UMOL/KG,,/MILLE
    35MFCIVA_1, I06SA,    41,  1,    325,     12,2,19930306,1349,-48.5000,  30.0048, 4793,    327.3,   4.5889,  34.2117,2,  34.2120,2,    254.2,2,  4.5645,    254.7,2,    17.31,2,    25.53,2,     1.92,2,    3.251,2,    1.789,4,   -999.0,9,   2152.0,2,   2287.0,2,  -999.0
    35MFCIVA_1, I06SA,    41,  1,    400,     11,2,19930306,1349,-48.5000,  30.0048, 4793,    401.4,   4.1982,  34.2048,2,  34.2050,2,    252.7,2,  4.1692,    254.7,2,    19.04,2,    27.39,2,     1.98,2,    3.033,2,    1.689,4,   -999.0,9,   2155.5,2,   2292.0,2,  -999.0
    35MFCIVA_1, I06SA,    41,  1,    500,     10,2,19930306,1349,-48.5000,  30.0048, 4793,    503.7,   3.6836,  34.1989,2,  34.2010,2,    253.5,2,  3.6489,    253.8,2,    23.80,2,    28.51,2,     2.06,2,    2.803,2,    1.469,4,   -999.0,9,   2164.7,2,   2295.0,2,  -999.0
    35MFCIVA_1, I06SA,    41,  1,    600,      9,2,19930306,1349,-48.5000,  30.0048, 4793,    603.2,   3.3108,  34.2030,2,  34.2040,2,    250.8,2,  3.2706,    250.3,2,    28.99,2,    29.63,2,     2.13,2,    2.637,2,    1.380,4,   -999.0,9,   2168.9,2,   2297.0,2,  -999.0
    35MFCIVA_1, I06SA,    41,  1,    700,      8,2,19930306,1349,-48.5000,  30.0048, 4793,    704.5,   3.0399,  34.2332,2,  34.2340,2,    236.2,2,  2.9939,    206.0,3,    35.04,2,    30.74,2,     2.23,2,    2.129,2,    1.117,4,   -999.0,9,   2186.2,2,   2303.0,2,  -999.0
    35MFCIVA_1, I06SA,    41,  1,    800,      7,2,19930306,1349,-48.5000,  30.0048, 4793,    804.8,   3.1889,  34.3402,2,  34.3400,2,    216.8,2,  3.1345,    209.0,2,    46.72,2,    32.24,2,     2.33,2,    1.267,2,    0.619,4,   -999.0,9,   2205.7,2,   2316.0,2,  -999.0
    35MFCIVA_1, I06SA,    41,  1,    900,      6,2,19930306,1349,-48.5000,  30.0048, 4793,    905.2,   2.9200,  34.3700,2,  34.3700,2,    198.4,2,  2.8600,    202.2,2,    52.78,2,    32.98,2,     2.39,2,    0.962,2,    0.492,4,   -999.0,9,   2216.2,2,   2321.0,2,  -999.0
    35MFCIVA_1, I06SA,    41,  1,   1000,      5,2,19930306,1349,-48.5000,  30.0048, 4793,   1007.0,   2.7741,  34.4096,2,  34.4130,2,    196.5,2,  2.7076,    194.2,2,    57.97,2,    33.58,2,     2.41,2,    0.697,2,    0.292,4,   -999.0,9,   2225.6,2,   2327.0,2,  -999.0
    35MFCIVA_1, I06SA,    41,  1,   1200,      4,2,19930306,1349,-48.5000,  30.0048, 4793,   1210.3,   2.7081,  34.5253,2,  34.5280,2,    181.9,2,  2.6266,    179.6,2,    68.77,2,    33.72,2,     2.41,2,    0.316,2,    0.119,4,   -999.0,9,   2239.9,2,   2339.0,2,  -999.0
    35MFCIVA_1, I06SA,    41,  1,   1400,      3,2,19930306,1349,-48.5000,  30.0048, 4793,   1413.3,   2.6821,  34.6108,2,  34.6110,2,    180.5,2,  2.5848,    178.3,2,    72.23,2,    32.90,2,     2.33,2,    0.150,2,    0.075,4,   -999.0,9,   2238.8,2,   2345.0,2,  -999.0
    35MFCIVA_1, I06SA,    41,  1,   1600a,      2,2,19930306,1349,-48.5000,  30.0048, 4793,   1614.2,   2.5722,  34.6689,2,  34.6690,2,    184.0,2,  2.4597,    182.2,2,    73.95,2,    32.00,2,     2.26,2,    0.108,2,    0.043,4,   -999.0,9,   2240.0,2,   2350.0,2,  -999.0
    35MFCIVA_1, I06SA,    41,  1,   1600b,      1,2,19930306,1349,-48.5000,  30.0048, 4793,   1620.5,   2.5662,  34.6734,2,  34.6710,2,    184.2,2,  2.4533,    182.6,2,    73.09,2,    32.15,2,     2.25,2,    0.102,2,    0.057,4,   -999.0,9,   2238.0,2,   2346.0,2,  -999.0
    35MFCIVA_1, I06SA,    41,  2,     10,     12,2,19930306,1707,-48.5058,  30.0025, 4778,     11.1,   7.0427,  33.9484,2,  33.9480,2,    305.0,2,  7.0417,    297.9,2,     3.90,2,    18.99,2,     1.29,2,    4.371,2,    2.449,4,   -999.0,9,   2087.8,2,   2280.0,2,  -999.0
    35MFCIVA_1, I06SA,    41,  2,     20,     11,2,19930306,1707,-48.5058,  30.0025, 4778,     19.6,   7.0397,  33.9483,2,  33.9480,2,    303.3,2,  7.0379,    298.3,2,     4.33,2,    18.99,2,     1.28,2,    4.389,2,    2.505,4,   -999.0,9,   2116.8,2,   2283.0,2,  -999.0
    35MFCIVA_1, I06SA,    41,  2,     40,     10,2,19930306,1707,-48.5058,  30.0025, 4778,     40.0,   7.0217,  33.9496,2,  33.9600,2,    301.0,2,  7.0181,    299.2,2,     4.33,2,    19.14,2,     1.28,2,    4.425,2,    2.460,4,   -999.0,9,   2039.4,3,   2281.0,2,  -999.0
    35MFCIVA_1, I06SA,    41,  2,     60,      9,2,19930306,1707,-48.5058,  30.0025, 4778,     59.1,   7.0057,  33.9659,2,  33.9660,2,    299.6,2,  7.0004,    298.6,2,     4.33,2,    19.14,2,     1.29,2,    4.411,2,    2.451,4,   -999.0,9,   2015.2,3,   2283.0,2,  -999.0
    35MFCIVA_1, I06SA,    41,  2,     80,      8,2,19930306,1707,-48.5058,  30.0025, 4778,     79.4,   6.9918,  33.9676,2,  33.9670,2,    307.3,2,  6.9845,    298.0,2,     4.76,2,    19.21,2,     1.31,2,    4.382,2,    2.490,4,   -999.0,9,   1899.0,4,   2282.0,2,  -999.0
    35MFCIVA_1, I06SA,    41,  2,    100,      7,2,19930306,1707,-48.5058,  30.0025, 4778,    101.5,   6.6331,  34.0032,2,  34.0030,2,    306.1,2,  6.6241,    297.6,2,     5.63,2,    19.82,2,     1.34,2,    4.450,2,    2.498,4,   -999.0,9,   2105.3,2,   2286.0,2,  -999.0
    35MFCIVA_1, I06SA,    41,  2,    125,      6,2,19930306,1707,-48.5058,  30.0025, 4778,    126.0,   5.9357,  34.1357,2,  34.1340,2,    296.7,2,  5.9252,    290.9,2,     8.66,2,    21.02,2,     1.44,2,    4.496,2,    2.507,4,   -999.0,9,   2117.0,2,   2284.0,2,  -999.0
    35MFCIVA_1, I06SA,    41,  2,    150,      5,2,19930306,1707,-48.5058,  30.0025, 4778,    149.9,   5.3862,  34.1797,2,  34.1810,2,    294.0,2,  5.3743,    287.9,2,     9.96,2,    21.93,2,     1.47,2,    4.405,2,    2.434,4,   -999.0,9,   2124.9,2,   2286.0,2,  -999.0
    35MFCIVA_1, I06SA,    41,  2,    175,      4,2,19930306,1707,-48.5058,  30.0025, 4778,    175.6,   5.1185,  34.1585,2,  34.1590,2,    287.7,2,  5.1048,    287.1,2,    10.39,2,    22.68,2,     1.50,2,    4.409,2,    2.453,4,   -999.0,9,   2126.4,2,   2285.0,2,  -999.0
    35MFCIVA_1, I06SA,    41,  2,    200,      3,2,19930306,1707,-48.5058,  30.0025, 4778,    205.6,   4.9526,  34.1617,2,  34.1580,2,    285.1,2,  4.9369,    281.4,2,    11.69,2,    23.59,2,     1.56,2,    4.227,2,    2.318,4,   -999.0,9,   2130.3,2,   2285.0,2,  -999.0
    35MFCIVA_1, I06SA,    41,  2,    250a,      2,2,19930306,1707,-48.5058,  30.0025, 4778,    248.5,   4.7498,  34.1694,2,  34.1780,2,    277.9,2,  4.7311,    271.6,2,    12.99,2,    24.80,2,     1.65,2,    4.048,2,    2.203,4,   -999.0,9,   2137.0,2,   2285.0,2,  -999.0
    35MFCIVA_1, I06SA,    41,  2,    250b,      1,2,19930306,1707,-48.5058,  30.0025, 4778,    249.0,   4.7817,  34.1781,2,  34.1660,2,    277.9,2,  4.7629,    274.9,2,    12.99,2,    24.35,2,     1.62,2,    3.919,2,    2.159,4,   -999.0,9,   2138.0,2,   2288.0,2,  -999.0
    35MFCIVA_1, I06SA,    42,  1,   1500,     12,2,19930306,2226,-48.0267,  30.0047, 5100,   1766.6,   2.5162,  34.6950,2,  34.6940,2,    186.8,2,  2.3917,    184.9,2,    75.45,2,    29.96,2,     2.24,2,    0.112,2,    0.000,4,   -999.0,9,   2233.2,2,   2348.0,2,  -999.0
    35MFCIVA_1, I06SA,    42,  1,   1750,     11,2,19930306,2226,-48.0267,  30.0047, 5100,   2018.7,   2.4312,  34.7487,2,  34.7510,2,    196.0,2,  2.2862,    195.5,2,    74.58,2,    29.14,2,     2.12,2,    0.047,2,    0.046,4,   -999.0,9,   2225.4,2,   2352.0,2,  -999.0
    35MFCIVA_1, I06SA,    42,  1,   2000,     10,2,19930306,2226,-48.0267,  30.0047, 5100,   2275.6,   2.2823,  34.7731,2,  34.7760,2,    202.5,2,  2.1168,    203.7,2,    76.31,2,    28.39,2,     2.03,2,    0.000,2,    0.000,4,   -999.0,9,   2224.3,2,   2355.0,2,  -999.0
    35MFCIVA_1, I06SA,    42,  1,   2250,      9,2,19930306,2226,-48.0267,  30.0047, 5100,   2529.9,   2.1363,  34.7842,2,  34.7850,2,    207.1,2,  1.9502,    208.3,2,    78.91,2,    27.87,2,     2.09,2,    0.036,2,    0.000,4,   -999.0,9,   2217.8,2,   2357.0,2,  -999.0
    35MFCIVA_1, I06SA,    42,  1,   2500,      8,2,19930306,2226,-48.0267,  30.0047, 5100,   2787.0,   1.9814,  34.7923,2,  34.7930,2,    212.9,2,  1.7741,    214.2,2,    81.51,2,    27.57,2,     1.98,2,    0.061,2,    0.036,4,   -999.0,9,   2218.1,2,   2360.0,2,  -999.0
    35MFCIVA_1, I06SA,    42,  1,   2750,      7,2,19930306,2226,-48.0267,  30.0047, 5100,   3040.7,   1.7734,  34.7783,2,  34.7780,2,    211.1,2,  1.5461,    213.3,2,    88.88,2,    28.46,2,     2.01,2,    0.036,3,    0.055,4,   -999.0,9,   2224.2,2,   2355.0,3,  -999.0
    35MFCIVA_1, I06SA,    42,  1,   3000,      6,2,19930306,2226,-48.0267,  30.0047, 5100,   3557.6,   1.2355,  34.7333,2,  34.7330,2,    211.2,2,  0.9699,    210.5,2,   111.00,2,    30.70,2,     2.19,2,    0.060,2,    0.000,4,   -999.0,9,   2233.0,2,   2354.0,3,  -999.0
    35MFCIVA_1, I06SA,    42,  1,   3500,      5,2,19930306,2226,-48.0267,  30.0047, 5100,   3557.6,   1.2355,  34.7333,2,  34.7330,2,    211.2,2,  0.9699,    210.6,2,   111.43,2,    30.77,2,     2.19,2,    0.076,2,    0.000,4,   -999.0,9,   2200.0,4,   -999.0,9,  -999.0
    35MFCIVA_1, I06SA,    42,  1,   4000a,      4,2,19930306,2226,-48.0267,  30.0047, 5100,   4066.3,   0.8584,  34.7090,2,  34.7080,2,    215.6,2,  0.5506,    213.4,2,   125.74,2,    31.74,2,     2.26,2,    0.077,2,    0.036,4,   -999.0,9,   2172.0,4,   2372.0,2,  -999.0
    35MFCIVA_1, I06SA,    42,  1,   4000b,      3,2,19930306,2226,-48.0267,  30.0047, 5100,   4499.1,   0.5974,  34.6940,2,  34.6930,2,    220.0,2,  0.2507,    219.4,2,   131.37,2,    32.26,2,     2.29,2,    0.117,2,    0.044,4,   -999.0,9,   2254.0,2,   2373.0,2,  -999.0
    35MFCIVA_1, I06SA,    42,  1,   4250,      2,2,19930306,2226,-48.0267,  30.0047, 5100,   4840.5,   0.2553,  34.6725,2,  34.6720,2,    228.8,2, -0.1182,    226.9,2,   134.41,2,    32.86,2,     2.37,2,    0.188,3,    0.046,4,   -999.0,9,   2246.4,2,   2367.0,2,  -999.0
    35MFCIVA_1, I06SA,    42,  1,   F-20,      1,2,19930306,2226,-48.0267,  30.0047, 5100,   5165.2,   0.1993,  34.6668,2,  34.6670,2,    231.2,2, -0.2095,    229.0,2,   137.44,2,    32.93,2,     2.36,2,    0.202,2,    0.088,4,   -999.0,9,   2232.3,2,   2366.0,2,  -999.0
    35MFCIVA_1, I06SA,    42,  2,    325,     12,2,19930307,0208,-47.9917,  30.0123, 4943,    326.4,   5.4022,  34.2373,2,  34.2360,2,    262.7,2,  5.3758,    263.7,2,    13.35,2,    23.05,2,     1.67,2,    2.787,2,    1.445,4,   -999.0,9,   2136.2,2,   2288.0,2,  -999.0
    35MFCIVA_1, I06SA,    42,  2,    400,     11,2,19930307,0208,-47.9917,  30.0123, 4943,    402.8,   5.2024,  34.2882,2,  34.2830,2,    238.8,2,  5.1701,    239.2,2,    18.08,2,    25.84,2,     1.85,2, -999.000,5, -999.000,5,   -999.0,9,   2154.2,2,   2293.0,2,  -999.0
    35MFCIVA_1, I06SA,    42,  2,    500,     10,2,19930307,0208,-47.9917,  30.0123, 4943,    503.8,   4.8027,  34.3022,2,  34.3010,2,    231.5,2,  4.7635,    229.6,2,    23.68,2,    27.49,2,     1.98,2,    2.476,3,    1.131,4,   -999.0,9,   2162.3,2,   2298.0,2,  -999.0
    35MFCIVA_1, I06SA,    42,  2,    600,      9,2,19930307,0208,-47.9917,  30.0123, 4943,    605.1,   3.7785,  34.2197,2,  34.2190,2,    240.8,2,  3.7359,    247.6,2,    24.97,2,    28.62,2,     2.01,2,    2.521,2,    1.327,4,   -999.0,9,   2166.6,2,   2294.0,2,  -999.0
    35MFCIVA_1, I06SA,    42,  2,    700,      8,2,19930307,0208,-47.9917,  30.0123, 4943,    705.4,   3.3448,  34.2365,2,  34.2360,2,    235.2,2,  3.2969,    238.2,2,    31.43,2,    29.67,2,     2.13,2,    2.036,2,    1.032,4,   -999.0,9,   2174.3,2,   2301.0,2,  -999.0
    35MFCIVA_1, I06SA,    42,  2,    800,      7,2,19930307,0208,-47.9917,  30.0123, 4943,    804.7,   3.0279,  34.2612,2,  34.2600,2,    228.0,2,  2.9747,    229.7,2,    37.88,2,    31.03,2,     2.22,2,    1.706,2,    0.860,4,   -999.0,9,   2186.5,2,   2308.0,2,  -999.0
    35MFCIVA_1, I06SA,    42,  2,    900,      6,2,19930307,0208,-47.9917,  30.0123, 4943,    908.7,   3.1429,  34.3600,2,  34.3590,2,    202.1,2,  3.0810,    204.1,2,    48.64,2,    32.08,2,     2.30,2,    1.036,2,    0.509,4,   -999.0,9,   2211.7,2,   2319.0,2,  -999.0
    35MFCIVA_1, I06SA,    42,  2,   1000,      5,2,19930307,0208,-47.9917,  30.0123, 4943,   1000.3,   2.9810,  34.3978,2,  34.3970,2,    195.5,2,  2.9134,    196.4,2,    54.67,2,    32.83,2,     2.36,2,    0.789,2,    0.341,4,   -999.0,9,   2218.0,2,   2324.0,2,  -999.0
    35MFCIVA_1, I06SA,    42,  2,   1100,      4,2,19930307,0208,-47.9917,  30.0123, 4943,   1109.8,   2.9390,  34.4643,2,  34.4640,2,    184.6,2,  2.8633,    184.7,2,    61.98,2,    33.36,2,     2.38,2,    0.503,2,    0.222,4,   -999.0,9,   2232.5,2,   2333.0,2,  -999.0
    35MFCIVA_1, I06SA,    42,  2,   1200,      3,2,19930307,0208,-47.9917,  30.0123, 4943,   1211.2,   2.8720,  34.5171,2,  34.5160,2,    179.9,2,  2.7890,    179.3,2,    67.14,2,    33.28,2,     2.40,2,    0.311,2,    0.143,4,   -999.0,9,   2228.5,2,   2337.0,2,  -999.0
    35MFCIVA_1, I06SA,    42,  2,   1350a,      1,2,19930307,0208,-47.9917,  30.0123, 4943,   1364.8,   2.6411,  34.5624,2,  34.5630,2,    178.8,2,  2.5482,    179.0,2,    70.15,2,    33.05,2,     2.35,2,    0.240,2,    0.152,4,   -999.0,9,   2234.0,2,   2343.0,2,  -999.0
    35MFCIVA_1, I06SA,    42,  2,   1350b,      2,2,19930307,0208,-47.9917,  30.0123, 4943,   1366.9,   2.6411,  34.5625,2,  34.5620,2,    178.9,2,  2.5481,    179.0,2,    70.15,2,    33.43,2,     2.41,2,    0.245,2,    0.078,4,   -999.0,9,   2236.0,2,   2339.0,2,  -999.0
    35MFCIVA_1, I06SA,    42,  3,     10,     12,2,19930307,0410,-48.0005,  29.9988, -999,      7.4,   8.3465,  34.1661,2,  34.1660,2,    286.3,2,  8.3457,    288.5,2,     3.88,2,    14.69,2,     1.13,2,    3.981,2,    2.195,4,   -999.0,9,   2083.5,2,   2288.0,2,  -999.0
    35MFCIVA_1, I06SA,    42,  3,     20,     11,2,19930307,0410,-48.0005,  29.9988, -999,     18.4,   8.3475,  34.1642,2,  34.1650,2,    284.6,2,  8.3456,    289.0,2,     3.88,2,    14.61,2,     1.10,2,    3.999,2,    2.211,4,   -999.0,9,   2084.9,2,   2287.0,2,  -999.0
    35MFCIVA_1, I06SA,    42,  3,     40,     10,2,19930307,0410,-48.0005,  29.9988, -999,     40.3,   8.3525,  34.1660,2,  34.1650,2,    284.1,2,  8.3484,    288.7,2,     3.88,2,    14.76,2,     1.05,2,    3.997,2,    2.199,4,   -999.0,9,   2084.8,2,   2287.0,2,  -999.0
    35MFCIVA_1, I06SA,    42,  3,     60,      9,2,19930307,0410,-48.0005,  29.9988, -999,     58.8,   8.3555,  34.1671,2,  34.1650,2,    288.5,2,  8.3495,    289.1,2,     4.32,2,    14.99,2,     1.12,2,    3.971,2,    2.196,4,   -999.0,9,   2087.0,2,   2288.0,2,  -999.0
    35MFCIVA_1, I06SA,    42,  3,     80,      8,2,19930307,0410,-48.0005,  29.9988, -999,     77.6,   8.5523,  34.3887,2,  34.3130,2,    280.2,2,  8.5443,    277.4,2,     6.04,2,    15.44,2,     1.19,2,    3.848,2,    2.111,4,   -999.0,9,   2098.3,2,   2291.0,2,  -999.0
    35MFCIVA_1, I06SA,    42,  3,    100,      7,2,19930307,0410,-48.0005,  29.9988, -999,     98.6,   8.2166,  34.4798,2,  34.4830,2,    263.0,2,  8.2066,    259.9,2,     9.49,2,    16.71,2,     1.26,2,    3.618,2,    2.041,4,   -999.0,9,   2115.8,2,   2296.0,2,  -999.0
    35MFCIVA_1, I06SA,    42,  3,    125,      6,2,19930307,0410,-48.0005,  29.9988, -999,    126.0,   7.7950,  34.4562,2,  34.4560,2,    260.4,2,  7.7826,    260.1,2,    10.36,2,    18.06,2,     1.35,2,    3.568,2,    1.932,4,   -999.0,9,   2118.4,2,   2295.0,2,  -999.0
    35MFCIVA_1, I06SA,    42,  3,    150,      5,2,19930307,0410,-48.0005,  29.9988, -999,    148.8,   7.2845,  34.3894,2,  34.3990,2,    266.8,2,  7.2704,    265.4,2,    10.79,2,    18.58,2,     1.37,2,    3.725,2,    2.037,4,   -999.0,9,   2148.0,3,   2293.0,2,  -999.0
    35MFCIVA_1, I06SA,    42,  3,    175,      4,2,19930307,0410,-48.0005,  29.9988, -999,    173.7,   6.9378,  34.3598,2,  34.3590,2,    266.6,2,  6.9218,    266.1,2,    11.65,2,    19.63,2,     1.40,2,    3.690,2,    1.965,4,   -999.0,9,   2120.3,2,   2292.0,2,  -999.0
    35MFCIVA_1, I06SA,    42,  3,    200,      3,2,19930307,0410,-48.0005,  29.9988, -999,    200.3,   6.4922,  34.3083,2,  34.3080,2,    267.9,2,  6.4745,    272.1,2,    11.22,2,    20.08,2,     1.43,2,    3.858,2,    2.106,4,   -999.0,9,   2122.6,2,   2291.0,2,  -999.0
    35MFCIVA_1, I06SA,    42,  3,    250a,      2,2,19930307,0410,-48.0005,  29.9988, -999,    253.4,   5.8688,  34.2648,2,  34.2680,2,    267.1,2,  5.8475,    267.9,2,    13.37,2,    21.95,2,     1.55,2,    3.764,2,    1.994,4,   -999.0,9,   2130.0,2,   2288.0,2,  -999.0
    35MFCIVA_1, I06SA,    42,  3,    250b,      1,2,19930307,0410,-48.0005,  29.9988, -999,    253.7,   5.8718,  34.2661,2,  34.2640,2,    267.4,2,  5.8504,    268.6,2,    12.94,2,    21.87,2,     1.52,2,    3.749,2,    2.046,4,   -999.0,9,   2129.0,2,   2286.0,2,  -999.0