BOTTLE,20220922CCHSIOAMB
EXPOCODE,SECT_ID,STNNBR,CASTNO,SAMPNO,BTLNBR,BTLNBR_FLAG_W,DATE,TIME,LATITUDE,LONGITUDE,DEPTH,CTDPRS,CTDTMP,CTDSAL,CTDSAL_FLAG_W,SALNTY,SALNTY_FLAG_W,CTDOXY,CTDOXY_FLAG_W,THETA,OXYGEN,OXYGEN_FLAG_W,SILCAT,SILCAT_FLAG_W,NITRAT,NITRAT_FLAG_W,PHSPHT,PHSPHT_FLAG_W,CFC-11,CFC-11_FLAG_W,CFC-12,CFC-12_FLAG_W,DELC14,DELC14_FLAG_W,TCARBN,TCARBN_FLAG_W,ALKALI,ALKALI_FLAG_W,C14ERR
,,,,,,,,,,,,DBAR,ITS-90,PSS-78,,PSS-78,,UMOL/KG,,DEG C,UMOL/KG,,UMOL/KG,,UMOL/KG,,UMOL/KG,,PMOL/KG,,PMOL/KG,,/MILLE,,UMOL/KG,,UMOL/KG,,/MILLE
    35MFCIVA_1, I06SA,    45,  1,    325,     12,2,19930307,2346,-46.6603,  30.0210, 4374,    326.6,   5.9767,  34.2703,2,  34.2700,2,    265.7,2,  5.9488,    266.1,2,  -999.00,5,    21.10,2,     1.47,2,    3.744,2,    2.076,4,   -999.0,9,   2134.5,2,   2290.0,2,  -999.0
    35MFCIVA_1, I06SA,    45,  1,    400,     11,2,19930307,2346,-46.6603,  30.0210, 4374,    401.8,   5.7359,  34.3106,2,  34.3110,2,    252.6,2,  5.7020,    243.2,2,    12.16,2,    23.54,2,     1.63,2,    3.050,2,    1.639,4,   -999.0,9,   2149.1,2,   2293.0,2,  -999.0
    35MFCIVA_1, I06SA,    45,  1,    500,     10,2,19930307,2346,-46.6603,  30.0210, 4374,    503.6,   4.7977,  34.2646,2,  34.2660,2,    242.8,2,  4.7586,    240.7,2,    16.35,2,    26.05,2,     1.81,2,    3.340,2,    1.290,4,   -999.0,9,   2161.0,2,   2293.0,2,  -999.0
    35MFCIVA_1, I06SA,    45,  1,    600,      9,2,19930307,2346,-46.6603,  30.0210, 4374,    604.1,   4.3231,  34.2682,2,  34.2670,2,    235.5,2,  4.2779,    234.6,2,    22.63,2,    27.53,2,     1.91,2,    2.325,2,    1.160,4,   -999.0,9,   2172.4,2,   2297.0,2,  -999.0
    35MFCIVA_1, I06SA,    45,  1,    700,      8,2,19930307,2346,-46.6603,  30.0210, 4374,    704.7,   3.8305,  34.2850,2,  34.2850,2,    228.7,2,  3.7799,    225.9,2,    29.76,2,    28.86,2,     2.04,2,    1.848,2,    0.932,4,   -999.0,9,   2183.7,2,   -999.0,9,  -999.0
    35MFCIVA_1, I06SA,    45,  1,    800,      7,2,19930307,2346,-46.6603,  30.0210, 4374,    804.8,   3.4967,  34.3156,2,  34.3160,2,    220.4,2,  3.4404,    215.5,2,    36.88,2,    30.12,2,     2.11,2,    1.543,2,    0.790,4,   -999.0,9,   2193.1,2,   2309.0,2,  -999.0
    35MFCIVA_1, I06SA,    45,  1,    900,      6,2,19930307,2346,-46.6603,  30.0210, 4374,    906.7,   3.2588,  34.3545,2,  34.3520,2,    207.8,2,  3.1963,    205.1,2,    44.00,2,    31.08,2,     2.18,2,    1.151,2,    0.613,4,   -999.0,9,   2213.0,2,   2316.0,2,  -999.0
    35MFCIVA_1, I06SA,    45,  1,   1000,      5,2,19930307,2346,-46.6603,  30.0210, 4374,   1007.7,   3.0359,  34.4036,2,  34.4020,2,    196.6,2,  2.9674,    194.7,2,    51.96,2,    31.82,2,     2.24,2,    0.831,2,    0.451,4,   -999.0,9,   2221.7,2,   2325.0,2,  -999.0
    35MFCIVA_1, I06SA,    45,  1,   1200,      4,2,19930307,2346,-46.6603,  30.0210, 4374,   1211.3,   2.8221,  34.4986,2,  34.4970,2,    182.0,2,  2.7395,    181.0,2,    62.85,2,    32.41,2,     2.26,2,    0.388,2,    0.176,4,   -999.0,9,   2235.8,2,   2335.0,2,  -999.0
    35MFCIVA_1, I06SA,    45,  1,   1400,      3,2,19930307,2346,-46.6603,  30.0210, 4374,   1414.2,   2.6921,  34.5888,2,  34.5880,2,    177.8,2,  2.5947,    178.0,2,    68.71,2,    31.81,2,     2.20,2,    0.188,2,    0.146,4,   -999.0,9,   2241.7,2,   2342.0,2,  -999.0
    35MFCIVA_1, I06SA,    45,  1,   1600a,      1,2,19930307,2346,-46.6603,  30.0210, 4374,   1615.6,   2.6111,  34.6596,2,  34.6600,2,    179.6,2,  2.4981,    182.5,2,    70.38,2,    30.78,2,     2.09,2,    0.118,2,    0.107,4,   -999.0,9,   2240.0,2,   2347.0,2,  -999.0
    35MFCIVA_1, I06SA,    45,  1,   1600b,      2,2,19930307,2346,-46.6603,  30.0210, 4374,   1615.9,   2.6121,  34.6608,2,  34.6600,2,    179.6,2,  2.4991,    182.0,2,    70.38,2,    30.78,2,     2.10,2,    0.139,2,    0.146,4,   -999.0,9,   2239.0,2,   2345.0,2,  -999.0
    35MFCIVA_1, I06SA,    45,  2,     10,     12,2,19930308,0245,-46.6528,  29.9880, 4629,      9.5,   9.9311,  34.2965,2,  34.2920,2,    303.5,2,  9.9300,    278.4,2,     2.98,2,     9.54,2,     0.83,2,    3.808,2,    2.192,4,   -999.0,9,   2080.9,2,   2286.0,2,  -999.0
    35MFCIVA_1, I06SA,    45,  2,     20,     11,2,19930308,0245,-46.6528,  29.9880, 4629,     19.9,   9.8432,  34.2791,2,  34.2870,2,    300.0,2,  9.8409,    278.7,2,     2.98,2,    10.14,2,     0.85,2,    3.806,2,    2.179,4,   -999.0,9,   2076.5,2,   2292.0,2,  -999.0
    35MFCIVA_1, I06SA,    45,  2,     40,     10,2,19930308,0245,-46.6528,  29.9880, 4629,     39.7,   9.7992,  34.2659,2,  34.2610,2,    294.4,2,  9.7947,    280.1,2,     2.71,2,    10.29,2,     0.84,2,    3.859,2,    2.274,4,   -999.0,9,   2079.3,2,   2291.0,2,  -999.0
    35MFCIVA_1, I06SA,    45,  2,     60,      9,2,19930308,0245,-46.6528,  29.9880, 4629,     59.1,   9.7123,  34.2495,2,  34.2520,2,    292.8,2,  9.7056,    280.2,2,     3.25,2,    10.66,2,     0.83,2,    3.824,2,    2.197,4,   -999.0,9,   2078.2,2,   2291.0,2,  -999.0
    35MFCIVA_1, I06SA,    45,  2,     80,      8,2,19930308,0245,-46.6528,  29.9880, 4629,     80.0,   9.9581,  34.3984,2,  34.3950,2,    284.1,2,  9.9489,    274.1,2,     3.52,2,     9.32,2,     0.83,2,    3.778,2,    2.198,4,   -999.0,9,   2084.7,2,   2293.0,2,  -999.0
    35MFCIVA_1, I06SA,    45,  2,    100,      7,2,19930308,0245,-46.6528,  29.9880, 4629,    100.1,   8.4504,  34.4033,2,  34.4020,2,    278.3,2,  8.4401,    269.9,2,     5.69,2,    13.71,2,     1.05,2,    3.998,2,    2.360,4,   -999.0,9,   2103.3,2,   2289.0,2,  -999.0
    35MFCIVA_1, I06SA,    45,  2,    125,      6,2,19930308,0245,-46.6528,  29.9880, 4629,    125.7,   8.0917,  34.4432,2,  34.4580,2,    275.8,2,  8.0791,    265.2,2,     6.77,2,    15.50,2,     1.12,2,    3.892,2,    2.053,4,   -999.0,9,   2113.6,2,   2294.0,2,  -999.0
    35MFCIVA_1, I06SA,    45,  2,    150,      5,2,19930308,0245,-46.6528,  29.9880, 4629,    150.5,   8.2156,  34.5041,2,  34.5020,2,    267.7,2,  8.2003,    261.7,2,     7.31,2,    15.80,2,     1.11,2,    3.714,2,    2.048,4,   -999.0,9,   2113.3,2,   2296.0,2,  -999.0
    35MFCIVA_1, I06SA,    45,  2,    175,      4,2,19930308,0245,-46.6528,  29.9880, 4629,    174.5,   7.9948,  34.4875,2,  34.4840,2,    266.5,2,  7.9773,    257.0,2,     7.59,2,    16.99,2,     1.17,2,    3.518,2,    1.987,4,   -999.0,9,   2119.5,2,   2295.0,2,  -999.0
    35MFCIVA_1, I06SA,    45,  2,    200,      3,2,19930308,0245,-46.6528,  29.9880, 4629,    201.8,   7.5143,  34.4251,2,  34.4210,2,    265.0,2,  7.4947,    262.4,2,     8.13,2,    17.29,2,     1.19,2,    3.633,2,    2.002,4,   -999.0,9,   2119.9,2,   2293.0,2,  -999.0
    35MFCIVA_1, I06SA,    45,  2,    250a,      2,2,19930308,0245,-46.6528,  29.9880, 4629,    246.1,   6.8679,  34.3492,2,  34.3460,2,    268.7,2,  6.8452,    269.7,2,     8.94,2,    17.44,2,     1.25,2,    3.757,2,    2.058,4,   -999.0,9,   2122.0,2,   2289.0,2,  -999.0
    35MFCIVA_1, I06SA,    45,  2,    250b,      1,2,19930308,0245,-46.6528,  29.9880, 4629,    249.1,   6.8689,  34.3511,2,  34.3490,2,    269.9,2,  6.8460,    265.7,2,     8.94,2,    19.07,2,     1.19,2,    3.875,2,    2.263,4,   -999.0,9,   2125.0,2,   2285.0,2,  -999.0
    35MFCIVA_1, I06SA,    46,  1,   1500,     12,2,19930308,0550,-46.3330,  29.9825, 4277,   1516.1,   2.5802,  34.5943,2,  34.5930,2,    181.3,2,  2.4758,    179.6,2,    70.39,2,    32.14,2,     2.27,2,    0.243,2,    0.102,4,   -999.0,9,   2244.7,2,   2344.0,2,  -999.0
    35MFCIVA_1, I06SA,    46,  1,   1750,     11,2,19930308,0550,-46.3330,  29.9825, 4277,   1768.8,   2.5132,  34.6886,2,  34.6890,2,    183.2,2,  2.3886,    185.0,2,    72.99,2,    30.51,2,     2.10,2,    0.100,2,    0.105,4,   -999.0,9,   2239.4,2,   2350.0,2,  -999.0
    35MFCIVA_1, I06SA,    46,  1,   2000,     10,2,19930308,0550,-46.3330,  29.9825, 4277,   2023.3,   2.4322,  34.7430,2,  34.7440,2,    191.2,2,  2.2868,    193.6,2,    73.86,2,    29.05,2,     1.99,2,    0.060,2,    0.125,4,   -999.0,9,   2232.7,2,   2353.0,2,  -999.0
    35MFCIVA_1, I06SA,    46,  1,   2250,      9,2,19930308,0550,-46.3330,  29.9825, 4277,   2275.8,   2.3083,  34.7697,2,  34.7690,2,    200.7,2,  2.1424,    201.2,2,    75.16,2,    27.91,2,     2.01,2,    0.090,2,    0.163,4,   -999.0,9,   2232.6,2,   2355.0,2,  -999.0
    35MFCIVA_1, I06SA,    46,  1,   2500,      8,2,19930308,0550,-46.3330,  29.9825, 4277,   2532.2,   2.1173,  34.7766,2,  34.7790,2,    205.0,2,  1.9314,    206.5,2,    78.20,2,    27.66,2,     1.92,2,    0.194,2,    0.000,4,   -999.0,9,   2225.3,2,   2357.0,2,  -999.0
    35MFCIVA_1, I06SA,    46,  1,   3000,      7,2,19930308,0550,-46.3330,  29.9825, 4277,   2788.5,   1.9854,  34.7898,2,  34.7900,2,    209.5,2,  1.7779,    213.7,2,    79.06,2,    26.85,2,     1.86,2,    0.119,2,    0.090,4,   -999.0,9,   2224.9,2,   2357.0,2,  -999.0
    35MFCIVA_1, I06SA,    46,  1,   3500,      6,2,19930308,0550,-46.3330,  29.9825, 4277,   3040.5,   1.7234,  34.7692,2,  34.7710,2,    211.0,2,  1.4973,    211.0,2,    88.62,2,    28.39,2,     1.93,2,    0.069,3,    0.065,4,   -999.0,9,   2225.7,2,   2356.0,2,  -999.0
    35MFCIVA_1, I06SA,    46,  1,   4000,      5,2,19930308,0550,-46.3330,  29.9825, 4277,   3297.8,   1.4895,  34.7546,2,  34.7580,2,    210.4,2,  1.2435,    211.6,2,    94.70,2,    28.96,2,     1.99,2,    0.108,2,    0.062,4,   -999.0,9,   2249.6,2,   2365.0,2,  -999.0
    35MFCIVA_1, I06SA,    46,  1,   4500,      4,2,19930308,0550,-46.3330,  29.9825, 4277,   3555.5,   1.2325,  34.7325,2,  34.7320,2,    210.8,2,  0.9672,    210.2,2,   106.00,2,    29.86,2,     2.14,2,    0.132,2,    0.113,4,   -999.0,9,   2234.5,2,   2369.0,2,  -999.0
    35MFCIVA_1, I06SA,    46,  1,   5000,      3,2,19930308,0550,-46.3330,  29.9825, 4277,   4066.8,   0.8634,  34.7084,2,  34.7080,2,    213.6,2,  0.5554,    213.4,2,   117.73,2,    31.24,2,     2.14,2,    0.179,3,    0.132,4,   -999.0,9,   2256.2,2,   2372.0,2,  -999.0
    35MFCIVA_1, I06SA,    46,  1,   5250,      2,2,19930308,0550,-46.3330,  29.9825, 4277,   4067.5,   0.8604,  34.7076,2,  34.7080,2,    213.8,2,  0.5524,    212.9,2,   117.29,2,    31.32,2,     2.14,2,    0.113,2,    0.075,4,   -999.0,9,   2256.5,2,   2372.0,2,  -999.0
    35MFCIVA_1, I06SA,    46,  1,   F-20,      1,2,19930308,0550,-46.3330,  29.9825, 4277,   4436.8,   0.6484,  34.6965,2,  34.6970,2,    220.9,2,  0.3069,    218.2,2,   122.07,2,    31.24,2,     2.13,2,    0.082,2,    0.075,4,   -999.0,9,   2238.0,2,   2375.0,2,  -999.0
    35MFCIVA_1, I06SA,    46,  2,    325,     12,2,19930308,0848,-46.3362,  30.0075, 4200,    326.0,   5.8478,  34.2294,2,  34.2290,2,    274.3,2,  5.8203,    275.1,2,    10.36,2,    22.79,2,     1.44,2,    4.029,2,    2.353,4,   -999.0,9,   2137.4,2,   2288.0,2,  -999.0
    35MFCIVA_1, I06SA,    46,  2,    400,     11,2,19930308,0848,-46.3362,  30.0075, 4200,    403.1,   5.5861,  34.2591,2,  34.2580,2,    257.0,2,  5.5526,    257.5,2,    12.95,2,    23.76,2,     1.56,2,    3.550,2,    1.870,4,   -999.0,9,   2151.2,2,   2290.0,2,  -999.0
    35MFCIVA_1, I06SA,    46,  2,    500,     10,2,19930308,0848,-46.3362,  30.0075, 4200,    503.9,   5.1904,  34.2977,2,  34.2960,2,    237.3,2,  5.1497,    234.9,2,    19.00,2,    27.80,2,     1.83,2,    3.739,2,    1.301,4,   -999.0,9,   2160.3,2,   2292.0,2,  -999.0
    35MFCIVA_1, I06SA,    46,  2,    600,      9,2,19930308,0848,-46.3362,  30.0075, 4200,    602.7,   4.6229,  34.2828,2,  34.2790,2,    231.9,2,  4.5764,    232.8,2,    23.31,2,    30.09,2,     1.91,2,    2.394,2,    1.191,4,   -999.0,9,   2169.1,2,   2295.0,2,  -999.0
    35MFCIVA_1, I06SA,    46,  2,    700,      8,2,19930308,0848,-46.3362,  30.0075, 4200,    704.4,   4.0753,  34.2905,2,  34.2920,2,    226.9,2,  4.0234,    226.6,2,    29.79,2,    30.97,2,     1.96,2,    1.936,2,    0.966,4,   -999.0,9,   2182.5,2,   2302.0,2,  -999.0
    35MFCIVA_1, I06SA,    46,  2,    800,      7,2,19930308,0848,-46.3362,  30.0075, 4200,    804.9,   3.6956,  34.3209,2,  34.3190,2,    216.7,2,  3.6380,    216.4,2,    37.12,2,    32.73,2,     2.06,2,    1.595,2,    0.822,4,   -999.0,9,   2196.0,2,   2311.0,2,  -999.0
    35MFCIVA_1, I06SA,    46,  2,    900,      6,2,19930308,0848,-46.3362,  30.0075, 4200,    908.4,   3.1949,  34.3356,2,  34.3360,2,    210.9,2,  3.1327,    209.5,3,    44.46,2,    33.25,2,     2.17,2,    1.302,2,    0.633,4,   -999.0,9,   2208.6,2,   2314.0,2,  -999.0
    35MFCIVA_1, I06SA,    46,  2,   1000,      5,2,19930308,0848,-46.3362,  30.0075, 4200,   1008.9,   2.8830,  34.3467,2,  34.3470,2,    207.0,2,  2.8156,    206.5,2,    48.34,2,    34.31,2,     2.24,2,    1.098,2,    0.595,4,   -999.0,9,   2214.8,2,   2318.0,2,  -999.0
    35MFCIVA_1, I06SA,    46,  2,   1100,      4,2,19930308,0848,-46.3362,  30.0075, 4200,   1107.5,   2.8281,  34.4146,2,  34.4130,2,    193.9,2,  2.7536,    193.3,2,    56.11,2,    35.10,2,     2.29,2,    0.772,2,    0.405,4,   -999.0,9,   2225.3,2,   2327.0,2,  -999.0
    35MFCIVA_1, I06SA,    46,  2,   1200,      3,2,19930308,0848,-46.3362,  30.0075, 4200,   1209.3,   2.7541,  34.4697,2,  34.4570,2,    187.1,2,  2.6724,    185.4,2,    61.28,2,    35.36,2,     2.30,2,    0.521,2,    0.258,4,   -999.0,9,   2231.9,2,   2333.0,2,  -999.0
    35MFCIVA_1, I06SA,    46,  2,   1350a,      2,2,19930308,0848,-46.3362,  30.0075, 4200,   1363.6,   2.6111,  34.5255,2,  34.5250,2,    183.0,2,  2.5188,    181.5,2,    62.14,2,    35.09,2,     2.28,2,    0.399,2,    0.193,4,   -999.0,9,   2237.0,2,   -999.0,9,  -999.0
    35MFCIVA_1, I06SA,    46,  2,   1350b,      1,2,19930308,0848,-46.3362,  30.0075, 4200,   1363.8,   2.6111,  34.5266,2,  34.5210,2,    183.0,2,  2.5187,    181.1,2,    61.28,2,    34.48,2,     2.24,2,    0.342,2,    0.267,4,   -999.0,9,   2239.0,2,   -999.0,9,  -999.0
    35MFCIVA_1, I06SA,    46,  3,     10,     12,2,19930308,1020,-46.3313,  30.0037, 4274,      9.4,  10.8773,  34.5306,2,  34.5290,2,    276.8,2, 10.8762,    275.3,2,     2.58,2,     8.31,2,     0.67,2,    3.655,2,    2.149,4,   -999.0,9,   2071.2,2,   2301.0,2,  -999.0
    35MFCIVA_1, I06SA,    46,  3,     20,     11,2,19930308,1020,-46.3313,  30.0037, 4274,     20.5,  10.8703,  34.5293,2,  34.5260,2,    277.1,2, 10.8678,    250.4,3,     2.58,2,     7.40,2,     0.59,2,    3.618,2,    2.093,4,   -999.0,9,   2072.5,2,   2299.0,2,  -999.0
    35MFCIVA_1, I06SA,    46,  3,     40,     10,2,19930308,1020,-46.3313,  30.0037, 4274,     37.1,  10.8473,  34.5266,2,  34.5260,2,    279.6,2, 10.8429,     91.0,4,     2.58,2,     7.31,2,     0.58,2,    3.631,2,    2.111,4,   -999.0,9,   2072.3,2,   2302.0,2,  -999.0
    35MFCIVA_1, I06SA,    46,  3,     60,      9,2,19930308,1020,-46.3313,  30.0037, 4274,     60.1,  10.8174,  34.5256,2,  34.5210,2,    279.8,2, 10.8101,    271.7,2,     3.01,2,     8.48,2,     0.68,2,    3.650,2,    2.097,4,   -999.0,9,   2071.6,2,   2301.0,2,  -999.0
    35MFCIVA_1, I06SA,    46,  3,     80,      8,2,19930308,1020,-46.3313,  30.0037, 4274,     80.1,  10.2019,  34.5381,2,  34.5350,2,    274.7,2, 10.1925,    269.3,2,     3.45,2,    10.30,2,     0.81,2,    3.750,2,    2.175,4,   -999.0,9,   2081.3,2,   2303.0,2,  -999.0
    35MFCIVA_1, I06SA,    46,  3,    100,      7,2,19930308,1020,-46.3313,  30.0037, 4274,    100.4,   9.3616,  34.5961,2,  34.5910,2,    265.6,2,  9.3505,    255.9,2,     6.89,2,    14.12,2,     0.99,2,    3.693,2,    2.127,4,   -999.0,9,   2106.9,2,   2303.0,2,  -999.0
    35MFCIVA_1, I06SA,    46,  3,    125,      6,2,19930308,1020,-46.3313,  30.0037, 4274,    123.5,   8.7191,  34.5350,2,  34.5460,2,    266.6,2,  8.7061,    261.3,2,     7.32,2,    16.36,2,     1.17,2,    3.752,2,    2.067,4,   -999.0,9,   2110.4,2,   2299.0,2,  -999.0
    35MFCIVA_1, I06SA,    46,  3,    150,      5,2,19930308,1020,-46.3313,  30.0037, 4274,    148.5,   8.2216,  34.4757,2,  34.4780,2,    269.3,2,  8.2065,    268.7,2,     7.32,2,    16.28,2,     1.13,2,    3.990,2,    2.327,4,   -999.0,9,   2111.6,2,   2297.0,2,  -999.0
    35MFCIVA_1, I06SA,    46,  3,    175,      4,2,19930308,1020,-46.3313,  30.0037, 4274,    175.3,   8.1836,  34.4971,2,  34.4960,2,    269.6,2,  8.1658,    262.6,2,     7.75,2,    17.19,2,     1.15,2,    3.750,2,    2.202,4,   -999.0,9,   2118.1,2,   2297.0,2,  -999.0
    35MFCIVA_1, I06SA,    46,  3,    200,      3,2,19930308,1020,-46.3313,  30.0037, 4274,    199.8,   8.0727,  34.4973,2,  34.4970,2,    263.8,2,  8.0526,    259.9,2,     8.61,2,    17.61,2,     1.19,2,    3.705,2,    2.126,4,   -999.0,9,   2122.0,2,   2297.0,2,  -999.0
    35MFCIVA_1, I06SA,    46,  3,    250a,      1,2,19930308,1020,-46.3313,  30.0037, 4274,    258.5,   6.8949,  34.3515,2,  34.3490,2,    268.2,2,  6.8710,    267.7,2,     9.47,2,    19.35,2,     1.33,2,    3.818,2,    2.184,4,   -999.0,9,   2135.0,2,   2290.0,2,  -999.0
    35MFCIVA_1, I06SA,    46,  3,    250b,      2,2,19930308,1020,-46.3313,  30.0037, 4274,    263.0,   6.8449,  34.3451,2,  34.3420,2,    268.2,2,  6.8207,    268.3,2,     9.47,2,    19.10,2,     1.35,2,    3.905,3,    2.288,4,   -999.0,9,   2129.0,2,   2291.0,2,  -999.0
    35MFCIVA_1, I06SA,    47,  1,    400,     11,2,19930308,1408,-45.9998,  29.9967, 4876,    324.9,   6.4283,  34.3078,2,  34.3070,2,    266.2,2,  6.3993,    264.8,2,    10.31,2,    21.34,2,     1.45,2,    3.695,2,    2.007,4,   -999.0,9,   2123.2,2,   2290.0,2,  -999.0
    35MFCIVA_1, I06SA,    47,  1,    500,     10,2,19930308,1408,-45.9998,  29.9967, 4876,    400.6,   5.8029,  34.2683,2,  34.2680,2,    256.4,2,  5.7689,    255.7,2,    16.76,2,    23.53,2,     1.59,2,    3.967,2,    1.816,4,   -999.0,9,   2133.7,2,   2290.0,2,  -999.0
    35MFCIVA_1, I06SA,    47,  1,    600,      9,2,19930308,1408,-45.9998,  29.9967, 4876,    504.5,   5.3313,  34.2933,2,  34.2920,2,    238.8,2,  5.2900,    236.7,2,    17.18,2,    26.60,2,     1.84,2,    2.762,2,    1.458,4,   -999.0,9,   2152.6,2,   2290.0,2,  -999.0
    35MFCIVA_1, I06SA,    47,  1,    700,      8,2,19930308,1408,-45.9998,  29.9967, 4876,    601.7,   4.7138,  34.2815,2,  34.2790,2,    234.3,2,  4.6670,    234.2,2,    21.48,2,    28.13,2,     1.91,2,    2.417,2,    1.296,4,   -999.0,9,   2162.3,2,   2296.0,2,  -999.0
    35MFCIVA_1, I06SA,    47,  1,    800,      7,2,19930308,1408,-45.9998,  29.9967, 4876,    803.0,   3.7595,  34.2967,2,  34.2950,2,    216.4,2,  3.7017,    222.5,2,    33.50,2,    29.59,2,     2.09,2,    1.713,2,    0.898,4,   -999.0,9,   2188.7,2,   2306.0,2,  -999.0
    35MFCIVA_1, I06SA,    47,  1,    900,      6,2,19930308,1408,-45.9998,  29.9967, 4876,   1007.3,   3.1619,  34.3747,2,  34.3730,2,    201.4,2,  3.0924,    205.8,2,    48.96,2,    31.55,2,     2.26,2,    0.983,2,    0.504,4,   -999.0,9,   2215.4,2,   2313.0,2,  -999.0
    35MFCIVA_1, I06SA,    47,  1,   1000,      5,2,19930308,1408,-45.9998,  29.9967, 4876,   1007.3,   3.1619,  34.3747,2,  34.3730,2,    201.4,2,  3.0924,    209.1,2,    48.53,2,    31.55,2,     2.27,2,    1.011,2,    0.527,4,   -999.0,9,   2218.1,2,   2313.0,2,  -999.0
    35MFCIVA_1, I06SA,    47,  1,   1200,      4,2,19930308,1408,-45.9998,  29.9967, 4876,   1209.6,   3.0369,  34.4921,2,  34.4900,2,    180.7,2,  2.9525,    189.5,2,    61.41,2,    32.35,2,     2.33,2,    0.397,2,    0.247,4,   -999.0,9,   2237.8,2,   2329.0,2,  -999.0
    35MFCIVA_1, I06SA,    47,  1,   1400,      3,2,19930308,1408,-45.9998,  29.9967, 4876,   1296.9,   2.8670,  34.5150,2,  34.5150,2,    178.2,2,  2.7773,    178.6,2,    63.55,2,    32.13,2,     2.33,2,    0.376,2,    0.191,4,   -999.0,9,   2240.0,2,   -999.0,9,  -999.0
    35MFCIVA_1, I06SA,    47,  1,   1600a,      1,2,19930308,1408,-45.9998,  29.9967, 4876,   1621.6,   2.5632,  34.6310,2,  34.6310,2,    178.6,2,  2.4503,    187.1,4,    70.41,2,    30.89,2,     2.22,2,    0.166,2,    0.068,4,   -999.0,9,   2251.1,2,   2347.0,2,  -999.0
    35MFCIVA_1, I06SA,    47,  1,   1600b,      2,2,19930308,1408,-45.9998,  29.9967, 4876,   1624.0,   2.5622,  34.6321,2,  34.6330,2,    178.6,2,  2.4492,    179.5,2,    69.56,2,    30.67,2,     2.22,2,    0.167,2,    0.104,4,   -999.0,9,   2247.1,2,   2346.0,2,  -999.0