BOTTLE,20220922CCHSIOAMB
EXPOCODE,SECT_ID,STNNBR,CASTNO,SAMPNO,BTLNBR,BTLNBR_FLAG_W,DATE,TIME,LATITUDE,LONGITUDE,DEPTH,CTDPRS,CTDTMP,CTDSAL,CTDSAL_FLAG_W,SALNTY,SALNTY_FLAG_W,CTDOXY,CTDOXY_FLAG_W,THETA,OXYGEN,OXYGEN_FLAG_W,SILCAT,SILCAT_FLAG_W,NITRAT,NITRAT_FLAG_W,PHSPHT,PHSPHT_FLAG_W,CFC-11,CFC-11_FLAG_W,CFC-12,CFC-12_FLAG_W,DELC14,DELC14_FLAG_W,TCARBN,TCARBN_FLAG_W,ALKALI,ALKALI_FLAG_W,C14ERR
,,,,,,,,,,,,DBAR,ITS-90,PSS-78,,PSS-78,,UMOL/KG,,DEG C,UMOL/KG,,UMOL/KG,,UMOL/KG,,UMOL/KG,,PMOL/KG,,PMOL/KG,,/MILLE,,UMOL/KG,,UMOL/KG,,/MILLE
    35MFCIVA_1, I06SA,    31,  1,    325,     12,2,19930301,1454,-52.3208,  30.0257, 4746,    325.3,   1.7754,  34.2628,2,  34.2610,2,    236.6,2,  1.7584,    228.5,2,    50.85,2,    32.92,2,     2.33,2,    2.643,2,    1.274,2,   -999.0,9,   2181.0,2,   2304.0,2,  -999.0
    35MFCIVA_1, I06SA,    31,  1,    400,     11,2,19930301,1454,-52.3208,  30.0257, 4746,    395.4,   2.0983,  34.3580,2,  34.3580,2,    207.4,2,  2.0764,    200.9,2,    58.73,2,    33.98,2,     2.40,2,    1.606,2,    0.761,2,   -999.0,9,   2073.0,4,   2316.0,2,  -999.0
    35MFCIVA_1, I06SA,    31,  1,    500,     10,2,19930301,1454,-52.3208,  30.0257, 4746,    502.5,   2.1923,  34.4525,2,  34.4520,2,    185.2,2,  2.1635,    182.1,2,    68.37,2,    34.58,2,     2.41,2,    0.924,2,    0.414,2,   -999.0,9,   2232.5,2,   2326.0,2,  -999.0
    35MFCIVA_1, I06SA,    31,  1,    600,      9,2,19930301,1454,-52.3208,  30.0257, 4746,    603.5,   2.2903,  34.5433,2,  34.5410,2,    176.9,2,  2.2546,    173.6,2,    73.62,2,    34.13,2,     2.37,2,    0.525,2,    0.237,2,   -999.0,9,   2237.6,2,   2334.0,2,  -999.0
    35MFCIVA_1, I06SA,    31,  1,    700,      8,2,19930301,1454,-52.3208,  30.0257, 4746,    704.9,   2.2873,  34.5904,2,  34.5890,2,    173.4,2,  2.2449,    172.0,2,    76.25,2,    33.97,2,     2.32,2,    0.437,2,    0.143,3,   -999.0,9,   2232.1,2,   2339.0,2,  -999.0
    35MFCIVA_1, I06SA,    31,  1,    800,      7,2,19930301,1454,-52.3208,  30.0257, 4746,    806.2,   2.2373,  34.6316,2,  34.6330,2,    175.0,2,  2.1885,    172.6,2,    79.32,2,    33.44,2,     2.28,2,    0.312,2,    0.131,2,   -999.0,9,   2240.1,2,   2343.0,2,  -999.0
    35MFCIVA_1, I06SA,    31,  1,    900,      6,2,19930301,1454,-52.3208,  30.0257, 4746,    916.7,   2.2403,  34.6668,2,  34.6660,2,    177.3,2,  2.1839,    175.6,2,    79.75,2,    32.91,2,     2.22,2,    0.227,2,    0.092,2,   -999.0,9,   2236.5,2,   2344.0,2,  -999.0
    35MFCIVA_1, I06SA,    31,  1,   1000,      5,2,19930301,1454,-52.3208,  30.0257, 4746,   1009.1,   2.2993,  34.7057,2,  34.7080,2,    184.6,2,  2.2359,    182.6,2,    77.12,2,    31.55,2,     2.12,2,    0.141,2,    0.086,3,   -999.0,9,   2234.1,2,   2347.0,2,  -999.0
    35MFCIVA_1, I06SA,    31,  1,   1200,      4,2,19930301,1454,-52.3208,  30.0257, 4746,   1210.4,   2.2023,  34.7411,2,  34.7420,2,    194.0,2,  2.1252,    189.5,2,    77.99,2,    30.80,2,     2.05,2,    0.096,2,    0.000,3,   -999.0,9,   2234.0,2,   2348.0,2,  -999.0
    35MFCIVA_1, I06SA,    31,  1,   1400,      3,2,19930301,1454,-52.3208,  30.0257, 4746,   1398.6,   2.2613,  34.7851,2,  34.7830,2,    202.2,2,  2.1693,    201.9,2,  -999.00,5,  -999.00,5,  -999.00,5,    0.015,2,    0.000,3,   -999.0,9,   2228.2,2,   2345.0,2,  -999.0
    35MFCIVA_1, I06SA,    31,  1,   1600a,      1,2,19930301,1454,-52.3208,  30.0257, 4746,   1615.7,   1.8834,  34.7624,2,  34.7610,2,    203.1,2,  1.7791,    199.1,2,  -999.00,5,  -999.00,5,  -999.00,5,    0.106,2,    0.000,3,   -999.0,9,   2235.0,2,   2350.0,2,  -999.0
    35MFCIVA_1, I06SA,    31,  1,   1600b,      2,2,19930301,1454,-52.3208,  30.0257, 4746,   1616.1,   1.8854,  34.7612,2,  34.7610,2,    203.1,2,  1.7811,    198.7,2,  -999.00,5,  -999.00,5,  -999.00,5,    0.083,8,    0.000,3,   -999.0,9,   2245.0,3,   2343.0,3,  -999.0
    35MFCIVA_1, I06SA,    31,  2,     10,     12,2,19930301,1937,-52.3200,  30.0203, 4711,     61.6,   4.1812,  33.8802,2,  33.8790,2,    319.3,2,  4.1770,    314.9,2,     5.50,2,    20.78,2,     1.49,2,    5.375,2,    2.495,2,   -999.0,9,   2119.7,2,   2291.0,2,  -999.0
    35MFCIVA_1, I06SA,    31,  2,     20,     11,2,19930301,1937,-52.3200,  30.0203, 4711,     80.5,   3.1079,  33.9170,2,  33.9060,2,    319.9,2,  3.1030,    315.4,2,    16.50,2,    21.95,2,     1.67,2,    5.641,2,    2.653,2,   -999.0,9,   2134.1,2,   2289.0,2,  -999.0
    35MFCIVA_1, I06SA,    31,  2,     40,     10,2,19930301,1937,-52.3200,  30.0203, 4711,     99.3,   1.5434,  33.9760,2,  33.9740,2,    312.7,2,  1.5387,    316.4,2,    26.12,2,    26.07,2,     2.00,2,    5.888,2,    2.682,2,   -999.0,9,   2156.5,2,   2293.0,2,  -999.0
    35MFCIVA_1, I06SA,    31,  2,     60,      9,2,19930301,1937,-52.3200,  30.0203, 4711,     99.3,   1.5434,  33.9760,2,  33.9740,2,    312.7,2,  1.5387,    316.3,2,    26.12,2,    26.00,2,     1.97,2,    5.871,2,    2.710,2,   -999.0,9,   2155.0,2,   -999.0,9,  -999.0
    35MFCIVA_1, I06SA,    31,  2,     80,      8,2,19930301,1937,-52.3200,  30.0203, 4711,    123.9,   1.2895,  33.9954,2,  33.9950,2,    315.8,2,  1.2838,    315.1,2,    26.12,2,    27.18,2,     1.96,2,    5.721,2,    2.636,2,   -999.0,9,   2156.7,2,   2293.0,2,  -999.0
    35MFCIVA_1, I06SA,    31,  2,    100,      7,2,19930301,1937,-52.3200,  30.0203, 4711,    151.9,   0.9935,  34.0004,2,  33.9990,2,    313.9,2,  0.9868,    320.3,2,    31.16,2,    27.10,2,     1.97,2,    5.909,2,    2.789,2,   -999.0,9,   2158.9,2,   2295.0,2,  -999.0
    35MFCIVA_1, I06SA,    31,  2,    125,      6,2,19930301,1937,-52.3200,  30.0203, 4711,    173.4,   0.9465,  34.0200,2,  34.0220,2,    309.1,2,  0.9389,    313.8,2,    31.62,2,    27.62,2,     2.00,2,    5.671,2,    2.576,2,   -999.0,9,   2158.9,2,   2298.0,2,  -999.0
    35MFCIVA_1, I06SA,    31,  2,    150,      5,2,19930301,1937,-52.3200,  30.0203, 4711,    200.4,   0.8074,  34.0287,2,  34.0290,2,    312.3,2,  0.7989,    314.0,2,    35.28,2,    27.84,2,     2.00,2,    5.589,2,    2.653,2,   -999.0,9,   2163.0,2,   2298.0,2,  -999.0
    35MFCIVA_1, I06SA,    31,  2,    175,      4,2,19930301,1937,-52.3200,  30.0203, 4711,    254.3,   1.1865,  34.1197,2,  34.1110,2,    282.6,2,  1.1747,    282.9,2,    39.86,2,    29.61,2,     2.13,2,    4.454,2,    2.060,2,   -999.0,9,   2170.0,2,   2297.0,2,  -999.0
    35MFCIVA_1, I06SA,    31,  2,    200,      3,2,19930301,1937,-52.3200,  30.0203, 4711,    254.3,   1.1865,  34.1197,2,  34.1160,2,    282.6,2,  1.1747,    281.4,2,    40.32,2,    29.46,2,     2.11,2,    4.404,2,    2.120,2,   -999.0,9,   2170.4,2,   2297.0,2,  -999.0
    35MFCIVA_1, I06SA,    31,  2,    250a,      2,2,19930301,1937,-52.3200,  30.0203, 4711,    255.4,   1.1125,  34.1102,2,  34.1150,2,    282.5,2,  1.1008,    281.7,2,    41.23,2,    29.46,2,     2.09,2,    4.441,2,    2.079,2,   -999.0,9,   2162.0,2,   -999.0,9,  -999.0
    35MFCIVA_1, I06SA,    31,  2,    250b,      1,2,19930301,1937,-52.3200,  30.0203, 4711,    255.4,   1.1125,  34.1102,2,  34.1140,2,    282.5,2,  1.1008,    282.1,2,    41.23,2,    29.46,2,     2.09,2,    4.431,2,    2.096,2,   -999.0,9,   2159.6,2,   -999.0,9,  -999.0
    35MFCIVA_1, I06SA,    32,  1,   1500,     12,2,19930302,0155,-51.6315,  29.9775, 4880,   1515.6,   2.3423,  34.7791,2,  34.7790,2,    199.3,2,  2.2403,    200.6,2,    70.40,2,    27.88,2,     1.97,2,    0.071,2,    0.000,3,   -999.0,9,   2224.9,2,   2346.0,2,  -999.0
    35MFCIVA_1, I06SA,    32,  1,   1750,     11,2,19930302,0155,-51.6315,  29.9775, 4880,   1766.7,   2.1033,  34.7869,2,  34.7880,2,    204.9,2,  1.9842,    205.8,2,    75.31,2,    27.52,2,     1.92,2,    0.063,2,    0.000,3,   -999.0,9,   2226.3,2,   2346.0,2,  -999.0
    35MFCIVA_1, I06SA,    32,  1,   2000,     10,2,19930302,0155,-51.6315,  29.9775, 4880,   2039.6,   1.8354,  34.7807,2,  34.7820,2,    206.4,2,  1.6977,    208.4,2,    82.68,2,    27.88,2,     1.95,2,    0.054,3,    0.000,3,   -999.0,9,   2233.6,2,   2350.0,2,  -999.0
    35MFCIVA_1, I06SA,    32,  1,   2250,      9,2,19930302,0155,-51.6315,  29.9775, 4880,   2270.8,   1.6034,  34.7654,2,  34.7660,2,    206.7,2,  1.4500,    207.3,2,    90.86,2,    28.67,2,     2.00,2,    0.067,2,    0.000,3,   -999.0,9,   2234.4,2,   2356.0,2,  -999.0
    35MFCIVA_1, I06SA,    32,  1,   2500,      8,2,19930302,0155,-51.6315,  29.9775, 4880,   2440.0,   1.5125,  34.7611,2,  34.7630,2,    210.6,2,  1.3461,    207.7,2,    93.32,2,    28.96,2,     2.04,2,    0.095,2,    0.033,3,   -999.0,9,   2238.3,2,   -999.0,9,  -999.0
    35MFCIVA_1, I06SA,    32,  1,   3000,      7,2,19930302,0155,-51.6315,  29.9775, 4880,   2789.1,   1.4245,  34.7657,2,  34.7660,2,    217.3,2,  1.2286,    213.1,2,  -999.00,5,  -999.00,5,  -999.00,5,    0.097,2,    0.000,3,   -999.0,9,   2240.6,2,   2360.0,2,  -999.0
    35MFCIVA_1, I06SA,    32,  1,   3500,      6,2,19930302,0155,-51.6315,  29.9775, 4880,   3042.4,   1.0765,  34.7290,2,  34.7290,2,    211.9,2,  0.8648,    209.0,2,   108.05,2,    30.33,2,     2.13,2,    0.079,3,    0.000,2,   -999.0,9,   2250.6,2,   2360.0,2,  -999.0
    35MFCIVA_1, I06SA,    32,  1,   4000a,      5,2,19930302,0155,-51.6315,  29.9775, 4880,   3555.8,   0.5704,  34.6895,2,  34.6910,2,    209.3,2,  0.3224,    209.8,2,   124.42,2,    32.00,2,     2.26,2,    0.185,2,    0.060,2,   -999.0,9,   2260.0,2,   2360.0,2,  -999.0
    35MFCIVA_1, I06SA,    32,  1,   4500,      3,2,19930302,0155,-51.6315,  29.9775, 4880,   4069.4,   0.2543,  34.6720,2,  34.6730,2,    218.2,2, -0.0362,    219.0,2,   129.33,2,    32.43,2,     2.28,2,    0.189,2,    0.079,2,   -999.0,9,   2254.9,2,   2360.0,2,  -999.0
    35MFCIVA_1, I06SA,    32,  1,   4000b,      4,2,19930302,0155,-51.6315,  29.9775, 4880,   4070.4,   0.2533,  34.6739,2,  34.6730,2,    217.8,2, -0.0373,    218.6,2,   128.51,2,    32.21,2,     2.28,2,    0.195,2,    0.069,2,   -999.0,9,   2259.0,2,   2357.0,2,  -999.0
    35MFCIVA_1, I06SA,    32,  1,   4750,      2,2,19930302,0155,-51.6315,  29.9775, 4880,   4582.3,   0.0512,  34.6664,2,  34.6650,2,    229.1,2, -0.2870,    228.0,2,   130.56,2,    32.21,2,     2.26,2,    0.189,2,    0.078,2,   -999.0,9,   2254.4,2,   2356.0,2,  -999.0
    35MFCIVA_1, I06SA,    32,  1,   F-20,      1,2,19930302,0155,-51.6315,  29.9775, 4880,   4954.2,  -0.0058,  34.6611,2,  34.6610,2,    233.1,2, -0.3832,    231.4,2,   130.97,2,    32.72,2,     2.23,2,    0.186,2,    0.085,2,   -999.0,9,   2256.1,2,   -999.0,9,  -999.0
    35MFCIVA_1, I06SA,    32,  2,    325,     12,2,19930302,0705,-51.6467,  29.9815, 4880,    329.0,   2.4642,  34.2137,2,  34.2110,2,    247.8,2,  2.4452,    243.6,2,    36.50,2,    30.81,2,     2.20,2,    2.842,2,    1.333,2,   -999.0,9,   2185.5,2,   2296.0,2,  -999.0
    35MFCIVA_1, I06SA,    32,  2,    400,     11,2,19930302,0705,-51.6467,  29.9815, 4880,    402.5,   2.4322,  34.2755,2,  34.2730,2,    228.7,2,  2.4088,    223.0,2,    45.11,2,    31.98,2,     2.25,2,    2.028,2,    0.925,2,   -999.0,9,   2204.2,2,   2304.0,2,  -999.0
    35MFCIVA_1, I06SA,    32,  2,    500,     10,2,19930302,0705,-51.6467,  29.9815, 4880,    504.8,   2.4002,  34.3515,2,  34.3500,2,    204.9,2,  2.3705,    203.0,2,    54.13,2,    32.85,2,     2.32,2,    1.344,2,    0.582,2,   -999.0,9,   2222.1,2,   2315.0,2,  -999.0
    35MFCIVA_1, I06SA,    32,  2,    600,      9,2,19930302,0705,-51.6467,  29.9815, 4880,    606.2,   2.4102,  34.4436,2,  34.4430,2,    187.7,2,  2.3739,    186.8,2,    64.78,2,    33.44,2,     2.33,2,    0.835,2,    0.336,2,   -999.0,9,   2245.6,2,   2325.0,2,  -999.0
    35MFCIVA_1, I06SA,    32,  2,    700,      8,2,19930302,0705,-51.6467,  29.9815, 4880,    707.9,   2.4892,  34.5183,2,  34.5180,2,    177.8,2,  2.4456,    178.2,2,    68.47,2,    33.14,2,     2.31,2,    0.492,2,    0.211,2,   -999.0,9,   2231.3,3,   2330.0,2,  -999.0
    35MFCIVA_1, I06SA,    32,  2,    800,      7,2,19930302,0705,-51.6467,  29.9815, 4880,    806.3,   2.4432,  34.5764,2,  34.5750,2,    177.5,2,  2.3931,    176.7,2,    72.15,2,    32.70,2,     2.29,2,    0.357,2,    0.133,3,   -999.0,9,   2229.6,3,   2334.0,2,  -999.0
    35MFCIVA_1, I06SA,    32,  2,    900,      6,2,19930302,0705,-51.6467,  29.9815, 4880,    909.7,   2.4652,  34.6242,2,  34.6250,2,    180.2,2,  2.4077,    176.1,2,    73.79,2,    32.05,2,     2.23,2,    0.273,2,    0.102,3,   -999.0,9,   2236.0,2,   2338.0,2,  -999.0
    35MFCIVA_1, I06SA,    32,  2,   1000,      5,2,19930302,0705,-51.6467,  29.9815, 4880,   1008.1,   2.4402,  34.6628,2,  34.6620,2,    179.8,2,  2.3759,    178.8,2,    74.61,2,    31.39,2,     2.17,2,    0.157,2,    0.054,3,   -999.0,9,   2236.2,2,   2341.0,2,  -999.0
    35MFCIVA_1, I06SA,    32,  2,   1100,      4,2,19930302,0705,-51.6467,  29.9815, 4880,   1111.7,   2.4482,  34.7077,2,  34.7050,2,    184.9,2,  2.3762,    184.1,2,    73.79,2,    30.36,2,     2.10,2,    0.104,2,    0.000,3,   -999.0,9,   2232.0,2,   2342.0,2,  -999.0
    35MFCIVA_1, I06SA,    32,  2,   1200,      3,2,19930302,0705,-51.6467,  29.9815, 4880,   1212.7,   2.4582,  34.7410,2,  34.7390,2,    191.6,2,  2.3785,    190.7,2,    71.33,2,    29.41,2,     2.05,2,    0.091,2,    0.000,3,   -999.0,9,   2228.1,2,   2342.0,2,  -999.0
    35MFCIVA_1, I06SA,    32,  2,   1350a,      2,2,19930302,0705,-51.6467,  29.9815, 4880,   1361.3,   2.3722,  34.7661,2,  34.7650,2,    199.9,2,  2.2820,    197.1,2,    71.73,2,    28.46,2,     1.93,2,    0.047,3,    0.038,3,   -999.0,9,   2228.0,2,   2343.0,2,  -999.0
    35MFCIVA_1, I06SA,    32,  2,   1350b,      1,2,19930302,0705,-51.6467,  29.9815, 4880,   1365.4,   2.3582,  34.7643,2,  34.7640,2,    197.5,2,  2.2678,    196.0,2,    71.32,2,    28.54,2,     1.95,2,    0.079,2,    0.030,8,   -999.0,9,   2228.4,2,   2343.0,2,  -999.0
    35MFCIVA_1, I06SA,    32,  3,     10,     12,2,19930302,0852,-51.6318,  29.9537, 4836,     11.0,   4.6469,  33.8812,2,  33.8810,2,    308.5,2,  4.6461,    309.1,2,     4.83,2,    20.94,2,     1.48,2,    5.340,2,    2.503,2,   -999.0,9,   2111.1,2,   2284.0,2,  -999.0
    35MFCIVA_1, I06SA,    32,  3,     20,     11,2,19930302,0852,-51.6318,  29.9537, 4836,     20.4,   4.6409,  33.8824,2,  33.8810,2,    313.1,2,  4.6394,    308.8,2,     4.83,2,    20.94,2,     1.48,2,    5.255,2,    2.428,2,   -999.0,9,   2110.9,2,   2286.0,2,  -999.0
    35MFCIVA_1, I06SA,    32,  3,     40,     10,2,19930302,0852,-51.6318,  29.9537, 4836,     38.0,   4.6419,  33.8815,2,  33.8810,2,    312.8,2,  4.6391,    308.6,2,     4.83,2,    20.65,2,     1.48,2,    5.262,2,    2.514,2,   -999.0,9,   2110.4,2,   2284.0,2,  -999.0
    35MFCIVA_1, I06SA,    32,  3,     60,      9,2,19930302,0852,-51.6318,  29.9537, 4836,     61.4,   4.6259,  33.8822,2,  33.8810,2,    312.6,2,  4.6214,    308.0,2,     6.44,2,    21.09,2,     1.48,2,    5.272,2,    2.416,2,   -999.0,9,   2112.7,2,   2285.0,2,  -999.0
    35MFCIVA_1, I06SA,    32,  3,     80,      8,2,19930302,0852,-51.6318,  29.9537, 4836,     79.9,   4.0003,  33.9012,2,  33.9150,2,    306.6,2,  3.9949,    305.7,2,     8.85,2,    22.55,2,     1.63,2,    5.343,2,    2.488,2,   -999.0,9,   2123.4,2,   2284.0,2,  -999.0
    35MFCIVA_1, I06SA,    32,  3,    100,      7,2,19930302,0852,-51.6318,  29.9537, 4836,    100.2,   2.9530,  33.9513,2,  33.9620,2,    304.0,2,  2.9470,    309.3,2,    14.49,2,    25.03,2,     1.80,2,    5.477,2,    2.623,2,   -999.0,9,   2137.6,2,   2281.0,2,  -999.0
    35MFCIVA_1, I06SA,    32,  3,    125,      6,2,19930302,0852,-51.6318,  29.9537, 4836,    126.4,   2.6861,  34.0124,2,  34.0120,2,    297.5,2,  2.6788,    297.5,2,    17.70,2,    26.86,2,     1.84,2,    5.186,2,    2.346,2,   -999.0,9,   2145.2,2,   2281.0,2,  -999.0
    35MFCIVA_1, I06SA,    32,  3,    150,      5,2,19930302,0852,-51.6318,  29.9537, 4836,    151.6,   2.7131,  34.0584,2,  34.0540,2,    287.2,2,  2.7043,    289.1,2,    19.31,2,    27.30,2,     1.89,2,    4.827,2,    2.269,2,   -999.0,9,   2149.9,2,   2286.0,2,  -999.0
    35MFCIVA_1, I06SA,    32,  3,    175,      4,2,19930302,0852,-51.6318,  29.9537, 4836,    173.6,   2.8041,  34.0944,2,  34.0900,2,    282.1,2,  2.7938,    281.6,2,    20.92,2,    28.10,2,     1.90,2,    4.485,2,    2.103,2,   -999.0,9,   2153.9,2,   2286.0,2,  -999.0
    35MFCIVA_1, I06SA,    32,  3,    200,      3,2,19930302,0852,-51.6318,  29.9537, 4836,    202.8,   2.7841,  34.1327,2,  34.1330,2,    273.8,2,  2.7721,    271.4,2,    24.14,2,    28.98,2,     1.95,2,    4.083,2,    1.910,2,   -999.0,9,   2160.8,2,   2288.0,2,  -999.0
    35MFCIVA_1, I06SA,    32,  3,    250a,      2,2,19930302,0852,-51.6318,  29.9537, 4836,    247.5,   2.6941,  34.1720,2,  34.1710,2,    262.5,2,  2.6795,    258.2,2,    28.97,2,    29.71,2,     2.02,2,    3.391,2,    1.555,2,   -999.0,9,   2171.0,2,   2292.0,2,  -999.0
    35MFCIVA_1, I06SA,    32,  3,    250b,      1,2,19930302,0852,-51.6318,  29.9537, 4836,    251.7,   2.6981,  34.1716,2,  34.1700,2,    263.7,2,  2.6833,    258.4,2,    28.97,2,    29.71,2,     2.03,2,    3.450,2,    1.599,2,   -999.0,9,   2172.0,2,   2292.0,2,  -999.0