BOTTLE,20220922CCHSIOAMB
EXPOCODE,SECT_ID,STNNBR,CASTNO,SAMPNO,BTLNBR,BTLNBR_FLAG_W,DATE,TIME,LATITUDE,LONGITUDE,DEPTH,CTDPRS,CTDTMP,CTDSAL,CTDSAL_FLAG_W,SALNTY,SALNTY_FLAG_W,CTDOXY,CTDOXY_FLAG_W,THETA,OXYGEN,OXYGEN_FLAG_W,SILCAT,SILCAT_FLAG_W,NITRAT,NITRAT_FLAG_W,PHSPHT,PHSPHT_FLAG_W,CFC-11,CFC-11_FLAG_W,CFC-12,CFC-12_FLAG_W,DELC14,DELC14_FLAG_W,TCARBN,TCARBN_FLAG_W,ALKALI,ALKALI_FLAG_W,C14ERR
,,,,,,,,,,,,DBAR,ITS-90,PSS-78,,PSS-78,,UMOL/KG,,DEG C,UMOL/KG,,UMOL/KG,,UMOL/KG,,UMOL/KG,,PMOL/KG,,PMOL/KG,,/MILLE,,UMOL/KG,,UMOL/KG,,/MILLE
    35MFCIVA_1, I06SA,     6,  3,     10,     12,2,19930206,1202,-68.0012,  29.9897, 3764,     10.3,   0.2013,  33.9122,2,  33.9150,2,    360.2,2,  0.2009,    359.0,2,    62.25,2,    25.91,2,     1.59,2,    6.650,2,    2.968,2,    -97.0,2,   2151.7,2,   2301.0,2,     4.0
    35MFCIVA_1, I06SA,     6,  3,     20,     11,3,19930206,1202,-68.0012,  29.9897, 3764,     20.1,   0.1152,  33.9158,2,  33.9190,2,    356.6,2,  0.1145,    359.3,2,    62.25,2,    26.08,2,     1.59,2,    6.608,2,    2.979,2,    -97.0,2,   2152.9,2,   2301.0,2,     4.0
    35MFCIVA_1, I06SA,     6,  3,     40,     10,2,19930206,1202,-68.0012,  29.9897, 3764,     40.4,  -0.1169,  33.9307,2,  33.9330,2,    355.1,2, -0.1182,    354.3,2,    63.06,2,    26.74,2,     1.66,2,    6.593,8,    2.917,8,    -98.0,2,   2161.9,2,   2302.0,2,     4.0
    35MFCIVA_1, I06SA,     6,  3,     60,      9,2,19930206,1202,-68.0012,  29.9897, 3764,     61.3,  -1.7245,  34.2924,2,  34.2940,2,    325.1,2, -1.7257,   -999.0,5,    69.59,2,    31.08,2,     2.05,2,    5.643,2,    2.545,2,   -999.0,9,   2218.1,2,   2323.0,2,  -999.0
    35MFCIVA_1, I06SA,     6,  3,     80,      8,2,19930206,1202,-68.0012,  29.9897, 3764,     81.8,  -1.7565,  34.3304,2,  34.3340,2,    317.9,2, -1.7582,    319.4,2,    69.59,2,    31.24,2,     2.06,2,    5.633,2,    2.547,2,   -999.0,9,   2215.1,2,   -999.0,9,  -999.0
    35MFCIVA_1, I06SA,     6,  3,    100,      7,2,19930206,1202,-68.0012,  29.9897, 3764,    101.6,  -1.7615,  34.3487,2,  34.3500,2,    318.0,2, -1.7636,    318.3,2,    68.77,2,    31.41,2,     2.05,2,    5.588,2,    2.512,2,   -114.0,2,   2216.4,2,   2326.0,2,     4.0
    35MFCIVA_1, I06SA,     6,  3,    125,      6,2,19930206,1202,-68.0012,  29.9897, 3764,    126.4,  -1.7826,  34.3587,2,  34.3620,2,    317.9,2, -1.7851,    316.8,2,    68.36,2,    31.41,2,     2.08,2,    5.586,2,    2.507,2,   -999.0,9,   2216.4,2,   2325.0,2,  -999.0
    35MFCIVA_1, I06SA,     6,  3,    150,      5,2,19930206,1202,-68.0012,  29.9897, 3764,    152.1,  -1.6934,  34.3688,2,  34.3710,2,    315.2,2, -1.6967,    313.5,2,    70.00,2,    31.58,2,     2.06,2,    5.500,2,    2.491,2,   -117.0,2,   2218.7,2,   2327.0,2,     4.0
    35MFCIVA_1, I06SA,     6,  3,    175,      4,2,19930206,1202,-68.0012,  29.9897, 3764,    176.2,  -1.3480,  34.3983,2,  34.4010,2,    305.3,2, -1.3523,    297.9,2,    74.91,2,    32.08,2,     2.08,2,    4.775,2,    2.183,2,   -999.0,9,   2225.2,2,   2329.0,2,  -999.0
    35MFCIVA_1, I06SA,     6,  3,    200,      3,2,19930206,1202,-68.0012,  29.9897, 3764,    201.8,  -0.5472,  34.4732,2,  34.4680,2,    278.8,2, -0.5536,    265.5,2,    83.50,2,    32.58,2,     2.15,2,    3.528,2,    1.552,2,   -141.0,2,   2236.2,2,   2336.0,2,     4.0
    35MFCIVA_1, I06SA,     6,  3,    250a,      1,2,19930206,1202,-68.0012,  29.9897, 3764,    252.9,   0.2313,  34.5587,2,  34.5570,2,    245.7,2,  0.2214,    231.7,2,    93.32,2,    33.25,2,     2.19,2,    2.262,2,    0.983,2,   -999.0,9,   2245.0,2,   2344.0,2,  -999.0
    35MFCIVA_1, I06SA,     6,  3,    250b,      2,2,19930206,1202,-68.0012,  29.9897, 3764,    253.0,   0.2313,  34.5587,2,  34.5550,2,    245.7,2,  0.2214,    232.9,2,    92.51,2,    33.25,2,     2.19,2,    2.252,2,    0.977,2,   -999.0,9,   2247.0,2,   2347.0,2,  -999.0
    35MFCIVA_1, I06SA,     7,  1,    325,     12,2,19930206,1632,-67.5000,  29.9893, 3645,    326.4,   1.0055,  34.6637,2,  34.6650,2,    206.4,2,  0.9903,    205.9,2,   100.21,2,    33.56,2,     2.28,2,    0.944,2,    0.404,2,   -999.0,9,   2254.3,2,   2354.0,2,  -999.0
    35MFCIVA_1, I06SA,     7,  1,    400,     11,2,19930206,1632,-67.5000,  29.9893, 3645,    403.5,   1.0235,  34.6853,2,  34.6900,2,    206.9,2,  1.0043,    205.1,2,   101.81,2,    33.22,2,     2.25,2,    0.733,2,    0.323,2,   -999.0,9,   2254.8,2,   2353.0,2,  -999.0
    35MFCIVA_1, I06SA,     7,  1,    500,     10,2,19930206,1632,-67.5000,  29.9893, 3645,    504.1,   0.9535,  34.6910,2,  34.7000,2,    203.6,2,  0.9294,    207.2,2,   105.02,2,    33.06,2,     2.21,2,    0.608,2,    0.260,2,   -999.0,9,   2257.6,2,   2357.0,2,  -999.0
    35MFCIVA_1, I06SA,     7,  1,    600,      9,2,19930206,1632,-67.5000,  29.9893, 3645,    605.1,   0.9315,  34.7014,2,  34.7010,2,    203.7,2,  0.9021,    206.8,2,   110.63,2,    33.06,2,     2.28,2,    0.488,2,    0.166,3,   -999.0,9,   2265.1,2,   2360.0,2,  -999.0
    35MFCIVA_1, I06SA,     7,  1,    700,      8,2,19930206,1632,-67.5000,  29.9893, 3645,    704.7,   0.8594,  34.7014,2,  34.7030,2,    197.2,2,  0.8251,    206.3,2,   112.23,2,    33.06,2,     2.28,2,    0.374,8,    0.171,8,   -999.0,9,   2261.2,2,   2361.0,2,  -999.0
    35MFCIVA_1, I06SA,     7,  1,    800,      7,2,19930206,1632,-67.5000,  29.9893, 3645,    806.6,   0.7384,  34.6969,2,  34.6990,2,    202.5,2,  0.6992,    209.9,2,   117.84,2,    33.39,2,     2.27,2,    0.424,2,    0.185,2,   -999.0,9,   2261.9,2,   2365.0,2,  -999.0
    35MFCIVA_1, I06SA,     7,  1,    900,      6,2,19930206,1632,-67.5000,  29.9893, 3645,    911.0,   0.6424,  34.6944,2,  34.6930,2,    206.7,2,  0.5980,    210.1,2,   118.64,2,    33.39,2,     2.28,2,    0.412,2,    0.173,2,   -999.0,9,   2262.0,2,   2362.0,2,  -999.0
    35MFCIVA_1, I06SA,     7,  1,   1000,      5,2,19930206,1632,-67.5000,  29.9893, 3645,   1010.0,   0.5614,  34.6900,2,  34.6900,2,    204.8,2,  0.5120,    210.7,2,   123.45,2,    33.56,2,     2.34,2,    0.418,2,    0.177,2,   -999.0,9,   2261.3,2,   2361.0,2,  -999.0
    35MFCIVA_1, I06SA,     7,  1,   1200,      4,2,19930206,1632,-67.5000,  29.9893, 3645,   1211.4,   0.3933,  34.6806,2,  34.6820,2,    207.4,2,  0.3337,    213.9,2,   127.46,2,    33.90,2,     2.27,2,    0.426,2,    0.192,2,   -999.0,9,   2262.2,2,   2359.0,2,  -999.0
    35MFCIVA_1, I06SA,     7,  1,   1400,      3,2,19930206,1632,-67.5000,  29.9893, 3645,   1415.9,   0.2763,  34.6775,2,  34.6800,2,    210.1,2,  0.2054,    215.3,2,   129.86,2,    34.07,2,     2.30,2,    0.380,2,    0.171,2,   -999.0,9,   2263.6,2,   2361.0,2,  -999.0
    35MFCIVA_1, I06SA,     7,  1,   1600a,      2,2,19930206,1632,-67.5000,  29.9893, 3645,   1517.7,   0.2223,  34.6743,2,  34.6760,2,    212.3,2,  0.1456,    217.0,2,   129.06,2,    34.07,2,     2.30,2,    0.404,2,    0.162,2,   -999.0,9,   2262.0,2,   -999.0,9,  -999.0
    35MFCIVA_1, I06SA,     7,  1,   1600b,      1,2,19930206,1632,-67.5000,  29.9893, 3645,   1618.0,   0.1693,  34.6737,2,  34.6780,2,    215.6,2,  0.0868,    218.4,2,   129.86,2,    34.07,2,     2.27,2,    0.404,2,    0.173,2,   -999.0,9,   2261.0,2,   2362.0,2,  -999.0
    35MFCIVA_1, I06SA,     7,  2,     10,     12,2,19930206,1902,-67.5013,  29.9938, 3622,     10.6,   0.6574,  33.9006,2,  33.9040,2,    352.0,2,  0.6570,    353.1,2,    63.37,2,    26.66,2,     1.56,2,    6.641,2,    2.914,2,   -999.0,9,   2160.3,2,   2305.0,2,  -999.0
    35MFCIVA_1, I06SA,     7,  2,     20,     11,2,19930206,1902,-67.5013,  29.9938, 3622,     20.2,   0.5894,  33.9071,2,  33.9240,2,    349.4,2,  0.5886,    355.8,2,    60.16,2,    26.49,2,     1.58,2,    6.598,2,    2.948,2,   -999.0,9,   2163.0,2,   2308.0,2,  -999.0
    35MFCIVA_1, I06SA,     7,  2,     40,     10,2,19930206,1902,-67.5013,  29.9938, 3622,     40.6,  -1.5763,  34.2736,2,  34.2800,2,    342.0,2, -1.5771,    340.2,2,    61.74,2,    29.18,2,     1.83,2,    5.654,2,    2.497,2,   -999.0,9,   2202.0,2,   2329.0,2,  -999.0
    35MFCIVA_1, I06SA,     7,  2,     60,      9,2,19930206,1902,-67.5013,  29.9938, 3622,     61.7,  -1.7635,  34.3443,2,  34.3480,2,    322.1,2, -1.7648,    319.3,2,    65.75,2,    31.04,2,     2.05,2,    5.526,2,    2.458,2,   -999.0,9,   2217.0,2,   2331.0,2,  -999.0
    35MFCIVA_1, I06SA,     7,  2,     80,      8,2,19930206,1902,-67.5013,  29.9938, 3622,     81.5,  -1.7926,  34.3528,2,  34.3560,2,    314.0,2, -1.7942,    314.4,2,    66.55,2,    31.54,2,     2.06,2,    5.455,2,    2.404,2,   -999.0,9,   2219.0,2,   2333.0,2,  -999.0
    35MFCIVA_1, I06SA,     7,  2,    100,      7,2,19930206,1902,-67.5013,  29.9938, 3622,    102.3,  -1.7335,  34.3562,2,  34.3600,2,    319.5,2, -1.7356,    312.4,2,    67.35,2,    31.71,2,     2.06,2,    5.444,2,    2.387,2,   -999.0,9,   2224.0,2,   2331.0,2,  -999.0
    35MFCIVA_1, I06SA,     7,  2,    125,      6,2,19930206,1902,-67.5013,  29.9938, 3622,    126.2,  -1.4391,  34.3869,2,  34.3940,2,    311.5,2, -1.4420,    302.9,2,    71.36,2,    32.55,2,     2.11,2,    5.059,2,    2.274,2,   -999.0,9,   2225.0,2,   2332.0,2,  -999.0
    35MFCIVA_1, I06SA,     7,  2,    150,      5,2,19930206,1902,-67.5013,  29.9938, 3622,    152.2,  -0.5442,  34.4679,2,  34.4730,2,    266.6,2, -0.5490,    317.2,4,    79.37,2,    33.06,2,     2.17,2,    3.541,8,    1.592,8,   -999.0,9,   2237.0,2,   2340.0,2,  -999.0
    35MFCIVA_1, I06SA,     7,  2,    175,      4,2,19930206,1902,-67.5013,  29.9938, 3622,    176.6,   0.1823,  34.5460,2,  34.5410,2,    230.9,2,  0.1755,    232.6,2,    86.59,2,    33.90,2,     2.21,2,    2.356,2,    1.047,2,   -999.0,9,   2247.0,2,   2344.0,2,  -999.0
    35MFCIVA_1, I06SA,     7,  2,    200,      3,2,19930206,1902,-67.5013,  29.9938, 3622,    201.6,   0.6484,  34.5971,2,  34.5920,2,    220.6,2,  0.6399,    216.5,2,    92.20,2,    34.07,2,     2.24,2,    1.694,2,    0.750,2,   -999.0,9,   2253.0,2,   2348.0,2,  -999.0
    35MFCIVA_1, I06SA,     7,  2,    250a,      1,2,19930206,1902,-67.5013,  29.9938, 3622,    254.7,   0.8324,  34.6333,2,  34.6310,2,    209.5,2,  0.8211,    209.7,2,    94.60,2,    33.73,2,     2.20,2,    1.239,2,    0.570,2,   -999.0,9,   2255.0,2,   -999.0,9,  -999.0
    35MFCIVA_1, I06SA,     7,  2,    250b,      2,2,19930206,1902,-67.5013,  29.9938, 3622,    257.2,   0.8504,  34.6350,2,  34.6330,2,    209.5,2,  0.8390,    209.4,2,    96.20,2,    33.90,2,     2.21,2,    1.274,2,    0.561,2,   -999.0,9,   2256.0,2,   2350.0,2,  -999.0
    35MFCIVA_1, I06SA,     8,  1,   1400,     12,2,19930207,0002,-66.9893,  29.9862, 4107,   1414.1,   0.2943,  34.6779,2,  34.6790,2,    212.3,2,  0.2233,    215.4,2,   124.04,2,    32.51,2,     2.30,2,    0.375,2,    0.149,3,   -999.0,9,   2256.9,2,   2364.0,2,  -999.0
    35MFCIVA_1, I06SA,     8,  1,   1500,     11,3,19930207,0002,-66.9893,  29.9862, 4107,   1517.4,   0.2453,  34.6775,2,  34.6770,2,    213.6,2,  0.1684,    215.6,2,   125.55,2,    32.51,2,     2.29,2,    0.358,2,    0.134,3,   -999.0,9,   2258.2,2,   2364.0,2,  -999.0
    35MFCIVA_1, I06SA,     8,  1,   1600,     10,2,19930207,0002,-66.9893,  29.9862, 4107,   1618.0,   0.1983,  34.6753,2,  34.6770,2,    214.2,2,  0.1155,    217.1,2,   124.80,2,    32.51,2,     2.33,2,    0.360,2,    0.136,3,   -999.0,9,   2259.1,2,   2364.0,2,  -999.0
    35MFCIVA_1, I06SA,     8,  1,   1800,      9,2,19930207,0002,-66.9893,  29.9862, 4107,   1821.4,   0.0972,  34.6721,2,  34.6720,2,    217.9,2,  0.0023,    220.0,2,   124.80,2,    32.51,2,     2.29,2,    0.526,2,    0.119,3,   -154.0,2,   2257.7,2,   2365.0,2,     5.0
    35MFCIVA_1, I06SA,     8,  1,   2000,      8,2,19930207,0002,-66.9893,  29.9862, 4107,   2023.6,   0.0212,  34.6692,2,  34.6690,2,    224.2,2, -0.0865,    224.2,2,   127.82,2,    32.35,2,     2.25,2,    0.642,2,    0.256,2,   -999.0,9,   2258.9,2,   2362.0,2,  -999.0
    35MFCIVA_1, I06SA,     8,  1,   2250,      7,2,19930207,0002,-66.9893,  29.9862, 4107,   2277.2,  -0.0548,  34.6660,2,  34.6670,2,    229.4,2, -0.1795,    227.9,2,   128.58,2,    32.35,2,     2.27,2, -999.000,5, -999.000,5,   -154.0,2,   2255.1,2,   2364.0,2,     4.0
    35MFCIVA_1, I06SA,     8,  1,   2500,      6,2,19930207,0002,-66.9893,  29.9862, 4107,   2531.1,  -0.1169,  34.6639,2,  34.6650,2,    233.8,2, -0.2596,    231.3,2,   127.07,2,    32.35,2,     2.24,2,    0.681,2,    0.296,2,   -999.0,9,   2255.6,2,   2363.0,2,  -999.0
    35MFCIVA_1, I06SA,     8,  1,   2750,      5,2,19930207,0002,-66.9893,  29.9862, 4107,   2786.7,  -0.1659,  34.6620,2,  34.6630,2,    233.1,2, -0.3279,    234.2,2,   127.82,2,    32.19,2,     2.25,2,    0.683,2,    0.289,2,   -166.0,2,   2254.7,2,   2362.0,2,     6.0
    35MFCIVA_1, I06SA,     8,  1,   3000,      4,2,19930207,0002,-66.9893,  29.9862, 4107,   3250.8,  -0.2249,  34.6577,2,  34.6590,2,    240.7,2, -0.4247,    239.4,2,   126.31,2,    32.19,2,     2.30,2,    0.925,2,    0.395,2,   -160.0,2,   2252.2,2,   2361.0,2,     4.0
    35MFCIVA_1, I06SA,     8,  1,   3500,      3,2,19930207,0002,-66.9893,  29.9862, 4107,   3767.5,  -0.2750,  34.6547,2,  34.6560,2,    243.6,2, -0.5206,    242.8,2,   127.06,2,    32.02,2,     2.22,2,    0.969,2,    0.428,2,   -167.0,2,   2252.5,2,   2359.0,2,     4.0
    35MFCIVA_1, I06SA,     8,  1,   F-20a,      1,2,19930207,0002,-66.9893,  29.9862, 4107,   4146.6,  -0.3450,  34.6508,2,  34.6520,2,    250.4,2, -0.6255,    247.2,2,   129.33,2,    32.10,2,     2.21,2,    0.921,2,    0.369,2,   -150.0,2,   2252.0,2,   2357.0,2,     4.0
    35MFCIVA_1, I06SA,     8,  1,   F-20b,      2,2,19930207,0002,-66.9893,  29.9862, 4107,   4146.8,  -0.3460,  34.6518,2,  34.6530,2,    250.4,2, -0.6265,    246.8,2,   130.85,2,    32.10,2,     2.22,2,    0.891,2,    0.361,2,   -154.0,2,   2251.0,2,   2361.0,2,     4.0
    35MFCIVA_1, I06SA,     8,  2,    325,     12,2,19930207,0321,-66.9995,  29.9932, 4099,    325.6,   1.1635,  34.6803,2,  34.6790,2,    211.2,2,  1.1479,    199.7,2,    92.69,2,    31.89,2,     2.20,2,    0.733,2,    0.291,2,   -155.0,2,   2252.4,2,   2357.0,2,     5.0
    35MFCIVA_1, I06SA,     8,  2,    400,     11,2,19930207,0321,-66.9995,  29.9932, 4099,    401.9,   1.1805,  34.6970,2,  34.6980,2,    206.8,2,  1.1609,    199.6,2,    96.47,2,    31.73,2,     2.17,2,    0.550,2,    0.224,2,   -999.0,9,   2252.3,2,   2359.0,2,  -999.0
    35MFCIVA_1, I06SA,     8,  2,    500,     10,2,19930207,0321,-66.9995,  29.9932, 4099,    499.3,   1.1415,  34.7074,2,  34.7070,2,    203.7,2,  1.1169,    201.4,2,    98.74,2,    31.40,2,     2.18,2,    0.647,3,    0.167,2,   -999.0,9,   2253.9,2,   2358.0,2,  -999.0
    35MFCIVA_1, I06SA,     8,  2,    600,      9,2,19930207,0321,-66.9995,  29.9932, 4099,    605.3,   1.0445,  34.7109,2,  34.7080,2,    202.9,2,  1.0146,    202.7,2,   102.52,2,    31.57,2,     2.17,2,    0.387,2,    0.155,3,   -148.0,2,   2254.6,2,   2358.0,2,     4.0
    35MFCIVA_1, I06SA,     8,  2,    700,      8,2,19930207,0321,-66.9995,  29.9932, 4099,    707.9,   0.9225,  34.7082,2,  34.7060,2,    205.3,2,  0.8876,    204.9,2,   106.30,2,    31.57,2,     2.18,2,    0.379,2,    0.152,3,   -999.0,9,   2255.7,2,   2361.0,2,  -999.0
    35MFCIVA_1, I06SA,     8,  2,    800,      7,2,19930207,0321,-66.9995,  29.9932, 4099,    804.5,   0.8234,  34.7056,2,  34.7040,2,    207.7,2,  0.7838,    205.7,2,   110.09,2,    31.73,2,     2.18,2,    0.318,2,    0.129,3,   -179.0,2,   2257.0,2,   2361.0,2,     5.0
    35MFCIVA_1, I06SA,     8,  2,    900,      6,2,19930207,0321,-66.9995,  29.9932, 4099,    909.1,   0.7194,  34.7016,2,  34.7000,2,    209.7,2,  0.6746,    207.1,2,   113.11,2,    31.73,2,     2.18,2,    0.315,2,    0.120,3,   -999.0,9,   2257.9,2,   2366.0,2,  -999.0
    35MFCIVA_1, I06SA,     8,  2,   1000,      5,2,19930207,0321,-66.9995,  29.9932, 4099,   1009.6,   0.6354,  34.6986,2,  34.6970,2,    209.3,2,  0.5854,    208.0,2,   115.38,2,    32.05,2,     2.20,2,    0.267,2,    0.093,3,   -175.0,2,   2262.4,2,   2365.0,2,     4.0
    35MFCIVA_1, I06SA,     8,  2,   1100,      4,2,19930207,0321,-66.9995,  29.9932, 4099,   1111.5,   0.5464,  34.6955,2,  34.6930,2,    211.4,2,  0.4912,    209.2,2,   116.89,2,    32.05,2,     2.23,2,    0.301,2,    0.094,3,   -999.0,9,   2257.6,2,   2367.0,2,  -999.0
    35MFCIVA_1, I06SA,     8,  2,   1200,      3,2,19930207,0321,-66.9995,  29.9932, 4099,   1211.3,   0.4504,  34.6899,2,  34.6870,2,    212.9,2,  0.3901,    211.7,2,   118.41,2,    32.21,2,     2.21,2,    0.323,2,    0.119,3,   -154.0,2,   2259.2,2,   2362.0,2,     4.0
    35MFCIVA_1, I06SA,     8,  2,   1300a,      1,2,19930207,0321,-66.9995,  29.9932, 4099,   1317.1,   0.3533,  34.6836,2,  34.6810,2,    218.2,2,  0.2877,    214.3,2,   124.46,2,    32.21,2,     2.20,2,    0.382,2,    0.150,2,   -999.0,9,   2259.0,2,   2362.0,2,  -999.0
    35MFCIVA_1, I06SA,     8,  2,   1300b,      2,2,19930207,0321,-66.9995,  29.9932, 4099,   1317.5,   0.3523,  34.6845,2,  34.6800,2,    218.3,2,  0.2866,    214.1,2,   122.94,2,    32.21,2,     2.20,2,    0.393,2,    0.161,2,   -999.0,9,   2256.0,2,   2361.0,2,  -999.0