BOTTLE,20220922CCHSIOAMB
EXPOCODE,SECT_ID,STNNBR,CASTNO,SAMPNO,BTLNBR,BTLNBR_FLAG_W,DATE,TIME,LATITUDE,LONGITUDE,DEPTH,CTDPRS,CTDTMP,CTDSAL,CTDSAL_FLAG_W,SALNTY,SALNTY_FLAG_W,CTDOXY,CTDOXY_FLAG_W,THETA,OXYGEN,OXYGEN_FLAG_W,SILCAT,SILCAT_FLAG_W,NITRAT,NITRAT_FLAG_W,PHSPHT,PHSPHT_FLAG_W,CFC-11,CFC-11_FLAG_W,CFC-12,CFC-12_FLAG_W,DELC14,DELC14_FLAG_W,TCARBN,TCARBN_FLAG_W,ALKALI,ALKALI_FLAG_W,C14ERR
,,,,,,,,,,,,DBAR,ITS-90,PSS-78,,PSS-78,,UMOL/KG,,DEG C,UMOL/KG,,UMOL/KG,,UMOL/KG,,UMOL/KG,,PMOL/KG,,PMOL/KG,,/MILLE,,UMOL/KG,,UMOL/KG,,/MILLE
    35MFCIVA_1, I06SA,    26,  3,     10,     12,2,19930215,0402,-55.6673,  29.9995, 5464,     10.3,   2.8330,  33.9342,2,  33.9360,2,    327.3,2,  2.8325,    329.2,2,    19.89,2,    25.46,2,     1.63,2,    5.816,2,    2.720,2,   -999.0,9,   2143.9,2,   2295.0,2,  -999.0
    35MFCIVA_1, I06SA,    26,  3,     20,     11,2,19930215,0402,-55.6673,  29.9995, 5464,     19.6,   2.8261,  33.9352,2,  33.9360,2,    326.2,2,  2.8249,    329.3,2,    19.89,2,    25.46,2,     1.63,2,    5.808,2,    2.714,2,   -999.0,9,   2143.8,2,   2295.0,2,  -999.0
    35MFCIVA_1, I06SA,    26,  3,     40,     10,2,19930215,0402,-55.6673,  29.9995, 5464,     39.1,   2.8300,  33.9362,2,  33.9360,2,    332.5,2,  2.8278,    329.2,2,    19.89,2,    26.16,2,     1.63,2,    5.796,2,    2.720,2,   -999.0,9,   2144.9,2,   2298.0,2,  -999.0
    35MFCIVA_1, I06SA,    26,  3,     60,      9,2,19930215,0402,-55.6673,  29.9995, 5464,     60.6,   2.4352,  33.9566,2,  33.9560,2,    329.5,2,  2.4319,    330.7,2,    23.07,2,    25.85,2,     1.69,2,    5.871,2,    2.755,2,   -999.0,9,   2150.6,2,   -999.0,9,  -999.0
    35MFCIVA_1, I06SA,    26,  3,     80,      8,2,19930215,0402,-55.6673,  29.9995, 5464,     80.5,   0.8544,  34.0314,2,  34.0310,2,    331.5,2,  0.8511,     61.7,4,    31.81,2,    27.55,2,     1.89,2,    5.978,2,    2.797,2,   -999.0,9,   2168.6,2,   2299.0,2,  -999.0
    35MFCIVA_1, I06SA,    26,  3,    100,      7,2,19930215,0402,-55.6673,  29.9995, 5464,    100.9,   0.6274,  34.0809,2,  34.0810,2,    325.3,2,  0.6233,    321.2,2,    38.97,2,    29.26,2,     2.00,2,    5.659,2,    2.627,2,   -999.0,9,   2179.1,2,   2304.0,2,  -999.0
    35MFCIVA_1, I06SA,    26,  3,    125,      6,2,19930215,0402,-55.6673,  29.9995, 5464,    125.6,   0.6584,  34.1389,2,  34.1420,2,    311.5,2,  0.6533,    301.1,2,    45.33,2,    30.42,2,     2.07,2,    4.939,2,    2.263,2,   -999.0,9,   2193.1,2,   2309.0,2,  -999.0
    35MFCIVA_1, I06SA,    26,  3,    150,      5,2,19930215,0402,-55.6673,  29.9995, 5464,    152.6,   0.8204,  34.1872,2,  34.1850,2,    298.1,2,  0.8139,    285.7,2,    49.70,2,    31.12,2,     2.11,2,    4.414,2,    2.008,2,   -999.0,9,   2203.4,2,   2308.0,2,  -999.0
    35MFCIVA_1, I06SA,    26,  3,    175,      4,2,19930215,0402,-55.6673,  29.9995, 5464,    176.1,   1.1545,  34.2483,2,  34.2480,2,    266.1,2,  1.1464,    259.9,2,    54.07,2,    31.35,2,     2.19,2,    3.546,2,    1.619,2,   -999.0,9,   2212.0,2,   2313.0,2,  -999.0
    35MFCIVA_1, I06SA,    26,  3,    200,      3,2,19930215,0402,-55.6673,  29.9995, 5464,    201.8,   1.4115,  34.2946,2,  34.2960,2,    243.0,2,  1.4017,    240.9,2,    56.45,2,    32.83,2,     2.22,2,    2.826,2,    1.297,2,   -999.0,9,   2221.1,2,   2314.0,2,  -999.0
    35MFCIVA_1, I06SA,    26,  3,    250a,      2,2,19930215,0402,-55.6673,  29.9995, 5464,    255.1,   1.6954,  34.3779,2,  34.3770,2,    219.8,2,  1.6824,    215.9,2,    63.61,2,    33.60,2,     2.30,2,    1.993,2,    0.917,2,   -999.0,9,   2234.0,2,   2326.0,2,  -999.0
    35MFCIVA_1, I06SA,    26,  3,    250b,      1,2,19930215,0402,-55.6673,  29.9995, 5464,    255.2,   1.6954,  34.3766,2,  34.3770,2,    219.8,2,  1.6824,    215.1,2,    63.61,2,    33.68,2,     2.31,2,    1.998,2,    0.914,2,   -999.0,9,   2238.0,2,   2325.0,2,  -999.0
    35MFCIVA_1, I06SA,    27,  1,    325,     12,2,19930215,0915,-55.0093,  30.0018, 5465,    327.0,   1.5354,  34.4840,2,  34.4830,2,    203.0,2,  1.5189,    202.7,2,    74.54,2,    33.89,2,     2.32,2,    1.628,2,    0.765,2,   -999.0,9,   2249.3,2,   2336.0,2,  -999.0
    35MFCIVA_1, I06SA,    27,  1,    400,     11,2,19930215,0915,-55.0093,  30.0018, 5465,    404.1,   1.8474,  34.5740,2,  34.5750,2,    190.7,2,  1.8256,    183.3,2,    79.01,2,    33.96,2,     2.32,2,    0.835,2,    0.392,2,   -999.0,9,   2255.1,2,   2342.0,2,  -999.0
    35MFCIVA_1, I06SA,    27,  1,    500,     10,2,19930215,0915,-55.0093,  30.0018, 5465,    503.8,   1.8494,  34.6241,2,  34.6240,2,    186.2,2,  1.8217,    182.0,2,    83.08,2,    33.50,2,     2.31,2,    0.625,2,    0.272,2,   -999.0,9,   2257.1,2,   2346.0,2,  -999.0
    35MFCIVA_1, I06SA,    27,  1,    600,      9,2,19930215,0915,-55.0093,  30.0018, 5465,    604.2,   1.9354,  34.6738,2,  34.6740,2,    187.1,2,  1.9012,    183.9,2,    85.12,2,    32.49,2,     2.20,2,    0.388,2,    0.138,3,   -999.0,9,   2256.0,2,   2350.0,2,  -999.0
    35MFCIVA_1, I06SA,    27,  1,    700,      8,2,19930215,0915,-55.0093,  30.0018, 5465,    704.1,   1.9524,  34.7114,2,  34.7120,2,    190.5,2,  1.9118,    187.8,2,    84.71,2,    31.48,2,     2.13,2,    0.590,2,    0.096,3,   -999.0,9,   2252.0,2,   2353.0,2,  -999.0
    35MFCIVA_1, I06SA,    27,  1,    800,      7,2,19930215,0915,-55.0093,  30.0018, 5465,    806.9,   1.8714,  34.7259,2,  34.7270,2,    190.6,2,  1.8248,    190.7,2,    85.52,2,    31.17,2,     2.09,2,    0.256,2,    0.113,2,   -999.0,9,   2249.9,2,   2353.0,2,  -999.0
    35MFCIVA_1, I06SA,    27,  1,    900,      6,2,19930215,0915,-55.0093,  30.0018, 5465,    907.6,   1.8124,  34.7391,2,  34.7390,2,    196.4,2,  1.7596,    195.5,2,    85.11,2,    30.55,2,     2.05,2,    0.201,2,    0.074,3,   -999.0,9,   2249.7,2,   2354.0,2,  -999.0
    35MFCIVA_1, I06SA,    27,  1,   1000,      5,2,19930215,0915,-55.0093,  30.0018, 5465,   1011.3,   1.7414,  34.7427,2,  34.7440,2,    200.9,2,  1.6823,    198.2,2,    87.15,2,    30.39,2,     2.04,2,    0.180,2,    0.068,3,   -999.0,9,   2250.2,3,   -999.0,9,  -999.0
    35MFCIVA_1, I06SA,    27,  1,   1200,      4,2,19930215,0915,-55.0093,  30.0018, 5465,   1212.5,   1.4465,  34.7340,2,  34.7340,2,    202.6,2,  1.3764,    202.3,2,    95.29,2,    30.70,2,     2.08,2,    0.197,3,    0.075,3,   -999.0,9,   2254.7,2,   2359.0,2,  -999.0
    35MFCIVA_1, I06SA,    27,  1,   1400,      3,2,19930215,0915,-55.0093,  30.0018, 5465,   1414.0,   1.2875,  34.7346,2,  34.7350,2,    205.8,2,  1.2052,    205.2,2,    99.36,2,    30.85,2,     2.07,2,    0.160,2,    0.064,2,   -999.0,9,   2254.1,2,   2363.0,2,  -999.0
    35MFCIVA_1, I06SA,    27,  1,   1600a,      2,2,19930215,0915,-55.0093,  30.0018, 5465,   1607.9,   1.0095,  34.7160,2,  34.7160,2,    204.9,2,  0.9169,    204.9,2,   107.50,2,    31.47,2,     2.11,2,    0.213,2,    0.087,2,   -999.0,9,   2258.0,2,   2363.0,2,  -999.0
    35MFCIVA_1, I06SA,    27,  1,   1600b,      1,2,19930215,0915,-55.0093,  30.0018, 5465,   1615.4,   1.0035,  34.7161,2,  34.7150,2,    203.9,2,  0.9104,    205.2,2,   107.50,2,    31.47,2,     2.12,2,    0.219,2,    0.072,2,   -999.0,9,   2245.0,3,   2363.0,2,  -999.0
    35MFCIVA_1, I06SA,    27,  2,     10,     12,2,19930215,1205,-55.0045,  30.0055, 5465,     13.8,   2.6821,  33.8169,2,  33.8180,2,    321.2,2,  2.6813,    331.8,2,    28.12,2,    25.60,2,     1.61,2,    5.959,2,    2.776,2,   -999.0,9,   2144.7,2,   2293.0,2,  -999.0
    35MFCIVA_1, I06SA,    27,  2,     20,     11,2,19930215,1205,-55.0045,  30.0055, 5465,     22.6,   2.6671,  33.8181,2,  33.8180,2,    325.3,2,  2.6659,    331.9,2,    28.53,2,    25.53,2,     1.61,2,    5.929,2,    2.801,2,   -999.0,9,   2145.3,2,   2293.0,2,  -999.0
    35MFCIVA_1, I06SA,    27,  2,     40,     10,2,19930215,1205,-55.0045,  30.0055, 5465,     43.1,   2.6521,  33.8177,2,  33.8190,2,    334.9,2,  2.6497,    332.1,2,    28.53,2,    25.45,2,     1.61,2,    5.936,2,    2.831,2,   -999.0,9,   2145.4,2,   2294.0,2,  -999.0
    35MFCIVA_1, I06SA,    27,  2,     60,      9,2,19930215,1205,-55.0045,  30.0055, 5465,     63.2,   2.3113,  33.9360,2,  33.9250,2,    334.3,2,  2.3079,    331.0,2,    25.26,2,    26.07,2,     1.70,2,    5.935,2,    2.795,2,   -999.0,9,   2151.4,2,   2295.0,2,  -999.0
    35MFCIVA_1, I06SA,    27,  2,     80,      8,2,19930215,1205,-55.0045,  30.0055, 5465,     83.2,   0.5994,  33.9998,2,  33.9970,2,    342.3,2,  0.5961,    341.9,2,    36.67,2,    27.15,2,     1.81,2,    6.191,2,    2.900,2,   -999.0,9,   2168.8,2,   2303.0,2,  -999.0
    35MFCIVA_1, I06SA,    27,  2,    100,      7,2,19930215,1205,-55.0045,  30.0055, 5465,    103.0,   0.2223,  34.0458,2,  34.0470,2,    331.7,2,  0.2185,    334.0,2,    40.74,2,    28.54,2,     1.93,2,    6.046,2,    2.827,2,   -999.0,9,   2178.0,2,   2306.0,2,  -999.0
    35MFCIVA_1, I06SA,    27,  2,    125,      6,2,19930215,1205,-55.0045,  30.0055, 5465,    127.1,   0.1853,  34.1187,2,  34.1190,2,    324.2,2,  0.1806,    316.3,2,    47.26,2,    30.09,2,     2.01,2,    5.474,2,    2.564,2,   -999.0,9,   2190.9,2,   2310.0,2,  -999.0
    35MFCIVA_1, I06SA,    27,  2,    150,      5,2,19930215,1205,-55.0045,  30.0055, 5465,    147.8,   0.1573,  34.1441,2,  34.1480,2,    314.1,2,  0.1518,    310.7,2,    50.51,2,    30.40,2,     2.06,2,    5.338,2,    2.480,2,   -999.0,9,   2195.6,2,   2312.0,2,  -999.0
    35MFCIVA_1, I06SA,    27,  2,    175,      4,2,19930215,1205,-55.0045,  30.0055, 5465,    173.0,   0.3893,  34.1972,2,  34.1950,2,    300.8,2,  0.3826,    294.4,2,    52.96,2,    31.10,2,     2.10,2,    4.809,2,    2.195,2,   -999.0,9,   2202.4,2,   2313.0,2,  -999.0
    35MFCIVA_1, I06SA,    27,  2,    200,      3,2,19930215,1205,-55.0045,  30.0055, 5465,    207.0,   0.6724,  34.2473,2,  34.2460,2,    278.3,2,  0.6637,    274.4,2,    57.03,2,    31.80,2,     2.15,2,    4.104,2,    1.881,2,   -999.0,9,   2215.1,2,   2319.0,2,  -999.0
    35MFCIVA_1, I06SA,    27,  2,    250a,      1,2,19930215,1205,-55.0045,  30.0055, 5465,    255.5,   1.0155,  34.3514,2,  34.3490,2,    246.6,2,  1.0039,    244.0,2,    66.80,2,    32.96,2,     2.19,2,    3.171,2,    1.429,2,   -999.0,9,   2231.0,2,   2327.0,2,  -999.0
    35MFCIVA_1, I06SA,    27,  2,    250b,      2,2,19930215,1205,-55.0045,  30.0055, 5465,    257.3,   0.9705,  34.3445,2,  34.3490,2,    246.6,2,  0.9589,    245.1,2,    66.80,2,    33.04,2,     2.19,2,    3.087,2,    1.430,2,   -999.0,9,   2238.0,2,   2325.0,2,  -999.0
    35MFCIVA_1, I06SA,    28,  1,   1500,     12,2,19930215,1732,-54.3333,  29.9660, 5482,   2022.2,   0.6014,  34.6979,2,  34.6980,2,    210.4,2,  0.4846,    214.3,2,   119.39,2,    32.02,2,     2.22,2,    0.156,2,    0.056,2,   -999.0,9,   2258.1,2,   2364.0,2,  -999.0
    35MFCIVA_1, I06SA,    28,  1,   1750,     11,2,19930215,1732,-54.3333,  29.9660, 5482,   2275.5,   0.4093,  34.6871,2,  34.6850,2,    209.0,2,  0.2766,    211.4,4,   125.56,2,    32.56,2,     2.24,2,    0.171,2,    0.064,2,   -999.0,9,   2263.0,2,   2365.0,2,  -999.0
    35MFCIVA_1, I06SA,    28,  1,   2000,     10,2,19930215,1732,-54.3333,  29.9660, 5482,   2532.1,   0.3063,  34.6815,2,  34.6800,2,    212.4,2,  0.1553,    214.8,2,   126.38,2,    32.71,2,     2.24,2,    0.250,2,    0.069,3,   -164.0,2,   2260.9,2,   2360.0,2,     5.0
    35MFCIVA_1, I06SA,    28,  1,   2250,      9,2,19930215,1732,-54.3333,  29.9660, 5482,   3042.6,   0.0752,  34.6727,2,  34.6690,2,    222.6,2, -0.1135,    224.2,2,   128.85,2,    32.56,2,     2.27,2,    0.236,2,    0.077,3,   -999.0,9,   2259.0,2,   2363.0,2,  -999.0
    35MFCIVA_1, I06SA,    28,  1,   2500,      8,2,19930215,1732,-54.3333,  29.9660, 5482,   3554.9,  -0.0979,  34.6612,2,  34.6620,2,    231.0,2, -0.3283,    232.2,2,   128.03,2,    32.41,2,     2.24,2,    0.210,2,    0.090,2,   -999.0,9,   2253.0,2,   2361.0,2,  -999.0
    35MFCIVA_1, I06SA,    28,  1,   3000,      7,2,19930215,1732,-54.3333,  29.9660, 5482,   4068.4,  -0.2049,  34.6571,2,  34.6580,2,    238.0,2, -0.4818,    238.4,2,   130.09,2,    32.25,2,     2.21,2,    0.208,2,    0.079,2,   -164.0,2,   2253.1,2,   2361.0,2,     4.0
    35MFCIVA_1, I06SA,    28,  1,   3500,      6,2,19930215,1732,-54.3333,  29.9660, 5482,   4584.2,  -0.2269,  34.6547,2,  34.6560,2,    241.7,2, -0.5563,    241.2,2,   130.91,2,    32.25,2,     2.21,2,    0.201,2,    0.069,3,   -999.0,9,   2252.2,2,   2361.0,2,  -999.0
    35MFCIVA_1, I06SA,    28,  1,   4000,      5,2,19930215,1732,-54.3333,  29.9660, 5482,   5101.6,  -0.2349,  34.6546,2,  34.6530,2,    244.3,2, -0.6210,    243.5,2,   130.09,2,    32.18,2,     2.21,2,    0.219,2,    0.093,2,   -999.0,9,   2250.0,2,   2362.0,2,  -999.0
    35MFCIVA_1, I06SA,    28,  1,   4500,      4,2,19930215,1732,-54.3333,  29.9660, 5482,   5101.6,  -0.2349,  34.6546,2,  34.6570,2,    244.3,2, -0.6210,    243.5,2,   129.67,2,    32.25,2,     2.21,2,    0.205,2,    0.090,2,   -156.0,2,   2252.0,2,   -999.0,9,     4.0
    35MFCIVA_1, I06SA,    28,  1,   5000,      3,2,19930215,1732,-54.3333,  29.9660, 5482,   5358.7,  -0.2189,  34.6534,2,  34.6540,2,    245.0,2, -0.6352,    243.9,2,   128.03,2,    32.25,2,     2.21,2,    0.200,4,    0.067,3,   -999.0,9,   2254.0,2,   2361.0,2,  -999.0
    35MFCIVA_1, I06SA,    28,  1,   5250,      2,2,19930215,1732,-54.3333,  29.9660, 5482,   5358.7,  -0.2189,  34.6534,2,  34.6540,2,    245.0,2, -0.6352,    243.6,2,   128.44,2,    32.18,2,     2.21,2,    0.208,2,    0.100,2,   -999.0,9,   2251.0,2,   -999.0,9,  -999.0
    35MFCIVA_1, I06SA,    28,  1,   F-20,      1,2,19930215,1732,-54.3333,  29.9660, 5482,   5576.7,  -0.2099,  34.6529,2,  34.6530,2,    246.6,2, -0.6523,     60.7,4,   128.44,2,    32.10,2,     2.19,2,    0.187,2,    0.081,2,   -151.0,2,   2247.5,2,   2361.0,2,     4.0
    35MFCIVA_1, I06SA,    28,  2,    325,     12,2,19930215,2042,-54.3443,  29.9762, 5482,    326.3,   1.9584,  34.5696,2,  34.5720,2,    178.8,2,  1.9407,    181.6,2,    78.23,2,    33.80,2,     2.35,2,    0.799,2,    0.339,2,   -142.0,2,   2156.0,4,   2342.0,2,     5.0
    35MFCIVA_1, I06SA,    28,  2,    400,     11,2,19930215,2042,-54.3443,  29.9762, 5482,    401.9,   1.8614,  34.6052,2,  34.6030,2,    172.5,2,  1.8396,    178.5,2,    83.58,2,    33.80,2,     2.33,2,    0.740,2,    0.311,2,   -999.0,9,   2139.0,4,   2346.0,2,  -999.0
    35MFCIVA_1, I06SA,    28,  2,    500,     10,2,19930215,2042,-54.3443,  29.9762, 5482,    501.8,   1.9094,  34.6576,2,  34.6580,2,    174.3,2,  1.8816,    183.2,2,    85.23,2,    32.80,2,     2.29,2,    0.459,2,    0.177,2,   -150.0,2,   2251.9,2,   2347.0,2,     5.0
    35MFCIVA_1, I06SA,    28,  2,    600,      9,2,19930215,2042,-54.3443,  29.9762, 5482,    603.6,   2.0224,  34.7006,2,-999.0000,5,    176.8,2,  1.9878,    188.6,2,    83.17,2,    31.49,2,     2.18,2,    0.277,2,    0.114,2,   -999.0,9,   2246.7,2,   2353.0,2,  -999.0
    35MFCIVA_1, I06SA,    28,  2,    700,      8,2,19930215,2042,-54.3443,  29.9762, 5482,    709.2,   1.6604,  34.6887,2,  34.6890,2,    182.6,2,  1.6213,    188.9,2,    91.40,2,    32.10,2,     2.21,2,    0.481,3,    0.211,3,   -153.0,2,   2251.3,2,   2355.0,2,     5.0
    35MFCIVA_1, I06SA,    28,  2,    800,      7,2,19930215,2042,-54.3443,  29.9762, 5482,    809.8,   1.7914,  34.7314,2,  34.7030,2,    186.8,2,  1.7451,    194.4,2,    87.69,2,    30.87,2,     2.10,2,    0.252,2,    0.067,3,   -999.0,9,   2244.5,2,   2355.0,2,  -999.0
    35MFCIVA_1, I06SA,    28,  2,    900,      6,2,19930215,2042,-54.3443,  29.9762, 5482,    908.3,   1.7454,  34.7428,2,  34.7430,2,    190.6,2,  1.6930,    199.1,2,    88.10,2,    30.26,2,     2.08,2,    0.185,2,    0.061,3,   -999.0,9,   2243.6,2,   2358.0,2,  -999.0
    35MFCIVA_1, I06SA,    28,  2,   1000,      5,2,19930215,2042,-54.3443,  29.9762, 5482,   1006.6,   1.5984,  34.7356,2,  34.7370,2,    190.1,2,  1.5408,    198.0,2,    91.81,2,    30.57,2,     2.10,2,    0.244,2,    0.083,3,   -147.0,2,   2247.8,2,   2358.0,2,     4.0
    35MFCIVA_1, I06SA,    28,  2,   1100,      4,2,19930215,2042,-54.3443,  29.9762, 5482,   1208.7,   1.2755,  34.7236,2,  34.7230,2,    191.8,2,  1.2073,   -999.0,5,   100.45,2,    31.03,2,     2.12,2,    0.258,2,    0.103,2,   -999.0,9,   2248.6,2,   2361.0,2,  -999.0
    35MFCIVA_1, I06SA,    28,  2,   1200,      3,2,19930215,2042,-54.3443,  29.9762, 5482,   1417.2,   1.1005,  34.7250,2,-999.0000,5,    197.2,2,  1.0201,    205.8,2,   105.39,2,    31.18,2,     2.12,2,    0.216,2,    0.090,2,   -156.0,2,   2251.1,2,   2364.0,2,     4.0
    35MFCIVA_1, I06SA,    28,  2,   1350a,      2,2,19930215,2042,-54.3443,  29.9762, 5482,   1603.8,   0.9425,  34.7179,2,  34.7160,2,    199.1,2,  0.8510,    206.9,2,   108.27,2,    31.33,2,     2.10,2,    0.168,2,    0.059,2,   -999.0,9,   2254.0,2,   2361.0,2,  -999.0
    35MFCIVA_1, I06SA,    28,  2,   1350b,      1,2,19930215,2042,-54.3443,  29.9762, 5482,   1607.2,   0.9385,  34.7192,2,  34.7160,2,    198.0,2,  0.8468,    207.6,2,   108.68,2,    31.33,2,     2.13,2,    0.148,2,    0.000,3,   -999.0,9,   2255.0,2,   2364.0,2,  -999.0