BOTTLE,20220922CCHSIOAMB
EXPOCODE,SECT_ID,STNNBR,CASTNO,SAMPNO,BTLNBR,BTLNBR_FLAG_W,DATE,TIME,LATITUDE,LONGITUDE,DEPTH,CTDPRS,CTDTMP,CTDSAL,CTDSAL_FLAG_W,SALNTY,SALNTY_FLAG_W,OXYGEN,OXYGEN_FLAG_W,SILCAT,SILCAT_FLAG_W,THETA
,,,,,,,,,,,METERS,DBAR,ITS-90,PSS-78,,PSS-78,,UMOL/KG,,UMOL/KG,,DEG C
 90KDAI08_1,       AR03,     885,          1,         12,      81616,2,20000721,       0637,     6.0350,   -34.0367,       3143,    49.5,  22.2430,  36.0283,2,  34.7226,2,   213.5,2,    3.49,2,  22.2331
 90KDAI08_1,       AR03,     885,          1,         11,     -999.0,9,20000721,       0637,     6.0350,   -34.0367,       3143,   306.4,  11.7870,  34.9870,2,-999.0000,9,    79.2,2,   15.62,2,  11.7473
 90KDAI08_1,       AR03,     885,          1,         10,      81615,2,20000721,       0637,     6.0350,   -34.0367,       3143,   510.6,   7.4090,  34.7294,2,-999.0000,9,   115.7,2,   20.62,2,   7.3587
 90KDAI08_1,       AR03,     885,          1,          9,      81614,2,20000721,       0637,     6.0350,   -34.0367,       3143,   808.4,   5.7190,  34.6212,2,  34.6192,2,   142.1,2,   27.77,2,   5.6482
 90KDAI08_1,       AR03,     885,          1,          8,     -999.0,9,20000721,       0637,     6.0350,   -34.0367,       3143,  1003.7,   4.9380,  34.7427,2,-999.0000,9,   160.8,2,   27.23,2,   4.8544
 90KDAI08_1,       AR03,     885,          1,          7,      81613,2,20000721,       0637,     6.0350,   -34.0367,       3143,  1203.6,   4.6540,  34.8721,2,  34.8735,2,   192.5,2,   23.82,2,   4.5544
 90KDAI08_1,       AR03,     885,          1,          6,      81612,2,20000721,       0637,     6.0350,   -34.0367,       3143,  1500.8,   4.2820,  34.9763,2,  34.9767,2,   230.3,2,   27.45,2,   4.1585
 90KDAI08_1,       AR03,     885,          1,          5,     -999.0,9,20000721,       0637,     6.0350,   -34.0367,       3143,  1801.2,   3.8210,  34.9803,2,-999.0000,9,   254.2,2,   18.59,2,   3.6751
 90KDAI08_1,       AR03,     885,          1,          4,      81611,2,20000721,       0637,     6.0350,   -34.0367,       3143,  1999.2,   3.5590,  34.9704,2,  34.9683,2,   258.1,2,   20.72,2,   3.3981
 90KDAI08_1,       AR03,     885,          1,          3,     -999.0,9,20000721,       0637,     6.0350,   -34.0367,       3143,  2490.9,   2.9520,  34.9420,2,-999.0000,9,   261.6,2,   27.88,2,   2.7538
 90KDAI08_1,       AR03,     885,          1,          2,      81610,2,20000721,       0637,     6.0350,   -34.0367,       3143,  2982.5,   2.6630,  34.9254,2,  34.9222,2,   254.6,2,   31.61,2,   2.4213
 90KDAI08_1,       AR03,     885,          1,          1,      81609,2,20000721,       0637,     6.0350,   -34.0367,       3143,  3213.8,   2.6130,  34.9152,2,  34.9161,2,   263.3,2,   34.28,2,   2.3484
 90KDAI08_1,       AR03,     886,          1,         12,      81624,2,20000721,       1208,     5.9417,   -34.5417,       3331,    50.5,  26.9110,  35.9929,2,  35.9770,3,   212.1,2,    4.95,2,  26.8994
 90KDAI08_1,       AR03,     886,          1,         11,     -999.0,9,20000721,       1208,     5.9417,   -34.5417,       3331,   349.9,   9.1380,  34.8775,2,-999.0000,9,   110.0,2,   16.42,2,   9.0993
 90KDAI08_1,       AR03,     886,          1,         10,      81623,2,20000721,       1208,     5.9417,   -34.5417,       3331,   502.3,   7.9860,  34.8100,2,  34.8114,2,    97.8,2,   19.78,2,   7.9343
 90KDAI08_1,       AR03,     886,          1,          9,      81622,2,20000721,       1208,     5.9417,   -34.5417,       3331,   802.6,   5.3300,  34.6495,2,  34.6671,3,   141.3,2,   27.45,2,   5.2621
 90KDAI08_1,       AR03,     886,          1,          8,     -999.0,9,20000721,       1208,     5.9417,   -34.5417,       3331,   999.5,   4.9050,  34.7850,2,-999.0000,9,   169.5,2,   26.29,2,   4.8220
 90KDAI08_1,       AR03,     886,          1,          7,      81621,2,20000721,       1208,     5.9417,   -34.5417,       3331,  1199.1,   4.6300,  34.9062,2,  34.9107,2,   202.1,2,   22.11,2,   4.5309
 90KDAI08_1,       AR03,     886,          1,          6,      81620,2,20000721,       1208,     5.9417,   -34.5417,       3331,  1499.0,   4.2480,  34.9816,2,  34.9828,2,   238.6,2,   17.82,2,   4.1250
 90KDAI08_1,       AR03,     886,          1,          5,     -999.0,9,20000721,       1208,     5.9417,   -34.5417,       3331,  2000.4,   3.5870,  34.9728,2,-999.0000,9,   259.0,2,   19.70,2,   3.4255
 90KDAI08_1,       AR03,     886,          1,          4,      81619,2,20000721,       1208,     5.9417,   -34.5417,       3331,  2500.1,   2.9860,  34.9429,2,  34.9531,2,   262.4,2,   27.46,2,   2.7863
 90KDAI08_1,       AR03,     886,          1,          3,     -999.0,9,20000721,       1208,     5.9417,   -34.5417,       3331,  3001.2,   2.7230,  34.9241,2,-999.0000,9,   262.4,2,   32.04,2,   2.4781
 90KDAI08_1,       AR03,     886,          1,          2,      81618,2,20000721,       1208,     5.9417,   -34.5417,       3331,  3198.7,   2.6530,  34.9185,2,  34.9363,3,   259.8,2,   33.14,2,   2.3891
 90KDAI08_1,       AR03,     886,          1,          1,      81617,2,20000721,       1208,     5.9417,   -34.5417,       3331,  3355.5,   2.5630,  34.9123,2,  34.9101,2,   262.4,2,   34.33,2,   2.2846
 90KDAI08_1,       AR03,     887,          1,         12,      81632,2,20000721,       1711,     5.8600,   -35.0233,       3700,    50.0,  27.4060,  35.7666,2,  35.7316,3,   218.2,2,    3.80,2,  27.3944
 90KDAI08_1,       AR03,     887,          1,         11,     -999.0,9,20000721,       1711,     5.8600,   -35.0233,       3700,   350.8,   9.0570,  34.8591,2,-999.0000,9,   121.8,2,   16.03,2,   9.0185
 90KDAI08_1,       AR03,     887,          1,         10,      81631,2,20000721,       1711,     5.8600,   -35.0233,       3700,   508.8,   7.8360,  34.7755,2,  34.7817,2,   108.3,2,   19.76,2,   7.7843
 90KDAI08_1,       AR03,     887,          1,          9,      81630,2,20000721,       1711,     5.8600,   -35.0233,       3700,   800.9,   5.3850,  34.6339,2,  34.6467,2,   140.0,2,   27.65,2,   5.3169
 90KDAI08_1,       AR03,     887,          1,          8,     -999.0,9,20000721,       1711,     5.8600,   -35.0233,       3700,  1002.5,   4.9250,  34.7617,2,-999.0000,9,   164.7,2,   26.91,2,   4.8416
 90KDAI08_1,       AR03,     887,          1,          7,      81629,2,20000721,       1711,     5.8600,   -35.0233,       3700,  1205.1,   4.7320,  34.9128,2,  34.9244,2,   226.8,2,   22.11,2,   4.6315
 90KDAI08_1,       AR03,     887,          1,          6,      81628,2,20000721,       1711,     5.8600,   -35.0233,       3700,  1498.6,   4.2910,  34.9858,2,  34.9899,2,   238.6,2,   17.73,2,   4.1676
 90KDAI08_1,       AR03,     887,          1,          5,     -999.0,9,20000721,       1711,     5.8600,   -35.0233,       3700,  1998.5,   3.5370,  34.9720,2,-999.0000,9,   259.4,2,   20.19,2,   3.3764
 90KDAI08_1,       AR03,     887,          1,          4,      81627,2,20000721,       1711,     5.8600,   -35.0233,       3700,  2495.9,   3.0030,  34.9472,2,  34.9469,2,   265.0,2,   26.38,2,   2.8033
 90KDAI08_1,       AR03,     887,          1,          3,     -999.0,9,20000721,       1711,     5.8600,   -35.0233,       3700,  2999.3,   2.6870,  34.9234,2,-999.0000,9,   263.7,2,   32.57,2,   2.4431
 90KDAI08_1,       AR03,     887,          1,          2,      81626,2,20000721,       1711,     5.8600,   -35.0233,       3700,  3634.1,   2.3400,  34.8937,2,  34.9010,2,   252.9,2,   36.20,2,   2.0371
 90KDAI08_1,       AR03,     887,          1,          1,      81625,2,20000721,       1711,     5.8600,   -35.0233,       3700,  3771.8,   2.3200,  34.8910,2,  34.8973,2,   258.1,2,   39.72,2,   2.0024
 90KDAI08_1,       AR03,     888,          1,         12,      81640,2,20000721,       2241,     5.7867,   -35.5050,       3858,    49.4,  27.6560,  35.9905,2,  35.9727,3,   207.7,2,    3.89,2,  27.6444
 90KDAI08_1,       AR03,     888,          1,         11,     -999.0,9,20000721,       2241,     5.7867,   -35.5050,       3858,   354.0,   9.4970,  34.9111,2,-999.0000,9,   100.0,2,   15.93,2,   9.4569
 90KDAI08_1,       AR03,     888,          1,         10,      81639,2,20000721,       2241,     5.7867,   -35.5050,       3858,   508.8,   7.4960,  34.7132,2,  34.7063,2,   117.4,2,   20.30,2,   7.4456
 90KDAI08_1,       AR03,     888,          1,          9,      81638,2,20000721,       2241,     5.7867,   -35.5050,       3858,   809.2,   5.3370,  34.6494,2,  34.6448,2,   142.1,2,   28.08,2,   5.2684
 90KDAI08_1,       AR03,     888,          1,          8,     -999.0,9,20000721,       2241,     5.7867,   -35.5050,       3858,  1004.1,   4.8940,  34.7435,2,-999.0000,9,   164.7,2,   27.23,2,   4.8107
 90KDAI08_1,       AR03,     888,          1,          7,      81637,2,20000721,       2241,     5.7867,   -35.5050,       3858,  1206.0,   4.6670,  34.9037,2,  34.9018,2,   201.2,2,   22.43,2,   4.5670
 90KDAI08_1,       AR03,     888,          1,          6,      81636,2,20000721,       2241,     5.7867,   -35.5050,       3858,  1503.1,   4.2080,  34.9888,2,  34.9888,2,   245.5,2,   17.31,2,   4.0851
 90KDAI08_1,       AR03,     888,          1,          5,     -999.0,9,20000721,       2241,     5.7867,   -35.5050,       3858,  2005.5,   3.5130,  34.9691,2,-999.0000,9,   259.8,2,   20.83,2,   3.3521
 90KDAI08_1,       AR03,     888,          1,          4,      81635,2,20000721,       2241,     5.7867,   -35.5050,       3858,  2501.0,   3.0220,  34.9487,2,  34.9518,2,   267.2,2,   25.95,2,   2.8215
 90KDAI08_1,       AR03,     888,          1,          3,     -999.0,9,20000721,       2241,     5.7867,   -35.5050,       3858,  2958.3,   2.6860,  34.9273,2,-999.0000,9,   266.3,2,   30.22,2,   2.4463
 90KDAI08_1,       AR03,     888,          1,          2,      81633,2,20000721,       2241,     5.7867,   -35.5050,       3858,  3499.3,   2.4160,  34.9028,2,  34.9073,2,   258.5,2,   34.92,2,   2.1257
 90KDAI08_1,       AR03,     888,          1,          1,      81634,2,20000721,       2241,     5.7867,   -35.5050,       3858,  3981.8,   2.2390,  34.8845,2,  34.8799,2,   263.3,2,   40.90,2,   1.9001
 90KDAI08_1,       AR03,     889,          1,         12,      12108,2,20000722,       0432,     5.6833,   -35.9933,       4180,    53.9,  27.2790,  36.0299,2,  36.0044,3,   211.2,2,    4.39,2,  27.2665
 90KDAI08_1,       AR03,     889,          1,         11,     -999.0,9,20000722,       0432,     5.6833,   -35.9933,       4180,   309.3,   9.8780,  34.9358,2,-999.0000,9,   135.2,2,   14.54,2,   9.8422
 90KDAI08_1,       AR03,     889,          1,         10,      12107,2,20000722,       0432,     5.6833,   -35.9933,       4180,   801.9,   5.4340,  34.6117,2,  34.6060,2,   143.0,2,   28.08,2,   5.3655
 90KDAI08_1,       AR03,     889,          1,          9,      12106,2,20000722,       0432,     5.6833,   -35.9933,       4180,  1002.9,   4.9360,  34.7398,2,  34.7415,2,   162.1,2,   28.08,2,   4.8525
 90KDAI08_1,       AR03,     889,          1,          8,     -999.0,9,20000722,       0432,     5.6833,   -35.9933,       4180,  1206.1,   4.7330,  34.8882,2,-999.0000,9,   209.5,2,   23.28,2,   4.6324
 90KDAI08_1,       AR03,     889,          1,          7,      12105,2,20000722,       0432,     5.6833,   -35.9933,       4180,  1514.1,   4.2000,  34.9848,2,  34.9834,2,   247.2,2,   18.16,2,   4.0762
 90KDAI08_1,       AR03,     889,          1,          6,      12104,2,20000722,       0432,     5.6833,   -35.9933,       4180,  2003.1,   3.4370,  34.9697,2,  34.9683,2,   256.4,2,   21.36,2,   3.2775
 90KDAI08_1,       AR03,     889,          1,          5,     -999.0,9,20000722,       0432,     5.6833,   -35.9933,       4180,  2502.1,   2.9780,  34.9457,2,-999.0000,9,   264.6,2,   26.49,2,   2.7782
 90KDAI08_1,       AR03,     889,          1,          4,      12103,2,20000722,       0432,     5.6833,   -35.9933,       4180,  2997.8,   2.6740,  34.9270,2,  34.9229,2,   265.9,2,   31.18,2,   2.4305
 90KDAI08_1,       AR03,     889,          1,          3,     -999.0,9,20000722,       0432,     5.6833,   -35.9933,       4180,  3490.4,   2.4790,  34.9123,2,-999.0000,9,   268.5,2,   33.00,2,   2.1881
 90KDAI08_1,       AR03,     889,          1,          2,      12102,2,20000722,       0432,     5.6833,   -35.9933,       4180,  3989.9,   2.1680,  34.8777,2,  34.8955,3,   255.0,2,   40.90,2,   1.8302
 90KDAI08_1,       AR03,     889,          1,          1,      12101,2,20000722,       0432,     5.6833,   -35.9933,       4180,  4372.2,   1.9380,  34.8505,2,  34.8507,2,   259.4,2,   42.71,2,   1.5632
 90KDAI08_1,       AR03,     890,          1,         12,      12116,2,20000722,       1105,     5.6050,   -36.4900,       4447,    49.5,  27.7100,  35.9781,2,  35.9679,2,   208.2,2,    4.73,2,  27.6984
 90KDAI08_1,       AR03,     890,          1,        10a,     -999.0,9,20000722,       1105,     5.6050,   -36.4900,       4447,   350.7,   9.2010,  34.8573,2,-999.0000,9,   131.3,2,   15.75,2,   9.1621
 90KDAI08_1,       AR03,     890,          1,        10b,      12115,2,20000722,       1105,     5.6050,   -36.4900,       4447,   810.4,   5.5370,  34.5965,2,  34.5942,2,   142.1,2,   27.20,2,   5.4671
 90KDAI08_1,       AR03,     890,          1,          9,      12114,2,20000722,       1105,     5.6050,   -36.4900,       4447,  1003.3,   4.9300,  34.7021,2,  34.7064,2,   157.8,2,   23.63,2,   4.8466
 90KDAI08_1,       AR03,     890,          1,          8,     -999.0,9,20000722,       1105,     5.6050,   -36.4900,       4447,  1499.4,   4.2510,  34.9876,2,-999.0000,9,   246.8,2,   17.50,2,   4.1280
 90KDAI08_1,       AR03,     890,          1,          7,      12113,2,20000722,       1105,     5.6050,   -36.4900,       4447,  2015.1,   3.4770,  34.9704,2,  34.9721,2,   260.7,2,   21.04,2,   3.3158
 90KDAI08_1,       AR03,     890,          1,          6,      12112,2,20000722,       1105,     5.6050,   -36.4900,       4447,  2498.0,   2.9700,  34.9453,2,  34.9475,2,   259.0,2,   26.22,2,   2.7708
 90KDAI08_1,       AR03,     890,          1,          5,     -999.0,9,20000722,       1105,     5.6050,   -36.4900,       4447,  2999.0,   2.6390,  34.9215,2,-999.0000,9,   261.5,2,   32.15,2,   2.3962
 90KDAI08_1,       AR03,     890,          1,          4,      12111,2,20000722,       1105,     5.6050,   -36.4900,       4447,  3486.1,   2.3990,  34.9060,2,  34.9120,2,   267.6,2,   34.32,2,   2.1106
 90KDAI08_1,       AR03,     890,          1,          3,     -999.0,9,20000722,       1105,     5.6050,   -36.4900,       4447,  3995.5,   2.1160,  34.8735,2,-999.0000,9,   262.4,2,   43.73,2,   1.7791
 90KDAI08_1,       AR03,     890,          1,          2,      12110,2,20000722,       1105,     5.6050,   -36.4900,       4447,  4394.5,   1.8400,  34.8396,2,  34.8575,3,   252.0,2,   48.02,2,   1.4657
 90KDAI08_1,       AR03,     890,          1,          1,      12109,2,20000722,       1105,     5.6050,   -36.4900,       4447,  4513.2,   1.8340,  34.8379,2,  34.8401,2,   255.9,2,   49.63,2,   1.4460
 90KDAI08_1,       AR03,     891,          1,         12,      12124,2,20000722,       1700,     5.5300,   -36.9850,       4406,    49.8,  27.9000,  35.9117,2,  35.8991,3,   209.9,2,    3.71,2,  27.8883
 90KDAI08_1,       AR03,     891,          1,         11,     -999.0,9,20000722,       1700,     5.5300,   -36.9850,       4406,   306.1,   9.0440,  34.8351,2,-999.0000,9,   140.9,2,   15.18,2,   9.0105
 90KDAI08_1,       AR03,     891,          1,         10,      12123,2,20000722,       1700,     5.5300,   -36.9850,       4406,   811.9,   5.4890,  34.5676,2,  34.5692,2,   143.9,2,   27.12,2,   5.4193
 90KDAI08_1,       AR03,     891,          1,          9,      12122,2,20000722,       1700,     5.5300,   -36.9850,       4406,  1006.0,   5.0060,  34.6844,2,  34.6844,2,   152.1,2,   28.19,2,   4.9218
 90KDAI08_1,       AR03,     891,          1,          8,     -999.0,9,20000722,       1700,     5.5300,   -36.9850,       4406,  1513.3,   4.2400,  34.9889,2,-999.0000,5,   249.9,2,   17.20,2,   4.1158
 90KDAI08_1,       AR03,     891,          1,          7,      12121,2,20000722,       1700,     5.5300,   -36.9850,       4406,  2001.2,   3.4550,  34.9683,2,  34.9717,2,   262.4,2,   21.26,2,   3.2954
 90KDAI08_1,       AR03,     891,          1,          6,      12120,2,20000722,       1700,     5.5300,   -36.9850,       4406,  2497.4,   2.9900,  34.9471,2,  34.9519,2,   259.4,2,   26.17,2,   2.7904
 90KDAI08_1,       AR03,     891,          1,          5,     -999.0,9,20000722,       1700,     5.5300,   -36.9850,       4406,  2997.5,   2.6610,  34.9241,2,-999.0000,9,   265.9,2,   30.97,2,   2.4178
 90KDAI08_1,       AR03,     891,          1,          4,      12119,2,20000722,       1700,     5.5300,   -36.9850,       4406,  3676.6,   2.3190,  34.9001,2,  34.8999,2,   269.4,2,   35.35,2,   2.0119
 90KDAI08_1,       AR03,     891,          1,          3,     -999.0,9,20000722,       1700,     5.5300,   -36.9850,       4406,  3997.1,   2.0840,  34.8704,2,-999.0000,9,   262.4,2,   44.63,2,   1.7478
 90KDAI08_1,       AR03,     891,          1,          2,      12118,2,20000722,       1700,     5.5300,   -36.9850,       4406,  4212.8,   1.8870,  34.8485,2,  34.8693,3,   254.2,2,   48.58,2,   1.5321
 90KDAI08_1,       AR03,     891,          1,          1,      12117,2,20000722,       1700,     5.5300,   -36.9850,       4406,  4339.5,   1.8050,  34.8371,2,  34.8373,2,   256.3,2,   50.29,2,   1.4381
 90KDAI08_1,       AR03,     892,          1,         12,     -999.0,9,20000722,       2329,     5.4417,   -37.4917,       4025,    59.1,  28.0720,  35.8623,2,-999.0000,9,  -999.0,9, -999.00,9,  28.0580
 90KDAI08_1,       AR03,     892,          1,         11,     -999.0,9,20000722,       2329,     5.4417,   -37.4917,       4025,   309.9,   9.6500,  34.9221,2,-999.0000,9,   127.8,2,   14.54,2,   9.6147
 90KDAI08_1,       AR03,     892,          1,         10,      12131,2,20000722,       2329,     5.4417,   -37.4917,       4025,   771.9,   5.6130,  34.5820,2,  34.5823,2,   137.4,2,   26.69,2,   5.5462
 90KDAI08_1,       AR03,     892,          1,          9,      12130,2,20000722,       2329,     5.4417,   -37.4917,       4025,   986.1,   4.9740,  34.6939,2,  34.6875,2,   154.3,2,   28.51,2,   4.8918
 90KDAI08_1,       AR03,     892,          1,          8,     -999.0,9,20000722,       2329,     5.4417,   -37.4917,       4025,  1202.6,   4.7980,  34.8974,2,-999.0000,9,   196.9,2,   21.15,2,   4.6971
 90KDAI08_1,       AR03,     892,          1,          7,      12129,2,20000722,       2329,     5.4417,   -37.4917,       4025,  1479.1,   4.3810,  34.9804,2,  34.9799,2,   239.0,2,   18.27,2,   4.2584
 90KDAI08_1,       AR03,     892,          1,          6,      12128,2,20000722,       2329,     5.4417,   -37.4917,       4025,  1986.2,   3.5250,  34.9739,2,  34.9802,2,   257.6,2,   20.30,2,   3.3658
 90KDAI08_1,       AR03,     892,          1,          5,     -999.0,9,20000722,       2329,     5.4417,   -37.4917,       4025,  2505.9,   2.9630,  34.9466,2,-999.0000,9,   265.0,2,   25.95,2,   2.7631
 90KDAI08_1,       AR03,     892,          1,          4,      12127,2,20000722,       2329,     5.4417,   -37.4917,       4025,  3015.9,   2.7090,  34.9287,2,  34.9263,2,   266.3,2,   30.76,2,   2.4629
 90KDAI08_1,       AR03,     892,          1,          3,     -999.0,9,20000722,       2329,     5.4417,   -37.4917,       4025,  3211.5,   2.5910,  34.9208,2,-999.0000,9,   267.2,2,   32.25,2,   2.3271
 90KDAI08_1,       AR03,     892,          1,          2,      12126,2,20000722,       2329,     5.4417,   -37.4917,       4025,  3513.6,   2.4350,  34.9114,2,  34.9251,2,   258.1,2,   30.33,2,   2.1427
 90KDAI08_1,       AR03,     892,          1,          1,      12125,2,20000722,       2329,     5.4417,   -37.4917,       4025,  4179.5,   1.9100,  34.8501,2,  34.8484,2,   257.2,2,   48.48,2,   1.5582