BOTTLE,20220922CCHSIOAMB
EXPOCODE,SECT_ID,STNNBR,CASTNO,SAMPNO,BTLNBR,BTLNBR_FLAG_W,DATE,TIME,LATITUDE,LONGITUDE,DEPTH,CTDPRS,CTDTMP,CTDSAL,CTDSAL_FLAG_W,SALNTY,SALNTY_FLAG_W,OXYGEN,OXYGEN_FLAG_W,SILCAT,SILCAT_FLAG_W,THETA
,,,,,,,,,,,METERS,DBAR,ITS-90,PSS-78,,PSS-78,,UMOL/KG,,UMOL/KG,,DEG C
 90KDAI08_1,       AR03,     877,          1,         12,      83832,2,20000719,       0719,     6.8733,   -29.2833,       4402,    52.2,  26.6340,  35.9612,2,  35.9376,3,   212.5,2,    3.17,2,  26.6221
 90KDAI08_1,       AR03,     877,          1,         11,     -999.0,9,20000719,       0719,     6.8733,   -29.2833,       4402,   301.2,  10.2550,  34.9645,2,-999.0000,9,   164.4,2,   12.30,2,  10.2193
 90KDAI08_1,       AR03,     877,          1,         10,      83831,2,20000719,       0719,     6.8733,   -29.2833,       4402,   503.5,   8.9630,  34.9589,2,  34.9521,2,    63.9,2,   17.70,2,   8.9075
 90KDAI08_1,       AR03,     877,          1,          9,      83830,2,20000719,       0719,     6.8733,   -29.2833,       4402,   807.4,   5.3340,  34.6328,2,  34.9514,3,   133.4,2,   27.44,2,   5.2656
 90KDAI08_1,       AR03,     877,          1,          8,     -999.0,9,20000719,       0719,     6.8733,   -29.2833,       4402,   998.6,   4.9060,  34.7211,2,-999.0000,9,   156.5,2,   27.44,2,   4.8232
 90KDAI08_1,       AR03,     877,          1,          7,      83829,2,20000719,       0719,     6.8733,   -29.2833,       4402,  1501.7,   4.3280,  34.9619,2,  34.9936,3,   228.6,2,   19.04,2,   4.2039
 90KDAI08_1,       AR03,     877,          1,          6,      83828,2,20000719,       0719,     6.8733,   -29.2833,       4402,  2005.0,   3.5750,  34.9679,2,  34.9698,2,   252.0,2,   20.94,2,   3.4133
 90KDAI08_1,       AR03,     877,          1,          5,     -999.0,9,20000719,       0719,     6.8733,   -29.2833,       4402,  2503.3,   3.0170,  34.9433,2,-999.0000,9,   255.9,2,   28.09,2,   2.8164
 90KDAI08_1,       AR03,     877,          1,          4,      83827,2,20000719,       0719,     6.8733,   -29.2833,       4402,  3004.4,   2.7030,  34.9222,2,  34.9225,2,   258.5,2,   33.11,2,   2.4582
 90KDAI08_1,       AR03,     877,          1,          3,     -999.0,9,20000719,       0719,     6.8733,   -29.2833,       4402,  3501.8,   2.4830,  34.9079,2,-999.0000,9,   263.7,2,   36.20,2,   2.1908
 90KDAI08_1,       AR03,     877,          1,          2,      83826,2,20000719,       0719,     6.8733,   -29.2833,       4402,  3992.8,   2.3610,  34.8956,2,  34.8919,2,   257.6,2,   37.59,2,   2.0174
 90KDAI08_1,       AR03,     877,          1,          1,      83825,2,20000719,       0719,     6.8733,   -29.2833,       4402,  4478.8,   2.3490,  34.8890,2,  34.8904,2,   257.6,2,   40.26,2,   1.9489
 90KDAI08_1,       AR03,     878,          1,         12,      83840,2,20000719,       1421,     6.7550,   -29.9450,       4200,    49.4,  27.6720,  35.8966,2,  35.8527,3,   216.1,2,    5.50,2,  27.6604
 90KDAI08_1,       AR03,     878,          1,         11,     -999.0,9,20000719,       1421,     6.7550,   -29.9450,       4200,   350.5,   9.8590,  34.9435,2,-999.0000,9,   118.3,2,   15.12,2,   9.8184
 90KDAI08_1,       AR03,     878,          1,         10,      83839,2,20000719,       1421,     6.7550,   -29.9450,       4200,   797.9,   5.6320,  34.6524,2,  34.6499,2,   127.4,2,   27.31,2,   5.5626
 90KDAI08_1,       AR03,     878,          1,          9,      83838,2,20000719,       1421,     6.7550,   -29.9450,       4200,  1000.4,   4.9150,  34.7164,2,  34.7158,2,   154.7,2,   27.92,2,   4.8319
 90KDAI08_1,       AR03,     878,          1,          8,     -999.0,9,20000719,       1421,     6.7550,   -29.9450,       4200,  1199.1,   4.6630,  34.8509,2,-999.0000,9,   186.9,2,   24.18,2,   4.5638
 90KDAI08_1,       AR03,     878,          1,          7,      83837,2,20000719,       1421,     6.7550,   -29.9450,       4200,  1500.9,   4.3010,  34.9604,2,  34.9610,2,   229.4,2,   19.86,2,   4.1773
 90KDAI08_1,       AR03,     878,          1,          6,      83836,2,20000719,       1421,     6.7550,   -29.9450,       4200,  2001.0,   3.5970,  34.9718,2,  34.9711,2,   252.9,2,   20.64,2,   3.4353
 90KDAI08_1,       AR03,     878,          1,          5,     -999.0,9,20000719,       1421,     6.7550,   -29.9450,       4200,  2501.0,   3.0310,  34.9445,2,-999.0000,9,   257.6,2,   25.74,2,   2.8303
 90KDAI08_1,       AR03,     878,          1,          4,      83835,2,20000719,       1421,     6.7550,   -29.9450,       4200,  3000.0,   2.7110,  34.9234,2,  34.9236,2,   259.4,2,   33.15,2,   2.4665
 90KDAI08_1,       AR03,     878,          1,          3,     -999.0,9,20000719,       1421,     6.7550,   -29.9450,       4200,  3501.4,   2.4570,  34.9058,2,-999.0000,9,   260.7,2,   36.42,2,   2.1655
 90KDAI08_1,       AR03,     878,          1,          2,      83834,2,20000719,       1421,     6.7550,   -29.9450,       4200,  3995.0,   2.3850,  34.8970,2,  34.9004,2,   258.5,2,   37.76,2,   2.0405
 90KDAI08_1,       AR03,     878,          1,          1,      83833,2,20000719,       1421,     6.7550,   -29.9450,       4200,  4241.1,   2.3640,  34.8933,2,  34.8912,2,   260.7,2,   38.84,2,   1.9916
 90KDAI08_1,       AR03,     879,          1,         12,      83308,2,20000719,       2101,     6.6083,   -30.5967,       4175,    49.6,  27.9720,  35.9013,2,  35.8832,3,   215.2,2,    3.00,2,  27.9603
 90KDAI08_1,       AR03,     879,          1,         11,     -999.0,9,20000719,       2101,     6.6083,   -30.5967,       4175,   351.5,   9.7900,  34.9402,2,-999.0000,9,   109.2,2,   14.65,2,   9.7495
 90KDAI08_1,       AR03,     879,          1,         10,      83307,2,20000719,       2101,     6.6083,   -30.5967,       4175,   803.4,   5.6410,  34.6433,2,  34.6416,2,   127.4,2,   26.70,2,   5.5711
 90KDAI08_1,       AR03,     879,          1,          9,      83306,2,20000719,       2101,     6.6083,   -30.5967,       4175,  1002.0,   4.8790,  34.7070,2,  34.7072,2,   157.8,2,   28.19,2,   4.7961
 90KDAI08_1,       AR03,     879,          1,          8,     -999.0,9,20000719,       2101,     6.6083,   -30.5967,       4175,  1202.0,   4.6360,  34.8430,2,-999.0000,9,   184.3,2,   24.99,2,   4.5367
 90KDAI08_1,       AR03,     879,          1,          7,      83305,2,20000719,       2101,     6.6083,   -30.5967,       4175,  1501.1,   4.3770,  34.9530,2,  34.9505,2,   223.8,2,   20.08,2,   4.2525
 90KDAI08_1,       AR03,     879,          1,          6,      83304,2,20000719,       2101,     6.6083,   -30.5967,       4175,  2000.9,   3.5410,  34.9666,2,  34.9663,2,   252.0,2,   21.47,2,   3.3802
 90KDAI08_1,       AR03,     879,          1,          5,     -999.0,9,20000719,       2101,     6.6083,   -30.5967,       4175,  2500.2,   2.9690,  34.9405,2,-999.0000,9,   257.2,2,   28.41,2,   2.7696
 90KDAI08_1,       AR03,     879,          1,          4,      83303,2,20000719,       2101,     6.6083,   -30.5967,       4175,  2999.0,   2.6470,  34.9202,2,  34.9253,2,   260.2,2,   33.75,2,   2.4040
 90KDAI08_1,       AR03,     879,          1,          3,     -999.0,9,20000719,       2101,     6.6083,   -30.5967,       4175,  3498.0,   2.4640,  34.9056,2,-999.0000,9,   265.9,2,   36.84,2,   2.1727
 90KDAI08_1,       AR03,     879,          1,          2,      83302,2,20000719,       2101,     6.6083,   -30.5967,       4175,  3998.1,   2.3820,  34.8977,2,  34.9003,2,   258.1,2,   37.80,2,   2.0372
 90KDAI08_1,       AR03,     879,          1,          1,      83301,2,20000719,       2101,     6.6083,   -30.5967,       4175,  4221.6,   2.3760,  34.8936,2,  34.8928,2,   264.2,2,   38.66,2,   2.0055
 90KDAI08_1,       AR03,     880,          1,         12,      83316,2,20000720,       0331,     6.5050,   -31.2600,       3464,    52.7,  27.6080,  35.9640,2,  35.9283,3,   214.3,2,    3.12,2,  27.5957
 90KDAI08_1,       AR03,     880,          1,         11,     -999.0,9,20000720,       0331,     6.5050,   -31.2600,       3464,   303.4,   9.5760,  34.9309,2,-999.0000,9,    91.8,2,   15.82,2,   9.5416
 90KDAI08_1,       AR03,     880,          1,         10,      83315,2,20000720,       0331,     6.5050,   -31.2600,       3464,   502.8,   7.4750,  34.7132,2,  34.7041,2,   113.9,2,   20.08,2,   7.4253
 90KDAI08_1,       AR03,     880,          1,          9,      83314,2,20000720,       0331,     6.5050,   -31.2600,       3464,   802.1,   5.4670,  34.6358,2,  34.6319,2,   131.7,2,   27.44,2,   5.3983
 90KDAI08_1,       AR03,     880,          1,          8,     -999.0,9,20000720,       0331,     6.5050,   -31.2600,       3464,  1003.6,   4.9180,  34.6982,2,-999.0000,9,   155.2,2,   28.08,2,   4.8347
 90KDAI08_1,       AR03,     880,          1,          7,      83313,2,20000720,       0331,     6.5050,   -31.2600,       3464,  1198.8,   4.7150,  34.8135,2,  34.8134,2,   176.0,2,   25.74,2,   4.6154
 90KDAI08_1,       AR03,     880,          1,          6,      83312,2,20000720,       0331,     6.5050,   -31.2600,       3464,  1501.8,   4.4080,  34.9633,2,  34.9607,2,   225.1,2,   19.66,2,   4.2830
 90KDAI08_1,       AR03,     880,          1,          5,     -999.0,9,20000720,       0331,     6.5050,   -31.2600,       3464,  1998.3,   3.6660,  34.9733,2,-999.0000,9,   253.8,2,   19.76,2,   3.5035
 90KDAI08_1,       AR03,     880,          1,          4,      83311,2,20000720,       0331,     6.5050,   -31.2600,       3464,  2302.7,   3.2080,  34.9532,2,  34.9533,2,   260.3,2,   25.10,2,   3.0236
 90KDAI08_1,       AR03,     880,          1,          3,     -999.0,9,20000720,       0331,     6.5050,   -31.2600,       3464,  2703.3,   2.8220,  34.9329,2,-999.0000,9,   259.4,2,   30.76,2,   2.6053
 90KDAI08_1,       AR03,     880,          1,          2,      83310,2,20000720,       0331,     6.5050,   -31.2600,       3464,  3004.7,   2.6450,  34.9198,2,  34.9217,2,   257.6,2,   33.21,2,   2.4015
 90KDAI08_1,       AR03,     880,          1,          1,      83309,2,20000720,       0331,     6.5050,   -31.2600,       3464,  3538.2,   2.4530,  34.9058,2,  34.8954,2,   259.4,2,   36.84,2,   2.1576
 90KDAI08_1,       AR03,     881,          1,         12,      83324,2,20000720,       0939,     6.3983,   -31.9267,       2887,    42.7,  28.2310,  35.5449,2,  35.5249,3,   211.3,2,    4.77,2,  28.2209
 90KDAI08_1,       AR03,     881,          1,         11,     -999.0,9,20000720,       0939,     6.3983,   -31.9267,       2887,   199.4,  10.2600,  34.9957,2,-999.0000,9,   142.2,2,   13.33,2,  10.2365
 90KDAI08_1,       AR03,     881,          1,         10,      83323,2,20000720,       0939,     6.3983,   -31.9267,       2887,   400.2,   7.9780,  34.7655,2,  34.7612,2,   106.1,2,   18.55,2,   7.9372
 90KDAI08_1,       AR03,     881,          1,          9,      83322,2,20000720,       0939,     6.3983,   -31.9267,       2887,   599.2,   6.4580,  34.6223,2,  34.6198,2,   123.5,2,   21.25,2,   6.4030
 90KDAI08_1,       AR03,     881,          1,          8,     -999.0,9,20000720,       0939,     6.3983,   -31.9267,       2887,   799.0,   5.4580,  34.6215,2,-999.0000,9,   136.5,2,   25.86,2,   5.3896
 90KDAI08_1,       AR03,     881,          1,          7,      83321,2,20000720,       0939,     6.3983,   -31.9267,       2887,  1000.1,   4.9010,  34.6910,2,  34.6892,2,   154.3,2,   26.91,2,   4.8181
 90KDAI08_1,       AR03,     881,          1,          6,      83320,2,20000720,       0939,     6.3983,   -31.9267,       2887,  1198.9,   4.7240,  34.8006,2,  34.7994,2,   173.0,2,   22.45,2,   4.6243
 90KDAI08_1,       AR03,     881,          1,          5,     -999.0,9,20000720,       0939,     6.3983,   -31.9267,       2887,  1402.7,   4.5360,  34.9278,2,-999.0000,9,   210.3,2,   20.93,2,   4.4190
 90KDAI08_1,       AR03,     881,          1,          4,      83319,2,20000720,       0939,     6.3983,   -31.9267,       2887,  1601.5,   4.2620,  34.9768,2,  34.9768,2,   240.3,2,   18.46,2,   4.1293
 90KDAI08_1,       AR03,     881,          1,          3,     -999.0,9,20000720,       0939,     6.3983,   -31.9267,       2887,  1798.3,   3.8560,  34.9810,2,-999.0000,9,   254.2,2,   18.65,2,   3.7099
 90KDAI08_1,       AR03,     881,          1,          2,      83318,2,20000720,       0939,     6.3983,   -31.9267,       2887,  2002.2,   3.5710,  34.9711,2,  34.9732,2,   254.6,2,   20.42,2,   3.4096
 90KDAI08_1,       AR03,     881,          1,          1,      83317,2,20000720,       0939,     6.3983,   -31.9267,       2887,  2118.2,   3.4410,  34.9654,2,  34.9628,2,   255.9,2,   21.92,2,   3.2705
 90KDAI08_1,       AR03,     882,          1,         12,      83332,2,20000720,       1530,     6.3033,   -32.5700,       3887,    49.6,  28.0040,  35.6812,2,  35.6574,3,   213.9,2,    5.00,2,  27.9923
 90KDAI08_1,       AR03,     882,          1,         11,     -999.0,9,20000720,       1530,     6.3033,   -32.5700,       3887,   349.1,   8.6240,  34.8307,2,-999.0000,9,  -999.0,9, -999.00,9,   8.5868
 90KDAI08_1,       AR03,     882,          1,         10,      83331,2,20000720,       1530,     6.3033,   -32.5700,       3887,   806.0,   5.4350,  34.5825,2,  34.5796,2,   140.0,2,   25.46,2,   5.3662
 90KDAI08_1,       AR03,     882,          1,          9,      83330,2,20000720,       1530,     6.3033,   -32.5700,       3887,  1001.3,   4.9250,  34.6990,2,  34.6972,2,   153.0,2,   28.38,2,   4.8418
 90KDAI08_1,       AR03,     882,          1,          8,     -999.0,9,20000720,       1530,     6.3033,   -32.5700,       3887,  1197.2,   4.7570,  34.8180,2,-999.0000,9,   178.2,2,   25.65,2,   4.6571
 90KDAI08_1,       AR03,     882,          1,          7,      83329,2,20000720,       1530,     6.3033,   -32.5700,       3887,  1503.8,   4.3090,  34.9680,2,  34.9761,2,   234.6,2,   19.13,2,   4.1849
 90KDAI08_1,       AR03,     882,          1,          6,      83328,2,20000720,       1530,     6.3033,   -32.5700,       3887,  1999.8,   3.6640,  34.9735,2,  34.9761,2,   254.2,2,   20.71,2,   3.5014
 90KDAI08_1,       AR03,     882,          1,          5,     -999.0,9,20000720,       1530,     6.3033,   -32.5700,       3887,  2500.1,   3.0460,  34.9440,2,-999.0000,9,   258.5,2,   27.09,2,   2.8452
 90KDAI08_1,       AR03,     882,          1,          4,      83327,2,20000720,       1530,     6.3033,   -32.5700,       3887,  2999.0,   2.6220,  34.9190,2,  34.9244,2,   261.1,2,   33.12,2,   2.3796
 90KDAI08_1,       AR03,     882,          1,          3,     -999.0,9,20000720,       1530,     6.3033,   -32.5700,       3887,  3198.6,   2.5800,  34.9153,2,-999.0000,9,   264.6,2,   33.68,2,   2.3178
 90KDAI08_1,       AR03,     882,          1,          2,      83326,2,20000720,       1530,     6.3033,   -32.5700,       3887,  3794.2,   2.5060,  34.9064,2,  34.9074,2,   259.4,2,   35.05,2,   2.1809
 90KDAI08_1,       AR03,     882,          1,          1,      83325,2,20000720,       1530,     6.3033,   -32.5700,       3887,  3936.0,   2.5170,  34.9061,2,  34.9038,2,   261.1,2,   36.18,2,   2.1755
 90KDAI08_1,       AR03,     883,          1,         12,      83340,2,20000720,       2033,     6.1983,   -33.0733,       3670,    54.2,  23.8720,  36.1452,2,  36.1275,3,   182.2,2,    4.28,2,  23.8606
 90KDAI08_1,       AR03,     883,          1,         11,     -999.0,9,20000720,       2033,     6.1983,   -33.0733,       3670,   349.6,   8.2760,  34.7714,2,-999.0000,9,   127.0,2,   17.52,2,   8.2397
 90KDAI08_1,       AR03,     883,          1,         10,      83339,2,20000720,       2033,     6.1983,   -33.0733,       3670,   791.1,   5.6010,  34.6171,2,  34.6145,2,   132.1,2,   26.69,2,   5.5325
 90KDAI08_1,       AR03,     883,          1,          9,      83338,2,20000720,       2033,     6.1983,   -33.0733,       3670,   998.7,   4.9430,  34.6940,2,  34.6899,2,   153.9,2,   28.08,2,   4.8599
 90KDAI08_1,       AR03,     883,          1,          8,     -999.0,9,20000720,       2033,     6.1983,   -33.0733,       3670,  1200.1,   4.7580,  34.8350,2,-999.0000,9,   182.5,2,   24.46,2,   4.6578
 90KDAI08_1,       AR03,     883,          1,          7,      83337,2,20000720,       2033,     6.1983,   -33.0733,       3670,  1299.6,   4.4970,  34.9096,2,  34.9078,2,   204.7,2,   22.22,2,   4.3900
 90KDAI08_1,       AR03,     883,          1,          6,      83336,2,20000720,       2033,     6.1983,   -33.0733,       3670,  1400.2,   4.4210,  34.9468,2,  34.9465,2,   217.7,2,   20.19,2,   4.3054
 90KDAI08_1,       AR03,     883,          1,          5,     -999.0,9,20000720,       2033,     6.1983,   -33.0733,       3670,  1499.8,   4.2930,  34.9704,2,-999.0000,9,   234.2,2,   18.37,2,   4.1695
 90KDAI08_1,       AR03,     883,          1,          4,      83335,2,20000720,       2033,     6.1983,   -33.0733,       3670,  1599.3,   4.1400,  34.9832,2,  34.9807,2,   247.2,2,   18.37,2,   4.0089
 90KDAI08_1,       AR03,     883,          1,          3,     -999.0,9,20000720,       2033,     6.1983,   -33.0733,       3670,  1700.1,   3.9570,  34.9777,2,-999.0000,9,   249.0,2,   18.48,2,   3.8188
 90KDAI08_1,       AR03,     883,          1,          2,      83334,2,20000720,       2033,     6.1983,   -33.0733,       3670,  1800.1,   3.8550,  34.9768,2,  34.9807,2,   248.5,2,   18.80,2,   3.7087
 90KDAI08_1,       AR03,     883,          1,          1,      83333,2,20000720,       2033,     6.1983,   -33.0733,       3670,  1921.1,   3.7450,  34.9757,2,  34.9749,2,   255.9,2,   18.91,2,   3.5888
 90KDAI08_1,       AR03,     884,          1,         12,      81608,2,20000721,       0119,     6.1200,   -33.5550,       3665,    50.6,  27.0070,  35.9529,2,  35.9220,3,   219.9,2,    3.12,2,  26.9954
 90KDAI08_1,       AR03,     884,          1,         11,     -999.0,9,20000721,       0119,     6.1200,   -33.5550,       3665,   300.7,   9.0690,  34.8801,2,-999.0000,9,   106.5,2,   16.14,2,   9.0360
 90KDAI08_1,       AR03,     884,          1,         10,      81607,2,20000721,       0119,     6.1200,   -33.5550,       3665,   493.1,   7.3920,  34.7094,2,  34.7037,2,   113.9,2,   20.51,2,   7.3436
 90KDAI08_1,       AR03,     884,          1,          9,      81606,2,20000721,       0119,     6.1200,   -33.5550,       3665,   808.4,   5.3440,  34.6198,2,  34.6156,2,   136.5,2,   27.87,2,   5.2755
 90KDAI08_1,       AR03,     884,          1,          8,      81605,2,20000721,       0119,     6.1200,   -33.5550,       3665,  1009.0,   4.9820,  34.7065,2,-999.0000,9,   156.0,2,   27.02,2,   4.8977
 90KDAI08_1,       AR03,     884,          1,          7,      81605,2,20000721,       0119,     6.1200,   -33.5550,       3665,  1206.4,   4.7340,  34.8593,2,  34.8585,2,   188.2,2,   23.92,2,   4.6334
 90KDAI08_1,       AR03,     884,          1,          6,      81604,2,20000721,       0119,     6.1200,   -33.5550,       3665,  1504.7,   4.2370,  34.9787,2,  34.9786,2,   238.6,2,   17.95,2,   4.1136
 90KDAI08_1,       AR03,     884,          1,          5,     -999.0,9,20000721,       0119,     6.1200,   -33.5550,       3665,  2012.4,   3.5190,  34.9677,2,-999.0000,9,   257.7,2,   21.26,2,   3.3574
 90KDAI08_1,       AR03,     884,          1,          4,      81603,2,20000721,       0119,     6.1200,   -33.5550,       3665,  2488.9,   3.0820,  34.9482,2,  34.9477,2,   261.1,2,   26.70,2,   2.8816
 90KDAI08_1,       AR03,     884,          1,          3,     -999.0,9,20000721,       0119,     6.1200,   -33.5550,       3665,  2996.6,   2.6710,  34.9211,2,-999.0000,9,   262.4,2,   33.21,2,   2.4277
 90KDAI08_1,       AR03,     884,          1,          2,      81602,2,20000721,       0119,     6.1200,   -33.5550,       3665,  3193.4,   2.6170,  34.9169,2,  34.9133,2,   259.4,2,   33.64,2,   2.3545
 90KDAI08_1,       AR03,     884,          1,          1,      81601,2,20000721,       0119,     6.1200,   -33.5550,       3665,  3538.8,   2.5790,  34.9119,2,  34.9103,2,   258.5,2,   34.92,2,   2.2803