BOTTLE,20220922CCHSIOAMB
EXPOCODE,SECT_ID,STNNBR,CASTNO,SAMPNO,BTLNBR,BTLNBR_FLAG_W,DATE,TIME,LATITUDE,LONGITUDE,DEPTH,CTDPRS,CTDTMP,CTDSAL,CTDSAL_FLAG_W,SALNTY,SALNTY_FLAG_W,OXYGEN,OXYGEN_FLAG_W,SILCAT,SILCAT_FLAG_W,THETA
,,,,,,,,,,,METERS,DBAR,ITS-90,PSS-78,,PSS-78,,UMOL/KG,,UMOL/KG,,DEG C
 90KDAI08_1,       AR03,     893,          1,         12,      12140,2,20000723,       0604,     5.3400,   -38.0117,       4659,    55.9,  27.8380,  35.9156,2,  35.9031,2,   209.9,2,    3.82,2,  27.8249
 90KDAI08_1,       AR03,     893,          1,         11,     -999.0,9,20000723,       0604,     5.3400,   -38.0117,       4659,   312.6,   9.0150,  34.8123,2,-999.0000,9,   154.8,2,   15.28,2,   8.9808
 90KDAI08_1,       AR03,     893,          1,         10,      12139,2,20000723,       0604,     5.3400,   -38.0117,       4659,   811.5,   5.5750,  34.5753,2,  34.5716,2,   143.5,2,   27.12,2,   5.5048
 90KDAI08_1,       AR03,     893,          1,          9,      12138,2,20000723,       0604,     5.3400,   -38.0117,       4659,  1000.6,   4.9810,  34.6485,2,  34.6463,2,   153.4,2,   29.25,2,   4.8975
 90KDAI08_1,       AR03,     893,          1,          8,     -999.0,9,20000723,       0604,     5.3400,   -38.0117,       4659,  1481.8,   4.3490,  34.9880,2,-999.0000,9,   242.5,2,   17.95,2,   4.2265
 90KDAI08_1,       AR03,     893,          1,          7,      12137,2,20000723,       0604,     5.3400,   -38.0117,       4659,  1976.7,   3.5830,  34.9741,2,  34.9738,2,   262.0,2,   20.30,2,   3.4238
 90KDAI08_1,       AR03,     893,          1,          6,      12136,2,20000723,       0604,     5.3400,   -38.0117,       4659,  2500.8,   3.0020,  34.9496,2,  34.9475,2,   255.5,2,   24.67,2,   2.8019
 90KDAI08_1,       AR03,     893,          1,          5,     -999.0,9,20000723,       0604,     5.3400,   -38.0117,       4659,  3001.2,   2.6840,  34.9269,2,-999.0000,9,   262.9,2,   31.18,2,   2.4400
 90KDAI08_1,       AR03,     893,          1,          4,      12135,2,20000723,       0604,     5.3400,   -38.0117,       4659,  3487.5,   2.4700,  34.9122,2,  34.9120,2,   269.8,2,   32.57,2,   2.1796
 90KDAI08_1,       AR03,     893,          1,          3,     -999.0,9,20000723,       0604,     5.3400,   -38.0117,       4659,  3997.2,   2.0580,  34.8700,2,-999.0000,9,   263.7,2,   43.25,2,   1.7225
 90KDAI08_1,       AR03,     893,          1,          2,      12134,2,20000723,       0604,     5.3400,   -38.0117,       4659,  4298.1,   1.8110,  34.8380,2,  34.8694,3,   251.1,2,   47.19,2,   1.4487
 90KDAI08_1,       AR03,     893,          1,          1,      12133,2,20000723,       0604,     5.3400,   -38.0117,       4659,  4787.8,   1.5460,  34.8030,2,  34.8025,2,   248.1,2,   52.53,2,   1.1349
 90KDAI08_1,       AR03,     894,          1,         12,      83408,2,20000723,       1249,     5.2550,   -38.5117,       4622,    53.2,  28.0450,  35.9142,2,  35.9131,2,   198.6,2,    4.50,2,  28.0324
 90KDAI08_1,       AR03,     894,          1,         11,     -999.0,9,20000723,       1249,     5.2550,   -38.5117,       4622,   446.2,   8.2360,  34.7622,2,-999.0000,9,   134.8,2,   18.44,2,   8.1895
 90KDAI08_1,       AR03,     894,          1,         10,      83407,2,20000723,       1249,     5.2550,   -38.5117,       4622,   822.3,   5.4440,  34.5721,2,  34.5697,2,   143.9,2,   27.96,2,   5.3737
 90KDAI08_1,       AR03,     894,          1,          9,      83406,2,20000723,       1249,     5.2550,   -38.5117,       4622,  1018.8,   4.9480,  34.7081,2,  34.7096,2,   157.3,2,   28.77,2,   4.8630
 90KDAI08_1,       AR03,     894,          1,          8,     -999.0,9,20000723,       1249,     5.2550,   -38.5117,       4622,  1513.1,   4.3460,  34.9830,2,-999.0000,9,   241.6,2,   16.28,2,   4.2206
 90KDAI08_1,       AR03,     894,          1,          7,      83405,2,20000723,       1249,     5.2550,   -38.5117,       4622,  1991.9,   3.6170,  34.9748,2,  34.9752,2,   258.1,2,   19.85,2,   3.4559
 90KDAI08_1,       AR03,     894,          1,          6,      83404,2,20000723,       1249,     5.2550,   -38.5117,       4622,  2504.6,   2.9850,  34.9467,2,  34.9441,2,   255.0,2,   25.58,2,   2.7848
 90KDAI08_1,       AR03,     894,          1,          5,     -999.0,9,20000723,       1249,     5.2550,   -38.5117,       4622,  3004.4,   2.7650,  34.9346,2,-999.0000,9,   265.9,2,   28.01,2,   2.5188
 90KDAI08_1,       AR03,     894,          1,          4,      83403,2,20000723,       1249,     5.2550,   -38.5117,       4622,  3492.9,   2.4810,  34.9139,2,  34.9116,2,   270.2,2,   32.37,2,   2.1898
 90KDAI08_1,       AR03,     894,          1,          3,     -999.0,9,20000723,       1249,     5.2550,   -38.5117,       4622,  3946.7,   2.2230,  34.8895,2,-999.0000,9,   268.5,2,   37.46,2,   1.8885
 90KDAI08_1,       AR03,     894,          1,          2,      83402,2,20000723,       1249,     5.2550,   -38.5117,       4622,  4299.3,   1.8110,  34.8387,2,  34.8466,2,   245.0,2,   47.99,2,   1.4485
 90KDAI08_1,       AR03,     894,          1,          1,      83401,2,20000723,       1249,     5.2550,   -38.5117,       4622,  4594.0,   1.5790,  34.8100,2,  34.8111,2,   248.9,2,   53.33,2,   1.1897
 90KDAI08_1,       AR03,     895,          1,         12,      83416,2,20000723,       1949,     5.1717,   -39.0250,       4664,    53.7,  28.1270,  35.9416,2,  35.9222,3,   206.5,2,    3.32,2,  28.1143
 90KDAI08_1,       AR03,     895,          1,         11,     -999.0,9,20000723,       1949,     5.1717,   -39.0250,       4664,   307.6,   8.9540,  34.8084,2,-999.0000,9,   153.1,2,   14.75,2,   8.9205
 90KDAI08_1,       AR03,     895,          1,         10,      83415,2,20000723,       1949,     5.1717,   -39.0250,       4664,   807.2,   5.1390,  34.5736,2,  34.5754,2,   147.8,2,   28.50,2,   5.0719
 90KDAI08_1,       AR03,     895,          1,          9,      83414,2,20000723,       1949,     5.1717,   -39.0250,       4664,  1005.0,   4.7870,  34.6669,2,  34.6649,2,   158.2,2,   28.93,2,   4.7046
 90KDAI08_1,       AR03,     895,          1,          8,     -999.0,9,20000723,       1949,     5.1717,   -39.0250,       4664,  1502.5,   4.4370,  34.9745,2,-999.0000,9,   235.9,2,   18.27,2,   4.3116
 90KDAI08_1,       AR03,     895,          1,          7,      83413,2,20000723,       1949,     5.1717,   -39.0250,       4664,  1967.6,   3.6880,  34.9801,2,  34.9810,2,   261.1,2,   18.48,2,   3.5281
 90KDAI08_1,       AR03,     895,          1,          6,      83412,2,20000723,       1949,     5.1717,   -39.0250,       4664,  2500.1,   3.0390,  34.9490,2,  34.9343,3,   250.7,2,   24.67,2,   2.8383
 90KDAI08_1,       AR03,     895,          1,          5,     -999.0,9,20000723,       1949,     5.1717,   -39.0250,       4664,  3002.4,   2.7190,  34.9314,2,-999.0000,9,   265.0,2,   28.62,2,   2.4740
 90KDAI08_1,       AR03,     895,          1,          4,      83411,2,20000723,       1949,     5.1717,   -39.0250,       4664,  3400.4,   2.5230,  34.9181,2,  34.9157,2,   268.5,2,   31.18,2,   2.2407
 90KDAI08_1,       AR03,     895,          1,          3,     -999.0,9,20000723,       1949,     5.1717,   -39.0250,       4664,  4015.4,   2.2320,  34.8935,2,-999.0000,9,   270.2,2,   35.13,2,   1.8894
 90KDAI08_1,       AR03,     895,          1,          2,      83410,2,20000723,       1949,     5.1717,   -39.0250,       4664,  4395.1,   1.7480,  34.8334,2,  34.8430,2,   245.5,2,   48.05,2,   1.3764
 90KDAI08_1,       AR03,     895,          1,          1,      83409,2,20000723,       1949,     5.1717,   -39.0250,       4664,  4535.5,   1.5780,  34.8102,2,  34.8114,2,   251.6,2,   52.42,2,   1.1955
 90KDAI08_1,       AR03,     896,          1,         12,      83424,2,20000724,       0207,     5.0700,   -39.5233,       4611,    53.9,  28.2730,  35.8501,2,  35.8364,3,   206.1,2,    3.62,2,  28.2602
 90KDAI08_1,       AR03,     896,          1,         11,     -999.0,9,20000724,       0207,     5.0700,   -39.5233,       4611,   321.6,   8.5920,  34.7726,2,-999.0000,9,   140.4,2,   16.13,2,   8.5579
 90KDAI08_1,       AR03,     896,          1,         10,      83423,2,20000724,       0207,     5.0700,   -39.5233,       4611,   791.4,   5.3400,  34.5719,2,  34.5725,2,   143.4,2,   28.08,2,   5.2731
 90KDAI08_1,       AR03,     896,          1,          9,      83422,2,20000724,       0207,     5.0700,   -39.5233,       4611,   999.4,   4.6520,  34.6497,2,  34.6480,2,   162.1,2,   30.00,2,   4.5711
 90KDAI08_1,       AR03,     896,          1,          8,     -999.0,9,20000724,       0207,     5.0700,   -39.5233,       4611,  1199.4,   4.6580,  34.8099,2,-999.0000,9,   185.1,2,   25.74,2,   4.5589
 90KDAI08_1,       AR03,     896,          1,          7,      83421,2,20000724,       0207,     5.0700,   -39.5233,       4611,  1482.6,   4.4530,  34.9721,2,  34.9696,2,   233.4,2,   18.80,2,   4.3293
 90KDAI08_1,       AR03,     896,          1,          6,      83420,2,20000724,       0207,     5.0700,   -39.5233,       4611,  1985.5,   3.7030,  34.9806,2,  34.9627,3,   254.2,2,   19.01,2,   3.5412
 90KDAI08_1,       AR03,     896,          1,          5,     -999.0,9,20000724,       0207,     5.0700,   -39.5233,       4611,  2491.3,   3.0650,  34.9531,2,-999.0000,9,   265.0,2,   24.25,2,   2.8646
 90KDAI08_1,       AR03,     896,          1,          4,      83419,2,20000724,       0207,     5.0700,   -39.5233,       4611,  2948.1,   2.7650,  34.9359,2,-999.0000,9,   269.4,2,   27.88,2,   2.5246
 90KDAI08_1,       AR03,     896,          1,          3,     -999.0,9,20000724,       0207,     5.0700,   -39.5233,       4611,  3506.6,   2.4520,  34.9133,2,  34.9146,2,   271.1,2,   30.65,2,   2.1600
 90KDAI08_1,       AR03,     896,          1,          2,      83418,2,20000724,       0207,     5.0700,   -39.5233,       4611,  4004.9,   2.2270,  34.8923,2,  34.8944,2,   265.9,2,   35.77,2,   1.8858
 90KDAI08_1,       AR03,     896,          1,          1,      83417,2,20000724,       0207,     5.0700,   -39.5233,       4611,  4594.6,   1.5400,  34.8035,2,  34.8103,2,   249.4,2,   55.62,2,   1.1519
 90KDAI08_1,       AR03,     897,          1,         12,      83432,2,20000724,       0857,     4.9950,   -40.0500,       4516,    54.1,  27.1130,  35.9744,2,  36.0055,3,   202.9,2,    5.60,2,  27.1005
 90KDAI08_1,       AR03,     897,          1,         11,     -999.0,9,20000724,       0857,     4.9950,   -40.0500,       4516,   352.6,   8.3440,  34.7434,2,-999.0000,9,   142.2,2,   17.11,2,   8.3072
 90KDAI08_1,       AR03,     897,          1,         10,      83431,2,20000724,       0857,     4.9950,   -40.0500,       4516,   505.4,   7.2600,  34.6645,2,  34.6648,2,   139.1,2,   20.99,2,   7.2109
 90KDAI08_1,       AR03,     897,          1,          9,      83430,2,20000724,       0857,     4.9950,   -40.0500,       4516,   806.3,   4.9960,  34.5672,2,  34.5650,2,   147.4,2,   29.99,2,   4.9299
 90KDAI08_1,       AR03,     897,          1,          8,     -999.0,9,20000724,       0857,     4.9950,   -40.0500,       4516,  1008.3,   4.6760,  34.6621,2,-999.0000,9,   166.9,2,   29.24,2,   4.5942
 90KDAI08_1,       AR03,     897,          1,          7,      83429,2,20000724,       0857,     4.9950,   -40.0500,       4516,  1519.9,   4.4310,  34.9781,2,  34.9792,2,   236.8,2,   18.80,2,   4.3040
 90KDAI08_1,       AR03,     897,          1,          6,      83428,2,20000724,       0857,     4.9950,   -40.0500,       4516,  2007.0,   3.6150,  34.9780,2,  34.9771,2,   258.1,2,   19.83,2,   3.4525
 90KDAI08_1,       AR03,     897,          1,          5,     -999.0,9,20000724,       0857,     4.9950,   -40.0500,       4516,  2505.2,   3.0570,  34.9539,2,-999.0000,9,   266.3,2,   23.86,2,   2.8554
 90KDAI08_1,       AR03,     897,          1,          4,     -999.0,9,20000724,       0857,     4.9950,   -40.0500,       4516,  2990.6,   2.7540,  34.9356,2,-999.0000,9,   269.8,2,   28.05,2,   2.5095
 90KDAI08_1,       AR03,     897,          1,          3,      83427,2,20000724,       0857,     4.9950,   -40.0500,       4516,  3473.3,   2.5070,  34.9177,2,  34.9253,2,   272.9,2,   30.33,2,   2.2172
 90KDAI08_1,       AR03,     897,          1,          2,      83426,2,20000724,       0857,     4.9950,   -40.0500,       4516,  3996.7,   2.2430,  34.8945,2,  34.8955,2,   267.2,2,   33.89,2,   1.9023
 90KDAI08_1,       AR03,     897,          1,          1,      83425,2,20000724,       0857,     4.9950,   -40.0500,       4516,  4267.6,   1.9240,  34.8535,2,  34.8520,2,   260.2,2,   47.10,2,   1.5617
 90KDAI08_1,       AR03,     898,          1,         12,      83440,2,20000724,       1515,     4.9033,   -40.5550,       4646,    53.9,  27.3360,  36.1063,2,  36.0956,2,   215.6,2,    4.09,2,  27.3235
 90KDAI08_1,       AR03,     898,          1,         11,     -999.0,9,20000724,       1515,     4.9033,   -40.5550,       4646,   355.5,   8.5300,  34.7604,2,-999.0000,9,   154.8,2,   16.03,2,   8.4924
 90KDAI08_1,       AR03,     898,          1,         10,      83439,2,20000724,       1515,     4.9033,   -40.5550,       4646,   808.6,   5.1340,  34.5694,2,  34.5689,2,   145.6,2,   28.83,2,   5.0668
 90KDAI08_1,       AR03,     898,          1,          9,      83438,2,20000724,       1515,     4.9033,   -40.5550,       4646,  1004.5,   4.7800,  34.6648,2,  34.6635,2,   155.6,2,   30.22,2,   4.6977
 90KDAI08_1,       AR03,     898,          1,          8,     -999.0,9,20000724,       1515,     4.9033,   -40.5550,       4646,  1506.5,   4.4680,  34.9775,2,-999.0000,9,   235.5,2,   18.48,2,   4.3419
 90KDAI08_1,       AR03,     898,          1,          7,      83437,2,20000724,       1515,     4.9033,   -40.5550,       4646,  1930.5,   3.7950,  34.9881,2,  34.9870,2,   263.7,2,   17.31,2,   3.6371
 90KDAI08_1,       AR03,     898,          1,          6,      83436,2,20000724,       1515,     4.9033,   -40.5550,       4646,  2501.2,   3.0640,  34.9525,2,  34.9465,2,   261.1,2,   24.25,2,   2.8627
 90KDAI08_1,       AR03,     898,          1,          5,     -999.0,9,20000724,       1515,     4.9033,   -40.5550,       4646,  3001.0,   2.7270,  34.9324,2,-999.0000,9,   267.2,2,   28.41,2,   2.4820
 90KDAI08_1,       AR03,     898,          1,          4,     -999.0,9,20000724,       1515,     4.9033,   -40.5550,       4646,  3701.5,   2.3700,  34.9068,2,-999.0000,9,   271.1,2,   32.04,2,   2.0588
 90KDAI08_1,       AR03,     898,          1,          3,      83435,2,20000724,       1515,     4.9033,   -40.5550,       4646,  3986.9,   2.2570,  34.8970,2,  34.8963,2,   272.0,2,   33.10,2,   1.9170
 90KDAI08_1,       AR03,     898,          1,          2,      83434,2,20000724,       1515,     4.9033,   -40.5550,       4646,  4502.4,   1.6110,  34.8150,2,  34.8146,2,   249.8,2,   51.68,2,   1.2313
 90KDAI08_1,       AR03,     898,          1,          1,      83433,2,20000724,       1515,     4.9033,   -40.5550,       4646,  4727.7,   1.3910,  34.7850,2,-999.0000,9,   245.0,2,   52.42,2,   0.9922
 90KDAI08_1,       AR03,     899,          1,         12,      21508,2,20000724,       2125,     4.8217,   -41.0650,       4620,    55.4,  25.4050,  36.2295,2,  36.2109,3,   201.5,2,    3.85,2,  25.3928
 90KDAI08_1,       AR03,     899,          1,         11,     -999.0,9,20000724,       2125,     4.8217,   -41.0650,       4620,   489.1,   7.4660,  34.7039,2,-999.0000,9,   130.4,2,   20.30,2,   7.4177
 90KDAI08_1,       AR03,     899,          1,         10,      21507,2,20000724,       2125,     4.8217,   -41.0650,       4620,   810.7,   5.1300,  34.5565,2,  34.5579,2,   128.2,2,   28.82,2,   5.0627
 90KDAI08_1,       AR03,     899,          1,          9,      21506,2,20000724,       2125,     4.8217,   -41.0650,       4620,  1007.1,   4.7920,  34.6973,2,  34.6985,2,   165.2,2,   28.94,2,   4.7093
 90KDAI08_1,       AR03,     899,          1,          8,     -999.0,9,20000724,       2125,     4.8217,   -41.0650,       4620,  1505.5,   4.3690,  34.9814,2,-999.0000,9,   239.4,2,   18.05,2,   4.2441
 90KDAI08_1,       AR03,     899,          1,          7,      21505,2,20000724,       2125,     4.8217,   -41.0650,       4620,  2009.8,   3.6620,  34.9831,2,  34.9842,2,   264.6,2,   18.19,2,   3.4985
 90KDAI08_1,       AR03,     899,          1,          6,      21504,2,20000724,       2125,     4.8217,   -41.0650,       4620,  2505.8,   3.0160,  34.9509,2,  34.9302,3,   257.6,2,   24.35,2,   2.8151
 90KDAI08_1,       AR03,     899,          1,          5,     -999.0,9,20000724,       2125,     4.8217,   -41.0650,       4620,  2998.6,   2.7460,  34.9326,2,-999.0000,9,   266.3,2,   28.94,2,   2.5009
 90KDAI08_1,       AR03,     899,          1,          4,     -999.0,9,20000724,       2125,     4.8217,   -41.0650,       4620,  3700.9,   2.3760,  34.9079,2,-999.0000,9,   274.1,2,   31.50,2,   2.0647
 90KDAI08_1,       AR03,     899,          1,          3,      21503,2,20000724,       2125,     4.8217,   -41.0650,       4620,  3985.2,   2.2580,  34.8979,2,  34.8971,2,   274.6,2,   33.21,2,   1.9181
 90KDAI08_1,       AR03,     899,          1,          2,      21502,2,20000724,       2125,     4.8217,   -41.0650,       4620,  4596.9,   1.4030,  34.7894,2,  34.7923,2,   244.6,2,   51.46,2,   1.0190
 90KDAI08_1,       AR03,     899,          1,          1,      21501,2,20000724,       2125,     4.8217,   -41.0650,       4620,  4694.6,   1.3550,  34.7826,2,  34.7831,2,   245.0,2,   54.45,2,   0.9612
 90KDAI08_1,       AR03,     900,          1,         12,      21516,2,20000725,       0320,     4.7333,   -41.5433,       4385,    51.5,  26.6520,  36.1994,2,  36.1799,3,   218.1,2,    3.36,2,  26.6403
 90KDAI08_1,       AR03,     900,          1,         11,     -999.0,9,20000725,       0320,     4.7333,   -41.5433,       4385,   411.8,   8.3740,  34.7996,2,-999.0000,9,   110.9,2,   18.06,2,   8.3307
 90KDAI08_1,       AR03,     900,          1,         10,      21515,2,20000725,       0320,     4.7333,   -41.5433,       4385,   815.2,   5.0380,  34.5662,2,  34.5655,2,   149.5,2,   29.36,2,   4.9708
 90KDAI08_1,       AR03,     900,          1,          9,      21514,2,20000725,       0320,     4.7333,   -41.5433,       4385,  1004.2,   4.8540,  34.6980,2,  34.6963,2,   160.8,2,   28.62,2,   4.7711
 90KDAI08_1,       AR03,     900,          1,          8,     -999.0,9,20000725,       0320,     4.7333,   -41.5433,       4385,  1203.5,   4.6830,  34.8789,2,-999.0000,9,   198.2,2,   26.06,2,   4.5831
 90KDAI08_1,       AR03,     900,          1,          7,      21513,2,20000725,       0320,     4.7333,   -41.5433,       4385,  1514.9,   4.3770,  34.9813,2,  34.9802,2,   240.7,2,   18.05,2,   4.2511
 90KDAI08_1,       AR03,     900,          1,          6,      21512,2,20000725,       0320,     4.7333,   -41.5433,       4385,  1988.9,   3.6320,  34.9809,2,  34.9808,2,   261.1,2,   18.27,2,   3.4709
 90KDAI08_1,       AR03,     900,          1,          5,     -999.0,9,20000725,       0320,     4.7333,   -41.5433,       4385,  2497.7,   3.0890,  34.9539,2,-999.0000,9,   265.9,2,   23.60,2,   2.8876
 90KDAI08_1,       AR03,     900,          1,          4,     -999.0,9,20000725,       0320,     4.7333,   -41.5433,       4385,  3006.3,   2.7660,  34.9320,2,-999.0000,9,   266.8,2,   29.26,2,   2.5196
 90KDAI08_1,       AR03,     900,          1,          3,      21511,2,20000725,       0320,     4.7333,   -41.5433,       4385,  3492.1,   2.5320,  34.9195,2,  34.9239,2,   271.5,2,   30.01,2,   2.2395
 90KDAI08_1,       AR03,     900,          1,          2,      21510,2,20000725,       0320,     4.7333,   -41.5433,       4385,  4003.0,   2.3050,  34.9011,2,  34.9013,2,   266.3,2,   31.40,2,   1.9618
 90KDAI08_1,       AR03,     900,          1,          1,      21509,2,20000725,       0320,     4.7333,   -41.5433,       4385,  4339.3,   2.2200,  34.8883,2,-999.0000,9,   270.2,2,   36.20,2,   1.8404