BOTTLE,20220922CCHSIOAMB
EXPOCODE,SECT_ID,STNNBR,CASTNO,SAMPNO,BTLNBR,BTLNBR_FLAG_W,DATE,TIME,LATITUDE,LONGITUDE,DEPTH,CTDPRS,CTDTMP,CTDSAL,CTDSAL_FLAG_W,SALNTY,SALNTY_FLAG_W,OXYGEN,OXYGEN_FLAG_W,SILCAT,SILCAT_FLAG_W,THETA
,,,,,,,,,,,METERS,DBAR,ITS-90,PSS-78,,PSS-78,,UMOL/KG,,UMOL/KG,,DEG C
 90KDAI08_1,       AR03,     869,          1,         12,      21608,2,20000716,       2151,     7.6933,   -23.9933,       4801,    53.6,  19.5360,  35.9346,2,  35.9216,2,   156.8,2,    5.51,2,  19.5262
 90KDAI08_1,       AR03,     869,          1,         11,     -999.0,9,20000716,       2151,     7.6933,   -23.9933,       4801,   351.1,  10.3940,  35.0780,2,-999.0000,9,    79.6,2,   14.11,2,  10.3519
 90KDAI08_1,       AR03,     869,          1,         10,      21607,2,20000716,       2151,     7.6933,   -23.9933,       4801,   648.8,   6.1930,  34.6634,2,  34.6584,2,   113.0,2,   24.99,2,   6.1345
 90KDAI08_1,       AR03,     869,          1,          9,      21606,2,20000716,       2151,     7.6933,   -23.9933,       4801,  1002.2,   5.0360,  34.7219,2,  34.7311,2,   146.0,2,   27.87,2,   4.9519
 90KDAI08_1,       AR03,     869,          1,          8,     -999.0,9,20000716,       2151,     7.6933,   -23.9933,       4801,  1502.7,   4.2380,  34.9588,2,-999.0000,9,   231.2,2,   19.98,2,   4.1149
 90KDAI08_1,       AR03,     869,          1,          7,      21605,2,20000716,       2151,     7.6933,   -23.9933,       4801,  2008.5,   3.4800,  34.9586,2,  34.9621,2,   250.7,2,   22.75,2,   3.3194
 90KDAI08_1,       AR03,     869,          1,          6,      21604,2,20000716,       2151,     7.6933,   -23.9933,       4801,  2502.1,   2.9620,  34.9411,2,  34.9110,3,   252.4,2,   28.84,2,   2.7625
 90KDAI08_1,       AR03,     869,          1,          5,     -999.0,9,20000716,       2151,     7.6933,   -23.9933,       4801,  3003.8,   2.6440,  34.9200,2,-999.0000,9,   255.9,2,   34.60,2,   2.4006
 90KDAI08_1,       AR03,     869,          1,          4,     -999.0,9,20000716,       2151,     7.6933,   -23.9933,       4801,  3706.1,   2.4080,  34.9006,2,-999.0000,9,   258.1,2,   39.73,2,   2.0953
 90KDAI08_1,       AR03,     869,          1,          3,      21602,2,20000716,       2151,     7.6933,   -23.9933,       4801,  4002.9,   2.3590,  34.8947,2,-999.0000,9,   258.5,2,   41.11,2,   2.0143
 90KDAI08_1,       AR03,     869,          1,          2,      21601,2,20000716,       2151,     7.6933,   -23.9933,       4801,  4402.8,   2.3390,  34.8892,2,  34.8945,2,   247.6,2,   39.62,2,   1.9483
 90KDAI08_1,       AR03,     869,          1,          1,      21609,2,20000716,       2151,     7.6933,   -23.9933,       4801,  4896.3,   2.3110,  34.8802,2,  34.8886,2,   250.7,2,   45.06,2,   1.8610
 90KDAI08_1,       AR03,     870,          1,         12,      21616,2,20000717,       0429,     7.5817,   -24.6917,       4890,    51.2,  24.0590,  36.0293,2,  35.9933,3,   211.0,2,    3.79,2,  24.0482
 90KDAI08_1,       AR03,     870,          1,         11,     -999.0,9,20000717,       0429,     7.5817,   -24.6917,       4890,   340.7,  10.1260,  35.0442,2,-999.0000,9,    83.5,2,   14.86,2,  10.0858
 90KDAI08_1,       AR03,     870,          1,         10,      21615,2,20000717,       0429,     7.5817,   -24.6917,       4890,   455.5,   9.2250,  35.0143,2,  35.0063,2,    73.5,2,   17.64,2,   9.1740
 90KDAI08_1,       AR03,     870,          1,          9,      21614,2,20000717,       0429,     7.5817,   -24.6917,       4890,   835.6,   5.3850,  34.6559,2,  34.6509,2,   128.7,2,   27.76,2,   5.3137
 90KDAI08_1,       AR03,     870,          1,          8,     -999.0,9,20000717,       0429,     7.5817,   -24.6917,       4890,  1508.9,   4.2870,  34.9642,2,-999.0000,9,   229.0,2,   19.98,2,-999.0000
 90KDAI08_1,       AR03,     870,          1,          7,      21613,2,20000717,       0429,     7.5817,   -24.6917,       4890,  2004.5,   3.5110,  34.9628,2,  34.9678,2,   255.1,2,   22.43,2,   3.3503
 90KDAI08_1,       AR03,     870,          1,          6,      21612,2,20000717,       0429,     7.5817,   -24.6917,       4890,  2501.2,   3.0030,  34.9425,2,  34.9453,2,   254.6,2,   28.09,2,   2.8028
 90KDAI08_1,       AR03,     870,          1,          5,     -999.0,9,20000717,       0429,     7.5817,   -24.6917,       4890,  2999.7,   2.6620,  34.9213,2,-999.0000,9,   256.8,2,   35.03,2,-999.0000
 90KDAI08_1,       AR03,     870,          1,          4,      21611,2,20000717,       0429,     7.5817,   -24.6917,       4890,  3696.5,   2.4200,  34.9021,2,  34.8997,2,   260.7,2,   39.62,2,   2.1081
 90KDAI08_1,       AR03,     870,          1,          3,     -999.0,9,20000717,       0429,     7.5817,   -24.6917,       4890,  4003.2,   2.3500,  34.8945,2,-999.0000,9,   258.9,2,   41.01,2,-999.0000
 90KDAI08_1,       AR03,     870,          1,          2,      21610,2,20000717,       0429,     7.5817,   -24.6917,       4890,  4501.2,   2.3270,  34.8868,3,  34.9048,3,   248.9,2,   39.72,2,   1.9249
 90KDAI08_1,       AR03,     870,          1,          1,     -999.0,9,20000717,       0429,     7.5817,   -24.6917,       4890,  4980.6,   2.3180,  34.8792,2,  34.8812,2,   251.1,2,   45.28,2,   1.8572
 90KDAI08_1,       AR03,     871,          1,         12,      21624,2,20000717,       1055,     7.4833,   -25.3217,       4359,    50.3,  22.8360,  36.0257,2,  36.0058,3,   199.6,2,    4.60,2,  22.8257
 90KDAI08_1,       AR03,     871,          1,         11,     -999.0,9,20000717,       1055,     7.4833,   -25.3217,       4359,   347.9,  10.2220,  35.0037,2,-999.0000,9,    98.7,2,   13.90,2,  10.1808
 90KDAI08_1,       AR03,     871,          1,         10,      21623,2,20000717,       1055,     7.4833,   -25.3217,       4359,   747.4,   5.8530,  34.6701,2,  34.6729,2,   122.2,2,   26.59,2,   5.7870
 90KDAI08_1,       AR03,     871,          1,          9,      21622,2,20000717,       1055,     7.4833,   -25.3217,       4359,   997.1,   5.0690,  34.7271,2,  34.7231,2,   144.3,2,   27.66,2,   4.9851
 90KDAI08_1,       AR03,     871,          1,          8,     -999.0,9,20000717,       1055,     7.4833,   -25.3217,       4359,  1498.9,   4.2760,  34.9536,2,-999.0000,9,   226.0,2,   20.51,2,   4.1528
 90KDAI08_1,       AR03,     871,          1,          7,      21621,2,20000717,       1055,     7.4833,   -25.3217,       4359,  1987.7,   3.5480,  34.9584,2,  34.9667,3,   247.7,2,   22.86,2,   3.3884
 90KDAI08_1,       AR03,     871,          1,          6,      21620,2,20000717,       1055,     7.4833,   -25.3217,       4359,  2500.5,   3.0650,  34.9453,2,  34.9464,2,   254.2,2,   27.88,2,   2.8638
 90KDAI08_1,       AR03,     871,          1,          5,     -999.0,9,20000717,       1055,     7.4833,   -25.3217,       4359,  2998.7,   2.7200,  34.9260,2,-999.0000,9,   256.3,2,   33.64,2,   2.4754
 90KDAI08_1,       AR03,     871,          1,          4,      21619,2,20000717,       1055,     7.4833,   -25.3217,       4359,  3694.4,   2.4510,  34.9035,2,  34.9049,2,   259.4,2,   38.98,2,   2.1385
 90KDAI08_1,       AR03,     871,          1,          3,     -999.0,9,20000717,       1055,     7.4833,   -25.3217,       4359,  3999.9,   2.3450,  34.8927,2,-999.0000,9,   260.2,2,   40.69,2,   2.0011
 90KDAI08_1,       AR03,     871,          1,          2,      21618,2,20000717,       1055,     7.4833,   -25.3217,       4359,  4294.9,   2.3300,  34.8894,2,  34.8897,2,   253.7,2,   42.18,2,   1.9523
 90KDAI08_1,       AR03,     871,          1,          1,      21617,2,20000717,       1055,     7.4833,   -25.3217,       4359,  4436.9,   2.3190,  34.8881,2,  34.8872,2,   253.7,2,   42.82,2,   1.9248
 90KDAI08_1,       AR03,     872,          1,         12,      21632,2,20000717,       1711,     7.3750,   -25.9900,       4693,    51.5,  20.7700,  36.0049,2,  35.9785,3,   177.3,2,    5.75,2,  20.7602
 90KDAI08_1,       AR03,     872,          1,         11,     -999.0,9,20000717,       1711,     7.3750,   -25.9900,       4693,   360.3,  10.3820,  35.0166,2,-999.0000,9,   103.1,2,   14.11,2,  10.3388
 90KDAI08_1,       AR03,     872,          1,         10,      21631,2,20000717,       1711,     7.3750,   -25.9900,       4693,   795.0,   5.7080,  34.6480,2,  34.6511,2,   120.0,2,   27.23,2,   5.6385
 90KDAI08_1,       AR03,     872,          1,          9,      21630,2,20000717,       1711,     7.3750,   -25.9900,       4693,  1001.2,   5.0550,  34.7029,2,  34.7025,2,   143.0,2,   28.62,2,   4.9708
 90KDAI08_1,       AR03,     872,          1,          8,     -999.0,9,20000717,       1711,     7.3750,   -25.9900,       4693,  1498.1,   4.2830,  34.9664,2,-999.0000,9,   235.9,2,   19.66,2,   4.1598
 90KDAI08_1,       AR03,     872,          1,          7,      21629,2,20000717,       1711,     7.3750,   -25.9900,       4693,  1996.2,   3.5260,  34.9657,2,  34.9692,2,   254.2,2,   21.79,2,   3.3658
 90KDAI08_1,       AR03,     872,          1,          6,      21628,2,20000717,       1711,     7.3750,   -25.9900,       4693,  2500.7,   2.9820,  34.9409,2,  34.9415,2,   254.6,2,   29.16,2,   2.7823
 90KDAI08_1,       AR03,     872,          1,          5,     -999.0,9,20000717,       1711,     7.3750,   -25.9900,       4693,  3003.2,   2.6670,  34.9212,2,-999.0000,9,   257.2,2,   34.92,2,   2.4231
 90KDAI08_1,       AR03,     872,          1,          4,      21627,2,20000717,       1711,     7.3750,   -25.9900,       4693,  3702.8,   2.3990,  34.8995,2,  34.8961,2,   265.5,2,   39.30,2,   2.0869
 90KDAI08_1,       AR03,     872,          1,          3,      21626,2,20000717,       1711,     7.3750,   -25.9900,       4693,  3997.4,   2.3650,  34.8955,2,-999.0000,9,   262.0,2,   40.47,2,   2.0208
 90KDAI08_1,       AR03,     872,          1,          2,      21625,2,20000717,       1711,     7.3750,   -25.9900,       4693,  4497.5,   2.3200,  34.8868,2,  34.8892,2,   254.2,2,   41.33,2,   1.9185
 90KDAI08_1,       AR03,     872,          1,          1,     -999.0,9,20000717,       1711,     7.3750,   -25.9900,       4693,  4691.2,   2.3240,  34.8840,2,  34.9015,2,   256.8,2,   43.35,2,   1.8989
 90KDAI08_1,       AR03,     873,          1,         12,      21640,2,20000718,       0016,     7.2933,   -26.6267,       4774,    52.6,  20.4980,  36.0657,2,  36.0325,3,   156.4,2,    5.86,2,  20.4881
 90KDAI08_1,       AR03,     873,          1,         11,     -999.0,9,20000718,       0016,     7.2933,   -26.6267,       4774,   358.8,  10.5420,  35.0636,2,-999.0000,9,    81.8,2,   14.11,2,  10.4986
 90KDAI08_1,       AR03,     873,          1,         10,      21639,2,20000718,       0016,     7.2933,   -26.6267,       4774,   816.8,   5.6060,  34.6260,2,  34.6232,2,   121.3,2,   27.12,2,   5.5351
 90KDAI08_1,       AR03,     873,          1,          9,      21638,2,20000718,       0016,     7.2933,   -26.6267,       4774,  1207.2,   4.8390,  34.8400,2,  34.8348,2,   172.1,2,   25.21,2,   4.7374
 90KDAI08_1,       AR03,     873,          1,          8,      21637,2,20000718,       0016,     7.2933,   -26.6267,       4774,  1502.2,   4.3550,  34.9672,2,  34.9655,2,   233.3,2,   19.55,2,   4.2306
 90KDAI08_1,       AR03,     873,          1,          7,     -999.0,9,20000718,       0016,     7.2933,   -26.6267,       4774,  1998.9,   3.5310,  34.9674,2,-999.0000,9,   256.4,2,   21.36,2,   3.3705
 90KDAI08_1,       AR03,     873,          1,          6,     -999.0,9,20000718,       0016,     7.2933,   -26.6267,       4774,  2499.4,   2.9720,  34.9413,2,  34.9227,3,   252.0,2,   28.73,2,   2.7726
 90KDAI08_1,       AR03,     873,          1,          5,      21636,2,20000718,       0016,     7.2933,   -26.6267,       4774,  2995.4,   2.6950,  34.9239,2,-999.0000,9,   255.9,2,   34.07,2,   2.4513
 90KDAI08_1,       AR03,     873,          1,          4,      21635,2,20000718,       0016,     7.2933,   -26.6267,       4774,  3500.0,   2.4740,  34.9074,2,  34.9036,2,   262.0,2,   37.27,2,   2.1822
 90KDAI08_1,       AR03,     873,          1,          3,     -999.0,9,20000718,       0016,     7.2933,   -26.6267,       4774,  3999.7,   2.3280,  34.8927,2,-999.0000,9,   260.7,2,   40.90,2,   1.9846
 90KDAI08_1,       AR03,     873,          1,          2,      21634,2,20000718,       0016,     7.2933,   -26.6267,       4774,  4400.5,   2.3310,  34.8877,2,  34.8856,2,   254.2,2,   40.69,2,   1.9408
 90KDAI08_1,       AR03,     873,          1,          1,      21633,2,20000718,       0016,     7.2933,   -26.6267,       4774,  4859.4,   2.3200,  34.8826,2,  34.8795,2,   254.2,2,   44.42,2,   1.8743
 90KDAI08_1,       AR03,     874,          1,         12,      83808,2,20000718,       0914,     7.2333,   -27.2800,     -999.0,    48.5,  24.2980,  36.0283,2,  35.9599,3,   207.5,2,    5.32,2,  24.2877
 90KDAI08_1,       AR03,     874,          1,         11,     -999.0,9,20000718,       0914,     7.2333,   -27.2800,     -999.0,   449.1,   9.3250,  34.9344,2,-999.0000,9,    82.2,2,   17.07,2,   9.2745
 90KDAI08_1,       AR03,     874,          1,         10,      83807,2,20000718,       0914,     7.2333,   -27.2800,     -999.0,   886.1,   5.2980,  34.6499,2,  34.6518,2,   135.2,2,   28.41,2,   5.2227
 90KDAI08_1,       AR03,     874,          1,          9,      83806,2,20000718,       0914,     7.2333,   -27.2800,     -999.0,  1204.8,   4.7790,  34.8617,2,  34.8624,2,   182.1,2,   18.33,2,   4.6782
 90KDAI08_1,       AR03,     874,          1,          8,     -999.0,9,20000718,       0914,     7.2333,   -27.2800,     -999.0,  1512.8,   4.2490,  34.9717,2,-999.0000,9,   235.5,2,   19.05,2,   4.1248
 90KDAI08_1,       AR03,     874,          1,          7,      83805,2,20000718,       0914,     7.2333,   -27.2800,     -999.0,  1998.9,   3.5100,  34.9639,2,  34.9628,2,   251.1,2,   22.22,2,   3.3498
 90KDAI08_1,       AR03,     874,          1,          6,      83804,2,20000718,       0914,     7.2333,   -27.2800,     -999.0,  2501.2,   3.0020,  34.9428,2,  34.9412,2,   254.2,2,   28.23,2,   2.8019
 90KDAI08_1,       AR03,     874,          1,          5,     -999.0,9,20000718,       0914,     7.2333,   -27.2800,     -999.0,  2988.3,   2.7090,  34.9236,2,-999.0000,9,   255.5,2,   33.63,2,   2.4658
 90KDAI08_1,       AR03,     874,          1,          4,      83803,2,20000718,       0914,     7.2333,   -27.2800,     -999.0,  3188.0,   2.6100,  34.9175,2,  34.9161,2,   258.1,2,   35.97,2,   2.3482
 90KDAI08_1,       AR03,     874,          1,          3,     -999.0,9,20000718,       0914,     7.2333,   -27.2800,     -999.0,  3485.1,   2.5110,  34.9087,2,-999.0000,9,   260.2,2,   37.20,2,   2.2199
 90KDAI08_1,       AR03,     874,          1,          2,      83802,2,20000718,       0914,     7.2333,   -27.2800,     -999.0,  3986.7,   2.3400,  34.8927,2,  34.8921,2,   258.5,2,   39.83,2,   1.9977
 90KDAI08_1,       AR03,     874,          1,          1,     -999.0,9,20000718,       0914,     7.2333,   -27.2800,     -999.0,  4405.5,   2.3310,  34.8889,2,-999.0000,9,  -999.0,9, -999.00,9,   1.9402
 90KDAI08_1,       AR03,     875,          1,         12,      83816,2,20000718,       1647,     7.0833,   -27.9467,       4270,    54.2,  21.0580,  36.0262,2,  35.9546,3,   153.3,2,    5.84,2,  21.0476
 90KDAI08_1,       AR03,     875,          1,         11,     -999.0,9,20000718,       1647,     7.0833,   -27.9467,       4270,   460.9,   9.5300,  34.9840,2,-999.0000,9,    73.9,2,   16.46,2,   9.4774
 90KDAI08_1,       AR03,     875,          1,         10,      83815,2,20000718,       1647,     7.0833,   -27.9467,       4270,   701.2,   6.0780,  34.6537,2,  34.6866,3,   119.6,2,   25.52,2,   6.0152
 90KDAI08_1,       AR03,     875,          1,          9,      83814,2,20000718,       1647,     7.0833,   -27.9467,       4270,   999.5,   5.0200,  34.7122,2,  34.7092,2,   145.6,2,   28.41,2,   4.9362
 90KDAI08_1,       AR03,     875,          1,          8,     -999.0,9,20000718,       1647,     7.0833,   -27.9467,       4270,  1495.7,   4.2610,  34.9603,2,-999.0000,9,   230.3,2,   19.76,2,   4.1383
 90KDAI08_1,       AR03,     875,          1,          7,      83813,2,20000718,       1647,     7.0833,   -27.9467,       4270,  1974.0,   3.5360,  34.9610,2,  34.9605,2,   252.0,2,   22.43,2,   3.3778
 90KDAI08_1,       AR03,     875,          1,          6,      83812,2,20000718,       1647,     7.0833,   -27.9467,       4270,  2494.9,   3.0500,  34.9422,2,  34.9433,2,   248.1,2,   27.98,2,   2.8496
 90KDAI08_1,       AR03,     875,          1,          5,     -999.0,9,20000718,       1647,     7.0833,   -27.9467,       4270,  2996.2,   2.7090,  34.9243,2,-999.0000,9,   255.0,2,   33.96,2,   2.4649
 90KDAI08_1,       AR03,     875,          1,          4,      83811,2,20000718,       1647,     7.0833,   -27.9467,       4270,  3164.0,   2.6250,  34.9179,2,  34.9155,2,   259.0,2,   35.56,2,   2.3654
 90KDAI08_1,       AR03,     875,          1,          3,     -999.0,9,20000718,       1647,     7.0833,   -27.9467,       4270,  3695.0,   2.4150,  34.9016,2,-999.0000,9,   262.9,2,   38.12,2,   2.1034
 90KDAI08_1,       AR03,     875,          1,          2,      83810,2,20000718,       1647,     7.0833,   -27.9467,       4270,  4102.3,   2.3480,  34.8940,2,  34.9164,3,   252.4,2,   37.80,2,   1.9922
 90KDAI08_1,       AR03,     875,          1,          1,      83809,2,20000718,       1647,     7.0833,   -27.9467,       4270,  4378.6,   2.3480,  34.8906,2,  34.8884,2,   259.8,2,   40.79,2,   1.9599
 90KDAI08_1,       AR03,     876,          1,         12,      83824,2,20000719,       0014,     6.9917,   -28.6183,       4476,    50.0,  27.0450,  35.9437,2,  35.9178,3,   220.8,2,    3.71,2,  27.0335
 90KDAI08_1,       AR03,     876,          1,         11,     -999.0,9,20000719,       0014,     6.9917,   -28.6183,       4476,   454.6,   8.9920,  34.8914,2,-999.0000,9,    87.4,2,   17.21,2,   8.9420
 90KDAI08_1,       AR03,     876,          1,         10,      83823,2,20000719,       0014,     6.9917,   -28.6183,       4476,   757.6,   5.9350,  34.6492,2,  34.6436,2,   123.5,2,   25.95,2,   5.8676
 90KDAI08_1,       AR03,     876,          1,          9,      83822,2,20000719,       0014,     6.9917,   -28.6183,       4476,  1006.1,   4.9510,  34.6997,2,  34.7230,3,   149.1,2,   28.62,2,   4.8672
 90KDAI08_1,       AR03,     876,          1,          8,     -999.0,9,20000719,       0014,     6.9917,   -28.6183,       4476,  1206.4,   4.7090,  34.8564,2,-999.0000,9,   185.1,2,   24.78,2,   4.6087
 90KDAI08_1,       AR03,     876,          1,          7,      83821,2,20000719,       0014,     6.9917,   -28.6183,       4476,  1527.9,   4.2570,  34.9698,2,  34.9689,2,   234.6,2,   19.66,2,   4.1313
 90KDAI08_1,       AR03,     876,          1,          6,      83820,2,20000719,       0014,     6.9917,   -28.6183,       4476,  2014.3,   3.5460,  34.9644,2,  34.9638,2,   247.2,2,   22.43,2,   3.3838
 90KDAI08_1,       AR03,     876,          1,          5,     -999.0,9,20000719,       0014,     6.9917,   -28.6183,       4476,  2506.7,   3.0500,  34.9451,2,-999.0000,9,   257.6,2,   28.09,2,   2.8484
 90KDAI08_1,       AR03,     876,          1,          4,      83819,2,20000719,       0014,     6.9917,   -28.6183,       4476,  3017.9,   2.7210,  34.9247,2,  34.9211,2,   259.4,2,   33.75,2,   2.4744
 90KDAI08_1,       AR03,     876,          1,          3,     -999.0,9,20000719,       0014,     6.9917,   -28.6183,       4476,  3513.2,   2.5210,  34.9097,2,-999.0000,9,   262.4,2,   36.42,2,   2.2266
 90KDAI08_1,       AR03,     876,          1,          2,      83818,2,20000719,       0014,     6.9917,   -28.6183,       4476,  3984.6,   2.3690,  34.8966,2,  34.9027,2,   252.0,2,   35.88,2,   2.0261
 90KDAI08_1,       AR03,     876,          1,          1,      83817,2,20000719,       0014,     6.9917,   -28.6183,       4476,  4564.6,   2.3580,  34.8886,2,  34.8895,2,   260.2,2,   41.01,2,   1.9472