BOTTLE,20220922CCHSIOAMB
EXPOCODE,SECT_ID,STNNBR,CASTNO,SAMPNO,BTLNBR,BTLNBR_FLAG_W,DATE,TIME,LATITUDE,LONGITUDE,DEPTH,CTDPRS,CTDTMP,CTDSAL,CTDSAL_FLAG_W,SALNTY,SALNTY_FLAG_W,OXYGEN,OXYGEN_FLAG_W,SILCAT,SILCAT_FLAG_W,THETA
,,,,,,,,,,,METERS,DBAR,ITS-90,PSS-78,,PSS-78,,UMOL/KG,,UMOL/KG,,DEG C
 90KDAI08_1,       AR03,     909,          1,         12,      82608,2,20000727,       0633,     4.0433,   -45.4850,       3832,    50.5,  27.5750,  36.1305,2,  36.1164,3,   208.6,2,    3.17,2,  27.5632
 90KDAI08_1,       AR03,     909,          1,         11,     -999.0,9,20000727,       0633,     4.0433,   -45.4850,       3832,   310.1,  10.5840,  34.9583,2,-999.0000,9,   166.6,2,   11.59,2,  10.5465
 90KDAI08_1,       AR03,     909,          1,         10,      82607,2,20000727,       0633,     4.0433,   -45.4850,       3832,   432.6,   9.1690,  34.8591,2,  34.8516,2,   136.1,2,   15.40,2,   9.1209
 90KDAI08_1,       AR03,     909,          1,          9,      82606,2,20000727,       0633,     4.0433,   -45.4850,       3832,   751.3,   5.8810,  34.6020,2,  34.6004,2,   129.6,2,   25.89,2,   5.8146
 90KDAI08_1,       AR03,     909,          1,          8,     -999.0,9,20000727,       0633,     4.0433,   -45.4850,       3832,  1001.5,   4.8890,  34.6771,2,-999.0000,9,   156.5,2,   28.59,2,   4.8061
 90KDAI08_1,       AR03,     909,          1,          7,      82605,2,20000727,       0633,     4.0433,   -45.4850,       3832,  1186.2,   4.7590,  34.8708,2,  34.8660,2,   195.6,2,   23.62,2,   4.6600
 90KDAI08_1,       AR03,     909,          1,          6,      82604,2,20000727,       0633,     4.0433,   -45.4850,       3832,  1501.8,   4.3380,  34.9946,2,  34.9993,2,   255.9,2,   17.11,2,   4.2137
 90KDAI08_1,       AR03,     909,          1,          5,     -999.0,9,20000727,       0633,     4.0433,   -45.4850,       3832,  1993.4,   3.5320,  34.9765,2,-999.0000,9,   270.2,2,   17.34,2,   3.3720
 90KDAI08_1,       AR03,     909,          1,          4,     -999.0,9,20000727,       0633,     4.0433,   -45.4850,       3832,  2490.8,   3.2490,  34.9645,2,-999.0000,9,   272.4,2,   20.05,2,   3.0453
 90KDAI08_1,       AR03,     909,          1,          3,      82603,2,20000727,       0633,     4.0433,   -45.4850,       3832,  2995.1,   2.7690,  34.9362,2,  34.9357,2,   269.4,2,   26.73,2,   2.5237
 90KDAI08_1,       AR03,     909,          1,          2,      82602,2,20000727,       0633,     4.0433,   -45.4850,       3832,  3493.2,   2.4560,  34.9140,2,  34.8918,3,  -999.0,9,   26.27,2,   2.1653
 90KDAI08_1,       AR03,     909,          1,          1,      82601,2,20000727,       0633,     4.0433,   -45.4850,       3832,  3866.7,   2.2140,  34.8942,2,  34.8930,2,   272.4,2,   33.08,2,   1.8887
 90KDAI08_1,       AR03,     910,          1,         12,      82616,2,20000727,       1121,     4.0150,   -45.7850,       3727,    51.0,  27.4480,  36.0847,2,  36.0692,3,   206.0,2,    4.38,2,  27.4361
 90KDAI08_1,       AR03,     910,          1,         11,     -999.0,9,20000727,       1121,     4.0150,   -45.7850,       3727,   403.3,   9.6460,  34.8473,2,-999.0000,9,   168.7,2,   13.50,2,   9.5998
 90KDAI08_1,       AR03,     910,          1,         10,      82615,2,20000727,       1121,     4.0150,   -45.7850,       3727,   799.9,   5.4530,  34.5745,2,  34.5775,2,   140.4,2,   27.79,2,   5.3847
 90KDAI08_1,       AR03,     910,          1,          9,      82614,2,20000727,       1121,     4.0150,   -45.7850,       3727,  1001.0,   4.7160,  34.6714,2,  34.6723,2,   164.3,2,   29.51,2,   4.6345
 90KDAI08_1,       AR03,     910,          1,          8,     -999.0,9,20000727,       1121,     4.0150,   -45.7850,       3727,  1194.4,   4.7510,  34.8474,2,-999.0000,9,   190.8,2,   24.18,2,   4.6514
 90KDAI08_1,       AR03,     910,          1,          7,      82613,2,20000727,       1121,     4.0150,   -45.7850,       3727,  1463.0,   4.4010,  34.9999,2,  35.0014,2,   248.1,2,   16.82,2,   4.2797
 90KDAI08_1,       AR03,     910,          1,          6,      82612,2,20000727,       1121,     4.0150,   -45.7850,       3727,  1843.2,   3.6830,  34.9827,2,  34.9778,2,   265.5,2,   15.42,2,   3.5350
 90KDAI08_1,       AR03,     910,          1,          5,     -999.0,9,20000727,       1121,     4.0150,   -45.7850,       3727,  2503.4,   3.1820,  34.9615,2,-999.0000,9,   269.4,2,   20.58,2,   2.9783
 90KDAI08_1,       AR03,     910,          1,          4,     -999.0,9,20000727,       1121,     4.0150,   -45.7850,       3727,  3004.3,   2.7690,  34.9345,2,-999.0000,9,   270.2,2,   26.86,2,   2.5228
 90KDAI08_1,       AR03,     910,          1,          3,      82611,2,20000727,       1121,     4.0150,   -45.7850,       3727,  3401.0,   2.4350,  34.9138,2,  34.9135,2,   272.0,2,   29.80,2,   2.1548
 90KDAI08_1,       AR03,     910,          1,          2,      82609,2,20000727,       1121,     4.0150,   -45.7850,       3727,  3603.3,   2.2530,  34.9015,2,-999.0000,9,   271.1,2,   31.08,2,   1.9556
 90KDAI08_1,       AR03,     910,          1,          1,     -999.0,9,20000727,       1121,     4.0150,   -45.7850,       3727,  3756.8,   2.2230,  34.8975,2,  34.8965,2,   272.8,2,   32.42,2,   1.9096
 90KDAI08_1,       AR03,     911,          1,         12,      82624,2,20000727,       1557,     3.9483,   -46.1233,       3596,    53.7,  27.2260,  36.0494,2,-999.0000,9,   206.4,2,    5.12,2,  27.2136
 90KDAI08_1,       AR03,     911,          1,        11a,     -999.0,9,20000727,       1557,     3.9483,   -46.1233,       3596,   303.6,  10.6910,  34.9706,2,-999.0000,9,   171.8,2,   11.99,2,  10.6541
 90KDAI08_1,       AR03,     911,          1,        11b,     -999.0,9,20000727,       1557,     3.9483,   -46.1233,       3596,   610.3,   6.6220,  34.5784,2,-999.0000,9,   162.6,2,   20.82,2,   6.5653
 90KDAI08_1,       AR03,     911,          1,         9a,      83730,2,20000727,       1557,     3.9483,   -46.1233,       3596,   756.8,   5.5830,  34.5458,2,  34.5445,2,   154.8,2,   25.73,2,   5.5179
 90KDAI08_1,       AR03,     911,          1,         10,      82623,2,20000727,       1557,     3.9483,   -46.1233,       3596,   785.0,   5.3030,  34.5542,2,  34.5550,2,   150.0,2,   27.92,2,   5.2369
 90KDAI08_1,       AR03,     911,          1,         9b,      82622,2,20000727,       1557,     3.9483,   -46.1233,       3596,  1000.9,   4.7030,  34.6630,2,  34.6571,2,   163.0,2,   28.85,2,   4.6216
 90KDAI08_1,       AR03,     911,          1,          8,     -999.0,9,20000727,       1557,     3.9483,   -46.1233,       3596,  1497.2,   4.2240,  34.9996,2,-999.0000,9,   255.1,2,   16.26,2,   4.1014
 90KDAI08_1,       AR03,     911,          1,          7,      82621,2,20000727,       1557,     3.9483,   -46.1233,       3596,  1775.0,   3.6580,  34.9828,2,  34.9868,2,   267.6,2,   17.62,2,   3.5167
 90KDAI08_1,       AR03,     911,          1,          6,      82620,2,20000727,       1557,     3.9483,   -46.1233,       3596,  2001.9,   3.5260,  34.9764,2,  34.9702,2,   262.4,2,   17.91,2,   3.3653
 90KDAI08_1,       AR03,     911,          1,          5,     -999.0,9,20000727,       1557,     3.9483,   -46.1233,       3596,  2503.9,   3.1790,  34.9609,2,-999.0000,9,   270.7,2,   20.71,2,   2.9753
 90KDAI08_1,       AR03,     911,          1,          4,     -999.0,9,20000727,       1557,     3.9483,   -46.1233,       3596,  3002.9,   2.7080,  34.9325,2,-999.0000,9,   272.4,2,   27.07,2,   2.4632
 90KDAI08_1,       AR03,     911,          1,          3,      82619,2,20000727,       1557,     3.9483,   -46.1233,       3596,  3291.0,   2.4730,  34.9171,2,  34.9168,2,   273.7,2,   28.20,2,   2.2035
 90KDAI08_1,       AR03,     911,          1,          2,      82618,2,20000727,       1557,     3.9483,   -46.1233,       3596,  3503.8,   2.3350,  34.9085,2,  34.9152,2,   268.5,2,   27.88,2,   2.0462
 90KDAI08_1,       AR03,     911,          1,          1,      82617,2,20000727,       1557,     3.9483,   -46.1233,       3596,  3612.6,   2.3010,  34.9046,2,  34.9034,2,   275.5,2,   29.43,2,   2.0013
 90KDAI08_1,       AR03,     912,          1,         12,      82632,2,20000727,       2019,     3.9217,   -46.4467,       3328,    49.9,  27.6410,  36.0904,2,  36.0734,3,   207.7,2,    3.12,2,  27.6293
 90KDAI08_1,       AR03,     912,          1,         10,      82631,2,20000727,       2019,     3.9217,   -46.4467,       3328,   782.6,   5.5470,  34.5631,2,  34.5627,2,   144.3,2,   26.58,2,   5.4797
 90KDAI08_1,       AR03,     912,          1,          9,      82630,2,20000727,       2019,     3.9217,   -46.4467,       3328,  1002.0,   4.7180,  34.6608,2,  34.6553,2,   163.9,2,   29.04,2,   4.6364
 90KDAI08_1,       AR03,     912,          1,          8,     -999.0,9,20000727,       2019,     3.9217,   -46.4467,       3328,  1256.7,   5.0590,  34.9223,2,-999.0000,9,   202.5,2,   21.47,2,   4.9506
 90KDAI08_1,       AR03,     912,          1,          7,      82629,2,20000727,       2019,     3.9217,   -46.4467,       3328,  1477.7,   4.4780,  35.0053,2,  35.0086,2,   245.9,2,   16.13,2,   4.3544
 90KDAI08_1,       AR03,     912,          1,          6,     -999.0,9,20000727,       2019,     3.9217,   -46.4467,       3328,  1802.1,   3.6460,  34.9812,2,-999.0000,9,   266.8,2,   16.88,2,   3.5023
 90KDAI08_1,       AR03,     912,          1,          5,     -999.0,9,20000727,       2019,     3.9217,   -46.4467,       3328,  2003.9,   3.4310,  34.9737,2,-999.0000,9,   266.3,2,   19.01,2,   3.2715
 90KDAI08_1,       AR03,     912,          1,          4,     -999.0,9,20000727,       2019,     3.9217,   -46.4467,       3328,  2501.0,   3.1470,  34.9591,2,-999.0000,9,   270.7,2,   20.72,2,   2.9442
 90KDAI08_1,       AR03,     912,          1,          3,      82627,2,20000727,       2019,     3.9217,   -46.4467,       3328,  2994.7,   2.6850,  34.9317,2,  34.9310,2,   269.8,2,   27.55,2,   2.4416
 90KDAI08_1,       AR03,     912,          1,          2,      82626,2,20000727,       2019,     3.9217,   -46.4467,       3328,  3203.6,   2.5290,  34.9205,2,  34.9234,2,   266.3,2,   27.98,2,   2.2674
 90KDAI08_1,       AR03,     912,          1,          1,      82625,2,20000727,       2019,     3.9217,   -46.4467,       3328,  3341.5,   2.4700,  34.9161,2,  34.9151,2,   273.7,2,   27.87,2,   2.1953
 90KDAI08_1,       AR03,     913,          1,         12,      82640,2,20000728,       0034,     3.8617,   -46.7933,       2885,    48.4,  27.7300,  36.1088,2,  36.0943,3,   208.6,2,    2.96,2,  27.7186
 90KDAI08_1,       AR03,     913,          1,         11,     -999.0,9,20000728,       0034,     3.8617,   -46.7933,       2885,   307.1,  10.8000,  34.9854,2,-999.0000,9,   170.5,2,   10.79,2,  10.7624
 90KDAI08_1,       AR03,     913,          1,         10,      82639,2,20000728,       0034,     3.8617,   -46.7933,       2885,   504.4,   8.9870,  34.8547,2,  34.8502,2,   132.2,2,   15.28,2,   8.9314
 90KDAI08_1,       AR03,     913,          1,          9,      82638,2,20000728,       0034,     3.8617,   -46.7933,       2885,   798.6,   5.2930,  34.5395,2,  34.5395,2,   156.5,2,   26.80,2,   5.2258
 90KDAI08_1,       AR03,     913,          1,          8,     -999.0,9,20000728,       0034,     3.8617,   -46.7933,       2885,  1000.0,   4.7360,  34.6651,2,-999.0000,9,   165.2,2,   28.40,2,   4.6544
 90KDAI08_1,       AR03,     913,          1,          7,      82637,2,20000728,       0034,     3.8617,   -46.7933,       2885,  1196.9,   4.7840,  34.8754,2,  34.8774,2,   197.3,2,   22.86,2,   4.6838
 90KDAI08_1,       AR03,     913,          1,          6,      82636,2,20000728,       0034,     3.8617,   -46.7933,       2885,  1495.7,   4.2950,  35.0041,2,  35.0064,2,   249.9,2,   15.49,2,   4.1718
 90KDAI08_1,       AR03,     913,          1,          5,     -999.0,9,20000728,       0034,     3.8617,   -46.7933,       2885,  1803.0,   3.7020,  34.9832,2,-999.0000,9,   269.8,2,   15.92,2,   3.5575
 90KDAI08_1,       AR03,     913,          1,          4,     -999.0,9,20000728,       0034,     3.8617,   -46.7933,       2885,  1998.9,   3.3520,  34.9704,2,-999.0000,9,   269.0,2,   19.76,2,   3.1942
 90KDAI08_1,       AR03,     913,          1,          3,      82635,2,20000728,       0034,     3.8617,   -46.7933,       2885,  2201.7,   3.1770,  34.9625,2,  34.9653,2,   270.2,2,   20.29,2,   3.0028
 90KDAI08_1,       AR03,     913,          1,          2,      82634,2,20000728,       0034,     3.8617,   -46.7933,       2885,  2503.7,   3.0760,  34.9553,2,  34.9685,2,   268.5,2,   21.04,2,   2.8742
 90KDAI08_1,       AR03,     913,          1,          1,      82633,2,20000728,       0034,     3.8617,   -46.7933,       2885,  2894.0,   2.6000,  34.9265,2,-999.0000,9,   272.4,2,   27.45,2,   2.3687
 90KDAI08_1,       AR03,     914,          1,         12,      83732,2,20000728,       0418,     3.8100,   -47.0733,       2637,    51.0,  27.8280,  36.1302,2,  36.1198,2,   208.6,2,    3.39,2,  27.8160
 90KDAI08_1,       AR03,     914,          1,         11,     -999.0,9,20000728,       0418,     3.8100,   -47.0733,       2637,   304.4,  10.9960,  35.0088,2,-999.0000,9,   170.1,2,   10.44,2,  10.9583
 90KDAI08_1,       AR03,     914,          1,         10,      83731,2,20000728,       0418,     3.8100,   -47.0733,       2637,   466.2,   9.5520,  34.8531,2,  34.8495,2,   162.2,2,   13.25,2,   9.4988
 90KDAI08_1,       AR03,     914,          1,          8,     -999.0,9,20000728,       0418,     3.8100,   -47.0733,       2637,   902.5,   4.7340,  34.5883,2,-999.0000,9,   163.4,2,   29.25,2,   4.6611
 90KDAI08_1,       AR03,     914,          1,          7,      83729,2,20000728,       0418,     3.8100,   -47.0733,       2637,  1001.7,   4.7510,  34.6649,2,  34.6629,2,   162.6,2,   27.55,2,   4.6692
 90KDAI08_1,       AR03,     914,          1,          6,      83728,2,20000728,       0418,     3.8100,   -47.0733,       2637,  1203.2,   4.7380,  34.8566,2,  34.8595,2,   190.8,2,   23.28,2,   4.6377
 90KDAI08_1,       AR03,     914,          1,          5,     -999.0,9,20000728,       0418,     3.8100,   -47.0733,       2637,  1485.9,   4.3870,  35.0034,2,-999.0000,9,   250.3,2,   15.49,2,   4.2637
 90KDAI08_1,       AR03,     914,          1,          4,     -999.0,9,20000728,       0418,     3.8100,   -47.0733,       2637,  1805.3,   3.6390,  34.9811,2,-999.0000,9,   268.1,2,   17.20,2,   3.4951
 90KDAI08_1,       AR03,     914,          1,          3,      83727,2,20000728,       0418,     3.8100,   -47.0733,       2637,  1987.1,   3.4260,  34.9728,2,  34.9732,2,   271.1,2,   18.37,2,   3.2682
 90KDAI08_1,       AR03,     914,          1,          2,      83726,2,20000728,       0418,     3.8100,   -47.0733,       2637,  2201.9,   3.3060,  34.9678,2,  34.9695,2,   265.9,2,   19.12,2,   3.1296
 90KDAI08_1,       AR03,     914,          1,          1,      83725,2,20000728,       0418,     3.8100,   -47.0733,       2637,  2630.8,   3.0410,  34.9528,2,  34.9540,2,   268.5,2,   21.47,2,   2.8272
 90KDAI08_1,       AR03,     915,          1,         12,      83740,2,20000728,       0742,     3.7983,   -47.2600,       2307,    50.1,  27.9280,  36.1377,2,  36.1240,2,   206.0,2,    3.06,2,  27.9162
 90KDAI08_1,       AR03,     915,          1,         11,     -999.0,9,20000728,       0742,     3.7983,   -47.2600,       2307,   103.4,  26.1900,  36.0418,2,-999.0000,9,   204.1,2,    3.19,2,  26.1667
 90KDAI08_1,       AR03,     915,          1,         10,      83739,2,20000728,       0742,     3.7983,   -47.2600,       2307,   301.5,  10.6410,  34.9751,2,  34.9686,2,   166.6,2,   11.12,2,  10.6044
 90KDAI08_1,       AR03,     915,          1,          9,      83738,2,20000728,       0742,     3.7983,   -47.2600,       2307,   499.8,   8.5310,  34.7990,2,  34.7938,2,   134.8,2,   16.67,2,   8.4776
 90KDAI08_1,       AR03,     915,          1,          8,     -999.0,9,20000728,       0742,     3.7983,   -47.2600,       2307,   699.5,   6.1650,  34.5792,2,-999.0000,9,   146.1,2,   24.45,2,   6.1019
 90KDAI08_1,       AR03,     915,          1,          7,      83737,2,20000728,       0742,     3.7983,   -47.2600,       2307,   901.0,   4.8200,  34.6077,2,  34.6099,2,   157.8,2,   29.04,2,   4.7467
 90KDAI08_1,       AR03,     915,          1,          6,      83736,2,20000728,       0742,     3.7983,   -47.2600,       2307,  1001.7,   4.7630,  34.6884,2,  34.6922,2,   163.0,2,   27.87,2,   4.6810
 90KDAI08_1,       AR03,     915,          1,          5,     -999.0,9,20000728,       0742,     3.7983,   -47.2600,       2307,  1201.9,   4.7380,  34.8538,2,-999.0000,9,   192.1,2,   23.50,2,   4.6378
 90KDAI08_1,       AR03,     915,          1,          4,     -999.0,9,20000728,       0742,     3.7983,   -47.2600,       2307,  1500.5,   4.1320,  34.9962,2,-999.0000,9,   258.1,2,   16.02,2,   4.0102
 90KDAI08_1,       AR03,     915,          1,          3,      83735,2,20000728,       0742,     3.7983,   -47.2600,       2307,  1803.2,   3.6670,  34.9821,2,  34.9831,2,   267.6,2,   16.34,2,   3.5229
 90KDAI08_1,       AR03,     915,          1,          2,      83734,2,20000728,       0742,     3.7983,   -47.2600,       2307,  2001.8,   3.4830,  34.9756,2,  35.0133,3,   266.8,2,   17.62,2,   3.3229
 90KDAI08_1,       AR03,     915,          1,          1,      83733,2,20000728,       0742,     3.7983,   -47.2600,       2307,  2301.5,   3.3100,  34.9679,2,  34.9772,2,   271.5,2,   18.91,2,   3.1239