BOTTLE,20220922CCHSIOAMB
# Disambiguated duplicate SAMPNOs by adding sequential letters
#BOTTLE,20211129CCHSIORKP
# Original header:
#changed all fill flags to 9
#code : jjward hyd_to_exchange.pl 
#original files copied from HTML directory: 20030722
#original HYD file: ar03_ahy.txt   Mon Jul 21 11:39:31 2003
#original SUM file: ar03_asu.txt   Mon Jul 21 11:39:36 2003
EXPOCODE,SECT_ID,STNNBR,CASTNO,SAMPNO,BTLNBR,BTLNBR_FLAG_W,DATE,TIME,LATITUDE,LONGITUDE,DEPTH,CTDPRS,CTDTMP,CTDSAL,CTDSAL_FLAG_W,SALNTY,SALNTY_FLAG_W,OXYGEN,OXYGEN_FLAG_W,SILCAT,SILCAT_FLAG_W,THETA
,,,,,,,,,,,METERS,DBAR,ITS-90,PSS-78,,PSS-78,,UMOL/KG,,UMOL/KG,,DEG C
 90KDAI08_1,       AR03,     854,          1,         12,      01012,2,20000713,       1312,     9.4350,   -17.3550,        986,     9.0,  27.8490,  34.8539,2,  34.8135,3,   208.8,2,    2.94,2,  27.8469
 90KDAI08_1,       AR03,     854,          1,         11,      01011,2,20000713,       1312,     9.4350,   -17.3550,        986,   151.0,  14.3290,  35.4697,2,  35.4610,2,    90.9,2,    8.81,2,  14.3068
 90KDAI08_1,       AR03,     854,          1,         10,      01010,2,20000713,       1312,     9.4350,   -17.3550,        986,   258.9,  12.3810,  35.2278,2,  35.2299,2,  -999.0,9,   10.38,2,  12.3464
 90KDAI08_1,       AR03,     854,          1,          9,      01009,2,20000713,       1312,     9.4350,   -17.3550,        986,   363.0,  11.0260,  35.1970,2,  35.1968,2,    60.0,2,   13.69,2,  10.9807
 90KDAI08_1,       AR03,     854,          1,          8,      01008,2,20000713,       1312,     9.4350,   -17.3550,        986,   419.0,   9.2660,  35.0001,2,  34.9899,2,    54.8,2,   17.21,2,   9.2191
 90KDAI08_1,       AR03,     854,          1,          7,      01007,2,20000713,       1312,     9.4350,   -17.3550,        986,   571.0,   7.3070,  34.8129,2,  34.8155,2,    80.0,2,   20.41,2,   7.2509
 90KDAI08_1,       AR03,     854,          1,          6,      01006,2,20000713,       1312,     9.4350,   -17.3550,        986,   630.0,   6.5470,  34.7257,2,  34.7245,2,    96.9,2,   23.60,2,   6.4885
 90KDAI08_1,       AR03,     854,          1,          5,      01005,2,20000713,       1312,     9.4350,   -17.3550,        986,   697.0,   6.1580,  34.7028,2,  34.7023,2,   107.8,2,   25.10,2,   6.0951
 90KDAI08_1,       AR03,     854,          1,          4,      01004,2,20000713,       1312,     9.4350,   -17.3550,        986,   746.2,   5.8950,  34.6916,2,  34.6950,2,   112.6,2,   26.06,2,   5.8289
 90KDAI08_1,       AR03,     854,          1,          3,      01003,2,20000713,       1312,     9.4350,   -17.3550,        986,   841.0,   5.5480,  34.6902,2,-999.0000,9,   113.9,2, -999.00,9,   5.4751
 90KDAI08_1,       AR03,     854,          1,          2,      01002,2,20000713,       1312,     9.4350,   -17.3550,        986,   895.0,   5.4770,  34.7125,2,  34.7555,3,   123.9,2,   25.42,2,   5.3977
 90KDAI08_1,       AR03,     854,          1,          1,      01001,2,20000713,       1312,     9.4350,   -17.3550,        986,   913.2,   5.3710,  34.7196,2,  34.7284,2,   130.8,2,   27.44,2,   5.2926
 90KDAI08_1,       AR03,     855,          1,         12,      01024,2,20000713,       1905,     9.0750,   -17.8633,       3700,    49.7,  22.1250,  35.9586,2,  35.9399,3,   183.4,2,    4.92,2,  22.1151
 90KDAI08_1,       AR03,     855,          1,         11,      01023,2,20000713,       1905,     9.0750,   -17.8633,       3700,   340.7,  11.6710,  35.2248,2,  35.2180,2,    75.2,2,   12.86,2,  11.6270
 90KDAI08_1,       AR03,     855,          1,         10,      01022,2,20000713,       1905,     9.0750,   -17.8633,       3700,   812.6,   5.7170,  34.6972,2,  34.6947,2,   116.1,2,   27.48,2,   5.6457
 90KDAI08_1,       AR03,     855,          1,          9,      01021,2,20000713,       1905,     9.0750,   -17.8633,       3700,   904.7,   5.4680,  34.7187,2,  34.7155,2,   127.8,2,   27.66,2,   5.3897
 90KDAI08_1,       AR03,     855,          1,          8,      01020,2,20000713,       1905,     9.0750,   -17.8633,       3700,  1003.5,   5.0730,  34.7709,2,  34.7698,2,   146.0,2,   27.78,2,   4.9884
 90KDAI08_1,       AR03,     855,          1,          7,      01019,2,20000713,       1905,     9.0750,   -17.8633,       3700,  1261.8,   4.6070,  34.8819,2,  34.8873,2,   184.7,2,   24.82,2,   4.5025
 90KDAI08_1,       AR03,     855,          1,          6,      01018,2,20000713,       1905,     9.0750,   -17.8633,       3700,  1503.0,   4.1450,  34.9406,2,  34.9407,2,   221.6,2,   22.87,2,   4.0229
 90KDAI08_1,       AR03,     855,          1,          5,      01017,2,20000713,       1905,     9.0750,   -17.8633,       3700,  2004.9,   3.4690,  34.9554,2,  34.9584,2,   245.1,2,   25.17,2,   3.3089
 90KDAI08_1,       AR03,     855,          1,          4,      01016,2,20000713,       1905,     9.0750,   -17.8633,       3700,  2502.2,   2.9860,  34.9415,2,  34.9401,2,   249.8,2,   30.87,2,   2.7861
 90KDAI08_1,       AR03,     855,          1,          3,      01015,2,20000713,       1905,     9.0750,   -17.8633,       3700,  3000.9,   2.6610,  34.9235,2,  34.9214,2,   252.0,2,   35.88,2,   2.4175
 90KDAI08_1,       AR03,     855,          1,          2,      01014,2,20000713,       1905,     9.0750,   -17.8633,       3700,  3491.0,   2.4900,  34.9099,2,  34.9161,2,   244.6,2,   36.74,2,   2.1988
 90KDAI08_1,       AR03,     855,          1,          1,      01013,2,20000713,       1905,     9.0750,   -17.8633,       3700,  3715.0,   2.3980,  34.9008,2,  34.8971,2,   251.6,2,   41.97,2,   2.0846
 90KDAI08_1,       AR03,     856,          1,         12,      01036,2,20000713,       2252,     8.9667,   -18.0200,       4332,    53.0,  21.7260,  35.9045,2,  35.9159,2,   191.7,2,    4.11,2,  21.7156
 90KDAI08_1,       AR03,     856,          1,         11,      01035,2,20000713,       2252,     8.9667,   -18.0200,       4332,   296.0,  11.9150,  35.2238,2,  35.2214,2,    83.9,2,   11.28,2,  11.8763
 90KDAI08_1,       AR03,     856,          1,         10,      01034,2,20000713,       2252,     8.9667,   -18.0200,       4332,   453.0,   9.4970,  35.0381,2,  35.0337,2,    54.3,2,   16.72,2,   9.4454
 90KDAI08_1,       AR03,     856,          1,          9,      01033,2,20000713,       2252,     8.9667,   -18.0200,       4332,   804.0,   5.8930,  34.6965,2,  34.6986,2,   116.9,2,   25.88,2,   5.8214
 90KDAI08_1,       AR03,     856,          1,          8,     -999.0,9,20000713,       2252,     8.9667,   -18.0200,       4332,  1001.0,   5.2380,  34.8902,2,  34.8996,2,   141.7,2,   26.94,2,   5.1522
 90KDAI08_1,       AR03,     856,          1,          7,      01031,2,20000713,       2252,     8.9667,   -18.0200,       4332,  1302.0,   4.5180,  34.9549,2,  34.9647,2,   189.0,2,   23.75,2,   4.4105
 90KDAI08_1,       AR03,     856,          1,          6,      01030,2,20000713,       2252,     8.9667,   -18.0200,       4332,  2000.0,   3.5080,  34.9492,2,  34.9478,2,   242.4,2,   23.94,2,   3.3478
 90KDAI08_1,       AR03,     856,          1,          5,      01029,2,20000713,       2252,     8.9667,   -18.0200,       4332,  2298.0,   3.2110,  34.9176,2,  34.9286,2,   249.4,2,   26.95,2,   3.0271
 90KDAI08_1,       AR03,     856,          1,          4,      01028,2,20000713,       2252,     8.9667,   -18.0200,       4332,  3194.0,   2.5870,  34.9101,2,  34.9107,2,   250.3,2,   36.51,2,   2.3251
 90KDAI08_1,       AR03,     856,          1,          3,      01027,2,20000713,       2252,     8.9667,   -18.0200,       4332,  3500.0,   2.5060,  34.8931,2,  34.8964,2,   263.7,2,   38.45,2,   2.2135
 90KDAI08_1,       AR03,     856,          1,          2,      01026,2,20000713,       2252,     8.9667,   -18.0200,       4332,  4001.0,   2.3320,  34.8771,2,  34.9007,3,   218.5,2,   42.50,2,   1.9884
 90KDAI08_1,       AR03,     856,          1,          1,      01025,2,20000713,       2252,     8.9667,   -18.0200,       4332,  4380.0,   2.2350,  34.8773,2,-999.0000,9,   228.1,2,   44.96,2,   1.8800
 90KDAI08_1,       AR03,     857,          1,         12,      82812,2,20000714,       0234,     8.8750,   -18.1483,       4146,    50.0,  22.0380,  35.8856,2,  35.8660,3,   190.4,2,    3.94,2,  22.0280
 90KDAI08_1,       AR03,     857,          1,         11,      82811,2,20000714,       0234,     8.8750,   -18.1483,       4146,   327.0,  11.7820,  35.2993,2,  35.2994,2,    63.5,2,   12.28,2,  11.7395
 90KDAI08_1,       AR03,     857,          1,         10,      82810,2,20000714,       0234,     8.8750,   -18.1483,       4146,   856.0,   5.5770,  34.6964,2,  34.6910,2,   120.0,2,   26.91,2,   5.5025
 90KDAI08_1,       AR03,     857,          1,          9,      82809,2,20000714,       0234,     8.8750,   -18.1483,       4146,  1002.0,   5.2280,  34.7345,2,  34.7317,2,   136.5,2,   27.12,2,   5.1423
 90KDAI08_1,       AR03,     857,          1,          8,      82808,2,20000714,       0234,     8.8750,   -18.1483,       4146,  1304.0,   4.5760,  34.8850,2,  34.8759,2,   187.3,2,   24.14,2,   4.4678
 90KDAI08_1,       AR03,     857,          1,          7,      82807,2,20000714,       0234,     8.8750,   -18.1483,       4146,  1711.0,   3.8430,  34.9549,2,  34.9571,2,   233.3,2,   21.79,2,   3.7051
 90KDAI08_1,       AR03,     857,          1,          6,      82806,2,20000714,       0234,     8.8750,   -18.1483,       4146,  2276.0,   3.2150,  34.9472,2,  34.9467,2,   249.0,2,   27.13,2,   3.0331
 90KDAI08_1,       AR03,     857,          1,          5,      82805,2,20000714,       0234,     8.8750,   -18.1483,       4146,  2703.0,   2.8470,  34.9331,2,  34.9317,2,   252.9,2,   32.47,2,   2.6297
 90KDAI08_1,       AR03,     857,          1,          4,      82804,2,20000714,       0234,     8.8750,   -18.1483,       4146,  3203.0,   2.6350,  34.9201,2,  34.9243,2,   250.3,2,   36.31,2,   2.3711
 90KDAI08_1,       AR03,     857,          1,          3,      82803,2,20000714,       0234,     8.8750,   -18.1483,       4146,  3580.0,   2.4500,  34.9051,2,  34.9008,2,   250.7,2,   39.51,2,   2.1500
 90KDAI08_1,       AR03,     857,          1,          2,      82802,2,20000714,       0234,     8.8750,   -18.1483,       4146,  3801.0,   2.4010,  34.9004,2,  34.9020,2,   252.0,2,   40.37,2,   2.0777
 90KDAI08_1,       AR03,     857,          1,          1,      82801,2,20000714,       0234,     8.8750,   -18.1483,       4146,  4100.0,   2.3060,  34.8884,2,  34.8842,2,   250.2,2,   42.82,2,   1.9516
 90KDAI08_1,       AR03,     858,          1,         12,      82824,2,20000714,       0716,     8.7233,   -18.3733,       4447,    54.5,  20.3080,  35.8756,2,  35.8418,3,   173.8,2,    5.38,2,  20.2978
 90KDAI08_1,       AR03,     858,          1,         11,      82823,2,20000714,       0716,     8.7233,   -18.3733,       4447,   334.6,  11.2770,  35.1481,2,  35.1406,2,    80.9,2,   12.82,2,  11.2347
 90KDAI08_1,       AR03,     858,          1,         10,      82822,2,20000714,       0716,     8.7233,   -18.3733,       4447,   527.7,   8.2440,  34.9065,2,  34.8732,3,    67.4,2,   19.88,2,   8.1886
 90KDAI08_1,       AR03,     858,          1,          9,      82821,2,20000714,       0716,     8.7233,   -18.3733,       4447,   803.2,   5.8050,  34.6839,2,  34.6744,2,   113.0,2,   26.38,2,   5.7341
 90KDAI08_1,       AR03,     858,          1,          8,      82820,2,20000714,       0716,     8.7233,   -18.3733,       4447,  1000.2,   5.2730,  34.7398,2,  34.7371,2,   136.5,2,   27.12,2,   5.1872
 90KDAI08_1,       AR03,     858,          1,          7,      82819,2,20000714,       0716,     8.7233,   -18.3733,       4447,  1498.1,   4.1590,  34.9421,2,  34.9423,2,   216.4,2,   21.68,2,   4.0372
 90KDAI08_1,       AR03,     858,          1,          6,      82818,2,20000714,       0716,     8.7233,   -18.3733,       4447,  2000.9,   3.4730,  34.9542,2,  35.0144,3,   245.5,2,   24.25,2,   3.3132
 90KDAI08_1,       AR03,     858,          1,          5,      82817,2,20000714,       0716,     8.7233,   -18.3733,       4447,  3000.6,   2.6690,  34.9215,2,  34.9189,2,   253.3,2,   35.14,2,   2.4254
 90KDAI08_1,       AR03,     858,          1,          4,      82816,2,20000714,       0716,     8.7233,   -18.3733,       4447,  3197.4,   2.5800,  34.9158,2,  34.9124,2,   255.9,2,   36.84,2,   2.3179
 90KDAI08_1,       AR03,     858,          1,          3,      82815,2,20000714,       0716,     8.7233,   -18.3733,       4447,  3750.6,   2.4140,  34.9018,2,  34.8971,2,   249.4,2,   40.90,2,   2.0962
 90KDAI08_1,       AR03,     858,          1,          2,      82814,2,20000714,       0716,     8.7233,   -18.3733,       4447,  4000.3,   2.3360,  34.8924,2,  34.8847,2,   249.8,2,   40.04,2,   1.9923
 90KDAI08_1,       AR03,     858,          1,          1,      82813,2,20000714,       0716,     8.7233,   -18.3733,       4447,  4496.0,   2.2780,  34.8812,2,  34.8807,2,   248.9,2,   45.38,2,   1.8780
 90KDAI08_1,       AR03,     859,          1,         12,      82836,2,20000714,       1221,     8.5467,   -18.7033,       4726,    52.3,  22.7200,  35.8892,2,  35.8636,3,   204.4,2,    4.38,2,  22.7094
 90KDAI08_1,       AR03,     859,          1,         11,      82835,2,20000714,       1221,     8.5467,   -18.7033,       4726,   353.8,  11.1310,  35.1713,2,  35.1637,2,    67.8,2,   13.34,2,  11.0866
 90KDAI08_1,       AR03,     859,          1,         10,      82834,2,20000714,       1221,     8.5467,   -18.7033,       4726,   803.2,   5.9280,  34.6976,2,  34.6929,2,   108.7,2,   26.15,2,   5.8563
 90KDAI08_1,       AR03,     859,          1,          9,      82833,2,20000714,       1221,     8.5467,   -18.7033,       4726,  1001.8,   5.2500,  34.7429,2,  34.7392,2,   140.4,2,   27.12,2,   5.1642
 90KDAI08_1,       AR03,     859,          1,          8,      82832,2,20000714,       1221,     8.5467,   -18.7033,       4726,  1200.2,   4.7820,  34.8551,2,  34.8528,2,   137.3,2,   25.21,2,   4.6816
 90KDAI08_1,       AR03,     859,          1,          7,      82831,2,20000714,       1221,     8.5467,   -18.7033,       4726,  1505.2,   4.1720,  34.9403,2,  34.9397,2,   218.6,2,   21.79,2,   4.0494
 90KDAI08_1,       AR03,     859,          1,          6,      82830,2,20000714,       1221,     8.5467,   -18.7033,       4726,  2000.5,   3.5210,  34.9575,2,  34.9524,2,   242.9,2,   23.71,2,   3.3605
 90KDAI08_1,       AR03,     859,          1,          5,      82829,2,20000714,       1221,     8.5467,   -18.7033,       4726,  2998.6,   2.7090,  34.9274,2,  34.9205,2,   251.1,2,   34.60,2,   2.4647
 90KDAI08_1,       AR03,     859,          1,          4,      82828,2,20000714,       1221,     8.5467,   -18.7033,       4726,  3697.8,   2.4390,  34.9029,2,  34.8973,2,   250.2,2,   40.26,2,   2.1264
 90KDAI08_1,       AR03,     859,          1,          3,      82827,2,20000714,       1221,     8.5467,   -18.7033,       4726,  3999.3,   2.3810,  34.8971,2,  34.9010,2,   252.4,2,   42.72,2,   2.0361
 90KDAI08_1,       AR03,     859,          1,          2,      82826,2,20000714,       1221,     8.5467,   -18.7033,       4726,  4503.9,   2.2730,  34.8816,2,  34.8821,2,   252.0,2,   43.25,2,   1.8722
 90KDAI08_1,       AR03,     859,          1,          1,      82825,2,20000714,       1221,     8.5467,   -18.7033,       4726,  4812.3,   2.2470,  34.8724,2,  34.8707,2,   251.6,2,   45.70,2,   1.8096
 90KDAI08_1,       AR03,     860,          1,         12,      02712,2,20000714,       1813,     8.4333,   -19.1700,       4626,    50.0,  23.1430,  36.0064,2,  35.9901,2,   186.5,2,    5.47,2,  23.1327
 90KDAI08_1,       AR03,     860,          1,         11,      02711,2,20000714,       1813,     8.4333,   -19.1700,       4626,   349.0,  10.9000,  35.1048,2,-999.0000,9,  -999.0,9,    6.39,2,  10.8569
 90KDAI08_1,       AR03,     860,          1,         10,      02710,2,20000714,       1813,     8.4333,   -19.1700,       4626,   754.1,   6.0800,  34.6998,2,  34.7016,2,   110.4,2,   26.89,2,   6.0121
 90KDAI08_1,       AR03,     860,          1,          9,      02709,2,20000714,       1813,     8.4333,   -19.1700,       4626,   998.2,   5.1810,  34.7578,2,  34.7681,2,   143.9,2,   26.91,2,   5.0961
 90KDAI08_1,       AR03,     860,          1,          8,      02708,2,20000714,       1813,     8.4333,   -19.1700,       4626,  1499.9,   4.1540,  34.9406,2,  34.9392,2,   219.9,2,   22.00,2,   4.0321
 90KDAI08_1,       AR03,     860,          1,          7,      02707,2,20000714,       1813,     8.4333,   -19.1700,       4626,  1999.5,   3.4820,  34.9549,2,  34.9555,2,   249.8,2,   23.82,2,   3.3222
 90KDAI08_1,       AR03,     860,          1,          6,      02706,2,20000714,       1813,     8.4333,   -19.1700,       4626,  2497.5,   3.0170,  34.9424,2,  34.9382,2,   251.6,2,   29.16,2,   2.8170
 90KDAI08_1,       AR03,     860,          1,          5,      02705,2,20000714,       1813,     8.4333,   -19.1700,       4626,  2998.4,   2.7190,  34.9260,2,  34.9270,2,   249.8,2,   33.96,2,   2.4745
 90KDAI08_1,       AR03,     860,          1,          4,      02704,2,20000714,       1813,     8.4333,   -19.1700,       4626,  3698.8,   2.4460,  34.9057,2,  34.9098,2,   252.4,2,   40.05,2,   2.1331
 90KDAI08_1,       AR03,     860,          1,          3,      02703,2,20000714,       1813,     8.4333,   -19.1700,       4626,  3999.3,   2.3630,  34.8956,2,  34.8905,2,   252.9,2,   42.72,2,   2.0186
 90KDAI08_1,       AR03,     860,          1,          2,      02702,2,20000714,       1813,     8.4333,   -19.1700,       4626,  4503.2,   2.2730,  34.8812,2,  34.8831,2,   246.8,2,   43.25,2,   1.8723
 90KDAI08_1,       AR03,     860,          1,          1,      02701,2,20000714,       1813,     8.4333,   -19.1700,       4626,  4706.5,   2.2370,  34.8746,2,  34.8705,2,   246.3,2,   45.92,2,   1.8129