BOTTLE,20220922CCHSIOAMB
EXPOCODE,SECT_ID,STNNBR,CASTNO,SAMPNO,BTLNBR,BTLNBR_FLAG_W,DATE,TIME,LATITUDE,LONGITUDE,DEPTH,CTDPRS,CTDTMP,CTDSAL,CTDSAL_FLAG_W,SALNTY,SALNTY_FLAG_W,OXYGEN,OXYGEN_FLAG_W,SILCAT,SILCAT_FLAG_W,THETA
,,,,,,,,,,,METERS,DBAR,ITS-90,PSS-78,,PSS-78,,UMOL/KG,,UMOL/KG,,DEG C
 90KDAI08_1,       AR03,     861,          1,         12,      02724,2,20000714,       2341,     8.3550,   -19.6800,       4377,    51.5,  18.6880,  35.8367,2,  35.8131,3,   126.7,2,    5.78,2,  18.6789
 90KDAI08_1,       AR03,     861,          1,         11,      02723,2,20000714,       2341,     8.3550,   -19.6800,       4377,   312.7,  11.7400,  35.1773,2,  35.1682,2,    94.8,2,   11.61,2,  11.6995
 90KDAI08_1,       AR03,     861,          1,         10,      02722,2,20000714,       2341,     8.3550,   -19.6800,       4377,   502.1,   9.4780,  35.0551,2,  35.0466,2,    53.5,2,   17.03,2,   9.4207
 90KDAI08_1,       AR03,     861,          1,          9,      02721,2,20000714,       2341,     8.3550,   -19.6800,       4377,   781.2,   5.8370,  34.6845,2,  34.6819,2,   116.5,2,   26.16,2,   5.7679
 90KDAI08_1,       AR03,     861,          1,          8,      02720,2,20000714,       2341,     8.3550,   -19.6800,       4377,  1101.6,   4.9710,  34.8321,2,  34.8290,2,   158.2,2,   25.31,2,   4.8781
 90KDAI08_1,       AR03,     861,          1,          7,      02719,2,20000714,       2341,     8.3550,   -19.6800,       4377,  1701.9,   3.7710,  34.9567,2,  34.9596,2,   238.1,2,   22.00,2,   3.6350
 90KDAI08_1,       AR03,     861,          1,          6,      02718,2,20000714,       2341,     8.3550,   -19.6800,       4377,  2303.0,   3.1910,  34.9484,2,  34.9539,2,   248.5,2,   26.81,2,   3.0068
 90KDAI08_1,       AR03,     861,          1,          5,      02717,2,20000714,       2341,     8.3550,   -19.6800,       4377,  3005.9,   2.6980,  34.9232,2,  34.9224,2,   250.7,2,   34.82,2,   2.4532
 90KDAI08_1,       AR03,     861,          1,          4,      02716,2,20000714,       2341,     8.3550,   -19.6800,       4377,  3201.1,   2.6160,  34.9193,2,  34.9182,2,   251.1,2,   36.32,2,   2.3527
 90KDAI08_1,       AR03,     861,          1,          3,      02715,2,20000714,       2341,     8.3550,   -19.6800,       4377,  3703.4,   2.4550,  34.9039,2,  34.9087,2,   253.3,2,   39.62,2,   2.1414
 90KDAI08_1,       AR03,     861,          1,          2,      02714,2,20000714,       2341,     8.3550,   -19.6800,       4377,  4005.0,   2.3750,  34.8962,2,  34.9022,2,   248.5,2,   39.94,2,   2.0296
 90KDAI08_1,       AR03,     861,          1,          1,      02713,2,20000714,       2341,     8.3550,   -19.6800,       4377,  4441.3,   2.2720,  34.8830,2,  34.8797,2,   246.8,2,   44.74,2,   1.8787
 90KDAI08_1,       AR03,     862,          1,         12,      02736,2,20000715,       0459,     8.2700,   -20.1817,       4257,    62.5,  19.4520,  35.8348,2,  35.8482,2,   148.5,2,    4.95,2,  19.4406
 90KDAI08_1,       AR03,     862,          1,         11,      02735,2,20000715,       0459,     8.2700,   -20.1817,       4257,   383.2,  10.8050,  35.0923,2,  35.0832,2,    86.5,2,   13.03,2,  10.7578
 90KDAI08_1,       AR03,     862,          1,         10,      02734,2,20000715,       0459,     8.2700,   -20.1817,       4257,   805.5,   5.5880,  34.6669,2,  34.6633,2,   121.7,2,   26.91,2,   5.5182
 90KDAI08_1,       AR03,     862,          1,          9,      02733,2,20000715,       0459,     8.2700,   -20.1817,       4257,  1104.9,   4.9180,  34.8301,2,  34.8278,2,   163.9,2,   25.63,2,   4.8252
 90KDAI08_1,       AR03,     862,          1,          8,      02732,2,20000715,       0459,     8.2700,   -20.1817,       4257,  1503.4,   4.1900,  34.9386,2,  34.9365,2,   217.7,2,   21.79,2,   4.0674
 90KDAI08_1,       AR03,     862,          1,          7,      02731,2,20000715,       0459,     8.2700,   -20.1817,       4257,  2011.8,   3.4980,  34.9546,2,  34.9558,2,   249.0,2,   23.60,2,   3.3368
 90KDAI08_1,       AR03,     862,          1,          6,      02730,2,20000715,       0459,     8.2700,   -20.1817,       4257,  2502.2,   3.0080,  34.9414,2,  34.9804,3,   250.3,2,   29.16,2,   2.8077
 90KDAI08_1,       AR03,     862,          1,          5,      02729,2,20000715,       0459,     8.2700,   -20.1817,       4257,  3001.4,   2.7260,  34.9292,2,  34.9276,2,   252.9,2,   33.85,2,   2.4810
 90KDAI08_1,       AR03,     862,          1,          4,      02728,2,20000715,       0459,     8.2700,   -20.1817,       4257,  3198.3,   2.6150,  34.9180,2,  34.9177,2,   252.0,2,   36.20,2,   2.3520
 90KDAI08_1,       AR03,     862,          1,          3,      02727,2,20000715,       0459,     8.2700,   -20.1817,       4257,  3701.7,   2.4470,  34.9058,2,  34.9015,2,   253.3,2,   39.83,2,   2.1338
 90KDAI08_1,       AR03,     862,          1,          2,      02726,2,20000715,       0459,     8.2700,   -20.1817,       4257,  4010.3,   2.3850,  34.8991,2,  34.8975,2,   253.3,2,   40.90,2,   2.0387
 90KDAI08_1,       AR03,     862,          1,          1,      02725,2,20000715,       0459,     8.2700,   -20.1817,       4257,  4284.3,   2.3240,  34.8892,2,  34.8867,2,   250.2,2,   39.01,2,   1.9477
 90KDAI08_1,       AR03,     863,          1,         12,      83712,2,20000715,       1027,     8.1967,   -20.6717,       4224,    51.2,  23.5840,  35.8905,2,  35.8852,2,   196.2,2,    5.37,2,  23.5733
 90KDAI08_1,       AR03,     863,          1,         11,      83711,2,20000715,       1027,     8.1967,   -20.6717,       4224,   400.8,  11.0070,  35.1874,2,  35.1767,2,    56.5,2,   13.88,2,  10.9570
 90KDAI08_1,       AR03,     863,          1,         10,      83710,2,20000715,       1027,     8.1967,   -20.6717,       4224,   706.2,   6.5900,  34.7376,2,  34.7360,2,    58.2,2,   22.86,2,   6.5239
 90KDAI08_1,       AR03,     863,          1,          9,      83709,2,20000715,       1027,     8.1967,   -20.6717,       4224,   848.3,   5.5410,  34.6781,2,  34.6740,2,   123.9,2,   21.46,2,   5.4675
 90KDAI08_1,       AR03,     863,          1,          8,      83708,2,20000715,       1027,     8.1967,   -20.6717,       4224,  1017.7,   5.0630,  34.7610,2,-999.0000,9,   146.9,2,   26.49,2,   4.9772
 90KDAI08_1,       AR03,     863,          1,          7,      83707,2,20000715,       1027,     8.1967,   -20.6717,       4224,  1488.5,   4.1620,  34.9331,2,  34.9424,2,   220.7,2,   20.61,2,   4.0411
 90KDAI08_1,       AR03,     863,          1,          6,      83706,2,20000715,       1027,     8.1967,   -20.6717,       4224,  2000.4,   3.4740,  34.9546,2,  34.9547,2,   244.6,2,   23.60,2,   3.3143
 90KDAI08_1,       AR03,     863,          1,          5,      83705,2,20000715,       1027,     8.1967,   -20.6717,       4224,  2499.3,   3.0260,  34.9452,2,  34.9429,2,   250.3,2,   28.20,2,   2.8256
 90KDAI08_1,       AR03,     863,          1,          4,      83704,2,20000715,       1027,     8.1967,   -20.6717,       4224,  3191.5,   2.5980,  34.9186,2,  34.9162,2,   252.0,2,   35.88,2,   2.3361
 90KDAI08_1,       AR03,     863,          1,          3,      83703,2,20000715,       1027,     8.1967,   -20.6717,       4224,  3699.7,   2.4440,  34.9038,2,  34.9061,2,   253.3,2,   39.09,2,   2.1311
 90KDAI08_1,       AR03,     863,          1,          2,      83702,2,20000715,       1027,     8.1967,   -20.6717,       4224,  4090.5,   2.3540,  34.8937,2,  34.8982,2,   250.7,2,   40.37,2,   1.9994
 90KDAI08_1,       AR03,     863,          1,          1,      83701,2,20000715,       1027,     8.1967,   -20.6717,       4224,  4288.7,   2.2850,  34.8864,2,  34.8815,2,   248.1,2,   44.10,2,   1.9094
 90KDAI08_1,       AR03,     864,          1,         12,      83724,2,20000715,       1545,     8.1183,   -21.1700,       2263,    49.2,  22.5940,  35.8972,2,  35.8823,2,   184.8,2,    4.99,2,  22.5841
 90KDAI08_1,       AR03,     864,          1,         11,      83723,2,20000715,       1545,     8.1183,   -21.1700,       2263,   500.2,   8.9600,  35.0125,2,  35.0004,2,    64.8,2,   18.71,2,   8.9048
 90KDAI08_1,       AR03,     864,          1,         10,      83722,2,20000715,       1545,     8.1183,   -21.1700,       2263,   801.4,   5.7920,  34.6631,2,  34.6604,2,   118.2,2,   26.91,2,   5.7213
 90KDAI08_1,       AR03,     864,          1,          9,      83721,2,20000715,       1545,     8.1183,   -21.1700,       2263,   899.6,   5.4920,  34.6952,2,  34.6991,2,   123.9,2,   27.44,2,   5.4141
 90KDAI08_1,       AR03,     864,          1,          8,      83720,2,20000715,       1545,     8.1183,   -21.1700,       2263,   999.2,   5.1650,  34.7360,2,  34.7321,2,   142.1,2,   27.55,2,   5.0801
 90KDAI08_1,       AR03,     864,          1,          7,      83719,2,20000715,       1545,     8.1183,   -21.1700,       2263,  1100.8,   4.9650,  34.8042,2,  34.8020,2,   159.1,2,   26.17,2,   4.8722
 90KDAI08_1,       AR03,     864,          1,          6,      83718,2,20000715,       1545,     8.1183,   -21.1700,       2263,  1199.3,   4.6960,  34.8630,2,  34.8659,2,   178.2,2,   24.89,2,   4.5964
 90KDAI08_1,       AR03,     864,          1,          5,      83717,2,20000715,       1545,     8.1183,   -21.1700,       2263,  1499.6,   4.1210,  34.9461,2,  34.9473,2,   226.4,2,   21.68,2,   3.9995
 90KDAI08_1,       AR03,     864,          1,          4,      83716,2,20000715,       1545,     8.1183,   -21.1700,       2263,  1695.7,   3.7140,  34.9560,2,  34.9665,2,   242.9,2,   22.32,2,   3.5793
 90KDAI08_1,       AR03,     864,          1,          3,      83715,2,20000715,       1545,     8.1183,   -21.1700,       2263,  2001.9,   3.4410,  34.9542,2,  34.9544,2,   248.1,2,   24.25,2,   3.2816
 90KDAI08_1,       AR03,     864,          1,          2,      83714,2,20000715,       1545,     8.1183,   -21.1700,       2263,  2198.7,   3.3340,  34.9524,2,  34.9521,2,   244.2,2,   25.42,2,   3.1575
 90KDAI08_1,       AR03,     864,          1,          1,      83713,2,20000715,       1545,     8.1183,   -21.1700,       2263,  2317.9,   3.2070,  34.9483,2,  34.9537,2,   253.7,2,   26.70,2,   3.0211
 90KDAI08_1,       AR03,     865,          1,         12,      80112,2,20000715,       2059,     8.0583,   -21.6617,       4209,    55.6,  19.5300,  35.8185,2,  35.8032,2,   143.3,2,    5.32,2,  19.5199
 90KDAI08_1,       AR03,     865,          1,         11,      80100,2,20000715,       2059,     8.0583,   -21.6617,       4209,   442.7,  10.1350,  35.0560,2,-999.0000,9,    71.8,2,   14.71,2,  10.0825
 90KDAI08_1,       AR03,     865,          1,         10,      80111,2,20000715,       2059,     8.0583,   -21.6617,       4209,   812.8,   5.5530,  34.6583,2,  34.6556,2,   127.8,2,   27.01,2,   5.4827
 90KDAI08_1,       AR03,     865,          1,          9,      80110,2,20000715,       2059,     8.0583,   -21.6617,       4209,   998.0,   5.1270,  34.7506,2,  34.7588,2,   143.9,2,   26.70,2,   5.0425
 90KDAI08_1,       AR03,     865,          1,          8,     -999.0,9,20000715,       2059,     8.0583,   -21.6617,       4209,  1196.5,   4.6820,  34.8638,2,-999.0000,9,   181.6,2,   24.57,2,   4.5828
 90KDAI08_1,       AR03,     865,          1,          7,      80109,2,20000715,       2059,     8.0583,   -21.6617,       4209,  1501.5,   4.1310,  34.9499,2,-999.0000,9,   226.8,2,   20.94,2,   4.0092
 90KDAI08_1,       AR03,     865,          1,          6,      80108,2,20000715,       2059,     8.0583,   -21.6617,       4209,  2002.1,   3.4980,  34.9545,2,  34.9584,2,   242.4,2,   23.82,2,   3.3377
 90KDAI08_1,       AR03,     865,          1,          5,     -999.0,9,20000715,       2059,     8.0583,   -21.6617,       4209,  2503.4,   3.0110,  34.9401,2,-999.0000,9,   252.0,2,   27.34,2,   2.8105
 90KDAI08_1,       AR03,     865,          1,          4,      80107,2,20000715,       2059,     8.0583,   -21.6617,       4209,  3008.1,   2.6940,  34.9229,2,  34.9205,2,   255.9,2,   34.60,2,   2.4490
 90KDAI08_1,       AR03,     865,          1,          3,     -999.0,9,20000715,       2059,     8.0583,   -21.6617,       4209,  3700.4,   2.4640,  34.9040,2,  34.9051,2,   255.9,2,   39.30,2,   2.1505
 90KDAI08_1,       AR03,     865,          1,          2,      80106,2,20000715,       2059,     8.0583,   -21.6617,       4209,  4003.5,   2.3750,  34.8968,2,-999.0000,9,   250.2,2,   40.26,2,   2.0298
 90KDAI08_1,       AR03,     865,          1,          1,      80105,2,20000715,       2059,     8.0583,   -21.6617,       4209,  4275.7,   2.3370,  34.8910,2,  34.8954,2,   253.7,2,   42.40,2,   1.9614
 90KDAI08_1,       AR03,     866,          1,         12,      80120,2,20000716,       0241,     7.9733,   -22.1500,       4440,    54.8,  18.1610,  35.7627,2,  35.7643,2,   118.4,2,    6.56,2,  18.1515
 90KDAI08_1,       AR03,     866,          1,         11,     -999.0,9,20000716,       0241,     7.9733,   -22.1500,       4440,   426.6,  10.0440,  35.0503,2,-999.0000,9,    66.5,2,   15.50,2,   9.9937
 90KDAI08_1,       AR03,     866,          1,         10,      80119,2,20000716,       0241,     7.9733,   -22.1500,       4440,   812.8,   5.6320,  34.6886,2,  34.6904,2,   121.7,2,   27.12,2,   5.5612
 90KDAI08_1,       AR03,     866,          1,          9,      80118,2,20000716,       0241,     7.9733,   -22.1500,       4440,  1007.7,   5.0570,  34.7389,2,  34.7366,2,   144.7,2,   27.12,2,   4.9722
 90KDAI08_1,       AR03,     866,          1,          8,     -999.0,9,20000716,       0241,     7.9733,   -22.1500,       4440,  1207.0,   4.6440,  34.8716,2,-999.0000,9,   193.4,2,   24.67,2,   4.5442
 90KDAI08_1,       AR03,     866,          1,          7,      80117,2,20000716,       0241,     7.9733,   -22.1500,       4440,  1503.7,   4.1930,  34.9435,2,  34.9430,2,   222.5,2,   21.58,2,   4.0703
 90KDAI08_1,       AR03,     866,          1,          6,      80116,2,20000716,       0241,     7.9733,   -22.1500,       4440,  2005.0,   3.4220,  34.9574,2,  34.9517,2,   243.8,2,   24.35,2,   3.2626
 90KDAI08_1,       AR03,     866,          1,          5,     -999.0,9,20000716,       0241,     7.9733,   -22.1500,       4440,  2504.2,   3.0360,  34.9420,2,-999.0000,9,   252.4,2,   29.58,2,   2.8349
 90KDAI08_1,       AR03,     866,          1,          4,      80115,2,20000716,       0241,     7.9733,   -22.1500,       4440,  3004.2,   2.7220,  34.9262,2,  34.9216,2,   255.9,2,   34.28,2,   2.4768
 90KDAI08_1,       AR03,     866,          1,          3,     -999.0,9,20000716,       0241,     7.9733,   -22.1500,       4440,  3699.3,   2.4390,  34.9033,2,-999.0000,9,   255.5,2,   40.37,2,   2.1263
 90KDAI08_1,       AR03,     866,          1,          2,      80114,2,20000716,       0241,     7.9733,   -22.1500,       4440,  4003.0,   2.3750,  34.8970,2,  34.9070,2,   247.6,2,   38.44,2,   2.0298
 90KDAI08_1,       AR03,     866,          1,          1,      80113,2,20000716,       0241,     7.9733,   -22.1500,       4440,  4516.5,   2.3190,  34.8851,2,  34.8857,2,   253.3,2,   44.21,2,   1.9153
 90KDAI08_1,       AR03,     867,          1,         12,      80128,2,20000716,       0837,     7.8733,   -22.6667,       4469,    51.1,  20.7940,  35.9215,2,  35.9066,3,   170.8,2,    6.63,2,  20.7843
 90KDAI08_1,       AR03,     867,          1,         11,     -999.0,9,20000716,       0837,     7.8733,   -22.6667,       4469,   402.8,  10.1580,  35.0375,2,-999.0000,9,    76.5,2,   15.46,2,  10.1103
 90KDAI08_1,       AR03,     867,          1,         10,      80127,2,20000716,       0837,     7.8733,   -22.6667,       4469,   852.7,   5.6640,  34.7042,2,  34.7026,2,   120.4,2,   27.23,2,   5.5893
 90KDAI08_1,       AR03,     867,          1,          9,      80126,2,20000716,       0837,     7.8733,   -22.6667,       4469,  1100.9,   4.9310,  34.8060,2,  34.8165,2,   159.5,2,   26.38,2,   4.8385
 90KDAI08_1,       AR03,     867,          1,          8,     -999.0,9,20000716,       0837,     7.8733,   -22.6667,       4469,  1502.4,   4.1780,  34.9517,2,-999.0000,9,   229.0,2,   21.36,2,   4.0556
 90KDAI08_1,       AR03,     867,          1,          7,      80125,2,20000716,       0837,     7.8733,   -22.6667,       4469,  2005.4,   3.4750,  34.9570,2,  34.9575,2,   250.7,2,   23.50,2,   3.3148
 90KDAI08_1,       AR03,     867,          1,          6,      80124,2,20000716,       0837,     7.8733,   -22.6667,       4469,  2498.3,   3.0120,  34.9402,2,  34.9585,2,   249.4,2,   21.90,2,   2.8120
 90KDAI08_1,       AR03,     867,          1,          5,     -999.0,9,20000716,       0837,     7.8733,   -22.6667,       4469,  3000.1,   2.7110,  34.9241,2,-999.0000,9,   258.1,2,   33.85,2,   2.4665
 90KDAI08_1,       AR03,     867,          1,          4,      80123,2,20000716,       0837,     7.8733,   -22.6667,       4469,  3199.0,   2.6380,  34.9174,2,  34.9363,3,   256.8,2,   35.78,2,   2.3744
 90KDAI08_1,       AR03,     867,          1,          3,     -999.0,9,20000716,       0837,     7.8733,   -22.6667,       4469,  3698.6,   2.4400,  34.9025,2,-999.0000,9,   259.8,2,   38.76,2,   2.1273
 90KDAI08_1,       AR03,     867,          1,          2,      80122,2,20000716,       0837,     7.8733,   -22.6667,       4469,  3998.6,   2.3660,  34.8951,2,  34.8957,2,   252.4,2,   39.94,2,   2.0216
 90KDAI08_1,       AR03,     867,          1,          1,      80121,2,20000716,       0837,     7.8733,   -22.6667,       4469,  4540.4,   2.3140,  34.8845,2,  34.9133,3,   253.3,2,   37.59,2,   1.9076
 90KDAI08_1,       AR03,     868,          1,         12,      80136,2,20000716,       1505,     7.7783,   -23.3383,       4602,    48.8,  17.2300,  35.7428,2,  35.7439,2,   106.6,2,    6.83,2,  17.2219
 90KDAI08_1,       AR03,     868,          1,         11,     -999.0,9,20000716,       1505,     7.7783,   -23.3383,       4602,   348.2,  10.3340,  35.0094,2,-999.0000,9,   108.7,2,    9.58,2,  10.2924
 90KDAI08_1,       AR03,     868,          1,         10,      80135,2,20000716,       1505,     7.7783,   -23.3383,       4602,   801.2,   5.6080,  34.6520,2,  34.6538,2,   123.9,2,   27.23,2,   5.5385
 90KDAI08_1,       AR03,     868,          1,          9,      80134,2,20000716,       1505,     7.7783,   -23.3383,       4602,  1001.6,   5.0990,  34.7238,2,  34.7226,2,   143.4,2,   27.76,2,   5.0144
 90KDAI08_1,       AR03,     868,          1,          8,     -999.0,9,20000716,       1505,     7.7783,   -23.3383,       4602,  1498.2,   4.2090,  34.9586,2,-999.0000,9,   230.3,2,   20.94,2,   4.0866
 90KDAI08_1,       AR03,     868,          1,          7,      80133,2,20000716,       1505,     7.7783,   -23.3383,       4602,  2003.1,   3.4670,  34.9583,2,  34.9740,3,   250.7,2,   23.39,2,   3.3071
 90KDAI08_1,       AR03,     868,          1,          6,      80132,2,20000716,       1505,     7.7783,   -23.3383,       4602,  2400.8,   3.1120,  34.9491,2,  34.9599,2,   253.3,2,   26.92,2,   2.9197
 90KDAI08_1,       AR03,     868,          1,          5,     -999.0,9,20000716,       1505,     7.7783,   -23.3383,       4602,  3000.8,   2.7170,  34.9234,2,-999.0000,9,   253.7,2,   34.39,2,   2.4723
 90KDAI08_1,       AR03,     868,          1,          4,      80131,2,20000716,       1505,     7.7783,   -23.3383,       4602,  3697.1,   2.4390,  34.9018,2,  34.9010,2,   258.5,2,   39.41,2,   2.1265
 90KDAI08_1,       AR03,     868,          1,          3,     -999.0,9,20000716,       1505,     7.7783,   -23.3383,       4602,  3999.5,   2.3580,  34.8948,2,-999.0000,9,   257.2,2,   41.33,2,   2.0137
 90KDAI08_1,       AR03,     868,          1,          2,      80130,2,20000716,       1505,     7.7783,   -23.3383,       4602,  4400.4,   2.3500,  34.8906,2,  34.8986,2,   252.9,2,   41.75,2,   1.9592
 90KDAI08_1,       AR03,     868,          1,          1,      80129,2,20000716,       1505,     7.7783,   -23.3383,       4602,  4679.8,   2.3320,  34.8848,2,  34.9004,3,   253.7,2,   43.67,2,   1.9080