BOTTLE,20220922CCHSIOAMB
EXPOCODE,SECT_ID,STNNBR,CASTNO,SAMPNO,BTLNBR,BTLNBR_FLAG_W,DATE,TIME,LATITUDE,LONGITUDE,DEPTH,CTDPRS,CTDTMP,CTDSAL,CTDSAL_FLAG_W,SALNTY,SALNTY_FLAG_W,OXYGEN,OXYGEN_FLAG_W,SILCAT,SILCAT_FLAG_W,THETA
,,,,,,,,,,,METERS,DBAR,ITS-90,PSS-78,,PSS-78,,UMOL/KG,,UMOL/KG,,DEG C
 90KDAI08_1,       AR03,     901,          1,         12,      21524,2,20000725,       0912,     4.6683,   -42.0433,       4145,    53.6,  26.7160,  36.2028,2,  36.1875,3,   206.8,2,    4.93,2,  26.7038
 90KDAI08_1,       AR03,     901,          1,         11,     -999.0,9,20000725,       0912,     4.6683,   -42.0433,       4145,   307.3,   8.8970,  34.8264,2,-999.0000,9,   139.6,2,   16.16,2,   8.8637
 90KDAI08_1,       AR03,     901,          1,         10,      21523,2,20000725,       0912,     4.6683,   -42.0433,       4145,   515.0,   6.9220,  34.6416,2,  34.6407,2,   147.8,2,   21.49,2,   6.8732
 90KDAI08_1,       AR03,     901,          1,          9,      21522,2,20000725,       0912,     4.6683,   -42.0433,       4145,   807.6,   5.1520,  34.5583,2,  34.5564,2,   163.4,2,   27.79,2,   5.0848
 90KDAI08_1,       AR03,     901,          1,          8,     -999.0,9,20000725,       0912,     4.6683,   -42.0433,       4145,  1003.2,   4.7480,  34.6615,2,-999.0000,9,   187.3,2,   28.84,2,   4.6661
 90KDAI08_1,       AR03,     901,          1,          7,      21521,2,20000725,       0912,     4.6683,   -42.0433,       4145,  1203.0,   4.7420,  34.8537,2,  34.8518,2,   227.7,2,   24.17,2,   4.6417
 90KDAI08_1,       AR03,     901,          1,          6,      21520,2,20000725,       0912,     4.6683,   -42.0433,       4145,  1506.2,   4.4710,  34.9837,2,  34.9765,2,   237.7,2,   18.08,2,   4.3449
 90KDAI08_1,       AR03,     901,          1,          5,     -999.0,9,20000725,       0912,     4.6683,   -42.0433,       4145,  2003.8,   3.6240,  34.9811,2,-999.0000,9,  -999.0,9,   17.44,2,   3.4616
 90KDAI08_1,       AR03,     901,          1,          4,     -999.0,9,20000725,       0912,     4.6683,   -42.0433,       4145,  2491.7,   3.1230,  34.9554,2,-999.0000,9,   265.0,2,   23.56,2,   2.9215
 90KDAI08_1,       AR03,     901,          1,          3,      21519,2,20000725,       0912,     4.6683,   -42.0433,       4145,  3004.0,   2.7690,  34.9334,2,  34.9315,2,   269.8,2,   28.28,2,   2.5228
 90KDAI08_1,       AR03,     901,          1,          2,      21518,2,20000725,       0912,     4.6683,   -42.0433,       4145,  3503.1,   2.5200,  34.9179,2,  34.9234,2,   266.3,2,   29.52,2,   2.2267
 90KDAI08_1,       AR03,     901,          1,          1,      21517,2,20000725,       0912,     4.6683,   -42.0433,       4145,  4182.0,   2.2370,  34.8926,2,  34.8936,2,   261.5,2,   34.14,2,   1.8752
 90KDAI08_1,       AR03,     902,          1,         12,      21532,2,20000725,       1513,     4.5617,   -42.5550,       4425,    51.0,  26.0550,  36.2464,2,  36.2329,2,   197.6,2,    3.80,2,  26.0436
 90KDAI08_1,       AR03,     902,          1,         11,     -999.0,9,20000725,       1513,     4.5617,   -42.5550,       4425,   408.1,   7.2680,  34.6445,2,-999.0000,9,   147.4,2,   19.22,2,   7.2286
 90KDAI08_1,       AR03,     902,          1,         10,      21531,2,20000725,       1513,     4.5617,   -42.5550,       4425,   785.3,   5.4330,  34.5600,2,  34.5596,2,   144.3,2,   27.01,2,   5.3661
 90KDAI08_1,       AR03,     902,          1,          9,      21530,2,20000725,       1513,     4.5617,   -42.5550,       4425,  1001.3,   4.7820,  34.6620,2,  34.6626,2,   160.4,2,   28.93,2,   4.7000
 90KDAI08_1,       AR03,     902,          1,          8,     -999.0,9,20000725,       1513,     4.5617,   -42.5550,       4425,  1497.8,   4.4450,  34.9859,2,-999.0000,9,   239.4,2,   17.31,2,   4.3199
 90KDAI08_1,       AR03,     902,          1,          7,      21529,2,20000725,       1513,     4.5617,   -42.5550,       4425,  1989.3,   3.6760,  34.9828,2,  34.9833,2,   263.7,2,   17.30,2,   3.5142
 90KDAI08_1,       AR03,     902,          1,          6,      21528,2,20000725,       1513,     4.5617,   -42.5550,       4425,  2503.2,   3.1190,  34.9567,2,  34.9534,2,   260.2,2,   17.30,2,   2.9165
 90KDAI08_1,       AR03,     902,          1,          5,     -999.0,9,20000725,       1513,     4.5617,   -42.5550,       4425,  3003.0,   2.7880,  34.9354,2,-999.0000,9,   264.6,2,   27.23,2,   2.5415
 90KDAI08_1,       AR03,     902,          1,          4,     -999.0,9,20000725,       1513,     4.5617,   -42.5550,       4425,  3705.6,   2.3980,  34.9092,2,-999.0000,9,   271.5,2,   30.86,2,   2.0856
 90KDAI08_1,       AR03,     902,          1,          3,      21527,2,20000725,       1513,     4.5617,   -42.5550,       4425,  4006.3,   2.2600,  34.8966,2,  34.8983,2,   273.3,2,   32.89,2,   1.9177
 90KDAI08_1,       AR03,     902,          1,          2,      21526,2,20000725,       1513,     4.5617,   -42.5550,       4425,  4302.8,   2.2090,  34.8883,2,-999.0000,9,   264.2,2,   34.06,2,   1.8340
 90KDAI08_1,       AR03,     902,          1,          1,      21525,2,20000725,       1513,     4.5617,   -42.5550,       4425,  4500.3,   1.6740,  34.8210,2,-999.0000,9,   252.9,2,   35.23,2,   1.2926
 90KDAI08_1,       AR03,     903,          1,         12,      21540,2,20000725,       2102,     4.4717,   -43.0550,       3697,    50.8,  27.1990,  35.9861,2,  35.9740,2,   209.5,2,    3.87,2,  27.1873
 90KDAI08_1,       AR03,     903,          1,         11,     -999.0,9,20000725,       2102,     4.4717,   -43.0550,       3697,   404.6,   7.1310,  34.6368,2,-999.0000,9,   143.5,2,   19.86,2,   7.0924
 90KDAI08_1,       AR03,     903,          1,         10,      21539,2,20000725,       2102,     4.4717,   -43.0550,       3697,   811.2,   5.3710,  34.5458,2,  34.5517,2,   152.1,2,   27.01,2,   5.3022
 90KDAI08_1,       AR03,     903,          1,          9,      21538,2,20000725,       2102,     4.4717,   -43.0550,       3697,   903.0,   5.0280,  34.5721,2,  34.5726,2,   151.3,2,   29.04,2,   4.9531
 90KDAI08_1,       AR03,     903,          1,          8,     -999.0,9,20000725,       2102,     4.4717,   -43.0550,       3697,  1005.7,   4.7570,  34.6302,2,-999.0000,9,   159.5,2,   29.04,2,   4.6748
 90KDAI08_1,       AR03,     903,          1,          7,      21537,2,20000725,       2102,     4.4717,   -43.0550,       3697,  1181.9,   4.7140,  34.8272,2,  34.8236,2,   184.3,2,   24.99,2,   4.6159
 90KDAI08_1,       AR03,     903,          1,          6,      21536,2,20000725,       2102,     4.4717,   -43.0550,       3697,  1499.9,   4.3810,  34.9797,2,  34.9743,2,   236.4,2,   17.84,2,   4.2565
 90KDAI08_1,       AR03,     903,          1,          5,     -999.0,9,20000725,       2102,     4.4717,   -43.0550,       3697,  2009.8,   3.5620,  34.9785,2,-999.0000,9,   264.6,2,   18.16,2,   3.4000
 90KDAI08_1,       AR03,     903,          1,          4,     -999.0,9,20000725,       2102,     4.4717,   -43.0550,       3697,  2502.1,   3.0330,  34.9514,2,-999.0000,9,   267.2,2,   24.25,2,   2.8322
 90KDAI08_1,       AR03,     903,          1,          3,      21535,2,20000725,       2102,     4.4717,   -43.0550,       3697,  3005.8,   2.7690,  34.9338,2,  34.8971,3,  -999.0,9,   22.11,2,   2.5226
 90KDAI08_1,       AR03,     903,          1,          2,      21534,2,20000725,       2102,     4.4717,   -43.0550,       3697,  3497.2,   2.4910,  34.9162,2,  34.9153,2,   266.3,2,   29.16,2,   2.1990
 90KDAI08_1,       AR03,     903,          1,          1,      21533,2,20000725,       2102,     4.4717,   -43.0550,       3697,  3731.1,   2.3450,  34.9061,2,  34.9079,2,   273.7,2,   29.05,2,   2.0312
 90KDAI08_1,       AR03,     904,          1,         12,      83508,2,20000726,       0248,     4.3683,   -43.5500,       3181,    51.6,  25.6220,  36.2712,2,-999.0000,9,   185.8,2,    4.80,2,  25.6106
 90KDAI08_1,       AR03,     904,          1,         11,     -999.0,9,20000726,       0248,     4.3683,   -43.5500,       3181,   311.8,   7.1610,  34.6222,2,-999.0000,9,   155.2,2,   19.65,2,   7.1313
 90KDAI08_1,       AR03,     904,          1,         10,      83507,2,20000726,       0248,     4.3683,   -43.5500,       3181,   524.3,   6.3850,  34.5626,2,  34.5608,2,   155.2,2,   22.32,2,   6.3375
 90KDAI08_1,       AR03,     904,          1,          9,      83506,2,20000726,       0248,     4.3683,   -43.5500,       3181,   814.8,   5.2060,  34.5532,2,  34.5524,2,   146.5,2,   28.40,2,   5.1379
 90KDAI08_1,       AR03,     904,          1,          8,     -999.0,9,20000726,       0248,     4.3683,   -43.5500,       3181,   973.1,   4.8960,  34.6366,2,-999.0000,9,   154.7,2,   29.36,2,   4.8157
 90KDAI08_1,       AR03,     904,          1,          7,      83505,2,20000726,       0248,     4.3683,   -43.5500,       3181,  1191.3,   4.7500,  34.8096,2,  34.8085,2,   179.9,2,   25.63,2,   4.6508
 90KDAI08_1,       AR03,     904,          1,          6,      83504,2,20000726,       0248,     4.3683,   -43.5500,       3181,  1494.1,   4.5800,  34.9837,2,  34.9624,3,   228.1,2,   18.59,2,   4.4538
 90KDAI08_1,       AR03,     904,          1,          5,     -999.0,9,20000726,       0248,     4.3683,   -43.5500,       3181,  1775.1,   3.9000,  34.9874,2,-999.0000,9,   259.0,2,   16.88,2,   3.7554
 90KDAI08_1,       AR03,     904,          1,          4,     -999.0,9,20000726,       0248,     4.3683,   -43.5500,       3181,  1990.0,   3.5760,  34.9767,2,-999.0000,9,   265.0,2,   19.12,2,   3.4157
 90KDAI08_1,       AR03,     904,          1,          3,      83503,2,20000726,       0248,     4.3683,   -43.5500,       3181,  2484.8,   3.0320,  34.9509,2,  34.9541,2,   267.6,2,   24.25,2,   2.8329
 90KDAI08_1,       AR03,     904,          1,          2,      83502,2,20000726,       0248,     4.3683,   -43.5500,       3181,  2763.3,   2.8500,  34.9387,2,  34.9409,2,   262.9,2,   26.06,2,   2.6267
 90KDAI08_1,       AR03,     904,          1,          1,      83501,2,20000726,       0248,     4.3683,   -43.5500,       3181,  3176.8,   2.6030,  34.9239,2,  34.9228,2,   270.2,2,   28.73,2,   2.3425
 90KDAI08_1,       AR03,     905,          1,         12,      83516,2,20000726,       0924,     4.2900,   -44.0317,       3475,    51.5,  26.1950,  36.1285,2,  36.1171,2,   204.6,2,    4.66,2,  26.1834
 90KDAI08_1,       AR03,     905,          1,         11,     -999.0,9,20000726,       0924,     4.2900,   -44.0317,       3475,   318.8,   7.3360,  34.6327,2,-999.0000,9,   159.1,2,   18.67,2,   7.3052
 90KDAI08_1,       AR03,     905,          1,         10,      83515,2,20000726,       0924,     4.2900,   -44.0317,       3475,   447.6,   6.9490,  34.6141,2,  34.6115,2,   150.9,2,   20.51,2,   6.9067
 90KDAI08_1,       AR03,     905,          1,          9,      83514,2,20000726,       0924,     4.2900,   -44.0317,       3475,   801.0,   5.2730,  34.5508,2,  34.5494,2,   150.0,2,   27.06,2,   5.2057
 90KDAI08_1,       AR03,     905,          1,          8,     -999.0,9,20000726,       0924,     4.2900,   -44.0317,       3475,  1000.2,   4.7830,  34.6419,2,-999.0000,9,   159.1,2,   28.44,2,   4.7011
 90KDAI08_1,       AR03,     905,          1,          7,      83513,2,20000726,       0924,     4.2900,   -44.0317,       3475,  1195.8,   4.7430,  34.8296,2,  34.8255,2,   184.7,2,   24.87,2,   4.6434
 90KDAI08_1,       AR03,     905,          1,          6,      83512,2,20000726,       0924,     4.2900,   -44.0317,       3475,  1497.7,   4.4130,  34.9845,2,  34.9852,2,   237.2,2,   17.63,2,   4.2883
 90KDAI08_1,       AR03,     905,          1,          5,     -999.0,9,20000726,       0924,     4.2900,   -44.0317,       3475,  2004.9,   3.5890,  34.9772,2,-999.0000,9,   262.4,2,   18.49,2,   3.4270
 90KDAI08_1,       AR03,     905,          1,          4,     -999.0,9,20000726,       0924,     4.2900,   -44.0317,       3475,  2506.2,   3.0570,  34.9528,2,-999.0000,9,   268.1,2,   23.75,2,   2.8553
 90KDAI08_1,       AR03,     905,          1,          3,      83511,2,20000726,       0924,     4.2900,   -44.0317,       3475,  2992.8,   2.7170,  34.9323,2,  34.9504,3,   269.4,2,   27.61,2,   2.4731
 90KDAI08_1,       AR03,     905,          1,          2,      83510,2,20000726,       0924,     4.2900,   -44.0317,       3475,  3493.7,   2.4980,  34.9163,2,  34.9171,2,   263.3,2,   28.45,2,   2.2062
 90KDAI08_1,       AR03,     905,          1,          1,      83509,2,20000726,       0924,     4.2900,   -44.0317,       3475,  3772.3,   2.3150,  34.9034,2,  34.9033,2,   272.0,2,   30.97,2,   1.9974
 90KDAI08_1,       AR03,     906,          1,         12,      83524,2,20000726,       1539,     4.2250,   -44.5300,       4097,    53.9,  26.5400,  36.1808,2,  36.1570,3,   193.2,2,    5.95,2,  26.5277
 90KDAI08_1,       AR03,     906,          1,         11,     -999.0,9,20000726,       1539,     4.2250,   -44.5300,       4097,   507.7,   6.9750,  34.6096,2,-999.0000,9,   156.1,2,   20.55,2,   6.9268
 90KDAI08_1,       AR03,     906,          1,         10,      83523,2,20000726,       1539,     4.2250,   -44.5300,       4097,   895.4,   5.0190,  34.5690,2,  34.5682,2,   150.8,2,   29.37,2,   4.9448
 90KDAI08_1,       AR03,     906,          1,          9,      83522,2,20000726,       1539,     4.2250,   -44.5300,       4097,  1201.9,   4.7460,  34.8247,2,  34.8210,2,   183.4,2,   25.71,2,   4.6458
 90KDAI08_1,       AR03,     906,          1,          8,     -999.0,9,20000726,       1539,     4.2250,   -44.5300,       4097,  1502.5,   4.4650,  34.9871,2,-999.0000,9,   241.6,2,   18.00,2,   4.3393
 90KDAI08_1,       AR03,     906,          1,          7,      83521,2,20000726,       1539,     4.2250,   -44.5300,       4097,  2092.2,   3.5270,  34.9779,2,-999.0000,9,   266.8,2,   16.27,2,   3.3474
 90KDAI08_1,       AR03,     906,          1,          6,      83520,2,20000726,       1539,     4.2250,   -44.5300,       4097,  2502.7,   3.0280,  34.9528,2,  34.9515,2,   263.7,2,   24.31,2,   2.8272
 90KDAI08_1,       AR03,     906,          1,          5,     -999.0,9,20000726,       1539,     4.2250,   -44.5300,       4097,  2903.1,   2.7760,  34.9367,2,-999.0000,9,   271.1,2,   27.19,2,   2.5400
 90KDAI08_1,       AR03,     906,          1,          4,     -999.0,9,20000726,       1539,     4.2250,   -44.5300,       4097,  3203.7,   2.6330,  34.9259,2,-999.0000,9,   270.7,2,   29.38,2,   2.3690
 90KDAI08_1,       AR03,     906,          1,          3,      83519,2,20000726,       1539,     4.2250,   -44.5300,       4097,  3682.0,   2.4660,  34.9136,2,  34.9139,2,   274.1,2,   29.95,2,   2.1544
 90KDAI08_1,       AR03,     906,          1,          2,      83518,2,20000726,       1539,     4.2250,   -44.5300,       4097,  4008.6,   2.2230,  34.8937,2,  34.8948,2,   265.5,2,   33.06,2,   1.8815
 90KDAI08_1,       AR03,     906,          1,          1,      83517,2,20000726,       1539,     4.2250,   -44.5300,       4097,  4156.6,   2.1740,  34.8864,2,-999.0000,9,   269.8,2,   36.69,2,   1.8170
 90KDAI08_1,       AR03,     907,          1,         12,      83532,2,20000726,       2034,     4.1683,   -44.8483,       4015,    39.3,  27.5310,  36.1195,2,  36.0961,3,   209.5,2,    3.77,2,  27.5218
 90KDAI08_1,       AR03,     907,          1,         11,     -999.0,9,20000726,       2034,     4.1683,   -44.8483,       4015,   355.2,   8.0790,  34.7329,2,-999.0000,9,   142.2,2,   17.27,2,   8.0426
 90KDAI08_1,       AR03,     907,          1,         10,      83531,2,20000726,       2034,     4.1683,   -44.8483,       4015,   516.7,   6.7090,  34.5881,2,  34.5846,2,   155.2,2,   20.98,2,   6.6609
 90KDAI08_1,       AR03,     907,          1,          9,      83530,2,20000726,       2034,     4.1683,   -44.8483,       4015,   805.0,   5.3720,  34.5911,2,  34.5897,2,   139.5,2,   28.01,2,   5.3037
 90KDAI08_1,       AR03,     907,          1,          8,     -999.0,9,20000726,       2034,     4.1683,   -44.8483,       4015,  1002.0,   4.7380,  34.6517,2,-999.0000,9,   163.4,2,   29.28,2,   4.6563
 90KDAI08_1,       AR03,     907,          1,          7,      83529,2,20000726,       2034,     4.1683,   -44.8483,       4015,  1496.9,   4.4010,  34.9939,2,  35.0065,2,   244.2,2,   17.03,2,   4.2765
 90KDAI08_1,       AR03,     907,          1,          6,      83528,2,20000726,       2034,     4.1683,   -44.8483,       4015,  2006.5,   3.5290,  34.9781,2,  34.9674,2,   259.0,2,   18.43,2,   3.3678
 90KDAI08_1,       AR03,     907,          1,          5,     -999.0,9,20000726,       2034,     4.1683,   -44.8483,       4015,  2502.9,   3.0610,  34.9572,2,-999.0000,9,   270.7,2,   21.87,2,   2.8596
 90KDAI08_1,       AR03,     907,          1,          4,     -999.0,9,20000726,       2034,     4.1683,   -44.8483,       4015,  3001.9,   2.7010,  34.9307,2,-999.0000,9,   270.7,2,   27.82,2,   2.4565
 90KDAI08_1,       AR03,     907,          1,          3,      83527,2,20000726,       2034,     4.1683,   -44.8483,       4015,  3701.4,   2.4700,  34.9143,2,  34.9126,2,   273.3,2,   29.55,2,   2.1562
 90KDAI08_1,       AR03,     907,          1,          2,      83526,2,20000726,       2034,     4.1683,   -44.8483,       4015,  3904.0,   2.3160,  34.9033,2,  34.9039,2,   272.0,2,   30.08,2,   1.9837
 90KDAI08_1,       AR03,     907,          1,          1,      83525,2,20000726,       2034,     4.1683,   -44.8483,       4015,  4053.6,   2.2010,  34.8922,2,  34.8910,2,   271.5,2,   34.76,2,   1.8550
 90KDAI08_1,       AR03,     908,          1,         12,      83540,2,20000727,       0150,     4.1083,   -45.1717,       3924,    50.7,  27.2730,  36.1147,2,  36.0982,3,   203.3,2,    3.50,2,  27.2612
 90KDAI08_1,       AR03,     908,          1,         11,     -999.0,9,20000727,       0150,     4.1083,   -45.1717,       3924,   333.9,   9.3260,  34.8835,2,-999.0000,9,   136.1,2,   14.92,2,   9.2887
 90KDAI08_1,       AR03,     908,          1,         10,      83539,2,20000727,       0150,     4.1083,   -45.1717,       3924,   512.8,   6.8480,  34.6334,2,  34.6287,2,   139.1,2,   21.68,2,   6.7997
 90KDAI08_1,       AR03,     908,          1,          9,      83538,2,20000727,       0150,     4.1083,   -45.1717,       3924,   760.8,   5.4960,  34.5577,2,  34.5555,2,   143.9,2,   27.40,2,   5.4310
 90KDAI08_1,       AR03,     908,          1,          8,     -999.0,9,20000727,       0150,     4.1083,   -45.1717,       3924,   992.2,   4.8250,  34.6717,2,-999.0000,9,   116.9,2,   28.70,2,   4.7434
 90KDAI08_1,       AR03,     908,          1,          7,      83537,2,20000727,       0150,     4.1083,   -45.1717,       3924,  1184.5,   4.7720,  34.8524,2,  34.8513,2,   189.9,2,   24.18,2,   4.6731
 90KDAI08_1,       AR03,     908,          1,          6,      83536,2,20000727,       0150,     4.1083,   -45.1717,       3924,  1492.1,   4.3340,  34.9918,2,  34.9888,2,   241.6,2,   17.03,2,   4.2107
 90KDAI08_1,       AR03,     908,          1,          5,     -999.0,9,20000727,       0150,     4.1083,   -45.1717,       3924,  1958.2,   3.6400,  34.9812,2,-999.0000,9,   268.5,2,   16.63,2,   3.4817
 90KDAI08_1,       AR03,     908,          1,          4,     -999.0,9,20000727,       0150,     4.1083,   -45.1717,       3924,  2485.3,   3.1310,  34.9594,2,-999.0000,9,   270.2,2,   21.77,2,   2.9300
 90KDAI08_1,       AR03,     908,          1,          3,      83535,2,20000727,       0150,     4.1083,   -45.1717,       3924,  2995.3,   2.7240,  34.9322,2,  34.9303,2,   269.4,2,   28.44,2,   2.4797
 90KDAI08_1,       AR03,     908,          1,          2,      83534,2,20000727,       0150,     4.1083,   -45.1717,       3924,  3486.6,   2.5370,  34.9190,3,  34.8604,3,  -999.0,9,   25.73,2,   2.2450
 90KDAI08_1,       AR03,     908,          1,          1,      83533,2,20000727,       0150,     4.1083,   -45.1717,       3924,  3968.7,   2.2120,  34.8931,2,  34.8935,2,   273.3,2,   34.03,2,   1.8753