BOTTLE,20220921CCHSIOAMB
# Disambiguated cast number for station 401 into cast 1, 4, and 5 based on timing information found at pangea. These were yoyo casts according to that log sheet, so how is there even bottle data...?
#BOTTLE,20220131CCHSIOENA
# added SAMPNO column
# BOTTLE,20180918PRINUNIVRMK
# processed by CCHDO on 2021-02-12, no changes
# Data source: R.Steinfeldt 8/28/18  
# SHIP: Maria S. Merian  
# Cruise: MSM09_1 
# Region: NW Atlantic; Similar area to A02 
# EXPOCODE: 06M220080723 
# DATES: 07/23 - 08/18/2008 
# Chief Scientist: M. Rhein  
# 83 stations with 22 place Rosette  
# Hydro: Who - R.Steinfeldt; Status -  final  
# 	Notes:    
# CFC&SF6: Who - K.Bulsiewicz; Status - final  
# 	Notes:  
# References: Rhein, M.,D. Kieke and R. Steinfeldt (2015), Advection of North Atlantic Deep Water from the Labrador Sea to the southern hemisphere, J. Geophys. Res., J. Geophys. Res., 120, 2471-2487, doi:10.1002/2014JC010605. 
EXPOCODE,SECT_ID,STNNBR,CASTNO,SAMPNO,BTLNBR,BTLNBR_FLAG_W,DATE,TIME,LATITUDE,LONGITUDE,DEPTH,CTDPRS,CTDTMP,CTDSAL,CTDSAL_FLAG_W,SALNTY,SALNTY_FLAG_W,CFC-12,CFC-12_FLAG_W,SF6,SF6_FLAG_W
,,,,,,,,,,,METERS,DBAR,ITS-90,PSS-78,,PSS-78,,PMOL/KG,,FMOL/KG,
  06M220080723,   A02,   342,  1,      1,      1,2,20080727,1222, 47.9608, -18.2723, 4570,   3556.1,   2.6045,  34.9239,2,  34.9219,2, -999.000,9,     -999,9
  06M220080723,   A02,   342,  1,      2,      2,2,20080727,1222, 47.9608, -18.2723, 4570,   3556.9,   2.6042,  34.9235,2,-999.0000,9, -999.000,9,     -999,9
  06M220080723,   A02,   342,  1,      3,      3,2,20080727,1222, 47.9608, -18.2723, 4570,   3556.3,   2.6043,  34.9233,2,-999.0000,9, -999.000,9,     -999,9
  06M220080723,   A02,   342,  1,      4,      4,2,20080727,1222, 47.9608, -18.2723, 4570,   3048.3,   2.8308,  34.9440,2,-999.0000,9, -999.000,9,     -999,9
  06M220080723,   A02,   342,  1,      5,      5,2,20080727,1222, 47.9608, -18.2723, 4570,   3046.9,   2.8318,  34.9431,2,  34.9416,2, -999.000,9,     -999,9
  06M220080723,   A02,   342,  1,      6,      6,2,20080727,1222, 47.9608, -18.2723, 4570,   3044.5,   2.8331,  34.9437,2,-999.0000,9, -999.000,9,     -999,9
  06M220080723,   A02,   342,  1,      7,      7,2,20080727,1222, 47.9608, -18.2723, 4570,   2539.2,   3.1327,  34.9409,2,  34.9406,2, -999.000,9,     -999,9
  06M220080723,   A02,   342,  1,      8,      8,2,20080727,1222, 47.9608, -18.2723, 4570,   2538.3,   3.1337,  34.9406,2,-999.0000,9, -999.000,9,     -999,9
  06M220080723,   A02,   342,  1,      9,      9,2,20080727,1222, 47.9608, -18.2723, 4570,   1523.0,   4.3201,  34.9968,2,-999.0000,9, -999.000,9,     -999,9
  06M220080723,   A02,   342,  1,     10,     10,2,20080727,1222, 47.9608, -18.2723, 4570,   1519.0,   4.3264,  34.9979,2,-999.0000,9, -999.000,9,     -999,9
  06M220080723,   A02,   342,  1,     11,     11,2,20080727,1222, 47.9608, -18.2723, 4570,   1518.2,   4.3338,  34.9984,2,-999.0000,9, -999.000,9,     -999,9
  06M220080723,   A02,   342,  1,     12,     12,2,20080727,1222, 47.9608, -18.2723, 4570,    743.6,   8.9516,  35.3689,2,-999.0000,9, -999.000,9,     -999,9
  06M220080723,   A02,   342,  1,     13,     13,2,20080727,1222, 47.9608, -18.2723, 4570,    745.1,   8.8928,  35.3608,2,-999.0000,9, -999.000,9,     -999,9
  06M220080723,   A02,   342,  1,     14,     14,2,20080727,1222, 47.9608, -18.2723, 4570,     50.5,  14.0017,  35.7097,2,-999.0000,9, -999.000,9,     -999,9
  06M220080723,   A02,   342,  1,     15,     15,2,20080727,1222, 47.9608, -18.2723, 4570,     49.6,  14.0309,  35.7097,2,-999.0000,9, -999.000,9,     -999,9
  06M220080723,   A02,   342,  1,     16,     16,2,20080727,1222, 47.9608, -18.2723, 4570,     31.2,  15.8035,  35.6637,2,-999.0000,9, -999.000,9,     -999,9
  06M220080723,   A02,   342,  1,     17,     17,2,20080727,1222, 47.9608, -18.2723, 4570,     30.2,  15.8491,  35.6678,2,-999.0000,9, -999.000,9,     -999,9
  06M220080723,   A02,   342,  1,     18,     18,2,20080727,1222, 47.9608, -18.2723, 4570,     29.3,  16.1078,  35.6709,2,-999.0000,9, -999.000,9,     -999,9
  06M220080723,   A02,   342,  1,     19,     19,2,20080727,1222, 47.9608, -18.2723, 4570,     14.4,  16.5810,  35.6721,2,-999.0000,9, -999.000,9,     -999,9
  06M220080723,   A02,   342,  1,     20,     20,2,20080727,1222, 47.9608, -18.2723, 4570,     13.5,  16.5807,  35.6725,2,-999.0000,9, -999.000,9,     -999,9
  06M220080723,   A02,   342,  1,     21,     21,2,20080727,1222, 47.9608, -18.2723, 4570,     13.4,  16.5805,  35.6728,2,-999.0000,9, -999.000,9,     -999,9
  06M220080723,   A02,   342,  1,     22,     22,2,20080727,1222, 47.9608, -18.2723, 4570,     13.7,  16.5804,  35.6728,2,-999.0000,9, -999.000,9,     -999,9
  06M220080723,   A02,   343,  1,      1,      1,2,20080729,1456, 47.6692, -31.1742, 3850,   3907.9,   2.4178,  34.9024,2,  34.9020,2,    0.990,2,    0.448,2
  06M220080723,   A02,   343,  1,      2,      2,2,20080729,1456, 47.6692, -31.1742, 3850,   3699.7,   2.4681,  34.9058,2,-999.0000,9, -999.000,9,     -999,9
  06M220080723,   A02,   343,  1,      3,      3,2,20080729,1456, 47.6692, -31.1742, 3850,   3396.2,   2.6269,  34.9136,2,-999.0000,9,    0.922,2,    0.394,2
  06M220080723,   A02,   343,  1,      4,      4,2,20080729,1456, 47.6692, -31.1742, 3850,   3098.2,   2.8242,  34.9163,2,-999.0000,9,    0.938,2,    0.373,2
  06M220080723,   A02,   343,  1,      5,      5,2,20080729,1456, 47.6692, -31.1742, 3850,   2796.1,   2.9951,  34.9166,2,  34.9128,2,    1.007,2,    0.398,2
  06M220080723,   A02,   343,  1,      6,      6,2,20080729,1456, 47.6692, -31.1742, 3850,   2499.7,   3.1896,  34.9117,2,-999.0000,9, -999.000,9,     -999,9
  06M220080723,   A02,   343,  1,      7,      7,2,20080729,1456, 47.6692, -31.1742, 3850,   2201.1,   3.3325,  34.9083,2,-999.0000,9,    1.249,2,    0.477,2
  06M220080723,   A02,   343,  1,      8,      8,2,20080729,1456, 47.6692, -31.1742, 3850,   1998.0,   3.4622,  34.9113,2,  34.9089,2,    1.322,2,    0.502,2
  06M220080723,   A02,   343,  1,      9,      9,2,20080729,1456, 47.6692, -31.1742, 3850,   1804.2,   3.6093,  34.9154,2,-999.0000,9, -999.000,9,     -999,9
  06M220080723,   A02,   343,  1,     10,     10,2,20080729,1456, 47.6692, -31.1742, 3850,   1603.7,   3.7403,  34.9158,2,-999.0000,9,    1.582,2,    0.726,2
  06M220080723,   A02,   343,  1,     11,     11,2,20080729,1456, 47.6692, -31.1742, 3850,   1426.8,   3.8512,  34.9167,2,-999.0000,9,    1.776,2,    0.976,2
  06M220080723,   A02,   343,  1,     12,     12,2,20080729,1456, 47.6692, -31.1742, 3850,   1217.6,   4.2994,  34.9615,2,-999.0000,9,    1.619,2,    0.857,2
  06M220080723,   A02,   343,  1,     13,     13,2,20080729,1456, 47.6692, -31.1742, 3850,    994.5,   4.9885,  35.0135,2,-999.0000,9,    1.539,2,    0.835,2
  06M220080723,   A02,   343,  1,     14,     14,2,20080729,1456, 47.6692, -31.1742, 3850,    702.2,   6.6702,  35.0476,2,  35.0476,2,    1.251,2,    0.789,2
  06M220080723,   A02,   343,  1,     15,     15,2,20080729,1456, 47.6692, -31.1742, 3850,    404.4,  10.2503,  35.3157,2,-999.0000,9,    1.383,2,     1.12,2
  06M220080723,   A02,   343,  1,     16,     16,2,20080729,1456, 47.6692, -31.1742, 3850,    142.8,  13.1726,  35.6547,2,-999.0000,9,    1.447,2,    1.218,2
  06M220080723,   A02,   343,  1,     17,     17,2,20080729,1456, 47.6692, -31.1742, 3850,     35.3,  15.4720,  35.6620,2,-999.0000,9, -999.000,9,     -999,9
  06M220080723,   A02,   343,  1,     18,     18,2,20080729,1456, 47.6692, -31.1742, 3850,     34.1,  15.5244,  35.6612,2,-999.0000,9, -999.000,9,     -999,9
  06M220080723,   A02,   343,  1,     19,     19,2,20080729,1456, 47.6692, -31.1742, 3850,     33.4,  15.5391,  35.6550,2,-999.0000,9, -999.000,9,     -999,9
  06M220080723,   A02,   343,  1,     20,     20,2,20080729,1456, 47.6692, -31.1742, 3850,     19.2,  17.5914,  35.6272,2,-999.0000,9, -999.000,9,     -999,9
  06M220080723,   A02,   343,  1,     21,     21,2,20080729,1456, 47.6692, -31.1742, 3850,     18.1,  17.7184,  35.6231,2,-999.0000,9, -999.000,9,     -999,9
  06M220080723,   A02,   343,  1,     22,     22,2,20080729,1456, 47.6692, -31.1742, 3850,     11.4,  17.7853,  35.6421,2,-999.0000,9,    1.449,2,     1.34,2
  06M220080723,   A02,   344,  1,      1,      1,2,20080729,2130, 47.9825, -31.5237, 3805,   3858.2,   2.4247,  34.9025,2,  34.9024,2,    0.973,2,     0.45,2
  06M220080723,   A02,   344,  1,      2,      2,2,20080729,2130, 47.9825, -31.5237, 3805,   3659.6,   2.5018,  34.9076,2,-999.0000,9,    0.928,2,    0.412,2
  06M220080723,   A02,   344,  1,      3,      3,2,20080729,2130, 47.9825, -31.5237, 3805,   3540.6,   2.5335,  34.9091,2,-999.0000,9,    0.940,2,    0.409,2
  06M220080723,   A02,   344,  1,      4,      4,2,20080729,2130, 47.9825, -31.5237, 3805,   3363.1,   2.6323,  34.9143,2,-999.0000,9,    0.926,2,    0.403,2
  06M220080723,   A02,   344,  1,      5,      5,2,20080729,2130, 47.9825, -31.5237, 3805,   3154.9,   2.7559,  34.9169,2,-999.0000,9,    0.927,2,      0.4,2
  06M220080723,   A02,   344,  1,      6,      6,2,20080729,2130, 47.9825, -31.5237, 3805,   2946.1,   2.8629,  34.9178,2,-999.0000,9,    0.967,2,    0.416,2
  06M220080723,   A02,   344,  1,      7,      7,2,20080729,2130, 47.9825, -31.5237, 3805,   2752.0,   2.9633,  34.9180,2,-999.0000,9, -999.000,9,     -999,9
  06M220080723,   A02,   344,  1,      8,      8,2,20080729,2130, 47.9825, -31.5237, 3805,   2534.7,   3.0928,  34.9159,2,  34.9132,2,    1.069,2,    0.418,2
  06M220080723,   A02,   344,  1,      9,      9,2,20080729,2130, 47.9825, -31.5237, 3805,   2534.7,   3.0928,  34.9159,2,-999.0000,9,    1.069,2,    0.414,2
  06M220080723,   A02,   344,  1,     10,     10,2,20080729,2130, 47.9825, -31.5237, 3805,   2331.2,   3.2160,  34.9137,2,-999.0000,9,    1.155,2,     0.43,2
  06M220080723,   A02,   344,  1,     11,     11,2,20080729,2130, 47.9825, -31.5237, 3805,   2125.4,   3.3564,  34.9140,2,-999.0000,9, -999.000,9,     -999,9
  06M220080723,   A02,   344,  1,     12,     12,2,20080729,2130, 47.9825, -31.5237, 3805,   1917.4,   3.4789,  34.9160,2,-999.0000,9,    1.295,2,    0.504,2
  06M220080723,   A02,   344,  1,     13,     13,2,20080729,2130, 47.9825, -31.5237, 3805,   1717.9,   3.6038,  34.9180,2,-999.0000,9,    1.378,2,    0.579,2
  06M220080723,   A02,   344,  1,     14,     14,2,20080729,2130, 47.9825, -31.5237, 3805,   1521.2,   3.7567,  34.9220,2,  34.9193,2,    1.496,2,    0.694,2
  06M220080723,   A02,   344,  1,     15,     15,2,20080729,2130, 47.9825, -31.5237, 3805,   1307.0,   3.9636,  34.9300,2,-999.0000,9,    1.650,2,    0.828,2
  06M220080723,   A02,   344,  1,     16,     16,2,20080729,2130, 47.9825, -31.5237, 3805,   1111.3,   4.3182,  34.9594,2,-999.0000,9,    1.671,2,    0.907,2
  06M220080723,   A02,   344,  1,     17,     17,2,20080729,2130, 47.9825, -31.5237, 3805,    903.9,   4.7869,  34.9677,2,-999.0000,9,    1.655,2,    1.034,2
  06M220080723,   A02,   344,  1,     18,     18,2,20080729,2130, 47.9825, -31.5237, 3805,    701.8,   6.1629,  35.0601,2,-999.0000,9, -999.000,9,     -999,9
  06M220080723,   A02,   344,  1,     19,     19,2,20080729,2130, 47.9825, -31.5237, 3805,    513.5,   7.6400,  35.0371,2,-999.0000,9,    1.417,2,    1.079,2
  06M220080723,   A02,   344,  1,     20,     20,2,20080729,2130, 47.9825, -31.5237, 3805,    304.7,  11.3262,  35.4905,2,-999.0000,9,    1.596,2,    1.393,2
  06M220080723,   A02,   344,  1,     21,     21,2,20080729,2130, 47.9825, -31.5237, 3805,     99.1,  13.1841,  35.6583,2,-999.0000,9, -999.000,9,     -999,9
  06M220080723,   A02,   344,  1,     22,     22,2,20080729,2130, 47.9825, -31.5237, 3805,     11.2,  16.5109,  35.4866,2,  35.4892,2,    1.527,2,    1.387,2
  06M220080723,   A02,   345,  1,      1,      1,2,20080730,0230, 48.3180, -31.8835, 3840,   3849.3,   2.2877,  34.8969,2,  34.9026,2,    1.002,2,    0.479,2
  06M220080723,   A02,   345,  1,      2,      2,2,20080730,0230, 48.3180, -31.8835, 3840,   3698.6,   2.4575,  34.9056,2,-999.0000,9, -999.000,9,     -999,9
  06M220080723,   A02,   345,  1,      3,      3,2,20080730,0230, 48.3180, -31.8835, 3840,   3397.9,   2.6073,  34.9137,2,-999.0000,9,    0.928,2,    0.379,2
  06M220080723,   A02,   345,  1,      4,      4,2,20080730,0230, 48.3180, -31.8835, 3840,   3195.6,   2.7417,  34.9174,2,-999.0000,9,    0.918,2,     0.37,2
  06M220080723,   A02,   345,  1,      5,      5,2,20080730,0230, 48.3180, -31.8835, 3840,   2994.7,   2.8763,  34.9183,2,  34.9160,2,    0.984,2,      0.4,2
  06M220080723,   A02,   345,  1,      6,      6,2,20080730,0230, 48.3180, -31.8835, 3840,   2800.4,   2.9886,  34.9161,2,-999.0000,9,    1.059,2,    0.434,2
  06M220080723,   A02,   345,  1,      7,      7,2,20080730,0230, 48.3180, -31.8835, 3840,   2603.1,   3.0887,  34.9135,2,-999.0000,9,    1.118,2,    0.459,2
  06M220080723,   A02,   345,  1,      8,      8,2,20080730,0230, 48.3180, -31.8835, 3840,   2401.3,   3.1936,  34.9083,2,-999.0000,9,    1.243,2,    0.493,2
  06M220080723,   A02,   345,  1,      9,      9,2,20080730,0230, 48.3180, -31.8835, 3840,   2200.2,   3.2760,  34.9059,2,-999.0000,9,    1.305,2,    0.525,2
  06M220080723,   A02,   345,  1,     10,     10,2,20080730,0230, 48.3180, -31.8835, 3840,   2007.9,   3.4221,  34.9118,2,  34.9081,2,    1.385,2,    0.585,2
  06M220080723,   A02,   345,  1,     11,     11,2,20080730,0230, 48.3180, -31.8835, 3840,   1801.1,   3.5560,  34.9132,2,-999.0000,9,    1.419,2,    0.596,2
  06M220080723,   A02,   345,  1,     12,     12,2,20080730,0230, 48.3180, -31.8835, 3840,   1611.2,   3.6746,  34.9109,2,-999.0000,9,    1.648,2,    0.787,2
  06M220080723,   A02,   345,  1,     13,     13,2,20080730,0230, 48.3180, -31.8835, 3840,   1406.0,   3.7618,  34.9050,2,-999.0000,9,    1.826,2,    0.971,2
  06M220080723,   A02,   345,  1,     14,     14,2,20080730,0230, 48.3180, -31.8835, 3840,   1220.0,   3.9269,  34.9114,2,-999.0000,9,    1.936,2,    1.139,2
  06M220080723,   A02,   345,  1,     15,     15,2,20080730,0230, 48.3180, -31.8835, 3840,   1014.6,   4.1956,  34.9252,2,-999.0000,9,    1.905,2,    1.151,2
  06M220080723,   A02,   345,  1,     16,     16,2,20080730,0230, 48.3180, -31.8835, 3840,    598.0,   5.9980,  35.0230,2,-999.0000,9,    1.424,2,    0.839,2
  06M220080723,   A02,   345,  1,     17,     17,2,20080730,0230, 48.3180, -31.8835, 3840,    383.5,   7.7502,  35.0328,2,-999.0000,9,    1.316,2,    0.942,2
  06M220080723,   A02,   345,  1,     18,     18,2,20080730,0230, 48.3180, -31.8835, 3840,    195.3,  10.9657,  35.4248,2,-999.0000,9,    1.642,2,    1.402,2
  06M220080723,   A02,   345,  1,     19,     19,2,20080730,0230, 48.3180, -31.8835, 3840,     25.1,  16.3246,  35.4201,2,-999.0000,9, -999.000,9,     -999,9
  06M220080723,   A02,   345,  1,     20,     20,2,20080730,0230, 48.3180, -31.8835, 3840,     24.7,  16.3096,  35.4251,2,-999.0000,9, -999.000,9,     -999,9
  06M220080723,   A02,   345,  1,     21,     21,2,20080730,0230, 48.3180, -31.8835, 3840,     25.4,  16.3451,  35.4251,2,-999.0000,9, -999.000,9,     -999,9
  06M220080723,   A02,   345,  1,     22,     22,2,20080730,0230, 48.3180, -31.8835, 3840,     11.8,  16.3736,  35.4433,2,-999.0000,9,    1.560,2,    1.392,2
  06M220080723,   A02,   346,  1,      1,      1,2,20080730,0803, 48.6418, -32.2515, 3703,   3746.7,   2.4263,  34.9041,2,  34.9034,2,    0.972,2,    0.382,2
  06M220080723,   A02,   346,  1,      2,      2,2,20080730,0803, 48.6418, -32.2515, 3703,   3454.2,   2.5799,  34.9124,2,-999.0000,9,    0.950,2,    0.374,2
  06M220080723,   A02,   346,  1,      3,      3,2,20080730,0803, 48.6418, -32.2515, 3703,   3125.7,   2.7728,  34.9193,2,  34.9174,2,    0.965,2,    0.358,2
  06M220080723,   A02,   346,  1,      4,      4,2,20080730,0803, 48.6418, -32.2515, 3703,   2767.3,   2.9976,  34.9165,2,-999.0000,9,    1.100,2,    0.418,2
  06M220080723,   A02,   346,  1,      5,      5,2,20080730,0803, 48.6418, -32.2515, 3703,   2554.2,   3.1164,  34.9112,2,-999.0000,9,    1.207,2,    0.465,2
  06M220080723,   A02,   346,  1,      6,      6,2,20080730,0803, 48.6418, -32.2515, 3703,   2333.5,   3.2133,  34.9065,2,  34.9065,2,    1.287,2,    0.513,2
  06M220080723,   A02,   346,  1,      7,      7,2,20080730,0803, 48.6418, -32.2515, 3703,   2126.1,   3.3208,  34.9069,2,-999.0000,9,    1.375,2,    0.597,2
  06M220080723,   A02,   346,  1,      8,      8,2,20080730,0803, 48.6418, -32.2515, 3703,   1921.3,   3.4614,  34.9088,2,-999.0000,9,    1.401,2,    0.583,2
  06M220080723,   A02,   346,  1,      9,      9,2,20080730,0803, 48.6418, -32.2515, 3703,   1717.7,   3.6014,  34.9133,2,-999.0000,9,    1.505,2,    0.669,2
  06M220080723,   A02,   346,  1,     10,     10,2,20080730,0803, 48.6418, -32.2515, 3703,   1515.2,   3.6955,  34.9088,2,  34.9069,2,    1.710,2,    0.879,2
  06M220080723,   A02,   346,  1,     11,     11,2,20080730,0803, 48.6418, -32.2515, 3703,   1314.1,   3.8238,  34.9093,2,-999.0000,9,    1.826,2,    1.014,2
  06M220080723,   A02,   346,  1,     12,     12,2,20080730,0803, 48.6418, -32.2515, 3703,   1127.3,   4.0735,  34.9256,2,-999.0000,9,    1.832,2,     1.06,2
  06M220080723,   A02,   346,  1,     13,     13,2,20080730,0803, 48.6418, -32.2515, 3703,    803.3,   4.6516,  34.9453,2,-999.0000,9,    1.810,2,    1.159,2
  06M220080723,   A02,   346,  1,     14,     14,2,20080730,0803, 48.6418, -32.2515, 3703,    490.6,   6.6801,  34.9801,2,-999.0000,9,    1.430,2,    0.992,2
  06M220080723,   A02,   346,  1,     15,     15,2,20080730,0803, 48.6418, -32.2515, 3703,    304.4,   9.2227,  35.1895,2,-999.0000,9, -999.000,9,     -999,9
  06M220080723,   A02,   346,  1,     16,     16,2,20080730,0803, 48.6418, -32.2515, 3703,     99.3,  11.9705,  35.4591,2,-999.0000,9, -999.000,9,     -999,9
  06M220080723,   A02,   346,  1,     17,     17,2,20080730,0803, 48.6418, -32.2515, 3703,     88.7,  12.6373,  35.4900,2,-999.0000,9, -999.000,9,     -999,9
  06M220080723,   A02,   346,  1,     18,     18,2,20080730,0803, 48.6418, -32.2515, 3703,     88.1,  12.6722,  35.4896,2,-999.0000,9, -999.000,9,     -999,9
  06M220080723,   A02,   346,  1,     19,     19,2,20080730,0803, 48.6418, -32.2515, 3703,     86.9,  12.5084,  35.4876,2,-999.0000,9, -999.000,9,     -999,9
  06M220080723,   A02,   346,  1,     20,     20,2,20080730,0803, 48.6418, -32.2515, 3703,     13.1,  16.2413,  35.4985,2,-999.0000,9, -999.000,9,     -999,9
  06M220080723,   A02,   346,  1,     21,     21,2,20080730,0803, 48.6418, -32.2515, 3703,     12.5,  16.2395,  35.4988,2,-999.0000,9, -999.000,9,     -999,9
  06M220080723,   A02,   346,  1,     22,     22,2,20080730,0803, 48.6418, -32.2515, 3703,     11.6,  16.2380,  35.4993,2,-999.0000,9,    1.525,2,    1.376,2