BOTTLE,20220921CCHSIOAMB
EXPOCODE,SECT_ID,STNNBR,CASTNO,SAMPNO,BTLNBR,BTLNBR_FLAG_W,DATE,TIME,LATITUDE,LONGITUDE,DEPTH,CTDPRS,CTDTMP,CTDSAL,CTDSAL_FLAG_W,SALNTY,SALNTY_FLAG_W,CFC-12,CFC-12_FLAG_W,SF6,SF6_FLAG_W
,,,,,,,,,,,METERS,DBAR,ITS-90,PSS-78,,PSS-78,,PMOL/KG,,FMOL/KG,
  06M220080723,   A02,   382,  1,      1,      1,2,20080808,2156, 46.9250, -40.0500, 4580,   4646.9,   2.1082,  34.8913,2,  34.8924,2,    1.635,2,    1.001,2
  06M220080723,   A02,   382,  1,      2,      2,2,20080808,2156, 46.9250, -40.0500, 4580,   4298.8,   2.2627,  34.8928,2,-999.0000,9,    1.048,2,    0.594,2
  06M220080723,   A02,   382,  1,      3,      3,2,20080808,2156, 46.9250, -40.0500, 4580,   3995.0,   2.3798,  34.8998,2,-999.0000,9,    0.985,2,    0.541,2
  06M220080723,   A02,   382,  1,      4,      4,2,20080808,2156, 46.9250, -40.0500, 4580,   3699.2,   2.5555,  34.9075,2,-999.0000,9,    1.090,3,    0.569,3
  06M220080723,   A02,   382,  1,      5,      5,2,20080808,2156, 46.9250, -40.0500, 4580,   3397.4,   2.7676,  34.9149,2,-999.0000,9,    0.919,2,    0.472,2
  06M220080723,   A02,   382,  1,      6,      6,2,20080808,2156, 46.9250, -40.0500, 4580,   3394.4,   2.7694,  34.9147,2,-999.0000,9, -999.000,9,     -999,9
  06M220080723,   A02,   382,  1,      7,      7,2,20080808,2156, 46.9250, -40.0500, 4580,   3099.5,   2.9385,  34.9177,2,  34.9195,2,    0.894,2,     0.41,2
  06M220080723,   A02,   382,  1,      8,      8,2,20080808,2156, 46.9250, -40.0500, 4580,   2812.7,   3.1446,  34.9222,2,-999.0000,9,    0.960,2,    0.428,2
  06M220080723,   A02,   382,  1,      9,      9,2,20080808,2156, 46.9250, -40.0500, 4580,   2484.5,   3.2444,  34.9133,2,-999.0000,9,    1.122,2,    0.468,2
  06M220080723,   A02,   382,  1,     10,     10,2,20080808,2156, 46.9250, -40.0500, 4580,   2483.6,   3.2464,  34.9140,2,-999.0000,9, -999.000,9,     -999,9
  06M220080723,   A02,   382,  1,     11,     11,2,20080808,2156, 46.9250, -40.0500, 4580,   2300.2,   3.4246,  34.9245,2,-999.0000,9,    0.946,3,      0.4,2
  06M220080723,   A02,   382,  1,     12,     12,2,20080808,2156, 46.9250, -40.0500, 4580,   2097.9,   3.5738,  34.9254,2,-999.0000,9,    1.113,3,    0.473,2
  06M220080723,   A02,   382,  1,     13,     13,2,20080808,2156, 46.9250, -40.0500, 4580,   1896.1,   3.6732,  34.9251,2,  34.9258,2,    1.182,3,    0.666,2
  06M220080723,   A02,   382,  1,     14,     14,2,20080808,2156, 46.9250, -40.0500, 4580,   1703.3,   3.8154,  34.9283,2,-999.0000,9,    1.149,3,    0.774,2
  06M220080723,   A02,   382,  1,     15,     15,2,20080808,2156, 46.9250, -40.0500, 4580,   1514.8,   3.9486,  34.9290,2,-999.0000,9,    1.528,2,    0.931,2
  06M220080723,   A02,   382,  1,     16,     16,2,20080808,2156, 46.9250, -40.0500, 4580,   1405.9,   4.0650,  34.9383,2,-999.0000,9,    1.594,2,    0.995,2
  06M220080723,   A02,   382,  1,     17,     17,2,20080808,2156, 46.9250, -40.0500, 4580,   1302.3,   4.2606,  34.9572,2,-999.0000,9,    1.615,2,    1.015,2
  06M220080723,   A02,   382,  1,     18,     18,2,20080808,2156, 46.9250, -40.0500, 4580,   1179.4,   4.4735,  34.9664,2,-999.0000,9, -999.000,9,     -999,9
  06M220080723,   A02,   382,  1,     19,     19,2,20080808,2156, 46.9250, -40.0500, 4580,   1078.3,   4.7216,  34.9814,2,-999.0000,9,    1.586,2,     0.98,2
  06M220080723,   A02,   382,  1,     20,     20,2,20080808,2156, 46.9250, -40.0500, 4580,    893.2,   5.5485,  35.0398,2,-999.0000,9,    1.247,2,    0.734,2
  06M220080723,   A02,   382,  1,     21,     21,2,20080808,2156, 46.9250, -40.0500, 4580,    506.0,  10.4659,  35.3530,2,-999.0000,9,    0.916,4,    0.692,2
  06M220080723,   A02,   382,  1,     22,     22,2,20080808,2156, 46.9250, -40.0500, 4580,     13.6,  21.2274,  35.5832,2,-999.0000,9,    1.193,4,    1.158,2
  06M220080723,   A02,   383,  1,      1,      1,2,20080809,0429, 47.0000, -41.0495, 4514,   4572.4,   2.0935,  34.8919,2,  34.8924,2, -999.000,9,     -999,9
  06M220080723,   A02,   383,  1,      2,      2,2,20080809,0429, 47.0000, -41.0495, 4514,   4400.8,   2.0976,  34.8926,2,-999.0000,9, -999.000,9,     -999,9
  06M220080723,   A02,   383,  1,      3,      3,2,20080809,0429, 47.0000, -41.0495, 4514,   4250.7,   2.1512,  34.8944,2,-999.0000,9, -999.000,9,     -999,9
  06M220080723,   A02,   383,  1,      4,      4,2,20080809,0429, 47.0000, -41.0495, 4514,   4110.0,   2.3285,  34.9003,2,  34.9004,2, -999.000,9,     -999,9
  06M220080723,   A02,   383,  1,      5,      5,2,20080809,0429, 47.0000, -41.0495, 4514,   3795.6,   2.5704,  34.9077,2,-999.0000,9, -999.000,9,     -999,9
  06M220080723,   A02,   383,  1,      6,      6,2,20080809,0429, 47.0000, -41.0495, 4514,   3795.8,   2.5696,  34.9082,2,-999.0000,9, -999.000,9,     -999,9
  06M220080723,   A02,   383,  1,      7,      7,2,20080809,0429, 47.0000, -41.0495, 4514,   2585.1,   3.2023,  34.9092,2,  34.9075,2, -999.000,9,     -999,9
  06M220080723,   A02,   383,  1,      8,      8,2,20080809,0429, 47.0000, -41.0495, 4514,   1390.1,   3.9851,  34.9327,2,  34.9260,2, -999.000,9,     -999,9
  06M220080723,   A02,   383,  1,      9,      9,2,20080809,0429, 47.0000, -41.0495, 4514,     71.9,  12.7404,  35.1187,2,-999.0000,9, -999.000,9,     -999,9
  06M220080723,   A02,   383,  1,     10,     10,2,20080809,0429, 47.0000, -41.0495, 4514,     71.4,  12.8069,  35.1407,2,-999.0000,9, -999.000,9,     -999,9
  06M220080723,   A02,   383,  1,     11,     11,2,20080809,0429, 47.0000, -41.0495, 4514,     70.8,  12.8303,  35.1436,2,-999.0000,9, -999.000,9,     -999,9
  06M220080723,   A02,   383,  1,     12,     12,2,20080809,0429, 47.0000, -41.0495, 4514,     69.3,  12.6131,  35.0810,2,-999.0000,9, -999.000,9,     -999,9
  06M220080723,   A02,   383,  1,     13,     13,2,20080809,0429, 47.0000, -41.0495, 4514,     40.4,  14.2171,  34.8204,2,-999.0000,9, -999.000,9,     -999,9
  06M220080723,   A02,   383,  1,     14,     14,2,20080809,0429, 47.0000, -41.0495, 4514,     40.3,  13.4447,  34.7063,2,-999.0000,9, -999.000,9,     -999,9
  06M220080723,   A02,   383,  1,     15,     15,2,20080809,0429, 47.0000, -41.0495, 4514,     39.8,  13.7448,  34.7512,2,-999.0000,9, -999.000,9,     -999,9
  06M220080723,   A02,   383,  1,     16,     16,2,20080809,0429, 47.0000, -41.0495, 4514,     24.3,  18.8302,  35.6847,2,-999.0000,9, -999.000,9,     -999,9
  06M220080723,   A02,   383,  1,     17,     17,2,20080809,0429, 47.0000, -41.0495, 4514,     24.2,  18.8094,  35.6865,2,-999.0000,9, -999.000,9,     -999,9
  06M220080723,   A02,   383,  1,     18,     18,2,20080809,0429, 47.0000, -41.0495, 4514,     23.9,  18.8267,  35.6709,2,-999.0000,9, -999.000,9,     -999,9
  06M220080723,   A02,   383,  1,     19,     19,2,20080809,0429, 47.0000, -41.0495, 4514,     15.0,  20.8606,  34.2482,2,-999.0000,9, -999.000,9,     -999,9
  06M220080723,   A02,   383,  1,     20,     20,2,20080809,0429, 47.0000, -41.0495, 4514,     15.0,  20.8653,  34.2502,2,-999.0000,9, -999.000,9,     -999,9
  06M220080723,   A02,   383,  1,     21,     21,2,20080809,0429, 47.0000, -41.0495, 4514,     15.8,  20.9014,  34.2881,2,-999.0000,9, -999.000,9,     -999,9
  06M220080723,   A02,   383,  1,     22,     22,2,20080809,0429, 47.0000, -41.0495, 4514,     16.2,  20.8962,  34.2817,2,  34.2797,2, -999.000,9,     -999,9
  06M220080723,   A02,   384,  1,      1,      1,2,20080809,0937, 46.9997, -41.6237, 4280,   4338.3,   2.0671,  34.8913,2,  34.8945,2,    1.653,2,    0.999,2
  06M220080723,   A02,   384,  1,      2,      2,2,20080809,0937, 46.9997, -41.6237, 4280,   3999.4,   2.1771,  34.8929,2,-999.0000,9,    1.418,2,    0.782,2
  06M220080723,   A02,   384,  1,      3,      3,2,20080809,0937, 46.9997, -41.6237, 4280,   3698.8,   2.2544,  34.8963,2,-999.0000,9,    1.128,2,    0.549,2
  06M220080723,   A02,   384,  1,      4,      4,2,20080809,0937, 46.9997, -41.6237, 4280,   3399.1,   2.4247,  34.9047,2,-999.0000,9,    1.048,2,    0.521,2
  06M220080723,   A02,   384,  1,      5,      5,2,20080809,0937, 46.9997, -41.6237, 4280,   3103.8,   2.6592,  34.9133,2,  34.9136,2,    1.045,2,    0.441,2
  06M220080723,   A02,   384,  1,      6,      6,2,20080809,0937, 46.9997, -41.6237, 4280,   2797.3,   2.8605,  34.9155,2,-999.0000,9,    1.365,4,    0.603,4
  06M220080723,   A02,   384,  1,      7,      7,2,20080809,0937, 46.9997, -41.6237, 4280,   2498.4,   3.0408,  34.9125,2,-999.0000,9, -999.000,9,     -999,9
  06M220080723,   A02,   384,  1,      8,      8,2,20080809,0937, 46.9997, -41.6237, 4280,   2299.8,   3.1549,  34.9102,2,-999.0000,9,    0.934,3,    0.601,3
  06M220080723,   A02,   384,  1,      9,      9,2,20080809,0937, 46.9997, -41.6237, 4280,   2097.4,   3.2980,  34.9069,2,-999.0000,9,    1.361,2,    0.729,2
  06M220080723,   A02,   384,  1,     10,     10,2,20080809,0937, 46.9997, -41.6237, 4280,   1895.8,   3.5351,  34.9239,2,-999.0000,9, -999.000,9,     -999,9
  06M220080723,   A02,   384,  1,     11,     11,2,20080809,0937, 46.9997, -41.6237, 4280,   1790.6,   3.5832,  34.9230,2,-999.0000,9,    1.323,2,    0.583,2
  06M220080723,   A02,   384,  1,     12,     12,2,20080809,0937, 46.9997, -41.6237, 4280,   1690.4,   3.6068,  34.9170,2,-999.0000,9,    1.373,2,    0.612,2
  06M220080723,   A02,   384,  1,     13,     13,2,20080809,0937, 46.9997, -41.6237, 4280,   1606.6,   3.7489,  34.9337,2,-999.0000,9,    1.330,2,    0.649,2
  06M220080723,   A02,   384,  1,     14,     14,2,20080809,0937, 46.9997, -41.6237, 4280,   1507.5,   3.8296,  34.9388,2,-999.0000,9,    1.384,2,    0.645,2
  06M220080723,   A02,   384,  1,     15,     15,2,20080809,0937, 46.9997, -41.6237, 4280,   1305.1,   4.0093,  34.9477,2,-999.0000,9,    1.491,2,     0.78,2
  06M220080723,   A02,   384,  1,     16,     16,2,20080809,0937, 46.9997, -41.6237, 4280,   1126.3,   4.0391,  34.9344,2,-999.0000,9,    1.756,2,     1.04,2
  06M220080723,   A02,   384,  1,     17,     17,2,20080809,0937, 46.9997, -41.6237, 4280,    994.3,   4.1079,  34.9281,2,-999.0000,9,    1.670,2,    1.124,2
  06M220080723,   A02,   384,  1,     18,     18,2,20080809,0937, 46.9997, -41.6237, 4280,    823.7,   4.3207,  34.9332,2,-999.0000,9,    1.888,2,     1.26,2
  06M220080723,   A02,   384,  1,     19,     19,2,20080809,0937, 46.9997, -41.6237, 4280,    628.3,   4.9842,  34.9892,2,-999.0000,9, -999.000,9,     -999,9
  06M220080723,   A02,   384,  1,     20,     20,2,20080809,0937, 46.9997, -41.6237, 4280,    390.3,   6.1574,  34.9823,2,-999.0000,9,    1.210,2,    0.764,2
  06M220080723,   A02,   384,  1,     21,     21,2,20080809,0937, 46.9997, -41.6237, 4280,    297.9,   6.5342,  34.8859,2,-999.0000,9, -999.000,9,     -999,9
  06M220080723,   A02,   384,  1,     22,     22,2,20080809,0937, 46.9997, -41.6237, 4280,     13.9,  18.5736,  33.5641,2,-999.0000,9,    1.570,2,     1.42,2
  06M220080723,   A02,   385,  1,      1,      1,2,20080809,1333, 47.0003, -42.0497, 4214,   4262.9,   2.0247,  34.8930,2,  34.8943,2,    1.807,2,    1.094,2
  06M220080723,   A02,   385,  1,      2,      2,2,20080809,1333, 47.0003, -42.0497, 4214,   3997.9,   2.1418,  34.8927,2,-999.0000,9,    1.456,2,    0.834,2
  06M220080723,   A02,   385,  1,      3,      3,2,20080809,1333, 47.0003, -42.0497, 4214,   3901.5,   2.1734,  34.8930,2,-999.0000,9,    0.375,4,    0.758,2
  06M220080723,   A02,   385,  1,      4,      4,2,20080809,1333, 47.0003, -42.0497, 4214,   3599.5,   2.2997,  34.8988,2,-999.0000,9,    1.184,2,    0.632,2
  06M220080723,   A02,   385,  1,      5,      5,2,20080809,1333, 47.0003, -42.0497, 4214,   3301.5,   2.4872,  34.9076,2,-999.0000,9, -999.000,9,     -999,9
  06M220080723,   A02,   385,  1,      6,      6,2,20080809,1333, 47.0003, -42.0497, 4214,   2997.4,   2.7347,  34.9150,2,-999.0000,9,    1.124,2,    0.571,2
  06M220080723,   A02,   385,  1,      7,      7,2,20080809,1333, 47.0003, -42.0497, 4214,   2697.2,   2.9250,  34.9156,2,-999.0000,9, -999.000,9,     -999,9
  06M220080723,   A02,   385,  1,      8,      8,2,20080809,1333, 47.0003, -42.0497, 4214,   2512.5,   3.0392,  34.9144,2,  34.9142,2,    1.235,2,    0.589,2
  06M220080723,   A02,   385,  1,      9,      9,2,20080809,1333, 47.0003, -42.0497, 4214,   2294.0,   3.1486,  34.9100,2,-999.0000,9,    1.262,2,    0.575,2
  06M220080723,   A02,   385,  1,     10,     10,2,20080809,1333, 47.0003, -42.0497, 4214,   2275.7,   3.1540,  34.9096,2,-999.0000,9, -999.000,9,     -999,9
  06M220080723,   A02,   385,  1,     11,     11,2,20080809,1333, 47.0003, -42.0497, 4214,   2079.2,   3.2817,  34.9121,2,-999.0000,9, -999.000,9,     -999,9
  06M220080723,   A02,   385,  1,     12,     12,2,20080809,1333, 47.0003, -42.0497, 4214,   1903.9,   3.4032,  34.9141,2,-999.0000,9,    1.206,2,    0.549,2
  06M220080723,   A02,   385,  1,     13,     13,2,20080809,1333, 47.0003, -42.0497, 4214,   1689.9,   3.5029,  34.9112,2,-999.0000,9, -999.000,9,     -999,9
  06M220080723,   A02,   385,  1,     14,     14,2,20080809,1333, 47.0003, -42.0497, 4214,   1498.3,   3.5875,  34.8993,2,-999.0000,9,    1.855,2,    1.017,2
  06M220080723,   A02,   385,  1,     15,     15,2,20080809,1333, 47.0003, -42.0497, 4214,   1309.6,   3.6970,  34.8939,2,-999.0000,9,    1.824,4,    1.209,2
  06M220080723,   A02,   385,  1,     16,     16,2,20080809,1333, 47.0003, -42.0497, 4214,   1098.4,   3.5961,  34.8622,2,  34.8646,2,    2.247,2,     1.57,2
  06M220080723,   A02,   385,  1,     17,     17,2,20080809,1333, 47.0003, -42.0497, 4214,    869.5,   3.8740,  34.8849,2,-999.0000,9, -999.000,9,     -999,9
  06M220080723,   A02,   385,  1,     18,     18,2,20080809,1333, 47.0003, -42.0497, 4214,    690.4,   3.9799,  34.8661,2,-999.0000,9, -999.000,9,     -999,9
  06M220080723,   A02,   385,  1,     19,     19,2,20080809,1333, 47.0003, -42.0497, 4214,    690.5,   3.9721,  34.8667,2,-999.0000,9,    2.027,2,    1.515,2
  06M220080723,   A02,   385,  1,     20,     20,2,20080809,1333, 47.0003, -42.0497, 4214,    604.3,   4.0285,  34.8436,2,-999.0000,9,    2.082,2,    1.669,2
  06M220080723,   A02,   385,  1,     21,     21,2,20080809,1333, 47.0003, -42.0497, 4214,    284.4,   7.1336,  35.0445,2,-999.0000,9, -999.000,9,     -999,9
  06M220080723,   A02,   385,  1,     22,     22,2,20080809,1333, 47.0003, -42.0497, 4214,     14.3,  19.8164,  34.3409,2,-999.0000,9,    1.237,4,    1.307,4
  06M220080723,   A02,   386,  1,      1,      1,2,20080809,1852, 47.0002, -42.4345, 3822,   3866.3,   2.0142,  34.8931,2,-999.0000,9, -999.000,9,     -999,9
  06M220080723,   A02,   386,  1,      2,      2,2,20080809,1852, 47.0002, -42.4345, 3822,   3866.1,   2.0142,  34.8930,2,  34.8945,2,    1.740,2,    1.062,2
  06M220080723,   A02,   386,  1,      3,      3,2,20080809,1852, 47.0002, -42.4345, 3822,   3749.2,   2.1634,  34.8970,2,-999.0000,9,    1.578,2,    0.966,2
  06M220080723,   A02,   386,  1,      4,      4,2,20080809,1852, 47.0002, -42.4345, 3822,   3644.1,   2.2743,  34.8998,2,  34.9002,2, -999.000,9,     -999,9
  06M220080723,   A02,   386,  1,      5,      5,2,20080809,1852, 47.0002, -42.4345, 3822,   3399.7,   2.4801,  34.9067,2,  34.9050,2,    0.974,2,    0.466,2
  06M220080723,   A02,   386,  1,      6,      6,2,20080809,1852, 47.0002, -42.4345, 3822,   3393.0,   2.4873,  34.9070,2,-999.0000,9, -999.000,9,     -999,9
  06M220080723,   A02,   386,  1,      7,      7,2,20080809,1852, 47.0002, -42.4345, 3822,   3199.5,   2.6815,  34.9130,2,  34.9172,2,    1.045,2,    0.507,2
  06M220080723,   A02,   386,  1,      8,      8,2,20080809,1852, 47.0002, -42.4345, 3822,   3197.7,   2.6817,  34.9134,2,-999.0000,9, -999.000,9,     -999,9
  06M220080723,   A02,   386,  1,      9,      9,2,20080809,1852, 47.0002, -42.4345, 3822,   3000.4,   2.8592,  34.9141,2,  34.9144,2, -999.000,9,     -999,9
  06M220080723,   A02,   386,  1,     10,     10,2,20080809,1852, 47.0002, -42.4345, 3822,   2998.4,   2.8594,  34.9138,2,-999.0000,9, -999.000,9,     -999,9
  06M220080723,   A02,   386,  1,     11,     11,2,20080809,1852, 47.0002, -42.4345, 3822,   2800.4,   2.9552,  34.9132,2,  34.9144,2, -999.000,9,     -999,9
  06M220080723,   A02,   386,  1,     12,     12,2,20080809,1852, 47.0002, -42.4345, 3822,   2798.6,   2.9558,  34.9135,2,-999.0000,9, -999.000,9,     -999,9
  06M220080723,   A02,   386,  1,     13,     13,2,20080809,1852, 47.0002, -42.4345, 3822,     60.6,   6.9883,  34.3420,2,-999.0000,9, -999.000,9,     -999,9
  06M220080723,   A02,   386,  1,     14,     14,2,20080809,1852, 47.0002, -42.4345, 3822,     60.7,   7.0255,  34.3362,2,-999.0000,9, -999.000,9,     -999,9
  06M220080723,   A02,   386,  1,     15,     15,2,20080809,1852, 47.0002, -42.4345, 3822,     60.7,   7.0689,  34.3331,2,-999.0000,9, -999.000,9,     -999,9
  06M220080723,   A02,   386,  1,     16,     16,2,20080809,1852, 47.0002, -42.4345, 3822,     60.6,   7.0549,  34.3275,2,-999.0000,9, -999.000,9,     -999,9
  06M220080723,   A02,   386,  1,     17,     17,2,20080809,1852, 47.0002, -42.4345, 3822,     41.4,   9.9739,  34.4589,2,-999.0000,9, -999.000,9,     -999,9
  06M220080723,   A02,   386,  1,     18,     18,2,20080809,1852, 47.0002, -42.4345, 3822,     40.6,   9.9324,  34.4750,2,-999.0000,9, -999.000,9,     -999,9
  06M220080723,   A02,   386,  1,     19,     19,2,20080809,1852, 47.0002, -42.4345, 3822,     39.6,   9.9386,  34.4267,2,-999.0000,9, -999.000,9,     -999,9
  06M220080723,   A02,   386,  1,     20,     20,2,20080809,1852, 47.0002, -42.4345, 3822,     26.1,  12.1718,  34.1877,2,-999.0000,9, -999.000,9,     -999,9
  06M220080723,   A02,   386,  1,     21,     21,2,20080809,1852, 47.0002, -42.4345, 3822,     25.3,  12.4200,  34.1805,2,-999.0000,9, -999.000,9,     -999,9
  06M220080723,   A02,   386,  1,     22,     22,2,20080809,1852, 47.0002, -42.4345, 3822,     24.4,  12.9768,  34.1486,2,-999.0000,9, -999.000,9,     -999,9