BOTTLE,20220921CCHSIOAMB
EXPOCODE,SECT_ID,STNNBR,CASTNO,SAMPNO,BTLNBR,BTLNBR_FLAG_W,DATE,TIME,LATITUDE,LONGITUDE,DEPTH,CTDPRS,CTDTMP,CTDSAL,CTDSAL_FLAG_W,SALNTY,SALNTY_FLAG_W,CFC-12,CFC-12_FLAG_W,SF6,SF6_FLAG_W
,,,,,,,,,,,METERS,DBAR,ITS-90,PSS-78,,PSS-78,,PMOL/KG,,FMOL/KG,
  06M220080723,   A02,   369,  1,      1,      1,2,20080805,2003, 46.5662, -32.3493, 3875,   3912.3,   2.2930,  34.8964,2,-999.0000,9,    1.057,2,    0.451,2
  06M220080723,   A02,   369,  1,      2,      2,2,20080805,2003, 46.5662, -32.3493, 3875,   3796.3,   2.3260,  34.8987,2,-999.0000,9,    1.002,2,    0.489,2
  06M220080723,   A02,   369,  1,      3,      3,2,20080805,2003, 46.5662, -32.3493, 3875,   3721.8,   2.3575,  34.9012,2,-999.0000,9,    0.984,2,     0.46,2
  06M220080723,   A02,   369,  1,      4,      4,2,20080805,2003, 46.5662, -32.3493, 3875,   3600.7,   2.4470,  34.9063,2,-999.0000,9,    0.883,2,    0.391,2
  06M220080723,   A02,   369,  1,      5,      5,2,20080805,2003, 46.5662, -32.3493, 3875,   3400.2,   2.5617,  34.9108,2,-999.0000,9,    0.853,2,    0.284,3
  06M220080723,   A02,   369,  1,      6,      6,2,20080805,2003, 46.5662, -32.3493, 3875,   3199.2,   2.6957,  34.9153,2,-999.0000,9, -999.000,9,     -999,9
  06M220080723,   A02,   369,  1,      7,      7,2,20080805,2003, 46.5662, -32.3493, 3875,   3003.2,   2.8385,  34.9164,2,  34.9227,2,    1.011,2,    0.436,2
  06M220080723,   A02,   369,  1,      8,      8,2,20080805,2003, 46.5662, -32.3493, 3875,   2800.3,   2.9973,  34.9150,2,-999.0000,9,    1.124,2,    0.472,2
  06M220080723,   A02,   369,  1,      9,      9,2,20080805,2003, 46.5662, -32.3493, 3875,   2605.1,   3.0966,  34.9124,2,-999.0000,9,    1.179,2,    0.492,2
  06M220080723,   A02,   369,  1,     10,     10,2,20080805,2003, 46.5662, -32.3493, 3875,   2400.7,   3.2048,  34.9087,2,-999.0000,9, -999.000,9,     -999,9
  06M220080723,   A02,   369,  1,     11,     11,2,20080805,2003, 46.5662, -32.3493, 3875,   2198.4,   3.3228,  34.9079,2,-999.0000,9,    1.326,2,    0.483,2
  06M220080723,   A02,   369,  1,     12,     12,2,20080805,2003, 46.5662, -32.3493, 3875,   2026.4,   3.4543,  34.9108,2,-999.0000,9,    1.416,2,    0.579,2
  06M220080723,   A02,   369,  1,     13,     13,2,20080805,2003, 46.5662, -32.3493, 3875,   1798.2,   3.5828,  34.9139,2,  34.9209,2,    1.472,2,    0.649,2
  06M220080723,   A02,   369,  1,     14,     14,2,20080805,2003, 46.5662, -32.3493, 3875,   1701.9,   3.6360,  34.9149,2,-999.0000,9,    1.523,2,    0.709,2
  06M220080723,   A02,   369,  1,     15,     15,2,20080805,2003, 46.5662, -32.3493, 3875,   1600.1,   3.6934,  34.9130,2,-999.0000,9,    1.633,2,     0.79,2
  06M220080723,   A02,   369,  1,     16,     16,2,20080805,2003, 46.5662, -32.3493, 3875,   1498.4,   3.7608,  34.9108,2,-999.0000,9,    1.776,2,    0.949,2
  06M220080723,   A02,   369,  1,     17,     17,2,20080805,2003, 46.5662, -32.3493, 3875,   1373.3,   3.8262,  34.9095,2,-999.0000,9,    1.872,2,    1.046,2
  06M220080723,   A02,   369,  1,     18,     18,2,20080805,2003, 46.5662, -32.3493, 3875,   1195.3,   4.1327,  34.9373,2,-999.0000,9,    1.747,2,    0.947,2
  06M220080723,   A02,   369,  1,     19,     19,2,20080805,2003, 46.5662, -32.3493, 3875,    982.2,   4.5345,  34.9665,2,-999.0000,9,    1.807,2,    1.073,2
  06M220080723,   A02,   369,  1,     20,     20,2,20080805,2003, 46.5662, -32.3493, 3875,    802.5,   4.9218,  34.9428,2,-999.0000,9,    1.655,2,    1.052,2
  06M220080723,   A02,   369,  1,     21,     21,2,20080805,2003, 46.5662, -32.3493, 3875,    403.8,   9.3111,  35.1991,2,-999.0000,9, -999.000,9,     -999,9
  06M220080723,   A02,   369,  1,     22,     22,2,20080805,2003, 46.5662, -32.3493, 3875,     15.1,  18.1693,  35.7087,2,  35.7104,2,    1.412,2,      1.3,2
  06M220080723,   A02,   370,  1,      1,      1,2,20080806,0107, 46.5582, -33.1397, 3883,   3934.7,   2.3052,  34.8969,2,  34.8965,2,    1.029,2,      0.5,2
  06M220080723,   A02,   370,  1,      2,      2,2,20080806,0107, 46.5582, -33.1397, 3883,   3597.1,   2.4161,  34.9036,2,-999.0000,9,    0.913,2,      0.4,2
  06M220080723,   A02,   370,  1,      3,      3,2,20080806,0107, 46.5582, -33.1397, 3883,   3398.0,   2.5375,  34.9086,2,-999.0000,9,    0.917,2,    0.422,2
  06M220080723,   A02,   370,  1,      4,      4,2,20080806,0107, 46.5582, -33.1397, 3883,   3198.3,   2.6991,  34.9135,2,-999.0000,9,    0.972,2,    0.431,2
  06M220080723,   A02,   370,  1,      5,      5,2,20080806,0107, 46.5582, -33.1397, 3883,   2996.9,   2.8385,  34.9161,2,-999.0000,9,    1.034,2,    0.447,2
  06M220080723,   A02,   370,  1,      6,      6,2,20080806,0107, 46.5582, -33.1397, 3883,   2985.8,   2.8584,  34.9160,2,-999.0000,9, -999.000,9,     -999,9
  06M220080723,   A02,   370,  1,      7,      7,2,20080806,0107, 46.5582, -33.1397, 3883,   2800.1,   2.9706,  34.9150,2,-999.0000,9,    1.121,2,    0.477,2
  06M220080723,   A02,   370,  1,      8,      8,2,20080806,0107, 46.5582, -33.1397, 3883,   2598.3,   3.0748,  34.9130,2,  34.9128,2,    1.178,2,    0.512,2
  06M220080723,   A02,   370,  1,      9,      9,2,20080806,0107, 46.5582, -33.1397, 3883,   2400.4,   3.1901,  34.9081,2,-999.0000,9,    1.269,2,     0.53,2
  06M220080723,   A02,   370,  1,     10,     10,2,20080806,0107, 46.5582, -33.1397, 3883,   2399.2,   3.1906,  34.9084,2,-999.0000,9, -999.000,9,     -999,9
  06M220080723,   A02,   370,  1,     11,     11,2,20080806,0107, 46.5582, -33.1397, 3883,   2207.7,   3.2880,  34.9068,2,-999.0000,9,    1.332,2,    0.525,2
  06M220080723,   A02,   370,  1,     12,     12,2,20080806,0107, 46.5582, -33.1397, 3883,   2002.4,   3.4222,  34.9092,2,-999.0000,9,    1.417,2,    0.582,2
  06M220080723,   A02,   370,  1,     13,     13,2,20080806,0107, 46.5582, -33.1397, 3883,   1804.5,   3.5864,  34.9148,2,-999.0000,9,    1.515,2,    0.673,2
  06M220080723,   A02,   370,  1,     14,     14,2,20080806,0107, 46.5582, -33.1397, 3883,   1595.7,   3.6994,  34.9125,2,  34.9122,2,    1.661,2,    0.806,2
  06M220080723,   A02,   370,  1,     15,     15,2,20080806,0107, 46.5582, -33.1397, 3883,   1498.6,   3.7582,  34.9116,2,-999.0000,9, -999.000,9,     -999,9
  06M220080723,   A02,   370,  1,     16,     16,2,20080806,0107, 46.5582, -33.1397, 3883,   1397.2,   3.7896,  34.9087,2,-999.0000,9,    1.815,2,    0.988,2
  06M220080723,   A02,   370,  1,     17,     17,2,20080806,0107, 46.5582, -33.1397, 3883,   1204.9,   3.9556,  34.9151,2,-999.0000,9,    1.931,2,    1.123,2
  06M220080723,   A02,   370,  1,     18,     18,2,20080806,0107, 46.5582, -33.1397, 3883,   1112.4,   4.1471,  34.9323,2,-999.0000,9,    1.903,2,    1.093,2
  06M220080723,   A02,   370,  1,     19,     19,2,20080806,0107, 46.5582, -33.1397, 3883,   1016.3,   4.2321,  34.9310,2,-999.0000,9,    1.937,2,    1.168,2
  06M220080723,   A02,   370,  1,     20,     20,2,20080806,0107, 46.5582, -33.1397, 3883,    810.4,   5.1399,  35.0087,2,-999.0000,9,    1.587,2,    0.904,2
  06M220080723,   A02,   370,  1,     21,     21,2,20080806,0107, 46.5582, -33.1397, 3883,    605.3,   6.2098,  34.9882,2,  34.9833,2,    1.383,2,     0.91,2
  06M220080723,   A02,   370,  1,     22,     22,2,20080806,0107, 46.5582, -33.1397, 3883,     14.6,  18.0147,  35.6116,2,-999.0000,9,    1.457,2,    1.306,2
  06M220080723,   A02,   371,  1,      1,      1,2,20080806,0613, 46.9250, -32.5082, 3785,   3825.1,   2.3443,  34.8993,2,  34.8999,2,    0.978,2,    0.461,2
  06M220080723,   A02,   371,  1,      2,      2,2,20080806,0613, 46.9250, -32.5082, 3785,   3699.9,   2.4242,  34.9041,2,-999.0000,9,    0.953,2,    0.418,2
  06M220080723,   A02,   371,  1,      3,      3,2,20080806,0613, 46.9250, -32.5082, 3785,   3600.7,   2.4657,  34.9065,2,-999.0000,9,    0.929,2,    0.405,2
  06M220080723,   A02,   371,  1,      4,      4,2,20080806,0613, 46.9250, -32.5082, 3785,   3598.6,   2.4665,  34.9062,2,-999.0000,9, -999.000,9,     -999,9
  06M220080723,   A02,   371,  1,      5,      5,2,20080806,0613, 46.9250, -32.5082, 3785,   3297.5,   2.5757,  34.9119,2,  34.9136,2,    0.920,2,    0.382,2
  06M220080723,   A02,   371,  1,      6,      6,2,20080806,0613, 46.9250, -32.5082, 3785,   2997.9,   2.7771,  34.9173,2,-999.0000,9,    0.941,2,    0.361,2
  06M220080723,   A02,   371,  1,      7,      7,2,20080806,0613, 46.9250, -32.5082, 3785,   2733.2,   2.9278,  34.9175,2,-999.0000,9, -999.000,9,     -999,9
  06M220080723,   A02,   371,  1,      8,      8,2,20080806,0613, 46.9250, -32.5082, 3785,   2475.0,   3.0911,  34.9128,2,-999.0000,9, -999.000,9,     -999,9
  06M220080723,   A02,   371,  1,      9,      9,2,20080806,0613, 46.9250, -32.5082, 3785,   2289.2,   3.1963,  34.9083,2,-999.0000,9,    1.255,2,     0.52,2
  06M220080723,   A02,   371,  1,     10,     10,2,20080806,0613, 46.9250, -32.5082, 3785,   2094.9,   3.3168,  34.9074,2,-999.0000,9,    1.328,2,    0.557,2
  06M220080723,   A02,   371,  1,     11,     11,2,20080806,0613, 46.9250, -32.5082, 3785,   1897.1,   3.4426,  34.9108,2,  34.9136,2,    1.379,2,    0.581,2
  06M220080723,   A02,   371,  1,     12,     12,2,20080806,0613, 46.9250, -32.5082, 3785,   1700.4,   3.5774,  34.9150,2,-999.0000,9,    1.441,2,    0.661,2
  06M220080723,   A02,   371,  1,     13,     13,2,20080806,0613, 46.9250, -32.5082, 3785,   1605.5,   3.6363,  34.9158,2,-999.0000,9, -999.000,9,     -999,9
  06M220080723,   A02,   371,  1,     14,     14,2,20080806,0613, 46.9250, -32.5082, 3785,   1498.4,   3.6962,  34.9141,2,-999.0000,9,    1.591,2,    0.791,2
  06M220080723,   A02,   371,  1,     15,     15,2,20080806,0613, 46.9250, -32.5082, 3785,   1292.4,   3.7982,  34.9120,2,-999.0000,9,    1.771,2,    0.942,2
  06M220080723,   A02,   371,  1,     16,     16,2,20080806,0613, 46.9250, -32.5082, 3785,   1081.4,   4.1760,  34.9472,2,-999.0000,9,    1.664,2,      0.9,2
  06M220080723,   A02,   371,  1,     17,     17,2,20080806,0613, 46.9250, -32.5082, 3785,    996.8,   4.2342,  34.9429,2,-999.0000,9,    1.741,2,    0.981,2
  06M220080723,   A02,   371,  1,     18,     18,2,20080806,0613, 46.9250, -32.5082, 3785,    888.6,   4.3484,  34.9430,2,-999.0000,9,    1.782,2,    1.051,2
  06M220080723,   A02,   371,  1,     19,     19,2,20080806,0613, 46.9250, -32.5082, 3785,    674.5,   5.3197,  35.0167,2,-999.0000,9,    1.446,2,    0.818,2
  06M220080723,   A02,   371,  1,     20,     20,2,20080806,0613, 46.9250, -32.5082, 3785,    460.9,   6.4664,  34.9913,2,-999.0000,9,    1.364,2,     0.94,2
  06M220080723,   A02,   371,  1,     21,     21,2,20080806,0613, 46.9250, -32.5082, 3785,    300.4,   8.2712,  35.0893,2,-999.0000,9, -999.000,9,     -999,9
  06M220080723,   A02,   371,  1,     22,     22,2,20080806,0613, 46.9250, -32.5082, 3785,     14.7,  18.1713,  35.4470,2,  35.4490,2,    1.424,2,      1.3,2
  06M220080723,   A02,   372,  1,      1,      1,2,20080806,1116, 47.2835, -31.8832, 3672,   3716.9,   2.4419,  34.9044,2,  34.9052,2,    0.918,2,    0.412,2
  06M220080723,   A02,   372,  1,      2,      2,2,20080806,1116, 47.2835, -31.8832, 3672,   3599.8,   2.4957,  34.9069,2,-999.0000,9,    0.879,2,    0.365,2
  06M220080723,   A02,   372,  1,      3,      3,2,20080806,1116, 47.2835, -31.8832, 3672,   3202.3,   2.7413,  34.9152,2,-999.0000,9,    0.931,2,    0.383,2
  06M220080723,   A02,   372,  1,      4,      4,2,20080806,1116, 47.2835, -31.8832, 3672,   2805.5,   3.0107,  34.9164,2,  34.9164,2,    1.018,2,    0.385,2
  06M220080723,   A02,   372,  1,      5,      5,2,20080806,1116, 47.2835, -31.8832, 3672,   2395.8,   3.2497,  34.9099,2,-999.0000,9,    1.185,2,     0.46,2
  06M220080723,   A02,   372,  1,      6,      6,2,20080806,1116, 47.2835, -31.8832, 3672,   2389.9,   3.2542,  34.9099,2,-999.0000,9, -999.000,9,     -999,9
  06M220080723,   A02,   372,  1,      7,      7,2,20080806,1116, 47.2835, -31.8832, 3672,   2001.0,   3.4894,  34.9106,2,-999.0000,9,    1.395,2,    0.591,2
  06M220080723,   A02,   372,  1,      8,      8,2,20080806,1116, 47.2835, -31.8832, 3672,   1996.1,   3.4941,  34.9109,2,-999.0000,9, -999.000,9,     -999,9
  06M220080723,   A02,   372,  1,      9,      9,2,20080806,1116, 47.2835, -31.8832, 3672,   1600.9,   3.7497,  34.9104,2,  34.9124,2,    1.729,2,    0.905,2
  06M220080723,   A02,   372,  1,     10,     10,2,20080806,1116, 47.2835, -31.8832, 3672,   1599.2,   3.7495,  34.9105,2,-999.0000,9, -999.000,9,     -999,9
  06M220080723,   A02,   372,  1,     11,     11,2,20080806,1116, 47.2835, -31.8832, 3672,   1397.7,   3.9052,  34.9155,2,-999.0000,9,    1.850,2,     1.04,2
  06M220080723,   A02,   372,  1,     12,     12,2,20080806,1116, 47.2835, -31.8832, 3672,   1212.3,   4.2169,  34.9417,2,-999.0000,9,    1.786,2,    0.998,2
  06M220080723,   A02,   372,  1,     13,     13,2,20080806,1116, 47.2835, -31.8832, 3672,   1212.7,   4.2109,  34.9415,2,-999.0000,9, -999.000,9,     -999,9
  06M220080723,   A02,   372,  1,     14,     14,2,20080806,1116, 47.2835, -31.8832, 3672,    884.9,   4.9084,  34.9556,2,  34.9542,2,    1.717,2,    1.119,2
  06M220080723,   A02,   372,  1,     15,     15,2,20080806,1116, 47.2835, -31.8832, 3672,    207.8,  13.1553,  35.7798,2,-999.0000,9, -999.000,9,     -999,9
  06M220080723,   A02,   372,  1,     16,     16,2,20080806,1116, 47.2835, -31.8832, 3672,     31.1,  15.9203,  35.6804,2,-999.0000,9, -999.000,9,     -999,9
  06M220080723,   A02,   372,  1,     17,     17,2,20080806,1116, 47.2835, -31.8832, 3672,     30.6,  15.6555,  35.6803,2,-999.0000,9, -999.000,9,     -999,9
  06M220080723,   A02,   372,  1,     18,     18,2,20080806,1116, 47.2835, -31.8832, 3672,     29.9,  15.7465,  35.6848,2,-999.0000,9, -999.000,9,     -999,9
  06M220080723,   A02,   372,  1,     19,     19,2,20080806,1116, 47.2835, -31.8832, 3672,     13.3,  17.9871,  35.6667,2,-999.0000,9, -999.000,9,     -999,9
  06M220080723,   A02,   372,  1,     20,     20,2,20080806,1116, 47.2835, -31.8832, 3672,     13.3,  17.9853,  35.6669,2,-999.0000,9, -999.000,9,     -999,9
  06M220080723,   A02,   372,  1,     21,     21,2,20080806,1116, 47.2835, -31.8832, 3672,     13.4,  17.9857,  35.6667,2,-999.0000,9, -999.000,9,     -999,9
  06M220080723,   A02,   372,  1,     22,     22,2,20080806,1116, 47.2835, -31.8832, 3672,     13.6,  17.9861,  35.6667,2,  35.6636,2,    1.431,2,     1.32,2
  06M220080723,   A02,   373,  1,      1,      1,2,20080807,0739, 46.5503, -34.1503, 4295,   4357.7,   2.2340,  34.8918,2,  34.8934,2,    1.258,2,    0.645,2
  06M220080723,   A02,   373,  1,      2,      2,2,20080807,0739, 46.5503, -34.1503, 4295,   3999.9,   2.2585,  34.8949,2,-999.0000,9,    1.147,6,    0.602,6
  06M220080723,   A02,   373,  1,      3,      3,2,20080807,0739, 46.5503, -34.1503, 4295,   3683.2,   2.3978,  34.9017,2,-999.0000,9,    1.031,2,    0.494,2
  06M220080723,   A02,   373,  1,      4,      4,2,20080807,0739, 46.5503, -34.1503, 4295,   3404.5,   2.6234,  34.9109,2,-999.0000,9,    0.984,2,    0.431,2
  06M220080723,   A02,   373,  1,      5,      5,2,20080807,0739, 46.5503, -34.1503, 4295,   3098.9,   2.8592,  34.9158,2,-999.0000,9,    1.089,2,    0.476,2
  06M220080723,   A02,   373,  1,      6,      6,2,20080807,0739, 46.5503, -34.1503, 4295,   2898.7,   2.9690,  34.9157,2,-999.0000,9,    1.231,2,    0.524,2
  06M220080723,   A02,   373,  1,      7,      7,2,20080807,0739, 46.5503, -34.1503, 4295,   2709.8,   3.0810,  34.9129,2,  34.9115,2,    1.220,2,    0.544,2
  06M220080723,   A02,   373,  1,      8,      8,2,20080807,0739, 46.5503, -34.1503, 4295,   2499.3,   3.1831,  34.9099,2,-999.0000,9,    1.283,2,    0.537,2
  06M220080723,   A02,   373,  1,      9,      9,2,20080807,0739, 46.5503, -34.1503, 4295,   2306.1,   3.2888,  34.9077,2,-999.0000,9,    1.368,2,    0.565,2
  06M220080723,   A02,   373,  1,     10,     10,2,20080807,0739, 46.5503, -34.1503, 4295,   2303.6,   3.2917,  34.9073,2,-999.0000,9, -999.000,9,     -999,9
  06M220080723,   A02,   373,  1,     11,     11,2,20080807,0739, 46.5503, -34.1503, 4295,   2097.7,   3.4362,  34.9096,2,-999.0000,9,    1.442,2,    0.603,2
  06M220080723,   A02,   373,  1,     12,     12,2,20080807,0739, 46.5503, -34.1503, 4295,   1907.0,   3.5676,  34.9121,2,-999.0000,9,    1.511,2,    0.674,2
  06M220080723,   A02,   373,  1,     13,     13,2,20080807,0739, 46.5503, -34.1503, 4295,   1719.1,   3.6975,  34.9141,2,-999.0000,9,    1.682,2,    0.821,2
  06M220080723,   A02,   373,  1,     14,     14,2,20080807,0739, 46.5503, -34.1503, 4295,   1611.2,   3.7756,  34.9141,2,-999.0000,9, -999.000,9,     -999,9
  06M220080723,   A02,   373,  1,     15,     15,2,20080807,0739, 46.5503, -34.1503, 4295,   1517.8,   3.8173,  34.9107,2,-999.0000,9,    1.847,2,    1.008,2
  06M220080723,   A02,   373,  1,     16,     16,2,20080807,0739, 46.5503, -34.1503, 4295,   1421.2,   3.8576,  34.9103,2,-999.0000,9, -999.000,9,     -999,9
  06M220080723,   A02,   373,  1,     17,     17,2,20080807,0739, 46.5503, -34.1503, 4295,   1293.4,   3.9785,  34.9136,2,-999.0000,9,    1.886,2,    1.131,2
  06M220080723,   A02,   373,  1,     18,     18,2,20080807,0739, 46.5503, -34.1503, 4295,   1195.2,   4.1312,  34.9277,2,-999.0000,9,    1.892,2,    1.144,2
  06M220080723,   A02,   373,  1,     19,     19,2,20080807,0739, 46.5503, -34.1503, 4295,   1071.7,   4.4771,  34.9666,2,-999.0000,9,    1.699,2,    0.977,2
  06M220080723,   A02,   373,  1,     20,     20,2,20080807,0739, 46.5503, -34.1503, 4295,    993.0,   4.6893,  34.9751,2,  34.9705,2,    1.718,2,    0.998,2
  06M220080723,   A02,   373,  1,     21,     21,2,20080807,0739, 46.5503, -34.1503, 4295,    879.7,   4.9341,  34.9648,2,-999.0000,9,    1.654,2,    1.025,2
  06M220080723,   A02,   373,  1,     22,     22,2,20080807,0739, 46.5503, -34.1503, 4295,     89.6,  13.0278,  35.5477,2,  35.5450,2,    1.579,2,    1.332,2