BOTTLE,20220921CCHSIOAMB
EXPOCODE,SECT_ID,STNNBR,CASTNO,SAMPNO,BTLNBR,BTLNBR_FLAG_W,DATE,TIME,LATITUDE,LONGITUDE,DEPTH,CTDPRS,CTDTMP,CTDSAL,CTDSAL_FLAG_W,SALNTY,SALNTY_FLAG_W,CFC-12,CFC-12_FLAG_W,SF6,SF6_FLAG_W
,,,,,,,,,,,METERS,DBAR,ITS-90,PSS-78,,PSS-78,,PMOL/KG,,FMOL/KG,
  06M220080723,   A02,   387,  1,      1,      1,2,20080809,2214, 47.0002, -42.6665, 3655,   3684.8,   1.9807,  34.8936,2,  34.8928,2,    1.567,2,    1.047,2
  06M220080723,   A02,   387,  1,      2,      2,2,20080809,2214, 47.0002, -42.6665, 3655,   3547.7,   2.0913,  34.8920,2,  34.8924,2,    1.443,2,    0.834,2
  06M220080723,   A02,   387,  1,      3,      3,2,20080809,2214, 47.0002, -42.6665, 3655,   3401.4,   2.1733,  34.8946,2,-999.0000,9,    1.145,2,    0.628,2
  06M220080723,   A02,   387,  1,      4,      4,2,20080809,2214, 47.0002, -42.6665, 3655,   3202.6,   2.3103,  34.9009,2,-999.0000,9,    1.047,2,    0.525,2
  06M220080723,   A02,   387,  1,      5,      5,2,20080809,2214, 47.0002, -42.6665, 3655,   2999.0,   2.5335,  34.9100,2,-999.0000,9,    1.368,3,    0.717,3
  06M220080723,   A02,   387,  1,      6,      6,2,20080809,2214, 47.0002, -42.6665, 3655,   2810.0,   2.7281,  34.9158,2,  34.9146,2,    1.141,2,    0.575,2
  06M220080723,   A02,   387,  1,      7,      7,2,20080809,2214, 47.0002, -42.6665, 3655,   2697.4,   2.8078,  34.9159,2,-999.0000,9, -999.000,9,     -999,9
  06M220080723,   A02,   387,  1,      8,      8,2,20080809,2214, 47.0002, -42.6665, 3655,   2599.1,   2.8750,  34.9161,2,-999.0000,9, -999.000,9,     -999,9
  06M220080723,   A02,   387,  1,      9,      9,2,20080809,2214, 47.0002, -42.6665, 3655,   2381.4,   2.9824,  34.9153,2,-999.0000,9,    1.155,2,    0.523,2
  06M220080723,   A02,   387,  1,     10,     10,2,20080809,2214, 47.0002, -42.6665, 3655,   2381.3,   2.9834,  34.9151,2,-999.0000,9, -999.000,9,     -999,9
  06M220080723,   A02,   387,  1,     11,     11,2,20080809,2214, 47.0002, -42.6665, 3655,   2199.1,   3.0800,  34.9117,2,-999.0000,9,    1.342,2,     0.62,2
  06M220080723,   A02,   387,  1,     12,     12,2,20080809,2214, 47.0002, -42.6665, 3655,   2000.4,   3.1935,  34.9087,2,-999.0000,9,    1.276,2,     0.69,2
  06M220080723,   A02,   387,  1,     13,     13,2,20080809,2214, 47.0002, -42.6665, 3655,   1799.6,   3.3253,  34.9078,2,-999.0000,9,    1.493,2,    0.753,2
  06M220080723,   A02,   387,  1,     14,     14,2,20080809,2214, 47.0002, -42.6665, 3655,   1622.4,   3.4244,  34.9080,2,-999.0000,9,    1.583,2,    0.805,2
  06M220080723,   A02,   387,  1,     15,     15,2,20080809,2214, 47.0002, -42.6665, 3655,   1393.8,   3.5893,  34.9105,2,-999.0000,9,    1.897,2,    6.112,4
  06M220080723,   A02,   387,  1,     16,     16,2,20080809,2214, 47.0002, -42.6665, 3655,   1198.0,   3.6221,  34.8869,2,-999.0000,9,    2.207,2,    1.724,4
  06M220080723,   A02,   387,  1,     17,     17,2,20080809,2214, 47.0002, -42.6665, 3655,    999.3,   3.6304,  34.8696,2,-999.0000,9,    2.014,2,    1.221,4
  06M220080723,   A02,   387,  1,     18,     18,2,20080809,2214, 47.0002, -42.6665, 3655,    798.8,   3.6940,  34.8617,2,-999.0000,9,    1.905,2,    1.514,2
  06M220080723,   A02,   387,  1,     19,     19,2,20080809,2214, 47.0002, -42.6665, 3655,    610.8,   4.8274,  35.0037,2,-999.0000,9, -999.000,9,     -999,9
  06M220080723,   A02,   387,  1,     20,     20,2,20080809,2214, 47.0002, -42.6665, 3655,    495.7,   4.6489,  34.9318,2,-999.0000,9,    1.626,2,    1.045,2
  06M220080723,   A02,   387,  1,     21,     21,2,20080809,2214, 47.0002, -42.6665, 3655,    299.6,   5.9780,  34.9592,2,-999.0000,9, -999.000,9,     -999,9
  06M220080723,   A02,   387,  1,     22,     22,2,20080809,2214, 47.0002, -42.6665, 3655,     13.3,  18.4432,  34.3851,2,-999.0000,9,    1.583,2,    1.423,2
  06M220080723,   A02,   388,  1,      1,      1,2,20080810,0144, 47.0007, -42.9167, 3512,   3372.3,   2.1218,  34.8931,2,-999.0000,9, -999.000,9,     -999,9
  06M220080723,   A02,   388,  1,      2,      2,2,20080810,0144, 47.0007, -42.9167, 3512,   3542.7,   1.9616,  34.8938,2,  34.8936,2,    1.779,2,    1.052,2
  06M220080723,   A02,   388,  1,      3,      3,2,20080810,0144, 47.0007, -42.9167, 3512,   3398.1,   2.1039,  34.8924,2,  34.8904,2,    1.488,2,      0.8,2
  06M220080723,   A02,   388,  1,      4,      4,2,20080810,0144, 47.0007, -42.9167, 3512,   3253.0,   2.1719,  34.8952,2,  34.8967,2,    1.256,2,    0.633,2
  06M220080723,   A02,   388,  1,      5,      5,2,20080810,0144, 47.0007, -42.9167, 3512,   3096.4,   2.2911,  34.9019,2,  34.9036,2,    1.336,2,    0.702,2
  06M220080723,   A02,   388,  1,      6,      6,2,20080810,0144, 47.0007, -42.9167, 3512,   2898.9,   2.5006,  34.9097,2,  34.9099,2,    1.466,2,     0.77,2
  06M220080723,   A02,   388,  1,      7,      7,2,20080810,0144, 47.0007, -42.9167, 3512,   2698.8,   2.6570,  34.9136,2,-999.0000,9, -999.000,9,     -999,9
  06M220080723,   A02,   388,  1,      8,      8,2,20080810,0144, 47.0007, -42.9167, 3512,   2501.8,   2.8414,  34.9149,2,-999.0000,9, -999.000,9,     -999,9
  06M220080723,   A02,   388,  1,      9,      9,2,20080810,0144, 47.0007, -42.9167, 3512,   2285.3,   2.9964,  34.9124,2,-999.0000,9, -999.000,9,     -999,9
  06M220080723,   A02,   388,  1,     10,     10,2,20080810,0144, 47.0007, -42.9167, 3512,   2107.6,   3.1131,  34.9099,2,-999.0000,9, -999.000,9,     -999,9
  06M220080723,   A02,   388,  1,     11,     11,2,20080810,0144, 47.0007, -42.9167, 3512,   2104.8,   3.1164,  34.9100,2,-999.0000,9, -999.000,9,     -999,9
  06M220080723,   A02,   388,  1,     12,     12,2,20080810,0144, 47.0007, -42.9167, 3512,   1898.9,   3.2506,  34.9070,2,-999.0000,9, -999.000,9,     -999,9
  06M220080723,   A02,   388,  1,     13,     13,2,20080810,0144, 47.0007, -42.9167, 3512,   1685.0,   3.3906,  34.9072,2,-999.0000,9, -999.000,9,     -999,9
  06M220080723,   A02,   388,  1,     14,     14,2,20080810,0144, 47.0007, -42.9167, 3512,   1498.2,   3.5280,  34.9068,2,-999.0000,9, -999.000,9,     -999,9
  06M220080723,   A02,   388,  1,     15,     15,2,20080810,0144, 47.0007, -42.9167, 3512,   1298.5,   3.5989,  34.8970,2,-999.0000,9, -999.000,9,     -999,9
  06M220080723,   A02,   388,  1,     16,     16,2,20080810,0144, 47.0007, -42.9167, 3512,   1116.5,   3.6481,  34.8844,2,-999.0000,9, -999.000,9,     -999,9
  06M220080723,   A02,   388,  1,     17,     17,2,20080810,0144, 47.0007, -42.9167, 3512,   1000.1,   3.6531,  34.8759,2,-999.0000,9, -999.000,9,     -999,9
  06M220080723,   A02,   388,  1,     18,     18,2,20080810,0144, 47.0007, -42.9167, 3512,    900.7,   3.7273,  34.8830,2,-999.0000,9, -999.000,9,     -999,9
  06M220080723,   A02,   388,  1,     19,     19,2,20080810,0144, 47.0007, -42.9167, 3512,    769.4,   3.7670,  34.8721,2,-999.0000,9, -999.000,9,     -999,9
  06M220080723,   A02,   388,  1,     20,     20,2,20080810,0144, 47.0007, -42.9167, 3512,    674.3,   3.9217,  34.8829,2,-999.0000,9, -999.000,9,     -999,9
  06M220080723,   A02,   388,  1,     21,     21,2,20080810,0144, 47.0007, -42.9167, 3512,    424.8,   4.2837,  34.8704,2,-999.0000,9, -999.000,9,     -999,9
  06M220080723,   A02,   388,  1,     22,     22,2,20080810,0144, 47.0007, -42.9167, 3512,     14.8,  12.9268,  33.2786,2,-999.0000,9, -999.000,9,     -999,9
  06M220080723,   A02,   389,  1,      1,      1,2,20080810,0504, 46.9998, -43.0540, 3266,   3336.8,   2.4204,  34.9049,2,  34.9069,2,    1.477,2,     0.77,2
  06M220080723,   A02,   389,  1,      2,      2,2,20080810,0504, 46.9998, -43.0540, 3266,   3102.8,   2.4759,  34.9076,2,-999.0000,9,    1.261,2,    0.639,2
  06M220080723,   A02,   389,  1,      3,      3,2,20080810,0504, 46.9998, -43.0540, 3266,   2997.9,   2.5261,  34.9097,2,-999.0000,9, -999.000,9,     -999,9
  06M220080723,   A02,   389,  1,      4,      4,2,20080810,0504, 46.9998, -43.0540, 3266,   2797.4,   2.6515,  34.9134,2,-999.0000,9,    1.322,2,    0.648,2
  06M220080723,   A02,   389,  1,      5,      5,2,20080810,0504, 46.9998, -43.0540, 3266,   2600.2,   2.8054,  34.9153,2,-999.0000,9, -999.000,9,     -999,9
  06M220080723,   A02,   389,  1,      6,      6,2,20080810,0504, 46.9998, -43.0540, 3266,   2600.1,   2.8057,  34.9153,2,  34.9164,2,    1.274,2,     0.63,2
  06M220080723,   A02,   389,  1,      7,      7,2,20080810,0504, 46.9998, -43.0540, 3266,   2403.7,   2.9722,  34.9134,2,-999.0000,9, -999.000,9,     -999,9
  06M220080723,   A02,   389,  1,      8,      8,2,20080810,0504, 46.9998, -43.0540, 3266,   2197.8,   3.0911,  34.9106,2,-999.0000,9, -999.000,9,     -999,9
  06M220080723,   A02,   389,  1,      9,      9,2,20080810,0504, 46.9998, -43.0540, 3266,   2011.1,   3.2028,  34.9084,2,  34.9079,2, -999.000,9,     -999,9
  06M220080723,   A02,   389,  1,     10,     10,2,20080810,0504, 46.9998, -43.0540, 3266,   2011.0,   3.2048,  34.9084,2,-999.0000,9, -999.000,9,     -999,9
  06M220080723,   A02,   389,  1,     11,     11,2,20080810,0504, 46.9998, -43.0540, 3266,   1798.2,   3.3131,  34.9076,2,-999.0000,9,    1.610,2,    0.752,2
  06M220080723,   A02,   389,  1,     12,     12,2,20080810,0504, 46.9998, -43.0540, 3266,   1587.2,   3.4353,  34.9071,2,-999.0000,9, -999.000,9,     -999,9
  06M220080723,   A02,   389,  1,     13,     13,2,20080810,0504, 46.9998, -43.0540, 3266,   1402.2,   3.5436,  34.9011,2,-999.0000,9,    2.397,3,    1.725,3
  06M220080723,   A02,   389,  1,     14,     14,2,20080810,0504, 46.9998, -43.0540, 3266,   1220.8,   3.5597,  34.8819,2,-999.0000,9,    2.030,2,    1.245,2
  06M220080723,   A02,   389,  1,     15,     15,2,20080810,0504, 46.9998, -43.0540, 3266,   1103.2,   3.5448,  34.8709,2,-999.0000,9, -999.000,9,     -999,9
  06M220080723,   A02,   389,  1,     16,     16,2,20080810,0504, 46.9998, -43.0540, 3266,   1010.4,   3.5407,  34.8648,2,-999.0000,9,    2.271,2,    1.553,2
  06M220080723,   A02,   389,  1,     17,     17,2,20080810,0504, 46.9998, -43.0540, 3266,    816.1,   3.4977,  34.8496,2,-999.0000,9,    2.347,2,    1.734,2
  06M220080723,   A02,   389,  1,     18,     18,2,20080810,0504, 46.9998, -43.0540, 3266,    700.1,   3.6054,  34.8583,2,-999.0000,9,    2.317,2,    1.674,2
  06M220080723,   A02,   389,  1,     19,     19,2,20080810,0504, 46.9998, -43.0540, 3266,    581.6,   3.7078,  34.8539,2,-999.0000,9,    2.312,2,    1.675,2
  06M220080723,   A02,   389,  1,     20,     20,2,20080810,0504, 46.9998, -43.0540, 3266,    475.1,   3.8278,  34.8575,2,-999.0000,9, -999.000,9,     -999,9
  06M220080723,   A02,   389,  1,     21,     21,2,20080810,0504, 46.9998, -43.0540, 3266,    284.4,   4.5853,  34.8814,2,-999.0000,9, -999.000,9,     -999,9
  06M220080723,   A02,   389,  1,     22,     22,2,20080810,0504, 46.9998, -43.0540, 3266,     14.5,  16.1600,  33.2028,2,-999.0000,9,    1.694,2,    1.536,2
  06M220080723,   A02,   390,  1,      1,      1,2,20080810,0803, 47.0003, -43.2003, 3093,   3107.6,   2.6436,  34.9115,2,-999.0000,9, -999.000,9,     -999,9
  06M220080723,   A02,   390,  1,      2,      2,2,20080810,0803, 47.0003, -43.2003, 3093,   2992.1,   2.7454,  34.9147,2,-999.0000,9, -999.000,9,     -999,9
  06M220080723,   A02,   390,  1,      3,      3,2,20080810,0803, 47.0003, -43.2003, 3093,   2899.1,   2.8730,  34.9136,2,  34.9154,2, -999.000,9,     -999,9
  06M220080723,   A02,   390,  1,      4,      4,2,20080810,0803, 47.0003, -43.2003, 3093,   2726.0,   2.9309,  34.9141,2,-999.0000,9, -999.000,9,     -999,9
  06M220080723,   A02,   390,  1,      5,      5,2,20080810,0803, 47.0003, -43.2003, 3093,   2498.7,   2.9273,  34.9135,2,-999.0000,9, -999.000,9,     -999,9
  06M220080723,   A02,   390,  1,      6,      6,2,20080810,0803, 47.0003, -43.2003, 3093,   2276.1,   2.9382,  34.9130,2,-999.0000,9, -999.000,9,     -999,9
  06M220080723,   A02,   390,  1,      7,      7,2,20080810,0803, 47.0003, -43.2003, 3093,   2276.1,   2.9382,  34.9130,2,-999.0000,9, -999.000,9,     -999,9
  06M220080723,   A02,   390,  1,      8,      8,2,20080810,0803, 47.0003, -43.2003, 3093,   2098.6,   2.9986,  34.9114,2,-999.0000,9, -999.000,9,     -999,9
  06M220080723,   A02,   390,  1,      9,      9,2,20080810,0803, 47.0003, -43.2003, 3093,   1895.6,   3.1291,  34.9094,2,-999.0000,9, -999.000,9,     -999,9
  06M220080723,   A02,   390,  1,     10,     10,2,20080810,0803, 47.0003, -43.2003, 3093,   1895.6,   3.1291,  34.9094,2,  34.9120,2, -999.000,9,     -999,9
  06M220080723,   A02,   390,  1,     11,     11,2,20080810,0803, 47.0003, -43.2003, 3093,   1697.3,   3.2673,  34.9071,2,-999.0000,9, -999.000,9,     -999,9
  06M220080723,   A02,   390,  1,     12,     12,2,20080810,0803, 47.0003, -43.2003, 3093,   1516.5,   3.3595,  34.9073,2,-999.0000,9, -999.000,9,     -999,9
  06M220080723,   A02,   390,  1,     13,     13,2,20080810,0803, 47.0003, -43.2003, 3093,   1317.5,   3.4732,  34.9071,2,  34.9089,2, -999.000,9,     -999,9
  06M220080723,   A02,   390,  1,     14,     14,2,20080810,0803, 47.0003, -43.2003, 3093,   1201.8,   3.5458,  34.9008,2,-999.0000,9, -999.000,9,     -999,9
  06M220080723,   A02,   390,  1,     15,     15,2,20080810,0803, 47.0003, -43.2003, 3093,   1099.5,   3.5703,  34.8900,2,-999.0000,9, -999.000,9,     -999,9
  06M220080723,   A02,   390,  1,     16,     16,2,20080810,0803, 47.0003, -43.2003, 3093,    998.2,   3.5484,  34.8770,2,  34.8784,2, -999.000,9,     -999,9
  06M220080723,   A02,   390,  1,     17,     17,2,20080810,0803, 47.0003, -43.2003, 3093,     41.0,   5.8488,  34.3446,2,-999.0000,9, -999.000,9,     -999,9
  06M220080723,   A02,   390,  1,     18,     18,2,20080810,0803, 47.0003, -43.2003, 3093,     40.5,   5.8205,  34.3536,2,-999.0000,9, -999.000,9,     -999,9
  06M220080723,   A02,   390,  1,     19,     19,2,20080810,0803, 47.0003, -43.2003, 3093,     39.8,   5.8177,  34.3514,2,-999.0000,9, -999.000,9,     -999,9
  06M220080723,   A02,   390,  1,     20,     20,2,20080810,0803, 47.0003, -43.2003, 3093,     25.5,   8.9362,  34.0231,2,-999.0000,9, -999.000,9,     -999,9
  06M220080723,   A02,   390,  1,     21,     21,2,20080810,0803, 47.0003, -43.2003, 3093,     24.9,   9.4162,  33.9767,2,-999.0000,9, -999.000,9,     -999,9
  06M220080723,   A02,   390,  1,     22,     22,2,20080810,0803, 47.0003, -43.2003, 3093,     24.2,   9.5816,  33.9692,2,-999.0000,9, -999.000,9,     -999,9
  06M220080723,   A02,   391,  1,      1,      1,2,20080810,1041, 46.9998, -43.2327, 2952,   2373.4,   3.0030,  34.9120,2,  34.9128,2,    1.442,2,    0.705,2
  06M220080723,   A02,   391,  1,      2,      2,2,20080810,1041, 46.9998, -43.2327, 2952,   2373.4,   3.0030,  34.9120,2,-999.0000,9, -999.000,9,     -999,9
  06M220080723,   A02,   391,  1,      3,      3,2,20080810,1041, 46.9998, -43.2327, 2952,   2303.5,   3.0120,  34.9113,2,-999.0000,9,    1.450,2,    0.714,2
  06M220080723,   A02,   391,  1,      4,      4,2,20080810,1041, 46.9998, -43.2327, 2952,   2158.1,   3.0288,  34.9116,2,-999.0000,9,    1.448,2,      0.7,2
  06M220080723,   A02,   391,  1,      5,      5,2,20080810,1041, 46.9998, -43.2327, 2952,   2091.9,   3.0315,  34.9115,2,-999.0000,9, -999.000,9,     -999,9
  06M220080723,   A02,   391,  1,      6,      6,2,20080810,1041, 46.9998, -43.2327, 2952,   2001.3,   3.0314,  34.9113,2,-999.0000,9,    1.466,2,    0.711,2
  06M220080723,   A02,   391,  1,      7,      7,2,20080810,1041, 46.9998, -43.2327, 2952,   1817.1,   3.1106,  34.9098,2,-999.0000,9,    1.493,2,    0.701,2
  06M220080723,   A02,   391,  1,      8,      8,2,20080810,1041, 46.9998, -43.2327, 2952,   1597.9,   3.3185,  34.9074,2,-999.0000,9,    1.615,2,    0.754,2
  06M220080723,   A02,   391,  1,      9,      9,2,20080810,1041, 46.9998, -43.2327, 2952,   1397.1,   3.3906,  34.9068,2,  34.9079,2,    1.666,2,    0.805,2
  06M220080723,   A02,   391,  1,     10,     10,2,20080810,1041, 46.9998, -43.2327, 2952,   1391.2,   3.3925,  34.9073,2,-999.0000,9, -999.000,9,     -999,9
  06M220080723,   A02,   391,  1,     11,     11,2,20080810,1041, 46.9998, -43.2327, 2952,   1198.8,   3.5194,  34.9035,2,-999.0000,9,    1.765,2,    0.941,2
  06M220080723,   A02,   391,  1,     12,     12,2,20080810,1041, 46.9998, -43.2327, 2952,   1197.1,   3.5205,  34.9038,2,-999.0000,9, -999.000,9,     -999,9
  06M220080723,   A02,   391,  1,     13,     13,2,20080810,1041, 46.9998, -43.2327, 2952,   1099.7,   3.5531,  34.8959,2,-999.0000,9,    1.855,2,    1.039,2
  06M220080723,   A02,   391,  1,     14,     14,2,20080810,1041, 46.9998, -43.2327, 2952,   1097.8,   3.5525,  34.8958,2,-999.0000,9, -999.000,9,     -999,9
  06M220080723,   A02,   391,  1,     15,     15,2,20080810,1041, 46.9998, -43.2327, 2952,   1000.8,   3.5597,  34.8850,2,-999.0000,9,    2.077,2,     1.29,2
  06M220080723,   A02,   391,  1,     16,     16,2,20080810,1041, 46.9998, -43.2327, 2952,    998.6,   3.5601,  34.8853,2,-999.0000,9, -999.000,9,     -999,9
  06M220080723,   A02,   391,  1,     17,     17,2,20080810,1041, 46.9998, -43.2327, 2952,    848.1,   3.5597,  34.8737,2,-999.0000,9,    2.232,2,    1.487,2
  06M220080723,   A02,   391,  1,     18,     18,2,20080810,1041, 46.9998, -43.2327, 2952,    723.2,   3.5428,  34.8607,2,-999.0000,9,    2.329,2,     1.62,2
  06M220080723,   A02,   391,  1,     19,     19,2,20080810,1041, 46.9998, -43.2327, 2952,    551.2,   3.5897,  34.8576,2,-999.0000,9,    2.332,2,    1.669,2
  06M220080723,   A02,   391,  1,     20,     20,2,20080810,1041, 46.9998, -43.2327, 2952,    418.1,   3.6698,  34.8497,2,-999.0000,9,    2.379,2,    1.722,2
  06M220080723,   A02,   391,  1,     21,     21,2,20080810,1041, 46.9998, -43.2327, 2952,    252.0,   3.7079,  34.8173,2,-999.0000,9, -999.000,9,     -999,9