BOTTLE,20220921CCHSIOAMB
EXPOCODE,SECT_ID,STNNBR,CASTNO,SAMPNO,BTLNBR,BTLNBR_FLAG_W,DATE,TIME,LATITUDE,LONGITUDE,DEPTH,CTDPRS,CTDTMP,CTDSAL,CTDSAL_FLAG_W,SALNTY,SALNTY_FLAG_W,CFC-12,CFC-12_FLAG_W,SF6,SF6_FLAG_W
,,,,,,,,,,,METERS,DBAR,ITS-90,PSS-78,,PSS-78,,PMOL/KG,,FMOL/KG,
  06M220080723,   A02,   352,  1,      1,      1,2,20080731,2149, 50.3167, -34.1827, 3629,   3673.9,   2.4482,  34.9049,2,  34.9085,2,    0.981,2,    0.441,2
  06M220080723,   A02,   352,  1,      2,      2,2,20080731,2149, 50.3167, -34.1827, 3629,   3673.3,   2.4482,  34.9049,2,-999.0000,9, -999.000,9,     -999,9
  06M220080723,   A02,   352,  1,      3,      3,2,20080731,2149, 50.3167, -34.1827, 3629,   3629.4,   2.4633,  34.9057,2,-999.0000,9,    0.986,2,    0.446,2
  06M220080723,   A02,   352,  1,      4,      4,2,20080731,2149, 50.3167, -34.1827, 3629,   3456.5,   2.5569,  34.9107,2,-999.0000,9,    0.929,2,    0.418,2
  06M220080723,   A02,   352,  1,      5,      5,2,20080731,2149, 50.3167, -34.1827, 3629,   3273.8,   2.6943,  34.9195,2,  34.9233,2,    0.984,2,    0.437,2
  06M220080723,   A02,   352,  1,      6,      6,2,20080731,2149, 50.3167, -34.1827, 3629,   3061.9,   2.8859,  34.9259,2,-999.0000,9,    1.083,2,    0.488,2
  06M220080723,   A02,   352,  1,      7,      7,2,20080731,2149, 50.3167, -34.1827, 3629,   2854.0,   2.9684,  34.9198,2,-999.0000,9,    1.142,2,    0.513,2
  06M220080723,   A02,   352,  1,      8,      8,2,20080731,2149, 50.3167, -34.1827, 3629,   2632.2,   3.1050,  34.9180,2,-999.0000,9,    1.271,2,    0.558,2
  06M220080723,   A02,   352,  1,      9,      9,2,20080731,2149, 50.3167, -34.1827, 3629,   2437.1,   3.1917,  34.9101,2,-999.0000,9, -999.000,9,     -999,9
  06M220080723,   A02,   352,  1,     10,     10,2,20080731,2149, 50.3167, -34.1827, 3629,   2222.0,   3.2913,  34.9050,2,  34.9087,2,    1.333,2,    0.493,2
  06M220080723,   A02,   352,  1,     11,     11,2,20080731,2149, 50.3167, -34.1827, 3629,   2004.9,   3.4092,  34.9072,2,-999.0000,9,    1.406,2,     0.56,2
  06M220080723,   A02,   352,  1,     12,     12,2,20080731,2149, 50.3167, -34.1827, 3629,   1812.1,   3.5377,  34.9113,2,-999.0000,9, -999.000,9,     -999,9
  06M220080723,   A02,   352,  1,     13,     13,2,20080731,2149, 50.3167, -34.1827, 3629,   1613.6,   3.6720,  34.9116,2,-999.0000,9,    1.615,2,    0.749,2
  06M220080723,   A02,   352,  1,     14,     14,2,20080731,2149, 50.3167, -34.1827, 3629,   1503.8,   3.7380,  34.9116,2,-999.0000,9,    1.629,2,     0.79,2
  06M220080723,   A02,   352,  1,     15,     15,2,20080731,2149, 50.3167, -34.1827, 3629,   1423.6,   3.7899,  34.9110,2,-999.0000,9,    1.756,2,    0.901,2
  06M220080723,   A02,   352,  1,     16,     16,2,20080731,2149, 50.3167, -34.1827, 3629,   1240.3,   3.9480,  34.9136,2,-999.0000,9,    1.942,2,    1.181,2
  06M220080723,   A02,   352,  1,     17,     17,2,20080731,2149, 50.3167, -34.1827, 3629,   1013.8,   4.1780,  34.9146,2,-999.0000,9,    2.009,2,    1.304,2
  06M220080723,   A02,   352,  1,     18,     18,2,20080731,2149, 50.3167, -34.1827, 3629,    836.4,   4.6189,  34.9441,2,-999.0000,9,    2.020,2,    1.361,2
  06M220080723,   A02,   352,  1,     19,     19,2,20080731,2149, 50.3167, -34.1827, 3629,    609.3,   5.2841,  34.8937,2,-999.0000,9,    1.789,2,    1.259,2
  06M220080723,   A02,   352,  1,     20,     20,2,20080731,2149, 50.3167, -34.1827, 3629,    503.9,   6.4839,  34.9153,2,-999.0000,9,    1.661,2,    1.247,2
  06M220080723,   A02,   352,  1,     21,     21,2,20080731,2149, 50.3167, -34.1827, 3629,    201.3,  11.8537,  35.5389,2,-999.0000,9,    1.536,2,     1.31,2
  06M220080723,   A02,   352,  1,     22,     22,2,20080731,2149, 50.3167, -34.1827, 3629,     13.8,  14.6071,  34.8950,2,  34.8979,2,    1.696,2,    1.494,2
  06M220080723,   A02,   353,  1,      1,      1,2,20080801,0152, 50.5838, -34.4990, 4193,    206.4,   7.9184,  35.0338,2,-999.0000,9, -999.000,9,     -999,9
  06M220080723,   A02,   353,  1,      2,      2,2,20080801,0152, 50.5838, -34.4990, 4193,    206.2,   7.9323,  35.0318,2,-999.0000,9, -999.000,9,     -999,9
  06M220080723,   A02,   353,  1,      3,      3,2,20080801,0152, 50.5838, -34.4990, 4193,    206.0,   7.9526,  35.0336,2,-999.0000,9, -999.000,9,     -999,9
  06M220080723,   A02,   353,  1,      4,      4,2,20080801,0152, 50.5838, -34.4990, 4193,    206.0,   7.9526,  35.0336,2,-999.0000,9, -999.000,9,     -999,9
  06M220080723,   A02,   353,  1,      5,      5,2,20080801,0152, 50.5838, -34.4990, 4193,    205.9,   7.9636,  35.0356,2,-999.0000,9, -999.000,9,     -999,9
  06M220080723,   A02,   353,  1,      6,      6,2,20080801,0152, 50.5838, -34.4990, 4193,    205.9,   7.9636,  35.0356,2,-999.0000,9, -999.000,9,     -999,9
  06M220080723,   A02,   353,  1,      7,      7,2,20080801,0152, 50.5838, -34.4990, 4193,    205.9,   7.9636,  35.0356,2,-999.0000,9, -999.000,9,     -999,9
  06M220080723,   A02,   353,  1,      8,      8,2,20080801,0152, 50.5838, -34.4990, 4193,    205.9,   7.9695,  35.0372,2,-999.0000,9, -999.000,9,     -999,9
  06M220080723,   A02,   353,  1,      9,      9,2,20080801,0152, 50.5838, -34.4990, 4193,    205.8,   7.9785,  35.0361,2,-999.0000,9, -999.000,9,     -999,9
  06M220080723,   A02,   353,  1,     10,     10,2,20080801,0152, 50.5838, -34.4990, 4193,    205.6,   7.9983,  35.0414,2,-999.0000,9, -999.000,9,     -999,9
  06M220080723,   A02,   353,  1,     11,     11,2,20080801,0152, 50.5838, -34.4990, 4193,    203.8,   8.0506,  35.0472,2,-999.0000,9, -999.000,9,     -999,9
  06M220080723,   A02,   353,  1,     12,     12,2,20080801,0152, 50.5838, -34.4990, 4193,    202.6,   8.0836,  35.0509,2,-999.0000,9, -999.000,9,     -999,9
  06M220080723,   A02,   353,  1,     13,     13,2,20080801,0152, 50.5838, -34.4990, 4193,    202.7,   8.0799,  35.0496,2,-999.0000,9, -999.000,9,     -999,9
  06M220080723,   A02,   353,  1,     14,     14,2,20080801,0152, 50.5838, -34.4990, 4193,    202.8,   8.0755,  35.0497,2,-999.0000,9, -999.000,9,     -999,9
  06M220080723,   A02,   353,  1,     15,     15,2,20080801,0152, 50.5838, -34.4990, 4193,    201.9,   8.0829,  35.0492,2,-999.0000,9, -999.000,9,     -999,9
  06M220080723,   A02,   353,  1,     16,     16,2,20080801,0152, 50.5838, -34.4990, 4193,    192.1,   8.1490,  35.0414,2,-999.0000,9, -999.000,9,     -999,9
  06M220080723,   A02,   353,  1,     17,     17,2,20080801,0152, 50.5838, -34.4990, 4193,    189.5,   8.2358,  35.0503,2,-999.0000,9, -999.000,9,     -999,9
  06M220080723,   A02,   353,  1,     18,     18,2,20080801,0152, 50.5838, -34.4990, 4193,    189.2,   8.2519,  35.0541,2,-999.0000,9, -999.000,9,     -999,9
  06M220080723,   A02,   353,  1,     19,     19,2,20080801,0152, 50.5838, -34.4990, 4193,    190.0,   8.2237,  35.0499,2,-999.0000,9, -999.000,9,     -999,9
  06M220080723,   A02,   353,  1,     20,     20,2,20080801,0152, 50.5838, -34.4990, 4193,    189.4,   8.2427,  35.0517,2,-999.0000,9, -999.000,9,     -999,9
  06M220080723,   A02,   353,  1,     21,     21,2,20080801,0152, 50.5838, -34.4990, 4193,    188.8,   8.2758,  35.0555,2,-999.0000,9, -999.000,9,     -999,9
  06M220080723,   A02,   353,  1,     22,     22,2,20080801,0152, 50.5838, -34.4990, 4193,    189.1,   8.2585,  35.0544,2,-999.0000,9, -999.000,9,     -999,9
  06M220080723,   A02,   354,  1,      1,      1,2,20080801,0629, 50.8498, -34.8080, 3532,   3558.4,   2.3492,  34.9012,2,-999.0000,9,    1.052,2,     0.49,2
  06M220080723,   A02,   354,  1,      2,      2,2,20080801,0629, 50.8498, -34.8080, 3532,   3498.5,   2.3770,  34.9032,2,  34.9026,2,    1.062,2,    0.458,2
  06M220080723,   A02,   354,  1,      3,      3,2,20080801,0629, 50.8498, -34.8080, 3532,   3309.2,   2.5257,  34.9122,2,-999.0000,9,    0.989,2,    0.396,2
  06M220080723,   A02,   354,  1,      4,      4,2,20080801,0629, 50.8498, -34.8080, 3532,   3104.9,   2.7645,  34.9340,2,-999.0000,9,    1.052,2,    0.462,2
  06M220080723,   A02,   354,  1,      5,      5,2,20080801,0629, 50.8498, -34.8080, 3532,   2890.2,   2.9173,  34.9497,2,-999.0000,9,    1.233,2,    0.642,2
  06M220080723,   A02,   354,  1,      6,      6,2,20080801,0629, 50.8498, -34.8080, 3532,   2698.5,   2.9430,  34.9285,2,  34.9309,2,    1.176,2,    0.535,2
  06M220080723,   A02,   354,  1,      7,      7,2,20080801,0629, 50.8498, -34.8080, 3532,   2508.7,   3.0280,  34.9232,2,-999.0000,9,    1.227,2,    0.493,2
  06M220080723,   A02,   354,  1,      8,      8,2,20080801,0629, 50.8498, -34.8080, 3532,   2304.7,   3.1006,  34.9166,2,-999.0000,9,    1.261,2,     0.49,2
  06M220080723,   A02,   354,  1,      9,      9,2,20080801,0629, 50.8498, -34.8080, 3532,   2098.5,   3.2023,  34.9097,2,-999.0000,9,    1.340,2,     0.49,2
  06M220080723,   A02,   354,  1,     10,     10,2,20080801,0629, 50.8498, -34.8080, 3532,   1901.7,   3.3204,  34.9069,2,-999.0000,9,    1.473,2,    0.562,2
  06M220080723,   A02,   354,  1,     11,     11,2,20080801,0629, 50.8498, -34.8080, 3532,   1721.9,   3.4608,  34.9098,2,  34.9099,2,    1.539,2,    0.631,2
  06M220080723,   A02,   354,  1,     12,     12,2,20080801,0629, 50.8498, -34.8080, 3532,   1516.1,   3.5850,  34.9075,2,-999.0000,9,    1.653,2,    0.789,2
  06M220080723,   A02,   354,  1,     13,     13,2,20080801,0629, 50.8498, -34.8080, 3532,   1296.4,   3.6698,  34.9003,2,-999.0000,9,    1.878,2,    1.017,2
  06M220080723,   A02,   354,  1,     14,     14,2,20080801,0629, 50.8498, -34.8080, 3532,   1092.5,   3.7435,  34.8920,2,-999.0000,9,    2.072,2,    1.234,2
  06M220080723,   A02,   354,  1,     15,     15,2,20080801,0629, 50.8498, -34.8080, 3532,    857.7,   4.0554,  34.9097,2,  34.9050,2,    2.066,2,    1.323,2
  06M220080723,   A02,   354,  1,     16,     16,2,20080801,0629, 50.8498, -34.8080, 3532,    501.8,   4.6136,  34.9071,2,-999.0000,9,    1.992,2,    1.329,2
  06M220080723,   A02,   354,  1,     17,     17,2,20080801,0629, 50.8498, -34.8080, 3532,     29.6,  10.1872,  34.7628,2,-999.0000,9, -999.000,9,     -999,9
  06M220080723,   A02,   354,  1,     18,     18,2,20080801,0629, 50.8498, -34.8080, 3532,     28.9,  10.2252,  34.7552,2,-999.0000,9, -999.000,9,     -999,9
  06M220080723,   A02,   354,  1,     19,     19,2,20080801,0629, 50.8498, -34.8080, 3532,     14.3,  12.9334,  34.6499,2,-999.0000,9, -999.000,9,     -999,9
  06M220080723,   A02,   354,  1,     20,     20,2,20080801,0629, 50.8498, -34.8080, 3532,     14.1,  12.9422,  34.6568,2,-999.0000,9, -999.000,9,     -999,9
  06M220080723,   A02,   354,  1,     21,     21,2,20080801,0629, 50.8498, -34.8080, 3532,     14.0,  12.9708,  34.6563,2,-999.0000,9, -999.000,9,     -999,9
  06M220080723,   A02,   354,  1,     22,     22,2,20080801,0629, 50.8498, -34.8080, 3532,     14.1,  12.8944,  34.6580,2,-999.0000,9,    1.844,2,    1.633,2
  06M220080723,   A02,   355,  1,      1,      1,2,20080801,1016, 51.1248, -35.1247, 4085,   4137.4,   2.3071,  34.8961,2,  34.9012,2, -999.000,9,     -999,9
  06M220080723,   A02,   355,  1,      2,      2,2,20080801,1016, 51.1248, -35.1247, 4085,   3866.9,   2.3600,  34.9009,2,-999.0000,9,    1.103,2,    0.477,2
  06M220080723,   A02,   355,  1,      3,      3,2,20080801,1016, 51.1248, -35.1247, 4085,   3664.1,   2.4270,  34.9059,2,-999.0000,9, -999.000,9,     -999,9
  06M220080723,   A02,   355,  1,      4,      4,2,20080801,1016, 51.1248, -35.1247, 4085,   3454.0,   2.5724,  34.9189,2,-999.0000,9,    1.051,2,    0.459,2
  06M220080723,   A02,   355,  1,      5,      5,2,20080801,1016, 51.1248, -35.1247, 4085,   3251.0,   2.6477,  34.9282,2,-999.0000,9,    1.097,2,    0.541,2
  06M220080723,   A02,   355,  1,      6,      6,2,20080801,1016, 51.1248, -35.1247, 4085,   3048.1,   2.7511,  34.9378,2,  34.9390,2, -999.000,9,     -999,9
  06M220080723,   A02,   355,  1,      7,      7,2,20080801,1016, 51.1248, -35.1247, 4085,   2843.4,   2.8418,  34.9394,2,-999.0000,9,    1.164,2,    0.619,2
  06M220080723,   A02,   355,  1,      8,      8,2,20080801,1016, 51.1248, -35.1247, 4085,   2638.5,   2.9244,  34.9365,2,-999.0000,9, -999.000,9,     -999,9
  06M220080723,   A02,   355,  1,      9,      9,2,20080801,1016, 51.1248, -35.1247, 4085,   2433.0,   3.0010,  34.9323,2,-999.0000,9,    1.236,2,    0.574,2
  06M220080723,   A02,   355,  1,     10,     10,2,20080801,1016, 51.1248, -35.1247, 4085,   2218.0,   3.0889,  34.9301,2,-999.0000,9, -999.000,9,     -999,9
  06M220080723,   A02,   355,  1,     11,     11,2,20080801,1016, 51.1248, -35.1247, 4085,   2025.4,   3.1698,  34.9251,2,  34.9264,2,    1.366,2,    0.613,2
  06M220080723,   A02,   355,  1,     12,     12,2,20080801,1016, 51.1248, -35.1247, 4085,   1834.6,   3.2836,  34.9187,2,-999.0000,9, -999.000,9,     -999,9
  06M220080723,   A02,   355,  1,     13,     13,2,20080801,1016, 51.1248, -35.1247, 4085,   1618.3,   3.3128,  34.9073,2,-999.0000,9,    1.412,2,    0.567,2
  06M220080723,   A02,   355,  1,     14,     14,2,20080801,1016, 51.1248, -35.1247, 4085,   1513.6,   3.4532,  34.9215,2,-999.0000,9, -999.000,9,     -999,9
  06M220080723,   A02,   355,  1,     15,     15,2,20080801,1016, 51.1248, -35.1247, 4085,   1414.9,   3.5228,  34.9220,2,-999.0000,9,    1.581,2,    0.741,2
  06M220080723,   A02,   355,  1,     16,     16,2,20080801,1016, 51.1248, -35.1247, 4085,   1299.3,   3.5953,  34.9176,2,-999.0000,9, -999.000,9,     -999,9
  06M220080723,   A02,   355,  1,     17,     17,2,20080801,1016, 51.1248, -35.1247, 4085,   1212.6,   3.6736,  34.9165,2,-999.0000,9,    1.729,2,    0.839,2
  06M220080723,   A02,   355,  1,     18,     18,2,20080801,1016, 51.1248, -35.1247, 4085,    998.8,   3.8003,  34.9114,2,-999.0000,9,    1.857,2,    0.992,2
  06M220080723,   A02,   355,  1,     19,     19,2,20080801,1016, 51.1248, -35.1247, 4085,    705.0,   4.2842,  34.9369,2,  34.9339,2,    1.884,6,    1.057,6
  06M220080723,   A02,   355,  1,     20,     20,2,20080801,1016, 51.1248, -35.1247, 4085,    502.7,   4.5479,  34.9197,2,-999.0000,9, -999.000,9,     -999,9
  06M220080723,   A02,   355,  1,     21,     21,2,20080801,1016, 51.1248, -35.1247, 4085,     10.2,  13.1244,  34.7071,2,-999.0000,9, -999.000,9,     -999,9
  06M220080723,   A02,   355,  1,     22,     22,2,20080801,1016, 51.1248, -35.1247, 4085,     10.0,  13.1361,  34.7074,2,  34.7117,2,    1.806,6,    1.605,6
  06M220080723,   A02,   356,  1,      1,      1,2,20080801,2225, 51.4268, -35.4372, 3621,   3656.6,   2.5595,  34.9159,2,  34.9191,2,    1.077,2,    0.543,2
  06M220080723,   A02,   356,  1,      2,      2,2,20080801,2225, 51.4268, -35.4372, 3621,   3559.7,   2.6277,  34.9236,2,-999.0000,9,    1.081,2,    0.541,2
  06M220080723,   A02,   356,  1,      3,      3,2,20080801,2225, 51.4268, -35.4372, 3621,   3456.8,   2.6757,  34.9294,2,-999.0000,9,    1.084,2,    0.541,2
  06M220080723,   A02,   356,  1,      4,      4,2,20080801,2225, 51.4268, -35.4372, 3621,   3354.8,   2.6908,  34.9318,2,-999.0000,9,    1.108,2,    0.562,2
  06M220080723,   A02,   356,  1,      5,      5,2,20080801,2225, 51.4268, -35.4372, 3621,   3151.6,   2.7243,  34.9355,2,-999.0000,9,    1.122,2,    0.571,2
  06M220080723,   A02,   356,  1,      6,      6,2,20080801,2225, 51.4268, -35.4372, 3621,   2944.3,   2.8353,  34.9444,2,-999.0000,9,    1.162,2,    0.643,2
  06M220080723,   A02,   356,  1,      7,      7,2,20080801,2225, 51.4268, -35.4372, 3621,   2739.9,   2.9436,  34.9470,2,  34.9475,2,    1.225,2,    0.651,2
  06M220080723,   A02,   356,  1,      8,      8,2,20080801,2225, 51.4268, -35.4372, 3621,   2536.9,   2.9873,  34.9354,2,-999.0000,9, -999.000,9,     -999,9
  06M220080723,   A02,   356,  1,      9,      9,2,20080801,2225, 51.4268, -35.4372, 3621,   2332.3,   3.0565,  34.9245,2,-999.0000,9, -999.000,9,     -999,9
  06M220080723,   A02,   356,  1,     10,     10,2,20080801,2225, 51.4268, -35.4372, 3621,   2330.1,   3.0565,  34.9240,2,-999.0000,9, -999.000,9,     -999,9
  06M220080723,   A02,   356,  1,     11,     11,2,20080801,2225, 51.4268, -35.4372, 3621,   2129.2,   3.1438,  34.9146,2,-999.0000,9,    1.307,2,    0.555,2
  06M220080723,   A02,   356,  1,     12,     12,2,20080801,2225, 51.4268, -35.4372, 3621,   2126.7,   3.1451,  34.9144,2,-999.0000,9, -999.000,9,     -999,9
  06M220080723,   A02,   356,  1,     13,     13,2,20080801,2225, 51.4268, -35.4372, 3621,   1947.4,   3.2353,  34.9114,2,-999.0000,9,    1.360,2,     0.58,2
  06M220080723,   A02,   356,  1,     14,     14,2,20080801,2225, 51.4268, -35.4372, 3621,   1729.7,   3.3522,  34.9087,2,  34.9083,2,    1.463,2,    0.621,2
  06M220080723,   A02,   356,  1,     15,     15,2,20080801,2225, 51.4268, -35.4372, 3621,   1519.1,   3.4813,  34.9099,2,-999.0000,9,    1.549,2,    0.678,2
  06M220080723,   A02,   356,  1,     16,     16,2,20080801,2225, 51.4268, -35.4372, 3621,   1301.6,   3.6341,  34.9102,2,-999.0000,9,    1.677,2,    0.819,2
  06M220080723,   A02,   356,  1,     17,     17,2,20080801,2225, 51.4268, -35.4372, 3621,   1106.9,   3.6970,  34.9008,2,-999.0000,9,    1.881,2,    1.015,2
  06M220080723,   A02,   356,  1,     18,     18,2,20080801,2225, 51.4268, -35.4372, 3621,   1007.7,   3.7444,  34.9006,2,-999.0000,9,    1.973,2,    1.134,2
  06M220080723,   A02,   356,  1,     19,     19,2,20080801,2225, 51.4268, -35.4372, 3621,    919.5,   3.8238,  34.9045,2,-999.0000,9,    1.990,2,    1.188,2
  06M220080723,   A02,   356,  1,     20,     20,2,20080801,2225, 51.4268, -35.4372, 3621,    703.1,   4.0295,  34.9081,2,-999.0000,9,    2.038,2,    1.273,2
  06M220080723,   A02,   356,  1,     21,     21,2,20080801,2225, 51.4268, -35.4372, 3621,    397.4,   4.6981,  34.9132,2,  34.9162,2,    1.913,2,    1.257,2
  06M220080723,   A02,   356,  1,     22,     22,2,20080801,2225, 51.4268, -35.4372, 3621,     10.0,  12.8808,  34.6842,2,-999.0000,9,    1.865,2,    1.624,2