BOTTLE,20220921CCHSIOAMB
EXPOCODE,SECT_ID,STNNBR,CASTNO,SAMPNO,BTLNBR,BTLNBR_FLAG_W,DATE,TIME,LATITUDE,LONGITUDE,DEPTH,CTDPRS,CTDTMP,CTDSAL,CTDSAL_FLAG_W,SALNTY,SALNTY_FLAG_W,CFC-12,CFC-12_FLAG_W,SF6,SF6_FLAG_W
,,,,,,,,,,,METERS,DBAR,ITS-90,PSS-78,,PSS-78,,PMOL/KG,,FMOL/KG,
  06M220080723,   A02,   363,  1,      1,      1,2,20080804,1509, 46.9420, -29.8417, 3211,   3265.5,   2.8583,  34.9180,2,  34.9181,2,    0.980,2,    0.392,2
  06M220080723,   A02,   363,  1,      2,      2,2,20080804,1509, 46.9420, -29.8417, 3211,   3109.9,   2.9463,  34.9188,2,-999.0000,9,    1.015,6,    0.426,6
  06M220080723,   A02,   363,  1,      3,      3,2,20080804,1509, 46.9420, -29.8417, 3211,   3103.0,   2.9484,  34.9184,2,-999.0000,9,    1.030,6,    0.418,6
  06M220080723,   A02,   363,  1,      4,      4,2,20080804,1509, 46.9420, -29.8417, 3211,   2999.5,   2.9670,  34.9187,2,-999.0000,9, -999.000,9,     -999,9
  06M220080723,   A02,   363,  1,      5,      5,2,20080804,1509, 46.9420, -29.8417, 3211,   2897.7,   3.0337,  34.9167,2,-999.0000,9,    1.070,2,    0.413,2
  06M220080723,   A02,   363,  1,      6,      6,2,20080804,1509, 46.9420, -29.8417, 3211,   2697.9,   3.1246,  34.9142,2,-999.0000,9,    1.111,2,    0.426,2
  06M220080723,   A02,   363,  1,      7,      7,2,20080804,1509, 46.9420, -29.8417, 3211,   2499.4,   3.2212,  34.9101,2,-999.0000,9,    1.214,2,     0.46,2
  06M220080723,   A02,   363,  1,      8,      8,2,20080804,1509, 46.9420, -29.8417, 3211,   2302.7,   3.3204,  34.9045,2,-999.0000,9,    1.325,2,     0.53,2
  06M220080723,   A02,   363,  1,      9,      9,2,20080804,1509, 46.9420, -29.8417, 3211,   2097.6,   3.4511,  34.9076,2,  34.9089,2,    1.404,2,     0.59,2
  06M220080723,   A02,   363,  1,     10,     10,2,20080804,1509, 46.9420, -29.8417, 3211,   1889.8,   3.5985,  34.9113,2,-999.0000,9,    1.598,2,    0.761,2
  06M220080723,   A02,   363,  1,     11,     11,2,20080804,1509, 46.9420, -29.8417, 3211,   1691.2,   3.6946,  34.9089,2,-999.0000,9,    1.633,2,     0.79,2
  06M220080723,   A02,   363,  1,     12,     12,2,20080804,1509, 46.9420, -29.8417, 3211,   1594.6,   3.7562,  34.9089,2,-999.0000,9,    1.758,2,    0.892,2
  06M220080723,   A02,   363,  1,     13,     13,2,20080804,1509, 46.9420, -29.8417, 3211,   1500.1,   3.8849,  34.9182,2,-999.0000,9,    1.746,2,    0.901,2
  06M220080723,   A02,   363,  1,     14,     14,2,20080804,1509, 46.9420, -29.8417, 3211,   1402.3,   4.1206,  34.9360,2,-999.0000,9,    1.739,2,    0.929,2
  06M220080723,   A02,   363,  1,     15,     15,2,20080804,1509, 46.9420, -29.8417, 3211,   1299.2,   4.2695,  34.9390,2,-999.0000,9, -999.000,9,     -999,9
  06M220080723,   A02,   363,  1,     16,     16,2,20080804,1509, 46.9420, -29.8417, 3211,   1200.9,   4.3956,  34.9307,2,-999.0000,9,    1.893,2,    1.169,2
  06M220080723,   A02,   363,  1,     17,     17,2,20080804,1509, 46.9420, -29.8417, 3211,   1127.3,   4.7473,  34.9601,2,-999.0000,9, -999.000,9,     -999,9
  06M220080723,   A02,   363,  1,     18,     18,2,20080804,1509, 46.9420, -29.8417, 3211,   1025.8,   5.2011,  34.9989,2,-999.0000,9,    1.534,2,    0.879,2
  06M220080723,   A02,   363,  1,     19,     19,2,20080804,1509, 46.9420, -29.8417, 3211,    908.7,   5.5784,  34.9866,2,-999.0000,9,    1.531,2,    0.957,2
  06M220080723,   A02,   363,  1,     20,     20,2,20080804,1509, 46.9420, -29.8417, 3211,    700.3,   8.5506,  35.1847,2,-999.0000,9,    1.194,6,    0.769,6
  06M220080723,   A02,   363,  1,     21,     21,2,20080804,1509, 46.9420, -29.8417, 3211,    399.8,  12.2026,  35.6209,2,-999.0000,9,    1.538,2,    1.268,2
  06M220080723,   A02,   363,  1,     22,     22,2,20080804,1509, 46.9420, -29.8417, 3211,     14.3,  16.8574,  35.6135,2,  35.6141,2,    1.498,2,    1.358,2
  06M220080723,   A02,   364,  1,      1,      1,2,20080804,1957, 46.6003, -29.1923, 2744,   2759.7,   3.0484,  34.9203,2,  34.9217,2, -999.000,9,     -999,9
  06M220080723,   A02,   364,  1,      2,      2,2,20080804,1957, 46.6003, -29.1923, 2744,   2597.3,   3.2316,  34.9129,2,-999.0000,9,    1.172,2,    0.454,2
  06M220080723,   A02,   364,  1,      3,      3,2,20080804,1957, 46.6003, -29.1923, 2744,   2414.8,   3.3027,  34.9094,2,-999.0000,9,    1.252,2,     0.49,2
  06M220080723,   A02,   364,  1,      4,      4,2,20080804,1957, 46.6003, -29.1923, 2744,   2218.3,   3.3895,  34.9091,2,-999.0000,9,    1.331,2,    0.527,2
  06M220080723,   A02,   364,  1,      5,      5,2,20080804,1957, 46.6003, -29.1923, 2744,   2004.4,   3.5081,  34.9097,2,-999.0000,9,    1.395,2,    0.574,2
  06M220080723,   A02,   364,  1,      6,      6,2,20080804,1957, 46.6003, -29.1923, 2744,   1829.9,   3.6388,  34.9097,2,  34.9130,2,    1.516,2,    0.698,2
  06M220080723,   A02,   364,  1,      7,      7,2,20080804,1957, 46.6003, -29.1923, 2744,   1624.3,   3.7577,  34.9038,2,-999.0000,9,    1.732,2,    0.907,2
  06M220080723,   A02,   364,  1,      8,      8,2,20080804,1957, 46.6003, -29.1923, 2744,   1526.0,   3.8003,  34.9034,2,-999.0000,9,    1.831,2,    1.002,2
  06M220080723,   A02,   364,  1,      9,      9,2,20080804,1957, 46.6003, -29.1923, 2744,   1444.6,   3.8887,  34.9076,2,-999.0000,9,    1.928,2,    1.059,2
  06M220080723,   A02,   364,  1,     10,     10,2,20080804,1957, 46.6003, -29.1923, 2744,   1243.3,   4.0918,  34.9174,2,-999.0000,9,    1.911,2,    1.088,2
  06M220080723,   A02,   364,  1,     11,     11,2,20080804,1957, 46.6003, -29.1923, 2744,   1127.5,   4.2885,  34.9311,2,-999.0000,9,    1.897,2,    1.115,2
  06M220080723,   A02,   364,  1,     12,     12,2,20080804,1957, 46.6003, -29.1923, 2744,   1017.8,   4.6272,  34.9591,2,-999.0000,9,    1.788,2,    1.059,2
  06M220080723,   A02,   364,  1,     13,     13,2,20080804,1957, 46.6003, -29.1923, 2744,    913.5,   5.2461,  35.0111,2,-999.0000,9,    1.583,2,    0.917,2
  06M220080723,   A02,   364,  1,     14,     14,2,20080804,1957, 46.6003, -29.1923, 2744,    650.6,   7.7757,  35.0675,2,-999.0000,9,    1.308,2,    0.942,2
  06M220080723,   A02,   364,  1,     15,     15,2,20080804,1957, 46.6003, -29.1923, 2744,    319.3,  11.8176,  35.5920,2,-999.0000,9,    1.676,2,    1.428,2
  06M220080723,   A02,   364,  1,     16,     16,2,20080804,1957, 46.6003, -29.1923, 2744,     41.5,  15.3061,  35.6239,2,-999.0000,9, -999.000,9,     -999,9
  06M220080723,   A02,   364,  1,     17,     17,2,20080804,1957, 46.6003, -29.1923, 2744,     40.7,  15.3880,  35.6164,2,-999.0000,9, -999.000,9,     -999,9
  06M220080723,   A02,   364,  1,     18,     18,2,20080804,1957, 46.6003, -29.1923, 2744,     39.6,  15.8418,  35.5906,2,-999.0000,9, -999.000,9,     -999,9
  06M220080723,   A02,   364,  1,     19,     19,2,20080804,1957, 46.6003, -29.1923, 2744,     21.9,  16.3474,  35.5678,2,-999.0000,9, -999.000,9,     -999,9
  06M220080723,   A02,   364,  1,     20,     20,2,20080804,1957, 46.6003, -29.1923, 2744,     21.7,  16.3461,  35.5678,2,-999.0000,9, -999.000,9,     -999,9
  06M220080723,   A02,   364,  1,     21,     21,2,20080804,1957, 46.6003, -29.1923, 2744,     20.1,  16.3471,  35.5676,2,-999.0000,9, -999.000,9,     -999,9
  06M220080723,   A02,   364,  1,     22,     22,2,20080804,1957, 46.6003, -29.1923, 2744,     13.7,  16.4779,  35.5609,2,  35.5604,2,    1.525,2,    1.399,2
  06M220080723,   A02,   366,  1,      1,      1,2,20080805,0641, 46.5915, -30.2330, 3474,   3523.3,   2.7375,  34.9146,2,  34.9195,2,    0.960,2,    0.394,2
  06M220080723,   A02,   366,  1,      2,      2,2,20080805,0641, 46.5915, -30.2330, 3474,   3197.7,   2.8056,  34.9167,2,-999.0000,9,    0.970,6,    0.389,6
  06M220080723,   A02,   366,  1,      3,      3,2,20080805,0641, 46.5915, -30.2330, 3474,   3097.4,   2.8326,  34.9169,2,-999.0000,9,    0.985,2,    0.384,2
  06M220080723,   A02,   366,  1,      4,      4,2,20080805,0641, 46.5915, -30.2330, 3474,   2903.4,   2.9662,  34.9179,2,-999.0000,9,    1.009,2,    0.386,2
  06M220080723,   A02,   366,  1,      5,      5,2,20080805,0641, 46.5915, -30.2330, 3474,   2702.8,   3.1009,  34.9166,2,  34.9215,2,    1.070,2,    0.403,2
  06M220080723,   A02,   366,  1,      6,      6,2,20080805,0641, 46.5915, -30.2330, 3474,   2507.9,   3.2304,  34.9125,2,-999.0000,9,    1.153,2,    0.423,2
  06M220080723,   A02,   366,  1,      7,      7,2,20080805,0641, 46.5915, -30.2330, 3474,   2403.9,   3.2948,  34.9139,2,-999.0000,9,    1.178,2,     0.44,2
  06M220080723,   A02,   366,  1,      8,      8,2,20080805,0641, 46.5915, -30.2330, 3474,   2327.9,   3.3380,  34.9143,2,-999.0000,9,    1.195,2,    0.459,2
  06M220080723,   A02,   366,  1,      9,      9,2,20080805,0641, 46.5915, -30.2330, 3474,   2130.8,   3.4022,  34.9087,2,-999.0000,9,    1.270,2,    0.493,2
  06M220080723,   A02,   366,  1,     10,     10,2,20080805,0641, 46.5915, -30.2330, 3474,   1929.8,   3.5459,  34.9122,2,-999.0000,9,    1.412,2,    0.576,2
  06M220080723,   A02,   366,  1,     11,     11,2,20080805,0641, 46.5915, -30.2330, 3474,   1719.2,   3.6910,  34.9124,2,  34.9168,2,    1.578,2,    0.722,2
  06M220080723,   A02,   366,  1,     12,     12,2,20080805,0641, 46.5915, -30.2330, 3474,   1584.4,   3.7801,  34.9119,2,-999.0000,9,    1.631,2,     0.82,2
  06M220080723,   A02,   366,  1,     13,     13,2,20080805,0641, 46.5915, -30.2330, 3474,   1492.6,   3.8968,  34.9206,2,-999.0000,9,    1.712,2,    0.872,2
  06M220080723,   A02,   366,  1,     14,     14,2,20080805,0641, 46.5915, -30.2330, 3474,   1370.1,   4.0373,  34.9278,2,-999.0000,9,    1.760,2,    0.929,2
  06M220080723,   A02,   366,  1,     15,     15,2,20080805,0641, 46.5915, -30.2330, 3474,   1271.9,   4.2482,  34.9458,2,-999.0000,9,    1.741,2,    0.954,2
  06M220080723,   A02,   366,  1,     16,     16,2,20080805,0641, 46.5915, -30.2330, 3474,   1071.1,   4.8194,  34.9885,2,-999.0000,9,    1.694,2,    0.973,2
  06M220080723,   A02,   366,  1,     17,     17,2,20080805,0641, 46.5915, -30.2330, 3474,    888.9,   5.9189,  35.0304,2,-999.0000,9,    1.414,2,     0.81,2
  06M220080723,   A02,   366,  1,     18,     18,2,20080805,0641, 46.5915, -30.2330, 3474,    703.0,   7.5969,  35.0250,2,-999.0000,9, -999.000,9,     -999,9
  06M220080723,   A02,   366,  1,     19,     19,2,20080805,0641, 46.5915, -30.2330, 3474,    612.9,   9.5032,  35.2408,2,-999.0000,9,    1.294,2,        1,2
  06M220080723,   A02,   366,  1,     20,     20,2,20080805,0641, 46.5915, -30.2330, 3474,    428.6,  11.9837,  35.5918,2,-999.0000,9, -999.000,9,     -999,9
  06M220080723,   A02,   366,  1,     21,     21,2,20080805,0641, 46.5915, -30.2330, 3474,    194.3,  13.3075,  35.8086,2,-999.0000,9, -999.000,9,     -999,9
  06M220080723,   A02,   366,  1,     22,     22,2,20080805,0641, 46.5915, -30.2330, 3474,     13.7,  17.5512,  35.7471,2,  35.7464,2,    1.427,2,    1.327,2
  06M220080723,   A02,   367,  1,      1,      1,2,20080805,1031, 46.5830, -30.7753, 3353,   3407.3,   2.6973,  34.9132,2,  34.9148,2,    0.949,2,    0.366,2
  06M220080723,   A02,   367,  1,      2,      2,2,20080805,1031, 46.5830, -30.7753, 3353,   3250.0,   2.7620,  34.9153,2,-999.0000,9,    0.947,2,     0.38,2
  06M220080723,   A02,   367,  1,      3,      3,2,20080805,1031, 46.5830, -30.7753, 3353,   3001.8,   2.8966,  34.9175,2,-999.0000,9,    1.303,2,    0.519,2
  06M220080723,   A02,   367,  1,      4,      4,2,20080805,1031, 46.5830, -30.7753, 3353,   2799.2,   2.9838,  34.9167,2,-999.0000,9,    1.272,2,    0.502,2
  06M220080723,   A02,   367,  1,      5,      5,2,20080805,1031, 46.5830, -30.7753, 3353,   2602.5,   3.1161,  34.9143,2,  34.9152,2,    1.156,2,    0.419,2
  06M220080723,   A02,   367,  1,      6,      6,2,20080805,1031, 46.5830, -30.7753, 3353,   2393.2,   3.2422,  34.9119,2,-999.0000,9,    1.083,2,    0.404,2
  06M220080723,   A02,   367,  1,      7,      7,2,20080805,1031, 46.5830, -30.7753, 3353,   1976.0,   3.5226,  34.9197,2,-999.0000,9,    1.016,3,    0.378,3
  06M220080723,   A02,   367,  1,      8,      8,2,20080805,1031, 46.5830, -30.7753, 3353,   1900.6,   3.5678,  34.9203,2,-999.0000,9,    0.980,3,    0.363,3
  06M220080723,   A02,   367,  1,      9,      9,2,20080805,1031, 46.5830, -30.7753, 3353,   1804.1,   3.6393,  34.9227,2,-999.0000,9,    1.355,2,    0.509,2
  06M220080723,   A02,   367,  1,     10,     10,2,20080805,1031, 46.5830, -30.7753, 3353,   1597.9,   3.7763,  34.9206,2,-999.0000,9, -999.000,9,     -999,9
  06M220080723,   A02,   367,  1,     11,     11,2,20080805,1031, 46.5830, -30.7753, 3353,   1500.1,   3.9919,  34.9435,2,  34.9449,2,    1.511,2,    0.671,2
  06M220080723,   A02,   367,  1,     12,     12,2,20080805,1031, 46.5830, -30.7753, 3353,   1400.5,   4.1642,  34.9555,2,-999.0000,9,    1.545,2,    0.678,2
  06M220080723,   A02,   367,  1,     13,     13,2,20080805,1031, 46.5830, -30.7753, 3353,   1334.0,   4.1584,  34.9389,2,-999.0000,9, -999.000,9,     -999,9
  06M220080723,   A02,   367,  1,     14,     14,2,20080805,1031, 46.5830, -30.7753, 3353,   1214.0,   4.2648,  34.9338,2,-999.0000,9,    1.786,2,    0.971,2
  06M220080723,   A02,   367,  1,     15,     15,2,20080805,1031, 46.5830, -30.7753, 3353,   1130.6,   4.5165,  34.9564,2,-999.0000,9,    1.767,2,    0.957,2
  06M220080723,   A02,   367,  1,     16,     16,2,20080805,1031, 46.5830, -30.7753, 3353,    999.1,   5.2684,  35.0323,2,-999.0000,9,    1.529,2,    0.827,2
  06M220080723,   A02,   367,  1,     17,     17,2,20080805,1031, 46.5830, -30.7753, 3353,    894.8,   6.0162,  35.0532,2,-999.0000,9,    1.389,2,    0.731,2
  06M220080723,   A02,   367,  1,     18,     18,2,20080805,1031, 46.5830, -30.7753, 3353,    797.0,   7.0273,  35.1106,2,  35.1134,2,    1.193,2,     0.63,2
  06M220080723,   A02,   367,  1,     19,     19,2,20080805,1031, 46.5830, -30.7753, 3353,    700.4,   8.0667,  35.1493,2,-999.0000,9, -999.000,9,     -999,9
  06M220080723,   A02,   367,  1,     20,     20,2,20080805,1031, 46.5830, -30.7753, 3353,    606.4,   9.1430,  35.1947,2,-999.0000,9,    1.396,2,    1.056,2
  06M220080723,   A02,   367,  1,     21,     21,2,20080805,1031, 46.5830, -30.7753, 3353,    302.9,  12.9916,  35.7480,2,-999.0000,9,    1.605,2,    1.337,2
  06M220080723,   A02,   367,  1,     22,     22,2,20080805,1031, 46.5830, -30.7753, 3353,     14.0,  18.4365,  35.7970,2,  35.8021,2,    1.362,2,    1.229,2
  06M220080723,   A02,   368,  1,      1,      1,2,20080805,1516, 46.5738, -31.5598, 3736,   3793.9,   2.4539,  34.9043,2,-999.0000,9, -999.000,9,     -999,9
  06M220080723,   A02,   368,  1,      2,      2,2,20080805,1516, 46.5738, -31.5598, 3736,   3792.8,   2.4516,  34.9037,2,-999.0000,9, -999.000,9,     -999,9
  06M220080723,   A02,   368,  1,      3,      3,2,20080805,1516, 46.5738, -31.5598, 3736,   3791.2,   2.4546,  34.9037,2,-999.0000,9, -999.000,9,     -999,9
  06M220080723,   A02,   368,  1,      4,      4,2,20080805,1516, 46.5738, -31.5598, 3736,   3027.6,   2.8758,  34.9171,2,-999.0000,9, -999.000,9,     -999,9
  06M220080723,   A02,   368,  1,      5,      5,2,20080805,1516, 46.5738, -31.5598, 3736,   3026.2,   2.8761,  34.9169,2,-999.0000,9, -999.000,9,     -999,9
  06M220080723,   A02,   368,  1,      6,      6,2,20080805,1516, 46.5738, -31.5598, 3736,   3024.9,   2.8765,  34.9171,2,-999.0000,9, -999.000,9,     -999,9
  06M220080723,   A02,   368,  1,      7,      7,2,20080805,1516, 46.5738, -31.5598, 3736,   3023.0,   2.8799,  34.9170,2,-999.0000,9, -999.000,9,     -999,9
  06M220080723,   A02,   368,  1,      8,      8,2,20080805,1516, 46.5738, -31.5598, 3736,   3019.8,   2.8845,  34.9164,2,-999.0000,9, -999.000,9,     -999,9
  06M220080723,   A02,   368,  1,      9,      9,2,20080805,1516, 46.5738, -31.5598, 3736,   3017.2,   2.8879,  34.9163,2,-999.0000,9, -999.000,9,     -999,9
  06M220080723,   A02,   368,  1,     10,     10,2,20080805,1516, 46.5738, -31.5598, 3736,   3013.0,   2.8886,  34.9163,2,-999.0000,9, -999.000,9,     -999,9
  06M220080723,   A02,   368,  1,     11,     11,2,20080805,1516, 46.5738, -31.5598, 3736,   3007.6,   2.8917,  34.9162,2,-999.0000,9, -999.000,9,     -999,9
  06M220080723,   A02,   368,  1,     12,     12,2,20080805,1516, 46.5738, -31.5598, 3736,    188.0,  13.6377,  35.8480,2,-999.0000,9, -999.000,9,     -999,9
  06M220080723,   A02,   368,  1,     13,     13,2,20080805,1516, 46.5738, -31.5598, 3736,     60.6,  14.6614,  35.8479,2,-999.0000,9, -999.000,9,     -999,9
  06M220080723,   A02,   368,  1,     14,     14,2,20080805,1516, 46.5738, -31.5598, 3736,     59.9,  14.6680,  35.8417,2,-999.0000,9, -999.000,9,     -999,9
  06M220080723,   A02,   368,  1,     15,     15,2,20080805,1516, 46.5738, -31.5598, 3736,     59.0,  14.6515,  35.8347,2,-999.0000,9, -999.000,9,     -999,9
  06M220080723,   A02,   368,  1,     16,     16,2,20080805,1516, 46.5738, -31.5598, 3736,     41.3,  14.7584,  35.7575,2,-999.0000,9, -999.000,9,     -999,9
  06M220080723,   A02,   368,  1,     17,     17,2,20080805,1516, 46.5738, -31.5598, 3736,     41.0,  14.7542,  35.7585,2,-999.0000,9, -999.000,9,     -999,9
  06M220080723,   A02,   368,  1,     18,     18,2,20080805,1516, 46.5738, -31.5598, 3736,     40.2,  14.7645,  35.7590,2,-999.0000,9, -999.000,9,     -999,9
  06M220080723,   A02,   368,  1,     19,     19,2,20080805,1516, 46.5738, -31.5598, 3736,     25.8,  16.6251,  35.7172,2,-999.0000,9, -999.000,9,     -999,9
  06M220080723,   A02,   368,  1,     20,     20,2,20080805,1516, 46.5738, -31.5598, 3736,     24.8,  17.4588,  35.6800,2,-999.0000,9, -999.000,9,     -999,9
  06M220080723,   A02,   368,  1,     21,     21,2,20080805,1516, 46.5738, -31.5598, 3736,     23.8,  17.6983,  35.6759,2,-999.0000,9, -999.000,9,     -999,9
  06M220080723,   A02,   368,  1,     22,     22,2,20080805,1516, 46.5738, -31.5598, 3736,     14.8,  17.9542,  35.6742,2,-999.0000,9, -999.000,9,     -999,9