BOTTLE,20220921CCHSIOAMB
EXPOCODE,SECT_ID,STNNBR,CASTNO,SAMPNO,BTLNBR,BTLNBR_FLAG_W,DATE,TIME,LATITUDE,LONGITUDE,DEPTH,CTDPRS,CTDTMP,CTDSAL,CTDSAL_FLAG_W,SALNTY,SALNTY_FLAG_W,CFC-12,CFC-12_FLAG_W,SF6,SF6_FLAG_W
,,,,,,,,,,,METERS,DBAR,ITS-90,PSS-78,,PSS-78,,PMOL/KG,,FMOL/KG,
  06M220080723,   A02,   404,  1,      1,      1,2,20080814,1522, 48.4102, -44.9060,  703,    701.5,   3.8509,  34.8849,2,  34.8851,2, -999.000,9,     -999,9
  06M220080723,   A02,   404,  1,      2,      2,2,20080814,1522, 48.4102, -44.9060,  703,    701.5,   3.8515,  34.8853,2,-999.0000,9,    2.221,2,    1.436,2
  06M220080723,   A02,   404,  1,      3,      3,2,20080814,1522, 48.4102, -44.9060,  703,    701.2,   3.8495,  34.8857,2,-999.0000,9, -999.000,9,     -999,9
  06M220080723,   A02,   404,  1,      4,      4,2,20080814,1522, 48.4102, -44.9060,  703,    598.7,   3.9446,  34.8821,2,-999.0000,9, -999.000,9,     -999,9
  06M220080723,   A02,   404,  1,      5,      5,2,20080814,1522, 48.4102, -44.9060,  703,    597.4,   3.9451,  34.8821,2,-999.0000,9, -999.000,9,     -999,9
  06M220080723,   A02,   404,  1,      6,      6,2,20080814,1522, 48.4102, -44.9060,  703,    596.1,   3.9449,  34.8822,2,-999.0000,9, -999.000,9,     -999,9
  06M220080723,   A02,   404,  1,      7,      7,2,20080814,1522, 48.4102, -44.9060,  703,    498.4,   3.9599,  34.8740,2,-999.0000,9,    2.210,2,    1.536,2
  06M220080723,   A02,   404,  1,      8,      8,2,20080814,1522, 48.4102, -44.9060,  703,    497.1,   3.9573,  34.8730,2,-999.0000,9, -999.000,9,     -999,9
  06M220080723,   A02,   404,  1,      9,      9,2,20080814,1522, 48.4102, -44.9060,  703,    496.3,   3.9558,  34.8724,2,-999.0000,9, -999.000,9,     -999,9
  06M220080723,   A02,   404,  1,     10,     10,2,20080814,1522, 48.4102, -44.9060,  703,    400.4,   3.9853,  34.8627,2,-999.0000,9, -999.000,9,     -999,9
  06M220080723,   A02,   404,  1,     11,     11,2,20080814,1522, 48.4102, -44.9060,  703,    408.3,   3.9829,  34.8640,2,-999.0000,9, -999.000,9,     -999,9
  06M220080723,   A02,   404,  1,     12,     12,2,20080814,1522, 48.4102, -44.9060,  703,    251.6,   4.2093,  34.8468,2,  34.8465,2, -999.000,9,     -999,9
  06M220080723,   A02,   404,  1,     13,     13,2,20080814,1522, 48.4102, -44.9060,  703,    251.5,   4.2034,  34.8433,2,-999.0000,9,    2.193,4,    1.877,2
  06M220080723,   A02,   404,  1,     14,     14,2,20080814,1522, 48.4102, -44.9060,  703,    199.4,   4.3272,  34.8437,2,-999.0000,9, -999.000,9,     -999,9
  06M220080723,   A02,   404,  1,     15,     15,2,20080814,1522, 48.4102, -44.9060,  703,    195.3,   4.3264,  34.8389,2,-999.0000,9, -999.000,9,     -999,9
  06M220080723,   A02,   404,  1,     16,     16,2,20080814,1522, 48.4102, -44.9060,  703,     97.5,   4.5427,  34.7635,2,-999.0000,9, -999.000,9,     -999,9
  06M220080723,   A02,   404,  1,     17,     17,2,20080814,1522, 48.4102, -44.9060,  703,     95.7,   4.5422,  34.7651,2,-999.0000,9, -999.000,9,     -999,9
  06M220080723,   A02,   404,  1,     18,     18,2,20080814,1522, 48.4102, -44.9060,  703,     12.9,  11.3691,  33.1148,2,-999.0000,9, -999.000,9,     -999,9
  06M220080723,   A02,   404,  1,     19,     19,2,20080814,1522, 48.4102, -44.9060,  703,     12.3,  12.0400,  33.1145,2,-999.0000,9, -999.000,9,     -999,9
  06M220080723,   A02,   404,  1,     20,     20,2,20080814,1522, 48.4102, -44.9060,  703,     11.5,  12.6703,  33.1066,2,-999.0000,9,    2.137,2,     1.56,4
  06M220080723,   A02,   404,  1,     21,     21,2,20080814,1522, 48.4102, -44.9060,  703,      3.0,  15.0155,  32.8585,2,-999.0000,9, -999.000,9,     -999,9
  06M220080723,   A02,   404,  1,     22,     22,2,20080814,1522, 48.4102, -44.9060,  703,      1.5,  15.1708,  32.8364,2,-999.0000,9,    2.014,2,    1.761,2
  06M220080723,   A02,   405,  1,      1,      1,2,20080814,1656, 48.4997, -44.6837,  982,    982.3,   3.4792,  34.9036,2,-999.0000,9,    1.799,2,    0.954,2
  06M220080723,   A02,   405,  1,      2,      2,2,20080814,1656, 48.4997, -44.6837,  982,    982.6,   3.4793,  34.9036,2,-999.0000,9,    1.770,2,    0.941,2
  06M220080723,   A02,   405,  1,      3,      3,2,20080814,1656, 48.4997, -44.6837,  982,    898.1,   3.5754,  34.8975,2,-999.0000,9,    1.869,2,    1.034,2
  06M220080723,   A02,   405,  1,      4,      4,2,20080814,1656, 48.4997, -44.6837,  982,    897.9,   3.5763,  34.8975,2,-999.0000,9, -999.000,9,     -999,9
  06M220080723,   A02,   405,  1,      5,      5,2,20080814,1656, 48.4997, -44.6837,  982,    703.7,   3.6282,  34.8598,2,  34.8587,2,    2.302,2,    1.639,2
  06M220080723,   A02,   405,  1,      6,      6,2,20080814,1656, 48.4997, -44.6837,  982,    699.1,   3.6296,  34.8593,2,-999.0000,9, -999.000,9,     -999,9
  06M220080723,   A02,   405,  1,      7,      7,2,20080814,1656, 48.4997, -44.6837,  982,    596.7,   3.6243,  34.8518,2,-999.0000,9, -999.000,9,     -999,9
  06M220080723,   A02,   405,  1,      8,      8,2,20080814,1656, 48.4997, -44.6837,  982,    499.7,   3.6610,  34.8451,2,-999.0000,9, -999.000,9,     -999,9
  06M220080723,   A02,   405,  1,      9,      9,2,20080814,1656, 48.4997, -44.6837,  982,    453.2,   3.9236,  34.8751,2,-999.0000,9,    2.269,2,    1.616,2
  06M220080723,   A02,   405,  1,     10,     10,2,20080814,1656, 48.4997, -44.6837,  982,    448.7,   3.9264,  34.8753,2,-999.0000,9, -999.000,9,     -999,9
  06M220080723,   A02,   405,  1,     11,     11,2,20080814,1656, 48.4997, -44.6837,  982,    446.4,   3.9273,  34.8748,2,-999.0000,9, -999.000,9,     -999,9
  06M220080723,   A02,   405,  1,     12,     12,2,20080814,1656, 48.4997, -44.6837,  982,    400.9,   3.8821,  34.8606,2,-999.0000,9, -999.000,9,     -999,9
  06M220080723,   A02,   405,  1,     13,     13,2,20080814,1656, 48.4997, -44.6837,  982,    399.8,   3.9086,  34.8628,2,-999.0000,9, -999.000,9,     -999,9
  06M220080723,   A02,   405,  1,     14,     14,2,20080814,1656, 48.4997, -44.6837,  982,    400.5,   3.8896,  34.8627,2,-999.0000,9, -999.000,9,     -999,9
  06M220080723,   A02,   405,  1,     15,     15,2,20080814,1656, 48.4997, -44.6837,  982,    294.1,   3.9475,  34.8403,2,-999.0000,9, -999.000,9,     -999,9
  06M220080723,   A02,   405,  1,     16,     16,2,20080814,1656, 48.4997, -44.6837,  982,    303.2,   3.9425,  34.8435,2,-999.0000,9, -999.000,9,     -999,9
  06M220080723,   A02,   405,  1,     17,     17,2,20080814,1656, 48.4997, -44.6837,  982,    201.4,   3.8032,  34.7818,2,-999.0000,9, -999.000,9,     -999,9
  06M220080723,   A02,   405,  1,     18,     18,2,20080814,1656, 48.4997, -44.6837,  982,    201.8,   3.8076,  34.7823,2,-999.0000,9, -999.000,9,     -999,9
  06M220080723,   A02,   405,  1,     19,     19,2,20080814,1656, 48.4997, -44.6837,  982,    111.4,   3.9289,  34.7334,2,-999.0000,9, -999.000,9,     -999,9
  06M220080723,   A02,   405,  1,     20,     20,2,20080814,1656, 48.4997, -44.6837,  982,    111.3,   3.9299,  34.7337,2,-999.0000,9, -999.000,9,     -999,9
  06M220080723,   A02,   405,  1,     21,     21,2,20080814,1656, 48.4997, -44.6837,  982,     12.3,  10.0573,  33.5472,2,-999.0000,9, -999.000,9,     -999,9
  06M220080723,   A02,   405,  1,     22,     22,2,20080814,1656, 48.4997, -44.6837,  982,      5.4,  13.8719,  33.2346,2,-999.0000,9,    1.916,2,    1.694,2
  06M220080723,   A02,   406,  1,      1,      1,2,20080814,1836, 48.5833, -44.4565, 1403,   1406.4,   3.3903,  34.9060,2,  34.9069,2,    1.674,2,    0.835,2
  06M220080723,   A02,   406,  1,      2,      2,2,20080814,1836, 48.5833, -44.4565, 1403,   1295.9,   3.5030,  34.9036,2,-999.0000,9, -999.000,9,     -999,9
  06M220080723,   A02,   406,  1,      3,      3,2,20080814,1836, 48.5833, -44.4565, 1403,   1097.6,   3.5512,  34.8840,2,-999.0000,9,    1.991,2,    1.173,2
  06M220080723,   A02,   406,  1,      4,      4,2,20080814,1836, 48.5833, -44.4565, 1403,    896.2,   3.5026,  34.8643,2,-999.0000,9, -999.000,9,     -999,9
  06M220080723,   A02,   406,  1,      5,      5,2,20080814,1836, 48.5833, -44.4565, 1403,    806.2,   3.4749,  34.8565,2,  34.8552,2,    2.353,2,    1.695,2
  06M220080723,   A02,   406,  1,      6,      6,2,20080814,1836, 48.5833, -44.4565, 1403,    805.7,   3.4751,  34.8567,2,-999.0000,9, -999.000,9,     -999,9
  06M220080723,   A02,   406,  1,      7,      7,2,20080814,1836, 48.5833, -44.4565, 1403,    698.8,   3.5040,  34.8561,2,-999.0000,9, -999.000,9,     -999,9
  06M220080723,   A02,   406,  1,      8,      8,2,20080814,1836, 48.5833, -44.4565, 1403,    623.8,   3.5340,  34.8564,2,-999.0000,9,    2.340,2,    1.718,2
  06M220080723,   A02,   406,  1,      9,      9,2,20080814,1836, 48.5833, -44.4565, 1403,    399.7,   3.6141,  34.8487,2,  34.8491,2,    2.344,2,    1.743,2
  06M220080723,   A02,   406,  1,     10,     10,2,20080814,1836, 48.5833, -44.4565, 1403,    398.2,   3.6146,  34.8481,2,-999.0000,9, -999.000,9,     -999,9
  06M220080723,   A02,   406,  1,     11,     11,2,20080814,1836, 48.5833, -44.4565, 1403,    211.4,   3.8386,  34.8344,2,-999.0000,9, -999.000,9,     -999,9
  06M220080723,   A02,   406,  1,     12,     12,2,20080814,1836, 48.5833, -44.4565, 1403,     31.0,   5.2270,  34.4745,2,-999.0000,9, -999.000,9,     -999,9
  06M220080723,   A02,   406,  1,     13,     13,2,20080814,1836, 48.5833, -44.4565, 1403,     31.1,   5.1991,  34.4825,2,-999.0000,9, -999.000,9,     -999,9
  06M220080723,   A02,   406,  1,     14,     14,2,20080814,1836, 48.5833, -44.4565, 1403,     31.3,   5.2117,  34.4820,2,-999.0000,9, -999.000,9,     -999,9
  06M220080723,   A02,   406,  1,     15,     15,2,20080814,1836, 48.5833, -44.4565, 1403,     20.5,   6.1747,  34.2190,2,-999.0000,9, -999.000,9,     -999,9
  06M220080723,   A02,   406,  1,     16,     16,2,20080814,1836, 48.5833, -44.4565, 1403,     20.0,   6.4887,  34.1908,2,-999.0000,9, -999.000,9,     -999,9
  06M220080723,   A02,   406,  1,     17,     17,2,20080814,1836, 48.5833, -44.4565, 1403,     19.9,   5.7670,  34.2394,2,-999.0000,9, -999.000,9,     -999,9
  06M220080723,   A02,   406,  1,     18,     18,2,20080814,1836, 48.5833, -44.4565, 1403,     12.9,  14.8669,  33.2795,2,-999.0000,9, -999.000,9,     -999,9
  06M220080723,   A02,   406,  1,     19,     19,2,20080814,1836, 48.5833, -44.4565, 1403,     12.5,  14.6824,  33.3106,2,-999.0000,9, -999.000,9,     -999,9
  06M220080723,   A02,   406,  1,     20,     20,2,20080814,1836, 48.5833, -44.4565, 1403,     11.9,  14.2825,  33.3515,2,-999.0000,9, -999.000,9,     -999,9
  06M220080723,   A02,   406,  1,     21,     21,2,20080814,1836, 48.5833, -44.4565, 1403,     12.1,  13.8220,  33.4142,2,-999.0000,9, -999.000,9,     -999,9
  06M220080723,   A02,   406,  1,     22,     22,2,20080814,1836, 48.5833, -44.4565, 1403,      4.9,  15.1931,  33.3109,2,-999.0000,9,    1.743,2,    1.602,2
  06M220080723,   A02,   407,  1,      1,      1,2,20080814,2033, 48.6660, -44.2322, 1822,   1836.4,   3.0766,  34.9094,2,-999.0000,9,    1.390,2,    0.783,2
  06M220080723,   A02,   407,  1,      2,      2,2,20080814,2033, 48.6660, -44.2322, 1822,   1701.4,   3.2724,  34.9063,2,-999.0000,9, -999.000,9,     -999,9
  06M220080723,   A02,   407,  1,      3,      3,2,20080814,2033, 48.6660, -44.2322, 1822,   1600.3,   3.3475,  34.9061,2,-999.0000,9, -999.000,9,     -999,9
  06M220080723,   A02,   407,  1,      4,      4,2,20080814,2033, 48.6660, -44.2322, 1822,   1501.6,   3.4181,  34.9068,2,-999.0000,9, -999.000,9,     -999,9
  06M220080723,   A02,   407,  1,      5,      5,2,20080814,2033, 48.6660, -44.2322, 1822,   1400.1,   3.4940,  34.9040,2,-999.0000,9, -999.000,9,     -999,9
  06M220080723,   A02,   407,  1,      6,      6,2,20080814,2033, 48.6660, -44.2322, 1822,   1397.1,   3.4954,  34.9039,2,-999.0000,9,    1.937,2,    1.119,2
  06M220080723,   A02,   407,  1,      7,      7,2,20080814,2033, 48.6660, -44.2322, 1822,   1298.3,   3.5404,  34.9004,2,-999.0000,9, -999.000,9,     -999,9
  06M220080723,   A02,   407,  1,      8,      8,2,20080814,2033, 48.6660, -44.2322, 1822,   1199.1,   3.5431,  34.8905,2,-999.0000,9, -999.000,9,     -999,9
  06M220080723,   A02,   407,  1,      9,      9,2,20080814,2033, 48.6660, -44.2322, 1822,   1097.3,   3.5665,  34.8830,2,-999.0000,9, -999.000,9,     -999,9
  06M220080723,   A02,   407,  1,     10,     10,2,20080814,2033, 48.6660, -44.2322, 1822,   1004.5,   3.5607,  34.8767,2,-999.0000,9, -999.000,9,     -999,9
  06M220080723,   A02,   407,  1,     11,     11,2,20080814,2033, 48.6660, -44.2322, 1822,   1004.6,   3.5603,  34.8763,2,  34.8759,2,    2.168,2,    1.425,2
  06M220080723,   A02,   407,  1,     12,     12,2,20080814,2033, 48.6660, -44.2322, 1822,    891.2,   3.5221,  34.8628,2,-999.0000,9, -999.000,9,     -999,9
  06M220080723,   A02,   407,  1,     13,     13,2,20080814,2033, 48.6660, -44.2322, 1822,    896.1,   3.5208,  34.8626,2,-999.0000,9, -999.000,9,     -999,9
  06M220080723,   A02,   407,  1,     14,     14,2,20080814,2033, 48.6660, -44.2322, 1822,    799.0,   3.5267,  34.8600,2,-999.0000,9,    2.310,2,    1.655,2
  06M220080723,   A02,   407,  1,     15,     15,2,20080814,2033, 48.6660, -44.2322, 1822,    700.3,   3.5709,  34.8612,2,-999.0000,9, -999.000,9,     -999,9
  06M220080723,   A02,   407,  1,     16,     16,2,20080814,2033, 48.6660, -44.2322, 1822,    698.1,   3.5714,  34.8613,2,-999.0000,9, -999.000,9,     -999,9
  06M220080723,   A02,   407,  1,     17,     17,2,20080814,2033, 48.6660, -44.2322, 1822,    602.2,   3.6178,  34.8628,2,-999.0000,9,    2.316,2,    1.669,2
  06M220080723,   A02,   407,  1,     18,     18,2,20080814,2033, 48.6660, -44.2322, 1822,    498.4,   3.6884,  34.8623,2,-999.0000,9, -999.000,9,     -999,9
  06M220080723,   A02,   407,  1,     19,     19,2,20080814,2033, 48.6660, -44.2322, 1822,    394.3,   3.6889,  34.8501,2,  34.8523,2,    2.331,2,    1.877,2
  06M220080723,   A02,   407,  1,     20,     20,2,20080814,2033, 48.6660, -44.2322, 1822,    311.3,   3.7442,  34.8411,2,-999.0000,9, -999.000,9,     -999,9
  06M220080723,   A02,   407,  1,     21,     21,2,20080814,2033, 48.6660, -44.2322, 1822,    198.3,   3.7903,  34.8129,2,-999.0000,9, -999.000,9,     -999,9
  06M220080723,   A02,   407,  1,     22,     22,2,20080814,2033, 48.6660, -44.2322, 1822,     11.9,  15.1270,  33.2996,2,-999.0000,9,    1.923,2,    1.715,2
  06M220080723,   A02,   408,  1,      1,      1,2,20080814,2256, 48.7587, -43.9977, 2120,   2135.8,   2.9394,  34.9116,2,  34.9105,2,    1.419,2,    0.737,2
  06M220080723,   A02,   408,  1,      2,      2,2,20080814,2256, 48.7587, -43.9977, 2120,   2098.6,   2.9501,  34.9123,2,-999.0000,9, -999.000,9,     -999,9
  06M220080723,   A02,   408,  1,      3,      3,2,20080814,2256, 48.7587, -43.9977, 2120,   1996.9,   2.9991,  34.9110,2,-999.0000,9, -999.000,9,     -999,9
  06M220080723,   A02,   408,  1,      4,      4,2,20080814,2256, 48.7587, -43.9977, 2120,   1896.7,   3.0729,  34.9098,2,  34.9091,2,    1.471,2,    0.732,2
  06M220080723,   A02,   408,  1,      5,      5,2,20080814,2256, 48.7587, -43.9977, 2120,   1800.1,   3.1263,  34.9080,2,-999.0000,9, -999.000,9,     -999,9
  06M220080723,   A02,   408,  1,      6,      6,2,20080814,2256, 48.7587, -43.9977, 2120,   1797.2,   3.1268,  34.9080,2,-999.0000,9, -999.000,9,     -999,9
  06M220080723,   A02,   408,  1,      7,      7,2,20080814,2256, 48.7587, -43.9977, 2120,   1705.1,   3.1801,  34.9070,2,-999.0000,9,    1.516,2,    0.716,2
  06M220080723,   A02,   408,  1,      8,      8,2,20080814,2256, 48.7587, -43.9977, 2120,   1599.7,   3.2794,  34.9059,2,-999.0000,9, -999.000,9,     -999,9
  06M220080723,   A02,   408,  1,      9,      9,2,20080814,2256, 48.7587, -43.9977, 2120,   1498.5,   3.3630,  34.9067,2,  34.9067,2,    1.600,2,    0.789,2
  06M220080723,   A02,   408,  1,     10,     10,2,20080814,2256, 48.7587, -43.9977, 2120,   1498.5,   3.3630,  34.9067,2,-999.0000,9, -999.000,9,     -999,9
  06M220080723,   A02,   408,  1,     11,     11,2,20080814,2256, 48.7587, -43.9977, 2120,   1398.0,   3.4503,  34.9063,2,-999.0000,9, -999.000,9,     -999,9
  06M220080723,   A02,   408,  1,     12,     12,2,20080814,2256, 48.7587, -43.9977, 2120,   1297.8,   3.5208,  34.9040,2,-999.0000,9,    1.692,2,    0.836,2
  06M220080723,   A02,   408,  1,     13,     13,2,20080814,2256, 48.7587, -43.9977, 2120,   1203.2,   3.5531,  34.8953,2,-999.0000,9, -999.000,9,     -999,9
  06M220080723,   A02,   408,  1,     14,     14,2,20080814,2256, 48.7587, -43.9977, 2120,   1101.3,   3.5240,  34.8807,2,-999.0000,9, -999.000,9,     -999,9
  06M220080723,   A02,   408,  1,     15,     15,2,20080814,2256, 48.7587, -43.9977, 2120,   1002.3,   3.5057,  34.8704,2,-999.0000,9,    2.154,2,    1.449,2
  06M220080723,   A02,   408,  1,     16,     16,2,20080814,2256, 48.7587, -43.9977, 2120,    902.2,   3.5110,  34.8663,2,-999.0000,9,    2.224,2,    1.508,2
  06M220080723,   A02,   408,  1,     17,     17,2,20080814,2256, 48.7587, -43.9977, 2120,    795.7,   3.4929,  34.8590,2,-999.0000,9, -999.000,9,     -999,9
  06M220080723,   A02,   408,  1,     18,     18,2,20080814,2256, 48.7587, -43.9977, 2120,    701.8,   3.4941,  34.8554,2,  34.8536,2,    2.297,2,    1.639,2
  06M220080723,   A02,   408,  1,     19,     19,2,20080814,2256, 48.7587, -43.9977, 2120,    503.2,   3.6106,  34.8601,2,-999.0000,9, -999.000,9,     -999,9
  06M220080723,   A02,   408,  1,     20,     20,2,20080814,2256, 48.7587, -43.9977, 2120,    385.4,   3.6615,  34.8520,2,-999.0000,9,    2.269,2,    1.682,2