BOTTLE,20220921CCHSIOAMB
EXPOCODE,SECT_ID,STNNBR,CASTNO,SAMPNO,BTLNBR,BTLNBR_FLAG_W,DATE,TIME,LATITUDE,LONGITUDE,DEPTH,CTDPRS,CTDTMP,CTDSAL,CTDSAL_FLAG_W,SALNTY,SALNTY_FLAG_W,CFC-12,CFC-12_FLAG_W,SF6,SF6_FLAG_W
,,,,,,,,,,,METERS,DBAR,ITS-90,PSS-78,,PSS-78,,PMOL/KG,,FMOL/KG,
  06M220080723,   A02,   357,  1,      1,      1,2,20080802,0212, 51.6665, -35.7993, 3725,   3767.0,   2.3733,  34.9025,2,  34.9034,2,    1.118,2,    0.543,2
  06M220080723,   A02,   357,  1,      2,      2,2,20080802,0212, 51.6665, -35.7993, 3725,   3599.6,   2.4303,  34.9067,2,-999.0000,9, -999.000,9,     -999,9
  06M220080723,   A02,   357,  1,      3,      3,2,20080802,0212, 51.6665, -35.7993, 3725,   3399.4,   2.5761,  34.9189,2,-999.0000,9,    1.048,2,    0.521,2
  06M220080723,   A02,   357,  1,      4,      4,2,20080802,0212, 51.6665, -35.7993, 3725,   3198.0,   2.7265,  34.9317,2,-999.0000,9,    1.068,2,    0.529,2
  06M220080723,   A02,   357,  1,      5,      5,2,20080802,0212, 51.6665, -35.7993, 3725,   2997.3,   2.8407,  34.9356,2,  34.9370,2,    1.122,2,    0.561,2
  06M220080723,   A02,   357,  1,      6,      6,2,20080802,0212, 51.6665, -35.7993, 3725,   2819.2,   2.9264,  34.9401,2,-999.0000,9,    1.190,2,    0.615,2
  06M220080723,   A02,   357,  1,      7,      7,2,20080802,0212, 51.6665, -35.7993, 3725,   2612.0,   2.9775,  34.9340,2,-999.0000,9,    1.227,2,    0.648,2
  06M220080723,   A02,   357,  1,      8,      8,2,20080802,0212, 51.6665, -35.7993, 3725,   2548.3,   2.9761,  34.9266,2,-999.0000,9,    1.217,2,    0.591,2
  06M220080723,   A02,   357,  1,      9,      9,2,20080802,0212, 51.6665, -35.7993, 3725,   2206.8,   3.1261,  34.9146,2,-999.0000,9, -999.000,9,     -999,9
  06M220080723,   A02,   357,  1,     10,     10,2,20080802,0212, 51.6665, -35.7993, 3725,   2206.8,   3.1262,  34.9146,2,  34.9150,2,    1.319,2,    0.558,2
  06M220080723,   A02,   357,  1,     11,     11,2,20080802,0212, 51.6665, -35.7993, 3725,   2000.1,   3.2074,  34.9097,2,-999.0000,9, -999.000,9,     -999,9
  06M220080723,   A02,   357,  1,     12,     12,2,20080802,0212, 51.6665, -35.7993, 3725,   1997.9,   3.2081,  34.9094,2,-999.0000,9, -999.000,9,     -999,9
  06M220080723,   A02,   357,  1,     13,     13,2,20080802,0212, 51.6665, -35.7993, 3725,   1801.8,   3.3214,  34.9070,2,-999.0000,9,    1.455,2,    0.607,2
  06M220080723,   A02,   357,  1,     14,     14,2,20080802,0212, 51.6665, -35.7993, 3725,   1611.6,   3.4573,  34.9123,2,-999.0000,9,    1.456,2,    0.632,2
  06M220080723,   A02,   357,  1,     15,     15,2,20080802,0212, 51.6665, -35.7993, 3725,   1398.6,   3.5893,  34.9132,2,-999.0000,9,    1.588,2,    0.743,2
  06M220080723,   A02,   357,  1,     16,     16,2,20080802,0212, 51.6665, -35.7993, 3725,   1209.1,   3.6786,  34.9088,2,-999.0000,9,    1.757,2,    0.906,2
  06M220080723,   A02,   357,  1,     17,     17,2,20080802,0212, 51.6665, -35.7993, 3725,   1103.0,   3.7267,  34.9058,2,-999.0000,9,    1.828,2,    1.017,2
  06M220080723,   A02,   357,  1,     18,     18,2,20080802,0212, 51.6665, -35.7993, 3725,   1012.9,   3.8012,  34.9049,2,-999.0000,9,    1.942,2,    1.133,2
  06M220080723,   A02,   357,  1,     19,     19,2,20080802,0212, 51.6665, -35.7993, 3725,    892.1,   3.8705,  34.9026,2,  34.9071,2,    2.010,2,    1.215,2
  06M220080723,   A02,   357,  1,     20,     20,2,20080802,0212, 51.6665, -35.7993, 3725,    756.7,   3.9981,  34.9080,2,-999.0000,9,    2.041,2,    1.275,2
  06M220080723,   A02,   357,  1,     21,     21,2,20080802,0212, 51.6665, -35.7993, 3725,    498.3,   4.2835,  34.9040,2,-999.0000,9,    2.028,2,    1.353,2
  06M220080723,   A02,   357,  1,     22,     22,2,20080802,0212, 51.6665, -35.7993, 3725,     13.7,  13.0033,  34.6838,2,-999.0000,9,    1.792,2,    1.579,2
  06M220080723,   A02,   358,  1,      1,      1,2,20080802,0615, 51.9418, -36.1570, 3878,   3918.4,   2.3161,  34.8991,2,  34.8997,2,    1.265,2,     0.65,2
  06M220080723,   A02,   358,  1,      2,      2,2,20080802,0615, 51.9418, -36.1570, 3878,   3681.9,   2.3348,  34.9014,2,-999.0000,9,    1.187,2,    0.582,2
  06M220080723,   A02,   358,  1,      3,      3,2,20080802,0615, 51.9418, -36.1570, 3878,   3500.4,   2.3910,  34.9063,2,-999.0000,9,    1.143,2,    0.564,2
  06M220080723,   A02,   358,  1,      4,      4,2,20080802,0615, 51.9418, -36.1570, 3878,   2799.4,   2.7691,  34.9334,2,-999.0000,9,    1.083,2,    0.521,2
  06M220080723,   A02,   358,  1,      5,      5,2,20080802,0615, 51.9418, -36.1570, 3878,   2499.8,   2.8964,  34.9321,2,  34.9359,2, -999.000,9,     -999,9
  06M220080723,   A02,   358,  1,      6,      6,2,20080802,0615, 51.9418, -36.1570, 3878,   2299.9,   2.9590,  34.9262,2,-999.0000,9, -999.000,9,     -999,9
  06M220080723,   A02,   358,  1,      7,      7,2,20080802,0615, 51.9418, -36.1570, 3878,   1995.8,   3.1912,  34.9390,2,-999.0000,9,    1.377,2,    0.683,2
  06M220080723,   A02,   358,  1,      8,      8,2,20080802,0615, 51.9418, -36.1570, 3878,   1897.1,   3.2668,  34.9463,2,-999.0000,9,    1.325,3,    0.735,2
  06M220080723,   A02,   358,  1,      9,      9,2,20080802,0615, 51.9418, -36.1570, 3878,   1797.0,   3.3587,  34.9482,2,-999.0000,9, -999.000,9,     -999,9
  06M220080723,   A02,   358,  1,     10,     10,2,20080802,0615, 51.9418, -36.1570, 3878,   1684.7,   3.4142,  34.9416,2,-999.0000,9, -999.000,9,     -999,9
  06M220080723,   A02,   358,  1,     11,     11,2,20080802,0615, 51.9418, -36.1570, 3878,   1497.7,   3.5186,  34.9282,2,  34.9303,2, -999.000,9,     -999,9
  06M220080723,   A02,   358,  1,     12,     12,2,20080802,0615, 51.9418, -36.1570, 3878,   1324.9,   3.6170,  34.9189,2,-999.0000,9, -999.000,9,     -999,9
  06M220080723,   A02,   358,  1,     13,     13,2,20080802,0615, 51.9418, -36.1570, 3878,   1098.1,   3.7041,  34.9051,2,-999.0000,9,    1.837,2,    0.935,2
  06M220080723,   A02,   358,  1,     14,     14,2,20080802,0615, 51.9418, -36.1570, 3878,    974.8,   3.7147,  34.8940,2,-999.0000,9,    1.954,2,    1.085,2
  06M220080723,   A02,   358,  1,     15,     15,2,20080802,0615, 51.9418, -36.1570, 3878,    913.3,   3.7580,  34.8948,2,-999.0000,9,    2.027,2,     1.16,2
  06M220080723,   A02,   358,  1,     16,     16,2,20080802,0615, 51.9418, -36.1570, 3878,    688.4,   4.0395,  34.9054,2,  34.9028,2,    2.073,2,    1.293,2
  06M220080723,   A02,   358,  1,     17,     17,2,20080802,0615, 51.9418, -36.1570, 3878,     71.6,   6.8228,  34.8649,2,-999.0000,9, -999.000,9,     -999,9
  06M220080723,   A02,   358,  1,     18,     18,2,20080802,0615, 51.9418, -36.1570, 3878,     68.1,   7.0650,  34.8614,2,-999.0000,9, -999.000,9,     -999,9
  06M220080723,   A02,   358,  1,     19,     19,2,20080802,0615, 51.9418, -36.1570, 3878,     50.8,   8.2083,  34.8447,2,-999.0000,9, -999.000,9,     -999,9
  06M220080723,   A02,   358,  1,     20,     20,2,20080802,0615, 51.9418, -36.1570, 3878,     49.9,   8.3705,  34.8342,2,-999.0000,9, -999.000,9,     -999,9
  06M220080723,   A02,   358,  1,     21,     21,2,20080802,0615, 51.9418, -36.1570, 3878,     48.7,   8.5358,  34.8279,2,-999.0000,9, -999.000,9,     -999,9
  06M220080723,   A02,   358,  1,     22,     22,2,20080802,0615, 51.9418, -36.1570, 3878,     14.7,  12.7635,  34.6702,2,-999.0000,9,    1.817,2,    1.575,2
  06M220080723,   A02,   359,  1,      1,      1,2,20080802,1009, 52.2082, -36.5257, 3568,   3586.7,   2.2887,  34.8993,2,  34.9000,2, -999.000,9,     -999,9
  06M220080723,   A02,   359,  1,      2,      2,2,20080802,1009, 52.2082, -36.5257, 3568,   3355.2,   2.3459,  34.9044,2,-999.0000,9, -999.000,9,     -999,9
  06M220080723,   A02,   359,  1,      3,      3,2,20080802,1009, 52.2082, -36.5257, 3568,   3047.5,   2.5587,  34.9206,2,-999.0000,9, -999.000,9,     -999,9
  06M220080723,   A02,   359,  1,      4,      4,2,20080802,1009, 52.2082, -36.5257, 3568,   2725.4,   2.7997,  34.9388,2,-999.0000,9, -999.000,9,     -999,9
  06M220080723,   A02,   359,  1,      5,      5,2,20080802,1009, 52.2082, -36.5257, 3568,   2434.8,   2.9102,  34.9370,2,-999.0000,9, -999.000,9,     -999,9
  06M220080723,   A02,   359,  1,      6,      6,2,20080802,1009, 52.2082, -36.5257, 3568,   2108.6,   3.0593,  34.9232,2,-999.0000,9, -999.000,9,     -999,9
  06M220080723,   A02,   359,  1,      7,      7,2,20080802,1009, 52.2082, -36.5257, 3568,   1852.6,   3.3137,  34.9409,2,-999.0000,9, -999.000,9,     -999,9
  06M220080723,   A02,   359,  1,      8,      8,2,20080802,1009, 52.2082, -36.5257, 3568,   1614.4,   3.4316,  34.9289,2,-999.0000,9, -999.000,9,     -999,9
  06M220080723,   A02,   359,  1,      9,      9,2,20080802,1009, 52.2082, -36.5257, 3568,   1414.7,   3.4643,  34.9113,2,  34.9122,2, -999.000,9,     -999,9
  06M220080723,   A02,   359,  1,     10,     10,2,20080802,1009, 52.2082, -36.5257, 3568,   1190.2,   3.6085,  34.9081,2,-999.0000,9, -999.000,9,     -999,9
  06M220080723,   A02,   359,  1,     11,     11,2,20080802,1009, 52.2082, -36.5257, 3568,   1010.7,   3.6748,  34.8932,2,  34.8959,2, -999.000,9,     -999,9
  06M220080723,   A02,   359,  1,     12,     12,2,20080802,1009, 52.2082, -36.5257, 3568,    802.9,   3.8898,  34.9003,2,  34.9012,2, -999.000,9,     -999,9
  06M220080723,   A02,   359,  1,     13,     13,2,20080802,1009, 52.2082, -36.5257, 3568,    626.3,   4.1861,  34.9124,2,-999.0000,9, -999.000,9,     -999,9
  06M220080723,   A02,   359,  1,     14,     14,2,20080802,1009, 52.2082, -36.5257, 3568,    173.8,   5.9489,  34.9451,2,-999.0000,9, -999.000,9,     -999,9
  06M220080723,   A02,   359,  1,     15,     15,2,20080802,1009, 52.2082, -36.5257, 3568,     40.8,   7.8518,  34.8425,2,-999.0000,9, -999.000,9,     -999,9
  06M220080723,   A02,   359,  1,     16,     16,2,20080802,1009, 52.2082, -36.5257, 3568,     40.4,   7.8317,  34.8353,2,-999.0000,9, -999.000,9,     -999,9
  06M220080723,   A02,   359,  1,     17,     17,2,20080802,1009, 52.2082, -36.5257, 3568,     39.8,   7.8585,  34.8381,2,-999.0000,9, -999.000,9,     -999,9
  06M220080723,   A02,   359,  1,     18,     18,2,20080802,1009, 52.2082, -36.5257, 3568,     14.8,  11.6495,  34.7291,2,-999.0000,9, -999.000,9,     -999,9
  06M220080723,   A02,   359,  1,     19,     19,2,20080802,1009, 52.2082, -36.5257, 3568,     14.5,  11.6418,  34.7324,2,-999.0000,9, -999.000,9,     -999,9
  06M220080723,   A02,   359,  1,     20,     20,2,20080802,1009, 52.2082, -36.5257, 3568,     14.2,  11.6515,  34.7319,2,-999.0000,9, -999.000,9,     -999,9
  06M220080723,   A02,   359,  1,     21,     21,2,20080802,1009, 52.2082, -36.5257, 3568,     14.4,  11.6522,  34.7322,2,-999.0000,9, -999.000,9,     -999,9
  06M220080723,   A02,   359,  1,     22,     22,2,20080802,1009, 52.2082, -36.5257, 3568,     14.7,  11.6696,  34.7312,2,-999.0000,9, -999.000,9,     -999,9
  06M220080723,   A02,   360,  1,      1,      1,2,20080802,2126, 52.5098, -36.8525, 3429,   3481.5,   2.4495,  34.9099,2,  34.9126,2,    1.091,2,    0.547,2
  06M220080723,   A02,   360,  1,      2,      2,2,20080802,2126, 52.5098, -36.8525, 3429,   3457.1,   2.4909,  34.9135,2,-999.0000,9,    1.086,2,    0.535,2
  06M220080723,   A02,   360,  1,      3,      3,2,20080802,2126, 52.5098, -36.8525, 3429,   3251.5,   2.6456,  34.9246,2,-999.0000,9, -999.000,9,     -999,9
  06M220080723,   A02,   360,  1,      4,      4,2,20080802,2126, 52.5098, -36.8525, 3429,   3050.8,   2.7674,  34.9378,2,-999.0000,9,    1.117,2,    0.577,2
  06M220080723,   A02,   360,  1,      5,      5,2,20080802,2126, 52.5098, -36.8525, 3429,   2843.8,   2.7920,  34.9294,2,-999.0000,9,    1.078,6,    0.517,6
  06M220080723,   A02,   360,  1,      6,      6,2,20080802,2126, 52.5098, -36.8525, 3429,   2638.2,   2.8856,  34.9301,2,-999.0000,9,    1.120,2,    0.527,2
  06M220080723,   A02,   360,  1,      7,      7,2,20080802,2126, 52.5098, -36.8525, 3429,   2433.2,   2.9900,  34.9328,2,-999.0000,9,    1.264,2,    0.627,2
  06M220080723,   A02,   360,  1,      8,      8,2,20080802,2126, 52.5098, -36.8525, 3429,   2241.8,   3.0496,  34.9243,2,  34.9288,2,    1.265,2,     0.59,2
  06M220080723,   A02,   360,  1,      9,      9,2,20080802,2126, 52.5098, -36.8525, 3429,   2041.1,   3.1242,  34.9146,2,-999.0000,9,    1.339,2,    0.612,2
  06M220080723,   A02,   360,  1,     10,     10,2,20080802,2126, 52.5098, -36.8525, 3429,   1822.5,   3.2152,  34.9085,2,-999.0000,9,    1.416,2,    0.608,2
  06M220080723,   A02,   360,  1,     11,     11,2,20080802,2126, 52.5098, -36.8525, 3429,   1814.6,   3.2184,  34.9083,2,-999.0000,9,    1.406,2,    0.608,2
  06M220080723,   A02,   360,  1,     12,     12,2,20080802,2126, 52.5098, -36.8525, 3429,   1645.8,   3.3431,  34.9095,2,-999.0000,9,    1.476,2,    0.631,2
  06M220080723,   A02,   360,  1,     13,     13,2,20080802,2126, 52.5098, -36.8525, 3429,   1645.0,   3.3435,  34.9097,2,-999.0000,9, -999.000,9,     -999,9
  06M220080723,   A02,   360,  1,     14,     14,2,20080802,2126, 52.5098, -36.8525, 3429,   1443.6,   3.4797,  34.9104,2,-999.0000,9,    1.576,2,    0.688,2
  06M220080723,   A02,   360,  1,     15,     15,2,20080802,2126, 52.5098, -36.8525, 3429,   1231.6,   3.5907,  34.9004,2,-999.0000,9,    1.765,2,    0.883,2
  06M220080723,   A02,   360,  1,     16,     16,2,20080802,2126, 52.5098, -36.8525, 3429,   1018.2,   3.6272,  34.8842,2,-999.0000,9,    2.053,2,    1.168,2
  06M220080723,   A02,   360,  1,     17,     17,2,20080802,2126, 52.5098, -36.8525, 3429,    910.5,   3.7295,  34.8883,2,-999.0000,9,    2.096,2,    1.267,2
  06M220080723,   A02,   360,  1,     18,     18,2,20080802,2126, 52.5098, -36.8525, 3429,    805.7,   3.8299,  34.8927,2,-999.0000,9, -999.000,9,     -999,9
  06M220080723,   A02,   360,  1,     19,     19,2,20080802,2126, 52.5098, -36.8525, 3429,    705.5,   3.9215,  34.8919,2,-999.0000,9,    2.144,2,    1.389,2
  06M220080723,   A02,   360,  1,     20,     20,2,20080802,2126, 52.5098, -36.8525, 3429,    605.2,   4.0067,  34.8892,2,  34.8873,2,    2.150,2,    1.454,2
  06M220080723,   A02,   360,  1,     21,     21,2,20080802,2126, 52.5098, -36.8525, 3429,    403.7,   4.1178,  34.8538,2,-999.0000,9,    2.252,2,    1.645,2
  06M220080723,   A02,   360,  1,     22,     22,2,20080802,2126, 52.5098, -36.8525, 3429,     12.7,  11.8639,  34.7227,2,  34.7256,2,    1.914,6,    1.659,6
  06M220080723,   A02,   362,  1,      1,      1,2,20080804,0850, 47.2740, -30.4912, 3619,   3673.4,   2.4975,  34.9074,2,  34.9117,2,    0.953,2,    0.427,2
  06M220080723,   A02,   362,  1,      2,      2,2,20080804,0850, 47.2740, -30.4912, 3619,   3454.2,   2.6545,  34.9138,2,-999.0000,9,    0.943,2,    0.403,2
  06M220080723,   A02,   362,  1,      3,      3,2,20080804,0850, 47.2740, -30.4912, 3619,   3300.2,   2.8112,  34.9179,2,-999.0000,9, -999.000,9,     -999,9
  06M220080723,   A02,   362,  1,      4,      4,2,20080804,0850, 47.2740, -30.4912, 3619,   3148.1,   2.8769,  34.9175,2,-999.0000,9,    0.981,2,    0.379,2
  06M220080723,   A02,   362,  1,      5,      5,2,20080804,0850, 47.2740, -30.4912, 3619,   2834.5,   3.0684,  34.9156,2,  34.9193,2,    1.071,2,    0.412,2
  06M220080723,   A02,   362,  1,      6,      6,2,20080804,0850, 47.2740, -30.4912, 3619,   2653.0,   3.1836,  34.9129,2,-999.0000,9,    1.144,2,    0.432,2
  06M220080723,   A02,   362,  1,      7,      7,2,20080804,0850, 47.2740, -30.4912, 3619,   2437.2,   3.2717,  34.9070,2,-999.0000,9,    1.229,2,    0.454,2
  06M220080723,   A02,   362,  1,      8,      8,2,20080804,0850, 47.2740, -30.4912, 3619,   2243.4,   3.4200,  34.9152,2,-999.0000,9,    1.234,2,     0.47,2
  06M220080723,   A02,   362,  1,      9,      9,2,20080804,0850, 47.2740, -30.4912, 3619,   2034.6,   3.5683,  34.9216,2,-999.0000,9,    1.305,2,     0.52,2
  06M220080723,   A02,   362,  1,     10,     10,2,20080804,0850, 47.2740, -30.4912, 3619,   1825.8,   3.7451,  34.9289,2,  34.9268,2,    1.410,2,    0.595,2
  06M220080723,   A02,   362,  1,     11,     11,2,20080804,0850, 47.2740, -30.4912, 3619,   1647.4,   3.9594,  34.9429,2,-999.0000,9,    1.537,2,    0.723,2
  06M220080723,   A02,   362,  1,     12,     12,2,20080804,0850, 47.2740, -30.4912, 3619,   1546.2,   4.0874,  34.9504,2,-999.0000,9,    1.575,2,    0.787,2
  06M220080723,   A02,   362,  1,     13,     13,2,20080804,0850, 47.2740, -30.4912, 3619,   1482.3,   4.1938,  34.9601,2,-999.0000,9,    1.608,2,     0.81,2
  06M220080723,   A02,   362,  1,     14,     14,2,20080804,0850, 47.2740, -30.4912, 3619,   1335.7,   4.6309,  35.0009,2,-999.0000,9,    1.643,2,    0.875,2
  06M220080723,   A02,   362,  1,     15,     15,2,20080804,0850, 47.2740, -30.4912, 3619,   1185.9,   4.7841,  34.9659,2,-999.0000,9,    1.702,2,    1.008,2
  06M220080723,   A02,   362,  1,     16,     16,2,20080804,0850, 47.2740, -30.4912, 3619,   1034.6,   5.5241,  35.0253,2,-999.0000,9,    1.478,2,    0.827,2
  06M220080723,   A02,   362,  1,     17,     17,2,20080804,0850, 47.2740, -30.4912, 3619,    805.7,   7.9005,  35.1706,2,-999.0000,9,    1.123,2,    0.635,2
  06M220080723,   A02,   362,  1,     18,     18,2,20080804,0850, 47.2740, -30.4912, 3619,    708.2,   9.2235,  35.2465,2,-999.0000,9, -999.000,9,     -999,9
  06M220080723,   A02,   362,  1,     19,     19,2,20080804,0850, 47.2740, -30.4912, 3619,    605.9,  10.6991,  35.4020,2,-999.0000,9,    1.356,2,    1.002,2
  06M220080723,   A02,   362,  1,     20,     20,2,20080804,0850, 47.2740, -30.4912, 3619,    513.3,  11.8749,  35.5700,2,-999.0000,9,    1.574,2,    1.265,2
  06M220080723,   A02,   362,  1,     21,     21,2,20080804,0850, 47.2740, -30.4912, 3619,    301.5,  13.0862,  35.7747,2,-999.0000,9, -999.000,9,     -999,9
  06M220080723,   A02,   362,  1,     22,     22,2,20080804,0850, 47.2740, -30.4912, 3619,     10.4,  17.7705,  35.8076,2,  35.8070,2,    1.411,2,    1.316,2