BOTTLE,20220921CCHSIOAMB
EXPOCODE,SECT_ID,STNNBR,CASTNO,SAMPNO,BTLNBR,BTLNBR_FLAG_W,DATE,TIME,LATITUDE,LONGITUDE,DEPTH,CTDPRS,CTDTMP,CTDSAL,CTDSAL_FLAG_W,SALNTY,SALNTY_FLAG_W,CFC-12,CFC-12_FLAG_W,SF6,SF6_FLAG_W
,,,,,,,,,,,METERS,DBAR,ITS-90,PSS-78,,PSS-78,,PMOL/KG,,FMOL/KG,
  06M220080723,   A02,   376,  1,      1,      1,2,20080807,1448, 46.6165, -35.1397, 4355,   4421.4,   2.2455,  34.8917,2,  34.8934,2,    1.253,2,    0.675,2
  06M220080723,   A02,   376,  1,      2,      2,2,20080807,1448, 46.6165, -35.1397, 4355,   4198.7,   2.2687,  34.8939,2,-999.0000,9,    1.198,2,    0.606,2
  06M220080723,   A02,   376,  1,      3,      3,2,20080807,1448, 46.6165, -35.1397, 4355,   3895.8,   2.3520,  34.8988,2,-999.0000,9,    1.085,2,    0.531,2
  06M220080723,   A02,   376,  1,      4,      4,2,20080807,1448, 46.6165, -35.1397, 4355,   3597.9,   2.5710,  34.9090,2,-999.0000,9,    0.871,4,    0.351,4
  06M220080723,   A02,   376,  1,      5,      5,2,20080807,1448, 46.6165, -35.1397, 4355,   3294.3,   2.8239,  34.9151,2,-999.0000,9,    1.056,2,    0.472,2
  06M220080723,   A02,   376,  1,      6,      6,2,20080807,1448, 46.6165, -35.1397, 4355,   3001.8,   2.9946,  34.9155,2,  34.9134,2,    1.095,2,     0.44,2
  06M220080723,   A02,   376,  1,      7,      7,2,20080807,1448, 46.6165, -35.1397, 4355,   2799.5,   3.1088,  34.9143,2,-999.0000,9, -999.000,9,     -999,9
  06M220080723,   A02,   376,  1,      8,      8,2,20080807,1448, 46.6165, -35.1397, 4355,   2598.5,   3.2068,  34.9093,2,-999.0000,9,    1.283,2,    0.528,2
  06M220080723,   A02,   376,  1,      9,      9,2,20080807,1448, 46.6165, -35.1397, 4355,   2401.0,   3.3166,  34.9074,2,-999.0000,9, -999.000,9,     -999,9
  06M220080723,   A02,   376,  1,     10,     10,2,20080807,1448, 46.6165, -35.1397, 4355,   2398.8,   3.3168,  34.9071,2,-999.0000,9,    1.356,2,    0.551,2
  06M220080723,   A02,   376,  1,     11,     11,2,20080807,1448, 46.6165, -35.1397, 4355,   2206.4,   3.4459,  34.9110,2,-999.0000,9,    1.388,2,    0.594,2
  06M220080723,   A02,   376,  1,     12,     12,2,20080807,1448, 46.6165, -35.1397, 4355,   1998.7,   3.5840,  34.9125,2,  34.9107,2,    1.546,2,    0.714,2
  06M220080723,   A02,   376,  1,     13,     13,2,20080807,1448, 46.6165, -35.1397, 4355,   1798.9,   3.7072,  34.9110,2,-999.0000,9,    1.681,2,    0.864,2
  06M220080723,   A02,   376,  1,     14,     14,2,20080807,1448, 46.6165, -35.1397, 4355,   1701.7,   3.7678,  34.9095,2,-999.0000,9,    1.787,2,    0.918,2
  06M220080723,   A02,   376,  1,     15,     15,2,20080807,1448, 46.6165, -35.1397, 4355,   1621.7,   3.8246,  34.9112,2,-999.0000,9,    1.838,2,    0.997,2
  06M220080723,   A02,   376,  1,     16,     16,2,20080807,1448, 46.6165, -35.1397, 4355,   1498.9,   3.8812,  34.9068,2,-999.0000,9,    1.907,2,    1.112,2
  06M220080723,   A02,   376,  1,     17,     17,2,20080807,1448, 46.6165, -35.1397, 4355,   1396.0,   4.0111,  34.9171,2,-999.0000,9,    1.909,2,     1.12,2
  06M220080723,   A02,   376,  1,     18,     18,2,20080807,1448, 46.6165, -35.1397, 4355,   1189.4,   4.2304,  34.9225,2,-999.0000,9,    1.977,2,     1.24,2
  06M220080723,   A02,   376,  1,     19,     19,2,20080807,1448, 46.6165, -35.1397, 4355,   1003.7,   4.6302,  34.9235,2,-999.0000,9,    1.911,2,    1.268,2
  06M220080723,   A02,   376,  1,     20,     20,2,20080807,1448, 46.6165, -35.1397, 4355,    902.1,   5.4331,  34.9935,2,-999.0000,9,    1.640,2,    1.065,2
  06M220080723,   A02,   376,  1,     21,     21,2,20080807,1448, 46.6165, -35.1397, 4355,    512.3,  10.1401,  35.2996,2,-999.0000,9,    1.321,2,    1.088,2
  06M220080723,   A02,   376,  1,     22,     22,2,20080807,1448, 46.6165, -35.1397, 4355,     15.1,  18.1712,  35.6152,2,-999.0000,9,    1.444,2,     1.34,2
  06M220080723,   A02,   377,  1,      1,      1,2,20080807,2145, 46.6840, -36.1163, 4148,   4197.5,   2.2245,  34.8920,2,  34.8928,2,    1.271,2,    0.678,2
  06M220080723,   A02,   377,  1,      2,      2,2,20080807,2145, 46.6840, -36.1163, 4148,   3998.5,   2.2637,  34.8942,2,-999.0000,9,    1.173,2,      0.6,2
  06M220080723,   A02,   377,  1,      3,      3,2,20080807,2145, 46.6840, -36.1163, 4148,   3698.5,   2.3655,  34.9003,2,  35.0465,2,    1.344,4,    0.764,4
  06M220080723,   A02,   377,  1,      4,      4,2,20080807,2145, 46.6840, -36.1163, 4148,   3398.5,   2.6594,  34.9129,2,-999.0000,9,    0.992,2,     0.43,2
  06M220080723,   A02,   377,  1,      5,      5,2,20080807,2145, 46.6840, -36.1163, 4148,   3083.5,   2.8921,  34.9163,2,-999.0000,9,    1.067,2,    0.448,2
  06M220080723,   A02,   377,  1,      6,      6,2,20080807,2145, 46.6840, -36.1163, 4148,   2792.7,   3.0981,  34.9131,2,-999.0000,9,    1.185,2,    0.506,2
  06M220080723,   A02,   377,  1,      7,      7,2,20080807,2145, 46.6840, -36.1163, 4148,   2792.6,   3.0981,  34.9127,2,-999.0000,9, -999.000,9,     -999,9
  06M220080723,   A02,   377,  1,      8,      8,2,20080807,2145, 46.6840, -36.1163, 4148,   2687.7,   3.1440,  34.9111,2,-999.0000,9,    1.227,2,    0.511,2
  06M220080723,   A02,   377,  1,      9,      9,2,20080807,2145, 46.6840, -36.1163, 4148,   2497.9,   3.2584,  34.9087,2,  34.9085,2,    1.312,2,    0.534,2
  06M220080723,   A02,   377,  1,     10,     10,2,20080807,2145, 46.6840, -36.1163, 4148,   2494.7,   3.2622,  34.9088,2,-999.0000,9, -999.000,9,     -999,9
  06M220080723,   A02,   377,  1,     11,     11,2,20080807,2145, 46.6840, -36.1163, 4148,   2301.9,   3.3987,  34.9087,2,-999.0000,9,    1.369,2,    0.553,2
  06M220080723,   A02,   377,  1,     12,     12,2,20080807,2145, 46.6840, -36.1163, 4148,   2113.6,   3.5453,  34.9143,2,-999.0000,9,    1.435,2,    0.602,2
  06M220080723,   A02,   377,  1,     13,     13,2,20080807,2145, 46.6840, -36.1163, 4148,   1921.5,   3.7132,  34.9183,2,-999.0000,9,    1.536,2,    0.717,2
  06M220080723,   A02,   377,  1,     14,     14,2,20080807,2145, 46.6840, -36.1163, 4148,   1825.3,   3.7793,  34.9195,2,-999.0000,9,    1.605,2,    0.793,2
  06M220080723,   A02,   377,  1,     15,     15,2,20080807,2145, 46.6840, -36.1163, 4148,   1708.3,   3.8597,  34.9178,2,-999.0000,9,    1.710,2,    0.878,2
  06M220080723,   A02,   377,  1,     16,     16,2,20080807,2145, 46.6840, -36.1163, 4148,   1519.8,   3.9594,  34.9078,2,-999.0000,9,    1.987,2,    1.182,2
  06M220080723,   A02,   377,  1,     17,     17,2,20080807,2145, 46.6840, -36.1163, 4148,   1403.8,   4.0853,  34.9160,2,-999.0000,9, -999.000,9,     -999,9
  06M220080723,   A02,   377,  1,     18,     18,2,20080807,2145, 46.6840, -36.1163, 4148,   1302.0,   4.2216,  34.9203,2,-999.0000,9,    1.990,2,    1.255,2
  06M220080723,   A02,   377,  1,     19,     19,2,20080807,2145, 46.6840, -36.1163, 4148,   1128.2,   4.7965,  34.9531,2,-999.0000,9,    1.812,2,    1.144,2
  06M220080723,   A02,   377,  1,     20,     20,2,20080807,2145, 46.6840, -36.1163, 4148,    920.7,   6.0353,  34.9894,2,-999.0000,9,    1.518,2,    1.026,2
  06M220080723,   A02,   377,  1,     21,     21,2,20080807,2145, 46.6840, -36.1163, 4148,    594.6,  11.2693,  35.4712,2,-999.0000,9,    1.481,2,    1.252,2
  06M220080723,   A02,   377,  1,     22,     22,2,20080807,2145, 46.6840, -36.1163, 4148,     14.8,  18.7296,  35.7438,2,  35.7452,2,    1.395,2,    1.267,2
  06M220080723,   A02,   378,  1,      1,      1,2,20080808,0353, 46.7335, -37.1000, 4570,   4642.2,   2.2110,  34.8902,2,-999.0000,9,    1.354,2,    0.726,2
  06M220080723,   A02,   378,  1,      2,      2,2,20080808,0353, 46.7335, -37.1000, 4570,   4398.0,   2.2337,  34.8914,2,-999.0000,9, -999.000,9,     -999,9
  06M220080723,   A02,   378,  1,      3,      3,2,20080808,0353, 46.7335, -37.1000, 4570,   4297.3,   2.2528,  34.8925,2,  34.8892,2,    1.158,2,    0.609,2
  06M220080723,   A02,   378,  1,      4,      4,2,20080808,0353, 46.7335, -37.1000, 4570,   3998.3,   2.3521,  34.8984,2,-999.0000,9,    0.917,2,    0.444,2
  06M220080723,   A02,   378,  1,      5,      5,2,20080808,0353, 46.7335, -37.1000, 4570,   3796.9,   2.4669,  34.9043,2,-999.0000,9,    0.914,2,    0.412,2
  06M220080723,   A02,   378,  1,      6,      6,2,20080808,0353, 46.7335, -37.1000, 4570,   3598.0,   2.6133,  34.9103,2,-999.0000,9,    1.829,4,    1.034,4
  06M220080723,   A02,   378,  1,      7,      7,2,20080808,0353, 46.7335, -37.1000, 4570,   3397.6,   2.7632,  34.9149,2,  34.9142,2,    0.971,2,    0.426,2
  06M220080723,   A02,   378,  1,      8,      8,2,20080808,0353, 46.7335, -37.1000, 4570,   3197.8,   2.9026,  34.9180,2,-999.0000,9,    0.938,2,    0.352,2
  06M220080723,   A02,   378,  1,      9,      9,2,20080808,0353, 46.7335, -37.1000, 4570,   2997.0,   3.0118,  34.9159,2,-999.0000,9,    1.003,2,    0.378,2
  06M220080723,   A02,   378,  1,     10,     10,2,20080808,0353, 46.7335, -37.1000, 4570,   2796.7,   3.1205,  34.9122,2,-999.0000,9, -999.000,9,     -999,9
  06M220080723,   A02,   378,  1,     11,     11,2,20080808,0353, 46.7335, -37.1000, 4570,   2600.1,   3.2227,  34.9087,2,-999.0000,9,    1.209,2,    0.457,2
  06M220080723,   A02,   378,  1,     12,     12,2,20080808,0353, 46.7335, -37.1000, 4570,   2417.1,   3.3178,  34.9068,2,-999.0000,9,    1.303,2,    0.489,2
  06M220080723,   A02,   378,  1,     13,     13,2,20080808,0353, 46.7335, -37.1000, 4570,   2219.3,   3.4437,  34.9097,2,  34.9058,2,    1.389,2,    0.562,2
  06M220080723,   A02,   378,  1,     14,     14,2,20080808,0353, 46.7335, -37.1000, 4570,   1995.7,   3.6073,  34.9145,2,-999.0000,9,    1.459,2,     0.65,2
  06M220080723,   A02,   378,  1,     15,     15,2,20080808,0353, 46.7335, -37.1000, 4570,   1799.2,   3.7319,  34.9168,2,-999.0000,9,    1.572,2,    0.756,2
  06M220080723,   A02,   378,  1,     16,     16,2,20080808,0353, 46.7335, -37.1000, 4570,   1592.3,   3.8380,  34.9148,2,-999.0000,9,    1.762,2,    0.924,2
  06M220080723,   A02,   378,  1,     17,     17,2,20080808,0353, 46.7335, -37.1000, 4570,   1399.0,   4.0506,  34.9259,2,-999.0000,9,    1.836,2,    1.041,2
  06M220080723,   A02,   378,  1,     18,     18,2,20080808,0353, 46.7335, -37.1000, 4570,   1179.0,   4.3396,  34.9381,2,-999.0000,9,    1.840,2,    1.104,2
  06M220080723,   A02,   378,  1,     19,     19,2,20080808,0353, 46.7335, -37.1000, 4570,    999.5,   4.9121,  34.9682,2,  34.9646,2,    1.666,2,    1.019,2
  06M220080723,   A02,   378,  1,     20,     20,2,20080808,0353, 46.7335, -37.1000, 4570,    705.4,   7.5334,  35.0901,2,-999.0000,9, -999.000,9,     -999,9
  06M220080723,   A02,   378,  1,     21,     21,2,20080808,0353, 46.7335, -37.1000, 4570,    297.4,  12.9917,  35.7492,2,-999.0000,9, -999.000,9,     -999,9
  06M220080723,   A02,   378,  1,     22,     22,2,20080808,0353, 46.7335, -37.1000, 4570,     16.3,  19.1689,  35.6681,2,-999.0000,9,    1.368,2,    1.262,2
  06M220080723,   A02,   380,  1,      1,      1,2,20080808,0950, 46.8080, -38.0832, 4474,   4636.1,   2.1420,  34.8917,2,  34.8902,2,    1.637,2,    0.973,2
  06M220080723,   A02,   380,  1,      2,      2,2,20080808,0950, 46.8080, -38.0832, 4474,   4346.9,   2.2438,  34.8925,2,-999.0000,9,    1.307,2,    0.704,2
  06M220080723,   A02,   380,  1,      3,      3,2,20080808,0950, 46.8080, -38.0832, 4474,   4080.1,   2.3029,  34.8959,2,-999.0000,9,    1.195,2,    0.613,2
  06M220080723,   A02,   380,  1,      4,      4,2,20080808,0950, 46.8080, -38.0832, 4474,   3697.0,   2.5851,  34.9084,2,  34.9059,2, -999.000,9,     -999,9
  06M220080723,   A02,   380,  1,      5,      5,2,20080808,0950, 46.8080, -38.0832, 4474,   3299.2,   2.8410,  34.9150,2,-999.0000,9,    1.120,2,    0.513,2
  06M220080723,   A02,   380,  1,      6,      6,2,20080808,0950, 46.8080, -38.0832, 4474,   3010.1,   3.0400,  34.9146,2,-999.0000,9,    1.159,2,    0.493,2
  06M220080723,   A02,   380,  1,      7,      7,2,20080808,0950, 46.8080, -38.0832, 4474,   2528.6,   3.2681,  34.9109,2,  34.9081,2, -999.000,9,     -999,9
  06M220080723,   A02,   380,  1,      8,      8,2,20080808,0950, 46.8080, -38.0832, 4474,   2126.6,   3.5631,  34.9182,2,-999.0000,9,    1.411,2,    0.609,2
  06M220080723,   A02,   380,  1,      9,      9,2,20080808,0950, 46.8080, -38.0832, 4474,   1699.4,   3.8393,  34.9202,2,-999.0000,9,    1.603,2,    0.818,2
  06M220080723,   A02,   380,  1,     10,     10,2,20080808,0950, 46.8080, -38.0832, 4474,   1496.5,   3.9951,  34.9230,2,-999.0000,9, -999.000,9,     -999,9
  06M220080723,   A02,   380,  1,     11,     11,2,20080808,0950, 46.8080, -38.0832, 4474,   1497.9,   3.9975,  34.9230,2,-999.0000,9,    1.739,2,    0.972,2
  06M220080723,   A02,   380,  1,     12,     12,2,20080808,0950, 46.8080, -38.0832, 4474,   1324.8,   4.2156,  34.9374,2,  34.9406,2, -999.000,9,     -999,9
  06M220080723,   A02,   380,  1,     13,     13,2,20080808,0950, 46.8080, -38.0832, 4474,   1093.8,   4.5387,  34.9573,2,-999.0000,9,    1.776,2,    1.122,2
  06M220080723,   A02,   380,  1,     14,     14,2,20080808,0950, 46.8080, -38.0832, 4474,    890.3,   5.3974,  34.9912,2,-999.0000,9,    1.547,2,    0.999,2
  06M220080723,   A02,   380,  1,     15,     15,2,20080808,0950, 46.8080, -38.0832, 4474,    599.3,   7.6919,  35.0316,2,-999.0000,9,    1.209,2,    0.896,2
  06M220080723,   A02,   380,  1,     16,     16,2,20080808,0950, 46.8080, -38.0832, 4474,     42.8,  17.9743,  35.8609,2,-999.0000,9, -999.000,9,     -999,9
  06M220080723,   A02,   380,  1,     17,     17,2,20080808,0950, 46.8080, -38.0832, 4474,     42.6,  17.9549,  35.8629,2,-999.0000,9, -999.000,9,     -999,9
  06M220080723,   A02,   380,  1,     18,     18,2,20080808,0950, 46.8080, -38.0832, 4474,     42.5,  17.9380,  35.8650,2,-999.0000,9, -999.000,9,     -999,9
  06M220080723,   A02,   380,  1,     19,     19,2,20080808,0950, 46.8080, -38.0832, 4474,     20.9,  18.5552,  35.4610,2,-999.0000,9, -999.000,9,     -999,9
  06M220080723,   A02,   380,  1,     20,     20,2,20080808,0950, 46.8080, -38.0832, 4474,     21.2,  18.5579,  35.4595,2,-999.0000,9, -999.000,9,     -999,9
  06M220080723,   A02,   380,  1,     21,     21,2,20080808,0950, 46.8080, -38.0832, 4474,     21.5,  18.5623,  35.4568,2,-999.0000,9, -999.000,9,     -999,9
  06M220080723,   A02,   380,  1,     22,     22,2,20080808,0950, 46.8080, -38.0832, 4474,     14.3,  18.8829,  35.4217,2,  35.4225,2,    1.376,2,    1.294,2
  06M220080723,   A02,   381,  1,      1,      1,2,20080808,1614, 46.8657, -39.0660, 4139,   4670.7,   2.1417,  34.8914,2,  34.8906,2,    1.657,2,    0.954,2
  06M220080723,   A02,   381,  1,      2,      2,2,20080808,1614, 46.8657, -39.0660, 4139,   4398.5,   2.2250,  34.8920,2,-999.0000,9,    1.316,2,    0.713,2
  06M220080723,   A02,   381,  1,      3,      3,2,20080808,1614, 46.8657, -39.0660, 4139,   4097.2,   2.3074,  34.8963,2,  34.8936,2,    1.109,2,    0.561,2
  06M220080723,   A02,   381,  1,      4,      4,2,20080808,1614, 46.8657, -39.0660, 4139,   3799.6,   2.4732,  34.9044,2,-999.0000,9,    1.016,2,    0.479,2
  06M220080723,   A02,   381,  1,      5,      5,2,20080808,1614, 46.8657, -39.0660, 4139,   3497.6,   2.7330,  34.9146,2,-999.0000,9,    1.038,2,    0.499,2
  06M220080723,   A02,   381,  1,      6,      6,2,20080808,1614, 46.8657, -39.0660, 4139,   3203.7,   2.9145,  34.9160,2,-999.0000,9, -999.000,9,     -999,9
  06M220080723,   A02,   381,  1,      7,      7,2,20080808,1614, 46.8657, -39.0660, 4139,   3010.0,   3.0288,  34.9157,2,-999.0000,9,    1.114,2,     0.49,2
  06M220080723,   A02,   381,  1,      8,      8,2,20080808,1614, 46.8657, -39.0660, 4139,   2797.5,   3.1288,  34.9126,2,  34.9111,2,    1.201,2,    0.538,2
  06M220080723,   A02,   381,  1,      9,      9,2,20080808,1614, 46.8657, -39.0660, 4139,   2507.6,   3.2862,  34.9092,2,-999.0000,9,    1.361,2,    0.611,2
  06M220080723,   A02,   381,  1,     10,     10,2,20080808,1614, 46.8657, -39.0660, 4139,   2324.7,   3.4110,  34.9116,2,-999.0000,9,    1.774,4,    0.945,4
  06M220080723,   A02,   381,  1,     11,     11,2,20080808,1614, 46.8657, -39.0660, 4139,   2324.6,   3.4113,  34.9115,2,-999.0000,9, -999.000,9,     -999,9
  06M220080723,   A02,   381,  1,     12,     12,2,20080808,1614, 46.8657, -39.0660, 4139,   2112.6,   3.5531,  34.9124,2,-999.0000,9,    1.359,2,    0.747,2
  06M220080723,   A02,   381,  1,     13,     13,2,20080808,1614, 46.8657, -39.0660, 4139,   1905.8,   3.6997,  34.9138,2,-999.0000,9,    1.583,2,    0.874,2
  06M220080723,   A02,   381,  1,     14,     14,2,20080808,1614, 46.8657, -39.0660, 4139,   1695.5,   3.7909,  34.9058,2,-999.0000,9,    1.867,2,    1.083,2
  06M220080723,   A02,   381,  1,     15,     15,2,20080808,1614, 46.8657, -39.0660, 4139,   1548.8,   3.8561,  34.9008,2,  34.8991,2,   -0.004,4,    1.254,2
  06M220080723,   A02,   381,  1,     16,     16,2,20080808,1614, 46.8657, -39.0660, 4139,   1403.0,   4.0624,  34.9185,2,-999.0000,9,    1.962,2,     1.28,2
  06M220080723,   A02,   381,  1,     17,     17,2,20080808,1614, 46.8657, -39.0660, 4139,   1217.5,   4.1674,  34.9068,2,-999.0000,9,   -0.004,4,    1.514,2
  06M220080723,   A02,   381,  1,     18,     18,2,20080808,1614, 46.8657, -39.0660, 4139,   1095.0,   4.7848,  34.9732,2,-999.0000,9,    1.633,2,    1.159,2
  06M220080723,   A02,   381,  1,     19,     19,2,20080808,1614, 46.8657, -39.0660, 4139,   1011.1,   5.1097,  34.9918,2,-999.0000,9,    1.623,2,    0.989,2
  06M220080723,   A02,   381,  1,     20,     20,2,20080808,1614, 46.8657, -39.0660, 4139,    826.8,   6.4329,  35.0323,2,-999.0000,9,    1.108,2,    0.757,2
  06M220080723,   A02,   381,  1,     21,     21,2,20080808,1614, 46.8657, -39.0660, 4139,    500.5,  11.7303,  35.5261,2,-999.0000,9, -999.000,9,     -999,9
  06M220080723,   A02,   381,  1,     22,     22,2,20080808,1614, 46.8657, -39.0660, 4139,     16.6,  21.1745,  36.0442,2,  36.0442,2,    1.153,4,      1.2,2