BOTTLE,20220921CCHSIOAMB
EXPOCODE,SECT_ID,STNNBR,CASTNO,SAMPNO,BTLNBR,BTLNBR_FLAG_W,DATE,TIME,LATITUDE,LONGITUDE,DEPTH,CTDPRS,CTDTMP,CTDSAL,CTDSAL_FLAG_W,SALNTY,SALNTY_FLAG_W,CFC-12,CFC-12_FLAG_W,SF6,SF6_FLAG_W
,,,,,,,,,,,METERS,DBAR,ITS-90,PSS-78,,PSS-78,,PMOL/KG,,FMOL/KG,
  06M220080723,   A02,   347,  1,      1,      1,2,20080730,2307, 49.0142, -32.6138, 3978,   4009.4,   2.4134,  34.9023,2,-999.0000,9,    1.142,2,     0.62,2
  06M220080723,   A02,   347,  1,      2,      2,2,20080730,2307, 49.0142, -32.6138, 3978,   3764.5,   2.4944,  34.9072,2,-999.0000,9,    0.965,2,    0.435,2
  06M220080723,   A02,   347,  1,      3,      3,2,20080730,2307, 49.0142, -32.6138, 3978,   3558.6,   2.5952,  34.9124,2,-999.0000,9,    0.955,2,    0.398,2
  06M220080723,   A02,   347,  1,      4,      4,2,20080730,2307, 49.0142, -32.6138, 3978,   3353.1,   2.7298,  34.9182,2,-999.0000,9, -999.000,9,     -999,9
  06M220080723,   A02,   347,  1,      5,      5,2,20080730,2307, 49.0142, -32.6138, 3978,   3251.1,   2.7799,  34.9200,2,-999.0000,9,    1.012,2,    0.433,2
  06M220080723,   A02,   347,  1,      6,      6,2,20080730,2307, 49.0142, -32.6138, 3978,   2944.8,   2.9595,  34.9188,2,  34.9181,2,    1.054,2,    0.438,2
  06M220080723,   A02,   347,  1,      7,      7,2,20080730,2307, 49.0142, -32.6138, 3978,   2628.0,   3.1152,  34.9119,2,-999.0000,9,    1.159,2,    0.464,2
  06M220080723,   A02,   347,  1,      8,      8,2,20080730,2307, 49.0142, -32.6138, 3978,   2420.8,   3.2164,  34.9076,2,-999.0000,9,    1.288,2,    0.517,2
  06M220080723,   A02,   347,  1,      9,      9,2,20080730,2307, 49.0142, -32.6138, 3978,   2216.0,   3.3138,  34.9052,2,-999.0000,9,    1.391,2,    0.551,2
  06M220080723,   A02,   347,  1,     10,     10,2,20080730,2307, 49.0142, -32.6138, 3978,   2011.6,   3.4606,  34.9104,2,-999.0000,9,    1.440,2,    0.598,2
  06M220080723,   A02,   347,  1,     11,     11,2,20080730,2307, 49.0142, -32.6138, 3978,   1822.0,   3.6021,  34.9149,2,-999.0000,9,    1.496,2,    0.679,2
  06M220080723,   A02,   347,  1,     12,     12,2,20080730,2307, 49.0142, -32.6138, 3978,   1594.1,   3.7118,  34.9115,2,-999.0000,9,    1.695,2,    0.826,2
  06M220080723,   A02,   347,  1,     13,     13,2,20080730,2307, 49.0142, -32.6138, 3978,   1390.5,   3.8364,  34.9091,2,-999.0000,9, -999.000,9,     -999,9
  06M220080723,   A02,   347,  1,     14,     14,2,20080730,2307, 49.0142, -32.6138, 3978,   1196.0,   4.0689,  34.9252,2,-999.0000,9,    1.849,2,     1.06,2
  06M220080723,   A02,   347,  1,     15,     15,2,20080730,2307, 49.0142, -32.6138, 3978,   1000.0,   4.3385,  34.9277,2,-999.0000,9,    1.958,2,    1.214,2
  06M220080723,   A02,   347,  1,     16,     16,2,20080730,2307, 49.0142, -32.6138, 3978,    899.2,   4.5702,  34.9335,2,-999.0000,9, -999.000,9,     -999,9
  06M220080723,   A02,   347,  1,     17,     17,2,20080730,2307, 49.0142, -32.6138, 3978,    798.5,   4.9500,  34.9439,2,-999.0000,9,    1.748,2,    1.121,2
  06M220080723,   A02,   347,  1,     18,     18,2,20080730,2307, 49.0142, -32.6138, 3978,    604.9,   6.2275,  34.9542,2,-999.0000,9,    1.571,2,    1.088,2
  06M220080723,   A02,   347,  1,     19,     19,2,20080730,2307, 49.0142, -32.6138, 3978,    489.5,   7.1826,  34.9657,2,-999.0000,9, -999.000,9,     -999,9
  06M220080723,   A02,   347,  1,     20,     20,2,20080730,2307, 49.0142, -32.6138, 3978,    323.3,  10.1742,  35.3160,2,-999.0000,9,    1.466,2,    1.187,2
  06M220080723,   A02,   347,  1,     21,     21,2,20080730,2307, 49.0142, -32.6138, 3978,     97.8,  13.6017,  35.6214,2,-999.0000,9,    1.655,2,     1.45,2
  06M220080723,   A02,   347,  1,     22,     22,2,20080730,2307, 49.0142, -32.6138, 3978,     14.2,  15.0470,  35.5439,2,-999.0000,9,    1.580,2,    1.445,2
  06M220080723,   A02,   348,  1,      1,      1,2,20080731,0258, 49.2415, -32.9243, 3884,   3939.9,   2.3515,  34.8990,2,  34.8987,2,    1.075,2,    0.524,2
  06M220080723,   A02,   348,  1,      2,      2,2,20080731,0258, 49.2415, -32.9243, 3884,   3798.2,   2.3939,  34.9025,2,-999.0000,9, -999.000,9,     -999,9
  06M220080723,   A02,   348,  1,      3,      3,2,20080731,0258, 49.2415, -32.9243, 3884,   3599.5,   2.4949,  34.9078,2,-999.0000,9,    0.978,2,    0.435,2
  06M220080723,   A02,   348,  1,      4,      4,2,20080731,0258, 49.2415, -32.9243, 3884,   3400.1,   2.6856,  34.9171,2,-999.0000,9,    0.971,2,    0.404,2
  06M220080723,   A02,   348,  1,      5,      5,2,20080731,0258, 49.2415, -32.9243, 3884,   3099.6,   2.9116,  34.9209,2,  34.9185,2,    1.056,2,    0.467,2
  06M220080723,   A02,   348,  1,      6,      6,2,20080731,0258, 49.2415, -32.9243, 3884,   2798.3,   3.0511,  34.9159,2,-999.0000,9,    1.137,2,     0.45,2
  06M220080723,   A02,   348,  1,      7,      7,2,20080731,0258, 49.2415, -32.9243, 3884,   2484.9,   3.1947,  34.9091,2,-999.0000,9,    1.251,2,    0.477,2
  06M220080723,   A02,   348,  1,      8,      8,2,20080731,0258, 49.2415, -32.9243, 3884,   2292.4,   3.3018,  34.9050,2,-999.0000,9,    1.368,2,    0.537,2
  06M220080723,   A02,   348,  1,      9,      9,2,20080731,0258, 49.2415, -32.9243, 3884,   2101.6,   3.4325,  34.9077,2,  34.9050,2,    1.434,2,    0.597,2
  06M220080723,   A02,   348,  1,     10,     10,2,20080731,0258, 49.2415, -32.9243, 3884,   1895.8,   3.5780,  34.9132,2,-999.0000,9,    1.508,2,    0.648,2
  06M220080723,   A02,   348,  1,     11,     11,2,20080731,0258, 49.2415, -32.9243, 3884,   1699.7,   3.6809,  34.9129,2,-999.0000,9,    1.640,2,    0.768,2
  06M220080723,   A02,   348,  1,     12,     12,2,20080731,0258, 49.2415, -32.9243, 3884,   1499.6,   3.7783,  34.9103,2,-999.0000,9,    1.821,2,     0.92,2
  06M220080723,   A02,   348,  1,     13,     13,2,20080731,0258, 49.2415, -32.9243, 3884,   1305.6,   3.9500,  34.9160,2,-999.0000,9,    1.876,2,    1.069,2
  06M220080723,   A02,   348,  1,     14,     14,2,20080731,0258, 49.2415, -32.9243, 3884,   1092.6,   4.1831,  34.9222,2,  34.9231,2,    1.934,2,    1.177,2
  06M220080723,   A02,   348,  1,     15,     15,2,20080731,0258, 49.2415, -32.9243, 3884,    903.7,   4.7411,  34.9483,2,-999.0000,9,    1.793,2,    1.082,2
  06M220080723,   A02,   348,  1,     16,     16,2,20080731,0258, 49.2415, -32.9243, 3884,    704.5,   5.7673,  34.9771,2,-999.0000,9,    1.470,2,    0.923,2
  06M220080723,   A02,   348,  1,     17,     17,2,20080731,0258, 49.2415, -32.9243, 3884,    395.1,   9.4509,  35.2173,2,-999.0000,9,    1.578,2,     1.29,2
  06M220080723,   A02,   348,  1,     18,     18,2,20080731,0258, 49.2415, -32.9243, 3884,    168.0,  12.6718,  35.6697,2,-999.0000,9,    1.500,2,    1.247,2
  06M220080723,   A02,   348,  1,     19,     19,2,20080731,0258, 49.2415, -32.9243, 3884,     50.1,  13.8708,  35.5842,2,-999.0000,9, -999.000,9,     -999,9
  06M220080723,   A02,   348,  1,     20,     20,2,20080731,0258, 49.2415, -32.9243, 3884,     49.3,  13.8581,  35.5826,2,-999.0000,9, -999.000,9,     -999,9
  06M220080723,   A02,   348,  1,     21,     21,2,20080731,0258, 49.2415, -32.9243, 3884,     48.5,  13.8810,  35.5970,2,-999.0000,9, -999.000,9,     -999,9
  06M220080723,   A02,   348,  1,     22,     22,2,20080731,0258, 49.2415, -32.9243, 3884,     15.8,  14.7156,  35.2700,2,  35.2680,2,    1.633,2,    1.461,2
  06M220080723,   A02,   349,  1,      1,      1,2,20080731,0658, 49.5080, -33.2415, 4047,   4109.5,   2.3649,  34.8988,2,-999.0000,9, -999.000,9,     -999,9
  06M220080723,   A02,   349,  1,      2,      2,2,20080731,0658, 49.5080, -33.2415, 4047,   3762.8,   2.4491,  34.9054,2,-999.0000,9, -999.000,9,     -999,9
  06M220080723,   A02,   349,  1,      3,      3,2,20080731,0658, 49.5080, -33.2415, 4047,   3557.7,   2.6369,  34.9142,2,-999.0000,9, -999.000,9,     -999,9
  06M220080723,   A02,   349,  1,      4,      4,2,20080731,0658, 49.5080, -33.2415, 4047,   3351.4,   2.7530,  34.9174,2,-999.0000,9, -999.000,9,     -999,9
  06M220080723,   A02,   349,  1,      5,      5,2,20080731,0658, 49.5080, -33.2415, 4047,   3045.6,   2.9536,  34.9183,2,-999.0000,9, -999.000,9,     -999,9
  06M220080723,   A02,   349,  1,      6,      6,2,20080731,0658, 49.5080, -33.2415, 4047,   2729.6,   3.1226,  34.9147,2,-999.0000,9, -999.000,9,     -999,9
  06M220080723,   A02,   349,  1,      7,      7,2,20080731,0658, 49.5080, -33.2415, 4047,   2439.1,   3.2481,  34.9084,2,  34.9054,2, -999.000,9,     -999,9
  06M220080723,   A02,   349,  1,      8,      8,2,20080731,0658, 49.5080, -33.2415, 4047,   2223.4,   3.3633,  34.9074,2,-999.0000,9, -999.000,9,     -999,9
  06M220080723,   A02,   349,  1,      9,      9,2,20080731,0658, 49.5080, -33.2415, 4047,   2031.8,   3.4887,  34.9109,2,-999.0000,9, -999.000,9,     -999,9
  06M220080723,   A02,   349,  1,     10,     10,2,20080731,0658, 49.5080, -33.2415, 4047,   1828.6,   3.6357,  34.9131,2,-999.0000,9, -999.000,9,     -999,9
  06M220080723,   A02,   349,  1,     11,     11,2,20080731,0658, 49.5080, -33.2415, 4047,   1641.8,   3.7149,  34.9041,2,-999.0000,9, -999.000,9,     -999,9
  06M220080723,   A02,   349,  1,     12,     12,2,20080731,0658, 49.5080, -33.2415, 4047,   1426.3,   3.8090,  34.8998,2,  34.8967,2, -999.000,9,     -999,9
  06M220080723,   A02,   349,  1,     13,     13,2,20080731,0658, 49.5080, -33.2415, 4047,   1213.4,   3.9964,  34.9043,2,-999.0000,9, -999.000,9,     -999,9
  06M220080723,   A02,   349,  1,     14,     14,2,20080731,0658, 49.5080, -33.2415, 4047,   1012.6,   4.2403,  34.9123,2,-999.0000,9, -999.000,9,     -999,9
  06M220080723,   A02,   349,  1,     15,     15,2,20080731,0658, 49.5080, -33.2415, 4047,    818.4,   5.0004,  34.9413,2,-999.0000,9, -999.000,9,     -999,9
  06M220080723,   A02,   349,  1,     16,     16,2,20080731,0658, 49.5080, -33.2415, 4047,    522.8,   8.0822,  35.0697,2,-999.0000,9, -999.000,9,     -999,9
  06M220080723,   A02,   349,  1,     17,     17,2,20080731,0658, 49.5080, -33.2415, 4047,    320.6,  10.8386,  35.3971,2,-999.0000,9, -999.000,9,     -999,9
  06M220080723,   A02,   349,  1,     18,     18,2,20080731,0658, 49.5080, -33.2415, 4047,     98.3,  14.0641,  35.6203,2,-999.0000,9, -999.000,9,     -999,9
  06M220080723,   A02,   349,  1,     19,     19,2,20080731,0658, 49.5080, -33.2415, 4047,     70.0,  15.1715,  35.5346,2,-999.0000,9, -999.000,9,     -999,9
  06M220080723,   A02,   349,  1,     20,     20,2,20080731,0658, 49.5080, -33.2415, 4047,     67.5,  15.2506,  35.5246,2,-999.0000,9, -999.000,9,     -999,9
  06M220080723,   A02,   349,  1,     21,     21,2,20080731,0658, 49.5080, -33.2415, 4047,     65.0,  15.2648,  35.5237,2,-999.0000,9, -999.000,9,     -999,9
  06M220080723,   A02,   349,  1,     22,     22,2,20080731,0658, 49.5080, -33.2415, 4047,     17.1,  15.3690,  35.4567,2,-999.0000,9, -999.000,9,     -999,9
  06M220080723,   A02,   350,  1,      1,      1,2,20080731,1105, 49.7832, -33.5500, 4229,   4295.2,   2.3753,  34.8981,2,  34.8983,2,    1.097,2,    0.496,2
  06M220080723,   A02,   350,  1,      2,      2,2,20080731,1105, 49.7832, -33.5500, 4229,   4295.3,   2.3753,  34.8984,2,-999.0000,9, -999.000,9,     -999,9
  06M220080723,   A02,   350,  1,      3,      3,2,20080731,1105, 49.7832, -33.5500, 4229,   4174.3,   2.3990,  34.9004,2,-999.0000,9,    1.054,2,    0.497,2
  06M220080723,   A02,   350,  1,      4,      4,2,20080731,1105, 49.7832, -33.5500, 4229,   3866.6,   2.4469,  34.9043,2,-999.0000,9,    1.007,2,    0.441,2
  06M220080723,   A02,   350,  1,      5,      5,2,20080731,1105, 49.7832, -33.5500, 4229,   3611.8,   2.5985,  34.9124,2,-999.0000,9,    0.942,2,    0.386,2
  06M220080723,   A02,   350,  1,      6,      6,2,20080731,1105, 49.7832, -33.5500, 4229,   3299.9,   2.8492,  34.9253,2,-999.0000,9,    1.041,2,    0.468,2
  06M220080723,   A02,   350,  1,      7,      7,2,20080731,1105, 49.7832, -33.5500, 4229,   3045.8,   2.9967,  34.9241,2,-999.0000,9,    1.163,2,    0.519,2
  06M220080723,   A02,   350,  1,      8,      8,2,20080731,1105, 49.7832, -33.5500, 4229,   2798.5,   3.0950,  34.9127,2,-999.0000,9,    1.210,2,    0.507,2
  06M220080723,   A02,   350,  1,      9,      9,2,20080731,1105, 49.7832, -33.5500, 4229,   2542.8,   3.2054,  34.9085,2,  34.9099,2,    1.268,2,    0.532,2
  06M220080723,   A02,   350,  1,     10,     10,2,20080731,1105, 49.7832, -33.5500, 4229,   2280.4,   3.3341,  34.9061,2,-999.0000,9,    1.408,2,    0.591,2
  06M220080723,   A02,   350,  1,     11,     11,2,20080731,1105, 49.7832, -33.5500, 4229,   2065.5,   3.4908,  34.9099,2,-999.0000,9,    1.498,2,    0.659,2
  06M220080723,   A02,   350,  1,     12,     12,2,20080731,1105, 49.7832, -33.5500, 4229,   1896.2,   3.5888,  34.9118,2,-999.0000,9,    1.557,2,     0.71,2
  06M220080723,   A02,   350,  1,     13,     13,2,20080731,1105, 49.7832, -33.5500, 4229,   1696.8,   3.6877,  34.9069,2,-999.0000,9,    1.726,2,    0.891,2
  06M220080723,   A02,   350,  1,     14,     14,2,20080731,1105, 49.7832, -33.5500, 4229,   1475.1,   3.7525,  34.8942,2,-999.0000,9,    2.010,2,     1.11,2
  06M220080723,   A02,   350,  1,     15,     15,2,20080731,1105, 49.7832, -33.5500, 4229,   1398.9,   3.8356,  34.8961,2,-999.0000,9,    2.016,2,    1.199,2
  06M220080723,   A02,   350,  1,     16,     16,2,20080731,1105, 49.7832, -33.5500, 4229,   1305.8,   4.0313,  34.9149,2,  34.9132,2,    1.965,2,    1.185,2
  06M220080723,   A02,   350,  1,     17,     17,2,20080731,1105, 49.7832, -33.5500, 4229,   1093.7,   4.3157,  34.9237,2,-999.0000,9, -999.000,9,     -999,9
  06M220080723,   A02,   350,  1,     18,     18,2,20080731,1105, 49.7832, -33.5500, 4229,    899.9,   4.8608,  34.9451,2,-999.0000,9, -999.000,9,     -999,9
  06M220080723,   A02,   350,  1,     19,     19,2,20080731,1105, 49.7832, -33.5500, 4229,    685.2,   6.3995,  34.9479,2,-999.0000,9,    1.501,2,    1.013,2
  06M220080723,   A02,   350,  1,     20,     20,2,20080731,1105, 49.7832, -33.5500, 4229,    399.7,  11.2234,  35.4948,2,-999.0000,9,    1.675,2,    1.428,2
  06M220080723,   A02,   350,  1,     21,     21,2,20080731,1105, 49.7832, -33.5500, 4229,    211.5,  12.0342,  35.6201,2,-999.0000,9, -999.000,9,     -999,9
  06M220080723,   A02,   350,  1,     22,     22,2,20080731,1105, 49.7832, -33.5500, 4229,     14.1,  15.3738,  35.5240,2,-999.0000,9,    1.569,2,    1.405,2
  06M220080723,   A02,   351,  1,      1,      1,2,20080731,1511, 50.0498, -33.8663, 4266,   4338.4,   2.3593,  34.8974,2,  34.8987,2, -999.000,9,     -999,9
  06M220080723,   A02,   351,  1,      2,      2,2,20080731,1511, 50.0498, -33.8663, 4266,   4338.8,   2.3594,  34.8973,2,-999.0000,9,    1.121,2,    0.544,2
  06M220080723,   A02,   351,  1,      3,      3,2,20080731,1511, 50.0498, -33.8663, 4266,   3898.1,   2.4318,  34.9031,2,-999.0000,9,    0.989,2,    0.441,2
  06M220080723,   A02,   351,  1,      4,      4,2,20080731,1511, 50.0498, -33.8663, 4266,   3598.7,   2.5832,  34.9115,2,-999.0000,9,    0.922,2,    0.392,2
  06M220080723,   A02,   351,  1,      5,      5,2,20080731,1511, 50.0498, -33.8663, 4266,   3277.3,   2.7970,  34.9175,2,-999.0000,9,    0.977,2,    0.398,2
  06M220080723,   A02,   351,  1,      6,      6,2,20080731,1511, 50.0498, -33.8663, 4266,   2972.8,   2.9846,  34.9186,2,  34.9205,2,    1.036,2,    0.396,2
  06M220080723,   A02,   351,  1,      7,      7,2,20080731,1511, 50.0498, -33.8663, 4266,   2695.2,   3.1280,  34.9137,2,-999.0000,9,    1.151,2,    0.449,2
  06M220080723,   A02,   351,  1,      8,      8,2,20080731,1511, 50.0498, -33.8663, 4266,   2397.3,   3.2658,  34.9062,2,-999.0000,9,    1.259,2,    0.486,2
  06M220080723,   A02,   351,  1,      9,      9,2,20080731,1511, 50.0498, -33.8663, 4266,   2068.9,   3.4452,  34.9066,2,-999.0000,9,    1.394,2,    0.559,2
  06M220080723,   A02,   351,  1,     10,     10,2,20080731,1511, 50.0498, -33.8663, 4266,   1779.4,   3.6202,  34.9082,2,-999.0000,9,    1.615,2,    0.729,2
  06M220080723,   A02,   351,  1,     11,     11,2,20080731,1511, 50.0498, -33.8663, 4266,   1538.8,   3.7683,  34.9079,2,  34.9073,2,    1.804,2,    0.948,2
  06M220080723,   A02,   351,  1,     12,     12,2,20080731,1511, 50.0498, -33.8663, 4266,   1347.1,   3.9575,  34.9150,2,-999.0000,9, -999.000,9,     -999,9
  06M220080723,   A02,   351,  1,     13,     13,2,20080731,1511, 50.0498, -33.8663, 4266,   1080.5,   4.3810,  34.9333,2,-999.0000,9,    1.866,2,    1.149,2
  06M220080723,   A02,   351,  1,     14,     14,2,20080731,1511, 50.0498, -33.8663, 4266,    790.7,   5.6184,  34.9444,2,-999.0000,9,    1.604,2,    1.058,2
  06M220080723,   A02,   351,  1,     15,     15,2,20080731,1511, 50.0498, -33.8663, 4266,    609.0,   8.2813,  35.0912,2,-999.0000,9, -999.000,9,     -999,9
  06M220080723,   A02,   351,  1,     16,     16,2,20080731,1511, 50.0498, -33.8663, 4266,    191.0,  12.5336,  35.7190,2,-999.0000,9, -999.000,9,     -999,9
  06M220080723,   A02,   351,  1,     17,     17,2,20080731,1511, 50.0498, -33.8663, 4266,     50.6,  14.0453,  35.6045,2,-999.0000,9, -999.000,9,     -999,9
  06M220080723,   A02,   351,  1,     18,     18,2,20080731,1511, 50.0498, -33.8663, 4266,     49.8,  14.0373,  35.6089,2,-999.0000,9, -999.000,9,     -999,9
  06M220080723,   A02,   351,  1,     19,     19,2,20080731,1511, 50.0498, -33.8663, 4266,     20.9,  14.8608,  35.5028,2,-999.0000,9, -999.000,9,     -999,9
  06M220080723,   A02,   351,  1,     20,     20,2,20080731,1511, 50.0498, -33.8663, 4266,     20.5,  14.8606,  35.5027,2,-999.0000,9, -999.000,9,     -999,9
  06M220080723,   A02,   351,  1,     21,     21,2,20080731,1511, 50.0498, -33.8663, 4266,     19.8,  14.8644,  35.5033,2,-999.0000,9, -999.000,9,     -999,9
  06M220080723,   A02,   351,  1,     22,     22,2,20080731,1511, 50.0498, -33.8663, 4266,     14.5,  14.8913,  35.5050,2,-999.0000,9, -999.000,9,     -999,9