BOTTLE,20220921CCHSIOAMB
EXPOCODE,SECT_ID,STNNBR,CASTNO,SAMPNO,BTLNBR,BTLNBR_FLAG_W,DATE,TIME,LATITUDE,LONGITUDE,DEPTH,CTDPRS,CTDTMP,CTDSAL,CTDSAL_FLAG_W,SALNTY,SALNTY_FLAG_W,OXYGEN,OXYGEN_FLAG_W,SILCAT,SILCAT_FLAG_W,NITRAT,NITRAT_FLAG_W,PHSPHT,PHSPHT_FLAG_W
,,,,,,,,,,,,DBAR,ITS-90,PSS-78,,PSS-78,,UMOL/KG,,UMOL/KG,,UMOL/KG,,UMOL/KG,
     06GA276_2,  AR19,   125,  1,     23, 104676,2,19960529,1908, 42.7350, -42.4233, 4631,      9.3,  17.4472,  36.3913,2,  36.3917,2,    235.1,2,     0.57,2,     1.51,2,     0.29,2
     06GA276_2,  AR19,   125,  1,     22, 104675,2,19960529,1908, 42.7350, -42.4233, 4631,     50.9,  17.4453,  36.3892,2,  36.3870,2,    236.7,2,     0.57,2,     1.63,2,     0.20,2
     06GA276_2,  AR19,   125,  1,     21, 104674,2,19960529,1908, 42.7350, -42.4233, 4631,    250.8,  16.0935,  36.2270,2,  36.2130,3,    216.6,2,     2.03,2,     6.05,2,     0.40,2
     06GA276_2,  AR19,   125,  1,     20, 104673,2,19960529,1908, 42.7350, -42.4233, 4631,    501.8,  10.8693,  35.3546,2,  35.3576,2,    178.1,2,     8.30,2,    17.25,2,     1.11,2
     06GA276_2,  AR19,   125,  1,     19, 104672,2,19960529,1908, 42.7350, -42.4233, 4631,    601.8,   8.8060,  35.1424,2,  35.1253,3,    170.7,3,    11.98,2,    20.66,2,     1.38,2
     06GA276_2,  AR19,   125,  1,     18, 104671,2,19960529,1908, 42.7350, -42.4233, 4631,    751.7,   6.7180,  35.0286,2,  35.0391,3,    195.8,2,    12.75,2,    20.68,2,     1.34,2
     06GA276_2,  AR19,   125,  1,     17, 104670,2,19960529,1908, 42.7350, -42.4233, 4631,    858.2,   6.0132,  35.0676,2,  35.0735,2,    214.3,2,    12.12,2,    19.65,2,     1.31,2
     06GA276_2,  AR19,   125,  1,     16, 104669,2,19960529,1908, 42.7350, -42.4233, 4631,    997.4,   5.3459,  35.0622,2,  35.0609,2,    233.1,2,    11.74,2,    18.75,2,     1.23,2
     06GA276_2,  AR19,   125,  1,     15, 104668,2,19960529,1908, 42.7350, -42.4233, 4631,   1034.8,   5.5320,  35.1108,2,  35.1158,2,    232.2,2,    11.73,2,    18.45,2,     1.17,2
     06GA276_2,  AR19,   125,  1,     14, 104667,2,19960529,1908, 42.7350, -42.4233, 4631,   1291.9,   4.5015,  35.0169,2,  35.0150,2,    255.9,2,    11.21,2,    17.70,2,     1.11,2
     06GA276_2,  AR19,   125,  1,     13, 104666,2,19960529,1908, 42.7350, -42.4233, 4631,   1600.5,   3.7506,  34.9359,2,  34.9340,2,    273.2,2,    11.21,2,    17.26,2,     1.09,2
     06GA276_2,  AR19,   125,  1,     12, 104665,2,19960529,1908, 42.7350, -42.4233, 4631,   2001.8,   3.4335,  34.9144,2,  34.9128,2,    279.0,2,    11.74,2,    16.99,2,     1.13,2
     06GA276_2,  AR19,   125,  1,     11, 104664,2,19960529,1908, 42.7350, -42.4233, 4631,   2250.9,   3.2984,  34.9147,2,  34.9139,2,    279.7,2,    12.14,2,    16.87,2,     1.12,2
     06GA276_2,  AR19,   125,  1,     10, 104663,2,19960529,1908, 42.7350, -42.4233, 4631,   2502.1,   3.2689,  34.9354,2,  34.9340,2,    273.9,2,    13.86,2,    16.85,2,     1.15,2
     06GA276_2,  AR19,   125,  1,      9, 104662,2,19960529,1908, 42.7350, -42.4233, 4631,   3002.4,   2.9929,  34.9427,2,  34.9433,2,    269.5,2,    18.20,2,    17.40,2,     1.20,2
     06GA276_2,  AR19,   125,  1,      8, 104661,2,19960529,1908, 42.7350, -42.4233, 4631,   3252.4,   2.7721,  34.9302,2,  34.9296,2,    272.1,2,    18.82,2,    17.20,2,     1.19,2
     06GA276_2,  AR19,   125,  1,      7, 104660,2,19960529,1908, 42.7350, -42.4233, 4631,   3501.8,   2.5668,  34.9195,2,  34.9186,2,    272.9,2,    20.86,2,    17.35,2,     1.24,2
     06GA276_2,  AR19,   125,  1,      6, 104659,2,19960529,1908, 42.7350, -42.4233, 4631,   3752.6,   2.3857,  34.9086,2,  34.9067,2,    273.3,2,    23.22,2,    17.39,2,     1.23,2
     06GA276_2,  AR19,   125,  1,      5, 104658,2,19960529,1908, 42.7350, -42.4233, 4631,   4002.9,   2.3213,  34.9025,2,  34.9010,2,    271.6,2,    25.40,2,    17.79,2,     1.24,2
     06GA276_2,  AR19,   125,  1,      4, 104657,2,19960529,1908, 42.7350, -42.4233, 4631,   4102.5,   2.2845,  34.8988,2,  34.9361,3,    271.4,2,    26.45,2,    17.84,2,     1.26,2
     06GA276_2,  AR19,   125,  1,      3, 104656,2,19960529,1908, 42.7350, -42.4233, 4631,   4303.8,   2.2795,  34.8969,2,  34.9007,2,    270.7,2,    27.70,2,    17.97,2,     1.28,2
     06GA276_2,  AR19,   125,  1,      2, 104655,2,19960529,1908, 42.7350, -42.4233, 4631,   4701.6,   2.2632,  34.8919,2,  34.9006,3,    272.6,2,    26.72,2,    17.82,2,     1.29,2
     06GA276_2,  AR19,   125,  1,      1, 104654,2,19960529,1908, 42.7350, -42.4233, 4631,   4748.4,   2.2542,  34.8890,2,  34.8908,2,    270.4,2,    29.45,2,    18.22,2,     1.30,2
     06GA276_2,  AR19,   127,  1,     24, 104701,2,19960530,0232, 42.5150, -43.0717, 4850,     10.8,  16.9501,  36.2828,2,  36.2830,2,    239.7,2,  -999.00,9,  -999.00,9,  -999.00,9
     06GA276_2,  AR19,   127,  1,     23, 104700,2,19960530,0232, 42.5150, -43.0717, 4850,     72.6,  17.0111,  36.3176,2,  36.3118,2,    229.5,2,  -999.00,9,  -999.00,9,  -999.00,9
     06GA276_2,  AR19,   127,  1,     22, 104699,2,19960530,0232, 42.5150, -43.0717, 4850,    190.5,  14.6244,  35.8694,2,  35.8601,3,    196.3,2,  -999.00,9,  -999.00,9,  -999.00,9
     06GA276_2,  AR19,   127,  1,     21, 104698,2,19960530,0232, 42.5150, -43.0717, 4850,    222.8,  14.6609,  35.9240,2,  35.9219,2,    200.4,2,  -999.00,9,  -999.00,9,  -999.00,9
     06GA276_2,  AR19,   127,  1,     20, 104697,2,19960530,0232, 42.5150, -43.0717, 4850,    337.6,  12.8816,  35.6439,2,  35.6340,3,    178.1,2,  -999.00,9,  -999.00,9,  -999.00,9
     06GA276_2,  AR19,   127,  1,     19, 104696,2,19960530,0232, 42.5150, -43.0717, 4850,    501.6,  10.4550,  35.3326,2,  35.3328,2,    164.7,2,  -999.00,9,  -999.00,9,  -999.00,9
     06GA276_2,  AR19,   127,  1,     18, 104695,2,19960530,0232, 42.5150, -43.0717, 4850,    725.5,   6.5368,  34.9209,2,  34.9212,2,    199.0,2,  -999.00,9,  -999.00,9,  -999.00,9
     06GA276_2,  AR19,   127,  1,     17, 104694,2,19960530,0232, 42.5150, -43.0717, 4850,    801.6,   6.3853,  35.0452,2,  35.0472,2,    200.7,2,  -999.00,9,  -999.00,9,  -999.00,9
     06GA276_2,  AR19,   127,  1,     16, 104693,2,19960530,0232, 42.5150, -43.0717, 4850,   1001.6,   5.1893,  35.0382,2,  35.0414,2,    238.0,2,  -999.00,9,  -999.00,9,  -999.00,9
     06GA276_2,  AR19,   127,  1,     15, 104692,2,19960530,0232, 42.5150, -43.0717, 4850,   1200.2,   4.4883,  34.9841,2,  34.9847,2,    257.7,2,  -999.00,9,  -999.00,9,  -999.00,9
     06GA276_2,  AR19,   127,  1,     14, 104691,2,19960530,0232, 42.5150, -43.0717, 4850,   1499.7,   3.9133,  34.9448,2,  34.9440,2,    271.8,2,  -999.00,9,  -999.00,9,  -999.00,9
     06GA276_2,  AR19,   127,  1,     13, 104690,2,19960530,0232, 42.5150, -43.0717, 4850,   1749.8,   3.6237,  34.9179,2,  34.9193,2,    278.0,2,  -999.00,9,  -999.00,9,  -999.00,9
     06GA276_2,  AR19,   127,  1,     12, 104689,2,19960530,0232, 42.5150, -43.0717, 4850,   2001.2,   3.3365,  34.8908,2,  34.9517,3,    286.2,2,  -999.00,9,  -999.00,9,  -999.00,9
     06GA276_2,  AR19,   127,  1,     11, 104688,2,19960530,0232, 42.5150, -43.0717, 4850,   2251.3,   3.2221,  34.8889,2,  34.8956,3,    286.7,2,  -999.00,9,  -999.00,9,  -999.00,9
     06GA276_2,  AR19,   127,  1,     10, 104687,2,19960530,0232, 42.5150, -43.0717, 4850,   2500.7,   3.2330,  34.9098,2,  34.9135,2,    281.6,2,  -999.00,9,  -999.00,9,  -999.00,9
     06GA276_2,  AR19,   127,  1,      9, 104686,2,19960530,0232, 42.5150, -43.0717, 4850,   2750.6,   3.1673,  34.9228,2,  34.9247,2,    278.2,2,  -999.00,9,  -999.00,9,  -999.00,9
     06GA276_2,  AR19,   127,  1,      8, 104685,2,19960530,0232, 42.5150, -43.0717, 4850,   2901.4,   3.1349,  34.9339,2,  34.9340,2,    274.2,2,  -999.00,9,  -999.00,9,  -999.00,9
     06GA276_2,  AR19,   127,  1,      7, 104684,2,19960530,0232, 42.5150, -43.0717, 4850,   3302.8,   2.8527,  34.9265,2,  34.9351,3,    276.4,2,  -999.00,9,  -999.00,9,  -999.00,9
     06GA276_2,  AR19,   127,  1,      6, 104683,2,19960530,0232, 42.5150, -43.0717, 4850,   3703.6,   2.5742,  34.9158,2,  34.9158,2,    277.1,2,  -999.00,9,  -999.00,9,  -999.00,9
     06GA276_2,  AR19,   127,  1,      5, 104682,2,19960530,0232, 42.5150, -43.0717, 4850,   4101.8,   2.3997,  34.9050,2,  34.9056,2,    276.8,2,  -999.00,9,  -999.00,9,  -999.00,9
     06GA276_2,  AR19,   127,  1,      4, 104681,2,19960530,0232, 42.5150, -43.0717, 4850,   4502.8,   2.3363,  34.8986,2,  34.8994,2,    276.2,2,  -999.00,9,  -999.00,9,  -999.00,9
     06GA276_2,  AR19,   127,  1,      3, 104680,2,19960530,0232, 42.5150, -43.0717, 4850,   4753.5,   2.3004,  34.8933,2,  34.9114,3,    273.5,2,  -999.00,9,  -999.00,9,  -999.00,9
     06GA276_2,  AR19,   127,  1,      2, 104679,2,19960530,0232, 42.5150, -43.0717, 4850,   4950.0,   2.2783,  34.8888,2,  34.8899,2,    275.3,2,  -999.00,9,  -999.00,9,  -999.00,9
     06GA276_2,  AR19,   127,  1,      1, 104678,2,19960530,0232, 42.5150, -43.0717, 4850,   4974.0,   2.2813,  34.8886,2,  34.8920,2,    273.5,2,  -999.00,9,  -999.00,9,  -999.00,9
     06GA276_2,  AR19,   129,  1,     24, 104725,2,19960530,0929, 42.3250, -43.7217, 4875,      9.8,  17.7381,  36.4971,2,  36.4961,2,    236.3,2,     0.19,2,     1.24,2,     0.11,2
     06GA276_2,  AR19,   129,  1,     23, 104724,2,19960530,0929, 42.3250, -43.7217, 4875,    100.5,  17.6614,  36.4916,2,  36.4917,2,    232.2,2,     0.19,2,     1.83,2,     0.15,2
     06GA276_2,  AR19,   129,  1,     22, 104723,2,19960530,0929, 42.3250, -43.7217, 4875,    200.1,  17.3155,  36.4540,2,  36.4542,2,    221.4,2,     0.56,2,     3.69,2,     0.19,2
     06GA276_2,  AR19,   129,  1,     21, 104722,2,19960530,0929, 42.3250, -43.7217, 4875,    297.7,  16.5629,  36.3078,2,  36.3016,3,    212.6,2,     1.27,2,     5.63,2,     0.29,2
     06GA276_2,  AR19,   129,  1,     20, 104721,2,19960530,0929, 42.3250, -43.7217, 4875,    499.9,  15.3195,  36.0597,2,  36.0577,2,    195.7,2,     2.56,2,     8.99,2,     0.55,2
     06GA276_2,  AR19,   129,  1,     19, 104720,2,19960530,0929, 42.3250, -43.7217, 4875,    925.2,   7.8430,  35.1097,2,  35.1064,2,    175.1,2,    11.72,2,    21.22,2,     1.38,2
     06GA276_2,  AR19,   129,  1,     18, 104719,2,19960530,0929, 42.3250, -43.7217, 4875,   1033.7,   6.0637,  34.9989,2,  34.9990,2,    209.7,2,    11.38,2,    19.53,2,     1.30,2
     06GA276_2,  AR19,   129,  1,     17, 104718,2,19960530,0929, 42.3250, -43.7217, 4875,   1108.5,   5.6977,  35.0437,2,  35.0391,2,    218.3,2,    11.40,2,    19.28,2,     1.27,2
     06GA276_2,  AR19,   129,  1,     16, 104717,2,19960530,0929, 42.3250, -43.7217, 4875,   1198.7,   5.0776,  35.0092,2,  35.0093,2,    238.8,2,    10.47,2,    17.99,2,     1.13,3
     06GA276_2,  AR19,   129,  1,     15, 104716,2,19960530,0929, 42.3250, -43.7217, 4875,   1300.4,   4.9164,  35.0230,2,  35.0224,2,    243.4,2,    10.40,2,    17.89,2,     1.20,2
     06GA276_2,  AR19,   129,  1,     14, 104715,2,19960530,0929, 42.3250, -43.7217, 4875,   1500.0,   4.2736,  34.9747,2,  34.9735,2,    261.2,2,     9.84,2,    17.18,2,     1.17,2
     06GA276_2,  AR19,   129,  1,     13, 104714,2,19960530,0929, 42.3250, -43.7217, 4875,   1946.7,   3.5115,  34.9052,2,  34.9041,2,    280.1,2,     9.69,2,    16.52,2,     1.11,2
     06GA276_2,  AR19,   129,  1,     12, 104713,2,19960530,0929, 42.3250, -43.7217, 4875,   2099.4,   3.4710,  34.9126,2,  34.9136,2,    279.0,2,    10.11,2,    16.55,2,     1.10,2
     06GA276_2,  AR19,   129,  1,     11, 104712,2,19960530,0929, 42.3250, -43.7217, 4875,   2284.8,   3.3644,  34.9100,2,  34.9113,2,    280.1,2,    10.49,2,    16.39,2,     1.08,2
     06GA276_2,  AR19,   129,  1,     10, 104711,2,19960530,0929, 42.3250, -43.7217, 4875,   2501.4,   3.2915,  34.9128,2,  34.9123,2,    279.4,2,    10.88,2,    16.36,2,     1.09,2
     06GA276_2,  AR19,   129,  1,      9, 104710,2,19960530,0929, 42.3250, -43.7217, 4875,   2751.7,   3.2411,  34.9301,2,  34.9305,2,    275.0,2,    12.56,2,    16.47,2,     1.14,2
     06GA276_2,  AR19,   129,  1,      8, 104709,2,19960530,0929, 42.3250, -43.7217, 4875,   3251.4,   2.8881,  34.9283,2,  34.9285,2,    273.6,2,    15.07,2,    16.51,2,     1.12,2
     06GA276_2,  AR19,   129,  1,      7, 104708,2,19960530,0929, 42.3250, -43.7217, 4875,   3501.2,   2.6890,  34.9232,2,  34.9222,2,    273.2,2,    17.73,2,    16.83,2,     1.16,2
     06GA276_2,  AR19,   129,  1,      6, 104707,2,19960530,0929, 42.3250, -43.7217, 4875,   3752.5,   2.5204,  34.9132,2,  34.9125,2,    276.0,2,    18.18,2,    16.52,2,     1.18,2
     06GA276_2,  AR19,   129,  1,      5, 104706,2,19960530,0929, 42.3250, -43.7217, 4875,   4002.8,   2.4083,  34.9066,2,  34.9053,2,    274.5,2,    19.54,2,    16.64,2,     1.20,2
     06GA276_2,  AR19,   129,  1,      4, 104705,2,19960530,0929, 42.3250, -43.7217, 4875,   4502.9,   2.3241,  34.8983,2,  34.8970,2,    273.9,2,    22.35,2,    16.99,2,     1.18,2
     06GA276_2,  AR19,   129,  1,      3, 104704,2,19960530,0929, 42.3250, -43.7217, 4875,   4899.1,   2.2782,  34.8870,2,  34.8875,2,    268.4,2,    28.96,2,    18.10,2,     1.27,2
     06GA276_2,  AR19,   129,  1,      2, 104703,2,19960530,0929, 42.3250, -43.7217, 4875,   4957.9,   2.2757,  34.8853,2,  34.8874,2,    268.8,2,    29.19,2,    18.16,2,     1.28,2
     06GA276_2,  AR19,   129,  1,      1, 104702,2,19960530,0929, 42.3250, -43.7217, 4875,   4992.8,   2.2788,  34.8849,2,  34.8866,2,    267.1,2,    30.42,2,    18.40,2,     1.29,2
     06GA276_2,  AR19,   131,  1,     24, 104749,2,19960530,1549, 42.1667, -44.3900, 4860,     20.3,  17.7122,  36.4815,2,  36.4812,2,    238.5,2,  -999.00,9,     1.23,2,     0.11,2
     06GA276_2,  AR19,   131,  1,     23, 104748,2,19960530,1549, 42.1667, -44.3900, 4860,    101.8,  17.4762,  36.4681,2,  36.4667,2,    226.8,2,     0.22,2,     2.90,2,     0.18,2
     06GA276_2,  AR19,   131,  1,     22, 104747,2,19960530,1549, 42.1667, -44.3900, 4860,    200.3,  17.1696,  36.4110,2,  36.4102,2,    220.8,2,     0.86,2,     3.92,2,     0.21,2
     06GA276_2,  AR19,   131,  1,     21, 104746,2,19960530,1549, 42.1667, -44.3900, 4860,    325.1,  16.7850,  36.3858,2,  36.3855,2,    227.6,2,     0.86,2,     4.03,2,     0.23,2
     06GA276_2,  AR19,   131,  1,     20, 104745,2,19960530,1549, 42.1667, -44.3900, 4860,    500.3,  16.0800,  36.2214,2,  36.2212,2,    214.1,2,     1.53,2,     6.19,2,     0.35,2
     06GA276_2,  AR19,   131,  1,     19, 104744,2,19960530,1549, 42.1667, -44.3900, 4860,    750.6,  12.5730,  35.6114,2,  35.6090,2,    173.7,2,     6.28,2,    14.91,2,     0.96,2
     06GA276_2,  AR19,   131,  1,     18, 104743,2,19960530,1549, 42.1667, -44.3900, 4860,    997.3,   7.6810,  35.0979,2,  35.0955,2,    179.1,2,    12.34,2,    21.25,2,     1.34,2
     06GA276_2,  AR19,   131,  1,     17, 104742,2,19960530,1549, 42.1667, -44.3900, 4860,   1204.1,   5.1997,  34.9774,2,  34.9767,2,    233.2,2,    11.05,2,    18.46,2,     1.25,2
     06GA276_2,  AR19,   131,  1,     16, 104741,2,19960530,1549, 42.1667, -44.3900, 4860,   1480.1,   4.3886,  34.9753,2,  34.9752,2,    258.1,2,    10.49,2,    17.51,2,     1.10,2
     06GA276_2,  AR19,   131,  1,     15, 104740,2,19960530,1549, 42.1667, -44.3900, 4860,   1600.6,   4.1092,  34.9524,2,  34.9521,2,    266.8,2,    10.52,2,    17.22,2,     1.11,2
     06GA276_2,  AR19,   131,  1,     14, 104739,2,19960530,1549, 42.1667, -44.3900, 4860,   1797.6,   3.6626,  34.9123,2,  34.9116,2,    277.3,2,    10.07,2,    16.60,2,     1.09,2
     06GA276_2,  AR19,   131,  1,     13, 104738,2,19960530,1549, 42.1667, -44.3900, 4860,   1889.1,   3.5789,  34.9074,2,  34.9075,2,    279.2,2,    10.08,2,    16.76,2,     1.08,2
     06GA276_2,  AR19,   131,  1,     12, 104737,2,19960530,1549, 42.1667, -44.3900, 4860,   2101.4,   3.3422,  34.8885,2,  34.8888,2,    285.4,2,     9.98,2,    16.39,2,     1.07,2
     06GA276_2,  AR19,   131,  1,     11, 104736,2,19960530,1549, 42.1667, -44.3900, 4860,   2351.4,   3.2311,  34.8876,2,  34.8874,2,    287.4,2,    10.25,2,    16.34,2,     1.07,2
     06GA276_2,  AR19,   131,  1,     10, 104735,2,19960530,1549, 42.1667, -44.3900, 4860,   2501.6,   3.2311,  34.8965,2,  34.8965,2,    283.7,2,    10.74,2,    16.35,2,     1.07,2
     06GA276_2,  AR19,   131,  1,      9, 104734,2,19960530,1549, 42.1667, -44.3900, 4860,   2746.5,   3.2474,  34.9221,2,  34.9229,2,    278.1,2,    12.24,2,    16.23,2,     1.10,2
     06GA276_2,  AR19,   131,  1,      8, 104733,2,19960530,1549, 42.1667, -44.3900, 4860,   3004.7,   3.0969,  34.9293,2,  34.9297,2,    274.4,2,    13.55,2,    16.47,2,     1.11,2
     06GA276_2,  AR19,   131,  1,      7, 104732,2,19960530,1549, 42.1667, -44.3900, 4860,   3502.7,   2.6879,  34.9202,2,  34.9199,2,    274.9,2,    17.11,2,    16.65,2,     1.12,2
     06GA276_2,  AR19,   131,  1,      6, 104731,2,19960530,1549, 42.1667, -44.3900, 4860,   3803.2,   2.4864,  34.9114,2,  34.9098,2,    276.4,2,    19.30,2,    16.69,2,     1.18,2
     06GA276_2,  AR19,   131,  1,      5, 104730,2,19960530,1549, 42.1667, -44.3900, 4860,   4095.8,   2.3828,  34.9038,2,  34.9027,2,    275.3,2,    20.64,2,    16.79,2,     1.17,2
     06GA276_2,  AR19,   131,  1,      4, 104729,2,19960530,1549, 42.1667, -44.3900, 4860,   4503.3,   2.3222,  34.8965,2,  34.8965,2,    273.8,2,    22.83,2,    17.05,2,     1.19,2
     06GA276_2,  AR19,   131,  1,      3, 104728,2,19960530,1549, 42.1667, -44.3900, 4860,   4802.6,   2.3058,  34.8916,2,  34.8937,2,    275.1,2,    23.40,2,    17.13,2,     1.18,2
     06GA276_2,  AR19,   131,  1,      2, 104727,2,19960530,1549, 42.1667, -44.3900, 4860,   4944.3,   2.3030,  34.8890,2,  34.8921,2,    278.3,2,    23.51,2,    17.05,2,     1.21,2
     06GA276_2,  AR19,   131,  1,      1, 104726,2,19960530,1549, 42.1667, -44.3900, 4860,   4984.5,   2.3038,  34.8889,2,  34.8903,2,    273.1,2,    24.83,2,    17.32,2,     1.20,2