BOTTLE,20220921CCHSIOAMB
EXPOCODE,SECT_ID,STNNBR,CASTNO,SAMPNO,BTLNBR,BTLNBR_FLAG_W,DATE,TIME,LATITUDE,LONGITUDE,DEPTH,CTDPRS,CTDTMP,CTDSAL,CTDSAL_FLAG_W,SALNTY,SALNTY_FLAG_W,OXYGEN,OXYGEN_FLAG_W,SILCAT,SILCAT_FLAG_W,NITRAT,NITRAT_FLAG_W,PHSPHT,PHSPHT_FLAG_W
,,,,,,,,,,,,DBAR,ITS-90,PSS-78,,PSS-78,,UMOL/KG,,UMOL/KG,,UMOL/KG,,UMOL/KG,
     06GA276_2,  AR19,    41,  1,     24, 103721,2,19960517,0915, 48.1100, -19.1717, 4189,      9.5,  12.5202,  35.6189,2,  35.6204,2,    267.6,2,     1.77,2,     4.76,2,     0.33,2
     06GA276_2,  AR19,    41,  1,     23, 103720,2,19960517,0915, 48.1100, -19.1717, 4189,     50.0,  12.5071,  35.6189,2,  35.6189,2,    266.6,2,     1.84,2,     4.77,2,     0.33,2
     06GA276_2,  AR19,    41,  1,     22, 103719,2,19960517,0915, 48.1100, -19.1717, 4189,     99.2,  11.8227,  35.5830,2,  35.5816,2,    252.0,2,     3.43,2,     9.01,2,     0.56,2
     06GA276_2,  AR19,    41,  1,     21, 103718,2,19960517,0915, 48.1100, -19.1717, 4189,    250.8,  11.1536,  35.4940,2,  35.4944,2,    238.6,2,     4.75,2,    11.18,3,     0.69,2
     06GA276_2,  AR19,    41,  1,     20, 103717,2,19960517,0915, 48.1100, -19.1717, 4189,    500.7,   9.6414,  35.3080,2,  35.3073,2,    209.4,2,     7.89,2,    16.00,2,     1.01,2
     06GA276_2,  AR19,    41,  1,     19, 103716,2,19960517,0915, 48.1100, -19.1717, 4189,    754.1,   7.2754,  35.1616,2,  35.1625,2,    204.1,2,    11.07,2,    18.76,3,     1.22,2
     06GA276_2,  AR19,    41,  1,     18, 103715,2,19960517,0915, 48.1100, -19.1717, 4189,    850.7,   7.4890,  35.3280,2,  35.3314,2,    205.6,2,    10.85,2,    18.15,2,     1.19,2
     06GA276_2,  AR19,    41,  1,     17, 103714,2,19960517,0915, 48.1100, -19.1717, 4189,   1001.3,   6.1959,  35.2077,2,  35.2025,3,    224.6,2,    11.24,2,    18.23,2,     1.19,2
     06GA276_2,  AR19,    41,  1,     16, 103713,2,19960517,0915, 48.1100, -19.1717, 4189,   1301.0,   4.2920,  34.9749,2,  34.9739,2,    259.0,2,    11.15,2,    17.84,2,     1.16,2
     06GA276_2,  AR19,    41,  1,     15, 103712,2,19960517,0915, 48.1100, -19.1717, 4189,   1599.7,   3.6291,  34.9083,2,  34.9084,2,    275.0,2,    11.01,2,    17.29,2,     1.14,2
     06GA276_2,  AR19,    41,  1,     14, 103711,2,19960517,0915, 48.1100, -19.1717, 4189,   1800.8,   3.4900,  34.9015,2,  34.9031,2,    277.4,3,    11.24,2,    18.24,3,     1.12,2
     06GA276_2,  AR19,    41,  1,     13, 103710,2,19960517,0915, 48.1100, -19.1717, 4189,   1998.6,   3.4663,  34.9193,2,  34.9204,2,    274.5,2,    12.25,2,    16.90,2,     1.13,2
     06GA276_2,  AR19,    41,  1,     12, 103709,2,19960517,0915, 48.1100, -19.1717, 4189,   2201.1,   3.3829,  34.9325,2,  34.9343,2,    271.7,2,    13.50,2,    16.95,2,     1.13,2
     06GA276_2,  AR19,    41,  1,     11, 103708,2,19960517,0915, 48.1100, -19.1717, 4189,   2401.1,   3.2803,  34.9510,2,  35.0022,3,    267.0,2,    16.70,2,    17.38,2,     1.20,2
     06GA276_2,  AR19,    41,  1,     10, 103707,2,19960517,0915, 48.1100, -19.1717, 4189,   2599.1,   3.1207,  34.9556,2,  34.9639,3,    262.3,2,    20.49,2,    17.78,2,     1.21,2
     06GA276_2,  AR19,    41,  1,      9, 103706,2,19960517,0915, 48.1100, -19.1717, 4189,   2803.1,   3.0021,  34.9540,2,  34.9557,2,    257.5,2,    23.86,2,    18.34,2,     1.26,2
     06GA276_2,  AR19,    41,  1,      8, 103705,2,19960517,0915, 48.1100, -19.1717, 4189,   3103.3,   2.8165,  34.9450,2,  34.9449,2,    254.9,2,    28.06,2,    18.97,2,     1.31,2
     06GA276_2,  AR19,    41,  1,      7, 103704,2,19960517,0915, 48.1100, -19.1717, 4189,   3201.0,   2.7580,  34.9407,2,  34.9413,2,    252.6,2,    30.77,2,    19.44,2,     1.34,2
     06GA276_2,  AR19,    41,  1,      6, 103703,2,19960517,0915, 48.1100, -19.1717, 4189,   3353.0,   2.6794,  34.9332,2,-999.0000,9,   -999.0,9,  -999.00,9,  -999.00,9,  -999.00,9
     06GA276_2,  AR19,    41,  1,      5, 103702,2,19960517,0915, 48.1100, -19.1717, 4189,   3603.5,   2.5970,  34.9230,2,  34.9263,2,    244.9,2,    38.50,2,    20.89,2,     1.44,2
     06GA276_2,  AR19,    41,  1,      4, 103701,2,19960517,0915, 48.1100, -19.1717, 4189,   3853.5,   2.5517,  34.9159,2,  34.9157,2,    243.7,2,    40.96,2,    21.50,2,     1.46,2
     06GA276_2,  AR19,    41,  1,      3, 103700,2,19960517,0915, 48.1100, -19.1717, 4189,   4102.7,   2.5355,  34.9108,2,  34.9100,2,    240.5,2,    42.11,2,    21.67,2,     1.49,2
     06GA276_2,  AR19,    41,  1,      2, 103699,2,19960517,0915, 48.1100, -19.1717, 4189,   4222.4,   2.5271,  34.9086,2,  34.9194,3,    241.5,2,    42.49,2,    21.75,2,     1.42,2
     06GA276_2,  AR19,    41,  1,      1, 103698,2,19960517,0915, 48.1100, -19.1717, 4189,   4253.5,   2.5220,  34.9078,2,  34.9072,2,    241.7,2,    42.89,2,    21.73,2,     1.42,2
     06GA276_2,  AR19,    43,  1,     23, 103744,2,19960517,1530, 48.0800, -19.9233, 4309,     10.1,  12.5083,  35.6106,2,  35.6089,2,    267.1,2,     1.32,2,     4.75,2,     0.29,2
     06GA276_2,  AR19,    43,  1,     22, 103743,2,19960517,1530, 48.0800, -19.9233, 4309,     49.7,  12.4286,  35.6060,2,  35.6055,2,    266.4,2,     1.36,2,     4.96,2,     0.36,2
     06GA276_2,  AR19,    43,  1,     21, 103742,2,19960517,1530, 48.0800, -19.9233, 4309,    102.1,  11.8016,  35.5882,2,  35.5865,2,    253.4,2,     3.01,2,     8.81,2,     0.53,2
     06GA276_2,  AR19,    43,  1,     20, 103741,2,19960517,1530, 48.0800, -19.9233, 4309,    251.9,  10.9727,  35.4773,2,  35.4757,2,    248.9,2,     4.30,2,    10.72,2,     0.67,2
     06GA276_2,  AR19,    43,  1,     19, 103740,2,19960517,1530, 48.0800, -19.9233, 4309,    687.4,   8.0321,  35.2163,2,  35.2144,2,    200.2,4,    10.10,2,    18.59,2,     1.16,2
     06GA276_2,  AR19,    43,  1,     18, 103739,2,19960517,1530, 48.0800, -19.9233, 4309,    895.0,   6.8120,  35.2205,2,  35.2238,2,    212.9,2,    10.83,2,    18.60,2,     1.15,2
     06GA276_2,  AR19,    43,  1,     17, 103738,2,19960517,1530, 48.0800, -19.9233, 4309,   1102.1,   5.4720,  35.1173,2,  35.1163,2,    235.9,2,    10.90,2,    18.16,2,     1.15,2
     06GA276_2,  AR19,    43,  1,     16, 103737,2,19960517,1530, 48.0800, -19.9233, 4309,   1350.9,   4.1411,  34.9552,2,  34.9556,2,    261.6,2,    10.70,2,    17.75,2,     1.14,2
     06GA276_2,  AR19,    43,  1,     15, 103736,2,19960517,1530, 48.0800, -19.9233, 4309,   1500.2,   3.9357,  34.9433,2,  34.9427,2,    268.1,2,    10.75,2,    17.52,2,     1.12,2
     06GA276_2,  AR19,    43,  1,     14, 103735,2,19960517,1530, 48.0800, -19.9233, 4309,   1601.5,   3.7622,  34.9236,2,  34.9232,2,    271.8,2,    10.61,2,    17.32,2,     1.12,2
     06GA276_2,  AR19,    43,  1,     13, 103734,2,19960517,1530, 48.0800, -19.9233, 4309,   1801.0,   3.5753,  34.9163,2,  34.9163,2,    274.9,2,    11.27,2,    17.11,2,     1.11,2
     06GA276_2,  AR19,    43,  1,     12, 103733,2,19960517,1530, 48.0800, -19.9233, 4309,   2000.9,   3.4569,  34.9229,2,  34.9233,2,    274.6,2,    11.96,2,    17.08,2,     1.11,2
     06GA276_2,  AR19,    43,  1,     11, 103732,2,19960517,1530, 48.0800, -19.9233, 4309,   2199.4,   3.3901,  34.9396,2,  34.9387,2,    271.0,2,    13.62,2,    17.20,2,     1.12,2
     06GA276_2,  AR19,    43,  1,     10, 103731,2,19960517,1530, 48.0800, -19.9233, 4309,   2402.0,   3.2831,  34.9511,2,  34.9500,2,    266.8,2,    16.03,2,    17.49,2,     1.14,2
     06GA276_2,  AR19,    43,  1,      9, 103730,2,19960517,1530, 48.0800, -19.9233, 4309,   2653.3,   3.0684,  34.9565,2,  34.9558,2,    260.2,2,    22.04,2,    18.60,2,     1.21,2
     06GA276_2,  AR19,    43,  1,      8, 103729,2,19960517,1530, 48.0800, -19.9233, 4309,   3004.5,   2.8157,  34.9460,2,  34.9522,3,    258.6,2,    24.69,2,    18.78,2,     1.25,2
     06GA276_2,  AR19,    43,  1,      7, 103728,2,19960517,1530, 48.0800, -19.9233, 4309,   3201.9,   2.7255,  34.9387,2,  34.9380,2,    251.0,2,    32.23,2,    20.00,2,     1.33,2
     06GA276_2,  AR19,    43,  1,      6, 103727,2,19960517,1530, 48.0800, -19.9233, 4309,   3404.1,   2.6339,  34.9295,2,  34.9318,2,    246.1,2,    36.41,2,    20.80,2,     1.41,2
     06GA276_2,  AR19,    43,  1,      5, 103726,2,19960517,1530, 48.0800, -19.9233, 4309,   3703.2,   2.5585,  34.9188,2,  34.9185,2,    244.0,2,    40.73,2,    21.69,2,     1.45,2
     06GA276_2,  AR19,    43,  1,      4, 103725,2,19960517,1530, 48.0800, -19.9233, 4309,   4001.5,   2.5407,  34.9137,2,  34.9125,2,    242.1,2,    42.60,2,    21.93,2,     1.48,2
     06GA276_2,  AR19,    43,  1,      3, 103724,2,19960517,1530, 48.0800, -19.9233, 4309,   4302.6,   2.5460,  34.9097,2,  34.9093,2,    241.2,2,    44.02,2,    22.08,2,     1.48,2
     06GA276_2,  AR19,    43,  1,      2, 103723,2,19960517,1530, 48.0800, -19.9233, 4309,   4361.1,   2.5483,  34.9090,2,  34.9092,2,    241.0,2,    43.74,2,    22.08,2,     1.49,2
     06GA276_2,  AR19,    43,  1,      1, 103722,2,19960517,1530, 48.0800, -19.9233, 4309,   4396.1,   2.5526,  34.9091,2,  34.9087,2,    240.0,2,    43.91,2,    21.94,2,     1.49,2
     06GA276_2,  AR19,    45,  1,     24, 103769,2,19960517,2306, 47.8950, -20.6550, 4337,      9.7,  12.0421,  35.5250,2,  35.5238,2,    272.2,2,     1.54,2,     5.54,2,     0.31,2
     06GA276_2,  AR19,    45,  1,     23, 103768,2,19960517,2306, 47.8950, -20.6550, 4337,    100.3,  11.5022,  35.5291,2,  35.5279,2,    252.3,2,     3.73,2,     9.56,2,     0.51,2
     06GA276_2,  AR19,    45,  1,     22, 103767,2,19960517,2306, 47.8950, -20.6550, 4337,    204.8,  10.9970,  35.4811,2,  35.4804,2,    251.3,2,     4.68,3,    10.58,2,     0.70,2
     06GA276_2,  AR19,    45,  1,     21, 103766,2,19960517,2306, 47.8950, -20.6550, 4337,    352.4,  10.8603,  35.4832,2,  35.4994,3,   -999.0,9,     4.43,2,     9.98,2,     0.63,2
     06GA276_2,  AR19,    45,  1,     20, 103765,2,19960517,2306, 47.8950, -20.6550, 4337,    503.0,   9.9442,  35.3468,2,  35.3461,2,    225.2,2,     4.80,2,    10.97,2,     0.71,2
     06GA276_2,  AR19,    45,  1,     19, 103764,2,19960517,2306, 47.8950, -20.6550, 4337,    711.9,   8.0891,  35.1593,2,  35.1473,3,    207.4,2,    10.32,2,    17.80,2,     1.15,2
     06GA276_2,  AR19,    45,  1,     18, 103763,2,19960517,2306, 47.8950, -20.6550, 4337,    880.8,   7.2372,  35.2279,2,  35.2329,2,    209.8,2,    11.38,2,    18.15,2,     1.18,2
     06GA276_2,  AR19,    45,  1,     17, 103762,2,19960517,2306, 47.8950, -20.6550, 4337,   1102.0,   6.0369,  35.2023,2,  35.2031,2,    228.3,2,    11.64,2,    18.40,2,     1.16,2
     06GA276_2,  AR19,    45,  1,     16, 103761,2,19960517,2306, 47.8950, -20.6550, 4337,   1298.3,   4.3393,  34.9738,2,  34.9732,2,    259.0,2,    11.52,2,    17.77,2,     1.18,2
     06GA276_2,  AR19,    45,  1,     15, 103760,2,19960517,2306, 47.8950, -20.6550, 4337,   1502.9,   3.8549,  34.9254,2,  34.9289,2,    272.2,2,    11.23,2,    17.32,2,     1.16,2
     06GA276_2,  AR19,    45,  1,     14, 103759,2,19960517,2306, 47.8950, -20.6550, 4337,   1699.3,   3.5768,  34.9031,2,  34.9045,2,   -999.0,9,    11.16,2,    16.96,2,     1.12,2
     06GA276_2,  AR19,    45,  1,     13, 103758,2,19960517,2306, 47.8950, -20.6550, 4337,   1846.3,   3.4653,  34.9009,2,  34.8997,2,   -999.0,9,    11.47,2,    16.87,2,     1.10,2
     06GA276_2,  AR19,    45,  1,     12, 103757,2,19960517,2306, 47.8950, -20.6550, 4337,   1998.6,   3.3970,  34.9081,2,  34.9084,2,    278.8,2,    12.05,2,    16.82,2,     1.10,2
     06GA276_2,  AR19,    45,  1,     11, 103756,2,19960517,2306, 47.8950, -20.6550, 4337,   2250.9,   3.3322,  34.9258,2,  34.9255,2,    275.8,2,    13.29,2,    16.72,2,     1.10,2
     06GA276_2,  AR19,    45,  1,     10, 103755,2,19960517,2306, 47.8950, -20.6550, 4337,   2499.8,   3.2448,  34.9484,2,  34.9478,2,    270.0,2,    16.89,2,    17.20,2,     1.16,2
     06GA276_2,  AR19,    45,  1,      9, 103754,2,19960517,2306, 47.8950, -20.6550, 4337,   2696.5,   3.0891,  34.9555,2,  34.9551,2,    261.8,2,    22.48,2,    18.12,2,     1.21,2
     06GA276_2,  AR19,    45,  1,      8, 103753,2,19960517,2306, 47.8950, -20.6550, 4337,   2901.2,   2.9038,  34.9509,2,  34.9517,2,    260.4,2,    25.09,2,    18.43,2,     1.22,2
     06GA276_2,  AR19,    45,  1,      7, 103752,2,19960517,2306, 47.8950, -20.6550, 4337,   3150.1,   2.7689,  34.9427,2,  34.9420,2,    254.2,2,    31.64,2,    19.40,3,     1.31,2
     06GA276_2,  AR19,    45,  1,      6, 103751,2,19960517,2306, 47.8950, -20.6550, 4337,   3401.9,   2.6451,  34.9302,2,  34.9300,2,    248.0,2,    37.63,2,    20.49,2,     1.39,2
     06GA276_2,  AR19,    45,  1,      5, 103750,2,19960517,2306, 47.8950, -20.6550, 4337,   3601.4,   2.5865,  34.9229,2,  34.9235,2,    245.0,2,    40.70,2,    21.09,2,     1.44,2
     06GA276_2,  AR19,    45,  1,      4, 103749,2,19960517,2306, 47.8950, -20.6550, 4337,   4002.6,   2.5446,  34.9129,2,  34.9241,3,    243.1,2,    44.43,2,    22.29,3,     1.48,2
     06GA276_2,  AR19,    45,  1,      3, 103748,2,19960517,2306, 47.8950, -20.6550, 4337,   4203.2,   2.5467,  34.9113,2,  34.9120,2,    241.9,2,    45.54,2,    21.87,2,     1.51,2
     06GA276_2,  AR19,    45,  1,      2, 103747,2,19960517,2306, 47.8950, -20.6550, 4337,   4393.9,   2.5543,  34.9095,2,  34.9104,2,    242.7,2,    46.49,2,    21.93,2,     1.51,2
     06GA276_2,  AR19,    45,  1,      1, 103746,2,19960517,2306, 47.8950, -20.6550, 4337,   4425.1,   2.5577,  34.9094,2,  34.9108,2,    241.6,2,    46.17,2,    22.04,2,     1.46,2
     06GA276_2,  AR19,    47,  1,     22, 103791,2,19960518,0516, 47.8133, -21.3950, 4350,      9.8,  12.8585,  35.6968,2,  35.6973,2,    263.3,2,  -999.00,9,  -999.00,9,  -999.00,9
     06GA276_2,  AR19,    47,  1,     21, 103790,2,19960518,0516, 47.8133, -21.3950, 4350,     50.2,  12.7646,  35.6810,2,  35.6818,2,    263.8,2,  -999.00,9,  -999.00,9,  -999.00,9
     06GA276_2,  AR19,    47,  1,     20, 103789,2,19960518,0516, 47.8133, -21.3950, 4350,     99.0,  12.5963,  35.7245,2,  35.7327,2,    246.3,2,  -999.00,9,  -999.00,9,  -999.00,9
     06GA276_2,  AR19,    47,  1,     19, 103788,2,19960518,0516, 47.8133, -21.3950, 4350,    199.9,  11.8722,  35.5980,2,  35.5963,2,    245.8,2,  -999.00,9,  -999.00,9,  -999.00,9
     06GA276_2,  AR19,    47,  1,     18, 103787,2,19960518,0516, 47.8133, -21.3950, 4350,    379.7,  10.9481,  35.4654,2,  35.4730,2,    246.7,2,  -999.00,9,  -999.00,9,  -999.00,9
     06GA276_2,  AR19,    47,  1,     17, 103786,2,19960518,0516, 47.8133, -21.3950, 4350,    502.6,  10.1050,  35.3659,2,  35.3591,3,    213.9,2,  -999.00,9,  -999.00,9,  -999.00,9
     06GA276_2,  AR19,    47,  1,     16, 103785,2,19960518,0516, 47.8133, -21.3950, 4350,    585.4,   9.1264,  35.2421,2,  35.2283,3,    205.1,2,  -999.00,9,  -999.00,9,  -999.00,9
     06GA276_2,  AR19,    47,  1,     15, 103784,2,19960518,0516, 47.8133, -21.3950, 4350,    801.3,   7.1154,  35.1173,2,  35.1151,2,    205.6,2,  -999.00,9,  -999.00,9,  -999.00,9
     06GA276_2,  AR19,    47,  1,     14, 103783,2,19960518,0516, 47.8133, -21.3950, 4350,    981.6,   6.5375,  35.2168,2,  35.2138,2,    217.0,2,  -999.00,9,  -999.00,9,  -999.00,9
     06GA276_2,  AR19,    47,  1,     13, 103782,2,19960518,0516, 47.8133, -21.3950, 4350,   1303.8,   4.3994,  34.9818,2,  34.9821,2,    255.4,2,  -999.00,9,  -999.00,9,  -999.00,9
     06GA276_2,  AR19,    47,  1,     12, 103781,2,19960518,0516, 47.8133, -21.3950, 4350,   1509.8,   3.8580,  34.9278,2,  34.9289,2,    256.7,3,  -999.00,9,  -999.00,9,  -999.00,9
     06GA276_2,  AR19,    47,  1,     11, 103780,2,19960518,0516, 47.8133, -21.3950, 4350,   1751.6,   3.5579,  34.9029,2,  34.9035,2,    275.9,2,  -999.00,9,  -999.00,9,  -999.00,9
     06GA276_2,  AR19,    47,  1,     10, 103779,2,19960518,0516, 47.8133, -21.3950, 4350,   2002.2,   3.4613,  34.9137,2,  34.9146,2,    275.1,2,  -999.00,9,  -999.00,9,  -999.00,9
     06GA276_2,  AR19,    47,  1,      9, 103778,2,19960518,0516, 47.8133, -21.3950, 4350,   2501.3,   3.1986,  34.9447,2,  34.9442,2,    268.2,2,  -999.00,9,  -999.00,9,  -999.00,9
     06GA276_2,  AR19,    47,  1,      8, 103777,2,19960518,0516, 47.8133, -21.3950, 4350,   2751.6,   3.0473,  34.9501,2,  34.9508,2,    264.4,2,  -999.00,9,  -999.00,9,  -999.00,9
     06GA276_2,  AR19,    47,  1,      7, 103776,2,19960518,0516, 47.8133, -21.3950, 4350,   2904.1,   2.9514,  34.9505,2,  34.9505,2,    259.6,2,  -999.00,9,  -999.00,9,  -999.00,9
     06GA276_2,  AR19,    47,  1,      6, 103775,2,19960518,0516, 47.8133, -21.3950, 4350,   3253.1,   2.7392,  34.9384,2,  34.9379,2,    251.2,2,  -999.00,9,  -999.00,9,  -999.00,9
     06GA276_2,  AR19,    47,  1,      5, 103774,2,19960518,0516, 47.8133, -21.3950, 4350,   3504.6,   2.6415,  34.9282,2,  34.9278,2,    246.1,2,  -999.00,9,  -999.00,9,  -999.00,9
     06GA276_2,  AR19,    47,  1,      4, 103773,2,19960518,0516, 47.8133, -21.3950, 4350,   3754.0,   2.5882,  34.9199,2,  34.9192,2,    243.1,2,  -999.00,9,  -999.00,9,  -999.00,9
     06GA276_2,  AR19,    47,  1,      3, 103772,2,19960518,0516, 47.8133, -21.3950, 4350,   4003.7,   2.5663,  34.9135,2,  34.9141,2,    242.3,2,  -999.00,9,  -999.00,9,  -999.00,9
     06GA276_2,  AR19,    47,  1,      2, 103771,2,19960518,0516, 47.8133, -21.3950, 4350,   4251.7,   2.5602,  34.9102,2,  34.9090,2,    239.5,2,  -999.00,9,  -999.00,9,  -999.00,9
     06GA276_2,  AR19,    47,  1,      1, 103770,2,19960518,0516, 47.8133, -21.3950, 4350,   4405.9,   2.5610,  34.9076,2,  34.9084,2,    239.3,2,  -999.00,9,  -999.00,9,  -999.00,9