BOTTLE,20220921CCHSIOAMB
EXPOCODE,SECT_ID,STNNBR,CASTNO,SAMPNO,BTLNBR,BTLNBR_FLAG_W,DATE,TIME,LATITUDE,LONGITUDE,DEPTH,CTDPRS,CTDTMP,CTDSAL,CTDSAL_FLAG_W,SALNTY,SALNTY_FLAG_W,OXYGEN,OXYGEN_FLAG_W,SILCAT,SILCAT_FLAG_W,NITRAT,NITRAT_FLAG_W,PHSPHT,PHSPHT_FLAG_W
,,,,,,,,,,,,DBAR,ITS-90,PSS-78,,PSS-78,,UMOL/KG,,UMOL/KG,,UMOL/KG,,UMOL/KG,
     06GA276_2,  AR19,    21,  1,     24, 103421,2,19960514,0641, 49.0017, -13.0383, 3052,      9.7,  12.0775,  35.5421,2,  35.5438,2,    277.0,2,     0.54,2,     2.64,2,     0.22,2
     06GA276_2,  AR19,    21,  1,     23, 103420,2,19960514,0641, 49.0017, -13.0383, 3052,     50.0,  11.9245,  35.5445,2,  35.5434,2,    267.8,2,     1.43,2,     3.96,2,     0.35,2
     06GA276_2,  AR19,    21,  1,     22, 103419,2,19960514,0641, 49.0017, -13.0383, 3052,     70.3,  11.7886,  35.5411,2,  35.5419,2,    261.7,2,     1.75,2,     5.04,2,     0.43,2
     06GA276_2,  AR19,    21,  1,     21, 103418,2,19960514,0641, 49.0017, -13.0383, 3052,     99.9,  11.5226,  35.5476,2,  35.5481,2,    257.1,2,     3.00,2,     7.85,2,     0.55,2
     06GA276_2,  AR19,    21,  1,     20, 103417,2,19960514,0641, 49.0017, -13.0383, 3052,    199.9,  11.1658,  35.5288,2,  35.5304,2,    250.7,2,     3.76,2,     9.83,2,     0.65,2
     06GA276_2,  AR19,    21,  1,     19, 103416,2,19960514,0641, 49.0017, -13.0383, 3052,    300.2,  10.8639,  35.4871,2,  35.4893,2,    245.3,2,     4.12,2,    10.82,2,     0.70,2
     06GA276_2,  AR19,    21,  1,     18, 103415,2,19960514,0641, 49.0017, -13.0383, 3052,    400.6,  10.6530,  35.4643,2,  35.4658,2,    240.3,2,     4.58,2,    11.66,2,     0.75,2
     06GA276_2,  AR19,    21,  1,     17, 103414,2,19960514,0641, 49.0017, -13.0383, 3052,    500.0,  10.5020,  35.4619,2,  35.4640,2,    235.7,2,     4.83,2,    12.32,2,     0.79,2
     06GA276_2,  AR19,    21,  1,     16, 103413,2,19960514,0641, 49.0017, -13.0383, 3052,    599.8,   9.9742,  35.4022,2,  35.4036,2,    227.4,2,     6.14,2,    13.89,2,     0.89,2
     06GA276_2,  AR19,    21,  1,     15, 103412,2,19960514,0641, 49.0017, -13.0383, 3052,    801.0,   9.5424,  35.5217,2,  35.5240,2,    197.3,2,     8.71,2,    16.74,2,     1.08,2
     06GA276_2,  AR19,    21,  1,     14, 103411,2,19960514,0641, 49.0017, -13.0383, 3052,    960.1,   8.6167,  35.5023,2,  35.5050,2,    197.0,2,    10.12,2,    17.68,2,     1.14,2
     06GA276_2,  AR19,    21,  1,     13, 103410,2,19960514,0641, 49.0017, -13.0383, 3052,   1049.1,   8.1509,  35.5062,2,  35.5086,2,    202.6,2,    10.73,2,    17.74,2,     1.13,2
     06GA276_2,  AR19,    21,  1,     12, 103409,2,19960514,0641, 49.0017, -13.0383, 3052,   1200.4,   7.2693,  35.4014,2,  35.4037,2,    213.8,2,    11.74,2,    17.99,2,     1.16,2
     06GA276_2,  AR19,    21,  1,     11, 103408,2,19960514,0641, 49.0017, -13.0383, 3052,   1398.6,   5.8530,  35.2071,2,  35.2086,2,    231.8,2,    12.58,2,    17.80,2,     1.17,2
     06GA276_2,  AR19,    21,  1,     10, 103407,2,19960514,0641, 49.0017, -13.0383, 3052,   1597.8,   4.3667,  34.9983,2,  34.9985,2,    256.5,2,    12.02,2,    18.02,2,     1.20,2
     06GA276_2,  AR19,    21,  1,      9, 103406,2,19960514,0641, 49.0017, -13.0383, 3052,   1801.0,   3.8420,  34.9509,2,  35.2172,4,   -999.0,9,  -999.00,9,  -999.00,9,  -999.00,9
     06GA276_2,  AR19,    21,  1,      8, 103405,2,19960514,0641, 49.0017, -13.0383, 3052,   1999.3,   3.5191,  34.9334,2,  34.9336,2,    269.6,2,    13.69,2,    17.56,2,     1.17,2
     06GA276_2,  AR19,    21,  1,      7, 103404,2,19960514,0641, 49.0017, -13.0383, 3052,   2251.9,   3.3702,  34.9540,2,  34.9542,2,    263.2,2,    17.32,2,    18.08,2,     1.20,2
     06GA276_2,  AR19,    21,  1,      6, 103403,2,19960514,0641, 49.0017, -13.0383, 3052,   2502.4,   3.1853,  34.9604,2,  34.9617,2,    254.0,2,    24.59,2,    19.33,2,     1.28,2
     06GA276_2,  AR19,    21,  1,      5, 103402,2,19960514,0641, 49.0017, -13.0383, 3052,   2753.7,   2.9864,  34.9545,2,  34.9538,2,    250.8,2,    28.25,2,    19.84,2,     1.35,2
     06GA276_2,  AR19,    21,  1,      4, 103401,2,19960514,0641, 49.0017, -13.0383, 3052,   2991.2,   2.8955,  34.9467,2,  34.9473,2,    247.8,2,    31.34,2,    20.38,2,     1.40,2
     06GA276_2,  AR19,    21,  1,      3, 103400,2,19960514,0641, 49.0017, -13.0383, 3052,   3054.6,   2.8895,  34.9456,2,  34.9447,2,    248.3,2,    31.94,2,    20.50,2,     1.43,2
     06GA276_2,  AR19,    21,  1,      2, 103399,2,19960514,0641, 49.0017, -13.0383, 3052,   3102.9,   2.8195,  34.9417,2,  34.9403,2,    246.8,2,    33.67,2,    20.80,2,     1.43,2
     06GA276_2,  AR19,    21,  1,      1, 103398,2,19960514,0641, 49.0017, -13.0383, 3052,   3138.2,   2.7306,  34.9348,2,  34.9337,2,    244.6,2,    35.80,2,    21.22,2,     1.46,2
     06GA276_2,  AR19,    23,  1,     24, 103445,2,19960514,1118, 48.9233, -13.2717, 3717,      9.4,  12.0464,  35.5518,2,  35.5544,2,    276.6,2,  -999.00,9,  -999.00,9,  -999.00,9
     06GA276_2,  AR19,    23,  1,     23, 103444,2,19960514,1118, 48.9233, -13.2717, 3717,     50.3,  11.9672,  35.5507,2,  35.5532,2,    271.3,2,  -999.00,9,  -999.00,9,  -999.00,9
     06GA276_2,  AR19,    23,  1,     22, 103443,2,19960514,1118, 48.9233, -13.2717, 3717,    122.7,  11.2373,  35.5393,2,  35.5391,2,    252.1,2,  -999.00,9,  -999.00,9,  -999.00,9
     06GA276_2,  AR19,    23,  1,     21, 103442,2,19960514,1118, 48.9233, -13.2717, 3717,    299.7,  10.9147,  35.5060,2,  35.5065,2,    251.4,2,  -999.00,9,  -999.00,9,  -999.00,9
     06GA276_2,  AR19,    23,  1,     20, 103441,2,19960514,1118, 48.9233, -13.2717, 3717,    600.8,  10.0036,  35.4378,2,  35.4410,2,    222.1,2,  -999.00,9,  -999.00,9,  -999.00,9
     06GA276_2,  AR19,    23,  1,     19, 103440,2,19960514,1118, 48.9233, -13.2717, 3717,    700.4,   9.5714,  35.4413,2,  35.4435,2,    206.8,2,  -999.00,9,  -999.00,9,  -999.00,9
     06GA276_2,  AR19,    23,  1,     18, 103439,2,19960514,1118, 48.9233, -13.2717, 3717,    801.2,   9.0267,  35.3951,2,  35.3994,3,    200.3,2,  -999.00,9,  -999.00,9,  -999.00,9
     06GA276_2,  AR19,    23,  1,     17, 103438,2,19960514,1118, 48.9233, -13.2717, 3717,    901.0,   8.4938,  35.4552,2,  35.4579,2,    198.6,2,  -999.00,9,  -999.00,9,  -999.00,9
     06GA276_2,  AR19,    23,  1,     16, 103437,2,19960514,1118, 48.9233, -13.2717, 3717,    974.3,   8.7214,  35.6058,2,  35.5777,3,    198.3,2,  -999.00,9,  -999.00,9,  -999.00,9
     06GA276_2,  AR19,    23,  1,     15, 103436,2,19960514,1118, 48.9233, -13.2717, 3717,   1199.3,   6.5384,  35.2880,2,  35.2950,3,    222.5,2,  -999.00,9,  -999.00,9,  -999.00,9
     06GA276_2,  AR19,    23,  1,     14, 103435,2,19960514,1118, 48.9233, -13.2717, 3717,   1400.4,   4.8130,  35.0500,2,  35.0534,2,    248.6,2,  -999.00,9,  -999.00,9,  -999.00,9
     06GA276_2,  AR19,    23,  1,     13, 103434,2,19960514,1118, 48.9233, -13.2717, 3717,   1600.1,   3.9260,  34.9422,2,  34.9426,2,    267.7,2,  -999.00,9,  -999.00,9,  -999.00,9
     06GA276_2,  AR19,    23,  1,     12, 103433,2,19960514,1118, 48.9233, -13.2717, 3717,   1801.1,   3.6160,  34.9133,2,  34.9135,2,    274.8,2,  -999.00,9,  -999.00,9,  -999.00,9
     06GA276_2,  AR19,    23,  1,     11, 103432,2,19960514,1118, 48.9233, -13.2717, 3717,   1902.4,   3.5410,  34.9130,2,  34.9125,2,    275.9,2,  -999.00,9,  -999.00,9,  -999.00,9
     06GA276_2,  AR19,    23,  1,     10, 103431,2,19960514,1118, 48.9233, -13.2717, 3717,   2100.9,   3.4554,  34.9378,2,  34.9378,2,    270.1,3,  -999.00,9,  -999.00,9,  -999.00,9
     06GA276_2,  AR19,    23,  1,      9, 103430,2,19960514,1118, 48.9233, -13.2717, 3717,   2201.0,   3.3958,  34.9466,2,  34.9462,2,    273.2,2,  -999.00,9,  -999.00,9,  -999.00,9
     06GA276_2,  AR19,    23,  1,      8, 103429,2,19960514,1118, 48.9233, -13.2717, 3717,   2402.2,   3.2312,  34.9574,2,  34.9575,2,    256.8,2,  -999.00,9,  -999.00,9,  -999.00,9
     06GA276_2,  AR19,    23,  1,      7, 103428,2,19960514,1118, 48.9233, -13.2717, 3717,   2800.8,   2.9377,  34.9535,2,  34.9520,2,    252.3,2,  -999.00,9,  -999.00,9,  -999.00,9
     06GA276_2,  AR19,    23,  1,      6, 103427,2,19960514,1118, 48.9233, -13.2717, 3717,   3001.1,   2.8124,  34.9443,2,  34.9450,2,   -999.0,9,  -999.00,9,  -999.00,9,  -999.00,9
     06GA276_2,  AR19,    23,  1,      5, 103426,2,19960514,1118, 48.9233, -13.2717, 3717,   3201.8,   2.7039,  34.9348,2,  34.9351,2,    247.1,2,  -999.00,9,  -999.00,9,  -999.00,9
     06GA276_2,  AR19,    23,  1,      4, 103425,2,19960514,1118, 48.9233, -13.2717, 3717,   3502.1,   2.6127,  34.9249,2,  34.9247,2,    244.4,2,  -999.00,9,  -999.00,9,  -999.00,9
     06GA276_2,  AR19,    23,  1,      3, 103424,2,19960514,1118, 48.9233, -13.2717, 3717,   3674.8,   2.5700,  34.9193,2,  34.9192,2,    243.9,2,  -999.00,9,  -999.00,9,  -999.00,9
     06GA276_2,  AR19,    23,  1,      2, 103423,2,19960514,1118, 48.9233, -13.2717, 3717,   3742.6,   2.5506,  34.9168,2,  34.9159,2,    243.6,2,  -999.00,9,  -999.00,9,  -999.00,9
     06GA276_2,  AR19,    23,  1,      1, 103422,2,19960514,1118, 48.9233, -13.2717, 3717,   3777.5,   2.5339,  34.9145,2,  34.9137,2,    240.6,2,  -999.00,9,  -999.00,9,  -999.00,9
     06GA276_2,  AR19,    25,  1,     36, 103481,2,19960514,1640, 48.8567, -13.8000, 4500,     10.1,  12.2776,  35.5505,2,  35.5514,2,    283.8,2,     1.07,2,     3.27,2,     0.25,2
     06GA276_2,  AR19,    25,  1,     35, 103480,2,19960514,1640, 48.8567, -13.8000, 4500,     50.2,  11.8221,  35.5465,2,  35.5444,2,    269.2,2,     1.75,2,     4.60,2,     0.36,2
     06GA276_2,  AR19,    25,  1,     34, 103479,2,19960514,1640, 48.8567, -13.8000, 4500,     98.3,  11.3337,  35.5483,2,  35.5469,2,    248.6,2,     3.48,2,     9.32,2,     0.59,2
     06GA276_2,  AR19,    25,  1,     33, 103478,2,19960514,1640, 48.8567, -13.8000, 4500,    197.6,  11.0159,  35.5115,2,  35.5107,2,    257.1,3,     3.61,2,     9.87,3,     0.67,2
     06GA276_2,  AR19,    25,  1,     32, 103477,2,19960514,1640, 48.8567, -13.8000, 4500,    296.0,  10.9129,  35.5066,2,  35.5067,2,    247.8,2,     3.43,2,     9.64,2,     0.67,2
     06GA276_2,  AR19,    25,  1,     31, 103476,2,19960514,1640, 48.8567, -13.8000, 4500,    397.6,  10.4555,  35.4319,2,  35.4332,2,    234.0,2,     5.16,2,    12.51,2,     0.84,2
     06GA276_2,  AR19,    25,  1,     30, 103475,2,19960514,1640, 48.8567, -13.8000, 4500,    496.1,  10.1204,  35.4109,2,  35.4117,2,   -999.0,9,     5.48,2,    13.08,2,     0.85,2
     06GA276_2,  AR19,    25,  1,     29, 103474,2,19960514,1640, 48.8567, -13.8000, 4500,    643.5,   9.8116,  35.4523,2,  35.4480,3,    212.4,2,     7.24,2,    15.13,2,     1.00,2
     06GA276_2,  AR19,    25,  1,     28, 103473,2,19960514,1640, 48.8567, -13.8000, 4500,    679.7,   9.8416,  35.5004,2,  35.5017,2,    207.9,2,     7.50,2,    15.37,2,     0.97,2
     06GA276_2,  AR19,    25,  1,     27, 103472,2,19960514,1640, 48.8567, -13.8000, 4500,    741.2,   9.3467,  35.4576,2,  35.4596,2,    200.7,2,     8.52,2,    16.55,2,     1.08,2
     06GA276_2,  AR19,    25,  1,     26, 103471,2,19960514,1640, 48.8567, -13.8000, 4500,    794.1,   9.1531,  35.4648,2,  35.4664,2,    198.1,2,     8.92,2,    17.01,2,     1.12,2
     06GA276_2,  AR19,    25,  1,     25, 103470,2,19960514,1640, 48.8567, -13.8000, 4500,    892.0,   8.6977,  35.4755,2,  35.4770,2,   -999.0,9,     9.66,2,    17.27,2,     1.15,2
     06GA276_2,  AR19,    25,  1,     24, 103469,2,19960514,1640, 48.8567, -13.8000, 4500,   1022.8,   7.9260,  35.4369,2,  35.4372,2,   -999.0,9,    10.31,2,    17.73,2,     1.16,2
     06GA276_2,  AR19,    25,  1,     23, 103468,2,19960514,1640, 48.8567, -13.8000, 4500,   1142.1,   6.8588,  35.3167,2,  35.3157,2,    218.2,2,    11.31,2,    17.94,2,     1.20,2
     06GA276_2,  AR19,    25,  1,     22, 103467,2,19960514,1640, 48.8567, -13.8000, 4500,   1293.3,   5.6857,  35.1738,2,  35.1693,3,    233.5,2,    11.29,2,    17.95,2,     1.20,2
     06GA276_2,  AR19,    25,  1,     21, 103466,2,19960514,1640, 48.8567, -13.8000, 4500,   1391.3,   5.0945,  35.1031,2,  35.1033,2,    243.5,2,    11.44,2,    17.91,2,     1.24,2
     06GA276_2,  AR19,    25,  1,     20, 103465,2,19960514,1640, 48.8567, -13.8000, 4500,   1594.2,   3.9332,  34.9422,2,  34.9404,2,    266.8,2,    11.29,2,    17.45,2,     1.18,2
     06GA276_2,  AR19,    25,  1,     19, 103464,2,19960514,1640, 48.8567, -13.8000, 4500,   1694.0,   3.7458,  34.9249,2,  34.9237,2,    271.4,2,    10.91,2,    17.26,2,     1.16,2
     06GA276_2,  AR19,    25,  1,     18, 103463,2,19960514,1640, 48.8567, -13.8000, 4500,   1791.7,   3.6585,  34.9239,2,  34.9231,2,    272.4,2,    11.39,2,    17.26,2,     1.19,2
     06GA276_2,  AR19,    25,  1,     17, 103462,2,19960514,1640, 48.8567, -13.8000, 4500,   1891.6,   3.5812,  34.9213,2,  34.9204,2,    273.0,2,    11.89,2,    17.25,2,     1.17,2
     06GA276_2,  AR19,    25,  1,     16, 103461,2,19960514,1640, 48.8567, -13.8000, 4500,   1993.2,   3.5504,  34.9356,2,  34.9354,2,    269.8,2,    13.32,2,    17.13,2,     1.17,2
     06GA276_2,  AR19,    25,  1,     15, 103460,2,19960514,1640, 48.8567, -13.8000, 4500,   2242.1,   3.3776,  34.9531,2,  34.9529,2,    264.1,2,    16.69,2,    17.72,2,     1.21,2
     06GA276_2,  AR19,    25,  1,     14, 103459,2,19960514,1640, 48.8567, -13.8000, 4500,   2394.0,   3.2687,  34.9597,2,  34.9587,2,    259.5,2,    20.20,2,    18.20,2,     1.26,2
     06GA276_2,  AR19,    25,  1,     13, 103458,2,19960514,1640, 48.8567, -13.8000, 4500,   2440.5,   3.2390,  34.9608,2,  34.9600,2,    257.7,2,    21.87,2,    18.57,2,     1.27,2
     06GA276_2,  AR19,    25,  1,     12, 103457,2,19960514,1640, 48.8567, -13.8000, 4500,   2490.4,   3.1837,  34.9599,2,  34.9614,2,    257.1,2,    22.37,2,    18.52,2,     1.27,2
     06GA276_2,  AR19,    25,  1,     11, 103456,2,19960514,1640, 48.8567, -13.8000, 4500,   2592.9,   3.0818,  34.9563,2,  34.9558,2,    255.8,2,    24.73,2,    18.90,2,     1.31,2
     06GA276_2,  AR19,    25,  1,     10, 103455,2,19960514,1640, 48.8567, -13.8000, 4500,   2740.9,   2.9652,  34.9525,2,  34.9524,2,    252.0,2,    28.83,2,    19.55,2,     1.36,2
     06GA276_2,  AR19,    25,  1,      9, 103454,2,19960514,1640, 48.8567, -13.8000, 4500,   2993.1,   2.8075,  34.9416,2,  34.9417,2,    248.1,2,    33.55,2,    20.43,2,     1.40,2
     06GA276_2,  AR19,    25,  1,      8, 103453,2,19960514,1640, 48.8567, -13.8000, 4500,   3242.2,   2.6929,  34.9319,2,  34.9325,2,    246.1,2,    36.39,2,    20.86,2,     1.43,2
     06GA276_2,  AR19,    25,  1,      7, 103452,2,19960514,1640, 48.8567, -13.8000, 4500,   3492.9,   2.6028,  34.9217,2,  34.9225,2,    243.8,2,    39.84,2,    21.26,2,     1.47,2
     06GA276_2,  AR19,    25,  1,      6, 103451,2,19960514,1640, 48.8567, -13.8000, 4500,   3743.6,   2.5460,  34.9135,2,  34.9142,2,    242.1,2,    42.10,2,    21.74,2,     1.50,2
     06GA276_2,  AR19,    25,  1,      5, 103450,2,19960514,1640, 48.8567, -13.8000, 4500,   3991.7,   2.5199,  34.9081,2,  34.9081,2,    241.1,2,    43.20,2,    22.25,2,     1.52,2
     06GA276_2,  AR19,    25,  1,      4, 103449,2,19960514,1640, 48.8567, -13.8000, 4500,   4242.2,   2.5111,  34.9035,2,  34.9052,2,    241.4,2,    43.92,2,    22.02,2,     1.52,2
     06GA276_2,  AR19,    25,  1,      3, 103448,2,19960514,1640, 48.8567, -13.8000, 4500,   4440.2,   2.5172,  34.9019,2,  34.9028,2,    241.4,2,    44.49,2,    22.02,2,     1.53,2
     06GA276_2,  AR19,    25,  1,      2, 103447,2,19960514,1640, 48.8567, -13.8000, 4500,   4539.5,   2.5203,  34.9009,2,  34.9021,2,    240.6,2,    44.74,2,    22.02,2,     1.53,2
     06GA276_2,  AR19,    25,  1,      1, 103446,2,19960514,1640, 48.8567, -13.8000, 4500,   4597.0,   2.5243,  34.9000,2,  34.9026,2,    241.6,2,    44.89,2,    22.01,2,     1.51,2