BOTTLE,20220921CCHSIOAMB
EXPOCODE,SECT_ID,STNNBR,CASTNO,SAMPNO,BTLNBR,BTLNBR_FLAG_W,DATE,TIME,LATITUDE,LONGITUDE,DEPTH,CTDPRS,CTDTMP,CTDSAL,CTDSAL_FLAG_W,SALNTY,SALNTY_FLAG_W,OXYGEN,OXYGEN_FLAG_W,SILCAT,SILCAT_FLAG_W,NITRAT,NITRAT_FLAG_W,PHSPHT,PHSPHT_FLAG_W
,,,,,,,,,,,,DBAR,ITS-90,PSS-78,,PSS-78,,UMOL/KG,,UMOL/KG,,UMOL/KG,,UMOL/KG,
     06GA276_2,  AR19,    27,  1,     35, 103516,2,19960514,2129, 48.7283, -14.2817, 4510,     10.1,  12.1753,  35.5659,2,  35.5645,2,   -999.0,9,     0.82,2,     3.39,2,     0.32,2
     06GA276_2,  AR19,    27,  1,     34, 103515,2,19960514,2129, 48.7283, -14.2817, 4510,     48.9,  11.7948,  35.6192,2,  35.6179,2,    251.3,2,     2.97,2,     8.54,2,     0.59,2
     06GA276_2,  AR19,    27,  1,     33, 103514,2,19960514,2129, 48.7283, -14.2817, 4510,     74.0,  11.6606,  35.6018,2,  35.6008,2,    251.0,2,     3.03,2,     8.86,2,     0.61,2
     06GA276_2,  AR19,    27,  1,     32, 103513,2,19960514,2129, 48.7283, -14.2817, 4510,    125.6,  11.5727,  35.5909,2,  35.5892,2,    252.2,2,     3.21,2,     8.98,2,     0.62,2
     06GA276_2,  AR19,    27,  1,     31, 103512,2,19960514,2129, 48.7283, -14.2817, 4510,    245.6,  11.0682,  35.5097,2,  35.5095,2,    247.7,2,     3.54,2,     8.98,2,     0.63,2
     06GA276_2,  AR19,    27,  1,     30, 103511,2,19960514,2129, 48.7283, -14.2817, 4510,    484.7,  10.4783,  35.4560,2,  35.4562,2,    249.9,2,     4.06,2,    10.88,2,     0.74,2
     06GA276_2,  AR19,    27,  1,     29, 103510,2,19960514,2129, 48.7283, -14.2817, 4510,    593.0,  10.0913,  35.4090,2,  35.4093,2,    237.2,2,     5.22,2,    12.71,2,     0.88,2
     06GA276_2,  AR19,    27,  1,     28, 103509,2,19960514,2129, 48.7283, -14.2817, 4510,    732.5,   9.4390,  35.3906,2,  35.3874,2,    210.2,2,     7.73,2,    15.72,2,     1.07,2
     06GA276_2,  AR19,    27,  1,     27, 103508,2,19960514,2129, 48.7283, -14.2817, 4510,    792.6,   9.2060,  35.4173,2,  35.4198,2,    203.3,2,     8.48,2,    16.40,2,     1.12,2
     06GA276_2,  AR19,    27,  1,     26, 103507,2,19960514,2129, 48.7283, -14.2817, 4510,    892.5,   8.6766,  35.4282,2,  35.4303,2,    198.2,2,     9.80,2,    17.26,2,     1.18,2
     06GA276_2,  AR19,    27,  1,     25, 103506,2,19960514,2129, 48.7283, -14.2817, 4510,    942.7,   8.3072,  35.3965,2,  35.3976,2,    199.8,2,    10.06,2,    17.64,2,     1.21,2
     06GA276_2,  AR19,    27,  1,     24, 103505,2,19960514,2129, 48.7283, -14.2817, 4510,    995.0,   8.0141,  35.4038,2,  35.4089,3,    201.3,2,    10.29,2,    17.73,2,     1.21,2
     06GA276_2,  AR19,    27,  1,     23, 103504,2,19960514,2129, 48.7283, -14.2817, 4510,   1192.7,   6.5616,  35.2673,2,  35.2644,2,    221.4,2,    11.23,2,    18.05,2,     1.21,2
     06GA276_2,  AR19,    27,  1,     22, 103503,2,19960514,2129, 48.7283, -14.2817, 4510,   1393.5,   5.1314,  35.0887,2,  35.0898,2,    242.2,2,    12.07,2,    17.88,2,     1.23,2
     06GA276_2,  AR19,    27,  1,     21, 103502,2,19960514,2129, 48.7283, -14.2817, 4510,   1593.6,   4.2815,  34.9896,2,  34.9892,2,    258.8,2,    12.52,2,    17.72,2,     1.20,2
     06GA276_2,  AR19,    27,  1,     20, 103501,2,19960514,2129, 48.7283, -14.2817, 4510,   1693.1,   3.9412,  34.9558,2,  34.9540,2,    265.4,2,    13.27,2,    17.53,2,     1.18,2
     06GA276_2,  AR19,    27,  1,     19, 103500,2,19960514,2129, 48.7283, -14.2817, 4510,   1792.6,   3.7161,  34.9323,2,  34.9326,2,    270.1,2,    13.24,2,    17.43,2,     1.15,2
     06GA276_2,  AR19,    27,  1,     18, 103499,2,19960514,2129, 48.7283, -14.2817, 4510,   1891.5,   3.5748,  34.9220,2,  34.9215,2,    272.4,2,    13.22,2,    17.21,2,     1.14,2
     06GA276_2,  AR19,    27,  1,     17, 103498,2,19960514,2129, 48.7283, -14.2817, 4510,   1994.6,   3.5272,  34.9317,2,  34.9306,2,    270.4,2,    14.32,2,    17.26,2,     1.16,2
     06GA276_2,  AR19,    27,  1,     16, 103497,2,19960514,2129, 48.7283, -14.2817, 4510,   2090.4,   3.4740,  34.9327,2,  34.9316,2,    270.8,2,    14.76,2,    17.22,2,     1.14,2
     06GA276_2,  AR19,    27,  1,     15, 103496,2,19960514,2129, 48.7283, -14.2817, 4510,   2291.9,   3.3557,  34.9542,2,  34.9534,2,    264.4,2,    19.24,2,    18.05,2,     1.24,2
     06GA276_2,  AR19,    27,  1,     14, 103495,2,19960514,2129, 48.7283, -14.2817, 4510,   2491.5,   3.1430,  34.9582,2,  34.9577,2,    257.6,2,    24.83,2,    18.69,2,     1.26,2
     06GA276_2,  AR19,    27,  1,     13, 103494,2,19960514,2129, 48.7283, -14.2817, 4510,   2590.1,   3.0673,  34.9569,2,  34.9561,2,    254.9,2,    27.34,2,    19.12,2,     1.32,2
     06GA276_2,  AR19,    27,  1,     12, 103493,2,19960514,2129, 48.7283, -14.2817, 4510,   2790.6,   2.9236,  34.9510,2,  34.9511,2,    252.1,2,    30.95,2,    19.65,2,     1.38,2
     06GA276_2,  AR19,    27,  1,     11, 103492,2,19960514,2129, 48.7283, -14.2817, 4510,   2990.7,   2.8068,  34.9437,2,  34.9439,2,    249.1,2,    34.46,2,    20.21,2,     1.37,2
     06GA276_2,  AR19,    27,  1,     10, 103491,2,19960514,2129, 48.7283, -14.2817, 4510,   3191.9,   2.7247,  34.9359,2,  34.9360,2,    247.0,2,    36.91,2,    20.59,2,     1.45,2
     06GA276_2,  AR19,    27,  1,      9, 103490,2,19960514,2129, 48.7283, -14.2817, 4510,   3289.7,   2.6809,  34.9337,2,  34.9327,2,    246.1,2,    38.13,2,    20.95,2,     1.46,2
     06GA276_2,  AR19,    27,  1,      8, 103489,2,19960514,2129, 48.7283, -14.2817, 4510,   3488.3,   2.6074,  34.9239,2,  34.9237,2,    244.2,2,    40.70,2,    21.17,2,     1.46,2
     06GA276_2,  AR19,    27,  1,      7, 103488,2,19960514,2129, 48.7283, -14.2817, 4510,   3690.4,   2.5637,  34.9170,2,  34.9177,2,    243.6,2,    42.95,2,    21.60,2,     1.47,2
     06GA276_2,  AR19,    27,  1,      6, 103487,2,19960514,2129, 48.7283, -14.2817, 4510,   3891.8,   2.5370,  34.9119,2,  34.9125,2,    242.1,2,    44.08,2,    21.79,2,     1.52,2
     06GA276_2,  AR19,    27,  1,      5, 103486,2,19960514,2129, 48.7283, -14.2817, 4510,   4091.2,   2.5213,  34.9081,2,  34.9092,2,    241.9,2,    44.90,2,    21.88,2,     1.52,2
     06GA276_2,  AR19,    27,  1,      4, 103485,2,19960514,2129, 48.7283, -14.2817, 4510,   4291.5,   2.5158,  34.9052,2,  34.9059,2,    241.0,2,    45.52,2,    21.95,2,     1.54,2
     06GA276_2,  AR19,    27,  1,      3, 103484,2,19960514,2129, 48.7283, -14.2817, 4510,   4388.5,   2.5152,  34.9034,2,  34.9049,2,    241.5,2,    45.48,2,    22.00,2,     1.56,2
     06GA276_2,  AR19,    27,  1,      2, 103483,2,19960514,2129, 48.7283, -14.2817, 4510,   4510.4,   2.5179,  34.9020,2,  34.9036,2,    241.4,2,    45.87,2,    22.04,2,     1.55,2
     06GA276_2,  AR19,    27,  1,      1, 103482,2,19960514,2129, 48.7283, -14.2817, 4510,   4578.5,   2.5204,  34.9019,2,  34.9030,2,    241.1,2,    45.89,2,    22.60,2,     1.53,2
     06GA276_2,  AR19,    29,  1,     35, 103552,2,19960515,0552, 48.7417, -14.7400, 4702,      8.7,  12.0184,  35.5601,2,  35.5596,2,    274.1,2,  -999.00,9,  -999.00,9,  -999.00,9
     06GA276_2,  AR19,    29,  1,     34, 103551,2,19960515,0552, 48.7417, -14.7400, 4702,     49.0,  11.7934,  35.5566,2,  35.5552,2,    267.0,2,  -999.00,9,  -999.00,9,  -999.00,9
     06GA276_2,  AR19,    29,  1,     33, 103550,2,19960515,0552, 48.7417, -14.7400, 4702,     98.0,  11.3570,  35.5495,2,  35.5478,2,    251.9,2,  -999.00,9,  -999.00,9,  -999.00,9
     06GA276_2,  AR19,    29,  1,     32, 103549,2,19960515,0552, 48.7417, -14.7400, 4702,    194.2,  11.0482,  35.5316,2,  35.5293,2,    258.8,2,  -999.00,9,  -999.00,9,  -999.00,9
     06GA276_2,  AR19,    29,  1,     31, 103548,2,19960515,0552, 48.7417, -14.7400, 4702,    294.1,  10.9878,  35.5242,2,  35.5222,2,    257.8,2,  -999.00,9,  -999.00,9,  -999.00,9
     06GA276_2,  AR19,    29,  1,     30, 103547,2,19960515,0552, 48.7417, -14.7400, 4702,    395.2,  10.8374,  35.5029,2,  35.5035,2,    254.0,2,  -999.00,9,  -999.00,9,  -999.00,9
     06GA276_2,  AR19,    29,  1,     29, 103546,2,19960515,0552, 48.7417, -14.7400, 4702,    494.0,  10.6518,  35.4904,2,  35.4886,2,    255.7,2,  -999.00,9,  -999.00,9,  -999.00,9
     06GA276_2,  AR19,    29,  1,     28, 103545,2,19960515,0552, 48.7417, -14.7400, 4702,    593.0,  10.4611,  35.4686,2,  35.4671,2,    247.7,2,  -999.00,9,  -999.00,9,  -999.00,9
     06GA276_2,  AR19,    29,  1,     27, 103544,2,19960515,0552, 48.7417, -14.7400, 4702,    755.3,   9.5337,  35.3827,2,  35.3955,3,    213.6,2,  -999.00,9,  -999.00,9,  -999.00,9
     06GA276_2,  AR19,    29,  1,     26, 103543,2,19960515,0552, 48.7417, -14.7400, 4702,    844.5,   9.3675,  35.4678,2,  35.4680,2,    202.3,2,  -999.00,9,  -999.00,9,  -999.00,9
     06GA276_2,  AR19,    29,  1,     25, 103542,2,19960515,0552, 48.7417, -14.7400, 4702,    892.9,   9.0756,  35.4698,2,-999.0000,9,    198.4,2,  -999.00,9,  -999.00,9,  -999.00,9
     06GA276_2,  AR19,    29,  1,     24, 103541,2,19960515,0552, 48.7417, -14.7400, 4702,    994.3,   8.2995,  35.4444,2,  35.4429,2,    200.4,2,  -999.00,9,  -999.00,9,  -999.00,9
     06GA276_2,  AR19,    29,  1,     23, 103540,2,19960515,0552, 48.7417, -14.7400, 4702,   1042.5,   8.0878,  35.4480,2,  35.4437,2,    201.3,2,  -999.00,9,  -999.00,9,  -999.00,9
     06GA276_2,  AR19,    29,  1,     22, 103539,2,19960515,0552, 48.7417, -14.7400, 4702,   1187.4,   6.7296,  35.2965,2,-999.0000,9,   -999.0,9,  -999.00,9,  -999.00,9,  -999.00,9
     06GA276_2,  AR19,    29,  1,     21, 103538,2,19960515,0552, 48.7417, -14.7400, 4702,   1492.2,   4.3383,  34.9798,2,  34.9781,2,    257.0,2,  -999.00,9,  -999.00,9,  -999.00,9
     06GA276_2,  AR19,    29,  1,     20, 103537,2,19960515,0552, 48.7417, -14.7400, 4702,   1792.2,   3.7335,  34.9193,2,  34.9228,2,    271.5,2,  -999.00,9,  -999.00,9,  -999.00,9
     06GA276_2,  AR19,    29,  1,     19, 103536,2,19960515,0552, 48.7417, -14.7400, 4702,   1891.8,   3.6222,  34.9149,2,  34.9188,2,    274.2,2,  -999.00,9,  -999.00,9,  -999.00,9
     06GA276_2,  AR19,    29,  1,     18, 103535,2,19960515,0552, 48.7417, -14.7400, 4702,   1990.4,   3.5690,  34.9167,2,  34.9207,2,    274.7,2,  -999.00,9,  -999.00,9,  -999.00,9
     06GA276_2,  AR19,    29,  1,     17, 103534,2,19960515,0552, 48.7417, -14.7400, 4702,   2092.1,   3.5139,  34.9241,2,  34.9223,2,    272.7,2,  -999.00,9,  -999.00,9,  -999.00,9
     06GA276_2,  AR19,    29,  1,     16, 103533,2,19960515,0552, 48.7417, -14.7400, 4702,   2193.1,   3.4294,  34.9286,2,  34.9304,2,    271.8,2,  -999.00,9,  -999.00,9,  -999.00,9
     06GA276_2,  AR19,    29,  1,     15, 103532,2,19960515,0552, 48.7417, -14.7400, 4702,   2394.3,   3.3111,  34.9531,2,  34.9534,2,    264.5,2,  -999.00,9,  -999.00,9,  -999.00,9
     06GA276_2,  AR19,    29,  1,     14, 103531,2,19960515,0552, 48.7417, -14.7400, 4702,   2489.4,   3.2430,  34.9594,2,  34.9595,2,    260.5,2,  -999.00,9,  -999.00,9,  -999.00,9
     06GA276_2,  AR19,    29,  1,     13, 103530,2,19960515,0552, 48.7417, -14.7400, 4702,   2588.4,   3.1782,  34.9619,2,  34.9619,2,    257.1,2,  -999.00,9,  -999.00,9,  -999.00,9
     06GA276_2,  AR19,    29,  1,     12, 103529,2,19960515,0552, 48.7417, -14.7400, 4702,   2688.8,   3.0879,  34.9600,2,  34.9809,3,    255.2,2,  -999.00,9,  -999.00,9,  -999.00,9
     06GA276_2,  AR19,    29,  1,     11, 103528,2,19960515,0552, 48.7417, -14.7400, 4702,   2790.9,   3.0420,  34.9596,2,  34.9580,2,    253.3,2,  -999.00,9,  -999.00,9,  -999.00,9
     06GA276_2,  AR19,    29,  1,     10, 103527,2,19960515,0552, 48.7417, -14.7400, 4702,   2992.2,   2.8832,  34.9495,2,  34.9486,2,    250.2,2,  -999.00,9,  -999.00,9,  -999.00,9
     06GA276_2,  AR19,    29,  1,      9, 103526,2,19960515,0552, 48.7417, -14.7400, 4702,   3237.8,   2.7653,  34.9397,2,  34.9379,2,    246.5,2,  -999.00,9,  -999.00,9,  -999.00,9
     06GA276_2,  AR19,    29,  1,      8, 103525,2,19960515,0552, 48.7417, -14.7400, 4702,   3493.1,   2.6603,  34.9281,2,  34.9644,3,    244.7,2,  -999.00,9,  -999.00,9,  -999.00,9
     06GA276_2,  AR19,    29,  1,      7, 103524,2,19960515,0552, 48.7417, -14.7400, 4702,   3742.9,   2.5942,  34.9201,2,  34.9202,2,    242.7,2,  -999.00,9,  -999.00,9,  -999.00,9
     06GA276_2,  AR19,    29,  1,      6, 103523,2,19960515,0552, 48.7417, -14.7400, 4702,   3994.2,   2.5539,  34.9136,2,  34.9248,3,    241.3,2,  -999.00,9,  -999.00,9,  -999.00,9
     06GA276_2,  AR19,    29,  1,      5, 103522,2,19960515,0552, 48.7417, -14.7400, 4702,   4250.2,   2.5379,  34.9091,2,  34.9108,2,    241.2,2,  -999.00,9,  -999.00,9,  -999.00,9
     06GA276_2,  AR19,    29,  1,      4, 103521,2,19960515,0552, 48.7417, -14.7400, 4702,   4493.7,   2.5374,  34.9086,2,  34.9069,2,    241.3,2,  -999.00,9,  -999.00,9,  -999.00,9
     06GA276_2,  AR19,    29,  1,      3, 103520,2,19960515,0552, 48.7417, -14.7400, 4702,   4673.3,   2.5360,  34.9084,2,  34.9037,2,    240.4,2,  -999.00,9,  -999.00,9,  -999.00,9
     06GA276_2,  AR19,    29,  1,      2, 103519,2,19960515,0552, 48.7417, -14.7400, 4702,   4737.7,   2.5369,  34.9086,2,  34.9054,2,    239.6,2,  -999.00,9,  -999.00,9,  -999.00,9
     06GA276_2,  AR19,    29,  1,      1, 103518,2,19960515,0552, 48.7417, -14.7400, 4702,   4774.3,   2.5374,  34.9081,2,  34.9094,2,    240.8,2,  -999.00,9,  -999.00,9,  -999.00,9
     06GA276_2,  AR19,    31,  1,     36, 103589,2,19960515,1134, 48.5950, -15.4883, 4785,     10.8,  12.2583,  35.5523,2,  35.5540,2,    272.0,2,     0.38,2,     3.24,2,     0.24,2
     06GA276_2,  AR19,    31,  1,     35, 103588,2,19960515,1134, 48.5950, -15.4883, 4785,     50.0,  12.1932,  35.5546,2,  35.5534,2,    270.6,2,     0.41,2,     3.43,2,     0.24,2
     06GA276_2,  AR19,    31,  1,     34, 103587,2,19960515,1134, 48.5950, -15.4883, 4785,     72.5,  11.7828,  35.5688,2,  35.5702,2,    255.8,2,     1.75,2,     6.66,2,     0.40,2
     06GA276_2,  AR19,    31,  1,     33, 103586,2,19960515,1134, 48.5950, -15.4883, 4785,    122.5,  11.4065,  35.5667,2,  35.5669,2,    251.4,2,     3.01,2,     8.78,2,     0.55,2
     06GA276_2,  AR19,    31,  1,     32, 103585,2,19960515,1134, 48.5950, -15.4883, 4785,    247.2,  10.9928,  35.5195,2,  35.5237,2,    254.7,2,     3.06,2,     9.20,2,     0.55,2
     06GA276_2,  AR19,    31,  1,     31, 103584,2,19960515,1134, 48.5950, -15.4883, 4785,    331.0,  10.8497,  35.4991,2,  35.5138,3,    250.8,2,     3.34,2,     9.88,2,     0.63,2
     06GA276_2,  AR19,    31,  1,     30, 103583,2,19960515,1134, 48.5950, -15.4883, 4785,    494.8,  10.3536,  35.4480,2,  35.4477,2,    237.9,2,     4.59,2,    12.03,2,     0.73,2
     06GA276_2,  AR19,    31,  1,     29, 103582,2,19960515,1134, 48.5950, -15.4883, 4785,    742.3,   9.2737,  35.3813,2,  35.3825,2,    205.7,2,     7.93,2,    16.06,2,     1.00,2
     06GA276_2,  AR19,    31,  1,     28, 103581,2,19960515,1134, 48.5950, -15.4883, 4785,    818.3,   9.0048,  35.4099,2,  35.4101,2,    200.8,2,     8.54,2,    16.60,2,     1.02,2
     06GA276_2,  AR19,    31,  1,     27, 103580,2,19960515,1134, 48.5950, -15.4883, 4785,    879.9,   8.5946,  35.3846,2,  35.3879,2,    199.5,2,     9.24,2,    17.21,2,     1.09,2
     06GA276_2,  AR19,    31,  1,     26, 103579,2,19960515,1134, 48.5950, -15.4883, 4785,   1084.2,   7.4197,  35.3831,2,  35.3763,3,    209.9,2,    10.34,2,    17.45,2,     1.09,2
     06GA276_2,  AR19,    31,  1,     25, 103578,2,19960515,1134, 48.5950, -15.4883, 4785,   1290.0,   5.6949,  35.1655,2,  35.1701,3,    233.9,2,    10.87,2,    17.66,2,     1.12,2
     06GA276_2,  AR19,    31,  1,     24, 103577,2,19960515,1134, 48.5950, -15.4883, 4785,   1393.0,   4.9058,  35.0533,2,  35.0604,3,    247.2,2,    10.90,2,    17.47,2,     1.12,2
     06GA276_2,  AR19,    31,  1,     23, 103576,2,19960515,1134, 48.5950, -15.4883, 4785,   1491.9,   4.4342,  34.9997,2,  34.9986,2,    256.3,2,    10.61,2,    17.32,2,     1.12,2
     06GA276_2,  AR19,    31,  1,     22, 103575,2,19960515,1134, 48.5950, -15.4883, 4785,   1591.9,   4.0669,  34.9543,2,  34.9533,2,    264.3,2,    10.44,2,    17.11,2,     1.09,2
     06GA276_2,  AR19,    31,  1,     21, 103574,2,19960515,1134, 48.5950, -15.4883, 4785,   1690.2,   3.8330,  34.9297,2,  34.9283,2,    270.0,2,    10.47,2,    16.93,2,     1.09,2
     06GA276_2,  AR19,    31,  1,     20, 103573,2,19960515,1134, 48.5950, -15.4883, 4785,   1792.8,   3.7026,  34.9183,2,  34.9174,2,    273.4,2,    10.57,2,    16.83,2,     1.09,2
     06GA276_2,  AR19,    31,  1,     19, 103572,2,19960515,1134, 48.5950, -15.4883, 4785,   1892.1,   3.6040,  34.9124,2,  34.9122,2,    274.8,2,    10.57,2,    16.73,2,     1.06,2
     06GA276_2,  AR19,    31,  1,     18, 103571,2,19960515,1134, 48.5950, -15.4883, 4785,   1991.7,   3.5466,  34.9150,2,  34.9181,2,    275.8,2,    11.09,2,    16.74,2,     1.09,2
     06GA276_2,  AR19,    31,  1,     17, 103570,2,19960515,1134, 48.5950, -15.4883, 4785,   2092.5,   3.5239,  34.9265,2,  34.9871,4,    273.0,2,    11.76,2,    16.53,2,     1.09,2
     06GA276_2,  AR19,    31,  1,     16, 103569,2,19960515,1134, 48.5950, -15.4883, 4785,   2289.3,   3.4559,  34.9463,2,  34.9455,2,    268.9,2,    13.69,2,    16.75,2,     1.11,2
     06GA276_2,  AR19,    31,  1,     15, 103568,2,19960515,1134, 48.5950, -15.4883, 4785,   2491.4,   3.3335,  34.9622,2,  34.9613,2,    261.6,2,    18.14,2,    17.78,2,     1.16,2
     06GA276_2,  AR19,    31,  1,     14, 103567,2,19960515,1134, 48.5950, -15.4883, 4785,   2587.9,   3.2534,  34.9643,2,  34.9644,2,    258.0,2,    20.45,2,    18.00,2,     1.20,2
     06GA276_2,  AR19,    31,  1,     13, 103566,2,19960515,1134, 48.5950, -15.4883, 4785,   2691.6,   3.1776,  34.9666,2,  34.9658,2,    254.4,2,    23.68,2,    18.60,2,     1.25,2
     06GA276_2,  AR19,    31,  1,     12, 103565,2,19960515,1134, 48.5950, -15.4883, 4785,   2887.6,   3.0122,  34.9567,2,  34.9572,2,    251.4,2,    27.63,2,    19.24,2,     1.27,2
     06GA276_2,  AR19,    31,  1,     11, 103564,2,19960515,1134, 48.5950, -15.4883, 4785,   3092.3,   2.8773,  34.9386,2,  34.9474,3,    250.3,2,    30.99,2,    19.84,2,     1.32,2
     06GA276_2,  AR19,    31,  1,     10, 103563,2,19960515,1134, 48.5950, -15.4883, 4785,   3289.4,   2.7612,  34.9403,2,  34.9392,2,    247.0,2,    33.18,2,    20.11,2,     1.35,2
     06GA276_2,  AR19,    31,  1,      9, 103562,2,19960515,1134, 48.5950, -15.4883, 4785,   3489.3,   2.6719,  34.9299,2,  34.9303,2,    245.0,2,    35.73,2,    20.55,2,     1.39,2
     06GA276_2,  AR19,    31,  1,      8, 103561,2,19960515,1134, 48.5950, -15.4883, 4785,   3692.2,   2.6295,  34.9235,2,  34.9245,2,    244.4,2,    37.20,2,    20.66,2,     1.39,2
     06GA276_2,  AR19,    31,  1,      5, 103558,2,19960515,1134, 48.5950, -15.4883, 4785,   3890.8,   2.5856,  34.9171,2,  34.9095,3,    241.8,2,    41.15,2,    21.36,2,     1.45,2
     06GA276_2,  AR19,    31,  1,      4, 103557,2,19960515,1134, 48.5950, -15.4883, 4785,   4291.3,   2.5457,  34.9144,2,  34.9058,3,    241.6,2,    41.85,2,    21.47,2,     1.45,2
     06GA276_2,  AR19,    31,  1,      3, 103556,2,19960515,1134, 48.5950, -15.4883, 4785,   4490.9,   2.5379,  34.9057,2,  34.9077,2,    241.6,2,    42.35,2,    21.55,2,     1.48,2
     06GA276_2,  AR19,    31,  1,      2, 103555,2,19960515,1134, 48.5950, -15.4883, 4785,   4689.4,   2.5474,  34.9034,2,  34.9052,2,    241.3,2,    42.74,2,    21.62,2,     1.48,2
     06GA276_2,  AR19,    31,  1,      1, 103554,2,19960515,1134, 48.5950, -15.4883, 4785,   4791.7,   2.5505,  34.9021,2,  34.9042,2,    241.1,2,    42.84,2,    21.63,2,     1.48,2