BOTTLE,20220921CCHSIOAMB
EXPOCODE,SECT_ID,STNNBR,CASTNO,SAMPNO,BTLNBR,BTLNBR_FLAG_W,DATE,TIME,LATITUDE,LONGITUDE,DEPTH,CTDPRS,CTDTMP,CTDSAL,CTDSAL_FLAG_W,SALNTY,SALNTY_FLAG_W,OXYGEN,OXYGEN_FLAG_W,SILCAT,SILCAT_FLAG_W,NITRAT,NITRAT_FLAG_W,PHSPHT,PHSPHT_FLAG_W
,,,,,,,,,,,,DBAR,ITS-90,PSS-78,,PSS-78,,UMOL/KG,,UMOL/KG,,UMOL/KG,,UMOL/KG,
     06GA276_2,  AR19,   103,  1,     23, 104388,2,19960526,1149, 44.7567, -35.4150, 3964,     10.1,  14.4163,  35.9443,2,  35.9448,2,    261.2,2,     0.33,2,     4.23,2,     0.28,2
     06GA276_2,  AR19,   103,  1,     22, 104387,2,19960526,1149, 44.7567, -35.4150, 3964,     49.8,  14.3760,  35.9795,2,  36.0055,3,    254.2,2,     0.63,2,     4.68,2,     0.31,2
     06GA276_2,  AR19,   103,  1,     21, 104386,2,19960526,1149, 44.7567, -35.4150, 3964,    124.7,  13.8202,  35.9098,2,  35.9104,2,    240.6,2,     2.46,2,     7.29,2,     0.46,2
     06GA276_2,  AR19,   103,  1,     20, 104385,2,19960526,1149, 44.7567, -35.4150, 3964,    300.5,  12.9989,  35.7602,2,  35.7610,2,    234.0,2,     3.40,2,     9.19,2,     0.57,2
     06GA276_2,  AR19,   103,  1,     19, 104384,2,19960526,1149, 44.7567, -35.4150, 3964,    600.0,   8.4683,  35.1249,2,  35.1230,2,    184.5,2,    10.44,2,    19.82,2,     1.28,2
     06GA276_2,  AR19,   103,  1,     18, 104383,2,19960526,1149, 44.7567, -35.4150, 3964,    764.3,   6.6852,  35.0743,2,  35.0754,2,    203.0,2,    11.15,2,    19.65,2,     1.29,2
     06GA276_2,  AR19,   103,  1,     17, 104382,2,19960526,1149, 44.7567, -35.4150, 3964,    823.3,   5.6990,  34.9874,2,  34.9986,3,    218.6,2,    11.34,2,    19.66,2,     1.27,2
     06GA276_2,  AR19,   103,  1,     16, 104381,2,19960526,1149, 44.7567, -35.4150, 3964,    999.8,   4.8188,  34.9939,2,  34.9962,2,    244.0,2,    11.01,2,    18.33,2,     1.20,2
     06GA276_2,  AR19,   103,  1,     15, 104380,2,19960526,1149, 44.7567, -35.4150, 3964,   1172.9,   4.2794,  34.9653,2,  34.9662,2,    259.5,2,    10.76,2,    17.84,2,     1.16,2
     06GA276_2,  AR19,   103,  1,     14, 104379,2,19960526,1149, 44.7567, -35.4150, 3964,   1400.7,   3.8056,  34.9245,2,  34.9260,2,    272.3,2,    10.76,2,    17.39,2,     1.16,2
     06GA276_2,  AR19,   103,  1,     13, 104378,2,19960526,1149, 44.7567, -35.4150, 3964,   1649.8,   3.4859,  34.8989,2,  34.8997,2,    279.9,2,    10.47,2,    16.96,2,     1.13,2
     06GA276_2,  AR19,   103,  1,     12, 104377,2,19960526,1149, 44.7567, -35.4150, 3964,   1900.4,   3.2900,  34.8844,2,  34.8849,2,    283.9,2,    10.38,2,    17.00,2,     1.09,2
     06GA276_2,  AR19,   103,  1,     11, 104376,2,19960526,1149, 44.7567, -35.4150, 3964,   2221.8,   3.1498,  34.8842,2,  34.8831,2,    285.8,3,    10.50,2,    16.58,2,     1.07,3
     06GA276_2,  AR19,   103,  1,     10, 104375,2,19960526,1149, 44.7567, -35.4150, 3964,   2400.6,   3.1604,  34.9016,2,  34.9206,3,    281.8,2,    11.24,2,    16.57,2,     1.14,3
     06GA276_2,  AR19,   103,  1,      9, 104374,2,19960526,1149, 44.7567, -35.4150, 3964,   2601.0,   3.1397,  34.9214,2,  34.9219,2,    275.7,2,    12.49,2,    16.54,2,     1.11,2
     06GA276_2,  AR19,   103,  1,      8, 104373,2,19960526,1149, 44.7567, -35.4150, 3964,   2872.3,   2.9828,  34.9312,2,  34.9310,2,    273.1,2,    14.64,2,    16.64,2,     1.15,2
     06GA276_2,  AR19,   103,  1,      7, 104372,2,19960526,1149, 44.7567, -35.4150, 3964,   3101.2,   2.7892,  34.9264,2,  34.9265,2,    274.4,2,    15.93,2,    16.80,2,     1.13,2
     06GA276_2,  AR19,   103,  1,      6, 104371,2,19960526,1149, 44.7567, -35.4150, 3964,   3353.5,   2.5669,  34.9179,2,  34.9165,2,    275.9,2,    17.52,2,    16.72,2,     1.12,2
     06GA276_2,  AR19,   103,  1,      5, 104370,2,19960526,1149, 44.7567, -35.4150, 3964,   3600.4,   2.4219,  34.9111,2,  34.9139,2,    274.4,2,    19.12,2,    16.80,2,     1.13,2
     06GA276_2,  AR19,   103,  1,      4, 104369,2,19960526,1149, 44.7567, -35.4150, 3964,   3700.5,   2.3740,  34.9083,2,  34.9080,2,    275.6,2,    18.91,2,    16.64,2,     1.15,2
     06GA276_2,  AR19,   103,  1,      3, 104368,2,19960526,1149, 44.7567, -35.4150, 3964,   3803.0,   2.3277,  34.9053,2,  34.9052,2,    276.5,2,    19.48,2,    16.64,2,     1.16,2
     06GA276_2,  AR19,   103,  1,      2, 104367,2,19960526,1149, 44.7567, -35.4150, 3964,   3902.3,   2.2961,  34.9034,2,  34.9014,2,    278.4,2,    19.51,2,    16.51,3,     1.16,2
     06GA276_2,  AR19,   103,  1,      1, 104366,2,19960526,1149, 44.7567, -35.4150, 3964,   3981.2,   2.2681,  34.9009,2,  34.9009,2,    277.8,2,    18.91,2,    16.89,2,     1.12,2
     06GA276_2,  AR19,   105,  1,     24, 104413,2,19960526,1817, 44.5583, -36.0800, 4078,     10.7,  15.4415,  36.0603,2,  36.0575,2,    249.6,2,  -999.00,9,  -999.00,9,  -999.00,9
     06GA276_2,  AR19,   105,  1,     23, 104412,2,19960526,1817, 44.5583, -36.0800, 4078,     50.5,  14.7296,  35.9815,2,  35.9658,3,    252.0,2,  -999.00,9,  -999.00,9,  -999.00,9
     06GA276_2,  AR19,   105,  1,     22, 104411,2,19960526,1817, 44.5583, -36.0800, 4078,    202.7,  13.5789,  35.8227,2,  35.8192,2,    219.2,2,  -999.00,9,  -999.00,9,  -999.00,9
     06GA276_2,  AR19,   105,  1,     21, 104410,2,19960526,1817, 44.5583, -36.0800, 4078,    403.5,  11.3721,  35.4668,2,  35.4547,3,    186.1,2,  -999.00,9,  -999.00,9,  -999.00,9
     06GA276_2,  AR19,   105,  1,     20, 104409,2,19960526,1817, 44.5583, -36.0800, 4078,    602.7,   8.5604,  35.1949,2,  35.1927,2,    176.9,2,  -999.00,9,  -999.00,9,  -999.00,9
     06GA276_2,  AR19,   105,  1,     19, 104408,2,19960526,1817, 44.5583, -36.0800, 4078,    720.1,   6.8778,  35.0462,2,  35.0450,2,    198.2,2,  -999.00,9,  -999.00,9,  -999.00,9
     06GA276_2,  AR19,   105,  1,     18, 104407,2,19960526,1817, 44.5583, -36.0800, 4078,    804.9,   6.1037,  35.0548,2,  35.0682,3,    213.3,2,  -999.00,9,  -999.00,9,  -999.00,9
     06GA276_2,  AR19,   105,  1,     17, 104406,2,19960526,1817, 44.5583, -36.0800, 4078,    906.7,   5.2291,  34.9882,2,  34.9887,2,    231.5,2,  -999.00,9,  -999.00,9,  -999.00,9
     06GA276_2,  AR19,   105,  1,     16, 104405,2,19960526,1817, 44.5583, -36.0800, 4078,   1040.7,   4.7859,  34.9992,2,  34.9982,2,    245.7,2,  -999.00,9,  -999.00,9,  -999.00,9
     06GA276_2,  AR19,   105,  1,     15, 104404,2,19960526,1817, 44.5583, -36.0800, 4078,   1200.9,   4.3731,  34.9840,2,  34.9838,2,    256.3,2,  -999.00,9,  -999.00,9,  -999.00,9
     06GA276_2,  AR19,   105,  1,     14, 104403,2,19960526,1817, 44.5583, -36.0800, 4078,   1501.8,   3.6946,  34.9157,2,  34.9156,2,    273.7,2,  -999.00,9,  -999.00,9,  -999.00,9
     06GA276_2,  AR19,   105,  1,     13, 104402,2,19960526,1817, 44.5583, -36.0800, 4078,   1749.8,   3.4068,  34.8933,2,  34.8927,2,    281.2,2,  -999.00,9,  -999.00,9,  -999.00,9
     06GA276_2,  AR19,   105,  1,     12, 104401,2,19960526,1817, 44.5583, -36.0800, 4078,   1902.5,   3.3144,  34.8886,2,  34.8880,2,    283.1,2,  -999.00,9,  -999.00,9,  -999.00,9
     06GA276_2,  AR19,   105,  1,     11, 104400,2,19960526,1817, 44.5583, -36.0800, 4078,   2201.7,   3.2261,  34.8936,2,  34.8955,2,    283.1,2,  -999.00,9,  -999.00,9,  -999.00,9
     06GA276_2,  AR19,   105,  1,     10, 104399,2,19960526,1817, 44.5583, -36.0800, 4078,   2402.3,   3.2055,  34.9050,2,  34.9053,2,    280.3,2,  -999.00,9,  -999.00,9,  -999.00,9
     06GA276_2,  AR19,   105,  1,      9, 104398,2,19960526,1817, 44.5583, -36.0800, 4078,   2527.5,   3.2392,  34.9253,2,  34.9242,2,    274.1,2,  -999.00,9,  -999.00,9,  -999.00,9
     06GA276_2,  AR19,   105,  1,      8, 104397,2,19960526,1817, 44.5583, -36.0800, 4078,   2805.5,   3.0538,  34.9271,2,  34.9275,2,    274.6,2,  -999.00,9,  -999.00,9,  -999.00,9
     06GA276_2,  AR19,   105,  1,      7, 104396,2,19960526,1817, 44.5583, -36.0800, 4078,   3002.5,   2.9298,  34.9293,2,  34.9303,2,    273.3,2,  -999.00,9,  -999.00,9,  -999.00,9
     06GA276_2,  AR19,   105,  1,      6, 104395,2,19960526,1817, 44.5583, -36.0800, 4078,   3252.7,   2.7156,  34.9243,2,  34.9256,2,    274.1,2,  -999.00,9,  -999.00,9,  -999.00,9
     06GA276_2,  AR19,   105,  1,      5, 104394,2,19960526,1817, 44.5583, -36.0800, 4078,   3504.5,   2.5373,  34.9170,2,  34.9170,2,    273.1,2,  -999.00,9,  -999.00,9,  -999.00,9
     06GA276_2,  AR19,   105,  1,      4, 104393,2,19960526,1817, 44.5583, -36.0800, 4078,   3754.1,   2.4145,  34.9095,2,  34.9093,2,    275.2,2,  -999.00,9,  -999.00,9,  -999.00,9
     06GA276_2,  AR19,   105,  1,      3, 104392,2,19960526,1817, 44.5583, -36.0800, 4078,   3953.7,   2.3343,  34.9043,2,  34.9084,2,    276.8,2,  -999.00,9,  -999.00,9,  -999.00,9
     06GA276_2,  AR19,   105,  1,      2, 104391,2,19960526,1817, 44.5583, -36.0800, 4078,   4104.6,   2.3153,  34.9016,2,  34.9075,3,    277.6,2,  -999.00,9,  -999.00,9,  -999.00,9
     06GA276_2,  AR19,   105,  1,      1, 104390,2,19960526,1817, 44.5583, -36.0800, 4078,   4157.8,   2.2937,  34.9001,2,  34.9050,2,    277.7,2,  -999.00,9,  -999.00,9,  -999.00,9
     06GA276_2,  AR19,   107,  1,     22, 104435,2,19960528,0056, 44.3717, -36.7217, 4108,      9.9,  14.8519,  35.9367,2,  35.9373,2,    254.4,2,  -999.00,9,  -999.00,9,  -999.00,9
     06GA276_2,  AR19,   107,  1,     21, 104434,2,19960528,0056, 44.3717, -36.7217, 4108,     50.4,  14.3282,  35.9470,2,  35.9480,2,    243.7,2,  -999.00,9,  -999.00,9,  -999.00,9
     06GA276_2,  AR19,   107,  1,     20, 104433,2,19960528,0056, 44.3717, -36.7217, 4108,    124.7,  14.0321,  35.9305,2,  35.9270,2,    243.7,2,  -999.00,9,  -999.00,9,  -999.00,9
     06GA276_2,  AR19,   107,  1,     19, 104432,2,19960528,0056, 44.3717, -36.7217, 4108,    350.8,  12.3274,  35.6266,2,  35.6269,2,    212.2,2,  -999.00,9,  -999.00,9,  -999.00,9
     06GA276_2,  AR19,   107,  1,     18, 104431,2,19960528,0056, 44.3717, -36.7217, 4108,    623.4,   8.0244,  35.1034,2,  35.0990,3,    173.9,2,  -999.00,9,  -999.00,9,  -999.00,9
     06GA276_2,  AR19,   107,  1,     17, 104430,2,19960528,0056, 44.3717, -36.7217, 4108,    701.6,   7.5391,  35.1628,2,  35.1765,3,    193.0,2,  -999.00,9,  -999.00,9,  -999.00,9
     06GA276_2,  AR19,   107,  1,     16, 104429,2,19960528,0056, 44.3717, -36.7217, 4108,    841.7,   5.9171,  35.0514,2,  35.0275,3,    220.0,2,  -999.00,9,  -999.00,9,  -999.00,9
     06GA276_2,  AR19,   107,  1,     15, 104428,2,19960528,0056, 44.3717, -36.7217, 4108,   1001.2,   4.7865,  34.9884,2,  34.9859,2,    245.5,2,  -999.00,9,  -999.00,9,  -999.00,9
     06GA276_2,  AR19,   107,  1,     14, 104427,2,19960528,0056, 44.3717, -36.7217, 4108,   1339.4,   3.8041,  34.9161,2,  34.9185,2,    271.2,2,  -999.00,9,  -999.00,9,  -999.00,9
     06GA276_2,  AR19,   107,  1,     13, 104426,2,19960528,0056, 44.3717, -36.7217, 4108,   1751.1,   3.3959,  34.8907,2,  34.8897,2,    282.8,2,  -999.00,9,  -999.00,9,  -999.00,9
     06GA276_2,  AR19,   107,  1,     12, 104425,2,19960528,0056, 44.3717, -36.7217, 4108,   2093.5,   3.2830,  34.8974,2,  34.8985,2,    282.1,2,  -999.00,9,  -999.00,9,  -999.00,9
     06GA276_2,  AR19,   107,  1,     11, 104424,2,19960528,0056, 44.3717, -36.7217, 4108,   2150.5,   3.2374,  34.8924,2,  34.8924,2,    283.0,2,  -999.00,9,  -999.00,9,  -999.00,9
     06GA276_2,  AR19,   107,  1,     10, 104423,2,19960528,0056, 44.3717, -36.7217, 4108,   2251.2,   3.2320,  34.8977,2,  34.9120,3,    282.4,2,  -999.00,9,  -999.00,9,  -999.00,9
     06GA276_2,  AR19,   107,  1,      9, 104422,2,19960528,0056, 44.3717, -36.7217, 4108,   2601.9,   3.1759,  34.9181,2,  34.9200,2,    276.1,2,  -999.00,9,  -999.00,9,  -999.00,9
     06GA276_2,  AR19,   107,  1,      8, 104421,2,19960528,0056, 44.3717, -36.7217, 4108,   2901.5,   3.0285,  34.9256,2,  34.9298,3,    275.3,2,  -999.00,9,  -999.00,9,  -999.00,9
     06GA276_2,  AR19,   107,  1,      7, 104420,2,19960528,0056, 44.3717, -36.7217, 4108,   3202.6,   2.8377,  34.9287,2,  34.9296,2,    273.0,2,  -999.00,9,  -999.00,9,  -999.00,9
     06GA276_2,  AR19,   107,  1,      6, 104419,2,19960528,0056, 44.3717, -36.7217, 4108,   3301.9,   2.7375,  34.9245,2,  34.9284,2,    274.6,2,  -999.00,9,  -999.00,9,  -999.00,9
     06GA276_2,  AR19,   107,  1,      5, 104418,2,19960528,0056, 44.3717, -36.7217, 4108,   3501.9,   2.5792,  34.9168,2,  34.9161,2,    275.3,2,  -999.00,9,  -999.00,9,  -999.00,9
     06GA276_2,  AR19,   107,  1,      4, 104417,2,19960528,0056, 44.3717, -36.7217, 4108,   3753.8,   2.4487,  34.9117,2,  34.9112,2,    273.1,2,  -999.00,9,  -999.00,9,  -999.00,9
     06GA276_2,  AR19,   107,  1,      3, 104416,2,19960528,0056, 44.3717, -36.7217, 4108,   3902.7,   2.3727,  34.9070,2,  34.9063,2,    275.7,2,  -999.00,9,  -999.00,9,  -999.00,9
     06GA276_2,  AR19,   107,  1,      2, 104415,2,19960528,0056, 44.3717, -36.7217, 4108,   4003.5,   2.3450,  34.9047,2,  34.9033,2,    277.7,2,  -999.00,9,  -999.00,9,  -999.00,9
     06GA276_2,  AR19,   107,  1,      1, 104414,2,19960528,0056, 44.3717, -36.7217, 4108,   4150.8,   2.2907,  34.9009,2,  34.9077,3,    280.5,2,  -999.00,9,  -999.00,9,  -999.00,9
     06GA276_2,  AR19,   109,  1,     23, 104460,2,19960527,0719, 44.1783, -37.3450, 4148,      9.5,  16.1757,  36.2117,2,  36.2130,2,    242.5,2,     0.50,2,     3.09,2,     0.21,2
     06GA276_2,  AR19,   109,  1,     22, 104459,2,19960527,0719, 44.1783, -37.3450, 4148,     50.7,  15.5549,  36.1391,2,  36.1348,2,    229.1,2,     1.62,2,     5.82,2,     0.39,2
     06GA276_2,  AR19,   109,  1,     21, 104458,2,19960527,0719, 44.1783, -37.3450, 4148,    101.7,  15.3933,  36.1158,2,  36.1146,2,    233.8,2,     1.58,2,     5.66,2,     0.35,2
     06GA276_2,  AR19,   109,  1,     20, 104457,2,19960527,0719, 44.1783, -37.3450, 4148,    499.9,  11.8060,  35.5529,2,  35.5492,2,    198.0,2,     6.10,2,    14.23,2,     0.89,2
     06GA276_2,  AR19,   109,  1,     19, 104456,2,19960527,0719, 44.1783, -37.3450, 4148,    794.6,   6.9264,  35.0862,2,  35.1109,3,    195.9,2,    12.37,2,    20.11,2,     1.34,2
     06GA276_2,  AR19,   109,  1,     18, 104455,2,19960527,0719, 44.1783, -37.3450, 4148,    851.8,   6.6840,  35.1321,2,  35.1331,2,    204.7,2,    11.89,2,    19.59,2,     1.29,2
     06GA276_2,  AR19,   109,  1,     17, 104454,2,19960527,0719, 44.1783, -37.3450, 4148,    984.3,   5.7179,  35.0972,2,  35.1043,2,    225.7,2,    11.79,2,    18.87,2,     1.25,2
     06GA276_2,  AR19,   109,  1,     16, 104453,2,19960527,0719, 44.1783, -37.3450, 4148,   1203.0,   4.8006,  35.0370,2,  35.0371,2,    246.9,2,    11.54,2,    18.23,2,     1.19,2
     06GA276_2,  AR19,   109,  1,     15, 104452,2,19960527,0719, 44.1783, -37.3450, 4148,   1401.0,   4.1656,  34.9741,2,  34.9731,2,    261.4,2,    11.29,2,    17.75,2,     1.15,2
     06GA276_2,  AR19,   109,  1,     14, 104451,2,19960527,0719, 44.1783, -37.3450, 4148,   1601.5,   3.6934,  34.9169,2,  34.9175,2,    273.6,2,    10.76,2,    17.39,2,     1.00,2
     06GA276_2,  AR19,   109,  1,     13, 104450,2,19960527,0719, 44.1783, -37.3450, 4148,   1801.4,   3.5049,  34.9027,2,  34.9046,2,    277.8,2,    10.90,2,    16.71,2,     1.02,2
     06GA276_2,  AR19,   109,  1,     12, 104449,2,19960527,0719, 44.1783, -37.3450, 4148,   1842.3,   3.4802,  34.9023,2,  34.9032,2,    277.9,2,    10.97,2,    16.89,2,     1.12,2
     06GA276_2,  AR19,   109,  1,     11, 104448,2,19960527,0719, 44.1783, -37.3450, 4148,   1998.5,   3.4640,  34.9129,2,  34.9140,2,    275.4,2,    11.87,2,    16.79,2,     1.09,2
     06GA276_2,  AR19,   109,  1,     10, 104447,2,19960527,0719, 44.1783, -37.3450, 4148,   2403.2,   3.3026,  34.9221,2,  34.9221,2,    274.3,2,    12.87,2,    16.75,2,     1.11,2
     06GA276_2,  AR19,   109,  1,      9, 104446,2,19960527,0719, 44.1783, -37.3450, 4148,   2504.9,   3.2933,  34.9331,2,  34.9325,2,    271.7,2,    13.76,2,    16.84,2,     1.15,2
     06GA276_2,  AR19,   109,  1,      8, 104445,2,19960527,0719, 44.1783, -37.3450, 4148,   2801.3,   3.0710,  34.9366,2,  34.9371,2,    270.0,2,    15.64,2,    16.95,2,     1.12,2
     06GA276_2,  AR19,   109,  1,      7, 104444,2,19960527,0719, 44.1783, -37.3450, 4148,   3002.3,   2.9167,  34.9347,2,  34.9336,2,    270.2,2,    16.95,2,    16.91,2,     1.18,2
     06GA276_2,  AR19,   109,  1,      6, 104443,2,19960527,0719, 44.1783, -37.3450, 4148,   3253.2,   2.7379,  34.9272,2,  34.9271,2,    272.7,2,    18.29,2,    17.04,2,     1.13,2
     06GA276_2,  AR19,   109,  1,      5, 104442,2,19960527,0719, 44.1783, -37.3450, 4148,   3504.7,   2.5284,  34.9176,2,  34.9173,2,    270.9,2,    20.20,2,    16.76,2,     1.20,2
     06GA276_2,  AR19,   109,  1,      4, 104441,2,19960527,0719, 44.1783, -37.3450, 4148,   3753.2,   2.4058,  34.9098,2,  34.9084,2,    271.6,2,    21.39,2,    16.82,2,     1.20,2
     06GA276_2,  AR19,   109,  1,      3, 104440,2,19960527,0719, 44.1783, -37.3450, 4148,   4105.1,   2.3002,  34.9011,2,  34.9006,2,    274.7,2,    21.50,2,    16.74,2,     1.15,2
     06GA276_2,  AR19,   109,  1,      2, 104439,2,19960527,0719, 44.1783, -37.3450, 4148,   4204.0,   2.2499,  34.8979,2,  34.8978,2,    280.5,2,    18.08,2,    16.28,2,     1.12,2
     06GA276_2,  AR19,   109,  1,      1, 104438,2,19960527,0719, 44.1783, -37.3450, 4148,   4240.7,   2.2507,  34.8977,2,  34.8973,2,    280.0,2,    17.97,2,    16.17,2,     1.13,2