BOTTLE,20220921CCHSIOAMB
EXPOCODE,SECT_ID,STNNBR,CASTNO,SAMPNO,BTLNBR,BTLNBR_FLAG_W,DATE,TIME,LATITUDE,LONGITUDE,DEPTH,CTDPRS,CTDTMP,CTDSAL,CTDSAL_FLAG_W,SALNTY,SALNTY_FLAG_W,OXYGEN,OXYGEN_FLAG_W,SILCAT,SILCAT_FLAG_W,NITRAT,NITRAT_FLAG_W,PHSPHT,PHSPHT_FLAG_W
,,,,,,,,,,,,DBAR,ITS-90,PSS-78,,PSS-78,,UMOL/KG,,UMOL/KG,,UMOL/KG,,UMOL/KG,
     06GA276_2,  AR19,    33,  1,     36, 103625,2,19960515,2123, 48.5150, -16.2317, 4796,     19.1,  12.2816,  35.5875,2,  35.5867,2,    272.1,2,     0.78,2,     4.22,2,     0.35,2
     06GA276_2,  AR19,    33,  1,     35, 103624,2,19960515,2123, 48.5150, -16.2317, 4796,     46.8,  12.2840,  35.5873,2,  35.5921,3,    272.4,2,     0.80,2,     4.00,2,     0.35,2
     06GA276_2,  AR19,    33,  1,     34, 103623,2,19960515,2123, 48.5150, -16.2317, 4796,    147.2,  11.4919,  35.5769,2,  35.5765,2,    254.3,2,     3.46,2,     8.95,2,     0.57,2
     06GA276_2,  AR19,    33,  1,     33, 103622,2,19960515,2123, 48.5150, -16.2317, 4796,    244.9,  10.9674,  35.5071,2,  35.5057,2,    252.5,2,     3.71,2,     9.74,2,     0.63,2
     06GA276_2,  AR19,    33,  1,     32, 103621,2,19960515,2123, 48.5150, -16.2317, 4796,    493.9,  10.4882,  35.4631,2,  35.4630,2,    258.4,3,     4.02,2,    10.13,2,     0.67,2
     06GA276_2,  AR19,    33,  1,     31, 103620,2,19960515,2123, 48.5150, -16.2317, 4796,    741.7,   9.7447,  35.3905,2,  35.3899,2,    223.2,2,     6.93,2,    14.39,2,     0.96,2
     06GA276_2,  AR19,    33,  1,     30, 103619,2,19960515,2123, 48.5150, -16.2317, 4796,    793.1,   9.4520,  35.4066,2,  35.4029,2,    210.2,2,     7.91,2,    15.52,2,     1.11,2
     06GA276_2,  AR19,    33,  1,     29, 103618,2,19960515,2123, 48.5150, -16.2317, 4796,    892.3,   8.7965,  35.4375,2,  35.4382,2,    199.1,2,     9.52,2,    17.07,2,     1.14,2
     06GA276_2,  AR19,    33,  1,     28, 103617,2,19960515,2123, 48.5150, -16.2317, 4796,    994.9,   8.1529,  35.4211,2,  35.4362,3,    200.7,2,    10.24,2,    17.49,2,     1.18,2
     06GA276_2,  AR19,    33,  1,     27, 103616,2,19960515,2123, 48.5150, -16.2317, 4796,   1040.6,   7.7368,  35.3859,2,  35.3821,2,    207.2,2,    10.69,2,    17.68,2,     1.16,2
     06GA276_2,  AR19,    33,  1,     26, 103615,2,19960515,2123, 48.5150, -16.2317, 4796,   1143.8,   7.3303,  35.3800,2,  35.3681,3,    211.4,2,    10.90,2,    17.73,2,     1.19,2
     06GA276_2,  AR19,    33,  1,     25, 103614,2,19960515,2123, 48.5150, -16.2317, 4796,   1392.6,   4.8545,  35.0397,2,  35.0398,2,    247.0,2,    11.26,2,    17.69,2,     1.23,2
     06GA276_2,  AR19,    33,  1,     24, 103613,2,19960515,2123, 48.5150, -16.2317, 4796,   1441.0,   4.6610,  35.0242,2,  35.0221,2,    253.0,2,    11.29,2,    17.70,2,     1.23,2
     06GA276_2,  AR19,    33,  1,     23, 103612,2,19960515,2123, 48.5150, -16.2317, 4796,   1591.5,   4.0232,  34.9475,2,  35.0587,4,    246.7,3,    11.53,2,    17.78,2,     1.23,2
     06GA276_2,  AR19,    33,  1,     22, 103611,2,19960515,2123, 48.5150, -16.2317, 4796,   1793.4,   3.7169,  34.9226,2,  35.0591,4,    244.6,3,    11.46,2,    17.86,2,     1.23,2
     06GA276_2,  AR19,    33,  1,     21, 103610,2,19960515,2123, 48.5150, -16.2317, 4796,   1992.7,   3.5102,  34.9092,2,  34.9086,2,    277.0,2,    11.50,2,    16.78,2,     1.17,2
     06GA276_2,  AR19,    33,  1,     20, 103609,2,19960515,2123, 48.5150, -16.2317, 4796,   2090.3,   3.4826,  34.9191,2,  34.9185,2,    274.8,2,    12.25,2,    16.72,2,     1.19,2
     06GA276_2,  AR19,    33,  1,     19, 103608,2,19960515,2123, 48.5150, -16.2317, 4796,   2191.4,   3.4562,  34.9309,2,  34.9337,2,    272.3,2,    13.26,2,    17.33,2,     1.16,2
     06GA276_2,  AR19,    33,  1,     18, 103607,2,19960515,2123, 48.5150, -16.2317, 4796,   2490.8,   3.3141,  34.9553,2,  34.9551,2,    265.2,2,    17.96,2,    17.49,2,     1.26,2
     06GA276_2,  AR19,    33,  1,     17, 103606,2,19960515,2123, 48.5150, -16.2317, 4796,   2591.9,   3.2264,  34.9553,2,  34.9550,2,    261.7,2,    20.11,2,    17.88,2,     1.25,2
     06GA276_2,  AR19,    33,  1,     16, 103605,2,19960515,2123, 48.5150, -16.2317, 4796,   2691.6,   3.1523,  34.9581,2,  34.9574,2,    259.0,2,    22.92,2,    18.19,2,     1.27,2
     06GA276_2,  AR19,    33,  1,     15, 103604,2,19960515,2123, 48.5150, -16.2317, 4796,   2789.9,   3.0839,  34.9582,2,  34.9588,2,    256.1,2,    25.45,2,    18.65,2,     1.32,2
     06GA276_2,  AR19,    33,  1,     14, 103603,2,19960515,2123, 48.5150, -16.2317, 4796,   2892.5,   2.9873,  34.9550,2,  34.9565,2,    253.2,2,    28.69,2,    19.42,2,     1.34,2
     06GA276_2,  AR19,    33,  1,     13, 103602,2,19960515,2123, 48.5150, -16.2317, 4796,   2991.6,   2.8939,  34.9493,2,  34.9495,2,    243.7,3,    31.40,2,    19.47,2,     1.37,2
     06GA276_2,  AR19,    33,  1,     12, 103601,2,19960515,2123, 48.5150, -16.2317, 4796,   3091.5,   2.8377,  34.9469,2,  34.9465,2,    252.9,2,    32.98,2,    19.75,2,     1.40,2
     06GA276_2,  AR19,    33,  1,     11, 103600,2,19960515,2123, 48.5150, -16.2317, 4796,   3292.0,   2.7113,  34.9363,2,  34.9355,2,    254.0,2,    37.28,2,    20.43,2,     1.48,2
     06GA276_2,  AR19,    33,  1,     10, 103599,2,19960515,2123, 48.5150, -16.2317, 4796,   3492.9,   2.6460,  34.9288,2,  34.9279,2,    246.3,2,    39.32,2,    20.82,2,     1.46,2
     06GA276_2,  AR19,    33,  1,      9, 103598,2,19960515,2123, 48.5150, -16.2317, 4796,   3691.4,   2.5899,  34.9216,2,  34.9213,2,    243.2,2,    41.55,2,    21.25,2,     1.54,2
     06GA276_2,  AR19,    33,  1,      8, 103597,2,19960515,2123, 48.5150, -16.2317, 4796,   3893.0,   2.5636,  34.9151,2,  34.9169,2,    242.7,2,    42.90,2,    21.47,2,     1.54,2
     06GA276_2,  AR19,    33,  1,      7, 103596,2,19960515,2123, 48.5150, -16.2317, 4796,   4091.8,   2.5531,  34.9121,2,  35.4153,3,    209.8,4,    11.41,4,    17.78,4,     1.15,4
     06GA276_2,  AR19,    33,  1,      6, 103595,2,19960515,2123, 48.5150, -16.2317, 4796,   4292.8,   2.5438,  34.9084,2,  35.4131,3,    209.9,4,    11.41,4,    17.78,4,     1.17,4
     06GA276_2,  AR19,    33,  1,      5, 103594,2,19960515,2123, 48.5150, -16.2317, 4796,   4439.5,   2.5485,  34.9068,2,  35.0464,4,    251.1,4,    11.43,4,    17.78,4,     1.15,4
     06GA276_2,  AR19,    33,  1,      4, 103593,2,19960515,2123, 48.5150, -16.2317, 4796,   4590.3,   2.5559,  34.9058,2,  35.3899,4,    207.2,4,    11.83,4,    17.78,4,     1.17,4
     06GA276_2,  AR19,    33,  1,      3, 103592,2,19960515,2123, 48.5150, -16.2317, 4796,   4789.9,   2.5729,  34.9049,2,  34.9109,3,    277.4,4,    11.33,4,    17.79,4,     1.16,4
     06GA276_2,  AR19,    33,  1,      2, 103591,2,19960515,2123, 48.5150, -16.2317, 4796,   4875.9,   2.5814,  34.9047,2,  34.9063,2,    242.5,2,    45.73,2,    21.84,2,     1.53,2
     06GA276_2,  AR19,    33,  1,      1, 103590,2,19960515,2123, 48.5150, -16.2317, 4796,   4905.3,   2.5836,  34.9044,2,  34.9058,2,    240.5,2,    45.72,2,    21.87,2,     1.54,2
     06GA276_2,  AR19,    35,  1,     24, 103649,2,19960516,1135, 48.3900, -17.1833, 4197,      9.8,  12.7765,  35.6073,2,  35.6070,2,   -999.0,9,     0.33,2,     3.04,2,     0.26,2
     06GA276_2,  AR19,    35,  1,     23, 103648,2,19960516,1135, 48.3900, -17.1833, 4197,     50.4,  12.5768,  35.6266,2,  35.6281,2,    262.8,2,     1.12,2,     4.29,2,     0.33,2
     06GA276_2,  AR19,    35,  1,     22, 103647,2,19960516,1135, 48.3900, -17.1833, 4197,    100.1,  11.8927,  35.6241,2,  35.6217,2,    250.3,2,     3.01,2,     8.84,2,     0.56,2
     06GA276_2,  AR19,    35,  1,     21, 103646,2,19960516,1135, 48.3900, -17.1833, 4197,    251.0,  11.4169,  35.5643,2,  35.5640,2,    251.7,2,     3.36,2,     9.28,2,     0.60,2
     06GA276_2,  AR19,    35,  1,     20, 103645,2,19960516,1135, 48.3900, -17.1833, 4197,    502.2,  10.5127,  35.4634,2,  35.4372,3,    225.8,2,     5.74,2,    13.40,2,     0.86,2
     06GA276_2,  AR19,    35,  1,     19, 103644,2,19960516,1135, 48.3900, -17.1833, 4197,    750.2,   9.0420,  35.3371,2,  35.3333,2,    201.7,2,     8.87,2,    16.97,2,     1.08,2
     06GA276_2,  AR19,    35,  1,     18, 103643,2,19960516,1135, 48.3900, -17.1833, 4197,    801.4,   9.4253,  35.5009,2,-999.0000,9,    218.4,3,    10.59,2,    17.32,2,     1.11,2
     06GA276_2,  AR19,    35,  1,     17, 103642,2,19960516,1135, 48.3900, -17.1833, 4197,   1000.7,   8.3465,  35.5052,2,  35.5049,2,    200.2,2,    10.29,2,    17.58,2,     1.11,2
     06GA276_2,  AR19,    35,  1,     16, 103641,2,19960516,1135, 48.3900, -17.1833, 4197,   1250.4,   6.3882,  35.2862,2,  35.2860,2,    225.9,2,    11.09,2,    17.70,2,     1.11,2
     06GA276_2,  AR19,    35,  1,     15, 103640,2,19960516,1135, 48.3900, -17.1833, 4197,   1501.3,   4.1879,  34.9563,2,  34.9561,2,    262.2,2,    10.95,2,    17.59,2,     1.14,2
     06GA276_2,  AR19,    35,  1,     14, 103639,2,19960516,1135, 48.3900, -17.1833, 4197,   1699.6,   3.6960,  34.9062,2,  34.9055,2,    274.3,2,    10.81,2,    16.97,2,     1.11,2
     06GA276_2,  AR19,    35,  1,     13, 103638,2,19960516,1135, 48.3900, -17.1833, 4197,   1900.6,   3.4787,  34.8951,2,  34.8986,2,    279.3,2,    10.78,2,    16.73,2,     1.09,2
     06GA276_2,  AR19,    35,  1,     12, 103637,2,19960516,1135, 48.3900, -17.1833, 4197,   2100.9,   3.3922,  34.9031,2,  34.9050,2,    279.4,2,    11.24,2,    16.29,2,     1.09,2
     06GA276_2,  AR19,    35,  1,     11, 103636,2,19960516,1135, 48.3900, -17.1833, 4197,   2302.4,   3.3772,  34.9308,2,  34.9299,2,    273.8,2,    12.96,2,    16.88,2,     1.11,2
     06GA276_2,  AR19,    35,  1,     10, 103635,2,19960516,1135, 48.3900, -17.1833, 4197,   2502.3,   3.2513,  34.9417,2,  34.9438,2,    271.0,2,    14.43,2,    16.88,2,     1.11,2
     06GA276_2,  AR19,    35,  1,      9, 103634,2,19960516,1135, 48.3900, -17.1833, 4197,   2750.7,   3.1280,  34.9573,2,  34.9585,2,    258.3,2,    22.63,2,    18.47,2,     1.23,2
     06GA276_2,  AR19,    35,  1,      8, 103633,2,19960516,1135, 48.3900, -17.1833, 4197,   2998.9,   2.9087,  34.9489,2,  34.9480,2,    256.0,2,    26.98,2,    19.07,2,     1.29,2
     06GA276_2,  AR19,    35,  1,      7, 103632,2,19960516,1135, 48.3900, -17.1833, 4197,   3201.8,   2.7993,  34.9422,2,  34.9423,2,    253.0,2,    29.35,2,    19.55,2,     1.31,2
     06GA276_2,  AR19,    35,  1,      6, 103631,2,19960516,1135, 48.3900, -17.1833, 4197,   3400.9,   2.7013,  34.9329,2,  34.9323,2,    248.5,2,    33.67,2,    20.42,2,     1.39,2
     06GA276_2,  AR19,    35,  1,      5, 103630,2,19960516,1135, 48.3900, -17.1833, 4197,   3603.8,   2.6290,  34.9247,2,  34.9278,2,    245.8,2,    36.00,2,    20.73,2,     1.42,2
     06GA276_2,  AR19,    35,  1,      4, 103629,2,19960516,1135, 48.3900, -17.1833, 4197,   3751.3,   2.5894,  34.9197,2,  34.9199,2,    244.9,2,    38.29,2,    21.00,2,     1.47,2
     06GA276_2,  AR19,    35,  1,      3, 103628,2,19960516,1135, 48.3900, -17.1833, 4197,   4002.2,   2.5515,  34.9126,2,  34.9120,2,    243.3,2,    40.27,2,    21.28,2,     1.48,2
     06GA276_2,  AR19,    35,  1,      2, 103627,2,19960516,1135, 48.3900, -17.1833, 4197,   4253.5,   2.5298,  34.9071,2,  34.9126,3,    243.7,2,    40.17,2,    21.30,2,     1.48,2
     06GA276_2,  AR19,    35,  1,      1, 103626,2,19960516,1135, 48.3900, -17.1833, 4197,   4315.1,   2.5274,  34.9063,2,  34.9062,2,    241.4,2,    42.01,2,    21.48,2,     1.51,2
     06GA276_2,  AR19,    37,  1,     19, 103668,2,19960516,1707, 48.3017, -17.6833, 3985,     10.0,  12.8009,  35.6085,2,  35.6071,2,    265.5,2,  -999.00,9,  -999.00,9,  -999.00,9
     06GA276_2,  AR19,    37,  1,     18, 103667,2,19960516,1707, 48.3017, -17.6833, 3985,     68.6,  12.7161,  35.6086,2,  35.6160,2,    263.5,2,  -999.00,9,  -999.00,9,  -999.00,9
     06GA276_2,  AR19,    37,  1,     17, 103666,2,19960516,1707, 48.3017, -17.6833, 3985,    100.6,  12.0244,  35.6202,2,  35.6195,2,    252.5,2,  -999.00,9,  -999.00,9,  -999.00,9
     06GA276_2,  AR19,    37,  1,     16, 103665,2,19960516,1707, 48.3017, -17.6833, 3985,    199.6,  11.7546,  35.6110,2,  35.6168,2,    249.1,2,  -999.00,9,  -999.00,9,  -999.00,9
     06GA276_2,  AR19,    37,  1,     15, 103664,2,19960516,1707, 48.3017, -17.6833, 3985,    402.4,  10.8971,  35.4644,2,  35.4776,3,    239.5,2,  -999.00,9,  -999.00,9,  -999.00,9
     06GA276_2,  AR19,    37,  1,     14, 103663,2,19960516,1707, 48.3017, -17.6833, 3985,    600.9,   9.6601,  35.3143,2,  35.3132,2,    214.2,2,  -999.00,9,  -999.00,9,  -999.00,9
     06GA276_2,  AR19,    37,  1,     13, 103662,2,19960516,1707, 48.3017, -17.6833, 3985,    751.7,   8.4784,  35.2287,2,  35.2287,2,    199.5,2,  -999.00,9,  -999.00,9,  -999.00,9
     06GA276_2,  AR19,    37,  1,     12, 103661,2,19960516,1707, 48.3017, -17.6833, 3985,    961.1,   8.5197,  35.5222,2,-999.0000,9,    250.5,3,  -999.00,9,  -999.00,9,  -999.00,9
     06GA276_2,  AR19,    37,  1,     11, 103660,2,19960516,1707, 48.3017, -17.6833, 3985,   1054.1,   8.0768,  35.5125,2,  35.5137,2,    202.6,2,  -999.00,9,  -999.00,9,  -999.00,9
     06GA276_2,  AR19,    37,  1,     10, 103659,2,19960516,1707, 48.3017, -17.6833, 3985,   1239.8,   5.8032,  35.1885,2,-999.0000,9,    202.2,2,  -999.00,9,  -999.00,9,  -999.00,9
     06GA276_2,  AR19,    37,  1,      9, 103658,2,19960516,1707, 48.3017, -17.6833, 3985,   2249.9,   3.4042,  34.9454,2,  34.9437,2,    267.5,2,  -999.00,9,  -999.00,9,  -999.00,9
     06GA276_2,  AR19,    37,  1,      8, 103657,2,19960516,1707, 48.3017, -17.6833, 3985,   2500.3,   3.2002,  34.9519,2,  34.9648,3,    263.3,2,  -999.00,9,  -999.00,9,  -999.00,9
     06GA276_2,  AR19,    37,  1,      7, 103656,2,19960516,1707, 48.3017, -17.6833, 3985,   2750.2,   3.0063,  34.9547,2,  34.9533,2,    255.7,2,  -999.00,9,  -999.00,9,  -999.00,9
     06GA276_2,  AR19,    37,  1,      6, 103655,2,19960516,1707, 48.3017, -17.6833, 3985,   3003.4,   2.8398,  34.9468,2,-999.0000,9,   -999.0,9,  -999.00,9,  -999.00,9,  -999.00,9
     06GA276_2,  AR19,    37,  1,      5, 103654,2,19960516,1707, 48.3017, -17.6833, 3985,   3251.9,   2.6961,  34.9351,2,  34.9357,2,    246.9,2,  -999.00,9,  -999.00,9,  -999.00,9
     06GA276_2,  AR19,    37,  1,      4, 103653,2,19960516,1707, 48.3017, -17.6833, 3985,   3502.9,   2.5938,  34.9239,2,  34.9224,2,    243.7,2,  -999.00,9,  -999.00,9,  -999.00,9
     06GA276_2,  AR19,    37,  1,      3, 103652,2,19960516,1707, 48.3017, -17.6833, 3985,   3751.6,   2.5408,  34.9162,2,  34.9169,2,    241.6,2,  -999.00,9,  -999.00,9,  -999.00,9
     06GA276_2,  AR19,    37,  1,      2, 103651,2,19960516,1707, 48.3017, -17.6833, 3985,   3953.7,   2.5128,  34.9107,2,  34.9092,2,    240.3,2,  -999.00,9,  -999.00,9,  -999.00,9
     06GA276_2,  AR19,    37,  1,      1, 103650,2,19960516,1707, 48.3017, -17.6833, 3985,   4037.4,   2.5183,  34.9097,2,  34.9088,2,    239.7,2,  -999.00,9,  -999.00,9,  -999.00,9
     06GA276_2,  AR19,    39,  1,      1, 103675,2,19960517,0201, 48.2300, -18.3883, 4464,      9.5,  12.6775,  35.6590,2,  35.6573,2,    266.6,2,  -999.00,9,  -999.00,9,  -999.00,9
     06GA276_2,  AR19,    39,  1,      2, 103674,2,19960517,0201, 48.2300, -18.3883, 4464,     48.8,  12.6860,  35.6589,2,  35.6639,2,    264.9,2,  -999.00,9,  -999.00,9,  -999.00,9
     06GA276_2,  AR19,    39,  1,     24, 103697,2,19960517,0201, 48.2300, -18.3883, 4464,    102.1,  12.0815,  35.6259,2,  35.6314,2,    252.1,2,  -999.00,9,  -999.00,9,  -999.00,9
     06GA276_2,  AR19,    39,  1,     23, 103696,2,19960517,0201, 48.2300, -18.3883, 4464,    248.0,  11.2586,  35.5092,2,  35.5092,2,    242.1,2,  -999.00,9,  -999.00,9,  -999.00,9
     06GA276_2,  AR19,    39,  1,     22, 103695,2,19960517,0201, 48.2300, -18.3883, 4464,    501.4,  10.1394,  35.3641,2,  35.3721,2,    222.4,2,  -999.00,9,  -999.00,9,  -999.00,9
     06GA276_2,  AR19,    39,  1,     21, 103694,2,19960517,0201, 48.2300, -18.3883, 4464,    670.0,   8.7846,  35.2587,2,  35.2590,2,    204.7,2,  -999.00,9,  -999.00,9,  -999.00,9
     06GA276_2,  AR19,    39,  1,     20, 103693,2,19960517,0201, 48.2300, -18.3883, 4464,    737.4,   8.6790,  35.3190,2,  35.3181,2,    201.2,2,  -999.00,9,  -999.00,9,  -999.00,9
     06GA276_2,  AR19,    39,  1,     19, 103692,2,19960517,0201, 48.2300, -18.3883, 4464,    789.6,   7.6407,  35.1780,2,  35.1789,2,    201.6,2,  -999.00,9,  -999.00,9,  -999.00,9
     06GA276_2,  AR19,    39,  1,     18, 103691,2,19960517,0201, 48.2300, -18.3883, 4464,    963.5,   7.6069,  35.3940,2,  35.3929,2,    206.9,2,  -999.00,9,  -999.00,9,  -999.00,9
     06GA276_2,  AR19,    39,  1,     17, 103690,2,19960517,0201, 48.2300, -18.3883, 4464,   1204.6,   5.8729,  35.2014,2,  35.2034,2,    232.0,2,  -999.00,9,  -999.00,9,  -999.00,9
     06GA276_2,  AR19,    39,  1,     16, 103689,2,19960517,0201, 48.2300, -18.3883, 4464,   1500.4,   4.1147,  34.9549,2,  34.9573,2,    264.1,2,  -999.00,9,  -999.00,9,  -999.00,9
     06GA276_2,  AR19,    39,  1,     15, 103688,2,19960517,0201, 48.2300, -18.3883, 4464,   1699.9,   3.6565,  34.9086,2,  34.9087,2,    274.3,2,  -999.00,9,  -999.00,9,  -999.00,9
     06GA276_2,  AR19,    39,  1,     14, 103687,2,19960517,0201, 48.2300, -18.3883, 4464,   1902.8,   3.4858,  34.9075,2,  34.9070,2,    276.7,2,  -999.00,9,  -999.00,9,  -999.00,9
     06GA276_2,  AR19,    39,  1,     13, 103686,2,19960517,0201, 48.2300, -18.3883, 4464,   2004.4,   3.4521,  34.9166,2,  34.9171,2,    275.7,2,  -999.00,9,  -999.00,9,  -999.00,9
     06GA276_2,  AR19,    39,  1,     12, 103685,2,19960517,0201, 48.2300, -18.3883, 4464,   2245.4,   3.3717,  34.9414,2,  34.9471,2,    270.5,2,  -999.00,9,  -999.00,9,  -999.00,9
     06GA276_2,  AR19,    39,  1,     11, 103684,2,19960517,0201, 48.2300, -18.3883, 4464,   2501.6,   3.2069,  34.9586,2,  34.9574,2,    261.8,2,  -999.00,9,  -999.00,9,  -999.00,9
     06GA276_2,  AR19,    39,  1,     10, 103683,2,19960517,0201, 48.2300, -18.3883, 4464,   2660.8,   3.0691,  34.9571,2,  34.9565,2,    258.9,2,  -999.00,9,  -999.00,9,  -999.00,9
     06GA276_2,  AR19,    39,  1,      9, 103682,2,19960517,0201, 48.2300, -18.3883, 4464,   2800.9,   2.9660,  34.9530,2,  34.9523,2,    257.2,2,  -999.00,9,  -999.00,9,  -999.00,9
     06GA276_2,  AR19,    39,  1,      8, 103681,2,19960517,0201, 48.2300, -18.3883, 4464,   3201.5,   2.7191,  34.9373,2,  34.9381,2,    250.0,2,  -999.00,9,  -999.00,9,  -999.00,9
     06GA276_2,  AR19,    39,  1,      7, 103680,2,19960517,0201, 48.2300, -18.3883, 4464,   3604.9,   2.5897,  34.9224,2,  34.9220,2,    244.7,2,  -999.00,9,  -999.00,9,  -999.00,9
     06GA276_2,  AR19,    39,  1,      6, 103679,2,19960517,0201, 48.2300, -18.3883, 4464,   4006.0,   2.5416,  34.9125,2,  34.9283,3,    242.0,2,  -999.00,9,  -999.00,9,  -999.00,9
     06GA276_2,  AR19,    39,  1,      5, 103678,2,19960517,0201, 48.2300, -18.3883, 4464,   4403.5,   2.5351,  34.9065,2,  34.9096,2,    241.1,2,  -999.00,9,  -999.00,9,  -999.00,9
     06GA276_2,  AR19,    39,  1,      4, 103677,2,19960517,0201, 48.2300, -18.3883, 4464,   4552.1,   2.5411,  34.9051,2,  34.9046,2,    241.3,2,  -999.00,9,  -999.00,9,  -999.00,9
     06GA276_2,  AR19,    39,  1,      3, 103676,2,19960517,0201, 48.2300, -18.3883, 4464,   4583.8,   2.5425,  34.9047,2,  34.9048,2,    241.8,2,  -999.00,9,  -999.00,9,  -999.00,9