BOTTLE,20220921CCHSIOAMB
EXPOCODE,SECT_ID,STNNBR,CASTNO,SAMPNO,BTLNBR,BTLNBR_FLAG_W,DATE,TIME,LATITUDE,LONGITUDE,DEPTH,CTDPRS,CTDTMP,CTDSAL,CTDSAL_FLAG_W,SALNTY,SALNTY_FLAG_W,OXYGEN,OXYGEN_FLAG_W,SILCAT,SILCAT_FLAG_W,NITRAT,NITRAT_FLAG_W,PHSPHT,PHSPHT_FLAG_W
,,,,,,,,,,,,DBAR,ITS-90,PSS-78,,PSS-78,,UMOL/KG,,UMOL/KG,,UMOL/KG,,UMOL/KG,
     06GA276_2,  AR19,   157,  1,     20, 200157,2,19960602,1238, 43.2533, -49.3717,  561,      4.6,   2.9255,  32.6215,2,  32.6026,3,    354.9,2,     0.08,2,     0.77,2,     0.42,2
     06GA276_2,  AR19,   157,  1,     19, 200156,2,19960602,1238, 43.2533, -49.3717,  561,     50.1,   0.5818,  32.8401,2,  32.8443,2,    362.6,2,     0.82,2,     2.61,2,     0.57,2
     06GA276_2,  AR19,   157,  1,     18, 200155,2,19960602,1238, 43.2533, -49.3717,  561,     99.9,  -0.5154,  33.1936,2,  33.1940,2,    326.3,2,     4.87,2,     8.26,2,     0.90,2
     06GA276_2,  AR19,   157,  1,     17, 200154,2,19960602,1238, 43.2533, -49.3717,  561,    200.1,   1.7781,  34.2081,2,  34.2391,3,    293.4,2,     9.08,2,    13.40,2,     1.00,2
     06GA276_2,  AR19,   157,  1,     16, 200153,2,19960602,1238, 43.2533, -49.3717,  561,    300.3,   2.9911,  34.6039,2,  34.6112,2,    285.8,2,    10.23,2,    14.90,2,     1.02,2
     06GA276_2,  AR19,   157,  1,     15, 200152,2,19960602,1238, 43.2533, -49.3717,  561,    401.6,   3.0772,  34.6394,2,  34.6390,2,    287.0,2,     9.87,2,    15.16,2,     1.03,2
     06GA276_2,  AR19,   157,  1,     14, 200151,2,19960602,1238, 43.2533, -49.3717,  561,    500.5,   3.1908,  34.6909,2,  34.6877,2,    289.3,2,     9.67,2,    15.34,2,     1.01,2
     06GA276_2,  AR19,   157,  1,     13, 200150,2,19960602,1238, 43.2533, -49.3717,  561,    540.0,   3.1939,  34.6891,2,  34.6882,2,    288.0,2,     9.70,2,    15.17,2,     0.90,2
     06GA276_2,  AR19,   159,  1,     24, 200161,2,19960602,1559, 43.3350, -49.5817,   96,      9.9,   4.7156,  32.7376,2,-999.0000,9,    358.1,2,  -999.00,9,  -999.00,9,  -999.00,9
     06GA276_2,  AR19,   159,  1,     23, 200160,2,19960602,1559, 43.3350, -49.5817,   96,     40.7,  -0.1635,  32.9020,2,-999.0000,9,    371.8,2,  -999.00,9,  -999.00,9,  -999.00,9
     06GA276_2,  AR19,   159,  1,     22, 200159,2,19960602,1559, 43.3350, -49.5817,   96,     66.4,  -0.5352,  33.0303,2,-999.0000,9,    344.3,2,  -999.00,9,  -999.00,9,  -999.00,9
     06GA276_2,  AR19,   159,  1,     21, 200158,2,19960602,1559, 43.3350, -49.5817,   96,     93.5,  -0.4496,  33.0836,2,  32.7193,3,    335.8,2,  -999.00,9,     0.52,2,     0.25,2
     06GA276_2,  AR19,   161,  1,      4, 200165,2,19960602,1943, 43.5033, -50.0033,   67,      5.4,   7.9193,  32.4876,2,-999.0000,9,    313.9,2,     0.06,2,     0.27,2,     0.36,2
     06GA276_2,  AR19,   161,  1,      3, 200164,2,19960602,1943, 43.5033, -50.0033,   67,     16.6,   7.1327,  32.5111,2,  32.5173,2,    318.3,2,     0.08,2,     0.27,2,     0.42,2
     06GA276_2,  AR19,   161,  1,      2, 200163,2,19960602,1943, 43.5033, -50.0033,   67,     41.3,   3.6995,  32.7193,2,  32.7166,2,    313.9,2,     3.37,2,     0.69,2,     0.65,2
     06GA276_2,  AR19,   161,  1,      1, 200162,2,19960602,1943, 43.5033, -50.0033,   67,     64.6,   2.0467,  32.8710,2,  32.8737,2,    317.5,2,     6.11,2,     1.55,2,     0.77,2