BOTTLE,20220921CCHSIOAMB
EXPOCODE,SECT_ID,STNNBR,CASTNO,SAMPNO,BTLNBR,BTLNBR_FLAG_W,DATE,TIME,LATITUDE,LONGITUDE,DEPTH,CTDPRS,CTDTMP,CTDSAL,CTDSAL_FLAG_W,SALNTY,SALNTY_FLAG_W,OXYGEN,OXYGEN_FLAG_W,SILCAT,SILCAT_FLAG_W,NITRAT,NITRAT_FLAG_W,PHSPHT,PHSPHT_FLAG_W
,,,,,,,,,,,,DBAR,ITS-90,PSS-78,,PSS-78,,UMOL/KG,,UMOL/KG,,UMOL/KG,,UMOL/KG,
     06GA276_2,  AR19,    87,  1,     24, 104197,2,19960524,0536, 45.8533, -32.0117, 3572,      9.3,  13.6980,  35.8231,2,  35.8237,2,    260.5,2,     1.28,2,     5.36,2,     0.33,2
     06GA276_2,  AR19,    87,  1,     23, 104196,2,19960524,0536, 45.8533, -32.0117, 3572,     50.2,  13.5790,  35.8467,2,  35.8456,2,    256.4,2,     1.49,2,     5.78,2,     0.39,2
     06GA276_2,  AR19,    87,  1,     22, 104195,2,19960524,0536, 45.8533, -32.0117, 3572,     99.4,  13.5010,  35.8394,2,  35.8372,2,    255.2,2,     1.67,2,     6.03,2,     0.40,2
     06GA276_2,  AR19,    87,  1,     21, 104194,2,19960524,0536, 45.8533, -32.0117, 3572,    200.4,  12.7143,  35.7175,2,  35.7174,2,    235.1,2,     2.88,2,     9.42,2,     0.60,2
     06GA276_2,  AR19,    87,  1,     20, 104193,2,19960524,0536, 45.8533, -32.0117, 3572,    349.8,  12.0785,  35.6102,2,  35.6030,3,    232.1,2,     3.55,2,    10.64,2,     0.67,2
     06GA276_2,  AR19,    87,  1,     19, 104192,2,19960524,0536, 45.8533, -32.0117, 3572,    500.1,  10.4470,  35.3755,2,  35.3665,3,    196.7,2,     6.74,2,    16.16,2,     1.02,2
     06GA276_2,  AR19,    87,  1,     18, 104191,2,19960524,0536, 45.8533, -32.0117, 3572,    650.5,   7.9130,  35.0823,2,  35.0795,2,    184.9,2,    10.67,2,    20.01,2,     1.29,2
     06GA276_2,  AR19,    87,  1,     17, 104190,2,19960524,0536, 45.8533, -32.0117, 3572,    699.5,   7.8981,  35.1738,2,  35.1732,2,    190.6,2,    10.12,2,    19.57,2,     1.27,2
     06GA276_2,  AR19,    87,  1,     16, 104189,2,19960524,0536, 45.8533, -32.0117, 3572,    938.8,   5.3462,  35.0157,2,  35.0238,3,    230.1,2,    10.40,2,    18.61,2,     1.25,2
     06GA276_2,  AR19,    87,  1,     15, 104188,2,19960524,0536, 45.8533, -32.0117, 3572,   1100.9,   4.7385,  34.9885,2,  34.9880,2,    246.3,2,    10.23,2,    18.14,2,     1.20,2
     06GA276_2,  AR19,    87,  1,     14, 104187,2,19960524,0536, 45.8533, -32.0117, 3572,   1201.2,   4.4477,  34.9705,2,  34.9702,2,    254.4,2,    10.08,2,    17.84,2,     1.18,2
     06GA276_2,  AR19,    87,  1,     13, 104186,2,19960524,0536, 45.8533, -32.0117, 3572,   1400.4,   3.9469,  34.9327,2,  34.9340,2,    267.3,2,    10.04,2,    17.52,2,     1.14,2
     06GA276_2,  AR19,    87,  1,     12, 104185,2,19960524,0536, 45.8533, -32.0117, 3572,   1600.1,   3.6541,  34.9097,2,  34.9095,2,    274.7,2,    10.04,2,    17.29,2,     1.16,2
     06GA276_2,  AR19,    87,  1,     11, 104184,2,19960524,0536, 45.8533, -32.0117, 3572,   1799.1,   3.4582,  34.8980,2,  34.8987,2,    279.0,2,    10.15,2,    17.07,2,     1.14,2
     06GA276_2,  AR19,    87,  1,     10, 104183,2,19960524,0536, 45.8533, -32.0117, 3572,   2000.3,   3.3652,  34.9002,2,  34.8987,2,    279.3,2,    10.97,2,    16.99,2,     1.13,2
     06GA276_2,  AR19,    87,  1,      9, 104182,2,19960524,0536, 45.8533, -32.0117, 3572,   2200.0,   3.2873,  34.9079,2,  34.9088,2,    278.2,2,    11.41,2,    17.06,2,     1.13,2
     06GA276_2,  AR19,    87,  1,      8, 104181,2,19960524,0536, 45.8533, -32.0117, 3572,   2399.4,   3.2473,  34.9193,2,  34.9193,2,    275.6,2,    12.40,2,    16.98,2,     1.14,2
     06GA276_2,  AR19,    87,  1,      7, 104180,2,19960524,0536, 45.8533, -32.0117, 3572,   2600.0,   3.1883,  34.9275,2,  34.9279,2,    274.0,2,    13.33,2,    16.93,2,     1.16,2
     06GA276_2,  AR19,    87,  1,      6, 104179,2,19960524,0536, 45.8533, -32.0117, 3572,   2802.8,   3.0584,  34.9312,2,  34.9326,2,    272.9,2,    13.39,2,    16.89,2,     1.15,2
     06GA276_2,  AR19,    87,  1,      5, 104178,2,19960524,0536, 45.8533, -32.0117, 3572,   3001.6,   2.9135,  34.9326,2,  34.9303,2,    272.8,2,    14.98,2,    16.76,3,     1.14,2
     06GA276_2,  AR19,    87,  1,      4, 104177,2,19960524,0536, 45.8533, -32.0117, 3572,   3201.6,   2.7655,  34.9287,2,  34.9286,2,    274.0,2,    15.97,2,    16.95,2,     1.10,2
     06GA276_2,  AR19,    87,  1,      3, 104176,2,19960524,0536, 45.8533, -32.0117, 3572,   3522.6,   2.4457,  34.9137,2,  34.9127,2,    275.9,2,    18.10,2,    16.89,2,     1.14,2
     06GA276_2,  AR19,    87,  1,      2, 104175,2,19960524,0536, 45.8533, -32.0117, 3572,   3594.5,   2.4187,  34.9124,2,  34.9127,2,    275.9,2,    18.57,2,    16.87,2,     1.14,2
     06GA276_2,  AR19,    87,  1,      1, 104174,2,19960524,0536, 45.8533, -32.0117, 3572,   3619.0,   2.4207,  34.9129,2,  34.9122,2,    275.3,2,    18.49,2,    16.73,2,     1.14,2
     06GA276_2,  AR19,    89,  1,     24, 104245,2,19960525,0120, 45.6200, -32.5433, 3938,     21.4,  13.8196,  35.8428,2,  35.8416,2,    264.2,2,  -999.00,9,  -999.00,9,  -999.00,9
     06GA276_2,  AR19,    89,  1,     23, 104244,2,19960525,0120, 45.6200, -32.5433, 3938,     50.8,  13.6779,  35.8720,2,  35.8710,2,    257.8,2,  -999.00,9,  -999.00,9,  -999.00,9
     06GA276_2,  AR19,    89,  1,     22, 104243,2,19960525,0120, 45.6200, -32.5433, 3938,     94.2,  13.5643,  35.8596,2,-999.0000,9,    254.1,2,  -999.00,9,  -999.00,9,  -999.00,9
     06GA276_2,  AR19,    89,  1,     21, 104242,2,19960525,0120, 45.6200, -32.5433, 3938,    199.9,  13.0768,  35.7778,2,  35.7577,3,    235.0,2,  -999.00,9,  -999.00,9,  -999.00,9
     06GA276_2,  AR19,    89,  1,     20, 104241,2,19960525,0120, 45.6200, -32.5433, 3938,    350.0,  11.2151,  35.4453,2,  35.4408,3,    198.0,2,  -999.00,9,  -999.00,9,  -999.00,9
     06GA276_2,  AR19,    89,  1,     19, 104240,2,19960525,0120, 45.6200, -32.5433, 3938,    503.3,   9.5261,  35.2750,2,  35.2733,2,    188.8,2,  -999.00,9,  -999.00,9,  -999.00,9
     06GA276_2,  AR19,    89,  1,     18, 104239,2,19960525,0120, 45.6200, -32.5433, 3938,    643.9,   7.3429,  35.0620,2,  35.0594,2,    192.8,2,  -999.00,9,  -999.00,9,  -999.00,9
     06GA276_2,  AR19,    89,  1,     17, 104238,2,19960525,0120, 45.6200, -32.5433, 3938,    751.8,   6.8480,  35.1208,2,  35.1184,2,    203.9,2,  -999.00,9,  -999.00,9,  -999.00,9
     06GA276_2,  AR19,    89,  1,     16, 104237,2,19960525,0120, 45.6200, -32.5433, 3938,   1101.7,   4.7665,  35.0126,2,  35.0124,2,    247.6,2,  -999.00,9,  -999.00,9,  -999.00,9
     06GA276_2,  AR19,    89,  1,     15, 104236,2,19960525,0120, 45.6200, -32.5433, 3938,   1401.4,   3.9852,  34.9475,2,  34.9464,2,    267.4,2,  -999.00,9,  -999.00,9,  -999.00,9
     06GA276_2,  AR19,    89,  1,     14, 104235,2,19960525,0120, 45.6200, -32.5433, 3938,   1700.5,   3.5892,  34.9136,2,  34.9137,2,    275.6,2,  -999.00,9,  -999.00,9,  -999.00,9
     06GA276_2,  AR19,    89,  1,     13, 104234,2,19960525,0120, 45.6200, -32.5433, 3938,   1786.5,   3.5406,  34.9130,2,  34.9127,2,    276.7,2,  -999.00,9,  -999.00,9,  -999.00,9
     06GA276_2,  AR19,    89,  1,     12, 104233,2,19960525,0120, 45.6200, -32.5433, 3938,   1900.3,   3.4556,  34.9062,2,  34.9068,2,    279.2,2,  -999.00,9,  -999.00,9,  -999.00,9
     06GA276_2,  AR19,    89,  1,     11, 104232,2,19960525,0120, 45.6200, -32.5433, 3938,   1998.9,   3.4065,  34.9054,2,  34.9061,2,    279.2,2,  -999.00,9,  -999.00,9,  -999.00,9
     06GA276_2,  AR19,    89,  1,     10, 104231,2,19960525,0120, 45.6200, -32.5433, 3938,   2202.6,   3.3464,  34.9131,2,  34.9137,2,    277.6,2,  -999.00,9,  -999.00,9,  -999.00,9
     06GA276_2,  AR19,    89,  1,      9, 104230,2,19960525,0120, 45.6200, -32.5433, 3938,   2401.1,   3.2819,  34.9228,2,  34.9238,2,    275.0,2,  -999.00,9,  -999.00,9,  -999.00,9
     06GA276_2,  AR19,    89,  1,      8, 104229,2,19960525,0120, 45.6200, -32.5433, 3938,   2600.6,   3.1673,  34.9281,2,  34.9281,2,    273.4,2,  -999.00,9,  -999.00,9,  -999.00,9
     06GA276_2,  AR19,    89,  1,      7, 104228,2,19960525,0120, 45.6200, -32.5433, 3938,   2802.6,   3.0191,  34.9302,2,  34.9320,2,    273.6,2,  -999.00,9,  -999.00,9,  -999.00,9
     06GA276_2,  AR19,    89,  1,      6, 104227,2,19960525,0120, 45.6200, -32.5433, 3938,   3003.0,   2.8795,  34.9305,2,  34.9293,2,    273.9,2,  -999.00,9,  -999.00,9,  -999.00,9
     06GA276_2,  AR19,    89,  1,      5, 104226,2,19960525,0120, 45.6200, -32.5433, 3938,   3302.8,   2.6825,  34.9243,2,  34.9229,2,    274.4,2,  -999.00,9,  -999.00,9,  -999.00,9
     06GA276_2,  AR19,    89,  1,      4, 104225,2,19960525,0120, 45.6200, -32.5433, 3938,   3593.4,   2.5237,  34.9168,2,  34.9146,2,    276.9,2,  -999.00,9,  -999.00,9,  -999.00,9
     06GA276_2,  AR19,    89,  1,      3, 104224,2,19960525,0120, 45.6200, -32.5433, 3938,   3902.3,   2.3896,  34.9083,2,  34.9109,2,   -999.0,9,  -999.00,9,  -999.00,9,  -999.00,9
     06GA276_2,  AR19,    89,  1,      2, 104223,2,19960525,0120, 45.6200, -32.5433, 3938,   3969.4,   2.3834,  34.9078,2,  34.9127,3,    279.2,2,  -999.00,9,  -999.00,9,  -999.00,9
     06GA276_2,  AR19,    89,  1,      1, 104222,2,19960525,0120, 45.6200, -32.5433, 3938,   3996.9,   2.3790,  34.9070,2,  34.9080,2,    277.5,2,  -999.00,9,  -999.00,9,  -999.00,9
     06GA276_2,  AR19,    91,  1,     24, 104269,2,19960525,0906, 45.3917, -33.0900, 3583,      9.9,  14.0096,  35.8903,2,  35.8902,2,    261.1,2,  -999.00,9,     4.67,2,     0.38,2
     06GA276_2,  AR19,    91,  1,     23, 104268,2,19960525,0906, 45.3917, -33.0900, 3583,     49.8,  14.0084,  35.8914,2,  35.8906,2,    260.3,2,  -999.00,9,     4.73,2,     0.35,2
     06GA276_2,  AR19,    91,  1,     22, 104267,2,19960525,0906, 45.3917, -33.0900, 3583,    194.2,  13.5020,  35.8474,2,  35.8436,2,    238.6,2,     2.41,2,     7.89,2,     0.56,2
     06GA276_2,  AR19,    91,  1,     21, 104266,2,19960525,0906, 45.3917, -33.0900, 3583,    424.7,  10.9912,  35.4091,2,  35.3924,3,    200.0,2,     6.34,2,    15.13,2,     1.03,2
     06GA276_2,  AR19,    91,  1,     20, 104265,2,19960525,0906, 45.3917, -33.0900, 3583,    650.6,   7.9376,  35.0882,2,  35.0842,2,    185.4,2,    10.75,2,    19.63,4,     1.34,2
     06GA276_2,  AR19,    91,  1,     19, 104264,2,19960525,0906, 45.3917, -33.0900, 3583,    851.9,   5.6722,  35.0327,2,  35.0262,3,    223.5,2,    10.77,2,    18.66,2,     1.29,2
     06GA276_2,  AR19,    91,  1,     18, 104263,2,19960525,0906, 45.3917, -33.0900, 3583,    899.1,   5.4831,  35.0436,2,  35.0431,2,    228.5,2,    10.78,2,    18.42,2,     1.25,2
     06GA276_2,  AR19,    91,  1,     17, 104262,2,19960525,0906, 45.3917, -33.0900, 3583,    920.0,   5.3677,  35.0368,2,  35.0373,2,    231.8,2,    10.56,2,    18.38,2,     1.27,2
     06GA276_2,  AR19,    91,  1,     16, 104261,2,19960525,0906, 45.3917, -33.0900, 3583,   1000.4,   4.9887,  35.0183,2,  35.0187,2,    240.5,2,    10.33,2,    19.04,2,     1.25,2
     06GA276_2,  AR19,    91,  1,     15, 104260,2,19960525,0906, 45.3917, -33.0900, 3583,   1198.3,   4.3498,  34.9750,2,  34.9747,2,    258.1,2,    10.14,2,    17.68,2,     1.27,2
     06GA276_2,  AR19,    91,  1,     14, 104259,2,19960525,0906, 45.3917, -33.0900, 3583,   1399.9,   3.9797,  34.9466,2,  34.9473,2,    265.5,2,    10.27,2,    17.36,2,     1.15,2
     06GA276_2,  AR19,    91,  1,     13, 104258,2,19960525,0906, 45.3917, -33.0900, 3583,   1598.6,   3.6044,  34.9098,2,  34.9108,2,    275.0,2,    10.10,2,    17.07,2,     1.21,2
     06GA276_2,  AR19,    91,  1,     12, 104257,2,19960525,0906, 45.3917, -33.0900, 3583,   1799.4,   3.4405,  34.9000,2,  34.9044,2,    278.4,2,    10.09,2,    16.74,2,     1.18,2
     06GA276_2,  AR19,    91,  1,     11, 104256,2,19960525,0906, 45.3917, -33.0900, 3583,   1999.6,   3.2956,  34.8914,2,  34.8910,2,    282.2,2,    10.12,2,    16.68,2,     1.18,2
     06GA276_2,  AR19,    91,  1,     10, 104255,2,19960525,0906, 45.3917, -33.0900, 3583,   2200.9,   3.2404,  34.8973,2,  34.8966,2,    281.0,2,    10.57,2,    16.50,2,     1.21,2
     06GA276_2,  AR19,    91,  1,      9, 104254,2,19960525,0906, 45.3917, -33.0900, 3583,   2401.9,   3.2332,  34.9112,2,  34.9111,2,    277.8,2,    11.30,2,    16.59,2,     1.13,2
     06GA276_2,  AR19,    91,  1,      8, 104253,2,19960525,0906, 45.3917, -33.0900, 3583,   2600.6,   3.1704,  34.9263,2,  34.9273,2,    274.3,2,    12.48,2,    16.30,2,     1.18,2
     06GA276_2,  AR19,    91,  1,      7, 104252,2,19960525,0906, 45.3917, -33.0900, 3583,   2801.6,   3.0595,  34.9301,2,  34.9333,2,    273.3,2,    13.37,2,    16.58,2,     1.16,2
     06GA276_2,  AR19,    91,  1,      6, 104251,2,19960525,0906, 45.3917, -33.0900, 3583,   3051.7,   2.8401,  34.9297,2,  34.9289,2,    273.2,2,    14.82,2,    16.82,2,     1.14,2
     06GA276_2,  AR19,    91,  1,      5, 104250,2,19960525,0906, 45.3917, -33.0900, 3583,   3302.1,   2.6242,  34.9227,2,  34.9206,2,    273.1,2,    16.78,2,    16.67,2,     1.17,2
     06GA276_2,  AR19,    91,  1,      4, 104249,2,19960525,0906, 45.3917, -33.0900, 3583,   3403.8,   2.5569,  34.9195,2,  34.9185,2,    273.8,2,    17.70,2,    16.96,3,     1.16,2
     06GA276_2,  AR19,    91,  1,      3, 104248,2,19960525,0906, 45.3917, -33.0900, 3583,   3501.8,   2.4934,  34.9161,2,  34.9151,2,    273.7,2,    18.07,2,    16.75,2,     1.22,2
     06GA276_2,  AR19,    91,  1,      2, 104247,2,19960525,0906, 45.3917, -33.0900, 3583,   3616.4,   2.4140,  34.9115,2,  34.9109,2,    274.9,2,    18.47,2,    16.73,2,     1.22,2
     06GA276_2,  AR19,    91,  1,      1, 104246,2,19960525,0906, 45.3917, -33.0900, 3583,   3649.0,   2.4161,  34.9110,2,  34.9303,3,    274.0,4,    13.10,2,    16.61,2,     1.19,2
     06GA276_2,  AR19,    93,  2,     24, 104221,2,19960524,1812, 45.3783, -33.2133, 3680,      9.7,  14.1158,  35.8859,2,  35.8861,2,    270.3,2,  -999.00,9,     4.13,2,     0.37,2
     06GA276_2,  AR19,    93,  2,     23, 104220,2,19960524,1812, 45.3783, -33.2133, 3680,     60.0,  13.8109,  35.8838,2,  35.8833,2,    256.1,2,     0.26,2,     5.41,2,     0.48,2
     06GA276_2,  AR19,    93,  2,     22, 104219,2,19960524,1812, 45.3783, -33.2133, 3680,    150.1,  13.7289,  35.8929,2,  35.8933,2,    250.5,2,     1.35,2,     6.27,2,     0.52,2
     06GA276_2,  AR19,    93,  2,     21, 104218,2,19960524,1812, 45.3783, -33.2133, 3680,    250.8,  13.3970,  35.8452,2,  35.8432,2,    243.6,2,     2.15,2,     7.74,2,     0.56,2
     06GA276_2,  AR19,    93,  2,     20, 104217,2,19960524,1812, 45.3783, -33.2133, 3680,    350.3,  12.3584,  35.6388,2,  35.6317,3,    228.6,2,     3.70,2,    10.59,2,     0.72,2
     06GA276_2,  AR19,    93,  2,     19, 104216,2,19960524,1812, 45.3783, -33.2133, 3680,    601.5,   8.3948,  35.1043,2,  35.1041,2,    177.4,2,    10.80,2,    20.29,2,     1.37,3
     06GA276_2,  AR19,    93,  2,     18, 104215,2,19960524,1812, 45.3783, -33.2133, 3680,    750.4,   6.4677,  35.0295,2,  35.0272,2,    206.5,2,    10.78,2,    19.20,2,     1.32,2
     06GA276_2,  AR19,    93,  2,     17, 104214,2,19960524,1812, 45.3783, -33.2133, 3680,    800.7,   6.0019,  35.0260,2,  35.0278,2,    214.4,2,    10.67,2,    18.84,2,     1.15,3
     06GA276_2,  AR19,    93,  2,     16, 104213,2,19960524,1812, 45.3783, -33.2133, 3680,   1001.1,   4.8275,  34.9888,2,  34.9883,2,    245.2,2,    10.23,2,    17.82,2,     1.19,2
     06GA276_2,  AR19,    93,  2,     15, 104212,2,19960524,1812, 45.3783, -33.2133, 3680,   1201.0,   4.2568,  34.9593,2,  34.9593,2,    260.0,2,     9.91,2,    17.38,2,     1.16,2
     06GA276_2,  AR19,    93,  2,     14, 104211,2,19960524,1812, 45.3783, -33.2133, 3680,   1499.7,   3.6591,  34.9111,2,  34.9118,2,    275.5,2,     9.64,2,    16.78,2,     1.16,2
     06GA276_2,  AR19,    93,  2,     13, 104210,2,19960524,1812, 45.3783, -33.2133, 3680,   1750.0,   3.4342,  34.8938,2,  34.8944,2,    281.2,2,     9.86,2,    16.61,2,     1.16,2
     06GA276_2,  AR19,    93,  2,     12, 104209,2,19960524,1812, 45.3783, -33.2133, 3680,   1900.4,   3.3492,  34.8889,2,  34.8899,2,    282.6,2,     9.88,2,    16.64,2,     1.16,2
     06GA276_2,  AR19,    93,  2,     11, 104208,2,19960524,1812, 45.3783, -33.2133, 3680,   2100.4,   3.3642,  34.9060,2,  34.9065,2,    277.8,2,    10.94,2,    16.55,2,     1.17,2
     06GA276_2,  AR19,    93,  2,     10, 104207,2,19960524,1812, 45.3783, -33.2133, 3680,   2250.8,   3.2773,  34.9038,2,  34.9057,2,    278.9,2,    11.11,2,    16.54,2,     1.06,3
     06GA276_2,  AR19,    93,  2,      9, 104206,2,19960524,1812, 45.3783, -33.2133, 3680,   2400.9,   3.2793,  34.9216,2,  34.9218,2,    274.8,2,    11.93,2,    16.68,2,     1.16,2
     06GA276_2,  AR19,    93,  2,      8, 104205,2,19960524,1812, 45.3783, -33.2133, 3680,   2601.7,   3.1863,  34.9308,2,  34.9311,2,    272.5,2,    13.11,2,    16.64,2,     1.20,2
     06GA276_2,  AR19,    93,  2,      7, 104204,2,19960524,1812, 45.3783, -33.2133, 3680,   2803.0,   3.0264,  34.9265,2,  34.9268,2,    275.3,2,    13.00,2,    16.40,2,     1.16,2
     06GA276_2,  AR19,    93,  2,      6, 104203,2,19960524,1812, 45.3783, -33.2133, 3680,   3003.1,   2.8955,  34.9285,2,  34.9313,2,    274.5,2,    14.11,2,    16.35,2,     1.17,2
     06GA276_2,  AR19,    93,  2,      5, 104202,2,19960524,1812, 45.3783, -33.2133, 3680,   3204.5,   2.7226,  34.9244,2,  34.9240,2,    274.0,2,    15.62,2,    16.49,2,     1.16,2
     06GA276_2,  AR19,    93,  2,      4, 104201,2,19960524,1812, 45.3783, -33.2133, 3680,   3392.9,   2.5637,  34.9189,2,  34.9198,2,    274.9,2,    16.78,2,    16.49,2,     1.17,2
     06GA276_2,  AR19,    93,  2,      3, 104200,2,19960524,1812, 45.3783, -33.2133, 3680,   3621.6,   2.4237,  34.9107,2,  34.9112,2,    275.8,2,    17.80,2,    16.50,2,     1.19,2
     06GA276_2,  AR19,    93,  2,      2, 104199,2,19960524,1812, 45.3783, -33.2133, 3680,   3695.3,   2.3768,  34.9073,2,  34.9072,2,    277.6,2,    17.96,2,    16.38,2,     1.19,2
     06GA276_2,  AR19,    93,  2,      1, 104198,2,19960524,1812, 45.3783, -33.2133, 3680,   3729.3,   2.3588,  34.9060,2,  34.9069,2,    277.0,2,    17.75,2,    16.39,2,     1.16,2