BOTTLE,20220921CCHSIOAMB
# Removed changed the second occurrence of SAMPNO 19 and 18 in station 107 to 9 and 8, their position in the file strongly suggested these were typos
#BOTTLE,20010918WHPSIOKJU
#code : jjward hyd_to_exchange.pl 
#original files copied from HTML directory: 20010918
#original HYD file: ar19_chy.txt   Tue Sep 18 09:45:02 2001
#original SUM file: ar19_csu.txt   Tue Sep 18 09:43:16 2001
EXPOCODE,SECT_ID,STNNBR,CASTNO,SAMPNO,BTLNBR,BTLNBR_FLAG_W,DATE,TIME,LATITUDE,LONGITUDE,DEPTH,CTDPRS,CTDTMP,CTDSAL,CTDSAL_FLAG_W,SALNTY,SALNTY_FLAG_W,OXYGEN,OXYGEN_FLAG_W,SILCAT,SILCAT_FLAG_W,NITRAT,NITRAT_FLAG_W,PHSPHT,PHSPHT_FLAG_W
,,,,,,,,,,,,DBAR,ITS-90,PSS-78,,PSS-78,,UMOL/KG,,UMOL/KG,,UMOL/KG,,UMOL/KG,
     06GA276_2,  AR19,     7,  1,      5, 103313,2,19960513,0807, 49.2317, -10.6633,  158,      4.3,  11.6409,  35.5528,2,  35.5545,2,    296.1,2,     0.34,2,     2.71,2,     0.25,2
     06GA276_2,  AR19,     7,  1,      4, 103312,2,19960513,0807, 49.2317, -10.6633,  158,     30.1,  11.6116,  35.5519,2,  35.5527,2,    294.4,2,     0.35,2,     2.83,2,     0.24,2
     06GA276_2,  AR19,     7,  1,      3, 103311,2,19960513,0807, 49.2317, -10.6633,  158,     61.0,  11.4442,  35.5483,2,  35.5481,2,    281.2,2,     0.79,2,     4.06,2,     0.35,2
     06GA276_2,  AR19,     7,  1,      2, 103310,2,19960513,0807, 49.2317, -10.6633,  158,    101.6,  11.2373,  35.5419,2,  35.5396,2,    260.2,2,     2.50,2,     7.11,2,     0.49,2
     06GA276_2,  AR19,     7,  1,      1, 103309,2,19960513,0807, 49.2317, -10.6633,  158,    125.0,  11.0469,  35.5367,2,  35.5438,3,   -999.0,9,  -999.00,9,  -999.00,9,  -999.00,9
     06GA276_2,  AR19,     9,  1,     12, 103320,2,19960513,1109, 49.1950, -11.1867,  202,      4.7,  11.5947,  35.5419,2,  35.5418,2,   -999.0,9,     1.17,2,     4.63,2,     0.37,2
     06GA276_2,  AR19,     9,  1,     11, 103319,2,19960513,1109, 49.1950, -11.1867,  202,     30.3,  11.5598,  35.5431,2,  35.5428,2,    271.1,2,     1.18,2,     4.67,2,     0.38,2
     06GA276_2,  AR19,     9,  1,     10, 103318,2,19960513,1109, 49.1950, -11.1867,  202,     60.3,  11.4457,  35.5410,2,  35.5420,2,    268.0,2,     1.42,2,     5.42,2,     0.44,2
     06GA276_2,  AR19,     9,  1,      9, 103317,2,19960513,1109, 49.1950, -11.1867,  202,     90.9,  11.2591,  35.5396,2,  35.5396,2,    260.9,2,     2.39,2,     7.10,2,     0.52,2
     06GA276_2,  AR19,     9,  1,      8, 103316,2,19960513,1109, 49.1950, -11.1867,  202,    120.4,  11.1713,  35.5423,2,  35.5410,2,    256.9,2,     2.86,2,     8.49,2,     0.55,2
     06GA276_2,  AR19,     9,  1,      7, 103315,2,19960513,1109, 49.1950, -11.1867,  202,    152.2,  11.0755,  35.5401,2,  35.5399,2,    250.7,2,     3.28,2,     9.03,2,     0.59,2
     06GA276_2,  AR19,     9,  1,      6, 103314,2,19960513,1109, 49.1950, -11.1867,  202,    191.2,  11.0813,  35.5399,2,  35.5408,2,    250.8,2,     3.30,2,     9.00,2,     0.58,2
     06GA276_2,  AR19,    11,  1,     23, 103331,2,19960513,1253, 49.1833, -11.4367,  502,      4.2,  11.7266,  35.5518,2,  35.5489,2,    270.4,2,     1.84,2,     5.06,2,     0.41,2
     06GA276_2,  AR19,    11,  1,     22, 103330,2,19960513,1253, 49.1833, -11.4367,  502,     49.7,  11.5373,  35.5460,2,  35.5462,2,    267.5,2,     1.84,2,     5.53,2,     0.44,2
     06GA276_2,  AR19,    11,  1,     21, 103329,2,19960513,1253, 49.1833, -11.4367,  502,    101.7,  11.4249,  35.5448,2,  35.5448,2,    264.0,2,     2.23,2,     6.56,2,     0.46,2
     06GA276_2,  AR19,    11,  1,     20, 103328,2,19960513,1253, 49.1833, -11.4367,  502,    152.9,  11.2083,  35.5464,2,  35.5466,2,    256.7,2,     2.92,2,     8.39,2,     0.55,2
     06GA276_2,  AR19,    11,  1,     19, 103327,2,19960513,1253, 49.1833, -11.4367,  502,    198.5,  11.1526,  35.5430,2,  35.5438,2,    254.0,2,     2.94,2,     8.87,2,     0.56,2
     06GA276_2,  AR19,    11,  1,     18, 103326,2,19960513,1253, 49.1833, -11.4367,  502,    252.4,  11.0727,  35.5371,2,  35.5389,2,    249.0,2,     3.30,2,     9.47,2,     0.63,2
     06GA276_2,  AR19,    11,  1,     17, 103325,2,19960513,1253, 49.1833, -11.4367,  502,    301.7,  11.0404,  35.5382,2,  35.5394,2,    247.6,2,     3.30,2,     9.58,2,     0.63,2
     06GA276_2,  AR19,    11,  1,     16, 103324,2,19960513,1253, 49.1833, -11.4367,  502,    351.4,  11.0174,  35.5367,2,  35.5368,2,    246.3,2,     3.59,2,     9.94,2,     0.66,2
     06GA276_2,  AR19,    11,  1,     15, 103323,2,19960513,1253, 49.1833, -11.4367,  502,    401.6,  10.9155,  35.5336,2,  35.5336,2,    241.2,2,     3.97,2,    10.45,2,     0.68,2
     06GA276_2,  AR19,    11,  1,     14, 103322,2,19960513,1253, 49.1833, -11.4367,  502,    453.2,  10.8479,  35.5297,2,  35.5294,2,    239.3,2,     4.22,2,    10.86,2,     0.69,2
     06GA276_2,  AR19,    11,  1,     13, 103321,2,19960513,1253, 49.1833, -11.4367,  502,    491.7,  10.8002,  35.5272,2,  35.5261,2,    236.8,2,     4.42,2,    11.19,2,     0.72,2
     06GA276_2,  AR19,    13,  1,     11, 103342,2,19960513,1709, 49.1083, -12.1967, 1006,      3.2,  12.6801,  35.5596,2,  35.5623,2,    278.5,2,     1.10,2,     3.58,2,     0.16,2
     06GA276_2,  AR19,    13,  1,     10, 103341,2,19960513,1709, 49.1083, -12.1967, 1006,     50.4,  11.7896,  35.5539,2,  35.5537,2,    276.4,2,     1.11,2,     3.87,2,     0.26,2
     06GA276_2,  AR19,    13,  1,      9, 103340,2,19960513,1709, 49.1083, -12.1967, 1006,    126.3,  11.3094,  35.5525,2,  35.5528,2,   -999.0,9,  -999.00,9,  -999.00,9,  -999.00,9
     06GA276_2,  AR19,    13,  1,      8, 103339,2,19960513,1709, 49.1083, -12.1967, 1006,    253.0,  11.2641,  35.5528,2,  35.5537,2,    246.3,2,     2.70,2,     8.28,2,     0.47,2
     06GA276_2,  AR19,    13,  1,      7, 103338,2,19960513,1709, 49.1083, -12.1967, 1006,    402.4,  11.1775,  35.5430,2,  35.5421,2,    251.8,2,     3.03,2,     9.11,2,     0.55,2
     06GA276_2,  AR19,    13,  1,      6, 103337,2,19960513,1709, 49.1083, -12.1967, 1006,    503.1,  10.9366,  35.5255,2,  35.5276,2,    237.9,2,     4.23,2,    11.28,2,     0.67,2
     06GA276_2,  AR19,    13,  1,      5, 103336,2,19960513,1709, 49.1083, -12.1967, 1006,    603.6,  10.3696,  35.4591,2,  35.4610,2,    231.2,2,     5.33,2,    13.14,2,     0.80,2
     06GA276_2,  AR19,    13,  1,      4, 103335,2,19960513,1709, 49.1083, -12.1967, 1006,    702.9,   9.9888,  35.4869,2,  35.4857,2,    211.4,2,     7.13,2,    15.29,2,     0.92,2
     06GA276_2,  AR19,    13,  1,      3, 103334,2,19960513,1709, 49.1083, -12.1967, 1006,    851.6,   9.7780,  35.5562,2,  35.5541,2,    200.4,2,     8.25,2,    16.40,2,     0.99,2
     06GA276_2,  AR19,    13,  1,      2, 103333,2,19960513,1709, 49.1083, -12.1967, 1006,    961.4,   9.3818,  35.5710,2,  35.6005,3,    195.8,2,     9.22,2,    17.09,2,     1.05,2
     06GA276_2,  AR19,    13,  1,      1, 103332,2,19960513,1709, 49.1083, -12.1967, 1006,   1005.9,   8.9577,  35.5675,2,  35.5673,2,    195.1,2,     9.91,2,    17.54,2,     1.09,2
     06GA276_2,  AR19,    15,  1,     23, 103355,2,19960513,2046, 49.0517, -12.6950, 1506,      4.8,  12.6689,  35.5532,2,  35.5484,3,    272.0,2,  -999.00,9,  -999.00,9,  -999.00,9
     06GA276_2,  AR19,    15,  1,     22, 103354,2,19960513,2046, 49.0517, -12.6950, 1506,     49.5,  11.9507,  35.5544,2,  35.5442,3,    248.4,2,  -999.00,9,  -999.00,9,  -999.00,9
     06GA276_2,  AR19,    15,  1,     21, 103353,2,19960513,2046, 49.0517, -12.6950, 1506,    100.9,  11.3812,  35.5536,2,  35.5533,2,    254.5,2,  -999.00,9,  -999.00,9,  -999.00,9
     06GA276_2,  AR19,    15,  1,     20, 103352,2,19960513,2046, 49.0517, -12.6950, 1506,    199.7,  11.2342,  35.5495,2,  35.5491,2,    254.1,2,  -999.00,9,  -999.00,9,  -999.00,9
     06GA276_2,  AR19,    15,  1,     19, 103351,2,19960513,2046, 49.0517, -12.6950, 1506,    402.8,  10.8217,  35.5011,2,  35.5016,2,    235.4,2,  -999.00,9,  -999.00,9,  -999.00,9
     06GA276_2,  AR19,    15,  1,     18, 103350,2,19960513,2046, 49.0517, -12.6950, 1506,    603.5,  10.1946,  35.4507,2,  35.4519,2,    225.3,2,  -999.00,9,  -999.00,9,  -999.00,9
     06GA276_2,  AR19,    15,  1,     17, 103349,2,19960513,2046, 49.0517, -12.6950, 1506,    751.4,   9.7198,  35.4625,2,  35.4607,2,    205.2,2,  -999.00,9,  -999.00,9,  -999.00,9
     06GA276_2,  AR19,    15,  1,     16, 103348,2,19960513,2046, 49.0517, -12.6950, 1506,    851.8,   9.6801,  35.5735,2,  35.5722,2,    197.9,2,  -999.00,9,  -999.00,9,  -999.00,9
     06GA276_2,  AR19,    15,  1,     15, 103347,2,19960513,2046, 49.0517, -12.6950, 1506,   1000.7,   9.1986,  35.6196,2,  35.7126,3,    195.4,2,  -999.00,9,  -999.00,9,  -999.00,9
     06GA276_2,  AR19,    15,  1,     14, 103346,2,19960513,2046, 49.0517, -12.6950, 1506,   1200.3,   7.5857,  35.4352,2,  35.4360,2,    208.9,2,  -999.00,9,  -999.00,9,  -999.00,9
     06GA276_2,  AR19,    15,  1,     13, 103345,2,19960513,2046, 49.0517, -12.6950, 1506,   1401.1,   5.9522,  35.2204,2,  35.2222,2,    230.7,2,  -999.00,9,  -999.00,9,  -999.00,9
     06GA276_2,  AR19,    15,  1,     12, 103344,2,19960513,2046, 49.0517, -12.6950, 1506,   1505.9,   5.4064,  35.1529,2,-999.0000,9,    238.1,2,  -999.00,9,  -999.00,9,  -999.00,9
     06GA276_2,  AR19,    15,  1,     11, 103343,2,19960513,2046, 49.0517, -12.6950, 1506,   1524.7,   5.3896,  35.1522,2,  35.1509,2,   -999.0,9,  -999.00,9,  -999.00,9,  -999.00,9
     06GA276_2,  AR19,    17,  1,     18, 103373,2,19960513,2337, 49.0167, -12.8550, 2009,      3.6,  12.2496,  35.5477,2,  35.5495,2,    275.8,2,  -999.00,9,  -999.00,9,  -999.00,9
     06GA276_2,  AR19,    17,  1,     17, 103372,2,19960513,2337, 49.0167, -12.8550, 2009,     49.2,  12.0298,  35.5525,2,  35.5532,2,    266.7,2,  -999.00,9,  -999.00,9,  -999.00,9
     06GA276_2,  AR19,    17,  1,     16, 103371,2,19960513,2337, 49.0167, -12.8550, 2009,    100.2,  11.3090,  35.5486,2,  35.5492,2,    256.4,2,  -999.00,9,  -999.00,9,  -999.00,9
     06GA276_2,  AR19,    17,  1,     15, 103370,2,19960513,2337, 49.0167, -12.8550, 2009,    200.3,  11.1944,  35.5434,2,  35.5442,2,    253.7,2,  -999.00,9,  -999.00,9,  -999.00,9
     06GA276_2,  AR19,    17,  1,     14, 103369,2,19960513,2337, 49.0167, -12.8550, 2009,    303.0,  10.9558,  35.5191,2,  35.5208,2,    243.3,2,  -999.00,9,  -999.00,9,  -999.00,9
     06GA276_2,  AR19,    17,  1,     13, 103368,2,19960513,2337, 49.0167, -12.8550, 2009,    401.6,  10.8737,  35.5297,2,  35.5314,2,    242.3,2,  -999.00,9,  -999.00,9,  -999.00,9
     06GA276_2,  AR19,    17,  1,     12, 103367,2,19960513,2337, 49.0167, -12.8550, 2009,    502.5,  10.5254,  35.4893,2,  35.4917,2,    230.4,2,  -999.00,9,  -999.00,9,  -999.00,9
     06GA276_2,  AR19,    17,  1,     11, 103366,2,19960513,2337, 49.0167, -12.8550, 2009,    600.8,  10.1003,  35.4584,2,  35.4568,2,    218.8,2,  -999.00,9,  -999.00,9,  -999.00,9
     06GA276_2,  AR19,    17,  1,     10, 103365,2,19960513,2337, 49.0167, -12.8550, 2009,    700.6,   9.9597,  35.5109,2,  35.5105,2,   -999.0,9,  -999.00,9,  -999.00,9,  -999.00,9
     06GA276_2,  AR19,    17,  1,      9, 103364,2,19960513,2337, 49.0167, -12.8550, 2009,    800.9,   9.7487,  35.5733,2,  35.5747,2,    200.5,2,  -999.00,9,  -999.00,9,  -999.00,9
     06GA276_2,  AR19,    17,  1,      8, 103363,2,19960513,2337, 49.0167, -12.8550, 2009,    904.7,   9.4561,  35.6039,2,  35.6049,2,    194.9,2,  -999.00,9,  -999.00,9,  -999.00,9
     06GA276_2,  AR19,    17,  1,      7, 103362,2,19960513,2337, 49.0167, -12.8550, 2009,   1002.4,   8.6428,  35.5224,2,  35.5211,2,    198.3,2,  -999.00,9,  -999.00,9,  -999.00,9
     06GA276_2,  AR19,    17,  1,      6, 103361,2,19960513,2337, 49.0167, -12.8550, 2009,   1201.4,   7.2539,  35.3870,2,  35.3863,2,    213.7,2,  -999.00,9,  -999.00,9,  -999.00,9
     06GA276_2,  AR19,    17,  1,      5, 103360,2,19960513,2337, 49.0167, -12.8550, 2009,   1399.4,   5.7794,  35.2033,2,  35.2040,2,    233.2,2,  -999.00,9,  -999.00,9,  -999.00,9
     06GA276_2,  AR19,    17,  1,      4, 103359,2,19960513,2337, 49.0167, -12.8550, 2009,   1602.1,   4.3510,  35.0172,2,  35.0165,2,    256.1,2,  -999.00,9,  -999.00,9,  -999.00,9
     06GA276_2,  AR19,    17,  1,      3, 103358,2,19960513,2337, 49.0167, -12.8550, 2009,   1798.3,   3.8176,  34.9622,2,  34.9615,2,    264.5,2,  -999.00,9,  -999.00,9,  -999.00,9
     06GA276_2,  AR19,    17,  1,      2, 103357,2,19960513,2337, 49.0167, -12.8550, 2009,   2000.8,   3.4958,  34.9514,2,  34.9715,3,    266.3,2,  -999.00,9,  -999.00,9,  -999.00,9
     06GA276_2,  AR19,    17,  1,      1, 103356,2,19960513,2337, 49.0167, -12.8550, 2009,   2021.0,   3.4984,  34.9517,2,  34.9518,2,    266.4,2,  -999.00,9,  -999.00,9,  -999.00,9
     06GA276_2,  AR19,    19,  1,     24, 103397,2,19960514,0241, 48.9983, -12.9800, 2583,      4.3,  12.1234,  35.5456,2,  35.5471,2,    279.2,2,  -999.00,9,  -999.00,9,  -999.00,9
     06GA276_2,  AR19,    19,  1,     23, 103396,2,19960514,0241, 48.9983, -12.9800, 2583,     50.1,  11.8235,  35.5447,2,  35.5468,2,    265.9,2,  -999.00,9,  -999.00,9,  -999.00,9
     06GA276_2,  AR19,    19,  1,     22, 103395,2,19960514,0241, 48.9983, -12.9800, 2583,    101.0,  11.4537,  35.5680,2,  35.5683,2,    252.1,2,  -999.00,9,  -999.00,9,  -999.00,9
     06GA276_2,  AR19,    19,  1,     21, 103394,2,19960514,0241, 48.9983, -12.9800, 2583,    202.5,  11.1438,  35.5344,2,  35.5357,2,    251.8,2,  -999.00,9,  -999.00,9,  -999.00,9
     06GA276_2,  AR19,    19,  1,     20, 103393,2,19960514,0241, 48.9983, -12.9800, 2583,    303.8,  10.9808,  35.5138,2,  35.5158,2,    252.2,2,  -999.00,9,  -999.00,9,  -999.00,9
     06GA276_2,  AR19,    19,  1,     19, 103392,2,19960514,0241, 48.9983, -12.9800, 2583,    402.7,  10.7129,  35.4769,2,  35.4780,2,    238.9,2,  -999.00,9,  -999.00,9,  -999.00,9
     06GA276_2,  AR19,    19,  1,     18, 103391,2,19960514,0241, 48.9983, -12.9800, 2583,    501.8,  10.3151,  35.4393,2,  35.4455,3,    232.6,2,  -999.00,9,  -999.00,9,  -999.00,9
     06GA276_2,  AR19,    19,  1,     17, 103390,2,19960514,0241, 48.9983, -12.9800, 2583,    602.1,  10.0332,  35.4392,2,  35.4195,3,    219.7,2,  -999.00,9,  -999.00,9,  -999.00,9
     06GA276_2,  AR19,    19,  1,     16, 103389,2,19960514,0241, 48.9983, -12.9800, 2583,    699.5,   9.5954,  35.4249,2,  35.4256,2,   -999.0,9,  -999.00,9,  -999.00,9,  -999.00,9
     06GA276_2,  AR19,    19,  1,     15, 103388,2,19960514,0241, 48.9983, -12.9800, 2583,    749.7,   9.6024,  35.4732,2,  35.4804,3,    202.2,2,  -999.00,9,  -999.00,9,  -999.00,9
     06GA276_2,  AR19,    19,  1,     14, 103387,2,19960514,0241, 48.9983, -12.9800, 2583,    800.1,   9.5134,  35.5425,2,  35.5440,2,    196.5,2,  -999.00,9,  -999.00,9,  -999.00,9
     06GA276_2,  AR19,    19,  1,     13, 103386,2,19960514,0241, 48.9983, -12.9800, 2583,    842.4,   9.5294,  35.5785,2,  35.5803,2,    194.8,2,  -999.00,9,  -999.00,9,  -999.00,9
     06GA276_2,  AR19,    19,  1,     12, 103385,2,19960514,0241, 48.9983, -12.9800, 2583,    950.5,   8.4408,  35.4791,2,  35.4796,2,    199.8,2,  -999.00,9,  -999.00,9,  -999.00,9
     06GA276_2,  AR19,    19,  1,     11, 103384,2,19960514,0241, 48.9983, -12.9800, 2583,    999.0,   8.2709,  35.4845,2,  35.4854,2,    200.5,2,  -999.00,9,  -999.00,9,  -999.00,9
     06GA276_2,  AR19,    19,  1,     10, 103383,2,19960514,0241, 48.9983, -12.9800, 2583,   1204.0,   7.2283,  35.3949,2,  35.3984,2,    215.0,2,  -999.00,9,  -999.00,9,  -999.00,9
     06GA276_2,  AR19,    19,  1,      9, 103382,2,19960514,0241, 48.9983, -12.9800, 2583,   1278.8,   6.4337,  35.2733,2,  35.2747,2,    222.8,2,  -999.00,9,  -999.00,9,  -999.00,9
     06GA276_2,  AR19,    19,  1,      8, 103381,2,19960514,0241, 48.9983, -12.9800, 2583,   1399.4,   5.7560,  35.1974,2,  35.2111,3,    233.4,2,  -999.00,9,  -999.00,9,  -999.00,9
     06GA276_2,  AR19,    19,  1,      7, 103380,2,19960514,0241, 48.9983, -12.9800, 2583,   1600.4,   4.0689,  34.9591,2,  34.9576,2,    263.2,2,  -999.00,9,  -999.00,9,  -999.00,9
     06GA276_2,  AR19,    19,  1,      6, 103379,2,19960514,0241, 48.9983, -12.9800, 2583,   1748.3,   3.6831,  34.9241,2,  34.9257,2,    271.2,2,  -999.00,9,  -999.00,9,  -999.00,9
     06GA276_2,  AR19,    19,  1,      5, 103378,2,19960514,0241, 48.9983, -12.9800, 2583,   1802.7,   3.6381,  34.9279,2,  34.9289,2,    271.0,2,  -999.00,9,  -999.00,9,  -999.00,9
     06GA276_2,  AR19,    19,  1,      4, 103377,2,19960514,0241, 48.9983, -12.9800, 2583,   2003.4,   3.5111,  34.9446,2,  34.9439,2,    267.4,2,  -999.00,9,  -999.00,9,  -999.00,9
     06GA276_2,  AR19,    19,  1,      3, 103376,2,19960514,0241, 48.9983, -12.9800, 2583,   2300.9,   3.3073,  34.9661,2,  34.9661,2,   -999.0,9,  -999.00,9,  -999.00,9,  -999.00,9
     06GA276_2,  AR19,    19,  1,      2, 103375,2,19960514,0241, 48.9983, -12.9800, 2583,   2550.3,   3.0394,  34.9574,2,  34.9550,2,    253.0,2,  -999.00,9,  -999.00,9,  -999.00,9
     06GA276_2,  AR19,    19,  1,      1, 103374,2,19960514,0241, 48.9983, -12.9800, 2583,   2593.4,   3.0124,  34.9563,2,  34.9544,2,    254.4,2,  -999.00,9,  -999.00,9,  -999.00,9