BOTTLE,20220921CCHSIOAMB
EXPOCODE,SECT_ID,STNNBR,CASTNO,SAMPNO,BTLNBR,BTLNBR_FLAG_W,DATE,TIME,LATITUDE,LONGITUDE,DEPTH,CTDPRS,CTDTMP,CTDSAL,CTDSAL_FLAG_W,SALNTY,SALNTY_FLAG_W,OXYGEN,OXYGEN_FLAG_W,SILCAT,SILCAT_FLAG_W,NITRAT,NITRAT_FLAG_W,PHSPHT,PHSPHT_FLAG_W
,,,,,,,,,,,,DBAR,ITS-90,PSS-78,,PSS-78,,UMOL/KG,,UMOL/KG,,UMOL/KG,,UMOL/KG,
     06GA276_2,  AR19,    55,  2,     21, 104909,2,19960519,2134, 47.5100, -23.5900, 4025,   1799.8,   3.4563,  34.9016,2,  34.9009,2,    278.0,2,    11.81,2,    17.07,2,     0.96,2
     06GA276_2,  AR19,    55,  2,     20, 104908,2,19960519,2134, 47.5100, -23.5900, 4025,   1799.8,   3.4556,  34.9018,2,  34.9012,2,    277.8,2,    11.87,2,    17.13,2,     1.07,2
     06GA276_2,  AR19,    55,  2,     19, 104907,2,19960519,2134, 47.5100, -23.5900, 4025,   1799.9,   3.4549,  34.9019,2,  34.9009,2,    278.9,2,    11.88,2,    17.06,2,     1.10,2
     06GA276_2,  AR19,    55,  2,     22, 104910,2,19960519,2134, 47.5100, -23.5900, 4025,   1800.2,   3.4569,  34.9020,2,  34.9020,2,    277.5,2,    11.79,2,    17.04,2,     1.06,2
     06GA276_2,  AR19,    55,  2,     18, 104906,2,19960519,2134, 47.5100, -23.5900, 4025,   1800.3,   3.4551,  34.9017,2,  34.9012,2,    278.4,2,    11.92,2,    17.08,2,     1.10,2
     06GA276_2,  AR19,    55,  2,     23, 104911,2,19960519,2134, 47.5100, -23.5900, 4025,   1800.5,   3.4573,  34.9019,2,  34.9007,2,    278.0,2,    11.75,2,    16.93,2,     1.09,2
     06GA276_2,  AR19,    55,  2,     24, 104912,2,19960519,2134, 47.5100, -23.5900, 4025,   1800.8,   3.4563,  34.9022,2,  34.9007,2,    278.7,2,    11.73,2,    17.06,2,     0.88,2
     06GA276_2,  AR19,    55,  2,      1, 104913,2,19960519,2134, 47.5100, -23.5900, 4025,   1801.3,   3.4564,  34.9022,2,  34.9016,2,    278.2,2,    11.58,2,    16.86,2,     1.11,2
     06GA276_2,  AR19,    55,  2,     17, 104905,2,19960519,2134, 47.5100, -23.5900, 4025,   2499.9,   3.1956,  34.9339,2,  34.9343,2,    270.7,2,    16.38,2,    17.18,2,     1.13,2
     06GA276_2,  AR19,    55,  2,     16, 104904,2,19960519,2134, 47.5100, -23.5900, 4025,   2500.5,   3.1955,  34.9335,2,  34.9338,2,    270.3,2,    16.42,2,    17.16,2,     1.13,2
     06GA276_2,  AR19,    55,  2,     15, 104903,2,19960519,2134, 47.5100, -23.5900, 4025,   2500.9,   3.1952,  34.9339,2,  34.9340,2,    271.7,2,    16.45,2,    17.10,2,     1.13,2
     06GA276_2,  AR19,    55,  2,     14, 104902,2,19960519,2134, 47.5100, -23.5900, 4025,   2501.5,   3.1953,  34.9336,2,  34.9344,2,    271.1,2,    16.20,2,    17.07,2,     1.13,2
     06GA276_2,  AR19,    55,  2,     13, 104901,2,19960519,2134, 47.5100, -23.5900, 4025,   2502.2,   3.1950,  34.9336,2,  34.9342,2,    271.3,2,    16.53,2,    16.94,2,     1.13,2
     06GA276_2,  AR19,    55,  2,     12, 103900,2,19960519,2134, 47.5100, -23.5900, 4025,   2502.4,   3.1953,  34.9337,2,  34.9345,2,    271.3,2,    16.26,2,    17.15,2,     1.14,2
     06GA276_2,  AR19,    55,  2,     10, 103898,2,19960519,2134, 47.5100, -23.5900, 4025,   2502.6,   3.1951,  34.9338,2,  34.9345,2,    271.8,2,    16.30,2,    17.09,2,     1.14,2
     06GA276_2,  AR19,    55,  2,     11, 103899,2,19960519,2134, 47.5100, -23.5900, 4025,   2502.7,   3.1956,  34.9339,2,  34.9340,2,    270.8,2,    16.24,2,    17.14,2,     1.13,2
     06GA276_2,  AR19,    55,  2,      8, 103896,2,19960519,2134, 47.5100, -23.5900, 4025,   3500.8,   2.7379,  34.9344,2,  34.9345,2,    252.9,2,    32.34,2,    19.44,2,     1.29,2
     06GA276_2,  AR19,    55,  2,      9, 103897,2,19960519,2134, 47.5100, -23.5900, 4025,   3501.4,   2.7384,  34.9343,2,  34.9343,2,    253.3,2,    32.52,2,    19.52,2,     1.31,2
     06GA276_2,  AR19,    55,  2,      7, 103895,2,19960519,2134, 47.5100, -23.5900, 4025,   3501.9,   2.7369,  34.9344,2,  34.9351,2,    253.7,2,    32.09,2,    19.45,2,     1.32,2
     06GA276_2,  AR19,    55,  2,      6, 103894,2,19960519,2134, 47.5100, -23.5900, 4025,   3502.3,   2.7363,  34.9345,2,  34.9350,2,    254.3,2,    31.94,2,    19.38,2,     1.32,2
     06GA276_2,  AR19,    55,  2,      5, 103893,2,19960519,2134, 47.5100, -23.5900, 4025,   3502.9,   2.7358,  34.9341,2,  34.9351,2,    252.9,2,    32.03,2,    19.47,2,     1.32,2
     06GA276_2,  AR19,    55,  2,      4, 103892,2,19960519,2134, 47.5100, -23.5900, 4025,   3503.8,   2.7348,  34.9341,2,  34.9349,2,    253.2,2,    32.38,2,    19.48,2,     1.36,2
     06GA276_2,  AR19,    55,  2,      3, 103891,2,19960519,2134, 47.5100, -23.5900, 4025,   3504.3,   2.7339,  34.9343,2,  34.9346,2,    253.8,2,    32.21,2,    19.50,2,     1.36,2
     06GA276_2,  AR19,    55,  2,      2, 103890,2,19960519,2134, 47.5100, -23.5900, 4025,   3504.6,   2.7331,  34.9340,2,  34.9349,2,    253.7,2,    32.23,2,    19.49,2,     1.35,2
     06GA276_2,  AR19,    57,  1,     23, 104936,2,19960520,0318, 47.3817, -24.2833, 3051,      9.1,  13.1184,  35.7691,2,  35.7680,2,    263.4,2,  -999.00,9,  -999.00,9,  -999.00,9
     06GA276_2,  AR19,    57,  1,     22, 104935,2,19960520,0318, 47.3817, -24.2833, 3051,     49.6,  13.1414,  35.7879,2,  35.7870,2,    261.2,2,  -999.00,9,  -999.00,9,  -999.00,9
     06GA276_2,  AR19,    57,  1,     21, 104934,2,19960520,0318, 47.3817, -24.2833, 3051,     99.8,  13.0984,  35.7815,2,  35.7746,3,    258.2,2,  -999.00,9,  -999.00,9,  -999.00,9
     06GA276_2,  AR19,    57,  1,     20, 104933,2,19960520,0318, 47.3817, -24.2833, 3051,    250.6,  11.6557,  35.5497,2,  35.5527,2,    242.8,2,  -999.00,9,  -999.00,9,  -999.00,9
     06GA276_2,  AR19,    57,  1,     19, 104932,2,19960520,0318, 47.3817, -24.2833, 3051,    503.7,   9.5185,  35.2694,2,  35.2675,2,    208.4,2,  -999.00,9,  -999.00,9,  -999.00,9
     06GA276_2,  AR19,    57,  1,     18, 104931,2,19960520,0318, 47.3817, -24.2833, 3051,    601.8,   8.5768,  35.1996,2,  35.1965,2,    200.8,3,  -999.00,9,  -999.00,9,  -999.00,9
     06GA276_2,  AR19,    57,  1,     17, 104930,2,19960520,0318, 47.3817, -24.2833, 3051,    836.2,   5.7955,  34.9824,2,  34.9826,2,    222.3,2,  -999.00,9,  -999.00,9,  -999.00,9
     06GA276_2,  AR19,    57,  1,     16, 104929,2,19960520,0318, 47.3817, -24.2833, 3051,    926.5,   5.5453,  35.0359,2,  35.0414,2,    229.1,2,  -999.00,9,  -999.00,9,  -999.00,9
     06GA276_2,  AR19,    57,  1,     15, 104928,2,19960520,0318, 47.3817, -24.2833, 3051,   1051.2,   4.8097,  34.9903,2,  34.9905,2,    245.7,2,  -999.00,9,  -999.00,9,  -999.00,9
     06GA276_2,  AR19,    57,  1,     14, 104927,2,19960520,0318, 47.3817, -24.2833, 3051,   1102.6,   4.7616,  35.0064,2,  35.0035,2,    247.5,2,  -999.00,9,  -999.00,9,  -999.00,9
     06GA276_2,  AR19,    57,  1,     13, 104926,2,19960520,0318, 47.3817, -24.2833, 3051,   1306.4,   4.1174,  34.9585,2,  34.9584,2,    262.3,2,  -999.00,9,  -999.00,9,  -999.00,9
     06GA276_2,  AR19,    57,  1,     12, 104925,2,19960520,0318, 47.3817, -24.2833, 3051,   1504.1,   3.6924,  34.9139,2,  34.9139,2,    272.5,2,  -999.00,9,  -999.00,9,  -999.00,9
     06GA276_2,  AR19,    57,  1,     11, 104924,2,19960520,0318, 47.3817, -24.2833, 3051,   1704.4,   3.5406,  34.9064,2,  34.9061,2,    275.8,2,  -999.00,9,  -999.00,9,  -999.00,9
     06GA276_2,  AR19,    57,  1,     10, 104923,2,19960520,0318, 47.3817, -24.2833, 3051,   1819.8,   3.4859,  34.9051,2,  34.9042,2,    276.0,2,  -999.00,9,  -999.00,9,  -999.00,9
     06GA276_2,  AR19,    57,  1,      9, 104922,2,19960520,0318, 47.3817, -24.2833, 3051,   1900.7,   3.4087,  34.9029,2,  34.9011,2,    277.8,3,  -999.00,9,  -999.00,9,  -999.00,9
     06GA276_2,  AR19,    57,  1,      8, 104921,2,19960520,0318, 47.3817, -24.2833, 3051,   2102.1,   3.3452,  34.9109,2,  34.9099,2,    277.0,2,  -999.00,9,  -999.00,9,  -999.00,9
     06GA276_2,  AR19,    57,  1,      7, 104920,2,19960520,0318, 47.3817, -24.2833, 3051,   2200.9,   3.3034,  34.9174,2,  34.9170,2,    275.8,2,  -999.00,9,  -999.00,9,  -999.00,9
     06GA276_2,  AR19,    57,  1,      6, 104919,2,19960520,0318, 47.3817, -24.2833, 3051,   2398.2,   3.2452,  34.9315,2,  34.9309,2,    272.9,2,  -999.00,9,  -999.00,9,  -999.00,9
     06GA276_2,  AR19,    57,  1,      5, 104918,2,19960520,0318, 47.3817, -24.2833, 3051,   2601.3,   3.1561,  34.9389,2,  34.9385,2,    269.0,2,  -999.00,9,  -999.00,9,  -999.00,9
     06GA276_2,  AR19,    57,  1,      4, 104917,2,19960520,0318, 47.3817, -24.2833, 3051,   2801.6,   3.0660,  34.9424,2,  34.9423,2,    267.2,2,  -999.00,9,  -999.00,9,  -999.00,9
     06GA276_2,  AR19,    57,  1,      3, 104916,2,19960520,0318, 47.3817, -24.2833, 3051,   3002.3,   2.9591,  34.9442,2,  34.9444,2,    263.3,2,  -999.00,9,  -999.00,9,  -999.00,9
     06GA276_2,  AR19,    57,  1,      2, 104915,2,19960520,0318, 47.3817, -24.2833, 3051,   3155.0,   2.8855,  34.9427,2,  34.9430,2,    261.8,2,  -999.00,9,  -999.00,9,  -999.00,9
     06GA276_2,  AR19,    57,  1,      1, 104914,2,19960520,0318, 47.3817, -24.2833, 3051,   3239.9,   2.8561,  34.9419,2,  34.9435,2,    258.7,2,  -999.00,9,  -999.00,9,  -999.00,9
     06GA276_2,  AR19,    59,  1,     24, 104961,2,19960520,0923, 47.2717, -25.0083, 3055,      9.5,  13.0589,  35.7790,2,  35.7779,2,    261.2,2,  -999.00,9,  -999.00,9,  -999.00,9
     06GA276_2,  AR19,    59,  1,     23, 104960,2,19960520,0923, 47.2717, -25.0083, 3055,     50.8,  13.0436,  35.7777,2,  35.7755,2,    260.9,2,  -999.00,9,  -999.00,9,  -999.00,9
     06GA276_2,  AR19,    59,  1,     22, 104959,2,19960520,0923, 47.2717, -25.0083, 3055,    101.4,  13.0321,  35.7757,2,  35.7727,2,    260.0,2,  -999.00,9,  -999.00,9,  -999.00,9
     06GA276_2,  AR19,    59,  1,     21, 104958,2,19960520,0923, 47.2717, -25.0083, 3055,    151.9,  12.2020,  35.6450,2,  35.6507,3,   -999.0,9,  -999.00,9,  -999.00,9,  -999.00,9
     06GA276_2,  AR19,    59,  1,     20, 104957,2,19960520,0923, 47.2717, -25.0083, 3055,    251.2,  11.7114,  35.5530,2,  35.5505,2,    249.3,2,  -999.00,9,  -999.00,9,  -999.00,9
     06GA276_2,  AR19,    59,  1,     19, 104956,2,19960520,0923, 47.2717, -25.0083, 3055,    452.7,  10.3872,  35.3312,2,  35.3295,2,    233.4,2,  -999.00,9,  -999.00,9,  -999.00,9
     06GA276_2,  AR19,    59,  1,     18, 104955,2,19960520,0923, 47.2717, -25.0083, 3055,    582.1,   8.2333,  35.0851,2,  35.0823,2,    191.2,2,  -999.00,9,  -999.00,9,  -999.00,9
     06GA276_2,  AR19,    59,  1,     17, 104954,2,19960520,0923, 47.2717, -25.0083, 3055,    697.8,   7.6217,  35.1471,2,  35.1546,3,    197.0,2,  -999.00,9,  -999.00,9,  -999.00,9
     06GA276_2,  AR19,    59,  1,     16, 104953,2,19960520,0923, 47.2717, -25.0083, 3055,    902.0,   5.4307,  34.9887,2,  34.9880,2,    229.6,2,  -999.00,9,  -999.00,9,  -999.00,9
     06GA276_2,  AR19,    59,  1,     15, 104952,2,19960520,0923, 47.2717, -25.0083, 3055,   1000.0,   4.8878,  34.9849,2,  34.9809,2,    242.0,2,  -999.00,9,  -999.00,9,  -999.00,9
     06GA276_2,  AR19,    59,  1,     14, 104951,2,19960520,0923, 47.2717, -25.0083, 3055,   1055.2,   4.6545,  34.9775,2,  34.9779,2,    248.4,2,  -999.00,9,  -999.00,9,  -999.00,9
     06GA276_2,  AR19,    59,  1,     13, 104950,2,19960520,0923, 47.2717, -25.0083, 3055,   1112.0,   4.4797,  34.9754,2,  34.9743,2,    253.3,2,  -999.00,9,  -999.00,9,  -999.00,9
     06GA276_2,  AR19,    59,  1,     12, 104949,2,19960520,0923, 47.2717, -25.0083, 3055,   1301.2,   4.0207,  34.9379,2,  34.9364,2,    264.8,2,  -999.00,9,  -999.00,9,  -999.00,9
     06GA276_2,  AR19,    59,  1,     11, 104948,2,19960520,0923, 47.2717, -25.0083, 3055,   1551.7,   3.6607,  34.9116,2,  34.9121,2,    273.0,2,  -999.00,9,  -999.00,9,  -999.00,9
     06GA276_2,  AR19,    59,  1,     10, 104947,2,19960520,0923, 47.2717, -25.0083, 3055,   1800.2,   3.4725,  34.9008,2,  34.8990,2,    277.8,2,  -999.00,9,  -999.00,9,  -999.00,9
     06GA276_2,  AR19,    59,  1,      9, 104946,2,19960520,0923, 47.2717, -25.0083, 3055,   1915.2,   3.4817,  34.9097,2,  34.9106,2,    274.6,3,  -999.00,9,  -999.00,9,  -999.00,9
     06GA276_2,  AR19,    59,  1,      8, 104945,2,19960520,0923, 47.2717, -25.0083, 3055,   2001.0,   3.3957,  34.9063,2,  34.9056,2,    277.4,2,  -999.00,9,  -999.00,9,  -999.00,9
     06GA276_2,  AR19,    59,  1,      7, 104944,2,19960520,0923, 47.2717, -25.0083, 3055,   2302.6,   3.2774,  34.9278,2,  34.9276,2,    273.4,2,  -999.00,9,  -999.00,9,  -999.00,9
     06GA276_2,  AR19,    59,  1,      6, 104943,2,19960520,0923, 47.2717, -25.0083, 3055,   2452.4,   3.2247,  34.9367,2,  34.9359,2,    270.5,2,  -999.00,9,  -999.00,9,  -999.00,9
     06GA276_2,  AR19,    59,  1,      5, 104942,2,19960520,0923, 47.2717, -25.0083, 3055,   2602.9,   3.1527,  34.9405,2,  34.9398,2,    268.1,2,  -999.00,9,  -999.00,9,  -999.00,9
     06GA276_2,  AR19,    59,  1,      4, 104941,2,19960520,0923, 47.2717, -25.0083, 3055,   2753.0,   3.0451,  34.9454,2,  34.9439,2,    266.0,2,  -999.00,9,  -999.00,9,  -999.00,9
     06GA276_2,  AR19,    59,  1,      3, 104940,2,19960520,0923, 47.2717, -25.0083, 3055,   2902.8,   2.9404,  34.9462,2,  34.9450,2,    262.6,2,  -999.00,9,  -999.00,9,  -999.00,9
     06GA276_2,  AR19,    59,  1,      2, 104939,2,19960520,0923, 47.2717, -25.0083, 3055,   3003.2,   2.9018,  34.9452,2,  34.9418,2,    260.7,2,  -999.00,9,  -999.00,9,  -999.00,9
     06GA276_2,  AR19,    59,  1,      1, 104938,2,19960520,0923, 47.2717, -25.0083, 3055,   3063.8,   2.8567,  34.9434,2,  34.9417,2,    259.2,2,  -999.00,9,  -999.00,9,  -999.00,9
     06GA276_2,  AR19,    61,  1,     23, 104984,2,19960520,1503, 47.1800, -25.7383, 3067,      9.6,  13.4971,  35.8483,2,  35.8488,2,    260.2,2,     2.51,2,     6.10,2,     0.48,2
     06GA276_2,  AR19,    61,  1,     22, 104983,2,19960520,1503, 47.1800, -25.7383, 3067,     50.9,  13.3848,  35.8510,2,  35.8516,2,    259.3,2,     2.51,2,     6.15,2,     0.42,2
     06GA276_2,  AR19,    61,  1,     21, 104982,2,19960520,1503, 47.1800, -25.7383, 3067,    101.6,  13.3626,  35.8496,2,  35.8557,2,   -999.0,9,     2.53,2,     6.39,2,     0.42,2
     06GA276_2,  AR19,    61,  1,     20, 104981,2,19960520,1503, 47.1800, -25.7383, 3067,    202.9,  12.9713,  35.7794,2,  35.8124,3,    251.7,2,     2.92,2,     7.98,2,     0.53,2
     06GA276_2,  AR19,    61,  1,     19, 104980,2,19960520,1503, 47.1800, -25.7383, 3067,    352.4,  12.0711,  35.6118,2,  35.6084,2,    243.3,2,     3.68,2,     9.75,2,     0.67,2
     06GA276_2,  AR19,    61,  1,     18, 104979,2,19960520,1503, 47.1800, -25.7383, 3067,    501.6,  10.9640,  35.4470,2,  35.4440,2,    218.4,2,     5.63,2,    13.49,2,     0.88,2
     06GA276_2,  AR19,    61,  1,     17, 104978,2,19960520,1503, 47.1800, -25.7383, 3067,    753.6,   8.2371,  35.1653,2,  35.1704,2,    195.5,2,     9.99,2,    18.60,2,     1.23,2
     06GA276_2,  AR19,    61,  1,     16, 104977,2,19960520,1503, 47.1800, -25.7383, 3067,    882.1,   6.4509,  35.0406,2,  35.0440,2,    211.4,2,    10.96,2,    19.03,2,     1.27,2
     06GA276_2,  AR19,    61,  1,     15, 104976,2,19960520,1503, 47.1800, -25.7383, 3067,    938.1,   6.3575,  35.0882,2,  35.0876,2,    215.9,2,    10.91,2,    18.68,2,     1.24,2
     06GA276_2,  AR19,    61,  1,     14, 104975,2,19960520,1503, 47.1800, -25.7383, 3067,   1018.8,   5.2938,  34.9817,2,  34.9855,2,    233.6,2,    10.82,2,    18.34,2,     1.24,2
     06GA276_2,  AR19,    61,  1,     13, 104974,2,19960520,1503, 47.1800, -25.7383, 3067,   1098.4,   4.8029,  34.9842,2,  34.9867,2,    246.2,2,    10.59,2,    18.15,2,     1.24,2
     06GA276_2,  AR19,    61,  1,     12, 104973,2,19960520,1503, 47.1800, -25.7383, 3067,   1301.5,   4.1449,  34.9454,2,  34.9453,2,    263.7,2,    10.32,2,    17.42,2,     1.17,2
     06GA276_2,  AR19,    61,  1,     11, 104972,2,19960520,1503, 47.1800, -25.7383, 3067,   1500.0,   3.7862,  34.9182,2,  34.9191,2,    273.2,2,    10.36,2,    17.12,2,     1.16,2
     06GA276_2,  AR19,    61,  1,     10, 104971,2,19960520,1503, 47.1800, -25.7383, 3067,   1701.5,   3.5439,  34.9002,2,  34.9027,2,    279.7,2,    10.37,2,    16.89,2,     1.16,2
     06GA276_2,  AR19,    61,  1,      9, 104970,2,19960520,1503, 47.1800, -25.7383, 3067,   1802.1,   3.4743,  34.8994,2,  34.8984,2,    279.9,2,    10.53,2,    16.82,2,     1.16,2
     06GA276_2,  AR19,    61,  1,      8, 104969,2,19960520,1503, 47.1800, -25.7383, 3067,   1900.6,   3.4271,  34.8997,2,  34.8984,2,    280.6,2,    10.75,2,    16.77,2,     1.09,2
     06GA276_2,  AR19,    61,  1,      7, 104968,2,19960520,1503, 47.1800, -25.7383, 3067,   2001.4,   3.3509,  34.8991,2,  34.8981,2,    282.2,2,    11.00,2,    16.66,2,     1.09,2
     06GA276_2,  AR19,    61,  1,      6, 104967,2,19960520,1503, 47.1800, -25.7383, 3067,   2102.5,   3.3039,  34.9025,2,  34.9021,2,    280.4,2,    11.18,2,    16.31,2,     1.04,3
     06GA276_2,  AR19,    61,  1,      5, 104966,2,19960520,1503, 47.1800, -25.7383, 3067,   2250.5,   3.2624,  34.9135,2,  34.9138,2,    278.8,2,    12.10,2,    16.59,2,     1.10,2
     06GA276_2,  AR19,    61,  1,      4, 104965,2,19960520,1503, 47.1800, -25.7383, 3067,   2501.0,   3.2102,  34.9294,2,  34.9309,2,    274.0,2,    14.66,2,    16.89,3,     1.14,3
     06GA276_2,  AR19,    61,  1,      3, 104964,2,19960520,1503, 47.1800, -25.7383, 3067,   2751.3,   3.1119,  34.9383,2,  34.9391,2,    269.5,2,    17.81,2,    17.42,2,     1.17,2
     06GA276_2,  AR19,    61,  1,      2, 104963,2,19960520,1503, 47.1800, -25.7383, 3067,   2951.7,   3.0444,  34.9414,2,  34.9424,2,    267.1,2,    19.76,3,    17.54,2,     1.20,2
     06GA276_2,  AR19,    61,  1,      1, 104962,2,19960520,1503, 47.1800, -25.7383, 3067,   3051.9,   2.9511,  34.9425,2,  34.9475,2,    263.0,2,    22.35,3,    17.92,2,     1.25,2