BOTTLE,20220921CCHSIOAMB
EXPOCODE,SECT_ID,STNNBR,CASTNO,SAMPNO,BTLNBR,BTLNBR_FLAG_W,DATE,TIME,LATITUDE,LONGITUDE,DEPTH,CTDPRS,CTDTMP,CTDSAL,CTDSAL_FLAG_W,SALNTY,SALNTY_FLAG_W,OXYGEN,OXYGEN_FLAG_W,SILCAT,SILCAT_FLAG_W,NITRAT,NITRAT_FLAG_W,PHSPHT,PHSPHT_FLAG_W
,,,,,,,,,,,,DBAR,ITS-90,PSS-78,,PSS-78,,UMOL/KG,,UMOL/KG,,UMOL/KG,,UMOL/KG,
     06GA276_2,  AR19,    95,  1,     24, 104293,2,19960525,1354, 45.2900, -33.4450, 3400,     18.0,  14.1331,  35.8986,2,  35.8988,2,    265.5,2,  -999.00,9,  -999.00,9,  -999.00,9
     06GA276_2,  AR19,    95,  1,     23, 104292,2,19960525,1354, 45.2900, -33.4450, 3400,     48.5,  13.9651,  35.8945,2,  35.8943,2,    261.0,2,  -999.00,9,  -999.00,9,  -999.00,9
     06GA276_2,  AR19,    95,  1,     22, 104291,2,19960525,1354, 45.2900, -33.4450, 3400,     99.9,  13.8064,  35.8977,2,  35.8961,2,    250.3,2,  -999.00,9,  -999.00,9,  -999.00,9
     06GA276_2,  AR19,    95,  1,     21, 104290,2,19960525,1354, 45.2900, -33.4450, 3400,    199.1,  13.5262,  35.8624,2,-999.0000,9,    274.8,3,  -999.00,9,  -999.00,9,  -999.00,9
     06GA276_2,  AR19,    95,  1,     20, 104289,2,19960525,1354, 45.2900, -33.4450, 3400,    352.5,  12.6717,  35.6960,2,  35.6983,2,   -999.0,9,  -999.00,9,  -999.00,9,  -999.00,9
     06GA276_2,  AR19,    95,  1,     19, 104288,2,19960525,1354, 45.2900, -33.4450, 3400,    500.6,  10.3490,  35.3054,2,  35.3092,2,   -999.0,9,  -999.00,9,  -999.00,9,  -999.00,9
     06GA276_2,  AR19,    95,  1,     18, 104287,2,19960525,1354, 45.2900, -33.4450, 3400,    705.3,   6.8692,  35.0209,2,  35.0206,2,    199.4,3,  -999.00,9,  -999.00,9,  -999.00,9
     06GA276_2,  AR19,    95,  1,     17, 104286,2,19960525,1354, 45.2900, -33.4450, 3400,    892.4,   5.3504,  34.9889,2,  34.9878,2,   -999.0,9,  -999.00,9,  -999.00,9,  -999.00,9
     06GA276_2,  AR19,    95,  1,     16, 104285,2,19960525,1354, 45.2900, -33.4450, 3400,   1001.7,   4.9464,  35.0133,2,  35.0146,2,   -999.0,9,  -999.00,9,  -999.00,9,  -999.00,9
     06GA276_2,  AR19,    95,  1,     15, 104284,2,19960525,1354, 45.2900, -33.4450, 3400,   1152.7,   4.5738,  35.0068,2,  35.0078,2,    253.1,2,  -999.00,9,  -999.00,9,  -999.00,9
     06GA276_2,  AR19,    95,  1,     14, 104283,2,19960525,1354, 45.2900, -33.4450, 3400,   1350.4,   3.8728,  34.9359,2,  34.9364,2,    269.9,2,  -999.00,9,  -999.00,9,  -999.00,9
     06GA276_2,  AR19,    95,  1,     13, 104282,2,19960525,1354, 45.2900, -33.4450, 3400,   1500.8,   3.6249,  34.9157,2,  34.9157,2,    275.2,2,  -999.00,9,  -999.00,9,  -999.00,9
     06GA276_2,  AR19,    95,  1,     12, 104281,2,19960525,1354, 45.2900, -33.4450, 3400,   1701.6,   3.4510,  34.9065,2,  34.9064,2,    277.4,2,  -999.00,9,  -999.00,9,  -999.00,9
     06GA276_2,  AR19,    95,  1,     11, 104280,2,19960525,1354, 45.2900, -33.4450, 3400,   2000.6,   3.3609,  34.9064,2,  34.9051,2,    279.2,2,  -999.00,9,  -999.00,9,  -999.00,9
     06GA276_2,  AR19,    95,  1,     10, 104279,2,19960525,1354, 45.2900, -33.4450, 3400,   2200.8,   3.3262,  34.9092,2,  34.9098,2,    277.4,2,  -999.00,9,  -999.00,9,  -999.00,9
     06GA276_2,  AR19,    95,  1,      9, 104278,2,19960525,1354, 45.2900, -33.4450, 3400,   2450.1,   3.2676,  34.9205,2,  34.9202,2,    275.9,2,  -999.00,9,  -999.00,9,  -999.00,9
     06GA276_2,  AR19,    95,  1,      8, 104277,2,19960525,1354, 45.2900, -33.4450, 3400,   2652.6,   3.2063,  34.9277,2,  34.9279,2,    275.7,2,  -999.00,9,  -999.00,9,  -999.00,9
     06GA276_2,  AR19,    95,  1,      7, 104276,2,19960525,1354, 45.2900, -33.4450, 3400,   2802.1,   3.1203,  34.9320,2,  34.9313,2,    273.8,2,  -999.00,9,  -999.00,9,  -999.00,9
     06GA276_2,  AR19,    95,  1,      6, 104275,2,19960525,1354, 45.2900, -33.4450, 3400,   2905.4,   3.0204,  34.9321,2,  34.9329,2,    273.4,2,  -999.00,9,  -999.00,9,  -999.00,9
     06GA276_2,  AR19,    95,  1,      5, 104274,2,19960525,1354, 45.2900, -33.4450, 3400,   3002.5,   2.9502,  34.9314,2,  34.9310,2,    272.5,2,  -999.00,9,  -999.00,9,  -999.00,9
     06GA276_2,  AR19,    95,  1,      4, 104273,2,19960525,1354, 45.2900, -33.4450, 3400,   3101.5,   2.8707,  34.9313,2,  34.9297,2,    273.5,2,  -999.00,9,  -999.00,9,  -999.00,9
     06GA276_2,  AR19,    95,  1,      3, 104272,2,19960525,1354, 45.2900, -33.4450, 3400,   3201.4,   2.7924,  34.9294,2,  34.9275,2,    274.6,2,  -999.00,9,  -999.00,9,  -999.00,9
     06GA276_2,  AR19,    95,  1,      2, 104271,2,19960525,1354, 45.2900, -33.4450, 3400,   3301.9,   2.7096,  34.9266,2,  34.9248,2,    276.7,2,  -999.00,9,  -999.00,9,  -999.00,9
     06GA276_2,  AR19,    95,  1,      1, 104270,2,19960525,1354, 45.2900, -33.4450, 3400,   3415.4,   2.5798,  34.9208,2,-999.0000,9,    199.4,4,  -999.00,9,  -999.00,9,  -999.00,9
     06GA276_2,  AR19,    97,  1,     24, 104317,2,19960525,2016, 45.1233, -34.0950, 3644,     20.4,  14.0359,  35.8687,2,  35.8680,2,    274.9,2,  -999.00,9,  -999.00,9,  -999.00,9
     06GA276_2,  AR19,    97,  1,     23, 104316,2,19960525,2016, 45.1233, -34.0950, 3644,     76.2,  13.8009,  35.8934,2,-999.0000,9,    265.6,2,  -999.00,9,  -999.00,9,  -999.00,9
     06GA276_2,  AR19,    97,  1,     22, 104315,2,19960525,2016, 45.1233, -34.0950, 3644,    150.3,  13.5890,  35.8654,2,  35.8660,2,    246.9,2,  -999.00,9,  -999.00,9,  -999.00,9
     06GA276_2,  AR19,    97,  1,     21, 104314,2,19960525,2016, 45.1233, -34.0950, 3644,    299.0,  12.8502,  35.7332,2,  35.7345,2,    236.1,2,  -999.00,9,  -999.00,9,  -999.00,9
     06GA276_2,  AR19,    97,  1,     20, 104313,2,19960525,2016, 45.1233, -34.0950, 3644,    499.1,  10.1132,  35.2838,2,  35.2827,2,    188.9,2,  -999.00,9,  -999.00,9,  -999.00,9
     06GA276_2,  AR19,    97,  1,     19, 104312,2,19960525,2016, 45.1233, -34.0950, 3644,    752.2,   6.4957,  35.0015,2,  35.0070,3,    204.2,2,  -999.00,9,  -999.00,9,  -999.00,9
     06GA276_2,  AR19,    97,  1,     18, 104311,2,19960525,2016, 45.1233, -34.0950, 3644,    808.7,   6.5387,  35.1021,2,  35.1041,2,    208.6,2,  -999.00,9,  -999.00,9,  -999.00,9
     06GA276_2,  AR19,    97,  1,     17, 104310,2,19960525,2016, 45.1233, -34.0950, 3644,   1001.6,   5.3432,  35.0611,2,  35.0610,2,    235.4,2,  -999.00,9,  -999.00,9,  -999.00,9
     06GA276_2,  AR19,    97,  1,     16, 104309,2,19960525,2016, 45.1233, -34.0950, 3644,   1199.8,   4.6096,  35.0084,2,  35.0082,2,    252.1,2,  -999.00,9,  -999.00,9,  -999.00,9
     06GA276_2,  AR19,    97,  1,     15, 104308,2,19960525,2016, 45.1233, -34.0950, 3644,   1302.1,   4.2078,  34.9641,2,  34.9660,2,    261.9,2,  -999.00,9,  -999.00,9,  -999.00,9
     06GA276_2,  AR19,    97,  1,     14, 104307,2,19960525,2016, 45.1233, -34.0950, 3644,   1400.7,   3.9829,  34.9443,2,  34.9443,2,    266.7,2,  -999.00,9,  -999.00,9,  -999.00,9
     06GA276_2,  AR19,    97,  1,     13, 104306,2,19960525,2016, 45.1233, -34.0950, 3644,   1599.3,   3.7080,  34.9241,2,  34.9237,2,    272.1,2,  -999.00,9,  -999.00,9,  -999.00,9
     06GA276_2,  AR19,    97,  1,     12, 104305,2,19960525,2016, 45.1233, -34.0950, 3644,   1798.2,   3.5261,  34.9122,2,  34.9118,2,    275.4,2,  -999.00,9,  -999.00,9,  -999.00,9
     06GA276_2,  AR19,    97,  1,     11, 104304,2,19960525,2016, 45.1233, -34.0950, 3644,   2001.8,   3.4092,  34.9067,2,  34.9075,2,    277.5,2,  -999.00,9,  -999.00,9,  -999.00,9
     06GA276_2,  AR19,    97,  1,     10, 104303,2,19960525,2016, 45.1233, -34.0950, 3644,   2155.7,   3.3722,  34.9180,2,-999.0000,9,   -999.0,9,  -999.00,9,  -999.00,9,  -999.00,9
     06GA276_2,  AR19,    97,  1,      9, 104302,2,19960525,2016, 45.1233, -34.0950, 3644,   2400.6,   3.2573,  34.9262,2,  34.9269,2,    273.3,2,  -999.00,9,  -999.00,9,  -999.00,9
     06GA276_2,  AR19,    97,  1,      8, 104301,2,19960525,2016, 45.1233, -34.0950, 3644,   2607.0,   3.1383,  34.9319,2,  34.9326,2,    272.8,2,  -999.00,9,  -999.00,9,  -999.00,9
     06GA276_2,  AR19,    97,  1,      7, 104300,2,19960525,2016, 45.1233, -34.0950, 3644,   2776.1,   3.0154,  34.9330,2,  34.9322,2,    272.6,2,  -999.00,9,  -999.00,9,  -999.00,9
     06GA276_2,  AR19,    97,  1,      6, 104299,2,19960525,2016, 45.1233, -34.0950, 3644,   3006.1,   2.8645,  34.9316,2,  34.9316,2,    272.5,2,  -999.00,9,  -999.00,9,  -999.00,9
     06GA276_2,  AR19,    97,  1,      5, 104298,2,19960525,2016, 45.1233, -34.0950, 3644,   3206.3,   2.7116,  34.9264,2,  34.9266,2,    273.0,2,  -999.00,9,  -999.00,9,  -999.00,9
     06GA276_2,  AR19,    97,  1,      4, 104297,2,19960525,2016, 45.1233, -34.0950, 3644,   3452.6,   2.5147,  34.9179,2,  34.9174,2,    273.9,2,  -999.00,9,  -999.00,9,  -999.00,9
     06GA276_2,  AR19,    97,  1,      3, 104296,2,19960525,2016, 45.1233, -34.0950, 3644,   3553.6,   2.4557,  34.9142,2,  34.9133,2,    274.1,2,  -999.00,9,  -999.00,9,  -999.00,9
     06GA276_2,  AR19,    97,  1,      2, 104295,2,19960525,2016, 45.1233, -34.0950, 3644,   3660.8,   2.4307,  34.9122,2,  34.9111,2,    274.3,2,  -999.00,9,  -999.00,9,  -999.00,9
     06GA276_2,  AR19,    97,  1,      1, 104294,2,19960525,2016, 45.1233, -34.0950, 3644,   3691.5,   2.4227,  34.9111,2,  34.9122,2,    273.6,2,  -999.00,9,  -999.00,9,  -999.00,9
     06GA276_2,  AR19,    99,  1,     23, 104340,3,19960527,0051, 45.0283, -34.4400, 3890,     15.5,  14.1628,  35.8874,2,-999.0000,9,    273.7,3,    12.97,3,    16.78,3,     1.13,3
     06GA276_2,  AR19,    99,  1,     22, 104339,2,19960527,0051, 45.0283, -34.4400, 3890,     76.8,  13.8949,  35.8766,2,  35.8909,3,    259.1,2,     0.19,2,     5.04,2,     0.29,2
     06GA276_2,  AR19,    99,  1,     21, 104338,2,19960527,0051, 45.0283, -34.4400, 3890,    206.1,  13.5580,  35.8623,2,  35.8619,2,    246.1,2,     2.34,2,     7.14,2,     0.46,2
     06GA276_2,  AR19,    99,  1,     20, 104337,2,19960527,0051, 45.0283, -34.4400, 3890,    400.4,  11.8935,  35.5549,2,  35.5475,3,    209.9,2,     5.20,2,    12.69,2,     0.80,2
     06GA276_2,  AR19,    99,  1,     19, 104336,2,19960527,0051, 45.0283, -34.4400, 3890,    704.1,   7.1104,  35.0546,2,  35.0570,2,    195.8,2,    11.58,2,    20.02,2,     1.17,2
     06GA276_2,  AR19,    99,  1,     18, 104335,2,19960527,0051, 45.0283, -34.4400, 3890,    849.1,   6.1958,  35.0709,2,  35.0699,2,    213.3,2,    11.59,2,    19.31,2,     1.24,2
     06GA276_2,  AR19,    99,  1,     17, 104334,2,19960527,0051, 45.0283, -34.4400, 3890,    979.0,   5.6091,  35.0800,2,  35.0777,2,    227.7,2,    11.11,2,    18.56,2,     1.20,2
     06GA276_2,  AR19,    99,  1,     16, 104333,2,19960527,0051, 45.0283, -34.4400, 3890,   1201.5,   4.5606,  34.9997,2,  35.0008,2,    252.6,2,    10.83,2,    17.85,2,     1.14,2
     06GA276_2,  AR19,    99,  1,     15, 104332,2,19960527,0051, 45.0283, -34.4400, 3890,   1401.8,   4.0409,  34.9528,2,  34.9539,2,    265.2,2,    10.66,2,    17.35,2,     1.01,2
     06GA276_2,  AR19,    99,  1,     14, 104331,2,19960527,0051, 45.0283, -34.4400, 3890,   1601.8,   3.7070,  34.9230,2,  34.9235,2,    272.9,2,    10.66,2,    17.15,2,     1.11,2
     06GA276_2,  AR19,    99,  1,     13, 104330,2,19960527,0051, 45.0283, -34.4400, 3890,   1795.9,   3.5121,  34.9080,2,  34.9087,2,    276.3,2,    10.74,2,    16.80,2,     1.14,2
     06GA276_2,  AR19,    99,  1,     12, 104329,2,19960527,0051, 45.0283, -34.4400, 3890,   1999.9,   3.3942,  34.9068,2,  34.9269,3,    277.0,2,    11.15,2,    16.72,2,     1.13,2
     06GA276_2,  AR19,    99,  1,     11, 104328,2,19960527,0051, 45.0283, -34.4400, 3890,   2203.4,   3.3213,  34.9176,2,  34.9201,2,    276.1,2,    12.18,2,    16.50,2,     1.13,2
     06GA276_2,  AR19,    99,  1,     10, 104327,2,19960527,0051, 45.0283, -34.4400, 3890,   2449.3,   3.2073,  34.9278,2,  34.9302,2,    273.0,2,    13.22,3,    16.58,3,     1.14,2
     06GA276_2,  AR19,    99,  1,      9, 104326,2,19960527,0051, 45.0283, -34.4400, 3890,   2602.8,   3.0924,  34.9243,2,  34.9234,2,    276.0,3,    12.42,3,    16.29,3,     1.11,3
     06GA276_2,  AR19,    99,  1,      8, 104325,2,19960527,0051, 45.0283, -34.4400, 3890,   2802.1,   2.9764,  34.9297,2,  34.9292,2,    273.5,2,    13.85,2,    16.46,2,     1.11,2
     06GA276_2,  AR19,    99,  1,      7, 104324,2,19960527,0051, 45.0283, -34.4400, 3890,   2919.1,   2.8955,  34.9327,2,  34.9312,2,    273.5,2,    14.97,2,    16.61,2,     1.14,2
     06GA276_2,  AR19,    99,  1,      6, 104323,2,19960527,0051, 45.0283, -34.4400, 3890,   3201.5,   2.6276,  34.9237,2,  34.9234,2,    274.1,2,    17.34,2,    16.64,2,     1.13,2
     06GA276_2,  AR19,    99,  1,      5, 104322,2,19960527,0051, 45.0283, -34.4400, 3890,   3303.0,   2.5497,  34.9201,2,  34.9194,2,    273.0,2,    18.31,2,    16.69,2,     1.15,2
     06GA276_2,  AR19,    99,  1,      4, 104321,2,19960527,0051, 45.0283, -34.4400, 3890,   3454.5,   2.4797,  34.9153,2,  34.9152,2,    273.7,2,    18.94,2,    16.65,2,     1.16,2
     06GA276_2,  AR19,    99,  1,      3, 104320,2,19960527,0051, 45.0283, -34.4400, 3890,   3752.1,   2.3408,  34.9071,2,  34.9063,2,    276.3,2,    18.63,2,    16.53,2,     1.13,2
     06GA276_2,  AR19,    99,  1,      2, 104319,2,19960527,0051, 45.0283, -34.4400, 3890,   3900.3,   2.3008,  34.9037,2,  34.9028,2,    279.0,2,    18.38,2,    16.31,2,     1.12,2
     06GA276_2,  AR19,    99,  1,      1, 104318,2,19960527,0051, 45.0283, -34.4400, 3890,   4004.1,   2.2868,  34.9026,2,  34.9016,2,    277.7,2,    18.66,2,    16.55,2,     1.11,2
     06GA276_2,  AR19,   101,  1,     24, 104365,2,19960526,0535, 44.9100, -34.7417, 4080,      9.3,  14.4759,  35.9539,2,  35.9542,2,    258.0,2,     0.10,2,     4.21,2,     0.25,2
     06GA276_2,  AR19,   101,  1,     23, 104364,2,19960526,0535, 44.9100, -34.7417, 4080,     51.5,  14.2855,  35.9586,2,  35.9588,2,    255.4,2,     0.76,2,     4.69,2,     0.29,2
     06GA276_2,  AR19,   101,  1,     22, 104363,2,19960526,0535, 44.9100, -34.7417, 4080,     99.4,  14.0733,  35.9518,2,  35.9506,2,    248.5,2,     1.71,2,     5.63,2,     0.36,2
     06GA276_2,  AR19,   101,  1,     21, 104362,2,19960526,0535, 44.9100, -34.7417, 4080,    250.4,  12.7961,  35.7151,2,  35.7088,3,    223.8,2,     3.81,2,    10.14,2,     0.65,2
     06GA276_2,  AR19,   101,  1,     20, 104361,2,19960526,0535, 44.9100, -34.7417, 4080,    502.3,   9.9072,  35.2735,2,  35.2723,2,    183.2,2,     8.80,2,    17.99,2,     1.20,2
     06GA276_2,  AR19,   101,  1,     19, 104360,2,19960526,0535, 44.9100, -34.7417, 4080,    753.0,   6.7953,  35.0700,2,  35.0690,2,    200.8,2,    11.18,2,    19.30,2,     1.27,2
     06GA276_2,  AR19,   101,  1,     18, 104359,2,19960526,0535, 44.9100, -34.7417, 4080,   1002.1,   5.3437,  35.0558,2,  35.0603,2,    232.2,2,    10.93,2,    18.14,2,     1.14,2
     06GA276_2,  AR19,   101,  1,     17, 104358,2,19960526,0535, 44.9100, -34.7417, 4080,   1251.3,   4.3727,  34.9848,2,  34.9844,2,    255.9,2,    10.51,2,    17.46,2,     1.18,2
     06GA276_2,  AR19,   101,  1,     16, 104357,2,19960526,0535, 44.9100, -34.7417, 4080,   1499.6,   3.8354,  34.9332,2,  34.9338,2,    268.5,2,    10.38,2,    17.57,2,     1.15,2
     06GA276_2,  AR19,   101,  1,     15, 104356,2,19960526,0535, 44.9100, -34.7417, 4080,   1750.7,   3.4772,  34.9011,2,  34.8997,2,    278.0,2,    10.27,2,    16.92,2,     1.13,2
     06GA276_2,  AR19,   101,  1,     14, 104355,2,19960526,0535, 44.9100, -34.7417, 4080,   1900.4,   3.3755,  34.8955,2,  34.8976,2,    280.0,2,    10.38,2,    16.76,2,     1.08,3
     06GA276_2,  AR19,   101,  1,     13, 104354,2,19960526,0535, 44.9100, -34.7417, 4080,   2001.9,   3.3493,  34.9011,2,  34.8998,2,    279.3,2,    10.67,2,    16.73,2,     1.13,2
     06GA276_2,  AR19,   101,  1,     12, 104353,2,19960526,0535, 44.9100, -34.7417, 4080,   2101.1,   3.3236,  34.9047,2,  34.9074,2,    278.2,2,    10.97,2,    16.67,2,     1.17,2
     06GA276_2,  AR19,   101,  1,     11, 104352,2,19960526,0535, 44.9100, -34.7417, 4080,   2348.3,   3.2071,  34.9101,2,  34.9092,2,    278.4,2,    11.37,2,    16.49,2,     1.16,2
     06GA276_2,  AR19,   101,  1,     10, 104351,2,19960526,0535, 44.9100, -34.7417, 4080,   2502.3,   3.1685,  34.9201,2,  34.9219,2,    275.4,2,    12.01,2,    16.52,2,     1.11,2
     06GA276_2,  AR19,   101,  1,      9, 104350,2,19960526,0535, 44.9100, -34.7417, 4080,   2803.2,   3.0271,  34.9293,2,  34.9280,2,    273.4,2,    13.09,2,    16.34,2,     1.12,2
     06GA276_2,  AR19,   101,  1,      8, 104349,2,19960526,0535, 44.9100, -34.7417, 4080,   3003.8,   2.8562,  34.9278,2,  34.9267,2,    273.7,2,    14.00,2,    16.51,2,     1.13,2
     06GA276_2,  AR19,   101,  1,      7, 104348,2,19960526,0535, 44.9100, -34.7417, 4080,   3203.9,   2.7080,  34.9242,2,  34.9234,2,    273.9,2,    15.16,2,    16.53,2,     1.13,2
     06GA276_2,  AR19,   101,  1,      6, 104347,2,19960526,0535, 44.9100, -34.7417, 4080,   3396.9,   2.5383,  34.9171,2,  34.9164,2,    274.8,2,    16.64,2,    16.54,2,     1.16,2
     06GA276_2,  AR19,   101,  1,      5, 104346,2,19960526,0535, 44.9100, -34.7417, 4080,   3603.0,   2.4168,  34.9111,2,  34.9112,2,    275.1,2,    17.45,2,    16.64,2,     1.08,2
     06GA276_2,  AR19,   101,  1,      4, 104345,2,19960526,0535, 44.9100, -34.7417, 4080,   3805.6,   2.3253,  34.9056,2,  34.9058,2,    276.2,2,    18.04,2,    16.38,2,     1.11,2
     06GA276_2,  AR19,   101,  1,      3, 104344,2,19960526,0535, 44.9100, -34.7417, 4080,   4005.8,   2.2819,  34.9017,2,  34.9017,2,    277.5,2,    18.20,2,    16.35,2,     1.12,2
     06GA276_2,  AR19,   101,  1,      2, 104343,2,19960526,0535, 44.9100, -34.7417, 4080,   4083.8,   2.2753,  34.9007,2,  34.9005,2,    277.9,2,    18.51,2,    16.37,2,     1.12,2
     06GA276_2,  AR19,   101,  1,      1, 104342,2,19960526,0535, 44.9100, -34.7417, 4080,   4117.9,   2.2782,  34.9007,2,  34.9014,2,    277.5,2,    18.51,2,    16.36,2,     1.11,2