BOTTLE,20220921CCHSIOAMB
EXPOCODE,SECT_ID,STNNBR,CASTNO,SAMPNO,BTLNBR,BTLNBR_FLAG_W,DATE,TIME,LATITUDE,LONGITUDE,DEPTH,CTDPRS,CTDTMP,CTDSAL,CTDSAL_FLAG_W,SALNTY,SALNTY_FLAG_W,OXYGEN,OXYGEN_FLAG_W,SILCAT,SILCAT_FLAG_W,NITRAT,NITRAT_FLAG_W,PHSPHT,PHSPHT_FLAG_W
,,,,,,,,,,,,DBAR,ITS-90,PSS-78,,PSS-78,,UMOL/KG,,UMOL/KG,,UMOL/KG,,UMOL/KG,
     06GA276_2,  AR19,    49,  2,     23, 103816,2,19960518,1152, 47.7033, -22.0933, 4428,      9.2,  12.9520,  35.7439,2,  35.7433,2,    263.7,2,     1.78,2,     5.79,2,     0.39,2
     06GA276_2,  AR19,    49,  2,     22, 103815,2,19960518,1152, 47.7033, -22.0933, 4428,     49.0,  12.9360,  35.7503,2,  35.7495,2,    261.9,2,     1.80,2,     5.80,2,     0.39,2
     06GA276_2,  AR19,    49,  2,     21, 103814,2,19960518,1152, 47.7033, -22.0933, 4428,     73.4,  12.7823,  35.7129,2,  35.7089,2,    262.8,2,     1.87,2,     5.80,2,     0.38,2
     06GA276_2,  AR19,    49,  2,     20, 103813,2,19960518,1152, 47.7033, -22.0933, 4428,    125.8,  12.0619,  35.6107,2,  35.6092,2,    255.4,2,     2.81,2,     8.33,2,     0.53,2
     06GA276_2,  AR19,    49,  2,     19, 103812,2,19960518,1152, 47.7033, -22.0933, 4428,    253.0,  11.0644,  35.4614,2,  35.4615,2,    254.0,2,     3.74,2,    10.04,2,     0.68,2
     06GA276_2,  AR19,    49,  2,     18, 103811,2,19960518,1152, 47.7033, -22.0933, 4428,    498.7,   9.3538,  35.2326,2,  35.2283,2,    218.2,2,     7.36,2,    15.50,2,     1.01,2
     06GA276_2,  AR19,    49,  2,     17, 103810,2,19960518,1152, 47.7033, -22.0933, 4428,    723.9,   7.0624,  35.0680,2,  35.0672,2,    207.4,2,    10.74,2,    18.75,2,     1.19,2
     06GA276_2,  AR19,    49,  2,     16, 103809,2,19960518,1152, 47.7033, -22.0933, 4428,    841.2,   6.3003,  35.0672,2,  35.0684,2,    217.2,2,    10.87,2,    18.57,2,     1.21,2
     06GA276_2,  AR19,    49,  2,     15, 103808,2,19960518,1152, 47.7033, -22.0933, 4428,   1450.8,   3.8386,  34.9192,2,  34.9183,2,    270.4,2,    10.36,2,    17.20,2,     1.14,2
     06GA276_2,  AR19,    49,  2,     14, 103807,2,19960518,1152, 47.7033, -22.0933, 4428,   1648.7,   3.5847,  34.9021,2,  34.9022,2,    276.8,2,    10.28,2,    16.44,2,     1.13,2
     06GA276_2,  AR19,    49,  2,     13, 103806,2,19960518,1152, 47.7033, -22.0933, 4428,   1848.7,   3.4530,  34.9025,2,  34.8996,2,    278.8,2,    10.50,2,    16.76,2,     1.10,2
     06GA276_2,  AR19,    49,  2,     12, 103805,2,19960518,1152, 47.7033, -22.0933, 4428,   2049.0,   3.4023,  34.9126,2,  34.9119,2,    276.6,2,    10.95,2,    16.66,2,     1.13,2
     06GA276_2,  AR19,    49,  2,     11, 103804,2,19960518,1152, 47.7033, -22.0933, 4428,   2301.2,   3.3173,  34.9374,2,  34.9120,3,    271.0,2,    13.00,2,    16.68,2,     1.13,2
     06GA276_2,  AR19,    49,  2,     10, 103803,2,19960518,1152, 47.7033, -22.0933, 4428,   2550.5,   3.1681,  34.9492,2,  34.9492,2,    267.4,2,    16.09,2,    17.00,2,     1.14,2
     06GA276_2,  AR19,    49,  2,      9, 103802,2,19960518,1152, 47.7033, -22.0933, 4428,   2902.7,   2.9346,  34.9512,2,  34.9500,2,    262.1,2,    21.50,2,    17.85,2,     1.23,2
     06GA276_2,  AR19,    49,  2,      8, 103801,2,19960518,1152, 47.7033, -22.0933, 4428,   3152.0,   2.7707,  34.9427,2,  34.9409,2,    252.1,2,    28.68,2,    18.66,2,     1.24,2
     06GA276_2,  AR19,    49,  2,      7, 103800,2,19960518,1152, 47.7033, -22.0933, 4428,   3401.4,   2.6610,  34.9319,2,  34.9301,2,    248.7,2,    34.07,2,    19.94,2,     1.38,2
     06GA276_2,  AR19,    49,  2,      6, 103799,2,19960518,1152, 47.7033, -22.0933, 4428,   3703.7,   2.6056,  34.9233,2,  34.9218,2,    245.7,2,    38.31,2,    20.71,2,     1.44,2
     06GA276_2,  AR19,    49,  2,      5, 103798,2,19960518,1152, 47.7033, -22.0933, 4428,   4002.2,   2.5791,  34.9159,2,  34.9163,2,    242.3,2,    40.44,2,    21.27,2,     1.44,2
     06GA276_2,  AR19,    49,  2,      4, 103797,2,19960518,1152, 47.7033, -22.0933, 4428,   4200.3,   2.5818,  34.9133,2,  34.9133,2,    242.4,2,    41.23,2,    21.38,2,     1.48,2
     06GA276_2,  AR19,    49,  2,      3, 103796,2,19960518,1152, 47.7033, -22.0933, 4428,   4383.4,   2.5850,  34.9111,2,  34.9123,2,    242.1,2,    42.21,2,    21.51,2,     1.47,2
     06GA276_2,  AR19,    49,  2,      2, 103795,2,19960518,1152, 47.7033, -22.0933, 4428,   4482.5,   2.5861,  34.9098,2,  34.9105,2,    242.8,2,    42.50,2,    21.56,2,     1.48,2
     06GA276_2,  AR19,    49,  2,      1, 103794,2,19960518,1152, 47.7033, -22.0933, 4428,   4514.1,   2.5868,  34.9096,2,  34.9101,2,    241.3,2,    43.10,2,    21.56,2,     1.50,2
     06GA276_2,  AR19,    51,  2,     22, 103839,2,19960518,1720, 47.5383, -22.4450, 4471,     10.8,  13.2715,  35.8077,2,  35.8077,2,    261.1,2,  -999.00,9,  -999.00,9,  -999.00,9
     06GA276_2,  AR19,    51,  2,     21, 103838,2,19960518,1720, 47.5383, -22.4450, 4471,    100.9,  12.9920,  35.7807,2,  35.7806,2,    253.4,2,  -999.00,9,  -999.00,9,  -999.00,9
     06GA276_2,  AR19,    51,  2,     20, 103837,2,19960518,1720, 47.5383, -22.4450, 4471,    250.8,  12.3114,  35.6614,2,  35.6602,2,    246.6,2,  -999.00,9,  -999.00,9,  -999.00,9
     06GA276_2,  AR19,    51,  2,     19, 103836,2,19960518,1720, 47.5383, -22.4450, 4471,    502.2,   9.8224,  35.2700,2,  35.2671,2,    210.3,2,  -999.00,9,  -999.00,9,  -999.00,9
     06GA276_2,  AR19,    51,  2,     18, 103835,2,19960518,1720, 47.5383, -22.4450, 4471,    703.3,   7.8437,  35.1298,2,  35.1333,2,    200.7,2,  -999.00,9,  -999.00,9,  -999.00,9
     06GA276_2,  AR19,    51,  2,     17, 103834,2,19960518,1720, 47.5383, -22.4450, 4471,    802.0,   6.9331,  35.1100,2,  35.1088,2,    206.5,2,  -999.00,9,  -999.00,9,  -999.00,9
     06GA276_2,  AR19,    51,  2,     16, 103833,2,19960518,1720, 47.5383, -22.4450, 4471,    979.1,   6.1161,  35.1572,2,  35.1567,2,    223.1,2,  -999.00,9,  -999.00,9,  -999.00,9
     06GA276_2,  AR19,    51,  2,     15, 103832,2,19960518,1720, 47.5383, -22.4450, 4471,   1142.4,   4.8080,  35.0138,2,  35.0147,2,    245.9,2,  -999.00,9,  -999.00,9,  -999.00,9
     06GA276_2,  AR19,    51,  2,     14, 103831,2,19960518,1720, 47.5383, -22.4450, 4471,   1401.9,   3.8977,  34.9252,2,  34.9243,2,    267.6,2,  -999.00,9,  -999.00,9,  -999.00,9
     06GA276_2,  AR19,    51,  2,     13, 103830,2,19960518,1720, 47.5383, -22.4450, 4471,   1600.6,   3.6268,  34.9045,2,  34.9038,2,    274.5,2,  -999.00,9,  -999.00,9,  -999.00,9
     06GA276_2,  AR19,    51,  2,     12, 103829,2,19960518,1720, 47.5383, -22.4450, 4471,   1801.7,   3.4810,  34.8997,2,  34.9015,2,    278.4,2,  -999.00,9,  -999.00,9,  -999.00,9
     06GA276_2,  AR19,    51,  2,     11, 103828,2,19960518,1720, 47.5383, -22.4450, 4471,   2003.9,   3.4033,  34.9065,2,  34.9083,2,    278.0,2,  -999.00,9,  -999.00,9,  -999.00,9
     06GA276_2,  AR19,    51,  2,     10, 103827,2,19960518,1720, 47.5383, -22.4450, 4471,   2202.3,   3.3595,  34.9227,2,  34.9218,2,    274.4,2,  -999.00,9,  -999.00,9,  -999.00,9
     06GA276_2,  AR19,    51,  2,      9, 103826,2,19960518,1720, 47.5383, -22.4450, 4471,   2403.1,   3.2899,  34.9379,2,  34.9373,2,    271.4,2,  -999.00,9,  -999.00,9,  -999.00,9
     06GA276_2,  AR19,    51,  2,      8, 103825,2,19960518,1720, 47.5383, -22.4450, 4471,   2604.6,   3.1607,  34.9469,2,  34.9461,2,    268.0,2,  -999.00,9,  -999.00,9,  -999.00,9
     06GA276_2,  AR19,    51,  2,      7, 103824,2,19960518,1720, 47.5383, -22.4450, 4471,   2802.3,   3.0302,  34.9506,2,  34.9519,2,    264.7,2,  -999.00,9,  -999.00,9,  -999.00,9
     06GA276_2,  AR19,    51,  2,      6, 103823,2,19960518,1720, 47.5383, -22.4450, 4471,   3002.9,   2.9054,  34.9495,2,  34.9493,2,    259.8,2,  -999.00,9,  -999.00,9,  -999.00,9
     06GA276_2,  AR19,    51,  2,      5, 103822,2,19960518,1720, 47.5383, -22.4450, 4471,   3251.8,   2.7631,  34.9405,2,  34.9408,2,    253.0,2,  -999.00,9,  -999.00,9,  -999.00,9
     06GA276_2,  AR19,    51,  2,      4, 103821,2,19960518,1720, 47.5383, -22.4450, 4471,   3504.2,   2.6514,  34.9289,2,  34.9284,2,    247.3,2,  -999.00,9,  -999.00,9,  -999.00,9
     06GA276_2,  AR19,    51,  2,      3, 103820,2,19960518,1720, 47.5383, -22.4450, 4471,   3804.2,   2.5914,  34.9197,2,  34.9196,2,    244.0,2,  -999.00,9,  -999.00,9,  -999.00,9
     06GA276_2,  AR19,    51,  2,      2, 103819,2,19960518,1720, 47.5383, -22.4450, 4471,   4106.0,   2.5804,  34.9148,2,  34.9173,2,    242.7,2,  -999.00,9,  -999.00,9,  -999.00,9
     06GA276_2,  AR19,    51,  2,      1, 103818,2,19960518,1720, 47.5383, -22.4450, 4471,   4454.2,   2.5795,  34.9099,2,  34.9101,2,    239.1,2,  -999.00,9,  -999.00,9,  -999.00,9
     06GA276_2,  AR19,    53,  4,      1, 103842,2,19960519,1103, 47.6167, -22.7850, 4056,      9.6,  13.1598,  35.7802,2,  35.7796,2,    260.4,2,  -999.00,9,  -999.00,9,  -999.00,9
     06GA276_2,  AR19,    53,  4,     24, 103865,2,19960519,1103, 47.6167, -22.7850, 4056,     49.8,  13.1202,  35.7787,2,  35.7786,2,    261.4,2,  -999.00,9,  -999.00,9,  -999.00,9
     06GA276_2,  AR19,    53,  4,     23, 103864,2,19960519,1103, 47.6167, -22.7850, 4056,     91.2,  13.1138,  35.7779,2,  35.7779,2,    260.4,2,  -999.00,9,  -999.00,9,  -999.00,9
     06GA276_2,  AR19,    53,  4,     22, 103863,2,19960519,1103, 47.6167, -22.7850, 4056,    200.9,  12.0689,  35.6227,2,  35.6211,2,    244.7,2,  -999.00,9,  -999.00,9,  -999.00,9
     06GA276_2,  AR19,    53,  4,     21, 103862,2,19960519,1103, 47.6167, -22.7850, 4056,    450.1,  10.6895,  35.4032,2,  35.4038,2,    225.5,2,  -999.00,9,  -999.00,9,  -999.00,9
     06GA276_2,  AR19,    53,  4,     20, 103861,2,19960519,1103, 47.6167, -22.7850, 4056,    751.3,   6.7622,  34.9853,2,  34.9842,2,    206.9,2,  -999.00,9,  -999.00,9,  -999.00,9
     06GA276_2,  AR19,    53,  4,     19, 103860,2,19960519,1103, 47.6167, -22.7850, 4056,    949.9,   5.8423,  35.0823,2,  35.0820,2,    225.7,2,  -999.00,9,  -999.00,9,  -999.00,9
     06GA276_2,  AR19,    53,  4,     18, 103859,2,19960519,1103, 47.6167, -22.7850, 4056,   1095.0,   5.3321,  35.0825,2,  35.0818,2,    237.8,2,  -999.00,9,  -999.00,9,  -999.00,9
     06GA276_2,  AR19,    53,  4,     17, 103858,2,19960519,1103, 47.6167, -22.7850, 4056,   1251.1,   4.4799,  34.9894,2,-999.0000,9,    254.8,2,  -999.00,9,  -999.00,9,  -999.00,9
     06GA276_2,  AR19,    53,  4,     16, 103857,2,19960519,1103, 47.6167, -22.7850, 4056,   1403.9,   3.9029,  34.9213,2,  34.9257,2,    268.0,2,  -999.00,9,  -999.00,9,  -999.00,9
     06GA276_2,  AR19,    53,  4,     15, 103856,2,19960519,1103, 47.6167, -22.7850, 4056,   1599.9,   3.6414,  34.9067,2,  34.9068,2,    274.7,2,  -999.00,9,  -999.00,9,  -999.00,9
     06GA276_2,  AR19,    53,  4,     14, 103855,2,19960519,1103, 47.6167, -22.7850, 4056,   1718.2,   3.5269,  34.9007,2,  34.8992,2,    277.6,2,  -999.00,9,  -999.00,9,  -999.00,9
     06GA276_2,  AR19,    53,  4,     13, 103854,2,19960519,1103, 47.6167, -22.7850, 4056,   1949.4,   3.3476,  34.8952,2,  34.8940,2,    282.0,2,  -999.00,9,  -999.00,9,  -999.00,9
     06GA276_2,  AR19,    53,  4,     12, 103853,2,19960519,1103, 47.6167, -22.7850, 4056,   2102.0,   3.3103,  34.9026,2,  34.9018,2,    279.4,2,  -999.00,9,  -999.00,9,  -999.00,9
     06GA276_2,  AR19,    53,  4,     11, 103852,2,19960519,1103, 47.6167, -22.7850, 4056,   2322.2,   3.3008,  34.9326,2,  34.9331,2,    273.2,2,  -999.00,9,  -999.00,9,  -999.00,9
     06GA276_2,  AR19,    53,  4,     10, 103851,2,19960519,1103, 47.6167, -22.7850, 4056,   2501.4,   3.2358,  34.9450,2,  34.9459,2,    269.3,2,  -999.00,9,  -999.00,9,  -999.00,9
     06GA276_2,  AR19,    53,  4,      9, 103850,2,19960519,1103, 47.6167, -22.7850, 4056,   2713.0,   3.0685,  34.9501,2,  34.9506,2,    266.3,2,  -999.00,9,  -999.00,9,  -999.00,9
     06GA276_2,  AR19,    53,  4,      8, 103849,2,19960519,1103, 47.6167, -22.7850, 4056,   2902.3,   2.9396,  34.9513,2,  34.9501,2,    262.3,2,  -999.00,9,  -999.00,9,  -999.00,9
     06GA276_2,  AR19,    53,  4,      7, 103848,2,19960519,1103, 47.6167, -22.7850, 4056,   3151.8,   2.7966,  34.9441,2,  34.9431,2,    257.1,2,  -999.00,9,  -999.00,9,  -999.00,9
     06GA276_2,  AR19,    53,  4,      6, 103847,2,19960519,1103, 47.6167, -22.7850, 4056,   3401.2,   2.6985,  34.9344,2,  34.9344,2,    251.7,2,  -999.00,9,  -999.00,9,  -999.00,9
     06GA276_2,  AR19,    53,  4,      5, 103846,2,19960519,1103, 47.6167, -22.7850, 4056,   3700.7,   2.6230,  34.9253,2,  34.9235,2,    245.8,2,  -999.00,9,  -999.00,9,  -999.00,9
     06GA276_2,  AR19,    53,  4,      4, 103845,2,19960519,1103, 47.6167, -22.7850, 4056,   3953.4,   2.5946,  34.9176,2,  34.9179,2,    243.7,2,  -999.00,9,  -999.00,9,  -999.00,9
     06GA276_2,  AR19,    53,  4,      3, 103844,2,19960519,1103, 47.6167, -22.7850, 4056,   4103.5,   2.5820,  34.9146,2,  34.9145,2,    243.3,2,  -999.00,9,  -999.00,9,  -999.00,9
     06GA276_2,  AR19,    53,  4,      2, 103843,2,19960519,1103, 47.6167, -22.7850, 4056,   4153.9,   2.5785,  34.9133,2,  34.9142,2,    245.4,2,  -999.00,9,  -999.00,9,  -999.00,9
     06GA276_2,  AR19,    55,  1,     22, 103887,2,19960519,1757, 47.4933, -23.5600, 3970,      9.4,  13.1032,  35.7187,2,  35.7192,2,    264.8,2,     1.17,2,     4.67,2,     0.31,2
     06GA276_2,  AR19,    55,  1,     21, 103886,2,19960519,1757, 47.4933, -23.5600, 3970,     51.4,  13.0007,  35.7065,2,  35.8028,3,    263.8,2,     0.81,2,     4.69,2,     0.31,2
     06GA276_2,  AR19,    55,  1,     20, 103885,2,19960519,1757, 47.4933, -23.5600, 3970,    101.7,  12.9945,  35.7123,2,  35.7146,2,    260.7,2,     1.07,2,     5.15,2,     0.34,2
     06GA276_2,  AR19,    55,  1,     19, 103884,2,19960519,1757, 47.4933, -23.5600, 3970,    647.3,   8.1479,  35.1739,2,  35.1629,3,    194.3,2,    10.48,2,    18.84,2,     1.11,2
     06GA276_2,  AR19,    55,  1,     18, 103883,2,19960519,1757, 47.4933, -23.5600, 3970,    735.2,   6.7169,  35.0041,2,  35.0037,2,    206.5,2,    11.19,2,    19.19,2,     1.16,2
     06GA276_2,  AR19,    55,  1,     17, 103882,2,19960519,1757, 47.4933, -23.5600, 3970,    901.9,   5.7884,  35.0439,2,  35.0414,2,    223.4,2,    11.29,2,    18.73,2,     1.08,2
     06GA276_2,  AR19,    55,  1,     16, 103881,2,19960519,1757, 47.4933, -23.5600, 3970,    986.2,   5.2207,  35.0134,2,  35.0134,2,    234.9,2,    11.20,2,    18.61,2,     1.04,2
     06GA276_2,  AR19,    55,  1,     15, 103880,2,19960519,1757, 47.4933, -23.5600, 3970,   1099.8,   5.1112,  35.0573,2,  35.0574,2,    240.7,2,    11.20,2,    18.10,2,     0.83,2
     06GA276_2,  AR19,    55,  1,     14, 103879,2,19960519,1757, 47.4933, -23.5600, 3970,   1303.1,   4.2262,  34.9682,2,  34.9685,2,    258.8,2,    11.15,2,    17.55,2,     0.85,2
     06GA276_2,  AR19,    55,  1,     13, 103878,2,19960519,1757, 47.4933, -23.5600, 3970,   1502.2,   3.7873,  34.9225,2,  34.9230,2,    269.7,2,    11.07,2,    17.16,2,     0.81,2
     06GA276_2,  AR19,    55,  1,     12, 103877,2,19960519,1757, 47.4933, -23.5600, 3970,   1700.9,   3.5544,  34.9042,2,  34.9054,2,    275.8,2,    11.17,2,    17.43,3,     1.02,2
     06GA276_2,  AR19,    55,  1,     11, 103876,2,19960519,1757, 47.4933, -23.5600, 3970,   1900.9,   3.4326,  34.9057,2,  34.9049,2,    276.4,2,    11.79,2,    17.10,3,     1.02,2
     06GA276_2,  AR19,    55,  1,     10, 103875,2,19960519,1757, 47.4933, -23.5600, 3970,   1999.0,   3.3794,  34.9058,2,  34.9106,2,    277.6,2,    11.84,2,    17.02,2,     0.90,2
     06GA276_2,  AR19,    55,  1,      9, 103874,2,19960519,1757, 47.4933, -23.5600, 3970,   2200.8,   3.3200,  34.9155,2,  34.9179,2,    275.7,2,    12.89,2,    16.88,3,     1.15,2
     06GA276_2,  AR19,    55,  1,      8, 103873,2,19960519,1757, 47.4933, -23.5600, 3970,   2403.7,   3.2634,  34.9266,2,  34.9563,3,    272.3,2,    14.45,2,    17.20,3,     1.01,2
     06GA276_2,  AR19,    55,  1,      7, 103872,2,19960519,1757, 47.4933, -23.5600, 3970,   2602.0,   3.1810,  34.9412,2,  34.9430,2,    268.8,2,    16.19,2,    17.26,2,     0.92,2
     06GA276_2,  AR19,    55,  1,      6, 103871,2,19960519,1757, 47.4933, -23.5600, 3970,   2803.9,   3.0619,  34.9488,2,  34.9495,2,    265.3,2,    18.86,2,    17.58,2,     0.98,2
     06GA276_2,  AR19,    55,  1,      5, 103870,2,19960519,1757, 47.4933, -23.5600, 3970,   3104.1,   2.8761,  34.9458,2,  34.9475,2,    259.9,2,    24.57,2,    18.43,2,     1.21,2
     06GA276_2,  AR19,    55,  1,      4, 103869,2,19960519,1757, 47.4933, -23.5600, 3970,   3305.0,   2.7866,  34.9405,2,  34.9398,2,    256.3,2,    28.68,2,    19.05,2,     1.22,2
     06GA276_2,  AR19,    55,  1,      3, 103868,2,19960519,1757, 47.4933, -23.5600, 3970,   3704.0,   2.6760,  34.9273,2,  34.9286,2,    248.1,2,    36.16,2,    20.48,2,     1.34,2
     06GA276_2,  AR19,    55,  1,      2, 103867,2,19960519,1757, 47.4933, -23.5600, 3970,   3994.4,   2.6317,  34.9201,2,  34.9233,2,    245.7,2,    38.91,2,    21.00,2,     1.36,2
     06GA276_2,  AR19,    55,  1,      1, 103866,2,19960519,1757, 47.4933, -23.5600, 3970,   4024.1,   2.6217,  34.9187,2,  34.9466,3,    245.9,2,    37.21,2,    20.57,2,     1.27,2