BOTTLE,20220921CCHSIOAMB
EXPOCODE,SECT_ID,STNNBR,CASTNO,SAMPNO,BTLNBR,BTLNBR_FLAG_W,DATE,TIME,LATITUDE,LONGITUDE,DEPTH,CTDPRS,CTDTMP,CTDSAL,CTDSAL_FLAG_W,SALNTY,SALNTY_FLAG_W,OXYGEN,OXYGEN_FLAG_W,SILCAT,SILCAT_FLAG_W,NITRAT,NITRAT_FLAG_W,PHSPHT,PHSPHT_FLAG_W
,,,,,,,,,,,,DBAR,ITS-90,PSS-78,,PSS-78,,UMOL/KG,,UMOL/KG,,UMOL/KG,,UMOL/KG,
     06GA276_2,  AR19,    79,  2,     23, 104100,2,19960522,2242, 46.3567, -30.0217, 3226,      9.3,  13.5706,  35.8067,2,  35.8073,2,    262.8,2,     1.93,2,     5.65,2,     0.40,2
     06GA276_2,  AR19,    79,  2,     22, 104099,2,19960522,2242, 46.3567, -30.0217, 3226,     49.8,  13.4843,  35.8205,2,  35.8217,2,    258.7,2,     2.01,2,     6.04,2,     0.42,2
     06GA276_2,  AR19,    79,  2,     21, 104098,2,19960522,2242, 46.3567, -30.0217, 3226,     99.7,  13.4613,  35.8312,2,  35.8315,2,    252.7,2,     2.15,2,     6.06,2,     0.49,2
     06GA276_2,  AR19,    79,  2,     20, 104097,2,19960522,2242, 46.3567, -30.0217, 3226,    250.5,  12.6435,  35.7157,2,  35.7149,2,    245.6,2,     3.00,2,     8.73,2,     0.56,2
     06GA276_2,  AR19,    79,  2,     19, 104096,2,19960522,2242, 46.3567, -30.0217, 3226,    350.3,  12.2518,  35.6527,2,  35.6525,2,    245.6,2,     3.52,2,     9.35,2,     0.62,2
     06GA276_2,  AR19,    79,  2,     18, 104095,2,19960522,2242, 46.3567, -30.0217, 3226,    503.0,  10.8884,  35.4129,2,  35.4169,2,    227.5,2,     5.60,2,    12.69,2,     0.84,2
     06GA276_2,  AR19,    79,  2,     17, 104094,2,19960522,2242, 46.3567, -30.0217, 3226,    649.9,   8.6514,  35.1519,2,  35.1485,2,    186.2,2,    10.27,2,    19.04,2,     1.25,2
     06GA276_2,  AR19,    79,  2,     16, 104093,2,19960522,2242, 46.3567, -30.0217, 3226,    800.3,   6.2415,  34.9642,2,  34.9808,3,    209.2,2,    11.32,2,    19.29,2,     1.21,2
     06GA276_2,  AR19,    79,  2,     15, 104092,2,19960522,2242, 46.3567, -30.0217, 3226,    978.5,   5.2059,  34.9897,2,  34.9892,2,    233.0,2,    11.06,2,    18.43,3,     1.13,2
     06GA276_2,  AR19,    79,  2,     14, 104091,2,19960522,2242, 46.3567, -30.0217, 3226,   1033.3,   5.0812,  35.0128,2,  35.0168,2,    237.5,2,    11.08,2,    18.34,2,     1.21,2
     06GA276_2,  AR19,    79,  2,     13, 104090,2,19960522,2242, 46.3567, -30.0217, 3226,   1100.9,   4.7995,  34.9963,2,  34.9953,2,    245.0,2,    11.11,2,    18.02,2,     1.20,2
     06GA276_2,  AR19,    79,  2,     12, 104089,2,19960522,2242, 46.3567, -30.0217, 3226,   1181.9,   4.6391,  35.0022,2,  35.0067,2,    250.4,2,    11.14,2,    17.92,2,     1.20,2
     06GA276_2,  AR19,    79,  2,     11, 104088,2,19960522,2242, 46.3567, -30.0217, 3226,   1300.8,   4.0986,  34.9438,2,  34.9470,2,    263.1,2,    10.67,2,    17.58,2,     1.15,2
     06GA276_2,  AR19,    79,  2,     10, 104087,2,19960522,2242, 46.3567, -30.0217, 3226,   1500.3,   3.7035,  34.9108,2,  34.9117,2,    273.6,2,    10.38,2,    17.12,2,     1.14,2
     06GA276_2,  AR19,    79,  2,      9, 104086,2,19960522,2242, 46.3567, -30.0217, 3226,   1747.5,   3.4811,  34.8964,2,  34.8966,2,    279.1,2,    10.53,2,    17.13,2,     1.15,2
     06GA276_2,  AR19,    79,  2,      8, 104085,2,19960522,2242, 46.3567, -30.0217, 3226,   1999.1,   3.3078,  34.8854,2,  34.8847,2,    283.9,2,    10.56,2,    16.68,2,     1.11,2
     06GA276_2,  AR19,    79,  2,      7, 104084,2,19960522,2242, 46.3567, -30.0217, 3226,   2150.1,   3.2550,  34.8855,2,  34.8842,2,    285.0,2,    10.77,2,    16.57,2,     1.15,2
     06GA276_2,  AR19,    79,  2,      6, 104083,2,19960522,2242, 46.3567, -30.0217, 3226,   2309.5,   3.2449,  34.8972,2,  34.8963,2,    282.2,2,    11.53,2,    16.57,2,     1.13,2
     06GA276_2,  AR19,    79,  2,      5, 104082,2,19960522,2242, 46.3567, -30.0217, 3226,   2500.3,   3.2495,  34.9162,2,  34.9170,2,    275.4,2,    12.99,2,    16.70,2,     1.15,2
     06GA276_2,  AR19,    79,  2,      4, 104081,2,19960522,2242, 46.3567, -30.0217, 3226,   2700.2,   3.1844,  34.9261,2,  34.9279,2,    273.6,2,    14.13,2,    16.74,2,     1.14,2
     06GA276_2,  AR19,    79,  2,      3, 104080,2,19960522,2242, 46.3567, -30.0217, 3226,   2903.8,   3.0296,  34.9302,2,  34.9312,2,    273.0,2,    15.07,2,    16.71,2,     1.12,2
     06GA276_2,  AR19,    79,  2,      2, 104079,2,19960522,2242, 46.3567, -30.0217, 3226,   3102.8,   2.8719,  34.9299,2,  34.9295,2,    273.5,2,    15.96,2,    17.20,3,     1.12,2
     06GA276_2,  AR19,    79,  2,      1, 104078,2,19960522,2242, 46.3567, -30.0217, 3226,   3214.1,   2.7848,  34.9280,2,  34.9271,2,    273.9,2,    16.37,2,    16.58,2,     1.13,2
     06GA276_2,  AR19,    81,  1,     24, 104125,2,19960523,0247, 46.3167, -30.2650, 3365,     10.5,  13.5713,  35.8307,2,  35.8311,2,   -999.0,9,  -999.00,9,  -999.00,9,  -999.00,9
     06GA276_2,  AR19,    81,  1,     23, 104124,2,19960523,0247, 46.3167, -30.2650, 3365,     50.2,  13.4744,  35.8376,2,  35.8369,2,    218.6,4,  -999.00,9,  -999.00,9,  -999.00,9
     06GA276_2,  AR19,    81,  1,     22, 104123,2,19960523,0247, 46.3167, -30.2650, 3365,    100.7,  13.4593,  35.8375,2,  35.8373,2,    259.1,2,  -999.00,9,  -999.00,9,  -999.00,9
     06GA276_2,  AR19,    81,  1,     21, 104122,2,19960523,0247, 46.3167, -30.2650, 3365,    201.0,  12.9878,  35.7611,2,  35.7603,2,    249.7,2,  -999.00,9,  -999.00,9,  -999.00,9
     06GA276_2,  AR19,    81,  1,     20, 104121,2,19960523,0247, 46.3167, -30.2650, 3365,    351.1,  12.1852,  35.6380,2,  35.6231,3,    240.0,2,  -999.00,9,  -999.00,9,  -999.00,9
     06GA276_2,  AR19,    81,  1,     19, 104120,2,19960523,0247, 46.3167, -30.2650, 3365,    502.2,  11.3123,  35.4886,2,  35.4925,2,    249.5,2,  -999.00,9,  -999.00,9,  -999.00,9
     06GA276_2,  AR19,    81,  1,     18, 104119,2,19960523,0247, 46.3167, -30.2650, 3365,    711.5,   7.1308,  34.9905,2,  34.9880,2,    198.5,2,  -999.00,9,  -999.00,9,  -999.00,9
     06GA276_2,  AR19,    81,  1,     17, 104118,2,19960523,0247, 46.3167, -30.2650, 3365,    902.5,   5.7222,  35.0093,2,  35.0097,2,    223.6,2,  -999.00,9,  -999.00,9,  -999.00,9
     06GA276_2,  AR19,    81,  1,     16, 104117,2,19960523,0247, 46.3167, -30.2650, 3365,   1102.5,   4.9054,  35.0177,2,  35.0298,3,    244.8,2,  -999.00,9,  -999.00,9,  -999.00,9
     06GA276_2,  AR19,    81,  1,     15, 104116,2,19960523,0247, 46.3167, -30.2650, 3365,   1300.8,   4.3038,  34.9715,2,  34.9719,2,    259.2,2,  -999.00,9,  -999.00,9,  -999.00,9
     06GA276_2,  AR19,    81,  1,     14, 104115,2,19960523,0247, 46.3167, -30.2650, 3365,   1501.5,   3.7718,  34.9161,2,  34.9172,2,    273.3,2,  -999.00,9,  -999.00,9,  -999.00,9
     06GA276_2,  AR19,    81,  1,     13, 104114,2,19960523,0247, 46.3167, -30.2650, 3365,   1701.3,   3.5359,  34.9003,2,  34.9001,2,    278.2,2,  -999.00,9,  -999.00,9,  -999.00,9
     06GA276_2,  AR19,    81,  1,     12, 104113,2,19960523,0247, 46.3167, -30.2650, 3365,   1901.0,   3.3777,  34.8907,2,  34.8901,2,    282.2,2,  -999.00,9,  -999.00,9,  -999.00,9
     06GA276_2,  AR19,    81,  1,     11, 104112,2,19960523,0247, 46.3167, -30.2650, 3365,   2000.9,   3.3312,  34.8888,2,  34.8908,2,    282.4,2,  -999.00,9,  -999.00,9,  -999.00,9
     06GA276_2,  AR19,    81,  1,     10, 104111,2,19960523,0247, 46.3167, -30.2650, 3365,   2101.3,   3.2831,  34.8883,2,  34.9551,3,    283.8,2,  -999.00,9,  -999.00,9,  -999.00,9
     06GA276_2,  AR19,    81,  1,      9, 104110,2,19960523,0247, 46.3167, -30.2650, 3365,   2200.8,   3.2679,  34.8920,2,  34.8914,2,    283.3,2,  -999.00,9,  -999.00,9,  -999.00,9
     06GA276_2,  AR19,    81,  1,      8, 104109,2,19960523,0247, 46.3167, -30.2650, 3365,   2301.3,   3.2654,  34.8988,2,  34.8989,2,    282.1,2,  -999.00,9,  -999.00,9,  -999.00,9
     06GA276_2,  AR19,    81,  1,      7, 104108,2,19960523,0247, 46.3167, -30.2650, 3365,   2501.1,   3.2350,  34.9193,2,-999.0000,9,   -999.0,9,  -999.00,9,  -999.00,9,  -999.00,9
     06GA276_2,  AR19,    81,  1,      6, 104107,2,19960523,0247, 46.3167, -30.2650, 3365,   2703.5,   3.1744,  34.9263,2,  34.9264,2,    275.0,2,  -999.00,9,  -999.00,9,  -999.00,9
     06GA276_2,  AR19,    81,  1,      5, 104106,2,19960523,0247, 46.3167, -30.2650, 3365,   2899.4,   3.0446,  34.9305,2,  34.9325,2,    273.7,2,  -999.00,9,  -999.00,9,  -999.00,9
     06GA276_2,  AR19,    81,  1,      4, 104105,2,19960523,0247, 46.3167, -30.2650, 3365,   3102.7,   2.8542,  34.9297,2,  34.9292,2,    274.8,2,  -999.00,9,  -999.00,9,  -999.00,9
     06GA276_2,  AR19,    81,  1,      3, 104104,2,19960523,0247, 46.3167, -30.2650, 3365,   3303.1,   2.7555,  34.9267,2,  34.9260,2,    273.9,3,  -999.00,9,  -999.00,9,  -999.00,9
     06GA276_2,  AR19,    81,  1,      2, 104103,2,19960523,0247, 46.3167, -30.2650, 3365,   3352.2,   2.7449,  34.9265,2,  34.9272,2,    276.0,3,  -999.00,9,  -999.00,9,  -999.00,9
     06GA276_2,  AR19,    81,  1,      1, 104102,2,19960523,0247, 46.3167, -30.2650, 3365,   3405.8,   2.7108,  34.9250,2,  34.9985,4,    273.8,2,  -999.00,9,  -999.00,9,  -999.00,9
     06GA276_2,  AR19,    83,  1,     24, 104149,2,19960523,1842, 46.1500, -30.9533, 3250,      9.8,  13.5620,  35.8090,2,  35.8101,2,    265.4,2,  -999.00,9,  -999.00,9,  -999.00,9
     06GA276_2,  AR19,    83,  1,     23, 104148,2,19960523,1842, 46.1500, -30.9533, 3250,     72.1,  13.4460,  35.8332,2,  35.8334,2,    257.1,2,  -999.00,9,  -999.00,9,  -999.00,9
     06GA276_2,  AR19,    83,  1,     22, 104147,2,19960523,1842, 46.1500, -30.9533, 3250,    149.6,  13.2001,  35.7966,2,  35.7938,2,    252.8,2,  -999.00,9,  -999.00,9,  -999.00,9
     06GA276_2,  AR19,    83,  1,     21, 104146,2,19960523,1842, 46.1500, -30.9533, 3250,    351.6,  11.5416,  35.5203,2,  35.5213,2,    235.0,2,  -999.00,9,  -999.00,9,  -999.00,9
     06GA276_2,  AR19,    83,  1,     20, 104145,2,19960523,1842, 46.1500, -30.9533, 3250,    712.6,   7.2793,  35.0121,2,  35.0127,2,    193.4,2,  -999.00,9,  -999.00,9,  -999.00,9
     06GA276_2,  AR19,    83,  1,     19, 104144,2,19960523,1842, 46.1500, -30.9533, 3250,    759.9,   6.6306,  34.9776,2,  34.9816,2,    202.6,2,  -999.00,9,  -999.00,9,  -999.00,9
     06GA276_2,  AR19,    83,  1,     18, 104143,2,19960523,1842, 46.1500, -30.9533, 3250,    894.1,   5.7280,  35.0275,2,  35.0304,2,    223.3,2,  -999.00,9,  -999.00,9,  -999.00,9
     06GA276_2,  AR19,    83,  1,     17, 104142,2,19960523,1842, 46.1500, -30.9533, 3250,   1000.9,   5.1763,  35.0012,2,  35.0013,2,    235.3,2,  -999.00,9,  -999.00,9,  -999.00,9
     06GA276_2,  AR19,    83,  1,     16, 104141,2,19960523,1842, 46.1500, -30.9533, 3250,   1198.9,   4.4337,  34.9691,2,  34.9681,2,    255.0,2,  -999.00,9,  -999.00,9,  -999.00,9
     06GA276_2,  AR19,    83,  1,     15, 104140,2,19960523,1842, 46.1500, -30.9533, 3250,   1402.0,   3.8460,  34.9241,2,  34.9244,2,    270.2,2,  -999.00,9,  -999.00,9,  -999.00,9
     06GA276_2,  AR19,    83,  1,     14, 104139,2,19960523,1842, 46.1500, -30.9533, 3250,   1500.4,   3.6651,  34.9098,2,  34.9119,2,    275.1,2,  -999.00,9,  -999.00,9,  -999.00,9
     06GA276_2,  AR19,    83,  1,     13, 104138,2,19960523,1842, 46.1500, -30.9533, 3250,   1601.2,   3.5651,  34.9027,2,  34.9015,2,    278.1,2,  -999.00,9,  -999.00,9,  -999.00,9
     06GA276_2,  AR19,    83,  1,     12, 104137,2,19960523,1842, 46.1500, -30.9533, 3250,   1802.8,   3.4122,  34.8929,2,  34.8943,2,    280.9,2,  -999.00,9,  -999.00,9,  -999.00,9
     06GA276_2,  AR19,    83,  1,     11, 104136,2,19960523,1842, 46.1500, -30.9533, 3250,   2003.4,   3.3213,  34.8896,2,  34.8884,2,    282.4,2,  -999.00,9,  -999.00,9,  -999.00,9
     06GA276_2,  AR19,    83,  1,     10, 104135,2,19960523,1842, 46.1500, -30.9533, 3250,   2103.3,   3.3063,  34.8936,2,  34.8934,2,    281.4,2,  -999.00,9,  -999.00,9,  -999.00,9
     06GA276_2,  AR19,    83,  1,      9, 104134,2,19960523,1842, 46.1500, -30.9533, 3250,   2199.7,   3.2593,  34.8923,2,  34.8917,2,    282.7,2,  -999.00,9,  -999.00,9,  -999.00,9
     06GA276_2,  AR19,    83,  1,      8, 104133,2,19960523,1842, 46.1500, -30.9533, 3250,   2254.6,   3.2593,  34.8978,2,  34.8965,2,    281.8,2,  -999.00,9,  -999.00,9,  -999.00,9
     06GA276_2,  AR19,    83,  1,      7, 104132,2,19960523,1842, 46.1500, -30.9533, 3250,   2402.5,   3.2413,  34.9113,2,  34.9115,2,    278.3,2,  -999.00,9,  -999.00,9,  -999.00,9
     06GA276_2,  AR19,    83,  1,      6, 104131,2,19960523,1842, 46.1500, -30.9533, 3250,   2503.3,   3.2283,  34.9205,2,  34.9210,2,    275.2,2,  -999.00,9,  -999.00,9,  -999.00,9
     06GA276_2,  AR19,    83,  1,      5, 104130,2,19960523,1842, 46.1500, -30.9533, 3250,   2751.4,   3.1114,  34.9306,2,  34.9304,2,    273.0,2,  -999.00,9,  -999.00,9,  -999.00,9
     06GA276_2,  AR19,    83,  1,      4, 104129,2,19960523,1842, 46.1500, -30.9533, 3250,   2902.4,   3.0014,  34.9306,2,  34.9316,2,    273.3,2,  -999.00,9,  -999.00,9,  -999.00,9
     06GA276_2,  AR19,    83,  1,      3, 104128,2,19960523,1842, 46.1500, -30.9533, 3250,   3102.8,   2.8585,  34.9299,2,  34.9295,2,    274.3,2,  -999.00,9,  -999.00,9,  -999.00,9
     06GA276_2,  AR19,    83,  1,      2, 104127,2,19960523,1842, 46.1500, -30.9533, 3250,   3191.9,   2.7895,  34.9285,2,  34.9274,2,    274.7,2,  -999.00,9,  -999.00,9,  -999.00,9
     06GA276_2,  AR19,    83,  1,      1, 104126,2,19960523,1842, 46.1500, -30.9533, 3250,   3253.2,   2.7466,  34.9269,2,  34.9243,2,    274.6,2,  -999.00,9,  -999.00,9,  -999.00,9
     06GA276_2,  AR19,    85,  1,     23, 104172,2,19960525,0038, 46.0133, -31.6450, 3242,      9.9,  13.7479,  35.8620,2,  35.8630,2,    262.7,2,     1.24,2,     5.54,2,     0.32,2
     06GA276_2,  AR19,    85,  1,     22, 104171,2,19960525,0038, 46.0133, -31.6450, 3242,     49.9,  13.6560,  35.8757,2,  35.8776,2,    258.5,2,     1.60,2,     6.02,2,     0.36,2
     06GA276_2,  AR19,    85,  1,     21, 104170,2,19960525,0038, 46.0133, -31.6450, 3242,    101.3,  13.6170,  35.8782,2,  35.8791,2,    253.8,2,     1.80,2,     6.36,2,     0.37,2
     06GA276_2,  AR19,    85,  1,     20, 104169,2,19960525,0038, 46.0133, -31.6450, 3242,    201.4,  13.1721,  35.8061,2,  35.8037,2,    245.6,2,     2.40,2,     8.04,2,     0.47,2
     06GA276_2,  AR19,    85,  1,     19, 104168,2,19960525,0038, 46.0133, -31.6450, 3242,    400.9,  12.0195,  35.6014,2,  35.6120,3,    240.1,2,     3.68,2,    10.28,2,     0.67,2
     06GA276_2,  AR19,    85,  1,     18, 104167,2,19960525,0038, 46.0133, -31.6450, 3242,    501.0,  11.0348,  35.4369,2,  35.4368,2,    211.9,2,     5.86,2,    14.31,2,     0.90,2
     06GA276_2,  AR19,    85,  1,     17, 104166,2,19960525,0038, 46.0133, -31.6450, 3242,    701.4,   7.7051,  35.0691,2,  35.0683,2,    194.1,2,    10.97,2,    19.84,2,     1.27,2
     06GA276_2,  AR19,    85,  1,     16, 104165,2,19960525,0038, 46.0133, -31.6450, 3242,    799.0,   6.6056,  35.0365,2,  35.0461,3,    206.9,2,    11.37,2,    19.79,2,     1.29,2
     06GA276_2,  AR19,    85,  1,     15, 104164,2,19960525,0038, 46.0133, -31.6450, 3242,    903.1,   5.7850,  35.0303,2,  35.0262,2,    223.7,2,    11.39,2,    19.28,2,     1.26,2
     06GA276_2,  AR19,    85,  1,     14, 104163,2,19960525,0038, 46.0133, -31.6450, 3242,   1099.8,   4.7895,  34.9858,2,  34.9857,2,    246.1,2,    10.95,2,    18.61,2,     1.21,2
     06GA276_2,  AR19,    85,  1,     13, 104162,2,19960525,0038, 46.0133, -31.6450, 3242,   1298.1,   4.1768,  34.9513,2,  34.9522,2,    262.4,2,    10.92,2,    18.67,2,     1.19,2
     06GA276_2,  AR19,    85,  1,     12, 104161,2,19960525,0038, 46.0133, -31.6450, 3242,   1500.5,   3.7490,  34.9161,2,  34.9167,2,    273.4,2,    10.56,2,    17.61,2,     1.14,2
     06GA276_2,  AR19,    85,  1,     11, 104160,2,19960525,0038, 46.0133, -31.6450, 3242,   1698.7,   3.4982,  34.8986,2,  34.8983,2,    279.9,2,    10.61,2,    17.31,2,     1.10,2
     06GA276_2,  AR19,    85,  1,     10, 104159,2,19960525,0038, 46.0133, -31.6450, 3242,   1901.2,   3.3652,  34.8891,2,  34.8880,2,    283.4,2,    10.63,2,    17.11,2,     1.14,2
     06GA276_2,  AR19,    85,  1,      9, 104158,2,19960525,0038, 46.0133, -31.6450, 3242,   2100.0,   3.2513,  34.8838,2,  34.8836,2,    285.6,2,    10.66,2,    17.13,2,     1.15,2
     06GA276_2,  AR19,    85,  1,      8, 104157,2,19960525,0038, 46.0133, -31.6450, 3242,   2298.5,   3.2443,  34.8973,2,  34.8958,2,    283.0,2,    11.29,2,    16.86,3,     1.23,3
     06GA276_2,  AR19,    85,  1,      7, 104156,2,19960525,0038, 46.0133, -31.6450, 3242,   2398.9,   3.2563,  34.9064,2,  34.9061,2,    280.1,2,    12.00,2,    17.10,2,     1.11,2
     06GA276_2,  AR19,    85,  1,      6, 104155,2,19960525,0038, 46.0133, -31.6450, 3242,   2600.5,   3.1943,  34.9250,2,  34.9258,2,    276.1,2,    13.45,2,    17.08,2,     1.15,2
     06GA276_2,  AR19,    85,  1,      5, 104154,2,19960525,0038, 46.0133, -31.6450, 3242,   2801.6,   3.0644,  34.9304,2,  34.9311,2,    274.1,2,    14.59,2,    17.10,2,     1.10,2
     06GA276_2,  AR19,    85,  1,      4, 104153,2,19960525,0038, 46.0133, -31.6450, 3242,   2902.4,   3.0004,  34.9311,2,  34.9414,3,    273.9,2,    15.14,2,    17.12,2,     1.14,2
     06GA276_2,  AR19,    85,  1,      3, 104152,2,19960525,0038, 46.0133, -31.6450, 3242,   3050.7,   2.9025,  34.9316,2,  34.9405,3,    274.8,2,    15.80,2,    17.14,2,     1.12,2
     06GA276_2,  AR19,    85,  1,      2, 104151,2,19960525,0038, 46.0133, -31.6450, 3242,   3182.1,   2.8175,  34.9296,2,  34.9286,2,    275.0,2,    16.33,2,    16.86,2,     1.13,2
     06GA276_2,  AR19,    85,  1,      1, 104150,2,19960525,0038, 46.0133, -31.6450, 3242,   3251.6,   2.7466,  34.9275,2,  34.9297,2,    275.4,2,    16.91,2,    16.84,2,     1.13,2