BOTTLE,20220921CCHSIOAMB
EXPOCODE,SECT_ID,STNNBR,CASTNO,SAMPNO,BTLNBR,BTLNBR_FLAG_W,DATE,TIME,LATITUDE,LONGITUDE,DEPTH,CTDPRS,CTDTMP,CTDSAL,CTDSAL_FLAG_W,SALNTY,SALNTY_FLAG_W,OXYGEN,OXYGEN_FLAG_W,SILCAT,SILCAT_FLAG_W,NITRAT,NITRAT_FLAG_W,PHSPHT,PHSPHT_FLAG_W
,,,,,,,,,,,,DBAR,ITS-90,PSS-78,,PSS-78,,UMOL/KG,,UMOL/KG,,UMOL/KG,,UMOL/KG,
     06GA276_2,  AR19,    63,  1,     24, 103909,2,19960520,1953, 47.1067, -26.2733, 2300,      9.6,  13.6871,  35.8813,2,  35.8819,2,    259.5,2,  -999.00,9,  -999.00,9,  -999.00,9
     06GA276_2,  AR19,    63,  1,     23, 103908,2,19960520,1953, 47.1067, -26.2733, 2300,     49.3,  13.5358,  35.8662,2,  35.8658,2,    259.5,2,  -999.00,9,  -999.00,9,  -999.00,9
     06GA276_2,  AR19,    63,  1,     22, 103907,2,19960520,1953, 47.1067, -26.2733, 2300,    119.8,  13.4996,  35.8653,2,  35.8583,3,    255.2,2,  -999.00,9,  -999.00,9,  -999.00,9
     06GA276_2,  AR19,    63,  1,     21, 103906,2,19960520,1953, 47.1067, -26.2733, 2300,    251.1,  12.6542,  35.7172,2,  35.7154,2,    240.3,2,  -999.00,9,  -999.00,9,  -999.00,9
     06GA276_2,  AR19,    63,  1,     20, 103905,2,19960520,1953, 47.1067, -26.2733, 2300,    350.5,  11.9119,  35.5841,2,  35.5812,2,    240.2,2,  -999.00,9,  -999.00,9,  -999.00,9
     06GA276_2,  AR19,    63,  1,     19, 103904,2,19960520,1953, 47.1067, -26.2733, 2300,    399.5,  11.6365,  35.5430,2,  35.5429,2,    242.7,2,  -999.00,9,  -999.00,9,  -999.00,9
     06GA276_2,  AR19,    63,  1,     18, 103903,2,19960520,1953, 47.1067, -26.2733, 2300,    501.1,  10.4543,  35.3520,2,  35.3512,2,    206.0,3,  -999.00,9,  -999.00,9,  -999.00,9
     06GA276_2,  AR19,    63,  1,     17, 103902,2,19960520,1953, 47.1067, -26.2733, 2300,    600.7,   9.3962,  35.2376,2,-999.0000,9,   -999.0,9,  -999.00,9,  -999.00,9,  -999.00,9
     06GA276_2,  AR19,    63,  1,     16, 103901,2,19960520,1953, 47.1067, -26.2733, 2300,    683.4,   8.3302,  35.1440,2,  35.1434,2,    191.7,2,  -999.00,9,  -999.00,9,  -999.00,9
     06GA276_2,  AR19,    63,  1,     15, 105000,2,19960520,1953, 47.1067, -26.2733, 2300,    787.5,   6.9188,  35.0602,2,  35.0755,3,    202.8,2,  -999.00,9,  -999.00,9,  -999.00,9
     06GA276_2,  AR19,    63,  1,     14, 104999,2,19960520,1953, 47.1067, -26.2733, 2300,    858.9,   7.2284,  35.2151,2,  35.2116,2,    205.4,2,  -999.00,9,  -999.00,9,  -999.00,9
     06GA276_2,  AR19,    63,  1,     13, 104998,2,19960520,1953, 47.1067, -26.2733, 2300,    904.1,   6.7348,  35.1844,2,  35.1828,2,    212.0,2,  -999.00,9,  -999.00,9,  -999.00,9
     06GA276_2,  AR19,    63,  1,     12, 104997,2,19960520,1953, 47.1067, -26.2733, 2300,    996.9,   5.3542,  35.0114,2,  35.0207,3,    230.3,2,  -999.00,9,  -999.00,9,  -999.00,9
     06GA276_2,  AR19,    63,  1,     11, 104996,2,19960520,1953, 47.1067, -26.2733, 2300,   1239.0,   4.5418,  34.9862,2,  34.9856,2,    252.7,2,  -999.00,9,  -999.00,9,  -999.00,9
     06GA276_2,  AR19,    63,  1,     10, 104995,2,19960520,1953, 47.1067, -26.2733, 2300,   1301.1,   4.2839,  34.9625,2,  34.9615,2,    258.9,2,  -999.00,9,  -999.00,9,  -999.00,9
     06GA276_2,  AR19,    63,  1,      9, 104994,2,19960520,1953, 47.1067, -26.2733, 2300,   1399.9,   4.0170,  34.9388,2,  34.9413,2,    265.5,2,  -999.00,9,  -999.00,9,  -999.00,9
     06GA276_2,  AR19,    63,  1,      8, 104993,2,19960520,1953, 47.1067, -26.2733, 2300,   1600.3,   3.6278,  34.9065,2,  34.9095,2,    275.8,2,  -999.00,9,  -999.00,9,  -999.00,9
     06GA276_2,  AR19,    63,  1,      7, 104992,2,19960520,1953, 47.1067, -26.2733, 2300,   1800.8,   3.4424,  34.8948,2,  34.8949,2,   -999.0,9,  -999.00,9,  -999.00,9,  -999.00,9
     06GA276_2,  AR19,    63,  1,      6, 104991,2,19960520,1953, 47.1067, -26.2733, 2300,   1900.2,   3.3486,  34.8924,2,  34.8924,2,    282.0,2,  -999.00,9,  -999.00,9,  -999.00,9
     06GA276_2,  AR19,    63,  1,      5, 104990,2,19960520,1953, 47.1067, -26.2733, 2300,   2097.2,   3.3197,  34.9093,2,  34.9090,2,    277.9,2,  -999.00,9,  -999.00,9,  -999.00,9
     06GA276_2,  AR19,    63,  1,      4, 104989,2,19960520,1953, 47.1067, -26.2733, 2300,   2202.3,   3.2968,  34.9133,2,  34.9142,2,    276.9,2,  -999.00,9,  -999.00,9,  -999.00,9
     06GA276_2,  AR19,    63,  1,      3, 104988,2,19960520,1953, 47.1067, -26.2733, 2300,   2351.8,   3.2701,  34.9230,2,  34.9223,2,    273.8,2,  -999.00,9,  -999.00,9,  -999.00,9
     06GA276_2,  AR19,    63,  1,      2, 104987,2,19960520,1953, 47.1067, -26.2733, 2300,   2427.7,   3.2524,  34.9258,2,  34.9276,2,    273.1,2,  -999.00,9,  -999.00,9,  -999.00,9
     06GA276_2,  AR19,    63,  1,      1, 104986,2,19960520,1953, 47.1067, -26.2733, 2300,   2448.2,   3.2452,  34.9261,2,  34.9270,2,    272.5,2,  -999.00,9,  -999.00,9,  -999.00,9
     06GA276_2,  AR19,    65,  1,     24, 103933,2,19960521,0930, 47.0050, -26.5950, 2728,     10.2,  13.5618,  35.8652,2,  35.8649,2,    258.7,2,     2.11,2,     5.96,2,     0.40,2
     06GA276_2,  AR19,    65,  1,     23, 103932,2,19960521,0930, 47.0050, -26.5950, 2728,     50.0,  13.5632,  35.8655,2,  35.8645,2,    259.0,2,     2.08,2,     5.96,2,     0.38,2
     06GA276_2,  AR19,    65,  1,     22, 103931,2,19960521,0930, 47.0050, -26.5950, 2728,    150.4,  13.2188,  35.8131,2,  35.8131,2,    246.5,2,     2.64,2,     8.00,2,     0.51,2
     06GA276_2,  AR19,    65,  1,     21, 103930,2,19960521,0930, 47.0050, -26.5950, 2728,    251.4,  12.8273,  35.7460,2,  35.7493,2,    242.6,2,     3.08,2,     8.87,2,     0.49,2
     06GA276_2,  AR19,    65,  1,     20, 103929,2,19960521,0930, 47.0050, -26.5950, 2728,    352.3,  12.3670,  35.6592,2,  35.6810,3,    246.4,2,     3.37,2,     9.80,2,     0.63,2
     06GA276_2,  AR19,    65,  1,     19, 103928,2,19960521,0930, 47.0050, -26.5950, 2728,    502.6,  10.8997,  35.4200,2,  35.4280,3,    218.3,2,     5.71,2,    14.22,2,     0.93,2
     06GA276_2,  AR19,    65,  1,     18, 103927,2,19960521,0930, 47.0050, -26.5950, 2728,    703.3,   8.2898,  35.1275,2,  35.1558,3,    191.7,2,     9.85,2,    19.80,2,     1.24,2
     06GA276_2,  AR19,    65,  1,     17, 103926,2,19960521,0930, 47.0050, -26.5950, 2728,    847.0,   6.1182,  34.9669,2,  34.9656,2,   -999.0,9,    11.32,2,    20.29,2,     1.30,2
     06GA276_2,  AR19,    65,  1,     16, 103925,2,19960521,0930, 47.0050, -26.5950, 2728,    903.3,   5.9764,  35.0169,2,  35.0174,2,    217.5,2,    11.33,2,    20.07,2,     1.27,2
     06GA276_2,  AR19,    65,  1,     15, 103924,2,19960521,0930, 47.0050, -26.5950, 2728,   1101.1,   5.1940,  35.0653,2,  35.0661,2,    241.1,2,    11.21,2,    19.24,2,     1.24,2
     06GA276_2,  AR19,    65,  1,     14, 103923,2,19960521,0930, 47.0050, -26.5950, 2728,   1198.1,   4.5923,  34.9918,2,  34.9979,3,    251.9,2,    11.14,2,    19.15,2,     1.18,2
     06GA276_2,  AR19,    65,  1,     13, 103922,2,19960521,0930, 47.0050, -26.5950, 2728,   1400.5,   4.0062,  34.9440,2,  34.9440,2,    266.6,2,    11.11,2,    18.56,2,     1.17,2
     06GA276_2,  AR19,    65,  1,     12, 103921,2,19960521,0930, 47.0050, -26.5950, 2728,   1600.1,   3.7189,  34.9215,2,  34.9227,2,    271.8,2,    11.35,2,    18.47,2,     1.16,2
     06GA276_2,  AR19,    65,  1,     11, 103920,2,19960521,0930, 47.0050, -26.5950, 2728,   1799.5,   3.5435,  34.9125,2,  34.9124,2,    275.1,2,    11.99,2,    18.25,2,     1.14,2
     06GA276_2,  AR19,    65,  1,     10, 103919,2,19960521,0930, 47.0050, -26.5950, 2728,   1997.5,   3.4384,  34.9106,2,  34.9332,3,    276.4,2,    12.21,2,    18.14,2,     1.13,2
     06GA276_2,  AR19,    65,  1,      9, 103918,2,19960521,0930, 47.0050, -26.5950, 2728,   2100.3,   3.4096,  34.9134,2,  34.9128,2,    275.8,2,    12.96,2,    18.13,2,     1.16,2
     06GA276_2,  AR19,    65,  1,      8, 103917,2,19960521,0930, 47.0050, -26.5950, 2728,   2201.5,   3.3768,  34.9147,2,  34.9140,2,    275.9,2,    13.00,2,    18.13,2,     1.14,2
     06GA276_2,  AR19,    65,  1,      7, 103916,2,19960521,0930, 47.0050, -26.5950, 2728,   2297.8,   3.3391,  34.9176,2,  34.9177,2,    274.7,2,    13.39,2,    18.12,2,     1.17,2
     06GA276_2,  AR19,    65,  1,      6, 103915,2,19960521,0930, 47.0050, -26.5950, 2728,   2402.4,   3.3221,  34.9213,2,  34.9203,2,    273.6,2,    14.11,2,    18.13,2,     1.14,2
     06GA276_2,  AR19,    65,  1,      5, 103914,2,19960521,0930, 47.0050, -26.5950, 2728,   2501.8,   3.2515,  34.9279,2,  34.9276,2,    271.2,2,    15.92,2,    18.26,2,     1.18,2
     06GA276_2,  AR19,    65,  1,      4, 103913,2,19960521,0930, 47.0050, -26.5950, 2728,   2603.2,   3.1976,  34.9331,2,  34.9344,2,    270.7,2,    17.14,2,    18.32,2,     1.17,2
     06GA276_2,  AR19,    65,  1,      3, 103912,2,19960521,0930, 47.0050, -26.5950, 2728,   2651.9,   3.1641,  34.9359,2,  34.9360,2,    268.4,3,    17.63,2,    18.48,2,     1.17,2
     06GA276_2,  AR19,    65,  1,      2, 103911,2,19960521,0930, 47.0050, -26.5950, 2728,   2724.8,   3.1564,  34.9369,2,  34.9374,2,    269.5,2,    18.15,2,    18.52,2,     1.21,2
     06GA276_2,  AR19,    65,  1,      1, 103910,2,19960521,0930, 47.0050, -26.5950, 2728,   2755.7,   3.1563,  34.9373,2,  34.9374,2,    268.3,2,    18.26,2,    18.59,2,     1.18,2
     06GA276_2,  AR19,    67,  1,     24, 103957,2,19960521,1412, 46.9867, -27.0000, 2128,     19.2,  13.4545,  35.8497,2,  35.8496,2,    307.2,3,  -999.00,9,  -999.00,9,  -999.00,9
     06GA276_2,  AR19,    67,  1,     23, 103956,2,19960521,1412, 46.9867, -27.0000, 2128,     49.9,  13.4262,  35.8491,2,  35.8504,2,    261.2,2,  -999.00,9,  -999.00,9,  -999.00,9
     06GA276_2,  AR19,    67,  1,     22, 103955,2,19960521,1412, 46.9867, -27.0000, 2128,     80.0,  13.4140,  35.8491,2,  35.8546,2,    259.5,2,  -999.00,9,  -999.00,9,  -999.00,9
     06GA276_2,  AR19,    67,  1,     21, 103954,2,19960521,1412, 46.9867, -27.0000, 2128,    109.1,  13.4052,  35.8511,2,  35.8520,2,    254.6,2,  -999.00,9,  -999.00,9,  -999.00,9
     06GA276_2,  AR19,    67,  1,     20, 103953,2,19960521,1412, 46.9867, -27.0000, 2128,    186.4,  13.0599,  35.7970,2,-999.0000,9,    253.5,2,  -999.00,9,  -999.00,9,  -999.00,9
     06GA276_2,  AR19,    67,  1,     19, 103952,2,19960521,1412, 46.9867, -27.0000, 2128,    251.9,  12.8679,  35.7576,2,  35.7609,2,    247.7,2,  -999.00,9,  -999.00,9,  -999.00,9
     06GA276_2,  AR19,    67,  1,     18, 103951,2,19960521,1412, 46.9867, -27.0000, 2128,    352.5,  12.5774,  35.6960,2,  35.6960,2,    244.3,2,  -999.00,9,  -999.00,9,  -999.00,9
     06GA276_2,  AR19,    67,  1,     17, 103950,2,19960521,1412, 46.9867, -27.0000, 2128,    400.0,  12.4047,  35.6633,2,  35.6705,3,    242.6,2,  -999.00,9,  -999.00,9,  -999.00,9
     06GA276_2,  AR19,    67,  1,     16, 103949,2,19960521,1412, 46.9867, -27.0000, 2128,    500.5,  11.6637,  35.5445,2,  35.5400,2,    243.0,2,  -999.00,9,  -999.00,9,  -999.00,9
     06GA276_2,  AR19,    67,  1,     15, 103948,2,19960521,1412, 46.9867, -27.0000, 2128,    650.7,   9.4586,  35.2355,2,  35.2268,3,    194.4,3,  -999.00,9,  -999.00,9,  -999.00,9
     06GA276_2,  AR19,    67,  1,     14, 103947,2,19960521,1412, 46.9867, -27.0000, 2128,    800.7,   7.6853,  35.1346,2,-999.0000,9,    197.6,2,  -999.00,9,  -999.00,9,  -999.00,9
     06GA276_2,  AR19,    67,  1,     13, 103946,2,19960521,1412, 46.9867, -27.0000, 2128,    901.3,   5.9622,  34.9587,2,-999.0000,9,    216.5,2,  -999.00,9,  -999.00,9,  -999.00,9
     06GA276_2,  AR19,    67,  1,     12, 103945,2,19960521,1412, 46.9867, -27.0000, 2128,   1028.3,   5.4553,  35.0304,2,  35.0332,2,    230.5,2,  -999.00,9,  -999.00,9,  -999.00,9
     06GA276_2,  AR19,    67,  1,     11, 103944,2,19960521,1412, 46.9867, -27.0000, 2128,   1101.4,   4.9599,  34.9955,2,  34.9947,2,    241.8,2,  -999.00,9,  -999.00,9,  -999.00,9
     06GA276_2,  AR19,    67,  1,     10, 103943,2,19960521,1412, 46.9867, -27.0000, 2128,   1200.9,   4.5755,  34.9782,2,  34.9785,2,    252.1,2,  -999.00,9,  -999.00,9,  -999.00,9
     06GA276_2,  AR19,    67,  1,      9, 103942,2,19960521,1412, 46.9867, -27.0000, 2128,   1338.2,   4.2727,  34.9625,2,  34.9618,2,    260.1,2,  -999.00,9,  -999.00,9,  -999.00,9
     06GA276_2,  AR19,    67,  1,      8, 103941,2,19960521,1412, 46.9867, -27.0000, 2128,   1405.4,   4.0640,  34.9423,2,  34.9432,2,    265.4,2,  -999.00,9,  -999.00,9,  -999.00,9
     06GA276_2,  AR19,    67,  1,      7, 103940,2,19960521,1412, 46.9867, -27.0000, 2128,   1507.7,   3.7820,  34.9229,2,  34.9227,2,    272.9,2,  -999.00,9,  -999.00,9,  -999.00,9
     06GA276_2,  AR19,    67,  1,      6, 103939,2,19960521,1412, 46.9867, -27.0000, 2128,   1599.6,   3.7462,  34.9208,2,  34.9267,3,    272.9,2,  -999.00,9,  -999.00,9,  -999.00,9
     06GA276_2,  AR19,    67,  1,      5, 103938,2,19960521,1412, 46.9867, -27.0000, 2128,   1700.1,   3.6946,  34.9215,2,-999.0000,9,    273.5,2,  -999.00,9,  -999.00,9,  -999.00,9
     06GA276_2,  AR19,    67,  1,      4, 103937,2,19960521,1412, 46.9867, -27.0000, 2128,   1820.4,   3.5997,  34.9219,2,  34.9276,3,    273.1,2,  -999.00,9,  -999.00,9,  -999.00,9
     06GA276_2,  AR19,    67,  1,      3, 103936,2,19960521,1412, 46.9867, -27.0000, 2128,   1999.8,   3.4942,  34.9201,2,  34.9203,2,    274.3,2,  -999.00,9,  -999.00,9,  -999.00,9
     06GA276_2,  AR19,    67,  1,      2, 103935,2,19960521,1412, 46.9867, -27.0000, 2128,   2130.4,   3.4306,  34.9212,2,  34.9200,2,    275.5,2,  -999.00,9,  -999.00,9,  -999.00,9
     06GA276_2,  AR19,    67,  1,      1, 103934,2,19960521,1412, 46.9867, -27.0000, 2128,   2167.9,   3.3994,  34.9215,2,  34.9248,2,    273.1,2,  -999.00,9,  -999.00,9,  -999.00,9
     06GA276_2,  AR19,    69,  1,     24, 103981,2,19960521,1951, 46.9117, -27.3050, 3450,     10.0,  13.5356,  35.8433,2,  35.8420,2,    260.1,2,     2.23,2,     5.04,2,     0.35,2
     06GA276_2,  AR19,    69,  1,     23, 103980,2,19960521,1951, 46.9117, -27.3050, 3450,     74.5,  13.4856,  35.8435,2,  35.8453,2,    258.6,2,     2.43,2,     5.21,2,     0.34,2
     06GA276_2,  AR19,    69,  1,     22, 103979,2,19960521,1951, 46.9117, -27.3050, 3450,    150.3,  13.2112,  35.8070,2,  35.8081,2,    251.3,2,     2.63,2,     6.37,2,     0.42,2
     06GA276_2,  AR19,    69,  1,     21, 103978,2,19960521,1951, 46.9117, -27.3050, 3450,    250.4,  12.6685,  35.7198,2,  35.7166,2,    244.6,2,     3.24,2,     8.57,2,     0.55,2
     06GA276_2,  AR19,    69,  1,     20, 103977,2,19960521,1951, 46.9117, -27.3050, 3450,    500.2,  11.1345,  35.4697,2,  35.4696,2,    216.9,2,     5.51,2,    13.22,2,     0.81,2
     06GA276_2,  AR19,    69,  1,     19, 103976,2,19960521,1951, 46.9117, -27.3050, 3450,    699.7,   9.0050,  35.1792,2,  35.1774,2,    191.1,2,     9.62,2,    18.15,2,     1.15,2
     06GA276_2,  AR19,    69,  1,     18, 103975,2,19960521,1951, 46.9117, -27.3050, 3450,    802.1,   7.5912,  35.0685,2,  35.0676,2,    193.7,2,    11.12,2,    19.38,2,     1.27,2
     06GA276_2,  AR19,    69,  1,     17, 103974,2,19960521,1951, 46.9117, -27.3050, 3450,    950.6,   6.2872,  35.0668,2,  35.0653,2,    212.5,2,    11.42,2,    18.75,2,     1.25,2
     06GA276_2,  AR19,    69,  1,     16, 103973,2,19960521,1951, 46.9117, -27.3050, 3450,   1150.7,   4.8968,  34.9985,2,  34.9979,2,    242.0,2,    11.14,2,    18.15,2,     1.19,2
     06GA276_2,  AR19,    69,  1,     15, 103972,2,19960521,1951, 46.9117, -27.3050, 3450,   1349.8,   4.2754,  34.9596,2,  34.9598,2,    258.3,2,    10.84,2,    17.57,2,     1.16,2
     06GA276_2,  AR19,    69,  1,     14, 103971,2,19960521,1951, 46.9117, -27.3050, 3450,   1500.0,   3.9456,  34.9353,2,  34.9350,2,    267.6,2,    10.73,2,    17.22,2,     1.17,2
     06GA276_2,  AR19,    69,  1,     13, 103970,2,19960521,1951, 46.9117, -27.3050, 3450,   1700.4,   3.6073,  34.9086,2,  34.9215,3,    272.0,2,    13.52,2,    17.12,2,     1.13,2
     06GA276_2,  AR19,    69,  1,     12, 103969,2,19960521,1951, 46.9117, -27.3050, 3450,   1800.9,   3.5441,  34.9081,2,  34.9084,2,    275.6,3,    11.19,3,    16.83,3,     1.13,2
     06GA276_2,  AR19,    69,  1,     11, 103968,2,19960521,1951, 46.9117, -27.3050, 3450,   1900.5,   3.5074,  34.9107,2,  34.9212,3,    272.5,2,    13.93,2,    17.04,2,     1.14,2
     06GA276_2,  AR19,    69,  1,     10, 103967,2,19960521,1951, 46.9117, -27.3050, 3450,   2099.1,   3.4272,  34.9149,2,  34.9151,2,    274.1,3,    12.56,3,    16.88,3,     1.13,2
     06GA276_2,  AR19,    69,  1,      9, 103966,2,19960521,1951, 46.9117, -27.3050, 3450,   2201.0,   3.4055,  34.9253,2,  34.9263,2,    270.7,2,    14.07,2,    16.96,2,     1.13,2
     06GA276_2,  AR19,    69,  1,      8, 103965,2,19960521,1951, 46.9117, -27.3050, 3450,   2403.0,   3.3547,  34.9274,2,  34.9267,2,    270.4,2,    14.70,2,    16.99,2,     1.20,3
     06GA276_2,  AR19,    69,  1,      7, 103964,2,19960521,1951, 46.9117, -27.3050, 3450,   2602.3,   3.2416,  34.9322,2,-999.0000,9,   -999.0,9,  -999.00,9,  -999.00,9,  -999.00,9
     06GA276_2,  AR19,    69,  1,      6, 103963,2,19960521,1951, 46.9117, -27.3050, 3450,   2702.7,   3.2054,  34.9343,2,  34.9339,2,    268.4,2,    16.65,2,    17.06,2,     1.14,2
     06GA276_2,  AR19,    69,  1,      5, 103962,2,19960521,1951, 46.9117, -27.3050, 3450,   3002.4,   3.1387,  34.9377,2,  34.9376,2,    267.3,2,    17.67,2,    17.08,2,     1.17,2
     06GA276_2,  AR19,    69,  1,      4, 103961,2,19960521,1951, 46.9117, -27.3050, 3450,   3204.6,   3.1414,  34.9388,2,  34.9384,2,    267.3,2,    18.13,2,    17.01,2,     1.16,2
     06GA276_2,  AR19,    69,  1,      3, 103960,2,19960521,1951, 46.9117, -27.3050, 3450,   3403.8,   3.1557,  34.9384,2,  34.9389,2,    258.6,4,    18.38,2,    17.24,2,     1.20,2
     06GA276_2,  AR19,    69,  1,      2, 103959,2,19960521,1951, 46.9117, -27.3050, 3450,   3511.9,   3.1683,  34.9381,2,  34.9382,2,    267.4,2,    18.55,2,    17.18,2,     1.20,2
     06GA276_2,  AR19,    69,  1,      1, 103958,2,19960521,1951, 46.9117, -27.3050, 3450,   3534.4,   3.1707,  34.9381,2,  34.9382,2,    267.0,2,    18.38,2,    17.08,2,     1.20,2