BOTTLE,20220921CCHSIOAMB
EXPOCODE,SECT_ID,STNNBR,CASTNO,SAMPNO,BTLNBR,BTLNBR_FLAG_W,DATE,TIME,LATITUDE,LONGITUDE,DEPTH,CTDPRS,CTDTMP,CTDSAL,CTDSAL_FLAG_W,SALNTY,SALNTY_FLAG_W,OXYGEN,OXYGEN_FLAG_W,SILCAT,SILCAT_FLAG_W,NITRAT,NITRAT_FLAG_W,PHSPHT,PHSPHT_FLAG_W
,,,,,,,,,,,,DBAR,ITS-90,PSS-78,,PSS-78,,UMOL/KG,,UMOL/KG,,UMOL/KG,,UMOL/KG,
     06GA276_2,  AR19,   111,  1,     24, 104485,2,19960527,1436, 44.0000, -38.0000, 4281,     19.6,  16.3863,  36.1787,2,  36.1865,2,    247.0,2,  -999.00,9,     1.85,2,     0.18,2
     06GA276_2,  AR19,   111,  1,     23, 104484,2,19960527,1436, 44.0000, -38.0000, 4281,     50.8,  15.8223,  36.1592,2,  36.1716,3,    235.5,2,     1.00,2,     4.38,2,     0.31,2
     06GA276_2,  AR19,   111,  1,     22, 104483,2,19960527,1436, 44.0000, -38.0000, 4281,    103.0,  15.5520,  36.1568,2,  36.1520,2,    240.9,2,     0.74,2,     4.53,2,     0.32,2
     06GA276_2,  AR19,   111,  1,     21, 104482,2,19960527,1436, 44.0000, -38.0000, 4281,    247.9,  14.1951,  35.9007,2,  35.9015,2,    223.2,2,     2.93,2,     8.22,2,     0.53,2
     06GA276_2,  AR19,   111,  1,     20, 104481,2,19960527,1436, 44.0000, -38.0000, 4281,    501.8,  10.9700,  35.3801,2,  35.3842,2,    178.1,2,     8.51,2,    17.31,2,     1.10,2
     06GA276_2,  AR19,   111,  1,     19, 104480,2,19960527,1436, 44.0000, -38.0000, 4281,    753.4,   7.1734,  35.0976,2,  35.1004,2,    192.3,2,    12.35,2,    20.54,2,     1.31,2
     06GA276_2,  AR19,   111,  1,     18, 104479,2,19960527,1436, 44.0000, -38.0000, 4281,   1051.6,   5.6659,  35.1329,2,  35.1329,2,    231.4,2,    11.27,2,    18.43,2,     1.20,2
     06GA276_2,  AR19,   111,  1,     17, 104478,2,19960527,1436, 44.0000, -38.0000, 4281,   1295.6,   4.4565,  35.0026,2,  35.0026,2,    256.2,2,    11.05,2,    17.84,2,     1.23,2
     06GA276_2,  AR19,   111,  1,     16, 104477,2,19960527,1436, 44.0000, -38.0000, 4281,   1599.6,   3.8899,  34.9464,2,  34.9470,2,    269.2,2,    11.06,2,    17.35,2,     1.19,2
     06GA276_2,  AR19,   111,  1,     15, 104476,2,19960527,1436, 44.0000, -38.0000, 4281,   1801.9,   3.5916,  34.9196,2,  34.9225,2,    275.4,2,    11.01,2,    17.09,2,     1.15,2
     06GA276_2,  AR19,   111,  1,     14, 104475,2,19960527,1436, 44.0000, -38.0000, 4281,   2000.7,   3.4399,  34.9055,2,  34.9072,2,    278.4,2,    11.03,2,    16.97,2,     1.16,2
     06GA276_2,  AR19,   111,  1,     13, 104474,2,19960527,1436, 44.0000, -38.0000, 4281,   2201.2,   3.3955,  34.9180,2,  34.9188,2,    277.2,2,    11.89,2,    17.09,2,     1.15,2
     06GA276_2,  AR19,   111,  1,     12, 104473,2,19960527,1436, 44.0000, -38.0000, 4281,   2451.6,   3.3667,  34.9404,2,  34.9410,2,    271.5,2,    13.86,2,    17.24,2,     1.19,2
     06GA276_2,  AR19,   111,  1,     11, 104472,2,19960527,1436, 44.0000, -38.0000, 4281,   2603.2,   3.2705,  34.9412,2,  34.9413,2,    270.2,2,    14.60,2,    17.26,2,     1.20,2
     06GA276_2,  AR19,   111,  1,     10, 104471,2,19960527,1436, 44.0000, -38.0000, 4281,   2801.2,   3.1205,  34.9349,2,  34.9333,2,    273.6,2,    14.55,2,    16.98,2,     1.19,2
     06GA276_2,  AR19,   111,  1,      9, 104470,2,19960527,1436, 44.0000, -38.0000, 4281,   2983.9,   2.9960,  34.9315,2,  34.9329,2,    273.2,2,    15.36,2,    17.03,2,     1.17,2
     06GA276_2,  AR19,   111,  1,      8, 104469,2,19960527,1436, 44.0000, -38.0000, 4281,   3202.5,   2.7947,  34.9257,2,  34.9249,2,    275.1,2,    15.82,2,    16.73,2,     1.19,2
     06GA276_2,  AR19,   111,  1,      7, 104468,2,19960527,1436, 44.0000, -38.0000, 4281,   3401.7,   2.6477,  34.9225,2,  34.9227,2,    272.7,2,    18.61,3,    17.09,3,     1.21,3
     06GA276_2,  AR19,   111,  1,      6, 104467,2,19960527,1436, 44.0000, -38.0000, 4281,   3603.4,   2.4847,  34.9128,2,  34.9119,2,    277.9,2,    17.77,2,    16.69,2,     1.20,2
     06GA276_2,  AR19,   111,  1,      5, 104466,2,19960527,1436, 44.0000, -38.0000, 4281,   3803.6,   2.3868,  34.9072,2,  34.9075,2,    277.5,2,    18.46,2,    16.56,2,     1.17,2
     06GA276_2,  AR19,   111,  1,      4, 104465,2,19960527,1436, 44.0000, -38.0000, 4281,   4002.8,   2.3221,  34.9030,2,  34.9025,2,    278.7,2,    18.79,2,    16.56,2,     1.17,2
     06GA276_2,  AR19,   111,  1,      3, 104464,3,19960527,1436, 44.0000, -38.0000, 4281,   4236.9,   2.2842,  34.8995,2,  34.8994,2,    278.7,2,    19.12,2,    16.57,2,     1.20,2
     06GA276_2,  AR19,   111,  1,      2, 104463,2,19960527,1436, 44.0000, -38.0000, 4281,   4344.2,   2.2540,  34.8975,2,  34.8967,2,    282.2,2,    17.27,2,    16.15,2,     1.15,2
     06GA276_2,  AR19,   111,  1,      1, 104462,2,19960527,1436, 44.0000, -38.0000, 4281,   4377.0,   2.2569,  34.8967,2,  34.8972,2,    280.5,2,    17.25,2,    16.11,2,     1.11,2
     06GA276_2,  AR19,   113,  1,     24, 104509,2,19960527,2203, 43.8317, -38.6300, 3510,     21.7,  15.7895,  36.1201,2,  36.1189,2,    246.1,2,  -999.00,9,  -999.00,9,  -999.00,9
     06GA276_2,  AR19,   113,  1,     23, 104508,2,19960527,2203, 43.8317, -38.6300, 3510,     74.2,  15.1473,  36.0379,2,  36.0257,3,    236.3,2,  -999.00,9,  -999.00,9,  -999.00,9
     06GA276_2,  AR19,   113,  1,     22, 104507,2,19960527,2203, 43.8317, -38.6300, 3510,    149.4,  14.4692,  35.9162,2,  35.9181,2,    230.9,2,  -999.00,9,  -999.00,9,  -999.00,9
     06GA276_2,  AR19,   113,  1,     21, 104506,2,19960527,2203, 43.8317, -38.6300, 3510,    350.1,  13.3852,  35.8198,2,  35.8082,3,    232.5,2,  -999.00,9,  -999.00,9,  -999.00,9
     06GA276_2,  AR19,   113,  1,     20, 104505,2,19960527,2203, 43.8317, -38.6300, 3510,    550.3,  10.0447,  35.3082,2,  35.3054,2,    173.3,2,  -999.00,9,  -999.00,9,  -999.00,9
     06GA276_2,  AR19,   113,  1,     19, 104504,2,19960527,2203, 43.8317, -38.6300, 3510,    700.2,   7.5758,  35.0896,2,  35.0894,2,    182.6,2,  -999.00,9,  -999.00,9,  -999.00,9
     06GA276_2,  AR19,   113,  1,     18, 104503,2,19960527,2203, 43.8317, -38.6300, 3510,    901.8,   5.7185,  35.0520,2,  35.0512,2,    221.4,2,  -999.00,9,  -999.00,9,  -999.00,9
     06GA276_2,  AR19,   113,  1,     17, 104502,2,19960527,2203, 43.8317, -38.6300, 3510,   1151.2,   4.7815,  35.0353,2,  35.0367,2,    248.3,2,  -999.00,9,  -999.00,9,  -999.00,9
     06GA276_2,  AR19,   113,  1,     16, 104501,2,19960527,2203, 43.8317, -38.6300, 3510,   1298.6,   4.3201,  34.9802,2,  34.9802,2,    258.7,2,  -999.00,9,  -999.00,9,  -999.00,9
     06GA276_2,  AR19,   113,  1,     15, 104500,2,19960527,2203, 43.8317, -38.6300, 3510,   1399.3,   4.2072,  34.9810,2,  34.9806,2,    261.0,2,  -999.00,9,  -999.00,9,  -999.00,9
     06GA276_2,  AR19,   113,  1,     14, 104499,2,19960527,2203, 43.8317, -38.6300, 3510,   1599.3,   3.7223,  34.9267,2,  34.9271,2,    272.1,2,  -999.00,9,  -999.00,9,  -999.00,9
     06GA276_2,  AR19,   113,  1,     13, 104498,2,19960527,2203, 43.8317, -38.6300, 3510,   1799.4,   3.5733,  34.9199,2,  34.9197,2,    275.6,2,  -999.00,9,  -999.00,9,  -999.00,9
     06GA276_2,  AR19,   113,  1,     12, 104497,2,19960527,2203, 43.8317, -38.6300, 3510,   2099.9,   3.3700,  34.9090,2,  34.9123,2,    279.4,3,  -999.00,9,  -999.00,9,  -999.00,9
     06GA276_2,  AR19,   113,  1,     11, 104496,2,19960527,2203, 43.8317, -38.6300, 3510,   2233.3,   3.3612,  34.9207,2,  34.9210,2,    275.2,2,  -999.00,9,  -999.00,9,  -999.00,9
     06GA276_2,  AR19,   113,  1,     10, 104495,2,19960527,2203, 43.8317, -38.6300, 3510,   2312.2,   3.1678,  34.8923,2,  34.8932,2,    284.0,2,  -999.00,9,  -999.00,9,  -999.00,9
     06GA276_2,  AR19,   113,  1,      9, 104494,2,19960527,2203, 43.8317, -38.6300, 3510,   2400.9,   3.2731,  34.9185,2,  34.9195,2,    275.6,2,  -999.00,9,  -999.00,9,  -999.00,9
     06GA276_2,  AR19,   113,  1,      8, 104493,2,19960527,2203, 43.8317, -38.6300, 3510,   2601.8,   3.2065,  34.9351,2,  34.9362,2,    271.2,2,  -999.00,9,  -999.00,9,  -999.00,9
     06GA276_2,  AR19,   113,  1,      7, 104492,2,19960527,2203, 43.8317, -38.6300, 3510,   2800.9,   3.0332,  34.9303,2,  34.9301,2,    273.5,2,  -999.00,9,  -999.00,9,  -999.00,9
     06GA276_2,  AR19,   113,  1,      6, 104491,2,19960527,2203, 43.8317, -38.6300, 3510,   2947.3,   2.9785,  34.9320,2,-999.0000,9,   -999.0,9,  -999.00,9,  -999.00,9,  -999.00,9
     06GA276_2,  AR19,   113,  1,      5, 104490,2,19960527,2203, 43.8317, -38.6300, 3510,   3104.7,   2.8338,  34.9306,2,  34.9294,2,    271.0,3,  -999.00,9,  -999.00,9,  -999.00,9
     06GA276_2,  AR19,   113,  1,      4, 104489,2,19960527,2203, 43.8317, -38.6300, 3510,   3253.1,   2.7283,  34.9261,2,  34.9246,2,    272.0,2,  -999.00,9,  -999.00,9,  -999.00,9
     06GA276_2,  AR19,   113,  1,      3, 104488,2,19960527,2203, 43.8317, -38.6300, 3510,   3402.3,   2.5222,  34.9157,2,  34.9154,2,    275.4,2,  -999.00,9,  -999.00,9,  -999.00,9
     06GA276_2,  AR19,   113,  1,      2, 104487,2,19960527,2203, 43.8317, -38.6300, 3510,   3553.2,   2.4142,  34.9093,2,  34.9094,2,    275.9,2,  -999.00,9,  -999.00,9,  -999.00,9
     06GA276_2,  AR19,   113,  1,      1, 104486,2,19960527,2203, 43.8317, -38.6300, 3510,   3585.4,   2.3804,  34.9076,2,  34.9068,2,    274.8,2,  -999.00,9,  -999.00,9,  -999.00,9
     06GA276_2,  AR19,   115,  1,     24, 104533,2,19960528,0530, 43.6550, -39.3117, 4624,     10.7,  14.9654,  35.9660,2,  35.9664,2,    257.0,2,  -999.00,9,  -999.00,9,  -999.00,9
     06GA276_2,  AR19,   115,  1,     23, 104532,2,19960528,0530, 43.6550, -39.3117, 4624,     50.9,  14.8383,  35.9692,2,  35.9713,2,    254.8,2,  -999.00,9,  -999.00,9,  -999.00,9
     06GA276_2,  AR19,   115,  1,     22, 104531,2,19960528,0530, 43.6550, -39.3117, 4624,    102.0,  14.4475,  35.9783,2,  35.9787,2,    246.8,2,  -999.00,9,  -999.00,9,  -999.00,9
     06GA276_2,  AR19,   115,  1,     21, 104530,2,19960528,0530, 43.6550, -39.3117, 4624,    250.8,  13.5005,  35.8369,2,  35.8275,3,    232.7,2,  -999.00,9,  -999.00,9,  -999.00,9
     06GA276_2,  AR19,   115,  1,     20, 104529,2,19960528,0530, 43.6550, -39.3117, 4624,    500.6,  10.2875,  35.3298,2,  35.3233,3,    169.9,4,  -999.00,9,  -999.00,9,  -999.00,9
     06GA276_2,  AR19,   115,  1,     19, 104528,2,19960528,0530, 43.6550, -39.3117, 4624,    751.3,   6.9029,  35.0693,2,-999.0000,9,    194.5,2,  -999.00,9,  -999.00,9,  -999.00,9
     06GA276_2,  AR19,   115,  1,     18, 104527,2,19960528,0530, 43.6550, -39.3117, 4624,   1000.9,   5.3328,  35.0603,2,  35.0587,2,    233.4,2,  -999.00,9,  -999.00,9,  -999.00,9
     06GA276_2,  AR19,   115,  1,     17, 104526,2,19960528,0530, 43.6550, -39.3117, 4624,   1202.5,   4.5802,  35.0108,2,  35.0111,2,    252.5,2,  -999.00,9,  -999.00,9,  -999.00,9
     06GA276_2,  AR19,   115,  1,     16, 104525,2,19960528,0530, 43.6550, -39.3117, 4624,   1402.2,   4.1043,  34.9670,2,  34.9669,2,    263.6,2,  -999.00,9,  -999.00,9,  -999.00,9
     06GA276_2,  AR19,   115,  1,     15, 104524,2,19960528,0530, 43.6550, -39.3117, 4624,   1602.3,   3.7546,  34.9331,2,  34.9519,3,    271.4,2,  -999.00,9,  -999.00,9,  -999.00,9
     06GA276_2,  AR19,   115,  1,     14, 104523,2,19960528,0530, 43.6550, -39.3117, 4624,   1800.6,   3.5682,  34.9188,2,  34.9189,2,    275.7,2,  -999.00,9,  -999.00,9,  -999.00,9
     06GA276_2,  AR19,   115,  1,     13, 104522,2,19960528,0530, 43.6550, -39.3117, 4624,   2001.0,   3.4172,  34.9090,2,  34.9102,2,    278.4,2,  -999.00,9,  -999.00,9,  -999.00,9
     06GA276_2,  AR19,   115,  1,     12, 104521,2,19960528,0530, 43.6550, -39.3117, 4624,   2202.1,   3.2821,  34.9029,2,  34.9028,2,    281.1,2,  -999.00,9,  -999.00,9,  -999.00,9
     06GA276_2,  AR19,   115,  1,     11, 104520,2,19960528,0530, 43.6550, -39.3117, 4624,   2399.8,   3.2498,  34.9133,2,  34.9153,2,    278.1,2,  -999.00,9,  -999.00,9,  -999.00,9
     06GA276_2,  AR19,   115,  1,     10, 104519,2,19960528,0530, 43.6550, -39.3117, 4624,   2602.0,   3.2041,  34.9288,2,  34.9288,2,    273.8,2,  -999.00,9,  -999.00,9,  -999.00,9
     06GA276_2,  AR19,   115,  1,      9, 104518,2,19960528,0530, 43.6550, -39.3117, 4624,   2802.8,   3.0816,  34.9341,2,  34.9346,2,    272.4,2,  -999.00,9,  -999.00,9,  -999.00,9
     06GA276_2,  AR19,   115,  1,      8, 104517,2,19960528,0530, 43.6550, -39.3117, 4624,   3002.6,   2.9430,  34.9310,2,  34.9325,2,    272.2,2,  -999.00,9,  -999.00,9,  -999.00,9
     06GA276_2,  AR19,   115,  1,      7, 104516,2,19960528,0530, 43.6550, -39.3117, 4624,   3254.3,   2.7590,  34.9287,2,  34.9270,2,    271.0,2,  -999.00,9,  -999.00,9,  -999.00,9
     06GA276_2,  AR19,   115,  1,      6, 104515,2,19960528,0530, 43.6550, -39.3117, 4624,   3502.8,   2.5453,  34.9187,2,  34.9177,2,    271.8,2,  -999.00,9,  -999.00,9,  -999.00,9
     06GA276_2,  AR19,   115,  1,      5, 104514,2,19960528,0530, 43.6550, -39.3117, 4624,   3804.1,   2.3900,  34.9082,2,  34.9081,2,    271.2,2,  -999.00,9,  -999.00,9,  -999.00,9
     06GA276_2,  AR19,   115,  1,      4, 104513,2,19960528,0530, 43.6550, -39.3117, 4624,   4202.2,   2.2983,  34.8987,2,  34.8984,2,    270.5,2,  -999.00,9,  -999.00,9,  -999.00,9
     06GA276_2,  AR19,   115,  1,      3, 104512,2,19960528,0530, 43.6550, -39.3117, 4624,   4604.3,   2.2855,  34.8930,2,  34.8926,2,    269.0,2,  -999.00,9,  -999.00,9,  -999.00,9
     06GA276_2,  AR19,   115,  1,      2, 104511,2,19960528,0530, 43.6550, -39.3117, 4624,   4683.8,   2.2885,  34.8922,2,  34.8920,2,    269.7,2,  -999.00,9,  -999.00,9,  -999.00,9
     06GA276_2,  AR19,   115,  1,      1, 104510,2,19960528,0530, 43.6550, -39.3117, 4624,   4718.8,   2.2946,  34.8907,2,  34.8924,2,    268.9,2,  -999.00,9,  -999.00,9,  -999.00,9
     06GA276_2,  AR19,   117,  1,     24, 104557,2,19960528,1221, 43.4700, -39.9317, 4808,      9.5,  16.2677,  36.1533,2,  36.1542,2,    252.3,2,  -999.00,9,     0.92,2,     0.18,2
     06GA276_2,  AR19,   117,  1,     23, 104556,2,19960528,1221, 43.4700, -39.9317, 4808,     49.7,  15.8631,  36.1840,2,  36.1733,3,    236.9,2,     0.83,2,     3.93,2,     0.28,2
     06GA276_2,  AR19,   117,  1,     22, 104555,2,19960528,1221, 43.4700, -39.9317, 4808,    100.4,  14.9547,  36.0012,2,  35.9925,3,    233.2,2,     1.66,2,     6.06,2,     0.41,2
     06GA276_2,  AR19,   117,  1,     21, 104554,2,19960528,1221, 43.4700, -39.9317, 4808,    251.1,  13.8075,  35.8340,2,  35.8406,3,   -999.0,9,  -999.00,9,  -999.00,9,  -999.00,9
     06GA276_2,  AR19,   117,  1,     20, 104553,2,19960528,1221, 43.4700, -39.9317, 4808,    501.3,  11.2306,  35.4373,2,  35.4293,3,    182.2,2,     7.94,2,    16.57,2,     1.06,2
     06GA276_2,  AR19,   117,  1,     19, 104552,2,19960528,1221, 43.4700, -39.9317, 4808,    752.7,   7.7929,  35.1654,2,  35.1610,2,    187.6,2,    11.56,2,    19.98,2,     1.28,2
     06GA276_2,  AR19,   117,  1,     18, 104551,2,19960528,1221, 43.4700, -39.9317, 4808,    902.1,   6.2712,  35.1193,2,  35.1116,3,    215.5,2,    11.59,2,    18.93,2,     1.24,2
     06GA276_2,  AR19,   117,  1,     17, 104550,2,19960528,1221, 43.4700, -39.9317, 4808,   1051.2,   5.3186,  35.0591,2,  35.0573,2,    235.7,2,    11.45,2,    18.31,2,     1.20,2
     06GA276_2,  AR19,   117,  1,     16, 104549,2,19960528,1221, 43.4700, -39.9317, 4808,   1200.5,   5.0024,  35.0666,2,  35.0648,2,    245.2,2,    11.48,2,    17.88,2,     1.11,2
     06GA276_2,  AR19,   117,  1,     15, 104548,2,19960528,1221, 43.4700, -39.9317, 4808,   1499.7,   4.0291,  34.9551,2,  34.9552,2,    266.5,2,    11.16,2,    17.42,2,     1.12,2
     06GA276_2,  AR19,   117,  1,     14, 104547,2,19960528,1221, 43.4700, -39.9317, 4808,   1799.9,   3.6148,  34.9197,2,  34.9197,2,    275.5,2,    11.24,2,    17.04,2,     1.12,2
     06GA276_2,  AR19,   117,  1,     13, 104546,2,19960528,1221, 43.4700, -39.9317, 4808,   2000.7,   3.4999,  34.9178,2,  34.9201,2,    276.7,2,    11.70,2,    16.95,2,     1.10,2
     06GA276_2,  AR19,   117,  1,     12, 104545,2,19960528,1221, 43.4700, -39.9317, 4808,   2249.8,   3.3695,  34.9152,2,  34.9196,2,    277.3,2,    12.21,2,    16.89,2,     1.10,2
     06GA276_2,  AR19,   117,  1,     11, 104544,2,19960528,1221, 43.4700, -39.9317, 4808,   2500.8,   3.2833,  34.9221,2,  34.9221,2,    276.3,2,    12.90,2,    16.76,2,     1.13,2
     06GA276_2,  AR19,   117,  1,     10, 104543,2,19960528,1221, 43.4700, -39.9317, 4808,   2752.6,   3.1814,  34.9313,2,  34.9332,2,    274.6,2,    13.90,2,    16.80,2,     1.11,2
     06GA276_2,  AR19,   117,  1,      9, 104542,2,19960528,1221, 43.4700, -39.9317, 4808,   2934.2,   3.0908,  34.9359,2,  34.9365,2,    272.3,2,    15.37,2,    16.95,2,     1.15,2
     06GA276_2,  AR19,   117,  1,      8, 104541,2,19960528,1221, 43.4700, -39.9317, 4808,   3402.2,   2.7456,  34.9269,2,  34.9245,2,    272.9,2,    18.42,2,    17.07,2,     1.19,2
     06GA276_2,  AR19,   117,  1,      7, 104540,2,19960528,1221, 43.4700, -39.9317, 4808,   3902.0,   2.4759,  34.9129,2,  34.9116,2,    273.2,2,    21.40,2,    17.41,2,     1.18,2
     06GA276_2,  AR19,   117,  1,      6, 104539,2,19960528,1221, 43.4700, -39.9317, 4808,   4302.3,   2.3765,  34.9041,2,  34.9021,2,    274.1,2,    23.28,2,    17.45,2,     1.24,2
     06GA276_2,  AR19,   117,  1,      5, 104538,2,19960528,1221, 43.4700, -39.9317, 4808,   4502.4,   2.3502,  34.9001,2,  34.8991,2,    271.7,2,    25.32,2,    17.74,2,     1.24,2
     06GA276_2,  AR19,   117,  1,      4, 104537,2,19960528,1221, 43.4700, -39.9317, 4808,   4602.2,   2.3328,  34.8966,2,  34.8980,2,    270.9,2,    26.49,2,    17.84,2,     1.23,2
     06GA276_2,  AR19,   117,  1,      3, 104536,2,19960528,1221, 43.4700, -39.9317, 4808,   4802.2,   2.3268,  34.8934,2,  34.8942,2,    270.3,2,    27.67,2,    18.11,2,     1.26,2
     06GA276_2,  AR19,   117,  1,      2, 104535,2,19960528,1221, 43.4700, -39.9317, 4808,   4876.0,   2.3295,  34.8928,2,  34.8942,2,    271.2,2,    27.65,2,    18.15,2,     1.25,2
     06GA276_2,  AR19,   117,  1,      1, 104534,2,19960528,1221, 43.4700, -39.9317, 4808,   4910.7,   2.3287,  34.8920,2,  34.9152,3,    276.5,2,    11.65,3,    16.96,2,     1.13,2