BOTTLE,20220921CCHSIOAMB
EXPOCODE,SECT_ID,STNNBR,CASTNO,SAMPNO,BTLNBR,BTLNBR_FLAG_W,DATE,TIME,LATITUDE,LONGITUDE,DEPTH,CTDPRS,CTDTMP,CTDSAL,CTDSAL_FLAG_W,SALNTY,SALNTY_FLAG_W,OXYGEN,OXYGEN_FLAG_W,SILCAT,SILCAT_FLAG_W,NITRAT,NITRAT_FLAG_W,PHSPHT,PHSPHT_FLAG_W
,,,,,,,,,,,,DBAR,ITS-90,PSS-78,,PSS-78,,UMOL/KG,,UMOL/KG,,UMOL/KG,,UMOL/KG,
     06GA276_2,  AR19,   117,  2,     24, 104581,2,19960528,1619, 43.4817, -39.9400, 4804,   3152.7,   2.9594,  34.9344,2,  34.9342,2,    272.0,2,    17.65,2,    17.24,2,     1.15,2
     06GA276_2,  AR19,   117,  2,     23, 104580,2,19960528,1619, 43.4817, -39.9400, 4804,   3302.6,   2.8501,  34.9302,2,  34.9296,2,    272.2,2,    17.94,2,    17.07,2,     1.16,2
     06GA276_2,  AR19,   117,  2,     17, 104574,2,19960528,1619, 43.4817, -39.9400, 4804,   3700.9,   2.5458,  34.9158,2,  34.9160,2,    273.0,2,    21.40,2,    17.53,2,     1.15,2
     06GA276_2,  AR19,   117,  2,     18, 104575,2,19960528,1619, 43.4817, -39.9400, 4804,   3701.1,   2.5437,  34.9162,2,  34.9163,2,    273.2,2,    21.45,2,    17.43,2,     1.16,2
     06GA276_2,  AR19,   117,  2,     19, 104576,2,19960528,1619, 43.4817, -39.9400, 4804,   3701.3,   2.5429,  34.9156,2,  34.9159,2,    272.9,2,    21.35,2,    17.25,2,     1.18,2
     06GA276_2,  AR19,   117,  2,     16, 104573,2,19960528,1619, 43.4817, -39.9400, 4804,   3701.3,   2.5469,  34.9161,2,  34.9161,2,    273.1,2,    21.37,2,    17.34,2,     1.15,2
     06GA276_2,  AR19,   117,  2,     14, 104571,2,19960528,1619, 43.4817, -39.9400, 4804,   3701.3,   2.5452,  34.9156,2,  34.9164,2,    272.9,2,    21.38,2,    17.37,2,     1.16,2
     06GA276_2,  AR19,   117,  2,     22, 104579,2,19960528,1619, 43.4817, -39.9400, 4804,   3701.6,   2.5478,  34.9161,2,  34.9178,2,    273.4,2,    21.06,2,    17.25,2,     1.16,2
     06GA276_2,  AR19,   117,  2,     20, 104577,2,19960528,1619, 43.4817, -39.9400, 4804,   3701.6,   2.5444,  34.9157,2,  34.9161,2,    273.3,2,    20.74,2,    17.25,2,     1.19,2
     06GA276_2,  AR19,   117,  2,     15, 104572,2,19960528,1619, 43.4817, -39.9400, 4804,   3701.6,   2.5450,  34.9159,2,  34.9155,2,    273.0,2,    21.31,2,    17.25,2,     1.15,2
     06GA276_2,  AR19,   117,  2,     13, 104570,2,19960528,1619, 43.4817, -39.9400, 4804,   3701.9,   2.5493,  34.9159,2,  34.9154,2,    273.0,2,    21.43,2,    17.35,2,     1.18,2
     06GA276_2,  AR19,   117,  2,     21, 104578,2,19960528,1619, 43.4817, -39.9400, 4804,   3702.0,   2.5468,  34.9164,2,-999.0000,9,   -999.0,9,  -999.00,9,  -999.00,9,  -999.00,9
     06GA276_2,  AR19,   117,  2,     12, 104569,2,19960528,1619, 43.4817, -39.9400, 4804,   3702.1,   2.5526,  34.9167,2,  34.9183,2,    273.2,2,    21.43,2,    17.27,2,     1.15,2
     06GA276_2,  AR19,   117,  2,     11, 104568,2,19960528,1619, 43.4817, -39.9400, 4804,   3703.0,   2.5521,  34.9168,2,  34.9159,2,    273.2,2,    21.43,2,    17.28,2,     1.15,2
     06GA276_2,  AR19,   117,  2,     10, 104567,2,19960528,1619, 43.4817, -39.9400, 4804,   4141.6,   2.3897,  34.9049,2,  34.9051,2,    273.8,2,    23.85,2,    17.35,2,     1.18,2
     06GA276_2,  AR19,   117,  2,      9, 104566,2,19960528,1619, 43.4817, -39.9400, 4804,   4143.1,   2.3893,  34.9048,2,  34.9046,2,    273.4,2,    23.85,2,    17.29,2,     1.16,2
     06GA276_2,  AR19,   117,  2,      8, 104565,2,19960528,1619, 43.4817, -39.9400, 4804,   4144.5,   2.3887,  34.9049,2,  34.9048,2,    273.5,2,    23.51,2,    17.26,2,     1.18,2
     06GA276_2,  AR19,   117,  2,      7, 104564,2,19960528,1619, 43.4817, -39.9400, 4804,   4145.7,   2.3888,  34.9048,2,  34.9046,2,    273.9,2,    23.51,2,    17.63,2,     1.18,2
     06GA276_2,  AR19,   117,  2,      6, 104563,2,19960528,1619, 43.4817, -39.9400, 4804,   4147.8,   2.3889,  34.9051,2,  34.9062,2,    274.2,2,    23.56,2,    17.26,2,     1.19,2
     06GA276_2,  AR19,   117,  2,      5, 104562,2,19960528,1619, 43.4817, -39.9400, 4804,   4149.3,   2.3893,  34.9049,2,  34.9050,2,    273.0,2,    23.85,2,    17.30,2,     1.18,2
     06GA276_2,  AR19,   117,  2,      4, 104561,2,19960528,1619, 43.4817, -39.9400, 4804,   4150.3,   2.3897,  34.9051,2,  34.9051,2,    273.3,2,    23.85,2,    17.26,2,     1.19,2
     06GA276_2,  AR19,   117,  2,      3, 104560,2,19960528,1619, 43.4817, -39.9400, 4804,   4151.3,   2.3898,  34.9053,2,  34.9054,2,    273.9,2,    23.51,2,    17.29,2,     1.19,2
     06GA276_2,  AR19,   117,  2,      2, 104559,2,19960528,1619, 43.4817, -39.9400, 4804,   4151.9,   2.3902,  34.9050,2,  34.9062,2,    274.7,2,    23.44,2,    17.26,2,     1.18,2
     06GA276_2,  AR19,   117,  2,      1, 104558,2,19960528,1619, 43.4817, -39.9400, 4804,   4152.3,   2.3906,  34.9046,2,  34.9058,2,    273.9,2,    23.54,2,    17.29,2,     1.16,2
     06GA276_2,  AR19,   119,  2,     24, 104605,2,19960528,2250, 43.2850, -40.5600, 4803,      8.9,  15.0786,  35.9441,2,  35.9463,2,    259.8,2,  -999.00,9,  -999.00,9,  -999.00,9
     06GA276_2,  AR19,   119,  2,     23, 104604,2,19960528,2250, 43.2850, -40.5600, 4803,     75.1,  14.3937,  35.9845,2,  35.9842,2,    245.0,2,  -999.00,9,  -999.00,9,  -999.00,9
     06GA276_2,  AR19,   119,  2,     22, 104603,2,19960528,2250, 43.2850, -40.5600, 4803,    124.8,  14.2628,  35.9807,2,  35.9755,2,    242.9,2,  -999.00,9,  -999.00,9,  -999.00,9
     06GA276_2,  AR19,   119,  2,     21, 104602,2,19960528,2250, 43.2850, -40.5600, 4803,    301.2,  13.1971,  35.7696,2,  35.7639,2,    230.4,2,  -999.00,9,  -999.00,9,  -999.00,9
     06GA276_2,  AR19,   119,  2,     20, 104601,2,19960528,2250, 43.2850, -40.5600, 4803,    700.6,   7.8591,  35.1435,2,  35.1409,2,    186.0,2,  -999.00,9,  -999.00,9,  -999.00,9
     06GA276_2,  AR19,   119,  2,     19, 104600,2,19960528,2250, 43.2850, -40.5600, 4803,    849.9,   6.5596,  35.1396,2,  35.1394,2,    209.0,2,  -999.00,9,  -999.00,9,  -999.00,9
     06GA276_2,  AR19,   119,  2,     18, 104599,2,19960528,2250, 43.2850, -40.5600, 4803,    972.5,   5.2892,  35.0239,2,  35.0241,2,    233.3,2,  -999.00,9,  -999.00,9,  -999.00,9
     06GA276_2,  AR19,   119,  2,     17, 104598,2,19960528,2250, 43.2850, -40.5600, 4803,   1099.5,   5.1643,  35.0676,2,  35.0672,2,    239.7,2,  -999.00,9,  -999.00,9,  -999.00,9
     06GA276_2,  AR19,   119,  2,     16, 104597,2,19960528,2250, 43.2850, -40.5600, 4803,   1300.4,   4.4926,  35.0116,2,  35.0109,2,    254.4,2,  -999.00,9,  -999.00,9,  -999.00,9
     06GA276_2,  AR19,   119,  2,     15, 104596,2,19960528,2250, 43.2850, -40.5600, 4803,   1601.7,   3.8100,  34.9381,2,  34.9301,3,    272.9,2,  -999.00,9,  -999.00,9,  -999.00,9
     06GA276_2,  AR19,   119,  2,     14, 104595,2,19960528,2250, 43.2850, -40.5600, 4803,   1799.0,   3.6041,  34.9219,2,  34.9231,2,    274.5,2,  -999.00,9,  -999.00,9,  -999.00,9
     06GA276_2,  AR19,   119,  2,     13, 104594,2,19960528,2250, 43.2850, -40.5600, 4803,   2001.3,   3.4772,  34.9178,2,  34.9180,2,    276.6,2,  -999.00,9,  -999.00,9,  -999.00,9
     06GA276_2,  AR19,   119,  2,     12, 104593,2,19960528,2250, 43.2850, -40.5600, 4803,   2299.2,   3.3213,  34.9143,2,  34.9145,2,    278.2,2,  -999.00,9,  -999.00,9,  -999.00,9
     06GA276_2,  AR19,   119,  2,     11, 104592,2,19960528,2250, 43.2850, -40.5600, 4803,   2501.4,   3.2063,  34.9066,2,  34.9067,2,    280.2,2,  -999.00,9,  -999.00,9,  -999.00,9
     06GA276_2,  AR19,   119,  2,     10, 104591,2,19960528,2250, 43.2850, -40.5600, 4803,   2750.9,   3.1274,  34.9240,2,  34.9237,2,    276.7,2,  -999.00,9,  -999.00,9,  -999.00,9
     06GA276_2,  AR19,   119,  2,      9, 104590,2,19960528,2250, 43.2850, -40.5600, 4803,   2902.3,   3.0774,  34.9333,2,  34.9335,2,    272.6,2,  -999.00,9,  -999.00,9,  -999.00,9
     06GA276_2,  AR19,   119,  2,      8, 104589,2,19960528,2250, 43.2850, -40.5600, 4803,   3051.3,   2.9584,  34.9286,2,  34.9287,2,    273.9,2,  -999.00,9,  -999.00,9,  -999.00,9
     06GA276_2,  AR19,   119,  2,      7, 104588,2,19960528,2250, 43.2850, -40.5600, 4803,   3257.9,   2.8085,  34.9285,2,  34.9271,2,    272.6,2,  -999.00,9,  -999.00,9,  -999.00,9
     06GA276_2,  AR19,   119,  2,      6, 104587,2,19960528,2250, 43.2850, -40.5600, 4803,   3603.1,   2.5607,  34.9172,2,  34.9160,2,    273.4,2,  -999.00,9,  -999.00,9,  -999.00,9
     06GA276_2,  AR19,   119,  2,      5, 104586,2,19960528,2250, 43.2850, -40.5600, 4803,   3902.7,   2.4097,  34.9082,2,  34.9079,2,    280.5,3,  -999.00,9,  -999.00,9,  -999.00,9
     06GA276_2,  AR19,   119,  2,      4, 104585,2,19960528,2250, 43.2850, -40.5600, 4803,   4302.2,   2.3228,  34.9002,2,  34.8989,2,    273.2,2,  -999.00,9,  -999.00,9,  -999.00,9
     06GA276_2,  AR19,   119,  2,      3, 104584,2,19960528,2250, 43.2850, -40.5600, 4803,   4702.1,   2.3148,  34.8939,2,  34.8938,2,    271.1,2,  -999.00,9,  -999.00,9,  -999.00,9
     06GA276_2,  AR19,   119,  2,      2, 104583,2,19960528,2250, 43.2850, -40.5600, 4803,   4874.7,   2.2928,  34.8891,2,  34.8935,2,    271.9,2,  -999.00,9,  -999.00,9,  -999.00,9
     06GA276_2,  AR19,   119,  2,      1, 104582,2,19960528,2250, 43.2850, -40.5600, 4803,   4909.1,   2.2908,  34.8888,2,  34.8892,2,    269.1,2,  -999.00,9,  -999.00,9,  -999.00,9
     06GA276_2,  AR19,   121,  1,     23, 104628,2,19960529,0508, 43.1283, -41.1967, 4812,     19.0,  16.5743,  36.1547,2,  36.1545,2,    246.0,2,     0.49,2,     1.39,2,     0.19,2
     06GA276_2,  AR19,   121,  1,     22, 104627,2,19960529,0508, 43.1283, -41.1967, 4812,     51.9,  16.2315,  36.1202,2,  36.1158,2,    240.8,2,     0.76,2,     2.73,2,     0.26,2
     06GA276_2,  AR19,   121,  1,     21, 104626,2,19960529,0508, 43.1283, -41.1967, 4812,    151.5,  14.9160,  35.9758,2,  35.9759,2,    233.3,2,     1.97,2,     5.91,2,     0.38,2
     06GA276_2,  AR19,   121,  1,     20, 104625,2,19960529,0508, 43.1283, -41.1967, 4812,    299.7,  13.2463,  35.6927,2,  35.6472,3,    196.9,2,     5.05,2,    11.92,2,     0.77,2
     06GA276_2,  AR19,   121,  1,     19, 104624,2,19960529,0508, 43.1283, -41.1967, 4812,    501.9,  10.1811,  35.3198,2,  35.3174,2,    168.2,3,    10.43,2,    19.46,2,     1.23,2
     06GA276_2,  AR19,   121,  1,     18, 104623,2,19960529,0508, 43.1283, -41.1967, 4812,    701.2,   7.1756,  35.0436,2,  35.0404,2,    185.9,2,    13.39,3,    21.09,3,     1.39,2
     06GA276_2,  AR19,   121,  1,     17, 104622,2,19960529,0508, 43.1283, -41.1967, 4812,    998.8,   5.1299,  35.0418,2,  35.0409,2,    239.7,2,    11.77,2,    18.24,2,     1.22,2
     06GA276_2,  AR19,   121,  1,     16, 104621,2,19960529,0508, 43.1283, -41.1967, 4812,   1300.1,   4.2578,  34.9797,2,  34.9800,2,    261.2,2,    11.46,2,    17.41,2,     1.19,2
     06GA276_2,  AR19,   121,  1,     15, 104620,2,19960529,0508, 43.1283, -41.1967, 4812,   1500.9,   3.8699,  34.9440,2,  34.9443,2,    270.7,2,    11.57,2,    17.14,2,     1.18,2
     06GA276_2,  AR19,   121,  1,     14, 104619,2,19960529,0508, 43.1283, -41.1967, 4812,   1701.2,   3.5977,  34.9191,2,  34.9194,2,    277.6,2,    11.57,2,    16.90,2,     1.12,2
     06GA276_2,  AR19,   121,  1,     13, 104618,2,19960529,0508, 43.1283, -41.1967, 4812,   2002.3,   3.3027,  34.8926,2,  34.8914,2,    285.7,2,    11.18,2,    16.49,2,     1.15,2
     06GA276_2,  AR19,   121,  1,     12, 104617,2,19960529,0508, 43.1283, -41.1967, 4812,   2252.4,   3.1763,  34.8852,2,  34.8852,2,    288.6,2,    11.14,2,    16.37,2,     1.12,2
     06GA276_2,  AR19,   121,  1,     11, 104616,2,19960529,0508, 43.1283, -41.1967, 4812,   2502.8,   3.2164,  34.9132,2,  34.9149,2,    280.3,2,    12.75,2,    16.52,2,     1.15,2
     06GA276_2,  AR19,   121,  1,     10, 104615,2,19960529,0508, 43.1283, -41.1967, 4812,   2752.2,   3.1777,  34.9332,2,  34.9347,2,    274.5,2,    14.88,2,    16.86,2,     1.14,2
     06GA276_2,  AR19,   121,  1,      9, 104614,2,19960529,0508, 43.1283, -41.1967, 4812,   2951.7,   3.0240,  34.9294,2,  34.9290,2,    275.5,2,    15.33,2,    16.53,2,     1.13,2
     06GA276_2,  AR19,   121,  1,      8, 104613,2,19960529,0508, 43.1283, -41.1967, 4812,   3101.7,   2.9229,  34.9276,2,  34.9284,2,    275.3,2,    16.07,2,    16.52,2,     1.19,2
     06GA276_2,  AR19,   121,  1,      7, 104612,2,19960529,0508, 43.1283, -41.1967, 4812,   3353.4,   2.7636,  34.9257,2,  34.9246,2,    274.6,2,    18.23,2,    16.72,2,     1.19,2
     06GA276_2,  AR19,   121,  1,      6, 104611,2,19960529,0508, 43.1283, -41.1967, 4812,   3603.4,   2.5764,  34.9151,2,  34.9155,2,    277.3,2,    19.09,2,    16.56,2,     1.19,2
     06GA276_2,  AR19,   121,  1,      5, 104610,2,19960529,0508, 43.1283, -41.1967, 4812,   3902.9,   2.4285,  34.9079,2,  34.9082,2,    275.0,2,    21.86,2,    16.86,2,     1.20,2
     06GA276_2,  AR19,   121,  1,      4, 104609,2,19960529,0508, 43.1283, -41.1967, 4812,   4303.1,   2.3255,  34.8997,2,  34.8987,2,    274.9,2,    23.72,2,    16.98,2,     1.21,2
     06GA276_2,  AR19,   121,  1,      3, 104608,2,19960529,0508, 43.1283, -41.1967, 4812,   4701.8,   2.2953,  34.8913,2,  34.8918,2,    272.1,2,    27.86,2,    17.63,2,     1.27,2
     06GA276_2,  AR19,   121,  1,      2, 104607,2,19960529,0508, 43.1283, -41.1967, 4812,   4870.8,   2.2768,  34.8876,2,  34.8883,2,    273.2,2,    28.72,2,    17.80,2,     1.27,2
     06GA276_2,  AR19,   121,  1,      1, 104606,2,19960529,0508, 43.1283, -41.1967, 4812,   4914.5,   2.2830,  34.8872,2,  34.8883,2,    271.5,2,    28.92,2,    17.87,2,     1.27,2
     06GA276_2,  AR19,   123,  1,     24, 104653,2,19960529,1133, 42.9267, -41.6917, 4813,     10.6,  17.1739,  36.3962,2,  36.3965,2,    237.4,2,     0.49,2,     2.05,2,     0.18,2
     06GA276_2,  AR19,   123,  1,     23, 104652,2,19960529,1133, 42.9267, -41.6917, 4813,     76.8,  17.1767,  36.3966,2,  36.3959,2,    236.2,2,     0.49,2,     2.12,2,     0.18,2
     06GA276_2,  AR19,   123,  1,     22, 104651,2,19960529,1133, 42.9267, -41.6917, 4813,    150.5,  16.7915,  36.3627,2,  36.3622,2,    224.6,2,     1.29,2,     4.34,2,     0.28,2
     06GA276_2,  AR19,   123,  1,     21, 104650,2,19960529,1133, 42.9267, -41.6917, 4813,    302.5,  15.3459,  36.0618,2,  36.0502,3,   -999.0,9,     2.71,2,     7.85,2,     0.49,2
     06GA276_2,  AR19,   123,  1,     20, 104649,2,19960529,1133, 42.9267, -41.6917, 4813,    501.2,  12.0985,  35.5528,2,  35.5532,2,    180.4,2,     7.04,2,    15.59,2,     0.98,2
     06GA276_2,  AR19,   123,  1,     19, 104648,2,19960529,1133, 42.9267, -41.6917, 4813,    793.7,   7.4908,  35.1117,2,  35.1079,2,    190.8,2,    12.03,2,    20.27,2,     1.31,2
     06GA276_2,  AR19,   123,  1,     18, 104647,2,19960529,1133, 42.9267, -41.6917, 4813,   1001.2,   5.5908,  35.0576,2,  35.0571,2,    225.6,2,    11.96,2,    18.93,2,     1.27,2
     06GA276_2,  AR19,   123,  1,     17, 104646,2,19960529,1133, 42.9267, -41.6917, 4813,   1250.6,   4.5703,  35.0008,2,  35.0003,2,    253.5,2,    11.28,2,    17.90,2,     1.20,2
     06GA276_2,  AR19,   123,  1,     16, 104645,2,19960529,1133, 42.9267, -41.6917, 4813,   1364.9,   4.1758,  34.9603,2,  34.9605,2,    263.8,2,    11.04,2,    17.49,2,     1.18,2
     06GA276_2,  AR19,   123,  1,     15, 104644,2,19960529,1133, 42.9267, -41.6917, 4813,   1510.7,   3.8749,  34.9297,2,  34.9302,2,    272.5,2,    10.78,2,    17.26,2,     1.15,2
     06GA276_2,  AR19,   123,  1,     14, 104643,2,19960529,1133, 42.9267, -41.6917, 4813,   1703.3,   3.7182,  34.9246,2,  34.9249,2,    274.9,2,    11.05,2,    17.11,2,     1.17,2
     06GA276_2,  AR19,   123,  1,     13, 104642,2,19960529,1133, 42.9267, -41.6917, 4813,   1999.9,   3.4544,  34.9063,2,  34.9064,2,    281.0,2,    11.16,2,    16.87,2,     1.14,2
     06GA276_2,  AR19,   123,  1,     12, 104641,2,19960529,1133, 42.9267, -41.6917, 4813,   2059.3,   3.3717,  34.8959,2,  34.8958,2,    284.4,2,    10.87,3,    16.68,2,     1.14,2
     06GA276_2,  AR19,   123,  1,     11, 104640,2,19960529,1133, 42.9267, -41.6917, 4813,   2400.1,   3.3086,  34.9125,2,  34.9132,2,    280.3,2,    12.28,2,    16.75,2,     1.11,2
     06GA276_2,  AR19,   123,  1,     10, 104639,2,19960529,1133, 42.9267, -41.6917, 4813,   2559.8,   3.2865,  34.9213,2,  34.9224,2,    277.4,2,    13.24,2,    16.89,3,     1.12,2
     06GA276_2,  AR19,   123,  1,      9, 104638,2,19960529,1133, 42.9267, -41.6917, 4813,   2902.4,   3.1207,  34.9292,2,  34.9300,2,    275.5,2,    14.55,2,    16.82,2,     1.11,2
     06GA276_2,  AR19,   123,  1,      8, 104637,2,19960529,1133, 42.9267, -41.6917, 4813,   3102.7,   2.9945,  34.9308,2,  34.9313,2,    273.9,2,    16.17,2,    16.88,2,     1.14,2
     06GA276_2,  AR19,   123,  1,      7, 104636,2,19960529,1133, 42.9267, -41.6917, 4813,   3352.1,   2.8035,  34.9247,2,  34.9254,2,    275.5,2,    17.40,2,    16.78,2,     1.16,2
     06GA276_2,  AR19,   123,  1,      6, 104635,2,19960529,1133, 42.9267, -41.6917, 4813,   3702.6,   2.5605,  34.9147,2,  34.9148,2,    276.6,2,    19.89,2,    16.91,2,     1.18,2
     06GA276_2,  AR19,   123,  1,      5, 104634,2,19960529,1133, 42.9267, -41.6917, 4813,   4052.9,   2.4151,  34.9058,2,  34.9063,2,    276.1,2,    21.51,2,    16.95,2,     1.18,2
     06GA276_2,  AR19,   123,  1,      4, 104633,2,19960529,1133, 42.9267, -41.6917, 4813,   4402.4,   2.3532,  34.9003,2,  34.9005,2,    275.6,2,    22.92,2,    17.12,2,     1.19,2
     06GA276_2,  AR19,   123,  1,      3, 104632,2,19960529,1133, 42.9267, -41.6917, 4813,   4700.6,   2.3241,  34.8938,2,  34.9012,3,    274.4,2,    25.80,2,    17.65,2,     1.20,2
     06GA276_2,  AR19,   123,  1,      2, 104631,2,19960529,1133, 42.9267, -41.6917, 4813,   4881.5,   2.2813,  34.8882,2,  34.8958,3,    275.1,2,    27.41,2,    17.57,2,     1.24,2
     06GA276_2,  AR19,   123,  1,      1, 104630,2,19960529,1133, 42.9267, -41.6917, 4813,   4929.6,   2.2860,  34.8884,2,  34.8898,2,    274.1,2,    27.43,2,    17.56,2,     1.25,2