BOTTLE,20220921CCHSIOAMB
EXPOCODE,SECT_ID,STNNBR,CASTNO,SAMPNO,BTLNBR,BTLNBR_FLAG_W,DATE,TIME,LATITUDE,LONGITUDE,DEPTH,CTDPRS,CTDTMP,CTDSAL,CTDSAL_FLAG_W,SALNTY,SALNTY_FLAG_W,OXYGEN,OXYGEN_FLAG_W,SILCAT,SILCAT_FLAG_W,NITRAT,NITRAT_FLAG_W,PHSPHT,PHSPHT_FLAG_W
,,,,,,,,,,,,DBAR,ITS-90,PSS-78,,PSS-78,,UMOL/KG,,UMOL/KG,,UMOL/KG,,UMOL/KG,
     06GA276_2,  AR19,   147,  1,     22, 200063,2,19960601,1846, 42.9950, -48.3117, 3103,     10.4,  12.3114,  34.5986,2,  34.5203,3,    270.6,2,  -999.00,9,  -999.00,9,  -999.00,9
     06GA276_2,  AR19,   147,  1,     21, 200062,2,19960601,1846, 42.9950, -48.3117, 3103,     51.0,  12.2740,  35.3542,2,  35.3545,2,    217.6,2,  -999.00,9,  -999.00,9,  -999.00,9
     06GA276_2,  AR19,   147,  1,     20, 200061,2,19960601,1846, 42.9950, -48.3117, 3103,    100.3,  10.0557,  35.0689,2,  35.0599,3,    214.5,2,  -999.00,9,  -999.00,9,  -999.00,9
     06GA276_2,  AR19,   147,  1,     19, 200060,2,19960601,1846, 42.9950, -48.3117, 3103,    282.8,   6.4780,  34.9921,2,  34.9768,3,    195.7,2,  -999.00,9,  -999.00,9,  -999.00,9
     06GA276_2,  AR19,   147,  1,     18, 200059,2,19960601,1846, 42.9950, -48.3117, 3103,    800.5,   4.1733,  34.9756,2,  34.9747,2,    260.4,2,  -999.00,9,  -999.00,9,  -999.00,9
     06GA276_2,  AR19,   147,  1,     17, 200058,2,19960601,1846, 42.9950, -48.3117, 3103,   1001.7,   3.7819,  34.9370,2,  34.9376,2,    270.5,2,  -999.00,9,  -999.00,9,  -999.00,9
     06GA276_2,  AR19,   147,  1,     16, 200057,2,19960601,1846, 42.9950, -48.3117, 3103,   1222.4,   3.4413,  34.9038,2,  34.9029,2,    279.2,2,  -999.00,9,  -999.00,9,  -999.00,9
     06GA276_2,  AR19,   147,  1,     15, 200056,2,19960601,1846, 42.9950, -48.3117, 3103,   1301.1,   3.2659,  34.8817,2,  34.8836,2,    285.1,2,  -999.00,9,  -999.00,9,  -999.00,9
     06GA276_2,  AR19,   147,  1,     14, 200055,2,19960601,1846, 42.9950, -48.3117, 3103,   1401.5,   3.2281,  34.8830,2,  34.8845,2,    285.7,2,  -999.00,9,  -999.00,9,  -999.00,9
     06GA276_2,  AR19,   147,  1,     13, 200054,2,19960601,1846, 42.9950, -48.3117, 3103,   1499.5,   3.1968,  34.8827,2,  34.8833,2,    286.4,2,  -999.00,9,  -999.00,9,  -999.00,9
     06GA276_2,  AR19,   147,  1,     12, 200053,2,19960601,1846, 42.9950, -48.3117, 3103,   1601.6,   3.1294,  34.8772,2,  34.8776,2,    288.4,2,  -999.00,9,  -999.00,9,  -999.00,9
     06GA276_2,  AR19,   147,  1,     11, 200052,2,19960601,1846, 42.9950, -48.3117, 3103,   1763.6,   3.0739,  34.8754,2,-999.0000,9,    290.0,2,  -999.00,9,  -999.00,9,  -999.00,9
     06GA276_2,  AR19,   147,  1,     10, 200051,2,19960601,1846, 42.9950, -48.3117, 3103,   2001.0,   3.0424,  34.8892,2,  34.8887,2,    286.0,2,  -999.00,9,  -999.00,9,  -999.00,9
     06GA276_2,  AR19,   147,  1,      9, 200050,2,19960601,1846, 42.9950, -48.3117, 3103,   2125.1,   3.0459,  34.8966,2,  34.8966,2,    283.6,2,  -999.00,9,  -999.00,9,  -999.00,9
     06GA276_2,  AR19,   147,  1,      8, 200049,2,19960601,1846, 42.9950, -48.3117, 3103,   2201.7,   3.0481,  34.8998,2,  34.8998,2,    282.5,2,  -999.00,9,  -999.00,9,  -999.00,9
     06GA276_2,  AR19,   147,  1,      7, 200048,2,19960601,1846, 42.9950, -48.3117, 3103,   2401.7,   3.0419,  34.9066,2,  34.9066,2,    281.1,2,  -999.00,9,  -999.00,9,  -999.00,9
     06GA276_2,  AR19,   147,  1,      6, 200047,2,19960601,1846, 42.9950, -48.3117, 3103,   2604.6,   3.0106,  34.9123,2,  34.9122,2,    280.2,2,  -999.00,9,  -999.00,9,  -999.00,9
     06GA276_2,  AR19,   147,  1,      5, 200046,2,19960601,1846, 42.9950, -48.3117, 3103,   2801.2,   2.8898,  34.9198,2,  34.9199,2,    277.3,2,  -999.00,9,  -999.00,9,  -999.00,9
     06GA276_2,  AR19,   147,  1,      4, 200045,2,19960601,1846, 42.9950, -48.3117, 3103,   3003.5,   2.6796,  34.9144,2,  34.9167,2,    277.9,2,  -999.00,9,  -999.00,9,  -999.00,9
     06GA276_2,  AR19,   147,  1,      3, 200044,2,19960601,1846, 42.9950, -48.3117, 3103,   3069.0,   2.4710,  34.9096,2,  34.9095,2,    278.8,2,  -999.00,9,  -999.00,9,  -999.00,9
     06GA276_2,  AR19,   147,  1,      2, 200043,2,19960601,1846, 42.9950, -48.3117, 3103,   3097.2,   2.3498,  34.9040,2,  34.9042,2,    281.0,2,  -999.00,9,  -999.00,9,  -999.00,9
     06GA276_2,  AR19,   147,  1,      1, 200042,2,19960601,1846, 42.9950, -48.3117, 3103,   3117.9,   2.3445,  34.9039,2,  34.9048,2,    280.0,2,  -999.00,9,  -999.00,9,  -999.00,9
     06GA276_2,  AR19,   149,  1,     24, 200089,2,19960601,2300, 43.0467, -48.6150, 2532,      5.4,   6.6821,  33.1230,2,  33.1230,2,    335.3,2,  -999.00,9,     0.44,2,     0.19,2
     06GA276_2,  AR19,   149,  1,     23, 200088,2,19960601,2300, 43.0467, -48.6150, 2532,     23.9,   5.5090,  33.1781,2,  33.3082,3,    352.9,2,  -999.00,9,     0.44,2,     0.28,2
     06GA276_2,  AR19,   149,  1,     22, 200087,2,19960601,2300, 43.0467, -48.6150, 2532,     49.3,   2.7799,  33.5818,2,  33.5859,2,    343.5,2,     0.67,2,     3.41,2,     0.49,2
     06GA276_2,  AR19,   149,  1,     21, 200086,2,19960601,2300, 43.0467, -48.6150, 2532,     80.0,   1.7221,  33.8218,2,  33.8564,3,   -999.0,9,     3.02,2,     8.38,2,     0.75,2
     06GA276_2,  AR19,   149,  1,     20, 200085,2,19960601,2300, 43.0467, -48.6150, 2532,    200.6,   2.8343,  34.5558,2,  34.5544,2,    292.8,2,     8.17,2,    14.42,2,     0.98,2
     06GA276_2,  AR19,   149,  1,     19, 200084,2,19960601,2300, 43.0467, -48.6150, 2532,    300.7,   3.1539,  34.7022,2,  34.7253,3,    290.5,2,     8.82,2,    15.38,2,     1.03,2
     06GA276_2,  AR19,   149,  1,     18, 200083,2,19960601,2300, 43.0467, -48.6150, 2532,    375.8,   4.0243,  34.8701,2,  34.8664,2,    267.8,2,    10.37,2,    17.24,2,     1.10,2
     06GA276_2,  AR19,   149,  1,     17, 200082,2,19960601,2300, 43.0467, -48.6150, 2532,    486.9,   4.0300,  34.9166,2,  34.9151,2,    264.5,2,    10.50,2,    17.53,2,     1.12,2
     06GA276_2,  AR19,   149,  1,     16, 200081,2,19960601,2300, 43.0467, -48.6150, 2532,    614.2,   3.4698,  34.8628,2,  34.8621,2,    287.5,2,     9.43,2,    16.63,2,     1.07,2
     06GA276_2,  AR19,   149,  1,     15, 200080,2,19960601,2300, 43.0467, -48.6150, 2532,    799.5,   3.3033,  34.8623,2,  34.8627,2,    289.3,2,     9.63,2,    16.59,2,     1.09,2
     06GA276_2,  AR19,   149,  1,     14, 200079,2,19960601,2300, 43.0467, -48.6150, 2532,   1000.9,   3.2985,  34.8776,2,  34.8790,2,    285.1,2,    10.14,2,    16.90,2,     1.11,2
     06GA276_2,  AR19,   149,  1,     13, 200078,2,19960601,2300, 43.0467, -48.6150, 2532,   1100.5,   3.2856,  34.8823,2,  34.8819,2,    284.7,2,    10.52,2,    16.96,2,     1.11,2
     06GA276_2,  AR19,   149,  1,     12, 200077,2,19960601,2300, 43.0467, -48.6150, 2532,   1199.9,   3.2221,  34.8784,2,  34.8780,2,    286.7,2,    10.56,2,    16.92,3,     1.05,2
     06GA276_2,  AR19,   149,  1,     11, 200076,2,19960601,2300, 43.0467, -48.6150, 2532,   1348.8,   3.1454,  34.8725,2,  34.8767,2,    289.0,2,    10.22,2,    16.98,2,     1.08,2
     06GA276_2,  AR19,   149,  1,     10, 200075,2,19960601,2300, 43.0467, -48.6150, 2532,   1501.2,   3.0379,  34.8641,2,  34.8695,3,    292.2,2,     9.90,2,    16.77,2,     1.06,2
     06GA276_2,  AR19,   149,  1,      9, 200074,2,19960601,2300, 43.0467, -48.6150, 2532,   1649.5,   2.9815,  34.8590,2,  34.8593,2,    294.1,2,     9.83,2,    16.61,2,     0.95,3
     06GA276_2,  AR19,   149,  1,      8, 200073,2,19960601,2300, 43.0467, -48.6150, 2532,   1786.0,   2.9919,  34.8640,2,  34.8675,2,    292.3,2,     9.85,2,    16.52,2,     1.05,2
     06GA276_2,  AR19,   149,  1,      7, 200072,2,19960601,2300, 43.0467, -48.6150, 2532,   2000.9,   3.0377,  34.8844,2,  34.8894,2,    287.1,2,    10.74,2,    16.43,2,     1.06,2
     06GA276_2,  AR19,   149,  1,      6, 200071,2,19960601,2300, 43.0467, -48.6150, 2532,   2100.5,   3.0630,  34.8992,2,  34.8996,2,    282.5,2,    11.25,2,    16.30,2,     1.10,2
     06GA276_2,  AR19,   149,  1,      5, 200070,2,19960601,2300, 43.0467, -48.6150, 2532,   2201.6,   3.0702,  34.9065,2,  34.9056,2,    280.3,2,    11.65,2,    16.37,2,     1.10,2
     06GA276_2,  AR19,   149,  1,      4, 200069,2,19960601,2300, 43.0467, -48.6150, 2532,   2279.1,   3.0524,  34.9076,2,  34.9062,2,    280.0,2,    11.75,2,    16.38,2,     1.10,2
     06GA276_2,  AR19,   149,  1,      3, 200068,2,19960601,2300, 43.0467, -48.6150, 2532,   2399.5,   3.0072,  34.9141,2,  34.9130,2,    278.7,2,    12.42,2,    16.48,2,     1.10,2
     06GA276_2,  AR19,   149,  1,      2, 200067,2,19960601,2300, 43.0467, -48.6150, 2532,   2482.6,   2.9721,  34.9175,2,  34.9164,2,    278.0,2,    13.19,2,    16.47,2,     1.11,2
     06GA276_2,  AR19,   149,  1,      1, 200066,2,19960601,2300, 43.0467, -48.6150, 2532,   2516.0,   2.9756,  34.9175,2,  34.9177,2,    277.7,2,    13.22,2,    16.36,2,     1.11,2
     06GA276_2,  AR19,   151,  1,     24, 200113,2,19960602,0244, 43.0900, -48.8417, 2070,      8.9,   4.3454,  32.9586,2,  32.9190,3,    349.4,2,  -999.00,9,  -999.00,9,  -999.00,9
     06GA276_2,  AR19,   151,  1,     23, 200112,2,19960602,0244, 43.0900, -48.8417, 2070,     50.8,   2.3013,  33.9999,2,  33.9816,3,    316.6,2,  -999.00,9,  -999.00,9,  -999.00,9
     06GA276_2,  AR19,   151,  1,     22, 200111,2,19960602,0244, 43.0900, -48.8417, 2070,    100.0,   2.1708,  34.3407,2,  34.3399,2,    298.8,2,  -999.00,9,  -999.00,9,  -999.00,9
     06GA276_2,  AR19,   151,  1,     21, 200110,2,19960602,0244, 43.0900, -48.8417, 2070,    151.1,   2.8113,  34.5816,2,  34.5738,3,    295.1,2,  -999.00,9,  -999.00,9,  -999.00,9
     06GA276_2,  AR19,   151,  1,     20, 200109,2,19960602,0244, 43.0900, -48.8417, 2070,    202.3,   3.1718,  34.7016,2,  34.6953,3,    291.1,2,  -999.00,9,  -999.00,9,  -999.00,9
     06GA276_2,  AR19,   151,  1,     19, 200108,2,19960602,0244, 43.0900, -48.8417, 2070,    295.0,   3.3307,  34.7752,2,  34.7741,2,    291.3,2,  -999.00,9,  -999.00,9,  -999.00,9
     06GA276_2,  AR19,   151,  1,     18, 200107,2,19960602,0244, 43.0900, -48.8417, 2070,    402.0,   3.4324,  34.8170,2,  34.8264,3,    291.6,2,  -999.00,9,  -999.00,9,  -999.00,9
     06GA276_2,  AR19,   151,  1,     17, 200106,2,19960602,0244, 43.0900, -48.8417, 2070,    502.0,   3.4753,  34.8524,2,  34.8518,2,    288.4,2,  -999.00,9,  -999.00,9,  -999.00,9
     06GA276_2,  AR19,   151,  1,     16, 200105,2,19960602,0244, 43.0900, -48.8417, 2070,    601.4,   3.5011,  34.8697,2,  34.8725,2,    284.2,2,  -999.00,9,  -999.00,9,  -999.00,9
     06GA276_2,  AR19,   151,  1,     15, 200104,2,19960602,0244, 43.0900, -48.8417, 2070,    700.9,   3.3952,  34.8713,2,  34.8748,2,    286.4,2,  -999.00,9,  -999.00,9,  -999.00,9
     06GA276_2,  AR19,   151,  1,     14, 200103,2,19960602,0244, 43.0900, -48.8417, 2070,    802.0,   3.2964,  34.8630,2,  34.8672,2,    290.4,2,  -999.00,9,  -999.00,9,  -999.00,9
     06GA276_2,  AR19,   151,  1,     13, 200102,2,19960602,0244, 43.0900, -48.8417, 2070,    901.5,   3.1980,  34.8567,2,  34.8577,2,    293.5,2,  -999.00,9,  -999.00,9,  -999.00,9
     06GA276_2,  AR19,   151,  1,     12, 200101,2,19960602,0244, 43.0900, -48.8417, 2070,   1000.9,   3.1738,  34.8594,2,  34.8590,2,    292.8,2,  -999.00,9,  -999.00,9,  -999.00,9
     06GA276_2,  AR19,   151,  1,     11, 200100,2,19960602,0244, 43.0900, -48.8417, 2070,   1102.3,   3.1696,  34.8623,2,  34.8488,3,   -999.0,9,  -999.00,9,  -999.00,9,  -999.00,9
     06GA276_2,  AR19,   151,  1,     10, 200099,2,19960602,0244, 43.0900, -48.8417, 2070,   1200.5,   3.1891,  34.8715,2,  34.8715,2,    290.4,2,  -999.00,9,  -999.00,9,  -999.00,9
     06GA276_2,  AR19,   151,  1,      9, 200098,2,19960602,0244, 43.0900, -48.8417, 2070,   1302.4,   3.1506,  34.8705,2,  34.8714,2,    289.9,2,  -999.00,9,  -999.00,9,  -999.00,9
     06GA276_2,  AR19,   151,  1,      8, 200097,2,19960602,0244, 43.0900, -48.8417, 2070,   1401.0,   3.0557,  34.8620,2,  34.8619,2,    293.1,2,  -999.00,9,  -999.00,9,  -999.00,9
     06GA276_2,  AR19,   151,  1,      7, 200096,2,19960602,0244, 43.0900, -48.8417, 2070,   1500.9,   3.0542,  34.8622,2,  34.8700,3,    293.1,2,  -999.00,9,  -999.00,9,  -999.00,9
     06GA276_2,  AR19,   151,  1,      6, 200095,2,19960602,0244, 43.0900, -48.8417, 2070,   1600.9,   3.0310,  34.8618,2,  34.8622,2,    293.3,2,  -999.00,9,  -999.00,9,  -999.00,9
     06GA276_2,  AR19,   151,  1,      5, 200094,2,19960602,0244, 43.0900, -48.8417, 2070,   1700.6,   3.0198,  34.8628,2,  34.8646,2,    293.0,2,  -999.00,9,  -999.00,9,  -999.00,9
     06GA276_2,  AR19,   151,  1,      4, 200093,2,19960602,0244, 43.0900, -48.8417, 2070,   1801.9,   3.0239,  34.8643,2,  34.8646,2,    293.0,2,  -999.00,9,  -999.00,9,  -999.00,9
     06GA276_2,  AR19,   151,  1,      3, 200092,2,19960602,0244, 43.0900, -48.8417, 2070,   1901.6,   3.0247,  34.8674,2,  34.8667,2,    292.9,2,  -999.00,9,  -999.00,9,  -999.00,9
     06GA276_2,  AR19,   151,  1,      2, 200091,2,19960602,0244, 43.0900, -48.8417, 2070,   2010.1,   3.0352,  34.8700,2,  34.8689,2,    292.1,2,  -999.00,9,  -999.00,9,  -999.00,9
     06GA276_2,  AR19,   151,  1,      1, 200090,2,19960602,0244, 43.0900, -48.8417, 2070,   2056.8,   3.0400,  34.8697,2,  34.8697,2,    291.4,2,  -999.00,9,  -999.00,9,  -999.00,9
     06GA276_2,  AR19,   153,  1,     24, 200137,2,19960602,0624, 43.1350, -48.9883, 1581,      9.1,   4.4419,  32.8168,2,  32.8419,3,    345.0,2,     0.16,2,     0.63,2,     0.35,2
     06GA276_2,  AR19,   153,  1,     23, 200136,2,19960602,0624, 43.1350, -48.9883, 1581,     49.6,   1.8501,  33.8054,2,  33.8515,3,    331.3,2,     3.13,2,     8.19,2,     0.71,2
     06GA276_2,  AR19,   153,  1,     22, 200135,2,19960602,0624, 43.1350, -48.9883, 1581,     81.0,   2.3151,  34.3941,2,  34.4059,3,    301.0,2,     7.60,2,    13.67,2,     0.98,2
     06GA276_2,  AR19,   153,  1,     21, 200134,2,19960602,0624, 43.1350, -48.9883, 1581,    151.7,   3.1243,  34.6767,2,  34.6753,2,    289.8,2,     9.70,2,    15.16,2,     1.06,2
     06GA276_2,  AR19,   153,  1,     20, 200133,2,19960602,0624, 43.1350, -48.9883, 1581,    250.2,   3.2501,  34.7306,2,  34.7271,2,    290.2,2,     9.74,2,    15.36,2,     1.03,2
     06GA276_2,  AR19,   153,  1,     19, 200132,2,19960602,0624, 43.1350, -48.9883, 1581,    401.3,   3.4641,  34.8154,2,  34.8172,2,    290.3,2,     9.74,2,    15.92,2,     1.06,2
     06GA276_2,  AR19,   153,  1,     18, 200131,2,19960602,0624, 43.1350, -48.9883, 1581,    501.3,   3.4192,  34.8311,2,  34.8340,2,    290.8,2,     9.83,2,    16.04,2,     1.05,2
     06GA276_2,  AR19,   153,  1,     17, 200130,2,19960602,0624, 43.1350, -48.9883, 1581,    550.4,   3.4208,  34.8359,2,  34.8564,3,    291.1,2,     9.83,2,    15.99,2,     1.06,2
     06GA276_2,  AR19,   153,  1,     16, 200129,2,19960602,0624, 43.1350, -48.9883, 1581,    601.6,   3.4219,  34.8405,2,  34.8441,2,    291.4,2,     9.78,2,    16.39,2,     1.03,3
     06GA276_2,  AR19,   153,  1,     15, 200128,2,19960602,0624, 43.1350, -48.9883, 1581,    651.0,   3.4170,  34.8459,2,  34.8451,2,    291.0,2,     9.80,2,    16.38,2,     1.09,2
     06GA276_2,  AR19,   153,  1,     14, 200127,2,19960602,0624, 43.1350, -48.9883, 1581,    703.0,   3.3802,  34.8504,2,  34.8494,2,    291.5,3,     9.49,3,    16.22,3,     1.08,2
     06GA276_2,  AR19,   153,  1,     13, 200126,2,19960602,0624, 43.1350, -48.9883, 1581,    752.2,   3.3547,  34.8534,2,  34.9175,3,    291.2,2,     9.83,2,    16.37,2,     1.10,2
     06GA276_2,  AR19,   153,  1,     12, 200125,2,19960602,0624, 43.1350, -48.9883, 1581,    802.3,   3.3530,  34.8579,2,  34.8551,2,    290.7,2,     9.85,2,    16.36,2,     1.10,2
     06GA276_2,  AR19,   153,  1,     11, 200124,2,19960602,0624, 43.1350, -48.9883, 1581,    850.5,   3.3179,  34.8576,2,  34.8578,2,    291.3,2,     9.92,2,    16.36,2,     1.13,2
     06GA276_2,  AR19,   153,  1,     10, 200123,2,19960602,0624, 43.1350, -48.9883, 1581,    901.9,   3.2836,  34.8561,2,  34.8562,2,    291.7,2,     9.87,2,    16.35,2,     1.11,2
     06GA276_2,  AR19,   153,  1,      9, 200122,2,19960602,0624, 43.1350, -48.9883, 1581,    950.7,   3.2785,  34.8566,2,  34.8573,2,    291.8,2,     9.96,2,    16.37,2,     1.11,2
     06GA276_2,  AR19,   153,  1,      8, 200121,2,19960602,0624, 43.1350, -48.9883, 1581,   1001.9,   3.2554,  34.8567,2,  34.8558,2,    292.4,2,    10.20,2,    16.39,2,     1.09,2
     06GA276_2,  AR19,   153,  1,      7, 200120,2,19960602,0624, 43.1350, -48.9883, 1581,   1100.1,   3.2445,  34.8574,2,  34.8565,2,    292.7,2,    10.22,2,    16.39,2,     1.11,2
     06GA276_2,  AR19,   153,  1,      6, 200119,2,19960602,0624, 43.1350, -48.9883, 1581,   1201.1,   3.1996,  34.8584,2,  34.8576,2,    293.1,2,    10.26,2,    16.38,2,     1.10,2
     06GA276_2,  AR19,   153,  1,      5, 200118,2,19960602,0624, 43.1350, -48.9883, 1581,   1301.4,   3.1840,  34.8591,2,  34.8797,3,    292.9,2,    10.39,2,    16.40,2,     1.07,2
     06GA276_2,  AR19,   153,  1,      4, 200117,2,19960602,0624, 43.1350, -48.9883, 1581,   1403.7,   3.1815,  34.8592,2,  34.8583,2,    292.5,2,    10.41,2,    16.41,2,     1.11,2
     06GA276_2,  AR19,   153,  1,      3, 200116,2,19960602,0624, 43.1350, -48.9883, 1581,   1502.2,   3.1839,  34.8593,2,  34.8600,2,    293.1,2,    10.37,2,    16.41,2,     1.11,2
     06GA276_2,  AR19,   153,  1,      2, 200115,2,19960602,0624, 43.1350, -48.9883, 1581,   1541.7,   3.1853,  34.8599,2,  34.8617,2,    294.0,2,    10.53,2,    16.39,2,     1.11,2
     06GA276_2,  AR19,   153,  1,      1, 200114,2,19960602,0624, 43.1350, -48.9883, 1581,   1567.7,   3.1828,  34.8601,2,  34.8597,2,    292.5,2,    10.51,2,    16.30,2,     1.10,2
     06GA276_2,  AR19,   155,  1,     12, 200149,2,19960602,0957, 43.1867, -49.1567, 1035,      4.4,   3.6955,  32.6007,2,  32.6011,2,    349.0,2,    -0.27,2,     0.52,2,     0.36,2
     06GA276_2,  AR19,   155,  1,     11, 200148,2,19960602,0957, 43.1867, -49.1567, 1035,     24.4,   3.3491,  32.6274,2,  32.6522,3,    353.8,2,    -0.25,2,     0.52,2,     0.34,2
     06GA276_2,  AR19,   155,  1,     10, 200147,2,19960602,0957, 43.1867, -49.1567, 1035,     95.5,   1.5040,  33.7036,2,  33.7034,2,    333.5,2,     1.89,2,     7.03,2,     0.66,2
     06GA276_2,  AR19,   155,  1,      9, 200146,2,19960602,0957, 43.1867, -49.1567, 1035,    151.0,   2.3912,  34.3166,2,  34.3181,2,    296.2,2,     7.05,2,    13.43,2,     0.96,2
     06GA276_2,  AR19,   155,  1,      8, 200145,2,19960602,0957, 43.1867, -49.1567, 1035,    252.0,   3.1837,  34.6847,2,  34.6870,2,    287.7,2,     9.70,2,    15.38,2,     1.00,2
     06GA276_2,  AR19,   155,  1,      7, 200144,2,19960602,0957, 43.1867, -49.1567, 1035,    400.8,   3.6389,  34.8256,2,  34.8248,2,    280.7,2,     9.59,2,    16.59,2,     1.04,2
     06GA276_2,  AR19,   155,  1,      6, 200143,2,19960602,0957, 43.1867, -49.1567, 1035,    500.7,   3.4164,  34.8184,2,  34.8186,2,    289.0,2,     9.49,2,    16.26,2,     1.04,2
     06GA276_2,  AR19,   155,  1,      5, 200142,2,19960602,0957, 43.1867, -49.1567, 1035,    600.5,   3.3765,  34.8371,2,  34.8374,2,    289.8,2,     9.65,2,    16.37,2,     1.07,2
     06GA276_2,  AR19,   155,  1,      4, 200141,2,19960602,0957, 43.1867, -49.1567, 1035,    700.9,   3.3670,  34.8515,2,  34.8488,2,    290.5,2,     9.69,2,    16.48,2,     0.97,3
     06GA276_2,  AR19,   155,  1,      3, 200140,2,19960602,0957, 43.1867, -49.1567, 1035,    801.9,   3.3247,  34.8548,2,  34.8575,2,    290.8,2,     9.54,2,    16.61,2,     1.06,2
     06GA276_2,  AR19,   155,  1,      2, 200139,2,19960602,0957, 43.1867, -49.1567, 1035,    933.3,   3.2492,  34.8570,2,  34.8565,2,    292.1,2,     9.82,2,    16.61,2,     1.08,2
     06GA276_2,  AR19,   155,  1,      1, 200138,2,19960602,0957, 43.1867, -49.1567, 1035,   1021.1,   3.2550,  34.8575,2,  34.8569,2,    291.4,2,     9.87,2,    16.43,2,     1.10,2