BOTTLE,20220921CCHSIOAMB
EXPOCODE,SECT_ID,STNNBR,CASTNO,SAMPNO,BTLNBR,BTLNBR_FLAG_W,DATE,TIME,LATITUDE,LONGITUDE,DEPTH,CTDPRS,CTDTMP,CTDSAL,CTDSAL_FLAG_W,SALNTY,SALNTY_FLAG_W,OXYGEN,OXYGEN_FLAG_W,SILCAT,SILCAT_FLAG_W,NITRAT,NITRAT_FLAG_W,PHSPHT,PHSPHT_FLAG_W
,,,,,,,,,,,,DBAR,ITS-90,PSS-78,,PSS-78,,UMOL/KG,,UMOL/KG,,UMOL/KG,,UMOL/KG,
     06GA276_2,  AR19,   133,  1,     24, 104773,2,19960530,2246, 41.9700, -45.0017, 4811,     10.9,  18.0807,  36.4818,2,  36.4836,2,    231.7,2,     0.30,2,     1.49,2,     0.17,2
     06GA276_2,  AR19,   133,  1,     23, 104772,2,19960530,2246, 41.9700, -45.0017, 4811,     50.4,  17.9861,  36.4722,2,  36.4777,3,    227.0,2,     0.48,2,     1.93,2,     0.18,2
     06GA276_2,  AR19,   133,  1,     22, 104771,2,19960530,2246, 41.9700, -45.0017, 4811,    124.5,  17.8844,  36.5125,2,  36.5104,2,    218.7,2,     0.77,2,     3.06,2,     0.20,2
     06GA276_2,  AR19,   133,  1,     21, 104770,2,19960530,2246, 41.9700, -45.0017, 4811,    300.5,  16.9519,  36.3441,2,  36.3458,2,    198.3,2,     1.88,2,     6.33,2,     0.41,2
     06GA276_2,  AR19,   133,  1,     20, 104769,2,19960530,2246, 41.9700, -45.0017, 4811,    500.9,  15.0195,  35.9883,2,  35.9843,2,    189.4,2,     3.66,2,    10.21,2,     0.62,2
     06GA276_2,  AR19,   133,  1,     19, 104768,2,19960530,2246, 41.9700, -45.0017, 4811,    699.9,  10.7482,  35.2893,2,  35.2788,3,    177.2,2,     8.29,2,    17.08,2,     1.02,3
     06GA276_2,  AR19,   133,  1,     18, 104767,2,19960530,2246, 41.9700, -45.0017, 4811,    748.5,  10.8871,  35.4207,2,  35.4069,3,    166.7,3,     9.21,2,    18.78,2,     0.76,2
     06GA276_2,  AR19,   133,  1,     17, 104766,2,19960530,2246, 41.9700, -45.0017, 4811,    900.6,   7.7068,  35.0735,2,  35.0636,3,    177.0,2,    12.98,3,    21.60,3,     1.33,3
     06GA276_2,  AR19,   133,  1,     16, 104765,2,19960530,2246, 41.9700, -45.0017, 4811,   1101.4,   5.6131,  35.0120,2,  35.0112,2,    223.1,2,    11.80,2,    19.10,2,     0.97,2
     06GA276_2,  AR19,   133,  1,     15, 104764,2,19960530,2246, 41.9700, -45.0017, 4811,   1149.6,   5.2460,  34.9981,2,  34.9953,2,    232.1,2,    11.54,2,    18.84,2,     1.06,2
     06GA276_2,  AR19,   133,  1,     14, 104763,2,19960530,2246, 41.9700, -45.0017, 4811,   1399.9,   4.3371,  34.9682,2,  34.9660,2,    258.6,2,    10.80,2,    17.74,2,     1.03,2
     06GA276_2,  AR19,   133,  1,     13, 104762,2,19960530,2246, 41.9700, -45.0017, 4811,   1600.4,   3.7879,  34.9202,2,  34.9193,2,    273.8,2,    10.57,2,    17.23,2,     0.97,2
     06GA276_2,  AR19,   133,  1,     12, 104761,2,19960530,2246, 41.9700, -45.0017, 4811,   1898.1,   3.4350,  34.8944,2,  34.8931,2,    282.9,2,    10.58,2,    16.93,2,     0.95,2
     06GA276_2,  AR19,   133,  1,     11, 104760,2,19960530,2246, 41.9700, -45.0017, 4811,   2062.6,   3.4137,  34.9039,2,  34.9042,2,    280.4,2,    11.00,2,    16.99,2,     0.92,2
     06GA276_2,  AR19,   133,  1,     10, 104759,2,19960530,2246, 41.9700, -45.0017, 4811,   2418.8,   3.1252,  34.8730,2,  34.8759,2,    290.4,2,    10.34,3,    16.27,2,     1.05,2
     06GA276_2,  AR19,   133,  1,      9, 104758,2,19960530,2246, 41.9700, -45.0017, 4811,   2581.1,   3.1846,  34.8986,2,  34.8981,2,    283.4,2,    11.54,2,    16.48,3,     1.11,2
     06GA276_2,  AR19,   133,  1,      8, 104757,2,19960530,2246, 41.9700, -45.0017, 4811,   2897.9,   3.1851,  34.9310,2,  34.9335,2,    273.7,2,    14.01,2,    16.89,2,     1.14,2
     06GA276_2,  AR19,   133,  1,      7, 104756,2,19960530,2246, 41.9700, -45.0017, 4811,   3001.6,   3.1163,  34.9283,2,  34.9291,2,    274.8,2,    14.04,2,    16.72,2,     1.15,2
     06GA276_2,  AR19,   133,  1,      6, 104755,2,19960530,2246, 41.9700, -45.0017, 4811,   3301.8,   2.8863,  34.9279,2,  34.9286,2,    273.8,2,    16.60,2,    16.89,2,     1.08,2
     06GA276_2,  AR19,   133,  1,      5, 104754,2,19960530,2246, 41.9700, -45.0017, 4811,   3932.8,   2.4250,  34.9063,2,  34.9071,2,    273.6,2,    20.83,2,    17.03,2,     1.18,2
     06GA276_2,  AR19,   133,  1,      4, 104753,2,19960530,2246, 41.9700, -45.0017, 4811,   4303.4,   2.3430,  34.8986,2,  34.9002,2,    274.0,2,    22.24,2,    16.97,2,     1.10,2
     06GA276_2,  AR19,   133,  1,      3, 104752,2,19960530,2246, 41.9700, -45.0017, 4811,   4652.1,   2.3114,  34.8926,2,  34.8965,2,    273.5,2,    24.24,2,    17.34,2,     1.11,2
     06GA276_2,  AR19,   133,  1,      2, 104751,2,19960530,2246, 41.9700, -45.0017, 4811,   4870.4,   2.2949,  34.8881,2,  34.8976,3,    274.0,2,    23.87,3,    17.38,2,     1.06,3
     06GA276_2,  AR19,   133,  1,      1, 104750,2,19960530,2246, 41.9700, -45.0017, 4811,   4932.1,   2.2969,  34.8869,2,  34.8910,2,    272.1,2,    26.00,2,    17.62,2,     1.21,2
     06GA276_2,  AR19,   135,  1,     22, 104795,2,19960531,0522, 42.1850, -45.6117, 4710,      9.5,  18.1769,  36.4799,2,  36.4715,3,    234.0,2,  -999.00,9,  -999.00,9,  -999.00,9
     06GA276_2,  AR19,   135,  1,     21, 104794,2,19960531,0522, 42.1850, -45.6117, 4710,     49.5,  17.6286,  36.4491,2,-999.0000,9,   -999.0,9,  -999.00,9,  -999.00,9,  -999.00,9
     06GA276_2,  AR19,   135,  1,     20, 104793,2,19960531,0522, 42.1850, -45.6117, 4710,    200.8,  16.9230,  36.4025,2,  36.3937,3,    227.5,2,  -999.00,9,  -999.00,9,  -999.00,9
     06GA276_2,  AR19,   135,  1,     19, 104792,2,19960531,0522, 42.1850, -45.6117, 4710,    501.3,  14.0622,  35.8053,2,  35.7929,3,    194.4,2,  -999.00,9,  -999.00,9,  -999.00,9
     06GA276_2,  AR19,   135,  1,     18, 104791,2,19960531,0522, 42.1850, -45.6117, 4710,    800.8,   8.8075,  35.1827,2,  35.1754,3,    165.9,2,  -999.00,9,  -999.00,9,  -999.00,9
     06GA276_2,  AR19,   135,  1,     17, 104790,2,19960531,0522, 42.1850, -45.6117, 4710,    974.5,   6.5256,  35.0733,2,  35.0655,3,    201.0,2,  -999.00,9,  -999.00,9,  -999.00,9
     06GA276_2,  AR19,   135,  1,     16, 104789,2,19960531,0522, 42.1850, -45.6117, 4710,   1019.7,   5.9173,  35.0361,2,  35.0271,3,    213.8,2,  -999.00,9,  -999.00,9,  -999.00,9
     06GA276_2,  AR19,   135,  1,     15, 104788,2,19960531,0522, 42.1850, -45.6117, 4710,   1253.9,   4.9001,  35.0322,2,-999.0000,9,    243.8,2,  -999.00,9,  -999.00,9,  -999.00,9
     06GA276_2,  AR19,   135,  1,     14, 104787,2,19960531,0522, 42.1850, -45.6117, 4710,   1500.2,   4.1199,  34.9641,2,  34.9608,2,    263.6,2,  -999.00,9,  -999.00,9,  -999.00,9
     06GA276_2,  AR19,   135,  1,     13, 104786,2,19960531,0522, 42.1850, -45.6117, 4710,   1800.0,   3.7750,  34.9434,2,  34.9396,2,    271.0,2,  -999.00,9,  -999.00,9,  -999.00,9
     06GA276_2,  AR19,   135,  1,     12, 104785,2,19960531,0522, 42.1850, -45.6117, 4710,   1900.1,   3.6322,  34.9293,2,  34.9244,3,    276.1,2,  -999.00,9,  -999.00,9,  -999.00,9
     06GA276_2,  AR19,   135,  1,     11, 104784,2,19960531,0522, 42.1850, -45.6117, 4710,   2202.2,   3.2962,  34.8911,2,  34.8904,2,    284.9,2,  -999.00,9,  -999.00,9,  -999.00,9
     06GA276_2,  AR19,   135,  1,     10, 104783,2,19960531,0522, 42.1850, -45.6117, 4710,   2401.4,   3.2564,  34.8937,2,  34.8936,2,    284.5,2,  -999.00,9,  -999.00,9,  -999.00,9
     06GA276_2,  AR19,   135,  1,      9, 104782,2,19960531,0522, 42.1850, -45.6117, 4710,   2651.5,   3.2161,  34.9067,2,  34.9069,2,    281.1,2,  -999.00,9,  -999.00,9,  -999.00,9
     06GA276_2,  AR19,   135,  1,      8, 104781,2,19960531,0522, 42.1850, -45.6117, 4710,   2802.7,   3.2204,  34.9246,2,  34.9247,2,    276.1,2,  -999.00,9,  -999.00,9,  -999.00,9
     06GA276_2,  AR19,   135,  1,      7, 104780,2,19960531,0522, 42.1850, -45.6117, 4710,   3002.2,   3.1180,  34.9262,2,  34.9266,2,    275.4,2,  -999.00,9,  -999.00,9,  -999.00,9
     06GA276_2,  AR19,   135,  1,      6, 104779,2,19960531,0522, 42.1850, -45.6117, 4710,   3303.2,   2.8887,  34.9240,2,  34.9242,2,    275.6,2,  -999.00,9,  -999.00,9,  -999.00,9
     06GA276_2,  AR19,   135,  1,      5, 104778,2,19960531,0522, 42.1850, -45.6117, 4710,   3603.5,   2.6606,  34.9198,2,  34.9180,2,    274.8,2,  -999.00,9,  -999.00,9,  -999.00,9
     06GA276_2,  AR19,   135,  1,      4, 104777,2,19960531,0522, 42.1850, -45.6117, 4710,   3902.5,   2.4546,  34.9077,2,  34.9072,2,    275.8,2,  -999.00,9,  -999.00,9,  -999.00,9
     06GA276_2,  AR19,   135,  1,      3, 104776,2,19960531,0522, 42.1850, -45.6117, 4710,   4202.2,   2.3676,  34.9002,2,  34.9009,2,    275.5,2,  -999.00,9,  -999.00,9,  -999.00,9
     06GA276_2,  AR19,   135,  1,      2, 104775,2,19960531,0522, 42.1850, -45.6117, 4710,   4502.5,   2.3097,  34.8943,2,  34.8955,2,    276.9,2,  -999.00,9,  -999.00,9,  -999.00,9
     06GA276_2,  AR19,   135,  1,      1, 104774,2,19960531,0522, 42.1850, -45.6117, 4710,   4785.1,   2.2645,  34.8868,2,  34.8892,2,    275.4,2,  -999.00,9,  -999.00,9,  -999.00,9
     06GA276_2,  AR19,   137,  1,     24, 104821,2,19960531,1233, 42.3967, -46.2917, 4651,      9.1,  17.3997,  35.9580,2,  35.9548,2,    241.1,2,     0.33,2,     0.68,2,     0.15,2
     06GA276_2,  AR19,   137,  1,     23, 104820,2,19960531,1233, 42.3967, -46.2917, 4651,     50.1,  16.8396,  36.0939,2,  36.0900,2,    207.9,2,     1.23,2,     4.56,2,     0.33,2
     06GA276_2,  AR19,   137,  1,     22, 104819,2,19960531,1233, 42.3967, -46.2917, 4651,     99.2,  16.0912,  36.0152,2,  36.0106,2,    216.0,2,     1.28,2,     4.99,2,     0.32,2
     06GA276_2,  AR19,   137,  1,     21, 104818,2,19960531,1233, 42.3967, -46.2917, 4651,    251.1,  14.3866,  35.8439,2,  35.8319,3,    190.0,2,     3.75,2,    10.55,2,     0.62,2
     06GA276_2,  AR19,   137,  1,     20, 104817,2,19960531,1233, 42.3967, -46.2917, 4651,    500.1,  10.1196,  35.3099,2,  35.3073,2,    150.1,2,    11.45,2,    21.83,2,     1.36,2
     06GA276_2,  AR19,   137,  1,     19, 104816,2,19960531,1233, 42.3967, -46.2917, 4651,    602.9,   7.3204,  34.9804,2,  34.9832,2,    182.3,2,    12.45,2,    21.08,2,     1.34,2
     06GA276_2,  AR19,   137,  1,     18, 104815,2,19960531,1233, 42.3967, -46.2917, 4651,    737.4,   6.3855,  35.0607,2,  35.0596,2,    205.3,2,    12.17,2,    19.78,2,     1.18,2
     06GA276_2,  AR19,   137,  1,     17, 104814,2,19960531,1233, 42.3967, -46.2917, 4651,    912.8,   5.1314,  35.0129,2,  35.0111,2,    236.1,2,    11.38,2,    18.53,2,     1.21,2
     06GA276_2,  AR19,   137,  1,     16, 104813,2,19960531,1233, 42.3967, -46.2917, 4651,   1106.5,   4.5983,  35.0048,2,  35.0042,2,    251.4,2,    11.29,2,    17.92,2,     1.17,2
     06GA276_2,  AR19,   137,  1,     15, 104812,2,19960531,1233, 42.3967, -46.2917, 4651,   1401.6,   4.0907,  34.9714,2,  34.9703,2,    264.1,2,    11.12,2,    17.15,2,     1.09,2
     06GA276_2,  AR19,   137,  1,     14, 104811,2,19960531,1233, 42.3967, -46.2917, 4651,   1650.3,   3.6778,  34.9298,2,  34.9286,2,    274.3,2,    11.09,2,    16.84,2,     1.05,2
     06GA276_2,  AR19,   137,  1,     13, 104810,2,19960531,1233, 42.3967, -46.2917, 4651,   1850.0,   3.5795,  34.9312,2,  34.9288,2,    276.1,2,    11.55,2,    17.08,2,     1.09,2
     06GA276_2,  AR19,   137,  1,     12, 104809,2,19960531,1233, 42.3967, -46.2917, 4651,   2216.5,   3.2443,  34.8989,2,  34.9002,2,    252.0,3,    11.17,2,    16.46,2,     1.03,2
     06GA276_2,  AR19,   137,  1,     11, 104808,2,19960531,1233, 42.3967, -46.2917, 4651,   2501.4,   3.3007,  34.9333,2,  34.9312,2,    274.0,2,    13.26,2,    16.36,2,     1.06,2
     06GA276_2,  AR19,   137,  1,     10, 104807,2,19960531,1233, 42.3967, -46.2917, 4651,   2751.6,   3.1707,  34.9377,2,  34.9375,2,    272.6,2,    14.50,2,    16.70,2,     1.12,2
     06GA276_2,  AR19,   137,  1,      9, 104806,2,19960531,1233, 42.3967, -46.2917, 4651,   3001.7,   2.9510,  34.9313,2,  34.9303,2,    273.6,2,    15.74,2,    16.51,2,     1.13,2
     06GA276_2,  AR19,   137,  1,      8, 104805,2,19960531,1233, 42.3967, -46.2917, 4651,   3195.3,   2.7752,  34.9168,2,  34.9200,2,    276.8,2,    15.04,3,    15.49,3,     1.09,3
     06GA276_2,  AR19,   137,  1,      7, 104804,2,19960531,1233, 42.3967, -46.2917, 4651,   3604.8,   2.4609,  34.9118,2,  34.9309,3,    274.4,2,    20.47,2,    16.94,2,     1.13,2
     06GA276_2,  AR19,   137,  1,      6, 104803,2,19960531,1233, 42.3967, -46.2917, 4651,   3904.7,   2.3358,  34.8997,2,  34.9024,2,    276.5,2,    21.68,2,    17.11,2,     1.17,2
     06GA276_2,  AR19,   137,  1,      5, 104802,2,19960531,1233, 42.3967, -46.2917, 4651,   4103.5,   2.3127,  34.8900,2,  34.9010,3,    275.5,2,    22.01,2,    17.10,2,     1.17,2
     06GA276_2,  AR19,   137,  1,      4, 104801,2,19960531,1233, 42.3967, -46.2917, 4651,   4303.7,   2.3080,  34.8886,2,  34.9142,3,    274.8,2,    22.56,2,    17.02,2,     1.14,2
     06GA276_2,  AR19,   137,  1,      3, 104800,2,19960531,1233, 42.3967, -46.2917, 4651,   4502.7,   2.3014,  34.8889,2,  34.8957,3,    275.0,2,    23.38,3,    17.16,2,     1.14,2
     06GA276_2,  AR19,   137,  1,      2, 104799,2,19960531,1233, 42.3967, -46.2917, 4651,   4707.6,   2.2888,  34.8879,2,  34.8970,3,    275.8,2,    22.95,2,    17.16,2,     1.16,2
     06GA276_2,  AR19,   137,  1,      1, 104798,2,19960531,1233, 42.3967, -46.2917, 4651,   4745.5,   2.2939,  34.8902,2,  34.8921,2,    276.7,2,    24.68,2,    17.39,2,     1.18,2
     06GA276_2,  AR19,   139,  1,     24, 104845,2,19960531,1835, 42.5333, -46.7983, 4277,     20.9,  16.4969,  35.9532,2,-999.0000,9,    236.7,2,     0.35,2,     2.32,2,     0.24,2
     06GA276_2,  AR19,   139,  1,     23, 104844,2,19960531,1835, 42.5333, -46.7983, 4277,     50.5,  16.0390,  35.9745,2,  35.9707,2,    215.4,2,     2.40,2,     7.69,2,     0.49,2
     06GA276_2,  AR19,   139,  1,     22, 104843,2,19960531,1835, 42.5333, -46.7983, 4277,    112.8,  14.1665,  35.6702,2,  35.6654,2,    191.2,2,     4.61,2,    12.65,2,     0.76,2
     06GA276_2,  AR19,   139,  1,     21, 104842,2,19960531,1835, 42.5333, -46.7983, 4277,    216.4,  12.8075,  35.5885,2,  35.5868,2,    188.9,2,     5.13,2,    12.97,2,     0.84,2
     06GA276_2,  AR19,   139,  1,     20, 104841,2,19960531,1835, 42.5333, -46.7983, 4277,    452.4,   8.4556,  35.1433,2,  35.1388,2,    152.8,2,    13.02,3,    23.42,4,     1.54,2
     06GA276_2,  AR19,   139,  1,     19, 104840,2,19960531,1835, 42.5333, -46.7983, 4277,    593.1,   4.7650,  34.7488,2,  34.7438,2,    238.0,2,    10.35,2,    17.53,2,     1.22,2
     06GA276_2,  AR19,   139,  1,     18, 104839,2,19960531,1835, 42.5333, -46.7983, 4277,    803.4,   5.0922,  35.0262,2,  35.0278,2,    235.7,2,    10.90,2,    18.29,2,     1.22,2
     06GA276_2,  AR19,   139,  1,     17, 104838,2,19960531,1835, 42.5333, -46.7983, 4277,   1003.8,   4.3495,  34.9666,2,  34.9725,3,    256.5,2,    10.26,2,    17.53,2,     1.14,2
     06GA276_2,  AR19,   139,  1,     16, 104837,2,19960531,1835, 42.5333, -46.7983, 4277,   1303.7,   3.8819,  34.9409,2,  34.9429,2,    269.5,2,    10.21,2,    17.10,2,     1.09,2
     06GA276_2,  AR19,   139,  1,     15, 104836,2,19960531,1835, 42.5333, -46.7983, 4277,   1441.8,   3.6183,  34.9138,2,  34.9150,2,    276.4,2,     9.86,3,    16.77,2,     1.15,2
     06GA276_2,  AR19,   139,  1,     14, 104835,2,19960531,1835, 42.5333, -46.7983, 4277,   1654.1,   3.4963,  34.9130,2,  34.9127,2,    278.1,2,    10.33,2,    16.64,2,     1.14,2
     06GA276_2,  AR19,   139,  1,     13, 104834,2,19960531,1835, 42.5333, -46.7983, 4277,   1900.8,   3.2897,  34.8954,2,  34.8950,2,    283.0,2,    10.28,2,    16.38,2,     1.08,2
     06GA276_2,  AR19,   139,  1,     12, 104833,2,19960531,1835, 42.5333, -46.7983, 4277,   1996.0,   3.2715,  34.9003,2,  34.9107,3,    282.7,2,    10.50,2,    16.57,2,     1.10,2
     06GA276_2,  AR19,   139,  1,     11, 104832,2,19960531,1835, 42.5333, -46.7983, 4277,   2250.3,   3.1040,  34.8805,2,  34.8851,2,    288.6,2,    10.07,2,    16.13,2,     1.08,2
     06GA276_2,  AR19,   139,  1,     10, 104831,2,19960531,1835, 42.5333, -46.7983, 4277,   2451.0,   3.1125,  34.8959,2,  34.8958,2,    284.3,2,    10.73,2,    16.12,2,     1.10,2
     06GA276_2,  AR19,   139,  1,      9, 104830,2,19960531,1835, 42.5333, -46.7983, 4277,   2751.3,   3.0446,  34.9146,2,  34.9148,2,    279.1,2,    12.02,2,    16.10,2,     1.07,2
     06GA276_2,  AR19,   139,  1,      8, 104829,2,19960531,1835, 42.5333, -46.7983, 4277,   2904.0,   2.9571,  34.9191,2,  34.9186,2,    277.7,2,    12.51,2,    16.10,2,     1.06,2
     06GA276_2,  AR19,   139,  1,      7, 104828,2,19960531,1835, 42.5333, -46.7983, 4277,   3253.9,   2.6907,  34.9174,2,  34.9185,2,    277.2,2,    14.71,2,    16.13,2,     1.14,2
     06GA276_2,  AR19,   139,  1,      6, 104827,2,19960531,1835, 42.5333, -46.7983, 4277,   3403.3,   2.5500,  34.9108,2,  34.9107,2,    280.0,2,    14.49,3,    15.96,2,     1.11,2
     06GA276_2,  AR19,   139,  1,      5, 104826,2,19960531,1835, 42.5333, -46.7983, 4277,   3502.0,   2.4932,  34.9097,2,  34.9084,2,    279.6,2,    15.35,2,    15.99,2,     1.12,2
     06GA276_2,  AR19,   139,  1,      4, 104825,2,19960531,1835, 42.5333, -46.7983, 4277,   3753.1,   2.3768,  34.9046,2,  34.9054,2,    278.8,2,    17.03,2,    16.21,2,     1.13,2
     06GA276_2,  AR19,   139,  1,      3, 104824,2,19960531,1835, 42.5333, -46.7983, 4277,   4203.9,   2.2460,  34.8959,2,  34.8977,2,    278.7,2,    19.62,3,    16.50,2,     1.12,2
     06GA276_2,  AR19,   139,  1,      2, 104823,2,19960531,1835, 42.5333, -46.7983, 4277,   4309.2,   2.1864,  34.8919,2,  34.8925,2,    283.7,2,    17.03,2,    15.76,2,     1.08,2
     06GA276_2,  AR19,   139,  1,      1, 104822,2,19960531,1835, 42.5333, -46.7983, 4277,   4344.7,   2.1751,  34.8911,2,  34.9070,3,    284.8,2,    16.09,2,    15.50,2,     1.06,2