BOTTLE,20220921CCHSIOAMB
EXPOCODE,SECT_ID,STNNBR,CASTNO,SAMPNO,BTLNBR,BTLNBR_FLAG_W,DATE,TIME,LATITUDE,LONGITUDE,DEPTH,CTDPRS,CTDTMP,CTDSAL,CTDSAL_FLAG_W,SALNTY,SALNTY_FLAG_W,OXYGEN,OXYGEN_FLAG_W,SILCAT,SILCAT_FLAG_W,NITRAT,NITRAT_FLAG_W,PHSPHT,PHSPHT_FLAG_W
,,,,,,,,,,,,DBAR,ITS-90,PSS-78,,PSS-78,,UMOL/KG,,UMOL/KG,,UMOL/KG,,UMOL/KG,
     06GA276_2,  AR19,   141,  1,     20, 104865,2,19960531,2321, 42.6067, -47.1150, 3992,   1998.2,   3.1202,  34.8767,2,  34.8765,2,    289.4,2,    10.79,2,    16.28,2,     1.05,2
     06GA276_2,  AR19,   141,  1,     22, 104867,2,19960531,2321, 42.6067, -47.1150, 3992,   1998.5,   3.1209,  34.8770,2,  34.8769,2,    289.0,2,    10.79,2,    16.33,2,     1.05,2
     06GA276_2,  AR19,   141,  1,     23, 104868,2,19960531,2321, 42.6067, -47.1150, 3992,   1998.6,   3.1247,  34.8784,2,  34.8773,2,    289.2,2,    10.98,2,    16.38,2,     1.02,2
     06GA276_2,  AR19,   141,  1,     19, 104864,2,19960531,2321, 42.6067, -47.1150, 3992,   1998.6,   3.1227,  34.8768,2,  34.8752,2,    289.6,2,    10.83,2,    16.33,2,     1.02,2
     06GA276_2,  AR19,   141,  1,     18, 104863,2,19960531,2321, 42.6067, -47.1150, 3992,   1998.8,   3.1230,  34.8766,2,  34.8758,2,    289.1,2,    10.92,2,    16.30,2,     1.05,2
     06GA276_2,  AR19,   141,  1,     21, 104866,2,19960531,2321, 42.6067, -47.1150, 3992,   1999.0,   3.1210,  34.8775,2,  34.8757,2,    289.3,2,    10.81,2,    16.29,2,     1.02,2
     06GA276_2,  AR19,   141,  1,     17, 104862,2,19960531,2321, 42.6067, -47.1150, 3992,   1999.0,   3.1200,  34.8763,2,  34.8755,2,    289.4,2,    10.95,2,    16.39,2,     1.05,2
     06GA276_2,  AR19,   141,  1,     10, 104855,2,19960531,2321, 42.6067, -47.1150, 3992,   2540.4,   3.1108,  34.9130,2,  34.9126,2,    279.4,2,    13.21,2,    16.34,2,     1.00,2
     06GA276_2,  AR19,   141,  1,     16, 104861,2,19960531,2321, 42.6067, -47.1150, 3992,   2540.5,   3.1101,  34.9135,2,  34.9124,2,    279.5,2,    12.98,2,    16.43,2,     1.05,2
     06GA276_2,  AR19,   141,  1,     15, 104860,2,19960531,2321, 42.6067, -47.1150, 3992,   2540.7,   3.1099,  34.9131,2,  34.9128,2,    279.9,2,    13.26,2,    16.51,2,     1.05,2
     06GA276_2,  AR19,   141,  1,     11, 104856,2,19960531,2321, 42.6067, -47.1150, 3992,   2540.7,   3.1105,  34.9134,2,  34.9115,2,    279.0,2,    13.18,2,    16.26,2,     1.05,2
     06GA276_2,  AR19,   141,  1,     13, 104858,2,19960531,2321, 42.6067, -47.1150, 3992,   2540.8,   3.1071,  34.9128,2,  34.9116,2,    279.7,2,    13.16,2,    16.35,2,     1.06,2
     06GA276_2,  AR19,   141,  1,     14, 104859,2,19960531,2321, 42.6067, -47.1150, 3992,   2541.1,   3.1089,  34.9128,2,  34.9123,2,    280.2,2,    13.32,2,    16.93,2,     1.05,2
     06GA276_2,  AR19,   141,  1,      9, 104854,2,19960531,2321, 42.6067, -47.1150, 3992,   2541.1,   3.1075,  34.9128,2,  34.9119,2,    279.4,2,    12.89,2,    16.27,2,     1.05,2
     06GA276_2,  AR19,   141,  1,     12, 104857,2,19960531,2321, 42.6067, -47.1150, 3992,   2541.4,   3.1080,  34.9127,2,  34.9126,2,    280.9,2,    13.12,2,    16.36,2,     1.05,2
     06GA276_2,  AR19,   141,  1,      7, 104852,2,19960531,2321, 42.6067, -47.1150, 3992,   2801.5,   2.9696,  34.9199,2,  34.9181,2,    277.2,2,    13.60,2,    16.10,2,     1.01,2
     06GA276_2,  AR19,   141,  1,      8, 104853,2,19960531,2321, 42.6067, -47.1150, 3992,   2801.6,   2.9694,  34.9198,2,  34.9176,2,    277.1,2,    13.81,3,    16.26,3,     1.01,3
     06GA276_2,  AR19,   141,  1,      6, 104851,2,19960531,2321, 42.6067, -47.1150, 3992,   2802.1,   2.9694,  34.9192,2,  34.9177,2,    277.6,2,    12.96,2,    16.10,2,     1.02,2
     06GA276_2,  AR19,   141,  1,      5, 104850,2,19960531,2321, 42.6067, -47.1150, 3992,   2802.1,   2.9692,  34.9192,2,  34.9189,2,    277.3,2,    12.65,2,    15.95,2,     1.05,2
     06GA276_2,  AR19,   141,  1,      2, 104847,2,19960531,2321, 42.6067, -47.1150, 3992,   2802.3,   2.9692,  34.9192,2,  34.9181,2,    278.7,2,    12.94,2,    16.06,2,     1.05,2
     06GA276_2,  AR19,   141,  1,      4, 104849,2,19960531,2321, 42.6067, -47.1150, 3992,   2802.5,   2.9693,  34.9192,2,  34.9182,2,    277.3,2,    12.74,2,    16.02,2,     1.06,2
     06GA276_2,  AR19,   141,  1,      3, 104848,2,19960531,2321, 42.6067, -47.1150, 3992,   2802.7,   2.9691,  34.9194,2,  34.9188,2,    278.0,2,    12.82,2,    16.04,2,     1.05,2
     06GA276_2,  AR19,   141,  1,      1, 104846,2,19960531,2321, 42.6067, -47.1150, 3992,   2803.1,   2.9695,  34.9191,2,  34.9185,2,    277.2,2,  -999.00,9,  -999.00,9,  -999.00,9
     06GA276_2,  AR19,   141,  2,     24, 104893,2,19960601,0324, 42.6117, -47.0933, 3970,     13.3,  16.7851,  35.7130,2,-999.0000,9,    221.1,2,     5.08,2,     8.95,2,     0.63,2
     06GA276_2,  AR19,   141,  2,     23, 104892,2,19960601,0324, 42.6117, -47.0933, 3970,     56.1,  15.1455,  35.7630,2,  35.7650,2,    225.0,2,     1.70,2,     5.07,2,     0.32,2
     06GA276_2,  AR19,   141,  2,     22, 104891,2,19960601,0324, 42.6117, -47.0933, 3970,    100.8,  13.6230,  35.5706,2,  35.5746,2,    216.0,2,     3.31,2,     8.20,2,     0.52,2
     06GA276_2,  AR19,   141,  2,     21, 104890,2,19960601,0324, 42.6117, -47.0933, 3970,    200.7,  12.4793,  35.4772,2,  35.4746,2,    213.1,2,     5.10,2,    11.02,2,     0.69,2
     06GA276_2,  AR19,   141,  2,     20, 104889,2,19960601,0324, 42.6117, -47.0933, 3970,    351.3,   9.7303,  35.2235,2,  35.2176,3,    156.1,2,    13.22,2,    21.85,2,     1.34,2
     06GA276_2,  AR19,   141,  2,     19, 104888,2,19960601,0324, 42.6117, -47.0933, 3970,    464.9,   4.7405,  34.5801,2,  34.5850,3,    228.1,2,    12.76,2,    17.94,2,     1.18,2
     06GA276_2,  AR19,   141,  2,     18, 104887,2,19960601,0324, 42.6117, -47.0933, 3970,    700.6,   5.2053,  35.0064,2,  35.0090,2,    232.6,2,    13.33,2,    18.99,2,     1.20,2
     06GA276_2,  AR19,   141,  2,     17, 104886,2,19960601,0324, 42.6117, -47.0933, 3970,    866.4,   4.5096,  34.9749,2,  34.9742,2,    253.1,2,    12.30,2,    18.07,2,     1.13,2
     06GA276_2,  AR19,   141,  2,     16, 104885,2,19960601,0324, 42.6117, -47.0933, 3970,    980.5,   4.3947,  34.9887,2,  34.9891,2,    256.3,2,    12.35,2,    17.92,2,     1.16,2
     06GA276_2,  AR19,   141,  2,     15, 104884,2,19960601,0324, 42.6117, -47.0933, 3970,   1045.0,   4.1168,  34.9585,2,  34.9581,2,    263.7,2,    12.10,2,    17.65,2,     1.15,2
     06GA276_2,  AR19,   141,  2,     14, 104883,2,19960601,0324, 42.6117, -47.0933, 3970,   1173.6,   3.7970,  34.9221,2,  34.9246,2,    272.8,2,    11.95,2,    17.18,2,     1.09,2
     06GA276_2,  AR19,   141,  2,     13, 104882,2,19960601,0324, 42.6117, -47.0933, 3970,   1251.1,   3.7590,  34.9258,2,  34.9284,2,    274.7,2,    11.78,2,    17.10,2,     1.15,2
     06GA276_2,  AR19,   141,  2,     12, 104881,2,19960601,0324, 42.6117, -47.0933, 3970,   1401.2,   3.5531,  34.9096,2,  34.9129,2,    278.4,2,    11.90,2,    16.91,2,     1.11,2
     06GA276_2,  AR19,   141,  2,     11, 104880,2,19960601,0324, 42.6117, -47.0933, 3970,   1599.8,   3.3203,  34.8869,2,  34.8868,2,    285.2,2,    11.31,2,    16.62,2,     1.07,2
     06GA276_2,  AR19,   141,  2,     10, 104879,2,19960601,0324, 42.6117, -47.0933, 3970,   1800.6,   3.2113,  34.8819,2,  34.8830,2,    289.1,2,    11.49,2,    16.48,2,     1.09,2
     06GA276_2,  AR19,   141,  2,      9, 104878,2,19960601,0324, 42.6117, -47.0933, 3970,   1994.9,   3.1014,  34.8750,2,  34.8767,2,    289.8,2,    11.33,2,    16.26,2,     1.06,2
     06GA276_2,  AR19,   141,  2,      8, 104877,2,19960601,0324, 42.6117, -47.0933, 3970,   2252.5,   3.1224,  34.8909,2,  34.8913,2,    285.7,2,    12.10,2,    16.29,2,     1.08,2
     06GA276_2,  AR19,   141,  2,      7, 104876,2,19960601,0324, 42.6117, -47.0933, 3970,   2530.1,   3.0874,  34.9112,2,  34.9125,2,    281.3,2,    13.14,2,    16.23,2,     1.04,2
     06GA276_2,  AR19,   141,  2,      6, 104875,2,19960601,0324, 42.6117, -47.0933, 3970,   2862.0,   2.9504,  34.9234,2,  34.9229,2,    279.1,2,    15.09,2,    16.32,2,     1.08,2
     06GA276_2,  AR19,   141,  2,      5, 104874,2,19960601,0324, 42.6117, -47.0933, 3970,   3201.3,   2.6406,  34.9179,2,  34.9190,2,    275.8,2,    18.12,2,    16.47,2,     1.08,2
     06GA276_2,  AR19,   141,  2,      4, 104873,2,19960601,0324, 42.6117, -47.0933, 3970,   3601.8,   2.3358,  34.9035,2,  34.9084,3,    278.0,2,    20.28,2,    16.10,2,     1.10,2
     06GA276_2,  AR19,   141,  2,      3, 104872,2,19960601,0324, 42.6117, -47.0933, 3970,   3903.0,   2.2228,  34.8958,2,  34.8963,2,    278.1,2,    21.49,2,    16.71,3,     1.12,2
     06GA276_2,  AR19,   141,  2,      2, 104871,2,19960601,0324, 42.6117, -47.0933, 3970,   4000.8,   2.1539,  34.8917,2,  34.8919,2,    283.7,2,    18.75,2,    16.05,2,     1.07,2
     06GA276_2,  AR19,   143,  1,     22, 200015,2,19960601,0833, 42.7200, -47.4250, 3857,     11.4,  10.4900,  33.9721,2,  33.9708,2,    290.6,3,  -999.00,9,  -999.00,9,  -999.00,9
     06GA276_2,  AR19,   143,  1,     21, 200014,2,19960601,0833, 42.7200, -47.4250, 3857,     50.3,  12.6213,  35.3441,2,  35.3191,3,    225.8,3,  -999.00,9,  -999.00,9,  -999.00,9
     06GA276_2,  AR19,   143,  1,     20, 200013,2,19960601,0833, 42.7200, -47.4250, 3857,    201.7,   8.2749,  34.6991,2,  34.6943,2,    250.0,2,  -999.00,9,  -999.00,9,  -999.00,9
     06GA276_2,  AR19,   143,  1,     19, 200012,2,19960601,0833, 42.7200, -47.4250, 3857,    300.9,   8.5308,  34.9782,2,  34.9713,3,    181.9,2,  -999.00,9,  -999.00,9,  -999.00,9
     06GA276_2,  AR19,   143,  1,     18, 200011,2,19960601,0833, 42.7200, -47.4250, 3857,    428.7,   6.7116,  34.9484,2,  34.9351,3,    189.3,2,  -999.00,9,  -999.00,9,  -999.00,9
     06GA276_2,  AR19,   143,  1,     17, 200010,2,19960601,0833, 42.7200, -47.4250, 3857,    500.8,   6.2218,  35.0240,2,  35.0195,2,    203.9,2,  -999.00,9,  -999.00,9,  -999.00,9
     06GA276_2,  AR19,   143,  1,     16, 200009,2,19960601,0833, 42.7200, -47.4250, 3857,    602.4,   5.4202,  35.0200,2,  35.0179,2,    222.8,2,  -999.00,9,  -999.00,9,  -999.00,9
     06GA276_2,  AR19,   143,  1,     15, 200008,2,19960601,0833, 42.7200, -47.4250, 3857,    702.7,   5.0304,  35.0224,2,  35.0213,2,    236.4,2,  -999.00,9,  -999.00,9,  -999.00,9
     06GA276_2,  AR19,   143,  1,     14, 200007,2,19960601,0833, 42.7200, -47.4250, 3857,   1002.6,   4.0089,  34.9515,2,  34.9509,2,    264.9,2,  -999.00,9,  -999.00,9,  -999.00,9
     06GA276_2,  AR19,   143,  1,     13, 200006,2,19960601,0833, 42.7200, -47.4250, 3857,   1200.9,   3.6571,  34.9166,2,  34.9151,2,    275.4,2,  -999.00,9,  -999.00,9,  -999.00,9
     06GA276_2,  AR19,   143,  1,     12, 200005,2,19960601,0833, 42.7200, -47.4250, 3857,   1381.3,   3.3992,  34.8932,2,  34.8921,2,    282.5,2,  -999.00,9,  -999.00,9,  -999.00,9
     06GA276_2,  AR19,   143,  1,     11, 200004,2,19960601,0833, 42.7200, -47.4250, 3857,   1601.0,   3.3083,  34.8931,2,  34.8924,2,    283.1,2,  -999.00,9,  -999.00,9,  -999.00,9
     06GA276_2,  AR19,   143,  1,     10, 200003,2,19960601,0833, 42.7200, -47.4250, 3857,   1800.9,   3.1703,  34.8791,2,  34.8792,2,    287.8,2,  -999.00,9,  -999.00,9,  -999.00,9
     06GA276_2,  AR19,   143,  1,      9, 200002,2,19960601,0833, 42.7200, -47.4250, 3857,   2002.4,   3.0334,  34.8656,2,  34.8674,2,    292.7,2,  -999.00,9,  -999.00,9,  -999.00,9
     06GA276_2,  AR19,   143,  1,      8, 200001,2,19960601,0833, 42.7200, -47.4250, 3857,   2202.5,   3.0664,  34.8851,2,  34.8840,2,    287.0,2,  -999.00,9,  -999.00,9,  -999.00,9
     06GA276_2,  AR19,   143,  1,      7, 104900,2,19960601,0833, 42.7200, -47.4250, 3857,   2503.1,   3.0924,  34.9209,2,  34.9180,2,    277.6,2,  -999.00,9,  -999.00,9,  -999.00,9
     06GA276_2,  AR19,   143,  1,      6, 104899,2,19960601,0833, 42.7200, -47.4250, 3857,   2850.4,   2.8975,  34.9222,2,  34.9199,2,    277.3,2,  -999.00,9,  -999.00,9,  -999.00,9
     06GA276_2,  AR19,   143,  1,      5, 104898,2,19960601,0833, 42.7200, -47.4250, 3857,   3001.6,   2.8025,  34.9202,2,  34.9223,2,    276.3,2,  -999.00,9,  -999.00,9,  -999.00,9
     06GA276_2,  AR19,   143,  1,      4, 104897,2,19960601,0833, 42.7200, -47.4250, 3857,   3253.9,   2.5677,  34.9107,2,  34.9214,3,    276.4,2,  -999.00,9,  -999.00,9,  -999.00,9
     06GA276_2,  AR19,   143,  1,      3, 104896,2,19960601,0833, 42.7200, -47.4250, 3857,   3503.1,   2.3378,  34.9040,2,  34.9047,2,    278.4,2,  -999.00,9,  -999.00,9,  -999.00,9
     06GA276_2,  AR19,   143,  1,      2, 104895,2,19960601,0833, 42.7200, -47.4250, 3857,   3753.8,   2.2089,  34.8962,2,  34.8991,2,    278.8,2,  -999.00,9,  -999.00,9,  -999.00,9
     06GA276_2,  AR19,   143,  1,      1, 104894,2,19960601,0833, 42.7200, -47.4250, 3857,   3896.2,   2.1329,  34.8916,2,  34.8925,2,    282.2,2,  -999.00,9,  -999.00,9,  -999.00,9
     06GA276_2,  AR19,   145,  1,     23, 200040,2,19960601,1444, 42.9083, -48.0283, 3481,     10.8,  13.5650,  35.1045,2,  35.1007,2,    266.5,2,  -999.00,9,  -999.00,9,  -999.00,9
     06GA276_2,  AR19,   145,  1,     22, 200039,2,19960601,1444, 42.9083, -48.0283, 3481,     30.3,  13.0352,  35.0087,2,  35.0218,3,    270.4,2,  -999.00,9,  -999.00,9,  -999.00,9
     06GA276_2,  AR19,   145,  1,     21, 200038,2,19960601,1444, 42.9083, -48.0283, 3481,     53.4,   4.5168,  33.4007,2,  33.3831,3,    363.8,4,  -999.00,9,  -999.00,9,  -999.00,9
     06GA276_2,  AR19,   145,  1,     20, 200037,2,19960601,1444, 42.9083, -48.0283, 3481,    103.7,   7.2858,  34.4879,2,  34.4479,3,    262.1,2,  -999.00,9,  -999.00,9,  -999.00,9
     06GA276_2,  AR19,   145,  1,     19, 200036,2,19960601,1444, 42.9083, -48.0283, 3481,    168.6,   9.9441,  35.2424,2,  35.2585,3,    151.0,2,  -999.00,9,  -999.00,9,  -999.00,9
     06GA276_2,  AR19,   145,  1,     18, 200035,2,19960601,1444, 42.9083, -48.0283, 3481,    279.8,   3.1477,  34.3543,2,  34.3699,3,    258.0,2,  -999.00,9,  -999.00,9,  -999.00,9
     06GA276_2,  AR19,   145,  1,     17, 200034,2,19960601,1444, 42.9083, -48.0283, 3481,    381.7,   3.6939,  34.6473,2,  34.6562,3,    259.5,2,  -999.00,9,  -999.00,9,  -999.00,9
     06GA276_2,  AR19,   145,  1,     16, 200033,2,19960601,1444, 42.9083, -48.0283, 3481,    405.3,   4.8936,  34.8716,2,  34.8545,3,    235.2,2,  -999.00,9,  -999.00,9,  -999.00,9
     06GA276_2,  AR19,   145,  1,     15, 200032,2,19960601,1444, 42.9083, -48.0283, 3481,    502.8,   5.1455,  35.0100,2,  35.0109,2,    231.2,2,  -999.00,9,  -999.00,9,  -999.00,9
     06GA276_2,  AR19,   145,  1,     14, 200031,2,19960601,1444, 42.9083, -48.0283, 3481,    755.9,   4.0868,  34.9431,2,  34.9411,2,    264.5,2,  -999.00,9,  -999.00,9,  -999.00,9
     06GA276_2,  AR19,   145,  1,     13, 200030,2,19960601,1444, 42.9083, -48.0283, 3481,    999.8,   3.6736,  34.9151,2,  34.9174,2,    274.8,2,  -999.00,9,  -999.00,9,  -999.00,9
     06GA276_2,  AR19,   145,  1,     12, 200029,2,19960601,1444, 42.9083, -48.0283, 3481,   1200.8,   3.4102,  34.8910,2,  34.8904,2,    282.5,2,  -999.00,9,  -999.00,9,  -999.00,9
     06GA276_2,  AR19,   145,  1,     11, 200028,2,19960601,1444, 42.9083, -48.0283, 3481,   1350.2,   3.2958,  34.8837,2,  34.8834,2,    284.9,2,  -999.00,9,  -999.00,9,  -999.00,9
     06GA276_2,  AR19,   145,  1,     10, 200027,2,19960601,1444, 42.9083, -48.0283, 3481,   1592.4,   3.1005,  34.8670,2,  34.8667,2,    291.3,2,  -999.00,9,  -999.00,9,  -999.00,9
     06GA276_2,  AR19,   145,  1,      9, 200026,2,19960601,1444, 42.9083, -48.0283, 3481,   1750.6,   2.9794,  34.8542,2,  34.8544,2,    295.7,2,  -999.00,9,  -999.00,9,  -999.00,9
     06GA276_2,  AR19,   145,  1,      8, 200025,2,19960601,1444, 42.9083, -48.0283, 3481,   1946.9,   2.9564,  34.8584,2,  34.8582,2,    294.7,2,  -999.00,9,  -999.00,9,  -999.00,9
     06GA276_2,  AR19,   145,  1,      7, 200024,2,19960601,1444, 42.9083, -48.0283, 3481,   2101.3,   3.0855,  34.8921,2,  34.8909,2,    285.8,2,  -999.00,9,  -999.00,9,  -999.00,9
     06GA276_2,  AR19,   145,  1,      6, 200023,2,19960601,1444, 42.9083, -48.0283, 3481,   2302.4,   3.0950,  34.9121,2,  34.9114,2,    281.0,2,  -999.00,9,  -999.00,9,  -999.00,9
     06GA276_2,  AR19,   145,  1,      5, 200022,2,19960601,1444, 42.9083, -48.0283, 3481,   2548.9,   3.0345,  34.9296,2,  34.9305,2,    275.1,2,  -999.00,9,  -999.00,9,  -999.00,9
     06GA276_2,  AR19,   145,  1,      4, 200021,2,19960601,1444, 42.9083, -48.0283, 3481,   3003.3,   2.6081,  34.9108,2,  34.9111,2,    281.9,2,  -999.00,9,  -999.00,9,  -999.00,9
     06GA276_2,  AR19,   145,  1,      3, 200020,2,19960601,1444, 42.9083, -48.0283, 3481,   3153.4,   2.4596,  34.9073,2,  34.9091,2,    282.3,2,  -999.00,9,  -999.00,9,  -999.00,9
     06GA276_2,  AR19,   145,  1,      2, 200019,2,19960601,1444, 42.9083, -48.0283, 3481,   3404.4,   2.1979,  34.8985,2,  34.8975,2,    282.6,2,  -999.00,9,  -999.00,9,  -999.00,9
     06GA276_2,  AR19,   145,  1,      1, 200018,2,19960601,1444, 42.9083, -48.0283, 3481,   3476.6,   2.1845,  34.8970,2,  34.8961,2,    281.7,2,  -999.00,9,  -999.00,9,  -999.00,9