BOTTLE,20220921CCHSIOAMB
EXPOCODE,SECT_ID,STNNBR,CASTNO,SAMPNO,BTLNBR,BTLNBR_FLAG_W,DATE,TIME,LATITUDE,LONGITUDE,DEPTH,CTDPRS,CTDTMP,CTDSAL,CTDSAL_FLAG_W,SALNTY,SALNTY_FLAG_W,OXYGEN,OXYGEN_FLAG_W,SILCAT,SILCAT_FLAG_W,NITRAT,NITRAT_FLAG_W,PHSPHT,PHSPHT_FLAG_W
,,,,,,,,,,,,DBAR,ITS-90,PSS-78,,PSS-78,,UMOL/KG,,UMOL/KG,,UMOL/KG,,UMOL/KG,
     06GA276_2,  AR19,    71,  1,     23, 104004,2,19960522,0114, 46.8200, -27.8650, 2075,     20.5,  13.7203,  35.8741,2,  35.8732,2,    260.3,2,  -999.00,9,  -999.00,9,  -999.00,9
     06GA276_2,  AR19,    71,  1,     22, 104003,2,19960522,0114, 46.8200, -27.8650, 2075,     51.9,  13.7168,  35.8747,2,  35.8740,2,    258.1,2,  -999.00,9,  -999.00,9,  -999.00,9
     06GA276_2,  AR19,    71,  1,     21, 104002,2,19960522,0114, 46.8200, -27.8650, 2075,    100.8,  13.6208,  35.8703,2,  35.8698,2,    255.6,2,  -999.00,9,  -999.00,9,  -999.00,9
     06GA276_2,  AR19,    71,  1,     20, 104001,2,19960522,0114, 46.8200, -27.8650, 2075,    201.4,  12.9682,  35.7634,2,  35.7639,2,    241.0,2,  -999.00,9,  -999.00,9,  -999.00,9
     06GA276_2,  AR19,    71,  1,     19, 104000,2,19960522,0114, 46.8200, -27.8650, 2075,    301.4,  12.3151,  35.6523,2,  35.6528,2,    237.1,2,  -999.00,9,  -999.00,9,  -999.00,9
     06GA276_2,  AR19,    71,  1,     18, 103999,2,19960522,0114, 46.8200, -27.8650, 2075,    400.7,  11.6508,  35.5486,2,-999.0000,9,    236.6,2,  -999.00,9,  -999.00,9,  -999.00,9
     06GA276_2,  AR19,    71,  1,     17, 103998,2,19960522,0114, 46.8200, -27.8650, 2075,    501.2,  10.8509,  35.4357,2,  35.4363,2,    217.6,2,  -999.00,9,  -999.00,9,  -999.00,9
     06GA276_2,  AR19,    71,  1,     16, 103997,2,19960522,0114, 46.8200, -27.8650, 2075,    602.2,   9.3725,  35.2435,2,  35.2412,2,    201.4,2,  -999.00,9,  -999.00,9,  -999.00,9
     06GA276_2,  AR19,    71,  1,     15, 103996,2,19960522,0114, 46.8200, -27.8650, 2075,    700.5,   8.8697,  35.2343,2,  35.2314,2,    197.7,2,  -999.00,9,  -999.00,9,  -999.00,9
     06GA276_2,  AR19,    71,  1,     14, 103995,2,19960522,0114, 46.8200, -27.8650, 2075,    802.1,   6.7696,  35.0247,2,-999.0000,9,   -999.0,9,  -999.00,9,  -999.00,9,  -999.00,9
     06GA276_2,  AR19,    71,  1,     13, 103994,2,19960522,0114, 46.8200, -27.8650, 2075,    999.3,   5.3296,  35.0008,2,  35.0020,2,    232.6,2,  -999.00,9,  -999.00,9,  -999.00,9
     06GA276_2,  AR19,    71,  1,     12, 103993,2,19960522,0114, 46.8200, -27.8650, 2075,   1101.4,   4.9250,  35.0047,2,  35.0055,2,    243.1,2,  -999.00,9,  -999.00,9,  -999.00,9
     06GA276_2,  AR19,    71,  1,     11, 103992,2,19960522,0114, 46.8200, -27.8650, 2075,   1200.0,   4.5374,  34.9801,2,  34.9796,2,    252.3,2,  -999.00,9,  -999.00,9,  -999.00,9
     06GA276_2,  AR19,    71,  1,     10, 103991,2,19960522,0114, 46.8200, -27.8650, 2075,   1299.7,   4.2750,  34.9611,2,  34.9604,2,    259.3,2,  -999.00,9,  -999.00,9,  -999.00,9
     06GA276_2,  AR19,    71,  1,      9, 103990,2,19960522,0114, 46.8200, -27.8650, 2075,   1401.5,   4.0659,  34.9439,2,  34.9451,2,    264.2,2,  -999.00,9,  -999.00,9,  -999.00,9
     06GA276_2,  AR19,    71,  1,      8, 103989,2,19960522,0114, 46.8200, -27.8650, 2075,   1499.9,   3.8623,  34.9248,2,  34.9323,3,    270.1,2,  -999.00,9,  -999.00,9,  -999.00,9
     06GA276_2,  AR19,    71,  1,      7, 103988,2,19960522,0114, 46.8200, -27.8650, 2075,   1600.0,   3.6998,  34.9136,2,  34.9156,2,    274.1,2,  -999.00,9,  -999.00,9,  -999.00,9
     06GA276_2,  AR19,    71,  1,      6, 103987,2,19960522,0114, 46.8200, -27.8650, 2075,   1701.1,   3.6220,  34.9092,2,  34.9085,2,    275.5,2,  -999.00,9,  -999.00,9,  -999.00,9
     06GA276_2,  AR19,    71,  1,      5, 103986,2,19960522,0114, 46.8200, -27.8650, 2075,   1801.2,   3.4816,  34.9014,2,  34.9000,2,    278.9,2,  -999.00,9,  -999.00,9,  -999.00,9
     06GA276_2,  AR19,    71,  1,      4, 103985,2,19960522,0114, 46.8200, -27.8650, 2075,   1898.3,   3.3921,  34.9013,2,  34.9095,3,    275.4,3,  -999.00,9,  -999.00,9,  -999.00,9
     06GA276_2,  AR19,    71,  1,      3, 103984,2,19960522,0114, 46.8200, -27.8650, 2075,   1998.4,   3.3595,  34.9030,2,  34.9025,2,    279.2,2,  -999.00,9,  -999.00,9,  -999.00,9
     06GA276_2,  AR19,    71,  1,      2, 103983,2,19960522,0114, 46.8200, -27.8650, 2075,   2204.4,   3.3561,  34.9080,2,  34.9070,2,    280.5,2,  -999.00,9,  -999.00,9,  -999.00,9
     06GA276_2,  AR19,    71,  1,      1, 103982,2,19960522,0114, 46.8200, -27.8650, 2075,   2283.9,   3.3304,  34.9114,2,  34.9107,2,    278.0,2,  -999.00,9,  -999.00,9,  -999.00,9
     06GA276_2,  AR19,    73,  1,     24, 104029,2,19960522,0559, 46.7183, -28.2900, 3433,     12.2,  13.8265,  35.8970,2,  35.9003,2,    256.7,2,     1.84,2,     5.30,2,     0.32,2
     06GA276_2,  AR19,    73,  1,     23, 104028,2,19960522,0559, 46.7183, -28.2900, 3433,     49.2,  13.7075,  35.8832,2,  35.8829,2,    256.4,2,     1.96,2,     5.54,2,     0.39,2
     06GA276_2,  AR19,    73,  1,     22, 104027,2,19960522,0559, 46.7183, -28.2900, 3433,    151.8,  13.4229,  35.8243,2,  35.8246,2,    257.1,2,     2.05,2,     6.08,2,     0.43,2
     06GA276_2,  AR19,    73,  1,     21, 104026,2,19960522,0559, 46.7183, -28.2900, 3433,    202.1,  12.9773,  35.7626,2,  35.7672,2,    240.1,2,     3.26,2,     8.46,2,     0.53,2
     06GA276_2,  AR19,    73,  1,     20, 104025,2,19960522,0559, 46.7183, -28.2900, 3433,    301.7,  12.4171,  35.6714,2,  35.6777,2,    240.1,2,     3.44,2,     9.24,2,     0.63,2
     06GA276_2,  AR19,    73,  1,     19, 104024,2,19960522,0559, 46.7183, -28.2900, 3433,    601.2,   8.7741,  35.1820,2,  35.1819,2,    191.3,3,     9.55,2,    18.21,2,     1.19,2
     06GA276_2,  AR19,    73,  1,     18, 104023,2,19960522,0559, 46.7183, -28.2900, 3433,    701.8,   7.2674,  35.0479,2,  35.0440,2,    195.3,2,    11.00,2,    19.29,2,     1.28,2
     06GA276_2,  AR19,    73,  1,     17, 104022,2,19960522,0559, 46.7183, -28.2900, 3433,    801.6,   6.5580,  35.0373,2,  35.0363,2,    206.2,2,    11.37,2,    19.08,2,     1.26,2
     06GA276_2,  AR19,    73,  1,     16, 104021,2,19960522,0559, 46.7183, -28.2900, 3433,    869.7,   5.7373,  34.9937,2,  34.9922,2,    220.1,2,    11.27,2,    18.76,2,     1.23,2
     06GA276_2,  AR19,    73,  1,     15, 104020,2,19960522,0559, 46.7183, -28.2900, 3433,   1000.0,   5.3502,  35.0384,2,-999.0000,9,    232.6,2,    11.08,2,    18.31,2,     1.19,2
     06GA276_2,  AR19,    73,  1,     14, 104019,2,19960522,0559, 46.7183, -28.2900, 3433,   1199.2,   4.4066,  34.9721,2,  34.9714,2,    255.1,2,    10.75,2,    17.84,2,     1.15,2
     06GA276_2,  AR19,    73,  1,     13, 104018,2,19960522,0559, 46.7183, -28.2900, 3433,   1401.3,   3.9729,  34.9411,2,  34.9399,2,    266.7,2,    10.70,2,    17.28,2,     1.14,2
     06GA276_2,  AR19,    73,  1,     12, 104017,2,19960522,0559, 46.7183, -28.2900, 3433,   1599.3,   3.6389,  34.9081,2,  34.9086,2,    274.8,2,    10.54,2,    17.02,2,     1.12,2
     06GA276_2,  AR19,    73,  1,     11, 104016,2,19960522,0559, 46.7183, -28.2900, 3433,   1800.3,   3.4843,  34.9011,2,  34.9060,3,    277.1,2,    11.89,3,    16.87,2,     1.12,2
     06GA276_2,  AR19,    73,  1,     10, 104015,2,19960522,0559, 46.7183, -28.2900, 3433,   2001.9,   3.3362,  34.8966,2,  34.8964,2,    279.9,3,    11.16,3,    16.77,2,     1.10,2
     06GA276_2,  AR19,    73,  1,      9, 104014,2,19960522,0559, 46.7183, -28.2900, 3433,   2200.1,   3.3007,  34.9076,2,  34.9072,2,    277.8,2,    12.06,2,    16.93,2,     1.10,2
     06GA276_2,  AR19,    73,  1,      8, 104013,2,19960522,0559, 46.7183, -28.2900, 3433,   2401.2,   3.2816,  34.9205,2,  34.9206,2,    273.4,2,    13.80,2,    16.94,2,     1.12,2
     06GA276_2,  AR19,    73,  1,      7, 104012,2,19960522,0559, 46.7183, -28.2900, 3433,   2602.2,   3.1868,  34.9268,2,  34.9277,2,    271.7,2,    14.98,2,    16.80,2,     1.12,2
     06GA276_2,  AR19,    73,  1,      6, 104011,2,19960522,0559, 46.7183, -28.2900, 3433,   2802.8,   3.0985,  34.9305,2,  34.9312,2,    270.9,2,    15.83,2,    16.92,2,     1.14,2
     06GA276_2,  AR19,    73,  1,      5, 104010,2,19960522,0559, 46.7183, -28.2900, 3433,   3004.5,   3.0314,  34.9314,2,  34.9333,2,    270.4,2,    16.32,2,    17.06,2,     1.14,2
     06GA276_2,  AR19,    73,  1,      4, 104009,2,19960522,0559, 46.7183, -28.2900, 3433,   3202.3,   3.0166,  34.9322,2,  34.9315,2,    270.4,2,    16.88,2,    17.07,2,     1.12,2
     06GA276_2,  AR19,    73,  1,      3, 104008,2,19960522,0559, 46.7183, -28.2900, 3433,   3304.2,   3.0073,  34.9323,2,  34.9339,2,    270.6,2,    16.65,2,    17.06,2,     1.15,2
     06GA276_2,  AR19,    73,  1,      2, 104007,2,19960522,0559, 46.7183, -28.2900, 3433,   3450.1,   3.0107,  34.9320,2,  34.9330,2,    271.8,2,    16.96,2,    17.11,2,     1.13,2
     06GA276_2,  AR19,    73,  1,      1, 104006,2,19960522,0559, 46.7183, -28.2900, 3433,   3480.6,   3.0142,  34.9320,2,  34.9324,2,    270.8,2,    17.00,2,    16.92,2,     1.14,2
     06GA276_2,  AR19,    75,  1,     24, 104053,2,19960522,1217, 46.5900, -29.0050, 3122,      9.4,  13.5279,  35.7694,2,  35.7698,2,    264.9,2,     1.72,2,     5.49,2,     0.34,2
     06GA276_2,  AR19,    75,  1,     23, 104052,2,19960522,1217, 46.5900, -29.0050, 3122,     50.6,  13.4324,  35.8053,2,  35.8046,2,    260.7,2,     1.87,2,     5.84,2,     0.40,2
     06GA276_2,  AR19,    75,  1,     22, 104051,2,19960522,1217, 46.5900, -29.0050, 3122,    103.0,  13.5113,  35.8463,2,  35.8471,2,    257.4,2,     2.30,2,     6.13,2,     0.41,2
     06GA276_2,  AR19,    75,  1,     21, 104050,2,19960522,1217, 46.5900, -29.0050, 3122,    249.7,  12.4381,  35.6657,2,  35.6649,2,    231.6,2,     3.29,2,     9.65,2,     0.62,2
     06GA276_2,  AR19,    75,  1,     20, 104049,2,19960522,1217, 46.5900, -29.0050, 3122,    352.7,  11.7582,  35.5739,2,  35.5710,2,    251.4,3,     4.03,2,    10.34,2,     0.63,2
     06GA276_2,  AR19,    75,  1,     19, 104048,2,19960522,1217, 46.5900, -29.0050, 3122,    498.2,   9.8048,  35.2412,2,  35.2454,2,    236.3,2,     6.29,2,    12.97,2,     0.88,2
     06GA276_2,  AR19,    75,  1,     18, 104047,2,19960522,1217, 46.5900, -29.0050, 3122,    701.3,   6.2323,  34.9536,2,  34.9522,2,    209.0,2,    11.43,2,    19.83,2,     1.29,2
     06GA276_2,  AR19,    75,  1,     17, 104046,2,19960522,1217, 46.5900, -29.0050, 3122,    902.2,   5.3516,  35.0392,2,  35.0388,2,    233.2,2,    11.10,2,    18.64,2,     1.26,2
     06GA276_2,  AR19,    75,  1,     16, 104045,2,19960522,1217, 46.5900, -29.0050, 3122,   1100.0,   4.5457,  34.9811,2,  34.9813,2,    251.3,2,    10.62,2,    18.21,2,     1.19,2
     06GA276_2,  AR19,    75,  1,     15, 104044,2,19960522,1217, 46.5900, -29.0050, 3122,   1299.7,   4.0375,  34.9418,2,  34.9425,2,    265.2,2,    10.40,2,    17.68,2,     1.19,2
     06GA276_2,  AR19,    75,  1,     14, 104043,2,19960522,1217, 46.5900, -29.0050, 3122,   1499.9,   3.6699,  34.9102,2,  34.9105,2,    273.3,2,    10.29,2,    17.24,2,     1.13,2
     06GA276_2,  AR19,    75,  1,     13, 104042,2,19960522,1217, 46.5900, -29.0050, 3122,   1702.5,   3.4268,  34.8936,2,  34.8924,2,    279.7,2,    10.29,2,    16.80,2,     1.10,2
     06GA276_2,  AR19,    75,  1,     12, 104041,2,19960522,1217, 46.5900, -29.0050, 3122,   1901.9,   3.3057,  34.8875,2,  34.8839,2,    283.4,2,    10.30,2,    16.75,2,     1.12,2
     06GA276_2,  AR19,    75,  1,     11, 104040,2,19960522,1217, 46.5900, -29.0050, 3122,   2099.3,   3.2308,  34.8857,2,  34.8841,2,    292.3,4,    10.32,2,    16.69,2,     1.13,2
     06GA276_2,  AR19,    75,  1,     10, 104039,2,19960522,1217, 46.5900, -29.0050, 3122,   2199.4,   3.2093,  34.8880,2,  34.8866,2,    283.8,2,    10.42,2,    16.57,2,     1.11,2
     06GA276_2,  AR19,    75,  1,      9, 104038,2,19960522,1217, 46.5900, -29.0050, 3122,   2401.0,   3.2332,  34.9108,2,  34.9107,2,    278.6,2,    11.66,2,    16.56,2,     1.13,2
     06GA276_2,  AR19,    75,  1,      8, 104037,2,19960522,1217, 46.5900, -29.0050, 3122,   2501.9,   3.2323,  34.9184,2,  34.9186,2,    276.7,2,    12.37,2,    16.72,2,     1.14,2
     06GA276_2,  AR19,    75,  1,      7, 104036,2,19960522,1217, 46.5900, -29.0050, 3122,   2601.0,   3.2026,  34.9250,2,  34.9254,2,    274.8,2,    13.09,2,    16.81,2,     1.12,2
     06GA276_2,  AR19,    75,  1,      6, 104035,2,19960522,1217, 46.5900, -29.0050, 3122,   2799.3,   3.0723,  34.9311,2,  34.9320,2,    273.5,2,    14.48,2,    16.69,2,     1.14,2
     06GA276_2,  AR19,    75,  1,      5, 104034,2,19960522,1217, 46.5900, -29.0050, 3122,   2851.8,   3.0059,  34.9311,2,  34.9315,2,    272.4,2,    15.03,2,    16.68,2,     1.13,2
     06GA276_2,  AR19,    75,  1,      4, 104033,2,19960522,1217, 46.5900, -29.0050, 3122,   2951.1,   2.9428,  34.9321,2,  34.9319,2,    272.8,2,    15.48,2,    16.55,2,     1.14,2
     06GA276_2,  AR19,    75,  1,      3, 104032,2,19960522,1217, 46.5900, -29.0050, 3122,   3032.7,   2.8967,  34.9312,2,  34.9303,2,    273.0,2,    15.66,2,    16.67,2,     1.13,2
     06GA276_2,  AR19,    75,  1,      2, 104031,2,19960522,1217, 46.5900, -29.0050, 3122,   3110.8,   2.7981,  34.9293,2,  34.9288,2,    274.6,2,    15.74,2,    16.51,2,     1.10,2
     06GA276_2,  AR19,    75,  1,      1, 104030,2,19960522,1217, 46.5900, -29.0050, 3122,   3143.6,   2.7791,  34.9283,2,  34.9280,2,    274.2,2,    16.02,2,    16.50,2,     1.11,2
     06GA276_2,  AR19,    77,  1,     24, 104077,2,19960522,1820, 46.4250, -29.7133, 3450,     10.1,  13.5014,  35.7699,2,  35.7720,2,    265.1,2,     0.53,2,     5.59,2,     0.32,2
     06GA276_2,  AR19,    77,  1,     23, 104076,2,19960522,1820, 46.4250, -29.7133, 3450,     50.7,  13.4003,  35.7984,2,  35.8012,2,    258.3,2,     1.40,2,     5.94,2,     0.38,2
     06GA276_2,  AR19,    77,  1,     22, 104075,2,19960522,1820, 46.4250, -29.7133, 3450,     76.6,  13.3966,  35.7980,2,  35.7974,2,    258.1,2,     1.44,2,     5.94,2,     0.43,2
     06GA276_2,  AR19,    77,  1,     21, 104074,2,19960522,1820, 46.4250, -29.7133, 3450,    100.2,  13.3793,  35.7958,2,  35.7962,2,    257.4,2,     1.47,2,     6.12,2,     0.45,2
     06GA276_2,  AR19,    77,  1,     20, 104073,2,19960522,1820, 46.4250, -29.7133, 3450,    199.9,  13.1591,  35.7874,2,  35.7902,2,    240.5,2,     3.25,2,     8.31,2,     0.56,2
     06GA276_2,  AR19,    77,  1,     19, 104072,2,19960522,1820, 46.4250, -29.7133, 3450,    301.4,  12.3232,  35.6451,2,  35.6429,2,    233.4,2,     3.91,2,    10.25,2,     0.67,2
     06GA276_2,  AR19,    77,  1,     18, 104071,2,19960522,1820, 46.4250, -29.7133, 3450,    501.6,  10.2570,  35.3146,2,  35.3124,2,    197.4,2,     7.78,2,    16.30,2,     1.03,2
     06GA276_2,  AR19,    77,  1,     17, 104070,2,19960522,1820, 46.4250, -29.7133, 3450,    699.7,   6.9940,  34.9931,2,  34.9917,2,    196.2,2,    11.76,2,    19.93,2,     1.18,2
     06GA276_2,  AR19,    77,  1,     16, 104069,2,19960522,1820, 46.4250, -29.7133, 3450,    812.6,   6.3757,  35.0511,2,  35.0518,2,    211.1,2,    11.04,2,    19.17,2,     1.26,2
     06GA276_2,  AR19,    77,  1,     15, 104068,2,19960522,1820, 46.4250, -29.7133, 3450,    900.5,   5.4319,  35.0092,2,  35.0102,2,    228.1,2,    11.10,2,    18.63,2,     1.10,2
     06GA276_2,  AR19,    77,  1,     14, 104067,2,19960522,1820, 46.4250, -29.7133, 3450,   1200.8,   4.4025,  34.9782,2,  34.9796,2,    255.2,2,    10.81,2,    17.92,2,     1.16,2
     06GA276_2,  AR19,    77,  1,     13, 104066,2,19960522,1820, 46.4250, -29.7133, 3450,   1401.3,   3.8497,  34.9256,2,  34.9160,3,    272.5,2,    10.47,2,    17.29,2,     1.15,2
     06GA276_2,  AR19,    77,  1,     12, 104065,2,19960522,1820, 46.4250, -29.7133, 3450,   1600.6,   3.5168,  34.9000,2,  34.9063,3,    275.6,2,    10.49,2,    17.22,2,     1.13,2
     06GA276_2,  AR19,    77,  1,     11, 104064,2,19960522,1820, 46.4250, -29.7133, 3450,   1798.4,   3.3527,  34.8885,2,  34.8876,2,    282.2,2,    10.43,2,    16.81,2,     1.08,2
     06GA276_2,  AR19,    77,  1,     10, 104063,2,19960522,1820, 46.4250, -29.7133, 3450,   1999.1,   3.2566,  34.8842,2,  34.8835,2,    284.4,2,     8.98,4,    14.32,4,     0.97,3
     06GA276_2,  AR19,    77,  1,      9, 104062,2,19960522,1820, 46.4250, -29.7133, 3450,   2199.8,   3.2133,  34.8901,2,  34.8915,2,    283.7,2,    11.08,2,    16.80,2,     1.10,2
     06GA276_2,  AR19,    77,  1,      8, 104061,2,19960522,1820, 46.4250, -29.7133, 3450,   2399.8,   3.2076,  34.9026,2,  34.9013,2,    281.0,2,    11.44,2,    16.85,2,     1.10,2
     06GA276_2,  AR19,    77,  1,      7, 104060,2,19960522,1820, 46.4250, -29.7133, 3450,   2601.9,   3.1928,  34.9222,2,  34.9225,2,    275.7,2,    12.97,2,    17.04,2,     1.08,2
     06GA276_2,  AR19,    77,  1,      6, 104059,2,19960522,1820, 46.4250, -29.7133, 3450,   2803.1,   3.1023,  34.9303,2,  34.9316,2,    272.4,2,    14.50,2,    17.07,2,     1.11,2
     06GA276_2,  AR19,    77,  1,      5, 104058,2,19960522,1820, 46.4250, -29.7133, 3450,   3000.8,   2.9305,  34.9317,2,  34.9310,2,    272.5,2,    15.14,2,    16.87,2,     1.11,2
     06GA276_2,  AR19,    77,  1,      4, 104057,2,19960522,1820, 46.4250, -29.7133, 3450,   3202.5,   2.8203,  34.9294,2,  34.9283,2,    273.3,2,    15.81,2,    16.87,2,     1.09,2
     06GA276_2,  AR19,    77,  1,      3, 104056,2,19960522,1820, 46.4250, -29.7133, 3450,   3405.7,   2.6791,  34.9246,2,  34.9308,3,    274.4,2,    16.51,2,    16.66,2,     1.10,2
     06GA276_2,  AR19,    77,  1,      2, 104055,2,19960522,1820, 46.4250, -29.7133, 3450,   3452.3,   2.6419,  34.9226,2,  34.9220,2,    275.0,2,    16.78,2,    16.79,2,     1.11,2
     06GA276_2,  AR19,    77,  1,      1, 104054,2,19960522,1820, 46.4250, -29.7133, 3450,   3499.1,   2.6178,  34.9221,2,  34.9198,2,    274.3,2,    16.80,2,    16.77,2,     1.10,2