BOTTLE,20030307WHPSIODMB
EXPOCODE,SECT_ID,STNNBR,CASTNO,SAMPNO,BTLNBR,BTLNBR_FLAG_W,DATE,TIME,LATITUDE,LONGITUDE,DEPTH,CTDPRS,CTDTMP,CTDSAL,CTDSAL_FLAG_W,SALNTY,SALNTY_FLAG_W,CTDOXY,CTDOXY_FLAG_W,OXYGEN,OXYGEN_FLAG_W,THETA
,,,,,,,,,,,,DBAR,ITS-90,PSS-78,,PSS-78,,UMOL/KG,,UMOL/KG,,DEG C
   33KMGP102_1,  PR16,    24,  1,     12,     12,2,20020314,1924, -4.9933,-110.0067, 3652,      4.4,  26.9108,  35.0590,2,  35.0716,2,   -999.0,9,   -999.0,9, 26.9098
   33KMGP102_1,  PR16,    24,  1,     11,     11,2,20020314,1924, -4.9933,-110.0067, 3652,     10.4,  26.8205,  35.0565,2,  35.0673,2,   -999.0,9,   -999.0,9, 26.8181
   33KMGP102_1,  PR16,    24,  1,     10,     10,2,20020314,1924, -4.9933,-110.0067, 3652,     25.0,  26.7007,  35.0617,2,  35.0671,2,   -999.0,9,   -999.0,9, 26.6950
   33KMGP102_1,  PR16,    24,  1,      9,      9,2,20020314,1924, -4.9933,-110.0067, 3652,     40.2,  26.2772,  35.1549,2,  35.1696,2,   -999.0,9,   -999.0,9, 26.2682
   33KMGP102_1,  PR16,    24,  1,      8,      8,2,20020314,1924, -4.9933,-110.0067, 3652,     59.7,  22.7986,  35.2316,2,  35.2439,2,   -999.0,9,   -999.0,9, 22.7865
   33KMGP102_1,  PR16,    24,  1,      7,      7,2,20020314,1924, -4.9933,-110.0067, 3652,    100.5,  13.8637,  35.0023,2,  35.0121,2,   -999.0,9,   -999.0,9, 13.8493
   33KMGP102_1,  PR16,    24,  1,      6,      6,2,20020314,1924, -4.9933,-110.0067, 3652,    149.1,  12.8666,  34.9240,2,  34.9423,2,   -999.0,9,   -999.0,9, 12.8463
   33KMGP102_1,  PR16,    24,  1,      5,      5,2,20020314,1924, -4.9933,-110.0067, 3652,    200.4,  12.4974,  34.8991,2,  34.9063,2,   -999.0,9,   -999.0,9, 12.4706
   33KMGP102_1,  PR16,    24,  1,      4,      4,2,20020314,1924, -4.9933,-110.0067, 3652,    999.4,   4.5990,  34.5467,2,  34.5599,2,   -999.0,9,   -999.0,9,  4.5187
   33KMGP102_1,  PR16,    24,  1,      3,      3,2,20020314,1924, -4.9933,-110.0067, 3652,   2001.4,   2.3019,  34.6425,2,  34.6463,2,   -999.0,9,   -999.0,9,  2.1607
   33KMGP102_1,  PR16,    24,  1,      2,      2,2,20020314,1924, -4.9933,-110.0067, 3652,   2998.9,   1.7071,  34.6803,2,  34.6923,2,   -999.0,9,   -999.0,9,  1.4858
   33KMGP102_1,  PR16,    24,  1,      1,      1,2,20020314,1924, -4.9933,-110.0067, 3652,   3448.9,   1.5789,  34.6882,2,  34.6992,2,   -999.0,9,   -999.0,9,  1.3159
   33KMGP102_1,  PR16,    25,  1,     11,     11,2,20020315,0623, -6.0000,-111.5000, 3696,     10.0,  26.6370,  35.1128,2,  35.1131,2,   -999.0,9,   -999.0,9, 26.6347
   33KMGP102_1,  PR16,    25,  1,     10,     10,2,20020315,0623, -6.0000,-111.5000, 3696,     25.1,  26.6418,  35.1126,2,  35.1119,2,   -999.0,9,   -999.0,9, 26.6361
   33KMGP102_1,  PR16,    25,  1,      9,      9,2,20020315,0623, -6.0000,-111.5000, 3696,     38.8,  26.6243,  35.1110,2,  35.1081,2,   -999.0,9,   -999.0,9, 26.6155
   33KMGP102_1,  PR16,    25,  1,      7,      7,2,20020315,0623, -6.0000,-111.5000, 3696,     99.1,  20.8344,  35.4890,2,  35.4801,2,   -999.0,9,   -999.0,9, 20.8155
   33KMGP102_1,  PR16,    25,  1,      6,      6,2,20020315,0623, -6.0000,-111.5000, 3696,    149.2,  13.6966,  34.9431,2,  34.9586,2,   -999.0,9,   -999.0,9, 13.6754
   33KMGP102_1,  PR16,    25,  1,      5,      5,2,20020315,0623, -6.0000,-111.5000, 3696,    199.1,  12.1975,  34.8989,2,  34.9087,2,   -999.0,9,   -999.0,9, 12.1712
   33KMGP102_1,  PR16,    25,  1,      4,      4,2,20020315,0623, -6.0000,-111.5000, 3696,    400.1,   9.4872,  34.7180,2,  34.7206,2,   -999.0,9,   -999.0,9,  9.4420
   33KMGP102_1,  PR16,    25,  1,      3,      3,2,20020315,0623, -6.0000,-111.5000, 3696,    600.5,   6.9439,  34.5891,2,  34.5927,2,   -999.0,9,   -999.0,9,  6.8867
   33KMGP102_1,  PR16,    25,  1,      2,      2,2,20020315,0623, -6.0000,-111.5000, 3696,    798.2,   5.6237,  34.5493,2,  34.5514,2,   -999.0,9,   -999.0,9,  5.5545
   33KMGP102_1,  PR16,    25,  1,      1,      1,2,20020315,0623, -6.0000,-111.5000, 3696,   1001.0,   4.5854,  34.5484,2,  34.5526,2,   -999.0,9,   -999.0,9,  4.5051
   33KMGP102_1,  PR16,    26,  1,     12,     12,2,20020316,0007, -6.9917,-111.2400, 3708,      1.9,  26.8668,  35.1218,2,  35.1251,2,   -999.0,9,   -999.0,9, 26.8664
   33KMGP102_1,  PR16,    26,  1,     11,     11,2,20020316,0007, -6.9917,-111.2400, 3708,      8.5,  26.8307,  35.1188,2,  35.1237,2,   -999.0,9,   -999.0,9, 26.8287
   33KMGP102_1,  PR16,    26,  1,     10,     10,2,20020316,0007, -6.9917,-111.2400, 3708,     24.1,  26.6304,  35.1114,2,  35.1177,2,   -999.0,9,   -999.0,9, 26.6249
   33KMGP102_1,  PR16,    26,  1,      9,      9,2,20020316,0007, -6.9917,-111.2400, 3708,     39.0,  26.6142,  35.1125,2,  35.1132,2,   -999.0,9,   -999.0,9, 26.6054
   33KMGP102_1,  PR16,    26,  1,      8,      8,2,20020316,0007, -6.9917,-111.2400, 3708,     59.2,  25.2977,  35.3781,2,  35.3742,2,   -999.0,9,   -999.0,9, 25.2848
   33KMGP102_1,  PR16,    26,  1,      7,      7,2,20020316,0007, -6.9917,-111.2400, 3708,     99.5,  22.3889,  35.6600,2,  35.6817,2,   -999.0,9,   -999.0,9, 22.3689
   33KMGP102_1,  PR16,    26,  1,      6,      6,2,20020316,0007, -6.9917,-111.2400, 3708,    150.0,  13.8533,  34.9473,2,  34.9668,2,   -999.0,9,   -999.0,9, 13.8318
   33KMGP102_1,  PR16,    26,  1,      5,      5,2,20020316,0007, -6.9917,-111.2400, 3708,    200.2,  12.3501,  34.9069,2,  34.9205,2,   -999.0,9,   -999.0,9, 12.3235
   33KMGP102_1,  PR16,    26,  1,      4,      4,2,20020316,0007, -6.9917,-111.2400, 3708,    400.4,   9.3766,  34.7099,2,  34.7109,2,   -999.0,9,   -999.0,9,  9.3317
   33KMGP102_1,  PR16,    26,  1,      3,      3,2,20020316,0007, -6.9917,-111.2400, 3708,    597.9,   6.9490,  34.5847,2,  34.5826,2,   -999.0,9,   -999.0,9,  6.8920
   33KMGP102_1,  PR16,    26,  1,      2,      2,2,20020316,0007, -6.9917,-111.2400, 3708,    799.7,   5.5528,  34.5468,2,  34.5459,2,   -999.0,9,   -999.0,9,  5.4839
   33KMGP102_1,  PR16,    26,  1,      1,      1,2,20020316,0007, -6.9917,-111.2400, 3708,   1001.5,   4.5915,  34.5458,2,  34.5448,2,   -999.0,9,   -999.0,9,  4.5111
   33KMGP102_1,  PR16,    27,  1,      9,      9,2,20020316,1033, -8.0033,-110.0017, 3440,      2.7,  26.4392,  35.1310,2,  35.1578,2,   -999.0,9,   -999.0,9, 26.4385
   33KMGP102_1,  PR16,    27,  1,      8,      8,2,20020316,1033, -8.0033,-110.0017, 3440,      9.8,  26.4464,  35.1305,2,  35.1488,2,   -999.0,9,   -999.0,9, 26.4441
   33KMGP102_1,  PR16,    27,  1,      7,      7,2,20020316,1033, -8.0033,-110.0017, 3440,     24.5,  26.4491,  35.1306,2,  35.1353,2,   -999.0,9,   -999.0,9, 26.4435
   33KMGP102_1,  PR16,    27,  1,      6,      6,2,20020316,1033, -8.0033,-110.0017, 3440,     39.3,  26.4388,  35.1289,2,  35.1300,2,   -999.0,9,   -999.0,9, 26.4299
   33KMGP102_1,  PR16,    27,  1,      5,      5,2,20020316,1033, -8.0033,-110.0017, 3440,     59.3,  23.9577,  35.4729,2,  35.4832,2,   -999.0,9,   -999.0,9, 23.9453
   33KMGP102_1,  PR16,    27,  1,      4,      4,2,20020316,1033, -8.0033,-110.0017, 3440,     99.1,  19.8304,  35.6022,2,  35.6461,2,   -999.0,9,   -999.0,9, 19.8122
   33KMGP102_1,  PR16,    27,  1,      3,      3,2,20020316,1033, -8.0033,-110.0017, 3440,    150.0,  13.3900,  34.9156,2,  34.9135,2,   -999.0,9,   -999.0,9, 13.3690
   33KMGP102_1,  PR16,    27,  1,      2,      2,2,20020316,1033, -8.0033,-110.0017, 3440,    199.8,  12.1273,  34.8899,2,  34.8989,2,   -999.0,9,   -999.0,9, 12.1011
   33KMGP102_1,  PR16,    27,  1,      1,      1,2,20020316,1033, -8.0033,-110.0017, 3440,    999.9,   4.6792,  34.5420,2,  34.5404,2,   -999.0,9,   -999.0,9,  4.5982
   33KMGP102_1,  PR16,    27,  1,      3,      3,2,20020316,1033, -8.0033,-110.0017, 3440,   1998.9,   2.2713,  34.6427,2,  34.6448,2,   -999.0,9,   -999.0,9,  2.1307
   33KMGP102_1,  PR16,    27,  1,      2,      2,2,20020316,1033, -8.0033,-110.0017, 3440,   2997.8,   1.7090,  34.6800,2,  34.6797,2,   -999.0,9,   -999.0,9,  1.4877
   33KMGP102_1,  PR16,    27,  1,      1,      1,2,20020316,1033, -8.0033,-110.0017, 3440,   3200.9,   1.6265,  34.6845,2,  34.6844,2,   -999.0,9,   -999.0,9,  1.3873