BOTTLE,20030307WHPSIODMB
#code : jjward hyd_to_exchange.pl 
#original files copied from HTML directory: 20030307
#original HYD file: pr16_eehy.txt   Fri Mar  7 11:22:46 2003
#original SUM file: pr16_eesu.txt   Fri Mar  7 11:24:13 2003
EXPOCODE,SECT_ID,STNNBR,CASTNO,SAMPNO,BTLNBR,BTLNBR_FLAG_W,DATE,TIME,LATITUDE,LONGITUDE,DEPTH,CTDPRS,CTDTMP,CTDSAL,CTDSAL_FLAG_W,SALNTY,SALNTY_FLAG_W,CTDOXY,CTDOXY_FLAG_W,OXYGEN,OXYGEN_FLAG_W,THETA
,,,,,,,,,,,,DBAR,ITS-90,PSS-78,,PSS-78,,UMOL/KG,,UMOL/KG,,DEG C
   33KMGP102_1,  PR16,     1,  1,     12,     12,2,20020306,2043, 12.0117,-111.0367, 3773,      3.7,  28.0080,  33.9711,2,  33.9797,2,   -999.0,9,   -999.0,9, 28.0071
   33KMGP102_1,  PR16,     1,  1,     11,     11,2,20020306,2043, 12.0117,-111.0367, 3773,     10.5,  27.9183,  33.9705,2,  33.9739,2,   -999.0,9,   -999.0,9, 27.9158
   33KMGP102_1,  PR16,     1,  1,     10,     10,2,20020306,2043, 12.0117,-111.0367, 3773,     24.7,  27.8271,  33.9803,2,  33.9767,2,   -999.0,9,   -999.0,9, 27.8213
   33KMGP102_1,  PR16,     1,  1,      9,      9,2,20020306,2043, 12.0117,-111.0367, 3773,     39.8,  27.6967,  34.1402,2,  34.1376,2,   -999.0,9,   -999.0,9, 27.6874
   33KMGP102_1,  PR16,     1,  1,      8,      8,2,20020306,2043, 12.0117,-111.0367, 3773,     59.8,  27.3737,  34.2200,2,  34.2061,2,   -999.0,9,   -999.0,9, 27.3599
   33KMGP102_1,  PR16,     1,  1,      7,      7,2,20020306,2043, 12.0117,-111.0367, 3773,     99.1,  15.9872,  34.6781,2,  34.6695,2,   -999.0,9,   -999.0,9, 15.9716
   33KMGP102_1,  PR16,     1,  1,      6,      6,2,20020306,2043, 12.0117,-111.0367, 3773,    150.2,  12.7522,  34.7958,2,  34.8026,2,   -999.0,9,   -999.0,9, 12.7319
   33KMGP102_1,  PR16,     1,  1,      5,      5,2,20020306,2043, 12.0117,-111.0367, 3773,    200.1,  11.9790,  34.7791,2,  34.7756,2,   -999.0,9,   -999.0,9, 11.9530
   33KMGP102_1,  PR16,     1,  1,      4,      4,2,20020306,2043, 12.0117,-111.0367, 3773,    403.9,   9.4826,  34.6573,2,  34.6556,2,   -999.0,9,   -999.0,9,  9.4370
   33KMGP102_1,  PR16,     1,  1,      3,      3,2,20020306,2043, 12.0117,-111.0367, 3773,    601.9,   7.3061,  34.5704,2,  34.5656,2,   -999.0,9,   -999.0,9,  7.2471
   33KMGP102_1,  PR16,     1,  1,      2,      2,2,20020306,2043, 12.0117,-111.0367, 3773,    801.1,   5.6892,  34.5487,2,  34.5457,2,   -999.0,9,   -999.0,9,  5.6194
   33KMGP102_1,  PR16,     1,  1,      1,      1,2,20020306,2043, 12.0117,-111.0367, 3773,    998.3,   4.6867,  34.5593,2,  34.5572,2,   -999.0,9,   -999.0,9,  4.6058
   33KMGP102_1,  PR16,     2,  1,      7,      7,2,20020307,0416, 11.0167,-110.8000, 3718,    115.4,  13.6772,  34.8205,2,  34.8189,2,   -999.0,9,   -999.0,9, 13.6609
   33KMGP102_1,  PR16,     2,  1,      6,      6,2,20020307,0416, 11.0167,-110.8000, 3718,    149.2,  12.8804,  34.8128,2,  34.8020,2,   -999.0,9,   -999.0,9, 12.8601
   33KMGP102_1,  PR16,     2,  1,      4,      4,2,20020307,0416, 11.0167,-110.8000, 3718,    399.8,   9.7054,  34.6670,2,  34.6630,2,   -999.0,9,   -999.0,9,  9.6595
   33KMGP102_1,  PR16,     2,  1,      3,      3,2,20020307,0416, 11.0167,-110.8000, 3718,    603.4,   7.4393,  34.5702,2,  34.5667,2,   -999.0,9,   -999.0,9,  7.3795
   33KMGP102_1,  PR16,     2,  1,      2,      2,2,20020307,0416, 11.0167,-110.8000, 3718,    806.1,   5.8846,  34.5564,2,  34.5555,2,   -999.0,9,   -999.0,9,  5.8131
   33KMGP102_1,  PR16,     2,  1,      1,      1,2,20020307,0416, 11.0167,-110.8000, 3718,    977.7,   4.8309,  34.5562,2,  34.5572,2,   -999.0,9,   -999.0,9,  4.7508
   33KMGP102_1,  PR16,     3,  1,      8,      8,2,20020307,1201, 10.0050,-110.5833, 3656,      2.3,  28.0690,  33.9669,2,  33.9645,2,   -999.0,9,   -999.0,9, 28.0684
   33KMGP102_1,  PR16,     3,  1,      9,      9,2,20020307,1201, 10.0050,-110.5833, 3656,      2.5,  28.0587,  33.9678,2,  33.9637,2,   -999.0,9,   -999.0,9, 28.0581
   33KMGP102_1,  PR16,     3,  1,      7,      7,2,20020307,1201, 10.0050,-110.5833, 3656,     99.7,  14.2146,  34.8126,2,  34.8073,2,   -999.0,9,   -999.0,9, 14.2001
   33KMGP102_1,  PR16,     3,  1,      6,      6,2,20020307,1201, 10.0050,-110.5833, 3656,    150.2,  12.5293,  34.8076,2,  34.8023,2,   -999.0,9,   -999.0,9, 12.5092
   33KMGP102_1,  PR16,     3,  1,      5,      5,2,20020307,1201, 10.0050,-110.5833, 3656,    200.0,  11.7810,  34.7757,2,  34.7718,2,   -999.0,9,   -999.0,9, 11.7552
   33KMGP102_1,  PR16,     3,  1,      4,      4,2,20020307,1201, 10.0050,-110.5833, 3656,    399.5,   9.5432,  34.6704,2,  34.6662,2,   -999.0,9,   -999.0,9,  9.4979
   33KMGP102_1,  PR16,     3,  1,      3,      3,2,20020307,1201, 10.0050,-110.5833, 3656,    601.3,   7.0167,  34.5660,2,  34.5607,2,   -999.0,9,   -999.0,9,  6.9591
   33KMGP102_1,  PR16,     3,  1,      2,      2,2,20020307,1201, 10.0050,-110.5833, 3656,    799.4,   5.6268,  34.5561,2,  34.5577,2,   -999.0,9,   -999.0,9,  5.5575
   33KMGP102_1,  PR16,     3,  1,      1,      1,2,20020307,1201, 10.0050,-110.5833, 3656,   1001.6,   4.7463,  34.5617,2,  34.5604,2,   -999.0,9,   -999.0,9,  4.6646
   33KMGP102_1,  PR16,     4,  2,      8,      8,2,20020307,2127,  9.0000,-110.3500, 3688,      2.7,  27.8611,  34.3774,2,  34.3741,2,   -999.0,9,   -999.0,9, 27.8605
   33KMGP102_1,  PR16,     4,  2,      7,      7,2,20020307,2127,  9.0000,-110.3500, 3688,      9.8,  27.8563,  34.3770,2,  34.3766,2,   -999.0,9,   -999.0,9, 27.8540
   33KMGP102_1,  PR16,     4,  2,      6,      6,2,20020307,2127,  9.0000,-110.3500, 3688,     25.0,  27.7688,  34.3850,2,  34.3852,2,   -999.0,9,   -999.0,9, 27.7630
   33KMGP102_1,  PR16,     4,  2,      5,      5,2,20020307,2127,  9.0000,-110.3500, 3688,     40.2,  27.6885,  34.3778,2,  34.3799,2,   -999.0,9,   -999.0,9, 27.6791
   33KMGP102_1,  PR16,     4,  2,      4,      4,2,20020307,2127,  9.0000,-110.3500, 3688,     59.4,  18.5836,  34.5766,2,  34.5714,2,   -999.0,9,   -999.0,9, 18.5733
   33KMGP102_1,  PR16,     4,  2,      3,      3,2,20020307,2127,  9.0000,-110.3500, 3688,    100.1,  12.9346,  34.8157,2,  34.8194,2,   -999.0,9,   -999.0,9, 12.9209
   33KMGP102_1,  PR16,     4,  2,      1,      1,2,20020307,2127,  9.0000,-110.3500, 3688,    206.8,  11.1263,  34.7464,2,  34.7464,2,   -999.0,9,   -999.0,9, 11.1007
   33KMGP102_1,  PR16,     5,  1,     10,     10,2,20020308,0538,  8.0500,-110.1500, 4079,     25.7,  27.5985,  34.3682,2,  34.3694,2,   -999.0,9,   -999.0,9, 27.5925
   33KMGP102_1,  PR16,     5,  1,      9,      9,2,20020308,0538,  8.0500,-110.1500, 4079,     39.6,  25.8884,  34.3983,2,  34.3763,2,   -999.0,9,   -999.0,9, 25.8796
   33KMGP102_1,  PR16,     5,  1,      7,      7,2,20020308,0538,  8.0500,-110.1500, 4079,    100.3,  12.4219,  34.7996,2,  34.7924,2,   -999.0,9,   -999.0,9, 12.4086
   33KMGP102_1,  PR16,     5,  1,      4,      4,2,20020308,0538,  8.0500,-110.1500, 4079,   1001.2,   4.7443,  34.5633,2,  34.5622,2,   -999.0,9,   -999.0,9,  4.6627
   33KMGP102_1,  PR16,     5,  1,      2,      2,2,20020308,0538,  8.0500,-110.1500, 4079,   3000.5,   1.7062,  34.6786,2,  34.6843,2,   -999.0,9,   -999.0,9,  1.4848
   33KMGP102_1,  PR16,     5,  1,      1,      1,2,20020308,0538,  8.0500,-110.1500, 4079,   3801.5,   1.5492,  34.6890,2,  34.6824,2,   -999.0,9,   -999.0,9,  1.2503
   33KMGP102_1,  PR16,     6,  1,     12,     12,2,20020308,1549,  7.0000,-110.0333, 3689,      3.4,  27.6022,  34.5418,2,  34.5425,2,   -999.0,9,   -999.0,9, 27.6014
   33KMGP102_1,  PR16,     6,  1,     11,     11,2,20020308,1549,  7.0000,-110.0333, 3689,      8.4,  27.6000,  34.5426,2,  34.5457,2,   -999.0,9,   -999.0,9, 27.5980
   33KMGP102_1,  PR16,     6,  1,     10,     10,2,20020308,1549,  7.0000,-110.0333, 3689,     23.7,  27.5967,  34.5426,2,  34.5394,2,   -999.0,9,   -999.0,9, 27.5912
   33KMGP102_1,  PR16,     6,  1,      9,      9,2,20020308,1549,  7.0000,-110.0333, 3689,     39.4,  25.9000,  34.4793,2,  34.4893,2,   -999.0,9,   -999.0,9, 25.8912
   33KMGP102_1,  PR16,     6,  1,      7,      7,2,20020308,1549,  7.0000,-110.0333, 3689,     98.1,  12.0307,  34.7709,2,  34.7721,2,   -999.0,9,   -999.0,9, 12.0180
   33KMGP102_1,  PR16,     6,  1,      6,      6,2,20020308,1549,  7.0000,-110.0333, 3689,    152.6,  11.2110,  34.7488,2,  34.7463,2,   -999.0,9,   -999.0,9, 11.1921
   33KMGP102_1,  PR16,     6,  1,      5,      5,2,20020308,1549,  7.0000,-110.0333, 3689,    203.9,  10.6669,  34.7261,2,  34.7222,2,   -999.0,9,   -999.0,9, 10.6424
   33KMGP102_1,  PR16,     6,  1,      3,      3,2,20020308,1549,  7.0000,-110.0333, 3689,    597.4,   7.0662,  34.5899,2,  34.5844,2,   -999.0,9,   -999.0,9,  7.0087
   33KMGP102_1,  PR16,     6,  1,      2,      2,2,20020308,1549,  7.0000,-110.0333, 3689,    799.5,   5.6700,  34.5639,2,  34.5651,2,   -999.0,9,   -999.0,9,  5.6004
   33KMGP102_1,  PR16,     6,  1,      1,      1,2,20020308,1549,  7.0000,-110.0333, 3689,    998.6,   4.6812,  34.5684,2,  34.5651,2,   -999.0,9,   -999.0,9,  4.6003
   33KMGP102_1,  PR16,     7,  1,     12,     12,2,20020308,2222,  5.9983,-109.9467, 3587,      2.3,  27.7646,  34.6313,2,  34.6382,2,   -999.0,9,   -999.0,9, 27.7641
   33KMGP102_1,  PR16,     7,  1,     11,     11,2,20020308,2222,  5.9983,-109.9467, 3587,      9.6,  27.7669,  34.6309,2,  34.6442,2,   -999.0,9,   -999.0,9, 27.7647
   33KMGP102_1,  PR16,     7,  1,     10,     10,2,20020308,2222,  5.9983,-109.9467, 3587,     25.2,  27.6345,  34.6284,2,  34.6389,2,   -999.0,9,   -999.0,9, 27.6286
   33KMGP102_1,  PR16,     7,  1,      9,      9,2,20020308,2222,  5.9983,-109.9467, 3587,     39.7,  27.6064,  34.6268,2,  34.6326,2,   -999.0,9,   -999.0,9, 27.5971
   33KMGP102_1,  PR16,     7,  1,      8,      8,2,20020308,2222,  5.9983,-109.9467, 3587,     59.8,  19.2663,  34.6981,2,  34.7108,2,   -999.0,9,   -999.0,9, 19.2556
   33KMGP102_1,  PR16,     7,  1,      7,      7,2,20020308,2222,  5.9983,-109.9467, 3587,     98.4,  12.7001,  34.7295,2,  34.7408,2,   -999.0,9,   -999.0,9, 12.6868
   33KMGP102_1,  PR16,     7,  1,      6,      6,2,20020308,2222,  5.9983,-109.9467, 3587,    150.3,  11.4918,  34.7685,2,  34.7702,2,   -999.0,9,   -999.0,9, 11.4729
   33KMGP102_1,  PR16,     7,  1,      5,      5,2,20020308,2222,  5.9983,-109.9467, 3587,    200.9,  10.9085,  34.7472,2,  34.7455,2,   -999.0,9,   -999.0,9, 10.8839
   33KMGP102_1,  PR16,     7,  1,      4,      4,2,20020308,2222,  5.9983,-109.9467, 3587,    399.7,   8.9967,  34.6631,2,  34.6631,2,   -999.0,9,   -999.0,9,  8.9530
   33KMGP102_1,  PR16,     7,  1,      3,      3,2,20020308,2222,  5.9983,-109.9467, 3587,    600.8,   7.1232,  34.5908,2,  34.6000,2,   -999.0,9,   -999.0,9,  7.0651
   33KMGP102_1,  PR16,     7,  1,      2,      2,2,20020308,2222,  5.9983,-109.9467, 3587,    801.0,   5.7062,  34.5655,2,  34.5652,2,   -999.0,9,   -999.0,9,  5.6363
   33KMGP102_1,  PR16,     7,  1,      1,      1,2,20020308,2222,  5.9983,-109.9467, 3587,   1002.0,   4.5784,  34.5710,2,  34.5721,2,   -999.0,9,   -999.0,9,  4.4980
   33KMGP102_1,  PR16,     8,  1,     11,     11,2,20020309,1110,  5.0033,-109.8600, 3787,      9.7,  27.1782,  34.3511,2,  34.3669,2,   -999.0,9,   -999.0,9, 27.1759
   33KMGP102_1,  PR16,     8,  1,     10,     10,2,20020309,1110,  5.0033,-109.8600, 3787,     24.1,  27.1788,  34.3540,2,  34.3749,2,   -999.0,9,   -999.0,9, 27.1732
   33KMGP102_1,  PR16,     8,  1,      9,      9,2,20020309,1110,  5.0033,-109.8600, 3787,     39.1,  27.0974,  34.4079,2,  34.4182,2,   -999.0,9,   -999.0,9, 27.0884
   33KMGP102_1,  PR16,     8,  1,      8,      8,2,20020309,1110,  5.0033,-109.8600, 3787,     58.9,  24.6622,  34.8202,2,  34.8422,2,   -999.0,9,   -999.0,9, 24.6496
   33KMGP102_1,  PR16,     8,  1,      7,      7,2,20020309,1110,  5.0033,-109.8600, 3787,    151.3,  12.2330,  34.7706,2,  34.7902,2,   -999.0,9,   -999.0,9, 12.2131
   33KMGP102_1,  PR16,     8,  1,      6,      6,2,20020309,1110,  5.0033,-109.8600, 3787,    199.9,  11.0134,  34.7005,2,  34.7248,2,   -999.0,9,   -999.0,9, 10.9888
   33KMGP102_1,  PR16,     8,  1,      5,      5,2,20020309,1110,  5.0033,-109.8600, 3787,    997.5,   4.4740,  34.5685,2,  34.5814,2,   -999.0,9,   -999.0,9,  4.3948
   33KMGP102_1,  PR16,     8,  1,      4,      4,2,20020309,1110,  5.0033,-109.8600, 3787,   1999.5,   2.2717,  34.6461,2,  34.6538,2,   -999.0,9,   -999.0,9,  2.1311
   33KMGP102_1,  PR16,     8,  1,      3,      3,2,20020309,1110,  5.0033,-109.8600, 3787,   2501.0,   1.8880,  34.6669,2,  34.6737,2,   -999.0,9,   -999.0,9,  1.7097
   33KMGP102_1,  PR16,     9,  1,     12,     12,2,20020310,0546,  4.0033,-110.0267, 2671,      3.2,  27.0524,  34.2433,2,  34.2524,2,   -999.0,9,   -999.0,9, 27.0517
   33KMGP102_1,  PR16,     9,  1,     11,     11,2,20020310,0546,  4.0033,-110.0267, 2671,      8.8,  27.0645,  34.2426,2,  34.2465,2,   -999.0,9,   -999.0,9, 27.0625
   33KMGP102_1,  PR16,     9,  1,     10,     10,2,20020310,0546,  4.0033,-110.0267, 2671,     24.9,  26.8709,  34.2553,2,  34.2520,2,   -999.0,9,   -999.0,9, 26.8653
   33KMGP102_1,  PR16,     9,  1,      9,      9,2,20020310,0546,  4.0033,-110.0267, 2671,     40.0,  25.9288,  34.5066,2,  34.4744,2,   -999.0,9,   -999.0,9, 25.9199
   33KMGP102_1,  PR16,     9,  1,      8,      8,2,20020310,0546,  4.0033,-110.0267, 2671,     59.5,  24.0162,  34.7975,2,  34.8059,2,   -999.0,9,   -999.0,9, 24.0037
   33KMGP102_1,  PR16,     9,  1,      7,      7,2,20020310,0546,  4.0033,-110.0267, 2671,     99.6,  14.3654,  34.9501,2,  34.9485,2,   -999.0,9,   -999.0,9, 14.3508
   33KMGP102_1,  PR16,     9,  1,      6,      6,2,20020310,0546,  4.0033,-110.0267, 2671,    150.0,  13.5719,  34.9593,2,  34.9661,2,   -999.0,9,   -999.0,9, 13.5507
   33KMGP102_1,  PR16,     9,  1,      5,      5,2,20020310,0546,  4.0033,-110.0267, 2671,    198.7,  12.8340,  34.9097,2,  34.9088,2,   -999.0,9,   -999.0,9, 12.8069
   33KMGP102_1,  PR16,     9,  1,      4,      4,2,20020310,0546,  4.0033,-110.0267, 2671,    399.2,   9.6965,  34.6988,2,  34.7075,2,   -999.0,9,   -999.0,9,  9.6507
   33KMGP102_1,  PR16,     9,  1,      3,      3,2,20020310,0546,  4.0033,-110.0267, 2671,    600.1,   7.1791,  34.5931,2,  34.5964,2,   -999.0,9,   -999.0,9,  7.1208
   33KMGP102_1,  PR16,     9,  1,      2,      2,2,20020310,0546,  4.0033,-110.0267, 2671,    799.1,   5.6303,  34.5584,2,  34.5633,2,   -999.0,9,   -999.0,9,  5.5610
   33KMGP102_1,  PR16,     9,  1,      1,      1,2,20020310,0546,  4.0033,-110.0267, 2671,   1002.2,   4.6233,  34.5662,2,  34.5714,2,   -999.0,9,   -999.0,9,  4.5425
   33KMGP102_1,  PR16,    10,  1,     12,     12,2,20020310,1224,  3.0000,-110.0500, 3286,      2.1,  27.3097,  34.3066,2,  34.3098,2,   -999.0,9,   -999.0,9, 27.3093
   33KMGP102_1,  PR16,    10,  1,     10,     10,2,20020310,1224,  3.0000,-110.0500, 3286,     24.5,  27.3011,  34.3092,2,  34.3121,2,   -999.0,9,   -999.0,9, 27.2955
   33KMGP102_1,  PR16,    10,  1,      8,      8,2,20020310,1224,  3.0000,-110.0500, 3286,     60.1,  22.9640,  34.5450,2,  34.5347,2,   -999.0,9,   -999.0,9, 22.9518
   33KMGP102_1,  PR16,    10,  1,      7,      7,2,20020310,1224,  3.0000,-110.0500, 3286,     99.4,  14.4892,  34.9347,2,  34.9366,2,   -999.0,9,   -999.0,9, 14.4746
   33KMGP102_1,  PR16,    10,  1,      5,      5,2,20020310,1224,  3.0000,-110.0500, 3286,    199.7,  12.9781,  34.9182,2,  34.9178,2,   -999.0,9,   -999.0,9, 12.9507
   33KMGP102_1,  PR16,    10,  1,      4,      4,2,20020310,1224,  3.0000,-110.0500, 3286,    399.5,   9.6167,  34.6917,2,  34.6936,2,   -999.0,9,   -999.0,9,  9.5711
   33KMGP102_1,  PR16,    10,  1,      3,      3,2,20020310,1224,  3.0000,-110.0500, 3286,    598.9,   7.1920,  34.5860,2,  34.5837,2,   -999.0,9,   -999.0,9,  7.1338
   33KMGP102_1,  PR16,    10,  1,      2,      2,2,20020310,1224,  3.0000,-110.0500, 3286,    800.8,   5.7399,  34.5577,2,  34.5594,2,   -999.0,9,   -999.0,9,  5.6698
   33KMGP102_1,  PR16,    10,  1,      1,      1,2,20020310,1224,  3.0000,-110.0500, 3286,   1000.7,   4.6232,  34.5636,2,  34.5643,2,   -999.0,9,   -999.0,9,  4.5426
   33KMGP102_1,  PR16,    11,  1,     12,     12,2,20020310,1619,  2.5050,-110.0817, 3639,      4.1,  27.4826,  34.3452,2,  34.3582,2,   -999.0,9,   -999.0,9, 27.4817
   33KMGP102_1,  PR16,    11,  1,     11,     11,2,20020310,1619,  2.5050,-110.0817, 3639,      9.9,  27.4819,  34.3454,2,  34.3451,2,   -999.0,9,   -999.0,9, 27.4796
   33KMGP102_1,  PR16,    11,  1,     10,     10,2,20020310,1619,  2.5050,-110.0817, 3639,     25.2,  27.1143,  34.3977,2,  34.3960,2,   -999.0,9,   -999.0,9, 27.1085
   33KMGP102_1,  PR16,    11,  1,      9,      9,2,20020310,1619,  2.5050,-110.0817, 3639,     39.5,  23.8014,  34.4954,2,  34.5044,2,   -999.0,9,   -999.0,9, 23.7931
   33KMGP102_1,  PR16,    11,  1,      7,      7,2,20020310,1619,  2.5050,-110.0817, 3639,    100.5,  14.2604,  34.9469,2,  34.9564,2,   -999.0,9,   -999.0,9, 14.2457
   33KMGP102_1,  PR16,    11,  1,      6,      6,2,20020310,1619,  2.5050,-110.0817, 3639,    149.6,  13.2558,  34.9389,2,  34.9478,2,   -999.0,9,   -999.0,9, 13.2350
   33KMGP102_1,  PR16,    11,  1,      5,      5,2,20020310,1619,  2.5050,-110.0817, 3639,    200.8,  12.5767,  34.8867,2,  34.9019,2,   -999.0,9,   -999.0,9, 12.5497
   33KMGP102_1,  PR16,    11,  1,      4,      4,2,20020310,1619,  2.5050,-110.0817, 3639,    399.6,   9.1812,  34.6848,2,  34.6800,2,   -999.0,9,   -999.0,9,  9.1369
   33KMGP102_1,  PR16,    11,  1,      3,      3,2,20020310,1619,  2.5050,-110.0817, 3639,    602.2,   7.6958,  34.6089,2,  34.6219,2,   -999.0,9,   -999.0,9,  7.6349
   33KMGP102_1,  PR16,    11,  1,      2,      2,2,20020310,1619,  2.5050,-110.0817, 3639,    799.4,   5.8103,  34.5603,2,  34.5754,2,   -999.0,9,   -999.0,9,  5.7399
   33KMGP102_1,  PR16,    11,  1,      1,      1,2,20020310,1619,  2.5050,-110.0817, 3639,   1001.6,   4.6147,  34.5649,2,  34.5647,2,   -999.0,9,   -999.0,9,  4.5341
   33KMGP102_1,  PR16,    12,  1,     12,     12,2,20020310,2139,  2.0417,-110.1000, 3901,      3.9,  27.7078,  34.2646,2,  34.2677,2,   -999.0,9,   -999.0,9, 27.7069
   33KMGP102_1,  PR16,    12,  1,     11,     11,2,20020310,2139,  2.0417,-110.1000, 3901,     10.9,  27.6098,  34.2611,2,  34.2655,2,   -999.0,9,   -999.0,9, 27.6072
   33KMGP102_1,  PR16,    12,  1,     10,     10,2,20020310,2139,  2.0417,-110.1000, 3901,     25.0,  26.9024,  34.5414,2,  34.5001,2,   -999.0,9,   -999.0,9, 26.8967
   33KMGP102_1,  PR16,    12,  1,      9,      9,2,20020310,2139,  2.0417,-110.1000, 3901,     39.7,  25.0110,  34.7831,2,  34.7944,2,   -999.0,9,   -999.0,9, 25.0024
   33KMGP102_1,  PR16,    12,  1,      8,      8,2,20020310,2139,  2.0417,-110.1000, 3901,     60.3,  20.0569,  34.7572,2,  34.7530,2,   -999.0,9,   -999.0,9, 20.0458
   33KMGP102_1,  PR16,    12,  1,      7,      7,2,20020310,2139,  2.0417,-110.1000, 3901,     99.8,  14.4350,  34.9440,2,  34.9608,2,   -999.0,9,   -999.0,9, 14.4204
   33KMGP102_1,  PR16,    12,  1,      6,      6,2,20020310,2139,  2.0417,-110.1000, 3901,    149.7,  13.2572,  34.9394,2,  34.9616,2,   -999.0,9,   -999.0,9, 13.2364
   33KMGP102_1,  PR16,    12,  1,      5,      5,2,20020310,2139,  2.0417,-110.1000, 3901,    200.1,  12.6149,  34.9027,2,  34.9180,2,   -999.0,9,   -999.0,9, 12.5879
   33KMGP102_1,  PR16,    12,  1,      4,      4,2,20020310,2139,  2.0417,-110.1000, 3901,    400.8,   8.9109,  34.6743,2,  34.6867,2,   -999.0,9,   -999.0,9,  8.8672
   33KMGP102_1,  PR16,    12,  1,      3,      3,2,20020310,2139,  2.0417,-110.1000, 3901,    600.5,   7.2652,  34.5888,2,  34.5943,2,   -999.0,9,   -999.0,9,  7.2064
   33KMGP102_1,  PR16,    12,  1,      2,      2,2,20020310,2139,  2.0417,-110.1000, 3901,    799.5,   5.8091,  34.5600,2,  34.5740,2,   -999.0,9,   -999.0,9,  5.7387
   33KMGP102_1,  PR16,    12,  1,      1,      1,2,20020310,2139,  2.0417,-110.1000, 3901,   1000.8,   4.7470,  34.5637,2,  34.5661,2,   -999.0,9,   -999.0,9,  4.6654