BOTTLE,20030307WHPSIODMB
EXPOCODE,SECT_ID,STNNBR,CASTNO,SAMPNO,BTLNBR,BTLNBR_FLAG_W,DATE,TIME,LATITUDE,LONGITUDE,DEPTH,CTDPRS,CTDTMP,CTDSAL,CTDSAL_FLAG_W,SALNTY,SALNTY_FLAG_W,CTDOXY,CTDOXY_FLAG_W,OXYGEN,OXYGEN_FLAG_W,THETA
,,,,,,,,,,,,DBAR,ITS-90,PSS-78,,PSS-78,,UMOL/KG,,UMOL/KG,,DEG C
   33KMGP102_1,  PR16,    13,  1,     12,     12,2,20020311,0143,  1.5000,-110.2500, 3769,      2.3,  27.6008,  34.2327,2,  34.2451,2,   -999.0,9,   -999.0,9, 27.6002
   33KMGP102_1,  PR16,    13,  1,     11,     11,2,20020311,0143,  1.5000,-110.2500, 3769,      9.7,  27.6045,  34.2287,2,  34.2317,2,   -999.0,9,   -999.0,9, 27.6022
   33KMGP102_1,  PR16,    13,  1,     10,     10,2,20020311,0143,  1.5000,-110.2500, 3769,     24.4,  26.2157,  34.4619,2,  34.4745,2,   -999.0,9,   -999.0,9, 26.2102
   33KMGP102_1,  PR16,    13,  1,      8,      8,2,20020311,0143,  1.5000,-110.2500, 3769,     58.8,  20.2903,  34.7088,2,  34.7267,2,   -999.0,9,   -999.0,9, 20.2794
   33KMGP102_1,  PR16,    13,  1,      7,      7,2,20020311,0143,  1.5000,-110.2500, 3769,     99.9,  14.4502,  34.9541,2,  34.9897,3,   -999.0,9,   -999.0,9, 14.4355
   33KMGP102_1,  PR16,    13,  1,      5,      5,2,20020311,0143,  1.5000,-110.2500, 3769,    199.8,  12.6310,  34.9066,2,  34.9515,3,   -999.0,9,   -999.0,9, 12.6040
   33KMGP102_1,  PR16,    13,  1,      4,      4,2,20020311,0143,  1.5000,-110.2500, 3769,    401.0,   9.3281,  34.6968,2,  34.6979,2,   -999.0,9,   -999.0,9,  9.2832
   33KMGP102_1,  PR16,    13,  1,      3,      3,2,20020311,0143,  1.5000,-110.2500, 3769,    598.6,   7.3688,  34.5965,2,  34.5969,2,   -999.0,9,   -999.0,9,  7.3098
   33KMGP102_1,  PR16,    13,  1,      2,      2,2,20020311,0143,  1.5000,-110.2500, 3769,    799.3,   5.6563,  34.5516,2,  34.5587,2,   -999.0,9,   -999.0,9,  5.5868
   33KMGP102_1,  PR16,    13,  1,      1,      1,2,20020311,0143,  1.5000,-110.2500, 3769,   1002.1,   4.6907,  34.5586,2,  34.5617,2,   -999.0,9,   -999.0,9,  4.6094
   33KMGP102_1,  PR16,    14,  1,     12,     12,2,20020311,0530,  1.0033,-110.4100, 3804,      3.1,  27.4665,  34.3429,2,  34.3451,2,   -999.0,9,   -999.0,9, 27.4658
   33KMGP102_1,  PR16,    14,  1,     11,     11,2,20020311,0530,  1.0033,-110.4100, 3804,     10.1,  27.4669,  34.3433,2,  34.3486,2,   -999.0,9,   -999.0,9, 27.4646
   33KMGP102_1,  PR16,    14,  1,      9,      9,2,20020311,0530,  1.0033,-110.4100, 3804,     39.4,  23.5710,  34.4171,2,  34.3924,2,   -999.0,9,   -999.0,9, 23.5629
   33KMGP102_1,  PR16,    14,  1,      8,      8,2,20020311,0530,  1.0033,-110.4100, 3804,     60.0,  20.2174,  34.8473,2,  34.8594,2,   -999.0,9,   -999.0,9, 20.2063
   33KMGP102_1,  PR16,    14,  1,      7,      7,2,20020311,0530,  1.0033,-110.4100, 3804,     99.8,  15.0202,  34.9340,2,  34.9492,2,   -999.0,9,   -999.0,9, 15.0051
   33KMGP102_1,  PR16,    14,  1,      5,      5,2,20020311,0530,  1.0033,-110.4100, 3804,    200.1,  12.6758,  34.9086,2,  34.9089,2,   -999.0,9,   -999.0,9, 12.6487
   33KMGP102_1,  PR16,    14,  1,      4,      4,2,20020311,0530,  1.0033,-110.4100, 3804,    399.6,   9.0966,  34.6849,2,  34.6824,2,   -999.0,9,   -999.0,9,  9.0526
   33KMGP102_1,  PR16,    14,  1,      3,      3,2,20020311,0530,  1.0033,-110.4100, 3804,    599.6,   6.9980,  34.5857,2,  34.5877,2,   -999.0,9,   -999.0,9,  6.9406
   33KMGP102_1,  PR16,    14,  1,      2,      2,2,20020311,0530,  1.0033,-110.4100, 3804,    799.9,   5.4768,  34.5515,2,  34.5550,2,   -999.0,9,   -999.0,9,  5.4083
   33KMGP102_1,  PR16,    14,  1,      1,      1,2,20020311,0530,  1.0033,-110.4100, 3804,   1001.6,   4.7788,  34.5605,2,  34.5673,2,   -999.0,9,   -999.0,9,  4.6969
   33KMGP102_1,  PR16,    15,  1,     12,     12,2,20020311,1133,  0.5000,-110.5517, 3839,      2.4,  26.9448,  34.3918,2,  34.4022,2,   -999.0,9,   -999.0,9, 26.9443
   33KMGP102_1,  PR16,    15,  1,     11,     11,2,20020311,1133,  0.5000,-110.5517, 3839,      9.2,  26.9407,  34.3932,2,  34.4106,2,   -999.0,9,   -999.0,9, 26.9386
   33KMGP102_1,  PR16,    15,  1,     10,     10,2,20020311,1133,  0.5000,-110.5517, 3839,     23.2,  26.8078,  34.3976,2,  34.4055,2,   -999.0,9,   -999.0,9, 26.8025
   33KMGP102_1,  PR16,    15,  1,      8,      8,2,20020311,1133,  0.5000,-110.5517, 3839,     60.3,  19.9849,  34.9252,2,  34.9432,2,   -999.0,9,   -999.0,9, 19.9738
   33KMGP102_1,  PR16,    15,  1,      7,      7,2,20020311,1133,  0.5000,-110.5517, 3839,     99.3,  15.0309,  34.9163,2,  34.9548,2,   -999.0,9,   -999.0,9, 15.0159
   33KMGP102_1,  PR16,    15,  1,      6,      6,2,20020311,1133,  0.5000,-110.5517, 3839,    148.9,  13.1930,  34.9200,2,  34.9752,2,   -999.0,9,   -999.0,9, 13.1724
   33KMGP102_1,  PR16,    15,  1,      5,      5,2,20020311,1133,  0.5000,-110.5517, 3839,    199.8,  12.8979,  34.9304,2,  34.9294,2,   -999.0,9,   -999.0,9, 12.8706
   33KMGP102_1,  PR16,    15,  1,      3,      3,2,20020311,1133,  0.5000,-110.5517, 3839,    599.6,   6.9802,  34.5847,2,  34.5849,2,   -999.0,9,   -999.0,9,  6.9229
   33KMGP102_1,  PR16,    15,  1,      2,      2,2,20020311,1133,  0.5000,-110.5517, 3839,    799.2,   5.5356,  34.5521,2,  34.5526,2,   -999.0,9,   -999.0,9,  5.4668
   33KMGP102_1,  PR16,    15,  1,      1,      1,2,20020311,1133,  0.5000,-110.5517, 3839,   1002.0,   4.6686,  34.5624,2,  34.5860,3,   -999.0,9,   -999.0,9,  4.5875
   33KMGP102_1,  PR16,    16,  1,     12,     12,2,20020312,0421, -0.0033,-109.9583, 3818,      3.7,  26.6548,  34.5802,2,  34.6033,2,   -999.0,9,   -999.0,9, 26.6540
   33KMGP102_1,  PR16,    16,  1,     11,     11,2,20020312,0421, -0.0033,-109.9583, 3818,      9.8,  26.5438,  34.5890,2,  34.6033,2,   -999.0,9,   -999.0,9, 26.5416
   33KMGP102_1,  PR16,    16,  1,     10,     10,2,20020312,0421, -0.0033,-109.9583, 3818,     24.4,  23.7303,  34.5262,2,  34.5031,2,   -999.0,9,   -999.0,9, 23.7252
   33KMGP102_1,  PR16,    16,  1,      8,      8,2,20020312,0421, -0.0033,-109.9583, 3818,     60.4,  21.6957,  34.9736,2,  35.0009,2,   -999.0,9,   -999.0,9, 21.6839
   33KMGP102_1,  PR16,    16,  1,      7,      7,2,20020312,0421, -0.0033,-109.9583, 3818,    100.0,  15.3603,  35.0240,2,  35.0456,2,   -999.0,9,   -999.0,9, 15.3450
   33KMGP102_1,  PR16,    16,  1,      6,      6,2,20020312,0421, -0.0033,-109.9583, 3818,    149.4,  13.8082,  35.0035,2,  35.0440,2,   -999.0,9,   -999.0,9, 13.7868
   33KMGP102_1,  PR16,    16,  1,      5,      5,2,20020312,0421, -0.0033,-109.9583, 3818,    199.9,  12.9382,  34.9363,2,  34.9718,2,   -999.0,9,   -999.0,9, 12.9108
   33KMGP102_1,  PR16,    16,  1,      4,      4,2,20020312,0421, -0.0033,-109.9583, 3818,    999.9,   4.5426,  34.5629,2,  34.5677,2,   -999.0,9,   -999.0,9,  4.4627
   33KMGP102_1,  PR16,    17,  1,     12,     12,2,20020313,0354, -0.4967,-109.9533, 3942,      3.2,  26.8872,  34.4373,2,  34.4457,2,   -999.0,9,   -999.0,9, 26.8865
   33KMGP102_1,  PR16,    17,  1,     11,     11,2,20020313,0354, -0.4967,-109.9533, 3942,      9.6,  26.2211,  34.6637,2,  34.6590,2,   -999.0,9,   -999.0,9, 26.2190
   33KMGP102_1,  PR16,    17,  1,     10,     10,2,20020313,0354, -0.4967,-109.9533, 3942,     26.0,  23.7247,  34.7869,2,  34.7596,2,   -999.0,9,   -999.0,9, 23.7193
   33KMGP102_1,  PR16,    17,  1,      9,      9,2,20020313,0354, -0.4967,-109.9533, 3942,     40.9,  23.9775,  35.1547,2,  35.1524,2,   -999.0,9,   -999.0,9, 23.9689
   33KMGP102_1,  PR16,    17,  1,      8,      8,2,20020313,0354, -0.4967,-109.9533, 3942,     58.3,  22.3369,  35.2282,2,  35.2246,2,   -999.0,9,   -999.0,9, 22.3253
   33KMGP102_1,  PR16,    17,  1,      7,      7,2,20020313,0354, -0.4967,-109.9533, 3942,     99.7,  14.4761,  35.0257,2,  35.0329,2,   -999.0,9,   -999.0,9, 14.4614
   33KMGP102_1,  PR16,    17,  1,      6,      6,2,20020313,0354, -0.4967,-109.9533, 3942,    149.5,  13.0996,  34.9545,2,  34.9595,2,   -999.0,9,   -999.0,9, 13.0789
   33KMGP102_1,  PR16,    17,  1,      5,      5,2,20020313,0354, -0.4967,-109.9533, 3942,    200.3,  12.6800,  34.9121,2,  34.9137,2,   -999.0,9,   -999.0,9, 12.6529
   33KMGP102_1,  PR16,    17,  1,      4,      4,2,20020313,0354, -0.4967,-109.9533, 3942,    399.2,   9.1254,  34.6873,2,  34.6886,2,   -999.0,9,   -999.0,9,  9.0813
   33KMGP102_1,  PR16,    17,  1,      3,      3,2,20020313,0354, -0.4967,-109.9533, 3942,    599.0,   6.5202,  34.5695,2,  34.5723,2,   -999.0,9,   -999.0,9,  6.4651
   33KMGP102_1,  PR16,    17,  1,      2,      2,2,20020313,0354, -0.4967,-109.9533, 3942,    799.5,   5.4274,  34.5528,2,  34.5562,2,   -999.0,9,   -999.0,9,  5.3593
   33KMGP102_1,  PR16,    17,  1,      1,      1,2,20020313,0354, -0.4967,-109.9533, 3942,   1002.2,   4.5138,  34.5613,2,  34.5644,2,   -999.0,9,   -999.0,9,  4.4339
   33KMGP102_1,  PR16,    18,  1,     12,     12,2,20020313,0730, -1.0000,-109.9667, 3938,      3.3,  27.0476,  34.5478,2,  34.5507,2,   -999.0,9,   -999.0,9, 27.0469
   33KMGP102_1,  PR16,    18,  1,     11,     11,2,20020313,0730, -1.0000,-109.9667, 3938,     10.0,  26.7271,  34.6162,2,  34.6130,2,   -999.0,9,   -999.0,9, 26.7248
   33KMGP102_1,  PR16,    18,  1,     10,     10,2,20020313,0730, -1.0000,-109.9667, 3938,     25.2,  24.5713,  34.7827,2,  34.7824,2,   -999.0,9,   -999.0,9, 24.5659
   33KMGP102_1,  PR16,    18,  1,      9,      9,2,20020313,0730, -1.0000,-109.9667, 3938,     40.7,  24.5913,  35.0013,2,  35.0080,2,   -999.0,9,   -999.0,9, 24.5826
   33KMGP102_1,  PR16,    18,  1,      8,      8,2,20020313,0730, -1.0000,-109.9667, 3938,     59.2,  23.4360,  35.4645,2,  35.4610,2,   -999.0,9,   -999.0,9, 23.4237
   33KMGP102_1,  PR16,    18,  1,      7,      7,2,20020313,0730, -1.0000,-109.9667, 3938,    100.8,  15.0858,  35.1383,2,  35.1470,2,   -999.0,9,   -999.0,9, 15.0705
   33KMGP102_1,  PR16,    18,  1,      6,      6,2,20020313,0730, -1.0000,-109.9667, 3938,    149.3,  12.9626,  34.9450,2,  34.9494,2,   -999.0,9,   -999.0,9, 12.9421
   33KMGP102_1,  PR16,    18,  1,      5,      5,2,20020313,0730, -1.0000,-109.9667, 3938,    201.6,  12.6809,  34.9126,2,  34.9153,2,   -999.0,9,   -999.0,9, 12.6536
   33KMGP102_1,  PR16,    18,  1,      4,      4,2,20020313,0730, -1.0000,-109.9667, 3938,    400.4,   8.9315,  34.6754,2,  34.6766,2,   -999.0,9,   -999.0,9,  8.8878
   33KMGP102_1,  PR16,    18,  1,      3,      3,2,20020313,0730, -1.0000,-109.9667, 3938,    601.2,   6.5756,  34.5671,2,  34.5701,2,   -999.0,9,   -999.0,9,  6.5200
   33KMGP102_1,  PR16,    18,  1,      2,      2,2,20020313,0730, -1.0000,-109.9667, 3938,    801.7,   5.4075,  34.5502,2,  34.5508,2,   -999.0,9,   -999.0,9,  5.3393
   33KMGP102_1,  PR16,    18,  1,      1,      1,2,20020313,0730, -1.0000,-109.9667, 3938,   1002.6,   4.6743,  34.5572,2,  34.5618,2,   -999.0,9,   -999.0,9,  4.5931
   33KMGP102_1,  PR16,    19,  1,     12,     12,2,20020313,1107, -1.4967,-109.9750, 3874,      1.8,  26.8934,  34.6229,2,  34.6332,2,   -999.0,9,   -999.0,9, 26.8930
   33KMGP102_1,  PR16,    19,  1,     11,     11,2,20020313,1107, -1.4967,-109.9750, 3874,     10.4,  26.4796,  34.7054,2,  34.7046,2,   -999.0,9,   -999.0,9, 26.4773
   33KMGP102_1,  PR16,    19,  1,     10,     10,2,20020313,1107, -1.4967,-109.9750, 3874,     23.9,  25.6684,  34.8833,2,  34.8845,2,   -999.0,9,   -999.0,9, 25.6632
   33KMGP102_1,  PR16,    19,  1,      9,      9,2,20020313,1107, -1.4967,-109.9750, 3874,     40.6,  25.4479,  34.9778,2,  34.9801,2,   -999.0,9,   -999.0,9, 25.4390
   33KMGP102_1,  PR16,    19,  1,      8,      8,2,20020313,1107, -1.4967,-109.9750, 3874,     59.5,  22.3308,  35.2048,2,  35.2299,2,   -999.0,9,   -999.0,9, 22.3189
   33KMGP102_1,  PR16,    19,  1,      7,      7,2,20020313,1107, -1.4967,-109.9750, 3874,     99.6,  15.9050,  35.1060,2,  35.1076,2,   -999.0,9,   -999.0,9, 15.8893
   33KMGP102_1,  PR16,    19,  1,      6,      6,2,20020313,1107, -1.4967,-109.9750, 3874,    149.9,  12.5649,  34.9032,2,  34.9028,2,   -999.0,9,   -999.0,9, 12.5448
   33KMGP102_1,  PR16,    19,  1,      5,      5,2,20020313,1107, -1.4967,-109.9750, 3874,    199.7,  12.5103,  34.8999,2,  34.9004,2,   -999.0,9,   -999.0,9, 12.4835
   33KMGP102_1,  PR16,    19,  1,      4,      4,2,20020313,1107, -1.4967,-109.9750, 3874,    399.1,  10.3081,  34.7587,2,  34.7635,2,   -999.0,9,   -999.0,9, 10.2606
   33KMGP102_1,  PR16,    19,  1,      3,      3,2,20020313,1107, -1.4967,-109.9750, 3874,    599.5,   6.8560,  34.5745,2,  34.5749,2,   -999.0,9,   -999.0,9,  6.7992
   33KMGP102_1,  PR16,    19,  1,      2,      2,2,20020313,1107, -1.4967,-109.9750, 3874,    799.5,   5.4182,  34.5499,2,  34.5517,2,   -999.0,9,   -999.0,9,  5.3501
   33KMGP102_1,  PR16,    19,  1,      1,      1,2,20020313,1107, -1.4967,-109.9750, 3874,   1001.3,   4.6621,  34.5531,2,  34.5564,2,   -999.0,9,   -999.0,9,  4.5811
   33KMGP102_1,  PR16,    20,  1,     12,     12,2,20020313,1439, -1.9617,-109.9833, 3925,      3.0,  26.7158,  34.0721,2,  34.0641,2,   -999.0,9,   -999.0,9, 26.7151
   33KMGP102_1,  PR16,    20,  1,     11,     11,2,20020313,1439, -1.9617,-109.9833, 3925,     10.7,  26.8981,  34.6688,2,  34.6777,2,   -999.0,9,   -999.0,9, 26.8957
   33KMGP102_1,  PR16,    20,  1,     10,     10,2,20020313,1439, -1.9617,-109.9833, 3925,     24.9,  26.1916,  34.7632,2,  34.7673,2,   -999.0,9,   -999.0,9, 26.1860
   33KMGP102_1,  PR16,    20,  1,      9,      9,2,20020313,1439, -1.9617,-109.9833, 3925,     38.8,  25.5510,  34.9748,2,  34.9833,2,   -999.0,9,   -999.0,9, 25.5424
   33KMGP102_1,  PR16,    20,  1,      8,      8,2,20020313,1439, -1.9617,-109.9833, 3925,     60.5,  22.0174,  35.2232,2,  35.2379,2,   -999.0,9,   -999.0,9, 22.0054
   33KMGP102_1,  PR16,    20,  1,      7,      7,2,20020313,1439, -1.9617,-109.9833, 3925,     99.9,  13.6130,  34.9842,2,  35.0032,2,   -999.0,9,   -999.0,9, 13.5989
   33KMGP102_1,  PR16,    20,  1,      5,      5,2,20020313,1439, -1.9617,-109.9833, 3925,    200.2,  12.5009,  34.8998,2,  34.9061,2,   -999.0,9,   -999.0,9, 12.4741
   33KMGP102_1,  PR16,    20,  1,      4,      4,2,20020313,1439, -1.9617,-109.9833, 3925,    399.9,   9.3511,  34.7040,2,  34.7057,2,   -999.0,9,   -999.0,9,  9.3062
   33KMGP102_1,  PR16,    20,  1,      3,      3,2,20020313,1439, -1.9617,-109.9833, 3925,    598.8,   7.1028,  34.5857,2,  34.5861,2,   -999.0,9,   -999.0,9,  7.0450
   33KMGP102_1,  PR16,    20,  1,      2,      2,2,20020313,1439, -1.9617,-109.9833, 3925,    799.6,   5.5429,  34.5488,2,  34.5524,2,   -999.0,9,   -999.0,9,  5.4740
   33KMGP102_1,  PR16,    20,  1,      1,      1,2,20020313,1439, -1.9617,-109.9833, 3925,   1000.9,   4.6259,  34.5575,2,  34.5582,2,   -999.0,9,   -999.0,9,  4.5453
   33KMGP102_1,  PR16,    21,  1,     12,     12,2,20020313,2217, -2.4950,-109.9883, 3879,      2.1,  27.8069,  34.3073,2,  34.3186,2,   -999.0,9,   -999.0,9, 27.8064
   33KMGP102_1,  PR16,    21,  1,     10,     10,2,20020313,2217, -2.4950,-109.9883, 3879,     24.1,  26.8153,  34.7882,2,  34.7732,2,   -999.0,9,   -999.0,9, 26.8098
   33KMGP102_1,  PR16,    21,  1,      9,      9,2,20020313,2217, -2.4950,-109.9883, 3879,     39.8,  24.8373,  35.0398,2,  35.0595,2,   -999.0,9,   -999.0,9, 24.8288
   33KMGP102_1,  PR16,    21,  1,      8,      8,2,20020313,2217, -2.4950,-109.9883, 3879,     57.7,  19.3218,  35.0863,2,  35.1105,2,   -999.0,9,   -999.0,9, 19.3114
   33KMGP102_1,  PR16,    21,  1,      7,      7,2,20020313,2217, -2.4950,-109.9883, 3879,     99.8,  13.2165,  34.9514,2,  34.9655,2,   -999.0,9,   -999.0,9, 13.2027
   33KMGP102_1,  PR16,    21,  1,      5,      5,2,20020313,2217, -2.4950,-109.9883, 3879,    199.3,  12.3828,  34.8886,2,  34.8965,2,   -999.0,9,   -999.0,9, 12.3563
   33KMGP102_1,  PR16,    21,  1,      4,      4,2,20020313,2217, -2.4950,-109.9883, 3879,    400.4,   9.5730,  34.7186,2,  34.7202,2,   -999.0,9,   -999.0,9,  9.5275
   33KMGP102_1,  PR16,    21,  1,      3,      3,2,20020313,2217, -2.4950,-109.9883, 3879,    600.6,   6.9683,  34.5853,2,  34.5850,2,   -999.0,9,   -999.0,9,  6.9109
   33KMGP102_1,  PR16,    21,  1,      2,      2,2,20020313,2217, -2.4950,-109.9883, 3879,    799.9,   5.4905,  34.5511,2,  34.5399,2,   -999.0,9,   -999.0,9,  5.4219
   33KMGP102_1,  PR16,    21,  1,      1,      1,2,20020313,2217, -2.4950,-109.9883, 3879,   1002.9,   4.6214,  34.5579,2,  34.5513,2,   -999.0,9,   -999.0,9,  4.5406
   33KMGP102_1,  PR16,    22,  1,     11,     11,2,20020314,0207, -2.9933,-109.9933, 3804,      2.9,  27.0191,  34.6696,2,  34.6721,2,   -999.0,9,   -999.0,9, 27.0184
   33KMGP102_1,  PR16,    22,  1,     12,     12,2,20020314,0207, -2.9933,-109.9933, 3804,      3.0,  27.0140,  34.6692,2,  34.6712,2,   -999.0,9,   -999.0,9, 27.0133
   33KMGP102_1,  PR16,    22,  1,      6,      6,2,20020314,0207, -2.9933,-109.9933, 3804,    149.5,  12.8910,  34.9279,2,  34.8898,2,   -999.0,9,   -999.0,9, 12.8706
   33KMGP102_1,  PR16,    22,  1,      5,      5,2,20020314,0207, -2.9933,-109.9933, 3804,    199.8,  12.5088,  34.8952,2,  34.8984,2,   -999.0,9,   -999.0,9, 12.4820
   33KMGP102_1,  PR16,    22,  1,      4,      4,2,20020314,0207, -2.9933,-109.9933, 3804,    398.4,  10.2608,  34.7601,2,  34.7707,2,   -999.0,9,   -999.0,9, 10.2135
   33KMGP102_1,  PR16,    22,  1,      3,      3,2,20020314,0207, -2.9933,-109.9933, 3804,    599.4,   7.0966,  34.5893,2,  34.5912,2,   -999.0,9,   -999.0,9,  7.0388
   33KMGP102_1,  PR16,    22,  1,      2,      2,2,20020314,0207, -2.9933,-109.9933, 3804,    798.9,   5.6131,  34.5554,2,  34.5563,2,   -999.0,9,   -999.0,9,  5.5438
   33KMGP102_1,  PR16,    22,  1,      1,      1,2,20020314,0207, -2.9933,-109.9933, 3804,   1002.2,   4.5581,  34.5569,2,  34.5571,2,   -999.0,9,   -999.0,9,  4.4779
   33KMGP102_1,  PR16,    23,  1,     12,     12,2,20020314,0847, -3.9983,-109.9583, 4000,      3.2,  26.5465,  34.8885,2,  34.8966,2,   -999.0,9,   -999.0,9, 26.5458
   33KMGP102_1,  PR16,    23,  1,     11,     11,2,20020314,0847, -3.9983,-109.9583, 4000,     10.2,  26.5535,  34.8883,2,  34.8965,2,   -999.0,9,   -999.0,9, 26.5512
   33KMGP102_1,  PR16,    23,  1,     10,     10,2,20020314,0847, -3.9983,-109.9583, 4000,     25.3,  26.5378,  34.9054,2,  34.9080,2,   -999.0,9,   -999.0,9, 26.5321
   33KMGP102_1,  PR16,    23,  1,      9,      9,2,20020314,0847, -3.9983,-109.9583, 4000,     41.0,  25.4865,  35.1545,2,  35.1599,2,   -999.0,9,   -999.0,9, 25.4775
   33KMGP102_1,  PR16,    23,  1,      8,      8,2,20020314,0847, -3.9983,-109.9583, 4000,     60.0,  21.9730,  35.3790,2,  35.3788,2,   -999.0,9,   -999.0,9, 21.9612
   33KMGP102_1,  PR16,    23,  1,      7,      7,2,20020314,0847, -3.9983,-109.9583, 4000,     99.9,  14.4160,  35.0056,2,  35.0427,2,   -999.0,9,   -999.0,9, 14.4014
   33KMGP102_1,  PR16,    23,  1,      6,      6,2,20020314,0847, -3.9983,-109.9583, 4000,    149.9,  13.0922,  34.9379,2,  34.9366,2,   -999.0,9,   -999.0,9, 13.0715
   33KMGP102_1,  PR16,    23,  1,      5,      5,2,20020314,0847, -3.9983,-109.9583, 4000,    200.4,  12.6679,  34.9109,2,  34.9099,2,   -999.0,9,   -999.0,9, 12.6408
   33KMGP102_1,  PR16,    23,  1,      4,      4,2,20020314,0847, -3.9983,-109.9583, 4000,    399.7,  10.1513,  34.7577,2,  34.7591,2,   -999.0,9,   -999.0,9, 10.1041
   33KMGP102_1,  PR16,    23,  1,      3,      3,2,20020314,0847, -3.9983,-109.9583, 4000,    601.6,   6.9326,  34.5853,2,  34.6016,2,   -999.0,9,   -999.0,9,  6.8753
   33KMGP102_1,  PR16,    23,  1,      2,      2,2,20020314,0847, -3.9983,-109.9583, 4000,    800.2,   5.7087,  34.5576,2,  34.5593,2,   -999.0,9,   -999.0,9,  5.6388
   33KMGP102_1,  PR16,    23,  1,      1,      1,2,20020314,0847, -3.9983,-109.9583, 4000,   1000.7,   4.6694,  34.5556,2,  34.5691,2,   -999.0,9,   -999.0,9,  4.5884