BOTTLE,20120514PRINUNIVRMK
# 3/14/2012 Initialized README file  
# Data source: T.Tanhua on 12/6/2011 
# SHIP: L'Atlante 
# Cruise: SFB 754 
# Region: Tropical Atlantic on ~23W 
# EXPOCODE: 35A320080223 
# DATES: 2/23 - 3/15/2008 
# Chief Scientist: P. Brandt 
# 51 stations with 24 place Rosette 
# Hydro: Who - G. Krahmann; Status - final 
# 	Notes: 	 
# Nuts: Who - Frank Malien; Status - final 
# 	Notes: 
# O2: Who - Frank Malien; Status - final 
# 	Notes: 
# References: 
EXPOCODE,SECT_ID,STNNBR,CASTNO,SAMPNO,BTLNBR,BTLNBR_FLAG_W,DATE,TIME,LATITUDE,LONGITUDE,DEPTH,CTDPRS,CTDTMP,CTDSAL,CTDSAL_FLAG_W,SALNTY,SALNTY_FLAG_W,CTDOXY,CTDOXY_FLAG_W,OXYGEN,OXYGEN_FLAG_W,SILCAT,SILCAT_FLAG_W,NITRAT,NITRAT_FLAG_W,NITRIT,NITRIT_FLAG_W,PHSPHT,PHSPHT_FLAG_W,THETA
,,,,,,,,,,,METERS,DBAR,ITS-90,PSS-78,,PSS-78,,UMOL/KG,,UMOL/KG,,UMOL/KG,,UMOL/KG,,UMOL/KG,,UMOL/KG,,DEG C
  35A320080223,  A16C,     1,  1,   1001,      1,2,20080223,   0, 16.7580, -25.1086, 1596,   1064.4,   5.7254,  34.9680,2,-999.0000,9,    152.5,2,    150.2,2,    21.87,6,    29.06,6,     0.00,6,     1.93,6,   5.6296
  35A320080223,  A16C,     1,  1,   1002,      2,2,20080223,   0, 16.7580, -25.1086, 1596,    817.3,   6.6225,  34.9250,2,  34.9239,2,    115.6,2,    113.8,2,    21.59,2,    32.87,2,     0.00,2,     2.12,2,   6.5449
  35A320080223,  A16C,     1,  1,   1003,      3,2,20080223,   0, 16.7580, -25.1086, 1596,    571.1,   8.6460,  35.0516,2,-999.0000,9,     81.3,2,     80.4,2,    16.99,2,    33.43,2,     0.00,2,     2.10,2,   8.5840
  35A320080223,  A16C,     1,  1,   1004,      4,2,20080223,   0, 16.7580, -25.1086, 1596,    385.2,  10.8346,  35.2848,2,  35.2828,2,     66.8,2,     66.6,2,    12.10,6,    30.46,6,     0.00,6,     1.86,6,  10.7870
  35A320080223,  A16C,     1,  1,   1005,      5,2,20080223,   0, 16.7580, -25.1086, 1596,    263.6,  12.2957,  35.4640,2,  35.4585,2,     70.6,2,     73.4,2,     9.50,2,    27.53,2,     0.01,2,     1.66,2,  12.2605
  35A320080223,  A16C,     1,  1,   1006,      6,2,20080223,   0, 16.7580, -25.1086, 1596,    197.5,  13.5264,  35.6325,2,-999.0000,9,     76.0,2,     75.1,2,     7.99,2,    25.24,2,     0.01,2,     1.62,2,  13.4983
  35A320080223,  A16C,     1,  1,   1007,      7,2,20080223,   0, 16.7580, -25.1086, 1596,    178.7,  14.0230,  35.6842,2,-999.0000,9,     76.4,2,     81.1,2,     7.39,2,    23.93,2,     0.02,2,     1.47,2,  13.9970
  35A320080223,  A16C,     1,  1,   1008,      8,2,20080223,   0, 16.7580, -25.1086, 1596,    157.7,  14.6310,  35.7603,2,-999.0000,9,     79.8,2,     80.0,2,     6.62,2,    22.77,2,     0.02,2,     1.40,2,  14.6074
  35A320080223,  A16C,     1,  1,   1009,      9,2,20080223,   0, 16.7580, -25.1086, 1596,    137.3,  15.7735,  35.9006,2,-999.0000,9,     90.7,2,     97.1,2,     5.65,2,    20.01,2,     0.04,2,     1.25,2,  15.7519
  35A320080223,  A16C,     1,  1,   1010,     10,2,20080223,   0, 16.7580, -25.1086, 1596,    117.2,  16.8707,  36.0320,2,-999.0000,9,    108.1,2,    106.2,2,     4.65,2,    17.12,2,     0.07,2,     1.06,2,  16.8514
  35A320080223,  A16C,     1,  1,   1011,     11,2,20080223,   0, 16.7580, -25.1086, 1596,     96.8,  17.9853,  36.1255,2,  36.1226,2,    128.2,2,    127.6,2,     3.47,2,    13.40,2,     0.14,2,     0.86,2,  17.9686
  35A320080223,  A16C,     1,  1,   1012,     12,2,20080223,   0, 16.7580, -25.1086, 1596,     77.7,  19.3591,  36.2423,2,-999.0000,9,    151.0,2,    147.6,2,     2.55,2,     9.85,2,     0.22,2,     0.65,2,  19.3450
  35A320080223,  A16C,     1,  1,   1013,     13,2,20080223,   0, 16.7580, -25.1086, 1596,     57.1,  20.5997,  36.2943,2,-999.0000,9,    179.3,2,    156.5,4,     2.18,2,     8.48,2,     0.28,2,     0.57,2,  20.5889
  35A320080223,  A16C,     1,  1,   1014,     14,2,20080223,   0, 16.7580, -25.1086, 1596,     37.1,  21.4141,  36.3175,2,-999.0000,9,    202.5,2,    181.7,3,     1.33,2,     4.72,2,     0.26,2,     0.34,2,  21.4069
  35A320080223,  A16C,     1,  1,   1015,     15,2,20080223,   0, 16.7580, -25.1086, 1596,     17.9,  21.6619,  36.3293,2,-999.0000,9,    210.4,2,    197.3,3,     0.86,2,     2.52,2,     0.17,2,     0.20,2,  21.6584
  35A320080223,  A16C,     1,  1,   1016,     16,2,20080223,   0, 16.7580, -25.1086, 1596,      4.3,  22.0136,  36.3320,2,  36.3205,2,    219.2,2,    214.2,2,     0.63,2,     0.71,2,     0.09,2,     0.12,2,  22.0127
  35A320080223,  A16C,     2,  2,   2001,      1,2,20080225,   0, 10.0031, -22.9999, 5065,   1305.6,   4.6649,  34.9227,2,-999.0000,9,    183.7,2,    181.9,6,    22.20,6,    26.59,6,     0.00,6,     1.80,6,   4.5557
  35A320080223,  A16C,     2,  2,   2002,      2,2,20080225,   0, 10.0031, -22.9999, 5065,   1212.9,   4.8764,  34.8852,2,  34.8854,2,    166.6,2,    163.8,2,    23.70,2,    29.10,2,     0.00,2,     1.96,2,   4.7739
  35A320080223,  A16C,     2,  2,   2003,      3,2,20080225,   0, 10.0031, -22.9999, 5065,   1109.8,   5.1285,  34.8348,2,-999.0000,9,    148.8,2,   -999.0,9,  -999.00,9,  -999.00,9,  -999.00,9,  -999.00,9,   5.0335
  35A320080223,  A16C,     2,  2,   2004,      4,2,20080225,   0, 10.0031, -22.9999, 5065,    958.3,   5.3505,  34.7285,2,-999.0000,9,    125.4,2,    123.3,2,    26.18,2,    35.19,2,     0.01,2,     2.33,2,   5.2680
  35A320080223,  A16C,     2,  2,   2005,      5,2,20080225,   0, 10.0031, -22.9999, 5065,    837.1,   5.8640,  34.7048,2,-999.0000,9,    104.2,2,    107.0,2,    25.13,2,    36.96,2,     0.01,2,     2.42,2,   5.7895
  35A320080223,  A16C,     2,  2,   2006,      6,2,20080225,   0, 10.0031, -22.9999, 5065,    707.3,   6.7017,  34.7692,2,-999.0000,9,     81.6,2,     81.0,6,    22.84,6,    37.92,6,     0.01,6,     2.45,6,   6.6348
  35A320080223,  A16C,     2,  2,   2007,      7,2,20080225,   0, 10.0031, -22.9999, 5065,    606.7,   7.7827,  34.8745,2,  34.8604,2,     62.1,2,     61.5,2,    19.56,2,    37.66,2,     0.01,2,     2.39,2,   7.7208
  35A320080223,  A16C,     2,  2,   2008,      8,2,20080225,   0, 10.0031, -22.9999, 5065,    504.4,   8.7933,  34.9622,2,-999.0000,9,     49.0,2,     48.5,2,    16.90,2,    37.42,2,     0.01,2,     2.32,2,   8.7383
  35A320080223,  A16C,     2,  2,   2009,      9,2,20080225,   0, 10.0031, -22.9999, 5065,    453.8,   9.6906,  35.0639,2,-999.0000,9,     41.8,2,     41.8,2,    15.01,2,    36.55,2,     0.01,2,     2.22,2,   9.6382
  35A320080223,  A16C,     2,  2,   2010,     10,2,20080225,   0, 10.0031, -22.9999, 5065,    402.7,  10.4472,  35.1281,2,  35.1283,2,     39.7,2,     39.1,2,    13.27,2,    34.68,2,     0.01,2,     2.12,2,  10.3986
  35A320080223,  A16C,     2,  2,   2011,     11,2,20080225,   0, 10.0031, -22.9999, 5065,    304.4,  11.2198,  35.1173,2,-999.0000,9,     85.2,2,     84.7,2,    10.42,2,    28.33,2,     0.02,2,     1.92,2,  11.1815
  35A320080223,  A16C,     2,  2,   2012,     12,2,20080225,   0, 10.0031, -22.9999, 5065,    252.9,  11.9030,  35.1745,2,-999.0000,9,     99.2,2,     97.9,2,     9.00,2,    25.04,2,     0.02,2,     1.64,2,  11.8700
  35A320080223,  A16C,     2,  2,   2013,     13,2,20080225,   0, 10.0031, -22.9999, 5065,    202.2,  12.5632,  35.2474,2,  35.2480,2,    118.2,2,    116.8,2,     7.62,2,    22.00,2,     0.02,2,     1.45,2,  12.5359
  35A320080223,  A16C,     2,  2,   2014,     14,2,20080225,   0, 10.0031, -22.9999, 5065,    152.2,  13.2431,  35.3306,2,-999.0000,9,    132.4,2,    130.3,2,     6.55,2,    19.22,2,     0.01,2,     1.29,2,  13.2219
  35A320080223,  A16C,     2,  2,   2015,     15,2,20080225,   0, 10.0031, -22.9999, 5065,    102.0,  14.2539,  35.4564,2,-999.0000,9,    126.6,2,    124.9,2,     5.74,2,    18.31,2,     0.04,2,     1.18,2,  14.2390
  35A320080223,  A16C,     2,  2,   2016,     16,2,20080225,   0, 10.0031, -22.9999, 5065,     25.9,  25.0348,  35.7688,2,  35.7585,2,    208.6,2,    207.9,2,     0.72,2,     0.00,2,     0.01,2,     0.00,2,  25.0292
  35A320080223,  A16C,     3,  3,   3001,      1,2,20080226,   0,  8.0040, -22.9981, 4814,   4467.7,   2.3139,  34.8868,2,-999.0000,9,    250.0,2,   -999.0,9,  -999.00,9,  -999.00,9,  -999.00,9,  -999.00,9,   1.9162
  35A320080223,  A16C,     3,  3,   3002,      2,2,20080226,   0,  8.0040, -22.9981, 4814,   4468.1,   2.3136,  34.8868,2,-999.0000,9,    250.1,2,   -999.0,9,  -999.00,9,  -999.00,9,  -999.00,9,  -999.00,9,   1.9159
  35A320080223,  A16C,     3,  3,   3003,      3,2,20080226,   0,  8.0040, -22.9981, 4814,   4468.7,   2.3136,  34.8870,2,  34.8853,2,    249.5,2,    243.6,6,    46.59,6,    22.34,6,     0.00,6,     1.51,6,   1.9158
  35A320080223,  A16C,     3,  3,   3004,      4,2,20080226,   0,  8.0040, -22.9981, 4814,   3546.7,   2.4645,  34.9047,2,-999.0000,9,    248.2,2,    246.6,2,    39.43,2,    21.31,2,     0.00,2,     1.47,2,   2.1679
  35A320080223,  A16C,     3,  3,   3005,      5,2,20080226,   0,  8.0040, -22.9981, 4814,   2527.7,   3.0191,  34.9406,2,  34.9434,2,    245.0,2,    244.9,2,    28.34,2,    20.95,2,     0.00,2,     1.42,2,   2.8160
  35A320080223,  A16C,     3,  3,   3006,      6,2,20080226,   0,  8.0040, -22.9981, 4814,   1456.2,   4.3487,  34.9313,2,-999.0000,9,    203.7,2,    202.5,2,    21.09,2,    24.48,2,     0.01,2,     1.67,2,   4.2287
  35A320080223,  A16C,     3,  3,   3007,      7,2,20080226,   0,  8.0040, -22.9981, 4814,   1004.7,   4.9959,  34.7305,2,  34.7154,2,    143.3,2,    142.3,2,    26.70,2,    33.01,2,     0.01,2,     2.22,2,   4.9118
  35A320080223,  A16C,     3,  3,   3008,      8,2,20080226,   0,  8.0040, -22.9981, 4814,    755.1,   5.8518,  34.6621,2,-999.0000,9,    110.3,2,    108.2,2,    25.15,2,    37.18,2,     0.01,2,     2.40,2,   5.7851
  35A320080223,  A16C,     3,  3,   3009,      9,2,20080226,   0,  8.0040, -22.9981, 4814,    504.4,   8.4279,  34.8798,2,  34.8624,2,     73.8,2,     71.9,2,    17.38,2,    36.42,2,     0.02,2,     2.23,2,   8.3743
  35A320080223,  A16C,     3,  3,   3010,     10,2,20080226,   0,  8.0040, -22.9981, 4814,    400.9,   9.9253,  34.9753,2,-999.0000,9,     84.6,2,     81.7,2,    13.26,2,    31.48,2,     0.02,2,     1.95,2,   9.8785
  35A320080223,  A16C,     3,  3,   3011,     11,2,20080226,   0,  8.0040, -22.9981, 4814,    300.5,  11.6045,  35.1322,2,-999.0000,9,    114.8,2,    111.9,2,     9.53,2,    24.67,2,     0.02,2,     1.59,2,  11.5659
  35A320080223,  A16C,     3,  3,   3012,     12,2,20080226,   0,  8.0040, -22.9981, 4814,    199.0,  13.3779,  35.3407,2,-999.0000,9,     95.9,2,     93.5,2,     7.82,2,    23.57,2,     0.02,2,     1.52,2,  13.3499
  35A320080223,  A16C,     3,  3,   3013,     13,2,20080226,   0,  8.0040, -22.9981, 4814,    148.2,  14.3857,  35.4551,2,  35.4632,2,    119.8,2,    118.9,2,     6.02,2,    18.75,2,     0.03,2,     1.26,2,  14.3638
  35A320080223,  A16C,     3,  3,   3014,     14,2,20080226,   0,  8.0040, -22.9981, 4814,     99.3,  15.5984,  35.5993,2,-999.0000,9,    125.0,2,    122.9,2,     5.01,2,    16.63,2,     0.07,2,     1.09,2,  15.5829
  35A320080223,  A16C,     3,  3,   3015,     15,2,20080226,   0,  8.0040, -22.9981, 4814,     38.1,  27.1526,  35.6888,2,-999.0000,9,    203.5,2,    169.6,4,     2.02,2,     4.50,2,     0.12,2,     0.28,2,  27.1438
  35A320080223,  A16C,     3,  3,   3016,     16,2,20080226,   0,  8.0040, -22.9981, 4814,      8.7,  27.3070,  35.6621,2,  35.6834,2,    205.2,2,    202.5,6,     0.52,6,     0.03,6,     0.01,6,     0.00,6,  27.3050
  35A320080223,  A16C,     4,  4,   4001,      1,2,20080227,   0,  5.0314, -22.9994, 3900,   1299.1,   4.5388,  34.8811,2,-999.0000,9,    188.3,2,    186.7,6,    22.66,6,    26.82,6,     0.00,6,     1.81,6,   4.4315
  35A320080223,  A16C,     4,  4,   4002,      2,2,20080227,   0,  5.0314, -22.9994, 3900,   1199.6,   4.6856,  34.8291,2,-999.0000,9,    171.9,2,    169.5,2,    24.40,2,    29.27,2,     0.00,2,     1.96,2,   4.5861
  35A320080223,  A16C,     4,  4,   4003,      3,2,20080227,   0,  5.0314, -22.9994, 3900,   1100.2,   4.8201,  34.7646,2,-999.0000,9,    157.2,2,    155.5,2,    26.03,2,    31.51,2,     0.01,2,     2.11,2,   4.7287
  35A320080223,  A16C,     4,  4,   4004,      4,2,20080227,   0,  5.0314, -22.9994, 3900,    957.3,   4.8521,  34.6499,2,-999.0000,9,    146.8,2,    145.8,2,    28.08,2,    34.06,2,     0.01,2,     2.27,2,   4.7735
  35A320080223,  A16C,     4,  4,   4005,      5,2,20080227,   0,  5.0314, -22.9994, 3900,    849.1,   5.2563,  34.6097,2,-999.0000,9,    128.2,2,    126.6,2,    27.26,2,    36.26,2,     0.01,2,     2.38,2,   5.1847
  35A320080223,  A16C,     4,  4,   4006,      6,2,20080227,   0,  5.0314, -22.9994, 3900,    726.8,   5.9099,  34.6041,2,-999.0000,9,    119.9,2,    118.9,2,    24.37,2,    36.43,2,     0.01,2,     2.36,2,   5.8456
  35A320080223,  A16C,     4,  4,   4007,      7,2,20080227,   0,  5.0314, -22.9994, 3900,    600.2,   6.9617,  34.6766,2,-999.0000,9,    104.2,2,    104.2,2,    20.51,2,    35.46,2,     0.02,2,     2.28,2,   6.9043
  35A320080223,  A16C,     4,  4,   4008,      8,2,20080227,   0,  5.0314, -22.9994, 3900,    500.0,   7.8758,  34.7704,2,  34.7714,2,     88.7,2,     87.5,6,    17.89,6,    35.34,6,     0.02,6,     2.21,6,   7.8248
  35A320080223,  A16C,     4,  4,   4009,      9,2,20080227,   0,  5.0314, -22.9994, 3900,    417.8,   9.2847,  34.9429,2,-999.0000,9,     63.0,2,     62.0,2,    15.10,2,    35.00,2,     0.03,2,     2.14,2,   9.2379
  35A320080223,  A16C,     4,  4,   4010,     10,2,20080227,   0,  5.0314, -22.9994, 3900,    300.6,  11.4767,  35.1179,2,  35.1205,2,    101.4,2,    101.9,2,     9.73,2,    25.56,2,     0.03,2,     1.66,2,  11.4384
  35A320080223,  A16C,     4,  4,   4011,     11,2,20080227,   0,  5.0314, -22.9994, 3900,    249.9,  12.3177,  35.2102,2,-999.0000,9,    106.3,2,    106.2,2,     8.30,2,    23.22,2,     0.02,2,     1.54,2,  12.2844
  35A320080223,  A16C,     4,  4,   4012,     12,2,20080227,   0,  5.0314, -22.9994, 3900,    199.7,  13.3287,  35.3309,2,-999.0000,9,    102.6,2,    103.3,2,     7.23,2,    21.75,2,     0.02,2,     1.45,2,  13.3007
  35A320080223,  A16C,     4,  4,   4013,     13,2,20080227,   0,  5.0314, -22.9994, 3900,    149.3,  14.4766,  35.4786,2,-999.0000,9,    120.9,2,    119.8,2,     5.88,2,    18.65,2,     0.03,2,     1.25,2,  14.4545
  35A320080223,  A16C,     4,  4,   4014,     14,2,20080227,   0,  5.0314, -22.9994, 3900,     98.9,  16.3880,  35.6421,2,  35.6434,2,    102.1,2,    102.1,2,     4.85,2,    18.05,2,     0.07,2,     1.15,2,  16.3720
  35A320080223,  A16C,     4,  4,   4015,     15,2,20080227,   0,  5.0314, -22.9994, 3900,     19.2,  27.8685,  35.5427,2,  35.5447,2,    202.1,2,    201.3,2,     0.51,2,     0.00,2,     0.02,2,     0.00,2,  27.8640
  35A320080223,  A16C,     5,  5,   5001,      1,2,20080228,   0,  2.0415, -23.0334, 4520,   4418.6,   2.3339,  34.8858,2,  34.8846,2,    250.7,2,    244.9,2,    45.78,2,    22.11,2,     0.01,2,     1.51,2,   1.9415
  35A320080223,  A16C,     5,  5,   5002,      2,2,20080228,   0,  2.0415, -23.0334, 4520,   3556.1,   2.4932,  34.9051,2,-999.0000,9,    250.8,2,    248.4,2,    38.92,2,    21.35,2,     0.01,2,     1.45,2,   2.1948
  35A320080223,  A16C,     5,  5,   5003,      3,2,20080228,   0,  2.0415, -23.0334, 4520,   2527.9,   3.0002,  34.9378,2,-999.0000,9,    248.4,2,    248.5,2,    28.89,2,    20.45,2,     0.01,2,     1.40,2,   2.7975
  35A320080223,  A16C,     5,  5,   5004,      4,2,20080228,   0,  2.0415, -23.0334, 4520,   2018.6,   3.4859,  34.9652,2,-999.0000,9,    250.1,2,    250.3,2,    20.57,2,    19.52,2,     0.01,2,     1.33,2,   3.3242
  35A320080223,  A16C,     5,  5,   5005,      5,2,20080228,   0,  2.0415, -23.0334, 4520,   1512.3,   4.2991,  34.9641,2,  34.9658,2,    228.1,2,    228.0,6,    17.48,6,    21.59,6,     0.01,6,     1.46,6,   4.1744
  35A320080223,  A16C,     5,  5,   5006,      6,2,20080228,   0,  2.0415, -23.0334, 4520,   1006.0,   4.6331,  34.7026,2,-999.0000,9,    161.5,2,    160.8,2,    27.24,2,    34.53,2,     0.01,2,     2.33,2,   4.5517
  35A320080223,  A16C,     5,  5,   5007,      7,2,20080228,   0,  2.0415, -23.0334, 4520,    755.1,   5.1426,  34.5363,2,  34.5320,2,    146.1,2,    145.3,2,    27.06,2,    34.85,2,     0.01,2,     2.31,2,   5.0802
  35A320080223,  A16C,     5,  5,   5008,      8,2,20080228,   0,  2.0415, -23.0334, 4520,    503.4,   7.8581,  34.6986,2,  34.7015,2,    130.6,2,    129.5,6,    16.27,6,    30.92,6,     0.01,6,     2.00,6,   7.8069
  35A320080223,  A16C,     5,  5,   5009,      9,2,20080228,   0,  2.0415, -23.0334, 4520,    251.5,  10.8288,  35.0233,2,-999.0000,9,     94.6,2,     93.5,2,    10.83,2,    28.31,2,     0.02,2,     1.80,2,  10.7980
  35A320080223,  A16C,     5,  5,   5010,     10,2,20080228,   0,  2.0415, -23.0334, 4520,    150.1,  14.3651,  35.4616,2,-999.0000,9,    114.0,2,    112.6,2,     6.10,2,    19.66,2,     0.01,2,     1.34,2,  14.3430
  35A320080223,  A16C,     5,  5,   5011,     11,2,20080228,   0,  2.0415, -23.0334, 4520,     99.8,  15.8460,  35.6458,2,  35.6473,2,    104.1,2,    103.3,2,     5.03,2,    18.70,2,     0.02,2,     1.25,2,  15.8303
  35A320080223,  A16C,     5,  5,   5012,     12,2,20080228,   0,  2.0415, -23.0334, 4520,     71.1,  18.8249,  35.7754,2,-999.0000,9,    118.6,2,    116.3,2,     3.00,2,    12.63,2,     0.09,2,     0.85,2,  18.8123
  35A320080223,  A16C,     5,  5,   5013,     13,2,20080228,   0,  2.0415, -23.0334, 4520,     59.0,  25.0913,  35.9403,2,-999.0000,9,    184.8,2,    184.3,2,     0.75,2,     0.00,2,     0.01,2,     0.06,2,  25.0784
  35A320080223,  A16C,     5,  5,   5014,     14,2,20080228,   0,  2.0415, -23.0334, 4520,     37.9,  27.3617,  35.7583,2,-999.0000,9,    204.5,2,    203.7,2,     0.28,2,     0.00,2,     0.00,2,     0.01,2,  27.3529
  35A320080223,  A16C,     5,  5,   5015,     15,2,20080228,   0,  2.0415, -23.0334, 4520,     22.3,  27.8602,  35.4312,2,  35.4320,2,    206.2,2,    205.7,2,     0.27,2,     0.00,2,     0.00,2,     0.00,2,  27.8550
  35A320080223,  A16C,     5,  5,   5016,     16,2,20080228,   0,  2.0415, -23.0334, 4520,      9.1,  28.2378,  35.2198,2,-999.0000,9,    204.3,2,    204.7,2,     0.46,2,     0.01,2,     0.00,2,     0.00,2,  28.2356