BOTTLE,20120514PRINUNIVRMK
EXPOCODE,SECT_ID,STNNBR,CASTNO,SAMPNO,BTLNBR,BTLNBR_FLAG_W,DATE,TIME,LATITUDE,LONGITUDE,DEPTH,CTDPRS,CTDTMP,CTDSAL,CTDSAL_FLAG_W,SALNTY,SALNTY_FLAG_W,CTDOXY,CTDOXY_FLAG_W,OXYGEN,OXYGEN_FLAG_W,SILCAT,SILCAT_FLAG_W,NITRAT,NITRAT_FLAG_W,NITRIT,NITRIT_FLAG_W,PHSPHT,PHSPHT_FLAG_W,THETA
,,,,,,,,,,,METERS,DBAR,ITS-90,PSS-78,,PSS-78,,UMOL/KG,,UMOL/KG,,UMOL/KG,,UMOL/KG,,UMOL/KG,,UMOL/KG,,DEG C
  35A320080223,  A16C,    36, 36,  36001,      1,2,20080309,   0,  6.9995, -23.0000, 4204,   1306.7,   4.5852,  34.8766,2,-999.0000,9,    182.0,2,    182.3,2,  -999.00,9,  -999.00,9,  -999.00,9,  -999.00,9,   4.4767
  35A320080223,  A16C,    36, 36,  36002,      2,2,20080309,   0,  6.9995, -23.0000, 4204,   1197.8,   4.7854,  34.8268,2,-999.0000,9,    163.4,2,   -999.0,9,  -999.00,9,  -999.00,9,  -999.00,9,  -999.00,9,   4.6852
  35A320080223,  A16C,    36, 36,  36003,      3,2,20080309,   0,  6.9995, -23.0000, 4204,   1098.9,   4.9196,  34.7906,2,-999.0000,9,    151.0,2,    152.0,2,  -999.00,9,  -999.00,9,  -999.00,9,  -999.00,9,   4.8274
  35A320080223,  A16C,    36, 36,  36004,      4,2,20080309,   0,  6.9995, -23.0000, 4204,    996.4,   5.0938,  34.7092,2,-999.0000,9,    133.8,2,   -999.0,9,  -999.00,9,  -999.00,9,  -999.00,9,  -999.00,9,   5.0098
  35A320080223,  A16C,    36, 36,  36005,      5,2,20080309,   0,  6.9995, -23.0000, 4204,    898.2,   5.3684,  34.6637,2,-999.0000,9,    120.8,2,    122.9,6,  -999.00,9,  -999.00,9,  -999.00,9,  -999.00,9,   5.2915
  35A320080223,  A16C,    36, 36,  36006,      6,2,20080309,   0,  6.9995, -23.0000, 4204,    799.6,   5.7055,  34.6539,2,-999.0000,9,    109.8,2,   -999.0,9,  -999.00,9,  -999.00,9,  -999.00,9,  -999.00,9,   5.6355
  35A320080223,  A16C,    36, 36,  36007,      7,2,20080309,   0,  6.9995, -23.0000, 4204,    748.6,   5.8834,  34.6572,2,  34.6556,2,    105.3,2,    105.9,2,  -999.00,9,  -999.00,9,  -999.00,9,  -999.00,9,   5.8172
  35A320080223,  A16C,    36, 36,  36008,      8,2,20080309,   0,  6.9995, -23.0000, 4204,    698.6,   6.0671,  34.6557,2,-999.0000,9,    102.3,2,   -999.0,9,  -999.00,9,  -999.00,9,  -999.00,9,  -999.00,9,   6.0046
  35A320080223,  A16C,    36, 36,  36009,      9,2,20080309,   0,  6.9995, -23.0000, 4204,    598.3,   6.7251,  34.6935,2,-999.0000,9,     92.0,2,     92.9,2,  -999.00,9,  -999.00,9,  -999.00,9,  -999.00,9,   6.6689
  35A320080223,  A16C,    36, 36,  36010,     10,2,20080309,   0,  6.9995, -23.0000, 4204,    498.1,   7.5859,  34.7592,2,  34.7541,2,     83.8,2,   -999.0,9,  -999.00,9,  -999.00,9,  -999.00,9,  -999.00,9,   7.5362
  35A320080223,  A16C,    36, 36,  36011,     11,2,20080309,   0,  6.9995, -23.0000, 4204,    398.9,   9.2669,  34.9473,2,-999.0000,9,     55.1,2,     55.3,6,  -999.00,9,  -999.00,9,  -999.00,9,  -999.00,9,   9.2223
  35A320080223,  A16C,    36, 36,  36012,     12,2,20080309,   0,  6.9995, -23.0000, 4204,    297.7,  11.9488,  35.1810,2,-999.0000,9,     88.5,2,   -999.0,9,  -999.00,9,  -999.00,9,  -999.00,9,  -999.00,9,  11.9098
  35A320080223,  A16C,    36, 36,  36013,     13,2,20080309,   0,  6.9995, -23.0000, 4204,    199.0,  13.3769,  35.3326,2,  35.3404,2,    102.2,2,    101.6,2,  -999.00,9,  -999.00,9,  -999.00,9,  -999.00,9,  13.3489
  35A320080223,  A16C,    36, 36,  36014,     14,2,20080309,   0,  6.9995, -23.0000, 4204,    147.1,  14.3685,  35.4573,2,-999.0000,9,     97.8,2,   -999.0,9,  -999.00,9,  -999.00,9,  -999.00,9,  -999.00,9,  14.3468
  35A320080223,  A16C,    36, 36,  36015,     15,2,20080309,   0,  6.9995, -23.0000, 4204,     99.3,  15.4824,  35.5802,2,-999.0000,9,    110.6,2,    111.7,2,  -999.00,9,  -999.00,9,  -999.00,9,  -999.00,9,  15.4670
  35A320080223,  A16C,    36, 36,  36016,     16,2,20080309,   0,  6.9995, -23.0000, 4204,     10.4,  27.4809,  35.6849,2,  35.6863,2,    203.1,2,   -999.0,9,  -999.00,9,  -999.00,9,  -999.00,9,  -999.00,9,  27.4785
  35A320080223,  A16C,    37, 37,  37001,      1,2,20080309,   0,  7.5013, -22.9998, 4650,   1314.3,   4.5154,  34.9004,2,  34.8990,2,    189.4,2,    189.4,2,    21.60,2,    25.84,2,     0.01,2,     1.78,2,   4.4069
  35A320080223,  A16C,    37, 37,  37002,      2,2,20080309,   0,  7.5013, -22.9998, 4650,   1208.3,   4.6664,  34.8585,2,-999.0000,9,    173.1,2,    173.5,2,    22.98,2,    28.10,2,     0.01,2,     1.92,2,   4.5663
  35A320080223,  A16C,    37, 37,  37003,      3,2,20080309,   0,  7.5013, -22.9998, 4650,   1106.7,   4.8567,  34.8037,2,-999.0000,9,    156.6,2,    156.5,2,    24.99,2,    30.58,2,     0.00,2,     2.07,2,   4.7643
  35A320080223,  A16C,    37, 37,  37004,      4,2,20080309,   0,  7.5013, -22.9998, 4650,   1006.1,   4.9876,  34.7363,2,-999.0000,9,    141.6,2,   -999.0,9,  -999.00,9,  -999.00,9,  -999.00,9,  -999.00,9,   4.9034
  35A320080223,  A16C,    37, 37,  37005,      5,2,20080309,   0,  7.5013, -22.9998, 4650,    903.1,   5.1773,  34.6694,2,  34.6730,2,    128.9,2,    128.9,2,    28.01,2,    35.27,2,     0.00,2,     2.34,2,   5.1012
  35A320080223,  A16C,    37, 37,  37006,      6,2,20080309,   0,  7.5013, -22.9998, 4650,    803.4,   5.6039,  34.6519,2,-999.0000,9,    113.1,2,    112.1,2,    27.05,2,    36.93,2,     0.03,2,     2.43,2,   5.5342
  35A320080223,  A16C,    37, 37,  37007,      7,2,20080309,   0,  7.5013, -22.9998, 4650,    752.2,   5.8779,  34.6588,2,-999.0000,9,    104.7,2,    104.0,6,    25.65,6,    37.16,6,     0.03,6,     2.44,6,   5.8114
  35A320080223,  A16C,    37, 37,  37008,      8,2,20080309,   0,  7.5013, -22.9998, 4650,    703.0,   6.0788,  34.6473,2,  34.6460,2,    103.6,2,    102.5,2,    24.05,2,    36.96,2,     0.03,2,     2.44,2,   6.0158
  35A320080223,  A16C,    37, 37,  37009,      9,2,20080309,   0,  7.5013, -22.9998, 4650,    601.8,   6.7881,  34.7006,2,-999.0000,9,     91.2,2,     90.9,2,    21.13,2,    36.38,2,     0.02,2,     2.40,2,   6.7313
  35A320080223,  A16C,    37, 37,  37010,     10,2,20080309,   0,  7.5013, -22.9998, 4650,    501.1,   8.0585,  34.8283,2,-999.0000,9,     72.7,2,     72.4,2,    17.93,2,    35.80,2,     0.02,2,     2.31,2,   8.0067
  35A320080223,  A16C,    37, 37,  37011,     11,2,20080309,   0,  7.5013, -22.9998, 4650,    411.1,   9.2164,  34.9247,2,-999.0000,9,     72.3,2,     73.1,2,    15.11,2,    33.89,2,     0.02,2,     2.11,2,   9.1706
  35A320080223,  A16C,    37, 37,  37012,     12,2,20080309,   0,  7.5013, -22.9998, 4650,    298.9,  11.1828,  35.1073,2,  35.1040,2,     83.0,2,     85.3,2,    11.29,2,    28.29,2,     0.02,2,     1.79,2,  11.1453
  35A320080223,  A16C,    37, 37,  37013,     13,2,20080309,   0,  7.5013, -22.9998, 4650,    197.1,  12.5899,  35.2474,2,-999.0000,9,    102.0,2,    103.5,2,     9.03,2,    23.47,2,     0.04,2,     1.52,2,  12.5633
  35A320080223,  A16C,    37, 37,  37014,     14,2,20080309,   0,  7.5013, -22.9998, 4650,    147.9,  13.5339,  35.3630,2,-999.0000,9,    109.4,2,    109.3,6,     7.59,6,    20.89,6,     0.04,6,     1.41,6,  13.5130
  35A320080223,  A16C,    37, 37,  37015,     15,2,20080309,   0,  7.5013, -22.9998, 4650,     99.1,  14.5489,  35.4825,2,-999.0000,9,    114.4,2,    114.9,2,     6.18,2,    18.68,2,     0.06,2,     1.26,2,  14.5342
  35A320080223,  A16C,    37, 37,  37016,     16,2,20080309,   0,  7.5013, -22.9998, 4650,      8.5,  27.2029,  35.6894,2,  35.6897,2,    202.9,2,    205.0,2,     0.75,2,     0.00,2,     0.04,2,     0.00,2,  27.2009
  35A320080223,  A16C,    38, 38,  38001,      1,2,20080310,   0,  8.0352, -22.9835, 4814,   1299.8,   4.6351,  34.8779,2,  34.8769,2,    180.6,2,   -999.0,9,  -999.00,9,  -999.00,9,  -999.00,9,  -999.00,9,   4.5268
  35A320080223,  A16C,    38, 38,  38002,      2,2,20080310,   0,  8.0352, -22.9835, 4814,   1202.0,   4.7690,  34.8307,2,-999.0000,9,    165.0,2,    165.2,2,  -999.00,9,  -999.00,9,  -999.00,9,  -999.00,9,   4.6686
  35A320080223,  A16C,    38, 38,  38003,      3,2,20080310,   0,  8.0352, -22.9835, 4814,   1098.0,   4.9004,  34.7578,2,-999.0000,9,    150.0,2,   -999.0,9,  -999.00,9,  -999.00,9,  -999.00,9,  -999.00,9,   4.8085
  35A320080223,  A16C,    38, 38,  38004,      4,2,20080310,   0,  8.0352, -22.9835, 4814,    997.7,   5.0888,  34.7066,2,-999.0000,9,    135.8,2,    136.2,2,  -999.00,9,  -999.00,9,  -999.00,9,  -999.00,9,   5.0047
  35A320080223,  A16C,    38, 38,  38005,      5,2,20080310,   0,  8.0352, -22.9835, 4814,    897.6,   5.3103,  34.6720,2,-999.0000,9,    122.6,2,   -999.0,9,  -999.00,9,  -999.00,9,  -999.00,9,  -999.00,9,   5.2338
  35A320080223,  A16C,    38, 38,  38006,      6,2,20080310,   0,  8.0352, -22.9835, 4814,    844.3,   5.5223,  34.6650,2,  34.6696,2,    114.8,2,    113.7,6,  -999.00,9,  -999.00,9,  -999.00,9,  -999.00,9,   5.4493
  35A320080223,  A16C,    38, 38,  38007,      7,2,20080310,   0,  8.0352, -22.9835, 4814,    797.3,   5.7168,  34.6693,2,-999.0000,9,    111.8,2,   -999.0,9,  -999.00,9,  -999.00,9,  -999.00,9,  -999.00,9,   5.6470
  35A320080223,  A16C,    38, 38,  38008,      8,2,20080310,   0,  8.0352, -22.9835, 4814,    698.2,   6.3684,  34.7043,2,-999.0000,9,     99.1,2,     99.5,2,  -999.00,9,  -999.00,9,  -999.00,9,  -999.00,9,   6.3043
  35A320080223,  A16C,    38, 38,  38009,      9,2,20080310,   0,  8.0352, -22.9835, 4814,    597.3,   7.3835,  34.7917,2,  34.7854,2,     79.0,2,   -999.0,9,  -999.00,9,  -999.00,9,  -999.00,9,  -999.00,9,   7.3244
  35A320080223,  A16C,    38, 38,  38010,     10,2,20080310,   0,  8.0352, -22.9835, 4814,    497.2,   8.5529,  34.9068,2,-999.0000,9,     67.0,2,     67.4,2,  -999.00,9,  -999.00,9,  -999.00,9,  -999.00,9,   8.4996
  35A320080223,  A16C,    38, 38,  38011,     11,2,20080310,   0,  8.0352, -22.9835, 4814,    397.4,  10.1463,  35.0739,2,  35.0680,2,     49.2,2,   -999.0,9,  -999.00,9,  -999.00,9,  -999.00,9,  -999.00,9,  10.0992
  35A320080223,  A16C,    38, 38,  38012,     12,2,20080310,   0,  8.0352, -22.9835, 4814,    297.4,  11.5440,  35.1527,2,-999.0000,9,     77.5,2,     78.4,6,  -999.00,9,  -999.00,9,  -999.00,9,  -999.00,9,  11.5059
  35A320080223,  A16C,    38, 38,  38013,     13,2,20080310,   0,  8.0352, -22.9835, 4814,    197.6,  12.8038,  35.2701,2,-999.0000,9,    115.8,2,   -999.0,9,  -999.00,9,  -999.00,9,  -999.00,9,  -999.00,9,  12.7768
  35A320080223,  A16C,    38, 38,  38014,     14,2,20080310,   0,  8.0352, -22.9835, 4814,    147.1,  13.5097,  35.3568,2,  35.3385,2,    103.5,2,     98.2,2,  -999.00,9,  -999.00,9,  -999.00,9,  -999.00,9,  13.4889
  35A320080223,  A16C,    38, 38,  38015,     15,2,20080310,   0,  8.0352, -22.9835, 4814,     97.8,  14.9466,  35.5195,2,-999.0000,9,    100.0,2,   -999.0,9,  -999.00,9,  -999.00,9,  -999.00,9,  -999.00,9,  14.9318
  35A320080223,  A16C,    38, 38,  38016,     16,2,20080310,   0,  8.0352, -22.9835, 4814,      8.6,  27.1309,  35.6952,2,  35.6974,2,    202.1,2,    202.8,2,  -999.00,9,  -999.00,9,  -999.00,9,  -999.00,9,  27.1289
  35A320080223,  A16C,    39, 39,  39001,      1,2,20080310,   0,  8.5004, -23.0002, 4757,   1301.9,   4.6784,  34.8749,2,  34.8766,2,    178.3,2,    178.4,6,    22.35,6,    27.49,6,     0.01,6,     1.87,6,   4.5695
  35A320080223,  A16C,    39, 39,  39002,      2,2,20080310,   0,  8.5004, -23.0002, 4757,   1199.7,   4.7886,  34.8248,2,-999.0000,9,    164.0,2,    164.1,2,    24.24,2,    29.62,2,     0.00,2,     2.00,2,   4.6882
  35A320080223,  A16C,    39, 39,  39003,      3,2,20080310,   0,  8.5004, -23.0002, 4757,   1098.7,   4.9224,  34.7543,2,  34.7565,2,    149.0,2,    152.9,2,    26.52,2,    32.47,2,     0.00,2,     2.15,2,   4.8303
  35A320080223,  A16C,    39, 39,  39004,      4,2,20080310,   0,  8.5004, -23.0002, 4757,    998.0,   5.0725,  34.7060,2,-999.0000,9,    135.6,2,    135.8,2,    27.66,2,    34.49,2,     0.01,2,     2.28,2,   4.9885
  35A320080223,  A16C,    39, 39,  39005,      5,2,20080310,   0,  8.5004, -23.0002, 4757,    897.1,   5.4804,  34.6914,2,-999.0000,9,    118.4,2,    119.0,2,    26.93,2,    36.31,2,     0.03,2,     2.37,2,   5.4028
  35A320080223,  A16C,    39, 39,  39006,      6,2,20080310,   0,  8.5004, -23.0002, 4757,    848.4,   5.6402,  34.6819,2,  34.6839,2,    113.1,2,    112.3,2,    26.17,2,    36.69,2,     0.03,2,     2.39,2,   5.5661
  35A320080223,  A16C,    39, 39,  39007,      7,2,20080310,   0,  8.5004, -23.0002, 4757,    798.1,   5.8584,  34.6848,2,-999.0000,9,    106.5,2,    106.4,2,    24.82,2,    36.74,2,     0.02,2,     2.41,2,   5.7876
  35A320080223,  A16C,    39, 39,  39008,      8,2,20080310,   0,  8.5004, -23.0002, 4757,    697.5,   6.7521,  34.7655,2,-999.0000,9,     82.5,2,     83.3,2,    22.01,2,    38.15,2,     0.02,2,     2.44,2,   6.6859
  35A320080223,  A16C,    39, 39,  39009,      9,2,20080310,   0,  8.5004, -23.0002, 4757,    598.8,   7.6535,  34.8425,2,-999.0000,9,     67.2,2,     66.9,2,    19.24,2,    37.92,2,     0.01,2,     2.40,2,   7.5930
  35A320080223,  A16C,    39, 39,  39010,     10,2,20080310,   0,  8.5004, -23.0002, 4757,    498.0,   9.0324,  34.9775,2,  34.9686,2,     53.6,2,     54.2,2,    16.25,2,    36.56,2,     0.00,2,     2.26,2,   8.9772
  35A320080223,  A16C,    39, 39,  39011,     11,2,20080310,   0,  8.5004, -23.0002, 4757,    447.5,   9.5945,  35.0298,2,-999.0000,9,     47.8,2,     47.8,6,    15.49,6,    36.25,6,     0.01,6,     2.20,6,   9.5432
  35A320080223,  A16C,    39, 39,  39012,     12,2,20080310,   0,  8.5004, -23.0002, 4757,    398.6,   9.7839,  34.9946,2,-999.0000,9,     67.4,2,     67.8,2,    14.15,2,    33.68,2,     0.02,2,     2.06,2,   9.7378
  35A320080223,  A16C,    39, 39,  39013,     13,2,20080310,   0,  8.5004, -23.0002, 4757,    298.0,  11.3221,  35.1187,2,  35.1145,2,     89.0,2,     90.1,2,    10.62,2,    27.71,2,     0.02,2,     1.74,2,  11.2844
  35A320080223,  A16C,    39, 39,  39014,     14,2,20080310,   0,  8.5004, -23.0002, 4757,    198.7,  12.6713,  35.2545,2,-999.0000,9,    114.3,2,    115.6,2,     7.58,2,    21.76,2,     0.02,2,     1.46,2,  12.6444
  35A320080223,  A16C,    39, 39,  39015,     15,2,20080310,   0,  8.5004, -23.0002, 4757,     98.2,  14.3296,  35.4637,2,-999.0000,9,    119.2,2,    121.3,2,     5.61,2,    18.79,2,     0.03,2,     1.25,2,  14.3152
  35A320080223,  A16C,    39, 39,  39016,     16,2,20080310,   0,  8.5004, -23.0002, 4757,      8.4,  27.3284,  35.7291,2,  35.7288,2,    202.4,2,    205.5,2,     0.25,2,     0.00,2,     0.00,2,     0.00,2,  27.3265
  35A320080223,  A16C,    40, 40,  40001,      1,2,20080310,   0,  9.0001, -22.9998, 5002,   1300.8,   4.5861,  34.8939,2,-999.0000,9,    182.9,2,    183.1,6,  -999.00,9,  -999.00,9,  -999.00,9,  -999.00,9,   4.4781
  35A320080223,  A16C,    40, 40,  40002,      2,2,20080310,   0,  9.0001, -22.9998, 5002,   1197.1,   4.8125,  34.8573,2,-999.0000,9,    164.6,2,   -999.0,9,  -999.00,9,  -999.00,9,  -999.00,9,  -999.00,9,   4.7121
  35A320080223,  A16C,    40, 40,  40003,      3,2,20080310,   0,  9.0001, -22.9998, 5002,   1099.0,   4.9727,  34.7816,2,-999.0000,9,    148.8,2,    149.2,2,  -999.00,9,  -999.00,9,  -999.00,9,  -999.00,9,   4.8801
  35A320080223,  A16C,    40, 40,  40004,      4,2,20080310,   0,  9.0001, -22.9998, 5002,    999.5,   5.1169,  34.7210,2,-999.0000,9,    136.6,2,   -999.0,9,  -999.00,9,  -999.00,9,  -999.00,9,  -999.00,9,   5.0324
  35A320080223,  A16C,    40, 40,  40005,      5,2,20080310,   0,  9.0001, -22.9998, 5002,    899.0,   5.5691,  34.6965,2,-999.0000,9,    115.9,2,    116.3,2,  -999.00,9,  -999.00,9,  -999.00,9,  -999.00,9,   5.4907
  35A320080223,  A16C,    40, 40,  40006,      6,2,20080310,   0,  9.0001, -22.9998, 5002,    848.9,   5.7730,  34.6954,2,  34.6935,2,    108.2,2,   -999.0,9,  -999.00,9,  -999.00,9,  -999.00,9,  -999.00,9,   5.6979
  35A320080223,  A16C,    40, 40,  40007,      7,2,20080310,   0,  9.0001, -22.9998, 5002,    799.4,   6.0424,  34.7015,2,-999.0000,9,    100.7,2,    100.3,2,  -999.00,9,  -999.00,9,  -999.00,9,  -999.00,9,   5.9704
  35A320080223,  A16C,    40, 40,  40008,      8,2,20080310,   0,  9.0001, -22.9998, 5002,    699.8,   6.8369,  34.7563,2,-999.0000,9,     83.7,2,   -999.0,9,  -999.00,9,  -999.00,9,  -999.00,9,  -999.00,9,   6.7701
  35A320080223,  A16C,    40, 40,  40009,      9,2,20080310,   0,  9.0001, -22.9998, 5002,    599.6,   8.1687,  34.8898,2,-999.0000,9,     59.9,2,     60.4,2,  -999.00,9,  -999.00,9,  -999.00,9,  -999.00,9,   8.1058
  35A320080223,  A16C,    40, 40,  40010,     10,2,20080310,   0,  9.0001, -22.9998, 5002,    498.8,   9.2701,  34.9993,2,  34.9981,2,     45.6,2,   -999.0,9,  -999.00,9,  -999.00,9,  -999.00,9,  -999.00,9,   9.2140
  35A320080223,  A16C,    40, 40,  40011,     11,2,20080310,   0,  9.0001, -22.9998, 5002,    398.9,  10.7011,  35.1435,2,-999.0000,9,     42.4,2,   -999.0,9,  -999.00,9,  -999.00,9,  -999.00,9,  -999.00,9,  10.6522
  35A320080223,  A16C,    40, 40,  40012,     12,2,20080310,   0,  9.0001, -22.9998, 5002,    299.6,  11.4645,  35.1175,2,-999.0000,9,    108.3,2,   -999.0,9,  -999.00,9,  -999.00,9,  -999.00,9,  -999.00,9,  11.4263
  35A320080223,  A16C,    40, 40,  40013,     13,2,20080310,   0,  9.0001, -22.9998, 5002,    199.6,  12.7351,  35.2585,2,  35.2610,2,     91.0,2,     91.5,2,  -999.00,9,  -999.00,9,  -999.00,9,  -999.00,9,  12.7079
  35A320080223,  A16C,    40, 40,  40014,     14,2,20080310,   0,  9.0001, -22.9998, 5002,    148.2,  13.6906,  35.3791,2,-999.0000,9,    111.8,2,   -999.0,9,  -999.00,9,  -999.00,9,  -999.00,9,  -999.00,9,  13.6695
  35A320080223,  A16C,    40, 40,  40015,     15,2,20080310,   0,  9.0001, -22.9998, 5002,     98.8,  14.6988,  35.5020,2,-999.0000,9,    116.3,2,    116.7,6,  -999.00,9,  -999.00,9,  -999.00,9,  -999.00,9,  14.6840
  35A320080223,  A16C,    40, 40,  40016,     16,2,20080310,   0,  9.0001, -22.9998, 5002,      9.8,  27.2917,  35.7850,2,  35.7855,2,    203.7,2,   -999.0,9,  -999.00,9,  -999.00,9,  -999.00,9,  -999.00,9,  27.2894