BOTTLE,20120514PRINUNIVRMK
EXPOCODE,SECT_ID,STNNBR,CASTNO,SAMPNO,BTLNBR,BTLNBR_FLAG_W,DATE,TIME,LATITUDE,LONGITUDE,DEPTH,CTDPRS,CTDTMP,CTDSAL,CTDSAL_FLAG_W,SALNTY,SALNTY_FLAG_W,CTDOXY,CTDOXY_FLAG_W,OXYGEN,OXYGEN_FLAG_W,SILCAT,SILCAT_FLAG_W,NITRAT,NITRAT_FLAG_W,NITRIT,NITRIT_FLAG_W,PHSPHT,PHSPHT_FLAG_W,THETA
,,,,,,,,,,,METERS,DBAR,ITS-90,PSS-78,,PSS-78,,UMOL/KG,,UMOL/KG,,UMOL/KG,,UMOL/KG,,UMOL/KG,,UMOL/KG,,DEG C
  35A320080223,  A16C,    21, 21,  21001,      1,2,20080307,   0,  1.3328, -22.9974, 4252,   1300.4,   4.6044,  34.8883,2,-999.0000,9,    197.4,2,   -999.0,9,  -999.00,9,  -999.00,9,  -999.00,9,  -999.00,9,   4.4963
  35A320080223,  A16C,    21, 21,  21002,      2,2,20080307,   0,  1.3328, -22.9974, 4252,    996.2,   4.6580,  34.7118,2,  34.7191,2,    163.9,2,    164.0,2,    27.06,2,    31.54,2,     0.02,2,     2.11,2,   4.5773
  35A320080223,  A16C,    21, 21,  21003,      3,2,20080307,   0,  1.3328, -22.9974, 4252,    796.3,   4.8937,  34.5273,2,  34.5297,2,    150.0,2,    149.0,2,    27.74,2,    34.86,2,     0.02,2,     2.33,2,   4.8291
  35A320080223,  A16C,    21, 21,  21004,      4,2,20080307,   0,  1.3328, -22.9974, 4252,    595.9,   6.0071,  34.5530,2,-999.0000,9,    142.0,2,   -999.0,9,    22.39,2,    34.08,2,     0.02,2,     2.23,2,   5.9545
  35A320080223,  A16C,    21, 21,  21005,      5,2,20080307,   0,  1.3328, -22.9974, 4252,    396.1,   8.6872,  34.7828,2,-999.0000,9,    107.9,2,    108.1,6,    14.59,6,    31.69,6,     0.00,6,     2.01,6,   8.6447
  35A320080223,  A16C,    21, 21,  21006,      6,2,20080307,   0,  1.3328, -22.9974, 4252,    297.9,  10.1521,  34.9500,2,  34.9391,2,     87.3,2,     85.8,2,    12.92,2,    30.91,2,     0.01,2,     1.92,2,  10.1170
  35A320080223,  A16C,    21, 21,  21007,      7,2,20080307,   0,  1.3328, -22.9974, 4252,    197.3,  13.4998,  35.3481,2,-999.0000,9,    109.7,2,    109.2,2,     8.09,2,    22.15,2,     0.03,2,     1.44,2,  13.4719
  35A320080223,  A16C,    21, 21,  21008,      8,2,20080307,   0,  1.3328, -22.9974, 4252,    145.6,  14.5336,  35.4866,2,  35.4400,2,    109.1,2,    110.3,2,     6.92,2,    20.36,2,     0.03,2,     1.35,2,  14.5120
  35A320080223,  A16C,    21, 21,  21009,      9,2,20080307,   0,  1.3328, -22.9974, 4252,     97.4,  15.4515,  35.5930,2,-999.0000,9,     99.3,2,     99.9,2,     5.79,2,    20.21,2,     0.04,2,     1.31,2,  15.4364
  35A320080223,  A16C,    21, 21,  21010,     10,2,20080307,   0,  1.3328, -22.9974, 4252,     77.6,  16.8845,  35.7074,2,-999.0000,9,    107.4,2,    108.0,6,     4.22,6,    17.06,6,     0.08,6,     1.14,6,  16.8717
  35A320080223,  A16C,    21, 21,  21011,     11,2,20080307,   0,  1.3328, -22.9974, 4252,     57.0,  25.1288,  36.0279,2,-999.0000,9,    182.8,2,    182.1,2,     0.47,2,     0.00,2,     0.01,2,     0.09,2,  25.1164
  35A320080223,  A16C,    21, 21,  21012,     12,2,20080307,   0,  1.3328, -22.9974, 4252,     48.7,  26.0973,  36.0876,2,  36.0745,2,    193.1,2,    189.9,2,     0.89,2,     0.03,2,     0.00,2,     0.05,2,  26.0864
  35A320080223,  A16C,    21, 21,  21013,     13,2,20080307,   0,  1.3328, -22.9974, 4252,     37.2,  27.0979,  36.0875,2,-999.0000,9,    198.6,2,    196.6,2,     1.40,2,     0.32,2,     0.02,2,     0.02,2,  27.0893
  35A320080223,  A16C,    21, 21,  21014,     14,2,20080307,   0,  1.3328, -22.9974, 4252,     27.0,  27.6731,  36.1103,2,-999.0000,9,    200.8,2,    198.9,2,     1.26,2,     0.34,2,     0.02,2,     0.03,2,  27.6668
  35A320080223,  A16C,    21, 21,  21015,     15,2,20080307,   0,  1.3328, -22.9974, 4252,     17.1,  27.7921,  35.6432,2,-999.0000,9,    204.9,2,    201.7,2,     1.10,2,     0.29,2,     0.02,2,     0.02,2,  27.7881
  35A320080223,  A16C,    21, 21,  21016,     16,2,20080307,   0,  1.3328, -22.9974, 4252,      9.2,  28.2870,  35.2505,2,  35.3452,3,    203.0,2,    202.8,2,     0.82,2,     0.21,2,     0.02,2,     0.00,2,  28.2848
  35A320080223,  A16C,    22, 22,  22001,      1,2,20080307,   0,  1.6669, -23.0012, 4294,   1301.0,   4.5764,  34.8625,2,-999.0000,9,    192.2,2,   -999.0,9,  -999.00,9,  -999.00,9,  -999.00,9,  -999.00,9,   4.4686
  35A320080223,  A16C,    22, 22,  22002,      2,2,20080307,   0,  1.6669, -23.0012, 4294,   1198.2,   4.5593,  34.8420,2,  34.8488,2,    187.8,2,    187.7,2,    22.66,2,    26.87,2,     0.04,2,     1.82,2,   4.4611
  35A320080223,  A16C,    22, 22,  22003,      3,2,20080307,   0,  1.6669, -23.0012, 4294,   1098.6,   4.5615,  34.7835,2,-999.0000,9,    176.1,2,    175.6,2,    25.15,2,    28.53,2,     0.02,2,     1.97,2,   4.4723
  35A320080223,  A16C,    22, 22,  22004,      4,2,20080307,   0,  1.6669, -23.0012, 4294,    998.7,   4.6915,  34.7171,2,-999.0000,9,    162.8,2,    162.9,2,    27.34,2,    30.78,2,     0.02,2,     2.09,2,   4.6103
  35A320080223,  A16C,    22, 22,  22005,      5,2,20080307,   0,  1.6669, -23.0012, 4294,    796.9,   4.8758,  34.5297,2,  34.5325,2,    150.2,2,    149.6,2,    29.76,2,    34.86,2,     0.02,2,     2.31,2,   4.8113
  35A320080223,  A16C,    22, 22,  22006,      6,2,20080307,   0,  1.6669, -23.0012, 4294,    698.1,   5.1807,  34.5062,2,  34.5115,2,    152.1,2,    151.6,2,    28.04,2,    34.68,2,     0.04,2,     2.26,2,   5.1231
  35A320080223,  A16C,    22, 22,  22007,      7,2,20080307,   0,  1.6669, -23.0012, 4294,    599.6,   5.7745,  34.5321,2,-999.0000,9,    148.6,2,    149.2,2,    24.89,2,    33.99,2,     0.04,2,     2.20,2,   5.7227
  35A320080223,  A16C,    22, 22,  22008,      8,2,20080307,   0,  1.6669, -23.0012, 4294,    498.9,   7.9678,  34.7083,2,-999.0000,9,    125.2,2,    122.0,2,    17.37,2,    32.04,2,     0.04,2,     2.03,2,   7.9167
  35A320080223,  A16C,    22, 22,  22009,      9,2,20080307,   0,  1.6669, -23.0012, 4294,    399.8,   8.8117,  34.7941,2,-999.0000,9,    104.4,2,    103.2,2,    14.94,2,    31.69,2,     0.04,2,     1.99,2,   8.7684
  35A320080223,  A16C,    22, 22,  22010,     10,2,20080307,   0,  1.6669, -23.0012, 4294,    318.8,   9.4410,  34.8675,2,-999.0000,9,     87.4,2,     87.1,2,    13.55,2,    32.06,2,     0.04,2,     1.99,2,   9.4051
  35A320080223,  A16C,    22, 22,  22011,     11,2,20080307,   0,  1.6669, -23.0012, 4294,    147.5,  14.5180,  35.4871,2,-999.0000,9,    113.2,2,    112.6,6,     5.88,6,    18.90,6,     0.03,6,     1.32,6,  14.4961
  35A320080223,  A16C,    22, 22,  22012,     12,2,20080307,   0,  1.6669, -23.0012, 4294,     99.1,  15.1943,  35.5807,2,  35.5760,2,    111.9,2,    112.3,2,     5.65,2,    18.29,2,     0.03,2,     1.25,2,  15.1791
  35A320080223,  A16C,    22, 22,  22013,     13,2,20080307,   0,  1.6669, -23.0012, 4294,     78.9,  16.2388,  35.6867,2,-999.0000,9,    101.5,2,    102.2,2,     5.47,2,    18.70,2,     0.08,2,     1.21,2,  16.2262
  35A320080223,  A16C,    22, 22,  22014,     14,2,20080307,   0,  1.6669, -23.0012, 4294,     58.4,  20.3088,  35.8689,2,-999.0000,9,    130.4,2,    129.9,2,     3.41,2,    10.08,2,     0.30,2,     0.69,2,  20.2979
  35A320080223,  A16C,    22, 22,  22015,     15,2,20080307,   0,  1.6669, -23.0012, 4294,     39.2,  26.1016,  35.9591,2,-999.0000,9,    193.0,2,    190.3,2,     1.37,2,     0.37,2,     0.04,2,     0.07,2,  26.0928
  35A320080223,  A16C,    22, 22,  22016,     16,2,20080307,   0,  1.6669, -23.0012, 4294,     18.4,  27.7792,  35.8670,2,  35.8554,2,    202.5,2,    202.6,2,     0.85,2,     0.24,2,     0.03,2,     0.03,2,  27.7749
  35A320080223,  A16C,    23, 23,  23001,      1,2,20080307,   0,  2.0361, -23.0143, 4520,   1310.4,   4.6068,  34.8908,2,  34.8913,2,    196.9,2,    196.1,2,    20.73,2,    25.57,2,     0.01,2,     1.74,2,   4.4978
  35A320080223,  A16C,    23, 23,  23002,      2,2,20080307,   0,  2.0361, -23.0143, 4520,    996.6,   4.6349,  34.7616,2,-999.0000,9,    170.9,2,    171.1,2,    25.27,2,    29.57,2,     0.00,2,     2.03,2,   4.5542
  35A320080223,  A16C,    23, 23,  23003,      3,2,20080307,   0,  2.0361, -23.0143, 4520,    796.7,   4.9142,  34.5541,2,  34.5613,2,    147.1,2,    146.7,6,    29.25,6,    35.02,6,     0.00,6,     2.31,6,   4.8494
  35A320080223,  A16C,    23, 23,  23004,      4,2,20080307,   0,  2.0361, -23.0143, 4520,    697.5,   5.3839,  34.5426,2,-999.0000,9,    141.0,2,    142.4,2,    27.23,2,    34.91,2,     0.00,2,     2.32,2,   5.3252
  35A320080223,  A16C,    23, 23,  23005,      5,2,20080307,   0,  2.0361, -23.0143, 4520,    595.8,   6.3541,  34.6005,2,-999.0000,9,    124.9,2,    127.6,2,    22.72,2,    35.02,2,     0.01,2,     2.29,2,   6.2999
  35A320080223,  A16C,    23, 23,  23006,      6,2,20080307,   0,  2.0361, -23.0143, 4520,    497.0,   8.3660,  34.7544,2,  34.7559,2,    118.3,2,    118.0,6,    15.38,6,    31.02,6,     0.01,6,     2.02,6,   8.3136
  35A320080223,  A16C,    23, 23,  23007,      7,2,20080307,   0,  2.0361, -23.0143, 4520,    398.1,   8.7870,  34.7947,2,-999.0000,9,    107.4,2,    155.0,4,    14.23,2,    30.41,2,     0.01,2,     1.99,2,   8.7440
  35A320080223,  A16C,    23, 23,  23008,      8,2,20080307,   0,  2.0361, -23.0143, 4520,    297.2,   9.9862,  34.9273,2,-999.0000,9,     84.6,2,     87.9,2,    13.13,2,    31.02,2,     0.01,2,     1.94,2,   9.9516
  35A320080223,  A16C,    23, 23,  23009,      9,2,20080307,   0,  2.0361, -23.0143, 4520,    197.2,  14.0002,  35.4113,2,-999.0000,9,    105.3,2,    105.8,2,     7.51,2,    21.55,2,     0.03,2,     1.40,2,  13.9716
  35A320080223,  A16C,    23, 23,  23010,     10,2,20080307,   0,  2.0361, -23.0143, 4520,    145.9,  14.6472,  35.5037,2,-999.0000,9,    122.6,2,    122.2,2,     6.41,2,    18.58,2,     0.03,2,     1.24,2,  14.6254
  35A320080223,  A16C,    23, 23,  23011,     11,2,20080307,   0,  2.0361, -23.0143, 4520,    100.0,  15.3764,  35.6034,2,  35.5945,2,    105.0,2,    103.8,2,     5.77,2,    19.45,2,     0.05,2,     1.29,2,  15.3610
  35A320080223,  A16C,    23, 23,  23012,     12,2,20080307,   0,  2.0361, -23.0143, 4520,     79.8,  16.4148,  35.6978,2,-999.0000,9,     95.2,2,     95.5,2,     4.58,2,    19.07,2,     0.10,2,     1.24,2,  16.4019
  35A320080223,  A16C,    23, 23,  23013,     13,2,20080307,   0,  2.0361, -23.0143, 4520,     59.1,  25.0745,  35.9505,2,-999.0000,9,    180.2,2,    172.0,3,     0.58,2,     0.51,2,     0.07,2,     0.12,2,  25.0616
  35A320080223,  A16C,    23, 23,  23014,     14,2,20080307,   0,  2.0361, -23.0143, 4520,     38.3,  27.2274,  35.7767,2,-999.0000,9,    202.7,2,    189.8,3,     0.11,2,     0.22,2,     0.03,2,     0.06,2,  27.2185
  35A320080223,  A16C,    23, 23,  23015,     15,2,20080307,   0,  2.0361, -23.0143, 4520,     17.7,  27.9042,  35.6218,2,-999.0000,9,    205.8,2,    203.7,2,     0.21,2,     0.00,2,     0.01,2,     0.01,2,  27.9000
  35A320080223,  A16C,    23, 23,  23016,     16,2,20080307,   0,  2.0361, -23.0143, 4520,      8.4,  28.3670,  35.3323,2,  35.3532,2,    204.1,2,    202.7,2,     0.78,2,     0.24,2,     0.02,2,     0.00,2,  28.3650
  35A320080223,  A16C,    24, 24,  24001,      1,2,20080307,   0,  2.3341, -23.0011, 4520,   1301.6,   4.5116,  34.8914,2,-999.0000,9,    197.1,2,    195.8,6,  -999.00,9,  -999.00,9,  -999.00,9,  -999.00,9,   4.4043
  35A320080223,  A16C,    24, 24,  24002,      2,2,20080307,   0,  2.3341, -23.0011, 4520,   1150.5,   4.5983,  34.8335,2,-999.0000,9,    184.8,2,   -999.0,9,  -999.00,9,  -999.00,9,  -999.00,9,  -999.00,9,   4.5041
  35A320080223,  A16C,    24, 24,  24003,      3,2,20080307,   0,  2.3341, -23.0011, 4520,    999.5,   4.6339,  34.7310,2,-999.0000,9,    164.9,2,    162.9,2,  -999.00,9,  -999.00,9,  -999.00,9,  -999.00,9,   4.5530
  35A320080223,  A16C,    24, 24,  24004,      4,2,20080307,   0,  2.3341, -23.0011, 4520,    799.2,   4.9088,  34.5570,2,  34.5590,2,    147.4,2,   -999.0,9,  -999.00,9,  -999.00,9,  -999.00,9,  -999.00,9,   4.8439
  35A320080223,  A16C,    24, 24,  24005,      5,2,20080307,   0,  2.3341, -23.0011, 4520,    600.1,   6.3897,  34.5971,2,-999.0000,9,    126.0,2,    127.2,2,  -999.00,9,  -999.00,9,  -999.00,9,  -999.00,9,   6.3350
  35A320080223,  A16C,    24, 24,  24006,      6,2,20080307,   0,  2.3341, -23.0011, 4520,    500.2,   7.3961,  34.6768,2,-999.0000,9,    109.6,2,   -999.0,9,  -999.00,9,  -999.00,9,  -999.00,9,  -999.00,9,   7.3470
  35A320080223,  A16C,    24, 24,  24007,      7,2,20080307,   0,  2.3341, -23.0011, 4520,    399.6,   9.1948,  34.8587,2,-999.0000,9,    106.8,2,    106.2,2,  -999.00,9,  -999.00,9,  -999.00,9,  -999.00,9,   9.1504
  35A320080223,  A16C,    24, 24,  24008,      8,2,20080307,   0,  2.3341, -23.0011, 4520,    300.3,  10.3386,  34.9834,2,  34.9844,2,     98.8,2,   -999.0,9,  -999.00,9,  -999.00,9,  -999.00,9,  -999.00,9,  10.3028
  35A320080223,  A16C,    24, 24,  24009,      9,2,20080307,   0,  2.3341, -23.0011, 4520,    199.6,  13.8219,  35.3896,2,-999.0000,9,    116.2,2,    115.4,2,  -999.00,9,  -999.00,9,  -999.00,9,  -999.00,9,  13.7932
  35A320080223,  A16C,    24, 24,  24010,     10,2,20080307,   0,  2.3341, -23.0011, 4520,    148.5,  14.7815,  35.5256,2,-999.0000,9,    127.4,2,   -999.0,9,  -999.00,9,  -999.00,9,  -999.00,9,  -999.00,9,  14.7592
  35A320080223,  A16C,    24, 24,  24011,     11,2,20080307,   0,  2.3341, -23.0011, 4520,    101.6,  15.3141,  35.5903,2,  35.5914,2,    107.4,2,    108.8,2,  -999.00,9,  -999.00,9,  -999.00,9,  -999.00,9,  15.2985
  35A320080223,  A16C,    24, 24,  24012,     12,2,20080307,   0,  2.3341, -23.0011, 4520,     77.6,  16.6163,  35.7080,2,-999.0000,9,     99.7,2,   -999.0,9,  -999.00,9,  -999.00,9,  -999.00,9,  -999.00,9,  16.6037
  35A320080223,  A16C,    24, 24,  24013,     13,2,20080307,   0,  2.3341, -23.0011, 4520,     59.9,  20.0299,  35.8346,2,-999.0000,9,    125.9,2,    126.5,2,  -999.00,9,  -999.00,9,  -999.00,9,  -999.00,9,  20.0188
  35A320080223,  A16C,    24, 24,  24014,     14,2,20080307,   0,  2.3341, -23.0011, 4520,     39.7,  27.1895,  35.9003,2,  35.8984,2,    201.8,2,   -999.0,9,  -999.00,9,  -999.00,9,  -999.00,9,  -999.00,9,  27.1803
  35A320080223,  A16C,    24, 24,  24015,     15,2,20080307,   0,  2.3341, -23.0011, 4520,     20.3,  28.0373,  35.5010,2,-999.0000,9,    206.0,2,    205.5,6,  -999.00,9,  -999.00,9,  -999.00,9,  -999.00,9,  28.0325
  35A320080223,  A16C,    24, 24,  24016,     16,2,20080307,   0,  2.3341, -23.0011, 4520,      6.5,  28.4506,  35.2620,2,  35.2715,2,    203.5,2,   -999.0,9,  -999.00,9,  -999.00,9,  -999.00,9,  -999.00,9,  28.4490
  35A320080223,  A16C,    25, 25,  25001,      1,2,20080307,   0,  2.6671, -22.9976, 4426,   1303.5,   4.4938,  34.9019,2,  34.9024,2,    199.3,2,    197.6,2,    21.16,2,    25.54,2,     0.01,2,     1.71,2,   4.3865
  35A320080223,  A16C,    25, 25,  25002,      2,2,20080307,   0,  2.6671, -22.9976, 4426,   1151.3,   4.6243,  34.8343,2,-999.0000,9,    181.5,2,    180.2,2,    23.57,2,    28.24,2,     0.01,2,     1.89,2,   4.5298
  35A320080223,  A16C,    25, 25,  25003,      3,2,20080307,   0,  2.6671, -22.9976, 4426,    996.9,   4.6270,  34.7008,2,-999.0000,9,    159.1,2,    157.1,2,    28.11,2,    31.91,2,     0.00,2,     2.16,2,   4.5465
  35A320080223,  A16C,    25, 25,  25004,      4,2,20080307,   0,  2.6671, -22.9976, 4426,    799.1,   4.9502,  34.5358,2,  34.5370,2,    150.3,2,    148.7,2,    29.19,2,    34.73,2,     0.00,2,     2.30,2,   4.8850
  35A320080223,  A16C,    25, 25,  25005,      5,2,20080307,   0,  2.6671, -22.9976, 4426,    600.1,   6.3583,  34.6038,2,-999.0000,9,    111.9,2,    111.0,6,    23.77,6,    37.09,6,     0.03,6,     2.35,6,   6.3037
  35A320080223,  A16C,    25, 25,  25006,      6,2,20080307,   0,  2.6671, -22.9976, 4426,    495.1,   7.4053,  34.6750,2,-999.0000,9,    111.7,2,    111.1,2,    18.89,2,    34.25,2,     0.03,2,     2.18,2,   7.3567
  35A320080223,  A16C,    25, 25,  25007,      7,2,20080307,   0,  2.6671, -22.9976, 4426,    400.5,   8.8025,  34.8160,2,-999.0000,9,     96.9,2,     96.4,2,    14.84,2,    32.11,2,     0.03,2,     2.04,2,   8.7592
  35A320080223,  A16C,    25, 25,  25008,      8,2,20080307,   0,  2.6671, -22.9976, 4426,    300.7,  10.9580,  35.0628,2,  35.0635,2,     69.1,2,     68.9,2,    11.32,2,    30.16,2,     0.03,2,     1.92,2,  10.9208
  35A320080223,  A16C,    25, 25,  25009,      9,2,20080307,   0,  2.6671, -22.9976, 4426,    200.0,  14.1306,  35.4303,2,-999.0000,9,    112.5,2,    111.5,2,     6.12,2,    19.70,2,     0.02,2,     1.34,2,  14.1014
  35A320080223,  A16C,    25, 25,  25010,     10,2,20080307,   0,  2.6671, -22.9976, 4426,    151.4,  14.7897,  35.5252,2,  35.5251,2,    124.1,2,    124.5,2,     6.04,2,    17.46,2,     0.02,2,     1.22,2,  14.7669
  35A320080223,  A16C,    25, 25,  25011,     11,2,20080307,   0,  2.6671, -22.9976, 4426,    124.5,  15.0121,  35.5592,2,-999.0000,9,    113.6,2,    114.0,2,     6.46,2,    18.72,2,     0.04,2,     1.24,2,  14.9932
  35A320080223,  A16C,    25, 25,  25012,     12,2,20080307,   0,  2.6671, -22.9976, 4426,     79.1,  17.2689,  35.7304,2,-999.0000,9,    109.0,2,    109.7,2,     4.44,2,    15.74,2,     0.16,2,     1.05,2,  17.2557
  35A320080223,  A16C,    25, 25,  25013,     13,2,20080307,   0,  2.6671, -22.9976, 4426,     58.4,  22.6604,  35.9108,2,-999.0000,9,    155.9,2,    154.5,2,     2.08,2,     3.18,2,     0.28,2,     0.29,2,  22.6486
  35A320080223,  A16C,    25, 25,  25014,     14,2,20080307,   0,  2.6671, -22.9976, 4426,     38.8,  28.1472,  35.4417,2,-999.0000,9,    205.0,2,    204.8,6,     0.29,6,     0.17,6,     0.03,6,     0.00,6,  28.1380
  35A320080223,  A16C,    25, 25,  25015,     15,2,20080307,   0,  2.6671, -22.9976, 4426,     18.4,  28.3046,  35.3949,2,-999.0000,9,    204.6,2,    203.8,2,     0.00,2,     0.00,2,     0.03,2,     0.01,2,  28.3002
  35A320080223,  A16C,    25, 25,  25016,     16,2,20080307,   0,  2.6671, -22.9976, 4426,      9.5,  28.3893,  35.3586,2,  35.3443,2,    205.4,2,    205.7,2,     0.34,2,     0.04,2,     0.02,2,     0.01,2,  28.3870