BOTTLE,20120514PRINUNIVRMK
EXPOCODE,SECT_ID,STNNBR,CASTNO,SAMPNO,BTLNBR,BTLNBR_FLAG_W,DATE,TIME,LATITUDE,LONGITUDE,DEPTH,CTDPRS,CTDTMP,CTDSAL,CTDSAL_FLAG_W,SALNTY,SALNTY_FLAG_W,CTDOXY,CTDOXY_FLAG_W,OXYGEN,OXYGEN_FLAG_W,SILCAT,SILCAT_FLAG_W,NITRAT,NITRAT_FLAG_W,NITRIT,NITRIT_FLAG_W,PHSPHT,PHSPHT_FLAG_W,THETA
,,,,,,,,,,,METERS,DBAR,ITS-90,PSS-78,,PSS-78,,UMOL/KG,,UMOL/KG,,UMOL/KG,,UMOL/KG,,UMOL/KG,,UMOL/KG,,DEG C
  35A320080223,  A16C,    16, 16,  16001,      1,2,20080305,   0, -0.0142, -23.0988, 3657,   3034.8,   2.6555,  34.9142,2,-999.0000,9,    247.4,2,    247.2,6,    37.69,6,    21.23,6,     0.03,6,     1.44,6,   2.4087
  35A320080223,  A16C,    16, 16,  16002,      2,2,20080305,   0, -0.0142, -23.0988, 3657,   2019.0,   3.5234,  34.9671,2,-999.0000,9,    250.4,2,    251.8,2,    20.80,2,    19.59,2,     0.04,2,     1.32,2,   3.3611
  35A320080223,  A16C,    16, 16,  16003,      3,2,20080305,   0, -0.0142, -23.0988, 3657,   1005.9,   4.5362,  34.6352,2,-999.0000,9,    160.4,2,    159.5,2,    29.92,2,    33.03,2,     0.04,2,     2.21,2,   4.4557
  35A320080223,  A16C,    16, 16,  16004,      4,2,20080305,   0, -0.0142, -23.0988, 3657,    802.4,   4.8464,  34.5245,2,  34.5275,2,    151.3,2,    150.8,2,    29.16,2,    34.70,2,     0.03,2,     2.33,2,   4.7816
  35A320080223,  A16C,    16, 16,  16005,      5,2,20080305,   0, -0.0142, -23.0988, 3657,    600.6,   5.9689,  34.5365,2,-999.0000,9,    141.6,2,    144.4,2,    23.52,2,    33.89,2,     0.02,2,     2.26,2,   5.9161
  35A320080223,  A16C,    16, 16,  16006,      6,2,20080305,   0, -0.0142, -23.0988, 3657,    499.8,   7.0433,  34.6192,2,-999.0000,9,    135.2,2,    135.2,2,    19.82,2,    32.72,2,     0.01,2,     2.13,2,   6.9956
  35A320080223,  A16C,    16, 16,  16007,      7,2,20080305,   0, -0.0142, -23.0988, 3657,    399.4,   8.3437,  34.7360,2,  34.7023,2,    126.3,2,    128.9,2,    16.37,2,    30.71,2,     0.01,2,     1.98,2,   8.3019
  35A320080223,  A16C,    16, 16,  16008,      8,2,20080305,   0, -0.0142, -23.0988, 3657,    297.1,  10.8529,  35.0321,2,-999.0000,9,     83.4,2,     83.7,2,    13.17,2,    30.39,2,     0.02,2,     1.89,2,  10.8164
  35A320080223,  A16C,    16, 16,  16009,      9,2,20080305,   0, -0.0142, -23.0988, 3657,    198.2,  13.8961,  35.4096,2,-999.0000,9,    142.2,2,    136.6,2,     7.02,2,    18.12,2,     0.03,2,     1.23,2,  13.8675
  35A320080223,  A16C,    16, 16,  16010,     10,2,20080305,   0, -0.0142, -23.0988, 3657,    146.1,  14.4199,  35.4805,2,-999.0000,9,    156.8,2,    154.6,2,     5.60,2,    15.01,2,     0.03,2,     1.05,2,  14.3983
  35A320080223,  A16C,    16, 16,  16011,     11,2,20080305,   0, -0.0142, -23.0988, 3657,    100.4,  16.9586,  35.8810,2,  35.8456,2,    170.5,2,    170.1,2,     3.37,2,     9.53,2,     0.06,2,     0.76,2,  16.9420
  35A320080223,  A16C,    16, 16,  16012,     12,2,20080305,   0, -0.0142, -23.0988, 3657,     78.8,  19.6360,  36.2925,2,-999.0000,9,    179.9,2,    179.2,2,     1.92,2,     5.60,2,     0.15,2,     0.53,2,  19.6215
  35A320080223,  A16C,    16, 16,  16013,     13,2,20080305,   0, -0.0142, -23.0988, 3657,     57.5,  23.5327,  36.7501,2,-999.0000,9,    192.2,2,    191.2,6,     1.48,6,     1.14,6,     0.24,6,     0.21,6,  23.5207
  35A320080223,  A16C,    16, 16,  16014,     14,2,20080305,   0, -0.0142, -23.0988, 3657,     38.5,  26.6839,  36.3593,2,-999.0000,9,    201.4,2,    200.5,2,     1.03,2,     0.06,2,     0.00,2,     0.03,2,  26.6751
  35A320080223,  A16C,    16, 16,  16015,     15,2,20080305,   0, -0.0142, -23.0988, 3657,     18.9,  27.4490,  35.9286,2,-999.0000,9,    203.9,2,    201.9,2,     1.12,2,     0.16,2,     0.01,2,     0.02,2,  27.4446
  35A320080223,  A16C,    16, 16,  16016,     16,2,20080305,   0, -0.0142, -23.0988, 3657,      8.7,  28.0157,  35.4802,2,  35.5287,2,    203.6,2,    202.0,2,     0.87,2,     0.07,2,     0.02,2,     0.00,2,  28.0136
  35A320080223,  A16C,    17, 17,  17001,      1,2,20080305,   0,  0.2533, -22.9964, 3894,   1313.5,   4.6002,  34.9436,2,  34.9439,2,    211.4,2,    211.0,2,    18.08,2,    23.66,2,     0.01,2,     1.57,2,   4.4908
  35A320080223,  A16C,    17, 17,  17002,      2,2,20080305,   0,  0.2533, -22.9964, 3894,    995.0,   4.5573,  34.6247,2,-999.0000,9,    157.9,2,    156.9,2,    27.82,2,    33.21,2,     0.02,2,     2.23,2,   4.4776
  35A320080223,  A16C,    17, 17,  17003,      3,2,20080305,   0,  0.2533, -22.9964, 3894,    796.9,   5.0843,  34.5170,2,  34.5182,2,    147.8,2,    147.0,6,    26.39,6,    35.38,6,     0.00,6,     2.32,6,   5.0185
  35A320080223,  A16C,    17, 17,  17004,      4,2,20080305,   0,  0.2533, -22.9964, 3894,    601.0,   6.0856,  34.5462,2,-999.0000,9,    141.1,2,    140.4,2,    21.93,2,    33.73,2,     0.00,2,     2.21,2,   6.0322
  35A320080223,  A16C,    17, 17,  17005,      5,2,20080305,   0,  0.2533, -22.9964, 3894,    400.5,   8.5787,  34.7678,2,-999.0000,9,    112.4,2,    111.7,2,    15.00,2,    31.37,2,     0.02,2,     1.98,2,   8.5360
  35A320080223,  A16C,    17, 17,  17006,      6,2,20080305,   0,  0.2533, -22.9964, 3894,    300.4,  10.8028,  35.0251,2,  35.0233,2,     79.8,2,     79.1,6,    11.36,6,    30.55,6,     0.02,6,     1.88,6,  10.7660
  35A320080223,  A16C,    17, 17,  17007,      7,2,20080305,   0,  0.2533, -22.9964, 3894,    197.5,  13.4926,  35.3495,2,-999.0000,9,    126.9,2,    127.7,2,     5.80,2,    19.38,2,     0.02,2,     1.31,2,  13.4647
  35A320080223,  A16C,    17, 17,  17008,      8,2,20080305,   0,  0.2533, -22.9964, 3894,    147.4,  14.8099,  35.5389,2,-999.0000,9,    152.4,2,    154.3,2,     3.95,2,    14.14,2,     0.03,2,     1.03,2,  14.7877
  35A320080223,  A16C,    17, 17,  17009,      9,2,20080305,   0,  0.2533, -22.9964, 3894,    101.0,  17.0708,  35.8650,2,  35.8726,2,    164.6,2,    165.4,2,     2.91,2,    10.07,2,     0.07,2,     0.77,2,  17.0540
  35A320080223,  A16C,    17, 17,  17010,     10,2,20080305,   0,  0.2533, -22.9964, 3894,     78.8,  19.2163,  36.1992,2,-999.0000,9,    173.7,2,    175.4,2,     2.36,2,     7.04,2,     0.14,2,     0.57,2,  19.2021
  35A320080223,  A16C,    17, 17,  17011,     11,2,20080305,   0,  0.2533, -22.9964, 3894,     58.4,  22.5886,  36.3089,2,-999.0000,9,    175.5,2,    177.4,2,     1.91,2,     3.54,2,     0.26,2,     0.29,2,  22.5768
  35A320080223,  A16C,    17, 17,  17012,     12,2,20080305,   0,  0.2533, -22.9964, 3894,     48.5,  24.5139,  36.5562,2,-999.0000,9,    190.1,2,    192.5,2,     1.29,2,     0.81,2,     0.12,2,     0.12,2,  24.5035
  35A320080223,  A16C,    17, 17,  17013,     13,2,20080305,   0,  0.2533, -22.9964, 3894,     38.2,  26.5819,  36.4074,2,-999.0000,9,    199.7,2,    201.2,2,     0.73,2,     0.34,2,     0.03,2,     0.05,2,  26.5732
  35A320080223,  A16C,    17, 17,  17014,     14,2,20080305,   0,  0.2533, -22.9964, 3894,     28.8,  27.0605,  36.1547,2,-999.0000,9,    202.5,2,    202.0,2,     0.39,2,     0.22,2,     0.03,2,     0.04,2,  27.0539
  35A320080223,  A16C,    17, 17,  17015,     15,2,20080305,   0,  0.2533, -22.9964, 3894,     18.3,  27.6223,  35.8346,2,-999.0000,9,    203.0,2,    202.9,2,     0.18,2,     0.10,2,     0.03,2,     0.04,2,  27.6180
  35A320080223,  A16C,    17, 17,  17016,     16,2,20080305,   0,  0.2533, -22.9964, 3894,      8.6,  28.4096,  35.2949,2,  36.1695,4,    202.8,2,    202.5,2,     0.18,2,     0.00,2,     0.01,2,     0.01,2,  28.4076
  35A320080223,  A16C,    18, 18,  18001,      1,2,20080305,   0,  0.5069, -22.9939, 4421,   1312.3,   4.6070,  34.9222,2,  34.9244,2,    205.4,2,    204.9,2,    21.39,2,    24.40,2,     0.02,2,     1.62,2,   4.4977
  35A320080223,  A16C,    18, 18,  18002,      2,2,20080305,   0,  0.5069, -22.9939, 4421,   1156.0,   4.5495,  34.7489,2,  34.7598,2,    171.7,2,    172.1,2,    27.74,2,    30.47,2,     0.03,2,     2.01,2,   4.4553
  35A320080223,  A16C,    18, 18,  18003,      3,2,20080305,   0,  0.5069, -22.9939, 4421,   1006.1,   4.5988,  34.6536,2,-999.0000,9,    159.2,2,    160.0,2,    29.76,2,    32.77,2,     0.03,2,     2.18,2,   4.5178
  35A320080223,  A16C,    18, 18,  18004,      4,2,20080305,   0,  0.5069, -22.9939, 4421,    854.1,   4.7406,  34.5407,2,-999.0000,9,    152.0,2,    151.7,2,    30.14,2,    35.18,2,     0.02,2,     2.32,2,   4.6720
  35A320080223,  A16C,    18, 18,  18005,      5,2,20080305,   0,  0.5069, -22.9939, 4421,    701.8,   5.4437,  34.5141,2,  34.4960,2,    149.8,2,    150.3,2,    25.40,2,    34.38,2,     0.02,2,     2.27,2,   5.3844
  35A320080223,  A16C,    18, 18,  18006,      6,2,20080305,   0,  0.5069, -22.9939, 4421,    499.7,   7.2053,  34.6342,2,-999.0000,9,    130.9,2,    130.3,2,    18.19,2,    32.53,2,     0.02,2,     2.11,2,   7.1570
  35A320080223,  A16C,    18, 18,  18007,      7,2,20080305,   0,  0.5069, -22.9939, 4421,    398.7,   8.7319,  34.7844,2,-999.0000,9,    112.1,2,    112.9,2,    14.16,2,    30.71,2,     0.02,2,     2.08,2,   8.6890
  35A320080223,  A16C,    18, 18,  18008,      8,2,20080305,   0,  0.5069, -22.9939, 4421,    299.2,  10.5268,  34.9950,2,-999.0000,9,     80.2,2,     80.3,2,    12.17,2,    30.45,2,     0.01,2,     1.91,2,  10.4908
  35A320080223,  A16C,    18, 18,  18009,      9,2,20080305,   0,  0.5069, -22.9939, 4421,    198.2,  13.7547,  35.3850,2,-999.0000,9,    124.7,2,    126.4,6,     7.30,6,    19.49,6,     0.02,6,     1.30,6,  13.7263
  35A320080223,  A16C,    18, 18,  18010,     10,2,20080305,   0,  0.5069, -22.9939, 4421,    147.7,  14.5692,  35.4887,2,  35.4881,2,    122.0,2,    122.6,6,     6.28,6,    18.43,6,     0.03,6,     1.25,6,  14.5472
  35A320080223,  A16C,    18, 18,  18011,     11,2,20080305,   0,  0.5069, -22.9939, 4421,     99.2,  16.4378,  35.7514,2,-999.0000,9,    146.4,2,    149.0,2,     4.12,2,    13.33,2,     0.07,2,     0.95,2,  16.4218
  35A320080223,  A16C,    18, 18,  18012,     12,2,20080305,   0,  0.5069, -22.9939, 4421,     78.3,  18.5864,  36.0816,2,-999.0000,9,    168.8,2,    168.2,2,     2.56,2,     8.74,2,     0.13,2,     0.68,2,  18.5726
  35A320080223,  A16C,    18, 18,  18013,     13,2,20080305,   0,  0.5069, -22.9939, 4421,     58.5,  23.8795,  36.3197,2,-999.0000,9,    174.1,2,    179.7,2,     0.62,2,     1.68,2,     0.16,2,     0.22,2,  23.8672
  35A320080223,  A16C,    18, 18,  18014,     14,2,20080305,   0,  0.5069, -22.9939, 4421,     39.0,  26.5648,  36.2902,2,-999.0000,9,    197.5,2,    199.1,2,     0.35,2,     0.00,2,     0.00,2,     0.05,2,  26.5559
  35A320080223,  A16C,    18, 18,  18015,     15,2,20080305,   0,  0.5069, -22.9939, 4421,     18.1,  27.5976,  35.8998,2,  35.8439,2,    202.6,2,    204.9,2,     0.99,2,     0.21,2,     0.00,2,     0.02,2,  27.5934
  35A320080223,  A16C,    18, 18,  18016,     16,2,20080305,   0,  0.5069, -22.9939, 4421,      8.5,  28.3358,  35.2774,2,-999.0000,9,    202.6,2,    204.0,2,     1.08,2,     0.38,2,     0.02,2,     0.00,2,  28.3338
  35A320080223,  A16C,    19, 19,  19001,      1,2,20080306,   0,  0.7515, -23.0232, 4354,   1302.2,   4.6148,  34.9146,2,  34.9145,2,    203.2,2,    201.9,2,    20.51,2,    24.49,2,     0.02,2,     1.66,2,   4.5064
  35A320080223,  A16C,    19, 19,  19002,      2,2,20080306,   0,  0.7515, -23.0232, 4354,   1146.3,   4.5531,  34.7593,2,-999.0000,9,    172.7,2,    172.3,6,    25.81,6,    29.59,6,     0.02,6,     2.02,6,   4.4598
  35A320080223,  A16C,    19, 19,  19003,      3,2,20080306,   0,  0.7515, -23.0232, 4354,    997.0,   4.6090,  34.6594,2,-999.0000,9,    159.4,2,    159.0,2,    27.74,2,    31.72,2,     0.00,2,     2.18,2,   4.5287
  35A320080223,  A16C,    19, 19,  19004,      4,2,20080306,   0,  0.7515, -23.0232, 4354,    845.6,   4.7910,  34.5313,2,-999.0000,9,    151.1,2,    151.8,2,    29.14,2,    34.15,2,     0.00,2,     2.30,2,   4.7228
  35A320080223,  A16C,    19, 19,  19005,      5,2,20080306,   0,  0.7515, -23.0232, 4354,    696.8,   5.3600,  34.5095,2,  34.5153,2,    149.7,2,    150.2,2,    26.46,2,    33.86,2,     0.01,2,     2.26,2,   5.3015
  35A320080223,  A16C,    19, 19,  19006,      6,2,20080306,   0,  0.7515, -23.0232, 4354,    496.2,   7.4848,  34.6620,2,-999.0000,9,    130.4,2,    130.4,2,    18.41,2,    31.55,2,     0.01,2,     2.05,2,   7.4358
  35A320080223,  A16C,    19, 19,  19007,      7,2,20080306,   0,  0.7515, -23.0232, 4354,    396.0,   8.9107,  34.8047,2,-999.0000,9,    110.7,2,    110.0,2,    15.23,2,    31.07,2,     0.03,2,     1.96,2,   8.8675
  35A320080223,  A16C,    19, 19,  19008,      8,2,20080306,   0,  0.7515, -23.0232, 4354,    296.4,  10.3343,  34.9754,2,  34.9350,2,     84.3,2,     86.6,2,    13.19,2,    30.87,2,     0.03,2,     1.93,2,  10.2990
  35A320080223,  A16C,    19, 19,  19009,      9,2,20080306,   0,  0.7515, -23.0232, 4354,    197.1,  13.4945,  35.3509,2,-999.0000,9,    113.4,2,    117.0,2,     7.26,2,    20.72,2,     0.03,2,     1.40,2,  13.4666
  35A320080223,  A16C,    19, 19,  19010,     10,2,20080306,   0,  0.7515, -23.0232, 4354,    146.0,  14.3303,  35.4635,2,-999.0000,9,    115.1,2,    115.9,2,     6.04,2,    19.12,2,     0.03,2,     1.32,2,  14.3088
  35A320080223,  A16C,    19, 19,  19011,     11,2,20080306,   0,  0.7515, -23.0232, 4354,     99.3,  15.6203,  35.6158,2,  35.6583,2,    129.5,2,    131.1,2,     4.64,2,    15.33,2,     0.05,2,     1.09,2,  15.6048
  35A320080223,  A16C,    19, 19,  19012,     12,2,20080306,   0,  0.7515, -23.0232, 4354,     77.5,  17.0711,  35.7977,2,-999.0000,9,    136.7,2,    134.8,6,     4.85,6,    13.78,6,     0.08,6,     0.98,6,  17.0582
  35A320080223,  A16C,    19, 19,  19013,     13,2,20080306,   0,  0.7515, -23.0232, 4354,     58.1,  23.6442,  36.2002,2,  35.9497,4,    174.0,2,    149.0,4,     3.77,2,     8.66,2,     0.20,2,     0.62,2,  23.6320
  35A320080223,  A16C,    19, 19,  19014,     14,2,20080306,   0,  0.7515, -23.0232, 4354,     38.2,  26.3616,  36.2262,2,-999.0000,9,    196.0,2,    195.7,2,     1.37,2,     0.13,2,     0.03,2,     0.05,2,  26.3530
  35A320080223,  A16C,    19, 19,  19015,     15,2,20080306,   0,  0.7515, -23.0232, 4354,     18.1,  27.5192,  36.0404,2,-999.0000,9,    203.0,2,    202.9,2,     1.13,2,     0.06,2,     0.03,2,     0.02,2,  27.5150
  35A320080223,  A16C,    19, 19,  19016,     16,2,20080306,   0,  0.7515, -23.0232, 4354,      9.1,  28.3354,  35.2999,2,  35.3409,2,    203.2,2,    204.0,2,     0.84,2,     0.00,2,     0.03,2,     0.00,2,  28.3332
  35A320080223,  A16C,    20, 20,  20001,      1,2,20080306,   0,  1.0007, -22.9998, 4252,   1300.8,   4.6179,  34.9020,2,-999.0000,9,    200.3,2,    199.4,2,    22.16,2,    25.56,2,     0.01,2,     1.69,2,   4.5096
  35A320080223,  A16C,    20, 20,  20002,      2,2,20080306,   0,  1.0007, -22.9998, 4252,   1148.8,   4.5626,  34.7641,2,-999.0000,9,    174.0,2,    173.1,2,    27.15,2,    30.43,2,     0.02,2,     2.01,2,   4.4690
  35A320080223,  A16C,    20, 20,  20003,      3,2,20080306,   0,  1.0007, -22.9998, 4252,    998.9,   4.6175,  34.6533,2,-999.0000,9,    159.6,2,    158.6,2,    29.26,2,    32.86,2,     0.02,2,     2.20,2,   4.5369
  35A320080223,  A16C,    20, 20,  20004,      4,2,20080306,   0,  1.0007, -22.9998, 4252,    850.0,   4.8529,  34.5379,2,-999.0000,9,    151.7,2,    150.7,2,    29.03,2,    34.62,2,     0.01,2,     2.32,2,   4.7839
  35A320080223,  A16C,    20, 20,  20005,      5,2,20080306,   0,  1.0007, -22.9998, 4252,    700.7,   5.4071,  34.5144,2,  34.5163,2,    147.2,2,    146.9,2,    25.78,2,    34.35,2,     0.00,2,     2.30,2,   5.3480
  35A320080223,  A16C,    20, 20,  20006,      6,2,20080306,   0,  1.0007, -22.9998, 4252,    499.4,   7.8696,  34.6929,2,  34.6932,2,    131.3,2,    130.3,2,    16.87,2,    31.03,2,     0.00,2,     1.99,2,   7.8188
  35A320080223,  A16C,    20, 20,  20007,      7,2,20080306,   0,  1.0007, -22.9998, 4252,    396.3,   9.0796,  34.8253,2,-999.0000,9,    102.1,2,    101.3,2,    15.07,2,    31.76,2,     0.01,2,     1.97,2,   9.0359
  35A320080223,  A16C,    20, 20,  20008,      8,2,20080306,   0,  1.0007, -22.9998, 4252,    300.0,  10.4372,  34.9785,2,-999.0000,9,     93.5,2,     93.2,6,    12.91,6,    30.02,6,     0.03,6,     1.85,6,  10.4013
  35A320080223,  A16C,    20, 20,  20009,      9,2,20080306,   0,  1.0007, -22.9998, 4252,    200.5,  13.3439,  35.3254,2,-999.0000,9,    102.7,2,    102.2,2,     8.07,2,    22.78,2,     0.04,2,     1.48,2,  13.3157
  35A320080223,  A16C,    20, 20,  20010,     10,2,20080306,   0,  1.0007, -22.9998, 4252,    151.7,  14.6095,  35.4973,2,-999.0000,9,    113.7,2,    113.0,2,     6.24,2,    19.43,2,     0.04,2,     1.31,2,  14.5869
  35A320080223,  A16C,    20, 20,  20011,     11,2,20080306,   0,  1.0007, -22.9998, 4252,    101.9,  15.7377,  35.6304,2,-999.0000,9,    116.2,2,    116.2,2,     4.91,2,    17.68,2,     0.05,2,     1.20,2,  15.7217
  35A320080223,  A16C,    20, 20,  20012,     12,2,20080306,   0,  1.0007, -22.9998, 4252,     79.3,  16.3223,  35.6793,2,  35.6787,2,    112.8,2,    112.7,6,     4.23,6,    17.07,6,     0.05,6,     1.14,6,  16.3095
  35A320080223,  A16C,    20, 20,  20013,     13,2,20080306,   0,  1.0007, -22.9998, 4252,     58.5,  25.0775,  36.2018,2,-999.0000,9,    191.4,2,    192.9,2,     0.90,2,     0.00,2,     0.02,2,     0.07,2,  25.0647
  35A320080223,  A16C,    20, 20,  20014,     14,2,20080306,   0,  1.0007, -22.9998, 4252,     38.0,  26.6261,  36.1475,2,-999.0000,9,    200.0,2,    200.5,2,     1.25,2,     0.28,2,     0.04,2,     0.02,2,  26.6174
  35A320080223,  A16C,    20, 20,  20015,     15,2,20080306,   0,  1.0007, -22.9998, 4252,     19.2,  27.7474,  35.6885,2,-999.0000,9,    205.7,2,    205.4,2,     1.05,2,     0.33,2,     0.04,2,     0.00,2,  27.7429
  35A320080223,  A16C,    20, 20,  20016,     16,2,20080306,   0,  1.0007, -22.9998, 4252,     10.1,  28.3900,  35.2455,2,  35.2326,2,    203.7,2,    204.5,2,     0.84,2,     0.28,2,     0.05,2,     0.00,2,  28.3876