BOTTLE,20120514PRINUNIVRMK
EXPOCODE,SECT_ID,STNNBR,CASTNO,SAMPNO,BTLNBR,BTLNBR_FLAG_W,DATE,TIME,LATITUDE,LONGITUDE,DEPTH,CTDPRS,CTDTMP,CTDSAL,CTDSAL_FLAG_W,SALNTY,SALNTY_FLAG_W,CTDOXY,CTDOXY_FLAG_W,OXYGEN,OXYGEN_FLAG_W,SILCAT,SILCAT_FLAG_W,NITRAT,NITRAT_FLAG_W,NITRIT,NITRIT_FLAG_W,PHSPHT,PHSPHT_FLAG_W,THETA
,,,,,,,,,,,METERS,DBAR,ITS-90,PSS-78,,PSS-78,,UMOL/KG,,UMOL/KG,,UMOL/KG,,UMOL/KG,,UMOL/KG,,UMOL/KG,,DEG C
  35A320080223,  A16C,    46, 46,  46001,      1,2,20080311,   0, 12.0017, -22.9982, 4811,   1302.5,   4.8792,  34.9486,2,-999.0000,9,    173.9,2,    174.0,6,  -999.00,9,  -999.00,9,  -999.00,9,  -999.00,9,   4.7681
  35A320080223,  A16C,    46, 46,  46002,      2,2,20080311,   0, 12.0017, -22.9982, 4811,   1198.6,   5.1767,  34.9269,2,  34.9243,2,    157.1,2,   -999.0,9,  -999.00,9,  -999.00,9,  -999.00,9,  -999.00,9,   5.0727
  35A320080223,  A16C,    46, 46,  46003,      3,2,20080311,   0, 12.0017, -22.9982, 4811,   1097.8,   5.4424,  34.8744,2,-999.0000,9,    138.8,2,    137.5,2,  -999.00,9,  -999.00,9,  -999.00,9,  -999.00,9,   5.3458
  35A320080223,  A16C,    46, 46,  46004,      4,2,20080311,   0, 12.0017, -22.9982, 4811,    997.9,   5.6650,  34.8262,2,-999.0000,9,    124.0,2,   -999.0,9,  -999.00,9,  -999.00,9,  -999.00,9,  -999.00,9,   5.5763
  35A320080223,  A16C,    46, 46,  46005,      5,2,20080311,   0, 12.0017, -22.9982, 4811,    897.9,   5.9984,  34.8018,2,  34.8036,2,    110.4,2,    111.5,2,  -999.00,9,  -999.00,9,  -999.00,9,  -999.00,9,   5.9170
  35A320080223,  A16C,    46, 46,  46006,      6,2,20080311,   0, 12.0017, -22.9982, 4811,    847.9,   6.2468,  34.8038,2,  34.8044,2,    101.2,2,   -999.0,9,  -999.00,9,  -999.00,9,  -999.00,9,  -999.00,9,   6.1687
  35A320080223,  A16C,    46, 46,  46007,      7,2,20080311,   0, 12.0017, -22.9982, 4811,    798.0,   6.5136,  34.8148,2,-999.0000,9,     92.7,2,     93.0,2,  -999.00,9,  -999.00,9,  -999.00,9,  -999.00,9,   6.4387
  35A320080223,  A16C,    46, 46,  46008,      8,2,20080311,   0, 12.0017, -22.9982, 4811,    697.9,   7.4002,  34.8773,2,-999.0000,9,     71.6,2,   -999.0,9,  -999.00,9,  -999.00,9,  -999.00,9,  -999.00,9,   7.3305
  35A320080223,  A16C,    46, 46,  46009,      9,2,20080311,   0, 12.0017, -22.9982, 4811,    599.2,   8.7701,  35.0479,2,-999.0000,9,     62.2,2,     61.8,2,  -999.00,9,  -999.00,9,  -999.00,9,  -999.00,9,   8.7044
  35A320080223,  A16C,    46, 46,  46010,     10,2,20080311,   0, 12.0017, -22.9982, 4811,    497.7,   9.8672,  35.1455,2,-999.0000,9,     44.7,2,   -999.0,9,  -999.00,9,  -999.00,9,  -999.00,9,  -999.00,9,   9.8089
  35A320080223,  A16C,    46, 46,  46011,     11,2,20080311,   0, 12.0017, -22.9982, 4811,    399.1,  10.7602,  35.1897,2,-999.0000,9,     43.0,2,     43.0,6,  -999.00,9,  -999.00,9,  -999.00,9,  -999.00,9,  10.7111
  35A320080223,  A16C,    46, 46,  46012,     12,2,20080311,   0, 12.0017, -22.9982, 4811,    298.4,  11.6565,  35.1829,2,  35.1792,2,     68.6,2,   -999.0,9,  -999.00,9,  -999.00,9,  -999.00,9,  -999.00,9,  11.6181
  35A320080223,  A16C,    46, 46,  46013,     13,2,20080311,   0, 12.0017, -22.9982, 4811,    248.1,  12.0782,  35.2016,2,-999.0000,9,     84.4,2,     85.2,2,  -999.00,9,  -999.00,9,  -999.00,9,  -999.00,9,  12.0456
  35A320080223,  A16C,    46, 46,  46014,     14,2,20080311,   0, 12.0017, -22.9982, 4811,    198.9,  12.5827,  35.2526,2,-999.0000,9,     91.0,2,   -999.0,9,  -999.00,9,  -999.00,9,  -999.00,9,  -999.00,9,  12.5559
  35A320080223,  A16C,    46, 46,  46015,     15,2,20080311,   0, 12.0017, -22.9982, 4811,     98.2,  14.3932,  35.4604,2,-999.0000,9,     75.6,2,     75.9,2,  -999.00,9,  -999.00,9,  -999.00,9,  -999.00,9,  14.3787
  35A320080223,  A16C,    46, 46,  46016,     16,2,20080311,   0, 12.0017, -22.9982, 4811,      9.2,  25.4971,  35.7076,2,  35.7087,2,    205.8,2,   -999.0,9,  -999.00,9,  -999.00,9,  -999.00,9,  -999.00,9,  25.4951
  35A320080223,  A16C,    47, 47,  47001,      1,2,20080311,   0, 12.5022, -22.9977, 4610,   1222.3,   5.1271,  34.9263,2,-999.0000,9,    158.7,2,    157.3,2,    23.07,2,    29.05,2,     0.00,2,     1.93,2,   5.0213
  35A320080223,  A16C,    47, 47,  47002,      2,2,20080311,   0, 12.5022, -22.9977, 4610,   1304.1,   4.9055,  34.9509,2,  34.9500,2,    172.6,2,    172.6,2,    22.82,2,    27.54,2,     0.00,2,     1.82,2,   4.7940
  35A320080223,  A16C,    47, 47,  47003,      3,2,20080311,   0, 12.5022, -22.9977, 4610,   1197.9,   5.3043,  34.9366,2,-999.0000,9,    154.7,2,    154.7,2,    23.66,2,    29.43,2,     0.03,2,     1.93,2,   5.1992
  35A320080223,  A16C,    47, 47,  47004,      4,2,20080311,   0, 12.5022, -22.9977, 4610,   1096.4,   5.6051,  34.9086,2,-999.0000,9,    138.8,2,    139.4,2,    23.82,2,    31.16,2,     0.03,2,     2.04,2,   5.5073
  35A320080223,  A16C,    47, 47,  47005,      5,2,20080311,   0, 12.5022, -22.9977, 4610,    997.2,   5.8745,  34.8604,2,-999.0000,9,    121.5,2,    123.8,2,    24.12,2,    33.52,2,     0.02,2,     2.17,2,   5.7843
  35A320080223,  A16C,    47, 47,  47006,      6,2,20080311,   0, 12.5022, -22.9977, 4610,    897.2,   6.3766,  34.8531,2,  34.8519,2,    103.8,2,    104.0,2,    23.34,2,    35.29,2,     0.03,2,     2.28,2,   6.2927
  35A320080223,  A16C,    47, 47,  47007,      7,2,20080311,   0, 12.5022, -22.9977, 4610,    798.0,   7.0274,  34.8861,2,-999.0000,9,     87.5,2,     88.6,6,    21.66,6,    36.00,6,     0.01,6,     2.31,6,   6.9494
  35A320080223,  A16C,    47, 47,  47008,      8,2,20080311,   0, 12.5022, -22.9977, 4610,    697.9,   7.7695,  34.9267,2,  34.9185,2,     68.8,2,     71.3,2,    20.36,2,    37.15,2,     0.01,2,     2.32,2,   7.6979
  35A320080223,  A16C,    47, 47,  47009,      9,2,20080311,   0, 12.5022, -22.9977, 4610,    597.2,   8.8481,  35.0325,2,-999.0000,9,     51.9,2,     50.9,2,    17.53,2,    37.24,2,     0.01,2,     2.28,2,   8.7823
  35A320080223,  A16C,    47, 47,  47010,     10,2,20080311,   0, 12.5022, -22.9977, 4610,    496.7,  10.2342,  35.1969,2,-999.0000,9,     47.3,2,     46.5,6,    14.25,6,    34.72,6,     0.04,6,     2.08,6,  10.1747
  35A320080223,  A16C,    47, 47,  47011,     11,2,20080311,   0, 12.5022, -22.9977, 4610,    396.7,  11.1765,  35.2729,2,-999.0000,9,     46.9,2,     47.0,2,    11.70,2,    32.64,2,     0.05,2,     1.93,2,  11.1265
  35A320080223,  A16C,    47, 47,  47012,     12,2,20080311,   0, 12.5022, -22.9977, 4610,    298.5,  11.5874,  35.1851,2,-999.0000,9,     68.4,2,     66.7,2,    10.39,2,    29.78,2,     0.04,2,     1.82,2,  11.5491
  35A320080223,  A16C,    47, 47,  47013,     13,2,20080311,   0, 12.5022, -22.9977, 4610,    247.3,  11.8617,  35.1770,2,  35.1807,2,     89.7,2,     84.6,2,     9.35,2,    27.01,2,     0.04,2,     1.71,2,  11.8295
  35A320080223,  A16C,    47, 47,  47014,     14,2,20080311,   0, 12.5022, -22.9977, 4610,    197.2,  12.3587,  35.2302,2,-999.0000,9,     94.9,2,     93.4,2,     8.50,2,    24.93,2,     0.03,2,     1.60,2,  12.3324
  35A320080223,  A16C,    47, 47,  47015,     15,2,20080311,   0, 12.5022, -22.9977, 4610,    101.0,  14.0301,  35.4266,2,-999.0000,9,     78.3,2,     77.6,2,     6.90,2,    24.20,2,     0.04,2,     1.51,2,  14.0155
  35A320080223,  A16C,    47, 47,  47016,     16,2,20080311,   0, 12.5022, -22.9977, 4610,      7.4,  25.1844,  35.9774,2,  35.9761,2,    205.6,2,    208.9,2,     0.37,2,     0.00,2,     0.03,2,     0.00,2,  25.1828
  35A320080223,  A16C,    48, 48,  48001,      1,2,20080312,   0, 13.0014, -22.9988, 4406,   1301.8,   4.8138,  34.9561,2,  34.9506,2,    179.4,2,   -999.0,9,  -999.00,9,  -999.00,9,  -999.00,9,  -999.00,9,   4.7034
  35A320080223,  A16C,    48, 48,  48002,      2,2,20080312,   0, 13.0014, -22.9988, 4406,   1199.5,   5.0654,  34.9316,2,-999.0000,9,    161.9,2,    162.3,2,  -999.00,9,  -999.00,9,  -999.00,9,  -999.00,9,   4.9623
  35A320080223,  A16C,    48, 48,  48003,      3,2,20080312,   0, 13.0014, -22.9988, 4406,   1096.6,   5.3735,  34.9024,2,-999.0000,9,    145.8,2,   -999.0,9,  -999.00,9,  -999.00,9,  -999.00,9,  -999.00,9,   5.2776
  35A320080223,  A16C,    48, 48,  48004,      4,2,20080312,   0, 13.0014, -22.9988, 4406,    998.8,   5.6458,  34.8422,2,  34.8497,2,    128.2,2,    130.4,2,  -999.00,9,  -999.00,9,  -999.00,9,  -999.00,9,   5.5572
  35A320080223,  A16C,    48, 48,  48005,      5,2,20080312,   0, 13.0014, -22.9988, 4406,    899.2,   6.0129,  34.8217,2,-999.0000,9,    111.8,2,   -999.0,9,  -999.00,9,  -999.00,9,  -999.00,9,  -999.00,9,   5.9313
  35A320080223,  A16C,    48, 48,  48006,      6,2,20080312,   0, 13.0014, -22.9988, 4406,    849.2,   6.1850,  34.8111,2,  34.8083,2,    103.2,2,    102.5,2,  -999.00,9,  -999.00,9,  -999.00,9,  -999.00,9,   6.1071
  35A320080223,  A16C,    48, 48,  48007,      7,2,20080312,   0, 13.0014, -22.9988, 4406,    798.3,   6.5163,  34.8337,2,-999.0000,9,     95.3,2,   -999.0,9,  -999.00,9,  -999.00,9,  -999.00,9,  -999.00,9,   6.4414
  35A320080223,  A16C,    48, 48,  48008,      8,2,20080312,   0, 13.0014, -22.9988, 4406,    697.7,   7.3434,  34.8799,2,-999.0000,9,     74.8,2,     73.6,6,  -999.00,9,  -999.00,9,  -999.00,9,  -999.00,9,   7.2740
  35A320080223,  A16C,    48, 48,  48009,      9,2,20080312,   0, 13.0014, -22.9988, 4406,    598.1,   8.4898,  35.0058,2,-999.0000,9,     61.5,2,   -999.0,9,  -999.00,9,  -999.00,9,  -999.00,9,  -999.00,9,   8.4255
  35A320080223,  A16C,    48, 48,  48010,     10,2,20080312,   0, 13.0014, -22.9988, 4406,    498.2,   9.6156,  35.1247,2,-999.0000,9,     52.1,2,     52.1,6,  -999.00,9,  -999.00,9,  -999.00,9,  -999.00,9,   9.5582
  35A320080223,  A16C,    48, 48,  48011,     11,2,20080312,   0, 13.0014, -22.9988, 4406,    448.1,  10.3008,  35.1883,2,  35.1845,2,     46.6,2,   -999.0,9,  -999.00,9,  -999.00,9,  -999.00,9,  -999.00,9,  10.2470
  35A320080223,  A16C,    48, 48,  48012,     12,2,20080312,   0, 13.0014, -22.9988, 4406,    398.2,  10.4548,  35.1397,2,-999.0000,9,     44.8,2,     45.0,2,  -999.00,9,  -999.00,9,  -999.00,9,  -999.00,9,  10.4067
  35A320080223,  A16C,    48, 48,  48013,     13,2,20080312,   0, 13.0014, -22.9988, 4406,    299.1,  11.0120,  35.1145,2,-999.0000,9,     72.5,2,   -999.0,9,  -999.00,9,  -999.00,9,  -999.00,9,  -999.00,9,  10.9749
  35A320080223,  A16C,    48, 48,  48014,     14,2,20080312,   0, 13.0014, -22.9988, 4406,    197.2,  11.9169,  35.1763,2,-999.0000,9,     98.6,2,     99.9,2,  -999.00,9,  -999.00,9,  -999.00,9,  -999.00,9,  11.8912
  35A320080223,  A16C,    48, 48,  48015,     15,2,20080312,   0, 13.0014, -22.9988, 4406,    101.9,  13.9669,  35.4197,2,-999.0000,9,     77.8,2,   -999.0,9,  -999.00,9,  -999.00,9,  -999.00,9,  -999.00,9,  13.9522
  35A320080223,  A16C,    48, 48,  48016,     16,2,20080312,   0, 13.0014, -22.9988, 4406,      9.8,  24.0305,  36.0089,2,  36.0076,2,    209.5,2,    211.8,2,  -999.00,9,  -999.00,9,  -999.00,9,  -999.00,9,  24.0284
  35A320080223,  A16C,    49, 49,  49001,      1,2,20080312,   0, 13.5020, -22.9981, 4163,   1301.4,   4.9145,  34.9683,2,  34.9680,2,    173.6,2,    172.9,2,    22.75,2,    27.18,2,     0.03,2,     1.82,2,   4.8031
  35A320080223,  A16C,    49, 49,  49002,      2,2,20080312,   0, 13.5020, -22.9981, 4163,   1198.7,   5.2275,  34.9419,2,-999.0000,9,    157.0,2,    158.4,2,    23.09,2,    28.87,2,     0.03,2,     1.93,2,   5.1230
  35A320080223,  A16C,    49, 49,  49003,      3,2,20080312,   0, 13.5020, -22.9981, 4163,   1098.4,   5.5707,  34.9270,2,-999.0000,9,    142.9,2,    143.7,2,    23.22,2,    30.40,2,     0.04,2,     2.01,2,   5.4729
  35A320080223,  A16C,    49, 49,  49004,      4,2,20080312,   0, 13.5020, -22.9981, 4163,    998.1,   5.7975,  34.8698,2,  34.8919,2,    126.5,2,    129.1,2,    23.72,2,    32.08,2,     0.01,2,     2.12,2,   5.7077
  35A320080223,  A16C,    49, 49,  49005,      5,2,20080312,   0, 13.5020, -22.9981, 4163,    898.0,   6.1876,  34.8634,2,-999.0000,9,    112.5,2,    113.9,6,    23.84,6,    34.07,6,     0.01,6,     2.21,6,   6.1049
  35A320080223,  A16C,    49, 49,  49006,      6,2,20080312,   0, 13.5020, -22.9981, 4163,    847.4,   6.3591,  34.8494,2,-999.0000,9,    105.7,2,    106.7,2,    23.52,2,    34.50,2,     0.03,2,     2.26,2,   6.2802
  35A320080223,  A16C,    49, 49,  49007,      7,2,20080312,   0, 13.5020, -22.9981, 4163,    798.0,   6.4778,  34.8388,2,  34.8412,2,     99.2,2,    100.3,2,    23.41,2,    35.64,2,     0.03,2,     2.29,2,   6.4031
  35A320080223,  A16C,    49, 49,  49008,      8,2,20080312,   0, 13.5020, -22.9981, 4163,    698.2,   7.4849,  34.9386,2,-999.0000,9,     84.8,2,     85.6,2,    20.76,2,    35.52,2,     0.03,2,     2.25,2,   7.4147
  35A320080223,  A16C,    49, 49,  49009,      9,2,20080312,   0, 13.5020, -22.9981, 4163,    597.9,   8.5188,  35.0330,2,-999.0000,9,     69.1,2,     73.0,2,    17.95,2,    35.40,2,     0.01,2,     2.20,2,   8.4544
  35A320080223,  A16C,    49, 49,  49010,     10,2,20080312,   0, 13.5020, -22.9981, 4163,    497.4,   9.4056,  35.1128,2,-999.0000,9,     62.0,2,     62.0,2,    15.54,2,    34.50,2,     0.01,2,     2.09,2,   9.3491
  35A320080223,  A16C,    49, 49,  49011,     11,2,20080312,   0, 13.5020, -22.9981, 4163,    398.1,  10.3043,  35.1961,2,-999.0000,9,     54.4,2,     55.0,2,    13.57,2,    33.63,2,     0.01,2,     2.00,2,  10.2566
  35A320080223,  A16C,    49, 49,  49012,     12,2,20080312,   0, 13.5020, -22.9981, 4163,    298.6,  11.3680,  35.2959,2,  35.2850,2,     60.7,2,     60.2,2,    11.32,2,    30.67,2,     0.03,2,     1.85,2,  11.3301
  35A320080223,  A16C,    49, 49,  49013,     13,2,20080312,   0, 13.5020, -22.9981, 4163,    247.4,  11.8037,  35.3327,2,-999.0000,9,     69.8,2,     70.7,2,    10.04,2,    28.43,2,     0.03,2,     1.72,2,  11.7716
  35A320080223,  A16C,    49, 49,  49014,     14,2,20080312,   0, 13.5020, -22.9981, 4163,    198.2,  12.4887,  35.4180,2,-999.0000,9,     73.8,2,     72.8,2,     8.78,2,    26.87,2,     0.03,2,     1.63,2,  12.4620
  35A320080223,  A16C,    49, 49,  49015,     15,2,20080312,   0, 13.5020, -22.9981, 4163,     98.2,  16.0797,  35.9777,2,-999.0000,9,     85.0,2,     87.8,6,     4.53,6,    19.52,6,     0.04,6,     1.20,6,  16.0640
  35A320080223,  A16C,    49, 49,  49016,     16,2,20080312,   0, 13.5020, -22.9981, 4163,      8.8,  24.1585,  36.1113,2,  36.1109,2,    209.0,2,    212.8,2,     0.00,2,     0.00,2,     0.00,2,     0.01,2,  24.1566
  35A320080223,  A16C,    50, 50,  50001,      1,2,20080312,   0, 14.0092, -23.0009, 2678,   1301.1,   5.0195,  34.9713,2,  34.9703,2,    171.7,2,    172.4,2,  -999.00,9,  -999.00,9,  -999.00,9,  -999.00,9,   4.9071
  35A320080223,  A16C,    50, 50,  50002,      2,2,20080312,   0, 14.0092, -23.0009, 2678,   1197.1,   5.3245,  34.9483,2,-999.0000,9,    155.2,2,   -999.0,9,  -999.00,9,  -999.00,9,  -999.00,9,  -999.00,9,   5.2193
  35A320080223,  A16C,    50, 50,  50003,      3,2,20080312,   0, 14.0092, -23.0009, 2678,   1098.2,   5.7624,  34.9501,2,-999.0000,9,    142.4,2,    142.4,6,  -999.00,9,  -999.00,9,  -999.00,9,  -999.00,9,   5.6630
  35A320080223,  A16C,    50, 50,  50004,      4,2,20080312,   0, 14.0092, -23.0009, 2678,    998.1,   6.0537,  34.9166,2,-999.0000,9,    127.4,2,   -999.0,9,  -999.00,9,  -999.00,9,  -999.00,9,  -999.00,9,   5.9620
  35A320080223,  A16C,    50, 50,  50005,      5,2,20080312,   0, 14.0092, -23.0009, 2678,    897.9,   6.2569,  34.8652,2,-999.0000,9,    109.3,2,    112.5,2,  -999.00,9,  -999.00,9,  -999.00,9,  -999.00,9,   6.1737
  35A320080223,  A16C,    50, 50,  50006,      6,2,20080312,   0, 14.0092, -23.0009, 2678,    848.3,   6.4071,  34.8546,2,  34.8571,2,    101.2,2,   -999.0,9,  -999.00,9,  -999.00,9,  -999.00,9,  -999.00,9,   6.3278
  35A320080223,  A16C,    50, 50,  50007,      7,2,20080312,   0, 14.0092, -23.0009, 2678,    798.7,   6.6627,  34.8661,2,-999.0000,9,     94.7,2,     94.4,2,  -999.00,9,  -999.00,9,  -999.00,9,  -999.00,9,   6.5868
  35A320080223,  A16C,    50, 50,  50008,      8,2,20080312,   0, 14.0092, -23.0009, 2678,    697.9,   7.5600,  34.9312,2,-999.0000,9,     76.7,2,   -999.0,9,  -999.00,9,  -999.00,9,  -999.00,9,  -999.00,9,   7.4894
  35A320080223,  A16C,    50, 50,  50009,      9,2,20080312,   0, 14.0092, -23.0009, 2678,    597.6,   8.4889,  35.0196,2,-999.0000,9,     69.0,2,     69.2,2,  -999.00,9,  -999.00,9,  -999.00,9,  -999.00,9,   8.4247
  35A320080223,  A16C,    50, 50,  50010,     10,2,20080312,   0, 14.0092, -23.0009, 2678,    497.6,   9.3631,  35.1077,2,-999.0000,9,     58.5,2,   -999.0,9,  -999.00,9,  -999.00,9,  -999.00,9,  -999.00,9,   9.3067
  35A320080223,  A16C,    50, 50,  50011,     11,2,20080312,   0, 14.0092, -23.0009, 2678,    447.2,   9.8807,  35.1535,2,  35.1500,2,     50.6,2,     50.8,6,  -999.00,9,  -999.00,9,  -999.00,9,  -999.00,9,   9.8284
  35A320080223,  A16C,    50, 50,  50012,     12,2,20080312,   0, 14.0092, -23.0009, 2678,    397.6,  10.4449,  35.2110,2,-999.0000,9,     51.3,2,   -999.0,9,  -999.00,9,  -999.00,9,  -999.00,9,  -999.00,9,  10.3969
  35A320080223,  A16C,    50, 50,  50013,     13,2,20080312,   0, 14.0092, -23.0009, 2678,    296.5,  11.2303,  35.2498,2,-999.0000,9,     62.5,2,     64.5,2,  -999.00,9,  -999.00,9,  -999.00,9,  -999.00,9,  11.1930
  35A320080223,  A16C,    50, 50,  50014,     14,2,20080312,   0, 14.0092, -23.0009, 2678,    196.5,  12.1117,  35.3432,2,  35.3309,2,     74.4,2,   -999.0,9,  -999.00,9,  -999.00,9,  -999.00,9,  -999.00,9,  12.0858
  35A320080223,  A16C,    50, 50,  50015,     15,2,20080312,   0, 14.0092, -23.0009, 2678,     99.1,  15.0276,  35.7900,2,-999.0000,9,     76.6,2,     76.4,2,  -999.00,9,  -999.00,9,  -999.00,9,  -999.00,9,  15.0125
  35A320080223,  A16C,    50, 50,  50016,     16,2,20080312,   0, 14.0092, -23.0009, 2678,     10.0,  23.8750,  36.0185,2,  36.0183,2,    209.5,2,   -999.0,9,  -999.00,9,  -999.00,9,  -999.00,9,  -999.00,9,  23.8729