BOTTLE,20120514PRINUNIVRMK
EXPOCODE,SECT_ID,STNNBR,CASTNO,SAMPNO,BTLNBR,BTLNBR_FLAG_W,DATE,TIME,LATITUDE,LONGITUDE,DEPTH,CTDPRS,CTDTMP,CTDSAL,CTDSAL_FLAG_W,SALNTY,SALNTY_FLAG_W,CTDOXY,CTDOXY_FLAG_W,OXYGEN,OXYGEN_FLAG_W,SILCAT,SILCAT_FLAG_W,NITRAT,NITRAT_FLAG_W,NITRIT,NITRIT_FLAG_W,PHSPHT,PHSPHT_FLAG_W,THETA
,,,,,,,,,,,METERS,DBAR,ITS-90,PSS-78,,PSS-78,,UMOL/KG,,UMOL/KG,,UMOL/KG,,UMOL/KG,,UMOL/KG,,UMOL/KG,,DEG C
  35A320080223,  A16C,    51, 51,  51001,      1,2,20080313,   0, 17.6005, -24.2579, 3746,   3634.2,   2.4661,  34.9100,2,-999.0000,9,    239.9,2,    236.3,6,    44.58,6,    22.34,6,     0.02,6,     1.51,6,   2.1598
  35A320080223,  A16C,    51, 51,  51002,      2,2,20080313,   0, 17.6005, -24.2579, 3746,   2996.2,   2.7640,  34.9367,2,-999.0000,9,    243.0,2,    243.0,2,    35.46,2,    21.26,2,     0.03,2,     1.45,2,   2.5187
  35A320080223,  A16C,    51, 51,  51003,      3,2,20080313,   0, 17.6005, -24.2579, 3746,   1996.2,   3.6482,  34.9855,2,-999.0000,9,    226.8,2,    228.0,2,    25.46,2,    21.74,2,     0.03,2,     1.49,2,   3.4862
  35A320080223,  A16C,    51, 51,  51004,      4,2,20080313,   0, 17.6005, -24.2579, 3746,   1497.7,   4.7218,  35.0318,2,-999.0000,9,    194.7,2,    195.3,2,    22.21,2,    24.01,2,     0.02,2,     1.64,2,   4.5935
  35A320080223,  A16C,    51, 51,  51005,      5,2,20080313,   0, 17.6005, -24.2579, 3746,   1247.2,   5.7362,  35.0447,2,-999.0000,9,    165.6,2,    164.5,2,    21.08,2,    26.83,2,     0.03,2,     1.80,2,   5.6221
  35A320080223,  A16C,    51, 51,  51006,      6,2,20080313,   0, 17.6005, -24.2579, 3746,    998.0,   6.4561,  34.9513,2,-999.0000,9,    127.1,2,    124.0,2,    21.81,2,    31.42,2,     0.02,2,     2.07,2,   6.3613
  35A320080223,  A16C,    51, 51,  51007,      7,2,20080313,   0, 17.6005, -24.2579, 3746,    796.8,   7.3890,  34.9603,2,-999.0000,9,     98.2,2,     97.2,2,    20.35,2,    33.50,2,     0.02,2,     2.16,2,   7.3089
  35A320080223,  A16C,    51, 51,  51008,      8,2,20080313,   0, 17.6005, -24.2579, 3746,    697.1,   8.1639,  35.0324,2,-999.0000,9,     87.6,2,     86.4,2,    18.62,2,    33.54,2,     0.00,2,     2.12,2,   8.0902
  35A320080223,  A16C,    51, 51,  51009,      9,2,20080313,   0, 17.6005, -24.2579, 3746,    598.0,   9.0533,  35.1088,2,-999.0000,9,     75.0,2,     72.3,2,    16.68,2,    33.60,2,     0.00,2,     2.07,2,   8.9865
  35A320080223,  A16C,    51, 51,  51010,     10,2,20080313,   0, 17.6005, -24.2579, 3746,    496.8,  10.1275,  35.2245,2,-999.0000,9,     63.9,2,     62.8,2,    14.57,2,    33.00,2,     0.02,2,     1.98,2,  10.0683
  35A320080223,  A16C,    51, 51,  51011,     11,2,20080313,   0, 17.6005, -24.2579, 3746,    396.8,  11.1052,  35.3259,2,-999.0000,9,     55.0,2,     53.5,2,    12.51,2,    32.17,2,     0.02,2,     1.91,2,  11.0553
  35A320080223,  A16C,    51, 51,  51012,     12,2,20080313,   0, 17.6005, -24.2579, 3746,    296.7,  12.1001,  35.4251,2,-999.0000,9,     59.2,2,     58.2,6,    10.31,6,    29.11,6,     0.02,6,     1.75,6,  12.0608
  35A320080223,  A16C,    51, 51,  51013,     13,2,20080313,   0, 17.6005, -24.2579, 3746,    246.2,  12.6822,  35.4689,2,-999.0000,9,     56.5,2,     55.6,2,     9.47,2,    28.17,2,     0.03,2,     1.72,2,  12.6487
  35A320080223,  A16C,    51, 51,  51014,     14,2,20080313,   0, 17.6005, -24.2579, 3746,    196.2,  13.3729,  35.5571,2,-999.0000,9,     64.3,2,     62.1,2,     8.33,2,    26.65,2,     0.02,2,     1.63,2,  13.3453
  35A320080223,  A16C,    51, 51,  51015,     15,2,20080313,   0, 17.6005, -24.2579, 3746,    146.0,  14.7771,  35.7711,2,-999.0000,9,     73.3,2,     71.1,2,     6.46,2,    23.64,2,     0.03,2,     1.46,2,  14.7551
  35A320080223,  A16C,    51, 51,  51016,     16,2,20080313,   0, 17.6005, -24.2579, 3746,     92.5,  17.2720,  36.1690,2,-999.0000,9,     85.2,2,     83.8,2,     3.59,2,    18.55,2,     0.05,2,     1.15,2,  17.2565
  35A320080223,  A16C,    51, 51,  51017,     17,2,20080313,   0, 17.6005, -24.2579, 3746,     74.8,  20.3226,  36.6192,2,-999.0000,9,    171.5,2,    163.2,3,     0.88,2,     6.98,2,     0.18,2,     0.51,2,  20.3085
  35A320080223,  A16C,    51, 51,  51018,     18,2,20080313,   0, 17.6005, -24.2579, 3746,     50.9,  21.4794,  36.5920,2,-999.0000,9,    221.2,2,    224.0,2,     0.03,2,     0.01,2,     0.01,2,     0.09,2,  21.4694
  35A320080223,  A16C,    51, 51,  51019,     19,2,20080313,   0, 17.6005, -24.2579, 3746,     24.2,  22.0378,  36.3440,2,-999.0000,9,    218.2,2,    220.0,2,     0.03,2,     0.00,2,     0.01,2,     0.07,2,  22.0330
  35A320080223,  A16C,    51, 51,  51020,     20,2,20080313,   0, 17.6005, -24.2579, 3746,     10.1,  22.0352,  36.3440,2,-999.0000,9,    218.5,2,    221.1,2,     0.12,2,     0.01,2,     0.01,2,     0.08,2,  22.0332
  35A320080223,  A16C,    51, 51,  51021,     21,2,20080313,   0, 17.6005, -24.2579, 3746,      4.9,  22.0333,  36.3442,2,-999.0000,9,    218.3,2,    221.8,2,     0.18,2,     0.00,2,     0.01,2,     0.08,2,  22.0323