BOTTLE,20120514PRINUNIVRMK
EXPOCODE,SECT_ID,STNNBR,CASTNO,SAMPNO,BTLNBR,BTLNBR_FLAG_W,DATE,TIME,LATITUDE,LONGITUDE,DEPTH,CTDPRS,CTDTMP,CTDSAL,CTDSAL_FLAG_W,SALNTY,SALNTY_FLAG_W,CTDOXY,CTDOXY_FLAG_W,OXYGEN,OXYGEN_FLAG_W,SILCAT,SILCAT_FLAG_W,NITRAT,NITRAT_FLAG_W,NITRIT,NITRIT_FLAG_W,PHSPHT,PHSPHT_FLAG_W,THETA
,,,,,,,,,,,METERS,DBAR,ITS-90,PSS-78,,PSS-78,,UMOL/KG,,UMOL/KG,,UMOL/KG,,UMOL/KG,,UMOL/KG,,UMOL/KG,,DEG C
  35A320080223,  A16C,    41, 41,  41001,      1,2,20080310,   0,  9.5007, -22.9990, 5017,   1310.2,   4.6285,  34.8963,2,  34.8960,2,    178.9,2,    178.9,2,    22.54,2,    27.60,2,     0.01,2,     1.85,2,   4.5193
  35A320080223,  A16C,    41, 41,  41002,      2,2,20080310,   0,  9.5007, -22.9990, 5017,   1197.2,   4.9480,  34.8508,2,-999.0000,9,    157.2,2,    156.8,2,    24.18,2,    30.11,2,     0.00,2,     2.00,2,   4.8464
  35A320080223,  A16C,    41, 41,  41003,      3,2,20080310,   0,  9.5007, -22.9990, 5017,   1098.5,   5.1678,  34.7979,2,  34.7983,2,    140.0,2,    140.8,2,    26.17,2,    32.95,2,     0.00,2,     2.16,2,   5.0736
  35A320080223,  A16C,    41, 41,  41004,      4,2,20080310,   0,  9.5007, -22.9990, 5017,    999.2,   5.3426,  34.7478,2,-999.0000,9,    126.6,2,    127.2,2,    27.26,2,    35.02,2,     0.02,2,     2.26,2,   5.2564
  35A320080223,  A16C,    41, 41,  41005,      5,2,20080310,   0,  9.5007, -22.9990, 5017,    897.6,   5.5435,  34.7065,2,-999.0000,9,    115.0,2,    114.5,2,    27.13,2,    36.80,2,     0.02,2,     2.37,2,   5.4654
  35A320080223,  A16C,    41, 41,  41006,      6,2,20080310,   0,  9.5007, -22.9990, 5017,    848.2,   5.7354,  34.7034,2,  34.7028,2,    108.2,2,    107.9,2,    26.34,2,    37.33,2,     0.02,2,     2.39,2,   5.6606
  35A320080223,  A16C,    41, 41,  41007,      7,2,20080310,   0,  9.5007, -22.9990, 5017,    800.4,   5.9540,  34.7047,2,-999.0000,9,    101.1,2,    101.3,6,    25.05,6,    37.58,6,     0.02,6,     2.42,6,   5.8824
  35A320080223,  A16C,    41, 41,  41008,      8,2,20080310,   0,  9.5007, -22.9990, 5017,    698.1,   6.6119,  34.7499,2,-999.0000,9,     84.7,2,     84.1,2,    22.26,2,    38.16,2,     0.02,2,     2.43,2,   6.5464
  35A320080223,  A16C,    41, 41,  41009,      9,2,20080310,   0,  9.5007, -22.9990, 5017,    598.1,   7.7558,  34.8669,2,-999.0000,9,     62.6,2,     61.9,2,    19.36,2,    38.46,2,     0.01,2,     2.38,2,   7.6949
  35A320080223,  A16C,    41, 41,  41010,     10,2,20080310,   0,  9.5007, -22.9990, 5017,    497.4,   8.7563,  34.9520,2,-999.0000,9,     50.0,2,     49.7,2,    17.47,2,    37.89,2,     0.01,2,     2.32,2,   8.7022
  35A320080223,  A16C,    41, 41,  41011,     11,2,20080310,   0,  9.5007, -22.9990, 5017,    438.0,   9.7780,  35.0804,2,  34.9428,4,     41.1,2,     40.1,2,    15.51,2,    36.86,2,     0.00,2,     2.19,2,   9.7272
  35A320080223,  A16C,    41, 41,  41012,     12,2,20080310,   0,  9.5007, -22.9990, 5017,    397.6,  10.7246,  35.1955,2,-999.0000,9,     40.0,2,     40.6,2,    13.64,2,    34.85,2,     0.02,2,     2.06,2,  10.6758
  35A320080223,  A16C,    41, 41,  41013,     13,2,20080310,   0,  9.5007, -22.9990, 5017,    297.8,  10.9570,  35.0581,2,-999.0000,9,    114.7,2,    116.7,2,    10.53,2,    25.53,2,     0.03,2,     1.64,2,  10.9202
  35A320080223,  A16C,    41, 41,  41014,     14,2,20080310,   0,  9.5007, -22.9990, 5017,    197.4,  12.2162,  35.1966,2,-999.0000,9,    119.7,2,    121.2,6,     8.21,6,    22.35,6,     0.03,6,     1.47,6,  12.1901
  35A320080223,  A16C,    41, 41,  41015,     15,2,20080310,   0,  9.5007, -22.9990, 5017,     98.4,  14.1305,  35.4557,2,-999.0000,9,    133.2,2,    134.7,2,     5.49,2,    17.42,2,     0.04,2,     1.17,2,  14.1162
  35A320080223,  A16C,    41, 41,  41016,     16,2,20080310,   0,  9.5007, -22.9990, 5017,      8.5,  26.3794,  35.8407,2,  35.8412,2,    203.9,2,    206.5,2,     0.20,2,     0.00,2,     0.00,2,     0.01,2,  26.3775
  35A320080223,  A16C,    42, 42,  42001,      1,2,20080311,   0, 10.0017, -22.9998, 5065,   1313.1,   4.7400,  34.9205,2,  34.9209,2,    180.0,2,    179.4,2,  -999.00,9,  -999.00,9,  -999.00,9,  -999.00,9,   4.6293
  35A320080223,  A16C,    42, 42,  42002,      2,2,20080311,   0, 10.0017, -22.9998, 5065,   1207.8,   4.9734,  34.8765,2,-999.0000,9,    160.6,2,   -999.0,9,  -999.00,9,  -999.00,9,  -999.00,9,  -999.00,9,   4.8705
  35A320080223,  A16C,    42, 42,  42003,      3,2,20080311,   0, 10.0017, -22.9998, 5065,   1105.2,   5.1917,  34.8185,2,  34.8259,2,    143.5,2,    144.1,6,  -999.00,9,  -999.00,9,  -999.00,9,  -999.00,9,   5.0966
  35A320080223,  A16C,    42, 42,  42004,      4,2,20080311,   0, 10.0017, -22.9998, 5065,   1003.1,   5.3696,  34.7476,2,-999.0000,9,    125.8,2,   -999.0,9,  -999.00,9,  -999.00,9,  -999.00,9,  -999.00,9,   5.2828
  35A320080223,  A16C,    42, 42,  42005,      5,2,20080311,   0, 10.0017, -22.9998, 5065,    903.2,   5.6187,  34.7194,2,-999.0000,9,    113.4,2,    114.0,2,  -999.00,9,  -999.00,9,  -999.00,9,  -999.00,9,   5.5395
  35A320080223,  A16C,    42, 42,  42006,      6,2,20080311,   0, 10.0017, -22.9998, 5065,    853.5,   5.8262,  34.7169,2,  34.7091,2,    105.4,2,   -999.0,9,  -999.00,9,  -999.00,9,  -999.00,9,  -999.00,9,   5.7504
  35A320080223,  A16C,    42, 42,  42007,      7,2,20080311,   0, 10.0017, -22.9998, 5065,    802.9,   6.1095,  34.7191,2,-999.0000,9,     97.4,2,     97.4,2,  -999.00,9,  -999.00,9,  -999.00,9,  -999.00,9,   6.0367
  35A320080223,  A16C,    42, 42,  42008,      8,2,20080311,   0, 10.0017, -22.9998, 5065,    702.1,   6.8348,  34.7682,2,-999.0000,9,     80.2,2,   -999.0,9,  -999.00,9,  -999.00,9,  -999.00,9,  -999.00,9,   6.7677
  35A320080223,  A16C,    42, 42,  42009,      9,2,20080311,   0, 10.0017, -22.9998, 5065,    601.0,   7.8121,  34.8663,2,-999.0000,9,     62.0,2,     62.3,2,  -999.00,9,  -999.00,9,  -999.00,9,  -999.00,9,   7.7506
  35A320080223,  A16C,    42, 42,  42010,     10,2,20080311,   0, 10.0017, -22.9998, 5065,    500.5,   9.4293,  35.0756,2,-999.0000,9,     45.7,2,   -999.0,9,  -999.00,9,  -999.00,9,  -999.00,9,  -999.00,9,   9.3723
  35A320080223,  A16C,    42, 42,  42011,     11,2,20080311,   0, 10.0017, -22.9998, 5065,    440.1,  10.3150,  35.1718,2,  35.1679,2,     41.1,2,     40.5,2,  -999.00,9,  -999.00,9,  -999.00,9,  -999.00,9,  10.2622
  35A320080223,  A16C,    42, 42,  42012,     12,2,20080311,   0, 10.0017, -22.9998, 5065,    399.6,  10.5513,  35.1601,2,-999.0000,9,     42.5,2,   -999.0,9,  -999.00,9,  -999.00,9,  -999.00,9,  -999.00,9,  10.5028
  35A320080223,  A16C,    42, 42,  42013,     13,2,20080311,   0, 10.0017, -22.9998, 5065,    298.9,  11.2066,  35.1296,2,-999.0000,9,     76.4,2,     76.8,6,  -999.00,9,  -999.00,9,  -999.00,9,  -999.00,9,  11.1691
  35A320080223,  A16C,    42, 42,  42014,     14,2,20080311,   0, 10.0017, -22.9998, 5065,    197.4,  12.4473,  35.2314,2,-999.0000,9,    102.8,2,   -999.0,9,  -999.00,9,  -999.00,9,  -999.00,9,  -999.00,9,  12.4209
  35A320080223,  A16C,    42, 42,  42015,     15,2,20080311,   0, 10.0017, -22.9998, 5065,     99.7,  14.1104,  35.4255,2,-999.0000,9,     84.3,2,     83.1,2,  -999.00,9,  -999.00,9,  -999.00,9,  -999.00,9,  14.0959
  35A320080223,  A16C,    42, 42,  42016,     16,2,20080311,   0, 10.0017, -22.9998, 5065,      8.3,  26.0355,  35.8321,2,  35.8341,2,    204.4,2,   -999.0,9,  -999.00,9,  -999.00,9,  -999.00,9,  -999.00,9,  26.0336
  35A320080223,  A16C,    43, 43,  43001,      1,2,20080311,   0, 10.5010, -23.0010, 5146,   1276.7,   4.6760,  34.9211,2,-999.0000,9,    180.1,2,    179.4,2,    22.05,2,    26.79,2,     0.02,2,     1.83,2,   4.5693
  35A320080223,  A16C,    43, 43,  43002,      2,2,20080311,   0, 10.5010, -23.0010, 5146,   1197.3,   4.9638,  34.9168,2,  34.9172,2,    169.7,2,    170.1,2,    21.64,2,    27.49,2,     0.02,2,     1.88,2,   4.8619
  35A320080223,  A16C,    43, 43,  43003,      3,2,20080311,   0, 10.5010, -23.0010, 5146,   1098.8,   5.2323,  34.8747,2,-999.0000,9,    148.7,2,    148.0,2,    22.98,2,    30.16,2,     0.02,2,     2.05,2,   5.1374
  35A320080223,  A16C,    43, 43,  43004,      4,2,20080311,   0, 10.5010, -23.0010, 5146,    998.4,   5.4574,  34.8143,2,-999.0000,9,    132.2,2,    132.1,2,    24.48,2,    32.54,2,     0.00,2,     2.19,2,   5.3703
  35A320080223,  A16C,    43, 43,  43005,      5,2,20080311,   0, 10.5010, -23.0010, 5146,    897.6,   5.8062,  34.7576,2,  34.7593,2,    113.1,2,    113.5,2,    25.41,2,    35.28,2,     0.00,2,     2.33,2,   5.7262
  35A320080223,  A16C,    43, 43,  43006,      6,2,20080311,   0, 10.5010, -23.0010, 5146,    802.6,   6.3267,  34.7667,2,-999.0000,9,     94.2,2,     93.4,6,    24.59,6,    37.31,6,     0.02,6,     2.39,6,   6.2526
  35A320080223,  A16C,    43, 43,  43007,      7,2,20080311,   0, 10.5010, -23.0010, 5146,    697.3,   7.1566,  34.8320,2,  34.8201,2,     75.1,2,     74.4,2,    21.85,2,    37.78,2,     0.02,2,     2.39,2,   7.0883
  35A320080223,  A16C,    43, 43,  43008,      8,2,20080311,   0, 10.5010, -23.0010, 5146,    596.6,   7.9419,  34.8749,2,-999.0000,9,     60.6,2,     62.5,2,    19.75,2,    37.95,2,     0.02,2,     2.40,2,   7.8803
  35A320080223,  A16C,    43, 43,  43009,      9,2,20080311,   0, 10.5010, -23.0010, 5146,    497.7,   9.1149,  35.0164,2,-999.0000,9,     46.0,2,     45.6,2,    16.19,2,    36.70,2,     0.02,2,     2.28,2,   9.0594
  35A320080223,  A16C,    43, 43,  43010,     10,2,20080311,   0, 10.5010, -23.0010, 5146,    447.1,  10.0152,  35.1353,2,-999.0000,9,     41.3,2,     40.8,2,    14.25,2,    35.46,2,     0.01,2,     2.18,2,   9.9625
  35A320080223,  A16C,    43, 43,  43011,     11,2,20080311,   0, 10.5010, -23.0010, 5146,    437.7,  10.0833,  35.1410,2,-999.0000,9,     40.6,2,     39.6,6,    14.73,6,    35.58,6,     0.01,6,     2.14,6,  10.0315
  35A320080223,  A16C,    43, 43,  43012,     12,2,20080311,   0, 10.5010, -23.0010, 5146,    396.9,  10.5519,  35.1772,2,  35.1734,2,     39.8,2,     39.5,2,    14.17,2,    34.79,2,     0.02,2,     2.08,2,  10.5037
  35A320080223,  A16C,    43, 43,  43013,     13,2,20080311,   0, 10.5010, -23.0010, 5146,    296.5,  11.1622,  35.1045,2,-999.0000,9,     89.3,2,     91.9,2,    11.23,2,    27.53,2,     0.02,2,     1.73,2,  11.1251
  35A320080223,  A16C,    43, 43,  43014,     14,2,20080311,   0, 10.5010, -23.0010, 5146,    198.5,  12.3692,  35.2190,2,-999.0000,9,    101.5,2,    101.5,2,     9.06,2,    23.92,2,     0.03,2,     1.54,2,  12.3427
  35A320080223,  A16C,    43, 43,  43015,     15,2,20080311,   0, 10.5010, -23.0010, 5146,     98.3,  13.8843,  35.4001,2,-999.0000,9,     85.7,2,     86.9,2,     7.41,2,    23.07,2,     0.04,2,     1.48,2,  13.8702
  35A320080223,  A16C,    43, 43,  43016,     16,2,20080311,   0, 10.5010, -23.0010, 5146,      7.6,  26.0944,  35.8140,2,  35.8137,2,    204.2,2,    206.5,2,     0.91,2,     0.01,2,     0.02,2,     0.01,2,  26.0927
  35A320080223,  A16C,    44, 44,  44001,      1,2,20080311,   0, 11.0064, -23.0009, 5024,   1302.9,   4.5511,  34.9316,2,  34.9245,2,    188.2,2,   -999.0,9,  -999.00,9,  -999.00,9,  -999.00,9,  -999.00,9,   4.4432
  35A320080223,  A16C,    44, 44,  44002,      2,2,20080311,   0, 11.0064, -23.0009, 5024,   1197.7,   4.9083,  34.9172,2,-999.0000,9,    170.7,2,    175.8,6,  -999.00,9,  -999.00,9,  -999.00,9,  -999.00,9,   4.8068
  35A320080223,  A16C,    44, 44,  44003,      3,2,20080311,   0, 11.0064, -23.0009, 5024,   1097.6,   5.2066,  34.8813,2,-999.0000,9,    148.5,2,   -999.0,9,  -999.00,9,  -999.00,9,  -999.00,9,  -999.00,9,   5.1120
  35A320080223,  A16C,    44, 44,  44004,      4,2,20080311,   0, 11.0064, -23.0009, 5024,    998.3,   5.4862,  34.8265,2,  34.8345,2,    131.1,2,    133.6,2,  -999.00,9,  -999.00,9,  -999.00,9,  -999.00,9,   5.3988
  35A320080223,  A16C,    44, 44,  44005,      5,2,20080311,   0, 11.0064, -23.0009, 5024,    897.7,   5.7592,  34.7790,2,-999.0000,9,    116.0,2,   -999.0,9,  -999.00,9,  -999.00,9,  -999.00,9,  -999.00,9,   5.6795
  35A320080223,  A16C,    44, 44,  44006,      6,2,20080311,   0, 11.0064, -23.0009, 5024,    797.2,   6.4438,  34.8019,2,-999.0000,9,     95.9,2,     94.9,2,  -999.00,9,  -999.00,9,  -999.00,9,  -999.00,9,   6.3694
  35A320080223,  A16C,    44, 44,  44007,      7,2,20080311,   0, 11.0064, -23.0009, 5024,    698.1,   7.0509,  34.8247,2,-999.0000,9,     77.8,2,   -999.0,9,  -999.00,9,  -999.00,9,  -999.00,9,  -999.00,9,   6.9831
  35A320080223,  A16C,    44, 44,  44008,      8,2,20080311,   0, 11.0064, -23.0009, 5024,    596.3,   7.9656,  34.8893,2,  34.8850,2,     59.6,2,     59.7,2,  -999.00,9,  -999.00,9,  -999.00,9,  -999.00,9,   7.9039
  35A320080223,  A16C,    44, 44,  44009,      9,2,20080311,   0, 11.0064, -23.0009, 5024,    498.0,   9.0965,  35.0116,2,-999.0000,9,     46.0,2,   -999.0,9,  -999.00,9,  -999.00,9,  -999.00,9,  -999.00,9,   9.0411
  35A320080223,  A16C,    44, 44,  44010,     10,2,20080311,   0, 11.0064, -23.0009, 5024,    397.2,  10.6969,  35.1951,2,-999.0000,9,     40.0,2,     40.2,2,  -999.00,9,  -999.00,9,  -999.00,9,  -999.00,9,  10.6482
  35A320080223,  A16C,    44, 44,  44011,     11,2,20080311,   0, 11.0064, -23.0009, 5024,    296.4,  11.6198,  35.1904,2,-999.0000,9,     64.1,2,   -999.0,9,  -999.00,9,  -999.00,9,  -999.00,9,  -999.00,9,  11.5817
  35A320080223,  A16C,    44, 44,  44012,     12,2,20080311,   0, 11.0064, -23.0009, 5024,    198.3,  12.7996,  35.2746,2,  35.2649,2,     90.0,2,     91.7,2,  -999.00,9,  -999.00,9,  -999.00,9,  -999.00,9,  12.7725
  35A320080223,  A16C,    44, 44,  44013,     13,2,20080311,   0, 11.0064, -23.0009, 5024,    147.8,  13.5554,  35.3669,2,-999.0000,9,     85.6,2,   -999.0,9,  -999.00,9,  -999.00,9,  -999.00,9,  -999.00,9,  13.5345
  35A320080223,  A16C,    44, 44,  44014,     14,2,20080311,   0, 11.0064, -23.0009, 5024,     99.9,  14.5969,  35.4802,2,-999.0000,9,     69.2,2,     75.4,2,  -999.00,9,  -999.00,9,  -999.00,9,  -999.00,9,  14.5820
  35A320080223,  A16C,    44, 44,  44015,     15,2,20080311,   0, 11.0064, -23.0009, 5024,     48.3,  20.7339,  35.8909,2,-999.0000,9,    183.1,2,   -999.0,9,  -999.00,9,  -999.00,9,  -999.00,9,  -999.00,9,  20.7247
  35A320080223,  A16C,    44, 44,  44016,     16,2,20080311,   0, 11.0064, -23.0009, 5024,      8.5,  26.3735,  35.7563,2,  35.7565,2,    201.9,2,    204.6,6,  -999.00,9,  -999.00,9,  -999.00,9,  -999.00,9,  26.3716
  35A320080223,  A16C,    45, 45,  45001,      1,2,20080311,   0, 11.5024, -23.0000, 4990,   1301.1,   4.7126,  34.9414,2,  34.9415,2,    184.9,2,    185.5,2,    21.45,2,    26.11,2,     0.01,2,     1.77,2,   4.6033
  35A320080223,  A16C,    45, 45,  45002,      2,2,20080311,   0, 11.5024, -23.0000, 4990,   1197.8,   4.9413,  34.9224,2,-999.0000,9,    167.0,2,    157.3,3,    23.25,2,    28.34,2,     0.02,2,     1.89,2,   4.8395
  35A320080223,  A16C,    45, 45,  45003,      3,2,20080311,   0, 11.5024, -23.0000, 4990,   1096.5,   5.2611,  34.8837,2,-999.0000,9,    147.2,2,    158.1,3,    24.67,2,    30.98,2,     0.02,2,     2.02,2,   5.1661
  35A320080223,  A16C,    45, 45,  45004,      4,2,20080311,   0, 11.5024, -23.0000, 4990,    995.2,   5.5152,  34.8348,2,-999.0000,9,    131.3,2,    132.8,6,    25.36,6,    33.09,6,     0.02,6,     2.16,6,   5.4279
  35A320080223,  A16C,    45, 45,  45005,      5,2,20080311,   0, 11.5024, -23.0000, 4990,    895.8,   5.7977,  34.7880,2,-999.0000,9,    116.8,2,    118.2,2,    25.23,2,    35.08,2,     0.02,2,     2.28,2,   5.7179
  35A320080223,  A16C,    45, 45,  45006,      6,2,20080311,   0, 11.5024, -23.0000, 4990,    797.5,   6.3506,  34.7866,2,  34.7857,2,     96.2,2,     95.5,2,    23.72,2,    37.00,2,     0.02,2,     2.37,2,   6.2768
  35A320080223,  A16C,    45, 45,  45007,      7,2,20080311,   0, 11.5024, -23.0000, 4990,    696.8,   7.1768,  34.8441,2,-999.0000,9,     77.2,2,     77.8,2,    21.34,2,    37.74,2,     0.02,2,     2.37,2,   7.1084
  35A320080223,  A16C,    45, 45,  45008,      8,2,20080311,   0, 11.5024, -23.0000, 4990,    596.9,   8.3251,  34.9533,2,-999.0000,9,     56.3,2,     59.0,2,    18.77,2,    38.06,2,     0.00,2,     2.36,2,   8.2617
  35A320080223,  A16C,    45, 45,  45009,      9,2,20080311,   0, 11.5024, -23.0000, 4990,    497.3,   9.5678,  35.0763,2,-999.0000,9,     43.0,2,     43.2,2,    16.16,2,    37.12,2,     0.00,2,     2.22,2,   9.5107
  35A320080223,  A16C,    45, 45,  45010,     10,2,20080311,   0, 11.5024, -23.0000, 4990,    446.4,  10.3077,  35.1571,2,  35.1526,2,     40.2,2,     40.3,2,    14.72,2,    36.04,2,     0.02,2,     2.10,2,  10.2541
  35A320080223,  A16C,    45, 45,  45011,     11,2,20080311,   0, 11.5024, -23.0000, 4990,    396.2,  11.0173,  35.2193,2,  35.2123,2,     41.8,2,     42.5,2,    12.77,2,    33.96,2,     0.03,2,     2.00,2,  10.9678
  35A320080223,  A16C,    45, 45,  45012,     12,2,20080311,   0, 11.5024, -23.0000, 4990,    297.2,  11.6602,  35.1682,2,-999.0000,9,     74.1,2,     75.4,2,    10.47,2,    28.72,2,     0.02,2,     1.78,2,  11.6219
  35A320080223,  A16C,    45, 45,  45013,     13,2,20080311,   0, 11.5024, -23.0000, 4990,    197.2,  12.9796,  35.2964,2,-999.0000,9,     90.4,2,     97.4,2,     7.94,2,    24.18,2,     0.02,2,     1.57,2,  12.9524
  35A320080223,  A16C,    45, 45,  45014,     14,2,20080311,   0, 11.5024, -23.0000, 4990,    144.5,  13.5397,  35.3594,2,-999.0000,9,     90.7,2,     93.7,6,     6.72,6,    23.10,6,     0.02,6,     1.50,6,  13.5192
  35A320080223,  A16C,    45, 45,  45015,     15,2,20080311,   0, 11.5024, -23.0000, 4990,    100.7,  14.5859,  35.4782,2,-999.0000,9,     67.3,2,     64.9,2,     6.49,2,    24.85,2,     0.03,2,     1.53,2,  14.5709
  35A320080223,  A16C,    45, 45,  45016,     16,2,20080311,   0, 11.5024, -23.0000, 4990,      9.4,  26.1979,  35.7601,2,  35.7617,2,    202.8,2,    206.0,2,     0.56,2,     0.00,2,     0.00,2,     0.00,2,  26.1958