BOTTLE,20120514PRINUNIVRMK
EXPOCODE,SECT_ID,STNNBR,CASTNO,SAMPNO,BTLNBR,BTLNBR_FLAG_W,DATE,TIME,LATITUDE,LONGITUDE,DEPTH,CTDPRS,CTDTMP,CTDSAL,CTDSAL_FLAG_W,SALNTY,SALNTY_FLAG_W,CTDOXY,CTDOXY_FLAG_W,OXYGEN,OXYGEN_FLAG_W,SILCAT,SILCAT_FLAG_W,NITRAT,NITRAT_FLAG_W,NITRIT,NITRIT_FLAG_W,PHSPHT,PHSPHT_FLAG_W,THETA
,,,,,,,,,,,METERS,DBAR,ITS-90,PSS-78,,PSS-78,,UMOL/KG,,UMOL/KG,,UMOL/KG,,UMOL/KG,,UMOL/KG,,UMOL/KG,,DEG C
  35A320080223,  A16C,     6,  6,   6001,      1,2,20080229,   0,  0.7675, -22.9937, 4421,   1315.0,   4.4750,  34.9515,2,  34.9471,2,    217.7,2,    216.7,2,    18.57,2,    22.80,2,     0.00,2,     1.53,2,   4.3667
  35A320080223,  A16C,     6,  6,   6002,      2,2,20080229,   0,  0.7675, -22.9937, 4421,   1138.8,   4.5519,  34.7616,2,-999.0000,9,    173.6,2,    173.6,2,    26.33,2,    29.79,2,     0.01,2,     1.99,2,   4.4593
  35A320080223,  A16C,     6,  6,   6003,      3,2,20080229,   0,  0.7675, -22.9937, 4421,   1006.6,   4.6215,  34.6396,2,-999.0000,9,    158.4,2,    158.1,2,    29.03,2,    32.82,2,     0.01,2,     2.22,2,   4.5403
  35A320080223,  A16C,     6,  6,   6004,      4,2,20080229,   0,  0.7675, -22.9937, 4421,    855.2,   4.8348,  34.5287,2,-999.0000,9,    151.0,2,   -999.0,9,  -999.00,9,  -999.00,9,  -999.00,9,  -999.00,9,   4.7655
  35A320080223,  A16C,     6,  6,   6005,      5,2,20080229,   0,  0.7675, -22.9937, 4421,    697.7,   5.3699,  34.5079,2,-999.0000,9,    151.7,2,    151.2,2,    25.66,2,    34.10,2,     0.01,2,     2.26,2,   5.3113
  35A320080223,  A16C,     6,  6,   6006,      6,2,20080229,   0,  0.7675, -22.9937, 4421,    535.2,   7.2687,  34.6420,2,  34.6408,2,    133.1,2,    133.5,2,    18.31,2,    32.12,2,     0.00,2,     2.08,2,   7.2166
  35A320080223,  A16C,     6,  6,   6007,      7,2,20080229,   0,  0.7675, -22.9937, 4421,    436.7,   8.5344,  34.7657,2,-999.0000,9,    109.0,2,    108.5,6,    15.43,6,    31.97,6,     0.00,6,     2.04,6,   8.4879
  35A320080223,  A16C,     6,  6,   6008,      8,2,20080229,   0,  0.7675, -22.9937, 4421,    331.1,   9.7853,  34.9083,2,  34.8675,2,     88.0,2,     95.5,3,    13.42,2,    31.24,2,     0.00,2,     1.95,2,   9.7472
  35A320080223,  A16C,     6,  6,   6009,      9,2,20080229,   0,  0.7675, -22.9937, 4421,    254.0,  11.5807,  35.1127,2,-999.0000,9,     87.5,2,     87.4,2,    10.00,2,    27.67,2,     0.00,2,     1.75,2,  11.5482
  35A320080223,  A16C,     6,  6,   6010,     10,2,20080229,   0,  0.7675, -22.9937, 4421,    149.8,  14.3315,  35.4686,2,-999.0000,9,    122.4,2,    123.5,2,     5.97,2,    18.64,2,     0.00,2,     1.26,2,  14.3094
  35A320080223,  A16C,     6,  6,   6011,     11,2,20080229,   0,  0.7675, -22.9937, 4421,    100.7,  15.4802,  35.6168,2,  35.6134,2,    130.6,2,    131.0,2,     5.01,2,    16.18,2,     0.01,2,     1.10,2,  15.4646
  35A320080223,  A16C,     6,  6,   6012,     12,2,20080229,   0,  0.7675, -22.9937, 4421,     76.6,  17.6109,  35.9635,2,-999.0000,9,    150.7,2,    151.4,2,     3.60,2,    11.38,2,     0.06,2,     0.81,2,  17.5979
  35A320080223,  A16C,     6,  6,   6013,     13,2,20080229,   0,  0.7675, -22.9937, 4421,     59.5,  22.0263,  36.0710,2,-999.0000,9,    154.0,2,    155.0,2,     2.08,2,     5.78,2,     0.16,2,     0.41,2,  22.0145
  35A320080223,  A16C,     6,  6,   6014,     14,2,20080229,   0,  0.7675, -22.9937, 4421,     39.3,  27.0981,  36.0513,2,-999.0000,9,    200.0,2,    199.5,6,     0.55,6,     0.00,6,     0.00,6,     0.02,6,  27.0890
  35A320080223,  A16C,     6,  6,   6015,     15,2,20080229,   0,  0.7675, -22.9937, 4421,     19.2,  27.9199,  35.6215,2,-999.0000,9,    204.3,2,    203.2,2,     0.47,2,     0.01,2,     0.00,2,     0.00,2,  27.9154
  35A320080223,  A16C,     6,  6,   6016,     16,2,20080229,   0,  0.7675, -22.9937, 4421,      8.7,  28.3199,  35.2496,2,  35.2669,2,    202.2,2,    202.3,2,     0.55,2,     0.03,2,     0.00,2,     0.00,2,  28.3178
  35A320080223,  A16C,     7,  7,   7001,      1,2,20080301,   0,  0.0366, -22.9703, 3894,   3865.1,   2.3959,  34.8964,2,  34.8962,2,    253.5,2,    250.4,6,    40.77,6,    21.16,6,     0.01,6,     1.45,6,   2.0658
  35A320080223,  A16C,     7,  7,   7002,      2,2,20080301,   0,  0.0366, -22.9703, 3894,   3544.5,   2.4646,  34.9032,2,-999.0000,9,    250.2,2,    249.5,2,    39.06,2,    21.32,2,     0.02,2,     1.44,2,   2.1682
  35A320080223,  A16C,     7,  7,   7003,      3,2,20080301,   0,  0.0366, -22.9703, 3894,   2884.3,   2.7207,  34.9198,2,  34.9199,2,    247.2,2,    247.9,2,    34.28,2,    21.05,2,     0.01,2,     1.42,2,   2.4879
  35A320080223,  A16C,     7,  7,   7004,      4,2,20080301,   0,  0.0366, -22.9703, 3894,   2294.3,   3.1841,  34.9519,2,-999.0000,9,    251.4,2,    253.4,2,    24.04,2,    19.83,2,     0.02,2,     1.32,2,   3.0009
  35A320080223,  A16C,     7,  7,   7005,      5,2,20080301,   0,  0.0366, -22.9703, 3894,   1455.2,   4.3743,  34.9584,2,  34.9605,2,    223.6,2,    224.1,2,    17.70,2,    21.92,2,     0.02,2,     1.47,2,   4.2541
  35A320080223,  A16C,     7,  7,   7006,      6,2,20080301,   0,  0.0366, -22.9703, 3894,   1436.3,   4.3826,  34.9585,2,-999.0000,9,    223.5,2,    224.1,2,    17.72,2,    21.93,2,     0.02,2,     1.48,2,   4.2640
  35A320080223,  A16C,     7,  7,   7007,      7,2,20080301,   0,  0.0366, -22.9703, 3894,    735.7,   5.1808,  34.5035,2,  34.5035,2,    149.5,2,    149.2,2,    26.69,2,    34.95,2,     0.02,2,     2.29,2,   5.1199
  35A320080223,  A16C,     7,  7,   7008,      8,2,20080301,   0,  0.0366, -22.9703, 3894,    151.8,  14.1420,  35.4397,2,-999.0000,9,    153.6,2,    152.5,6,     5.26,6,    15.34,6,     0.02,6,     1.07,6,  14.1199
  35A320080223,  A16C,     7,  7,   7009,      9,2,20080301,   0,  0.0366, -22.9703, 3894,    100.2,  18.1264,  36.0315,2,-999.0000,9,    171.7,2,    173.3,2,     2.61,2,     8.17,2,     0.08,2,     0.66,2,  18.1090
  35A320080223,  A16C,     7,  7,   7010,     10,2,20080301,   0,  0.0366, -22.9703, 3894,     80.5,  20.6081,  36.3325,2,-999.0000,9,    178.8,2,    177.5,2,     1.90,2,     5.78,2,     0.14,2,     0.47,2,  20.5928
  35A320080223,  A16C,     7,  7,   7011,     11,2,20080301,   0,  0.0366, -22.9703, 3894,     61.6,  24.0315,  36.4376,2,-999.0000,9,    186.9,2,    186.9,2,     0.82,2,     0.61,2,     0.08,2,     0.15,2,  24.0185
  35A320080223,  A16C,     7,  7,   7012,     12,2,20080301,   0,  0.0366, -22.9703, 3894,     50.9,  25.0902,  36.2638,2,-999.0000,9,    191.5,2,    190.8,2,     0.66,2,     0.01,2,     0.01,2,     0.07,2,  25.0791
  35A320080223,  A16C,     7,  7,   7013,     13,2,20080301,   0,  0.0366, -22.9703, 3894,     39.6,  26.5470,  36.0663,2,-999.0000,9,    198.2,2,    197.1,2,     0.47,2,     0.00,2,     0.00,2,     0.02,2,  26.5380
  35A320080223,  A16C,     7,  7,   7014,     14,2,20080301,   0,  0.0366, -22.9703, 3894,     31.0,  27.2633,  36.1297,2,-999.0000,9,    202.9,2,    202.2,2,     0.35,2,     0.01,2,     0.00,2,     0.01,2,  27.2561
  35A320080223,  A16C,     7,  7,   7015,     15,2,20080301,   0,  0.0366, -22.9703, 3894,     21.2,  27.6050,  35.8201,2,-999.0000,9,    205.6,2,    204.2,2,     0.39,2,     0.03,2,     0.00,2,     0.00,2,  27.6000
  35A320080223,  A16C,     7,  7,   7016,     16,2,20080301,   0,  0.0366, -22.9703, 3894,     11.3,  27.9980,  35.5710,2,  35.5800,2,    204.8,2,    204.2,2,     0.45,2,     0.03,2,     0.00,2,     0.01,2,  27.9953
  35A320080223,  A16C,     8,  8,   8001,      1,2,20080302,   0,  0.0058, -21.4422, 4125,   1303.6,   4.5642,  34.9425,2,-999.0000,9,    212.8,2,    211.9,2,    19.61,2,    22.87,2,     0.02,2,     1.56,2,   4.4561
  35A320080223,  A16C,     8,  8,   8002,      2,2,20080302,   0,  0.0058, -21.4422, 4125,   1146.4,   4.5456,  34.7418,2,-999.0000,9,    172.2,2,    175.9,2,    26.18,2,    29.57,2,     0.02,2,     1.98,2,   4.4524
  35A320080223,  A16C,     8,  8,   8003,      3,2,20080302,   0,  0.0058, -21.4422, 4125,    996.0,   4.5729,  34.6823,2,-999.0000,9,    162.6,2,    162.5,6,    27.79,6,    31.75,6,     0.00,6,     2.14,6,   4.4929
  35A320080223,  A16C,     8,  8,   8004,      4,2,20080302,   0,  0.0058, -21.4422, 4125,    848.3,   4.6405,  34.5682,2,-999.0000,9,    154.0,2,    153.5,2,    30.06,2,    33.76,2,     0.00,2,     2.28,2,   4.5730
  35A320080223,  A16C,     8,  8,   8005,      5,2,20080302,   0,  0.0058, -21.4422, 4125,    696.4,   5.2517,  34.5040,2,  34.5053,2,    146.9,2,    146.6,2,    27.96,2,    34.12,2,     0.02,2,     2.31,2,   5.1939
  35A320080223,  A16C,     8,  8,   8006,      6,2,20080302,   0,  0.0058, -21.4422, 4125,    496.9,   7.0546,  34.6175,2,  34.6161,2,    133.8,2,    133.5,2,    20.68,2,    32.06,2,     0.04,2,     2.10,2,   7.0071
  35A320080223,  A16C,     8,  8,   8007,      7,2,20080302,   0,  0.0058, -21.4422, 4125,    396.8,   8.6895,  34.7699,2,-999.0000,9,    120.4,2,    120.4,2,    16.24,2,    30.51,2,     0.05,2,     1.94,2,   8.6469
  35A320080223,  A16C,     8,  8,   8008,      8,2,20080302,   0,  0.0058, -21.4422, 4125,    296.6,  10.6844,  35.0087,2,-999.0000,9,     79.4,2,     78.0,2,    13.37,2,    30.88,2,     0.05,2,     1.89,2,  10.6483
  35A320080223,  A16C,     8,  8,   8009,      9,2,20080302,   0,  0.0058, -21.4422, 4125,    197.0,  13.8928,  35.3962,2,-999.0000,9,    142.7,2,    145.5,2,     7.19,2,    16.82,2,     0.05,2,     1.17,2,  13.8644
  35A320080223,  A16C,     8,  8,   8010,     10,2,20080302,   0,  0.0058, -21.4422, 4125,    146.2,  14.5386,  35.4975,2,-999.0000,9,    157.9,2,    158.1,6,     5.81,6,    14.01,6,     0.04,6,     1.03,6,  14.5169
  35A320080223,  A16C,     8,  8,   8011,     11,2,20080302,   0,  0.0058, -21.4422, 4125,    102.4,  16.0728,  35.7159,2,-999.0000,9,    149.8,2,    149.8,2,     4.59,2,    12.98,2,     0.05,2,     0.97,2,  16.0565
  35A320080223,  A16C,     8,  8,   8012,     12,2,20080302,   0,  0.0058, -21.4422, 4125,     80.2,  19.5210,  36.2371,2,  36.0468,4,    173.3,2,    167.1,2,     3.22,2,     8.23,2,     0.11,2,     0.67,2,  19.5063
  35A320080223,  A16C,     8,  8,   8013,     13,2,20080302,   0,  0.0058, -21.4422, 4125,     60.8,  22.9601,  36.6186,2,-999.0000,9,    186.3,2,    185.3,2,     2.21,2,     2.62,2,     0.25,2,     0.29,2,  22.9476
  35A320080223,  A16C,     8,  8,   8014,     14,2,20080302,   0,  0.0058, -21.4422, 4125,     40.8,  26.4467,  36.3820,2,-999.0000,9,    200.6,2,    199.4,2,     1.44,2,     0.26,2,     0.03,2,     0.07,2,  26.4374
  35A320080223,  A16C,     8,  8,   8015,     15,2,20080302,   0,  0.0058, -21.4422, 4125,     19.7,  27.9831,  35.5450,2,-999.0000,9,    203.8,2,    202.9,2,     1.08,2,     0.14,2,     0.02,2,     0.01,2,  27.9785
  35A320080223,  A16C,     8,  8,   8016,     16,2,20080302,   0,  0.0058, -21.4422, 4125,     11.6,  28.4261,  35.3033,2,  35.3052,2,    203.2,2,    202.4,2,     0.60,2,     0.00,2,     0.01,2,     0.00,2,  28.4233
  35A320080223,  A16C,     9,  9,   9001,      1,2,20080303,   0, -2.0489, -23.0806, 5122,   5111.4,   0.7923,  34.7224,2,  34.7199,2,    230.2,2,    223.2,6,   109.32,6,    30.36,6,     0.02,6,     2.14,3,   0.3686
  35A320080223,  A16C,     9,  9,   9002,      2,2,20080303,   0, -2.0489, -23.0806, 5122,   4984.9,   0.7996,  34.7250,2,-999.0000,9,    228.9,2,    223.2,2,   107.51,3,    29.63,3,     0.01,2,     2.13,3,   0.3906
  35A320080223,  A16C,     9,  9,   9003,      3,2,20080303,   0, -2.0489, -23.0806, 5122,   4496.7,   1.0089,  34.7525,2,-999.0000,9,    231.8,2,    228.9,2,    94.36,3,    28.39,3,     0.00,2,     2.00,3,   0.6491
  35A320080223,  A16C,     9,  9,   9004,      4,2,20080303,   0, -2.0489, -23.0806, 5122,   3697.0,   2.4257,  34.9086,2,  34.9045,2,    262.3,2,    261.6,2,    29.27,3,    17.94,3,     0.00,2,     1.31,3,   2.1136
  35A320080223,  A16C,     9,  9,   9005,      5,2,20080303,   0, -2.0489, -23.0806, 5122,   2998.6,   2.6667,  34.9160,2,  34.9154,2,    246.9,2,    247.2,2,    35.62,2,    20.44,2,     0.01,2,     1.42,2,   2.4233
  35A320080223,  A16C,     9,  9,   9006,      6,2,20080303,   0, -2.0489, -23.0806, 5122,   1995.3,   3.5877,  34.9708,2,-999.0000,9,    251.4,2,    253.3,2,    19.45,2,    18.93,2,     0.03,2,     1.29,2,   3.4267
  35A320080223,  A16C,     9,  9,   9007,      7,2,20080303,   0, -2.0489, -23.0806, 5122,   1098.4,   4.5741,  34.7761,2,-999.0000,9,    176.4,2,    176.9,2,    25.66,2,    28.19,2,     0.03,2,     1.97,2,   4.4849
  35A320080223,  A16C,     9,  9,   9008,      8,2,20080303,   0, -2.0489, -23.0806, 5122,    897.6,   4.3978,  34.5466,2,  34.5614,2,    157.9,2,    157.8,2,    30.59,2,    32.90,2,     0.02,2,     2.30,2,   4.3277
  35A320080223,  A16C,     9,  9,   9009,      9,2,20080303,   0, -2.0489, -23.0806, 5122,    298.2,  10.5113,  34.9903,2,-999.0000,9,     84.0,2,     83.3,6,    11.48,6,    29.77,6,     0.01,6,     1.92,6,  10.4754
  35A320080223,  A16C,     9,  9,   9010,     10,2,20080303,   0, -2.0489, -23.0806, 5122,    147.8,  13.6563,  35.3668,2,-999.0000,9,    100.4,2,     99.1,2,     6.79,2,    21.44,2,     0.01,2,     1.46,2,  13.6353
  35A320080223,  A16C,     9,  9,   9011,     11,2,20080303,   0, -2.0489, -23.0806, 5122,     98.8,  14.8758,  35.5255,2,-999.0000,9,    100.0,2,     99.5,2,     6.24,2,    19.62,2,     0.07,2,     1.36,2,  14.8609
  35A320080223,  A16C,     9,  9,   9012,     12,2,20080303,   0, -2.0489, -23.0806, 5122,     79.6,  16.9416,  35.7203,2,-999.0000,9,    114.6,2,    112.3,2,     5.40,2,    16.55,2,     0.56,2,     1.13,2,  16.9285
  35A320080223,  A16C,     9,  9,   9013,     13,2,20080303,   0, -2.0489, -23.0806, 5122,     59.6,  26.0594,  36.1365,2,-999.0000,9,    201.7,2,    191.9,3,     2.48,2,     1.74,2,     0.12,2,     0.20,2,  26.0460
  35A320080223,  A16C,     9,  9,   9014,     14,2,20080303,   0, -2.0489, -23.0806, 5122,     38.9,  27.3870,  36.0531,2,-999.0000,9,    202.3,2,    201.5,2,     1.64,2,     0.38,2,     0.04,2,     0.05,2,  27.3780
  35A320080223,  A16C,     9,  9,   9015,     15,2,20080303,   0, -2.0489, -23.0806, 5122,     18.5,  27.8994,  35.9487,2,-999.0000,9,    201.8,2,    199.4,2,     1.26,2,     0.24,2,     0.02,2,     0.03,2,  27.8950
  35A320080223,  A16C,     9,  9,   9016,     16,2,20080303,   0, -2.0489, -23.0806, 5122,      9.6,  27.9025,  35.9455,2,  35.9442,2,    200.8,2,    199.8,2,     0.89,2,     0.10,2,     0.01,2,     0.04,2,  27.9002
  35A320080223,  A16C,    10, 10,  10001,      1,2,20080303,   0, -1.6639, -22.9987, 4453,   1303.6,   4.5188,  34.9071,2,  34.9080,2,    205.8,2,    204.8,2,    21.14,2,    25.25,2,     0.03,2,     1.64,2,   4.4112
  35A320080223,  A16C,    10, 10,  10002,      2,2,20080303,   0, -1.6639, -22.9987, 4453,   1149.0,   4.5712,  34.7974,2,-999.0000,9,    180.0,2,    179.0,2,    25.07,2,    29.14,2,     0.03,2,     1.93,2,   4.4774
  35A320080223,  A16C,    10, 10,  10003,      3,2,20080303,   0, -1.6639, -22.9987, 4453,    996.7,   4.3373,  34.6339,2,-999.0000,9,    169.5,2,    168.4,2,    29.70,2,    31.86,2,     0.02,2,     2.16,2,   4.2591
  35A320080223,  A16C,    10, 10,  10004,      4,2,20080303,   0, -1.6639, -22.9987, 4453,    859.6,   4.4656,  34.5082,2,-999.0000,9,    163.8,2,    163.2,2,    30.71,2,    33.50,2,     0.01,2,     2.29,2,   4.3984
  35A320080223,  A16C,    10, 10,  10005,      5,2,20080303,   0, -1.6639, -22.9987, 4453,    698.7,   4.9777,  34.4670,2,  34.4776,2,    163.1,2,    163.0,6,    27.53,6,    34.01,6,     0.00,6,     2.23,6,   4.9212
  35A320080223,  A16C,    10, 10,  10006,      6,2,20080303,   0, -1.6639, -22.9987, 4453,    499.0,   8.3836,  34.7342,2,  34.7350,2,    129.4,2,    128.7,6,    15.51,6,    30.24,6,     0.03,6,     1.94,6,   8.3309
  35A320080223,  A16C,    10, 10,  10007,      7,2,20080303,   0, -1.6639, -22.9987, 4453,    397.4,   9.4120,  34.8602,2,-999.0000,9,     96.8,2,     96.6,2,    13.27,2,    31.69,2,     0.02,2,     1.96,2,   9.3672
  35A320080223,  A16C,    10, 10,  10008,      8,2,20080303,   0, -1.6639, -22.9987, 4453,    300.6,  10.6315,  35.0021,2,-999.0000,9,     81.7,2,     81.8,2,    11.21,2,    30.46,2,     0.02,2,     1.89,2,  10.5951
  35A320080223,  A16C,    10, 10,  10009,      9,2,20080303,   0, -1.6639, -22.9987, 4453,    198.7,  12.7544,  35.2433,2,-999.0000,9,     92.8,2,     94.6,2,     9.91,2,    26.66,2,     0.00,2,     1.75,2,  12.7273
  35A320080223,  A16C,    10, 10,  10010,     10,2,20080303,   0, -1.6639, -22.9987, 4453,    149.3,  13.6769,  35.3687,2,-999.0000,9,    100.8,2,    101.1,2,     6.85,2,    22.04,2,     0.01,2,     1.45,2,  13.6556
  35A320080223,  A16C,    10, 10,  10011,     11,2,20080303,   0, -1.6639, -22.9987, 4453,     99.5,  14.8684,  35.5318,2,-999.0000,9,    110.3,2,    111.2,2,     6.04,2,    19.25,2,     0.04,2,     1.25,2,  14.8534
  35A320080223,  A16C,    10, 10,  10012,     12,2,20080303,   0, -1.6639, -22.9987, 4453,     78.5,  17.6144,  35.7570,2,  35.7522,2,    118.6,2,    113.8,2,     4.67,2,    15.40,2,     0.35,2,     1.03,2,  17.6011
  35A320080223,  A16C,    10, 10,  10013,     13,2,20080303,   0, -1.6639, -22.9987, 4453,     58.1,  24.7397,  36.1418,2,-999.0000,9,    195.4,2,    195.7,2,     1.69,2,     0.59,2,     0.05,2,     0.15,2,  24.7271
  35A320080223,  A16C,    10, 10,  10014,     14,2,20080303,   0, -1.6639, -22.9987, 4453,     38.1,  27.6278,  36.1177,2,-999.0000,9,    202.4,2,    202.4,2,     0.98,2,     0.18,2,     0.02,2,     0.04,2,  27.6189
  35A320080223,  A16C,    10, 10,  10015,     15,2,20080303,   0, -1.6639, -22.9987, 4453,     19.2,  28.0157,  35.9614,2,-999.0000,9,    200.6,2,    200.9,2,     0.80,2,     0.09,2,     0.02,2,     0.02,2,  28.0112
  35A320080223,  A16C,    10, 10,  10016,     16,2,20080303,   0, -1.6639, -22.9987, 4453,     10.3,  28.2115,  35.9386,2,  35.9385,2,    200.3,2,    200.4,2,     0.72,2,     0.00,2,     0.02,2,     0.03,2,  28.2091