BOTTLE,20120514PRINUNIVRMK
EXPOCODE,SECT_ID,STNNBR,CASTNO,SAMPNO,BTLNBR,BTLNBR_FLAG_W,DATE,TIME,LATITUDE,LONGITUDE,DEPTH,CTDPRS,CTDTMP,CTDSAL,CTDSAL_FLAG_W,SALNTY,SALNTY_FLAG_W,CTDOXY,CTDOXY_FLAG_W,OXYGEN,OXYGEN_FLAG_W,SILCAT,SILCAT_FLAG_W,NITRAT,NITRAT_FLAG_W,NITRIT,NITRIT_FLAG_W,PHSPHT,PHSPHT_FLAG_W,THETA
,,,,,,,,,,,METERS,DBAR,ITS-90,PSS-78,,PSS-78,,UMOL/KG,,UMOL/KG,,UMOL/KG,,UMOL/KG,,UMOL/KG,,UMOL/KG,,DEG C
  35A320080223,  A16C,    26, 26,  26001,      1,2,20080307,   0,  2.9956, -23.0011, 4457,   1314.0,   4.4718,  34.9140,2,  34.9132,2,    203.7,2,   -999.0,9,  -999.00,9,  -999.00,9,  -999.00,9,  -999.00,9,   4.3637
  35A320080223,  A16C,    26, 26,  26002,      2,2,20080307,   0,  2.9956, -23.0011, 4457,   1207.3,   4.5985,  34.8709,2,  34.8719,2,    187.6,2,    187.3,6,  -999.00,9,  -999.00,9,  -999.00,9,  -999.00,9,   4.4990
  35A320080223,  A16C,    26, 26,  26003,      3,2,20080307,   0,  2.9956, -23.0011, 4457,   1055.3,   4.6548,  34.7417,2,-999.0000,9,    162.1,2,   -999.0,9,  -999.00,9,  -999.00,9,  -999.00,9,  -999.00,9,   4.5688
  35A320080223,  A16C,    26, 26,  26004,      4,2,20080307,   0,  2.9956, -23.0011, 4457,    903.9,   4.8488,  34.6361,2,  34.6483,2,    146.6,2,    147.8,2,  -999.00,9,  -999.00,9,  -999.00,9,  -999.00,9,   4.7749
  35A320080223,  A16C,    26, 26,  26005,      5,2,20080307,   0,  2.9956, -23.0011, 4457,    803.0,   5.1782,  34.5808,2,-999.0000,9,    134.0,2,   -999.0,9,  -999.00,9,  -999.00,9,  -999.00,9,  -999.00,9,   5.1112
  35A320080223,  A16C,    26, 26,  26006,      6,2,20080307,   0,  2.9956, -23.0011, 4457,    701.3,   5.7159,  34.5704,2,  34.5717,2,    123.0,2,    123.5,2,  -999.00,9,  -999.00,9,  -999.00,9,  -999.00,9,   5.6551
  35A320080223,  A16C,    26, 26,  26007,      7,2,20080307,   0,  2.9956, -23.0011, 4457,    600.9,   6.2032,  34.5848,2,-999.0000,9,    120.5,2,   -999.0,9,  -999.00,9,  -999.00,9,  -999.00,9,  -999.00,9,   6.1493
  35A320080223,  A16C,    26, 26,  26008,      8,2,20080307,   0,  2.9956, -23.0011, 4457,    551.6,   6.5939,  34.6163,2,  34.6094,2,    115.6,2,    117.2,2,  -999.00,9,  -999.00,9,  -999.00,9,  -999.00,9,   6.5429
  35A320080223,  A16C,    26, 26,  26009,      9,2,20080307,   0,  2.9956, -23.0011, 4457,    499.5,   7.1172,  34.6532,2,-999.0000,9,    113.6,2,   -999.0,9,  -999.00,9,  -999.00,9,  -999.00,9,  -999.00,9,   7.0692
  35A320080223,  A16C,    26, 26,  26010,     10,2,20080307,   0,  2.9956, -23.0011, 4457,    399.1,   8.7553,  34.8130,2,-999.0000,9,     98.2,2,     99.3,2,  -999.00,9,  -999.00,9,  -999.00,9,  -999.00,9,   8.7122
  35A320080223,  A16C,    26, 26,  26011,     11,2,20080307,   0,  2.9956, -23.0011, 4457,    298.8,  11.4520,  35.1184,2,  35.1308,2,     65.1,2,   -999.0,9,  -999.00,9,  -999.00,9,  -999.00,9,  -999.00,9,  11.4140
  35A320080223,  A16C,    26, 26,  26012,     12,2,20080307,   0,  2.9956, -23.0011, 4457,    247.9,  12.8339,  35.2696,2,-999.0000,9,     93.6,2,     94.2,6,  -999.00,9,  -999.00,9,  -999.00,9,  -999.00,9,  12.7999
  35A320080223,  A16C,    26, 26,  26013,     13,2,20080307,   0,  2.9956, -23.0011, 4457,    197.5,  13.7076,  35.3856,2,  35.3753,2,    109.5,2,   -999.0,9,  -999.00,9,  -999.00,9,  -999.00,9,  -999.00,9,  13.6794
  35A320080223,  A16C,    26, 26,  26014,     14,2,20080307,   0,  2.9956, -23.0011, 4457,    100.9,  15.5735,  35.5905,2,-999.0000,9,     86.6,2,     86.4,2,  -999.00,9,  -999.00,9,  -999.00,9,  -999.00,9,  15.5578
  35A320080223,  A16C,    26, 26,  26015,     15,2,20080307,   0,  2.9956, -23.0011, 4457,     18.1,  28.3313,  35.3082,2,  35.3103,2,    202.0,2,   -999.0,9,  -999.00,9,  -999.00,9,  -999.00,9,  -999.00,9,  28.3270
  35A320080223,  A16C,    26, 26,  26016,     16,2,20080307,   0,  2.9956, -23.0011, 4457,      8.9,  28.4220,  35.1347,2,-999.0000,9,    202.0,2,    202.0,2,  -999.00,9,  -999.00,9,  -999.00,9,  -999.00,9,  28.4199
  35A320080223,  A16C,    27, 27,  27001,      1,2,20080308,   0,  3.3334, -23.0000, 4293,   1305.6,   4.5391,  34.9088,2,  34.9101,2,    199.1,2,    198.7,6,    20.49,6,    24.63,6,     0.00,6,     1.70,6,   4.4311
  35A320080223,  A16C,    27, 27,  27002,      2,2,20080308,   0,  3.3334, -23.0000, 4293,   1197.4,   4.6235,  34.8447,2,-999.0000,9,    179.0,2,    178.0,2,    23.95,2,    28.12,2,     0.00,2,     1.89,2,   4.5248
  35A320080223,  A16C,    27, 27,  27003,      3,2,20080308,   0,  3.3334, -23.0000, 4293,   1097.2,   4.6578,  34.7718,2,-999.0000,9,    166.3,2,    166.1,2,    26.66,2,    30.62,2,     0.01,2,     2.03,2,   4.5680
  35A320080223,  A16C,    27, 27,  27004,      4,2,20080308,   0,  3.3334, -23.0000, 4293,    996.6,   4.7413,  34.7027,2,-999.0000,9,    154.2,2,    153.9,2,    28.16,2,    32.76,2,     0.02,2,     2.18,2,   4.6599
  35A320080223,  A16C,    27, 27,  27005,      5,2,20080308,   0,  3.3334, -23.0000, 4293,    896.2,   4.8563,  34.6281,2,-999.0000,9,    144.5,2,    144.5,2,    28.69,2,    34.43,2,     0.01,2,     2.29,2,   4.7831
  35A320080223,  A16C,    27, 27,  27006,      6,2,20080308,   0,  3.3334, -23.0000, 4293,    796.4,   5.3009,  34.5896,2,  34.5904,2,    130.2,2,    129.4,2,    26.76,2,    35.91,2,     0.01,2,     2.39,2,   5.2338
  35A320080223,  A16C,    27, 27,  27007,      7,2,20080308,   0,  3.3334, -23.0000, 4293,    745.8,   5.5044,  34.5644,2,-999.0000,9,    128.6,2,    128.4,2,    25.62,2,    36.01,2,     0.01,2,     2.38,2,   5.4407
  35A320080223,  A16C,    27, 27,  27008,      8,2,20080308,   0,  3.3334, -23.0000, 4293,    697.0,   5.7354,  34.5673,2,-999.0000,9,    125.3,2,   -999.0,9,  -999.00,9,  -999.00,9,  -999.00,9,  -999.00,9,   5.6749
  35A320080223,  A16C,    27, 27,  27009,      9,2,20080308,   0,  3.3334, -23.0000, 4293,    596.1,   6.4993,  34.6122,2,-999.0000,9,    114.4,2,    114.0,2,    21.69,2,    35.45,2,     0.00,2,     2.32,2,   6.4444
  35A320080223,  A16C,    27, 27,  27010,     10,2,20080308,   0,  3.3334, -23.0000, 4293,    496.2,   7.3120,  34.6749,2,  34.6633,2,    106.4,2,    107.1,6,    19.94,6,    35.20,6,     0.00,6,     2.22,6,   7.2636
  35A320080223,  A16C,    27, 27,  27011,     11,2,20080308,   0,  3.3334, -23.0000, 4293,    397.1,   8.7197,  34.8065,2,-999.0000,9,     98.8,2,    100.0,2,    15.95,2,    32.46,2,     0.02,2,     2.04,2,   8.6770
  35A320080223,  A16C,    27, 27,  27012,     12,2,20080308,   0,  3.3334, -23.0000, 4293,    296.5,  11.0154,  35.0762,2,-999.0000,9,     65.5,2,     67.4,2,    12.38,2,    31.64,2,     0.03,2,     1.93,2,  10.9786
  35A320080223,  A16C,    27, 27,  27013,     13,2,20080308,   0,  3.3334, -23.0000, 4293,    196.7,  13.6036,  35.3634,2,  35.3505,2,    111.5,2,    111.7,2,     6.88,2,    21.40,2,     0.03,2,     1.41,2,  13.5756
  35A320080223,  A16C,    27, 27,  27014,     14,2,20080308,   0,  3.3334, -23.0000, 4293,    156.1,  14.3922,  35.4663,2,-999.0000,9,    103.3,2,    105.6,2,     5.97,2,    20.90,2,     0.03,2,     1.38,2,  14.3691
  35A320080223,  A16C,    27, 27,  27015,     15,2,20080308,   0,  3.3334, -23.0000, 4293,     97.0,  15.7820,  35.6015,2,-999.0000,9,     93.1,2,     92.9,2,     4.85,2,    20.33,2,     0.04,2,     1.30,2,  15.7668
  35A320080223,  A16C,    27, 27,  27016,     16,2,20080308,   0,  3.3334, -23.0000, 4293,      8.2,  28.4488,  35.3474,2,  35.3663,2,    199.8,2,    200.2,2,     0.31,2,     0.00,2,     0.01,2,     0.00,2,  28.4468
  35A320080223,  A16C,    28, 28,  28001,      1,2,20080308,   0,  3.6678, -23.0022, 4165,   1301.5,   4.5262,  34.9006,2,-999.0000,9,    194.0,2,    192.9,2,  -999.00,9,  -999.00,9,  -999.00,9,  -999.00,9,   4.4188
  35A320080223,  A16C,    28, 28,  28002,      2,2,20080308,   0,  3.6678, -23.0022, 4165,   1196.8,   4.6178,  34.8467,2,-999.0000,9,    179.0,2,   -999.0,9,  -999.00,9,  -999.00,9,  -999.00,9,  -999.00,9,   4.5192
  35A320080223,  A16C,    28, 28,  28003,      3,2,20080308,   0,  3.6678, -23.0022, 4165,   1098.3,   4.6671,  34.7924,2,-999.0000,9,    168.9,2,    172.5,2,  -999.00,9,  -999.00,9,  -999.00,9,  -999.00,9,   4.5771
  35A320080223,  A16C,    28, 28,  28004,      4,2,20080308,   0,  3.6678, -23.0022, 4165,    998.4,   4.7584,  34.7139,2,-999.0000,9,    155.0,2,   -999.0,9,  -999.00,9,  -999.00,9,  -999.00,9,  -999.00,9,   4.6767
  35A320080223,  A16C,    28, 28,  28005,      5,2,20080308,   0,  3.6678, -23.0022, 4165,    898.5,   4.8908,  34.6278,2,-999.0000,9,    143.8,2,    145.4,2,  -999.00,9,  -999.00,9,  -999.00,9,  -999.00,9,   4.8172
  35A320080223,  A16C,    28, 28,  28006,      6,2,20080308,   0,  3.6678, -23.0022, 4165,    798.5,   5.3401,  34.5847,2,  34.5771,2,    131.2,2,   -999.0,9,  -999.00,9,  -999.00,9,  -999.00,9,  -999.00,9,   5.2726
  35A320080223,  A16C,    28, 28,  28007,      7,2,20080308,   0,  3.6678, -23.0022, 4165,    748.2,   5.6103,  34.5817,2,-999.0000,9,    126.4,2,    126.9,2,  -999.00,9,  -999.00,9,  -999.00,9,  -999.00,9,   5.5457
  35A320080223,  A16C,    28, 28,  28008,      8,2,20080308,   0,  3.6678, -23.0022, 4165,    698.2,   5.7461,  34.5663,2,  34.5697,2,    125.1,2,   -999.0,9,  -999.00,9,  -999.00,9,  -999.00,9,  -999.00,9,   5.6854
  35A320080223,  A16C,    28, 28,  28009,      9,2,20080308,   0,  3.6678, -23.0022, 4165,    598.2,   6.4182,  34.6074,2,-999.0000,9,    116.5,2,    118.6,6,  -999.00,9,  -999.00,9,  -999.00,9,  -999.00,9,   6.3635
  35A320080223,  A16C,    28, 28,  28010,     10,2,20080308,   0,  3.6678, -23.0022, 4165,    497.4,   7.1366,  34.6531,2,-999.0000,9,    115.7,2,   -999.0,9,  -999.00,9,  -999.00,9,  -999.00,9,  -999.00,9,   7.0887
  35A320080223,  A16C,    28, 28,  28011,     11,2,20080308,   0,  3.6678, -23.0022, 4165,    399.0,   8.5858,  34.8017,2,  34.7933,2,     93.0,2,     93.3,2,  -999.00,9,  -999.00,9,  -999.00,9,  -999.00,9,   8.5433
  35A320080223,  A16C,    28, 28,  28012,     12,2,20080308,   0,  3.6678, -23.0022, 4165,    298.1,  10.8835,  35.0574,2,-999.0000,9,     66.2,2,   -999.0,9,  -999.00,9,  -999.00,9,  -999.00,9,  -999.00,9,  10.8468
  35A320080223,  A16C,    28, 28,  28013,     13,2,20080308,   0,  3.6678, -23.0022, 4165,    198.3,  13.6077,  35.3646,2,-999.0000,9,    114.3,2,    115.3,2,  -999.00,9,  -999.00,9,  -999.00,9,  -999.00,9,  13.5795
  35A320080223,  A16C,    28, 28,  28014,     14,2,20080308,   0,  3.6678, -23.0022, 4165,    148.1,  14.4713,  35.4744,2,-999.0000,9,    103.9,2,   -999.0,9,  -999.00,9,  -999.00,9,  -999.00,9,  -999.00,9,  14.4494
  35A320080223,  A16C,    28, 28,  28015,     15,2,20080308,   0,  3.6678, -23.0022, 4165,     97.9,  15.6703,  35.6110,2,-999.0000,9,     90.1,2,     90.2,6,  -999.00,9,  -999.00,9,  -999.00,9,  -999.00,9,  15.6550
  35A320080223,  A16C,    28, 28,  28016,     16,2,20080308,   0,  3.6678, -23.0022, 4165,      7.9,  28.3079,  35.2580,2,  35.3088,3,    201.8,2,   -999.0,9,  -999.00,9,  -999.00,9,  -999.00,9,  -999.00,9,  28.3060
  35A320080223,  A16C,    29, 29,  29001,      1,2,20080308,   0,  4.0024, -23.0011, 4150,   1300.5,   4.4414,  34.9221,2,  34.9224,2,    201.9,2,    201.0,2,    19.68,2,    24.87,2,     0.04,2,     1.68,2,   4.3348
  35A320080223,  A16C,    29, 29,  29002,      2,2,20080308,   0,  4.0024, -23.0011, 4150,   1197.1,   4.6234,  34.8447,2,-999.0000,9,    178.1,2,    177.0,2,    23.09,2,    28.21,2,     0.04,2,     1.92,2,   4.5247
  35A320080223,  A16C,    29, 29,  29003,      3,2,20080308,   0,  4.0024, -23.0011, 4150,   1099.3,   4.6997,  34.7776,2,-999.0000,9,    164.6,2,   -999.0,9,  -999.00,9,  -999.00,9,  -999.00,9,  -999.00,9,   4.6093
  35A320080223,  A16C,    29, 29,  29004,      4,2,20080308,   0,  4.0024, -23.0011, 4150,    997.6,   4.7639,  34.6912,2,  34.6926,2,    152.9,2,    152.2,6,    27.71,6,    33.09,6,     0.02,6,     2.21,6,   4.6823
  35A320080223,  A16C,    29, 29,  29005,      5,2,20080308,   0,  4.0024, -23.0011, 4150,    899.4,   4.9492,  34.6397,2,-999.0000,9,    143.2,2,    143.5,2,    28.70,2,    34.69,2,     0.04,2,     2.29,2,   4.8751
  35A320080223,  A16C,    29, 29,  29006,      6,2,20080308,   0,  4.0024, -23.0011, 4150,    800.1,   5.3610,  34.5781,2,-999.0000,9,    131.6,2,    130.9,2,    27.21,2,    36.17,2,     0.03,2,     2.38,2,   5.2932
  35A320080223,  A16C,    29, 29,  29007,      7,2,20080308,   0,  4.0024, -23.0011, 4150,    751.0,   5.6176,  34.5760,2,-999.0000,9,    128.5,2,    128.0,2,    25.37,2,    35.93,2,     0.03,2,     2.37,2,   5.5527
  35A320080223,  A16C,    29, 29,  29008,      8,2,20080308,   0,  4.0024, -23.0011, 4150,    700.7,   5.9205,  34.5826,2,  34.5856,2,    123.2,2,    122.8,2,    23.69,2,    35.94,2,     0.03,2,     2.37,2,   5.8586
  35A320080223,  A16C,    29, 29,  29009,      9,2,20080308,   0,  4.0024, -23.0011, 4150,    649.4,   6.0783,  34.5732,2,-999.0000,9,    126.0,2,    125.5,2,    22.65,2,    34.84,2,     0.01,2,     2.32,2,   6.0204
  35A320080223,  A16C,    29, 29,  29010,     10,2,20080308,   0,  4.0024, -23.0011, 4150,    498.7,   7.2822,  34.6759,2,-999.0000,9,    107.0,2,    106.4,2,    19.07,2,    34.45,2,     0.01,2,     2.23,2,   7.2337
  35A320080223,  A16C,    29, 29,  29011,     11,2,20080308,   0,  4.0024, -23.0011, 4150,    400.0,   8.5742,  34.8127,2,-999.0000,9,     88.1,2,     87.4,6,    16.34,6,    34.47,6,     0.02,6,     2.12,6,   8.5316
  35A320080223,  A16C,    29, 29,  29012,     12,2,20080308,   0,  4.0024, -23.0011, 4150,    299.0,  10.6248,  35.0296,2,-999.0000,9,     68.8,2,     68.8,2,    12.37,2,    32.10,2,     0.03,2,     1.95,2,  10.5886
  35A320080223,  A16C,    29, 29,  29013,     13,2,20080308,   0,  4.0024, -23.0011, 4150,    200.3,  13.5071,  35.3496,2,  35.3491,2,    114.7,2,    114.6,2,     6.51,2,    20.78,2,     0.04,2,     1.39,2,  13.4787
  35A320080223,  A16C,    29, 29,  29014,     14,2,20080308,   0,  4.0024, -23.0011, 4150,    149.0,  14.3526,  35.4561,2,-999.0000,9,    102.7,2,    102.7,2,     5.77,2,    20.89,2,     0.03,2,     1.39,2,  14.3306
  35A320080223,  A16C,    29, 29,  29015,     15,2,20080308,   0,  4.0024, -23.0011, 4150,    101.7,  15.8214,  35.6134,2,-999.0000,9,     87.2,2,     85.6,2,     4.64,2,    20.77,2,     0.04,2,     1.35,2,  15.8054
  35A320080223,  A16C,    29, 29,  29016,     16,2,20080308,   0,  4.0024, -23.0011, 4150,      9.6,  28.3276,  35.3260,2,  35.3287,2,    201.2,2,    201.2,2,     0.24,2,     0.00,2,     0.00,2,     0.00,2,  28.3253
  35A320080223,  A16C,    30, 30,  30001,      1,2,20080308,   0,  4.3328, -23.0001, 4150,   1300.5,   4.4733,  34.9073,2,-999.0000,9,    196.4,2,   -999.0,9,  -999.00,9,  -999.00,9,  -999.00,9,  -999.00,9,   4.3664
  35A320080223,  A16C,    30, 30,  30002,      2,2,20080308,   0,  4.3328, -23.0001, 4150,   1200.5,   4.6044,  34.8447,2,-999.0000,9,    176.9,2,    171.7,2,  -999.00,9,  -999.00,9,  -999.00,9,  -999.00,9,   4.5056
  35A320080223,  A16C,    30, 30,  30003,      3,2,20080308,   0,  4.3328, -23.0001, 4150,   1099.5,   4.7094,  34.7755,2,  34.7754,2,    164.3,2,   -999.0,9,  -999.00,9,  -999.00,9,  -999.00,9,  -999.00,9,   4.6189
  35A320080223,  A16C,    30, 30,  30004,      4,2,20080308,   0,  4.3328, -23.0001, 4150,    998.8,   4.7604,  34.6961,2,-999.0000,9,    153.4,2,    151.5,2,  -999.00,9,  -999.00,9,  -999.00,9,  -999.00,9,   4.6787
  35A320080223,  A16C,    30, 30,  30005,      5,2,20080308,   0,  4.3328, -23.0001, 4150,    899.1,   4.9294,  34.6283,2,-999.0000,9,    141.6,2,   -999.0,9,  -999.00,9,  -999.00,9,  -999.00,9,  -999.00,9,   4.8554
  35A320080223,  A16C,    30, 30,  30006,      6,2,20080308,   0,  4.3328, -23.0001, 4150,    798.2,   5.4249,  34.6066,2,-999.0000,9,    123.4,2,    121.8,6,  -999.00,9,  -999.00,9,  -999.00,9,  -999.00,9,   5.3568
  35A320080223,  A16C,    30, 30,  30007,      7,2,20080308,   0,  4.3328, -23.0001, 4150,    748.9,   5.7288,  34.6135,2,  34.6168,2,    115.1,2,   -999.0,9,  -999.00,9,  -999.00,9,  -999.00,9,  -999.00,9,   5.6635
  35A320080223,  A16C,    30, 30,  30008,      8,2,20080308,   0,  4.3328, -23.0001, 4150,    699.2,   6.0116,  34.6196,2,-999.0000,9,    113.4,2,    112.8,2,  -999.00,9,  -999.00,9,  -999.00,9,  -999.00,9,   5.9493
  35A320080223,  A16C,    30, 30,  30009,      9,2,20080308,   0,  4.3328, -23.0001, 4150,    650.2,   6.4697,  34.6384,2,-999.0000,9,    111.0,2,   -999.0,9,  -999.00,9,  -999.00,9,  -999.00,9,  -999.00,9,   6.4097
  35A320080223,  A16C,    30, 30,  30010,     10,2,20080308,   0,  4.3328, -23.0001, 4150,    500.1,   7.7236,  34.7216,2,  34.7223,2,    101.9,2,    101.8,2,  -999.00,9,  -999.00,9,  -999.00,9,  -999.00,9,   7.6732
  35A320080223,  A16C,    30, 30,  30011,     11,2,20080308,   0,  4.3328, -23.0001, 4150,    398.5,   8.8573,  34.8296,2,-999.0000,9,     89.3,2,   -999.0,9,  -999.00,9,  -999.00,9,  -999.00,9,  -999.00,9,   8.8140
  35A320080223,  A16C,    30, 30,  30012,     12,2,20080308,   0,  4.3328, -23.0001, 4150,    299.2,  11.4531,  35.1091,2,-999.0000,9,     86.1,2,     85.2,6,  -999.00,9,  -999.00,9,  -999.00,9,  -999.00,9,  11.4150
  35A320080223,  A16C,    30, 30,  30013,     13,2,20080308,   0,  4.3328, -23.0001, 4150,    198.8,  13.4744,  35.3441,2,  35.3436,2,    114.0,2,   -999.0,9,  -999.00,9,  -999.00,9,  -999.00,9,  -999.00,9,  13.4463
  35A320080223,  A16C,    30, 30,  30014,     14,2,20080308,   0,  4.3328, -23.0001, 4150,    148.8,  14.3857,  35.4617,2,-999.0000,9,    106.6,2,    106.1,2,  -999.00,9,  -999.00,9,  -999.00,9,  -999.00,9,  14.3637
  35A320080223,  A16C,    30, 30,  30015,     15,2,20080308,   0,  4.3328, -23.0001, 4150,    100.6,  15.3007,  35.5624,2,-999.0000,9,     94.3,2,   -999.0,9,  -999.00,9,  -999.00,9,  -999.00,9,  -999.00,9,  15.2852
  35A320080223,  A16C,    30, 30,  30016,     16,2,20080308,   0,  4.3328, -23.0001, 4150,      9.0,  28.3108,  35.1523,2,  35.1513,2,    200.7,2,    202.0,2,  -999.00,9,  -999.00,9,  -999.00,9,  -999.00,9,  28.3087