BOTTLE,20120514PRINUNIVRMK
EXPOCODE,SECT_ID,STNNBR,CASTNO,SAMPNO,BTLNBR,BTLNBR_FLAG_W,DATE,TIME,LATITUDE,LONGITUDE,DEPTH,CTDPRS,CTDTMP,CTDSAL,CTDSAL_FLAG_W,SALNTY,SALNTY_FLAG_W,CTDOXY,CTDOXY_FLAG_W,OXYGEN,OXYGEN_FLAG_W,SILCAT,SILCAT_FLAG_W,NITRAT,NITRAT_FLAG_W,NITRIT,NITRIT_FLAG_W,PHSPHT,PHSPHT_FLAG_W,THETA
,,,,,,,,,,,METERS,DBAR,ITS-90,PSS-78,,PSS-78,,UMOL/KG,,UMOL/KG,,UMOL/KG,,UMOL/KG,,UMOL/KG,,UMOL/KG,,DEG C
  35A320080223,  A16C,    31, 31,  31001,      1,2,20080308,   0,  4.6647, -23.0006, 4152,   1302.4,   4.4167,  34.9096,2,-999.0000,9,    197.2,2,    197.0,2,    22.10,2,    25.24,2,     0.02,2,     1.73,2,   4.3102
  35A320080223,  A16C,    31, 31,  31002,      2,2,20080308,   0,  4.6647, -23.0006, 4152,   1302.4,   4.4164,  34.9096,2,-999.0000,9,    197.3,2,    196.9,2,    21.34,2,    25.19,2,     0.02,2,     1.73,2,   4.3099
  35A320080223,  A16C,    31, 31,  31003,      3,2,20080308,   0,  4.6647, -23.0006, 4152,   1302.3,   4.4162,  34.9097,2,  34.9100,2,    197.4,2,    196.3,2,    21.54,2,    24.91,2,     0.02,2,     1.74,2,   4.3097
  35A320080223,  A16C,    31, 31,  31004,      4,2,20080308,   0,  4.6647, -23.0006, 4152,   1097.5,   4.7408,  34.7882,2,-999.0000,9,    161.1,2,    160.2,2,    25.22,2,    29.87,2,     0.00,2,     2.06,2,   4.6502
  35A320080223,  A16C,    31, 31,  31005,      5,2,20080308,   0,  4.6647, -23.0006, 4152,    997.4,   4.7448,  34.7097,2,-999.0000,9,    154.9,2,    155.6,6,    27.74,6,    31.98,6,     0.00,6,     2.14,6,   4.6633
  35A320080223,  A16C,    31, 31,  31006,      6,2,20080308,   0,  4.6647, -23.0006, 4152,    897.6,   4.8305,  34.6480,2,-999.0000,9,    145.9,2,    146.0,2,    29.65,2,    34.01,2,     0.02,2,     2.27,2,   4.7573
  35A320080223,  A16C,    31, 31,  31007,      7,2,20080308,   0,  4.6647, -23.0006, 4152,    797.4,   5.2034,  34.6098,2,  34.6123,2,    130.5,2,    131.4,2,    28.74,2,    35.65,2,     0.02,2,     2.37,2,   5.1367
  35A320080223,  A16C,    31, 31,  31008,      8,2,20080308,   0,  4.6647, -23.0006, 4152,    697.3,   5.9021,  34.6136,2,-999.0000,9,    114.4,2,    114.9,2,    26.05,2,    36.38,2,     0.02,2,     2.40,2,   5.8406
  35A320080223,  A16C,    31, 31,  31009,      9,2,20080308,   0,  4.6647, -23.0006, 4152,    597.7,   6.7750,  34.6588,2,-999.0000,9,    110.2,2,    110.2,2,    21.43,2,    35.61,2,     0.02,2,     2.30,2,   6.7187
  35A320080223,  A16C,    31, 31,  31010,     10,2,20080308,   0,  4.6647, -23.0006, 4152,    496.9,   7.5236,  34.7104,2,-999.0000,9,    102.6,2,   -999.0,9,  -999.00,9,  -999.00,9,  -999.00,9,  -999.00,9,   7.4743
  35A320080223,  A16C,    31, 31,  31011,     11,2,20080308,   0,  4.6647, -23.0006, 4152,    398.4,   9.4750,  34.9795,2,  34.9453,2,     71.2,2,     68.7,2,    14.03,2,    33.65,2,     0.02,2,     2.10,2,   9.4298
  35A320080223,  A16C,    31, 31,  31012,     12,2,20080308,   0,  4.6647, -23.0006, 4152,    297.5,  11.9231,  35.1700,2,-999.0000,9,     97.6,2,     99.5,6,     8.96,6,    24.81,6,     0.01,6,     1.62,6,  11.8842
  35A320080223,  A16C,    31, 31,  31013,     13,2,20080308,   0,  4.6647, -23.0006, 4152,    197.3,  13.6858,  35.3769,2,  35.3719,2,    117.8,2,    119.0,2,     7.04,2,    20.01,2,     0.02,2,     1.32,2,  13.6576
  35A320080223,  A16C,    31, 31,  31014,     14,2,20080308,   0,  4.6647, -23.0006, 4152,     97.5,  16.2243,  35.6296,2,-999.0000,9,     98.3,2,     98.9,2,     5.68,2,    19.17,2,     0.08,2,     1.22,2,  16.2087
  35A320080223,  A16C,    31, 31,  31015,     15,2,20080308,   0,  4.6647, -23.0006, 4152,     37.5,  26.0126,  36.2520,2,-999.0000,9,    202.3,2,    205.9,2,     1.32,2,     0.06,2,     0.04,2,     0.00,2,  26.0042
  35A320080223,  A16C,    31, 31,  31016,     16,2,20080308,   0,  4.6647, -23.0006, 4152,      7.6,  28.4417,  35.1639,2,  35.1638,2,    200.3,2,    202.2,2,     0.69,2,     0.00,2,     0.03,2,     0.01,2,  28.4399
  35A320080223,  A16C,    32, 32,  32001,      1,2,20080308,   0,  5.0213, -22.9907, 3900,   1306.0,   4.4072,  34.9101,2,-999.0000,9,    197.7,2,    197.7,6,  -999.00,9,  -999.00,9,  -999.00,9,  -999.00,9,   4.3005
  35A320080223,  A16C,    32, 32,  32002,      2,2,20080308,   0,  5.0213, -22.9907, 3900,   1208.4,   4.5664,  34.8670,2,-999.0000,9,    181.4,2,   -999.0,9,  -999.00,9,  -999.00,9,  -999.00,9,  -999.00,9,   4.4672
  35A320080223,  A16C,    32, 32,  32003,      3,2,20080308,   0,  5.0213, -22.9907, 3900,   1107.4,   4.7331,  34.8082,2,  34.8102,2,    166.8,2,    167.5,2,  -999.00,9,  -999.00,9,  -999.00,9,  -999.00,9,   4.6417
  35A320080223,  A16C,    32, 32,  32004,      4,2,20080308,   0,  5.0213, -22.9907, 3900,   1005.2,   4.8544,  34.7311,2,-999.0000,9,    150.7,2,   -999.0,9,  -999.00,9,  -999.00,9,  -999.00,9,  -999.00,9,   4.7713
  35A320080223,  A16C,    32, 32,  32005,      5,2,20080308,   0,  5.0213, -22.9907, 3900,    904.6,   4.9224,  34.6598,2,-999.0000,9,    141.4,2,    143.6,2,  -999.00,9,  -999.00,9,  -999.00,9,  -999.00,9,   4.8480
  35A320080223,  A16C,    32, 32,  32006,      6,2,20080308,   0,  5.0213, -22.9907, 3900,    804.0,   5.2409,  34.6130,2,  34.6140,2,    127.0,2,   -999.0,9,  -999.00,9,  -999.00,9,  -999.00,9,  -999.00,9,   5.1734
  35A320080223,  A16C,    32, 32,  32007,      7,2,20080308,   0,  5.0213, -22.9907, 3900,    753.5,   5.5877,  34.6140,2,-999.0000,9,    116.2,2,    118.7,2,  -999.00,9,  -999.00,9,  -999.00,9,  -999.00,9,   5.5227
  35A320080223,  A16C,    32, 32,  32008,      8,2,20080308,   0,  5.0213, -22.9907, 3900,    702.6,   5.9294,  34.6173,2,-999.0000,9,    112.9,2,   -999.0,9,  -999.00,9,  -999.00,9,  -999.00,9,  -999.00,9,   5.8673
  35A320080223,  A16C,    32, 32,  32009,      9,2,20080308,   0,  5.0213, -22.9907, 3900,    651.6,   6.3526,  34.6511,2,  34.6369,2,    103.5,2,    104.2,2,  -999.00,9,  -999.00,9,  -999.00,9,  -999.00,9,   6.2931
  35A320080223,  A16C,    32, 32,  32010,     10,2,20080308,   0,  5.0213, -22.9907, 3900,    500.6,   7.5528,  34.7204,2,-999.0000,9,     99.0,2,   -999.0,9,  -999.00,9,  -999.00,9,  -999.00,9,  -999.00,9,   7.5030
  35A320080223,  A16C,    32, 32,  32011,     11,2,20080308,   0,  5.0213, -22.9907, 3900,    400.5,   9.6390,  34.9766,2,-999.0000,9,     66.0,2,     65.0,2,  -999.00,9,  -999.00,9,  -999.00,9,  -999.00,9,   9.5931
  35A320080223,  A16C,    32, 32,  32012,     12,2,20080308,   0,  5.0213, -22.9907, 3900,    299.7,  11.3825,  35.1095,2,  35.1050,2,     99.1,2,   -999.0,9,  -999.00,9,  -999.00,9,  -999.00,9,  -999.00,9,  11.3445
  35A320080223,  A16C,    32, 32,  32013,     13,2,20080308,   0,  5.0213, -22.9907, 3900,    198.1,  13.3778,  35.3398,2,-999.0000,9,    101.8,2,    101.6,2,  -999.00,9,  -999.00,9,  -999.00,9,  -999.00,9,  13.3499
  35A320080223,  A16C,    32, 32,  32014,     14,2,20080308,   0,  5.0213, -22.9907, 3900,    147.7,  14.2649,  35.4508,2,-999.0000,9,    110.6,2,   -999.0,9,  -999.00,9,  -999.00,9,  -999.00,9,  -999.00,9,  14.2432
  35A320080223,  A16C,    32, 32,  32015,     15,2,20080308,   0,  5.0213, -22.9907, 3900,    101.7,  15.1655,  35.5438,2,  35.5419,2,    104.6,2,    205.2,4,  -999.00,9,  -999.00,9,  -999.00,9,  -999.00,9,  15.1500
  35A320080223,  A16C,    32, 32,  32016,     16,2,20080308,   0,  5.0213, -22.9907, 3900,      7.8,  28.4450,  35.1085,2,  35.4352,4,    199.8,2,   -999.0,9,  -999.00,9,  -999.00,9,  -999.00,9,  -999.00,9,  28.4431
  35A320080223,  A16C,    33, 33,  33001,      1,2,20080309,   0,  5.5012, -23.0002, 3992,   1300.6,   4.5070,  34.8881,2,-999.0000,9,    189.3,2,   -999.0,9,  -999.00,9,  -999.00,9,  -999.00,9,  -999.00,9,   4.3999
  35A320080223,  A16C,    33, 33,  33002,      2,2,20080309,   0,  5.5012, -23.0002, 3992,   1196.4,   4.6598,  34.8405,2,  34.8448,2,    176.6,2,    177.0,2,    23.86,2,    28.42,2,     0.01,2,     1.88,2,   4.5608
  35A320080223,  A16C,    33, 33,  33003,      3,2,20080309,   0,  5.5012, -23.0002, 3992,   1097.0,   4.7500,  34.7772,2,-999.0000,9,    163.0,2,    163.2,6,    26.50,6,    30.92,6,     0.03,6,     2.03,6,   4.6594
  35A320080223,  A16C,    33, 33,  33004,      4,2,20080309,   0,  5.5012, -23.0002, 3992,    996.6,   4.8681,  34.7098,2,-999.0000,9,    148.0,2,    148.6,2,    27.59,2,    33.64,2,     0.03,2,     2.19,2,   4.7858
  35A320080223,  A16C,    33, 33,  33005,      5,2,20080309,   0,  5.5012, -23.0002, 3992,    896.6,   5.0077,  34.6505,2,-999.0000,9,    137.5,2,    138.6,2,    28.03,2,    35.18,2,     0.03,2,     2.30,2,   4.9334
  35A320080223,  A16C,    33, 33,  33006,      6,2,20080309,   0,  5.5012, -23.0002, 3992,    796.5,   5.4002,  34.6212,2,-999.0000,9,    121.0,2,    120.6,2,    26.95,2,    36.50,2,     0.03,2,     2.40,2,   5.3324
  35A320080223,  A16C,    33, 33,  33007,      7,2,20080309,   0,  5.5012, -23.0002, 3992,    748.1,   5.5652,  34.6144,2,  34.6103,2,    117.3,2,    117.7,2,    26.22,2,    36.69,2,     0.02,2,     2.41,2,   5.5009
  35A320080223,  A16C,    33, 33,  33008,      8,2,20080309,   0,  5.5012, -23.0002, 3992,    697.9,   5.9436,  34.6313,2,-999.0000,9,    109.4,2,    111.9,2,    25.38,2,    36.56,2,     0.01,2,     2.39,2,   5.8818
  35A320080223,  A16C,    33, 33,  33009,      9,2,20080309,   0,  5.5012, -23.0002, 3992,    598.1,   6.6550,  34.6700,2,-999.0000,9,     98.3,2,     98.1,2,    22.64,2,    37.21,2,     0.01,2,     2.35,2,   6.5992
  35A320080223,  A16C,    33, 33,  33010,     10,2,20080309,   0,  5.5012, -23.0002, 3992,    496.5,   7.4007,  34.7260,2,-999.0000,9,     92.1,2,     91.2,2,    20.33,2,    36.96,2,     0.03,2,     2.26,2,   7.3519
  35A320080223,  A16C,    33, 33,  33011,     11,2,20080309,   0,  5.5012, -23.0002, 3992,    397.4,   9.0603,  34.9237,2,  34.9225,2,     65.9,2,     64.4,2,    16.50,2,    36.02,2,     0.03,2,     2.17,2,   9.0165
  35A320080223,  A16C,    33, 33,  33012,     12,2,20080309,   0,  5.5012, -23.0002, 3992,    297.4,  11.0749,  35.0813,2,  35.0794,2,     92.0,2,     88.8,2,    11.27,2,    28.45,2,     0.02,2,     1.78,2,  11.0379
  35A320080223,  A16C,    33, 33,  33013,     13,2,20080309,   0,  5.5012, -23.0002, 3992,    196.3,  13.0752,  35.3011,2,-999.0000,9,    109.5,2,    110.4,6,     7.28,6,    22.02,6,     0.02,6,     1.45,6,  13.0480
  35A320080223,  A16C,    33, 33,  33014,     14,2,20080309,   0,  5.5012, -23.0002, 3992,    145.8,  14.0962,  35.4229,2,-999.0000,9,    110.8,2,    111.3,2,     5.67,2,    20.19,2,     0.02,2,     1.35,2,  14.0750
  35A320080223,  A16C,    33, 33,  33015,     15,2,20080309,   0,  5.5012, -23.0002, 3992,     99.9,  15.5623,  35.5864,2,-999.0000,9,    108.4,2,    108.6,2,     4.58,2,    18.52,2,     0.01,2,     1.21,2,  15.5468
  35A320080223,  A16C,    33, 33,  33016,     16,2,20080309,   0,  5.5012, -23.0002, 3992,      8.8,  28.2196,  35.3154,2,  35.3123,2,    199.8,2,    200.7,2,     0.00,2,     0.00,2,     0.00,2,     0.01,2,  28.2175
  35A320080223,  A16C,    34, 34,  34001,      1,2,20080309,   0,  6.0020, -23.0040, 4002,   1303.7,   4.5117,  34.8957,2,  34.8955,2,    190.4,2,   -999.0,9,  -999.00,9,  -999.00,9,  -999.00,9,  -999.00,9,   4.4042
  35A320080223,  A16C,    34, 34,  34002,      2,2,20080309,   0,  6.0020, -23.0040, 4002,   1197.3,   4.6664,  34.8437,2,-999.0000,9,    173.8,2,    173.7,2,  -999.00,9,  -999.00,9,  -999.00,9,  -999.00,9,   4.5673
  35A320080223,  A16C,    34, 34,  34003,      3,2,20080309,   0,  6.0020, -23.0040, 4002,   1098.6,   4.7533,  34.7858,2,-999.0000,9,    161.6,2,   -999.0,9,  -999.00,9,  -999.00,9,  -999.00,9,  -999.00,9,   4.6625
  35A320080223,  A16C,    34, 34,  34004,      4,2,20080309,   0,  6.0020, -23.0040, 4002,    997.7,   4.8687,  34.7019,2,-999.0000,9,    146.9,2,    147.5,2,  -999.00,9,  -999.00,9,  -999.00,9,  -999.00,9,   4.7863
  35A320080223,  A16C,    34, 34,  34005,      5,2,20080309,   0,  6.0020, -23.0040, 4002,    897.6,   5.0992,  34.6439,2,-999.0000,9,    132.8,2,   -999.0,9,  -999.00,9,  -999.00,9,  -999.00,9,  -999.00,9,   5.0242
  35A320080223,  A16C,    34, 34,  34006,      6,2,20080309,   0,  6.0020, -23.0040, 4002,    795.9,   5.4320,  34.6118,2,  34.6120,2,    124.6,2,    124.4,6,  -999.00,9,  -999.00,9,  -999.00,9,  -999.00,9,   5.3641
  35A320080223,  A16C,    34, 34,  34007,      7,2,20080309,   0,  6.0020, -23.0040, 4002,    747.4,   5.6639,  34.6257,2,-999.0000,9,    114.3,2,   -999.0,9,  -999.00,9,  -999.00,9,  -999.00,9,  -999.00,9,   5.5991
  35A320080223,  A16C,    34, 34,  34008,      8,2,20080309,   0,  6.0020, -23.0040, 4002,    697.1,   5.9342,  34.6405,2,-999.0000,9,    107.6,2,    109.8,2,  -999.00,9,  -999.00,9,  -999.00,9,  -999.00,9,   5.8725
  35A320080223,  A16C,    34, 34,  34009,      9,2,20080309,   0,  6.0020, -23.0040, 4002,    597.6,   6.7292,  34.6767,2,-999.0000,9,     97.9,2,   -999.0,9,  -999.00,9,  -999.00,9,  -999.00,9,  -999.00,9,   6.6731
  35A320080223,  A16C,    34, 34,  34010,     10,2,20080309,   0,  6.0020, -23.0040, 4002,    496.9,   7.6906,  34.7620,2,  34.7543,2,     88.3,2,     88.5,2,  -999.00,9,  -999.00,9,  -999.00,9,  -999.00,9,   7.6407
  35A320080223,  A16C,    34, 34,  34011,     11,2,20080309,   0,  6.0020, -23.0040, 4002,    397.7,  10.0734,  35.0687,2,-999.0000,9,     46.2,2,   -999.0,9,  -999.00,9,  -999.00,9,  -999.00,9,  -999.00,9,  10.0265
  35A320080223,  A16C,    34, 34,  34012,     12,2,20080309,   0,  6.0020, -23.0040, 4002,    395.6,  10.1474,  35.0762,2,  35.0623,2,     46.3,2,     45.9,2,  -999.00,9,  -999.00,9,  -999.00,9,  -999.00,9,  10.1006
  35A320080223,  A16C,    34, 34,  34013,     13,2,20080309,   0,  6.0020, -23.0040, 4002,    297.6,  11.5132,  35.1230,2,-999.0000,9,    102.7,2,   -999.0,9,  -999.00,9,  -999.00,9,  -999.00,9,  -999.00,9,  11.4752
  35A320080223,  A16C,    34, 34,  34014,     14,2,20080309,   0,  6.0020, -23.0040, 4002,    198.7,  13.0085,  35.2931,2,-999.0000,9,    118.8,2,    121.3,6,  -999.00,9,  -999.00,9,  -999.00,9,  -999.00,9,  12.9811
  35A320080223,  A16C,    34, 34,  34015,     15,2,20080309,   0,  6.0020, -23.0040, 4002,     97.2,  15.7680,  35.6220,2,-999.0000,9,    124.5,2,   -999.0,9,  -999.00,9,  -999.00,9,  -999.00,9,  -999.00,9,  15.7527
  35A320080223,  A16C,    34, 34,  34016,     16,2,20080309,   0,  6.0020, -23.0040, 4002,      9.4,  27.8874,  35.5295,2,  35.5353,2,    199.8,2,    201.4,2,  -999.00,9,  -999.00,9,  -999.00,9,  -999.00,9,  27.8852
  35A320080223,  A16C,    35, 35,  35001,      1,2,20080309,   0,  6.5049, -23.0007, 4074,   1295.1,   4.5848,  34.8862,2,  34.8855,2,    185.1,2,    184.3,2,    23.65,2,    27.52,2,     0.03,2,     1.82,2,   4.4774
  35A320080223,  A16C,    35, 35,  35002,      2,2,20080309,   0,  6.5049, -23.0007, 4074,   1195.5,   4.7105,  34.8443,2,-999.0000,9,    172.6,2,    172.4,2,    24.93,2,    29.51,2,     0.03,2,     1.94,2,   4.6112
  35A320080223,  A16C,    35, 35,  35003,      3,2,20080309,   0,  6.5049, -23.0007, 4074,   1095.5,   4.8373,  34.7933,2,-999.0000,9,    157.0,2,    156.0,2,    26.16,2,    31.25,2,     0.03,2,     2.09,2,   4.7461
  35A320080223,  A16C,    35, 35,  35004,      4,2,20080309,   0,  6.5049, -23.0007, 4074,    996.0,   4.9659,  34.7356,2,-999.0000,9,    143.5,2,    153.9,3,  -999.00,9,  -999.00,9,  -999.00,9,  -999.00,9,   4.8828
  35A320080223,  A16C,    35, 35,  35005,      5,2,20080309,   0,  6.5049, -23.0007, 4074,    900.2,   5.2325,  34.6755,2,-999.0000,9,    126.6,2,    126.0,2,    27.33,2,    36.00,2,     0.02,2,     2.36,2,   5.1563
  35A320080223,  A16C,    35, 35,  35006,      6,2,20080309,   0,  6.5049, -23.0007, 4074,    846.6,   5.3123,  34.6458,2,-999.0000,9,    123.5,2,    121.4,2,    25.42,3,    35.20,2,     0.03,2,     2.31,2,   5.2405
  35A320080223,  A16C,    35, 35,  35007,      7,2,20080309,   0,  6.5049, -23.0007, 4074,    792.9,   5.3851,  34.6239,2,  34.6255,2,    121.9,2,    121.6,6,    27.71,6,    37.37,6,     0.01,6,     2.40,6,   5.3177
  35A320080223,  A16C,    35, 35,  35008,      8,2,20080309,   0,  6.5049, -23.0007, 4074,    695.5,   6.0573,  34.6707,2,-999.0000,9,     99.1,2,     99.1,2,    26.00,2,    38.44,2,     0.03,2,     2.43,2,   5.9951
  35A320080223,  A16C,    35, 35,  35009,      9,2,20080309,   0,  6.5049, -23.0007, 4074,    647.5,   6.3099,  34.6805,2,-999.0000,9,     93.6,2,     93.3,2,    24.77,2,    38.47,2,     0.03,2,     2.44,2,   6.2509
  35A320080223,  A16C,    35, 35,  35010,     10,2,20080309,   0,  6.5049, -23.0007, 4074,    566.6,   6.8698,  34.7108,2,-999.0000,9,     85.2,2,     84.3,2,    22.56,2,    38.26,2,     0.02,2,     2.41,2,   6.8161
  35A320080223,  A16C,    35, 35,  35011,     11,2,20080309,   0,  6.5049, -23.0007, 4074,    497.9,   7.3532,  34.7243,2,  34.7239,2,     90.4,2,     90.5,2,    20.16,2,    37.01,2,     0.02,2,     2.31,2,   7.3044
  35A320080223,  A16C,    35, 35,  35012,     12,2,20080309,   0,  6.5049, -23.0007, 4074,    392.1,   9.5658,  34.9945,2,  35.0117,2,     53.1,2,     51.8,6,    14.76,6,    35.99,6,     0.02,6,     2.16,6,   9.5211
  35A320080223,  A16C,    35, 35,  35013,     13,2,20080309,   0,  6.5049, -23.0007, 4074,    294.8,  11.3266,  35.1294,2,-999.0000,9,     77.2,2,     77.9,2,    10.65,2,    29.23,2,     0.00,2,     1.80,2,  11.2893
  35A320080223,  A16C,    35, 35,  35014,     14,2,20080309,   0,  6.5049, -23.0007, 4074,    201.3,  12.8080,  35.2664,2,-999.0000,9,    108.5,2,    108.9,2,     8.13,2,    22.53,2,     0.00,2,     1.45,2,  12.7805
  35A320080223,  A16C,    35, 35,  35015,     15,2,20080309,   0,  6.5049, -23.0007, 4074,     99.9,  15.4229,  35.5828,2,-999.0000,9,    115.3,2,    114.9,2,     5.93,2,    18.15,2,     0.05,2,     1.15,2,  15.4075
  35A320080223,  A16C,    35, 35,  35016,     16,2,20080309,   0,  6.5049, -23.0007, 4074,      9.7,  27.5534,  35.7279,2,  35.7298,2,    203.3,2,    204.0,2,     0.86,2,     0.09,2,     0.02,2,     0.00,2,  27.5511