BOTTLE,20120514PRINUNIVRMK
EXPOCODE,SECT_ID,STNNBR,CASTNO,SAMPNO,BTLNBR,BTLNBR_FLAG_W,DATE,TIME,LATITUDE,LONGITUDE,DEPTH,CTDPRS,CTDTMP,CTDSAL,CTDSAL_FLAG_W,SALNTY,SALNTY_FLAG_W,CTDOXY,CTDOXY_FLAG_W,OXYGEN,OXYGEN_FLAG_W,SILCAT,SILCAT_FLAG_W,NITRAT,NITRAT_FLAG_W,NITRIT,NITRIT_FLAG_W,PHSPHT,PHSPHT_FLAG_W,THETA
,,,,,,,,,,,METERS,DBAR,ITS-90,PSS-78,,PSS-78,,UMOL/KG,,UMOL/KG,,UMOL/KG,,UMOL/KG,,UMOL/KG,,UMOL/KG,,DEG C
  35A320080223,  A16C,    11, 11,  11001,      1,2,20080303,   0, -1.3321, -22.9980, 3852,   1314.7,   4.6027,  34.9443,2,  34.9459,2,    212.3,2,    210.9,2,    17.95,2,    22.47,2,     0.02,2,     1.56,2,   4.4932
  35A320080223,  A16C,    11, 11,  11002,      2,2,20080303,   0, -1.3321, -22.9980, 3852,   1156.3,   4.5682,  34.7796,2,-999.0000,9,    177.2,2,    177.5,2,    23.89,2,    28.70,2,     0.02,2,     1.95,2,   4.4738
  35A320080223,  A16C,    11, 11,  11003,      3,2,20080303,   0, -1.3321, -22.9980, 3852,   1004.9,   4.4478,  34.6696,2,-999.0000,9,    167.5,2,    167.5,2,    26.86,2,    31.01,2,     0.00,2,     2.12,2,   4.3680
  35A320080223,  A16C,    11, 11,  11004,      4,2,20080303,   0, -1.3321, -22.9980, 3852,    853.0,   4.7116,  34.5320,2,-999.0000,9,    154.0,2,   -999.0,9,  -999.00,9,  -999.00,9,  -999.00,9,  -999.00,9,   4.6433
  35A320080223,  A16C,    11, 11,  11005,      5,2,20080303,   0, -1.3321, -22.9980, 3852,    699.7,   5.2846,  34.4947,2,  34.5035,2,    152.3,2,    152.6,2,    26.00,2,    34.09,2,     0.01,2,     2.27,2,   5.2263
  35A320080223,  A16C,    11, 11,  11006,      6,2,20080303,   0, -1.3321, -22.9980, 3852,    499.5,   7.4077,  34.6363,2,  34.6043,2,    137.2,2,    141.8,2,    18.31,2,    31.69,2,     0.02,2,     2.05,2,   7.3587
  35A320080223,  A16C,    11, 11,  11007,      7,2,20080303,   0, -1.3321, -22.9980, 3852,    399.5,   8.7945,  34.7826,2,-999.0000,9,    109.2,2,    117.5,2,    14.77,2,    30.18,2,     0.04,2,     1.96,2,   8.7513
  35A320080223,  A16C,    11, 11,  11008,      8,2,20080303,   0, -1.3321, -22.9980, 3852,    296.9,  10.5673,  34.9934,2,-999.0000,9,     80.0,2,     80.0,6,    11.77,6,    30.42,6,     0.05,6,     1.91,6,  10.5314
  35A320080223,  A16C,    11, 11,  11009,      9,2,20080303,   0, -1.3321, -22.9980, 3852,    198.6,  12.9756,  35.2831,2,-999.0000,9,    112.0,2,    113.4,2,     6.74,2,    21.73,2,     0.05,2,     1.47,2,  12.9482
  35A320080223,  A16C,    11, 11,  11010,     10,2,20080303,   0, -1.3321, -22.9980, 3852,    147.6,  13.3875,  35.3322,2,-999.0000,9,    111.4,2,    111.3,2,     5.92,2,    20.56,2,     0.04,2,     1.42,2,  13.3668
  35A320080223,  A16C,    11, 11,  11011,     11,2,20080303,   0, -1.3321, -22.9980, 3852,    100.2,  15.1123,  35.5369,2,-999.0000,9,    101.2,2,    101.1,2,     4.89,2,    19.66,2,     0.06,2,     1.31,2,  15.0970
  35A320080223,  A16C,    11, 11,  11012,     12,2,20080303,   0, -1.3321, -22.9980, 3852,     78.1,  17.3105,  35.7274,2,  35.7276,2,    114.7,2,    115.2,2,     3.99,2,    15.86,2,     0.56,2,     1.07,2,  17.2974
  35A320080223,  A16C,    11, 11,  11013,     13,2,20080303,   0, -1.3321, -22.9980, 3852,     60.2,  23.9410,  36.1465,2,-999.0000,9,    191.8,2,    178.6,3,     2.12,2,     2.21,2,     0.21,2,     0.30,2,  23.9283
  35A320080223,  A16C,    11, 11,  11014,     14,2,20080303,   0, -1.3321, -22.9980, 3852,     38.6,  27.2888,  36.2427,2,-999.0000,9,    203.6,2,    203.2,2,     1.07,2,     0.24,2,     0.08,2,     0.03,2,  27.2798
  35A320080223,  A16C,    11, 11,  11015,     15,2,20080303,   0, -1.3321, -22.9980, 3852,     20.1,  28.0525,  35.8385,2,-999.0000,9,    202.0,2,    202.0,2,     0.82,2,     0.16,2,     0.07,2,     0.01,2,  28.0477
  35A320080223,  A16C,    11, 11,  11016,     16,2,20080303,   0, -1.3321, -22.9980, 3852,     10.0,  28.2157,  35.8098,2,  35.8156,2,    202.1,2,    201.2,6,     0.42,6,     0.08,6,     0.07,6,     0.01,6,  28.2133
  35A320080223,  A16C,    12, 12,  12001,      1,2,20080304,   0, -1.0002, -22.9999, 3852,   1317.7,   4.5507,  34.9469,2,-999.0000,9,    214.6,2,    213.9,2,    18.35,2,    23.08,2,     0.01,2,     1.54,2,   4.4414
  35A320080223,  A16C,    12, 12,  12002,      2,2,20080304,   0, -1.0002, -22.9999, 3852,   1156.1,   4.5527,  34.7726,2,-999.0000,9,    175.5,2,    175.0,2,    26.15,2,    29.14,2,     0.01,2,     1.98,2,   4.4585
  35A320080223,  A16C,    12, 12,  12003,      3,2,20080304,   0, -1.0002, -22.9999, 3852,   1000.9,   4.4832,  34.6414,2,-999.0000,9,    162.9,2,    163.6,2,    30.43,2,    32.22,2,     0.02,2,     2.18,2,   4.4035
  35A320080223,  A16C,    12, 12,  12004,      4,2,20080304,   0, -1.0002, -22.9999, 3852,    845.6,   4.7029,  34.5456,2,-999.0000,9,    152.9,2,    152.5,2,    30.60,2,    34.77,2,     0.03,2,     2.31,2,   4.6353
  35A320080223,  A16C,    12, 12,  12005,      5,2,20080304,   0, -1.0002, -22.9999, 3852,    750.4,   5.0677,  34.5038,2,  34.5141,2,    148.6,2,    149.3,6,    27.96,6,    34.71,6,     0.02,6,     2.32,6,   5.0061
  35A320080223,  A16C,    12, 12,  12006,      6,2,20080304,   0, -1.0002, -22.9999, 3852,    549.7,   6.1305,  34.5168,2,  34.5163,2,    158.6,2,    157.8,2,    20.94,2,    32.05,2,     0.02,2,     2.12,2,   6.0817
  35A320080223,  A16C,    12, 12,  12007,      7,2,20080304,   0, -1.0002, -22.9999, 3852,    303.0,  10.4898,  34.9877,2,  34.9515,2,     80.8,2,     83.4,2,    12.13,2,    31.05,2,     0.00,2,     1.92,2,  10.4534
  35A320080223,  A16C,    12, 12,  12008,      8,2,20080304,   0, -1.0002, -22.9999, 3852,    151.5,  13.4925,  35.3478,2,-999.0000,9,    121.0,2,    120.6,2,     7.20,2,    20.44,2,     0.02,2,     1.35,2,  13.4711
  35A320080223,  A16C,    12, 12,  12009,      9,2,20080304,   0, -1.0002, -22.9999, 3852,     99.2,  15.5649,  35.6478,2,-999.0000,9,    143.2,2,    132.1,3,     5.66,2,    15.96,2,     0.05,2,     1.09,2,  15.5495
  35A320080223,  A16C,    12, 12,  12010,     10,2,20080304,   0, -1.0002, -22.9999, 3852,     80.6,  16.9084,  35.8143,2,-999.0000,9,    137.9,2,    138.7,6,     4.42,6,    13.22,6,     0.09,6,     0.95,6,  16.8951
  35A320080223,  A16C,    12, 12,  12011,     11,2,20080304,   0, -1.0002, -22.9999, 3852,     61.4,  21.7800,  36.2931,2,-999.0000,9,    163.7,2,    162.6,2,     1.81,2,     3.24,2,     0.32,2,     0.45,2,  21.7679
  35A320080223,  A16C,    12, 12,  12012,     12,2,20080304,   0, -1.0002, -22.9999, 3852,     51.0,  26.2958,  36.2602,2,-999.0000,9,    200.1,2,    192.6,2,     0.54,2,     0.33,2,     0.06,2,     0.14,2,  26.2843
  35A320080223,  A16C,    12, 12,  12013,     13,2,20080304,   0, -1.0002, -22.9999, 3852,     41.7,  27.1810,  36.2566,2,-999.0000,9,    203.2,2,    202.7,2,     0.00,2,     0.00,2,     0.01,2,     0.05,2,  27.1714
  35A320080223,  A16C,    12, 12,  12014,     14,2,20080304,   0, -1.0002, -22.9999, 3852,     31.5,  27.5221,  36.0773,2,-999.0000,9,    202.3,2,    203.4,2,     0.21,2,     0.00,2,     0.00,2,     0.02,2,  27.5148
  35A320080223,  A16C,    12, 12,  12015,     15,2,20080304,   0, -1.0002, -22.9999, 3852,     20.9,  27.7833,  35.8688,2,-999.0000,9,    202.2,2,    202.4,2,     0.86,2,     0.19,2,     0.00,2,     0.00,2,  27.7784
  35A320080223,  A16C,    12, 12,  12016,     16,2,20080304,   0, -1.0002, -22.9999, 3852,      9.4,  28.0412,  35.6766,2,  35.6835,2,    202.0,2,    202.4,2,     1.41,2,     0.52,2,     0.03,2,     0.00,2,  28.0390
  35A320080223,  A16C,    13, 13,  13001,      1,2,20080304,   0, -0.7607, -22.9521, 4165,   1306.3,   4.5690,  34.9485,2,  34.9493,2,    214.6,2,    213.4,2,    19.35,2,    23.35,2,     0.01,2,     1.52,2,   4.4606
  35A320080223,  A16C,    13, 13,  13002,      2,2,20080304,   0, -0.7607, -22.9521, 4165,    996.4,   4.4841,  34.6610,2,-999.0000,9,    163.6,2,    163.0,2,    29.02,2,    31.94,2,     0.02,2,     2.10,2,   4.4048
  35A320080223,  A16C,    13, 13,  13003,      3,2,20080304,   0, -0.7607, -22.9521, 4165,    797.1,   4.7539,  34.5337,2,  35.6210,4,    151.4,2,    200.2,4,     1.06,4,     0.16,4,     0.02,3,     0.04,4,   4.6901
  35A320080223,  A16C,    13, 13,  13004,      4,2,20080304,   0, -0.7607, -22.9521, 4165,    597.1,   5.9393,  34.5320,2,-999.0000,9,    142.1,2,    141.6,2,    22.04,2,    33.71,2,     0.01,2,     2.23,2,   5.8870
  35A320080223,  A16C,    13, 13,  13005,      5,2,20080304,   0, -0.7607, -22.9521, 4165,    396.4,   8.6335,  34.7694,2,-999.0000,9,    117.6,2,    123.4,2,    14.89,2,    30.88,2,     0.00,2,     1.97,2,   8.5911
  35A320080223,  A16C,    13, 13,  13006,      6,2,20080304,   0, -0.7607, -22.9521, 4165,    298.0,  10.6709,  35.0126,2,-999.0000,9,     79.8,2,     80.0,2,    11.76,2,    30.56,2,     0.00,2,     1.90,2,  10.6347
  35A320080223,  A16C,    13, 13,  13007,      7,2,20080304,   0, -0.7607, -22.9521, 4165,    197.0,  13.4079,  35.3338,2,-999.0000,9,    124.2,2,    124.1,2,     7.34,2,    19.94,2,     0.00,2,     1.35,2,  13.3802
  35A320080223,  A16C,    13, 13,  13008,      8,2,20080304,   0, -0.7607, -22.9521, 4165,    146.3,  13.7687,  35.3871,2,-999.0000,9,    123.1,2,    124.8,2,     7.14,2,    18.98,2,     0.03,2,     1.27,2,  13.7478
  35A320080223,  A16C,    13, 13,  13009,      9,2,20080304,   0, -0.7607, -22.9521, 4165,    100.1,  15.8990,  35.7106,2,  35.7090,2,    166.9,2,    166.2,2,     4.24,2,    10.87,2,     0.05,2,     0.85,2,  15.8832
  35A320080223,  A16C,    13, 13,  13010,     10,2,20080304,   0, -0.7607, -22.9521, 4165,     78.7,  19.5174,  36.2321,2,-999.0000,9,    171.1,2,    169.4,2,     2.29,2,     6.85,2,     0.11,2,     0.61,2,  19.5030
  35A320080223,  A16C,    13, 13,  13011,     11,2,20080304,   0, -0.7607, -22.9521, 4165,     58.4,  25.0920,  36.3664,2,-999.0000,9,    191.5,2,    182.4,3,     1.01,2,     1.85,2,     0.11,2,     0.30,2,  25.0792
  35A320080223,  A16C,    13, 13,  13012,     12,2,20080304,   0, -0.7607, -22.9521, 4165,     48.3,  27.0557,  36.2670,2,  36.3199,3,    201.9,2,    195.5,6,     1.02,6,     0.52,6,     0.03,6,     0.13,6,  27.0446
  35A320080223,  A16C,    13, 13,  13013,     13,2,20080304,   0, -0.7607, -22.9521, 4165,     37.7,  27.5688,  35.9990,2,-999.0000,9,    201.5,2,    199.9,2,     1.41,2,     0.32,2,     0.03,2,     0.03,2,  27.5600
  35A320080223,  A16C,    13, 13,  13014,     14,2,20080304,   0, -0.7607, -22.9521, 4165,     27.2,  27.8614,  35.7762,2,-999.0000,9,    201.6,2,    201.6,2,     1.18,2,     0.20,2,     0.02,2,     0.01,2,  27.8550
  35A320080223,  A16C,    13, 13,  13015,     15,2,20080304,   0, -0.7607, -22.9521, 4165,     17.7,  27.9962,  35.6755,2,-999.0000,9,    201.6,2,    200.6,2,     1.05,2,     0.11,2,     0.02,2,     0.00,2,  27.9920
  35A320080223,  A16C,    13, 13,  13016,     16,2,20080304,   0, -0.7607, -22.9521, 4165,      9.4,  28.0386,  35.6436,2,  35.6476,2,    201.1,2,    201.0,2,     0.87,2,     0.03,2,     0.03,2,     0.01,2,  28.0364
  35A320080223,  A16C,    14, 14,  14001,      1,2,20080304,   0, -0.5005, -22.9997, 4165,   1312.3,   4.5432,  34.9461,2,  34.9498,2,    214.3,2,    213.4,2,    17.96,2,    23.46,2,     0.02,2,     1.55,2,   4.4345
  35A320080223,  A16C,    14, 14,  14002,      2,2,20080304,   0, -0.5005, -22.9997, 4165,   1004.7,   4.5046,  34.6663,2,-999.0000,9,    163.0,2,    162.5,2,    27.77,2,    32.66,2,     0.02,2,     2.18,2,   4.4244
  35A320080223,  A16C,    14, 14,  14003,      3,2,20080304,   0, -0.5005, -22.9997, 4165,    802.3,   4.7629,  34.5324,2,  34.5358,2,    151.6,2,    151.4,2,    28.58,2,    35.23,2,     0.01,2,     2.34,2,   4.6986
  35A320080223,  A16C,    14, 14,  14004,      4,2,20080304,   0, -0.5005, -22.9997, 4165,    601.5,   6.0226,  34.5376,2,  34.5412,2,    141.3,2,    141.5,2,    22.43,2,    33.81,2,     0.02,2,     2.21,2,   5.9695
  35A320080223,  A16C,    14, 14,  14005,      5,2,20080304,   0, -0.5005, -22.9997, 4165,    400.1,   8.8393,  34.7972,2,-999.0000,9,    108.3,2,    117.8,3,    15.46,2,    31.11,2,     0.03,2,     1.96,2,   8.7959
  35A320080223,  A16C,    14, 14,  14006,      6,2,20080304,   0, -0.5005, -22.9997, 4165,    299.6,  10.7983,  35.0266,2,-999.0000,9,     79.9,2,     80.5,2,    12.34,2,    31.29,2,     0.04,2,     1.91,2,  10.7616
  35A320080223,  A16C,    14, 14,  14007,      7,2,20080304,   0, -0.5005, -22.9997, 4165,    197.6,  13.6180,  35.3657,2,  35.3192,2,    132.9,2,    139.2,2,     6.99,6,    20.47,6,     0.03,6,     1.36,6,  13.5899
  35A320080223,  A16C,    14, 14,  14008,      8,2,20080304,   0, -0.5005, -22.9997, 4165,    146.8,  14.2421,  35.4530,2,-999.0000,9,    133.5,2,    132.2,2,     5.13,2,    17.58,2,     0.03,2,     1.21,2,  14.2206
  35A320080223,  A16C,    14, 14,  14009,      9,2,20080304,   0, -0.5005, -22.9997, 4165,    102.3,  16.8634,  35.8530,2,-999.0000,9,    167.3,2,    168.6,2,     2.76,2,     9.99,2,     0.04,2,     0.78,2,  16.8465
  35A320080223,  A16C,    14, 14,  14010,     10,2,20080304,   0, -0.5005, -22.9997, 4165,     78.2,  21.3586,  36.4914,2,-999.0000,9,    183.9,2,    183.1,2,     1.65,2,     4.08,2,     0.14,2,     0.39,2,  21.3434
  35A320080223,  A16C,    14, 14,  14011,     11,2,20080304,   0, -0.5005, -22.9997, 4165,     58.6,  24.1079,  36.6553,2,-999.0000,9,    194.3,2,    194.3,2,     1.27,2,     0.47,2,     0.03,2,     0.17,2,  24.0954
  35A320080223,  A16C,    14, 14,  14012,     12,2,20080304,   0, -0.5005, -22.9997, 4165,     48.6,  26.4307,  36.3257,2,-999.0000,9,    199.6,2,    200.6,2,     1.09,2,     0.44,2,     0.03,2,     0.07,2,  26.4197
  35A320080223,  A16C,    14, 14,  14013,     13,2,20080304,   0, -0.5005, -22.9997, 4165,     39.2,  27.0018,  36.2786,2,-999.0000,9,    202.9,2,    202.1,2,     0.85,2,     0.34,2,     0.03,2,     0.07,2,  26.9928
  35A320080223,  A16C,    14, 14,  14014,     14,2,20080304,   0, -0.5005, -22.9997, 4165,     29.4,  27.4680,  36.0054,2,-999.0000,9,    202.8,2,    202.7,6,     0.47,6,     0.19,6,     0.02,6,     0.03,6,  27.4612
  35A320080223,  A16C,    14, 14,  14015,     15,2,20080304,   0, -0.5005, -22.9997, 4165,     18.8,  27.8211,  35.7337,2,-999.0000,9,    203.0,2,    203.5,2,     0.00,2,     0.00,2,     0.01,2,     0.03,2,  27.8167
  35A320080223,  A16C,    14, 14,  14016,     16,2,20080304,   0, -0.5005, -22.9997, 4165,     10.1,  28.0678,  35.5730,2,  35.5921,2,    202.4,2,    202.5,2,     0.42,2,     0.08,2,     0.00,2,     0.02,2,  28.0654
  35A320080223,  A16C,    15, 15,  15001,      1,2,20080305,   0, -0.2496, -22.9973, 3669,   1313.8,   4.5496,  34.9458,2,  34.9484,2,    214.4,2,    212.9,2,    18.17,2,    23.12,2,     0.01,2,     1.56,2,   4.4407
  35A320080223,  A16C,    15, 15,  15002,      2,2,20080305,   0, -0.2496, -22.9973, 3669,   1005.3,   4.5150,  34.6416,2,-999.0000,9,    160.7,2,    160.0,2,    28.44,2,    33.03,2,     0.01,2,     2.22,2,   4.4347
  35A320080223,  A16C,    15, 15,  15003,      3,2,20080305,   0, -0.2496, -22.9973, 3669,    796.8,   4.9967,  34.5179,2,-999.0000,9,    148.2,2,    147.2,2,    26.43,2,    35.03,2,     0.01,2,     2.35,2,   4.9315
  35A320080223,  A16C,    15, 15,  15004,      4,2,20080305,   0, -0.2496, -22.9973, 3669,    597.1,   6.3040,  34.5581,2,  34.5588,2,    139.0,2,    139.1,6,    20.98,6,    33.58,6,     0.00,6,     2.20,6,   6.2500
  35A320080223,  A16C,    15, 15,  15005,      5,2,20080305,   0, -0.2496, -22.9973, 3669,    397.2,   8.4268,  34.7399,2,-999.0000,9,    122.0,2,    124.4,2,    15.30,2,    30.29,2,     0.02,2,     1.95,2,   8.3850
  35A320080223,  A16C,    15, 15,  15006,      6,2,20080305,   0, -0.2496, -22.9973, 3669,    297.2,  10.8177,  35.0262,2,  35.0142,2,     81.2,2,     80.9,2,    11.77,2,    30.10,2,     0.03,2,     1.88,2,  10.7813
  35A320080223,  A16C,    15, 15,  15007,      7,2,20080305,   0, -0.2496, -22.9973, 3669,    198.2,  13.7416,  35.3821,2,  35.3715,2,    137.9,2,    138.2,2,     6.05,2,    17.86,2,     0.03,2,     1.23,2,  13.7132
  35A320080223,  A16C,    15, 15,  15008,      8,2,20080305,   0, -0.2496, -22.9973, 3669,    149.6,  14.3595,  35.4721,2,  35.4666,2,    153.4,2,    150.6,6,     4.69,6,    15.21,6,     0.03,6,     1.09,6,  14.3374
  35A320080223,  A16C,    15, 15,  15009,      9,2,20080305,   0, -0.2496, -22.9973, 3669,    101.9,  16.5380,  35.7966,2,-999.0000,9,    167.8,2,    164.4,2,     2.71,2,    10.71,2,     0.04,2,     0.84,2,  16.5214
  35A320080223,  A16C,    15, 15,  15010,     10,2,20080305,   0, -0.2496, -22.9973, 3669,     81.4,  18.8807,  36.1564,2,-999.0000,9,    176.2,2,    175.9,2,     1.99,2,     6.96,2,     0.12,2,     0.59,2,  18.8662
  35A320080223,  A16C,    15, 15,  15011,     11,2,20080305,   0, -0.2496, -22.9973, 3669,     60.4,  22.5193,  36.5847,2,-999.0000,9,    182.0,2,    181.8,2,     1.39,2,     2.86,2,     0.27,2,     0.31,2,  22.5071
  35A320080223,  A16C,    15, 15,  15012,     12,2,20080305,   0, -0.2496, -22.9973, 3669,     48.7,  25.5387,  36.6025,2,-999.0000,9,    198.0,2,    199.0,2,     0.82,2,     0.39,2,     0.05,2,     0.08,2,  25.5279
  35A320080223,  A16C,    15, 15,  15013,     13,2,20080305,   0, -0.2496, -22.9973, 3669,     40.0,  26.6946,  36.3752,2,-999.0000,9,    202.0,2,    202.2,2,     0.53,2,     0.29,2,     0.04,2,     0.04,2,  26.6855
  35A320080223,  A16C,    15, 15,  15014,     14,2,20080305,   0, -0.2496, -22.9973, 3669,     29.9,  27.2555,  36.0873,2,-999.0000,9,    202.2,2,    203.0,2,     0.27,2,     0.20,2,     0.04,2,     0.03,2,  27.2486
  35A320080223,  A16C,    15, 15,  15015,     15,2,20080305,   0, -0.2496, -22.9973, 3669,     19.2,  27.7065,  35.7422,2,-999.0000,9,    202.6,2,    202.5,2,     0.00,2,     0.07,2,     0.04,2,     0.02,2,  27.7020
  35A320080223,  A16C,    15, 15,  15016,     16,2,20080305,   0, -0.2496, -22.9973, 3669,      9.6,  28.1000,  35.4637,2,  35.4957,2,    202.3,2,    202.5,2,     0.05,2,     0.00,2,     0.03,2,     0.01,2,  28.0977