BOTTLE,20220829CCHSIOAMB
EXPOCODE,SECT_ID,STNNBR,CASTNO,SAMPNO,BTLNBR,BTLNBR_FLAG_W,DATE,TIME,LATITUDE,LONGITUDE,DEPTH,CTDPRS,CTDTMP,CTDSAL,CTDSAL_FLAG_W,SALNTY,SALNTY_FLAG_W,CTDOXY,CTDOXY_FLAG_W,OXYGEN,OXYGEN_FLAG_W,SILCAT,SILCAT_FLAG_W,NITRAT,NITRAT_FLAG_W,NITRIT,NITRIT_FLAG_W,PHSPHT,PHSPHT_FLAG_W,CFC-11,CFC-11_FLAG_W,CFC-12,CFC-12_FLAG_W,TCARBN,TCARBN_FLAG_W,ALKALI,ALKALI_FLAG_W,PCO2,PCO2_FLAG_W,TRITUM,TRITUM_FLAG_W,TRITER,HELIUM,HELIUM_FLAG_W,DELHE3,DELHE3_FLAG_W,DELC13,DELC13_FLAG_W,DELC14,DELC14_FLAG_W,C14ERR,NEON,NEON_FLAG_W,NEONER,CTDRAW,THETA,HELIER,DELHER
,,,,,,,,,,,METERS,DBAR,ITS-90,PSS-78,,PSS-78,,UMOL/KG,,UMOL/KG,,UMOL/KG,,UMOL/KG,,UMOL/KG,,UMOL/KG,,PMOL/KG,,PMOL/KG,,UMOL/KG,,UMOL/KG,,UATM,,TU,,TU,NMOL/KG,,PERCNT,,/MILLE,,/MILLE,,/MILLE,NMOL/KG,,NMOL/KG,DBAR,DEG C,NMOL/KG,PERCNT
 316N145_14,       I02E,    1145,          1,         36,     SIH024,2,19951225,       0706,    -7.9972,    75.3333,       5160,    10.8,  28.4214,  34.1028,2,  34.1079,2,    197.8,2,   211.1,2,    3.38,2,    0.06,2,   -0.01,2,    0.11,3,   1.609,2,   0.935,2,  1889.8,2,  2232.9,2,  -999.0,5,   1.022,2,   0.004,   1.7183,2,   -0.89,2, -999.00,9,  -999.0,9,  -999.0,   7.075,2,-999.000,   246.5,  28.4188,-999.0000, -999.00
 316N145_14,       I02E,    1145,          1,         35,     SIH003,2,19951225,       0706,    -7.9972,    75.3333,       5160,    38.1,  25.4467,  35.0814,2,  35.1640,2,    194.2,2,   195.4,2,    5.78,2,    0.65,2,    0.02,2,    0.37,3,   1.609,2,   0.898,2,  2007.5,2,  2313.3,2,  -999.0,5,-999.000,1,-999.000,-999.0000,1, -999.00,9, -999.00,9,  -999.0,9,  -999.0,-999.000,9,-999.000,   513.6,  25.4383,-999.0000, -999.00
 316N145_14,       I02E,    1145,          1,         34,     SIH026,2,19951225,       0706,    -7.9972,    75.3333,       5160,    62.9,  21.5226,  35.1850,2,  35.1809,2,    162.9,2,   158.2,2,    9.21,2,    6.94,2,    0.34,2,    0.64,3,-999.000,5,-999.000,5,  2052.1,2,  2305.7,2,  -999.0,5,   1.058,2,   0.004,   1.7241,2,    1.91,2, -999.00,9,  -999.0,9,  -999.0,   6.690,2,-999.000,   757.8,  21.5104,-999.0000, -999.00
 316N145_14,       I02E,    1145,          1,         33,     SIH027,2,19951225,       0706,    -7.9972,    75.3333,       5160,   103.1,  17.2329,  35.0683,2,  35.0697,2,     91.4,2,    90.4,2,   19.15,2,   18.85,2,    0.03,2,    1.35,3,   1.323,2,   0.709,2,  2138.3,2,  2311.6,2,  -999.0,5,   1.079,2,   0.004,   1.7670,2,    5.33,2, -999.00,9,  -999.0,9,  -999.0,   7.110,2,-999.000,  1156.5,  17.2157,-999.0000, -999.00
 316N145_14,       I02E,    1145,          1,         32,     SIH028,2,19951225,       0706,    -7.9972,    75.3333,       5160,   152.9,  13.8304,  34.9845,2,  34.9799,2,     75.9,2,    75.5,2,   24.81,2,   24.28,2,    0.00,2,    1.72,3,   0.877,2,   0.515,2,  2181.3,2,  2307.8,2,  -999.0,5,   0.674,2,   0.003,   1.7816,2,    6.60,2, -999.00,9,  -999.0,9,  -999.0,   6.500,2,-999.000,  1653.2,  13.8085,-999.0000, -999.00
 316N145_14,       I02E,    1145,          1,         31,     SIH029,2,19951225,       0706,    -7.9972,    75.3333,       5160,   198.0,  12.4899,  34.9576,2,  34.9522,2,     81.2,2,    78.6,2,   26.37,2,   25.59,2,    0.00,2,    1.80,3,   0.693,2,   0.363,2,  2192.3,2,  2309.2,2,  -999.0,5,   0.518,2,   0.003,   1.7839,2,    6.90,2, -999.00,9,  -999.0,9,  -999.0,   7.233,2,-999.000,  2104.5,  12.4634,-999.0000, -999.00
 316N145_14,       I02E,    1145,          1,         30,     SIH030,2,19951225,       0706,    -7.9972,    75.3333,       5160,   248.0,  11.5682,  34.9421,2,  34.9406,2,     84.4,2,    82.2,2,   26.19,2,   26.63,2,    0.00,2,    1.85,3,   0.563,6,   0.294,6,  2198.7,2,  2311.8,2,  -999.0,5,-999.000,1,-999.000,-999.0000,1, -999.00,9, -999.00,9,  -999.0,9,  -999.0,-999.000,9,-999.000,  2604.0,  11.5366,-999.0000, -999.00
 316N145_14,       I02E,    1145,          1,         29,     SIH007,3,19951225,       0706,    -7.9972,    75.3333,       5160,   297.8,  10.7494,  34.9113,2,  34.9093,2,    102.6,2,    97.8,2,   25.51,2,   26.53,2,    0.00,2,    1.83,3,   0.563,2,   0.293,2,  2195.4,2,  2319.4,2,  -999.0,5,   0.303,2,   0.003,   1.8025,2,    4.98,2, -999.00,9,  -999.0,9,  -999.0,   7.222,2,-999.000,  3103.2,  10.7131,-999.0000, -999.00
 316N145_14,       I02E,    1145,          1,         28,     SI9439,2,19951225,       0706,    -7.9972,    75.3333,       5160,   348.3,  10.3370,  34.8850,2,  34.8845,2,    103.4,2,   100.2,2,   26.71,2,   27.27,2,    0.00,2,    1.88,3,   0.512,2,   0.259,2,  2198.2,2,  2311.6,2,  -999.0,5,-999.000,1,-999.000,-999.0000,1, -999.00,9, -999.00,9,  -999.0,9,  -999.0,-999.000,9,-999.000,  3608.2,  10.2955,-999.0000, -999.00
 316N145_14,       I02E,    1145,          1,         27,     SIH033,2,19951225,       0706,    -7.9972,    75.3333,       5160,   398.3,   9.7538,  34.8490,2,  34.8442,2,    103.9,2,   102.8,2,   30.15,2,   28.10,2,    0.00,2,    1.94,3,   0.418,2,   0.212,2,  2203.3,2,  2316.5,2,  -999.0,5,   0.207,2,   0.002,   1.8237,2,    4.90,2, -999.00,9,  -999.0,9,  -999.0,   7.175,2,-999.000,  4108.9,   9.7079,-999.0000, -999.00
 316N145_14,       I02E,    1145,          1,         26,     SIH037,2,19951225,       0706,    -7.9972,    75.3333,       5160,   498.6,   9.0103,  34.8375,2,  34.8365,2,     90.2,2,    85.8,2,   39.92,2,   31.07,2,    0.00,2,    2.20,3,   0.166,2,   0.088,2,  2226.4,2,  2324.8,2,  -999.0,5,   0.104,2,   0.002,   1.8169,2,    5.80,2, -999.00,9,  -999.0,9,  -999.0,   7.541,2,-999.000,  5112.5,   8.9553,-999.0000, -999.00
 316N145_14,       I02E,    1145,          1,         25,     SI9446,2,19951225,       0706,    -7.9972,    75.3333,       5160,   600.0,   8.2413,  34.8253,2,  34.8231,2,     82.4,2,    77.6,2,   51.75,2,   33.00,2,    0.00,2,    2.38,3,   0.086,2,   0.041,2,  2245.8,2,  2336.2,2,  -999.0,5,-999.000,1,-999.000,-999.0000,1, -999.00,9, -999.00,9,  -999.0,9,  -999.0,-999.000,9,-999.000,  6126.8,   8.1781,-999.0000, -999.00
 316N145_14,       I02E,    1145,          1,         24,     SIH036,2,19951225,       0706,    -7.9972,    75.3333,       5160,   699.3,   7.5152,  34.8078,2,  34.8049,2,     75.0,2,    69.9,2,   63.75,2,   34.72,2,    0.00,2,    2.53,3,   0.035,2,   0.018,2,  2265.1,2,  2350.0,2,  -999.0,5,-999.000,1,-999.000,-999.0000,1, -999.00,9, -999.00,9,  -999.0,9,  -999.0,-999.000,9,-999.000,  7120.6,   7.4448,-999.0000, -999.00
 316N145_14,       I02E,    1145,          1,         23,     SIH001,2,19951225,       0706,    -7.9972,    75.3333,       5160,   799.5,   6.9013,  34.7906,2,  34.7880,2,     68.6,2,    68.9,2,   73.35,2,   35.46,2,    0.00,2,    2.60,3,   0.016,2,   0.007,2,  2277.8,2,  -999.0,9,  -999.0,5,-999.000,1,-999.000,   1.8110,2,   10.30,2, -999.00,9,  -999.0,9,  -999.0,   7.678,2,   0.022,  8122.4,   6.8241,   0.0030,    0.20
 316N145_14,       I02E,    1145,          1,         22,     SIH019,2,19951225,       0706,    -7.9972,    75.3333,       5160,   900.1,   6.1846,  34.7561,2,  34.7561,2,     69.9,2,    72.2,2,   84.33,2,   36.13,2,    0.00,2,    2.66,3,   0.009,2,   0.003,2,  2288.8,2,  2363.4,2,  -999.0,5,-999.000,1,-999.000,-999.0000,1, -999.00,9, -999.00,9,  -999.0,9,  -999.0,-999.000,9,-999.000,  9127.9,   6.1019,-999.0000, -999.00
 316N145_14,       I02E,    1145,          1,         21,     SIH013,2,19951225,       0706,    -7.9972,    75.3333,       5160,  1000.1,   5.5007,  34.7319,2,  34.7313,2,     78.5,2,    78.6,2,   93.07,2,   36.24,2,    0.00,2,    2.67,3,   0.008,2,   0.004,2,  2296.2,2,  2394.8,3,  -999.0,5,-999.000,1,-999.000,   1.4180,4,   14.43,4, -999.00,9,  -999.0,9,  -999.0,   5.400,4,   0.014, 10128.7,   5.4132,   0.0060,    0.14
 316N145_14,       I02E,    1145,          1,         20,     SIH004,2,19951225,       0706,    -7.9972,    75.3333,       5160,  1102.3,   4.9492,  34.7246,2,  34.7233,2,     84.1,2,    84.5,2,  100.10,2,   36.52,2,    0.00,2,    2.68,3,   0.007,2,   0.005,2,  2302.5,2,  2381.0,2,  -999.0,5,-999.000,1,-999.000,-999.0000,1, -999.00,9, -999.00,9,  -999.0,9,  -999.0,-999.000,9,-999.000, 11151.8,   4.8566,-999.0000, -999.00
 316N145_14,       I02E,    1145,          1,         19,     SIH005,2,19951225,       0706,    -7.9972,    75.3333,       5160,  1202.3,   4.6641,  34.7375,2,  34.7370,2,     88.5,2,    88.6,2,  102.84,2,   36.56,2,    0.00,2,    2.69,3,   0.004,2,   0.001,2,  2305.3,2,  2389.9,2,  -999.0,5,-999.000,1,-999.000,   1.8620,2,   13.74,2, -999.00,9,  -999.0,9,  -999.0,   7.847,2,   0.020, 12152.4,   4.5648,   0.0060,    0.13
 316N145_14,       I02E,    1145,          1,         18,     SIH006,2,19951225,       0706,    -7.9972,    75.3333,       5160,  1398.3,   4.1830,  34.7632,2,  34.7642,2,    100.4,2,    97.3,2,  105.76,3,   36.26,2,    0.00,2,    2.67,3,   0.001,2,   0.001,2,  2305.4,2,  2381.1,2,  -999.0,5,-999.000,1,-999.000,-999.0000,1, -999.00,9, -999.00,9,  -999.0,9,  -999.0,-999.000,9,-999.000, 14112.8,   4.0705,-999.0000, -999.00
 316N145_14,       I02E,    1145,          1,         17,     SIH038,2,19951225,       0706,    -7.9972,    75.3333,       5160,  1600.7,   3.3386,  34.7521,2,  34.7504,2,    115.5,2,   115.9,2,  112.61,3,   35.68,2,    0.00,2,    2.60,3,-999.000,5,-999.000,5,  2305.6,2,  2392.5,2,  -999.0,5,-999.000,1,-999.000,   1.8720,2,   13.20,2, -999.00,9,  -999.0,9,  -999.0,   7.969,2,   0.020, 16137.0,   3.2177,   0.0060,    0.13
 316N145_14,       I02E,    1145,          1,         16,     SIH008,2,19951225,       0706,    -7.9972,    75.3333,       5160,  1801.9,   2.7937,  34.7533,2,  34.7533,2,    131.2,2,   130.6,2,  116.90,3,   35.07,2,    0.00,2,    2.53,3,   0.006,2,   0.001,2,  2304.5,2,  2398.5,2,  -999.0,5,-999.000,1,-999.000,-999.0000,1, -999.00,9, -999.00,9,  -999.0,9,  -999.0,-999.000,9,-999.000, 18149.3,   2.6623,-999.0000, -999.00
 316N145_14,       I02E,    1145,          1,         15,     SIH009,2,19951225,       0706,    -7.9972,    75.3333,       5160,  1998.6,   2.4209,  34.7507,2,  34.7502,2,    142.0,2,   142.0,2,  121.19,3,   34.65,2,    0.00,2,    2.49,3,-999.000,5,-999.000,5,  2303.7,2,  2412.1,3,  -999.0,5,-999.000,1,-999.000,-999.0000,1, -999.00,9, -999.00,9,  -999.0,9,  -999.0,-999.000,9,-999.000, 20118.2,   2.2778,-999.0000, -999.00
 316N145_14,       I02E,    1145,          1,         14,     SIH010,2,19951225,       0706,    -7.9972,    75.3333,       5160,  2253.1,   2.0874,  34.7410,2,  34.7400,2,    152.9,2,   153.7,2,  123.59,3,   34.19,2,    0.00,2,    2.44,3,-999.000,5,-999.000,5,  2300.2,2,  2403.3,2,  -999.0,5,-999.000,1,-999.000,   1.8850,2,   14.49,2, -999.00,9,  -999.0,9,  -999.0,   8.100,2,   0.020, 22663.4,   1.9274,   0.0060,    0.13
 316N145_14,       I02E,    1145,          1,         13,     SIH011,2,19951225,       0706,    -7.9972,    75.3333,       5160,  2505.1,   1.9352,  34.7366,2,  34.7351,2,    158.6,2,   157.9,2,  126.16,3,   34.03,2,    0.00,2,    2.42,3,-999.000,5,-999.000,5,  2301.1,2,  2415.3,2,  -999.0,5,-999.000,1,-999.000,   1.9040,2,   14.24,2, -999.00,9,  -999.0,9,  -999.0,   8.138,2,   0.021, 25184.9,   1.7553,   0.0060,    0.13
 316N145_14,       I02E,    1145,          1,         12,     SIH012,2,19951225,       0706,    -7.9972,    75.3333,       5160,  2748.5,   1.8165,  34.7337,2,  34.7339,2,    161.9,2,   161.6,2,  127.70,3,   33.92,2,    0.00,2,    2.40,3,-999.000,5,-999.000,5,  2301.2,2,  2409.9,2,  -999.0,5,-999.000,1,-999.000,   1.8990,2,   14.31,2, -999.00,9,  -999.0,9,  -999.0,   8.126,2,   0.021, 27620.0,   1.6164,   0.0060,    0.13
 316N145_14,       I02E,    1145,          1,         11,     SI9426,2,19951225,       0706,    -7.9972,    75.3333,       5160,  3002.2,   1.6908,  34.7297,2,  34.7290,2,    164.3,2,   164.3,2,  130.63,3,   33.93,2,    0.00,2,    2.40,3,   0.005,2,   0.001,2,  2303.1,2,  2420.7,2,  -999.0,5,   0.001,2,   0.002,-999.0000,1, -999.00,9, -999.00,9,  -999.0,9,  -999.0,-999.000,9,-999.000, 30158.0,   1.4693,-999.0000, -999.00
 316N145_14,       I02E,    1145,          1,         10,     SIH014,2,19951225,       0706,    -7.9972,    75.3333,       5160,  3254.4,   1.6038,  34.7270,2,  34.7272,2,    166.0,2,   165.7,2,  133.36,3,   33.93,2,    0.01,2,    2.39,3,-999.000,5,-999.000,5,  2306.0,2,  2417.4,2,  -999.0,5,-999.000,1,-999.000,   1.8085,2,   11.85,2, -999.00,9,  -999.0,9,  -999.0,   8.059,2,-999.000, 32681.3,   1.3596,-999.0000, -999.00
 316N145_14,       I02E,    1145,          1,          9,     SIH015,2,19951225,       0706,    -7.9972,    75.3333,       5160,  3498.0,   1.5021,  34.7240,2,  34.7239,2,    169.3,2,   169.1,2,  135.25,3,   33.94,2,    0.00,2,    2.38,3,-999.000,5,-999.000,5,  2306.4,2,  2448.5,3,  -999.0,5,-999.000,1,-999.000,   1.8289,2,   10.59,2, -999.00,9,  -999.0,9,  -999.0,   7.578,2,-999.000, 35118.4,   1.2359,-999.0000, -999.00
 316N145_14,       I02E,    1145,          1,          8,     SIH016,2,19951225,       0706,    -7.9972,    75.3333,       5160,  3753.1,   1.4233,  34.7211,2,  34.7207,2,    170.9,2,   171.5,2,  136.80,3,   33.90,2,    0.00,2,    2.38,3,-999.000,5,-999.000,5,  2307.7,2,  2424.9,2,  -999.0,5,-999.000,1,-999.000,   1.8145,2,    9.96,2, -999.00,9,  -999.0,9,  -999.0,   7.626,2,-999.000, 37670.4,   1.1327,-999.0000, -999.00
 316N145_14,       I02E,    1145,          1,          7,     SIH017,2,19951225,       0706,    -7.9972,    75.3333,       5160,  4006.6,   1.3731,  34.7188,2,  34.7188,2,    177.6,2,   177.2,2,  135.43,3,   33.58,2,    0.00,2,    2.35,3,-999.000,5,-999.000,5,  2300.7,2,  2419.9,2,  -999.0,5,-999.000,1,-999.000,   1.7999,2,   10.47,2, -999.00,9,  -999.0,9,  -999.0,   7.790,2,-999.000, 40206.8,   1.0568,-999.0000, -999.00
 316N145_14,       I02E,    1145,          1,          6,     SIH018,2,19951225,       0706,    -7.9972,    75.3333,       5160,  4251.3,   1.3637,  34.7175,2,  34.7176,2,    179.6,2,   179.3,2,  134.92,3,   33.43,2,    0.00,2,    2.34,3,   0.005,2,   0.001,2,  2299.8,2,  2421.3,2,  -999.0,5,-999.000,1,-999.000,-999.0000,1, -999.00,9, -999.00,9,  -999.0,9,  -999.0,-999.000,9,-999.000, 42654.9,   1.0208,-999.0000, -999.00
 316N145_14,       I02E,    1145,          1,          5,     SIH002,2,19951225,       0706,    -7.9972,    75.3333,       5160,  4496.8,   1.3687,  34.7169,2,  34.7174,2,    181.7,2,   181.3,2,  134.06,3,   33.44,2,    0.00,2,    2.34,3,-999.000,5,-999.000,5,  2297.9,2,  2413.4,2,  -999.0,5,-999.000,1,-999.000,   1.8129,2,    9.46,2, -999.00,9,  -999.0,9,  -999.0,   7.543,2,-999.000, 45111.3,   0.9979,-999.0000, -999.00
 316N145_14,       I02E,    1145,          1,          4,     SIH020,2,19951225,       0706,    -7.9972,    75.3333,       5160,  4752.6,   1.3816,  34.7170,2,  34.7164,2,    183.1,2,   182.4,2,  133.38,3,   33.28,2,    0.00,2,    2.33,3,-999.000,5,-999.000,5,  2295.9,2,  2413.4,2,  -999.0,5,-999.000,1,-999.000,-999.0000,1, -999.00,9, -999.00,9,  -999.0,9,  -999.0,-999.000,9,-999.000, 47668.9,   0.9807,-999.0000, -999.00
 316N145_14,       I02E,    1145,          1,          3,     SIH021,2,19951225,       0706,    -7.9972,    75.3333,       5160,  4997.7,   1.4015,  34.7167,2,  34.7178,2,    184.2,2,   183.0,2,  133.21,3,   33.23,2,    0.00,2,    2.33,3,-999.000,5,-999.000,5,  2295.5,2,  2429.7,3,  -999.0,5,-999.000,1,-999.000,   1.7983,2,    9.71,2, -999.00,9,  -999.0,9,  -999.0,   7.536,2,-999.000, 50121.7,   0.9706,-999.0000, -999.00
 316N145_14,       I02E,    1145,          1,          2,     SIH022,2,19951225,       0706,    -7.9972,    75.3333,       5160,  5253.8,   1.4342,  34.7162,2,  34.7197,3,    182.5,2,   183.4,2,  133.03,3,   33.23,2,    0.01,2,    2.34,3,-999.000,5,-999.000,5,  2293.9,2,  2411.9,2,  -999.0,5,-999.000,1,-999.000,-999.0000,1, -999.00,9, -999.00,9,  -999.0,9,  -999.0,-999.000,9,-999.000, 52682.6,   0.9708,-999.0000, -999.00
 316N145_14,       I02E,    1145,          1,          1,     SIH023,2,19951225,       0706,    -7.9972,    75.3333,       5160,  5269.3,   1.4358,  34.7163,2,  34.7168,2,    182.9,2,   184.4,2,  133.27,3,   33.28,6,    0.00,6,    2.33,3,   0.003,2,  -0.001,2,  2296.0,2,  2417.3,2,  -999.0,5,-999.000,1,-999.000,   1.8025,2,    9.98,2, -999.00,9,  -999.0,9,  -999.0,   7.566,2,-999.000, 52838.7,   0.9704,-999.0000, -999.00