BOTTLE,20220829CCHSIOAMB
EXPOCODE,SECT_ID,STNNBR,CASTNO,SAMPNO,BTLNBR,BTLNBR_FLAG_W,DATE,TIME,LATITUDE,LONGITUDE,DEPTH,CTDPRS,CTDTMP,CTDSAL,CTDSAL_FLAG_W,SALNTY,SALNTY_FLAG_W,CTDOXY,CTDOXY_FLAG_W,OXYGEN,OXYGEN_FLAG_W,SILCAT,SILCAT_FLAG_W,NITRAT,NITRAT_FLAG_W,NITRIT,NITRIT_FLAG_W,PHSPHT,PHSPHT_FLAG_W,CFC-11,CFC-11_FLAG_W,CFC-12,CFC-12_FLAG_W,TCARBN,TCARBN_FLAG_W,ALKALI,ALKALI_FLAG_W,PCO2,PCO2_FLAG_W,TRITUM,TRITUM_FLAG_W,TRITER,HELIUM,HELIUM_FLAG_W,DELHE3,DELHE3_FLAG_W,DELC13,DELC13_FLAG_W,DELC14,DELC14_FLAG_W,C14ERR,NEON,NEON_FLAG_W,NEONER,CTDRAW,THETA,HELIER,DELHER
,,,,,,,,,,,METERS,DBAR,ITS-90,PSS-78,,PSS-78,,UMOL/KG,,UMOL/KG,,UMOL/KG,,UMOL/KG,,UMOL/KG,,UMOL/KG,,PMOL/KG,,PMOL/KG,,UMOL/KG,,UMOL/KG,,UATM,,TU,,TU,NMOL/KG,,PERCNT,,/MILLE,,/MILLE,,/MILLE,NMOL/KG,,NMOL/KG,DBAR,DEG C,NMOL/KG,PERCNT
 316N145_14,       I02E,    1135,          1,         36,     SIH024,2,19951222,       0657,    -8.0000,    82.0000,       5306,     9.7,  27.9620,  34.1623,2,  34.1436,2,    210.8,2,   211.1,2,    2.53,2,    0.02,2,    0.00,2,    0.13,2,   1.636,2,   0.908,2,  1903.6,2,  -999.0,9,  -999.0,5,-999.000,1,-999.000,-999.0000,1, -999.00,9, -999.00,9,  -999.0,9,  -999.0,-999.000,9,-999.000,   234.0,  27.9597,-999.0000, -999.00
 316N145_14,       I02E,    1135,          1,         35,     SIH003,2,19951222,       0657,    -8.0000,    82.0000,       5306,    37.1,  23.7424,  35.2338,2,  35.2456,2,    211.5,4,   159.8,2,    7.29,2,    6.59,2,    0.21,2,    0.69,2,   1.527,2,   0.844,2,  2051.2,2,  2305.2,2,  -999.0,5,-999.000,1,-999.000,-999.0000,1, -999.00,9, -999.00,9,  -999.0,9,  -999.0,-999.000,9,-999.000,   505.2,  23.7347,-999.0000, -999.00
 316N145_14,       I02E,    1135,          1,         34,     SIH026,2,19951222,       0657,    -8.0000,    82.0000,       5306,    62.4,  21.5490,  35.2613,2,  35.2662,2,    111.5,2,   118.3,2,    9.67,2,   12.28,2,    0.25,2,    0.99,2,   1.521,2,   0.825,2,  2089.2,2,  -999.0,9,  -999.0,5,-999.000,1,-999.000,-999.0000,1, -999.00,9, -999.00,9,  -999.0,9,  -999.0,-999.000,9,-999.000,   756.2,  21.5369,-999.0000, -999.00
 316N145_14,       I02E,    1135,          1,         33,     SIH027,3,19951222,       0657,    -8.0000,    82.0000,       5306,    97.3,  19.9996,  35.2348,2,  35.2394,2,     98.1,2,   101.2,2,   11.88,2,   15.66,2,    0.40,2,    1.16,2,-999.000,5,-999.000,5,  2113.4,2,  -999.0,9,  -999.0,5,-999.000,1,-999.000,-999.0000,1, -999.00,9, -999.00,9,  -999.0,9,  -999.0,-999.000,9,-999.000,  1101.9,  19.9816,-999.0000, -999.00
 316N145_14,       I02E,    1135,          1,         32,     SIH028,2,19951222,       0657,    -8.0000,    82.0000,       5306,   147.2,  17.3993,  35.1679,2,  35.1673,2,     78.9,2,    80.5,2,   16.14,2,   20.17,2,    0.03,2,    1.43,2,   1.264,2,   0.652,2,  2148.0,2,  -999.0,9,  -999.0,5,-999.000,1,-999.000,-999.0000,1, -999.00,9, -999.00,9,  -999.0,9,  -999.0,-999.000,9,-999.000,  1597.6,  17.3746,-999.0000, -999.00
 316N145_14,       I02E,    1135,          1,         31,     SIH029,3,19951222,       0657,    -8.0000,    82.0000,       5306,   196.9,  13.4512,  34.7649,2,  34.7948,2,     72.3,2,    68.6,2,   30.96,2,   26.09,2,    0.01,2,    1.83,2,-999.000,5,-999.000,5,  2186.2,2,  -999.0,9,  -999.0,5,-999.000,1,-999.000,-999.0000,1, -999.00,9, -999.00,9,  -999.0,9,  -999.0,-999.000,9,-999.000,  2094.4,  13.4235,-999.0000, -999.00
 316N145_14,       I02E,    1135,          1,         30,     SIH030,2,19951222,       0657,    -8.0000,    82.0000,       5306,   247.2,  12.3044,  34.8652,2,  34.8668,2,     58.9,2,    58.5,2,   31.14,2,   28.39,2,    0.00,2,    1.97,2,   0.456,6,   0.237,6,  2202.8,2,  -999.0,9,  -999.0,5,-999.000,1,-999.000,-999.0000,1, -999.00,9, -999.00,9,  -999.0,9,  -999.0,-999.000,9,-999.000,  2599.0,  12.2716,-999.0000, -999.00
 316N145_14,       I02E,    1135,          1,         29,     SIH031,3,19951222,       0657,    -8.0000,    82.0000,       5306,   298.0,  11.5642,  34.9291,2,  34.9305,2,     86.2,2,    76.6,2,   27.38,2,   27.22,2,    0.00,2,    1.88,2,-999.000,5,-999.000,5,  2199.5,2,  -999.0,9,  -999.0,5,-999.000,1,-999.000,-999.0000,1, -999.00,9, -999.00,9,  -999.0,9,  -999.0,-999.000,9,-999.000,  3107.0,  11.5261,-999.0000, -999.00
 316N145_14,       I02E,    1135,          1,         28,     SIH032,3,19951222,       0657,    -8.0000,    82.0000,       5306,   347.4,  10.8257,  34.9059,2,  34.9079,2,    102.9,2,   105.8,2,   24.15,2,   25.48,2,    0.00,2,    1.75,2,-999.000,5,-999.000,5,  2186.1,2,  -999.0,9,  -999.0,5,-999.000,1,-999.000,-999.0000,1, -999.00,9, -999.00,9,  -999.0,9,  -999.0,-999.000,9,-999.000,  3601.2,  10.7831,-999.0000, -999.00
 316N145_14,       I02E,    1135,          1,         27,     SIH033,2,19951222,       0657,    -8.0000,    82.0000,       5306,   397.9,  10.1155,  34.8570,2,  34.8560,2,    103.5,2,   106.3,2,   26.88,2,   27.06,2,    0.01,2,    1.85,2,   0.510,2,   0.258,2,  2193.1,2,  -999.0,9,  -999.0,5,-999.000,1,-999.000,-999.0000,1, -999.00,9, -999.00,9,  -999.0,9,  -999.0,-999.000,9,-999.000,  4105.6,  10.0686,-999.0000, -999.00
 316N145_14,       I02E,    1135,          1,         26,     SIH037,3,19951222,       0657,    -8.0000,    82.0000,       5306,   497.9,   9.0341,  34.7973,2,  34.7966,2,     94.1,2,    92.8,2,   37.62,2,   30.61,2,    0.01,2,    2.10,2,   0.195,2,   0.107,2,  2215.2,2,  -999.0,9,  -999.0,5,-999.000,1,-999.000,-999.0000,1, -999.00,9, -999.00,9,  -999.0,9,  -999.0,-999.000,9,-999.000,  5105.3,   8.9791,-999.0000, -999.00
 316N145_14,       I02E,    1135,          1,         25,     SI9446,3,19951222,       0657,    -8.0000,    82.0000,       5306,   597.9,   7.9922,  34.7687,2,  34.7677,2,     75.7,2,    74.8,2,   54.65,2,   34.05,2,    0.00,2,    2.39,2,   0.046,2,   0.024,2,  2246.3,2,  -999.0,9,  -999.0,5,-999.000,1,-999.000,-999.0000,1, -999.00,9, -999.00,9,  -999.0,9,  -999.0,-999.000,9,-999.000,  6106.2,   7.9303,-999.0000, -999.00
 316N145_14,       I02E,    1135,          1,         24,     SIH036,2,19951222,       0657,    -8.0000,    82.0000,       5306,   698.2,   7.2758,  34.7612,2,  34.7598,2,     68.0,2,    68.8,2,   67.11,2,   35.58,2,    0.00,2,    2.53,2,   0.019,2,   0.014,2,  2264.8,2,  -999.0,9,  -999.0,5,-999.000,1,-999.000,-999.0000,1, -999.00,9, -999.00,9,  -999.0,9,  -999.0,-999.000,9,-999.000,  7108.3,   7.2068,-999.0000, -999.00
 316N145_14,       I02E,    1135,          1,         23,     SIH001,2,19951222,       0657,    -8.0000,    82.0000,       5306,   799.3,   6.5952,  34.7318,2,  34.7313,2,     68.7,2,    69.4,2,   78.36,2,   36.32,2,    0.00,2,    2.61,2,   0.009,2,   0.004,2,  2278.2,2,  -999.0,9,  -999.0,5,-999.000,1,-999.000,-999.0000,1, -999.00,9, -999.00,9,  -999.0,9,  -999.0,-999.000,9,-999.000,  8120.1,   6.5198,-999.0000, -999.00
 316N145_14,       I02E,    1135,          1,         22,     SIH019,2,19951222,       0657,    -8.0000,    82.0000,       5306,   900.1,   5.9254,  34.7118,2,  34.7101,2,     74.6,2,    73.9,2,   88.59,2,   36.66,2,    0.00,2,    2.65,2,   0.006,2,   0.003,2,  -999.0,9,  2387.0,3,  -999.0,5,-999.000,1,-999.000,-999.0000,1, -999.00,9, -999.00,9,  -999.0,9,  -999.0,-999.000,9,-999.000,  9127.8,   5.8444,-999.0000, -999.00
 316N145_14,       I02E,    1135,          1,         21,     SIH025,3,19951222,       0657,    -8.0000,    82.0000,       5306,   998.5,   5.2966,  34.6942,2,  34.6944,2,     80.5,2,    81.2,2,   96.62,2,   36.72,2,    0.00,2,    2.66,2,   0.009,2,   0.004,2,  2296.1,2,  -999.0,9,  -999.0,5,-999.000,1,-999.000,-999.0000,1, -999.00,9, -999.00,9,  -999.0,9,  -999.0,-999.000,9,-999.000, 10112.6,   5.2109,-999.0000, -999.00
 316N145_14,       I02E,    1135,          1,         20,     SIH004,2,19951222,       0657,    -8.0000,    82.0000,       5306,  1099.2,   4.8466,  34.7003,2,  34.7001,2,     86.4,2,    85.8,2,  101.74,2,   36.84,2,    0.00,2,    2.66,2,   0.008,2,   0.002,2,  -999.0,9,  2382.2,2,  -999.0,5,-999.000,1,-999.000,-999.0000,1, -999.00,9, -999.00,9,  -999.0,9,  -999.0,-999.000,9,-999.000, 11121.0,   4.7552,-999.0000, -999.00
 316N145_14,       I02E,    1135,          1,         19,     SIH005,2,19951222,       0657,    -8.0000,    82.0000,       5306,  1199.7,   4.5570,  34.7204,2,  34.7207,2,     88.4,2,    89.3,2,  104.47,2,   36.91,2,    0.00,2,    2.67,2,   0.003,2,  -0.001,2,  2303.1,2,  -999.0,9,  -999.0,5,-999.000,1,-999.000,-999.0000,1, -999.00,9, -999.00,9,  -999.0,9,  -999.0,-999.000,9,-999.000, 12126.5,   4.4589,-999.0000, -999.00
 316N145_14,       I02E,    1135,          1,         18,     SIH006,2,19951222,       0657,    -8.0000,    82.0000,       5306,  1402.5,   3.9293,  34.7459,2,  34.7459,2,     97.8,2,   100.9,2,  108.92,2,   36.62,2,    0.01,2,    2.64,2,   0.002,2,   0.002,2,  2304.8,2,  -999.0,9,  -999.0,5,-999.000,1,-999.000,-999.0000,1, -999.00,9, -999.00,9,  -999.0,9,  -999.0,-999.000,9,-999.000, 14154.8,   3.8191,-999.0000, -999.00
 316N145_14,       I02E,    1135,          1,         17,     SIH038,2,19951222,       0657,    -8.0000,    82.0000,       5306,  1598.6,   3.3291,  34.7498,2,  34.7514,2,    115.8,2,   115.5,2,  113.53,2,   36.06,2,    0.00,2,    2.58,2,-999.000,5,-999.000,5,  -999.0,9,  2398.1,2,  -999.0,5,-999.000,1,-999.000,-999.0000,1, -999.00,9, -999.00,9,  -999.0,9,  -999.0,-999.000,9,-999.000, 16116.5,   3.2085,-999.0000, -999.00
 316N145_14,       I02E,    1135,          1,         16,     SIH008,2,19951222,       0657,    -8.0000,    82.0000,       5306,  1800.9,   2.8044,  34.7480,2,  34.7476,2,    128.8,2,   129.8,2,  117.80,2,   35.40,2,    0.00,2,    2.52,2,-999.000,5,-999.000,5,  -999.0,9,  2400.3,2,  -999.0,5,-999.000,1,-999.000,-999.0000,1, -999.00,9, -999.00,9,  -999.0,9,  -999.0,-999.000,9,-999.000, 18140.1,   2.6730,-999.0000, -999.00
 316N145_14,       I02E,    1135,          1,         15,     SIH009,2,19951222,       0657,    -8.0000,    82.0000,       5306,  1998.1,   2.4465,  34.7455,2,  34.7463,2,    139.3,2,   140.6,2,  120.37,2,   34.89,2,    0.00,2,    2.48,2,-999.000,5,-999.000,5,  2299.7,2,  -999.0,9,  -999.0,5,-999.000,1,-999.000,-999.0000,1, -999.00,9, -999.00,9,  -999.0,9,  -999.0,-999.000,9,-999.000, 20112.8,   2.3031,-999.0000, -999.00
 316N145_14,       I02E,    1135,          1,         14,     SIH010,2,19951222,       0657,    -8.0000,    82.0000,       5306,  2300.7,   2.0450,  34.7370,2,  34.7388,2,    153.5,2,   154.2,2,  123.79,2,   34.39,2,    0.00,2,    2.41,2,   0.001,2,   0.002,2,  -999.0,9,  2406.0,2,  -999.0,5,-999.000,1,-999.000,-999.0000,1, -999.00,9, -999.00,9,  -999.0,9,  -999.0,-999.000,9,-999.000, 23139.9,   1.8815,-999.0000, -999.00
 316N145_14,       I02E,    1135,          1,         13,     SIH011,2,19951222,       0657,    -8.0000,    82.0000,       5306,  2503.8,   1.8748,  34.7336,2,  34.7335,2,    157.7,2,   158.8,2,  125.86,2,   34.29,2,    0.00,2,    2.39,2,-999.000,5,-999.000,5,  2297.6,2,  -999.0,9,  -999.0,5,-999.000,1,-999.000,-999.0000,1, -999.00,9, -999.00,9,  -999.0,9,  -999.0,-999.000,9,-999.000, 25172.4,   1.6962,-999.0000, -999.00
 316N145_14,       I02E,    1135,          1,         12,     SIH012,2,19951222,       0657,    -8.0000,    82.0000,       5306,  2747.4,   1.7370,  34.7308,2,  34.7307,2,    161.6,2,   163.4,2,  128.00,2,   34.00,2,    0.00,2,    2.37,2,-999.000,5,-999.000,5,  2297.6,2,  -999.0,9,  -999.0,5,-999.000,1,-999.000,-999.0000,1, -999.00,9, -999.00,9,  -999.0,9,  -999.0,-999.000,9,-999.000, 27609.7,   1.5387,-999.0000, -999.00
 316N145_14,       I02E,    1135,          1,         11,     SI9426,2,19951222,       0657,    -8.0000,    82.0000,       5306,  3001.0,   1.6272,  34.7273,2,  34.7276,2,    165.9,2,   165.7,2,  131.34,2,   33.90,2,    0.00,2,    2.37,2,-999.000,5,-999.000,5,  -999.0,9,  2418.5,2,  -999.0,5,-999.000,1,-999.000,-999.0000,1, -999.00,9, -999.00,9,  -999.0,9,  -999.0,-999.000,9,-999.000, 30146.5,   1.4073,-999.0000, -999.00
 316N145_14,       I02E,    1135,          1,         10,     SIH014,2,19951222,       0657,    -8.0000,    82.0000,       5306,  3246.1,   1.5363,  34.7241,2,  34.7243,2,    167.2,2,   167.6,2,  133.74,2,   34.07,2,    0.00,2,    2.37,2,-999.000,5,-999.000,5,  2301.3,2,  -999.0,9,  -999.0,5,-999.000,1,-999.000,-999.0000,1, -999.00,9, -999.00,9,  -999.0,9,  -999.0,-999.000,9,-999.000, 32598.0,   1.2946,-999.0000, -999.00
 316N145_14,       I02E,    1135,          1,          9,     SIH015,3,19951222,       0657,    -8.0000,    82.0000,       5306,  3500.4,   1.4401,  34.7219,2,  34.7211,2,    169.5,2,   170.6,2,  135.63,2,   34.02,2,    0.00,2,    2.36,2,-999.000,5,-999.000,5,  -999.0,9,  2412.1,2,  -999.0,5,-999.000,1,-999.000,-999.0000,1, -999.00,9, -999.00,9,  -999.0,9,  -999.0,-999.000,9,-999.000, 35142.4,   1.1752,-999.0000, -999.00
 316N145_14,       I02E,    1135,          1,          8,     SIH016,2,19951222,       0657,    -8.0000,    82.0000,       5306,  3746.1,   1.3941,  34.7196,2,  34.7193,2,    173.3,2,   174.3,2,  135.47,2,   33.69,2,    0.00,2,    2.34,2,-999.000,5,-999.000,5,  2300.8,2,  -999.0,9,  -999.0,5,-999.000,1,-999.000,-999.0000,1, -999.00,9, -999.00,9,  -999.0,9,  -999.0,-999.000,9,-999.000, 37600.4,   1.1050,-999.0000, -999.00
 316N145_14,       I02E,    1135,          1,          7,     SIH017,2,19951222,       0657,    -8.0000,    82.0000,       5306,  3999.8,   1.3661,  34.7174,2,  34.7182,2,    177.1,2,   178.2,2,  133.94,2,   33.52,2,    0.00,2,    2.33,2,   0.007,2,   0.002,2,  -999.0,9,  2443.5,3,  -999.0,5,-999.000,1,-999.000,-999.0000,1, -999.00,9, -999.00,9,  -999.0,9,  -999.0,-999.000,9,-999.000, 40139.0,   1.0508,-999.0000, -999.00
 316N145_14,       I02E,    1135,          1,          6,     SIH018,2,19951222,       0657,    -8.0000,    82.0000,       5306,  4245.3,   1.3467,  34.7167,2,  34.7174,2,    180.5,2,   181.3,2,  133.44,2,   33.48,2,    0.00,2,    2.32,2,-999.000,5,-999.000,5,  -999.0,9,  2411.3,2,  -999.0,5,-999.000,1,-999.000,-999.0000,1, -999.00,9, -999.00,9,  -999.0,9,  -999.0,-999.000,9,-999.000, 42594.2,   1.0050,-999.0000, -999.00
 316N145_14,       I02E,    1135,          1,          5,     SIH002,2,19951222,       0657,    -8.0000,    82.0000,       5306,  4490.4,   1.3507,  34.7160,2,  34.7166,2,    181.6,2,   182.3,2,  133.12,2,   33.31,2,    0.00,2,    2.31,2,-999.000,5,-999.000,5,  -999.0,9,  2422.4,3,  -999.0,5,-999.000,1,-999.000,-999.0000,1, -999.00,9, -999.00,9,  -999.0,9,  -999.0,-999.000,9,-999.000, 45046.8,   0.9812,-999.0000, -999.00
 316N145_14,       I02E,    1135,          1,          4,     SIH020,2,19951222,       0657,    -8.0000,    82.0000,       5306,  4744.0,   1.3707,  34.7162,2,  34.7168,2,    182.8,2,   183.0,2,  132.95,2,   33.14,2,    0.00,2,    2.29,2,-999.000,5,-999.000,5,  -999.0,9,  2409.1,2,  -999.0,5,-999.000,1,-999.000,-999.0000,1, -999.00,9, -999.00,9,  -999.0,9,  -999.0,-999.000,9,-999.000, 47583.7,   0.9712,-999.0000, -999.00
 316N145_14,       I02E,    1135,          1,          3,     SIH021,2,19951222,       0657,    -8.0000,    82.0000,       5306,  5001.8,   1.3903,  34.7161,2,  34.7164,2,    183.6,2,   184.1,2,  132.29,2,   33.26,2,    0.00,2,    2.30,2,-999.000,5,-999.000,5,  -999.0,9,  2413.6,2,  -999.0,5,-999.000,1,-999.000,-999.0000,1, -999.00,9, -999.00,9,  -999.0,9,  -999.0,-999.000,9,-999.000, 50162.3,   0.9593,-999.0000, -999.00
 316N145_14,       I02E,    1135,          1,          2,     SIH022,2,19951222,       0657,    -8.0000,    82.0000,       5306,  5247.1,   1.4163,  34.7160,2,  34.7166,2,    184.2,2,   184.6,2,  131.44,2,   33.21,2,    0.00,2,    2.29,2,   0.002,2,   0.002,2,  -999.0,9,  2407.5,2,  -999.0,5,-999.000,1,-999.000,-999.0000,1, -999.00,9, -999.00,9,  -999.0,9,  -999.0,-999.000,9,-999.000, 52615.8,   0.9543,-999.0000, -999.00
 316N145_14,       I02E,    1135,          1,          1,     SIH023,2,19951222,       0657,    -8.0000,    82.0000,       5306,  5426.9,   1.4376,  34.7158,2,  34.7160,2,    183.3,2,   186.0,2,  131.38,6,   33.25,6,    0.00,6,    2.29,6,   0.003,2,   0.002,6,  -999.0,9,  2410.6,2,  -999.0,5,-999.000,1,-999.000,-999.0000,1, -999.00,9, -999.00,9,  -999.0,9,  -999.0,-999.000,9,-999.000, 54412.6,   0.9523,-999.0000, -999.00