BOTTLE,20220829CCHSIOAMB
EXPOCODE,SECT_ID,STNNBR,CASTNO,SAMPNO,BTLNBR,BTLNBR_FLAG_W,DATE,TIME,LATITUDE,LONGITUDE,DEPTH,CTDPRS,CTDTMP,CTDSAL,CTDSAL_FLAG_W,SALNTY,SALNTY_FLAG_W,CTDOXY,CTDOXY_FLAG_W,OXYGEN,OXYGEN_FLAG_W,SILCAT,SILCAT_FLAG_W,NITRAT,NITRAT_FLAG_W,NITRIT,NITRIT_FLAG_W,PHSPHT,PHSPHT_FLAG_W,CFC-11,CFC-11_FLAG_W,CFC-12,CFC-12_FLAG_W,TCARBN,TCARBN_FLAG_W,ALKALI,ALKALI_FLAG_W,PCO2,PCO2_FLAG_W,TRITUM,TRITUM_FLAG_W,TRITER,HELIUM,HELIUM_FLAG_W,DELHE3,DELHE3_FLAG_W,DELC13,DELC13_FLAG_W,DELC14,DELC14_FLAG_W,C14ERR,NEON,NEON_FLAG_W,NEONER,CTDRAW,THETA,HELIER,DELHER
,,,,,,,,,,,METERS,DBAR,ITS-90,PSS-78,,PSS-78,,UMOL/KG,,UMOL/KG,,UMOL/KG,,UMOL/KG,,UMOL/KG,,UMOL/KG,,PMOL/KG,,PMOL/KG,,UMOL/KG,,UMOL/KG,,UATM,,TU,,TU,NMOL/KG,,PERCNT,,/MILLE,,/MILLE,,/MILLE,NMOL/KG,,NMOL/KG,DBAR,DEG C,NMOL/KG,PERCNT
 316N145_14,       I02E,    1101,          1,         36,     SIH024,2,19951212,       1825,    -8.0000,    90.6667,       5220,    12.9,  26.9344,  34.2299,2,  34.2346,2,    206.0,2,   206.7,2,    2.62,2,    0.09,2,    0.00,2,    0.10,2,   1.698,2,   0.975,2,  1926.9,2,  -999.0,9,  -999.0,5,-999.000,1,-999.000,-999.0000,1, -999.00,9, -999.00,9,  -999.0,9,  -999.0,-999.000,9,-999.000,   268.7,  26.9315,-999.0000, -999.00
 316N145_14,       I02E,    1101,          1,         35,     SIH003,2,19951212,       1825,    -8.0000,    90.6667,       5220,    37.3,  26.5977,  34.3036,2,  34.3111,2,    208.7,2,   207.2,2,    2.81,2,    0.04,2,    0.00,2,    0.10,2,   1.685,2,   0.971,2,  1929.4,2,  2249.0,2,  -999.0,5,-999.000,1,-999.000,-999.0000,1, -999.00,9, -999.00,9,  -999.0,9,  -999.0,-999.000,9,-999.000,   508.0,  26.5893,-999.0000, -999.00
 316N145_14,       I02E,    1101,          1,         34,     SIH026,2,19951212,       1825,    -8.0000,    90.6667,       5220,    68.1,  22.3696,  34.5229,2,  34.5474,2,    114.0,2,   116.8,2,   14.57,2,   12.88,2,    0.11,2,    0.93,2,-999.000,5,-999.000,5,  2062.7,2,  -999.0,9,  -999.0,5,-999.000,1,-999.000,-999.0000,1, -999.00,9, -999.00,9,  -999.0,9,  -999.0,-999.000,9,-999.000,   811.9,  22.3560,-999.0000, -999.00
 316N145_14,       I02E,    1101,          1,         33,     SIH027,2,19951212,       1825,    -8.0000,    90.6667,       5220,   107.1,  18.4645,  34.8937,2,  34.8220,2,     59.8,2,    74.8,2,   21.43,2,   20.98,2,    0.03,2,    1.45,2,   1.163,2,   0.628,2,  -999.0,9,  -999.0,9,  -999.0,5,-999.000,1,-999.000,-999.0000,1, -999.00,9, -999.00,9,  -999.0,9,  -999.0,-999.000,9,-999.000,  1198.6,  18.4458,-999.0000, -999.00
 316N145_14,       I02E,    1101,          1,         32,     SIH028,2,19951212,       1825,    -8.0000,    90.6667,       5220,   157.7,  14.2299,  34.7451,2,  34.7274,2,     70.7,2,    74.9,2,   31.38,2,   24.79,2,    0.00,2,    1.74,2,   0.848,2,   0.436,2,  -999.0,9,  -999.0,9,  -999.0,5,-999.000,1,-999.000,-999.0000,1, -999.00,9, -999.00,9,  -999.0,9,  -999.0,-999.000,9,-999.000,  1704.9,  14.2069,-999.0000, -999.00
 316N145_14,       I02E,    1101,          1,         31,     SIH029,4,19951212,       1825,    -8.0000,    90.6667,       5220,   207.0,  12.2424,  34.7395,2,-999.0000,9,     76.1,2,  -999.0,9, -999.00,9, -999.00,9, -999.00,9, -999.00,9,-999.000,5,-999.000,5,  -999.0,9,  -999.0,9,  -999.0,5,-999.000,1,-999.000,-999.0000,1, -999.00,9, -999.00,9,  -999.0,9,  -999.0,-999.000,9,-999.000,  2197.6,  12.2151,-999.0000, -999.00
 316N145_14,       I02E,    1101,          1,         30,     SIH030,2,19951212,       1825,    -8.0000,    90.6667,       5220,   256.1,  11.2868,  34.8274,2,  34.8294,2,     60.5,2,    63.0,2,   34.10,2,   29.31,2,    0.00,2,    1.99,2,   0.358,2,   0.178,2,  -999.0,9,  -999.0,9,  -999.0,5,-999.000,1,-999.000,-999.0000,1, -999.00,9, -999.00,9,  -999.0,9,  -999.0,-999.000,9,-999.000,  2688.6,  11.2547,-999.0000, -999.00
 316N145_14,       I02E,    1101,          1,         29,     SIH031,2,19951212,       1825,    -8.0000,    90.6667,       5220,   307.5,  10.9318,  34.8791,2,  34.8780,2,     67.6,2,    68.4,2,   31.19,2,   29.15,2,    0.00,2,    1.97,2,   0.329,6,   0.162,6,  -999.0,9,  -999.0,9,  -999.0,5,-999.000,1,-999.000,-999.0000,1, -999.00,9, -999.00,9,  -999.0,9,  -999.0,-999.000,9,-999.000,  3202.0,  10.8939,-999.0000, -999.00
 316N145_14,       I02E,    1101,          1,         28,     SIH032,2,19951212,       1825,    -8.0000,    90.6667,       5220,   357.1,  10.2280,  34.8690,2,  34.8670,2,     95.5,2,    84.0,2,   29.75,2,   29.11,2,    0.00,2,    1.94,2,-999.000,5,-999.000,5,  -999.0,9,  -999.0,9,  -999.0,5,-999.000,1,-999.000,-999.0000,1, -999.00,9, -999.00,9,  -999.0,9,  -999.0,-999.000,9,-999.000,  3698.0,  10.1857,-999.0000, -999.00
 316N145_14,       I02E,    1101,          1,         27,     SIH033,2,19951212,       1825,    -8.0000,    90.6667,       5220,   407.9,   9.5270,  34.8367,2,  34.8387,2,     84.0,2,    80.6,2,   34.27,2,   30.59,2,    0.00,2,    2.05,2,   0.166,2,   0.087,2,  -999.0,9,  -999.0,9,  -999.0,5,-999.000,1,-999.000,-999.0000,1, -999.00,9, -999.00,9,  -999.0,9,  -999.0,-999.000,9,-999.000,  4206.9,   9.4807,-999.0000, -999.00
 316N145_14,       I02E,    1101,          1,         26,     SIH037,2,19951212,       1825,    -8.0000,    90.6667,       5220,   505.3,   8.6681,  34.8210,2,  34.8190,2,     64.7,2,    67.0,2,   47.84,2,   33.38,2,    0.00,2,    2.33,2,   0.046,2,   0.024,2,  -999.0,9,  -999.0,9,  -999.0,5,-999.000,1,-999.000,-999.0000,1, -999.00,9, -999.00,9,  -999.0,9,  -999.0,-999.000,9,-999.000,  5180.3,   8.6136,-999.0000, -999.00
 316N145_14,       I02E,    1101,          1,         25,     SI9446,2,19951212,       1825,    -8.0000,    90.6667,       5220,   601.8,   7.9405,  34.8036,2,  34.8033,2,     60.8,2,    61.9,2,   59.59,2,   34.85,2,    0.00,2,    2.47,2,   0.022,2,   0.013,2,  -999.0,9,  -999.0,9,  -999.0,5,-999.000,1,-999.000,-999.0000,1, -999.00,9, -999.00,9,  -999.0,9,  -999.0,-999.000,9,-999.000,  6145.5,   7.8784,-999.0000, -999.00
 316N145_14,       I02E,    1101,          1,         24,     SIH036,2,19951212,       1825,    -8.0000,    90.6667,       5220,   700.3,   7.1919,  34.7790,2,  34.7785,2,     61.5,2,    62.3,2,   71.35,2,   35.80,2,    0.00,2,    2.56,2,   0.010,2,   0.002,2,  -999.0,9,  -999.0,9,  -999.0,5,-999.000,1,-999.000,-999.0000,1, -999.00,9, -999.00,9,  -999.0,9,  -999.0,-999.000,9,-999.000,  7130.7,   7.1231,-999.0000, -999.00
 316N145_14,       I02E,    1101,          1,         23,     SIH001,2,19951212,       1825,    -8.0000,    90.6667,       5220,   769.4,   6.8212,  34.7638,2,  34.7614,2,     63.9,2,    64.6,2,   76.59,2,   36.03,2,    0.00,2,    2.59,2,   0.010,2,   0.003,2,  -999.0,9,  -999.0,9,  -999.0,5,-999.000,1,-999.000,-999.0000,1, -999.00,9, -999.00,9,  -999.0,9,  -999.0,-999.000,9,-999.000,  7821.5,   6.7474,-999.0000, -999.00
 316N145_14,       I02E,    1101,          1,         22,     SIH019,2,19951212,       1825,    -8.0000,    90.6667,       5220,   898.6,   6.0683,  34.7408,2,  34.7378,2,     70.1,2,    71.0,2,   86.71,2,   36.40,2,    0.00,2,    2.63,2,   0.010,2,   0.007,2,  -999.0,9,  -999.0,9,  -999.0,5,-999.000,1,-999.000,-999.0000,1, -999.00,9, -999.00,9,  -999.0,9,  -999.0,-999.000,9,-999.000,  9113.7,   5.9865,-999.0000, -999.00
 316N145_14,       I02E,    1101,          1,         21,     SIH025,2,19951212,       1825,    -8.0000,    90.6667,       5220,  1000.0,   5.4375,  34.7131,2,  34.7107,2,     77.9,2,    78.4,2,   94.85,2,   36.51,2,    0.00,2,    2.63,2,   0.007,2,   0.001,2,  -999.0,9,  -999.0,9,  -999.0,5,-999.000,1,-999.000,-999.0000,1, -999.00,9, -999.00,9,  -999.0,9,  -999.0,-999.000,9,-999.000, 10129.2,   5.3505,-999.0000, -999.00
 316N145_14,       I02E,    1101,          1,         20,     SIH004,2,19951212,       1825,    -8.0000,    90.6667,       5220,  1102.3,   5.1043,  34.7347,2,  34.7339,2,     79.4,2,    81.8,2,   98.64,2,   36.73,2,    0.00,2,    2.64,2,   0.005,2,   0.001,2,  -999.0,9,  -999.0,9,  -999.0,5,-999.000,1,-999.000,-999.0000,1, -999.00,9, -999.00,9,  -999.0,9,  -999.0,-999.000,9,-999.000, 11152.3,   5.0104,-999.0000, -999.00
 316N145_14,       I02E,    1101,          1,         19,     SIH005,2,19951212,       1825,    -8.0000,    90.6667,       5220,  1205.3,   4.7777,  34.7474,2,  34.7471,2,     85.1,2,    85.1,2,  101.53,2,   36.47,2,    0.00,2,    2.65,2,   0.004,2,   0.000,2,  -999.0,9,  -999.0,9,  -999.0,5,-999.000,1,-999.000,-999.0000,1, -999.00,9, -999.00,9,  -999.0,9,  -999.0,-999.000,9,-999.000, 12181.9,   4.6770,-999.0000, -999.00
 316N145_14,       I02E,    1101,          1,         18,     SIH006,2,19951212,       1825,    -8.0000,    90.6667,       5220,  1406.2,   4.0371,  34.7522,2,  34.7530,2,     97.6,2,    98.9,2,  107.67,2,   36.32,2,    0.00,2,    2.62,2,   0.000,2,  -0.002,2,  -999.0,9,  -999.0,9,  -999.0,5,-999.000,1,-999.000,-999.0000,1, -999.00,9, -999.00,9,  -999.0,9,  -999.0,-999.000,9,-999.000, 14191.7,   3.9255,-999.0000, -999.00
 316N145_14,       I02E,    1101,          1,         17,     SIH038,2,19951212,       1825,    -8.0000,    90.6667,       5220,  1607.1,   3.4632,  34.7546,2,  34.7537,2,    113.1,2,   111.8,2,  112.73,2,   35.96,2,    0.00,2,    2.58,2,-999.000,5,-999.000,5,  -999.0,9,  -999.0,9,  -999.0,5,-999.000,1,-999.000,-999.0000,1, -999.00,9, -999.00,9,  -999.0,9,  -999.0,-999.000,9,-999.000, 16202.1,   3.3402,-999.0000, -999.00
 316N145_14,       I02E,    1101,          1,         16,     SIH008,2,19951212,       1825,    -8.0000,    90.6667,       5220,  1807.7,   3.0013,  34.7575,2,  34.7596,2,    123.9,2,   124.1,2,  116.70,2,   35.49,2,    0.00,2,    2.53,2,   0.003,2,   0.002,2,  -999.0,9,  -999.0,9,  -999.0,5,-999.000,1,-999.000,-999.0000,1, -999.00,9, -999.00,9,  -999.0,9,  -999.0,-999.000,9,-999.000, 18208.4,   2.8665,-999.0000, -999.00
 316N145_14,       I02E,    1101,          1,         15,     SIH009,2,19951212,       1825,    -8.0000,    90.6667,       5220,  2009.5,   2.5469,  34.7488,2,  34.7488,2,    137.6,2,   136.9,2,  120.85,2,   34.92,2,    0.00,2,    2.48,2,-999.000,5,-999.000,5,  -999.0,9,  -999.0,9,  -999.0,5,-999.000,1,-999.000,-999.0000,1, -999.00,9, -999.00,9,  -999.0,9,  -999.0,-999.000,9,-999.000, 20226.9,   2.4009,-999.0000, -999.00
 316N145_14,       I02E,    1101,          1,         14,     SIH010,2,19951212,       1825,    -8.0000,    90.6667,       5220,  2258.6,   2.2186,  34.7429,2,  34.7425,2,    148.1,2,   147.8,2,  123.38,2,   34.40,2,    0.00,2,    2.42,2,-999.000,5,-999.000,5,  -999.0,9,  -999.0,9,  -999.0,5,-999.000,1,-999.000,-999.0000,1, -999.00,9, -999.00,9,  -999.0,9,  -999.0,-999.000,9,-999.000, 22719.2,   2.0558,-999.0000, -999.00
 316N145_14,       I02E,    1101,          1,         13,     SIH011,2,19951212,       1825,    -8.0000,    90.6667,       5220,  2509.3,   1.9618,  34.7370,2,  34.7353,2,    154.7,2,   155.5,2,  126.09,2,   34.26,2,    0.00,2,    2.39,2,-999.000,5,-999.000,5,  -999.0,9,  -999.0,9,  -999.0,5,-999.000,1,-999.000,-999.0000,1, -999.00,9, -999.00,9,  -999.0,9,  -999.0,-999.000,9,-999.000, 25228.0,   1.7811,-999.0000, -999.00
 316N145_14,       I02E,    1101,          1,         12,     SIH012,2,19951212,       1825,    -8.0000,    90.6667,       5220,  2757.6,   1.8120,  34.7323,2,  34.7325,2,    160.7,2,   160.8,2,  127.89,2,   34.05,2,    0.00,2,    2.38,2,  -0.001,2,   0.000,2,  -999.0,9,  -999.0,9,  -999.0,5,-999.000,1,-999.000,-999.0000,1, -999.00,9, -999.00,9,  -999.0,9,  -999.0,-999.000,9,-999.000, 27712.3,   1.6112,-999.0000, -999.00
 316N145_14,       I02E,    1101,          1,         11,     SI9426,2,19951212,       1825,    -8.0000,    90.6667,       5220,  3007.0,   1.6360,  34.7279,2,  34.7272,2,    163.5,2,   165.6,2,  130.60,2,   33.80,2,    0.00,2,    2.36,2,-999.000,5,-999.000,5,  -999.0,9,  -999.0,9,  -999.0,5,-999.000,1,-999.000,-999.0000,1, -999.00,9, -999.00,9,  -999.0,9,  -999.0,-999.000,9,-999.000, 30206.7,   1.4153,-999.0000, -999.00
 316N145_14,       I02E,    1101,          1,         10,     SIH014,2,19951212,       1825,    -8.0000,    90.6667,       5220,  3256.0,   1.5120,  34.7249,2,  34.7241,2,    169.6,2,   169.3,2,  132.77,2,   33.86,2,    0.00,2,    2.35,2,-999.000,5,-999.000,5,  -999.0,9,  -999.0,9,  -999.0,5,-999.000,1,-999.000,-999.0000,1, -999.00,9, -999.00,9,  -999.0,9,  -999.0,-999.000,9,-999.000, 32697.3,   1.2699,-999.0000, -999.00
 316N145_14,       I02E,    1101,          1,          9,     SIH015,2,19951212,       1825,    -8.0000,    90.6667,       5220,  3504.8,   1.4360,  34.7188,2,  34.7213,2,    172.6,2,   174.0,2,  132.22,2,   33.60,2,    0.00,2,    2.33,2,-999.000,5,-999.000,5,  -999.0,9,  -999.0,9,  -999.0,5,-999.000,1,-999.000,-999.0000,1, -999.00,9, -999.00,9,  -999.0,9,  -999.0,-999.000,9,-999.000, 35186.8,   1.1707,-999.0000, -999.00
 316N145_14,       I02E,    1101,          1,          8,     SIH016,2,19951212,       1825,    -8.0000,    90.6667,       5220,  3753.3,   1.2979,  34.7182,2,  34.7176,2,    181.6,2,   182.2,2,  130.95,2,   33.18,2,    0.00,2,    2.29,2,  -0.002,2,  -0.001,2,  -999.0,9,  -999.0,9,  -999.0,5,-999.000,1,-999.000,-999.0000,1, -999.00,9, -999.00,9,  -999.0,9,  -999.0,-999.000,9,-999.000, 37672.5,   1.0106,-999.0000, -999.00
 316N145_14,       I02E,    1101,          1,          7,     SIH017,2,19951212,       1825,    -8.0000,    90.6667,       5220,  4002.0,   1.1734,  34.7148,2,  34.7138,2,    189.4,2,   190.8,2,  128.60,2,   32.66,2,    0.00,2,    2.25,2,-999.000,5,-999.000,5,  -999.0,9,  -999.0,9,  -999.0,5,-999.000,1,-999.000,-999.0000,1, -999.00,9, -999.00,9,  -999.0,9,  -999.0,-999.000,9,-999.000, 40160.2,   0.8633,-999.0000, -999.00
 316N145_14,       I02E,    1101,          1,          6,     SIH018,2,19951212,       1825,    -8.0000,    90.6667,       5220,  4253.3,   1.1311,  34.7137,2,  34.7134,2,    195.6,2,   195.7,2,  126.43,2,   32.30,2,    0.00,2,    2.22,2,-999.000,5,-999.000,5,  -999.0,9,  -999.0,9,  -999.0,5,-999.000,1,-999.000,-999.0000,1, -999.00,9, -999.00,9,  -999.0,9,  -999.0,-999.000,9,-999.000, 42675.4,   0.7950,-999.0000, -999.00
 316N145_14,       I02E,    1101,          1,          5,     SIH002,2,19951212,       1825,    -8.0000,    90.6667,       5220,  4554.0,   1.1503,  34.7133,2,  34.7127,2,    197.3,2,   197.7,2,  126.05,2,   32.16,2,    0.00,2,    2.20,2,-999.000,5,-999.000,5,  -999.0,9,  -999.0,9,  -999.0,5,-999.000,1,-999.000,-999.0000,1, -999.00,9, -999.00,9,  -999.0,9,  -999.0,-999.000,9,-999.000, 45682.3,   0.7799,-999.0000, -999.00
 316N145_14,       I02E,    1101,          1,          4,     SIH020,2,19951212,       1825,    -8.0000,    90.6667,       5220,  4752.1,   1.1699,  34.7128,2,  34.7125,2,    197.9,2,   198.1,2,  126.05,2,   32.21,2,    0.00,2,    2.20,2,  -0.001,2,   0.000,2,  -999.0,9,  -999.0,9,  -999.0,5,-999.000,1,-999.000,-999.0000,1, -999.00,9, -999.00,9,  -999.0,9,  -999.0,-999.000,9,-999.000, 47664.6,   0.7760,-999.0000, -999.00
 316N145_14,       I02E,    1101,          1,          3,     SIH021,2,19951212,       1825,    -8.0000,    90.6667,       5220,  5003.3,   1.1983,  34.7134,2,  34.7131,2,    199.0,2,   198.5,2,  125.87,2,   32.32,2,    0.00,2,    2.20,2,-999.000,5,-999.000,5,  -999.0,9,  -999.0,9,  -999.0,5,-999.000,1,-999.000,-999.0000,1, -999.00,9, -999.00,9,  -999.0,9,  -999.0,-999.000,9,-999.000, 50177.4,   0.7737,-999.0000, -999.00
 316N145_14,       I02E,    1101,          1,          2,     SIH022,2,19951212,       1825,    -8.0000,    90.6667,       5220,  5255.9,   1.2248,  34.7130,2,  34.7129,2,    198.8,2,   198.4,2,  125.68,2,   32.33,2,    0.00,2,    2.20,2,-999.000,5,-999.000,5,  -999.0,9,  -999.0,9,  -999.0,5,-999.000,1,-999.000,-999.0000,1, -999.00,9, -999.00,9,  -999.0,9,  -999.0,-999.000,9,-999.000, 52703.9,   0.7686,-999.0000, -999.00
 316N145_14,       I02E,    1101,          1,          1,     SIH023,2,19951212,       1825,    -8.0000,    90.6667,       5220,  5324.2,   1.2322,  34.7127,2,  34.7140,2,    198.7,2,   198.9,2,  125.53,6,   32.23,6,    0.00,6,    2.20,6,   0.001,2,  -0.001,2,  -999.0,9,  -999.0,9,  -999.0,5,-999.000,1,-999.000,-999.0000,1, -999.00,9, -999.00,9,  -999.0,9,  -999.0,-999.000,9,-999.000, 53387.8,   0.7672,-999.0000, -999.00