BOTTLE,20220829CCHSIOAMB
EXPOCODE,SECT_ID,STNNBR,CASTNO,SAMPNO,BTLNBR,BTLNBR_FLAG_W,DATE,TIME,LATITUDE,LONGITUDE,DEPTH,CTDPRS,CTDTMP,CTDSAL,CTDSAL_FLAG_W,SALNTY,SALNTY_FLAG_W,CTDOXY,CTDOXY_FLAG_W,OXYGEN,OXYGEN_FLAG_W,SILCAT,SILCAT_FLAG_W,NITRAT,NITRAT_FLAG_W,NITRIT,NITRIT_FLAG_W,PHSPHT,PHSPHT_FLAG_W,CFC-11,CFC-11_FLAG_W,CFC-12,CFC-12_FLAG_W,TCARBN,TCARBN_FLAG_W,ALKALI,ALKALI_FLAG_W,PCO2,PCO2_FLAG_W,TRITUM,TRITUM_FLAG_W,TRITER,HELIUM,HELIUM_FLAG_W,DELHE3,DELHE3_FLAG_W,DELC13,DELC13_FLAG_W,DELC14,DELC14_FLAG_W,C14ERR,NEON,NEON_FLAG_W,NEONER,CTDRAW,THETA,HELIER,DELHER
,,,,,,,,,,,METERS,DBAR,ITS-90,PSS-78,,PSS-78,,UMOL/KG,,UMOL/KG,,UMOL/KG,,UMOL/KG,,UMOL/KG,,UMOL/KG,,PMOL/KG,,PMOL/KG,,UMOL/KG,,UMOL/KG,,UATM,,TU,,TU,NMOL/KG,,PERCNT,,/MILLE,,/MILLE,,/MILLE,NMOL/KG,,NMOL/KG,DBAR,DEG C,NMOL/KG,PERCNT
 316N145_14,       I02E,    1089,          1,         36,     SIH024,2,19951208,       1650,    -8.1888,    98.6667,       5265,    12.2,  28.2939,  33.6143,2,  33.6606,2,    208.5,2,   205.6,2,    2.25,2,    0.08,2,    0.00,2,    0.09,2,   1.627,2,   0.961,2,  1873.4,2,  -999.0,9,  -999.0,5,-999.000,1,-999.000,-999.0000,1, -999.00,9, -999.00,9,  -999.0,9,  -999.0,-999.000,9,-999.000,   264.9,  28.2910,-999.0000, -999.00
 316N145_14,       I02E,    1089,          1,         35,     SIH003,2,19951208,       1650,    -8.1888,    98.6667,       5265,    36.9,  27.6965,  34.0936,2,  34.1064,2,    208.9,2,   207.1,2,    2.82,2,    0.12,2,    0.00,2,    0.12,2,   1.635,2,   0.959,2,  1904.2,2,  2232.2,2,  -999.0,5,-999.000,1,-999.000,-999.0000,1, -999.00,9, -999.00,9,  -999.0,9,  -999.0,-999.000,9,-999.000,   502.8,  27.6879,-999.0000, -999.00
 316N145_14,       I02E,    1089,          1,         34,     SIH026,2,19951208,       1650,    -8.1888,    98.6667,       5265,    68.0,  22.6157,  34.9899,2,  34.9809,2,    104.8,2,    99.5,2,   11.57,2,   13.05,2,    0.41,2,    1.14,2,   1.390,2,   0.774,2,  2087.7,2,  -999.0,9,  -999.0,5,-999.000,1,-999.000,-999.0000,1, -999.00,9, -999.00,9,  -999.0,9,  -999.0,-999.000,9,-999.000,   809.6,  22.6020,-999.0000, -999.00
 316N145_14,       I02E,    1089,          1,         33,     SIH027,2,19951208,       1650,    -8.1888,    98.6667,       5265,   107.9,  18.2232,  34.7063,2,  34.7046,2,    102.6,2,    92.7,2,   21.95,2,   18.80,2,    0.03,2,    1.33,2,   1.265,2,   0.680,2,  -999.0,9,  -999.0,9,  -999.0,5,-999.000,1,-999.000,-999.0000,1, -999.00,9, -999.00,9,  -999.0,9,  -999.0,-999.000,9,-999.000,  1206.5,  18.2046,-999.0000, -999.00
 316N145_14,       I02E,    1089,          1,         32,     SIH028,2,19951208,       1650,    -8.1888,    98.6667,       5265,   157.6,  14.8505,  34.9220,2,  34.9195,2,     61.9,2,    62.8,2,   26.45,2,   25.38,2,    0.01,2,    1.76,2,   0.822,6,   0.451,6,  -999.0,9,  -999.0,9,  -999.0,5,-999.000,1,-999.000,-999.0000,1, -999.00,9, -999.00,9,  -999.0,9,  -999.0,-999.000,9,-999.000,  1702.2,  14.8269,-999.0000, -999.00
 316N145_14,       I02E,    1089,          1,         31,     SIH029,2,19951208,       1650,    -8.1888,    98.6667,       5265,   208.2,  12.9281,  34.8774,2,  34.8749,2,     57.1,2,    60.0,2,   30.14,2,   27.64,2,    0.01,2,    1.90,2,   0.563,2,   0.305,2,  -999.0,9,  -999.0,9,  -999.0,5,-999.000,1,-999.000,-999.0000,1, -999.00,9, -999.00,9,  -999.0,9,  -999.0,-999.000,9,-999.000,  2208.6,  12.8996,-999.0000, -999.00
 316N145_14,       I02E,    1089,          1,         30,     SIH030,2,19951208,       1650,    -8.1888,    98.6667,       5265,   258.1,  11.8914,  34.9318,2,  34.9294,2,     60.2,2,    61.5,2,   28.92,2,   28.56,2,    0.00,2,    1.93,2,-999.000,5,-999.000,5,  -999.0,9,  -999.0,9,  -999.0,5,-999.000,1,-999.000,-999.0000,1, -999.00,9, -999.00,9,  -999.0,9,  -999.0,-999.000,9,-999.000,  2707.7,  11.8579,-999.0000, -999.00
 316N145_14,       I02E,    1089,          1,         29,     SIH031,2,19951208,       1650,    -8.1888,    98.6667,       5265,   306.9,  11.3547,  34.9621,2,  34.9593,2,     72.6,2,    72.2,2,   25.90,2,   28.31,2,    0.00,2,    1.90,2,   0.380,2,   0.226,2,  -999.0,9,  -999.0,9,  -999.0,5,-999.000,1,-999.000,-999.0000,1, -999.00,9, -999.00,9,  -999.0,9,  -999.0,-999.000,9,-999.000,  3196.4,  11.3159,-999.0000, -999.00
 316N145_14,       I02E,    1089,          1,         28,     SIH032,2,19951208,       1650,    -8.1888,    98.6667,       5265,   357.2,  10.7399,  34.9208,2,  34.9185,2,     63.8,2,    65.5,2,   29.42,2,   30.20,2,    0.00,2,    2.00,2,   0.209,2,   0.122,2,  -999.0,9,  -999.0,9,  -999.0,5,-999.000,1,-999.000,-999.0000,1, -999.00,9, -999.00,9,  -999.0,9,  -999.0,-999.000,9,-999.000,  3698.3,  10.6963,-999.0000, -999.00
 316N145_14,       I02E,    1089,          1,         27,     SIH033,2,19951208,       1650,    -8.1888,    98.6667,       5265,   407.3,  10.1971,  34.8841,2,  34.8831,2,     69.7,2,    69.6,2,   31.64,2,   30.86,2,    0.00,2,    2.05,2,   0.166,2,   0.104,2,  -999.0,9,  -999.0,9,  -999.0,5,-999.000,1,-999.000,-999.0000,1, -999.00,9, -999.00,9,  -999.0,9,  -999.0,-999.000,9,-999.000,  4199.7,  10.1488,-999.0000, -999.00
 316N145_14,       I02E,    1089,          1,         26,     SIH037,2,19951208,       1650,    -8.1888,    98.6667,       5265,   508.4,   9.0513,  34.8257,2,  34.8243,2,     72.2,2,    67.8,2,   43.03,2,   32.92,2,    0.00,2,    2.25,2,   0.074,2,   0.047,2,  -999.0,9,  -999.0,9,  -999.0,5,-999.000,1,-999.000,-999.0000,1, -999.00,9, -999.00,9,  -999.0,9,  -999.0,-999.000,9,-999.000,  5210.6,   8.9950,-999.0000, -999.00
 316N145_14,       I02E,    1089,          1,         25,     SI9446,2,19951208,       1650,    -8.1888,    98.6667,       5265,   603.6,   8.3230,  34.8142,2,  34.8129,2,     64.9,2,    64.0,2,   53.44,2,   34.44,2,    0.00,2,    2.41,2,   0.032,2,   0.023,2,  -999.0,9,  -999.0,9,  -999.0,5,-999.000,1,-999.000,-999.0000,1, -999.00,9, -999.00,9,  -999.0,9,  -999.0,-999.000,9,-999.000,  6162.6,   8.2590,-999.0000, -999.00
 316N145_14,       I02E,    1089,          1,         24,     SIH036,2,19951208,       1650,    -8.1888,    98.6667,       5265,   704.1,   7.5817,  34.7930,2,  34.7917,2,     62.1,2,    61.4,2,   64.84,2,   35.64,2,    0.00,2,    2.52,2,   0.019,2,   0.015,2,  -999.0,9,  -999.0,9,  -999.0,5,-999.000,1,-999.000,-999.0000,1, -999.00,9, -999.00,9,  -999.0,9,  -999.0,-999.000,9,-999.000,  7168.6,   7.5105,-999.0000, -999.00
 316N145_14,       I02E,    1089,          1,         23,     SIH001,2,19951208,       1650,    -8.1888,    98.6667,       5265,   804.4,   6.8460,  34.7654,2,  34.7646,2,     68.4,2,    64.4,2,   75.10,2,   36.31,2,    0.00,2,    2.58,2,   0.013,2,   0.008,2,  -999.0,9,  -999.0,9,  -999.0,5,-999.000,1,-999.000,-999.0000,1, -999.00,9, -999.00,9,  -999.0,9,  -999.0,-999.000,9,-999.000,  8171.4,   6.7685,-999.0000, -999.00
 316N145_14,       I02E,    1089,          1,         22,     SIH019,2,19951208,       1650,    -8.1888,    98.6667,       5265,   904.5,   5.9653,  34.7068,2,  34.7058,2,     75.0,2,    75.3,2,   86.89,2,   36.48,2,    0.00,2,    2.59,2,   0.021,2,   0.015,2,  -999.0,9,  -999.0,9,  -999.0,5,-999.000,1,-999.000,-999.0000,1, -999.00,9, -999.00,9,  -999.0,9,  -999.0,-999.000,9,-999.000,  9172.5,   5.8836,-999.0000, -999.00
 316N145_14,       I02E,    1089,          1,         21,     SIH025,2,19951208,       1650,    -8.1888,    98.6667,       5265,  1004.7,   5.4554,  34.7020,2,  34.7013,2,     78.4,2,    78.6,2,   93.52,2,   36.72,2,    0.00,2,    2.61,2,   0.010,2,   0.006,2,  -999.0,9,  -999.0,9,  -999.0,5,-999.000,1,-999.000,-999.0000,1, -999.00,9, -999.00,9,  -999.0,9,  -999.0,-999.000,9,-999.000, 10175.1,   5.3679,-999.0000, -999.00
 316N145_14,       I02E,    1089,          1,         20,     SIH004,2,19951208,       1650,    -8.1888,    98.6667,       5265,  1104.6,   5.0292,  34.7093,2,  34.7076,2,     81.6,2,    83.1,2,   98.34,2,   36.81,2,    0.00,2,    2.62,2,-999.000,5,-999.000,5,  -999.0,9,  -999.0,9,  -999.0,5,-999.000,1,-999.000,-999.0000,1, -999.00,9, -999.00,9,  -999.0,9,  -999.0,-999.000,9,-999.000, 11175.0,   4.9357,-999.0000, -999.00
 316N145_14,       I02E,    1089,          1,         19,     SIH005,2,19951208,       1650,    -8.1888,    98.6667,       5265,  1201.0,   4.6777,  34.7126,2,  34.7117,2,     88.1,2,    87.8,2,  102.44,2,   36.78,2,    0.00,2,    2.63,2,   0.004,2,   0.001,2,  -999.0,9,  -999.0,9,  -999.0,5,-999.000,1,-999.000,-999.0000,1, -999.00,9, -999.00,9,  -999.0,9,  -999.0,-999.000,9,-999.000, 12138.6,   4.5784,-999.0000, -999.00
 316N145_14,       I02E,    1089,          1,         18,     SIH006,2,19951208,       1650,    -8.1888,    98.6667,       5265,  1403.1,   4.1389,  34.7585,2,  34.7585,2,     96.0,2,    95.5,2,  104.78,2,   36.75,2,    0.00,2,    2.63,2,   0.003,2,   0.000,2,  -999.0,9,  -999.0,9,  -999.0,5,-999.000,1,-999.000,-999.0000,1, -999.00,9, -999.00,9,  -999.0,9,  -999.0,-999.000,9,-999.000, 14160.8,   4.0265,-999.0000, -999.00
 316N145_14,       I02E,    1089,          1,         17,     SIH038,2,19951208,       1650,    -8.1888,    98.6667,       5265,  1605.6,   3.5123,  34.7578,2,  34.7565,2,    109.8,2,   110.2,2,  110.14,2,   36.37,2,    0.00,2,    2.58,2,-999.000,5,-999.000,5,  -999.0,9,  -999.0,9,  -999.0,5,-999.000,1,-999.000,-999.0000,1, -999.00,9, -999.00,9,  -999.0,9,  -999.0,-999.000,9,-999.000, 16185.8,   3.3888,-999.0000, -999.00
 316N145_14,       I02E,    1089,          1,         16,     SIH008,2,19951208,       1650,    -8.1888,    98.6667,       5265,  1807.1,   3.0424,  34.7604,2,  34.7592,2,    121.8,2,   121.9,2,  114.01,2,   35.83,2,    0.00,2,    2.53,2,   0.005,2,   0.002,2,  -999.0,9,  -999.0,9,  -999.0,5,-999.000,1,-999.000,-999.0000,1, -999.00,9, -999.00,9,  -999.0,9,  -999.0,-999.000,9,-999.000, 18202.4,   2.9071,-999.0000, -999.00
 316N145_14,       I02E,    1089,          1,         15,     SIH009,2,19951208,       1650,    -8.1888,    98.6667,       5265,  2003.1,   2.6300,  34.7538,2,  34.7579,3,    133.5,2,   132.7,2,  118.39,2,   35.42,2,    0.00,2,    2.48,2,-999.000,5,-999.000,5,  -999.0,9,  -999.0,9,  -999.0,5,-999.000,1,-999.000,-999.0000,1, -999.00,9, -999.00,9,  -999.0,9,  -999.0,-999.000,9,-999.000, 20162.5,   2.4833,-999.0000, -999.00
 316N145_14,       I02E,    1089,          1,         14,     SIH010,2,19951208,       1650,    -8.1888,    98.6667,       5265,  2246.1,   2.2959,  34.7461,2,  34.7457,2,    143.0,2,   143.0,2,  121.78,2,   35.08,2,    0.00,2,    2.44,2,   0.002,2,   0.002,2,  -999.0,9,  -999.0,9,  -999.0,5,-999.000,1,-999.000,-999.0000,1, -999.00,9, -999.00,9,  -999.0,9,  -999.0,-999.000,9,-999.000, 22594.3,   2.1330,-999.0000, -999.00
 316N145_14,       I02E,    1089,          1,         13,     SIH011,2,19951208,       1650,    -8.1888,    98.6667,       5265,  2498.5,   2.0770,  34.7396,2,  34.7392,2,    148.8,2,   150.2,2,  124.19,2,   34.82,2,    0.00,2,    2.42,2,-999.000,5,-999.000,5,  -999.0,9,  -999.0,9,  -999.0,5,-999.000,1,-999.000,-999.0000,1, -999.00,9, -999.00,9,  -999.0,9,  -999.0,-999.000,9,-999.000, 25120.0,   1.8951,-999.0000, -999.00
 316N145_14,       I02E,    1089,          1,         12,     SIH012,2,19951208,       1650,    -8.1888,    98.6667,       5265,  2751.2,   1.8834,  34.7343,2,  34.7343,2,    155.5,2,   156.8,2,  125.94,2,   34.52,2,    0.00,2,    2.38,2,-999.000,5,-999.000,5,  -999.0,9,  -999.0,9,  -999.0,5,-999.000,1,-999.000,-999.0000,1, -999.00,9, -999.00,9,  -999.0,9,  -999.0,-999.000,9,-999.000, 27647.9,   1.6818,-999.0000, -999.00
 316N145_14,       I02E,    1089,          1,         11,     SI9425,2,19951208,       1650,    -8.1888,    98.6667,       5265,  3006.0,   1.7544,  34.7310,2,  34.7298,2,    160.8,2,   161.1,2,  127.52,2,   34.38,2,    0.00,2,    2.37,2,-999.000,5,-999.000,5,  -999.0,9,  -999.0,9,  -999.0,5,-999.000,1,-999.000,-999.0000,1, -999.00,9, -999.00,9,  -999.0,9,  -999.0,-999.000,9,-999.000, 30197.6,   1.5311,-999.0000, -999.00
 316N145_14,       I02E,    1089,          1,         10,     SIH014,2,19951208,       1650,    -8.1888,    98.6667,       5265,  3254.0,   1.6206,  34.7256,2,  34.7260,2,    164.5,2,   166.3,2,  128.95,2,   34.14,2,    0.00,2,    2.35,2,   0.000,2,   0.001,2,  -999.0,9,  -999.0,9,  -999.0,5,-999.000,1,-999.000,-999.0000,1, -999.00,9, -999.00,9,  -999.0,9,  -999.0,-999.000,9,-999.000, 32678.7,   1.3761,-999.0000, -999.00
 316N145_14,       I02E,    1089,          1,          9,     SIH015,2,19951208,       1650,    -8.1888,    98.6667,       5265,  3501.4,   1.4602,  34.7215,2,  34.7207,2,    174.5,2,   174.7,2,  128.56,2,   33.67,2,    0.00,2,    2.32,2,-999.000,5,-999.000,5,  -999.0,9,  -999.0,9,  -999.0,5,-999.000,1,-999.000,-999.0000,1, -999.00,9, -999.00,9,  -999.0,9,  -999.0,-999.000,9,-999.000, 35153.2,   1.1947,-999.0000, -999.00
 316N145_14,       I02E,    1089,          1,          8,     SIH016,2,19951208,       1650,    -8.1888,    98.6667,       5265,  3759.3,   1.3016,  34.7164,2,  34.7174,2,    182.3,2,   182.5,2,  128.50,2,   33.38,2,    0.00,2,    2.29,2,-999.000,5,-999.000,5,  -999.0,9,  -999.0,9,  -999.0,5,-999.000,1,-999.000,-999.0000,1, -999.00,9, -999.00,9,  -999.0,9,  -999.0,-999.000,9,-999.000, 37732.7,   1.0136,-999.0000, -999.00
 316N145_14,       I02E,    1089,          1,          7,     SIH017,2,19951208,       1650,    -8.1888,    98.6667,       5265,  3991.9,   1.2133,  34.7148,2,  34.7134,2,    187.7,2,   187.9,2,  127.46,2,   33.08,2,    0.00,2,    2.26,2,-999.000,5,-999.000,5,  -999.0,9,  -999.0,9,  -999.0,5,-999.000,1,-999.000,-999.0000,1, -999.00,9, -999.00,9,  -999.0,9,  -999.0,-999.000,9,-999.000, 40060.3,   0.9032,-999.0000, -999.00
 316N145_14,       I02E,    1089,          1,          6,     SIH018,2,19951208,       1650,    -8.1888,    98.6667,       5265,  4251.8,   1.1647,  34.7114,2,  34.7123,2,    191.1,2,   192.4,2,  126.91,2,   32.82,2,    0.00,2,    2.24,2,   0.000,2,   0.003,2,  -999.0,9,  -999.0,9,  -999.0,5,-999.000,1,-999.000,-999.0000,1, -999.00,9, -999.00,9,  -999.0,9,  -999.0,-999.000,9,-999.000, 42659.5,   0.8278,-999.0000, -999.00
 316N145_14,       I02E,    1089,          1,          5,     SIH002,2,19951208,       1650,    -8.1888,    98.6667,       5265,  4507.6,   1.1540,  34.7116,2,  34.7119,2,    194.5,2,   200.9,3,  126.04,2,   32.58,2,    0.00,2,    2.23,2,-999.000,5,-999.000,5,  -999.0,9,  -999.0,9,  -999.0,5,-999.000,1,-999.000,-999.0000,1, -999.00,9, -999.00,9,  -999.0,9,  -999.0,-999.000,9,-999.000, 45219.2,   0.7888,-999.0000, -999.00
 316N145_14,       I02E,    1089,          1,          4,     SIH020,2,19951208,       1650,    -8.1888,    98.6667,       5265,  4751.0,   1.1637,  34.7123,2,  34.7131,2,    196.9,2,   195.5,2,  125.81,2,   32.65,2,    0.00,2,    2.23,2,   0.001,2,   0.001,2,  -999.0,9,  -999.0,9,  -999.0,5,-999.000,1,-999.000,-999.0000,1, -999.00,9, -999.00,9,  -999.0,9,  -999.0,-999.000,9,-999.000, 47653.7,   0.7702,-999.0000, -999.00
 316N145_14,       I02E,    1089,          1,          3,     SIH021,2,19951208,       1650,    -8.1888,    98.6667,       5265,  5005.0,   1.1885,  34.7111,2,  34.7117,2,    196.3,2,   195.9,2,  126.25,2,   32.62,2,    0.00,2,    2.22,2,-999.000,5,-999.000,5,  -999.0,9,  -999.0,9,  -999.0,5,-999.000,1,-999.000,-999.0000,1, -999.00,9, -999.00,9,  -999.0,9,  -999.0,-999.000,9,-999.000, 50194.6,   0.7641,-999.0000, -999.00
 316N145_14,       I02E,    1089,          1,          2,     SIH022,2,19951208,       1650,    -8.1888,    98.6667,       5265,  5267.5,   1.2120,  34.7113,2,  34.7105,2,    196.3,2,   196.6,2,  125.86,2,   32.53,2,    0.00,2,    2.22,2,   0.000,2,   0.000,2,  -999.0,9,  -999.0,9,  -999.0,5,-999.000,1,-999.000,-999.0000,1, -999.00,9, -999.00,9,  -999.0,9,  -999.0,-999.000,9,-999.000, 52820.7,   0.7548,-999.0000, -999.00
 316N145_14,       I02E,    1089,          1,          1,     SIH023,2,19951208,       1650,    -8.1888,    98.6667,       5265,  5431.7,   1.2321,  34.7111,2,  34.7111,2,    197.5,2,   196.7,2,  125.83,6,   32.57,6,    0.00,6,    2.20,6,   0.000,2,   0.001,2,  -999.0,9,  -999.0,9,  -999.0,5,-999.000,1,-999.000,-999.0000,1, -999.00,9, -999.00,9,  -999.0,9,  -999.0,-999.000,9,-999.000, 54463.6,   0.7537,-999.0000, -999.00