BOTTLE,20220829CCHSIOAMB
EXPOCODE,SECT_ID,STNNBR,CASTNO,SAMPNO,BTLNBR,BTLNBR_FLAG_W,DATE,TIME,LATITUDE,LONGITUDE,DEPTH,CTDPRS,CTDTMP,CTDSAL,CTDSAL_FLAG_W,SALNTY,SALNTY_FLAG_W,CTDOXY,CTDOXY_FLAG_W,OXYGEN,OXYGEN_FLAG_W,SILCAT,SILCAT_FLAG_W,NITRAT,NITRAT_FLAG_W,NITRIT,NITRIT_FLAG_W,PHSPHT,PHSPHT_FLAG_W,CFC-11,CFC-11_FLAG_W,CFC-12,CFC-12_FLAG_W,TCARBN,TCARBN_FLAG_W,ALKALI,ALKALI_FLAG_W,PCO2,PCO2_FLAG_W,TRITUM,TRITUM_FLAG_W,TRITER,HELIUM,HELIUM_FLAG_W,DELHE3,DELHE3_FLAG_W,DELC13,DELC13_FLAG_W,DELC14,DELC14_FLAG_W,C14ERR,NEON,NEON_FLAG_W,NEONER,CTDRAW,THETA,HELIER,DELHER
,,,,,,,,,,,METERS,DBAR,ITS-90,PSS-78,,PSS-78,,UMOL/KG,,UMOL/KG,,UMOL/KG,,UMOL/KG,,UMOL/KG,,UMOL/KG,,PMOL/KG,,PMOL/KG,,UMOL/KG,,UMOL/KG,,UATM,,TU,,TU,NMOL/KG,,PERCNT,,/MILLE,,/MILLE,,/MILLE,NMOL/KG,,NMOL/KG,DBAR,DEG C,NMOL/KG,PERCNT
 316N145_14,       I02E,    1138,          1,         36,     SIH024,2,19951223,       0407,    -8.0000,    80.0000,       5375,     8.9,  28.4831,  33.9903,2,  33.9996,2,    192.0,2,   207.1,2,    2.71,2,    0.15,2,    0.00,2,    0.10,2,   1.603,2,   0.924,2,  1897.1,2,  2237.7,2,  -999.0,5,   1.072,2,   0.004,   1.7241,2,   -1.02,2, -999.00,9,  -999.0,9,  -999.0,   6.666,2,-999.000,   224.5,  28.4809,-999.0000, -999.00
 316N145_14,       I02E,    1138,          1,         35,     SIH003,2,19951223,       0407,    -8.0000,    80.0000,       5375,    36.0,  23.2556,  35.2170,2,  35.2158,2,    117.3,3,   141.1,2,    7.86,2,    8.00,2,    0.21,2,    0.75,2,   1.514,2,   0.803,2,  -999.0,9,  2305.8,2,  -999.0,5,   0.930,2,   0.004,   1.9254,2,   11.51,2, -999.00,9,  -999.0,9,  -999.0,   8.144,2,-999.000,   490.1,  23.2482,-999.0000, -999.00
 316N145_14,       I02E,    1138,          1,         34,     SIH026,2,19951223,       0407,    -8.0000,    80.0000,       5375,    65.7,  20.2706,  35.1940,2,  35.1825,2,     71.0,3,    99.7,2,   12.31,2,   15.58,2,    0.27,2,    1.13,2,   1.441,2,   0.784,2,  -999.0,9,  2309.6,2,  -999.0,5,   0.904,2,   0.004,   1.7481,2,    3.09,2, -999.00,9,  -999.0,9,  -999.0,   7.053,2,-999.000,   782.2,  20.2584,-999.0000, -999.00
 316N145_14,       I02E,    1138,          1,         33,     SIH027,2,19951223,       0407,    -8.0000,    80.0000,       5375,   100.4,  16.0295,  34.8131,2,  34.8125,2,     58.2,2,    66.9,2,   25.71,2,   23.64,2,    0.02,2,    1.64,2,   1.007,2,   0.522,2,  -999.0,9,  -999.0,9,  -999.0,5,   0.885,2,   0.004,   1.7785,2,    7.37,2, -999.00,9,  -999.0,9,  -999.0,   7.157,2,-999.000,  1127.4,  16.0136,-999.0000, -999.00
 316N145_14,       I02E,    1138,          1,         32,     SIH028,2,19951223,       0407,    -8.0000,    80.0000,       5375,   141.4,  12.8654,  34.5411,2,  34.5406,2,     98.4,2,    97.4,2,   36.03,2,   24.01,2,    0.01,2,    1.71,2,   0.891,2,   0.452,2,  -999.0,9,  -999.0,9,  -999.0,5,   0.873,2,   0.004,   1.7995,2,   10.00,2, -999.00,9,  -999.0,9,  -999.0,   7.245,2,-999.000,  1538.3,  12.8462,-999.0000, -999.00
 316N145_14,       I02E,    1138,          1,         31,     SIH029,2,19951223,       0407,    -8.0000,    80.0000,       5375,   161.6,  12.6417,  34.5362,2,  34.5353,2,     98.4,2,    98.2,2,   36.55,2,   24.24,2,    0.01,2,    1.73,2,   0.872,2,   0.442,2,  -999.0,9,  -999.0,9,  -999.0,5,-999.000,1,-999.000,   1.8023,2,    9.60,2, -999.00,9,  -999.0,9,  -999.0,   6.883,2,-999.000,  1741.8,  12.6200,-999.0000, -999.00
 316N145_14,       I02E,    1138,          1,         30,     SIH030,2,19951223,       0407,    -8.0000,    80.0000,       5375,   201.5,  12.2404,  34.5922,2,  34.5883,2,     95.1,2,    94.4,2,   37.58,2,   25.03,2,    0.01,2,    1.78,2,   0.822,2,   0.412,2,  -999.0,9,  -999.0,9,  -999.0,5,   0.810,2,   0.004,   1.8029,2,   10.18,2, -999.00,9,  -999.0,9,  -999.0,   7.344,2,-999.000,  2140.6,  12.2138,-999.0000, -999.00
 316N145_14,       I02E,    1138,          1,         29,     SIH031,3,19951223,       0407,    -8.0000,    80.0000,       5375,   251.2,  11.9051,  34.8882,2,  34.8865,2,     55.7,2,    59.2,2,   30.70,2,   28.86,2,    0.00,2,    1.98,2,   0.405,2,   0.211,2,  -999.0,9,  -999.0,9,  -999.0,5,-999.000,1,-999.000,-999.0000,1, -999.00,9, -999.00,9,  -999.0,9,  -999.0,-999.000,9,-999.000,  2638.6,  11.8725,-999.0000, -999.00
 316N145_14,       I02E,    1138,          1,         28,     SI9439,2,19951223,       0407,    -8.0000,    80.0000,       5375,   301.5,  11.2902,  34.9099,2,  34.9081,2,     59.0,2,    59.6,2,   30.01,2,   29.48,2,    0.00,2,    2.01,2,   0.273,2,   0.149,2,  -999.0,9,  -999.0,9,  -999.0,5,   0.310,2,   0.003,   1.8281,2,    7.13,2, -999.00,9,  -999.0,9,  -999.0,   7.350,2,-999.000,  3141.8,  11.2522,-999.0000, -999.00
 316N145_14,       I02E,    1138,          1,         27,     SIH033,2,19951223,       0407,    -8.0000,    80.0000,       5375,   351.5,  10.7980,  34.9112,2,  34.9103,2,     84.0,2,    80.0,2,   27.09,2,   28.25,2,    0.00,2,    1.92,2,   0.381,2,   0.195,2,  -999.0,9,  -999.0,9,  -999.0,5,   0.265,2,   0.003,   1.7921,2,    5.41,2, -999.00,9,  -999.0,9,  -999.0,   7.339,2,-999.000,  3642.4,  10.7549,-999.0000, -999.00
 316N145_14,       I02E,    1138,          1,         26,     SIH037,2,19951223,       0407,    -8.0000,    80.0000,       5375,   396.4,  10.3204,  34.8849,2,  34.8837,2,     86.3,2,    86.0,2,   28.12,2,   28.65,2,    0.00,2,    1.94,2,   0.335,2,   0.172,2,  -999.0,9,  -999.0,9,  -999.0,5,   0.214,2,   0.003,-999.0000,1, -999.00,9, -999.00,9,  -999.0,9,  -999.0,-999.000,9,-999.000,  4091.6,  10.2731,-999.0000, -999.00
 316N145_14,       I02E,    1138,          1,         25,     SI9446,2,19951223,       0407,    -8.0000,    80.0000,       5375,   495.8,   9.2295,  34.8216,2,  34.8202,2,     89.1,2,    91.9,2,   35.52,2,   30.12,2,    0.00,2,    2.08,2,   0.214,2,   0.112,2,  -999.0,9,  -999.0,9,  -999.0,5,   0.128,2,   0.002,   1.8014,2,    5.42,2, -999.00,9,  -999.0,9,  -999.0,   7.208,2,-999.000,  5086.0,   9.1740,-999.0000, -999.00
 316N145_14,       I02E,    1138,          1,         24,     SIH036,2,19951223,       0407,    -8.0000,    80.0000,       5375,   594.8,   8.3112,  34.7866,2,  34.7848,2,     78.4,2,    81.5,2,   48.41,2,   32.66,2,    0.00,2,    2.30,2,   0.085,6,   0.043,6,  -999.0,9,  -999.0,9,  -999.0,5,   0.063,2,   0.002,   1.8528,2,    6.98,2, -999.00,9,  -999.0,9,  -999.0,   7.307,2,-999.000,  6075.8,   8.2483,-999.0000, -999.00
 316N145_14,       I02E,    1138,          1,         23,     SIH001,2,19951223,       0407,    -8.0000,    80.0000,       5375,   696.3,   7.4687,  34.7551,2,  34.7539,2,     71.4,2,    71.4,2,   63.03,2,   34.81,2,    0.00,2,    2.48,2,   0.024,2,   0.008,2,  -999.0,9,  -999.0,9,  -999.0,5,   0.037,2,   0.002,   1.8472,2,    9.31,2, -999.00,9,  -999.0,9,  -999.0,   7.591,2,-999.000,  7090.6,   7.3990,-999.0000, -999.00
 316N145_14,       I02E,    1138,          1,         22,     SIH019,2,19951223,       0407,    -8.0000,    80.0000,       5375,   797.9,   6.7118,  34.7401,2,  34.7388,2,     70.6,2,    70.3,2,   75.42,2,   35.78,2,    0.00,2,    2.59,2,   0.010,2,   0.002,2,  -999.0,9,  -999.0,9,  -999.0,5,   0.024,2,   0.002,   1.8578,2,   11.34,2, -999.00,9,  -999.0,9,  -999.0,   7.620,2,-999.000,  8106.4,   6.6359,-999.0000, -999.00
 316N145_14,       I02E,    1138,          1,         21,     SIH025,2,19951223,       0407,    -8.0000,    80.0000,       5375,   898.8,   5.9777,  34.7085,2,  34.7017,2,     75.9,2,    77.2,2,   86.43,2,   35.96,2,    0.00,2,    2.62,2,   0.008,2,   0.005,2,  -999.0,9,  -999.0,9,  -999.0,5,-999.000,1,-999.000,-999.0000,1, -999.00,9, -999.00,9,  -999.0,9,  -999.0,-999.000,9,-999.000,  9115.7,   5.8965,-999.0000, -999.00
 316N145_14,       I02E,    1138,          1,         20,     SIH004,2,19951223,       0407,    -8.0000,    80.0000,       5375,   999.1,   5.4867,  34.6986,2,  34.6956,2,     83.4,2,    81.2,2,   93.15,2,   36.24,2,    0.00,2,    2.64,2,-999.000,5,-999.000,5,  -999.0,9,  -999.0,9,  -999.0,5,   0.017,2,   0.002,   1.8911,2,   13.74,2, -999.00,9,  -999.0,9,  -999.0,   7.573,2,-999.000, 10118.8,   5.3995,-999.0000, -999.00
 316N145_14,       I02E,    1138,          1,         19,     SIH005,2,19951223,       0407,    -8.0000,    80.0000,       5375,  1199.8,   4.6297,  34.7213,2,  34.7199,2,     89.7,2,    90.0,2,  102.62,2,   36.54,2,    0.00,2,    2.65,2,   0.000,2,  -0.001,2,  -999.0,9,  -999.0,9,  -999.0,5,   0.007,2,   0.002,   1.8909,2,   14.40,2, -999.00,9,  -999.0,9,  -999.0,   7.767,2,-999.000, 12127.9,   4.5309,-999.0000, -999.00
 316N145_14,       I02E,    1138,          1,         18,     SIH006,2,19951223,       0407,    -8.0000,    80.0000,       5375,  1401.1,   3.9214,  34.7451,2,  34.7439,2,    105.0,2,   103.8,2,  106.92,2,   36.15,2,    0.00,2,    2.62,2,   0.000,2,  -0.001,2,  -999.0,9,  -999.0,9,  -999.0,5,-999.000,1,-999.000,   1.8890,2,   13.25,2, -999.00,9,  -999.0,9,  -999.0,   7.947,2,   0.062, 14141.0,   3.8114,   0.0030,    0.17
 316N145_14,       I02E,    1138,          1,         17,     SIH038,2,19951223,       0407,    -8.0000,    80.0000,       5375,  1604.9,   3.2545,  34.7503,2,  34.7504,2,    116.8,2,   118.1,2,  113.47,2,   35.61,2,    0.00,2,    2.58,2,-999.000,5,-999.000,5,  -999.0,9,  -999.0,9,  -999.0,5,-999.000,1,-999.000,   1.9050,2,   13.50,2, -999.00,9,  -999.0,9,  -999.0,   8.022,2,   0.062, 16179.1,   3.1343,   0.0040,    0.17
 316N145_14,       I02E,    1138,          1,         16,     SIH008,2,19951223,       0407,    -8.0000,    80.0000,       5375,  1805.1,   2.7760,  34.7487,2,  34.7475,2,    131.8,2,   131.5,2,  117.26,2,   35.16,2,    0.00,2,    2.51,2,-999.000,5,-999.000,5,  -999.0,9,  -999.0,9,  -999.0,5,-999.000,1,-999.000,   1.8720,2,   14.18,2, -999.00,9,  -999.0,9,  -999.0,   7.903,2,   0.061, 18182.4,   2.6446,   0.0030,    0.17
 316N145_14,       I02E,    1138,          1,         15,     SIH009,2,19951223,       0407,    -8.0000,    80.0000,       5375,  2012.6,   2.4150,  34.7451,2,  34.7441,2,    142.8,2,   142.4,2,  120.84,2,   34.63,6,    0.00,6,    2.46,6,-999.000,5,-999.000,5,  -999.0,9,  -999.0,9,  -999.0,5,-999.000,1,-999.000,   1.9000,2,   14.22,2, -999.00,9,  -999.0,9,  -999.0,   8.027,2,   0.062, 20258.2,   2.2708,   0.0040,    0.17
 316N145_14,       I02E,    1138,          1,         14,     SIH010,2,19951223,       0407,    -8.0000,    80.0000,       5375,  2250.5,   2.1368,  34.7412,2,  34.7400,2,    151.5,2,   151.4,2,  122.93,6,   34.28,6,    0.00,6,    2.42,6,-999.000,5,-999.000,5,  -999.0,9,  -999.0,9,  -999.0,5,-999.000,1,-999.000,   1.8830,2,   14.79,2, -999.00,9,  -999.0,9,  -999.0,   8.109,2,   0.063, 22637.2,   1.9762,   0.0030,    0.17
 316N145_14,       I02E,    1138,          1,         13,     SIH011,2,19951223,       0407,    -8.0000,    80.0000,       5375,  2494.3,   1.9061,  34.7355,2,  34.7355,2,    157.6,2,   158.8,2,  125.18,6,   34.03,6,    0.00,6,    2.38,6,-999.000,5,-999.000,5,  -999.0,9,  -999.0,9,  -999.0,5,-999.000,1,-999.000,   1.8990,2,   14.33,2, -999.00,9,  -999.0,9,  -999.0,   8.025,2,   0.062, 25077.0,   1.7278,   0.0030,    0.17
 316N145_14,       I02E,    1138,          1,         12,     SIH012,2,19951223,       0407,    -8.0000,    80.0000,       5375,  2746.7,   1.7712,  34.7320,2,  34.7304,2,    162.5,2,   163.3,2,  127.17,6,   33.87,6,    0.00,6,    2.36,6,-999.000,5,-999.000,5,  -999.0,9,  -999.0,9,  -999.0,5,-999.000,1,-999.000,   1.9080,2,   14.01,2, -999.00,9,  -999.0,9,  -999.0,   8.042,2,   0.062, 27602.1,   1.5722,   0.0040,    0.17
 316N145_14,       I02E,    1138,          1,         11,     SI9426,2,19951223,       0407,    -8.0000,    80.0000,       5375,  3000.1,   1.6375,  34.7276,2,  34.7274,2,    165.5,2,   167.2,2,  129.33,6,   33.68,6,    0.00,6,    2.37,6,   0.001,2,   0.001,2,  -999.0,9,  -999.0,9,  -999.0,5,-999.000,1,-999.000,   1.8830,2,   13.57,2, -999.00,9,  -999.0,9,  -999.0,   8.140,2,   0.063, 30136.9,   1.4174,   0.0030,    0.17
 316N145_14,       I02E,    1138,          1,         10,     SIH014,2,19951223,       0407,    -8.0000,    80.0000,       5375,  3245.5,   1.5290,  34.7259,2,  34.7243,2,    166.9,2,   167.2,2,  134.19,2,   33.92,2,    0.00,2,    2.37,2,-999.000,5,-999.000,5,  -999.0,9,  -999.0,9,  -999.0,5,-999.000,1,-999.000,   1.9160,2,   12.43,2, -999.00,9,  -999.0,9,  -999.0,   8.179,2,   0.022, 32592.5,   1.2875,   0.0030,    0.18
 316N145_14,       I02E,    1138,          1,          9,     SIH015,2,19951223,       0407,    -8.0000,    80.0000,       5375,  3500.0,   1.4547,  34.7225,2,  34.7215,2,    168.7,2,   169.7,2,  135.92,2,   33.98,2,    0.00,2,    2.35,2,-999.000,5,-999.000,5,  -999.0,9,  -999.0,9,  -999.0,5,-999.000,1,-999.000,   1.8970,2,   12.13,2, -999.00,9,  -999.0,9,  -999.0,   8.173,2,   0.022, 35138.6,   1.1894,   0.0030,    0.18
 316N145_14,       I02E,    1138,          1,          8,     SIH016,2,19951223,       0407,    -8.0000,    80.0000,       5375,  3749.5,   1.4043,  34.7202,2,  34.7197,2,    172.7,2,   173.2,2,  135.58,2,   33.71,2,    0.00,2,    2.35,2,-999.000,5,-999.000,5,  -999.0,9,  -999.0,9,  -999.0,5,-999.000,1,-999.000,   1.9260,2,   11.91,2, -999.00,9,  -999.0,9,  -999.0,   8.233,2,   0.022, 37634.7,   1.1146,   0.0030,    0.18
 316N145_14,       I02E,    1138,          1,          7,     SIH017,2,19951223,       0407,    -8.0000,    80.0000,       5375,  3999.3,   1.3817,  34.7193,2,  34.7182,2,    175.5,2,   176.2,2,  134.91,2,   33.66,2,    0.00,2,    2.33,2,-999.000,5,-999.000,5,  -999.0,9,  -999.0,9,  -999.0,5,-999.000,1,-999.000,   1.9200,2,   11.90,2, -999.00,9,  -999.0,9,  -999.0,   8.216,2,   0.022, 40133.0,   1.0660,   0.0030,    0.18
 316N145_14,       I02E,    1138,          1,          6,     SIH018,2,19951223,       0407,    -8.0000,    80.0000,       5375,  4346.4,   1.3750,  34.7180,2,  34.7166,2,    178.1,2,   179.0,2,  134.40,2,   33.56,2,    0.00,2,    2.32,2,   0.000,2,  -0.001,2,  -999.0,9,  -999.0,9,  -999.0,5,-999.000,1,-999.000,   1.9000,2,   11.78,2, -999.00,9,  -999.0,9,  -999.0,   8.173,2,   0.022, 43606.1,   1.0211,   0.0030,    0.18
 316N145_14,       I02E,    1138,          1,          5,     SIH002,2,19951223,       0407,    -8.0000,    80.0000,       5375,  4498.7,   1.3725,  34.7174,2,  34.7168,2,    179.6,2,   180.7,2,  133.89,2,   33.46,2,    0.00,2,    2.31,2,-999.000,5,-999.000,5,  -999.0,9,  -999.0,9,  -999.0,5,-999.000,1,-999.000,   1.9020,2,   11.66,2, -999.00,9,  -999.0,9,  -999.0,   8.134,2,   0.022, 45129.1,   1.0014,   0.0030,    0.18
 316N145_14,       I02E,    1138,          1,          4,     SIH020,2,19951223,       0407,    -8.0000,    80.0000,       5375,  4755.3,   1.3802,  34.7168,2,  34.7160,2,    181.5,2,   182.3,2,  132.52,2,   33.30,2,    0.00,2,    2.30,2,-999.000,5,-999.000,5,  -999.0,9,  -999.0,9,  -999.0,5,-999.000,1,-999.000,-999.0000,1, -999.00,9, -999.00,9,  -999.0,9,  -999.0,-999.000,9,-999.000, 47697.5,   0.9790,-999.0000, -999.00
 316N145_14,       I02E,    1138,          1,          3,     SIH021,2,19951223,       0407,    -8.0000,    80.0000,       5375,  5000.7,   1.4024,  34.7165,2,  34.7156,2,    182.9,2,   182.8,2,  132.36,2,   33.18,2,    0.00,2,    2.30,2,-999.000,5,-999.000,5,  -999.0,9,  -999.0,9,  -999.0,5,-999.000,1,-999.000,   1.9090,2,   11.27,2, -999.00,9,  -999.0,9,  -999.0,   8.215,2,   0.022, 50150.7,   0.9711,   0.0030,    0.18
 316N145_14,       I02E,    1138,          1,          2,     SIH022,2,19951223,       0407,    -8.0000,    80.0000,       5375,  5245.9,   1.4180,  34.7170,2,  34.7154,2,    184.3,2,   184.3,2,  131.17,2,   33.26,2,    0.00,2,    2.28,2,   0.001,2,  -0.001,2,  -999.0,9,  -999.0,9,  -999.0,5,-999.000,1,-999.000,-999.0000,1, -999.00,9, -999.00,9,  -999.0,9,  -999.0,-999.000,9,-999.000, 52604.3,   0.9561,-999.0000, -999.00
 316N145_14,       I02E,    1138,          1,          1,     SIH023,2,19951223,       0407,    -8.0000,    80.0000,       5375,  5499.0,   1.4462,  34.7173,2,  34.7193,3,    183.0,2,   185.3,2,  131.59,6,   33.10,6,    0.00,6,    2.28,6,   0.002,2,   0.001,2,  -999.0,9,  -999.0,9,  -999.0,5,-999.000,1,-999.000,   1.8980,2,   11.49,2, -999.00,9,  -999.0,9,  -999.0,   8.198,2,   0.022, 55136.9,   0.9515,   0.0030,    0.18