BOTTLE,20220829CCHSIOAMB
EXPOCODE,SECT_ID,STNNBR,CASTNO,SAMPNO,BTLNBR,BTLNBR_FLAG_W,DATE,TIME,LATITUDE,LONGITUDE,DEPTH,CTDPRS,CTDTMP,CTDSAL,CTDSAL_FLAG_W,SALNTY,SALNTY_FLAG_W,CTDOXY,CTDOXY_FLAG_W,OXYGEN,OXYGEN_FLAG_W,SILCAT,SILCAT_FLAG_W,NITRAT,NITRAT_FLAG_W,NITRIT,NITRIT_FLAG_W,PHSPHT,PHSPHT_FLAG_W,CFC-11,CFC-11_FLAG_W,CFC-12,CFC-12_FLAG_W,TCARBN,TCARBN_FLAG_W,ALKALI,ALKALI_FLAG_W,PCO2,PCO2_FLAG_W,TRITUM,TRITUM_FLAG_W,TRITER,HELIUM,HELIUM_FLAG_W,DELHE3,DELHE3_FLAG_W,DELC13,DELC13_FLAG_W,DELC14,DELC14_FLAG_W,C14ERR,NEON,NEON_FLAG_W,NEONER,CTDRAW,THETA,HELIER,DELHER
,,,,,,,,,,,METERS,DBAR,ITS-90,PSS-78,,PSS-78,,UMOL/KG,,UMOL/KG,,UMOL/KG,,UMOL/KG,,UMOL/KG,,UMOL/KG,,PMOL/KG,,PMOL/KG,,UMOL/KG,,UMOL/KG,,UATM,,TU,,TU,NMOL/KG,,PERCNT,,/MILLE,,/MILLE,,/MILLE,NMOL/KG,,NMOL/KG,DBAR,DEG C,NMOL/KG,PERCNT
 316N145_14,       I02E,    1093,          1,         36,     SIH024,2,19951210,       0650,    -8.0000,    95.9972,       5345,    17.0,  27.4280,  34.1110,2,  34.1134,2,    220.2,2,   211.3,2,    3.95,2,    0.05,2,    0.00,2,    0.10,2,   1.659,2,   0.971,2,  1907.4,2,  2227.2,2,  -999.0,5,-999.000,1,-999.000,-999.0000,1, -999.00,9, -999.00,9,  -999.0,9,  -999.0,-999.000,9,-999.000,   314.9,  27.4241,-999.0000, -999.00
 316N145_14,       I02E,    1093,          1,         35,     SIH003,2,19951210,       0650,    -8.0000,    95.9972,       5345,    31.1,  27.4199,  34.1129,2,  34.1132,2,    217.3,2,   208.7,2,    4.13,2,    0.11,2,    0.00,2,    0.10,2,   1.674,2,   0.962,2,  1908.6,2,  -999.0,9,  -999.0,5,-999.000,1,-999.000,-999.0000,1, -999.00,9, -999.00,9,  -999.0,9,  -999.0,-999.000,9,-999.000,   450.1,  27.4127,-999.0000, -999.00
 316N145_14,       I02E,    1093,          1,         34,     SIH026,2,19951210,       0650,    -8.0000,    95.9972,       5345,    62.1,  24.8079,  34.5116,2,  34.4870,2,    211.2,4,   176.5,2,    6.66,2,    2.71,2,    0.11,2,    0.40,2,   0.847,4,   0.555,4,  1989.5,2,  -999.0,9,  -999.0,5,-999.000,1,-999.000,-999.0000,1, -999.00,9, -999.00,9,  -999.0,9,  -999.0,-999.000,9,-999.000,   752.8,  24.7946,-999.0000, -999.00
 316N145_14,       I02E,    1093,          1,         33,     SIH027,2,19951210,       0650,    -8.0000,    95.9972,       5345,    96.3,  20.2449,  34.9430,2,  34.9347,2,     75.5,2,    68.2,2,   17.70,2,   19.91,2,    0.05,2,    1.39,2,   1.253,2,   0.677,2,  -999.0,9,  -999.0,9,  -999.0,5,-999.000,1,-999.000,-999.0000,1, -999.00,9, -999.00,9,  -999.0,9,  -999.0,-999.000,9,-999.000,  1090.8,  20.2270,-999.0000, -999.00
 316N145_14,       I02E,    1093,          1,         32,     SIH028,2,19951210,       0650,    -8.0000,    95.9972,       5345,   147.3,  15.3188,  34.7562,2,  34.7551,2,     79.4,2,    74.8,2,   28.57,2,   23.39,2,    0.01,2,    1.64,2,   0.980,2,   0.513,2,  -999.0,9,  -999.0,9,  -999.0,5,-999.000,1,-999.000,-999.0000,1, -999.00,9, -999.00,9,  -999.0,9,  -999.0,-999.000,9,-999.000,  1598.4,  15.2963,-999.0000, -999.00
 316N145_14,       I02E,    1093,          1,         31,     SIH029,2,19951210,       0650,    -8.0000,    95.9972,       5345,   197.9,  12.6266,  34.8338,2,  34.8235,2,     58.3,2,    63.8,2,   32.37,2,   27.35,2,    0.00,2,    1.90,2,   0.607,2,   0.311,2,  -999.0,9,  -999.0,9,  -999.0,5,-999.000,1,-999.000,-999.0000,1, -999.00,9, -999.00,9,  -999.0,9,  -999.0,-999.000,9,-999.000,  2104.5,  12.5999,-999.0000, -999.00
 316N145_14,       I02E,    1093,          1,         30,     SIH030,2,19951210,       0650,    -8.0000,    95.9972,       5345,   247.4,  11.8794,  34.9115,2,  34.9095,2,     60.4,2,    60.6,2,   30.00,2,   28.45,2,    0.00,2,    1.94,2,-999.000,5,-999.000,5,  -999.0,9,  -999.0,9,  -999.0,5,-999.000,1,-999.000,-999.0000,1, -999.00,9, -999.00,9,  -999.0,9,  -999.0,-999.000,9,-999.000,  2599.3,  11.8473,-999.0000, -999.00
 316N145_14,       I02E,    1093,          1,         29,     SIH031,2,19951210,       0650,    -8.0000,    95.9972,       5345,   297.1,  11.3307,  34.9373,2,  34.9345,2,     63.6,2,    63.3,2,   28.92,2,   28.93,2,    0.00,2,    1.95,2,   0.305,6,   0.155,6,  -999.0,9,  -999.0,9,  -999.0,5,-999.000,1,-999.000,-999.0000,1, -999.00,9, -999.00,9,  -999.0,9,  -999.0,-999.000,9,-999.000,  3097.0,  11.2932,-999.0000, -999.00
 316N145_14,       I02E,    1093,          1,         28,     SIH032,2,19951210,       0650,    -8.0000,    95.9972,       5345,   348.6,  10.6702,  34.9024,2,  34.8985,2,     64.1,2,    64.0,2,   31.62,2,   29.97,2,    0.00,2,    2.02,2,-999.000,5,-999.000,5,  -999.0,9,  -999.0,9,  -999.0,5,-999.000,1,-999.000,-999.0000,1, -999.00,9, -999.00,9,  -999.0,9,  -999.0,-999.000,9,-999.000,  3612.9,  10.6278,-999.0000, -999.00
 316N145_14,       I02E,    1093,          1,         27,     SIH033,2,19951210,       0650,    -8.0000,    95.9972,       5345,   397.6,  10.0985,  34.8739,2,  34.8745,2,     72.9,2,    70.9,2,   32.90,2,   30.44,2,    0.00,2,    2.04,2,   0.174,2,   0.085,2,  -999.0,9,  -999.0,9,  -999.0,5,-999.000,1,-999.000,-999.0000,1, -999.00,9, -999.00,9,  -999.0,9,  -999.0,-999.000,9,-999.000,  4103.1,  10.0517,-999.0000, -999.00
 316N145_14,       I02E,    1093,          1,         26,     SIH037,2,19951210,       0650,    -8.0000,    95.9972,       5345,   498.3,   9.1959,  34.8328,2,  34.8316,2,     69.8,2,    69.1,2,   41.40,2,   32.17,2,    0.00,2,    2.22,2,   0.084,2,   0.046,2,  -999.0,9,  -999.0,9,  -999.0,5,-999.000,1,-999.000,-999.0000,1, -999.00,9, -999.00,9,  -999.0,9,  -999.0,-999.000,9,-999.000,  5109.3,   9.1402,-999.0000, -999.00
 316N145_14,       I02E,    1093,          1,         25,     SI9446,2,19951210,       0650,    -8.0000,    95.9972,       5345,   597.9,   8.4284,  34.8114,2,  34.8104,2,     65.6,2,    64.6,2,   52.26,2,   33.74,2,    0.00,2,    2.38,2,   0.035,2,   0.017,2,  -999.0,9,  -999.0,9,  -999.0,5,-999.000,1,-999.000,-999.0000,1, -999.00,9, -999.00,9,  -999.0,9,  -999.0,-999.000,9,-999.000,  6105.6,   8.3646,-999.0000, -999.00
 316N145_14,       I02E,    1093,          1,         24,     SIH036,2,19951210,       0650,    -8.0000,    95.9972,       5345,   698.8,   7.7055,  34.7911,2,  34.7907,2,     64.9,2,    61.4,2,   63.49,2,   35.10,2,    0.00,2,    2.50,2,   0.016,2,   0.006,2,  -999.0,9,  -999.0,9,  -999.0,5,-999.000,1,-999.000,-999.0000,1, -999.00,9, -999.00,9,  -999.0,9,  -999.0,-999.000,9,-999.000,  7114.1,   7.6342,-999.0000, -999.00
 316N145_14,       I02E,    1093,          1,         23,     SIH001,2,19951210,       0650,    -8.0000,    95.9972,       5345,   798.0,   6.6288,  34.7163,2,  34.7148,2,     71.6,2,    69.6,2,   78.33,2,   35.68,2,    0.00,2,    2.57,2,   0.015,2,   0.007,2,  -999.0,9,  -999.0,9,  -999.0,5,-999.000,1,-999.000,-999.0000,1, -999.00,9, -999.00,9,  -999.0,9,  -999.0,-999.000,9,-999.000,  8106.8,   6.5534,-999.0000, -999.00
 316N145_14,       I02E,    1093,          1,         22,     SIH019,2,19951210,       0650,    -8.0000,    95.9972,       5345,   899.0,   6.2014,  34.7365,2,  34.7355,2,     68.7,2,    69.2,2,   83.58,2,   36.15,2,    0.00,2,    2.62,2,   0.007,2,   0.000,2,  -999.0,9,  -999.0,9,  -999.0,5,-999.000,1,-999.000,-999.0000,1, -999.00,9, -999.00,9,  -999.0,9,  -999.0,-999.000,9,-999.000,  9117.2,   6.1187,-999.0000, -999.00
 316N145_14,       I02E,    1093,          1,         21,     SIH025,2,19951210,       0650,    -8.0000,    95.9972,       5345,   999.3,   5.5653,  34.7097,2,  34.7085,2,     76.6,2,    76.3,2,   93.90,2,   36.26,2,    0.00,2,    2.62,2,   0.008,2,   0.000,2,  -999.0,9,  -999.0,9,  -999.0,5,-999.000,1,-999.000,-999.0000,1, -999.00,9, -999.00,9,  -999.0,9,  -999.0,-999.000,9,-999.000, 10120.9,   5.4774,-999.0000, -999.00
 316N145_14,       I02E,    1093,          1,         20,     SIH004,2,19951210,       0650,    -8.0000,    95.9972,       5345,  1100.8,   5.1490,  34.7175,2,  34.7168,2,     81.2,2,    80.3,2,   98.41,2,   36.42,2,    0.00,2,    2.64,2,-999.000,5,-999.000,5,  -999.0,9,  -999.0,9,  -999.0,5,-999.000,1,-999.000,-999.0000,1, -999.00,9, -999.00,9,  -999.0,9,  -999.0,-999.000,9,-999.000, 11136.7,   5.0548,-999.0000, -999.00
 316N145_14,       I02E,    1093,          1,         19,     SIH005,2,19951210,       0650,    -8.0000,    95.9972,       5345,  1195.2,   4.8132,  34.7283,2,  34.7252,2,     85.4,2,    84.1,2,  102.03,2,   36.48,2,    0.00,2,    2.64,2,   0.000,2,  -0.003,2,  -999.0,9,  -999.0,9,  -999.0,5,-999.000,1,-999.000,-999.0000,1, -999.00,9, -999.00,9,  -999.0,9,  -999.0,-999.000,9,-999.000, 12081.5,   4.7132,-999.0000, -999.00
 316N145_14,       I02E,    1093,          1,         18,     SIH006,2,19951210,       0650,    -8.0000,    95.9972,       5345,  1398.1,   4.3523,  34.7660,2,  34.7642,2,     92.4,2,    91.5,2,  104.73,2,   36.43,2,    0.00,2,    2.64,2,-999.000,5,-999.000,5,  -999.0,9,  -999.0,9,  -999.0,5,-999.000,1,-999.000,-999.0000,1, -999.00,9, -999.00,9,  -999.0,9,  -999.0,-999.000,9,-999.000, 14111.1,   4.2380,-999.0000, -999.00
 316N145_14,       I02E,    1093,          1,         17,     SIH038,2,19951210,       0650,    -8.0000,    95.9972,       5345,  1599.1,   3.5827,  34.7571,2,  34.7569,2,    109.4,2,   108.5,2,  111.25,2,   35.91,2,    0.00,2,    2.61,2,  -0.001,2,  -0.004,2,  -999.0,9,  -999.0,9,  -999.0,5,-999.000,1,-999.000,-999.0000,1, -999.00,9, -999.00,9,  -999.0,9,  -999.0,-999.000,9,-999.000, 16121.0,   3.4590,-999.0000, -999.00
 316N145_14,       I02E,    1093,          1,         16,     SIH008,2,19951210,       0650,    -8.0000,    95.9972,       5345,  1802.3,   3.0375,  34.7546,2,  34.7528,2,    122.0,2,   122.6,2,  115.95,2,   35.39,2,    0.00,2,    2.56,2,-999.000,5,-999.000,5,  -999.0,9,  -999.0,9,  -999.0,5,-999.000,1,-999.000,-999.0000,1, -999.00,9, -999.00,9,  -999.0,9,  -999.0,-999.000,9,-999.000, 18154.7,   2.9027,-999.0000, -999.00
 316N145_14,       I02E,    1093,          1,         15,     SIH009,2,19951210,       0650,    -8.0000,    95.9972,       5345,  1998.1,   2.6177,  34.7497,2,  34.7482,2,    134.9,2,   133.8,2,  119.75,3,   34.87,2,    0.00,2,    2.51,2,  -0.001,2,   0.000,2,  -999.0,9,  -999.0,9,  -999.0,5,-999.000,1,-999.000,-999.0000,1, -999.00,9, -999.00,9,  -999.0,9,  -999.0,-999.000,9,-999.000, 20112.5,   2.4717,-999.0000, -999.00
 316N145_14,       I02E,    1093,          1,         14,     SIH010,2,19951210,       0650,    -8.0000,    95.9972,       5345,  2244.6,   2.2831,  34.7453,2,  34.7447,2,    144.7,2,   143.9,2,  123.19,3,   34.51,2,    0.00,2,    2.47,2,-999.000,5,-999.000,5,  -999.0,9,  -999.0,9,  -999.0,5,-999.000,1,-999.000,-999.0000,1, -999.00,9, -999.00,9,  -999.0,9,  -999.0,-999.000,9,-999.000, 22578.7,   2.1205,-999.0000, -999.00
 316N145_14,       I02E,    1093,          1,         13,     SIH011,2,19951210,       0650,    -8.0000,    95.9972,       5345,  2500.2,   2.0264,  34.7386,2,  34.7378,2,    152.2,2,   152.2,2,  126.26,3,   34.20,2,    0.00,2,    2.44,2,  -0.001,2,  -0.001,2,  -999.0,9,  -999.0,9,  -999.0,5,-999.000,1,-999.000,-999.0000,1, -999.00,9, -999.00,9,  -999.0,9,  -999.0,-999.000,9,-999.000, 25136.2,   1.8453,-999.0000, -999.00
 316N145_14,       I02E,    1093,          1,         12,     SIH012,2,19951210,       0650,    -8.0000,    95.9972,       5345,  2747.1,   1.8529,  34.7333,2,  34.7335,2,    158.0,2,   158.1,2,  128.24,3,   33.99,2,    0.00,2,    2.41,2,-999.000,5,-999.000,5,  -999.0,9,  -999.0,9,  -999.0,5,-999.000,1,-999.000,-999.0000,1, -999.00,9, -999.00,9,  -999.0,9,  -999.0,-999.000,9,-999.000, 27606.6,   1.6522,-999.0000, -999.00
 316N145_14,       I02E,    1093,          1,         11,     SI9425,2,19951210,       0650,    -8.0000,    95.9972,       5345,  2993.8,   1.7241,  34.7308,2,  34.7305,2,    161.1,2,   161.7,2,  130.23,3,   33.85,2,    0.00,2,    2.40,2,-999.000,5,-999.000,5,  2304.0,2,  -999.0,9,  -999.0,5,-999.000,1,-999.000,-999.0000,1, -999.00,9, -999.00,9,  -999.0,9,  -999.0,-999.000,9,-999.000, 30074.5,   1.5027,-999.0000, -999.00
 316N145_14,       I02E,    1093,          1,         10,     SIH014,3,19951210,       0650,    -8.0000,    95.9972,       5345,  3244.3,   1.5948,  34.7257,2,  34.7258,2,    166.8,2,   166.7,2,  131.31,3,   33.64,2,    0.00,2,    2.38,2,-999.000,5,-999.000,5,  -999.0,9,  -999.0,9,  -999.0,5,-999.000,1,-999.000,-999.0000,1, -999.00,9, -999.00,9,  -999.0,9,  -999.0,-999.000,9,-999.000, 32580.8,   1.3519,-999.0000, -999.00
 316N145_14,       I02E,    1093,          1,          9,     SIH015,2,19951210,       0650,    -8.0000,    95.9972,       5345,  3498.7,   1.4547,  34.7218,2,  34.7213,2,    173.0,2,   173.1,2,  131.84,3,   33.43,2,    0.00,2,    2.37,2,  -0.001,2,  -0.001,2,  -999.0,9,  -999.0,9,  -999.0,5,-999.000,1,-999.000,-999.0000,1, -999.00,9, -999.00,9,  -999.0,9,  -999.0,-999.000,9,-999.000, 35125.9,   1.1896,-999.0000, -999.00
 316N145_14,       I02E,    1093,          1,          8,     SIH016,2,19951210,       0650,    -8.0000,    95.9972,       5345,  3747.5,   1.2941,  34.7176,2,  34.7170,2,    183.0,2,   182.8,2,  130.39,3,   32.91,2,    0.00,2,    2.32,2,-999.000,5,-999.000,5,  -999.0,9,  -999.0,9,  -999.0,5,-999.000,1,-999.000,-999.0000,1, -999.00,9, -999.00,9,  -999.0,9,  -999.0,-999.000,9,-999.000, 37615.2,   1.0075,-999.0000, -999.00
 316N145_14,       I02E,    1093,          1,          7,     SIH017,2,19951210,       0650,    -8.0000,    95.9972,       5345,  3996.4,   1.1967,  34.7144,2,  34.7148,2,    188.4,2,   189.0,2,  129.30,3,   32.65,2,    0.00,2,    2.30,2,-999.000,5,-999.000,5,  -999.0,9,  -999.0,9,  -999.0,5,-999.000,1,-999.000,-999.0000,1, -999.00,9, -999.00,9,  -999.0,9,  -999.0,-999.000,9,-999.000, 40104.7,   0.8866,-999.0000, -999.00
 316N145_14,       I02E,    1093,          1,          6,     SIH018,2,19951210,       0650,    -8.0000,    95.9972,       5345,  4246.6,   1.1569,  34.7128,2,  34.7131,2,    192.3,2,   192.8,2,  128.39,3,   32.45,2,    0.00,2,    2.24,2,-999.000,5,-999.000,5,  -999.0,9,  -999.0,9,  -999.0,5,-999.000,1,-999.000,-999.0000,1, -999.00,9, -999.00,9,  -999.0,9,  -999.0,-999.000,9,-999.000, 42607.7,   0.8208,-999.0000, -999.00
 316N145_14,       I02E,    1093,          1,          5,     SIH002,2,19951210,       0650,    -8.0000,    95.9972,       5345,  4495.7,   1.1565,  34.7128,2,  34.7125,2,    194.9,2,   194.5,2,  127.47,3,   32.35,2,    0.00,2,    2.23,2,  -0.001,2,   0.000,2,  -999.0,9,  -999.0,9,  -999.0,5,-999.000,1,-999.000,-999.0000,1, -999.00,9, -999.00,9,  -999.0,9,  -999.0,-999.000,9,-999.000, 45100.5,   0.7926,-999.0000, -999.00
 316N145_14,       I02E,    1093,          1,          4,     SIH020,2,19951210,       0650,    -8.0000,    95.9972,       5345,  4751.0,   1.1744,  34.7127,2,  34.7127,2,    194.4,2,   195.3,2,  127.29,3,   32.24,2,    0.00,2,    2.24,2,-999.000,5,-999.000,5,  -999.0,9,  -999.0,9,  -999.0,5,-999.000,1,-999.000,-999.0000,1, -999.00,9, -999.00,9,  -999.0,9,  -999.0,-999.000,9,-999.000, 47653.8,   0.7805,-999.0000, -999.00
 316N145_14,       I02E,    1093,          1,          3,     SIH021,2,19951210,       0650,    -8.0000,    95.9972,       5345,  5000.3,   1.2004,  34.7124,2,  34.7138,2,    196.4,2,   196.3,2,  126.92,3,   32.20,2,    0.00,2,    2.23,2,-999.000,5,-999.000,5,  -999.0,9,  -999.0,9,  -999.0,5,-999.000,1,-999.000,-999.0000,1, -999.00,9, -999.00,9,  -999.0,9,  -999.0,-999.000,9,-999.000, 50147.0,   0.7761,-999.0000, -999.00
 316N145_14,       I02E,    1093,          1,          2,     SIH022,2,19951210,       0650,    -8.0000,    95.9972,       5345,  5305.7,   1.2308,  34.7123,2,  34.7127,2,    196.8,2,   197.3,2,  126.38,3,   32.21,2,    0.00,2,    2.22,2,-999.000,5,-999.000,5,  -999.0,9,  -999.0,9,  -999.0,5,-999.000,1,-999.000,-999.0000,1, -999.00,9, -999.00,9,  -999.0,9,  -999.0,-999.000,9,-999.000, 53203.0,   0.7682,-999.0000, -999.00
 316N145_14,       I02E,    1093,          1,          1,     SIH023,2,19951210,       0650,    -8.0000,    95.9972,       5345,  5464.4,   1.2486,  34.7125,2,  34.7123,2,    196.5,2,   198.1,2,  126.04,3,   32.13,6,    0.00,6,    2.22,6,   0.001,2,   0.004,2,  -999.0,9,  -999.0,9,  -999.0,5,-999.000,1,-999.000,-999.0000,1, -999.00,9, -999.00,9,  -999.0,9,  -999.0,-999.000,9,-999.000, 54791.2,   0.7655,-999.0000, -999.00