BOTTLE,20220829CCHSIOAMB
EXPOCODE,SECT_ID,STNNBR,CASTNO,SAMPNO,BTLNBR,BTLNBR_FLAG_W,DATE,TIME,LATITUDE,LONGITUDE,DEPTH,CTDPRS,CTDTMP,CTDSAL,CTDSAL_FLAG_W,SALNTY,SALNTY_FLAG_W,CTDOXY,CTDOXY_FLAG_W,OXYGEN,OXYGEN_FLAG_W,SILCAT,SILCAT_FLAG_W,NITRAT,NITRAT_FLAG_W,NITRIT,NITRIT_FLAG_W,PHSPHT,PHSPHT_FLAG_W,CFC-11,CFC-11_FLAG_W,CFC-12,CFC-12_FLAG_W,TCARBN,TCARBN_FLAG_W,ALKALI,ALKALI_FLAG_W,PCO2,PCO2_FLAG_W,TRITUM,TRITUM_FLAG_W,TRITER,HELIUM,HELIUM_FLAG_W,DELHE3,DELHE3_FLAG_W,DELC13,DELC13_FLAG_W,DELC14,DELC14_FLAG_W,C14ERR,NEON,NEON_FLAG_W,NEONER,CTDRAW,THETA,HELIER,DELHER
,,,,,,,,,,,METERS,DBAR,ITS-90,PSS-78,,PSS-78,,UMOL/KG,,UMOL/KG,,UMOL/KG,,UMOL/KG,,UMOL/KG,,UMOL/KG,,PMOL/KG,,PMOL/KG,,UMOL/KG,,UMOL/KG,,UATM,,TU,,TU,NMOL/KG,,PERCNT,,/MILLE,,/MILLE,,/MILLE,NMOL/KG,,NMOL/KG,DBAR,DEG C,NMOL/KG,PERCNT
 316N145_14,       I02E,    1105,          1,         31,     SIH029,2,19951213,       1504,    -8.0000,    89.0000,       2369,     8.3,  27.3021,  34.3023,2,  34.3029,2,    215.7,2,   207.1,2,    2.66,2,    0.23,2,    0.00,2,    0.10,2,-999.000,5,-999.000,5,  1925.1,2,  2251.0,2,  -999.0,5,-999.000,1,-999.000,-999.0000,1, -999.00,9, -999.00,9,  -999.0,9,  -999.0,-999.000,9,-999.000,   219.0,  27.3002,-999.0000, -999.00
 316N145_14,       I02E,    1105,          1,         30,     SIH030,2,19951213,       1504,    -8.0000,    89.0000,       2369,    29.7,  26.7260,  34.3145,2,  34.3839,2,    225.5,2,   209.0,2,    3.57,2,    0.39,2,    0.00,2,    0.19,2,-999.000,5,-999.000,5,  1952.1,2,  -999.0,9,  -999.0,5,-999.000,1,-999.000,-999.0000,1, -999.00,9, -999.00,9,  -999.0,9,  -999.0,-999.000,9,-999.000,   430.8,  26.7192,-999.0000, -999.00
 316N145_14,       I02E,    1105,          1,         29,     SIH031,2,19951213,       1504,    -8.0000,    89.0000,       2369,    60.4,  23.8837,  34.4907,2,  34.5366,2,    150.4,2,   137.8,2,   10.33,2,    9.57,2,    0.19,2,    0.74,2,-999.000,5,-999.000,5,  2029.6,2,  2269.2,2,  -999.0,5,-999.000,1,-999.000,-999.0000,1, -999.00,9, -999.00,9,  -999.0,9,  -999.0,-999.000,9,-999.000,   734.7,  23.8710,-999.0000, -999.00
 316N145_14,       I02E,    1105,          1,         28,     SIH032,2,19951213,       1504,    -8.0000,    89.0000,       2369,    89.3,  19.2394,  34.8014,2,  34.8029,2,     91.0,2,    75.8,2,   18.00,2,   19.58,2,    0.07,2,    1.36,2,-999.000,5,-999.000,5,  -999.0,9,  -999.0,9,  -999.0,5,-999.000,1,-999.000,-999.0000,1, -999.00,9, -999.00,9,  -999.0,9,  -999.0,-999.000,9,-999.000,  1022.6,  19.2234,-999.0000, -999.00
 316N145_14,       I02E,    1105,          1,         27,     SIH033,2,19951213,       1504,    -8.0000,    89.0000,       2369,   119.7,  17.0121,  34.7876,2,  34.7970,2,     80.1,2,    75.3,2,   23.48,2,   21.89,2,    0.01,2,    1.54,2,-999.000,5,-999.000,5,  -999.0,9,  -999.0,9,  -999.0,5,-999.000,1,-999.000,-999.0000,1, -999.00,9, -999.00,9,  -999.0,9,  -999.0,-999.000,9,-999.000,  1324.9,  16.9924,-999.0000, -999.00
 316N145_14,       I02E,    1105,          1,         26,     SIH037,2,19951213,       1504,    -8.0000,    89.0000,       2369,   149.8,  14.9246,  34.7079,2,  34.7060,2,     83.9,2,    80.3,2,   30.24,2,   24.05,2,    0.01,2,    1.70,2,-999.000,5,-999.000,5,  -999.0,9,  -999.0,9,  -999.0,5,-999.000,1,-999.000,-999.0000,1, -999.00,9, -999.00,9,  -999.0,9,  -999.0,-999.000,9,-999.000,  1625.5,  14.9021,-999.0000, -999.00
 316N145_14,       I02E,    1105,          1,         25,     SI9446,2,19951213,       1504,    -8.0000,    89.0000,       2369,   199.8,  12.6827,  34.7588,2,  34.7722,2,     64.8,2,    66.7,2,   33.34,2,   27.63,2,    0.00,2,    1.94,2,-999.000,5,-999.000,5,  -999.0,9,  -999.0,9,  -999.0,5,-999.000,1,-999.000,-999.0000,1, -999.00,9, -999.00,9,  -999.0,9,  -999.0,-999.000,9,-999.000,  2124.1,  12.6557,-999.0000, -999.00
 316N145_14,       I02E,    1105,          1,         24,     SIH036,2,19951213,       1504,    -8.0000,    89.0000,       2369,   249.9,  11.4799,  34.7964,2,  34.8005,2,     66.7,2,    65.7,2,   34.83,2,   29.04,2,    0.00,2,    2.01,2,-999.000,5,-999.000,5,  -999.0,9,  -999.0,9,  -999.0,5,-999.000,1,-999.000,-999.0000,1, -999.00,9, -999.00,9,  -999.0,9,  -999.0,-999.000,9,-999.000,  2625.3,  11.4483,-999.0000, -999.00
 316N145_14,       I02E,    1105,          1,         23,     SIH001,2,19951213,       1504,    -8.0000,    89.0000,       2369,   300.1,  10.9195,  34.8726,2,  34.8711,2,     59.2,2,    61.0,2,   33.04,2,   30.33,2,    0.00,2,    2.06,2,-999.000,5,-999.000,5,  -999.0,9,  -999.0,9,  -999.0,5,-999.000,1,-999.000,-999.0000,1, -999.00,9, -999.00,9,  -999.0,9,  -999.0,-999.000,9,-999.000,  3128.1,  10.8825,-999.0000, -999.00
 316N145_14,       I02E,    1105,          1,         22,     SIH019,2,19951213,       1504,    -8.0000,    89.0000,       2369,   349.9,  10.4228,  34.8835,2,  34.8823,2,     61.1,2,    65.0,2,   32.62,2,   30.89,2,    0.00,2,    2.08,2,-999.000,5,-999.000,5,  -999.0,9,  -999.0,9,  -999.0,5,-999.000,1,-999.000,-999.0000,1, -999.00,9, -999.00,9,  -999.0,9,  -999.0,-999.000,9,-999.000,  3625.4,  10.3809,-999.0000, -999.00
 316N145_14,       I02E,    1105,          1,         21,     SIH025,2,19951213,       1504,    -8.0000,    89.0000,       2369,   399.6,   9.8075,  34.8614,2,  34.8597,2,     69.6,2,    70.0,2,   35.12,2,   31.60,2,    0.00,2,    2.14,2,-999.000,5,-999.000,5,  -999.0,9,  -999.0,9,  -999.0,5,-999.000,1,-999.000,-999.0000,1, -999.00,9, -999.00,9,  -999.0,9,  -999.0,-999.000,9,-999.000,  4122.3,   9.7613,-999.0000, -999.00
 316N145_14,       I02E,    1105,          1,         20,     SIH004,2,19951213,       1504,    -8.0000,    89.0000,       2369,   500.2,   8.7851,  34.8140,2,  34.8121,2,     68.7,2,    66.3,2,   47.55,2,   33.54,2,    0.00,2,    2.36,2,-999.000,5,-999.000,5,  -999.0,9,  -999.0,9,  -999.0,5,-999.000,1,-999.000,-999.0000,1, -999.00,9, -999.00,9,  -999.0,9,  -999.0,-999.000,9,-999.000,  5127.7,   8.7307,-999.0000, -999.00
 316N145_14,       I02E,    1105,          1,         19,     SIH005,2,19951213,       1504,    -8.0000,    89.0000,       2369,   599.7,   7.9985,  34.7911,2,  34.7891,2,     65.0,2,    65.1,2,   57.04,2,   34.73,2,    0.00,2,    2.48,2,-999.000,5,-999.000,5,  -999.0,9,  -999.0,9,  -999.0,5,-999.000,1,-999.000,-999.0000,1, -999.00,9, -999.00,9,  -999.0,9,  -999.0,-999.000,9,-999.000,  6121.9,   7.9364,-999.0000, -999.00
 316N145_14,       I02E,    1105,          1,         18,     SIH006,2,19951213,       1504,    -8.0000,    89.0000,       2369,   700.8,   7.3569,  34.7818,2,  34.7783,2,     61.5,2,    62.0,2,   69.09,2,   35.89,2,    0.00,2,    2.59,2,-999.000,5,-999.000,5,  -999.0,9,  -999.0,9,  -999.0,5,-999.000,1,-999.000,-999.0000,1, -999.00,9, -999.00,9,  -999.0,9,  -999.0,-999.000,9,-999.000,  7132.5,   7.2873,-999.0000, -999.00
 316N145_14,       I02E,    1105,          1,         17,     SIH038,2,19951213,       1504,    -8.0000,    89.0000,       2369,   800.5,   6.6167,  34.7519,2,  34.7492,2,     65.4,2,    66.1,2,   79.85,2,   36.46,2,    0.00,2,    2.65,2,-999.000,5,-999.000,5,  -999.0,9,  -999.0,9,  -999.0,5,-999.000,1,-999.000,-999.0000,1, -999.00,9, -999.00,9,  -999.0,9,  -999.0,-999.000,9,-999.000,  8129.4,   6.5411,-999.0000, -999.00
 316N145_14,       I02E,    1105,          1,         16,     SIH008,2,19951213,       1504,    -8.0000,    89.0000,       2369,   901.9,   5.9557,  34.7164,2,  34.7160,2,     72.9,2,    72.7,2,   88.61,2,   36.55,2,    0.00,2,    2.65,2,-999.000,5,-999.000,5,  -999.0,9,  -999.0,9,  -999.0,5,-999.000,1,-999.000,-999.0000,1, -999.00,9, -999.00,9,  -999.0,9,  -999.0,-999.000,9,-999.000,  9143.8,   5.8743,-999.0000, -999.00
 316N145_14,       I02E,    1105,          1,         15,     SIH009,2,19951213,       1504,    -8.0000,    89.0000,       2369,  1001.9,   5.2332,  34.6851,2,  34.6867,2,     83.4,2,    81.8,2,   97.56,2,   36.59,2,    0.00,2,    2.65,2,-999.000,5,-999.000,5,  -999.0,9,  -999.0,9,  -999.0,5,-999.000,1,-999.000,   1.8650,2,   14.95,2, -999.00,9,  -999.0,9,  -999.0,   7.829,2,   0.030, 10143.7,   5.1477,   0.0050,    0.11
 316N145_14,       I02E,    1105,          1,         14,     SIH010,2,19951213,       1504,    -8.0000,    89.0000,       2369,  1102.3,   4.8637,  34.7167,2,  34.7134,2,     86.1,2,    84.7,2,  102.11,2,   36.96,2,    0.00,2,    2.69,2,-999.000,5,-999.000,5,  -999.0,9,  -999.0,9,  -999.0,5,-999.000,1,-999.000,-999.0000,1, -999.00,9, -999.00,9,  -999.0,9,  -999.0,-999.000,9,-999.000, 11146.8,   4.7718,-999.0000, -999.00
 316N145_14,       I02E,    1105,          1,         13,     SIH011,2,19951213,       1504,    -8.0000,    89.0000,       2369,  1197.2,   4.4868,  34.7083,2,  34.7056,2,     88.4,2,    90.7,2,  106.29,2,   36.58,2,    0.00,2,    2.64,2,-999.000,5,-999.000,5,  -999.0,9,  -999.0,9,  -999.0,5,-999.000,1,-999.000,-999.0000,1, -999.00,9, -999.00,9,  -999.0,9,  -999.0,-999.000,9,-999.000, 12096.7,   4.3896,-999.0000, -999.00
 316N145_14,       I02E,    1105,          1,         12,     SIH012,2,19951213,       1504,    -8.0000,    89.0000,       2369,  1298.7,   4.2254,  34.7185,2,  34.7182,2,     96.1,2,    94.4,2,  108.29,2,   36.62,2,    0.00,2,    2.65,2,-999.000,5,-999.000,5,  -999.0,9,  -999.0,9,  -999.0,5,-999.000,1,-999.000,   1.8970,2,   14.59,2, -999.00,9,  -999.0,9,  -999.0,   7.955,2,   0.030, 13111.2,   4.1216,   0.0040,    0.11
 316N145_14,       I02E,    1105,          1,         11,     SI9426,2,19951213,       1504,    -8.0000,    89.0000,       2369,  1399.7,   3.9331,  34.7237,2,  34.7250,2,    103.3,2,    99.7,2,  110.65,2,   36.72,2,    0.00,2,    2.65,2,-999.000,5,-999.000,5,  -999.0,9,  -999.0,9,  -999.0,5,-999.000,1,-999.000,-999.0000,1, -999.00,9, -999.00,9,  -999.0,9,  -999.0,-999.000,9,-999.000, 14121.2,   3.8232,-999.0000, -999.00
 316N145_14,       I02E,    1105,          1,         10,     SIH014,2,19951213,       1504,    -8.0000,    89.0000,       2369,  1600.9,   3.3386,  34.7464,2,  34.7457,2,    114.5,2,   113.5,2,  115.02,2,   36.19,2,    0.00,2,    2.61,2,-999.000,5,-999.000,5,  -999.0,9,  -999.0,9,  -999.0,5,-999.000,1,-999.000,   1.8820,2,   14.26,2, -999.00,9,  -999.0,9,  -999.0,   7.958,2,   0.030, 16132.9,   3.2177,   0.0040,    0.11
 316N145_14,       I02E,    1105,          1,          9,     SIH015,2,19951213,       1504,    -8.0000,    89.0000,       2369,  1797.7,   2.9282,  34.7483,2,  34.7480,2,    125.6,2,   124.0,2,  117.92,2,   35.70,2,    0.00,2,    2.56,2,-999.000,5,-999.000,5,  -999.0,9,  -999.0,9,  -999.0,5,-999.000,1,-999.000,-999.0000,1, -999.00,9, -999.00,9,  -999.0,9,  -999.0,-999.000,9,-999.000, 18099.6,   2.7953,-999.0000, -999.00
 316N145_14,       I02E,    1105,          1,          8,     SIH016,2,19951213,       1504,    -8.0000,    89.0000,       2369,  1999.1,   2.5242,  34.7448,2,  34.7455,2,    135.8,2,   136.3,2,  121.19,2,   35.28,2,    0.00,2,    2.50,2,-999.000,5,-999.000,5,  -999.0,9,  -999.0,9,  -999.0,5,-999.000,1,-999.000,-999.0000,5, -999.00,5, -999.00,9,  -999.0,9,  -999.0,-999.000,5,-999.000, 20113.1,   2.3795,-999.0000, -999.00
 316N145_14,       I02E,    1105,          1,          2,     SIH022,2,19951213,       1504,    -8.0000,    89.0000,       2369,  2197.9,   2.2562,  34.7421,2,  34.7416,2,    147.3,2,   146.0,2,  122.83,2,   34.75,2,    0.00,2,    2.44,2,-999.000,5,-999.000,5,  -999.0,9,  -999.0,9,  -999.0,5,-999.000,1,-999.000,   1.8830,2,   14.72,2, -999.00,9,  -999.0,9,  -999.0,   8.072,2,   0.031, 22096.8,   2.0982,   0.0040,    0.11
 316N145_14,       I02E,    1105,          1,          1,     SIH023,2,19951213,       1504,    -8.0000,    89.0000,       2369,  2379.4,   1.9760,  34.7378,2,  34.7376,2,    155.0,2,   155.0,2,  125.55,6,   34.37,6,    0.00,6,    2.42,6,-999.000,5,-999.000,5,  -999.0,9,  -999.0,9,  -999.0,5,-999.000,1,-999.000,   2.6400,4,   10.69,4, -999.00,9,  -999.0,9,  -999.0,  10.540,4,   0.040, 23912.3,   1.8067,   0.0060,    0.10