BOTTLE,20220829CCHSIOAMB
EXPOCODE,SECT_ID,STNNBR,CASTNO,SAMPNO,BTLNBR,BTLNBR_FLAG_W,DATE,TIME,LATITUDE,LONGITUDE,DEPTH,CTDPRS,CTDTMP,CTDSAL,CTDSAL_FLAG_W,SALNTY,SALNTY_FLAG_W,CTDOXY,CTDOXY_FLAG_W,OXYGEN,OXYGEN_FLAG_W,SILCAT,SILCAT_FLAG_W,NITRAT,NITRAT_FLAG_W,NITRIT,NITRIT_FLAG_W,PHSPHT,PHSPHT_FLAG_W,CFC-11,CFC-11_FLAG_W,CFC-12,CFC-12_FLAG_W,TCARBN,TCARBN_FLAG_W,ALKALI,ALKALI_FLAG_W,PCO2,PCO2_FLAG_W,TRITUM,TRITUM_FLAG_W,TRITER,HELIUM,HELIUM_FLAG_W,DELHE3,DELHE3_FLAG_W,DELC13,DELC13_FLAG_W,DELC14,DELC14_FLAG_W,C14ERR,NEON,NEON_FLAG_W,NEONER,CTDRAW,THETA,HELIER,DELHER
,,,,,,,,,,,METERS,DBAR,ITS-90,PSS-78,,PSS-78,,UMOL/KG,,UMOL/KG,,UMOL/KG,,UMOL/KG,,UMOL/KG,,UMOL/KG,,PMOL/KG,,PMOL/KG,,UMOL/KG,,UMOL/KG,,UATM,,TU,,TU,NMOL/KG,,PERCNT,,/MILLE,,/MILLE,,/MILLE,NMOL/KG,,NMOL/KG,DBAR,DEG C,NMOL/KG,PERCNT
 316N145_14,       I02E,    1142,          1,         36,     SIH024,2,19951224,       0921,    -8.0000,    77.3333,       5327,    10.3,  28.7926,  33.9578,2,  33.9820,2,    199.0,2,   210.4,2,    2.88,2,    0.11,2,    0.00,2,    0.08,3,   1.582,2,   0.924,2,  1889.9,2,  2229.6,2,  -999.0,5,-999.000,1,-999.000,-999.0000,1, -999.00,9, -999.00,9,  -999.0,9,  -999.0,-999.000,9,-999.000,   242.5,  28.7901,-999.0000, -999.00
 316N145_14,       I02E,    1142,          1,         35,     SIH003,2,19951224,       0921,    -8.0000,    77.3333,       5327,    31.6,  26.0231,  35.1694,2,  35.1658,2,    181.7,2,   188.4,2,    5.41,2,    0.26,2,    0.00,2,    0.35,3,-999.000,5,-999.000,5,  2014.2,2,  2301.3,2,  -999.0,5,-999.000,1,-999.000,-999.0000,1, -999.00,9, -999.00,9,  -999.0,9,  -999.0,-999.000,9,-999.000,   450.8,  26.0160,-999.0000, -999.00
 316N145_14,       I02E,    1142,          1,         34,     SIH026,2,19951224,       0921,    -8.0000,    77.3333,       5327,    62.1,  21.8086,  35.1854,2,  35.1947,2,    115.4,2,   134.8,2,    9.98,2,   10.16,2,    0.40,2,    0.86,3,   1.502,2,   0.840,2,  2077.9,2,  2312.9,2,  -999.0,5,-999.000,1,-999.000,-999.0000,1, -999.00,9, -999.00,9,  -999.0,9,  -999.0,-999.000,9,-999.000,   751.1,  21.7964,-999.0000, -999.00
 316N145_14,       I02E,    1142,          1,         33,     SIH027,2,19951224,       0921,    -8.0000,    77.3333,       5327,   102.0,  17.7525,  35.1211,2,  35.1228,2,     81.4,2,    87.8,2,   16.74,2,   18.99,2,    0.04,2,    1.36,3,   1.307,2,   0.697,2,  -999.0,9,  -999.0,9,  -999.0,5,-999.000,1,-999.000,-999.0000,1, -999.00,9, -999.00,9,  -999.0,9,  -999.0,-999.000,9,-999.000,  1146.6,  17.7352,-999.0000, -999.00
 316N145_14,       I02E,    1142,          1,         32,     SIH028,2,19951224,       0921,    -8.0000,    77.3333,       5327,   152.1,  14.7786,  34.9816,2,  34.9805,2,     72.9,2,    70.5,2,   24.18,2,   24.01,2,    0.01,2,    1.66,3,   0.938,2,   0.496,2,  -999.0,9,  -999.0,9,  -999.0,5,-999.000,1,-999.000,-999.0000,1, -999.00,9, -999.00,9,  -999.0,9,  -999.0,-999.000,9,-999.000,  1646.9,  14.7558,-999.0000, -999.00
 316N145_14,       I02E,    1142,          1,         31,     SIH029,3,19951224,       0921,    -8.0000,    77.3333,       5327,   202.7,  12.8456,  34.9380,2,  34.9323,2,     70.2,2,    69.3,2,   27.91,2,   26.28,2,    0.01,2,    1.84,3,-999.000,5,-999.000,5,  -999.0,9,  -999.0,9,  -999.0,5,-999.000,1,-999.000,-999.0000,1, -999.00,9, -999.00,9,  -999.0,9,  -999.0,-999.000,9,-999.000,  2152.6,  12.8180,-999.0000, -999.00
 316N145_14,       I02E,    1142,          1,         30,     SIH030,2,19951224,       0921,    -8.0000,    77.3333,       5327,   252.2,  11.9399,  34.9466,2,  34.9451,2,     84.4,2,    84.4,2,   26.39,2,   25.90,2,    0.00,2,    1.79,3,   0.650,2,   0.337,2,  -999.0,9,  -999.0,9,  -999.0,5,-999.000,1,-999.000,-999.0000,1, -999.00,9, -999.00,9,  -999.0,9,  -999.0,-999.000,9,-999.000,  2647.2,  11.9071,-999.0000, -999.00
 316N145_14,       I02E,    1142,          1,         29,     SIH031,3,19951224,       0921,    -8.0000,    77.3333,       5327,   302.5,  11.1381,  34.9249,2,  34.9201,2,     91.1,2,    95.5,2,   25.72,2,   26.00,2,    0.01,2,    1.79,3,-999.000,5,-999.000,5,  -999.0,9,  -999.0,9,  -999.0,5,-999.000,1,-999.000,-999.0000,1, -999.00,9, -999.00,9,  -999.0,9,  -999.0,-999.000,9,-999.000,  3150.5,  11.1004,-999.0000, -999.00
 316N145_14,       I02E,    1142,          1,         28,     SI9439,2,19951224,       0921,    -8.0000,    77.3333,       5327,   347.0,  10.3939,  34.8734,2,  34.8739,2,    108.1,2,   108.2,2,   25.57,2,   26.23,2,    0.00,2,    1.79,3,   0.620,2,   0.315,2,  -999.0,9,  -999.0,9,  -999.0,5,-999.000,1,-999.000,-999.0000,1, -999.00,9, -999.00,9,  -999.0,9,  -999.0,-999.000,9,-999.000,  3595.9,  10.3524,-999.0000, -999.00
 316N145_14,       I02E,    1142,          1,         27,     SIH033,2,19951224,       0921,    -8.0000,    77.3333,       5327,   397.3,   9.6201,  34.8148,2,  34.8163,2,    112.5,2,   112.1,2,   28.95,2,   27.28,2,    0.00,2,    1.88,3,   0.477,2,   0.243,2,  -999.0,9,  -999.0,9,  -999.0,5,-999.000,1,-999.000,-999.0000,1, -999.00,9, -999.00,9,  -999.0,9,  -999.0,-999.000,9,-999.000,  4098.2,   9.5747,-999.0000, -999.00
 316N145_14,       I02E,    1142,          1,         26,     SIH037,2,19951224,       0921,    -8.0000,    77.3333,       5327,   497.5,   8.7353,  34.7885,2,  34.7880,2,     90.4,2,    90.5,2,   41.30,2,   31.15,2,    0.00,2,    2.17,3,   0.155,6,   0.083,6,  -999.0,9,  -999.0,9,  -999.0,5,-999.000,1,-999.000,-999.0000,1, -999.00,9, -999.00,9,  -999.0,9,  -999.0,-999.000,9,-999.000,  5100.8,   8.6814,-999.0000, -999.00
 316N145_14,       I02E,    1142,          1,         25,     SI9446,2,19951224,       0921,    -8.0000,    77.3333,       5327,   598.5,   7.8016,  34.7778,2,  34.7763,2,     75.1,2,    75.3,2,   57.54,2,   34.08,2,    0.00,2,    2.43,3,-999.000,5,-999.000,5,  -999.0,9,  -999.0,9,  -999.0,5,-999.000,1,-999.000,-999.0000,1, -999.00,9, -999.00,9,  -999.0,9,  -999.0,-999.000,9,-999.000,  6110.4,   7.7406,-999.0000, -999.00
 316N145_14,       I02E,    1142,          1,         24,     SIH036,2,19951224,       0921,    -8.0000,    77.3333,       5327,   697.9,   7.1427,  34.7578,2,  34.7590,2,     68.6,2,    69.3,2,   69.72,2,   35.46,2,    0.00,2,    2.56,3,   0.023,2,   0.027,2,  -999.0,9,  -999.0,9,  -999.0,5,-999.000,1,-999.000,-999.0000,1, -999.00,9, -999.00,9,  -999.0,9,  -999.0,-999.000,9,-999.000,  7105.0,   7.0745,-999.0000, -999.00
 316N145_14,       I02E,    1142,          1,         23,     SIH001,2,19951224,       0921,    -8.0000,    77.3333,       5327,   798.5,   6.3889,  34.7274,2,  34.7270,2,     69.7,2,    71.7,2,   81.22,2,   36.01,2,    0.00,2,    2.61,3,   0.010,2,   0.010,2,  -999.0,9,  -999.0,9,  -999.0,5,-999.000,1,-999.000,-999.0000,1, -999.00,9, -999.00,9,  -999.0,9,  -999.0,-999.000,9,-999.000,  8111.5,   6.3148,-999.0000, -999.00
 316N145_14,       I02E,    1142,          1,         22,     SIH019,2,19951224,       0921,    -8.0000,    77.3333,       5327,   898.8,   5.8368,  34.7093,2,  34.7087,2,     74.9,2,    76.3,2,   89.01,2,   36.28,2,    0.00,2,    2.63,3,   0.006,2,   0.006,2,  -999.0,9,  -999.0,9,  -999.0,5,-999.000,1,-999.000,-999.0000,1, -999.00,9, -999.00,9,  -999.0,9,  -999.0,-999.000,9,-999.000,  9115.1,   5.7566,-999.0000, -999.00
 316N145_14,       I02E,    1142,          1,         21,     SIH025,3,19951224,       0921,    -8.0000,    77.3333,       5327,  1000.1,   5.2888,  34.7008,2,  34.6999,2,     80.6,2,    81.3,2,   96.29,2,   36.39,2,    0.00,2,    2.65,3,-999.000,5,-999.000,5,  -999.0,9,  -999.0,9,  -999.0,5,-999.000,1,-999.000,-999.0000,1, -999.00,9, -999.00,9,  -999.0,9,  -999.0,-999.000,9,-999.000, 10128.0,   5.2030,-999.0000, -999.00
 316N145_14,       I02E,    1142,          1,         20,     SIH004,2,19951224,       0921,    -8.0000,    77.3333,       5327,  1095.7,   4.9122,  34.7074,2,  34.7068,2,     86.3,2,    85.7,2,  100.70,2,   36.50,2,    0.00,2,    2.66,3,   0.005,2,  -0.001,2,  -999.0,9,  -999.0,9,  -999.0,5,-999.000,1,-999.000,-999.0000,1, -999.00,9, -999.00,9,  -999.0,9,  -999.0,-999.000,9,-999.000, 11085.6,   4.8206,-999.0000, -999.00
 316N145_14,       I02E,    1142,          1,         19,     SIH005,2,19951224,       0921,    -8.0000,    77.3333,       5327,  1196.1,   4.6014,  34.7267,2,  34.7258,2,     88.8,2,    90.0,2,  103.24,2,   36.50,2,    0.00,2,    2.66,3,   0.005,2,   0.000,2,  -999.0,9,  -999.0,9,  -999.0,5,-999.000,1,-999.000,-999.0000,1, -999.00,9, -999.00,9,  -999.0,9,  -999.0,-999.000,9,-999.000, 12090.5,   4.5032,-999.0000, -999.00
 316N145_14,       I02E,    1142,          1,         18,     SIH006,2,19951224,       0921,    -8.0000,    77.3333,       5327,  1397.6,   3.9897,  34.7491,2,  34.7504,2,    102.5,2,   101.6,2,  107.48,2,   36.33,2,    0.00,2,    2.63,3,   0.007,2,   0.007,2,  -999.0,9,  -999.0,9,  -999.0,5,-999.000,1,-999.000,-999.0000,1, -999.00,9, -999.00,9,  -999.0,9,  -999.0,-999.000,9,-999.000, 14105.2,   3.8794,-999.0000, -999.00
 316N145_14,       I02E,    1142,          1,         17,     SIH038,2,19951224,       0921,    -8.0000,    77.3333,       5327,  1595.0,   3.3575,  34.7523,2,  34.7524,2,    118.1,2,   117.9,2,  111.56,2,   35.77,2,    0.00,2,    2.57,3,-999.000,5,-999.000,5,  -999.0,9,  -999.0,9,  -999.0,5,-999.000,1,-999.000,-999.0000,1, -999.00,9, -999.00,9,  -999.0,9,  -999.0,-999.000,9,-999.000, 16080.7,   3.2369,-999.0000, -999.00
 316N145_14,       I02E,    1142,          1,         16,     SIH008,2,19951224,       0921,    -8.0000,    77.3333,       5327,  1795.5,   2.8597,  34.7537,2,  34.7541,2,    130.6,2,   129.7,2,  116.92,6,   35.45,6,    0.00,6,    2.53,3,-999.000,5,-999.000,5,  -999.0,9,  -999.0,9,  -999.0,5,-999.000,1,-999.000,-999.0000,1, -999.00,9, -999.00,9,  -999.0,9,  -999.0,-999.000,9,-999.000, 18086.1,   2.7280,-999.0000, -999.00
 316N145_14,       I02E,    1142,          1,         15,     SIH009,2,19951224,       0921,    -8.0000,    77.3333,       5327,  1987.7,   2.5158,  34.7491,2,  34.7486,2,    140.5,2,   139.9,2,  120.21,2,   34.82,2,    0.00,2,    2.48,3,-999.000,5,-999.000,5,  -999.0,9,  -999.0,9,  -999.0,5,-999.000,1,-999.000,-999.0000,1, -999.00,9, -999.00,9,  -999.0,9,  -999.0,-999.000,9,-999.000, 20009.1,   2.3722,-999.0000, -999.00
 316N145_14,       I02E,    1142,          1,         14,     SIH010,2,19951224,       0921,    -8.0000,    77.3333,       5327,  2242.1,   2.1666,  34.7404,2,  34.7408,2,    151.5,2,   150.8,2,  123.09,2,   34.38,2,    0.00,2,    2.42,3,-999.000,5,-999.000,5,  -999.0,9,  -999.0,9,  -999.0,5,-999.000,1,-999.000,-999.0000,1, -999.00,9, -999.00,9,  -999.0,9,  -999.0,-999.000,9,-999.000, 22553.7,   2.0062,-999.0000, -999.00
 316N145_14,       I02E,    1142,          1,         13,     SIH011,2,19951224,       0921,    -8.0000,    77.3333,       5327,  2489.1,   1.9250,  34.7328,2,  34.7343,2,    159.2,2,   159.4,2,  125.13,2,   33.88,2,    0.00,2,    2.40,3,-999.000,5,-999.000,5,  -999.0,9,  -999.0,9,  -999.0,5,-999.000,1,-999.000,-999.0000,1, -999.00,9, -999.00,9,  -999.0,9,  -999.0,-999.000,9,-999.000, 25025.0,   1.7468,-999.0000, -999.00
 316N145_14,       I02E,    1142,          1,         12,     SIH012,2,19951224,       0921,    -8.0000,    77.3333,       5327,  2742.6,   1.7753,  34.7321,2,  34.7327,2,    162.1,2,   163.6,2,  127.85,2,   33.99,2,    0.00,2,    2.38,3,   0.006,2,   0.004,2,  -999.0,9,  -999.0,9,  -999.0,5,-999.000,1,-999.000,-999.0000,1, -999.00,9, -999.00,9,  -999.0,9,  -999.0,-999.000,9,-999.000, 27561.7,   1.5766,-999.0000, -999.00
 316N145_14,       I02E,    1142,          1,         11,     SI9426,2,19951224,       0921,    -8.0000,    77.3333,       5327,  2991.7,   1.6615,  34.7288,2,  34.7300,2,    164.9,2,   165.1,2,  131.42,2,   33.76,2,    0.00,2,    2.38,3,-999.000,5,-999.000,5,  -999.0,9,  -999.0,9,  -999.0,5,-999.000,1,-999.000,-999.0000,1, -999.00,9, -999.00,9,  -999.0,9,  -999.0,-999.000,9,-999.000, 30053.9,   1.4417,-999.0000, -999.00
 316N145_14,       I02E,    1142,          1,         10,     SIH014,2,19951224,       0921,    -8.0000,    77.3333,       5327,  3245.2,   1.5365,  34.7244,2,  34.7258,2,    168.2,2,   168.7,2,  133.80,2,   33.98,2,    0.00,2,    2.37,3,-999.000,5,-999.000,5,  -999.0,9,  -999.0,9,  -999.0,5,-999.000,1,-999.000,-999.0000,1, -999.00,9, -999.00,9,  -999.0,9,  -999.0,-999.000,9,-999.000, 32589.7,   1.2949,-999.0000, -999.00
 316N145_14,       I02E,    1142,          1,          9,     SIH015,2,19951224,       0921,    -8.0000,    77.3333,       5327,  3500.4,   1.4277,  34.7211,2,  34.7223,2,    171.3,2,   171.9,2,  135.74,6,   33.86,6,    0.00,6,    2.36,3,-999.000,5,-999.000,5,  -999.0,9,  -999.0,9,  -999.0,5,-999.000,1,-999.000,-999.0000,1, -999.00,9, -999.00,9,  -999.0,9,  -999.0,-999.000,9,-999.000, 35142.4,   1.1631,-999.0000, -999.00
 316N145_14,       I02E,    1142,          1,          8,     SIH016,2,19951224,       0921,    -8.0000,    77.3333,       5327,  3753.7,   1.3836,  34.7195,2,  34.7203,2,    173.5,2,   174.9,2,  135.84,6,   33.80,6,    0.00,6,    2.35,3,-999.000,5,-999.000,5,  -999.0,9,  -999.0,9,  -999.0,5,-999.000,1,-999.000,-999.0000,1, -999.00,9, -999.00,9,  -999.0,9,  -999.0,-999.000,9,-999.000, 37675.7,   1.0940,-999.0000, -999.00
 316N145_14,       I02E,    1142,          1,          7,     SIH017,2,19951224,       0921,    -8.0000,    77.3333,       5327,  3998.9,   1.3667,  34.7182,2,  34.7193,2,    177.2,2,   177.3,2,  135.54,2,   33.52,2,    0.00,2,    2.34,3,   0.006,2,   0.004,2,  -999.0,9,  -999.0,9,  -999.0,5,-999.000,1,-999.000,-999.0000,1, -999.00,9, -999.00,9,  -999.0,9,  -999.0,-999.000,9,-999.000, 40130.0,   1.0514,-999.0000, -999.00
 316N145_14,       I02E,    1142,          1,          6,     SIH018,2,19951224,       0921,    -8.0000,    77.3333,       5327,  4253.9,   1.3619,  34.7175,2,  34.7176,2,    178.7,2,   179.3,2,  135.21,2,   33.52,2,    0.00,2,    2.32,3,-999.000,5,-999.000,5,  -999.0,9,  -999.0,9,  -999.0,5,-999.000,1,-999.000,-999.0000,1, -999.00,9, -999.00,9,  -999.0,9,  -999.0,-999.000,9,-999.000, 42681.4,   1.0188,-999.0000, -999.00
 316N145_14,       I02E,    1142,          1,          5,     SIH002,2,19951224,       0921,    -8.0000,    77.3333,       5327,  4500.6,   1.3662,  34.7171,2,  34.7174,2,    180.7,2,   181.1,2,  134.71,2,   33.52,2,    0.00,2,    2.33,3,-999.000,5,-999.000,5,  -999.0,9,  -999.0,9,  -999.0,5,-999.000,1,-999.000,-999.0000,1, -999.00,9, -999.00,9,  -999.0,9,  -999.0,-999.000,9,-999.000, 45148.6,   0.9951,-999.0000, -999.00
 316N145_14,       I02E,    1142,          1,          4,     SIH020,2,19951224,       0921,    -8.0000,    77.3333,       5327,  4756.3,   1.3802,  34.7160,2,  34.7172,2,    181.8,2,   182.1,2,  133.88,2,   33.30,2,    0.00,2,    2.30,3,-999.000,5,-999.000,5,  -999.0,9,  -999.0,9,  -999.0,5,-999.000,1,-999.000,-999.0000,1, -999.00,9, -999.00,9,  -999.0,9,  -999.0,-999.000,9,-999.000, 47706.6,   0.9789,-999.0000, -999.00
 316N145_14,       I02E,    1142,          1,          3,     SIH021,2,19951224,       0921,    -8.0000,    77.3333,       5327,  5002.6,   1.4034,  34.7164,2,  34.7170,2,    183.0,2,   182.4,2,  133.38,2,   33.41,2,    0.00,2,    2.32,3,-999.000,5,-999.000,5,  -999.0,9,  -999.0,9,  -999.0,5,-999.000,1,-999.000,-999.0000,1, -999.00,9, -999.00,9,  -999.0,9,  -999.0,-999.000,9,-999.000, 50171.4,   0.9719,-999.0000, -999.00
 316N145_14,       I02E,    1142,          1,          2,     SIH022,2,19951224,       0921,    -8.0000,    77.3333,       5327,  5248.5,   1.4313,  34.7161,2,  34.7180,2,    183.5,2,   182.9,2,  133.57,2,   33.41,2,    0.00,2,    2.31,3,-999.000,5,-999.000,5,  -999.0,9,  -999.0,9,  -999.0,5,-999.000,1,-999.000,-999.0000,1, -999.00,9, -999.00,9,  -999.0,9,  -999.0,-999.000,9,-999.000, 52630.6,   0.9686,-999.0000, -999.00
 316N145_14,       I02E,    1142,          1,          1,     SIH023,2,19951224,       0921,    -8.0000,    77.3333,       5327,  5453.0,   1.4560,  34.7150,2,  34.7170,2,    182.5,2,   183.5,2,  133.11,6,   33.29,6,    0.00,6,    2.30,3,   0.002,2,   0.000,2,  -999.0,9,  -999.0,9,  -999.0,5,-999.000,1,-999.000,-999.0000,1, -999.00,9, -999.00,9,  -999.0,9,  -999.0,-999.000,9,-999.000, 54676.9,   0.9668,-999.0000, -999.00