BOTTLE,20220829CCHSIOAMB
EXPOCODE,SECT_ID,STNNBR,CASTNO,SAMPNO,BTLNBR,BTLNBR_FLAG_W,DATE,TIME,LATITUDE,LONGITUDE,DEPTH,CTDPRS,CTDTMP,CTDSAL,CTDSAL_FLAG_W,SALNTY,SALNTY_FLAG_W,CTDOXY,CTDOXY_FLAG_W,OXYGEN,OXYGEN_FLAG_W,SILCAT,SILCAT_FLAG_W,NITRAT,NITRAT_FLAG_W,NITRIT,NITRIT_FLAG_W,PHSPHT,PHSPHT_FLAG_W,CFC-11,CFC-11_FLAG_W,CFC-12,CFC-12_FLAG_W,TCARBN,TCARBN_FLAG_W,ALKALI,ALKALI_FLAG_W,PCO2,PCO2_FLAG_W,TRITUM,TRITUM_FLAG_W,TRITER,HELIUM,HELIUM_FLAG_W,DELHE3,DELHE3_FLAG_W,DELC13,DELC13_FLAG_W,DELC14,DELC14_FLAG_W,C14ERR,NEON,NEON_FLAG_W,NEONER,CTDRAW,THETA,HELIER,DELHER
,,,,,,,,,,,METERS,DBAR,ITS-90,PSS-78,,PSS-78,,UMOL/KG,,UMOL/KG,,UMOL/KG,,UMOL/KG,,UMOL/KG,,UMOL/KG,,PMOL/KG,,PMOL/KG,,UMOL/KG,,UMOL/KG,,UATM,,TU,,TU,NMOL/KG,,PERCNT,,/MILLE,,/MILLE,,/MILLE,NMOL/KG,,NMOL/KG,DBAR,DEG C,NMOL/KG,PERCNT
 316N145_14,       I02E,    1108,          1,         36,     SIH024,2,19951214,       1408,    -5.3333,    88.5000,       4945,    11.2,  27.5081,  33.9332,2,  33.9334,2,    200.2,2,   207.7,2,    2.47,3,    0.18,2,    0.00,2,    0.12,2,   1.655,2,   0.964,2,  1895.3,2,  2221.3,2,  -999.0,5,-999.000,1,-999.000,-999.0000,1, -999.00,9, -999.00,9,  -999.0,9,  -999.0,-999.000,9,-999.000,   260.6,  27.5055,-999.0000, -999.00
 316N145_14,       I02E,    1108,          1,         35,     SIH003,3,19951214,       1408,    -5.3333,    88.5000,       4945,    48.1,  27.1803,  34.9789,2,-999.0000,9,    209.7,2,   199.3,2, -999.00,9, -999.00,9, -999.00,9, -999.00,9,-999.000,5,-999.000,5,  1956.9,2,  -999.0,9,  -999.0,5,-999.000,1,-999.000,-999.0000,1, -999.00,9, -999.00,9,  -999.0,9,  -999.0,-999.000,9,-999.000,   625.5,  27.1692,-999.0000, -999.00
 316N145_14,       I02E,    1108,          1,         34,     SIH026,2,19951214,       1408,    -5.3333,    88.5000,       4945,    96.5,  23.4170,  35.2592,2,  35.2611,2,     92.2,2,   108.6,2,    8.23,3,   11.92,2,    0.81,2,    1.00,2,   1.472,2,   0.825,2,  2084.2,2,  -999.0,9,  -999.0,5,-999.000,1,-999.000,-999.0000,1, -999.00,9, -999.00,9,  -999.0,9,  -999.0,-999.000,9,-999.000,  1094.1,  23.3970,-999.0000, -999.00
 316N145_14,       I02E,    1108,          1,         33,     SIH027,3,19951214,       1408,    -5.3333,    88.5000,       4945,   147.6,  16.0515,  34.9089,2,  34.8989,2,     59.4,2,    59.8,2,   23.69,3,   24.37,2,    0.01,2,    1.68,2,-999.000,5,-999.000,5,  -999.0,9,  -999.0,9,  -999.0,5,-999.000,1,-999.000,-999.0000,1, -999.00,9, -999.00,9,  -999.0,9,  -999.0,-999.000,9,-999.000,  1603.3,  16.0282,-999.0000, -999.00
 316N145_14,       I02E,    1108,          1,         32,     SIH028,2,19951214,       1408,    -5.3333,    88.5000,       4945,   197.8,  12.9490,  34.9077,2,  34.9231,2,     69.9,2,    69.0,2,   26.93,3,   26.23,2,    0.00,2,    1.82,2,   0.669,6,   0.345,6,  -999.0,9,  -999.0,9,  -999.0,5,-999.000,1,-999.000,-999.0000,1, -999.00,9, -999.00,9,  -999.0,9,  -999.0,-999.000,9,-999.000,  2103.9,  12.9219,-999.0000, -999.00
 316N145_14,       I02E,    1108,          1,         31,     SIH029,2,19951214,       1408,    -5.3333,    88.5000,       4945,   298.4,  11.5101,  34.9898,2,  34.9872,2,     76.4,2,    76.0,2,   24.24,3,   27.19,2,    0.00,2,    1.85,2,   0.425,2,   0.219,2,  -999.0,9,  -999.0,9,  -999.0,5,-999.000,1,-999.000,-999.0000,1, -999.00,9, -999.00,9,  -999.0,9,  -999.0,-999.000,9,-999.000,  3110.9,  11.4721,-999.0000, -999.00
 316N145_14,       I02E,    1108,          1,         30,     SIH030,2,19951214,       1408,    -5.3333,    88.5000,       4945,   397.7,  10.3762,  34.9143,2,  34.9091,2,     64.7,2,    64.9,2,   30.36,3,   30.94,2,    0.00,2,    2.05,2,-999.000,5,-999.000,5,  -999.0,9,  -999.0,9,  -999.0,5,-999.000,1,-999.000,-999.0000,1, -999.00,9, -999.00,9,  -999.0,9,  -999.0,-999.000,9,-999.000,  4103.6,  10.3286,-999.0000, -999.00
 316N145_14,       I02E,    1108,          1,         29,     SIH031,2,19951214,       1408,    -5.3333,    88.5000,       4945,   498.6,   9.2910,  34.8705,2,  34.8696,2,     62.3,2,    64.2,2,   40.63,3,   32.48,2,    0.00,2,    2.25,2,-999.000,5,-999.000,5,  -999.0,9,  -999.0,9,  -999.0,5,-999.000,1,-999.000,-999.0000,1, -999.00,9, -999.00,9,  -999.0,9,  -999.0,-999.000,9,-999.000,  5112.2,   9.2349,-999.0000, -999.00
 316N145_14,       I02E,    1108,          1,         28,     SIH032,2,19951214,       1408,    -5.3333,    88.5000,       4945,   598.8,   8.5401,  34.8500,2,  34.8475,2,     61.2,2,    62.1,2,   50.90,3,   33.96,2,    0.00,2,    2.40,2,   0.031,2,   0.016,2,  -999.0,9,  -999.0,9,  -999.0,5,-999.000,1,-999.000,-999.0000,1, -999.00,9, -999.00,9,  -999.0,9,  -999.0,-999.000,9,-999.000,  6115.5,   8.4757,-999.0000, -999.00
 316N145_14,       I02E,    1108,          1,         27,     SIH033,4,19951214,       1408,    -5.3333,    88.5000,       4945,   699.4,   7.7146,  34.8386,2,  34.7366,4,     55.0,2,   157.3,4,  127.57,4,   34.07,4,    0.00,4,    2.38,4,   0.005,2,   0.002,2,  -999.0,9,  -999.0,9,  -999.0,5,-999.000,1,-999.000,-999.0000,1, -999.00,9, -999.00,9,  -999.0,9,  -999.0,-999.000,9,-999.000,  7121.8,   7.6432,-999.0000, -999.00
 316N145_14,       I02E,    1108,          1,         26,     SIH037,2,19951214,       1408,    -5.3333,    88.5000,       4945,   794.8,   7.0735,  34.8177,2,  34.8176,2,     61.3,2,    62.4,2,   71.79,3,   35.93,2,    0.00,2,    2.60,2,   0.008,2,   0.003,2,  -999.0,9,  -999.0,9,  -999.0,5,-999.000,1,-999.000,-999.0000,1, -999.00,9, -999.00,9,  -999.0,9,  -999.0,-999.000,9,-999.000,  8076.2,   6.9956,-999.0000, -999.00
 316N145_14,       I02E,    1108,          1,         25,     SI9446,2,19951214,       1408,    -5.3333,    88.5000,       4945,   995.7,   6.0469,  34.8043,2,  34.8041,2,     69.6,2,    68.1,2,   86.21,3,   36.56,2,    0.00,2,    2.66,2,   0.003,2,   0.002,2,  -999.0,9,  -999.0,9,  -999.0,5,-999.000,1,-999.000,-999.0000,1, -999.00,9, -999.00,9,  -999.0,9,  -999.0,-999.000,9,-999.000, 10084.9,   5.9557,-999.0000, -999.00
 316N145_14,       I02E,    1108,          1,         24,     SIH036,2,19951214,       1408,    -5.3333,    88.5000,       4945,  1247.2,   5.0203,  34.8025,2,  34.8025,2,     79.0,2,    77.8,2,   98.10,3,   36.89,2,    0.00,2,    2.68,2,-999.000,5,-999.000,5,  -999.0,9,  -999.0,9,  -999.0,5,-999.000,1,-999.000,-999.0000,1, -999.00,9, -999.00,9,  -999.0,9,  -999.0,-999.000,9,-999.000, 12601.7,   4.9134,-999.0000, -999.00
 316N145_14,       I02E,    1108,          1,         23,     SIH001,2,19951214,       1408,    -5.3333,    88.5000,       4945,  1497.2,   4.1756,  34.8036,2,  34.8039,2,     95.3,2,    94.2,2,  105.86,3,   36.52,2,    0.00,2,    2.63,2,-999.000,5,-999.000,5,  -999.0,9,  -999.0,9,  -999.0,5,-999.000,1,-999.000,-999.0000,1, -999.00,9, -999.00,9,  -999.0,9,  -999.0,-999.000,9,-999.000, 15101.7,   4.0541,-999.0000, -999.00
 316N145_14,       I02E,    1108,          1,         22,     SIH019,2,19951214,       1408,    -5.3333,    88.5000,       4945,  1739.7,   3.3640,  34.7841,2,  34.7842,2,    114.1,2,   112.6,2,  114.16,3,   36.11,2,    0.00,2,    2.58,2,   0.002,2,   0.000,2,  -999.0,9,  -999.0,9,  -999.0,5,-999.000,1,-999.000,-999.0000,1, -999.00,9, -999.00,9,  -999.0,9,  -999.0,-999.000,9,-999.000, 17527.6,   3.2304,-999.0000, -999.00
 316N145_14,       I02E,    1108,          1,         21,     SIH025,2,19951214,       1408,    -5.3333,    88.5000,       4945,  1988.8,   2.7942,  34.7675,2,  34.7677,2,    128.1,2,   126.2,2,  120.31,3,   35.54,2,    0.00,2,    2.54,2,-999.000,5,-999.000,5,  -999.0,9,  -999.0,9,  -999.0,5,-999.000,1,-999.000,-999.0000,1, -999.00,9, -999.00,9,  -999.0,9,  -999.0,-999.000,9,-999.000, 20019.9,   2.6463,-999.0000, -999.00
 316N145_14,       I02E,    1108,          1,         20,     SIH004,2,19951214,       1408,    -5.3333,    88.5000,       4945,  2245.3,   2.4037,  34.7568,2,  34.7565,2,    137.7,2,   137.6,2,  125.38,3,   35.27,2,    0.00,2,    2.47,2,-999.000,5,-999.000,5,  -999.0,9,  -999.0,9,  -999.0,5,-999.000,1,-999.000,-999.0000,1, -999.00,9, -999.00,9,  -999.0,9,  -999.0,-999.000,9,-999.000, 22585.1,   2.2390,-999.0000, -999.00
 316N145_14,       I02E,    1108,          1,         19,     SIH005,2,19951214,       1408,    -5.3333,    88.5000,       4945,  2498.4,   2.0710,  34.7434,2,  34.7433,2,    148.8,2,   149.6,2,  128.09,3,   34.34,3,    0.00,3,    2.39,3,-999.000,5,-999.000,5,  -999.0,9,  -999.0,9,  -999.0,5,-999.000,1,-999.000,-999.0000,1, -999.00,9, -999.00,9,  -999.0,9,  -999.0,-999.000,9,-999.000, 25117.6,   1.8892,-999.0000, -999.00
 316N145_14,       I02E,    1108,          1,         18,     SIH006,2,19951214,       1408,    -5.3333,    88.5000,       4945,  2746.7,   1.8619,  34.7349,2,  34.7353,2,    156.3,2,   157.9,2,  127.04,3,   34.81,3,    0.00,3,    2.43,3,-999.000,5,-999.000,5,  -999.0,9,  -999.0,9,  -999.0,5,-999.000,1,-999.000,-999.0000,1, -999.00,9, -999.00,9,  -999.0,9,  -999.0,-999.000,9,-999.000, 27602.5,   1.6611,-999.0000, -999.00
 316N145_14,       I02E,    1108,          1,         16,     SIH008,2,19951214,       1408,    -5.3333,    88.5000,       4945,  3235.4,   1.5648,  34.7254,2,-999.0000,9,    166.2,2,   157.8,4, -999.00,9, -999.00,9, -999.00,9, -999.00,9,-999.000,5,-999.000,5,  -999.0,9,  -999.0,9,  -999.0,5,-999.000,1,-999.000,-999.0000,1, -999.00,9, -999.00,9,  -999.0,9,  -999.0,-999.000,9,-999.000, 32490.8,   1.3235,-999.0000, -999.00
 316N145_14,       I02E,    1108,          1,         12,     SIH012,2,19951214,       1408,    -5.3333,    88.5000,       4945,  3993.6,   1.3926,  34.7186,2,  34.7197,2,    173.8,2,   174.0,2,  136.25,3,   33.93,2,    0.00,2,    2.33,2,   0.002,2,   0.002,2,  -999.0,9,  -999.0,9,  -999.0,5,-999.000,1,-999.000,-999.0000,1, -999.00,9, -999.00,9,  -999.0,9,  -999.0,-999.000,9,-999.000, 40077.3,   1.0772,-999.0000, -999.00
 316N145_14,       I02E,    1108,          1,         11,     SI9426,2,19951214,       1408,    -5.3333,    88.5000,       4945,  4095.4,   1.3942,  34.7183,2,  34.7191,2,    175.1,2,   174.7,2,  136.45,3,   34.03,2,    0.00,2,    2.32,2,-999.000,5,-999.000,5,  -999.0,9,  -999.0,9,  -999.0,5,-999.000,1,-999.000,-999.0000,1, -999.00,9, -999.00,9,  -999.0,9,  -999.0,-999.000,9,-999.000, 41095.0,   1.0676,-999.0000, -999.00
 316N145_14,       I02E,    1108,          1,         10,     SIH014,2,19951214,       1408,    -5.3333,    88.5000,       4945,  4197.8,   1.3940,  34.7174,2,  34.7184,2,    175.1,2,   175.3,2,  136.11,3,   34.14,2,    0.00,2,    2.34,2,-999.000,5,-999.000,5,  -999.0,9,  -999.0,9,  -999.0,5,-999.000,1,-999.000,-999.0000,1, -999.00,9, -999.00,9,  -999.0,9,  -999.0,-999.000,9,-999.000, 42119.0,   1.0562,-999.0000, -999.00
 316N145_14,       I02E,    1108,          1,          9,     SIH015,2,19951214,       1408,    -5.3333,    88.5000,       4945,  4295.2,   1.3930,  34.7175,2,  34.7184,2,    175.7,2,   176.1,2,  135.77,3,   33.94,2,    0.00,2,    2.34,2,-999.000,5,-999.000,5,  -999.0,9,  -999.0,9,  -999.0,5,-999.000,1,-999.000,-999.0000,1, -999.00,9, -999.00,9,  -999.0,9,  -999.0,-999.000,9,-999.000, 43094.3,   1.0443,-999.0000, -999.00
 316N145_14,       I02E,    1108,          1,          8,     SIH016,2,19951214,       1408,    -5.3333,    88.5000,       4945,  4392.2,   1.3924,  34.7182,2,  34.7176,2,    177.0,2,   177.2,2,  135.61,3,   33.79,2,    0.00,2,    2.32,2,  -0.001,2,  -0.001,2,  -999.0,9,  -999.0,9,  -999.0,5,-999.000,1,-999.000,-999.0000,1, -999.00,9, -999.00,9,  -999.0,9,  -999.0,-999.000,9,-999.000, 44063.8,   1.0328,-999.0000, -999.00
 316N145_14,       I02E,    1108,          1,          7,     SIH017,2,19951214,       1408,    -5.3333,    88.5000,       4945,  4494.8,   1.3829,  34.7175,2,  34.7184,2,    178.7,2,   179.3,2,  133.65,3,   33.80,2,    0.00,2,    2.32,2,-999.000,5,-999.000,5,  -999.0,9,  -999.0,9,  -999.0,5,-999.000,1,-999.000,-999.0000,1, -999.00,9, -999.00,9,  -999.0,9,  -999.0,-999.000,9,-999.000, 45089.7,   1.0119,-999.0000, -999.00
 316N145_14,       I02E,    1108,          1,          6,     SIH018,2,19951214,       1408,    -5.3333,    88.5000,       4945,  4596.2,   1.3865,  34.7174,2,  34.7172,2,    180.7,2,   179.6,2,  134.03,3,   33.49,2,    0.00,2,    2.32,2,-999.000,5,-999.000,5,  -999.0,9,  -999.0,9,  -999.0,5,-999.000,1,-999.000,-999.0000,1, -999.00,9, -999.00,9,  -999.0,9,  -999.0,-999.000,9,-999.000, 46105.0,   1.0037,-999.0000, -999.00
 316N145_14,       I02E,    1108,          1,          5,     SIH002,2,19951214,       1408,    -5.3333,    88.5000,       4945,  4698.3,   1.3926,  34.7171,2,  34.7172,2,    181.0,2,   180.0,2,  133.87,3,   33.75,2,    0.00,2,    2.31,2,-999.000,5,-999.000,5,  -999.0,9,  -999.0,9,  -999.0,5,-999.000,1,-999.000,-999.0000,1, -999.00,9, -999.00,9,  -999.0,9,  -999.0,-999.000,9,-999.000, 47125.3,   0.9977,-999.0000, -999.00
 316N145_14,       I02E,    1108,          1,          4,     SIH020,2,19951214,       1408,    -5.3333,    88.5000,       4945,  4800.5,   1.3847,  34.7167,2,  34.7176,2,    182.5,2,   180.8,2,  132.81,3,   33.60,2,    0.00,2,    2.32,2,-999.000,5,-999.000,5,  -999.0,9,  -999.0,9,  -999.0,5,-999.000,1,-999.000,-999.0000,1, -999.00,9, -999.00,9,  -999.0,9,  -999.0,-999.000,9,-999.000, 48147.6,   0.9780,-999.0000, -999.00
 316N145_14,       I02E,    1108,          1,          3,     SIH021,2,19951214,       1408,    -5.3333,    88.5000,       4945,  4897.0,   1.3722,  34.7163,2,  34.7160,2,    183.9,2,   183.3,2,  132.65,3,   33.50,2,    0.00,2,    2.29,2,-999.000,5,-999.000,5,  -999.0,9,  -999.0,9,  -999.0,5,-999.000,1,-999.000,-999.0000,1, -999.00,9, -999.00,9,  -999.0,9,  -999.0,-999.000,9,-999.000, 49113.7,   0.9544,-999.0000, -999.00
 316N145_14,       I02E,    1108,          1,          2,     SIH022,2,19951214,       1408,    -5.3333,    88.5000,       4945,  5004.0,   1.3702,  34.7160,2,  34.7160,2,    185.5,2,   184.1,2,  131.77,3,   33.55,2,    0.00,2,    2.29,2,-999.000,5,-999.000,5,  -999.0,9,  -999.0,9,  -999.0,5,-999.000,1,-999.000,-999.0000,1, -999.00,9, -999.00,9,  -999.0,9,  -999.0,-999.000,9,-999.000, 50182.6,   0.9396,-999.0000, -999.00
 316N145_14,       I02E,    1108,          1,          1,     SIH023,2,19951214,       1408,    -5.3333,    88.5000,       4945,  5049.8,   1.3591,  34.7157,2,  34.7168,2,    185.7,2,   185.8,2,  130.76,3,   33.18,6,    0.00,6,    2.28,6,   0.000,2,  -0.001,2,  -999.0,9,  -999.0,9,  -999.0,5,-999.000,1,-999.000,-999.0000,1, -999.00,9, -999.00,9,  -999.0,9,  -999.0,-999.000,9,-999.000, 50639.8,   0.9234,-999.0000, -999.00