BOTTLE,20220829CCHSIOAMB
EXPOCODE,SECT_ID,STNNBR,CASTNO,SAMPNO,BTLNBR,BTLNBR_FLAG_W,DATE,TIME,LATITUDE,LONGITUDE,DEPTH,CTDPRS,CTDTMP,CTDSAL,CTDSAL_FLAG_W,SALNTY,SALNTY_FLAG_W,CTDOXY,CTDOXY_FLAG_W,OXYGEN,OXYGEN_FLAG_W,SILCAT,SILCAT_FLAG_W,NITRAT,NITRAT_FLAG_W,NITRIT,NITRIT_FLAG_W,PHSPHT,PHSPHT_FLAG_W,CFC-11,CFC-11_FLAG_W,CFC-12,CFC-12_FLAG_W,TCARBN,TCARBN_FLAG_W,ALKALI,ALKALI_FLAG_W,PCO2,PCO2_FLAG_W,TRITUM,TRITUM_FLAG_W,TRITER,HELIUM,HELIUM_FLAG_W,DELHE3,DELHE3_FLAG_W,DELC13,DELC13_FLAG_W,DELC14,DELC14_FLAG_W,C14ERR,NEON,NEON_FLAG_W,NEONER,CTDRAW,THETA,HELIER,DELHER
,,,,,,,,,,,METERS,DBAR,ITS-90,PSS-78,,PSS-78,,UMOL/KG,,UMOL/KG,,UMOL/KG,,UMOL/KG,,UMOL/KG,,UMOL/KG,,PMOL/KG,,PMOL/KG,,UMOL/KG,,UMOL/KG,,UATM,,TU,,TU,NMOL/KG,,PERCNT,,/MILLE,,/MILLE,,/MILLE,NMOL/KG,,NMOL/KG,DBAR,DEG C,NMOL/KG,PERCNT
 316N145_14,       I02E,    1084,          1,         36,     SIH024,2,19951207,       0312,    -9.1250,   102.0028,       5415,    12.8,  28.6190,  33.2524,2,  33.2541,2,    195.8,2,   206.0,2,    3.51,2,    0.09,2,    0.01,2,    0.05,2,   1.596,2,   0.957,2,  1840.6,2,  2176.3,2,  -999.0,5,-999.000,1,-999.000,-999.0000,1, -999.00,9,    1.25,2,    59.6,2,     4.0,-999.000,9,-999.000,   274.4,  28.6160,-999.0000, -999.00
 316N145_14,       I02E,    1084,          1,         35,     SIH003,2,19951207,       0312,    -9.1250,   102.0028,       5415,    28.2,  28.6124,  33.3570,2,  33.3725,2,    200.7,2,   208.8,2,    3.34,2,    0.14,2,    0.01,2,    0.06,2,   1.589,6,   0.932,2,  1847.0,2,  2191.0,2,  -999.0,5,-999.000,1,-999.000,-999.0000,1, -999.00,9,    1.23,2,    52.1,2,     2.9,-999.000,9,-999.000,   422.0,  28.6057,-999.0000, -999.00
 316N145_14,       I02E,    1084,          1,         34,     SIH026,2,19951207,       0312,    -9.1250,   102.0028,       5415,    58.2,  26.7694,  34.2684,2,  34.2687,2,    206.1,2,   201.2,2,    4.21,2,    0.14,2,    0.01,2,    0.17,2,   1.674,2,   0.983,2,  1935.6,2,  2250.0,2,  -999.0,5,-999.000,1,-999.000,-999.0000,1, -999.00,9, -999.00,9,  -999.0,5,  -999.0,-999.000,9,-999.000,   715.5,  26.7561,-999.0000, -999.00
 316N145_14,       I02E,    1084,          1,         33,     SIH027,2,19951207,       0312,    -9.1250,   102.0028,       5415,    98.1,  20.8292,  34.5504,2,  34.5500,2,     96.4,2,   108.3,2,   17.42,2,   15.14,2,    0.03,2,    1.09,2,   1.417,6,   0.667,4,  2073.7,2,  2273.9,2,  -999.0,5,-999.000,1,-999.000,-999.0000,1, -999.00,9,    0.47,2,    36.0,2,     3.5,-999.000,9,-999.000,  1108.8,  20.8106,-999.0000, -999.00
 316N145_14,       I02E,    1084,          1,         32,     SIH028,2,19951207,       0312,    -9.1250,   102.0028,       5415,   147.5,  16.0415,  34.6499,2,  34.6447,2,     99.5,2,    95.7,2,   27.84,2,   20.91,2,    0.02,2,    1.50,2,   1.134,6,   0.610,6,  2137.6,2,  2293.5,2,  -999.0,5,-999.000,1,-999.000,-999.0000,1, -999.00,9,    0.31,2,     8.3,2,     3.3,-999.000,9,-999.000,  1600.7,  16.0183,-999.0000, -999.00
 316N145_14,       I02E,    1084,          1,         31,     SIH029,2,19951207,       0312,    -9.1250,   102.0028,       5415,   198.5,  12.8724,  34.6138,2,  34.6187,2,     87.3,2,    90.9,2,   36.19,2,   24.86,2,    0.02,2,    1.77,2,   0.851,2,   0.439,2,  2174.5,2,  2300.2,2,  -999.0,5,-999.000,1,-999.000,-999.0000,1, -999.00,9,    0.29,2,   -13.4,2,     2.9,-999.000,9,-999.000,  2109.5,  12.8454,-999.0000, -999.00
 316N145_14,       I02E,    1084,          1,         30,     SIH030,2,19951207,       0312,    -9.1250,   102.0028,       5415,   248.4,  11.4476,  34.7016,2,  34.7028,2,     68.5,2,    74.8,2,   38.98,2,   28.24,2,    0.02,2,    1.99,2,-999.000,5,-999.000,5,  2203.8,2,  2308.8,2,  -999.0,5,-999.000,1,-999.000,-999.0000,1, -999.00,9,    0.22,2,   -39.1,2,     4.3,-999.000,9,-999.000,  2609.1,  11.4162,-999.0000, -999.00
 316N145_14,       I02E,    1084,          1,         29,     SIH031,2,19951207,       0312,    -9.1250,   102.0028,       5415,   297.8,  10.9058,  34.8453,2,  34.8434,2,     67.9,2,    68.6,2,   33.59,2,   29.38,2,    0.01,2,    2.01,2,   0.346,2,   0.177,2,  2213.2,2,  2311.4,2,  -999.0,5,-999.000,1,-999.000,-999.0000,1, -999.00,9, -999.00,9,  -999.0,9,  -999.0,-999.000,9,-999.000,  3103.5,  10.8692,-999.0000, -999.00
 316N145_14,       I02E,    1084,          1,         28,     SIH032,2,19951207,       0312,    -9.1250,   102.0028,       5415,   348.4,  10.4745,  34.8697,2,  34.8670,2,     68.1,2,    68.8,2,   32.73,2,   30.27,2,    0.01,2,    2.05,2,   0.242,2,   0.130,2,  2217.1,2,  2312.4,2,  -999.0,5,-999.000,1,-999.000,-999.0000,1, -999.00,9,    0.35,2,   -63.6,2,     3.2,-999.000,9,-999.000,  3609.5,  10.4326,-999.0000, -999.00
 316N145_14,       I02E,    1084,          1,         27,     SIH033,2,19951207,       0312,    -9.1250,   102.0028,       5415,   398.4,   9.9385,  34.8500,2,  34.8491,2,     81.2,2,    79.1,2,   32.92,2,   30.33,2,    0.01,2,    2.05,2,   0.204,2,   0.116,2,  2214.5,2,  2312.0,2,  -999.0,5,-999.000,1,-999.000,-999.0000,1, -999.00,9, -999.00,9,  -999.0,9,  -999.0,-999.000,9,-999.000,  4110.3,   9.8921,-999.0000, -999.00
 316N145_14,       I02E,    1084,          1,         26,     SIH037,2,19951207,       0312,    -9.1250,   102.0028,       5415,   499.5,   9.0103,  34.8128,2,  34.8121,2,     69.2,2,    71.7,2,   43.53,2,   32.61,2,    0.01,2,    2.27,2,   0.084,2,   0.048,2,  2235.1,2,  2320.7,2,  -999.0,5,-999.000,1,-999.000,-999.0000,1, -999.00,9,    0.34,2,   -98.2,2,     2.8,-999.000,9,-999.000,  5122.0,   8.9552,-999.0000, -999.00
 316N145_14,       I02E,    1084,          1,         25,     SI9446,2,19951207,       0312,    -9.1250,   102.0028,       5415,   598.8,   8.2506,  34.7911,2,  34.7872,2,     64.7,2,    63.8,2,   56.93,2,   34.38,2,    0.01,2,    2.46,2,   0.044,2,   0.024,2,  2256.9,2,  2333.0,2,  -999.0,5,-999.000,1,-999.000,-999.0000,1, -999.00,9, -999.00,9,  -999.0,9,  -999.0,-999.000,9,-999.000,  6115.6,   8.1875,-999.0000, -999.00
 316N145_14,       I02E,    1084,          1,         24,     SIH036,2,19951207,       0312,    -9.1250,   102.0028,       5415,   699.0,   7.4686,  34.7716,2,  34.7703,2,     63.4,2,    62.7,2,   68.07,2,   35.54,2,    0.01,2,    2.56,2,   0.024,2,   0.013,2,  2271.2,2,  2341.7,2,  -999.0,5,-999.000,1,-999.000,-999.0000,1, -999.00,9,    0.18,2,  -132.2,2,     2.8,-999.000,9,-999.000,  7117.3,   7.3986,-999.0000, -999.00
 316N145_14,       I02E,    1084,          1,         23,     SIH001,2,19951207,       0312,    -9.1250,   102.0028,       5415,   799.1,   6.8030,  34.7428,2,  34.7406,2,     67.5,2,    66.6,2,   77.30,2,   35.96,2,    0.01,2,    2.61,2,   0.020,2,   0.013,2,  2281.4,2,  2352.8,2,  -999.0,5,-999.000,1,-999.000,-999.0000,1, -999.00,9, -999.00,9,  -999.0,9,  -999.0,-999.000,9,-999.000,  8118.7,   6.7264,-999.0000, -999.00
 316N145_14,       I02E,    1084,          1,         22,     SIH019,2,19951207,       0312,    -9.1250,   102.0028,       5415,   900.1,   5.9910,  34.6864,2,  34.6861,2,     78.6,2,    76.1,2,   87.41,2,   36.12,2,    0.01,2,    2.62,2,   0.021,2,   0.011,2,  2288.6,2,  2363.4,2,  -999.0,5,-999.000,1,-999.000,-999.0000,1, -999.00,9,    0.10,2,  -157.0,2,     2.9,-999.000,9,-999.000,  9128.0,   5.9096,-999.0000, -999.00
 316N145_14,       I02E,    1084,          1,         21,     SIH025,2,19951207,       0312,    -9.1250,   102.0028,       5415,  1000.0,   5.3852,  34.6707,2,  34.6706,2,     84.1,2,    82.6,2,   96.12,2,   36.28,2,    0.01,2,    2.64,2,   0.019,2,   0.010,2,  2296.1,2,  2368.2,2,  -999.0,5,-999.000,1,-999.000,-999.0000,1, -999.00,9,    0.15,2,  -166.8,2,     1.9,-999.000,9,-999.000, 10128.3,   5.2987,-999.0000, -999.00
 316N145_14,       I02E,    1084,          1,         20,     SIH004,2,19951207,       0312,    -9.1250,   102.0028,       5415,  1101.5,   4.9237,  34.6706,2,  34.6657,2,     88.7,2,    87.8,2,  102.23,2,   36.50,2,    0.01,2,    2.65,2,   0.016,2,   0.006,2,  2301.3,2,  2378.6,2,  -999.0,5,-999.000,1,-999.000,-999.0000,1, -999.00,9,    0.09,2,  -175.8,2,     2.6,-999.000,9,-999.000, 11143.6,   4.8315,-999.0000, -999.00
 316N145_14,       I02E,    1084,          1,         19,     SIH005,2,19951207,       0312,    -9.1250,   102.0028,       5415,  1197.2,   4.6682,  34.6890,2,  34.6916,2,     89.0,2,    89.2,2,  105.03,2,   36.71,2,    0.01,2,    2.67,2,   0.009,2,   0.004,2,  2305.3,2,  2382.4,2,  -999.0,5,-999.000,1,-999.000,-999.0000,1, -999.00,9,    0.08,2,  -172.1,2,     4.5,-999.000,9,-999.000, 12100.9,   4.5694,-999.0000, -999.00
 316N145_14,       I02E,    1084,          1,         18,     SIH006,2,19951207,       0312,    -9.1250,   102.0028,       5415,  1399.0,   3.9585,  34.7010,2,  34.7005,2,     98.2,2,   100.6,2,  111.32,2,   36.55,2,    0.01,2,    2.65,2,   0.003,2,  -0.002,2,  2307.3,2,  2388.0,2,  -999.0,5,-999.000,1,-999.000,-999.0000,1, -999.00,9,    0.08,2,  -185.1,2,     4.7,-999.000,9,-999.000, 14119.8,   3.8485,-999.0000, -999.00
 316N145_14,       I02E,    1084,          1,         17,     SIH038,2,19951207,       0312,    -9.1250,   102.0028,       5415,  1599.6,   3.3909,  34.7299,2,  34.7296,2,    112.9,2,   113.8,2,  114.30,2,   36.14,2,    0.01,2,    2.61,2,   0.001,2,  -0.002,2,  2306.4,2,  2391.2,2,  -999.0,5,-999.000,1,-999.000,-999.0000,1, -999.00,9,    0.13,2,  -187.8,2,     3.5,-999.000,9,-999.000, 16126.8,   3.2695,-999.0000, -999.00
 316N145_14,       I02E,    1084,          1,         16,     SIH008,2,19951207,       0312,    -9.1250,   102.0028,       5415,  1800.5,   2.9967,  34.7447,2,  34.7457,2,    122.9,2,   123.2,2,  117.79,2,   35.63,2,    0.01,2,    2.57,2,-999.000,5,-999.000,5,  2307.4,2,  2397.4,2,  -999.0,5,-999.000,1,-999.000,-999.0000,1, -999.00,9, -999.00,9,  -999.0,9,  -999.0,-999.000,9,-999.000, 18135.6,   2.8627,-999.0000, -999.00
 316N145_14,       I02E,    1084,          1,         15,     SIH009,2,19951207,       0312,    -9.1250,   102.0028,       5415,  1997.7,   2.6374,  34.7494,2,  34.7488,2,    133.3,2,   132.6,2,  121.30,2,   35.32,2,    0.01,2,    2.54,2,  -0.001,2,  -0.004,2,  2306.8,2,  2399.6,2,  -999.0,5,-999.000,1,-999.000,-999.0000,1, -999.00,9, -999.00,9,  -999.0,9,  -999.0,-999.000,9,-999.000, 20108.9,   2.4911,-999.0000, -999.00
 316N145_14,       I02E,    1084,          1,         14,     SIH010,2,19951207,       0312,    -9.1250,   102.0028,       5415,  2250.9,   2.2832,  34.7446,2,  34.7435,2,    143.8,2,   142.8,2,  124.62,2,   34.96,2,    0.01,2,    2.49,2,-999.000,5,-999.000,5,  2307.1,2,  2403.8,2,  -999.0,5,-999.000,1,-999.000,-999.0000,1, -999.00,9, -999.00,9,  -999.0,9,  -999.0,-999.000,9,-999.000, 22641.2,   2.1200,-999.0000, -999.00
 316N145_14,       I02E,    1084,          1,         13,     SIH011,2,19951207,       0312,    -9.1250,   102.0028,       5415,  2502.6,   2.0436,  34.7366,2,  34.7368,2,    152.9,2,   152.6,2,  125.52,2,   34.35,2,    0.01,2,    2.44,2,-999.000,5,-999.000,5,  2302.8,2,  2403.5,2,  -999.0,5,-999.000,1,-999.000,-999.0000,1, -999.00,9, -999.00,9,  -999.0,9,  -999.0,-999.000,9,-999.000, 25160.7,   1.8619,-999.0000, -999.00
 316N145_14,       I02E,    1084,          1,         12,     SIH012,2,19951207,       0312,    -9.1250,   102.0028,       5415,  2743.5,   1.8767,  34.7327,2,  34.7321,2,    156.9,2,   158.2,2,  127.28,2,   34.25,2,    0.01,2,    2.41,2,-999.000,5,-999.000,5,  2301.8,2,  2406.6,2,  -999.0,5,-999.000,1,-999.000,-999.0000,1, -999.00,9, -999.00,9,  -999.0,9,  -999.0,-999.000,9,-999.000, 27571.2,   1.6760,-999.0000, -999.00
 316N145_14,       I02E,    1084,          1,         11,     SI9425,2,19951207,       0312,    -9.1250,   102.0028,       5415,  2997.4,   1.7384,  34.7283,2,  34.7276,2,    163.0,2,   162.9,2,  128.35,2,   34.15,2,    0.01,2,    2.40,2,   0.002,2,  -0.001,2,  2300.2,2,  2403.9,2,  -999.0,5,-999.000,1,-999.000,-999.0000,1, -999.00,9, -999.00,9,  -999.0,9,  -999.0,-999.000,9,-999.000, 30111.3,   1.5163,-999.0000, -999.00
 316N145_14,       I02E,    1084,          1,         10,     SIH014,2,19951207,       0312,    -9.1250,   102.0028,       5415,  3249.7,   1.6261,  34.7251,2,  34.7248,2,    167.8,2,   167.4,2,  129.42,2,   33.99,2,    0.01,2,    2.38,2,-999.000,5,-999.000,5,  2299.7,2,  2405.7,2,  -999.0,5,-999.000,1,-999.000,-999.0000,1, -999.00,9, -999.00,9,  -999.0,9,  -999.0,-999.000,9,-999.000, 32635.2,   1.3819,-999.0000, -999.00
 316N145_14,       I02E,    1084,          1,          9,     SIH015,2,19951207,       0312,    -9.1250,   102.0028,       5415,  3502.4,   1.3508,  34.7175,2,  34.7178,2,    180.0,2,   179.4,2,  130.49,2,   33.43,2,    0.01,2,    2.35,2,-999.000,5,-999.000,5,  2292.5,2,  2403.7,2,  -999.0,5,-999.000,1,-999.000,-999.0000,1, -999.00,9, -999.00,9,  -999.0,9,  -999.0,-999.000,9,-999.000, 35162.9,   1.0880,-999.0000, -999.00
 316N145_14,       I02E,    1084,          1,          8,     SIH016,2,19951207,       0312,    -9.1250,   102.0028,       5415,  3744.6,   1.2379,  34.7143,2,  34.7148,2,    186.2,2,   185.6,2,  130.16,2,   33.17,2,    0.01,2,    2.32,2,-999.000,5,-999.000,5,  2288.8,2,  2402.5,2,  -999.0,5,-999.000,1,-999.000,-999.0000,1, -999.00,9, -999.00,9,  -999.0,9,  -999.0,-999.000,9,-999.000, 37586.1,   0.9532,-999.0000, -999.00
 316N145_14,       I02E,    1084,          1,          7,     SIH017,2,19951207,       0312,    -9.1250,   102.0028,       5415,  3989.1,   1.1818,  34.7130,2,  34.7132,2,    190.5,2,   189.1,2,  129.66,2,   33.03,2,    0.01,2,    2.30,2,   0.000,2,  -0.001,2,  2285.2,2,  2403.1,2,  -999.0,5,-999.000,1,-999.000,-999.0000,1, -999.00,9, -999.00,9,  -999.0,9,  -999.0,-999.000,9,-999.000, 40031.4,   0.8729,-999.0000, -999.00
 316N145_14,       I02E,    1084,          1,          6,     SIH018,2,19951207,       0312,    -9.1250,   102.0028,       5415,  4243.9,   1.1523,  34.7126,2,  34.7121,2,    192.1,2,   192.9,2,  128.46,2,   32.87,2,    0.00,2,    2.29,2,-999.000,5,-999.000,5,  2281.8,2,  2399.2,2,  -999.0,5,-999.000,1,-999.000,-999.0000,1, -999.00,9, -999.00,9,  -999.0,9,  -999.0,-999.000,9,-999.000, 42581.2,   0.8166,-999.0000, -999.00
 316N145_14,       I02E,    1084,          1,          5,     SIH002,2,19951207,       0312,    -9.1250,   102.0028,       5415,  4487.5,   1.1550,  34.7124,2,  34.7111,2,    194.4,2,   194.5,2,  128.14,2,   32.77,2,    0.00,2,    2.28,2,-999.000,5,-999.000,5,  2280.1,2,  2416.4,3,  -999.0,5,-999.000,1,-999.000,-999.0000,1, -999.00,9, -999.00,9,  -999.0,9,  -999.0,-999.000,9,-999.000, 45018.2,   0.7920,-999.0000, -999.00
 316N145_14,       I02E,    1084,          1,          4,     SIH020,2,19951207,       0312,    -9.1250,   102.0028,       5415,  4750.4,   1.1682,  34.7121,2,  34.7103,2,    195.3,2,   195.5,2,  127.98,2,   32.67,2,    0.00,2,    2.28,2,   0.000,2,  -0.003,2,  2278.9,2,  2395.1,2,  -999.0,5,-999.000,1,-999.000,-999.0000,1, -999.00,9, -999.00,9,  -999.0,9,  -999.0,-999.000,9,-999.000, 47647.8,   0.7746,-999.0000, -999.00
 316N145_14,       I02E,    1084,          1,          3,     SIH021,2,19951207,       0312,    -9.1250,   102.0028,       5415,  4994.0,   1.1906,  34.7112,2,  34.7107,2,    196.5,2,   196.6,2,  127.48,2,   32.67,2,    0.00,2,    2.27,2,-999.000,5,-999.000,5,  2278.0,2,  2397.0,2,  -999.0,5,-999.000,1,-999.000,-999.0000,1, -999.00,9, -999.00,9,  -999.0,9,  -999.0,-999.000,9,-999.000, 50084.8,   0.7674,-999.0000, -999.00
 316N145_14,       I02E,    1084,          1,          2,     SIH022,2,19951207,       0312,    -9.1250,   102.0028,       5415,  5296.9,   1.2213,  34.7113,2,  34.7113,2,    197.3,2,   197.1,2,  127.68,2,   32.63,2,    0.00,2,    2.26,2,-999.000,5,-999.000,5,  2278.6,2,  2395.4,2,  -999.0,5,-999.000,1,-999.000,-999.0000,1, -999.00,9, -999.00,9,  -999.0,9,  -999.0,-999.000,9,-999.000, 53114.1,   0.7601,-999.0000, -999.00
 316N145_14,       I02E,    1084,          1,          1,     SIH023,2,19951207,       0312,    -9.1250,   102.0028,       5415,  5537.2,   1.2484,  34.7108,2,  34.7105,2,    195.9,2,   196.8,2,  127.91,6,   32.65,6,    0.01,6,    2.26,6,   0.000,2,  -0.001,2,  2278.3,2,  2395.5,2,  -999.0,5,-999.000,1,-999.000,-999.0000,1, -999.00,9, -999.00,9,  -999.0,9,  -999.0,-999.000,9,-999.000, 55516.2,   0.7561,-999.0000, -999.00