BOTTLE,20220829CCHSIOAMB
EXPOCODE,SECT_ID,STNNBR,CASTNO,SAMPNO,BTLNBR,BTLNBR_FLAG_W,DATE,TIME,LATITUDE,LONGITUDE,DEPTH,CTDPRS,CTDTMP,CTDSAL,CTDSAL_FLAG_W,SALNTY,SALNTY_FLAG_W,CTDOXY,CTDOXY_FLAG_W,OXYGEN,OXYGEN_FLAG_W,SILCAT,SILCAT_FLAG_W,NITRAT,NITRAT_FLAG_W,NITRIT,NITRIT_FLAG_W,PHSPHT,PHSPHT_FLAG_W,CFC-11,CFC-11_FLAG_W,CFC-12,CFC-12_FLAG_W,TCARBN,TCARBN_FLAG_W,ALKALI,ALKALI_FLAG_W,PCO2,PCO2_FLAG_W,TRITUM,TRITUM_FLAG_W,TRITER,HELIUM,HELIUM_FLAG_W,DELHE3,DELHE3_FLAG_W,DELC13,DELC13_FLAG_W,DELC14,DELC14_FLAG_W,C14ERR,NEON,NEON_FLAG_W,NEONER,CTDRAW,THETA,HELIER,DELHER
,,,,,,,,,,,METERS,DBAR,ITS-90,PSS-78,,PSS-78,,UMOL/KG,,UMOL/KG,,UMOL/KG,,UMOL/KG,,UMOL/KG,,UMOL/KG,,PMOL/KG,,PMOL/KG,,UMOL/KG,,UMOL/KG,,UATM,,TU,,TU,NMOL/KG,,PERCNT,,/MILLE,,/MILLE,,/MILLE,NMOL/KG,,NMOL/KG,DBAR,DEG C,NMOL/KG,PERCNT
 316N145_14,       I02E,    1140,          1,         36,     SIH024,2,19951223,       1840,    -8.0000,    78.6667,       5476,    13.6,  28.2303,  33.8696,2,  33.8923,2,    203.6,2,   209.7,2,    1.49,2,    0.03,2,    0.00,2,    0.11,2,   1.615,2,   0.931,2,  1888.2,2,  2218.7,2,  -999.0,5,-999.000,1,-999.000,-999.0000,1, -999.00,9, -999.00,9,  -999.0,9,  -999.0,-999.000,9,-999.000,   274.2,  28.2271,-999.0000, -999.00
 316N145_14,       I02E,    1140,          1,         35,     SIH003,2,19951223,       1840,    -8.0000,    78.6667,       5476,    39.0,  24.8381,  35.2844,2,  35.2911,2,    178.5,2,   172.3,2,    5.52,2,    3.65,2,    0.21,2,    0.55,2,   1.584,2,   0.916,2,  2035.4,2,  2310.2,2,  -999.0,5,-999.000,1,-999.000,-999.0000,1, -999.00,9, -999.00,9,  -999.0,9,  -999.0,-999.000,9,-999.000,   521.6,  24.8297,-999.0000, -999.00
 316N145_14,       I02E,    1140,          1,         34,     SIH026,2,19951223,       1840,    -8.0000,    78.6667,       5476,    68.6,  20.7051,  35.1708,2,  35.1695,2,    106.7,2,   107.2,2,   11.42,2,   14.38,2,    0.21,2,    1.07,2,   1.476,2,   0.791,2,  2101.4,2,  2302.1,2,  -999.0,5,-999.000,1,-999.000,-999.0000,1, -999.00,9, -999.00,9,  -999.0,9,  -999.0,-999.000,9,-999.000,   815.6,  20.6921,-999.0000, -999.00
 316N145_14,       I02E,    1140,          1,         33,     SIH027,2,19951223,       1840,    -8.0000,    78.6667,       5476,   108.5,  17.5758,  35.0960,2,  35.0866,2,     84.4,2,    81.1,2,   17.49,2,   20.19,2,    0.05,2,    1.42,2,   1.259,2,   0.660,2,  -999.0,9,  -999.0,9,  -999.0,5,-999.000,1,-999.000,-999.0000,1, -999.00,9, -999.00,9,  -999.0,9,  -999.0,-999.000,9,-999.000,  1211.5,  17.5575,-999.0000, -999.00
 316N145_14,       I02E,    1140,          1,         32,     SIH028,2,19951223,       1840,    -8.0000,    78.6667,       5476,   159.0,  14.4639,  34.9028,2,  34.8904,2,     64.2,2,    67.7,2,   26.60,2,   24.86,2,    0.02,2,    1.74,2,   0.860,2,   0.446,2,  -999.0,9,  -999.0,9,  -999.0,5,-999.000,1,-999.000,-999.0000,1, -999.00,9, -999.00,9,  -999.0,9,  -999.0,-999.000,9,-999.000,  1716.2,  14.4405,-999.0000, -999.00
 316N145_14,       I02E,    1140,          1,         31,     SIH029,3,19951223,       1840,    -8.0000,    78.6667,       5476,   208.9,  12.4358,  34.8349,2,  34.8353,2,     62.1,2,    63.1,2,   31.66,2,   28.04,2,    0.01,2,    1.96,2,-999.000,5,-999.000,5,  -999.0,9,  -999.0,9,  -999.0,5,-999.000,1,-999.000,-999.0000,1, -999.00,9, -999.00,9,  -999.0,9,  -999.0,-999.000,9,-999.000,  2215.0,  12.4079,-999.0000, -999.00
 316N145_14,       I02E,    1140,          1,         30,     SIH030,2,19951223,       1840,    -8.0000,    78.6667,       5476,   258.8,  11.6556,  34.8984,2,  34.8998,2,     61.0,2,    59.6,2,   30.15,2,   28.95,2,    0.01,2,    1.99,2,   0.353,2,   0.183,2,  -999.0,9,  -999.0,9,  -999.0,5,-999.000,1,-999.000,-999.0000,1, -999.00,9, -999.00,9,  -999.0,9,  -999.0,-999.000,9,-999.000,  2714.2,  11.6224,-999.0000, -999.00
 316N145_14,       I02E,    1140,          1,         29,     SIH031,2,19951223,       1840,    -8.0000,    78.6667,       5476,   308.5,  11.2395,  34.9263,2,  34.9303,2,     64.0,2,    68.7,2,   27.63,2,   28.72,2,    0.01,2,    1.95,2,   0.350,2,   0.178,2,  -999.0,9,  -999.0,9,  -999.0,5,-999.000,1,-999.000,-999.0000,1, -999.00,9, -999.00,9,  -999.0,9,  -999.0,-999.000,9,-999.000,  3211.5,  11.2008,-999.0000, -999.00
 316N145_14,       I02E,    1140,          1,         28,     SI9439,2,19951223,       1840,    -8.0000,    78.6667,       5476,   358.6,  10.6799,  34.8991,2,  34.8979,2,    102.8,2,   100.0,2,   25.10,2,   26.42,2,    0.01,2,    1.81,2,   0.581,2,   0.290,2,  -999.0,9,  -999.0,9,  -999.0,5,-999.000,1,-999.000,-999.0000,1, -999.00,9, -999.00,9,  -999.0,9,  -999.0,-999.000,9,-999.000,  3712.5,  10.6363,-999.0000, -999.00
 316N145_14,       I02E,    1140,          1,         27,     SIH033,2,19951223,       1840,    -8.0000,    78.6667,       5476,   408.9,  10.0338,  34.8564,2,  34.8572,2,    104.9,2,   103.5,2,   27.13,2,   27.66,2,    0.01,2,    1.88,2,   0.470,2,   0.236,2,  -999.0,9,  -999.0,9,  -999.0,5,-999.000,1,-999.000,-999.0000,1, -999.00,9, -999.00,9,  -999.0,9,  -999.0,-999.000,9,-999.000,  4215.7,   9.9858,-999.0000, -999.00
 316N145_14,       I02E,    1140,          1,         26,     SIH037,2,19951223,       1840,    -8.0000,    78.6667,       5476,   509.1,   8.9304,  34.8075,2,  34.8084,2,     95.5,2,    92.1,2,   38.44,2,   30.55,2,    0.01,2,    2.13,2,   0.201,6,   0.105,6,  -999.0,9,  -999.0,9,  -999.0,5,-999.000,1,-999.000,-999.0000,1, -999.00,9, -999.00,9,  -999.0,9,  -999.0,-999.000,9,-999.000,  5217.1,   8.8744,-999.0000, -999.00
 316N145_14,       I02E,    1140,          1,         25,     SI9446,3,19951223,       1840,    -8.0000,    78.6667,       5476,   609.6,   8.1473,  34.7867,2,  34.7852,2,     78.3,2,    77.8,2,   51.45,2,   33.38,2,    0.01,2,    2.37,2,   0.060,2,   0.031,2,  -999.0,9,  -999.0,9,  -999.0,5,-999.000,1,-999.000,-999.0000,1, -999.00,9, -999.00,9,  -999.0,9,  -999.0,-999.000,9,-999.000,  6222.6,   8.0835,-999.0000, -999.00
 316N145_14,       I02E,    1140,          1,         24,     SIH036,2,19951223,       1840,    -8.0000,    78.6667,       5476,   709.7,   7.3375,  34.7597,2,  34.7589,2,     71.0,2,    70.8,2,   64.63,2,   34.80,2,    0.01,2,    2.52,2,   0.022,2,   0.011,2,  -999.0,9,  -999.0,9,  -999.0,5,-999.000,1,-999.000,-999.0000,1, -999.00,9, -999.00,9,  -999.0,9,  -999.0,-999.000,9,-999.000,  7223.8,   7.2671,-999.0000, -999.00
 316N145_14,       I02E,    1140,          1,         23,     SIH001,3,19951223,       1840,    -8.0000,    78.6667,       5476,   810.3,   6.5813,  34.7379,2,  34.7396,2,     69.8,2,    69.7,2,   77.65,2,   36.05,2,    0.01,2,    2.62,2,   0.010,2,   0.003,2,  -999.0,9,  -999.0,9,  -999.0,5,-999.000,1,-999.000,-999.0000,1, -999.00,9, -999.00,9,  -999.0,9,  -999.0,-999.000,9,-999.000,  8229.8,   6.5049,-999.0000, -999.00
 316N145_14,       I02E,    1140,          1,         22,     SIH019,2,19951223,       1840,    -8.0000,    78.6667,       5476,   905.5,   5.8801,  34.7105,2,  34.7091,2,     75.7,2,    76.4,2,   87.63,2,   36.23,2,    0.00,2,    2.64,2,   0.005,2,   0.002,2,  -999.0,9,  -999.0,9,  -999.0,5,-999.000,1,-999.000,-999.0000,1, -999.00,9, -999.00,9,  -999.0,9,  -999.0,-999.000,9,-999.000,  9182.6,   5.7989,-999.0000, -999.00
 316N145_14,       I02E,    1140,          1,         21,     SIH025,2,19951223,       1840,    -8.0000,    78.6667,       5476,  1005.5,   5.3741,  34.6977,2,  34.6977,2,     80.9,2,    81.1,2,   93.74,2,   36.46,2,    0.00,2,    2.65,2,   0.002,2,   0.000,2,  -999.0,9,  -999.0,9,  -999.0,5,-999.000,1,-999.000,-999.0000,1, -999.00,9, -999.00,9,  -999.0,9,  -999.0,-999.000,9,-999.000, 10184.0,   5.2871,-999.0000, -999.00
 316N145_14,       I02E,    1140,          1,         20,     SIH004,2,19951223,       1840,    -8.0000,    78.6667,       5476,  1105.5,   5.0091,  34.7030,2,  34.7019,2,     85.0,2,    85.2,2,   98.32,2,   36.53,2,    0.01,2,    2.65,2,-999.000,5,-999.000,5,  -999.0,9,  -999.0,9,  -999.0,5,-999.000,1,-999.000,-999.0000,1, -999.00,9, -999.00,9,  -999.0,9,  -999.0,-999.000,9,-999.000, 11183.5,   4.9157,-999.0000, -999.00
 316N145_14,       I02E,    1140,          1,         19,     SIH005,2,19951223,       1840,    -8.0000,    78.6667,       5476,  1206.2,   4.6334,  34.7223,2,  34.7205,2,     89.7,2,    89.4,2,  102.06,2,   36.64,2,    0.00,2,    2.67,2,  -0.001,2,  -0.002,2,  -999.0,9,  -999.0,9,  -999.0,5,-999.000,1,-999.000,-999.0000,1, -999.00,9, -999.00,9,  -999.0,9,  -999.0,-999.000,9,-999.000, 12191.0,   4.5340,-999.0000, -999.00
 316N145_14,       I02E,    1140,          1,         18,     SIH006,2,19951223,       1840,    -8.0000,    78.6667,       5476,  1408.3,   3.8658,  34.7423,2,  34.7421,2,    106.4,2,   104.6,2,  106.98,2,   36.19,2,    0.01,2,    2.62,2,  -0.001,2,   0.000,2,  -999.0,9,  -999.0,9,  -999.0,5,-999.000,1,-999.000,-999.0000,1, -999.00,9, -999.00,9,  -999.0,9,  -999.0,-999.000,9,-999.000, 14212.5,   3.7558,-999.0000, -999.00
 316N145_14,       I02E,    1140,          1,         17,     SIH038,2,19951223,       1840,    -8.0000,    78.6667,       5476,  1610.3,   3.2883,  34.7514,2,  34.7508,2,    123.6,4,   117.6,2,  112.24,2,   35.68,2,    0.01,2,    2.57,2,-999.000,5,-999.000,5,  -999.0,9,  -999.0,9,  -999.0,5,-999.000,1,-999.000,-999.0000,1, -999.00,9, -999.00,9,  -999.0,9,  -999.0,-999.000,9,-999.000, 16233.2,   3.1672,-999.0000, -999.00
 316N145_14,       I02E,    1140,          1,         16,     SIH008,2,19951223,       1840,    -8.0000,    78.6667,       5476,  1812.2,   2.7849,  34.7526,2,  34.7526,2,    132.7,2,   131.1,2,  117.00,2,   35.24,2,    0.00,2,    2.52,2,-999.000,5,-999.000,5,  -999.0,9,  -999.0,9,  -999.0,5,-999.000,1,-999.000,-999.0000,1, -999.00,9, -999.00,9,  -999.0,9,  -999.0,-999.000,9,-999.000, 18252.2,   2.6528,-999.0000, -999.00
 316N145_14,       I02E,    1140,          1,         15,     SIH009,2,19951223,       1840,    -8.0000,    78.6667,       5476,  2014.1,   2.4196,  34.7488,2,  34.7480,2,    143.2,2,   141.2,2,  120.74,6,   34.81,6,    0.00,6,    2.47,6,-999.000,5,-999.000,5,  -999.0,9,  -999.0,9,  -999.0,5,-999.000,1,-999.000,-999.0000,1, -999.00,9, -999.00,9,  -999.0,9,  -999.0,-999.000,9,-999.000, 20272.5,   2.2752,-999.0000, -999.00
 316N145_14,       I02E,    1140,          1,         14,     SIH010,2,19951223,       1840,    -8.0000,    78.6667,       5476,  2220.1,   2.1651,  34.7423,2,  34.7416,2,    151.7,2,   149.5,2,  122.79,2,   34.59,6,    0.01,6,    2.44,2,-999.000,5,-999.000,5,  -999.0,9,  -999.0,9,  -999.0,5,-999.000,1,-999.000,-999.0000,1, -999.00,9, -999.00,9,  -999.0,9,  -999.0,-999.000,9,-999.000, 22333.2,   2.0067,-999.0000, -999.00
 316N145_14,       I02E,    1140,          1,         13,     SIH011,2,19951223,       1840,    -8.0000,    78.6667,       5476,  2510.8,   1.9036,  34.7334,2,  34.7327,2,    161.3,2,   161.1,2,  123.65,2,   33.89,2,    0.01,2,    2.38,2,-999.000,5,-999.000,5,  -999.0,9,  -999.0,9,  -999.0,5,-999.000,1,-999.000,-999.0000,1, -999.00,9, -999.00,9,  -999.0,9,  -999.0,-999.000,9,-999.000, 25242.6,   1.7238,-999.0000, -999.00
 316N145_14,       I02E,    1140,          1,         12,     SIH012,2,19951223,       1840,    -8.0000,    78.6667,       5476,  2758.5,   1.7650,  34.7314,2,  34.7296,2,    163.4,2,   163.2,2,  127.21,2,   33.95,6,    0.00,6,    2.38,6,-999.000,5,-999.000,5,  -999.0,9,  -999.0,9,  -999.0,5,-999.000,1,-999.000,-999.0000,1, -999.00,9, -999.00,9,  -999.0,9,  -999.0,-999.000,9,-999.000, 27720.4,   1.5651,-999.0000, -999.00
 316N145_14,       I02E,    1140,          1,         11,     SI9426,2,19951223,       1840,    -8.0000,    78.6667,       5476,  3006.7,   1.6449,  34.7277,2,  34.7266,2,    166.2,2,   165.8,2,  130.03,6,   33.90,6,    0.01,6,    2.37,6,   0.000,2,  -0.001,2,  -999.0,9,  -999.0,9,  -999.0,5,-999.000,1,-999.000,-999.0000,1, -999.00,9, -999.00,9,  -999.0,9,  -999.0,-999.000,9,-999.000, 30203.7,   1.4240,-999.0000, -999.00
 316N145_14,       I02E,    1140,          1,         10,     SIH014,2,19951223,       1840,    -8.0000,    78.6667,       5476,  3255.9,   1.5277,  34.7241,2,  34.7243,2,    169.1,2,   168.4,2,  132.81,2,   33.95,6,    0.01,6,    2.37,6,-999.000,5,-999.000,5,  -999.0,9,  -999.0,9,  -999.0,5,-999.000,1,-999.000,-999.0000,1, -999.00,9, -999.00,9,  -999.0,9,  -999.0,-999.000,9,-999.000, 32697.5,   1.2852,-999.0000, -999.00
 316N145_14,       I02E,    1140,          1,          9,     SIH015,2,19951223,       1840,    -8.0000,    78.6667,       5476,  3504.2,   1.4441,  34.7215,2,  34.7215,2,    169.5,2,   170.0,2,  135.52,2,   33.91,6,    0.01,6,    2.37,6,-999.000,5,-999.000,5,  -999.0,9,  -999.0,9,  -999.0,5,-999.000,1,-999.000,-999.0000,1, -999.00,9, -999.00,9,  -999.0,9,  -999.0,-999.000,9,-999.000, 35180.6,   1.1787,-999.0000, -999.00
 316N145_14,       I02E,    1140,          1,          8,     SIH016,2,19951223,       1840,    -8.0000,    78.6667,       5476,  3752.3,   1.3890,  34.7191,2,  34.7193,2,    174.5,2,   174.6,2,  135.17,6,   33.83,6,    0.01,6,    2.35,6,-999.000,5,-999.000,5,  -999.0,9,  -999.0,9,  -999.0,5,-999.000,1,-999.000,-999.0000,1, -999.00,9, -999.00,9,  -999.0,9,  -999.0,-999.000,9,-999.000, 37662.7,   1.0994,-999.0000, -999.00
 316N145_14,       I02E,    1140,          1,          7,     SIH017,2,19951223,       1840,    -8.0000,    78.6667,       5476,  3996.3,   1.3713,  34.7181,2,  34.7180,2,    177.0,2,   176.9,2,  134.74,2,   33.69,6,    0.00,6,    2.34,6,-999.000,5,-999.000,5,  -999.0,9,  -999.0,9,  -999.0,5,-999.000,1,-999.000,-999.0000,1, -999.00,9, -999.00,9,  -999.0,9,  -999.0,-999.000,9,-999.000, 40103.4,   1.0562,-999.0000, -999.00
 316N145_14,       I02E,    1140,          1,          6,     SIH018,2,19951223,       1840,    -8.0000,    78.6667,       5476,  4296.4,   1.3614,  34.7172,2,  34.7170,2,    180.0,2,   179.9,2,  133.25,2,   33.36,2,    0.00,2,    2.33,2,-999.000,5,-999.000,5,  -999.0,9,  -999.0,9,  -999.0,5,-999.000,1,-999.000,-999.0000,1, -999.00,9, -999.00,9,  -999.0,9,  -999.0,-999.000,9,-999.000, 43105.8,   1.0136,-999.0000, -999.00
 316N145_14,       I02E,    1140,          1,          5,     SIH002,2,19951223,       1840,    -8.0000,    78.6667,       5476,  4549.2,   1.3566,  34.7165,2,  34.7156,2,    183.3,2,   182.3,2,  132.44,2,   33.30,2,    0.01,2,    2.30,2,  -0.001,2,  -0.001,2,  -999.0,9,  -999.0,9,  -999.0,5,-999.000,1,-999.000,-999.0000,1, -999.00,9, -999.00,9,  -999.0,9,  -999.0,-999.000,9,-999.000, 45634.3,   0.9802,-999.0000, -999.00
 316N145_14,       I02E,    1140,          1,          4,     SIH020,2,19951223,       1840,    -8.0000,    78.6667,       5476,  4901.2,   1.3924,  34.7160,2,  34.7160,2,    184.1,2,   182.8,2,  132.12,2,   33.37,6,    0.01,6,    2.30,6,-999.000,5,-999.000,5,  -999.0,9,  -999.0,9,  -999.0,5,-999.000,1,-999.000,-999.0000,1, -999.00,9, -999.00,9,  -999.0,9,  -999.0,-999.000,9,-999.000, 49155.9,   0.9735,-999.0000, -999.00
 316N145_14,       I02E,    1140,          1,          3,     SIH021,2,19951223,       1840,    -8.0000,    78.6667,       5476,  5204.4,   1.4273,  34.7161,2,  34.7156,2,    183.5,2,   182.7,2,  131.82,2,   33.28,6,    0.01,6,    2.30,6,-999.000,5,-999.000,5,  -999.0,9,  -999.0,9,  -999.0,5,-999.000,1,-999.000,-999.0000,1, -999.00,9, -999.00,9,  -999.0,9,  -999.0,-999.000,9,-999.000, 52190.3,   0.9702,-999.0000, -999.00
 316N145_14,       I02E,    1140,          1,          2,     SIH022,2,19951223,       1840,    -8.0000,    78.6667,       5476,  5506.4,   1.4654,  34.7154,2,  34.7158,2,    185.4,2,   183.3,2,  132.02,6,   33.14,6,    0.01,6,    2.30,6,   0.000,2,   0.003,2,  -999.0,9,  -999.0,9,  -999.0,5,-999.000,1,-999.000,-999.0000,1, -999.00,9, -999.00,9,  -999.0,9,  -999.0,-999.000,9,-999.000, 55210.4,   0.9691,-999.0000, -999.00
 316N145_14,       I02E,    1140,          1,          1,     SIH023,2,19951223,       1840,    -8.0000,    78.6667,       5476,  5605.2,   1.4784,  34.7162,2,  34.7158,2,    183.5,2,   183.6,2,  131.88,6,   33.27,6,    0.01,6,    2.30,6,   0.000,2,   0.001,2,  -999.0,9,  -999.0,9,  -999.0,5,-999.000,1,-999.000,-999.0000,1, -999.00,9, -999.00,9,  -999.0,9,  -999.0,-999.000,9,-999.000, 56199.1,   0.9690,-999.0000, -999.00