BOTTLE,20220829CCHSIOAMB
EXPOCODE,SECT_ID,STNNBR,CASTNO,SAMPNO,BTLNBR,BTLNBR_FLAG_W,DATE,TIME,LATITUDE,LONGITUDE,DEPTH,CTDPRS,CTDTMP,CTDSAL,CTDSAL_FLAG_W,SALNTY,SALNTY_FLAG_W,CTDOXY,CTDOXY_FLAG_W,OXYGEN,OXYGEN_FLAG_W,SILCAT,SILCAT_FLAG_W,NITRAT,NITRAT_FLAG_W,NITRIT,NITRIT_FLAG_W,PHSPHT,PHSPHT_FLAG_W,CFC-11,CFC-11_FLAG_W,CFC-12,CFC-12_FLAG_W,TCARBN,TCARBN_FLAG_W,ALKALI,ALKALI_FLAG_W,PCO2,PCO2_FLAG_W,TRITUM,TRITUM_FLAG_W,TRITER,HELIUM,HELIUM_FLAG_W,DELHE3,DELHE3_FLAG_W,DELC13,DELC13_FLAG_W,DELC14,DELC14_FLAG_W,C14ERR,NEON,NEON_FLAG_W,NEONER,CTDRAW,THETA,HELIER,DELHER
,,,,,,,,,,,METERS,DBAR,ITS-90,PSS-78,,PSS-78,,UMOL/KG,,UMOL/KG,,UMOL/KG,,UMOL/KG,,UMOL/KG,,UMOL/KG,,PMOL/KG,,PMOL/KG,,UMOL/KG,,UMOL/KG,,UATM,,TU,,TU,NMOL/KG,,PERCNT,,/MILLE,,/MILLE,,/MILLE,NMOL/KG,,NMOL/KG,DBAR,DEG C,NMOL/KG,PERCNT
 316N145_14,       I02E,    1153,          1,         24,     SIH036,2,19951227,       0254,    -7.9987,    71.8695,       1825,     8.0,  28.3971,  34.1459,2,  34.1591,2,    220.6,2,   211.0,2,    3.94,2,    0.08,2,    0.00,2,    0.12,2,-999.000,5,-999.000,5,  1892.0,2,  2238.1,2,  -999.0,5,-999.000,1,-999.000,-999.0000,1, -999.00,9, -999.00,9,  -999.0,9,  -999.0,-999.000,9,-999.000,   215.4,  28.3952,-999.0000, -999.00
 316N145_14,       I02E,    1153,          1,         23,     SIH001,2,19951227,       0254,    -7.9987,    71.8695,       1825,    34.7,  26.1851,  35.2322,2,  35.2310,2,    203.5,2,   203.4,2,    5.99,2,    0.18,2,    0.01,2,    0.33,2,-999.000,5,-999.000,5,  -999.0,9,  -999.0,9,  -999.0,5,-999.000,1,-999.000,-999.0000,1, -999.00,9, -999.00,9,  -999.0,9,  -999.0,-999.000,9,-999.000,   475.8,  26.1773,-999.0000, -999.00
 316N145_14,       I02E,    1153,          1,         22,     SIH019,2,19951227,       0254,    -7.9987,    71.8695,       1825,    60.2,  20.5258,  35.1908,2,  35.1656,2,    163.2,3,   134.4,2,   11.81,2,   10.55,2,    0.19,2,    0.84,2,-999.000,5,-999.000,5,  -999.0,9,  -999.0,9,  -999.0,5,-999.000,1,-999.000,-999.0000,1, -999.00,9, -999.00,9,  -999.0,9,  -999.0,-999.000,9,-999.000,   728.0,  20.5144,-999.0000, -999.00
 316N145_14,       I02E,    1153,          1,         21,     SIH013,2,19951227,       0254,    -7.9987,    71.8695,       1825,    89.8,  17.3250,  35.0657,2,  35.0655,2,     70.0,2,    69.0,2,   19.52,2,   21.57,2,    0.05,2,    1.51,2,-999.000,5,-999.000,5,  -999.0,9,  -999.0,9,  -999.0,5,-999.000,1,-999.000,-999.0000,1, -999.00,9, -999.00,9,  -999.0,9,  -999.0,-999.000,9,-999.000,  1022.5,  17.3101,-999.0000, -999.00
 316N145_14,       I02E,    1153,          1,         20,     SIH004,2,19951227,       0254,    -7.9987,    71.8695,       1825,   119.7,  14.9188,  34.9851,2,  34.9793,2,     82.9,2,    70.7,2,   24.32,2,   23.92,2,    0.01,2,    1.67,2,-999.000,5,-999.000,5,  -999.0,9,  -999.0,9,  -999.0,5,-999.000,1,-999.000,-999.0000,1, -999.00,9, -999.00,9,  -999.0,9,  -999.0,-999.000,9,-999.000,  1321.2,  14.9008,-999.0000, -999.00
 316N145_14,       I02E,    1153,          1,         19,     SIH005,3,19951227,       0254,    -7.9987,    71.8695,       1825,   150.3,  13.8782,  34.9885,2,  34.9886,2,     71.4,2,    77.9,2,   25.34,6,   24.26,6,    0.01,6,    1.69,6,-999.000,5,-999.000,5,  -999.0,9,  -999.0,9,  -999.0,5,-999.000,1,-999.000,-999.0000,1, -999.00,9, -999.00,9,  -999.0,9,  -999.0,-999.000,9,-999.000,  1625.8,  13.8566,-999.0000, -999.00
 316N145_14,       I02E,    1153,          1,         18,     SIH006,2,19951227,       0254,    -7.9987,    71.8695,       1825,   200.0,  12.6269,  34.9756,2,  34.9778,2,     94.8,2,    88.0,2,   25.51,6,   24.52,6,    0.01,6,    1.72,6,-999.000,5,-999.000,5,  -999.0,9,  -999.0,9,  -999.0,5,-999.000,1,-999.000,-999.0000,1, -999.00,9, -999.00,9,  -999.0,9,  -999.0,-999.000,9,-999.000,  2122.4,  12.5999,-999.0000, -999.00
 316N145_14,       I02E,    1153,          1,         17,     SIH038,2,19951227,       0254,    -7.9987,    71.8695,       1825,   250.1,  11.5889,  34.9733,2,  34.9734,2,    146.2,2,   136.2,2,   19.71,2,   20.74,2,    0.01,2,    1.48,2,-999.000,5,-999.000,5,  -999.0,9,  -999.0,9,  -999.0,5,-999.000,1,-999.000,-999.0000,1, -999.00,9, -999.00,9,  -999.0,9,  -999.0,-999.000,9,-999.000,  2623.4,  11.5570,-999.0000, -999.00
 316N145_14,       I02E,    1153,          1,         16,     SIH008,2,19951227,       0254,    -7.9987,    71.8695,       1825,   300.2,  10.6608,  34.8920,2,  34.8920,2,    144.2,2,   143.3,2,   20.40,2,   21.97,2,    0.01,2,    1.54,2,-999.000,5,-999.000,5,  -999.0,9,  -999.0,9,  -999.0,5,-999.000,1,-999.000,-999.0000,1, -999.00,9, -999.00,9,  -999.0,9,  -999.0,-999.000,9,-999.000,  3125.0,  10.6244,-999.0000, -999.00
 316N145_14,       I02E,    1153,          1,         15,     SIH009,2,19951227,       0254,    -7.9987,    71.8695,       1825,   349.9,  10.1246,  34.8645,2,  34.8660,2,    115.5,2,   115.0,2,   26.41,2,   26.20,2,    0.01,2,    1.81,2,-999.000,5,-999.000,5,  -999.0,9,  -999.0,9,  -999.0,5,-999.000,1,-999.000,-999.0000,1, -999.00,9, -999.00,9,  -999.0,9,  -999.0,-999.000,9,-999.000,  3621.8,  10.0834,-999.0000, -999.00
 316N145_14,       I02E,    1153,          1,         14,     SIH010,2,19951227,       0254,    -7.9987,    71.8695,       1825,   399.8,   9.7982,  34.8514,2,  34.8513,2,    106.8,2,   109.3,2,   28.98,2,   27.38,2,    0.01,2,    1.89,2,-999.000,5,-999.000,5,  -999.0,9,  -999.0,9,  -999.0,5,-999.000,1,-999.000,-999.0000,1, -999.00,9, -999.00,9,  -999.0,9,  -999.0,-999.000,9,-999.000,  4120.6,   9.7520,-999.0000, -999.00
 316N145_14,       I02E,    1153,          1,         13,     SIH011,2,19951227,       0254,    -7.9987,    71.8695,       1825,   498.8,   9.0986,  34.8313,2,  34.8320,2,     93.3,2,    94.0,2,   37.73,2,   30.22,2,    0.01,2,    2.10,2,-999.000,5,-999.000,5,  -999.0,9,  -999.0,9,  -999.0,5,-999.000,1,-999.000,-999.0000,1, -999.00,9, -999.00,9,  -999.0,9,  -999.0,-999.000,9,-999.000,  5109.2,   9.0432,-999.0000, -999.00
 316N145_14,       I02E,    1153,          1,         12,     SIH012,2,19951227,       0254,    -7.9987,    71.8695,       1825,   599.3,   7.9957,  34.7777,2,  34.7748,2,     77.8,2,    85.1,2,   52.66,2,   32.85,2,    0.00,2,    2.34,2,-999.000,5,-999.000,5,  -999.0,9,  -999.0,9,  -999.0,5,-999.000,1,-999.000,-999.0000,1, -999.00,9, -999.00,9,  -999.0,9,  -999.0,-999.000,9,-999.000,  6114.8,   7.9337,-999.0000, -999.00
 316N145_14,       I02E,    1153,          1,         11,     SI9426,2,19951227,       0254,    -7.9987,    71.8695,       1825,   695.4,   7.4029,  34.7940,2,  34.7931,2,     71.6,2,    71.8,2,   65.02,2,   34.81,2,    0.01,2,    2.51,2,-999.000,5,-999.000,5,  -999.0,9,  -999.0,9,  -999.0,5,-999.000,1,-999.000,-999.0000,1, -999.00,9, -999.00,9,  -999.0,9,  -999.0,-999.000,9,-999.000,  7074.9,   7.3336,-999.0000, -999.00
 316N145_14,       I02E,    1153,          1,         10,     SIH014,2,19951227,       0254,    -7.9987,    71.8695,       1825,   796.0,   6.7579,  34.7717,2,  34.7712,2,     70.6,2,    70.5,2,   75.68,2,   35.84,2,    0.01,2,    2.59,2,-999.000,5,-999.000,5,  -999.0,9,  -999.0,9,  -999.0,5,-999.000,1,-999.000,-999.0000,1, -999.00,9, -999.00,9,  -999.0,9,  -999.0,-999.000,9,-999.000,  8079.7,   6.6818,-999.0000, -999.00
 316N145_14,       I02E,    1153,          1,          9,     SIH015,2,19951227,       0254,    -7.9987,    71.8695,       1825,   896.4,   6.0916,  34.7598,2,  34.7589,2,     74.2,2,    74.0,2,   85.81,2,   36.30,2,    0.01,2,    2.65,2,-999.000,5,-999.000,5,  -999.0,9,  -999.0,9,  -999.0,5,-999.000,1,-999.000,-999.0000,1, -999.00,9, -999.00,9,  -999.0,9,  -999.0,-999.000,9,-999.000,  9083.2,   6.0099,-999.0000, -999.00
 316N145_14,       I02E,    1153,          1,          8,     SIH016,2,19951227,       0254,    -7.9987,    71.8695,       1825,   996.5,   5.6026,  34.7437,2,  34.7445,2,     78.7,2,    77.0,2,   93.04,2,   36.46,2,    0.00,2,    2.67,2,-999.000,5,-999.000,5,  -999.0,9,  -999.0,9,  -999.0,5,-999.000,1,-999.000,-999.0000,1, -999.00,9, -999.00,9,  -999.0,9,  -999.0,-999.000,9,-999.000, 10083.8,   5.5146,-999.0000, -999.00
 316N145_14,       I02E,    1153,          1,          7,     SIH017,2,19951227,       0254,    -7.9987,    71.8695,       1825,  1096.9,   5.1661,  34.7449,2,  34.7453,2,     82.6,2,    82.0,2,   97.35,2,   36.61,2,    0.01,2,    2.67,2,-999.000,5,-999.000,5,  -999.0,9,  -999.0,9,  -999.0,5,-999.000,1,-999.000,-999.0000,1, -999.00,9, -999.00,9,  -999.0,9,  -999.0,-999.000,9,-999.000, 11086.9,   5.0721,-999.0000, -999.00
 316N145_14,       I02E,    1153,          1,          6,     SIH018,2,19951227,       0254,    -7.9987,    71.8695,       1825,  1196.9,   4.8367,  34.7565,2,  34.7559,2,     86.8,2,    86.5,2,  100.62,2,   36.67,2,    0.00,2,    2.68,2,-999.000,5,-999.000,5,  -999.0,9,  -999.0,9,  -999.0,5,-999.000,1,-999.000,-999.0000,1, -999.00,9, -999.00,9,  -999.0,9,  -999.0,-999.000,9,-999.000, 12086.2,   4.7363,-999.0000, -999.00
 316N145_14,       I02E,    1153,          1,          5,     SIH002,2,19951227,       0254,    -7.9987,    71.8695,       1825,  1298.5,   4.5291,  34.7641,2,  34.7636,2,     91.9,2,    91.0,2,  103.29,6,   36.50,2,    0.01,6,    2.66,2,-999.000,5,-999.000,5,  -999.0,9,  -999.0,9,  -999.0,5,-999.000,1,-999.000,-999.0000,1, -999.00,9, -999.00,9,  -999.0,9,  -999.0,-999.000,9,-999.000, 13099.9,   4.4222,-999.0000, -999.00
 316N145_14,       I02E,    1153,          1,          4,     SIH020,2,19951227,       0254,    -7.9987,    71.8695,       1825,  1398.3,   4.2022,  34.7627,2,  34.7628,2,     98.3,2,    97.4,2,  106.14,6,   36.41,2,    0.01,6,    2.65,6,-999.000,5,-999.000,5,  -999.0,9,  -999.0,9,  -999.0,5,-999.000,1,-999.000,-999.0000,1, -999.00,9, -999.00,9,  -999.0,9,  -999.0,-999.000,9,-999.000, 14096.4,   4.0895,-999.0000, -999.00
 316N145_14,       I02E,    1153,          1,          3,     SIH021,3,19951227,       0254,    -7.9987,    71.8695,       1825,  1599.8,   3.4384,  34.7687,2,  34.7677,2,    115.8,2,   115.0,2,  112.52,2,   36.04,2,    0.00,2,    2.58,2,-999.000,5,-999.000,5,  -999.0,9,  -999.0,9,  -999.0,5,-999.000,1,-999.000,-999.0000,1, -999.00,9, -999.00,9,  -999.0,9,  -999.0,-999.000,9,-999.000, 16107.3,   3.3163,-999.0000, -999.00
 316N145_14,       I02E,    1153,          1,          2,     SIH022,2,19951227,       0254,    -7.9987,    71.8695,       1825,  1801.4,   2.9019,  34.7602,2,  34.7616,2,    128.9,2,   129.2,2,  118.21,2,   35.37,2,    0.01,2,    2.52,2,-999.000,5,-999.000,5,  -999.0,9,  -999.0,9,  -999.0,5,-999.000,1,-999.000,-999.0000,1, -999.00,9, -999.00,9,  -999.0,9,  -999.0,-999.000,9,-999.000, 18118.9,   2.7691,-999.0000, -999.00
 316N145_14,       I02E,    1153,          1,          1,     SIH023,2,19951227,       0254,    -7.9987,    71.8695,       1825,  1825.4,   2.8482,  34.7584,2,  34.7590,2,    129.1,2,   130.6,2,  118.21,6,   35.26,6,    0.01,6,    2.52,6,-999.000,5,-999.000,5,  -999.0,9,  -999.0,9,  -999.0,5,-999.000,1,-999.000,-999.0000,1, -999.00,9, -999.00,9,  -999.0,9,  -999.0,-999.000,9,-999.000, 18375.0,   2.7140,-999.0000, -999.00
 316N145_14,       I02E,    1154,          1,         21,     SIH013,2,19951227,       0701,    -8.0028,    71.4167,       1378,     7.9,  28.5172,  34.2108,2,  34.2146,2,    221.4,2,   209.2,2,    5.17,2,    0.17,2,   -0.01,2,    0.11,2,   1.616,2,   0.921,2,  1893.6,2,  -999.0,9,  -999.0,5,-999.000,1,-999.000,-999.0000,1, -999.00,9, -999.00,9,  -999.0,9,  -999.0,-999.000,9,-999.000,   214.3,  28.5153,-999.0000, -999.00
 316N145_14,       I02E,    1154,          1,         20,     SIH004,2,19951227,       0701,    -8.0028,    71.4167,       1378,    35.3,  26.1989,  35.1243,2,  35.1376,2,    194.2,2,   195.4,2,    7.45,2,    0.75,2,    0.03,2,    0.34,2,   1.633,2,   0.926,2,  -999.0,9,  -999.0,9,  -999.0,5,-999.000,1,-999.000,-999.0000,1, -999.00,9, -999.00,9,  -999.0,9,  -999.0,-999.000,9,-999.000,   479.8,  26.1910,-999.0000, -999.00
 316N145_14,       I02E,    1154,          1,         19,     SIH005,2,19951227,       0701,    -8.0028,    71.4167,       1378,    65.2,  20.3501,  35.1813,2,  35.1811,2,    155.8,3,   132.8,2,   13.56,2,   11.01,2,    0.18,2,    0.86,2,   1.647,2,   0.899,2,  -999.0,9,  -999.0,9,  -999.0,5,-999.000,1,-999.000,-999.0000,1, -999.00,9, -999.00,9,  -999.0,9,  -999.0,-999.000,9,-999.000,   776.7,  20.3379,-999.0000, -999.00
 316N145_14,       I02E,    1154,          1,         18,     SIH006,2,19951227,       0701,    -8.0028,    71.4167,       1378,    94.9,  16.8241,  35.0700,2,  35.0642,2,     74.6,2,    86.7,2,   21.43,2,   19.80,2,    0.04,2,    1.40,2,   1.270,2,   0.657,2,  -999.0,9,  -999.0,9,  -999.0,5,-999.000,1,-999.000,-999.0000,1, -999.00,9, -999.00,9,  -999.0,9,  -999.0,-999.000,9,-999.000,  1071.7,  16.8085,-999.0000, -999.00
 316N145_14,       I02E,    1154,          1,         17,     SIH038,2,19951227,       0701,    -8.0028,    71.4167,       1378,   125.4,  15.3743,  34.9722,2,  34.9837,2,     76.1,2,    79.9,2,   25.29,2,   22.41,2,    0.01,2,    1.57,2,   1.071,2,   0.566,2,  -999.0,9,  -999.0,9,  -999.0,5,-999.000,1,-999.000,-999.0000,1, -999.00,9, -999.00,9,  -999.0,9,  -999.0,-999.000,9,-999.000,  1375.7,  15.3550,-999.0000, -999.00
 316N145_14,       I02E,    1154,          1,         16,     SIH008,2,19951227,       0701,    -8.0028,    71.4167,       1378,   155.8,  14.2169,  34.9906,2,  34.9915,2,     78.7,2,    76.3,2,   26.01,2,   23.96,2,    0.00,2,    1.68,2,   0.924,2,   0.481,2,  -999.0,9,  -999.0,9,  -999.0,5,-999.000,1,-999.000,-999.0000,1, -999.00,9, -999.00,9,  -999.0,9,  -999.0,-999.000,9,-999.000,  1678.7,  14.1942,-999.0000, -999.00
 316N145_14,       I02E,    1154,          1,         15,     SIH009,2,19951227,       0701,    -8.0028,    71.4167,       1378,   205.4,  12.6077,  34.9876,2,  34.9833,2,     81.8,2,    89.7,2,   26.03,2,   24.48,2,    0.00,2,    1.72,2,   0.814,2,   0.416,2,  -999.0,9,  -999.0,9,  -999.0,5,-999.000,1,-999.000,-999.0000,1, -999.00,9, -999.00,9,  -999.0,9,  -999.0,-999.000,9,-999.000,  2174.6,  12.5800,-999.0000, -999.00
 316N145_14,       I02E,    1154,          1,         14,     SIH010,2,19951227,       0701,    -8.0028,    71.4167,       1378,   254.1,  11.6054,  34.9676,2,  34.9699,2,    127.3,2,   122.2,2,   22.55,2,   22.36,2,    0.00,2,    1.57,2,   1.068,6,   0.539,6,  -999.0,9,  -999.0,9,  -999.0,5,-999.000,1,-999.000,-999.0000,1, -999.00,9, -999.00,9,  -999.0,9,  -999.0,-999.000,9,-999.000,  2660.2,  11.5729,-999.0000, -999.00
 316N145_14,       I02E,    1154,          1,         13,     SIH011,2,19951227,       0701,    -8.0028,    71.4167,       1378,   305.6,  10.9346,  34.9266,2,  34.9248,2,     99.0,2,   100.5,2,   26.59,2,   26.13,2,    0.00,2,    1.80,2,   0.643,2,   0.326,2,  -999.0,9,  -999.0,9,  -999.0,5,-999.000,1,-999.000,-999.0000,1, -999.00,9, -999.00,9,  -999.0,9,  -999.0,-999.000,9,-999.000,  3174.7,  10.8969,-999.0000, -999.00
 316N145_14,       I02E,    1154,          1,         12,     SIH012,2,19951227,       0701,    -8.0028,    71.4167,       1378,   355.1,  10.0357,  34.8760,2,  34.8741,2,    102.7,2,   103.3,2,   30.99,2,   27.64,2,    0.00,2,    1.91,2,-999.000,5,-999.000,5,  -999.0,9,  -999.0,9,  -999.0,5,-999.000,1,-999.000,-999.0000,1, -999.00,9, -999.00,9,  -999.0,9,  -999.0,-999.000,9,-999.000,  3668.9,   9.9941,-999.0000, -999.00
 316N145_14,       I02E,    1154,          1,         11,     SI9426,2,19951227,       0701,    -8.0028,    71.4167,       1378,   405.7,   9.3765,  34.8456,2,  34.8430,2,     98.5,2,    99.1,2,   36.62,2,   29.19,2,    0.00,2,    2.03,2,   0.362,2,   0.182,2,  -999.0,9,  -999.0,9,  -999.0,5,-999.000,1,-999.000,-999.0000,1, -999.00,9, -999.00,9,  -999.0,9,  -999.0,-999.000,9,-999.000,  4174.1,   9.3309,-999.0000, -999.00
 316N145_14,       I02E,    1154,          1,         10,     SIH014,2,19951227,       0701,    -8.0028,    71.4167,       1378,   506.3,   8.6897,  34.8206,2,  34.8186,2,     85.6,2,    87.3,2,   45.23,2,   31.62,2,    0.00,2,    2.23,2,   0.156,2,   0.082,2,  -999.0,9,  -999.0,9,  -999.0,5,-999.000,1,-999.000,-999.0000,1, -999.00,9, -999.00,9,  -999.0,9,  -999.0,-999.000,9,-999.000,  5179.5,   8.6350,-999.0000, -999.00
 316N145_14,       I02E,    1154,          1,          9,     SIH015,2,19951227,       0701,    -8.0028,    71.4167,       1378,   604.7,   7.9406,  34.8098,2,  34.8106,2,     76.8,2,    78.1,2,   57.53,2,   33.43,2,    0.00,2,    2.39,2,   0.089,2,   0.044,2,  -999.0,9,  -999.0,9,  -999.0,5,-999.000,1,-999.000,-999.0000,1, -999.00,9, -999.00,9,  -999.0,9,  -999.0,-999.000,9,-999.000,  6162.6,   7.8782,-999.0000, -999.00
 316N145_14,       I02E,    1154,          1,          8,     SIH016,2,19951227,       0701,    -8.0028,    71.4167,       1378,   705.7,   7.2082,  34.8030,2,  34.8003,2,     73.1,2,    72.7,2,   70.02,2,   34.87,2,    0.00,2,    2.53,2,   0.039,2,   0.018,2,  -999.0,9,  -999.0,9,  -999.0,5,-999.000,1,-999.000,-999.0000,1, -999.00,9, -999.00,9,  -999.0,9,  -999.0,-999.000,9,-999.000,  7170.4,   7.1388,-999.0000, -999.00
 316N145_14,       I02E,    1154,          1,          7,     SIH017,2,19951227,       0701,    -8.0028,    71.4167,       1378,   806.6,   6.7324,  34.7876,2,  34.7862,2,     71.6,2,    71.7,2,   77.25,2,   35.59,2,    0.00,2,    2.59,2,   0.020,2,   0.010,2,  -999.0,9,  -999.0,9,  -999.0,5,-999.000,1,-999.000,-999.0000,1, -999.00,9, -999.00,9,  -999.0,9,  -999.0,-999.000,9,-999.000,  8178.1,   6.6554,-999.0000, -999.00
 316N145_14,       I02E,    1154,          1,          6,     SIH018,2,19951227,       0701,    -8.0028,    71.4167,       1378,   907.4,   6.1480,  34.7711,2,  34.7691,2,     72.9,2,    72.6,2,   86.77,2,   36.22,2,    0.00,2,    2.65,2,-999.000,5,-999.000,5,  -999.0,9,  -999.0,9,  -999.0,5,-999.000,1,-999.000,-999.0000,1, -999.00,9, -999.00,9,  -999.0,9,  -999.0,-999.000,9,-999.000,  9183.7,   6.0648,-999.0000, -999.00
 316N145_14,       I02E,    1154,          1,          5,     SIH002,2,19951227,       0701,    -8.0028,    71.4167,       1378,  1006.2,   5.6859,  34.7685,2,  34.7669,2,     77.2,2,    76.7,2,   92.44,2,   36.32,2,    0.00,2,    2.66,2,   0.004,2,   0.000,2,  -999.0,9,  -999.0,9,  -999.0,5,-999.000,1,-999.000,-999.0000,1, -999.00,9, -999.00,9,  -999.0,9,  -999.0,-999.000,9,-999.000, 10169.4,   5.5964,-999.0000, -999.00
 316N145_14,       I02E,    1154,          1,          4,     SIH020,2,19951227,       0701,    -8.0028,    71.4167,       1378,  1105.6,   5.2564,  34.7599,2,  34.7589,2,     82.2,2,    81.5,2,   97.93,2,   36.42,2,    0.00,2,    2.67,2,-999.000,5,-999.000,5,  -999.0,9,  -999.0,9,  -999.0,5,-999.000,1,-999.000,-999.0000,1, -999.00,9, -999.00,9,  -999.0,9,  -999.0,-999.000,9,-999.000, 11161.1,   5.1609,-999.0000, -999.00
 316N145_14,       I02E,    1154,          1,          3,     SIH021,2,19951227,       0701,    -8.0028,    71.4167,       1378,  1204.6,   4.8579,  34.7621,2,  34.7596,2,     86.6,2,    86.8,2,  102.25,2,   36.60,2,    0.00,2,    2.67,2,   0.000,2,  -0.001,2,  -999.0,9,  -999.0,9,  -999.0,5,-999.000,1,-999.000,-999.0000,1, -999.00,9, -999.00,9,  -999.0,9,  -999.0,-999.000,9,-999.000, 12146.8,   4.7566,-999.0000, -999.00
 316N145_14,       I02E,    1154,          1,          2,     SIH022,2,19951227,       0701,    -8.0028,    71.4167,       1378,  1292.7,   4.4806,  34.7649,2,  34.7626,2,     91.5,2,    92.8,2,  105.93,2,   36.52,2,    0.00,2,    2.66,2,-999.000,5,-999.000,5,  -999.0,9,  -999.0,9,  -999.0,5,-999.000,1,-999.000,-999.0000,1, -999.00,9, -999.00,9,  -999.0,9,  -999.0,-999.000,9,-999.000, 13024.3,   4.3747,-999.0000, -999.00
 316N145_14,       I02E,    1154,          1,          1,     SIH023,2,19951227,       0701,    -8.0028,    71.4167,       1378,  1378.0,   4.2064,  34.7698,2,  34.7675,2,     98.3,2,    99.5,2,  107.96,6,   36.32,6,    0.00,6,    2.64,6,  -0.001,2,  -0.001,2,  -999.0,9,  -999.0,9,  -999.0,5,-999.000,1,-999.000,-999.0000,1, -999.00,9, -999.00,9,  -999.0,9,  -999.0,-999.000,9,-999.000, 13895.7,   4.0955,-999.0000, -999.00