BOTTLE,20220829CCHSIOAMB
EXPOCODE,SECT_ID,STNNBR,CASTNO,SAMPNO,BTLNBR,BTLNBR_FLAG_W,DATE,TIME,LATITUDE,LONGITUDE,DEPTH,CTDPRS,CTDTMP,CTDSAL,CTDSAL_FLAG_W,SALNTY,SALNTY_FLAG_W,CTDOXY,CTDOXY_FLAG_W,OXYGEN,OXYGEN_FLAG_W,SILCAT,SILCAT_FLAG_W,NITRAT,NITRAT_FLAG_W,NITRIT,NITRIT_FLAG_W,PHSPHT,PHSPHT_FLAG_W,CFC-11,CFC-11_FLAG_W,CFC-12,CFC-12_FLAG_W,TCARBN,TCARBN_FLAG_W,ALKALI,ALKALI_FLAG_W,PCO2,PCO2_FLAG_W,TRITUM,TRITUM_FLAG_W,TRITER,HELIUM,HELIUM_FLAG_W,DELHE3,DELHE3_FLAG_W,DELC13,DELC13_FLAG_W,DELC14,DELC14_FLAG_W,C14ERR,NEON,NEON_FLAG_W,NEONER,CTDRAW,THETA,HELIER,DELHER
,,,,,,,,,,,METERS,DBAR,ITS-90,PSS-78,,PSS-78,,UMOL/KG,,UMOL/KG,,UMOL/KG,,UMOL/KG,,UMOL/KG,,UMOL/KG,,PMOL/KG,,PMOL/KG,,UMOL/KG,,UMOL/KG,,UATM,,TU,,TU,NMOL/KG,,PERCNT,,/MILLE,,/MILLE,,/MILLE,NMOL/KG,,NMOL/KG,DBAR,DEG C,NMOL/KG,PERCNT
 316N145_14,       I02E,    1078,          1,         36,     SIH024,2,19951205,       0540,    -9.0000,   105.6333,       6445,    20.4,  28.1633,  33.6275,2,  33.6216,2,    459.9,4,   212.5,2,    3.54,2,    0.00,2,    0.00,2,    0.05,2,   1.617,2,   0.951,2,  1865.9,2,  2207.2,2,  -999.0,5,   0.972,2,   0.004,   1.7109,2,   -1.13,2,    1.32,2,    60.7,2,     3.2,   6.500,2,-999.000,   699.4,  28.1585,-999.0000, -999.00
 316N145_14,       I02E,    1078,          1,         35,     SIH003,2,19951205,       0540,    -9.0000,   105.6333,       6445,    34.7,  28.0897,  33.6227,2,-999.0000,9,    482.1,4,   216.2,2, -999.00,9, -999.00,9, -999.00,9, -999.00,9,   1.653,3,   0.980,2,  1868.1,2,  2201.9,2,  -999.0,5,-999.000,1,-999.000,   1.6651,2,   -1.30,2,    1.31,2,    70.1,2,     3.5,   6.345,2,-999.000,   827.0,  28.0815,-999.0000, -999.00
 316N145_14,       I02E,    1078,          1,         34,     SIH026,2,19951205,       0540,    -9.0000,   105.6333,       6445,    64.0,  27.0852,  34.4052,2,  34.4045,2,    518.7,4,   222.3,2,    4.24,2,    0.00,2,    0.00,2,    0.10,2,-999.000,5,-999.000,5,  1930.6,2,  2257.3,2,  -999.0,5,-999.000,1,-999.000,   1.6384,2,   -1.42,2,    1.28,2,    88.7,2,     5.5,   6.278,2,-999.000,  1094.5,  27.0705,-999.0000, -999.00
 316N145_14,       I02E,    1078,          1,         33,     SIH027,2,19951205,       0540,    -9.0000,   105.6333,       6445,   102.9,  23.3052,  34.4608,2,  34.4500,2,    607.4,4,   144.5,2,   11.66,2,    9.40,2,    0.11,2,    0.71,2,   1.544,2,   0.883,2,  2021.9,2,  2263.7,2,  -999.0,5,-999.000,1,-999.000,   1.6458,2,    1.78,2,    0.69,2,    68.4,2,     3.5,   6.409,2,-999.000,  1452.7,  23.2841,-999.0000, -999.00
 316N145_14,       I02E,    1078,          1,         32,     SIH028,2,19951205,       0540,    -9.0000,   105.6333,       6445,   152.6,  17.3561,  34.5720,2,  34.5728,2,    751.5,4,   110.0,2,   25.28,2,   18.30,2,    0.01,2,    1.31,2,   1.263,2,   0.677,2,  2111.6,2,  2291.2,2,  -999.0,5,   1.050,2,   0.004,   2.0246,2,   11.07,2,    0.34,2,    38.1,2,     4.0,   6.721,2,-999.000,  1911.5,  17.3307,-999.0000, -999.00
 316N145_14,       I02E,    1078,          1,         31,     SIH029,2,19951205,       0540,    -9.0000,   105.6333,       6445,   197.2,  13.4461,  34.6285,2,  34.6185,2,    861.4,4,    93.8,2,   35.01,2,   23.87,2,    0.01,2,    1.70,2,   0.940,2,   0.492,2,  2165.3,2,  2299.6,2,  -999.0,5,   0.848,2,   0.004,   1.7264,2,    8.82,2,    0.31,2,    -7.4,2,     3.4,   6.952,2,-999.000,  2324.4,  13.4184,-999.0000, -999.00
 316N145_14,       I02E,    1078,          1,         30,     SIH030,2,19951205,       0540,    -9.0000,   105.6333,       6445,   253.0,  11.4031,  34.6330,2,  34.6295,2,    930.7,4,    87.8,2,   40.86,2,   26.99,2,    0.01,2,    1.91,2,-999.000,5,-999.000,5,  2193.9,2,  2306.8,2,  -999.0,5,   1.202,2,   0.004,   1.8235,2,   10.43,2,    0.24,2,   -34.1,2,     4.1,   6.825,2,-999.000,  2840.8,  11.3712,-999.0000, -999.00
 316N145_14,       I02E,    1078,          1,         29,     SIH031,2,19951205,       0540,    -9.0000,   105.6333,       6445,   302.9,  10.8125,  34.7742,2,  34.7697,2,    955.4,4,    69.0,2,   38.39,2,   29.58,2,    0.01,2,    2.05,2,   0.408,2,   0.211,2,  2215.4,2,  2314.9,2,  -999.0,5,   0.423,2,   0.003,   1.9311,2,   10.11,2,    0.20,2,   -40.5,2,     3.9,   7.067,2,-999.000,  3302.6,  10.7755,-999.0000, -999.00
 316N145_14,       I02E,    1078,          1,         28,     SIH032,2,19951205,       0540,    -9.0000,   105.6333,       6445,   353.1,  10.4764,  34.8418,2,  34.8283,2,    973.9,4,    66.5,2,   36.63,2,   30.82,2,    0.00,2,    2.09,2,   0.280,2,   0.157,2,  2221.1,2,  2313.4,2,  -999.0,5,-999.000,1,-999.000,-999.0000,1, -999.00,9,    0.26,2,   -55.9,2,     4.2,-999.000,9,-999.000,  3767.8,  10.4339,-999.0000, -999.00
 316N145_14,       I02E,    1078,          1,         27,     SIH033,2,19951205,       0540,    -9.0000,   105.6333,       6445,   401.0,   9.8652,  34.8125,2,  34.8066,2,      3.2,4,    69.0,2,   39.65,2,   31.33,2,    0.00,2,    2.16,2,   0.227,2,   0.147,2,  2226.6,2,  2316.2,2,  -999.0,5,   0.233,2,   0.003,   1.7138,2,    7.58,2,    0.31,2,   -58.3,2,     3.0,   7.023,2,-999.000,  4210.5,   9.8187,-999.0000, -999.00
 316N145_14,       I02E,    1078,          1,         26,     SIH037,2,19951205,       0540,    -9.0000,   105.6333,       6445,   497.5,   9.0499,  34.8026,2,  34.7958,2,     48.8,4,    72.5,2,   44.44,2,   32.56,2,    0.00,2,    2.28,2,   0.106,3,   0.047,2,  2234.6,2,  2319.6,2,  -999.0,5,   0.116,2,   0.002,   1.7191,2,    6.76,2,    0.37,2,   -84.3,2,     3.5,   6.926,2,-999.000,  5104.8,   8.9949,-999.0000, -999.00
 316N145_14,       I02E,    1078,          1,         25,     SI9446,2,19951205,       0540,    -9.0000,   105.6333,       6445,   598.7,   8.0082,  34.7583,2,  34.7539,2,    101.1,4,    67.1,2,   59.50,2,   34.59,2,    0.00,2,    2.47,2,   0.043,2,   0.020,2,  2257.9,2,  2333.6,2,  -999.0,5,   0.083,2,   0.002,-999.0000,1, -999.00,9,    0.25,2,  -125.9,2,     2.2,-999.000,9,-999.000,  6043.3,   7.9462,-999.0000, -999.00
 316N145_14,       I02E,    1078,          1,         24,     SIH036,2,19951205,       0540,    -9.0000,   105.6333,       6445,   699.3,   7.2022,  34.7262,2,  34.7219,2,    149.1,4,    69.1,2,   71.93,2,   35.46,2,    0.00,2,    2.56,2,   0.036,2,   0.016,2,  2281.3,2,  2345.6,2,  -999.0,5,   0.076,2,   0.002,   1.8404,2,   10.80,2,    0.17,2,  -143.7,2,     2.2,   7.444,2,-999.000,  6976.5,   7.1335,-999.0000, -999.00
 316N145_14,       I02E,    1078,          1,         23,     SIH001,3,19951205,       0540,    -9.0000,   105.6333,       6445,   798.8,   6.4428,  34.6845,2,  34.6824,2,    200.0,4,    75.0,2,   82.04,2,   35.75,2,    0.00,2,    2.59,2,-999.000,5,-999.000,5,  2278.2,2,  2357.7,2,  -999.0,5,   0.080,2,   0.002,   1.8003,2,   12.70,2,    0.14,2,  -142.3,2,     3.9,   7.579,2,-999.000,  7898.7,   6.3684,-999.0000, -999.00
 316N145_14,       I02E,    1078,          1,         22,     SIH019,2,19951205,       0540,    -9.0000,   105.6333,       6445,   899.6,   5.7826,  34.6681,2,  34.6659,2,    244.0,4,    79.9,2,   90.75,2,   36.05,2,    0.00,2,    2.62,2,-999.000,5,-999.000,5,  2288.1,2,  2364.3,2,  -999.0,5,   0.068,2,   0.002,   1.8120,2,   13.99,2,    0.10,2,  -154.2,2,     2.8,   7.812,2,-999.000,  8833.6,   5.7027,-999.0000, -999.00
 316N145_14,       I02E,    1078,          1,         21,     SIH025,2,19951205,       0540,    -9.0000,   105.6333,       6445,  1000.2,   5.2363,  34.6503,2,  34.6484,2,    284.4,4,    85.9,2,   98.05,2,   36.27,2,    0.00,2,    2.64,2,   0.030,2,   0.012,2,  2295.6,2,  2371.8,2,  -999.0,5,   0.061,2,   0.002,   1.8043,2,   14.85,2,    0.13,2,  -179.8,2,     4.8,   7.187,2,-999.000,  9767.2,   5.1510,-999.0000, -999.00
 316N145_14,       I02E,    1078,          1,         20,     SIH004,2,19951205,       0540,    -9.0000,   105.6333,       6445,  1096.2,   4.7915,  34.6606,2,  34.6598,2,    313.3,4,    89.8,2,  103.75,2,   36.49,2,    0.00,2,    2.66,2,-999.000,5,-999.000,5,  2300.8,2,  2379.5,2,  -999.0,5,-999.000,1,-999.000,-999.0000,1, -999.00,9,    0.09,2,  -181.0,2,     2.7,-999.000,9,-999.000, 10658.1,   4.7009,-999.0000, -999.00
 316N145_14,       I02E,    1078,          1,         19,     SIH005,2,19951205,       0540,    -9.0000,   105.6333,       6445,  1197.3,   4.6142,  34.6942,2,  34.6922,2,    339.9,4,    91.0,2,  105.20,2,   36.56,2,    0.00,2,    2.67,2,   0.009,2,   0.001,2,  2305.7,2,  2381.7,2,  -999.0,5,   0.026,2,   0.002,   1.7786,2,   14.59,2,    0.00,2,  -189.2,2,     4.5,   7.171,2,-999.000, 11596.3,   4.5159,-999.0000, -999.00
 316N145_14,       I02E,    1078,          1,         18,     SIH006,2,19951205,       0540,    -9.0000,   105.6333,       6445,  1398.0,   4.1925,  34.7250,2,  34.7264,2,    393.2,4,    95.3,2,  108.60,2,   36.56,2,    0.00,2,    2.67,2,   0.003,2,  -0.001,2,  2308.5,2,  2386.3,2,  -999.0,5,-999.000,1,-999.000,   1.8670,2,   14.90,2,    0.09,2,  -179.4,2,     2.3,   7.996,2,   0.018, 13459.2,   4.0800,   0.0060,    0.23
 316N145_14,       I02E,    1078,          1,         17,     SIH038,2,19951205,       0540,    -9.0000,   105.6333,       6445,  1598.6,   3.7127,  34.7587,2,  34.7581,2,    456.6,4,   105.1,2,  111.82,2,   36.43,2,    0.01,2,    2.65,2,   0.003,6,  -0.003,6,  2310.0,2,  2394.3,2,  -999.0,5,-999.000,1,-999.000,   1.9920,4,   13.06,3,   -1.28,4,  -230.8,3,     3.2,   8.338,4,   0.021, 15321.4,   3.5875,   0.0070,    0.19
 316N145_14,       I02E,    1078,          1,         16,     SIH008,2,19951205,       0540,    -9.0000,   105.6333,       6445,  1800.2,   2.9804,  34.7326,2,  34.7325,2,    533.9,4,   124.9,2,  116.29,2,   35.64,2,    0.00,2,    2.56,2,   0.005,2,   0.006,2,  2305.2,2,  2393.4,2,  -999.0,5,-999.000,1,-999.000,   1.8980,2,   13.67,2, -999.00,9,  -999.0,9,  -999.0,   8.067,2,   0.020, 17192.6,   2.8467,   0.0060,    0.13
 316N145_14,       I02E,    1078,          1,         15,     SIH009,2,19951205,       0540,    -9.0000,   105.6333,       6445,  2003.5,   2.6743,  34.7424,2,  34.7427,2,    591.9,4,   132.3,2,  120.23,2,   35.34,2,    0.00,2,    2.53,2,-999.000,5,-999.000,5,  2306.5,2,  2410.8,3,  -999.0,5,-999.000,1,-999.000,   1.8740,2,   14.08,2,   -1.05,4,  -223.3,3,     3.0,   8.054,2,   0.020, 19080.7,   2.5269,   0.0070,    0.13
 316N145_14,       I02E,    1078,          1,         14,     SIH010,2,19951205,       0540,    -9.0000,   105.6333,       6445,  2302.2,   2.2516,  34.7398,2,  34.7388,2,    674.8,4,   144.6,2,  124.17,2,   34.84,2,    0.00,2,    2.48,2,-999.000,5,-999.000,5,  2305.2,2,  2402.2,2,  -999.0,5,-999.000,1,-999.000,   1.9030,2,   13.76,2,    0.21,2,  -203.7,2,     2.6,   8.079,2,   0.020, 21854.8,   2.0844,   0.0060,    0.13
 316N145_14,       I02E,    1078,          1,         13,     SIH011,2,19951205,       0540,    -9.0000,   105.6333,       6445,  2600.7,   1.9611,  34.7315,2,  34.7313,2,    760.8,4,   156.8,2,  124.73,2,   34.34,2,    0.01,2,    2.42,2,-999.000,5,-999.000,5,  2299.5,2,  2403.6,2,  -999.0,5,-999.000,1,-999.000,-999.0000,5, -999.00,5,    0.24,2,  -199.7,2,     2.8,  24.050,4,   0.052, 24628.0,   1.7720,-999.0000, -999.00
 316N145_14,       I02E,    1078,          1,         12,     SIH012,2,19951205,       0540,    -9.0000,   105.6333,       6445,  2899.8,   1.7855,  34.7301,2,  34.7296,2,    837.2,4,   161.6,2,  127.61,2,   34.19,2,    0.00,2,    2.40,2,   0.004,2,   0.001,2,  -999.0,9,  2405.1,2,  -999.0,5,-999.000,1,-999.000,-999.0000,1, -999.00,9,    0.24,2,  -201.5,2,     2.7,-999.000,9,-999.000, 27406.5,   1.5718,-999.0000, -999.00
 316N145_14,       I02E,    1078,          1,         11,     SI9425,2,19951205,       0540,    -9.0000,   105.6333,       6445,  3197.7,   1.5951,  34.7252,2,  34.7239,2,    920.5,4,   168.2,2,  129.78,2,   33.91,2,    0.00,2,    2.38,2,-999.000,5,-999.000,5,  2298.9,2,  2408.4,2,  -999.0,5,-999.000,1,-999.000,-999.0000,1, -999.00,9, -999.00,9,  -999.0,9,  -999.0,-999.000,9,-999.000, 30174.8,   1.3568,-999.0000, -999.00
 316N145_14,       I02E,    1078,          1,         10,     SIH014,2,19951205,       0540,    -9.0000,   105.6333,       6445,  3494.2,   1.4097,  34.7196,2,  34.7199,2,      7.9,4,   176.7,2,  130.71,2,   33.62,2,    0.00,2,    2.35,2,-999.000,5,-999.000,5,  2293.1,2,  2404.2,2,  -999.0,5,-999.000,1,-999.000,   1.9640,4,   12.49,3,    0.19,2,  -192.8,2,     2.7,   8.580,4,   0.022, 32930.7,   1.1462,   0.0060,    0.19
 316N145_14,       I02E,    1078,          1,          9,     SIH015,2,19951205,       0540,    -9.0000,   105.6333,       6445,  3795.6,   1.2280,  34.7155,2,  34.7158,2,     97.8,4,   186.0,2,  130.21,2,   33.05,2,    0.01,2,    2.31,2,   0.004,2,   0.005,2,  2287.8,2,  2406.9,2,  -999.0,5,-999.000,1,-999.000,   1.9330,2,   12.13,2,    0.35,2,  -182.4,2,     2.6,   8.235,2,   0.021, 35731.5,   0.9382,   0.0060,    0.19
 316N145_14,       I02E,    1078,          1,          8,     SIH016,2,19951205,       0540,    -9.0000,   105.6333,       6445,  4088.8,   1.1685,  34.7136,2,  34.7132,2,    170.3,4,   190.7,2,  129.53,2,   32.97,2,    0.00,2,    2.29,2,-999.000,5,-999.000,5,  2284.1,2,  2399.2,2,  -999.0,5,-999.000,1,-999.000,   1.9200,2,   11.69,2,    0.35,2,  -178.1,2,     3.0,   8.236,2,   0.021, 38457.3,   0.8493,   0.0060,    0.19
 316N145_14,       I02E,    1078,          1,          7,     SIH017,2,19951205,       0540,    -9.0000,   105.6333,       6445,  4499.3,   1.1735,  34.7132,2,  34.7127,2,    269.7,4,   193.0,2,  128.86,2,   32.83,2,    0.00,2,    2.28,2,-999.000,5,-999.000,5,  2282.1,2,  2399.8,2,  -999.0,5,-999.000,1,-999.000,   1.8940,2,   11.94,2,    0.32,2,  -189.6,2,     2.8,   8.135,2,   0.021, 42274.0,   0.8086,   0.0060,    0.19
 316N145_14,       I02E,    1078,          1,          6,     SIH018,2,19951205,       0540,    -9.0000,   105.6333,       6445,  4798.1,   1.1898,  34.7124,2,  34.7119,2,    345.6,4,   194.2,2,  128.71,2,   32.83,2,    0.00,2,    2.27,2,  -0.001,2,  -0.002,2,  2280.5,2,  2404.7,2,  -999.0,5,-999.000,1,-999.000,-999.0000,1, -999.00,9,    0.29,2,  -188.6,2,     2.7,-999.000,9,-999.000, 45053.3,   0.7899,-999.0000, -999.00
 316N145_14,       I02E,    1078,          1,          5,     SIH002,3,19951205,       0540,    -9.0000,   105.6333,       6445,  4993.1,   1.2062,  34.7120,2,-999.0000,9,    397.1,4,   207.7,4, -999.00,9, -999.00,9, -999.00,9, -999.00,9,-999.000,5,-999.000,5,  2279.4,2,  2427.5,3,  -999.0,5,-999.000,1,-999.000,   2.0080,4,   11.95,2, -999.00,9,  -999.0,9,  -999.0,   8.623,4,   0.022, 46866.4,   0.7826,   0.0060,    0.19
 316N145_14,       I02E,    1078,          1,          4,     SIH020,2,19951205,       0540,    -9.0000,   105.6333,       6445,  5291.6,   1.2297,  34.7125,2,  34.7113,2,    466.4,4,   195.5,2,  128.39,2,   32.76,2,    0.00,2,    2.27,2,-999.000,5,-999.000,5,  2278.8,2,  2380.7,3,  -999.0,5,-999.000,1,-999.000,-999.0000,1, -999.00,9,    0.35,2,  -180.9,2,     3.8,-999.000,9,-999.000, 49643.1,   0.7689,-999.0000, -999.00
 316N145_14,       I02E,    1078,          1,          3,     SIH021,2,19951205,       0540,    -9.0000,   105.6333,       6445,  5590.7,   1.2624,  34.7125,2,  34.7113,2,    543.3,4,   196.3,2,  128.25,2,   32.62,2,    0.00,2,    2.27,2,-999.000,5,-999.000,5,  2278.4,2,  2400.2,2,  -999.0,5,-999.000,1,-999.000,   1.8850,2,   11.67,2,    0.38,2,  -175.3,2,     3.2,   8.121,2,   0.020, 52424.7,   0.7628,   0.0060,    0.14
 316N145_14,       I02E,    1078,          1,          2,     SIH022,2,19951205,       0540,    -9.0000,   105.6333,       6445,  5894.8,   1.2983,  34.7124,2,  34.7103,2,    618.3,4,   196.3,2,  128.11,2,   32.63,2,    0.00,2,    2.26,2,-999.000,5,-999.000,5,  2275.3,2,  2403.1,2,  -999.0,5,-999.000,1,-999.000,-999.0000,1, -999.00,9, -999.00,9,  -999.0,9,  -999.0,-999.000,9,-999.000, 55254.0,   0.7580,-999.0000, -999.00
 316N145_14,       I02E,    1078,          1,          1,     SIH023,2,19951205,       0540,    -9.0000,   105.6333,       6445,  6119.4,   1.3284,  34.7129,2,  34.7107,2,    673.7,4,   197.0,2,  127.98,6,   32.59,6,    0.01,6,    2.26,6,   0.000,2,   0.004,2,  2279.3,2,  2401.1,2,  -999.0,5,-999.000,1,-999.000,   1.9130,2,   11.42,2,    0.31,2,  -183.1,2,     3.4,   8.280,2,   0.018, 57343.5,   0.7571,   0.0070,    0.23