BOTTLE,20220829CCHSIOAMB
EXPOCODE,SECT_ID,STNNBR,CASTNO,SAMPNO,BTLNBR,BTLNBR_FLAG_W,DATE,TIME,LATITUDE,LONGITUDE,DEPTH,CTDPRS,CTDTMP,CTDSAL,CTDSAL_FLAG_W,SALNTY,SALNTY_FLAG_W,CTDOXY,CTDOXY_FLAG_W,OXYGEN,OXYGEN_FLAG_W,SILCAT,SILCAT_FLAG_W,NITRAT,NITRAT_FLAG_W,NITRIT,NITRIT_FLAG_W,PHSPHT,PHSPHT_FLAG_W,CFC-11,CFC-11_FLAG_W,CFC-12,CFC-12_FLAG_W,TCARBN,TCARBN_FLAG_W,ALKALI,ALKALI_FLAG_W,PCO2,PCO2_FLAG_W,TRITUM,TRITUM_FLAG_W,TRITER,HELIUM,HELIUM_FLAG_W,DELHE3,DELHE3_FLAG_W,DELC13,DELC13_FLAG_W,DELC14,DELC14_FLAG_W,C14ERR,NEON,NEON_FLAG_W,NEONER,CTDRAW,THETA,HELIER,DELHER
,,,,,,,,,,,METERS,DBAR,ITS-90,PSS-78,,PSS-78,,UMOL/KG,,UMOL/KG,,UMOL/KG,,UMOL/KG,,UMOL/KG,,UMOL/KG,,PMOL/KG,,PMOL/KG,,UMOL/KG,,UMOL/KG,,UATM,,TU,,TU,NMOL/KG,,PERCNT,,/MILLE,,/MILLE,,/MILLE,NMOL/KG,,NMOL/KG,DBAR,DEG C,NMOL/KG,PERCNT
 316N145_14,       I02E,    1113,          1,         36,     SIH024,2,19951216,       0212,    -7.9972,    88.6667,       3985,     9.1,  27.3834,  34.3142,2,  34.3158,2,    207.9,2,   207.7,2,    1.18,2,    0.18,3,    0.00,2,    0.09,2,   1.691,2,   1.035,4,  1925.3,2,  2251.8,2,  -999.0,5,-999.000,1,-999.000,-999.0000,1, -999.00,9, -999.00,9,  -999.0,9,  -999.0,-999.000,9,-999.000,   233.5,  27.3813,-999.0000, -999.00
 316N145_14,       I02E,    1113,          1,         35,     SIH003,3,19951216,       0212,    -7.9972,    88.6667,       3985,    36.6,  27.2475,  34.2962,2,  34.2938,2,    210.0,2,   205.9,2,    1.25,2,    0.18,3,    0.00,2,    0.10,2,-999.000,5,-999.000,5,  1923.8,2,  2252.8,2,  -999.0,5,-999.000,1,-999.000,-999.0000,1, -999.00,9, -999.00,9,  -999.0,9,  -999.0,-999.000,9,-999.000,   503.4,  27.2390,-999.0000, -999.00
 316N145_14,       I02E,    1113,          1,         34,     SIH026,2,19951216,       0212,    -7.9972,    88.6667,       3985,    60.8,  25.4713,  34.4068,2,  34.4151,2,    176.0,2,   193.3,2,    2.64,2,    1.41,3,    0.04,2,    0.23,2,   1.699,2,   0.995,2,  1955.6,2,  2260.0,2,  -999.0,5,-999.000,1,-999.000,-999.0000,1, -999.00,9, -999.00,9,  -999.0,9,  -999.0,-999.000,9,-999.000,   739.7,  25.4580,-999.0000, -999.00
 316N145_14,       I02E,    1113,          1,         33,     SIH027,2,19951216,       0212,    -7.9972,    88.6667,       3985,    91.3,  20.0308,  34.8724,2,  34.8721,2,     66.7,2,    75.7,2,   15.78,2,   19.33,3,    0.06,2,    1.35,2,   1.268,2,   0.732,2,  2119.4,2,  2297.0,2,  -999.0,5,-999.000,1,-999.000,-999.0000,1, -999.00,9, -999.00,9,  -999.0,9,  -999.0,-999.000,9,-999.000,  1041.9,  20.0139,-999.0000, -999.00
 316N145_14,       I02E,    1113,          1,         32,     SIH028,2,19951216,       0212,    -7.9972,    88.6667,       3985,   120.9,  16.9385,  34.8187,2,  34.8194,2,     65.9,2,    72.4,2,   22.15,2,   22.34,3,    0.01,2,    1.55,2,   1.096,2,   0.599,2,  2149.0,2,  2295.3,2,  -999.0,5,-999.000,1,-999.000,-999.0000,1, -999.00,9, -999.00,9,  -999.0,9,  -999.0,-999.000,9,-999.000,  1336.3,  16.9187,-999.0000, -999.00
 316N145_14,       I02E,    1113,          1,         31,     SIH029,2,19951216,       0212,    -7.9972,    88.6667,       3985,   150.5,  14.1263,  34.7521,2,  34.7498,2,     73.0,2,    71.1,2,   29.17,2,   25.45,3,    0.01,2,    1.77,2,   0.829,2,   0.443,2,  2177.9,2,  2302.7,2,  -999.0,5,-999.000,1,-999.000,-999.0000,1, -999.00,9, -999.00,9,  -999.0,9,  -999.0,-999.000,9,-999.000,  1629.6,  14.1045,-999.0000, -999.00
 316N145_14,       I02E,    1113,          1,         30,     SIH030,2,19951216,       0212,    -7.9972,    88.6667,       3985,   201.0,  12.0239,  34.7598,2,  34.7571,2,     66.1,2,    67.8,2,   33.46,2,   28.09,3,    0.00,2,    1.95,2,   0.531,2,   0.276,2,  2203.0,2,  2306.6,2,  -999.0,5,-999.000,1,-999.000,-999.0000,1, -999.00,9, -999.00,9,  -999.0,9,  -999.0,-999.000,9,-999.000,  2134.9,  11.9977,-999.0000, -999.00
 316N145_14,       I02E,    1113,          1,         29,     SIH031,4,19951216,       0212,    -7.9972,    88.6667,       3985,   250.9,  11.4293,  34.8340,2,-999.0000,9,     61.5,2,  -999.0,9, -999.00,9, -999.00,9, -999.00,9, -999.00,9,-999.000,5,-999.000,5,  -999.0,9,  -999.0,9,  -999.0,5,-999.000,1,-999.000,-999.0000,1, -999.00,9, -999.00,9,  -999.0,9,  -999.0,-999.000,9,-999.000,  2636.0,  11.3975,-999.0000, -999.00
 316N145_14,       I02E,    1113,          1,         28,     SIH032,2,19951216,       0212,    -7.9972,    88.6667,       3985,   300.6,  10.8207,  34.8736,2,  34.8713,2,     66.7,2,    74.6,2,   29.47,2,   28.95,3,    0.00,2,    1.95,2,   0.378,6,   0.191,6,  2211.3,2,  2313.6,2,  -999.0,5,-999.000,1,-999.000,-999.0000,1, -999.00,9, -999.00,9,  -999.0,9,  -999.0,-999.000,9,-999.000,  3132.8,  10.7839,-999.0000, -999.00
 316N145_14,       I02E,    1113,          1,         27,     SIH033,2,19951216,       0212,    -7.9972,    88.6667,       3985,   350.5,  10.3997,  34.8773,2,  34.8745,2,     70.0,2,    65.6,2,   32.02,2,   30.83,3,    0.00,2,    2.07,2,-999.000,5,-999.000,5,  2223.1,2,  2314.0,2,  -999.0,5,-999.000,1,-999.000,-999.0000,1, -999.00,9, -999.00,9,  -999.0,9,  -999.0,-999.000,9,-999.000,  3631.3,  10.3578,-999.0000, -999.00
 316N145_14,       I02E,    1113,          1,         26,     SIH037,2,19951216,       0212,    -7.9972,    88.6667,       3985,   401.3,   9.9052,  34.8683,2,  34.8658,2,     68.5,2,    68.1,2,   33.40,2,   31.60,3,    0.00,2,    2.12,2,   0.138,2,   0.121,4,  2226.0,2,  2315.3,2,  -999.0,5,-999.000,1,-999.000,-999.0000,1, -999.00,9, -999.00,9,  -999.0,9,  -999.0,-999.000,9,-999.000,  4139.9,   9.8585,-999.0000, -999.00
 316N145_14,       I02E,    1113,          1,         25,     SI9446,2,19951216,       0212,    -7.9972,    88.6667,       3985,   500.7,   9.0240,  34.8303,2,  34.8273,2,     69.1,2,    69.5,2,   41.58,2,   32.95,3,    0.00,2,    2.28,2,   0.067,2,   0.038,2,  2238.8,2,  2323.7,2,  -999.0,5,-999.000,1,-999.000,-999.0000,1, -999.00,9, -999.00,9,  -999.0,9,  -999.0,-999.000,9,-999.000,  5132.9,   8.9687,-999.0000, -999.00
 316N145_14,       I02E,    1113,          1,         24,     SIH036,2,19951216,       0212,    -7.9972,    88.6667,       3985,   601.9,   8.0758,  34.7928,2,  34.7927,2,     67.2,2,    65.5,2,   54.91,2,   34.67,3,    0.00,2,    2.44,2,   0.027,2,   0.014,2,  2257.1,2,  2334.8,2,  -999.0,5,-999.000,1,-999.000,-999.0000,1, -999.00,9, -999.00,9,  -999.0,9,  -999.0,-999.000,9,-999.000,  6145.1,   8.0131,-999.0000, -999.00
 316N145_14,       I02E,    1113,          1,         23,     SIH001,2,19951216,       0212,    -7.9972,    88.6667,       3985,   700.7,   7.3043,  34.7622,2,  34.7612,2,     63.6,2,    63.8,2,   67.24,2,   35.81,3,    0.00,2,    2.56,2,   0.014,2,   0.003,2,  2273.4,2,  2355.8,2,  -999.0,5,-999.000,1,-999.000,-999.0000,1, -999.00,9, -999.00,9,  -999.0,9,  -999.0,-999.000,9,-999.000,  7132.9,   7.2350,-999.0000, -999.00
 316N145_14,       I02E,    1113,          1,         22,     SIH019,2,19951216,       0212,    -7.9972,    88.6667,       3985,   798.7,   6.5912,  34.7368,2,  34.7360,2,     67.2,2,    68.0,2,   78.08,2,   36.25,3,    0.00,2,    2.60,2,   0.009,2,  -0.003,2,  2286.2,2,  2360.8,2,  -999.0,5,-999.000,1,-999.000,-999.0000,1, -999.00,9, -999.00,9,  -999.0,9,  -999.0,-999.000,9,-999.000,  8113.0,   6.5159,-999.0000, -999.00
 316N145_14,       I02E,    1113,          1,         21,     SIH025,3,19951216,       0212,    -7.9972,    88.6667,       3985,   897.9,   5.8520,  34.6992,2,  34.6975,2,     75.2,2,    76.1,2,   87.93,2,   36.48,3,    0.00,2,    2.62,2,-999.000,5,-999.000,5,  2291.5,2,  2369.6,2,  -999.0,5,-999.000,1,-999.000,-999.0000,1, -999.00,9, -999.00,9,  -999.0,9,  -999.0,-999.000,9,-999.000,  9105.6,   5.7718,-999.0000, -999.00
 316N145_14,       I02E,    1113,          1,         20,     SIH004,2,19951216,       0212,    -7.9972,    88.6667,       3985,   994.8,   5.3456,  34.6829,2,  34.6814,2,     82.2,2,    81.3,2,   94.97,2,   36.54,3,    0.00,2,    2.63,2,   0.008,2,   0.002,2,  2298.6,2,  2371.9,2,  -999.0,5,-999.000,1,-999.000,-999.0000,1, -999.00,9, -999.00,9,  -999.0,9,  -999.0,-999.000,9,-999.000, 10075.6,   5.2599,-999.0000, -999.00
 316N145_14,       I02E,    1113,          1,         19,     SIH005,3,19951216,       0212,    -7.9972,    88.6667,       3985,  1096.4,   4.9103,  34.6877,2,  34.6850,2,     86.5,2,    86.0,2,  100.34,2,   36.71,3,    0.00,2,    2.63,2,   0.004,2,   0.005,2,  2303.0,2,  2381.0,2,  -999.0,5,-999.000,1,-999.000,-999.0000,1, -999.00,9, -999.00,9,  -999.0,9,  -999.0,-999.000,9,-999.000, 11091.6,   4.8186,-999.0000, -999.00
 316N145_14,       I02E,    1113,          1,         18,     SIH006,2,19951216,       0212,    -7.9972,    88.6667,       3985,  1199.9,   4.5653,  34.7051,2,  34.7040,2,     89.7,2,    89.4,2,  103.56,2,   36.67,3,    0.00,2,    2.64,2,-999.000,5,-999.000,5,  2307.4,2,  2381.9,2,  -999.0,5,-999.000,1,-999.000,-999.0000,1, -999.00,9, -999.00,9,  -999.0,9,  -999.0,-999.000,9,-999.000, 12127.5,   4.4672,-999.0000, -999.00
 316N145_14,       I02E,    1113,          1,         17,     SIH038,2,19951216,       0212,    -7.9972,    88.6667,       3985,  1299.7,   4.2612,  34.7162,2,  34.7144,2,     92.4,2,    94.1,2,  106.45,2,   36.73,3,    0.00,2,    2.65,2,-999.000,5,-999.000,5,  2310.1,2,  2387.3,2,  -999.0,5,-999.000,1,-999.000,-999.0000,1, -999.00,9, -999.00,9,  -999.0,9,  -999.0,-999.000,9,-999.000, 13126.1,   4.1569,-999.0000, -999.00
 316N145_14,       I02E,    1113,          1,         16,     SIH008,2,19951216,       0212,    -7.9972,    88.6667,       3985,  1395.4,   4.0162,  34.7247,2,  34.7235,2,     98.6,2,    98.6,2,  108.34,2,   36.74,3,    0.00,2,    2.63,2,   0.001,2,   0.001,2,  2309.8,2,  2389.0,2,  -999.0,5,-999.000,1,-999.000,-999.0000,1, -999.00,9, -999.00,9,  -999.0,9,  -999.0,-999.000,9,-999.000, 14084.0,   3.9059,-999.0000, -999.00
 316N145_14,       I02E,    1113,          1,         15,     SIH009,2,19951216,       0212,    -7.9972,    88.6667,       3985,  1496.2,   3.7391,  34.7362,2,  34.7357,2,    107.3,2,   104.8,2,  110.07,2,   36.54,3,    0.00,2,    2.61,2,-999.000,5,-999.000,5,  2311.7,2,  2398.0,2,  -999.0,5,-999.000,1,-999.000,-999.0000,1, -999.00,9, -999.00,9,  -999.0,9,  -999.0,-999.000,9,-999.000, 15091.3,   3.6228,-999.0000, -999.00
 316N145_14,       I02E,    1113,          1,         14,     SIH010,2,19951216,       0212,    -7.9972,    88.6667,       3985,  1591.7,   3.5216,  34.7585,2,  34.7592,2,    112.8,2,   110.2,2,  110.47,2,   36.17,3,    0.00,2,    2.60,2,-999.000,5,-999.000,5,  2308.2,2,  2390.4,2,  -999.0,5,-999.000,1,-999.000,-999.0000,1, -999.00,9, -999.00,9,  -999.0,9,  -999.0,-999.000,9,-999.000, 16047.8,   3.3992,-999.0000, -999.00
 316N145_14,       I02E,    1113,          1,         13,     SIH011,2,19951216,       0212,    -7.9972,    88.6667,       3985,  1794.1,   2.8593,  34.7487,2,  34.7484,2,    127.8,2,   126.3,2,  117.34,2,   35.75,3,    0.00,2,    2.53,2,-999.000,5,-999.000,5,  2305.5,2,  2403.4,2,  -999.0,5,-999.000,1,-999.000,-999.0000,1, -999.00,9, -999.00,9,  -999.0,9,  -999.0,-999.000,9,-999.000, 18071.4,   2.7277,-999.0000, -999.00
 316N145_14,       I02E,    1113,          1,         12,     SIH012,2,19951216,       0212,    -7.9972,    88.6667,       3985,  1996.1,   2.4564,  34.7451,2,  34.7443,2,    140.1,2,   138.6,2,  120.07,2,   35.07,3,    0.00,2,    2.47,2,  -0.002,2,   0.000,2,  2298.3,2,  2400.5,2,  -999.0,5,-999.000,1,-999.000,-999.0000,1, -999.00,9, -999.00,9,  -999.0,9,  -999.0,-999.000,9,-999.000, 20092.0,   2.3130,-999.0000, -999.00
 316N145_14,       I02E,    1113,          1,         11,     SI9426,2,19951216,       0212,    -7.9972,    88.6667,       3985,  2198.7,   2.2157,  34.7433,2,  34.7435,2,    148.4,2,   147.5,2,  122.30,2,   34.86,3,    0.00,2,    2.44,2,-999.000,5,-999.000,5,  2304.9,2,  2404.1,2,  -999.0,5,-999.000,1,-999.000,-999.0000,1, -999.00,9, -999.00,9,  -999.0,9,  -999.0,-999.000,9,-999.000, 22119.4,   2.0583,-999.0000, -999.00
 316N145_14,       I02E,    1113,          1,         10,     SIH014,2,19951216,       0212,    -7.9972,    88.6667,       3985,  2396.7,   2.0336,  34.7401,2,  34.7394,2,    154.7,2,   153.5,2,  124.04,2,   34.44,3,    0.00,2,    2.40,2,-999.000,5,-999.000,5,  2303.2,2,  2403.2,2,  -999.0,5,-999.000,1,-999.000,-999.0000,1, -999.00,9, -999.00,9,  -999.0,9,  -999.0,-999.000,9,-999.000, 24100.4,   1.8617,-999.0000, -999.00
 316N145_14,       I02E,    1113,          1,          9,     SIH015,3,19951216,       0212,    -7.9972,    88.6667,       3985,  2599.7,   1.8371,  34.7341,2,  34.7333,2,    159.3,2,   160.2,2,  125.94,2,   34.24,3,    0.00,2,    2.38,2,-999.000,5,-999.000,5,  2299.3,2,  2406.7,2,  -999.0,5,-999.000,1,-999.000,-999.0000,1, -999.00,9, -999.00,9,  -999.0,9,  -999.0,-999.000,9,-999.000, 26131.2,   1.6504,-999.0000, -999.00
 316N145_14,       I02E,    1113,          1,          8,     SIH016,2,19951216,       0212,    -7.9972,    88.6667,       3985,  2795.4,   1.6894,  34.7305,2,  34.7282,2,    162.8,2,   164.2,2,  128.50,2,   34.09,3,    0.00,2,    2.37,2,-999.000,5,-999.000,5,  2302.2,2,  2406.7,2,  -999.0,5,-999.000,1,-999.000,-999.0000,1, -999.00,9, -999.00,9,  -999.0,9,  -999.0,-999.000,9,-999.000, 28087.3,   1.4876,-999.0000, -999.00
 316N145_14,       I02E,    1113,          1,          7,     SIH017,2,19951216,       0212,    -7.9972,    88.6667,       3985,  2997.8,   1.6065,  34.7279,2,  34.7274,2,    163.9,2,   166.7,2,  130.39,2,   33.89,3,    0.00,2,    2.36,2,  -0.001,2,   0.000,2,  2302.5,2,  2412.8,2,  -999.0,5,-999.000,1,-999.000,-999.0000,1, -999.00,9, -999.00,9,  -999.0,9,  -999.0,-999.000,9,-999.000, 30113.4,   1.3873,-999.0000, -999.00
 316N145_14,       I02E,    1113,          1,          6,     SIH018,2,19951216,       0212,    -7.9972,    88.6667,       3985,  3196.3,   1.5631,  34.7262,2,  34.7254,2,    168.2,2,   168.1,2,  131.47,2,   34.16,3,    0.00,2,    2.36,2,-999.000,5,-999.000,5,  2303.9,2,  2410.3,2,  -999.0,5,-999.000,1,-999.000,-999.0000,1, -999.00,9, -999.00,9,  -999.0,9,  -999.0,-999.000,9,-999.000, 32098.8,   1.3257,-999.0000, -999.00
 316N145_14,       I02E,    1113,          1,          5,     SIH002,2,19951216,       0212,    -7.9972,    88.6667,       3985,  3388.7,   1.4459,  34.7233,2,  34.7221,2,    171.7,2,   171.8,2,  132.87,3,   33.95,3,    0.00,2,    2.35,2,-999.000,5,-999.000,5,  2302.6,2,  2416.6,2,  -999.0,5,-999.000,1,-999.000,-999.0000,1, -999.00,9, -999.00,9,  -999.0,9,  -999.0,-999.000,9,-999.000, 34023.4,   1.1921,-999.0000, -999.00
 316N145_14,       I02E,    1113,          1,          4,     SIH020,2,19951216,       0212,    -7.9972,    88.6667,       3985,  3593.0,   1.4059,  34.7217,2,  34.7199,2,    172.8,2,   173.6,2,  133.28,3,   33.81,3,    0.00,2,    2.33,2,   0.000,2,  -0.001,2,  2302.9,2,  2413.5,2,  -999.0,5,-999.000,1,-999.000,-999.0000,1, -999.00,9, -999.00,9,  -999.0,9,  -999.0,-999.000,9,-999.000, 36066.3,   1.1324,-999.0000, -999.00
 316N145_14,       I02E,    1113,          1,          3,     SIH021,2,19951216,       0212,    -7.9972,    88.6667,       3985,  3801.2,   1.3905,  34.7214,2,  34.7193,2,    173.7,2,   175.4,2,  133.84,3,   33.76,3,    0.00,2,    2.33,2,-999.000,5,-999.000,5,  2302.8,2,  2416.2,2,  -999.0,5,-999.000,1,-999.000,-999.0000,1, -999.00,9, -999.00,9,  -999.0,9,  -999.0,-999.000,9,-999.000, 38148.3,   1.0957,-999.0000, -999.00
 316N145_14,       I02E,    1113,          1,          2,     SIH022,2,19951216,       0212,    -7.9972,    88.6667,       3985,  3983.7,   1.3811,  34.7212,2,  34.7188,2,    175.1,2,   176.3,2,  133.59,3,   33.72,3,    0.00,2,    2.32,2,  -0.001,2,   0.002,2,  2301.6,2,  2415.3,2,  -999.0,5,-999.000,1,-999.000,-999.0000,1, -999.00,9, -999.00,9,  -999.0,9,  -999.0,-999.000,9,-999.000, 39974.2,   1.0671,-999.0000, -999.00
 316N145_14,       I02E,    1113,          1,          1,     SIH023,3,19951216,       0212,    -7.9972,    88.6667,       3985,  4043.4,   1.3616,  34.7196,2,  34.7213,3,    175.6,2,   177.3,2,  132.29,3,   33.62,3,    0.00,6,    2.31,6,-999.000,5,-999.000,5,  2292.4,2,  2414.0,2,  -999.0,5,-999.000,1,-999.000,-999.0000,1, -999.00,9, -999.00,9,  -999.0,9,  -999.0,-999.000,9,-999.000, 40571.1,   1.0417,-999.0000, -999.00