BOTTLE,20220829CCHSIOAMB
EXPOCODE,SECT_ID,STNNBR,CASTNO,SAMPNO,BTLNBR,BTLNBR_FLAG_W,DATE,TIME,LATITUDE,LONGITUDE,DEPTH,CTDPRS,CTDTMP,CTDSAL,CTDSAL_FLAG_W,SALNTY,SALNTY_FLAG_W,CTDOXY,CTDOXY_FLAG_W,OXYGEN,OXYGEN_FLAG_W,SILCAT,SILCAT_FLAG_W,NITRAT,NITRAT_FLAG_W,NITRIT,NITRIT_FLAG_W,PHSPHT,PHSPHT_FLAG_W,CFC-11,CFC-11_FLAG_W,CFC-12,CFC-12_FLAG_W,TCARBN,TCARBN_FLAG_W,ALKALI,ALKALI_FLAG_W,PCO2,PCO2_FLAG_W,TRITUM,TRITUM_FLAG_W,TRITER,HELIUM,HELIUM_FLAG_W,DELHE3,DELHE3_FLAG_W,DELC13,DELC13_FLAG_W,DELC14,DELC14_FLAG_W,C14ERR,NEON,NEON_FLAG_W,NEONER,CTDRAW,THETA,HELIER,DELHER
,,,,,,,,,,,METERS,DBAR,ITS-90,PSS-78,,PSS-78,,UMOL/KG,,UMOL/KG,,UMOL/KG,,UMOL/KG,,UMOL/KG,,UMOL/KG,,PMOL/KG,,PMOL/KG,,UMOL/KG,,UMOL/KG,,UATM,,TU,,TU,NMOL/KG,,PERCNT,,/MILLE,,/MILLE,,/MILLE,NMOL/KG,,NMOL/KG,DBAR,DEG C,NMOL/KG,PERCNT
 316N145_14,       I02E,    1087,          1,         36,     SIH024,2,19951208,       0137,    -8.5612,   100.0000,       5545,    12.7,  28.7347,  33.9260,2,  33.9295,2,    206.1,2,   204.0,2,    2.80,2,    0.12,2,    0.00,2,    0.13,2,   1.565,2,   0.938,2,  1884.9,2,  2221.3,2,  -999.0,5,   1.028,2,   0.004,   1.7768,2,   -1.16,2, -999.00,9,  -999.0,9,  -999.0,   5.826,2,-999.000,   275.3,  28.7317,-999.0000, -999.00
 316N145_14,       I02E,    1087,          1,         35,     SIH003,2,19951208,       0137,    -8.5612,   100.0000,       5545,    27.2,  28.6702,  33.9522,2,  33.9833,2,    205.9,2,   202.0,2,    2.87,2,    0.11,2,    0.00,2,    0.13,2,   1.593,2,   0.954,2,  1883.9,2,  2223.3,2,  -999.0,5,   1.011,2,   0.004,   1.7621,2,   -1.12,2, -999.00,9,  -999.0,9,  -999.0,   7.193,2,-999.000,   414.2,  28.6637,-999.0000, -999.00
 316N145_14,       I02E,    1087,          1,         34,     SIH026,2,19951208,       0137,    -8.5612,   100.0000,       5545,    57.8,  27.2243,  35.0576,2,  35.0413,2,    171.0,2,   184.3,2,    4.58,2,    0.11,2,    0.00,2,    0.32,2,-999.000,5,-999.000,5,  1987.1,2,  -999.0,9,  -999.0,5,   0.956,2,   0.004,   1.7408,2,   -0.14,2, -999.00,9,  -999.0,9,  -999.0,   7.077,2,-999.000,   713.1,  27.2109,-999.0000, -999.00
 316N145_14,       I02E,    1087,          1,         33,     SIH027,2,19951208,       0137,    -8.5612,   100.0000,       5545,    97.0,  20.9087,  34.7717,2,  34.7982,2,     93.7,2,    94.8,2,   16.30,2,   15.81,2,    0.06,2,    1.16,2,   1.378,2,   0.762,2,  -999.0,9,  -999.0,9,  -999.0,5,   1.016,2,   0.004,   1.7776,2,    4.01,2, -999.00,9,  -999.0,9,  -999.0,   7.012,2,-999.000,  1099.0,  20.8902,-999.0000, -999.00
 316N145_14,       I02E,    1087,          1,         32,     SIH028,2,19951208,       0137,    -8.5612,   100.0000,       5545,   147.4,  15.9088,  34.7362,2,  34.7015,2,     88.7,2,    84.7,2,   28.34,2,   22.07,2,    0.01,2,    1.58,2,-999.000,5,-999.000,5,  -999.0,9,  -999.0,9,  -999.0,5,   0.905,2,   0.004,   1.8554,2,    7.42,2, -999.00,9,  -999.0,9,  -999.0,   7.109,2,-999.000,  1601.5,  15.8856,-999.0000, -999.00
 316N145_14,       I02E,    1087,          1,         31,     SIH029,2,19951208,       0137,    -8.5612,   100.0000,       5545,   198.3,  13.2940,  34.6855,2,  34.6828,2,     79.9,2,    81.3,2,   34.16,2,   25.15,2,    0.00,2,    1.79,2,   0.831,2,   0.441,2,  -999.0,9,  -999.0,9,  -999.0,5,   0.785,2,   0.003,   1.8689,2,    9.04,2, -999.00,9,  -999.0,9,  -999.0,   7.841,2,-999.000,  2109.1,  13.2664,-999.0000, -999.00
 316N145_14,       I02E,    1087,          1,         30,     SIH030,2,19951208,       0137,    -8.5612,   100.0000,       5545,   248.1,  11.5663,  34.6777,2,  34.6794,2,     78.5,2,    77.9,2,   39.31,3,   27.71,2,    0.00,2,    1.95,2,-999.000,5,-999.000,5,  -999.0,9,  -999.0,9,  -999.0,5,   0.615,2,   0.003,   1.8729,2,    9.92,2, -999.00,9,  -999.0,9,  -999.0,   7.319,2,-999.000,  2607.4,  11.5348,-999.0000, -999.00
 316N145_14,       I02E,    1087,          1,         29,     SIH031,2,19951208,       0137,    -8.5612,   100.0000,       5545,   298.5,  11.2312,  34.8429,2,  34.8220,2,     63.9,2,    64.2,2,   35.77,2,   29.30,2,    0.00,2,    2.03,2,   0.388,2,   0.212,2,  -999.0,9,  -999.0,9,  -999.0,5,   0.421,2,   0.003,   1.8585,2,    8.28,2, -999.00,9,  -999.0,9,  -999.0,   7.301,2,-999.000,  3111.7,  11.1938,-999.0000, -999.00
 316N145_14,       I02E,    1087,          1,         28,     SIH032,2,19951208,       0137,    -8.5612,   100.0000,       5545,   348.0,  10.5338,  34.8750,2,  34.8727,2,     62.7,2,    63.5,2,   34.20,2,   30.52,2,    0.00,2,    2.08,2,-999.000,5,-999.000,5,  -999.0,9,  -999.0,9,  -999.0,5,   0.247,2,   0.003,   1.8401,2,    6.53,2, -999.00,9,  -999.0,9,  -999.0,   7.248,2,-999.000,  3606.3,  10.4918,-999.0000, -999.00
 316N145_14,       I02E,    1087,          1,         27,     SIH033,2,19951208,       0137,    -8.5612,   100.0000,       5545,   398.8,  10.1029,  34.8605,2,  34.8625,2,     66.6,2,    66.0,2,   36.28,2,   31.08,2,    0.00,2,    2.14,2,   0.185,2,   0.113,2,  -999.0,9,  -999.0,9,  -999.0,5,   0.195,2,   0.002,   1.8267,2,    6.43,2, -999.00,9,  -999.0,9,  -999.0,   7.239,2,-999.000,  4114.8,  10.0559,-999.0000, -999.00
 316N145_14,       I02E,    1087,          1,         26,     SIH037,2,19951208,       0137,    -8.5612,   100.0000,       5545,   498.3,   9.2470,  34.8321,2,  34.8298,2,     69.9,2,    69.4,2,   42.13,2,   32.35,2,    0.00,2,    2.23,2,   0.096,2,   0.069,2,  -999.0,9,  -999.0,9,  -999.0,5,   0.103,2,   0.002,   1.8242,2,    6.03,2, -999.00,9,  -999.0,9,  -999.0,   7.486,2,-999.000,  5110.2,   9.1911,-999.0000, -999.00
 316N145_14,       I02E,    1087,          1,         25,     SI9446,2,19951208,       0137,    -8.5612,   100.0000,       5545,   597.0,   8.1176,  34.7558,2,  34.7535,2,     72.7,2,    71.2,2,   55.82,2,   34.04,2,    0.00,2,    2.40,2,   0.041,6,   0.032,6,  -999.0,9,  -999.0,9,  -999.0,5,   0.072,2,   0.002,   1.8997,2,    8.32,2, -999.00,9,  -999.0,9,  -999.0,   6.842,2,-999.000,  6097.0,   8.0553,-999.0000, -999.00
 316N145_14,       I02E,    1087,          1,         24,     SIH036,2,19951208,       0137,    -8.5612,   100.0000,       5545,   697.6,   7.3768,  34.7495,2,  34.7494,2,     66.2,2,    65.3,2,   68.19,2,   35.63,2,    0.00,2,    2.55,2,-999.000,5,-999.000,5,  -999.0,9,  -999.0,9,  -999.0,5,-999.000,1,-999.000,-999.0000,1, -999.00,9, -999.00,9,  -999.0,9,  -999.0,-999.000,9,-999.000,  7102.3,   7.3074,-999.0000, -999.00
 316N145_14,       I02E,    1087,          1,         23,     SIH001,2,19951208,       0137,    -8.5612,   100.0000,       5545,   799.1,   6.5775,  34.7097,2,  34.7074,2,     70.8,2,    70.2,2,   79.75,2,   36.12,2,    0.00,2,    2.61,2,   0.013,2,   0.012,2,  -999.0,9,  -999.0,9,  -999.0,5,   0.049,2,   0.002,   1.9410,2,   12.09,2, -999.00,9,  -999.0,9,  -999.0,   7.570,2,-999.000,  8118.0,   6.5023,-999.0000, -999.00
 316N145_14,       I02E,    1087,          1,         22,     SIH019,2,19951208,       0137,    -8.5612,   100.0000,       5545,   898.6,   5.8838,  34.6727,2,  34.6641,2,     77.0,2,    78.9,2,   88.35,2,   35.76,2,    0.00,2,    2.59,2,-999.000,5,-999.000,5,  -999.0,9,  -999.0,9,  -999.0,5,-999.000,1,-999.000,-999.0000,1, -999.00,9, -999.00,9,  -999.0,9,  -999.0,-999.000,9,-999.000,  9112.7,   5.8033,-999.0000, -999.00
 316N145_14,       I02E,    1087,          1,         21,     SIH025,2,19951208,       0137,    -8.5612,   100.0000,       5545,  1001.3,   5.4112,  34.6803,2,  34.6785,2,     79.6,2,    81.0,2,   94.49,2,   36.53,2,    0.00,2,    2.64,2,   0.014,2,   0.014,2,  -999.0,9,  -999.0,9,  -999.0,5,   0.044,2,   0.002,   1.9392,2,   14.73,2, -999.00,9,  -999.0,9,  -999.0,   7.758,2,-999.000, 10140.6,   5.3244,-999.0000, -999.00
 316N145_14,       I02E,    1087,          1,         20,     SIH004,2,19951208,       0137,    -8.5612,   100.0000,       5545,  1100.3,   4.9850,  34.6682,2,  34.6720,2,     86.7,2,    86.8,2,  100.13,2,   36.62,2,    0.00,2,    2.65,2,-999.000,5,-999.000,5,  -999.0,9,  -999.0,9,  -999.0,5,-999.000,1,-999.000,-999.0000,1, -999.00,9, -999.00,9,  -999.0,9,  -999.0,-999.000,9,-999.000, 11131.7,   4.8924,-999.0000, -999.00
 316N145_14,       I02E,    1087,          1,         19,     SIH005,2,19951208,       0137,    -8.5612,   100.0000,       5545,  1197.5,   4.7747,  34.6976,2,  34.6971,2,     88.0,2,    87.0,2,  102.50,2,   36.72,2,    0.00,2,    2.67,2,   0.004,2,   0.008,2,  -999.0,9,  -999.0,9,  -999.0,5,   0.025,2,   0.002,   1.6618,2,   15.83,2, -999.00,9,  -999.0,9,  -999.0,   6.396,2,-999.000, 12104.5,   4.6749,-999.0000, -999.00
 316N145_14,       I02E,    1087,          1,         18,     SIH006,2,19951208,       0137,    -8.5612,   100.0000,       5545,  1398.2,   4.1572,  34.7238,2,  34.7231,2,     96.6,2,    95.6,2,  107.48,2,   36.76,2,    0.00,2,    2.65,2,   0.005,2,   0.006,2,  -999.0,9,  -999.0,9,  -999.0,5,   0.009,2,   0.002,   1.9583,2,   14.50,2, -999.00,9,  -999.0,9,  -999.0,   8.367,2,-999.000, 14112.1,   4.0451,-999.0000, -999.00
 316N145_14,       I02E,    1087,          1,         17,     SIH038,2,19951208,       0137,    -8.5612,   100.0000,       5545,  1600.9,   3.4920,  34.7332,2,  34.7315,2,    112.5,2,   110.9,2,  111.98,2,   36.40,2,    0.00,2,    2.61,2,   0.001,2,   0.001,2,  -999.0,9,  -999.0,9,  -999.0,5,-999.000,1,-999.000,   1.9100,2,   13.29,2, -999.00,9,  -999.0,9,  -999.0,   8.029,2,   0.026, 16138.5,   3.3692,   0.0070,    0.14
 316N145_14,       I02E,    1087,          1,         16,     SIH008,2,19951208,       0137,    -8.5612,   100.0000,       5545,  1797.0,   3.0114,  34.7467,2,  34.7449,2,    124.8,2,   122.7,2,  115.83,2,   35.93,2,    0.00,2,    2.57,2,-999.000,5,-999.000,5,  -999.0,9,  -999.0,9,  -999.0,5,-999.000,1,-999.000,   1.8910,2,   13.35,2, -999.00,9,  -999.0,9,  -999.0,   8.188,2,   0.027, 18100.5,   2.8775,   0.0080,    0.14
 316N145_14,       I02E,    1087,          1,         15,     SIH009,2,19951208,       0137,    -8.5612,   100.0000,       5545,  1998.2,   2.6385,  34.7479,2,  34.7480,2,    135.0,2,   132.2,2,  119.50,2,   35.57,2,    0.00,2,    2.53,2,  -0.004,3,   0.003,2,  -999.0,9,  -999.0,9,  -999.0,5,-999.000,1,-999.000,   1.9710,4,   13.94,3, -999.00,9,  -999.0,9,  -999.0,   8.165,2,   0.029, 20114.5,   2.4921,   0.0030,    0.10
 316N145_14,       I02E,    1087,          1,         14,     SIH010,2,19951208,       0137,    -8.5612,   100.0000,       5545,  2245.9,   2.3032,  34.7425,2,  34.7419,2,    143.9,2,   143.1,2,  122.04,2,   35.20,2,    0.00,2,    2.48,2,-999.000,5,-999.000,5,  -999.0,9,  -999.0,9,  -999.0,5,-999.000,1,-999.000,   1.9970,4,   13.58,3, -999.00,9,  -999.0,9,  -999.0,   8.340,3,   0.029, 22592.1,   2.1402,   0.0030,    0.10
 316N145_14,       I02E,    1087,          1,         13,     SIH011,2,19951208,       0137,    -8.5612,   100.0000,       5545,  2501.0,   2.0540,  34.7380,2,  34.7362,2,    153.8,2,   152.1,2,  123.91,2,   34.83,2,    0.00,2,    2.44,2,-999.000,5,-999.000,5,  -999.0,9,  -999.0,9,  -999.0,5,-999.000,1,-999.000,   1.9250,2,   14.02,2, -999.00,9,  -999.0,9,  -999.0,   8.173,2,   0.029, 25144.6,   1.8723,   0.0030,    0.10
 316N145_14,       I02E,    1087,          1,         12,     SIH012,2,19951208,       0137,    -8.5612,   100.0000,       5545,  2748.1,   1.8571,  34.7320,2,  34.7311,2,    161.1,2,   159.8,2,  124.97,2,   34.41,2,    0.00,2,    2.40,2,-999.000,5,-999.000,5,  -999.0,9,  -999.0,9,  -999.0,5,-999.000,1,-999.000,   1.9110,2,   13.93,2, -999.00,9,  -999.0,9,  -999.0,   8.141,2,   0.028, 27616.5,   1.6562,   0.0030,    0.10
 316N145_14,       I02E,    1087,          1,         11,     SI9425,2,19951208,       0137,    -8.5612,   100.0000,       5545,  2997.1,   1.7113,  34.7279,2,  34.7315,3,    165.0,2,   164.4,2,  126.84,2,   34.26,2,    0.00,2,    2.38,2,  -0.003,3,   0.006,3,  -999.0,9,  -999.0,9,  -999.0,5,-999.000,1,-999.000,   1.9270,2,   13.07,2, -999.00,9,  -999.0,9,  -999.0,   8.213,2,   0.028, 30108.0,   1.4899,   0.0030,    0.10
 316N145_14,       I02E,    1087,          1,         10,     SIH014,2,19951208,       0137,    -8.5612,   100.0000,       5545,  3247.1,   1.5511,  34.7230,2,  34.7231,2,    171.1,2,   170.3,2,  128.38,2,   34.09,2,    0.00,2,    2.37,2,-999.000,5,-999.000,5,  -999.0,9,  -999.0,9,  -999.0,5,-999.000,1,-999.000,   1.9370,2,   13.06,2, -999.00,9,  -999.0,9,  -999.0,   8.229,2,   0.029, 32609.2,   1.3089,   0.0030,    0.10
 316N145_14,       I02E,    1087,          1,          9,     SIH015,2,19951208,       0137,    -8.5612,   100.0000,       5545,  3495.2,   1.3828,  34.7186,2,  34.7186,2,    178.9,2,   177.5,2,  128.78,2,   33.73,2,    0.00,2,    2.34,2,-999.000,5,-999.000,5,  -999.0,9,  -999.0,9,  -999.0,5,-999.000,1,-999.000,   1.9220,2,   12.94,2, -999.00,9,  -999.0,9,  -999.0,   8.194,2,   0.028, 35090.8,   1.1199,   0.0040,    0.15
 316N145_14,       I02E,    1087,          1,          8,     SIH016,2,19951208,       0137,    -8.5612,   100.0000,       5545,  3750.1,   1.2336,  34.7147,2,  34.7152,2,    187.4,2,   185.7,2,  128.69,2,   33.42,2,    0.00,2,    2.31,2,-999.000,5,-999.000,5,  -999.0,9,  -999.0,9,  -999.0,5,-999.000,1,-999.000,-999.0000,1, -999.00,9, -999.00,9,  -999.0,9,  -999.0,-999.000,9,-999.000, 37641.1,   0.9484,-999.0000, -999.00
 316N145_14,       I02E,    1087,          1,          7,     SIH017,2,19951208,       0137,    -8.5612,   100.0000,       5545,  4003.9,   1.1804,  34.7132,2,  34.7136,2,    189.6,2,   189.4,2,  127.78,2,   33.20,2,    0.00,2,    2.29,2,   0.002,2,   0.000,2,  -999.0,9,  -999.0,9,  -999.0,5,-999.000,1,-999.000,-999.0000,5, -999.00,5, -999.00,9,  -999.0,9,  -999.0,-999.000,5,-999.000, 40180.0,   0.8699,-999.0000, -999.00
 316N145_14,       I02E,    1087,          1,          6,     SIH018,2,19951208,       0137,    -8.5612,   100.0000,       5545,  4304.8,   1.1555,  34.7116,2,  34.7117,2,    194.4,2,   192.9,2,  127.19,2,   33.05,2,    0.00,2,    2.28,2,-999.000,5,-999.000,5,  -999.0,9,  -999.0,9,  -999.0,5,-999.000,1,-999.000,   1.9450,2,   11.71,2, -999.00,9,  -999.0,9,  -999.0,   8.233,2,   0.028, 43191.2,   0.8130,   0.0040,    0.15
 316N145_14,       I02E,    1087,          1,          5,     SIH002,2,19951208,       0137,    -8.5612,   100.0000,       5545,  4601.3,   1.1593,  34.7115,2,  34.7113,2,    195.3,2,   195.0,2,  126.60,2,   32.99,2,    0.00,2,    2.27,2,-999.000,5,-999.000,5,  -999.0,9,  -999.0,9,  -999.0,5,-999.000,1,-999.000,   1.9320,2,   11.39,2, -999.00,9,  -999.0,9,  -999.0,   8.281,2,   0.028, 46156.8,   0.7832,   0.0040,    0.15
 316N145_14,       I02E,    1087,          1,          4,     SIH020,2,19951208,       0137,    -8.5612,   100.0000,       5545,  4893.0,   1.1774,  34.7112,2,  34.7119,2,    197.3,2,   196.3,2,  126.51,2,   32.88,2,    0.00,2,    2.26,2,   0.002,2,   0.002,2,  -999.0,9,  -999.0,9,  -999.0,5,-999.000,1,-999.000,   1.9360,2,   10.83,2, -999.00,9,  -999.0,9,  -999.0,   8.285,2,   0.028, 49074.1,   0.7667,   0.0040,    0.15
 316N145_14,       I02E,    1087,          1,          3,     SIH021,2,19951208,       0137,    -8.5612,   100.0000,       5545,  5191.1,   1.2030,  34.7110,2,  34.7103,2,    198.1,2,   196.9,2,  125.76,2,   32.72,2,    0.00,2,    2.26,2,-999.000,5,-999.000,5,  -999.0,9,  -999.0,9,  -999.0,5,-999.000,1,-999.000,   1.9630,3,   10.80,2, -999.00,9,  -999.0,9,  -999.0,   8.389,3,   0.029, 52056.2,   0.7555,   0.0040,    0.15
 316N145_14,       I02E,    1087,          1,          2,     SIH022,2,19951208,       0137,    -8.5612,   100.0000,       5545,  5494.3,   1.2317,  34.7101,2,  34.7119,2,    200.4,2,   197.9,2,  125.01,2,   32.71,2,    0.00,2,    2.25,2,-999.000,5,-999.000,5,  -999.0,9,  -999.0,9,  -999.0,5,-999.000,1,-999.000,   1.9130,2,   10.71,2, -999.00,9,  -999.0,9,  -999.0,   8.254,2,   0.028, 55089.4,   0.7455,   0.0040,    0.15
 316N145_14,       I02E,    1087,          1,          1,     SIH023,2,19951208,       0137,    -8.5612,   100.0000,       5545,  5702.8,   1.2473,  34.7108,2,  34.7105,2,    200.2,2,   198.5,2,  124.35,6,   32.48,6,    0.00,6,    2.24,6,   0.000,2,   0.011,3,  -999.0,9,  -999.0,9,  -999.0,5,-999.000,1,-999.000,-999.0000,5, -999.00,5, -999.00,9,  -999.0,9,  -999.0,  13.940,4,   0.047, 57177.9,   0.7339,-999.0000, -999.00