BOTTLE,20220829CCHSIOAMB
# Removed duplicated line STN 1129, cast 1, bottle 17
#BOTTLE,20140514CCHSIOSE
# Merged parameters: DELC13_FLAG_W, DELC14_FLAG_W, DELHER
# ALKALI STATION 1077, SAMPNO 2,7,  changed flag to 3,  value to 2398.9 because of station mix-up
# ALKALI STATION 1077, SAMPNO 2,7,  changed flag to 3,  value to 2398.9 because of station mix-up
# Updated ALKALI_FLAG_W for STATION 1106, CASTNO 1, SAMPNO 12 from 4 to 3
# NOTE: two lines exist for STNNBR=1129,CASTNO=1, SAMPNO=17:  differences in CTDRAW,CTDPRS,CTDOXY
# Changed THETA units from "ITS-90" to "DEG C"
# Changed CFC-11 units from "PM/KG" to "PMOL/KG"
# Changed CFC-12 units from "PM/KG" to "PMOL/KG"
# Changed HELIUM units from "UMOL/KG" to "NMOL/KG" ( original submission in nmol/kg)
#          units correct in 
#                 2000.10.17_I02E_TRITIUM_HELIUM_JENKINS/
#                 2000.11.13_I02E_TRIT_HE_NEON_REFORMAT_SA/
#          incorrect in below and thereafter 
#                 2002.08.17_I02E_HE_NE_TRIT_MRG_SA/
# Original header:
# 20050506WHPSIOSA
#code : jjward hyd_to_exchange.pl 
#original files copied from HTML directory: May 6, 2005
#original HYD file: i02ehy.txt   Fri May  6 11:16:43 2005
#original SUM file: i02esu.txt   Fri May  6 11:50:22 2005
EXPOCODE,SECT_ID,STNNBR,CASTNO,SAMPNO,BTLNBR,BTLNBR_FLAG_W,DATE,TIME,LATITUDE,LONGITUDE,DEPTH,CTDPRS,CTDTMP,CTDSAL,CTDSAL_FLAG_W,SALNTY,SALNTY_FLAG_W,CTDOXY,CTDOXY_FLAG_W,OXYGEN,OXYGEN_FLAG_W,SILCAT,SILCAT_FLAG_W,NITRAT,NITRAT_FLAG_W,NITRIT,NITRIT_FLAG_W,PHSPHT,PHSPHT_FLAG_W,CFC-11,CFC-11_FLAG_W,CFC-12,CFC-12_FLAG_W,TCARBN,TCARBN_FLAG_W,ALKALI,ALKALI_FLAG_W,PCO2,PCO2_FLAG_W,TRITUM,TRITUM_FLAG_W,TRITER,HELIUM,HELIUM_FLAG_W,DELHE3,DELHE3_FLAG_W,DELC13,DELC13_FLAG_W,DELC14,DELC14_FLAG_W,C14ERR,NEON,NEON_FLAG_W,NEONER,CTDRAW,THETA,HELIER,DELHER
,,,,,,,,,,,METERS,DBAR,ITS-90,PSS-78,,PSS-78,,UMOL/KG,,UMOL/KG,,UMOL/KG,,UMOL/KG,,UMOL/KG,,UMOL/KG,,PMOL/KG,,PMOL/KG,,UMOL/KG,,UMOL/KG,,UATM,,TU,,TU,NMOL/KG,,PERCNT,,/MILLE,,/MILLE,,/MILLE,NMOL/KG,,NMOL/KG,DBAR,DEG C,NMOL/KG,PERCNT
 316N145_14,       I02E,    1077,          1,         18,     SIH006,2,19951204,       2320,    -8.9998,   105.6333,       6445,  6122.9,   1.3262,  34.7111,2,  34.7107,2,    194.8,2,   196.7,2, -999.00,9, -999.00,9, -999.00,9, -999.00,9,   0.007,2,   0.014,2,  -999.0,9,  -999.0,9,  -999.0,5,-999.000,1,-999.000,-999.0000,1, -999.00,9, -999.00,9,  -999.0,9,  -999.0,-999.000,9,-999.000, 61377.5,   0.7545,-999.0000, -999.00
 316N145_14,       I02E,    1077,          1,          1,     SIH023,2,19951204,       2320,    -8.9998,   105.6333,       6445,  6122.9,   1.3258,  34.7102,2,-999.0000,9,    194.8,2,   196.8,2, -999.00,9, -999.00,9, -999.00,9, -999.00,9,  -0.001,2,   0.007,2,  -999.0,9,  2390.9,2,  -999.0,5,-999.000,1,-999.000,-999.0000,1, -999.00,9, -999.00,9,  -999.0,9,  -999.0,-999.000,9,-999.000, 61377.7,   0.7542,-999.0000, -999.00
 316N145_14,       I02E,    1077,          1,         21,     SIH025,2,19951204,       2320,    -8.9998,   105.6333,       6445,  6123.2,   1.3264,  34.7109,2,  34.7103,2,    194.8,2,   196.5,2, -999.00,9, -999.00,9, -999.00,9, -999.00,9,-999.000,5,-999.000,5,  -999.0,9,  -999.0,9,  -999.0,5,-999.000,1,-999.000,-999.0000,1, -999.00,9, -999.00,9,  -999.0,9,  -999.0,-999.000,9,-999.000, 61381.3,   0.7547,-999.0000, -999.00
 316N145_14,       I02E,    1077,          1,         12,     SIH012,2,19951204,       2320,    -8.9998,   105.6333,       6445,  6123.3,   1.3261,  34.7109,2,  34.7111,2,    194.8,2,   196.8,2, -999.00,9, -999.00,9, -999.00,9, -999.00,9,   0.001,2,  -0.004,2,  -999.0,9,  -999.0,9,  -999.0,5,-999.000,1,-999.000,-999.0000,1, -999.00,9, -999.00,9,  -999.0,9,  -999.0,-999.000,9,-999.000, 61382.0,   0.7544,-999.0000, -999.00
 316N145_14,       I02E,    1077,          1,          4,     SIH020,2,19951204,       2320,    -8.9998,   105.6333,       6445,  6123.3,   1.3260,  34.7100,2,  34.7091,2,    194.8,2,   197.0,2, -999.00,9, -999.00,9, -999.00,9, -999.00,9,   0.000,2,   0.008,2,  -999.0,9,  -999.0,9,  -999.0,5,-999.000,1,-999.000,-999.0000,1, -999.00,9, -999.00,9,  -999.0,9,  -999.0,-999.000,9,-999.000, 61382.3,   0.7543,-999.0000, -999.00
 316N145_14,       I02E,    1077,          1,          5,     SIH002,3,19951204,       2320,    -8.9998,   105.6333,       6445,  6123.5,   1.3258,  34.7100,2,  34.7054,3,    194.8,2,  -999.0,9, -999.00,9, -999.00,9, -999.00,9, -999.00,9,-999.000,5,-999.000,5,  -999.0,9,  -999.0,9,  -999.0,5,-999.000,1,-999.000,-999.0000,1, -999.00,9, -999.00,9,  -999.0,9,  -999.0,-999.000,9,-999.000, 61383.5,   0.7541,-999.0000, -999.00
 316N145_14,       I02E,    1077,          1,         20,     SIH004,2,19951204,       2320,    -8.9998,   105.6333,       6445,  6123.5,   1.3263,  34.7112,2,  34.7121,2,    194.8,2,   196.5,2, -999.00,9, -999.00,9, -999.00,9, -999.00,9,-999.000,5,-999.000,5,  -999.0,9,  -999.0,9,  -999.0,5,-999.000,1,-999.000,-999.0000,1, -999.00,9, -999.00,9,  -999.0,9,  -999.0,-999.000,9,-999.000, 61384.3,   0.7546,-999.0000, -999.00
 316N145_14,       I02E,    1077,          1,          3,     SIH021,3,19951204,       2320,    -8.9998,   105.6333,       6445,  6123.7,   1.3259,  34.7101,2,  34.7103,2,    194.8,2,  -999.0,9, -999.00,9, -999.00,9, -999.00,9, -999.00,9,-999.000,5,-999.000,5,  -999.0,9,  2391.9,2,  -999.0,5,-999.000,1,-999.000,-999.0000,1, -999.00,9, -999.00,9,  -999.0,9,  -999.0,-999.000,9,-999.000, 61386.1,   0.7542,-999.0000, -999.00
 316N145_14,       I02E,    1077,          1,         23,     SIH001,2,19951204,       2320,    -8.9998,   105.6333,       6445,  6123.8,   1.3262,  34.7113,2,  34.7107,2,    194.8,2,   196.8,2, -999.00,9, -999.00,9, -999.00,9, -999.00,9,-999.000,5,-999.000,5,  -999.0,9,  -999.0,9,  -999.0,5,-999.000,1,-999.000,-999.0000,1, -999.00,9, -999.00,9,  -999.0,9,  -999.0,-999.000,9,-999.000, 61387.0,   0.7544,-999.0000, -999.00
 316N145_14,       I02E,    1077,          1,          2,     SIH022,2,19951204,       2320,    -8.9998,   105.6333,       6445,  6123.8,   1.3257,  34.7099,2,  34.7097,2,    194.8,2,   196.8,2, -999.00,9, -999.00,9, -999.00,9, -999.00,9,  -0.001,2,   0.013,2,  -999.0,9,  2398.9,3,  -999.0,5,-999.000,1,-999.000,-999.0000,1, -999.00,9, -999.00,9,  -999.0,9,  -999.0,-999.000,9,-999.000, 61387.8,   0.7540,-999.0000, -999.00
 316N145_14,       I02E,    1077,          1,         19,     SIH005,2,19951204,       2320,    -8.9998,   105.6333,       6445,  6123.9,   1.3265,  34.7117,2,  34.7117,2,    194.8,2,   196.4,2, -999.00,9, -999.00,9, -999.00,9, -999.00,9,-999.000,5,-999.000,5,  -999.0,9,  -999.0,9,  -999.0,5,-999.000,1,-999.000,-999.0000,1, -999.00,9, -999.00,9,  -999.0,9,  -999.0,-999.000,9,-999.000, 61387.5,   0.7547,-999.0000, -999.00
 316N145_14,       I02E,    1077,          1,          7,     SIH017,2,19951204,       2320,    -8.9998,   105.6333,       6445,  6123.9,   1.3259,  34.7102,2,  34.7087,2,    194.8,2,   196.8,2, -999.00,9, -999.00,9, -999.00,9, -999.00,9,   0.002,2,   0.029,2,  -999.0,9,  2398.9,3,  -999.0,5,-999.000,1,-999.000,-999.0000,1, -999.00,9, -999.00,9,  -999.0,9,  -999.0,-999.000,9,-999.000, 61387.9,   0.7541,-999.0000, -999.00
 316N145_14,       I02E,    1077,          1,         24,     SIH036,2,19951204,       2320,    -8.9998,   105.6333,       6445,  6124.0,   1.3264,  34.7116,2,  34.7109,2,    194.8,2,   196.3,2, -999.00,9, -999.00,9, -999.00,9, -999.00,9,-999.000,5,-999.000,5,  -999.0,9,  -999.0,9,  -999.0,5,-999.000,1,-999.000,-999.0000,1, -999.00,9, -999.00,9,  -999.0,9,  -999.0,-999.000,9,-999.000, 61389.0,   0.7546,-999.0000, -999.00
 316N145_14,       I02E,    1077,          1,          6,     SIH018,2,19951204,       2320,    -8.9998,   105.6333,       6445,  6124.1,   1.3260,  34.7102,2,  34.7109,2,    194.8,2,   196.7,2, -999.00,9, -999.00,9, -999.00,9, -999.00,9,  -0.001,2,   0.009,2,  -999.0,9,  -999.0,9,  -999.0,5,-999.000,1,-999.000,-999.0000,1, -999.00,9, -999.00,9,  -999.0,9,  -999.0,-999.000,9,-999.000, 61390.3,   0.7542,-999.0000, -999.00
 316N145_14,       I02E,    1077,          1,         16,     SIH008,2,19951204,       2320,    -8.9998,   105.6333,       6445,  6124.2,   1.3265,  34.7111,2,  34.7113,2,    194.8,2,   196.6,2, -999.00,9, -999.00,9, -999.00,9, -999.00,9,   0.001,2,   0.000,2,  -999.0,9,  -999.0,9,  -999.0,5,-999.000,1,-999.000,-999.0000,1, -999.00,9, -999.00,9,  -999.0,9,  -999.0,-999.000,9,-999.000, 61391.1,   0.7547,-999.0000, -999.00
 316N145_14,       I02E,    1077,          1,         25,     SI9446,2,19951204,       2320,    -8.9998,   105.6333,       6445,  6124.2,   1.3265,  34.7119,2,  34.7144,3,    194.8,2,   196.5,2, -999.00,9, -999.00,9, -999.00,9, -999.00,9,-999.000,5,-999.000,5,  -999.0,9,  -999.0,9,  -999.0,5,-999.000,1,-999.000,-999.0000,1, -999.00,9, -999.00,9,  -999.0,9,  -999.0,-999.000,9,-999.000, 61391.4,   0.7547,-999.0000, -999.00
 316N145_14,       I02E,    1077,          1,         22,     SIH019,2,19951204,       2320,    -8.9998,   105.6333,       6445,  6124.2,   1.3261,  34.7112,2,  34.7113,2,    194.8,2,   196.4,2, -999.00,9, -999.00,9, -999.00,9, -999.00,9,   0.009,2,   0.005,2,  -999.0,9,  -999.0,9,  -999.0,5,-999.000,1,-999.000,-999.0000,1, -999.00,9, -999.00,9,  -999.0,9,  -999.0,-999.000,9,-999.000, 61391.7,   0.7543,-999.0000, -999.00
 316N145_14,       I02E,    1077,          1,         15,     SIH009,2,19951204,       2320,    -8.9998,   105.6333,       6445,  6124.3,   1.3265,  34.7115,2,  34.7123,2,    194.8,2,   196.5,2, -999.00,9, -999.00,9, -999.00,9, -999.00,9,   0.006,2,   0.004,2,  -999.0,9,  -999.0,9,  -999.0,5,-999.000,1,-999.000,-999.0000,1, -999.00,9, -999.00,9,  -999.0,9,  -999.0,-999.000,9,-999.000, 61392.4,   0.7546,-999.0000, -999.00
 316N145_14,       I02E,    1077,          1,         17,     SIH038,2,19951204,       2320,    -8.9998,   105.6333,       6445,  6124.5,   1.3261,  34.7116,2,  34.7111,2,    194.8,2,   196.6,2, -999.00,9, -999.00,9, -999.00,9, -999.00,9,   0.004,2,   0.011,2,  -999.0,9,  2547.9,4,  -999.0,5,-999.000,1,-999.000,-999.0000,1, -999.00,9, -999.00,9,  -999.0,9,  -999.0,-999.000,9,-999.000, 61393.9,   0.7542,-999.0000, -999.00
 316N145_14,       I02E,    1077,          1,          8,     SIH016,2,19951204,       2320,    -8.9998,   105.6333,       6445,  6124.6,   1.3260,  34.7102,2,  34.7115,2,    194.8,2,   196.7,2, -999.00,9, -999.00,9, -999.00,9, -999.00,9,   0.000,2,  -0.002,2,  -999.0,9,  -999.0,9,  -999.0,5,-999.000,1,-999.000,-999.0000,1, -999.00,9, -999.00,9,  -999.0,9,  -999.0,-999.000,9,-999.000, 61395.5,   0.7541,-999.0000, -999.00
 316N145_14,       I02E,    1077,          1,          9,     SIH015,2,19951204,       2320,    -8.9998,   105.6333,       6445,  6124.7,   1.3260,  34.7106,2,  34.7103,2,    194.8,2,   197.9,2, -999.00,9, -999.00,9, -999.00,9, -999.00,9,   0.002,2,  -0.002,2,  -999.0,9,  -999.0,9,  -999.0,5,-999.000,1,-999.000,-999.0000,1, -999.00,9, -999.00,9,  -999.0,9,  -999.0,-999.000,9,-999.000, 61395.4,   0.7541,-999.0000, -999.00
 316N145_14,       I02E,    1077,          1,         26,     SIH037,2,19951204,       2320,    -8.9998,   105.6333,       6445,  6124.8,   1.3265,  34.7117,2,  34.7119,2,    194.8,2,   196.6,2, -999.00,9, -999.00,9, -999.00,9, -999.00,9,   0.000,2,  -0.005,2,  -999.0,9,  -999.0,9,  -999.0,5,-999.000,1,-999.000,-999.0000,1, -999.00,9, -999.00,9,  -999.0,9,  -999.0,-999.000,9,-999.000, 61397.8,   0.7546,-999.0000, -999.00
 316N145_14,       I02E,    1077,          1,         11,     SI9425,2,19951204,       2320,    -8.9998,   105.6333,       6445,  6124.9,   1.3264,  34.7117,2,  34.7101,2,    194.8,2,   196.7,2, -999.00,9, -999.00,9, -999.00,9, -999.00,9,   0.005,2,   0.002,2,  -999.0,9,  -999.0,9,  -999.0,5,-999.000,1,-999.000,-999.0000,1, -999.00,9, -999.00,9,  -999.0,9,  -999.0,-999.000,9,-999.000, 61397.9,   0.7545,-999.0000, -999.00
 316N145_14,       I02E,    1077,          1,         28,     SIH032,2,19951204,       2320,    -8.9998,   105.6333,       6445,  6125.0,   1.3263,  34.7118,2,  34.7109,2,    194.9,2,   196.6,2, -999.00,9, -999.00,9, -999.00,9, -999.00,9,-999.000,5,-999.000,5,  -999.0,9,  -999.0,9,  -999.0,5,-999.000,1,-999.000,-999.0000,1, -999.00,9, -999.00,9,  -999.0,9,  -999.0,-999.000,9,-999.000, 61399.8,   0.7544,-999.0000, -999.00
 316N145_14,       I02E,    1077,          1,         13,     SIH011,2,19951204,       2320,    -8.9998,   105.6333,       6445,  6125.1,   1.3268,  34.7111,2,  34.7115,2,    194.8,2,   197.0,2, -999.00,9, -999.00,9, -999.00,9, -999.00,9,   0.003,2,   0.000,2,  -999.0,9,  -999.0,9,  -999.0,5,-999.000,1,-999.000,-999.0000,1, -999.00,9, -999.00,9,  -999.0,9,  -999.0,-999.000,9,-999.000, 61400.5,   0.7548,-999.0000, -999.00
 316N145_14,       I02E,    1077,          1,         10,     SIH014,2,19951204,       2320,    -8.9998,   105.6333,       6445,  6125.1,   1.3262,  34.7118,2,  34.7127,2,    194.9,2,   197.1,2, -999.00,9, -999.00,9, -999.00,9, -999.00,9,   0.003,2,   0.000,2,  -999.0,9,  -999.0,9,  -999.0,5,-999.000,1,-999.000,-999.0000,1, -999.00,9, -999.00,9,  -999.0,9,  -999.0,-999.000,9,-999.000, 61400.6,   0.7542,-999.0000, -999.00
 316N145_14,       I02E,    1077,          1,         27,     SIH033,2,19951204,       2320,    -8.9998,   105.6333,       6445,  6125.4,   1.3265,  34.7116,2,  34.7117,2,    194.9,2,   196.3,2, -999.00,9, -999.00,9, -999.00,9, -999.00,9,-999.000,5,-999.000,5,  -999.0,9,  -999.0,9,  -999.0,5,-999.000,1,-999.000,-999.0000,1, -999.00,9, -999.00,9,  -999.0,9,  -999.0,-999.000,9,-999.000, 61403.2,   0.7545,-999.0000, -999.00
 316N145_14,       I02E,    1077,          1,         35,     SIH003,2,19951204,       2320,    -8.9998,   105.6333,       6445,  6125.4,   1.3268,  34.7113,2,  34.7150,3,    194.9,2,   196.0,2, -999.00,9, -999.00,9, -999.00,9, -999.00,9,-999.000,5,-999.000,5,  -999.0,9,  -999.0,9,  -999.0,5,-999.000,1,-999.000,-999.0000,1, -999.00,9, -999.00,9,  -999.0,9,  -999.0,-999.000,9,-999.000, 61403.9,   0.7548,-999.0000, -999.00
 316N145_14,       I02E,    1077,          1,         14,     SIH010,2,19951204,       2320,    -8.9998,   105.6333,       6445,  6125.4,   1.3265,  34.7115,2,  34.7117,2,    194.9,2,   197.2,2, -999.00,9, -999.00,9, -999.00,9, -999.00,9,   0.018,3,   0.015,3,  -999.0,9,  -999.0,9,  -999.0,5,-999.000,1,-999.000,-999.0000,1, -999.00,9, -999.00,9,  -999.0,9,  -999.0,-999.000,9,-999.000, 61404.0,   0.7545,-999.0000, -999.00
 316N145_14,       I02E,    1077,          1,         34,     SIH026,2,19951204,       2320,    -8.9998,   105.6333,       6445,  6125.6,   1.3265,  34.7115,2,  34.7123,2,    194.9,2,   196.1,2, -999.00,9, -999.00,9, -999.00,9, -999.00,9,-999.000,5,-999.000,5,  -999.0,9,  -999.0,9,  -999.0,5,-999.000,1,-999.000,-999.0000,1, -999.00,9, -999.00,9,  -999.0,9,  -999.0,-999.000,9,-999.000, 61405.4,   0.7545,-999.0000, -999.00
 316N145_14,       I02E,    1077,          1,         29,     SIH031,2,19951204,       2320,    -8.9998,   105.6333,       6445,  6125.9,   1.3265,  34.7114,2,  34.7109,2,    194.9,2,   196.5,2, -999.00,9, -999.00,9, -999.00,9, -999.00,9,-999.000,5,-999.000,5,  -999.0,9,  -999.0,9,  -999.0,5,-999.000,1,-999.000,-999.0000,1, -999.00,9, -999.00,9,  -999.0,9,  -999.0,-999.000,9,-999.000, 61408.6,   0.7544,-999.0000, -999.00
 316N145_14,       I02E,    1077,          1,         32,     SIH028,2,19951204,       2320,    -8.9998,   105.6333,       6445,  6126.1,   1.3268,  34.7111,2,  34.7140,3,    194.9,2,   196.5,2, -999.00,9, -999.00,9, -999.00,9, -999.00,9,-999.000,5,-999.000,5,  -999.0,9,  -999.0,9,  -999.0,5,-999.000,1,-999.000,-999.0000,1, -999.00,9, -999.00,9,  -999.0,9,  -999.0,-999.000,9,-999.000, 61409.9,   0.7547,-999.0000, -999.00
 316N145_14,       I02E,    1077,          1,         30,     SIH030,2,19951204,       2320,    -8.9998,   105.6333,       6445,  6126.2,   1.3267,  34.7111,2,  34.7123,2,    194.9,2,   196.4,2, -999.00,9, -999.00,9, -999.00,9, -999.00,9,   0.010,2,   0.001,2,  -999.0,9,  -999.0,9,  -999.0,5,-999.000,1,-999.000,-999.0000,1, -999.00,9, -999.00,9,  -999.0,9,  -999.0,-999.000,9,-999.000, 61411.3,   0.7546,-999.0000, -999.00
 316N145_14,       I02E,    1077,          1,         33,     SIH027,2,19951204,       2320,    -8.9998,   105.6333,       6445,  6126.3,   1.3266,  34.7114,2,  34.7119,2,    194.9,2,   196.5,2, -999.00,9, -999.00,9, -999.00,9, -999.00,9,   0.004,2,  -0.001,2,  -999.0,9,  -999.0,9,  -999.0,5,-999.000,1,-999.000,-999.0000,1, -999.00,9, -999.00,9,  -999.0,9,  -999.0,-999.000,9,-999.000, 61412.5,   0.7545,-999.0000, -999.00
 316N145_14,       I02E,    1077,          1,         31,     SIH029,2,19951204,       2320,    -8.9998,   105.6333,       6445,  6126.4,   1.3266,  34.7113,2,  34.7105,2,    194.9,2,   196.8,2, -999.00,9, -999.00,9, -999.00,9, -999.00,9,-999.000,5,-999.000,5,  -999.0,9,  -999.0,9,  -999.0,5,-999.000,1,-999.000,-999.0000,1, -999.00,9, -999.00,9,  -999.0,9,  -999.0,-999.000,9,-999.000, 61413.8,   0.7545,-999.0000, -999.00
 316N145_14,       I02E,    1077,          1,         36,     SIH024,2,19951204,       2320,    -8.9998,   105.6333,       6445,  6126.6,   1.3267,  34.7111,2,  34.7119,2,    194.9,2,   196.7,2, -999.00,9, -999.00,9, -999.00,9, -999.00,9,   0.011,3,   0.005,2,  -999.0,9,  2401.1,2,  -999.0,5,-999.000,1,-999.000,-999.0000,1, -999.00,9, -999.00,9,  -999.0,9,  -999.0,-999.000,9,-999.000, 61415.7,   0.7545,-999.0000, -999.00