BOTTLE,20220829CCHSIOAMB
EXPOCODE,SECT_ID,STNNBR,CASTNO,SAMPNO,BTLNBR,BTLNBR_FLAG_W,DATE,TIME,LATITUDE,LONGITUDE,DEPTH,CTDPRS,CTDTMP,CTDSAL,CTDSAL_FLAG_W,SALNTY,SALNTY_FLAG_W,CTDOXY,CTDOXY_FLAG_W,OXYGEN,OXYGEN_FLAG_W,SILCAT,SILCAT_FLAG_W,NITRAT,NITRAT_FLAG_W,NITRIT,NITRIT_FLAG_W,PHSPHT,PHSPHT_FLAG_W,CFC-11,CFC-11_FLAG_W,CFC-12,CFC-12_FLAG_W,TCARBN,TCARBN_FLAG_W,ALKALI,ALKALI_FLAG_W,PCO2,PCO2_FLAG_W,TRITUM,TRITUM_FLAG_W,TRITER,HELIUM,HELIUM_FLAG_W,DELHE3,DELHE3_FLAG_W,DELC13,DELC13_FLAG_W,DELC14,DELC14_FLAG_W,C14ERR,NEON,NEON_FLAG_W,NEONER,CTDRAW,THETA,HELIER,DELHER
,,,,,,,,,,,METERS,DBAR,ITS-90,PSS-78,,PSS-78,,UMOL/KG,,UMOL/KG,,UMOL/KG,,UMOL/KG,,UMOL/KG,,UMOL/KG,,PMOL/KG,,PMOL/KG,,UMOL/KG,,UMOL/KG,,UATM,,TU,,TU,NMOL/KG,,PERCNT,,/MILLE,,/MILLE,,/MILLE,NMOL/KG,,NMOL/KG,DBAR,DEG C,NMOL/KG,PERCNT
 316N145_14,       I02E,    1150,          1,         32,     SIH028,2,19951226,       1435,    -7.9972,    72.8195,       3386,    13.0,  28.6874,  34.0439,2,  33.9416,2,    211.8,2,   212.0,2,    2.65,2,    0.09,2,    0.00,2,    0.10,2,   1.604,2,   0.933,2,  1880.3,2,  2220.8,2,  -999.0,5,-999.000,1,-999.000,-999.0000,1, -999.00,9,    1.34,2,    64.5,2,     3.8,-999.000,9,-999.000,   265.2,  28.6843,-999.0000, -999.00
 316N145_14,       I02E,    1150,          1,         31,     SIH029,2,19951226,       1435,    -7.9972,    72.8195,       3386,    31.9,  25.4810,  35.0432,2,  34.0897,4,    218.4,2,   211.8,2,    2.64,2,    0.15,2,    0.00,2,    0.11,2,-999.000,5,-999.000,5,  1886.9,2,  2232.4,2,  -999.0,5,-999.000,1,-999.000,-999.0000,1, -999.00,9, -999.00,9,  -999.0,9,  -999.0,-999.000,9,-999.000,   447.8,  25.4740,-999.0000, -999.00
 316N145_14,       I02E,    1150,          1,         30,     SIH030,2,19951226,       1435,    -7.9972,    72.8195,       3386,    61.8,  20.1939,  35.2266,2,  35.2544,2,    191.5,3,   156.1,2,    9.84,2,    8.00,2,    0.15,2,    0.66,2,   1.777,2,   0.979,2,  2062.3,2,  2318.7,2,  -999.0,5,-999.000,1,-999.000,-999.0000,1, -999.00,9,    0.72,2,    72.8,2,     3.9,-999.000,9,-999.000,   744.9,  20.1824,-999.0000, -999.00
 316N145_14,       I02E,    1150,          1,         29,     SIH007,2,19951226,       1435,    -7.9972,    72.8195,       3386,    91.7,  17.4208,  35.0893,2,  35.1067,2,    116.2,3,    89.1,2,   17.90,2,   19.03,2,    0.09,2,    1.34,2,   1.340,2,   0.718,2,  2138.0,2,  2308.6,2,  -999.0,5,-999.000,1,-999.000,-999.0000,1, -999.00,9, -999.00,9,  -999.0,9,  -999.0,-999.000,9,-999.000,  1042.0,  17.4055,-999.0000, -999.00
 316N145_14,       I02E,    1150,          1,         28,     SI9439,2,19951226,       1435,    -7.9972,    72.8195,       3386,   122.0,  14.7748,  34.9869,2,  34.9756,2,     62.5,2,    74.4,2,   23.90,2,   23.46,2,    0.01,2,    1.64,2,   0.987,2,   0.522,2,  2170.0,2,  2308.0,2,  -999.0,5,-999.000,1,-999.000,-999.0000,1, -999.00,9,    0.29,2,    12.8,2,     4.7,-999.000,9,-999.000,  1343.6,  14.7565,-999.0000, -999.00
 316N145_14,       I02E,    1150,          1,         27,     SIH033,2,19951226,       1435,    -7.9972,    72.8195,       3386,   151.9,  13.3689,  34.9738,2,  34.9746,2,     72.6,2,    78.0,2,   25.26,2,   24.74,2,    0.01,2,    1.73,2,   0.820,2,   0.423,2,  2183.0,2,  2310.1,2,  -999.0,5,-999.000,1,-999.000,-999.0000,1, -999.00,9, -999.00,9,  -999.0,9,  -999.0,-999.000,9,-999.000,  1642.3,  13.3476,-999.0000, -999.00
 316N145_14,       I02E,    1150,          1,         26,     SIH037,2,19951226,       1435,    -7.9972,    72.8195,       3386,   202.3,  12.1999,  34.9828,2,  34.9825,2,     90.2,2,    90.9,2,   24.04,2,   24.85,2,    0.00,2,    1.72,2,   0.776,2,   0.400,2,  2186.6,2,  2313.5,2,  -999.0,5,-999.000,1,-999.000,-999.0000,1, -999.00,9,    0.45,2,    -5.3,2,     3.3,-999.000,9,-999.000,  2146.5,  12.1732,-999.0000, -999.00
 316N145_14,       I02E,    1150,          1,         25,     SI9446,2,19951226,       1435,    -7.9972,    72.8195,       3386,   252.0,  11.4243,  34.9340,2,  34.9333,2,     81.1,2,    85.0,2,   26.26,2,   26.81,2,    0.00,2,    1.83,2,   0.578,2,   0.300,2,  2197.5,2,  2314.9,2,  -999.0,5,-999.000,1,-999.000,-999.0000,1, -999.00,9, -999.00,9,  -999.0,9,  -999.0,-999.000,9,-999.000,  2643.7,  11.3924,-999.0000, -999.00
 316N145_14,       I02E,    1150,          1,         24,     SIH036,2,19951226,       1435,    -7.9972,    72.8195,       3386,   302.5,  10.7993,  34.9033,2,  34.9087,2,     91.6,2,    95.6,2,   25.39,2,   26.76,2,    0.00,2,    1.82,2,   0.567,2,   0.289,2,  2196.1,2,  2312.1,2,  -999.0,5,-999.000,1,-999.000,-999.0000,1, -999.00,9,    0.53,2,   -26.6,2,     3.8,-999.000,9,-999.000,  3149.0,  10.7623,-999.0000, -999.00
 316N145_14,       I02E,    1150,          1,         23,     SIH001,2,19951226,       1435,    -7.9972,    72.8195,       3386,   351.8,  10.3003,  34.8791,2,  34.8790,2,     95.2,2,    96.3,2,   27.09,2,   27.76,2,    0.00,2,    1.89,2,   0.467,2,   0.237,2,  2199.8,2,  2310.0,2,  -999.0,5,-999.000,1,-999.000,-999.0000,1, -999.00,9, -999.00,9,  -999.0,9,  -999.0,-999.000,9,-999.000,  3642.4,  10.2585,-999.0000, -999.00
 316N145_14,       I02E,    1150,          1,         22,     SIH019,2,19951226,       1435,    -7.9972,    72.8195,       3386,   402.5,   9.7242,  34.8425,2,  34.8414,2,    100.1,2,    99.2,2,   30.16,2,   28.77,2,    0.00,2,    1.95,2,   0.367,6,   0.189,6,  2205.8,2,  2316.1,2,  -999.0,5,-999.000,1,-999.000,-999.0000,1, -999.00,9,    0.55,2,   -59.8,2,     2.7,-999.000,9,-999.000,  4149.7,   9.6779,-999.0000, -999.00
 316N145_14,       I02E,    1150,          1,         21,     SIH013,2,19951226,       1435,    -7.9972,    72.8195,       3386,   502.6,   8.9301,  34.8100,2,  34.8096,2,     91.2,2,    92.8,2,   38.90,2,   30.79,2,    0.00,2,    2.13,2,   0.210,2,   0.122,2,  2221.1,2,  2321.5,2,  -999.0,5,-999.000,1,-999.000,-999.0000,1, -999.00,9,    0.08,3,   -83.9,2,     2.8,-999.000,9,-999.000,  5150.3,   8.8749,-999.0000, -999.00
 316N145_14,       I02E,    1150,          1,         20,     SIH004,2,19951226,       1435,    -7.9972,    72.8195,       3386,   601.9,   7.9639,  34.7851,2,  34.7836,2,     78.7,2,    78.7,2,   54.33,2,   33.60,2,    0.00,2,    2.39,2,-999.000,5,-999.000,5,  2248.1,2,  2337.6,2,  -999.0,5,-999.000,1,-999.000,-999.0000,1, -999.00,9, -999.00,9,  -999.0,9,  -999.0,-999.000,9,-999.000,  6145.1,   7.9017,-999.0000, -999.00
 316N145_14,       I02E,    1150,          1,         19,     SIH005,2,19951226,       1435,    -7.9972,    72.8195,       3386,   701.1,   7.2051,  34.7655,2,  34.7675,2,     72.5,2,    75.4,2,   66.68,2,   35.03,2,    0.00,2,    2.51,2,   0.029,2,   0.017,2,  2279.4,2,  2357.4,2,  -999.0,5,-999.000,1,-999.000,-999.0000,1, -999.00,9,    0.25,2,  -133.2,2,     2.7,-999.000,9,-999.000,  7136.2,   7.1362,-999.0000, -999.00
 316N145_14,       I02E,    1150,          1,         18,     SIH006,2,19951226,       1435,    -7.9972,    72.8195,       3386,   800.7,   6.5658,  34.7533,2,  34.7532,2,     73.0,2,    72.8,2,   77.12,2,   35.82,2,    0.00,2,    2.59,2,-999.000,5,-999.000,5,  2279.5,2,  2356.6,2,  -999.0,5,-999.000,1,-999.000,-999.0000,1, -999.00,9,    0.19,2,  -154.1,2,     3.1,-999.000,9,-999.000,  8133.7,   6.4905,-999.0000, -999.00
 316N145_14,       I02E,    1150,          1,         17,     SIH038,2,19951226,       1435,    -7.9972,    72.8195,       3386,   900.3,   6.0099,  34.7292,2,  34.7304,2,     74.1,2,    74.8,2, -999.00,9, -999.00,9, -999.00,9, -999.00,9,   0.006,2,   0.002,2,  2289.0,2,  2365.1,2,  -999.0,5,-999.000,1,-999.000,-999.0000,1, -999.00,9,    0.17,2,  -157.1,2,     5.6,-999.000,9,-999.000,  9129.5,   5.9283,-999.0000, -999.00
 316N145_14,       I02E,    1150,          1,         16,     SIH008,2,19951226,       1435,    -7.9972,    72.8195,       3386,  1005.7,   5.5867,  34.7426,2,  34.7425,2,     78.3,2,    78.9,2,   91.00,2,   36.51,2,    0.00,2,    2.64,2,-999.000,5,-999.000,5,  2294.3,2,  2372.4,2,  -999.0,5,-999.000,1,-999.000,-999.0000,1, -999.00,9,    0.14,2,  -166.4,2,     3.9,-999.000,9,-999.000, 10183.7,   5.4980,-999.0000, -999.00
 316N145_14,       I02E,    1150,          1,         15,     SIH009,2,19951226,       1435,    -7.9972,    72.8195,       3386,  1105.5,   5.2245,  34.7440,2,  34.7445,2,     82.4,2,    82.2,2,   95.44,2,   36.56,2,    0.00,2,    2.66,2,   0.002,2,   0.001,2,  2297.9,2,  2374.9,2,  -999.0,5,-999.000,1,-999.000,-999.0000,1, -999.00,9,   -2.84,4,  -245.8,3,     3.1,-999.000,9,-999.000, 11183.0,   5.1293,-999.0000, -999.00
 316N145_14,       I02E,    1150,          1,         14,     SIH010,2,19951226,       1435,    -7.9972,    72.8195,       3386,  1185.5,   4.8315,  34.7464,2,  34.7478,2,     86.0,2,    85.7,2,  100.57,2,   36.73,2,    0.00,2,    2.66,2,  -0.002,2,  -0.001,2,  2303.3,2,  2381.0,2,  -999.0,5,-999.000,1,-999.000,-999.0000,1, -999.00,9,    0.13,2,  -183.8,2,     2.0,-999.000,9,-999.000, 11983.2,   4.7322,-999.0000, -999.00
 316N145_14,       I02E,    1150,          1,         13,     SIH011,2,19951226,       1435,    -7.9972,    72.8195,       3386,  1285.8,   4.5163,  34.7574,2,  34.7581,2,     91.0,2,    90.7,2,  103.11,2,   36.62,2,    0.00,2,    2.66,2,-999.000,5,-999.000,5,  2305.0,2,  2385.5,2,  -999.0,5,-999.000,1,-999.000,-999.0000,1, -999.00,9,   -0.04,3,  -174.4,2,     3.2,-999.000,9,-999.000, 12986.5,   4.4107,-999.0000, -999.00
 316N145_14,       I02E,    1150,          1,         12,     SIH012,2,19951226,       1435,    -7.9972,    72.8195,       3386,  1386.6,   4.0998,  34.7491,2,  34.7490,2,    100.7,2,   101.1,2,  104.90,2,   36.39,2,    0.00,2,    2.56,2,-999.000,5,-999.000,5,  2303.1,2,  2386.7,2,  -999.0,5,-999.000,1,-999.000,-999.0000,1, -999.00,9,    0.17,2,  -183.5,2,     3.0,-999.000,9,-999.000, 13994.6,   3.9893,-999.0000, -999.00
 316N145_14,       I02E,    1150,          1,         11,     SI9426,2,19951226,       1435,    -7.9972,    72.8195,       3386,  1587.1,   3.3116,  34.7515,2,  34.7506,2,    119.0,2,   121.5,3,  110.62,2,   35.61,2,    0.00,2,    2.54,2,   0.001,2,  -0.001,2,  2301.3,2,  2392.3,2,  -999.0,5,-999.000,1,-999.000,-999.0000,1, -999.00,9,    0.20,2,  -179.7,2,     3.7,-999.000,9,-999.000, 15999.9,   3.1922,-999.0000, -999.00
 316N145_14,       I02E,    1150,          1,         10,     SIH014,2,19951226,       1435,    -7.9972,    72.8195,       3386,  1788.9,   2.8530,  34.7544,2,  34.7543,2,    129.8,2,   130.8,2,  116.25,2,   35.19,2,    0.00,2,    2.50,2,  -0.002,2,   0.000,2,  2302.7,2,  2399.1,2,  -999.0,5,-999.000,1,-999.000,-999.0000,1, -999.00,9, -999.00,9,  -999.0,9,  -999.0,-999.000,9,-999.000, 18019.0,   2.7219,-999.0000, -999.00
 316N145_14,       I02E,    1150,          1,          9,     SIH015,2,19951226,       1435,    -7.9972,    72.8195,       3386,  2009.2,   2.4653,  34.7479,2,  34.7473,2,    143.8,2,   143.8,2,  119.14,2,   34.65,2,    0.00,2,    2.44,2,-999.000,5,-999.000,5,  2300.4,2,  2401.4,2,  -999.0,5,-999.000,1,-999.000,-999.0000,1, -999.00,9, -999.00,9,  -999.0,9,  -999.0,-999.000,9,-999.000, 20221.6,   2.3206,-999.0000, -999.00
 316N145_14,       I02E,    1150,          1,          8,     SIH016,2,19951226,       1435,    -7.9972,    72.8195,       3386,  2195.4,   2.1992,  34.7427,2,  34.7419,2,    152.0,2,   151.7,2,  121.50,2,   34.37,2,    0.00,2,    2.41,2,-999.000,5,-999.000,5,  2299.0,2,  2404.0,2,  -999.0,5,-999.000,1,-999.000,-999.0000,1, -999.00,9, -999.00,9,  -999.0,9,  -999.0,-999.000,9,-999.000, 22084.4,   2.0424,-999.0000, -999.00
 316N145_14,       I02E,    1150,          1,          7,     SIH017,2,19951226,       1435,    -7.9972,    72.8195,       3386,  2394.6,   2.0141,  34.7381,2,  34.7374,2,    157.2,2,   157.7,2,  123.53,2,   34.10,2,    0.00,2,    2.39,2,-999.000,5,-999.000,5,  2297.9,2,  2405.0,2,  -999.0,5,-999.000,1,-999.000,-999.0000,1, -999.00,9, -999.00,9,  -999.0,9,  -999.0,-999.000,9,-999.000, 24076.5,   1.8428,-999.0000, -999.00
 316N145_14,       I02E,    1150,          1,          6,     SIH018,2,19951226,       1435,    -7.9972,    72.8195,       3386,  2597.7,   1.8659,  34.7351,2,  34.7347,2,    161.1,2,   161.5,2,  126.09,2,   33.91,2,    0.00,2,    2.38,2,-999.000,5,-999.000,5,  2298.7,2,  2414.7,2,  -999.0,5,-999.000,1,-999.000,-999.0000,1, -999.00,9, -999.00,9,  -999.0,9,  -999.0,-999.000,9,-999.000, 26107.6,   1.6788,-999.0000, -999.00
 316N145_14,       I02E,    1150,          1,          5,     SIH002,2,19951226,       1435,    -7.9972,    72.8195,       3386,  2795.0,   1.8060,  34.7327,2,  34.7325,2,    164.0,2,   163.9,2,  126.58,2,   34.01,2,    0.00,2,    2.37,2,  -0.003,2,  -0.001,2,  2298.0,2,  2403.7,2,  -999.0,5,-999.000,1,-999.000,-999.0000,1, -999.00,9, -999.00,9,  -999.0,9,  -999.0,-999.000,9,-999.000, 28081.8,   1.6018,-999.0000, -999.00
 316N145_14,       I02E,    1150,          1,          4,     SIH020,2,19951226,       1435,    -7.9972,    72.8195,       3386,  2999.1,   1.6839,  34.7288,2,  34.7282,2,    167.9,2,   167.5,2,  128.10,2,   33.86,2,    0.00,2,    2.35,2,-999.000,5,-999.000,5,  2297.8,2,  2414.4,2,  -999.0,5,-999.000,1,-999.000,-999.0000,1, -999.00,9, -999.00,9,  -999.0,9,  -999.0,-999.000,9,-999.000, 30123.2,   1.4629,-999.0000, -999.00
 316N145_14,       I02E,    1150,          1,          3,     SIH021,2,19951226,       1435,    -7.9972,    72.8195,       3386,  3203.2,   1.5225,  34.7250,2,  34.7243,2,    170.2,2,   169.2,2,  133.21,2,   34.01,2,    0.00,2,    2.35,2,-999.000,5,-999.000,5,  2303.3,2,  2418.4,2,  -999.0,5,-999.000,1,-999.000,-999.0000,1, -999.00,9, -999.00,9,  -999.0,9,  -999.0,-999.000,9,-999.000, 32162.7,   1.2853,-999.0000, -999.00
 316N145_14,       I02E,    1150,          1,          2,     SIH022,2,19951226,       1435,    -7.9972,    72.8195,       3386,  3304.1,   1.4769,  34.7235,2,  34.7239,2,    170.8,2,   170.7,2,  133.87,2,   33.95,2,    0.00,2,    2.35,2,-999.000,5,-999.000,5,  2303.6,2,  2418.3,2,  -999.0,5,-999.000,1,-999.000,-999.0000,1, -999.00,9, -999.00,9,  -999.0,9,  -999.0,-999.000,9,-999.000, 33172.0,   1.2309,-999.0000, -999.00
 316N145_14,       I02E,    1150,          1,          1,     SIH023,2,19951226,       1435,    -7.9972,    72.8195,       3386,  3428.2,   1.4070,  34.7220,2,  34.7203,2,    170.8,2,   173.4,2,  134.86,6,   33.90,6,    0.00,6,    2.35,6,   0.000,2,   0.001,2,  2303.0,2,  2420.4,2,  -999.0,5,-999.000,1,-999.000,-999.0000,1, -999.00,9, -999.00,9,  -999.0,9,  -999.0,-999.000,9,-999.000, 34410.0,   1.1502,-999.0000, -999.00