BOTTLE,20220829CCHSIOAMB
EXPOCODE,SECT_ID,STNNBR,CASTNO,SAMPNO,BTLNBR,BTLNBR_FLAG_W,DATE,TIME,LATITUDE,LONGITUDE,DEPTH,CTDPRS,CTDTMP,CTDSAL,CTDSAL_FLAG_W,SALNTY,SALNTY_FLAG_W,CTDOXY,CTDOXY_FLAG_W,OXYGEN,OXYGEN_FLAG_W,SILCAT,SILCAT_FLAG_W,NITRAT,NITRAT_FLAG_W,NITRIT,NITRIT_FLAG_W,PHSPHT,PHSPHT_FLAG_W,CFC-11,CFC-11_FLAG_W,CFC-12,CFC-12_FLAG_W,TCARBN,TCARBN_FLAG_W,ALKALI,ALKALI_FLAG_W,PCO2,PCO2_FLAG_W,TRITUM,TRITUM_FLAG_W,TRITER,HELIUM,HELIUM_FLAG_W,DELHE3,DELHE3_FLAG_W,DELC13,DELC13_FLAG_W,DELC14,DELC14_FLAG_W,C14ERR,NEON,NEON_FLAG_W,NEONER,CTDRAW,THETA,HELIER,DELHER
,,,,,,,,,,,METERS,DBAR,ITS-90,PSS-78,,PSS-78,,UMOL/KG,,UMOL/KG,,UMOL/KG,,UMOL/KG,,UMOL/KG,,UMOL/KG,,PMOL/KG,,PMOL/KG,,UMOL/KG,,UMOL/KG,,UATM,,TU,,TU,NMOL/KG,,PERCNT,,/MILLE,,/MILLE,,/MILLE,NMOL/KG,,NMOL/KG,DBAR,DEG C,NMOL/KG,PERCNT
 316N145_14,       I02E,    1122,          1,         36,     SIH024,2,19951218,       1045,   -10.4333,    88.1167,       4863,    14.2,  27.1418,  34.2520,2,  34.2546,2,    216.9,2,   212.9,2,    3.74,2,    0.05,2,    0.00,2,    0.10,2,-999.000,5,-999.000,5,  1921.6,2,  2245.5,2,  -999.0,5,-999.000,1,-999.000,-999.0000,1, -999.00,9, -999.00,9,  -999.0,9,  -999.0,-999.000,9,-999.000,   290.6,  27.1385,-999.0000, -999.00
 316N145_14,       I02E,    1122,          1,         35,     SIH003,2,19951218,       1045,   -10.4333,    88.1167,       4863,    53.9,  26.7409,  34.2435,2,  34.2442,2,    212.5,2,   213.9,2,    3.81,2,    0.05,2,    0.00,2,    0.10,2,-999.000,5,-999.000,5,  1923.5,2,  -999.0,9,  -999.0,5,-999.000,1,-999.000,-999.0000,1, -999.00,9, -999.00,9,  -999.0,9,  -999.0,-999.000,9,-999.000,   681.7,  26.7286,-999.0000, -999.00
 316N145_14,       I02E,    1122,          1,         34,     SIH026,2,19951218,       1045,   -10.4333,    88.1167,       4863,   103.3,  23.0419,  34.4727,2,  34.4762,2,    122.0,2,   134.6,2,   13.33,2,   10.81,2,    0.04,2,    0.81,2,-999.000,5,-999.000,5,  2032.8,2,  2263.0,2,  -999.0,5,-999.000,1,-999.000,-999.0000,1, -999.00,9, -999.00,9,  -999.0,9,  -999.0,-999.000,9,-999.000,  1169.7,  23.0208,-999.0000, -999.00
 316N145_14,       I02E,    1122,          1,         33,     SIH027,2,19951218,       1045,   -10.4333,    88.1167,       4863,   148.4,  19.1165,  34.5979,2,  34.5798,2,    109.2,2,   107.2,2,   21.55,3,   16.66,2,    0.01,2,    1.20,2,-999.000,5,-999.000,5,  -999.0,9,  -999.0,9,  -999.0,5,-999.000,1,-999.000,-999.0000,1, -999.00,9, -999.00,9,  -999.0,9,  -999.0,-999.000,9,-999.000,  1615.1,  19.0900,-999.0000, -999.00
 316N145_14,       I02E,    1122,          1,         32,     SIH028,2,19951218,       1045,   -10.4333,    88.1167,       4863,   196.8,  15.2050,  34.5701,2,  34.5706,2,    110.5,2,   104.3,2,   30.42,2,   20.80,2,    0.01,2,    1.50,2,-999.000,5,-999.000,5,  -999.0,9,  -999.0,9,  -999.0,5,-999.000,1,-999.000,-999.0000,1, -999.00,9, -999.00,9,  -999.0,9,  -999.0,-999.000,9,-999.000,  2096.8,  15.1751,-999.0000, -999.00
 316N145_14,       I02E,    1122,          1,         31,     SIH029,2,19951218,       1045,   -10.4333,    88.1167,       4863,   300.0,  11.5207,  34.7639,2,  34.7624,2,     68.1,2,    70.2,2,   36.51,2,   28.46,3,    0.00,2,    2.00,2,-999.000,5,-999.000,5,  -999.0,9,  -999.0,9,  -999.0,5,-999.000,1,-999.000,-999.0000,1, -999.00,9, -999.00,9,  -999.0,9,  -999.0,-999.000,9,-999.000,  3129.0,  11.4825,-999.0000, -999.00
 316N145_14,       I02E,    1122,          1,         30,     SIH030,2,19951218,       1045,   -10.4333,    88.1167,       4863,   399.5,  10.3438,  34.7957,2,  34.7966,2,     87.6,2,    88.8,2,   34.79,2,   28.25,3,    0.01,2,    1.94,2,-999.000,5,-999.000,5,  -999.0,9,  -999.0,9,  -999.0,5,-999.000,1,-999.000,-999.0000,1, -999.00,9, -999.00,9,  -999.0,9,  -999.0,-999.000,9,-999.000,  4123.1,  10.2961,-999.0000, -999.00
 316N145_14,       I02E,    1122,          1,         29,     SIH031,2,19951218,       1045,   -10.4333,    88.1167,       4863,   499.8,   8.9860,  34.7418,2,  34.7457,2,     95.3,2,    90.0,2,   41.87,2,   30.74,3,    0.00,2,    2.13,2,-999.000,5,-999.000,5,  -999.0,9,  -999.0,9,  -999.0,5,-999.000,1,-999.000,-999.0000,1, -999.00,9, -999.00,9,  -999.0,9,  -999.0,-999.000,9,-999.000,  5125.6,   8.9310,-999.0000, -999.00
 316N145_14,       I02E,    1122,          1,         28,     SIH032,2,19951218,       1045,   -10.4333,    88.1167,       4863,   598.5,   7.7700,  34.6974,2,  34.6967,2,     75.3,2,    75.1,2,   60.51,2,   34.05,3,    0.00,2,    2.42,2,-999.000,5,-999.000,5,  -999.0,9,  -999.0,9,  -999.0,5,-999.000,1,-999.000,-999.0000,1, -999.00,9, -999.00,9,  -999.0,9,  -999.0,-999.000,9,-999.000,  6113.0,   7.7092,-999.0000, -999.00
 316N145_14,       I02E,    1122,          1,         27,     SIH033,2,19951218,       1045,   -10.4333,    88.1167,       4863,   699.8,   7.0074,  34.6806,2,  34.6793,2,     74.1,2,    75.1,2,   71.50,4,   35.15,3,    0.00,2,    2.53,2,-999.000,5,-999.000,5,  -999.0,9,  -999.0,9,  -999.0,5,-999.000,1,-999.000,-999.0000,1, -999.00,9, -999.00,9,  -999.0,9,  -999.0,-999.000,9,-999.000,  7125.4,   6.9398,-999.0000, -999.00
 316N145_14,       I02E,    1122,          1,         26,     SIH037,2,19951218,       1045,   -10.4333,    88.1167,       4863,   800.4,   6.1688,  34.6563,2,  34.6565,2,     77.5,2,    78.7,2,   83.30,4,   35.82,3,    0.00,2,    2.59,2,-999.000,5,-999.000,5,  -999.0,9,  -999.0,9,  -999.0,5,-999.000,1,-999.000,-999.0000,1, -999.00,9, -999.00,9,  -999.0,9,  -999.0,-999.000,9,-999.000,  8130.7,   6.0960,-999.0000, -999.00
 316N145_14,       I02E,    1122,          1,         25,     SI9446,2,19951218,       1045,   -10.4333,    88.1167,       4863,  1000.4,   5.0529,  34.6398,2,  34.6398,2,     86.8,2,    87.9,2,   99.49,4,   36.34,3,    0.01,2,    2.63,2,-999.000,5,-999.000,5,  -999.0,9,  -999.0,9,  -999.0,5,-999.000,1,-999.000,-999.0000,1, -999.00,9, -999.00,9,  -999.0,9,  -999.0,-999.000,9,-999.000, 10132.1,   4.9689,-999.0000, -999.00
 316N145_14,       I02E,    1122,          1,         24,     SIH036,2,19951218,       1045,   -10.4333,    88.1167,       4863,  1245.5,   4.3020,  34.6796,2,  34.6804,2,     95.7,2,    95.8,2,  106.24,4,   36.50,3,    0.02,2,    2.65,2,-999.000,5,-999.000,5,  -999.0,9,  -999.0,9,  -999.0,5,-999.000,1,-999.000,-999.0000,1, -999.00,9, -999.00,9,  -999.0,9,  -999.0,-999.000,9,-999.000, 12584.3,   4.2022,-999.0000, -999.00
 316N145_14,       I02E,    1122,          1,         23,     SIH001,2,19951218,       1045,   -10.4333,    88.1167,       4863,  1495.1,   3.5805,  34.7268,2,  34.7270,2,    111.2,2,   110.3,2,  109.40,4,   36.09,3,    0.01,2,    2.61,2,-999.000,5,-999.000,5,  -999.0,9,  -999.0,9,  -999.0,5,-999.000,1,-999.000,-999.0000,1, -999.00,9, -999.00,9,  -999.0,9,  -999.0,-999.000,9,-999.000, 15080.6,   3.4661,-999.0000, -999.00
 316N145_14,       I02E,    1122,          1,         22,     SIH019,2,19951218,       1045,   -10.4333,    88.1167,       4863,  1748.3,   2.9852,  34.7384,2,  34.7394,2,    128.5,2,   127.0,2,  113.86,4,   35.46,3,    0.00,2,    2.54,2,-999.000,5,-999.000,5,  -999.0,9,  -999.0,9,  -999.0,5,-999.000,1,-999.000,-999.0000,1, -999.00,9, -999.00,9,  -999.0,9,  -999.0,-999.000,9,-999.000, 17613.6,   2.8559,-999.0000, -999.00
 316N145_14,       I02E,    1122,          1,         21,     SIH025,2,19951218,       1045,   -10.4333,    88.1167,       4863,  1999.0,   2.4402,  34.7358,2,  34.7355,2,    147.0,2,   145.0,2,  116.37,4,   34.63,3,    0.00,2,    2.46,2,-999.000,5,-999.000,5,  -999.0,9,  -999.0,9,  -999.0,5,-999.000,1,-999.000,-999.0000,1, -999.00,9, -999.00,9,  -999.0,9,  -999.0,-999.000,9,-999.000, 20121.2,   2.2968,-999.0000, -999.00
 316N145_14,       I02E,    1122,          1,         20,     SIH004,2,19951218,       1045,   -10.4333,    88.1167,       4863,  2246.1,   2.1408,  34.7329,2,  34.7345,2,    155.0,2,   154.2,2,  120.35,4,   34.22,3,    0.00,2,    2.41,2,-999.000,5,-999.000,5,  -999.0,9,  -999.0,9,  -999.0,5,-999.000,1,-999.000,-999.0000,1, -999.00,9, -999.00,9,  -999.0,9,  -999.0,-999.000,9,-999.000, 22593.6,   1.9805,-999.0000, -999.00
 316N145_14,       I02E,    1122,          1,         19,     SIH005,2,19951218,       1045,   -10.4333,    88.1167,       4863,  2495.4,   1.9292,  34.7326,2,  34.7337,2,    160.3,2,   160.6,2,  122.21,4,   34.12,3,    0.01,2,    2.38,2,-999.000,5,-999.000,5,  -999.0,9,  -999.0,9,  -999.0,5,-999.000,1,-999.000,-999.0000,1, -999.00,9, -999.00,9,  -999.0,9,  -999.0,-999.000,9,-999.000, 25088.0,   1.7504,-999.0000, -999.00
 316N145_14,       I02E,    1122,          1,         18,     SIH006,2,19951218,       1045,   -10.4333,    88.1167,       4863,  2745.5,   1.7715,  34.7284,2,  34.7284,2,    164.5,2,   165.0,2,  144.53,4,   33.96,3,    0.01,2,    2.38,2,-999.000,5,-999.000,5,  -999.0,9,  -999.0,9,  -999.0,5,-999.000,1,-999.000,-999.0000,1, -999.00,9, -999.00,9,  -999.0,9,  -999.0,-999.000,9,-999.000, 27590.1,   1.5727,-999.0000, -999.00
 316N145_14,       I02E,    1122,          1,         17,     SIH038,2,19951218,       1045,   -10.4333,    88.1167,       4863,  2998.5,   1.6338,  34.7261,2,  34.7272,2,    168.7,2,   167.8,2,  129.79,4,   33.86,3,    0.00,2,    2.37,2,-999.000,5,-999.000,5,  -999.0,9,  -999.0,9,  -999.0,5,-999.000,1,-999.000,-999.0000,1, -999.00,9, -999.00,9,  -999.0,9,  -999.0,-999.000,9,-999.000, 30121.5,   1.4140,-999.0000, -999.00
 316N145_14,       I02E,    1122,          1,         16,     SIH008,2,19951218,       1045,   -10.4333,    88.1167,       4863,  3242.6,   1.5283,  34.7229,2,  34.7237,2,    171.3,2,   171.8,2,  130.84,4,   33.92,3,    0.00,2,    2.37,2,-999.000,5,-999.000,5,  -999.0,9,  -999.0,9,  -999.0,5,-999.000,1,-999.000,-999.0000,1, -999.00,9, -999.00,9,  -999.0,9,  -999.0,-999.000,9,-999.000, 32564.0,   1.2871,-999.0000, -999.00
 316N145_14,       I02E,    1122,          1,         15,     SIH009,2,19951218,       1045,   -10.4333,    88.1167,       4863,  3492.3,   1.4327,  34.7206,2,  34.7199,2,    175.0,2,   175.7,2,  131.91,4,   33.76,3,    0.01,2,    2.35,2,-999.000,5,-999.000,5,  -999.0,9,  -999.0,9,  -999.0,5,-999.000,1,-999.000,-999.0000,1, -999.00,9, -999.00,9,  -999.0,9,  -999.0,-999.000,9,-999.000, 35061.1,   1.1688,-999.0000, -999.00
 316N145_14,       I02E,    1122,          1,         14,     SIH010,2,19951218,       1045,   -10.4333,    88.1167,       4863,  3746.4,   1.3763,  34.7188,2,  34.7195,2,    175.9,2,   175.5,2,  135.55,4,   33.92,3,    0.00,2,    2.36,2,-999.000,5,-999.000,5,  -999.0,9,  -999.0,9,  -999.0,5,-999.000,1,-999.000,-999.0000,1, -999.00,9, -999.00,9,  -999.0,9,  -999.0,-999.000,9,-999.000, 37603.7,   1.0876,-999.0000, -999.00
 316N145_14,       I02E,    1122,          1,         13,     SIH011,2,19951218,       1045,   -10.4333,    88.1167,       4863,  3894.2,   1.3617,  34.7183,2,  34.7186,2,    177.3,2,   177.6,2,  134.67,4,   33.82,3,    0.01,2,    2.36,2,-999.000,5,-999.000,5,  -999.0,9,  -999.0,9,  -999.0,5,-999.000,1,-999.000,-999.0000,1, -999.00,9, -999.00,9,  -999.0,9,  -999.0,-999.000,9,-999.000, 39081.5,   1.0578,-999.0000, -999.00
 316N145_14,       I02E,    1122,          1,         12,     SIH012,2,19951218,       1045,   -10.4333,    88.1167,       4863,  3997.2,   1.3513,  34.7178,2,  34.7191,2,    179.3,2,   179.0,2,  133.96,4,   33.66,3,    0.00,2,    2.35,2,-999.000,5,-999.000,5,  -999.0,9,  -999.0,9,  -999.0,5,-999.000,1,-999.000,-999.0000,1, -999.00,9, -999.00,9,  -999.0,9,  -999.0,-999.000,9,-999.000, 40112.1,   1.0367,-999.0000, -999.00
 316N145_14,       I02E,    1122,          1,         11,     SI9426,2,19951218,       1045,   -10.4333,    88.1167,       4863,  4098.9,   1.3428,  34.7176,2,  34.7180,2,    180.6,2,   180.2,2,  132.93,4,   33.61,3,    0.01,2,    2.35,2,-999.000,5,-999.000,5,  -999.0,9,  -999.0,9,  -999.0,5,-999.000,1,-999.000,-999.0000,1, -999.00,9, -999.00,9,  -999.0,9,  -999.0,-999.000,9,-999.000, 41130.2,   1.0174,-999.0000, -999.00
 316N145_14,       I02E,    1122,          1,         10,     SIH014,2,19951218,       1045,   -10.4333,    88.1167,       4863,  4195.5,   1.3416,  34.7167,2,  34.7180,2,    180.8,2,   181.2,2,  132.69,4,   33.55,3,    0.00,2,    2.33,2,-999.000,5,-999.000,5,  -999.0,9,  -999.0,9,  -999.0,5,-999.000,1,-999.000,-999.0000,1, -999.00,9, -999.00,9,  -999.0,9,  -999.0,-999.000,9,-999.000, 42096.1,   1.0056,-999.0000, -999.00
 316N145_14,       I02E,    1122,          1,          9,     SIH015,2,19951218,       1045,   -10.4333,    88.1167,       4863,  4298.5,   1.3398,  34.7169,2,  34.7178,2,    183.3,2,   181.8,2,  132.47,4,   33.51,3,    0.01,2,    2.33,2,-999.000,5,-999.000,5,  -999.0,9,  -999.0,9,  -999.0,5,-999.000,1,-999.000,-999.0000,1, -999.00,9, -999.00,9,  -999.0,9,  -999.0,-999.000,9,-999.000, 43125.8,   0.9924,-999.0000, -999.00
 316N145_14,       I02E,    1122,          1,          8,     SIH016,2,19951218,       1045,   -10.4333,    88.1167,       4863,  4399.6,   1.3405,  34.7160,2,  34.7174,2,    183.1,2,   183.3,2,  131.75,4,   33.46,3,    0.01,2,    2.32,2,-999.000,5,-999.000,5,  -999.0,9,  -999.0,9,  -999.0,5,-999.000,1,-999.000,-999.0000,1, -999.00,9, -999.00,9,  -999.0,9,  -999.0,-999.000,9,-999.000, 44137.7,   0.9817,-999.0000, -999.00
 316N145_14,       I02E,    1122,          1,          7,     SIH017,2,19951218,       1045,   -10.4333,    88.1167,       4863,  4497.1,   1.3215,  34.7158,2,  34.7168,2,    184.7,2,   184.9,2,  131.20,4,   33.35,3,    0.01,2,    2.31,2,-999.000,5,-999.000,5,  -999.0,9,  -999.0,9,  -999.0,5,-999.000,1,-999.000,-999.0000,1, -999.00,9, -999.00,9,  -999.0,9,  -999.0,-999.000,9,-999.000, 45112.8,   0.9522,-999.0000, -999.00
 316N145_14,       I02E,    1122,          1,          6,     SIH018,2,19951218,       1045,   -10.4333,    88.1167,       4863,  4599.8,   1.3243,  34.7164,2,  34.7164,2,    186.7,2,   185.6,2,  130.80,4,   33.30,3,    0.01,2,    2.31,2,-999.000,5,-999.000,5,  -999.0,9,  -999.0,9,  -999.0,5,-999.000,1,-999.000,-999.0000,1, -999.00,9, -999.00,9,  -999.0,9,  -999.0,-999.000,9,-999.000, 46140.3,   0.9431,-999.0000, -999.00
 316N145_14,       I02E,    1122,          1,          5,     SIH002,2,19951218,       1045,   -10.4333,    88.1167,       4863,  4699.7,   1.3319,  34.7160,2,  34.7164,2,    185.9,2,   189.6,3,  130.41,4,   33.25,2,    0.01,2,    2.30,2,-999.000,5,-999.000,5,  -999.0,9,  -999.0,9,  -999.0,5,-999.000,1,-999.000,-999.0000,1, -999.00,9, -999.00,9,  -999.0,9,  -999.0,-999.000,9,-999.000, 47139.5,   0.9388,-999.0000, -999.00
 316N145_14,       I02E,    1122,          1,          4,     SIH020,2,19951218,       1045,   -10.4333,    88.1167,       4863,  4796.2,   1.3409,  34.7161,2,  34.7162,2,    187.7,2,   186.6,2,  130.82,4,   33.20,3,    0.01,2,    2.30,2,-999.000,5,-999.000,5,  -999.0,9,  -999.0,9,  -999.0,5,-999.000,1,-999.000,-999.0000,1, -999.00,9, -999.00,9,  -999.0,9,  -999.0,-999.000,9,-999.000, 48105.3,   0.9362,-999.0000, -999.00
 316N145_14,       I02E,    1122,          1,          3,     SIH021,2,19951218,       1045,   -10.4333,    88.1167,       4863,  4898.0,   1.3459,  34.7155,2,  34.7170,2,    187.5,2,   186.8,2,  129.94,3,   32.89,3,    0.01,2,    2.30,2,-999.000,5,-999.000,5,  -999.0,9,  -999.0,9,  -999.0,5,-999.000,1,-999.000,-999.0000,1, -999.00,9, -999.00,9,  -999.0,9,  -999.0,-999.000,9,-999.000, 49123.0,   0.9289,-999.0000, -999.00
 316N145_14,       I02E,    1122,          1,          2,     SIH022,2,19951218,       1045,   -10.4333,    88.1167,       4863,  4951.0,   1.3357,  34.7151,2,  34.7160,2,    189.2,2,   188.3,2,  129.07,3,   33.00,3,    0.01,2,    2.28,2,-999.000,5,-999.000,5,  -999.0,9,  -999.0,9,  -999.0,5,-999.000,1,-999.000,-999.0000,1, -999.00,9, -999.00,9,  -999.0,9,  -999.0,-999.000,9,-999.000, 49653.2,   0.9127,-999.0000, -999.00
 316N145_14,       I02E,    1122,          1,          1,     SIH023,2,19951218,       1045,   -10.4333,    88.1167,       4863,  4993.3,   1.3186,  34.7143,2,  34.7160,2,    190.3,2,   191.0,2,  128.08,3,   33.00,3,    0.01,6,    2.28,6,-999.000,5,-999.000,5,  -999.0,9,  -999.0,9,  -999.0,5,-999.000,1,-999.000,-999.0000,1, -999.00,9, -999.00,9,  -999.0,9,  -999.0,-999.000,9,-999.000, 50080.7,   0.8911,-999.0000, -999.00