BOTTLE,20220829CCHSIOAMB
EXPOCODE,SECT_ID,STNNBR,CASTNO,SAMPNO,BTLNBR,BTLNBR_FLAG_W,DATE,TIME,LATITUDE,LONGITUDE,DEPTH,CTDPRS,CTDTMP,CTDSAL,CTDSAL_FLAG_W,SALNTY,SALNTY_FLAG_W,CTDOXY,CTDOXY_FLAG_W,OXYGEN,OXYGEN_FLAG_W,SILCAT,SILCAT_FLAG_W,NITRAT,NITRAT_FLAG_W,NITRIT,NITRIT_FLAG_W,PHSPHT,PHSPHT_FLAG_W,CFC-11,CFC-11_FLAG_W,CFC-12,CFC-12_FLAG_W,TCARBN,TCARBN_FLAG_W,ALKALI,ALKALI_FLAG_W,PCO2,PCO2_FLAG_W,TRITUM,TRITUM_FLAG_W,TRITER,HELIUM,HELIUM_FLAG_W,DELHE3,DELHE3_FLAG_W,DELC13,DELC13_FLAG_W,DELC14,DELC14_FLAG_W,C14ERR,NEON,NEON_FLAG_W,NEONER,CTDRAW,THETA,HELIER,DELHER
,,,,,,,,,,,METERS,DBAR,ITS-90,PSS-78,,PSS-78,,UMOL/KG,,UMOL/KG,,UMOL/KG,,UMOL/KG,,UMOL/KG,,UMOL/KG,,PMOL/KG,,PMOL/KG,,UMOL/KG,,UMOL/KG,,UATM,,TU,,TU,NMOL/KG,,PERCNT,,/MILLE,,/MILLE,,/MILLE,NMOL/KG,,NMOL/KG,DBAR,DEG C,NMOL/KG,PERCNT
 316N145_14,       I02E,    1094,          1,         36,     SIH024,2,19951210,       1455,    -8.0000,    95.3370,       5195,    13.3,  26.7283,  34.3019,2,  34.3036,2,    214.9,2,   193.6,2,    3.04,2,    0.33,2,    0.01,2,    0.14,2,   1.707,2,   0.983,2,  1932.7,2,  2249.4,2,  -999.0,5,   1.177,2,   0.004,   1.7588,2,   -1.02,2, -999.00,9,  -999.0,9,  -999.0,   6.457,2,-999.000,   274.2,  26.7253,-999.0000, -999.00
 316N145_14,       I02E,    1094,          1,         35,     SIH003,2,19951210,       1455,    -8.0000,    95.3370,       5195,    36.9,  26.7376,  34.3153,2,  34.3166,2,    218.7,2,   195.7,2,    3.04,2,    0.39,2,    0.01,2,    0.14,2,   1.679,2,   0.966,2,  -999.0,9,  2247.2,2,  -999.0,5,   1.161,2,   0.004,   1.7345,2,   -1.08,2, -999.00,9,  -999.0,9,  -999.0,   6.701,2,-999.000,   503.8,  26.7292,-999.0000, -999.00
 316N145_14,       I02E,    1094,          1,         34,     SIH026,2,19951210,       1455,    -8.0000,    95.3370,       5195,    69.0,  21.8979,  34.8352,2,  34.8465,2,    189.9,4,   100.5,2,   12.92,2,   13.87,2,    0.25,2,    1.06,2,   1.398,2,   0.772,2,  -999.0,9,  2285.8,2,  -999.0,5,   1.013,2,   0.004,   1.8097,2,    3.04,2, -999.00,9,  -999.0,9,  -999.0,   6.618,2,-999.000,   818.7,  21.8844,-999.0000, -999.00
 316N145_14,       I02E,    1094,          1,         33,     SIH027,2,19951210,       1455,    -8.0000,    95.3370,       5195,    98.5,  18.2269,  34.8827,2,  34.8800,2,     85.0,2,    69.5,2,   20.75,2,   21.50,2,    0.03,2,    1.50,2,   1.192,2,   0.629,2,  -999.0,9,  2291.8,2,  -999.0,5,   0.925,2,   0.004,   1.8012,2,    5.60,2, -999.00,9,  -999.0,9,  -999.0,   7.185,2,-999.000,  1110.8,  18.2099,-999.0000, -999.00
 316N145_14,       I02E,    1094,          1,         32,     SIH028,2,19951210,       1455,    -8.0000,    95.3370,       5195,   146.6,  14.5202,  34.7399,2,  34.7406,2,     75.4,2,    75.3,2,   30.07,2,   24.64,2,    0.00,2,    1.73,2,-999.000,5,-999.000,5,  -999.0,9,  2297.4,2,  -999.0,5,   0.800,2,   0.004,   1.8110,2,    8.17,2, -999.00,9,  -999.0,9,  -999.0,   7.243,2,-999.000,  1590.7,  14.4986,-999.0000, -999.00
 316N145_14,       I02E,    1094,          1,         31,     SIH029,2,19951210,       1455,    -8.0000,    95.3370,       5195,   198.3,  12.5136,  34.8269,2,  34.8231,2,     72.1,2,    64.3,2,   32.32,2,   27.76,2,    0.00,2,    1.93,2,   0.600,2,   0.318,2,  -999.0,9,  2309.3,2,  -999.0,5,   0.575,2,   0.003,   1.8343,2,    8.74,2, -999.00,9,  -999.0,9,  -999.0,   7.105,2,-999.000,  2107.1,  12.4870,-999.0000, -999.00
 316N145_14,       I02E,    1094,          1,         30,     SIH030,2,19951210,       1455,    -8.0000,    95.3370,       5195,   247.0,  11.7638,  34.9213,2,  34.9187,2,     59.5,2,    61.1,2,   29.72,2,   28.99,2,    0.00,2,    1.97,2,   0.373,6,   0.190,6,  -999.0,9,  2309.3,2,  -999.0,5,-999.000,1,-999.000,-999.0000,1, -999.00,9, -999.00,9,  -999.0,9,  -999.0,-999.000,9,-999.000,  2593.8,  11.7319,-999.0000, -999.00
 316N145_14,       I02E,    1094,          1,         29,     SIH031,2,19951210,       1455,    -8.0000,    95.3370,       5195,   297.1,  10.9692,  34.8950,2,  34.8987,2,     61.4,2,    62.5,2,   31.78,2,   30.07,2,    0.00,2,    2.03,2,   0.269,2,   0.133,2,  -999.0,9,  2320.9,3,  -999.0,5,   0.281,2,   0.003,   1.8042,2,    6.50,2, -999.00,9,  -999.0,9,  -999.0,   7.392,2,-999.000,  3095.7,  10.9325,-999.0000, -999.00
 316N145_14,       I02E,    1094,          1,         27,     SIH033,2,19951210,       1455,    -8.0000,    95.3370,       5195,   397.9,   9.8143,  34.8597,2,  34.8587,2,     69.3,2,    69.3,2,   33.29,2,   31.00,2,    0.00,2,    2.09,2,   0.139,2,   0.070,2,  2226.3,2,  2316.6,2,  -999.0,5,   0.139,2,   0.002,   1.8745,2,    5.58,2, -999.00,9,  -999.0,9,  -999.0,   7.668,2,-999.000,  4104.9,   9.7683,-999.0000, -999.00
 316N145_14,       I02E,    1094,          1,         28,     SIH032,2,19951210,       1455,    -8.0000,    95.3370,       5195,   398.3,   9.8181,  34.8606,2,  34.8595,2,     69.3,2,    69.0,2,   35.89,3,   31.69,3,    0.00,3,    2.14,3,-999.000,5,-999.000,5,  -999.0,9,  -999.0,9,  -999.0,5,-999.000,1,-999.000,-999.0000,1, -999.00,9, -999.00,9,  -999.0,9,  -999.0,-999.000,9,-999.000,  4108.1,   9.7721,-999.0000, -999.00
 316N145_14,       I02E,    1094,          1,         26,     SIH037,2,19951210,       1455,    -8.0000,    95.3370,       5195,   498.2,   8.9287,  34.8227,2,  34.8228,2,     70.3,2,    69.6,2,   44.67,2,   33.21,2,    0.00,2,    2.30,2,   0.065,2,   0.037,2,  2239.7,2,  2320.7,2,  -999.0,5,-999.000,1,-999.000,-999.0000,5, -999.00,5, -999.00,9,  -999.0,9,  -999.0,-999.000,5,-999.000,  5108.0,   8.8740,-999.0000, -999.00
 316N145_14,       I02E,    1094,          1,         25,     SI9446,2,19951210,       1455,    -8.0000,    95.3370,       5195,   598.8,   8.0517,  34.7896,2,  34.7860,2,     68.9,2,    66.9,2,   57.55,2,   34.77,2,    0.00,2,    2.46,2,   0.028,2,   0.016,2,  2260.8,2,  2332.5,2,  -999.0,5,-999.000,1,-999.000,-999.0000,1, -999.00,9, -999.00,9,  -999.0,9,  -999.0,-999.000,9,-999.000,  6114.2,   7.9895,-999.0000, -999.00
 316N145_14,       I02E,    1094,          1,         24,     SIH036,2,19951210,       1455,    -8.0000,    95.3370,       5195,   700.4,   7.4226,  34.7868,2,  34.7858,2,     60.1,2,    61.3,2,   69.50,2,   36.02,2,    0.00,2,    2.58,2,   0.014,2,   0.003,2,  2274.5,2,  2345.0,2,  -999.0,5,-999.000,1,-999.000,-999.0000,1, -999.00,9, -999.00,9,  -999.0,9,  -999.0,-999.000,9,-999.000,  7129.0,   7.3527,-999.0000, -999.00
 316N145_14,       I02E,    1094,          1,         23,     SIH001,2,19951210,       1455,    -8.0000,    95.3370,       5195,   800.0,   6.6529,  34.7542,2,  34.7547,2,     64.2,2,    65.5,2,   80.52,2,   36.46,2,    0.00,2,    2.63,2,   0.010,2,   0.003,2,  2285.3,2,  2357.2,2,  -999.0,5,-999.000,1,-999.000,-999.0000,1, -999.00,9, -999.00,9,  -999.0,9,  -999.0,-999.000,9,-999.000,  8127.0,   6.5771,-999.0000, -999.00
 316N145_14,       I02E,    1094,          1,         22,     SIH019,2,19951210,       1455,    -8.0000,    95.3370,       5195,   900.5,   6.1335,  34.7432,2,  34.7414,2,     69.6,2,    70.2,2,   87.44,2,   36.68,2,    0.00,2,    2.66,2,   0.007,2,   0.001,2,  2291.7,2,  2361.1,2,  -999.0,5,-999.000,1,-999.000,   1.8750,2,   12.47,2, -999.00,9,  -999.0,9,  -999.0,   7.899,2,   0.013,  9131.1,   6.0511,   0.0060,    0.17
 316N145_14,       I02E,    1094,          1,         21,     SIH025,3,19951210,       1455,    -8.0000,    95.3370,       5195,   999.2,   5.5640,  34.7222,2,  34.7207,2,     76.2,2,    76.1,2,   94.73,2,   36.74,2,    0.00,2,    2.66,2,-999.000,5,-999.000,5,  2298.5,2,  2370.1,2,  -999.0,5,-999.000,1,-999.000,-999.0000,1, -999.00,9, -999.00,9,  -999.0,9,  -999.0,-999.000,9,-999.000, 10118.9,   5.4761,-999.0000, -999.00
 316N145_14,       I02E,    1094,          1,         20,     SIH004,2,19951210,       1455,    -8.0000,    95.3370,       5195,  1100.6,   5.1229,  34.7154,2,  34.7170,2,     79.7,2,    81.2,2,   99.78,2,   36.75,2,    0.00,2,    2.66,2,   0.006,2,   0.001,2,  2302.3,2,  2374.4,2,  -999.0,5,-999.000,1,-999.000,   1.9000,2,   14.57,2, -999.00,9,  -999.0,9,  -999.0,   7.903,2,   0.013, 11133.1,   5.0290,   0.0060,    0.17
 316N145_14,       I02E,    1094,          1,         19,     SIH005,3,19951210,       1455,    -8.0000,    95.3370,       5195,  1200.1,   4.7708,  34.7297,2,  34.7274,2,     85.9,2,    84.9,2,  103.53,2,   36.76,2,    0.00,2,    2.67,2,-999.000,5,-999.000,5,  2306.0,2,  2383.8,2,  -999.0,5,-999.000,1,-999.000,-999.0000,1, -999.00,9, -999.00,9,  -999.0,9,  -999.0,-999.000,9,-999.000, 12129.8,   4.6707,-999.0000, -999.00
 316N145_14,       I02E,    1094,          1,         18,     SIH006,2,19951210,       1455,    -8.0000,    95.3370,       5195,  1294.7,   4.6184,  34.7654,2,  34.7644,2,     85.1,2,    86.1,2,  103.74,2,   36.87,2,    0.00,2,    2.68,2,   0.000,2,  -0.002,2,  2308.0,2,  2380.2,2,  -999.0,5,-999.000,1,-999.000,   1.9260,2,   13.37,2, -999.00,9,  -999.0,9,  -999.0,   8.036,2,   0.027, 13075.8,   4.5110,   0.0050,    0.15
 316N145_14,       I02E,    1094,          1,         17,     SIH038,2,19951210,       1455,    -8.0000,    95.3370,       5195,  1394.2,   4.2741,  34.7604,2,  34.7604,2,     93.8,2,    93.8,2,  106.92,2,   36.83,2,    0.00,2,    2.67,2,   0.001,2,  -0.001,2,  2308.0,2,  2384.8,2,  -999.0,5,-999.000,1,-999.000,-999.0000,1, -999.00,9, -999.00,9,  -999.0,9,  -999.0,-999.000,9,-999.000, 14071.9,   4.1610,-999.0000, -999.00
 316N145_14,       I02E,    1094,          1,         16,     SIH008,2,19951210,       1455,    -8.0000,    95.3370,       5195,  1596.3,   3.6815,  34.7646,2,  34.7648,2,    105.3,2,   107.1,2,  111.60,2,   36.35,2,    0.00,2,    2.62,2,-999.000,5,-999.000,5,  2308.4,2,  2387.1,2,  -999.0,5,-999.000,1,-999.000,   1.8260,4,   13.90,2, -999.00,9,  -999.0,9,  -999.0,   7.297,4,   0.012, 16093.3,   3.5568,   0.0060,    0.17
 316N145_14,       I02E,    1094,          1,         15,     SIH009,2,19951210,       1455,    -8.0000,    95.3370,       5195,  1798.7,   3.1517,  34.7616,2,  34.7624,2,    121.1,2,   120.3,2,  115.92,2,   35.93,2,    0.00,2,    2.58,2,  -0.003,2,  -0.003,2,  2307.6,2,  2394.4,2,  -999.0,5,-999.000,1,-999.000,   1.9280,2,   13.84,2, -999.00,9,  -999.0,9,  -999.0,   8.099,2,   0.027, 18118.8,   3.0157,   0.0080,    0.15
 316N145_14,       I02E,    1094,          1,         14,     SIH010,2,19951210,       1455,    -8.0000,    95.3370,       5195,  1989.3,   2.6810,  34.7470,2,  34.7469,2,    132.3,2,   132.9,2,  120.42,2,   35.45,2,    0.00,2,    2.53,2,-999.000,5,-999.000,5,  2305.5,2,  2397.2,2,  -999.0,5,-999.000,1,-999.000,   1.9350,2,   13.71,2, -999.00,9,  -999.0,9,  -999.0,   8.186,2,   0.014, 20024.8,   2.5348,   0.0060,    0.17
 316N145_14,       I02E,    1094,          1,         13,     SIH011,2,19951210,       1455,    -8.0000,    95.3370,       5195,  2247.0,   2.3248,  34.7467,2,  34.7461,2,    141.7,2,   143.2,2,  123.80,2,   34.98,2,    0.00,2,    2.48,2,-999.000,5,-999.000,5,  2305.4,2,  2401.4,2,  -999.0,5,-999.000,1,-999.000,   3.2670,4,   10.59,4, -999.00,9,  -999.0,9,  -999.0,  12.820,4,   0.043, 22602.5,   2.1613,   0.0060,    0.14
 316N145_14,       I02E,    1094,          1,         12,     SIH012,2,19951210,       1455,    -8.0000,    95.3370,       5195,  2499.7,   2.0503,  34.7402,2,  34.7396,2,    151.4,2,   151.8,2,  127.00,2,   34.61,2,    0.00,2,    2.43,2,   0.002,2,   0.000,2,  2303.1,2,  2405.1,2,  -999.0,5,-999.000,1,-999.000,   1.5930,4,   12.84,4, -999.00,9,  -999.0,9,  -999.0,   6.910,4,   0.023, 25131.9,   1.8688,   0.0030,    0.15
 316N145_14,       I02E,    1094,          1,         11,     SI9426,2,19951210,       1455,    -8.0000,    95.3370,       5195,  2741.9,   1.8719,  34.7339,2,  34.7333,2,    157.7,2,   158.1,2,  128.33,2,   34.30,2,    0.00,2,    2.40,2,-999.000,5,-999.000,5,  2303.1,2,  2407.1,2,  -999.0,5,-999.000,1,-999.000,   1.2230,4,   12.33,4, -999.00,9,  -999.0,9,  -999.0,   5.447,4,   0.018, 27554.8,   1.6713,   0.0020,    0.16
 316N145_14,       I02E,    1094,          1,         10,     SIH014,2,19951210,       1455,    -8.0000,    95.3370,       5195,  2988.6,   1.7176,  34.7301,2,  34.7296,2,    162.5,2,   161.6,2,  131.16,2,   34.25,2,    0.00,2,    2.40,2,-999.000,5,-999.000,5,  2303.5,2,  2408.9,2,  -999.0,5,-999.000,1,-999.000,   2.7260,4,   13.41,4, -999.00,9,  -999.0,9,  -999.0,  11.180,4,   0.038, 30022.4,   1.4968,   0.0090,    0.14
 316N145_14,       I02E,    1094,          1,          9,     SIH015,2,19951210,       1455,    -8.0000,    95.3370,       5195,  3257.1,   1.5729,  34.7242,2,  34.7243,2,    167.5,2,   168.9,2,  131.36,2,   33.93,2,    0.00,2,    2.38,2,-999.000,5,-999.000,5,  2300.6,2,  2410.0,2,  -999.0,5,-999.000,1,-999.000,-999.0000,1, -999.00,9, -999.00,9,  -999.0,9,  -999.0,-999.000,9,-999.000, 32708.5,   1.3292,-999.0000, -999.00
 316N145_14,       I02E,    1094,          1,          8,     SIH016,2,19951210,       1455,    -8.0000,    95.3370,       5195,  3500.0,   1.3905,  34.7198,2,  34.7201,2,    176.1,2,   177.6,2,  131.01,2,   33.56,2,    0.00,2,    2.35,2,   0.001,2,   0.000,2,  2293.4,2,  2403.8,2,  -999.0,5,-999.000,1,-999.000,   0.7020,4,   11.16,4, -999.00,9,  -999.0,9,  -999.0,   3.459,4,   0.012, 35139.0,   1.1269,   0.0010,    0.17
 316N145_14,       I02E,    1094,          1,          7,     SIH017,2,19951210,       1455,    -8.0000,    95.3370,       5195,  3749.3,   1.2517,  34.7159,2,  34.7158,2,    183.5,2,   184.8,2,  130.46,2,   33.14,2,    0.00,2,    2.31,2,-999.000,5,-999.000,5,  2289.1,2,  2399.2,2,  -999.0,5,-999.000,1,-999.000,-999.0000,1, -999.00,9, -999.00,9,  -999.0,9,  -999.0,-999.000,9,-999.000, 37632.3,   0.9661,-999.0000, -999.00
 316N145_14,       I02E,    1094,          1,          6,     SIH018,2,19951210,       1455,    -8.0000,    95.3370,       5195,  4005.4,   1.1782,  34.7137,2,  34.7142,2,    189.1,2,   190.3,2,  129.55,2,   32.99,2,    0.00,2,    2.28,2,-999.000,5,-999.000,5,  2285.2,2,  2398.9,2,  -999.0,5,-999.000,1,-999.000,   0.6950,4,    9.75,4, -999.00,9,  -999.0,9,  -999.0,   3.464,4,   0.012, 40194.3,   0.8676,   0.0010,    0.18
 316N145_14,       I02E,    1094,          1,          5,     SIH002,2,19951210,       1455,    -8.0000,    95.3370,       5195,  4258.3,   1.1433,  34.7128,2,  34.7127,2,    193.6,2,   194.4,2,  129.02,2,   32.88,2,    0.00,2,    2.28,2,-999.000,5,-999.000,5,  2280.6,2,  2401.3,2,  -999.0,5,-999.000,1,-999.000,-999.0000,1, -999.00,9, -999.00,9,  -999.0,9,  -999.0,-999.000,9,-999.000, 42725.3,   0.8063,-999.0000, -999.00
 316N145_14,       I02E,    1094,          1,          4,     SIH020,2,19951210,       1455,    -8.0000,    95.3370,       5195,  4489.0,   1.1473,  34.7131,2,  34.7129,2,    194.1,2,   195.4,2,  128.47,2,   32.79,2,    0.00,2,    2.27,2,   0.001,2,  -0.001,2,  2279.6,2,  2396.4,2,  -999.0,5,-999.000,1,-999.000,   0.3130,4,    7.80,4, -999.00,9,  -999.0,9,  -999.0,   1.755,4,   0.003, 45031.8,   0.7844,   0.0010,    0.23
 316N145_14,       I02E,    1094,          1,          3,     SIH021,2,19951210,       1455,    -8.0000,    95.3370,       5195,  4745.5,   1.1684,  34.7127,2,  34.7123,2,    196.1,2,   196.5,2,  127.93,2,   32.58,2,    0.00,2,    2.26,2,-999.000,5,-999.000,5,  2279.2,2,  2395.1,2,  -999.0,5,-999.000,1,-999.000,-999.0000,1, -999.00,9, -999.00,9,  -999.0,9,  -999.0,-999.000,9,-999.000, 47598.6,   0.7753,-999.0000, -999.00
 316N145_14,       I02E,    1094,          1,          2,     SIH022,2,19951210,       1455,    -8.0000,    95.3370,       5195,  4996.4,   1.1939,  34.7124,2,  34.7131,2,    196.4,2,   196.9,2,  127.39,2,   32.47,2,    0.00,2,    2.25,2,-999.000,5,-999.000,5,  2278.2,2,  2392.7,2,  -999.0,5,-999.000,1,-999.000,   2.3380,4,   11.16,4, -999.00,9,  -999.0,9,  -999.0,   9.798,4,   0.033, 50108.4,   0.7703,   0.0130,    0.15
 316N145_14,       I02E,    1094,          1,          1,     SIH023,2,19951210,       1455,    -8.0000,    95.3370,       5195,  5303.6,   1.2267,  34.7123,2,  34.7107,2,    195.8,2,   198.0,2,  126.82,6,   32.37,6,    0.00,6,    2.24,6,   0.002,2,   0.001,2,  2276.6,2,  2393.4,2,  -999.0,5,-999.000,1,-999.000,-999.0000,1, -999.00,9, -999.00,9,  -999.0,9,  -999.0,-999.000,9,-999.000, 53181.1,   0.7645,-999.0000, -999.00