BOTTLE,20220829CCHSIOAMB
EXPOCODE,SECT_ID,STNNBR,CASTNO,SAMPNO,BTLNBR,BTLNBR_FLAG_W,DATE,TIME,LATITUDE,LONGITUDE,DEPTH,CTDPRS,CTDTMP,CTDSAL,CTDSAL_FLAG_W,SALNTY,SALNTY_FLAG_W,CTDOXY,CTDOXY_FLAG_W,OXYGEN,OXYGEN_FLAG_W,SILCAT,SILCAT_FLAG_W,NITRAT,NITRAT_FLAG_W,NITRIT,NITRIT_FLAG_W,PHSPHT,PHSPHT_FLAG_W,CFC-11,CFC-11_FLAG_W,CFC-12,CFC-12_FLAG_W,TCARBN,TCARBN_FLAG_W,ALKALI,ALKALI_FLAG_W,PCO2,PCO2_FLAG_W,TRITUM,TRITUM_FLAG_W,TRITER,HELIUM,HELIUM_FLAG_W,DELHE3,DELHE3_FLAG_W,DELC13,DELC13_FLAG_W,DELC14,DELC14_FLAG_W,C14ERR,NEON,NEON_FLAG_W,NEONER,CTDRAW,THETA,HELIER,DELHER
,,,,,,,,,,,METERS,DBAR,ITS-90,PSS-78,,PSS-78,,UMOL/KG,,UMOL/KG,,UMOL/KG,,UMOL/KG,,UMOL/KG,,UMOL/KG,,PMOL/KG,,PMOL/KG,,UMOL/KG,,UMOL/KG,,UATM,,TU,,TU,NMOL/KG,,PERCNT,,/MILLE,,/MILLE,,/MILLE,NMOL/KG,,NMOL/KG,DBAR,DEG C,NMOL/KG,PERCNT
 316N145_14,       I02E,    1136,          1,         36,     SIH024,2,19951222,       1402,    -8.0000,    81.3333,       5198,    13.9,  28.2306,  34.2798,2,  34.2966,2,    211.3,2,   212.1,2,    2.52,2,    0.14,2,    0.00,2,    0.15,3,   1.614,2,   0.930,2,  1912.9,2,  2244.0,2,  -999.0,5,-999.000,1,-999.000,-999.0000,1, -999.00,9, -999.00,9,  -999.0,9,  -999.0,-999.000,9,-999.000,   276.5,  28.2273,-999.0000, -999.00
 316N145_14,       I02E,    1136,          1,         35,     SIH003,2,19951222,       1402,    -8.0000,    81.3333,       5198,    28.8,  26.8667,  34.6495,2,  34.7193,2,    193.2,2,   204.7,2,    3.56,2,    0.20,2,    0.01,2,    0.24,3,   1.619,2,   0.896,2,  1960.9,2,  2342.2,3,  -999.0,5,-999.000,1,-999.000,-999.0000,1, -999.00,9, -999.00,9,  -999.0,9,  -999.0,-999.000,9,-999.000,   422.1,  26.8601,-999.0000, -999.00
 316N145_14,       I02E,    1136,          1,         34,     SIH026,2,19951222,       1402,    -8.0000,    81.3333,       5198,    59.3,  21.6712,  35.1373,2,  34.7184,3,     77.2,2,    84.9,2,   11.65,2,   16.12,2,    0.26,2,    1.21,3,   1.348,2,   0.733,2,  2108.2,2,  2301.8,2,  -999.0,5,-999.000,1,-999.000,-999.0000,1, -999.00,9, -999.00,9,  -999.0,9,  -999.0,-999.000,9,-999.000,   724.5,  21.6596,-999.0000, -999.00
 316N145_14,       I02E,    1136,          1,         33,     SIH027,2,19951222,       1402,    -8.0000,    81.3333,       5198,    99.4,  18.5956,  35.0340,2,  35.0376,2,     52.7,2,    61.1,2,   17.67,2,   21.72,2,    0.19,2,    1.51,3,   1.176,2,   0.600,2,  -999.0,9,  -999.0,9,  -999.0,5,-999.000,1,-999.000,-999.0000,1, -999.00,9, -999.00,9,  -999.0,9,  -999.0,-999.000,9,-999.000,  1122.5,  18.5782,-999.0000, -999.00
 316N145_14,       I02E,    1136,          1,         32,     SIH028,2,19951222,       1402,    -8.0000,    81.3333,       5198,   149.3,  15.4865,  35.0077,2,  35.0091,2,     78.5,2,    75.8,2,   22.14,2,   22.41,2,    0.01,2,    1.57,3,   1.069,6,   0.554,6,  -999.0,9,  -999.0,9,  -999.0,5,-999.000,1,-999.000,-999.0000,1, -999.00,9, -999.00,9,  -999.0,9,  -999.0,-999.000,9,-999.000,  1619.5,  15.4634,-999.0000, -999.00
 316N145_14,       I02E,    1136,          1,         31,     SIH029,2,19951222,       1402,    -8.0000,    81.3333,       5198,   199.0,  12.9809,  34.9154,2,  34.9138,2,     63.0,2,    64.9,2,   27.82,2,   26.42,2,    0.00,2,    1.86,3,   0.647,2,   0.337,2,  -999.0,9,  -999.0,9,  -999.0,5,-999.000,1,-999.000,-999.0000,1, -999.00,9, -999.00,9,  -999.0,9,  -999.0,-999.000,9,-999.000,  2115.5,  12.9536,-999.0000, -999.00
 316N145_14,       I02E,    1136,          1,         30,     SIH030,2,19951222,       1402,    -8.0000,    81.3333,       5198,   248.4,  11.7978,  34.9191,2,  34.9229,2,     72.8,2,    79.2,2,   27.82,2,   26.36,2,    0.01,2,    1.85,3,   0.590,2,   0.297,2,  -999.0,9,  -999.0,9,  -999.0,5,-999.000,1,-999.000,-999.0000,1, -999.00,9, -999.00,9,  -999.0,9,  -999.0,-999.000,9,-999.000,  2609.3,  11.7657,-999.0000, -999.00
 316N145_14,       I02E,    1136,          1,         29,     SIH031,2,19951222,       1402,    -8.0000,    81.3333,       5198,   299.4,  10.9989,  34.9097,2,  34.9101,2,     97.7,2,    99.2,2,   25.24,2,   25.73,2,    0.00,2,    1.78,3,   0.652,2,   0.328,2,  -999.0,9,  -999.0,9,  -999.0,5,-999.000,1,-999.000,-999.0000,1, -999.00,9, -999.00,9,  -999.0,9,  -999.0,-999.000,9,-999.000,  3120.6,  10.9618,-999.0000, -999.00
 316N145_14,       I02E,    1136,          1,         28,     SIH032,3,19951222,       1402,    -8.0000,    81.3333,       5198,   348.7,  10.4147,  34.8771,2,  34.8753,2,    112.7,2,   110.6,2,   24.73,2,   25.79,2,    0.00,2,    1.78,3,-999.000,5,-999.000,5,  -999.0,9,  -999.0,9,  -999.0,5,-999.000,1,-999.000,-999.0000,1, -999.00,9, -999.00,9,  -999.0,9,  -999.0,-999.000,9,-999.000,  3613.0,  10.3729,-999.0000, -999.00
 316N145_14,       I02E,    1136,          1,         27,     SIH033,2,19951222,       1402,    -8.0000,    81.3333,       5198,   399.1,   9.9436,  34.8499,2,  34.8503,2,    100.1,2,   101.2,2,   28.34,2,   27.68,2,    0.00,2,    1.92,3,   0.434,2,   0.219,2,  -999.0,9,  -999.0,9,  -999.0,5,-999.000,1,-999.000,-999.0000,1, -999.00,9, -999.00,9,  -999.0,9,  -999.0,-999.000,9,-999.000,  4116.9,   9.8971,-999.0000, -999.00
 316N145_14,       I02E,    1136,          1,         26,     SIH037,2,19951222,       1402,    -8.0000,    81.3333,       5198,   499.5,   8.8582,  34.7878,2,  34.7891,2,     84.7,2,    89.1,2,   39.88,2,   30.84,2,    0.00,2,    2.16,3,   0.149,2,   0.081,2,  -999.0,9,  -999.0,9,  -999.0,5,-999.000,1,-999.000,-999.0000,1, -999.00,9, -999.00,9,  -999.0,9,  -999.0,-999.000,9,-999.000,  5120.7,   8.8036,-999.0000, -999.00
 316N145_14,       I02E,    1136,          1,         25,     SI9446,2,19951222,       1402,    -8.0000,    81.3333,       5198,   599.6,   7.9720,  34.7579,2,  34.7606,2,     74.0,2,    75.0,2,   55.02,2,   33.69,2,    0.00,2,    2.40,3,   0.046,2,   0.025,2,  -999.0,9,  -999.0,9,  -999.0,5,-999.000,1,-999.000,-999.0000,1, -999.00,9, -999.00,9,  -999.0,9,  -999.0,-999.000,9,-999.000,  6122.7,   7.9101,-999.0000, -999.00
 316N145_14,       I02E,    1136,          1,         24,     SIH036,2,19951222,       1402,    -8.0000,    81.3333,       5198,   699.8,   7.2740,  34.7488,2,  34.7498,2,     67.2,2,    69.5,2,   66.55,2,   35.07,2,    0.00,2,    2.54,3,   0.018,2,   0.010,2,  -999.0,9,  -999.0,9,  -999.0,5,-999.000,1,-999.000,-999.0000,1, -999.00,9, -999.00,9,  -999.0,9,  -999.0,-999.000,9,-999.000,  7124.8,   7.2049,-999.0000, -999.00
 316N145_14,       I02E,    1136,          1,         23,     SIH001,2,19951222,       1402,    -8.0000,    81.3333,       5198,   800.1,   6.6864,  34.7398,2,  34.7400,2,     70.1,2,    70.0,2,   76.01,2,   35.64,2,    0.00,2,    2.60,3,   0.010,2,   0.005,2,  -999.0,9,  -999.0,9,  -999.0,5,-999.000,1,-999.000,-999.0000,1, -999.00,9, -999.00,9,  -999.0,9,  -999.0,-999.000,9,-999.000,  8128.1,   6.6104,-999.0000, -999.00
 316N145_14,       I02E,    1136,          1,         22,     SIH019,2,19951222,       1402,    -8.0000,    81.3333,       5198,   900.1,   5.9288,  34.7155,2,  34.7162,2,     75.4,2,    75.0,2,   87.55,2,   36.16,2,    0.00,2,    2.64,3,   0.006,2,   0.004,2,  -999.0,9,  -999.0,9,  -999.0,5,-999.000,1,-999.000,-999.0000,1, -999.00,9, -999.00,9,  -999.0,9,  -999.0,-999.000,9,-999.000,  9128.2,   5.8478,-999.0000, -999.00
 316N145_14,       I02E,    1136,          1,         21,     SIH025,3,19951222,       1402,    -8.0000,    81.3333,       5198,  1000.5,   5.3026,  34.6988,2,  34.7011,2,     81.3,2,    80.5,2,   95.99,2,   36.40,2,    0.00,2,    2.66,3,-999.000,5,-999.000,5,  -999.0,9,  -999.0,9,  -999.0,5,-999.000,1,-999.000,-999.0000,1, -999.00,9, -999.00,9,  -999.0,9,  -999.0,-999.000,9,-999.000, 10132.4,   5.2167,-999.0000, -999.00
 316N145_14,       I02E,    1136,          1,         20,     SIH004,2,19951222,       1402,    -8.0000,    81.3333,       5198,  1101.1,   4.8331,  34.6990,2,  34.6997,2,     85.9,2,    86.0,2,  102.01,2,   36.41,2,    0.00,2,    2.67,3,   0.005,2,   0.000,2,  -999.0,9,  -999.0,9,  -999.0,5,-999.000,1,-999.000,-999.0000,1, -999.00,9, -999.00,9,  -999.0,9,  -999.0,-999.000,9,-999.000, 11139.6,   4.7416,-999.0000, -999.00
 316N145_14,       I02E,    1136,          1,         19,     SIH005,2,19951222,       1402,    -8.0000,    81.3333,       5198,  1200.9,   4.5041,  34.7106,2,  34.7115,2,     89.9,2,    90.4,2,  105.27,2,   36.47,2,    0.00,2,    2.67,3,   0.001,2,  -0.001,2,  -999.0,9,  -999.0,9,  -999.0,5,-999.000,1,-999.000,-999.0000,1, -999.00,9, -999.00,9,  -999.0,9,  -999.0,-999.000,9,-999.000, 12138.2,   4.4064,-999.0000, -999.00
 316N145_14,       I02E,    1136,          1,         18,     SIH006,2,19951222,       1402,    -8.0000,    81.3333,       5198,  1296.9,   4.1984,  34.7218,2,  34.7237,2,     94.3,2,    94.6,2,  107.49,2,   36.53,2,    0.00,2,    2.65,3,-999.000,5,-999.000,5,  -999.0,9,  -999.0,9,  -999.0,5,-999.000,1,-999.000,-999.0000,1, -999.00,9, -999.00,9,  -999.0,9,  -999.0,-999.000,9,-999.000, 13097.9,   4.0950,-999.0000, -999.00
 316N145_14,       I02E,    1136,          1,         17,     SIH038,2,19951222,       1402,    -8.0000,    81.3333,       5198,  1397.4,   3.8954,  34.7397,2,  34.7412,2,    101.8,2,   102.5,2,  108.53,2,   36.18,2,    0.00,2,    2.64,3,   0.002,2,   0.002,2,  -999.0,9,  -999.0,9,  -999.0,5,-999.000,1,-999.000,-999.0000,1, -999.00,9, -999.00,9,  -999.0,9,  -999.0,-999.000,9,-999.000, 14103.8,   3.7861,-999.0000, -999.00
 316N145_14,       I02E,    1136,          1,         16,     SIH008,2,19951222,       1402,    -8.0000,    81.3333,       5198,  1598.2,   3.3374,  34.7504,2,  34.7516,2,    115.4,2,   113.9,2,  114.20,2,   35.97,2,    0.00,2,    2.60,3,-999.000,5,-999.000,5,  -999.0,9,  -999.0,9,  -999.0,5,-999.000,1,-999.000,-999.0000,1, -999.00,9, -999.00,9,  -999.0,9,  -999.0,-999.000,9,-999.000, 16111.7,   3.2167,-999.0000, -999.00
 316N145_14,       I02E,    1136,          1,         15,     SIH009,2,19951222,       1402,    -8.0000,    81.3333,       5198,  1794.2,   2.8897,  34.7459,2,  34.7469,2,    127.3,2,   126.8,2,  117.58,2,   35.39,2,    0.00,2,    2.54,3,-999.000,5,-999.000,5,  -999.0,9,  -999.0,9,  -999.0,5,-999.000,1,-999.000,-999.0000,1, -999.00,9, -999.00,9,  -999.0,9,  -999.0,-999.000,9,-999.000, 18073.1,   2.7577,-999.0000, -999.00
 316N145_14,       I02E,    1136,          1,         14,     SIH010,2,19951222,       1402,    -8.0000,    81.3333,       5198,  1998.2,   2.5089,  34.7460,2,  34.7473,2,    139.6,2,   139.0,2,  120.08,2,   34.82,2,    0.00,2,    2.50,3,-999.000,5,-999.000,5,  -999.0,9,  -999.0,9,  -999.0,5,-999.000,1,-999.000,-999.0000,1, -999.00,9, -999.00,9,  -999.0,9,  -999.0,-999.000,9,-999.000, 20113.5,   2.3645,-999.0000, -999.00
 316N145_14,       I02E,    1136,          1,         13,     SIH011,2,19951222,       1402,    -8.0000,    81.3333,       5198,  2252.6,   2.1371,  34.7406,2,  34.7408,2,    150.7,2,   149.9,2,  124.18,2,   34.48,2,    0.00,2,    2.43,3,-999.000,5,-999.000,5,  -999.0,9,  -999.0,9,  -999.0,5,-999.000,1,-999.000,-999.0000,1, -999.00,9, -999.00,9,  -999.0,9,  -999.0,-999.000,9,-999.000, 22659.5,   1.9763,-999.0000, -999.00
 316N145_14,       I02E,    1136,          1,         12,     SIH012,2,19951222,       1402,    -8.0000,    81.3333,       5198,  2475.4,   1.9349,  34.7337,2,  34.7349,2,    157.3,2,   158.1,2,  124.86,2,   33.97,2,    0.00,2,    2.41,3,-999.000,5,-999.000,5,  -999.0,9,  -999.0,9,  -999.0,5,-999.000,1,-999.000,-999.0000,1, -999.00,9, -999.00,9,  -999.0,9,  -999.0,-999.000,9,-999.000, 24887.8,   1.7578,-999.0000, -999.00
 316N145_14,       I02E,    1136,          1,         11,     SI9426,2,19951222,       1402,    -8.0000,    81.3333,       5198,  2743.3,   1.7636,  34.7302,2,  34.7311,2,    161.6,2,   162.6,2,  127.78,2,   33.98,2,    0.00,2,    2.38,3,  -0.001,2,   0.000,2,  -999.0,9,  -999.0,9,  -999.0,5,-999.000,1,-999.000,-999.0000,1, -999.00,9, -999.00,9,  -999.0,9,  -999.0,-999.000,9,-999.000, 27567.5,   1.5651,-999.0000, -999.00
 316N145_14,       I02E,    1136,          1,         10,     SIH014,2,19951222,       1402,    -8.0000,    81.3333,       5198,  2997.1,   1.6518,  34.7278,2,  34.7284,2,    164.3,2,   164.9,2,  130.87,2,   33.87,2,    0.00,2,    2.38,3,-999.000,5,-999.000,5,  -999.0,9,  -999.0,9,  -999.0,5,-999.000,1,-999.000,-999.0000,1, -999.00,9, -999.00,9,  -999.0,9,  -999.0,-999.000,9,-999.000, 30107.1,   1.4317,-999.0000, -999.00
 316N145_14,       I02E,    1136,          1,          9,     SIH015,2,19951222,       1402,    -8.0000,    81.3333,       5198,  3246.1,   1.5389,  34.7242,2,  34.7290,4,    165.6,2,   166.9,2,  134.31,2,   34.10,2,    0.00,2,    2.38,3,-999.000,5,-999.000,5,  -999.0,9,  -999.0,9,  -999.0,5,-999.000,1,-999.000,-999.0000,1, -999.00,9, -999.00,9,  -999.0,9,  -999.0,-999.000,9,-999.000, 32598.5,   1.2971,-999.0000, -999.00
 316N145_14,       I02E,    1136,          1,          8,     SIH016,2,19951222,       1402,    -8.0000,    81.3333,       5198,  3500.0,   1.4481,  34.7211,2,  34.7252,4,    169.7,2,   170.5,2,  135.52,2,   33.82,2,    0.00,2,    2.38,3,-999.000,5,-999.000,5,  -999.0,9,  -999.0,9,  -999.0,5,-999.000,1,-999.000,-999.0000,1, -999.00,9, -999.00,9,  -999.0,9,  -999.0,-999.000,9,-999.000, 35138.9,   1.1830,-999.0000, -999.00
 316N145_14,       I02E,    1136,          1,          7,     SIH017,2,19951222,       1402,    -8.0000,    81.3333,       5198,  3754.5,   1.3965,  34.7188,2,  34.7233,4,    172.4,2,   174.0,2,  135.43,2,   33.77,2,    0.00,2,    2.35,3,-999.000,5,-999.000,5,  -999.0,9,  -999.0,9,  -999.0,5,-999.000,1,-999.000,-999.0000,1, -999.00,9, -999.00,9,  -999.0,9,  -999.0,-999.000,9,-999.000, 37685.2,   1.1064,-999.0000, -999.00
 316N145_14,       I02E,    1136,          1,          6,     SIH018,2,19951222,       1402,    -8.0000,    81.3333,       5198,  3995.6,   1.3578,  34.7175,2,  34.7199,4,    177.9,2,   178.7,2,  134.26,2,   33.49,2,    0.00,2,    2.34,3,-999.000,5,-999.000,5,  -999.0,9,  -999.0,9,  -999.0,5,-999.000,1,-999.000,-999.0000,1, -999.00,9, -999.00,9,  -999.0,9,  -999.0,-999.000,9,-999.000, 40096.8,   1.0432,-999.0000, -999.00
 316N145_14,       I02E,    1136,          1,          5,     SIH002,2,19951222,       1402,    -8.0000,    81.3333,       5198,  4243.3,   1.3498,  34.7166,2,  34.7182,4,    180.8,2,   180.4,2,  133.66,2,   33.49,2,    0.00,2,    2.32,3,-999.000,5,-999.000,5,  -999.0,9,  -999.0,9,  -999.0,5,-999.000,1,-999.000,-999.0000,1, -999.00,9, -999.00,9,  -999.0,9,  -999.0,-999.000,9,-999.000, 42575.1,   1.0082,-999.0000, -999.00
 316N145_14,       I02E,    1136,          1,          4,     SIH020,2,19951222,       1402,    -8.0000,    81.3333,       5198,  4494.7,   1.3508,  34.7155,2,  34.7172,2,    181.6,2,   182.2,2,  133.09,2,   33.32,2,    0.00,2,    2.33,3,   0.000,2,   0.000,2,  -999.0,9,  -999.0,9,  -999.0,5,-999.000,1,-999.000,-999.0000,1, -999.00,9, -999.00,9,  -999.0,9,  -999.0,-999.000,9,-999.000, 45089.1,   0.9809,-999.0000, -999.00
 316N145_14,       I02E,    1136,          1,          3,     SIH021,2,19951222,       1402,    -8.0000,    81.3333,       5198,  4750.3,   1.3698,  34.7158,2,  34.7174,2,    183.2,2,   182.9,2,  132.75,2,   33.32,2,    0.00,2,    2.31,3,-999.000,5,-999.000,5,  -999.0,9,  -999.0,9,  -999.0,5,-999.000,1,-999.000,-999.0000,1, -999.00,9, -999.00,9,  -999.0,9,  -999.0,-999.000,9,-999.000, 47647.4,   0.9696,-999.0000, -999.00
 316N145_14,       I02E,    1136,          1,          2,     SIH022,2,19951222,       1402,    -8.0000,    81.3333,       5198,  4999.8,   1.3920,  34.7151,2,  34.7172,2,    183.9,2,   183.9,2,  132.06,2,   33.27,2,    0.00,2,    2.32,3,-999.000,5,-999.000,5,  -999.0,9,  -999.0,9,  -999.0,5,-999.000,1,-999.000,-999.0000,1, -999.00,9, -999.00,9,  -999.0,9,  -999.0,-999.000,9,-999.000, 50142.5,   0.9612,-999.0000, -999.00
 316N145_14,       I02E,    1136,          1,          1,     SIH023,2,19951222,       1402,    -8.0000,    81.3333,       5198,  5314.0,   1.4245,  34.7150,2,  34.7172,2,    185.3,2,   184.8,2,  131.59,6,   33.27,6,    0.00,6,    2.32,3,   0.001,2,   0.002,2,  -999.0,9,  -999.0,9,  -999.0,5,-999.000,1,-999.000,-999.0000,1, -999.00,9, -999.00,9,  -999.0,9,  -999.0,-999.000,9,-999.000, 53285.8,   0.9539,-999.0000, -999.00