BOTTLE,20220829CCHSIOAMB
EXPOCODE,SECT_ID,STNNBR,CASTNO,SAMPNO,BTLNBR,BTLNBR_FLAG_W,DATE,TIME,LATITUDE,LONGITUDE,DEPTH,CTDPRS,CTDTMP,CTDSAL,CTDSAL_FLAG_W,SALNTY,SALNTY_FLAG_W,CTDOXY,CTDOXY_FLAG_W,OXYGEN,OXYGEN_FLAG_W,SILCAT,SILCAT_FLAG_W,NITRAT,NITRAT_FLAG_W,NITRIT,NITRIT_FLAG_W,PHSPHT,PHSPHT_FLAG_W,CFC-11,CFC-11_FLAG_W,CFC-12,CFC-12_FLAG_W,TCARBN,TCARBN_FLAG_W,ALKALI,ALKALI_FLAG_W,PCO2,PCO2_FLAG_W,TRITUM,TRITUM_FLAG_W,TRITER,HELIUM,HELIUM_FLAG_W,DELHE3,DELHE3_FLAG_W,DELC13,DELC13_FLAG_W,DELC14,DELC14_FLAG_W,C14ERR,NEON,NEON_FLAG_W,NEONER,CTDRAW,THETA,HELIER,DELHER
,,,,,,,,,,,METERS,DBAR,ITS-90,PSS-78,,PSS-78,,UMOL/KG,,UMOL/KG,,UMOL/KG,,UMOL/KG,,UMOL/KG,,UMOL/KG,,PMOL/KG,,PMOL/KG,,UMOL/KG,,UMOL/KG,,UATM,,TU,,TU,NMOL/KG,,PERCNT,,/MILLE,,/MILLE,,/MILLE,NMOL/KG,,NMOL/KG,DBAR,DEG C,NMOL/KG,PERCNT
 316N145_14,       I02E,    1100,          1,         36,     SIH024,2,19951212,       1119,    -8.0000,    91.3362,       4908,    11.5,  27.0615,  34.2946,2,  34.2950,2,    223.0,2,   212.4,2,    2.23,2,    0.06,2,    0.00,2,    0.11,2,   1.679,2,   0.972,2,  1929.4,2,  2248.7,2,  -999.0,5,-999.000,1,-999.000,-999.0000,1, -999.00,9,    1.30,2,    69.2,2,     4.3,-999.000,9,-999.000,   258.1,  27.0589,-999.0000, -999.00
 316N145_14,       I02E,    1100,          1,         35,     SIH003,2,19951212,       1119,    -8.0000,    91.3362,       4908,    28.4,  26.8539,  34.3126,2,-999.0000,9,    207.0,2,   211.6,2, -999.00,9, -999.00,9, -999.00,9, -999.00,9,-999.000,5,-999.000,5,  1930.1,2,  2252.1,2,  -999.0,5,-999.000,1,-999.000,-999.0000,1, -999.00,9, -999.00,9,  -999.0,9,  -999.0,-999.000,9,-999.000,   421.6,  26.8474,-999.0000, -999.00
 316N145_14,       I02E,    1100,          1,         34,     SIH026,2,19951212,       1119,    -8.0000,    91.3362,       4908,    58.5,  25.7343,  34.3585,2,  34.3651,2,    206.9,2,   202.9,2,    3.49,2,    1.12,2,    0.05,2,    0.21,2,   1.677,2,   0.976,2,  1950.4,2,  2253.1,2,  -999.0,5,-999.000,1,-999.000,-999.0000,1, -999.00,9,    1.15,2,    33.7,2,     3.2,-999.000,9,-999.000,   716.4,  25.7214,-999.0000, -999.00
 316N145_14,       I02E,    1100,          1,         33,     SIH027,2,19951212,       1119,    -8.0000,    91.3362,       4908,    98.9,  19.3750,  34.9323,2,  34.9325,2,     59.7,2,    66.3,2,   17.58,2,   20.76,2,    0.03,2,    1.46,2,   1.221,2,   0.656,2,  2136.3,2,  2291.1,2,  -999.0,5,-999.000,1,-999.000,-999.0000,1, -999.00,9, -999.00,9,  -999.0,9,  -999.0,-999.000,9,-999.000,  1116.3,  19.3572,-999.0000, -999.00
 316N145_14,       I02E,    1100,          1,         32,     SIH028,2,19951212,       1119,    -8.0000,    91.3362,       4908,   149.4,  14.3108,  34.7214,2,  34.6979,2,     70.4,2,    80.5,2,   31.50,2,   24.45,2,    0.00,2,    1.74,2,   0.884,6,   0.457,6,  2174.1,2,  2296.8,2,  -999.0,5,-999.000,1,-999.000,-999.0000,1, -999.00,9,    0.23,2,     5.3,2,     4.2,-999.000,9,-999.000,  1619.7,  14.2889,-999.0000, -999.00
 316N145_14,       I02E,    1100,          1,         31,     SIH029,2,19951212,       1119,    -8.0000,    91.3362,       4908,   199.6,  12.1243,  34.7283,2,  34.7211,2,     80.8,2,    74.5,2,   35.83,2,   27.16,2,    0.00,2,    1.92,2,   0.642,2,   0.320,2,  2198.3,2,  2304.6,2,  -999.0,5,-999.000,1,-999.000,-999.0000,1, -999.00,9, -999.00,9,  -999.0,9,  -999.0,-999.000,9,-999.000,  2121.7,  12.0981,-999.0000, -999.00
 316N145_14,       I02E,    1100,          1,         30,     SIH030,2,19951212,       1119,    -8.0000,    91.3362,       4908,   254.0,  11.2357,  34.8263,2,  34.8261,2,     65.4,2,    64.4,2,   34.37,2,   29.23,2,    0.00,2,    2.02,2,-999.000,5,-999.000,5,  2216.5,2,  2309.3,2,  -999.0,5,-999.000,1,-999.000,-999.0000,1, -999.00,9,    0.24,2,   -49.9,2,     2.5,-999.000,9,-999.000,  2665.3,  11.2039,-999.0000, -999.00
 316N145_14,       I02E,    1100,          1,         29,     SIH031,2,19951212,       1119,    -8.0000,    91.3362,       4908,   304.4,  10.6511,  34.8770,2,  34.8727,2,     67.9,2,    73.2,2,   30.75,2,   29.34,2,    0.00,2,    2.00,2,   0.312,2,   0.155,2,  2215.5,2,  2309.8,2,  -999.0,5,-999.000,1,-999.000,-999.0000,1, -999.00,9,    0.36,2,   -49.9,2,     3.2,-999.000,9,-999.000,  3169.9,  10.6142,-999.0000, -999.00
 316N145_14,       I02E,    1100,          1,         28,     SIH032,2,19951212,       1119,    -8.0000,    91.3362,       4908,   354.1,   9.9228,  34.8437,2,  34.8420,2,    104.6,2,    95.9,2,   29.49,2,   28.44,2,    0.00,2,    1.94,2,-999.000,5,-999.000,5,  2206.2,2,  2309.0,2,  -999.0,5,-999.000,1,-999.000,-999.0000,1, -999.00,9,    0.53,2,   -57.0,2,     2.5,-999.000,9,-999.000,  3667.2,   9.8817,-999.0000, -999.00
 316N145_14,       I02E,    1100,          1,         27,     SIH033,2,19951212,       1119,    -8.0000,    91.3362,       4908,   403.4,   9.4913,  34.8361,2,  34.8340,2,     83.5,2,    80.8,2,   34.72,2,   30.82,2,    0.00,2,    2.10,2,   0.171,2,   0.086,2,  2222.2,2,  2312.1,2,  -999.0,5,-999.000,1,-999.000,-999.0000,1, -999.00,9,    0.46,2,   -87.8,2,     2.6,-999.000,9,-999.000,  4160.3,   9.4456,-999.0000, -999.00
 316N145_14,       I02E,    1100,          1,         26,     SIH037,2,19951212,       1119,    -8.0000,    91.3362,       4908,   507.1,   8.6140,  34.8189,2,  34.8167,2,     64.8,2,    66.0,2,   48.27,2,   33.58,2,    0.00,2,    2.37,2,   0.046,2,   0.025,2,  2248.5,2,  2324.2,2,  -999.0,5,-999.000,1,-999.000,-999.0000,1, -999.00,9,    0.29,2,  -114.8,2,     2.4,-999.000,9,-999.000,  5197.8,   8.5595,-999.0000, -999.00
 316N145_14,       I02E,    1100,          1,         25,     SI9446,2,19951212,       1119,    -8.0000,    91.3362,       4908,   602.3,   7.8058,  34.7806,2,  34.7775,2,     66.0,2,    65.2,2,   59.83,2,   34.86,2,    0.00,2,    2.50,2,   0.020,2,   0.011,2,  2263.2,2,  2336.0,2,  -999.0,5,-999.000,1,-999.000,-999.0000,1, -999.00,9,    0.21,2,  -139.5,2,     2.3,-999.000,9,-999.000,  6148.9,   7.7443,-999.0000, -999.00
 316N145_14,       I02E,    1100,          1,         24,     SIH036,2,19951212,       1119,    -8.0000,    91.3362,       4908,   689.3,   7.0070,  34.7489,2,  34.7471,2,     65.3,2,    65.0,2,   72.66,2,   35.87,2,    0.00,2,    2.60,2,   0.012,2,   0.005,2,  2279.4,2,  2347.5,2,  -999.0,5,-999.000,1,-999.000,-999.0000,1, -999.00,9,    0.15,2,  -151.9,2,     2.3,-999.000,9,-999.000,  7018.9,   6.9404,-999.0000, -999.00
 316N145_14,       I02E,    1100,          1,         23,     SIH001,2,19951212,       1119,    -8.0000,    91.3362,       4908,   794.9,   6.2843,  34.7294,2,  34.7304,2,     68.1,2,    68.5,2,   83.31,2,   36.19,2,    0.00,2,    2.64,2,   0.008,2,   0.006,2,  2289.8,2,  2358.2,2,  -999.0,5,-999.000,1,-999.000,-999.0000,1, -999.00,9,    0.14,2,  -164.0,2,     4.0,-999.000,9,-999.000,  8074.8,   6.2112,-999.0000, -999.00
 316N145_14,       I02E,    1100,          1,         22,     SIH019,2,19951212,       1119,    -8.0000,    91.3362,       4908,   898.1,   5.6436,  34.7108,2,  34.7097,2,     75.3,2,    76.6,2,   91.97,2,   36.30,2,    0.00,2,    2.66,2,   0.007,2,   0.003,2,  2297.5,2,  2366.5,2,  -999.0,5,-999.000,1,-999.000,-999.0000,1, -999.00,9,    0.04,2,     0.0,4,     0.0,-999.000,9,-999.000,  9107.5,   5.5648,-999.0000, -999.00
 316N145_14,       I02E,    1100,          1,         21,     SIH025,2,19951212,       1119,    -8.0000,    91.3362,       4908,   998.9,   5.1594,  34.6972,2,  34.6960,2,     82.7,2,    81.5,2,   98.11,2,   36.47,2,    0.00,2,    2.67,2,   0.009,2,   0.005,2,  2301.5,2,  2373.5,2,  -999.0,5,-999.000,1,-999.000,-999.0000,1, -999.00,9,    0.05,2,  -177.0,2,     2.8,-999.000,9,-999.000, 10116.1,   5.0746,-999.0000, -999.00
 316N145_14,       I02E,    1100,          1,         20,     SIH004,2,19951212,       1119,    -8.0000,    91.3362,       4908,  1098.8,   4.9635,  34.7382,2,  34.7357,2,     82.8,2,    82.0,2,   99.73,2,   36.68,2,    0.00,2,    2.69,2,   0.007,2,   0.003,2,  2305.3,2,  2375.9,2,  -999.0,5,-999.000,1,-999.000,-999.0000,1, -999.00,9,    0.07,2,  -194.5,2,     2.2,-999.000,9,-999.000, 11115.9,   4.8711,-999.0000, -999.00
 316N145_14,       I02E,    1100,          1,         19,     SIH005,2,19951212,       1119,    -8.0000,    91.3362,       4908,  1194.9,   4.6042,  34.7396,2,  34.7386,2,     88.5,2,    87.6,2,  103.15,2,   36.52,2,    0.00,2,    2.66,2,   0.004,2,  -0.001,2,  2307.9,2,  2379.3,2,  -999.0,5,-999.000,1,-999.000,-999.0000,1, -999.00,9, -999.00,9,  -999.0,9,  -999.0,-999.000,9,-999.000, 12077.7,   4.5061,-999.0000, -999.00
 316N145_14,       I02E,    1100,          1,         18,     SIH006,2,19951212,       1119,    -8.0000,    91.3362,       4908,  1296.0,   4.2819,  34.7485,2,  34.7465,2,     94.7,2,    93.4,2,  105.50,2,   36.43,2,    0.00,2,    2.65,2,-999.000,5,-999.000,5,  2308.4,2,  2386.4,2,  -999.0,5,-999.000,1,-999.000,-999.0000,1, -999.00,9,    0.04,2,  -182.8,2,     4.9,-999.000,9,-999.000, 13088.9,   4.1777,-999.0000, -999.00
 316N145_14,       I02E,    1100,          1,         17,     SIH038,2,19951212,       1119,    -8.0000,    91.3362,       4908,  1396.7,   3.8695,  34.7477,2,  34.7476,2,    102.0,2,   101.4,2,  109.46,2,   36.22,2,    0.00,2,    2.63,2,-999.000,5,-999.000,5,  2310.3,2,  2387.8,2,  -999.0,5,-999.000,1,-999.000,-999.0000,1, -999.00,9,    0.08,2,  -174.4,2,     3.6,-999.000,9,-999.000, 14096.8,   3.7605,-999.0000, -999.00
 316N145_14,       I02E,    1100,          1,         16,     SIH008,2,19951212,       1119,    -8.0000,    91.3362,       4908,  1597.7,   3.3113,  34.7493,2,  34.7488,2,    114.9,2,   115.0,2,  113.97,2,   35.74,2,    0.00,2,    2.59,2,   0.006,2,   0.001,2,  2309.9,2,  2392.3,2,  -999.0,5,-999.000,1,-999.000,-999.0000,1, -999.00,9,    0.29,2,  -189.4,2,     2.7,-999.000,9,-999.000, 16107.2,   3.1910,-999.0000, -999.00
 316N145_14,       I02E,    1100,          1,         15,     SIH009,2,19951212,       1119,    -8.0000,    91.3362,       4908,  1798.8,   2.8205,  34.7481,2,  34.7486,2,    127.0,2,   127.7,2,  118.29,2,   35.32,2,    0.00,2,    2.53,2,-999.000,5,-999.000,5,  2308.9,2,  2396.8,2,  -999.0,5,-999.000,1,-999.000,-999.0000,1, -999.00,9,    0.20,2,  -193.6,2,     2.7,-999.000,9,-999.000, 18118.5,   2.6890,-999.0000, -999.00
 316N145_14,       I02E,    1100,          1,         14,     SIH010,2,19951212,       1119,    -8.0000,    91.3362,       4908,  1994.3,   2.4895,  34.7481,2,  34.7467,2,    139.0,2,   138.0,2,  121.17,2,   34.90,2,    0.00,2,    2.49,2,-999.000,5,-999.000,5,  2307.1,2,  2398.3,2,  -999.0,5,-999.000,1,-999.000,-999.0000,1, -999.00,9,    0.23,2,  -185.1,2,     2.6,-999.000,9,-999.000, 20075.0,   2.3458,-999.0000, -999.00
 316N145_14,       I02E,    1100,          1,         13,     SIH011,2,19951212,       1119,    -8.0000,    91.3362,       4908,  2197.0,   2.2061,  34.7448,2,  34.7447,2,    145.3,2,   146.0,2,  124.23,2,   34.53,2,    0.00,2,    2.46,2,   0.001,2,  -0.002,2,  2306.6,2,  2402.1,2,  -999.0,5,-999.000,1,-999.000,-999.0000,1, -999.00,9,    0.31,3,  -199.8,2,     2.7,-999.000,9,-999.000, 22101.9,   2.0490,-999.0000, -999.00
 316N145_14,       I02E,    1100,          1,         12,     SIH012,2,19951212,       1119,    -8.0000,    91.3362,       4908,  2401.0,   2.0159,  34.7389,2,  34.7380,2,    154.2,2,   153.3,2,  124.95,2,   34.17,2,    0.00,2,    2.42,2,-999.000,5,-999.000,5,  2304.2,2,  2404.9,2,  -999.0,5,-999.000,1,-999.000,-999.0000,1, -999.00,9,    0.25,2,  -178.3,2,     2.8,-999.000,9,-999.000, 24144.8,   1.8440,-999.0000, -999.00
 316N145_14,       I02E,    1100,          1,         11,     SI9426,2,19951212,       1119,    -8.0000,    91.3362,       4908,  2598.0,   1.8994,  34.7351,2,  34.7345,2,    157.3,2,   157.0,2,  126.57,2,   34.01,2,    0.00,2,    2.39,2,-999.000,5,-999.000,5,  2298.5,2,  2401.9,2,  -999.0,5,-999.000,1,-999.000,-999.0000,1, -999.00,9,    0.25,2,  -185.9,2,     4.2,-999.000,9,-999.000, 26114.3,   1.7117,-999.0000, -999.00
 316N145_14,       I02E,    1100,          1,         10,     SIH014,2,19951212,       1119,    -8.0000,    91.3362,       4908,  2795.2,   1.7580,  34.7315,2,  34.7311,2,    160.2,2,   161.4,2,  128.18,2,   34.01,2,    0.00,2,    2.38,2,-999.000,5,-999.000,5,  2303.9,2,  2407.6,2,  -999.0,5,-999.000,1,-999.000,-999.0000,1, -999.00,9,   -0.12,3,  -194.6,2,     3.2,-999.000,9,-999.000, 28088.1,   1.5548,-999.0000, -999.00
 316N145_14,       I02E,    1100,          1,          9,     SIH015,2,19951212,       1119,    -8.0000,    91.3362,       4908,  2994.9,   1.6710,  34.7281,2,  34.7280,2,    163.9,2,   164.3,2,  129.44,2,   34.01,2,    0.00,2,    2.38,2,  -0.001,2,  -0.001,2,  2302.7,2,  2407.3,2,  -999.0,5,-999.000,1,-999.000,-999.0000,1, -999.00,9,    0.29,2,     0.0,4,     0.0,-999.000,9,-999.000, 30085.9,   1.4507,-999.0000, -999.00
 316N145_14,       I02E,    1100,          1,          8,     SIH016,2,19951212,       1119,    -8.0000,    91.3362,       4908,  3250.8,   1.5107,  34.7232,2,  34.7239,2,    169.6,2,   170.5,2,  130.87,2,   33.76,2,    0.00,2,    2.37,2,-999.000,5,-999.000,5,  2303.1,2,  2408.4,2,  -999.0,5,-999.000,1,-999.000,-999.0000,1, -999.00,9,    0.28,2,  -189.7,2,     3.2,-999.000,9,-999.000, 32646.2,   1.2691,-999.0000, -999.00
 316N145_14,       I02E,    1100,          1,          7,     SIH017,2,19951212,       1119,    -8.0000,    91.3362,       4908,  3487.8,   1.3676,  34.7188,2,  34.7186,2,    176.9,2,   178.0,2,  130.33,2,   33.18,2,    0.00,2,    2.33,2,-999.000,5,-999.000,5,  2295.4,2,  2409.3,2,  -999.0,5,-999.000,1,-999.000,-999.0000,1, -999.00,9,   -0.33,3,  -200.2,2,     3.3,-999.000,9,-999.000, 35016.9,   1.1058,-999.0000, -999.00
 316N145_14,       I02E,    1100,          1,          6,     SIH018,2,19951212,       1119,    -8.0000,    91.3362,       4908,  3742.4,   1.2366,  34.7156,2,  34.7152,2,    185.4,2,   185.8,2,  129.59,2,   32.92,2,    0.00,2,    2.29,2,-999.000,5,-999.000,5,  2290.2,2,  2403.7,2,  -999.0,5,-999.000,1,-999.000,-999.0000,1, -999.00,9,    0.37,2,  -177.8,2,     4.7,-999.000,9,-999.000, 37563.9,   0.9521,-999.0000, -999.00
 316N145_14,       I02E,    1100,          1,          5,     SIH002,2,19951212,       1119,    -8.0000,    91.3362,       4908,  3994.6,   1.1487,  34.7139,2,  34.7140,2,    192.1,2,   192.6,2,  127.42,2,   32.65,2,    0.00,2,    2.27,2,   0.003,2,  -0.002,2,  2283.8,2,  2396.8,2,  -999.0,5,-999.000,1,-999.000,-999.0000,1, -999.00,9,    0.36,2,  -184.2,2,     4.8,-999.000,9,-999.000, 40086.6,   0.8401,-999.0000, -999.00
 316N145_14,       I02E,    1100,          1,          4,     SIH020,2,19951212,       1119,    -8.0000,    91.3362,       4908,  4245.1,   1.1245,  34.7115,2,  34.7129,2,    195.1,2,   196.5,2,  125.61,2,   32.28,2,    0.00,2,    2.24,2,-999.000,5,-999.000,5,  2278.4,2,  2394.7,2,  -999.0,5,-999.000,1,-999.000,-999.0000,1, -999.00,9,    0.35,2,  -197.5,2,     3.5,-999.000,9,-999.000, 42592.6,   0.7895,-999.0000, -999.00
 316N145_14,       I02E,    1100,          1,          3,     SIH021,2,19951212,       1119,    -8.0000,    91.3362,       4908,  4496.8,   1.1403,  34.7128,2,  34.7123,2,    198.0,2,   198.1,2,  125.23,2,   32.19,2,    0.00,2,    2.23,2,-999.000,5,-999.000,5,  2277.7,2,  -999.0,9,  -999.0,5,-999.000,1,-999.000,-999.0000,1, -999.00,9,    0.44,2,  -187.0,2,     3.6,-999.000,9,-999.000, 45110.3,   0.7767,-999.0000, -999.00
 316N145_14,       I02E,    1100,          1,          2,     SIH022,2,19951212,       1119,    -8.0000,    91.3362,       4908,  4752.1,   1.1671,  34.7121,2,  34.7125,2,    196.3,2,   198.0,2,  125.05,2,   32.23,2,    0.00,2,    2.22,2,-999.000,5,-999.000,5,  2276.8,2,  2390.1,2,  -999.0,5,-999.000,1,-999.000,-999.0000,1, -999.00,9,    0.39,2,  -186.8,2,     3.3,-999.000,9,-999.000, 47663.8,   0.7733,-999.0000, -999.00
 316N145_14,       I02E,    1100,          1,          1,     SIH023,2,19951212,       1119,    -8.0000,    91.3362,       4908,  4994.6,   1.1916,  34.7113,2,  34.7117,2,    197.6,2,   198.4,2,  125.42,6,   32.25,6,    0.00,6,    2.22,6,   0.003,2,  -0.001,2,  2278.7,2,  2391.7,2,  -999.0,5,-999.000,1,-999.000,-999.0000,1, -999.00,9,    0.38,2,  -176.0,2,     3.7,-999.000,9,-999.000, 50090.6,   0.7683,-999.0000, -999.00