BOTTLE,20220829CCHSIOAMB
EXPOCODE,SECT_ID,STNNBR,CASTNO,SAMPNO,BTLNBR,BTLNBR_FLAG_W,DATE,TIME,LATITUDE,LONGITUDE,DEPTH,CTDPRS,CTDTMP,CTDSAL,CTDSAL_FLAG_W,SALNTY,SALNTY_FLAG_W,CTDOXY,CTDOXY_FLAG_W,OXYGEN,OXYGEN_FLAG_W,SILCAT,SILCAT_FLAG_W,NITRAT,NITRAT_FLAG_W,NITRIT,NITRIT_FLAG_W,PHSPHT,PHSPHT_FLAG_W,CFC-11,CFC-11_FLAG_W,CFC-12,CFC-12_FLAG_W,TCARBN,TCARBN_FLAG_W,ALKALI,ALKALI_FLAG_W,PCO2,PCO2_FLAG_W,TRITUM,TRITUM_FLAG_W,TRITER,HELIUM,HELIUM_FLAG_W,DELHE3,DELHE3_FLAG_W,DELC13,DELC13_FLAG_W,DELC14,DELC14_FLAG_W,C14ERR,NEON,NEON_FLAG_W,NEONER,CTDRAW,THETA,HELIER,DELHER
,,,,,,,,,,,METERS,DBAR,ITS-90,PSS-78,,PSS-78,,UMOL/KG,,UMOL/KG,,UMOL/KG,,UMOL/KG,,UMOL/KG,,UMOL/KG,,PMOL/KG,,PMOL/KG,,UMOL/KG,,UMOL/KG,,UATM,,TU,,TU,NMOL/KG,,PERCNT,,/MILLE,,/MILLE,,/MILLE,NMOL/KG,,NMOL/KG,DBAR,DEG C,NMOL/KG,PERCNT
 316N145_14,       I02E,    1080,          1,         36,     SIH024,2,19951205,       1955,    -9.1250,   104.6667,       5155,    11.2,  27.9461,  33.5722,2,  33.5788,2,    212.5,2,   210.4,2,    3.72,2,    0.18,2,    0.00,2,    0.06,2,   1.617,2,   0.961,2,  1865.0,2,  2197.7,2,  -999.0,5,-999.000,1,-999.000,-999.0000,1, -999.00,9, -999.00,9,  -999.0,9,  -999.0,-999.000,9,-999.000,   260.3,  27.9435,-999.0000, -999.00
 316N145_14,       I02E,    1080,          1,         35,     SIH003,2,19951205,       1955,    -9.1250,   104.6667,       5155,    35.2,  27.8053,  34.1102,2,  34.1132,2,    202.0,2,   218.9,2,    4.08,2,    0.18,2,    0.00,2,    0.09,2,-999.000,5,-999.000,5,  1905.5,2,  2241.1,2,  -999.0,5,-999.000,1,-999.000,-999.0000,1, -999.00,9, -999.00,9,  -999.0,9,  -999.0,-999.000,9,-999.000,   496.3,  27.7971,-999.0000, -999.00
 316N145_14,       I02E,    1080,          1,         34,     SIH026,2,19951205,       1955,    -9.1250,   104.6667,       5155,    66.5,  26.3589,  34.3719,2,-999.0000,9,    217.5,2,   210.7,2,    4.25,2,    0.18,2,    0.01,2,    0.13,2,   1.733,2,   1.013,2,  1937.0,2,  2257.0,2,  -999.0,5,-999.000,1,-999.000,-999.0000,1, -999.00,9, -999.00,9,  -999.0,9,  -999.0,-999.000,9,-999.000,   803.7,  26.3439,-999.0000, -999.00
 316N145_14,       I02E,    1080,          1,         33,     SIH027,2,19951205,       1955,    -9.1250,   104.6667,       5155,   105.3,  21.3532,  34.5887,2,  34.5936,2,    107.5,2,   113.9,2,   16.29,2,   14.06,2,    0.04,2,    1.02,2,   1.463,2,   0.837,2,  -999.0,9,  2281.6,2,  -999.0,5,-999.000,1,-999.000,-999.0000,1, -999.00,9, -999.00,9,  -999.0,9,  -999.0,-999.000,9,-999.000,  1184.0,  21.3328,-999.0000, -999.00
 316N145_14,       I02E,    1080,          1,         32,     SIH028,2,19951205,       1955,    -9.1250,   104.6667,       5155,   154.8,  16.0309,  34.6378,2,  34.6295,2,    101.5,2,    99.3,2,   28.17,2,   20.57,2,    0.01,2,    1.46,2,   1.146,2,   0.609,2,  2066.2,2,  2291.9,2,  -999.0,5,-999.000,1,-999.000,-999.0000,1, -999.00,9, -999.00,9,  -999.0,9,  -999.0,-999.000,9,-999.000,  1674.6,  16.0064,-999.0000, -999.00
 316N145_14,       I02E,    1080,          1,         31,     SIH029,2,19951205,       1955,    -9.1250,   104.6667,       5155,   204.6,  13.4814,  34.6355,2,  34.6350,2,     92.7,2,    90.8,2,   34.91,2,   24.17,2,    0.01,2,    1.71,2,   0.915,2,   0.484,2,  2166.1,2,  2301.6,2,  -999.0,5,-999.000,1,-999.000,-999.0000,1, -999.00,9, -999.00,9,  -999.0,9,  -999.0,-999.000,9,-999.000,  2171.6,  13.4526,-999.0000, -999.00
 316N145_14,       I02E,    1080,          1,         30,     SIH030,2,19951205,       1955,    -9.1250,   104.6667,       5155,   255.5,  11.8691,  34.6784,2,  34.6881,2,     79.0,2,    78.7,2,   38.64,2,   27.48,2,    0.01,2,    1.93,2,-999.000,5,-999.000,5,  2195.4,2,  2307.0,2,  -999.0,5,-999.000,1,-999.000,-999.0000,1, -999.00,9, -999.00,9,  -999.0,9,  -999.0,-999.000,9,-999.000,  2680.2,  11.8360,-999.0000, -999.00
 316N145_14,       I02E,    1080,          1,         29,     SIH031,2,19951205,       1955,    -9.1250,   104.6667,       5155,   306.0,  10.3551,  34.6420,2,  34.6399,2,     82.6,2,    83.7,2,   44.85,2,   28.95,2,    0.01,2,    2.03,2,   0.540,2,   0.270,2,  2208.8,2,  2315.3,2,  -999.0,5,-999.000,1,-999.000,-999.0000,1, -999.00,9, -999.00,9,  -999.0,9,  -999.0,-999.000,9,-999.000,  3185.3,  10.3188,-999.0000, -999.00
 316N145_14,       I02E,    1080,          1,         28,     SIH032,2,19951205,       1955,    -9.1250,   104.6667,       5155,   351.5,   9.8989,  34.7045,2,  34.7062,2,     77.5,2,    78.2,2,   43.79,2,   30.17,2,    0.01,2,    2.09,2,   0.390,2,   0.214,2,  2218.2,2,  2314.5,2,  -999.0,5,-999.000,1,-999.000,-999.0000,1, -999.00,9, -999.00,9,  -999.0,9,  -999.0,-999.000,9,-999.000,  3640.6,   9.8582,-999.0000, -999.00
 316N145_14,       I02E,    1080,          1,         27,     SIH033,2,19951205,       1955,    -9.1250,   104.6667,       5155,   400.7,   9.4045,  34.7209,2,  34.7197,2,     78.9,2,    79.5,2,   45.21,2,   30.98,2,    0.01,2,    2.15,2,   0.296,2,   0.153,2,  2224.4,2,  2320.6,2,  -999.0,5,-999.000,1,-999.000,-999.0000,1, -999.00,9, -999.00,9,  -999.0,9,  -999.0,-999.000,9,-999.000,  4133.0,   9.3595,-999.0000, -999.00
 316N145_14,       I02E,    1080,          1,         26,     SIH037,2,19951205,       1955,    -9.1250,   104.6667,       5155,   500.4,   8.8136,  34.7873,2,  34.7880,2,     71.9,2,    75.8,2,   45.21,2,   32.60,2,    0.01,2,    2.26,2,   0.092,2,   0.061,2,  2233.8,2,  2320.6,2,  -999.0,5,-999.000,1,-999.000,-999.0000,1, -999.00,9, -999.00,9,  -999.0,9,  -999.0,-999.000,9,-999.000,  5130.7,   8.7591,-999.0000, -999.00
 316N145_14,       I02E,    1080,          1,         25,     SI9446,2,19951205,       1955,    -9.1250,   104.6667,       5155,   595.7,   8.0150,  34.7607,2,  34.7585,2,     69.9,2,    68.2,2,   58.70,2,   34.54,2,    0.01,2,    2.45,2,   0.035,2,   0.015,4,  2254.5,2,  2336.6,2,  -999.0,5,-999.000,1,-999.000,-999.0000,1, -999.00,9, -999.00,9,  -999.0,9,  -999.0,-999.000,9,-999.000,  6082.7,   7.9533,-999.0000, -999.00
 316N145_14,       I02E,    1080,          1,         24,     SIH036,2,19951205,       1955,    -9.1250,   104.6667,       5155,   697.7,   7.2693,  34.7394,2,  34.7372,2,     65.7,2,    66.7,2,   70.77,2,   35.56,2,    0.01,2,    2.55,2,   0.029,2,   0.015,2,  2270.4,2,  2350.9,2,  -999.0,5,-999.000,1,-999.000,-999.0000,1, -999.00,9, -999.00,9,  -999.0,9,  -999.0,-999.000,9,-999.000,  7103.7,   7.2004,-999.0000, -999.00
 316N145_14,       I02E,    1080,          1,         23,     SIH001,2,19951205,       1955,    -9.1250,   104.6667,       5155,   797.5,   6.4983,  34.6941,2,  34.6928,2,     73.7,2,    73.0,2,   81.25,2,   35.91,2,    0.01,2,    2.59,2,   0.025,2,   0.012,2,  2280.7,2,  2357.0,2,  -999.0,5,-999.000,1,-999.000,-999.0000,1, -999.00,9, -999.00,9,  -999.0,9,  -999.0,-999.000,9,-999.000,  8101.3,   6.4238,-999.0000, -999.00
 316N145_14,       I02E,    1080,          1,         22,     SIH019,2,19951205,       1955,    -9.1250,   104.6667,       5155,   898.3,   5.8667,  34.6623,2,  34.6610,2,     81.1,2,    80.2,2,   89.79,2,   35.97,2,    0.01,2,    2.59,2,-999.000,5,-999.000,5,  2287.3,2,  -999.0,9,  -999.0,5,-999.000,1,-999.000,-999.0000,1, -999.00,9, -999.00,9,  -999.0,9,  -999.0,-999.000,9,-999.000,  9110.5,   5.7864,-999.0000, -999.00
 316N145_14,       I02E,    1080,          1,         21,     SIH025,2,19951205,       1955,    -9.1250,   104.6667,       5155,   998.2,   5.2897,  34.6502,2,  34.6500,2,     86.5,2,    85.9,2,   97.61,2,   36.17,2,    0.01,2,    2.61,2,   0.025,2,   0.012,2,  2294.9,2,  2377.8,2,  -999.0,5,-999.000,1,-999.000,-999.0000,1, -999.00,9, -999.00,9,  -999.0,9,  -999.0,-999.000,9,-999.000, 10109.0,   5.2042,-999.0000, -999.00
 316N145_14,       I02E,    1080,          1,         20,     SIH004,2,19951205,       1955,    -9.1250,   104.6667,       5155,  1098.5,   4.8839,  34.6570,2,  34.6570,2,     90.2,2,    89.0,2,  102.94,2,   36.37,2,    0.01,2,    2.63,2,   0.019,2,   0.009,2,  2300.3,2,  2376.5,2,  -999.0,5,-999.000,1,-999.000,-999.0000,1, -999.00,9, -999.00,9,  -999.0,9,  -999.0,-999.000,9,-999.000, 11113.2,   4.7923,-999.0000, -999.00
 316N145_14,       I02E,    1080,          1,         19,     SIH005,2,19951205,       1955,    -9.1250,   104.6667,       5155,  1189.6,   4.5430,  34.6569,2,  34.6574,2,     94.8,2,    92.6,2,  107.04,2,   36.47,2,    0.01,2,    2.64,2,-999.000,5,-999.000,5,  2304.1,2,  2397.7,3,  -999.0,5,-999.000,1,-999.000,-999.0000,1, -999.00,9, -999.00,9,  -999.0,9,  -999.0,-999.000,9,-999.000, 12024.2,   4.4461,-999.0000, -999.00
 316N145_14,       I02E,    1080,          1,         18,     SIH006,2,19951205,       1955,    -9.1250,   104.6667,       5155,  1289.1,   4.2604,  34.6804,2,  34.6806,2,     96.7,2,    96.2,2,  109.54,2,   36.53,2,    0.01,2,    2.64,2,   0.006,2,  -0.002,2,  2307.6,2,  2384.1,2,  -999.0,5,-999.000,1,-999.000,-999.0000,1, -999.00,9, -999.00,9,  -999.0,9,  -999.0,-999.000,9,-999.000, 13019.5,   4.1571,-999.0000, -999.00
 316N145_14,       I02E,    1080,          1,         17,     SIH038,2,19951205,       1955,    -9.1250,   104.6667,       5155,  1390.3,   3.9137,  34.6883,2,  34.6893,2,    103.5,2,   102.4,2,  112.75,2,   36.42,2,    0.00,2,    2.63,2,   0.004,2,  -0.004,2,  2307.6,2,  2399.2,3,  -999.0,5,-999.000,1,-999.000,-999.0000,1, -999.00,9, -999.00,9,  -999.0,9,  -999.0,-999.000,9,-999.000, 14032.7,   3.8049,-999.0000, -999.00
 316N145_14,       I02E,    1080,          1,         16,     SIH008,2,19951205,       1955,    -9.1250,   104.6667,       5155,  1593.2,   3.3605,  34.7248,2,  34.7245,2,    116.4,2,   114.3,2,  115.61,2,   36.11,2,    0.01,2,    2.59,2,   0.001,6,  -0.002,6,  2308.2,2,  2391.5,2,  -999.0,5,-999.000,1,-999.000,-999.0000,1, -999.00,9, -999.00,9,  -999.0,9,  -999.0,-999.000,9,-999.000, 16062.9,   3.2401,-999.0000, -999.00
 316N145_14,       I02E,    1080,          1,         15,     SIH009,2,19951205,       1955,    -9.1250,   104.6667,       5155,  1795.8,   2.9636,  34.7427,2,  34.7423,2,    124.9,2,   123.8,2,  118.82,2,   35.70,2,    0.01,2,    2.55,2,  -0.001,2,  -0.003,2,  2306.7,2,  2400.7,2,  -999.0,5,-999.000,1,-999.000,-999.0000,1, -999.00,9, -999.00,9,  -999.0,9,  -999.0,-999.000,9,-999.000, 18089.1,   2.8304,-999.0000, -999.00
 316N145_14,       I02E,    1080,          1,         14,     SIH010,2,19951205,       1955,    -9.1250,   104.6667,       5155,  1997.2,   2.6537,  34.7462,2,  34.7461,2,    133.1,2,   132.1,2,  122.21,2,   35.40,2,    0.01,2,    2.52,2,-999.000,5,-999.000,5,  2307.4,2,  2400.4,2,  -999.0,5,-999.000,1,-999.000,-999.0000,1, -999.00,9, -999.00,9,  -999.0,9,  -999.0,-999.000,9,-999.000, 20104.0,   2.5072,-999.0000, -999.00
 316N145_14,       I02E,    1080,          1,         13,     SIH011,2,19951205,       1955,    -9.1250,   104.6667,       5155,  2248.0,   2.2727,  34.7399,2,  34.7404,2,    144.4,2,   143.2,2,  125.95,2,   34.99,2,    0.01,2,    2.48,2,-999.000,5,-999.000,5,  2305.8,2,  2419.8,3,  -999.0,5,-999.000,1,-999.000,-999.0000,1, -999.00,9, -999.00,9,  -999.0,9,  -999.0,-999.000,9,-999.000, 22612.9,   2.1100,-999.0000, -999.00
 316N145_14,       I02E,    1080,          1,         12,     SIH012,2,19951205,       1955,    -9.1250,   104.6667,       5155,  2502.6,   2.0287,  34.7360,2,  34.7360,2,    152.1,2,   151.7,2,  127.58,2,   34.64,2,    0.00,2,    2.44,2,-999.000,5,-999.000,5,  2303.8,2,  2404.0,2,  -999.0,5,-999.000,1,-999.000,-999.0000,1, -999.00,9, -999.00,9,  -999.0,9,  -999.0,-999.000,9,-999.000, 25160.9,   1.8473,-999.0000, -999.00
 316N145_14,       I02E,    1080,          1,         11,     SI9425,2,19951205,       1955,    -9.1250,   104.6667,       5155,  2751.3,   1.8452,  34.7312,2,  34.7305,2,    161.0,2,   160.2,2,  127.60,2,   34.28,2,    0.00,2,    2.38,2,-999.000,5,-999.000,5,  2299.8,2,  2431.3,3,  -999.0,5,-999.000,1,-999.000,-999.0000,1, -999.00,9, -999.00,9,  -999.0,9,  -999.0,-999.000,9,-999.000, 27648.8,   1.6443,-999.0000, -999.00
 316N145_14,       I02E,    1080,          1,         10,     SIH014,2,19951205,       1955,    -9.1250,   104.6667,       5155,  3001.3,   1.7081,  34.7263,2,  34.7270,2,    165.4,2,   165.2,2,  129.03,2,   34.07,2,    0.00,2,    2.38,2,  -0.002,2,  -0.003,2,  2298.5,2,  2404.5,2,  -999.0,5,-999.000,1,-999.000,-999.0000,1, -999.00,9, -999.00,9,  -999.0,9,  -999.0,-999.000,9,-999.000, 30150.5,   1.4863,-999.0000, -999.00
 316N145_14,       I02E,    1080,          1,          9,     SIH015,2,19951205,       1955,    -9.1250,   104.6667,       5155,  3250.1,   1.5396,  34.7214,2,  34.7217,2,    169.5,2,   171.6,2,  130.66,2,   33.88,2,    0.00,2,    2.36,2,-999.000,5,-999.000,5,  2296.2,2,  2406.5,2,  -999.0,5,-999.000,1,-999.000,-999.0000,1, -999.00,9, -999.00,9,  -999.0,9,  -999.0,-999.000,9,-999.000, 32638.2,   1.2974,-999.0000, -999.00
 316N145_14,       I02E,    1080,          1,          8,     SIH016,2,19951205,       1955,    -9.1250,   104.6667,       5155,  3499.2,   1.3703,  34.7173,2,  34.7191,2,    178.0,2,   178.9,2,  131.38,2,   33.56,2,    0.00,2,    2.33,2,-999.000,5,-999.000,5,  2293.0,2,  2402.6,2,  -999.0,5,-999.000,1,-999.000,-999.0000,1, -999.00,9, -999.00,9,  -999.0,9,  -999.0,-999.000,9,-999.000, 35130.5,   1.1073,-999.0000, -999.00
 316N145_14,       I02E,    1080,          1,          7,     SIH017,2,19951205,       1955,    -9.1250,   104.6667,       5155,  3749.8,   1.2368,  34.7146,2,  34.7140,2,    184.4,2,   185.4,2,  131.23,2,   33.26,2,    0.00,2,    2.30,2,-999.000,5,-999.000,5,  2288.4,2,  2403.9,2,  -999.0,5,-999.000,1,-999.000,-999.0000,1, -999.00,9, -999.00,9,  -999.0,9,  -999.0,-999.000,9,-999.000, 37637.5,   0.9516,-999.0000, -999.00
 316N145_14,       I02E,    1080,          1,          6,     SIH018,2,19951205,       1955,    -9.1250,   104.6667,       5155,  3999.3,   1.1860,  34.7118,2,  34.7136,2,    187.6,2,   189.7,2,  130.53,2,   33.06,2,    0.00,2,    2.28,2,   0.001,2,   0.005,3,  2285.5,2,  2399.4,2,  -999.0,5,-999.000,1,-999.000,-999.0000,1, -999.00,9, -999.00,9,  -999.0,9,  -999.0,-999.000,9,-999.000, 40134.1,   0.8759,-999.0000, -999.00
 316N145_14,       I02E,    1080,          1,          5,     SIH002,2,19951205,       1955,    -9.1250,   104.6667,       5155,  4238.3,   1.1603,  34.7114,2,  34.7121,2,    192.0,2,   192.3,2,  129.66,2,   33.01,2,    0.00,2,    2.27,2,-999.000,5,-999.000,5,  2282.9,2,  2401.9,2,  -999.0,5,-999.000,1,-999.000,-999.0000,1, -999.00,9, -999.00,9,  -999.0,9,  -999.0,-999.000,9,-999.000, 42525.3,   0.8250,-999.0000, -999.00
 316N145_14,       I02E,    1080,          1,          4,     SIH020,2,19951205,       1955,    -9.1250,   104.6667,       5155,  4488.5,   1.1610,  34.7112,2,  34.7119,2,    193.6,2,   193.9,2,  129.33,2,   32.80,2,    0.00,2,    2.26,2,-999.000,5,-999.000,5,  2280.8,2,  2397.3,2,  -999.0,5,-999.000,1,-999.000,-999.0000,1, -999.00,9, -999.00,9,  -999.0,9,  -999.0,-999.000,9,-999.000, 45028.3,   0.7977,-999.0000, -999.00
 316N145_14,       I02E,    1080,          1,          3,     SIH021,2,19951205,       1955,    -9.1250,   104.6667,       5155,  4832.7,   1.1801,  34.7107,2,  34.7105,2,    194.0,2,   195.5,2,  128.99,2,   32.75,2,    0.00,2,    2.26,2,-999.000,5,-999.000,5,  2279.5,2,  2401.5,2,  -999.0,5,-999.000,1,-999.000,-999.0000,1, -999.00,9, -999.00,9,  -999.0,9,  -999.0,-999.000,9,-999.000, 48471.2,   0.7764,-999.0000, -999.00
 316N145_14,       I02E,    1080,          1,          2,     SIH022,2,19951205,       1955,    -9.1250,   104.6667,       5155,  5092.4,   1.2022,  34.7103,2,  34.7125,3,    194.7,2,   196.0,2,  129.01,2,   32.75,2,    0.00,2,    2.25,2,  -0.001,2,  -0.005,2,  2279.0,2,  2401.9,2,  -999.0,5,-999.000,1,-999.000,-999.0000,1, -999.00,9, -999.00,9,  -999.0,9,  -999.0,-999.000,9,-999.000, 51069.0,   0.7668,-999.0000, -999.00
 316N145_14,       I02E,    1080,          1,          1,     SIH023,2,19951205,       1955,    -9.1250,   104.6667,       5155,  5394.1,   1.2337,  34.7102,2,  34.7103,2,    195.4,2,   196.0,2,  129.21,6,   32.65,6,    0.01,6,    2.24,6,   0.000,2,  -0.005,2,  2278.8,2,  2410.4,3,  -999.0,5,-999.000,1,-999.000,-999.0000,1, -999.00,9, -999.00,9,  -999.0,9,  -999.0,-999.000,9,-999.000, 54090.2,   0.7600,-999.0000, -999.00