BOTTLE,20220829CCHSIOAMB
EXPOCODE,SECT_ID,STNNBR,CASTNO,SAMPNO,BTLNBR,BTLNBR_FLAG_W,DATE,TIME,LATITUDE,LONGITUDE,DEPTH,CTDPRS,CTDTMP,CTDSAL,CTDSAL_FLAG_W,SALNTY,SALNTY_FLAG_W,CTDOXY,CTDOXY_FLAG_W,OXYGEN,OXYGEN_FLAG_W,SILCAT,SILCAT_FLAG_W,NITRAT,NITRAT_FLAG_W,NITRIT,NITRIT_FLAG_W,PHSPHT,PHSPHT_FLAG_W,CFC-11,CFC-11_FLAG_W,CFC-12,CFC-12_FLAG_W,TCARBN,TCARBN_FLAG_W,ALKALI,ALKALI_FLAG_W,PCO2,PCO2_FLAG_W,TRITUM,TRITUM_FLAG_W,TRITER,HELIUM,HELIUM_FLAG_W,DELHE3,DELHE3_FLAG_W,DELC13,DELC13_FLAG_W,DELC14,DELC14_FLAG_W,C14ERR,NEON,NEON_FLAG_W,NEONER,CTDRAW,THETA,HELIER,DELHER
,,,,,,,,,,,METERS,DBAR,ITS-90,PSS-78,,PSS-78,,UMOL/KG,,UMOL/KG,,UMOL/KG,,UMOL/KG,,UMOL/KG,,UMOL/KG,,PMOL/KG,,PMOL/KG,,UMOL/KG,,UMOL/KG,,UATM,,TU,,TU,NMOL/KG,,PERCNT,,/MILLE,,/MILLE,,/MILLE,NMOL/KG,,NMOL/KG,DBAR,DEG C,NMOL/KG,PERCNT
 316N145_14,       I02E,    1133,          1,         36,     SIH024,2,19951221,       1649,    -8.0028,    83.3278,       5056,    12.7,  28.5861,  33.9080,2,  33.9148,2,    212.2,2,   208.3,2,    2.06,2,    0.19,2,    0.00,2,    0.06,2,   1.628,2,   0.939,2,  1904.8,2,  2216.9,2,  -999.0,5,-999.000,1,-999.000,-999.0000,1, -999.00,9, -999.00,9,  -999.0,9,  -999.0,-999.000,9,-999.000,   270.1,  28.5831,-999.0000, -999.00
 316N145_14,       I02E,    1133,          1,         35,     SIH003,2,19951221,       1649,    -8.0028,    83.3278,       5056,    38.2,  26.1284,  34.5201,2,  34.4787,2,    198.6,2,   195.6,2,    3.60,2,    0.19,2,    0.00,2,    0.22,2,   1.625,2,   0.914,2,  -999.0,9,  2262.1,2,  -999.0,5,-999.000,1,-999.000,-999.0000,1, -999.00,9, -999.00,9,  -999.0,9,  -999.0,-999.000,9,-999.000,   521.3,  26.1199,-999.0000, -999.00
 316N145_14,       I02E,    1133,          1,         34,     SIH026,2,19951221,       1649,    -8.0028,    83.3278,       5056,    68.3,  23.4272,  35.0971,2,  35.0413,2,    133.2,2,   112.3,2,    8.75,2,    8.77,2,    0.48,2,    0.91,2,   1.476,2,   0.812,2,  -999.0,9,  2293.3,2,  -999.0,5,-999.000,1,-999.000,-999.0000,1, -999.00,9, -999.00,9,  -999.0,9,  -999.0,-999.000,9,-999.000,   817.2,  23.4131,-999.0000, -999.00
 316N145_14,       I02E,    1133,          1,         33,     SIH027,2,19951221,       1649,    -8.0028,    83.3278,       5056,   108.9,  19.9974,  35.1012,2,  35.0955,2,     62.5,2,    68.1,2,   14.74,2,   19.10,2,    0.04,2,    1.40,2,   1.273,2,   0.682,2,  -999.0,9,  2300.3,2,  -999.0,5,-999.000,1,-999.000,-999.0000,1, -999.00,9, -999.00,9,  -999.0,9,  -999.0,-999.000,9,-999.000,  1217.2,  19.9773,-999.0000, -999.00
 316N145_14,       I02E,    1133,          1,         32,     SIH028,2,19951221,       1649,    -8.0028,    83.3278,       5056,   156.9,  15.9325,  34.8630,2,  34.8609,2,     64.5,2,    63.8,2,   24.86,2,   23.55,2,    0.01,2,    1.66,2,   0.990,2,   0.479,2,  -999.0,9,  2298.5,2,  -999.0,5,-999.000,1,-999.000,-999.0000,1, -999.00,9,    1.23,2,    69.6,2,     3.8,-999.000,9,-999.000,  1695.0,  15.9078,-999.0000, -999.00
 316N145_14,       I02E,    1133,          1,         31,     SIH029,3,19951221,       1649,    -8.0028,    83.3278,       5056,   208.3,  12.5929,  34.7411,2,  34.7360,2,     69.1,2,    70.3,2,   33.79,2,   26.49,2,    0.01,2,    1.90,2,   0.634,2,   0.322,2,  -999.0,9,  2306.9,2,  -999.0,5,-999.000,1,-999.000,-999.0000,1, -999.00,9,    0.45,2,    37.8,2,     4.4,-999.000,9,-999.000,  2209.6,  12.5649,-999.0000, -999.00
 316N145_14,       I02E,    1133,          1,         30,     SIH030,2,19951221,       1649,    -8.0028,    83.3278,       5056,   257.9,  11.6248,  34.8195,2,  34.8214,2,     65.1,2,    66.8,2,   33.43,2,   28.12,2,    0.01,2,    1.96,2,   0.448,2,   0.224,2,  2205.1,2,  2312.5,2,  -999.0,5,-999.000,1,-999.000,-999.0000,1, -999.00,9,    0.19,2,    42.8,3,     4.8,-999.000,9,-999.000,  2706.1,  11.5918,-999.0000, -999.00
 316N145_14,       I02E,    1133,          1,         29,     SIH031,2,19951221,       1649,    -8.0028,    83.3278,       5056,   308.0,  11.1416,  34.8989,2,  34.8991,2,     84.5,2,    82.9,2,   27.95,2,   26.92,2,    0.01,2,    1.86,2,   0.515,2,   0.262,2,  2201.8,2,  2314.6,2,  -999.0,5,-999.000,1,-999.000,-999.0000,1, -999.00,9,    0.22,2,   -30.5,2,     4.0,-999.000,9,-999.000,  3206.4,  11.1032,-999.0000, -999.00
 316N145_14,       I02E,    1133,          1,         28,     SIH032,3,19951221,       1649,    -8.0028,    83.3278,       5056,   359.1,  10.4168,  34.8646,2,  34.8615,2,    100.4,2,   103.8,2,   26.41,2,   26.07,2,    0.01,2,    1.81,2,-999.000,5,-999.000,5,  2188.4,2,  2309.8,2,  -999.0,5,-999.000,1,-999.000,-999.0000,1, -999.00,9,    0.25,2,   -39.1,2,     2.4,-999.000,9,-999.000,  3717.0,  10.3738,-999.0000, -999.00
 316N145_14,       I02E,    1133,          1,         27,     SIH033,2,19951221,       1649,    -8.0028,    83.3278,       5056,   409.4,   9.7456,  34.8265,2,  34.8281,2,    102.1,2,   103.5,2,   28.98,2,   27.59,2,    0.01,2,    1.89,2,   0.418,2,   0.209,2,  2195.4,2,  2313.4,2,  -999.0,5,-999.000,1,-999.000,-999.0000,1, -999.00,9,    0.35,2,   -46.3,2,     3.9,-999.000,9,-999.000,  4219.9,   9.6984,-999.0000, -999.00
 316N145_14,       I02E,    1133,          1,         26,     SIH037,2,19951221,       1649,    -8.0028,    83.3278,       5056,   507.5,   8.5565,  34.7781,2,  34.7752,2,     84.2,2,    85.7,2,   44.41,2,   31.86,2,    0.01,2,    2.23,2,   0.109,2,   0.055,2,  2217.5,2,  2322.1,2,  -999.0,5,-999.000,1,-999.000,-999.0000,1, -999.00,9,    0.47,2,   -60.3,2,     3.0,-999.000,9,-999.000,  5200.3,   8.5022,-999.0000, -999.00
 316N145_14,       I02E,    1133,          1,         25,     SI9446,2,19951221,       1649,    -8.0028,    83.3278,       5056,   608.9,   7.7715,  34.7607,2,  34.7600,2,     74.5,2,    73.8,2,   57.45,2,   34.19,2,    0.01,2,    2.43,2,   0.034,6,   0.016,6,  2248.6,2,  2336.4,2,  -999.0,5,-999.000,1,-999.000,-999.0000,1, -999.00,9,    0.23,2,  -101.2,2,     2.9,-999.000,9,-999.000,  6215.0,   7.7095,-999.0000, -999.00
 316N145_14,       I02E,    1133,          1,         24,     SIH036,3,19951221,       1649,    -8.0028,    83.3278,       5056,   709.6,   7.0092,  34.7450,2,  34.7451,2,     67.5,2,    68.9,2,   70.82,2,   35.75,2,    0.01,2,    2.55,2,-999.000,5,-999.000,5,  2267.1,2,  2347.3,2,  -999.0,5,-999.000,1,-999.000,-999.0000,1, -999.00,9,    0.19,2,  -121.4,2,     2.8,-999.000,9,-999.000,  7222.4,   6.9405,-999.0000, -999.00
 316N145_14,       I02E,    1133,          1,         23,     SIH001,2,19951221,       1649,    -8.0028,    83.3278,       5056,   804.3,   6.2637,  34.7207,2,  34.7199,2,     70.7,2,    71.3,2,   82.32,2,   35.96,2,    0.01,2,    2.62,2,   0.007,2,   0.001,2,  2280.5,2,  2360.7,2,  -999.0,5,-999.000,1,-999.000,-999.0000,1, -999.00,9,   -0.22,3,  -164.5,2,     6.8,-999.000,9,-999.000,  8169.3,   6.1898,-999.0000, -999.00
 316N145_14,       I02E,    1133,          1,         22,     SIH019,2,19951221,       1649,    -8.0028,    83.3278,       5056,   905.2,   5.7609,  34.7167,2,  34.7168,2,     74.1,2,    75.7,2,   89.86,2,   36.70,2,    0.01,2,    2.63,2,   0.005,2,   0.001,2,  2291.3,2,  2370.0,2,  -999.0,5,-999.000,1,-999.000,-999.0000,1, -999.00,9,   -0.04,2,  -178.7,2,     5.0,-999.000,9,-999.000,  9178.2,   5.6806,-999.0000, -999.00
 316N145_14,       I02E,    1133,          1,         21,     SIH025,2,19951221,       1649,    -8.0028,    83.3278,       5056,  1005.1,   5.1822,  34.6962,2,  34.6961,2,     81.5,2,    82.2,2,   96.89,2,   36.62,6,    0.01,6,    2.65,6,   0.003,2,  -0.001,2,  2298.5,2,  2374.4,2,  -999.0,5,-999.000,1,-999.000,-999.0000,1, -999.00,9,    0.00,2,  -192.9,2,     3.4,-999.000,9,-999.000, 10178.7,   5.0967,-999.0000, -999.00
 316N145_14,       I02E,    1133,          1,         20,     SIH004,2,19951221,       1649,    -8.0028,    83.3278,       5056,  1105.5,   4.8269,  34.7006,2,  34.7003,2,     86.5,2,    87.0,2,  100.75,6,   36.53,6,    0.01,6,    2.65,6,   0.003,2,  -0.002,2,  2302.0,2,  2380.3,2,  -999.0,5,-999.000,1,-999.000,-999.0000,1, -999.00,9,   -0.05,2,  -188.8,2,     3.7,-999.000,9,-999.000, 11183.1,   4.7351,-999.0000, -999.00
 316N145_14,       I02E,    1133,          1,         19,     SIH005,2,19951221,       1649,    -8.0028,    83.3278,       5056,  1207.3,   4.4906,  34.7209,2,  34.7211,2,     91.3,2,    91.4,2,  104.61,2,   36.85,2,    0.01,2,    2.65,2,   0.001,2,   0.001,2,  2305.4,2,  2383.3,2,  -999.0,5,-999.000,1,-999.000,-999.0000,1, -999.00,9,   -0.06,2,  -193.4,2,     4.8,-999.000,9,-999.000, 12201.1,   4.3925,-999.0000, -999.00
 316N145_14,       I02E,    1133,          1,         18,     SIH006,2,19951221,       1649,    -8.0028,    83.3278,       5056,  1307.1,   4.1905,  34.7369,2,  34.7362,2,     95.5,2,    95.4,2,  106.67,2,   36.63,2,    0.01,2,    2.64,2,   0.001,2,  -0.001,2,  2307.1,2,  2387.2,2,  -999.0,5,-999.000,1,-999.000,-999.0000,1, -999.00,9,    0.01,2,  -185.8,2,     3.6,-999.000,9,-999.000, 13200.6,   4.0862,-999.0000, -999.00
 316N145_14,       I02E,    1133,          1,         17,     SIH038,2,19951221,       1649,    -8.0028,    83.3278,       5056,  1402.4,   3.9521,  34.7481,2,  34.7478,2,     99.9,2,   100.7,2,  107.70,2,   36.54,2,    0.01,2,    2.63,2,-999.000,5,-999.000,5,  2306.6,2,  2388.1,2,  -999.0,5,-999.000,1,-999.000,-999.0000,1, -999.00,9,   -1.92,4,  -232.4,3,     3.9,-999.000,9,-999.000, 14154.3,   3.8417,-999.0000, -999.00
 316N145_14,       I02E,    1133,          1,         16,     SIH008,2,19951221,       1649,    -8.0028,    83.3278,       5056,  1605.2,   3.4068,  34.7556,2,  34.7573,2,    114.5,2,   114.3,2,  111.29,2,   36.00,2,    0.01,2,    2.57,2,-999.000,5,-999.000,5,  2304.8,2,  2392.4,2,  -999.0,5,-999.000,1,-999.000,-999.0000,1, -999.00,9,    0.10,2,  -203.8,2,     2.8,-999.000,9,-999.000, 16182.5,   3.2847,-999.0000, -999.00
 316N145_14,       I02E,    1133,          1,         15,     SIH009,2,19951221,       1649,    -8.0028,    83.3278,       5056,  1805.5,   2.8921,  34.7517,2,  34.7502,2,    128.4,2,   127.5,2,  115.58,2,   35.26,2,    0.01,2,    2.52,2,-999.000,5,-999.000,5,  2302.0,2,  2395.8,2,  -999.0,5,-999.000,1,-999.000,-999.0000,1, -999.00,9,    0.09,2,  -189.6,2,     4.5,-999.000,9,-999.000, 18185.8,   2.7591,-999.0000, -999.00
 316N145_14,       I02E,    1133,          1,         14,     SIH010,2,19951221,       1649,    -8.0028,    83.3278,       5056,  2002.8,   2.5070,  34.7459,2,  34.7469,2,    139.9,2,   138.9,2,  119.18,2,   34.94,2,    0.01,2,    2.47,2,-999.000,5,-999.000,5,  2299.2,2,  2399.8,2,  -999.0,5,-999.000,1,-999.000,-999.0000,1, -999.00,9,    0.21,2,  -202.6,2,     9.3,-999.000,9,-999.000, 20160.1,   2.3622,-999.0000, -999.00
 316N145_14,       I02E,    1133,          1,         13,     SIH011,2,19951221,       1649,    -8.0028,    83.3278,       5056,  2250.7,   2.1471,  34.7394,2,  34.7398,2,    152.1,2,   151.3,2,  121.41,2,   34.27,2,    0.01,2,    2.42,2,-999.000,5,-999.000,5,  2300.0,2,  2399.6,2,  -999.0,5,-999.000,1,-999.000,-999.0000,1, -999.00,9,    0.22,2,  -197.9,2,     3.3,-999.000,9,-999.000, 22640.0,   1.9863,-999.0000, -999.00
 316N145_14,       I02E,    1133,          1,         12,     SIH012,2,19951221,       1649,    -8.0028,    83.3278,       5056,  2500.9,   1.9335,  34.7347,2,  34.7339,2,    157.7,2,   158.1,2,  123.65,2,   34.01,2,    0.01,2,    2.38,2,-999.000,5,-999.000,5,  2300.0,2,  2406.8,2,  -999.0,5,-999.000,1,-999.000,-999.0000,1, -999.00,9,    0.15,2,  -198.2,2,     4.1,-999.000,9,-999.000, 25142.6,   1.7541,-999.0000, -999.00
 316N145_14,       I02E,    1133,          1,         11,     SI9426,2,19951221,       1649,    -8.0028,    83.3278,       5056,  2737.0,   1.7875,  34.7318,2,  34.7315,2,    161.5,2,   162.1,2,  125.88,2,   33.81,2,    0.01,2,    2.37,2,-999.000,5,-999.000,5,  2302.4,2,  2406.9,2,  -999.0,5,-999.000,1,-999.000,-999.0000,1, -999.00,9,    0.19,2,  -198.3,2,     2.4,-999.000,9,-999.000, 27505.4,   1.5891,-999.0000, -999.00
 316N145_14,       I02E,    1133,          1,         10,     SIH014,2,19951221,       1649,    -8.0028,    83.3278,       5056,  2991.7,   1.6496,  34.7277,2,  34.7290,2,    166.1,2,   165.5,2,  129.13,2,   33.85,2,    0.01,2,    2.37,2,   0.000,2,   0.000,2,  2303.7,2,  2408.7,2,  -999.0,5,-999.000,1,-999.000,-999.0000,1, -999.00,9,    0.17,2,  -198.2,2,     5.8,-999.000,9,-999.000, 30053.8,   1.4301,-999.0000, -999.00
 316N145_14,       I02E,    1133,          1,          9,     SIH015,2,19951221,       1649,    -8.0028,    83.3278,       5056,  3245.2,   1.5453,  34.7248,2,  34.7256,2,    166.7,2,   166.9,2,  132.56,2,   33.82,2,    0.01,2,    2.36,2,-999.000,5,-999.000,5,  2305.0,2,  2414.5,2,  -999.0,5,-999.000,1,-999.000,-999.0000,1, -999.00,9,    0.21,2,  -205.2,2,     4.4,-999.000,9,-999.000, 32589.4,   1.3035,-999.0000, -999.00
 316N145_14,       I02E,    1133,          1,          8,     SIH016,2,19951221,       1649,    -8.0028,    83.3278,       5056,  3488.5,   1.4657,  34.7224,2,  34.7231,2,    170.8,2,   170.1,2,  133.93,2,   33.79,2,    0.01,2,    2.36,2,-999.000,5,-999.000,5,  2303.2,2,  2416.5,2,  -999.0,5,-999.000,1,-999.000,-999.0000,1, -999.00,9,    0.15,2,  -197.7,2,     4.2,-999.000,9,-999.000, 35023.4,   1.2014,-999.0000, -999.00
 316N145_14,       I02E,    1133,          1,          7,     SIH017,2,19951221,       1649,    -8.0028,    83.3278,       5056,  3743.8,   1.3984,  34.7196,2,  34.7207,2,    175.5,2,   174.0,2,  133.42,2,   33.41,2,    0.01,2,    2.33,2,-999.000,5,-999.000,5,  2298.1,2,  2416.2,2,  -999.0,5,-999.000,1,-999.000,-999.0000,1, -999.00,9,    0.09,3,  -192.8,2,     3.4,-999.000,9,-999.000, 37576.4,   1.1094,-999.0000, -999.00
 316N145_14,       I02E,    1133,          1,          6,     SIH018,2,19951221,       1649,    -8.0028,    83.3278,       5056,  3989.3,   1.3568,  34.7182,2,  34.7180,2,    179.6,2,   179.2,2,  132.56,2,   33.39,2,    0.01,2,    2.31,2,-999.000,5,-999.000,5,  2296.3,2,  2411.8,2,  -999.0,5,-999.000,1,-999.000,-999.0000,1, -999.00,9,    0.01,3,  -197.6,2,     2.4,-999.000,9,-999.000, 40033.5,   1.0429,-999.0000, -999.00
 316N145_14,       I02E,    1133,          1,          5,     SIH002,2,19951221,       1649,    -8.0028,    83.3278,       5056,  4242.9,   1.3434,  34.7171,2,  34.7182,2,    181.8,2,   181.1,2,  132.05,2,   33.12,2,    0.01,2,    2.31,2,-999.000,5,-999.000,5,  2294.9,2,  2412.6,2,  -999.0,5,-999.000,1,-999.000,-999.0000,1, -999.00,9,    0.27,2,  -199.5,2,     2.9,-999.000,9,-999.000, 42570.3,   1.0021,-999.0000, -999.00
 316N145_14,       I02E,    1133,          1,          4,     SIH020,2,19951221,       1649,    -8.0028,    83.3278,       5056,  4492.6,   1.3483,  34.7170,2,  34.7156,2,    182.7,2,   182.4,2,  132.05,2,   33.09,2,    0.01,2,    2.29,2,-999.000,5,-999.000,5,  -999.0,9,  2411.9,2,  -999.0,5,-999.000,1,-999.000,-999.0000,1, -999.00,9,    0.33,2,  -193.1,2,     2.5,-999.000,9,-999.000, 45068.2,   0.9787,-999.0000, -999.00
 316N145_14,       I02E,    1133,          1,          3,     SIH021,2,19951221,       1649,    -8.0028,    83.3278,       5056,  4746.9,   1.3642,  34.7168,2,  34.7158,2,    184.2,2,   183.9,2,  131.36,2,   33.13,2,    0.01,2,    2.29,2,-999.000,5,-999.000,5,  -999.0,9,  2409.7,2,  -999.0,5,-999.000,1,-999.000,-999.0000,1, -999.00,9,    0.28,2,  -187.9,2,     2.6,-999.000,9,-999.000, 47612.2,   0.9645,-999.0000, -999.00
 316N145_14,       I02E,    1133,          1,          2,     SIH022,2,19951221,       1649,    -8.0028,    83.3278,       5056,  5000.7,   1.3868,  34.7166,2,  34.7164,2,    185.5,2,   184.6,2,  130.68,2,   32.93,2,    0.01,2,    2.29,2,   0.000,2,   0.000,2,  -999.0,9,  2408.6,2,  -999.0,5,-999.000,1,-999.000,-999.0000,1, -999.00,9,   -0.05,3,  -207.2,2,     2.2,-999.000,9,-999.000, 50151.1,   0.9561,-999.0000, -999.00
 316N145_14,       I02E,    1133,          1,          1,     SIH023,2,19951221,       1649,    -8.0028,    83.3278,       5056,  5171.2,   1.4061,  34.7163,2,  34.7144,2,    185.8,2,   185.4,2,  130.59,6,   33.14,6,    0.01,6,    2.29,6,   0.000,2,   0.001,2,  2291.4,2,  2409.3,2,  -999.0,5,-999.000,1,-999.000,-999.0000,1, -999.00,9,    0.26,2,  -198.3,2,     3.0,-999.000,9,-999.000, 51857.0,   0.9539,-999.0000, -999.00