BOTTLE,20220829CCHSIOAMB
EXPOCODE,SECT_ID,STNNBR,CASTNO,SAMPNO,BTLNBR,BTLNBR_FLAG_W,DATE,TIME,LATITUDE,LONGITUDE,DEPTH,CTDPRS,CTDTMP,CTDSAL,CTDSAL_FLAG_W,SALNTY,SALNTY_FLAG_W,CTDOXY,CTDOXY_FLAG_W,OXYGEN,OXYGEN_FLAG_W,SILCAT,SILCAT_FLAG_W,NITRAT,NITRAT_FLAG_W,NITRIT,NITRIT_FLAG_W,PHSPHT,PHSPHT_FLAG_W,CFC-11,CFC-11_FLAG_W,CFC-12,CFC-12_FLAG_W,TCARBN,TCARBN_FLAG_W,ALKALI,ALKALI_FLAG_W,PCO2,PCO2_FLAG_W,TRITUM,TRITUM_FLAG_W,TRITER,HELIUM,HELIUM_FLAG_W,DELHE3,DELHE3_FLAG_W,DELC13,DELC13_FLAG_W,DELC14,DELC14_FLAG_W,C14ERR,NEON,NEON_FLAG_W,NEONER,CTDRAW,THETA,HELIER,DELHER
,,,,,,,,,,,METERS,DBAR,ITS-90,PSS-78,,PSS-78,,UMOL/KG,,UMOL/KG,,UMOL/KG,,UMOL/KG,,UMOL/KG,,UMOL/KG,,PMOL/KG,,PMOL/KG,,UMOL/KG,,UMOL/KG,,UATM,,TU,,TU,NMOL/KG,,PERCNT,,/MILLE,,/MILLE,,/MILLE,NMOL/KG,,NMOL/KG,DBAR,DEG C,NMOL/KG,PERCNT
 316N145_14,       I02E,    1131,          1,         36,     SIH024,2,19951221,       0253,    -8.0167,    84.6903,       4875,    11.3,  28.4725,  34.0570,2,  34.0568,2,    207.9,2,   205.7,2,    3.69,2,    0.08,2,    0.00,2,    0.08,2,   1.628,2,   0.934,2,  1899.5,2,  2236.3,2,  -999.0,5,-999.000,1,-999.000,-999.0000,1, -999.00,9, -999.00,9,  -999.0,9,  -999.0,-999.000,9,-999.000,   258.0,  28.4698,-999.0000, -999.00
 316N145_14,       I02E,    1131,          1,         35,     SIH003,2,19951221,       0253,    -8.0167,    84.6903,       4875,    36.7,  28.1325,  34.1922,2,  34.1924,2,    210.1,2,   211.5,2,    4.11,2,    0.08,2,    0.00,2,    0.08,2,   1.661,2,   0.964,2,  1909.6,2,  2252.5,2,  -999.0,5,-999.000,1,-999.000,-999.0000,1, -999.00,9, -999.00,9,  -999.0,9,  -999.0,-999.000,9,-999.000,   506.0,  28.1239,-999.0000, -999.00
 316N145_14,       I02E,    1131,          1,         34,     SIH026,2,19951221,       0253,    -8.0167,    84.6903,       4875,    67.1,  25.2658,  34.6153,2,  34.5942,2,    163.2,2,   169.6,2,    6.65,2,    0.34,2,    0.03,2,    0.34,2,   1.595,2,   0.894,2,  1993.2,2,  2274.5,2,  -999.0,5,-999.000,1,-999.000,-999.0000,1, -999.00,9, -999.00,9,  -999.0,9,  -999.0,-999.000,9,-999.000,   804.3,  25.2512,-999.0000, -999.00
 316N145_14,       I02E,    1131,          1,         33,     SIH027,2,19951221,       0253,    -8.0167,    84.6903,       4875,   106.5,  18.5230,  34.9405,2,  34.9341,2,     55.7,2,    57.8,2,   20.09,2,   21.70,2,    0.05,2,    1.52,2,   1.167,2,   0.618,2,  2144.5,2,  2294.7,2,  -999.0,5,-999.000,1,-999.000,-999.0000,1, -999.00,9, -999.00,9,  -999.0,9,  -999.0,-999.000,9,-999.000,  1194.3,  18.5043,-999.0000, -999.00
 316N145_14,       I02E,    1131,          1,         32,     SIH028,2,19951221,       0253,    -8.0167,    84.6903,       4875,   155.8,  14.4481,  34.8022,2,  34.8007,2,     65.0,2,    63.4,2,   29.49,2,   25.12,2,    0.01,2,    1.77,2,   0.816,2,   0.419,2,  2178.7,2,  2300.8,2,  -999.0,5,-999.000,1,-999.000,-999.0000,1, -999.00,9, -999.00,9,  -999.0,9,  -999.0,-999.000,9,-999.000,  1684.4,  14.4252,-999.0000, -999.00
 316N145_14,       I02E,    1131,          1,         31,     SIH029,2,19951221,       0253,    -8.0167,    84.6903,       4875,   200.8,  12.8951,  34.7658,2,  34.7606,2,     62.3,2,    65.5,2,   33.83,2,   26.77,2,    0.01,2,    1.89,2,   0.620,2,   0.312,2,  2192.9,2,  2310.8,2,  -999.0,5,-999.000,1,-999.000,-999.0000,1, -999.00,9, -999.00,9,  -999.0,9,  -999.0,-999.000,9,-999.000,  2133.7,  12.8677,-999.0000, -999.00
 316N145_14,       I02E,    1131,          1,         30,     SIH030,2,19951221,       0253,    -8.0167,    84.6903,       4875,   251.6,  11.6928,  34.7905,2,  34.7962,2,     62.4,2,    66.5,2,   35.23,2,   28.13,2,    0.01,2,    1.95,2,   0.453,6,   0.230,6,  2206.4,2,  2310.7,2,  -999.0,5,-999.000,1,-999.000,-999.0000,1, -999.00,9, -999.00,9,  -999.0,9,  -999.0,-999.000,9,-999.000,  2642.7,  11.6605,-999.0000, -999.00
 316N145_14,       I02E,    1131,          1,         29,     SIH031,2,19951221,       0253,    -8.0167,    84.6903,       4875,   301.1,  11.1463,  34.8517,2,  34.8507,2,     78.2,2,    74.8,2,   33.05,2,   27.93,2,    0.01,2,    1.93,2,   0.451,2,   0.223,2,  2206.9,2,  2315.1,2,  -999.0,5,-999.000,1,-999.000,-999.0000,1, -999.00,9, -999.00,9,  -999.0,9,  -999.0,-999.000,9,-999.000,  3137.3,  11.1088,-999.0000, -999.00
 316N145_14,       I02E,    1131,          1,         28,     SIH032,2,19951221,       0253,    -8.0167,    84.6903,       4875,   351.1,  10.5771,  34.8756,2,  34.8703,2,     95.3,2,    94.3,2,   28.75,2,   26.94,2,    0.00,2,    1.85,2,-999.000,5,-999.000,5,  2197.9,2,  2311.0,2,  -999.0,5,-999.000,1,-999.000,-999.0000,1, -999.00,9, -999.00,9,  -999.0,9,  -999.0,-999.000,9,-999.000,  3637.3,  10.5346,-999.0000, -999.00
 316N145_14,       I02E,    1131,          1,         27,     SIH033,2,19951221,       0253,    -8.0167,    84.6903,       4875,   402.0,   9.9321,  34.8339,2,  34.8348,2,    105.1,2,   104.4,2,   28.86,2,   27.21,2,    0.01,2,    1.87,2,   0.460,2,   0.228,2,  2198.6,2,  2314.6,2,  -999.0,5,-999.000,1,-999.000,-999.0000,1, -999.00,9, -999.00,9,  -999.0,9,  -999.0,-999.000,9,-999.000,  4146.0,   9.8853,-999.0000, -999.00
 316N145_14,       I02E,    1131,          1,         26,     SIH037,2,19951221,       0253,    -8.0167,    84.6903,       4875,   501.0,   8.9639,  34.8152,2,  34.8121,2,     83.3,2,    85.7,2,   40.55,2,   31.20,2,    0.01,2,    2.16,2,   0.139,2,   0.072,2,  2224.8,2,  2319.5,2,  -999.0,5,-999.000,1,-999.000,-999.0000,1, -999.00,9, -999.00,9,  -999.0,9,  -999.0,-999.000,9,-999.000,  5136.2,   8.9088,-999.0000, -999.00
 316N145_14,       I02E,    1131,          1,         25,     SI9446,2,19951221,       0253,    -8.0167,    84.6903,       4875,   602.0,   8.1076,  34.7931,2,  34.7911,2,     72.2,2,    72.4,2,   53.71,2,   33.86,2,    0.00,2,    2.38,2,   0.042,2,   0.024,2,  2249.8,2,  2332.7,2,  -999.0,5,-999.000,1,-999.000,-999.0000,1, -999.00,9, -999.00,9,  -999.0,9,  -999.0,-999.000,9,-999.000,  6146.1,   8.0447,-999.0000, -999.00
 316N145_14,       I02E,    1131,          1,         24,     SIH036,2,19951221,       0253,    -8.0167,    84.6903,       4875,   700.3,   7.3439,  34.7638,2,  34.7651,2,     65.5,2,    65.2,2,   66.89,2,   35.50,2,    0.01,2,    2.55,2,   0.014,2,   0.005,2,  2269.3,2,  2344.2,2,  -999.0,5,-999.000,1,-999.000,-999.0000,1, -999.00,9, -999.00,9,  -999.0,9,  -999.0,-999.000,9,-999.000,  7130.3,   7.2744,-999.0000, -999.00
 316N145_14,       I02E,    1131,          1,         23,     SIH001,2,19951221,       0253,    -8.0167,    84.6903,       4875,   799.0,   6.6419,  34.7403,2,  34.7384,2,     66.4,2,    67.3,2,   78.12,2,   36.22,2,    0.00,2,    2.61,2,   0.007,2,   0.004,2,  2282.2,2,  2357.1,2,  -999.0,5,-999.000,1,-999.000,-999.0000,1, -999.00,9, -999.00,9,  -999.0,9,  -999.0,-999.000,9,-999.000,  8115.7,   6.5663,-999.0000, -999.00
 316N145_14,       I02E,    1131,          1,         22,     SIH019,2,19951221,       0253,    -8.0167,    84.6903,       4875,   898.2,   5.8237,  34.7062,2,  34.7074,2,     73.9,2,    74.7,2,   89.52,2,   36.43,2,    0.01,2,    2.64,2,   0.007,2,   0.003,2,  2292.9,2,  2366.2,2,  -999.0,5,-999.000,1,-999.000,-999.0000,1, -999.00,9, -999.00,9,  -999.0,9,  -999.0,-999.000,9,-999.000,  9108.4,   5.7436,-999.0000, -999.00
 316N145_14,       I02E,    1131,          1,         21,     SIH025,3,19951221,       0253,    -8.0167,    84.6903,       4875,  1000.4,   5.3978,  34.6985,2,  34.6979,2,     78.0,2,    79.2,2,   95.03,2,   36.52,2,    0.01,2,    2.65,2,   0.008,2,   0.002,2,  2296.8,2,  2376.2,2,  -999.0,5,-999.000,1,-999.000,-999.0000,1, -999.00,9, -999.00,9,  -999.0,9,  -999.0,-999.000,9,-999.000, 10130.6,   5.3111,-999.0000, -999.00
 316N145_14,       I02E,    1131,          1,         20,     SIH004,2,19951221,       0253,    -8.0167,    84.6903,       4875,  1100.4,   4.8610,  34.6894,2,  34.6875,2,     84.7,2,    86.2,2,  101.70,2,   36.55,2,    0.01,2,    2.66,2,   0.005,2,   0.001,2,  2302.2,2,  2379.3,2,  -999.0,5,-999.000,1,-999.000,-999.0000,1, -999.00,9, -999.00,9,  -999.0,9,  -999.0,-999.000,9,-999.000, 11132.0,   4.7694,-999.0000, -999.00
 316N145_14,       I02E,    1131,          1,         19,     SIH005,2,19951221,       0253,    -8.0167,    84.6903,       4875,  1199.8,   4.6193,  34.7249,2,  34.7233,2,     88.0,2,    87.4,2,  103.30,2,   36.75,2,    0.00,2,    2.67,2,   0.003,2,  -0.003,2,  2304.4,2,  2385.8,2,  -999.0,5,-999.000,1,-999.000,-999.0000,1, -999.00,9, -999.00,9,  -999.0,9,  -999.0,-999.000,9,-999.000, 12126.7,   4.5206,-999.0000, -999.00
 316N145_14,       I02E,    1131,          1,         18,     SIH006,2,19951221,       0253,    -8.0167,    84.6903,       4875,  1300.1,   4.2327,  34.7361,2,  34.7353,2,     91.0,2,    94.0,2,  106.20,2,   36.55,2,    0.01,2,    2.66,2,-999.000,5,-999.000,5,  2307.1,2,  2377.5,3,  -999.0,5,-999.000,1,-999.000,-999.0000,1, -999.00,9, -999.00,9,  -999.0,9,  -999.0,-999.000,9,-999.000, 13130.0,   4.1286,-999.0000, -999.00
 316N145_14,       I02E,    1131,          1,         17,     SIH038,2,19951221,       0253,    -8.0167,    84.6903,       4875,  1402.9,   3.9419,  34.7437,2,  34.7433,2,    100.3,2,    99.8,2,  108.63,2,   36.53,2,    0.00,2,    2.64,2,  -0.001,2,  -0.002,2,  2307.6,2,  2394.3,2,  -999.0,5,-999.000,1,-999.000,-999.0000,1, -999.00,9, -999.00,9,  -999.0,9,  -999.0,-999.000,9,-999.000, 14158.5,   3.8316,-999.0000, -999.00
 316N145_14,       I02E,    1131,          1,         16,     SIH008,2,19951221,       0253,    -8.0167,    84.6903,       4875,  1599.7,   3.3354,  34.7514,2,  34.7502,2,    115.5,2,   114.5,2,  113.00,2,   35.88,2,    0.01,2,    2.60,2,-999.000,5,-999.000,5,  2307.1,2,  2394.4,2,  -999.0,5,-999.000,1,-999.000,-999.0000,1, -999.00,9, -999.00,9,  -999.0,9,  -999.0,-999.000,9,-999.000, 16127.5,   3.2146,-999.0000, -999.00
 316N145_14,       I02E,    1131,          1,         15,     SIH009,2,19951221,       0253,    -8.0167,    84.6903,       4875,  1801.4,   2.8208,  34.7534,2,  34.7520,2,    128.9,2,   129.3,2,  116.74,6,   35.40,6,    0.00,6,    2.51,6,  -0.001,2,   0.001,2,  2305.3,2,  2429.5,3,  -999.0,5,-999.000,1,-999.000,-999.0000,1, -999.00,9, -999.00,9,  -999.0,9,  -999.0,-999.000,9,-999.000, 18144.4,   2.6891,-999.0000, -999.00
 316N145_14,       I02E,    1131,          1,         14,     SIH010,2,19951221,       0253,    -8.0167,    84.6903,       4875,  1998.2,   2.5034,  34.7504,2,  34.7494,2,    138.2,2,   138.3,2,  119.49,6,   34.97,6,    0.00,6,    2.47,6,-999.000,5,-999.000,5,  2303.9,2,  2399.1,2,  -999.0,5,-999.000,1,-999.000,-999.0000,1, -999.00,9, -999.00,9,  -999.0,9,  -999.0,-999.000,9,-999.000, 20113.4,   2.3591,-999.0000, -999.00
 316N145_14,       I02E,    1131,          1,         13,     SIH011,2,19951221,       0253,    -8.0167,    84.6903,       4875,  2199.2,   2.2490,  34.7433,2,  34.7425,2,    144.9,2,   147.4,2,  121.50,2,   34.55,6,    0.01,6,    2.42,6,-999.000,5,-999.000,5,  2301.5,2,  2406.0,2,  -999.0,5,-999.000,1,-999.000,-999.0000,1, -999.00,9, -999.00,9,  -999.0,9,  -999.0,-999.000,9,-999.000, 22125.0,   2.0910,-999.0000, -999.00
 316N145_14,       I02E,    1131,          1,         12,     SIH012,2,19951221,       0253,    -8.0167,    84.6903,       4875,  2397.3,   2.0312,  34.7386,2,  34.7370,2,    153.4,2,   154.4,2,  123.03,6,   34.30,6,    0.00,6,    2.38,6,-999.000,5,-999.000,5,  2299.9,2,  2386.2,3,  -999.0,5,-999.000,1,-999.000,-999.0000,1, -999.00,9, -999.00,9,  -999.0,9,  -999.0,-999.000,9,-999.000, 24106.8,   1.8593,-999.0000, -999.00
 316N145_14,       I02E,    1131,          1,         11,     SI9426,2,19951221,       0253,    -8.0167,    84.6903,       4875,  2599.3,   1.8760,  34.7338,2,  34.7323,2,    160.2,2,   160.5,2,  123.99,2,   33.84,2,    0.01,2,    2.37,2,   0.000,2,  -0.003,2,  2299.6,2,  2406.9,2,  -999.0,5,-999.000,1,-999.000,-999.0000,1, -999.00,9, -999.00,9,  -999.0,9,  -999.0,-999.000,9,-999.000, 26127.5,   1.6887,-999.0000, -999.00
 316N145_14,       I02E,    1131,          1,         10,     SIH014,2,19951221,       0253,    -8.0167,    84.6903,       4875,  2801.3,   1.7547,  34.7310,2,  34.7304,2,    164.9,2,   164.0,2,  125.93,2,   33.88,2,    0.00,2,    2.36,2,-999.000,5,-999.000,5,  2298.7,2,  2410.2,2,  -999.0,5,-999.000,1,-999.000,-999.0000,1, -999.00,9, -999.00,9,  -999.0,9,  -999.0,-999.000,9,-999.000, 28148.4,   1.5510,-999.0000, -999.00
 316N145_14,       I02E,    1131,          1,          9,     SIH015,2,19951221,       0253,    -8.0167,    84.6903,       4875,  3000.8,   1.6611,  34.7284,2,  34.7274,2,    166.3,2,   166.5,2,  128.19,2,   33.73,2,    0.01,2,    2.36,2,-999.000,5,-999.000,5,  2299.9,2,  2413.3,2,  -999.0,5,-999.000,1,-999.000,-999.0000,1, -999.00,9, -999.00,9,  -999.0,9,  -999.0,-999.000,9,-999.000, 30144.2,   1.4404,-999.0000, -999.00
 316N145_14,       I02E,    1131,          1,          8,     SIH016,2,19951221,       0253,    -8.0167,    84.6903,       4875,  3250.3,   1.5396,  34.7253,2,  34.7243,2,    169.2,2,   169.2,2,  130.96,2,   33.83,2,    0.00,2,    2.35,2,-999.000,5,-999.000,5,  2301.4,2,  2412.3,2,  -999.0,5,-999.000,1,-999.000,-999.0000,1, -999.00,9, -999.00,9,  -999.0,9,  -999.0,-999.000,9,-999.000, 32640.9,   1.2974,-999.0000, -999.00
 316N145_14,       I02E,    1131,          1,          7,     SIH017,2,19951221,       0253,    -8.0167,    84.6903,       4875,  3497.7,   1.4432,  34.7224,2,  34.7209,2,    171.3,2,   171.2,2,  132.90,2,   33.69,2,    0.01,2,    2.35,2,   0.001,2,  -0.002,2,  2303.0,2,  2415.5,2,  -999.0,5,-999.000,1,-999.000,-999.0000,1, -999.00,9, -999.00,9,  -999.0,9,  -999.0,-999.000,9,-999.000, 35115.2,   1.1785,-999.0000, -999.00
 316N145_14,       I02E,    1131,          1,          6,     SIH018,2,19951221,       0253,    -8.0167,    84.6903,       4875,  3743.1,   1.3757,  34.7201,2,  34.7182,2,    174.9,2,   176.7,2,  132.21,6,   33.50,6,    0.01,6,    2.30,2,-999.000,5,-999.000,5,  2299.0,2,  2415.0,2,  -999.0,5,-999.000,1,-999.000,-999.0000,1, -999.00,9, -999.00,9,  -999.0,9,  -999.0,-999.000,9,-999.000, 37570.3,   1.0874,-999.0000, -999.00
 316N145_14,       I02E,    1131,          1,          5,     SIH002,2,19951221,       0253,    -8.0167,    84.6903,       4875,  3997.3,   1.3396,  34.7190,2,  34.7178,2,    181.0,2,   181.1,2,  131.36,6,   33.37,6,    0.00,6,    2.29,6,-999.000,5,-999.000,5,  2294.7,2,  2410.2,2,  -999.0,5,-999.000,1,-999.000,-999.0000,1, -999.00,9, -999.00,9,  -999.0,9,  -999.0,-999.000,9,-999.000, 40113.2,   1.0253,-999.0000, -999.00
 316N145_14,       I02E,    1131,          1,          4,     SIH020,2,19951221,       0253,    -8.0167,    84.6903,       4875,  4251.5,   1.3265,  34.7173,2,  34.7160,2,    183.1,2,   183.0,2,  130.68,2,   33.06,2,    0.01,2,    2.30,2,-999.000,5,-999.000,5,  2292.9,2,  2411.0,2,  -999.0,5,-999.000,1,-999.000,-999.0000,1, -999.00,9, -999.00,9,  -999.0,9,  -999.0,-999.000,9,-999.000, 42656.5,   0.9847,-999.0000, -999.00
 316N145_14,       I02E,    1131,          1,          3,     SIH021,2,19951221,       0253,    -8.0167,    84.6903,       4875,  4496.4,   1.3359,  34.7174,2,  34.7158,2,    184.2,2,   184.7,2,  129.66,2,   33.04,2,    0.01,2,    2.27,2,   0.000,2,   0.001,2,  2290.2,2,  2408.8,2,  -999.0,5,-999.000,1,-999.000,-999.0000,1, -999.00,9, -999.00,9,  -999.0,9,  -999.0,-999.000,9,-999.000, 45105.8,   0.9662,-999.0000, -999.00
 316N145_14,       I02E,    1131,          1,          2,     SIH022,2,19951221,       0253,    -8.0167,    84.6903,       4875,  4741.5,   1.3556,  34.7169,2,  34.7150,2,    185.7,2,   185.2,2,  129.64,2,   32.96,2,    0.01,2,    2.28,2,   0.001,2,  -0.001,2,  2289.8,2,  2408.8,2,  -999.0,5,-999.000,1,-999.000,-999.0000,1, -999.00,9, -999.00,9,  -999.0,9,  -999.0,-999.000,9,-999.000, 47558.1,   0.9568,-999.0000, -999.00
 316N145_14,       I02E,    1131,          1,          1,     SIH023,2,19951221,       0253,    -8.0167,    84.6903,       4875,  4973.0,   1.3815,  34.7171,2,  34.7156,2,    185.7,2,   186.3,2,  129.51,6,   32.97,6,    0.01,6,    2.27,6,   0.001,2,  -0.001,2,  2290.7,2,  2408.7,2,  -999.0,5,-999.000,1,-999.000,-999.0000,1, -999.00,9, -999.00,9,  -999.0,9,  -999.0,-999.000,9,-999.000, 49874.4,   0.9543,-999.0000, -999.00