BOTTLE,20220829CCHSIOAMB
EXPOCODE,SECT_ID,STNNBR,CASTNO,SAMPNO,BTLNBR,BTLNBR_FLAG_W,DATE,TIME,LATITUDE,LONGITUDE,DEPTH,CTDPRS,CTDTMP,CTDSAL,CTDSAL_FLAG_W,SALNTY,SALNTY_FLAG_W,CTDOXY,CTDOXY_FLAG_W,OXYGEN,OXYGEN_FLAG_W,SILCAT,SILCAT_FLAG_W,NITRAT,NITRAT_FLAG_W,NITRIT,NITRIT_FLAG_W,PHSPHT,PHSPHT_FLAG_W,CFC-11,CFC-11_FLAG_W,CFC-12,CFC-12_FLAG_W,TCARBN,TCARBN_FLAG_W,ALKALI,ALKALI_FLAG_W,PCO2,PCO2_FLAG_W,TRITUM,TRITUM_FLAG_W,TRITER,HELIUM,HELIUM_FLAG_W,DELHE3,DELHE3_FLAG_W,DELC13,DELC13_FLAG_W,DELC14,DELC14_FLAG_W,C14ERR,NEON,NEON_FLAG_W,NEONER,CTDRAW,THETA,HELIER,DELHER
,,,,,,,,,,,METERS,DBAR,ITS-90,PSS-78,,PSS-78,,UMOL/KG,,UMOL/KG,,UMOL/KG,,UMOL/KG,,UMOL/KG,,UMOL/KG,,PMOL/KG,,PMOL/KG,,UMOL/KG,,UMOL/KG,,UATM,,TU,,TU,NMOL/KG,,PERCNT,,/MILLE,,/MILLE,,/MILLE,NMOL/KG,,NMOL/KG,DBAR,DEG C,NMOL/KG,PERCNT
 316N145_14,       I02E,    1081,          1,         36,     SIH024,2,19951206,       0353,    -9.1250,   104.0000,       5410,     6.3,  28.3513,  33.4558,2,  33.4570,2,    206.0,2,   214.8,2,    2.45,2,    0.14,2,    0.00,2,    0.05,2,   1.623,2,   0.842,4,  1853.9,2,  2197.4,2,  -999.0,5,   1.049,2,   0.004,   1.7620,2,   -1.25,2, -999.00,9,  -999.0,9,  -999.0,   6.853,2,   0.034,   213.0,  28.3498,   0.0088,    0.14
 316N145_14,       I02E,    1081,          1,         35,     SIH003,2,19951206,       0353,    -9.1250,   104.0000,       5410,    28.0,  28.2205,  33.4656,2,  33.4697,2,    213.3,2,   215.9,2,    2.62,2,    0.14,2,    0.00,2,    0.06,2,   1.636,2,   0.704,4,  -999.0,9,  -999.0,9,  -999.0,5,   1.055,2,   0.004,   1.7444,2,   -1.32,2, -999.00,9,  -999.0,9,  -999.0,   6.789,2,   0.034,   426.9,  28.2139,   0.0087,    0.14
 316N145_14,       I02E,    1081,          1,         34,     SIH026,2,19951206,       0353,    -9.1250,   104.0000,       5410,    60.6,  26.9732,  34.3939,2,  34.3937,2,    214.2,2,   224.2,2,    3.16,2,    0.19,2,    0.00,2,    0.10,2,   1.729,2,   1.032,2,  -999.0,9,  -999.0,9,  -999.0,5,   1.159,2,   0.004,   1.7332,2,   -1.17,2, -999.00,9,  -999.0,9,  -999.0,   6.795,2,   0.034,   742.2,  26.9594,   0.0087,    0.14
 316N145_14,       I02E,    1081,          1,         33,     SIH027,2,19951206,       0353,    -9.1250,   104.0000,       5410,   100.7,  23.4332,  34.5024,2,  34.5154,2,    127.0,2,   132.9,2,   11.41,2,   10.66,2,    0.06,2,    0.79,2,   1.526,2,   0.893,2,  -999.0,9,  -999.0,9,  -999.0,5,   1.094,2,   0.004,   1.7675,2,    1.84,2, -999.00,9,  -999.0,9,  -999.0,   7.011,2,   0.035,  1135.1,  23.4124,   0.0088,    0.14
 316N145_14,       I02E,    1081,          1,         32,     SIH028,2,19951206,       0353,    -9.1250,   104.0000,       5410,   151.0,  16.1379,  34.6725,2,  34.6818,2,    100.8,2,    92.5,2,   27.03,2,   21.11,2,    0.01,2,    1.49,2,   1.138,2,   0.621,2,  -999.0,9,  -999.0,9,  -999.0,5,   0.924,2,   0.004,   1.8127,2,    6.62,2, -999.00,9,  -999.0,9,  -999.0,   7.398,2,   0.037,  1636.0,  16.1140,   0.0091,    0.14
 316N145_14,       I02E,    1081,          1,         31,     SIH029,2,19951206,       0353,    -9.1250,   104.0000,       5410,   200.6,  13.0766,  34.6550,2,  34.6563,2,     88.3,2,    84.5,2,   35.45,2,   25.29,2,    0.00,2,    1.78,2,   0.822,2,   0.440,2,  -999.0,9,  -999.0,9,  -999.0,5,   0.769,2,   0.003,   1.8638,2,    8.55,2, -999.00,9,  -999.0,9,  -999.0,   7.685,2,   0.038,  2131.8,  13.0490,   0.0093,    0.14
 316N145_14,       I02E,    1081,          1,         30,     SIH030,2,19951206,       0353,    -9.1250,   104.0000,       5410,   250.7,  11.7482,  34.6995,2,  34.6995,2,     79.8,2,    78.2,2,   38.10,2,   27.57,2,    0.00,2,    1.94,2,   0.623,6,   0.335,6,  -999.0,9,  -999.0,9,  -999.0,5,   0.617,2,   0.003,   1.8427,2,    8.77,2, -999.00,9,  -999.0,9,  -999.0,   7.633,2,   0.038,  2633.5,  11.7160,   0.0092,    0.14
 316N145_14,       I02E,    1081,          1,         29,     SIH031,2,19951206,       0353,    -9.1250,   104.0000,       5410,   301.1,  10.9781,  34.7651,2,  34.7669,2,     68.2,2,    68.7,2,   37.76,2,   29.30,2,    0.00,2,    2.03,2,   0.438,2,   0.232,2,  -999.0,9,  -999.0,9,  -999.0,5,   0.461,2,   0.003,   1.8349,2,    8.16,2, -999.00,9,  -999.0,9,  -999.0,   7.606,2,   0.038,  3137.9,  10.9409,   0.0092,    0.14
 316N145_14,       I02E,    1081,          1,         28,     SIH032,2,19951206,       0353,    -9.1250,   104.0000,       5410,   351.6,  10.6402,  34.8675,2,  34.8643,2,     65.5,2,    67.5,2,   33.73,2,   30.17,2,    0.00,2,    2.04,2,-999.000,5,-999.000,5,  -999.0,9,  -999.0,9,  -999.0,5,   0.271,2,   0.003,   1.8459,2,    6.18,2, -999.00,9,  -999.0,9,  -999.0,   7.679,2,   0.038,  3642.0,  10.5976,   0.0092,    0.14
 316N145_14,       I02E,    1081,          1,         27,     SIH033,2,19951206,       0353,    -9.1250,   104.0000,       5410,   401.4,   9.9841,  34.8162,2,  34.8145,2,     77.2,2,    77.8,2,   36.20,2,   30.28,2,    0.00,2,    2.05,2,   0.281,2,   0.162,2,  -999.0,9,  -999.0,9,  -999.0,5,   0.245,2,   0.003,   1.8441,2,    6.21,2, -999.00,9,  -999.0,9,  -999.0,   7.681,2,   0.038,  4139.0,   9.9372,   0.0092,    0.14
 316N145_14,       I02E,    1081,          1,         26,     SIH037,2,19951206,       0353,    -9.1250,   104.0000,       5410,   501.7,   8.6073,  34.7381,2,  34.7359,2,     78.1,2,    77.8,2,   49.04,2,   32.72,2,    0.00,2,    2.28,2,   0.128,2,   0.072,2,  -999.0,9,  -999.0,9,  -999.0,5,-999.000,1,-999.000,-999.0000,1, -999.00,9, -999.00,9,  -999.0,9,  -999.0,-999.000,9,-999.000,  5142.8,   8.5535,-999.0000, -999.00
 316N145_14,       I02E,    1081,          1,         25,     SI9446,2,19951206,       0353,    -9.1250,   104.0000,       5410,   595.8,   7.9712,  34.7540,2,  34.7518,2,     69.2,2,    70.0,2,   58.17,2,   34.45,2,    0.00,2,    2.43,2,   0.039,2,   0.020,2,  -999.0,9,  -999.0,9,  -999.0,5,   0.071,2,   0.002,   1.8862,2,    8.16,2, -999.00,9,  -999.0,9,  -999.0,   7.875,2,   0.039,  6084.5,   7.9097,   0.0094,    0.14
 316N145_14,       I02E,    1081,          1,         24,     SIH036,2,19951206,       0353,    -9.1250,   104.0000,       5410,   696.5,   7.1879,  34.7361,2,  34.7337,2,     67.9,2,    67.1,2,   71.89,2,   35.67,2,    0.00,2,    2.56,2,-999.000,5,-999.000,5,  -999.0,9,  -999.0,9,  -999.0,5,   0.067,2,   0.002,   1.9146,2,   10.38,2, -999.00,9,  -999.0,9,  -999.0,   7.972,2,   0.040,  7091.9,   7.1196,   0.0096,    0.14
 316N145_14,       I02E,    1081,          1,         23,     SIH001,2,19951206,       0353,    -9.1250,   104.0000,       5410,   798.2,   6.5273,  34.7262,2,  34.7243,2,     69.8,2,    69.3,2,   81.56,2,   36.24,2,    0.00,2,    2.62,2,   0.018,2,   0.005,2,  -999.0,9,  -999.0,9,  -999.0,5,   0.052,2,   0.002,   1.9161,2,   11.80,2, -999.00,9,  -999.0,9,  -999.0,   8.003,2,   0.040,  8109.5,   6.4525,   0.0096,    0.14
 316N145_14,       I02E,    1081,          1,         22,     SIH019,2,19951206,       0353,    -9.1250,   104.0000,       5410,   897.1,   6.0992,  34.7460,2,  34.7431,2,     69.5,2,    70.1,2,   87.38,2,   36.55,2,    0.00,2,    2.65,2,   0.012,2,   0.001,2,  -999.0,9,  -999.0,9,  -999.0,5,   0.025,2,   0.002,   1.9207,2,   12.20,2, -999.00,9,  -999.0,9,  -999.0,   8.002,2,   0.040,  9097.8,   6.0174,   0.0096,    0.14
 316N145_14,       I02E,    1081,          1,         21,     SIH025,2,19951206,       0353,    -9.1250,   104.0000,       5410,   999.4,   5.4551,  34.6962,2,  34.6958,2,     80.3,2,    79.1,2,   95.48,2,   36.56,2,    0.00,2,    2.65,2,   0.013,2,   0.001,2,  -999.0,9,  -999.0,9,  -999.0,5,-999.000,1,-999.000,-999.0000,1, -999.00,9, -999.00,9,  -999.0,9,  -999.0,-999.000,9,-999.000, 10122.2,   5.3681,-999.0000, -999.00
 316N145_14,       I02E,    1081,          1,         20,     SIH004,2,19951206,       0353,    -9.1250,   104.0000,       5410,  1099.2,   4.8519,  34.6722,2,  34.6710,2,     88.2,2,    90.2,2,  103.07,2,   36.56,2,    0.00,2,    2.64,2,-999.000,5,-999.000,5,  -999.0,9,  -999.0,9,  -999.0,5,   0.041,2,   0.002,   1.9133,2,   14.72,2, -999.00,9,  -999.0,9,  -999.0,   7.970,2,   0.040, 11119.9,   4.7605,   0.0096,    0.14
 316N145_14,       I02E,    1081,          1,         19,     SIH005,2,19951206,       0353,    -9.1250,   104.0000,       5410,  1200.5,   4.6395,  34.6957,2,  34.6969,2,     88.1,2,    89.4,2,  105.20,2,   36.66,2,    0.00,2,    2.65,2,   0.008,2,  -0.001,2,  -999.0,9,  -999.0,9,  -999.0,5,-999.000,1,-999.000,-999.0000,1, -999.00,9, -999.00,9,  -999.0,9,  -999.0,-999.000,9,-999.000, 12134.0,   4.5406,-999.0000, -999.00
 316N145_14,       I02E,    1081,          1,         18,     SIH006,2,19951206,       0353,    -9.1250,   104.0000,       5410,  1402.8,   4.1105,  34.7317,2,  34.7304,2,     96.5,2,    96.5,2,  109.79,2,   36.67,2,   -0.01,2,    2.65,2,   0.003,2,  -0.002,2,  -999.0,9,  -999.0,9,  -999.0,5,   0.014,2,   0.002,   1.9488,2,   13.79,2, -999.00,9,  -999.0,9,  -999.0,   8.150,2,   0.041, 14157.5,   3.9985,   0.0097,    0.14
 316N145_14,       I02E,    1081,          1,         17,     SIH038,2,19951206,       0353,    -9.1250,   104.0000,       5410,  1597.3,   3.5129,  34.7493,2,  34.7492,2,    110.4,2,   109.3,2,  113.85,2,   36.32,2,    0.00,2,    2.61,2,   0.000,2,  -0.004,2,  -999.0,9,  -999.0,9,  -999.0,5,-999.000,1,-999.000,   1.9290,2,   13.54,2, -999.00,9,  -999.0,9,  -999.0,   8.225,2,   0.036, 16103.5,   3.3902,   0.0040,    0.18
 316N145_14,       I02E,    1081,          1,         16,     SIH008,2,19951206,       0353,    -9.1250,   104.0000,       5410,  1798.8,   2.9524,  34.7402,2,  34.7394,2,    123.6,2,   124.7,2,  118.10,2,   35.71,2,    0.00,2,    2.55,2,-999.000,5,-999.000,5,  -999.0,9,  -999.0,9,  -999.0,5,-999.000,1,-999.000,   1.4600,4,   12.92,4, -999.00,9,  -999.0,9,  -999.0,   5.947,4,   0.066, 18118.9,   2.8191,   0.0030,    0.17
 316N145_14,       I02E,    1081,          1,         15,     SIH009,2,19951206,       0353,    -9.1250,   104.0000,       5410,  1996.7,   2.5778,  34.7405,2,  34.7406,2,    136.4,2,   135.5,2,  120.75,2,   35.25,2,   -0.01,2,    2.50,2,   0.000,2,  -0.002,2,  -999.0,9,  -999.0,9,  -999.0,5,-999.000,1,-999.000,   1.9170,2,   14.02,2, -999.00,9,  -999.0,9,  -999.0,   8.097,2,   0.089, 20099.5,   2.4325,   0.0040,    0.17
 316N145_14,       I02E,    1081,          1,         14,     SIH010,2,19951206,       0353,    -9.1250,   104.0000,       5410,  2250.9,   2.2446,  34.7395,2,  34.7382,2,    146.7,2,   145.2,2,  124.13,2,   34.90,2,   -0.01,2,    2.46,2,-999.000,5,-999.000,5,  -999.0,9,  -999.0,9,  -999.0,5,-999.000,1,-999.000,   1.9170,2,   13.74,2, -999.00,9,  -999.0,9,  -999.0,   8.039,2,   0.087, 22642.1,   2.0821,   0.0030,    0.17
 316N145_14,       I02E,    1081,          1,         13,     SIH011,2,19951206,       0353,    -9.1250,   104.0000,       5410,  2499.8,   2.0208,  34.7366,2,  34.7364,2,    152.7,2,   152.0,2,  126.79,2,   34.80,2,   -0.01,2,    2.43,2,-999.000,5,-999.000,5,  -999.0,9,  -999.0,9,  -999.0,5,-999.000,1,-999.000,   1.1910,4,    8.46,4, -999.00,9,  -999.0,9,  -999.0,   6.768,4,   0.076, 25132.3,   1.8398,   0.0020,    0.17
 316N145_14,       I02E,    1081,          1,         12,     SIH012,2,19951206,       0353,    -9.1250,   104.0000,       5410,  2742.2,   1.8420,  34.7317,2,  34.7317,2,    159.2,2,   158.7,2,  128.40,2,   34.45,2,   -0.01,2,    2.42,2,-999.000,5,-999.000,5,  -999.0,9,  -999.0,9,  -999.0,5,-999.000,1,-999.000,   1.9030,2,   13.99,2, -999.00,9,  -999.0,9,  -999.0,   8.133,2,   0.091, 27557.5,   1.6420,   0.0030,    0.17
 316N145_14,       I02E,    1081,          1,         11,     SI9425,2,19951206,       0353,    -9.1250,   104.0000,       5410,  2992.0,   1.6965,  34.7272,2,  34.7264,2,    164.1,2,   164.3,2,  129.47,2,   34.10,2,   -0.01,2,    2.39,2,   0.000,2,  -0.003,2,  -999.0,9,  -999.0,9,  -999.0,5,-999.000,1,-999.000,   1.9260,2,   13.57,2, -999.00,9,  -999.0,9,  -999.0,   8.222,2,   0.092, 30057.5,   1.4759,   0.0040,    0.17
 316N145_14,       I02E,    1081,          1,         10,     SIH014,2,19951206,       0353,    -9.1250,   104.0000,       5410,  3246.7,   1.5418,  34.7229,2,  34.7237,2,    170.2,2,   170.1,2,  130.56,2,   33.95,2,   -0.01,2,    2.38,2,-999.000,5,-999.000,5,  -999.0,9,  -999.0,9,  -999.0,5,-999.000,1,-999.000,   1.9230,2,   13.01,2, -999.00,9,  -999.0,9,  -999.0,   8.176,2,   0.090, 32604.5,   1.2999,   0.0030,    0.17
 316N145_14,       I02E,    1081,          1,          9,     SIH015,2,19951206,       0353,    -9.1250,   104.0000,       5410,  3489.1,   1.3913,  34.7188,2,  34.7182,2,    174.8,2,   177.5,2,  130.77,2,   33.60,2,   -0.01,2,    2.35,2,-999.000,5,-999.000,5,  -999.0,9,  -999.0,9,  -999.0,5,-999.000,1,-999.000,   1.9320,2,   12.77,2, -999.00,9,  -999.0,9,  -999.0,   8.125,2,   0.088, 35029.7,   1.1288,   0.0030,    0.17
 316N145_14,       I02E,    1081,          1,          8,     SIH016,2,19951206,       0353,    -9.1250,   104.0000,       5410,  3740.0,   1.2410,  34.7151,2,  34.7154,2,    183.4,2,   185.0,2,  130.43,2,   33.30,2,   -0.01,2,    2.32,2,-999.000,5,-999.000,5,  -999.0,9,  -999.0,9,  -999.0,5,-999.000,1,-999.000,   1.3240,4,   12.68,4, -999.00,9,  -999.0,9,  -999.0,   5.451,4,   0.061, 37539.5,   0.9567,   0.0020,    0.17
 316N145_14,       I02E,    1081,          1,          7,     SIH017,2,19951206,       0353,    -9.1250,   104.0000,       5410,  3990.2,   1.1818,  34.7137,2,  34.7127,2,    187.3,2,   189.2,2,  129.58,2,   33.09,2,    0.00,2,    2.29,2,   0.000,2,  -0.002,2,  -999.0,9,  -999.0,9,  -999.0,5,-999.000,1,-999.000,   1.9340,2,   12.10,2, -999.00,9,  -999.0,9,  -999.0,   8.164,2,   0.090, 40041.9,   0.8728,   0.0030,    0.17
 316N145_14,       I02E,    1081,          1,          6,     SIH018,2,19951206,       0353,    -9.1250,   104.0000,       5410,  4245.3,   1.1568,  34.7123,2,  34.7127,2,    191.1,2,   192.3,2,  128.91,2,   32.90,2,    0.00,2,    2.28,2,-999.000,5,-999.000,5,  -999.0,9,  -999.0,9,  -999.0,5,-999.000,1,-999.000,   0.9020,4,    8.17,4, -999.00,9,  -999.0,9,  -999.0,   4.934,4,   0.055, 42594.9,   0.8208,   0.0020,    0.18
 316N145_14,       I02E,    1081,          1,          5,     SIH002,3,19951206,       0353,    -9.1250,   104.0000,       5410,  4500.7,   1.1582,  34.7124,2,  34.7109,4,    194.0,2,   205.8,4,  128.05,2,   32.80,2,    0.00,2,    2.28,2,-999.000,5,-999.000,5,  -999.0,9,  -999.0,9,  -999.0,5,-999.000,1,-999.000,   4.0340,4,   -5.38,4, -999.00,9,  -999.0,9,  -999.0,  13.390,4,   0.149, 45150.0,   0.7936,   0.0070,    0.16
 316N145_14,       I02E,    1081,          1,          4,     SIH020,2,19951206,       0353,    -9.1250,   104.0000,       5410,  4743.8,   1.1727,  34.7117,2,  34.7117,2,    194.3,2,   195.3,2,  127.73,2,   32.70,2,    0.00,2,    2.26,2,  -0.001,2,  -0.003,2,  -999.0,9,  -999.0,9,  -999.0,5,-999.000,1,-999.000,   1.9810,4,   11.29,3, -999.00,9,  -999.0,9,  -999.0,   8.502,4,   0.064, 47581.2,   0.7797,   0.0040,    0.18
 316N145_14,       I02E,    1081,          1,          3,     SIH021,2,19951206,       0353,    -9.1250,   104.0000,       5410,  4991.5,   1.1936,  34.7112,2,  34.7099,2,    194.8,2,   195.3,2,  127.39,2,   32.65,2,    0.00,2,    2.26,2,-999.000,5,-999.000,5,  -999.0,9,  -999.0,9,  -999.0,5,-999.000,1,-999.000,   1.9040,2,   11.47,2, -999.00,9,  -999.0,9,  -999.0,   8.213,2,   0.062, 50060.5,   0.7706,   0.0040,    0.19
 316N145_14,       I02E,    1081,          1,          2,     SIH022,2,19951206,       0353,    -9.1250,   104.0000,       5410,  5310.0,   1.2266,  34.7111,2,  34.7109,2,    195.5,2,   195.4,2,  127.60,2,   32.71,2,    0.00,2,    2.26,2,-999.000,5,-999.000,5,  -999.0,9,  -999.0,9,  -999.0,5,-999.000,1,-999.000,   1.9390,3,   11.10,2, -999.00,9,  -999.0,9,  -999.0,   8.357,3,   0.063, 53245.5,   0.7636,   0.0060,    0.19
 316N145_14,       I02E,    1081,          1,          1,     SIH023,2,19951206,       0353,    -9.1250,   104.0000,       5410,  5537.9,   1.2515,  34.7109,2,  34.7109,2,    194.3,2,   196.0,2,  127.90,6,   32.69,6,    0.00,6,    2.26,6,   0.001,2,  -0.005,2,  -999.0,9,  -999.0,9,  -999.0,5,-999.000,1,-999.000,-999.0000,1, -999.00,9, -999.00,9,  -999.0,9,  -999.0,-999.000,9,-999.000, 55523.5,   0.7590,-999.0000, -999.00