BOTTLE,20220829CCHSIOAMB
EXPOCODE,SECT_ID,STNNBR,CASTNO,SAMPNO,BTLNBR,BTLNBR_FLAG_W,DATE,TIME,LATITUDE,LONGITUDE,DEPTH,CTDPRS,CTDTMP,CTDSAL,CTDSAL_FLAG_W,SALNTY,SALNTY_FLAG_W,CTDOXY,CTDOXY_FLAG_W,OXYGEN,OXYGEN_FLAG_W,SILCAT,SILCAT_FLAG_W,NITRAT,NITRAT_FLAG_W,NITRIT,NITRIT_FLAG_W,PHSPHT,PHSPHT_FLAG_W,CFC-11,CFC-11_FLAG_W,CFC-12,CFC-12_FLAG_W,TCARBN,TCARBN_FLAG_W,ALKALI,ALKALI_FLAG_W,PCO2,PCO2_FLAG_W,TRITUM,TRITUM_FLAG_W,TRITER,HELIUM,HELIUM_FLAG_W,DELHE3,DELHE3_FLAG_W,DELC13,DELC13_FLAG_W,DELC14,DELC14_FLAG_W,C14ERR,NEON,NEON_FLAG_W,NEONER,CTDRAW,THETA,HELIER,DELHER
,,,,,,,,,,,METERS,DBAR,ITS-90,PSS-78,,PSS-78,,UMOL/KG,,UMOL/KG,,UMOL/KG,,UMOL/KG,,UMOL/KG,,UMOL/KG,,PMOL/KG,,PMOL/KG,,UMOL/KG,,UMOL/KG,,UATM,,TU,,TU,NMOL/KG,,PERCNT,,/MILLE,,/MILLE,,/MILLE,NMOL/KG,,NMOL/KG,DBAR,DEG C,NMOL/KG,PERCNT
 316N145_14,       I02E,    1104,          1,         36,     SIH024,4,19951213,       1055,    -8.0000,    89.3750,       3848,    10.3,  27.2137,  34.3294,2,  34.5272,4,    210.7,2,    78.2,4,   19.57,4,   11.74,4,    0.01,4,    0.91,4,-999.000,5,-999.000,5,  2225.5,4,  2308.5,4,  -999.0,5,-999.000,1,-999.000,-999.0000,1, -999.00,9,    0.63,2,   -13.4,2,     3.2,-999.000,9,-999.000,   241.5,  27.2113,-999.0000, -999.00
 316N145_14,       I02E,    1104,          1,         35,     SIH003,2,19951213,       1055,    -8.0000,    89.3750,       3848,    37.5,  26.7715,  34.3325,2,  34.3397,2,    204.3,2,   210.8,2,    2.63,2,    0.14,2,    0.00,2,    0.15,2,   1.717,2,   0.985,2,  1931.1,2,  2257.1,2,  -999.0,5,-999.000,1,-999.000,-999.0000,1, -999.00,9, -999.00,9,  -999.0,9,  -999.0,-999.000,9,-999.000,   509.6,  26.7629,-999.0000, -999.00
 316N145_14,       I02E,    1104,          1,         34,     SIH026,2,19951213,       1055,    -8.0000,    89.3750,       3848,    67.8,  22.9460,  34.5267,2,  34.5779,2,    114.1,2,   123.7,2,   11.80,2,   11.45,2,    0.20,2,    0.89,2,   1.480,2,   0.826,2,  2048.1,2,  2270.5,2,  -999.0,5,-999.000,1,-999.000,-999.0000,1, -999.00,9,    0.60,2,    46.6,2,     4.0,-999.000,9,-999.000,   809.6,  22.9322,-999.0000, -999.00
 316N145_14,       I02E,    1104,          1,         33,     SIH027,2,19951213,       1055,    -8.0000,    89.3750,       3848,    97.9,  19.8464,  34.8483,2,  34.8418,2,     65.3,2,    75.3,2,   17.18,2,   19.48,2,    0.10,2,    1.38,2,   1.274,2,   0.689,2,  2120.8,2,  2291.2,2,  -999.0,5,-999.000,1,-999.000,-999.0000,1, -999.00,9, -999.00,9,  -999.0,9,  -999.0,-999.000,9,-999.000,  1107.9,  19.8285,-999.0000, -999.00
 316N145_14,       I02E,    1104,          1,         32,     SIH028,2,19951213,       1055,    -8.0000,    89.3750,       3848,   122.5,  16.9209,  34.8297,2,  34.8401,2,     65.9,2,    67.7,2,   23.28,2,   22.80,2,    0.01,2,    1.62,2,   1.066,2,   0.567,2,  2152.8,2,  2293.7,2,  -999.0,5,-999.000,1,-999.000,-999.0000,1, -999.00,9,    0.21,2,    23.3,2,     3.8,-999.000,9,-999.000,  1352.0,  16.9008,-999.0000, -999.00
 316N145_14,       I02E,    1104,          1,         31,     SIH029,3,19951213,       1055,    -8.0000,    89.3750,       3848,   153.1,  14.3139,  34.7071,2,  34.7101,2,     91.4,2,    78.4,2,   30.28,2,   24.30,2,    0.01,2,    1.74,2,-999.000,5,-999.000,5,  2169.4,2,  2298.7,2,  -999.0,5,-999.000,1,-999.000,-999.0000,1, -999.00,9, -999.00,9,  -999.0,9,  -999.0,-999.000,9,-999.000,  1657.2,  14.2915,-999.0000, -999.00
 316N145_14,       I02E,    1104,          1,         30,     SIH030,2,19951213,       1055,    -8.0000,    89.3750,       3848,   202.6,  12.3293,  34.7981,2,  34.7944,2,     65.7,2,    64.8,2,   33.32,2,   27.98,2,    0.00,2,    1.97,2,-999.000,5,-999.000,5,  2202.1,2,  2307.3,2,  -999.0,5,-999.000,1,-999.000,-999.0000,1, -999.00,9,    0.23,2,   -32.9,2,     2.6,-999.000,9,-999.000,  2152.5,  12.3025,-999.0000, -999.00
 316N145_14,       I02E,    1104,          1,         29,     SIH031,2,19951213,       1055,    -8.0000,    89.3750,       3848,   252.4,  11.4109,  34.8558,2,  34.8560,2,     66.2,2,    62.7,2,   32.22,2,   29.09,2,    0.00,2,    2.03,2,   0.377,2,   0.188,2,  2212.2,2,  2310.9,2,  -999.0,5,-999.000,1,-999.000,-999.0000,1, -999.00,9,    0.27,2,   -43.7,2,     2.3,-999.000,9,-999.000,  2650.1,  11.3790,-999.0000, -999.00
 316N145_14,       I02E,    1104,          1,         28,     SIH032,2,19951213,       1055,    -8.0000,    89.3750,       3848,   302.3,  10.8603,  34.8865,2,  34.8855,2,     63.7,2,    64.6,2,   31.13,2,   29.79,2,    0.00,2,    2.04,2,-999.000,5,-999.000,5,  2216.9,2,  2312.6,2,  -999.0,5,-999.000,1,-999.000,-999.0000,1, -999.00,9,    0.30,2,   -60.2,2,     2.3,-999.000,9,-999.000,  3150.5,  10.8232,-999.0000, -999.00
 316N145_14,       I02E,    1104,          1,         27,     SIH033,2,19951213,       1055,    -8.0000,    89.3750,       3848,   352.1,  10.2892,  34.8775,2,  34.8745,2,     65.2,2,    66.1,2,   32.73,2,   30.64,2,    0.00,2,    2.09,2,   0.187,2,   0.099,2,  2211.6,2,  2312.2,2,  -999.0,5,-999.000,1,-999.000,-999.0000,1, -999.00,9,    0.36,2,   -77.2,2,     2.5,-999.000,9,-999.000,  3648.3,  10.2474,-999.0000, -999.00
 316N145_14,       I02E,    1104,          1,         26,     SIH037,2,19951213,       1055,    -8.0000,    89.3750,       3848,   402.2,   9.8624,  34.8640,2,  34.8629,2,     66.5,2,    69.4,2,   34.15,2,   31.21,2,    0.00,2,    2.14,2,-999.000,5,-999.000,5,  2234.5,2,  2315.0,2,  -999.0,5,-999.000,1,-999.000,-999.0000,1, -999.00,9,    0.37,2,   -78.7,2,     3.7,-999.000,9,-999.000,  4149.1,   9.8158,-999.0000, -999.00
 316N145_14,       I02E,    1104,          1,         25,     SI9446,2,19951213,       1055,    -8.0000,    89.3750,       3848,   498.1,   8.8718,  34.8262,2,  34.8239,2,     67.6,2,    66.7,2,   45.28,2,   33.13,2,    0.00,2,    2.34,2,   0.065,2,   0.034,2,  2240.8,2,  2322.1,2,  -999.0,5,-999.000,1,-999.000,-999.0000,1, -999.00,9,    0.34,2,  -105.3,2,     4.4,-999.000,9,-999.000,  5107.5,   8.8173,-999.0000, -999.00
 316N145_14,       I02E,    1104,          1,         24,     SIH036,2,19951213,       1055,    -8.0000,    89.3750,       3848,   597.2,   8.0904,  34.8021,2,  34.8003,2,     63.7,2,    61.9,2,   57.49,2,   34.73,2,    0.00,2,    2.50,2,-999.000,5,-999.000,5,  2259.2,2,  2336.1,2,  -999.0,5,-999.000,1,-999.000,-999.0000,1, -999.00,9,    0.27,2,  -125.9,2,     2.4,-999.000,9,-999.000,  6099.6,   8.0281,-999.0000, -999.00
 316N145_14,       I02E,    1104,          1,         23,     SIH001,2,19951213,       1055,    -8.0000,    89.3750,       3848,   697.9,   7.3672,  34.7820,2,  34.7807,2,     61.2,2,    60.9,2,   68.80,2,   35.79,2,    0.00,2,    2.60,2,   0.012,2,   0.005,2,  2273.6,2,  2343.5,2,  -999.0,5,-999.000,1,-999.000,-999.0000,1, -999.00,9,    0.17,2,  -128.1,2,     4.0,-999.000,9,-999.000,  7106.2,   7.2978,-999.0000, -999.00
 316N145_14,       I02E,    1104,          1,         22,     SIH019,3,19951213,       1055,    -8.0000,    89.3750,       3848,   797.9,   6.5901,  34.7508,2,  34.7500,2,     65.3,2,    66.1,2,   79.93,2,   36.38,2,    0.00,2,    2.65,2,   0.012,2,   0.004,2,  2285.6,2,  2357.2,2,  -999.0,5,-999.000,1,-999.000,-999.0000,1, -999.00,9,    0.11,2,  -148.5,2,     3.4,-999.000,9,-999.000,  8106.1,   6.5149,-999.0000, -999.00
 316N145_14,       I02E,    1104,          1,         21,     SIH025,2,19951213,       1055,    -8.0000,    89.3750,       3848,   897.6,   5.9009,  34.7260,2,  34.7239,2,     69.8,2,    72.4,2,   88.72,2,   36.59,2,    0.00,2,    2.68,2,-999.000,5,-999.000,5,  2292.4,2,  2363.4,2,  -999.0,5,-999.000,1,-999.000,-999.0000,1, -999.00,9,    0.12,2,  -157.7,2,     3.3,-999.000,9,-999.000,  9103.3,   5.8203,-999.0000, -999.00
 316N145_14,       I02E,    1104,          1,         20,     SIH004,2,19951213,       1055,    -8.0000,    89.3750,       3848,   999.1,   5.4008,  34.7179,2,  34.7180,2,     76.7,2,    77.6,2,   95.34,2,   36.75,2,    0.00,2,    2.70,2,-999.000,5,-999.000,5,  2298.5,2,  2374.2,2,  -999.0,5,-999.000,1,-999.000,   1.8990,2,   14.26,2,    0.12,2,  -169.1,2,     3.9,   7.898,2,   0.030, 10118.9,   5.3142,   0.0090,    0.11
 316N145_14,       I02E,    1104,          1,         19,     SIH005,2,19951213,       1055,    -8.0000,    89.3750,       3848,  1100.3,   5.1349,  34.7249,2,  34.7241,2,     82.2,2,    80.5,2,   98.37,2,   36.85,2,    0.00,2,    2.71,2,   0.005,2,  -0.002,2,  2301.2,2,  2375.0,2,  -999.0,5,-999.000,1,-999.000,-999.0000,1, -999.00,9, -999.00,9,  -999.0,9,  -999.0,-999.000,9,-999.000, 11131.6,   5.0409,-999.0000, -999.00
 316N145_14,       I02E,    1104,          1,         18,     SIH006,2,19951213,       1055,    -8.0000,    89.3750,       3848,  1200.5,   4.6788,  34.7156,2,  34.7190,2,     85.3,2,    86.1,2,  103.56,2,   36.85,2,    0.00,2,    2.71,2,-999.000,5,-999.000,5,  2305.6,2,  2381.5,2,  -999.0,5,-999.000,1,-999.000,-999.0000,1, -999.00,9,    0.10,2,  -168.3,2,     3.7,-999.000,9,-999.000, 12133.9,   4.5795,-999.0000, -999.00
 316N145_14,       I02E,    1104,          1,         17,     SIH038,2,19951213,       1055,    -8.0000,    89.3750,       3848,  1299.1,   4.4324,  34.7258,2,  34.7247,2,     92.7,2,    90.2,2,  106.24,2,   36.79,2,    0.00,2,    2.71,2,-999.000,5,-999.000,5,  2307.7,2,  2384.1,2,  -999.0,5,-999.000,1,-999.000,   1.9560,4,   14.01,2, -999.00,9,  -999.0,9,  -999.0,   8.206,2,   0.022, 13120.4,   4.3265,   0.0100,    0.07
 316N145_14,       I02E,    1104,          1,         16,     SIH008,2,19951213,       1055,    -8.0000,    89.3750,       3848,  1394.8,   4.1320,  34.7383,2,  34.7384,2,     96.3,2,    96.0,2,  108.19,2,   36.53,2,    0.00,2,    2.69,2,   0.002,2,  -0.001,2,  2308.6,2,  2392.0,2,  -999.0,5,-999.000,1,-999.000,-999.0000,1, -999.00,9,   -0.19,3,  -195.2,2,     2.2,-999.000,9,-999.000, 14078.0,   4.0204,-999.0000, -999.00
 316N145_14,       I02E,    1104,          1,         15,     SIH009,2,19951213,       1055,    -8.0000,    89.3750,       3848,  1597.7,   3.5049,  34.7536,2,  34.7547,2,    111.4,2,   110.5,2,  112.48,2,   36.21,2,    0.00,2,    2.63,2,-999.000,5,-999.000,5,  2308.3,2,  2391.0,2,  -999.0,5,-999.000,1,-999.000,   1.9560,3,   13.56,2, -999.00,9,  -999.0,9,  -999.0,   8.172,2,   0.021, 16107.0,   3.3822,   0.0020,    0.09
 316N145_14,       I02E,    1104,          1,         14,     SIH010,2,19951213,       1055,    -8.0000,    89.3750,       3848,  1794.3,   2.9180,  34.7489,2,  34.7486,2,    126.0,2,   124.6,2,  118.03,2,   35.57,2,    0.00,2,    2.56,2,-999.000,5,-999.000,5,  2307.1,2,  2401.9,2,  -999.0,5,-999.000,1,-999.000,-999.0000,1, -999.00,9, -999.00,9,  -999.0,9,  -999.0,-999.000,9,-999.000, 18073.5,   2.7856,-999.0000, -999.00
 316N145_14,       I02E,    1104,          1,         13,     SIH011,2,19951213,       1055,    -8.0000,    89.3750,       3848,  1988.6,   2.5189,  34.7437,2,  34.7437,2,    137.9,2,   137.4,2,  121.05,2,   35.14,2,    0.00,2,    2.52,2,-999.000,5,-999.000,5,  2304.8,2,  2398.0,2,  -999.0,5,-999.000,1,-999.000,   1.9330,2,   14.33,2, -999.00,9,  -999.0,9,  -999.0,   8.175,2,   0.050, 20017.0,   2.3752,   0.0020,    0.20
 316N145_14,       I02E,    1104,          1,         12,     SIH012,2,19951213,       1055,    -8.0000,    89.3750,       3848,  2191.0,   2.2472,  34.7410,2,  34.7408,2,    145.9,2,   145.7,2,  123.09,2,   34.77,2,    0.00,2,    2.48,2,   0.000,2,  -0.001,2,  2303.3,2,  2403.1,2,  -999.0,5,-999.000,1,-999.000,   1.9570,3,   13.96,2, -999.00,9,  -999.0,9,  -999.0,   8.231,2,   0.021, 22042.8,   2.0900,   0.0020,    0.09
 316N145_14,       I02E,    1104,          1,         11,     SI9426,2,19951213,       1055,    -8.0000,    89.3750,       3848,  2383.1,   2.0682,  34.7387,2,  34.7402,2,    151.2,2,   152.1,2,  124.77,2,   34.55,2,    0.00,2,    2.45,2,-999.000,5,-999.000,5,  2302.2,2,  2404.8,2,  -999.0,5,-999.000,1,-999.000,-999.0000,1, -999.00,9, -999.00,9,  -999.0,9,  -999.0,-999.000,9,-999.000, 23964.1,   1.8969,-999.0000, -999.00
 316N145_14,       I02E,    1104,          1,         10,     SIH014,2,19951213,       1055,    -8.0000,    89.3750,       3848,  2590.6,   1.9253,  34.7353,2,  34.7360,2,    156.8,2,   156.7,2,  126.64,2,   34.34,2,    0.00,2,    2.43,2,-999.000,5,-999.000,5,  2299.0,2,  2404.7,2,  -999.0,5,-999.000,1,-999.000,   2.5030,4,   11.56,4, -999.00,9,  -999.0,9,  -999.0,   9.957,4,   0.026, 26039.6,   1.7378,   0.0030,    0.08
 316N145_14,       I02E,    1104,          1,          9,     SIH015,2,19951213,       1055,    -8.0000,    89.3750,       3848,  2792.7,   1.7751,  34.7312,2,  34.7315,2,    160.0,2,   161.9,2,  127.78,2,   34.09,2,    0.00,2,    2.41,2,-999.000,5,-999.000,5,  2300.4,2,  2409.8,2,  -999.0,5,-999.000,1,-999.000,   1.9490,2,   13.54,2, -999.00,9,  -999.0,9,  -999.0,   8.240,2,   0.021, 28061.6,   1.5718,   0.0020,    0.09
 316N145_14,       I02E,    1104,          1,          8,     SIH016,2,19951213,       1055,    -8.0000,    89.3750,       3848,  3090.9,   1.5834,  34.7249,2,  34.7258,2,    168.9,2,   168.3,2,  130.80,2,   33.91,2,    0.00,2,    2.38,2,  -0.001,2,  -0.002,2,  2300.0,2,  2406.3,2,  -999.0,5,-999.000,1,-999.000,-999.0000,1, -999.00,9, -999.00,9,  -999.0,9,  -999.0,-999.000,9,-999.000, 31044.4,   1.3558,-999.0000, -999.00
 316N145_14,       I02E,    1104,          1,          7,     SIH017,2,19951213,       1055,    -8.0000,    89.3750,       3848,  3195.0,   1.5097,  34.7231,2,  34.7237,2,    170.6,2,   171.0,2,  130.60,2,   33.91,2,    0.00,2,    2.38,2,-999.000,5,-999.000,5,  2298.3,2,  2409.9,2,  -999.0,5,-999.000,1,-999.000,-999.0000,1, -999.00,9, -999.00,9,  -999.0,9,  -999.0,-999.000,9,-999.000, 32085.1,   1.2737,-999.0000, -999.00
 316N145_14,       I02E,    1104,          1,          6,     SIH018,2,19951213,       1055,    -8.0000,    89.3750,       3848,  3397.9,   1.4353,  34.7210,2,  34.7211,2,    174.9,2,   174.9,2,  131.29,2,   33.86,2,    0.00,2,    2.37,2,-999.000,5,-999.000,5,  2297.1,2,  2406.1,2,  -999.0,5,-999.000,1,-999.000,-999.0000,1, -999.00,9, -999.00,9,  -999.0,9,  -999.0,-999.000,9,-999.000, 34114.4,   1.1808,-999.0000, -999.00
 316N145_14,       I02E,    1104,          1,          5,     SIH002,2,19951213,       1055,    -8.0000,    89.3750,       3848,  3595.1,   1.3559,  34.7199,2,  34.7190,2,    178.1,2,   177.5,2,  132.52,2,   33.53,2,    0.00,2,    2.34,2,-999.000,5,-999.000,5,  2297.0,2,  2410.4,2,  -999.0,5,-999.000,1,-999.000,   1.9930,4,   11.97,3, -999.00,9,  -999.0,9,  -999.0,   8.523,3,   0.022, 36087.2,   1.0835,   0.0020,    0.09
 316N145_14,       I02E,    1104,          1,          3,     SIH021,2,19951213,       1055,    -8.0000,    89.3750,       3848,  3696.4,   1.3374,  34.7187,2,  34.7188,2,    179.0,2,   178.8,2,  132.47,2,   33.63,2,    0.00,2,    2.34,2,-999.000,5,-999.000,5,  2296.3,2,  2412.3,2,  -999.0,5,-999.000,1,-999.000,-999.0000,1, -999.00,9, -999.00,9,  -999.0,9,  -999.0,-999.000,9,-999.000, 37099.0,   1.0550,-999.0000, -999.00
 316N145_14,       I02E,    1104,          1,          4,     SIH020,2,19951213,       1055,    -8.0000,    89.3750,       3848,  3697.4,   1.3374,  34.7186,2,  34.7184,2,    179.5,2,   178.8,2,  132.32,2,   33.48,2,    0.00,2,    2.33,2,-999.000,5,-999.000,5,  2295.4,2,  2407.9,2,  -999.0,5,-999.000,1,-999.000,-999.0000,1, -999.00,9, -999.00,9,  -999.0,9,  -999.0,-999.000,9,-999.000, 37108.9,   1.0549,-999.0000, -999.00
 316N145_14,       I02E,    1104,          1,          2,     SIH022,2,19951213,       1055,    -8.0000,    89.3750,       3848,  3798.5,   1.3163,  34.7175,2,  34.7162,2,    180.0,2,   183.1,2,  130.29,2,   33.26,2,    0.00,2,    2.32,2,-999.000,5,-999.000,5,  2291.1,2,  2404.8,2,  -999.0,5,-999.000,1,-999.000,   1.9610,3,   12.37,2, -999.00,9,  -999.0,9,  -999.0,   8.365,3,   0.032, 38120.4,   1.0238,   0.0040,    0.11
 316N145_14,       I02E,    1104,          1,          1,     SIH023,2,19951213,       1055,    -8.0000,    89.3750,       3848,  3893.7,   1.1700,  34.7151,2,  34.7144,2,    189.0,2,   191.4,2,  127.73,6,   32.82,6,    0.00,6,    2.29,6,   0.001,2,  -0.002,2,  2281.5,2,  2396.0,2,  -999.0,5,-999.000,1,-999.000,-999.0000,1, -999.00,9, -999.00,9,  -999.0,9,  -999.0,-999.000,9,-999.000, 39076.0,   0.8715,-999.0000, -999.00