BOTTLE,20220829CCHSIOAMB
EXPOCODE,SECT_ID,STNNBR,CASTNO,SAMPNO,BTLNBR,BTLNBR_FLAG_W,DATE,TIME,LATITUDE,LONGITUDE,DEPTH,CTDPRS,CTDTMP,CTDSAL,CTDSAL_FLAG_W,SALNTY,SALNTY_FLAG_W,CTDOXY,CTDOXY_FLAG_W,OXYGEN,OXYGEN_FLAG_W,SILCAT,SILCAT_FLAG_W,NITRAT,NITRAT_FLAG_W,NITRIT,NITRIT_FLAG_W,PHSPHT,PHSPHT_FLAG_W,CFC-11,CFC-11_FLAG_W,CFC-12,CFC-12_FLAG_W,TCARBN,TCARBN_FLAG_W,ALKALI,ALKALI_FLAG_W,PCO2,PCO2_FLAG_W,TRITUM,TRITUM_FLAG_W,TRITER,HELIUM,HELIUM_FLAG_W,DELHE3,DELHE3_FLAG_W,DELC13,DELC13_FLAG_W,DELC14,DELC14_FLAG_W,C14ERR,NEON,NEON_FLAG_W,NEONER,CTDRAW,THETA,HELIER,DELHER
,,,,,,,,,,,METERS,DBAR,ITS-90,PSS-78,,PSS-78,,UMOL/KG,,UMOL/KG,,UMOL/KG,,UMOL/KG,,UMOL/KG,,UMOL/KG,,PMOL/KG,,PMOL/KG,,UMOL/KG,,UMOL/KG,,UATM,,TU,,TU,NMOL/KG,,PERCNT,,/MILLE,,/MILLE,,/MILLE,NMOL/KG,,NMOL/KG,DBAR,DEG C,NMOL/KG,PERCNT
 316N145_14,       I02E,    1086,          1,         36,     SIH024,2,19951207,       1805,    -8.7500,   100.6667,       5620,    11.1,  28.7150,  33.4108,2,  33.4125,2,    203.9,2,   210.3,2,    3.12,2,    0.09,2,    0.01,2,    0.05,2,   1.588,2,   0.944,2,  1850.8,2,  2190.6,2,  -999.0,5,-999.000,1,-999.000,-999.0000,1, -999.00,9, -999.00,9,  -999.0,9,  -999.0,-999.000,9,-999.000,   259.5,  28.7124,-999.0000, -999.00
 316N145_14,       I02E,    1086,          1,         35,     SIH003,2,19951207,       1805,    -8.7500,   100.6667,       5620,    36.1,  28.4144,  33.9896,2,  33.9908,2,    194.7,2,   212.5,2,    3.29,2,    0.20,2,    0.01,2,    0.11,2,   1.602,2,   0.924,2,  1899.7,2,  2251.5,2,  -999.0,5,-999.000,1,-999.000,-999.0000,1, -999.00,9, -999.00,9,  -999.0,9,  -999.0,-999.000,9,-999.000,   503.6,  28.4058,-999.0000, -999.00
 316N145_14,       I02E,    1086,          1,         34,     SIH026,2,19951207,       1805,    -8.7500,   100.6667,       5620,    66.4,  26.5321,  34.4567,2,  34.4581,2,    133.2,2,   190.6,2,    4.63,2,    1.53,2,    0.12,2,    0.30,2,   1.583,2,   0.931,2,  1964.5,2,  2259.4,2,  -999.0,5,-999.000,1,-999.000,-999.0000,1, -999.00,9, -999.00,9,  -999.0,9,  -999.0,-999.000,9,-999.000,   798.0,  26.5171,-999.0000, -999.00
 316N145_14,       I02E,    1086,          1,         33,     SIH027,2,19951207,       1805,    -8.7500,   100.6667,       5620,   105.4,  20.8405,  34.5601,2,  34.5590,2,    103.7,2,   111.6,2,   17.27,2,   14.70,2,    0.03,2,    1.07,2,   1.424,2,   0.810,2,  2070.9,2,  2280.7,2,  -999.0,5,-999.000,1,-999.000,-999.0000,1, -999.00,9, -999.00,9,  -999.0,9,  -999.0,-999.000,9,-999.000,  1182.6,  20.8205,-999.0000, -999.00
 316N145_14,       I02E,    1086,          1,         32,     SIH028,2,19951207,       1805,    -8.7500,   100.6667,       5620,   154.8,  16.3819,  34.7176,2,  34.7203,2,     95.7,2,    88.7,2,   26.55,2,   21.18,2,    0.01,2,    1.51,2,   1.142,2,   0.592,2,  2137.4,2,  2292.3,2,  -999.0,5,-999.000,1,-999.000,-999.0000,1, -999.00,9, -999.00,9,  -999.0,9,  -999.0,-999.000,9,-999.000,  1674.0,  16.3570,-999.0000, -999.00
 316N145_14,       I02E,    1086,          1,         31,     SIH029,2,19951207,       1805,    -8.7500,   100.6667,       5620,   206.2,  13.5927,  34.7039,2,  34.6995,2,     77.0,2,    80.2,2,   33.29,2,   25.11,2,    0.01,2,    1.78,2,   0.848,2,   0.446,2,  -999.0,9,  2314.5,2,  -999.0,5,-999.000,1,-999.000,-999.0000,1, -999.00,9, -999.00,9,  -999.0,9,  -999.0,-999.000,9,-999.000,  2186.5,  13.5636,-999.0000, -999.00
 316N145_14,       I02E,    1086,          1,         30,     SIH030,2,19951207,       1805,    -8.7500,   100.6667,       5620,   256.7,  11.5929,  34.7013,2,  34.7048,2,     71.0,2,    74.7,2,   38.68,2,   28.06,2,    0.01,2,    1.97,2,   0.580,6,   0.301,6,  2198.9,2,  2307.0,2,  -999.0,5,-999.000,1,-999.000,-999.0000,1, -999.00,9, -999.00,9,  -999.0,9,  -999.0,-999.000,9,-999.000,  2691.0,  11.5602,-999.0000, -999.00
 316N145_14,       I02E,    1086,          1,         29,     SIH031,2,19951207,       1805,    -8.7500,   100.6667,       5620,   303.7,  10.5182,  34.7070,2,  34.7001,3,     71.2,2,    75.6,2,   41.88,2,   29.46,2,    0.00,2,    2.07,2,   0.488,2,   0.237,2,  2214.0,2,  2337.5,3,  -999.0,5,-999.000,1,-999.000,-999.0000,1, -999.00,9, -999.00,9,  -999.0,9,  -999.0,-999.000,9,-999.000,  3162.2,  10.4817,-999.0000, -999.00
 316N145_14,       I02E,    1086,          1,         28,     SIH032,2,19951207,       1805,    -8.7500,   100.6667,       5620,   351.3,  10.0920,  34.7788,2,  34.7767,2,     72.2,2,    73.3,2,   39.18,2,   30.40,2,    0.00,2,    2.10,2,-999.000,5,-999.000,5,  2219.1,2,  2312.9,2,  -999.0,5,-999.000,1,-999.000,-999.0000,1, -999.00,9, -999.00,9,  -999.0,9,  -999.0,-999.000,9,-999.000,  3638.7,  10.0508,-999.0000, -999.00
 316N145_14,       I02E,    1086,          1,         27,     SIH033,2,19951207,       1805,    -8.7500,   100.6667,       5620,   404.6,   9.7250,  34.8046,2,  34.8049,2,     78.4,2,    82.8,2,   36.32,2,   30.29,2,    0.01,2,    2.07,2,   0.266,2,   0.142,2,  2215.9,2,  2318.7,2,  -999.0,5,-999.000,1,-999.000,-999.0000,1, -999.00,9, -999.00,9,  -999.0,9,  -999.0,-999.000,9,-999.000,  4171.0,   9.6784,-999.0000, -999.00
 316N145_14,       I02E,    1086,          1,         26,     SIH037,2,19951207,       1805,    -8.7500,   100.6667,       5620,   507.0,   8.8258,  34.7874,2,  34.7883,2,     81.6,2,    81.6,2,   42.39,2,   32.00,2,    0.01,2,    2.22,2,   0.107,2,   0.057,2,  2228.4,2,  2317.7,2,  -999.0,5,-999.000,1,-999.000,-999.0000,1, -999.00,9, -999.00,9,  -999.0,9,  -999.0,-999.000,9,-999.000,  5194.8,   8.7705,-999.0000, -999.00
 316N145_14,       I02E,    1086,          1,         25,     SI9446,2,19951207,       1805,    -8.7500,   100.6667,       5620,   607.6,   7.9998,  34.7712,2,  34.7708,2,     67.6,2,    68.8,2,   57.05,2,   34.49,2,    0.01,2,    2.46,2,   0.037,2,   0.021,2,  2255.4,2,  2329.8,2,  -999.0,5,-999.000,1,-999.000,-999.0000,1, -999.00,9, -999.00,9,  -999.0,9,  -999.0,-999.000,9,-999.000,  6201.8,   7.9369,-999.0000, -999.00
 316N145_14,       I02E,    1086,          1,         24,     SIH036,2,19951207,       1805,    -8.7500,   100.6667,       5620,   706.8,   7.3175,  34.7615,2,  34.7610,2,     67.9,2,    64.4,2,   68.85,2,   35.68,2,    0.01,2,    2.57,2,   0.019,2,   0.011,2,  2271.8,2,  2343.9,2,  -999.0,5,-999.000,1,-999.000,-999.0000,1, -999.00,9, -999.00,9,  -999.0,9,  -999.0,-999.000,9,-999.000,  7194.6,   7.2475,-999.0000, -999.00
 316N145_14,       I02E,    1086,          1,         23,     SIH001,2,19951207,       1805,    -8.7500,   100.6667,       5620,   808.2,   6.6477,  34.7494,2,  34.7496,2,     67.0,2,    66.2,2,   79.13,2,   36.20,2,    0.01,2,    2.64,2,   0.020,2,   0.008,2,  2283.1,2,  2353.3,2,  -999.0,5,-999.000,1,-999.000,-999.0000,1, -999.00,9, -999.00,9,  -999.0,9,  -999.0,-999.000,9,-999.000,  8209.9,   6.5711,-999.0000, -999.00
 316N145_14,       I02E,    1086,          1,         22,     SIH019,2,19951207,       1805,    -8.7500,   100.6667,       5620,   902.8,   6.2479,  34.7469,2,  34.7459,2,     67.0,2,    69.6,2,   85.20,2,   36.42,2,    0.01,2,    2.66,2,   0.017,2,   0.007,2,  2289.5,2,  2361.7,2,  -999.0,5,-999.000,1,-999.000,-999.0000,1, -999.00,9, -999.00,9,  -999.0,9,  -999.0,-999.000,9,-999.000,  9155.9,   6.1645,-999.0000, -999.00
 316N145_14,       I02E,    1086,          1,         21,     SIH025,2,19951207,       1805,    -8.7500,   100.6667,       5620,   998.3,   5.7649,  34.7275,2,  34.7300,2,     76.2,2,    73.6,2,   91.09,2,   36.62,2,    0.00,2,    2.67,2,   0.013,2,   0.005,2,  2297.0,2,  2365.4,2,  -999.0,5,-999.000,1,-999.000,-999.0000,1, -999.00,9, -999.00,9,  -999.0,9,  -999.0,-999.000,9,-999.000, 10111.5,   5.6756,-999.0000, -999.00
 316N145_14,       I02E,    1086,          1,         20,     SIH004,2,19951207,       1805,    -8.7500,   100.6667,       5620,  1098.8,   5.2209,  34.7141,2,  34.7134,2,     81.0,2,    80.6,2,   97.50,2,   36.68,2,    0.01,2,    2.67,2,   0.015,2,   0.001,2,  2301.1,2,  2374.3,2,  -999.0,5,-999.000,1,-999.000,-999.0000,1, -999.00,9, -999.00,9,  -999.0,9,  -999.0,-999.000,9,-999.000, 11116.7,   5.1264,-999.0000, -999.00
 316N145_14,       I02E,    1086,          1,         19,     SIH005,2,19951207,       1805,    -8.7500,   100.6667,       5620,  1198.6,   4.7672,  34.7072,2,  34.7074,2,     86.6,2,    86.7,2,  103.23,2,   36.63,2,    0.00,2,    2.68,2,   0.008,2,   0.000,2,  2305.0,2,  2379.6,2,  -999.0,5,-999.000,1,-999.000,-999.0000,1, -999.00,9, -999.00,9,  -999.0,9,  -999.0,-999.000,9,-999.000, 12114.8,   4.6673,-999.0000, -999.00
 316N145_14,       I02E,    1086,          1,         18,     SIH006,2,19951207,       1805,    -8.7500,   100.6667,       5620,  1400.2,   4.0314,  34.7027,2,  34.7022,2,     99.8,2,    99.4,2,  110.31,2,   36.54,2,    0.00,2,    2.65,2,   0.005,2,   0.002,2,  2308.9,2,  2387.3,2,  -999.0,5,-999.000,1,-999.000,-999.0000,1, -999.00,9, -999.00,9,  -999.0,9,  -999.0,-999.000,9,-999.000, 14132.1,   3.9205,-999.0000, -999.00
 316N145_14,       I02E,    1086,          1,         17,     SIH038,2,19951207,       1805,    -8.7500,   100.6667,       5620,  1603.9,   3.5691,  34.7321,2,  34.7304,2,    108.5,2,   108.9,2,  113.17,2,   36.33,2,    0.00,2,    2.63,2,   0.005,2,  -0.002,2,  2309.4,2,  2389.8,2,  -999.0,5,-999.000,1,-999.000,-999.0000,1, -999.00,9, -999.00,9,  -999.0,9,  -999.0,-999.000,9,-999.000, 16169.4,   3.4452,-999.0000, -999.00
 316N145_14,       I02E,    1086,          1,         16,     SIH008,2,19951207,       1805,    -8.7500,   100.6667,       5620,  1806.2,   3.0489,  34.7431,2,  34.7427,2,    123.9,2,   124.6,2,  117.05,2,   35.81,2,    0.00,2,    2.58,2,   0.002,2,   0.000,2,  2308.7,2,  2393.3,2,  -999.0,5,-999.000,1,-999.000,-999.0000,1, -999.00,9, -999.00,9,  -999.0,9,  -999.0,-999.000,9,-999.000, 18193.4,   2.9136,-999.0000, -999.00
 316N145_14,       I02E,    1086,          1,         15,     SIH009,2,19951207,       1805,    -8.7500,   100.6667,       5620,  2002.5,   2.6108,  34.7441,2,  34.7445,2,    135.2,2,   133.9,2,  120.75,2,   35.35,2,    0.00,2,    2.53,2,-999.000,5,-999.000,5,  2306.9,2,  2398.4,2,  -999.0,5,-999.000,1,-999.000,-999.0000,1, -999.00,9, -999.00,9,  -999.0,9,  -999.0,-999.000,9,-999.000, 20157.4,   2.4645,-999.0000, -999.00
 316N145_14,       I02E,    1086,          1,         14,     SIH010,2,19951207,       1805,    -8.7500,   100.6667,       5620,  2252.0,   2.2856,  34.7404,2,  34.7400,2,    145.5,2,   144.9,2,  123.62,2,   34.94,2,    0.00,2,    2.49,2,   0.000,2,  -0.001,2,  2305.2,2,  2400.7,2,  -999.0,5,-999.000,1,-999.000,-999.0000,1, -999.00,9, -999.00,9,  -999.0,9,  -999.0,-999.000,9,-999.000, 22654.1,   2.1223,-999.0000, -999.00
 316N145_14,       I02E,    1086,          1,         13,     SIH011,2,19951207,       1805,    -8.7500,   100.6667,       5620,  2504.9,   2.0410,  34.7362,2,  34.7355,2,    155.5,2,   153.7,2,  124.13,2,   34.37,2,    0.00,2,    2.43,2,-999.000,5,-999.000,5,  2301.8,2,  2403.2,2,  -999.0,5,-999.000,1,-999.000,-999.0000,1, -999.00,9, -999.00,9,  -999.0,9,  -999.0,-999.000,9,-999.000, 25183.1,   1.8592,-999.0000, -999.00
 316N145_14,       I02E,    1086,          1,         12,     SIH012,2,19951207,       1805,    -8.7500,   100.6667,       5620,  2752.9,   1.8549,  34.7306,2,  34.7307,2,    162.2,2,   161.3,2,  126.32,2,   34.02,2,    0.00,2,    2.39,2,-999.000,5,-999.000,5,  2298.0,2,  2402.3,2,  -999.0,5,-999.000,1,-999.000,-999.0000,1, -999.00,9, -999.00,9,  -999.0,9,  -999.0,-999.000,9,-999.000, 27664.9,   1.6536,-999.0000, -999.00
 316N145_14,       I02E,    1086,          1,         11,     SI9425,2,19951207,       1805,    -8.7500,   100.6667,       5620,  3001.8,   1.6897,  34.7268,2,  34.7266,2,    165.9,2,   165.6,2,  128.76,2,   34.00,2,    0.00,2,    2.38,2,-999.000,5,-999.000,5,  2299.2,2,  2405.3,2,  -999.0,5,-999.000,1,-999.000,-999.0000,1, -999.00,9, -999.00,9,  -999.0,9,  -999.0,-999.000,9,-999.000, 30154.5,   1.4683,-999.0000, -999.00
 316N145_14,       I02E,    1086,          1,         10,     SIH014,2,19951207,       1805,    -8.7500,   100.6667,       5620,  3255.1,   1.5366,  34.7229,2,  34.7217,2,    171.6,2,   171.1,2,  129.69,2,   33.92,2,    0.01,2,    2.37,2,   0.000,2,  -0.001,2,  2297.6,2,  2406.0,2,  -999.0,5,-999.000,1,-999.000,-999.0000,1, -999.00,9, -999.00,9,  -999.0,9,  -999.0,-999.000,9,-999.000, 32689.1,   1.2940,-999.0000, -999.00
 316N145_14,       I02E,    1086,          1,          9,     SIH015,2,19951207,       1805,    -8.7500,   100.6667,       5620,  3503.5,   1.3565,  34.7183,2,  34.7182,2,    181.2,2,   179.6,2,  130.02,2,   33.46,2,    0.00,2,    2.34,2,-999.000,5,-999.000,5,  2291.7,2,  2403.2,2,  -999.0,5,-999.000,1,-999.000,-999.0000,1, -999.00,9, -999.00,9,  -999.0,9,  -999.0,-999.000,9,-999.000, 35173.2,   1.0934,-999.0000, -999.00
 316N145_14,       I02E,    1086,          1,          8,     SIH016,2,19951207,       1805,    -8.7500,   100.6667,       5620,  3752.4,   1.2196,  34.7151,2,  34.7160,2,    186.0,2,   186.6,2,  129.69,2,   33.20,2,    0.00,2,    2.32,2,-999.000,5,-999.000,5,  2288.0,2,  2399.0,2,  -999.0,5,-999.000,1,-999.000,-999.0000,1, -999.00,9, -999.00,9,  -999.0,9,  -999.0,-999.000,9,-999.000, 37664.3,   0.9346,-999.0000, -999.00
 316N145_14,       I02E,    1086,          1,          7,     SIH017,2,19951207,       1805,    -8.7500,   100.6667,       5620,  3997.8,   1.1716,  34.7126,2,  34.7134,2,    191.7,2,   190.5,2,  128.68,2,   33.05,2,    0.00,2,    2.29,2,-999.000,5,-999.000,5,  2284.0,2,  2399.8,2,  -999.0,5,-999.000,1,-999.000,-999.0000,1, -999.00,9, -999.00,9,  -999.0,9,  -999.0,-999.000,9,-999.000, 40119.5,   0.8621,-999.0000, -999.00
 316N145_14,       I02E,    1086,          1,          6,     SIH018,2,19951207,       1805,    -8.7500,   100.6667,       5620,  4299.1,   1.1582,  34.7125,2,  34.7125,2,    194.1,2,   193.3,2,  128.34,2,   32.95,2,    0.00,2,    2.28,2,  -0.001,2,  -0.001,2,  2281.9,2,  2396.0,2,  -999.0,5,-999.000,1,-999.000,-999.0000,1, -999.00,9, -999.00,9,  -999.0,9,  -999.0,-999.000,9,-999.000, 43133.1,   0.8162,-999.0000, -999.00
 316N145_14,       I02E,    1086,          1,          5,     SIH002,2,19951207,       1805,    -8.7500,   100.6667,       5620,  4601.3,   1.1625,  34.7122,2,  34.7119,2,    195.5,2,   195.0,2,  128.01,2,   32.79,2,    0.01,2,    2.28,2,-999.000,5,-999.000,5,  2280.8,2,  2395.6,2,  -999.0,5,-999.000,1,-999.000,-999.0000,1, -999.00,9, -999.00,9,  -999.0,9,  -999.0,-999.000,9,-999.000, 46155.9,   0.7863,-999.0000, -999.00
 316N145_14,       I02E,    1086,          1,          4,     SIH020,2,19951207,       1805,    -8.7500,   100.6667,       5620,  4897.4,   1.1841,  34.7115,2,  34.7113,2,    196.4,2,   195.6,2,  127.67,2,   32.65,2,    0.01,2,    2.27,2,-999.000,5,-999.000,5,  2279.9,2,  2394.3,2,  -999.0,5,-999.000,1,-999.000,-999.0000,1, -999.00,9, -999.00,9,  -999.0,9,  -999.0,-999.000,9,-999.000, 49118.0,   0.7727,-999.0000, -999.00
 316N145_14,       I02E,    1086,          1,          3,     SIH021,2,19951207,       1805,    -8.7500,   100.6667,       5620,  5200.1,   1.2131,  34.7114,2,  34.7103,2,    197.6,2,   196.2,2,  127.34,2,   32.69,2,    0.01,2,    2.26,2,   0.000,2,  -0.003,2,  2278.9,2,  2395.0,2,  -999.0,5,-999.000,1,-999.000,-999.0000,1, -999.00,9, -999.00,9,  -999.0,9,  -999.0,-999.000,9,-999.000, 52146.3,   0.7641,-999.0000, -999.00
 316N145_14,       I02E,    1086,          1,          2,     SIH022,2,19951207,       1805,    -8.7500,   100.6667,       5620,  5502.7,   1.2438,  34.7110,2,  34.7107,2,    198.9,2,   196.6,2,  127.34,2,   32.70,2,    0.01,2,    2.26,2,-999.000,5,-999.000,5,  2278.7,2,  2394.0,2,  -999.0,5,-999.000,1,-999.000,-999.0000,1, -999.00,9, -999.00,9,  -999.0,9,  -999.0,-999.000,9,-999.000, 55173.4,   0.7561,-999.0000, -999.00
 316N145_14,       I02E,    1086,          1,          1,     SIH023,2,19951207,       1805,    -8.7500,   100.6667,       5620,  5747.8,   1.2688,  34.7106,2,  34.7115,2,    198.8,2,   197.1,2,  127.92,6,   32.60,6,    0.00,6,    2.25,6,   0.001,2,   0.002,2,  2278.1,2,  2393.3,2,  -999.0,5,-999.000,1,-999.000,-999.0000,1, -999.00,9, -999.00,9,  -999.0,9,  -999.0,-999.000,9,-999.000, 57623.2,   0.7488,-999.0000, -999.00