BOTTLE,20220829CCHSIOAMB
EXPOCODE,SECT_ID,STNNBR,CASTNO,SAMPNO,BTLNBR,BTLNBR_FLAG_W,DATE,TIME,LATITUDE,LONGITUDE,DEPTH,CTDPRS,CTDTMP,CTDSAL,CTDSAL_FLAG_W,SALNTY,SALNTY_FLAG_W,CTDOXY,CTDOXY_FLAG_W,OXYGEN,OXYGEN_FLAG_W,SILCAT,SILCAT_FLAG_W,NITRAT,NITRAT_FLAG_W,NITRIT,NITRIT_FLAG_W,PHSPHT,PHSPHT_FLAG_W,CFC-11,CFC-11_FLAG_W,CFC-12,CFC-12_FLAG_W,TCARBN,TCARBN_FLAG_W,ALKALI,ALKALI_FLAG_W,PCO2,PCO2_FLAG_W,TRITUM,TRITUM_FLAG_W,TRITER,HELIUM,HELIUM_FLAG_W,DELHE3,DELHE3_FLAG_W,DELC13,DELC13_FLAG_W,DELC14,DELC14_FLAG_W,C14ERR,NEON,NEON_FLAG_W,NEONER,CTDRAW,THETA,HELIER,DELHER
,,,,,,,,,,,METERS,DBAR,ITS-90,PSS-78,,PSS-78,,UMOL/KG,,UMOL/KG,,UMOL/KG,,UMOL/KG,,UMOL/KG,,UMOL/KG,,PMOL/KG,,PMOL/KG,,UMOL/KG,,UMOL/KG,,UATM,,TU,,TU,NMOL/KG,,PERCNT,,/MILLE,,/MILLE,,/MILLE,NMOL/KG,,NMOL/KG,DBAR,DEG C,NMOL/KG,PERCNT
 316N145_14,       I02E,    1149,          1,         36,     SIH024,2,19951226,       0915,    -8.0000,    73.1167,       4130,    10.2,  28.6635,  33.8550,2,  33.8488,2,    197.8,2,   210.7,2,    3.05,2,    0.21,2,    0.00,2,    0.10,2,   1.609,2,   0.942,2,  1879.6,2,  2244.2,2,  -999.0,5,-999.000,1,-999.000,-999.0000,1, -999.00,9, -999.00,9,  -999.0,9,  -999.0,-999.000,9,-999.000,   238.7,  28.6611,-999.0000, -999.00
 316N145_14,       I02E,    1149,          1,         35,     SIH003,2,19951226,       0915,    -8.0000,    73.1167,       4130,    26.9,  26.6795,  34.9695,2,  34.9660,2,    214.7,2,   216.7,2,    3.91,2,    0.11,2,    0.00,2,    0.19,2,-999.000,5,-999.000,5,  1955.1,2,  2293.7,2,  -999.0,5,-999.000,1,-999.000,-999.0000,1, -999.00,9, -999.00,9,  -999.0,9,  -999.0,-999.000,9,-999.000,   400.6,  26.6734,-999.0000, -999.00
 316N145_14,       I02E,    1149,          1,         34,     SIH026,2,19951226,       0915,    -8.0000,    73.1167,       4130,    57.4,  21.1444,  35.2128,2,  35.2089,2,    169.1,2,   159.3,2,    8.88,2,    6.76,2,    0.18,2,    0.59,2,   1.776,2,   0.975,2,  2051.5,2,  2331.6,2,  -999.0,5,-999.000,1,-999.000,-999.0000,1, -999.00,9, -999.00,9,  -999.0,9,  -999.0,-999.000,9,-999.000,   703.0,  21.1334,-999.0000, -999.00
 316N145_14,       I02E,    1149,          1,         33,     SIH027,2,19951226,       0915,    -8.0000,    73.1167,       4130,    87.1,  17.7343,  35.0353,2,  35.0378,2,    122.0,3,    75.9,2,   18.64,2,   20.42,2,    0.09,2,    1.43,2,-999.000,5,-999.000,5,  -999.0,9,  -999.0,9,  -999.0,5,-999.000,1,-999.000,-999.0000,1, -999.00,9, -999.00,9,  -999.0,9,  -999.0,-999.000,9,-999.000,   997.7,  17.7196,-999.0000, -999.00
 316N145_14,       I02E,    1149,          1,         32,     SIH028,2,19951226,       0915,    -8.0000,    73.1167,       4130,   117.4,  16.2397,  34.9990,2,  34.9927,2,     78.7,2,    78.5,2,   22.07,2,   21.63,2,    0.03,2,    1.51,2,   1.147,2,   0.626,2,  -999.0,9,  -999.0,9,  -999.0,5,-999.000,1,-999.000,-999.0000,1, -999.00,9, -999.00,9,  -999.0,9,  -999.0,-999.000,9,-999.000,  1299.8,  16.2210,-999.0000, -999.00
 316N145_14,       I02E,    1149,          1,         31,     SIH029,2,19951226,       0915,    -8.0000,    73.1167,       4130,   147.4,  14.5399,  34.9790,2,  34.9726,2,     85.2,2,    79.5,2,   24.81,2,   23.10,2,    0.01,2,    1.62,2,-999.000,5,-999.000,5,  -999.0,9,  -999.0,9,  -999.0,5,-999.000,1,-999.000,-999.0000,1, -999.00,9, -999.00,9,  -999.0,9,  -999.0,-999.000,9,-999.000,  1598.5,  14.5181,-999.0000, -999.00
 316N145_14,       I02E,    1149,          1,         30,     SIH030,2,19951226,       0915,    -8.0000,    73.1167,       4130,   197.7,  12.8644,  34.9600,2,  34.9583,2,     70.2,2,    75.1,2,   26.53,2,   25.61,2,    0.01,2,    1.78,2,   0.726,2,   0.377,2,  -999.0,9,  -999.0,9,  -999.0,5,-999.000,1,-999.000,-999.0000,1, -999.00,9, -999.00,9,  -999.0,9,  -999.0,-999.000,9,-999.000,  2101.9,  12.8374,-999.0000, -999.00
 316N145_14,       I02E,    1149,          1,         29,     SIH007,2,19951226,       0915,    -8.0000,    73.1167,       4130,   247.0,  11.7735,  34.9587,2,  34.9589,2,    101.6,2,    98.7,2,   24.48,2,   24.57,2,    0.00,2,    1.70,2,-999.000,5,-999.000,5,  -999.0,9,  -999.0,9,  -999.0,5,-999.000,1,-999.000,-999.0000,1, -999.00,9, -999.00,9,  -999.0,9,  -999.0,-999.000,9,-999.000,  2593.9,  11.7416,-999.0000, -999.00
 316N145_14,       I02E,    1149,          1,         28,     SI9439,2,19951226,       0915,    -8.0000,    73.1167,       4130,   298.3,  10.9845,  34.9161,2,  34.9181,2,     97.1,2,    95.2,2,   25.68,2,   26.50,2,    0.00,2,    1.80,2,   0.603,2,   0.306,2,  -999.0,9,  -999.0,9,  -999.0,5,-999.000,1,-999.000,-999.0000,1, -999.00,9, -999.00,9,  -999.0,9,  -999.0,-999.000,9,-999.000,  3107.8,  10.9476,-999.0000, -999.00
 316N145_14,       I02E,    1149,          1,         27,     SIH033,2,19951226,       0915,    -8.0000,    73.1167,       4130,   317.5,  10.6487,  34.8948,2,  34.8943,2,    100.1,2,   101.9,2,   25.68,2,   26.44,2,    0.00,2,    1.80,2,-999.000,5,-999.000,5,  -999.0,9,  -999.0,9,  -999.0,5,-999.000,1,-999.000,-999.0000,1, -999.00,9, -999.00,9,  -999.0,9,  -999.0,-999.000,9,-999.000,  3299.4,  10.6102,-999.0000, -999.00
 316N145_14,       I02E,    1149,          1,         26,     SIH037,2,19951226,       0915,    -8.0000,    73.1167,       4130,   397.2,   9.8417,  34.8475,2,  34.8475,2,     96.8,2,   102.2,2,   29.29,2,   28.12,2,    0.00,2,    1.92,2,   0.432,2,   0.217,2,  -999.0,9,  -999.0,9,  -999.0,5,-999.000,1,-999.000,-999.0000,1, -999.00,9, -999.00,9,  -999.0,9,  -999.0,-999.000,9,-999.000,  4097.3,   9.7957,-999.0000, -999.00
 316N145_14,       I02E,    1149,          1,         25,     SI9446,2,19951226,       0915,    -8.0000,    73.1167,       4130,   497.1,   8.9720,  34.8285,2,  34.8287,2,     93.3,2,    90.3,2,   39.74,2,   30.87,2,    0.00,2,    2.15,2,-999.000,5,-999.000,5,  -999.0,9,  -999.0,9,  -999.0,5,-999.000,1,-999.000,-999.0000,1, -999.00,9, -999.00,9,  -999.0,9,  -999.0,-999.000,9,-999.000,  5096.6,   8.9173,-999.0000, -999.00
 316N145_14,       I02E,    1149,          1,         24,     SIH036,2,19951226,       0915,    -8.0000,    73.1167,       4130,   598.0,   8.1602,  34.8010,2,  34.8027,2,     81.6,2,    79.2,2,   52.06,2,   33.22,2,    0.00,2,    2.37,2,   0.091,2,   0.047,2,  -999.0,9,  -999.0,9,  -999.0,5,-999.000,1,-999.000,-999.0000,1, -999.00,9, -999.00,9,  -999.0,9,  -999.0,-999.000,9,-999.000,  6105.9,   8.0976,-999.0000, -999.00
 316N145_14,       I02E,    1149,          1,         23,     SIH001,2,19951226,       0915,    -8.0000,    73.1167,       4130,   698.1,   7.4041,  34.7901,2,  34.7913,2,     71.4,2,    71.4,2,   65.42,2,   35.04,2,    0.00,2,    2.51,2,-999.000,5,-999.000,5,  -999.0,9,  -999.0,9,  -999.0,5,-999.000,1,-999.000,-999.0000,1, -999.00,9, -999.00,9,  -999.0,9,  -999.0,-999.000,9,-999.000,  7107.8,   7.3345,-999.0000, -999.00
 316N145_14,       I02E,    1149,          1,         22,     SIH019,2,19951226,       0915,    -8.0000,    73.1167,       4130,   798.5,   7.0175,  34.8108,2,  34.8092,2,     68.1,2,    68.6,2,   72.78,2,   35.71,2,    0.00,2,    2.58,2,   0.020,2,   0.012,2,  -999.0,9,  -999.0,9,  -999.0,5,-999.000,1,-999.000,-999.0000,1, -999.00,9, -999.00,9,  -999.0,9,  -999.0,-999.000,9,-999.000,  8111.3,   6.9396,-999.0000, -999.00
 316N145_14,       I02E,    1149,          1,         21,     SIH013,2,19951226,       0915,    -8.0000,    73.1167,       4130,   899.0,   6.0556,  34.7544,2,  34.7539,2,     73.2,2,    74.0,2,   86.48,2,   36.34,2,    0.00,2,    2.64,2,-999.000,5,-999.000,5,  -999.0,9,  -999.0,9,  -999.0,5,-999.000,1,-999.000,-999.0000,1, -999.00,9, -999.00,9,  -999.0,9,  -999.0,-999.000,9,-999.000,  9117.1,   5.9739,-999.0000, -999.00
 316N145_14,       I02E,    1149,          1,         20,     SIH004,2,19951226,       0915,    -8.0000,    73.1167,       4130,   999.5,   5.6569,  34.7488,2,  34.7467,2,     76.1,2,    77.2,2,   91.28,2,   36.59,2,    0.00,2,    2.66,2,   0.007,2,   0.007,2,  -999.0,9,  -999.0,9,  -999.0,5,-999.000,1,-999.000,-999.0000,1, -999.00,9, -999.00,9,  -999.0,9,  -999.0,-999.000,9,-999.000, 10122.3,   5.5683,-999.0000, -999.00
 316N145_14,       I02E,    1149,          1,         19,     SIH005,2,19951226,       0915,    -8.0000,    73.1167,       4130,  1100.8,   5.1034,  34.7310,2,  34.7321,2,     81.5,2,    82.5,2,   98.81,2,   36.64,2,    0.00,2,    2.67,2,-999.000,5,-999.000,5,  -999.0,9,  -999.0,9,  -999.0,5,-999.000,1,-999.000,-999.0000,1, -999.00,9, -999.00,9,  -999.0,9,  -999.0,-999.000,9,-999.000, 11136.2,   5.0096,-999.0000, -999.00
 316N145_14,       I02E,    1149,          1,         18,     SIH006,2,19951226,       0915,    -8.0000,    73.1167,       4130,  1201.2,   4.7787,  34.7447,2,  34.7441,2,     84.9,2,    86.5,2,  102.07,2,   36.79,2,    0.00,2,    2.66,2,   0.003,2,   0.000,2,  -999.0,9,  -999.0,9,  -999.0,5,-999.000,1,-999.000,-999.0000,1, -999.00,9, -999.00,9,  -999.0,9,  -999.0,-999.000,9,-999.000, 12140.7,   4.6784,-999.0000, -999.00
 316N145_14,       I02E,    1149,          1,         17,     SIH038,2,19951226,       0915,    -8.0000,    73.1167,       4130,  1302.4,   4.4233,  34.7482,2,  34.7486,2,     91.7,2,    92.5,2,  105.15,2,   36.63,2,    0.00,2,    2.67,2,-999.000,5,-999.000,5,  -999.0,9,  -999.0,9,  -999.0,5,-999.000,1,-999.000,-999.0000,1, -999.00,9, -999.00,9,  -999.0,9,  -999.0,-999.000,9,-999.000, 13153.1,   4.3172,-999.0000, -999.00
 316N145_14,       I02E,    1149,          1,         16,     SIH008,2,19951226,       0915,    -8.0000,    73.1167,       4130,  1392.6,   4.1676,  34.7625,2,  34.7638,2,     98.8,2,    98.5,2,  106.00,2,   36.57,2,    0.00,2,    2.65,2,-999.000,5,-999.000,5,  -999.0,9,  -999.0,9,  -999.0,5,-999.000,1,-999.000,-999.0000,1, -999.00,9, -999.00,9,  -999.0,9,  -999.0,-999.000,9,-999.000, 14054.7,   4.0558,-999.0000, -999.00
 316N145_14,       I02E,    1149,          1,         15,     SIH009,2,19951226,       0915,    -8.0000,    73.1167,       4130,  1593.4,   3.4934,  34.7625,2,  34.7634,2,    111.8,2,   113.3,2,  112.00,2,   36.05,2,    0.00,2,    2.59,2,-999.000,5,-999.000,5,  -999.0,9,  -999.0,9,  -999.0,5,-999.000,1,-999.000,-999.0000,1, -999.00,9, -999.00,9,  -999.0,9,  -999.0,-999.000,9,-999.000, 16063.9,   3.3712,-999.0000, -999.00
 316N145_14,       I02E,    1149,          1,         14,     SIH010,2,19951226,       0915,    -8.0000,    73.1167,       4130,  1795.6,   2.8950,  34.7517,2,  34.7524,2,    130.9,2,   130.8,2,  116.10,2,   35.06,2,    0.00,2,    2.51,2,-999.000,5,-999.000,5,  -999.0,9,  -999.0,9,  -999.0,5,-999.000,1,-999.000,-999.0000,1, -999.00,9, -999.00,9,  -999.0,9,  -999.0,-999.000,9,-999.000, 18086.0,   2.7628,-999.0000, -999.00
 316N145_14,       I02E,    1149,          1,         13,     SIH011,2,19951226,       0915,    -8.0000,    73.1167,       4130,  1995.5,   2.4687,  34.7474,2,  34.7469,2,    142.5,2,   143.0,2,  120.04,2,   34.75,2,    0.00,2,    2.47,2,-999.000,5,-999.000,5,  -999.0,9,  -999.0,9,  -999.0,5,-999.000,1,-999.000,-999.0000,1, -999.00,9, -999.00,9,  -999.0,9,  -999.0,-999.000,9,-999.000, 20086.2,   2.3252,-999.0000, -999.00
 316N145_14,       I02E,    1149,          1,         12,     SIH012,2,19951226,       0915,    -8.0000,    73.1167,       4130,  2200.0,   2.1256,  34.7400,2,  34.7412,2,    154.7,2,   154.2,2,  122.95,2,   34.27,2,    0.00,2,    2.42,2,-999.000,5,-999.000,5,  -999.0,9,  -999.0,9,  -999.0,5,-999.000,1,-999.000,-999.0000,1, -999.00,9, -999.00,9,  -999.0,9,  -999.0,-999.000,9,-999.000, 22133.3,   1.9696,-999.0000, -999.00
 316N145_14,       I02E,    1149,          1,         11,     SI9426,2,19951226,       0915,    -8.0000,    73.1167,       4130,  2402.5,   2.0219,  34.7356,2,  34.7384,2,    157.6,2,   157.7,2,  123.80,2,   34.00,2,    0.00,2,    2.40,2,-999.000,5,-999.000,5,  -999.0,9,  -999.0,9,  -999.0,5,-999.000,1,-999.000,-999.0000,1, -999.00,9, -999.00,9,  -999.0,9,  -999.0,-999.000,9,-999.000, 24158.6,   1.8497,-999.0000, -999.00
 316N145_14,       I02E,    1149,          1,         10,     SIH014,2,19951226,       0915,    -8.0000,    73.1167,       4130,  2595.6,   1.8177,  34.7328,2,  34.7329,2,    163.3,2,   163.9,2,  126.38,2,   33.85,2,    0.00,2,    2.38,2,-999.000,5,-999.000,5,  -999.0,9,  -999.0,9,  -999.0,5,-999.000,1,-999.000,-999.0000,1, -999.00,9, -999.00,9,  -999.0,9,  -999.0,-999.000,9,-999.000, 26090.2,   1.6318,-999.0000, -999.00
 316N145_14,       I02E,    1149,          1,          9,     SIH015,2,19951226,       0915,    -8.0000,    73.1167,       4130,  2798.2,   1.7137,  34.7289,2,  34.7307,2,    166.8,2,   166.6,2,  128.26,2,   33.85,2,    0.00,2,    2.37,2,-999.000,5,-999.000,5,  -999.0,9,  -999.0,9,  -999.0,5,-999.000,1,-999.000,-999.0000,1, -999.00,9, -999.00,9,  -999.0,9,  -999.0,-999.000,9,-999.000, 28117.3,   1.5111,-999.0000, -999.00
 316N145_14,       I02E,    1149,          1,          8,     SIH016,2,19951226,       0915,    -8.0000,    73.1167,       4130,  3002.1,   1.6204,  34.7266,2,  34.7278,2,    167.5,2,   168.3,2,  130.48,2,   33.99,2,    0.00,2,    2.37,2,-999.000,5,-999.000,5,  -999.0,9,  -999.0,9,  -999.0,5,-999.000,1,-999.000,-999.0000,1, -999.00,9, -999.00,9,  -999.0,9,  -999.0,-999.000,9,-999.000, 30156.7,   1.4005,-999.0000, -999.00
 316N145_14,       I02E,    1149,          1,          7,     SIH017,2,19951226,       0915,    -8.0000,    73.1167,       4130,  3193.4,   1.4465,  34.7239,2,  34.7231,2,    170.3,2,   170.8,2,  135.10,2,   33.89,2,    0.00,2,    2.37,2,-999.000,5,-999.000,5,  -999.0,9,  -999.0,9,  -999.0,5,-999.000,1,-999.000,-999.0000,1, -999.00,9, -999.00,9,  -999.0,9,  -999.0,-999.000,9,-999.000, 32070.8,   1.2120,-999.0000, -999.00
 316N145_14,       I02E,    1149,          1,          6,     SIH018,2,19951226,       0915,    -8.0000,    73.1167,       4130,  3397.8,   1.3796,  34.7210,2,  34.7215,2,    173.2,2,   173.4,2,  136.31,2,   33.94,2,    0.00,2,    2.37,2,-999.000,5,-999.000,5,  -999.0,9,  -999.0,9,  -999.0,5,-999.000,1,-999.000,-999.0000,1, -999.00,9, -999.00,9,  -999.0,9,  -999.0,-999.000,9,-999.000, 34115.1,   1.1265,-999.0000, -999.00
 316N145_14,       I02E,    1149,          1,          5,     SIH002,2,19951226,       0915,    -8.0000,    73.1167,       4130,  3590.9,   1.3584,  34.7201,2,  34.7199,2,    174.4,2,   175.1,2,  136.47,2,   33.83,2,    0.00,2,    2.34,2,-999.000,5,-999.000,5,  -999.0,9,  -999.0,9,  -999.0,5,-999.000,1,-999.000,-999.0000,1, -999.00,9, -999.00,9,  -999.0,9,  -999.0,-999.000,9,-999.000, 36046.3,   1.0863,-999.0000, -999.00
 316N145_14,       I02E,    1149,          1,          4,     SIH020,2,19951226,       0915,    -8.0000,    73.1167,       4130,  3795.9,   1.3336,  34.7184,2,  34.7191,2,    178.1,2,   177.7,2,  135.62,2,   33.77,2,    0.00,2,    2.34,2,-999.000,5,-999.000,5,  -999.0,9,  -999.0,9,  -999.0,5,-999.000,1,-999.000,-999.0000,1, -999.00,9, -999.00,9,  -999.0,9,  -999.0,-999.000,9,-999.000, 38097.7,   1.0409,-999.0000, -999.00
 316N145_14,       I02E,    1149,          1,          3,     SIH021,2,19951226,       0915,    -8.0000,    73.1167,       4130,  3999.5,   1.3362,  34.7185,2,  34.7178,2,    179.4,2,   179.0,2,  135.62,2,   33.61,2,    0.00,2,    2.34,2,-999.000,5,-999.000,5,  -999.0,9,  -999.0,9,  -999.0,5,-999.000,1,-999.000,-999.0000,1, -999.00,9, -999.00,9,  -999.0,9,  -999.0,-999.000,9,-999.000, 40133.8,   1.0217,-999.0000, -999.00
 316N145_14,       I02E,    1149,          1,          2,     SIH022,2,19951226,       0915,    -8.0000,    73.1167,       4130,  4101.2,   1.3399,  34.7180,2,  34.7182,2,    179.2,2,   179.5,2,  135.62,2,   33.60,2,    0.00,2,    2.33,2,-999.000,5,-999.000,5,  -999.0,9,  -999.0,9,  -999.0,5,-999.000,1,-999.000,-999.0000,1, -999.00,9, -999.00,9,  -999.0,9,  -999.0,-999.000,9,-999.000, 41151.1,   1.0143,-999.0000, -999.00
 316N145_14,       I02E,    1149,          1,          1,     SIH023,2,19951226,       0915,    -8.0000,    73.1167,       4130,  4189.6,   1.3458,  34.7183,2,  34.7182,2,    179.9,2,   180.6,2,  135.49,6,   33.64,6,    0.00,6,    2.33,6,-999.000,5,-999.000,5,  -999.0,9,  -999.0,9,  -999.0,5,-999.000,1,-999.000,-999.0000,1, -999.00,9, -999.00,9,  -999.0,9,  -999.0,-999.000,9,-999.000, 42033.8,   1.0103,-999.0000, -999.00