BOTTLE,20220829CCHSIOAMB
EXPOCODE,SECT_ID,STNNBR,CASTNO,SAMPNO,BTLNBR,BTLNBR_FLAG_W,DATE,TIME,LATITUDE,LONGITUDE,DEPTH,CTDPRS,CTDTMP,CTDSAL,CTDSAL_FLAG_W,SALNTY,SALNTY_FLAG_W,CTDOXY,CTDOXY_FLAG_W,OXYGEN,OXYGEN_FLAG_W,SILCAT,SILCAT_FLAG_W,NITRAT,NITRAT_FLAG_W,NITRIT,NITRIT_FLAG_W,PHSPHT,PHSPHT_FLAG_W,CFC-11,CFC-11_FLAG_W,CFC-12,CFC-12_FLAG_W,TCARBN,TCARBN_FLAG_W,ALKALI,ALKALI_FLAG_W,PCO2,PCO2_FLAG_W,TRITUM,TRITUM_FLAG_W,TRITER,HELIUM,HELIUM_FLAG_W,DELHE3,DELHE3_FLAG_W,DELC13,DELC13_FLAG_W,DELC14,DELC14_FLAG_W,C14ERR,NEON,NEON_FLAG_W,NEONER,CTDRAW,THETA,HELIER,DELHER
,,,,,,,,,,,METERS,DBAR,ITS-90,PSS-78,,PSS-78,,UMOL/KG,,UMOL/KG,,UMOL/KG,,UMOL/KG,,UMOL/KG,,UMOL/KG,,PMOL/KG,,PMOL/KG,,UMOL/KG,,UMOL/KG,,UATM,,TU,,TU,NMOL/KG,,PERCNT,,/MILLE,,/MILLE,,/MILLE,NMOL/KG,,NMOL/KG,DBAR,DEG C,NMOL/KG,PERCNT
 316N145_14,       I02E,    1096,          1,         36,     SIH024,2,19951211,       0529,    -8.0070,    93.9972,       5257,     8.6,  26.8061,  34.3130,2,  34.3136,2,    202.0,2,   205.1,2,    3.52,2,    0.42,2,    0.02,2,    0.16,2,   1.663,2,   0.962,2,  1935.6,2,  2252.8,2,  -999.0,5,-999.000,1,-999.000,-999.0000,1, -999.00,9,    1.16,2,    58.7,2,     3.9,-999.000,9,-999.000,   227.3,  26.8041,-999.0000, -999.00
 316N145_14,       I02E,    1096,          1,         35,     SIH003,2,19951211,       0529,    -8.0070,    93.9972,       5257,    31.7,  26.5900,  34.3101,2,  34.3121,2,    205.3,2,   204.1,2,    3.36,2,    0.58,2,    0.02,2,    0.18,2,   1.652,2,   0.940,2,  1937.4,2,  2249.3,2,  -999.0,5,-999.000,1,-999.000,-999.0000,1, -999.00,9,    1.16,2,    56.4,2,     6.0,-999.000,9,-999.000,   452.5,  26.5828,-999.0000, -999.00
 316N145_14,       I02E,    1096,          1,         34,     SIH026,2,19951211,       0529,    -8.0070,    93.9972,       5257,    61.2,  23.9786,  34.6887,2,  34.6651,2,    150.6,2,   148.6,2,    8.25,2,    6.61,2,    0.22,2,    0.65,2,   1.510,2,   0.844,2,  2021.6,2,  2275.0,2,  -999.0,5,-999.000,1,-999.000,-999.0000,1, -999.00,9, -999.00,9,  -999.0,9,  -999.0,-999.000,9,-999.000,   740.7,  23.9658,-999.0000, -999.00
 316N145_14,       I02E,    1096,          1,         33,     SIH027,2,19951211,       0529,    -8.0070,    93.9972,       5257,   101.2,  17.4368,  34.7528,2,  34.7561,2,     77.9,2,    86.6,2,   23.24,2,   20.18,2,    0.03,2,    1.41,2,   1.195,2,   0.640,2,  2137.5,2,  2294.4,2,  -999.0,5,-999.000,1,-999.000,-999.0000,1, -999.00,9,    0.20,2,    29.1,2,     3.4,-999.000,9,-999.000,  1137.9,  17.4199,-999.0000, -999.00
 316N145_14,       I02E,    1096,          1,         32,     SIH028,2,19951211,       0529,    -8.0070,    93.9972,       5257,   156.2,  14.6557,  34.8569,2,  34.8538,2,     57.1,2,    59.0,2,   27.60,2,   26.02,2,    0.01,2,    1.78,2,   0.795,2,   0.414,2,  2183.9,2,  2302.9,2,  -999.0,5,-999.000,1,-999.000,-999.0000,1, -999.00,9,    0.18,2,    10.3,2,     2.7,-999.000,9,-999.000,  1686.6,  14.6325,-999.0000, -999.00
 316N145_14,       I02E,    1096,          1,         31,     SIH029,2,19951211,       0529,    -8.0070,    93.9972,       5257,   206.3,  12.5518,  34.8915,2,  34.8908,2,     60.7,2,    63.6,2,   30.16,2,   27.60,2,    0.00,2,    1.91,2,   0.575,2,   0.275,2,  2202.0,2,  2309.4,2,  -999.0,5,-999.000,1,-999.000,-999.0000,1, -999.00,9,    0.24,2,   -13.9,2,     3.2,-999.000,9,-999.000,  2188.3,  12.5241,-999.0000, -999.00
 316N145_14,       I02E,    1096,          1,         30,     SIH030,2,19951211,       0529,    -8.0070,    93.9972,       5257,   255.3,  11.9342,  34.9736,2,  34.9713,2,     64.5,2,    63.8,2,   26.93,2,   28.18,2,    0.00,2,    1.91,2,-999.000,5,-999.000,5,  2207.2,2,  2309.5,2,  -999.0,5,-999.000,1,-999.000,-999.0000,1, -999.00,9, -999.00,9,  -999.0,9,  -999.0,-999.000,9,-999.000,  2678.4,  11.9010,-999.0000, -999.00
 316N145_14,       I02E,    1096,          1,         29,     SIH031,2,19951211,       0529,    -8.0070,    93.9972,       5257,   304.4,  11.1965,  34.9487,2,  34.9451,2,     62.6,2,    69.6,2,   27.32,2,   28.67,2,    0.00,2,    1.92,2,   0.328,2,   0.175,2,  2211.0,2,  2310.5,2,  -999.0,5,-999.000,1,-999.000,-999.0000,1, -999.00,9,    0.34,2,   -48.1,2,     3.8,-999.000,9,-999.000,  3170.8,  11.1584,-999.0000, -999.00
 316N145_14,       I02E,    1096,          1,         28,     SIH032,2,19951211,       0529,    -8.0070,    93.9972,       5257,   352.8,  10.7074,  34.9300,2,  34.9284,2,     69.9,2,    68.9,2,   29.34,2,   29.73,2,    0.00,2,    1.97,2,-999.000,5,-999.000,5,  2216.8,2,  2324.5,3,  -999.0,5,-999.000,1,-999.000,-999.0000,1, -999.00,9,    0.35,2,   -53.3,2,     3.6,-999.000,9,-999.000,  3654.7,  10.6644,-999.0000, -999.00
 316N145_14,       I02E,    1096,          1,         27,     SIH033,2,19951211,       0529,    -8.0070,    93.9972,       5257,   401.9,  10.3001,  34.9047,2,  34.9040,2,     68.9,2,    68.3,2,   31.35,2,   30.73,2,    0.00,2,    2.03,2,   0.181,2,   0.088,2,  2222.3,2,  2302.9,3,  -999.0,5,-999.000,1,-999.000,-999.0000,1, -999.00,9, -999.00,9,  -999.0,9,  -999.0,-999.000,9,-999.000,  4145.0,  10.2522,-999.0000, -999.00
 316N145_14,       I02E,    1096,          1,         26,     SIH037,2,19951211,       0529,    -8.0070,    93.9972,       5257,   502.6,   9.3663,  34.8513,2,  34.8495,2,     69.9,2,    70.6,2,   38.97,2,   32.32,2,    0.00,2,    2.18,2,   0.095,2,   0.053,2,  2232.1,2,  -999.0,9,  -999.0,5,-999.000,1,-999.000,-999.0000,1, -999.00,9,    0.33,2,   -89.6,2,     2.5,-999.000,9,-999.000,  5152.5,   9.3094,-999.0000, -999.00
 316N145_14,       I02E,    1096,          1,         25,     SI9446,2,19951211,       0529,    -8.0070,    93.9972,       5257,   601.3,   8.3128,  34.7953,2,  34.7958,2,     69.2,2,    68.8,2,   52.20,2,   34.01,2,    0.00,2,    2.38,2,   0.040,6,   0.023,6,  2249.9,2,  2325.2,2,  -999.0,5,-999.000,1,-999.000,-999.0000,1, -999.00,9,    0.26,2,  -116.3,2,     2.9,-999.000,9,-999.000,  6139.3,   8.2492,-999.0000, -999.00
 316N145_14,       I02E,    1096,          1,         24,     SIH036,2,19951211,       0529,    -8.0070,    93.9972,       5257,   698.6,   7.4552,  34.7605,2,  34.7598,2,     64.7,2,    65.1,2,   66.34,2,   35.45,2,    0.00,2,    2.51,2,-999.000,5,-999.000,5,  2268.1,2,  2341.6,2,  -999.0,5,-999.000,1,-999.000,-999.0000,1, -999.00,9, -999.00,9,  -999.0,9,  -999.0,-999.000,9,-999.000,  7112.1,   7.3853,-999.0000, -999.00
 316N145_14,       I02E,    1096,          1,         23,     SIH001,2,19951211,       0529,    -8.0070,    93.9972,       5257,   796.9,   6.4352,  34.6995,2,  34.6983,2,     74.5,2,    72.1,2,   82.48,2,   35.99,2,   -0.01,2,    2.56,2,   0.019,2,   0.010,2,  2282.8,2,  2355.9,2,  -999.0,5,-999.000,1,-999.000,-999.0000,1, -999.00,9,    0.12,2,  -155.8,2,     2.2,-999.000,9,-999.000,  8095.0,   6.3610,-999.0000, -999.00
 316N145_14,       I02E,    1096,          1,         22,     SIH019,2,19951211,       0529,    -8.0070,    93.9972,       5257,   896.6,   5.8257,  34.6940,2,  34.6928,2,     75.6,2,    76.6,2,   90.13,2,   36.37,2,    0.00,2,    2.60,2,-999.000,5,-999.000,5,  2292.9,2,  2373.1,2,  -999.0,5,-999.000,1,-999.000,-999.0000,1, -999.00,9,    0.06,2,  -171.7,2,     2.2,-999.000,9,-999.000,  9093.2,   5.7458,-999.0000, -999.00
 316N145_14,       I02E,    1096,          1,         21,     SIH025,2,19951211,       0529,    -8.0070,    93.9972,       5257,   992.8,   5.4513,  34.7119,2,  34.7134,2,     76.6,2,    77.2,2,   95.42,2,   36.69,2,    0.00,2,    2.62,2,   0.005,2,   0.004,2,  2299.2,2,  2370.7,2,  -999.0,5,-999.000,1,-999.000,-999.0000,1, -999.00,9,    0.05,2,  -176.4,2,     3.0,-999.000,9,-999.000, 10055.9,   5.3649,-999.0000, -999.00
 316N145_14,       I02E,    1096,          1,         20,     SIH004,2,19951211,       0529,    -8.0070,    93.9972,       5257,  1090.8,   5.0843,  34.7247,2,  34.7235,2,     79.7,2,    80.9,2,   99.63,2,   36.92,2,    0.00,2,    2.64,2,-999.000,5,-999.000,5,  2304.8,2,  2376.9,2,  -999.0,5,-999.000,1,-999.000,-999.0000,1, -999.00,9,    0.04,2,  -186.9,2,     2.2,-999.000,9,-999.000, 11035.8,   4.9916,-999.0000, -999.00
 316N145_14,       I02E,    1096,          1,         19,     SIH005,2,19951211,       0529,    -8.0070,    93.9972,       5257,  1180.1,   4.6071,  34.7046,2,  34.7042,2,     89.1,2,    89.5,2,  105.30,2,   36.77,2,    0.00,2,    2.64,2,   0.004,2,   0.002,2,  2307.0,2,  2382.1,2,  -999.0,5,-999.000,1,-999.000,-999.0000,1, -999.00,9,    0.10,2,  -179.5,2,     2.7,-999.000,9,-999.000, 11929.4,   4.5104,-999.0000, -999.00
 316N145_14,       I02E,    1096,          1,         18,     SIH006,2,19951211,       0529,    -8.0070,    93.9972,       5257,  1389.9,   4.1618,  34.7553,2,  34.7563,2,     92.3,2,    94.5,2,  108.06,2,   36.73,2,    0.00,2,    2.63,2,   0.000,2,  -0.001,2,  2310.8,2,  2389.8,2,  -999.0,5,-999.000,1,-999.000,-999.0000,1, -999.00,9,    0.01,2,  -182.6,2,     2.4,-999.000,9,-999.000, 14028.4,   4.0503,-999.0000, -999.00
 316N145_14,       I02E,    1096,          1,         17,     SIH038,2,19951211,       0529,    -8.0070,    93.9972,       5257,  1593.6,   3.4991,  34.7540,2,  34.7547,2,    111.2,2,   110.6,2,  113.36,2,   36.23,2,    0.00,2,    2.58,2,-999.000,5,-999.000,5,  2311.6,2,  2393.6,2,  -999.0,5,-999.000,1,-999.000,-999.0000,1, -999.00,9,    0.14,2,  -194.1,2,     2.2,-999.000,9,-999.000, 16066.3,   3.3768,-999.0000, -999.00
 316N145_14,       I02E,    1096,          1,         16,     SIH008,2,19951211,       0529,    -8.0070,    93.9972,       5257,  1797.9,   2.9988,  34.7523,2,  34.7522,2,    123.8,2,   123.0,2,  117.95,2,   35.71,2,    0.00,2,    2.53,2,-999.000,5,-999.000,5,  2307.5,2,  2399.6,2,  -999.0,5,-999.000,1,-999.000,-999.0000,1, -999.00,9, -999.00,9,  -999.0,9,  -999.0,-999.000,9,-999.000, 18110.1,   2.8649,-999.0000, -999.00
 316N145_14,       I02E,    1096,          1,         15,     SIH009,2,19951211,       0529,    -8.0070,    93.9972,       5257,  1995.4,   2.6182,  34.7481,2,  34.7486,2,    134.1,2,   134.0,2,  120.54,2,   35.25,2,    0.00,2,    2.48,2,   0.005,2,   0.000,2,  2307.0,2,  2425.1,4,  -999.0,5,-999.000,1,-999.000,-999.0000,1, -999.00,9, -999.00,9,  -999.0,9,  -999.0,-999.000,9,-999.000, 20085.7,   2.4724,-999.0000, -999.00
 316N145_14,       I02E,    1096,          1,         14,     SIH010,2,19951211,       0529,    -8.0070,    93.9972,       5257,  2254.5,   2.2436,  34.7420,2,  34.7423,2,    143.0,2,   144.4,2,  124.76,2,   34.85,2,    0.00,2,    2.44,2,-999.000,5,-999.000,5,  2308.2,2,  2407.1,2,  -999.0,5,-999.000,1,-999.000,-999.0000,1, -999.00,9, -999.00,9,  -999.0,9,  -999.0,-999.000,9,-999.000, 22678.3,   2.0808,-999.0000, -999.00
 316N145_14,       I02E,    1096,          1,         13,     SIH011,2,19951211,       0529,    -8.0070,    93.9972,       5257,  2502.6,   2.0208,  34.7387,2,  34.7384,2,    153.0,2,   152.5,2,  126.08,2,   34.50,2,    0.00,2,    2.40,2,-999.000,5,-999.000,5,  2306.4,2,  2411.1,2,  -999.0,5,-999.000,1,-999.000,-999.0000,1, -999.00,9, -999.00,9,  -999.0,9,  -999.0,-999.000,9,-999.000, 25161.0,   1.8396,-999.0000, -999.00
 316N145_14,       I02E,    1096,          1,         12,     SIH012,2,19951211,       0529,    -8.0070,    93.9972,       5257,  2757.8,   1.8450,  34.7330,2,  34.7333,2,    156.8,2,   159.1,2,  127.77,2,   34.25,2,    0.00,2,    2.38,2,-999.000,5,-999.000,5,  2302.7,2,  2405.4,2,  -999.0,5,-999.000,1,-999.000,-999.0000,1, -999.00,9, -999.00,9,  -999.0,9,  -999.0,-999.000,9,-999.000, 27713.7,   1.6435,-999.0000, -999.00
 316N145_14,       I02E,    1096,          1,         11,     SI9426,2,19951211,       0529,    -8.0070,    93.9972,       5257,  2987.5,   1.6920,  34.7280,2,  34.7286,2,    163.6,2,   164.8,2,  129.09,2,   33.84,2,    0.00,2,    2.36,2,   0.000,2,   0.000,2,  2298.9,2,  2409.4,2,  -999.0,5,-999.000,1,-999.000,-999.0000,1, -999.00,9, -999.00,9,  -999.0,9,  -999.0,-999.000,9,-999.000, 30012.1,   1.4719,-999.0000, -999.00
 316N145_14,       I02E,    1096,          1,         10,     SIH014,2,19951211,       0529,    -8.0070,    93.9972,       5257,  3244.8,   1.5422,  34.7235,2,  34.7235,2,    169.5,2,   170.0,2,  130.97,2,   33.80,2,    0.00,2,    2.34,2,-999.000,5,-999.000,5,  2299.1,2,  2406.5,2,  -999.0,5,-999.000,1,-999.000,-999.0000,1, -999.00,9, -999.00,9,  -999.0,9,  -999.0,-999.000,9,-999.000, 32586.2,   1.3005,-999.0000, -999.00
 316N145_14,       I02E,    1096,          1,          9,     SIH015,2,19951211,       0529,    -8.0070,    93.9972,       5257,  3485.9,   1.3650,  34.7194,2,  34.7190,2,    177.2,2,   178.2,2,  130.84,2,   33.45,2,   -0.01,2,    2.31,2,-999.000,5,-999.000,5,  2292.4,2,  2405.2,2,  -999.0,5,-999.000,1,-999.000,-999.0000,1, -999.00,9, -999.00,9,  -999.0,9,  -999.0,-999.000,9,-999.000, 34998.0,   1.1035,-999.0000, -999.00
 316N145_14,       I02E,    1096,          1,          8,     SIH016,2,19951211,       0529,    -8.0070,    93.9972,       5257,  3741.6,   1.2304,  34.7156,2,  34.7154,2,    184.5,2,   186.0,2,  130.17,2,   33.04,2,    0.00,2,    2.28,2,-999.000,5,-999.000,5,  2286.9,2,  2401.4,2,  -999.0,5,-999.000,1,-999.000,-999.0000,1, -999.00,9, -999.00,9,  -999.0,9,  -999.0,-999.000,9,-999.000, 37555.0,   0.9462,-999.0000, -999.00
 316N145_14,       I02E,    1096,          1,          7,     SIH017,3,19951211,       0529,    -8.0070,    93.9972,       5257,  3990.0,   1.1721,  34.7134,2,  34.7132,2,    188.7,2,   190.1,2,  129.14,2,   32.79,2,    0.00,2,    2.25,2,-999.000,5,-999.000,5,  2283.2,2,  2401.6,2,  -999.0,5,-999.000,1,-999.000,-999.0000,1, -999.00,9, -999.00,9,  -999.0,9,  -999.0,-999.000,9,-999.000, 40040.5,   0.8634,-999.0000, -999.00
 316N145_14,       I02E,    1096,          1,          6,     SIH018,2,19951211,       0529,    -8.0070,    93.9972,       5257,  4245.4,   1.1458,  34.7122,2,  34.7131,2,    192.5,2,   193.7,2,  128.11,2,   32.59,2,    0.00,2,    2.24,2,   0.002,2,   0.003,2,  2280.4,2,  2395.0,2,  -999.0,5,-999.000,1,-999.000,-999.0000,1, -999.00,9, -999.00,9,  -999.0,9,  -999.0,-999.000,9,-999.000, 42596.2,   0.8101,-999.0000, -999.00
 316N145_14,       I02E,    1096,          1,          5,     SIH002,2,19951211,       0529,    -8.0070,    93.9972,       5257,  4492.2,   1.1463,  34.7127,2,  34.7131,2,    196.4,2,   196.3,2,  126.89,2,   32.50,2,    0.00,2,    2.22,2,-999.000,5,-999.000,5,  2276.5,2,  2446.9,4,  -999.0,5,-999.000,1,-999.000,-999.0000,1, -999.00,9, -999.00,9,  -999.0,9,  -999.0,-999.000,9,-999.000, 45063.7,   0.7831,-999.0000, -999.00
 316N145_14,       I02E,    1096,          1,          4,     SIH020,2,19951211,       0529,    -8.0070,    93.9972,       5257,  4748.2,   1.1634,  34.7121,2,  34.7127,2,    197.5,2,   197.6,2,  126.22,2,   32.43,2,    0.00,2,    2.20,2,-999.000,5,-999.000,5,  2275.3,2,  2391.5,2,  -999.0,5,-999.000,1,-999.000,-999.0000,1, -999.00,9, -999.00,9,  -999.0,9,  -999.0,-999.000,9,-999.000, 47626.4,   0.7702,-999.0000, -999.00
 316N145_14,       I02E,    1096,          1,          3,     SIH021,2,19951211,       0529,    -8.0070,    93.9972,       5257,  4992.0,   1.1860,  34.7123,2,  34.7123,2,    197.7,2,   198.2,2,  126.01,2,   32.47,2,    0.00,2,    2.21,2,   0.000,2,  -0.001,2,  2274.9,2,  2393.6,2,  -999.0,5,-999.000,1,-999.000,-999.0000,1, -999.00,9, -999.00,9,  -999.0,9,  -999.0,-999.000,9,-999.000, 50064.5,   0.7632,-999.0000, -999.00
 316N145_14,       I02E,    1096,          1,          2,     SIH022,2,19951211,       0529,    -8.0070,    93.9972,       5257,  5247.2,   1.2126,  34.7117,2,  34.7123,2,    199.1,2,   198.0,2,  125.78,2,   32.37,2,    0.00,2,    2.22,2,-999.000,5,-999.000,5,  2274.1,2,  2396.0,2,  -999.0,5,-999.000,1,-999.000,-999.0000,1, -999.00,9, -999.00,9,  -999.0,9,  -999.0,-999.000,9,-999.000, 52617.4,   0.7579,-999.0000, -999.00
 316N145_14,       I02E,    1096,          1,          1,     SIH023,2,19951211,       0529,    -8.0070,    93.9972,       5257,  5367.6,   1.2269,  34.7118,2,  34.7121,2,    197.5,2,   199.5,2,  125.44,6,   32.31,6,    0.00,6,    2.21,6,   0.002,2,   0.001,2,  2274.2,2,  2390.9,2,  -999.0,5,-999.000,1,-999.000,-999.0000,1, -999.00,9, -999.00,9,  -999.0,9,  -999.0,-999.000,9,-999.000, 53816.7,   0.7567,-999.0000, -999.00