BOTTLE,20220829CCHSIOAMB
EXPOCODE,SECT_ID,STNNBR,CASTNO,SAMPNO,BTLNBR,BTLNBR_FLAG_W,DATE,TIME,LATITUDE,LONGITUDE,DEPTH,CTDPRS,CTDTMP,CTDSAL,CTDSAL_FLAG_W,SALNTY,SALNTY_FLAG_W,CTDOXY,CTDOXY_FLAG_W,OXYGEN,OXYGEN_FLAG_W,SILCAT,SILCAT_FLAG_W,NITRAT,NITRAT_FLAG_W,NITRIT,NITRIT_FLAG_W,PHSPHT,PHSPHT_FLAG_W,CFC-11,CFC-11_FLAG_W,CFC-12,CFC-12_FLAG_W,TCARBN,TCARBN_FLAG_W,ALKALI,ALKALI_FLAG_W,PCO2,PCO2_FLAG_W,TRITUM,TRITUM_FLAG_W,TRITER,HELIUM,HELIUM_FLAG_W,DELHE3,DELHE3_FLAG_W,DELC13,DELC13_FLAG_W,DELC14,DELC14_FLAG_W,C14ERR,NEON,NEON_FLAG_W,NEONER,CTDRAW,THETA,HELIER,DELHER
,,,,,,,,,,,METERS,DBAR,ITS-90,PSS-78,,PSS-78,,UMOL/KG,,UMOL/KG,,UMOL/KG,,UMOL/KG,,UMOL/KG,,UMOL/KG,,PMOL/KG,,PMOL/KG,,UMOL/KG,,UMOL/KG,,UATM,,TU,,TU,NMOL/KG,,PERCNT,,/MILLE,,/MILLE,,/MILLE,NMOL/KG,,NMOL/KG,DBAR,DEG C,NMOL/KG,PERCNT
 316N145_14,       I02E,    1126,          1,         31,     SIH029,2,19951219,       0635,   -10.3778,    88.4112,       4106,    10.3,  27.6342,  34.2703,2,  34.2711,2,    215.1,2,   216.2,2,    2.99,2,    0.01,2,    0.00,2,    0.10,2,-999.000,5,-999.000,5,  1918.3,2,  -999.0,9,  -999.0,5,-999.000,1,-999.000,-999.0000,1, -999.00,9,    0.96,3,    43.8,2,     5.0,-999.000,9,-999.000,   254.2,  27.6318,-999.0000, -999.00
 316N145_14,       I02E,    1126,          1,         30,     SIH030,2,19951219,       0635,   -10.3778,    88.4112,       4106,    57.3,  26.8758,  34.2585,2,  34.2593,2,    214.7,2,   218.8,2,    3.33,2,    0.12,2,    0.00,2,    0.10,2,-999.000,5,-999.000,5,  1920.4,2,  -999.0,9,  -999.0,5,-999.000,1,-999.000,-999.0000,1, -999.00,9,    1.05,3,    53.9,2,     4.1,-999.000,9,-999.000,   716.4,  26.8628,-999.0000, -999.00
 316N145_14,       I02E,    1126,          1,         29,     SIH031,2,19951219,       0635,   -10.3778,    88.4112,       4106,   101.4,  23.7575,  34.4645,2,  34.4650,2,    109.3,3,   141.4,2,   10.19,2,    9.18,2,    0.06,2,    0.70,2,-999.000,5,-999.000,5,  2018.5,2,  2261.9,2,  -999.0,5,-999.000,1,-999.000,-999.0000,1, -999.00,9,    0.59,3,    15.3,2,     3.8,-999.000,9,-999.000,  1150.2,  23.7364,-999.0000, -999.00
 316N145_14,       I02E,    1126,          1,         28,     SIH032,2,19951219,       0635,   -10.3778,    88.4112,       4106,   151.7,  19.1105,  34.5792,2,  34.5794,2,    110.9,2,   108.8,2,   20.98,2,   16.60,2,    0.01,2,    1.19,2,-999.000,5,-999.000,5,  -999.0,9,  -999.0,9,  -999.0,5,-999.000,1,-999.000,-999.0000,1, -999.00,9,    0.31,3,    18.9,2,     2.7,-999.000,9,-999.000,  1648.2,  19.0834,-999.0000, -999.00
 316N145_14,       I02E,    1126,          1,         27,     SIH033,2,19951219,       0635,   -10.3778,    88.4112,       4106,   196.8,  15.6484,  34.7877,2,  34.7655,3,     86.3,2,    84.2,2,   26.81,2,   22.22,2,    0.00,2,    1.55,2,-999.000,5,-999.000,5,  -999.0,9,  -999.0,9,  -999.0,5,-999.000,1,-999.000,-999.0000,1, -999.00,9,   -2.19,4,   -84.2,3,     2.6,-999.000,9,-999.000,  2097.4,  15.6178,-999.0000, -999.00
 316N145_14,       I02E,    1126,          1,         26,     SIH037,2,19951219,       0635,   -10.3778,    88.4112,       4106,   297.2,  11.3683,  34.7182,2,  34.7172,2,     73.7,2,    77.4,2,   37.62,2,   27.81,2,    0.00,2,    1.95,2,-999.000,5,-999.000,5,  -999.0,9,  -999.0,9,  -999.0,5,-999.000,1,-999.000,-999.0000,1, -999.00,9,    0.23,4,   -48.4,2,     3.0,-999.000,9,-999.000,  3099.3,  11.3308,-999.0000, -999.00
 316N145_14,       I02E,    1126,          1,         25,     SI9446,2,19951219,       0635,   -10.3778,    88.4112,       4106,   396.8,   9.7653,  34.7681,2,  34.6906,4,     96.6,2,    96.5,2,   35.40,2,   28.44,2,    0.00,2,    1.97,2,-999.000,5,-999.000,5,  -999.0,9,  -999.0,9,  -999.0,5,-999.000,1,-999.000,-999.0000,1, -999.00,9,   -0.35,4,   -87.9,2,     6.9,-999.000,9,-999.000,  4094.8,   9.7196,-999.0000, -999.00
 316N145_14,       I02E,    1126,          1,         24,     SIH036,2,19951219,       0635,   -10.3778,    88.4112,       4106,   496.8,   8.4979,  34.7137,2,  34.7178,2,     80.9,2,    82.6,2,   48.46,2,   32.06,2,    0.00,2,    2.24,2,-999.000,5,-999.000,5,  -999.0,9,  -999.0,9,  -999.0,5,-999.000,1,-999.000,-999.0000,1, -999.00,9,    0.31,4,  -103.2,2,     2.8,-999.000,9,-999.000,  5094.8,   8.4450,-999.0000, -999.00
 316N145_14,       I02E,    1126,          1,         23,     SIH001,2,19951219,       0635,   -10.3778,    88.4112,       4106,   596.5,   7.6101,  34.6913,2,  34.6936,2,     74.1,2,    74.7,2,   62.73,2,   34.30,2,    0.00,2,    2.43,2,-999.000,5,-999.000,5,  -999.0,9,  -999.0,9,  -999.0,5,-999.000,1,-999.000,-999.0000,1, -999.00,9,    1.08,4,  -144.8,2,     5.6,-999.000,9,-999.000,  6091.1,   7.5502,-999.0000, -999.00
 316N145_14,       I02E,    1126,          1,         22,     SIH019,2,19951219,       0635,   -10.3778,    88.4112,       4106,   699.2,   6.9570,  34.6763,2,  34.6765,2,     74.8,2,    74.8,2,   72.20,2,   35.21,2,    0.00,2,    2.54,2,-999.000,5,-999.000,5,  -999.0,9,  -999.0,9,  -999.0,5,-999.000,1,-999.000,-999.0000,1, -999.00,9,    0.15,4,  -152.2,2,     4.3,-999.000,9,-999.000,  7119.2,   6.8897,-999.0000, -999.00
 316N145_14,       I02E,    1126,          1,         21,     SIH025,3,19951219,       0635,   -10.3778,    88.4112,       4106,   798.7,   6.2749,  34.6602,2,  34.6582,2,     78.6,2,    78.1,2,   82.03,2,   35.64,2,    0.00,2,    2.57,2,-999.000,5,-999.000,5,  -999.0,9,  -999.0,9,  -999.0,5,-999.000,1,-999.000,-999.0000,1, -999.00,9,    0.12,4,  -149.4,2,     2.8,-999.000,9,-999.000,  8115.1,   6.2016,-999.0000, -999.00
 316N145_14,       I02E,    1126,          1,         20,     SIH004,2,19951219,       0635,   -10.3778,    88.4112,       4106,  1000.6,   5.1883,  34.6367,2,  34.6358,2,     87.7,2,    86.9,2,   97.36,2,   36.29,2,    0.00,2,    2.61,2,-999.000,5,-999.000,5,  -999.0,9,  -999.0,9,  -999.0,5,-999.000,1,-999.000,-999.0000,1, -999.00,9,   -1.09,4,  -201.8,2,     3.4,-999.000,9,-999.000, 10133.6,   5.1032,-999.0000, -999.00
 316N145_14,       I02E,    1126,          1,         19,     SIH005,2,19951219,       0635,   -10.3778,    88.4112,       4106,  1246.5,   4.3907,  34.6817,2,  34.6806,2,     94.3,2,    94.5,2,  106.38,2,   36.55,2,    0.00,2,    2.64,2,-999.000,5,-999.000,5,  -999.0,9,  -999.0,9,  -999.0,5,-999.000,1,-999.000,-999.0000,1, -999.00,9,   -0.85,4,  -214.5,2,     2.8,-999.000,9,-999.000, 12594.5,   4.2901,-999.0000, -999.00
 316N145_14,       I02E,    1126,          1,         18,     SIH006,2,19951219,       0635,   -10.3778,    88.4112,       4106,  1498.7,   3.6261,  34.7092,2,  34.7085,2,    112.1,2,   110.5,2,  109.76,2,   36.20,2,    0.00,2,    2.58,2,-999.000,5,-999.000,5,  -999.0,9,  -999.0,9,  -999.0,5,-999.000,1,-999.000,-999.0000,1, -999.00,9,   -1.04,4,  -218.7,2,     2.6,-999.000,9,-999.000, 15116.9,   3.5109,-999.0000, -999.00
 316N145_14,       I02E,    1126,          1,         17,     SIH038,2,19951219,       0635,   -10.3778,    88.4112,       4106,  1751.8,   2.9137,  34.7277,2,  34.7276,2,    131.3,2,   130.1,2,  114.01,2,   35.41,2,    0.00,2,    2.52,2,-999.000,5,-999.000,5,  -999.0,9,  -999.0,9,  -999.0,5,-999.000,1,-999.000,-999.0000,1, -999.00,9,   -0.39,4,  -210.9,2,     2.4,-999.000,9,-999.000, 17648.9,   2.7851,-999.0000, -999.00
 316N145_14,       I02E,    1126,          1,         16,     SIH008,2,19951219,       0635,   -10.3778,    88.4112,       4106,  1999.4,   2.4120,  34.7372,2,  34.7357,2,    145.5,2,   145.2,2,  118.71,2,   34.89,2,    0.00,2,    2.44,2,-999.000,5,-999.000,5,  -999.0,9,  -999.0,9,  -999.0,5,-999.000,1,-999.000,-999.0000,1, -999.00,9,    0.19,4,  -195.9,2,     2.4,-999.000,9,-999.000, 20125.7,   2.2690,-999.0000, -999.00
 316N145_14,       I02E,    1126,          1,         15,     SIH009,2,19951219,       0635,   -10.3778,    88.4112,       4106,  2245.1,   2.1119,  34.7328,2,  34.7333,2,    155.8,2,   155.1,2,  120.67,2,   34.36,2,    0.00,2,    2.40,2,-999.000,5,-999.000,5,  -999.0,9,  -999.0,9,  -999.0,5,-999.000,1,-999.000,-999.0000,1, -999.00,9,   -0.33,4,  -200.5,2,     2.7,-999.000,9,-999.000, 22583.2,   1.9522,-999.0000, -999.00
 316N145_14,       I02E,    1126,          1,         14,     SIH010,2,19951219,       0635,   -10.3778,    88.4112,       4106,  2498.4,   1.8778,  34.7299,2,  34.7325,2,    161.8,2,   161.8,2,  123.65,2,   34.00,2,    0.00,2,    2.38,2,-999.000,5,-999.000,5,  -999.0,9,  -999.0,9,  -999.0,5,-999.000,1,-999.000,-999.0000,1, -999.00,9,    0.26,4,  -196.8,2,     4.6,-999.000,9,-999.000, 25118.1,   1.6997,-999.0000, -999.00
 316N145_14,       I02E,    1126,          1,         13,     SIH011,2,19951219,       0635,   -10.3778,    88.4112,       4106,  2746.6,   1.7777,  34.7291,2,  34.7284,2,    164.4,2,   164.6,2,  125.96,2,   33.85,2,    0.00,2,    2.37,2,-999.000,5,-999.000,5,  -999.0,9,  -999.0,9,  -999.0,5,-999.000,1,-999.000,-999.0000,1, -999.00,9,   -0.84,4,  -234.2,3,     3.3,-999.000,9,-999.000, 27601.3,   1.5786,-999.0000, -999.00
 316N145_14,       I02E,    1126,          1,         12,     SIH012,2,19951219,       0635,   -10.3778,    88.4112,       4106,  2997.6,   1.6209,  34.7259,2,  34.7256,2,    168.1,2,   167.9,2,  129.63,2,   33.96,2,    0.00,2,    2.36,2,-999.000,5,-999.000,5,  -999.0,9,  -999.0,9,  -999.0,5,-999.000,1,-999.000,-999.0000,1, -999.00,9,   -0.25,4,  -220.9,3,     3.5,-999.000,9,-999.000, 30111.8,   1.4014,-999.0000, -999.00
 316N145_14,       I02E,    1126,          1,         11,     SI9426,2,19951219,       0635,   -10.3778,    88.4112,       4106,  3246.8,   1.4410,  34.7211,2,  34.7207,2,    174.2,2,   174.2,2,  131.24,2,   33.71,2,    0.00,2,    2.35,2,-999.000,5,-999.000,5,  -999.0,9,  -999.0,9,  -999.0,5,-999.000,1,-999.000,-999.0000,1, -999.00,9,    0.23,4,  -202.8,2,     2.8,-999.000,9,-999.000, 32605.3,   1.2014,-999.0000, -999.00
 316N145_14,       I02E,    1126,          1,         10,     SIH014,2,19951219,       0635,   -10.3778,    88.4112,       4106,  3490.5,   1.3962,  34.7197,2,  34.7195,2,    177.3,2,   177.3,2,  131.14,2,   33.50,2,    0.00,2,    2.35,2,-999.000,5,-999.000,5,  -999.0,9,  -999.0,9,  -999.0,5,-999.000,1,-999.000,-999.0000,1, -999.00,9,   -0.22,4,  -209.9,2,     3.1,-999.000,9,-999.000, 35042.3,   1.1334,-999.0000, -999.00
 316N145_14,       I02E,    1126,          1,          9,     SIH015,2,19951219,       0635,   -10.3778,    88.4112,       4106,  3746.9,   1.3309,  34.7180,2,  34.7184,2,    179.0,2,   179.9,2,  132.75,2,   33.41,2,    0.00,2,    2.33,2,-999.000,5,-999.000,5,  -999.0,9,  -999.0,9,  -999.0,5,-999.000,1,-999.000,-999.0000,1, -999.00,9,    0.27,4,  -213.3,2,     3.2,-999.000,9,-999.000, 37607.5,   1.0434,-999.0000, -999.00
 316N145_14,       I02E,    1126,          1,          8,     SIH016,2,19951219,       0635,   -10.3778,    88.4112,       4106,  3796.6,   1.3235,  34.7185,2,  34.7170,2,    178.4,2,   179.5,2,  133.85,2,   33.68,2,    0.00,2,    2.33,2,-999.000,5,-999.000,5,  -999.0,9,  -999.0,9,  -999.0,5,-999.000,1,-999.000,-999.0000,1, -999.00,9,   -0.10,4,  -205.8,2,     2.2,-999.000,9,-999.000, 38104.6,   1.0310,-999.0000, -999.00
 316N145_14,       I02E,    1126,          1,          7,     SIH017,2,19951219,       0635,   -10.3778,    88.4112,       4106,  3848.7,   1.3201,  34.7182,2,  34.7182,2,    178.6,2,   180.1,2,  133.22,2,   33.58,2,    0.00,2,    2.33,2,-999.000,5,-999.000,5,  -999.0,9,  -999.0,9,  -999.0,5,-999.000,1,-999.000,-999.0000,1, -999.00,9,    0.29,4,  -204.3,2,     3.6,-999.000,9,-999.000, 38625.8,   1.0222,-999.0000, -999.00
 316N145_14,       I02E,    1126,          1,          6,     SIH018,2,19951219,       0635,   -10.3778,    88.4112,       4106,  3899.2,   1.3215,  34.7177,2,  34.7176,2,    179.3,2,   180.8,2,  133.28,2,   33.53,2,    0.00,2,    2.33,2,-999.000,5,-999.000,5,  -999.0,9,  -999.0,9,  -999.0,5,-999.000,1,-999.000,-999.0000,1, -999.00,9,    0.23,4,  -199.3,2,     3.5,-999.000,9,-999.000, 39131.2,   1.0182,-999.0000, -999.00
 316N145_14,       I02E,    1126,          1,          5,     SIH002,2,19951219,       0635,   -10.3778,    88.4112,       4106,  3950.4,   1.3231,  34.7181,2,  34.7176,2,    180.3,2,   180.7,2,  133.35,2,   33.65,2,    0.00,2,    2.32,2,-999.000,5,-999.000,5,  -999.0,9,  -999.0,9,  -999.0,5,-999.000,1,-999.000,-999.0000,1, -999.00,9,   -1.19,4,  -235.9,3,     3.5,-999.000,9,-999.000, 39642.4,   1.0143,-999.0000, -999.00
 316N145_14,       I02E,    1126,          1,          4,     SIH020,2,19951219,       0635,   -10.3778,    88.4112,       4106,  4001.1,   1.3145,  34.7171,2,  34.7174,2,    180.7,2,   182.1,2,  132.71,2,   33.51,2,    0.00,2,    2.33,2,-999.000,5,-999.000,5,  -999.0,9,  -999.0,9,  -999.0,5,-999.000,1,-999.000,-999.0000,1, -999.00,9,    0.29,4,  -195.3,2,     4.3,-999.000,9,-999.000, 40150.4,   1.0005,-999.0000, -999.00
 316N145_14,       I02E,    1126,          1,          3,     SIH021,2,19951219,       0635,   -10.3778,    88.4112,       4106,  4052.7,   1.2835,  34.7164,2,  34.7172,2,    184.4,2,   184.6,2,  131.73,2,   33.24,2,    0.00,2,    2.31,2,-999.000,5,-999.000,5,  -999.0,9,  -999.0,9,  -999.0,5,-999.000,1,-999.000,-999.0000,1, -999.00,9,    0.30,4,  -192.1,2,     3.5,-999.000,9,-999.000, 40665.1,   0.9648,-999.0000, -999.00
 316N145_14,       I02E,    1126,          1,          2,     SIH022,2,19951219,       0635,   -10.3778,    88.4112,       4106,  4103.3,   1.2204,  34.7162,2,  34.7148,2,    187.1,2,   190.0,2,  129.19,2,   33.09,2,    0.00,2,    2.29,2,-999.000,5,-999.000,5,  -999.0,9,  -999.0,9,  -999.0,5,-999.000,1,-999.000,-999.0000,1, -999.00,9,    0.39,4,  -190.5,2,     3.2,-999.000,9,-999.000, 41171.9,   0.8981,-999.0000, -999.00
 316N145_14,       I02E,    1126,          1,          1,     SIH023,2,19951219,       0635,   -10.3778,    88.4112,       4106,  4173.3,   1.1550,  34.7136,2,  34.7131,2,    194.4,2,   195.5,2,  126.77,6,   32.63,6,    0.00,6,    2.25,6,-999.000,5,-999.000,5,  -999.0,9,  -999.0,9,  -999.0,5,-999.000,1,-999.000,-999.0000,1, -999.00,9,   -0.14,4,  -197.9,2,     4.7,-999.000,9,-999.000, 41871.5,   0.8270,-999.0000, -999.00