BOTTLE,20220829CCHSIOAMB
EXPOCODE,SECT_ID,STNNBR,CASTNO,SAMPNO,BTLNBR,BTLNBR_FLAG_W,DATE,TIME,LATITUDE,LONGITUDE,DEPTH,CTDPRS,CTDTMP,CTDSAL,CTDSAL_FLAG_W,SALNTY,SALNTY_FLAG_W,CTDOXY,CTDOXY_FLAG_W,OXYGEN,OXYGEN_FLAG_W,SILCAT,SILCAT_FLAG_W,NITRAT,NITRAT_FLAG_W,NITRIT,NITRIT_FLAG_W,PHSPHT,PHSPHT_FLAG_W,CFC-11,CFC-11_FLAG_W,CFC-12,CFC-12_FLAG_W,TCARBN,TCARBN_FLAG_W,ALKALI,ALKALI_FLAG_W,PCO2,PCO2_FLAG_W,TRITUM,TRITUM_FLAG_W,TRITER,HELIUM,HELIUM_FLAG_W,DELHE3,DELHE3_FLAG_W,DELC13,DELC13_FLAG_W,DELC14,DELC14_FLAG_W,C14ERR,NEON,NEON_FLAG_W,NEONER,CTDRAW,THETA,HELIER,DELHER
,,,,,,,,,,,METERS,DBAR,ITS-90,PSS-78,,PSS-78,,UMOL/KG,,UMOL/KG,,UMOL/KG,,UMOL/KG,,UMOL/KG,,UMOL/KG,,PMOL/KG,,PMOL/KG,,UMOL/KG,,UMOL/KG,,UATM,,TU,,TU,NMOL/KG,,PERCNT,,/MILLE,,/MILLE,,/MILLE,NMOL/KG,,NMOL/KG,DBAR,DEG C,NMOL/KG,PERCNT
 316N145_14,       I02E,    1147,          1,         36,     SIH024,2,19951225,       2115,    -8.0013,    73.9997,       4945,    11.2,  28.3630,  34.4784,2,  34.4807,2,    197.6,2,   204.5,2,    4.83,2,    0.22,2,    0.00,2,    0.22,2,   1.612,2,   0.931,2,  1936.8,2,  2264.0,2,  -999.0,5,-999.000,1,-999.000,-999.0000,1, -999.00,9, -999.00,9,  -999.0,9,  -999.0,-999.000,9,-999.000,   249.6,  28.3603,-999.0000, -999.00
 316N145_14,       I02E,    1147,          1,         35,     SIH003,2,19951225,       2115,    -8.0013,    73.9997,       4945,    36.6,  24.3375,  35.2727,2,  35.2787,2,    118.9,3,   161.2,2,    7.96,2,    6.82,2,    0.19,2,    0.69,2,-999.000,5,-999.000,5,  2049.9,2,  2310.8,2,  -999.0,5,-999.000,1,-999.000,-999.0000,1, -999.00,9, -999.00,9,  -999.0,9,  -999.0,-999.000,9,-999.000,   500.2,  24.3297,-999.0000, -999.00
 316N145_14,       I02E,    1147,          1,         34,     SIH026,2,19951225,       2115,    -8.0013,    73.9997,       4945,    66.1,  20.8597,  35.2273,2,  35.2323,2,    101.0,2,   105.7,2,   11.97,2,   14.58,2,    0.28,2,    1.09,2,   1.485,2,   0.804,2,  2101.5,2,  2316.6,2,  -999.0,5,-999.000,1,-999.000,-999.0000,1, -999.00,9, -999.00,9,  -999.0,9,  -999.0,-999.000,9,-999.000,   791.2,  20.8471,-999.0000, -999.00
 316N145_14,       I02E,    1147,          1,         33,     SIH027,2,19951225,       2115,    -8.0013,    73.9997,       4945,   106.4,  18.9360,  35.1982,2,  35.1989,2,     93.1,2,    91.2,2,   14.41,2,   17.81,2,    0.08,2,    1.27,2,   1.404,2,   0.744,2,  2126.2,2,  2315.1,2,  -999.0,5,-999.000,1,-999.000,-999.0000,1, -999.00,9, -999.00,9,  -999.0,9,  -999.0,-999.000,9,-999.000,  1190.6,  18.9170,-999.0000, -999.00
 316N145_14,       I02E,    1147,          1,         32,     SIH028,2,19951225,       2115,    -8.0013,    73.9997,       4945,   156.5,  14.6796,  35.0196,2,  35.0136,2,     84.0,2,    84.4,2,   24.18,2,   22.60,2,    0.03,2,    1.57,2,-999.000,5,-999.000,5,  2168.7,2,  2314.7,2,  -999.0,5,-999.000,1,-999.000,-999.0000,1, -999.00,9, -999.00,9,  -999.0,9,  -999.0,-999.000,9,-999.000,  1690.7,  14.6562,-999.0000, -999.00
 316N145_14,       I02E,    1147,          1,         31,     SIH029,2,19951225,       2115,    -8.0013,    73.9997,       4945,   201.2,  12.7988,  34.9696,2,  34.9618,2,     76.0,2,    78.5,2,   26.63,2,   25.75,2,    0.01,2,    1.78,2,   0.725,2,   0.371,2,  -999.0,9,  2316.4,2,  -999.0,5,-999.000,1,-999.000,-999.0000,1, -999.00,9, -999.00,9,  -999.0,9,  -999.0,-999.000,9,-999.000,  2137.0,  12.7714,-999.0000, -999.00
 316N145_14,       I02E,    1147,          1,         30,     SIH030,2,19951225,       2115,    -8.0013,    73.9997,       4945,   251.6,  11.7740,  34.9552,2,  34.9601,2,     81.9,2,    88.6,2,   25.42,2,   25.96,2,    0.01,2,    1.78,2,-999.000,5,-999.000,5,  2191.8,2,  2325.9,3,  -999.0,5,-999.000,1,-999.000,-999.0000,1, -999.00,9, -999.00,9,  -999.0,9,  -999.0,-999.000,9,-999.000,  2641.5,  11.7415,-999.0000, -999.00
 316N145_14,       I02E,    1147,          1,         29,     SIH007,3,19951225,       2115,    -8.0013,    73.9997,       4945,   301.5,  11.1283,  34.9345,2,  34.9355,2,     95.9,2,   100.4,2,   24.72,2,   25.81,2,    0.01,2,    1.78,2,   0.681,2,   0.345,2,  2190.1,2,  2313.7,2,  -999.0,5,-999.000,1,-999.000,-999.0000,1, -999.00,9, -999.00,9,  -999.0,9,  -999.0,-999.000,9,-999.000,  3140.3,  11.0907,-999.0000, -999.00
 316N145_14,       I02E,    1147,          1,         28,     SI9439,2,19951225,       2115,    -8.0013,    73.9997,       4945,   351.8,  10.5561,  34.9035,2,  34.9018,2,     96.1,2,    96.4,2,   26.83,2,   27.43,2,    0.01,2,    1.88,2,-999.000,5,-999.000,5,  2198.3,2,  2327.6,3,  -999.0,5,-999.000,1,-999.000,-999.0000,1, -999.00,9, -999.00,9,  -999.0,9,  -999.0,-999.000,9,-999.000,  3643.3,  10.5136,-999.0000, -999.00
 316N145_14,       I02E,    1147,          1,         27,     SIH033,2,19951225,       2115,    -8.0013,    73.9997,       4945,   402.6,   9.8397,  34.8389,2,  34.8320,2,    112.3,2,   119.5,2,   27.19,2,   26.64,2,    0.01,2,    1.82,2,   0.617,2,   0.307,2,  2190.3,2,  2321.3,2,  -999.0,5,-999.000,1,-999.000,-999.0000,1, -999.00,9, -999.00,9,  -999.0,9,  -999.0,-999.000,9,-999.000,  4151.3,   9.7931,-999.0000, -999.00
 316N145_14,       I02E,    1147,          1,         26,     SIH037,3,19951225,       2115,    -8.0013,    73.9997,       4945,   501.3,   9.0688,  34.8324,2,  34.8306,2,     88.8,2,    91.4,2,   38.54,2,   30.82,2,    0.00,2,    2.13,2,-999.000,5,-999.000,5,  2220.1,2,  2349.7,3,  -999.0,5,-999.000,1,-999.000,-999.0000,1, -999.00,9, -999.00,9,  -999.0,9,  -999.0,-999.000,9,-999.000,  5139.1,   9.0133,-999.0000, -999.00
 316N145_14,       I02E,    1147,          1,         25,     SI9446,2,19951225,       2115,    -8.0013,    73.9997,       4945,   601.5,   8.2816,  34.8048,2,  34.8064,2,     81.4,2,    81.1,2,   50.23,2,   32.81,2,    0.01,2,    2.34,2,   0.099,2,   0.047,2,  2240.6,2,  2334.9,2,  -999.0,5,-999.000,1,-999.000,-999.0000,1, -999.00,9, -999.00,9,  -999.0,9,  -999.0,-999.000,9,-999.000,  6142.0,   8.2181,-999.0000, -999.00
 316N145_14,       I02E,    1147,          1,         24,     SIH036,2,19951225,       2115,    -8.0013,    73.9997,       4945,   701.3,   7.6965,  34.8128,2,  34.8133,2,     70.7,2,    70.4,2,   61.06,2,   34.77,2,    0.02,2,    2.48,2,-999.000,5,-999.000,5,  2259.4,2,  2358.6,2,  -999.0,5,-999.000,1,-999.000,-999.0000,1, -999.00,9, -999.00,9,  -999.0,9,  -999.0,-999.000,9,-999.000,  7140.4,   7.6249,-999.0000, -999.00
 316N145_14,       I02E,    1147,          1,         23,     SIH001,2,19951225,       2115,    -8.0013,    73.9997,       4945,   801.3,   7.0084,  34.7968,2,  34.7962,2,     66.9,2,    67.4,2,   72.77,2,   35.68,2,    0.01,2,    2.60,2,-999.000,5,-999.000,5,  2276.0,2,  2354.5,2,  -999.0,5,-999.000,1,-999.000,-999.0000,1, -999.00,9, -999.00,9,  -999.0,9,  -999.0,-999.000,9,-999.000,  8139.5,   6.9303,-999.0000, -999.00
 316N145_14,       I02E,    1147,          1,         22,     SIH019,2,19951225,       2115,    -8.0013,    73.9997,       4945,   901.6,   6.2259,  34.7482,2,  34.7482,2,     75.1,2,    74.5,2,   82.74,2,   36.16,2,    0.01,2,    2.63,2,-999.000,5,-999.000,5,  2284.4,2,  2386.8,3,  -999.0,5,-999.000,1,-999.000,-999.0000,1, -999.00,9, -999.00,9,  -999.0,9,  -999.0,-999.000,9,-999.000,  9143.2,   6.1427,-999.0000, -999.00
 316N145_14,       I02E,    1147,          1,         21,     SIH013,3,19951225,       2115,    -8.0013,    73.9997,       4945,  1002.9,   5.7819,  34.7568,2,  34.7555,2,     77.1,2,    75.5,2,   89.75,2,   36.52,2,    0.00,2,    2.66,2,-999.000,5,-999.000,5,  2292.8,2,  2371.8,2,  -999.0,5,-999.000,1,-999.000,-999.0000,1, -999.00,9, -999.00,9,  -999.0,9,  -999.0,-999.000,9,-999.000, 10157.0,   5.6920,-999.0000, -999.00
 316N145_14,       I02E,    1147,          1,         20,     SIH004,2,19951225,       2115,    -8.0013,    73.9997,       4945,  1104.4,   5.1545,  34.7362,2,  34.7360,2,     83.2,2,    82.9,2,   97.10,2,   36.74,2,    0.00,2,    2.66,2,-999.000,5,-999.000,5,  2298.9,2,  2378.6,2,  -999.0,5,-999.000,1,-999.000,-999.0000,1, -999.00,9, -999.00,9,  -999.0,9,  -999.0,-999.000,9,-999.000, 11171.5,   5.0599,-999.0000, -999.00
 316N145_14,       I02E,    1147,          1,         19,     SIH005,2,19951225,       2115,    -8.0013,    73.9997,       4945,  1205.1,   4.7627,  34.7399,2,  34.7416,2,     88.6,2,    88.2,2,  101.14,2,   36.80,2,    0.00,2,    2.67,2,-999.000,5,-999.000,5,  2301.2,2,  2382.0,2,  -999.0,5,-999.000,1,-999.000,-999.0000,1, -999.00,9, -999.00,9,  -999.0,9,  -999.0,-999.000,9,-999.000, 12179.9,   4.6622,-999.0000, -999.00
 316N145_14,       I02E,    1147,          1,         18,     SIH006,2,19951225,       2115,    -8.0013,    73.9997,       4945,  1305.0,   4.4442,  34.7521,2,  34.7535,2,     94.4,2,    92.9,2,  104.13,2,   36.75,2,    0.00,2,    2.67,2,-999.000,5,-999.000,5,  2303.3,2,  2389.7,2,  -999.0,5,-999.000,1,-999.000,-999.0000,1, -999.00,9, -999.00,9,  -999.0,9,  -999.0,-999.000,9,-999.000, 13178.2,   4.3376,-999.0000, -999.00
 316N145_14,       I02E,    1147,          1,         17,     SIH038,2,19951225,       2115,    -8.0013,    73.9997,       4945,  1406.6,   4.1368,  34.7608,2,  34.7618,2,    100.9,2,    99.4,2,  106.25,2,   36.44,2,    0.00,2,    2.65,2,-999.000,5,-999.000,5,  2304.8,2,  2388.2,2,  -999.0,5,-999.000,1,-999.000,-999.0000,1, -999.00,9, -999.00,9,  -999.0,9,  -999.0,-999.000,9,-999.000, 14195.8,   4.0241,-999.0000, -999.00
 316N145_14,       I02E,    1147,          1,         16,     SIH008,2,19951225,       2115,    -8.0013,    73.9997,       4945,  1602.8,   3.5230,  34.7644,2,  34.7651,2,    112.8,2,   113.6,2,  111.52,2,   36.03,2,    0.00,2,    2.61,2,-999.000,5,-999.000,5,  2304.2,2,  2398.3,2,  -999.0,5,-999.000,1,-999.000,-999.0000,1, -999.00,9, -999.00,9,  -999.0,9,  -999.0,-999.000,9,-999.000, 16158.2,   3.3996,-999.0000, -999.00
 316N145_14,       I02E,    1147,          1,         15,     SIH009,2,19951225,       2115,    -8.0013,    73.9997,       4945,  1809.3,   3.0076,  34.7572,2,  34.7581,2,    125.4,2,   125.4,2,  116.43,2,   35.61,2,    0.00,2,    2.56,2,-999.000,5,-999.000,5,  2304.6,2,  2397.3,2,  -999.0,5,-999.000,1,-999.000,-999.0000,1, -999.00,9, -999.00,9,  -999.0,9,  -999.0,-999.000,9,-999.000, 18224.0,   2.8726,-999.0000, -999.00
 316N145_14,       I02E,    1147,          1,         14,     SIH010,2,19951225,       2115,    -8.0013,    73.9997,       4945,  2011.6,   2.5873,  34.7528,2,  34.7530,2,    136.7,2,   137.3,2,  121.18,2,   35.30,2,    0.00,2,    2.49,2,-999.000,5,-999.000,5,  2303.4,2,  2404.6,2,  -999.0,5,-999.000,1,-999.000,-999.0000,1, -999.00,9, -999.00,9,  -999.0,9,  -999.0,-999.000,9,-999.000, 20248.5,   2.4405,-999.0000, -999.00
 316N145_14,       I02E,    1147,          1,         13,     SIH011,2,19951225,       2115,    -8.0013,    73.9997,       4945,  2209.7,   2.3168,  34.7440,2,  34.7439,2,    146.7,2,   146.8,2,  122.25,2,   34.68,2,    0.00,2,    2.45,2,-999.000,5,-999.000,5,  2298.1,2,  2402.2,2,  -999.0,5,-999.000,1,-999.000,-999.0000,1, -999.00,9, -999.00,9,  -999.0,9,  -999.0,-999.000,9,-999.000, 22230.3,   2.1568,-999.0000, -999.00
 316N145_14,       I02E,    1147,          1,         12,     SIH012,2,19951225,       2115,    -8.0013,    73.9997,       4945,  2404.9,   2.0731,  34.7385,2,  34.7388,2,    155.0,2,   156.1,2,  123.85,2,   34.26,2,    0.01,2,    2.41,2,-999.000,5,-999.000,5,  2296.4,2,  2404.0,2,  -999.0,5,-999.000,1,-999.000,-999.0000,1, -999.00,9, -999.00,9,  -999.0,9,  -999.0,-999.000,9,-999.000, 24182.9,   1.8998,-999.0000, -999.00
 316N145_14,       I02E,    1147,          1,         11,     SI9426,2,19951225,       2115,    -8.0013,    73.9997,       4945,  2601.2,   1.8934,  34.7334,2,  34.7337,2,    161.3,2,   162.2,2,  125.28,2,   34.00,2,    0.00,2,    2.39,2,-999.000,5,-999.000,5,  2294.8,2,  2400.9,2,  -999.0,5,-999.000,1,-999.000,-999.0000,1, -999.00,9, -999.00,9,  -999.0,9,  -999.0,-999.000,9,-999.000, 26146.0,   1.7056,-999.0000, -999.00
 316N145_14,       I02E,    1147,          1,         10,     SIH014,2,19951225,       2115,    -8.0013,    73.9997,       4945,  2798.3,   1.7799,  34.7306,2,  34.7307,2,    164.6,2,   166.8,2,  126.36,2,   33.85,2,    0.01,2,    2.37,2,-999.000,5,-999.000,5,  2293.9,2,  2403.3,2,  -999.0,5,-999.000,1,-999.000,-999.0000,1, -999.00,9, -999.00,9,  -999.0,9,  -999.0,-999.000,9,-999.000, 28118.8,   1.5759,-999.0000, -999.00
 316N145_14,       I02E,    1147,          1,          9,     SIH015,2,19951225,       2115,    -8.0013,    73.9997,       4945,  2994.6,   1.6525,  34.7274,2,  34.7280,2,    170.1,2,   169.4,2,  129.18,2,   33.80,2,    0.01,2,    2.37,2,-999.000,5,-999.000,5,  2296.1,2,  2408.4,2,  -999.0,5,-999.000,1,-999.000,-999.0000,1, -999.00,9, -999.00,9,  -999.0,9,  -999.0,-999.000,9,-999.000, 30081.2,   1.4326,-999.0000, -999.00
 316N145_14,       I02E,    1147,          1,          8,     SIH016,2,19951225,       2115,    -8.0013,    73.9997,       4945,  3237.7,   1.4869,  34.7230,2,  34.7247,2,    171.3,2,   171.5,2,  134.28,2,   33.91,2,    0.00,2,    2.37,2,-999.000,5,-999.000,5,  2300.5,2,  2416.9,2,  -999.0,5,-999.000,1,-999.000,-999.0000,1, -999.00,9, -999.00,9,  -999.0,9,  -999.0,-999.000,9,-999.000, 32514.5,   1.2472,-999.0000, -999.00
 316N145_14,       I02E,    1147,          1,          7,     SIH017,2,19951225,       2115,    -8.0013,    73.9997,       4945,  3494.6,   1.3933,  34.7208,2,  34.7207,2,    174.5,2,   174.4,2,  135.19,2,   33.75,2,    0.01,2,    2.36,2,-999.000,5,-999.000,5,  2300.7,2,  2418.6,2,  -999.0,5,-999.000,1,-999.000,-999.0000,1, -999.00,9, -999.00,9,  -999.0,9,  -999.0,-999.000,9,-999.000, 35084.3,   1.1301,-999.0000, -999.00
 316N145_14,       I02E,    1147,          1,          6,     SIH018,2,19951225,       2115,    -8.0013,    73.9997,       4945,  3746.0,   1.3422,  34.7191,2,  34.7191,2,    177.4,2,   178.4,2,  135.39,2,   33.64,2,    0.01,2,    2.35,2,-999.000,5,-999.000,5,  2298.8,2,  2370.8,4,  -999.0,5,-999.000,1,-999.000,-999.0000,1, -999.00,9, -999.00,9,  -999.0,9,  -999.0,-999.000,9,-999.000, 37598.9,   1.0545,-999.0000, -999.00
 316N145_14,       I02E,    1147,          1,          5,     SIH002,4,19951225,       2115,    -8.0013,    73.9997,       4945,  3993.5,   1.3314,  34.7179,2,  34.7638,4,    180.8,2,   161.9,4,  104.94,4,   30.55,4,    0.02,4,    2.13,4,-999.000,5,-999.000,5,  2281.2,4,  2399.3,4,  -999.0,5,-999.000,1,-999.000,-999.0000,1, -999.00,9, -999.00,9,  -999.0,9,  -999.0,-999.000,9,-999.000, 40075.2,   1.0177,-999.0000, -999.00
 316N145_14,       I02E,    1147,          1,          4,     SIH020,2,19951225,       2115,    -8.0013,    73.9997,       4945,  4244.6,   1.3340,  34.7171,2,  34.7178,2,    182.2,2,   181.6,2,  134.92,2,   33.50,2,    0.01,2,    2.32,2,-999.000,5,-999.000,5,  2296.6,2,  2416.3,2,  -999.0,5,-999.000,1,-999.000,-999.0000,1, -999.00,9, -999.00,9,  -999.0,9,  -999.0,-999.000,9,-999.000, 42587.4,   0.9928,-999.0000, -999.00
 316N145_14,       I02E,    1147,          1,          3,     SIH021,2,19951225,       2115,    -8.0013,    73.9997,       4945,  4496.9,   1.3578,  34.7166,2,  34.7174,2,    182.0,2,   181.8,2,  135.12,2,   33.60,2,    0.01,2,    2.33,2,-999.000,5,-999.000,5,  2296.2,2,  2415.0,2,  -999.0,5,-999.000,1,-999.000,-999.0000,1, -999.00,9, -999.00,9,  -999.0,9,  -999.0,-999.000,9,-999.000, 45110.9,   0.9874,-999.0000, -999.00
 316N145_14,       I02E,    1147,          1,          2,     SIH022,2,19951225,       2115,    -8.0013,    73.9997,       4945,  4747.1,   1.3863,  34.7169,2,  34.7172,2,    182.0,2,   182.0,2,  134.98,2,   33.55,2,    0.01,2,    2.32,2,-999.000,5,-999.000,5,  2295.7,2,  2415.0,2,  -999.0,5,-999.000,1,-999.000,-999.0000,1, -999.00,9, -999.00,9,  -999.0,9,  -999.0,-999.000,9,-999.000, 47613.8,   0.9859,-999.0000, -999.00
 316N145_14,       I02E,    1147,          1,          1,     SIH023,2,19951225,       2115,    -8.0013,    73.9997,       4945,  5037.6,   1.4173,  34.7170,2,  34.7172,2,    181.8,2,   182.2,2,  134.64,6,   33.54,6,    0.01,6,    2.32,6,-999.000,5,-999.000,5,  2296.5,2,  2418.3,2,  -999.0,5,-999.000,1,-999.000,-999.0000,1, -999.00,9, -999.00,9,  -999.0,9,  -999.0,-999.000,9,-999.000, 50521.1,   0.9810,-999.0000, -999.00