BOTTLE,20220829CCHSIOAMB
EXPOCODE,SECT_ID,STNNBR,CASTNO,SAMPNO,BTLNBR,BTLNBR_FLAG_W,DATE,TIME,LATITUDE,LONGITUDE,DEPTH,CTDPRS,CTDTMP,CTDSAL,CTDSAL_FLAG_W,SALNTY,SALNTY_FLAG_W,CTDOXY,CTDOXY_FLAG_W,OXYGEN,OXYGEN_FLAG_W,SILCAT,SILCAT_FLAG_W,NITRAT,NITRAT_FLAG_W,NITRIT,NITRIT_FLAG_W,PHSPHT,PHSPHT_FLAG_W,CFC-11,CFC-11_FLAG_W,CFC-12,CFC-12_FLAG_W,TCARBN,TCARBN_FLAG_W,ALKALI,ALKALI_FLAG_W,PCO2,PCO2_FLAG_W,TRITUM,TRITUM_FLAG_W,TRITER,HELIUM,HELIUM_FLAG_W,DELHE3,DELHE3_FLAG_W,DELC13,DELC13_FLAG_W,DELC14,DELC14_FLAG_W,C14ERR,NEON,NEON_FLAG_W,NEONER,CTDRAW,THETA,HELIER,DELHER
,,,,,,,,,,,METERS,DBAR,ITS-90,PSS-78,,PSS-78,,UMOL/KG,,UMOL/KG,,UMOL/KG,,UMOL/KG,,UMOL/KG,,UMOL/KG,,PMOL/KG,,PMOL/KG,,UMOL/KG,,UMOL/KG,,UATM,,TU,,TU,NMOL/KG,,PERCNT,,/MILLE,,/MILLE,,/MILLE,NMOL/KG,,NMOL/KG,DBAR,DEG C,NMOL/KG,PERCNT
 316N145_14,       I02E,    1152,          1,         24,     SIH036,2,19951226,       2304,    -8.0013,    72.3028,       1910,    10.1,  28.3930,  33.9379,2,  33.9428,2,    209.6,2,   208.8,2,    4.10,2,    0.14,2,    0.00,2,    0.10,2,   1.614,2,   0.949,2,  1879.4,2,  2223.7,2,  -999.0,5,-999.000,1,-999.000,-999.0000,1, -999.00,9, -999.00,9,  -999.0,9,  -999.0,-999.000,9,-999.000,   238.8,  28.3906,-999.0000, -999.00
 316N145_14,       I02E,    1152,          1,         23,     SIH001,2,19951226,       2304,    -8.0013,    72.3028,       1910,    29.9,  27.9496,  34.6855,2,  34.7020,2,    220.4,2,   218.6,2,    4.44,2,    0.09,2,    0.00,2,    0.15,2,   1.664,2,   0.960,2,  1926.3,2,  2270.6,2,  -999.0,5,-999.000,1,-999.000,-999.0000,1, -999.00,9, -999.00,9,  -999.0,9,  -999.0,-999.000,9,-999.000,   431.4,  27.9426,-999.0000, -999.00
 316N145_14,       I02E,    1152,          1,         22,     SIH019,2,19951226,       2304,    -8.0013,    72.3028,       1910,    59.8,  21.7429,  35.2331,2,  34.7017,3,    164.0,2,   170.5,2,    9.30,2,    5.25,2,    0.17,2,    0.53,2,-999.000,5,-999.000,5,  2039.8,2,  2310.8,2,  -999.0,5,-999.000,1,-999.000,-999.0000,1, -999.00,9, -999.00,9,  -999.0,9,  -999.0,-999.000,9,-999.000,   727.1,  21.7312,-999.0000, -999.00
 316N145_14,       I02E,    1152,          1,         21,     SIH013,2,19951226,       2304,    -8.0013,    72.3028,       1910,    90.4,  18.2030,  35.1221,2,  35.1384,2,     81.4,3,   105.2,2,   16.94,2,   15.84,2,    0.17,2,    1.16,2,   1.477,2,   0.791,2,  2115.5,2,  2310.1,2,  -999.0,5,-999.000,1,-999.000,-999.0000,1, -999.00,9, -999.00,9,  -999.0,9,  -999.0,-999.000,9,-999.000,  1031.6,  18.1874,-999.0000, -999.00
 316N145_14,       I02E,    1152,          1,         20,     SIH004,2,19951226,       2304,    -8.0013,    72.3028,       1910,   120.5,  16.0716,  34.9748,2,  34.9951,2,     73.9,2,    76.5,2,   23.19,2,   22.03,2,    0.02,2,    1.54,2,-999.000,5,-999.000,5,  2156.0,2,  2305.6,2,  -999.0,5,-999.000,1,-999.000,-999.0000,1, -999.00,9, -999.00,9,  -999.0,9,  -999.0,-999.000,9,-999.000,  1329.1,  16.0526,-999.0000, -999.00
 316N145_14,       I02E,    1152,          1,         19,     SIH005,2,19951226,       2304,    -8.0013,    72.3028,       1910,   149.6,  14.4424,  34.9676,2,  34.9715,2,     68.3,2,    69.9,2,   25.79,2,   24.44,2,    0.01,2,    1.70,2,   0.891,2,   0.442,2,  2176.8,2,  2312.3,2,  -999.0,5,-999.000,1,-999.000,-999.0000,1, -999.00,9, -999.00,9,  -999.0,9,  -999.0,-999.000,9,-999.000,  1620.5,  14.4204,-999.0000, -999.00
 316N145_14,       I02E,    1152,          1,         18,     SIH006,2,19951226,       2304,    -8.0013,    72.3028,       1910,   200.2,  12.6742,  34.9429,2,  34.9449,2,     95.7,2,    95.4,2,   27.86,2,   23.50,2,    0.01,2,    1.66,2,   0.905,2,   0.464,2,  2178.3,2,  2314.5,2,  -999.0,5,-999.000,1,-999.000,-999.0000,1, -999.00,9, -999.00,9,  -999.0,9,  -999.0,-999.000,9,-999.000,  2125.9,  12.6471,-999.0000, -999.00
 316N145_14,       I02E,    1152,          1,         17,     SIH038,2,19951226,       2304,    -8.0013,    72.3028,       1910,   250.1,  11.5429,  34.9543,2,  34.9540,2,     98.4,2,    90.7,2,   25.77,2,   25.90,2,    0.00,2,    1.78,2,   0.658,2,   0.335,2,  2192.4,2,  2311.0,2,  -999.0,5,-999.000,1,-999.000,-999.0000,1, -999.00,9, -999.00,9,  -999.0,9,  -999.0,-999.000,9,-999.000,  2625.4,  11.5111,-999.0000, -999.00
 316N145_14,       I02E,    1152,          1,         16,     SIH008,3,19951226,       2304,    -8.0013,    72.3028,       1910,   300.2,  10.9916,  34.9291,2,  34.9272,2,     99.8,2,   101.4,2,   25.41,2,   25.95,2,    0.01,2,    1.77,2,   0.660,2,   0.335,2,  2189.3,2,  2312.9,2,  -999.0,5,-999.000,1,-999.000,-999.0000,1, -999.00,9, -999.00,9,  -999.0,9,  -999.0,-999.000,9,-999.000,  3125.5,  10.9544,-999.0000, -999.00
 316N145_14,       I02E,    1152,          1,         15,     SIH009,2,19951226,       2304,    -8.0013,    72.3028,       1910,   350.3,  10.5563,  34.9029,2,  34.9010,2,    100.3,2,   100.7,2,   26.79,2,   26.78,2,    0.00,2,    1.83,2,   0.561,2,   0.283,2,  2194.3,2,  2350.0,3,  -999.0,5,-999.000,1,-999.000,-999.0000,1, -999.00,9, -999.00,9,  -999.0,9,  -999.0,-999.000,9,-999.000,  3625.9,  10.5139,-999.0000, -999.00
 316N145_14,       I02E,    1152,          1,         14,     SIH010,2,19951226,       2304,    -8.0013,    72.3028,       1910,   399.5,   9.7013,  34.8411,2,  34.8416,2,    113.7,2,   112.5,2,   29.73,2,   27.40,2,    0.01,2,    1.88,2,   0.527,6,   0.265,6,  2195.1,2,  2311.7,2,  -999.0,5,-999.000,1,-999.000,-999.0000,1, -999.00,9, -999.00,9,  -999.0,9,  -999.0,-999.000,9,-999.000,  4118.6,   9.6554,-999.0000, -999.00
 316N145_14,       I02E,    1152,          1,         13,     SIH011,2,19951226,       2304,    -8.0013,    72.3028,       1910,   499.4,   8.7300,  34.8131,2,  34.8119,2,     86.1,2,    87.0,2,   43.60,2,   31.58,2,    0.00,2,    2.21,2,   0.153,2,   0.081,2,  2227.5,2,  2349.8,3,  -999.0,5,-999.000,1,-999.000,-999.0000,1, -999.00,9, -999.00,9,  -999.0,9,  -999.0,-999.000,9,-999.000,  5116.2,   8.6759,-999.0000, -999.00
 316N145_14,       I02E,    1152,          1,         12,     SIH012,2,19951226,       2304,    -8.0013,    72.3028,       1910,   601.7,   7.9292,  34.7990,2,  34.7980,2,     77.1,2,    77.2,2,   56.43,2,   33.65,2,    0.01,2,    2.39,2,   0.069,2,   0.035,2,  2248.8,2,  2338.5,2,  -999.0,5,-999.000,1,-999.000,-999.0000,1, -999.00,9, -999.00,9,  -999.0,9,  -999.0,-999.000,9,-999.000,  6140.2,   7.8672,-999.0000, -999.00
 316N145_14,       I02E,    1152,          1,         11,     SI9426,2,19951226,       2304,    -8.0013,    72.3028,       1910,   700.0,   7.1059,  34.7805,2,  34.7789,2,     72.3,2,    71.6,2,   70.47,2,   35.21,2,    0.00,2,    2.54,2,-999.000,5,-999.000,5,  2269.4,2,  2352.9,2,  -999.0,5,-999.000,1,-999.000,-999.0000,1, -999.00,9, -999.00,9,  -999.0,9,  -999.0,-999.000,9,-999.000,  7122.5,   7.0376,-999.0000, -999.00
 316N145_14,       I02E,    1152,          1,         10,     SIH014,2,19951226,       2304,    -8.0013,    72.3028,       1910,   801.5,   6.6725,  34.7753,2,  34.7734,2,     71.1,2,    70.8,2,   77.90,2,   35.89,2,    0.01,2,    2.60,2,   0.014,2,   0.005,2,  2278.3,2,  2357.8,2,  -999.0,5,-999.000,1,-999.000,-999.0000,1, -999.00,9, -999.00,9,  -999.0,9,  -999.0,-999.000,9,-999.000,  8137.3,   6.5964,-999.0000, -999.00
 316N145_14,       I02E,    1152,          1,          9,     SIH015,2,19951226,       2304,    -8.0013,    72.3028,       1910,   901.3,   5.9662,  34.7535,2,  34.7530,2,     75.6,2,    75.0,2,   87.77,2,   36.20,2,    0.00,2,    2.64,2,-999.000,5,-999.000,5,  2289.3,2,  2381.6,3,  -999.0,5,-999.000,1,-999.000,-999.0000,1, -999.00,9, -999.00,9,  -999.0,9,  -999.0,-999.000,9,-999.000,  9134.9,   5.8848,-999.0000, -999.00
 316N145_14,       I02E,    1152,          1,          8,     SIH016,2,19951226,       2304,    -8.0013,    72.3028,       1910,  1001.5,   5.5244,  34.7472,2,  34.7461,2,     78.5,2,    78.3,2,   93.07,2,   36.50,6,    0.00,6,    2.64,6,   0.003,2,   0.001,2,  2295.1,2,  2371.5,2,  -999.0,5,-999.000,1,-999.000,-999.0000,1, -999.00,9, -999.00,9,  -999.0,9,  -999.0,-999.000,9,-999.000, 10136.0,   5.4366,-999.0000, -999.00
 316N145_14,       I02E,    1152,          1,          7,     SIH017,2,19951226,       2304,    -8.0013,    72.3028,       1910,  1102.3,   5.0344,  34.7448,2,  34.7439,2,     84.5,2,    83.6,2,   99.34,2,   36.72,6,    0.01,6,    2.63,6,-999.000,5,-999.000,5,  2299.8,2,  2396.0,3,  -999.0,5,-999.000,1,-999.000,-999.0000,1, -999.00,9, -999.00,9,  -999.0,9,  -999.0,-999.000,9,-999.000, 11143.6,   4.9410,-999.0000, -999.00
 316N145_14,       I02E,    1152,          1,          6,     SIH018,2,19951226,       2304,    -8.0013,    72.3028,       1910,  1202.3,   4.5341,  34.7462,2,  34.7465,2,     91.5,2,    91.7,2,  103.82,2,   36.45,2,    0.00,2,    2.66,2,   0.000,2,  -0.001,2,  2302.4,2,  2380.1,2,  -999.0,5,-999.000,1,-999.000,-999.0000,1, -999.00,9, -999.00,9,  -999.0,9,  -999.0,-999.000,9,-999.000, 12143.5,   4.4360,-999.0000, -999.00
 316N145_14,       I02E,    1152,          1,          5,     SIH002,2,19951226,       2304,    -8.0013,    72.3028,       1910,  1299.0,   4.2805,  34.7610,2,  34.7610,2,     94.9,2,    96.0,2,  105.69,2,   36.54,2,    0.00,2,    2.64,2,-999.000,5,-999.000,5,  2304.1,2,  2393.2,2,  -999.0,5,-999.000,1,-999.000,-999.0000,1, -999.00,9, -999.00,9,  -999.0,9,  -999.0,-999.000,9,-999.000, 13109.4,   4.1760,-999.0000, -999.00
 316N145_14,       I02E,    1152,          1,          4,     SIH020,2,19951226,       2304,    -8.0013,    72.3028,       1910,  1401.2,   3.9513,  34.7654,2,  34.7651,2,     99.9,2,   102.4,2,  108.44,2,   36.17,2,    0.00,2,    2.62,2,   0.000,2,  -0.001,2,  2304.1,2,  2386.5,2,  -999.0,5,-999.000,1,-999.000,-999.0000,1, -999.00,9, -999.00,9,  -999.0,9,  -999.0,-999.000,9,-999.000, 14129.5,   3.8410,-999.0000, -999.00
 316N145_14,       I02E,    1152,          1,          3,     SIH021,2,19951226,       2304,    -8.0013,    72.3028,       1910,  1593.8,   3.3966,  34.7618,2,  34.7610,2,    118.8,2,   116.8,2,  112.74,2,   35.69,2,    0.00,2,    2.56,2,-999.000,5,-999.000,5,  2303.2,2,  2394.4,2,  -999.0,5,-999.000,1,-999.000,-999.0000,1, -999.00,9, -999.00,9,  -999.0,9,  -999.0,-999.000,9,-999.000, 16053.6,   3.2756,-999.0000, -999.00
 316N145_14,       I02E,    1152,          1,          2,     SIH022,2,19951226,       2304,    -8.0013,    72.3028,       1910,  1791.8,   2.9778,  34.7605,2,  34.7598,2,    127.9,2,   126.8,2,  117.04,2,   35.38,2,    0.00,2,    2.51,2,  -0.001,2,  -0.001,2,  2303.1,2,  2396.3,2,  -999.0,5,-999.000,1,-999.000,-999.0000,1, -999.00,9, -999.00,9,  -999.0,9,  -999.0,-999.000,9,-999.000, 18031.0,   2.8447,-999.0000, -999.00
 316N145_14,       I02E,    1152,          1,          1,     SIH023,2,19951226,       2304,    -8.0013,    72.3028,       1910,  1913.2,   2.6471,  34.7543,2,  34.7539,2,    136.4,2,   136.6,2,  119.97,6,   34.94,6,    0.01,6,    2.48,6,   0.000,2,   0.000,2,  2302.0,2,  2401.0,2,  -999.0,5,-999.000,1,-999.000,-999.0000,1, -999.00,9, -999.00,9,  -999.0,9,  -999.0,-999.000,9,-999.000, 19245.1,   2.5080,-999.0000, -999.00