BOTTLE,20220829CCHSIOAMB
EXPOCODE,SECT_ID,STNNBR,CASTNO,SAMPNO,BTLNBR,BTLNBR_FLAG_W,DATE,TIME,LATITUDE,LONGITUDE,DEPTH,CTDPRS,CTDTMP,CTDSAL,CTDSAL_FLAG_W,SALNTY,SALNTY_FLAG_W,CTDOXY,CTDOXY_FLAG_W,OXYGEN,OXYGEN_FLAG_W,SILCAT,SILCAT_FLAG_W,NITRAT,NITRAT_FLAG_W,NITRIT,NITRIT_FLAG_W,PHSPHT,PHSPHT_FLAG_W,CFC-11,CFC-11_FLAG_W,CFC-12,CFC-12_FLAG_W,TCARBN,TCARBN_FLAG_W,ALKALI,ALKALI_FLAG_W,PCO2,PCO2_FLAG_W,TRITUM,TRITUM_FLAG_W,TRITER,HELIUM,HELIUM_FLAG_W,DELHE3,DELHE3_FLAG_W,DELC13,DELC13_FLAG_W,DELC14,DELC14_FLAG_W,C14ERR,NEON,NEON_FLAG_W,NEONER,CTDRAW,THETA,HELIER,DELHER
,,,,,,,,,,,METERS,DBAR,ITS-90,PSS-78,,PSS-78,,UMOL/KG,,UMOL/KG,,UMOL/KG,,UMOL/KG,,UMOL/KG,,UMOL/KG,,PMOL/KG,,PMOL/KG,,UMOL/KG,,UMOL/KG,,UATM,,TU,,TU,NMOL/KG,,PERCNT,,/MILLE,,/MILLE,,/MILLE,NMOL/KG,,NMOL/KG,DBAR,DEG C,NMOL/KG,PERCNT
 316N145_14,       I02E,    1102,          1,         36,     SIH024,2,19951213,       0102,    -8.0000,    90.0000,       5180,    10.8,  26.9450,  34.2322,2,  34.2377,2,    203.7,2,   206.7,2,    2.41,2,    0.00,3,    0.00,2,    0.09,3,   1.680,2,   0.966,2,  1920.0,2,  2248.4,2,  -999.0,5,   1.168,2,   0.004,   1.7260,2,   -1.11,2, -999.00,9,  -999.0,9,  -999.0,   6.754,2,-999.000,   248.0,  26.9426,-999.0000, -999.00
 316N145_14,       I02E,    1102,          1,         35,     SIH003,3,19951213,       0102,    -8.0000,    90.0000,       5180,    38.5,  26.8164,  34.3081,2,  34.3089,2,    204.7,2,   205.5,2,    2.58,2,    0.09,3,    0.00,2,    0.11,3,-999.000,5,-999.000,5,  1925.7,2,  2262.3,2,  -999.0,5,   1.180,2,   0.004,   1.7298,2,   -1.21,2, -999.00,9,  -999.0,9,  -999.0,   6.694,2,-999.000,   520.1,  26.8076,-999.0000, -999.00
 316N145_14,       I02E,    1102,          1,         34,     SIH026,2,19951213,       0102,    -8.0000,    90.0000,       5180,    62.7,  23.4463,  34.4875,2,  34.5001,2,    110.7,2,   127.2,2,   11.98,2,   11.11,3,    0.15,2,    0.82,3,   1.495,2,   0.848,2,  2037.8,2,  2266.9,2,  -999.0,5,   1.137,2,   0.004,   1.7428,2,    2.64,2, -999.00,9,  -999.0,9,  -999.0,   6.869,2,-999.000,   758.6,  23.4333,-999.0000, -999.00
 316N145_14,       I02E,    1102,          1,         33,     SIH027,2,19951213,       0102,    -8.0000,    90.0000,       5180,   103.0,  18.2034,  34.8507,2,  34.8613,2,     70.4,2,    72.8,2,   19.75,2,   20.97,3,    0.03,2,    1.46,3,   1.173,2,   0.633,2,  2134.9,2,  2299.7,2,  -999.0,5,   0.942,2,   0.004,   1.7789,2,    5.48,2, -999.00,9,  -999.0,9,  -999.0,   7.216,2,-999.000,  1158.0,  18.1857,-999.0000, -999.00
 316N145_14,       I02E,    1102,          1,         32,     SIH028,2,19951213,       0102,    -8.0000,    90.0000,       5180,   153.6,  14.4985,  34.7811,2,  34.7606,2,     64.1,2,    70.6,2,   29.70,2,   25.30,3,    0.01,2,    1.74,3,   0.851,2,   0.427,2,  2176.4,2,  2330.4,3,  -999.0,5,   0.638,2,   0.003,   1.7967,2,    8.27,2, -999.00,9,  -999.0,9,  -999.0,   7.264,2,-999.000,  1663.3,  14.4759,-999.0000, -999.00
 316N145_14,       I02E,    1102,          1,         31,     SIH029,2,19951213,       0102,    -8.0000,    90.0000,       5180,   202.7,  12.0075,  34.7355,2,  34.7504,2,     69.2,2,    69.7,2,   34.94,2,   27.91,3,    0.00,2,    1.93,3,   0.564,2,   0.284,2,  2200.9,2,  2307.8,2,  -999.0,5,-999.000,1,-999.000,-999.0000,1, -999.00,9, -999.00,9,  -999.0,9,  -999.0,-999.000,9,-999.000,  2154.9,  11.9811,-999.0000, -999.00
 316N145_14,       I02E,    1102,          1,         30,     SIH030,2,19951213,       0102,    -8.0000,    90.0000,       5180,   253.6,  11.3698,  34.8392,2,  34.8422,2,     60.1,2,    64.1,2,   32.94,2,   29.22,3,    0.00,2,    1.98,3,   0.379,2,   0.189,2,  2212.5,2,  2310.5,2,  -999.0,5,   0.407,2,   0.003,   1.8171,2,    7.97,2, -999.00,9,  -999.0,9,  -999.0,   7.365,2,-999.000,  2664.3,  11.3378,-999.0000, -999.00
 316N145_14,       I02E,    1102,          1,         29,     SIH031,3,19951213,       0102,    -8.0000,    90.0000,       5180,   303.8,  10.7326,  34.8904,2,  34.8908,2,     65.3,2,    66.1,2,   30.93,2,   30.05,3,    0.00,2,    2.00,3,-999.000,5,-999.000,5,  2217.3,2,  2320.3,3,  -999.0,5,   0.247,2,   0.003,   1.8177,2,    6.11,2, -999.00,9,  -999.0,9,  -999.0,   8.099,2,-999.000,  3165.2,  10.6956,-999.0000, -999.00
 316N145_14,       I02E,    1102,          1,         28,     SIH032,2,19951213,       0102,    -8.0000,    90.0000,       5180,   352.6,  10.2148,  34.8891,2,  34.8867,2,     65.0,2,    66.9,2,   32.01,2,   31.05,3,    0.00,2,    2.06,3,   0.159,2,   0.082,2,  2222.4,2,  2314.5,2,  -999.0,5,-999.000,1,-999.000,-999.0000,1, -999.00,9, -999.00,9,  -999.0,9,  -999.0,-999.000,9,-999.000,  3654.2,  10.1731,-999.0000, -999.00
 316N145_14,       I02E,    1102,          1,         27,     SIH033,2,19951213,       0102,    -8.0000,    90.0000,       5180,   402.0,   9.7360,  34.8614,2,  34.8599,2,     67.9,2,    69.8,2,   35.07,2,   31.57,3,    0.00,2,    2.12,3,   0.122,2,   0.067,2,  2226.2,2,  2316.0,2,  -999.0,5,   0.121,2,   0.002,   1.8322,2,    5.44,2, -999.00,9,  -999.0,9,  -999.0,   8.668,2,-999.000,  4147.9,   9.6897,-999.0000, -999.00
 316N145_14,       I02E,    1102,          1,         26,     SIH037,2,19951213,       0102,    -8.0000,    90.0000,       5180,   502.0,   8.8656,  34.8226,2,  34.8338,2,     70.1,2,    69.8,2,   40.67,2,   32.46,3,    0.00,2,    2.22,3,   0.084,2,   0.042,2,  2234.2,2,  2323.3,2,  -999.0,5,   0.088,2,   0.002,   1.7809,2,    5.78,2, -999.00,9,  -999.0,9,  -999.0,   7.426,2,   0.037,  5147.5,   8.8107,   0.0089,    0.14
 316N145_14,       I02E,    1102,          1,         25,     SI9446,2,19951213,       0102,    -8.0000,    90.0000,       5180,   602.5,   8.0016,  34.7971,2,  34.7954,2,     62.7,2,    63.0,2,   58.21,2,   34.81,3,    0.00,2,    2.46,3,   0.029,2,   0.016,2,  2261.1,2,  2336.8,2,  -999.0,5,-999.000,1,-999.000,-999.0000,1, -999.00,9, -999.00,9,  -999.0,9,  -999.0,-999.000,9,-999.000,  6152.4,   7.9392,-999.0000, -999.00
 316N145_14,       I02E,    1102,          1,         24,     SIH036,2,19951213,       0102,    -8.0000,    90.0000,       5180,   702.2,   7.3478,  34.7915,2,  34.7899,2,     59.1,2,    61.3,2,   68.52,2,   35.70,3,    0.00,2,    2.56,3,   0.013,6,   0.006,6,  2275.1,2,  2346.8,2,  -999.0,5,   0.032,2,   0.002,   1.8475,2,    9.89,2, -999.00,9,  -999.0,9,  -999.0,   7.553,2,-999.000,  7149.3,   7.2781,-999.0000, -999.00
 316N145_14,       I02E,    1102,          1,         23,     SIH001,2,19951213,       0102,    -8.0000,    90.0000,       5180,   801.4,   6.5221,  34.7460,2,  34.7435,2,     65.4,2,    67.5,2,   80.09,2,   36.11,3,    0.00,2,    2.60,3,   0.009,2,   0.003,2,  2286.2,2,  2362.1,2,  -999.0,5,   0.033,2,   0.002,   1.8604,2,   12.05,2, -999.00,9,  -999.0,9,  -999.0,   7.472,2,-999.000,  8141.5,   6.4470,-999.0000, -999.00
 316N145_14,       I02E,    1102,          1,         22,     SIH019,2,19951213,       0102,    -8.0000,    90.0000,       5180,   891.8,   5.9525,  34.7288,2,  34.7290,2,     70.3,2,    72.3,2,   87.13,2,   36.44,3,    0.00,2,    2.62,3,   0.007,2,   0.002,2,  2292.5,2,  2365.9,2,  -999.0,5,   0.028,2,   0.002,   1.9052,2,   13.27,2, -999.00,9,  -999.0,9,  -999.0,   7.836,2,-999.000,  9046.1,   5.8721,-999.0000, -999.00
 316N145_14,       I02E,    1102,          1,         21,     SIH025,2,19951213,       0102,    -8.0000,    90.0000,       5180,   995.8,   5.3752,  34.7209,2,  34.7205,2,     77.1,2,    78.0,2,   94.54,2,   36.53,3,    0.00,2,    2.64,3,   0.002,2,   0.003,2,  2299.8,2,  2375.0,2,  -999.0,5,   0.015,2,   0.002,   1.8735,2,   13.94,2, -999.00,9,  -999.0,9,  -999.0,   7.665,2,-999.000, 10086.8,   5.2891,-999.0000, -999.00
 316N145_14,       I02E,    1102,          1,         20,     SIH004,2,19951213,       0102,    -8.0000,    90.0000,       5180,  1092.7,   5.0367,  34.7343,2,  34.7345,2,     79.3,2,    81.7,2,   98.14,2,   36.69,3,    0.00,2,    2.64,3,   0.003,2,   0.001,2,  2303.3,2,  2379.2,2,  -999.0,5,-999.000,1,-999.000,-999.0000,1, -999.00,9, -999.00,9,  -999.0,9,  -999.0,-999.000,9,-999.000, 11055.5,   4.9442,-999.0000, -999.00
 316N145_14,       I02E,    1102,          1,         19,     SIH005,2,19951213,       0102,    -8.0000,    90.0000,       5180,  1193.2,   4.6469,  34.7322,2,  34.7321,2,     86.3,2,    87.7,2,  102.11,2,   36.64,3,    0.00,2,    2.63,3,   0.002,2,   0.001,2,  2305.9,2,  2383.5,2,  -999.0,5,   0.009,2,   0.002,   1.9204,2,   14.30,2, -999.00,9,  -999.0,9,  -999.0,   7.807,2,-999.000, 12060.9,   4.5486,-999.0000, -999.00
 316N145_14,       I02E,    1102,          1,         18,     SIH006,2,19951213,       0102,    -8.0000,    90.0000,       5180,  1390.4,   4.0177,  34.7426,2,  34.7412,2,     97.6,2,    98.9,2,  107.70,2,   36.38,3,    0.00,2,    2.61,3,   0.000,2,   0.000,2,  2309.7,2,  2388.8,2,  -999.0,5,-999.000,1,-999.000,   1.9033,2,   14.28,2, -999.00,9,  -999.0,9,  -999.0,   7.756,2,-999.000, 14034.3,   3.9078,-999.0000, -999.00
 316N145_14,       I02E,    1102,          1,         17,     SIH038,2,19951213,       0102,    -8.0000,    90.0000,       5180,  1592.7,   3.4298,  34.7549,2,  34.7537,2,    110.3,2,   112.3,2,  112.20,2,   36.02,3,    0.00,2,    2.57,3,   0.001,2,  -0.003,2,  2308.8,2,  2394.1,2,  -999.0,5,   0.003,2,   0.002,   1.8850,2,   13.91,2, -999.00,9,  -999.0,9,  -999.0,   7.816,2,-999.000, 16057.6,   3.3085,-999.0000, -999.00
 316N145_14,       I02E,    1102,          1,         16,     SIH008,3,19951213,       0102,    -8.0000,    90.0000,       5180,  1789.8,   2.9621,  34.7516,2,  34.7496,2,    123.5,2,   124.8,2,  116.17,2,   35.34,3,    0.00,2,    2.52,3,-999.000,5,-999.000,5,  2307.3,2,  2397.3,2,  -999.0,5,-999.000,1,-999.000,-999.0000,5,   14.02,2, -999.00,9,  -999.0,9,  -999.0,  14.200,4,   0.058, 18029.0,   2.8295,-999.0000,    0.08
 316N145_14,       I02E,    1102,          1,         15,     SIH009,2,19951213,       0102,    -8.0000,    90.0000,       5180,  1987.6,   2.5685,  34.7456,2,  34.7461,2,    136.4,2,   135.9,2,  120.14,2,   35.13,3,    0.00,2,    2.48,3,   0.000,2,  -0.001,2,  2305.7,2,  2396.1,2,  -999.0,5,-999.000,1,-999.000,-999.0000,1, -999.00,9, -999.00,9,  -999.0,9,  -999.0,-999.000,9,-999.000, 20007.8,   2.4241,-999.0000, -999.00
 316N145_14,       I02E,    1102,          1,         14,     SIH010,2,19951213,       0102,    -8.0000,    90.0000,       5180,  2240.6,   2.2522,  34.7429,2,  34.7433,2,    144.3,2,   146.6,2,  122.83,2,   34.66,3,    0.00,2,    2.44,3,-999.000,5,-999.000,5,  2303.5,2,  2407.5,2,  -999.0,5,-999.000,1,-999.000,   1.9130,2,   14.54,2, -999.00,9,  -999.0,9,  -999.0,   1.545,4,   0.007, 22539.9,   2.0905,   0.0030,    0.08
 316N145_14,       I02E,    1102,          1,         13,     SIH011,2,19951213,       0102,    -8.0000,    90.0000,       5180,  2500.3,   2.0540,  34.7396,2,  34.7390,2,    152.7,2,   152.9,2,  125.16,2,   34.35,3,    0.00,2,    2.42,3,-999.000,5,-999.000,5,  2302.6,2,  2431.9,3,  -999.0,5,-999.000,1,-999.000,   1.8930,2,   14.13,2, -999.00,9,  -999.0,9,  -999.0,   8.062,2,   0.019, 25137.5,   1.8723,   0.0050,    0.15
 316N145_14,       I02E,    1102,          1,         12,     SIH012,2,19951213,       0102,    -8.0000,    90.0000,       5180,  2748.4,   1.9030,  34.7356,2,  34.7345,2,    158.3,2,   158.0,2,  127.14,2,   34.25,3,    0.00,2,    2.39,3,-999.000,5,-999.000,5,  2302.8,2,  2407.2,2,  -999.0,5,-999.000,1,-999.000,   1.9260,2,   13.86,2, -999.00,9,  -999.0,9,  -999.0,   8.159,2,   0.016, 27620.4,   1.7013,   0.0070,    0.20
 316N145_14,       I02E,    1102,          1,         11,     SI9426,2,19951213,       0102,    -8.0000,    90.0000,       5180,  3000.8,   1.7093,  34.7296,2,  34.7290,2,    163.3,2,   164.7,2,  129.29,2,   33.88,3,    0.00,2,    2.37,3,  -0.001,2,  -0.003,2,  2301.4,2,  2408.2,2,  -999.0,5,-999.000,1,-999.000,   2.0400,4,   13.76,2, -999.00,9,  -999.0,9,  -999.0,   8.393,4,   0.035, 30145.1,   1.4875,   0.0030,    0.20
 316N145_14,       I02E,    1102,          1,         10,     SIH014,2,19951213,       0102,    -8.0000,    90.0000,       5180,  3244.6,   1.4690,  34.7226,2,  34.7223,2,    173.4,2,   172.3,2,  131.81,2,   33.62,3,    0.00,2,    2.33,3,-999.000,5,-999.000,5,  2299.6,2,  2408.6,2,  -999.0,5,-999.000,1,-999.000,   1.9270,2,   12.69,2, -999.00,9,  -999.0,9,  -999.0,   8.222,2,   0.034, 32583.3,   1.2290,   0.0040,    0.15
 316N145_14,       I02E,    1102,          1,          9,     SIH015,2,19951213,       0102,    -8.0000,    90.0000,       5180,  3498.9,   1.3499,  34.7194,2,  34.7193,2,    177.5,2,   178.8,2,  131.61,2,   33.31,3,    0.00,2,    2.31,3,-999.000,5,-999.000,5,  2295.1,2,  2408.4,2,  -999.0,5,-999.000,1,-999.000,   2.2600,4,   10.82,4, -999.00,9,  -999.0,9,  -999.0,   9.163,4,   0.038, 35128.2,   1.0874,   0.0040,    0.15
 316N145_14,       I02E,    1102,          1,          8,     SIH016,2,19951213,       0102,    -8.0000,    90.0000,       5180,  3749.8,   1.2241,  34.7166,2,  34.7158,2,    184.7,2,   186.3,2,  129.96,2,   32.89,3,    0.00,2,    2.28,3,-999.000,5,-999.000,5,  2288.4,2,  2402.9,2,  -999.0,5,-999.000,1,-999.000,   2.2600,4,   11.88,2, -999.00,9,  -999.0,9,  -999.0,   9.162,4,   0.038, 37637.8,   0.9392,   0.0040,    0.20
 316N145_14,       I02E,    1102,          1,          7,     SIH017,2,19951213,       0102,    -8.0000,    90.0000,       5180,  3999.0,   1.1483,  34.7134,2,  34.7138,2,    193.0,2,   193.3,2,  127.59,2,   32.53,3,    0.00,2,    2.24,3,   0.001,2,   0.002,2,  2281.5,2,  2399.0,2,  -999.0,5,-999.000,1,-999.000,   1.5070,4,   12.08,4, -999.00,9,  -999.0,9,  -999.0,   5.898,4,   0.012, 40130.8,   0.8393,   0.0050,    0.21
 316N145_14,       I02E,    1102,          1,          6,     SIH018,2,19951213,       0102,    -8.0000,    90.0000,       5180,  4243.3,   1.1281,  34.7133,2,  34.7136,2,    196.8,2,   196.8,2,  126.67,2,   32.31,3,    0.00,2,    2.22,3,-999.000,5,-999.000,5,  2277.4,2,  2394.3,2,  -999.0,5,-999.000,1,-999.000,   1.9140,2,   10.99,2, -999.00,9,  -999.0,9,  -999.0,   7.981,4,   0.019, 42574.7,   0.7932,   0.0050,    0.16
 316N145_14,       I02E,    1102,          1,          5,     SIH002,2,19951213,       0102,    -8.0000,    90.0000,       5180,  4493.4,   1.1428,  34.7129,2,  34.7129,2,    197.9,2,   198.0,2,  125.75,2,   32.26,3,    0.00,2,    2.22,3,-999.000,5,-999.000,5,  2276.6,2,  2392.3,2,  -999.0,5,-999.000,1,-999.000,   1.9090,2,   10.73,2, -999.00,9,  -999.0,9,  -999.0,   8.187,2,   0.016, 45076.8,   0.7795,   0.0060,    0.20
 316N145_14,       I02E,    1102,          1,          4,     SIH020,2,19951213,       0102,    -8.0000,    90.0000,       5180,  4745.1,   1.1662,  34.7128,2,  34.7125,2,    198.2,2,   198.6,2,  125.37,2,   32.21,3,    0.00,2,    2.22,3,-999.000,5,-999.000,5,  2275.1,2,  2390.4,2,  -999.0,5,-999.000,1,-999.000,   1.9580,3,   11.02,2, -999.00,9,  -999.0,9,  -999.0,   8.241,2,   0.034, 47595.0,   0.7733,   0.0030,    0.08
 316N145_14,       I02E,    1102,          1,          3,     SIH021,2,19951213,       0102,    -8.0000,    90.0000,       5180,  5000.1,   1.1965,  34.7131,2,  34.7123,2,    198.4,2,   198.9,2,  124.99,2,   32.16,3,    0.00,2,    2.22,3,   0.000,2,  -0.003,2,  2275.2,2,  2389.6,2,  -999.0,5,-999.000,1,-999.000,   1.9060,2,   10.47,2, -999.00,9,  -999.0,9,  -999.0,   8.142,2,   0.016, 50145.1,   0.7724,   0.0060,    0.20
 316N145_14,       I02E,    1102,          1,          2,     SIH022,2,19951213,       0102,    -8.0000,    90.0000,       5180,  5256.2,   1.2287,  34.7125,2,  34.7121,2,    199.5,2,   198.7,2,  124.97,2,   32.17,3,    0.00,2,    2.22,3,-999.000,5,-999.000,5,  2274.8,2,  2388.7,2,  -999.0,5,-999.000,1,-999.000,   1.8900,2,   10.52,2, -999.00,9,  -999.0,9,  -999.0,   8.078,2,   0.016, 52707.0,   0.7723,   0.0060,    0.20
 316N145_14,       I02E,    1102,          1,          1,     SIH023,2,19951213,       0102,    -8.0000,    90.0000,       5180,  5291.9,   1.2329,  34.7133,2,  34.7117,2,    198.1,2,   198.7,2,  124.41,6,   32.21,3,    0.00,6,    2.20,3,   0.000,2,  -0.002,2,  2274.8,2,  2393.7,2,  -999.0,5,-999.000,1,-999.000,   1.8900,2,   10.64,2, -999.00,9,  -999.0,9,  -999.0,   8.074,2,   0.016, 53065.4,   0.7719,   0.0060,    0.20