BOTTLE,20220829CCHSIOAMB
EXPOCODE,SECT_ID,STNNBR,CASTNO,SAMPNO,BTLNBR,BTLNBR_FLAG_W,DATE,TIME,LATITUDE,LONGITUDE,DEPTH,CTDPRS,CTDTMP,CTDSAL,CTDSAL_FLAG_W,SALNTY,SALNTY_FLAG_W,CTDOXY,CTDOXY_FLAG_W,OXYGEN,OXYGEN_FLAG_W,SILCAT,SILCAT_FLAG_W,NITRAT,NITRAT_FLAG_W,NITRIT,NITRIT_FLAG_W,PHSPHT,PHSPHT_FLAG_W,CFC-11,CFC-11_FLAG_W,CFC-12,CFC-12_FLAG_W,TCARBN,TCARBN_FLAG_W,ALKALI,ALKALI_FLAG_W,PCO2,PCO2_FLAG_W,TRITUM,TRITUM_FLAG_W,TRITER,HELIUM,HELIUM_FLAG_W,DELHE3,DELHE3_FLAG_W,DELC13,DELC13_FLAG_W,DELC14,DELC14_FLAG_W,C14ERR,NEON,NEON_FLAG_W,NEONER,CTDRAW,THETA,HELIER,DELHER
,,,,,,,,,,,METERS,DBAR,ITS-90,PSS-78,,PSS-78,,UMOL/KG,,UMOL/KG,,UMOL/KG,,UMOL/KG,,UMOL/KG,,UMOL/KG,,PMOL/KG,,PMOL/KG,,UMOL/KG,,UMOL/KG,,UATM,,TU,,TU,NMOL/KG,,PERCNT,,/MILLE,,/MILLE,,/MILLE,NMOL/KG,,NMOL/KG,DBAR,DEG C,NMOL/KG,PERCNT
 316N145_14,       I02E,    1109,          1,         36,     SIH024,2,19951214,       1952,    -5.0000,    88.4667,       4545,    13.7,  27.5578,  34.4114,2,  34.4171,2,    206.1,2,   209.9,2,    2.09,2,    0.11,2,    0.00,2,    0.17,2,-999.000,5,-999.000,5,  1922.0,2,  2251.9,2,  -999.0,5,-999.000,1,-999.000,-999.0000,1, -999.00,9, -999.00,9,  -999.0,9,  -999.0,-999.000,9,-999.000,   284.8,  27.5546,-999.0000, -999.00
 316N145_14,       I02E,    1109,          1,         35,     SIH003,2,19951214,       1952,    -5.0000,    88.4667,       4545,    56.2,  27.3794,  35.1342,2,  35.1246,2,    200.3,2,   203.2,2,    2.63,2,    0.26,2,    0.04,2,    0.26,2,-999.000,5,-999.000,5,  1965.9,2,  2300.4,2,  -999.0,5,-999.000,1,-999.000,-999.0000,1, -999.00,9, -999.00,9,  -999.0,9,  -999.0,-999.000,9,-999.000,   700.3,  27.3664,-999.0000, -999.00
 316N145_14,       I02E,    1109,          1,         34,     SIH026,3,19951214,       1952,    -5.0000,    88.4667,       4545,   108.8,  23.2908,  35.3175,2,  35.3141,2,    117.4,2,   113.5,2,    9.42,2,   12.34,2,    0.26,2,    1.01,2,-999.000,5,-999.000,5,  2078.6,2,  2304.6,2,  -999.0,5,-999.000,1,-999.000,-999.0000,1, -999.00,9, -999.00,9,  -999.0,9,  -999.0,-999.000,9,-999.000,  1216.1,  23.2684,-999.0000, -999.00
 316N145_14,       I02E,    1109,          1,         33,     SIH027,2,19951214,       1952,    -5.0000,    88.4667,       4545,   159.2,  16.0873,  34.9604,2,  34.9601,2,     58.4,2,    57.7,2,   22.83,2,   24.36,2,    0.01,2,    1.73,2,-999.000,5,-999.000,5,  2172.6,2,  2304.2,2,  -999.0,5,-999.000,1,-999.000,-999.0000,1, -999.00,9, -999.00,9,  -999.0,9,  -999.0,-999.000,9,-999.000,  1718.4,  16.0621,-999.0000, -999.00
 316N145_14,       I02E,    1109,          1,         32,     SIH028,2,19951214,       1952,    -5.0000,    88.4667,       4545,   204.1,  13.0750,  34.8867,2,  34.8945,2,     65.3,2,    62.8,2,   28.76,2,   26.93,2,    0.01,2,    1.91,2,-999.000,5,-999.000,5,  2198.4,2,  2307.9,2,  -999.0,5,-999.000,1,-999.000,-999.0000,1, -999.00,9, -999.00,9,  -999.0,9,  -999.0,-999.000,9,-999.000,  2166.0,  13.0468,-999.0000, -999.00
 316N145_14,       I02E,    1109,          1,         31,     SIH029,2,19951214,       1952,    -5.0000,    88.4667,       4545,   303.2,  11.3500,  34.9815,2,  34.9801,2,     75.3,2,    74.6,2,   25.12,2,   27.91,2,    0.00,2,    1.92,2,-999.000,5,-999.000,5,  2207.2,2,  2315.7,2,  -999.0,5,-999.000,1,-999.000,-999.0000,1, -999.00,9, -999.00,9,  -999.0,9,  -999.0,-999.000,9,-999.000,  3158.5,  11.3117,-999.0000, -999.00
 316N145_14,       I02E,    1109,          1,         30,     SIH030,2,19951214,       1952,    -5.0000,    88.4667,       4545,   403.0,  10.1829,  34.9139,2,  34.9113,2,     68.6,2,    69.5,2,   32.27,2,   30.78,2,    0.00,2,    2.10,2,-999.000,5,-999.000,5,  2223.8,2,  2313.7,2,  -999.0,5,-999.000,1,-999.000,-999.0000,1, -999.00,9, -999.00,9,  -999.0,9,  -999.0,-999.000,9,-999.000,  4156.5,  10.1351,-999.0000, -999.00
 316N145_14,       I02E,    1109,          1,         29,     SIH031,2,19951214,       1952,    -5.0000,    88.4667,       4545,   504.9,   9.1896,  34.8716,2,  34.8902,2,     62.8,2,    65.1,2,   38.73,2,   32.02,2,    0.00,2,    2.23,2,-999.000,5,-999.000,5,  2234.5,2,  2321.9,2,  -999.0,5,-999.000,1,-999.000,-999.0000,1, -999.00,9, -999.00,9,  -999.0,9,  -999.0,-999.000,9,-999.000,  5176.2,   9.1332,-999.0000, -999.00
 316N145_14,       I02E,    1109,          1,         28,     SIH032,2,19951214,       1952,    -5.0000,    88.4667,       4545,   605.2,   8.4263,  34.8646,2,  34.8627,2,     59.8,2,    60.6,2,   53.19,2,   34.42,2,    0.00,2,    2.48,2,-999.000,5,-999.000,5,  2257.2,2,  2332.4,2,  -999.0,5,-999.000,1,-999.000,-999.0000,1, -999.00,9, -999.00,9,  -999.0,9,  -999.0,-999.000,9,-999.000,  6179.4,   8.3616,-999.0000, -999.00
 316N145_14,       I02E,    1109,          1,         27,     SIH033,2,19951214,       1952,    -5.0000,    88.4667,       4545,   705.2,   7.7975,  34.8657,2,  34.8652,2,     54.8,2,    55.3,2,   63.84,2,   35.65,2,    0.00,2,    2.60,2,-999.000,5,-999.000,5,  2274.1,2,  2345.2,2,  -999.0,5,-999.000,1,-999.000,-999.0000,1, -999.00,9, -999.00,9,  -999.0,9,  -999.0,-999.000,9,-999.000,  7179.0,   7.7250,-999.0000, -999.00
 316N145_14,       I02E,    1109,          1,         26,     SIH037,2,19951214,       1952,    -5.0000,    88.4667,       4545,   805.2,   7.0586,  34.8356,2,  34.8344,2,     58.8,2,    60.7,2,   73.43,2,   36.05,2,    0.00,2,    2.64,2,-999.000,5,-999.000,5,  2282.6,2,  2352.4,2,  -999.0,5,-999.000,1,-999.000,-999.0000,1, -999.00,9, -999.00,9,  -999.0,9,  -999.0,-999.000,9,-999.000,  8180.1,   6.9797,-999.0000, -999.00
 316N145_14,       I02E,    1109,          1,         25,     SI9446,2,19951214,       1952,    -5.0000,    88.4667,       4545,  1006.8,   5.9742,  34.8187,2,  34.8186,2,     66.7,2,    65.5,2,   88.08,2,   36.91,2,    0.00,2,    2.71,2,-999.000,5,-999.000,5,  2299.2,2,  2369.6,2,  -999.0,5,-999.000,1,-999.000,   1.8660,2,   11.54,2, -999.00,9,  -999.0,9,  -999.0,   7.822,2,   0.025, 10196.7,   5.8823,   0.0070,    0.14
 316N145_14,       I02E,    1109,          1,         24,     SIH036,2,19951214,       1952,    -5.0000,    88.4667,       4545,  1248.7,   4.8808,  34.8088,2,  34.8090,2,     81.3,2,    79.8,2,  100.65,2,   37.00,2,    0.00,2,    2.71,2,-999.000,5,-999.000,5,  2308.2,2,  2380.9,2,  -999.0,5,-999.000,1,-999.000,   1.8640,2,   13.01,2, -999.00,9,  -999.0,9,  -999.0,   7.877,2,   0.049, 12616.0,   4.7751,   0.0020,    0.20
 316N145_14,       I02E,    1109,          1,         23,     SIH001,2,19951214,       1952,    -5.0000,    88.4667,       4545,  1504.7,   4.0888,  34.7950,2,  34.7974,2,     95.4,2,    96.5,2,  107.64,2,   36.58,2,    0.00,2,    2.67,2,-999.000,5,-999.000,5,  2309.5,2,  2386.7,2,  -999.0,5,-999.000,1,-999.000,   1.8620,2,   13.33,2, -999.00,9,  -999.0,9,  -999.0,   7.887,2,   0.049, 15177.2,   3.9676,   0.0030,    0.20
 316N145_14,       I02E,    1109,          1,         22,     SIH019,2,19951214,       1952,    -5.0000,    88.4667,       4545,  1754.9,   3.2647,  34.7783,2,  34.7773,2,    117.1,2,   116.9,2,  114.99,2,   35.95,2,    0.00,2,    2.59,2,-999.000,5,-999.000,5,  2310.1,2,  2394.4,2,  -999.0,5,-999.000,1,-999.000,   1.8710,2,   13.21,2, -999.00,9,  -999.0,9,  -999.0,   8.014,2,   0.026, 17679.6,   3.1310,   0.0090,    0.14
 316N145_14,       I02E,    1109,          1,         21,     SIH025,2,19951214,       1952,    -5.0000,    88.4667,       4545,  2003.0,   2.6735,  34.7610,2,  34.7606,2,    134.2,2,   131.7,2,  120.94,2,   35.37,2,    0.00,2,    2.52,2,-999.000,5,-999.000,5,  2308.9,2,  2401.7,2,  -999.0,5,-999.000,1,-999.000,   1.8760,2,   13.60,2, -999.00,9,  -999.0,9,  -999.0,   8.010,2,   0.049, 20162.3,   2.5261,   0.0040,    0.20
 316N145_14,       I02E,    1109,          1,         20,     SIH004,2,19951214,       1952,    -5.0000,    88.4667,       4545,  2257.0,   2.3689,  34.7572,2,  34.7555,2,    138.8,2,   138.8,2,  126.37,2,   35.16,2,    0.00,2,    2.49,2,-999.000,5,-999.000,5,  2310.4,2,  2406.7,2,  -999.0,5,-999.000,1,-999.000,   1.9000,2,   13.80,2, -999.00,9,  -999.0,9,  -999.0,   8.107,2,   0.026, 22702.7,   2.2037,   0.0070,    0.14
 316N145_14,       I02E,    1109,          1,         19,     SIH005,2,19951214,       1952,    -5.0000,    88.4667,       4545,  2504.8,   2.0822,  34.7447,2,  34.7445,2,    149.7,2,   148.8,2,  128.32,2,   34.73,2,    0.00,2,    2.45,2,-999.000,5,-999.000,5,  2308.1,2,  2408.4,2,  -999.0,5,-999.000,1,-999.000,   1.9180,2,   13.44,2, -999.00,9,  -999.0,9,  -999.0,   8.132,2,   0.026, 25181.4,   1.8996,   0.0080,    0.14
 316N145_14,       I02E,    1109,          1,         18,     SIH006,2,19951214,       1952,    -5.0000,    88.4667,       4545,  2752.8,   1.8761,  34.7379,2,  34.7366,2,    155.8,2,   156.1,2,  130.10,2,   34.31,2,    0.00,2,    2.41,2,-999.000,5,-999.000,5,  2305.8,2,  2412.1,2,  -999.0,5,-999.000,1,-999.000,   1.9000,2,   13.52,2, -999.00,9,  -999.0,9,  -999.0,   8.148,2,   0.050, 27662.8,   1.6745,   0.0020,    0.20
 316N145_14,       I02E,    1109,          1,         17,     SIH038,2,19951214,       1952,    -5.0000,    88.4667,       4545,  3000.8,   1.6958,  34.7300,2,  34.7304,2,    163.6,2,   162.3,2,  131.88,2,   34.25,2,    0.00,2,    2.39,2,-999.000,5,-999.000,5,  2305.5,2,  2414.2,2,  -999.0,5,-999.000,1,-999.000,   1.9090,2,   13.42,2, -999.00,9,  -999.0,9,  -999.0,   8.137,2,   0.026, 30144.4,   1.4743,   0.0070,    0.14
 316N145_14,       I02E,    1109,          1,         16,     SIH008,2,19951214,       1952,    -5.0000,    88.4667,       4545,  3250.0,   1.5238,  34.7251,2,  34.7252,2,    167.8,2,   168.5,2,  133.82,2,   34.08,2,    0.00,2,    2.38,2,-999.000,5,-999.000,5,  2305.0,2,  2412.7,2,  -999.0,5,-999.000,1,-999.000,   1.9070,2,   12.56,2, -999.00,9,  -999.0,9,  -999.0,   8.161,2,   0.050, 32637.4,   1.2820,   0.0020,    0.20
 316N145_14,       I02E,    1109,          1,         15,     SIH009,2,19951214,       1952,    -5.0000,    88.4667,       4545,  3498.7,   1.4239,  34.7221,2,  34.7227,2,    171.9,2,   171.5,2,  135.25,2,   33.92,2,    0.00,2,    2.37,2,-999.000,5,-999.000,5,  2304.5,2,  2416.6,2,  -999.0,5,-999.000,1,-999.000,   1.9090,2,   11.79,2, -999.00,9,  -999.0,9,  -999.0,   8.171,2,   0.027, 35125.0,   1.1595,   0.0070,    0.14
 316N145_14,       I02E,    1109,          1,         14,     SIH010,2,19951214,       1952,    -5.0000,    88.4667,       4545,  3703.3,   1.3807,  34.7212,2,  34.7245,3,    174.2,2,   174.1,2,  135.98,2,   33.90,2,    0.00,2,    2.36,2,-999.000,5,-999.000,5,  2304.7,2,  2417.2,2,  -999.0,5,-999.000,1,-999.000,   1.9100,2,   11.74,2, -999.00,9,  -999.0,9,  -999.0,   8.193,2,   0.027, 37172.3,   1.0964,   0.0070,    0.14
 316N145_14,       I02E,    1109,          1,         13,     SIH011,2,19951214,       1952,    -5.0000,    88.4667,       4545,  3799.5,   1.3751,  34.7203,2,  34.7190,2,    174.6,2,   174.8,2,  135.50,2,   33.84,2,    0.00,2,    2.35,2,-999.000,5,-999.000,5,  2303.9,2,  2417.0,2,  -999.0,5,-999.000,1,-999.000,-999.0000,1, -999.00,9, -999.00,9,  -999.0,9,  -999.0,-999.000,9,-999.000, 38134.5,   1.0809,-999.0000, -999.00
 316N145_14,       I02E,    1109,          1,         12,     SIH012,2,19951214,       1952,    -5.0000,    88.4667,       4545,  3902.4,   1.3738,  34.7204,2,  34.7229,3,    175.5,2,   175.5,2,  135.36,2,   33.77,2,    0.00,2,    2.35,2,-999.000,5,-999.000,5,  2304.2,2,  2416.9,2,  -999.0,5,-999.000,1,-999.000,   1.9300,2,   11.75,2, -999.00,9,  -999.0,9,  -999.0,   8.193,2,   0.027, 39164.0,   1.0687,   0.0100,    0.14
 316N145_14,       I02E,    1109,          1,         11,     SI9426,2,19951214,       1952,    -5.0000,    88.4667,       4545,  3998.6,   1.3757,  34.7203,2,  34.7186,2,    174.5,2,   175.5,2,  135.74,2,   33.82,2,    0.00,2,    2.35,2,-999.000,5,-999.000,5,  2300.3,2,  2417.6,2,  -999.0,5,-999.000,1,-999.000,-999.0000,1, -999.00,9, -999.00,9,  -999.0,9,  -999.0,-999.000,9,-999.000, 40126.5,   1.0602,-999.0000, -999.00
 316N145_14,       I02E,    1109,          1,         10,     SIH014,2,19951214,       1952,    -5.0000,    88.4667,       4545,  4101.4,   1.3795,  34.7192,2,  34.7184,2,    176.2,2,   175.5,2,  135.95,2,   33.95,2,    0.01,2,    2.35,2,-999.000,5,-999.000,5,  2303.3,2,  2418.0,2,  -999.0,5,-999.000,1,-999.000,   2.1220,4,   10.81,3, -999.00,9,  -999.0,9,  -999.0,   8.787,4,   0.028, 41154.2,   1.0527,   0.0080,    0.14
 316N145_14,       I02E,    1109,          1,          9,     SIH015,2,19951214,       1952,    -5.0000,    88.4667,       4545,  4203.7,   1.3881,  34.7194,2,  34.7184,2,    176.5,2,   176.1,2,  135.63,2,   33.90,2,    0.00,2,    2.33,2,-999.000,5,-999.000,5,  2298.7,2,  2420.8,2,  -999.0,5,-999.000,1,-999.000,-999.0000,1, -999.00,9, -999.00,9,  -999.0,9,  -999.0,-999.000,9,-999.000, 42178.2,   1.0498,-999.0000, -999.00
 316N145_14,       I02E,    1109,          1,          8,     SIH016,2,19951214,       1952,    -5.0000,    88.4667,       4545,  4305.6,   1.3934,  34.7184,2,  34.7184,2,    176.8,2,   176.6,2,  135.66,2,   33.78,2,    0.01,2,    2.33,2,-999.000,5,-999.000,5,  2302.2,2,  2416.6,2,  -999.0,5,-999.000,1,-999.000,-999.0000,1, -999.00,9, -999.00,9,  -999.0,9,  -999.0,-999.000,9,-999.000, 43197.4,   1.0436,-999.0000, -999.00
 316N145_14,       I02E,    1109,          1,          7,     SIH017,3,19951214,       1952,    -5.0000,    88.4667,       4545,  4356.5,   1.3956,  34.7188,2,  34.7190,2,    176.9,2,   176.9,2,  135.35,2,   33.87,2,    0.00,2,    2.34,2,-999.000,5,-999.000,5,  2303.4,2,  2418.8,2,  -999.0,5,-999.000,1,-999.000,   1.9450,2,   12.06,2, -999.00,9,  -999.0,9,  -999.0,   8.245,2,   0.021, 43706.3,   1.0400,   0.0030,    0.09
 316N145_14,       I02E,    1109,          1,          6,     SIH018,2,19951214,       1952,    -5.0000,    88.4667,       4545,  4407.2,   1.3955,  34.7187,2,  34.7174,2,    177.3,2,   177.4,2,  135.20,2,   33.86,2,    0.01,2,    2.33,2,-999.000,5,-999.000,5,  2296.7,2,  2416.9,2,  -999.0,5,-999.000,1,-999.000,-999.0000,1, -999.00,9, -999.00,9,  -999.0,9,  -999.0,-999.000,9,-999.000, 44212.9,   1.0341,-999.0000, -999.00
 316N145_14,       I02E,    1109,          1,          5,     SIH002,2,19951214,       1952,    -5.0000,    88.4667,       4545,  4458.1,   1.3950,  34.7186,2,  34.7178,2,    177.8,2,   177.8,2,  134.89,2,   33.85,2,    0.00,2,    2.34,2,-999.000,5,-999.000,5,  2301.9,2,  2423.7,2,  -999.0,5,-999.000,1,-999.000,-999.0000,1, -999.00,9, -999.00,9,  -999.0,9,  -999.0,-999.000,9,-999.000, 44721.9,   1.0278,-999.0000, -999.00
 316N145_14,       I02E,    1109,          1,          4,     SIH020,2,19951214,       1952,    -5.0000,    88.4667,       4545,  4509.6,   1.3929,  34.7185,2,  34.7182,2,    178.2,2,   178.9,2,  134.57,2,   33.78,2,    0.01,2,    2.33,2,-999.000,5,-999.000,5,  2300.2,2,  2416.2,2,  -999.0,5,-999.000,1,-999.000,-999.0000,1, -999.00,9, -999.00,9,  -999.0,9,  -999.0,-999.000,9,-999.000, 45236.5,   1.0199,-999.0000, -999.00
 316N145_14,       I02E,    1109,          1,          3,     SIH021,2,19951214,       1952,    -5.0000,    88.4667,       4545,  4559.6,   1.3941,  34.7184,2,  34.7178,2,    178.8,2,   179.2,2,  134.43,2,   33.72,2,    0.01,2,    2.33,2,-999.000,5,-999.000,5,  2300.4,2,  2407.5,2,  -999.0,5,-999.000,1,-999.000,-999.0000,1, -999.00,9, -999.00,9,  -999.0,9,  -999.0,-999.000,9,-999.000, 45737.7,   1.0153,-999.0000, -999.00
 316N145_14,       I02E,    1109,          1,          2,     SIH022,2,19951214,       1952,    -5.0000,    88.4667,       4545,  4582.3,   1.3932,  34.7177,2,  34.7180,2,    180.1,2,   179.4,2,  134.12,2,   33.65,2,    0.01,2,    2.32,2,-999.000,5,-999.000,5,  2299.1,2,  2416.2,2,  -999.0,5,-999.000,1,-999.000,-999.0000,5, -999.00,5, -999.00,9,  -999.0,9,  -999.0,  13.670,4,   0.044, 45964.4,   1.0118,-999.0000,   -9.00
 316N145_14,       I02E,    1109,          1,          1,     SIH023,2,19951214,       1952,    -5.0000,    88.4667,       4545,  4625.0,   1.3863,  34.7178,2,  34.7174,2,    178.8,2,   180.1,2,  133.77,6,   33.45,6,    0.01,6,    2.31,6,-999.000,5,-999.000,5,  2299.1,2,  2413.1,2,  -999.0,5,-999.000,1,-999.000,-999.0000,1, -999.00,9, -999.00,9,  -999.0,9,  -999.0,-999.000,9,-999.000, 46392.3,   1.0002,-999.0000, -999.00