BOTTLE,20220829CCHSIOAMB
EXPOCODE,SECT_ID,STNNBR,CASTNO,SAMPNO,BTLNBR,BTLNBR_FLAG_W,DATE,TIME,LATITUDE,LONGITUDE,DEPTH,CTDPRS,CTDTMP,CTDSAL,CTDSAL_FLAG_W,SALNTY,SALNTY_FLAG_W,CTDOXY,CTDOXY_FLAG_W,OXYGEN,OXYGEN_FLAG_W,SILCAT,SILCAT_FLAG_W,NITRAT,NITRAT_FLAG_W,NITRIT,NITRIT_FLAG_W,PHSPHT,PHSPHT_FLAG_W,CFC-11,CFC-11_FLAG_W,CFC-12,CFC-12_FLAG_W,TCARBN,TCARBN_FLAG_W,ALKALI,ALKALI_FLAG_W,PCO2,PCO2_FLAG_W,TRITUM,TRITUM_FLAG_W,TRITER,HELIUM,HELIUM_FLAG_W,DELHE3,DELHE3_FLAG_W,DELC13,DELC13_FLAG_W,DELC14,DELC14_FLAG_W,C14ERR,NEON,NEON_FLAG_W,NEONER,CTDRAW,THETA,HELIER,DELHER
,,,,,,,,,,,METERS,DBAR,ITS-90,PSS-78,,PSS-78,,UMOL/KG,,UMOL/KG,,UMOL/KG,,UMOL/KG,,UMOL/KG,,UMOL/KG,,PMOL/KG,,PMOL/KG,,UMOL/KG,,UMOL/KG,,UATM,,TU,,TU,NMOL/KG,,PERCNT,,/MILLE,,/MILLE,,/MILLE,NMOL/KG,,NMOL/KG,DBAR,DEG C,NMOL/KG,PERCNT
 316N145_14,       I02E,    1155,          1,         23,     SIH001,2,19951227,       1031,    -8.0000,    71.0250,       1795,     8.0,  28.5242,  34.2492,2,  34.2530,2,    232.7,3,   210.5,2,    3.78,2,    0.11,2,   -0.01,2,    0.12,2,   1.616,2,   0.935,2,  -999.0,9,  2244.0,2,  -999.0,5,-999.000,1,-999.000,-999.0000,1, -999.00,9,    1.39,2,    58.5,2,     3.8,-999.000,9,-999.000,   215.3,  28.5222,-999.0000, -999.00
 316N145_14,       I02E,    1155,          1,         22,     SIH019,2,19951227,       1031,    -8.0000,    71.0250,       1795,    30.3,  27.1114,  34.8593,2,  34.8969,2,    212.8,2,   215.2,2,    5.00,2,    0.21,2,   -0.01,2,    0.22,2,-999.000,5,-999.000,5,  1954.6,2,  2283.7,2,  -999.0,5,-999.000,1,-999.000,-999.0000,1, -999.00,9, -999.00,9,  -999.0,9,  -999.0,-999.000,9,-999.000,   433.9,  27.1044,-999.0000, -999.00
 316N145_14,       I02E,    1155,          1,         21,     SIH013,2,19951227,       1031,    -8.0000,    71.0250,       1795,    60.8,  22.2008,  35.1968,2,  35.2020,2,    168.8,2,   181.7,2,    7.96,2,    3.36,2,    0.12,2,    0.42,2,   1.828,2,   1.022,2,  2024.3,2,  2307.1,2,  -999.0,5,-999.000,1,-999.000,-999.0000,1, -999.00,9,    0.88,2,    72.3,2,     3.1,-999.000,9,-999.000,   734.9,  22.1887,-999.0000, -999.00
 316N145_14,       I02E,    1155,          1,         20,     SIH004,2,19951227,       1031,    -8.0000,    71.0250,       1795,    91.2,  18.4238,  35.1700,2,  35.1575,2,     72.7,3,   122.2,2,   16.49,2,   13.60,2,    0.16,2,    1.02,2,   1.584,2,   0.857,2,  2103.2,2,  2310.5,2,  -999.0,5,-999.000,1,-999.000,-999.0000,1, -999.00,9, -999.00,9,  -999.0,9,  -999.0,-999.000,9,-999.000,  1036.4,  18.4079,-999.0000, -999.00
 316N145_14,       I02E,    1155,          1,         19,     SIH005,3,19951227,       1031,    -8.0000,    71.0250,       1795,   120.8,  15.2442,  35.0004,2,  35.0165,2,     82.9,2,    78.2,2,   23.46,2,   22.79,2,    0.01,2,    1.60,2,-999.000,5,-999.000,5,  2166.7,2,  2306.3,2,  -999.0,5,-999.000,1,-999.000,-999.0000,1, -999.00,9,    0.22,3,    22.4,2,     5.3,-999.000,9,-999.000,  1331.6,  15.2258,-999.0000, -999.00
 316N145_14,       I02E,    1155,          1,         18,     SIH006,2,19951227,       1031,    -8.0000,    71.0250,       1795,   150.5,  13.9196,  35.0065,2,  35.0018,2,     81.9,2,    80.9,2,   24.86,2,   23.73,2,    0.00,2,    1.67,2,-999.000,5,-999.000,5,  2177.5,2,  2252.6,3,  -999.0,5,-999.000,1,-999.000,-999.0000,1, -999.00,9, -999.00,9,  -999.0,9,  -999.0,-999.000,9,-999.000,  1627.1,  13.8979,-999.0000, -999.00
 316N145_14,       I02E,    1155,          1,         17,     SIH038,2,19951227,       1031,    -8.0000,    71.0250,       1795,   201.2,  12.4132,  34.9847,2,  34.9823,2,     85.5,2,    90.7,2,   25.05,2,   24.55,2,    0.00,2,    1.72,2,   0.813,2,   0.420,2,  2185.6,2,  2332.0,3,  -999.0,5,-999.000,1,-999.000,-999.0000,1, -999.00,9, -999.00,9,  -999.0,9,  -999.0,-999.000,9,-999.000,  2133.9,  12.3864,-999.0000, -999.00
 316N145_14,       I02E,    1155,          1,         16,     SIH008,2,19951227,       1031,    -8.0000,    71.0250,       1795,   250.8,  11.4819,  34.9567,2,  34.9545,2,    114.7,2,   110.1,2,   23.48,2,   24.03,2,    0.00,2,    1.67,2,-999.000,5,-999.000,5,  2181.0,2,  2309.1,2,  -999.0,5,-999.000,1,-999.000,-999.0000,1, -999.00,9, -999.00,9,  -999.0,9,  -999.0,-999.000,9,-999.000,  2630.0,  11.4501,-999.0000, -999.00
 316N145_14,       I02E,    1155,          1,         15,     SIH009,2,19951227,       1031,    -8.0000,    71.0250,       1795,   300.5,  10.7946,  34.9184,2,  34.9176,2,     87.6,2,   102.0,2,   26.28,2,   26.16,2,    0.00,2,    1.81,2,   0.633,2,   0.304,2,  2192.2,2,  2308.5,2,  -999.0,5,-999.000,1,-999.000,-999.0000,1, -999.00,9,    0.47,2,   -15.6,2,     3.8,-999.000,9,-999.000,  3127.4,  10.7579,-999.0000, -999.00
 316N145_14,       I02E,    1155,          1,         14,     SIH010,2,19951227,       1031,    -8.0000,    71.0250,       1795,   350.5,  10.4047,  34.8952,2,  34.8941,2,    108.6,2,   105.1,2,   27.85,2,   26.62,2,    0.00,2,    1.85,2,-999.000,5,-999.000,5,  2194.5,2,  2309.5,2,  -999.0,5,-999.000,1,-999.000,-999.0000,1, -999.00,9, -999.00,9,  -999.0,9,  -999.0,-999.000,9,-999.000,  3626.8,  10.3627,-999.0000, -999.00
 316N145_14,       I02E,    1155,          1,         13,     SIH011,2,19951227,       1031,    -8.0000,    71.0250,       1795,   400.5,   9.9699,  34.8697,2,  34.8654,2,    103.8,2,   107.4,2,   29.95,2,   27.50,2,    0.00,2,    1.90,2,   0.504,2,   0.256,2,  2199.8,2,  2315.3,2,  -999.0,5,-999.000,1,-999.000,-999.0000,1, -999.00,9,    0.55,2,   -36.1,2,     6.2,-999.000,9,-999.000,  4126.4,   9.9231,-999.0000, -999.00
 316N145_14,       I02E,    1155,          1,         12,     SIH012,2,19951227,       1031,    -8.0000,    71.0250,       1795,   500.2,   8.7148,  34.8229,2,  34.8220,2,     97.3,2,    88.6,2,   43.90,2,   31.28,2,    0.00,2,    2.21,2,   0.190,2,   0.100,2,  2229.0,2,  2325.4,2,  -999.0,5,-999.000,1,-999.000,-999.0000,1, -999.00,9,    0.41,2,   -81.3,2,     3.5,-999.000,9,-999.000,  5122.3,   8.6607,-999.0000, -999.00
 316N145_14,       I02E,    1155,          1,         11,     SI9426,2,19951227,       1031,    -8.0000,    71.0250,       1795,   601.2,   7.7553,  34.7963,2,  34.7962,2,     77.1,2,    75.6,2,   59.59,2,   33.92,2,    0.00,2,    2.44,2,-999.000,5,-999.000,5,  2255.2,2,  2346.0,2,  -999.0,5,-999.000,1,-999.000,-999.0000,1, -999.00,9, -999.00,9,  -999.0,9,  -999.0,-999.000,9,-999.000,  6133.5,   7.6942,-999.0000, -999.00
 316N145_14,       I02E,    1155,          1,         10,     SIH014,2,19951227,       1031,    -8.0000,    71.0250,       1795,   701.4,   7.2414,  34.7955,2,  34.7944,2,     72.6,2,    72.4,2,   68.32,2,   35.01,2,    0.00,2,    2.53,2,   0.041,2,   0.023,2,  2267.8,2,  2345.4,2,  -999.0,5,-999.000,1,-999.000,-999.0000,1, -999.00,9,    0.24,2,  -132.1,2,     3.8,-999.000,9,-999.000,  7135.9,   7.1722,-999.0000, -999.00
 316N145_14,       I02E,    1155,          1,          9,     SIH015,2,19951227,       1031,    -8.0000,    71.0250,       1795,   801.6,   6.7982,  34.7848,2,  34.7842,2,     71.7,2,    71.5,2,   75.66,2,   35.53,2,    0.00,2,    2.59,2,-999.000,5,-999.000,5,  2275.8,2,  2355.8,2,  -999.0,5,-999.000,1,-999.000,-999.0000,1, -999.00,9,   -0.14,3,  -151.5,2,     4.6,-999.000,9,-999.000,  8137.2,   6.7213,-999.0000, -999.00
 316N145_14,       I02E,    1155,          1,          8,     SIH016,2,19951227,       1031,    -8.0000,    71.0250,       1795,   901.8,   6.2082,  34.7702,2,  34.7697,2,     72.8,2,    71.7,2,   85.43,2,   36.14,2,    0.00,2,    2.64,2,   0.006,2,   0.003,2,  -999.0,9,  2362.9,2,  -999.0,5,-999.000,1,-999.000,-999.0000,1, -999.00,9,    0.11,2,  -159.6,2,     4.4,-999.000,9,-999.000,  9138.5,   6.1251,-999.0000, -999.00
 316N145_14,       I02E,    1155,          1,          7,     SIH017,2,19951227,       1031,    -8.0000,    71.0250,       1795,  1002.6,   5.7548,  34.7541,2,  34.7533,2,     75.5,2,    75.3,2,   91.02,2,   36.49,2,    0.00,2,    2.66,2,-999.000,5,-999.000,5,  -999.0,9,  2369.0,2,  -999.0,5,-999.000,1,-999.000,-999.0000,1, -999.00,9,    0.09,2,  -164.6,2,     2.9,-999.000,9,-999.000, 10145.4,   5.6652,-999.0000, -999.00
 316N145_14,       I02E,    1155,          1,          6,     SIH018,2,19951227,       1031,    -8.0000,    71.0250,       1795,  1103.8,   5.0921,  34.7521,2,  34.7522,2,     81.9,2,    83.4,2,   99.07,2,   36.54,2,    0.00,2,    2.66,2,   0.003,2,   0.001,2,  -999.0,9,  2378.6,2,  -999.0,5,-999.000,1,-999.000,-999.0000,1, -999.00,9,    0.09,2,  -160.7,2,     3.6,-999.000,9,-999.000, 11156.5,   4.9981,-999.0000, -999.00
 316N145_14,       I02E,    1155,          1,          5,     SIH002,2,19951227,       1031,    -8.0000,    71.0250,       1795,  1204.4,   4.8087,  34.7612,2,  34.7616,2,     87.0,2,    86.9,2,  101.69,2,   36.75,2,    0.00,2,    2.67,2,-999.000,5,-999.000,5,  -999.0,9,  2383.8,2,  -999.0,5,-999.000,1,-999.000,-999.0000,1, -999.00,9,    0.13,2,  -174.0,2,     2.7,-999.000,9,-999.000, 12160.9,   4.7079,-999.0000, -999.00
 316N145_14,       I02E,    1155,          1,          4,     SIH020,2,19951227,       1031,    -8.0000,    71.0250,       1795,  1303.5,   4.4470,  34.7698,2,  34.7687,2,     96.5,2,    93.5,2,  104.86,2,   36.43,2,    0.00,2,    2.64,2,   0.003,2,  -0.002,2,  -999.0,9,  2380.9,2,  -999.0,5,-999.000,1,-999.000,-999.0000,1, -999.00,9,    0.13,2,  -161.4,2,     3.5,-999.000,9,-999.000, 13150.5,   4.3405,-999.0000, -999.00
 316N145_14,       I02E,    1155,          1,          3,     SIH021,2,19951227,       1031,    -8.0000,    71.0250,       1795,  1403.7,   4.1078,  34.7705,2,  34.7708,2,    103.3,2,   101.3,2,  107.49,2,   36.27,2,    0.00,2,    2.63,2,-999.000,5,-999.000,5,  -999.0,9,  2395.2,2,  -999.0,5,-999.000,1,-999.000,-999.0000,1, -999.00,9,    0.13,2,  -162.8,2,     3.2,-999.000,9,-999.000, 14150.2,   3.9956,-999.0000, -999.00
 316N145_14,       I02E,    1155,          1,          2,     SIH022,2,19951227,       1031,    -8.0000,    71.0250,       1795,  1605.1,   3.5158,  34.7668,2,  34.7642,2,    117.2,2,   114.7,2,  114.15,2,   35.95,2,    0.00,2,    2.57,2,  -0.001,2,   0.000,2,  -999.0,9,  2391.2,2,  -999.0,5,-999.000,1,-999.000,-999.0000,1, -999.00,9,    0.07,2,  -175.0,2,     2.7,-999.000,9,-999.000, 16161.5,   3.3923,-999.0000, -999.00
 316N145_14,       I02E,    1155,          1,          1,     SIH023,2,19951227,       1031,    -8.0000,    71.0250,       1795,  1835.5,   3.1058,  34.7611,2,  34.7622,2,    125.4,2,   125.1,2,  116.32,6,   35.41,6,    0.00,6,    2.55,6,   0.000,2,  -0.002,2,  2303.9,2,  2393.8,2,  -999.0,5,-999.000,1,-999.000,-999.0000,1, -999.00,9,    0.12,2,  -166.6,2,     3.2,-999.000,9,-999.000, 18460.8,   2.9671,-999.0000, -999.00