BOTTLE,20220829CCHSIOAMB
EXPOCODE,SECT_ID,STNNBR,CASTNO,SAMPNO,BTLNBR,BTLNBR_FLAG_W,DATE,TIME,LATITUDE,LONGITUDE,DEPTH,CTDPRS,CTDTMP,CTDSAL,CTDSAL_FLAG_W,SALNTY,SALNTY_FLAG_W,CTDOXY,CTDOXY_FLAG_W,OXYGEN,OXYGEN_FLAG_W,SILCAT,SILCAT_FLAG_W,NITRAT,NITRAT_FLAG_W,NITRIT,NITRIT_FLAG_W,PHSPHT,PHSPHT_FLAG_W,CFC-11,CFC-11_FLAG_W,CFC-12,CFC-12_FLAG_W,TCARBN,TCARBN_FLAG_W,ALKALI,ALKALI_FLAG_W,PCO2,PCO2_FLAG_W,TRITUM,TRITUM_FLAG_W,TRITER,HELIUM,HELIUM_FLAG_W,DELHE3,DELHE3_FLAG_W,DELC13,DELC13_FLAG_W,DELC14,DELC14_FLAG_W,C14ERR,NEON,NEON_FLAG_W,NEONER,CTDRAW,THETA,HELIER,DELHER
,,,,,,,,,,,METERS,DBAR,ITS-90,PSS-78,,PSS-78,,UMOL/KG,,UMOL/KG,,UMOL/KG,,UMOL/KG,,UMOL/KG,,UMOL/KG,,PMOL/KG,,PMOL/KG,,UMOL/KG,,UMOL/KG,,UATM,,TU,,TU,NMOL/KG,,PERCNT,,/MILLE,,/MILLE,,/MILLE,NMOL/KG,,NMOL/KG,DBAR,DEG C,NMOL/KG,PERCNT
 316N145_14,       I02E,    1139,          1,         36,     SIH024,2,19951223,       1122,    -8.0000,    79.3333,       5446,    13.1,  28.3280,  34.2967,2,  34.3064,2,    208.3,2,   210.0,2,    2.12,2,    0.19,2,    0.01,2,    0.16,2,   1.593,2,   0.918,2,  1913.6,2,  2248.3,2,  -999.0,5,-999.000,1,-999.000,-999.0000,1, -999.00,9, -999.00,9,  -999.0,9,  -999.0,-999.000,9,-999.000,   267.8,  28.3249,-999.0000, -999.00
 316N145_14,       I02E,    1139,          1,         35,     SIH003,2,19951223,       1122,    -8.0000,    79.3333,       5446,    29.0,  24.9146,  35.2876,2,  35.2915,2,    156.6,2,   166.8,2,    6.12,2,    5.73,2,    0.32,2,    0.63,2,   1.569,2,   0.883,2,  2037.1,2,  2324.1,2,  -999.0,5,-999.000,1,-999.000,-999.0000,1, -999.00,9, -999.00,9,  -999.0,9,  -999.0,-999.000,9,-999.000,   421.5,  24.9083,-999.0000, -999.00
 316N145_14,       I02E,    1139,          1,         34,     SIH026,2,19951223,       1122,    -8.0000,    79.3333,       5446,    58.9,  21.0131,  35.1747,2,  35.1772,2,    122.2,2,   117.2,2,   10.81,2,   12.95,2,    0.21,2,    1.01,2,   1.488,2,   0.812,2,  2090.7,2,  2302.8,2,  -999.0,5,-999.000,1,-999.000,-999.0000,1, -999.00,9, -999.00,9,  -999.0,9,  -999.0,-999.000,9,-999.000,   717.9,  21.0018,-999.0000, -999.00
 316N145_14,       I02E,    1139,          1,         33,     SIH027,2,19951223,       1122,    -8.0000,    79.3333,       5446,    98.5,  17.3669,  35.1009,2,  35.1087,2,     77.5,2,    80.4,2,   17.06,2,   20.28,2,    0.04,2,    1.44,2,   1.243,2,   0.653,2,  2146.6,2,  2305.6,2,  -999.0,5,-999.000,1,-999.000,-999.0000,1, -999.00,9, -999.00,9,  -999.0,9,  -999.0,-999.000,9,-999.000,  1111.3,  17.3505,-999.0000, -999.00
 316N145_14,       I02E,    1139,          1,         32,     SIH028,2,19951223,       1122,    -8.0000,    79.3333,       5446,   148.6,  14.0789,  34.8575,2,  34.8589,2,     62.1,2,    61.1,2,   27.68,2,   25.94,2,    0.01,2,    1.82,2,   0.771,2,   0.394,2,  2185.2,2,  2301.4,2,  -999.0,5,-999.000,1,-999.000,-999.0000,1, -999.00,9, -999.00,9,  -999.0,9,  -999.0,-999.000,9,-999.000,  1610.5,  14.0574,-999.0000, -999.00
 316N145_14,       I02E,    1139,          1,         31,     SIH029,2,19951223,       1122,    -8.0000,    79.3333,       5446,   199.7,  12.3905,  34.8333,2,  34.8375,2,     60.9,2,    61.4,2,   31.67,2,   28.06,2,    0.00,2,    1.96,2,   0.499,2,   0.250,2,  2204.4,2,  2311.9,2,  -999.0,5,-999.000,1,-999.000,-999.0000,1, -999.00,9, -999.00,9,  -999.0,9,  -999.0,-999.000,9,-999.000,  2122.1,  12.3640,-999.0000, -999.00
 316N145_14,       I02E,    1139,          1,         30,     SIH030,2,19951223,       1122,    -8.0000,    79.3333,       5446,   248.9,  11.7451,  34.8871,2,  34.8867,2,     66.8,2,    61.9,2,   30.63,2,   28.63,2,    0.00,2,    1.99,2,   0.401,2,   0.207,2,  2210.1,2,  2310.6,2,  -999.0,5,-999.000,1,-999.000,-999.0000,1, -999.00,9, -999.00,9,  -999.0,9,  -999.0,-999.000,9,-999.000,  2614.4,  11.7130,-999.0000, -999.00
 316N145_14,       I02E,    1139,          1,         29,     SIH031,2,19951223,       1122,    -8.0000,    79.3333,       5446,   299.4,  11.2537,  34.9216,2,  34.9242,2,     68.1,2,    73.6,2,   27.50,6,   28.17,6,    0.01,6,    1.93,6,   0.403,2,   0.201,2,  2207.1,2,  2311.3,2,  -999.0,5,-999.000,1,-999.000,-999.0000,1, -999.00,9, -999.00,9,  -999.0,9,  -999.0,-999.000,9,-999.000,  3119.2,  11.2161,-999.0000, -999.00
 316N145_14,       I02E,    1139,          1,         28,     SI9439,2,19951223,       1122,    -8.0000,    79.3333,       5446,   349.5,  10.5546,  34.8939,2,  34.8926,2,     95.6,2,    96.5,2,   26.11,6,   27.03,6,    0.00,6,    1.86,6,   0.515,2,   0.257,2,  2198.3,2,  2309.0,2,  -999.0,5,-999.000,1,-999.000,-999.0000,1, -999.00,9, -999.00,9,  -999.0,9,  -999.0,-999.000,9,-999.000,  3620.3,  10.5123,-999.0000, -999.00
 316N145_14,       I02E,    1139,          1,         27,     SIH033,2,19951223,       1122,    -8.0000,    79.3333,       5446,   399.1,  10.0231,  34.8609,2,  34.8621,2,     92.9,2,    93.9,2,   28.55,6,   28.41,6,    0.00,6,    1.94,6,   0.365,2,   0.185,2,  2204.7,2,  2312.5,2,  -999.0,5,-999.000,1,-999.000,-999.0000,1, -999.00,9, -999.00,9,  -999.0,9,  -999.0,-999.000,9,-999.000,  4117.4,   9.9763,-999.0000, -999.00
 316N145_14,       I02E,    1139,          1,         26,     SIH037,2,19951223,       1122,    -8.0000,    79.3333,       5446,   498.9,   9.1102,  34.8171,2,  34.8174,2,     90.2,2,    89.9,2,   36.89,2,   30.64,2,    0.00,2,    2.13,2,   0.189,2,   0.100,2,  2219.9,2,  2316.0,2,  -999.0,5,-999.000,1,-999.000,-999.0000,1, -999.00,9, -999.00,9,  -999.0,9,  -999.0,-999.000,9,-999.000,  5115.9,   9.0548,-999.0000, -999.00
 316N145_14,       I02E,    1139,          1,         25,     SI9446,2,19951223,       1122,    -8.0000,    79.3333,       5446,   600.0,   8.2569,  34.7994,2,  34.8001,2,     70.1,2,    70.5,2,   51.69,2,   33.73,2,    0.00,2,    2.41,2,   0.039,2,   0.022,2,  2247.1,2,  2328.3,2,  -999.0,5,-999.000,1,-999.000,-999.0000,1, -999.00,9, -999.00,9,  -999.0,9,  -999.0,-999.000,9,-999.000,  6126.2,   8.1937,-999.0000, -999.00
 316N145_14,       I02E,    1139,          1,         24,     SIH036,2,19951223,       1122,    -8.0000,    79.3333,       5446,   700.1,   7.3292,  34.7708,2,  34.7722,2,     64.7,2,    65.4,2,   67.36,2,   35.45,2,    0.00,2,    2.58,2,   0.018,6,   0.011,6,  2271.4,2,  2346.4,2,  -999.0,5,-999.000,1,-999.000,-999.0000,1, -999.00,9, -999.00,9,  -999.0,9,  -999.0,-999.000,9,-999.000,  7128.6,   7.2598,-999.0000, -999.00
 316N145_14,       I02E,    1139,          1,         23,     SIH001,2,19951223,       1122,    -8.0000,    79.3333,       5446,   800.7,   6.5933,  34.7407,2,  34.7421,2,     68.9,2,    68.0,2,   78.33,2,   35.97,2,    0.00,2,    2.63,2,   0.012,2,   0.006,2,  2282.9,2,  2355.1,2,  -999.0,5,-999.000,1,-999.000,-999.0000,1, -999.00,9, -999.00,9,  -999.0,9,  -999.0,-999.000,9,-999.000,  8134.1,   6.5178,-999.0000, -999.00
 316N145_14,       I02E,    1139,          1,         22,     SIH019,3,19951223,       1122,    -8.0000,    79.3333,       5446,   900.8,   5.9089,  34.7105,2,  34.7105,2,     75.3,2,    74.9,2,   87.73,2,   36.19,2,    0.00,2,    2.65,2,-999.000,5,-999.000,5,  2291.0,2,  2367.2,2,  -999.0,5,-999.000,1,-999.000,-999.0000,1, -999.00,9, -999.00,9,  -999.0,9,  -999.0,-999.000,9,-999.000,  9134.7,   5.8280,-999.0000, -999.00
 316N145_14,       I02E,    1139,          1,         21,     SIH025,2,19951223,       1122,    -8.0000,    79.3333,       5446,  1000.8,   5.4301,  34.7046,2,  34.7034,2,     80.0,2,    80.1,2,   94.35,2,   36.31,2,    0.00,2,    2.67,2,   0.006,2,   0.002,2,  2296.8,2,  2375.8,2,  -999.0,5,-999.000,1,-999.000,-999.0000,1, -999.00,9, -999.00,9,  -999.0,9,  -999.0,-999.000,9,-999.000, 10135.6,   5.3431,-999.0000, -999.00
 316N145_14,       I02E,    1139,          1,         20,     SIH004,2,19951223,       1122,    -8.0000,    79.3333,       5446,  1092.3,   4.9563,  34.7047,2,  34.7052,2,     85.1,2,    85.0,2,   99.75,2,   36.43,2,    0.00,2,    2.67,2,   0.004,2,   0.003,2,  2301.4,2,  2379.1,2,  -999.0,5,-999.000,1,-999.000,-999.0000,1, -999.00,9, -999.00,9,  -999.0,9,  -999.0,-999.000,9,-999.000, 11051.9,   4.8646,-999.0000, -999.00
 316N145_14,       I02E,    1139,          1,         19,     SIH005,2,19951223,       1122,    -8.0000,    79.3333,       5446,  1191.7,   4.5909,  34.7158,2,  34.7158,2,     90.1,2,    89.0,2,  103.42,2,   36.43,2,    0.00,2,    2.67,2,-999.000,5,-999.000,5,  2305.7,2,  2380.8,2,  -999.0,5,-999.000,1,-999.000,-999.0000,1, -999.00,9, -999.00,9,  -999.0,9,  -999.0,-999.000,9,-999.000, 12046.2,   4.4933,-999.0000, -999.00
 316N145_14,       I02E,    1139,          1,         18,     SIH006,2,19951223,       1122,    -8.0000,    79.3333,       5446,  1394.1,   3.8878,  34.7404,2,  34.7410,2,    103.9,2,   103.6,2,  107.42,2,   36.03,2,    0.00,2,    2.63,2,-999.000,5,-999.000,5,  2305.5,2,  2387.7,2,  -999.0,5,-999.000,1,-999.000,-999.0000,1, -999.00,9, -999.00,9,  -999.0,9,  -999.0,-999.000,9,-999.000, 14071.2,   3.7788,-999.0000, -999.00
 316N145_14,       I02E,    1139,          1,         17,     SIH038,2,19951223,       1122,    -8.0000,    79.3333,       5446,  1595.8,   3.2085,  34.7480,2,  34.7498,2,    120.1,2,   120.0,2,  113.17,2,   35.46,2,    0.00,2,    2.57,2,   0.002,2,  -0.001,2,  2305.0,2,  2396.1,2,  -999.0,5,-999.000,1,-999.000,-999.0000,1, -999.00,9, -999.00,9,  -999.0,9,  -999.0,-999.000,9,-999.000, 16087.7,   3.0896,-999.0000, -999.00
 316N145_14,       I02E,    1139,          1,         16,     SIH008,2,19951223,       1122,    -8.0000,    79.3333,       5446,  1798.0,   2.7063,  34.7473,2,  34.7486,2,    133.4,2,   132.6,2,  118.06,2,   35.00,2,    0.00,2,    2.52,2,-999.000,5,-999.000,5,  2304.5,2,  2398.2,2,  -999.0,5,-999.000,1,-999.000,-999.0000,1, -999.00,9, -999.00,9,  -999.0,9,  -999.0,-999.000,9,-999.000, 18110.9,   2.5764,-999.0000, -999.00
 316N145_14,       I02E,    1139,          1,         15,     SIH009,2,19951223,       1122,    -8.0000,    79.3333,       5446,  1999.5,   2.3958,  34.7465,2,  34.7467,2,    143.5,2,   142.0,2,  121.19,2,   34.54,2,    0.00,2,    2.48,2,-999.000,5,-999.000,5,  2305.5,2,  2402.9,2,  -999.0,5,-999.000,1,-999.000,-999.0000,1, -999.00,9, -999.00,9,  -999.0,9,  -999.0,-999.000,9,-999.000, 20126.8,   2.2530,-999.0000, -999.00
 316N145_14,       I02E,    1139,          1,         14,     SIH010,2,19951223,       1122,    -8.0000,    79.3333,       5446,  2252.4,   2.0740,  34.7391,2,  34.7392,2,    154.0,2,   153.9,2,  123.12,2,   34.32,2,    0.00,2,    2.43,2,-999.000,5,-999.000,5,  2300.1,2,  2402.3,2,  -999.0,5,-999.000,1,-999.000,-999.0000,1, -999.00,9, -999.00,9,  -999.0,9,  -999.0,-999.000,9,-999.000, 22656.9,   1.9143,-999.0000, -999.00
 316N145_14,       I02E,    1139,          1,         13,     SIH011,2,19951223,       1122,    -8.0000,    79.3333,       5446,  2494.9,   1.8894,  34.7339,2,  34.7343,2,    161.0,2,   159.9,2,  125.21,2,   34.03,2,    0.00,2,    2.41,2,   0.007,2,   0.001,2,  2299.6,2,  2409.3,2,  -999.0,5,-999.000,1,-999.000,-999.0000,1, -999.00,9, -999.00,9,  -999.0,9,  -999.0,-999.000,9,-999.000, 25083.1,   1.7113,-999.0000, -999.00
 316N145_14,       I02E,    1139,          1,         12,     SIH012,2,19951223,       1122,    -8.0000,    79.3333,       5446,  2738.7,   1.7418,  34.7307,2,  34.7315,2,    164.1,2,   164.1,2,  127.66,2,   33.92,2,    0.00,2,    2.38,2,-999.000,5,-999.000,5,  2299.3,2,  2408.8,2,  -999.0,5,-999.000,1,-999.000,-999.0000,1, -999.00,9, -999.00,9,  -999.0,9,  -999.0,-999.000,9,-999.000, 27522.2,   1.5442,-999.0000, -999.00
 316N145_14,       I02E,    1139,          1,         11,     SI9426,2,19951223,       1122,    -8.0000,    79.3333,       5446,  2992.4,   1.6318,  34.7269,2,  34.7282,2,    166.1,2,   165.1,2,  131.32,2,   33.81,2,    0.00,2,    2.39,2,-999.000,5,-999.000,5,  2303.1,2,  2413.8,2,  -999.0,5,-999.000,1,-999.000,-999.0000,1, -999.00,9, -999.00,9,  -999.0,9,  -999.0,-999.000,9,-999.000, 30060.5,   1.4126,-999.0000, -999.00
 316N145_14,       I02E,    1139,          1,         10,     SIH014,2,19951223,       1122,    -8.0000,    79.3333,       5446,  3247.1,   1.5342,  34.7248,2,  34.7252,2,    167.1,2,   166.9,2,  134.29,2,   33.92,2,    0.00,2,    2.38,2,-999.000,5,-999.000,5,  2306.0,2,  2424.3,3,  -999.0,5,-999.000,1,-999.000,-999.0000,1, -999.00,9, -999.00,9,  -999.0,9,  -999.0,-999.000,9,-999.000, 32608.9,   1.2924,-999.0000, -999.00
 316N145_14,       I02E,    1139,          1,          9,     SIH015,2,19951223,       1122,    -8.0000,    79.3333,       5446,  3490.4,   1.4620,  34.7217,2,  34.7225,2,    170.2,2,   169.0,2,  135.84,6,   33.81,6,    0.00,6,    2.38,6,-999.000,5,-999.000,5,  2307.0,2,  2420.0,2,  -999.0,5,-999.000,1,-999.000,-999.0000,1, -999.00,9, -999.00,9,  -999.0,9,  -999.0,-999.000,9,-999.000, 35042.1,   1.1976,-999.0000, -999.00
 316N145_14,       I02E,    1139,          1,          8,     SIH016,2,19951223,       1122,    -8.0000,    79.3333,       5446,  3745.0,   1.4155,  34.7199,2,  34.7207,2,    172.9,2,   172.2,2,  136.10,6,   33.81,6,    0.00,6,    2.36,6,-999.000,5,-999.000,5,  2303.3,2,  2421.9,2,  -999.0,5,-999.000,1,-999.000,-999.0000,1, -999.00,9, -999.00,9,  -999.0,9,  -999.0,-999.000,9,-999.000, 37589.5,   1.1259,-999.0000, -999.00
 316N145_14,       I02E,    1139,          1,          7,     SIH017,2,19951223,       1122,    -8.0000,    79.3333,       5446,  3989.7,   1.3929,  34.7179,2,  34.7190,2,    175.9,2,   175.0,2,  135.59,6,   33.75,6,    0.00,6,    2.35,6,   0.000,2,  -0.001,2,  2303.1,2,  2428.1,3,  -999.0,5,-999.000,1,-999.000,-999.0000,1, -999.00,9, -999.00,9,  -999.0,9,  -999.0,-999.000,9,-999.000, 40038.2,   1.0779,-999.0000, -999.00
 316N145_14,       I02E,    1139,          1,          6,     SIH018,2,19951223,       1122,    -8.0000,    79.3333,       5446,  4244.3,   1.3804,  34.7170,2,  34.7182,2,    179.3,2,   177.9,2,  134.99,6,   33.47,6,    0.00,6,    2.34,6,-999.000,5,-999.000,5,  2300.4,2,  2413.1,2,  -999.0,5,-999.000,1,-999.000,-999.0000,1, -999.00,9, -999.00,9,  -999.0,9,  -999.0,-999.000,9,-999.000, 42584.2,   1.0378,-999.0000, -999.00
 316N145_14,       I02E,    1139,          1,          5,     SIH002,2,19951223,       1122,    -8.0000,    79.3333,       5446,  4489.2,   1.3843,  34.7162,2,  34.7184,2,    180.4,2,   179.4,2,  134.56,6,   33.35,6,    0.00,6,    2.33,6,-999.000,5,-999.000,5,  2298.5,2,  2415.4,2,  -999.0,5,-999.000,1,-999.000,-999.0000,1, -999.00,9, -999.00,9,  -999.0,9,  -999.0,-999.000,9,-999.000, 45035.3,   1.0139,-999.0000, -999.00
 316N145_14,       I02E,    1139,          1,          4,     SIH020,2,19951223,       1122,    -8.0000,    79.3333,       5446,  4739.6,   1.3918,  34.7162,2,  34.7174,2,    182.1,2,   181.0,2,  133.61,6,   33.35,6,    0.00,6,    2.32,6,-999.000,5,-999.000,5,  2296.2,2,  2411.9,2,  -999.0,5,-999.000,1,-999.000,-999.0000,1, -999.00,9, -999.00,9,  -999.0,9,  -999.0,-999.000,9,-999.000, 47539.3,   0.9921,-999.0000, -999.00
 316N145_14,       I02E,    1139,          1,          3,     SIH021,2,19951223,       1122,    -8.0000,    79.3333,       5446,  4995.3,   1.4064,  34.7155,2,  34.7174,2,    184.1,2,   182.3,2,  133.18,6,   33.12,6,    0.00,6,    2.32,6,-999.000,5,-999.000,5,  2294.9,2,  2420.7,3,  -999.0,5,-999.000,1,-999.000,-999.0000,1, -999.00,9, -999.00,9,  -999.0,9,  -999.0,-999.000,9,-999.000, 50098.0,   0.9757,-999.0000, -999.00
 316N145_14,       I02E,    1139,          1,          2,     SIH022,2,19951223,       1122,    -8.0000,    79.3333,       5446,  5292.3,   1.4317,  34.7152,2,  34.7213,3,    185.4,2,   183.4,2,  132.61,2,   33.30,2,    0.00,2,    2.32,2,   0.000,2,  -0.001,2,  2293.9,2,  2410.3,2,  -999.0,5,-999.000,1,-999.000,-999.0000,1, -999.00,9, -999.00,9,  -999.0,9,  -999.0,-999.000,9,-999.000, 53069.0,   0.9636,-999.0000, -999.00
 316N145_14,       I02E,    1139,          1,          1,     SIH023,2,19951223,       1122,    -8.0000,    79.3333,       5446,  5579.2,   1.4599,  34.7139,2,  34.7166,2,    185.1,2,   184.6,2,  131.89,6,   33.13,6,    0.00,6,    2.31,6,   0.002,2,   0.002,2,  2292.6,2,  2409.6,2,  -999.0,5,-999.000,1,-999.000,-999.0000,1, -999.00,9, -999.00,9,  -999.0,9,  -999.0,-999.000,9,-999.000, 55939.4,   0.9545,-999.0000, -999.00