BOTTLE,20220829CCHSIOAMB
EXPOCODE,SECT_ID,STNNBR,CASTNO,SAMPNO,BTLNBR,BTLNBR_FLAG_W,DATE,TIME,LATITUDE,LONGITUDE,DEPTH,CTDPRS,CTDTMP,CTDSAL,CTDSAL_FLAG_W,SALNTY,SALNTY_FLAG_W,CTDOXY,CTDOXY_FLAG_W,OXYGEN,OXYGEN_FLAG_W,SILCAT,SILCAT_FLAG_W,NITRAT,NITRAT_FLAG_W,NITRIT,NITRIT_FLAG_W,PHSPHT,PHSPHT_FLAG_W,CFC-11,CFC-11_FLAG_W,CFC-12,CFC-12_FLAG_W,TCARBN,TCARBN_FLAG_W,ALKALI,ALKALI_FLAG_W,PCO2,PCO2_FLAG_W,TRITUM,TRITUM_FLAG_W,TRITER,HELIUM,HELIUM_FLAG_W,DELHE3,DELHE3_FLAG_W,DELC13,DELC13_FLAG_W,DELC14,DELC14_FLAG_W,C14ERR,NEON,NEON_FLAG_W,NEONER,CTDRAW,THETA,HELIER,DELHER
,,,,,,,,,,,METERS,DBAR,ITS-90,PSS-78,,PSS-78,,UMOL/KG,,UMOL/KG,,UMOL/KG,,UMOL/KG,,UMOL/KG,,UMOL/KG,,PMOL/KG,,PMOL/KG,,UMOL/KG,,UMOL/KG,,UATM,,TU,,TU,NMOL/KG,,PERCNT,,/MILLE,,/MILLE,,/MILLE,NMOL/KG,,NMOL/KG,DBAR,DEG C,NMOL/KG,PERCNT
 316N145_14,       I02E,    1146,          1,         36,     SIH024,2,19951225,       1415,    -8.0000,    74.6653,       5057,    12.3,  28.5177,  34.0932,2,  34.1168,2,    198.3,2,   210.1,2,    2.90,2,    0.20,2,    0.00,2,    0.11,3,   1.619,2,   0.937,2,  1892.7,2,  2238.1,2,  -999.0,5,-999.000,1,-999.000,-999.0000,1, -999.00,9, -999.00,9,  -999.0,9,  -999.0,-999.000,9,-999.000,   263.5,  28.5147,-999.0000, -999.00
 316N145_14,       I02E,    1146,          1,         35,     SIH003,3,19951225,       1415,    -8.0000,    74.6653,       5057,    27.8,  26.4578,  35.0614,2,  35.0667,2,    210.5,2,   212.6,2,    4.10,2,    0.20,2,    0.00,2,    0.23,3,   1.695,2,   0.968,2,  1971.2,2,  2304.8,2,  -999.0,5,-999.000,1,-999.000,-999.0000,1, -999.00,9, -999.00,9,  -999.0,9,  -999.0,-999.000,9,-999.000,   415.1,  26.4516,-999.0000, -999.00
 316N145_14,       I02E,    1146,          1,         34,     SIH026,2,19951225,       1415,    -8.0000,    74.6653,       5057,    57.7,  22.7038,  35.2481,2,  35.2704,2,    143.3,2,   135.9,2,    8.76,2,   10.26,2,    0.47,2,    0.88,3,   1.566,2,   0.857,2,  2071.0,2,  2314.4,2,  -999.0,5,-999.000,1,-999.000,-999.0000,1, -999.00,9, -999.00,9,  -999.0,9,  -999.0,-999.000,9,-999.000,   708.4,  22.6922,-999.0000, -999.00
 316N145_14,       I02E,    1146,          1,         33,     SIH027,3,19951225,       1415,    -8.0000,    74.6653,       5057,    97.9,  19.7589,  35.2371,2,  35.2312,2,    109.7,2,   102.4,2,   12.91,2,   16.10,2,    0.05,2,    1.19,3,-999.000,5,-999.000,5,  -999.0,9,  -999.0,9,  -999.0,5,-999.000,1,-999.000,-999.0000,1, -999.00,9, -999.00,9,  -999.0,9,  -999.0,-999.000,9,-999.000,  1105.5,  19.7409,-999.0000, -999.00
 316N145_14,       I02E,    1146,          1,         32,     SIH028,2,19951225,       1415,    -8.0000,    74.6653,       5057,   147.1,  15.4717,  35.0737,2,  35.0663,2,     89.2,2,    85.6,2,   20.85,2,   21.52,2,    0.01,2,    1.53,3,   1.134,2,   0.591,2,  -999.0,9,  -999.0,9,  -999.0,5,-999.000,1,-999.000,-999.0000,1, -999.00,9, -999.00,9,  -999.0,9,  -999.0,-999.000,9,-999.000,  1596.6,  15.4490,-999.0000, -999.00
 316N145_14,       I02E,    1146,          1,         31,     SIH029,2,19951225,       1415,    -8.0000,    74.6653,       5057,   197.9,  13.0919,  34.9884,2,  34.9933,2,     71.4,2,    80.3,2,   24.48,2,   24.92,2,    0.01,2,    1.74,3,   0.783,2,   0.409,2,  -999.0,9,  -999.0,9,  -999.0,5,-999.000,1,-999.000,-999.0000,1, -999.00,9, -999.00,9,  -999.0,9,  -999.0,-999.000,9,-999.000,  2103.9,  13.0645,-999.0000, -999.00
 316N145_14,       I02E,    1146,          1,         30,     SIH030,2,19951225,       1415,    -8.0000,    74.6653,       5057,   248.3,  11.9237,  34.9702,2,  34.9693,2,     85.5,2,    87.0,2,   24.66,2,   25.92,2,    0.01,2,    1.78,3,   0.671,2,   0.341,2,  -999.0,9,  -999.0,9,  -999.0,5,-999.000,1,-999.000,-999.0000,1, -999.00,9, -999.00,9,  -999.0,9,  -999.0,-999.000,9,-999.000,  2608.0,  11.8914,-999.0000, -999.00
 316N145_14,       I02E,    1146,          1,         29,     SIH007,2,19951225,       1415,    -8.0000,    74.6653,       5057,   298.1,  10.9933,  34.9244,2,  34.9239,2,    101.5,2,    98.6,2,   24.82,2,   26.13,2,    0.00,2,    1.80,3,   0.630,2,   0.322,2,  -999.0,9,  -999.0,9,  -999.0,5,-999.000,1,-999.000,-999.0000,1, -999.00,9, -999.00,9,  -999.0,9,  -999.0,-999.000,9,-999.000,  3105.8,  10.9564,-999.0000, -999.00
 316N145_14,       I02E,    1146,          1,         28,     SI9439,2,19951225,       1415,    -8.0000,    74.6653,       5057,   348.3,  10.4102,  34.8923,2,  34.8916,2,     94.4,2,    91.8,2,   27.59,2,   27.96,2,    0.00,2,    1.93,3,   0.426,6,   0.219,6,  -999.0,9,  -999.0,9,  -999.0,5,-999.000,1,-999.000,-999.0000,1, -999.00,9, -999.00,9,  -999.0,9,  -999.0,-999.000,9,-999.000,  3608.7,  10.3685,-999.0000, -999.00
 316N145_14,       I02E,    1146,          1,         27,     SIH033,2,19951225,       1415,    -8.0000,    74.6653,       5057,   397.8,   9.9247,  34.8663,2,  34.8648,2,     87.5,2,    88.8,2,   30.35,2,   29.32,2,    0.00,2,    1.99,3,   0.295,2,   0.157,2,  -999.0,9,  -999.0,9,  -999.0,5,-999.000,1,-999.000,-999.0000,1, -999.00,9, -999.00,9,  -999.0,9,  -999.0,-999.000,9,-999.000,  4103.5,   9.8784,-999.0000, -999.00
 316N145_14,       I02E,    1146,          1,         26,     SIH037,2,19951225,       1415,    -8.0000,    74.6653,       5057,   497.9,   9.0113,  34.8354,2,  34.8346,2,     82.2,2,    83.0,2,   39.85,2,   31.51,2,    0.00,2,    2.20,3,   0.142,2,   0.071,2,  -999.0,9,  -999.0,9,  -999.0,5,-999.000,1,-999.000,-999.0000,1, -999.00,9, -999.00,9,  -999.0,9,  -999.0,-999.000,9,-999.000,  5105.9,   8.9564,-999.0000, -999.00
 316N145_14,       I02E,    1146,          1,         25,     SI9446,2,19951225,       1415,    -8.0000,    74.6653,       5057,   598.5,   8.3710,  34.8187,2,  34.8178,2,     80.1,2,    79.1,2,   49.01,2,   32.87,2,    0.00,2,    2.35,3,   0.093,2,   0.050,2,  -999.0,9,  -999.0,9,  -999.0,5,-999.000,1,-999.000,-999.0000,1, -999.00,9, -999.00,9,  -999.0,9,  -999.0,-999.000,9,-999.000,  6112.0,   8.3074,-999.0000, -999.00
 316N145_14,       I02E,    1146,          1,         24,     SIH036,2,19951225,       1415,    -8.0000,    74.6653,       5057,   699.1,   7.7907,  34.8148,2,  34.8139,2,     68.7,2,    69.1,2,   59.72,2,   34.55,2,    0.00,2,    2.50,3,   0.039,2,   0.021,2,  -999.0,9,  -999.0,9,  -999.0,5,-999.000,1,-999.000,-999.0000,1, -999.00,9, -999.00,9,  -999.0,9,  -999.0,-999.000,9,-999.000,  7118.4,   7.7190,-999.0000, -999.00
 316N145_14,       I02E,    1146,          1,         23,     SIH001,2,19951225,       1415,    -8.0000,    74.6653,       5057,   799.2,   6.8559,  34.7763,2,  34.7781,2,     68.0,2,    68.5,2,   74.77,2,   35.70,2,    0.00,2,    2.62,3,   0.014,2,   0.011,2,  -999.0,9,  -999.0,9,  -999.0,5,-999.000,1,-999.000,-999.0000,1, -999.00,9, -999.00,9,  -999.0,9,  -999.0,-999.000,9,-999.000,  8118.8,   6.7789,-999.0000, -999.00
 316N145_14,       I02E,    1146,          1,         22,     SIH019,2,19951225,       1415,    -8.0000,    74.6653,       5057,   899.3,   6.0818,  34.7431,2,  34.7408,2,     72.2,2,    73.8,2,   86.35,2,   36.33,2,    0.00,2,    2.66,3,   0.006,2,   0.003,2,  -999.0,9,  -999.0,9,  -999.0,5,-999.000,1,-999.000,-999.0000,1, -999.00,9, -999.00,9,  -999.0,9,  -999.0,-999.000,9,-999.000,  9119.8,   5.9999,-999.0000, -999.00
 316N145_14,       I02E,    1146,          1,         21,     SIH013,2,19951225,       1415,    -8.0000,    74.6653,       5057,  1000.2,   5.4531,  34.7192,2,  34.7199,2,     78.1,2,    78.7,2,   94.30,2,   36.64,2,    0.00,2,    2.67,3,   0.005,2,   0.000,2,  -999.0,9,  -999.0,9,  -999.0,5,-999.000,1,-999.000,-999.0000,1, -999.00,9, -999.00,9,  -999.0,9,  -999.0,-999.000,9,-999.000, 10130.0,   5.3660,-999.0000, -999.00
 316N145_14,       I02E,    1146,          1,         20,     SIH004,2,19951225,       1415,    -8.0000,    74.6653,       5057,  1100.6,   5.0491,  34.7184,2,  34.7178,2,     81.6,2,    83.5,2,   99.83,2,   36.76,2,    0.00,2,    2.69,3,   0.008,2,   0.004,2,  -999.0,9,  -999.0,9,  -999.0,5,-999.000,1,-999.000,-999.0000,1, -999.00,9, -999.00,9,  -999.0,9,  -999.0,-999.000,9,-999.000, 11134.8,   4.9558,-999.0000, -999.00
 316N145_14,       I02E,    1146,          1,         19,     SIH005,2,19951225,       1415,    -8.0000,    74.6653,       5057,  1190.4,   4.7678,  34.7407,2,  34.7408,2,     87.5,2,    86.6,2,  102.08,2,   36.60,2,    0.00,2,    2.69,3,   0.003,2,   0.003,2,  -999.0,9,  -999.0,9,  -999.0,5,-999.000,1,-999.000,-999.0000,1, -999.00,9, -999.00,9,  -999.0,9,  -999.0,-999.000,9,-999.000, 12032.9,   4.6686,-999.0000, -999.00
 316N145_14,       I02E,    1146,          1,         18,     SIH006,2,19951225,       1415,    -8.0000,    74.6653,       5057,  1292.0,   4.3958,  34.7426,2,  34.7435,2,     93.0,2,    93.1,2,  104.68,3,   36.60,2,    0.00,2,    2.67,3,   0.006,2,   0.000,2,  -999.0,9,  -999.0,9,  -999.0,5,-999.000,1,-999.000,-999.0000,1, -999.00,9, -999.00,9,  -999.0,9,  -999.0,-999.000,9,-999.000, 13048.7,   4.2909,-999.0000, -999.00
 316N145_14,       I02E,    1146,          1,         17,     SIH038,2,19951225,       1415,    -8.0000,    74.6653,       5057,  1391.8,   4.0726,  34.7520,2,  34.7514,2,    101.4,2,    99.6,2,  106.75,3,   36.55,2,    0.00,2,    2.66,3,-999.000,5,-999.000,5,  -999.0,9,  -999.0,9,  -999.0,5,-999.000,1,-999.000,-999.0000,1, -999.00,9, -999.00,9,  -999.0,9,  -999.0,-999.000,9,-999.000, 14047.1,   3.9619,-999.0000, -999.00
 316N145_14,       I02E,    1146,          1,         16,     SIH008,2,19951225,       1415,    -8.0000,    74.6653,       5057,  1594.7,   3.3316,  34.7589,2,  34.7587,2,    115.9,2,   117.0,2,  112.97,3,   35.83,2,    0.00,2,    2.61,3,-999.000,5,-999.000,5,  -999.0,9,  -999.0,9,  -999.0,5,-999.000,1,-999.000,-999.0000,1, -999.00,9, -999.00,9,  -999.0,9,  -999.0,-999.000,9,-999.000, 16077.0,   3.2113,-999.0000, -999.00
 316N145_14,       I02E,    1146,          1,         15,     SIH009,2,19951225,       1415,    -8.0000,    74.6653,       5057,  1795.7,   2.8716,  34.7597,2,  34.7592,2,    129.6,2,   129.5,2,  117.29,3,   35.30,2,    0.00,2,    2.54,3,-999.000,5,-999.000,5,  -999.0,9,  -999.0,9,  -999.0,5,-999.000,1,-999.000,-999.0000,1, -999.00,9, -999.00,9,  -999.0,9,  -999.0,-999.000,9,-999.000, 18088.3,   2.7397,-999.0000, -999.00
 316N145_14,       I02E,    1146,          1,         14,     SIH010,2,19951225,       1415,    -8.0000,    74.6653,       5057,  1997.9,   2.5070,  34.7509,2,  34.7510,2,    141.0,2,   139.0,2,  120.75,3,   35.06,2,    0.00,2,    2.50,3,-999.000,5,-999.000,5,  -999.0,9,  -999.0,9,  -999.0,5,-999.000,1,-999.000,-999.0000,1, -999.00,9, -999.00,9,  -999.0,9,  -999.0,-999.000,9,-999.000, 20110.5,   2.3627,-999.0000, -999.00
 316N145_14,       I02E,    1146,          1,         13,     SIH011,2,19951225,       1415,    -8.0000,    74.6653,       5057,  2240.6,   2.2374,  34.7465,2,  34.7463,2,    147.7,2,   146.9,2,  124.39,3,   34.64,2,    0.00,2,    2.47,3,   0.002,2,  -0.001,2,  -999.0,9,  -999.0,9,  -999.0,5,-999.000,1,-999.000,-999.0000,1, -999.00,9, -999.00,9,  -999.0,9,  -999.0,-999.000,9,-999.000, 22538.8,   2.0759,-999.0000, -999.00
 316N145_14,       I02E,    1146,          1,         12,     SIH012,2,19951225,       1415,    -8.0000,    74.6653,       5057,  2493.4,   2.0182,  34.7401,2,  34.7402,2,    156.0,2,   154.1,2,  126.29,3,   34.54,2,    0.00,2,    2.43,3,-999.000,5,-999.000,5,  -999.0,9,  -999.0,9,  -999.0,5,-999.000,1,-999.000,-999.0000,1, -999.00,9, -999.00,9,  -999.0,9,  -999.0,-999.000,9,-999.000, 25067.8,   1.8378,-999.0000, -999.00
 316N145_14,       I02E,    1146,          1,         11,     SI9426,2,19951225,       1415,    -8.0000,    74.6653,       5057,  2736.0,   1.8534,  34.7340,2,  34.7347,2,    159.9,2,   159.8,2,  128.02,3,   34.07,2,    0.00,2,    2.42,3,-999.000,5,-999.000,5,  -999.0,9,  -999.0,9,  -999.0,5,-999.000,1,-999.000,-999.0000,1, -999.00,9, -999.00,9,  -999.0,9,  -999.0,-999.000,9,-999.000, 27494.7,   1.6537,-999.0000, -999.00
 316N145_14,       I02E,    1146,          1,         10,     SIH014,2,19951225,       1415,    -8.0000,    74.6653,       5057,  2989.1,   1.7514,  34.7307,2,  34.7311,2,    163.0,2,   161.7,2,  130.62,3,   34.34,2,    0.00,2,    2.40,3,-999.000,5,-999.000,5,  -999.0,9,  -999.0,9,  -999.0,5,-999.000,1,-999.000,-999.0000,1, -999.00,9, -999.00,9,  -999.0,9,  -999.0,-999.000,9,-999.000, 30027.7,   1.5298,-999.0000, -999.00
 316N145_14,       I02E,    1146,          1,          9,     SIH015,2,19951225,       1415,    -8.0000,    74.6653,       5057,  3243.8,   1.5989,  34.7257,2,  34.7260,2,    167.9,2,   167.5,2,  132.69,3,   33.97,2,    0.00,2,    2.39,3,-999.000,5,-999.000,5,  -999.0,9,  -999.0,9,  -999.0,5,-999.000,1,-999.000,-999.0000,1, -999.00,9, -999.00,9,  -999.0,9,  -999.0,-999.000,9,-999.000, 32575.7,   1.3559,-999.0000, -999.00
 316N145_14,       I02E,    1146,          1,          8,     SIH016,2,19951225,       1415,    -8.0000,    74.6653,       5057,  3498.7,   1.4749,  34.7224,2,  34.7225,2,    169.1,2,   168.8,2,  136.67,3,   34.24,2,    0.00,2,    2.39,3,   0.000,2,  -0.001,2,  -999.0,9,  -999.0,9,  -999.0,5,-999.000,1,-999.000,-999.0000,1, -999.00,9, -999.00,9,  -999.0,9,  -999.0,-999.000,9,-999.000, 35125.4,   1.2093,-999.0000, -999.00
 316N145_14,       I02E,    1146,          1,          7,     SIH017,2,19951225,       1415,    -8.0000,    74.6653,       5057,  3742.8,   1.4084,  34.7198,2,  34.7207,2,    173.2,2,   172.9,2,  136.50,3,   34.03,2,    0.00,2,    2.38,3,-999.000,5,-999.000,5,  -999.0,9,  -999.0,9,  -999.0,5,-999.000,1,-999.000,-999.0000,1, -999.00,9, -999.00,9,  -999.0,9,  -999.0,-999.000,9,-999.000, 37566.9,   1.1192,-999.0000, -999.00
 316N145_14,       I02E,    1146,          1,          6,     SIH018,2,19951225,       1415,    -8.0000,    74.6653,       5057,  3996.8,   1.3557,  34.7177,2,  34.7182,2,    179.0,2,   178.1,2,  135.81,3,   33.83,2,    0.00,2,    2.35,3,-999.000,5,-999.000,5,  -999.0,9,  -999.0,9,  -999.0,5,-999.000,1,-999.000,-999.0000,1, -999.00,9, -999.00,9,  -999.0,9,  -999.0,-999.000,9,-999.000, 40108.5,   1.0410,-999.0000, -999.00
 316N145_14,       I02E,    1146,          1,          5,     SIH002,2,19951225,       1415,    -8.0000,    74.6653,       5057,  4237.1,   1.3599,  34.7174,2,  34.7174,2,    179.6,2,   179.7,2,  135.29,3,   33.61,2,    0.00,2,    2.35,3,-999.000,5,-999.000,5,  -999.0,9,  -999.0,9,  -999.0,5,-999.000,1,-999.000,-999.0000,1, -999.00,9, -999.00,9,  -999.0,9,  -999.0,-999.000,9,-999.000, 42511.7,   1.0187,-999.0000, -999.00
 316N145_14,       I02E,    1146,          1,          4,     SIH020,2,19951225,       1415,    -8.0000,    74.6653,       5057,  4491.8,   1.3634,  34.7169,2,  34.7176,2,    181.7,2,   181.2,2,  134.43,3,   33.57,2,    0.00,2,    2.34,3,-999.000,5,-999.000,5,  -999.0,9,  -999.0,9,  -999.0,5,-999.000,1,-999.000,-999.0000,1, -999.00,9, -999.00,9,  -999.0,9,  -999.0,-999.000,9,-999.000, 45060.5,   0.9934,-999.0000, -999.00
 316N145_14,       I02E,    1146,          1,          3,     SIH021,2,19951225,       1415,    -8.0000,    74.6653,       5057,  4746.9,   1.3801,  34.7171,2,  34.7168,2,    182.0,2,   182.2,2,  134.09,3,   33.68,2,    0.00,2,    2.33,3,   0.001,2,   0.002,2,  -999.0,9,  -999.0,9,  -999.0,5,-999.000,1,-999.000,-999.0000,1, -999.00,9, -999.00,9,  -999.0,9,  -999.0,-999.000,9,-999.000, 47611.7,   0.9799,-999.0000, -999.00
 316N145_14,       I02E,    1146,          1,          2,     SIH022,2,19951225,       1415,    -8.0000,    74.6653,       5057,  4996.9,   1.4104,  34.7160,2,  34.7164,2,    183.0,2,   183.1,2,  133.91,3,   33.48,2,    0.00,2,    2.34,3,-999.000,5,-999.000,5,  -999.0,9,  2411.9,2,  -999.0,5,-999.000,1,-999.000,-999.0000,1, -999.00,9, -999.00,9,  -999.0,9,  -999.0,-999.000,9,-999.000, 50113.3,   0.9793,-999.0000, -999.00
 316N145_14,       I02E,    1146,          1,          1,     SIH023,2,19951225,       1415,    -8.0000,    74.6653,       5057,  5170.9,   1.4314,  34.7164,2,  34.7178,2,    181.1,2,   182.5,2,  134.11,3,   33.43,6,    0.00,6,    2.33,3,   0.005,2,   0.002,2,  -999.0,9,  -999.0,9,  -999.0,5,-999.000,1,-999.000,-999.0000,1, -999.00,9, -999.00,9,  -999.0,9,  -999.0,-999.000,9,-999.000, 51857.0,   0.9783,-999.0000, -999.00