BOTTLE,20220829CCHSIOAMB
EXPOCODE,SECT_ID,STNNBR,CASTNO,SAMPNO,BTLNBR,BTLNBR_FLAG_W,DATE,TIME,LATITUDE,LONGITUDE,DEPTH,CTDPRS,CTDTMP,CTDSAL,CTDSAL_FLAG_W,SALNTY,SALNTY_FLAG_W,CTDOXY,CTDOXY_FLAG_W,OXYGEN,OXYGEN_FLAG_W,SILCAT,SILCAT_FLAG_W,NITRAT,NITRAT_FLAG_W,NITRIT,NITRIT_FLAG_W,PHSPHT,PHSPHT_FLAG_W,CFC-11,CFC-11_FLAG_W,CFC-12,CFC-12_FLAG_W,TCARBN,TCARBN_FLAG_W,ALKALI,ALKALI_FLAG_W,PCO2,PCO2_FLAG_W,TRITUM,TRITUM_FLAG_W,TRITER,HELIUM,HELIUM_FLAG_W,DELHE3,DELHE3_FLAG_W,DELC13,DELC13_FLAG_W,DELC14,DELC14_FLAG_W,C14ERR,NEON,NEON_FLAG_W,NEONER,CTDRAW,THETA,HELIER,DELHER
,,,,,,,,,,,METERS,DBAR,ITS-90,PSS-78,,PSS-78,,UMOL/KG,,UMOL/KG,,UMOL/KG,,UMOL/KG,,UMOL/KG,,UMOL/KG,,PMOL/KG,,PMOL/KG,,UMOL/KG,,UMOL/KG,,UATM,,TU,,TU,NMOL/KG,,PERCNT,,/MILLE,,/MILLE,,/MILLE,NMOL/KG,,NMOL/KG,DBAR,DEG C,NMOL/KG,PERCNT
 316N145_14,       I02E,    1088,          1,         36,     SIH024,2,19951208,       0907,    -8.3750,    99.3333,       5560,    11.8,  28.4113,  33.7595,2,  33.7662,2,    199.8,2,   209.4,2,    3.09,2,    0.11,2,    0.00,2,    0.08,2,   1.624,2,   0.942,2,  1876.2,2,  2210.1,2,  -999.0,5,-999.000,1,-999.000,-999.0000,1, -999.00,9, -999.00,9,  -999.0,9,  -999.0,-999.000,9,-999.000,   264.2,  28.4085,-999.0000, -999.00
 316N145_14,       I02E,    1088,          1,         35,     SIH003,2,19951208,       0907,    -8.3750,    99.3333,       5560,    28.6,  28.2058,  33.8681,2,  33.8713,2,    201.7,2,   214.1,2,    3.34,2,    0.15,2,    0.00,2,    0.09,2,   1.629,2,   0.968,2,  1881.2,2,  2217.7,2,  -999.0,5,-999.000,1,-999.000,-999.0000,1, -999.00,9, -999.00,9,  -999.0,9,  -999.0,-999.000,9,-999.000,   426.5,  28.1991,-999.0000, -999.00
 316N145_14,       I02E,    1088,          1,         34,     SIH026,2,19951208,       0907,    -8.3750,    99.3333,       5560,    58.3,  26.3983,  34.5214,2,  34.5066,2,    206.3,2,   191.5,2,    5.19,2,    0.30,2,    0.00,2,    0.25,2,   1.637,2,   0.955,2,  1963.3,2,  2260.4,2,  -999.0,5,-999.000,1,-999.000,-999.0000,1, -999.00,9, -999.00,9,  -999.0,9,  -999.0,-999.000,9,-999.000,   714.3,  26.3851,-999.0000, -999.00
 316N145_14,       I02E,    1088,          1,         33,     SIH027,2,19951208,       0907,    -8.3750,    99.3333,       5560,    98.9,  20.5398,  34.8726,2,  34.8489,3,     85.7,2,    86.6,2,   17.41,2,   17.55,2,    0.07,2,    1.26,2,   1.339,2,   0.750,2,  2107.5,2,  2291.3,2,  -999.0,5,-999.000,1,-999.000,-999.0000,1, -999.00,9, -999.00,9,  -999.0,9,  -999.0,-999.000,9,-999.000,  1116.2,  20.5212,-999.0000, -999.00
 316N145_14,       I02E,    1088,          1,         32,     SIH028,2,19951208,       0907,    -8.3750,    99.3333,       5560,   149.1,  14.7547,  34.7296,2,  34.7545,3,     71.3,2,    74.7,2,   30.45,2,   24.43,2,    0.01,2,    1.71,2,   0.882,6,   0.473,6,  2170.3,2,  2299.9,2,  -999.0,5,-999.000,1,-999.000,-999.0000,1, -999.00,9, -999.00,9,  -999.0,9,  -999.0,-999.000,9,-999.000,  1616.9,  14.7324,-999.0000, -999.00
 316N145_14,       I02E,    1088,          1,         31,     SIH029,2,19951208,       0907,    -8.3750,    99.3333,       5560,   198.8,  13.4142,  34.8966,2,  34.8973,2,     56.1,2,    59.4,2,   28.91,2,   26.98,2,    0.00,2,    1.87,2,   0.645,2,   0.350,2,  2194.5,2,  2308.9,2,  -999.0,5,-999.000,1,-999.000,-999.0000,1, -999.00,9, -999.00,9,  -999.0,9,  -999.0,-999.000,9,-999.000,  2113.8,  13.3863,-999.0000, -999.00
 316N145_14,       I02E,    1088,          1,         30,     SIH030,2,19951208,       0907,    -8.3750,    99.3333,       5560,   249.5,  12.3565,  34.9069,2,  34.9056,2,     59.7,2,    59.8,2,   29.97,2,   28.26,2,    0.00,2,    1.93,2,   0.446,2,   0.245,2,  2205.3,2,  2308.4,2,  -999.0,5,-999.000,1,-999.000,-999.0000,1, -999.00,9, -999.00,9,  -999.0,9,  -999.0,-999.000,9,-999.000,  2620.1,  12.3233,-999.0000, -999.00
 316N145_14,       I02E,    1088,          1,         29,     SIH031,2,19951208,       0907,    -8.3750,    99.3333,       5560,   298.6,  11.3425,  34.8939,2,  34.8953,2,     59.2,2,    60.9,2,   31.84,2,   29.35,2,    0.00,2,    1.98,2,   0.325,2,   0.181,2,  2213.5,2,  2311.1,2,  -999.0,5,-999.000,1,-999.000,-999.0000,1, -999.00,9, -999.00,9,  -999.0,9,  -999.0,-999.000,9,-999.000,  3112.2,  11.3048,-999.0000, -999.00
 316N145_14,       I02E,    1088,          1,         28,     SIH032,2,19951208,       0907,    -8.3750,    99.3333,       5560,   349.1,  10.7502,  34.8880,2,  34.8859,2,     60.4,2,    62.1,2,   33.56,2,   30.42,2,    0.00,2,    2.03,2,-999.000,5,-999.000,5,  2220.3,2,  2310.8,2,  -999.0,5,-999.000,1,-999.000,-999.0000,1, -999.00,9, -999.00,9,  -999.0,9,  -999.0,-999.000,9,-999.000,  3616.7,  10.7076,-999.0000, -999.00
 316N145_14,       I02E,    1088,          1,         27,     SIH033,2,19951208,       0907,    -8.3750,    99.3333,       5560,   399.5,  10.1395,  34.8703,2,  34.8692,2,     65.8,2,    66.9,2,   36.08,2,   31.19,2,    0.00,2,    2.09,2,   0.177,2,   0.102,2,  2223.4,2,  2319.7,2,  -999.0,5,-999.000,1,-999.000,-999.0000,1, -999.00,9, -999.00,9,  -999.0,9,  -999.0,-999.000,9,-999.000,  4121.0,  10.0923,-999.0000, -999.00
 316N145_14,       I02E,    1088,          1,         26,     SIH037,2,19951208,       0907,    -8.3750,    99.3333,       5560,   499.7,   8.9981,  34.8342,2,  34.8308,2,     70.4,2,    64.9,2,   45.75,2,   33.30,2,    0.00,2,    2.29,2,   0.069,2,   0.046,2,  2241.2,2,  2322.6,2,  -999.0,5,-999.000,1,-999.000,-999.0000,1, -999.00,9, -999.00,9,  -999.0,9,  -999.0,-999.000,9,-999.000,  5123.5,   8.9430,-999.0000, -999.00
 316N145_14,       I02E,    1088,          1,         25,     SI9446,2,19951208,       0907,    -8.3750,    99.3333,       5560,   600.0,   8.2483,  34.8097,2,  34.8080,2,     63.1,2,    61.5,2,   56.55,2,   34.73,2,    0.00,2,    2.44,2,   0.036,2,   0.024,2,  2257.4,2,  2333.8,2,  -999.0,5,-999.000,1,-999.000,-999.0000,1, -999.00,9, -999.00,9,  -999.0,9,  -999.0,-999.000,9,-999.000,  6125.8,   8.1851,-999.0000, -999.00
 316N145_14,       I02E,    1088,          1,         24,     SIH036,2,19951208,       0907,    -8.3750,    99.3333,       5560,   700.0,   7.6203,  34.7907,2,  34.7899,2,     60.9,2,    60.7,2,   66.22,2,   35.70,2,    0.00,2,    2.52,2,   0.023,2,   0.014,2,  2270.2,2,  2342.0,2,  -999.0,5,-999.000,1,-999.000,-999.0000,1, -999.00,9, -999.00,9,  -999.0,9,  -999.0,-999.000,9,-999.000,  7127.2,   7.5493,-999.0000, -999.00
 316N145_14,       I02E,    1088,          1,         23,     SIH001,2,19951208,       0907,    -8.3750,    99.3333,       5560,   800.4,   6.8391,  34.7379,2,  34.7372,2,     66.5,2,    66.4,2,   76.40,2,   36.31,2,    0.00,2,    2.56,2,   0.015,2,   0.012,2,  2280.1,2,  2352.0,2,  -999.0,5,-999.000,1,-999.000,-999.0000,1, -999.00,9, -999.00,9,  -999.0,9,  -999.0,-999.000,9,-999.000,  8130.7,   6.7621,-999.0000, -999.00
 316N145_14,       I02E,    1088,          1,         22,     SIH019,2,19951208,       0907,    -8.3750,    99.3333,       5560,   896.6,   5.9709,  34.6953,2,  34.6950,2,     73.6,2,    75.0,2,   87.89,2,   36.56,2,    0.00,2,    2.59,2,   0.018,2,   0.012,2,  2289.6,2,  2361.8,2,  -999.0,5,-999.000,1,-999.000,-999.0000,1, -999.00,9, -999.00,9,  -999.0,9,  -999.0,-999.000,9,-999.000,  9092.8,   5.8900,-999.0000, -999.00
 316N145_14,       I02E,    1088,          1,         21,     SIH025,2,19951208,       0907,    -8.3750,    99.3333,       5560,   996.8,   5.6167,  34.6992,2,  34.6906,2,     77.9,2,    76.9,2,   92.55,2,   36.74,2,    0.00,2,    2.61,2,   0.013,6,   0.004,6,  2295.5,2,  2368.6,2,  -999.0,5,-999.000,1,-999.000,-999.0000,1, -999.00,9, -999.00,9,  -999.0,9,  -999.0,-999.000,9,-999.000, 10096.3,   5.5287,-999.0000, -999.00
 316N145_14,       I02E,    1088,          1,         20,     SIH004,2,19951208,       0907,    -8.3750,    99.3333,       5560,  1097.2,   5.1214,  34.6910,2,  34.6906,2,     83.8,2,    82.6,2,   99.16,2,   36.88,2,    0.00,2,    2.62,2,   0.009,2,   0.003,2,  2299.8,2,  2374.6,2,  -999.0,5,-999.000,1,-999.000,-999.0000,1, -999.00,9, -999.00,9,  -999.0,9,  -999.0,-999.000,9,-999.000, 11101.2,   5.0279,-999.0000, -999.00
 316N145_14,       I02E,    1088,          1,         19,     SIH005,2,19951208,       0907,    -8.3750,    99.3333,       5560,  1197.1,   4.8178,  34.7108,2,  34.7109,2,     85.3,2,    84.9,2,  102.21,2,   37.00,2,    0.00,2,    2.63,2,   0.007,2,   0.005,2,  2305.3,2,  2379.2,2,  -999.0,5,-999.000,1,-999.000,-999.0000,1, -999.00,9, -999.00,9,  -999.0,9,  -999.0,-999.000,9,-999.000, 12099.5,   4.7177,-999.0000, -999.00
 316N145_14,       I02E,    1088,          1,         18,     SIH006,2,19951208,       0907,    -8.3750,    99.3333,       5560,  1399.3,   4.1083,  34.7326,2,  34.7325,2,     96.3,2,    96.1,2,  107.72,6,   36.68,6,    0.00,6,    2.62,6,   0.006,6,   0.004,6,  2308.8,2,  2387.1,2,  -999.0,5,-999.000,1,-999.000,-999.0000,1, -999.00,9, -999.00,9,  -999.0,9,  -999.0,-999.000,9,-999.000, 14122.9,   3.9966,-999.0000, -999.00
 316N145_14,       I02E,    1088,          1,         17,     SIH038,2,19951208,       0907,    -8.3750,    99.3333,       5560,  1601.3,   3.5320,  34.7501,2,  34.7433,4,    109.6,2,   133.0,4,  117.88,4,   35.23,4,    0.00,4,    2.47,4,-999.000,5,-999.000,5,  2303.0,4,  2394.6,2,  -999.0,5,-999.000,1,-999.000,-999.0000,1, -999.00,9, -999.00,9,  -999.0,9,  -999.0,-999.000,9,-999.000, 16143.1,   3.4087,-999.0000, -999.00
 316N145_14,       I02E,    1088,          1,         16,     SIH008,2,19951208,       0907,    -8.3750,    99.3333,       5560,  1795.4,   3.0070,  34.7539,2,  34.7539,2,    123.2,2,   122.4,2,  116.14,6,   35.78,6,    0.00,6,    2.53,6,   0.003,2,   0.003,2,  2308.3,2,  2395.0,2,  -999.0,5,-999.000,1,-999.000,-999.0000,1, -999.00,9, -999.00,9,  -999.0,9,  -999.0,-999.000,9,-999.000, 18085.5,   2.8732,-999.0000, -999.00
 316N145_14,       I02E,    1088,          1,         15,     SIH009,2,19951208,       0907,    -8.3750,    99.3333,       5560,  1999.7,   2.6417,  34.7489,2,  34.7496,2,    133.9,2,   132.2,2,  119.18,6,   35.35,6,    0.00,6,    2.48,6,-999.000,5,-999.000,5,  2306.1,2,  2397.0,2,  -999.0,5,-999.000,1,-999.000,-999.0000,1, -999.00,9, -999.00,9,  -999.0,9,  -999.0,-999.000,9,-999.000, 20128.6,   2.4951,-999.0000, -999.00
 316N145_14,       I02E,    1088,          1,         14,     SIH010,2,19951208,       0907,    -8.3750,    99.3333,       5560,  2243.2,   2.3031,  34.7442,2,  34.7457,2,    143.3,2,   142.5,2,  122.50,2,   35.20,2,    0.00,2,    2.44,2,-999.000,5,-999.000,5,  2305.0,2,  2401.7,2,  -999.0,5,-999.000,1,-999.000,-999.0000,1, -999.00,9, -999.00,9,  -999.0,9,  -999.0,-999.000,9,-999.000, 22565.1,   2.1404,-999.0000, -999.00
 316N145_14,       I02E,    1088,          1,         13,     SIH011,2,19951208,       0907,    -8.3750,    99.3333,       5560,  2496.0,   2.0534,  34.7393,2,  34.7394,2,    149.9,2,   151.0,2,  124.75,2,   34.77,2,    0.00,2,    2.40,2,   0.000,2,   0.000,2,  2304.3,2,  2405.6,2,  -999.0,5,-999.000,1,-999.000,-999.0000,1, -999.00,9, -999.00,9,  -999.0,9,  -999.0,-999.000,9,-999.000, 25094.2,   1.8721,-999.0000, -999.00
 316N145_14,       I02E,    1088,          1,         12,     SIH012,2,19951208,       0907,    -8.3750,    99.3333,       5560,  2740.0,   1.8902,  34.7346,2,  34.7355,2,    157.7,2,   156.5,2,  126.35,2,   34.54,2,    0.00,2,    2.38,2,-999.000,5,-999.000,5,  2302.8,2,  2407.2,2,  -999.0,5,-999.000,1,-999.000,-999.0000,1, -999.00,9, -999.00,9,  -999.0,9,  -999.0,-999.000,9,-999.000, 27535.3,   1.6895,-999.0000, -999.00
 316N145_14,       I02E,    1088,          1,         11,     SI9425,2,19951208,       0907,    -8.3750,    99.3333,       5560,  2983.0,   1.7651,  34.7308,2,  34.7315,2,    160.3,2,   161.4,2,  127.45,2,   34.36,2,    0.00,2,    2.37,2,-999.000,5,-999.000,5,  2303.8,2,  2407.7,2,  -999.0,5,-999.000,1,-999.000,-999.0000,1, -999.00,9, -999.00,9,  -999.0,9,  -999.0,-999.000,9,-999.000, 29966.7,   1.5438,-999.0000, -999.00
 316N145_14,       I02E,    1088,          1,         10,     SIH014,2,19951208,       0907,    -8.3750,    99.3333,       5560,  3247.6,   1.6050,  34.7260,2,  34.7270,2,    166.3,2,   166.4,2,  129.53,2,   34.19,2,    0.00,2,    2.35,2,-999.000,5,-999.000,5,  2302.3,2,  2409.3,2,  -999.0,5,-999.000,1,-999.000,-999.0000,1, -999.00,9, -999.00,9,  -999.0,9,  -999.0,-999.000,9,-999.000, 32614.2,   1.3615,-999.0000, -999.00
 316N145_14,       I02E,    1088,          1,          9,     SIH015,2,19951208,       0907,    -8.3750,    99.3333,       5560,  3490.5,   1.4560,  34.7210,2,  34.7219,2,    173.7,2,   174.1,2,  129.49,2,   33.76,2,    0.00,2,    2.32,2,   0.005,2,   0.002,2,  2296.7,2,  2407.4,2,  -999.0,5,-999.000,1,-999.000,-999.0000,1, -999.00,9, -999.00,9,  -999.0,9,  -999.0,-999.000,9,-999.000, 35044.2,   1.1917,-999.0000, -999.00
 316N145_14,       I02E,    1088,          1,          8,     SIH016,2,19951208,       0907,    -8.3750,    99.3333,       5560,  3735.6,   1.2910,  34.7162,2,  34.7186,3,    183.1,2,   182.7,2,  128.97,2,   33.43,2,    0.00,2,    2.28,2,-999.000,5,-999.000,5,  2290.9,2,  2403.2,2,  -999.0,5,-999.000,1,-999.000,-999.0000,1, -999.00,9, -999.00,9,  -999.0,9,  -999.0,-999.000,9,-999.000, 37495.5,   1.0058,-999.0000, -999.00
 316N145_14,       I02E,    1088,          1,          7,     SIH017,2,19951208,       0907,    -8.3750,    99.3333,       5560,  3975.6,   1.2009,  34.7146,2,  34.7146,2,    187.9,2,   188.2,2,  128.12,2,   33.05,2,    0.00,2,    2.26,2,-999.000,5,-999.000,5,  2287.6,2,  2403.0,2,  -999.0,5,-999.000,1,-999.000,-999.0000,1, -999.00,9, -999.00,9,  -999.0,9,  -999.0,-999.000,9,-999.000, 39897.5,   0.8929,-999.0000, -999.00
 316N145_14,       I02E,    1088,          1,          6,     SIH018,2,19951208,       0907,    -8.3750,    99.3333,       5560,  4281.6,   1.1620,  34.7117,2,  34.7138,2,    192.8,2,   192.3,2,  127.27,2,   32.93,2,    0.00,2,    2.24,2,-999.000,5,-999.000,5,  2282.5,2,  2397.0,2,  -999.0,5,-999.000,1,-999.000,-999.0000,1, -999.00,9, -999.00,9,  -999.0,9,  -999.0,-999.000,9,-999.000, 42958.4,   0.8219,-999.0000, -999.00
 316N145_14,       I02E,    1088,          1,          5,     SIH002,2,19951208,       0907,    -8.3750,    99.3333,       5560,  4592.8,   1.1607,  34.7111,2,  34.7134,2,    194.4,2,   195.0,2,  126.25,2,   32.80,2,    0.00,2,    2.24,2,   0.007,2,   0.004,2,  2280.7,2,  2395.9,2,  -999.0,5,-999.000,1,-999.000,-999.0000,1, -999.00,9, -999.00,9,  -999.0,9,  -999.0,-999.000,9,-999.000, 46071.6,   0.7856,-999.0000, -999.00
 316N145_14,       I02E,    1088,          1,          4,     SIH020,2,19951208,       0907,    -8.3750,    99.3333,       5560,  4895.9,   1.1786,  34.7123,2,  34.7127,2,    194.9,2,   195.5,2,  127.84,2,   32.73,2,    0.00,2,    2.22,2,-999.000,5,-999.000,5,  2279.3,2,  2393.9,2,  -999.0,5,-999.000,1,-999.000,-999.0000,1, -999.00,9, -999.00,9,  -999.0,9,  -999.0,-999.000,9,-999.000, 49103.9,   0.7675,-999.0000, -999.00
 316N145_14,       I02E,    1088,          1,          3,     SIH021,2,19951208,       0907,    -8.3750,    99.3333,       5560,  5196.9,   1.2079,  34.7112,2,  34.7117,2,    196.2,2,   195.7,2,  126.66,2,   32.66,2,    0.00,2,    2.23,2,-999.000,5,-999.000,5,  2279.5,2,  2395.7,2,  -999.0,5,-999.000,1,-999.000,-999.0000,1, -999.00,9, -999.00,9,  -999.0,9,  -999.0,-999.000,9,-999.000, 52113.8,   0.7595,-999.0000, -999.00
 316N145_14,       I02E,    1088,          1,          2,     SIH022,2,19951208,       0907,    -8.3750,    99.3333,       5560,  5495.2,   1.2373,  34.7110,2,  34.7131,2,    199.1,2,   197.0,2,  125.32,2,   32.60,2,    0.00,2,    2.22,2,-999.000,5,-999.000,5,  2277.6,2,  2393.4,2,  -999.0,5,-999.000,1,-999.000,-999.0000,1, -999.00,9, -999.00,9,  -999.0,9,  -999.0,-999.000,9,-999.000, 55098.7,   0.7508,-999.0000, -999.00
 316N145_14,       I02E,    1088,          1,          1,     SIH023,2,19951208,       0907,    -8.3750,    99.3333,       5560,  5704.1,   1.2629,  34.7115,2,  34.7125,2,    197.4,2,   197.3,2,  126.43,6,   32.44,6,    0.00,6,    2.21,6,   0.008,2,   0.005,2,  2277.3,2,  2393.5,2,  -999.0,5,-999.000,1,-999.000,-999.0000,1, -999.00,9, -999.00,9,  -999.0,9,  -999.0,-999.000,9,-999.000, 57188.9,   0.7488,-999.0000, -999.00