BOTTLE,20220829CCHSIOAMB
EXPOCODE,SECT_ID,STNNBR,CASTNO,SAMPNO,BTLNBR,BTLNBR_FLAG_W,DATE,TIME,LATITUDE,LONGITUDE,DEPTH,CTDPRS,CTDTMP,CTDSAL,CTDSAL_FLAG_W,SALNTY,SALNTY_FLAG_W,CTDOXY,CTDOXY_FLAG_W,OXYGEN,OXYGEN_FLAG_W,SILCAT,SILCAT_FLAG_W,NITRAT,NITRAT_FLAG_W,NITRIT,NITRIT_FLAG_W,PHSPHT,PHSPHT_FLAG_W,CFC-11,CFC-11_FLAG_W,CFC-12,CFC-12_FLAG_W,TCARBN,TCARBN_FLAG_W,ALKALI,ALKALI_FLAG_W,PCO2,PCO2_FLAG_W,TRITUM,TRITUM_FLAG_W,TRITER,HELIUM,HELIUM_FLAG_W,DELHE3,DELHE3_FLAG_W,DELC13,DELC13_FLAG_W,DELC14,DELC14_FLAG_W,C14ERR,NEON,NEON_FLAG_W,NEONER,CTDRAW,THETA,HELIER,DELHER
,,,,,,,,,,,METERS,DBAR,ITS-90,PSS-78,,PSS-78,,UMOL/KG,,UMOL/KG,,UMOL/KG,,UMOL/KG,,UMOL/KG,,UMOL/KG,,PMOL/KG,,PMOL/KG,,UMOL/KG,,UMOL/KG,,UATM,,TU,,TU,NMOL/KG,,PERCNT,,/MILLE,,/MILLE,,/MILLE,NMOL/KG,,NMOL/KG,DBAR,DEG C,NMOL/KG,PERCNT
 316N145_14,       I02E,    1134,          1,         36,     SIH024,2,19951221,       2357,    -8.0000,    82.6667,       5105,    13.1,  28.1163,  33.8014,2,  33.7987,2,    225.2,2,   211.1,2, -999.00,5,    0.09,2,    0.00,2,    0.09,2,   1.637,2,   0.950,2,  -999.0,9,  2213.5,2,  -999.0,5,-999.000,1,-999.000,-999.0000,1, -999.00,9, -999.00,9,  -999.0,9,  -999.0,-999.000,9,-999.000,   272.5,  28.1132,-999.0000, -999.00
 316N145_14,       I02E,    1134,          1,         35,     SIH003,2,19951221,       2357,    -8.0000,    82.6667,       5105,    38.0,  25.4041,  35.1590,2,  35.1595,2,    215.0,3,   168.9,2, -999.00,5,    3.45,2,    0.32,2,    0.53,2,   1.569,2,   0.881,2,  -999.0,9,  -999.0,9,  -999.0,5,-999.000,1,-999.000,-999.0000,1, -999.00,9, -999.00,9,  -999.0,9,  -999.0,-999.000,9,-999.000,   516.8,  25.3958,-999.0000, -999.00
 316N145_14,       I02E,    1134,          1,         34,     SIH026,2,19951221,       2357,    -8.0000,    82.6667,       5105,    68.0,  22.5735,  35.3066,2,  35.3082,2,    118.3,2,   109.6,2, -999.00,5,   13.11,2,    0.53,2,    1.05,2,   1.511,2,   0.823,2,  -999.0,9,  -999.0,9,  -999.0,5,-999.000,1,-999.000,-999.0000,1, -999.00,9, -999.00,9,  -999.0,9,  -999.0,-999.000,9,-999.000,   813.6,  22.5598,-999.0000, -999.00
 316N145_14,       I02E,    1134,          1,         33,     SIH027,2,19951221,       2357,    -8.0000,    82.6667,       5105,   108.4,  20.0841,  35.2167,2,  35.2239,2,    102.5,2,    91.1,2,   12.77,2,   17.09,2,    0.38,2,    1.22,2,   1.445,2,   0.777,2,  -999.0,9,  -999.0,9,  -999.0,5,-999.000,1,-999.000,-999.0000,1, -999.00,9, -999.00,9,  -999.0,9,  -999.0,-999.000,9,-999.000,  1213.6,  20.0640,-999.0000, -999.00
 316N145_14,       I02E,    1134,          1,         32,     SIH028,2,19951221,       2357,    -8.0000,    82.6667,       5105,   158.0,  16.5521,  35.0641,2,  35.0815,2,     81.1,2,    72.4,2,   19.41,2,   22.00,2,    0.02,2,    1.54,2,   1.155,2,   0.605,2,  -999.0,9,  -999.0,9,  -999.0,5,-999.000,1,-999.000,-999.0000,1, -999.00,9, -999.00,9,  -999.0,9,  -999.0,-999.000,9,-999.000,  1706.6,  16.5265,-999.0000, -999.00
 316N145_14,       I02E,    1134,          1,         31,     SIH029,3,19951221,       2357,    -8.0000,    82.6667,       5105,   208.6,  12.7517,  34.7383,2,  34.7339,2,     67.6,2,    73.5,2,   34.39,2,   26.88,2,    0.01,2,    1.89,2,-999.000,5,-999.000,5,  -999.0,9,  -999.0,9,  -999.0,5,-999.000,1,-999.000,-999.0000,1, -999.00,9, -999.00,9,  -999.0,9,  -999.0,-999.000,9,-999.000,  2212.5,  12.7235,-999.0000, -999.00
 316N145_14,       I02E,    1134,          1,         30,     SIH030,2,19951221,       2357,    -8.0000,    82.6667,       5105,   258.8,  11.5282,  34.8178,2,  34.8194,2,     69.3,2,    71.2,2,   33.54,2,   28.13,2,    0.01,2,    1.94,2,   0.491,2,   0.249,2,  -999.0,9,  -999.0,9,  -999.0,5,-999.000,1,-999.000,-999.0000,1, -999.00,9, -999.00,9,  -999.0,9,  -999.0,-999.000,9,-999.000,  2714.5,  11.4953,-999.0000, -999.00
 316N145_14,       I02E,    1134,          1,         29,     SIH031,3,19951221,       2357,    -8.0000,    82.6667,       5105,   308.8,  11.0412,  34.8634,2,  34.8664,2,     73.2,2,    75.4,2,   31.16,2,   28.33,2,    0.01,2,    1.94,2,   0.431,2,   0.196,2,  -999.0,9,  -999.0,9,  -999.0,5,-999.000,1,-999.000,-999.0000,1, -999.00,9, -999.00,9,  -999.0,9,  -999.0,-999.000,9,-999.000,  3214.8,  11.0029,-999.0000, -999.00
 316N145_14,       I02E,    1134,          1,         28,     SIH032,3,19951221,       2357,    -8.0000,    82.6667,       5105,   357.9,  10.6121,  34.8763,2,  34.8751,2,     88.4,2,    86.1,2,   28.94,2,   28.17,2,    0.01,2,    1.92,2,-999.000,5,-999.000,5,  -999.0,9,  -999.0,9,  -999.0,5,-999.000,1,-999.000,-999.0000,1, -999.00,9, -999.00,9,  -999.0,9,  -999.0,-999.000,9,-999.000,  3705.3,  10.5687,-999.0000, -999.00
 316N145_14,       I02E,    1134,          1,         27,     SIH033,2,19951221,       2357,    -8.0000,    82.6667,       5105,   408.0,  10.0553,  34.8536,2,  34.8503,2,     91.1,2,    95.4,2,   29.28,2,   28.48,2,    0.01,2,    1.92,2,   0.385,2,   0.198,2,  -999.0,9,  -999.0,9,  -999.0,5,-999.000,1,-999.000,-999.0000,1, -999.00,9, -999.00,9,  -999.0,9,  -999.0,-999.000,9,-999.000,  4206.3,  10.0074,-999.0000, -999.00
 316N145_14,       I02E,    1134,          1,         26,     SIH037,2,19951221,       2357,    -8.0000,    82.6667,       5105,   504.0,   8.7439,  34.7856,2,  34.7844,2,     87.2,2,    88.1,2,   41.70,2,   31.56,2,    0.01,2,    2.19,2,   0.136,2,   0.072,2,  -999.0,9,  -999.0,9,  -999.0,5,-999.000,1,-999.000,-999.0000,1, -999.00,9, -999.00,9,  -999.0,9,  -999.0,-999.000,9,-999.000,  5166.1,   8.6893,-999.0000, -999.00
 316N145_14,       I02E,    1134,          1,         25,     SI9446,2,19951221,       2357,    -8.0000,    82.6667,       5105,   603.4,   7.8552,  34.7755,2,  34.7744,2,     72.5,2,    72.7,2,   56.51,2,   34.28,2,    0.01,2,    2.43,2,   0.038,2,   0.020,2,  -999.0,9,  -999.0,9,  -999.0,5,-999.000,1,-999.000,-999.0000,1, -999.00,9, -999.00,9,  -999.0,9,  -999.0,-999.000,9,-999.000,  6160.8,   7.7934,-999.0000, -999.00
 316N145_14,       I02E,    1134,          1,         24,     SIH036,2,19951221,       2357,    -8.0000,    82.6667,       5105,   704.1,   7.1194,  34.7585,2,  34.7555,2,     65.0,2,    65.4,2,   70.63,2,   35.95,2,    0.01,2,    2.58,2,   0.011,2,   0.002,2,  -999.0,9,  -999.0,9,  -999.0,5,-999.000,1,-999.000,-999.0000,1, -999.00,9, -999.00,9,  -999.0,9,  -999.0,-999.000,9,-999.000,  7166.8,   7.0507,-999.0000, -999.00
 316N145_14,       I02E,    1134,          1,         23,     SIH001,2,19951221,       2357,    -8.0000,    82.6667,       5105,   804.7,   6.3504,  34.7242,2,  34.7229,2,     70.7,2,    70.5,2,   81.69,2,   36.41,2,    0.01,2,    2.62,2,   0.008,2,   0.004,2,  -999.0,9,  -999.0,9,  -999.0,5,-999.000,1,-999.000,-999.0000,1, -999.00,9, -999.00,9,  -999.0,9,  -999.0,-999.000,9,-999.000,  8173.2,   6.2759,-999.0000, -999.00
 316N145_14,       I02E,    1134,          1,         22,     SIH019,2,19951221,       2357,    -8.0000,    82.6667,       5105,   905.2,   5.6180,  34.7008,2,  34.6995,2,     78.7,2,    77.2,2,   92.06,2,   36.66,2,    0.01,2,    2.65,2,   0.005,6,   0.002,6,  -999.0,9,  -999.0,9,  -999.0,5,-999.000,1,-999.000,-999.0000,1, -999.00,9, -999.00,9,  -999.0,9,  -999.0,-999.000,9,-999.000,  9179.5,   5.5386,-999.0000, -999.00
 316N145_14,       I02E,    1134,          1,         21,     SIH025,2,19951221,       2357,    -8.0000,    82.6667,       5105,  1006.3,   5.2134,  34.6966,2,  34.6960,2,     81.8,2,    81.7,2,   96.87,2,   36.71,2,    0.01,2,    2.65,2,   0.007,2,   0.002,2,  -999.0,9,  -999.0,9,  -999.0,5,-999.000,1,-999.000,   1.8570,2,   14.60,2, -999.00,9,  -999.0,9,  -999.0,   7.065,4,   0.055, 10190.5,   5.1276,   0.0030,    0.18
 316N145_14,       I02E,    1134,          1,         20,     SIH004,2,19951221,       2357,    -8.0000,    82.6667,       5105,  1106.2,   4.8272,  34.6931,2,  34.6918,2,     87.1,2,    86.5,2,  101.38,2,   36.75,2,    0.01,2,    2.66,2,-999.000,5,-999.000,5,  -999.0,9,  -999.0,9,  -999.0,5,-999.000,1,-999.000,-999.0000,1, -999.00,9, -999.00,9,  -999.0,9,  -999.0,-999.000,9,-999.000, 11191.0,   4.7353,-999.0000, -999.00
 316N145_14,       I02E,    1134,          1,         19,     SIH005,2,19951221,       2357,    -8.0000,    82.6667,       5105,  1207.9,   4.5411,  34.7123,2,  34.7111,2,     90.3,2,    91.1,2,  103.78,2,   36.79,2,    0.01,2,    2.65,2,   0.001,2,  -0.001,2,  -999.0,9,  -999.0,9,  -999.0,5,-999.000,1,-999.000,   1.8740,2,   14.03,2, -999.00,9,  -999.0,9,  -999.0,   7.892,2,   0.061, 12207.5,   4.4425,   0.0030,    0.18
 316N145_14,       I02E,    1134,          1,         18,     SIH006,2,19951221,       2357,    -8.0000,    82.6667,       5105,  1308.5,   4.2778,  34.7346,2,  34.7323,2,     94.8,2,    93.8,2,  105.99,2,   36.79,2,    0.01,2,    2.66,2,-999.000,5,-999.000,5,  -999.0,9,  -999.0,9,  -999.0,5,-999.000,1,-999.000,-999.0000,1, -999.00,9, -999.00,9,  -999.0,9,  -999.0,-999.000,9,-999.000, 13214.4,   4.1725,-999.0000, -999.00
 316N145_14,       I02E,    1134,          1,         17,     SIH038,2,19951221,       2357,    -8.0000,    82.6667,       5105,  1408.3,   3.9517,  34.7470,2,  34.7323,4,    101.2,2,   101.0,2,  108.19,2,   36.62,2,    0.01,2,    2.64,2,  -0.001,2,  -0.001,2,  -999.0,9,  -999.0,9,  -999.0,5,-999.000,1,-999.000,   1.8710,2,   13.60,2, -999.00,9,  -999.0,9,  -999.0,   7.934,2,   0.062, 14212.7,   3.8408,   0.0030,    0.18
 316N145_14,       I02E,    1134,          1,         16,     SIH008,2,19951221,       2357,    -8.0000,    82.6667,       5105,  1609.8,   3.3343,  34.7505,2,  34.7492,2,    116.1,2,   115.3,2,  112.77,2,   36.14,2,    0.01,2,    2.58,2,-999.000,5,-999.000,5,  -999.0,9,  -999.0,9,  -999.0,5,-999.000,1,-999.000,   1.8660,2,   13.70,2, -999.00,9,  -999.0,9,  -999.0,   7.942,2,   0.062, 16228.0,   3.2127,   0.0040,    0.18
 316N145_14,       I02E,    1134,          1,         15,     SIH009,2,19951221,       2357,    -8.0000,    82.6667,       5105,  1812.5,   2.8520,  34.7489,2,  34.7480,2,    130.0,2,   129.9,2,  115.99,2,   35.56,2,    0.01,2,    2.52,2,-999.000,5,-999.000,5,  -999.0,9,  -999.0,9,  -999.0,5,-999.000,1,-999.000,   1.8840,2,   14.21,2, -999.00,9,  -999.0,9,  -999.0,   7.980,2,   0.022, 18256.0,   2.7189,   0.0030,    0.18
 316N145_14,       I02E,    1134,          1,         14,     SIH010,2,19951221,       2357,    -8.0000,    82.6667,       5105,  2009.6,   2.4876,  34.7474,2,  34.7465,2,    138.9,2,   139.9,2,  119.73,2,   34.82,2,    0.01,2,    2.48,2,-999.000,5,-999.000,5,  -999.0,9,  -999.0,9,  -999.0,5,-999.000,1,-999.000,   1.8560,2,   14.50,2, -999.00,9,  -999.0,9,  -999.0,   8.012,2,   0.021, 20227.8,   2.3425,   0.0070,    0.18
 316N145_14,       I02E,    1134,          1,         13,     SIH011,2,19951221,       2357,    -8.0000,    82.6667,       5105,  2255.9,   2.1502,  34.7408,2,  34.7392,2,    150.8,2,   151.4,2,  122.27,2,   34.61,2,    0.01,2,    2.42,2,-999.000,5,-999.000,5,  -999.0,9,  -999.0,9,  -999.0,5,-999.000,1,-999.000,   3.2750,4,   18.95,4, -999.00,9,  -999.0,9,  -999.0,  15.360,4,   0.154, 22691.9,   1.9889,   0.0330,    0.50
 316N145_14,       I02E,    1134,          1,         12,     SIH012,2,19951221,       2357,    -8.0000,    82.6667,       5105,  2504.8,   1.9084,  34.7335,2,  34.7329,2,    159.3,2,   159.7,2,  124.29,2,   34.18,2,    0.01,2,    2.38,2,-999.000,5,-999.000,5,  -999.0,9,  -999.0,9,  -999.0,5,-999.000,1,-999.000,   1.7060,4,    7.68,4, -999.00,9,  -999.0,9,  -999.0,  10.020,4,   0.100, 25181.1,   1.7291,   0.0170,    0.50
 316N145_14,       I02E,    1134,          1,         11,     SI9426,2,19951221,       2357,    -8.0000,    82.6667,       5105,  2752.4,   1.7484,  34.7314,2,  34.7309,2,    161.8,2,   162.5,2,  128.03,2,   34.23,2,    0.01,2,    2.38,2,-999.000,5,-999.000,5,  -999.0,9,  -999.0,9,  -999.0,5,-999.000,1,-999.000,   1.9050,2,   13.52,2, -999.00,9,  -999.0,9,  -999.0,   8.150,2,   0.063, 27659.4,   1.5494,   0.0030,    0.17
 316N145_14,       I02E,    1134,          1,         10,     SIH014,2,19951221,       2357,    -8.0000,    82.6667,       5105,  3002.7,   1.6413,  34.7278,2,  34.7276,2,    164.1,2,   164.0,2,  131.25,2,   34.27,2,    0.01,2,    2.38,2,-999.000,5,-999.000,5,  -999.0,9,  -999.0,9,  -999.0,5,-999.000,1,-999.000,   1.8920,2,   12.92,2, -999.00,9,  -999.0,9,  -999.0,   8.081,2,   0.063, 30164.0,   1.4209,   0.0040,    0.18
 316N145_14,       I02E,    1134,          1,          9,     SIH015,2,19951221,       2357,    -8.0000,    82.6667,       5105,  3251.0,   1.5483,  34.7254,2,  34.7248,2,    166.8,2,   167.5,2,  132.93,2,   34.21,2,    0.00,2,    2.37,2,-999.000,5,-999.000,5,  -999.0,9,  -999.0,9,  -999.0,5,-999.000,1,-999.000,   1.8990,2,   12.75,2, -999.00,9,  -999.0,9,  -999.0,   8.174,2,   0.064, 32647.4,   1.3058,   0.0040,    0.17
 316N145_14,       I02E,    1134,          1,          8,     SIH016,2,19951221,       2357,    -8.0000,    82.6667,       5105,  3551.1,   1.4346,  34.7210,2,  34.7213,2,    171.4,2,   171.5,2,  135.13,2,   34.10,2,    0.01,2,    2.35,2,  -0.001,2,   0.000,2,  -999.0,9,  -999.0,9,  -999.0,5,-999.000,1,-999.000,   1.8910,2,   12.22,2, -999.00,9,  -999.0,9,  -999.0,   8.187,2,   0.064, 35649.4,   1.1646,   0.0030,    0.18
 316N145_14,       I02E,    1134,          1,          7,     SIH017,2,19951221,       2357,    -8.0000,    82.6667,       5105,  3749.3,   1.3929,  34.7195,2,  34.7190,2,    173.8,2,   174.1,2,  135.12,2,   33.98,2,    0.01,2,    2.34,2,-999.000,5,-999.000,5,  -999.0,9,  -999.0,9,  -999.0,5,-999.000,1,-999.000,   1.9070,4,    4.72,4, -999.00,9,  -999.0,9,  -999.0,   8.185,2,   0.064, 37632.3,   1.1035,   0.0050,    0.18
 316N145_14,       I02E,    1134,          1,          6,     SIH018,2,19951221,       2357,    -8.0000,    82.6667,       5105,  3998.0,   1.3667,  34.7178,2,  34.7180,2,    177.3,2,   177.4,2,  134.61,2,   33.82,2,    0.01,2,    2.33,2,-999.000,5,-999.000,5,  -999.0,9,  -999.0,9,  -999.0,5,-999.000,1,-999.000,   1.9030,2,   11.71,2, -999.00,9,  -999.0,9,  -999.0,   8.207,2,   0.064, 40120.5,   1.0515,   0.0030,    0.18
 316N145_14,       I02E,    1134,          1,          5,     SIH002,3,19951221,       2357,    -8.0000,    82.6667,       5105,  4247.8,   1.3572,  34.7175,2,  34.7174,2,    179.2,2,   180.3,2,  133.40,2,   33.66,2,    0.00,2,    2.31,2,-999.000,5,-999.000,5,  -999.0,9,  -999.0,9,  -999.0,5,-999.000,1,-999.000,-999.0000,1, -999.00,9, -999.00,9,  -999.0,9,  -999.0,-999.000,9,-999.000, 42619.5,   1.0149,-999.0000, -999.00
 316N145_14,       I02E,    1134,          1,          4,     SIH020,2,19951221,       2357,    -8.0000,    82.6667,       5105,  4499.7,   1.3515,  34.7165,2,  34.7162,2,    182.9,2,   182.6,2,  132.54,2,   33.54,2,    0.01,2,    2.30,2,-999.000,5,-999.000,5,  -999.0,9,  -999.0,9,  -999.0,5,-999.000,1,-999.000,   1.8880,2,   11.31,2, -999.00,9,  -999.0,9,  -999.0,   8.150,2,   0.063, 45140.1,   0.9809,   0.0040,    0.18
 316N145_14,       I02E,    1134,          1,          3,     SIH021,2,19951221,       2357,    -8.0000,    82.6667,       5105,  4750.0,   1.3622,  34.7164,2,  34.7158,2,    183.4,2,   184.2,2,  132.03,2,   33.44,2,    0.01,2,    2.30,2,-999.000,5,-999.000,5,  -999.0,9,  -999.0,9,  -999.0,5,-999.000,1,-999.000,-999.0000,1, -999.00,9, -999.00,9,  -999.0,9,  -999.0,-999.000,9,-999.000, 47643.2,   0.9622,-999.0000, -999.00
 316N145_14,       I02E,    1134,          1,          2,     SIH022,2,19951221,       2357,    -8.0000,    82.6667,       5105,  4994.9,   1.3834,  34.7163,2,  34.7152,2,    185.1,2,   185.0,2,  131.51,2,   33.33,2,    0.01,2,    2.29,2,-999.000,5,-999.000,5,  -999.0,9,  -999.0,9,  -999.0,5,-999.000,1,-999.000,   1.8890,2,   11.44,2, -999.00,9,  -999.0,9,  -999.0,   8.201,2,   0.064, 50093.1,   0.9535,   0.0050,    0.18
 316N145_14,       I02E,    1134,          1,          1,     SIH023,2,19951221,       2357,    -8.0000,    82.6667,       5105,  5258.9,   1.4154,  34.7162,2,  34.7160,2,    183.9,2,   185.0,2,  131.41,6,   33.27,6,    0.01,6,    2.30,6,   0.001,6,   0.162,4,  -999.0,9,  -999.0,9,  -999.0,5,-999.000,1,-999.000,-999.0000,1, -999.00,9, -999.00,9,  -999.0,9,  -999.0,-999.000,9,-999.000, 52731.7,   0.9520,-999.0000, -999.00