BOTTLE,20220829CCHSIOAMB
EXPOCODE,SECT_ID,STNNBR,CASTNO,SAMPNO,BTLNBR,BTLNBR_FLAG_W,DATE,TIME,LATITUDE,LONGITUDE,DEPTH,CTDPRS,CTDTMP,CTDSAL,CTDSAL_FLAG_W,SALNTY,SALNTY_FLAG_W,CTDOXY,CTDOXY_FLAG_W,OXYGEN,OXYGEN_FLAG_W,SILCAT,SILCAT_FLAG_W,NITRAT,NITRAT_FLAG_W,NITRIT,NITRIT_FLAG_W,PHSPHT,PHSPHT_FLAG_W,CFC-11,CFC-11_FLAG_W,CFC-12,CFC-12_FLAG_W,TCARBN,TCARBN_FLAG_W,ALKALI,ALKALI_FLAG_W,PCO2,PCO2_FLAG_W,TRITUM,TRITUM_FLAG_W,TRITER,HELIUM,HELIUM_FLAG_W,DELHE3,DELHE3_FLAG_W,DELC13,DELC13_FLAG_W,DELC14,DELC14_FLAG_W,C14ERR,NEON,NEON_FLAG_W,NEONER,CTDRAW,THETA,HELIER,DELHER
,,,,,,,,,,,METERS,DBAR,ITS-90,PSS-78,,PSS-78,,UMOL/KG,,UMOL/KG,,UMOL/KG,,UMOL/KG,,UMOL/KG,,UMOL/KG,,PMOL/KG,,PMOL/KG,,UMOL/KG,,UMOL/KG,,UATM,,TU,,TU,NMOL/KG,,PERCNT,,/MILLE,,/MILLE,,/MILLE,NMOL/KG,,NMOL/KG,DBAR,DEG C,NMOL/KG,PERCNT
 316N145_14,       I02E,    1121,          1,         36,     SIH024,2,19951218,       0542,   -10.6167,    88.1055,       4751,     8.4,  27.4961,  34.2896,2,  34.2905,2,    195.8,2,   208.9,2,    3.46,2,    0.11,2,    0.00,2,    0.11,2,   1.677,2,   0.959,2,  1923.3,2,  -999.0,9,  -999.0,5,-999.000,1,-999.000,-999.0000,1, -999.00,9, -999.00,9,  -999.0,9,  -999.0,-999.000,9,-999.000,   230.5,  27.4942,-999.0000, -999.00
 316N145_14,       I02E,    1121,          1,         35,     SIH003,3,19951218,       0542,   -10.6167,    88.1055,       4751,    55.9,  26.7172,  34.2437,2,  34.2448,2,    212.7,2,   208.2,2,    3.40,2,    0.00,2,    0.01,2,    0.12,2,-999.000,5,-999.000,5,  1923.0,2,  2247.2,2,  -999.0,5,-999.000,1,-999.000,-999.0000,1, -999.00,9, -999.00,9,  -999.0,9,  -999.0,-999.000,9,-999.000,   704.8,  26.7045,-999.0000, -999.00
 316N145_14,       I02E,    1121,          1,         34,     SIH026,2,19951218,       0542,   -10.6167,    88.1055,       4751,   101.3,  24.4175,  34.3686,2,  34.3670,2,    123.7,3,   152.1,2,    9.07,2,    7.15,2,    0.08,2,    0.59,2,   1.583,2,   0.895,2,  1995.9,2,  -999.0,9,  -999.0,5,-999.000,1,-999.000,-999.0000,1, -999.00,9, -999.00,9,  -999.0,9,  -999.0,-999.000,9,-999.000,  1155.2,  24.3960,-999.0000, -999.00
 316N145_14,       I02E,    1121,          1,         33,     SIH027,2,19951218,       0542,   -10.6167,    88.1055,       4751,   151.5,  19.3989,  34.6853,2,  34.6763,2,    105.3,2,   102.3,2,   19.81,2,   16.61,2,    0.02,2,    1.20,2,-999.000,5,-999.000,5,  -999.0,9,  -999.0,9,  -999.0,5,-999.000,1,-999.000,-999.0000,1, -999.00,9, -999.00,9,  -999.0,9,  -999.0,-999.000,9,-999.000,  1647.8,  19.3716,-999.0000, -999.00
 316N145_14,       I02E,    1121,          1,         32,     SIH028,2,19951218,       0542,   -10.6167,    88.1055,       4751,   196.8,  16.4488,  34.5476,2,  34.5569,2,    104.2,2,   106.9,2,   27.78,2,   19.39,2,    0.01,2,    1.41,2,   1.179,2,   0.631,2,  -999.0,9,  -999.0,9,  -999.0,5,-999.000,1,-999.000,-999.0000,1, -999.00,9, -999.00,9,  -999.0,9,  -999.0,-999.000,9,-999.000,  2096.7,  16.4171,-999.0000, -999.00
 316N145_14,       I02E,    1121,          1,         31,     SIH029,2,19951218,       0542,   -10.6167,    88.1055,       4751,   296.1,  11.8434,  34.7458,2,  34.7437,2,     68.8,2,    71.2,2,   36.72,2,   27.94,2,    0.01,2,    1.97,2,   0.531,2,   0.268,2,  -999.0,9,  -999.0,9,  -999.0,5,-999.000,1,-999.000,-999.0000,1, -999.00,9, -999.00,9,  -999.0,9,  -999.0,-999.000,9,-999.000,  3089.4,  11.8050,-999.0000, -999.00
 316N145_14,       I02E,    1121,          1,         30,     SIH030,2,19951218,       0542,   -10.6167,    88.1055,       4751,   397.3,  10.4387,  34.8069,2,  34.8047,2,     89.5,2,    91.0,2,   34.21,2,   27.68,2,    0.01,2,    1.94,2,   0.504,6,   0.246,6,  -999.0,9,  -999.0,9,  -999.0,5,-999.000,1,-999.000,-999.0000,1, -999.00,9, -999.00,9,  -999.0,9,  -999.0,-999.000,9,-999.000,  4101.2,  10.3910,-999.0000, -999.00
 316N145_14,       I02E,    1121,          1,         29,     SIH031,3,19951218,       0542,   -10.6167,    88.1055,       4751,   497.6,   9.1784,  34.7478,2,  34.7457,2,     98.1,2,   100.0,2,   38.24,2,   29.33,2,    0.01,2,    2.05,2,   0.345,2,   0.168,2,  -999.0,9,  -999.0,9,  -999.0,5,-999.000,1,-999.000,-999.0000,1, -999.00,9, -999.00,9,  -999.0,9,  -999.0,-999.000,9,-999.000,  5103.9,   9.1229,-999.0000, -999.00
 316N145_14,       I02E,    1121,          1,         28,     SIH032,3,19951218,       0542,   -10.6167,    88.1055,       4751,   596.9,   8.0454,  34.6969,2,  34.6954,2,     76.5,2,    78.0,2,   57.03,2,   33.29,2,    0.01,2,    2.38,2,-999.000,5,-999.000,5,  -999.0,9,  -999.0,9,  -999.0,5,-999.000,1,-999.000,-999.0000,1, -999.00,9, -999.00,9,  -999.0,9,  -999.0,-999.000,9,-999.000,  6095.5,   7.9835,-999.0000, -999.00
 316N145_14,       I02E,    1121,          1,         27,     SIH033,2,19951218,       0542,   -10.6167,    88.1055,       4751,   697.4,   7.1233,  34.6875,2,  34.6828,2,     73.8,2,    74.4,2,   70.25,2,   34.94,2,    0.01,2,    2.51,2,   0.034,2,   0.015,2,  -999.0,9,  -999.0,9,  -999.0,5,-999.000,1,-999.000,-999.0000,1, -999.00,9, -999.00,9,  -999.0,9,  -999.0,-999.000,9,-999.000,  7102.2,   7.0553,-999.0000, -999.00
 316N145_14,       I02E,    1121,          1,         26,     SIH037,2,19951218,       0542,   -10.6167,    88.1055,       4751,   797.8,   6.1743,  34.6494,2,  34.6488,2,     78.3,2,    80.3,2,   84.28,2,   35.70,2,    0.01,2,    2.58,2,-999.000,5,-999.000,5,  -999.0,9,  -999.0,9,  -999.0,5,-999.000,1,-999.000,-999.0000,1, -999.00,9, -999.00,9,  -999.0,9,  -999.0,-999.000,9,-999.000,  8105.5,   6.1017,-999.0000, -999.00
 316N145_14,       I02E,    1121,          1,         25,     SI9446,3,19951218,       0542,   -10.6167,    88.1055,       4751,   998.9,   5.0626,  34.6390,2,  34.6366,2,     87.1,2,    88.5,2,   99.64,2,   35.85,2,    0.01,2,    2.63,2,-999.000,5,-999.000,5,  -999.0,9,  -999.0,9,  -999.0,5,-999.000,1,-999.000,-999.0000,1, -999.00,9, -999.00,9,  -999.0,9,  -999.0,-999.000,9,-999.000, 10116.8,   4.9787,-999.0000, -999.00
 316N145_14,       I02E,    1121,          1,         24,     SIH036,2,19951218,       0542,   -10.6167,    88.1055,       4751,  1249.9,   4.2559,  34.6825,2,  34.6810,2,     97.3,2,    97.0,2,  108.11,2,   36.44,2,    0.01,2,    2.65,2,   0.002,2,   0.001,2,  -999.0,9,  -999.0,9,  -999.0,5,-999.000,1,-999.000,-999.0000,1, -999.00,9, -999.00,9,  -999.0,9,  -999.0,-999.000,9,-999.000, 12628.2,   4.1562,-999.0000, -999.00
 316N145_14,       I02E,    1121,          1,         23,     SIH001,2,19951218,       0542,   -10.6167,    88.1055,       4751,  1501.5,   3.6207,  34.7212,2,  34.7201,2,    111.8,2,   110.5,2,  110.85,2,   36.11,2,    0.01,2,    2.61,2,  -0.001,2,  -0.001,2,  -999.0,9,  -999.0,9,  -999.0,5,-999.000,1,-999.000,-999.0000,1, -999.00,9, -999.00,9,  -999.0,9,  -999.0,-999.000,9,-999.000, 15145.2,   3.5053,-999.0000, -999.00
 316N145_14,       I02E,    1121,          1,         22,     SIH019,2,19951218,       0542,   -10.6167,    88.1055,       4751,  1744.4,   2.9010,  34.7325,2,  34.7309,2,    130.1,2,   131.0,2,  114.89,2,   35.21,2,    0.01,2,    2.52,2,-999.000,5,-999.000,5,  -999.0,9,  -999.0,9,  -999.0,5,-999.000,1,-999.000,-999.0000,1, -999.00,9, -999.00,9,  -999.0,9,  -999.0,-999.000,9,-999.000, 17573.9,   2.7732,-999.0000, -999.00
 316N145_14,       I02E,    1121,          1,         21,     SIH025,2,19951218,       0542,   -10.6167,    88.1055,       4751,  1993.7,   2.4254,  34.7333,2,  34.7327,2,    144.9,2,   145.5,2,  118.62,2,   34.57,2,    0.01,2,    2.46,2,  -0.001,2,   0.001,2,  -999.0,9,  -999.0,9,  -999.0,5,-999.000,1,-999.000,-999.0000,1, -999.00,9, -999.00,9,  -999.0,9,  -999.0,-999.000,9,-999.000, 20068.8,   2.2827,-999.0000, -999.00
 316N145_14,       I02E,    1121,          1,         20,     SIH004,2,19951218,       0542,   -10.6167,    88.1055,       4751,  2242.5,   2.1633,  34.7358,2,  34.7349,2,    152.0,2,   154.1,2,  121.85,2,   34.31,2,    0.01,2,    2.42,2,-999.000,5,-999.000,5,  -999.0,9,  -999.0,9,  -999.0,5,-999.000,1,-999.000,-999.0000,1, -999.00,9, -999.00,9,  -999.0,9,  -999.0,-999.000,9,-999.000, 22558.3,   2.0029,-999.0000, -999.00
 316N145_14,       I02E,    1121,          1,         19,     SIH005,2,19951218,       0542,   -10.6167,    88.1055,       4751,  2499.4,   1.9888,  34.7340,2,  34.7329,2,    159.0,2,   159.3,2,  123.12,2,   33.92,2,    0.01,2,    2.40,2,-999.000,5,-999.000,5,  -999.0,9,  -999.0,9,  -999.0,5,-999.000,1,-999.000,-999.0000,1, -999.00,9, -999.00,9,  -999.0,9,  -999.0,-999.000,9,-999.000, 25128.3,   1.8085,-999.0000, -999.00
 316N145_14,       I02E,    1121,          1,         18,     SIH006,2,19951218,       0542,   -10.6167,    88.1055,       4751,  2747.7,   1.8201,  34.7316,2,  34.7309,2,    163.5,2,   163.9,2,  126.19,2,   33.66,3,    0.01,2,    2.38,2,-999.000,5,-999.000,5,  -999.0,9,  -999.0,9,  -999.0,5,-999.000,1,-999.000,-999.0000,1, -999.00,9, -999.00,9,  -999.0,9,  -999.0,-999.000,9,-999.000, 27611.8,   1.6200,-999.0000, -999.00
 316N145_14,       I02E,    1121,          1,         17,     SIH038,2,19951218,       0542,   -10.6167,    88.1055,       4751,  2994.6,   1.6471,  34.7270,2,  34.7260,2,    168.7,2,   168.5,2,  129.43,2,   33.77,3,    0.00,2,    2.36,2,   0.002,2,   0.000,2,  -999.0,9,  -999.0,9,  -999.0,5,-999.000,1,-999.000,-999.0000,1, -999.00,9, -999.00,9,  -999.0,9,  -999.0,-999.000,9,-999.000, 30082.4,   1.4273,-999.0000, -999.00
 316N145_14,       I02E,    1121,          1,         16,     SIH008,2,19951218,       0542,   -10.6167,    88.1055,       4751,  3243.2,   1.5730,  34.7244,2,  34.7241,2,    170.3,2,   170.7,2,  130.43,2,   33.65,3,    0.01,2,    2.35,2,-999.000,5,-999.000,5,  -999.0,9,  -999.0,9,  -999.0,5,-999.000,1,-999.000,-999.0000,1, -999.00,9, -999.00,9,  -999.0,9,  -999.0,-999.000,9,-999.000, 32569.5,   1.3307,-999.0000, -999.00
 316N145_14,       I02E,    1121,          1,         15,     SIH009,2,19951218,       0542,   -10.6167,    88.1055,       4751,  3494.6,   1.4922,  34.7226,2,  34.7217,2,    172.7,2,   174.1,2,  131.54,2,   33.69,3,    0.01,2,    2.35,2,-999.000,5,-999.000,5,  -999.0,9,  -999.0,9,  -999.0,5,-999.000,1,-999.000,-999.0000,1, -999.00,9, -999.00,9,  -999.0,9,  -999.0,-999.000,9,-999.000, 35084.5,   1.2266,-999.0000, -999.00
 316N145_14,       I02E,    1121,          1,         14,     SIH010,2,19951218,       0542,   -10.6167,    88.1055,       4751,  3748.5,   1.4027,  34.7197,2,  34.7188,2,    177.7,2,   178.3,2,  131.49,2,   33.48,3,    0.01,2,    2.34,2,-999.000,5,-999.000,5,  -999.0,9,  -999.0,9,  -999.0,5,-999.000,1,-999.000,-999.0000,1, -999.00,9, -999.00,9,  -999.0,9,  -999.0,-999.000,9,-999.000, 37624.6,   1.1131,-999.0000, -999.00
 316N145_14,       I02E,    1121,          1,         13,     SIH011,2,19951218,       0542,   -10.6167,    88.1055,       4751,  3896.4,   1.3647,  34.7184,2,  34.7174,2,    180.9,2,   181.1,2,  131.22,2,   33.23,3,    0.01,2,    2.31,3,-999.000,5,-999.000,5,  -999.0,9,  -999.0,9,  -999.0,5,-999.000,1,-999.000,-999.0000,1, -999.00,9, -999.00,9,  -999.0,9,  -999.0,-999.000,9,-999.000, 39103.6,   1.0605,-999.0000, -999.00
 316N145_14,       I02E,    1121,          1,         11,     SI9426,2,19951218,       0542,   -10.6167,    88.1055,       4751,  4101.1,   1.3240,  34.7179,2,  34.7164,2,    180.2,2,   182.1,2,  132.98,2,   33.45,3,    0.01,2,    2.31,2,-999.000,5,-999.000,5,  -999.0,9,  -999.0,9,  -999.0,5,-999.000,1,-999.000,-999.0000,1, -999.00,9, -999.00,9,  -999.0,9,  -999.0,-999.000,9,-999.000, 41152.0,   0.9989,-999.0000, -999.00
 316N145_14,       I02E,    1121,          1,         10,     SIH014,2,19951218,       0542,   -10.6167,    88.1055,       4751,  4204.2,   1.3221,  34.7175,2,  34.7170,2,    182.1,2,   183.2,2,  132.37,2,   33.26,3,    0.01,2,    2.31,2,   0.000,2,  -0.001,2,  -999.0,9,  -999.0,9,  -999.0,5,-999.000,1,-999.000,-999.0000,1, -999.00,9, -999.00,9,  -999.0,9,  -999.0,-999.000,9,-999.000, 42182.7,   0.9857,-999.0000, -999.00
 316N145_14,       I02E,    1121,          1,          9,     SIH015,2,19951218,       0542,   -10.6167,    88.1055,       4751,  4298.7,   1.3111,  34.7175,2,  34.7174,2,    183.6,2,   184.4,2,  131.74,2,   33.02,3,    0.01,2,    2.31,2,-999.000,5,-999.000,5,  -999.0,9,  -999.0,9,  -999.0,5,-999.000,1,-999.000,-999.0000,1, -999.00,9, -999.00,9,  -999.0,9,  -999.0,-999.000,9,-999.000, 43128.5,   0.9645,-999.0000, -999.00
 316N145_14,       I02E,    1121,          1,          8,     SIH016,2,19951218,       0542,   -10.6167,    88.1055,       4751,  4402.1,   1.2972,  34.7164,2,  34.7180,2,    187.0,2,   186.2,2,  130.88,2,   33.23,3,    0.01,2,    2.30,2,-999.000,5,-999.000,5,  -999.0,9,  -999.0,9,  -999.0,5,-999.000,1,-999.000,-999.0000,1, -999.00,9, -999.00,9,  -999.0,9,  -999.0,-999.000,9,-999.000, 44163.1,   0.9394,-999.0000, -999.00
 316N145_14,       I02E,    1121,          1,          7,     SIH017,2,19951218,       0542,   -10.6167,    88.1055,       4751,  4502.5,   1.2922,  34.7166,2,  34.7154,2,    188.1,2,   187.6,2,  130.18,2,   32.92,3,    0.00,2,    2.30,2,-999.000,5,-999.000,5,  -999.0,9,  -999.0,9,  -999.0,5,-999.000,1,-999.000,-999.0000,1, -999.00,9, -999.00,9,  -999.0,9,  -999.0,-999.000,9,-999.000, 45167.4,   0.9232,-999.0000, -999.00
 316N145_14,       I02E,    1121,          1,          6,     SIH018,2,19951218,       0542,   -10.6167,    88.1055,       4751,  4598.7,   1.3012,  34.7162,2,  34.7152,2,    187.9,2,   187.7,2,  129.64,2,   32.97,3,    0.01,2,    2.28,2,-999.000,5,-999.000,5,  -999.0,9,  -999.0,9,  -999.0,5,-999.000,1,-999.000,-999.0000,1, -999.00,9, -999.00,9,  -999.0,9,  -999.0,-999.000,9,-999.000, 46129.4,   0.9209,-999.0000, -999.00
 316N145_14,       I02E,    1121,          1,          5,     SIH002,2,19951218,       0542,   -10.6167,    88.1055,       4751,  4651.9,   1.3069,  34.7168,2,  34.7152,2,    186.9,2,   188.0,2,  129.59,2,   32.75,3,    0.01,2,    2.27,2,-999.000,5,-999.000,5,  -999.0,9,  -999.0,9,  -999.0,5,-999.000,1,-999.000,-999.0000,1, -999.00,9, -999.00,9,  -999.0,9,  -999.0,-999.000,9,-999.000, 46662.2,   0.9202,-999.0000, -999.00
 316N145_14,       I02E,    1121,          1,          4,     SIH020,2,19951218,       0542,   -10.6167,    88.1055,       4751,  4701.2,   1.3121,  34.7162,2,  34.7136,3,    186.5,2,   187.9,2,  129.55,2,   32.97,3,    0.01,2,    2.28,2,-999.000,5,-999.000,5,  -999.0,9,  -999.0,9,  -999.0,5,-999.000,1,-999.000,-999.0000,1, -999.00,9, -999.00,9,  -999.0,9,  -999.0,-999.000,9,-999.000, 47154.7,   0.9195,-999.0000, -999.00
 316N145_14,       I02E,    1121,          1,          3,     SIH021,2,19951218,       0542,   -10.6167,    88.1055,       4751,  4751.4,   1.3155,  34.7164,2,  34.7152,2,    188.7,2,   188.3,2,  129.56,2,   33.08,3,    0.01,2,    2.28,2,-999.000,5,-999.000,5,  -999.0,9,  -999.0,9,  -999.0,5,-999.000,1,-999.000,-999.0000,1, -999.00,9, -999.00,9,  -999.0,9,  -999.0,-999.000,9,-999.000, 47656.9,   0.9169,-999.0000, -999.00
 316N145_14,       I02E,    1121,          1,          2,     SIH022,2,19951218,       0542,   -10.6167,    88.1055,       4751,  4798.9,   1.3210,  34.7163,2,  34.7154,2,    187.7,2,   188.7,2,  129.69,2,   33.00,3,    0.01,2,    2.29,2,-999.000,5,-999.000,5,  -999.0,9,  -999.0,9,  -999.0,5,-999.000,1,-999.000,-999.0000,1, -999.00,9, -999.00,9,  -999.0,9,  -999.0,-999.000,9,-999.000, 48132.1,   0.9166,-999.0000, -999.00
 316N145_14,       I02E,    1121,          1,          1,     SIH023,2,19951218,       0542,   -10.6167,    88.1055,       4751,  4887.6,   1.3275,  34.7168,2,  34.7150,2,    188.1,2,   189.6,2,  129.33,6,   32.98,3,    0.01,6,    2.29,6,   0.002,2,  -0.001,2,  -999.0,9,  -999.0,9,  -999.0,5,-999.000,1,-999.000,-999.0000,1, -999.00,9, -999.00,9,  -999.0,9,  -999.0,-999.000,9,-999.000, 49019.9,   0.9124,-999.0000, -999.00