BOTTLE,20220829CCHSIOAMB
EXPOCODE,SECT_ID,STNNBR,CASTNO,SAMPNO,BTLNBR,BTLNBR_FLAG_W,DATE,TIME,LATITUDE,LONGITUDE,DEPTH,CTDPRS,CTDTMP,CTDSAL,CTDSAL_FLAG_W,SALNTY,SALNTY_FLAG_W,CTDOXY,CTDOXY_FLAG_W,OXYGEN,OXYGEN_FLAG_W,SILCAT,SILCAT_FLAG_W,NITRAT,NITRAT_FLAG_W,NITRIT,NITRIT_FLAG_W,PHSPHT,PHSPHT_FLAG_W,CFC-11,CFC-11_FLAG_W,CFC-12,CFC-12_FLAG_W,TCARBN,TCARBN_FLAG_W,ALKALI,ALKALI_FLAG_W,PCO2,PCO2_FLAG_W,TRITUM,TRITUM_FLAG_W,TRITER,HELIUM,HELIUM_FLAG_W,DELHE3,DELHE3_FLAG_W,DELC13,DELC13_FLAG_W,DELC14,DELC14_FLAG_W,C14ERR,NEON,NEON_FLAG_W,NEONER,CTDRAW,THETA,HELIER,DELHER
,,,,,,,,,,,METERS,DBAR,ITS-90,PSS-78,,PSS-78,,UMOL/KG,,UMOL/KG,,UMOL/KG,,UMOL/KG,,UMOL/KG,,UMOL/KG,,PMOL/KG,,PMOL/KG,,UMOL/KG,,UMOL/KG,,UATM,,TU,,TU,NMOL/KG,,PERCNT,,/MILLE,,/MILLE,,/MILLE,NMOL/KG,,NMOL/KG,DBAR,DEG C,NMOL/KG,PERCNT
 316N145_14,       I02E,    1130,          1,         36,     SIH024,2,19951220,       1948,    -8.0000,    85.3333,       5335,    13.4,  28.3781,  34.3013,2,  34.3058,2,    223.0,2,   210.9,2,    1.90,2,    0.05,2,    0.00,2,    0.09,2,   1.655,4,   0.904,2,  1922.3,2,  2250.8,2,  -999.0,5,   1.135,2,   0.004,   1.7137,2,   -1.03,2, -999.00,9,  -999.0,9,  -999.0,   6.609,2,-999.000,   278.5,  28.3749,-999.0000, -999.00
 316N145_14,       I02E,    1130,          1,         35,     SIH003,2,19951220,       1948,    -8.0000,    85.3333,       5335,    37.6,  27.6052,  34.3169,2,  34.3266,2,    227.2,2,   205.5,2,    2.07,2,    0.11,2,    0.00,2,    0.10,2,   1.711,2,   0.975,2,  -999.0,9,  -999.0,9,  -999.0,5,   1.137,2,   0.004,-999.0000,1, -999.00,9, -999.00,9,  -999.0,9,  -999.0,-999.000,9,-999.000,   513.4,  27.5964,-999.0000, -999.00
 316N145_14,       I02E,    1130,          1,         34,     SIH026,2,19951220,       1948,    -8.0000,    85.3333,       5335,    67.6,  24.0892,  34.6980,2,  34.7217,2,    162.8,2,   134.6,2,    7.57,2,    6.62,2,    0.26,2,    0.73,2,   1.507,2,   0.834,2,  -999.0,9,  -999.0,9,  -999.0,5,   1.033,2,   0.004,   1.7379,2,    1.97,2, -999.00,9,  -999.0,9,  -999.0,   6.782,2,-999.000,   806.9,  24.0750,-999.0000, -999.00
 316N145_14,       I02E,    1130,          1,         33,     SIH027,2,19951220,       1948,    -8.0000,    85.3333,       5335,   108.5,  18.8657,  34.9351,2,  34.9349,2,     56.7,2,    63.0,2,   17.85,2,   20.98,2,    0.05,2,    1.51,2,   1.190,2,   0.636,2,  -999.0,9,  -999.0,9,  -999.0,5,   0.876,2,   0.004,   1.7738,2,    5.13,2, -999.00,9,  -999.0,9,  -999.0,   7.013,2,-999.000,  1213.4,  18.8465,-999.0000, -999.00
 316N145_14,       I02E,    1130,          1,         32,     SIH028,2,19951220,       1948,    -8.0000,    85.3333,       5335,   157.8,  15.5390,  34.8930,2,  34.8871,2,     60.1,2,    59.1,2,   24.00,2,   24.57,2,    0.02,2,    1.75,2,   0.903,2,   0.463,2,  -999.0,9,  -999.0,9,  -999.0,5,-999.000,1,-999.000,-999.0000,1, -999.00,9, -999.00,9,  -999.0,9,  -999.0,-999.000,9,-999.000,  1703.6,  15.5145,-999.0000, -999.00
 316N145_14,       I02E,    1130,          1,         31,     SIH029,2,19951220,       1948,    -8.0000,    85.3333,       5335,   208.4,  12.5733,  34.7784,2,  34.7781,2,     65.5,2,    65.6,2,   32.31,2,   27.14,2,    0.01,2,    1.94,2,   0.566,6,   0.274,6,  -999.0,9,  -999.0,9,  -999.0,5,   0.603,2,   0.003,   1.7992,2,    9.02,2, -999.00,9,  -999.0,9,  -999.0,   7.264,2,-999.000,  2209.9,  12.5453,-999.0000, -999.00
 316N145_14,       I02E,    1130,          1,         30,     SIH030,2,19951220,       1948,    -8.0000,    85.3333,       5335,   258.1,  11.6145,  34.8616,2,  34.8652,2,     61.7,2,    66.4,2,   30.83,2,   28.05,2,    0.01,2,    1.97,2,-999.000,5,-999.000,5,  -999.0,9,  -999.0,9,  -999.0,5,-999.000,1,-999.000,-999.0000,1, -999.00,9, -999.00,9,  -999.0,9,  -999.0,-999.000,9,-999.000,  2707.1,  11.5815,-999.0000, -999.00
 316N145_14,       I02E,    1130,          1,         29,     SIH031,2,19951220,       1948,    -8.0000,    85.3333,       5335,   308.0,  11.0637,  34.9158,2,  34.9136,2,     90.1,2,    92.1,2,   25.21,2,   26.26,2,    0.01,2,    1.82,2,   0.569,2,   0.282,2,  -999.0,9,  -999.0,9,  -999.0,5,   0.328,2,   0.003,   1.8041,2,    5.69,2, -999.00,9,  -999.0,9,  -999.0,   7.416,2,-999.000,  3206.3,  11.0255,-999.0000, -999.00
 316N145_14,       I02E,    1130,          1,         28,     SIH032,2,19951220,       1948,    -8.0000,    85.3333,       5335,   358.4,  10.4411,  34.8831,2,  34.8835,2,     94.3,2,    96.8,2,   25.73,2,   27.17,2,    0.01,2,    1.87,2,   0.488,2,   0.242,2,  -999.0,9,  -999.0,9,  -999.0,5,-999.000,1,-999.000,-999.0000,1, -999.00,9, -999.00,9,  -999.0,9,  -999.0,-999.000,9,-999.000,  3710.8,  10.3981,-999.0000, -999.00
 316N145_14,       I02E,    1130,          1,         27,     SIH033,2,19951220,       1948,    -8.0000,    85.3333,       5335,   408.9,   9.9175,  34.8504,2,  34.8505,2,     97.9,2,   102.5,2,   27.07,2,   27.68,2,    0.01,2,    1.92,2,   0.428,2,   0.217,2,  -999.0,9,  -999.0,9,  -999.0,5,   0.208,2,   0.002,   1.7975,2,    4.99,2, -999.00,9,  -999.0,9,  -999.0,   6.939,2,-999.000,  4214.6,   9.8699,-999.0000, -999.00
 316N145_14,       I02E,    1130,          1,         26,     SIH037,2,19951220,       1948,    -8.0000,    85.3333,       5335,   508.3,   8.9282,  34.8151,2,  34.8123,2,     86.9,2,    86.5,2,   38.53,2,   31.09,2,    0.01,2,    2.19,2,   0.145,2,   0.071,2,  -999.0,9,  -999.0,9,  -999.0,5,   0.097,2,   0.002,   1.8250,2,    5.76,2, -999.00,9,  -999.0,9,  -999.0,   7.206,2,-999.000,  5210.2,   8.8723,-999.0000, -999.00
 316N145_14,       I02E,    1130,          1,         25,     SI9446,2,19951220,       1948,    -8.0000,    85.3333,       5335,   604.2,   8.1513,  34.7955,2,  34.7968,2,     76.7,2,    70.6,2,   52.31,2,   33.53,2,    0.01,2,    2.42,2,   0.038,2,   0.018,2,  -999.0,9,  -999.0,9,  -999.0,5,-999.000,1,-999.000,   1.8050,2,    7.35,2, -999.00,9,  -999.0,9,  -999.0,   7.565,2,   0.038,  6168.9,   8.0881,   0.0030,    0.20
 316N145_14,       I02E,    1130,          1,         24,     SIH036,2,19951220,       1948,    -8.0000,    85.3333,       5335,   703.7,   7.4203,  34.7695,2,  34.7695,2,     69.2,2,    68.9,2,   63.60,2,   35.01,2,    0.01,2,    2.53,2,   0.022,2,   0.010,2,  -999.0,9,  -999.0,9,  -999.0,5,-999.000,1,-999.000,-999.0000,1, -999.00,9, -999.00,9,  -999.0,9,  -999.0,-999.000,9,-999.000,  7164.3,   7.3500,-999.0000, -999.00
 316N145_14,       I02E,    1130,          1,         23,     SIH001,2,19951220,       1948,    -8.0000,    85.3333,       5335,   805.3,   6.6793,  34.7421,2,  34.7404,2,     67.1,2,    67.4,2,   76.70,2,   36.08,2,    0.01,2,    2.63,2,   0.008,2,   0.003,2,  -999.0,9,  -999.0,9,  -999.0,5,-999.000,1,-999.000,   1.8240,2,   11.42,2, -999.00,9,  -999.0,9,  -999.0,   7.660,2,   0.038,  8180.1,   6.6028,   0.0040,    0.20
 316N145_14,       I02E,    1130,          1,         22,     SIH019,2,19951220,       1948,    -8.0000,    85.3333,       5335,   905.5,   5.8756,  34.7027,2,  34.7022,2,     75.3,2,    76.2,2,   87.51,2,   36.35,2,    0.01,2,    2.65,2,   0.007,2,   0.002,2,  -999.0,9,  -999.0,9,  -999.0,5,-999.000,1,-999.000,-999.0000,1, -999.00,9, -999.00,9,  -999.0,9,  -999.0,-999.000,9,-999.000,  9181.7,   5.7945,-999.0000, -999.00
 316N145_14,       I02E,    1130,          1,         21,     SIH025,2,19951220,       1948,    -8.0000,    85.3333,       5335,  1006.2,   5.3106,  34.6929,2,  34.6926,2,     80.8,2,    80.9,2,   94.82,2,   36.52,2,    0.00,2,    2.66,2,   0.006,2,   0.000,2,  -999.0,9,  -999.0,9,  -999.0,5,-999.000,1,-999.000,   1.6650,4,   14.24,4, -999.00,9,  -999.0,9,  -999.0,   6.624,4,   0.018, 10190.0,   5.2241,   0.0030,    0.18
 316N145_14,       I02E,    1130,          1,         20,     SIH004,2,19951220,       1948,    -8.0000,    85.3333,       5335,  1105.8,   4.8373,  34.6846,2,  34.6842,2,     86.8,2,    87.8,2,  100.97,2,   36.56,2,    0.00,2,    2.66,2,   0.005,2,   0.003,2,  -999.0,9,  -999.0,9,  -999.0,5,-999.000,1,-999.000,-999.0000,1, -999.00,9, -999.00,9,  -999.0,9,  -999.0,-999.000,9,-999.000, 11186.1,   4.7454,-999.0000, -999.00
 316N145_14,       I02E,    1130,          1,         19,     SIH005,2,19951220,       1948,    -8.0000,    85.3333,       5335,  1206.2,   4.5303,  34.7141,2,  34.7125,2,     90.3,2,    91.0,2,  103.30,2,   36.71,2,    0.00,2,    2.67,2,   0.001,2,   0.000,2,  -999.0,9,  -999.0,9,  -999.0,5,-999.000,1,-999.000,   1.8710,2,   14.39,2, -999.00,9,  -999.0,9,  -999.0,   7.836,2,   0.039, 12191.0,   4.4319,   0.0040,    0.20
 316N145_14,       I02E,    1130,          1,         18,     SIH006,2,19951220,       1948,    -8.0000,    85.3333,       5335,  1408.3,   3.9564,  34.7317,2,  34.7321,2,    101.7,2,   100.0,2,  108.13,2,   36.47,2,    0.01,2,    2.65,2,  -0.001,2,  -0.001,2,  -999.0,9,  -999.0,9,  -999.0,5,-999.000,1,-999.000,   1.8740,2,   13.82,2, -999.00,9,  -999.0,9,  -999.0,   7.887,2,   0.039, 14212.8,   3.8455,   0.0040,    0.20
 316N145_14,       I02E,    1130,          1,         17,     SIH038,2,19951220,       1948,    -8.0000,    85.3333,       5335,  1609.9,   3.3316,  34.7528,2,  34.7524,2,    115.9,2,   114.3,2,  112.78,2,   36.06,2,    0.00,2,    2.61,2,-999.000,5,-999.000,5,  -999.0,9,  -999.0,9,  -999.0,5,-999.000,1,-999.000,   1.6720,4,   14.90,4, -999.00,9,  -999.0,9,  -999.0,   6.612,4,   0.033, 16229.3,   3.2100,   0.0030,    0.20
 316N145_14,       I02E,    1130,          1,         16,     SIH008,2,19951220,       1948,    -8.0000,    85.3333,       5335,  1812.7,   2.8178,  34.7499,2,  34.7508,2,    131.1,2,   128.7,2,  116.44,2,   35.47,2,    0.00,2,    2.54,2,-999.000,5,-999.000,5,  -999.0,9,  -999.0,9,  -999.0,5,-999.000,1,-999.000,   1.8790,2,   13.67,2, -999.00,9,  -999.0,9,  -999.0,   7.985,2,   0.039, 18258.0,   2.6852,   0.0040,    0.20
 316N145_14,       I02E,    1130,          1,         15,     SIH009,2,19951220,       1948,    -8.0000,    85.3333,       5335,  2009.1,   2.4646,  34.7484,2,  34.7490,2,    142.1,2,   139.9,2,  119.45,2,   34.95,2,    0.00,2,    2.49,2,-999.000,5,-999.000,5,  -999.0,9,  -999.0,9,  -999.0,5,-999.000,1,-999.000,   1.8750,2,   14.20,2, -999.00,9,  -999.0,9,  -999.0,   8.004,2,   0.040, 20222.7,   2.3199,   0.0040,    0.20
 316N145_14,       I02E,    1130,          1,         14,     SIH010,2,19951220,       1948,    -8.0000,    85.3333,       5335,  2257.9,   2.1505,  34.7401,2,  34.7398,2,    151.4,2,   151.0,2,  121.46,2,   34.42,2,    0.00,2,    2.44,2,   0.000,2,  -0.003,2,  -999.0,9,  -999.0,9,  -999.0,5,-999.000,1,-999.000,   1.9000,2,   14.38,2, -999.00,9,  -999.0,9,  -999.0,   8.066,2,   0.019, 22712.0,   1.9890,   0.0070,    0.12
 316N145_14,       I02E,    1130,          1,         13,     SIH011,9,19951220,       1948,    -8.0000,    85.3333,       5335,  2505.7,   1.9497,  34.7355,2,-999.0000,9,    158.7,2,  -999.0,9, -999.00,9, -999.00,9, -999.00,9, -999.00,9,-999.000,5,-999.000,5,  -999.0,9,  -999.0,9,  -999.0,5,-999.000,1,-999.000,-999.0000,1, -999.00,9, -999.00,9,  -999.0,9,  -999.0,-999.000,9,-999.000, 25191.6,   1.7695,-999.0000, -999.00
 316N145_14,       I02E,    1130,          1,         12,     SIH012,2,19951220,       1948,    -8.0000,    85.3333,       5335,  2753.9,   1.7930,  34.7323,2,  34.7313,2,    162.2,2,   162.5,2,  125.96,2,   33.84,2,    0.01,2,    2.38,2,-999.000,5,-999.000,5,  -999.0,9,  -999.0,9,  -999.0,5,-999.000,1,-999.000,   1.8650,2,   14.27,2, -999.00,9,  -999.0,9,  -999.0,   8.071,2,   0.019, 27674.8,   1.5929,   0.0060,    0.12
 316N145_14,       I02E,    1130,          1,         11,     SI9426,2,19951220,       1948,    -8.0000,    85.3333,       5335,  3002.1,   1.6660,  34.7286,2,  34.7278,2,    165.5,2,   165.8,2,  128.79,2,   33.77,2,    0.01,2,    2.38,2,-999.000,5,-999.000,5,  -999.0,9,  -999.0,9,  -999.0,5,-999.000,1,-999.000,   1.8860,2,   13.62,2, -999.00,9,  -999.0,9,  -999.0,   8.086,2,   0.020, 30157.1,   1.4451,   0.0050,    0.12
 316N145_14,       I02E,    1130,          1,         10,     SIH014,2,19951220,       1948,    -8.0000,    85.3333,       5335,  3250.6,   1.5661,  34.7263,2,  34.7256,2,    166.9,2,   167.0,2,  131.62,2,   33.87,2,    0.01,2,    2.37,2,-999.000,5,-999.000,5,  -999.0,9,  -999.0,9,  -999.0,5,-999.000,1,-999.000,   1.8720,2,   13.17,2, -999.00,9,  -999.0,9,  -999.0,   8.093,2,   0.020, 32643.3,   1.3232,   0.0060,    0.12
 316N145_14,       I02E,    1130,          1,          9,     SIH015,2,19951220,       1948,    -8.0000,    85.3333,       5335,  3499.6,   1.4566,  34.7221,2,  34.7223,2,    170.0,2,   170.4,2,  133.46,6,   33.84,6,    0.00,6,    2.36,6,  -0.001,2,  -0.001,2,  -999.0,9,  -999.0,9,  -999.0,5,-999.000,1,-999.000,   1.8830,2,   11.95,2, -999.00,9,  -999.0,9,  -999.0,   8.133,2,   0.020, 35135.1,   1.1913,   0.0050,    0.12
 316N145_14,       I02E,    1130,          1,          8,     SIH016,2,19951220,       1948,    -8.0000,    85.3333,       5335,  3749.6,   1.4022,  34.7206,2,  34.7207,2,    175.2,2,   175.5,2,  133.06,3,   33.51,6,    0.01,6,    2.35,6,-999.000,5,-999.000,5,  -999.0,9,  -999.0,9,  -999.0,5,-999.000,1,-999.000,-999.0000,1, -999.00,9, -999.00,9,  -999.0,9,  -999.0,-999.000,9,-999.000, 37635.7,   1.1125,-999.0000, -999.00
 316N145_14,       I02E,    1130,          1,          7,     SIH017,2,19951220,       1948,    -8.0000,    85.3333,       5335,  3998.4,   1.3425,  34.7179,2,  34.7180,2,    181.0,2,   181.5,2,  130.69,3,   33.14,2,    0.01,2,    2.32,2,-999.000,5,-999.000,5,  -999.0,9,  -999.0,9,  -999.0,5,-999.000,1,-999.000,-999.0000,1, -999.00,9, -999.00,9,  -999.0,9,  -999.0,-999.000,9,-999.000, 40124.4,   1.0280,-999.0000, -999.00
 316N145_14,       I02E,    1130,          1,          6,     SIH018,2,19951220,       1948,    -8.0000,    85.3333,       5335,  4249.9,   1.3275,  34.7171,2,  34.7170,2,    182.1,2,   183.7,2,  130.87,2,   33.08,2,    0.01,2,    2.30,2,-999.000,5,-999.000,5,  -999.0,9,  -999.0,9,  -999.0,5,-999.000,1,-999.000,   1.8790,2,   11.25,2, -999.00,9,  -999.0,9,  -999.0,   8.138,2,   0.020, 42640.5,   0.9859,   0.0050,    0.12
 316N145_14,       I02E,    1130,          1,          5,     SIH002,2,19951220,       1948,    -8.0000,    85.3333,       5335,  4499.8,   1.3275,  34.7166,2,  34.7174,2,    183.9,2,   185.6,2,  130.06,2,   33.07,2,    0.01,2,    2.29,2,  -0.001,2,   0.000,2,  -999.0,9,  -999.0,9,  -999.0,5,-999.000,1,-999.000,-999.0000,1, -999.00,9, -999.00,9,  -999.0,9,  -999.0,-999.000,9,-999.000, 45140.6,   0.9577,-999.0000, -999.00
 316N145_14,       I02E,    1130,          1,          4,     SIH020,2,19951220,       1948,    -8.0000,    85.3333,       5335,  4750.7,   1.3383,  34.7157,2,  34.7160,2,    186.6,2,   187.0,2,  129.25,2,   33.06,2,    0.01,2,    2.28,2,-999.000,5,-999.000,5,  -999.0,9,  -999.0,9,  -999.0,5,-999.000,1,-999.000,-999.0000,1, -999.00,9, -999.00,9,  -999.0,9,  -999.0,-999.000,9,-999.000, 47650.1,   0.9390,-999.0000, -999.00
 316N145_14,       I02E,    1130,          1,          3,     SIH021,2,19951220,       1948,    -8.0000,    85.3333,       5335,  5000.9,   1.3618,  34.7157,2,  34.7160,2,    186.7,2,   187.7,2,  128.94,2,   32.81,2,    0.01,2,    2.30,2,-999.000,5,-999.000,5,  -999.0,9,  -999.0,9,  -999.0,5,-999.000,1,-999.000,-999.0000,1, -999.00,9, -999.00,9,  -999.0,9,  -999.0,-999.000,9,-999.000, 50153.2,   0.9319,-999.0000, -999.00
 316N145_14,       I02E,    1130,          1,          2,     SIH022,2,19951220,       1948,    -8.0000,    85.3333,       5335,  5256.5,   1.3915,  34.7160,2,  34.7156,2,    188.0,2,   187.9,2,  129.11,2,   32.91,2,    0.01,2,    2.28,2,-999.000,5,-999.000,5,  -999.0,9,  -999.0,9,  -999.0,5,-999.000,1,-999.000,-999.0000,1, -999.00,9, -999.00,9,  -999.0,9,  -999.0,-999.000,9,-999.000, 52710.4,   0.9292,-999.0000, -999.00
 316N145_14,       I02E,    1130,          1,          1,     SIH023,2,19951220,       1948,    -8.0000,    85.3333,       5335,  5465.5,   1.4164,  34.7153,2,  34.7158,2,    188.0,2,   187.7,2,  128.76,6,   32.91,6,    0.01,6,    2.28,6,   0.004,2,   0.007,3,  -999.0,9,  -999.0,9,  -999.0,5,-999.000,1,-999.000,   1.8640,3,   11.35,2, -999.00,9,  -999.0,9,  -999.0,   7.962,4,   0.022, 54801.6,   0.9270,   0.0040,    0.14