BOTTLE,20220829CCHSIOAMB
EXPOCODE,SECT_ID,STNNBR,CASTNO,SAMPNO,BTLNBR,BTLNBR_FLAG_W,DATE,TIME,LATITUDE,LONGITUDE,DEPTH,CTDPRS,CTDTMP,CTDSAL,CTDSAL_FLAG_W,SALNTY,SALNTY_FLAG_W,CTDOXY,CTDOXY_FLAG_W,OXYGEN,OXYGEN_FLAG_W,SILCAT,SILCAT_FLAG_W,NITRAT,NITRAT_FLAG_W,NITRIT,NITRIT_FLAG_W,PHSPHT,PHSPHT_FLAG_W,CFC-11,CFC-11_FLAG_W,CFC-12,CFC-12_FLAG_W,TCARBN,TCARBN_FLAG_W,ALKALI,ALKALI_FLAG_W,PCO2,PCO2_FLAG_W,TRITUM,TRITUM_FLAG_W,TRITER,HELIUM,HELIUM_FLAG_W,DELHE3,DELHE3_FLAG_W,DELC13,DELC13_FLAG_W,DELC14,DELC14_FLAG_W,C14ERR,NEON,NEON_FLAG_W,NEONER,CTDRAW,THETA,HELIER,DELHER
,,,,,,,,,,,METERS,DBAR,ITS-90,PSS-78,,PSS-78,,UMOL/KG,,UMOL/KG,,UMOL/KG,,UMOL/KG,,UMOL/KG,,UMOL/KG,,PMOL/KG,,PMOL/KG,,UMOL/KG,,UMOL/KG,,UATM,,TU,,TU,NMOL/KG,,PERCNT,,/MILLE,,/MILLE,,/MILLE,NMOL/KG,,NMOL/KG,DBAR,DEG C,NMOL/KG,PERCNT
 316N145_14,       I02E,    1156,          1,         27,     SIH033,2,19951227,       1411,    -8.0000,    70.6638,       2428,    11.6,  28.6071,  34.3028,2,  34.3064,2,    209.9,2,   206.2,2,    3.35,2,    0.06,2,   -0.01,2,    0.13,2,   1.681,3,   0.963,3,  1903.3,2,  2242.4,2,  -999.0,5,-999.000,1,-999.000,-999.0000,1, -999.00,9, -999.00,9,  -999.0,9,  -999.0,-999.000,9,-999.000,   252.3,  28.6044,-999.0000, -999.00
 316N145_14,       I02E,    1156,          1,         26,     SIH037,2,19951227,       1411,    -8.0000,    70.6638,       2428,    31.7,  27.8748,  34.6396,2,  34.6549,2,    217.6,2,   214.5,2,    3.34,2,    0.22,2,   -0.01,2,    0.15,2,   1.900,3,   1.040,3,  -999.0,9,  -999.0,9,  -999.0,5,-999.000,1,-999.000,-999.0000,1, -999.00,9, -999.00,9,  -999.0,9,  -999.0,-999.000,9,-999.000,   447.3,  27.8674,-999.0000, -999.00
 316N145_14,       I02E,    1156,          1,         25,     SI9446,2,19951227,       1411,    -8.0000,    70.6638,       2428,    61.2,  21.8113,  35.2642,2,  35.2808,2,    164.9,2,   177.3,2,    6.76,2,    3.96,2,    0.10,2,    0.43,2,   1.393,2,   0.733,2,  -999.0,9,  -999.0,9,  -999.0,5,-999.000,1,-999.000,-999.0000,1, -999.00,9, -999.00,9,  -999.0,9,  -999.0,-999.000,9,-999.000,   738.3,  21.7992,-999.0000, -999.00
 316N145_14,       I02E,    1156,          1,         24,     SIH036,2,19951227,       1411,    -8.0000,    70.6638,       2428,    91.6,  17.7822,  35.1061,2,  35.1126,2,     81.4,2,    93.5,2,   17.72,2,   17.74,2,    0.10,2,    1.30,2,   1.201,2,   0.632,2,  -999.0,9,  -999.0,9,  -999.0,5,-999.000,1,-999.000,-999.0000,1, -999.00,9, -999.00,9,  -999.0,9,  -999.0,-999.000,9,-999.000,  1040.9,  17.7667,-999.0000, -999.00
 316N145_14,       I02E,    1156,          1,         23,     SIH001,2,19951227,       1411,    -8.0000,    70.6638,       2428,   121.5,  16.0394,  34.9983,2,  35.0012,2,     86.8,2,    88.2,2,   22.52,2,   20.37,2,    0.03,2,    1.46,2,-999.000,5,-999.000,5,  -999.0,9,  -999.0,9,  -999.0,5,-999.000,1,-999.000,-999.0000,1, -999.00,9, -999.00,9,  -999.0,9,  -999.0,-999.000,9,-999.000,  1338.7,  16.0202,-999.0000, -999.00
 316N145_14,       I02E,    1156,          1,         22,     SIH019,2,19951227,       1411,    -8.0000,    70.6638,       2428,   151.7,  14.3677,  34.9590,2,  34.9608,2,     73.9,2,    72.5,2,   25.26,2,   24.24,2,    0.00,2,    1.72,2,   0.880,6,   0.447,6,  -999.0,9,  -999.0,9,  -999.0,5,-999.000,1,-999.000,-999.0000,1, -999.00,9, -999.00,9,  -999.0,9,  -999.0,-999.000,9,-999.000,  1640.6,  14.3454,-999.0000, -999.00
 316N145_14,       I02E,    1156,          1,         21,     SIH013,2,19951227,       1411,    -8.0000,    70.6638,       2428,   201.1,  12.8416,  35.0099,2,  35.0102,2,     92.0,2,    90.1,2,   23.72,2,   23.88,2,   -0.01,2,    1.70,2,   1.075,2,   0.535,2,  -999.0,9,  -999.0,9,  -999.0,5,-999.000,1,-999.000,-999.0000,1, -999.00,9, -999.00,9,  -999.0,9,  -999.0,-999.000,9,-999.000,  2132.9,  12.8142,-999.0000, -999.00
 316N145_14,       I02E,    1156,          1,         20,     SIH004,2,19951227,       1411,    -8.0000,    70.6638,       2428,   251.8,  11.8061,  34.9805,2,  34.9784,2,    119.0,2,   120.1,2,   21.48,2,   22.16,2,   -0.01,2,    1.58,2,   1.152,2,   0.573,2,  -999.0,9,  -999.0,9,  -999.0,5,-999.000,1,-999.000,-999.0000,1, -999.00,9, -999.00,9,  -999.0,9,  -999.0,-999.000,9,-999.000,  2639.3,  11.7735,-999.0000, -999.00
 316N145_14,       I02E,    1156,          1,         19,     SIH005,2,19951227,       1411,    -8.0000,    70.6638,       2428,   302.0,  10.9560,  34.9194,2,  34.9191,2,    138.6,2,   138.0,2,   19.93,2,   22.00,2,    0.00,2,    1.55,2,   1.037,2,   0.518,2,  -999.0,9,  -999.0,9,  -999.0,5,-999.000,1,-999.000,-999.0000,1, -999.00,9, -999.00,9,  -999.0,9,  -999.0,-999.000,9,-999.000,  3141.7,  10.9187,-999.0000, -999.00
 316N145_14,       I02E,    1156,          1,         18,     SIH006,2,19951227,       1411,    -8.0000,    70.6638,       2428,   351.3,  10.3297,  34.8642,2,  34.8625,2,    135.4,2,   141.4,2,   21.47,2,   22.86,2,    0.00,2,    1.62,2,   0.715,2,   0.355,2,  -999.0,9,  -999.0,9,  -999.0,5,-999.000,1,-999.000,-999.0000,1, -999.00,9, -999.00,9,  -999.0,9,  -999.0,-999.000,9,-999.000,  3634.9,  10.2879,-999.0000, -999.00
 316N145_14,       I02E,    1156,          1,         17,     SIH038,2,19951227,       1411,    -8.0000,    70.6638,       2428,   401.3,   9.5913,  34.8120,2,  34.8123,2,    125.5,2,   129.4,2,   26.26,2,   25.85,2,   -0.01,2,    1.81,2,-999.000,5,-999.000,5,  -999.0,9,  -999.0,9,  -999.0,5,-999.000,1,-999.000,-999.0000,1, -999.00,9, -999.00,9,  -999.0,9,  -999.0,-999.000,9,-999.000,  4136.3,   9.5455,-999.0000, -999.00
 316N145_14,       I02E,    1156,          1,         16,     SIH008,2,19951227,       1411,    -8.0000,    70.6638,       2428,   501.4,   8.6815,  34.8118,2,  34.8113,2,     88.6,2,    91.2,2,   42.73,2,   31.07,2,    0.00,2,    2.22,2,-999.000,5,-999.000,5,  -999.0,9,  -999.0,9,  -999.0,5,-999.000,1,-999.000,-999.0000,1, -999.00,9, -999.00,9,  -999.0,9,  -999.0,-999.000,9,-999.000,  5138.2,   8.6274,-999.0000, -999.00
 316N145_14,       I02E,    1156,          1,         15,     SIH009,2,19951227,       1411,    -8.0000,    70.6638,       2428,   501.5,   8.6815,  34.8117,2,  34.8104,2,     87.5,2,    91.3,2,   42.55,2,   31.24,2,   -0.01,2,    2.23,2,   0.192,2,   0.099,2,  -999.0,9,  -999.0,9,  -999.0,5,-999.000,1,-999.000,-999.0000,1, -999.00,9, -999.00,9,  -999.0,9,  -999.0,-999.000,9,-999.000,  5139.2,   8.6274,-999.0000, -999.00
 316N145_14,       I02E,    1156,          1,         14,     SIH010,2,19951227,       1411,    -8.0000,    70.6638,       2428,   601.9,   8.1158,  34.8099,2,  34.8096,2,     80.3,2,    81.5,2,   52.16,2,   33.09,2,    0.00,2,    2.37,2,   0.104,2,   0.055,2,  -999.0,9,  -999.0,9,  -999.0,5,-999.000,1,-999.000,-999.0000,1, -999.00,9, -999.00,9,  -999.0,9,  -999.0,-999.000,9,-999.000,  6142.9,   8.0529,-999.0000, -999.00
 316N145_14,       I02E,    1156,          1,         13,     SIH011,2,19951227,       1411,    -8.0000,    70.6638,       2428,   696.7,   7.5857,  34.8017,2,  34.8011,2,     70.2,2,    72.7,2,   62.11,2,   34.42,2,    0.00,2,    2.52,2,-999.000,5,-999.000,5,  -999.0,9,  -999.0,9,  -999.0,5,-999.000,1,-999.000,-999.0000,1, -999.00,9, -999.00,9,  -999.0,9,  -999.0,-999.000,9,-999.000,  7091.9,   7.5152,-999.0000, -999.00
 316N145_14,       I02E,    1156,          1,         12,     SIH012,2,19951227,       1411,    -8.0000,    70.6638,       2428,   796.7,   6.8712,  34.7805,2,  34.7791,2,     68.6,2,    69.4,2,   74.11,2,   35.76,2,   -0.01,2,    2.61,2,   0.017,2,   0.007,2,  -999.0,9,  -999.0,9,  -999.0,5,-999.000,1,-999.000,-999.0000,1, -999.00,9, -999.00,9,  -999.0,9,  -999.0,-999.000,9,-999.000,  8091.4,   6.7943,-999.0000, -999.00
 316N145_14,       I02E,    1156,          1,         11,     SI9426,2,19951227,       1411,    -8.0000,    70.6638,       2428,   897.6,   6.6120,  34.7857,2,  34.7846,2,     72.2,2,    71.6,2,   77.88,2,   35.80,2,    0.00,2,    2.62,2,-999.000,5,-999.000,5,  -999.0,9,  -999.0,9,  -999.0,5,-999.000,1,-999.000,-999.0000,1, -999.00,9, -999.00,9,  -999.0,9,  -999.0,-999.000,9,-999.000,  9100.5,   6.5266,-999.0000, -999.00
 316N145_14,       I02E,    1156,          1,         10,     SIH014,2,19951227,       1411,    -8.0000,    70.6638,       2428,  1012.4,   5.7644,  34.7656,2,  34.7661,2,     75.6,2,    75.8,2,   89.90,2,   36.33,2,    0.00,2,    2.69,2,   0.007,2,   0.003,2,  -999.0,9,  -999.0,9,  -999.0,5,-999.000,1,-999.000,-999.0000,1, -999.00,9, -999.00,9,  -999.0,9,  -999.0,-999.000,9,-999.000, 10249.0,   5.6737,-999.0000, -999.00
 316N145_14,       I02E,    1156,          1,          9,     SIH015,2,19951227,       1411,    -8.0000,    70.6638,       2428,  1106.7,   5.2690,  34.7581,2,  34.7581,2,     79.6,2,    80.9,2,   95.57,2,   36.64,2,    0.00,2,    2.69,2,-999.000,5,-999.000,5,  -999.0,9,  -999.0,9,  -999.0,5,-999.000,1,-999.000,-999.0000,1, -999.00,9, -999.00,9,  -999.0,9,  -999.0,-999.000,9,-999.000, 11192.1,   5.1733,-999.0000, -999.00
 316N145_14,       I02E,    1156,          1,          8,     SIH016,2,19951227,       1411,    -8.0000,    70.6638,       2428,  1206.6,   4.7574,  34.7595,2,  34.7604,2,     88.4,2,    87.6,2,  101.40,2,   36.69,2,    0.00,2,    2.69,2,   0.001,2,  -0.001,2,  -999.0,9,  -999.0,9,  -999.0,5,-999.000,1,-999.000,-999.0000,1, -999.00,9, -999.00,9,  -999.0,9,  -999.0,-999.000,9,-999.000, 12190.4,   4.6568,-999.0000, -999.00
 316N145_14,       I02E,    1156,          1,          7,     SIH017,2,19951227,       1411,    -8.0000,    70.6638,       2428,  1307.7,   4.5430,  34.7653,2,  34.7655,2,     93.6,2,    91.3,2,  102.94,2,   36.52,2,    0.01,2,    2.67,2,-999.000,5,-999.000,5,  -999.0,9,  -999.0,9,  -999.0,5,-999.000,1,-999.000,-999.0000,1, -999.00,9, -999.00,9,  -999.0,9,  -999.0,-999.000,9,-999.000, 13201.8,   4.4351,-999.0000, -999.00
 316N145_14,       I02E,    1156,          1,          6,     SIH018,2,19951227,       1411,    -8.0000,    70.6638,       2428,  1401.7,   4.1725,  34.7690,2,  34.7701,2,    101.0,2,    99.0,2,  105.86,2,   36.42,2,    0.00,2,    2.67,2,   0.000,2,   0.000,2,  -999.0,9,  -999.0,9,  -999.0,5,-999.000,1,-999.000,-999.0000,1, -999.00,9, -999.00,9,  -999.0,9,  -999.0,-999.000,9,-999.000, 14141.5,   4.0598,-999.0000, -999.00
 316N145_14,       I02E,    1156,          1,          5,     SIH002,2,19951227,       1411,    -8.0000,    70.6638,       2428,  1593.0,   3.5571,  34.7678,2,  34.7681,2,    114.8,2,   114.0,2,  110.83,2,   35.98,2,    0.01,2,    2.60,2,-999.000,5,-999.000,5,  -999.0,9,  -999.0,9,  -999.0,5,-999.000,1,-999.000,-999.0000,1, -999.00,9, -999.00,9,  -999.0,9,  -999.0,-999.000,9,-999.000, 16053.4,   3.4342,-999.0000, -999.00
 316N145_14,       I02E,    1156,          1,          4,     SIH020,2,19951227,       1411,    -8.0000,    70.6638,       2428,  1792.8,   3.0124,  34.7611,2,  34.7618,2,    126.7,2,   127.2,2,  116.33,2,   35.28,2,    0.01,2,    2.56,2,-999.000,5,-999.000,5,  -999.0,9,  -999.0,9,  -999.0,5,-999.000,1,-999.000,-999.0000,1, -999.00,9, -999.00,9,  -999.0,9,  -999.0,-999.000,9,-999.000, 18051.5,   2.8788,-999.0000, -999.00
 316N145_14,       I02E,    1156,          1,          3,     SIH021,2,19951227,       1411,    -8.0000,    70.6638,       2428,  1998.6,   2.6664,  34.7555,2,  34.7561,2,    136.4,2,   136.4,2,  119.76,2,   34.91,2,    0.00,2,    2.52,2,-999.000,5,-999.000,5,  -999.0,9,  -999.0,9,  -999.0,5,-999.000,1,-999.000,-999.0000,1, -999.00,9, -999.00,9,  -999.0,9,  -999.0,-999.000,9,-999.000, 20106.8,   2.5195,-999.0000, -999.00
 316N145_14,       I02E,    1156,          1,          2,     SIH022,2,19951227,       1411,    -8.0000,    70.6638,       2428,  2200.4,   2.3021,  34.7469,2,  34.7478,2,    146.4,2,   147.3,2,  122.85,2,   34.63,2,    0.01,2,    2.47,2,-999.000,5,-999.000,5,  -999.0,9,  -999.0,9,  -999.0,5,-999.000,1,-999.000,-999.0000,1, -999.00,9, -999.00,9,  -999.0,9,  -999.0,-999.000,9,-999.000, 22122.8,   2.1432,-999.0000, -999.00
 316N145_14,       I02E,    1156,          1,          1,     SIH023,2,19951227,       1411,    -8.0000,    70.6638,       2428,  2435.4,   2.0617,  34.7407,2,  34.7423,2,    152.4,2,   155.1,2,  125.35,6,   34.23,6,    0.00,6,    2.44,6,   0.003,2,   0.000,2,  -999.0,9,  -999.0,9,  -999.0,5,-999.000,1,-999.000,-999.0000,1, -999.00,9, -999.00,9,  -999.0,9,  -999.0,-999.000,9,-999.000, 24474.1,   1.8858,-999.0000, -999.00