BOTTLE,20220829CCHSIOAMB
EXPOCODE,SECT_ID,STNNBR,CASTNO,SAMPNO,BTLNBR,BTLNBR_FLAG_W,DATE,TIME,LATITUDE,LONGITUDE,DEPTH,CTDPRS,CTDTMP,CTDSAL,CTDSAL_FLAG_W,SALNTY,SALNTY_FLAG_W,CTDOXY,CTDOXY_FLAG_W,OXYGEN,OXYGEN_FLAG_W,SILCAT,SILCAT_FLAG_W,NITRAT,NITRAT_FLAG_W,NITRIT,NITRIT_FLAG_W,PHSPHT,PHSPHT_FLAG_W,CFC-11,CFC-11_FLAG_W,CFC-12,CFC-12_FLAG_W,TCARBN,TCARBN_FLAG_W,ALKALI,ALKALI_FLAG_W,PCO2,PCO2_FLAG_W,TRITUM,TRITUM_FLAG_W,TRITER,HELIUM,HELIUM_FLAG_W,DELHE3,DELHE3_FLAG_W,DELC13,DELC13_FLAG_W,DELC14,DELC14_FLAG_W,C14ERR,NEON,NEON_FLAG_W,NEONER,CTDRAW,THETA,HELIER,DELHER
,,,,,,,,,,,METERS,DBAR,ITS-90,PSS-78,,PSS-78,,UMOL/KG,,UMOL/KG,,UMOL/KG,,UMOL/KG,,UMOL/KG,,UMOL/KG,,PMOL/KG,,PMOL/KG,,UMOL/KG,,UMOL/KG,,UATM,,TU,,TU,NMOL/KG,,PERCNT,,/MILLE,,/MILLE,,/MILLE,NMOL/KG,,NMOL/KG,DBAR,DEG C,NMOL/KG,PERCNT
 316N145_14,       I02E,    1092,          1,         36,     SIH024,2,19951209,       1537,    -8.0028,    96.6628,       5075,    12.3,  27.5928,  34.0552,2,  34.0552,2,    211.0,2,   199.9,2,    2.53,2,    0.00,2,    0.00,2,    0.10,2,   1.673,2,   0.963,2,  1905.5,2,  2233.5,2,  -999.0,5,-999.000,1,-999.000,-999.0000,1, -999.00,9, -999.00,9,  -999.0,9,  -999.0,-999.000,9,-999.000,   265.7,  27.5899,-999.0000, -999.00
 316N145_14,       I02E,    1092,          1,         35,     SIH003,2,19951209,       1537,    -8.0028,    96.6628,       5075,    38.7,  27.5099,  34.0917,2,  34.1223,2,    219.7,2,   206.8,2,    2.53,2,    0.00,2,    0.00,2,    0.12,2,   1.682,2,   0.955,2,  1914.0,2,  2237.9,2,  -999.0,5,-999.000,1,-999.000,-999.0000,1, -999.00,9, -999.00,9,  -999.0,9,  -999.0,-999.000,9,-999.000,   521.9,  27.5009,-999.0000, -999.00
 316N145_14,       I02E,    1092,          1,         34,     SIH026,2,19951209,       1537,    -8.0028,    96.6628,       5075,    67.9,  21.5461,  34.8639,2,  34.8812,2,     92.4,2,    92.1,2,   13.80,2,   15.33,2,    0.25,2,    1.15,2,-999.000,5,-999.000,5,  2093.2,2,  2287.1,2,  -999.0,5,-999.000,1,-999.000,-999.0000,1, -999.00,9, -999.00,9,  -999.0,9,  -999.0,-999.000,9,-999.000,   808.7,  21.5329,-999.0000, -999.00
 316N145_14,       I02E,    1092,          1,         33,     SIH027,2,19951209,       1537,    -8.0028,    96.6628,       5075,   107.9,  18.2560,  34.7721,2,  34.7830,2,     90.0,2,    82.1,2,   20.75,2,   19.77,2,    0.03,2,    1.42,2,   1.211,2,   0.640,2,  2126.5,2,  2291.8,2,  -999.0,5,-999.000,1,-999.000,-999.0000,1, -999.00,9, -999.00,9,  -999.0,9,  -999.0,-999.000,9,-999.000,  1204.8,  18.2374,-999.0000, -999.00
 316N145_14,       I02E,    1092,          1,         32,     SIH028,2,19951209,       1537,    -8.0028,    96.6628,       5075,   158.1,  14.2401,  34.6807,2,  34.6879,2,     89.1,2,    83.1,2,   31.08,2,   23.96,2,    0.01,2,    1.71,2,   0.929,2,   0.464,2,  2165.9,2,  2299.8,2,  -999.0,5,-999.000,1,-999.000,-999.0000,1, -999.00,9, -999.00,9,  -999.0,9,  -999.0,-999.000,9,-999.000,  1704.9,  14.2171,-999.0000, -999.00
 316N145_14,       I02E,    1092,          1,         31,     SIH029,2,19951209,       1537,    -8.0028,    96.6628,       5075,   207.4,  12.2891,  34.7511,2,  34.7453,2,     62.8,2,    72.5,2,   35.21,2,   27.09,2,    0.01,2,    1.93,2,   0.636,2,   0.313,2,  2196.2,2,  2307.7,2,  -999.0,5,-999.000,1,-999.000,-999.0000,1, -999.00,9, -999.00,9,  -999.0,9,  -999.0,-999.000,9,-999.000,  2198.9,  12.2617,-999.0000, -999.00
 316N145_14,       I02E,    1092,          1,         30,     SIH030,2,19951209,       1537,    -8.0028,    96.6628,       5075,   256.4,  11.5255,  34.8580,2,  34.8544,2,     58.7,2,    61.3,2,   33.14,2,   29.06,2,    0.00,2,    2.04,2,   0.397,2,   0.198,2,  2212.8,2,  2313.9,2,  -999.0,5,-999.000,1,-999.000,-999.0000,1, -999.00,9, -999.00,9,  -999.0,9,  -999.0,-999.000,9,-999.000,  2688.6,  11.4929,-999.0000, -999.00
 316N145_14,       I02E,    1092,          1,         29,     SIH031,2,19951209,       1537,    -8.0028,    96.6628,       5075,   306.5,  10.9236,  34.8670,2,  34.8648,2,     58.8,2,    61.8,2,   33.33,2,   29.91,2,    0.00,2,    2.08,2,   0.298,2,   0.143,2,  2219.0,2,  2314.0,2,  -999.0,5,-999.000,1,-999.000,-999.0000,1, -999.00,9, -999.00,9,  -999.0,9,  -999.0,-999.000,9,-999.000,  3191.2,  10.8858,-999.0000, -999.00
 316N145_14,       I02E,    1092,          1,         28,     SIH032,2,19951209,       1537,    -8.0028,    96.6628,       5075,   356.9,  10.6333,  34.9032,2,  34.8969,2,     62.8,2,    65.0,2,   31.25,2,   30.23,2,    0.00,2,    2.05,2,   0.222,2,   0.111,2,  2218.9,2,  2311.7,2,  -999.0,5,-999.000,1,-999.000,-999.0000,1, -999.00,9, -999.00,9,  -999.0,9,  -999.0,-999.000,9,-999.000,  3695.0,  10.5900,-999.0000, -999.00
 316N145_14,       I02E,    1092,          1,         27,     SIH033,3,19951209,       1537,    -8.0028,    96.6628,       5075,   403.6,  10.1651,  34.8879,2,  34.8855,2,     71.9,2,    70.3,2,   32.00,2,   30.59,2,    0.00,2,    2.07,2,-999.000,5,-999.000,5,  2220.4,2,  2313.5,2,  -999.0,5,-999.000,1,-999.000,-999.0000,1, -999.00,9, -999.00,9,  -999.0,9,  -999.0,-999.000,9,-999.000,  4162.0,  10.1173,-999.0000, -999.00
 316N145_14,       I02E,    1092,          1,         26,     SIH037,2,19951209,       1537,    -8.0028,    96.6628,       5075,   503.2,   9.2610,  34.8486,2,  34.8462,2,     68.9,2,    68.9,2,   40.45,2,   32.24,2,    0.00,2,    2.26,2,   0.084,2,   0.039,2,  2233.1,2,  2320.1,2,  -999.0,5,-999.000,1,-999.000,-999.0000,1, -999.00,9, -999.00,9,  -999.0,9,  -999.0,-999.000,9,-999.000,  5158.3,   9.2045,-999.0000, -999.00
 316N145_14,       I02E,    1092,          1,         25,     SI9446,2,19951209,       1537,    -8.0028,    96.6628,       5075,   602.2,   8.4975,  34.8091,2,  34.8072,2,     63.8,2,    65.5,2,   51.36,2,   33.79,2,    0.00,2,    2.41,2,-999.000,5,-999.000,5,  2249.8,2,  2330.8,2,  -999.0,5,-999.000,1,-999.000,-999.0000,1, -999.00,9, -999.00,9,  -999.0,9,  -999.0,-999.000,9,-999.000,  6149.4,   8.4329,-999.0000, -999.00
 316N145_14,       I02E,    1092,          1,         24,     SIH036,2,19951209,       1537,    -8.0028,    96.6628,       5075,   706.1,   7.7265,  34.7922,2,  34.7899,2,     61.6,2,    62.1,2,   62.64,2,   35.11,2,    0.00,2,    2.54,2,   0.017,6,   0.007,6,  2265.7,2,  2343.4,2,  -999.0,5,-999.000,1,-999.000,-999.0000,1, -999.00,9, -999.00,9,  -999.0,9,  -999.0,-999.000,9,-999.000,  7187.7,   7.6544,-999.0000, -999.00
 316N145_14,       I02E,    1092,          1,         23,     SIH001,3,19951209,       1537,    -8.0028,    96.6628,       5075,   806.7,   6.8291,  34.7491,2,  34.7429,2,     63.9,2,    66.0,2,   76.56,2,   35.80,2,    0.00,2,    2.63,2,-999.000,5,-999.000,5,  2279.6,2,  2356.5,2,  -999.0,5,-999.000,1,-999.000,-999.0000,1, -999.00,9, -999.00,9,  -999.0,9,  -999.0,-999.000,9,-999.000,  8192.7,   6.7515,-999.0000, -999.00
 316N145_14,       I02E,    1092,          1,         22,     SIH019,2,19951209,       1537,    -8.0028,    96.6628,       5075,   903.2,   6.0647,  34.7178,2,  34.7125,2,     72.9,2,    72.3,2,   86.70,2,   36.32,2,    0.01,2,    2.65,2,   0.012,2,   0.003,2,  2289.6,2,  2361.7,2,  -999.0,5,-999.000,1,-999.000,-999.0000,1, -999.00,9, -999.00,9,  -999.0,9,  -999.0,-999.000,9,-999.000,  9159.5,   5.9825,-999.0000, -999.00
 316N145_14,       I02E,    1092,          1,         21,     SIH025,2,19951209,       1537,    -8.0028,    96.6628,       5075,  1003.1,   5.3739,  34.6910,2,  34.6879,2,     81.3,2,    80.2,2,   95.74,2,   36.26,2,    0.00,2,    2.68,2,   0.007,2,   0.002,2,  2297.0,2,  2373.7,2,  -999.0,5,-999.000,1,-999.000,-999.0000,1, -999.00,9, -999.00,9,  -999.0,9,  -999.0,-999.000,9,-999.000, 10157.6,   5.2872,-999.0000, -999.00
 316N145_14,       I02E,    1092,          1,         20,     SIH004,2,19951209,       1537,    -8.0028,    96.6628,       5075,  1105.6,   4.9764,  34.6935,2,  34.6938,2,     83.2,2,    84.8,2,  100.62,2,   36.47,2,    0.00,2,    2.68,2,-999.000,5,-999.000,5,  2301.7,2,  2376.8,2,  -999.0,5,-999.000,1,-999.000,-999.0000,1, -999.00,9, -999.00,9,  -999.0,9,  -999.0,-999.000,9,-999.000, 11184.0,   4.8833,-999.0000, -999.00
 316N145_14,       I02E,    1092,          1,         19,     SIH005,2,19951209,       1537,    -8.0028,    96.6628,       5075,  1197.1,   4.7728,  34.7284,2,  34.7272,2,     82.2,2,    85.4,2,  102.33,2,   36.42,2,    0.00,2,    2.68,2,   0.008,2,   0.001,2,  2304.9,2,  2381.1,2,  -999.0,5,-999.000,1,-999.000,-999.0000,1, -999.00,9, -999.00,9,  -999.0,9,  -999.0,-999.000,9,-999.000, 12100.5,   4.6729,-999.0000, -999.00
 316N145_14,       I02E,    1092,          1,         18,     SIH006,2,19951209,       1537,    -8.0028,    96.6628,       5075,  1295.7,   4.5642,  34.7529,2,  34.7532,2,     89.5,2,    88.2,2,  104.40,2,   36.64,2,    0.00,2,    2.68,2,   0.007,2,  -0.001,2,  2306.2,2,  2383.4,2,  -999.0,5,-999.000,1,-999.000,-999.0000,1, -999.00,9, -999.00,9,  -999.0,9,  -999.0,-999.000,9,-999.000, 13086.5,   4.4572,-999.0000, -999.00
 316N145_14,       I02E,    1092,          1,         17,     SIH038,2,19951209,       1537,    -8.0028,    96.6628,       5075,  1397.3,   4.3462,  34.7697,2,  34.7695,2,     91.7,2,    92.3,2,  104.77,2,   36.40,2,    0.00,2,    2.67,2,-999.000,5,-999.000,5,  2306.4,2,  2381.8,2,  -999.0,5,-999.000,1,-999.000,-999.0000,1, -999.00,9, -999.00,9,  -999.0,9,  -999.0,-999.000,9,-999.000, 14102.8,   4.2320,-999.0000, -999.00
 316N145_14,       I02E,    1092,          1,         16,     SIH008,2,19951209,       1537,    -8.0028,    96.6628,       5075,  1606.0,   3.6599,  34.7649,2,  34.7661,2,    107.2,2,   108.2,2,  110.23,2,   36.00,2,    0.00,2,    2.64,2,   0.005,2,   0.002,2,  2307.1,2,  2388.5,2,  -999.0,5,-999.000,1,-999.000,-999.0000,1, -999.00,9, -999.00,9,  -999.0,9,  -999.0,-999.000,9,-999.000, 16191.2,   3.5346,-999.0000, -999.00
 316N145_14,       I02E,    1092,          1,         15,     SIH009,2,19951209,       1537,    -8.0028,    96.6628,       5075,  1802.9,   3.1225,  34.7531,2,  34.7533,2,    120.3,2,   120.8,2,  115.48,2,   35.63,2,    0.00,2,    2.59,2,-999.000,5,-999.000,5,  2307.0,2,  2396.0,2,  -999.0,5,-999.000,1,-999.000,-999.0000,1, -999.00,9, -999.00,9,  -999.0,9,  -999.0,-999.000,9,-999.000, 18159.8,   2.9865,-999.0000, -999.00
 316N145_14,       I02E,    1092,          1,         14,     SIH010,2,19951209,       1537,    -8.0028,    96.6628,       5075,  1997.2,   2.7107,  34.7523,2,  34.7516,2,    131.6,2,   131.7,2,  119.99,2,   34.98,2,    0.00,2,    2.53,2,-999.000,5,-999.000,5,  2306.7,2,  2398.1,2,  -999.0,5,-999.000,1,-999.000,-999.0000,1, -999.00,9, -999.00,9,  -999.0,9,  -999.0,-999.000,9,-999.000, 20103.8,   2.5634,-999.0000, -999.00
 316N145_14,       I02E,    1092,          1,         13,     SIH011,2,19951209,       1537,    -8.0028,    96.6628,       5075,  2246.2,   2.3315,  34.7443,2,  34.7443,2,    143.1,2,   143.4,2,  123.57,2,   34.44,2,    0.01,2,    2.50,2,-999.000,5,-999.000,5,  2305.1,2,  2403.4,2,  -999.0,5,-999.000,1,-999.000,-999.0000,1, -999.00,9, -999.00,9,  -999.0,9,  -999.0,-999.000,9,-999.000, 22595.5,   2.1680,-999.0000, -999.00
 316N145_14,       I02E,    1092,          1,         12,     SIH012,2,19951209,       1537,    -8.0028,    96.6628,       5075,  2499.3,   2.0721,  34.7394,2,  34.7398,2,    149.5,2,   150.9,2,  126.38,2,   34.28,2,    0.00,2,    2.46,2,-999.000,5,-999.000,5,  2303.2,2,  2403.8,2,  -999.0,5,-999.000,1,-999.000,-999.0000,1, -999.00,9, -999.00,9,  -999.0,9,  -999.0,-999.000,9,-999.000, 25127.7,   1.8902,-999.0000, -999.00
 316N145_14,       I02E,    1092,          1,         11,     SI9425,2,19951209,       1537,    -8.0028,    96.6628,       5075,  2751.7,   1.8863,  34.7346,2,  34.7339,2,    158.2,2,   157.4,2,  128.46,2,   34.22,2,    0.00,2,    2.42,2,   0.002,2,   0.002,2,  2303.2,2,  2407.0,2,  -999.0,5,-999.000,1,-999.000,-999.0000,1, -999.00,9, -999.00,9,  -999.0,9,  -999.0,-999.000,9,-999.000, 27652.4,   1.6846,-999.0000, -999.00
 316N145_14,       I02E,    1092,          1,         10,     SIH014,2,19951209,       1537,    -8.0028,    96.6628,       5075,  2998.0,   1.7327,  34.7298,2,  34.7292,2,    162.4,2,   163.4,2,  129.59,2,   33.89,2,    0.01,2,    2.39,2,-999.000,5,-999.000,5,  2300.3,2,  2406.2,2,  -999.0,5,-999.000,1,-999.000,-999.0000,1, -999.00,9, -999.00,9,  -999.0,9,  -999.0,-999.000,9,-999.000, 30116.8,   1.5107,-999.0000, -999.00
 316N145_14,       I02E,    1092,          1,          9,     SIH015,2,19951209,       1537,    -8.0028,    96.6628,       5075,  3247.2,   1.5784,  34.7250,2,  34.7252,2,    166.9,2,   169.1,2,  130.72,2,   33.67,2,    0.00,2,    2.39,2,-999.000,5,-999.000,5,  2300.2,2,  2410.4,2,  -999.0,5,-999.000,1,-999.000,-999.0000,1, -999.00,9, -999.00,9,  -999.0,9,  -999.0,-999.000,9,-999.000, 32609.2,   1.3356,-999.0000, -999.00
 316N145_14,       I02E,    1092,          1,          8,     SIH016,2,19951209,       1537,    -8.0028,    96.6628,       5075,  3500.0,   1.4046,  34.7202,2,  34.7195,2,    176.6,2,   175.8,2,  131.28,2,   33.50,2,    0.00,2,    2.35,2,-999.000,5,-999.000,5,  2293.6,2,  2404.2,2,  -999.0,5,-999.000,1,-999.000,-999.0000,1, -999.00,9, -999.00,9,  -999.0,9,  -999.0,-999.000,9,-999.000, 35138.4,   1.1406,-999.0000, -999.00
 316N145_14,       I02E,    1092,          1,          7,     SIH017,2,19951209,       1537,    -8.0028,    96.6628,       5075,  3739.6,   1.2666,  34.7165,2,  34.7168,2,    184.0,2,   184.2,2,  130.53,2,   32.97,2,    0.01,2,    2.31,2,   0.001,2,  -0.002,2,  2287.7,2,  2403.7,2,  -999.0,5,-999.000,1,-999.000,-999.0000,1, -999.00,9, -999.00,9,  -999.0,9,  -999.0,-999.000,9,-999.000, 37535.8,   0.9816,-999.0000, -999.00
 316N145_14,       I02E,    1092,          1,          6,     SIH018,2,19951209,       1537,    -8.0028,    96.6628,       5075,  3994.4,   1.1905,  34.7142,2,  34.7150,2,    189.5,2,   189.4,2,  129.96,2,   32.86,2,    0.00,2,    2.31,2,-999.000,5,-999.000,5,  2284.6,2,  2399.5,2,  -999.0,5,-999.000,1,-999.000,-999.0000,1, -999.00,9, -999.00,9,  -999.0,9,  -999.0,-999.000,9,-999.000, 40084.5,   0.8808,-999.0000, -999.00
 316N145_14,       I02E,    1092,          1,          5,     SIH002,2,19951209,       1537,    -8.0028,    96.6628,       5075,  4247.8,   1.1682,  34.7144,2,  34.7134,2,    192.3,2,   192.4,2,  128.83,2,   32.85,2,    0.00,2,    2.28,2,-999.000,5,-999.000,5,  2282.3,2,  2399.5,2,  -999.0,5,-999.000,1,-999.000,-999.0000,1, -999.00,9, -999.00,9,  -999.0,9,  -999.0,-999.000,9,-999.000, 42619.5,   0.8316,-999.0000, -999.00
 316N145_14,       I02E,    1092,          1,          4,     SIH020,2,19951209,       1537,    -8.0028,    96.6628,       5075,  4497.6,   1.1677,  34.7130,2,  34.7117,2,    194.8,2,   194.2,2,  128.26,2,   32.36,2,    0.00,2,    2.25,2,-999.000,5,-999.000,5,  2280.6,2,  2398.3,2,  -999.0,5,-999.000,1,-999.000,-999.0000,1, -999.00,9, -999.00,9,  -999.0,9,  -999.0,-999.000,9,-999.000, 45118.3,   0.8032,-999.0000, -999.00
 316N145_14,       I02E,    1092,          1,          3,     SIH021,2,19951209,       1537,    -8.0028,    96.6628,       5075,  4738.7,   1.1818,  34.7129,2,  34.7134,2,    193.8,2,   195.2,2,  128.64,2,   32.46,2,    0.01,2,    2.28,2,  -0.001,2,  -0.002,2,  2280.4,2,  2396.6,2,  -999.0,5,-999.000,1,-999.000,-999.0000,1, -999.00,9, -999.00,9,  -999.0,9,  -999.0,-999.000,9,-999.000, 47529.8,   0.7891,-999.0000, -999.00
 316N145_14,       I02E,    1092,          1,          2,     SIH022,2,19951209,       1537,    -8.0028,    96.6628,       5075,  4994.5,   1.2088,  34.7129,2,  34.7117,2,    194.7,2,   195.4,2,  128.26,2,   32.46,2,    0.00,2,    2.28,2,-999.000,5,-999.000,5,  2279.7,2,  2394.7,2,  -999.0,5,-999.000,1,-999.000,-999.0000,1, -999.00,9, -999.00,9,  -999.0,9,  -999.0,-999.000,9,-999.000, 50088.7,   0.7849,-999.0000, -999.00
 316N145_14,       I02E,    1092,          1,          1,     SIH023,2,19951209,       1537,    -8.0028,    96.6628,       5075,  5216.1,   1.2199,  34.7123,2,  34.7117,2,    197.3,2,   197.3,2,  126.87,6,   32.43,6,    0.00,6,    2.26,6,  -0.001,2,  -0.002,2,  2277.2,2,  2395.4,2,  -999.0,5,-999.000,1,-999.000,-999.0000,1, -999.00,9, -999.00,9,  -999.0,9,  -999.0,-999.000,9,-999.000, 52307.2,   0.7687,-999.0000, -999.00