BOTTLE,20220829CCHSIOAMB
EXPOCODE,SECT_ID,STNNBR,CASTNO,SAMPNO,BTLNBR,BTLNBR_FLAG_W,DATE,TIME,LATITUDE,LONGITUDE,DEPTH,CTDPRS,CTDTMP,CTDSAL,CTDSAL_FLAG_W,SALNTY,SALNTY_FLAG_W,CTDOXY,CTDOXY_FLAG_W,OXYGEN,OXYGEN_FLAG_W,SILCAT,SILCAT_FLAG_W,NITRAT,NITRAT_FLAG_W,NITRIT,NITRIT_FLAG_W,PHSPHT,PHSPHT_FLAG_W,CFC-11,CFC-11_FLAG_W,CFC-12,CFC-12_FLAG_W,TCARBN,TCARBN_FLAG_W,ALKALI,ALKALI_FLAG_W,PCO2,PCO2_FLAG_W,TRITUM,TRITUM_FLAG_W,TRITER,HELIUM,HELIUM_FLAG_W,DELHE3,DELHE3_FLAG_W,DELC13,DELC13_FLAG_W,DELC14,DELC14_FLAG_W,C14ERR,NEON,NEON_FLAG_W,NEONER,CTDRAW,THETA,HELIER,DELHER
,,,,,,,,,,,METERS,DBAR,ITS-90,PSS-78,,PSS-78,,UMOL/KG,,UMOL/KG,,UMOL/KG,,UMOL/KG,,UMOL/KG,,UMOL/KG,,PMOL/KG,,PMOL/KG,,UMOL/KG,,UMOL/KG,,UATM,,TU,,TU,NMOL/KG,,PERCNT,,/MILLE,,/MILLE,,/MILLE,NMOL/KG,,NMOL/KG,DBAR,DEG C,NMOL/KG,PERCNT
 316N145_14,       I02E,    1082,          1,         36,     SIH024,3,19951206,       1150,    -9.1250,   103.3333,       5475,     9.2,  28.5592,  33.3898,2,  33.3891,2,    207.7,2,   210.3,2,    2.65,2,    0.12,2,   -0.01,2,    0.04,2,-999.000,5,-999.000,5,  1849.5,2,  2187.7,2,  -999.0,5,-999.000,1,-999.000,-999.0000,1, -999.00,9, -999.00,9,  -999.0,9,  -999.0,-999.000,9,-999.000,   243.4,  28.5571,-999.0000, -999.00
 316N145_14,       I02E,    1082,          1,         35,     SIH003,2,19951206,       1150,    -9.1250,   103.3333,       5475,    27.9,  28.6794,  33.9427,2,  33.9357,2,    212.7,2,   209.8,2,    2.83,2,    0.17,2,    0.00,2,    0.10,2,   1.575,2,   0.935,2,  1882.2,2,  2221.9,2,  -999.0,5,-999.000,1,-999.000,-999.0000,1, -999.00,9, -999.00,9,  -999.0,9,  -999.0,-999.000,9,-999.000,   425.0,  28.6727,-999.0000, -999.00
 316N145_14,       I02E,    1082,          1,         34,     SIH026,2,19951206,       1150,    -9.1250,   103.3333,       5475,    57.9,  28.6866,  34.8647,2,  34.8147,2,    192.8,2,   205.8,2,    3.00,2,    0.22,2,    0.00,2,    0.19,2,   1.564,2,   0.970,2,  1947.5,2,  2278.4,2,  -999.0,5,-999.000,1,-999.000,-999.0000,1, -999.00,9, -999.00,9,  -999.0,9,  -999.0,-999.000,9,-999.000,   716.7,  28.6727,-999.0000, -999.00
 316N145_14,       I02E,    1082,          1,         33,     SIH027,2,19951206,       1150,    -9.1250,   103.3333,       5475,    98.3,  22.8318,  34.5125,2,  34.5078,2,    132.1,2,   130.8,2,   12.53,2,   11.45,2,    0.05,2,    0.84,2,   1.509,6,   0.838,2,  2039.5,2,  2270.6,2,  -999.0,5,-999.000,1,-999.000,-999.0000,1, -999.00,9, -999.00,9,  -999.0,9,  -999.0,-999.000,9,-999.000,  1112.8,  22.8119,-999.0000, -999.00
 316N145_14,       I02E,    1082,          1,         32,     SIH028,2,19951206,       1150,    -9.1250,   103.3333,       5475,   149.4,  16.0679,  34.5957,2,  34.6022,2,     94.7,2,   101.9,2,   27.36,2,   20.30,2,    0.00,2,    1.43,2,   1.163,6,   0.621,6,  2129.9,2,  2289.7,2,  -999.0,5,-999.000,1,-999.000,-999.0000,1, -999.00,9, -999.00,9,  -999.0,9,  -999.0,-999.000,9,-999.000,  1621.8,  16.0443,-999.0000, -999.00
 316N145_14,       I02E,    1082,          1,         31,     SIH029,2,19951206,       1150,    -9.1250,   103.3333,       5475,   198.5,  13.3150,  34.6444,2,  34.6427,2,     84.9,2,    87.7,2,   34.59,2,   24.82,2,    0.00,2,    1.75,2,   0.875,2,   0.460,2,  2171.2,2,  2300.0,2,  -999.0,5,-999.000,1,-999.000,-999.0000,1, -999.00,9, -999.00,9,  -999.0,9,  -999.0,-999.000,9,-999.000,  2111.3,  13.2874,-999.0000, -999.00
 316N145_14,       I02E,    1082,          1,         30,     SIH030,2,19951206,       1150,    -9.1250,   103.3333,       5475,   249.0,  12.1301,  34.7747,2,  34.7707,2,     68.7,2,    67.6,2,   35.12,2,   28.27,2,    0.00,2,    1.95,2,   0.566,2,   0.277,2,  2201.8,2,  2307.3,2,  -999.0,5,-999.000,1,-999.000,-999.0000,1, -999.00,9, -999.00,9,  -999.0,9,  -999.0,-999.000,9,-999.000,  2617.8,  12.0974,-999.0000, -999.00
 316N145_14,       I02E,    1082,          1,         29,     SIH031,2,19951206,       1150,    -9.1250,   103.3333,       5475,   299.2,  11.2565,  34.8218,2,  34.8200,2,     63.0,2,    63.4,2,   34.94,2,   29.64,2,    0.00,2,    2.03,2,   0.387,2,   0.199,2,  2213.6,2,  2310.8,2,  -999.0,5,-999.000,1,-999.000,-999.0000,1, -999.00,9, -999.00,9,  -999.0,9,  -999.0,-999.000,9,-999.000,  3119.1,  11.2190,-999.0000, -999.00
 316N145_14,       I02E,    1082,          1,         28,     SIH032,2,19951206,       1150,    -9.1250,   103.3333,       5475,   347.8,  10.6758,  34.8706,2,  34.8678,2,     69.1,2,    66.8,2,   32.99,2,   30.12,2,    0.00,2,    2.04,2,   0.287,2,   0.155,2,  2218.5,2,  2311.9,2,  -999.0,5,-999.000,1,-999.000,-999.0000,1, -999.00,9, -999.00,9,  -999.0,9,  -999.0,-999.000,9,-999.000,  3605.1,  10.6335,-999.0000, -999.00
 316N145_14,       I02E,    1082,          1,         27,     SIH033,2,19951206,       1150,    -9.1250,   103.3333,       5475,   398.9,  10.0570,  34.8519,2,  34.8491,2,     75.4,2,    75.8,2,   33.35,2,   30.59,2,    0.00,2,    2.05,2,   0.223,2,   0.124,2,  2216.4,2,  2312.6,2,  -999.0,5,-999.000,1,-999.000,-999.0000,1, -999.00,9, -999.00,9,  -999.0,9,  -999.0,-999.000,9,-999.000,  4115.8,  10.0101,-999.0000, -999.00
 316N145_14,       I02E,    1082,          1,         26,     SIH037,2,19951206,       1150,    -9.1250,   103.3333,       5475,   501.2,   9.0218,  34.8164,2,  34.8147,2,     76.1,2,    75.2,2,   41.47,2,   32.54,2,    0.00,2,    2.23,2,   0.089,2,   0.052,2,  2230.9,2,  2318.1,2,  -999.0,5,-999.000,1,-999.000,-999.0000,1, -999.00,9, -999.00,9,  -999.0,9,  -999.0,-999.000,9,-999.000,  5138.5,   8.9665,-999.0000, -999.00
 316N145_14,       I02E,    1082,          1,         25,     SI9446,2,19951206,       1150,    -9.1250,   103.3333,       5475,   601.0,   7.9768,  34.7570,2,  34.7553,2,     66.3,2,    66.5,2,   59.29,2,   34.75,2,    0.00,2,    2.46,2,-999.000,5,-999.000,5,  2256.1,2,  2333.1,2,  -999.0,5,-999.000,1,-999.000,-999.0000,1, -999.00,9, -999.00,9,  -999.0,9,  -999.0,-999.000,9,-999.000,  6137.3,   7.9147,-999.0000, -999.00
 316N145_14,       I02E,    1082,          1,         24,     SIH036,2,19951206,       1150,    -9.1250,   103.3333,       5475,   700.9,   7.0881,  34.7195,2,  34.7172,2,     68.4,2,    68.6,2,   72.35,2,   35.79,2,    0.00,2,    2.56,2,   0.032,2,   0.018,2,  2272.4,2,  2349.1,2,  -999.0,5,-999.000,1,-999.000,-999.0000,1, -999.00,9, -999.00,9,  -999.0,9,  -999.0,-999.000,9,-999.000,  7135.1,   7.0199,-999.0000, -999.00
 316N145_14,       I02E,    1082,          1,         23,     SIH001,2,19951206,       1150,    -9.1250,   103.3333,       5475,   799.3,   6.3953,  34.6917,2,  34.6928,2,     73.0,2,    73.2,2,   82.40,2,   36.22,2,    0.00,2,    2.61,2,   0.026,2,   0.015,2,  2282.9,2,  2356.1,2,  -999.0,5,-999.000,1,-999.000,-999.0000,1, -999.00,9, -999.00,9,  -999.0,9,  -999.0,-999.000,9,-999.000,  8118.8,   6.3211,-999.0000, -999.00
 316N145_14,       I02E,    1082,          1,         22,     SIH019,2,19951206,       1150,    -9.1250,   103.3333,       5475,   899.6,   5.4799,  34.6288,2,  34.6274,2,     85.7,2,    87.2,2,   94.40,2,   36.18,2,    0.00,2,    2.60,2,   0.043,2,   0.022,2,  2290.3,2,  2366.9,2,  -999.0,5,-999.000,1,-999.000,-999.0000,1, -999.00,9, -999.00,9,  -999.0,9,  -999.0,-999.000,9,-999.000,  9122.2,   5.4021,-999.0000, -999.00
 316N145_14,       I02E,    1082,          1,         21,     SIH025,2,19951206,       1150,    -9.1250,   103.3333,       5475,  1001.2,   4.9372,  34.6249,2,  34.6233,2,     91.6,2,    90.7,2,  101.80,2,   36.49,2,    0.00,2,    2.61,2,   0.032,2,   0.018,2,  2298.2,2,  2375.2,2,  -999.0,5,-999.000,1,-999.000,-999.0000,1, -999.00,9, -999.00,9,  -999.0,9,  -999.0,-999.000,9,-999.000, 10139.8,   4.8541,-999.0000, -999.00
 316N145_14,       I02E,    1082,          1,         20,     SIH004,2,19951206,       1150,    -9.1250,   103.3333,       5475,  1098.8,   4.6033,  34.6266,2,  34.6240,2,     94.6,2,    94.2,2,  106.56,2,   36.60,2,    0.00,2,    2.63,2,   0.028,2,   0.014,2,  2302.0,2,  2379.9,2,  -999.0,5,-999.000,1,-999.000,-999.0000,1, -999.00,9, -999.00,9,  -999.0,9,  -999.0,-999.000,9,-999.000, 11115.1,   4.5141,-999.0000, -999.00
 316N145_14,       I02E,    1082,          1,         19,     SIH005,2,19951206,       1150,    -9.1250,   103.3333,       5475,  1199.4,   4.3591,  34.6466,2,  34.6441,2,     97.2,2,    95.9,2,  109.56,2,   36.71,2,    0.00,2,    2.64,2,   0.014,2,   0.006,2,  2305.4,2,  2386.3,2,  -999.0,5,-999.000,1,-999.000,-999.0000,1, -999.00,9, -999.00,9,  -999.0,9,  -999.0,-999.000,9,-999.000, 12122.8,   4.2630,-999.0000, -999.00
 316N145_14,       I02E,    1082,          1,         18,     SIH006,2,19951206,       1150,    -9.1250,   103.3333,       5475,  1397.4,   3.9657,  34.6934,2,  34.6928,2,    103.2,2,   100.5,2,  111.67,2,   36.81,2,    0.00,2,    2.65,2,-999.000,5,-999.000,5,  2307.5,2,  2388.3,2,  -999.0,5,-999.000,1,-999.000,-999.0000,1, -999.00,9, -999.00,9,  -999.0,9,  -999.0,-999.000,9,-999.000, 14104.0,   3.8558,-999.0000, -999.00
 316N145_14,       I02E,    1082,          1,         17,     SIH038,2,19951206,       1150,    -9.1250,   103.3333,       5475,  1600.8,   3.5152,  34.7495,2,  34.7486,2,    111.6,2,   109.0,2,  113.60,2,   36.60,2,    0.00,2,    2.63,2,  -0.001,2,   0.000,2,  2309.0,2,  2392.5,2,  -999.0,5,-999.000,1,-999.000,-999.0000,1, -999.00,9, -999.00,9,  -999.0,9,  -999.0,-999.000,9,-999.000, 16137.5,   3.3921,-999.0000, -999.00
 316N145_14,       I02E,    1082,          1,         16,     SIH008,2,19951206,       1150,    -9.1250,   103.3333,       5475,  1803.1,   2.9460,  34.7417,2,  34.7398,2,    125.8,2,   124.6,2,  118.18,2,   35.98,2,    0.00,2,    2.56,2,-999.000,5,-999.000,5,  2300.3,2,  2394.5,2,  -999.0,5,-999.000,1,-999.000,-999.0000,1, -999.00,9, -999.00,9,  -999.0,9,  -999.0,-999.000,9,-999.000, 18162.1,   2.8124,-999.0000, -999.00
 316N145_14,       I02E,    1082,          1,         15,     SIH009,2,19951206,       1150,    -9.1250,   103.3333,       5475,  2005.1,   2.5829,  34.7419,2,  34.7418,2,    134.3,2,   134.9,2,  120.82,2,   35.51,2,    0.00,2,    2.52,2,  -0.001,2,   0.000,2,  2305.0,2,  2400.4,2,  -999.0,5,-999.000,1,-999.000,-999.0000,1, -999.00,9, -999.00,9,  -999.0,9,  -999.0,-999.000,9,-999.000, 20183.1,   2.4368,-999.0000, -999.00
 316N145_14,       I02E,    1082,          1,         14,     SIH010,2,19951206,       1150,    -9.1250,   103.3333,       5475,  2228.4,   2.2986,  34.7392,2,  34.7386,2,    145.8,2,   144.7,2,  122.76,2,   35.15,2,    0.00,2,    2.47,2,-999.000,5,-999.000,5,  2302.4,2,  2398.6,2,  -999.0,5,-999.000,1,-999.000,-999.0000,1, -999.00,9, -999.00,9,  -999.0,9,  -999.0,-999.000,9,-999.000, 22417.4,   2.1373,-999.0000, -999.00
 316N145_14,       I02E,    1082,          1,         13,     SIH011,2,19951206,       1150,    -9.1250,   103.3333,       5475,  2479.9,   2.0405,  34.7361,2,  34.7353,2,    153.4,2,   153.8,2,  124.52,2,   34.68,2,    0.00,2,    2.42,2,-999.000,5,-999.000,5,  2299.8,2,  2403.3,2,  -999.0,5,-999.000,1,-999.000,-999.0000,1, -999.00,9, -999.00,9,  -999.0,9,  -999.0,-999.000,9,-999.000, 24934.0,   1.8610,-999.0000, -999.00
 316N145_14,       I02E,    1082,          1,         12,     SIH012,2,19951206,       1150,    -9.1250,   103.3333,       5475,  2743.4,   1.8465,  34.7319,2,  34.7323,2,    158.7,2,   159.8,2,  127.16,2,   34.57,2,    0.00,2,    2.40,2,-999.000,5,-999.000,5,  2299.5,2,  2403.7,2,  -999.0,5,-999.000,1,-999.000,-999.0000,1, -999.00,9, -999.00,9,  -999.0,9,  -999.0,-999.000,9,-999.000, 27569.7,   1.6463,-999.0000, -999.00
 316N145_14,       I02E,    1082,          1,         11,     SI9425,2,19951206,       1150,    -9.1250,   103.3333,       5475,  2946.5,   1.7181,  34.7291,2,  34.7296,2,    163.6,2,   163.0,2,  129.09,2,   34.41,2,    0.00,2,    2.39,2,-999.000,5,-999.000,5,  2300.3,2,  2407.6,2,  -999.0,5,-999.000,1,-999.000,-999.0000,1, -999.00,9, -999.00,9,  -999.0,9,  -999.0,-999.000,9,-999.000, 29601.5,   1.5014,-999.0000, -999.00
 316N145_14,       I02E,    1082,          1,         10,     SIH014,2,19951206,       1150,    -9.1250,   103.3333,       5475,  3236.7,   1.5540,  34.7230,2,  34.7223,2,    171.5,2,   170.3,2,  129.97,2,   34.11,2,    0.00,2,    2.37,2,  -0.001,2,   0.000,2,  2296.2,2,  2402.8,2,  -999.0,5,-999.000,1,-999.000,-999.0000,1, -999.00,9, -999.00,9,  -999.0,9,  -999.0,-999.000,9,-999.000, 32504.9,   1.3128,-999.0000, -999.00
 316N145_14,       I02E,    1082,          1,          9,     SIH015,2,19951206,       1150,    -9.1250,   103.3333,       5475,  3490.8,   1.3756,  34.7197,2,  34.7195,2,    177.4,2,   177.3,2,  130.68,2,   33.80,2,    0.00,2,    2.34,2,-999.000,5,-999.000,5,  2292.5,2,  2405.6,2,  -999.0,5,-999.000,1,-999.000,-999.0000,1, -999.00,9, -999.00,9,  -999.0,9,  -999.0,-999.000,9,-999.000, 35047.0,   1.1133,-999.0000, -999.00
 316N145_14,       I02E,    1082,          1,          8,     SIH016,2,19951206,       1150,    -9.1250,   103.3333,       5475,  3735.8,   1.2383,  34.7163,2,  34.7168,2,    182.4,2,   178.4,4,  130.84,2,   33.53,2,    0.00,2,    2.32,2,-999.000,5,-999.000,5,  2288.5,2,  2400.7,2,  -999.0,5,-999.000,1,-999.000,-999.0000,1, -999.00,9, -999.00,9,  -999.0,9,  -999.0,-999.000,9,-999.000, 37497.8,   0.9545,-999.0000, -999.00
 316N145_14,       I02E,    1082,          1,          7,     SIH017,2,19951206,       1150,    -9.1250,   103.3333,       5475,  3996.5,   1.1750,  34.7140,2,  34.7140,2,    189.6,2,   189.8,2,  129.79,2,   33.11,2,    0.00,2,    2.30,2,-999.000,5,-999.000,5,  2284.7,2,  2400.5,2,  -999.0,5,-999.000,1,-999.000,-999.0000,1, -999.00,9, -999.00,9,  -999.0,9,  -999.0,-999.000,9,-999.000, 40105.4,   0.8655,-999.0000, -999.00
 316N145_14,       I02E,    1082,          1,          6,     SIH018,2,19951206,       1150,    -9.1250,   103.3333,       5475,  4246.1,   1.1528,  34.7136,2,  34.7131,2,    192.3,2,   193.0,2,  129.25,2,   33.02,2,    0.00,2,    2.28,2,   0.000,2,   0.005,3,  2281.1,2,  2395.6,2,  -999.0,5,-999.000,1,-999.000,-999.0000,1, -999.00,9, -999.00,9,  -999.0,9,  -999.0,-999.000,9,-999.000, 42602.9,   0.8169,-999.0000, -999.00
 316N145_14,       I02E,    1082,          1,          5,     SIH002,2,19951206,       1150,    -9.1250,   103.3333,       5475,  4497.1,   1.1537,  34.7125,2,  34.7136,2,    193.9,2,   194.3,2,  129.25,2,   32.97,2,    0.00,2,    2.27,2,-999.000,5,-999.000,5,  2281.8,2,  2397.9,2,  -999.0,5,-999.000,1,-999.000,-999.0000,1, -999.00,9, -999.00,9,  -999.0,9,  -999.0,-999.000,9,-999.000, 45113.9,   0.7897,-999.0000, -999.00
 316N145_14,       I02E,    1082,          1,          4,     SIH020,2,19951206,       1150,    -9.1250,   103.3333,       5475,  4684.2,   1.1669,  34.7133,2,  34.7119,2,    194.8,2,   195.3,2,  129.24,2,   32.86,2,    0.00,2,    2.27,2,-999.000,5,-999.000,5,  2280.1,2,  2405.0,2,  -999.0,5,-999.000,1,-999.000,-999.0000,1, -999.00,9, -999.00,9,  -999.0,9,  -999.0,-999.000,9,-999.000, 46985.7,   0.7810,-999.0000, -999.00
 316N145_14,       I02E,    1082,          1,          3,     SIH021,2,19951206,       1150,    -9.1250,   103.3333,       5475,  4991.1,   1.1920,  34.7127,2,  34.7121,2,    195.6,2,   195.6,2,  129.07,2,   32.76,2,    0.00,2,    2.27,2,   0.000,2,  -0.001,2,  2279.6,2,  2398.0,2,  -999.0,5,-999.000,1,-999.000,-999.0000,1, -999.00,9, -999.00,9,  -999.0,9,  -999.0,-999.000,9,-999.000, 50055.0,   0.7691,-999.0000, -999.00
 316N145_14,       I02E,    1082,          1,          2,     SIH022,2,19951206,       1150,    -9.1250,   103.3333,       5475,  5292.6,   1.2241,  34.7122,2,  34.7290,4,    196.6,2,   196.0,2,  129.06,2,   32.71,2,    0.00,2,    2.26,2,-999.000,5,-999.000,5,  2279.2,2,  2396.6,2,  -999.0,5,-999.000,1,-999.000,-999.0000,1, -999.00,9, -999.00,9,  -999.0,9,  -999.0,-999.000,9,-999.000, 53072.0,   0.7634,-999.0000, -999.00
 316N145_14,       I02E,    1082,          1,          1,     SIH023,2,19951206,       1150,    -9.1250,   103.3333,       5475,  5614.8,   1.2634,  34.7127,2,  34.7131,2,    195.9,2,   195.6,2,  128.61,6,   32.68,6,    0.00,6,    2.26,6,   0.001,2,   0.001,2,  2279.4,2,  2395.9,2,  -999.0,5,-999.000,1,-999.000,-999.0000,1, -999.00,9, -999.00,9,  -999.0,9,  -999.0,-999.000,9,-999.000, 56295.2,   0.7607,-999.0000, -999.00