BOTTLE,20220829CCHSIOAMB
EXPOCODE,SECT_ID,STNNBR,CASTNO,SAMPNO,BTLNBR,BTLNBR_FLAG_W,DATE,TIME,LATITUDE,LONGITUDE,DEPTH,CTDPRS,CTDTMP,CTDSAL,CTDSAL_FLAG_W,SALNTY,SALNTY_FLAG_W,CTDOXY,CTDOXY_FLAG_W,OXYGEN,OXYGEN_FLAG_W,SILCAT,SILCAT_FLAG_W,NITRAT,NITRAT_FLAG_W,NITRIT,NITRIT_FLAG_W,PHSPHT,PHSPHT_FLAG_W,CFC-11,CFC-11_FLAG_W,CFC-12,CFC-12_FLAG_W,TCARBN,TCARBN_FLAG_W,ALKALI,ALKALI_FLAG_W,PCO2,PCO2_FLAG_W,TRITUM,TRITUM_FLAG_W,TRITER,HELIUM,HELIUM_FLAG_W,DELHE3,DELHE3_FLAG_W,DELC13,DELC13_FLAG_W,DELC14,DELC14_FLAG_W,C14ERR,NEON,NEON_FLAG_W,NEONER,CTDRAW,THETA,HELIER,DELHER
,,,,,,,,,,,METERS,DBAR,ITS-90,PSS-78,,PSS-78,,UMOL/KG,,UMOL/KG,,UMOL/KG,,UMOL/KG,,UMOL/KG,,UMOL/KG,,PMOL/KG,,PMOL/KG,,UMOL/KG,,UMOL/KG,,UATM,,TU,,TU,NMOL/KG,,PERCNT,,/MILLE,,/MILLE,,/MILLE,NMOL/KG,,NMOL/KG,DBAR,DEG C,NMOL/KG,PERCNT
 316N145_14,       I02E,    1099,          1,         36,     SIH024,2,19951212,       0340,    -8.0083,    92.0083,       5245,     9.0,  26.8017,  34.3699,2,  34.3713,2,    202.8,2,   207.4,2,    3.26,2,    0.05,2,    0.00,2,    0.13,2,   1.686,2,   0.950,2,  1933.1,2,  2259.9,2,  -999.0,5,-999.000,1,-999.000,-999.0000,1, -999.00,9, -999.00,9,  -999.0,9,  -999.0,-999.000,9,-999.000,   234.3,  26.7996,-999.0000, -999.00
 316N145_14,       I02E,    1099,          1,         35,     SIH003,2,19951212,       0340,    -8.0083,    92.0083,       5245,    30.9,  26.6883,  34.3664,2,  34.3672,2,    213.9,2,   207.3,2,    4.15,2,    1.09,2,    0.04,2,    0.22,2,   1.696,2,   0.981,2,  1932.5,2,  2253.6,2,  -999.0,5,-999.000,1,-999.000,-999.0000,1, -999.00,9, -999.00,9,  -999.0,9,  -999.0,-999.000,9,-999.000,   446.7,  26.6813,-999.0000, -999.00
 316N145_14,       I02E,    1099,          1,         34,     SIH026,2,19951212,       0340,    -8.0083,    92.0083,       5245,    61.9,  25.9166,  34.3919,2,  34.3976,2,    190.0,2,   196.2,2,   17.26,4,   19.84,4,    0.04,4,    1.40,4,-999.000,5,-999.000,5,  1948.5,2,  -999.0,9,  -999.0,5,-999.000,1,-999.000,-999.0000,1, -999.00,9, -999.00,9,  -999.0,9,  -999.0,-999.000,9,-999.000,   750.5,  25.9028,-999.0000, -999.00
 316N145_14,       I02E,    1099,          1,         33,     SIH027,2,19951212,       0340,    -8.0083,    92.0083,       5245,    96.9,  19.7627,  34.9306,2,  34.9199,2,     66.6,2,    70.2,2,   17.26,2,   19.89,2,    0.04,2,    1.40,2,   1.254,2,   0.688,2,  -999.0,9,  -999.0,9,  -999.0,5,-999.000,1,-999.000,-999.0000,1, -999.00,9, -999.00,9,  -999.0,9,  -999.0,-999.000,9,-999.000,  1096.0,  19.7449,-999.0000, -999.00
 316N145_14,       I02E,    1099,          1,         32,     SIH028,2,19951212,       0340,    -8.0083,    92.0083,       5245,   147.5,  15.4644,  34.7551,2,  34.7693,2,     52.0,2,    73.8,2,   27.32,2,   23.66,2,    0.00,2,    1.66,2,-999.000,5,-999.000,5,  -999.0,9,  -999.0,9,  -999.0,5,-999.000,1,-999.000,-999.0000,1, -999.00,9, -999.00,9,  -999.0,9,  -999.0,-999.000,9,-999.000,  1600.5,  15.4417,-999.0000, -999.00
 316N145_14,       I02E,    1099,          1,         31,     SIH029,2,19951212,       0340,    -8.0083,    92.0083,       5245,   197.7,  12.5083,  34.7573,2,  34.7551,2,     72.5,2,    69.1,2,   34.51,2,   27.50,2,    0.00,2,    1.93,2,   0.615,2,   0.313,2,  -999.0,9,  -999.0,9,  -999.0,5,-999.000,1,-999.000,-999.0000,1, -999.00,9, -999.00,9,  -999.0,9,  -999.0,-999.000,9,-999.000,  2102.9,  12.4819,-999.0000, -999.00
 316N145_14,       I02E,    1099,          1,         30,     SIH030,2,19951212,       0340,    -8.0083,    92.0083,       5245,   247.2,  11.4365,  34.8249,2,  34.8237,2,     61.7,2,    62.7,2,   34.16,2,   29.32,2,    0.00,2,    2.02,2,   0.397,2,   0.199,2,  -999.0,9,  -999.0,9,  -999.0,5,-999.000,1,-999.000,-999.0000,1, -999.00,9, -999.00,9,  -999.0,9,  -999.0,-999.000,9,-999.000,  2597.9,  11.4052,-999.0000, -999.00
 316N145_14,       I02E,    1099,          1,         29,     SIH031,2,19951212,       0340,    -8.0083,    92.0083,       5245,   297.2,  10.9823,  34.8680,2,  34.8662,2,     57.7,2,    60.2,2,   33.44,2,   30.24,2,    0.00,2,    2.07,2,   0.299,2,   0.154,2,  -999.0,9,  -999.0,9,  -999.0,5,-999.000,1,-999.000,-999.0000,1, -999.00,9, -999.00,9,  -999.0,9,  -999.0,-999.000,9,-999.000,  3098.8,  10.9455,-999.0000, -999.00
 316N145_14,       I02E,    1099,          1,         28,     SIH032,2,19951212,       0340,    -8.0083,    92.0083,       5245,   347.1,  10.4718,  34.8829,2,  34.8794,2,     65.6,2,    65.3,2,   32.55,2,   30.67,2,    0.00,2,    2.08,2,-999.000,5,-999.000,5,  -999.0,9,  -999.0,9,  -999.0,5,-999.000,1,-999.000,-999.0000,1, -999.00,9, -999.00,9,  -999.0,9,  -999.0,-999.000,9,-999.000,  3596.7,  10.4301,-999.0000, -999.00
 316N145_14,       I02E,    1099,          1,         27,     SIH033,2,19951212,       0340,    -8.0083,    92.0083,       5245,   396.4,   9.9056,  34.8528,2,  34.8489,2,     89.3,2,    85.5,2,   30.95,2,   29.88,2,    0.00,2,    2.02,2,   0.258,2,   0.127,2,  -999.0,9,  -999.0,9,  -999.0,5,-999.000,1,-999.000,-999.0000,1, -999.00,9, -999.00,9,  -999.0,9,  -999.0,-999.000,9,-999.000,  4090.3,   9.8595,-999.0000, -999.00
 316N145_14,       I02E,    1099,          1,         26,     SIH037,2,19951212,       0340,    -8.0083,    92.0083,       5245,   496.6,   8.7753,  34.8151,2,  34.8133,2,     74.7,2,    71.2,2,   45.16,2,   33.30,2,    0.00,2,    2.34,2,   0.062,2,   0.034,2,  -999.0,9,  -999.0,9,  -999.0,5,-999.000,1,-999.000,-999.0000,1, -999.00,9, -999.00,9,  -999.0,9,  -999.0,-999.000,9,-999.000,  5092.1,   8.7214,-999.0000, -999.00
 316N145_14,       I02E,    1099,          1,         25,     SI9446,2,19951212,       0340,    -8.0083,    92.0083,       5245,   596.8,   7.9618,  34.7994,2,  34.7976,2,     62.9,2,    63.4,2,   58.88,2,   35.07,2,    0.00,2,    2.50,2,   0.021,2,   0.012,2,  -999.0,9,  -999.0,9,  -999.0,5,-999.000,1,-999.000,-999.0000,1, -999.00,9, -999.00,9,  -999.0,9,  -999.0,-999.000,9,-999.000,  6093.6,   7.9002,-999.0000, -999.00
 316N145_14,       I02E,    1099,          1,         24,     SIH036,2,19951212,       0340,    -8.0083,    92.0083,       5245,   697.5,   7.1091,  34.7532,2,  34.7553,2,     65.1,2,    64.1,2,   71.56,2,   35.89,2,    0.00,2,    2.59,2,   0.012,6,   0.004,6,  -999.0,9,  -999.0,9,  -999.0,5,-999.000,1,-999.000,-999.0000,1, -999.00,9, -999.00,9,  -999.0,9,  -999.0,-999.000,9,-999.000,  7101.5,   7.0411,-999.0000, -999.00
 316N145_14,       I02E,    1099,          1,         23,     SIH001,2,19951212,       0340,    -8.0083,    92.0083,       5245,   797.6,   6.5580,  34.7498,2,  34.7508,2,     65.5,2,    66.0,2,   80.35,2,   36.39,2,    0.00,2,    2.64,2,   0.010,2,   0.004,2,  -999.0,9,  -999.0,9,  -999.0,5,-999.000,1,-999.000,-999.0000,1, -999.00,9, -999.00,9,  -999.0,9,  -999.0,-999.000,9,-999.000,  8103.4,   6.4830,-999.0000, -999.00
 316N145_14,       I02E,    1099,          1,         22,     SIH019,2,19951212,       0340,    -8.0083,    92.0083,       5245,   897.1,   5.8937,  34.7233,2,  34.7268,2,     72.3,2,    72.3,2,   89.26,2,   36.55,2,    0.00,2,    2.66,2,-999.000,5,-999.000,5,  -999.0,9,  -999.0,9,  -999.0,5,-999.000,1,-999.000,-999.0000,1, -999.00,9, -999.00,9,  -999.0,9,  -999.0,-999.000,9,-999.000,  9098.7,   5.8132,-999.0000, -999.00
 316N145_14,       I02E,    1099,          1,         21,     SIH025,3,19951212,       0340,    -8.0083,    92.0083,       5245,   998.7,   5.3337,  34.7138,2,  34.7129,2,     78.6,2,    78.7,2,   96.29,2,   36.63,2,    0.00,2,    2.66,2,   0.009,2,   0.002,2,  -999.0,9,  -999.0,9,  -999.0,5,-999.000,1,-999.000,-999.0000,1, -999.00,9, -999.00,9,  -999.0,9,  -999.0,-999.000,9,-999.000, 10114.8,   5.2477,-999.0000, -999.00
 316N145_14,       I02E,    1099,          1,         20,     SIH004,2,19951212,       0340,    -8.0083,    92.0083,       5245,  1092.7,   5.0345,  34.7083,2,  34.7129,3,     83.0,2,    82.5,2,   99.73,2,   36.74,2,    0.00,2,    2.67,2,-999.000,5,-999.000,5,  -999.0,9,  -999.0,9,  -999.0,5,-999.000,1,-999.000,-999.0000,1, -999.00,9, -999.00,9,  -999.0,9,  -999.0,-999.000,9,-999.000, 11055.1,   4.9421,-999.0000, -999.00
 316N145_14,       I02E,    1099,          1,         19,     SIH005,2,19951212,       0340,    -8.0083,    92.0083,       5245,  1193.4,   4.7815,  34.7334,2,  34.7331,2,     84.0,2,    84.8,2,  101.59,2,   36.90,2,    0.00,2,    2.70,2,   0.001,2,  -0.001,2,  -999.0,9,  -999.0,9,  -999.0,5,-999.000,1,-999.000,-999.0000,1, -999.00,9, -999.00,9,  -999.0,9,  -999.0,-999.000,9,-999.000, 12063.4,   4.6819,-999.0000, -999.00
 316N145_14,       I02E,    1099,          1,         18,     SIH006,2,19951212,       0340,    -8.0083,    92.0083,       5245,  1395.9,   3.9904,  34.7278,2,  34.7341,3,    101.3,2,    98.9,2,  109.90,2,   36.49,2,    0.00,2,    2.68,2,   0.000,2,   0.001,2,  -999.0,9,  -999.0,9,  -999.0,5,-999.000,1,-999.000,-999.0000,1, -999.00,9, -999.00,9,  -999.0,9,  -999.0,-999.000,9,-999.000, 14089.2,   3.8803,-999.0000, -999.00
 316N145_14,       I02E,    1099,          1,         17,     SIH038,2,19951212,       0340,    -8.0083,    92.0083,       5245,  1598.9,   3.4415,  34.7401,2,  34.7494,3,    113.4,2,   111.2,2,  113.71,2,   36.07,2,    0.00,2,    2.63,2,   0.001,2,  -0.004,2,  -999.0,9,  -999.0,9,  -999.0,5,-999.000,1,-999.000,-999.0000,1, -999.00,9, -999.00,9,  -999.0,9,  -999.0,-999.000,9,-999.000, 16119.0,   3.3195,-999.0000, -999.00
 316N145_14,       I02E,    1099,          1,         16,     SIH008,2,19951212,       0340,    -8.0083,    92.0083,       5245,  1796.5,   2.9171,  34.7513,2,  34.7516,2,    124.5,2,   124.8,2,  118.06,2,   35.69,2,    0.00,2,    2.56,2,-999.000,5,-999.000,5,  -999.0,9,  -999.0,9,  -999.0,5,-999.000,1,-999.000,-999.0000,1, -999.00,9, -999.00,9,  -999.0,9,  -999.0,-999.000,9,-999.000, 18096.6,   2.7845,-999.0000, -999.00
 316N145_14,       I02E,    1099,          1,         15,     SIH009,2,19951212,       0340,    -8.0083,    92.0083,       5245,  1999.2,   2.5141,  34.7459,2,  34.7459,2,    136.0,2,   136.6,2,  121.87,2,   35.33,2,    0.00,2,    2.53,2,  -0.001,2,  -0.004,2,  -999.0,9,  -999.0,9,  -999.0,5,-999.000,1,-999.000,-999.0000,1, -999.00,9, -999.00,9,  -999.0,9,  -999.0,-999.000,9,-999.000, 20123.6,   2.3696,-999.0000, -999.00
 316N145_14,       I02E,    1099,          1,         14,     SIH010,2,19951212,       0340,    -8.0083,    92.0083,       5245,  2251.9,   2.1791,  34.7411,2,  34.7406,2,    147.4,2,   147.3,2,  124.77,2,   34.91,2,    0.00,2,    2.49,2,-999.000,5,-999.000,5,  -999.0,9,  -999.0,9,  -999.0,5,-999.000,1,-999.000,-999.0000,1, -999.00,9, -999.00,9,  -999.0,9,  -999.0,-999.000,9,-999.000, 22652.4,   2.0176,-999.0000, -999.00
 316N145_14,       I02E,    1099,          1,         13,     SIH011,2,19951212,       0340,    -8.0083,    92.0083,       5245,  2498.8,   1.9685,  34.7365,2,  34.7368,2,    153.3,2,   154.2,2,  127.33,2,   34.55,2,    0.00,2,    2.45,2,-999.000,5,-999.000,5,  -999.0,9,  -999.0,9,  -999.0,5,-999.000,1,-999.000,-999.0000,1, -999.00,9, -999.00,9,  -999.0,9,  -999.0,-999.000,9,-999.000, 25122.6,   1.7886,-999.0000, -999.00
 316N145_14,       I02E,    1099,          1,         12,     SIH012,2,19951212,       0340,    -8.0083,    92.0083,       5245,  2746.9,   1.8103,  34.7274,2,  34.7329,2,    158.4,2,   159.5,2,  129.34,2,   34.24,2,    0.00,2,    2.42,2,-999.000,5,-999.000,5,  -999.0,9,  -999.0,9,  -999.0,5,-999.000,1,-999.000,-999.0000,1, -999.00,9, -999.00,9,  -999.0,9,  -999.0,-999.000,9,-999.000, 27604.6,   1.6105,-999.0000, -999.00
 316N145_14,       I02E,    1099,          1,         11,     SI9426,2,19951212,       0340,    -8.0083,    92.0083,       5245,  2998.4,   1.6832,  34.7280,2,  34.7282,2,    164.3,2,   163.6,2,  130.81,2,   34.20,2,    0.00,2,    2.38,2,   0.002,2,   0.000,2,  -999.0,9,  -999.0,9,  -999.0,5,-999.000,1,-999.000,-999.0000,1, -999.00,9, -999.00,9,  -999.0,9,  -999.0,-999.000,9,-999.000, 30120.8,   1.4623,-999.0000, -999.00
 316N145_14,       I02E,    1099,          1,         10,     SIH014,2,19951212,       0340,    -8.0083,    92.0083,       5245,  3251.0,   1.5322,  34.7232,2,  34.7235,2,    167.7,2,   168.9,2,  131.74,2,   33.93,2,    0.00,2,    2.38,2,-999.000,5,-999.000,5,  -999.0,9,  -999.0,9,  -999.0,5,-999.000,1,-999.000,-999.0000,1, -999.00,9, -999.00,9,  -999.0,9,  -999.0,-999.000,9,-999.000, 32647.8,   1.2901,-999.0000, -999.00
 316N145_14,       I02E,    1099,          1,          9,     SIH015,2,19951212,       0340,    -8.0083,    92.0083,       5245,  3502.1,   1.3617,  34.7170,2,  34.7193,2,    176.8,2,   178.5,2,  130.87,2,   33.57,2,    0.00,2,    2.34,2,-999.000,5,-999.000,5,  -999.0,9,  -999.0,9,  -999.0,5,-999.000,1,-999.000,-999.0000,1, -999.00,9, -999.00,9,  -999.0,9,  -999.0,-999.000,9,-999.000, 35159.9,   1.0986,-999.0000, -999.00
 316N145_14,       I02E,    1099,          1,          8,     SIH016,2,19951212,       0340,    -8.0083,    92.0083,       5245,  3752.4,   1.2513,  34.7152,2,  34.7164,2,    184.3,2,   185.1,2,  130.36,2,   33.05,2,    0.00,2,    2.31,2,-999.000,5,-999.000,5,  -999.0,9,  -999.0,9,  -999.0,5,-999.000,1,-999.000,-999.0000,1, -999.00,9, -999.00,9,  -999.0,9,  -999.0,-999.000,9,-999.000, 37663.7,   0.9654,-999.0000, -999.00
 316N145_14,       I02E,    1099,          1,          7,     SIH017,2,19951212,       0340,    -8.0083,    92.0083,       5245,  4006.9,   1.1785,  34.7131,2,  34.7146,2,    190.1,2,   190.6,2,  128.59,2,   32.94,2,    0.00,2,    2.28,2,   0.001,2,  -0.004,2,  -999.0,9,  -999.0,9,  -999.0,5,-999.000,1,-999.000,-999.0000,1, -999.00,9, -999.00,9,  -999.0,9,  -999.0,-999.000,9,-999.000, 40210.1,   0.8678,-999.0000, -999.00
 316N145_14,       I02E,    1099,          1,          6,     SIH018,2,19951212,       0340,    -8.0083,    92.0083,       5245,  4256.1,   1.1448,  34.7123,2,  34.7134,2,    194.6,2,   195.2,2,  126.99,2,   32.73,2,    0.00,2,    2.26,2,-999.000,5,-999.000,5,  -999.0,9,  -999.0,9,  -999.0,5,-999.000,1,-999.000,-999.0000,1, -999.00,9, -999.00,9,  -999.0,9,  -999.0,-999.000,9,-999.000, 42702.3,   0.8080,-999.0000, -999.00
 316N145_14,       I02E,    1099,          1,          5,     SIH002,2,19951212,       0340,    -8.0083,    92.0083,       5245,  4505.0,   1.1432,  34.7126,2,  34.7132,2,    197.5,2,   197.8,2,  125.94,2,   32.64,2,    0.00,2,    2.25,2,-999.000,5,-999.000,5,  -999.0,9,  -999.0,9,  -999.0,5,-999.000,1,-999.000,-999.0000,1, -999.00,9, -999.00,9,  -999.0,9,  -999.0,-999.000,9,-999.000, 45192.6,   0.7786,-999.0000, -999.00
 316N145_14,       I02E,    1099,          1,          4,     SIH020,2,19951212,       0340,    -8.0083,    92.0083,       5245,  4754.7,   1.1656,  34.7118,2,  34.7134,2,    198.2,2,   198.1,2,  125.61,2,   32.60,2,    0.00,2,    2.25,2,-999.000,5,-999.000,5,  -999.0,9,  -999.0,9,  -999.0,5,-999.000,1,-999.000,-999.0000,1, -999.00,9, -999.00,9,  -999.0,9,  -999.0,-999.000,9,-999.000, 47691.2,   0.7716,-999.0000, -999.00
 316N145_14,       I02E,    1099,          1,          3,     SIH021,2,19951212,       0340,    -8.0083,    92.0083,       5245,  4987.8,   1.1910,  34.7117,2,  34.7129,2,    198.2,2,   198.2,2,  125.45,2,   32.55,2,    0.00,2,    2.25,2,   0.001,2,   0.000,2,  -999.0,9,  -999.0,9,  -999.0,5,-999.000,1,-999.000,-999.0000,1, -999.00,9, -999.00,9,  -999.0,9,  -999.0,-999.000,9,-999.000, 50022.0,   0.7685,-999.0000, -999.00
 316N145_14,       I02E,    1099,          1,          2,     SIH022,2,19951212,       0340,    -8.0083,    92.0083,       5245,  5242.5,   1.2218,  34.7118,2,  34.7134,2,    199.6,2,   198.5,2,  125.48,2,   32.56,2,    0.00,2,    2.24,2,-999.000,5,-999.000,5,  -999.0,9,  -999.0,9,  -999.0,5,-999.000,1,-999.000,-999.0000,1, -999.00,9, -999.00,9,  -999.0,9,  -999.0,-999.000,9,-999.000, 52570.4,   0.7673,-999.0000, -999.00
 316N145_14,       I02E,    1099,          1,          1,     SIH023,2,19951212,       0340,    -8.0083,    92.0083,       5245,  5343.9,   1.2311,  34.7117,2,  34.7119,2,    198.6,2,   199.1,2,  125.54,6,   32.48,6,    0.00,6,    2.24,6,   0.001,2,  -0.003,2,  -999.0,9,  -999.0,9,  -999.0,5,-999.000,1,-999.000,-999.0000,1, -999.00,9, -999.00,9,  -999.0,9,  -999.0,-999.000,9,-999.000, 53584.8,   0.7637,-999.0000, -999.00