BOTTLE,20220829CCHSIOAMB
EXPOCODE,SECT_ID,STNNBR,CASTNO,SAMPNO,BTLNBR,BTLNBR_FLAG_W,DATE,TIME,LATITUDE,LONGITUDE,DEPTH,CTDPRS,CTDTMP,CTDSAL,CTDSAL_FLAG_W,SALNTY,SALNTY_FLAG_W,CTDOXY,CTDOXY_FLAG_W,OXYGEN,OXYGEN_FLAG_W,SILCAT,SILCAT_FLAG_W,NITRAT,NITRAT_FLAG_W,NITRIT,NITRIT_FLAG_W,PHSPHT,PHSPHT_FLAG_W,CFC-11,CFC-11_FLAG_W,CFC-12,CFC-12_FLAG_W,TCARBN,TCARBN_FLAG_W,ALKALI,ALKALI_FLAG_W,PCO2,PCO2_FLAG_W,TRITUM,TRITUM_FLAG_W,TRITER,HELIUM,HELIUM_FLAG_W,DELHE3,DELHE3_FLAG_W,DELC13,DELC13_FLAG_W,DELC14,DELC14_FLAG_W,C14ERR,NEON,NEON_FLAG_W,NEONER,CTDRAW,THETA,HELIER,DELHER
,,,,,,,,,,,METERS,DBAR,ITS-90,PSS-78,,PSS-78,,UMOL/KG,,UMOL/KG,,UMOL/KG,,UMOL/KG,,UMOL/KG,,UMOL/KG,,PMOL/KG,,PMOL/KG,,UMOL/KG,,UMOL/KG,,UATM,,TU,,TU,NMOL/KG,,PERCNT,,/MILLE,,/MILLE,,/MILLE,NMOL/KG,,NMOL/KG,DBAR,DEG C,NMOL/KG,PERCNT
 316N145_14,       I02E,    1119,          1,         33,     SIH027,2,19951217,       1849,   -10.7412,    88.0638,       4785,    12.7,  27.2937,  34.2811,2,  34.2948,2,    220.9,2,   211.1,2,    3.38,2,    0.00,3,    0.00,2,    0.11,2,   1.681,2,   0.964,2,  1925.7,2,  2247.3,2,  -999.0,5,-999.000,1,-999.000,-999.0000,1, -999.00,9, -999.00,9,  -999.0,9,  -999.0,-999.000,9,-999.000,   275.1,  27.2908,-999.0000, -999.00
 316N145_14,       I02E,    1119,          1,         32,     SIH028,2,19951217,       1849,   -10.7412,    88.0638,       4785,    56.9,  26.7441,  34.2470,2,  34.2473,2,    221.1,2,   211.6,2,    3.61,2,    0.00,3,    0.01,2,    0.11,2,   1.719,2,   0.976,2,  1925.6,2,  -999.0,9,  -999.0,5,-999.000,1,-999.000,-999.0000,1, -999.00,9, -999.00,9,  -999.0,9,  -999.0,-999.000,9,-999.000,   713.4,  26.7312,-999.0000, -999.00
 316N145_14,       I02E,    1119,          1,         31,     SIH029,2,19951217,       1849,   -10.7412,    88.0638,       4785,   108.1,  23.8625,  34.4305,2,  34.4283,2,    145.5,2,   142.2,2,   10.76,2,    8.91,3,    0.06,2,    0.68,2,   1.566,2,   0.866,2,  2016.3,2,  2260.6,2,  -999.0,5,-999.000,1,-999.000,-999.0000,1, -999.00,9, -999.00,9,  -999.0,9,  -999.0,-999.000,9,-999.000,  1219.4,  23.8399,-999.0000, -999.00
 316N145_14,       I02E,    1119,          1,         30,     SIH030,2,19951217,       1849,   -10.7412,    88.0638,       4785,   157.3,  18.0730,  34.5736,2,  34.5734,2,    110.1,2,   106.8,2,   24.02,2,   17.54,3,    0.02,2,    1.27,2,   1.298,2,   0.696,2,  -999.0,9,  -999.0,9,  -999.0,5,-999.000,1,-999.000,-999.0000,1, -999.00,9, -999.00,9,  -999.0,9,  -999.0,-999.000,9,-999.000,  1706.5,  18.0460,-999.0000, -999.00
 316N145_14,       I02E,    1119,          1,         29,     SIH031,2,19951217,       1849,   -10.7412,    88.0638,       4785,   203.2,  15.9991,  34.7590,2,  34.7642,2,     81.7,2,    80.8,2,   27.05,2,   22.25,3,    0.01,2,    1.58,2,   1.076,2,   0.557,2,  -999.0,9,  -999.0,9,  -999.0,5,-999.000,1,-999.000,-999.0000,1, -999.00,9, -999.00,9,  -999.0,9,  -999.0,-999.000,9,-999.000,  2161.1,  15.9670,-999.0000, -999.00
 316N145_14,       I02E,    1119,          1,         28,     SIH032,3,19951217,       1849,   -10.7412,    88.0638,       4785,   301.5,  11.8383,  34.7489,2,  34.7473,2,     66.4,2,    69.4,2,   36.64,6,   28.22,3,    0.01,6,    1.97,6,   0.529,2,   0.259,2,  -999.0,9,  -999.0,9,  -999.0,5,-999.000,1,-999.000,-999.0000,1, -999.00,9, -999.00,9,  -999.0,9,  -999.0,-999.000,9,-999.000,  3142.9,  11.7992,-999.0000, -999.00
 316N145_14,       I02E,    1119,          1,         27,     SIH033,2,19951217,       1849,   -10.7412,    88.0638,       4785,   400.6,  10.1839,  34.7969,2,  34.7938,2,     90.8,2,    94.2,2,   34.15,6,   27.96,3,    0.01,6,    1.94,6,   0.503,2,   0.248,2,  -999.0,9,  -999.0,9,  -999.0,5,-999.000,1,-999.000,-999.0000,1, -999.00,9, -999.00,9,  -999.0,9,  -999.0,-999.000,9,-999.000,  4133.8,  10.1365,-999.0000, -999.00
 316N145_14,       I02E,    1119,          1,         26,     SIH037,2,19951217,       1849,   -10.7412,    88.0638,       4785,   501.0,   8.7935,  34.7189,2,  34.7172,2,     86.5,2,    90.3,2,   44.90,2,   31.18,3,    0.01,2,    2.15,2,   0.239,2,   0.115,2,  -999.0,9,  -999.0,9,  -999.0,5,-999.000,1,-999.000,-999.0000,1, -999.00,9, -999.00,9,  -999.0,9,  -999.0,-999.000,9,-999.000,  5137.6,   8.7391,-999.0000, -999.00
 316N145_14,       I02E,    1119,          1,         25,     SI9446,3,19951217,       1849,   -10.7412,    88.0638,       4785,   601.3,   7.9143,  34.6995,2,  34.6956,2,     76.6,2,    76.6,2,   58.82,6,   33.85,3,    0.00,6,    2.39,6,   0.076,3,   0.034,6,  -999.0,9,  -999.0,9,  -999.0,5,-999.000,1,-999.000,-999.0000,1, -999.00,9, -999.00,9,  -999.0,9,  -999.0,-999.000,9,-999.000,  6141.6,   7.8525,-999.0000, -999.00
 316N145_14,       I02E,    1119,          1,         24,     SIH036,2,19951217,       1849,   -10.7412,    88.0638,       4785,   703.0,   7.1134,  34.6865,2,  34.6853,2,     73.7,2,    75.0,2,   69.74,2,   35.16,3,    0.01,2,    2.51,2,   0.032,2,   0.011,2,  -999.0,9,  -999.0,9,  -999.0,5,-999.000,1,-999.000,-999.0000,1, -999.00,9, -999.00,9,  -999.0,9,  -999.0,-999.000,9,-999.000,  7157.6,   7.0449,-999.0000, -999.00
 316N145_14,       I02E,    1119,          1,         23,     SIH001,2,19951217,       1849,   -10.7412,    88.0638,       4785,   803.8,   6.2285,  34.6500,2,  34.6496,2,     78.5,2,    79.5,2,   81.94,2,   35.98,3,    0.00,2,    2.58,2,   0.027,2,   0.007,2,  -999.0,9,  -999.0,9,  -999.0,5,-999.000,1,-999.000,-999.0000,1, -999.00,9, -999.00,9,  -999.0,9,  -999.0,-999.000,9,-999.000,  8165.3,   6.1550,-999.0000, -999.00
 316N145_14,       I02E,    1119,          1,         22,     SIH019,2,19951217,       1849,   -10.7412,    88.0638,       4785,  1005.0,   5.1329,  34.6444,2,  34.6447,2,     88.2,2,    87.5,2,   97.37,2,   36.52,3,    0.01,2,    2.63,2,   0.010,2,   0.001,2,  -999.0,9,  -999.0,9,  -999.0,5,-999.000,1,-999.000,-999.0000,1, -999.00,9, -999.00,9,  -999.0,9,  -999.0,-999.000,9,-999.000, 10178.3,   5.0479,-999.0000, -999.00
 316N145_14,       I02E,    1119,          1,         21,     SIH025,3,19951217,       1849,   -10.7412,    88.0638,       4785,  1255.1,   4.2190,  34.6818,2,  34.6822,2,     96.0,2,    97.4,2,  107.03,2,   36.85,3,    0.00,2,    2.65,2,   0.003,2,  -0.001,2,  -999.0,9,  -999.0,9,  -999.0,5,-999.000,1,-999.000,-999.0000,1, -999.00,9, -999.00,9,  -999.0,9,  -999.0,-999.000,9,-999.000, 12680.5,   4.1192,-999.0000, -999.00
 316N145_14,       I02E,    1119,          1,         20,     SIH004,2,19951217,       1849,   -10.7412,    88.0638,       4785,  1505.2,   3.5524,  34.7256,2,  34.7258,2,    112.6,2,   112.3,2,  109.92,2,   36.49,3,    0.00,2,    2.60,2,-999.000,5,-999.000,5,  -999.0,9,  -999.0,9,  -999.0,5,-999.000,1,-999.000,-999.0000,1, -999.00,9, -999.00,9,  -999.0,9,  -999.0,-999.000,9,-999.000, 15181.8,   3.4375,-999.0000, -999.00
 316N145_14,       I02E,    1119,          1,         19,     SIH005,2,19951217,       1849,   -10.7412,    88.0638,       4785,  1753.8,   2.8296,  34.7334,2,  34.7343,2,    134.5,2,   133.0,2,  113.96,2,   35.44,3,    0.00,2,    2.52,2,-999.000,5,-999.000,5,  -999.0,9,  -999.0,9,  -999.0,5,-999.000,1,-999.000,-999.0000,1, -999.00,9, -999.00,9,  -999.0,9,  -999.0,-999.000,9,-999.000, 17668.8,   2.7020,-999.0000, -999.00
 316N145_14,       I02E,    1119,          1,         18,     SIH006,2,19951217,       1849,   -10.7412,    88.0638,       4785,  2003.0,   2.4049,  34.7370,2,  34.7380,2,    146.1,2,   144.9,2,  118.51,2,   35.02,3,    0.00,2,    2.45,2,-999.000,5,-999.000,5,  -999.0,9,  -999.0,9,  -999.0,5,-999.000,1,-999.000,-999.0000,1, -999.00,9, -999.00,9,  -999.0,9,  -999.0,-999.000,9,-999.000, 20161.5,   2.2617,-999.0000, -999.00
 316N145_14,       I02E,    1119,          1,         17,     SIH038,2,19951217,       1849,   -10.7412,    88.0638,       4785,  2255.3,   2.1513,  34.7357,2,  34.7362,2,    151.8,2,   153.0,2,  120.57,2,   34.66,3,    0.00,2,    2.42,2,-999.000,5,-999.000,5,  -999.0,9,  -999.0,9,  -999.0,5,-999.000,1,-999.000,-999.0000,1, -999.00,9, -999.00,9,  -999.0,9,  -999.0,-999.000,9,-999.000, 22685.7,   1.9900,-999.0000, -999.00
 316N145_14,       I02E,    1119,          1,         16,     SIH008,2,19951217,       1849,   -10.7412,    88.0638,       4785,  2501.3,   1.9889,  34.7322,2,  34.7319,2,    159.8,2,   159.2,2,  121.98,2,   33.92,3,    0.01,2,    2.38,2,-999.000,5,-999.000,5,  -999.0,9,  -999.0,9,  -999.0,5,-999.000,1,-999.000,-999.0000,1, -999.00,9, -999.00,9,  -999.0,9,  -999.0,-999.000,9,-999.000, 25147.3,   1.8084,-999.0000, -999.00
 316N145_14,       I02E,    1119,          1,         15,     SIH009,2,19951217,       1849,   -10.7412,    88.0638,       4785,  2749.3,   1.8580,  34.7306,2,  34.7309,2,    161.8,2,   162.8,2,  124.38,2,   34.10,3,    0.00,2,    2.38,2,-999.000,5,-999.000,5,  -999.0,9,  -999.0,9,  -999.0,5,-999.000,1,-999.000,-999.0000,1, -999.00,9, -999.00,9,  -999.0,9,  -999.0,-999.000,9,-999.000, 27628.0,   1.6570,-999.0000, -999.00
 316N145_14,       I02E,    1119,          1,         14,     SIH010,2,19951217,       1849,   -10.7412,    88.0638,       4785,  2999.4,   1.7267,  34.7282,2,  34.7286,2,    166.2,2,   166.3,2,  126.94,2,   34.11,3,    0.01,2,    2.37,2,-999.000,5,-999.000,5,  -999.0,9,  -999.0,9,  -999.0,5,-999.000,1,-999.000,-999.0000,1, -999.00,9, -999.00,9,  -999.0,9,  -999.0,-999.000,9,-999.000, 30131.1,   1.5047,-999.0000, -999.00
 316N145_14,       I02E,    1119,          1,         13,     SIH011,2,19951217,       1849,   -10.7412,    88.0638,       4785,  3256.8,   1.5930,  34.7239,2,  34.7243,2,    168.9,2,   169.8,2,  129.35,2,   34.12,3,    0.01,2,    2.37,2,-999.000,5,-999.000,5,  -999.0,9,  -999.0,9,  -999.0,5,-999.000,1,-999.000,-999.0000,1, -999.00,9, -999.00,9,  -999.0,9,  -999.0,-999.000,9,-999.000, 32705.7,   1.3489,-999.0000, -999.00
 316N145_14,       I02E,    1119,          1,         12,     SIH012,2,19951217,       1849,   -10.7412,    88.0638,       4785,  3504.6,   1.4877,  34.7219,2,  34.7227,2,    173.9,2,   173.2,2,  131.24,2,   34.08,3,    0.00,2,    2.35,2,-999.000,5,-999.000,5,  -999.0,9,  -999.0,9,  -999.0,5,-999.000,1,-999.000,-999.0000,1, -999.00,9, -999.00,9,  -999.0,9,  -999.0,-999.000,9,-999.000, 35184.1,   1.2212,-999.0000, -999.00
 316N145_14,       I02E,    1119,          1,         11,     SI9426,2,19951217,       1849,   -10.7412,    88.0638,       4785,  3754.1,   1.4161,  34.7198,2,  34.7197,2,    175.9,2,   176.6,2,  132.00,2,   33.77,3,    0.01,2,    2.34,2,-999.000,5,-999.000,5,  -999.0,9,  -999.0,9,  -999.0,5,-999.000,1,-999.000,-999.0000,1, -999.00,9, -999.00,9,  -999.0,9,  -999.0,-999.000,9,-999.000, 37680.4,   1.1256,-999.0000, -999.00
 316N145_14,       I02E,    1119,          1,         10,     SIH014,2,19951217,       1849,   -10.7412,    88.0638,       4785,  4211.0,   1.3190,  34.7169,2,  34.7168,2,    183.0,2,   184.6,2,  130.92,2,   33.67,3,    0.00,2,    2.30,2,-999.000,5,-999.000,5,  -999.0,9,  -999.0,9,  -999.0,5,-999.000,1,-999.000,-999.0000,1, -999.00,9, -999.00,9,  -999.0,9,  -999.0,-999.000,9,-999.000, 42251.3,   0.9819,-999.0000, -999.00
 316N145_14,       I02E,    1119,          1,          9,     SIH015,2,19951217,       1849,   -10.7412,    88.0638,       4785,  4314.2,   1.3136,  34.7164,2,  34.7168,2,    184.1,2,   186.9,2,  130.35,2,   33.26,3,    0.00,2,    2.30,2,-999.000,5,-999.000,5,  -999.0,9,  -999.0,9,  -999.0,5,-999.000,1,-999.000,-999.0000,1, -999.00,9, -999.00,9,  -999.0,9,  -999.0,-999.000,9,-999.000, 43282.7,   0.9652,-999.0000, -999.00
 316N145_14,       I02E,    1119,          1,          8,     SIH016,2,19951217,       1849,   -10.7412,    88.0638,       4785,  4409.1,   1.2868,  34.7157,2,  34.7172,2,    187.4,2,   186.6,2,  130.43,2,   33.43,3,    0.00,2,    2.30,2,-999.000,5,-999.000,5,  -999.0,9,  -999.0,9,  -999.0,5,-999.000,1,-999.000,-999.0000,1, -999.00,9, -999.00,9,  -999.0,9,  -999.0,-999.000,9,-999.000, 44232.6,   0.9286,-999.0000, -999.00
 316N145_14,       I02E,    1119,          1,          7,     SIH017,2,19951217,       1849,   -10.7412,    88.0638,       4785,  4504.8,   1.2960,  34.7163,2,  34.7154,2,    187.0,2,   187.3,2,  130.19,2,   33.39,3,    0.00,2,    2.30,2,-999.000,5,-999.000,5,  -999.0,9,  -999.0,9,  -999.0,5,-999.000,1,-999.000,-999.0000,1, -999.00,9, -999.00,9,  -999.0,9,  -999.0,-999.000,9,-999.000, 45190.0,   0.9266,-999.0000, -999.00
 316N145_14,       I02E,    1119,          1,          6,     SIH018,2,19951217,       1849,   -10.7412,    88.0638,       4785,  4614.6,   1.3012,  34.7161,2,  34.7160,2,    187.4,2,   188.0,2,  129.94,2,   33.29,3,    0.01,2,    2.29,2,-999.000,5,-999.000,5,  -999.0,9,  -999.0,9,  -999.0,5,-999.000,1,-999.000,-999.0000,1, -999.00,9, -999.00,9,  -999.0,9,  -999.0,-999.000,9,-999.000, 46288.5,   0.9190,-999.0000, -999.00
 316N145_14,       I02E,    1119,          1,          5,     SIH002,2,19951217,       1849,   -10.7412,    88.0638,       4785,  4710.2,   1.3068,  34.7157,2,  34.7164,2,    188.6,2,   188.1,2,  129.91,6,   33.25,3,    0.01,6,    2.28,6,-999.000,5,-999.000,5,  -999.0,9,  -999.0,9,  -999.0,5,-999.000,1,-999.000,-999.0000,1, -999.00,9, -999.00,9,  -999.0,9,  -999.0,-999.000,9,-999.000, 47245.5,   0.9133,-999.0000, -999.00
 316N145_14,       I02E,    1119,          1,          4,     SIH020,2,19951217,       1849,   -10.7412,    88.0638,       4785,  4757.3,   1.3121,  34.7160,2,  34.7160,2,    189.6,2,   188.3,2,  129.57,2,   33.26,3,    0.01,2,    2.29,2,-999.000,5,-999.000,5,  -999.0,9,  -999.0,9,  -999.0,5,-999.000,1,-999.000,-999.0000,1, -999.00,9, -999.00,9,  -999.0,9,  -999.0,-999.000,9,-999.000, 47715.1,   0.9129,-999.0000, -999.00
 316N145_14,       I02E,    1119,          1,          3,     SIH021,2,19951217,       1849,   -10.7412,    88.0638,       4785,  4804.3,   1.3173,  34.7155,2,  34.7158,2,    188.8,2,   188.3,2,  129.04,2,   33.32,3,    0.00,2,    2.29,2,-999.000,5,-999.000,5,  -999.0,9,  -999.0,9,  -999.0,5,-999.000,1,-999.000,-999.0000,1, -999.00,9, -999.00,9,  -999.0,9,  -999.0,-999.000,9,-999.000, 48185.8,   0.9124,-999.0000, -999.00
 316N145_14,       I02E,    1119,          1,          2,     SIH022,2,19951217,       1849,   -10.7412,    88.0638,       4785,  4848.7,   1.3205,  34.7158,2,  34.7158,2,    187.7,2,   188.5,2,  128.96,2,   33.17,3,    0.01,2,    2.29,2,-999.000,5,-999.000,5,  -999.0,9,  -999.0,9,  -999.0,5,-999.000,1,-999.000,-999.0000,1, -999.00,9, -999.00,9,  -999.0,9,  -999.0,-999.000,9,-999.000, 48630.4,   0.9102,-999.0000, -999.00
 316N145_14,       I02E,    1119,          1,          1,     SIH023,2,19951217,       1849,   -10.7412,    88.0638,       4785,  4893.3,   1.3207,  34.7154,2,  34.7148,2,    188.6,2,   189.5,2,  128.79,6,   33.12,3,    0.01,6,    2.28,6,-999.000,5,-999.000,5,  -999.0,9,  -999.0,9,  -999.0,5,-999.000,1,-999.000,-999.0000,1, -999.00,9, -999.00,9,  -999.0,9,  -999.0,-999.000,9,-999.000, 49076.8,   0.9051,-999.0000, -999.00