BOTTLE,20220829CCHSIOAMB
EXPOCODE,SECT_ID,STNNBR,CASTNO,SAMPNO,BTLNBR,BTLNBR_FLAG_W,DATE,TIME,LATITUDE,LONGITUDE,DEPTH,CTDPRS,CTDTMP,CTDSAL,CTDSAL_FLAG_W,SALNTY,SALNTY_FLAG_W,CTDOXY,CTDOXY_FLAG_W,OXYGEN,OXYGEN_FLAG_W,SILCAT,SILCAT_FLAG_W,NITRAT,NITRAT_FLAG_W,NITRIT,NITRIT_FLAG_W,PHSPHT,PHSPHT_FLAG_W,CFC-11,CFC-11_FLAG_W,CFC-12,CFC-12_FLAG_W,TCARBN,TCARBN_FLAG_W,ALKALI,ALKALI_FLAG_W,PCO2,PCO2_FLAG_W,TRITUM,TRITUM_FLAG_W,TRITER,HELIUM,HELIUM_FLAG_W,DELHE3,DELHE3_FLAG_W,DELC13,DELC13_FLAG_W,DELC14,DELC14_FLAG_W,C14ERR,NEON,NEON_FLAG_W,NEONER,CTDRAW,THETA,HELIER,DELHER
,,,,,,,,,,,METERS,DBAR,ITS-90,PSS-78,,PSS-78,,UMOL/KG,,UMOL/KG,,UMOL/KG,,UMOL/KG,,UMOL/KG,,UMOL/KG,,PMOL/KG,,PMOL/KG,,UMOL/KG,,UMOL/KG,,UATM,,TU,,TU,NMOL/KG,,PERCNT,,/MILLE,,/MILLE,,/MILLE,NMOL/KG,,NMOL/KG,DBAR,DEG C,NMOL/KG,PERCNT
 316N145_14,       I02E,    1110,          1,         36,     SIH024,2,19951215,       0207,    -5.5180,    88.5013,       4860,     9.8,  27.5365,  33.9370,2,  33.9461,2,    188.9,2,   211.6,2,    2.64,2,    0.23,2,    0.00,2,    0.13,2,   1.647,2,   0.956,2,  1896.4,2,  -999.0,9,  -999.0,5,   1.090,2,   0.004,   1.7263,2,   -1.23,2, -999.00,9,  -999.0,9,  -999.0,   6.697,2,-999.000,   240.8,  27.5342,-999.0000, -999.00
 316N145_14,       I02E,    1110,          1,         35,     SIH003,2,19951215,       0207,    -5.5180,    88.5013,       4860,    51.7,  24.9525,  35.3189,2,  35.3260,2,    162.0,2,   158.8,2,    6.26,2,    5.06,2,    0.95,2,    0.64,2,   1.608,2,   0.933,2,  2037.0,2,  2309.1,2,  -999.0,5,   0.935,2,   0.004,   1.7222,2,    0.30,2, -999.00,9,  -999.0,9,  -999.0,   6.728,2,-999.000,   652.3,  24.9413,-999.0000, -999.00
 316N145_14,       I02E,    1110,          1,         34,     SIH026,2,19951215,       0207,    -5.5180,    88.5013,       4860,   102.2,  20.8943,  35.1890,2,  35.1985,2,     84.5,2,    85.4,2,   11.62,2,   16.59,2,    0.07,2,    1.25,2,-999.000,5,-999.000,5,  2119.5,2,  -999.0,9,  -999.0,5,   0.893,2,   0.004,   1.7372,2,    3.12,2, -999.00,9,  -999.0,9,  -999.0,   6.851,2,-999.000,  1150.8,  20.8748,-999.0000, -999.00
 316N145_14,       I02E,    1110,          1,         33,     SIH027,2,19951215,       0207,    -5.5180,    88.5013,       4860,   152.0,  15.6062,  34.8686,2,  34.8682,2,     61.7,2,    63.6,2,   25.42,2,   24.08,2,    0.01,2,    1.70,2,   0.948,2,   0.502,2,  -999.0,9,  -999.0,9,  -999.0,5,   0.806,2,   0.004,   1.7805,2,    7.23,2, -999.00,9,  -999.0,9,  -999.0,   7.191,2,-999.000,  1646.9,  15.5826,-999.0000, -999.00
 316N145_14,       I02E,    1110,          1,         32,     SIH028,2,19951215,       0207,    -5.5180,    88.5013,       4860,   196.5,  12.9866,  34.8310,2,  34.8328,2,     63.7,2,    66.9,2,   30.61,2,   26.45,2,    0.01,2,    1.86,2,   0.622,2,   0.324,2,  -999.0,9,  -999.0,9,  -999.0,5,   0.642,2,   0.003,   1.7833,2,    8.14,2, -999.00,9,  -999.0,9,  -999.0,   7.165,2,-999.000,  2092.0,  12.9596,-999.0000, -999.00
 316N145_14,       I02E,    1110,          1,         31,     SIH029,2,19951215,       0207,    -5.5180,    88.5013,       4860,   296.8,  11.5166,  34.9844,2,  34.9845,2,     70.7,2,    70.3,2,   26.13,2,   27.74,2,    0.00,2,    1.90,2,   0.372,2,   0.195,2,  -999.0,9,  -999.0,9,  -999.0,5,   0.297,2,   0.003,   1.7970,2,    5.44,2, -999.00,9,  -999.0,9,  -999.0,   7.343,2,-999.000,  3094.0,  11.4788,-999.0000, -999.00
 316N145_14,       I02E,    1110,          1,         30,     SIH030,2,19951215,       0207,    -5.5180,    88.5013,       4860,   396.8,  10.2387,  34.9063,2,  34.9052,2,     65.5,2,    65.7,2,   33.38,2,   30.82,2,    0.00,2,    2.08,2,   0.158,6,   0.087,6,  -999.0,9,  -999.0,9,  -999.0,5,   0.148,2,   0.002,   1.8214,2,    5.01,2, -999.00,9,  -999.0,9,  -999.0,   7.432,2,-999.000,  4094.8,  10.1916,-999.0000, -999.00
 316N145_14,       I02E,    1110,          1,         29,     SIH031,2,19951215,       0207,    -5.5180,    88.5013,       4860,   497.1,   9.3347,  34.8693,2,  34.8658,2,     67.4,2,    65.5,2,   41.15,2,   32.59,2,    0.00,2,    2.24,2,   0.107,2,   0.060,2,  -999.0,9,  -999.0,9,  -999.0,5,   0.077,2,   0.002,   1.8101,2,    5.61,2, -999.00,9,  -999.0,9,  -999.0,   7.435,2,-999.000,  5098.5,   9.2786,-999.0000, -999.00
 316N145_14,       I02E,    1110,          1,         28,     SIH032,2,19951215,       0207,    -5.5180,    88.5013,       4860,   597.3,   8.5442,  34.8539,2,  34.8528,2,     58.8,2,    60.8,2,   51.34,2,   34.36,2,    0.00,2,    2.40,2,   0.022,2,   0.009,2,  -999.0,9,  -999.0,9,  -999.0,5,   0.036,2,   0.002,-999.0000,1, -999.00,9, -999.00,9,  -999.0,9,  -999.0,-999.000,9,-999.000,  6100.4,   8.4800,-999.0000, -999.00
 316N145_14,       I02E,    1110,          1,         27,     SIH033,2,19951215,       0207,    -5.5180,    88.5013,       4860,   697.5,   7.6897,  34.8408,2,  34.8397,2,     64.7,2,    61.6,2,   63.24,2,   35.66,2,    0.00,2,    2.52,2,   0.008,2,   0.002,2,  -999.0,9,  -999.0,9,  -999.0,5,   0.020,2,   0.002,   1.8364,2,    8.75,2, -999.00,9,  -999.0,9,  -999.0,   7.569,2,-999.000,  7102.4,   7.6186,-999.0000, -999.00
 316N145_14,       I02E,    1110,          1,         26,     SIH037,2,19951215,       0207,    -5.5180,    88.5013,       4860,   798.1,   6.8428,  34.8059,2,  34.8060,2,     62.6,2,    64.2,2,   75.31,2,   36.47,2,    0.00,2,    2.59,2,   0.006,2,   0.002,2,  -999.0,9,  -999.0,9,  -999.0,5,   0.014,2,   0.002,   1.8611,2,   10.69,2, -999.00,9,  -999.0,9,  -999.0,   7.709,2,-999.000,  8108.6,   6.7659,-999.0000, -999.00
 316N145_14,       I02E,    1110,          1,         25,     SI9446,3,19951215,       0207,    -5.5180,    88.5013,       4860,   998.7,   5.6876,  34.7902,2,  34.7864,2,     74.1,2,    73.6,2,   90.50,2,   36.93,2,    0.00,2,    2.64,2,   0.002,2,  -0.001,2,  -999.0,9,  -999.0,9,  -999.0,5,   0.009,2,   0.002,   1.8818,2,   12.59,2, -999.00,9,  -999.0,9,  -999.0,   7.661,2,-999.000, 10114.9,   5.5988,-999.0000, -999.00
 316N145_14,       I02E,    1110,          1,         24,     SIH036,2,19951215,       0207,    -5.5180,    88.5013,       4860,  1245.1,   4.8602,  34.8041,2,  34.8037,2,     81.7,2,    81.0,2,   99.12,2,   37.22,2,    0.00,2,    2.66,2,-999.000,5,-999.000,5,  -999.0,9,  -999.0,9,  -999.0,5,   0.000,2,   0.002,   1.8972,2,   12.98,2, -999.00,9,  -999.0,9,  -999.0,   7.930,2,-999.000, 12580.7,   4.7550,-999.0000, -999.00
 316N145_14,       I02E,    1110,          1,         23,     SIH001,2,19951215,       0207,    -5.5180,    88.5013,       4860,  1496.9,   4.0623,  34.7997,2,  34.7984,2,     97.4,2,    97.0,2,  106.72,2,   37.01,2,    0.00,2,    2.63,2,  -0.001,2,  -0.002,2,  -999.0,9,  -999.0,9,  -999.0,5,-999.000,1,-999.000,-999.0000,1, -999.00,9, -999.00,9,  -999.0,9,  -999.0,-999.000,9,-999.000, 15099.4,   3.9421,-999.0000, -999.00
 316N145_14,       I02E,    1110,          1,         22,     SIH019,2,19951215,       0207,    -5.5180,    88.5013,       4860,  1749.2,   3.4309,  34.7890,2,  34.7885,2,    112.6,2,   111.1,2,  114.22,2,   36.52,2,    0.00,2,    2.59,2,-999.000,5,-999.000,5,  -999.0,9,  -999.0,9,  -999.0,5,-999.000,1,-999.000,-999.0000,1, -999.00,9, -999.00,9,  -999.0,9,  -999.0,-999.000,9,-999.000, 17622.7,   3.2955,-999.0000, -999.00
 316N145_14,       I02E,    1110,          1,         21,     SIH025,2,19951215,       0207,    -5.5180,    88.5013,       4860,  1997.3,   2.7757,  34.7677,2,  34.7673,2,    129.1,2,   128.1,2,  121.56,2,   35.89,2,    0.00,2,    2.52,2,-999.000,5,-999.000,5,  -999.0,9,  -999.0,9,  -999.0,5,-999.000,1,-999.000,-999.0000,1, -999.00,9, -999.00,9,  -999.0,9,  -999.0,-999.000,9,-999.000, 20104.7,   2.6274,-999.0000, -999.00
 316N145_14,       I02E,    1110,          1,         20,     SIH004,2,19951215,       0207,    -5.5180,    88.5013,       4860,  2249.0,   2.3409,  34.7535,2,  34.7522,2,    141.8,2,   141.0,2,  124.15,2,   35.39,2,    0.00,2,    2.46,2,   0.001,2,   0.000,2,  -999.0,9,  -999.0,9,  -999.0,5,-999.000,1,-999.000,-999.0000,1, -999.00,9, -999.00,9,  -999.0,9,  -999.0,-999.000,9,-999.000, 22623.3,   2.1770,-999.0000, -999.00
 316N145_14,       I02E,    1110,          1,         19,     SIH005,2,19951215,       0207,    -5.5180,    88.5013,       4860,  2497.0,   2.0690,  34.7428,2,  34.7437,2,    149.5,2,   149.8,2,  127.10,2,   34.97,2,    0.00,2,    2.42,2,-999.000,5,-999.000,5,  -999.0,9,  -999.0,9,  -999.0,5,-999.000,1,-999.000,-999.0000,1, -999.00,9, -999.00,9,  -999.0,9,  -999.0,-999.000,9,-999.000, 25104.7,   1.8873,-999.0000, -999.00
 316N145_14,       I02E,    1110,          1,         18,     SIH006,2,19951215,       0207,    -5.5180,    88.5013,       4860,  2744.7,   1.8932,  34.7377,2,  34.7370,2,    158.0,2,   156.2,2,  128.66,2,   34.54,2,    0.00,2,    2.38,2,-999.000,5,-999.000,5,  -999.0,9,  -999.0,9,  -999.0,5,-999.000,1,-999.000,-999.0000,1, -999.00,9, -999.00,9,  -999.0,9,  -999.0,-999.000,9,-999.000, 27582.3,   1.6920,-999.0000, -999.00
 316N145_14,       I02E,    1110,          1,         17,     SIH038,2,19951215,       0207,    -5.5180,    88.5013,       4860,  2997.5,   1.6956,  34.7302,2,  34.7292,2,    164.2,2,   163.9,2,  130.91,2,   34.17,2,    0.00,2,    2.36,2,   0.001,2,   0.001,2,  -999.0,9,  -999.0,9,  -999.0,5,  -0.001,2,   0.002,-999.0000,1, -999.00,9, -999.00,9,  -999.0,9,  -999.0,-999.000,9,-999.000, 30111.6,   1.4745,-999.0000, -999.00
 316N145_14,       I02E,    1110,          1,         16,     SIH008,2,19951215,       0207,    -5.5180,    88.5013,       4860,  3251.1,   1.5578,  34.7268,2,-999.0000,9,    164.7,2,   166.1,2,  133.24,2,   34.32,2,    0.00,2,    2.37,2,-999.000,5,-999.000,5,  -999.0,9,  -999.0,9,  -999.0,5,-999.000,1,-999.000,-999.0000,1, -999.00,9, -999.00,9,  -999.0,9,  -999.0,-999.000,9,-999.000, 32647.9,   1.3151,-999.0000, -999.00
 316N145_14,       I02E,    1110,          1,         15,     SIH009,2,19951215,       0207,    -5.5180,    88.5013,       4860,  3497.5,   1.4447,  34.7234,2,  34.7227,2,    170.5,2,   171.7,2,  133.51,2,   34.15,2,    0.00,2,    2.33,2,-999.000,5,-999.000,5,  -999.0,9,  -999.0,9,  -999.0,5,-999.000,1,-999.000,-999.0000,1, -999.00,9, -999.00,9,  -999.0,9,  -999.0,-999.000,9,-999.000, 35113.5,   1.1799,-999.0000, -999.00
 316N145_14,       I02E,    1110,          1,         14,     SIH010,2,19951215,       0207,    -5.5180,    88.5013,       4860,  3649.6,   1.4189,  34.7220,2,  34.7213,2,    171.0,2,   171.9,2,  135.42,2,   34.20,2,    0.00,2,    2.34,2,-999.000,5,-999.000,5,  -999.0,9,  -999.0,9,  -999.0,5,-999.000,1,-999.000,-999.0000,1, -999.00,9, -999.00,9,  -999.0,9,  -999.0,-999.000,9,-999.000, 36635.5,   1.1392,-999.0000, -999.00
 316N145_14,       I02E,    1110,          1,         13,     SIH011,2,19951215,       0207,    -5.5180,    88.5013,       4860,  3800.4,   1.3938,  34.7207,2,  34.7199,2,    172.0,2,   173.6,2,  135.59,2,   34.00,2,    0.00,2,    2.32,2,-999.000,5,-999.000,5,  -999.0,9,  -999.0,9,  -999.0,5,-999.000,1,-999.000,-999.0000,1, -999.00,9, -999.00,9,  -999.0,9,  -999.0,-999.000,9,-999.000, 38143.5,   1.0990,-999.0000, -999.00
 316N145_14,       I02E,    1110,          1,         12,     SIH012,2,19951215,       0207,    -5.5180,    88.5013,       4860,  3901.0,   1.3912,  34.7206,2,  34.7219,3,    173.5,2,   174.1,2,  135.95,2,   33.99,2,    0.00,2,    2.32,2,-999.000,5,-999.000,5,  -999.0,9,  -999.0,9,  -999.0,5,-999.000,1,-999.000,-999.0000,1, -999.00,9, -999.00,9,  -999.0,9,  -999.0,-999.000,9,-999.000, 39149.9,   1.0858,-999.0000, -999.00
 316N145_14,       I02E,    1110,          1,         11,     SI9426,2,19951215,       0207,    -5.5180,    88.5013,       4860,  4002.1,   1.3918,  34.7206,2,  34.7188,2,    174.1,2,   174.8,2,  135.96,2,   33.93,2,    0.00,2,    2.33,2,-999.000,5,-999.000,5,  -999.0,9,  -999.0,9,  -999.0,5,-999.000,1,-999.000,-999.0000,1, -999.00,9, -999.00,9,  -999.0,9,  -999.0,-999.000,9,-999.000, 40160.9,   1.0755,-999.0000, -999.00
 316N145_14,       I02E,    1110,          1,         10,     SIH014,2,19951215,       0207,    -5.5180,    88.5013,       4860,  4102.6,   1.3936,  34.7191,2,  34.7188,2,    175.7,2,   175.0,2,  136.48,2,   33.91,2,    0.00,2,    2.33,2,-999.000,5,-999.000,5,  -999.0,9,  -999.0,9,  -999.0,5,-999.000,1,-999.000,-999.0000,1, -999.00,9, -999.00,9,  -999.0,9,  -999.0,-999.000,9,-999.000, 41167.3,   1.0663,-999.0000, -999.00
 316N145_14,       I02E,    1110,          1,          9,     SIH015,2,19951215,       0207,    -5.5180,    88.5013,       4860,  4203.1,   1.3944,  34.7194,2,  34.7188,2,    174.8,2,   175.7,2,  135.80,2,   33.90,2,    0.00,2,    2.31,2,  -0.001,2,  -0.002,2,  -999.0,9,  -999.0,9,  -999.0,5,-999.000,1,-999.000,-999.0000,1, -999.00,9, -999.00,9,  -999.0,9,  -999.0,-999.000,9,-999.000, 42172.0,   1.0560,-999.0000, -999.00
 316N145_14,       I02E,    1110,          1,          8,     SIH016,2,19951215,       0207,    -5.5180,    88.5013,       4860,  4303.7,   1.3911,  34.7193,2,  34.7190,2,    176.4,2,   176.9,2,  134.95,2,   33.94,2,    0.00,2,    2.31,2,-999.000,5,-999.000,5,  -999.0,9,  -999.0,9,  -999.0,5,-999.000,1,-999.000,-999.0000,1, -999.00,9, -999.00,9,  -999.0,9,  -999.0,-999.000,9,-999.000, 43179.0,   1.0415,-999.0000, -999.00
 316N145_14,       I02E,    1110,          1,          7,     SIH017,3,19951215,       0207,    -5.5180,    88.5013,       4860,  4399.1,   1.3866,  34.7190,2,  34.7191,2,    177.5,2,   178.3,2,  135.12,2,   33.88,2,    0.00,2,    2.30,2,-999.000,5,-999.000,5,  -999.0,9,  -999.0,9,  -999.0,5,-999.000,1,-999.000,-999.0000,1, -999.00,9, -999.00,9,  -999.0,9,  -999.0,-999.000,9,-999.000, 44132.7,   1.0264,-999.0000, -999.00
 316N145_14,       I02E,    1110,          1,          6,     SIH018,2,19951215,       0207,    -5.5180,    88.5013,       4860,  4501.3,   1.3746,  34.7181,2,  34.7182,2,    180.2,2,   180.1,2,  132.90,2,   33.97,2,    0.00,2,    2.30,2,-999.000,5,-999.000,5,  -999.0,9,  -999.0,9,  -999.0,5,-999.000,1,-999.000,-999.0000,1, -999.00,9, -999.00,9,  -999.0,9,  -999.0,-999.000,9,-999.000, 45155.4,   1.0031,-999.0000, -999.00
 316N145_14,       I02E,    1110,          1,          5,     SIH002,2,19951215,       0207,    -5.5180,    88.5013,       4860,  4603.4,   1.3603,  34.7182,2,  34.7158,2,    182.5,2,   187.3,4,  131.87,2,   33.73,2,    0.00,2,    2.29,2,-999.000,5,-999.000,5,  -999.0,9,  -999.0,9,  -999.0,5,-999.000,1,-999.000,-999.0000,1, -999.00,9, -999.00,9,  -999.0,9,  -999.0,-999.000,9,-999.000, 46176.8,   0.9775,-999.0000, -999.00
 316N145_14,       I02E,    1110,          1,          4,     SIH020,2,19951215,       0207,    -5.5180,    88.5013,       4860,  4701.0,   1.3572,  34.7172,2,  34.7172,2,    182.6,2,   182.7,2,  131.90,2,   33.55,2,    0.00,2,    2.28,2,-999.000,5,-999.000,5,  -999.0,9,  -999.0,9,  -999.0,5,-999.000,1,-999.000,-999.0000,1, -999.00,9, -999.00,9,  -999.0,9,  -999.0,-999.000,9,-999.000, 47152.6,   0.9631,-999.0000, -999.00
 316N145_14,       I02E,    1110,          1,          3,     SIH021,2,19951215,       0207,    -5.5180,    88.5013,       4860,  4801.8,   1.3572,  34.7174,2,  34.7164,2,    184.0,2,   184.4,2,  132.43,2,   33.49,2,    0.00,2,    2.28,2,-999.000,5,-999.000,5,  -999.0,9,  -999.0,9,  -999.0,5,-999.000,1,-999.000,-999.0000,1, -999.00,9, -999.00,9,  -999.0,9,  -999.0,-999.000,9,-999.000, 48160.7,   0.9513,-999.0000, -999.00
 316N145_14,       I02E,    1110,          1,          2,     SIH022,2,19951215,       0207,    -5.5180,    88.5013,       4860,  4898.0,   1.3691,  34.7178,2,  34.7174,2,    184.7,2,   183.8,2,  131.06,2,   33.52,2,    0.00,2,    2.28,2,-999.000,5,-999.000,5,  -999.0,9,  -999.0,9,  -999.0,5,-999.000,1,-999.000,-999.0000,1, -999.00,9, -999.00,9,  -999.0,9,  -999.0,-999.000,9,-999.000, 49122.5,   0.9513,-999.0000, -999.00
 316N145_14,       I02E,    1110,          1,          1,     SIH023,2,19951215,       0207,    -5.5180,    88.5013,       4860,  4948.6,   1.3736,  34.7131,2,  34.7184,2,    183.7,2,   184.8,2,  131.84,6,   33.49,6,    0.00,6,    2.28,6,   0.001,2,  -0.001,2,  -999.0,9,  -999.0,9,  -999.0,5,-999.000,1,-999.000,-999.0000,1, -999.00,9, -999.00,9,  -999.0,9,  -999.0,-999.000,9,-999.000, 49630.0,   0.9496,-999.0000, -999.00