BOTTLE,20220829CCHSIOAMB
EXPOCODE,SECT_ID,STNNBR,CASTNO,SAMPNO,BTLNBR,BTLNBR_FLAG_W,DATE,TIME,LATITUDE,LONGITUDE,DEPTH,CTDPRS,CTDTMP,CTDSAL,CTDSAL_FLAG_W,SALNTY,SALNTY_FLAG_W,CTDOXY,CTDOXY_FLAG_W,OXYGEN,OXYGEN_FLAG_W,SILCAT,SILCAT_FLAG_W,NITRAT,NITRAT_FLAG_W,NITRIT,NITRIT_FLAG_W,PHSPHT,PHSPHT_FLAG_W,CFC-11,CFC-11_FLAG_W,CFC-12,CFC-12_FLAG_W,TCARBN,TCARBN_FLAG_W,ALKALI,ALKALI_FLAG_W,PCO2,PCO2_FLAG_W,TRITUM,TRITUM_FLAG_W,TRITER,HELIUM,HELIUM_FLAG_W,DELHE3,DELHE3_FLAG_W,DELC13,DELC13_FLAG_W,DELC14,DELC14_FLAG_W,C14ERR,NEON,NEON_FLAG_W,NEONER,CTDRAW,THETA,HELIER,DELHER
,,,,,,,,,,,METERS,DBAR,ITS-90,PSS-78,,PSS-78,,UMOL/KG,,UMOL/KG,,UMOL/KG,,UMOL/KG,,UMOL/KG,,UMOL/KG,,PMOL/KG,,PMOL/KG,,UMOL/KG,,UMOL/KG,,UATM,,TU,,TU,NMOL/KG,,PERCNT,,/MILLE,,/MILLE,,/MILLE,NMOL/KG,,NMOL/KG,DBAR,DEG C,NMOL/KG,PERCNT
 316N145_14,       I02E,    1151,          1,         31,     SIH029,2,19951226,       1934,    -8.0003,    72.5180,       3375,    10.7,  28.6082,  33.9653,2,  33.9634,2,    202.7,2,   203.0,2,    4.86,2,    0.04,2,    0.00,2,    0.10,2,   1.608,2,   0.939,2,  1881.5,2,  2221.9,2,  -999.0,5,-999.000,1,-999.000,-999.0000,1, -999.00,9, -999.00,9,  -999.0,9,  -999.0,-999.000,9,-999.000,   245.0,  28.6057,-999.0000, -999.00
 316N145_14,       I02E,    1151,          1,         30,     SIH030,2,19951226,       1934,    -8.0003,    72.5180,       3375,    30.5,  26.8882,  34.9868,2,  34.9945,2,    217.0,2,   213.2,2,    5.55,2,    0.09,2,    0.00,2,    0.18,2,   1.744,2,   1.001,2,  1954.9,2,  2297.6,2,  -999.0,5,-999.000,1,-999.000,-999.0000,1, -999.00,9, -999.00,9,  -999.0,9,  -999.0,-999.000,9,-999.000,   438.0,  26.8813,-999.0000, -999.00
 316N145_14,       I02E,    1151,          1,         29,     SIH007,3,19951226,       1934,    -8.0003,    72.5180,       3375,    60.8,  21.1267,  35.3093,2,  35.3053,2,    171.4,2,   171.5,2,    9.38,2,    5.14,2,    0.13,2,    0.50,2,-999.000,5,-999.000,5,  2042.4,2,  2313.2,2,  -999.0,5,-999.000,1,-999.000,-999.0000,1, -999.00,9, -999.00,9,  -999.0,9,  -999.0,-999.000,9,-999.000,   736.8,  21.1150,-999.0000, -999.00
 316N145_14,       I02E,    1151,          1,         28,     SI9439,2,19951226,       1934,    -8.0003,    72.5180,       3375,    90.1,  18.2648,  35.1661,2,  35.1689,2,     87.5,3,   111.7,2,   16.69,2,   14.98,2,    0.21,2,    1.09,2,   1.518,2,   0.813,2,  -999.0,9,  -999.0,9,  -999.0,5,-999.000,1,-999.000,-999.0000,1, -999.00,9, -999.00,9,  -999.0,9,  -999.0,-999.000,9,-999.000,  1028.5,  18.2492,-999.0000, -999.00
 316N145_14,       I02E,    1151,          1,         27,     SIH033,2,19951226,       1934,    -8.0003,    72.5180,       3375,   120.4,  15.9363,  35.0044,2,  35.0043,2,     67.0,2,    70.1,2,   23.13,2,   22.81,2,    0.03,2,    1.60,2,-999.000,5,-999.000,5,  -999.0,9,  -999.0,9,  -999.0,5,-999.000,1,-999.000,-999.0000,1, -999.00,9, -999.00,9,  -999.0,9,  -999.0,-999.000,9,-999.000,  1330.4,  15.9173,-999.0000, -999.00
 316N145_14,       I02E,    1151,          1,         26,     SIH037,2,19951226,       1934,    -8.0003,    72.5180,       3375,   149.6,  14.4120,  34.9679,2,  34.9683,2,     68.1,2,    69.3,2,   25.91,2,   24.57,2,    0.02,2,    1.72,2,   0.876,2,   0.442,2,  -999.0,9,  -999.0,9,  -999.0,5,-999.000,1,-999.000,-999.0000,1, -999.00,9, -999.00,9,  -999.0,9,  -999.0,-999.000,9,-999.000,  1620.3,  14.3900,-999.0000, -999.00
 316N145_14,       I02E,    1151,          1,         25,     SI9446,2,19951226,       1934,    -8.0003,    72.5180,       3375,   200.6,  12.6866,  34.9424,2,  34.9404,2,     94.4,2,    93.1,2,   27.99,2,   23.79,2,    0.01,2,    1.68,2,-999.000,5,-999.000,5,  -999.0,9,  -999.0,9,  -999.0,5,-999.000,1,-999.000,-999.0000,1, -999.00,9, -999.00,9,  -999.0,9,  -999.0,-999.000,9,-999.000,  2130.6,  12.6594,-999.0000, -999.00
 316N145_14,       I02E,    1151,          1,         24,     SIH036,2,19951226,       1934,    -8.0003,    72.5180,       3375,   251.0,  11.7191,  34.9608,2,  34.9608,2,     92.6,2,    92.7,2,   25.54,2,   25.32,2,    0.01,2,    1.75,2,   0.711,2,   0.362,2,  -999.0,9,  -999.0,9,  -999.0,5,-999.000,1,-999.000,-999.0000,1, -999.00,9, -999.00,9,  -999.0,9,  -999.0,-999.000,9,-999.000,  2635.8,  11.6868,-999.0000, -999.00
 316N145_14,       I02E,    1151,          1,         23,     SIH001,2,19951226,       1934,    -8.0003,    72.5180,       3375,   300.5,  11.0990,  34.9356,2,  34.9347,2,    102.5,2,    99.6,2,   25.36,2,   25.75,2,    0.01,2,    1.78,2,-999.000,5,-999.000,5,  1897.5,4,  -999.0,9,  -999.0,5,-999.000,1,-999.000,-999.0000,1, -999.00,9, -999.00,9,  -999.0,9,  -999.0,-999.000,9,-999.000,  3130.7,  11.0616,-999.0000, -999.00
 316N145_14,       I02E,    1151,          1,         22,     SIH019,2,19951226,       1934,    -8.0003,    72.5180,       3375,   350.4,  10.6379,  34.9068,2,  34.9054,2,    106.9,2,   106.7,2,   25.88,2,   26.06,2,    0.01,2,    1.79,2,-999.000,5,-999.000,5,  -999.0,9,  -999.0,9,  -999.0,5,-999.000,1,-999.000,-999.0000,1, -999.00,9, -999.00,9,  -999.0,9,  -999.0,-999.000,9,-999.000,  3631.0,  10.5954,-999.0000, -999.00
 316N145_14,       I02E,    1151,          1,         21,     SIH013,3,19951226,       1934,    -8.0003,    72.5180,       3375,   400.2,  10.2155,  34.8849,2,  34.8839,2,     96.4,2,    97.7,2,   28.65,2,   27.81,2,    0.01,2,    1.90,2,   0.455,2,   0.229,2,  -999.0,9,  -999.0,9,  -999.0,5,-999.000,1,-999.000,-999.0000,1, -999.00,9, -999.00,9,  -999.0,9,  -999.0,-999.000,9,-999.000,  4127.5,  10.1681,-999.0000, -999.00
 316N145_14,       I02E,    1151,          1,         20,     SIH004,2,19951226,       1934,    -8.0003,    72.5180,       3375,   499.2,   8.9983,  34.8083,2,  34.8074,2,     89.2,2,    94.6,2,   38.90,2,   30.30,2,    0.01,2,    2.12,2,-999.000,5,-999.000,5,  -999.0,9,  -999.0,9,  -999.0,5,-999.000,1,-999.000,-999.0000,1, -999.00,9, -999.00,9,  -999.0,9,  -999.0,-999.000,9,-999.000,  5118.4,   8.9433,-999.0000, -999.00
 316N145_14,       I02E,    1151,          1,         19,     SIH005,2,19951226,       1934,    -8.0003,    72.5180,       3375,   599.9,   8.0470,  34.7913,2,  34.7895,2,     79.4,2,    79.9,2,   54.01,2,   33.37,2,    0.01,2,    2.36,2,   0.077,2,   0.040,2,  -999.0,9,  -999.0,9,  -999.0,5,-999.000,1,-999.000,-999.0000,1, -999.00,9, -999.00,9,  -999.0,9,  -999.0,-999.000,9,-999.000,  6125.5,   7.9847,-999.0000, -999.00
 316N145_14,       I02E,    1151,          1,         18,     SIH006,2,19951226,       1934,    -8.0003,    72.5180,       3375,   702.1,   7.4654,  34.7884,2,  34.7880,2,     70.6,2,    72.8,2,   64.76,2,   34.70,2,    0.01,2,    2.49,2,-999.000,5,-999.000,5,  -999.0,9,  -999.0,9,  -999.0,5,-999.000,1,-999.000,-999.0000,1, -999.00,9, -999.00,9,  -999.0,9,  -999.0,-999.000,9,-999.000,  7147.3,   7.3950,-999.0000, -999.00
 316N145_14,       I02E,    1151,          1,         17,     SIH038,2,19951226,       1934,    -8.0003,    72.5180,       3375,   803.1,   6.6015,  34.7572,2,  34.7563,2,     71.9,2,    72.0,2,   78.99,2,   35.92,2,    0.01,2,    2.60,2,-999.000,5,-999.000,5,  -999.0,9,  -999.0,9,  -999.0,5,-999.000,1,-999.000,-999.0000,1, -999.00,9, -999.00,9,  -999.0,9,  -999.0,-999.000,9,-999.000,  8157.4,   6.5257,-999.0000, -999.00
 316N145_14,       I02E,    1151,          1,         16,     SIH008,2,19951226,       1934,    -8.0003,    72.5180,       3375,   903.6,   6.0550,  34.7324,2,  34.7317,2,     76.4,2,    74.7,2,   87.13,2,   36.24,2,    0.01,2,    2.63,2,-999.000,5,-999.000,5,  -999.0,9,  -999.0,9,  -999.0,5,-999.000,1,-999.000,-999.0000,1, -999.00,9, -999.00,9,  -999.0,9,  -999.0,-999.000,9,-999.000,  9163.1,   5.9729,-999.0000, -999.00
 316N145_14,       I02E,    1151,          1,         15,     SIH009,2,19951226,       1934,    -8.0003,    72.5180,       3375,  1003.8,   5.5160,  34.7402,2,  34.7392,2,     80.7,2,    80.8,2,   93.18,2,   36.35,2,    0.01,2,    2.65,2,-999.000,5,-999.000,5,  -999.0,9,  -999.0,9,  -999.0,5,-999.000,1,-999.000,-999.0000,1, -999.00,9, -999.00,9,  -999.0,9,  -999.0,-999.000,9,-999.000, 10165.6,   5.4280,-999.0000, -999.00
 316N145_14,       I02E,    1151,          1,         14,     SIH010,2,19951226,       1934,    -8.0003,    72.5180,       3375,  1104.3,   5.1124,  34.7394,2,  34.7394,2,     85.0,2,    85.0,2,   98.01,2,   36.56,2,    0.01,2,    2.65,2,-999.000,5,-999.000,5,  -999.0,9,  -999.0,9,  -999.0,5,-999.000,1,-999.000,-999.0000,1, -999.00,9, -999.00,9,  -999.0,9,  -999.0,-999.000,9,-999.000, 11170.7,   5.0182,-999.0000, -999.00
 316N145_14,       I02E,    1151,          1,         13,     SIH011,2,19951226,       1934,    -8.0003,    72.5180,       3375,  1205.1,   4.7545,  34.7503,2,  34.7486,2,     88.2,2,    88.5,2,  101.98,2,   36.51,2,    0.01,2,    2.66,2,-999.000,5,-999.000,5,  -999.0,9,  -999.0,9,  -999.0,5,-999.000,1,-999.000,   1.8430,2,   13.03,2, -999.00,9,  -999.0,9,  -999.0,   7.881,2,   0.024, 12179.2,   4.6540,   0.0140,    0.44
 316N145_14,       I02E,    1151,          1,         12,     SIH012,2,19951226,       1934,    -8.0003,    72.5180,       3375,  1304.9,   4.4465,  34.7478,2,  34.7484,2,     94.3,2,    93.7,2,  104.21,2,   36.42,2,    0.01,2,    2.65,2,-999.000,5,-999.000,5,  -999.0,9,  -999.0,9,  -999.0,5,-999.000,1,-999.000,-999.0000,1, -999.00,9, -999.00,9,  -999.0,9,  -999.0,-999.000,9,-999.000, 13177.5,   4.3399,-999.0000, -999.00
 316N145_14,       I02E,    1151,          1,         11,     SI9426,2,19951226,       1934,    -8.0003,    72.5180,       3375,  1405.9,   3.9131,  34.7494,2,  34.7488,2,    106.0,2,   106.0,2,  107.65,2,   36.10,2,    0.01,2,    2.60,2,-999.000,5,-999.000,5,  -999.0,9,  -999.0,9,  -999.0,5,-999.000,1,-999.000,   1.8830,2,   13.21,2, -999.00,9,  -999.0,9,  -999.0,   7.903,2,   0.024, 14187.7,   3.8028,   0.0130,    0.44
 316N145_14,       I02E,    1151,          1,         10,     SIH014,2,19951226,       1934,    -8.0003,    72.5180,       3375,  1606.5,   3.3203,  34.7650,2,  34.7644,2,    119.2,2,   117.9,2,  114.03,2,   35.74,2,    0.01,2,    2.57,2,-999.000,5,-999.000,5,  -999.0,9,  -999.0,9,  -999.0,5,-999.000,1,-999.000,-999.0000,1, -999.00,9, -999.00,9,  -999.0,9,  -999.0,-999.000,9,-999.000, 16193.5,   3.1991,-999.0000, -999.00
 316N145_14,       I02E,    1151,          1,          9,     SIH015,2,19951226,       1934,    -8.0003,    72.5180,       3375,  1808.3,   2.8573,  34.7571,2,  34.7577,2,    132.0,2,   131.2,2,  117.81,2,   35.17,2,    0.01,2,    2.51,2,-999.000,5,-999.000,5,  -999.0,9,  -999.0,9,  -999.0,5,-999.000,1,-999.000,   1.8860,2,   13.51,2, -999.00,9,  -999.0,9,  -999.0,   8.008,2,   0.024, 18212.5,   2.7245,   0.0140,    0.44
 316N145_14,       I02E,    1151,          1,          8,     SIH016,2,19951226,       1934,    -8.0003,    72.5180,       3375,  2010.8,   2.4184,  34.7488,2,  34.7484,2,    141.2,2,   143.0,2,  122.45,2,   34.75,2,    0.01,2,    2.46,2,-999.000,5,-999.000,5,  2288.0,3,  -999.0,9,  -999.0,5,-999.000,1,-999.000,-999.0000,1, -999.00,9, -999.00,9,  -999.0,9,  -999.0,-999.000,9,-999.000, 20237.1,   2.2743,-999.0000, -999.00
 316N145_14,       I02E,    1151,          1,          7,     SIH017,2,19951226,       1934,    -8.0003,    72.5180,       3375,  2207.9,   2.1985,  34.7432,2,  34.7435,2,    151.7,2,   151.3,2,  123.64,2,   34.33,2,    0.01,2,    2.42,2,-999.000,5,-999.000,5,  2294.3,2,  -999.0,9,  -999.0,5,-999.000,1,-999.000,   1.8530,2,   15.17,2, -999.00,9,  -999.0,9,  -999.0,   8.017,2,   0.024, 22209.8,   2.0406,   0.0130,    0.45
 316N145_14,       I02E,    1151,          1,          6,     SIH018,2,19951226,       1934,    -8.0003,    72.5180,       3375,  2400.8,   2.0240,  34.7392,2,  34.7394,2,    156.2,2,   157.0,2,  125.68,2,   34.17,2,    0.01,2,    2.40,2,-999.000,5,-999.000,5,  2298.1,2,  -999.0,9,  -999.0,5,-999.000,1,-999.000,-999.0000,1, -999.00,9, -999.00,9,  -999.0,9,  -999.0,-999.000,9,-999.000, 24138.0,   1.8519,-999.0000, -999.00
 316N145_14,       I02E,    1151,          1,          5,     SIH002,2,19951226,       1934,    -8.0003,    72.5180,       3375,  2597.9,   1.8634,  34.7344,2,  34.7353,2,    161.8,2,   162.1,2,  127.72,2,   33.96,2,    0.01,2,    2.38,2,-999.000,5,-999.000,5,  2303.0,2,  -999.0,9,  -999.0,5,-999.000,1,-999.000,   1.6040,4,   14.79,4, -999.00,9,  -999.0,9,  -999.0,   6.459,4,   0.020, 26110.1,   1.6764,   0.0120,    0.45
 316N145_14,       I02E,    1151,          1,          4,     SIH020,2,19951226,       1934,    -8.0003,    72.5180,       3375,  2800.2,   1.8158,  34.7340,2,  34.7337,2,    163.6,2,   164.0,2,  128.21,2,   33.92,2,    0.01,2,    2.38,2,-999.000,5,-999.000,5,  2304.0,2,  -999.0,9,  -999.0,5,-999.000,1,-999.000,-999.0000,1, -999.00,9, -999.00,9,  -999.0,9,  -999.0,-999.000,9,-999.000, 28133.0,   1.6109,-999.0000, -999.00
 316N145_14,       I02E,    1151,          1,          3,     SIH021,2,19951226,       1934,    -8.0003,    72.5180,       3375,  3006.8,   1.8105,  34.7329,2,  34.7331,2,    164.6,2,   164.9,2,  128.70,2,   33.92,2,    0.01,2,    2.37,2,-999.000,5,-999.000,5,  2304.0,2,  -999.0,9,  -999.0,5,-999.000,1,-999.000,-999.0000,1, -999.00,9, -999.00,9,  -999.0,9,  -999.0,-999.000,9,-999.000, 30199.6,   1.5859,-999.0000, -999.00
 316N145_14,       I02E,    1151,          1,          2,     SIH022,2,19951226,       1934,    -8.0003,    72.5180,       3375,  3206.1,   1.6421,  34.7281,2,  34.7282,2,    168.3,2,   167.9,2,  132.47,2,   33.77,2,    0.01,2,    2.36,2,-999.000,5,-999.000,5,  2304.5,2,  -999.0,9,  -999.0,5,-999.000,1,-999.000,-999.0000,1, -999.00,9, -999.00,9,  -999.0,9,  -999.0,-999.000,9,-999.000, 32191.7,   1.4018,-999.0000, -999.00
 316N145_14,       I02E,    1151,          1,          1,     SIH023,2,19951226,       1934,    -8.0003,    72.5180,       3375,  3397.3,   1.5228,  34.7255,2,  34.7262,2,    169.5,2,   169.8,2,  135.81,6,   33.82,6,    0.01,6,    2.36,6,-999.000,5,-999.000,5,  2304.8,2,  -999.0,9,  -999.0,5,-999.000,1,-999.000,   1.6690,4,   13.69,4, -999.00,9,  -999.0,9,  -999.0,   6.697,4,   0.011, 34108.8,   1.2663,   0.0040,    0.15