BOTTLE,20220829CCHSIOAMB
EXPOCODE,SECT_ID,STNNBR,CASTNO,SAMPNO,BTLNBR,BTLNBR_FLAG_W,DATE,TIME,LATITUDE,LONGITUDE,DEPTH,CTDPRS,CTDTMP,CTDSAL,CTDSAL_FLAG_W,SALNTY,SALNTY_FLAG_W,CTDOXY,CTDOXY_FLAG_W,OXYGEN,OXYGEN_FLAG_W,SILCAT,SILCAT_FLAG_W,NITRAT,NITRAT_FLAG_W,NITRIT,NITRIT_FLAG_W,PHSPHT,PHSPHT_FLAG_W,CFC-11,CFC-11_FLAG_W,CFC-12,CFC-12_FLAG_W,TCARBN,TCARBN_FLAG_W,ALKALI,ALKALI_FLAG_W,PCO2,PCO2_FLAG_W,TRITUM,TRITUM_FLAG_W,TRITER,HELIUM,HELIUM_FLAG_W,DELHE3,DELHE3_FLAG_W,DELC13,DELC13_FLAG_W,DELC14,DELC14_FLAG_W,C14ERR,NEON,NEON_FLAG_W,NEONER,CTDRAW,THETA,HELIER,DELHER
,,,,,,,,,,,METERS,DBAR,ITS-90,PSS-78,,PSS-78,,UMOL/KG,,UMOL/KG,,UMOL/KG,,UMOL/KG,,UMOL/KG,,UMOL/KG,,PMOL/KG,,PMOL/KG,,UMOL/KG,,UMOL/KG,,UATM,,TU,,TU,NMOL/KG,,PERCNT,,/MILLE,,/MILLE,,/MILLE,NMOL/KG,,NMOL/KG,DBAR,DEG C,NMOL/KG,PERCNT
 316N145_14,       I02E,    1107,          1,         36,     SIH024,2,19951214,       0900,    -5.6945,    88.5000,       4533,    11.0,  27.7220,  33.7623,2,  33.7715,2,    209.9,2,   210.0,2,    2.35,2,    0.17,2,    0.00,2,    0.09,2,-999.000,5,-999.000,5,  1889.0,2,  2210.8,2,  -999.0,5,-999.000,1,-999.000,-999.0000,1, -999.00,9, -999.00,9,  -999.0,9,  -999.0,-999.000,9,-999.000,   247.3,  27.7195,-999.0000, -999.00
 316N145_14,       I02E,    1107,          1,         35,     SIH003,2,19951214,       0900,    -5.6945,    88.5000,       4533,    46.6,  24.6352,  35.2409,2,  35.2442,2,    120.5,2,   134.9,2,    6.64,2,    8.31,2,    0.64,2,    0.79,2,-999.000,5,-999.000,5,  2059.6,2,  -999.0,9,  -999.0,5,-999.000,1,-999.000,-999.0000,1, -999.00,9, -999.00,9,  -999.0,9,  -999.0,-999.000,9,-999.000,   598.6,  24.6252,-999.0000, -999.00
 316N145_14,       I02E,    1107,          1,         34,     SIH026,2,19951214,       0900,    -5.6945,    88.5000,       4533,    97.3,  20.0269,  35.1790,2,  35.1732,2,     73.3,2,    83.2,2,   12.73,2,   18.37,2,    0.04,2,    1.28,2,-999.000,5,-999.000,5,  2126.3,2,  2305.6,2,  -999.0,5,-999.000,1,-999.000,-999.0000,1, -999.00,9, -999.00,9,  -999.0,9,  -999.0,-999.000,9,-999.000,  1103.2,  20.0089,-999.0000, -999.00
 316N145_14,       I02E,    1107,          1,         33,     SIH027,2,19951214,       0900,    -5.6945,    88.5000,       4533,   147.5,  14.8256,  34.8608,2,  34.8540,2,     58.7,2,    59.5,2,   26.72,2,   25.93,2,    0.01,2,    1.79,2,-999.000,5,-999.000,5,  -999.0,9,  -999.0,9,  -999.0,5,-999.000,1,-999.000,-999.0000,1, -999.00,9, -999.00,9,  -999.0,9,  -999.0,-999.000,9,-999.000,  1603.6,  14.8035,-999.0000, -999.00
 316N145_14,       I02E,    1107,          1,         32,     SIH028,2,19951214,       0900,    -5.6945,    88.5000,       4533,   197.6,  12.7469,  34.9345,2,  34.9288,2,     63.1,2,    62.7,2,   27.07,2,   27.42,2,    0.01,2,    1.88,2,-999.000,5,-999.000,5,  -999.0,9,  -999.0,9,  -999.0,5,-999.000,1,-999.000,-999.0000,1, -999.00,9, -999.00,9,  -999.0,9,  -999.0,-999.000,9,-999.000,  2103.6,  12.7201,-999.0000, -999.00
 316N145_14,       I02E,    1107,          1,         31,     SIH029,2,19951214,       0900,    -5.6945,    88.5000,       4533,   296.7,  11.1991,  34.9641,2,  34.9730,2,     70.0,2,    69.9,2,   25.81,2,   28.74,2,    0.01,2,    1.93,2,-999.000,5,-999.000,5,  -999.0,9,  -999.0,9,  -999.0,5,-999.000,1,-999.000,-999.0000,1, -999.00,9, -999.00,9,  -999.0,9,  -999.0,-999.000,9,-999.000,  3094.9,  11.1620,-999.0000, -999.00
 316N145_14,       I02E,    1107,          1,         30,     SIH030,2,19951214,       0900,    -5.6945,    88.5000,       4533,   398.6,   9.9500,  34.8922,2,  34.8926,2,     68.8,2,    68.1,2,   32.98,2,   31.45,2,    0.00,2,    2.11,2,-999.000,5,-999.000,5,  -999.0,9,  -999.0,9,  -999.0,5,-999.000,1,-999.000,-999.0000,1, -999.00,9, -999.00,9,  -999.0,9,  -999.0,-999.000,9,-999.000,  4113.2,   9.9035,-999.0000, -999.00
 316N145_14,       I02E,    1107,          1,         29,     SIH031,2,19951214,       0900,    -5.6945,    88.5000,       4533,   497.9,   9.0786,  34.8575,2,  34.8566,2,     64.5,2,    62.9,2,   43.74,2,   33.16,2,    0.00,2,    2.31,2,-999.000,5,-999.000,5,  -999.0,9,  -999.0,9,  -999.0,5,-999.000,1,-999.000,-999.0000,1, -999.00,9, -999.00,9,  -999.0,9,  -999.0,-999.000,9,-999.000,  5106.1,   9.0234,-999.0000, -999.00
 316N145_14,       I02E,    1107,          1,         28,     SIH032,2,19951214,       0900,    -5.6945,    88.5000,       4533,   598.2,   8.4156,  34.8458,2,  34.8475,2,     60.2,2,    61.0,2,   51.99,2,   34.48,2,    0.00,2,    2.44,2,-999.000,5,-999.000,5,  -999.0,9,  -999.0,9,  -999.0,5,-999.000,1,-999.000,-999.0000,1, -999.00,9, -999.00,9,  -999.0,9,  -999.0,-999.000,9,-999.000,  6109.6,   8.3518,-999.0000, -999.00
 316N145_14,       I02E,    1107,          1,         27,     SIH033,2,19951214,       0900,    -5.6945,    88.5000,       4533,   699.1,   7.6536,  34.8489,2,  34.8477,2,     65.1,2,    56.5,2,   64.55,2,   35.81,2,    0.00,2,    2.57,2,-999.000,5,-999.000,5,  -999.0,9,  -999.0,9,  -999.0,5,-999.000,1,-999.000,-999.0000,1, -999.00,9, -999.00,9,  -999.0,9,  -999.0,-999.000,9,-999.000,  7118.4,   7.5825,-999.0000, -999.00
 316N145_14,       I02E,    1107,          1,         26,     SIH037,2,19951214,       0900,    -5.6945,    88.5000,       4533,   798.9,   6.9270,  34.8049,2,  34.8047,2,     62.7,2,    63.2,2,   73.89,2,   36.13,2,    0.00,2,    2.60,2,-999.000,5,-999.000,5,  -999.0,9,  -999.0,9,  -999.0,5,-999.000,1,-999.000,-999.0000,1, -999.00,9, -999.00,9,  -999.0,9,  -999.0,-999.000,9,-999.000,  8116.7,   6.8496,-999.0000, -999.00
 316N145_14,       I02E,    1107,          1,         25,     SI9446,2,19951214,       0900,    -5.6945,    88.5000,       4533,   985.5,   5.8570,  34.7878,2,  34.7876,2,     70.6,2,    71.3,2,   88.42,2,   36.68,2,    0.00,2,    2.65,2,-999.000,5,-999.000,5,  -999.0,9,  -999.0,9,  -999.0,5,-999.000,1,-999.000,-999.0000,1, -999.00,9, -999.00,9,  -999.0,9,  -999.0,-999.000,9,-999.000,  9983.1,   5.7682,-999.0000, -999.00
 316N145_14,       I02E,    1107,          1,         24,     SIH036,2,19951214,       0900,    -5.6945,    88.5000,       4533,  1242.0,   4.8728,  34.7962,2,  34.7970,2,     82.2,2,    81.8,2,   99.20,2,   36.95,2,    0.00,2,    2.67,2,-999.000,5,-999.000,5,  -999.0,9,  -999.0,9,  -999.0,5,-999.000,1,-999.000,-999.0000,1, -999.00,9, -999.00,9,  -999.0,9,  -999.0,-999.000,9,-999.000, 12550.1,   4.7678,-999.0000, -999.00
 316N145_14,       I02E,    1107,          1,         23,     SIH001,2,19951214,       0900,    -5.6945,    88.5000,       4533,  1493.6,   4.0526,  34.7912,2,  34.7913,2,     98.3,2,    98.3,2,  106.56,2,   36.51,2,    0.00,2,    2.62,2,-999.000,5,-999.000,5,  -999.0,9,  -999.0,9,  -999.0,5,-999.000,1,-999.000,-999.0000,1, -999.00,9, -999.00,9,  -999.0,9,  -999.0,-999.000,9,-999.000, 15065.8,   3.9328,-999.0000, -999.00
 316N145_14,       I02E,    1107,          1,         22,     SIH019,2,19951214,       0900,    -5.6945,    88.5000,       4533,  1746.4,   3.2676,  34.7734,2,  34.7742,2,    116.2,2,   117.6,2,  113.74,2,   35.84,2,    0.00,2,    2.54,2,-999.000,5,-999.000,5,  -999.0,9,  -999.0,9,  -999.0,5,-999.000,1,-999.000,-999.0000,1, -999.00,9, -999.00,9,  -999.0,9,  -999.0,-999.000,9,-999.000, 17594.7,   3.1347,-999.0000, -999.00
 316N145_14,       I02E,    1107,          1,         21,     SIH025,2,19951214,       0900,    -5.6945,    88.5000,       4533,  1994.3,   2.7091,  34.7610,2,  34.7614,2,    130.2,2,   131.0,2,  119.68,2,   35.34,2,    0.00,2,    2.50,2,-999.000,5,-999.000,5,  -999.0,9,  -999.0,9,  -999.0,5,-999.000,1,-999.000,-999.0000,1, -999.00,9, -999.00,9,  -999.0,9,  -999.0,-999.000,9,-999.000, 20075.2,   2.5621,-999.0000, -999.00
 316N145_14,       I02E,    1107,          1,         20,     SIH004,2,19951214,       0900,    -5.6945,    88.5000,       4533,  2239.9,   2.3501,  34.7529,2,  34.7520,2,    140.2,2,   140.7,2,  124.54,2,   35.06,2,    0.00,2,    2.47,2,-999.000,5,-999.000,5,  -999.0,9,  -999.0,9,  -999.0,5,-999.000,1,-999.000,-999.0000,1, -999.00,9, -999.00,9,  -999.0,9,  -999.0,-999.000,9,-999.000, 22531.6,   2.1868,-999.0000, -999.00
 316N145_14,       I02E,    1107,          1,         19,     SIH005,2,19951214,       0900,    -5.6945,    88.5000,       4533,  2500.4,   2.0725,  34.7427,2,  34.7425,2,    149.4,2,   150.4,2,  126.70,2,   34.56,2,    0.00,2,    2.43,2,-999.000,5,-999.000,5,  -999.0,9,  -999.0,9,  -999.0,5,-999.000,1,-999.000,-999.0000,1, -999.00,9, -999.00,9,  -999.0,9,  -999.0,-999.000,9,-999.000, 25138.5,   1.8905,-999.0000, -999.00
 316N145_14,       I02E,    1107,          1,         18,     SIH006,2,19951214,       0900,    -5.6945,    88.5000,       4533,  2743.2,   1.8563,  34.7343,2,  34.7331,2,    158.6,2,   158.5,2,  127.78,2,   34.18,2,    0.00,2,    2.40,2,-999.000,5,-999.000,5,  -999.0,9,  -999.0,9,  -999.0,5,-999.000,1,-999.000,-999.0000,1, -999.00,9, -999.00,9,  -999.0,9,  -999.0,-999.000,9,-999.000, 27567.8,   1.6559,-999.0000, -999.00
 316N145_14,       I02E,    1107,          1,         17,     SIH038,2,19951214,       0900,    -5.6945,    88.5000,       4533,  2991.6,   1.6711,  34.7286,2,  34.7288,2,    163.3,2,   163.8,2,  130.31,2,   34.06,2,    0.00,2,    2.37,2,-999.000,5,-999.000,5,  -999.0,9,  -999.0,9,  -999.0,5,-999.000,1,-999.000,-999.0000,1, -999.00,9, -999.00,9,  -999.0,9,  -999.0,-999.000,9,-999.000, 30051.6,   1.4511,-999.0000, -999.00
 316N145_14,       I02E,    1107,          1,         16,     SIH008,2,19951214,       0900,    -5.6945,    88.5000,       4533,  3195.1,   1.5843,  34.7264,2,  34.7252,2,    165.6,2,   166.4,2,  131.93,2,   34.06,2,    0.00,2,    2.38,2,-999.000,5,-999.000,5,  -999.0,9,  -999.0,9,  -999.0,5,-999.000,1,-999.000,-999.0000,1, -999.00,9, -999.00,9,  -999.0,9,  -999.0,-999.000,9,-999.000, 32088.3,   1.3465,-999.0000, -999.00
 316N145_14,       I02E,    1107,          1,         15,     SIH009,2,19951214,       0900,    -5.6945,    88.5000,       4533,  3394.4,   1.5099,  34.7238,2,  34.7233,2,    166.9,2,   168.3,2,  134.09,2,   33.94,2,    0.00,2,    2.37,2,-999.000,5,-999.000,5,  -999.0,9,  -999.0,9,  -999.0,5,-999.000,1,-999.000,-999.0000,1, -999.00,9, -999.00,9,  -999.0,9,  -999.0,-999.000,9,-999.000, 34080.7,   1.2540,-999.0000, -999.00
 316N145_14,       I02E,    1107,          1,         14,     SIH010,2,19951214,       0900,    -5.6945,    88.5000,       4533,  3596.5,   1.4532,  34.7210,2,  34.7217,2,    169.5,2,   170.5,2,  134.81,2,   33.83,2,    0.00,2,    2.33,2,-999.000,5,-999.000,5,  -999.0,9,  -999.0,9,  -999.0,5,-999.000,1,-999.000,-999.0000,1, -999.00,9, -999.00,9,  -999.0,9,  -999.0,-999.000,9,-999.000, 36103.6,   1.1781,-999.0000, -999.00
 316N145_14,       I02E,    1107,          1,         13,     SIH011,2,19951214,       0900,    -5.6945,    88.5000,       4533,  3800.4,   1.4033,  34.7194,2,  34.7180,2,    173.2,2,   173.4,2,  135.18,2,   33.71,2,    0.00,2,    2.30,2,-999.000,5,-999.000,5,  -999.0,9,  -999.0,9,  -999.0,5,-999.000,1,-999.000,-999.0000,1, -999.00,9, -999.00,9,  -999.0,9,  -999.0,-999.000,9,-999.000, 38143.0,   1.1082,-999.0000, -999.00
 316N145_14,       I02E,    1107,          1,         12,     SIH012,2,19951214,       0900,    -5.6945,    88.5000,       4533,  3897.4,   1.3888,  34.7190,2,  34.7186,2,    173.0,2,   174.5,2,  135.73,2,   33.82,2,    0.01,2,    2.32,2,-999.000,5,-999.000,5,  -999.0,9,  -999.0,9,  -999.0,5,-999.000,1,-999.000,-999.0000,1, -999.00,9, -999.00,9,  -999.0,9,  -999.0,-999.000,9,-999.000, 39112.9,   1.0838,-999.0000, -999.00
 316N145_14,       I02E,    1107,          1,         11,     SI9426,2,19951214,       0900,    -5.6945,    88.5000,       4533,  3999.9,   1.3865,  34.7182,2,  34.7186,2,    175.0,2,   175.4,2,  135.55,2,   33.82,2,    0.00,2,    2.33,2,-999.000,5,-999.000,5,  -999.0,9,  -999.0,9,  -999.0,5,-999.000,1,-999.000,-999.0000,1, -999.00,9, -999.00,9,  -999.0,9,  -999.0,-999.000,9,-999.000, 40138.4,   1.0706,-999.0000, -999.00
 316N145_14,       I02E,    1107,          1,         10,     SIH014,2,19951214,       0900,    -5.6945,    88.5000,       4533,  4097.0,   1.3739,  34.7182,2,  34.7184,2,    176.5,2,   176.7,2,  134.67,2,   33.53,2,    0.00,2,    2.33,2,-999.000,5,-999.000,5,  -999.0,9,  -999.0,9,  -999.0,5,-999.000,1,-999.000,-999.0000,1, -999.00,9, -999.00,9,  -999.0,9,  -999.0,-999.000,9,-999.000, 41110.1,   1.0478,-999.0000, -999.00
 316N145_14,       I02E,    1107,          1,          9,     SIH015,2,19951214,       0900,    -5.6945,    88.5000,       4533,  4198.3,   1.3710,  34.7176,2,  34.7180,2,    177.8,2,   177.6,2,  133.78,2,   33.42,2,    0.00,2,    2.29,2,-999.000,5,-999.000,5,  -999.0,9,  -999.0,9,  -999.0,5,-999.000,1,-999.000,-999.0000,1, -999.00,9, -999.00,9,  -999.0,9,  -999.0,-999.000,9,-999.000, 42123.3,   1.0338,-999.0000, -999.00
 316N145_14,       I02E,    1107,          1,          8,     SIH016,2,19951214,       0900,    -5.6945,    88.5000,       4533,  4306.4,   1.3712,  34.7171,2,  34.7178,2,    178.1,2,   178.5,2,  134.14,2,   33.47,2,    0.01,2,    2.30,2,-999.000,5,-999.000,5,  -999.0,9,  -999.0,9,  -999.0,5,-999.000,1,-999.000,-999.0000,1, -999.00,9, -999.00,9,  -999.0,9,  -999.0,-999.000,9,-999.000, 43204.6,   1.0219,-999.0000, -999.00
 316N145_14,       I02E,    1107,          1,          7,     SIH017,2,19951214,       0900,    -5.6945,    88.5000,       4533,  4356.7,   1.3454,  34.7166,2,  34.7180,2,    181.2,2,   180.8,2,  133.42,2,   33.48,2,    0.00,2,    2.30,2,-999.000,5,-999.000,5,  -999.0,9,  -999.0,9,  -999.0,5,-999.000,1,-999.000,-999.0000,1, -999.00,9, -999.00,9,  -999.0,9,  -999.0,-999.000,9,-999.000, 43707.8,   0.9913,-999.0000, -999.00
 316N145_14,       I02E,    1107,          1,          5,     SIH002,2,19951214,       0900,    -5.6945,    88.5000,       4533,  4407.3,   1.3488,  34.7163,2,  34.7172,2,    181.3,2,   183.6,4,  133.08,2,   33.46,2,    0.00,2,    2.30,2,-999.000,5,-999.000,5,  -999.0,9,  -999.0,9,  -999.0,5,-999.000,1,-999.000,-999.0000,1, -999.00,9, -999.00,9,  -999.0,9,  -999.0,-999.000,9,-999.000, 44213.6,   0.9889,-999.0000, -999.00
 316N145_14,       I02E,    1107,          1,          6,     SIH018,2,19951214,       0900,    -5.6945,    88.5000,       4533,  4407.7,   1.3488,  34.7162,2,  34.7176,2,    181.3,2,   180.9,2,  133.07,2,   33.47,2,    0.00,2,    2.28,2,-999.000,5,-999.000,5,  -999.0,9,  -999.0,9,  -999.0,5,-999.000,1,-999.000,-999.0000,1, -999.00,9, -999.00,9,  -999.0,9,  -999.0,-999.000,9,-999.000, 44217.4,   0.9888,-999.0000, -999.00
 316N145_14,       I02E,    1107,          1,          4,     SIH020,2,19951214,       0900,    -5.6945,    88.5000,       4533,  4458.2,   1.3498,  34.7164,2,  34.7172,2,    181.2,2,   181.3,2,  133.09,2,   33.18,2,    0.00,2,    2.29,2,-999.000,5,-999.000,5,  -999.0,9,  -999.0,9,  -999.0,5,-999.000,1,-999.000,-999.0000,1, -999.00,9, -999.00,9,  -999.0,9,  -999.0,-999.000,9,-999.000, 44722.5,   0.9840,-999.0000, -999.00
 316N145_14,       I02E,    1107,          1,          3,     SIH021,2,19951214,       0900,    -5.6945,    88.5000,       4533,  4510.0,   1.3513,  34.7166,2,  34.7174,2,    181.6,2,   181.7,2,  132.20,2,   33.40,2,    0.00,2,    2.29,2,-999.000,5,-999.000,5,  -999.0,9,  -999.0,9,  -999.0,5,-999.000,1,-999.000,-999.0000,1, -999.00,9, -999.00,9,  -999.0,9,  -999.0,-999.000,9,-999.000, 45239.9,   0.9796,-999.0000, -999.00
 316N145_14,       I02E,    1107,          1,          2,     SIH022,2,19951214,       0900,    -5.6945,    88.5000,       4533,  4559.7,   1.3471,  34.7161,2,  34.7174,2,    181.9,2,   182.7,2,  132.39,2,   33.23,2,    0.00,2,    2.28,2,-999.000,5,-999.000,5,  -999.0,9,  -999.0,9,  -999.0,5,-999.000,1,-999.000,-999.0000,1, -999.00,9, -999.00,9,  -999.0,9,  -999.0,-999.000,9,-999.000, 45737.4,   0.9698,-999.0000, -999.00
 316N145_14,       I02E,    1107,          1,          1,     SIH023,2,19951214,       0900,    -5.6945,    88.5000,       4533,  4614.4,   1.3479,  34.7159,2,  34.7176,2,    182.0,2,   183.4,2,  131.81,6,   33.21,6,    0.00,6,    2.27,6,-999.000,5,-999.000,5,  -999.0,9,  -999.0,9,  -999.0,5,-999.000,1,-999.000,-999.0000,1, -999.00,9, -999.00,9,  -999.0,9,  -999.0,-999.000,9,-999.000, 46286.8,   0.9642,-999.0000, -999.00