BOTTLE,20220829CCHSIOAMB
EXPOCODE,SECT_ID,STNNBR,CASTNO,SAMPNO,BTLNBR,BTLNBR_FLAG_W,DATE,TIME,LATITUDE,LONGITUDE,DEPTH,CTDPRS,CTDTMP,CTDSAL,CTDSAL_FLAG_W,SALNTY,SALNTY_FLAG_W,CTDOXY,CTDOXY_FLAG_W,OXYGEN,OXYGEN_FLAG_W,SILCAT,SILCAT_FLAG_W,NITRAT,NITRAT_FLAG_W,NITRIT,NITRIT_FLAG_W,PHSPHT,PHSPHT_FLAG_W,CFC-11,CFC-11_FLAG_W,CFC-12,CFC-12_FLAG_W,TCARBN,TCARBN_FLAG_W,ALKALI,ALKALI_FLAG_W,PCO2,PCO2_FLAG_W,TRITUM,TRITUM_FLAG_W,TRITER,HELIUM,HELIUM_FLAG_W,DELHE3,DELHE3_FLAG_W,DELC13,DELC13_FLAG_W,DELC14,DELC14_FLAG_W,C14ERR,NEON,NEON_FLAG_W,NEONER,CTDRAW,THETA,HELIER,DELHER
,,,,,,,,,,,METERS,DBAR,ITS-90,PSS-78,,PSS-78,,UMOL/KG,,UMOL/KG,,UMOL/KG,,UMOL/KG,,UMOL/KG,,UMOL/KG,,PMOL/KG,,PMOL/KG,,UMOL/KG,,UMOL/KG,,UATM,,TU,,TU,NMOL/KG,,PERCNT,,/MILLE,,/MILLE,,/MILLE,NMOL/KG,,NMOL/KG,DBAR,DEG C,NMOL/KG,PERCNT
 316N145_14,       I02E,    1112,          1,         36,     SIH024,2,19951215,       1627,    -6.8363,    88.3722,       4710,    12.5,  28.0773,  33.8322,2,  33.8372,2,    206.3,2,   208.1,2,    2.99,2,    0.08,2,    0.00,2,    0.09,2,   1.626,2,   0.946,2,  1883.6,2,  -999.0,9,  -999.0,5,-999.000,1,-999.000,-999.0000,1, -999.00,9, -999.00,9,  -999.0,9,  -999.0,-999.000,9,-999.000,   261.9,  28.0743,-999.0000, -999.00
 316N145_14,       I02E,    1112,          1,         35,     SIH003,2,19951215,       1627,    -6.8363,    88.3722,       4710,    58.1,  22.2738,  34.7649,2,  34.7587,2,    115.5,2,   135.0,3,   12.58,2,   12.42,2,    0.28,2,    0.97,2,   1.447,2,   0.801,2,  2068.0,2,  2280.6,2,  -999.0,5,-999.000,1,-999.000,-999.0000,1, -999.00,9, -999.00,9,  -999.0,9,  -999.0,-999.000,9,-999.000,   711.5,  22.2622,-999.0000, -999.00
 316N145_14,       I02E,    1112,          1,         34,     SIH026,2,19951215,       1627,    -6.8363,    88.3722,       4710,   103.5,  17.0059,  34.7224,2,  34.7231,2,     94.6,2,    87.1,2,   23.20,2,   20.24,2,    0.05,2,    1.47,2,   1.184,2,   0.637,2,  2131.3,2,  -999.0,9,  -999.0,5,-999.000,1,-999.000,-999.0000,1, -999.00,9, -999.00,9,  -999.0,9,  -999.0,-999.000,9,-999.000,  1163.7,  16.9889,-999.0000, -999.00
 316N145_14,       I02E,    1112,          1,         33,     SIH027,3,19951215,       1627,    -6.8363,    88.3722,       4710,   153.3,  14.7771,  34.8965,2,  34.8937,2,     60.1,2,    60.1,2,   26.00,2,   25.49,2,    0.01,2,    1.79,2,   0.823,2,   0.430,2,  -999.0,9,  -999.0,9,  -999.0,5,-999.000,1,-999.000,-999.0000,1, -999.00,9, -999.00,9,  -999.0,9,  -999.0,-999.000,9,-999.000,  1660.1,  14.7541,-999.0000, -999.00
 316N145_14,       I02E,    1112,          1,         32,     SIH028,2,19951215,       1627,    -6.8363,    88.3722,       4710,   202.4,  12.9560,  34.9201,2,  34.9229,2,     60.9,2,    61.0,2,   28.08,2,   27.28,2,    0.00,2,    1.89,2,   0.573,2,   0.293,2,  -999.0,9,  -999.0,9,  -999.0,5,-999.000,1,-999.000,-999.0000,1, -999.00,9, -999.00,9,  -999.0,9,  -999.0,-999.000,9,-999.000,  2149.6,  12.9282,-999.0000, -999.00
 316N145_14,       I02E,    1112,          1,         31,     SIH029,2,19951215,       1627,    -6.8363,    88.3722,       4710,   303.4,  11.0696,  34.9191,2,  34.9158,2,     60.5,2,    60.5,2,   29.83,2,   30.00,2,    0.00,2,    2.03,2,   0.242,2,   0.128,2,  -999.0,9,  -999.0,9,  -999.0,5,-999.000,1,-999.000,-999.0000,1, -999.00,9, -999.00,9,  -999.0,9,  -999.0,-999.000,9,-999.000,  3160.1,  11.0319,-999.0000, -999.00
 316N145_14,       I02E,    1112,          1,         30,     SIH030,2,19951215,       1627,    -6.8363,    88.3722,       4710,   403.5,   9.9938,  34.8816,2,  34.8796,2,     76.6,2,    73.6,2,   31.92,2,   30.60,2,    0.00,2,    2.09,2,   0.163,6,   0.091,6,  -999.0,9,  -999.0,9,  -999.0,5,-999.000,1,-999.000,-999.0000,1, -999.00,9, -999.00,9,  -999.0,9,  -999.0,-999.000,9,-999.000,  4161.2,   9.9466,-999.0000, -999.00
 316N145_14,       I02E,    1112,          1,         29,     SIH031,3,19951215,       1627,    -6.8363,    88.3722,       4710,   503.5,   9.0656,  34.8363,2,  34.8349,2,     74.4,2,    74.9,2,   40.82,2,   32.24,2,    0.00,2,    2.23,2,-999.000,5,-999.000,5,  -999.0,9,  -999.0,9,  -999.0,5,-999.000,1,-999.000,-999.0000,1, -999.00,9, -999.00,9,  -999.0,9,  -999.0,-999.000,9,-999.000,  5162.3,   9.0098,-999.0000, -999.00
 316N145_14,       I02E,    1112,          1,         28,     SIH032,2,19951215,       1627,    -6.8363,    88.3722,       4710,   604.2,   8.2102,  34.8131,2,  34.8100,2,     69.3,2,    68.7,2,   53.23,2,   34.31,2,    0.00,2,    2.42,2,   0.034,2,   0.019,2,  -999.0,9,  -999.0,9,  -999.0,5,-999.000,1,-999.000,-999.0000,1, -999.00,9, -999.00,9,  -999.0,9,  -999.0,-999.000,9,-999.000,  6169.2,   8.1467,-999.0000, -999.00
 316N145_14,       I02E,    1112,          1,         27,     SIH033,2,19951215,       1627,    -6.8363,    88.3722,       4710,   704.8,   7.4882,  34.8003,2,  34.7976,2,     65.0,2,    64.2,2,   64.93,2,   35.45,2,    0.00,2,    2.56,2,   0.014,2,   0.005,2,  -999.0,9,  -999.0,9,  -999.0,5,-999.000,1,-999.000,-999.0000,1, -999.00,9, -999.00,9,  -999.0,9,  -999.0,-999.000,9,-999.000,  7175.3,   7.4174,-999.0000, -999.00
 316N145_14,       I02E,    1112,          1,         26,     SIH037,2,19951215,       1627,    -6.8363,    88.3722,       4710,   903.2,   6.0905,  34.7524,2,  34.7506,2,     69.8,2,    69.6,2,   86.61,2,   36.54,2,    0.00,2,    2.65,2,   0.005,2,  -0.001,2,  -999.0,9,  -999.0,9,  -999.0,5,-999.000,1,-999.000,-999.0000,1, -999.00,9, -999.00,9,  -999.0,9,  -999.0,-999.000,9,-999.000,  9159.9,   6.0081,-999.0000, -999.00
 316N145_14,       I02E,    1112,          1,         25,     SI9446,2,19951215,       1627,    -6.8363,    88.3722,       4710,  1005.1,   5.6009,  34.7472,2,  34.7451,2,     74.1,2,    73.6,2,   92.57,2,   36.89,2,    0.00,2,    2.67,2,   0.002,2,   0.000,2,  -999.0,9,  -999.0,9,  -999.0,5,-999.000,1,-999.000,-999.0000,1, -999.00,9, -999.00,9,  -999.0,9,  -999.0,-999.000,9,-999.000, 10178.5,   5.5121,-999.0000, -999.00
 316N145_14,       I02E,    1112,          1,         24,     SIH036,2,19951215,       1627,    -6.8363,    88.3722,       4710,  1249.6,   4.5985,  34.7627,2,  34.7630,2,     89.6,2,    87.2,2,  102.38,2,   36.83,2,    0.00,2,    2.68,2,   0.000,2,  -0.001,2,  -999.0,9,  -999.0,9,  -999.0,5,-999.000,1,-999.000,-999.0000,1, -999.00,9, -999.00,9,  -999.0,9,  -999.0,-999.000,9,-999.000, 12625.2,   4.4954,-999.0000, -999.00
 316N145_14,       I02E,    1112,          1,         23,     SIH001,2,19951215,       1627,    -6.8363,    88.3722,       4710,  1503.6,   3.8031,  34.7680,2,  34.7679,2,    104.5,2,   104.0,2,  109.04,2,   36.24,2,    0.00,2,    2.63,2,  -0.001,2,  -0.002,2,  -999.0,9,  -999.0,9,  -999.0,5,-999.000,1,-999.000,-999.0000,1, -999.00,9, -999.00,9,  -999.0,9,  -999.0,-999.000,9,-999.000, 15167.1,   3.6853,-999.0000, -999.00
 316N145_14,       I02E,    1112,          1,         22,     SIH019,2,19951215,       1627,    -6.8363,    88.3722,       4710,  1756.8,   3.0845,  34.7629,2,  34.7614,2,    122.3,2,   121.9,2,  115.89,2,   35.82,2,    0.00,2,    2.55,2,-999.000,5,-999.000,5,  -999.0,9,  -999.0,9,  -999.0,5,-999.000,1,-999.000,-999.0000,1, -999.00,9, -999.00,9,  -999.0,9,  -999.0,-999.000,9,-999.000, 17699.3,   2.9531,-999.0000, -999.00
 316N145_14,       I02E,    1112,          1,         21,     SIH025,2,19951215,       1627,    -6.8363,    88.3722,       4710,  2002.1,   2.5819,  34.7544,2,  34.7528,2,    136.4,2,   135.5,2,  119.66,2,   35.22,2,    0.00,2,    2.49,2,-999.000,5,-999.000,5,  -999.0,9,  -999.0,9,  -999.0,5,-999.000,1,-999.000,-999.0000,1, -999.00,9, -999.00,9,  -999.0,9,  -999.0,-999.000,9,-999.000, 20153.1,   2.4360,-999.0000, -999.00
 316N145_14,       I02E,    1112,          1,         20,     SIH004,2,19951215,       1627,    -6.8363,    88.3722,       4710,  2248.4,   2.2326,  34.7470,2,  34.7451,2,    145.5,2,   146.0,2,  123.87,2,   34.79,2,    0.00,2,    2.46,2,   0.000,2,   0.000,2,  -999.0,9,  -999.0,9,  -999.0,5,-999.000,1,-999.000,-999.0000,1, -999.00,9, -999.00,9,  -999.0,9,  -999.0,-999.000,9,-999.000, 22617.0,   2.0705,-999.0000, -999.00
 316N145_14,       I02E,    1112,          1,         19,     SIH005,2,19951215,       1627,    -6.8363,    88.3722,       4710,  2499.4,   1.9612,  34.7372,2,  34.7355,2,    154.6,2,   156.0,2,  126.10,2,   34.32,2,    0.00,2,    2.40,2,-999.000,5,-999.000,5,  -999.0,9,  -999.0,9,  -999.0,5,-999.000,1,-999.000,-999.0000,1, -999.00,9, -999.00,9,  -999.0,9,  -999.0,-999.000,9,-999.000, 25127.8,   1.7814,-999.0000, -999.00
 316N145_14,       I02E,    1112,          1,         18,     SIH006,2,19951215,       1627,    -6.8363,    88.3722,       4710,  2747.5,   1.7770,  34.7328,2,  34.7315,2,    162.1,2,   162.1,2,  128.75,2,   34.11,2,    0.00,2,    2.38,2,-999.000,5,-999.000,5,  -999.0,9,  -999.0,9,  -999.0,5,-999.000,1,-999.000,-999.0000,1, -999.00,9, -999.00,9,  -999.0,9,  -999.0,-999.000,9,-999.000, 27610.6,   1.5778,-999.0000, -999.00
 316N145_14,       I02E,    1112,          1,         17,     SIH038,2,19951215,       1627,    -6.8363,    88.3722,       4710,  3026.2,   1.6384,  34.7286,2,  34.7278,2,    164.9,2,   165.3,2,  131.22,2,   34.12,2,    0.00,2,    2.37,2,   0.000,2,  -0.001,2,  -999.0,9,  -999.0,9,  -999.0,5,-999.000,1,-999.000,-999.0000,1, -999.00,9, -999.00,9,  -999.0,9,  -999.0,-999.000,9,-999.000, 30399.4,   1.4158,-999.0000, -999.00
 316N145_14,       I02E,    1112,          1,         16,     SIH008,2,19951215,       1627,    -6.8363,    88.3722,       4710,  3281.4,   1.5323,  34.7258,2,  34.7254,2,    169.4,2,   168.5,2,  133.35,2,   34.18,2,    0.00,2,    2.37,2,-999.000,5,-999.000,5,  -999.0,9,  -999.0,9,  -999.0,5,-999.000,1,-999.000,-999.0000,1, -999.00,9, -999.00,9,  -999.0,9,  -999.0,-999.000,9,-999.000, 32950.9,   1.2872,-999.0000, -999.00
 316N145_14,       I02E,    1112,          1,         15,     SIH009,2,19951215,       1627,    -6.8363,    88.3722,       4710,  3493.4,   1.4545,  34.7224,2,  34.7225,2,    170.8,2,   171.0,2,  134.78,2,   34.13,2,    0.00,2,    2.36,2,-999.000,5,-999.000,5,  -999.0,9,  -999.0,9,  -999.0,5,-999.000,1,-999.000,-999.0000,1, -999.00,9, -999.00,9,  -999.0,9,  -999.0,-999.000,9,-999.000, 35072.3,   1.1899,-999.0000, -999.00
 316N145_14,       I02E,    1112,          1,         14,     SIH010,2,19951215,       1627,    -6.8363,    88.3722,       4710,  3749.3,   1.4029,  34.7209,2,  34.7207,2,    173.9,2,   173.4,2,  135.68,2,   33.92,2,    0.00,2,    2.36,2,  -0.001,2,  -0.003,2,  -999.0,9,  -999.0,9,  -999.0,5,-999.000,1,-999.000,-999.0000,1, -999.00,9, -999.00,9,  -999.0,9,  -999.0,-999.000,9,-999.000, 37632.3,   1.1132,-999.0000, -999.00
 316N145_14,       I02E,    1112,          1,         13,     SIH011,2,19951215,       1627,    -6.8363,    88.3722,       4710,  3895.0,   1.3880,  34.7205,2,  34.7190,2,    176.2,2,   175.1,2,  135.88,2,   33.82,2,    0.00,2,    2.34,2,-999.000,5,-999.000,5,  -999.0,9,  -999.0,9,  -999.0,5,-999.000,1,-999.000,-999.0000,1, -999.00,9, -999.00,9,  -999.0,9,  -999.0,-999.000,9,-999.000, 39089.7,   1.0833,-999.0000, -999.00
 316N145_14,       I02E,    1112,          1,         12,     SIH012,2,19951215,       1627,    -6.8363,    88.3722,       4710,  3999.2,   1.3734,  34.7198,2,  34.7191,2,    176.9,2,   176.8,2,  135.38,2,   33.77,2,    0.00,2,    2.33,2,-999.000,5,-999.000,5,  -999.0,9,  -999.0,9,  -999.0,5,-999.000,1,-999.000,-999.0000,1, -999.00,9, -999.00,9,  -999.0,9,  -999.0,-999.000,9,-999.000, 40131.5,   1.0579,-999.0000, -999.00
 316N145_14,       I02E,    1112,          1,         11,     SI9426,2,19951215,       1627,    -6.8363,    88.3722,       4710,  4094.3,   1.3693,  34.7194,2,  34.7180,2,    177.9,2,   177.8,2,  134.88,2,   33.89,2,    0.00,2,    2.33,2,-999.000,5,-999.000,5,  -999.0,9,  -999.0,9,  -999.0,5,-999.000,1,-999.000,-999.0000,1, -999.00,9, -999.00,9,  -999.0,9,  -999.0,-999.000,9,-999.000, 41083.7,   1.0436,-999.0000, -999.00
 316N145_14,       I02E,    1112,          1,         10,     SIH014,2,19951215,       1627,    -6.8363,    88.3722,       4710,  4197.4,   1.3631,  34.7191,2,  34.7184,2,    178.2,2,   179.1,2,  134.21,2,   33.84,2,    0.00,2,    2.33,2,-999.000,5,-999.000,5,  -999.0,9,  -999.0,9,  -999.0,5,-999.000,1,-999.000,-999.0000,1, -999.00,9, -999.00,9,  -999.0,9,  -999.0,-999.000,9,-999.000, 42115.5,   1.0262,-999.0000, -999.00
 316N145_14,       I02E,    1112,          1,          9,     SIH015,2,19951215,       1627,    -6.8363,    88.3722,       4710,  4300.4,   1.3610,  34.7182,2,  34.7182,2,    179.6,2,   180.2,2,  133.87,2,   33.73,2,    0.00,2,    2.33,2,-999.000,5,-999.000,5,  -999.0,9,  -999.0,9,  -999.0,5,-999.000,1,-999.000,-999.0000,1, -999.00,9, -999.00,9,  -999.0,9,  -999.0,-999.000,9,-999.000, 43146.3,   1.0127,-999.0000, -999.00
 316N145_14,       I02E,    1112,          1,          8,     SIH016,2,19951215,       1627,    -6.8363,    88.3722,       4710,  4391.6,   1.3618,  34.7187,2,  34.7178,2,    180.0,2,   180.6,2,  134.08,2,   33.52,2,    0.00,2,    2.33,2,-999.000,5,-999.000,5,  -999.0,9,  -999.0,9,  -999.0,5,-999.000,1,-999.000,-999.0000,1, -999.00,9, -999.00,9,  -999.0,9,  -999.0,-999.000,9,-999.000, 44058.4,   1.0032,-999.0000, -999.00
 316N145_14,       I02E,    1112,          1,          7,     SIH017,2,19951215,       1627,    -6.8363,    88.3722,       4710,  4497.2,   1.3607,  34.7183,2,  34.7176,2,    181.9,2,   181.6,2,  133.39,2,   33.53,2,    0.00,2,    2.31,2,   0.001,2,  -0.002,2,  -999.0,9,  -999.0,9,  -999.0,5,-999.000,1,-999.000,-999.0000,1, -999.00,9, -999.00,9,  -999.0,9,  -999.0,-999.000,9,-999.000, 45114.0,   0.9901,-999.0000, -999.00
 316N145_14,       I02E,    1112,          1,          6,     SIH018,2,19951215,       1627,    -6.8363,    88.3722,       4710,  4598.8,   1.3617,  34.7180,2,  34.7176,2,    183.5,2,   182.7,2,  133.25,2,   33.65,2,    0.00,2,    2.31,2,-999.000,5,-999.000,5,  -999.0,9,  -999.0,9,  -999.0,5,-999.000,1,-999.000,-999.0000,1, -999.00,9, -999.00,9,  -999.0,9,  -999.0,-999.000,9,-999.000, 46129.9,   0.9794,-999.0000, -999.00
 316N145_14,       I02E,    1112,          1,          5,     SIH002,2,19951215,       1627,    -6.8363,    88.3722,       4710,  4701.6,   1.3642,  34.7177,2,  34.7166,2,    183.9,2,   182.6,2,  132.92,2,   33.60,2,    0.00,2,    2.32,2,-999.000,5,-999.000,5,  -999.0,9,  -999.0,9,  -999.0,5,-999.000,1,-999.000,-999.0000,1, -999.00,9, -999.00,9,  -999.0,9,  -999.0,-999.000,9,-999.000, 47157.9,   0.9698,-999.0000, -999.00
 316N145_14,       I02E,    1112,          1,          4,     SIH020,2,19951215,       1627,    -6.8363,    88.3722,       4710,  4750.2,   1.3665,  34.7175,2,  34.7168,2,    183.4,2,   183.4,2,  132.77,2,   33.50,2,    0.00,2,    2.32,2,-999.000,5,-999.000,5,  -999.0,9,  -999.0,9,  -999.0,5,-999.000,1,-999.000,-999.0000,1, -999.00,9, -999.00,9,  -999.0,9,  -999.0,-999.000,9,-999.000, 47644.2,   0.9664,-999.0000, -999.00
 316N145_14,       I02E,    1112,          1,          3,     SIH021,3,19951215,       1627,    -6.8363,    88.3722,       4710,  4802.7,   1.3672,  34.7176,2,  34.7156,2,    182.3,2,   183.7,2,  132.79,2,   33.39,2,    0.00,2,    2.31,2,-999.000,5,-999.000,5,  -999.0,9,  -999.0,9,  -999.0,5,-999.000,1,-999.000,-999.0000,1, -999.00,9, -999.00,9,  -999.0,9,  -999.0,-999.000,9,-999.000, 48170.3,   0.9608,-999.0000, -999.00
 316N145_14,       I02E,    1112,          1,          2,     SIH022,2,19951215,       1627,    -6.8363,    88.3722,       4710,  4847.5,   1.3703,  34.7172,2,  34.7162,2,    181.7,2,   184.0,2,  132.82,2,   33.29,2,    0.00,2,    2.30,2,-999.000,5,-999.000,5,  -999.0,9,  -999.0,9,  -999.0,5,-999.000,1,-999.000,-999.0000,1, -999.00,9, -999.00,9,  -999.0,9,  -999.0,-999.000,9,-999.000, 48617.5,   0.9585,-999.0000, -999.00
 316N145_14,       I02E,    1112,          1,          1,     SIH023,2,19951215,       1627,    -6.8363,    88.3722,       4710,  4919.3,   1.3786,  34.7175,2,  34.7164,2,    183.1,2,   184.5,2,  132.43,6,   33.32,6,    0.00,6,    2.30,6,  -0.001,2,  -0.003,2,  -999.0,9,  -999.0,9,  -999.0,5,-999.000,1,-999.000,-999.0000,1, -999.00,9, -999.00,9,  -999.0,9,  -999.0,-999.000,9,-999.000, 49334.8,   0.9579,-999.0000, -999.00