BOTTLE,20220829CCHSIOAMB
EXPOCODE,SECT_ID,STNNBR,CASTNO,SAMPNO,BTLNBR,BTLNBR_FLAG_W,DATE,TIME,LATITUDE,LONGITUDE,DEPTH,CTDPRS,CTDTMP,CTDSAL,CTDSAL_FLAG_W,SALNTY,SALNTY_FLAG_W,CTDOXY,CTDOXY_FLAG_W,OXYGEN,OXYGEN_FLAG_W,SILCAT,SILCAT_FLAG_W,NITRAT,NITRAT_FLAG_W,NITRIT,NITRIT_FLAG_W,PHSPHT,PHSPHT_FLAG_W,CFC-11,CFC-11_FLAG_W,CFC-12,CFC-12_FLAG_W,TCARBN,TCARBN_FLAG_W,ALKALI,ALKALI_FLAG_W,PCO2,PCO2_FLAG_W,TRITUM,TRITUM_FLAG_W,TRITER,HELIUM,HELIUM_FLAG_W,DELHE3,DELHE3_FLAG_W,DELC13,DELC13_FLAG_W,DELC14,DELC14_FLAG_W,C14ERR,NEON,NEON_FLAG_W,NEONER,CTDRAW,THETA,HELIER,DELHER
,,,,,,,,,,,METERS,DBAR,ITS-90,PSS-78,,PSS-78,,UMOL/KG,,UMOL/KG,,UMOL/KG,,UMOL/KG,,UMOL/KG,,UMOL/KG,,PMOL/KG,,PMOL/KG,,UMOL/KG,,UMOL/KG,,UATM,,TU,,TU,NMOL/KG,,PERCNT,,/MILLE,,/MILLE,,/MILLE,NMOL/KG,,NMOL/KG,DBAR,DEG C,NMOL/KG,PERCNT
 316N145_14,       I02E,    1148,          1,         36,     SIH024,2,19951226,       0405,    -8.0000,    73.3333,       4905,     7.7,  28.6621,  33.8184,2,  33.8273,2,    218.2,2,   208.2,2,    3.28,2,    0.12,2,    0.00,2,    0.11,2,   1.609,2,   0.936,2,  1877.7,2,  2223.3,2,  -999.0,5,-999.000,1,-999.000,-999.0000,1, -999.00,9, -999.00,9,  -999.0,9,  -999.0,-999.000,9,-999.000,   214.9,  28.6603,-999.0000, -999.00
 316N145_14,       I02E,    1148,          1,         35,     SIH003,2,19951226,       0405,    -8.0000,    73.3333,       4905,    32.0,  25.9424,  35.0283,2,  35.0370,2,    213.1,2,   212.5,2,    4.64,2,    0.17,2,    0.00,2,    0.22,2,   1.716,2,   0.978,2,  1973.4,2,  2318.2,2,  -999.0,5,-999.000,1,-999.000,-999.0000,1, -999.00,9, -999.00,9,  -999.0,9,  -999.0,-999.000,9,-999.000,   452.3,  25.9352,-999.0000, -999.00
 316N145_14,       I02E,    1148,          1,         34,     SIH026,2,19951226,       0405,    -8.0000,    73.3333,       4905,    57.0,  21.9549,  35.1447,2,  35.1518,2,    154.6,2,   173.6,2,    8.38,2,    4.90,2,    0.20,2,    0.51,2,   1.777,2,   0.990,2,  2036.8,2,  2316.5,2,  -999.0,5,-999.000,1,-999.000,-999.0000,1, -999.00,9, -999.00,9,  -999.0,9,  -999.0,-999.000,9,-999.000,   700.2,  21.9437,-999.0000, -999.00
 316N145_14,       I02E,    1148,          1,         33,     SIH027,3,19951226,       0405,    -8.0000,    73.3333,       4905,   102.8,  17.7556,  35.0829,2,  35.0880,2,    119.7,2,    84.8,2,   17.90,2,   19.09,2,    0.12,2,    1.35,2,-999.000,5,-999.000,5,  -999.0,9,  -999.0,9,  -999.0,5,-999.000,1,-999.000,-999.0000,1, -999.00,9, -999.00,9,  -999.0,9,  -999.0,-999.000,9,-999.000,  1154.8,  17.7382,-999.0000, -999.00
 316N145_14,       I02E,    1148,          1,         32,     SIH028,2,19951226,       0405,    -8.0000,    73.3333,       4905,   152.1,  14.3070,  34.9392,2,  34.9406,2,     75.0,2,    78.3,2,   25.90,2,   23.56,2,    0.02,2,    1.66,2,   0.939,2,   0.542,2,  -999.0,9,  -999.0,9,  -999.0,5,-999.000,1,-999.000,-999.0000,1, -999.00,9, -999.00,9,  -999.0,9,  -999.0,-999.000,9,-999.000,  1647.6,  14.2847,-999.0000, -999.00
 316N145_14,       I02E,    1148,          1,         31,     SIH029,3,19951226,       0405,    -8.0000,    73.3333,       4905,   202.2,  12.7841,  34.9714,2,  34.9699,2,     75.6,2,    79.3,2,   25.91,2,   25.21,2,    0.00,2,    1.76,2,-999.000,5,-999.000,5,  -999.0,9,  -999.0,9,  -999.0,5,-999.000,1,-999.000,-999.0000,1, -999.00,9, -999.00,9,  -999.0,9,  -999.0,-999.000,9,-999.000,  2147.4,  12.7566,-999.0000, -999.00
 316N145_14,       I02E,    1148,          1,         30,     SIH030,2,19951226,       0405,    -8.0000,    73.3333,       4905,   251.7,  11.9115,  34.9786,2,  34.9787,2,     86.5,2,    91.0,2,   24.06,2,   25.16,2,    0.00,2,    1.75,2,   0.726,2,   0.374,2,  -999.0,9,  -999.0,9,  -999.0,5,-999.000,1,-999.000,-999.0000,1, -999.00,9, -999.00,9,  -999.0,9,  -999.0,-999.000,9,-999.000,  2642.8,  11.8788,-999.0000, -999.00
 316N145_14,       I02E,    1148,          1,         29,     SIH007,2,19951226,       0405,    -8.0000,    73.3333,       4905,   301.3,  11.2363,  34.9425,2,  34.9406,2,    113.5,2,   114.0,2,   22.54,2,   23.93,2,    0.00,2,    1.66,2,   0.886,2,   0.428,2,  -999.0,9,  -999.0,9,  -999.0,5,-999.000,1,-999.000,-999.0000,1, -999.00,9, -999.00,9,  -999.0,9,  -999.0,-999.000,9,-999.000,  3138.3,  11.1985,-999.0000, -999.00
 316N145_14,       I02E,    1148,          1,         28,     SI9439,2,19951226,       0405,    -8.0000,    73.3333,       4905,   352.2,  10.4856,  34.8813,2,  34.8753,2,    122.2,2,   128.8,2,   22.40,2,   24.04,2,    0.00,2,    1.67,2,   0.908,2,   0.453,2,  -999.0,9,  -999.0,9,  -999.0,5,-999.000,1,-999.000,-999.0000,1, -999.00,9, -999.00,9,  -999.0,9,  -999.0,-999.000,9,-999.000,  3647.8,  10.4432,-999.0000, -999.00
 316N145_14,       I02E,    1148,          1,         27,     SIH033,2,19951226,       0405,    -8.0000,    73.3333,       4905,   397.0,   9.7229,  34.8089,2,  34.8090,2,    137.8,2,   138.1,2,   23.77,2,   24.56,2,    0.00,2,    1.70,2,   0.852,2,   0.422,2,  -999.0,9,  -999.0,9,  -999.0,5,-999.000,1,-999.000,-999.0000,1, -999.00,9, -999.00,9,  -999.0,9,  -999.0,-999.000,9,-999.000,  4095.6,   9.6772,-999.0000, -999.00
 316N145_14,       I02E,    1148,          1,         26,     SIH037,2,19951226,       0405,    -8.0000,    73.3333,       4905,   497.6,   8.8208,  34.8053,2,  34.8047,2,     87.7,2,    91.7,2,   40.44,2,   30.92,2,    0.00,2,    2.17,2,   0.198,2,   0.102,2,  -999.0,9,  -999.0,9,  -999.0,5,-999.000,1,-999.000,-999.0000,1, -999.00,9, -999.00,9,  -999.0,9,  -999.0,-999.000,9,-999.000,  5101.8,   8.7666,-999.0000, -999.00
 316N145_14,       I02E,    1148,          1,         25,     SI9446,2,19951226,       0405,    -8.0000,    73.3333,       4905,   597.7,   8.3407,  34.8192,2,  34.8174,2,     78.1,2,    79.2,2,   49.81,2,   32.88,2,    0.00,2,    2.35,2,   0.098,6,   0.053,6,  -999.0,9,  -999.0,9,  -999.0,5,-999.000,1,-999.000,-999.0000,1, -999.00,9, -999.00,9,  -999.0,9,  -999.0,-999.000,9,-999.000,  6103.3,   8.2773,-999.0000, -999.00
 316N145_14,       I02E,    1148,          1,         24,     SIH036,2,19951226,       0405,    -8.0000,    73.3333,       4905,   698.7,   7.5207,  34.8128,2,  34.8098,2,     71.6,2,    71.4,2,   63.60,2,   34.68,2,    0.00,2,    2.51,2,   0.043,2,   0.027,2,  -999.0,9,  -999.0,9,  -999.0,5,-999.000,1,-999.000,-999.0000,1, -999.00,9, -999.00,9,  -999.0,9,  -999.0,-999.000,9,-999.000,  7113.7,   7.4504,-999.0000, -999.00
 316N145_14,       I02E,    1148,          1,         23,     SIH001,2,19951226,       0405,    -8.0000,    73.3333,       4905,   798.8,   7.1802,  34.8268,2,  34.8263,2,     67.1,2,    67.2,2,   70.59,2,   35.45,2,    0.00,2,    2.59,2,   0.025,2,   0.010,2,  -999.0,9,  -999.0,9,  -999.0,5,-999.000,1,-999.000,-999.0000,1, -999.00,9, -999.00,9,  -999.0,9,  -999.0,-999.000,9,-999.000,  8115.7,   7.1013,-999.0000, -999.00
 316N145_14,       I02E,    1148,          1,         22,     SIH019,2,19951226,       0405,    -8.0000,    73.3333,       4905,   899.1,   6.2474,  34.7530,2,  34.7496,2,     74.6,2,    74.1,2,   82.70,2,   36.06,2,    0.00,2,    2.64,2,   0.008,2,   0.002,2,  -999.0,9,  -999.0,9,  -999.0,5,-999.000,1,-999.000,-999.0000,1, -999.00,9, -999.00,9,  -999.0,9,  -999.0,-999.000,9,-999.000,  9118.7,   6.1643,-999.0000, -999.00
 316N145_14,       I02E,    1148,          1,         21,     SIH013,2,19951226,       0405,    -8.0000,    73.3333,       4905,   999.9,   5.7397,  34.7427,2,  34.7429,2,     76.9,2,    77.1,2,   89.87,2,   36.43,2,    0.00,2,    2.67,2,   0.007,2,   0.004,2,  -999.0,9,  -999.0,9,  -999.0,5,-999.000,1,-999.000,   1.8460,2,   12.31,2, -999.00,9,  -999.0,9,  -999.0,   7.790,2,   0.024, 10127.0,   5.6505,   0.0130,    0.44
 316N145_14,       I02E,    1148,          1,         20,     SIH004,2,19951226,       0405,    -8.0000,    73.3333,       4905,  1100.2,   5.3502,  34.7383,2,  34.7376,2,     80.7,2,    80.0,2,   95.01,2,   36.53,2,    0.00,2,    2.67,2,   0.007,2,   0.004,2,  -999.0,9,  -999.0,9,  -999.0,5,-999.000,1,-999.000,-999.0000,1, -999.00,9, -999.00,9,  -999.0,9,  -999.0,-999.000,9,-999.000, 11130.6,   5.2544,-999.0000, -999.00
 316N145_14,       I02E,    1148,          1,         19,     SIH005,2,19951226,       0405,    -8.0000,    73.3333,       4905,  1201.4,   4.9514,  34.7454,2,  34.7447,2,     84.1,2,    84.8,2,   99.47,2,   36.58,2,    0.00,2,    2.67,2,   0.003,2,  -0.001,2,  -999.0,9,  -999.0,9,  -999.0,5,-999.000,1,-999.000,   1.9230,4,   13.51,2, -999.00,9,  -999.0,9,  -999.0,   8.031,3,   0.014, 12142.7,   4.8496,   0.0050,    0.15
 316N145_14,       I02E,    1148,          1,         18,     SIH006,2,19951226,       0405,    -8.0000,    73.3333,       4905,  1296.1,   4.5566,  34.7434,2,  34.7439,2,     89.4,2,    90.2,2,  103.41,2,   36.58,2,    0.00,2,    2.68,2,-999.000,5,-999.000,5,  -999.0,9,  -999.0,9,  -999.0,5,-999.000,1,-999.000,   1.8880,2,   12.93,2, -999.00,9,  -999.0,9,  -999.0,   7.922,2,   0.024, 13090.8,   4.4497,   0.0130,    0.44
 316N145_14,       I02E,    1148,          1,         17,     SIH038,2,19951226,       0405,    -8.0000,    73.3333,       4905,  1397.4,   4.2448,  34.7609,2,  34.7587,2,     94.7,2,    97.4,2,  105.14,2,   36.38,2,    0.00,2,    2.65,2,   0.003,2,  -0.001,2,  -999.0,9,  -999.0,9,  -999.0,5,-999.000,1,-999.000,   1.8650,2,   13.77,2, -999.00,9,  -999.0,9,  -999.0,   7.865,2,   0.013, 14103.3,   4.1317,   0.0050,    0.15
 316N145_14,       I02E,    1148,          1,         16,     SIH008,2,19951226,       0405,    -8.0000,    73.3333,       4905,  1598.1,   3.6198,  34.7649,2,  34.7648,2,    107.5,2,   110.8,2,  110.45,2,   36.03,2,    0.00,2,    2.62,2,-999.000,5,-999.000,5,  -999.0,9,  -999.0,9,  -999.0,5,-999.000,1,-999.000,   1.9190,2,   12.91,2, -999.00,9,  -999.0,9,  -999.0,   8.073,2,   0.025, 16111.4,   3.4957,   0.0130,    0.45
 316N145_14,       I02E,    1148,          1,         15,     SIH009,2,19951226,       0405,    -8.0000,    73.3333,       4905,  1800.3,   3.1471,  34.7573,2,  34.7563,2,    122.5,2,   123.4,2,  114.07,2,   35.57,2,    0.00,2,    2.56,2,-999.000,5,-999.000,5,  -999.0,9,  -999.0,9,  -999.0,5,-999.000,1,-999.000,   1.8870,2,   13.62,2, -999.00,9,  -999.0,9,  -999.0,   7.844,4,   0.013, 18134.5,   3.0111,   0.0050,    0.15
 316N145_14,       I02E,    1148,          1,         14,     SIH010,2,19951226,       0405,    -8.0000,    73.3333,       4905,  1996.5,   2.3848,  34.7468,2,  34.7463,2,    143.5,2,   144.7,2,  120.74,2,   34.64,2,    0.00,2,    2.47,2,-999.000,5,-999.000,5,  -999.0,9,  -999.0,9,  -999.0,5,-999.000,1,-999.000,   1.9120,2,   14.45,2, -999.00,9,  -999.0,9,  -999.0,   8.110,2,   0.025, 20096.6,   2.2425,   0.0130,    0.45
 316N145_14,       I02E,    1148,          1,         13,     SIH011,2,19951226,       0405,    -8.0000,    73.3333,       4905,  2248.5,   2.1462,  34.7396,2,  34.7386,2,    152.5,2,   153.9,2,  121.70,2,   34.29,2,    0.00,2,    2.41,2,-999.000,5,-999.000,5,  -999.0,9,  -999.0,9,  -999.0,5,-999.000,1,-999.000,   1.9110,2,   14.65,2, -999.00,9,  -999.0,9,  -999.0,   8.151,2,   0.014, 22618.2,   1.9856,   0.0050,    0.15
 316N145_14,       I02E,    1148,          1,         12,     SIH012,2,19951226,       0405,    -8.0000,    73.3333,       4905,  2502.2,   1.9163,  34.7348,2,  34.7335,2,    162.2,2,   161.6,2,  123.95,2,   33.91,2,    0.00,2,    2.38,2,-999.000,5,-999.000,5,  -999.0,9,  -999.0,9,  -999.0,5,-999.000,1,-999.000,   1.9050,2,   15.06,2, -999.00,9,  -999.0,9,  -999.0,   8.157,2,   0.023, 25156.3,   1.7371,   0.0030,    0.20
 316N145_14,       I02E,    1148,          1,         11,     SI9426,2,19951226,       0405,    -8.0000,    73.3333,       4905,  2750.4,   1.7179,  34.7290,2,  34.7270,3,    166.1,2,   167.5,2,  126.72,2,   33.78,2,    0.00,2,    2.37,2,   0.003,2,  -0.001,2,  -999.0,9,  -999.0,9,  -999.0,5,-999.000,1,-999.000,   1.8900,2,   14.23,2, -999.00,9,  -999.0,9,  -999.0,   8.085,2,   0.023, 27639.0,   1.5197,   0.0030,    0.20
 316N145_14,       I02E,    1148,          1,         10,     SIH014,2,19951226,       0405,    -8.0000,    73.3333,       4905,  2998.7,   1.5522,  34.7252,2,  34.7245,2,    168.2,2,   168.4,2,  132.21,2,   33.93,2,    0.00,2,    2.38,2,-999.000,5,-999.000,5,  -999.0,9,  -999.0,9,  -999.0,5,-999.000,1,-999.000,   1.9130,2,   14.72,2, -999.00,9,  -999.0,9,  -999.0,   8.164,2,   0.018, 30123.6,   1.3342,   0.0060,    0.22
 316N145_14,       I02E,    1148,          1,          9,     SIH015,2,19951226,       0405,    -8.0000,    73.3333,       4905,  3252.3,   1.5007,  34.7238,2,  34.7223,2,    169.5,2,   169.7,2,  134.13,2,   34.03,2,    0.00,2,    2.38,2,-999.000,5,-999.000,5,  -999.0,9,  -999.0,9,  -999.0,5,-999.000,1,-999.000,   1.9080,2,   12.48,2, -999.00,9,  -999.0,9,  -999.0,   8.181,2,   0.023, 32659.9,   1.2592,   0.0040,    0.20
 316N145_14,       I02E,    1148,          1,          8,     SIH016,2,19951226,       0405,    -8.0000,    73.3333,       4905,  3502.4,   1.3572,  34.7199,2,  34.7199,2,    175.5,2,   175.2,2,  136.04,2,   33.89,2,    0.00,2,    2.37,2,-999.000,5,-999.000,5,  -999.0,9,  -999.0,9,  -999.0,5,-999.000,1,-999.000,   1.9100,2,   11.82,2, -999.00,9,  -999.0,9,  -999.0,   8.189,2,   0.023, 35161.7,   1.0942,   0.0030,    0.20
 316N145_14,       I02E,    1148,          1,          7,     SIH017,2,19951226,       0405,    -8.0000,    73.3333,       4905,  3751.7,   1.3191,  34.7176,2,  34.7174,2,    178.8,2,   179.1,2,  135.40,2,   33.73,2,    0.00,2,    2.35,2,-999.000,5,-999.000,5,  -999.0,9,  -999.0,9,  -999.0,5,-999.000,1,-999.000,-999.0000,1, -999.00,9, -999.00,9,  -999.0,9,  -999.0,-999.000,9,-999.000, 37656.8,   1.0314,-999.0000, -999.00
 316N145_14,       I02E,    1148,          1,          6,     SIH018,2,19951226,       0405,    -8.0000,    73.3333,       4905,  4006.9,   1.3308,  34.7163,2,  34.7164,2,    179.5,2,   179.7,2,  135.27,2,   33.52,2,    0.00,2,    2.34,2,   0.009,2,   0.005,2,  -999.0,9,  -999.0,9,  -999.0,5,-999.000,1,-999.000,   1.7200,4,   12.03,4, -999.00,9,  -999.0,9,  -999.0,   6.952,4,   0.020, 40209.7,   1.0157,   0.0020,    0.20
 316N145_14,       I02E,    1148,          1,          5,     SIH002,2,19951226,       0405,    -8.0000,    73.3333,       4905,  4270.0,   1.3587,  34.7178,2,  34.7162,2,    179.9,2,   180.1,2,  135.13,2,   33.68,2,    0.00,2,    2.34,2,-999.000,5,-999.000,5,  -999.0,9,  -999.0,9,  -999.0,5,-999.000,1,-999.000,-999.0000,1, -999.00,9, -999.00,9,  -999.0,9,  -999.0,-999.000,9,-999.000, 42841.7,   1.0139,-999.0000, -999.00
 316N145_14,       I02E,    1148,          1,          4,     SIH020,2,19951226,       0405,    -8.0000,    73.3333,       4905,  4503.0,   1.3736,  34.7155,2,  34.7170,2,    180.5,2,   180.6,2,  135.01,2,   33.63,2,    0.00,2,    2.34,2,-999.000,5,-999.000,5,  -999.0,9,  -999.0,9,  -999.0,5,-999.000,1,-999.000,-999.0000,1, -999.00,9, -999.00,9,  -999.0,9,  -999.0,-999.000,9,-999.000, 45172.2,   1.0020,-999.0000, -999.00
 316N145_14,       I02E,    1148,          1,          3,     SIH021,2,19951226,       0405,    -8.0000,    73.3333,       4905,  4503.1,   1.3736,  34.7155,2,  34.7160,2,    181.1,2,   180.7,2,  135.04,2,   33.63,2,    0.00,2,    2.34,2,-999.000,5,-999.000,5,  -999.0,9,  -999.0,9,  -999.0,5,-999.000,1,-999.000,   1.8820,2,   11.53,2, -999.00,9,  -999.0,9,  -999.0,   8.093,2,   0.023, 45173.2,   1.0020,   0.0030,    0.20
 316N145_14,       I02E,    1148,          1,          2,     SIH022,2,19951226,       0405,    -8.0000,    73.3333,       4905,  4746.4,   1.3980,  34.7172,2,  34.7158,2,    181.4,2,   180.9,2,  134.91,2,   33.58,2,    0.00,2,    2.34,2,-999.000,5,-999.000,5,  -999.0,9,  -999.0,9,  -999.0,5,-999.000,1,-999.000,-999.0000,1, -999.00,9, -999.00,9,  -999.0,9,  -999.0,-999.000,9,-999.000, 47606.9,   0.9973,-999.0000, -999.00
 316N145_14,       I02E,    1148,          1,          1,     SIH023,2,19951226,       0405,    -8.0000,    73.3333,       4905,  4995.4,   1.4268,  34.7169,2,  34.7150,2,    181.4,2,   181.3,2,  134.59,6,   33.54,6,    0.00,6,    2.33,6,   0.002,2,  -0.001,2,  -999.0,9,  -999.0,9,  -999.0,5,-999.000,1,-999.000,   1.6850,4,   12.52,4, -999.00,9,  -999.0,9,  -999.0,   6.747,4,   0.019, 50098.8,   0.9953,   0.0020,    0.20