BOTTLE,20220829CCHSIOAMB
EXPOCODE,SECT_ID,STNNBR,CASTNO,SAMPNO,BTLNBR,BTLNBR_FLAG_W,DATE,TIME,LATITUDE,LONGITUDE,DEPTH,CTDPRS,CTDTMP,CTDSAL,CTDSAL_FLAG_W,SALNTY,SALNTY_FLAG_W,CTDOXY,CTDOXY_FLAG_W,OXYGEN,OXYGEN_FLAG_W,SILCAT,SILCAT_FLAG_W,NITRAT,NITRAT_FLAG_W,NITRIT,NITRIT_FLAG_W,PHSPHT,PHSPHT_FLAG_W,CFC-11,CFC-11_FLAG_W,CFC-12,CFC-12_FLAG_W,TCARBN,TCARBN_FLAG_W,ALKALI,ALKALI_FLAG_W,PCO2,PCO2_FLAG_W,TRITUM,TRITUM_FLAG_W,TRITER,HELIUM,HELIUM_FLAG_W,DELHE3,DELHE3_FLAG_W,DELC13,DELC13_FLAG_W,DELC14,DELC14_FLAG_W,C14ERR,NEON,NEON_FLAG_W,NEONER,CTDRAW,THETA,HELIER,DELHER
,,,,,,,,,,,METERS,DBAR,ITS-90,PSS-78,,PSS-78,,UMOL/KG,,UMOL/KG,,UMOL/KG,,UMOL/KG,,UMOL/KG,,UMOL/KG,,PMOL/KG,,PMOL/KG,,UMOL/KG,,UMOL/KG,,UATM,,TU,,TU,NMOL/KG,,PERCNT,,/MILLE,,/MILLE,,/MILLE,NMOL/KG,,NMOL/KG,DBAR,DEG C,NMOL/KG,PERCNT
 316N145_14,       I02E,    1120,          1,         36,     SIH024,2,19951217,       2351,   -11.0000,    88.0333,       4725,    13.0,  27.3738,  34.2954,2,  34.2960,2,    214.0,2,   211.6,2,    3.27,2,    0.07,2,    0.01,2,    0.10,2,   1.691,2,   0.972,2,  1925.9,2,  -999.0,9,  -999.0,5,   1.216,2,   0.004,   1.7479,2,   -1.37,2,    1.08,3,    67.3,2,     2.6,   6.574,2,-999.000,   280.2,  27.3708,-999.0000, -999.00
 316N145_14,       I02E,    1120,          1,         35,     SIH003,3,19951217,       2351,   -11.0000,    88.0333,       4725,    58.6,  26.7369,  34.1836,2,  34.1891,2,    204.4,2,   211.9,2,    3.52,2,    0.17,2,    0.01,2,    0.11,2,   1.717,2,   0.986,2,  1920.8,2,  2243.2,2,  -999.0,5,   1.216,2,   0.004,   1.7118,2,   -0.87,2, -999.00,9,  -999.0,9,  -999.0,   6.584,2,-999.000,   729.9,  26.7236,-999.0000, -999.00
 316N145_14,       I02E,    1120,          1,         34,     SIH026,2,19951217,       2351,   -11.0000,    88.0333,       4725,   103.5,  25.2835,  34.3304,2,  34.3315,2,    154.5,3,   180.3,2,    5.94,2,    4.09,2,    0.23,2,    0.40,2,   1.674,2,   0.959,2,  1969.6,2,  -999.0,9,  -999.0,5,   1.187,2,   0.004,   1.7477,2,   -0.23,2,    0.55,3,    61.0,2,     2.6,   6.788,2,-999.000,  1172.5,  25.2610,-999.0000, -999.00
 316N145_14,       I02E,    1120,          1,         33,     SIH027,2,19951217,       2351,   -11.0000,    88.0333,       4725,   153.1,  19.3092,  34.5812,2,  34.5889,2,    107.0,2,   108.1,2,   20.89,6,   16.43,6,    0.03,6,    1.18,6,   1.343,2,   0.712,2,  2090.9,2,  2290.5,2,  -999.0,5,   1.077,2,   0.004,   1.7612,2,    5.02,2, -999.00,9,  -999.0,9,  -999.0,   6.964,2,-999.000,  1664.1,  19.2816,-999.0000, -999.00
 316N145_14,       I02E,    1120,          1,         32,     SIH028,2,19951217,       2351,   -11.0000,    88.0333,       4725,   204.0,  16.5431,  34.7817,2,  34.7819,2,     76.1,2,    75.6,2,   25.47,6,   22.40,6,    0.02,6,    1.57,6,   1.079,2,   0.570,2,  2149.2,2,  -999.0,9,  -999.0,5,   0.908,2,   0.004,   1.8057,2,    6.90,2,   -1.08,4,   -25.3,2,     3.6,   6.901,2,-999.000,  2168.2,  16.5101,-999.0000, -999.00
 316N145_14,       I02E,    1120,          1,         31,     SIH029,2,19951217,       2351,   -11.0000,    88.0333,       4725,   300.8,  11.7599,  34.6861,2,  34.6842,2,     84.0,2,    84.5,2,   38.66,6,   26.82,6,    0.02,6,    1.88,6,   0.669,2,   0.335,2,  2192.1,2,  2305.8,2,  -999.0,5,   0.674,2,   0.003,   1.8847,2,    9.93,2, -999.00,9,  -999.0,9,  -999.0,   7.278,2,-999.000,  3134.8,  11.7211,-999.0000, -999.00
 316N145_14,       I02E,    1120,          1,         30,     SIH030,2,19951217,       2351,   -11.0000,    88.0333,       4725,   401.4,   9.8450,  34.7280,2,  34.7304,2,     89.0,2,    92.2,2,   39.32,2,   29.03,2,    0.01,2,    2.01,2,   0.480,2,   0.235,2,  2210.4,2,  2319.2,2,  -999.0,5,   0.372,2,   0.003,   1.8053,2,    8.59,2,   -0.04,3,   -75.6,2,     3.5,   7.305,2,-999.000,  4142.0,   9.7986,-999.0000, -999.00
 316N145_14,       I02E,    1120,          1,         29,     SIH031,3,19951217,       2351,   -11.0000,    88.0333,       4725,   503.7,   8.7729,  34.7153,2,  34.7125,2,     90.4,2,    90.1,2,   45.09,2,   31.22,2,    0.01,2,    2.17,2,   0.230,2,   0.112,2,  2224.0,2,  2330.2,2,  -999.0,5,   0.203,2,   0.003,   1.8535,2,    8.34,2,    0.28,3,   -93.8,2,     3.6,   7.330,2,-999.000,  5163.8,   8.7182,-999.0000, -999.00
 316N145_14,       I02E,    1120,          1,         28,     SIH032,3,19951217,       2351,   -11.0000,    88.0333,       4725,   603.8,   7.9557,  34.7000,2,  34.6991,2,     76.2,2,    79.6,2,   56.69,2,   33.61,2,    0.01,2,    2.36,2,   0.079,6,   0.040,6,  2245.5,2,  2330.9,2,  -999.0,5,   0.119,2,   0.002,   1.7015,2,    9.12,2,   -0.75,4,  -139.1,2,     3.1,   7.025,2,-999.000,  6165.1,   7.8934,-999.0000, -999.00
 316N145_14,       I02E,    1120,          1,         27,     SIH033,2,19951217,       2351,   -11.0000,    88.0333,       4725,   703.7,   7.1130,  34.6799,2,  34.6793,2,     74.9,2,    74.9,2,   70.14,2,   35.07,2,    0.01,2,    2.51,2,   0.034,2,   0.010,3,  2266.1,2,  2346.6,2,  -999.0,5,   0.086,2,   0.002,   1.7357,2,   11.00,2,   -1.47,4,  -179.1,2,     2.9,   7.171,2,-999.000,  7164.3,   7.0444,-999.0000, -999.00
 316N145_14,       I02E,    1120,          1,         26,     SIH037,2,19951217,       2351,   -11.0000,    88.0333,       4725,   804.1,   6.2471,  34.6494,2,  34.6490,2,     79.2,2,    80.0,2,   82.26,6,   35.81,6,    0.01,6,    2.56,2,   0.027,2,   0.013,2,  2278.4,2,  2356.5,2,  -999.0,5,   0.079,2,   0.002,   1.7316,2,   13.37,2,    0.11,3,  -160.1,2,     3.0,   7.139,2,-999.000,  8168.7,   6.1735,-999.0000, -999.00
 316N145_14,       I02E,    1120,          1,         25,     SI9446,3,19951217,       2351,   -11.0000,    88.0333,       4725,  1004.9,   5.1659,  34.6537,2,  34.6533,2,     85.3,2,    86.6,2,   97.62,6,   36.42,6,    0.01,6,    2.62,6,   0.008,2,   0.005,2,  2296.0,2,  2378.9,2,  -999.0,5,   0.033,2,   0.002,   1.7862,2,   14.86,2,   -1.11,4,  -209.5,2,     3.1,   7.375,2,-999.000, 10177.8,   5.0806,-999.0000, -999.00
 316N145_14,       I02E,    1120,          1,         24,     SIH036,2,19951217,       2351,   -11.0000,    88.0333,       4725,  1251.9,   4.3053,  34.6776,2,  34.6775,2,     96.2,2,    96.7,2,  107.64,2,   36.64,2,    0.01,2,    2.63,2,   0.003,2,  -0.001,2,  2304.2,2,  2385.1,2,  -999.0,5,   0.013,2,   0.002,   1.7709,2,   15.03,2, -999.00,9,  -999.0,9,  -999.0,   7.271,2,-999.000, 12647.7,   4.2049,-999.0000, -999.00
 316N145_14,       I02E,    1120,          1,         23,     SIH001,2,19951217,       2351,   -11.0000,    88.0333,       4725,  1504.7,   3.5382,  34.7200,2,  34.7207,2,    113.3,2,   112.9,2,  110.25,2,   36.18,2,    0.01,2,    2.59,2,  -0.001,2,  -0.001,2,  2303.5,2,  2393.0,2,  -999.0,5,   0.003,2,   0.002,   1.8809,2,   13.12,2,   -0.49,4,  -207.6,2,     2.5,   7.612,2,-999.000, 15176.8,   3.4234,-999.0000, -999.00
 316N145_14,       I02E,    1120,          1,         22,     SIH019,2,19951217,       2351,   -11.0000,    88.0333,       4725,  1761.4,   2.8083,  34.7345,2,  34.7347,2,    133.0,2,   133.3,2,  114.66,6,   35.03,6,    0.01,6,    2.49,6,-999.000,5,-999.000,5,  2299.8,2,  2394.5,2,  -999.0,5,   0.001,2,   0.002,   1.7621,2,   14.23,2,    0.07,3,  -192.2,2,     2.8,   7.260,2,-999.000, 17744.3,   2.6803,-999.0000, -999.00
 316N145_14,       I02E,    1120,          1,         21,     SIH025,2,19951217,       2351,   -11.0000,    88.0333,       4725,  2013.7,   2.4132,  34.7410,2,  34.7416,2,    144.8,2,   143.5,2,  119.76,6,   34.87,6,    0.01,6,    2.45,6,  -0.001,2,  -0.002,2,  2299.8,2,  2412.2,3,  -999.0,5,   0.000,2,   0.002,-999.0000,1, -999.00,9,   -1.13,4,  -223.9,3,     2.9,-999.000,9,-999.000, 20268.0,   2.2690,-999.0000, -999.00
 316N145_14,       I02E,    1120,          1,         20,     SIH004,2,19951217,       2351,   -11.0000,    88.0333,       4725,  2263.5,   2.1821,  34.7351,2,  34.7368,2,    154.9,2,   153.1,2,  120.56,2,   34.43,2,    0.01,2,    2.41,2,-999.000,5,-999.000,5,  2297.1,2,  2398.8,2,  -999.0,5,-999.000,1,-999.000,   1.8830,2,   13.97,2,    0.16,3,  -189.2,2,     2.9,   8.088,2,   0.020, 22767.5,   2.0195,   0.0050,    0.12
 316N145_14,       I02E,    1120,          1,         19,     SIH005,2,19951217,       2351,   -11.0000,    88.0333,       4725,  2508.7,   1.9579,  34.7317,2,  34.7335,2,    160.2,2,   160.3,2,  122.50,2,   34.02,2,    0.01,2,    2.38,2,-999.000,5,-999.000,5,  2295.1,2,  2457.3,4,  -999.0,5,-999.000,1,-999.000,   1.9160,2,   14.31,2,    0.18,3,  -196.8,2,     2.7,   8.152,2,   0.022, 25221.5,   1.7773,   0.0040,    0.14
 316N145_14,       I02E,    1120,          1,         18,     SIH006,2,19951217,       2351,   -11.0000,    88.0333,       4725,  2752.2,   1.8535,  34.7306,2,  34.7317,2,    164.7,2,   163.6,2,  124.43,2,   33.97,2,    0.01,2,    2.36,3,-999.000,5,-999.000,5,  2294.9,2,  2402.6,2,  -999.0,5,-999.000,1,-999.000,   1.9190,2,   14.11,2,    0.17,3,  -202.3,2,     2.8,   8.247,2,   0.022, 27657.3,   1.6523,   0.0040,    0.14
 316N145_14,       I02E,    1120,          1,         17,     SIH038,2,19951217,       2351,   -11.0000,    88.0333,       4725,  3001.8,   1.7070,  34.7280,2,  34.7292,2,    167.2,2,   166.8,2,  127.54,2,   34.03,2,    0.00,2,    2.37,2,   0.000,2,   0.000,2,  2296.5,2,  2407.2,2,  -999.0,5,-999.000,1,-999.000,   1.8740,2,   14.08,2,    0.24,3,  -195.4,2,     2.6,   8.031,2,   0.022, 30154.5,   1.4852,   0.0040,    0.14
 316N145_14,       I02E,    1120,          1,         16,     SIH008,2,19951217,       2351,   -11.0000,    88.0333,       4725,  3254.7,   1.6074,  34.7259,2,  34.7274,3,    170.2,2,   169.6,2,  129.64,2,   33.93,2,    0.01,2,    2.36,2,-999.000,5,-999.000,5,  2297.2,2,  2411.6,2,  -999.0,5,-999.000,1,-999.000,   1.9050,2,   13.45,2,    0.28,3,  -191.1,2,     4.3,   8.165,2,   0.022, 32684.3,   1.3631,   0.0040,    0.14
 316N145_14,       I02E,    1120,          1,         15,     SIH009,2,19951217,       2351,   -11.0000,    88.0333,       4725,  3503.5,   1.5038,  34.7232,2,  34.7256,3,    171.0,2,   170.9,2,  133.41,2,   33.99,2,    0.01,2,    2.36,2,-999.000,5,-999.000,5,  2300.7,2,  2411.6,2,  -999.0,5,-999.000,1,-999.000,   1.8800,2,   13.22,2,    0.25,3,  -189.2,2,     2.6,   8.126,2,   0.022, 35173.4,   1.2370,   0.0040,    0.14
 316N145_14,       I02E,    1120,          1,         14,     SIH010,2,19951217,       2351,   -11.0000,    88.0333,       4725,  3753.9,   1.4198,  34.7206,2,  34.7223,3,    174.1,2,   173.2,2,  135.19,2,   34.00,2,    0.01,2,    2.34,2,-999.000,5,-999.000,5,  2302.2,2,  2415.5,2,  -999.0,5,-999.000,1,-999.000,   1.9260,2,   12.46,2,    0.29,3,  -196.6,2,     2.8,   8.266,2,   0.022, 37678.3,   1.1292,   0.0040,    0.14
 316N145_14,       I02E,    1120,          1,         13,     SIH011,2,19951217,       2351,   -11.0000,    88.0333,       4725,  3903.1,   1.3915,  34.7199,2,  34.7201,3,    175.5,2,   176.1,2,  134.96,2,   33.95,2,    0.01,2,    2.34,2,-999.000,5,-999.000,5,  2300.9,2,  2417.6,2,  -999.0,5,-999.000,1,-999.000,-999.0000,1, -999.00,9,   -2.56,4,  -266.0,3,     2.5,-999.000,9,-999.000, 39171.5,   1.0858,-999.0000, -999.00
 316N145_14,       I02E,    1120,          1,         12,     SIH012,2,19951217,       2351,   -11.0000,    88.0333,       4725,  4002.8,   1.3801,  34.7192,2,  34.7207,3,    177.5,2,   177.2,2,  134.55,2,   33.86,2,    0.01,2,    2.33,2,  -0.001,2,  -0.001,2,  2299.4,2,  2413.9,2,  -999.0,5,-999.000,1,-999.000,   1.9130,2,   11.79,2,   -0.31,4,  -212.4,2,     3.3,   8.289,2,   0.019, 40168.5,   1.0640,   0.0050,    0.20
 316N145_14,       I02E,    1120,          1,         11,     SI9426,2,19951217,       2351,   -11.0000,    88.0333,       4725,  4104.5,   1.3647,  34.7186,2,  34.7180,2,    180.1,2,   179.8,2,  133.15,2,   33.65,2,    0.01,2,    2.32,2,-999.000,5,-999.000,5,  2295.6,2,  2414.2,2,  -999.0,5,-999.000,1,-999.000,   1.8960,2,   11.87,2,    0.30,3,  -202.1,2,     4.4,   8.168,2,   0.022, 41186.0,   1.0380,   0.0040,    0.14
 316N145_14,       I02E,    1120,          1,         10,     SIH014,2,19951217,       2351,   -11.0000,    88.0333,       4725,  4202.3,   1.3259,  34.7171,2,  34.7188,2,    183.7,2,   183.8,2,  131.41,2,   33.40,2,    0.01,2,    2.30,2,-999.000,5,-999.000,5,  2290.9,2,  2406.1,2,  -999.0,5,-999.000,1,-999.000,   1.9160,2,   11.51,2,    0.29,3,  -202.0,2,     2.5,   8.198,2,   0.024, 42163.7,   0.9896,   0.0040,    0.18
 316N145_14,       I02E,    1120,          1,          9,     SIH015,2,19951217,       2351,   -11.0000,    88.0333,       4725,  4304.6,   1.2983,  34.7168,2,  34.7168,2,    186.5,2,   186.0,2,  131.01,2,   33.30,2,    0.01,2,    2.29,2,-999.000,5,-999.000,5,  2288.8,2,  2405.8,2,  -999.0,5,-999.000,1,-999.000,   1.9170,2,   11.52,2,    0.32,3,  -202.2,2,     5.2,   8.180,2,   0.024, 43187.8,   0.9515,   0.0040,    0.18
 316N145_14,       I02E,    1120,          1,          8,     SIH016,2,19951217,       2351,   -11.0000,    88.0333,       4725,  4402.0,   1.2976,  34.7171,2,  34.7172,2,    186.7,2,   187.4,2,  130.27,2,   33.25,2,    0.01,2,    2.29,2,-999.000,5,-999.000,5,  2287.1,2,  2404.2,2,  -999.0,5,-999.000,1,-999.000,   1.8820,2,   11.77,2,   -0.34,4,  -217.4,2,     2.7,   8.055,2,   0.024, 44161.0,   0.9398,   0.0040,    0.18
 316N145_14,       I02E,    1120,          1,          7,     SIH017,2,19951217,       2351,   -11.0000,    88.0333,       4725,  4501.8,   1.2932,  34.7168,2,  34.7174,2,    188.2,2,   188.3,2,  129.37,2,   33.15,2,    0.01,2,    2.28,2,-999.000,5,-999.000,5,  2286.0,2,  2410.0,3,  -999.0,5,-999.000,1,-999.000,   1.9130,2,   11.55,2,    0.35,3,  -210.5,2,     3.7,   8.143,2,   0.024, 45160.1,   0.9242,   0.0040,    0.18
 316N145_14,       I02E,    1120,          1,          6,     SIH018,2,19951217,       2351,   -11.0000,    88.0333,       4725,  4606.0,   1.3006,  34.7158,2,  34.7174,2,    188.7,2,   188.5,2,  129.63,2,   33.20,2,    0.01,2,    2.28,2,-999.000,5,-999.000,5,  2286.0,2,  2398.7,2,  -999.0,5,-999.000,1,-999.000,   1.8880,2,   11.43,2,   -0.75,4,  -228.7,3,     2.3,   8.061,2,   0.023, 46202.1,   0.9194,   0.0040,    0.18
 316N145_14,       I02E,    1120,          1,          5,     SIH002,2,19951217,       2351,   -11.0000,    88.0333,       4725,  4652.0,   1.2961,  34.7157,2,  34.7176,2,    189.0,2,   189.3,2,  129.23,2,   33.10,2,    0.01,2,    2.27,2,-999.000,5,-999.000,5,  2284.9,2,  2403.1,2,  -999.0,5,-999.000,1,-999.000,-999.0000,1, -999.00,9,    0.34,3,  -200.5,2,     2.5,-999.000,9,-999.000, 46662.4,   0.9097,-999.0000, -999.00
 316N145_14,       I02E,    1120,          1,          4,     SIH020,2,19951217,       2351,   -11.0000,    88.0333,       4725,  4702.6,   1.2973,  34.7159,2,  34.7164,2,    188.6,2,   189.5,2,  129.16,2,   33.11,2,    0.01,2,    2.27,2,-999.000,5,-999.000,5,  2283.8,2,  2400.9,2,  -999.0,5,-999.000,1,-999.000,   1.8930,2,   11.48,2,   -0.01,4,  -207.9,2,     3.2,   8.048,2,   0.023, 47167.9,   0.9050,   0.0040,    0.18
 316N145_14,       I02E,    1120,          1,          3,     SIH021,2,19951217,       2351,   -11.0000,    88.0333,       4725,  4753.7,   1.3021,  34.7157,2,  34.7162,2,    190.4,2,   189.7,2,  128.60,2,   33.02,2,    0.01,2,    2.28,2,-999.000,5,-999.000,5,  2284.6,2,  2401.9,2,  -999.0,5,-999.000,1,-999.000,-999.0000,1, -999.00,9,    0.36,3,  -195.2,2,     3.2,-999.000,9,-999.000, 47679.7,   0.9037,-999.0000, -999.00
 316N145_14,       I02E,    1120,          1,          2,     SIH022,2,19951217,       2351,   -11.0000,    88.0333,       4725,  4800.8,   1.3081,  34.7160,2,  34.7164,2,    189.9,2,   189.6,2,  128.53,2,   33.08,2,    0.01,2,    2.27,2,-999.000,5,-999.000,5,  2284.1,2,  2401.6,2,  -999.0,5,-999.000,1,-999.000,   1.8830,2,   11.63,2,    0.33,3,  -185.4,2,     2.7,   8.062,2,   0.023, 48150.0,   0.9039,   0.0040,    0.18
 316N145_14,       I02E,    1120,          1,          1,     SIH023,2,19951217,       2351,   -11.0000,    88.0333,       4725,  4837.1,   1.3121,  34.7164,2,  34.7164,2,    189.6,2,   189.5,2,  128.72,6,   33.08,6,    0.01,6,    2.27,6,   0.000,2,  -0.003,2,  2284.6,2,  2400.3,2,  -999.0,5,-999.000,1,-999.000,-999.0000,1, -999.00,9,   -0.91,4,  -220.7,2,     3.5,-999.000,9,-999.000, 48514.8,   0.9035,-999.0000, -999.00