BOTTLE,20220829CCHSIOAMB
EXPOCODE,SECT_ID,STNNBR,CASTNO,SAMPNO,BTLNBR,BTLNBR_FLAG_W,DATE,TIME,LATITUDE,LONGITUDE,DEPTH,CTDPRS,CTDTMP,CTDSAL,CTDSAL_FLAG_W,SALNTY,SALNTY_FLAG_W,CTDOXY,CTDOXY_FLAG_W,OXYGEN,OXYGEN_FLAG_W,SILCAT,SILCAT_FLAG_W,NITRAT,NITRAT_FLAG_W,NITRIT,NITRIT_FLAG_W,PHSPHT,PHSPHT_FLAG_W,CFC-11,CFC-11_FLAG_W,CFC-12,CFC-12_FLAG_W,TCARBN,TCARBN_FLAG_W,ALKALI,ALKALI_FLAG_W,PCO2,PCO2_FLAG_W,TRITUM,TRITUM_FLAG_W,TRITER,HELIUM,HELIUM_FLAG_W,DELHE3,DELHE3_FLAG_W,DELC13,DELC13_FLAG_W,DELC14,DELC14_FLAG_W,C14ERR,NEON,NEON_FLAG_W,NEONER,CTDRAW,THETA,HELIER,DELHER
,,,,,,,,,,,METERS,DBAR,ITS-90,PSS-78,,PSS-78,,UMOL/KG,,UMOL/KG,,UMOL/KG,,UMOL/KG,,UMOL/KG,,UMOL/KG,,PMOL/KG,,PMOL/KG,,UMOL/KG,,UMOL/KG,,UATM,,TU,,TU,NMOL/KG,,PERCNT,,/MILLE,,/MILLE,,/MILLE,NMOL/KG,,NMOL/KG,DBAR,DEG C,NMOL/KG,PERCNT
 316N145_14,       I02E,    1116,          1,         36,     SIH024,2,19951217,       0318,   -10.0472,    88.0000,       5040,     8.3,  27.2278,  34.2510,2,  34.2517,2,    221.4,2,   206.0,2,    3.85,2,    0.05,2,    0.00,2,    0.11,2,   1.687,6,   0.945,6,  1923.3,2,  -999.0,9,  -999.0,5,   1.199,2,   0.004,   1.5943,2,   -1.35,2, -999.00,9,  -999.0,9,  -999.0,   6.038,2,-999.000,   232.4,  27.2259,-999.0000, -999.00
 316N145_14,       I02E,    1116,          1,         35,     SIH003,2,19951217,       0318,   -10.0472,    88.0000,       5040,    55.1,  26.8093,  34.2429,2,  34.2454,2,    210.9,2,   211.8,2,    4.18,2,    0.22,2,    0.00,2,    0.10,2,   1.703,2,   0.953,2,  1923.7,2,  2247.4,2,  -999.0,5,   1.197,2,   0.004,   1.5889,2,   -1.02,2, -999.00,9,  -999.0,9,  -999.0,   6.063,2,-999.000,   693.9,  26.7967,-999.0000, -999.00
 316N145_14,       I02E,    1116,          1,         34,     SIH026,2,19951217,       0318,   -10.0472,    88.0000,       5040,    99.6,  24.4858,  34.3991,2,  34.3992,2,    130.3,3,   151.9,2,    8.50,2,    6.88,2,    0.12,2,    0.58,2,   1.585,2,   0.896,2,  1996.6,2,  -999.0,9,  -999.0,5,   1.168,2,   0.004,   1.6051,2,    0.70,2, -999.00,9,  -999.0,9,  -999.0,   6.126,2,-999.000,  1132.5,  24.4646,-999.0000, -999.00
 316N145_14,       I02E,    1116,          1,         33,     SIH027,2,19951217,       0318,   -10.0472,    88.0000,       5040,   150.7,  19.1504,  34.5661,2,  34.5661,2,    105.5,2,   107.6,2,   20.63,2,   16.51,2,    0.02,2,    1.21,2,   1.330,2,   0.723,2,  -999.0,9,  -999.0,9,  -999.0,5,   1.086,2,   0.004,-999.0000,1, -999.00,9, -999.00,9,  -999.0,9,  -999.0,-999.000,9,-999.000,  1638.5,  19.1235,-999.0000, -999.00
 316N145_14,       I02E,    1116,          1,         32,     SIH028,2,19951217,       0318,   -10.0472,    88.0000,       5040,   199.8,  15.1649,  34.5779,2,  34.5812,2,     79.1,2,   103.8,3,   29.76,2,   20.88,2,    0.01,2,    1.52,2,   1.110,2,   0.585,2,  -999.0,9,  -999.0,9,  -999.0,5,   0.990,2,   0.004,   1.6633,2,    7.79,2, -999.00,9,  -999.0,9,  -999.0,   6.602,2,-999.000,  2126.3,  15.1345,-999.0000, -999.00
 316N145_14,       I02E,    1116,          1,         31,     SIH029,2,19951217,       0318,   -10.0472,    88.0000,       5040,   300.5,  11.7284,  34.7557,2,  34.7539,2,     70.0,2,    68.8,2,   35.58,2,   28.23,2,    0.01,2,    2.00,2,   0.503,2,   0.247,2,  -999.0,9,  -999.0,9,  -999.0,5,-999.000,1,-999.000,-999.0000,1, -999.00,9, -999.00,9,  -999.0,9,  -999.0,-999.000,9,-999.000,  3133.2,  11.6897,-999.0000, -999.00
 316N145_14,       I02E,    1116,          1,         30,     SIH030,2,19951217,       0318,   -10.0472,    88.0000,       5040,   400.3,  10.5768,  34.8383,2,  34.8371,2,     80.0,2,    81.4,2,   31.75,2,   28.67,2,    0.01,2,    1.99,2,   0.399,2,   0.200,2,  -999.0,9,  -999.0,9,  -999.0,5,   0.327,2,   0.003,   1.7012,2,    6.57,2, -999.00,9,  -999.0,9,  -999.0,   6.859,2,-999.000,  4131.3,  10.5283,-999.0000, -999.00
 316N145_14,       I02E,    1116,          1,         29,     SIH031,3,19951217,       0318,   -10.0472,    88.0000,       5040,   500.6,   9.1237,  34.7584,2,  34.7573,2,     85.8,2,    89.1,2,   39.24,2,   30.53,2,    0.01,2,    2.15,2,-999.000,5,-999.000,5,  -999.0,9,  -999.0,9,  -999.0,5,   0.192,2,   0.002,   1.6902,2,    6.93,2, -999.00,9,  -999.0,9,  -999.0,   6.843,2,-999.000,  5132.0,   9.0681,-999.0000, -999.00
 316N145_14,       I02E,    1116,          1,         28,     SIH032,2,19951217,       0318,   -10.0472,    88.0000,       5040,   601.8,   7.9891,  34.7123,2,  34.7109,2,     76.3,2,    76.1,2,   55.87,2,   33.63,2,    0.01,2,    2.40,2,   0.072,2,   0.035,2,  -999.0,9,  -999.0,9,  -999.0,5,-999.000,1,-999.000,-999.0000,1, -999.00,9, -999.00,9,  -999.0,9,  -999.0,-999.000,9,-999.000,  6145.7,   7.9269,-999.0000, -999.00
 316N145_14,       I02E,    1116,          1,         27,     SIH033,2,19951217,       0318,   -10.0472,    88.0000,       5040,   701.8,   7.0634,  34.6804,2,  34.6785,2,     74.7,2,    75.2,2,   69.84,2,   35.04,2,    0.01,2,    2.53,2,   0.036,2,   0.018,2,  -999.0,9,  -999.0,9,  -999.0,5,-999.000,1,-999.000,   1.8640,2,   11.17,2, -999.00,9,  -999.0,9,  -999.0,   7.873,2,   0.029,  7145.4,   6.9953,   0.0040,    0.17
 316N145_14,       I02E,    1116,          1,         26,     SIH037,2,19951217,       0318,   -10.0472,    88.0000,       5040,   802.0,   6.3994,  34.6766,2,  34.6753,2,     77.8,2,    76.1,2,   79.66,2,   35.78,2,    0.00,2,    2.60,2,   0.018,2,   0.011,2,  -999.0,9,  -999.0,9,  -999.0,5,-999.000,1,-999.000,-999.0000,1, -999.00,9, -999.00,9,  -999.0,9,  -999.0,-999.000,9,-999.000,  8146.9,   6.3250,-999.0000, -999.00
 316N145_14,       I02E,    1116,          1,         25,     SI9446,2,19951217,       0318,   -10.0472,    88.0000,       5040,   998.1,   5.1745,  34.6589,2,  34.6572,2,     86.2,2,    85.9,2,   96.46,2,   36.41,2,    0.01,2,    2.67,2,   0.007,2,   0.002,2,  -999.0,9,  -999.0,9,  -999.0,5,-999.000,1,-999.000,   1.8580,2,   14.95,2, -999.00,9,  -999.0,9,  -999.0,   7.784,2,   0.028, 10109.3,   5.0897,   0.0050,    0.17
 316N145_14,       I02E,    1116,          1,         24,     SIH036,2,19951217,       0318,   -10.0472,    88.0000,       5040,  1248.4,   4.3668,  34.6931,2,  34.6922,2,     95.0,2,    94.5,2,  105.29,2,   36.64,2,    0.01,2,    2.67,2,   0.001,2,  -0.001,2,  -999.0,9,  -999.0,9,  -999.0,5,-999.000,1,-999.000,-999.0000,5, -999.00,5, -999.00,9,  -999.0,9,  -999.0,-999.000,5,  -0.009, 12613.9,   4.2661,-999.0000, -999.00
 316N145_14,       I02E,    1116,          1,         23,     SIH001,2,19951217,       0318,   -10.0472,    88.0000,       5040,  1495.0,   3.6647,  34.7328,2,  34.7131,3,    110.1,2,   109.2,2,  108.29,2,   36.20,2,    0.01,2,    2.63,2,-999.000,5,-999.000,5,  -999.0,9,  -999.0,9,  -999.0,5,-999.000,1,-999.000,-999.0000,1, -999.00,9, -999.00,9,  -999.0,9,  -999.0,-999.000,9,-999.000, 15079.4,   3.5493,-999.0000, -999.00
 316N145_14,       I02E,    1116,          1,         22,     SIH019,2,19951217,       0318,   -10.0472,    88.0000,       5040,  1743.5,   2.9730,  34.7431,2,  34.7325,3,    128.3,2,   127.0,2,  113.96,2,   35.54,2,    0.01,2,    2.55,2,  -0.001,2,  -0.004,2,  -999.0,9,  -999.0,9,  -999.0,5,-999.000,1,-999.000,   1.8750,2,   14.11,2, -999.00,9,  -999.0,9,  -999.0,   7.950,2,   0.023, 17565.9,   2.8443,   0.0040,    0.18
 316N145_14,       I02E,    1116,          1,         21,     SIH025,3,19951217,       0318,   -10.0472,    88.0000,       5040,  1997.7,   2.4383,  34.7390,2,  34.7418,2,    144.5,2,   143.6,2,  117.30,2,   34.70,2,    0.01,2,    2.49,2,-999.000,5,-999.000,5,  -999.0,9,  -999.0,9,  -999.0,5,-999.000,1,-999.000,   1.8970,2,   14.40,2, -999.00,9,  -999.0,9,  -999.0,   8.057,2,   0.023, 20108.4,   2.2951,   0.0040,    0.18
 316N145_14,       I02E,    1116,          1,         20,     SIH004,2,19951217,       0318,   -10.0472,    88.0000,       5040,  2239.4,   2.1489,  34.7378,2,  34.7390,2,    153.1,2,   153.1,2,  120.64,2,   34.43,2,    0.00,2,    2.43,2,-999.000,5,-999.000,5,  -999.0,9,  -999.0,9,  -999.0,5,-999.000,1,-999.000,   1.8900,2,   14.51,2, -999.00,9,  -999.0,9,  -999.0,   8.047,2,   0.023, 22526.9,   1.9890,   0.0040,    0.18
 316N145_14,       I02E,    1116,          1,         19,     SIH005,2,19951217,       0318,   -10.0472,    88.0000,       5040,  2496.6,   1.9334,  34.7344,2,  34.7368,2,    156.0,2,   158.2,2,  124.15,2,   34.33,2,    0.01,2,    2.42,2,-999.000,5,-999.000,5,  -999.0,9,  -999.0,9,  -999.0,5,-999.000,1,-999.000,   0.7230,4,   12.82,4, -999.00,9,  -999.0,9,  -999.0,   3.270,4,   0.012, 25100.3,   1.7544,   0.0020,    0.20
 316N145_14,       I02E,    1116,          1,         18,     SIH006,2,19951217,       0318,   -10.0472,    88.0000,       5040,  2746.9,   1.7410,  34.7295,2,  34.7339,3,    161.9,2,   164.2,2,  126.83,2,   33.94,2,    0.01,2,    2.39,2,-999.000,5,-999.000,5,  -999.0,9,  -999.0,9,  -999.0,5,-999.000,1,-999.000,   1.8850,2,   13.37,2, -999.00,9,  -999.0,9,  -999.0,   8.205,2,   0.030, 27604.1,   1.5427,   0.0040,    0.17
 316N145_14,       I02E,    1116,          1,         17,     SIH038,2,19951217,       0318,   -10.0472,    88.0000,       5040,  2997.9,   1.5884,  34.7261,2,  34.7292,3,    166.4,2,   167.2,2,  130.17,2,   34.12,2,    0.01,2,    2.38,2,-999.000,5,-999.000,5,  -999.0,9,  -999.0,9,  -999.0,5,-999.000,1,-999.000,   1.9280,2,   13.06,2, -999.00,9,  -999.0,9,  -999.0,   8.178,2,   0.030, 30115.2,   1.3696,   0.0040,    0.17
 316N145_14,       I02E,    1116,          1,         16,     SIH008,2,19951217,       0318,   -10.0472,    88.0000,       5040,  3246.9,   1.4773,  34.7235,2,  34.7225,2,    168.5,2,   169.5,2,  133.01,2,   33.91,2,    0.01,2,    2.38,2,   0.000,2,  -0.002,2,  -999.0,9,  -999.0,9,  -999.0,5,-999.000,1,-999.000,-999.0000,1, -999.00,9, -999.00,9,  -999.0,9,  -999.0,-999.000,9,-999.000, 32606.3,   1.2369,-999.0000, -999.00
 316N145_14,       I02E,    1116,          1,         15,     SIH009,2,19951217,       0318,   -10.0472,    88.0000,       5040,  3496.2,   1.4377,  34.7216,2,  34.7211,2,    170.7,2,   172.1,2,  133.69,2,   33.96,2,    0.01,2,    2.38,2,-999.000,5,-999.000,5,  -999.0,9,  -999.0,9,  -999.0,5,-999.000,1,-999.000,   1.9000,2,   12.35,2, -999.00,9,  -999.0,9,  -999.0,   8.177,2,   0.028, 35100.5,   1.1732,   0.0040,    0.17
 316N145_14,       I02E,    1116,          1,         14,     SIH010,2,19951217,       0318,   -10.0472,    88.0000,       5040,  3752.5,   1.3825,  34.7193,2,  34.7188,2,    174.1,2,   175.1,2,  134.03,2,   33.92,2,    0.01,2,    2.38,2,-999.000,5,-999.000,5,  -999.0,9,  -999.0,9,  -999.0,5,-999.000,1,-999.000,   1.9090,2,   11.98,2, -999.00,9,  -999.0,9,  -999.0,   8.186,2,   0.028, 37664.7,   1.0930,   0.0040,    0.17
 316N145_14,       I02E,    1116,          1,         13,     SIH011,2,19951217,       0318,   -10.0472,    88.0000,       5040,  3995.3,   1.3739,  34.7194,2,  34.7166,3,    175.1,2,   177.5,2,  133.72,2,   33.65,2,    0.01,2,    2.35,2,-999.000,5,-999.000,5,  -999.0,9,  -999.0,9,  -999.0,5,-999.000,1,-999.000,   1.8680,2,   11.97,2, -999.00,9,  -999.0,9,  -999.0,   8.077,2,   0.053, 40093.6,   1.0588,   0.0150,    0.20
 316N145_14,       I02E,    1116,          1,         12,     SIH012,2,19951217,       0318,   -10.0472,    88.0000,       5040,  4099.8,   1.3831,  34.7192,2,  34.7186,2,    177.5,2,   177.5,2,  133.23,2,   33.71,2,    0.00,2,    2.36,2,-999.000,5,-999.000,5,  -999.0,9,  -999.0,9,  -999.0,5,-999.000,1,-999.000,-999.0000,1, -999.00,9, -999.00,9,  -999.0,9,  -999.0,-999.000,9,-999.000, 41138.7,   1.0564,-999.0000, -999.00
 316N145_14,       I02E,    1116,          1,         11,     SI9426,2,19951217,       0318,   -10.0472,    88.0000,       5040,  4199.8,   1.3488,  34.7179,2,  34.7178,2,    178.8,2,   181.7,2,  131.74,2,   33.50,2, -999.00,5,    2.35,2,-999.000,5,-999.000,5,  -999.0,9,  -999.0,9,  -999.0,5,-999.000,1,-999.000,-999.0000,1, -999.00,9, -999.00,9,  -999.0,9,  -999.0,-999.000,9,-999.000, 42138.7,   1.0121,-999.0000, -999.00
 316N145_14,       I02E,    1116,          1,         10,     SIH014,2,19951217,       0318,   -10.0472,    88.0000,       5040,  4296.6,   1.3428,  34.7163,2,  34.7180,2,    179.3,2,   182.2,2,  131.92,2,   33.45,2,    0.01,2,    2.33,2,-999.000,5,-999.000,5,  -999.0,9,  -999.0,9,  -999.0,5,-999.000,1,-999.000,   2.0060,4,   11.08,3, -999.00,9,  -999.0,9,  -999.0,   8.707,4,   0.088, 43107.3,   0.9955,   0.0430,    0.07
 316N145_14,       I02E,    1116,          1,          9,     SIH015,2,19951217,       0318,   -10.0472,    88.0000,       5040,  4400.1,   1.3464,  34.7170,2,  34.7178,2,    182.2,2,   182.7,2,  131.76,2,   33.46,2,    0.00,2,    2.33,2,-999.000,5,-999.000,5,  -999.0,9,  -999.0,9,  -999.0,5,-999.000,1,-999.000,-999.0000,1, -999.00,9, -999.00,9,  -999.0,9,  -999.0,-999.000,9,-999.000, 44143.7,   0.9873,-999.0000, -999.00
 316N145_14,       I02E,    1116,          1,          8,     SIH016,2,19951217,       0318,   -10.0472,    88.0000,       5040,  4501.7,   1.3395,  34.7169,2,  34.7176,2,    181.9,2,   184.0,2,  131.45,2,   33.47,2,    0.01,2,    2.34,2,   0.000,2,   0.000,2,  -999.0,9,  -999.0,9,  -999.0,5,-999.000,1,-999.000,-999.0000,1, -999.00,9, -999.00,9,  -999.0,9,  -999.0,-999.000,9,-999.000, 45159.1,   0.9691,-999.0000, -999.00
 316N145_14,       I02E,    1116,          1,          7,     SIH017,2,19951217,       0318,   -10.0472,    88.0000,       5040,  4599.0,   1.3480,  34.7166,2,  34.7170,2,    182.7,2,   183.7,2,  131.46,2,   33.42,2,    0.00,2,    2.33,2,-999.000,5,-999.000,5,  -999.0,9,  -999.0,9,  -999.0,5,-999.000,1,-999.000,   1.8990,2,   11.89,2, -999.00,9,  -999.0,9,  -999.0,   7.919,3,   0.081, 46133.0,   0.9661,   0.0370,    0.07
 316N145_14,       I02E,    1116,          1,          6,     SIH018,2,19951217,       0318,   -10.0472,    88.0000,       5040,  4704.9,   1.3542,  34.7163,2,  34.7162,2,    183.5,2,   184.4,2,  130.97,2,   33.43,2,    0.00,2,    2.33,2,-999.000,5,-999.000,5,  -999.0,9,  -999.0,9,  -999.0,5,-999.000,1,-999.000,-999.0000,1, -999.00,9, -999.00,9,  -999.0,9,  -999.0,-999.000,9,-999.000, 47192.7,   0.9598,-999.0000, -999.00
 316N145_14,       I02E,    1116,          1,          5,     SIH002,2,19951217,       0318,   -10.0472,    88.0000,       5040,  4803.0,   1.3548,  34.7166,2,  34.7150,2,    185.5,2,   185.4,2,  130.81,2,   33.27,2,    0.00,2,    2.32,2,-999.000,5,-999.000,5,  -999.0,9,  -999.0,9,  -999.0,5,-999.000,1,-999.000,-999.0000,1, -999.00,9, -999.00,9,  -999.0,9,  -999.0,-999.000,9,-999.000, 48173.5,   0.9488,-999.0000, -999.00
 316N145_14,       I02E,    1116,          1,          4,     SIH020,2,19951217,       0318,   -10.0472,    88.0000,       5040,  4905.5,   1.3543,  34.7163,2,  34.7154,2,    185.9,2,   186.2,2,  130.16,2,   33.16,2,    0.01,2,    2.32,2,-999.000,5,-999.000,5,  -999.0,9,  -999.0,9,  -999.0,5,-999.000,1,-999.000,-999.0000,1, -999.00,9, -999.00,9,  -999.0,9,  -999.0,-999.000,9,-999.000, 49198.5,   0.9361,-999.0000, -999.00
 316N145_14,       I02E,    1116,          1,          3,     SIH021,2,19951217,       0318,   -10.0472,    88.0000,       5040,  5003.4,   1.3549,  34.7159,2,  34.7158,2,    187.8,2,   187.1,2,  130.00,2,   33.06,2,    0.01,2,    2.31,2,-999.000,5,-999.000,5,  -999.0,9,  -999.0,9,  -999.0,5,-999.000,1,-999.000,-999.0000,1, -999.00,9, -999.00,9,  -999.0,9,  -999.0,-999.000,9,-999.000, 50177.9,   0.9249,-999.0000, -999.00
 316N145_14,       I02E,    1116,          1,          2,     SIH022,2,19951217,       0318,   -10.0472,    88.0000,       5040,  5104.3,   1.3595,  34.7159,2,  34.7158,2,    187.7,2,   188.5,2,  129.51,2,   33.18,2,    0.01,2,    2.30,2,-999.000,5,-999.000,5,  -999.0,9,  -999.0,9,  -999.0,5,-999.000,1,-999.000,   1.9270,2,   11.29,2, -999.00,9,  -999.0,9,  -999.0,   8.232,2,   0.043, 51187.4,   0.9171,   0.0020,    0.19
 316N145_14,       I02E,    1116,          1,          1,     SIH023,2,19951217,       0318,   -10.0472,    88.0000,       5040,  5183.7,   1.3661,  34.7159,2,  34.7154,2,    187.1,2,   188.3,2,  129.44,6,   33.11,6,    0.01,6,    2.30,6,  -0.001,2,  -0.002,2,  -999.0,9,  -999.0,9,  -999.0,5,-999.000,1,-999.000,-999.0000,1, -999.00,9, -999.00,9,  -999.0,9,  -999.0,-999.000,9,-999.000, 51982.6,   0.9137,-999.0000, -999.00