BOTTLE,20220829CCHSIOAMB
EXPOCODE,SECT_ID,STNNBR,CASTNO,SAMPNO,BTLNBR,BTLNBR_FLAG_W,DATE,TIME,LATITUDE,LONGITUDE,DEPTH,CTDPRS,CTDTMP,CTDSAL,CTDSAL_FLAG_W,SALNTY,SALNTY_FLAG_W,CTDOXY,CTDOXY_FLAG_W,OXYGEN,OXYGEN_FLAG_W,SILCAT,SILCAT_FLAG_W,NITRAT,NITRAT_FLAG_W,NITRIT,NITRIT_FLAG_W,PHSPHT,PHSPHT_FLAG_W,CFC-11,CFC-11_FLAG_W,CFC-12,CFC-12_FLAG_W,TCARBN,TCARBN_FLAG_W,ALKALI,ALKALI_FLAG_W,PCO2,PCO2_FLAG_W,TRITUM,TRITUM_FLAG_W,TRITER,HELIUM,HELIUM_FLAG_W,DELHE3,DELHE3_FLAG_W,DELC13,DELC13_FLAG_W,DELC14,DELC14_FLAG_W,C14ERR,NEON,NEON_FLAG_W,NEONER,CTDRAW,THETA,HELIER,DELHER
,,,,,,,,,,,METERS,DBAR,ITS-90,PSS-78,,PSS-78,,UMOL/KG,,UMOL/KG,,UMOL/KG,,UMOL/KG,,UMOL/KG,,UMOL/KG,,PMOL/KG,,PMOL/KG,,UMOL/KG,,UMOL/KG,,UATM,,TU,,TU,NMOL/KG,,PERCNT,,/MILLE,,/MILLE,,/MILLE,NMOL/KG,,NMOL/KG,DBAR,DEG C,NMOL/KG,PERCNT
 316N145_14,       I02E,    1127,          1,         31,     SIH029,4,19951219,       2239,    -7.9987,    87.3333,       5090,   904.2,   5.8436,  34.7043,2,  34.7032,2,     73.1,2,    75.0,2,   89.17,2,   36.60,2,    0.01,2,    2.64,2,   0.012,2,   0.006,2,  2291.1,2,  -999.0,9,  -999.0,5,-999.000,1,-999.000,-999.0000,1, -999.00,9, -999.00,9,  -999.0,9,  -999.0,-999.000,9,-999.000,  9168.7,   5.7628,-999.0000, -999.00
 316N145_14,       I02E,    1127,          1,         30,     SIH030,4,19951219,       2239,    -7.9987,    87.3333,       5090,   904.3,   5.8436,  34.7043,2,  34.7036,2,     72.5,2,    75.0,2,   89.01,2,   36.73,2,    0.01,2,    2.64,2,-999.000,5,-999.000,5,  -999.0,9,  -999.0,9,  -999.0,5,-999.000,1,-999.000,-999.0000,1, -999.00,9, -999.00,9,  -999.0,9,  -999.0,-999.000,9,-999.000,  9169.7,   5.7628,-999.0000, -999.00
 316N145_14,       I02E,    1127,          1,         29,     SIH031,4,19951219,       2239,    -7.9987,    87.3333,       5090,   904.4,   5.8436,  34.7042,2,  34.7032,2,     72.8,2,    74.7,2,   88.85,2,   36.69,2,    0.01,2,    2.64,2,-999.000,5,-999.000,5,  -999.0,9,  -999.0,9,  -999.0,5,-999.000,1,-999.000,-999.0000,1, -999.00,9, -999.00,9,  -999.0,9,  -999.0,-999.000,9,-999.000,  9170.7,   5.7628,-999.0000, -999.00
 316N145_14,       I02E,    1127,          1,         28,     SIH032,4,19951219,       2239,    -7.9987,    87.3333,       5090,   904.5,   5.8436,  34.7042,2,  34.7046,2,     74.1,2,    74.6,2,   88.69,2,   36.76,2,    0.01,2,    2.65,2,-999.000,5,-999.000,5,  -999.0,9,  -999.0,9,  -999.0,5,-999.000,1,-999.000,-999.0000,1, -999.00,9, -999.00,9,  -999.0,9,  -999.0,-999.000,9,-999.000,  9171.7,   5.7628,-999.0000, -999.00
 316N145_14,       I02E,    1127,          1,         27,     SIH033,4,19951219,       2239,    -7.9987,    87.3333,       5090,   904.6,   5.8436,  34.7041,2,  34.7036,2,     74.6,2,    74.8,2,   89.05,2,   36.72,2,    0.01,2,    2.63,2,-999.000,5,-999.000,5,  -999.0,9,  -999.0,9,  -999.0,5,-999.000,1,-999.000,-999.0000,1, -999.00,9, -999.00,9,  -999.0,9,  -999.0,-999.000,9,-999.000,  9172.7,   5.7628,-999.0000, -999.00
 316N145_14,       I02E,    1127,          1,         26,     SIH037,4,19951219,       2239,    -7.9987,    87.3333,       5090,   904.7,   5.8436,  34.7041,2,  34.7036,2,     74.3,2,    74.6,2,   88.72,2,   36.67,2,    0.01,2,    2.63,2,-999.000,5,-999.000,5,  -999.0,9,  -999.0,9,  -999.0,5,-999.000,1,-999.000,-999.0000,1, -999.00,9, -999.00,9,  -999.0,9,  -999.0,-999.000,9,-999.000,  9173.7,   5.7628,-999.0000, -999.00
 316N145_14,       I02E,    1127,          1,         25,     SI9446,4,19951219,       2239,    -7.9987,    87.3333,       5090,   904.8,   5.8436,  34.7040,2,  34.7032,2,     74.2,2,    74.4,2,   88.91,2,   36.80,2,    0.01,2,    2.64,2,-999.000,5,-999.000,5,  -999.0,9,  -999.0,9,  -999.0,5,-999.000,1,-999.000,-999.0000,1, -999.00,9, -999.00,9,  -999.0,9,  -999.0,-999.000,9,-999.000,  9174.7,   5.7628,-999.0000, -999.00
 316N145_14,       I02E,    1127,          1,         24,     SIH036,4,19951219,       2239,    -7.9987,    87.3333,       5090,   904.9,   5.8436,  34.7040,2,  34.7032,2,     74.1,2,    74.4,2,   89.10,2,   36.94,2,    0.01,2,    2.65,2,-999.000,5,-999.000,5,  -999.0,9,  -999.0,9,  -999.0,5,-999.000,1,-999.000,-999.0000,1, -999.00,9, -999.00,9,  -999.0,9,  -999.0,-999.000,9,-999.000,  9175.7,   5.7628,-999.0000, -999.00
 316N145_14,       I02E,    1127,          1,         23,     SIH001,4,19951219,       2239,    -7.9987,    87.3333,       5090,   905.0,   5.8436,  34.7039,2,  34.7028,2,     74.1,2,    74.4,2,   88.94,2,   36.96,2,    0.01,2,    2.64,2,-999.000,5,-999.000,5,  -999.0,9,  -999.0,9,  -999.0,5,-999.000,1,-999.000,-999.0000,1, -999.00,9, -999.00,9,  -999.0,9,  -999.0,-999.000,9,-999.000,  9176.7,   5.7627,-999.0000, -999.00
 316N145_14,       I02E,    1127,          1,         22,     SIH019,2,19951219,       2239,    -7.9987,    87.3333,       5090,   905.1,   5.8436,  34.7039,2,  34.7026,2,     74.6,2,    75.0,2,   88.95,2,   36.86,2,    0.01,2,    2.64,2,   0.007,2,   0.003,2,  2294.0,2,  2364.4,2,  -999.0,5,-999.000,1,-999.000,-999.0000,1, -999.00,9, -999.00,9,  -999.0,9,  -999.0,-999.000,9,-999.000,  9177.7,   5.7627,-999.0000, -999.00
 316N145_14,       I02E,    1127,          1,         21,     SIH025,2,19951219,       2239,    -7.9987,    87.3333,       5090,  1005.1,   5.1480,  34.6831,2,  34.6836,2,     81.9,2,    83.0,2,   97.89,2,   36.99,2,    0.01,2,    2.64,2,   0.004,2,   0.002,2,  2300.6,2,  2388.0,3,  -999.0,5,-999.000,1,-999.000,-999.0000,1, -999.00,9, -999.00,9,  -999.0,9,  -999.0,-999.000,9,-999.000, 10178.3,   5.0628,-999.0000, -999.00
 316N145_14,       I02E,    1127,          1,         20,     SIH004,2,19951219,       2239,    -7.9987,    87.3333,       5090,  1105.9,   4.8619,  34.6958,2,  34.6960,2,     86.2,2,    86.7,2,  100.53,2,   37.06,2,    0.01,2,    2.65,2,   0.001,2,   0.003,2,  2304.8,2,  2377.2,2,  -999.0,5,-999.000,1,-999.000,-999.0000,1, -999.00,9, -999.00,9,  -999.0,9,  -999.0,-999.000,9,-999.000, 11188.7,   4.7698,-999.0000, -999.00
 316N145_14,       I02E,    1127,          1,         19,     SIH005,2,19951219,       2239,    -7.9987,    87.3333,       5090,  1206.4,   4.4776,  34.7134,2,  34.7138,2,     91.2,2,    92.4,2,  103.16,2,   37.19,2,    0.01,2,    2.65,2,  -0.001,2,  -0.001,2,  2306.7,2,  2387.4,2,  -999.0,5,-999.000,1,-999.000,-999.0000,1, -999.00,9, -999.00,9,  -999.0,9,  -999.0,-999.000,9,-999.000, 12193.1,   4.3797,-999.0000, -999.00
 316N145_14,       I02E,    1127,          1,         18,     SIH006,2,19951219,       2239,    -7.9987,    87.3333,       5090,  1307.1,   4.1739,  34.7305,2,  34.7290,2,     97.1,2,    97.2,2,  105.45,2,   37.09,2,    0.01,2,    2.65,2,-999.000,5,-999.000,5,  2308.0,2,  2383.4,2,  -999.0,5,-999.000,1,-999.000,-999.0000,1, -999.00,9, -999.00,9,  -999.0,9,  -999.0,-999.000,9,-999.000, 13200.4,   4.0698,-999.0000, -999.00
 316N145_14,       I02E,    1127,          1,         17,     SIH038,2,19951219,       2239,    -7.9987,    87.3333,       5090,  1407.4,   3.7637,  34.7370,2,  34.7360,2,    105.3,2,   105.6,2,  108.62,2,   36.87,2,    0.01,2,    2.62,2,  -0.001,2,  -0.002,2,  2307.5,2,  2387.9,2,  -999.0,5,-999.000,1,-999.000,-999.0000,1, -999.00,9, -999.00,9,  -999.0,9,  -999.0,-999.000,9,-999.000, 14203.8,   3.6549,-999.0000, -999.00
 316N145_14,       I02E,    1127,          1,         16,     SIH008,2,19951219,       2239,    -7.9987,    87.3333,       5090,  1609.0,   3.1525,  34.7490,2,  34.7465,2,    118.7,2,   119.1,2,  114.76,2,   36.35,2,    0.01,2,    2.57,2,-999.000,5,-999.000,5,  2307.8,2,  2398.4,2,  -999.0,5,-999.000,1,-999.000,-999.0000,1, -999.00,9, -999.00,9,  -999.0,9,  -999.0,-999.000,9,-999.000, 16220.1,   3.0332,-999.0000, -999.00
 316N145_14,       I02E,    1127,          1,         15,     SIH009,2,19951219,       2239,    -7.9987,    87.3333,       5090,  1811.5,   2.7137,  34.7481,2,  34.7478,2,    131.9,2,   131.3,2,  117.93,2,   35.70,2,    0.01,2,    2.52,2,-999.000,5,-999.000,5,  2305.7,2,  2397.4,2,  -999.0,5,-999.000,1,-999.000,-999.0000,1, -999.00,9, -999.00,9,  -999.0,9,  -999.0,-999.000,9,-999.000, 18246.3,   2.5826,-999.0000, -999.00
 316N145_14,       I02E,    1127,          1,         14,     SIH010,2,19951219,       2239,    -7.9987,    87.3333,       5090,  2008.7,   2.4051,  34.7465,2,  34.7478,2,    139.7,2,   140.3,2,  121.11,2,   35.36,2,    0.01,2,    2.48,2,   0.000,2,   0.002,2,  2303.5,2,  2405.9,2,  -999.0,5,-999.000,1,-999.000,-999.0000,1, -999.00,9, -999.00,9,  -999.0,9,  -999.0,-999.000,9,-999.000, 20218.7,   2.2614,-999.0000, -999.00
 316N145_14,       I02E,    1127,          1,         13,     SIH011,2,19951219,       2239,    -7.9987,    87.3333,       5090,  2256.3,   2.0756,  34.7384,2,  34.7374,2,    150.8,2,   152.2,2,  123.40,2,   34.72,2,    0.01,2,    2.42,2,-999.000,5,-999.000,5,  2301.1,2,  2401.0,2,  -999.0,5,-999.000,1,-999.000,-999.0000,1, -999.00,9, -999.00,9,  -999.0,9,  -999.0,-999.000,9,-999.000, 22695.6,   1.9155,-999.0000, -999.00
 316N145_14,       I02E,    1127,          1,         12,     SIH012,2,19951219,       2239,    -7.9987,    87.3333,       5090,  2504.5,   1.8821,  34.7340,2,  34.7333,2,    157.9,2,   158.7,2,  125.35,2,   34.43,2,    0.01,2,    2.39,2,-999.000,5,-999.000,5,  2299.4,2,  2410.0,2,  -999.0,5,-999.000,1,-999.000,-999.0000,1, -999.00,9, -999.00,9,  -999.0,9,  -999.0,-999.000,9,-999.000, 25179.2,   1.7033,-999.0000, -999.00
 316N145_14,       I02E,    1127,          1,         11,     SI9426,2,19951219,       2239,    -7.9987,    87.3333,       5090,  2757.0,   1.7176,  34.7293,2,  34.7290,2,    164.0,2,   164.4,2,  127.12,2,   34.33,2,    0.01,2,    2.38,2,-999.000,5,-999.000,5,  2298.5,2,  2407.8,2,  -999.0,5,-999.000,1,-999.000,-999.0000,1, -999.00,9, -999.00,9,  -999.0,9,  -999.0,-999.000,9,-999.000, 27704.5,   1.5188,-999.0000, -999.00
 316N145_14,       I02E,    1127,          1,         10,     SIH014,2,19951219,       2239,    -7.9987,    87.3333,       5090,  3001.7,   1.5909,  34.7263,2,  34.7254,2,    165.5,2,   166.4,2,  131.18,2,   34.10,2,    0.01,2,    2.37,2,-999.000,5,-999.000,5,  2302.3,2,  2418.4,3,  -999.0,5,-999.000,1,-999.000,-999.0000,1, -999.00,9, -999.00,9,  -999.0,9,  -999.0,-999.000,9,-999.000, 30152.9,   1.3717,-999.0000, -999.00
 316N145_14,       I02E,    1127,          1,          9,     SIH015,2,19951219,       2239,    -7.9987,    87.3333,       5090,  3248.7,   1.4986,  34.7228,2,  34.7237,2,    167.7,2,   168.6,2,  133.13,2,   34.18,2,    0.00,2,    2.36,2,  -0.001,2,  -0.001,2,  2303.1,2,  2413.0,2,  -999.0,5,-999.000,1,-999.000,-999.0000,1, -999.00,9, -999.00,9,  -999.0,9,  -999.0,-999.000,9,-999.000, 32624.0,   1.2575,-999.0000, -999.00
 316N145_14,       I02E,    1127,          1,          8,     SIH016,2,19951219,       2239,    -7.9987,    87.3333,       5090,  3500.0,   1.4347,  34.7209,2,  34.7213,2,    170.5,2,   171.6,2,  134.03,2,   34.31,2,    0.01,2,    2.37,2,-999.000,5,-999.000,5,  2302.9,2,  2415.1,2,  -999.0,5,-999.000,1,-999.000,-999.0000,1, -999.00,9, -999.00,9,  -999.0,9,  -999.0,-999.000,9,-999.000, 35138.3,   1.1699,-999.0000, -999.00
 316N145_14,       I02E,    1127,          1,          7,     SIH017,2,19951219,       2239,    -7.9987,    87.3333,       5090,  3753.6,   1.3915,  34.7196,2,  34.7191,2,    173.9,2,   174.6,2,  134.23,2,   33.96,2,    0.01,2,    2.34,2,-999.000,5,-999.000,5,  2300.7,2,  2416.1,2,  -999.0,5,-999.000,1,-999.000,-999.0000,1, -999.00,9, -999.00,9,  -999.0,9,  -999.0,-999.000,9,-999.000, 37675.6,   1.1017,-999.0000, -999.00
 316N145_14,       I02E,    1127,          1,          6,     SIH018,2,19951219,       2239,    -7.9987,    87.3333,       5090,  4002.9,   1.3772,  34.7180,2,  34.7186,2,    176.2,2,   176.7,2,  134.08,2,   33.98,2,    0.01,2,    2.33,2,-999.000,5,-999.000,5,  2299.2,2,  2413.6,2,  -999.0,5,-999.000,1,-999.000,-999.0000,1, -999.00,9, -999.00,9,  -999.0,9,  -999.0,-999.000,9,-999.000, 40169.4,   1.0612,-999.0000, -999.00
 316N145_14,       I02E,    1127,          1,          5,     SIH002,2,19951219,       2239,    -7.9987,    87.3333,       5090,  4253.3,   1.3561,  34.7179,2,  34.7176,2,    180.1,2,   181.1,2,  132.17,2,   33.81,2,    0.01,2,    2.33,2,-999.000,5,-999.000,5,  2294.3,2,  2409.9,2,  -999.0,5,-999.000,1,-999.000,-999.0000,1, -999.00,9, -999.00,9,  -999.0,9,  -999.0,-999.000,9,-999.000, 42674.5,   1.0132,-999.0000, -999.00
 316N145_14,       I02E,    1127,          1,          4,     SIH020,2,19951219,       2239,    -7.9987,    87.3333,       5090,  4500.1,   1.3344,  34.7160,2,  34.7150,2,    183.8,2,   183.7,2,  130.96,2,   33.52,2,    0.01,2,    2.30,2,-999.000,5,-999.000,5,  2291.6,2,  2413.1,2,  -999.0,5,-999.000,1,-999.000,-999.0000,1, -999.00,9, -999.00,9,  -999.0,9,  -999.0,-999.000,9,-999.000, 45143.0,   0.9643,-999.0000, -999.00
 316N145_14,       I02E,    1127,          1,          3,     SIH021,2,19951219,       2239,    -7.9987,    87.3333,       5090,  4750.4,   1.3457,  34.7160,2,  34.7158,2,    184.7,2,   185.4,2,  130.46,2,   33.30,2,    0.01,2,    2.28,2,-999.000,5,-999.000,5,  2289.1,2,  2407.3,2,  -999.0,5,-999.000,1,-999.000,-999.0000,1, -999.00,9, -999.00,9,  -999.0,9,  -999.0,-999.000,9,-999.000, 47647.5,   0.9462,-999.0000, -999.00
 316N145_14,       I02E,    1127,          1,          2,     SIH022,2,19951219,       2239,    -7.9987,    87.3333,       5090,  4996.2,   1.3633,  34.7160,2,  34.7148,2,    186.8,2,   187.1,2,  129.44,2,   33.32,2,    0.01,2,    2.27,2,-999.000,5,-999.000,5,  2287.7,2,  2406.1,2,  -999.0,5,-999.000,1,-999.000,-999.0000,1, -999.00,9, -999.00,9,  -999.0,9,  -999.0,-999.000,9,-999.000, 50105.5,   0.9339,-999.0000, -999.00
 316N145_14,       I02E,    1127,          1,          1,     SIH023,2,19951219,       2239,    -7.9987,    87.3333,       5090,  5194.9,   1.3849,  34.7153,2,  34.7134,4,    185.7,2,   187.1,2,  129.08,6,   33.22,6,    0.01,6,    2.28,6,   0.000,2,  -0.001,2,  2290.8,2,  2403.3,2,  -999.0,5,-999.000,1,-999.000,-999.0000,1, -999.00,9, -999.00,9,  -999.0,9,  -999.0,-999.000,9,-999.000, 52094.4,   0.9305,-999.0000, -999.00