BOTTLE,20220829CCHSIOAMB
EXPOCODE,SECT_ID,STNNBR,CASTNO,SAMPNO,BTLNBR,BTLNBR_FLAG_W,DATE,TIME,LATITUDE,LONGITUDE,DEPTH,CTDPRS,CTDTMP,CTDSAL,CTDSAL_FLAG_W,SALNTY,SALNTY_FLAG_W,CTDOXY,CTDOXY_FLAG_W,OXYGEN,OXYGEN_FLAG_W,SILCAT,SILCAT_FLAG_W,NITRAT,NITRAT_FLAG_W,NITRIT,NITRIT_FLAG_W,PHSPHT,PHSPHT_FLAG_W,CFC-11,CFC-11_FLAG_W,CFC-12,CFC-12_FLAG_W,TCARBN,TCARBN_FLAG_W,ALKALI,ALKALI_FLAG_W,PCO2,PCO2_FLAG_W,TRITUM,TRITUM_FLAG_W,TRITER,HELIUM,HELIUM_FLAG_W,DELHE3,DELHE3_FLAG_W,DELC13,DELC13_FLAG_W,DELC14,DELC14_FLAG_W,C14ERR,NEON,NEON_FLAG_W,NEONER,CTDRAW,THETA,HELIER,DELHER
,,,,,,,,,,,METERS,DBAR,ITS-90,PSS-78,,PSS-78,,UMOL/KG,,UMOL/KG,,UMOL/KG,,UMOL/KG,,UMOL/KG,,UMOL/KG,,PMOL/KG,,PMOL/KG,,UMOL/KG,,UMOL/KG,,UATM,,TU,,TU,NMOL/KG,,PERCNT,,/MILLE,,/MILLE,,/MILLE,NMOL/KG,,NMOL/KG,DBAR,DEG C,NMOL/KG,PERCNT
 316N145_14,       I02E,    1098,          1,         36,     SIH024,2,19951211,       2009,    -8.0000,    92.6667,       5155,    12.0,  26.9477,  34.3852,2,  34.3864,2,    209.9,2,   204.9,2,    3.64,2,    0.16,2,    0.00,2,    0.17,2,   1.637,2,   0.945,2,  1937.4,2,  2258.2,2,  -999.0,5,-999.000,1,-999.000,-999.0000,1, -999.00,9, -999.00,9,  -999.0,9,  -999.0,-999.000,9,-999.000,   264.1,  26.9450,-999.0000, -999.00
 316N145_14,       I02E,    1098,          1,         35,     SIH003,3,19951211,       2009,    -8.0000,    92.6667,       5155,    36.9,  26.8982,  34.3881,2,  34.3913,2,    207.8,2,   207.7,2,    3.46,2,    0.16,2,    0.00,2,    0.17,2,-999.000,5,-999.000,5,  1938.1,2,  2255.2,2,  -999.0,5,-999.000,1,-999.000,-999.0000,1, -999.00,9, -999.00,9,  -999.0,9,  -999.0,-999.000,9,-999.000,   508.8,  26.8898,-999.0000, -999.00
 316N145_14,       I02E,    1098,          1,         34,     SIH026,2,19951211,       2009,    -8.0000,    92.6667,       5155,    66.7,  23.0143,  34.6999,2,  34.7225,2,     93.6,2,   125.1,2,   11.43,2,   10.71,2,    0.27,2,    0.87,2,   1.463,2,   0.818,2,  2055.2,2,  2276.6,2,  -999.0,5,-999.000,1,-999.000,-999.0000,1, -999.00,9, -999.00,9,  -999.0,9,  -999.0,-999.000,9,-999.000,   801.5,  23.0007,-999.0000, -999.00
 316N145_14,       I02E,    1098,          1,         33,     SIH027,2,19951211,       2009,    -8.0000,    92.6667,       5155,   107.7,  17.5516,  34.7291,2,  34.7099,2,     84.6,2,    89.0,2,   23.55,2,   19.93,2,    0.03,2,    1.43,2,   1.178,2,   0.635,2,  2126.7,2,  2290.6,2,  -999.0,5,-999.000,1,-999.000,-999.0000,1, -999.00,9, -999.00,9,  -999.0,9,  -999.0,-999.000,9,-999.000,  1203.3,  17.5335,-999.0000, -999.00
 316N145_14,       I02E,    1098,          1,         32,     SIH028,2,19951211,       2009,    -8.0000,    92.6667,       5155,   156.8,  14.5268,  34.9043,2,  34.9002,2,     59.3,2,    61.2,2,   26.82,2,   25.76,2,    0.01,2,    1.81,2,   0.788,2,   0.410,2,  2182.3,2,  2301.5,2,  -999.0,5,-999.000,1,-999.000,-999.0000,1, -999.00,9, -999.00,9,  -999.0,9,  -999.0,-999.000,9,-999.000,  1693.2,  14.5036,-999.0000, -999.00
 316N145_14,       I02E,    1098,          1,         31,     SIH029,2,19951211,       2009,    -8.0000,    92.6667,       5155,   207.3,  12.0303,  34.8435,2,  34.8465,2,     69.2,2,    67.2,2,   32.44,2,   27.93,2,    0.00,2,    1.95,2,   0.537,2,   0.272,2,  2203.6,2,  2312.0,2,  -999.0,5,-999.000,1,-999.000,-999.0000,1, -999.00,9, -999.00,9,  -999.0,9,  -999.0,-999.000,9,-999.000,  2198.3,  12.0033,-999.0000, -999.00
 316N145_14,       I02E,    1098,          1,         30,     SIH030,2,19951211,       2009,    -8.0000,    92.6667,       5155,   257.2,  11.2580,  34.8593,2,  34.8585,2,     62.3,2,    60.8,2,   33.53,2,   29.57,2,    0.00,2,    2.04,2,   0.340,2,   0.171,2,  2215.2,2,  2308.5,2,  -999.0,5,-999.000,1,-999.000,-999.0000,1, -999.00,9, -999.00,9,  -999.0,9,  -999.0,-999.000,9,-999.000,  2697.5,  11.2258,-999.0000, -999.00
 316N145_14,       I02E,    1098,          1,         29,     SIH031,2,19951211,       2009,    -8.0000,    92.6667,       5155,   306.9,  10.6494,  34.8733,2,  34.8705,2,     63.3,2,    62.3,2,   34.26,2,   30.58,2,    0.01,2,    2.09,2,   0.252,6,   0.129,6,  2221.5,2,  2314.7,2,  -999.0,5,-999.000,1,-999.000,-999.0000,1, -999.00,9, -999.00,9,  -999.0,9,  -999.0,-999.000,9,-999.000,  3195.5,  10.6122,-999.0000, -999.00
 316N145_14,       I02E,    1098,          1,         28,     SIH032,3,19951211,       2009,    -8.0000,    92.6667,       5155,   356.7,  10.2405,  34.8773,2,  34.8701,2,     70.1,2,    70.1,2,   32.82,2,   30.64,2,    0.01,2,    2.08,2,-999.000,5,-999.000,5,  2219.0,2,  2310.7,2,  -999.0,5,-999.000,1,-999.000,-999.0000,1, -999.00,9, -999.00,9,  -999.0,9,  -999.0,-999.000,9,-999.000,  3692.6,  10.1983,-999.0000, -999.00
 316N145_14,       I02E,    1098,          1,         27,     SIH033,2,19951211,       2009,    -8.0000,    92.6667,       5155,   404.5,   9.7730,  34.8466,2,  34.8456,2,     87.4,2,    82.0,2,   32.83,2,   30.43,2,    0.00,2,    2.07,2,   0.201,2,   0.102,2,  2216.6,2,  2311.8,2,  -999.0,5,-999.000,1,-999.000,-999.0000,1, -999.00,9, -999.00,9,  -999.0,9,  -999.0,-999.000,9,-999.000,  4170.5,   9.7263,-999.0000, -999.00
 316N145_14,       I02E,    1098,          1,         26,     SIH037,2,19951211,       2009,    -8.0000,    92.6667,       5155,   505.1,   8.6834,  34.8098,2,  34.8082,2,     69.5,2,    72.1,2,   46.43,2,   33.19,2,    0.00,2,    2.34,2,   0.058,2,   0.030,2,  2239.3,2,  2319.8,2,  -999.0,5,-999.000,1,-999.000,-999.0000,1, -999.00,9, -999.00,9,  -999.0,9,  -999.0,-999.000,9,-999.000,  5176.7,   8.6289,-999.0000, -999.00
 316N145_14,       I02E,    1098,          1,         25,     SI9446,3,19951211,       2009,    -8.0000,    92.6667,       5155,   606.5,   7.8680,  34.7960,2,  34.7539,4,     60.6,2,   129.9,4,   88.14,4,   34.94,4,    0.00,4,    2.50,4,   0.012,2,   0.004,2,  2280.3,4,  2370.7,4,  -999.0,5,-999.000,1,-999.000,-999.0000,1, -999.00,9, -999.00,9,  -999.0,9,  -999.0,-999.000,9,-999.000,  6191.8,   7.8058,-999.0000, -999.00
 316N145_14,       I02E,    1098,          1,         24,     SIH036,2,19951211,       2009,    -8.0000,    92.6667,       5155,   707.5,   7.2889,  34.7813,2,  34.7809,2,     61.1,2,    61.5,2,   69.66,2,   35.85,2,    0.00,2,    2.60,2,   0.014,2,   0.005,2,  2274.5,2,  2345.5,2,  -999.0,5,-999.000,1,-999.000,-999.0000,1, -999.00,9, -999.00,9,  -999.0,9,  -999.0,-999.000,9,-999.000,  7202.5,   7.2189,-999.0000, -999.00
 316N145_14,       I02E,    1098,          1,         23,     SIH001,2,19951211,       2009,    -8.0000,    92.6667,       5155,   807.8,   6.6482,  34.7523,2,  34.7508,2,     65.0,2,    65.7,2,   78.92,2,   36.38,2,    0.00,2,    2.63,2,   0.009,2,   0.003,2,  2284.6,2,  2355.7,2,  -999.0,5,-999.000,1,-999.000,-999.0000,1, -999.00,9, -999.00,9,  -999.0,9,  -999.0,-999.000,9,-999.000,  8204.8,   6.5716,-999.0000, -999.00
 316N145_14,       I02E,    1098,          1,         22,     SIH019,2,19951211,       2009,    -8.0000,    92.6667,       5155,   905.3,   6.0159,  34.7262,2,  34.7221,2,     72.5,2,    72.0,2,   87.29,2,   36.65,2,    0.00,2,    2.67,2,   0.012,2,   0.005,2,  2291.8,2,  2360.6,2,  -999.0,5,-999.000,1,-999.000,-999.0000,1, -999.00,9, -999.00,9,  -999.0,9,  -999.0,-999.000,9,-999.000,  9180.8,   5.9338,-999.0000, -999.00
 316N145_14,       I02E,    1098,          1,         21,     SIH025,2,19951211,       2009,    -8.0000,    92.6667,       5155,  1006.6,   5.4567,  34.7160,2,  34.7107,2,     76.7,2,    77.4,2,   94.74,2,   36.76,2,    0.00,2,    2.68,2,   0.008,2,   0.004,2,  2297.3,2,  2373.8,2,  -999.0,5,-999.000,1,-999.000,   1.8810,2,   13.62,2, -999.00,9,  -999.0,9,  -999.0,   7.875,2,   0.033, 10193.7,   5.3690,   0.0030,    0.15
 316N145_14,       I02E,    1098,          1,         20,     SIH004,2,19951211,       2009,    -8.0000,    92.6667,       5155,  1104.0,   5.0706,  34.7151,2,  34.7160,2,     82.4,2,    81.7,2,   99.66,2,   36.72,2,    0.00,2,    2.69,2,-999.000,5,-999.000,5,  2297.6,2,  2375.5,2,  -999.0,5,-999.000,1,-999.000,-999.0000,5,   14.63,2, -999.00,9,  -999.0,9,  -999.0,-999.000,5,-999.000, 11168.4,   4.9768,-999.0000,    0.20
 316N145_14,       I02E,    1098,          1,         19,     SIH005,2,19951211,       2009,    -8.0000,    92.6667,       5155,  1205.6,   4.6578,  34.7018,2,  34.7028,2,     89.0,2,    88.4,2,  104.41,2,   36.67,2,    0.00,2,    2.67,2,   0.005,2,   0.000,2,  2305.5,2,  2383.5,2,  -999.0,5,-999.000,1,-999.000,   1.9170,2,   14.51,2, -999.00,9,  -999.0,9,  -999.0,   8.008,2,   0.033, 12184.8,   4.5583,   0.0030,    0.15
 316N145_14,       I02E,    1098,          1,         18,     SIH006,2,19951211,       2009,    -8.0000,    92.6667,       5155,  1407.2,   4.0306,  34.7222,2,  34.7243,2,    102.0,2,    98.5,2,  108.96,2,   36.57,2,    0.00,2,    2.66,2,-999.000,5,-999.000,5,  2308.7,2,  2384.8,2,  -999.0,5,-999.000,1,-999.000,   1.9210,2,   14.07,2, -999.00,9,  -999.0,9,  -999.0,   8.021,2,   0.033, 14201.7,   3.9191,   0.0030,    0.15
 316N145_14,       I02E,    1098,          1,         17,     SIH038,2,19951211,       2009,    -8.0000,    92.6667,       5155,  1608.2,   3.4001,  34.7442,2,  34.7439,2,    112.3,2,   113.1,2,  113.52,2,   36.25,2,    0.01,2,    2.62,2,   0.001,2,  -0.002,2,  2308.6,2,  2389.9,2,  -999.0,5,-999.000,1,-999.000,   2.0400,4,   12.73,3, -999.00,9,  -999.0,9,  -999.0,   8.395,4,   0.035, 16212.8,   3.2778,   0.0030,    0.15
 316N145_14,       I02E,    1098,          1,         16,     SIH008,2,19951211,       2009,    -8.0000,    92.6667,       5155,  1803.8,   2.9258,  34.7502,2,  34.7506,2,    125.3,2,   125.0,2,  117.71,2,   35.78,2,    0.01,2,    2.57,2,-999.000,5,-999.000,5,  2307.7,2,  2394.7,2,  -999.0,5,-999.000,1,-999.000,-999.0000,5, -999.00,5, -999.00,9,  -999.0,9,  -999.0,  14.200,4,   0.058, 18168.4,   2.7924,-999.0000, -999.00
 316N145_14,       I02E,    1098,          1,         15,     SIH009,2,19951211,       2009,    -8.0000,    92.6667,       5155,  2005.7,   2.5401,  34.7459,2,  34.7459,2,    135.7,2,   135.6,2,  121.37,2,   35.37,2,    0.00,2,    2.53,2,   0.000,2,  -0.001,2,  2307.4,2,  2400.1,2,  -999.0,5,-999.000,1,-999.000,   1.9580,3,   13.86,2, -999.00,9,  -999.0,9,  -999.0,   8.242,3,   0.034, 20188.9,   2.3946,   0.0030,    0.15
 316N145_14,       I02E,    1098,          1,         14,     SIH010,2,19951211,       2009,    -8.0000,    92.6667,       5155,  2254.5,   2.2270,  34.7424,2,  34.7421,2,    146.1,2,   146.3,2,  124.13,2,   34.90,2,    0.01,2,    2.48,2,-999.000,5,-999.000,5,  2304.6,2,  2400.5,2,  -999.0,5,-999.000,1,-999.000,   1.9130,2,   14.17,2, -999.00,9,  -999.0,9,  -999.0,   1.545,4,   0.007, 22678.2,   2.0645,   0.0030,    0.15
 316N145_14,       I02E,    1098,          1,         13,     SIH011,2,19951211,       2009,    -8.0000,    92.6667,       5155,  2503.1,   1.9888,  34.7373,2,  34.7372,2,    152.2,2,   154.5,2,  126.33,2,   34.48,2,    0.00,2,    2.44,2,-999.000,5,-999.000,5,  2302.5,2,  2403.7,2,  -999.0,5,-999.000,1,-999.000,   1.9150,2,   14.00,2, -999.00,9,  -999.0,9,  -999.0,   8.104,2,   0.034, 25164.9,   1.8081,   0.0030,    0.15
 316N145_14,       I02E,    1098,          1,         12,     SIH012,2,19951211,       2009,    -8.0000,    92.6667,       5155,  2751.1,   1.8324,  34.7324,2,  34.7325,2,    158.6,2,   159.6,2,  127.81,2,   34.23,2,    0.00,2,    2.40,2,  -0.001,2,  -0.002,2,  2302.6,2,  2405.0,2,  -999.0,5,-999.000,1,-999.000,   1.9170,2,   13.89,2, -999.00,9,  -999.0,9,  -999.0,   8.102,2,   0.049, 27647.4,   1.6318,   0.0030,    0.16
 316N145_14,       I02E,    1098,          1,         11,     SI9426,2,19951211,       2009,    -8.0000,    92.6667,       5155,  3002.0,   1.6922,  34.7286,2,  34.7268,2,    164.3,2,   164.3,2,  129.65,2,   33.96,2,    0.00,2,    2.38,2,-999.000,5,-999.000,5,  2302.1,2,  2471.4,4,  -999.0,5,-999.000,1,-999.000,   1.9260,2,   13.31,2, -999.00,9,  -999.0,9,  -999.0,   8.151,2,   0.033, 30157.0,   1.4707,   0.0050,    0.16
 316N145_14,       I02E,    1098,          1,         10,     SIH014,2,19951211,       2009,    -8.0000,    92.6667,       5155,  3249.7,   1.5436,  34.7235,2,  34.7239,2,    169.9,2,   169.2,2,  131.14,2,   33.82,2,    0.00,2,    2.38,2,-999.000,5,-999.000,5,  2300.4,2,  2407.0,2,  -999.0,5,-999.000,1,-999.000,-999.0000,1, -999.00,9, -999.00,9,  -999.0,9,  -999.0,-999.000,9,-999.000, 32634.9,   1.3014,-999.0000, -999.00
 316N145_14,       I02E,    1098,          1,          9,     SIH015,2,19951211,       2009,    -8.0000,    92.6667,       5155,  3497.9,   1.3757,  34.7190,2,  34.7195,2,    176.8,2,   177.6,2,  131.16,2,   33.55,2,    0.00,2,    2.35,2,-999.000,5,-999.000,5,  2295.2,2,  2403.5,2,  -999.0,5,-999.000,1,-999.000,   1.9180,2,   12.48,2, -999.00,9,  -999.0,9,  -999.0,   8.172,2,   0.050, 35118.1,   1.1127,   0.0030,    0.16
 316N145_14,       I02E,    1098,          1,          8,     SIH016,2,19951211,       2009,    -8.0000,    92.6667,       5155,  3754.7,   1.2396,  34.7155,2,  34.7156,2,    185.0,2,   185.2,2,  130.09,2,   33.19,2,    0.00,2,    2.31,2,  -0.002,2,  -0.002,2,  2289.4,2,  2402.1,2,  -999.0,5,-999.000,1,-999.000,-999.0000,1, -999.00,9, -999.00,9,  -999.0,9,  -999.0,-999.000,9,-999.000, 37686.6,   0.9538,-999.0000, -999.00
 316N145_14,       I02E,    1098,          1,          7,     SIH017,2,19951211,       2009,    -8.0000,    92.6667,       5155,  4004.1,   1.1746,  34.7137,2,  34.7138,2,    189.1,2,   190.5,2,  128.48,2,   32.98,2,    0.00,2,    2.28,2,-999.000,5,-999.000,5,  2284.3,2,  2399.1,2,  -999.0,5,-999.000,1,-999.000,   1.9050,2,   11.47,2, -999.00,9,  -999.0,9,  -999.0,   8.141,2,   0.033, 40182.0,   0.8643,   0.0050,    0.16
 316N145_14,       I02E,    1098,          1,          6,     SIH018,2,19951211,       2009,    -8.0000,    92.6667,       5155,  4253.9,   1.1392,  34.7120,2,  34.7125,2,    195.0,2,   195.3,2,  127.24,2,   32.72,2,    0.00,2,    2.27,2,-999.000,5,-999.000,5,  2278.6,2,  2396.4,2,  -999.0,5,-999.000,1,-999.000,-999.0000,1, -999.00,9, -999.00,9,  -999.0,9,  -999.0,-999.000,9,-999.000, 42680.6,   0.8028,-999.0000, -999.00
 316N145_14,       I02E,    1098,          1,          5,     SIH002,2,19951211,       2009,    -8.0000,    92.6667,       5155,  4498.3,   1.1466,  34.7125,2,  34.7123,2,    196.9,2,   207.9,4,  126.71,2,   32.67,2,    0.01,2,    2.26,2,-999.000,5,-999.000,5,  2277.2,2,  2391.7,2,  -999.0,5,-999.000,1,-999.000,   1.9160,2,   10.86,2, -999.00,9,  -999.0,9,  -999.0,   8.201,2,   0.034, 45125.6,   0.7827,   0.0050,    0.16
 316N145_14,       I02E,    1098,          1,          4,     SIH020,2,19951211,       2009,    -8.0000,    92.6667,       5155,  4749.1,   1.1682,  34.7119,2,  34.7121,2,    198.0,2,   197.1,2,  126.02,2,   32.57,2,    0.01,2,    2.25,2,   0.000,2,   0.001,2,  2276.4,2,  2392.5,2,  -999.0,5,-999.000,1,-999.000,-999.0000,1, -999.00,9, -999.00,9,  -999.0,9,  -999.0,-999.000,9,-999.000, 47634.4,   0.7747,-999.0000, -999.00
 316N145_14,       I02E,    1098,          1,          3,     SIH021,2,19951211,       2009,    -8.0000,    92.6667,       5155,  5005.0,   1.1955,  34.7123,2,  34.7123,2,    197.6,2,   197.6,2,  125.85,2,   32.53,2,    0.01,2,    2.25,2,-999.000,5,-999.000,5,  2275.7,2,  2390.8,2,  -999.0,5,-999.000,1,-999.000,   1.8980,2,   10.46,2, -999.00,9,  -999.0,9,  -999.0,   8.147,2,   0.033, 50194.1,   0.7708,   0.0050,    0.16
 316N145_14,       I02E,    1098,          1,          2,     SIH022,2,19951211,       2009,    -8.0000,    92.6667,       5155,  5154.2,   1.2110,  34.7120,2,  34.7136,2,    198.5,2,   198.2,2,  125.52,2,   32.53,2,    0.01,2,    2.24,2,-999.000,5,-999.000,5,  2275.5,2,  2390.1,2,  -999.0,5,-999.000,1,-999.000,-999.0000,1, -999.00,9, -999.00,9,  -999.0,9,  -999.0,-999.000,9,-999.000, 51686.7,   0.7677,-999.0000, -999.00
 316N145_14,       I02E,    1098,          1,          1,     SIH023,2,19951211,       2009,    -8.0000,    92.6667,       5155,  5252.8,   1.2212,  34.7123,2,  34.7123,2,    198.6,2,   197.9,2,  125.41,6,   32.42,6,    0.01,6,    2.24,6,  -0.001,2,  -0.002,2,  2275.3,2,  2389.7,2,  -999.0,5,-999.000,1,-999.000,   1.8660,3,   10.52,2, -999.00,9,  -999.0,9,  -999.0,   7.895,3,   0.032, 52676.3,   0.7655,   0.0050,    0.16