BOTTLE,20220829CCHSIOAMB
EXPOCODE,SECT_ID,STNNBR,CASTNO,SAMPNO,BTLNBR,BTLNBR_FLAG_W,DATE,TIME,LATITUDE,LONGITUDE,DEPTH,CTDPRS,CTDTMP,CTDSAL,CTDSAL_FLAG_W,SALNTY,SALNTY_FLAG_W,CTDOXY,CTDOXY_FLAG_W,OXYGEN,OXYGEN_FLAG_W,SILCAT,SILCAT_FLAG_W,NITRAT,NITRAT_FLAG_W,NITRIT,NITRIT_FLAG_W,PHSPHT,PHSPHT_FLAG_W,CFC-11,CFC-11_FLAG_W,CFC-12,CFC-12_FLAG_W,TCARBN,TCARBN_FLAG_W,ALKALI,ALKALI_FLAG_W,PCO2,PCO2_FLAG_W,TRITUM,TRITUM_FLAG_W,TRITER,HELIUM,HELIUM_FLAG_W,DELHE3,DELHE3_FLAG_W,DELC13,DELC13_FLAG_W,DELC14,DELC14_FLAG_W,C14ERR,NEON,NEON_FLAG_W,NEONER,CTDRAW,THETA,HELIER,DELHER
,,,,,,,,,,,METERS,DBAR,ITS-90,PSS-78,,PSS-78,,UMOL/KG,,UMOL/KG,,UMOL/KG,,UMOL/KG,,UMOL/KG,,UMOL/KG,,PMOL/KG,,PMOL/KG,,UMOL/KG,,UMOL/KG,,UATM,,TU,,TU,NMOL/KG,,PERCNT,,/MILLE,,/MILLE,,/MILLE,NMOL/KG,,NMOL/KG,DBAR,DEG C,NMOL/KG,PERCNT
 316N145_14,       I02E,    1143,          1,         36,     SIH024,2,19951224,       1642,    -8.0003,    76.6662,       5260,    12.6,  28.4485,  34.1037,2,  34.1144,2,    193.8,2,   206.9,2,    3.09,2,    0.09,2,    0.00,2,    0.10,3,   1.610,2,   0.923,2,  1897.6,2,  2236.1,2,  -999.0,5,-999.000,1,-999.000,-999.0000,1, -999.00,9,    1.27,2,    67.0,2,     2.6,-999.000,9,-999.000,   264.2,  28.4455,-999.0000, -999.00
 316N145_14,       I02E,    1143,          1,         35,     SIH003,2,19951224,       1642,    -8.0003,    76.6662,       5260,    38.2,  24.6582,  35.1681,2,  34.7186,4,    168.4,2,   183.5,4,  132.67,4,   32.95,4,    0.00,4,    2.29,4,   0.005,4,   0.003,4,  2295.9,4,  2416.3,4,  -999.0,5,-999.000,1,-999.000,-999.0000,1, -999.00,9, -999.00,9,  -999.0,9,  -999.0,-999.000,9,-999.000,   515.4,  24.6500,-999.0000, -999.00
 316N145_14,       I02E,    1143,          1,         34,     SIH026,2,19951224,       1642,    -8.0003,    76.6662,       5260,    67.9,  21.0548,  35.1633,2,  35.1616,2,    107.1,2,   121.1,2,   10.92,2,   12.15,2,    0.36,2,    0.97,3,   1.500,2,   0.816,2,  2088.8,2,  2306.3,2,  -999.0,5,-999.000,1,-999.000,-999.0000,1, -999.00,9,    0.59,2,    51.8,2,     3.0,-999.000,9,-999.000,   808.4,  21.0418,-999.0000, -999.00
 316N145_14,       I02E,    1143,          1,         33,     SIH027,3,19951224,       1642,    -8.0003,    76.6662,       5260,   108.2,  17.4907,  35.0931,2,  35.0988,2,     92.4,2,    90.0,2,   17.40,2,   18.60,2,    0.04,2,    1.32,3,   1.332,2,   0.710,2,  2137.9,2,  2311.0,2,  -999.0,5,-999.000,1,-999.000,-999.0000,1, -999.00,9, -999.00,9,  -999.0,9,  -999.0,-999.000,9,-999.000,  1207.7,  17.4725,-999.0000, -999.00
 316N145_14,       I02E,    1143,          1,         32,     SIH028,2,19951224,       1642,    -8.0003,    76.6662,       5260,   157.9,  13.8638,  34.9659,2,  34.9640,2,     72.4,2,    69.6,2,   25.42,2,   24.94,2,    0.01,2,    1.73,3,   0.822,2,   0.423,2,  2184.8,2,  2312.0,2,  -999.0,5,-999.000,1,-999.000,-999.0000,1, -999.00,9,    0.18,2,    -4.6,2,     3.5,-999.000,9,-999.000,  1704.8,  13.8411,-999.0000, -999.00
 316N145_14,       I02E,    1143,          1,         31,     SIH029,3,19951224,       1642,    -8.0003,    76.6662,       5260,   207.8,  12.5099,  34.9198,2,  34.9199,2,     71.5,2,    76.7,2,   27.80,2,   25.67,2,    0.00,2,    1.78,3,-999.000,5,-999.000,5,  2192.6,2,  2315.5,2,  -999.0,5,-999.000,1,-999.000,-999.0000,1, -999.00,9, -999.00,9,  -999.0,9,  -999.0,-999.000,9,-999.000,  2203.7,  12.4820,-999.0000, -999.00
 316N145_14,       I02E,    1143,          1,         30,     SIH030,2,19951224,       1642,    -8.0003,    76.6662,       5260,   258.3,  11.6670,  34.9361,2,  34.9366,2,     80.1,2,    93.7,2,   25.59,2,   25.11,2,    0.00,2,    1.73,3,   0.739,6,   0.376,6,  2189.9,2,  2312.5,2,  -999.0,5,-999.000,1,-999.000,-999.0000,1, -999.00,9,    0.49,2,   -11.3,2,     2.9,-999.000,9,-999.000,  2709.1,  11.6338,-999.0000, -999.00
 316N145_14,       I02E,    1143,          1,         29,     SIH007,3,19951224,       1642,    -8.0003,    76.6662,       5260,   298.5,  11.0767,  34.9132,2,  34.9132,2,     87.0,2,   100.6,2,   24.92,2,   25.51,2,    0.00,2,    1.75,3,-999.000,5,-999.000,5,  2190.5,2,  2313.0,2,  -999.0,5,-999.000,1,-999.000,-999.0000,1, -999.00,9, -999.00,9,  -999.0,9,  -999.0,-999.000,9,-999.000,  3111.5,  11.0396,-999.0000, -999.00
 316N145_14,       I02E,    1143,          1,         28,     SI9439,2,19951224,       1642,    -8.0003,    76.6662,       5260,   347.8,  10.4299,  34.8738,2,  34.8735,2,    112.9,2,   114.7,2,   24.25,2,   25.21,2,    0.00,2,    1.73,3,   0.709,2,   0.378,2,  2186.5,2,  2315.2,2,  -999.0,5,-999.000,1,-999.000,-999.0000,1, -999.00,9,    0.63,2,   -14.7,2,     5.3,-999.000,9,-999.000,  3604.3,  10.3882,-999.0000, -999.00
 316N145_14,       I02E,    1143,          1,         27,     SIH033,2,19951224,       1642,    -8.0003,    76.6662,       5260,   398.4,   9.8453,  34.8325,2,  34.8316,2,    115.6,2,   114.5,2,   26.63,2,   26.41,2,    0.01,2,    1.82,3,   0.575,2,   0.290,2,  2192.3,2,  2312.6,2,  -999.0,5,-999.000,1,-999.000,-999.0000,1, -999.00,9,    0.66,2,   -33.7,2,     3.3,-999.000,9,-999.000,  4110.2,   9.7992,-999.0000, -999.00
 316N145_14,       I02E,    1143,          1,         26,     SIH037,2,19951224,       1642,    -8.0003,    76.6662,       5260,   498.3,   8.6851,  34.7863,2,  34.7850,2,     96.9,2,    91.0,2,   41.30,2,   31.17,2,    0.00,2,    2.17,3,   0.161,2,   0.085,2,  2224.9,2,  2326.7,2,  -999.0,5,-999.000,1,-999.000,-999.0000,1, -999.00,9,    0.44,2,   -86.3,2,     2.4,-999.000,9,-999.000,  5109.6,   8.6313,-999.0000, -999.00
 316N145_14,       I02E,    1143,          1,         25,     SI9446,2,19951224,       1642,    -8.0003,    76.6662,       5260,   599.2,   7.9006,  34.7739,2,  34.7734,2,     78.5,2,    76.1,2,   55.30,2,   33.60,2,    0.00,2,    2.40,3,   0.051,2,   0.026,2,  2250.1,2,  2337.2,2,  -999.0,5,-999.000,1,-999.000,-999.0000,1, -999.00,9,    0.29,2,  -121.9,2,     3.0,-999.000,9,-999.000,  6118.9,   7.8390,-999.0000, -999.00
 316N145_14,       I02E,    1143,          1,         24,     SIH036,2,19951224,       1642,    -8.0003,    76.6662,       5260,   699.3,   7.1200,  34.7512,2,  34.7530,2,     71.0,2,    70.6,2,   68.27,2,   35.24,2,    0.00,2,    2.54,3,   0.017,2,   0.008,2,  2269.3,2,  2346.7,2,  -999.0,5,-999.000,1,-999.000,-999.0000,1, -999.00,9,    0.16,2,  -142.3,2,     3.0,-999.000,9,-999.000,  7119.8,   7.0518,-999.0000, -999.00
 316N145_14,       I02E,    1143,          1,         23,     SIH001,2,19951224,       1642,    -8.0003,    76.6662,       5260,   799.9,   6.4789,  34.7335,2,  34.7333,2,     71.3,2,    70.0,2,   79.37,2,   36.04,2,    0.00,2,    2.61,3,   0.007,2,   0.003,2,  2282.1,2,  2358.1,2,  -999.0,5,-999.000,1,-999.000,-999.0000,1, -999.00,9,    0.10,2,  -144.4,2,     3.1,-999.000,9,-999.000,  8125.6,   6.4042,-999.0000, -999.00
 316N145_14,       I02E,    1143,          1,         22,     SIH019,2,19951224,       1642,    -8.0003,    76.6662,       5260,   900.3,   5.8212,  34.7115,2,  34.7119,2,     76.3,2,    76.0,2,   88.43,2,   36.26,2,    0.00,2,    2.64,3,   0.003,2,   0.002,2,  2290.8,2,  2367.1,2,  -999.0,5,-999.000,1,-999.000,-999.0000,1, -999.00,9,    0.02,2,  -164.3,2,     2.4,-999.000,9,-999.000,  9129.8,   5.7409,-999.0000, -999.00
 316N145_14,       I02E,    1143,          1,         21,     SIH013,2,19951224,       1642,    -8.0003,    76.6662,       5260,  1000.4,   5.3159,  34.7040,2,  34.7040,2,     81.9,2,    80.8,2,   95.44,2,   36.31,2,    0.00,2,    2.64,3,   0.003,2,   0.001,2,  2298.2,2,  2377.0,2,  -999.0,5,-999.000,1,-999.000,-999.0000,1, -999.00,9,    0.11,2,  -171.5,2,     3.6,-999.000,9,-999.000, 10131.7,   5.2299,-999.0000, -999.00
 316N145_14,       I02E,    1143,          1,         20,     SIH004,2,19951224,       1642,    -8.0003,    76.6662,       5260,  1096.1,   5.0104,  34.7180,2,  34.7180,2,     84.3,2,    83.2,2,   99.04,6,   36.53,6,    0.00,6,    2.67,3,   0.002,2,   0.000,2,  2301.4,2,  2378.8,2,  -999.0,5,-999.000,1,-999.000,-999.0000,1, -999.00,9,   -0.04,2,  -173.6,2,     2.6,-999.000,9,-999.000, 11090.1,   4.9179,-999.0000, -999.00
 316N145_14,       I02E,    1143,          1,         19,     SIH005,2,19951224,       1642,    -8.0003,    76.6662,       5260,  1191.8,   4.7183,  34.7279,2,  34.7282,2,     90.2,2,    86.7,2,  102.13,2,   36.53,2,    0.00,2,    2.66,3,   0.002,2,  -0.002,2,  2303.8,2,  2381.7,2,  -999.0,5,-999.000,1,-999.000,-999.0000,1, -999.00,9,    0.10,2,  -176.9,2,     3.0,-999.000,9,-999.000, 12046.8,   4.6194,-999.0000, -999.00
 316N145_14,       I02E,    1143,          1,         18,     SIH006,2,19951224,       1642,    -8.0003,    76.6662,       5260,  1393.7,   4.0702,  34.7526,2,  34.7524,2,    105.6,4,   100.6,2,  105.36,6,   36.06,6,    0.00,6,    2.62,3,   0.000,2,  -0.001,2,  2306.1,2,  2386.1,2,  -999.0,5,-999.000,1,-999.000,-999.0000,1, -999.00,9,    0.13,2,  -178.0,2,     3.0,-999.000,9,-999.000, 14066.2,   3.9594,-999.0000, -999.00
 316N145_14,       I02E,    1143,          1,         17,     SIH038,2,19951224,       1642,    -8.0003,    76.6662,       5260,  1594.2,   3.3521,  34.7566,2,  34.7565,2,    117.9,2,   117.9,2,  111.20,2,   35.73,2,    0.00,2,    2.57,3,-999.000,5,-999.000,5,  2304.3,2,  2393.3,2,  -999.0,5,-999.000,1,-999.000,-999.0000,1, -999.00,9,    0.14,2,  -179.0,2,     2.6,-999.000,9,-999.000, 16072.4,   3.2316,-999.0000, -999.00
 316N145_14,       I02E,    1143,          1,         16,     SIH008,2,19951224,       1642,    -8.0003,    76.6662,       5260,  1786.2,   2.8771,  34.7556,2,  34.7547,2,    130.2,2,   128.8,2,  116.17,2,   35.27,2,    0.00,2,    2.52,3,   0.000,2,   0.001,2,  2303.7,2,  2396.5,2,  -999.0,5,-999.000,1,-999.000,-999.0000,1, -999.00,9,    0.19,2,  -193.9,2,     3.0,-999.000,9,-999.000, 17992.4,   2.7459,-999.0000, -999.00
 316N145_14,       I02E,    1143,          1,         15,     SIH009,2,19951224,       1642,    -8.0003,    76.6662,       5260,  1987.8,   2.4923,  34.7476,2,  34.7480,2,    139.2,2,   139.9,2,  119.72,6,   34.70,6,    0.00,6,    2.46,3,-999.000,5,-999.000,5,  2301.7,2,  2400.4,2,  -999.0,5,-999.000,1,-999.000,-999.0000,1, -999.00,9,    0.21,2,  -191.7,2,     3.1,-999.000,9,-999.000, 20010.2,   2.3491,-999.0000, -999.00
 316N145_14,       I02E,    1143,          1,         14,     SIH010,2,19951224,       1642,    -8.0003,    76.6662,       5260,  2241.1,   2.1517,  34.7401,2,  34.7406,2,    150.8,2,   151.7,2,  122.19,2,   34.36,2,    0.00,2,    2.42,3,-999.000,5,-999.000,5,  2299.7,2,  2403.4,2,  -999.0,5,-999.000,1,-999.000,-999.0000,1, -999.00,9,    0.25,2,  -190.9,2,     3.0,-999.000,9,-999.000, 22543.5,   1.9916,-999.0000, -999.00
 316N145_14,       I02E,    1143,          1,         13,     SIH011,2,19951224,       1642,    -8.0003,    76.6662,       5260,  2494.0,   1.9288,  34.7364,2,  34.7364,2,    159.6,2,   159.2,2,  124.43,2,   33.91,2,    0.00,2,    2.38,3,-999.000,5,-999.000,5,  2298.4,2,  2404.0,2,  -999.0,5,-999.000,1,-999.000,-999.0000,1, -999.00,9,    0.26,2,  -203.8,2,     2.0,-999.000,9,-999.000, 25074.5,   1.7501,-999.0000, -999.00
 316N145_14,       I02E,    1143,          1,         12,     SIH012,2,19951224,       1642,    -8.0003,    76.6662,       5260,  2737.5,   1.7849,  34.7320,2,  34.7323,2,    163.5,2,   162.6,2,  126.91,6,   33.90,6,    0.00,6,    2.37,3,-999.000,5,-999.000,5,  2298.9,2,  2408.4,2,  -999.0,5,-999.000,1,-999.000,-999.0000,1, -999.00,9,    0.25,2,  -198.5,2,     2.5,-999.000,9,-999.000, 27510.6,   1.5865,-999.0000, -999.00
 316N145_14,       I02E,    1143,          1,         11,     SI9426,2,19951224,       1642,    -8.0003,    76.6662,       5260,  2991.7,   1.6563,  34.7284,2,  34.7278,2,    167.7,2,   166.2,2,  129.77,2,   33.79,2,    0.00,2,    2.37,3,-999.000,5,-999.000,5,  2299.5,2,  2410.2,2,  -999.0,5,-999.000,1,-999.000,-999.0000,1, -999.00,9,    0.25,2,  -193.4,2,     3.0,-999.000,9,-999.000, 30053.4,   1.4366,-999.0000, -999.00
 316N145_14,       I02E,    1143,          1,         10,     SIH014,2,19951224,       1642,    -8.0003,    76.6662,       5260,  3245.6,   1.5546,  34.7249,2,  34.7239,2,    167.2,2,   168.1,2,  133.03,2,   33.84,2,    0.00,2,    2.35,3,  -0.001,2,  -0.003,2,  2300.7,2,  2415.7,2,  -999.0,5,-999.000,1,-999.000,-999.0000,1, -999.00,9,    0.27,2,  -193.4,2,     2.9,-999.000,9,-999.000, 32593.3,   1.3125,-999.0000, -999.00
 316N145_14,       I02E,    1143,          1,          9,     SIH015,2,19951224,       1642,    -8.0003,    76.6662,       5260,  3489.2,   1.4519,  34.7218,2,  34.7225,2,    171.2,2,   171.3,2,  134.03,6,   33.77,6,    0.00,6,    2.36,3,-999.000,5,-999.000,5,  2302.6,2,  2416.6,2,  -999.0,5,-999.000,1,-999.000,-999.0000,1, -999.00,9,    0.27,2,  -190.4,2,     2.8,-999.000,9,-999.000, 35030.1,   1.1878,-999.0000, -999.00
 316N145_14,       I02E,    1143,          1,          8,     SIH016,2,19951224,       1642,    -8.0003,    76.6662,       5260,  3742.4,   1.3975,  34.7190,2,  34.7191,2,    174.0,2,   174.5,2,  134.99,6,   33.74,6,    0.00,6,    2.34,3,-999.000,5,-999.000,5,  2302.1,2,  2425.9,2,  -999.0,5,-999.000,1,-999.000,-999.0000,1, -999.00,9,    0.23,2,  -196.0,2,     3.0,-999.000,9,-999.000, 37563.3,   1.1087,-999.0000, -999.00
 316N145_14,       I02E,    1143,          1,          7,     SIH017,2,19951224,       1642,    -8.0003,    76.6662,       5260,  3997.4,   1.3609,  34.7184,2,  34.7186,2,    178.7,2,   178.1,2,  134.16,6,   33.43,6,    0.00,6,    2.32,3,-999.000,5,-999.000,5,  2298.2,2,  2414.3,2,  -999.0,5,-999.000,1,-999.000,-999.0000,1, -999.00,9,    0.27,2,  -189.0,2,     4.8,-999.000,9,-999.000, 40113.9,   1.0460,-999.0000, -999.00
 316N145_14,       I02E,    1143,          1,          6,     SIH018,2,19951224,       1642,    -8.0003,    76.6662,       5260,  4237.3,   1.3550,  34.7176,2,  34.7178,2,    180.8,2,   180.4,2,  133.96,2,   33.43,2,    0.00,2,    2.32,3,-999.000,5,-999.000,5,  2296.4,2,  2416.4,2,  -999.0,5,-999.000,1,-999.000,-999.0000,1, -999.00,9,    0.26,2,  -197.0,2,     3.4,-999.000,9,-999.000, 42514.9,   1.0139,-999.0000, -999.00
 316N145_14,       I02E,    1143,          1,          5,     SIH002,2,19951224,       1642,    -8.0003,    76.6662,       5260,  4491.5,   1.3671,  34.7172,2,  34.7176,2,    182.1,2,   181.3,2,  134.32,2,   33.53,2,    0.00,2,    2.30,3,  -0.001,2,  -0.001,2,  2295.6,2,  2415.8,2,  -999.0,5,-999.000,1,-999.000,-999.0000,1, -999.00,9,    0.32,2,  -193.0,2,     3.1,-999.000,9,-999.000, 45056.8,   0.9970,-999.0000, -999.00
 316N145_14,       I02E,    1143,          1,          4,     SIH020,2,19951224,       1642,    -8.0003,    76.6662,       5260,  4746.7,   1.3800,  34.7172,2,  34.7156,2,    183.0,2,   182.1,2,  134.00,2,   33.36,2,    0.00,2,    2.31,3,-999.000,5,-999.000,5,  2295.1,2,  2417.2,2,  -999.0,5,-999.000,1,-999.000,-999.0000,1, -999.00,9,    0.34,2,  -186.3,2,     3.2,-999.000,9,-999.000, 47610.1,   0.9798,-999.0000, -999.00
 316N145_14,       I02E,    1143,          1,          3,     SIH021,2,19951224,       1642,    -8.0003,    76.6662,       5260,  4995.7,   1.4044,  34.7165,2,  34.7164,2,    183.2,2,   182.4,2,  133.69,2,   33.48,2,    0.00,2,    2.30,3,-999.000,5,-999.000,5,  2294.5,2,  2411.8,2,  -999.0,5,-999.000,1,-999.000,-999.0000,1, -999.00,9,    0.28,2,  -182.9,2,     3.0,-999.000,9,-999.000, 50101.7,   0.9737,-999.0000, -999.00
 316N145_14,       I02E,    1143,          1,          2,     SIH022,2,19951224,       1642,    -8.0003,    76.6662,       5260,  5242.1,   1.4322,  34.7164,2,  34.7172,2,    184.8,2,   182.9,2,  133.37,2,   33.42,2,    0.00,2,    2.30,3,-999.000,5,-999.000,5,  2294.0,2,  2419.8,2,  -999.0,5,-999.000,1,-999.000,-999.0000,1, -999.00,9,    0.29,2,  -192.2,2,     2.8,-999.000,9,-999.000, 52565.3,   0.9703,-999.0000, -999.00
 316N145_14,       I02E,    1143,          1,          1,     SIH023,2,19951224,       1642,    -8.0003,    76.6662,       5260,  5381.5,   1.4504,  34.7164,2,  34.7154,2,    182.6,2,   183.4,2,  133.08,6,   33.27,6,    0.00,6,    2.30,3,   0.000,2,   0.000,2,  2294.7,2,  2413.1,2,  -999.0,5,-999.000,1,-999.000,-999.0000,1, -999.00,9,    0.26,2,  -189.6,2,     2.1,-999.000,9,-999.000, 53961.0,   0.9704,-999.0000, -999.00