BOTTLE,20220829CCHSIOAMB
EXPOCODE,SECT_ID,STNNBR,CASTNO,SAMPNO,BTLNBR,BTLNBR_FLAG_W,DATE,TIME,LATITUDE,LONGITUDE,DEPTH,CTDPRS,CTDTMP,CTDSAL,CTDSAL_FLAG_W,SALNTY,SALNTY_FLAG_W,CTDOXY,CTDOXY_FLAG_W,OXYGEN,OXYGEN_FLAG_W,SILCAT,SILCAT_FLAG_W,NITRAT,NITRAT_FLAG_W,NITRIT,NITRIT_FLAG_W,PHSPHT,PHSPHT_FLAG_W,CFC-11,CFC-11_FLAG_W,CFC-12,CFC-12_FLAG_W,TCARBN,TCARBN_FLAG_W,ALKALI,ALKALI_FLAG_W,PCO2,PCO2_FLAG_W,TRITUM,TRITUM_FLAG_W,TRITER,HELIUM,HELIUM_FLAG_W,DELHE3,DELHE3_FLAG_W,DELC13,DELC13_FLAG_W,DELC14,DELC14_FLAG_W,C14ERR,NEON,NEON_FLAG_W,NEONER,CTDRAW,THETA,HELIER,DELHER
,,,,,,,,,,,METERS,DBAR,ITS-90,PSS-78,,PSS-78,,UMOL/KG,,UMOL/KG,,UMOL/KG,,UMOL/KG,,UMOL/KG,,UMOL/KG,,PMOL/KG,,PMOL/KG,,UMOL/KG,,UMOL/KG,,UATM,,TU,,TU,NMOL/KG,,PERCNT,,/MILLE,,/MILLE,,/MILLE,NMOL/KG,,NMOL/KG,DBAR,DEG C,NMOL/KG,PERCNT
 316N145_14,       I02E,    1115,          1,         36,     SIH024,2,19951216,       1258,    -8.0000,    88.0000,       5022,    11.8,  27.6232,  34.2249,2,  34.2260,2,    203.9,2,   215.0,2,    2.56,2,    0.55,2,    0.01,2,    0.07,2,   1.684,2,   0.979,2,  1916.6,2,  2248.9,2,  -999.0,5,-999.000,1,-999.000,-999.0000,1, -999.00,9,    1.15,2,    70.6,2,     2.5,-999.000,9,-999.000,   259.5,  27.6204,-999.0000, -999.00
 316N145_14,       I02E,    1115,          1,         35,     SIH003,2,19951216,       1258,    -8.0000,    88.0000,       5022,    28.7,  27.4665,  34.2130,2,  34.2152,2,    206.2,2,   215.9,2,    2.06,2,    0.55,2,    0.00,2,    0.08,2,-999.000,5,-999.000,5,  1916.9,2,  2245.3,2,  -999.0,5,-999.000,1,-999.000,-999.0000,1, -999.00,9, -999.00,9,  -999.0,9,  -999.0,-999.000,9,-999.000,   422.8,  27.4599,-999.0000, -999.00
 316N145_14,       I02E,    1115,          1,         34,     SIH026,2,19951216,       1258,    -8.0000,    88.0000,       5022,    59.1,  25.5508,  34.4094,2,  34.4094,2,    188.4,2,   208.5,2,    3.05,2,    0.49,2,    0.04,2,    0.21,2,   1.711,2,   0.978,2,  1962.4,2,  2260.9,2,  -999.0,5,-999.000,1,-999.000,-999.0000,1, -999.00,9, -999.00,9,  -999.0,9,  -999.0,-999.000,9,-999.000,   719.7,  25.5378,-999.0000, -999.00
 316N145_14,       I02E,    1115,          1,         33,     SIH027,2,19951216,       1258,    -8.0000,    88.0000,       5022,    98.6,  19.8207,  34.8711,2,  34.8397,2,     96.7,2,    78.8,2,   15.94,2,   19.09,2,    0.07,2,    1.34,2,   1.248,4,   0.700,4,  2119.0,2,  2291.9,2,  -999.0,5,-999.000,1,-999.000,-999.0000,1, -999.00,9,    0.10,2,    17.7,2,     2.5,-999.000,9,-999.000,  1111.0,  19.8027,-999.0000, -999.00
 316N145_14,       I02E,    1115,          1,         32,     SIH028,2,19951216,       1258,    -8.0000,    88.0000,       5022,   148.9,  15.0482,  34.7334,2,  34.7323,2,     80.3,2,    77.5,2,   26.83,2,   23.66,2,    0.01,2,    1.69,2,   0.974,2,   0.503,2,  -999.0,9,  2296.4,2,  -999.0,5,-999.000,1,-999.000,-999.0000,1, -999.00,9,    0.22,2,   -20.5,2,     2.4,-999.000,9,-999.000,  1614.4,  15.0257,-999.0000, -999.00
 316N145_14,       I02E,    1115,          1,         31,     SIH029,2,19951216,       1258,    -8.0000,    88.0000,       5022,   199.1,  12.8309,  34.7672,2,  34.7675,2,     65.8,2,    66.6,2,   30.99,2,   27.31,2,    0.01,2,    1.94,2,   0.643,2,   0.322,2,  -999.0,9,  2308.8,2,  -999.0,5,-999.000,1,-999.000,-999.0000,1, -999.00,9,    0.19,2,   -30.9,2,     3.6,-999.000,9,-999.000,  2117.2,  12.8038,-999.0000, -999.00
 316N145_14,       I02E,    1115,          1,         30,     SIH030,2,19951216,       1258,    -8.0000,    88.0000,       5022,   248.6,  11.9763,  34.8068,2,  34.8074,2,     62.1,2,    63.6,2,   32.09,2,   28.45,2,    0.01,2,    1.99,2,-999.000,5,-999.000,5,  2206.6,2,  2308.7,2,  -999.0,5,-999.000,1,-999.000,-999.0000,1, -999.00,9,    0.27,2,   -34.4,2,     2.4,-999.000,9,-999.000,  2611.1,  11.9439,-999.0000, -999.00
 316N145_14,       I02E,    1115,          1,         29,     SIH031,2,19951216,       1258,    -8.0000,    88.0000,       5022,   298.8,  11.0191,  34.8849,2,  34.8847,2,     71.8,2,    76.1,2,   28.39,2,   28.16,2,    0.00,2,    1.94,2,   0.440,2,   0.216,6,  2207.3,2,  2319.1,2,  -999.0,5,-999.000,1,-999.000,-999.0000,1, -999.00,9,    0.31,2,   -77.2,2,     2.5,-999.000,9,-999.000,  3114.0,  10.9820,-999.0000, -999.00
 316N145_14,       I02E,    1115,          1,         28,     SIH032,2,19951216,       1258,    -8.0000,    88.0000,       5022,   349.1,  10.3315,  34.8702,2,  34.8670,2,     84.2,2,    86.4,2,   27.50,2,   28.68,2,    0.01,2,    1.96,2,-999.000,5,-999.000,5,  2206.7,2,  2310.9,2,  -999.0,5,-999.000,1,-999.000,-999.0000,1, -999.00,9, -999.00,9,  -999.0,9,  -999.0,-999.000,9,-999.000,  3617.2,  10.2899,-999.0000, -999.00
 316N145_14,       I02E,    1115,          1,         27,     SIH033,2,19951216,       1258,    -8.0000,    88.0000,       5022,   399.5,   9.7918,  34.8524,2,  34.8515,2,     81.5,2,    81.2,2,   30.75,2,   30.45,2,    0.01,2,    2.07,2,   0.198,2,   0.102,2,  2216.5,2,  2315.1,2,  -999.0,5,-999.000,1,-999.000,-999.0000,1, -999.00,9,    0.25,2,   -99.5,2,     2.7,-999.000,9,-999.000,  4120.8,   9.7457,-999.0000, -999.00
 316N145_14,       I02E,    1115,          1,         26,     SIH037,2,19951216,       1258,    -8.0000,    88.0000,       5022,   499.0,   8.8642,  34.8145,2,  34.8131,2,     73.9,2,    75.2,2,   40.91,2,   32.62,2,    0.01,2,    2.28,2,-999.000,5,-999.000,5,  2234.8,2,  2321.2,2,  -999.0,5,-999.000,1,-999.000,-999.0000,1, -999.00,9,    0.22,2,  -121.9,2,     2.3,-999.000,9,-999.000,  5115.7,   8.8096,-999.0000, -999.00
 316N145_14,       I02E,    1115,          1,         25,     SI9446,2,19951216,       1258,    -8.0000,    88.0000,       5022,   599.9,   8.0500,  34.7889,2,  34.7876,2,     71.7,2,    67.9,2,   53.72,2,   34.39,2,    0.01,2,    2.46,2,   0.033,2,   0.018,2,  2253.5,2,  2333.9,2,  -999.0,5,-999.000,1,-999.000,-999.0000,1, -999.00,9, -999.00,9,  -999.0,9,  -999.0,-999.000,9,-999.000,  6125.6,   7.9876,-999.0000, -999.00
 316N145_14,       I02E,    1115,          1,         24,     SIH036,2,19951216,       1258,    -8.0000,    88.0000,       5022,   690.7,   7.3648,  34.7699,2,  34.7691,2,     62.4,2,    62.9,2,   65.87,2,   35.60,2,    0.01,2,    2.57,2,   0.014,2,   0.006,2,  2271.9,2,  2343.3,2,  -999.0,5,-999.000,1,-999.000,-999.0000,1, -999.00,9,   -3.54,4,  -238.5,3,     2.5,-999.000,9,-999.000,  7032.9,   7.2962,-999.0000, -999.00
 316N145_14,       I02E,    1115,          1,         23,     SIH001,2,19951216,       1258,    -8.0000,    88.0000,       5022,   790.3,   6.5765,  34.7320,2,  34.7300,2,     64.4,2,    67.7,2,   77.69,2,   36.10,2,    0.01,2,    2.63,2,   0.012,2,   0.013,2,  2283.0,2,  2357.4,2,  -999.0,5,-999.000,1,-999.000,-999.0000,1, -999.00,9,   -0.16,3,  -197.6,2,     3.2,-999.000,9,-999.000,  8029.2,   6.5022,-999.0000, -999.00
 316N145_14,       I02E,    1115,          1,         22,     SIH019,2,19951216,       1258,    -8.0000,    88.0000,       5022,   900.9,   5.7823,  34.6917,2,  34.6920,2,     72.6,2,    76.5,2,   87.69,2,   36.22,2,    0.00,2,    2.65,2,   0.003,2,   0.000,2,  2292.1,2,  2366.6,2,  -999.0,5,-999.000,1,-999.000,-999.0000,1, -999.00,9,    0.06,2,  -163.8,2,     2.2,-999.000,9,-999.000,  9136.3,   5.7023,-999.0000, -999.00
 316N145_14,       I02E,    1115,          1,         21,     SIH025,2,19951216,       1258,    -8.0000,    88.0000,       5022,   996.2,   5.2822,  34.6796,2,  34.6793,2,     80.7,2,    82.1,2,   94.24,2,   36.34,2,    0.00,2,    2.66,2,-999.000,5,-999.000,5,  2297.4,2,  2379.1,2,  -999.0,5,-999.000,1,-999.000,   1.9140,2,   14.48,2,    0.08,2,  -173.4,2,     2.4,   7.979,2,   0.023, 10089.4,   5.1969,   0.0040,    0.18
 316N145_14,       I02E,    1115,          1,         20,     SIH004,2,19951216,       1258,    -8.0000,    88.0000,       5022,  1097.7,   4.9271,  34.6889,2,  34.6893,2,     85.5,2,    85.3,2,   98.63,2,   36.51,2,    0.00,2,    2.68,2,   0.006,2,   0.001,2,  2302.4,2,  2376.0,2,  -999.0,5,-999.000,1,-999.000,-999.0000,1, -999.00,9,    0.12,2,  -181.5,2,     3.1,-999.000,9,-999.000, 11104.6,   4.8352,-999.0000, -999.00
 316N145_14,       I02E,    1115,          1,         19,     SIH005,2,19951216,       1258,    -8.0000,    88.0000,       5022,  1198.1,   4.5779,  34.7051,2,  34.7050,2,     88.7,2,    90.1,2,  102.20,2,   36.56,2,    0.00,2,    2.68,2,   0.006,2,   0.000,2,  2306.3,2,  2383.1,2,  -999.0,5,-999.000,1,-999.000,   1.9260,2,   13.96,2,    0.04,2,  -177.8,2,     2.9,   8.031,2,   0.024, 12109.3,   4.4798,   0.0040,    0.18
 316N145_14,       I02E,    1115,          1,         18,     SIH006,2,19951216,       1258,    -8.0000,    88.0000,       5022,  1298.3,   4.2304,  34.7233,2,  34.7233,2,     93.7,2,    94.6,2,  104.94,2,   36.22,2,    0.00,2,    2.67,2,-999.000,5,-999.000,5,  2307.8,2,  2384.2,2,  -999.0,5,-999.000,1,-999.000,-999.0000,1, -999.00,9, -999.00,9,  -999.0,9,  -999.0,-999.000,9,-999.000, 13112.2,   4.1265,-999.0000, -999.00
 316N145_14,       I02E,    1115,          1,         17,     SIH038,2,19951216,       1258,    -8.0000,    88.0000,       5022,  1393.9,   3.9347,  34.7333,2,  34.7337,2,    100.0,2,   100.6,2,  107.52,2,   36.46,2,    0.00,2,    2.66,2,   0.000,2,   0.000,2,  2308.8,2,  2389.6,2,  -999.0,5,-999.000,1,-999.000,   1.8670,2,   13.96,2,    0.06,2,  -188.2,2,     2.9,   7.907,2,   0.023, 14068.1,   3.8253,   0.0040,    0.18
 316N145_14,       I02E,    1115,          1,         16,     SIH008,2,19951216,       1258,    -8.0000,    88.0000,       5022,  1595.8,   3.3450,  34.7445,2,  34.7441,2,    114.5,2,   113.8,2,  112.24,2,   36.00,2,    0.01,2,    2.61,2,-999.000,5,-999.000,5,  2307.4,2,  2391.5,2,  -999.0,5,-999.000,1,-999.000,-999.0000,1, -999.00,9,    0.09,2,  -187.2,2,     2.9,-999.000,9,-999.000, 16088.0,   3.2245,-999.0000, -999.00
 316N145_14,       I02E,    1115,          1,         15,     SIH009,2,19951216,       1258,    -8.0000,    88.0000,       5022,  1797.7,   2.8358,  34.7482,2,  34.7486,2,    125.3,2,   127.2,2,  116.81,2,   35.60,2,    0.01,2,    2.56,2,-999.000,5,-999.000,5,  2307.4,2,  2390.9,2,  -999.0,5,-999.000,1,-999.000,   1.8920,2,   13.77,2, -999.00,9,  -999.0,9,  -999.0,   8.070,2,   0.052, 18107.8,   2.7042,   0.0080,    0.12
 316N145_14,       I02E,    1115,          1,         14,     SIH010,2,19951216,       1258,    -8.0000,    88.0000,       5022,  1999.4,   2.4821,  34.7464,2,  34.7471,2,    137.7,2,   138.2,2,  119.05,2,   35.03,2,    0.01,2,    2.50,2,-999.000,5,-999.000,5,  2305.1,2,  2400.0,2,  -999.0,5,-999.000,1,-999.000,   1.9240,2,   14.18,2, -999.00,9,  -999.0,9,  -999.0,   8.138,2,   0.028, 20125.6,   2.3380,   0.0040,    0.17
 316N145_14,       I02E,    1115,          1,         13,     SIH011,2,19951216,       1258,    -8.0000,    88.0000,       5022,  2241.5,   2.1742,  34.7415,2,  34.7404,2,    148.9,2,   149.3,2,  120.81,2,   34.57,2,    0.00,2,    2.45,2,  -0.001,2,   0.000,2,  2300.9,2,  2402.0,2,  -999.0,5,-999.000,1,-999.000,   1.9760,4,   13.95,3, -999.00,9,  -999.0,9,  -999.0,   8.303,3,   0.038, 22547.6,   2.0137,   0.0020,    0.14
 316N145_14,       I02E,    1115,          1,         12,     SIH012,2,19951216,       1258,    -8.0000,    88.0000,       5022,  2496.1,   1.9390,  34.7362,2,  34.7380,2,    157.2,2,   156.1,2,  123.88,2,   34.17,2,    0.00,2,    2.43,2,-999.000,5,-999.000,5,  2302.1,2,  2405.0,2,  -999.0,5,-999.000,1,-999.000,   1.8910,2,   14.10,2, -999.00,9,  -999.0,9,  -999.0,   8.085,2,   0.053, 25095.3,   1.7599,   0.0080,    0.20
 316N145_14,       I02E,    1115,          1,         11,     SI9426,2,19951216,       1258,    -8.0000,    88.0000,       5022,  2738.1,   1.7594,  34.7319,2,  34.7317,2,    160.6,2,   161.8,2,  126.46,2,   34.18,2,    0.00,2,    2.38,2,-999.000,5,-999.000,5,  2300.9,2,  2409.1,2,  -999.0,5,-999.000,1,-999.000,-999.0000,1, -999.00,9, -999.00,9,  -999.0,9,  -999.0,-999.000,9,-999.000, 27516.3,   1.5615,-999.0000, -999.00
 316N145_14,       I02E,    1115,          1,         10,     SIH014,2,19951216,       1258,    -8.0000,    88.0000,       5022,  2991.6,   1.6271,  34.7278,2,  34.7292,2,    164.3,2,   164.7,2,  131.92,2,   34.18,2,    0.01,2,    2.38,2,-999.000,5,-999.000,5,  2303.1,2,  2410.7,2,  -999.0,5,-999.000,1,-999.000,   1.9070,2,   13.41,2, -999.00,9,  -999.0,9,  -999.0,   8.055,2,   0.029, 30052.7,   1.4081,   0.0100,    0.15
 316N145_14,       I02E,    1115,          1,          9,     SIH015,2,19951216,       1258,    -8.0000,    88.0000,       5022,  3245.7,   1.5035,  34.7240,2,  34.7241,2,    168.1,2,   168.7,2,  133.23,2,   33.78,2,    0.01,2,    2.37,2,-999.000,5,-999.000,5,  2304.0,2,  2415.5,2,  -999.0,5,-999.000,1,-999.000,   1.9060,2,   12.75,2, -999.00,9,  -999.0,9,  -999.0,   8.289,2,   0.037, 32594.3,   1.2626,   0.0040,    0.18
 316N145_14,       I02E,    1115,          1,          8,     SIH016,2,19951216,       1258,    -8.0000,    88.0000,       5022,  3490.0,   1.4229,  34.7212,2,  34.7229,2,    171.5,2,   172.2,2,  133.88,2,   34.06,2,    0.01,2,    2.36,2,   0.003,2,   0.000,2,  2302.5,2,  2417.0,2,  -999.0,5,-999.000,1,-999.000,   1.9180,2,   12.39,2, -999.00,9,  -999.0,9,  -999.0,   8.054,2,   0.087, 35038.6,   1.1595,   0.0060,    0.17
 316N145_14,       I02E,    1115,          1,          7,     SIH017,2,19951216,       1258,    -8.0000,    88.0000,       5022,  3744.8,   1.3800,  34.7200,2,  34.7195,2,    173.8,2,   174.7,2,  134.86,2,   33.78,2,    0.01,2,    2.35,2,-999.000,5,-999.000,5,  2302.1,2,  2419.4,2,  -999.0,5,-999.000,1,-999.000,   1.8920,3,   12.35,2, -999.00,9,  -999.0,9,  -999.0,   8.325,3,   0.090, 37587.6,   1.0914,   0.0030,    0.17
 316N145_14,       I02E,    1115,          1,          6,     SIH018,2,19951216,       1258,    -8.0000,    88.0000,       5022,  3989.4,   1.3671,  34.7190,2,  34.7190,2,    175.5,2,   176.9,2,  134.04,2,   33.66,2,    0.01,2,    2.35,2,-999.000,5,-999.000,5,  2299.7,2,  2413.4,2,  -999.0,5,-999.000,1,-999.000,-999.0000,1, -999.00,9, -999.00,9,  -999.0,9,  -999.0,-999.000,9,-999.000, 40034.5,   1.0528,-999.0000, -999.00
 316N145_14,       I02E,    1115,          1,          5,     SIH002,2,19951216,       1258,    -8.0000,    88.0000,       5022,  4235.2,   1.3587,  34.7176,2,  34.7182,2,    179.2,2,   180.2,2,  133.23,2,   33.60,2,    0.00,2,    2.33,2,-999.000,5,-999.000,5,  2297.8,2,  2423.3,2,  -999.0,5,-999.000,1,-999.000,   1.4080,4,   11.98,4, -999.00,9,  -999.0,9,  -999.0,   5.574,3,   0.024, 42493.1,   1.0178,   0.0030,    0.18
 316N145_14,       I02E,    1115,          1,          4,     SIH020,2,19951216,       1258,    -8.0000,    88.0000,       5022,  4490.2,   1.3556,  34.7168,2,  34.7176,2,    181.3,2,   181.8,2,  131.92,2,   33.44,2,    0.01,2,    2.33,2,   0.001,2,   0.000,2,  2294.3,2,  2410.1,2,  -999.0,5,-999.000,1,-999.000,-999.0000,1, -999.00,9, -999.00,9,  -999.0,9,  -999.0,-999.000,9,-999.000, 45044.3,   0.9860,-999.0000, -999.00
 316N145_14,       I02E,    1115,          1,          3,     SIH021,2,19951216,       1258,    -8.0000,    88.0000,       5022,  4746.1,   1.3664,  34.7172,2,  34.7172,2,    181.7,2,   183.1,2,  131.60,2,   33.38,2,    0.01,2,    2.31,2,-999.000,5,-999.000,5,  2293.2,2,  2412.8,2,  -999.0,5,-999.000,1,-999.000,   1.8860,2,   11.74,2, -999.00,9,  -999.0,9,  -999.0,   8.259,2,   0.036, 47604.5,   0.9667,   0.0040,    0.18
 316N145_14,       I02E,    1115,          1,          2,     SIH022,2,19951216,       1258,    -8.0000,    88.0000,       5022,  5000.4,   1.3883,  34.7159,2,  34.7164,2,    183.5,2,   183.6,2,  131.10,2,   33.38,2,    0.00,2,    2.31,2,-999.000,5,-999.000,5,  2292.9,2,  2406.7,2,  -999.0,5,-999.000,1,-999.000,-999.0000,1, -999.00,9, -999.00,9,  -999.0,9,  -999.0,-999.000,9,-999.000, 50148.5,   0.9576,-999.0000, -999.00
 316N145_14,       I02E,    1115,          1,          1,     SIH023,2,19951216,       1258,    -8.0000,    88.0000,       5022,  5127.3,   1.4006,  34.7168,2,  34.7166,2,    182.6,2,   184.5,2,  130.78,6,   33.38,6,    0.01,6,    2.30,6,   0.003,2,   0.000,2,  2292.5,2,  2413.0,2,  -999.0,5,-999.000,1,-999.000,   1.8970,2,   11.23,2, -999.00,9,  -999.0,9,  -999.0,   8.310,2,   0.036, 51417.9,   0.9540,   0.0070,    0.18