BOTTLE,20220829CCHSIOAMB
EXPOCODE,SECT_ID,STNNBR,CASTNO,SAMPNO,BTLNBR,BTLNBR_FLAG_W,DATE,TIME,LATITUDE,LONGITUDE,DEPTH,CTDPRS,CTDTMP,CTDSAL,CTDSAL_FLAG_W,SALNTY,SALNTY_FLAG_W,CTDOXY,CTDOXY_FLAG_W,OXYGEN,OXYGEN_FLAG_W,SILCAT,SILCAT_FLAG_W,NITRAT,NITRAT_FLAG_W,NITRIT,NITRIT_FLAG_W,PHSPHT,PHSPHT_FLAG_W,CFC-11,CFC-11_FLAG_W,CFC-12,CFC-12_FLAG_W,TCARBN,TCARBN_FLAG_W,ALKALI,ALKALI_FLAG_W,PCO2,PCO2_FLAG_W,TRITUM,TRITUM_FLAG_W,TRITER,HELIUM,HELIUM_FLAG_W,DELHE3,DELHE3_FLAG_W,DELC13,DELC13_FLAG_W,DELC14,DELC14_FLAG_W,C14ERR,NEON,NEON_FLAG_W,NEONER,CTDRAW,THETA,HELIER,DELHER
,,,,,,,,,,,METERS,DBAR,ITS-90,PSS-78,,PSS-78,,UMOL/KG,,UMOL/KG,,UMOL/KG,,UMOL/KG,,UMOL/KG,,UMOL/KG,,PMOL/KG,,PMOL/KG,,UMOL/KG,,UMOL/KG,,UATM,,TU,,TU,NMOL/KG,,PERCNT,,/MILLE,,/MILLE,,/MILLE,NMOL/KG,,NMOL/KG,DBAR,DEG C,NMOL/KG,PERCNT
 316N145_14,       I02E,    1144,          1,         36,     SIH024,2,19951225,       0000,    -8.0000,    76.0000,       5175,    13.0,  28.3580,  34.0672,2,  34.0709,2,    210.9,2,   207.5,2,    4.56,2,    0.09,2,    0.00,2,    0.11,2,   1.609,2,   0.933,2,  1892.4,2,  2234.3,2,  -999.0,5,-999.000,1,-999.000,-999.0000,1, -999.00,9, -999.00,9,  -999.0,9,  -999.0,-999.000,9,-999.000,   270.2,  28.3549,-999.0000, -999.00
 316N145_14,       I02E,    1144,          1,         35,     SIH003,2,19951225,       0000,    -8.0000,    76.0000,       5175,    38.3,  26.8351,  35.0409,2,  34.9906,2,    223.5,2,   216.8,2,    5.32,2,    0.12,2,    0.01,2,    0.19,2,-999.000,5,-999.000,5,  1956.0,2,  2294.4,2,  -999.0,5,-999.000,1,-999.000,-999.0000,1, -999.00,9, -999.00,9,  -999.0,9,  -999.0,-999.000,9,-999.000,   514.4,  26.8263,-999.0000, -999.00
 316N145_14,       I02E,    1144,          1,         34,     SIH026,2,19951225,       0000,    -8.0000,    76.0000,       5175,    68.3,  20.1624,  35.1349,2,  35.1333,2,    147.7,3,   116.2,2,   13.60,6,   11.98,6,    0.71,6,    1.00,6,   1.554,2,   0.845,2,  2092.0,2,  2308.9,2,  -999.0,5,-999.000,1,-999.000,-999.0000,1, -999.00,9, -999.00,9,  -999.0,9,  -999.0,-999.000,9,-999.000,   811.3,  20.1497,-999.0000, -999.00
 316N145_14,       I02E,    1144,          1,         33,     SIH027,2,19951225,       0000,    -8.0000,    76.0000,       5175,   108.0,  17.1520,  35.1385,2,  35.1445,2,     91.8,2,    91.3,2,   17.58,6,   18.72,6,    0.05,6,    1.38,6,   1.318,2,   0.704,2,  -999.0,9,  -999.0,9,  -999.0,5,-999.000,1,-999.000,-999.0000,1, -999.00,9, -999.00,9,  -999.0,9,  -999.0,-999.000,9,-999.000,  1207.1,  17.1341,-999.0000, -999.00
 316N145_14,       I02E,    1144,          1,         32,     SIH028,2,19951225,       0000,    -8.0000,    76.0000,       5175,   158.1,  13.8879,  34.9763,2,  34.9656,2,     70.9,2,    71.3,2,   26.31,6,   24.69,6,    0.02,6,    1.78,6,   0.832,2,   0.433,2,  -999.0,9,  -999.0,9,  -999.0,5,-999.000,1,-999.000,-999.0000,1, -999.00,9, -999.00,9,  -999.0,9,  -999.0,-999.000,9,-999.000,  1706.5,  13.8652,-999.0000, -999.00
 316N145_14,       I02E,    1144,          1,         31,     SIH029,2,19951225,       0000,    -8.0000,    76.0000,       5175,   207.4,  12.8344,  34.9493,2,  34.9445,2,     71.7,2,    69.7,2,   27.71,2,   26.08,2,    0.01,2,    1.83,2,   0.651,2,   0.335,2,  -999.0,9,  -999.0,9,  -999.0,5,-999.000,1,-999.000,-999.0000,1, -999.00,9, -999.00,9,  -999.0,9,  -999.0,-999.000,9,-999.000,  2200.0,  12.8061,-999.0000, -999.00
 316N145_14,       I02E,    1144,          1,         30,     SIH030,2,19951225,       0000,    -8.0000,    76.0000,       5175,   258.5,  11.7718,  34.9458,2,  34.9481,2,     84.0,2,    81.7,2,   27.02,6,   26.28,6,    0.02,6,    1.82,2,   0.606,2,   0.313,2,  -999.0,9,  -999.0,9,  -999.0,5,-999.000,1,-999.000,-999.0000,1, -999.00,9, -999.00,9,  -999.0,9,  -999.0,-999.000,9,-999.000,  2711.2,  11.7384,-999.0000, -999.00
 316N145_14,       I02E,    1144,          1,         29,     SIH007,3,19951225,       0000,    -8.0000,    76.0000,       5175,   308.0,  11.0892,  34.9271,2,  34.9280,2,     92.2,2,    92.8,2,   26.23,6,   26.28,6,    0.01,6,    1.82,6,   0.587,2,   0.300,2,  -999.0,9,  -999.0,9,  -999.0,5,-999.000,1,-999.000,-999.0000,1, -999.00,9, -999.00,9,  -999.0,9,  -999.0,-999.000,9,-999.000,  3206.3,  11.0509,-999.0000, -999.00
 316N145_14,       I02E,    1144,          1,         28,     SI9439,2,19951225,       0000,    -8.0000,    76.0000,       5175,   357.9,  10.5552,  34.8952,2,  34.8936,2,    108.0,2,   106.3,2,   25.97,2,   26.00,2,    0.01,2,    1.81,2,   0.632,2,   0.325,2,  -999.0,9,  -999.0,9,  -999.0,5,-999.000,1,-999.000,-999.0000,1, -999.00,9, -999.00,9,  -999.0,9,  -999.0,-999.000,9,-999.000,  3705.5,  10.5119,-999.0000, -999.00
 316N145_14,       I02E,    1144,          1,         27,     SIH033,2,19951225,       0000,    -8.0000,    76.0000,       5175,   407.6,   9.9288,  34.8434,2,  34.8458,2,    113.2,2,   113.3,2,   27.74,2,   26.57,2,    0.01,2,    1.84,2,   0.584,2,   0.296,2,  -999.0,9,  -999.0,9,  -999.0,5,-999.000,1,-999.000,-999.0000,1, -999.00,9, -999.00,9,  -999.0,9,  -999.0,-999.000,9,-999.000,  4202.6,   9.8813,-999.0000, -999.00
 316N145_14,       I02E,    1144,          1,         26,     SIH037,2,19951225,       0000,    -8.0000,    76.0000,       5175,   498.2,   8.8917,  34.7945,2,  34.7938,2,     92.0,2,    94.6,2,   39.91,2,   30.46,2,    0.01,2,    2.14,2,   0.211,2,   0.112,2,  -999.0,9,  -999.0,9,  -999.0,5,-999.000,1,-999.000,-999.0000,1, -999.00,9, -999.00,9,  -999.0,9,  -999.0,-999.000,9,-999.000,  5109.1,   8.8371,-999.0000, -999.00
 316N145_14,       I02E,    1144,          1,         25,     SI9446,2,19951225,       0000,    -8.0000,    76.0000,       5175,   598.4,   8.0187,  34.7925,2,  34.7907,2,     74.4,2,    77.2,2,   55.08,2,   33.54,2,    0.01,2,    2.40,2,   0.064,2,   0.033,2,  -999.0,9,  -999.0,9,  -999.0,5,-999.000,1,-999.000,-999.0000,1, -999.00,9, -999.00,9,  -999.0,9,  -999.0,-999.000,9,-999.000,  6110.6,   7.9566,-999.0000, -999.00
 316N145_14,       I02E,    1144,          1,         24,     SIH036,2,19951225,       0000,    -8.0000,    76.0000,       5175,   698.7,   7.4073,  34.7962,2,  34.7952,2,     70.3,2,    70.5,2,   66.03,2,   34.95,2,    0.04,2,    2.53,2,   0.030,2,   0.015,2,  -999.0,9,  -999.0,9,  -999.0,5,-999.000,1,-999.000,-999.0000,1, -999.00,9, -999.00,9,  -999.0,9,  -999.0,-999.000,9,-999.000,  7114.5,   7.3376,-999.0000, -999.00
 316N145_14,       I02E,    1144,          1,         23,     SIH001,2,19951225,       0000,    -8.0000,    76.0000,       5175,   799.9,   6.5521,  34.7539,2,  34.7537,2,     69.9,2,    69.9,2,   79.97,2,   36.13,2,    0.01,2,    2.63,2,   0.010,2,   0.005,2,  -999.0,9,  -999.0,9,  -999.0,5,-999.000,1,-999.000,-999.0000,1, -999.00,9, -999.00,9,  -999.0,9,  -999.0,-999.000,9,-999.000,  8126.1,   6.4769,-999.0000, -999.00
 316N145_14,       I02E,    1144,          1,         22,     SIH019,2,19951225,       0000,    -8.0000,    76.0000,       5175,   899.6,   5.9687,  34.7310,2,  34.7313,2,     74.2,2,    73.3,2,   88.80,2,   36.54,2,    0.01,2,    2.66,2,   0.007,6,   0.005,6,  -999.0,9,  -999.0,9,  -999.0,5,-999.000,1,-999.000,-999.0000,1, -999.00,9, -999.00,9,  -999.0,9,  -999.0,-999.000,9,-999.000,  9123.3,   5.8874,-999.0000, -999.00
 316N145_14,       I02E,    1144,          1,         21,     SIH013,2,19951225,       0000,    -8.0000,    76.0000,       5175,   999.9,   5.4411,  34.7065,2,  34.7060,2,     79.7,2,    79.8,2,   96.21,2,   36.64,2,    0.01,2,    2.68,2,   0.006,2,   0.002,2,  -999.0,9,  -999.0,9,  -999.0,5,-999.000,1,-999.000,-999.0000,1, -999.00,9, -999.00,9,  -999.0,9,  -999.0,-999.000,9,-999.000, 10127.6,   5.3541,-999.0000, -999.00
 316N145_14,       I02E,    1144,          1,         20,     SIH004,2,19951225,       0000,    -8.0000,    76.0000,       5175,  1100.3,   5.0875,  34.7222,2,  34.7211,2,     83.6,2,    83.7,2,   99.56,2,   36.68,2,    0.01,2,    2.68,2,   0.004,2,   0.001,2,  -999.0,9,  -999.0,9,  -999.0,5,-999.000,1,-999.000,-999.0000,1, -999.00,9, -999.00,9,  -999.0,9,  -999.0,-999.000,9,-999.000, 11132.1,   4.9939,-999.0000, -999.00
 316N145_14,       I02E,    1144,          1,         19,     SIH005,2,19951225,       0000,    -8.0000,    76.0000,       5175,  1200.3,   4.7689,  34.7430,2,  34.7421,2,     86.8,2,    87.8,2,  102.56,2,   36.72,2,    0.01,2,    2.69,2,   0.001,2,   0.000,2,  -999.0,9,  -999.0,9,  -999.0,5,-999.000,1,-999.000,-999.0000,1, -999.00,9, -999.00,9,  -999.0,9,  -999.0,-999.000,9,-999.000, 12132.5,   4.6688,-999.0000, -999.00
 316N145_14,       I02E,    1144,          1,         18,     SIH006,2,19951225,       0000,    -8.0000,    76.0000,       5175,  1402.6,   3.9699,  34.7529,2,  34.7514,2,    101.5,2,   103.0,2,  108.03,2,   36.29,2,    0.01,2,    2.64,2,   0.000,2,   0.001,2,  -999.0,9,  -999.0,9,  -999.0,5,-999.000,1,-999.000,-999.0000,1, -999.00,9, -999.00,9,  -999.0,9,  -999.0,-999.000,9,-999.000, 14155.5,   3.8594,-999.0000, -999.00
 316N145_14,       I02E,    1144,          1,         17,     SIH038,2,19951225,       0000,    -8.0000,    76.0000,       5175,  1603.4,   3.3218,  34.7546,2,  34.7539,2,    115.2,2,   116.4,2,  114.73,2,   36.01,2,    0.01,2,    2.60,2,-999.000,5,-999.000,5,  -999.0,9,  -999.0,9,  -999.0,5,-999.000,1,-999.000,-999.0000,1, -999.00,9, -999.00,9,  -999.0,9,  -999.0,-999.000,9,-999.000, 16164.3,   3.2009,-999.0000, -999.00
 316N145_14,       I02E,    1144,          1,         16,     SIH008,2,19951225,       0000,    -8.0000,    76.0000,       5175,  1806.2,   2.8195,  34.7539,2,  34.7535,2,    129.9,2,   130.0,2,  119.33,2,   35.41,2,    0.01,2,    2.54,2,-999.000,5,-999.000,5,  -999.0,9,  -999.0,9,  -999.0,5,-999.000,1,-999.000,-999.0000,1, -999.00,9, -999.00,9,  -999.0,9,  -999.0,-999.000,9,-999.000, 18192.5,   2.6874,-999.0000, -999.00
 316N145_14,       I02E,    1144,          1,         15,     SIH009,2,19951225,       0000,    -8.0000,    76.0000,       5175,  2006.5,   2.4410,  34.7460,2,  34.7453,2,    141.7,2,   141.6,2,  122.15,2,   34.86,2,    0.01,2,    2.49,2,-999.000,5,-999.000,5,  -999.0,9,  -999.0,9,  -999.0,5,-999.000,1,-999.000,-999.0000,1, -999.00,9, -999.00,9,  -999.0,9,  -999.0,-999.000,9,-999.000, 20197.4,   2.2969,-999.0000, -999.00
 316N145_14,       I02E,    1144,          1,         14,     SIH010,2,19951225,       0000,    -8.0000,    76.0000,       5175,  2256.7,   2.1434,  34.7425,2,  34.7408,2,    151.4,2,   151.7,2,  124.98,2,   34.48,2,    0.01,2,    2.43,2,-999.000,5,-999.000,5,  -999.0,9,  -999.0,9,  -999.0,5,-999.000,1,-999.000,-999.0000,1, -999.00,9, -999.00,9,  -999.0,9,  -999.0,-999.000,9,-999.000, 22699.7,   1.9821,-999.0000, -999.00
 316N145_14,       I02E,    1144,          1,         13,     SIH011,2,19951225,       0000,    -8.0000,    76.0000,       5175,  2504.5,   1.9387,  34.7364,2,  34.7362,2,    157.3,2,   158.2,2,  127.45,2,   34.16,2,    0.01,2,    2.41,2,-999.000,5,-999.000,5,  -999.0,9,  -999.0,9,  -999.0,5,-999.000,1,-999.000,-999.0000,1, -999.00,9, -999.00,9,  -999.0,9,  -999.0,-999.000,9,-999.000, 25178.8,   1.7588,-999.0000, -999.00
 316N145_14,       I02E,    1144,          1,         12,     SIH012,2,19951225,       0000,    -8.0000,    76.0000,       5175,  2753.3,   1.7853,  34.7318,2,  34.7311,2,    164.7,2,   164.1,2,  128.86,2,   33.88,2,    0.01,2,    2.38,2,  -0.001,2,   0.002,2,  -999.0,9,  -999.0,9,  -999.0,5,-999.000,1,-999.000,-999.0000,1, -999.00,9, -999.00,9,  -999.0,9,  -999.0,-999.000,9,-999.000, 27668.1,   1.5854,-999.0000, -999.00
 316N145_14,       I02E,    1144,          1,         11,     SI9426,2,19951225,       0000,    -8.0000,    76.0000,       5175,  3000.1,   1.6578,  34.7277,2,  34.7290,2,    163.9,2,   163.6,2,  134.16,2,   34.19,2,    0.01,2,    2.39,2,-999.000,5,-999.000,5,  -999.0,9,  -999.0,9,  -999.0,5,-999.000,1,-999.000,-999.0000,1, -999.00,9, -999.00,9,  -999.0,9,  -999.0,-999.000,9,-999.000, 30137.5,   1.4373,-999.0000, -999.00
 316N145_14,       I02E,    1144,          1,         10,     SIH014,2,19951225,       0000,    -8.0000,    76.0000,       5175,  3250.8,   1.5462,  34.7256,2,  34.7245,2,    166.6,2,   166.9,2,  136.45,2,   34.12,2,    0.02,2,    2.38,2,-999.000,5,-999.000,5,  -999.0,9,  -999.0,9,  -999.0,5,-999.000,1,-999.000,-999.0000,1, -999.00,9, -999.00,9,  -999.0,9,  -999.0,-999.000,9,-999.000, 32645.0,   1.3038,-999.0000, -999.00
 316N145_14,       I02E,    1144,          1,          9,     SIH015,2,19951225,       0000,    -8.0000,    76.0000,       5175,  3498.6,   1.4531,  34.7221,2,  34.7217,2,    168.6,2,   169.8,2,  138.40,2,   34.11,2,    0.01,2,    2.38,2,-999.000,5,-999.000,5,  -999.0,9,  -999.0,9,  -999.0,5,-999.000,1,-999.000,-999.0000,1, -999.00,9, -999.00,9,  -999.0,9,  -999.0,-999.000,9,-999.000, 35124.2,   1.1880,-999.0000, -999.00
 316N145_14,       I02E,    1144,          1,          8,     SIH016,2,19951225,       0000,    -8.0000,    76.0000,       5175,  3748.1,   1.4026,  34.7204,2,  34.7205,2,    173.6,2,   173.8,2,  138.22,2,   33.89,2,    0.01,2,    2.37,2,-999.000,5,-999.000,5,  -999.0,9,  -999.0,9,  -999.0,5,-999.000,1,-999.000,-999.0000,1, -999.00,9, -999.00,9,  -999.0,9,  -999.0,-999.000,9,-999.000, 37619.6,   1.1130,-999.0000, -999.00
 316N145_14,       I02E,    1144,          1,          7,     SIH017,2,19951225,       0000,    -8.0000,    76.0000,       5175,  3997.1,   1.3733,  34.7187,2,  34.7219,4,    176.4,2,   173.5,4,  137.87,2,   33.88,2,    0.01,2,    2.37,2,   0.002,2,   0.001,2,  -999.0,9,  -999.0,9,  -999.0,5,-999.000,1,-999.000,-999.0000,1, -999.00,9, -999.00,9,  -999.0,9,  -999.0,-999.000,9,-999.000, 40111.7,   1.0580,-999.0000, -999.00
 316N145_14,       I02E,    1144,          1,          6,     SIH018,2,19951225,       0000,    -8.0000,    76.0000,       5175,  4247.2,   1.3627,  34.7177,2,  34.7170,2,    178.9,2,   179.4,2,  136.99,2,   33.65,2,    0.01,2,    2.34,2,-999.000,5,-999.000,5,  -999.0,9,  -999.0,9,  -999.0,5,-999.000,1,-999.000,-999.0000,1, -999.00,9, -999.00,9,  -999.0,9,  -999.0,-999.000,9,-999.000, 42613.5,   1.0203,-999.0000, -999.00
 316N145_14,       I02E,    1144,          1,          5,     SIH002,2,19951225,       0000,    -8.0000,    76.0000,       5175,  4497.2,   1.3660,  34.7168,2,  34.7170,2,    181.1,2,   181.0,2,  136.46,2,   33.59,2,    0.01,2,    2.33,2,-999.000,5,-999.000,5,  -999.0,9,  -999.0,9,  -999.0,5,-999.000,1,-999.000,-999.0000,1, -999.00,9, -999.00,9,  -999.0,9,  -999.0,-999.000,9,-999.000, 45113.5,   0.9953,-999.0000, -999.00
 316N145_14,       I02E,    1144,          1,          4,     SIH020,2,19951225,       0000,    -8.0000,    76.0000,       5175,  4748.1,   1.3819,  34.7172,2,  34.7158,2,    182.1,2,   182.1,2,  135.76,2,   33.52,2,    0.01,2,    2.33,2,-999.000,5,-999.000,5,  -999.0,9,  -999.0,9,  -999.0,5,-999.000,1,-999.000,-999.0000,1, -999.00,9, -999.00,9,  -999.0,9,  -999.0,-999.000,9,-999.000, 47624.7,   0.9815,-999.0000, -999.00
 316N145_14,       I02E,    1144,          1,          3,     SIH021,2,19951225,       0000,    -8.0000,    76.0000,       5175,  4998.8,   1.4034,  34.7165,2,  34.7158,2,    183.2,2,   182.7,2,  135.58,2,   33.51,2,    0.01,2,    2.33,2,-999.000,5,-999.000,5,  -999.0,9,  -999.0,9,  -999.0,5,-999.000,1,-999.000,-999.0000,1, -999.00,9, -999.00,9,  -999.0,9,  -999.0,-999.000,9,-999.000, 50131.8,   0.9723,-999.0000, -999.00
 316N145_14,       I02E,    1144,          1,          2,     SIH022,2,19951225,       0000,    -8.0000,    76.0000,       5175,  5254.7,   1.4327,  34.7162,2,  34.7164,2,    181.5,2,   183.0,2,  135.41,2,   33.45,2,    0.01,2,    2.32,2,   0.000,2,  -0.001,2,  -999.0,9,  -999.0,9,  -999.0,5,-999.000,1,-999.000,-999.0000,1, -999.00,9, -999.00,9,  -999.0,9,  -999.0,-999.000,9,-999.000, 52692.3,   0.9692,-999.0000, -999.00
 316N145_14,       I02E,    1144,          1,          1,     SIH023,2,19951225,       0000,    -8.0000,    76.0000,       5175,  5286.8,   1.4368,  34.7166,2,  34.7162,2,    182.7,2,   183.3,2,  135.07,6,   33.43,6,    0.02,6,    2.32,6,   0.000,2,   0.001,2,  -999.0,9,  -999.0,9,  -999.0,5,-999.000,1,-999.000,-999.0000,1, -999.00,9, -999.00,9,  -999.0,9,  -999.0,-999.000,9,-999.000, 53013.7,   0.9692,-999.0000, -999.00