BOTTLE,20220829CCHSIOAMB
EXPOCODE,SECT_ID,STNNBR,CASTNO,SAMPNO,BTLNBR,BTLNBR_FLAG_W,DATE,TIME,LATITUDE,LONGITUDE,DEPTH,CTDPRS,CTDTMP,CTDSAL,CTDSAL_FLAG_W,SALNTY,SALNTY_FLAG_W,CTDOXY,CTDOXY_FLAG_W,OXYGEN,OXYGEN_FLAG_W,SILCAT,SILCAT_FLAG_W,NITRAT,NITRAT_FLAG_W,NITRIT,NITRIT_FLAG_W,PHSPHT,PHSPHT_FLAG_W,CFC-11,CFC-11_FLAG_W,CFC-12,CFC-12_FLAG_W,TCARBN,TCARBN_FLAG_W,ALKALI,ALKALI_FLAG_W,PCO2,PCO2_FLAG_W,TRITUM,TRITUM_FLAG_W,TRITER,HELIUM,HELIUM_FLAG_W,DELHE3,DELHE3_FLAG_W,DELC13,DELC13_FLAG_W,DELC14,DELC14_FLAG_W,C14ERR,NEON,NEON_FLAG_W,NEONER,CTDRAW,THETA,HELIER,DELHER
,,,,,,,,,,,METERS,DBAR,ITS-90,PSS-78,,PSS-78,,UMOL/KG,,UMOL/KG,,UMOL/KG,,UMOL/KG,,UMOL/KG,,UMOL/KG,,PMOL/KG,,PMOL/KG,,UMOL/KG,,UMOL/KG,,UATM,,TU,,TU,NMOL/KG,,PERCNT,,/MILLE,,/MILLE,,/MILLE,NMOL/KG,,NMOL/KG,DBAR,DEG C,NMOL/KG,PERCNT
 316N145_14,       I02E,    1090,          1,         36,     SIH024,2,19951209,       0017,    -7.9992,    98.0000,       4600,     4.6,  28.0268,  33.7216,2,  33.7237,2,    200.6,2,   208.0,2,    1.73,2,    0.20,2,    0.00,2,    0.08,2,   1.646,2,   0.967,2,  1874.0,2,  2217.2,2,  -999.0,5,-999.000,1,-999.000,-999.0000,1, -999.00,9,    1.26,2,    65.4,2,     3.6,-999.000,9,-999.000,   192.6,  28.0257,-999.0000, -999.00
 316N145_14,       I02E,    1090,          1,         35,     SIH003,2,19951209,       0017,    -7.9992,    98.0000,       4600,    32.3,  28.0190,  33.7726,2,  33.8472,2,    203.7,2,   210.9,2,    2.00,2,    0.21,2,    0.00,2,    0.10,2,-999.000,5,-999.000,5,  1885.5,2,  2218.2,2,  -999.0,5,-999.000,1,-999.000,-999.0000,1, -999.00,9,    1.28,2,    61.2,2,     5.2,-999.000,9,-999.000,   460.5,  28.0114,-999.0000, -999.00
 316N145_14,       I02E,    1090,          1,         34,     SIH026,2,19951209,       0017,    -7.9992,    98.0000,       4600,    57.1,  26.3212,  34.6689,2,  34.6669,2,    173.3,2,   179.2,2,    3.85,2,    0.46,2,    0.01,2,    0.31,2,   1.570,2,   0.883,2,  1980.9,2,  2281.6,2,  -999.0,5,-999.000,1,-999.000,-999.0000,1, -999.00,9,    1.17,2,    65.6,2,     5.1,-999.000,9,-999.000,   701.0,  26.3083,-999.0000, -999.00
 316N145_14,       I02E,    1090,          1,         33,     SIH027,2,19951209,       0017,    -7.9992,    98.0000,       4600,   102.5,  18.1364,  34.8542,2,  34.8475,2,     72.5,2,    76.8,2,   20.07,2,   20.84,2,    0.02,2,    1.46,2,   1.200,2,   0.657,2,  2134.9,2,  2292.8,2,  -999.0,5,-999.000,1,-999.000,-999.0000,1, -999.00,9,    0.15,2,    53.4,2,     3.9,-999.000,9,-999.000,  1151.9,  18.1188,-999.0000, -999.00
 316N145_14,       I02E,    1090,          1,         32,     SIH028,2,19951209,       0017,    -7.9992,    98.0000,       4600,   152.4,  14.3822,  34.8685,2,  34.8800,2,     61.4,2,    60.4,2,   25.93,2,   26.04,2,    0.00,2,    1.82,2,-999.000,5,-999.000,5,  2180.5,2,  2307.6,2,  -999.0,5,-999.000,1,-999.000,-999.0000,1, -999.00,9,    0.18,2,    23.9,2,     4.3,-999.000,9,-999.000,  1649.6,  14.3599,-999.0000, -999.00
 316N145_14,       I02E,    1090,          1,         31,     SIH029,2,19951209,       0017,    -7.9992,    98.0000,       4600,   207.8,  12.2912,  34.8474,2,  34.8434,2,     61.8,2,    61.8,2,   30.98,2,   28.23,2,    0.00,2,    1.96,2,   0.526,2,   0.280,2,  2203.0,2,  2309.2,2,  -999.0,5,-999.000,1,-999.000,-999.0000,1, -999.00,9,    0.21,2,   -11.1,2,     4.0,-999.000,9,-999.000,  2203.6,  12.2637,-999.0000, -999.00
 316N145_14,       I02E,    1090,          1,         30,     SIH030,2,19951209,       0017,    -7.9992,    98.0000,       4600,   252.7,  11.4483,  34.8470,2,  34.8467,2,     62.0,2,    61.0,2,   32.32,2,   29.39,2,    0.00,2,    2.03,2,   0.392,2,   0.217,2,  2215.3,2,  2318.4,2,  -999.0,5,-999.000,1,-999.000,-999.0000,1, -999.00,9, -999.00,9,  -999.0,9,  -999.0,-999.000,9,-999.000,  2652.7,  11.4163,-999.0000, -999.00
 316N145_14,       I02E,    1090,          1,         29,     SIH031,3,19951209,       0017,    -7.9992,    98.0000,       4600,   301.9,  10.9132,  34.8732,2,  34.8682,2,     60.9,2,    63.8,2,   32.06,2,   30.07,2,    0.00,2,    2.06,2,-999.000,5,-999.000,5,  2219.3,2,  2312.8,2,  -999.0,5,-999.000,1,-999.000,-999.0000,1, -999.00,9, -999.00,9,  -999.0,9,  -999.0,-999.000,9,-999.000,  3145.6,  10.8760,-999.0000, -999.00
 316N145_14,       I02E,    1090,          1,         28,     SIH032,2,19951209,       0017,    -7.9992,    98.0000,       4600,   351.3,  10.4567,  34.8794,2,  34.8757,2,     63.2,2,    66.1,2,   31.27,2,   30.54,2,    0.00,2,    2.06,2,   0.214,2,   0.120,2,  2220.5,2,  2317.7,2,  -999.0,5,-999.000,1,-999.000,-999.0000,1, -999.00,9,    0.22,2,   -93.7,2,     4.9,-999.000,9,-999.000,  3639.4,  10.4145,-999.0000, -999.00
 316N145_14,       I02E,    1090,          1,         27,     SIH033,2,19951209,       0017,    -7.9992,    98.0000,       4600,   395.6,  10.0490,  34.8679,2,  34.8088,4,     68.2,2,    85.6,4,   64.03,4,   32.89,4,    0.00,4,    2.29,4,   0.081,2,   0.047,2,  2240.7,4,  -999.0,9,  -999.0,5,-999.000,1,-999.000,-999.0000,1, -999.00,9,    0.30,2,  -121.3,2,     3.7,-999.000,9,-999.000,  4082.5,  10.0026,-999.0000, -999.00
 316N145_14,       I02E,    1090,          1,         26,     SIH037,2,19951209,       0017,    -7.9992,    98.0000,       4600,   496.7,   9.2222,  34.8310,2,  34.8314,2,     68.7,2,    68.2,2,   40.08,2,   32.43,2,    0.01,2,    2.25,2,   0.087,2,   0.055,2,  2235.3,2,  2326.6,2,  -999.0,5,-999.000,1,-999.000,-999.0000,1, -999.00,9,    0.34,2,  -104.1,2,     3.8,-999.000,9,-999.000,  5094.2,   9.1666,-999.0000, -999.00
 316N145_14,       I02E,    1090,          1,         25,     SI9446,2,19951209,       0017,    -7.9992,    98.0000,       4600,   587.6,   8.3814,  34.8034,2,  34.7997,2,     64.6,2,    65.0,2,   51.02,2,   34.04,2,    0.01,2,    2.40,2,   0.038,6,   0.025,6,  2251.9,2,  2331.4,2,  -999.0,5,-999.000,1,-999.000,-999.0000,1, -999.00,9,    0.24,2,  -131.0,2,     2.7,-999.000,9,-999.000,  6003.0,   8.3189,-999.0000, -999.00
 316N145_14,       I02E,    1090,          1,         24,     SIH036,3,19951209,       0017,    -7.9992,    98.0000,       4600,   687.7,   7.6856,  34.7827,2,  34.7817,2,     60.7,2,    62.3,2,   62.76,2,   35.14,2,    0.01,2,    2.52,2,-999.000,5,-999.000,5,  2266.3,2,  2347.7,2,  -999.0,5,-999.000,1,-999.000,-999.0000,1, -999.00,9, -999.00,9,  -999.0,9,  -999.0,-999.000,9,-999.000,  7004.0,   7.6156,-999.0000, -999.00
 316N145_14,       I02E,    1090,          1,         23,     SIH001,2,19951209,       0017,    -7.9992,    98.0000,       4600,   787.7,   6.8067,  34.7607,2,  34.7594,2,     65.3,2,    64.9,2,   75.03,2,   35.98,2,    0.01,2,    2.60,2,   0.015,2,   0.009,2,  2283.2,2,  2355.4,2,  -999.0,5,-999.000,1,-999.000,-999.0000,1, -999.00,9,    0.13,2,  -155.1,2,     3.9,-999.000,9,-999.000,  8004.2,   6.7312,-999.0000, -999.00
 316N145_14,       I02E,    1090,          1,         22,     SIH019,2,19951209,       0017,    -7.9992,    98.0000,       4600,   899.2,   6.2212,  34.7375,2,  34.7374,2,     70.3,2,    70.6,2,   83.06,2,   36.30,2,    0.01,2,    2.63,2,   0.013,2,   0.013,2,  2291.0,2,  2368.0,2,  -999.0,5,-999.000,1,-999.000,-999.0000,1, -999.00,9, -999.00,9,  -999.0,9,  -999.0,-999.000,9,-999.000,  9119.1,   6.1383,-999.0000, -999.00
 316N145_14,       I02E,    1090,          1,         21,     SIH025,2,19951209,       0017,    -7.9992,    98.0000,       4600,   999.3,   5.5039,  34.7043,2,  34.7040,2,     79.5,2,    77.8,2,   91.88,2,   36.52,2,    0.01,2,    2.64,2,   0.011,2,   0.007,2,  2297.2,2,  2371.1,2,  -999.0,5,-999.000,1,-999.000,-999.0000,1, -999.00,9,    0.10,2,  -171.9,2,     3.2,-999.000,9,-999.000, 10120.0,   5.4165,-999.0000, -999.00
 316N145_14,       I02E,    1090,          1,         20,     SIH004,2,19951209,       0017,    -7.9992,    98.0000,       4600,  1093.7,   4.9872,  34.6836,2,  34.6834,2,     85.6,2,    85.2,2,   98.85,2,   36.53,2,    0.01,2,    2.63,2,   0.011,2,   0.007,2,  2298.4,2,  2379.9,2,  -999.0,5,-999.000,1,-999.000,   1.8980,2,   15.13,2,    0.13,2,  -189.9,2,     2.8,   7.902,2,   0.015, 11064.9,   4.8951,   0.0060,    0.20
 316N145_14,       I02E,    1090,          1,         19,     SIH005,2,19951209,       0017,    -7.9992,    98.0000,       4600,  1190.1,   4.7917,  34.7209,2,  34.7197,2,     84.9,2,    85.3,2,   99.66,2,   36.80,2,    0.00,2,    2.67,2,   0.003,2,   0.000,2,  2305.8,2,  2380.8,2,  -999.0,5,-999.000,1,-999.000,   1.8820,2,   13.85,2,    0.08,2,  -176.5,2,     3.4,   7.898,2,   0.015, 12029.8,   4.6924,   0.0060,    0.20
 316N145_14,       I02E,    1090,          1,         18,     SIH006,2,19951209,       0017,    -7.9992,    98.0000,       4600,  1290.2,   4.5427,  34.7380,2,  34.7380,2,     88.5,2,    88.2,2,  101.56,2,   36.80,2,    0.01,2,    2.66,2,   0.000,2,  -0.001,2,  2307.1,2,  2390.8,2,  -999.0,5,-999.000,1,-999.000,-999.0000,1, -999.00,9,    0.13,2,  -169.2,2,     3.4,-999.000,9,-999.000, 13032.0,   4.4365,-999.0000, -999.00
 316N145_14,       I02E,    1090,          1,         17,     SIH038,2,19951209,       0017,    -7.9992,    98.0000,       4600,  1378.2,   4.3480,  34.7516,2,  34.7510,2,     92.5,2,    91.9,2,  103.45,2,   36.65,2,    0.01,2,    2.66,2,   0.000,2,   0.000,2,  2309.6,2,  2387.6,2,  -999.0,5,-999.000,1,-999.000,   1.8760,2,   13.59,2,    0.12,2,  -187.8,2,     4.3,   7.897,2,   0.015, 13912.3,   4.2356,   0.0060,    0.20
 316N145_14,       I02E,    1090,          1,         16,     SIH008,2,19951209,       0017,    -7.9992,    98.0000,       4600,  1580.9,   3.7262,  34.7617,2,  34.7626,2,    108.7,2,   105.4,2,  107.49,2,   36.35,2,    0.01,2,    2.61,2,   0.003,2,   0.003,2,  2308.7,2,  2389.5,2,  -999.0,5,-999.000,1,-999.000,   1.8840,2,   13.26,2,    0.20,2,  -193.1,2,     2.5,   7.975,2,   0.016, 15938.7,   3.6024,   0.0060,    0.20
 316N145_14,       I02E,    1090,          1,         15,     SIH009,2,19951209,       0017,    -7.9992,    98.0000,       4600,  1785.5,   3.1405,  34.7589,2,  34.7598,2,    120.2,2,   119.1,2,  113.39,2,   35.73,2,    0.01,2,    2.56,2,-999.000,5,-999.000,5,  2309.3,2,  2396.9,2,  -999.0,5,-999.000,1,-999.000,   1.9080,2,   13.53,2,    0.21,2,  -202.5,2,     3.0,   8.091,2,   0.016, 17985.9,   3.0059,   0.0060,    0.20
 316N145_14,       I02E,    1090,          1,         14,     SIH010,2,19951209,       0017,    -7.9992,    98.0000,       4600,  1977.8,   2.7940,  34.7574,2,  34.7581,2,    130.3,2,   128.8,2,  116.63,2,   35.43,2,    0.01,2,    2.53,2,-999.000,5,-999.000,5,  2306.9,2,  2402.0,2,  -999.0,5,-999.000,1,-999.000,   2.0020,4,   13.04,3,    0.22,2,  -204.9,2,     2.8,   8.325,4,   0.016, 19909.7,   2.6471,   0.0070,    0.20
 316N145_14,       I02E,    1090,          1,         13,     SIH011,2,19951209,       0017,    -7.9992,    98.0000,       4600,  2183.1,   2.4100,  34.7481,2,  34.7471,2,    139.6,2,   138.9,2,  120.40,2,   35.07,2,    0.01,2,    2.48,2,  -0.001,2,   0.000,2,  2310.6,2,  2401.8,2,  -999.0,5,-999.000,1,-999.000,   1.9060,2,   13.88,2,    0.18,2,  -202.6,2,     4.0,   8.059,2,   0.016, 21964.1,   2.2508,   0.0060,    0.20
 316N145_14,       I02E,    1090,          1,         12,     SIH012,3,19951209,       0017,    -7.9992,    98.0000,       4600,  2385.2,   2.1575,  34.7426,2,  34.7433,2,    146.3,2,   146.5,2,  123.91,2,   34.81,2,    0.01,2,    2.45,2,-999.000,5,-999.000,5,  2304.3,2,  2411.0,2,  -999.0,5,-999.000,1,-999.000,-999.0000,1, -999.00,9,    0.21,2,  -210.0,2,     3.3,-999.000,9,-999.000, 23986.0,   1.9844,-999.0000, -999.00
 316N145_14,       I02E,    1090,          1,         11,     SI9425,3,19951209,       0017,    -7.9992,    98.0000,       4600,  2589.3,   1.9850,  34.7379,2,  34.7374,2,    153.1,2,   152.7,2,  125.28,2,   34.67,2,    0.01,2,    2.43,2,-999.000,5,-999.000,5,  2305.7,2,  2407.2,2,  -999.0,5,-999.000,1,-999.000,-999.0000,1, -999.00,9,    0.16,2,  -199.9,2,     3.7,-999.000,9,-999.000, 26027.7,   1.7965,-999.0000, -999.00
 316N145_14,       I02E,    1090,          1,         10,     SIH014,2,19951209,       0017,    -7.9992,    98.0000,       4600,  2793.0,   1.8237,  34.7342,2,  34.7341,2,    158.5,2,   158.2,2,  126.92,2,   34.52,2,    0.01,2,    2.40,2,-999.000,5,-999.000,5,  2303.5,2,  2420.7,3,  -999.0,5,-999.000,1,-999.000,   1.9530,2,   13.27,2,    0.25,2,  -202.5,2,     4.1,   8.244,2,   0.016, 28065.1,   1.6193,   0.0070,    0.20
 316N145_14,       I02E,    1090,          1,          9,     SIH015,2,19951209,       0017,    -7.9992,    98.0000,       4600,  2985.2,   1.7358,  34.7307,2,  34.7313,2,    161.8,2,   161.4,2,  128.03,2,   34.32,2,    0.01,2,    2.38,2,  -0.001,2,   0.001,2,  2301.7,2,  2410.1,2,  -999.0,5,-999.000,1,-999.000,   1.9240,2,   13.48,2,    0.26,2,  -209.0,2,     3.0,   8.162,2,   0.016, 29988.9,   1.5150,   0.0060,    0.20
 316N145_14,       I02E,    1090,          1,          8,     SIH016,2,19951209,       0017,    -7.9992,    98.0000,       4600,  3189.2,   1.6440,  34.7277,2,  34.7290,2,    164.5,2,   164.7,2,  128.59,2,   34.23,2,    0.01,2,    2.38,2,-999.000,5,-999.000,5,  2307.0,2,  2412.6,2,  -999.0,5,-999.000,1,-999.000,   1.9070,2,   13.00,2,    0.28,2,  -200.3,2,     2.5,   8.269,2,   0.016, 32029.3,   1.4053,   0.0060,    0.20
 316N145_14,       I02E,    1090,          1,          7,     SIH017,2,19951209,       0017,    -7.9992,    98.0000,       4600,  3397.7,   1.5407,  34.7240,2,  34.7243,2,    170.2,2,   170.0,2,  128.10,2,   33.92,2,    0.01,2,    2.37,2,-999.000,5,-999.000,5,  2297.1,2,  2411.1,2,  -999.0,5,-999.000,1,-999.000,-999.0000,1, -999.00,9,    0.27,2,  -192.1,2,     2.9,-999.000,9,-999.000, 34115.6,   1.2837,-999.0000, -999.00
 316N145_14,       I02E,    1090,          1,          6,     SIH018,2,19951209,       0017,    -7.9992,    98.0000,       4600,  3590.4,   1.3806,  34.7191,2,  34.7205,2,    179.0,2,   178.2,2,  128.40,2,   33.51,2,    0.01,2,    2.32,2,-999.000,5,-999.000,5,  2290.5,2,  2411.5,2,  -999.0,5,-999.000,1,-999.000,   1.9440,2,   12.58,2,    0.34,2,  -202.2,2,     3.8,   8.238,2,   0.016, 36042.9,   1.1080,   0.0060,    0.20
 316N145_14,       I02E,    1090,          1,          5,     SIH002,2,19951209,       0017,    -7.9992,    98.0000,       4600,  3778.7,   1.2824,  34.7170,2,  34.7168,2,    184.4,2,   183.7,2,  127.63,2,   33.42,2,    0.00,2,    2.30,2,   0.001,2,   0.003,2,  2290.1,2,  2400.6,2,  -999.0,5,-999.000,1,-999.000,-999.0000,1, -999.00,9,    0.32,2,  -189.7,2,     2.8,-999.000,9,-999.000, 37926.5,   0.9929,-999.0000, -999.00
 316N145_14,       I02E,    1090,          1,          4,     SIH020,2,19951209,       0017,    -7.9992,    98.0000,       4600,  4023.4,   1.2048,  34.7142,2,  34.7144,2,    189.0,2,   189.3,2,  127.13,2,   33.06,2,    0.01,2,    2.28,2,-999.000,5,-999.000,5,  2285.8,2,  2402.8,2,  -999.0,5,-999.000,1,-999.000,   1.9280,2,   11.68,2,    0.38,2,  -186.2,2,     2.9,   8.344,2,   0.016, 40373.6,   0.8915,   0.0060,    0.20
 316N145_14,       I02E,    1090,          1,          3,     SIH021,2,19951209,       0017,    -7.9992,    98.0000,       4600,  4253.6,   1.1716,  34.7134,2,  34.7132,2,    192.6,2,   192.4,2,  126.36,2,   32.97,2,    0.00,2,    2.27,2,-999.000,5,-999.000,5,  2280.2,2,  2398.3,2,  -999.0,5,-999.000,1,-999.000,-999.0000,1, -999.00,9,    0.37,2,  -174.2,2,     2.6,-999.000,9,-999.000, 42676.7,   0.8343,-999.0000, -999.00
 316N145_14,       I02E,    1090,          1,          2,     SIH022,2,19951209,       0017,    -7.9992,    98.0000,       4600,  4504.1,   1.1562,  34.7123,2,  34.7132,2,    195.4,2,   195.4,2,  125.05,2,   32.61,2,    0.01,2,    2.25,2,-999.000,5,-999.000,5,  2281.0,2,  2396.2,2,  -999.0,5,-999.000,1,-999.000,   1.9080,2,   11.08,2,    0.40,2,  -192.0,2,     2.8,   8.218,2,   0.016, 45183.2,   0.7913,   0.0060,    0.20
 316N145_14,       I02E,    1090,          1,          1,     SIH023,2,19951209,       0017,    -7.9992,    98.0000,       4600,  4945.0,   1.1948,  34.7120,2,  34.7113,2,    195.4,2,   196.2,2,  124.85,6,   32.65,6,    0.00,6,    2.24,6,   0.000,2,   0.001,2,  2283.6,2,  2398.0,2,  -999.0,5,-999.000,1,-999.000,   1.9170,2,   10.74,2,    0.42,2,  -182.4,2,     2.7,   8.284,2,   0.016, 49592.2,   0.7773,   0.0060,    0.20