BOTTLE,20220829CCHSIOAMB
EXPOCODE,SECT_ID,STNNBR,CASTNO,SAMPNO,BTLNBR,BTLNBR_FLAG_W,DATE,TIME,LATITUDE,LONGITUDE,DEPTH,CTDPRS,CTDTMP,CTDSAL,CTDSAL_FLAG_W,SALNTY,SALNTY_FLAG_W,CTDOXY,CTDOXY_FLAG_W,OXYGEN,OXYGEN_FLAG_W,SILCAT,SILCAT_FLAG_W,NITRAT,NITRAT_FLAG_W,NITRIT,NITRIT_FLAG_W,PHSPHT,PHSPHT_FLAG_W,CFC-11,CFC-11_FLAG_W,CFC-12,CFC-12_FLAG_W,TCARBN,TCARBN_FLAG_W,ALKALI,ALKALI_FLAG_W,PCO2,PCO2_FLAG_W,TRITUM,TRITUM_FLAG_W,TRITER,HELIUM,HELIUM_FLAG_W,DELHE3,DELHE3_FLAG_W,DELC13,DELC13_FLAG_W,DELC14,DELC14_FLAG_W,C14ERR,NEON,NEON_FLAG_W,NEONER,CTDRAW,THETA,HELIER,DELHER
,,,,,,,,,,,METERS,DBAR,ITS-90,PSS-78,,PSS-78,,UMOL/KG,,UMOL/KG,,UMOL/KG,,UMOL/KG,,UMOL/KG,,UMOL/KG,,PMOL/KG,,PMOL/KG,,UMOL/KG,,UMOL/KG,,UATM,,TU,,TU,NMOL/KG,,PERCNT,,/MILLE,,/MILLE,,/MILLE,NMOL/KG,,NMOL/KG,DBAR,DEG C,NMOL/KG,PERCNT
 316N145_14,       I02E,    1129,          1,         36,     SIH024,2,19951220,       1240,    -8.0000,    86.0000,       5258,    11.0,  28.3509,  34.2458,2,  34.2497,2,    206.8,2,   209.7,2,    2.09,2,    0.02,2,    0.00,2,    0.08,2,   1.652,2,   0.941,2,  1922.4,2,  2245.6,2,  -999.0,5,-999.000,1,-999.000,-999.0000,1, -999.00,9, -999.00,9,  -999.0,9,  -999.0,-999.000,9,-999.000,   255.5,  28.3483,-999.0000, -999.00
 316N145_14,       I02E,    1129,          1,         35,     SIH003,2,19951220,       1240,    -8.0000,    86.0000,       5258,    28.9,  27.8043,  34.2129,2,  34.2185,2,    221.6,2,   217.7,2,    2.09,2,    0.14,2,    0.00,2,    0.07,2,   1.669,2,   0.951,2,  1918.7,2,  2313.1,3,  -999.0,5,-999.000,1,-999.000,-999.0000,1, -999.00,9, -999.00,9,  -999.0,9,  -999.0,-999.000,9,-999.000,   428.0,  27.7976,-999.0000, -999.00
 316N145_14,       I02E,    1129,          1,         34,     SIH026,2,19951220,       1240,    -8.0000,    86.0000,       5258,    58.4,  25.2594,  34.4093,2,  34.4159,2,    184.1,2,   188.0,2,    3.99,2,    1.19,2,    0.07,2,    0.29,2,   1.665,2,   0.931,2,  1973.8,2,  2262.8,2,  -999.0,5,-999.000,1,-999.000,-999.0000,1, -999.00,9, -999.00,9,  -999.0,9,  -999.0,-999.000,9,-999.000,   715.4,  25.2467,-999.0000, -999.00
 316N145_14,       I02E,    1129,          1,         33,     SIH027,2,19951220,       1240,    -8.0000,    86.0000,       5258,    97.8,  20.0615,  34.7996,2,  34.8055,2,    103.2,2,    88.5,2,   16.25,2,   16.72,2,    0.10,2,    1.24,2,   1.342,2,   0.722,2,  2107.5,2,  2292.0,2,  -999.0,5,-999.000,1,-999.000,-999.0000,1, -999.00,9, -999.00,9,  -999.0,9,  -999.0,-999.000,9,-999.000,  1105.3,  20.0434,-999.0000, -999.00
 316N145_14,       I02E,    1129,          1,         32,     SIH028,2,19951220,       1240,    -8.0000,    86.0000,       5258,   148.0,  15.8685,  34.8384,2,  34.8316,2,     62.8,2,    62.1,2,   25.42,2,   24.02,2,    0.01,2,    1.70,2,   0.946,2,   0.490,2,  2168.6,2,  2299.6,2,  -999.0,5,-999.000,1,-999.000,-999.0000,1, -999.00,9, -999.00,9,  -999.0,9,  -999.0,-999.000,9,-999.000,  1604.7,  15.8453,-999.0000, -999.00
 316N145_14,       I02E,    1129,          1,         31,     SIH029,2,19951220,       1240,    -8.0000,    86.0000,       5258,   197.9,  13.1038,  34.7923,2,  34.7913,2,     62.1,2,    63.3,2,   31.12,2,   26.73,2,    0.01,2,    1.90,2,   0.615,2,   0.295,2,  2194.9,2,  2307.8,2,  -999.0,5,-999.000,1,-999.000,-999.0000,1, -999.00,9, -999.00,9,  -999.0,9,  -999.0,-999.000,9,-999.000,  2104.3,  13.0764,-999.0000, -999.00
 316N145_14,       I02E,    1129,          1,         30,     SIH030,2,19951220,       1240,    -8.0000,    86.0000,       5258,   248.7,  11.9716,  34.8530,2,  34.8452,2,     59.3,2,    60.4,2,   31.98,2,   28.24,2,    0.00,2,    1.98,2,-999.000,5,-999.000,5,  2209.3,2,  2311.5,2,  -999.0,5,-999.000,1,-999.000,-999.0000,1, -999.00,9, -999.00,9,  -999.0,9,  -999.0,-999.000,9,-999.000,  2612.5,  11.9392,-999.0000, -999.00
 316N145_14,       I02E,    1129,          1,         29,     SIH031,2,19951220,       1240,    -8.0000,    86.0000,       5258,   298.3,  11.1551,  34.8892,2,  34.8912,2,     59.0,2,    60.4,2,   30.94,2,   29.30,2,    0.00,2,    2.02,2,   0.277,2,   0.147,2,  2216.8,2,  2320.3,3,  -999.0,5,-999.000,1,-999.000,-999.0000,1, -999.00,9, -999.00,9,  -999.0,9,  -999.0,-999.000,9,-999.000,  3109.2,  11.1179,-999.0000, -999.00
 316N145_14,       I02E,    1129,          1,         28,     SIH032,2,19951220,       1240,    -8.0000,    86.0000,       5258,   348.1,  10.5932,  34.8942,2,  34.8930,2,     63.6,2,    65.5,2,   30.41,2,   29.80,2,    0.00,2,    2.04,2,-999.000,5,-999.000,5,  2218.2,2,  2313.7,2,  -999.0,5,-999.000,1,-999.000,-999.0000,1, -999.00,9, -999.00,9,  -999.0,9,  -999.0,-999.000,9,-999.000,  3606.5,  10.5510,-999.0000, -999.00
 316N145_14,       I02E,    1129,          1,         27,     SIH033,2,19951220,       1240,    -8.0000,    86.0000,       5258,   398.9,  10.0894,  34.8722,2,  34.8719,2,     73.6,2,    73.2,2,   31.44,2,   30.25,2,    0.00,2,    2.04,2,   0.188,2,   0.100,2,  2218.2,2,  2315.4,2,  -999.0,5,-999.000,1,-999.000,-999.0000,1, -999.00,9, -999.00,9,  -999.0,9,  -999.0,-999.000,9,-999.000,  4115.0,  10.0424,-999.0000, -999.00
 316N145_14,       I02E,    1129,          1,         26,     SIH037,2,19951220,       1240,    -8.0000,    86.0000,       5258,   499.2,   8.9847,  34.8155,2,  34.8139,2,     74.9,2,    76.2,2,   40.44,2,   31.81,2,    0.00,2,    2.22,2,   0.084,2,   0.047,2,  2231.4,2,  2321.8,2,  -999.0,5,-999.000,1,-999.000,-999.0000,1, -999.00,9, -999.00,9,  -999.0,9,  -999.0,-999.000,9,-999.000,  5118.3,   8.9297,-999.0000, -999.00
 316N145_14,       I02E,    1129,          1,         25,     SI9446,2,19951220,       1240,    -8.0000,    86.0000,       5258,   598.7,   8.1872,  34.7962,2,  34.7946,2,     65.5,2,    66.3,2,   53.76,2,   33.93,2,    0.00,2,    2.43,2,   0.028,2,   0.018,2,  2253.3,2,  2332.8,2,  -999.0,5,-999.000,1,-999.000,-999.0000,1, -999.00,9, -999.00,9,  -999.0,9,  -999.0,-999.000,9,-999.000,  6113.7,   8.1244,-999.0000, -999.00
 316N145_14,       I02E,    1129,          1,         24,     SIH036,2,19951220,       1240,    -8.0000,    86.0000,       5258,   699.1,   7.4610,  34.7727,2,  34.7710,2,     64.0,2,    62.8,2,   65.53,2,   35.34,2,    0.00,2,    2.54,2,   0.014,6,   0.007,6,  2269.8,2,  2345.3,2,  -999.0,5,-999.000,1,-999.000,-999.0000,1, -999.00,9, -999.00,9,  -999.0,9,  -999.0,-999.000,9,-999.000,  7117.4,   7.3910,-999.0000, -999.00
 316N145_14,       I02E,    1129,          1,         23,     SIH001,2,19951220,       1240,    -8.0000,    86.0000,       5258,   800.0,   6.6604,  34.7322,2,  34.7311,2,     69.5,2,    68.2,2,   76.61,2,   35.72,2,    0.00,2,    2.60,2,   0.008,2,   0.004,2,  2280.3,2,  2357.1,2,  -999.0,5,-999.000,1,-999.000,-999.0000,1, -999.00,9, -999.00,9,  -999.0,9,  -999.0,-999.000,9,-999.000,  8126.1,   6.5846,-999.0000, -999.00
 316N145_14,       I02E,    1129,          1,         22,     SIH019,2,19951220,       1240,    -8.0000,    86.0000,       5258,   900.0,   5.8345,  34.6959,2,  34.6950,2,     75.8,2,    75.4,2,   88.21,2,   36.05,2,    0.00,2,    2.63,2,   0.009,2,   0.001,2,  2291.2,2,  2366.3,2,  -999.0,5,-999.000,1,-999.000,-999.0000,1, -999.00,9, -999.00,9,  -999.0,9,  -999.0,-999.000,9,-999.000,  9126.8,   5.7542,-999.0000, -999.00
 316N145_14,       I02E,    1129,          1,         21,     SIH025,2,19951220,       1240,    -8.0000,    86.0000,       5258,  1000.4,   5.3023,  34.6817,2,  34.6808,2,     81.5,2,    81.4,2,   95.65,2,   36.26,2,    0.00,2,    2.64,2,   0.007,2,   0.001,2,  2297.8,2,  2376.3,2,  -999.0,5,-999.000,1,-999.000,-999.0000,1, -999.00,9, -999.00,9,  -999.0,9,  -999.0,-999.000,9,-999.000, 10131.5,   5.2164,-999.0000, -999.00
 316N145_14,       I02E,    1129,          1,         20,     SIH004,2,19951220,       1240,    -8.0000,    86.0000,       5258,  1192.5,   4.5287,  34.7059,2,  34.7058,2,     89.8,2,    90.1,2,  103.79,2,   36.48,2,    0.00,2,    2.65,2,   0.001,2,   0.000,2,  2305.6,2,  2383.0,2,  -999.0,5,-999.000,1,-999.000,-999.0000,1, -999.00,9, -999.00,9,  -999.0,9,  -999.0,-999.000,9,-999.000, 12052.9,   4.4316,-999.0000, -999.00
 316N145_14,       I02E,    1129,          1,         19,     SIH005,2,19951220,       1240,    -8.0000,    86.0000,       5258,  1393.3,   3.8650,  34.7358,2,  34.7359,2,     99.5,2,   103.1,2,  107.42,2,   36.08,2,    0.00,2,    2.63,2,-999.000,5,-999.000,5,  2307.6,2,  2394.8,2,  -999.0,5,-999.000,1,-999.000,-999.0000,1, -999.00,9, -999.00,9,  -999.0,9,  -999.0,-999.000,9,-999.000, 14062.7,   3.7564,-999.0000, -999.00
 316N145_14,       I02E,    1129,          1,         17,     SIH038,2,19951220,       1240,    -8.0000,    86.0000,       5258,  1594.4,   3.2424,  34.7464,2,  34.7459,2,    117.1,2,   116.7,2,  114.19,2,   35.65,6,    0.00,6,    2.56,6,-999.000,5,-999.000,5,  2307.2,2,  2395.4,2,  -999.0,5,-999.000,1,-999.000,-999.0000,1, -999.00,9, -999.00,9,  -999.0,9,  -999.0,-999.000,9,-999.000, 16073.8,   3.1233,-999.0000, -999.00
 316N145_14,       I02E,    1129,          1,         16,     SIH008,2,19951220,       1240,    -8.0000,    86.0000,       5258,  1798.6,   2.8351,  34.7482,2,  34.7473,2,    128.3,2,   127.3,2,  117.21,6,   35.25,6,    0.00,6,    2.52,6,-999.000,5,-999.000,5,  2306.3,2,  2398.2,2,  -999.0,5,-999.000,1,-999.000,-999.0000,1, -999.00,9, -999.00,9,  -999.0,9,  -999.0,-999.000,9,-999.000, 18116.4,   2.7035,-999.0000, -999.00
 316N145_14,       I02E,    1129,          1,         15,     SIH009,2,19951220,       1240,    -8.0000,    86.0000,       5258,  1999.8,   2.4960,  34.7464,2,  34.7455,2,    137.4,2,   137.9,2,  119.72,2,   34.79,2,    0.00,2,    2.48,2,-999.000,5,-999.000,5,  2305.7,2,  2401.1,2,  -999.0,5,-999.000,1,-999.000,-999.0000,1, -999.00,9, -999.00,9,  -999.0,9,  -999.0,-999.000,9,-999.000, 20129.4,   2.3517,-999.0000, -999.00
 316N145_14,       I02E,    1129,          1,         14,     SIH010,2,19951220,       1240,    -8.0000,    86.0000,       5258,  2241.8,   2.1708,  34.7439,2,  34.7423,2,    148.1,2,   147.8,2,  123.18,2,   34.34,2,    0.00,2,    2.45,2,   0.000,2,  -0.002,2,  2304.2,2,  2406.1,2,  -999.0,5,-999.000,1,-999.000,-999.0000,1, -999.00,9, -999.00,9,  -999.0,9,  -999.0,-999.000,9,-999.000, 22550.4,   2.0103,-999.0000, -999.00
 316N145_14,       I02E,    1129,          1,         13,     SIH011,2,19951220,       1240,    -8.0000,    86.0000,       5258,  2505.6,   1.9302,  34.7361,2,  34.7357,2,    158.1,2,   157.1,2,  124.05,2,   33.82,2,    0.00,2,    2.39,2,-999.000,5,-999.000,5,  2300.2,2,  2410.2,2,  -999.0,5,-999.000,1,-999.000,-999.0000,1, -999.00,9, -999.00,9,  -999.0,9,  -999.0,-999.000,9,-999.000, 25190.0,   1.7504,-999.0000, -999.00
 316N145_14,       I02E,    1129,          1,         12,     SIH012,2,19951220,       1240,    -8.0000,    86.0000,       5258,  2747.5,   1.7748,  34.7321,2,  34.7311,2,    160.9,2,   161.5,2,  126.99,2,   33.64,2,    0.00,2,    2.38,2,-999.000,5,-999.000,5,  2300.8,2,  2409.0,2,  -999.0,5,-999.000,1,-999.000,-999.0000,1, -999.00,9, -999.00,9,  -999.0,9,  -999.0,-999.000,9,-999.000, 27610.7,   1.5757,-999.0000, -999.00
 316N145_14,       I02E,    1129,          1,         11,     SI9426,2,19951220,       1240,    -8.0000,    86.0000,       5258,  2997.0,   1.6430,  34.7280,2,  34.7274,2,    165.2,2,   165.4,2,  129.75,2,   33.73,6,    0.00,6,    2.36,6,-999.000,5,-999.000,5,  2301.7,2,  2411.2,2,  -999.0,5,-999.000,1,-999.000,-999.0000,1, -999.00,9, -999.00,9,  -999.0,9,  -999.0,-999.000,9,-999.000, 30106.1,   1.4231,-999.0000, -999.00
 316N145_14,       I02E,    1129,          1,         10,     SIH014,2,19951220,       1240,    -8.0000,    86.0000,       5258,  3246.7,   1.5398,  34.7254,2,  34.7250,2,    167.5,2,   167.5,2,  132.52,6,   33.81,6,    0.00,6,    2.36,6,-999.000,5,-999.000,5,  2305.6,2,  2416.3,2,  -999.0,5,-999.000,1,-999.000,-999.0000,1, -999.00,9, -999.00,9,  -999.0,9,  -999.0,-999.000,9,-999.000, 32604.4,   1.2979,-999.0000, -999.00
 316N145_14,       I02E,    1129,          1,          9,     SIH015,2,19951220,       1240,    -8.0000,    86.0000,       5258,  3496.0,   1.4628,  34.7236,2,  34.7219,2,    170.6,2,   170.4,2,  133.58,2,   33.50,2,    0.00,2,    2.37,2,-999.000,5,-999.000,5,  2305.2,2,  2419.3,2,  -999.0,5,-999.000,1,-999.000,-999.0000,1, -999.00,9, -999.00,9,  -999.0,9,  -999.0,-999.000,9,-999.000, 35099.0,   1.1978,-999.0000, -999.00
 316N145_14,       I02E,    1129,          1,          8,     SIH016,2,19951220,       1240,    -8.0000,    86.0000,       5258,  3744.8,   1.3960,  34.7205,2,  34.7217,3,    177.0,2,   175.7,2,  132.71,3,   33.32,2,    0.00,2,    2.33,2,  -0.001,2,  -0.002,2,  2299.9,2,  2415.8,2,  -999.0,5,-999.000,1,-999.000,-999.0000,1, -999.00,9, -999.00,9,  -999.0,9,  -999.0,-999.000,9,-999.000, 37588.2,   1.1070,-999.0000, -999.00
 316N145_14,       I02E,    1129,          1,          7,     SIH017,2,19951220,       1240,    -8.0000,    86.0000,       5258,  3999.5,   1.3512,  34.7188,2,  34.7162,2,    180.8,2,   180.4,2,  130.78,3,   33.08,6,    0.00,6,    2.30,6,-999.000,5,-999.000,5,  2293.7,2,  2413.1,2,  -999.0,5,-999.000,1,-999.000,-999.0000,1, -999.00,9, -999.00,9,  -999.0,9,  -999.0,-999.000,9,-999.000, 40134.6,   1.0363,-999.0000, -999.00
 316N145_14,       I02E,    1129,          1,          6,     SIH018,2,19951220,       1240,    -8.0000,    86.0000,       5258,  4245.6,   1.3176,  34.7181,2,  34.7164,2,    183.0,2,   183.3,2,  131.31,6,   33.05,6,    0.00,6,    2.29,6,-999.000,5,-999.000,5,  2295.5,2,  2412.1,2,  -999.0,5,-999.000,1,-999.000,-999.0000,1, -999.00,9, -999.00,9,  -999.0,9,  -999.0,-999.000,9,-999.000, 42597.4,   0.9767,-999.0000, -999.00
 316N145_14,       I02E,    1129,          1,          5,     SIH002,2,19951220,       1240,    -8.0000,    86.0000,       5258,  4493.8,   1.3226,  34.7167,2,  34.7164,2,    185.2,2,   185.1,2,  129.77,2,   32.79,2,    0.00,2,    2.31,2,-999.000,5,-999.000,5,  2290.8,2,  2406.3,2,  -999.0,5,-999.000,1,-999.000,-999.0000,1, -999.00,9, -999.00,9,  -999.0,9,  -999.0,-999.000,9,-999.000, 45080.7,   0.9536,-999.0000, -999.00
 316N145_14,       I02E,    1129,          1,          4,     SIH020,2,19951220,       1240,    -8.0000,    86.0000,       5258,  4744.8,   1.3394,  34.7166,2,  34.7162,2,    185.5,2,   186.3,2,  129.25,2,   32.66,2,    0.00,2,    2.29,2,  -0.001,2,  -0.002,2,  2289.5,2,  2406.0,2,  -999.0,5,-999.000,1,-999.000,-999.0000,1, -999.00,9, -999.00,9,  -999.0,9,  -999.0,-999.000,9,-999.000, 47591.4,   0.9408,-999.0000, -999.00
 316N145_14,       I02E,    1129,          1,          3,     SIH021,2,19951220,       1240,    -8.0000,    86.0000,       5258,  4995.2,   1.3595,  34.7170,2,  34.7156,2,    187.4,2,   187.0,2,  129.25,2,   32.71,2,    0.00,2,    2.28,2,-999.000,5,-999.000,5,  2289.0,2,  2405.3,2,  -999.0,5,-999.000,1,-999.000,-999.0000,1, -999.00,9, -999.00,9,  -999.0,9,  -999.0,-999.000,9,-999.000, 50096.2,   0.9304,-999.0000, -999.00
 316N145_14,       I02E,    1129,          1,          2,     SIH022,2,19951220,       1240,    -8.0000,    86.0000,       5258,  5247.5,   1.3890,  34.7166,2,  34.7156,2,    187.7,2,   187.4,2,  128.56,2,   32.76,2,    0.00,2,    2.29,2,-999.000,5,-999.000,5,  2288.5,2,  2409.7,2,  -999.0,5,-999.000,1,-999.000,-999.0000,1, -999.00,9, -999.00,9,  -999.0,9,  -999.0,-999.000,9,-999.000, 52620.6,   0.9279,-999.0000, -999.00
 316N145_14,       I02E,    1129,          1,          1,     SIH023,2,19951220,       1240,    -8.0000,    86.0000,       5258,  5375.3,   1.4046,  34.7162,2,  34.7156,2,    187.0,2,   188.0,2,  128.72,6,   32.68,6,    0.00,6,    2.28,6,   0.006,2,   0.001,2,  2288.0,2,  2406.3,2,  -999.0,5,-999.000,1,-999.000,-999.0000,1, -999.00,9, -999.00,9,  -999.0,9,  -999.0,-999.000,9,-999.000, 53899.8,   0.9270,-999.0000, -999.00