BOTTLE,20220829CCHSIOAMB
EXPOCODE,SECT_ID,STNNBR,CASTNO,SAMPNO,BTLNBR,BTLNBR_FLAG_W,DATE,TIME,LATITUDE,LONGITUDE,DEPTH,CTDPRS,CTDTMP,CTDSAL,CTDSAL_FLAG_W,SALNTY,SALNTY_FLAG_W,CTDOXY,CTDOXY_FLAG_W,OXYGEN,OXYGEN_FLAG_W,SILCAT,SILCAT_FLAG_W,NITRAT,NITRAT_FLAG_W,NITRIT,NITRIT_FLAG_W,PHSPHT,PHSPHT_FLAG_W,CFC-11,CFC-11_FLAG_W,CFC-12,CFC-12_FLAG_W,TCARBN,TCARBN_FLAG_W,ALKALI,ALKALI_FLAG_W,PCO2,PCO2_FLAG_W,TRITUM,TRITUM_FLAG_W,TRITER,HELIUM,HELIUM_FLAG_W,DELHE3,DELHE3_FLAG_W,DELC13,DELC13_FLAG_W,DELC14,DELC14_FLAG_W,C14ERR,NEON,NEON_FLAG_W,NEONER,CTDRAW,THETA,HELIER,DELHER
,,,,,,,,,,,METERS,DBAR,ITS-90,PSS-78,,PSS-78,,UMOL/KG,,UMOL/KG,,UMOL/KG,,UMOL/KG,,UMOL/KG,,UMOL/KG,,PMOL/KG,,PMOL/KG,,UMOL/KG,,UMOL/KG,,UATM,,TU,,TU,NMOL/KG,,PERCNT,,/MILLE,,/MILLE,,/MILLE,NMOL/KG,,NMOL/KG,DBAR,DEG C,NMOL/KG,PERCNT
 316N145_14,       I02E,    1114,          1,         36,     SIH024,2,19951216,       0733,    -8.0000,    88.3333,       4960,     8.8,  27.5673,  34.2598,2,  34.2607,2,    235.9,2,   214.9,2,    3.60,2,    0.00,2,    0.00,2,    0.07,2,-999.000,5,-999.000,5,  1921.0,2,  2247.9,2,  -999.0,5,-999.000,1,-999.000,-999.0000,1, -999.00,9, -999.00,9,  -999.0,9,  -999.0,-999.000,9,-999.000,   232.2,  27.5652,-999.0000, -999.00
 316N145_14,       I02E,    1114,          1,         35,     SIH003,2,19951216,       0733,    -8.0000,    88.3333,       4960,    31.3,  27.3442,  34.2411,2,  34.2446,2,    225.4,2,   215.3,2,    3.69,2,    0.05,2,    0.00,2,    0.07,2,-999.000,5,-999.000,5,  1919.3,2,  -999.0,9,  -999.0,5,-999.000,1,-999.000,-999.0000,1, -999.00,9, -999.00,9,  -999.0,9,  -999.0,-999.000,9,-999.000,   453.3,  27.3370,-999.0000, -999.00
 316N145_14,       I02E,    1114,          1,         34,     SIH026,2,19951216,       0733,    -8.0000,    88.3333,       4960,    61.3,  24.9391,  34.4270,2,  34.4463,2,    134.2,2,   175.6,2,    6.95,2,    4.02,2,    0.14,2,    0.44,2,-999.000,5,-999.000,5,  1989.0,2,  2265.3,2,  -999.0,5,-999.000,1,-999.000,-999.0000,1, -999.00,9, -999.00,9,  -999.0,9,  -999.0,-999.000,9,-999.000,   746.2,  24.9259,-999.0000, -999.00
 316N145_14,       I02E,    1114,          1,         33,     SIH027,2,19951216,       0733,    -8.0000,    88.3333,       4960,   100.3,  19.4640,  34.8215,2,  34.8206,2,     95.6,2,    81.5,2,   19.06,2,   18.74,2,    0.07,2,    1.35,2,-999.000,5,-999.000,5,  -999.0,9,  -999.0,9,  -999.0,5,-999.000,1,-999.000,-999.0000,1, -999.00,9, -999.00,9,  -999.0,9,  -999.0,-999.000,9,-999.000,  1131.9,  19.4459,-999.0000, -999.00
 316N145_14,       I02E,    1114,          1,         32,     SIH028,2,19951216,       0733,    -8.0000,    88.3333,       4960,   151.8,  14.6385,  34.7459,2,  34.7496,2,     71.9,2,    72.3,2,   30.16,2,   24.17,2,    0.01,2,    1.72,2,-999.000,5,-999.000,5,  -999.0,9,  -999.0,9,  -999.0,5,-999.000,1,-999.000,-999.0000,1, -999.00,9, -999.00,9,  -999.0,9,  -999.0,-999.000,9,-999.000,  1642.8,  14.6160,-999.0000, -999.00
 316N145_14,       I02E,    1114,          1,         31,     SIH029,2,19951216,       0733,    -8.0000,    88.3333,       4960,   201.5,  12.4981,  34.7487,2,  34.7514,2,     66.8,2,    68.1,2,   34.43,2,   26.99,2,    0.00,2,    1.92,2,-999.000,5,-999.000,5,  -999.0,9,  -999.0,9,  -999.0,5,-999.000,1,-999.000,-999.0000,1, -999.00,9, -999.00,9,  -999.0,9,  -999.0,-999.000,9,-999.000,  2140.5,  12.4712,-999.0000, -999.00
 316N145_14,       I02E,    1114,          1,         30,     SIH030,2,19951216,       0733,    -8.0000,    88.3333,       4960,   252.2,  11.2987,  34.7963,2,  34.7948,2,     67.0,2,    67.5,2,   36.03,2,   28.67,2,    0.00,2,    1.99,2,-999.000,5,-999.000,5,  -999.0,9,  -999.0,9,  -999.0,5,-999.000,1,-999.000,-999.0000,1, -999.00,9, -999.00,9,  -999.0,9,  -999.0,-999.000,9,-999.000,  2647.9,  11.2670,-999.0000, -999.00
 316N145_14,       I02E,    1114,          1,         29,     SIH031,2,19951216,       0733,    -8.0000,    88.3333,       4960,   296.6,  11.0075,  34.8913,2,  34.8908,2,     59.6,2,    62.4,2,   32.08,2,   29.66,2,    0.00,2,    2.01,2,-999.000,5,-999.000,5,  -999.0,9,  -999.0,9,  -999.0,5,-999.000,1,-999.000,-999.0000,1, -999.00,9, -999.00,9,  -999.0,9,  -999.0,-999.000,9,-999.000,  3092.3,  10.9707,-999.0000, -999.00
 316N145_14,       I02E,    1114,          1,         28,     SIH032,2,19951216,       0733,    -8.0000,    88.3333,       4960,   352.2,  10.3419,  34.8663,2,  34.8646,2,     62.2,2,    63.9,2,   35.02,2,   30.81,2,    0.00,2,    2.09,2,-999.000,5,-999.000,5,  -999.0,9,  -999.0,9,  -999.0,5,-999.000,1,-999.000,-999.0000,1, -999.00,9, -999.00,9,  -999.0,9,  -999.0,-999.000,9,-999.000,  3648.7,  10.2999,-999.0000, -999.00
 316N145_14,       I02E,    1114,          1,         27,     SIH033,2,19951216,       0733,    -8.0000,    88.3333,       4960,   401.5,   9.9186,  34.8619,2,  34.8603,2,     68.0,2,    68.3,2,   35.87,2,   31.21,2,    0.00,2,    2.12,2,-999.000,5,-999.000,5,  -999.0,9,  -999.0,9,  -999.0,5,-999.000,1,-999.000,-999.0000,1, -999.00,9, -999.00,9,  -999.0,9,  -999.0,-999.000,9,-999.000,  4141.4,   9.8719,-999.0000, -999.00
 316N145_14,       I02E,    1114,          1,         26,     SIH037,2,19951216,       0733,    -8.0000,    88.3333,       4960,   502.1,   8.9732,  34.8352,2,  34.8336,2,     65.5,2,    68.7,2,   44.12,2,   32.74,2,    0.00,2,    2.31,2,-999.000,5,-999.000,5,  -999.0,9,  -999.0,9,  -999.0,5,-999.000,1,-999.000,-999.0000,1, -999.00,9, -999.00,9,  -999.0,9,  -999.0,-999.000,9,-999.000,  5146.6,   8.9179,-999.0000, -999.00
 316N145_14,       I02E,    1114,          1,         25,     SI9446,2,19951216,       0733,    -8.0000,    88.3333,       4960,   602.7,   7.9702,  34.7941,2,  34.7931,2,     62.5,2,    63.4,2,   58.43,2,   34.58,2,    0.00,2,    2.48,2,-999.000,5,-999.000,5,  -999.0,9,  -999.0,9,  -999.0,5,-999.000,1,-999.000,-999.0000,1, -999.00,9, -999.00,9,  -999.0,9,  -999.0,-999.000,9,-999.000,  6153.1,   7.9079,-999.0000, -999.00
 316N145_14,       I02E,    1114,          1,         24,     SIH036,2,19951216,       0733,    -8.0000,    88.3333,       4960,   701.6,   7.1553,  34.7588,2,  34.7587,2,     63.0,2,    63.8,2,   71.07,2,   35.67,2,    0.00,2,    2.57,2,-999.000,5,-999.000,5,  -999.0,9,  -999.0,9,  -999.0,5,-999.000,1,-999.000,-999.0000,1, -999.00,9, -999.00,9,  -999.0,9,  -999.0,-999.000,9,-999.000,  7142.8,   7.0866,-999.0000, -999.00
 316N145_14,       I02E,    1114,          1,         23,     SIH001,2,19951216,       0733,    -8.0000,    88.3333,       4960,   791.9,   6.4571,  34.7199,2,  34.7190,2,     69.1,2,    70.2,2,   81.38,2,   36.02,2,    0.00,2,    2.62,2,-999.000,5,-999.000,5,  -999.0,9,  -999.0,9,  -999.0,5,-999.000,1,-999.000,-999.0000,1, -999.00,9, -999.00,9,  -999.0,9,  -999.0,-999.000,9,-999.000,  8045.9,   6.3833,-999.0000, -999.00
 316N145_14,       I02E,    1114,          1,         22,     SIH019,2,19951216,       0733,    -8.0000,    88.3333,       4960,   896.2,   5.8660,  34.6982,2,  34.6975,2,     74.8,2,    75.6,2,   90.35,2,   36.12,2,    0.00,2,    2.64,2,-999.000,5,-999.000,5,  -999.0,9,  -999.0,9,  -999.0,5,-999.000,1,-999.000,-999.0000,1, -999.00,9, -999.00,9,  -999.0,9,  -999.0,-999.000,9,-999.000,  9089.3,   5.7858,-999.0000, -999.00
 316N145_14,       I02E,    1114,          1,         21,     SIH025,3,19951216,       0733,    -8.0000,    88.3333,       4960,  1000.4,   5.2476,  34.6825,2,  34.6816,2,     82.3,2,    82.4,2,   96.82,2,   35.94,2,    0.00,2,    2.64,2,-999.000,5,-999.000,5,  -999.0,9,  -999.0,9,  -999.0,5,-999.000,1,-999.000,-999.0000,1, -999.00,9, -999.00,9,  -999.0,9,  -999.0,-999.000,9,-999.000, 10131.0,   5.1621,-999.0000, -999.00
 316N145_14,       I02E,    1114,          1,         20,     SIH004,2,19951216,       0733,    -8.0000,    88.3333,       4960,  1099.7,   4.8431,  34.6912,2,  34.6908,2,     86.7,2,    86.4,2,  101.95,2,   36.22,2,    0.00,2,    2.65,2,-999.000,5,-999.000,5,  -999.0,9,  -999.0,9,  -999.0,5,-999.000,1,-999.000,-999.0000,1, -999.00,9, -999.00,9,  -999.0,9,  -999.0,-999.000,9,-999.000, 11125.5,   4.7517,-999.0000, -999.00
 316N145_14,       I02E,    1114,          1,         19,     SIH005,2,19951216,       0733,    -8.0000,    88.3333,       4960,  1195.5,   4.5725,  34.7069,2,  34.7072,2,     88.7,2,    89.4,2,  105.08,2,   36.39,2,    0.00,2,    2.66,2,-999.000,5,-999.000,5,  -999.0,9,  -999.0,9,  -999.0,5,-999.000,1,-999.000,-999.0000,1, -999.00,9, -999.00,9,  -999.0,9,  -999.0,-999.000,9,-999.000, 12083.7,   4.4747,-999.0000, -999.00
 316N145_14,       I02E,    1114,          1,         18,     SIH006,2,19951216,       0733,    -8.0000,    88.3333,       4960,  1296.4,   4.3023,  34.7197,2,  34.7197,2,     94.2,2,    93.3,2,  107.20,2,   36.21,2,    0.00,2,    2.65,2,-999.000,5,-999.000,5,  -999.0,9,  -999.0,9,  -999.0,5,-999.000,1,-999.000,-999.0000,1, -999.00,9, -999.00,9,  -999.0,9,  -999.0,-999.000,9,-999.000, 13093.1,   4.1979,-999.0000, -999.00
 316N145_14,       I02E,    1114,          1,         17,     SIH038,2,19951216,       0733,    -8.0000,    88.3333,       4960,  1398.6,   3.9703,  34.7321,2,  34.7325,2,     98.7,2,    99.5,2,  109.98,2,   36.03,2,    0.00,2,    2.63,2,-999.000,5,-999.000,5,  -999.0,9,  -999.0,9,  -999.0,5,-999.000,1,-999.000,-999.0000,1, -999.00,9, -999.00,9,  -999.0,9,  -999.0,-999.000,9,-999.000, 14115.6,   3.8602,-999.0000, -999.00
 316N145_14,       I02E,    1114,          1,         16,     SIH008,2,19951216,       0733,    -8.0000,    88.3333,       4960,  1599.9,   3.3911,  34.7553,2,  34.7561,2,    113.7,2,   113.1,2,  113.78,2,   35.56,2,    0.00,2,    2.60,2,-999.000,5,-999.000,5,  -999.0,9,  -999.0,9,  -999.0,5,-999.000,1,-999.000,-999.0000,1, -999.00,9, -999.00,9,  -999.0,9,  -999.0,-999.000,9,-999.000, 16129.1,   3.2696,-999.0000, -999.00
 316N145_14,       I02E,    1114,          1,         15,     SIH009,2,19951216,       0733,    -8.0000,    88.3333,       4960,  1796.2,   2.8327,  34.7492,2,  34.7500,2,    127.0,2,   127.6,2,  118.42,2,   35.10,2,    0.00,2,    2.54,2,-999.000,5,-999.000,5,  -999.0,9,  -999.0,9,  -999.0,5,-999.000,1,-999.000,-999.0000,1, -999.00,9, -999.00,9,  -999.0,9,  -999.0,-999.000,9,-999.000, 18092.9,   2.7013,-999.0000, -999.00
 316N145_14,       I02E,    1114,          1,         14,     SIH010,2,19951216,       0733,    -8.0000,    88.3333,       4960,  1999.0,   2.4743,  34.7462,2,  34.7463,2,    137.5,2,   138.0,2,  121.00,2,   34.84,2,    0.00,2,    2.48,2,-999.000,5,-999.000,5,  -999.0,9,  -999.0,9,  -999.0,5,-999.000,1,-999.000,-999.0000,1, -999.00,9, -999.00,9,  -999.0,9,  -999.0,-999.000,9,-999.000, 20121.5,   2.3304,-999.0000, -999.00
 316N145_14,       I02E,    1114,          1,         13,     SIH011,4,19951216,       0733,    -8.0000,    88.3333,       4960,  2247.6,   2.1792,  34.7429,2,  34.7046,4,    147.1,2,    91.6,4,  101.89,4,   36.19,4,    0.00,4,    2.61,4,-999.000,5,-999.000,5,  -999.0,9,  -999.0,9,  -999.0,5,-999.000,1,-999.000,-999.0000,1, -999.00,9, -999.00,9,  -999.0,9,  -999.0,-999.000,9,-999.000, 22608.3,   2.0181,-999.0000, -999.00
 316N145_14,       I02E,    1114,          1,         12,     SIH012,2,19951216,       0733,    -8.0000,    88.3333,       4960,  2495.7,   1.9282,  34.7358,2,  34.7364,2,    155.4,2,   156.6,2,  126.66,2,   34.08,2,    0.00,2,    2.38,2,-999.000,5,-999.000,5,  -999.0,9,  -999.0,9,  -999.0,5,-999.000,1,-999.000,-999.0000,1, -999.00,9, -999.00,9,  -999.0,9,  -999.0,-999.000,9,-999.000, 25091.2,   1.7493,-999.0000, -999.00
 316N145_14,       I02E,    1114,          1,         11,     SI9426,2,19951216,       0733,    -8.0000,    88.3333,       4960,  2750.4,   1.7514,  34.7305,2,  34.7307,2,    163.6,2,   163.1,2,  127.77,2,   33.69,2,   -0.01,2,    2.38,2,-999.000,5,-999.000,5,  -999.0,9,  -999.0,9,  -999.0,5,-999.000,1,-999.000,-999.0000,1, -999.00,9, -999.00,9,  -999.0,9,  -999.0,-999.000,9,-999.000, 27639.0,   1.5525,-999.0000, -999.00
 316N145_14,       I02E,    1114,          1,         10,     SIH014,2,19951216,       0733,    -8.0000,    88.3333,       4960,  2998.6,   1.6155,  34.7269,2,  34.7282,2,    166.7,2,   166.4,2,  131.24,2,   33.46,2,   -0.01,2,    2.37,2,-999.000,5,-999.000,5,  -999.0,9,  -999.0,9,  -999.0,5,-999.000,1,-999.000,-999.0000,1, -999.00,9, -999.00,9,  -999.0,9,  -999.0,-999.000,9,-999.000, 30121.9,   1.3961,-999.0000, -999.00
 316N145_14,       I02E,    1114,          1,          9,     SIH015,2,19951216,       0733,    -8.0000,    88.3333,       4960,  3248.3,   1.5140,  34.7239,2,  34.7258,2,    169.1,2,   168.7,2,  133.87,2,   33.67,2,    0.00,2,    2.37,2,-999.000,5,-999.000,5,  -999.0,9,  -999.0,9,  -999.0,5,-999.000,1,-999.000,-999.0000,1, -999.00,9, -999.00,9,  -999.0,9,  -999.0,-999.000,9,-999.000, 32620.2,   1.2726,-999.0000, -999.00
 316N145_14,       I02E,    1114,          1,          8,     SIH016,2,19951216,       0733,    -8.0000,    88.3333,       4960,  3497.5,   1.4339,  34.7218,2,  34.7221,2,    171.8,2,   172.1,2,  134.81,2,   33.71,2,    0.00,2,    2.34,2,-999.000,5,-999.000,5,  -999.0,9,  -999.0,9,  -999.0,5,-999.000,1,-999.000,-999.0000,1, -999.00,9, -999.00,9,  -999.0,9,  -999.0,-999.000,9,-999.000, 35113.5,   1.1694,-999.0000, -999.00
 316N145_14,       I02E,    1114,          1,          7,     SIH017,2,19951216,       0733,    -8.0000,    88.3333,       4960,  3747.1,   1.3790,  34.7200,2,  34.7213,2,    172.9,2,   174.8,2,  135.43,2,   33.50,2,    0.00,2,    2.33,2,-999.000,5,-999.000,5,  -999.0,9,  -999.0,9,  -999.0,5,-999.000,1,-999.000,-999.0000,1, -999.00,9, -999.00,9,  -999.0,9,  -999.0,-999.000,9,-999.000, 37610.8,   1.0902,-999.0000, -999.00
 316N145_14,       I02E,    1114,          1,          6,     SIH018,2,19951216,       0733,    -8.0000,    88.3333,       4960,  3996.8,   1.3581,  34.7186,2,  34.7191,2,    176.6,2,   178.1,2,  134.96,2,   33.44,2,    0.00,2,    2.32,2,-999.000,5,-999.000,5,  -999.0,9,  -999.0,9,  -999.0,5,-999.000,1,-999.000,-999.0000,1, -999.00,9, -999.00,9,  -999.0,9,  -999.0,-999.000,9,-999.000, 40107.7,   1.0433,-999.0000, -999.00
 316N145_14,       I02E,    1114,          1,          5,     SIH002,2,19951216,       0733,    -8.0000,    88.3333,       4960,  4246.1,   1.3526,  34.7179,2,  34.7193,2,    180.8,2,   177.5,4,  133.68,2,   33.36,2,    0.00,2,    2.32,2,-999.000,5,-999.000,5,  -999.0,9,  -999.0,9,  -999.0,5,-999.000,1,-999.000,-999.0000,1, -999.00,9, -999.00,9,  -999.0,9,  -999.0,-999.000,9,-999.000, 42602.9,   1.0106,-999.0000, -999.00
 316N145_14,       I02E,    1114,          1,          4,     SIH020,2,19951216,       0733,    -8.0000,    88.3333,       4960,  4495.8,   1.3578,  34.7172,2,  34.7178,2,    180.6,2,   181.4,2,  133.12,2,   33.12,2,    0.00,2,    2.32,2,-999.000,5,-999.000,5,  -999.0,9,  -999.0,9,  -999.0,5,-999.000,1,-999.000,-999.0000,1, -999.00,9, -999.00,9,  -999.0,9,  -999.0,-999.000,9,-999.000, 45100.1,   0.9875,-999.0000, -999.00
 316N145_14,       I02E,    1114,          1,          3,     SIH021,2,19951216,       0733,    -8.0000,    88.3333,       4960,  4747.0,   1.3708,  34.7165,2,  34.7180,2,    182.7,2,   182.7,2,  133.07,2,   33.29,2,    0.00,2,    2.31,2,-999.000,5,-999.000,5,  -999.0,9,  -999.0,9,  -999.0,5,-999.000,1,-999.000,-999.0000,1, -999.00,9, -999.00,9,  -999.0,9,  -999.0,-999.000,9,-999.000, 47613.0,   0.9709,-999.0000, -999.00
 316N145_14,       I02E,    1114,          1,          2,     SIH022,2,19951216,       0733,    -8.0000,    88.3333,       4960,  5003.0,   1.3902,  34.7163,2,  34.7174,2,    184.4,2,   183.7,2,  132.69,2,   33.17,2,    0.00,2,    2.31,2,-999.000,5,-999.000,5,  -999.0,9,  -999.0,9,  -999.0,5,-999.000,1,-999.000,-999.0000,1, -999.00,9, -999.00,9,  -999.0,9,  -999.0,-999.000,9,-999.000, 50173.3,   0.9591,-999.0000, -999.00
 316N145_14,       I02E,    1114,          1,          1,     SIH023,2,19951216,       0733,    -8.0000,    88.3333,       4960,  5079.2,   1.3960,  34.7164,2,  34.7178,2,    184.2,2,   184.4,2,  132.36,6,   33.10,6,    0.00,6,    2.30,6,-999.000,5,-999.000,5,  -999.0,9,  -999.0,9,  -999.0,5,-999.000,1,-999.000,-999.0000,1, -999.00,9, -999.00,9,  -999.0,9,  -999.0,-999.000,9,-999.000, 50937.0,   0.9554,-999.0000, -999.00