BOTTLE,20220829CCHSIOAMB
EXPOCODE,SECT_ID,STNNBR,CASTNO,SAMPNO,BTLNBR,BTLNBR_FLAG_W,DATE,TIME,LATITUDE,LONGITUDE,DEPTH,CTDPRS,CTDTMP,CTDSAL,CTDSAL_FLAG_W,SALNTY,SALNTY_FLAG_W,CTDOXY,CTDOXY_FLAG_W,OXYGEN,OXYGEN_FLAG_W,SILCAT,SILCAT_FLAG_W,NITRAT,NITRAT_FLAG_W,NITRIT,NITRIT_FLAG_W,PHSPHT,PHSPHT_FLAG_W,CFC-11,CFC-11_FLAG_W,CFC-12,CFC-12_FLAG_W,TCARBN,TCARBN_FLAG_W,ALKALI,ALKALI_FLAG_W,PCO2,PCO2_FLAG_W,TRITUM,TRITUM_FLAG_W,TRITER,HELIUM,HELIUM_FLAG_W,DELHE3,DELHE3_FLAG_W,DELC13,DELC13_FLAG_W,DELC14,DELC14_FLAG_W,C14ERR,NEON,NEON_FLAG_W,NEONER,CTDRAW,THETA,HELIER,DELHER
,,,,,,,,,,,METERS,DBAR,ITS-90,PSS-78,,PSS-78,,UMOL/KG,,UMOL/KG,,UMOL/KG,,UMOL/KG,,UMOL/KG,,UMOL/KG,,PMOL/KG,,PMOL/KG,,UMOL/KG,,UMOL/KG,,UATM,,TU,,TU,NMOL/KG,,PERCNT,,/MILLE,,/MILLE,,/MILLE,NMOL/KG,,NMOL/KG,DBAR,DEG C,NMOL/KG,PERCNT
 316N145_14,       I02E,    1083,          1,         36,     SIH024,2,19951206,       1941,    -9.1250,   102.6658,       5075,    11.8,  28.6160,  33.4727,2,  33.4803,2,    213.3,2,   207.2,2,    2.34,2,    0.11,2,    0.00,2,    0.05,2,   1.598,2,   0.928,4,  1854.6,2,  2188.0,2,  -999.0,5,-999.000,1,-999.000,   1.6635,2,   -1.22,2, -999.00,9,  -999.0,9,  -999.0,   6.470,2,   0.032,   268.4,  28.6132,   0.0083,    0.14
 316N145_14,       I02E,    1083,          1,         35,     SIH003,2,19951206,       1941,    -9.1250,   102.6658,       5075,    36.0,  28.6066,  33.7308,2,  33.7235,2,    217.1,2,   206.0,2,    2.16,2,    0.21,2,    0.00,2,    0.09,2,   1.598,6,   0.920,2,  -999.0,9,  -999.0,9,  -999.0,5,-999.000,1,-999.000,   1.6754,2,   -1.32,2, -999.00,9,  -999.0,9,  -999.0,   6.508,2,   0.033,   504.2,  28.5980,   0.0084,    0.14
 316N145_14,       I02E,    1083,          1,         34,     SIH026,2,19951206,       1941,    -9.1250,   102.6658,       5075,    67.0,  27.2577,  34.4357,2,  34.4237,2,    206.3,2,   178.2,2,    3.76,2,    1.04,2,    0.10,2,    0.28,2,   1.572,2,   0.910,2,  -999.0,9,  -999.0,9,  -999.0,5,-999.000,1,-999.000,   1.6696,2,   -0.45,2, -999.00,9,  -999.0,9,  -999.0,   6.548,2,   0.033,   805.1,  27.2422,   0.0083,    0.14
 316N145_14,       I02E,    1083,          1,         33,     SIH027,2,19951206,       1941,    -9.1250,   102.6658,       5075,   106.8,  22.8273,  34.5167,2,  34.5176,2,    100.9,2,   123.4,2,   12.84,2,   12.01,2,    0.05,2,    0.89,2,   1.500,2,   0.851,2,  -999.0,9,  -999.0,9,  -999.0,5,-999.000,1,-999.000,   1.7079,2,    2.25,2, -999.00,9,  -999.0,9,  -999.0,   6.815,2,   0.034,  1196.0,  22.8057,   0.0085,    0.14
 316N145_14,       I02E,    1083,          1,         32,     SIH028,2,19951206,       1941,    -9.1250,   102.6658,       5075,   157.1,  15.8228,  34.7161,2,  34.7009,2,     90.7,2,    87.8,2,   28.14,2,   22.25,2,    0.01,2,    1.57,2,   1.078,6,   0.579,2,  -999.0,9,  -999.0,9,  -999.0,5,-999.000,1,-999.000,   1.7393,2,    7.26,2, -999.00,9,  -999.0,9,  -999.0,   7.142,2,   0.036,  1696.3,  15.7982,   0.0087,    0.14
 316N145_14,       I02E,    1083,          1,         31,     SIH029,2,19951206,       1941,    -9.1250,   102.6658,       5075,   206.0,  12.3771,  34.6169,2,  34.6140,2,     83.5,2,    88.4,2,   37.75,2,   25.83,2,    0.01,2,    1.83,2,   0.783,2,   0.401,2,  -999.0,9,  -999.0,9,  -999.0,5,-999.000,1,-999.000,   1.8003,2,    9.39,2, -999.00,9,  -999.0,9,  -999.0,   7.452,2,   0.037,  2185.1,  12.3498,   0.0090,    0.14
 316N145_14,       I02E,    1083,          1,         30,     SIH030,2,19951206,       1941,    -9.1250,   102.6658,       5075,   257.2,  11.1730,  34.7282,2,  34.7288,2,     73.3,2,    72.1,2,   38.65,2,   28.86,2,    0.01,2,    2.01,2,   0.488,2,   0.254,2,  -999.0,9,  -999.0,9,  -999.0,5,-999.000,1,-999.000,-999.0000,1, -999.00,9, -999.00,9,  -999.0,9,  -999.0,-999.000,9,-999.000,  2697.2,  11.1410,-999.0000, -999.00
 316N145_14,       I02E,    1083,          1,         29,     SIH031,2,19951206,       1941,    -9.1250,   102.6658,       5075,   306.3,  10.6902,  34.7971,2,  34.7954,2,     69.7,2,    71.2,2,   36.33,2,   29.68,2,    0.01,2,    2.04,2,   0.365,2,   0.187,2,  -999.0,9,  -999.0,9,  -999.0,5,-999.000,1,-999.000,   1.7559,2,    7.65,2, -999.00,9,  -999.0,9,  -999.0,   7.320,2,   0.037,  3189.2,  10.6530,   0.0088,    0.14
 316N145_14,       I02E,    1083,          1,         28,     SIH032,2,19951206,       1941,    -9.1250,   102.6658,       5075,   356.5,  10.3732,  34.8608,2,  34.8613,2,     82.5,2,    78.4,2,   31.35,2,   29.57,2,    0.01,2,    1.99,2,-999.000,5,-999.000,5,  -999.0,9,  -999.0,9,  -999.0,5,-999.000,1,-999.000,-999.0000,1, -999.00,9, -999.00,9,  -999.0,9,  -999.0,-999.000,9,-999.000,  3691.7,  10.3306,-999.0000, -999.00
 316N145_14,       I02E,    1083,          1,         27,     SIH033,2,19951206,       1941,    -9.1250,   102.6658,       5075,   402.3,   9.9334,  34.8387,2,  34.8387,2,     77.4,2,    82.0,2,   32.95,2,   30.09,2,    0.01,2,    2.02,2,   0.247,6,   0.132,6,  -999.0,9,  -999.0,9,  -999.0,5,-999.000,1,-999.000,   1.8113,2,    5.59,2, -999.00,9,  -999.0,9,  -999.0,   7.595,2,   0.038,  4148.9,   9.8865,   0.0091,    0.14
 316N145_14,       I02E,    1083,          1,         26,     SIH037,2,19951206,       1941,    -9.1250,   102.6658,       5075,   501.6,   8.9472,  34.8175,2,  34.8139,2,     74.0,2,    73.3,2,   43.63,2,   32.65,2,    0.01,2,    2.27,2,   0.081,2,   0.043,2,  -999.0,9,  -999.0,9,  -999.0,5,-999.000,1,-999.000,-999.0000,1, -999.00,9, -999.00,9,  -999.0,9,  -999.0,-999.000,9,-999.000,  5143.6,   8.8920,-999.0000, -999.00
 316N145_14,       I02E,    1083,          1,         25,     SI9446,2,19951206,       1941,    -9.1250,   102.6658,       5075,   602.3,   8.1220,  34.7701,2,  34.7699,2,     67.2,2,    68.0,2,   56.45,2,   34.34,2,    0.00,2,    2.43,2,   0.041,2,   0.026,2,  -999.0,9,  -999.0,9,  -999.0,5,-999.000,1,-999.000,-999.0000,1, -999.00,9, -999.00,9,  -999.0,9,  -999.0,-999.000,9,-999.000,  6149.6,   8.0591,-999.0000, -999.00
 316N145_14,       I02E,    1083,          1,         24,     SIH036,3,19951206,       1941,    -9.1250,   102.6658,       5075,   702.4,   7.3667,  34.7445,2,  34.7433,2,     66.1,2,    66.4,2,   68.38,2,   35.42,2,    0.01,2,    2.54,2,-999.000,5,-999.000,5,  -999.0,9,  -999.0,9,  -999.0,5,-999.000,1,-999.000,-999.0000,1, -999.00,9, -999.00,9,  -999.0,9,  -999.0,-999.000,9,-999.000,  7150.8,   7.2969,-999.0000, -999.00
 316N145_14,       I02E,    1083,          1,         23,     SIH001,2,19951206,       1941,    -9.1250,   102.6658,       5075,   798.1,   6.6333,  34.7239,2,  34.7154,2,     70.2,2,    69.8,2,   79.24,2,   35.94,2,    0.00,2,    2.59,2,   0.022,2,   0.004,2,  -999.0,9,  -999.0,9,  -999.0,5,-999.000,1,-999.000,-999.0000,1, -999.00,9, -999.00,9,  -999.0,9,  -999.0,-999.000,9,-999.000,  8107.3,   6.5578,-999.0000, -999.00
 316N145_14,       I02E,    1083,          1,         22,     SIH019,2,19951206,       1941,    -9.1250,   102.6658,       5075,   899.4,   5.7412,  34.6699,2,  34.6684,2,     79.1,2,    80.3,2,   90.64,2,   36.19,2,    0.00,2,    2.62,2,   0.018,2,   0.005,2,  -999.0,9,  -999.0,9,  -999.0,5,-999.000,1,-999.000,-999.0000,1, -999.00,9, -999.00,9,  -999.0,9,  -999.0,-999.000,9,-999.000,  9121.4,   5.6616,-999.0000, -999.00
 316N145_14,       I02E,    1083,          1,         21,     SIH025,2,19951206,       1941,    -9.1250,   102.6658,       5075,   999.7,   5.3735,  34.6472,2,  34.6472,2,     83.7,2,    84.6,2,   95.45,2,   36.30,2,    0.00,2,    2.62,2,-999.000,5,-999.000,5,  -999.0,9,  -999.0,9,  -999.0,5,-999.000,1,-999.000,-999.0000,1, -999.00,9, -999.00,9,  -999.0,9,  -999.0,-999.000,9,-999.000, 10124.3,   5.2872,-999.0000, -999.00
 316N145_14,       I02E,    1083,          1,         20,     SIH004,2,19951206,       1941,    -9.1250,   102.6658,       5075,  1099.9,   4.8215,  34.6398,2,  34.6386,2,     92.3,2,    93.1,2,  103.45,2,   36.35,2,    0.00,2,    2.62,2,   0.024,2,   0.005,2,  -999.0,9,  -999.0,9,  -999.0,5,-999.000,1,-999.000,-999.0000,1, -999.00,9, -999.00,9,  -999.0,9,  -999.0,-999.000,9,-999.000, 11127.4,   4.7304,-999.0000, -999.00
 316N145_14,       I02E,    1083,          1,         19,     SIH005,2,19951206,       1941,    -9.1250,   102.6658,       5075,  1201.9,   4.5272,  34.6511,2,  34.6515,2,     94.5,2,    93.9,2,  107.02,2,   36.35,2,    0.00,2,    2.64,2,   0.015,2,   0.003,2,  -999.0,9,  -999.0,9,  -999.0,5,-999.000,1,-999.000,   1.8990,2,   16.38,2, -999.00,9,  -999.0,9,  -999.0,   7.886,2,   0.017, 12147.5,   4.4294,   0.0030,    0.20
 316N145_14,       I02E,    1083,          1,         18,     SIH006,2,19951206,       1941,    -9.1250,   102.6658,       5075,  1301.8,   4.1598,  34.6659,2,  34.6671,2,     97.7,2,    98.2,2,  110.72,2,   36.56,2,    0.00,2,    2.63,2,   0.008,2,   0.000,2,  -999.0,9,  -999.0,9,  -999.0,5,-999.000,1,-999.000,-999.0000,1, -999.00,9, -999.00,9,  -999.0,9,  -999.0,-999.000,9,-999.000, 13147.5,   4.0564,-999.0000, -999.00
 316N145_14,       I02E,    1083,          1,         17,     SIH038,2,19951206,       1941,    -9.1250,   102.6658,       5075,  1401.6,   3.8764,  34.6932,2,  34.6932,2,    103.5,2,   102.7,2,  112.59,2,   36.51,2,    0.00,2,    2.64,2,   0.004,2,  -0.001,2,  -999.0,9,  -999.0,9,  -999.0,5,-999.000,1,-999.000,   1.8740,2,   16.03,2, -999.00,9,  -999.0,9,  -999.0,   7.873,2,   0.017, 14145.9,   3.7670,   0.0040,    0.20
 316N145_14,       I02E,    1083,          1,         16,     SIH008,2,19951206,       1941,    -9.1250,   102.6658,       5075,  1604.0,   3.3680,  34.7273,2,  34.7260,2,    114.0,2,   114.5,2,  114.14,2,   36.14,2,    0.00,2,    2.59,2,   0.000,2,  -0.003,2,  -999.0,9,  -999.0,9,  -999.0,5,-999.000,1,-999.000,   1.8920,2,   13.34,2, -999.00,9,  -999.0,9,  -999.0,   8.017,2,   0.018, 16170.1,   3.2465,   0.0050,    0.20
 316N145_14,       I02E,    1083,          1,         15,     SIH009,2,19951206,       1941,    -9.1250,   102.6658,       5075,  1806.8,   2.8873,  34.7429,2,  34.7427,2,    125.0,2,   126.0,2,  118.59,2,   35.68,2,    0.00,2,    2.54,2,-999.000,5,-999.000,5,  -999.0,9,  -999.0,9,  -999.0,5,-999.000,1,-999.000,   1.8860,2,   12.76,2, -999.00,9,  -999.0,9,  -999.0,   8.094,2,   0.018, 18198.9,   2.7542,   0.0030,    0.20
 316N145_14,       I02E,    1083,          1,         14,     SIH010,2,19951206,       1941,    -9.1250,   102.6658,       5075,  2001.8,   2.5646,  34.7401,2,  34.7402,2,    136.1,2,   136.8,2,  120.20,2,   35.17,2,    0.00,2,    2.49,2,  -0.001,2,   0.000,2,  -999.0,9,  -999.0,9,  -999.0,5,-999.000,1,-999.000,   3.8620,4,    7.67,4, -999.00,9,  -999.0,9,  -999.0,  14.190,4,   0.031, 20150.6,   2.4191,   0.0070,    0.19
 316N145_14,       I02E,    1083,          1,         13,     SIH011,2,19951206,       1941,    -9.1250,   102.6658,       5075,  2247.4,   2.2238,  34.7379,2,  34.7370,2,    146.1,2,   147.4,2,  123.23,2,   34.71,2,    0.00,2,    2.45,2,-999.000,5,-999.000,5,  -999.0,9,  -999.0,9,  -999.0,5,-999.000,1,-999.000,   1.8890,2,   13.89,2, -999.00,9,  -999.0,9,  -999.0,   8.028,2,   0.018, 22607.9,   2.0620,   0.0040,    0.20
 316N145_14,       I02E,    1083,          1,         12,     SIH012,2,19951206,       1941,    -9.1250,   102.6658,       5075,  2502.7,   1.9699,  34.7326,2,  34.7331,2,    157.4,2,   157.1,2,  125.02,2,   34.40,2,    0.00,2,    2.40,2,  -0.001,2,  -0.001,2,  -999.0,9,  -999.0,9,  -999.0,5,-999.000,1,-999.000,   1.8920,2,   14.25,2, -999.00,9,  -999.0,9,  -999.0,   8.132,2,   0.018, 25162.3,   1.7896,   0.0040,    0.20
 316N145_14,       I02E,    1083,          1,         11,     SI9425,3,19951206,       1941,    -9.1250,   102.6658,       5075,  2747.8,   1.8226,  34.7306,2,  34.7311,2,    160.8,2,   160.8,2,  127.33,2,   34.30,2,    0.00,2,    2.39,2,-999.000,5,-999.000,5,  -999.0,9,  -999.0,9,  -999.0,5,-999.000,1,-999.000,-999.0000,1, -999.00,9, -999.00,9,  -999.0,9,  -999.0,-999.000,9,-999.000, 27613.5,   1.6225,-999.0000, -999.00
 316N145_14,       I02E,    1083,          1,         10,     SIH014,2,19951206,       1941,    -9.1250,   102.6658,       5075,  3001.3,   1.6754,  34.7261,2,  34.7272,2,    166.6,2,   166.0,2,  128.94,2,   34.04,2,    0.00,2,    2.38,2,-999.000,5,-999.000,5,  -999.0,9,  -999.0,9,  -999.0,5,-999.000,1,-999.000,   1.9000,2,   13.67,2, -999.00,9,  -999.0,9,  -999.0,   8.125,2,   0.063, 30150.0,   1.4544,   0.0030,    0.17
 316N145_14,       I02E,    1083,          1,          9,     SIH015,2,19951206,       1941,    -9.1250,   102.6658,       5075,  3245.8,   1.5206,  34.7217,2,  34.7233,2,    172.7,2,   171.3,2,  130.73,2,   33.93,2,    0.00,2,    2.37,2,  -0.001,2,  -0.003,2,  -999.0,9,  -999.0,9,  -999.0,5,-999.000,1,-999.000,   3.0530,4,    8.54,4, -999.00,9,  -999.0,9,  -999.0,  11.780,4,   0.026, 32596.5,   1.2793,   0.0060,    0.19
 316N145_14,       I02E,    1083,          1,          8,     SIH016,3,19951206,       1941,    -9.1250,   102.6658,       5075,  3500.0,   1.3558,  34.7175,2,  34.7182,2,    179.9,2,   179.3,2,  130.91,2,   33.52,2,    0.00,2,    2.34,2,-999.000,5,-999.000,5,  -999.0,9,  -999.0,9,  -999.0,5,-999.000,1,-999.000,-999.0000,1, -999.00,9, -999.00,9,  -999.0,9,  -999.0,-999.000,9,-999.000, 35139.3,   1.0931,-999.0000, -999.00
 316N145_14,       I02E,    1083,          1,          7,     SIH017,2,19951206,       1941,    -9.1250,   102.6658,       5075,  3734.3,   1.2366,  34.7141,2,  34.7154,2,    185.6,2,   185.4,2,  130.74,2,   33.27,2,    0.00,2,    2.30,2,-999.000,5,-999.000,5,  -999.0,9,  -999.0,9,  -999.0,5,-999.000,1,-999.000,   1.8950,2,   13.15,2, -999.00,9,  -999.0,9,  -999.0,   8.136,2,   0.063, 37481.9,   0.9530,   0.0030,    0.17
 316N145_14,       I02E,    1083,          1,          6,     SIH018,2,19951206,       1941,    -9.1250,   102.6658,       5075,  4019.4,   1.1647,  34.7126,2,  34.7142,2,    190.4,2,   190.5,2,  129.67,2,   33.07,2,    0.00,2,    2.28,2,-999.000,5,-999.000,5,  -999.0,9,  -999.0,9,  -999.0,5,-999.000,1,-999.000,   1.9080,2,  -51.01,4, -999.00,9,  -999.0,9,  -999.0,   8.239,2,   0.018, 40334.7,   0.8530,   0.0040,    0.22
 316N145_14,       I02E,    1083,          1,          5,     SIH002,2,19951206,       1941,    -9.1250,   102.6658,       5075,  4243.6,   1.1449,  34.7119,2,  34.7127,2,    192.1,2,   193.6,2,  128.78,2,   32.91,2,    0.00,2,    2.26,2,  -0.001,2,   0.002,3,  -999.0,9,  -999.0,9,  -999.0,5,-999.000,1,-999.000,-999.0000,1, -999.00,9, -999.00,9,  -999.0,9,  -999.0,-999.000,9,-999.000, 42577.9,   0.8095,-999.0000, -999.00
 316N145_14,       I02E,    1083,          1,          4,     SIH020,2,19951206,       1941,    -9.1250,   102.6658,       5075,  4499.5,   1.1493,  34.7115,2,  34.7115,2,    193.8,2,   194.9,2,  128.43,2,   32.75,2,    0.01,2,    2.25,2,-999.000,5,-999.000,5,  -999.0,9,  -999.0,9,  -999.0,5,-999.000,1,-999.000,-999.0000,5, -999.00,5, -999.00,9,  -999.0,9,  -999.0,  22.090,4,   0.170, 45138.2,   0.7852,-999.0000, -999.00
 316N145_14,       I02E,    1083,          1,          3,     SIH021,2,19951206,       1941,    -9.1250,   102.6658,       5075,  4745.7,   1.1652,  34.7110,2,  34.7109,2,    196.3,2,   195.0,2,  128.44,2,   32.81,2,    0.00,2,    2.25,2,-999.000,5,-999.000,5,  -999.0,9,  -999.0,9,  -999.0,5,-999.000,1,-999.000,-999.0000,1, -999.00,9, -999.00,9,  -999.0,9,  -999.0,-999.000,9,-999.000, 47600.6,   0.7722,-999.0000, -999.00
 316N145_14,       I02E,    1083,          1,          2,     SIH022,2,19951206,       1941,    -9.1250,   102.6658,       5075,  5001.4,   1.1883,  34.7106,2,  34.7115,2,    196.3,2,   196.1,2,  128.62,2,   32.81,2,    0.01,2,    2.25,2,  -0.001,2,  -0.003,2,  -999.0,9,  -999.0,9,  -999.0,5,-999.000,1,-999.000,   1.8900,2,   11.31,2, -999.00,9,  -999.0,9,  -999.0,   8.094,2,   0.063, 50159.5,   0.7643,   0.0050,    0.18
 316N145_14,       I02E,    1083,          1,          1,     SIH023,2,19951206,       1941,    -9.1250,   102.6658,       5075,  5196.7,   1.2079,  34.7111,2,  34.7101,2,    193.4,2,   195.6,2,  128.28,6,   32.73,6,    0.01,6,    2.25,6,  -0.001,2,   0.000,2,  -999.0,9,  -999.0,9,  -999.0,5,-999.000,1,-999.000,   1.8950,2,   11.98,2, -999.00,9,  -999.0,9,  -999.0,   8.142,2,   0.018, 52113.2,   0.7595,   0.0030,    0.20