BOTTLE,20220829CCHSIOAMB
EXPOCODE,SECT_ID,STNNBR,CASTNO,SAMPNO,BTLNBR,BTLNBR_FLAG_W,DATE,TIME,LATITUDE,LONGITUDE,DEPTH,CTDPRS,CTDTMP,CTDSAL,CTDSAL_FLAG_W,SALNTY,SALNTY_FLAG_W,CTDOXY,CTDOXY_FLAG_W,OXYGEN,OXYGEN_FLAG_W,SILCAT,SILCAT_FLAG_W,NITRAT,NITRAT_FLAG_W,NITRIT,NITRIT_FLAG_W,PHSPHT,PHSPHT_FLAG_W,CFC-11,CFC-11_FLAG_W,CFC-12,CFC-12_FLAG_W,TCARBN,TCARBN_FLAG_W,ALKALI,ALKALI_FLAG_W,PCO2,PCO2_FLAG_W,TRITUM,TRITUM_FLAG_W,TRITER,HELIUM,HELIUM_FLAG_W,DELHE3,DELHE3_FLAG_W,DELC13,DELC13_FLAG_W,DELC14,DELC14_FLAG_W,C14ERR,NEON,NEON_FLAG_W,NEONER,CTDRAW,THETA,HELIER,DELHER
,,,,,,,,,,,METERS,DBAR,ITS-90,PSS-78,,PSS-78,,UMOL/KG,,UMOL/KG,,UMOL/KG,,UMOL/KG,,UMOL/KG,,UMOL/KG,,PMOL/KG,,PMOL/KG,,UMOL/KG,,UMOL/KG,,UATM,,TU,,TU,NMOL/KG,,PERCNT,,/MILLE,,/MILLE,,/MILLE,NMOL/KG,,NMOL/KG,DBAR,DEG C,NMOL/KG,PERCNT
 316N145_14,       I02E,    1079,          1,         36,     SIH024,2,19951205,       1248,    -9.1303,   105.1662,       5535,    17.1,  28.1473,  33.6579,2,  33.6522,2,    252.1,4,   208.5,2,    3.59,2,    0.11,2,    0.00,2,    0.06,2,   1.580,2,   0.934,2,  1869.9,2,  2204.3,2,  -999.0,5,-999.000,1,-999.000,-999.0000,1, -999.00,9, -999.00,9,  -999.0,9,  -999.0,-999.000,9,-999.000,   709.5,  28.1433,-999.0000, -999.00
 316N145_14,       I02E,    1079,          1,         35,     SIH003,2,19951205,       1248,    -9.1303,   105.1662,       5535,    32.7,  28.1220,  33.6654,2,  33.6778,2,    204.9,4,   210.8,2,    3.41,2,    0.17,2,    0.00,2,    0.06,2,   1.623,2,   0.996,2,  -999.0,9,  -999.0,9,  -999.0,5,   1.069,2,   0.004,   1.7449,2,   -1.11,2, -999.00,9,  -999.0,9,  -999.0,   6.800,2,   0.034,   850.4,  28.1144,   0.0087,    0.14
 316N145_14,       I02E,    1079,          1,         34,     SIH026,2,19951205,       1248,    -9.1303,   105.1662,       5535,    62.3,  26.6055,  34.3990,2,  34.3864,2,    599.7,4,   215.8,2,    3.95,2,    0.17,2,    0.00,2,    0.12,2,-999.000,5,-999.000,5,  -999.0,9,  -999.0,9,  -999.0,5,   1.138,2,   0.004,   1.7565,2,   -0.91,2, -999.00,9,  -999.0,9,  -999.0,   6.870,2,   0.034,  1121.3,  26.5914,   0.0088,    0.14
 316N145_14,       I02E,    1079,          1,         33,     SIH027,2,19951205,       1248,    -9.1303,   105.1662,       5535,   101.9,  21.9265,  34.5273,2,  34.5290,2,    119.8,4,   126.3,2,   14.85,2,   12.62,2,    0.04,2,    0.92,2,   1.475,2,   0.826,2,  -999.0,9,  -999.0,9,  -999.0,5,   1.092,2,   0.004,   1.7874,2,    2.80,2, -999.00,9,  -999.0,9,  -999.0,   7.132,2,   0.036,  1487.0,  21.9065,   0.0089,    0.14
 316N145_14,       I02E,    1079,          1,         32,     SIH028,2,19951205,       1248,    -9.1303,   105.1662,       5535,   152.1,  15.9500,  34.5674,2,  34.5926,2,    107.0,4,   104.0,2,   27.89,2,   19.96,2,    0.01,2,    1.42,2,   1.191,2,   0.645,2,  -999.0,9,  -999.0,9,  -999.0,5,   0.978,2,   0.004,   1.8109,2,    6.92,2, -999.00,9,  -999.0,9,  -999.0,   7.384,2,   0.037,  1950.4,  15.9261,   0.0091,    0.14
 316N145_14,       I02E,    1079,          1,         31,     SIH029,2,19951205,       1248,    -9.1303,   105.1662,       5535,   200.7,  13.0561,  34.6344,2,  34.6384,2,     88.1,4,    91.2,2,   36.11,2,   24.63,2,    0.01,2,    1.75,2,   0.879,2,   0.462,2,  -999.0,9,  -999.0,9,  -999.0,5,   0.784,2,   0.004,-999.0000,1, -999.00,9, -999.00,9,  -999.0,9,  -999.0,-999.000,9,-999.000,  2400.2,  13.0285,-999.0000, -999.00
 316N145_14,       I02E,    1079,          1,         30,     SIH030,2,19951205,       1248,    -9.1303,   105.1662,       5535,   250.8,  10.9028,  34.6195,2,  34.6162,2,     82.4,4,    85.7,2,   43.61,2,   28.04,2,    0.01,2,    1.98,2,   0.622,6,   0.328,2,  -999.0,9,  -999.0,9,  -999.0,5,   0.613,2,   0.003,   1.8574,2,    9.91,2, -999.00,9,  -999.0,9,  -999.0,   7.745,2,   0.039,  2864.1,  10.8721,   0.0093,    0.14
 316N145_14,       I02E,    1079,          1,         29,     SIH031,2,19951205,       1248,    -9.1303,   105.1662,       5535,   301.8,  10.7315,  34.8039,2,  34.7913,2,     63.3,4,    66.6,2,   38.09,2,   30.00,2,    0.01,2,    2.08,2,   0.377,2,   0.185,2,  -999.0,9,  -999.0,9,  -999.0,5,   0.379,2,   0.003,   1.7863,2,    7.91,2, -999.00,9,  -999.0,9,  -999.0,   7.427,2,   0.037,  3335.8,  10.6948,   0.0089,    0.14
 316N145_14,       I02E,    1079,          1,         28,     SIH032,2,19951205,       1248,    -9.1303,   105.1662,       5535,   351.1,  10.5729,  34.8786,2,  34.8739,2,     61.3,4,    65.5,2,   33.62,2,   30.60,2,    0.00,2,    2.08,2,   0.249,2,   0.138,2,  -999.0,9,  -999.0,9,  -999.0,5,-999.000,1,-999.000,-999.0000,1, -999.00,9, -999.00,9,  -999.0,9,  -999.0,-999.000,9,-999.000,  3792.3,  10.5304,-999.0000, -999.00
 316N145_14,       I02E,    1079,          1,         27,     SIH033,3,19951205,       1248,    -9.1303,   105.1662,       5535,   400.9,  10.0735,  34.8653,2,  34.8589,2,     64.9,4,    70.0,2,   35.07,2,   31.06,2,    0.01,2,    2.11,2,-999.000,5,-999.000,5,  -999.0,9,  -999.0,9,  -999.0,5,-999.000,1,-999.000,-999.0000,1, -999.00,9, -999.00,9,  -999.0,9,  -999.0,-999.000,9,-999.000,  4253.8,  10.0263,-999.0000, -999.00
 316N145_14,       I02E,    1079,          1,         26,     SIH037,2,19951205,       1248,    -9.1303,   105.1662,       5535,   502.1,   8.9207,  34.8021,2,  34.7986,2,     66.5,4,    71.6,2,   45.80,2,   32.92,2,    0.00,2,    2.30,2,   0.086,2,   0.048,2,  -999.0,9,  -999.0,9,  -999.0,5,   0.104,2,   0.002,   1.9093,2,    8.68,2, -999.00,9,  -999.0,9,  -999.0,   7.772,2,   0.039,  5190.9,   8.8656,   0.0095,    0.14
 316N145_14,       I02E,    1079,          1,         25,     SI9446,2,19951205,       1248,    -9.1303,   105.1662,       5535,   601.7,   8.1759,  34.7820,2,  34.7785,2,     59.6,4,    65.0,2,   56.89,2,   34.47,2,    0.01,2,    2.46,2,   0.039,2,   0.028,2,  -999.0,9,  -999.0,9,  -999.0,5,-999.000,1,-999.000,-999.0000,1, -999.00,9, -999.00,9,  -999.0,9,  -999.0,-999.000,9,-999.000,  6114.6,   8.1129,-999.0000, -999.00
 316N145_14,       I02E,    1079,          1,         24,     SIH036,2,19951205,       1248,    -9.1303,   105.1662,       5535,   701.1,   7.1026,  34.7047,2,  34.7017,2,     63.9,4,    70.2,2,   72.64,2,   35.33,2,    0.00,2,    2.55,2,   0.045,2,   0.029,2,  -999.0,9,  -999.0,9,  -999.0,5,-999.000,1,-999.000,-999.0000,1, -999.00,9, -999.00,9,  -999.0,9,  -999.0,-999.000,9,-999.000,  7035.7,   7.0343,-999.0000, -999.00
 316N145_14,       I02E,    1079,          1,         23,     SIH001,2,19951205,       1248,    -9.1303,   105.1662,       5535,   793.2,   6.4280,  34.6809,2,  34.6812,2,     65.7,4,    74.3,2,   81.96,2,   35.78,2,    0.00,2,    2.59,2,-999.000,5,-999.000,5,  -999.0,9,  -999.0,9,  -999.0,5,-999.000,1,-999.000,-999.0000,1, -999.00,9, -999.00,9,  -999.0,9,  -999.0,-999.000,9,-999.000,  7889.3,   6.3542,-999.0000, -999.00
 316N145_14,       I02E,    1079,          1,         22,     SIH019,2,19951205,       1248,    -9.1303,   105.1662,       5535,   897.5,   5.6745,  34.6489,2,  34.6470,2,     73.5,4,    82.2,2,   91.82,2,   36.04,2,    0.00,2,    2.62,2,   0.026,2,   0.016,2,  -999.0,9,  -999.0,9,  -999.0,5,-999.000,1,-999.000,-999.0000,1, -999.00,9, -999.00,9,  -999.0,9,  -999.0,-999.000,9,-999.000,  8856.6,   5.5956,-999.0000, -999.00
 316N145_14,       I02E,    1079,          1,         21,     SIH025,2,19951205,       1248,    -9.1303,   105.1662,       5535,   998.8,   5.1560,  34.6457,2,  34.6429,2,     76.0,4,    87.3,2,   98.63,2,   36.28,2,    0.00,2,    2.64,2,   0.023,2,   0.013,2,  -999.0,9,  -999.0,9,  -999.0,5,-999.000,1,-999.000,-999.0000,1, -999.00,9, -999.00,9,  -999.0,9,  -999.0,-999.000,9,-999.000,  9796.4,   5.0713,-999.0000, -999.00
 316N145_14,       I02E,    1079,          1,         20,     SIH004,2,19951205,       1248,    -9.1303,   105.1662,       5535,  1099.4,   4.7819,  34.6571,2,  34.6570,2,     77.3,4,    90.4,2,  103.67,2,   36.49,2,    0.00,2,    2.65,2,-999.000,5,-999.000,5,  -999.0,9,  -999.0,9,  -999.0,5,-999.000,1,-999.000,-999.0000,1, -999.00,9, -999.00,9,  -999.0,9,  -999.0,-999.000,9,-999.000, 10729.8,   4.6910,-999.0000, -999.00
 316N145_14,       I02E,    1079,          1,         19,     SIH005,2,19951205,       1248,    -9.1303,   105.1662,       5535,  1195.7,   4.4252,  34.6605,2,  34.6610,2,     81.5,4,    94.3,2,  107.45,2,   36.54,2,    0.00,2,    2.66,2,   0.012,2,   0.006,2,  -999.0,9,  -999.0,9,  -999.0,5,-999.000,1,-999.000,-999.0000,1, -999.00,9, -999.00,9,  -999.0,9,  -999.0,-999.000,9,-999.000, 11623.1,   4.3288,-999.0000, -999.00
 316N145_14,       I02E,    1079,          1,         18,     SIH006,2,19951205,       1248,    -9.1303,   105.1662,       5535,  1395.9,   3.9609,  34.6992,2,  34.7003,2,     86.7,4,   101.5,2,  111.23,2,   36.49,2,    0.00,2,    2.65,2,   0.003,2,   0.004,2,  -999.0,9,  -999.0,9,  -999.0,5,-999.000,1,-999.000,-999.0000,1, -999.00,9, -999.00,9,  -999.0,9,  -999.0,-999.000,9,-999.000, 13481.2,   3.8512,-999.0000, -999.00
 316N145_14,       I02E,    1079,          1,         17,     SIH038,2,19951205,       1248,    -9.1303,   105.1662,       5535,  1597.8,   3.4832,  34.7324,2,  34.7317,2,     94.2,4,   111.4,2,  114.29,2,   36.23,2,    0.00,2,    2.63,2,   0.001,2,   0.003,2,  -999.0,9,  -999.0,9,  -999.0,5,-999.000,1,-999.000,-999.0000,1, -999.00,9, -999.00,9,  -999.0,9,  -999.0,-999.000,9,-999.000, 15355.6,   3.3608,-999.0000, -999.00
 316N145_14,       I02E,    1079,          1,         16,     SIH008,2,19951205,       1248,    -9.1303,   105.1662,       5535,  1797.5,   3.0015,  34.7373,2,  34.7357,2,    105.4,4,   124.7,2,  117.35,2,   35.99,2,    0.00,2,    2.57,2,   0.001,2,   0.008,3,  -999.0,9,  -999.0,9,  -999.0,5,-999.000,1,-999.000,-999.0000,1, -999.00,9, -999.00,9,  -999.0,9,  -999.0,-999.000,9,-999.000, 17209.7,   2.8677,-999.0000, -999.00
 316N145_14,       I02E,    1079,          1,         15,     SIH009,2,19951205,       1248,    -9.1303,   105.1662,       5535,  1996.5,   2.6087,  34.7385,2,  34.7384,2,    117.7,4,   135.9,2,  119.71,2,   35.28,2,    0.00,2,    2.52,2,-999.000,5,-999.000,5,  -999.0,9,  -999.0,9,  -999.0,5,-999.000,1,-999.000,-999.0000,1, -999.00,9, -999.00,9,  -999.0,9,  -999.0,-999.000,9,-999.000, 19057.2,   2.4630,-999.0000, -999.00
 316N145_14,       I02E,    1079,          1,         14,     SIH010,2,19951205,       1248,    -9.1303,   105.1662,       5535,  2249.0,   2.2723,  34.7376,2,  34.7360,2,     93.9,4,   145.6,2,  123.67,2,   34.83,2,    0.00,2,    2.48,2,-999.000,5,-999.000,5,  -999.0,9,  -999.0,9,  -999.0,5,-999.000,1,-999.000,-999.0000,1, -999.00,9, -999.00,9,  -999.0,9,  -999.0,-999.000,9,-999.000, 21401.6,   2.1095,-999.0000, -999.00
 316N145_14,       I02E,    1079,          1,         13,     SIH011,2,19951205,       1248,    -9.1303,   105.1662,       5535,  2506.0,   2.0079,  34.7337,2,  34.7337,2,    -11.0,4,   154.4,2,  125.85,2,   34.53,2,    0.00,2,    2.43,2,-999.000,5,-999.000,5,  -999.0,9,  -999.0,9,  -999.0,5,-999.000,1,-999.000,-999.0000,1, -999.00,9, -999.00,9,  -999.0,9,  -999.0,-999.000,9,-999.000, 23789.1,   1.8266,-999.0000, -999.00
 316N145_14,       I02E,    1079,          1,         12,     SIH012,2,19951205,       1248,    -9.1303,   105.1662,       5535,  2744.2,   1.8417,  34.7307,2,  34.7313,2,     -6.3,4,   160.1,2,  127.67,2,   34.33,2,    0.00,2,    2.41,2,   0.000,2,  -0.001,2,  -999.0,9,  -999.0,9,  -999.0,5,-999.000,1,-999.000,-999.0000,1, -999.00,9, -999.00,9,  -999.0,9,  -999.0,-999.000,9,-999.000, 26001.6,   1.6415,-999.0000, -999.00
 316N145_14,       I02E,    1079,          1,         11,     SI9425,2,19951205,       1248,    -9.1303,   105.1662,       5535,  2999.0,   1.7050,  34.7266,2,  34.7268,2,    137.6,4,   165.7,2,  128.76,2,   34.13,2,    0.00,2,    2.39,2,-999.000,5,-999.000,5,  -999.0,9,  -999.0,9,  -999.0,5,-999.000,1,-999.000,-999.0000,1, -999.00,9, -999.00,9,  -999.0,9,  -999.0,-999.000,9,-999.000, 28369.3,   1.4835,-999.0000, -999.00
 316N145_14,       I02E,    1079,          1,         10,     SIH014,2,19951205,       1248,    -9.1303,   105.1662,       5535,  3227.3,   1.5667,  34.7234,2,  34.7221,2,    143.6,4,   170.5,2,  130.40,2,   33.98,2,    0.00,2,    2.38,2,-999.000,5,-999.000,5,  -999.0,9,  -999.0,9,  -999.0,5,-999.000,1,-999.000,-999.0000,1, -999.00,9, -999.00,9,  -999.0,9,  -999.0,-999.000,9,-999.000, 30490.6,   1.3261,-999.0000, -999.00
 316N145_14,       I02E,    1079,          1,          9,     SIH015,2,19951205,       1248,    -9.1303,   105.1662,       5535,  3491.2,   1.3934,  34.7184,2,  34.7170,2,    154.2,4,   177.8,2,  130.79,2,   33.63,2,    0.00,2,    2.35,2,-999.000,5,-999.000,5,  -999.0,9,  -999.0,9,  -999.0,5,-999.000,1,-999.000,-999.0000,1, -999.00,9, -999.00,9,  -999.0,9,  -999.0,-999.000,9,-999.000, 32942.7,   1.1306,-999.0000, -999.00
 316N145_14,       I02E,    1079,          1,          8,     SIH016,2,19951205,       1248,    -9.1303,   105.1662,       5535,  3746.3,   1.2467,  34.7150,2,  34.7158,2,    173.7,4,   186.2,2,  130.99,2,   33.28,2,    0.00,2,    2.32,2,  -0.001,2,   0.002,2,  -999.0,9,  -999.0,9,  -999.0,5,-999.000,1,-999.000,-999.0000,1, -999.00,9, -999.00,9,  -999.0,9,  -999.0,-999.000,9,-999.000, 35314.2,   0.9616,-999.0000, -999.00
 316N145_14,       I02E,    1079,          1,          7,     SIH017,2,19951205,       1248,    -9.1303,   105.1662,       5535,  3996.3,   1.1934,  34.7134,2,  34.7131,2,     -9.2,4,   188.9,2,  130.12,2,   33.12,2,    0.00,2,    2.30,2,-999.000,5,-999.000,5,  -999.0,9,  -999.0,9,  -999.0,5,-999.000,1,-999.000,-999.0000,1, -999.00,9, -999.00,9,  -999.0,9,  -999.0,-999.000,9,-999.000, 37637.4,   0.8834,-999.0000, -999.00
 316N145_14,       I02E,    1079,          1,          6,     SIH018,2,19951205,       1248,    -9.1303,   105.1662,       5535,  4291.1,   1.1734,  34.7116,2,  34.7121,2,    -10.6,4,   192.5,2,  129.61,2,   32.93,2,    0.00,2,    2.29,2,-999.000,5,-999.000,5,  -999.0,9,  -999.0,9,  -999.0,5,-999.000,1,-999.000,-999.0000,1, -999.00,9, -999.00,9,  -999.0,9,  -999.0,-999.000,9,-999.000, 40378.6,   0.8319,-999.0000, -999.00
 316N145_14,       I02E,    1079,          1,          5,     SIH002,2,19951205,       1248,    -9.1303,   105.1662,       5535,  4598.0,   1.1690,  34.7110,2,  34.7107,2,    -13.8,4,   194.4,2,  128.74,2,   32.83,2,    0.00,2,    2.28,2,-999.000,5,-999.000,5,  -999.0,9,  -999.0,9,  -999.0,5,-999.000,1,-999.000,-999.0000,1, -999.00,9, -999.00,9,  -999.0,9,  -999.0,-999.000,9,-999.000, 43232.4,   0.7930,-999.0000, -999.00
 316N145_14,       I02E,    1079,          1,          4,     SIH020,2,19951205,       1248,    -9.1303,   105.1662,       5535,  4889.4,   1.1855,  34.7105,2,  34.7111,2,    163.5,4,   195.6,2,  128.59,2,   32.78,2,    0.00,2,    2.27,2,  -0.001,2,   0.005,2,  -999.0,9,  -999.0,9,  -999.0,5,-999.000,1,-999.000,-999.0000,1, -999.00,9, -999.00,9,  -999.0,9,  -999.0,-999.000,9,-999.000, 45941.6,   0.7750,-999.0000, -999.00
 316N145_14,       I02E,    1079,          1,          3,     SIH021,2,19951205,       1248,    -9.1303,   105.1662,       5535,  5197.3,   1.2119,  34.7107,2,  34.7113,2,    164.2,4,   196.4,2,  128.25,2,   32.78,2,    0.00,2,    2.27,2,-999.000,5,-999.000,5,  -999.0,9,  -999.0,9,  -999.0,5,-999.000,1,-999.000,-999.0000,1, -999.00,9, -999.00,9,  -999.0,9,  -999.0,-999.000,9,-999.000, 48805.6,   0.7633,-999.0000, -999.00
 316N145_14,       I02E,    1079,          1,          2,     SIH022,2,19951205,       1248,    -9.1303,   105.1662,       5535,  5491.5,   1.2464,  34.7106,2,  34.7115,2,    165.6,4,   196.7,2,  128.46,2,   32.72,2,    0.00,2,    2.27,2,-999.000,5,-999.000,5,  -999.0,9,  -999.0,9,  -999.0,5,-999.000,1,-999.000,-999.0000,1, -999.00,9, -999.00,9,  -999.0,9,  -999.0,-999.000,9,-999.000, 51542.5,   0.7600,-999.0000, -999.00
 316N145_14,       I02E,    1079,          1,          1,     SIH023,2,19951205,       1248,    -9.1303,   105.1662,       5535,  5675.9,   1.2688,  34.7114,2,  34.7107,2,    165.7,4,   197.1,2,  128.43,6,   32.59,6,    0.00,6,    2.26,6,   0.001,2,   0.002,2,  -999.0,9,  -999.0,9,  -999.0,5,-999.000,1,-999.000,-999.0000,1, -999.00,9, -999.00,9,  -999.0,9,  -999.0,-999.000,9,-999.000, 53257.5,   0.7581,-999.0000, -999.00