BOTTLE,20220829CCHSIOAMB
EXPOCODE,SECT_ID,STNNBR,CASTNO,SAMPNO,BTLNBR,BTLNBR_FLAG_W,DATE,TIME,LATITUDE,LONGITUDE,DEPTH,CTDPRS,CTDTMP,CTDSAL,CTDSAL_FLAG_W,SALNTY,SALNTY_FLAG_W,CTDOXY,CTDOXY_FLAG_W,OXYGEN,OXYGEN_FLAG_W,SILCAT,SILCAT_FLAG_W,NITRAT,NITRAT_FLAG_W,NITRIT,NITRIT_FLAG_W,PHSPHT,PHSPHT_FLAG_W,CFC-11,CFC-11_FLAG_W,CFC-12,CFC-12_FLAG_W,TCARBN,TCARBN_FLAG_W,ALKALI,ALKALI_FLAG_W,PCO2,PCO2_FLAG_W,TRITUM,TRITUM_FLAG_W,TRITER,HELIUM,HELIUM_FLAG_W,DELHE3,DELHE3_FLAG_W,DELC13,DELC13_FLAG_W,DELC14,DELC14_FLAG_W,C14ERR,NEON,NEON_FLAG_W,NEONER,CTDRAW,THETA,HELIER,DELHER
,,,,,,,,,,,METERS,DBAR,ITS-90,PSS-78,,PSS-78,,UMOL/KG,,UMOL/KG,,UMOL/KG,,UMOL/KG,,UMOL/KG,,UMOL/KG,,PMOL/KG,,PMOL/KG,,UMOL/KG,,UMOL/KG,,UATM,,TU,,TU,NMOL/KG,,PERCNT,,/MILLE,,/MILLE,,/MILLE,NMOL/KG,,NMOL/KG,DBAR,DEG C,NMOL/KG,PERCNT
 316N145_14,       I02E,    1141,          1,         36,     SIH024,2,19951224,       0158,    -8.0000,    78.0000,       5248,     7.6,  28.4216,  34.1084,2,  34.1125,2,    226.9,2,   207.9,2,    1.66,2,    0.15,2,    0.01,2,    0.13,2,   1.608,2,   0.930,2,  1899.6,2,  2237.7,2,  -999.0,5,-999.000,1,-999.000,-999.0000,1, -999.00,9, -999.00,9,  -999.0,9,  -999.0,-999.000,9,-999.000,   212.5,  28.4198,-999.0000, -999.00
 316N145_14,       I02E,    1141,          1,         35,     SIH003,2,19951224,       0158,    -8.0000,    78.0000,       5248,    31.6,  26.1182,  34.9169,2,  34.9268,2,    170.2,2,   181.6,2,    4.85,2,    0.57,2,    0.04,2,    0.40,2,   1.517,2,   0.831,2,  2010.9,2,  2297.1,2,  -999.0,5,-999.000,1,-999.000,-999.0000,1, -999.00,9, -999.00,9,  -999.0,9,  -999.0,-999.000,9,-999.000,   449.8,  26.1112,-999.0000, -999.00
 316N145_14,       I02E,    1141,          1,         34,     SIH026,2,19951224,       0158,    -8.0000,    78.0000,       5248,    61.6,  21.0920,  35.1704,2,  35.1746,2,    112.5,2,   118.3,2,   10.85,2,   12.41,2,    0.56,2,    0.98,2,   1.499,6,   0.820,6,  2090.4,2,  2305.9,2,  -999.0,5,-999.000,1,-999.000,-999.0000,1, -999.00,9, -999.00,9,  -999.0,9,  -999.0,-999.000,9,-999.000,   745.2,  21.0802,-999.0000, -999.00
 316N145_14,       I02E,    1141,          1,         33,     SIH027,2,19951224,       0158,    -8.0000,    78.0000,       5248,   101.8,  17.3178,  35.0079,2,  35.0104,2,     66.7,2,    65.9,2,   19.51,2,   21.98,2,    0.04,2,    1.52,2,   1.150,2,   0.611,2,  2155.5,2,  2306.4,2,  -999.0,5,-999.000,1,-999.000,-999.0000,1, -999.00,9, -999.00,9,  -999.0,9,  -999.0,-999.000,9,-999.000,  1145.8,  17.3009,-999.0000, -999.00
 316N145_14,       I02E,    1141,          1,         32,     SIH028,2,19951224,       0158,    -8.0000,    78.0000,       5248,   151.1,  14.5905,  34.9197,2,  34.8820,2,     62.0,2,    67.1,2,   26.84,2,   24.76,2,    0.01,2,    1.73,2,   0.856,2,   0.450,2,  2180.8,2,  2303.5,2,  -999.0,5,-999.000,1,-999.000,-999.0000,1, -999.00,9, -999.00,9,  -999.0,9,  -999.0,-999.000,9,-999.000,  1637.8,  14.5681,-999.0000, -999.00
 316N145_14,       I02E,    1141,          1,         31,     SIH029,3,19951224,       0158,    -8.0000,    78.0000,       5248,   201.3,  12.6853,  34.9339,2,  34.9300,2,     64.4,2,    68.4,2,   27.56,2,   26.35,2,    0.01,2,    1.83,2,   0.625,2,   0.321,2,  2196.3,2,  2316.5,2,  -999.0,5,-999.000,1,-999.000,-999.0000,1, -999.00,9, -999.00,9,  -999.0,9,  -999.0,-999.000,9,-999.000,  2139.2,  12.6580,-999.0000, -999.00
 316N145_14,       I02E,    1141,          1,         30,     SIH030,2,19951224,       0158,    -8.0000,    78.0000,       5248,   251.0,  11.7695,  34.9315,2,  34.9323,2,     71.5,2,    73.8,2,   27.76,2,   27.09,2,    0.01,2,    1.87,2,   0.511,2,   0.265,2,  2203.4,2,  2314.6,2,  -999.0,5,-999.000,1,-999.000,-999.0000,1, -999.00,9, -999.00,9,  -999.0,9,  -999.0,-999.000,9,-999.000,  2636.5,  11.7371,-999.0000, -999.00
 316N145_14,       I02E,    1141,          1,         29,     SIH031,3,19951224,       0158,    -8.0000,    78.0000,       5248,   301.0,  11.2138,  34.9312,2,  34.9311,2,     93.8,2,    92.4,2,   25.15,2,   26.13,2,    0.01,2,    1.78,2,   0.607,2,   0.309,2,  2194.8,2,  2314.6,2,  -999.0,5,-999.000,1,-999.000,-999.0000,1, -999.00,9, -999.00,9,  -999.0,9,  -999.0,-999.000,9,-999.000,  3137.3,  11.1761,-999.0000, -999.00
 316N145_14,       I02E,    1141,          1,         28,     SI9439,2,19951224,       0158,    -8.0000,    78.0000,       5248,   351.3,  10.6184,  34.8937,2,  34.8941,2,     96.9,2,   101.7,2,   25.36,2,   26.37,2,    0.01,2,    1.81,2,   0.582,2,   0.298,2,  2193.4,2,  2310.8,2,  -999.0,5,-999.000,1,-999.000,-999.0000,1, -999.00,9, -999.00,9,  -999.0,9,  -999.0,-999.000,9,-999.000,  3640.3,  10.5757,-999.0000, -999.00
 316N145_14,       I02E,    1141,          1,         27,     SIH033,2,19951224,       0158,    -8.0000,    78.0000,       5248,   401.6,   9.9888,  34.8495,2,  34.8509,2,    107.9,2,   108.8,2,   26.90,2,   26.93,2,    0.01,2,    1.84,2,   0.527,2,   0.268,2,  2195.3,2,  2314.0,2,  -999.0,5,-999.000,1,-999.000,-999.0000,1, -999.00,9, -999.00,9,  -999.0,9,  -999.0,-999.000,9,-999.000,  4142.9,   9.9418,-999.0000, -999.00
 316N145_14,       I02E,    1141,          1,         26,     SIH037,2,19951224,       0158,    -8.0000,    78.0000,       5248,   501.8,   8.8615,  34.7877,2,  34.7868,2,    103.2,2,    97.8,2,   38.07,2,   30.27,2,    0.00,2,    2.10,2,   0.224,2,   0.116,2,  2217.7,2,  2318.5,2,  -999.0,5,-999.000,1,-999.000,-999.0000,1, -999.00,9, -999.00,9,  -999.0,9,  -999.0,-999.000,9,-999.000,  5145.4,   8.8067,-999.0000, -999.00
 316N145_14,       I02E,    1141,          1,         25,     SI9446,2,19951224,       0158,    -8.0000,    78.0000,       5248,   596.2,   8.0471,  34.7815,2,  34.7811,2,     81.8,2,    80.8,2,   51.90,2,   33.14,2,    0.00,2,    2.35,2,   0.076,2,   0.037,2,  2244.1,2,  2337.8,2,  -999.0,5,-999.000,1,-999.000,-999.0000,1, -999.00,9, -999.00,9,  -999.0,9,  -999.0,-999.000,9,-999.000,  6089.0,   7.9852,-999.0000, -999.00
 316N145_14,       I02E,    1141,          1,         24,     SIH036,2,19951224,       0158,    -8.0000,    78.0000,       5248,   696.7,   7.3284,  34.7666,2,  34.7669,2,     68.4,2,    68.3,2,   66.06,2,   35.34,2,    0.00,2,    2.54,2,   0.018,2,   0.007,2,  2267.6,2,  2349.2,2,  -999.0,5,-999.000,1,-999.000,-999.0000,1, -999.00,9, -999.00,9,  -999.0,9,  -999.0,-999.000,9,-999.000,  7093.8,   7.2594,-999.0000, -999.00
 316N145_14,       I02E,    1141,          1,         23,     SIH001,2,19951224,       0158,    -8.0000,    78.0000,       5248,   797.9,   6.5616,  34.7304,2,  34.7309,2,     71.3,2,    71.4,2,   77.57,2,   35.98,2,    0.00,2,    2.60,2,   0.010,2,   0.003,2,  2280.6,2,  2358.1,2,  -999.0,5,-999.000,1,-999.000,-999.0000,1, -999.00,9, -999.00,9,  -999.0,9,  -999.0,-999.000,9,-999.000,  8106.4,   6.4866,-999.0000, -999.00
 316N145_14,       I02E,    1141,          1,         22,     SIH019,2,19951224,       0158,    -8.0000,    78.0000,       5248,   898.6,   5.9307,  34.7137,2,  34.7127,2,     75.5,2,    75.6,2,   87.27,2,   36.37,2,    0.00,2,    2.63,2,   0.009,2,   0.002,2,  2290.6,2,  2365.6,2,  -999.0,5,-999.000,1,-999.000,-999.0000,1, -999.00,9, -999.00,9,  -999.0,9,  -999.0,-999.000,9,-999.000,  9113.8,   5.8498,-999.0000, -999.00
 316N145_14,       I02E,    1141,          1,         21,     SIH025,3,19951224,       0158,    -8.0000,    78.0000,       5248,   999.5,   5.3443,  34.6988,2,  34.6999,2,     80.5,2,    81.2,2,   94.81,2,   36.44,2,    0.00,2,    2.65,2,   0.005,2,   0.001,2,  2297.4,2,  2379.5,2,  -999.0,5,-999.000,1,-999.000,-999.0000,1, -999.00,9, -999.00,9,  -999.0,9,  -999.0,-999.000,9,-999.000, 10122.9,   5.2581,-999.0000, -999.00
 316N145_14,       I02E,    1141,          1,         20,     SIH004,2,19951224,       0158,    -8.0000,    78.0000,       5248,  1100.3,   4.9095,  34.7078,2,  34.7081,2,     86.7,2,    85.9,2,   99.85,2,   36.61,2,    0.01,2,    2.65,2,   0.004,2,   0.003,2,  2301.7,2,  2380.5,2,  -999.0,5,-999.000,1,-999.000,-999.0000,1, -999.00,9, -999.00,9,  -999.0,9,  -999.0,-999.000,9,-999.000, 11131.7,   4.8175,-999.0000, -999.00
 316N145_14,       I02E,    1141,          1,         19,     SIH005,3,19951224,       0158,    -8.0000,    78.0000,       5248,  1200.9,   4.6270,  34.7214,2,  34.7219,2,     89.9,2,    89.5,2,  102.40,2,   36.56,2,    0.01,2,    2.65,2,   0.002,2,   0.000,2,  2304.9,2,  2385.4,2,  -999.0,5,-999.000,1,-999.000,   1.7745,2,   12.74,2, -999.00,9,  -999.0,9,  -999.0,   7.171,2,-999.000, 12138.4,   4.5282,-999.0000, -999.00
 316N145_14,       I02E,    1141,          1,         18,     SIH006,2,19951224,       0158,    -8.0000,    78.0000,       5248,  1401.6,   4.0168,  34.7622,2,  34.7620,2,    102.5,2,   100.0,2,  106.95,2,   36.29,2,    0.01,2,    2.63,2,  -0.001,2,  -0.003,2,  2306.5,2,  2350.5,4,  -999.0,5,-999.000,1,-999.000,   1.7760,2,   12.12,2, -999.00,9,  -999.0,9,  -999.0,   7.194,2,-999.000, 14146.1,   3.9058,-999.0000, -999.00
 316N145_14,       I02E,    1141,          1,         17,     SIH038,2,19951224,       0158,    -8.0000,    78.0000,       5248,  1597.6,   3.2841,  34.7592,2,  34.7600,2,    121.4,2,   119.7,2,  112.33,2,   35.50,2,    0.01,2,    2.55,2,-999.000,5,-999.000,5,  2304.9,2,  2394.3,2,  -999.0,5,-999.000,1,-999.000,   1.7401,2,   12.77,2, -999.00,9,  -999.0,9,  -999.0,   7.088,2,-999.000, 16105.9,   3.1641,-999.0000, -999.00
 316N145_14,       I02E,    1141,          1,         16,     SIH008,2,19951224,       0158,    -8.0000,    78.0000,       5248,  1799.7,   2.7851,  34.7548,2,  34.7539,2,    130.5,2,   131.3,2,  117.55,2,   35.12,2,    0.01,2,    2.50,2,-999.000,5,-999.000,5,  2305.0,2,  2398.9,2,  -999.0,5,-999.000,1,-999.000,-999.0000,1, -999.00,9, -999.00,9,  -999.0,9,  -999.0,-999.000,9,-999.000, 18128.1,   2.6540,-999.0000, -999.00
 316N145_14,       I02E,    1141,          1,         15,     SIH009,2,19951224,       0158,    -8.0000,    78.0000,       5248,  1997.4,   2.4552,  34.7498,2,  34.7518,2,    141.1,2,   140.6,2,  120.94,2,   34.84,2,    0.00,2,    2.46,2,-999.000,5,-999.000,5,  2305.3,2,  2416.2,3,  -999.0,5,-999.000,1,-999.000,   1.7763,2,   13.03,2, -999.00,9,  -999.0,9,  -999.0,   7.356,2,-999.000, 20105.8,   2.3117,-999.0000, -999.00
 316N145_14,       I02E,    1141,          1,         14,     SIH010,2,19951224,       0158,    -8.0000,    78.0000,       5248,  2250.1,   2.1250,  34.7394,2,  34.7412,2,    152.4,2,   152.9,2,  122.34,2,   34.29,2,    0.01,2,    2.41,2,-999.000,5,-999.000,5,  -999.0,5,  2404.7,2,  -999.0,5,-999.000,1,-999.000,-999.0000,1, -999.00,9, -999.00,9,  -999.0,9,  -999.0,-999.000,9,-999.000, 22633.8,   1.9646,-999.0000, -999.00
 316N145_14,       I02E,    1141,          1,         13,     SIH011,2,19951224,       0158,    -8.0000,    78.0000,       5248,  2503.4,   1.9282,  34.7358,2,  34.7355,2,    157.9,2,   158.7,2,  125.23,2,   33.95,2,    0.01,2,    2.38,2,-999.000,5,-999.000,5,  2300.6,2,  2398.1,2,  -999.0,5,-999.000,1,-999.000,   1.7871,2,   13.58,2, -999.00,9,  -999.0,9,  -999.0,   4.170,2,-999.000, 25168.1,   1.7486,-999.0000, -999.00
 316N145_14,       I02E,    1141,          1,         12,     SIH012,2,19951224,       0158,    -8.0000,    78.0000,       5248,  2756.9,   1.7895,  34.7322,2,  34.7317,2,    161.5,2,   162.3,2,  127.46,2,   34.07,2,    0.01,2,    2.38,2,-999.000,5,-999.000,5,  2301.7,2,  2407.9,2,  -999.0,5,-999.000,1,-999.000,   1.9020,2,   13.89,2, -999.00,9,  -999.0,9,  -999.0,   8.068,2,   0.063, 27704.1,   1.5892,   0.0040,    0.17
 316N145_14,       I02E,    1141,          1,         11,     SI9426,2,19951224,       0158,    -8.0000,    78.0000,       5248,  2999.7,   1.6673,  34.7288,2,  34.7278,2,    166.1,2,   165.5,2,  130.35,2,   33.74,2,    0.01,2,    2.37,2,   0.002,2,  -0.001,2,  2297.1,2,  2423.7,2,  -999.0,5,-999.000,1,-999.000,   1.9000,2,   13.35,2, -999.00,9,  -999.0,9,  -999.0,   8.098,2,   0.063, 30133.3,   1.4466,   0.0030,    0.17
 316N145_14,       I02E,    1141,          1,         10,     SIH014,2,19951224,       0158,    -8.0000,    78.0000,       5248,  3253.1,   1.5572,  34.7253,2,  34.7260,2,    167.1,2,   166.9,2,  133.41,2,   34.03,2,    0.00,2,    2.36,2,-999.000,5,-999.000,5,  2306.0,2,  2414.6,2,  -999.0,5,-999.000,1,-999.000,   1.8980,2,   12.71,2, -999.00,9,  -999.0,9,  -999.0,   8.092,2,   0.063, 32669.8,   1.3143,   0.0030,    0.17
 316N145_14,       I02E,    1141,          1,          9,     SIH015,2,19951224,       0158,    -8.0000,    78.0000,       5248,  3498.4,   1.4605,  34.7216,2,  34.7217,2,    170.4,2,   170.3,2,  134.75,2,   33.86,6,    0.01,6,    2.35,6,-999.000,5,-999.000,5,  2306.3,2,  2419.1,2,  -999.0,5,-999.000,1,-999.000,   1.8990,2,   12.30,2, -999.00,9,  -999.0,9,  -999.0,   8.096,2,   0.063, 35123.0,   1.1953,   0.0040,    0.18
 316N145_14,       I02E,    1141,          1,          8,     SIH016,2,19951224,       0158,    -8.0000,    78.0000,       5248,  3753.6,   1.3880,  34.7190,2,  34.7197,2,    173.6,2,   174.6,2,  135.68,6,   33.89,6,    0.01,6,    2.33,6,-999.000,5,-999.000,5,  2278.0,3,  2418.5,2,  -999.0,5,-999.000,1,-999.000,-999.0000,1, -999.00,9, -999.00,9,  -999.0,9,  -999.0,-999.000,9,-999.000, 37675.4,   1.0983,-999.0000, -999.00
 316N145_14,       I02E,    1141,          1,          7,     SIH017,2,19951224,       0158,    -8.0000,    78.0000,       5248,  3998.0,   1.3665,  34.7177,2,  34.7184,2,    177.8,2,   177.8,2,  134.44,2,   33.43,2,    0.01,2,    2.33,2,-999.000,5,-999.000,5,  2301.4,2,  2420.1,2,  -999.0,5,-999.000,1,-999.000,   1.8960,2,   11.98,2, -999.00,9,  -999.0,9,  -999.0,   8.140,2,   0.063, 40120.3,   1.0513,   0.0040,    0.18
 316N145_14,       I02E,    1141,          1,          6,     SIH018,2,19951224,       0158,    -8.0000,    78.0000,       5248,  4253.5,   1.3614,  34.7174,2,  34.7180,2,    179.6,2,   180.1,2,  134.18,2,   33.50,2,    0.00,2,    2.31,2,   0.000,2,  -0.001,2,  2299.6,2,  2414.9,2,  -999.0,5,-999.000,1,-999.000,-999.0000,1, -999.00,9, -999.00,9,  -999.0,9,  -999.0,-999.000,9,-999.000, 42676.7,   1.0184,-999.0000, -999.00
 316N145_14,       I02E,    1141,          1,          5,     SIH002,2,19951224,       0158,    -8.0000,    78.0000,       5248,  4497.9,   1.3667,  34.7170,2,  34.7172,2,    181.0,2,   181.0,2,  133.07,2,   33.21,2,    0.01,2,    2.31,2,-999.000,5,-999.000,5,  2297.9,2,  2415.2,2,  -999.0,5,-999.000,1,-999.000,   1.8910,2,   11.71,2, -999.00,9,  -999.0,9,  -999.0,   8.106,2,   0.063, 45121.6,   0.9959,   0.0030,    0.18
 316N145_14,       I02E,    1141,          1,          4,     SIH020,2,19951224,       0158,    -8.0000,    78.0000,       5248,  4754.6,   1.3785,  34.7166,2,  34.7170,2,    182.9,2,   182.9,2,  132.81,2,   33.22,2,    0.00,2,    2.30,2,-999.000,5,-999.000,5,  2295.8,2,  2411.2,2,  -999.0,5,-999.000,1,-999.000,-999.0000,1, -999.00,9, -999.00,9,  -999.0,9,  -999.0,-999.000,9,-999.000, 47688.5,   0.9775,-999.0000, -999.00
 316N145_14,       I02E,    1141,          1,          3,     SIH021,2,19951224,       0158,    -8.0000,    78.0000,       5248,  4999.8,   1.4014,  34.7161,2,  34.7170,2,    184.1,2,   183.4,2,  132.37,2,   33.11,2,    0.01,2,    2.30,2,-999.000,5,-999.000,5,  2295.5,2,  2412.5,2,  -999.0,5,-999.000,1,-999.000,   1.8910,2,   11.50,2, -999.00,9,  -999.0,9,  -999.0,   8.111,2,   0.063, 50142.4,   0.9703,   0.0030,    0.18
 316N145_14,       I02E,    1141,          1,          2,     SIH022,2,19951224,       0158,    -8.0000,    78.0000,       5248,  5256.5,   1.4304,  34.7162,2,  34.7158,2,    184.3,2,   183.5,2,  132.60,2,   33.29,2,    0.00,2,    2.28,2,-999.000,5,-999.000,5,  2294.9,2,  2410.7,2,  -999.0,5,-999.000,1,-999.000,-999.0000,1, -999.00,9, -999.00,9,  -999.0,9,  -999.0,-999.000,9,-999.000, 52710.1,   0.9668,-999.0000, -999.00
 316N145_14,       I02E,    1141,          1,          1,     SIH023,2,19951224,       0158,    -8.0000,    78.0000,       5248,  5367.2,   1.4436,  34.7163,2,  34.7164,2,    182.6,2,   183.5,2,  132.35,6,   33.13,6,    0.01,6,    2.28,6,  -0.001,2,   0.000,2,  2294.7,2,  2413.2,2,  -999.0,5,-999.000,1,-999.000,   1.8910,2,   11.45,2, -999.00,9,  -999.0,9,  -999.0,   8.106,2,   0.063, 53818.2,   0.9656,   0.0030,    0.18