BOTTLE,20220829CCHSIOAMB
EXPOCODE,SECT_ID,STNNBR,CASTNO,SAMPNO,BTLNBR,BTLNBR_FLAG_W,DATE,TIME,LATITUDE,LONGITUDE,DEPTH,CTDPRS,CTDTMP,CTDSAL,CTDSAL_FLAG_W,SALNTY,SALNTY_FLAG_W,CTDOXY,CTDOXY_FLAG_W,OXYGEN,OXYGEN_FLAG_W,SILCAT,SILCAT_FLAG_W,NITRAT,NITRAT_FLAG_W,NITRIT,NITRIT_FLAG_W,PHSPHT,PHSPHT_FLAG_W,CFC-11,CFC-11_FLAG_W,CFC-12,CFC-12_FLAG_W,TCARBN,TCARBN_FLAG_W,ALKALI,ALKALI_FLAG_W,PCO2,PCO2_FLAG_W,TRITUM,TRITUM_FLAG_W,TRITER,HELIUM,HELIUM_FLAG_W,DELHE3,DELHE3_FLAG_W,DELC13,DELC13_FLAG_W,DELC14,DELC14_FLAG_W,C14ERR,NEON,NEON_FLAG_W,NEONER,CTDRAW,THETA,HELIER,DELHER
,,,,,,,,,,,METERS,DBAR,ITS-90,PSS-78,,PSS-78,,UMOL/KG,,UMOL/KG,,UMOL/KG,,UMOL/KG,,UMOL/KG,,UMOL/KG,,PMOL/KG,,PMOL/KG,,UMOL/KG,,UMOL/KG,,UATM,,TU,,TU,NMOL/KG,,PERCNT,,/MILLE,,/MILLE,,/MILLE,NMOL/KG,,NMOL/KG,DBAR,DEG C,NMOL/KG,PERCNT
 316N145_14,       I02E,    1103,          1,         36,     SIH024,2,19951213,       0611,    -8.0000,    89.6667,       4922,     8.6,  27.1726,  34.2875,2,  34.2989,2,    215.0,2,   210.2,2,    4.09,3,    0.10,2,    0.00,2,    0.10,2,-999.000,5,-999.000,5,  1924.2,2,  2250.4,2,  -999.0,5,-999.000,1,-999.000,-999.0000,1, -999.00,9, -999.00,9,  -999.0,9,  -999.0,-999.000,9,-999.000,   228.4,  27.1706,-999.0000, -999.00
 316N145_14,       I02E,    1103,          1,         35,     SIH003,2,19951213,       0611,    -8.0000,    89.6667,       4922,    36.1,  26.8530,  34.3182,2,  34.3262,2,    208.1,2,   208.5,2,    4.10,3,    0.05,2,    0.00,2,    0.11,2,-999.000,5,-999.000,5,  1926.0,2,  -999.0,9,  -999.0,5,-999.000,1,-999.000,-999.0000,1, -999.00,9, -999.00,9,  -999.0,9,  -999.0,-999.000,9,-999.000,   495.4,  26.8447,-999.0000, -999.00
 316N145_14,       I02E,    1103,          1,         34,     SIH026,2,19951213,       0611,    -8.0000,    89.6667,       4922,    60.4,  24.1092,  34.4427,2,  34.4718,2,    193.3,4,   142.7,2,   10.92,3,    8.79,2,    0.17,2,    0.69,2,-999.000,5,-999.000,5,  2018.9,2,  2266.4,2,  -999.0,5,-999.000,1,-999.000,-999.0000,1, -999.00,9, -999.00,9,  -999.0,9,  -999.0,-999.000,9,-999.000,   735.4,  24.0965,-999.0000, -999.00
 316N145_14,       I02E,    1103,          1,         33,     SIH027,2,19951213,       0611,    -8.0000,    89.6667,       4922,   100.4,  19.7148,  34.9267,2,  34.9181,2,     66.4,2,    69.6,2,   18.80,3,   20.33,2,    0.04,2,    1.44,2,-999.000,5,-999.000,5,  -999.0,9,  -999.0,9,  -999.0,5,-999.000,1,-999.000,-999.0000,1, -999.00,9, -999.00,9,  -999.0,9,  -999.0,-999.000,9,-999.000,  1133.2,  19.6964,-999.0000, -999.00
 316N145_14,       I02E,    1103,          1,         32,     SIH028,2,19951213,       0611,    -8.0000,    89.6667,       4922,   151.0,  15.6692,  34.8356,2,  34.7988,2,     80.5,2,    68.3,2,   27.78,3,   24.41,2,    0.01,2,    1.75,2,-999.000,5,-999.000,5,  -999.0,9,  -999.0,9,  -999.0,5,-999.000,1,-999.000,-999.0000,1, -999.00,9, -999.00,9,  -999.0,9,  -999.0,-999.000,9,-999.000,  1638.3,  15.6457,-999.0000, -999.00
 316N145_14,       I02E,    1103,          1,         31,     SIH029,2,19951213,       0611,    -8.0000,    89.6667,       4922,   200.5,  12.7289,  34.7596,2,  34.7421,2,     65.5,2,    71.2,2,   35.94,3,   27.13,2,    0.01,2,    1.92,2,-999.000,5,-999.000,5,  -999.0,9,  -999.0,9,  -999.0,5,-999.000,1,-999.000,-999.0000,1, -999.00,9, -999.00,9,  -999.0,9,  -999.0,-999.000,9,-999.000,  2132.4,  12.7018,-999.0000, -999.00
 316N145_14,       I02E,    1103,          1,         30,     SIH030,2,19951213,       0611,    -8.0000,    89.6667,       4922,   250.7,  11.7324,  34.8330,2,  34.8184,2,     64.3,2,    63.0,2,   34.43,3,   29.00,2,    0.01,2,    2.04,2,-999.000,5,-999.000,5,  -999.0,9,  -999.0,9,  -999.0,5,-999.000,1,-999.000,-999.0000,1, -999.00,9, -999.00,9,  -999.0,9,  -999.0,-999.000,9,-999.000,  2634.5,  11.7001,-999.0000, -999.00
 316N145_14,       I02E,    1103,          1,         29,     SIH031,2,19951213,       0611,    -8.0000,    89.6667,       4922,   300.8,  10.9884,  34.8788,2,  34.8802,2,     61.4,2,    62.7,2,   32.64,3,   29.95,2,    0.00,2,    2.05,2,-999.000,5,-999.000,5,  -999.0,9,  -999.0,9,  -999.0,5,-999.000,1,-999.000,-999.0000,1, -999.00,9, -999.00,9,  -999.0,9,  -999.0,-999.000,9,-999.000,  3136.2,  10.9512,-999.0000, -999.00
 316N145_14,       I02E,    1103,          1,         28,     SIH032,3,19951213,       0611,    -8.0000,    89.6667,       4922,   351.4,  10.5380,  34.8953,2,  34.8902,2,     66.8,2,    67.1,2,   32.46,3,   30.59,2,    0.00,2,    2.07,2,-999.000,5,-999.000,5,  -999.0,9,  -999.0,9,  -999.0,5,-999.000,1,-999.000,-999.0000,1, -999.00,9, -999.00,9,  -999.0,9,  -999.0,-999.000,9,-999.000,  3641.7,  10.4956,-999.0000, -999.00
 316N145_14,       I02E,    1103,          1,         27,     SIH033,2,19951213,       0611,    -8.0000,    89.6667,       4922,   400.9,  10.0635,  34.8784,2,  34.8766,2,     67.5,2,    67.7,2,   34.09,3,   31.13,2,    0.00,2,    2.12,2,-999.000,5,-999.000,5,  -999.0,9,  -999.0,9,  -999.0,5,-999.000,1,-999.000,-999.0000,1, -999.00,9, -999.00,9,  -999.0,9,  -999.0,-999.000,9,-999.000,  4136.3,  10.0164,-999.0000, -999.00
 316N145_14,       I02E,    1103,          1,         26,     SIH037,3,19951213,       0611,    -8.0000,    89.6667,       4922,   500.8,   9.1079,  34.8349,2,  34.8322,2,     67.2,2,    69.0,2,   42.88,3,   32.77,2,    0.00,2,    2.29,2,-999.000,5,-999.000,5,  -999.0,9,  -999.0,9,  -999.0,5,-999.000,1,-999.000,-999.0000,1, -999.00,9, -999.00,9,  -999.0,9,  -999.0,-999.000,9,-999.000,  5135.3,   9.0523,-999.0000, -999.00
 316N145_14,       I02E,    1103,          1,         25,     SI9446,2,19951213,       0611,    -8.0000,    89.6667,       4922,   595.2,   8.3315,  34.8107,2,  34.8098,2,     64.3,2,    64.4,2,   53.84,3,   34.42,2,    0.00,2,    2.44,2,-999.000,5,-999.000,5,  -999.0,9,  -999.0,9,  -999.0,5,-999.000,1,-999.000,-999.0000,1, -999.00,9, -999.00,9,  -999.0,9,  -999.0,-999.000,9,-999.000,  6079.4,   8.2684,-999.0000, -999.00
 316N145_14,       I02E,    1103,          1,         24,     SIH036,2,19951213,       0611,    -8.0000,    89.6667,       4922,   696.2,   7.4953,  34.7901,2,  34.7842,2,     60.6,2,    61.4,2,   67.66,3,   35.75,2,    0.00,2,    2.59,2,-999.000,5,-999.000,5,  -999.0,9,  -999.0,9,  -999.0,5,-999.000,1,-999.000,-999.0000,1, -999.00,9, -999.00,9,  -999.0,9,  -999.0,-999.000,9,-999.000,  7089.5,   7.4254,-999.0000, -999.00
 316N145_14,       I02E,    1103,          1,         23,     SIH001,2,19951213,       0611,    -8.0000,    89.6667,       4922,   796.8,   6.7194,  34.7532,2,  34.7498,2,     65.5,2,    65.4,2,   78.62,3,   36.23,2,    0.00,2,    2.64,2,-999.000,5,-999.000,5,  -999.0,9,  -999.0,9,  -999.0,5,-999.000,1,-999.000,-999.0000,1, -999.00,9, -999.00,9,  -999.0,9,  -999.0,-999.000,9,-999.000,  8095.5,   6.6435,-999.0000, -999.00
 316N145_14,       I02E,    1103,          1,         22,     SIH019,2,19951213,       0611,    -8.0000,    89.6667,       4922,   898.2,   6.1296,  34.7398,2,  34.7386,2,     68.1,2,    69.6,2,   86.53,3,   36.50,2,    0.00,2,    2.67,2,-999.000,5,-999.000,5,  -999.0,9,  -999.0,9,  -999.0,5,-999.000,1,-999.000,-999.0000,1, -999.00,9, -999.00,9,  -999.0,9,  -999.0,-999.000,9,-999.000,  9109.8,   6.0474,-999.0000, -999.00
 316N145_14,       I02E,    1103,          1,         21,     SIH025,2,19951213,       0611,    -8.0000,    89.6667,       4922,   997.5,   5.5197,  34.7190,2,  34.7172,2,     76.6,2,    76.7,2,   94.07,3,   36.60,2,    0.00,2,    2.68,2,-999.000,5,-999.000,5,  -999.0,9,  -999.0,9,  -999.0,5,-999.000,1,-999.000,-999.0000,1, -999.00,9, -999.00,9,  -999.0,9,  -999.0,-999.000,9,-999.000, 10102.7,   5.4323,-999.0000, -999.00
 316N145_14,       I02E,    1103,          1,         20,     SIH004,2,19951213,       0611,    -8.0000,    89.6667,       4922,  1097.6,   5.0714,  34.7247,2,  34.7225,2,     81.3,2,    81.8,2,   99.47,3,   36.75,2,    0.00,2,    2.69,2,-999.000,5,-999.000,5,  -999.0,9,  -999.0,9,  -999.0,5,-999.000,1,-999.000,-999.0000,1, -999.00,9, -999.00,9,  -999.0,9,  -999.0,-999.000,9,-999.000, 11104.8,   4.9782,-999.0000, -999.00
 316N145_14,       I02E,    1103,          1,         19,     SIH005,2,19951213,       0611,    -8.0000,    89.6667,       4922,  1200.3,   4.6719,  34.7329,2,  34.7307,2,     83.8,2,    87.3,2,  103.60,3,   36.75,2,    0.00,2,    2.70,2,-999.000,5,-999.000,5,  -999.0,9,  -999.0,9,  -999.0,5,-999.000,1,-999.000,-999.0000,1, -999.00,9, -999.00,9,  -999.0,9,  -999.0,-999.000,9,-999.000, 12131.8,   4.5727,-999.0000, -999.00
 316N145_14,       I02E,    1103,          1,         18,     SIH006,2,19951213,       0611,    -8.0000,    89.6667,       4922,  1301.0,   4.3595,  34.7391,2,  34.7386,2,     90.1,2,    91.9,2,  106.49,3,   36.75,2,    0.00,2,    2.69,2,-999.000,5,-999.000,5,  -999.0,9,  -999.0,9,  -999.0,5,-999.000,1,-999.000,-999.0000,1, -999.00,9, -999.00,9,  -999.0,9,  -999.0,-999.000,9,-999.000, 13140.1,   4.2540,-999.0000, -999.00
 316N145_14,       I02E,    1103,          1,         17,     SIH038,2,19951213,       0611,    -8.0000,    89.6667,       4922,  1396.8,   4.0460,  34.7459,2,  34.7453,2,     97.7,2,    98.7,2,  108.65,3,   36.38,2,    0.00,2,    2.67,2,-999.000,5,-999.000,5,  -999.0,9,  -999.0,9,  -999.0,5,-999.000,1,-999.000,-999.0000,1, -999.00,9, -999.00,9,  -999.0,9,  -999.0,-999.000,9,-999.000, 14097.6,   3.9352,-999.0000, -999.00
 316N145_14,       I02E,    1103,          1,         16,     SIH008,2,19951213,       0611,    -8.0000,    89.6667,       4922,  1598.3,   3.4554,  34.7501,2,  34.7506,2,    109.8,2,   111.5,2,  113.69,3,   36.10,2,    0.00,2,    2.63,2,-999.000,5,-999.000,5,  -999.0,9,  -999.0,9,  -999.0,5,-999.000,1,-999.000,-999.0000,1, -999.00,9, -999.00,9,  -999.0,9,  -999.0,-999.000,9,-999.000, 16113.3,   3.3333,-999.0000, -999.00
 316N145_14,       I02E,    1103,          1,         15,     SIH009,2,19951213,       0611,    -8.0000,    89.6667,       4922,  1794.1,   2.9411,  34.7489,2,  34.7494,2,    121.5,2,   124.7,2,  118.73,3,   35.67,2,    0.00,2,    2.57,2,-999.000,5,-999.000,5,  -999.0,9,  -999.0,9,  -999.0,5,-999.000,1,-999.000,-999.0000,1, -999.00,9, -999.00,9,  -999.0,9,  -999.0,-999.000,9,-999.000, 18072.5,   2.8084,-999.0000, -999.00
 316N145_14,       I02E,    1103,          1,         14,     SIH010,2,19951213,       0611,    -8.0000,    89.6667,       4922,  1997.5,   2.5672,  34.7456,2,  34.7441,2,    136.6,2,   136.9,2,  121.61,3,   35.19,2,    0.00,2,    2.54,2,-999.000,5,-999.000,5,  -999.0,9,  -999.0,9,  -999.0,5,-999.000,1,-999.000,-999.0000,1, -999.00,9, -999.00,9,  -999.0,9,  -999.0,-999.000,9,-999.000, 20107.4,   2.4220,-999.0000, -999.00
 316N145_14,       I02E,    1103,          1,         13,     SIH011,2,19951213,       0611,    -8.0000,    89.6667,       4922,  2195.4,   2.2682,  34.7426,2,  34.7427,2,    144.4,2,   146.1,2,  123.42,3,   34.81,2,    0.00,2,    2.50,2,-999.000,5,-999.000,5,  -999.0,9,  -999.0,9,  -999.0,5,-999.000,1,-999.000,-999.0000,1, -999.00,9, -999.00,9,  -999.0,9,  -999.0,-999.000,9,-999.000, 22086.5,   2.1102,-999.0000, -999.00
 316N145_14,       I02E,    1103,          1,         12,     SIH012,2,19951213,       0611,    -8.0000,    89.6667,       4922,  2398.4,   2.0631,  34.7403,2,  34.7406,2,    150.3,2,   151.9,2,  125.94,3,   34.55,2,    0.00,2,    2.46,2,-999.000,5,-999.000,5,  -999.0,9,  -999.0,9,  -999.0,5,-999.000,1,-999.000,-999.0000,1, -999.00,9, -999.00,9,  -999.0,9,  -999.0,-999.000,9,-999.000, 24118.1,   1.8905,-999.0000, -999.00
 316N145_14,       I02E,    1103,          1,         11,     SI9426,2,19951213,       0611,    -8.0000,    89.6667,       4922,  2595.0,   1.9220,  34.7364,2,  34.7359,2,    156.8,2,   157.1,2,  127.04,3,   34.23,2,    0.00,2,    2.42,2,-999.000,5,-999.000,5,  -999.0,9,  -999.0,9,  -999.0,5,-999.000,1,-999.000,-999.0000,1, -999.00,9, -999.00,9,  -999.0,9,  -999.0,-999.000,9,-999.000, 26085.4,   1.7342,-999.0000, -999.00
 316N145_14,       I02E,    1103,          1,         10,     SIH014,2,19951213,       0611,    -8.0000,    89.6667,       4922,  2797.1,   1.8022,  34.7329,2,  34.7329,2,    161.8,2,   161.0,2,  129.02,3,   34.22,2,    0.00,2,    2.40,2,-999.000,5,-999.000,5,  -999.0,9,  -999.0,9,  -999.0,5,-999.000,1,-999.000,-999.0000,1, -999.00,9, -999.00,9,  -999.0,9,  -999.0,-999.000,9,-999.000, 28106.8,   1.5979,-999.0000, -999.00
 316N145_14,       I02E,    1103,          1,          9,     SIH015,2,19951213,       0611,    -8.0000,    89.6667,       4922,  2996.5,   1.6858,  34.7293,2,  34.7290,2,    164.5,2,   165.3,2,  130.66,3,   34.11,2,    0.00,2,    2.39,2,-999.000,5,-999.000,5,  -999.0,9,  -999.0,9,  -999.0,5,-999.000,1,-999.000,-999.0000,1, -999.00,9, -999.00,9,  -999.0,9,  -999.0,-999.000,9,-999.000, 30102.3,   1.4650,-999.0000, -999.00
 316N145_14,       I02E,    1103,          1,          8,     SIH016,2,19951213,       0611,    -8.0000,    89.6667,       4922,  3246.6,   1.5567,  34.7244,2,  34.7254,2,    167.7,2,   169.7,2,  131.93,3,   33.94,2,    0.00,2,    2.38,2,-999.000,5,-999.000,5,  -999.0,9,  -999.0,9,  -999.0,5,-999.000,1,-999.000,-999.0000,1, -999.00,9, -999.00,9,  -999.0,9,  -999.0,-999.000,9,-999.000, 32603.5,   1.3145,-999.0000, -999.00
 316N145_14,       I02E,    1103,          1,          7,     SIH017,2,19951213,       0611,    -8.0000,    89.6667,       4922,  3499.4,   1.3942,  34.7203,2,  34.7223,3,    176.1,2,   177.7,2,  132.11,3,   33.68,2,    0.00,2,    2.36,2,-999.000,5,-999.000,5,  -999.0,9,  -999.0,9,  -999.0,5,-999.000,1,-999.000,-999.0000,1, -999.00,9, -999.00,9,  -999.0,9,  -999.0,-999.000,9,-999.000, 35133.1,   1.1305,-999.0000, -999.00
 316N145_14,       I02E,    1103,          1,          6,     SIH018,2,19951213,       0611,    -8.0000,    89.6667,       4922,  3747.7,   1.2566,  34.7167,2,  34.7168,2,    183.5,2,   185.6,2,  131.23,3,   33.20,2,    0.00,2,    2.33,2,-999.000,5,-999.000,5,  -999.0,9,  -999.0,9,  -999.0,5,-999.000,1,-999.000,-999.0000,1, -999.00,9, -999.00,9,  -999.0,9,  -999.0,-999.000,9,-999.000, 37616.6,   0.9710,-999.0000, -999.00
 316N145_14,       I02E,    1103,          1,          5,     SIH002,2,19951213,       0611,    -8.0000,    89.6667,       4922,  3999.0,   1.1687,  34.7151,2,  34.7154,2,    190.8,2,   192.9,2,  128.73,3,   32.71,2,    0.00,2,    2.29,2,-999.000,5,-999.000,5,  -999.0,9,  -999.0,9,  -999.0,5,-999.000,1,-999.000,-999.0000,1, -999.00,9, -999.00,9,  -999.0,9,  -999.0,-999.000,9,-999.000, 40130.3,   0.8591,-999.0000, -999.00
 316N145_14,       I02E,    1103,          1,          4,     SIH020,2,19951213,       0611,    -8.0000,    89.6667,       4922,  4253.6,   1.1293,  34.7143,2,  34.7144,2,    197.7,2,   198.1,2,  126.77,3,   32.50,2,    0.00,2,    2.26,2,-999.000,5,-999.000,5,  -999.0,9,  -999.0,9,  -999.0,5,-999.000,1,-999.000,-999.0000,1, -999.00,9, -999.00,9,  -999.0,9,  -999.0,-999.000,9,-999.000, 42677.2,   0.7932,-999.0000, -999.00
 316N145_14,       I02E,    1103,          1,          3,     SIH021,2,19951213,       0611,    -8.0000,    89.6667,       4922,  4503.7,   1.1431,  34.7135,2,  34.7134,2,    196.4,2,   199.1,2,  126.06,3,   32.34,2,    0.00,2,    2.25,2,-999.000,5,-999.000,5,  -999.0,9,  -999.0,9,  -999.0,5,-999.000,1,-999.000,-999.0000,1, -999.00,9, -999.00,9,  -999.0,9,  -999.0,-999.000,9,-999.000, 45179.3,   0.7787,-999.0000, -999.00
 316N145_14,       I02E,    1103,          1,          2,     SIH022,2,19951213,       0611,    -8.0000,    89.6667,       4922,  4754.5,   1.1657,  34.7135,2,  34.7132,2,    198.6,2,   199.3,2,  126.07,3,   32.44,2,    0.00,2,    2.26,2,-999.000,5,-999.000,5,  -999.0,9,  -999.0,9,  -999.0,5,-999.000,1,-999.000,-999.0000,1, -999.00,9, -999.00,9,  -999.0,9,  -999.0,-999.000,9,-999.000, 47688.4,   0.7717,-999.0000, -999.00
 316N145_14,       I02E,    1103,          1,          1,     SIH023,2,19951213,       0611,    -8.0000,    89.6667,       4922,  5039.0,   1.2001,  34.7140,2,  34.7138,2,    198.2,2,   198.9,2,  126.08,3,   32.42,6,    0.00,6,    2.24,6,-999.000,5,-999.000,5,  -999.0,9,  -999.0,9,  -999.0,5,-999.000,1,-999.000,-999.0000,1, -999.00,9, -999.00,9,  -999.0,9,  -999.0,-999.000,9,-999.000, 50534.6,   0.7712,-999.0000, -999.00