BOTTLE,20220829CCHSIOAMB
EXPOCODE,SECT_ID,STNNBR,CASTNO,SAMPNO,BTLNBR,BTLNBR_FLAG_W,DATE,TIME,LATITUDE,LONGITUDE,DEPTH,CTDPRS,CTDTMP,CTDSAL,CTDSAL_FLAG_W,SALNTY,SALNTY_FLAG_W,CTDOXY,CTDOXY_FLAG_W,OXYGEN,OXYGEN_FLAG_W,SILCAT,SILCAT_FLAG_W,NITRAT,NITRAT_FLAG_W,NITRIT,NITRIT_FLAG_W,PHSPHT,PHSPHT_FLAG_W,CFC-11,CFC-11_FLAG_W,CFC-12,CFC-12_FLAG_W,TCARBN,TCARBN_FLAG_W,ALKALI,ALKALI_FLAG_W,PCO2,PCO2_FLAG_W,TRITUM,TRITUM_FLAG_W,TRITER,HELIUM,HELIUM_FLAG_W,DELHE3,DELHE3_FLAG_W,DELC13,DELC13_FLAG_W,DELC14,DELC14_FLAG_W,C14ERR,NEON,NEON_FLAG_W,NEONER,CTDRAW,THETA,HELIER,DELHER
,,,,,,,,,,,METERS,DBAR,ITS-90,PSS-78,,PSS-78,,UMOL/KG,,UMOL/KG,,UMOL/KG,,UMOL/KG,,UMOL/KG,,UMOL/KG,,PMOL/KG,,PMOL/KG,,UMOL/KG,,UMOL/KG,,UATM,,TU,,TU,NMOL/KG,,PERCNT,,/MILLE,,/MILLE,,/MILLE,NMOL/KG,,NMOL/KG,DBAR,DEG C,NMOL/KG,PERCNT
 316N145_14,       I02E,    1123,          1,         36,     SIH024,2,19951218,       1553,   -10.3417,    88.1320,       4812,    13.1,  27.2134,  34.2582,2,  34.2611,2,    214.4,2,   212.2,2,    2.70,2,    0.10,2,    0.00,2,    0.09,2,-999.000,5,-999.000,5,  1922.9,2,  2246.0,2,  -999.0,5,-999.000,1,-999.000,-999.0000,1, -999.00,9, -999.00,9,  -999.0,9,  -999.0,-999.000,9,-999.000,   279.0,  27.2104,-999.0000, -999.00
 316N145_14,       I02E,    1123,          1,         35,     SIH003,2,19951218,       1553,   -10.3417,    88.1320,       4812,    57.6,  26.6970,  34.2272,2,  34.2199,2,    213.5,2,   211.7,2,    2.88,2,    0.05,2,    0.00,2,    0.09,2,-999.000,5,-999.000,5,  1923.8,2,  -999.0,9,  -999.0,5,-999.000,1,-999.000,-999.0000,1, -999.00,9, -999.00,9,  -999.0,9,  -999.0,-999.000,9,-999.000,   718.6,  26.6839,-999.0000, -999.00
 316N145_14,       I02E,    1123,          1,         34,     SIH026,2,19951218,       1553,   -10.3417,    88.1320,       4812,   109.0,  22.8468,  34.4907,2,  34.4907,2,    123.0,2,   127.2,2,   12.85,2,   11.27,2,    0.03,2,    0.84,2,-999.000,5,-999.000,5,  2038.8,2,  2265.7,2,  -999.0,5,-999.000,1,-999.000,-999.0000,1, -999.00,9, -999.00,9,  -999.0,9,  -999.0,-999.000,9,-999.000,  1224.0,  22.8247,-999.0000, -999.00
 316N145_14,       I02E,    1123,          1,         33,     SIH027,2,19951218,       1553,   -10.3417,    88.1320,       4812,   158.1,  18.4364,  34.5626,2,  34.5736,2,    104.7,2,   106.8,2,   21.95,2,   17.07,2,    0.02,2,    1.22,2,-999.000,5,-999.000,5,  -999.0,9,  -999.0,9,  -999.0,5,-999.000,1,-999.000,-999.0000,1, -999.00,9, -999.00,9,  -999.0,9,  -999.0,-999.000,9,-999.000,  1710.8,  18.4089,-999.0000, -999.00
 316N145_14,       I02E,    1123,          1,         32,     SIH028,2,19951218,       1553,   -10.3417,    88.1320,       4812,   206.4,  14.5001,  34.6453,2,  34.6482,2,    101.4,2,   100.2,2,   30.71,2,   21.75,2,    0.01,2,    1.53,2,-999.000,5,-999.000,5,  -999.0,9,  -999.0,9,  -999.0,5,-999.000,1,-999.000,-999.0000,1, -999.00,9, -999.00,9,  -999.0,9,  -999.0,-999.000,9,-999.000,  2192.1,  14.4697,-999.0000, -999.00
 316N145_14,       I02E,    1123,          1,         31,     SIH029,2,19951218,       1553,   -10.3417,    88.1320,       4812,   308.6,  11.5702,  34.7665,2,  34.7638,2,     70.4,2,    71.8,2,   35.36,2,   28.22,2,    0.00,2,    1.94,2,-999.000,5,-999.000,5,  -999.0,9,  -999.0,9,  -999.0,5,-999.000,1,-999.000,-999.0000,1, -999.00,9, -999.00,9,  -999.0,9,  -999.0,-999.000,9,-999.000,  3213.3,  11.5308,-999.0000, -999.00
 316N145_14,       I02E,    1123,          1,         30,     SIH030,2,19951218,       1553,   -10.3417,    88.1320,       4812,   407.5,  10.2031,  34.7946,2,  34.7929,2,     92.0,2,    91.9,2,   33.49,2,   28.12,2,    0.00,2,    1.94,2,-999.000,5,-999.000,5,  -999.0,9,  -999.0,9,  -999.0,5,-999.000,1,-999.000,-999.0000,1, -999.00,9, -999.00,9,  -999.0,9,  -999.0,-999.000,9,-999.000,  4202.6,  10.1548,-999.0000, -999.00
 316N145_14,       I02E,    1123,          1,         29,     SIH031,2,19951218,       1553,   -10.3417,    88.1320,       4812,   499.5,   8.9435,  34.7420,2,  34.7402,2,     85.6,2,    89.5,2,   41.23,2,   30.70,2,    0.00,2,    2.12,2,-999.000,5,-999.000,5,  -999.0,9,  -999.0,9,  -999.0,5,-999.000,1,-999.000,-999.0000,1, -999.00,9, -999.00,9,  -999.0,9,  -999.0,-999.000,9,-999.000,  5121.6,   8.8886,-999.0000, -999.00
 316N145_14,       I02E,    1123,          1,         28,     SIH032,2,19951218,       1553,   -10.3417,    88.1320,       4812,   598.4,   7.7837,  34.7003,2,  34.6993,2,     74.9,2,    76.3,2,   58.72,2,   33.80,2,    0.01,2,    2.39,2,-999.000,5,-999.000,5,  -999.0,9,  -999.0,9,  -999.0,5,-999.000,1,-999.000,-999.0000,1, -999.00,9, -999.00,9,  -999.0,9,  -999.0,-999.000,9,-999.000,  6110.9,   7.7228,-999.0000, -999.00
 316N145_14,       I02E,    1123,          1,         27,     SIH033,2,19951218,       1553,   -10.3417,    88.1320,       4812,   702.3,   6.9631,  34.6783,2,  34.6763,2,     72.4,2,    75.3,2,   72.62,2,   35.22,2,    0.00,2,    2.52,2,-999.000,5,-999.000,5,  -999.0,9,  -999.0,9,  -999.0,5,-999.000,1,-999.000,-999.0000,1, -999.00,9, -999.00,9,  -999.0,9,  -999.0,-999.000,9,-999.000,  7150.0,   6.8955,-999.0000, -999.00
 316N145_14,       I02E,    1123,          1,         26,     SIH037,2,19951218,       1553,   -10.3417,    88.1320,       4812,   803.9,   6.2148,  34.6610,2,  34.6598,2,     78.0,2,    78.0,2,   82.75,2,   35.80,2,    0.00,2,    2.57,2,-999.000,5,-999.000,5,  -999.0,9,  -999.0,9,  -999.0,5,-999.000,1,-999.000,-999.0000,1, -999.00,9, -999.00,9,  -999.0,9,  -999.0,-999.000,9,-999.000,  8166.3,   6.1414,-999.0000, -999.00
 316N145_14,       I02E,    1123,          1,         25,     SI9446,3,19951218,       1553,   -10.3417,    88.1320,       4812,  1005.3,   5.1496,  34.6391,2,  34.6376,2,     87.0,2,    87.4,2,   97.68,2,   36.07,2,    0.00,2,    2.61,2,-999.000,5,-999.000,5,  -999.0,9,  -999.0,9,  -999.0,5,-999.000,1,-999.000,-999.0000,1, -999.00,9, -999.00,9,  -999.0,9,  -999.0,-999.000,9,-999.000, 10181.1,   5.0644,-999.0000, -999.00
 316N145_14,       I02E,    1123,          1,         24,     SIH036,2,19951218,       1553,   -10.3417,    88.1320,       4812,  1254.6,   4.3031,  34.6799,2,  34.6796,2,     96.0,2,    95.5,2,  105.91,2,   36.38,2,    0.01,2,    2.62,2,-999.000,5,-999.000,5,  -999.0,9,  -999.0,9,  -999.0,5,-999.000,1,-999.000,-999.0000,1, -999.00,9, -999.00,9,  -999.0,9,  -999.0,-999.000,9,-999.000, 12675.2,   4.2025,-999.0000, -999.00
 316N145_14,       I02E,    1123,          1,         23,     SIH001,2,19951218,       1553,   -10.3417,    88.1320,       4812,  1502.5,   3.5012,  34.7141,2,  34.7142,2,    115.8,2,   113.3,2,  109.35,2,   35.91,2,    0.00,2,    2.57,2,-999.000,5,-999.000,5,  -999.0,9,  -999.0,9,  -999.0,5,-999.000,1,-999.000,-999.0000,1, -999.00,9, -999.00,9,  -999.0,9,  -999.0,-999.000,9,-999.000, 15155.2,   3.3870,-999.0000, -999.00
 316N145_14,       I02E,    1123,          1,         22,     SIH019,2,19951218,       1553,   -10.3417,    88.1320,       4812,  1744.8,   2.8586,  34.7280,2,  34.7274,2,    133.6,2,   132.3,2,  112.97,2,   35.22,2,    0.00,2,    2.49,2,-999.000,5,-999.000,5,  -999.0,9,  -999.0,9,  -999.0,5,-999.000,1,-999.000,-999.0000,1, -999.00,9, -999.00,9,  -999.0,9,  -999.0,-999.000,9,-999.000, 17578.0,   2.7314,-999.0000, -999.00
 316N145_14,       I02E,    1123,          1,         21,     SIH025,2,19951218,       1553,   -10.3417,    88.1320,       4812,  1997.0,   2.4541,  34.7360,2,  34.7357,2,    145.3,2,   144.3,2,  116.41,2,   34.60,2,    0.00,2,    2.43,2,-999.000,5,-999.000,5,  -999.0,9,  -999.0,9,  -999.0,5,-999.000,1,-999.000,-999.0000,1, -999.00,9, -999.00,9,  -999.0,9,  -999.0,-999.000,9,-999.000, 20101.5,   2.3107,-999.0000, -999.00
 316N145_14,       I02E,    1123,          1,         20,     SIH004,2,19951218,       1553,   -10.3417,    88.1320,       4812,  2241.0,   2.1558,  34.7339,2,  34.7337,2,    153.4,2,   154.0,2,  119.33,2,   34.29,2,    0.00,2,    2.39,2,-999.000,5,-999.000,5,  -999.0,9,  -999.0,9,  -999.0,5,-999.000,1,-999.000,-999.0000,1, -999.00,9, -999.00,9,  -999.0,9,  -999.0,-999.000,9,-999.000, 22543.1,   1.9957,-999.0000, -999.00
 316N145_14,       I02E,    1123,          1,         19,     SIH005,2,19951218,       1553,   -10.3417,    88.1320,       4812,  2493.7,   1.9157,  34.7318,2,  34.7329,2,    160.6,2,   162.7,3,  122.43,2,   33.86,2,    0.01,2,    2.37,2,-999.000,5,-999.000,5,  -999.0,9,  -999.0,9,  -999.0,5,-999.000,1,-999.000,-999.0000,1, -999.00,9, -999.00,9,  -999.0,9,  -999.0,-999.000,9,-999.000, 25070.1,   1.7373,-999.0000, -999.00
 316N145_14,       I02E,    1123,          1,         18,     SIH006,2,19951218,       1553,   -10.3417,    88.1320,       4812,  2745.5,   1.7544,  34.7285,2,  34.7290,2,    165.2,2,   164.9,2,  125.36,2,   33.97,2,    0.00,2,    2.36,2,-999.000,5,-999.000,5,  -999.0,9,  -999.0,9,  -999.0,5,-999.000,1,-999.000,-999.0000,1, -999.00,9, -999.00,9,  -999.0,9,  -999.0,-999.000,9,-999.000, 27590.5,   1.5559,-999.0000, -999.00
 316N145_14,       I02E,    1123,          1,         17,     SIH038,2,19951218,       1553,   -10.3417,    88.1320,       4812,  2988.5,   1.6024,  34.7252,2,  34.7256,2,    167.9,2,   168.7,2,  128.12,2,   33.76,2,    0.00,2,    2.35,2,-999.000,5,-999.000,5,  -999.0,9,  -999.0,9,  -999.0,5,-999.000,1,-999.000,-999.0000,1, -999.00,9, -999.00,9,  -999.0,9,  -999.0,-999.000,9,-999.000, 30021.5,   1.3842,-999.0000, -999.00
 316N145_14,       I02E,    1123,          1,         16,     SIH008,2,19951218,       1553,   -10.3417,    88.1320,       4812,  3243.2,   1.4743,  34.7215,2,  34.7213,2,    172.1,2,   173.4,2,  130.01,2,   33.60,2,    0.00,2,    2.35,2,-999.000,5,-999.000,5,  -999.0,9,  -999.0,9,  -999.0,5,-999.000,1,-999.000,-999.0000,1, -999.00,9, -999.00,9,  -999.0,9,  -999.0,-999.000,9,-999.000, 32569.4,   1.2344,-999.0000, -999.00
 316N145_14,       I02E,    1123,          1,         15,     SIH009,2,19951218,       1553,   -10.3417,    88.1320,       4812,  3499.1,   1.4049,  34.7204,2,  34.7209,2,    172.2,2,   172.8,2,  134.30,2,   33.82,2,    0.01,2,    2.34,2,-999.000,5,-999.000,5,  -999.0,9,  -999.0,9,  -999.0,5,-999.000,1,-999.000,-999.0000,1, -999.00,9, -999.00,9,  -999.0,9,  -999.0,-999.000,9,-999.000, 35129.4,   1.1410,-999.0000, -999.00
 316N145_14,       I02E,    1123,          1,         14,     SIH010,2,19951218,       1553,   -10.3417,    88.1320,       4812,  3641.3,   1.3820,  34.7195,2,  34.7199,2,    175.4,2,   174.9,2,  133.80,2,   33.66,2,    0.00,2,    2.33,2,-999.000,5,-999.000,5,  -999.0,9,  -999.0,9,  -999.0,5,-999.000,1,-999.000,-999.0000,1, -999.00,9, -999.00,9,  -999.0,9,  -999.0,-999.000,9,-999.000, 36552.2,   1.1041,-999.0000, -999.00
 316N145_14,       I02E,    1123,          1,         13,     SIH011,2,19951218,       1553,   -10.3417,    88.1320,       4812,  3896.2,   1.3612,  34.7183,2,  34.7178,2,    177.0,2,   177.6,2,  133.60,6,   33.64,6,    0.00,6,    2.32,6,-999.000,5,-999.000,5,  -999.0,9,  -999.0,9,  -999.0,5,-999.000,1,-999.000,-999.0000,1, -999.00,9, -999.00,9,  -999.0,9,  -999.0,-999.000,9,-999.000, 39101.5,   1.0571,-999.0000, -999.00
 316N145_14,       I02E,    1123,          1,         12,     SIH012,2,19951218,       1553,   -10.3417,    88.1320,       4812,  3999.1,   1.3559,  34.7180,2,  34.7166,2,    178.0,2,   178.4,2,  133.28,2,   33.73,2,    0.00,2,    2.32,2,-999.000,5,-999.000,5,  -999.0,9,  -999.0,9,  -999.0,5,-999.000,1,-999.000,-999.0000,1, -999.00,9, -999.00,9,  -999.0,9,  -999.0,-999.000,9,-999.000, 40131.8,   1.0409,-999.0000, -999.00
 316N145_14,       I02E,    1123,          1,         11,     SI9426,2,19951218,       1553,   -10.3417,    88.1320,       4812,  4101.4,   1.3503,  34.7173,2,  34.7174,2,    179.9,2,   179.7,2,  132.60,2,   33.57,2,    0.00,2,    2.31,2,-999.000,5,-999.000,5,  -999.0,9,  -999.0,9,  -999.0,5,-999.000,1,-999.000,-999.0000,1, -999.00,9, -999.00,9,  -999.0,9,  -999.0,-999.000,9,-999.000, 41154.9,   1.0244,-999.0000, -999.00
 316N145_14,       I02E,    1123,          1,         10,     SIH014,2,19951218,       1553,   -10.3417,    88.1320,       4812,  4200.5,   1.3409,  34.7172,2,  34.7172,2,    182.0,2,   181.1,2,  132.12,6,   33.47,6,    0.00,6,    2.31,6,-999.000,5,-999.000,5,  -999.0,9,  -999.0,9,  -999.0,5,-999.000,1,-999.000,-999.0000,1, -999.00,9, -999.00,9,  -999.0,9,  -999.0,-999.000,9,-999.000, 42146.0,   1.0044,-999.0000, -999.00
 316N145_14,       I02E,    1123,          1,          9,     SIH015,2,19951218,       1553,   -10.3417,    88.1320,       4812,  4303.9,   1.3381,  34.7167,2,  34.7172,2,    182.7,2,   181.9,2,  131.80,2,   33.41,6,    0.00,6,    2.30,6,-999.000,5,-999.000,5,  -999.0,9,  -999.0,9,  -999.0,5,-999.000,1,-999.000,-999.0000,1, -999.00,9, -999.00,9,  -999.0,9,  -999.0,-999.000,9,-999.000, 43180.1,   0.9901,-999.0000, -999.00
 316N145_14,       I02E,    1123,          1,          8,     SIH016,2,19951218,       1553,   -10.3417,    88.1320,       4812,  4395.6,   1.3349,  34.7165,2,  34.7166,2,    182.4,2,   182.7,2,  131.47,2,   33.47,6,    0.00,6,    2.30,6,-999.000,5,-999.000,5,  -999.0,9,  -999.0,9,  -999.0,5,-999.000,1,-999.000,-999.0000,1, -999.00,9, -999.00,9,  -999.0,9,  -999.0,-999.000,9,-999.000, 44097.7,   0.9767,-999.0000, -999.00
 316N145_14,       I02E,    1123,          1,          7,     SIH017,2,19951218,       1553,   -10.3417,    88.1320,       4812,  4497.6,   1.3355,  34.7168,2,  34.7160,2,    183.8,2,   183.3,2,  131.15,2,   33.41,6,    0.00,6,    2.29,6,-999.000,5,-999.000,5,  -999.0,9,  -999.0,9,  -999.0,5,-999.000,1,-999.000,-999.0000,1, -999.00,9, -999.00,9,  -999.0,9,  -999.0,-999.000,9,-999.000, 45117.5,   0.9657,-999.0000, -999.00
 316N145_14,       I02E,    1123,          1,          6,     SIH018,2,19951218,       1553,   -10.3417,    88.1320,       4812,  4601.1,   1.3438,  34.7161,2,  34.7158,2,    184.1,2,   184.0,2,  130.99,2,   33.36,6,    0.00,6,    2.30,6,-999.000,5,-999.000,5,  -999.0,9,  -999.0,9,  -999.0,5,-999.000,1,-999.000,-999.0000,1, -999.00,9, -999.00,9,  -999.0,9,  -999.0,-999.000,9,-999.000, 46153.0,   0.9618,-999.0000, -999.00
 316N145_14,       I02E,    1123,          1,          5,     SIH002,2,19951218,       1553,   -10.3417,    88.1320,       4812,  4697.9,   1.3389,  34.7158,2,  34.7156,2,    185.9,2,   184.4,2,  130.49,2,   33.18,6,    0.00,6,    2.29,6,-999.000,5,-999.000,5,  -999.0,9,  -999.0,9,  -999.0,5,-999.000,1,-999.000,-999.0000,1, -999.00,9, -999.00,9,  -999.0,9,  -999.0,-999.000,9,-999.000, 47121.8,   0.9458,-999.0000, -999.00
 316N145_14,       I02E,    1123,          1,          4,     SIH020,2,19951218,       1553,   -10.3417,    88.1320,       4812,  4749.8,   1.3420,  34.7165,2,  34.7156,2,    186.8,2,   186.0,2,  130.67,6,   33.28,6,    0.00,6,    2.29,6,-999.000,5,-999.000,5,  -999.0,9,  -999.0,9,  -999.0,5,-999.000,1,-999.000,-999.0000,1, -999.00,9, -999.00,9,  -999.0,9,  -999.0,-999.000,9,-999.000, 47640.0,   0.9427,-999.0000, -999.00
 316N145_14,       I02E,    1123,          1,          3,     SIH021,2,19951218,       1553,   -10.3417,    88.1320,       4812,  4800.3,   1.3465,  34.7159,2,  34.7152,2,    186.2,2,   185.9,2,  130.50,2,   33.27,2,    0.00,2,    2.30,2,-999.000,5,-999.000,5,  -999.0,9,  -999.0,9,  -999.0,5,-999.000,1,-999.000,-999.0000,1, -999.00,9, -999.00,9,  -999.0,9,  -999.0,-999.000,9,-999.000, 48145.7,   0.9411,-999.0000, -999.00
 316N145_14,       I02E,    1123,          1,          2,     SIH022,2,19951218,       1553,   -10.3417,    88.1320,       4812,  4850.7,   1.3481,  34.7156,2,  34.7154,2,    186.7,2,   186.7,2,  130.00,2,   33.27,2,    0.01,2,    2.30,2,-999.000,5,-999.000,5,  -999.0,9,  -999.0,9,  -999.0,5,-999.000,1,-999.000,-999.0000,1, -999.00,9, -999.00,9,  -999.0,9,  -999.0,-999.000,9,-999.000, 48650.1,   0.9367,-999.0000, -999.00
 316N145_14,       I02E,    1123,          1,          1,     SIH023,2,19951218,       1553,   -10.3417,    88.1320,       4812,  4916.8,   1.3101,  34.7158,2,  34.7146,2,    188.9,2,   190.3,2,  128.32,6,   33.06,6,    0.00,6,    2.26,6,-999.000,5,-999.000,5,  -999.0,9,  -999.0,9,  -999.0,5,-999.000,1,-999.000,-999.0000,1, -999.00,9, -999.00,9,  -999.0,9,  -999.0,-999.000,9,-999.000, 49312.5,   0.8921,-999.0000, -999.00