BOTTLE,20220829CCHSIOAMB
EXPOCODE,SECT_ID,STNNBR,CASTNO,SAMPNO,BTLNBR,BTLNBR_FLAG_W,DATE,TIME,LATITUDE,LONGITUDE,DEPTH,CTDPRS,CTDTMP,CTDSAL,CTDSAL_FLAG_W,SALNTY,SALNTY_FLAG_W,CTDOXY,CTDOXY_FLAG_W,OXYGEN,OXYGEN_FLAG_W,SILCAT,SILCAT_FLAG_W,NITRAT,NITRAT_FLAG_W,NITRIT,NITRIT_FLAG_W,PHSPHT,PHSPHT_FLAG_W,CFC-11,CFC-11_FLAG_W,CFC-12,CFC-12_FLAG_W,TCARBN,TCARBN_FLAG_W,ALKALI,ALKALI_FLAG_W,PCO2,PCO2_FLAG_W,TRITUM,TRITUM_FLAG_W,TRITER,HELIUM,HELIUM_FLAG_W,DELHE3,DELHE3_FLAG_W,DELC13,DELC13_FLAG_W,DELC14,DELC14_FLAG_W,C14ERR,NEON,NEON_FLAG_W,NEONER,CTDRAW,THETA,HELIER,DELHER
,,,,,,,,,,,METERS,DBAR,ITS-90,PSS-78,,PSS-78,,UMOL/KG,,UMOL/KG,,UMOL/KG,,UMOL/KG,,UMOL/KG,,UMOL/KG,,PMOL/KG,,PMOL/KG,,UMOL/KG,,UMOL/KG,,UATM,,TU,,TU,NMOL/KG,,PERCNT,,/MILLE,,/MILLE,,/MILLE,NMOL/KG,,NMOL/KG,DBAR,DEG C,NMOL/KG,PERCNT
 316N145_14,       I02E,    1095,          1,         36,     SIH024,2,19951210,       2217,    -8.0000,    94.6653,       4635,    13.0,  26.4475,  34.2865,2,  34.2878,2,    198.8,2,   199.3,2,    3.55,2,    1.02,2,    0.04,2,    0.20,2,   1.668,2,   0.961,2,  -999.0,9,  -999.0,9,  -999.0,5,-999.000,1,-999.000,-999.0000,1, -999.00,9, -999.00,9,  -999.0,9,  -999.0,-999.000,9,-999.000,   272.6,  26.4445,-999.0000, -999.00
 316N145_14,       I02E,    1095,          1,         35,     SIH003,2,19951210,       2217,    -8.0000,    94.6653,       4635,    38.0,  26.4614,  34.2959,2,  34.2938,2,    198.8,2,   205.0,2,    3.36,2,    0.85,2,    0.04,2,    0.20,2,-999.000,5,-999.000,5,  -999.0,9,  -999.0,9,  -999.0,5,-999.000,1,-999.000,-999.0000,1, -999.00,9, -999.00,9,  -999.0,9,  -999.0,-999.000,9,-999.000,   515.0,  26.4529,-999.0000, -999.00
 316N145_14,       I02E,    1095,          1,         34,     SIH026,2,19951210,       2217,    -8.0000,    94.6653,       4635,    66.4,  22.5018,  34.9851,2,  34.8961,3,    102.6,2,   108.3,2,   11.31,2,   12.28,2,    0.37,2,    0.99,2,   1.427,6,   0.793,6,  -999.0,9,  -999.0,9,  -999.0,5,-999.000,1,-999.000,-999.0000,1, -999.00,9, -999.00,9,  -999.0,9,  -999.0,-999.000,9,-999.000,   792.9,  22.4885,-999.0000, -999.00
 316N145_14,       I02E,    1095,          1,         33,     SIH027,2,19951210,       2217,    -8.0000,    94.6653,       4635,   107.0,  17.4799,  34.8845,2,  34.8662,2,     66.6,2,    68.1,2,   22.03,2,   22.30,2,    0.02,2,    1.56,2,   1.096,2,   0.581,2,  -999.0,9,  -999.0,9,  -999.0,5,-999.000,1,-999.000,-999.0000,1, -999.00,9, -999.00,9,  -999.0,9,  -999.0,-999.000,9,-999.000,  1196.7,  17.4620,-999.0000, -999.00
 316N145_14,       I02E,    1095,          1,         32,     SIH028,2,19951210,       2217,    -8.0000,    94.6653,       4635,   157.9,  13.7092,  34.7884,2,  34.7822,2,     67.1,2,    66.9,2,   31.10,2,   26.24,2,    0.00,2,    1.84,2,   0.766,2,   0.391,2,  -999.0,9,  -999.0,9,  -999.0,5,-999.000,1,-999.000,-999.0000,1, -999.00,9, -999.00,9,  -999.0,9,  -999.0,-999.000,9,-999.000,  1704.1,  13.6868,-999.0000, -999.00
 316N145_14,       I02E,    1095,          1,         31,     SIH029,3,19951210,       2217,    -8.0000,    94.6653,       4635,   208.6,  12.3161,  34.8794,2,  34.8772,2,     58.8,2,    59.8,2,   30.18,2,   28.30,2,    0.01,2,    1.94,2,-999.000,5,-999.000,5,  -999.0,9,  -999.0,9,  -999.0,5,-999.000,1,-999.000,-999.0000,1, -999.00,9, -999.00,9,  -999.0,9,  -999.0,-999.000,9,-999.000,  2210.2,  12.2885,-999.0000, -999.00
 316N145_14,       I02E,    1095,          1,         30,     SIH030,2,19951210,       2217,    -8.0000,    94.6653,       4635,   257.5,  11.2723,  34.8858,2,  34.8839,2,     59.1,2,    60.6,2,   31.49,2,   29.43,2,    0.00,2,    2.01,2,-999.000,5,-999.000,5,  -999.0,9,  -999.0,9,  -999.0,5,-999.000,1,-999.000,-999.0000,1, -999.00,9, -999.00,9,  -999.0,9,  -999.0,-999.000,9,-999.000,  2700.2,  11.2400,-999.0000, -999.00
 316N145_14,       I02E,    1095,          1,         29,     SIH031,2,19951210,       2217,    -8.0000,    94.6653,       4635,   306.1,  10.6670,  34.8838,2,  34.8821,2,     61.1,2,    63.7,2,   32.24,2,   30.39,2,    0.00,2,    2.05,2,   0.235,2,   0.125,2,  -999.0,9,  -999.0,9,  -999.0,5,-999.000,1,-999.000,-999.0000,1, -999.00,9, -999.00,9,  -999.0,9,  -999.0,-999.000,9,-999.000,  3187.7,  10.6299,-999.0000, -999.00
 316N145_14,       I02E,    1095,          1,         28,     SIH032,2,19951210,       2217,    -8.0000,    94.6653,       4635,   357.9,  10.1253,  34.8713,2,  34.8696,2,     67.9,2,    68.5,2,   33.36,2,   30.87,2,    0.00,2,    2.08,2,-999.000,5,-999.000,5,  -999.0,9,  -999.0,9,  -999.0,5,-999.000,1,-999.000,-999.0000,1, -999.00,9, -999.00,9,  -999.0,9,  -999.0,-999.000,9,-999.000,  3704.9,  10.0831,-999.0000, -999.00
 316N145_14,       I02E,    1095,          1,         27,     SIH033,2,19951210,       2217,    -8.0000,    94.6653,       4635,   407.5,   9.6862,  34.8551,2,  34.8540,2,     68.6,2,    71.2,2,   35.97,2,   31.52,2,    0.00,2,    2.14,2,   0.132,2,   0.075,2,  -999.0,9,  -999.0,9,  -999.0,5,-999.000,1,-999.000,-999.0000,1, -999.00,9, -999.00,9,  -999.0,9,  -999.0,-999.000,9,-999.000,  4200.8,   9.6394,-999.0000, -999.00
 316N145_14,       I02E,    1095,          1,         26,     SIH037,2,19951210,       2217,    -8.0000,    94.6653,       4635,   508.4,   8.7051,  34.8125,2,  34.8104,2,     69.9,2,    70.8,2,   45.98,2,   33.17,2,    0.00,2,    2.32,2,-999.000,5,-999.000,5,  -999.0,9,  -999.0,9,  -999.0,5,-999.000,1,-999.000,-999.0000,1, -999.00,9, -999.00,9,  -999.0,9,  -999.0,-999.000,9,-999.000,  5209.6,   8.6501,-999.0000, -999.00
 316N145_14,       I02E,    1095,          1,         25,     SI9446,2,19951210,       2217,    -8.0000,    94.6653,       4635,   608.7,   8.0210,  34.8126,2,  34.8104,2,     66.4,2,    61.4,2,   58.22,2,   34.87,2,    0.00,2,    2.50,2,   0.019,2,   0.011,2,  -999.0,9,  -999.0,9,  -999.0,5,-999.000,1,-999.000,-999.0000,1, -999.00,9, -999.00,9,  -999.0,9,  -999.0,-999.000,9,-999.000,  6213.2,   7.9578,-999.0000, -999.00
 316N145_14,       I02E,    1095,          1,         24,     SIH036,2,19951210,       2217,    -8.0000,    94.6653,       4635,   709.5,   7.4169,  34.8048,2,  34.8041,2,     60.3,2,    60.4,2,   67.13,2,   35.84,2,    0.00,2,    2.58,2,-999.000,5,-999.000,5,  -999.0,9,  -999.0,9,  -999.0,5,-999.000,1,-999.000,-999.0000,1, -999.00,9, -999.00,9,  -999.0,9,  -999.0,-999.000,9,-999.000,  7221.7,   7.3460,-999.0000, -999.00
 316N145_14,       I02E,    1095,          1,         23,     SIH001,2,19951210,       2217,    -8.0000,    94.6653,       4635,   808.0,   6.6304,  34.7652,2,  34.7653,2,     61.9,2,    64.6,2,   79.02,2,   36.28,2,    0.00,2,    2.63,2,   0.010,2,   0.005,2,  -999.0,9,  -999.0,9,  -999.0,5,-999.000,1,-999.000,-999.0000,1, -999.00,9, -999.00,9,  -999.0,9,  -999.0,-999.000,9,-999.000,  8206.8,   6.5539,-999.0000, -999.00
 316N145_14,       I02E,    1095,          1,         22,     SIH019,2,19951210,       2217,    -8.0000,    94.6653,       4635,   908.7,   5.9606,  34.7361,2,  34.7351,2,     70.9,2,    71.1,2,   88.50,2,   36.55,2,    0.00,2,    2.65,2,-999.000,5,-999.000,5,  -999.0,9,  -999.0,9,  -999.0,5,-999.000,1,-999.000,-999.0000,1, -999.00,9, -999.00,9,  -999.0,9,  -999.0,-999.000,9,-999.000,  9214.2,   5.8785,-999.0000, -999.00
 316N145_14,       I02E,    1095,          1,         21,     SIH025,2,19951210,       2217,    -8.0000,    94.6653,       4635,  1010.1,   5.4850,  34.7210,2,  34.7197,2,     76.2,2,    76.1,2,   94.09,2,   36.67,2,    0.00,2,    2.66,2,   0.005,2,   0.000,2,  -999.0,9,  -999.0,9,  -999.0,5,-999.000,1,-999.000,-999.0000,1, -999.00,9, -999.00,9,  -999.0,9,  -999.0,-999.000,9,-999.000, 10228.3,   5.3967,-999.0000, -999.00
 316N145_14,       I02E,    1095,          1,         20,     SIH004,2,19951210,       2217,    -8.0000,    94.6653,       4635,  1110.8,   5.0056,  34.7207,2,  34.7193,2,     82.4,2,    82.2,2,   99.69,2,   36.63,2,    0.00,2,    2.66,2,-999.000,5,-999.000,5,  -999.0,9,  -999.0,9,  -999.0,5,-999.000,1,-999.000,-999.0000,1, -999.00,9, -999.00,9,  -999.0,9,  -999.0,-999.000,9,-999.000, 11236.3,   4.9117,-999.0000, -999.00
 316N145_14,       I02E,    1095,          1,         19,     SIH005,2,19951210,       2217,    -8.0000,    94.6653,       4635,  1212.1,   4.7851,  34.7487,2,  34.7486,2,     85.5,2,    84.2,2,  101.39,2,   36.81,2,    0.00,2,    2.68,2,   0.000,2,  -0.003,2,  -999.0,9,  -999.0,9,  -999.0,5,-999.000,1,-999.000,-999.0000,1, -999.00,9, -999.00,9,  -999.0,9,  -999.0,-999.000,9,-999.000, 12250.4,   4.6837,-999.0000, -999.00
 316N145_14,       I02E,    1095,          1,         18,     SIH006,2,19951210,       2217,    -8.0000,    94.6653,       4635,  1312.0,   4.5231,  34.7693,2,  34.7679,2,     88.4,2,    88.2,2,  103.10,2,   36.82,2,    0.00,2,    2.67,2,   0.000,2,  -0.003,2,  -999.0,9,  -999.0,9,  -999.0,5,-999.000,1,-999.000,-999.0000,1, -999.00,9, -999.00,9,  -999.0,9,  -999.0,-999.000,9,-999.000, 13249.9,   4.4150,-999.0000, -999.00
 316N145_14,       I02E,    1095,          1,         17,     SIH038,2,19951210,       2217,    -8.0000,    94.6653,       4635,  1412.5,   4.2611,  34.7723,2,  34.7714,2,     95.8,2,    94.6,2,  104.62,2,   36.35,2,    0.00,2,    2.65,2,-999.000,5,-999.000,5,  -999.0,9,  -999.0,9,  -999.0,5,-999.000,1,-999.000,-999.0000,1, -999.00,9, -999.00,9,  -999.0,9,  -999.0,-999.000,9,-999.000, 14254.9,   4.1465,-999.0000, -999.00
 316N145_14,       I02E,    1095,          1,         16,     SIH008,2,19951210,       2217,    -8.0000,    94.6653,       4635,  1609.5,   3.6607,  34.7680,2,  34.7665,2,    108.7,2,   107.5,2,  110.04,2,   36.09,2,    0.00,2,    2.62,2,   0.001,2,   0.000,2,  -999.0,9,  -999.0,9,  -999.0,5,-999.000,1,-999.000,-999.0000,1, -999.00,9, -999.00,9,  -999.0,9,  -999.0,-999.000,9,-999.000, 16225.0,   3.5351,-999.0000, -999.00
 316N145_14,       I02E,    1095,          1,         15,     SIH009,2,19951210,       2217,    -8.0000,    94.6653,       4635,  1812.4,   3.1035,  34.7585,2,  34.7589,2,    121.3,2,   121.4,2,  114.91,2,   35.69,2,    0.00,2,    2.56,2,-999.000,5,-999.000,5,  -999.0,9,  -999.0,9,  -999.0,5,-999.000,1,-999.000,-999.0000,1, -999.00,9, -999.00,9,  -999.0,9,  -999.0,-999.000,9,-999.000, 18255.2,   2.9669,-999.0000, -999.00
 316N145_14,       I02E,    1095,          1,         14,     SIH010,2,19951210,       2217,    -8.0000,    94.6653,       4635,  2009.4,   2.6918,  34.7513,2,  34.7510,2,    131.1,2,   132.1,2,  118.85,2,   35.22,2,    0.00,2,    2.50,2,   0.001,2,  -0.001,2,  -999.0,9,  -999.0,9,  -999.0,5,-999.000,1,-999.000,-999.0000,1, -999.00,9, -999.00,9,  -999.0,9,  -999.0,-999.000,9,-999.000, 20226.5,   2.5436,-999.0000, -999.00
 316N145_14,       I02E,    1095,          1,         13,     SIH011,2,19951210,       2217,    -8.0000,    94.6653,       4635,  2211.3,   2.3400,  34.7445,2,  34.7435,2,    142.0,2,   142.2,2,  122.97,2,   34.86,2,    0.00,2,    2.48,2,-999.000,5,-999.000,5,  -999.0,9,  -999.0,9,  -999.0,5,-999.000,1,-999.000,-999.0000,1, -999.00,9, -999.00,9,  -999.0,9,  -999.0,-999.000,9,-999.000, 22246.8,   2.1795,-999.0000, -999.00
 316N145_14,       I02E,    1095,          1,         12,     SIH012,2,19951210,       2217,    -8.0000,    94.6653,       4635,  2408.6,   2.1175,  34.7409,2,  34.7396,2,    147.1,2,   149.6,2,  125.07,2,   34.67,2,    0.00,2,    2.44,2,-999.000,5,-999.000,5,  -999.0,9,  -999.0,9,  -999.0,5,-999.000,1,-999.000,-999.0000,1, -999.00,9, -999.00,9,  -999.0,9,  -999.0,-999.000,9,-999.000, 24219.9,   1.9430,-999.0000, -999.00
 316N145_14,       I02E,    1095,          1,         11,     SI9426,2,19951210,       2217,    -8.0000,    94.6653,       4635,  2606.6,   1.9528,  34.7368,2,  34.7343,3,    151.8,2,   155.1,2,  126.59,2,   34.35,2,    0.00,2,    2.40,2,   0.000,2,   0.000,2,  -999.0,9,  -999.0,9,  -999.0,5,-999.000,1,-999.000,-999.0000,1, -999.00,9, -999.00,9,  -999.0,9,  -999.0,-999.000,9,-999.000, 26200.9,   1.7633,-999.0000, -999.00
 316N145_14,       I02E,    1095,          1,         10,     SIH014,2,19951210,       2217,    -8.0000,    94.6653,       4635,  2802.4,   1.8290,  34.7320,2,  34.7311,2,    157.7,2,   159.9,2,  127.57,2,   34.10,2,    0.00,2,    2.39,2,-999.000,5,-999.000,5,  -999.0,9,  -999.0,9,  -999.0,5,-999.000,1,-999.000,-999.0000,1, -999.00,9, -999.00,9,  -999.0,9,  -999.0,-999.000,9,-999.000, 28159.7,   1.6236,-999.0000, -999.00
 316N145_14,       I02E,    1095,          1,          9,     SIH015,2,19951210,       2217,    -8.0000,    94.6653,       4635,  3002.0,   1.7071,  34.7298,2,  34.7290,2,    162.0,2,   164.5,2,  129.28,2,   34.00,2,    0.00,2,    2.38,2,-999.000,5,-999.000,5,  -999.0,9,  -999.0,9,  -999.0,5,-999.000,1,-999.000,-999.0000,1, -999.00,9, -999.00,9,  -999.0,9,  -999.0,-999.000,9,-999.000, 30156.3,   1.4853,-999.0000, -999.00
 316N145_14,       I02E,    1095,          1,          8,     SIH016,2,19951210,       2217,    -8.0000,    94.6653,       4635,  3250.4,   1.5498,  34.7251,2,  34.7237,2,    168.7,2,   169.0,2,  130.81,2,   33.96,2,    0.00,2,    2.36,2,-999.000,5,-999.000,5,  -999.0,9,  -999.0,9,  -999.0,5,-999.000,1,-999.000,-999.0000,1, -999.00,9, -999.00,9,  -999.0,9,  -999.0,-999.000,9,-999.000, 32641.9,   1.3073,-999.0000, -999.00
 316N145_14,       I02E,    1095,          1,          7,     SIH017,2,19951210,       2217,    -8.0000,    94.6653,       4635,  3498.8,   1.3765,  34.7197,2,  34.7180,2,    176.8,2,   177.8,2,  130.67,2,   33.45,2,    0.00,2,    2.33,2,   0.001,2,  -0.002,2,  -999.0,9,  -999.0,9,  -999.0,5,-999.000,1,-999.000,-999.0000,1, -999.00,9, -999.00,9,  -999.0,9,  -999.0,-999.000,9,-999.000, 35127.6,   1.1134,-999.0000, -999.00
 316N145_14,       I02E,    1095,          1,          6,     SIH018,2,19951210,       2217,    -8.0000,    94.6653,       4635,  3748.9,   1.2309,  34.7158,2,  34.7152,2,    184.8,2,   186.2,2,  129.97,2,   33.03,2,    0.00,2,    2.30,2,-999.000,5,-999.000,5,  -999.0,9,  -999.0,9,  -999.0,5,-999.000,1,-999.000,-999.0000,1, -999.00,9, -999.00,9,  -999.0,9,  -999.0,-999.000,9,-999.000, 37628.8,   0.9459,-999.0000, -999.00
 316N145_14,       I02E,    1095,          1,          5,     SIH002,2,19951210,       2217,    -8.0000,    94.6653,       4635,  3999.8,   1.1627,  34.7143,2,  34.7131,2,    189.6,2,   191.5,2,  128.71,2,   32.89,2,    0.00,2,    2.27,2,-999.000,5,-999.000,5,  -999.0,9,  -999.0,9,  -999.0,5,-999.000,1,-999.000,-999.0000,1, -999.00,9, -999.00,9,  -999.0,9,  -999.0,-999.000,9,-999.000, 40138.9,   0.8532,-999.0000, -999.00
 316N145_14,       I02E,    1095,          1,          4,     SIH020,2,19951210,       2217,    -8.0000,    94.6653,       4635,  4243.4,   1.1323,  34.7131,2,  34.7125,2,    194.4,2,   195.1,2,  127.44,2,   32.67,2,    0.00,2,    2.25,2,-999.000,5,-999.000,5,  -999.0,9,  -999.0,9,  -999.0,5,-999.000,1,-999.000,-999.0000,1, -999.00,9, -999.00,9,  -999.0,9,  -999.0,-999.000,9,-999.000, 42574.9,   0.7973,-999.0000, -999.00
 316N145_14,       I02E,    1095,          1,          3,     SIH021,2,19951210,       2217,    -8.0000,    94.6653,       4635,  4550.3,   1.1425,  34.7121,2,  34.7117,2,    195.7,2,   197.2,2,  126.74,2,   32.48,2,    0.00,2,    2.25,2,   0.001,2,  -0.001,2,  -999.0,9,  -999.0,9,  -999.0,5,-999.000,1,-999.000,-999.0000,1, -999.00,9, -999.00,9,  -999.0,9,  -999.0,-999.000,9,-999.000, 45645.2,   0.7728,-999.0000, -999.00
 316N145_14,       I02E,    1095,          1,          2,     SIH022,2,19951210,       2217,    -8.0000,    94.6653,       4635,  4748.9,   1.1615,  34.7128,2,  34.7111,2,    198.1,2,   197.5,2,  126.60,2,   32.60,2,    0.00,2,    2.24,2,-999.000,5,-999.000,5,  -999.0,9,  -999.0,9,  -999.0,5,-999.000,1,-999.000,-999.0000,1, -999.00,9, -999.00,9,  -999.0,9,  -999.0,-999.000,9,-999.000, 47631.6,   0.7683,-999.0000, -999.00
 316N145_14,       I02E,    1095,          1,          1,     SIH023,2,19951210,       2217,    -8.0000,    94.6653,       4635,  4869.2,   1.1749,  34.7125,2,  34.7125,2,    196.3,2,   197.6,2,  126.21,6,   32.43,6,    0.00,6,    2.23,6,   0.002,2,   0.001,2,  -999.0,9,  -999.0,9,  -999.0,5,-999.000,1,-999.000,-999.0000,1, -999.00,9, -999.00,9,  -999.0,9,  -999.0,-999.000,9,-999.000, 48836.6,   0.7671,-999.0000, -999.00