BOTTLE,20220829CCHSIOAMB
EXPOCODE,SECT_ID,STNNBR,CASTNO,SAMPNO,BTLNBR,BTLNBR_FLAG_W,DATE,TIME,LATITUDE,LONGITUDE,DEPTH,CTDPRS,CTDTMP,CTDSAL,CTDSAL_FLAG_W,SALNTY,SALNTY_FLAG_W,CTDOXY,CTDOXY_FLAG_W,OXYGEN,OXYGEN_FLAG_W,SILCAT,SILCAT_FLAG_W,NITRAT,NITRAT_FLAG_W,NITRIT,NITRIT_FLAG_W,PHSPHT,PHSPHT_FLAG_W,CFC-11,CFC-11_FLAG_W,CFC-12,CFC-12_FLAG_W,TCARBN,TCARBN_FLAG_W,ALKALI,ALKALI_FLAG_W,PCO2,PCO2_FLAG_W,TRITUM,TRITUM_FLAG_W,TRITER,HELIUM,HELIUM_FLAG_W,DELHE3,DELHE3_FLAG_W,DELC13,DELC13_FLAG_W,DELC14,DELC14_FLAG_W,C14ERR,NEON,NEON_FLAG_W,NEONER,CTDRAW,THETA,HELIER,DELHER
,,,,,,,,,,,METERS,DBAR,ITS-90,PSS-78,,PSS-78,,UMOL/KG,,UMOL/KG,,UMOL/KG,,UMOL/KG,,UMOL/KG,,UMOL/KG,,PMOL/KG,,PMOL/KG,,UMOL/KG,,UMOL/KG,,UATM,,TU,,TU,NMOL/KG,,PERCNT,,/MILLE,,/MILLE,,/MILLE,NMOL/KG,,NMOL/KG,DBAR,DEG C,NMOL/KG,PERCNT
 316N145_14,       I02E,    1132,          1,         36,     SIH024,2,19951221,       0955,    -8.0000,    84.0000,       5175,    12.6,  28.5875,  33.9436,2,  33.9461,2,    211.3,2,   212.7,2,    2.65,2,    0.20,2,   -0.01,2,    0.07,2,   1.615,2,   0.924,2,  1886.2,2,  2224.6,2,  -999.0,5,-999.000,1,-999.000,-999.0000,1, -999.00,9, -999.00,9,  -999.0,9,  -999.0,-999.000,9,-999.000,   273.1,  28.5845,-999.0000, -999.00
 316N145_14,       I02E,    1132,          1,         35,     SIH003,2,19951221,       0955,    -8.0000,    84.0000,       5175,    32.3,  28.3749,  33.9900,2,  33.9980,2,    210.4,2,   216.0,2,    2.65,2,    0.20,2,   -0.01,2,    0.07,2,-999.000,5,-999.000,5,  1892.5,2,  2229.7,2,  -999.0,5,-999.000,1,-999.000,-999.0000,1, -999.00,9, -999.00,9,  -999.0,9,  -999.0,-999.000,9,-999.000,   463.4,  28.3672,-999.0000, -999.00
 316N145_14,       I02E,    1132,          1,         34,     SIH026,2,19951221,       0955,    -8.0000,    84.0000,       5175,    62.0,  25.0290,  34.9539,2,  34.9478,2,    141.1,2,   158.5,2,    6.93,2,    0.95,2,    0.10,2,    0.52,2,   1.492,2,   0.826,2,  2031.1,2,  2295.2,2,  -999.0,5,-999.000,1,-999.000,-999.0000,1, -999.00,9, -999.00,9,  -999.0,9,  -999.0,-999.000,9,-999.000,   753.8,  25.0155,-999.0000, -999.00
 316N145_14,       I02E,    1132,          1,         33,     SIH027,2,19951221,       0955,    -8.0000,    84.0000,       5175,   102.3,  19.8104,  35.1481,2,  35.1518,2,     90.2,2,    88.0,2,   13.76,2,   16.97,2,    0.02,2,    1.26,2,   1.374,2,   0.728,2,  -999.0,9,  -999.0,9,  -999.0,5,-999.000,1,-999.000,-999.0000,1, -999.00,9, -999.00,9,  -999.0,9,  -999.0,-999.000,9,-999.000,  1152.3,  19.7917,-999.0000, -999.00
 316N145_14,       I02E,    1132,          1,         32,     SIH028,2,19951221,       0955,    -8.0000,    84.0000,       5175,   147.9,  16.3884,  34.9339,2,  34.9313,2,     68.8,2,    62.5,2,   22.99,2,   23.16,2,    0.01,2,    1.65,2,   1.030,2,   0.528,2,  -999.0,9,  -999.0,9,  -999.0,5,-999.000,1,-999.000,-999.0000,1, -999.00,9, -999.00,9,  -999.0,9,  -999.0,-999.000,9,-999.000,  1605.2,  16.3646,-999.0000, -999.00
 316N145_14,       I02E,    1132,          1,         31,     SIH029,2,19951221,       0955,    -8.0000,    84.0000,       5175,   198.1,  12.9634,  34.7143,2,  34.7125,2,     74.8,2,    73.3,2,   34.45,2,   26.01,2,    0.00,2,    1.85,2,   0.702,2,   0.354,2,  -999.0,9,  -999.0,9,  -999.0,5,-999.000,1,-999.000,-999.0000,1, -999.00,9, -999.00,9,  -999.0,9,  -999.0,-999.000,9,-999.000,  2106.8,  12.9363,-999.0000, -999.00
 316N145_14,       I02E,    1132,          1,         30,     SIH030,2,19951221,       0955,    -8.0000,    84.0000,       5175,   247.7,  11.7011,  34.8075,2,  34.8078,2,     67.1,2,    64.4,2,   34.45,2,   28.44,2,    0.00,2,    1.99,2,-999.000,5,-999.000,5,  -999.0,9,  -999.0,9,  -999.0,5,-999.000,1,-999.000,-999.0000,1, -999.00,9, -999.00,9,  -999.0,9,  -999.0,-999.000,9,-999.000,  2602.5,  11.6693,-999.0000, -999.00
 316N145_14,       I02E,    1132,          1,         29,     SIH031,2,19951221,       0955,    -8.0000,    84.0000,       5175,   298.0,  11.3016,  34.9014,2,  34.9000,2,     76.0,2,    82.9,2,   28.63,2,   26.53,2,    0.00,2,    1.86,2,   0.558,2,   0.275,2,  -999.0,9,  -999.0,9,  -999.0,5,-999.000,1,-999.000,-999.0000,1, -999.00,9, -999.00,9,  -999.0,9,  -999.0,-999.000,9,-999.000,  3105.8,  11.2641,-999.0000, -999.00
 316N145_14,       I02E,    1132,          1,         28,     SIH032,2,19951221,       0955,    -8.0000,    84.0000,       5175,   348.6,  10.6108,  34.8688,2,  34.8692,2,    102.1,2,    92.1,2,   28.63,2,   27.21,2,   -0.01,2,    1.88,2,-999.000,5,-999.000,5,  -999.0,9,  -999.0,9,  -999.0,5,-999.000,1,-999.000,-999.0000,1, -999.00,9, -999.00,9,  -999.0,9,  -999.0,-999.000,9,-999.000,  3612.3,  10.5685,-999.0000, -999.00
 316N145_14,       I02E,    1132,          1,         27,     SIH033,2,19951221,       0955,    -8.0000,    84.0000,       5175,   397.9,   9.8915,  34.8350,2,  34.8355,2,    104.7,2,   103.4,2,   28.64,2,   27.46,2,    0.00,2,    1.89,2,   0.452,2,   0.223,2,  -999.0,9,  -999.0,9,  -999.0,5,-999.000,1,-999.000,-999.0000,1, -999.00,9, -999.00,9,  -999.0,9,  -999.0,-999.000,9,-999.000,  4104.4,   9.8453,-999.0000, -999.00
 316N145_14,       I02E,    1132,          1,         26,     SIH037,2,19951221,       0955,    -8.0000,    84.0000,       5175,   498.8,   8.6739,  34.7770,2,  34.7763,2,     88.3,2,    88.2,2,   42.49,2,   31.31,2,    0.00,2,    2.20,2,   0.135,6,   0.072,6,  -999.0,9,  -999.0,9,  -999.0,5,-999.000,1,-999.000,-999.0000,1, -999.00,9, -999.00,9,  -999.0,9,  -999.0,-999.000,9,-999.000,  5113.5,   8.6201,-999.0000, -999.00
 316N145_14,       I02E,    1132,          1,         25,     SI9446,3,19951221,       0955,    -8.0000,    84.0000,       5175,   599.1,   7.8063,  34.7660,2,  34.7651,2,     72.5,2,    72.2,2,   57.87,2,   34.36,2,    0.00,2,    2.44,2,   0.040,2,   0.029,2,  -999.0,9,  -999.0,9,  -999.0,5,-999.000,1,-999.000,-999.0000,1, -999.00,9, -999.00,9,  -999.0,9,  -999.0,-999.000,9,-999.000,  6116.7,   7.7452,-999.0000, -999.00
 316N145_14,       I02E,    1132,          1,         24,     SIH036,3,19951221,       0955,    -8.0000,    84.0000,       5175,   698.8,   7.0750,  34.7553,2,  34.7555,2,     64.4,2,    65.4,2,   71.21,2,   35.81,2,    0.00,2,    2.60,2,-999.000,5,-999.000,5,  -999.0,9,  -999.0,9,  -999.0,5,-999.000,1,-999.000,-999.0000,1, -999.00,9, -999.00,9,  -999.0,9,  -999.0,-999.000,9,-999.000,  7114.4,   7.0070,-999.0000, -999.00
 316N145_14,       I02E,    1132,          1,         23,     SIH001,2,19951221,       0955,    -8.0000,    84.0000,       5175,   799.9,   6.5164,  34.7401,2,  34.7386,2,     66.6,2,    67.0,2,   80.78,2,   36.47,2,    0.00,2,    2.63,2,   0.006,2,   0.003,2,  -999.0,9,  -999.0,9,  -999.0,5,-999.000,1,-999.000,-999.0000,1, -999.00,9, -999.00,9,  -999.0,9,  -999.0,-999.000,9,-999.000,  8125.6,   6.4415,-999.0000, -999.00
 316N145_14,       I02E,    1132,          1,         22,     SIH019,2,19951221,       0955,    -8.0000,    84.0000,       5175,   894.9,   5.8366,  34.7087,2,  34.7066,2,     73.9,2,    74.0,2,   89.84,2,   36.50,2,    0.00,2,    2.66,2,   0.008,2,   0.002,2,  -999.0,9,  -999.0,9,  -999.0,5,-999.000,1,-999.000,-999.0000,1, -999.00,9, -999.00,9,  -999.0,9,  -999.0,-999.000,9,-999.000,  9076.0,   5.7568,-999.0000, -999.00
 316N145_14,       I02E,    1132,          1,         21,     SIH025,2,19951221,       0955,    -8.0000,    84.0000,       5175,   996.0,   5.3490,  34.6957,2,  34.6948,2,     80.5,2,    79.9,2,   96.51,2,   36.70,2,    0.00,2,    2.65,2,-999.000,5,-999.000,5,  -999.0,9,  -999.0,9,  -999.0,5,-999.000,1,-999.000,-999.0000,1, -999.00,9, -999.00,9,  -999.0,9,  -999.0,-999.000,9,-999.000, 10087.0,   5.2631,-999.0000, -999.00
 316N145_14,       I02E,    1132,          1,         20,     SIH004,2,19951221,       0955,    -8.0000,    84.0000,       5175,  1096.0,   4.8673,  34.6941,2,  34.6940,2,     85.6,2,    85.3,2,  102.15,2,   36.67,2,    0.00,2,    2.68,2,   0.006,2,   0.003,2,  -999.0,9,  -999.0,9,  -999.0,5,-999.000,1,-999.000,-999.0000,1, -999.00,9, -999.00,9,  -999.0,9,  -999.0,-999.000,9,-999.000, 11087.4,   4.7760,-999.0000, -999.00
 316N145_14,       I02E,    1132,          1,         19,     SIH005,2,19951221,       0955,    -8.0000,    84.0000,       5175,  1196.8,   4.5761,  34.7154,2,  34.7154,2,     88.8,2,    88.8,2,  104.88,2,   36.76,2,    0.00,2,    2.68,2,-999.000,5,-999.000,5,  -999.0,9,  -999.0,9,  -999.0,5,-999.000,1,-999.000,-999.0000,1, -999.00,9, -999.00,9,  -999.0,9,  -999.0,-999.000,9,-999.000, 12096.3,   4.4781,-999.0000, -999.00
 316N145_14,       I02E,    1132,          1,         18,     SIH006,2,19951221,       0955,    -8.0000,    84.0000,       5175,  1297.9,   4.3394,  34.7361,2,  34.7376,2,     93.5,2,    91.9,2,  106.42,2,   36.78,2,    0.00,2,    2.67,2,   0.000,2,  -0.002,2,  -999.0,9,  -999.0,9,  -999.0,5,-999.000,1,-999.000,-999.0000,1, -999.00,9, -999.00,9,  -999.0,9,  -999.0,-999.000,9,-999.000, 13107.8,   4.2344,-999.0000, -999.00
 316N145_14,       I02E,    1132,          1,         17,     SIH038,2,19951221,       0955,    -8.0000,    84.0000,       5175,  1398.8,   3.9728,  34.7398,2,  34.7382,2,     99.6,2,    98.7,2,  109.66,2,   36.58,2,    0.00,2,    2.66,2,-999.000,5,-999.000,5,  -999.0,9,  -999.0,9,  -999.0,5,-999.000,1,-999.000,-999.0000,1, -999.00,9, -999.00,9,  -999.0,9,  -999.0,-999.000,9,-999.000, 14117.5,   3.8626,-999.0000, -999.00
 316N145_14,       I02E,    1132,          1,         16,     SIH008,2,19951221,       0955,    -8.0000,    84.0000,       5175,  1596.0,   3.3482,  34.7428,2,  34.7427,2,    115.6,2,   114.2,2,  114.27,2,   36.10,2,    0.00,2,    2.60,2,-999.000,5,-999.000,5,  -999.0,9,  -999.0,9,  -999.0,5,-999.000,1,-999.000,-999.0000,1, -999.00,9, -999.00,9,  -999.0,9,  -999.0,-999.000,9,-999.000, 16089.6,   3.2276,-999.0000, -999.00
 316N145_14,       I02E,    1132,          1,         15,     SIH009,2,19951221,       0955,    -8.0000,    84.0000,       5175,  1797.4,   2.9350,  34.7499,2,  34.7500,2,    125.8,2,   124.4,2,  117.52,2,   35.63,2,    0.00,2,    2.56,2,-999.000,5,-999.000,5,  -999.0,9,  -999.0,9,  -999.0,5,-999.000,1,-999.000,-999.0000,1, -999.00,9, -999.00,9,  -999.0,9,  -999.0,-999.000,9,-999.000, 18104.6,   2.8021,-999.0000, -999.00
 316N145_14,       I02E,    1132,          1,         14,     SIH010,2,19951221,       0955,    -8.0000,    84.0000,       5175,  2000.0,   2.5372,  34.7460,2,  34.7453,2,    138.1,2,   137.6,2,  120.26,2,   35.09,2,    0.00,2,    2.48,2,   0.001,2,   0.000,2,  -999.0,9,  -999.0,9,  -999.0,5,-999.000,1,-999.000,-999.0000,1, -999.00,9, -999.00,9,  -999.0,9,  -999.0,-999.000,9,-999.000, 20131.5,   2.3922,-999.0000, -999.00
 316N145_14,       I02E,    1132,          1,         13,     SIH011,2,19951221,       0955,    -8.0000,    84.0000,       5175,  2252.7,   2.1822,  34.7402,2,  34.7398,2,    150.4,2,   150.1,2,  122.30,2,   34.44,2,    0.00,2,    2.43,2,-999.000,5,-999.000,5,  -999.0,9,  -999.0,9,  -999.0,5,-999.000,1,-999.000,-999.0000,1, -999.00,9, -999.00,9,  -999.0,9,  -999.0,-999.000,9,-999.000, 22660.4,   2.0206,-999.0000, -999.00
 316N145_14,       I02E,    1132,          1,         12,     SIH012,2,19951221,       0955,    -8.0000,    84.0000,       5175,  2485.0,   1.9828,  34.7359,2,  34.7355,2,    156.0,2,   155.7,2,  125.21,2,   34.31,2,    0.00,2,    2.41,2,-999.000,5,-999.000,5,  -999.0,9,  -999.0,9,  -999.0,5,-999.000,1,-999.000,-999.0000,1, -999.00,9, -999.00,9,  -999.0,9,  -999.0,-999.000,9,-999.000, 24984.0,   1.8039,-999.0000, -999.00
 316N145_14,       I02E,    1132,          1,         11,     SI9426,2,19951221,       0955,    -8.0000,    84.0000,       5175,  2663.4,   1.8486,  34.7336,2,  34.7329,2,    160.1,2,   160.5,2,  126.23,2,   33.89,2,    0.00,2,    2.38,2,-999.000,5,-999.000,5,  -999.0,9,  -999.0,9,  -999.0,5,-999.000,1,-999.000,-999.0000,1, -999.00,9, -999.00,9,  -999.0,9,  -999.0,-999.000,9,-999.000, 26768.6,   1.6558,-999.0000, -999.00
 316N145_14,       I02E,    1132,          1,         10,     SIH014,2,19951221,       0955,    -8.0000,    84.0000,       5175,  2996.6,   1.6668,  34.7285,2,  34.7280,2,    166.3,2,   165.9,2,  129.65,2,   33.97,2,    0.00,2,    2.37,2,-999.000,5,-999.000,5,  -999.0,9,  -999.0,9,  -999.0,5,-999.000,1,-999.000,-999.0000,1, -999.00,9, -999.00,9,  -999.0,9,  -999.0,-999.000,9,-999.000, 30102.2,   1.4464,-999.0000, -999.00
 316N145_14,       I02E,    1132,          1,          9,     SIH015,2,19951221,       0955,    -8.0000,    84.0000,       5175,  3235.7,   1.5440,  34.7252,2,  34.7250,2,    167.9,2,   167.2,2,  133.40,2,   33.94,2,    0.01,2,    2.38,2,   0.001,2,   0.001,2,  -999.0,9,  -999.0,9,  -999.0,5,-999.000,1,-999.000,-999.0000,1, -999.00,9, -999.00,9,  -999.0,9,  -999.0,-999.000,9,-999.000, 32494.3,   1.3031,-999.0000, -999.00
 316N145_14,       I02E,    1132,          1,          8,     SIH016,2,19951221,       0955,    -8.0000,    84.0000,       5175,  3495.9,   1.4608,  34.7224,2,  34.7229,2,    171.1,2,   170.2,2,  134.94,2,   33.92,2,    0.00,2,    2.36,2,-999.000,5,-999.000,5,  -999.0,9,  -999.0,9,  -999.0,5,-999.000,1,-999.000,-999.0000,1, -999.00,9, -999.00,9,  -999.0,9,  -999.0,-999.000,9,-999.000, 35097.1,   1.1959,-999.0000, -999.00
 316N145_14,       I02E,    1132,          1,          7,     SIH017,2,19951221,       0955,    -8.0000,    84.0000,       5175,  3745.4,   1.3910,  34.7195,2,  34.7201,2,    176.5,2,   175.5,2,  134.09,2,   33.61,2,    0.00,2,    2.33,2,-999.000,5,-999.000,5,  -999.0,9,  -999.0,9,  -999.0,5,-999.000,1,-999.000,-999.0000,1, -999.00,9, -999.00,9,  -999.0,9,  -999.0,-999.000,9,-999.000, 37594.3,   1.1020,-999.0000, -999.00
 316N145_14,       I02E,    1132,          1,          6,     SIH018,2,19951221,       0955,    -8.0000,    84.0000,       5175,  3995.4,   1.3453,  34.7185,2,  34.7190,2,    180.6,2,   180.2,2,  132.72,2,   33.31,2,    0.00,2,    2.32,2,-999.000,5,-999.000,5,  -999.0,9,  -999.0,9,  -999.0,5,-999.000,1,-999.000,-999.0000,1, -999.00,9, -999.00,9,  -999.0,9,  -999.0,-999.000,9,-999.000, 40094.4,   1.0310,-999.0000, -999.00
 316N145_14,       I02E,    1132,          1,          5,     SIH002,2,19951221,       0955,    -8.0000,    84.0000,       5175,  4245.9,   1.3368,  34.7173,2,  34.7174,2,    182.1,2,   191.7,4,  132.89,2,   33.34,2,    0.00,2,    2.31,2,-999.000,5,-999.000,5,  -999.0,9,  -999.0,9,  -999.0,5,-999.000,1,-999.000,-999.0000,1, -999.00,9, -999.00,9,  -999.0,9,  -999.0,-999.000,9,-999.000, 42599.7,   0.9953,-999.0000, -999.00
 316N145_14,       I02E,    1132,          1,          4,     SIH020,2,19951221,       0955,    -8.0000,    84.0000,       5175,  4496.5,   1.3444,  34.7165,2,  34.7168,2,    183.4,2,   182.7,2,  132.54,2,   33.14,2,    0.00,2,    2.31,2,-999.000,5,-999.000,5,  -999.0,9,  -999.0,9,  -999.0,5,-999.000,1,-999.000,-999.0000,1, -999.00,9, -999.00,9,  -999.0,9,  -999.0,-999.000,9,-999.000, 45106.5,   0.9744,-999.0000, -999.00
 316N145_14,       I02E,    1132,          1,          3,     SIH021,2,19951221,       0955,    -8.0000,    84.0000,       5175,  4746.6,   1.3634,  34.7164,2,  34.7160,2,    184.0,2,   183.7,2,  132.37,2,   33.29,2,    0.01,2,    2.30,2,   0.001,2,   0.002,2,  -999.0,9,  -999.0,9,  -999.0,5,-999.000,1,-999.000,-999.0000,1, -999.00,9, -999.00,9,  -999.0,9,  -999.0,-999.000,9,-999.000, 47608.6,   0.9638,-999.0000, -999.00
 316N145_14,       I02E,    1132,          1,          2,     SIH022,2,19951221,       0955,    -8.0000,    84.0000,       5175,  4992.7,   1.3868,  34.7161,2,  34.7184,3,    184.8,2,   184.1,2,  131.51,2,   33.15,2,    0.01,2,    2.30,2,   0.005,2,   0.003,2,  -999.0,9,  -999.0,9,  -999.0,5,-999.000,1,-999.000,-999.0000,1, -999.00,9, -999.00,9,  -999.0,9,  -999.0,-999.000,9,-999.000, 50071.5,   0.9570,-999.0000, -999.00
 316N145_14,       I02E,    1132,          1,          1,     SIH023,2,19951221,       0955,    -8.0000,    84.0000,       5175,  5291.1,   1.4212,  34.7163,2,  34.7186,3,    184.4,2,   184.8,2,  131.29,6,   33.03,6,    0.00,6,    2.30,6,   0.003,2,   0.002,2,  -999.0,9,  -999.0,9,  -999.0,5,-999.000,1,-999.000,-999.0000,1, -999.00,9, -999.00,9,  -999.0,9,  -999.0,-999.000,9,-999.000, 53054.0,   0.9536,-999.0000, -999.00