BOTTLE,20220829CCHSIOAMB
EXPOCODE,SECT_ID,STNNBR,CASTNO,SAMPNO,BTLNBR,BTLNBR_FLAG_W,DATE,TIME,LATITUDE,LONGITUDE,DEPTH,CTDPRS,CTDTMP,CTDSAL,CTDSAL_FLAG_W,SALNTY,SALNTY_FLAG_W,CTDOXY,CTDOXY_FLAG_W,OXYGEN,OXYGEN_FLAG_W,SILCAT,SILCAT_FLAG_W,NITRAT,NITRAT_FLAG_W,NITRIT,NITRIT_FLAG_W,PHSPHT,PHSPHT_FLAG_W,CFC-11,CFC-11_FLAG_W,CFC-12,CFC-12_FLAG_W,TCARBN,TCARBN_FLAG_W,ALKALI,ALKALI_FLAG_W,PCO2,PCO2_FLAG_W,TRITUM,TRITUM_FLAG_W,TRITER,HELIUM,HELIUM_FLAG_W,DELHE3,DELHE3_FLAG_W,DELC13,DELC13_FLAG_W,DELC14,DELC14_FLAG_W,C14ERR,NEON,NEON_FLAG_W,NEONER,CTDRAW,THETA,HELIER,DELHER
,,,,,,,,,,,METERS,DBAR,ITS-90,PSS-78,,PSS-78,,UMOL/KG,,UMOL/KG,,UMOL/KG,,UMOL/KG,,UMOL/KG,,UMOL/KG,,PMOL/KG,,PMOL/KG,,UMOL/KG,,UMOL/KG,,UATM,,TU,,TU,NMOL/KG,,PERCNT,,/MILLE,,/MILLE,,/MILLE,NMOL/KG,,NMOL/KG,DBAR,DEG C,NMOL/KG,PERCNT
 316N145_14,       I02E,    1117,          1,         36,     SIH024,2,19951217,       0830,   -10.2500,    88.1417,       4703,    10.4,  27.3280,  34.2729,2,  34.2599,2,    207.2,2,   212.1,2,    1.69,2,    0.01,2,    0.00,2,    0.10,2,   1.688,2,   0.969,2,  1924.0,2,  2245.4,2,  -999.0,5,-999.000,1,-999.000,-999.0000,1, -999.00,9, -999.00,9,  -999.0,9,  -999.0,-999.000,9,-999.000,   253.0,  27.3256,-999.0000, -999.00
 316N145_14,       I02E,    1117,          1,         35,     SIH003,2,19951217,       0830,   -10.2500,    88.1417,       4703,    52.9,  26.9034,  34.2320,2,  34.2348,2,    217.7,2,   208.6,2,    1.92,2,    0.19,2,    0.00,2,    0.10,2,-999.000,5,-999.000,5,  1921.2,2,  2245.2,2,  -999.0,5,-999.000,1,-999.000,-999.0000,1, -999.00,9, -999.00,9,  -999.0,9,  -999.0,-999.000,9,-999.000,   671.8,  26.8914,-999.0000, -999.00
 316N145_14,       I02E,    1117,          1,         34,     SIH026,2,19951217,       0830,   -10.2500,    88.1417,       4703,   102.0,  23.7751,  34.4366,2,  34.4369,2,    134.5,2,   136.3,2,    9.82,2,    9.47,2,    0.04,2,    0.72,2,   1.529,2,   0.870,2,  -999.0,9,  2264.5,2,  -999.0,5,-999.000,1,-999.000,-999.0000,1, -999.00,9, -999.00,9,  -999.0,9,  -999.0,-999.000,9,-999.000,  1154.7,  23.7538,-999.0000, -999.00
 316N145_14,       I02E,    1117,          1,         33,     SIH027,2,19951217,       0830,   -10.2500,    88.1417,       4703,   152.4,  18.9426,  34.7391,2,  34.7331,2,    109.2,2,    99.2,2,   19.06,2,   17.30,2,    0.01,2,    1.24,2,   1.337,2,   0.726,2,  2105.2,2,  2285.0,2,  -999.0,5,-999.000,1,-999.000,-999.0000,1, -999.00,9, -999.00,9,  -999.0,9,  -999.0,-999.000,9,-999.000,  1653.8,  18.9155,-999.0000, -999.00
 316N145_14,       I02E,    1117,          1,         32,     SIH028,3,19951217,       0830,   -10.2500,    88.1417,       4703,   197.9,  15.3579,  34.5542,2,  34.5574,2,    109.9,2,   105.1,2,   28.64,2,   20.62,2,    0.01,2,    1.48,2,-999.000,5,-999.000,5,  2134.2,2,  2291.3,2,  -999.0,5,-999.000,1,-999.000,-999.0000,1, -999.00,9, -999.00,9,  -999.0,9,  -999.0,-999.000,9,-999.000,  2106.7,  15.3276,-999.0000, -999.00
 316N145_14,       I02E,    1117,          1,         31,     SIH029,3,19951217,       0830,   -10.2500,    88.1417,       4703,   298.4,  11.4349,  34.7521,2,  34.7532,2,     71.0,2,    70.5,2,   35.95,2,   28.33,2,    0.00,2,    2.01,2,-999.000,5,-999.000,5,  2206.0,2,  2308.3,2,  -999.0,5,-999.000,1,-999.000,-999.0000,1, -999.00,9, -999.00,9,  -999.0,9,  -999.0,-999.000,9,-999.000,  3111.0,  11.3971,-999.0000, -999.00
 316N145_14,       I02E,    1117,          1,         30,     SIH030,2,19951217,       0830,   -10.2500,    88.1417,       4703,   397.8,   9.9196,  34.7799,2,  34.7779,2,     83.4,2,    92.0,2,   34.83,2,   28.78,2,    0.00,2,    1.99,2,   0.419,2,   0.208,2,  2208.3,2,  2312.5,2,  -999.0,5,-999.000,1,-999.000,-999.0000,1, -999.00,9, -999.00,9,  -999.0,9,  -999.0,-999.000,9,-999.000,  4105.1,   9.8733,-999.0000, -999.00
 316N145_14,       I02E,    1117,          1,         29,     SIH031,2,19951217,       0830,   -10.2500,    88.1417,       4703,   497.6,   8.8037,  34.7537,2,  34.7528,2,     89.9,2,    83.7,2,   43.49,2,   31.88,2,    0.00,2,    2.22,2,-999.000,5,-999.000,5,  2228.9,2,  2320.5,2,  -999.0,5,-999.000,1,-999.000,-999.0000,1, -999.00,9, -999.00,9,  -999.0,9,  -999.0,-999.000,9,-999.000,  5102.9,   8.7496,-999.0000, -999.00
 316N145_14,       I02E,    1117,          1,         28,     SIH032,2,19951217,       0830,   -10.2500,    88.1417,       4703,   597.1,   7.8301,  34.7143,2,  34.7134,2,     75.1,2,    74.7,2,   58.75,2,   34.24,2,    0.00,2,    2.43,2,   0.053,2,   0.024,2,  2253.0,2,  2333.6,2,  -999.0,5,-999.000,1,-999.000,-999.0000,1, -999.00,9, -999.00,9,  -999.0,9,  -999.0,-999.000,9,-999.000,  6098.4,   7.7691,-999.0000, -999.00
 316N145_14,       I02E,    1117,          1,         27,     SIH033,2,19951217,       0830,   -10.2500,    88.1417,       4703,   698.5,   6.9683,  34.6812,2,  34.6806,2,     75.4,2,    74.3,2,   71.66,2,   35.40,2,    0.00,2,    2.56,2,-999.000,5,-999.000,5,  2268.1,2,  2347.1,2,  -999.0,5,-999.000,1,-999.000,-999.0000,1, -999.00,9, -999.00,9,  -999.0,9,  -999.0,-999.000,9,-999.000,  7111.6,   6.9010,-999.0000, -999.00
 316N145_14,       I02E,    1117,          1,         26,     SIH037,3,19951217,       0830,   -10.2500,    88.1417,       4703,   793.4,   6.4004,  34.6696,2,  34.6688,2,     77.1,2,    76.2,2,   80.24,2,   35.84,2,    0.00,2,    2.59,2,-999.000,5,-999.000,5,  2275.8,2,  2354.2,2,  -999.0,5,-999.000,1,-999.000,-999.0000,1, -999.00,9, -999.00,9,  -999.0,9,  -999.0,-999.000,9,-999.000,  8061.8,   6.3268,-999.0000, -999.00
 316N145_14,       I02E,    1117,          1,         25,     SI9446,2,19951217,       0830,   -10.2500,    88.1417,       4703,   995.7,   5.1857,  34.6366,2,  34.6364,2,     87.2,2,    86.7,2,   97.50,2,   36.40,2,    0.00,2,    2.64,2,   0.014,2,   0.002,2,  2295.4,2,  2374.0,2,  -999.0,5,-999.000,1,-999.000,-999.0000,1, -999.00,9, -999.00,9,  -999.0,9,  -999.0,-999.000,9,-999.000, 10084.8,   5.1011,-999.0000, -999.00
 316N145_14,       I02E,    1117,          1,         24,     SIH036,2,19951217,       0830,   -10.2500,    88.1417,       4703,  1249.4,   4.3536,  34.6801,2,  34.6791,2,     96.4,2,    94.5,2,  106.57,2,   36.73,2,    0.00,2,    2.67,2,   0.002,2,  -0.002,2,  2019.6,4,  2382.8,2,  -999.0,5,-999.000,1,-999.000,-999.0000,1, -999.00,9, -999.00,9,  -999.0,9,  -999.0,-999.000,9,-999.000, 12623.3,   4.2530,-999.0000, -999.00
 316N145_14,       I02E,    1117,          1,         23,     SIH001,2,19951217,       0830,   -10.2500,    88.1417,       4703,  1495.2,   3.6117,  34.7080,2,  34.7077,2,    109.6,2,   110.2,2,  109.79,2,   36.22,2,    0.00,2,    2.62,2,-999.000,5,-999.000,5,  2304.5,2,  2385.6,2,  -999.0,5,-999.000,1,-999.000,-999.0000,1, -999.00,9, -999.00,9,  -999.0,9,  -999.0,-999.000,9,-999.000, 15081.8,   3.4970,-999.0000, -999.00
 316N145_14,       I02E,    1117,          1,         22,     SIH019,2,19951217,       0830,   -10.2500,    88.1417,       4703,  1747.2,   2.8607,  34.7283,2,  34.7304,2,    132.3,2,   131.8,2,  114.01,2,   35.43,2,    0.00,2,    2.52,2,-999.000,5,-999.000,5,  2300.2,2,  2393.5,2,  -999.0,5,-999.000,1,-999.000,-999.0000,1, -999.00,9, -999.00,9,  -999.0,9,  -999.0,-999.000,9,-999.000, 17602.0,   2.7332,-999.0000, -999.00
 316N145_14,       I02E,    1117,          1,         21,     SIH025,2,19951217,       0830,   -10.2500,    88.1417,       4703,  1999.4,   2.4655,  34.7381,2,  34.7388,2,    144.5,2,   142.6,2,  118.24,2,   34.97,2,    0.00,2,    2.48,2,-999.000,5,-999.000,5,  2299.8,2,  2397.4,2,  -999.0,5,-999.000,1,-999.000,-999.0000,1, -999.00,9, -999.00,9,  -999.0,9,  -999.0,-999.000,9,-999.000, 20125.5,   2.3217,-999.0000, -999.00
 316N145_14,       I02E,    1117,          1,         20,     SIH004,2,19951217,       0830,   -10.2500,    88.1417,       4703,  2243.5,   2.1408,  34.7361,2,  34.7368,2,    153.5,2,   153.4,2,  120.33,2,   34.34,2,    0.00,2,    2.44,2,-999.000,5,-999.000,5,  2297.0,2,  2399.1,2,  -999.0,5,-999.000,1,-999.000,-999.0000,1, -999.00,9, -999.00,9,  -999.0,9,  -999.0,-999.000,9,-999.000, 22567.5,   1.9807,-999.0000, -999.00
 316N145_14,       I02E,    1117,          1,         19,     SIH005,2,19951217,       0830,   -10.2500,    88.1417,       4703,  2498.2,   1.9043,  34.7322,2,  34.7329,2,    162.6,2,   161.1,2,  122.95,2,   33.93,2,    0.00,2,    2.40,2,-999.000,5,-999.000,5,  2296.3,2,  2400.9,2,  -999.0,5,-999.000,1,-999.000,-999.0000,1, -999.00,9, -999.00,9,  -999.0,9,  -999.0,-999.000,9,-999.000, 25116.6,   1.7257,-999.0000, -999.00
 316N145_14,       I02E,    1117,          1,         18,     SIH006,2,19951217,       0830,   -10.2500,    88.1417,       4703,  2746.3,   1.7540,  34.7289,2,  34.7302,2,    163.2,2,   164.6,2,  126.01,2,   33.93,2,    0.00,2,    2.39,3,-999.000,5,-999.000,5,  2297.5,2,  2406.6,2,  -999.0,5,-999.000,1,-999.000,-999.0000,1, -999.00,9, -999.00,9,  -999.0,9,  -999.0,-999.000,9,-999.000, 27598.4,   1.5554,-999.0000, -999.00
 316N145_14,       I02E,    1117,          1,         17,     SIH038,2,19951217,       0830,   -10.2500,    88.1417,       4703,  2998.4,   1.5875,  34.7267,2,  34.7270,2,    168.2,2,   167.4,2,  130.32,2,   33.82,2,    0.00,2,    2.40,3,-999.000,5,-999.000,5,  2301.2,2,  2412.1,2,  -999.0,5,-999.000,1,-999.000,-999.0000,1, -999.00,9, -999.00,9,  -999.0,9,  -999.0,-999.000,9,-999.000, 30121.1,   1.3687,-999.0000, -999.00
 316N145_14,       I02E,    1117,          1,         16,     SIH008,2,19951217,       0830,   -10.2500,    88.1417,       4703,  3242.8,   1.4722,  34.7230,2,  34.7233,2,    169.7,2,   170.2,2,  133.36,2,   33.87,2,    0.00,2,    2.38,3,-999.000,5,-999.000,5,  2302.8,2,  2414.5,2,  -999.0,5,-999.000,1,-999.000,-999.0000,1, -999.00,9, -999.00,9,  -999.0,9,  -999.0,-999.000,9,-999.000, 32565.7,   1.2323,-999.0000, -999.00
 316N145_14,       I02E,    1117,          1,         15,     SIH009,2,19951217,       0830,   -10.2500,    88.1417,       4703,  3496.9,   1.4191,  34.7205,2,  34.7213,2,    172.4,2,   172.3,2,  134.25,2,   34.03,2,    0.00,2,    2.38,3,-999.000,5,-999.000,5,  2302.8,2,  2416.1,2,  -999.0,5,-999.000,1,-999.000,-999.0000,1, -999.00,9, -999.00,9,  -999.0,9,  -999.0,-999.000,9,-999.000, 35107.4,   1.1551,-999.0000, -999.00
 316N145_14,       I02E,    1117,          1,         14,     SIH010,2,19951217,       0830,   -10.2500,    88.1417,       4703,  3697.7,   1.3869,  34.7204,2,  34.7201,2,    174.2,2,   174.4,2,  134.47,2,   33.80,2,    0.00,2,    2.37,3,-999.000,5,-999.000,5,  -999.0,9,  2417.7,2,  -999.0,5,-999.000,1,-999.000,-999.0000,1, -999.00,9, -999.00,9,  -999.0,9,  -999.0,-999.000,9,-999.000, 37116.6,   1.1030,-999.0000, -999.00
 316N145_14,       I02E,    1117,          1,         13,     SIH011,2,19951217,       0830,   -10.2500,    88.1417,       4703,  3797.2,   1.3711,  34.7189,2,  34.7188,2,    175.0,2,   175.5,2,  135.53,2,   33.91,2,    0.00,2,    2.36,3,-999.000,5,-999.000,5,  2302.2,2,  2415.9,2,  -999.0,5,-999.000,1,-999.000,-999.0000,1, -999.00,9, -999.00,9,  -999.0,9,  -999.0,-999.000,9,-999.000, 38111.9,   1.0772,-999.0000, -999.00
 316N145_14,       I02E,    1117,          1,         12,     SIH012,2,19951217,       0830,   -10.2500,    88.1417,       4703,  3900.0,   1.3632,  34.7184,2,  34.7217,3,    177.2,2,   176.5,2,  135.41,2,   33.74,2,    0.00,2,    2.37,3,-999.000,5,-999.000,5,  2301.0,2,  2411.5,2,  -999.0,5,-999.000,1,-999.000,-999.0000,1, -999.00,9, -999.00,9,  -999.0,9,  -999.0,-999.000,9,-999.000, 39140.0,   1.0587,-999.0000, -999.00
 316N145_14,       I02E,    1117,          1,         11,     SI9426,2,19951217,       0830,   -10.2500,    88.1417,       4703,  4000.7,   1.3562,  34.7184,2,  34.7190,2,    178.2,2,   177.2,2,  134.63,2,   33.56,2,    0.00,2,    2.36,3,-999.000,5,-999.000,5,  2299.5,2,  2415.7,2,  -999.0,5,-999.000,1,-999.000,-999.0000,1, -999.00,9, -999.00,9,  -999.0,9,  -999.0,-999.000,9,-999.000, 40147.4,   1.0410,-999.0000, -999.00
 316N145_14,       I02E,    1117,          1,         10,     SIH014,2,19951217,       0830,   -10.2500,    88.1417,       4703,  4104.0,   1.3592,  34.7186,2,  34.7190,2,    179.4,2,   178.2,2,  134.34,2,   33.61,2,    0.00,2,    2.35,3,-999.000,5,-999.000,5,  2298.9,2,  2409.8,2,  -999.0,5,-999.000,1,-999.000,-999.0000,1, -999.00,9, -999.00,9,  -999.0,9,  -999.0,-999.000,9,-999.000, 41181.0,   1.0327,-999.0000, -999.00
 316N145_14,       I02E,    1117,          1,          9,     SIH015,2,19951217,       0830,   -10.2500,    88.1417,       4703,  4201.1,   1.3434,  34.7172,2,  34.7188,2,    179.9,2,   180.8,2,  133.05,2,   33.55,2,    0.00,2,    2.34,3,-999.000,5,-999.000,5,  2296.0,2,  2411.7,2,  -999.0,5,-999.000,1,-999.000,-999.0000,1, -999.00,9, -999.00,9,  -999.0,9,  -999.0,-999.000,9,-999.000, 42152.0,   1.0067,-999.0000, -999.00
 316N145_14,       I02E,    1117,          1,          8,     SIH016,2,19951217,       0830,   -10.2500,    88.1417,       4703,  4301.7,   1.3332,  34.7176,2,  34.7184,2,    182.7,2,   182.0,2,  132.27,2,   33.37,2,    0.00,2,    2.33,3,-999.000,5,-999.000,5,  2294.5,2,  2430.9,3,  -999.0,5,-999.000,1,-999.000,-999.0000,1, -999.00,9, -999.00,9,  -999.0,9,  -999.0,-999.000,9,-999.000, 43159.2,   0.9856,-999.0000, -999.00
 316N145_14,       I02E,    1117,          1,          7,     SIH017,2,19951217,       0830,   -10.2500,    88.1417,       4703,  4398.5,   1.3379,  34.7169,2,  34.7180,2,    180.7,2,   181.9,2,  132.15,2,   33.48,2,    0.00,2,    2.33,3,-999.000,5,-999.000,5,  2293.7,2,  2410.3,2,  -999.0,5,-999.000,1,-999.000,-999.0000,1, -999.00,9, -999.00,9,  -999.0,9,  -999.0,-999.000,9,-999.000, 44127.4,   0.9793,-999.0000, -999.00
 316N145_14,       I02E,    1117,          1,          6,     SIH018,2,19951217,       0830,   -10.2500,    88.1417,       4703,  4501.5,   1.3430,  34.7174,2,  34.7174,2,    181.7,2,   182.9,2,  131.70,2,   33.48,2,    0.00,2,    2.33,3,-999.000,5,-999.000,5,  2293.7,2,  2408.7,2,  -999.0,5,-999.000,1,-999.000,-999.0000,1, -999.00,9, -999.00,9,  -999.0,9,  -999.0,-999.000,9,-999.000, 45156.4,   0.9725,-999.0000, -999.00
 316N145_14,       I02E,    1117,          1,          5,     SIH002,2,19951217,       0830,   -10.2500,    88.1417,       4703,  4605.4,   1.3495,  34.7168,2,  34.7168,2,    183.0,2,   183.6,2,  131.93,2,   33.35,2,    0.00,2,    2.34,3,-999.000,5,-999.000,5,  2294.6,2,  2410.6,2,  -999.0,5,-999.000,1,-999.000,-999.0000,1, -999.00,9, -999.00,9,  -999.0,9,  -999.0,-999.000,9,-999.000, 46196.5,   0.9668,-999.0000, -999.00
 316N145_14,       I02E,    1117,          1,          4,     SIH020,2,19951217,       0830,   -10.2500,    88.1417,       4703,  4711.8,   1.3613,  34.7169,2,  34.7164,2,    183.3,2,   183.1,2,  131.81,2,   33.41,2,    0.00,2,    2.33,3,-999.000,5,-999.000,5,  2292.6,2,  2411.8,2,  -999.0,5,-999.000,1,-999.000,-999.0000,1, -999.00,9, -999.00,9,  -999.0,9,  -999.0,-999.000,9,-999.000, 47260.0,   0.9658,-999.0000, -999.00
 316N145_14,       I02E,    1117,          1,          3,     SIH021,2,19951217,       0830,   -10.2500,    88.1417,       4703,  4758.7,   1.3584,  34.7167,2,  34.7166,2,    184.3,2,   184.0,2,  131.36,2,   33.23,2,    0.00,2,    2.33,3,-999.000,5,-999.000,5,  2291.9,2,  2410.4,2,  -999.0,5,-999.000,1,-999.000,-999.0000,1, -999.00,9, -999.00,9,  -999.0,9,  -999.0,-999.000,9,-999.000, 47729.9,   0.9575,-999.0000, -999.00
 316N145_14,       I02E,    1117,          1,          2,     SIH022,2,19951217,       0830,   -10.2500,    88.1417,       4703,  4802.7,   1.3524,  34.7161,2,  34.7162,2,    186.1,2,   185.1,2,  131.08,2,   33.22,2,    0.00,2,    2.32,3,-999.000,5,-999.000,5,  2290.7,2,  2406.5,2,  -999.0,5,-999.000,1,-999.000,-999.0000,1, -999.00,9, -999.00,9,  -999.0,9,  -999.0,-999.000,9,-999.000, 48169.3,   0.9465,-999.0000, -999.00
 316N145_14,       I02E,    1117,          1,          1,     SIH023,2,19951217,       0830,   -10.2500,    88.1417,       4703,  4849.6,   1.3060,  34.7155,2,  34.7164,2,    189.5,2,   189.2,2,  128.65,6,   32.97,6,    0.00,6,    2.31,3,-999.000,5,-999.000,5,  2286.1,2,  2406.2,2,  -999.0,5,-999.000,1,-999.000,-999.0000,1, -999.00,9, -999.00,9,  -999.0,9,  -999.0,-999.000,9,-999.000, 48640.1,   0.8961,-999.0000, -999.00