BOTTLE,20220829CCHSIOAMB
EXPOCODE,SECT_ID,STNNBR,CASTNO,SAMPNO,BTLNBR,BTLNBR_FLAG_W,DATE,TIME,LATITUDE,LONGITUDE,DEPTH,CTDPRS,CTDTMP,CTDSAL,CTDSAL_FLAG_W,SALNTY,SALNTY_FLAG_W,CTDOXY,CTDOXY_FLAG_W,OXYGEN,OXYGEN_FLAG_W,SILCAT,SILCAT_FLAG_W,NITRAT,NITRAT_FLAG_W,NITRIT,NITRIT_FLAG_W,PHSPHT,PHSPHT_FLAG_W,CFC-11,CFC-11_FLAG_W,CFC-12,CFC-12_FLAG_W,TCARBN,TCARBN_FLAG_W,ALKALI,ALKALI_FLAG_W,PCO2,PCO2_FLAG_W,TRITUM,TRITUM_FLAG_W,TRITER,HELIUM,HELIUM_FLAG_W,DELHE3,DELHE3_FLAG_W,DELC13,DELC13_FLAG_W,DELC14,DELC14_FLAG_W,C14ERR,NEON,NEON_FLAG_W,NEONER,CTDRAW,THETA,HELIER,DELHER
,,,,,,,,,,,METERS,DBAR,ITS-90,PSS-78,,PSS-78,,UMOL/KG,,UMOL/KG,,UMOL/KG,,UMOL/KG,,UMOL/KG,,UMOL/KG,,PMOL/KG,,PMOL/KG,,UMOL/KG,,UMOL/KG,,UATM,,TU,,TU,NMOL/KG,,PERCNT,,/MILLE,,/MILLE,,/MILLE,NMOL/KG,,NMOL/KG,DBAR,DEG C,NMOL/KG,PERCNT
 316N145_14,       I02E,    1111,          1,         36,     SIH024,2,19951215,       0952,    -6.3333,    88.4167,       4799,    11.4,  27.7747,  33.7309,2,  33.7386,2,    211.0,2,   209.7,2,    2.91,2,    0.02,2,    0.00,2,    0.10,2,   1.659,2,   0.966,2,  1879.7,2,  2208.5,2,  -999.0,5,-999.000,1,-999.000,-999.0000,1, -999.00,9,    1.23,2,    67.9,2,     3.5,-999.000,9,-999.000,   254.9,  27.7721,-999.0000, -999.00
 316N145_14,       I02E,    1111,          1,         35,     SIH003,3,19951215,       0952,    -6.3333,    88.4167,       4799,    47.1,  24.2128,  35.1158,2,  35.1203,2,    156.1,2,   145.4,2,    7.21,2,    4.04,2,    0.17,2,    0.69,2,-999.000,5,-999.000,5,  2054.8,2,  2301.0,2,  -999.0,5,-999.000,1,-999.000,-999.0000,1, -999.00,9,   -0.14,3,    25.6,2,     4.2,-999.000,9,-999.000,   603.5,  24.2028,-999.0000, -999.00
 316N145_14,       I02E,    1111,          1,         34,     SIH026,2,19951215,       0952,    -6.3333,    88.4167,       4799,    98.1,  18.9636,  35.1250,2,  35.1278,2,     66.8,2,    72.5,2,   15.30,2,   19.49,2,    0.03,2,    1.41,2,   1.271,2,   0.678,2,  2138.3,2,  2301.7,2,  -999.0,5,-999.000,1,-999.000,-999.0000,1, -999.00,9,    0.28,2,    32.5,2,     7.1,-999.000,9,-999.000,  1109.0,  18.9462,-999.0000, -999.00
 316N145_14,       I02E,    1111,          1,         33,     SIH027,2,19951215,       0952,    -6.3333,    88.4167,       4799,   148.5,  14.0524,  34.9022,2,  34.8955,2,     58.2,2,    63.9,2,   27.18,2,   25.55,2,    0.01,2,    1.80,2,   0.748,2,   0.388,2,  2186.3,2,  2307.6,2,  -999.0,5,-999.000,1,-999.000,-999.0000,1, -999.00,9, -999.00,9,  -999.0,9,  -999.0,-999.000,9,-999.000,  1612.1,  14.0310,-999.0000, -999.00
 316N145_14,       I02E,    1111,          1,         32,     SIH028,2,19951215,       0952,    -6.3333,    88.4167,       4799,   198.4,  13.1218,  35.0296,2,  35.0344,2,     82.9,2,    78.7,2,   22.70,2,   24.29,2,    0.01,2,    1.71,2,   0.773,2,   0.400,2,  2185.6,2,  2311.3,2,  -999.0,5,-999.000,1,-999.000,-999.0000,1, -999.00,9,   -0.32,4,   -14.5,2,     5.0,-999.000,9,-999.000,  2110.4,  13.0943,-999.0000, -999.00
 316N145_14,       I02E,    1111,          1,         31,     SIH029,2,19951215,       0952,    -6.3333,    88.4167,       4799,   298.3,  11.4637,  34.9588,2,  34.9561,2,     60.4,2,    62.4,2,   27.86,2,   28.84,2,    0.00,2,    1.94,2,   0.306,2,   0.159,2,  2212.7,2,  2308.4,2,  -999.0,5,-999.000,1,-999.000,-999.0000,1, -999.00,9,    0.31,2,   -39.7,2,     3.4,-999.000,9,-999.000,  3109.2,  11.4258,-999.0000, -999.00
 316N145_14,       I02E,    1111,          1,         30,     SIH030,3,19951215,       0952,    -6.3333,    88.4167,       4799,   400.2,  10.1474,  34.9080,2,  34.9063,2,     67.4,2,    69.7,2,   31.64,2,   30.81,2,    0.00,2,    2.06,2,-999.000,5,-999.000,5,  2221.0,2,  2311.9,2,  -999.0,5,-999.000,1,-999.000,-999.0000,1, -999.00,9, -999.00,9,  -999.0,9,  -999.0,-999.000,9,-999.000,  4127.7,  10.1001,-999.0000, -999.00
 316N145_14,       I02E,    1111,          1,         29,     SIH031,3,19951215,       0952,    -6.3333,    88.4167,       4799,   500.5,   9.0944,  34.8560,2,  34.8554,2,     76.1,2,    73.5,2,   40.76,2,   32.25,2,    0.00,2,    2.23,2,-999.000,5,-999.000,5,  2232.5,2,  2318.9,2,  -999.0,5,-999.000,1,-999.000,-999.0000,1, -999.00,9,    0.36,2,   -85.7,2,     4.4,-999.000,9,-999.000,  5131.4,   9.0388,-999.0000, -999.00
 316N145_14,       I02E,    1111,          1,         28,     SIH032,2,19951215,       0952,    -6.3333,    88.4167,       4799,   599.5,   8.4234,  34.8406,2,  34.8365,2,     67.4,2,    65.5,2,   50.57,2,   33.92,2,    0.01,2,    2.38,2,   0.035,2,   0.019,2,  2249.7,2,  2331.7,2,  -999.0,5,-999.000,1,-999.000,-999.0000,1, -999.00,9,    0.25,2,  -136.4,2,     3.2,-999.000,9,-999.000,  6121.6,   8.3594,-999.0000, -999.00
 316N145_14,       I02E,    1111,          1,         27,     SIH033,2,19951215,       0952,    -6.3333,    88.4167,       4799,   700.0,   7.5930,  34.8103,2,  34.8117,2,     62.4,2,    61.5,2,   64.16,2,   35.73,2,    0.00,2,    2.52,2,   0.013,6,   0.007,6,  2268.0,2,  2344.8,2,  -999.0,5,-999.000,1,-999.000,-999.0000,1, -999.00,9,    0.19,2,  -166.5,2,     2.8,-999.000,9,-999.000,  7126.5,   7.5221,-999.0000, -999.00
 316N145_14,       I02E,    1111,          1,         26,     SIH037,2,19951215,       0952,    -6.3333,    88.4167,       4799,   794.2,   7.0081,  34.8018,2,  34.8011,2,     63.9,2,    63.5,2,   73.10,2,   36.45,2,    0.00,2,    2.59,2,   0.012,2,   0.003,2,  2279.1,2,  2350.5,2,  -999.0,5,-999.000,1,-999.000,-999.0000,1, -999.00,9,    0.14,2,  -167.8,2,     3.0,-999.000,9,-999.000,  8068.4,   6.9307,-999.0000, -999.00
 316N145_14,       I02E,    1111,          1,         25,     SI9446,2,19951215,       0952,    -6.3333,    88.4167,       4799,   996.0,   5.5883,  34.7446,2,  34.7455,2,     75.6,2,    74.2,2,   91.86,2,   36.99,2,    0.00,2,    2.64,2,   0.002,2,   0.000,2,  2297.1,2,  2367.9,2,  -999.0,5,-999.000,1,-999.000,-999.0000,1, -999.00,9,    0.02,2,  -198.1,2,     2.8,-999.000,9,-999.000, 10086.7,   5.5005,-999.0000, -999.00
 316N145_14,       I02E,    1111,          1,         24,     SIH036,2,19951215,       0952,    -6.3333,    88.4167,       4799,  1241.1,   4.7948,  34.7773,2,  34.7771,2,     85.3,2,    82.6,2,  100.63,2,   37.12,2,    0.00,2,    2.65,2,-999.000,5,-999.000,5,  2306.2,2,  2377.7,2,  -999.0,5,-999.000,1,-999.000,-999.0000,1, -999.00,9, -999.00,9,  -999.0,9,  -999.0,-999.000,9,-999.000, 12540.3,   4.6907,-999.0000, -999.00
 316N145_14,       I02E,    1111,          1,         23,     SIH001,2,19951215,       0952,    -6.3333,    88.4167,       4799,  1494.9,   3.9511,  34.7768,2,  34.7766,2,    101.5,2,   100.1,2,  107.66,2,   36.77,2,    0.00,2,    2.60,2,  -0.001,2,  -0.005,2,  2306.9,2,  2387.8,2,  -999.0,5,-999.000,1,-999.000,-999.0000,1, -999.00,9,    0.15,2,  -216.3,2,     2.6,-999.000,9,-999.000, 15079.0,   3.8323,-999.0000, -999.00
 316N145_14,       I02E,    1111,          1,         22,     SIH019,2,19951215,       0952,    -6.3333,    88.4167,       4799,  1745.4,   3.2886,  34.7703,2,  34.7714,2,    118.8,2,   116.1,2,  113.51,2,   36.24,2,    0.00,2,    2.55,2,-999.000,5,-999.000,5,  2305.5,2,  2396.7,2,  -999.0,5,-999.000,1,-999.000,-999.0000,1, -999.00,9,    0.12,2,  -209.0,2,     2.8,-999.000,9,-999.000, 17584.7,   3.1555,-999.0000, -999.00
 316N145_14,       I02E,    1111,          1,         21,     SIH025,2,19951215,       0952,    -6.3333,    88.4167,       4799,  1999.7,   2.6829,  34.7582,2,  34.7573,2,    133.2,2,   131.9,2,  119.35,2,   35.41,2,    0.00,2,    2.48,2,   0.001,2,  -0.003,2,  2306.5,2,  2399.8,2,  -999.0,5,-999.000,1,-999.000,-999.0000,1, -999.00,9,    0.20,2,  -210.7,2,     2.6,-999.000,9,-999.000, 20129.3,   2.5357,-999.0000, -999.00
 316N145_14,       I02E,    1111,          1,         20,     SIH004,2,19951215,       0952,    -6.3333,    88.4167,       4799,  2243.7,   2.3066,  34.7489,2,  34.7490,2,    145.4,2,   142.8,2,  123.30,2,   34.81,2,    0.00,2,    2.43,2,-999.000,5,-999.000,5,  2304.7,2,  2403.5,2,  -999.0,5,-999.000,1,-999.000,-999.0000,1, -999.00,9, -999.00,9,  -999.0,9,  -999.0,-999.000,9,-999.000, 22570.2,   2.1437,-999.0000, -999.00
 316N145_14,       I02E,    1111,          1,         19,     SIH005,2,19951215,       0952,    -6.3333,    88.4167,       4799,  2495.3,   2.0167,  34.7391,2,  34.7390,2,    155.0,2,   153.7,2,  125.17,2,   34.47,2,    0.00,2,    2.38,2,-999.000,5,-999.000,5,  2302.1,2,  2405.0,2,  -999.0,5,-999.000,1,-999.000,   1.9470,2,   14.20,2,    0.26,2,  -203.1,2,     2.1,   8.172,2,   0.089, 25087.6,   1.8362,   0.0030,    0.17
 316N145_14,       I02E,    1111,          1,         18,     SIH006,2,19951215,       0952,    -6.3333,    88.4167,       4799,  2734.3,   1.8327,  34.7338,2,  34.7337,2,    160.5,2,   159.8,2,  127.23,2,   34.35,2,    0.00,2,    2.37,2,-999.000,5,-999.000,5,  2300.9,2,  2406.0,2,  -999.0,5,-999.000,1,-999.000,   1.9480,2,   13.63,2,    0.22,2,  -202.4,2,     2.1,   8.203,2,   0.090, 27477.7,   1.6336,   0.0030,    0.17
 316N145_14,       I02E,    1111,          1,         17,     SIH038,2,19951215,       0952,    -6.3333,    88.4167,       4799,  2985.8,   1.6793,  34.7295,2,  34.7317,3,    165.2,2,   164.1,2,  129.45,2,   33.94,2,    0.00,2,    2.36,2,-999.000,5,-999.000,5,  2301.0,2,  2411.9,2,  -999.0,5,-999.000,1,-999.000,   1.8960,2,   13.24,2,    0.28,2,  -201.3,2,     2.2,   7.997,2,   0.087, 29994.2,   1.4597,   0.0040,    0.17
 316N145_14,       I02E,    1111,          1,         16,     SIH008,2,19951215,       0952,    -6.3333,    88.4167,       4799,  3241.1,   1.5382,  34.7250,2,  34.7248,2,    169.1,2,   168.5,2,  132.37,2,   33.89,2,    0.00,2,    2.33,2,   0.001,2,  -0.001,2,  2302.4,2,  2415.4,2,  -999.0,5,-999.000,1,-999.000,   0.5690,4,   10.20,4,    0.30,2,  -178.1,2,     2.7,   2.800,4,   0.012, 32548.7,   1.2969,   0.0010,    0.20
 316N145_14,       I02E,    1111,          1,         15,     SIH009,2,19951215,       0952,    -6.3333,    88.4167,       4799,  3495.3,   1.4616,  34.7234,2,  34.7225,2,    168.6,2,   168.9,2,  134.93,2,   34.07,2,    0.00,2,    2.33,2,-999.000,5,-999.000,5,  2304.5,2,  2416.1,2,  -999.0,5,-999.000,1,-999.000,   0.4730,4,   10.60,4,    0.28,2,  -189.1,2,     4.4,   2.127,4,   0.009, 35091.9,   1.1967,   0.0010,    0.21
 316N145_14,       I02E,    1111,          1,         14,     SIH010,2,19951215,       0952,    -6.3333,    88.4167,       4799,  3746.9,   1.4081,  34.7213,2,  34.7207,2,    173.1,2,   172.1,2,  135.78,2,   34.08,2,    0.00,2,    2.34,2,-999.000,5,-999.000,5,  2304.3,2,  2416.9,2,  -999.0,5,-999.000,1,-999.000,   1.9040,2,   11.58,2,    0.28,2,  -196.9,2,     4.3,   8.361,3,   0.037, 37608.5,   1.1185,   0.0040,    0.18
 316N145_14,       I02E,    1111,          1,         13,     SIH011,2,19951215,       0952,    -6.3333,    88.4167,       4799,  3899.1,   1.3976,  34.7205,2,  34.7199,2,    173.7,2,   173.9,2,  135.25,2,   33.85,2,    0.00,2,    2.32,2,-999.000,5,-999.000,5,  2303.1,2,  2415.6,2,  -999.0,5,-999.000,1,-999.000,   3.3350,4,    6.88,4,    0.24,2,  -191.3,2,     2.9,  13.940,4,   0.061, 39131.0,   1.0922,   0.0060,    0.17
 316N145_14,       I02E,    1111,          1,         12,     SIH012,2,19951215,       0952,    -6.3333,    88.4167,       4799,  4001.0,   1.3819,  34.7201,2,  34.7203,2,    175.5,2,   176.0,2,  134.72,2,   33.73,2,    0.00,2,    2.31,2,-999.000,5,-999.000,5,  2301.1,2,  2422.9,2,  -999.0,5,-999.000,1,-999.000,-999.0000,1, -999.00,9,    0.31,2,  -193.7,2,     2.6,-999.000,9,-999.000, 40150.7,   1.0660,-999.0000, -999.00
 316N145_14,       I02E,    1111,          1,         11,     SI9426,2,19951215,       0952,    -6.3333,    88.4167,       4799,  4097.3,   1.3726,  34.7192,2,  34.7186,2,    176.6,2,   177.0,2,  134.54,2,   33.69,2,    0.00,2,    2.31,2,   0.000,2,   0.000,2,  2299.2,2,  2416.1,2,  -999.0,5,-999.000,1,-999.000,-999.0000,1, -999.00,9,    0.33,2,  -199.6,2,     3.0,-999.000,9,-999.000, 41113.4,   1.0465,-999.0000, -999.00
 316N145_14,       I02E,    1111,          1,         10,     SIH014,2,19951215,       0952,    -6.3333,    88.4167,       4799,  4200.8,   1.3576,  34.7186,2,  34.7199,2,    179.5,2,   178.9,2,  133.66,2,   33.69,2,    0.00,2,    2.31,2,-999.000,5,-999.000,5,  2298.1,2,  2459.8,4,  -999.0,5,-999.000,1,-999.000,   1.9320,2,   11.91,2,    0.32,2,  -189.6,2,     2.8,   8.209,2,   0.030, 42148.6,   1.0205,   0.0100,    0.15
 316N145_14,       I02E,    1111,          1,          9,     SIH015,2,19951215,       0952,    -6.3333,    88.4167,       4799,  4297.7,   1.3508,  34.7181,2,  34.7182,2,    181.1,2,   180.4,2,  132.96,2,   33.46,2,    0.00,2,    2.29,2,-999.000,5,-999.000,5,  2295.1,2,  2409.9,2,  -999.0,5,-999.000,1,-999.000,-999.0000,1, -999.00,9,    0.35,2,  -191.2,2,     2.6,-999.000,9,-999.000, 43119.9,   1.0031,-999.0000, -999.00
 316N145_14,       I02E,    1111,          1,          8,     SIH016,2,19951215,       0952,    -6.3333,    88.4167,       4799,  4399.3,   1.3502,  34.7184,2,  34.7182,2,    181.8,2,   181.1,2,  132.44,2,   33.40,2,    0.00,2,    2.28,2,-999.000,5,-999.000,5,  2294.5,2,  2413.3,2,  -999.0,5,-999.000,1,-999.000,-999.0000,1, -999.00,9,    0.35,2,  -192.8,2,     2.6,-999.000,9,-999.000, 44134.7,   0.9911,-999.0000, -999.00
 316N145_14,       I02E,    1111,          1,          7,     SIH017,2,19951215,       0952,    -6.3333,    88.4167,       4799,  4500.4,   1.3543,  34.7180,2,  34.7184,2,    183.7,2,   181.6,2,  132.25,2,   33.53,2,    0.00,2,    2.29,2,-999.000,5,-999.000,5,  2293.7,2,  2408.0,2,  -999.0,5,-999.000,1,-999.000,   1.9110,2,   11.48,2,    0.32,2,  -188.6,2,     3.8,   8.134,2,   0.038, 45145.7,   0.9836,   0.0030,    0.14
 316N145_14,       I02E,    1111,          1,          6,     SIH018,2,19951215,       0952,    -6.3333,    88.4167,       4799,  4599.0,   1.3578,  34.7174,2,  34.7188,2,    184.4,2,   182.5,2,  131.37,2,   33.35,2,    0.00,2,    2.29,2,  -0.001,2,  -0.002,2,  2292.5,2,  2412.0,2,  -999.0,5,-999.000,1,-999.000,-999.0000,1,   11.49,2,    0.29,2,  -188.8,2,     3.1,-999.000,9,-999.000, 46133.0,   0.9756,-999.0000,    0.14
 316N145_14,       I02E,    1111,          1,          5,     SIH002,2,19951215,       0952,    -6.3333,    88.4167,       4799,  4700.1,   1.3621,  34.7176,2,  34.7176,2,    182.7,2,   182.5,2,  131.88,2,   33.24,2,    0.00,2,    2.29,2,-999.000,5,-999.000,5,  2292.3,2,  2412.7,2,  -999.0,5,-999.000,1,-999.000,-999.0000,1, -999.00,9,    0.32,2,  -184.8,2,     2.5,-999.000,9,-999.000, 47143.7,   0.9680,-999.0000, -999.00
 316N145_14,       I02E,    1111,          1,          4,     SIH020,2,19951215,       0952,    -6.3333,    88.4167,       4799,  4751.4,   1.3637,  34.7175,2,  34.7170,2,    183.3,2,   182.5,2,  131.69,2,   33.43,2,    0.00,2,    2.29,2,-999.000,5,-999.000,5,  2291.8,2,  2415.2,2,  -999.0,5,-999.000,1,-999.000,-999.0000,1, -999.00,9,    0.36,2,  -201.4,2,     2.6,-999.000,9,-999.000, 47656.5,   0.9635,-999.0000, -999.00
 316N145_14,       I02E,    1111,          1,          3,     SIH021,2,19951215,       0952,    -6.3333,    88.4167,       4799,  4802.7,   1.3665,  34.7170,2,  34.7172,2,    184.9,2,   182.9,2,  131.34,2,   33.38,2,    0.00,2,    2.28,2,-999.000,5,-999.000,5,  2292.2,2,  2408.7,2,  -999.0,5,-999.000,1,-999.000,-999.0000,1, -999.00,9,    0.35,2,  -195.0,2,     4.8,-999.000,9,-999.000, 48169.9,   0.9602,-999.0000, -999.00
 316N145_14,       I02E,    1111,          1,          2,     SIH022,2,19951215,       0952,    -6.3333,    88.4167,       4799,  4846.2,   1.3713,  34.7174,2,  34.7178,2,    184.2,2,   183.2,2,  131.66,2,   33.26,2,    0.00,2,    2.28,2,-999.000,5,-999.000,5,  2291.9,2,  2407.3,2,  -999.0,5,-999.000,1,-999.000,-999.0000,1, -999.00,9,    0.32,2,  -193.6,2,     3.7,-999.000,9,-999.000, 48604.9,   0.9596,-999.0000, -999.00
 316N145_14,       I02E,    1111,          1,          1,     SIH023,2,19951215,       0952,    -6.3333,    88.4167,       4799,  4910.0,   1.3786,  34.7174,2,  34.7160,2,    184.3,2,   183.5,2,  131.89,6,   33.23,6,    0.00,6,    2.27,6,   0.001,2,  -0.001,2,  2292.6,2,  2411.0,2,  -999.0,5,-999.000,1,-999.000,   1.8940,2,   11.44,2,    0.34,2,  -195.4,2,     2.1,   8.059,2,   0.088, 49241.2,   0.9591,   0.0030,    0.17