BOTTLE,20220829CCHSIOAMB
EXPOCODE,SECT_ID,STNNBR,CASTNO,SAMPNO,BTLNBR,BTLNBR_FLAG_W,DATE,TIME,LATITUDE,LONGITUDE,DEPTH,CTDPRS,CTDTMP,CTDSAL,CTDSAL_FLAG_W,SALNTY,SALNTY_FLAG_W,CTDOXY,CTDOXY_FLAG_W,OXYGEN,OXYGEN_FLAG_W,SILCAT,SILCAT_FLAG_W,NITRAT,NITRAT_FLAG_W,NITRIT,NITRIT_FLAG_W,PHSPHT,PHSPHT_FLAG_W,CFC-11,CFC-11_FLAG_W,CFC-12,CFC-12_FLAG_W,TCARBN,TCARBN_FLAG_W,ALKALI,ALKALI_FLAG_W,PCO2,PCO2_FLAG_W,TRITUM,TRITUM_FLAG_W,TRITER,HELIUM,HELIUM_FLAG_W,DELHE3,DELHE3_FLAG_W,DELC13,DELC13_FLAG_W,DELC14,DELC14_FLAG_W,C14ERR,NEON,NEON_FLAG_W,NEONER,CTDRAW,THETA,HELIER,DELHER
,,,,,,,,,,,METERS,DBAR,ITS-90,PSS-78,,PSS-78,,UMOL/KG,,UMOL/KG,,UMOL/KG,,UMOL/KG,,UMOL/KG,,UMOL/KG,,PMOL/KG,,PMOL/KG,,UMOL/KG,,UMOL/KG,,UATM,,TU,,TU,NMOL/KG,,PERCNT,,/MILLE,,/MILLE,,/MILLE,NMOL/KG,,NMOL/KG,DBAR,DEG C,NMOL/KG,PERCNT
 316N145_14,       I02E,    1124,          1,         36,     SIH024,2,19951218,       2101,   -10.5612,    88.1138,       4805,    12.7,  27.1089,  34.2560,2,  34.2568,2,    207.3,2,   209.0,2,    2.97,2,    0.17,2,    0.00,2,    0.11,2,-999.000,5,-999.000,5,  1924.9,2,  2245.8,2,  -999.0,5,-999.000,1,-999.000,-999.0000,1, -999.00,9, -999.00,9,  -999.0,9,  -999.0,-999.000,9,-999.000,   273.8,  27.1060,-999.0000, -999.00
 316N145_14,       I02E,    1124,          1,         35,     SIH003,2,19951218,       2101,   -10.5612,    88.1138,       4805,    57.6,  26.5687,  34.2746,2,  34.2713,2,    209.0,2,   208.9,2,    2.81,2,    0.06,2,    0.01,2,    0.13,2,-999.000,5,-999.000,5,  1931.5,2,  -999.0,9,  -999.0,5,-999.000,1,-999.000,-999.0000,1, -999.00,9, -999.00,9,  -999.0,9,  -999.0,-999.000,9,-999.000,   717.9,  26.5557,-999.0000, -999.00
 316N145_14,       I02E,    1124,          1,         34,     SIH026,2,19951218,       2101,   -10.5612,    88.1138,       4805,   106.1,  23.5771,  34.4390,2,  34.4392,2,    163.9,3,   138.8,2,   10.74,2,    9.49,2,    0.05,2,    0.74,2,-999.000,5,-999.000,5,  2023.8,2,  2261.3,2,  -999.0,5,-999.000,1,-999.000,-999.0000,1, -999.00,9, -999.00,9,  -999.0,9,  -999.0,-999.000,9,-999.000,  1196.6,  23.5551,-999.0000, -999.00
 316N145_14,       I02E,    1124,          1,         33,     SIH027,2,19951218,       2101,   -10.5612,    88.1138,       4805,   157.9,  19.0652,  34.6953,2,  34.6879,2,    111.6,2,   102.2,2,   19.56,2,   16.87,2,    0.02,2,    1.21,2,-999.000,5,-999.000,5,  -999.0,9,  -999.0,9,  -999.0,5,-999.000,1,-999.000,-999.0000,1, -999.00,9, -999.00,9,  -999.0,9,  -999.0,-999.000,9,-999.000,  1709.8,  19.0371,-999.0000, -999.00
 316N145_14,       I02E,    1124,          1,         32,     SIH028,2,19951218,       2101,   -10.5612,    88.1138,       4805,   207.0,  15.1029,  34.7287,2,  34.7266,2,     81.5,2,    81.4,2,   28.88,2,   23.08,2,    0.01,2,    1.63,2,-999.000,5,-999.000,5,  -999.0,9,  -999.0,9,  -999.0,5,-999.000,1,-999.000,-999.0000,1, -999.00,9, -999.00,9,  -999.0,9,  -999.0,-999.000,9,-999.000,  2198.7,  15.0714,-999.0000, -999.00
 316N145_14,       I02E,    1124,          1,         31,     SIH029,2,19951218,       2101,   -10.5612,    88.1138,       4805,   304.3,  11.6615,  34.7336,2,  34.7315,2,     68.6,2,    72.4,2,   36.32,2,   27.78,2,    0.01,2,    1.95,2,-999.000,5,-999.000,5,  -999.0,9,  -999.0,9,  -999.0,5,-999.000,1,-999.000,-999.0000,1, -999.00,9, -999.00,9,  -999.0,9,  -999.0,-999.000,9,-999.000,  3171.0,  11.6225,-999.0000, -999.00
 316N145_14,       I02E,    1124,          1,         30,     SIH030,2,19951218,       2101,   -10.5612,    88.1138,       4805,   407.1,  10.1311,  34.7887,2,  34.7883,2,     92.8,2,    95.3,2,   33.40,2,   27.79,2,    0.01,2,    1.92,2,-999.000,5,-999.000,5,  -999.0,9,  -999.0,9,  -999.0,5,-999.000,1,-999.000,-999.0000,1, -999.00,9, -999.00,9,  -999.0,9,  -999.0,-999.000,9,-999.000,  4198.3,  10.0831,-999.0000, -999.00
 316N145_14,       I02E,    1124,          1,         29,     SIH031,2,19951218,       2101,   -10.5612,    88.1138,       4805,   506.7,   8.5887,  34.7075,2,  34.7050,2,     86.8,2,    86.9,2,   47.22,2,   31.60,2,    0.01,2,    2.21,2,-999.000,5,-999.000,5,  -999.0,9,  -999.0,9,  -999.0,5,-999.000,1,-999.000,-999.0000,1, -999.00,9, -999.00,9,  -999.0,9,  -999.0,-999.000,9,-999.000,  5193.7,   8.5344,-999.0000, -999.00
 316N145_14,       I02E,    1124,          1,         28,     SIH032,2,19951218,       2101,   -10.5612,    88.1138,       4805,   601.1,   7.7170,  34.6960,2,  34.6940,2,     74.0,2,    75.4,2,   60.54,2,   33.85,2,    0.01,2,    2.42,2,-999.000,5,-999.000,5,  -999.0,9,  -999.0,9,  -999.0,5,-999.000,1,-999.000,-999.0000,1, -999.00,9, -999.00,9,  -999.0,9,  -999.0,-999.000,9,-999.000,  6138.5,   7.6562,-999.0000, -999.00
 316N145_14,       I02E,    1124,          1,         27,     SIH033,2,19951218,       2101,   -10.5612,    88.1138,       4805,   702.3,   6.8737,  34.6754,2,  34.6747,2,     73.8,2,    75.0,2,   72.83,2,   35.16,2,    0.00,2,    2.51,2,-999.000,5,-999.000,5,  -999.0,9,  -999.0,9,  -999.0,5,-999.000,1,-999.000,-999.0000,1, -999.00,9, -999.00,9,  -999.0,9,  -999.0,-999.000,9,-999.000,  7149.4,   6.8066,-999.0000, -999.00
 316N145_14,       I02E,    1124,          1,         26,     SIH037,2,19951218,       2101,   -10.5612,    88.1138,       4805,   802.8,   6.2455,  34.6532,2,  34.6523,2,     79.4,2,    78.8,2,   82.17,2,   35.53,2,    0.01,2,    2.56,2,-999.000,5,-999.000,5,  -999.0,9,  -999.0,9,  -999.0,5,-999.000,1,-999.000,-999.0000,1, -999.00,9, -999.00,9,  -999.0,9,  -999.0,-999.000,9,-999.000,  8155.4,   6.1720,-999.0000, -999.00
 316N145_14,       I02E,    1124,          1,         25,     SI9446,2,19951218,       2101,   -10.5612,    88.1138,       4805,  1003.7,   5.1863,  34.6405,2,  34.6392,2,     87.1,2,    87.2,2,   97.06,2,   36.17,2,    0.00,2,    2.61,2,-999.000,5,-999.000,5,  -999.0,9,  -999.0,9,  -999.0,5,-999.000,1,-999.000,-999.0000,1, -999.00,9, -999.00,9,  -999.0,9,  -999.0,-999.000,9,-999.000, 10164.6,   5.1010,-999.0000, -999.00
 316N145_14,       I02E,    1124,          1,         24,     SIH036,2,19951218,       2101,   -10.5612,    88.1138,       4805,  1253.9,   4.2885,  34.6789,2,  34.6787,2,     95.6,2,    96.1,2,  107.11,2,   36.43,2,    0.01,2,    2.63,2,-999.000,5,-999.000,5,  -999.0,9,  -999.0,9,  -999.0,5,-999.000,1,-999.000,-999.0000,1, -999.00,9, -999.00,9,  -999.0,9,  -999.0,-999.000,9,-999.000, 12667.9,   4.1881,-999.0000, -999.00
 316N145_14,       I02E,    1124,          1,         23,     SIH001,2,19951218,       2101,   -10.5612,    88.1138,       4805,  1503.7,   3.5571,  34.7233,2,  34.7223,2,    111.5,2,   111.3,2,  110.41,2,   35.92,2,    0.01,2,    2.59,2,-999.000,5,-999.000,5,  -999.0,9,  -999.0,9,  -999.0,5,-999.000,1,-999.000,-999.0000,1, -999.00,9, -999.00,9,  -999.0,9,  -999.0,-999.000,9,-999.000, 15166.5,   3.4422,-999.0000, -999.00
 316N145_14,       I02E,    1124,          1,         22,     SIH019,2,19951218,       2101,   -10.5612,    88.1138,       4805,  1758.4,   2.9319,  34.7375,2,  34.7360,2,    129.1,2,   129.3,2,  114.40,2,   35.35,2,    0.01,2,    2.51,2,-999.000,5,-999.000,5,  -999.0,9,  -999.0,9,  -999.0,5,-999.000,1,-999.000,-999.0000,1, -999.00,9, -999.00,9,  -999.0,9,  -999.0,-999.000,9,-999.000, 17714.5,   2.8025,-999.0000, -999.00
 316N145_14,       I02E,    1124,          1,         21,     SIH025,2,19951218,       2101,   -10.5612,    88.1138,       4805,  2004.3,   2.4262,  34.7340,2,  34.7305,3,    145.8,2,   145.2,2,  117.20,2,   34.58,2,    0.00,2,    2.44,2,-999.000,5,-999.000,5,  -999.0,9,  -999.0,9,  -999.0,5,-999.000,1,-999.000,-999.0000,1, -999.00,9, -999.00,9,  -999.0,9,  -999.0,-999.000,9,-999.000, 20175.0,   2.2826,-999.0000, -999.00
 316N145_14,       I02E,    1124,          1,         20,     SIH004,2,19951218,       2101,   -10.5612,    88.1138,       4805,  2256.0,   2.1453,  34.7347,2,  34.7333,2,    153.8,2,   154.0,2,  120.68,2,   34.11,2,    0.01,2,    2.40,2,-999.000,5,-999.000,5,  -999.0,9,  -999.0,9,  -999.0,5,-999.000,1,-999.000,-999.0000,1, -999.00,9, -999.00,9,  -999.0,9,  -999.0,-999.000,9,-999.000, 22692.7,   1.9840,-999.0000, -999.00
 316N145_14,       I02E,    1124,          1,         19,     SIH005,2,19951218,       2101,   -10.5612,    88.1138,       4805,  2504.3,   1.9464,  34.7311,2,  34.7300,2,    161.6,2,   160.4,2,  122.60,2,   33.92,2,    0.01,2,    2.38,2,-999.000,5,-999.000,5,  -999.0,9,  -999.0,9,  -999.0,5,-999.000,1,-999.000,-999.0000,1, -999.00,9, -999.00,9,  -999.0,9,  -999.0,-999.000,9,-999.000, 25177.9,   1.7664,-999.0000, -999.00
 316N145_14,       I02E,    1124,          1,         18,     SIH006,2,19951218,       2101,   -10.5612,    88.1138,       4805,  2753.7,   1.8311,  34.7307,2,  34.7300,2,    163.6,2,   163.1,2,  125.05,2,   33.87,2,    0.01,2,    2.37,2,-999.000,5,-999.000,5,  -999.0,9,  -999.0,9,  -999.0,5,-999.000,1,-999.000,-999.0000,1, -999.00,9, -999.00,9,  -999.0,9,  -999.0,-999.000,9,-999.000, 27672.4,   1.6303,-999.0000, -999.00
 316N145_14,       I02E,    1124,          1,         17,     SIH038,2,19951218,       2101,   -10.5612,    88.1138,       4805,  3004.2,   1.6533,  34.7261,2,  34.7266,2,    167.6,2,   167.7,2,  128.54,2,   33.88,2,    0.01,2,    2.36,2,-999.000,5,-999.000,5,  -999.0,9,  -999.0,9,  -999.0,5,-999.000,1,-999.000,-999.0000,1, -999.00,9, -999.00,9,  -999.0,9,  -999.0,-999.000,9,-999.000, 30178.8,   1.4325,-999.0000, -999.00
 316N145_14,       I02E,    1124,          1,         16,     SIH008,2,19951218,       2101,   -10.5612,    88.1138,       4805,  3253.5,   1.5398,  34.7231,2,  34.7225,2,    170.2,2,   171.2,2,  130.12,2,   33.73,2,    0.00,2,    2.35,2,-999.000,5,-999.000,5,  -999.0,9,  -999.0,9,  -999.0,5,-999.000,1,-999.000,-999.0000,1, -999.00,9, -999.00,9,  -999.0,9,  -999.0,-999.000,9,-999.000, 32672.1,   1.2973,-999.0000, -999.00
 316N145_14,       I02E,    1124,          1,         15,     SIH009,2,19951218,       2101,   -10.5612,    88.1138,       4805,  3500.4,   1.4422,  34.7200,2,  34.7203,2,    175.9,2,   175.9,2,  130.49,2,   33.52,2,    0.01,2,    2.34,2,-999.000,5,-999.000,5,  -999.0,9,  -999.0,9,  -999.0,5,-999.000,1,-999.000,-999.0000,1, -999.00,9, -999.00,9,  -999.0,9,  -999.0,-999.000,9,-999.000, 35142.5,   1.1772,-999.0000, -999.00
 316N145_14,       I02E,    1124,          1,         14,     SIH010,2,19951218,       2101,   -10.5612,    88.1138,       4805,  3749.2,   1.3584,  34.7183,2,  34.7184,2,    179.2,2,   180.1,2,  131.03,2,   33.38,2,    0.00,2,    2.32,2,-999.000,5,-999.000,5,  -999.0,9,  -999.0,9,  -999.0,5,-999.000,1,-999.000,-999.0000,1, -999.00,9, -999.00,9,  -999.0,9,  -999.0,-999.000,9,-999.000, 37631.4,   1.0699,-999.0000, -999.00
 316N145_14,       I02E,    1124,          1,         13,     SIH011,2,19951218,       2101,   -10.5612,    88.1138,       4805,  3903.4,   1.3469,  34.7180,2,  34.7178,2,    178.2,2,   179.2,2,  133.66,2,   33.49,2,    0.01,2,    2.32,2,-999.000,5,-999.000,5,  -999.0,9,  -999.0,9,  -999.0,5,-999.000,1,-999.000,-999.0000,1, -999.00,9, -999.00,9,  -999.0,9,  -999.0,-999.000,9,-999.000, 39174.4,   1.0425,-999.0000, -999.00
 316N145_14,       I02E,    1124,          1,         12,     SIH012,2,19951218,       2101,   -10.5612,    88.1138,       4805,  4005.7,   1.3388,  34.7176,2,  34.7162,2,    180.4,2,   180.1,2,  133.16,2,   33.39,2,    0.01,2,    2.32,2,-999.000,5,-999.000,5,  -999.0,9,  -999.0,9,  -999.0,5,-999.000,1,-999.000,-999.0000,1, -999.00,9, -999.00,9,  -999.0,9,  -999.0,-999.000,9,-999.000, 40197.4,   1.0236,-999.0000, -999.00
 316N145_14,       I02E,    1124,          1,         11,     SI9426,2,19951218,       2101,   -10.5612,    88.1138,       4805,  4100.1,   1.3255,  34.7170,2,  34.7166,2,    181.8,2,   181.8,2,  132.66,2,   33.35,2,    0.01,2,    2.30,2,-999.000,5,-999.000,5,  -999.0,9,  -999.0,9,  -999.0,5,-999.000,1,-999.000,-999.0000,1, -999.00,9, -999.00,9,  -999.0,9,  -999.0,-999.000,9,-999.000, 41142.3,   1.0004,-999.0000, -999.00
 316N145_14,       I02E,    1124,          1,         10,     SIH014,2,19951218,       2101,   -10.5612,    88.1138,       4805,  4200.1,   1.3202,  34.7170,2,  34.7164,2,    182.0,2,   182.4,2,  132.52,2,   33.25,2,    0.01,2,    2.31,2,-999.000,5,-999.000,5,  -999.0,9,  -999.0,9,  -999.0,5,-999.000,1,-999.000,-999.0000,1, -999.00,9, -999.00,9,  -999.0,9,  -999.0,-999.000,9,-999.000, 42141.6,   0.9843,-999.0000, -999.00
 316N145_14,       I02E,    1124,          1,          9,     SIH015,3,19951218,       2101,   -10.5612,    88.1138,       4805,  4303.9,   1.3171,  34.7165,2,  34.7154,2,    183.7,2,   183.4,2,  132.03,2,   33.15,2,    0.00,2,    2.31,2,-999.000,5,-999.000,5,  -999.0,9,  -999.0,9,  -999.0,5,-999.000,1,-999.000,-999.0000,1, -999.00,9, -999.00,9,  -999.0,9,  -999.0,-999.000,9,-999.000, 43180.0,   0.9698,-999.0000, -999.00
 316N145_14,       I02E,    1124,          1,          8,     SIH016,2,19951218,       2101,   -10.5612,    88.1138,       4805,  4402.4,   1.3025,  34.7154,2,  34.7160,2,    184.9,2,   185.4,2,  131.18,2,   33.16,2,    0.01,2,    2.30,2,-999.000,5,-999.000,5,  -999.0,9,  -999.0,9,  -999.0,5,-999.000,1,-999.000,-999.0000,1, -999.00,9, -999.00,9,  -999.0,9,  -999.0,-999.000,9,-999.000, 44165.9,   0.9446,-999.0000, -999.00
 316N145_14,       I02E,    1124,          1,          7,     SIH017,2,19951218,       2101,   -10.5612,    88.1138,       4805,  4505.7,   1.3075,  34.7158,2,  34.7162,2,    186.5,2,   186.0,2,  130.85,2,   33.11,2,    0.01,2,    2.30,2,-999.000,5,-999.000,5,  -999.0,9,  -999.0,9,  -999.0,5,-999.000,1,-999.000,-999.0000,1, -999.00,9, -999.00,9,  -999.0,9,  -999.0,-999.000,9,-999.000, 45199.4,   0.9376,-999.0000, -999.00
 316N145_14,       I02E,    1124,          1,          6,     SIH018,2,19951218,       2101,   -10.5612,    88.1138,       4805,  4604.8,   1.3114,  34.7154,2,  34.7144,2,    187.3,2,   186.7,2,  130.36,2,   33.02,2,    0.00,2,    2.29,2,-999.000,5,-999.000,5,  -999.0,9,  -999.0,9,  -999.0,5,-999.000,1,-999.000,-999.0000,1, -999.00,9, -999.00,9,  -999.0,9,  -999.0,-999.000,9,-999.000, 46190.7,   0.9300,-999.0000, -999.00
 316N145_14,       I02E,    1124,          1,          5,     SIH002,2,19951218,       2101,   -10.5612,    88.1138,       4805,  4702.7,   1.3191,  34.7152,2,  34.7144,2,    187.0,2,   187.1,2,  130.04,2,   33.03,2,    0.01,2,    2.28,2,-999.000,5,-999.000,5,  -999.0,9,  -999.0,9,  -999.0,5,-999.000,1,-999.000,-999.0000,1, -999.00,9, -999.00,9,  -999.0,9,  -999.0,-999.000,9,-999.000, 47170.0,   0.9261,-999.0000, -999.00
 316N145_14,       I02E,    1124,          1,          4,     SIH020,2,19951218,       2101,   -10.5612,    88.1138,       4805,  4759.8,   1.3222,  34.7159,2,  34.7146,2,    188.0,2,   187.4,2,  129.72,2,   32.98,2,    0.00,2,    2.28,2,-999.000,5,-999.000,5,  -999.0,9,  -999.0,9,  -999.0,5,-999.000,1,-999.000,-999.0000,1, -999.00,9, -999.00,9,  -999.0,9,  -999.0,-999.000,9,-999.000, 47741.3,   0.9224,-999.0000, -999.00
 316N145_14,       I02E,    1124,          1,          3,     SIH021,2,19951218,       2101,   -10.5612,    88.1138,       4805,  4805.8,   1.3242,  34.7161,2,  34.7144,2,    188.6,2,   187.8,2,  129.40,2,   32.93,2,    0.01,2,    2.28,2,-999.000,5,-999.000,5,  -999.0,9,  -999.0,9,  -999.0,5,-999.000,1,-999.000,-999.0000,1, -999.00,9, -999.00,9,  -999.0,9,  -999.0,-999.000,9,-999.000, 48201.2,   0.9189,-999.0000, -999.00
 316N145_14,       I02E,    1124,          1,          2,     SIH022,2,19951218,       2101,   -10.5612,    88.1138,       4805,  4856.9,   1.3308,  34.7153,2,  34.7152,2,    188.0,2,   187.9,2,  129.42,2,   32.99,2,    0.01,2,    2.28,2,-999.000,5,-999.000,5,  -999.0,9,  -999.0,9,  -999.0,5,-999.000,1,-999.000,-999.0000,1, -999.00,9, -999.00,9,  -999.0,9,  -999.0,-999.000,9,-999.000, 48711.5,   0.9192,-999.0000, -999.00
 316N145_14,       I02E,    1124,          1,          1,     SIH023,2,19951218,       2101,   -10.5612,    88.1138,       4805,  4918.1,   1.3295,  34.7152,2,  34.7146,2,    188.0,2,   188.4,2,  129.05,6,   32.87,6,    0.01,6,    2.26,6,-999.000,5,-999.000,5,  -999.0,9,  -999.0,9,  -999.0,5,-999.000,1,-999.000,-999.0000,1, -999.00,9, -999.00,9,  -999.0,9,  -999.0,-999.000,9,-999.000, 49325.1,   0.9107,-999.0000, -999.00