BOTTLE,20220829CCHSIOAMB
EXPOCODE,SECT_ID,STNNBR,CASTNO,SAMPNO,BTLNBR,BTLNBR_FLAG_W,DATE,TIME,LATITUDE,LONGITUDE,DEPTH,CTDPRS,CTDTMP,CTDSAL,CTDSAL_FLAG_W,SALNTY,SALNTY_FLAG_W,CTDOXY,CTDOXY_FLAG_W,OXYGEN,OXYGEN_FLAG_W,SILCAT,SILCAT_FLAG_W,NITRAT,NITRAT_FLAG_W,NITRIT,NITRIT_FLAG_W,PHSPHT,PHSPHT_FLAG_W,CFC-11,CFC-11_FLAG_W,CFC-12,CFC-12_FLAG_W,TCARBN,TCARBN_FLAG_W,ALKALI,ALKALI_FLAG_W,PCO2,PCO2_FLAG_W,TRITUM,TRITUM_FLAG_W,TRITER,HELIUM,HELIUM_FLAG_W,DELHE3,DELHE3_FLAG_W,DELC13,DELC13_FLAG_W,DELC14,DELC14_FLAG_W,C14ERR,NEON,NEON_FLAG_W,NEONER,CTDRAW,THETA,HELIER,DELHER
,,,,,,,,,,,METERS,DBAR,ITS-90,PSS-78,,PSS-78,,UMOL/KG,,UMOL/KG,,UMOL/KG,,UMOL/KG,,UMOL/KG,,UMOL/KG,,PMOL/KG,,PMOL/KG,,UMOL/KG,,UMOL/KG,,UATM,,TU,,TU,NMOL/KG,,PERCNT,,/MILLE,,/MILLE,,/MILLE,NMOL/KG,,NMOL/KG,DBAR,DEG C,NMOL/KG,PERCNT
 316N145_14,       I02E,    1085,          1,         36,     SIH024,2,19951207,       1044,    -8.9362,   101.3333,       5205,    16.5,  28.7931,  33.2848,2,  33.2869,2,    208.7,2,   210.4,2,    2.71,2,    0.11,2,    0.00,2,    0.04,2,   1.597,2,   0.943,2,  1845.5,2,  2178.9,2,  -999.0,5,-999.000,1,-999.000,-999.0000,1, -999.00,9, -999.00,9,  -999.0,9,  -999.0,-999.000,9,-999.000,   313.6,  28.7891,-999.0000, -999.00
 316N145_14,       I02E,    1085,          1,         35,     SIH003,2,19951207,       1044,    -8.9362,   101.3333,       5205,    31.7,  28.5471,  34.0338,2,  34.0360,2,    210.6,2,   205.0,2,    2.89,2,    0.16,2,    0.00,2,    0.13,2,   1.584,2,   0.932,2,  1901.2,2,  -999.0,9,  -999.0,5,-999.000,1,-999.000,-999.0000,1, -999.00,9, -999.00,9,  -999.0,9,  -999.0,-999.000,9,-999.000,   461.4,  28.5396,-999.0000, -999.00
 316N145_14,       I02E,    1085,          1,         34,     SIH026,2,19951207,       1044,    -8.9362,   101.3333,       5205,    62.5,  26.4523,  34.3086,2,  34.3123,2,    222.8,2,   211.9,2,    3.25,2,    0.20,2,    0.01,2,    0.15,2,   1.722,2,   0.938,2,  1939.4,2,  2253.3,2,  -999.0,5,-999.000,1,-999.000,-999.0000,1, -999.00,9, -999.00,9,  -999.0,9,  -999.0,-999.000,9,-999.000,   759.3,  26.4383,-999.0000, -999.00
 316N145_14,       I02E,    1085,          1,         33,     SIH027,2,19951207,       1044,    -8.9362,   101.3333,       5205,   101.7,  23.0665,  34.5080,2,  34.5093,2,    139.6,2,   133.9,2,   11.69,2,   11.07,2,    0.04,2,    0.82,2,   1.514,2,   0.867,2,  -999.0,9,  -999.0,9,  -999.0,5,-999.000,1,-999.000,-999.0000,1, -999.00,9, -999.00,9,  -999.0,9,  -999.0,-999.000,9,-999.000,  1144.9,  23.0457,-999.0000, -999.00
 316N145_14,       I02E,    1085,          1,         32,     SIH028,3,19951207,       1044,    -8.9362,   101.3333,       5205,   151.7,  16.1452,  34.6715,2,  34.6667,2,     93.2,2,    93.2,2,   26.81,2,   20.91,2,    0.01,2,    1.49,2,-999.000,5,-999.000,5,  -999.0,9,  -999.0,9,  -999.0,5,-999.000,1,-999.000,-999.0000,1, -999.00,9, -999.00,9,  -999.0,9,  -999.0,-999.000,9,-999.000,  1642.7,  16.1212,-999.0000, -999.00
 316N145_14,       I02E,    1085,          1,         31,     SIH029,2,19951207,       1044,    -8.9362,   101.3333,       5205,   201.5,  13.1182,  34.6143,2,  34.6126,2,     82.2,2,    90.7,2,   35.61,2,   24.59,2,    0.00,2,    1.75,2,   0.876,2,   0.466,2,  -999.0,9,  -999.0,9,  -999.0,5,-999.000,1,-999.000,-999.0000,1, -999.00,9, -999.00,9,  -999.0,9,  -999.0,-999.000,9,-999.000,  2140.5,  13.0904,-999.0000, -999.00
 316N145_14,       I02E,    1085,          1,         30,     SIH030,2,19951207,       1044,    -8.9362,   101.3333,       5205,   251.5,  11.8388,  34.7097,2,  34.6944,2,     58.8,2,    76.2,2,   37.72,2,   27.60,2,    0.00,2,    1.94,2,-999.000,5,-999.000,5,  -999.0,9,  -999.0,9,  -999.0,5,-999.000,1,-999.000,-999.0000,1, -999.00,9, -999.00,9,  -999.0,9,  -999.0,-999.000,9,-999.000,  2639.8,  11.8063,-999.0000, -999.00
 316N145_14,       I02E,    1085,          1,         29,     SIH031,2,19951207,       1044,    -8.9362,   101.3333,       5205,   301.7,  10.6568,  34.7546,2,  34.7565,2,     74.3,2,    71.8,2,   38.61,2,   29.58,2,    0.00,2,    2.05,2,   0.399,6,   0.213,6,  -999.0,9,  -999.0,9,  -999.0,5,-999.000,1,-999.000,-999.0000,1, -999.00,9, -999.00,9,  -999.0,9,  -999.0,-999.000,9,-999.000,  3142.7,  10.6203,-999.0000, -999.00
 316N145_14,       I02E,    1085,          1,         28,     SIH032,2,19951207,       1044,    -8.9362,   101.3333,       5205,   352.4,  10.3554,  34.8334,2,  34.8428,2,     65.6,2,    66.9,2,   35.62,2,   30.57,2,    0.00,2,    2.09,2,-999.000,5,-999.000,5,  -999.0,9,  -999.0,9,  -999.0,5,-999.000,1,-999.000,-999.0000,1, -999.00,9, -999.00,9,  -999.0,9,  -999.0,-999.000,9,-999.000,  3650.9,  10.3134,-999.0000, -999.00
 316N145_14,       I02E,    1085,          1,         27,     SIH033,2,19951207,       1044,    -8.9362,   101.3333,       5205,   401.5,   9.8888,  34.8326,2,  34.8318,2,     66.0,2,    66.8,2,   38.80,2,   31.50,2,    0.00,2,    2.16,2,   0.191,2,   0.111,2,  -999.0,9,  -999.0,9,  -999.0,5,-999.000,1,-999.000,-999.0000,1, -999.00,9, -999.00,9,  -999.0,9,  -999.0,-999.000,9,-999.000,  4141.5,   9.8422,-999.0000, -999.00
 316N145_14,       I02E,    1085,          1,         26,     SIH037,2,19951207,       1044,    -8.9362,   101.3333,       5205,   501.7,   9.2314,  34.8425,2,  34.8405,2,     67.9,2,    67.6,2,   41.97,2,   32.54,2,    0.00,2,    2.26,2,   0.087,6,   0.056,2,  -999.0,9,  -999.0,9,  -999.0,5,-999.000,1,-999.000,-999.0000,1, -999.00,9, -999.00,9,  -999.0,9,  -999.0,-999.000,9,-999.000,  5143.5,   9.1752,-999.0000, -999.00
 316N145_14,       I02E,    1085,          1,         25,     SI9446,2,19951207,       1044,    -8.9362,   101.3333,       5205,   602.6,   8.3064,  34.7937,2,  34.7929,2,     61.3,2,    65.1,2,   54.11,2,   34.26,2,    0.00,2,    2.42,2,   0.038,2,   0.026,2,  -999.0,9,  -999.0,9,  -999.0,5,-999.000,1,-999.000,-999.0000,1, -999.00,9, -999.00,9,  -999.0,9,  -999.0,-999.000,9,-999.000,  6152.7,   8.2426,-999.0000, -999.00
 316N145_14,       I02E,    1085,          1,         24,     SIH036,2,19951207,       1044,    -8.9362,   101.3333,       5205,   702.7,   7.5464,  34.7737,2,  34.7736,2,     63.4,2,    62.5,2,   66.77,2,   35.46,2,    0.00,2,    2.55,2,   0.027,2,   0.013,2,  -999.0,9,  -999.0,9,  -999.0,5,-999.000,1,-999.000,-999.0000,1, -999.00,9, -999.00,9,  -999.0,9,  -999.0,-999.000,9,-999.000,  7154.8,   7.4756,-999.0000, -999.00
 316N145_14,       I02E,    1085,          1,         23,     SIH001,2,19951207,       1044,    -8.9362,   101.3333,       5205,   803.1,   7.0653,  34.7749,2,  34.7740,2,     66.4,2,    62.5,2,   74.16,2,   35.98,2,    0.00,2,    2.60,2,   0.017,2,   0.008,2,  -999.0,9,  -999.0,9,  -999.0,5,-999.000,1,-999.000,-999.0000,1, -999.00,9, -999.00,9,  -999.0,9,  -999.0,-999.000,9,-999.000,  8158.4,   6.9867,-999.0000, -999.00
 316N145_14,       I02E,    1085,          1,         22,     SIH019,2,19951207,       1044,    -8.9362,   101.3333,       5205,   904.3,   6.5009,  34.7517,2,  34.7504,2,     67.1,2,    67.3,2,   82.09,2,   36.29,2,    0.00,2,    2.64,2,  -0.002,2,   0.005,2,  -999.0,9,  -999.0,9,  -999.0,5,-999.000,1,-999.000,-999.0000,1, -999.00,9, -999.00,9,  -999.0,9,  -999.0,-999.000,9,-999.000,  9170.2,   6.4156,-999.0000, -999.00
 316N145_14,       I02E,    1085,          1,         21,     SIH025,2,19951207,       1044,    -8.9362,   101.3333,       5205,  1004.8,   5.9149,  34.7438,2,  34.7431,2,     73.2,2,    70.9,2,   89.83,2,   36.65,2,    0.00,2,    2.67,2,   0.009,2,   0.003,2,  -999.0,9,  -999.0,9,  -999.0,5,-999.000,1,-999.000,-999.0000,1, -999.00,9, -999.00,9,  -999.0,9,  -999.0,-999.000,9,-999.000, 10176.5,   5.8238,-999.0000, -999.00
 316N145_14,       I02E,    1085,          1,         20,     SIH004,2,19951207,       1044,    -8.9362,   101.3333,       5205,  1095.8,   5.1124,  34.6694,2,  34.6694,2,     89.4,2,    84.6,2,   99.52,2,   36.45,2,    0.00,2,    2.64,2,   0.018,2,   0.009,2,  -999.0,9,  -999.0,9,  -999.0,5,-999.000,1,-999.000,-999.0000,1, -999.00,9, -999.00,9,  -999.0,9,  -999.0,-999.000,9,-999.000, 11086.3,   5.0191,-999.0000, -999.00
 316N145_14,       I02E,    1085,          1,         19,     SIH005,2,19951207,       1044,    -8.9362,   101.3333,       5205,  1194.8,   4.6455,  34.6559,2,  34.6557,2,     92.7,2,    91.3,2,  105.69,2,   36.45,2,    0.00,2,    2.64,2,   0.016,2,   0.008,2,  -999.0,9,  -999.0,9,  -999.0,5,-999.000,1,-999.000,-999.0000,1, -999.00,9, -999.00,9,  -999.0,9,  -999.0,-999.000,9,-999.000, 12077.3,   4.5472,-999.0000, -999.00
 316N145_14,       I02E,    1085,          1,         18,     SIH006,2,19951207,       1044,    -8.9362,   101.3333,       5205,  1397.1,   4.0804,  34.7064,2,  34.7076,2,     99.2,2,    97.7,2,  110.08,2,   36.55,2,    0.00,2,    2.65,2,   0.002,2,   0.001,2,  -999.0,9,  -999.0,9,  -999.0,5,-999.000,1,-999.000,-999.0000,1, -999.00,9, -999.00,9,  -999.0,9,  -999.0,-999.000,9,-999.000, 14100.2,   3.9693,-999.0000, -999.00
 316N145_14,       I02E,    1085,          1,         17,     SIH038,2,19951207,       1044,    -8.9362,   101.3333,       5205,  1600.1,   3.4240,  34.7295,2,  34.7286,2,    113.3,2,   112.2,2,  113.79,2,   36.09,2,    0.00,2,    2.60,2,   0.000,2,   0.000,2,  -999.0,9,  -999.0,9,  -999.0,5,-999.000,1,-999.000,-999.0000,1, -999.00,9, -999.00,9,  -999.0,9,  -999.0,-999.000,9,-999.000, 16131.7,   3.3022,-999.0000, -999.00
 316N145_14,       I02E,    1085,          1,         16,     SIH008,2,19951207,       1044,    -8.9362,   101.3333,       5205,  1795.8,   2.9399,  34.7438,2,  34.7421,2,    124.0,2,   124.4,2,  118.02,2,   35.67,2,    0.00,2,    2.55,2,-999.000,5,-999.000,5,  -999.0,9,  -999.0,9,  -999.0,5,-999.000,1,-999.000,-999.0000,1, -999.00,9, -999.00,9,  -999.0,9,  -999.0,-999.000,9,-999.000, 18088.4,   2.8071,-999.0000, -999.00
 316N145_14,       I02E,    1085,          1,         15,     SIH009,2,19951207,       1044,    -8.9362,   101.3333,       5205,  1998.4,   2.5333,  34.7418,2,  34.7416,2,    137.3,2,   136.1,2,  121.37,2,   35.21,2, -999.00,5,    2.51,2,  -0.001,2,  -0.001,2,  -999.0,9,  -999.0,9,  -999.0,5,-999.000,1,-999.000,-999.0000,1, -999.00,9, -999.00,9,  -999.0,9,  -999.0,-999.000,9,-999.000, 20115.0,   2.3885,-999.0000, -999.00
 316N145_14,       I02E,    1085,          1,         14,     SIH010,2,19951207,       1044,    -8.9362,   101.3333,       5205,  2246.5,   2.2389,  34.7407,2,  34.7404,2,    143.2,2,   144.5,2,  124.38,2,   34.85,2, -999.00,5,    2.47,2,-999.000,5,-999.000,5,  -999.0,9,  -999.0,9,  -999.0,5,-999.000,1,-999.000,-999.0000,1, -999.00,9, -999.00,9,  -999.0,9,  -999.0,-999.000,9,-999.000, 22598.1,   2.0769,-999.0000, -999.00
 316N145_14,       I02E,    1085,          1,         13,     SIH011,2,19951207,       1044,    -8.9362,   101.3333,       5205,  2489.0,   2.0080,  34.7359,2,  34.7362,2,    152.1,2,   154.0,2,  125.80,2,   34.54,2,    0.00,2,    2.42,2,  -0.001,2,  -0.003,2,  -999.0,9,  -999.0,9,  -999.0,5,-999.000,1,-999.000,-999.0000,1, -999.00,9, -999.00,9,  -999.0,9,  -999.0,-999.000,9,-999.000, 25024.3,   1.8282,-999.0000, -999.00
 316N145_14,       I02E,    1085,          1,         12,     SIH012,2,19951207,       1044,    -8.9362,   101.3333,       5205,  2742.4,   1.8284,  34.7308,2,  34.7309,2,    160.8,2,   160.5,2,  127.22,2,   34.23,2,    0.00,2,    2.39,2,-999.000,5,-999.000,5,  -999.0,9,  -999.0,9,  -999.0,5,-999.000,1,-999.000,-999.0000,1, -999.00,9, -999.00,9,  -999.0,9,  -999.0,-999.000,9,-999.000, 27560.1,   1.6287,-999.0000, -999.00
 316N145_14,       I02E,    1085,          1,         11,     SI9425,2,19951207,       1044,    -8.9362,   101.3333,       5205,  2996.8,   1.6902,  34.7272,2,  34.7278,2,    165.1,2,   164.6,2,  129.69,2,   34.08,2,    0.00,2,    2.38,2,-999.000,5,-999.000,5,  -999.0,9,  -999.0,9,  -999.0,5,-999.000,1,-999.000,-999.0000,1, -999.00,9, -999.00,9,  -999.0,9,  -999.0,-999.000,9,-999.000, 30105.3,   1.4693,-999.0000, -999.00
 316N145_14,       I02E,    1085,          1,         10,     SIH014,2,19951207,       1044,    -8.9362,   101.3333,       5205,  3245.3,   1.5352,  34.7221,2,  34.7227,2,    171.6,2,   171.2,2,  130.05,2,   33.82,2,    0.00,2,    2.37,2,-999.000,5,-999.000,5,  -999.0,9,  -999.0,9,  -999.0,5,-999.000,1,-999.000,-999.0000,1, -999.00,9, -999.00,9,  -999.0,9,  -999.0,-999.000,9,-999.000, 32590.9,   1.2936,-999.0000, -999.00
 316N145_14,       I02E,    1085,          1,          9,     SIH015,2,19951207,       1044,    -8.9362,   101.3333,       5205,  3495.7,   1.3651,  34.7178,2,  34.7184,2,    179.6,2,   178.9,2,  130.94,2,   33.35,2,    0.00,2,    2.33,2,  -0.001,2,  -0.001,2,  -999.0,9,  -999.0,9,  -999.0,5,-999.000,1,-999.000,-999.0000,1, -999.00,9, -999.00,9,  -999.0,9,  -999.0,-999.000,9,-999.000, 35095.9,   1.1026,-999.0000, -999.00
 316N145_14,       I02E,    1085,          1,          8,     SIH016,2,19951207,       1044,    -8.9362,   101.3333,       5205,  3739.2,   1.2431,  34.7153,2,  34.7148,2,    185.5,2,   185.0,2,  130.96,2,   33.25,2,    0.00,2,    2.31,2,-999.000,5,-999.000,5,  -999.0,9,  -999.0,9,  -999.0,5,-999.000,1,-999.000,-999.0000,1, -999.00,9, -999.00,9,  -999.0,9,  -999.0,-999.000,9,-999.000, 37532.3,   0.9588,-999.0000, -999.00
 316N145_14,       I02E,    1085,          1,          7,     SIH017,2,19951207,       1044,    -8.9362,   101.3333,       5205,  3994.6,   1.1735,  34.7127,2,  34.7134,2,    189.0,2,   190.1,2,  130.09,2,   33.05,2,    0.00,2,    2.28,2,-999.000,5,-999.000,5,  -999.0,9,  -999.0,9,  -999.0,5,-999.000,1,-999.000,-999.0000,1, -999.00,9, -999.00,9,  -999.0,9,  -999.0,-999.000,9,-999.000, 40086.5,   0.8642,-999.0000, -999.00
 316N145_14,       I02E,    1085,          1,          6,     SIH018,2,19951207,       1044,    -8.9362,   101.3333,       5205,  4239.7,   1.1544,  34.7123,2,  34.7132,2,    194.2,2,   192.4,2,  129.40,2,   32.95,2,    0.00,2,    2.27,2,-999.000,5,-999.000,5,  -999.0,9,  -999.0,9,  -999.0,5,-999.000,1,-999.000,-999.0000,1, -999.00,9, -999.00,9,  -999.0,9,  -999.0,-999.000,9,-999.000, 42538.8,   0.8191,-999.0000, -999.00
 316N145_14,       I02E,    1085,          1,          5,     SIH002,3,19951207,       1044,    -8.9362,   101.3333,       5205,  4494.5,   1.1546,  34.7118,2,  34.7150,4,    195.3,2,   186.2,4,  130.11,4,   33.20,4,    0.00,4,    2.30,4,   0.001,2,   0.000,2,  -999.0,9,  -999.0,9,  -999.0,5,-999.000,1,-999.000,-999.0000,1, -999.00,9, -999.00,9,  -999.0,9,  -999.0,-999.000,9,-999.000, 45087.5,   0.7909,-999.0000, -999.00
 316N145_14,       I02E,    1085,          1,          4,     SIH020,2,19951207,       1044,    -8.9362,   101.3333,       5205,  4750.3,   1.1672,  34.7114,2,  34.7117,2,    197.5,2,   195.3,2,  128.37,2,   32.74,2,    0.00,2,    2.26,2,-999.000,5,-999.000,5,  -999.0,9,  -999.0,9,  -999.0,5,-999.000,1,-999.000,-999.0000,1, -999.00,9, -999.00,9,  -999.0,9,  -999.0,-999.000,9,-999.000, 47646.7,   0.7736,-999.0000, -999.00
 316N145_14,       I02E,    1085,          1,          3,     SIH021,2,19951207,       1044,    -8.9362,   101.3333,       5205,  4996.1,   1.1860,  34.7109,2,  34.7117,2,    197.2,2,   196.1,2,  128.21,2,   32.68,2,    0.00,2,    2.26,2,-999.000,5,-999.000,5,  -999.0,9,  -999.0,9,  -999.0,5,-999.000,1,-999.000,-999.0000,1, -999.00,9, -999.00,9,  -999.0,9,  -999.0,-999.000,9,-999.000, 50105.5,   0.7627,-999.0000, -999.00
 316N145_14,       I02E,    1085,          1,          2,     SIH022,2,19951207,       1044,    -8.9362,   101.3333,       5205,  5195.4,   1.2049,  34.7110,2,  34.7111,2,    197.9,2,   196.5,2,  128.04,2,   32.68,2,    0.00,2,    2.26,2,   0.001,2,  -0.002,2,  -999.0,9,  -999.0,9,  -999.0,5,-999.000,1,-999.000,-999.0000,1, -999.00,9, -999.00,9,  -999.0,9,  -999.0,-999.000,9,-999.000, 52099.9,   0.7568,-999.0000, -999.00
 316N145_14,       I02E,    1085,          1,          1,     SIH023,2,19951207,       1044,    -8.9362,   101.3333,       5205,  5319.7,   1.2198,  34.7107,2,  34.7117,2,    197.6,2,   196.8,2,  127.88,6,   32.63,6,    0.00,6,    2.25,6,   0.001,2,  -0.001,2,  -999.0,9,  -999.0,9,  -999.0,5,-999.000,1,-999.000,-999.0000,1, -999.00,9, -999.00,9,  -999.0,9,  -999.0,-999.000,9,-999.000, 53345.5,   0.7559,-999.0000, -999.00