BOTTLE,20220829CCHSIOAMB
EXPOCODE,SECT_ID,STNNBR,CASTNO,SAMPNO,BTLNBR,BTLNBR_FLAG_W,DATE,TIME,LATITUDE,LONGITUDE,DEPTH,CTDPRS,CTDTMP,CTDSAL,CTDSAL_FLAG_W,SALNTY,SALNTY_FLAG_W,CTDOXY,CTDOXY_FLAG_W,OXYGEN,OXYGEN_FLAG_W,SILCAT,SILCAT_FLAG_W,NITRAT,NITRAT_FLAG_W,NITRIT,NITRIT_FLAG_W,PHSPHT,PHSPHT_FLAG_W,CFC-11,CFC-11_FLAG_W,CFC-12,CFC-12_FLAG_W,TCARBN,TCARBN_FLAG_W,ALKALI,ALKALI_FLAG_W,PCO2,PCO2_FLAG_W,TRITUM,TRITUM_FLAG_W,TRITER,HELIUM,HELIUM_FLAG_W,DELHE3,DELHE3_FLAG_W,DELC13,DELC13_FLAG_W,DELC14,DELC14_FLAG_W,C14ERR,NEON,NEON_FLAG_W,NEONER,CTDRAW,THETA,HELIER,DELHER
,,,,,,,,,,,METERS,DBAR,ITS-90,PSS-78,,PSS-78,,UMOL/KG,,UMOL/KG,,UMOL/KG,,UMOL/KG,,UMOL/KG,,UMOL/KG,,PMOL/KG,,PMOL/KG,,UMOL/KG,,UMOL/KG,,UATM,,TU,,TU,NMOL/KG,,PERCNT,,/MILLE,,/MILLE,,/MILLE,NMOL/KG,,NMOL/KG,DBAR,DEG C,NMOL/KG,PERCNT
 316N145_14,       I02E,    1106,          1,         36,     SIH024,2,19951214,       0353,    -6.0000,    88.4750,       4440,     8.6,  27.6546,  33.7756,2,  33.7799,2,    225.9,2,   205.6,2,    2.56,2,    0.13,2,    0.00,2,    0.10,2,   1.655,2,   0.959,2,  1883.5,2,  2214.9,2,  -999.0,5,   1.106,2,   0.004,   1.7205,2,   -1.07,2, -999.00,9,  -999.0,9,  -999.0,   6.672,2,-999.000,   223.6,  27.6526,-999.0000, -999.00
 316N145_14,       I02E,    1106,          1,         35,     SIH003,2,19951214,       0353,    -6.0000,    88.4750,       4440,    56.4,  22.9159,  35.2587,2,  35.2509,2,    119.2,2,   118.5,2,    8.66,2,   11.04,2,    0.55,2,    0.91,2,   1.523,2,   0.842,2,  2082.1,2,  2308.8,2,  -999.0,5,   0.923,2,   0.004,-999.0000,1, -999.00,9, -999.00,9,  -999.0,9,  -999.0,-999.000,9,-999.000,   694.8,  22.9044,-999.0000, -999.00
 316N145_14,       I02E,    1106,          1,         34,     SIH026,2,19951214,       0353,    -6.0000,    88.4750,       4440,   100.9,  17.9929,  35.1076,2,  35.0825,2,     74.3,2,    65.9,2,   17.63,2,   22.05,2,    0.02,2,    1.49,2,   1.167,6,   0.630,6,  2154.6,2,  2304.6,2,  -999.0,5,   0.863,2,   0.004,   1.7691,2,    5.16,2, -999.00,9,  -999.0,9,  -999.0,   7.111,2,-999.000,  1138.9,  17.9756,-999.0000, -999.00
 316N145_14,       I02E,    1106,          1,         33,     SIH027,2,19951214,       0353,    -6.0000,    88.4750,       4440,   149.7,  13.9225,  34.8480,2,  34.8454,2,     60.6,2,    61.6,2,   28.59,2,   26.53,2,    0.01,2,    1.82,2,   0.717,2,   0.376,2,  2188.9,2,  2307.4,2,  -999.0,5,   0.695,2,   0.003,   1.7985,2,    8.16,2, -999.00,9,  -999.0,9,  -999.0,   7.339,2,-999.000,  1626.5,  13.9010,-999.0000, -999.00
 316N145_14,       I02E,    1106,          1,         32,     SIH028,2,19951214,       0353,    -6.0000,    88.4750,       4440,   198.0,  12.9630,  34.9583,2,  34.9614,2,     63.5,2,    65.7,2,   25.71,2,   26.74,2,    0.00,2,    1.82,2,   0.617,2,   0.319,2,  2197.7,2,  2308.9,2,  -999.0,5,   0.537,2,   0.003,   1.7854,2,    6.93,2, -999.00,9,  -999.0,9,  -999.0,   6.661,2,-999.000,  2108.5,  12.9358,-999.0000, -999.00
 316N145_14,       I02E,    1106,          1,         31,     SIH029,2,19951214,       0353,    -6.0000,    88.4750,       4440,   297.6,  11.4480,  34.9734,2,  34.9662,2,     71.8,2,    68.8,2,   25.71,2,   28.51,2,    0.00,2,    1.91,2,   0.341,6,   0.177,6,  2210.0,2,  2314.5,2,  -999.0,5,-999.000,1,-999.000,   1.8015,2,    5.40,2, -999.00,9,  -999.0,9,  -999.0,   7.174,2,-999.000,  3104.9,  11.4101,-999.0000, -999.00
 316N145_14,       I02E,    1106,          1,         30,     SIH030,2,19951214,       0353,    -6.0000,    88.4750,       4440,   398.6,  10.2797,  34.9094,2,  34.9087,2,     65.1,2,    68.9,2,   30.74,2,   30.79,2,    0.00,2,    2.05,2,   0.166,2,   0.089,2,  2221.8,2,  2315.1,2,  -999.0,5,   0.149,2,   0.002,   1.7998,2,    4.89,2, -999.00,9,  -999.0,9,  -999.0,   7.362,2,-999.000,  4114.6,  10.2322,-999.0000, -999.00
 316N145_14,       I02E,    1106,          1,         29,     SIH031,3,19951214,       0353,    -6.0000,    88.4750,       4440,   498.7,   9.4012,  34.8638,2,  34.8607,2,     65.8,2,    67.8,2,   38.65,2,   32.41,2,    0.00,2,    2.20,2,-999.000,5,-999.000,5,  2233.8,2,  2323.5,2,  -999.0,5,-999.000,1,-999.000,   1.8260,2,    5.43,2, -999.00,9,  -999.0,9,  -999.0,   7.488,2,-999.000,  5115.7,   9.3447,-999.0000, -999.00
 316N145_14,       I02E,    1106,          1,         28,     SIH032,2,19951214,       0353,    -6.0000,    88.4750,       4440,   594.4,   8.7062,  34.8548,2,  34.8530,2,     62.8,2,    61.8,2,   48.89,2,   33.97,2,    0.00,2,    2.37,2,   0.036,2,   0.025,2,  2252.6,2,  2328.6,2,  -999.0,5,-999.000,1,-999.000,-999.0000,1, -999.00,9, -999.00,9,  -999.0,9,  -999.0,-999.000,9,-999.000,  6072.1,   8.6416,-999.0000, -999.00
 316N145_14,       I02E,    1106,          1,         27,     SIH033,2,19951214,       0353,    -6.0000,    88.4750,       4440,   797.2,   6.8834,  34.7937,2,  34.7954,2,     64.2,2,    63.8,2,   74.24,2,   36.10,2,    0.00,2,    2.59,2,   0.006,2,   0.003,2,  2282.7,2,  2359.3,2,  -999.0,5,-999.000,1,-999.000,   1.8490,2,   10.25,2, -999.00,9,  -999.0,9,  -999.0,   7.715,2,   0.015,  8099.1,   6.8065,   0.0060,    0.20
 316N145_14,       I02E,    1106,          1,         26,     SIH037,2,19951214,       0353,    -6.0000,    88.4750,       4440,   998.8,   5.6959,  34.7731,2,  34.7730,2,     73.3,2,    72.2,2,   90.06,2,   36.73,2,    0.00,2,    2.64,2,   0.001,2,  -0.001,2,  2299.2,2,  2368.8,2,  -999.0,5,-999.000,1,-999.000,   1.8750,2,   12.55,2, -999.00,9,  -999.0,9,  -999.0,   7.832,2,   0.015, 10116.7,   5.6070,   0.0060,    0.20
 316N145_14,       I02E,    1106,          1,         25,     SI9446,2,19951214,       0353,    -6.0000,    88.4750,       4440,  1245.2,   4.7186,  34.7847,2,  34.7870,2,     86.7,2,    85.1,2,  100.31,2,   36.73,2,    0.00,2,    2.64,2,   0.000,2,   0.001,2,  2306.7,2,  2384.5,2,  -999.0,5,-999.000,1,-999.000,   1.8760,2,   12.88,2, -999.00,9,  -999.0,9,  -999.0,   7.873,2,   0.021, 12581.6,   4.6147,   0.0050,    0.17
 316N145_14,       I02E,    1106,          1,         24,     SIH036,2,19951214,       0353,    -6.0000,    88.4750,       4440,  1496.7,   4.0048,  34.7878,2,  34.7878,2,    100.0,2,   100.8,2,  106.43,2,   36.32,2,    0.00,2,    2.60,2,-999.000,5,-999.000,5,  2307.0,2,  2385.6,2,  -999.0,5,-999.000,1,-999.000,   1.8760,2,   13.05,2, -999.00,9,  -999.0,9,  -999.0,   7.903,2,   0.015, 15097.2,   3.8853,   0.0060,    0.20
 316N145_14,       I02E,    1106,          1,         23,     SIH001,2,19951214,       0353,    -6.0000,    88.4750,       4440,  1743.8,   3.2723,  34.7708,2,  34.7699,2,    118.6,2,   118.0,2,  113.28,2,   35.69,2,    0.00,2,    2.53,2,-999.000,5,-999.000,5,  2306.9,2,  2398.0,2,  -999.0,5,-999.000,1,-999.000,   1.8920,2,   13.63,2, -999.00,9,  -999.0,9,  -999.0,   8.011,2,   0.015, 17568.6,   3.1396,   0.0060,    0.20
 316N145_14,       I02E,    1106,          1,         22,     SIH019,2,19951214,       0353,    -6.0000,    88.4750,       4440,  1991.1,   2.6978,  34.7596,2,  34.7575,2,    130.8,2,   132.0,2,  119.57,2,   35.28,2,    0.00,2,    2.48,2,   0.000,2,  -0.003,2,  2306.7,2,  2399.1,2,  -999.0,5,-999.000,1,-999.000,   1.9150,2,   13.98,2, -999.00,9,  -999.0,9,  -999.0,   8.094,2,   0.016, 20042.6,   2.5511,   0.0070,    0.20
 316N145_14,       I02E,    1106,          1,         21,     SIH025,3,19951214,       0353,    -6.0000,    88.4750,       4440,  2249.4,   2.2800,  34.7491,2,  34.7467,2,    141.8,2,   143.9,2,  123.99,6,   34.85,6,    0.00,6,    2.42,6,-999.000,5,-999.000,5,  2306.0,2,  2408.3,2,  -999.0,5,-999.000,1,-999.000,   1.6220,4,   14.07,4, -999.00,9,  -999.0,9,  -999.0,   6.521,4,   0.013, 22627.1,   2.1170,   0.0050,    0.21
 316N145_14,       I02E,    1106,          1,         20,     SIH004,2,19951214,       0353,    -6.0000,    88.4750,       4440,  2492.5,   2.0185,  34.7394,2,  34.7392,2,    152.1,2,   152.7,2,  126.25,6,   34.48,6,    0.00,6,    2.38,6,-999.000,5,-999.000,5,  2303.3,2,  2406.4,2,  -999.0,5,-999.000,1,-999.000,-999.0000,5, -999.00,5, -999.00,9,  -999.0,9,  -999.0,  14.110,4,   0.027, 25059.0,   1.8382,-999.0000, -999.00
 316N145_14,       I02E,    1106,          1,         19,     SIH005,2,19951214,       0353,    -6.0000,    88.4750,       4440,  2746.9,   1.8699,  34.7344,2,  34.7355,2,    157.0,2,   157.3,2,  128.14,6,   34.34,6,    0.00,6,    2.37,6,-999.000,5,-999.000,5,  2304.4,2,  2410.4,2,  -999.0,5,-999.000,1,-999.000,-999.0000,1, -999.00,9, -999.00,9,  -999.0,9,  -999.0,-999.000,9,-999.000, 27603.6,   1.6689,-999.0000, -999.00
 316N145_14,       I02E,    1106,          1,         18,     SIH006,2,19951214,       0353,    -6.0000,    88.4750,       4440,  2994.8,   1.7061,  34.7295,2,  34.7290,2,    162.3,2,   162.1,2,  131.32,2,   33.94,2,    0.00,2,    2.38,2,-999.000,5,-999.000,5,  2305.3,2,  2414.8,2,  -999.0,5,-999.000,1,-999.000,   1.9410,2,   12.84,2, -999.00,9,  -999.0,9,  -999.0,   1.569,4,   0.004, 30083.5,   1.4850,   0.0070,    0.20
 316N145_14,       I02E,    1106,          1,         17,     SIH038,2,19951214,       0353,    -6.0000,    88.4750,       4440,  3191.9,   1.5477,  34.7246,2,  34.7252,2,    165.9,2,   165.7,2,  134.04,2,   34.21,2,   -0.01,2,    2.36,2,-999.000,5,-999.000,5,  2305.3,2,  2417.1,2,  -999.0,5,-999.000,1,-999.000,   1.9240,2,   12.25,2, -999.00,9,  -999.0,9,  -999.0,   8.169,2,   0.016, 32055.5,   1.3111,   0.0060,    0.20
 316N145_14,       I02E,    1106,          1,         16,     SIH008,2,19951214,       0353,    -6.0000,    88.4750,       4440,  3396.4,   1.4524,  34.7212,2,  34.7211,2,    167.9,2,   170.8,2,  133.86,2,   33.85,2,    0.00,2,    2.34,2,-999.000,5,-999.000,5,  2302.7,2,  2417.6,2,  -999.0,5,-999.000,1,-999.000,   1.9120,2,   12.07,2, -999.00,9,  -999.0,9,  -999.0,   8.185,2,   0.016, 34101.7,   1.1977,   0.0070,    0.20
 316N145_14,       I02E,    1106,          1,         15,     SIH009,2,19951214,       0353,    -6.0000,    88.4750,       4440,  3498.2,   1.4274,  34.7208,2,  34.7209,2,    172.3,2,   172.3,2,  133.34,2,   33.64,2,    0.00,2,    2.33,2,  -0.001,2,   0.000,2,  2302.3,2,  2415.5,2,  -999.0,5,-999.000,1,-999.000,-999.0000,1, -999.00,9, -999.00,9,  -999.0,9,  -999.0,-999.000,9,-999.000, 35119.3,   1.1630,-999.0000, -999.00
 316N145_14,       I02E,    1106,          1,         14,     SIH010,2,19951214,       0353,    -6.0000,    88.4750,       4440,  3598.9,   1.4223,  34.7207,2,  34.7213,2,    172.8,2,   172.7,2,  133.17,2,   33.59,2,    0.00,2,    2.33,2,-999.000,5,-999.000,5,  2302.1,2,  2419.0,2,  -999.0,5,-999.000,1,-999.000,   1.5300,4,   11.96,4, -999.00,9,  -999.0,9,  -999.0,   6.170,4,   0.012, 36127.0,   1.1477,   0.0050,    0.21
 316N145_14,       I02E,    1106,          1,         13,     SIH011,2,19951214,       0353,    -6.0000,    88.4750,       4440,  3702.1,   1.4078,  34.7194,2,  34.7195,2,    173.5,2,   173.5,2,  133.90,2,   33.75,2,    0.00,2,    2.33,2,-999.000,5,-999.000,5,  2302.5,2,  2418.2,2,  -999.0,5,-999.000,1,-999.000,-999.0000,1, -999.00,9, -999.00,9,  -999.0,9,  -999.0,-999.000,9,-999.000, 37159.2,   1.1229,-999.0000, -999.00
 316N145_14,       I02E,    1106,          1,         12,     SIH012,2,19951214,       0353,    -6.0000,    88.4750,       4440,  3803.5,   1.4010,  34.7182,2,  34.7176,2,    173.5,2,   173.8,2,  135.00,2,   33.80,2,    0.00,2,    2.33,2,-999.000,5,-999.000,5,  2304.2,2,  2442.7,3,  -999.0,5,-999.000,1,-999.000,   2.3260,4,    9.94,4, -999.00,9,  -999.0,9,  -999.0,   9.391,4,   0.052, 38174.3,   1.1057,   0.0040,    0.18
 316N145_14,       I02E,    1106,          1,         11,     SI9426,2,19951214,       0353,    -6.0000,    88.4750,       4440,  3899.4,   1.3887,  34.7185,2,  34.7184,2,    173.6,2,   175.4,2,  134.47,2,   33.75,2,    0.00,2,    2.33,2,-999.000,5,-999.000,5,  2301.7,2,  2417.4,2,  -999.0,5,-999.000,1,-999.000,-999.0000,1, -999.00,9, -999.00,9,  -999.0,9,  -999.0,-999.000,9,-999.000, 39132.7,   1.0835,-999.0000, -999.00
 316N145_14,       I02E,    1106,          1,         10,     SIH014,2,19951214,       0353,    -6.0000,    88.4750,       4440,  4002.1,   1.3817,  34.7181,2,  34.7180,2,    175.9,2,   176.5,2,  134.67,2,   33.76,2,    0.00,2,    2.32,2,  -0.002,2,  -0.001,2,  2301.5,2,  2420.3,2,  -999.0,5,-999.000,1,-999.000,-999.0000,5, -999.00,5, -999.00,9,  -999.0,9,  -999.0,  13.780,4,   0.036, 40159.9,   1.0657,-999.0000, -999.00
 316N145_14,       I02E,    1106,          1,          9,     SIH015,2,19951214,       0353,    -6.0000,    88.4750,       4440,  4099.2,   1.3801,  34.7173,2,  34.7180,2,    177.0,2,   177.1,2,  134.68,2,   33.76,2,    0.00,2,    2.33,2,-999.000,5,-999.000,5,  2300.8,2,  2415.6,2,  -999.0,5,-999.000,1,-999.000,-999.0000,1, -999.00,9, -999.00,9,  -999.0,9,  -999.0,-999.000,9,-999.000, 41132.4,   1.0535,-999.0000, -999.00
 316N145_14,       I02E,    1106,          1,          8,     SIH016,2,19951214,       0353,    -6.0000,    88.4750,       4440,  4200.6,   1.3787,  34.7172,2,  34.7170,2,    177.6,2,   177.9,2,  133.79,2,   33.66,2,    0.00,2,    2.32,2,-999.000,5,-999.000,5,  2300.4,2,  2415.8,2,  -999.0,5,-999.000,1,-999.000,   1.8980,2,   11.83,2, -999.00,9,  -999.0,9,  -999.0,   8.101,4,   0.021, 42146.3,   1.0410,   0.0050,    0.17
 316N145_14,       I02E,    1106,          1,          7,     SIH017,2,19951214,       0353,    -6.0000,    88.4750,       4440,  4251.8,   1.3553,  34.7168,2,  34.7170,2,    180.2,2,   180.1,2,  132.36,2,   33.41,2,    0.00,2,    2.31,2,-999.000,5,-999.000,5,  2295.6,2,  2409.7,2,  -999.0,5,-999.000,1,-999.000,-999.0000,1, -999.00,9, -999.00,9,  -999.0,9,  -999.0,-999.000,9,-999.000, 42658.2,   1.0126,-999.0000, -999.00
 316N145_14,       I02E,    1106,          1,          6,     SIH018,2,19951214,       0353,    -6.0000,    88.4750,       4440,  4302.7,   1.3457,  34.7163,2,  34.7164,2,    181.0,2,   182.1,2,  131.47,2,   33.24,2,    0.00,2,    2.31,2,-999.000,5,-999.000,5,  2294.6,2,  2413.7,2,  -999.0,5,-999.000,1,-999.000,-999.0000,1, -999.00,9, -999.00,9,  -999.0,9,  -999.0,-999.000,9,-999.000, 43167.1,   0.9976,-999.0000, -999.00
 316N145_14,       I02E,    1106,          1,          5,     SIH002,2,19951214,       0353,    -6.0000,    88.4750,       4440,  4353.9,   1.3516,  34.7162,2,  34.7166,2,    180.7,2,   181.8,2,  131.48,2,   33.46,2,    0.00,2,    2.30,2,-999.000,5,-999.000,5,  2294.8,2,  2408.3,2,  -999.0,5,-999.000,1,-999.000,-999.0000,1, -999.00,9, -999.00,9,  -999.0,9,  -999.0,-999.000,9,-999.000, 43679.3,   0.9976,-999.0000, -999.00
 316N145_14,       I02E,    1106,          1,          4,     SIH020,2,19951214,       0353,    -6.0000,    88.4750,       4440,  4405.5,   1.3549,  34.7159,2,  34.7150,2,    181.6,2,   181.5,2,  131.86,2,   33.42,2,    0.00,2,    2.30,2,-999.000,5,-999.000,5,  2293.9,2,  2411.1,2,  -999.0,5,-999.000,1,-999.000,-999.0000,1, -999.00,9, -999.00,9,  -999.0,9,  -999.0,-999.000,9,-999.000, 44194.9,   0.9950,-999.0000, -999.00
 316N145_14,       I02E,    1106,          1,          3,     SIH021,2,19951214,       0353,    -6.0000,    88.4750,       4440,  4457.0,   1.3451,  34.7155,2,  34.7156,2,    181.7,2,   182.4,2,  131.33,2,   33.20,2,    0.00,2,    2.28,2,-999.000,5,-999.000,5,  2293.2,2,  2411.2,2,  -999.0,5,-999.000,1,-999.000,-999.0000,1, -999.00,9, -999.00,9,  -999.0,9,  -999.0,-999.000,9,-999.000, 44709.7,   0.9796,-999.0000, -999.00
 316N145_14,       I02E,    1106,          1,          2,     SIH022,2,19951214,       0353,    -6.0000,    88.4750,       4440,  4483.0,   1.3466,  34.7156,2,  34.7150,2,    183.7,2,   183.5,2,  130.98,2,   33.21,2,    0.00,2,    2.27,2,-999.000,5,-999.000,5,  2293.5,2,  2409.8,2,  -999.0,5,-999.000,1,-999.000,   1.9190,2,   11.33,2, -999.00,9,  -999.0,9,  -999.0,   8.210,2,   0.016, 44970.5,   0.9781,   0.0060,    0.20
 316N145_14,       I02E,    1106,          1,          1,     SIH023,2,19951214,       0353,    -6.0000,    88.4750,       4440,  4534.9,   1.3460,  34.7162,2,  34.7152,2,    181.7,2,   183.4,2,  131.38,6,   33.27,6,    0.00,6,    2.27,6,  -0.001,2,  -0.002,2,  2292.5,2,  2407.5,2,  -999.0,5,-999.000,1,-999.000,-999.0000,1, -999.00,9, -999.00,9,  -999.0,9,  -999.0,-999.000,9,-999.000, 45491.0,   0.9716,-999.0000, -999.00