BOTTLE,20220829CCHSIOAMB
EXPOCODE,SECT_ID,STNNBR,CASTNO,SAMPNO,BTLNBR,BTLNBR_FLAG_W,DATE,TIME,LATITUDE,LONGITUDE,DEPTH,CTDPRS,CTDTMP,CTDSAL,CTDSAL_FLAG_W,SALNTY,SALNTY_FLAG_W,CTDOXY,CTDOXY_FLAG_W,OXYGEN,OXYGEN_FLAG_W,SILCAT,SILCAT_FLAG_W,NITRAT,NITRAT_FLAG_W,NITRIT,NITRIT_FLAG_W,PHSPHT,PHSPHT_FLAG_W,CFC-11,CFC-11_FLAG_W,CFC-12,CFC-12_FLAG_W,TCARBN,TCARBN_FLAG_W,ALKALI,ALKALI_FLAG_W,PCO2,PCO2_FLAG_W,TRITUM,TRITUM_FLAG_W,TRITER,HELIUM,HELIUM_FLAG_W,DELHE3,DELHE3_FLAG_W,DELC13,DELC13_FLAG_W,DELC14,DELC14_FLAG_W,C14ERR,NEON,NEON_FLAG_W,NEONER,CTDRAW,THETA,HELIER,DELHER
,,,,,,,,,,,METERS,DBAR,ITS-90,PSS-78,,PSS-78,,UMOL/KG,,UMOL/KG,,UMOL/KG,,UMOL/KG,,UMOL/KG,,UMOL/KG,,PMOL/KG,,PMOL/KG,,UMOL/KG,,UMOL/KG,,UATM,,TU,,TU,NMOL/KG,,PERCNT,,/MILLE,,/MILLE,,/MILLE,NMOL/KG,,NMOL/KG,DBAR,DEG C,NMOL/KG,PERCNT
 316N145_14,       I02E,    1091,          1,         36,     SIH024,2,19951209,       0733,    -8.0000,    97.3333,       5070,     8.9,  28.0830,  33.7523,2,  33.7531,2,    209.5,2,   212.5,2,    3.47,2,    0.12,2,    0.00,2,    0.08,2,-999.000,5,-999.000,5,  1884.7,2,  2212.2,2,  -999.0,5,-999.000,1,-999.000,-999.0000,1, -999.00,9, -999.00,9,  -999.0,9,  -999.0,-999.000,9,-999.000,   235.3,  28.0809,-999.0000, -999.00
 316N145_14,       I02E,    1091,          1,         35,     SIH003,2,19951209,       0733,    -8.0000,    97.3333,       5070,    33.1,  27.9653,  33.7509,2,  33.7570,2,    212.4,2,   211.8,2,    3.51,2,    0.12,2,    0.00,2,    0.09,2,   1.549,2,   0.910,2,  1881.0,2,  -999.0,9,  -999.0,5,-999.000,1,-999.000,-999.0000,1, -999.00,9, -999.00,9,  -999.0,9,  -999.0,-999.000,9,-999.000,   468.8,  27.9575,-999.0000, -999.00
 316N145_14,       I02E,    1091,          1,         34,     SIH026,2,19951209,       0733,    -8.0000,    97.3333,       5070,    63.2,  23.9197,  34.9144,2,  34.8884,2,    103.4,2,   133.9,2,    8.34,2,    6.51,2,    0.28,2,    0.74,2,-999.000,5,-999.000,5,  2051.5,2,  2290.9,2,  -999.0,5,-999.000,1,-999.000,-999.0000,1, -999.00,9, -999.00,9,  -999.0,9,  -999.0,-999.000,9,-999.000,   764.0,  23.9064,-999.0000, -999.00
 316N145_14,       I02E,    1091,          1,         33,     SIH027,2,19951209,       0733,    -8.0000,    97.3333,       5070,   103.0,  19.2388,  34.9688,2,  34.9801,2,     65.2,2,    70.6,2,   18.38,2,   20.55,2,    0.02,2,    1.44,2,   1.174,2,   0.659,2,  -999.0,9,  -999.0,9,  -999.0,5,-999.000,1,-999.000,-999.0000,1, -999.00,9, -999.00,9,  -999.0,9,  -999.0,-999.000,9,-999.000,  1157.0,  19.2203,-999.0000, -999.00
 316N145_14,       I02E,    1091,          1,         32,     SIH028,2,19951209,       0733,    -8.0000,    97.3333,       5070,   151.9,  14.0598,  34.7303,2,  34.7337,2,     79.6,2,    76.7,2,   31.04,2,   24.80,2,    0.01,2,    1.75,2,-999.000,5,-999.000,5,  -999.0,9,  -999.0,9,  -999.0,5,-999.000,1,-999.000,-999.0000,1, -999.00,9, -999.00,9,  -999.0,9,  -999.0,-999.000,9,-999.000,  1643.9,  14.0379,-999.0000, -999.00
 316N145_14,       I02E,    1091,          1,         31,     SIH029,2,19951209,       0733,    -8.0000,    97.3333,       5070,   203.1,  12.3498,  34.7878,2,  34.7850,2,     65.6,2,    66.3,2,   33.54,2,   27.66,2,    0.00,2,    1.94,2,   0.597,2,   0.310,2,  -999.0,9,  -999.0,9,  -999.0,5,-999.000,1,-999.000,-999.0000,1, -999.00,9, -999.00,9,  -999.0,9,  -999.0,-999.000,9,-999.000,  2157.0,  12.3229,-999.0000, -999.00
 316N145_14,       I02E,    1091,          1,         30,     SIH030,2,19951209,       0733,    -8.0000,    97.3333,       5070,   254.0,  11.5667,  34.8380,2,  34.8344,2,     58.6,2,    62.1,2,   33.84,2,   29.01,2,    0.00,2,    2.00,2,-999.000,5,-999.000,5,  -999.0,9,  -999.0,9,  -999.0,5,-999.000,1,-999.000,-999.0000,1, -999.00,9, -999.00,9,  -999.0,9,  -999.0,-999.000,9,-999.000,  2666.0,  11.5343,-999.0000, -999.00
 316N145_14,       I02E,    1091,          1,         29,     SIH031,2,19951209,       0733,    -8.0000,    97.3333,       5070,   304.1,  10.9971,  34.8699,2,  34.8678,2,     60.1,2,    60.5,2,   33.09,2,   29.92,2,    0.00,2,    2.05,2,   0.285,6,   0.160,6,  -999.0,9,  -999.0,9,  -999.0,5,-999.000,1,-999.000,-999.0000,1, -999.00,9, -999.00,9,  -999.0,9,  -999.0,-999.000,9,-999.000,  3168.1,  10.9594,-999.0000, -999.00
 316N145_14,       I02E,    1091,          1,         28,     SIH032,2,19951209,       0733,    -8.0000,    97.3333,       5070,   353.7,  10.5948,  34.8819,2,  34.8798,2,     66.3,2,    63.8,2,   30.02,2,   30.33,2,    0.00,2,    2.06,2,-999.000,5,-999.000,5,  -999.0,9,  -999.0,9,  -999.0,5,-999.000,1,-999.000,-999.0000,1, -999.00,9, -999.00,9,  -999.0,9,  -999.0,-999.000,9,-999.000,  3663.5,  10.5519,-999.0000, -999.00
 316N145_14,       I02E,    1091,          1,         27,     SIH033,2,19951209,       0733,    -8.0000,    97.3333,       5070,   403.3,  10.1338,  34.8690,2,  34.8684,2,     70.5,2,    63.9,3,   31.36,2,   30.84,2,    0.00,2,    2.09,2,   0.174,2,   0.090,2,  -999.0,9,  -999.0,9,  -999.0,5,-999.000,1,-999.000,-999.0000,1, -999.00,9, -999.00,9,  -999.0,9,  -999.0,-999.000,9,-999.000,  4159.8,  10.0862,-999.0000, -999.00
 316N145_14,       I02E,    1091,          1,         26,     SIH037,2,19951209,       0733,    -8.0000,    97.3333,       5070,   503.9,   9.3450,  34.8259,2,  34.8253,2,     72.3,2,    68.6,2,   37.89,2,   31.81,2,    0.00,2,    2.20,2,   0.125,2,   0.078,2,  -999.0,9,  -999.0,9,  -999.0,5,-999.000,1,-999.000,-999.0000,1, -999.00,9, -999.00,9,  -999.0,9,  -999.0,-999.000,9,-999.000,  5165.2,   9.2881,-999.0000, -999.00
 316N145_14,       I02E,    1091,          1,         25,     SI9446,2,19951209,       0733,    -8.0000,    97.3333,       5070,   602.1,   8.2762,  34.7720,2,  34.7703,2,     67.5,2,    69.6,2,   50.66,2,   33.76,2,    0.00,2,    2.39,2,   0.049,2,   0.032,2,  -999.0,9,  -999.0,9,  -999.0,5,-999.000,1,-999.000,-999.0000,1, -999.00,9, -999.00,9,  -999.0,9,  -999.0,-999.000,9,-999.000,  6146.9,   8.2127,-999.0000, -999.00
 316N145_14,       I02E,    1091,          1,         24,     SIH036,2,19951209,       0733,    -8.0000,    97.3333,       5070,   696.2,   7.6046,  34.7863,2,  34.7858,2,     61.1,2,    61.4,2,   63.36,2,   35.38,2,    0.00,2,    2.55,2,   0.017,2,   0.016,2,  -999.0,9,  -999.0,9,  -999.0,5,-999.000,1,-999.000,-999.0000,1, -999.00,9, -999.00,9,  -999.0,9,  -999.0,-999.000,9,-999.000,  7088.4,   7.5341,-999.0000, -999.00
 316N145_14,       I02E,    1091,          1,         23,     SIH001,2,19951209,       0733,    -8.0000,    97.3333,       5070,   798.9,   6.8424,  34.7623,2,  34.7618,2,     66.0,2,    64.0,2,   74.96,2,   36.07,2,    0.00,2,    2.61,2,   0.013,2,   0.010,2,  -999.0,9,  -999.0,9,  -999.0,5,-999.000,1,-999.000,-999.0000,1, -999.00,9, -999.00,9,  -999.0,9,  -999.0,-999.000,9,-999.000,  8115.7,   6.7655,-999.0000, -999.00
 316N145_14,       I02E,    1091,          1,         22,     SIH019,2,19951209,       0733,    -8.0000,    97.3333,       5070,   900.3,   6.1417,  34.7189,2,  34.7158,2,     70.5,2,    71.7,2,   84.00,2,   36.15,2,    0.00,2,    2.63,2,   0.015,2,   0.012,2,  -999.0,9,  -999.0,9,  -999.0,5,-999.000,1,-999.000,-999.0000,1, -999.00,9, -999.00,9,  -999.0,9,  -999.0,-999.000,9,-999.000,  9130.1,   6.0593,-999.0000, -999.00
 316N145_14,       I02E,    1091,          1,         21,     SIH025,2,19951209,       0733,    -8.0000,    97.3333,       5070,  1000.8,   5.7197,  34.7434,2,  34.7421,2,     74.9,2,    72.7,2,   89.48,2,   36.50,2,    0.00,2,    2.66,2,   0.007,2,   0.010,2,  -999.0,9,  -999.0,9,  -999.0,5,-999.000,1,-999.000,-999.0000,1, -999.00,9, -999.00,9,  -999.0,9,  -999.0,-999.000,9,-999.000, 10134.8,   5.6305,-999.0000, -999.00
 316N145_14,       I02E,    1091,          1,         20,     SIH004,2,19951209,       0733,    -8.0000,    97.3333,       5070,  1095.0,   5.1723,  34.7176,2,  34.7150,2,     81.4,2,    80.2,2,   96.01,2,   36.51,2,    0.00,2,    2.67,2,-999.000,5,-999.000,5,  -999.0,9,  -999.0,9,  -999.0,5,-999.000,1,-999.000,-999.0000,1, -999.00,9, -999.00,9,  -999.0,9,  -999.0,-999.000,9,-999.000, 11078.4,   5.0785,-999.0000, -999.00
 316N145_14,       I02E,    1091,          1,         19,     SIH005,2,19951209,       0733,    -8.0000,    97.3333,       5070,  1196.4,   4.6535,  34.7068,2,  34.7054,2,     87.4,2,    88.2,2,  102.27,2,   36.51,2,    0.00,2,    2.66,2,   0.008,2,   0.007,2,  -999.0,9,  -999.0,9,  -999.0,5,-999.000,1,-999.000,-999.0000,1, -999.00,9, -999.00,9,  -999.0,9,  -999.0,-999.000,9,-999.000, 12092.3,   4.5549,-999.0000, -999.00
 316N145_14,       I02E,    1091,          1,         18,     SIH006,2,19951209,       0733,    -8.0000,    97.3333,       5070,  1287.4,   4.5064,  34.7390,2,  34.7390,2,     89.4,2,    88.5,2,  102.87,2,   36.71,2,    0.00,2,    2.67,2,   0.001,2,  -0.003,2,  -999.0,9,  -999.0,9,  -999.0,5,-999.000,1,-999.000,-999.0000,1, -999.00,9, -999.00,9,  -999.0,9,  -999.0,-999.000,9,-999.000, 13003.5,   4.4008,-999.0000, -999.00
 316N145_14,       I02E,    1091,          1,         17,     SIH038,2,19951209,       0733,    -8.0000,    97.3333,       5070,  1392.3,   4.3108,  34.7626,2,  34.7612,2,     93.8,2,    92.0,2,  103.37,2,   36.56,2,    0.00,2,    2.66,2,   0.001,2,  -0.004,2,  -999.0,9,  -999.0,9,  -999.0,5,-999.000,1,-999.000,-999.0000,1, -999.00,9, -999.00,9,  -999.0,9,  -999.0,-999.000,9,-999.000, 14052.5,   4.1975,-999.0000, -999.00
 316N145_14,       I02E,    1091,          1,         16,     SIH008,2,19951209,       0733,    -8.0000,    97.3333,       5070,  1584.8,   3.7846,  34.7642,2,  34.7640,2,    108.0,2,   104.6,2,  106.77,2,   36.20,2,    0.00,2,    2.63,2,-999.000,5,-999.000,5,  -999.0,9,  -999.0,9,  -999.0,5,-999.000,1,-999.000,-999.0000,1, -999.00,9, -999.00,9,  -999.0,9,  -999.0,-999.000,9,-999.000, 15978.6,   3.6597,-999.0000, -999.00
 316N145_14,       I02E,    1091,          1,         15,     SIH009,2,19951209,       0733,    -8.0000,    97.3333,       5070,  1791.1,   3.1652,  34.7582,2,  34.7579,2,    118.5,2,   104.7,3,  113.58,2,   35.64,2,    0.00,2,    2.57,2,   0.002,2,   0.002,2,  -999.0,9,  -999.0,9,  -999.0,5,-999.000,1,-999.000,-999.0000,1, -999.00,9, -999.00,9,  -999.0,9,  -999.0,-999.000,9,-999.000, 18042.5,   3.0297,-999.0000, -999.00
 316N145_14,       I02E,    1091,          1,         14,     SIH010,2,19951209,       0733,    -8.0000,    97.3333,       5070,  1994.9,   2.7331,  34.7535,2,  34.7533,2,    132.0,2,   120.4,3,  116.42,2,   35.28,2,    0.00,2,    2.53,2,   0.001,2,   0.001,2,  -999.0,9,  -999.0,9,  -999.0,5,-999.000,1,-999.000,-999.0000,1, -999.00,9, -999.00,9,  -999.0,9,  -999.0,-999.000,9,-999.000, 20080.9,   2.5857,-999.0000, -999.00
 316N145_14,       I02E,    1091,          1,         13,     SIH011,2,19951209,       0733,    -8.0000,    97.3333,       5070,  2247.0,   2.3426,  34.7446,2,  34.7433,2,    142.2,2,   141.7,2,  121.64,2,   34.63,2,    0.00,2,    2.48,2,-999.000,5,-999.000,5,  -999.0,9,  -999.0,9,  -999.0,5,-999.000,1,-999.000,-999.0000,1, -999.00,9, -999.00,9,  -999.0,9,  -999.0,-999.000,9,-999.000, 22603.0,   2.1788,-999.0000, -999.00
 316N145_14,       I02E,    1091,          1,         12,     SIH012,2,19951209,       0733,    -8.0000,    97.3333,       5070,  2495.8,   2.0695,  34.7390,2,  34.7384,2,    150.1,2,   150.6,2,  124.53,2,   34.52,2,    0.00,2,    2.44,2,   0.001,2,  -0.001,2,  -999.0,9,  -999.0,9,  -999.0,5,-999.000,1,-999.000,-999.0000,1, -999.00,9, -999.00,9,  -999.0,9,  -999.0,-999.000,9,-999.000, 25093.1,   1.8880,-999.0000, -999.00
 316N145_14,       I02E,    1091,          1,         11,     SI9425,2,19951209,       0733,    -8.0000,    97.3333,       5070,  2749.0,   1.8712,  34.7333,2,  34.7317,3,    160.1,2,   158.7,2,  125.33,2,   34.12,2,    0.00,2,    2.40,2,-999.000,5,-999.000,5,  -999.0,9,  -999.0,9,  -999.0,5,-999.000,1,-999.000,-999.0000,1, -999.00,9, -999.00,9,  -999.0,9,  -999.0,-999.000,9,-999.000, 27625.3,   1.6700,-999.0000, -999.00
 316N145_14,       I02E,    1091,          1,         10,     SIH014,2,19951209,       0733,    -8.0000,    97.3333,       5070,  2987.5,   1.7158,  34.7285,2,  34.7282,2,    163.3,2,   163.6,2,  127.43,2,   33.96,2,    0.00,2,    2.38,2,-999.000,5,-999.000,5,  -999.0,9,  -999.0,9,  -999.0,5,-999.000,1,-999.000,-999.0000,1, -999.00,9, -999.00,9,  -999.0,9,  -999.0,-999.000,9,-999.000, 30011.8,   1.4952,-999.0000, -999.00
 316N145_14,       I02E,    1091,          1,          9,     SIH015,2,19951209,       0733,    -8.0000,    97.3333,       5070,  3246.2,   1.5753,  34.7253,2,  34.7280,3,    167.3,2,   163.5,3,  127.46,3,   33.96,3,    0.00,3,    2.38,3,-999.000,5,-999.000,5,  -999.0,9,  -999.0,9,  -999.0,5,-999.000,1,-999.000,-999.0000,1, -999.00,9, -999.00,9,  -999.0,9,  -999.0,-999.000,9,-999.000, 32600.0,   1.3326,-999.0000, -999.00
 316N145_14,       I02E,    1091,          1,          8,     SIH016,2,19951209,       0733,    -8.0000,    97.3333,       5070,  3501.3,   1.3826,  34.7188,2,  34.7197,2,    178.9,2,   178.1,2,  128.27,2,   33.41,2,    0.00,2,    2.33,2,   0.001,2,   0.001,2,  -999.0,9,  -999.0,9,  -999.0,5,-999.000,1,-999.000,-999.0000,1, -999.00,9, -999.00,9,  -999.0,9,  -999.0,-999.000,9,-999.000, 35151.6,   1.1190,-999.0000, -999.00
 316N145_14,       I02E,    1091,          1,          7,     SIH017,2,19951209,       0733,    -8.0000,    97.3333,       5070,  3756.9,   1.2295,  34.7156,2,  34.7154,2,    185.6,2,   186.1,2,  128.64,2,   33.07,2,    0.00,2,    2.29,2,-999.000,5,-999.000,5,  -999.0,9,  -999.0,9,  -999.0,5,-999.000,1,-999.000,-999.0000,1, -999.00,9, -999.00,9,  -999.0,9,  -999.0,-999.000,9,-999.000, 37708.0,   0.9437,-999.0000, -999.00
 316N145_14,       I02E,    1091,          1,          6,     SIH018,2,19951209,       0733,    -8.0000,    97.3333,       5070,  4005.4,   1.1787,  34.7145,2,  34.7134,2,    190.5,2,   189.8,2,  127.80,2,   32.79,2,    0.00,2,    2.27,2,-999.000,5,-999.000,5,  -999.0,9,  -999.0,9,  -999.0,5,-999.000,1,-999.000,-999.0000,1, -999.00,9, -999.00,9,  -999.0,9,  -999.0,-999.000,9,-999.000, 40194.5,   0.8681,-999.0000, -999.00
 316N145_14,       I02E,    1091,          1,          5,     SIH002,2,19951209,       0733,    -8.0000,    97.3333,       5070,  4257.4,   1.1471,  34.7130,2,  34.7134,2,    193.0,2,   194.1,2,  127.05,2,   32.74,2,    0.00,2,    2.25,2,-999.000,5,-999.000,5,  -999.0,9,  -999.0,9,  -999.0,5,-999.000,1,-999.000,-999.0000,1, -999.00,9, -999.00,9,  -999.0,9,  -999.0,-999.000,9,-999.000, 42716.1,   0.8101,-999.0000, -999.00
 316N145_14,       I02E,    1091,          1,          4,     SIH020,2,19951209,       0733,    -8.0000,    97.3333,       5070,  4511.7,   1.1492,  34.7122,2,  34.7127,2,    195.9,2,   193.9,3,  126.30,2,   32.60,2,    0.00,2,    2.25,2,   0.006,2,   0.004,2,  -999.0,9,  -999.0,9,  -999.0,5,-999.000,1,-999.000,-999.0000,1, -999.00,9, -999.00,9,  -999.0,9,  -999.0,-999.000,9,-999.000, 45259.2,   0.7837,-999.0000, -999.00
 316N145_14,       I02E,    1091,          1,          3,     SIH021,2,19951209,       0733,    -8.0000,    97.3333,       5070,  4756.2,   1.1701,  34.7124,2,  34.7129,2,    196.3,2,   196.1,2,  125.81,2,   32.60,2,    0.00,2,    2.24,2,-999.000,5,-999.000,5,  -999.0,9,  -999.0,9,  -999.0,5,-999.000,1,-999.000,-999.0000,1, -999.00,9, -999.00,9,  -999.0,9,  -999.0,-999.000,9,-999.000, 47705.5,   0.7757,-999.0000, -999.00
 316N145_14,       I02E,    1091,          1,          2,     SIH022,2,19951209,       0733,    -8.0000,    97.3333,       5070,  5002.6,   1.1980,  34.7122,2,  34.7117,2,    197.4,2,   196.4,2,  125.84,2,   32.54,2,    0.00,2,    2.24,2,-999.000,5,-999.000,5,  -999.0,9,  -999.0,9,  -999.0,5,-999.000,1,-999.000,-999.0000,1, -999.00,9, -999.00,9,  -999.0,9,  -999.0,-999.000,9,-999.000, 50170.4,   0.7735,-999.0000, -999.00
 316N145_14,       I02E,    1091,          1,          1,     SIH023,2,19951209,       0733,    -8.0000,    97.3333,       5070,  5222.7,   1.2255,  34.7127,2,  34.7121,2,    196.7,2,   196.6,2,  126.28,6,   32.49,6,    0.00,6,    2.24,6,   0.002,2,  -0.002,2,  -999.0,9,  -999.0,9,  -999.0,5,-999.000,1,-999.000,-999.0000,1, -999.00,9, -999.00,9,  -999.0,9,  -999.0,-999.000,9,-999.000, 52373.0,   0.7733,-999.0000, -999.00