BOTTLE,20220829CCHSIOAMB
EXPOCODE,SECT_ID,STNNBR,CASTNO,SAMPNO,BTLNBR,BTLNBR_FLAG_W,DATE,TIME,LATITUDE,LONGITUDE,DEPTH,CTDPRS,CTDTMP,CTDSAL,CTDSAL_FLAG_W,SALNTY,SALNTY_FLAG_W,CTDOXY,CTDOXY_FLAG_W,OXYGEN,OXYGEN_FLAG_W,SILCAT,SILCAT_FLAG_W,NITRAT,NITRAT_FLAG_W,NITRIT,NITRIT_FLAG_W,PHSPHT,PHSPHT_FLAG_W,CFC-11,CFC-11_FLAG_W,CFC-12,CFC-12_FLAG_W,TCARBN,TCARBN_FLAG_W,ALKALI,ALKALI_FLAG_W,PCO2,PCO2_FLAG_W,TRITUM,TRITUM_FLAG_W,TRITER,HELIUM,HELIUM_FLAG_W,DELHE3,DELHE3_FLAG_W,DELC13,DELC13_FLAG_W,DELC14,DELC14_FLAG_W,C14ERR,NEON,NEON_FLAG_W,NEONER,CTDRAW,THETA,HELIER,DELHER
,,,,,,,,,,,METERS,DBAR,ITS-90,PSS-78,,PSS-78,,UMOL/KG,,UMOL/KG,,UMOL/KG,,UMOL/KG,,UMOL/KG,,UMOL/KG,,PMOL/KG,,PMOL/KG,,UMOL/KG,,UMOL/KG,,UATM,,TU,,TU,NMOL/KG,,PERCNT,,/MILLE,,/MILLE,,/MILLE,NMOL/KG,,NMOL/KG,DBAR,DEG C,NMOL/KG,PERCNT
 316N145_14,       I02E,    1128,          1,         36,     SIH024,2,19951220,       0537,    -8.0000,    86.6667,       5203,     8.1,  28.3737,  34.2310,2,  34.2330,2,    218.9,2,   208.0,2,    2.54,2,    0.05,2,    0.00,2,    0.08,2,   1.653,2,   0.943,2,  1919.8,2,  2245.7,2,  -999.0,5,-999.000,1,-999.000,-999.0000,1, -999.00,9, -999.00,9,  -999.0,9,  -999.0,-999.000,9,-999.000,   227.7,  28.3718,-999.0000, -999.00
 316N145_14,       I02E,    1128,          1,         35,     SIH003,2,19951220,       0537,    -8.0000,    86.6667,       5203,    35.1,  27.6110,  34.2111,2,  34.2215,2,    209.3,2,   210.9,2,    2.72,2,    0.05,2,    0.00,2,    0.09,2,   1.709,2,   0.936,2,  1919.2,2,  2253.4,2,  -999.0,5,-999.000,1,-999.000,-999.0000,1, -999.00,9, -999.00,9,  -999.0,9,  -999.0,-999.000,9,-999.000,   490.6,  27.6028,-999.0000, -999.00
 316N145_14,       I02E,    1128,          1,         34,     SIH026,2,19951220,       0537,    -8.0000,    86.6667,       5203,    65.9,  25.0315,  34.4295,2,  34.4334,2,    163.9,2,   183.5,2,    4.78,2,    2.64,2,    0.12,2,    0.37,2,   1.674,2,   0.942,2,  1982.2,2,  2259.4,2,  -999.0,5,-999.000,1,-999.000,-999.0000,1, -999.00,9, -999.00,9,  -999.0,9,  -999.0,-999.000,9,-999.000,   791.3,  25.0172,-999.0000, -999.00
 316N145_14,       I02E,    1128,          1,         33,     SIH027,2,19951220,       0537,    -8.0000,    86.6667,       5203,   100.1,  19.3341,  34.7105,2,  34.7150,2,     98.3,2,    94.8,2,   19.05,2,   17.17,2,    0.08,2,    1.26,2,   1.320,2,   0.712,2,  -999.0,9,  -999.0,9,  -999.0,5,-999.000,1,-999.000,-999.0000,1, -999.00,9, -999.00,9,  -999.0,9,  -999.0,-999.000,9,-999.000,  1129.2,  19.3160,-999.0000, -999.00
 316N145_14,       I02E,    1128,          1,         32,     SIH028,2,19951220,       0537,    -8.0000,    86.6667,       5203,   150.8,  15.6630,  34.8245,2,  34.8172,2,     59.6,2,    64.5,2,   26.80,2,   24.35,2,    0.01,2,    1.73,2,   0.919,2,   0.455,2,  -999.0,9,  -999.0,9,  -999.0,5,-999.000,1,-999.000,-999.0000,1, -999.00,9, -999.00,9,  -999.0,9,  -999.0,-999.000,9,-999.000,  1633.5,  15.6396,-999.0000, -999.00
 316N145_14,       I02E,    1128,          1,         31,     SIH029,2,19951220,       0537,    -8.0000,    86.6667,       5203,   200.0,  13.0165,  34.7569,2,  34.7638,2,     66.3,2,    67.6,2,   33.00,2,   26.74,2,    0.01,2,    1.91,2,   0.650,2,   0.330,2,  -999.0,9,  -999.0,9,  -999.0,5,-999.000,1,-999.000,-999.0000,1, -999.00,9, -999.00,9,  -999.0,9,  -999.0,-999.000,9,-999.000,  2125.0,  12.9890,-999.0000, -999.00
 316N145_14,       I02E,    1128,          1,         30,     SIH030,2,19951220,       0537,    -8.0000,    86.6667,       5203,   250.8,  11.5529,  34.8098,2,  34.7626,4,     60.4,2,    63.1,2,   34.56,2,   28.95,2,    0.00,2,    2.03,2,   0.404,2,   0.203,2,  -999.0,9,  -999.0,9,  -999.0,5,-999.000,1,-999.000,-999.0000,1, -999.00,9, -999.00,9,  -999.0,9,  -999.0,-999.000,9,-999.000,  2633.5,  11.5210,-999.0000, -999.00
 316N145_14,       I02E,    1128,          1,         29,     SIH031,2,19951220,       0537,    -8.0000,    86.6667,       5203,   301.1,  10.9528,  34.8808,2,  34.8098,4,     60.0,2,    61.2,2,   32.00,2,   30.00,2,    0.00,2,    2.08,2,   0.260,2,   0.135,2,  -999.0,9,  -999.0,9,  -999.0,5,-999.000,1,-999.000,-999.0000,1, -999.00,9, -999.00,9,  -999.0,9,  -999.0,-999.000,9,-999.000,  3137.2,  10.9156,-999.0000, -999.00
 316N145_14,       I02E,    1128,          1,         28,     SIH032,3,19951220,       0537,    -8.0000,    86.6667,       5203,   346.6,  10.5500,  34.8873,2,  34.8782,3,     71.2,2,    68.5,2,   30.97,2,   30.23,2,    0.00,2,    2.06,2,-999.000,5,-999.000,5,  -999.0,9,  -999.0,9,  -999.0,5,-999.000,1,-999.000,-999.0000,1, -999.00,9, -999.00,9,  -999.0,9,  -999.0,-999.000,9,-999.000,  3592.5,  10.5081,-999.0000, -999.00
 316N145_14,       I02E,    1128,          1,         27,     SIH033,2,19951220,       0537,    -8.0000,    86.6667,       5203,   395.7,   9.9047,  34.8523,2,  34.8513,2,     67.6,2,    68.2,2,   35.81,2,   31.44,2,    0.00,2,    2.15,2,   0.159,2,   0.085,2,  -999.0,9,  -999.0,9,  -999.0,5,-999.000,1,-999.000,-999.0000,1, -999.00,9, -999.00,9,  -999.0,9,  -999.0,-999.000,9,-999.000,  4083.6,   9.8587,-999.0000, -999.00
 316N145_14,       I02E,    1128,          1,         26,     SIH037,2,19951220,       0537,    -8.0000,    86.6667,       5203,   496.4,   9.1184,  34.8311,2,  34.8300,2,     66.8,2,    66.9,2,   42.88,2,   32.95,2,    0.00,2,    2.28,2,   0.076,6,   0.044,6,  -999.0,9,  -999.0,9,  -999.0,5,-999.000,1,-999.000,-999.0000,1, -999.00,9, -999.00,9,  -999.0,9,  -999.0,-999.000,9,-999.000,  5090.4,   9.0632,-999.0000, -999.00
 316N145_14,       I02E,    1128,          1,         25,     SI9446,2,19951220,       0537,    -8.0000,    86.6667,       5203,   596.9,   8.1720,  34.8119,2,  34.8106,2,     61.4,2,    62.0,2,   56.17,2,   34.93,2,    0.00,2,    2.48,2,   0.028,2,   0.019,2,  -999.0,9,  -999.0,9,  -999.0,5,-999.000,1,-999.000,-999.0000,1, -999.00,9, -999.00,9,  -999.0,9,  -999.0,-999.000,9,-999.000,  6094.5,   8.1095,-999.0000, -999.00
 316N145_14,       I02E,    1128,          1,         24,     SIH036,2,19951220,       0537,    -8.0000,    86.6667,       5203,   696.8,   7.4674,  34.7789,2,  34.7787,2,     61.8,2,    62.5,2,   66.53,2,   35.83,2,    0.00,2,    2.58,2,   0.016,2,   0.006,2,  -999.0,9,  -999.0,9,  -999.0,5,-999.000,1,-999.000,-999.0000,1, -999.00,9, -999.00,9,  -999.0,9,  -999.0,-999.000,9,-999.000,  7094.7,   7.3976,-999.0000, -999.00
 316N145_14,       I02E,    1128,          1,         23,     SIH001,2,19951220,       0537,    -8.0000,    86.6667,       5203,   796.4,   6.7890,  34.7407,2,  34.7400,2,     66.4,2,    66.1,2,   76.55,2,   36.44,2,    0.00,2,    2.62,2,   0.012,2,   0.002,2,  -999.0,9,  -999.0,9,  -999.0,5,-999.000,1,-999.000,-999.0000,1, -999.00,9, -999.00,9,  -999.0,9,  -999.0,-999.000,9,-999.000,  8090.3,   6.7127,-999.0000, -999.00
 316N145_14,       I02E,    1128,          1,         22,     SIH019,2,19951220,       0537,    -8.0000,    86.6667,       5203,   898.7,   6.0047,  34.7095,2,  34.7093,2,     73.7,2,    73.3,2,   87.44,2,   36.66,2,    0.00,2,    2.65,2,   0.012,2,   0.003,2,  -999.0,9,  -999.0,9,  -999.0,5,-999.000,1,-999.000,-999.0000,1, -999.00,9, -999.00,9,  -999.0,9,  -999.0,-999.000,9,-999.000,  9114.7,   5.9233,-999.0000, -999.00
 316N145_14,       I02E,    1128,          1,         21,     SIH025,2,19951220,       0537,    -8.0000,    86.6667,       5203,   998.7,   5.3585,  34.6836,2,  34.6818,2,     82.2,2,    80.9,2,   95.44,2,   36.65,2,    0.00,2,    2.66,2,   0.008,2,   0.003,2,  -999.0,9,  -999.0,9,  -999.0,5,-999.000,1,-999.000,-999.0000,1, -999.00,9, -999.00,9,  -999.0,9,  -999.0,-999.000,9,-999.000, 10115.3,   5.2723,-999.0000, -999.00
 316N145_14,       I02E,    1128,          1,         20,     SIH004,2,19951220,       0537,    -8.0000,    86.6667,       5203,  1099.1,   4.9482,  34.6873,2,  34.6855,2,     86.1,2,    86.2,2,   99.53,2,   36.55,2,    0.00,2,    2.66,2,   0.005,2,   0.003,2,  -999.0,9,  -999.0,9,  -999.0,5,-999.000,1,-999.000,-999.0000,1, -999.00,9, -999.00,9,  -999.0,9,  -999.0,-999.000,9,-999.000, 11119.5,   4.8560,-999.0000, -999.00
 316N145_14,       I02E,    1128,          1,         19,     SIH005,2,19951220,       0537,    -8.0000,    86.6667,       5203,  1199.3,   4.5693,  34.7038,2,  34.7019,2,     89.9,2,    90.7,2,  103.49,2,   36.42,2,    0.00,2,    2.67,2,   0.003,2,   0.000,2,  -999.0,9,  -999.0,9,  -999.0,5,-999.000,1,-999.000,-999.0000,1, -999.00,9, -999.00,9,  -999.0,9,  -999.0,-999.000,9,-999.000, 12122.2,   4.4712,-999.0000, -999.00
 316N145_14,       I02E,    1128,          1,         18,     SIH006,2,19951220,       0537,    -8.0000,    86.6667,       5203,  1396.4,   3.9728,  34.7340,2,  34.7333,2,    100.6,2,   101.0,2,  107.83,2,   36.37,2,    0.00,2,    2.65,2,-999.000,5,-999.000,5,  -999.0,9,  -999.0,9,  -999.0,5,-999.000,1,-999.000,-999.0000,1, -999.00,9, -999.00,9,  -999.0,9,  -999.0,-999.000,9,-999.000, 14093.2,   3.8628,-999.0000, -999.00
 316N145_14,       I02E,    1128,          1,         17,     SIH038,2,19951220,       0537,    -8.0000,    86.6667,       5203,  1598.3,   3.2956,  34.7436,2,  34.7421,2,    116.5,2,   117.3,2,  112.19,2,   35.71,2,    0.00,2,    2.59,2,-999.000,5,-999.000,5,  -999.0,9,  -999.0,9,  -999.0,5,-999.000,1,-999.000,-999.0000,1, -999.00,9, -999.00,9,  -999.0,9,  -999.0,-999.000,9,-999.000, 16113.5,   3.1755,-999.0000, -999.00
 316N145_14,       I02E,    1128,          1,         16,     SIH008,2,19951220,       0537,    -8.0000,    86.6667,       5203,  1800.4,   2.7937,  34.7478,2,  34.7469,2,    129.4,2,   129.1,2,  118.11,2,   35.27,2,    0.00,2,    2.55,2,   0.002,2,   0.000,2,  -999.0,9,  -999.0,9,  -999.0,5,-999.000,1,-999.000,-999.0000,1, -999.00,9, -999.00,9,  -999.0,9,  -999.0,-999.000,9,-999.000, 18135.1,   2.6625,-999.0000, -999.00
 316N145_14,       I02E,    1128,          1,         15,     SIH009,2,19951220,       0537,    -8.0000,    86.6667,       5203,  1995.7,   2.4459,  34.7462,2,  34.7447,2,    139.8,2,   139.5,2,  121.09,2,   34.84,2,    0.00,2,    2.51,2,-999.000,5,-999.000,5,  -999.0,9,  -999.0,9,  -999.0,5,-999.000,1,-999.000,-999.0000,1, -999.00,9, -999.00,9,  -999.0,9,  -999.0,-999.000,9,-999.000, 20088.5,   2.3027,-999.0000, -999.00
 316N145_14,       I02E,    1128,          1,         14,     SIH010,2,19951220,       0537,    -8.0000,    86.6667,       5203,  2240.3,   2.1489,  34.7405,2,  34.7394,2,    147.5,2,   149.3,2,  123.55,2,   34.40,2,    0.00,2,    2.46,2,-999.000,5,-999.000,5,  -999.0,9,  -999.0,9,  -999.0,5,-999.000,1,-999.000,-999.0000,1, -999.00,9, -999.00,9,  -999.0,9,  -999.0,-999.000,9,-999.000, 22536.1,   1.9890,-999.0000, -999.00
 316N145_14,       I02E,    1128,          1,         13,     SIH011,2,19951220,       0537,    -8.0000,    86.6667,       5203,  2498.7,   1.9153,  34.7347,2,  34.7331,2,    156.8,2,   158.4,2,  124.80,2,   33.91,2,    0.00,2,    2.41,2,   0.000,2,  -0.002,2,  -999.0,9,  -999.0,9,  -999.0,5,-999.000,1,-999.000,-999.0000,1, -999.00,9, -999.00,9,  -999.0,9,  -999.0,-999.000,9,-999.000, 25120.6,   1.7364,-999.0000, -999.00
 316N145_14,       I02E,    1128,          1,         12,     SIH012,2,19951220,       0537,    -8.0000,    86.6667,       5203,  2746.6,   1.7525,  34.7301,2,  34.7294,2,    163.1,2,   163.3,2,  127.27,2,   33.69,2,    0.00,2,    2.38,2,-999.000,5,-999.000,5,  -999.0,9,  -999.0,9,  -999.0,5,-999.000,1,-999.000,-999.0000,1, -999.00,9, -999.00,9,  -999.0,9,  -999.0,-999.000,9,-999.000, 27600.8,   1.5539,-999.0000, -999.00
 316N145_14,       I02E,    1128,          1,         11,     SI9426,2,19951220,       0537,    -8.0000,    86.6667,       5203,  3001.2,   1.5939,  34.7268,2,  34.7248,2,    166.5,2,   166.7,2,  130.95,2,   33.58,2,    0.00,2,    2.38,2,-999.000,5,-999.000,5,  -999.0,9,  -999.0,9,  -999.0,5,-999.000,1,-999.000,-999.0000,1, -999.00,9, -999.00,9,  -999.0,9,  -999.0,-999.000,9,-999.000, 30148.3,   1.3747,-999.0000, -999.00
 316N145_14,       I02E,    1128,          1,         10,     SIH014,2,19951220,       0537,    -8.0000,    86.6667,       5203,  3244.8,   1.4883,  34.7235,2,  34.7225,2,    169.1,2,   169.4,2,  133.77,2,   33.81,2,    0.00,2,    2.38,2,-999.000,5,-999.000,5,  -999.0,9,  -999.0,9,  -999.0,5,-999.000,1,-999.000,-999.0000,1, -999.00,9, -999.00,9,  -999.0,9,  -999.0,-999.000,9,-999.000, 32585.4,   1.2479,-999.0000, -999.00
 316N145_14,       I02E,    1128,          1,          9,     SIH015,2,19951220,       0537,    -8.0000,    86.6667,       5203,  3499.1,   1.4255,  34.7217,2,  34.7209,2,    171.3,2,   172.2,2,  134.68,2,   33.76,2,    0.00,2,    2.36,2,-999.000,5,-999.000,5,  -999.0,9,  -999.0,9,  -999.0,5,-999.000,1,-999.000,-999.0000,1, -999.00,9, -999.00,9,  -999.0,9,  -999.0,-999.000,9,-999.000, 35129.8,   1.1611,-999.0000, -999.00
 316N145_14,       I02E,    1128,          1,          8,     SIH016,2,19951220,       0537,    -8.0000,    86.6667,       5203,  3748.4,   1.3850,  34.7198,2,  34.7190,2,    173.6,2,   174.8,2,  134.56,2,   33.77,2,    0.00,2,    2.35,2,   0.001,2,  -0.002,2,  -999.0,9,  -999.0,9,  -999.0,5,-999.000,1,-999.000,-999.0000,1, -999.00,9, -999.00,9,  -999.0,9,  -999.0,-999.000,9,-999.000, 37623.5,   1.0959,-999.0000, -999.00
 316N145_14,       I02E,    1128,          1,          7,     SIH017,2,19951220,       0537,    -8.0000,    86.6667,       5203,  3997.6,   1.3643,  34.7182,2,  34.7176,2,    176.5,2,   177.5,2,  134.25,2,   33.55,2,    0.00,2,    2.35,2,-999.000,5,-999.000,5,  -999.0,9,  -999.0,9,  -999.0,5,-999.000,1,-999.000,-999.0000,1, -999.00,9, -999.00,9,  -999.0,9,  -999.0,-999.000,9,-999.000, 40117.5,   1.0492,-999.0000, -999.00
 316N145_14,       I02E,    1128,          1,          6,     SIH018,2,19951220,       0537,    -8.0000,    86.6667,       5203,  4252.1,   1.3450,  34.7176,2,  34.7164,2,    180.4,2,   181.0,2,  132.56,2,   33.28,2,    0.00,2,    2.33,2,-999.000,5,-999.000,5,  -999.0,9,  -999.0,9,  -999.0,5,-999.000,1,-999.000,-999.0000,1, -999.00,9, -999.00,9,  -999.0,9,  -999.0,-999.000,9,-999.000, 42663.0,   1.0026,-999.0000, -999.00
 316N145_14,       I02E,    1128,          1,          5,     SIH002,2,19951220,       0537,    -8.0000,    86.6667,       5203,  4498.6,   1.3289,  34.7164,2,  34.7156,2,    185.1,2,   190.4,3,  130.71,2,   33.01,2,    0.00,2,    2.30,2,-999.000,5,-999.000,5,  -999.0,9,  -999.0,9,  -999.0,5,-999.000,1,-999.000,-999.0000,1, -999.00,9, -999.00,9,  -999.0,9,  -999.0,-999.000,9,-999.000, 45128.4,   0.9592,-999.0000, -999.00
 316N145_14,       I02E,    1128,          1,          4,     SIH020,2,19951220,       0537,    -8.0000,    86.6667,       5203,  4743.1,   1.3350,  34.7154,2,  34.7150,2,    186.3,2,   186.8,2,  130.23,2,   32.96,2,    0.00,2,    2.30,2,-999.000,5,-999.000,5,  -999.0,9,  -999.0,9,  -999.0,5,-999.000,1,-999.000,-999.0000,1, -999.00,9, -999.00,9,  -999.0,9,  -999.0,-999.000,9,-999.000, 47574.5,   0.9367,-999.0000, -999.00
 316N145_14,       I02E,    1128,          1,          3,     SIH021,3,19951220,       0537,    -8.0000,    86.6667,       5203,  4999.5,   1.3592,  34.7160,2,  34.7152,2,    187.7,2,   187.1,2,  129.41,2,   33.13,2,    0.00,2,    2.30,2,-999.000,5,-999.000,5,  -999.0,9,  -999.0,9,  -999.0,5,-999.000,1,-999.000,-999.0000,1, -999.00,9, -999.00,9,  -999.0,9,  -999.0,-999.000,9,-999.000, 50139.9,   0.9296,-999.0000, -999.00
 316N145_14,       I02E,    1128,          1,          2,     SIH022,2,19951220,       0537,    -8.0000,    86.6667,       5203,  5250.4,   1.3890,  34.7157,2,  34.7156,2,    187.3,2,   187.5,2,  129.27,2,   32.97,2,    0.00,2,    2.30,2,-999.000,5,-999.000,5,  -999.0,9,  -999.0,9,  -999.0,5,-999.000,1,-999.000,-999.0000,1, -999.00,9, -999.00,9,  -999.0,9,  -999.0,-999.000,9,-999.000, 52648.8,   0.9276,-999.0000, -999.00
 316N145_14,       I02E,    1128,          1,          1,     SIH023,2,19951220,       0537,    -8.0000,    86.6667,       5203,  5310.8,   1.3974,  34.7158,2,  34.7158,2,    187.5,2,   187.6,2,  129.51,6,   32.99,6,    0.00,6,    2.29,6,   0.004,2,  -0.002,2,  -999.0,9,  -999.0,9,  -999.0,5,-999.000,1,-999.000,-999.0000,1, -999.00,9, -999.00,9,  -999.0,9,  -999.0,-999.000,9,-999.000, 53253.1,   0.9282,-999.0000, -999.00