BOTTLE,20220829CCHSIOAMB
EXPOCODE,SECT_ID,STNNBR,CASTNO,SAMPNO,BTLNBR,BTLNBR_FLAG_W,DATE,TIME,LATITUDE,LONGITUDE,DEPTH,CTDPRS,CTDTMP,CTDSAL,CTDSAL_FLAG_W,SALNTY,SALNTY_FLAG_W,CTDOXY,CTDOXY_FLAG_W,OXYGEN,OXYGEN_FLAG_W,SILCAT,SILCAT_FLAG_W,NITRAT,NITRAT_FLAG_W,NITRIT,NITRIT_FLAG_W,PHSPHT,PHSPHT_FLAG_W,CFC-11,CFC-11_FLAG_W,CFC-12,CFC-12_FLAG_W,TCARBN,TCARBN_FLAG_W,ALKALI,ALKALI_FLAG_W,PCO2,PCO2_FLAG_W,TRITUM,TRITUM_FLAG_W,TRITER,HELIUM,HELIUM_FLAG_W,DELHE3,DELHE3_FLAG_W,DELC13,DELC13_FLAG_W,DELC14,DELC14_FLAG_W,C14ERR,NEON,NEON_FLAG_W,NEONER,CTDRAW,THETA,HELIER,DELHER
,,,,,,,,,,,METERS,DBAR,ITS-90,PSS-78,,PSS-78,,UMOL/KG,,UMOL/KG,,UMOL/KG,,UMOL/KG,,UMOL/KG,,UMOL/KG,,PMOL/KG,,PMOL/KG,,UMOL/KG,,UMOL/KG,,UATM,,TU,,TU,NMOL/KG,,PERCNT,,/MILLE,,/MILLE,,/MILLE,NMOL/KG,,NMOL/KG,DBAR,DEG C,NMOL/KG,PERCNT
 316N145_14,       I02E,    1137,          1,         36,     SIH024,2,19951222,       2106,    -8.0000,    80.6653,       5245,    12.6,  28.2314,  34.0433,2,  34.0556,2,    216.2,2,   209.2,2,    3.20,2,    0.22,2,    0.01,2,    0.12,2,   1.630,2,   0.946,2,  -999.0,9,  2232.8,2,  -999.0,5,-999.000,1,-999.000,-999.0000,1, -999.00,9, -999.00,9,  -999.0,9,  -999.0,-999.000,9,-999.000,   263.1,  28.2284,-999.0000, -999.00
 316N145_14,       I02E,    1137,          1,         35,     SIH003,2,19951222,       2106,    -8.0000,    80.6653,       5245,    38.1,  24.6235,  35.2644,2,  35.2609,2,    139.7,3,   175.4,2,    6.30,2,    2.51,2,    0.07,2,    0.51,2,-999.000,5,-999.000,5,  -999.0,9,  2310.5,2,  -999.0,5,-999.000,1,-999.000,-999.0000,1, -999.00,9, -999.00,9,  -999.0,9,  -999.0,-999.000,9,-999.000,   513.5,  24.6153,-999.0000, -999.00
 316N145_14,       I02E,    1137,          1,         34,     SIH026,2,19951222,       2106,    -8.0000,    80.6653,       5245,    67.8,  20.7561,  35.1679,2,  35.1707,2,    111.4,2,   102.9,2,   12.01,2,   14.89,2,    0.22,2,    1.11,2,   1.426,2,   0.765,2,  -999.0,9,  2307.6,2,  -999.0,5,-999.000,1,-999.000,-999.0000,1, -999.00,9, -999.00,9,  -999.0,9,  -999.0,-999.000,9,-999.000,   805.5,  20.7433,-999.0000, -999.00
 316N145_14,       I02E,    1137,          1,         33,     SIH027,2,19951222,       2106,    -8.0000,    80.6653,       5245,   107.5,  17.0507,  35.0860,2,  35.0779,2,     83.3,2,    87.0,2,   18.75,2,   19.49,2,    0.03,2,    1.38,2,   1.283,2,   0.675,2,  -999.0,9,  2316.3,2,  -999.0,5,-999.000,1,-999.000,-999.0000,1, -999.00,9, -999.00,9,  -999.0,9,  -999.0,-999.000,9,-999.000,  1200.0,  17.0330,-999.0000, -999.00
 316N145_14,       I02E,    1137,          1,         32,     SIH028,2,19951222,       2106,    -8.0000,    80.6653,       5245,   158.2,  13.2992,  34.6985,2,  34.7001,2,     64.2,2,    75.3,2,   33.65,2,   25.56,2,    0.01,2,    1.80,2,   0.773,2,   0.393,2,  -999.0,9,  2302.5,2,  -999.0,5,-999.000,1,-999.000,-999.0000,1, -999.00,9, -999.00,9,  -999.0,9,  -999.0,-999.000,9,-999.000,  1707.8,  13.2772,-999.0000, -999.00
 316N145_14,       I02E,    1137,          1,         31,     SIH029,2,19951222,       2106,    -8.0000,    80.6653,       5245,   207.9,  12.1465,  34.7627,2,  34.7624,2,     69.9,2,    67.3,2,   34.69,2,   27.72,2,    0.01,2,    1.93,2,   0.539,2,   0.273,2,  -999.0,9,  2311.4,2,  -999.0,5,-999.000,1,-999.000,-999.0000,1, -999.00,9, -999.00,9,  -999.0,9,  -999.0,-999.000,9,-999.000,  2205.0,  12.1192,-999.0000, -999.00
 316N145_14,       I02E,    1137,          1,         30,     SIH030,2,19951222,       2106,    -8.0000,    80.6653,       5245,   262.8,  11.7137,  34.9029,2,  34.9008,2,     69.4,2,    71.7,2,   29.32,2,   27.38,2,    0.00,2,    1.90,2,   0.506,2,   0.248,2,  -999.0,9,  2312.2,2,  -999.0,5,-999.000,1,-999.000,-999.0000,1, -999.00,9, -999.00,9,  -999.0,9,  -999.0,-999.000,9,-999.000,  2753.8,  11.6799,-999.0000, -999.00
 316N145_14,       I02E,    1137,          1,         29,     SIH031,2,19951222,       2106,    -8.0000,    80.6653,       5245,   308.2,  11.1517,  34.9184,2,  34.9178,2,     89.5,2,    91.8,2,   25.68,2,   26.09,2,    0.01,2,    1.80,2,   0.599,2,   0.303,2,  -999.0,9,  2318.7,2,  -999.0,5,-999.000,1,-999.000,-999.0000,1, -999.00,9, -999.00,9,  -999.0,9,  -999.0,-999.000,9,-999.000,  3208.5,  11.1132,-999.0000, -999.00
 316N145_14,       I02E,    1137,          1,         28,     SIH032,3,19951222,       2106,    -8.0000,    80.6653,       5245,   357.5,  10.4694,  34.8759,2,  34.8749,2,    107.4,2,   105.9,2,   25.68,2,   26.15,2,    0.01,2,    1.78,2,-999.000,5,-999.000,5,  -999.0,9,  2311.3,2,  -999.0,5,-999.000,1,-999.000,-999.0000,1, -999.00,9, -999.00,9,  -999.0,9,  -999.0,-999.000,9,-999.000,  3701.6,  10.4264,-999.0000, -999.00
 316N145_14,       I02E,    1137,          1,         27,     SIH033,2,19951222,       2106,    -8.0000,    80.6653,       5245,   408.0,   9.8567,  34.8381,2,  34.8363,2,     98.5,2,   102.5,2,   28.98,2,   27.91,2,    0.01,2,    1.89,2,   0.414,2,   0.219,2,  -999.0,9,  2320.4,2,  -999.0,5,-999.000,1,-999.000,-999.0000,1, -999.00,9, -999.00,9,  -999.0,9,  -999.0,-999.000,9,-999.000,  4206.0,   9.8094,-999.0000, -999.00
 316N145_14,       I02E,    1137,          1,         26,     SIH037,2,19951222,       2106,    -8.0000,    80.6653,       5245,   508.4,   8.8562,  34.7926,2,  34.7929,2,     91.3,2,    88.8,2,   39.89,2,   31.03,2,    0.00,2,    2.14,2,   0.151,6,   0.088,6,  -999.0,9,  2216.4,4,  -999.0,5,-999.000,1,-999.000,-999.0000,1, -999.00,9, -999.00,9,  -999.0,9,  -999.0,-999.000,9,-999.000,  5209.9,   8.8006,-999.0000, -999.00
 316N145_14,       I02E,    1137,          1,         25,     SI9446,2,19951222,       2106,    -8.0000,    80.6653,       5245,   608.7,   7.9282,  34.7661,2,  34.7653,2,     73.5,2,    74.6,2,   55.34,2,   33.69,2,    0.01,2,    2.40,2,   0.041,2,   0.023,6,  -999.0,9,  2335.7,2,  -999.0,5,-999.000,1,-999.000,-999.0000,1, -999.00,9, -999.00,9,  -999.0,9,  -999.0,-999.000,9,-999.000,  6213.5,   7.8655,-999.0000, -999.00
 316N145_14,       I02E,    1137,          1,         24,     SIH036,2,19951222,       2106,    -8.0000,    80.6653,       5245,   708.1,   7.1268,  34.7430,2,  34.7402,2,     70.9,2,    70.4,2,   68.52,2,   35.12,2,    0.01,2,    2.53,2,   0.016,2,   0.012,2,  -999.0,9,  2346.6,2,  -999.0,5,-999.000,1,-999.000,-999.0000,1, -999.00,9, -999.00,9,  -999.0,9,  -999.0,-999.000,9,-999.000,  7207.9,   7.0576,-999.0000, -999.00
 316N145_14,       I02E,    1137,          1,         23,     SIH001,2,19951222,       2106,    -8.0000,    80.6653,       5245,   809.2,   6.4122,  34.7256,2,  34.7270,2,     72.6,2,    72.0,2,   80.16,2,   35.85,2,    0.01,2,    2.59,2,   0.009,2,  -0.003,2,  -999.0,9,  2357.2,2,  -999.0,5,-999.000,1,-999.000,-999.0000,1, -999.00,9, -999.00,9,  -999.0,9,  -999.0,-999.000,9,-999.000,  8218.9,   6.3369,-999.0000, -999.00
 316N145_14,       I02E,    1137,          1,         22,     SIH019,2,19951222,       2106,    -8.0000,    80.6653,       5245,   909.8,   5.8645,  34.7129,2,  34.7134,2,     77.5,2,    76.5,2,   87.80,2,   36.15,2,    0.01,2,    2.61,2,   0.009,2,   0.003,2,  -999.0,9,  2365.6,2,  -999.0,5,-999.000,1,-999.000,-999.0000,1, -999.00,9, -999.00,9,  -999.0,9,  -999.0,-999.000,9,-999.000,  9225.7,   5.7830,-999.0000, -999.00
 316N145_14,       I02E,    1137,          1,         21,     SIH025,3,19951222,       2106,    -8.0000,    80.6653,       5245,  1010.1,   5.2689,  34.6993,2,  34.6993,2,     82.4,2,    82.8,2,   95.35,2,   36.25,6,    0.00,6,    2.62,6,   0.004,2,   0.007,2,  -999.0,9,  2381.3,2,  -999.0,5,-999.000,1,-999.000,-999.0000,1, -999.00,9, -999.00,9,  -999.0,9,  -999.0,-999.000,9,-999.000, 10228.9,   5.1823,-999.0000, -999.00
 316N145_14,       I02E,    1137,          1,         20,     SIH004,2,19951222,       2106,    -8.0000,    80.6653,       5245,  1102.2,   4.8951,  34.7104,2,  34.7079,2,     85.8,2,    85.5,2,  100.32,2,   36.45,2,    0.00,2,    2.65,2,   0.001,2,   0.000,2,  -999.0,9,  2379.6,2,  -999.0,5,-999.000,1,-999.000,-999.0000,1, -999.00,9, -999.00,9,  -999.0,9,  -999.0,-999.000,9,-999.000, 11150.1,   4.8030,-999.0000, -999.00
 316N145_14,       I02E,    1137,          1,         19,     SIH005,2,19951222,       2106,    -8.0000,    80.6653,       5245,  1206.3,   4.5792,  34.7226,2,  34.7219,2,     90.4,2,    90.1,2,  102.87,6,   36.41,6,    0.01,6,    2.64,6,-999.000,5,-999.000,5,  -999.0,9,  2386.6,2,  -999.0,5,-999.000,1,-999.000,-999.0000,1, -999.00,9, -999.00,9,  -999.0,9,  -999.0,-999.000,9,-999.000, 12191.8,   4.4803,-999.0000, -999.00
 316N145_14,       I02E,    1137,          1,         18,     SIH006,2,19951222,       2106,    -8.0000,    80.6653,       5245,  1406.6,   3.9479,  34.7489,2,  34.7480,2,    104.5,2,   101.8,2,  106.95,6,   36.15,6,    0.01,6,    2.58,2,  -0.001,2,  -0.004,2,  -999.0,9,  2388.5,2,  -999.0,5,-999.000,1,-999.000,-999.0000,1, -999.00,9, -999.00,9,  -999.0,9,  -999.0,-999.000,9,-999.000, 14196.5,   3.8372,-999.0000, -999.00
 316N145_14,       I02E,    1137,          1,         17,     SIH038,2,19951222,       2106,    -8.0000,    80.6653,       5245,  1609.6,   3.2514,  34.7522,2,  34.7518,2,    119.1,2,   115.9,2,  114.42,6,   35.77,6,    0.01,6,    2.55,2,-999.000,5,-999.000,5,  -999.0,9,  2394.8,2,  -999.0,5,-999.000,1,-999.000,-999.0000,1, -999.00,9, -999.00,9,  -999.0,9,  -999.0,-999.000,9,-999.000, 16226.6,   3.1308,-999.0000, -999.00
 316N145_14,       I02E,    1137,          1,         16,     SIH008,2,19951222,       2106,    -8.0000,    80.6653,       5245,  1810.7,   2.8131,  34.7510,2,  34.7504,2,    130.0,2,   129.4,2,  117.04,2,   35.21,2,    0.01,2,    2.50,2,-999.000,5,-999.000,5,  -999.0,9,  2407.5,2,  -999.0,5,-999.000,1,-999.000,-999.0000,1, -999.00,9, -999.00,9,  -999.0,9,  -999.0,-999.000,9,-999.000, 18238.7,   2.6807,-999.0000, -999.00
 316N145_14,       I02E,    1137,          1,         15,     SIH009,2,19951222,       2106,    -8.0000,    80.6653,       5245,  2006.4,   2.4698,  34.7473,2,  34.7475,2,    140.3,2,   139.3,2,  120.55,2,   34.90,2,    0.00,2,    2.46,2,-999.000,5,-999.000,5,  -999.0,9,  2401.5,2,  -999.0,5,-999.000,1,-999.000,-999.0000,1, -999.00,9, -999.00,9,  -999.0,9,  -999.0,-999.000,9,-999.000, 20195.6,   2.3253,-999.0000, -999.00
 316N145_14,       I02E,    1137,          1,         14,     SIH010,2,19951222,       2106,    -8.0000,    80.6653,       5245,  2227.5,   2.1888,  34.7426,2,  34.7435,2,    147.8,2,   148.5,2,  123.18,2,   34.45,2,    0.00,2,    2.43,2,-999.000,5,-999.000,5,  -999.0,9,  2403.8,2,  -999.0,5,-999.000,1,-999.000,-999.0000,1, -999.00,9, -999.00,9,  -999.0,9,  -999.0,-999.000,9,-999.000, 22407.6,   2.0293,-999.0000, -999.00
 316N145_14,       I02E,    1137,          1,         13,     SIH011,2,19951222,       2106,    -8.0000,    80.6653,       5245,  2503.2,   1.9134,  34.7354,2,  34.7349,2,    158.3,2,   159.0,2,  124.59,2,   33.89,2,    0.01,2,    2.38,2,-999.000,5,-999.000,5,  -999.0,9,  2405.0,2,  -999.0,5,-999.000,1,-999.000,-999.0000,1, -999.00,9, -999.00,9,  -999.0,9,  -999.0,-999.000,9,-999.000, 25165.8,   1.7341,-999.0000, -999.00
 316N145_14,       I02E,    1137,          1,         12,     SIH012,2,19951222,       2106,    -8.0000,    80.6653,       5245,  2734.1,   1.7723,  34.7317,2,  34.7315,2,    162.7,2,   162.6,2,  127.39,2,   33.95,2,    0.01,2,    2.37,2,   0.000,2,   0.001,2,  -999.0,9,  2407.9,2,  -999.0,5,-999.000,1,-999.000,-999.0000,1, -999.00,9, -999.00,9,  -999.0,9,  -999.0,-999.000,9,-999.000, 27476.0,   1.5745,-999.0000, -999.00
 316N145_14,       I02E,    1137,          1,         11,     SI9426,2,19951222,       2106,    -8.0000,    80.6653,       5245,  3000.7,   1.6306,  34.7282,2,  34.7278,2,    165.5,2,   165.5,2,  130.54,2,   33.96,2,    0.00,2,    2.36,2,-999.000,5,-999.000,5,  -999.0,9,  2415.4,2,  -999.0,5,-999.000,1,-999.000,-999.0000,1, -999.00,9, -999.00,9,  -999.0,9,  -999.0,-999.000,9,-999.000, 30143.3,   1.4106,-999.0000, -999.00
 316N145_14,       I02E,    1137,          1,         10,     SIH014,2,19951222,       2106,    -8.0000,    80.6653,       5245,  3242.2,   1.5210,  34.7247,2,  34.7245,2,    167.5,2,   168.8,2,  132.83,2,   33.92,2,    0.00,2,    2.35,2,-999.000,5,-999.000,5,  -999.0,9,  2417.7,2,  -999.0,5,-999.000,1,-999.000,-999.0000,1, -999.00,9, -999.00,9,  -999.0,9,  -999.0,-999.000,9,-999.000, 32559.5,   1.2800,-999.0000, -999.00
 316N145_14,       I02E,    1137,          1,          9,     SIH015,2,19951222,       2106,    -8.0000,    80.6653,       5245,  3499.0,   1.4320,  34.7216,2,  34.7215,2,    170.2,2,   171.7,2,  134.76,2,   33.75,2,    0.00,2,    2.35,2,-999.000,5,-999.000,5,  -999.0,9,  2410.5,2,  -999.0,5,-999.000,1,-999.000,-999.0000,1, -999.00,9, -999.00,9,  -999.0,9,  -999.0,-999.000,9,-999.000, 35128.9,   1.1674,-999.0000, -999.00
 316N145_14,       I02E,    1137,          1,          8,     SIH016,2,19951222,       2106,    -8.0000,    80.6653,       5245,  3749.4,   1.3881,  34.7199,2,  34.7199,2,    173.7,2,   174.9,2,  135.12,2,   33.70,2,    0.01,2,    2.33,2,-999.000,5,-999.000,5,  -999.0,9,  2417.3,2,  -999.0,5,-999.000,1,-999.000,-999.0000,1, -999.00,9, -999.00,9,  -999.0,9,  -999.0,-999.000,9,-999.000, 37634.2,   1.0988,-999.0000, -999.00
 316N145_14,       I02E,    1137,          1,          7,     SIH017,2,19951222,       2106,    -8.0000,    80.6653,       5245,  3998.7,   1.3678,  34.7176,2,  34.7186,2,    176.9,2,   177.5,2,  134.28,2,   33.59,2,    0.01,2,    2.31,2,   0.000,2,  -0.003,2,  -999.0,9,  2418.5,2,  -999.0,5,-999.000,1,-999.000,-999.0000,1, -999.00,9, -999.00,9,  -999.0,9,  -999.0,-999.000,9,-999.000, 40127.5,   1.0525,-999.0000, -999.00
 316N145_14,       I02E,    1137,          1,          6,     SIH018,2,19951222,       2106,    -8.0000,    80.6653,       5245,  4247.9,   1.3557,  34.7185,2,  34.7178,2,    178.5,2,   180.2,2,  134.13,2,   33.59,2,    0.01,2,    2.30,2,-999.000,5,-999.000,5,  -999.0,9,  2415.5,2,  -999.0,5,-999.000,1,-999.000,-999.0000,1, -999.00,9, -999.00,9,  -999.0,9,  -999.0,-999.000,9,-999.000, 42621.0,   1.0134,-999.0000, -999.00
 316N145_14,       I02E,    1137,          1,          5,     SIH002,2,19951222,       2106,    -8.0000,    80.6653,       5245,  4497.5,   1.3591,  34.7170,2,  34.7164,2,    180.4,2,   184.7,4,  133.28,2,   33.50,2,    0.01,2,    2.30,2,-999.000,5,-999.000,5,  -999.0,9,  2411.4,2,  -999.0,5,-999.000,1,-999.000,-999.0000,1, -999.00,9, -999.00,9,  -999.0,9,  -999.0,-999.000,9,-999.000, 45117.3,   0.9886,-999.0000, -999.00
 316N145_14,       I02E,    1137,          1,          4,     SIH020,2,19951222,       2106,    -8.0000,    80.6653,       5245,  4749.4,   1.3736,  34.7167,2,  34.7170,2,    182.2,2,   182.3,2,  132.43,2,   33.39,2,    0.00,2,    2.29,2,-999.000,5,-999.000,5,  -999.0,9,  2411.9,2,  -999.0,5,-999.000,1,-999.000,-999.0000,1, -999.00,9, -999.00,9,  -999.0,9,  -999.0,-999.000,9,-999.000, 47637.7,   0.9733,-999.0000, -999.00
 316N145_14,       I02E,    1137,          1,          3,     SIH021,2,19951222,       2106,    -8.0000,    80.6653,       5245,  5000.0,   1.3926,  34.7169,2,  34.7158,2,    183.3,2,   183.4,2,  131.93,2,   33.28,2,    0.00,2,    2.30,2,-999.000,5,-999.000,5,  -999.0,9,  2407.5,2,  -999.0,5,-999.000,1,-999.000,-999.0000,1, -999.00,9, -999.00,9,  -999.0,9,  -999.0,-999.000,9,-999.000, 50144.5,   0.9618,-999.0000, -999.00
 316N145_14,       I02E,    1137,          1,          2,     SIH022,2,19951222,       2106,    -8.0000,    80.6653,       5245,  5250.2,   1.4157,  34.7169,2,  34.7158,2,    185.4,2,   184.4,2,  131.60,2,   33.23,2,    0.00,2,    2.29,2,   0.001,2,   0.003,2,  -999.0,9,  2407.9,2,  -999.0,5,-999.000,1,-999.000,-999.0000,1, -999.00,9, -999.00,9,  -999.0,9,  -999.0,-999.000,9,-999.000, 52647.2,   0.9534,-999.0000, -999.00
 316N145_14,       I02E,    1137,          1,          1,     SIH023,2,19951222,       2106,    -8.0000,    80.6653,       5245,  5356.6,   1.4275,  34.7168,2,  34.7158,2,    184.3,2,   184.5,2,  131.50,6,   33.12,6,    0.00,6,    2.28,6,   0.001,2,   0.003,2,  -999.0,9,  2409.7,2,  -999.0,5,-999.000,1,-999.000,-999.0000,1, -999.00,9, -999.00,9,  -999.0,9,  -999.0,-999.000,9,-999.000, 53707.3,   0.9514,-999.0000, -999.00