BOTTLE,20220829CCHSIOAMB
EXPOCODE,SECT_ID,STNNBR,CASTNO,SAMPNO,BTLNBR,BTLNBR_FLAG_W,DATE,TIME,LATITUDE,LONGITUDE,DEPTH,CTDPRS,CTDTMP,CTDSAL,CTDSAL_FLAG_W,SALNTY,SALNTY_FLAG_W,CTDOXY,CTDOXY_FLAG_W,OXYGEN,OXYGEN_FLAG_W,SILCAT,SILCAT_FLAG_W,NITRAT,NITRAT_FLAG_W,NITRIT,NITRIT_FLAG_W,PHSPHT,PHSPHT_FLAG_W,CFC-11,CFC-11_FLAG_W,CFC-12,CFC-12_FLAG_W,TCARBN,TCARBN_FLAG_W,ALKALI,ALKALI_FLAG_W,PCO2,PCO2_FLAG_W,TRITUM,TRITUM_FLAG_W,TRITER,HELIUM,HELIUM_FLAG_W,DELHE3,DELHE3_FLAG_W,DELC13,DELC13_FLAG_W,DELC14,DELC14_FLAG_W,C14ERR,NEON,NEON_FLAG_W,NEONER,CTDRAW,THETA,HELIER,DELHER
,,,,,,,,,,,METERS,DBAR,ITS-90,PSS-78,,PSS-78,,UMOL/KG,,UMOL/KG,,UMOL/KG,,UMOL/KG,,UMOL/KG,,UMOL/KG,,PMOL/KG,,PMOL/KG,,UMOL/KG,,UMOL/KG,,UATM,,TU,,TU,NMOL/KG,,PERCNT,,/MILLE,,/MILLE,,/MILLE,NMOL/KG,,NMOL/KG,DBAR,DEG C,NMOL/KG,PERCNT
 316N145_14,       I02E,    1125,          1,         36,     SIH024,2,19951219,       0213,   -10.3263,    88.3112,       4310,    11.0,  27.5780,  34.2736,2,  34.2723,2,    204.4,2,   205.9,2,    2.83,2,    0.26,2,    0.00,2,    0.09,2,-999.000,5,-999.000,5,  1921.6,2,  2245.9,2,  -999.0,5,-999.000,1,-999.000,-999.0000,1, -999.00,9, -999.00,9,  -999.0,9,  -999.0,-999.000,9,-999.000,   257.5,  27.5754,-999.0000, -999.00
 316N145_14,       I02E,    1125,          1,         35,     SIH003,2,19951219,       0213,   -10.3263,    88.3112,       4310,    55.5,  26.9971,  34.2364,2,  34.2366,2,    210.7,2,   212.9,2,    2.65,2,    0.26,2,    0.00,2,    0.10,2,-999.000,5,-999.000,5,  -999.0,9,  -999.0,9,  -999.0,5,-999.000,1,-999.000,-999.0000,1, -999.00,9, -999.00,9,  -999.0,9,  -999.0,-999.000,9,-999.000,   698.4,  26.9844,-999.0000, -999.00
 316N145_14,       I02E,    1125,          1,         34,     SIH026,2,19951219,       0213,   -10.3263,    88.3112,       4310,   100.3,  23.9808,  34.4368,2,  34.4451,2,    124.9,2,   139.0,2,    9.67,2,    8.75,2,    0.05,2,    0.67,2,-999.000,5,-999.000,5,  -999.0,9,  -999.0,9,  -999.0,5,-999.000,1,-999.000,-999.0000,1, -999.00,9, -999.00,9,  -999.0,9,  -999.0,-999.000,9,-999.000,  1140.9,  23.9598,-999.0000, -999.00
 316N145_14,       I02E,    1125,          1,         33,     SIH027,2,19951219,       0213,   -10.3263,    88.3112,       4310,   151.2,  19.6681,  34.5851,2,  34.5832,2,    105.4,2,   108.0,2,   19.48,2,   15.85,2,    0.02,2,    1.14,2,-999.000,5,-999.000,5,  -999.0,9,  -999.0,9,  -999.0,5,-999.000,1,-999.000,-999.0000,1, -999.00,9, -999.00,9,  -999.0,9,  -999.0,-999.000,9,-999.000,  1643.9,  19.6405,-999.0000, -999.00
 316N145_14,       I02E,    1125,          1,         32,     SIH028,2,19951219,       0213,   -10.3263,    88.3112,       4310,   199.4,  14.9983,  34.5915,2,  34.5834,2,    102.8,2,   103.7,2,   30.00,2,   20.99,2,    0.01,2,    1.50,2,-999.000,5,-999.000,5,  -999.0,9,  -999.0,9,  -999.0,5,-999.000,1,-999.000,-999.0000,1, -999.00,9, -999.00,9,  -999.0,9,  -999.0,-999.000,9,-999.000,  2124.1,  14.9682,-999.0000, -999.00
 316N145_14,       I02E,    1125,          1,         31,     SIH029,2,19951219,       0213,   -10.3263,    88.3112,       4310,   300.4,  11.1066,  34.7343,2,  34.7360,2,     67.3,2,    77.2,2,   37.36,2,   28.16,2,    0.00,2,    1.96,2,-999.000,5,-999.000,5,  -999.0,9,  -999.0,9,  -999.0,5,-999.000,1,-999.000,-999.0000,1, -999.00,9, -999.00,9,  -999.0,9,  -999.0,-999.000,9,-999.000,  3131.3,  11.0693,-999.0000, -999.00
 316N145_14,       I02E,    1125,          1,         30,     SIH030,2,19951219,       0213,   -10.3263,    88.3112,       4310,   400.4,   9.9900,  34.7941,2,  34.7935,2,     92.6,2,    97.3,2,   32.45,2,   27.94,2,    0.00,2,    1.93,2,-999.000,5,-999.000,5,  -999.0,9,  -999.0,9,  -999.0,5,-999.000,1,-999.000,-999.0000,1, -999.00,9, -999.00,9,  -999.0,9,  -999.0,-999.000,9,-999.000,  4131.4,   9.9432,-999.0000, -999.00
 316N145_14,       I02E,    1125,          1,         29,     SIH031,2,19951219,       0213,   -10.3263,    88.3112,       4310,   501.4,   8.5490,  34.7158,2,  34.7132,2,     80.7,2,    83.2,2,   47.52,2,   31.98,2,    0.00,2,    2.24,2,-999.000,5,-999.000,5,  -999.0,9,  -999.0,9,  -999.0,5,-999.000,1,-999.000,-999.0000,1, -999.00,9, -999.00,9,  -999.0,9,  -999.0,-999.000,9,-999.000,  5141.0,   8.4955,-999.0000, -999.00
 316N145_14,       I02E,    1125,          1,         28,     SIH032,2,19951219,       0213,   -10.3263,    88.3112,       4310,   601.4,   7.6949,  34.6922,2,  34.6910,2,     72.7,2,    74.8,2,   60.67,2,   34.06,2,    0.00,2,    2.41,2,-999.000,5,-999.000,5,  -999.0,9,  -999.0,9,  -999.0,5,-999.000,1,-999.000,-999.0000,1, -999.00,9, -999.00,9,  -999.0,9,  -999.0,-999.000,9,-999.000,  6141.2,   7.6340,-999.0000, -999.00
 316N145_14,       I02E,    1125,          1,         27,     SIH033,2,19951219,       0213,   -10.3263,    88.3112,       4310,   701.9,   6.9232,  34.6780,2,  34.6781,2,     73.4,2,    74.1,2,   72.06,2,   35.32,2,    0.00,2,    2.52,2,-999.000,5,-999.000,5,  -999.0,9,  -999.0,9,  -999.0,5,-999.000,1,-999.000,-999.0000,1, -999.00,9, -999.00,9,  -999.0,9,  -999.0,-999.000,9,-999.000,  7146.3,   6.8558,-999.0000, -999.00
 316N145_14,       I02E,    1125,          1,         26,     SIH037,2,19951219,       0213,   -10.3263,    88.3112,       4310,   796.2,   6.3454,  34.6576,2,  34.6570,2,     78.1,2,    77.5,2,   80.29,2,   35.69,2,    0.00,2,    2.56,2,-999.000,5,-999.000,5,  -999.0,9,  -999.0,9,  -999.0,5,-999.000,1,-999.000,-999.0000,1, -999.00,9, -999.00,9,  -999.0,9,  -999.0,-999.000,9,-999.000,  8089.1,   6.2719,-999.0000, -999.00
 316N145_14,       I02E,    1125,          1,         25,     SI9446,3,19951219,       0213,   -10.3263,    88.3112,       4310,   997.6,   5.1947,  34.6404,2,  34.6398,2,     86.1,2,    86.6,2,   96.41,2,   36.20,2,    0.00,2,    2.62,2,-999.000,5,-999.000,5,  -999.0,9,  -999.0,9,  -999.0,5,-999.000,1,-999.000,-999.0000,1, -999.00,9, -999.00,9,  -999.0,9,  -999.0,-999.000,9,-999.000, 10105.3,   5.1099,-999.0000, -999.00
 316N145_14,       I02E,    1125,          1,         24,     SIH036,3,19951219,       0213,   -10.3263,    88.3112,       4310,  1249.4,   4.3848,  34.6813,2,  34.6810,2,     94.4,2,    94.0,2,  104.97,2,   36.52,2,    0.00,2,    2.64,2,-999.000,5,-999.000,5,  -999.0,9,  -999.0,9,  -999.0,5,-999.000,1,-999.000,-999.0000,1, -999.00,9, -999.00,9,  -999.0,9,  -999.0,-999.000,9,-999.000, 12623.5,   4.2840,-999.0000, -999.00
 316N145_14,       I02E,    1125,          1,         23,     SIH001,2,19951219,       0213,   -10.3263,    88.3112,       4310,  1503.9,   3.4705,  34.7143,2,  34.7146,2,    113.8,2,   114.2,2,  109.18,2,   35.88,2,    0.00,2,    2.58,2,-999.000,5,-999.000,5,  -999.0,9,  -999.0,9,  -999.0,5,-999.000,1,-999.000,-999.0000,1, -999.00,9, -999.00,9,  -999.0,9,  -999.0,-999.000,9,-999.000, 15169.6,   3.3566,-999.0000, -999.00
 316N145_14,       I02E,    1125,          1,         22,     SIH019,3,19951219,       0213,   -10.3263,    88.3112,       4310,  1754.3,   2.8719,  34.7276,2,  34.7278,2,    133.0,2,   131.4,2,  112.50,2,   35.09,2,    0.00,2,    2.50,2,-999.000,5,-999.000,5,  -999.0,9,  -999.0,9,  -999.0,5,-999.000,1,-999.000,-999.0000,1, -999.00,9, -999.00,9,  -999.0,9,  -999.0,-999.000,9,-999.000, 17673.4,   2.7437,-999.0000, -999.00
 316N145_14,       I02E,    1125,          1,         21,     SIH025,2,19951219,       0213,   -10.3263,    88.3112,       4310,  2012.7,   2.3982,  34.7373,2,  34.7364,2,    148.1,2,   146.2,2,  116.34,2,   34.57,2,    0.00,2,    2.42,2,-999.000,5,-999.000,5,  -999.0,9,  -999.0,9,  -999.0,5,-999.000,1,-999.000,-999.0000,1, -999.00,9, -999.00,9,  -999.0,9,  -999.0,-999.000,9,-999.000, 20258.5,   2.2543,-999.0000, -999.00
 316N145_14,       I02E,    1125,          1,         20,     SIH004,2,19951219,       0213,   -10.3263,    88.3112,       4310,  2339.6,   2.0134,  34.7318,2,  34.7335,2,    158.4,2,   157.6,2,  120.54,2,   34.09,2,    0.00,2,    2.38,2,-999.000,5,-999.000,5,  -999.0,9,  -999.0,9,  -999.0,5,-999.000,1,-999.000,-999.0000,1, -999.00,9, -999.00,9,  -999.0,9,  -999.0,-999.000,9,-999.000, 23528.6,   1.8470,-999.0000, -999.00
 316N145_14,       I02E,    1125,          1,         19,     SIH005,2,19951219,       0213,   -10.3263,    88.3112,       4310,  2503.4,   1.8796,  34.7318,2,  34.7329,2,    162.5,2,   161.4,2,  122.28,2,   33.89,2,    0.00,2,    2.38,2,-999.000,5,-999.000,5,  -999.0,9,  -999.0,9,  -999.0,5,-999.000,1,-999.000,-999.0000,1, -999.00,9, -999.00,9,  -999.0,9,  -999.0,-999.000,9,-999.000, 25167.8,   1.7010,-999.0000, -999.00
 316N145_14,       I02E,    1125,          1,         18,     SIH006,2,19951219,       0213,   -10.3263,    88.3112,       4310,  2756.0,   1.7164,  34.7274,2,  34.7284,2,    165.5,2,   166.3,2,  125.08,2,   33.88,2,    0.00,2,    2.37,2,-999.000,5,-999.000,5,  -999.0,9,  -999.0,9,  -999.0,5,-999.000,1,-999.000,-999.0000,1, -999.00,9, -999.00,9,  -999.0,9,  -999.0,-999.000,9,-999.000, 27695.2,   1.5177,-999.0000, -999.00
 316N145_14,       I02E,    1125,          1,         17,     SIH038,3,19951219,       0213,   -10.3263,    88.3112,       4310,  2999.5,   1.5489,  34.7235,2,  34.7233,2,    169.6,2,   170.3,2,  128.22,2,   33.72,2,    0.00,2,    2.35,2,-999.000,5,-999.000,5,  -999.0,9,  -999.0,9,  -999.0,5,-999.000,1,-999.000,-999.0000,1, -999.00,9, -999.00,9,  -999.0,9,  -999.0,-999.000,9,-999.000, 30131.5,   1.3309,-999.0000, -999.00
 316N145_14,       I02E,    1125,          1,         16,     SIH008,3,19951219,       0213,   -10.3263,    88.3112,       4310,  3241.6,   1.4458,  34.7211,2,  34.7207,2,    174.6,2,   174.8,2,  129.09,2,   33.50,2,    0.00,2,    2.34,2,-999.000,5,-999.000,5,  -999.0,9,  -999.0,9,  -999.0,5,-999.000,1,-999.000,-999.0000,1, -999.00,9, -999.00,9,  -999.0,9,  -999.0,-999.000,9,-999.000, 32551.9,   1.2066,-999.0000, -999.00
 316N145_14,       I02E,    1125,          1,         15,     SIH009,2,19951219,       0213,   -10.3263,    88.3112,       4310,  3497.0,   1.3810,  34.7196,2,  34.7191,2,    176.8,2,   177.8,2,  129.26,2,   33.40,2,    0.00,2,    2.32,2,-999.000,5,-999.000,5,  -999.0,9,  -999.0,9,  -999.0,5,-999.000,1,-999.000,-999.0000,1, -999.00,9, -999.00,9,  -999.0,9,  -999.0,-999.000,9,-999.000, 35107.8,   1.1179,-999.0000, -999.00
 316N145_14,       I02E,    1125,          1,         14,     SIH010,2,19951219,       0213,   -10.3263,    88.3112,       4310,  3746.8,   1.3393,  34.7175,2,  34.7168,2,    176.9,2,   178.0,2,  132.58,2,   33.50,2,    0.00,2,    2.32,2,-999.000,5,-999.000,5,  -999.0,9,  -999.0,9,  -999.0,5,-999.000,1,-999.000,-999.0000,1, -999.00,9, -999.00,9,  -999.0,9,  -999.0,-999.000,9,-999.000, 37607.5,   1.0516,-999.0000, -999.00
 316N145_14,       I02E,    1125,          1,         13,     SIH011,2,19951219,       0213,   -10.3263,    88.3112,       4310,  3798.3,   1.3374,  34.7180,2,  34.7180,2,    177.6,2,   177.9,2,  132.40,2,   33.39,2,    0.00,2,    2.32,2,-999.000,5,-999.000,5,  -999.0,9,  -999.0,9,  -999.0,5,-999.000,1,-999.000,-999.0000,1, -999.00,9, -999.00,9,  -999.0,9,  -999.0,-999.000,9,-999.000, 38122.3,   1.0444,-999.0000, -999.00
 316N145_14,       I02E,    1125,          1,         12,     SIH012,2,19951219,       0213,   -10.3263,    88.3112,       4310,  3849.3,   1.3254,  34.7182,2,  34.7178,2,    179.8,2,   179.4,2,  132.21,2,   33.54,2,    0.00,2,    2.30,2,-999.000,5,-999.000,5,  -999.0,9,  -999.0,9,  -999.0,5,-999.000,1,-999.000,-999.0000,1, -999.00,9, -999.00,9,  -999.0,9,  -999.0,-999.000,9,-999.000, 38633.0,   1.0273,-999.0000, -999.00
 316N145_14,       I02E,    1125,          1,         11,     SI9426,2,19951219,       0213,   -10.3263,    88.3112,       4310,  3898.9,   1.3306,  34.7176,2,  34.7172,2,    180.1,2,   179.5,2,  132.20,2,   33.44,2,    0.00,2,    2.31,2,-999.000,5,-999.000,5,  -999.0,9,  -999.0,9,  -999.0,5,-999.000,1,-999.000,-999.0000,1, -999.00,9, -999.00,9,  -999.0,9,  -999.0,-999.000,9,-999.000, 39129.4,   1.0271,-999.0000, -999.00
 316N145_14,       I02E,    1125,          1,         10,     SIH014,2,19951219,       0213,   -10.3263,    88.3112,       4310,  3950.8,   1.3304,  34.7175,2,  34.7172,2,    179.3,2,   180.0,2,  131.67,2,   33.38,2,    0.00,2,    2.30,2,-999.000,5,-999.000,5,  -999.0,9,  -999.0,9,  -999.0,5,-999.000,1,-999.000,-999.0000,1, -999.00,9, -999.00,9,  -999.0,9,  -999.0,-999.000,9,-999.000, 39647.6,   1.0213,-999.0000, -999.00
 316N145_14,       I02E,    1125,          1,          9,     SIH015,3,19951219,       0213,   -10.3263,    88.3112,       4310,  4003.5,   1.3317,  34.7175,2,  34.7176,2,    180.4,2,   180.6,2,  131.66,2,   33.32,2,    0.00,2,    2.30,2,-999.000,5,-999.000,5,  -999.0,9,  -999.0,9,  -999.0,5,-999.000,1,-999.000,-999.0000,1, -999.00,9, -999.00,9,  -999.0,9,  -999.0,-999.000,9,-999.000, 40174.0,   1.0169,-999.0000, -999.00
 316N145_14,       I02E,    1125,          1,          8,     SIH016,2,19951219,       0213,   -10.3263,    88.3112,       4310,  4048.4,   1.3305,  34.7166,2,  34.7162,2,    180.1,2,   181.3,2,  132.01,2,   33.43,2,    0.00,2,    2.30,2,-999.000,5,-999.000,5,  -999.0,9,  -999.0,9,  -999.0,5,-999.000,1,-999.000,-999.0000,1, -999.00,9, -999.00,9,  -999.0,9,  -999.0,-999.000,9,-999.000, 40623.7,   1.0109,-999.0000, -999.00
 316N145_14,       I02E,    1125,          1,          7,     SIH017,2,19951219,       0213,   -10.3263,    88.3112,       4310,  4098.9,   1.3210,  34.7173,2,  34.7172,2,    181.1,2,   181.7,2,  131.30,2,   33.32,2,    0.00,2,    2.30,2,-999.000,5,-999.000,5,  -999.0,9,  -999.0,9,  -999.0,5,-999.000,1,-999.000,-999.0000,1, -999.00,9, -999.00,9,  -999.0,9,  -999.0,-999.000,9,-999.000, 41127.6,   0.9962,-999.0000, -999.00
 316N145_14,       I02E,    1125,          1,          6,     SIH018,2,19951219,       0213,   -10.3263,    88.3112,       4310,  4150.2,   1.3177,  34.7167,2,  34.7170,2,    182.0,2,   182.6,2,  131.12,2,   33.21,2,    0.00,2,    2.30,2,-999.000,5,-999.000,5,  -999.0,9,  -999.0,9,  -999.0,5,-999.000,1,-999.000,-999.0000,1, -999.00,9, -999.00,9,  -999.0,9,  -999.0,-999.000,9,-999.000, 41641.9,   0.9874,-999.0000, -999.00
 316N145_14,       I02E,    1125,          1,          5,     SIH002,2,19951219,       0213,   -10.3263,    88.3112,       4310,  4200.6,   1.3189,  34.7165,2,  34.7166,2,    183.1,2,   182.9,2,  130.93,2,   33.31,2,    0.00,2,    2.29,2,-999.000,5,-999.000,5,  -999.0,9,  -999.0,9,  -999.0,5,-999.000,1,-999.000,-999.0000,1, -999.00,9, -999.00,9,  -999.0,9,  -999.0,-999.000,9,-999.000, 42145.4,   0.9830,-999.0000, -999.00
 316N145_14,       I02E,    1125,          1,          4,     SIH020,2,19951219,       0213,   -10.3263,    88.3112,       4310,  4251.5,   1.3013,  34.7162,2,  34.7166,2,    184.9,2,   184.9,2,  130.05,2,   33.09,2,    0.00,2,    2.28,2,-999.000,5,-999.000,5,  -999.0,9,  -999.0,9,  -999.0,5,-999.000,1,-999.000,-999.0000,1, -999.00,9, -999.00,9,  -999.0,9,  -999.0,-999.000,9,-999.000, 42653.9,   0.9603,-999.0000, -999.00
 316N145_14,       I02E,    1125,          1,          3,     SIH021,2,19951219,       0213,   -10.3263,    88.3112,       4310,  4303.0,   1.2727,  34.7158,2,  34.7156,2,    187.3,2,   187.2,2,  129.35,2,   33.09,2,    0.00,2,    2.27,2,-999.000,5,-999.000,5,  -999.0,9,  -999.0,9,  -999.0,5,-999.000,1,-999.000,-999.0000,1, -999.00,9, -999.00,9,  -999.0,9,  -999.0,-999.000,9,-999.000, 43169.7,   0.9268,-999.0000, -999.00
 316N145_14,       I02E,    1125,          1,          2,     SIH022,2,19951219,       0213,   -10.3263,    88.3112,       4310,  4353.7,   1.2293,  34.7145,2,  34.7148,2,    188.9,2,   190.5,2,  127.59,2,   32.83,2,    0.00,2,    2.26,2,-999.000,5,-999.000,5,  -999.0,9,  -999.0,9,  -999.0,5,-999.000,1,-999.000,-999.0000,1, -999.00,9, -999.00,9,  -999.0,9,  -999.0,-999.000,9,-999.000, 43675.9,   0.8791,-999.0000, -999.00
 316N145_14,       I02E,    1125,          1,          1,     SIH023,2,19951219,       0213,   -10.3263,    88.3112,       4310,  4389.0,   1.2044,  34.7150,2,  34.7142,2,    194.1,2,   193.0,2,  127.05,6,   32.73,6,    0.00,6,    2.25,6,-999.000,5,-999.000,5,  -999.0,9,  -999.0,9,  -999.0,5,-999.000,1,-999.000,-999.0000,1, -999.00,9, -999.00,9,  -999.0,9,  -999.0,-999.000,9,-999.000, 44028.8,   0.8510,-999.0000, -999.00