BOTTLE,20020620WHPSIOSA
EXPOCODE,SECT_ID,STNNBR,CASTNO,SAMPNO,BTLNBR,BTLNBR_FLAG_W,DATE,TIME,LATITUDE,LONGITUDE,DEPTH,CTDPRS,CTDTMP,CTDSAL,SALNTY,SALNTY_FLAG_W,CTDOXY,OXYGEN,OXYGEN_FLAG_W,THETA
,,,,,,,,,,,,DBAR,ITS-90,PSS-78,PSS-78,,UMOL/KG,UMOL/KG,,ITS-90
  492SSY9607_1,  P08N,    45,  1,      1,     23,2,19960724,1042, 17.0050, 130.0033, 5500,     51.5,  27.3734,  34.5631,  34.5533,2,   -999.0,    209.9,2, 27.3615
  492SSY9607_1,  P08N,    45,  1,      2,     22,2,19960724,1042, 17.0050, 130.0033, 5500,    102.9,  24.4911,  34.8766,  34.8664,2,   -999.0,    210.7,2, 24.4691
  492SSY9607_1,  P08N,    45,  1,      3,     21,2,19960724,1042, 17.0050, 130.0033, 5500,    201.0,  19.7373,  34.9712,  34.9797,2,   -999.0,    184.3,2, 19.7004
  492SSY9607_1,  P08N,    45,  1,      4,     20,2,19960724,1042, 17.0050, 130.0033, 5500,    301.4,  16.8320,  34.7841,  34.7880,2,   -999.0,    196.1,2, 16.7825
  492SSY9607_1,  P08N,    45,  1,      5,     19,2,19960724,1042, 17.0050, 130.0033, 5500,    400.4,  12.8399,  34.4423,  34.4430,2,   -999.0,    179.6,2, 12.7852
  492SSY9607_1,  P08N,    45,  1,      6,     18,2,19960724,1042, 17.0050, 130.0033, 5500,    500.0,   9.2948,  34.2707,  34.2742,2,   -999.0,    124.0,2,  9.2390
  492SSY9607_1,  P08N,    45,  1,      7,     17,2,19960724,1042, 17.0050, 130.0033, 5500,    599.3,   7.4752,  34.2918,  34.2921,2,   -999.0,     85.2,2,  7.4160
  492SSY9607_1,  P08N,    45,  1,      8,     16,2,19960724,1042, 17.0050, 130.0033, 5500,    702.0,   6.2065,  34.3491,  34.3477,2,   -999.0,     73.5,2,  6.1433
  492SSY9607_1,  P08N,    45,  1,      9,     15,2,19960724,1042, 17.0050, 130.0033, 5500,    801.2,   5.5037,  34.4189,  34.4168,2,   -999.0,     75.7,2,  5.4351
  492SSY9607_1,  P08N,    45,  1,     10,     14,2,19960724,1042, 17.0050, 130.0033, 5500,    901.1,   4.8458,  34.4525,  34.4597,2,   -999.0,     80.8,2,  4.7725
  492SSY9607_1,  P08N,    45,  1,     11,     13,2,19960724,1042, 17.0050, 130.0033, 5500,   1000.8,   4.2860,  34.4923,  34.4961,2,   -999.0,     82.7,2,  4.2080
  492SSY9607_1,  P08N,    45,  1,     12,     12,2,19960724,1042, 17.0050, 130.0033, 5500,   1250.5,   3.3432,  34.5508,  34.5525,2,   -999.0,     95.7,2,  3.2523
  492SSY9607_1,  P08N,    45,  1,     13,     11,2,19960724,1042, 17.0050, 130.0033, 5500,   1501.2,   2.7853,  34.5856,  34.5871,2,   -999.0,    100.4,2,  2.6797
  492SSY9607_1,  P08N,    45,  1,     14,     10,2,19960724,1042, 17.0050, 130.0033, 5500,   1749.6,   2.4014,  34.6105,  34.6089,2,   -999.0,    108.7,2,  2.2800
  492SSY9607_1,  P08N,    45,  1,     15,      9,2,19960724,1042, 17.0050, 130.0033, 5500,   2002.4,   2.1195,  34.6284,  34.6308,2,   -999.0,    114.7,2,  1.9808
  492SSY9607_1,  P08N,    45,  1,     16,      8,2,19960724,1042, 17.0050, 130.0033, 5500,   2251.0,   1.9155,  34.6443,  34.6446,2,   -999.0,    122.1,2,  1.7587
  492SSY9607_1,  P08N,    45,  1,     17,      7,2,19960724,1042, 17.0050, 130.0033, 5500,   2499.0,   1.7846,  34.6564,  34.6566,2,   -999.0,    129.4,2,  1.6081
  492SSY9607_1,  P08N,    45,  1,     18,      6,2,19960724,1042, 17.0050, 130.0033, 5500,   3000.4,   1.6476,  34.6704,  34.6705,2,   -999.0,    141.3,2,  1.4273
  492SSY9607_1,  P08N,    45,  1,     19,      5,2,19960724,1042, 17.0050, 130.0033, 5500,   3501.3,   1.5726,  34.6795,  34.6758,2,   -999.0,    149.8,2,  1.3044
  492SSY9607_1,  P08N,    45,  1,     20,      4,2,19960724,1042, 17.0050, 130.0033, 5500,   3999.5,   1.5616,  34.6847,  34.6847,2,   -999.0,    153.6,2,  1.2409
  492SSY9607_1,  P08N,    45,  1,     21,      3,2,19960724,1042, 17.0050, 130.0033, 5500,   4499.9,   1.6006,  34.6868,  34.6847,2,   -999.0,    155.5,2,  1.2224
  492SSY9607_1,  P08N,    45,  1,     22,      2,2,19960724,1042, 17.0050, 130.0033, 5500,   5002.2,   1.6506,  34.6879,  34.6900,2,   -999.0,    158.2,2,  1.2110
  492SSY9607_1,  P08N,    45,  1,     23,      1,3,19960724,1042, 17.0050, 130.0033, 5500,   5319.0,   1.6886,  34.6881,  34.6721,3,   -999.0,    151.6,3,  1.2082
  492SSY9607_1,  P08N,    46,  1,      1,     23,2,19960724,1447, 16.7517, 130.0067, 4850,     50.6,  29.6119,  34.1893,  34.1420,3,   -999.0,    195.0,2, 29.5995
  492SSY9607_1,  P08N,    46,  1,      2,     22,2,19960724,1447, 16.7517, 130.0067, 4850,     98.8,  26.2207,  34.6278,  34.6282,2,   -999.0,    209.0,3, 26.1985
  492SSY9607_1,  P08N,    46,  1,      3,     21,2,19960724,1447, 16.7517, 130.0067, 4850,    200.6,  21.6728,  35.0018,  35.0032,2,   -999.0,    191.6,2, 21.6335
  492SSY9607_1,  P08N,    46,  1,      4,     20,2,19960724,1447, 16.7517, 130.0067, 4850,    298.9,  17.1039,  34.8122,  34.8154,2,   -999.0,    201.3,2, 17.0543
  492SSY9607_1,  P08N,    46,  1,      5,     19,2,19960724,1447, 16.7517, 130.0067, 4850,    401.1,  14.2236,  34.5519,  34.5551,2,   -999.0,    182.6,2, 14.1649
  492SSY9607_1,  P08N,    46,  1,      6,     18,2,19960724,1447, 16.7517, 130.0067, 4850,    499.8,  10.0496,  34.2740,  34.2783,2,   -999.0,    144.2,2,  9.9911
  492SSY9607_1,  P08N,    46,  1,      7,     17,2,19960724,1447, 16.7517, 130.0067, 4850,    600.8,   7.6952,  34.2939,  34.2932,2,   -999.0,     85.4,2,  7.6348
  492SSY9607_1,  P08N,    46,  1,      8,     16,2,19960724,1447, 16.7517, 130.0067, 4850,    698.8,   6.3645,  34.3453,  34.3437,2,   -999.0,     68.4,2,  6.3007
  492SSY9607_1,  P08N,    46,  1,      9,     15,2,19960724,1447, 16.7517, 130.0067, 4850,    797.5,   5.4057,  34.4188,  34.4176,2,   -999.0,     74.4,2,  5.3381
  492SSY9607_1,  P08N,    46,  1,     10,     14,2,19960724,1447, 16.7517, 130.0067, 4850,    901.2,   4.6739,  34.4605,  34.4593,2,   -999.0,     80.1,2,  4.6017
  492SSY9607_1,  P08N,    46,  1,     11,     13,2,19960724,1447, 16.7517, 130.0067, 4850,   1001.8,   4.1670,  34.4952,  34.4933,2,   -999.0,     81.6,2,  4.0899
  492SSY9607_1,  P08N,    46,  1,     12,     12,2,19960724,1447, 16.7517, 130.0067, 4850,   1250.0,   3.3292,  34.5499,  34.5523,2,   -999.0,     92.9,2,  3.2385
  492SSY9607_1,  P08N,    46,  1,     13,     11,2,19960724,1447, 16.7517, 130.0067, 4850,   1501.5,   2.7933,  34.5846,  34.5859,2,   -999.0,    100.6,2,  2.6876
  492SSY9607_1,  P08N,    46,  1,     14,     10,2,19960724,1447, 16.7517, 130.0067, 4850,   1750.8,   2.4324,  34.6085,  34.6080,2,   -999.0,    106.0,2,  2.3105
  492SSY9607_1,  P08N,    46,  1,     15,      9,2,19960724,1447, 16.7517, 130.0067, 4850,   2001.2,   2.1575,  34.6265,  34.6257,2,   -999.0,    112.9,2,  2.0183
  492SSY9607_1,  P08N,    46,  1,     16,      8,2,19960724,1447, 16.7517, 130.0067, 4850,   2254.3,   1.9345,  34.6423,  34.6424,2,   -999.0,    120.4,2,  1.7771
  492SSY9607_1,  P08N,    46,  1,     17,      7,2,19960724,1447, 16.7517, 130.0067, 4850,   2500.1,   1.8126,  34.6544,  34.6554,2,   -999.0,    127.3,2,  1.6355
  492SSY9607_1,  P08N,    46,  1,     18,      6,2,19960724,1447, 16.7517, 130.0067, 4850,   2999.6,   1.6566,  34.6704,  34.6725,2,   -999.0,    139.2,2,  1.4362
  492SSY9607_1,  P08N,    46,  1,     19,      5,2,19960724,1447, 16.7517, 130.0067, 4850,   3499.0,   1.5756,  34.6785,  34.6776,2,   -999.0,    148.8,2,  1.3075
  492SSY9607_1,  P08N,    46,  1,     20,      4,2,19960724,1447, 16.7517, 130.0067, 4850,   3999.8,   1.5666,  34.6846,  34.6835,2,   -999.0,    152.9,2,  1.2457
  492SSY9607_1,  P08N,    46,  1,     21,      3,2,19960724,1447, 16.7517, 130.0067, 4850,   4499.9,   1.6026,  34.6868,  34.6877,2,   -999.0,    155.4,2,  1.2244
  492SSY9607_1,  P08N,    46,  1,     22,      2,2,19960724,1447, 16.7517, 130.0067, 4850,   5001.0,   1.6566,  34.6869,  34.6894,2,   -999.0,    156.8,2,  1.2169
  492SSY9607_1,  P08N,    46,  1,     23,      1,2,19960724,1447, 16.7517, 130.0067, 4850,   5363.6,   1.6986,  34.6880,  34.6841,2,   -999.0,    156.8,2,  1.2122
  492SSY9607_1,  P08N,    47,  1,      1,     23,2,19960724,1841, 16.5017, 130.0017, 5770,     98.9,  26.7526,  34.6980,  34.6863,2,   -999.0,    200.2,3, 26.7300
  492SSY9607_1,  P08N,    47,  1,      2,     22,2,19960724,1841, 16.5017, 130.0017, 5770,    199.2,  20.5951,  34.9885,  34.9888,2,   -999.0,    189.2,2, 20.5574
  492SSY9607_1,  P08N,    47,  1,      3,     21,2,19960724,1841, 16.5017, 130.0017, 5770,    297.7,  17.0209,  34.8072,  34.8064,2,   -999.0,    199.3,2, 16.9717
  492SSY9607_1,  P08N,    47,  1,      4,     20,2,19960724,1841, 16.5017, 130.0017, 5770,    398.0,  12.8099,  34.4413,  34.4436,2,   -999.0,    179.8,2, 12.7557
  492SSY9607_1,  P08N,    47,  1,      5,     19,2,19960724,1841, 16.5017, 130.0017, 5770,    501.9,   9.2198,  34.2565,  34.2565,2,   -999.0,    128.2,2,  9.1641
  492SSY9607_1,  P08N,    47,  1,      6,     18,2,19960724,1841, 16.5017, 130.0017, 5770,    599.0,   7.3502,  34.3017,  34.3003,2,   -999.0,     81.1,2,  7.2916
  492SSY9607_1,  P08N,    47,  1,      7,     17,2,19960724,1841, 16.5017, 130.0017, 5770,    699.4,   6.0565,  34.3682,  34.3665,2,   -999.0,     70.1,2,  5.9944
  492SSY9607_1,  P08N,    47,  1,      8,     16,2,19960724,1841, 16.5017, 130.0017, 5770,    802.2,   5.3147,  34.4378,  34.4331,2,   -999.0,     72.0,2,  5.2472
  492SSY9607_1,  P08N,    47,  1,      9,     15,2,19960724,1841, 16.5017, 130.0017, 5770,    898.3,   4.9018,  34.4726,  34.4693,2,   -999.0,     76.5,2,  4.8284
  492SSY9607_1,  P08N,    47,  1,     10,     14,2,19960724,1841, 16.5017, 130.0017, 5770,   1002.5,   4.2810,  34.4973,  34.4976,2,   -999.0,     83.7,2,  4.2029
  492SSY9607_1,  P08N,    47,  1,     11,     13,2,19960724,1841, 16.5017, 130.0017, 5770,   1251.4,   3.3942,  34.5509,  34.5470,2,   -999.0,     93.1,2,  3.3028
  492SSY9607_1,  P08N,    47,  1,     12,     12,2,19960724,1841, 16.5017, 130.0017, 5770,   1500.6,   2.8183,  34.5836,  34.5832,2,   -999.0,     97.4,2,  2.7124
  492SSY9607_1,  P08N,    47,  1,     13,     11,2,19960724,1841, 16.5017, 130.0017, 5770,   1751.7,   2.4564,  34.6056,  34.6064,2,   -999.0,    105.2,2,  2.3341
  492SSY9607_1,  P08N,    47,  1,     14,     10,2,19960724,1841, 16.5017, 130.0017, 5770,   1996.2,   2.1515,  34.6275,  34.6247,2,   -999.0,    113.3,2,  2.0129
  492SSY9607_1,  P08N,    47,  1,     15,      9,2,19960724,1841, 16.5017, 130.0017, 5770,   2500.9,   1.8116,  34.6544,  34.6544,2,   -999.0,    128.0,2,  1.6345
  492SSY9607_1,  P08N,    47,  1,     16,      8,2,19960724,1841, 16.5017, 130.0017, 5770,   3000.6,   1.6556,  34.6704,  34.6699,2,   -999.0,    139.5,2,  1.4351
  492SSY9607_1,  P08N,    47,  1,     17,      7,2,19960724,1841, 16.5017, 130.0017, 5770,   3502.9,   1.5726,  34.6795,  34.6800,2,   -999.0,    148.6,2,  1.3042
  492SSY9607_1,  P08N,    47,  1,     18,      6,2,19960724,1841, 16.5017, 130.0017, 5770,   4004.3,   1.5676,  34.6846,  34.6816,2,   -999.0,    153.7,2,  1.2462
  492SSY9607_1,  P08N,    47,  1,     19,      5,2,19960724,1841, 16.5017, 130.0017, 5770,   4499.2,   1.5996,  34.6868,  34.6847,2,   -999.0,    155.2,2,  1.2216
  492SSY9607_1,  P08N,    47,  1,     20,      4,2,19960724,1841, 16.5017, 130.0017, 5770,   4999.9,   1.6546,  34.6880,  34.6888,2,   -999.0,   -999.0,5,  1.2151
  492SSY9607_1,  P08N,    47,  1,     21,      3,2,19960724,1841, 16.5017, 130.0017, 5770,   5499.6,   1.7176,  34.6871,  34.6902,2,   -999.0,    156.5,2,  1.2131
  492SSY9607_1,  P08N,    47,  1,     22,      2,2,19960724,1841, 16.5017, 130.0017, 5770,   6001.2,   1.7826,  34.6882,  34.6871,2,   -999.0,    156.5,3,  1.2095
  492SSY9607_1,  P08N,    47,  1,     23,      1,2,19960724,1841, 16.5017, 130.0017, 5770,   6046.4,   1.7896,  34.6873,  34.6896,2,   -999.0,    157.7,3,  1.2101
  492SSY9607_1,  P08N,    48,  1,      1,     23,2,19960724,2248, 16.2500, 130.0017, 4900,     51.4,  29.8148,  34.1213,  34.1151,2,   -999.0,    193.8,2, 29.8022
  492SSY9607_1,  P08N,    48,  1,      2,     22,2,19960724,2248, 16.2500, 130.0017, 4900,     99.7,  27.1255,  34.4859,  34.4774,2,   -999.0,    202.4,2, 27.1025
  492SSY9607_1,  P08N,    48,  1,      3,     21,2,19960724,2248, 16.2500, 130.0017, 4900,    199.1,  21.1269,  35.0007,  35.0016,2,   -999.0,    185.6,2, 21.0886
  492SSY9607_1,  P08N,    48,  1,      4,     20,2,19960724,2248, 16.2500, 130.0017, 4900,    301.9,  17.2229,  34.8223,  34.8215,2,   -999.0,    200.5,2, 17.1725
  492SSY9607_1,  P08N,    48,  1,      5,     19,2,19960724,2248, 16.2500, 130.0017, 4900,    398.9,  13.8777,  34.5248,  34.5309,2,   -999.0,    184.5,2, 13.8202
  492SSY9607_1,  P08N,    48,  1,      6,     18,2,19960724,2248, 16.2500, 130.0017, 4900,    501.1,   9.6497,  34.2547,  34.2597,2,   -999.0,    140.2,2,  9.5925
  492SSY9607_1,  P08N,    48,  1,      7,     17,2,19960724,2248, 16.2500, 130.0017, 4900,    599.2,   7.3572,  34.2377,  34.2406,2,   -999.0,     91.3,2,  7.2986
  492SSY9607_1,  P08N,    48,  1,      8,     16,2,19960724,2248, 16.2500, 130.0017, 4900,    698.7,   6.1095,  34.3481,  34.3451,2,   -999.0,     69.2,2,  6.0472
  492SSY9607_1,  P08N,    48,  1,      9,     15,2,19960724,2248, 16.2500, 130.0017, 4900,    801.2,   5.3427,  34.4358,  34.4375,2,   -999.0,     73.9,2,  5.2751
  492SSY9607_1,  P08N,    48,  1,     10,     14,2,19960724,2248, 16.2500, 130.0017, 4900,    899.8,   4.8578,  34.4755,  34.4738,2,   -999.0,     78.4,2,  4.7845
  492SSY9607_1,  P08N,    48,  1,     11,     13,2,19960724,2248, 16.2500, 130.0017, 4900,    999.3,   4.3759,  34.5054,  34.5008,2,   -999.0,     80.0,2,  4.2974
  492SSY9607_1,  P08N,    48,  1,     12,     12,2,19960724,2248, 16.2500, 130.0017, 4900,   1250.5,   3.3992,  34.5489,  34.5470,2,   -999.0,     91.0,2,  3.3078
  492SSY9607_1,  P08N,    48,  1,     13,     11,2,19960724,2248, 16.2500, 130.0017, 4900,   1499.2,   2.8383,  34.5826,  34.5828,2,   -999.0,     98.5,2,  2.7322
  492SSY9607_1,  P08N,    48,  1,     14,     10,2,19960724,2248, 16.2500, 130.0017, 4900,   1748.7,   2.4054,  34.6095,  34.6084,2,   -999.0,    106.6,2,  2.2840
  492SSY9607_1,  P08N,    48,  1,     15,      9,2,19960724,2248, 16.2500, 130.0017, 4900,   1999.1,   2.1255,  34.6284,  34.6270,2,   -999.0,    113.2,2,  1.9870
  492SSY9607_1,  P08N,    48,  1,     16,      8,2,19960724,2248, 16.2500, 130.0017, 4900,   2250.8,   1.9365,  34.6434,  34.6404,2,   -999.0,    120.5,2,  1.7794
  492SSY9607_1,  P08N,    48,  1,     17,      7,2,19960724,2248, 16.2500, 130.0017, 4900,   2500.1,   1.8006,  34.6554,  34.6536,2,   -999.0,    127.4,2,  1.6237
  492SSY9607_1,  P08N,    48,  1,     18,      6,2,19960724,2248, 16.2500, 130.0017, 4900,   3000.8,   1.6446,  34.6704,  34.6684,2,   -999.0,    140.8,2,  1.4244
  492SSY9607_1,  P08N,    48,  1,     19,      5,2,19960724,2248, 16.2500, 130.0017, 4900,   3501.3,   1.5646,  34.6805,  34.6804,2,   -999.0,    149.3,2,  1.2966
  492SSY9607_1,  P08N,    48,  1,     20,      4,2,19960724,2248, 16.2500, 130.0017, 4900,   3998.7,   1.5636,  34.6846,  34.6867,2,   -999.0,    153.1,2,  1.2429
  492SSY9607_1,  P08N,    48,  1,     21,      3,2,19960724,2248, 16.2500, 130.0017, 4900,   4501.2,   1.6046,  34.6858,  34.6847,2,   -999.0,    155.1,2,  1.2262
  492SSY9607_1,  P08N,    48,  1,     22,      2,2,19960724,2248, 16.2500, 130.0017, 4900,   4998.7,   1.6596,  34.6869,  34.6837,2,   -999.0,    155.9,2,  1.2201
  492SSY9607_1,  P08N,    48,  1,     23,      1,2,19960724,2248, 16.2500, 130.0017, 4900,   5008.4,   1.6606,  34.6870,  34.6749,3,   -999.0,    154.4,3,  1.2199
  492SSY9607_1,  P08N,    49,  1,      1,     23,2,19960725,0247, 16.0017, 130.0017, 5200,     52.3,  29.7019,  34.1063,  34.0865,2,   -999.0,    194.7,3, 29.6890
  492SSY9607_1,  P08N,    49,  1,      2,     22,2,19960725,0247, 16.0017, 130.0017, 5200,    101.7,  27.0255,  34.5720,  34.5710,2,   -999.0,    201.3,3, 27.0022
  492SSY9607_1,  P08N,    49,  1,      3,     21,2,19960725,0247, 16.0017, 130.0017, 5200,    199.9,  21.4039,  35.0007,  34.9986,2,   -999.0,    192.0,2, 21.3650
  492SSY9607_1,  P08N,    49,  1,      4,     20,2,19960725,0247, 16.0017, 130.0017, 5200,    296.6,  17.2938,  34.8273,  34.8278,2,   -999.0,    198.4,2, 17.2442
  492SSY9607_1,  P08N,    49,  1,      5,     19,2,19960725,0247, 16.0017, 130.0017, 5200,    399.3,  13.2638,  34.4765,  34.4929,3,   -999.0,    180.7,2, 13.2081
  492SSY9607_1,  P08N,    49,  1,      6,     18,2,19960725,0247, 16.0017, 130.0017, 5200,    499.8,   9.1418,  34.2785,  34.2791,2,   -999.0,    116.6,2,  9.0866
  492SSY9607_1,  P08N,    49,  1,      7,     17,2,19960725,0247, 16.0017, 130.0017, 5200,    597.7,   7.4422,  34.3407,  34.3400,2,   -999.0,     78.5,2,  7.3833
  492SSY9607_1,  P08N,    49,  1,      8,     16,2,19960725,0247, 16.0017, 130.0017, 5200,    699.7,   6.2055,  34.3752,  34.3760,2,   -999.0,     72.3,2,  6.1425
  492SSY9607_1,  P08N,    49,  1,      9,     15,2,19960725,0247, 16.0017, 130.0017, 5200,    800.7,   5.4607,  34.4229,  34.4231,2,   -999.0,     71.7,2,  5.3925
  492SSY9607_1,  P08N,    49,  1,     10,     14,2,19960725,0247, 16.0017, 130.0017, 5200,    899.9,   4.8508,  34.4736,  34.4740,2,   -999.0,     80.9,2,  4.7776
  492SSY9607_1,  P08N,    49,  1,     11,     13,2,19960725,0247, 16.0017, 130.0017, 5200,    999.3,   4.3400,  34.5073,  34.5053,2,   -999.0,     81.1,2,  4.2617
  492SSY9607_1,  P08N,    49,  1,     12,     12,2,19960725,0247, 16.0017, 130.0017, 5200,   1253.7,   3.3812,  34.5519,  34.5497,2,   -999.0,     91.7,2,  3.2897
  492SSY9607_1,  P08N,    49,  1,     13,     11,2,19960725,0247, 16.0017, 130.0017, 5200,   1500.7,   2.8093,  34.5846,  34.5820,2,   -999.0,     98.9,2,  2.7035
  492SSY9607_1,  P08N,    49,  1,     14,     10,2,19960725,0247, 16.0017, 130.0017, 5200,   1751.5,   2.4004,  34.6095,  34.6103,2,   -999.0,    107.6,2,  2.2788
  492SSY9607_1,  P08N,    49,  1,     15,      9,2,19960725,0247, 16.0017, 130.0017, 5200,   1999.9,   2.0975,  34.6324,  34.6328,2,   -999.0,    114.3,2,  1.9594
  492SSY9607_1,  P08N,    49,  1,     16,      8,2,19960725,0247, 16.0017, 130.0017, 5200,   2250.9,   1.8905,  34.6473,  34.6471,2,   -999.0,    122.8,2,  1.7342
  492SSY9607_1,  P08N,    49,  1,     17,      7,2,19960725,0247, 16.0017, 130.0017, 5200,   2498.2,   1.7766,  34.6583,  34.6566,2,   -999.0,    128.7,2,  1.6004
  492SSY9607_1,  P08N,    49,  1,     18,      6,2,19960725,0247, 16.0017, 130.0017, 5200,   3002.3,   1.6336,  34.6714,  34.6751,2,   -999.0,    140.8,2,  1.4135
  492SSY9607_1,  P08N,    49,  1,     19,      5,2,19960725,0247, 16.0017, 130.0017, 5200,   3500.0,   1.5636,  34.6805,  34.6794,2,   -999.0,    149.2,2,  1.2957
  492SSY9607_1,  P08N,    49,  1,     20,      4,3,19960725,0247, 16.0017, 130.0017, 5200,   3999.9,   1.5636,  34.6847,  34.6540,3,   -999.0,    145.6,3,  1.2428
  492SSY9607_1,  P08N,    49,  1,     21,      3,2,19960725,0247, 16.0017, 130.0017, 5200,   4499.8,   1.6076,  34.6868,  34.6902,2,   -999.0,    154.6,2,  1.2292
  492SSY9607_1,  P08N,    49,  1,     22,      2,2,19960725,0247, 16.0017, 130.0017, 5200,   5000.0,   1.6616,  34.6869,  34.6910,2,   -999.0,    155.3,2,  1.2219
  492SSY9607_1,  P08N,    49,  1,     23,      1,2,19960725,0247, 16.0017, 130.0017, 5200,   5299.3,   1.6996,  34.6870,  34.6875,2,   -999.0,    156.2,2,  1.2213