BOTTLE,20020620WHPSIOSA
EXPOCODE,SECT_ID,STNNBR,CASTNO,SAMPNO,BTLNBR,BTLNBR_FLAG_W,DATE,TIME,LATITUDE,LONGITUDE,DEPTH,CTDPRS,CTDTMP,CTDSAL,SALNTY,SALNTY_FLAG_W,CTDOXY,OXYGEN,OXYGEN_FLAG_W,THETA
,,,,,,,,,,,,DBAR,ITS-90,PSS-78,PSS-78,,UMOL/KG,UMOL/KG,,ITS-90
  492SSY9607_1,  P08N,    39,  1,      1,     23,2,19960722,0829, 20.0000, 130.0000, 6000,    100.7,  25.1430,  34.8206,  34.8188,2,   -999.0,    212.4,2, 25.1210
  492SSY9607_1,  P08N,    39,  1,      2,     22,2,19960722,0829, 20.0000, 130.0000, 6000,    200.3,  20.7270,  34.9934,  34.9931,2,   -999.0,    199.9,2, 20.6890
  492SSY9607_1,  P08N,    39,  1,      3,     21,2,19960722,0829, 20.0000, 130.0000, 6000,    300.7,  17.3728,  34.8291,  34.8286,2,   -999.0,    199.6,2, 17.3224
  492SSY9607_1,  P08N,    39,  1,      4,     20,2,19960722,0829, 20.0000, 130.0000, 6000,    400.6,  14.6015,  34.5799,  34.5836,2,   -999.0,    183.8,2, 14.5418
  492SSY9607_1,  P08N,    39,  1,      5,     19,2,19960722,0829, 20.0000, 130.0000, 6000,    500.7,  11.6572,  34.3555,  34.3563,2,   -999.0,    170.4,2, 11.5928
  492SSY9607_1,  P08N,    39,  1,      6,     18,2,19960722,0829, 20.0000, 130.0000, 6000,    599.7,   8.6089,  34.2072,  34.2082,2,   -999.0,    134.5,2,  8.5448
  492SSY9607_1,  P08N,    39,  1,      7,     17,2,19960722,0829, 20.0000, 130.0000, 6000,    699.9,   6.6244,  34.1720,  34.1725,2,   -999.0,    105.1,2,  6.5594
  492SSY9607_1,  P08N,    39,  1,      8,     16,2,19960722,0829, 20.0000, 130.0000, 6000,    800.3,   5.3927,  34.2419,  34.2422,2,   -999.0,     73.9,2,  5.3251
  492SSY9607_1,  P08N,    39,  1,      9,     15,2,19960722,0829, 20.0000, 130.0000, 6000,    900.8,   4.6709,  34.3418,  34.3412,2,   -999.0,     61.7,2,  4.5990
  492SSY9607_1,  P08N,    39,  1,     10,     14,2,19960722,0829, 20.0000, 130.0000, 6000,   1000.7,   4.0810,  34.3978,  34.3984,2,   -999.0,     63.7,2,  4.0048
  492SSY9607_1,  P08N,    39,  1,     11,     13,2,19960722,0829, 20.0000, 130.0000, 6000,   1249.9,   3.1482,  34.5098,  34.5069,2,   -999.0,     78.1,2,  3.0594
  492SSY9607_1,  P08N,    39,  1,     12,     12,2,19960722,0829, 20.0000, 130.0000, 6000,   1499.2,   2.6894,  34.5717,  34.5710,2,   -999.0,     98.3,2,  2.5850
  492SSY9607_1,  P08N,    39,  1,     13,     11,2,19960722,0829, 20.0000, 130.0000, 6000,   1751.0,   2.3584,  34.6066,  34.6056,2,   -999.0,    109.0,2,  2.2375
  492SSY9607_1,  P08N,    39,  1,     14,     10,2,19960722,0829, 20.0000, 130.0000, 6000,   1998.7,   2.1005,  34.6297,  34.6286,2,   -999.0,    117.2,2,  1.9624
  492SSY9607_1,  P08N,    39,  1,     15,      9,2,19960722,0829, 20.0000, 130.0000, 6000,   2249.5,   1.9175,  34.6436,  34.6481,2,   -999.0,    124.0,2,  1.7608
  492SSY9607_1,  P08N,    39,  1,     16,      8,2,19960722,0829, 20.0000, 130.0000, 6000,   2499.6,   1.8086,  34.6528,  34.6516,2,   -999.0,    128.8,2,  1.6317
  492SSY9607_1,  P08N,    39,  1,     17,      7,2,19960722,0829, 20.0000, 130.0000, 6000,   3001.9,   1.6656,  34.6668,  34.6699,2,   -999.0,    139.1,2,  1.4448
  492SSY9607_1,  P08N,    39,  1,     18,      6,2,19960722,0829, 20.0000, 130.0000, 6000,   3500.2,   1.5936,  34.6768,  34.6798,2,   -999.0,    148.3,2,  1.3250
  492SSY9607_1,  P08N,    39,  1,     19,      5,2,19960722,0829, 20.0000, 130.0000, 6000,   3998.9,   1.5786,  34.6828,  34.6837,2,   -999.0,    156.1,2,  1.2575
  492SSY9607_1,  P08N,    39,  1,     20,      4,2,19960722,0829, 20.0000, 130.0000, 6000,   4500.3,   1.5986,  34.6868,  34.6723,3,   -999.0,    155.2,2,  1.2205
  492SSY9607_1,  P08N,    39,  1,     21,      3,2,19960722,0829, 20.0000, 130.0000, 6000,   5000.4,   1.6386,  34.6889,  34.6884,2,   -999.0,    158.6,2,  1.1996
  492SSY9607_1,  P08N,    39,  1,     22,      2,2,19960722,0829, 20.0000, 130.0000, 6000,   5501.0,   1.6946,  34.6889,  34.6932,2,   -999.0,    160.2,2,  1.1908
  492SSY9607_1,  P08N,    39,  1,     23,      1,2,19960722,0829, 20.0000, 130.0000, 6000,   5799.7,   1.7346,  34.6889,  34.6733,3,   -999.0,    158.5,3,  1.1903
  492SSY9607_1,  P08N,    41,  1,      1,     23,2,19960722,1820, 18.9950, 129.9967, 5810,    101.1,  24.2142,  34.9475,  34.9448,2,   -999.0,    211.2,2, 24.1927
  492SSY9607_1,  P08N,    41,  1,      2,     22,2,19960722,1820, 18.9950, 129.9967, 5810,    201.2,  21.5458,  34.9988,  35.0002,2,   -999.0,    199.8,2, 21.5065
  492SSY9607_1,  P08N,    41,  1,      3,     21,2,19960722,1820, 18.9950, 129.9967, 5810,    300.8,  18.2736,  34.8967,  34.8981,2,   -999.0,    197.5,2, 18.2213
  492SSY9607_1,  P08N,    41,  1,      4,     20,2,19960722,1820, 18.9950, 129.9967, 5810,    399.1,  15.6602,  34.6816,  34.6859,2,   -999.0,    194.2,2, 15.5978
  492SSY9607_1,  P08N,    41,  1,      5,     19,2,19960722,1820, 18.9950, 129.9967, 5810,    502.1,  11.4543,  34.3497,  34.3567,2,   -999.0,    161.9,2, 11.3904
  492SSY9607_1,  P08N,    41,  1,      6,     18,2,19960722,1820, 18.9950, 129.9967, 5810,    601.4,   8.3540,  34.1972,  34.2000,2,   -999.0,    128.9,2,  8.2908
  492SSY9607_1,  P08N,    41,  1,      7,     17,2,19960722,1820, 18.9950, 129.9967, 5810,    699.9,   6.4105,  34.1992,  34.1996,2,   -999.0,     89.5,2,  6.3465
  492SSY9607_1,  P08N,    41,  1,      8,     16,2,19960722,1820, 18.9950, 129.9967, 5810,    799.1,   5.3047,  34.3187,  34.3188,2,   -999.0,     66.6,2,  5.2377
  492SSY9607_1,  P08N,    41,  1,      9,     15,2,19960722,1820, 18.9950, 129.9967, 5810,    898.5,   4.7479,  34.3855,  34.3856,2,   -999.0,     64.8,2,  4.6756
  492SSY9607_1,  P08N,    41,  1,     10,     14,2,19960722,1820, 18.9950, 129.9967, 5810,    999.8,   4.1200,  34.4472,  34.4459,2,   -999.0,     70.5,2,  4.0435
  492SSY9607_1,  P08N,    41,  1,     11,     13,2,19960722,1820, 18.9950, 129.9967, 5810,   1248.3,   3.2622,  34.5418,  34.5415,2,   -999.0,     91.3,2,  3.1723
  492SSY9607_1,  P08N,    41,  1,     12,     12,2,19960722,1820, 18.9950, 129.9967, 5810,   1498.1,   2.7673,  34.5766,  34.5763,2,   -999.0,     96.5,2,  2.6622
  492SSY9607_1,  P08N,    41,  1,     13,     11,2,19960722,1820, 18.9950, 129.9967, 5810,   1751.7,   2.4514,  34.6055,  34.6070,2,   -999.0,    106.8,2,  2.3292
  492SSY9607_1,  P08N,    41,  1,     14,     10,2,19960722,1820, 18.9950, 129.9967, 5810,   2001.7,   2.1545,  34.6265,  34.6272,2,   -999.0,    114.5,2,  2.0154
  492SSY9607_1,  P08N,    41,  1,     15,      9,2,19960722,1820, 18.9950, 129.9967, 5810,   2251.0,   1.9685,  34.6413,  34.6430,2,   -999.0,    121.6,2,  1.8108
  492SSY9607_1,  P08N,    41,  1,     16,      8,2,19960722,1820, 18.9950, 129.9967, 5810,   2501.5,   1.8366,  34.6524,  34.6524,2,   -999.0,    127.1,2,  1.6590
  492SSY9607_1,  P08N,    41,  1,     17,      7,2,19960722,1820, 18.9950, 129.9967, 5810,   3002.8,   1.6776,  34.6674,  34.6658,2,   -999.0,    137.8,2,  1.4565
  492SSY9607_1,  P08N,    41,  1,     18,      6,2,19960722,1820, 18.9950, 129.9967, 5810,   3501.1,   1.5986,  34.6765,  34.6768,2,   -999.0,    147.8,2,  1.3297
  492SSY9607_1,  P08N,    41,  1,     19,      5,2,19960722,1820, 18.9950, 129.9967, 5810,   4000.8,   1.5776,  34.6837,  34.6821,2,   -999.0,    153.5,2,  1.2563
  492SSY9607_1,  P08N,    41,  1,     20,      4,3,19960722,1820, 18.9950, 129.9967, 5810,   4501.2,   1.5936,  34.6868,  34.6509,3,   -999.0,    141.7,3,  1.2155
  492SSY9607_1,  P08N,    41,  1,     21,      3,2,19960722,1820, 18.9950, 129.9967, 5810,   5001.6,   1.6356,  34.6889,  34.6877,2,   -999.0,    158.7,2,  1.1965
  492SSY9607_1,  P08N,    41,  1,     22,      2,2,19960722,1820, 18.9950, 129.9967, 5810,   5501.7,   1.6966,  34.6891,  34.6892,2,   -999.0,    159.4,2,  1.1926
  492SSY9607_1,  P08N,    41,  1,     23,      1,2,19960722,1820, 18.9950, 129.9967, 5810,   5936.2,   1.7556,  34.6882,  34.6924,2,   -999.0,    159.8,2,  1.1923
  492SSY9607_1,  P08N,    42,  1,      1,     23,2,19960723,0006, 18.5050, 129.9833, 5740,    100.2,  24.5581,  34.7484,  34.7451,2,   -999.0,    207.1,3, 24.5366
  492SSY9607_1,  P08N,    42,  1,      2,     22,2,19960723,0006, 18.5050, 129.9833, 5740,    202.1,  20.9180,  34.9696,  34.8558,3,   -999.0,    198.6,3, 20.8793
  492SSY9607_1,  P08N,    42,  1,      3,     21,2,19960723,0006, 18.5050, 129.9833, 5740,    301.5,  17.7317,  34.8535,  34.9671,3,   -999.0,    196.1,2, 17.6804
  492SSY9607_1,  P08N,    42,  1,      4,     20,2,19960723,0006, 18.5050, 129.9833, 5740,    401.2,  14.7425,  34.5952,  34.5969,2,   -999.0,    182.7,2, 14.6823
  492SSY9607_1,  P08N,    42,  1,      5,     19,2,19960723,0006, 18.5050, 129.9833, 5740,    500.2,  10.9554,  34.3124,  34.3168,2,   -999.0,    162.5,2, 10.8936
  492SSY9607_1,  P08N,    42,  1,      6,     18,2,19960723,0006, 18.5050, 129.9833, 5740,    603.6,   7.5722,  34.1927,  34.1907,2,   -999.0,    111.8,2,  7.5122
  492SSY9607_1,  P08N,    42,  1,      7,     17,2,19960723,0006, 18.5050, 129.9833, 5740,    701.1,   6.1375,  34.2491,  34.2514,2,   -999.0,     76.5,2,  6.0749
  492SSY9607_1,  P08N,    42,  1,      8,     16,2,19960723,0006, 18.5050, 129.9833, 5740,    801.2,   5.3977,  34.3538,  34.3543,2,   -999.0,     66.9,2,  5.3299
  492SSY9607_1,  P08N,    42,  1,      9,     15,2,19960723,0006, 18.5050, 129.9833, 5740,    903.8,   4.7209,  34.4235,  34.4259,2,   -999.0,     70.0,2,  4.6482
  492SSY9607_1,  P08N,    42,  1,     10,     14,2,19960723,0006, 18.5050, 129.9833, 5740,    999.9,   4.1720,  34.4722,  34.4799,2,   -999.0,     78.9,2,  4.0950
  492SSY9607_1,  P08N,    42,  1,     11,     13,2,19960723,0006, 18.5050, 129.9833, 5740,   1255.7,   3.2652,  34.5418,  34.5433,2,   -999.0,     88.1,2,  3.1747
  492SSY9607_1,  P08N,    42,  1,     12,     12,2,19960723,0006, 18.5050, 129.9833, 5740,   1497.5,   2.7303,  34.5796,  34.5798,2,   -999.0,     98.5,2,  2.6256
  492SSY9607_1,  P08N,    42,  1,     13,     11,2,19960723,0006, 18.5050, 129.9833, 5740,   1751.9,   2.3814,  34.6085,  34.6139,2,   -999.0,    106.9,2,  2.2601
  492SSY9607_1,  P08N,    42,  1,     14,     10,2,19960723,0006, 18.5050, 129.9833, 5740,   2001.6,   2.1205,  34.6274,  34.6326,2,   -999.0,    115.2,2,  1.9819
  492SSY9607_1,  P08N,    42,  1,     15,      9,2,19960723,0006, 18.5050, 129.9833, 5740,   2256.3,   1.9175,  34.6444,  34.6434,2,   -999.0,    122.4,2,  1.7602
  492SSY9607_1,  P08N,    42,  1,     16,      8,2,19960723,0006, 18.5050, 129.9833, 5740,   2497.9,   1.8106,  34.6544,  34.6554,2,   -999.0,    127.9,2,  1.6338
  492SSY9607_1,  P08N,    42,  1,     17,      7,2,19960723,0006, 18.5050, 129.9833, 5740,   2997.4,   1.6606,  34.6694,  34.6668,2,   -999.0,    138.2,2,  1.4403
  492SSY9607_1,  P08N,    42,  1,     18,      6,2,19960723,0006, 18.5050, 129.9833, 5740,   3499.4,   1.5896,  34.6786,  34.6782,2,   -999.0,    148.6,2,  1.3211
  492SSY9607_1,  P08N,    42,  1,     19,      5,2,19960723,0006, 18.5050, 129.9833, 5740,   3996.5,   1.5726,  34.6837,  34.6819,2,   -999.0,    153.6,2,  1.2519
  492SSY9607_1,  P08N,    42,  1,     20,      4,2,19960723,0006, 18.5050, 129.9833, 5740,   4496.7,   1.5966,  34.6868,  34.6646,3,   -999.0,    151.3,2,  1.2189
  492SSY9607_1,  P08N,    42,  1,     21,      3,2,19960723,0006, 18.5050, 129.9833, 5740,   5003.7,   1.6396,  34.6879,  34.6896,2,   -999.0,    156.9,2,  1.2001
  492SSY9607_1,  P08N,    42,  1,     22,      2,2,19960723,0006, 18.5050, 129.9833, 5740,   5503.7,   1.6986,  34.6890,  34.6880,2,   -999.0,    158.7,2,  1.1943
  492SSY9607_1,  P08N,    42,  1,     23,      1,2,19960723,0006, 18.5050, 129.9833, 5740,   5763.9,   1.7336,  34.6881,  34.6845,2,   -999.0,    159.0,2,  1.1941
  492SSY9607_1,  P08N,    43,  1,      1,     23,2,19960723,2304, 18.0000, 130.0000, 5720,     97.9,  24.2452,  34.8084,  34.8054,2,   -999.0,    205.7,2, 24.2244
  492SSY9607_1,  P08N,    43,  1,      2,     22,2,19960723,2304, 18.0000, 130.0000, 5720,    201.1,  20.3401,  34.9994,  34.9917,2,   -999.0,    188.4,2, 20.3024
  492SSY9607_1,  P08N,    43,  1,      3,     21,2,19960723,2304, 18.0000, 130.0000, 5720,    300.3,  17.2968,  34.8273,  34.8270,2,   -999.0,    200.6,2, 17.2466
  492SSY9607_1,  P08N,    43,  1,      4,     20,2,19960723,2304, 18.0000, 130.0000, 5720,    400.3,  13.7867,  34.5167,  34.5252,2,   -999.0,    181.3,2, 13.7293
  492SSY9607_1,  P08N,    43,  1,      5,     19,2,19960723,2304, 18.0000, 130.0000, 5720,    500.1,  10.1116,  34.2640,  34.2671,2,   -999.0,    158.2,2, 10.0529
  492SSY9607_1,  P08N,    43,  1,      6,     18,2,19960723,2304, 18.0000, 130.0000, 5720,    602.5,   7.5412,  34.1967,  34.1962,2,   -999.0,    110.2,2,  7.4815
  492SSY9607_1,  P08N,    43,  1,      7,     17,2,19960723,2304, 18.0000, 130.0000, 5720,    700.4,   6.0885,  34.2630,  34.2612,2,   -999.0,     76.8,2,  6.0262
  492SSY9607_1,  P08N,    43,  1,      8,     16,2,19960723,2304, 18.0000, 130.0000, 5720,    801.4,   5.4117,  34.3778,  34.3763,2,   -999.0,     72.6,2,  5.3438
  492SSY9607_1,  P08N,    43,  1,      9,     15,2,19960723,2304, 18.0000, 130.0000, 5720,    900.7,   4.7759,  34.4255,  34.4245,2,   -999.0,     74.1,2,  4.7031
  492SSY9607_1,  P08N,    43,  1,     10,     14,2,19960723,2304, 18.0000, 130.0000, 5720,   1001.9,   4.1740,  34.4713,  34.4695,2,   -999.0,     80.0,2,  4.0969
  492SSY9607_1,  P08N,    43,  1,     11,     13,2,19960723,2304, 18.0000, 130.0000, 5720,   1247.0,   3.2632,  34.5408,  34.5399,2,   -999.0,     89.5,2,  3.1734
  492SSY9607_1,  P08N,    43,  1,     12,     12,2,19960723,2304, 18.0000, 130.0000, 5720,   1499.9,   2.7303,  34.5815,  34.5828,2,   -999.0,    102.2,2,  2.6254
  492SSY9607_1,  P08N,    43,  1,     13,     11,2,19960723,2304, 18.0000, 130.0000, 5720,   1750.3,   2.4204,  34.6065,  34.6052,2,   -999.0,    108.7,2,  2.2987
  492SSY9607_1,  P08N,    43,  1,     14,     10,2,19960723,2304, 18.0000, 130.0000, 5720,   2001.1,   2.1275,  34.6283,  34.6272,2,   -999.0,    116.3,2,  1.9888
  492SSY9607_1,  P08N,    43,  1,     15,      9,2,19960723,2304, 18.0000, 130.0000, 5720,   2252.0,   1.9315,  34.6433,  34.6424,2,   -999.0,    123.8,2,  1.7744
  492SSY9607_1,  P08N,    43,  1,     16,      8,2,19960723,2304, 18.0000, 130.0000, 5720,   2499.4,   1.8046,  34.6554,  34.6548,2,   -999.0,    128.5,2,  1.6277
  492SSY9607_1,  P08N,    43,  1,     17,      7,2,19960723,2304, 18.0000, 130.0000, 5720,   2995.8,   1.6646,  34.6694,  34.6697,2,   -999.0,    138.8,2,  1.4444
  492SSY9607_1,  P08N,    43,  1,     18,      6,2,19960723,2304, 18.0000, 130.0000, 5720,   3503.8,   1.5796,  34.6785,  34.6808,2,   -999.0,    151.0,2,  1.3109
  492SSY9607_1,  P08N,    43,  1,     19,      5,2,19960723,2304, 18.0000, 130.0000, 5720,   4005.4,   1.5636,  34.6847,  34.6879,2,   -999.0,    156.5,2,  1.2422
  492SSY9607_1,  P08N,    43,  1,     20,      4,2,19960723,2304, 18.0000, 130.0000, 5720,   4497.6,   1.5906,  34.6868,  34.6821,2,   -999.0,    155.8,2,  1.2130
  492SSY9607_1,  P08N,    43,  1,     21,      3,2,19960723,2304, 18.0000, 130.0000, 5720,   4998.5,   1.6406,  34.6879,  34.6780,3,   -999.0,    158.7,2,  1.2017
  492SSY9607_1,  P08N,    43,  1,     22,      2,2,19960723,2304, 18.0000, 130.0000, 5720,   5504.1,   1.7026,  34.6881,  34.6951,3,   -999.0,    168.6,3,  1.1981
  492SSY9607_1,  P08N,    43,  1,     23,      1,2,19960723,2304, 18.0000, 130.0000, 5720,   5863.9,   1.7516,  34.6882,  34.6849,2,   -999.0,    161.5,2,  1.1981
  492SSY9607_1,  P08N,    44,  1,      1,     23,2,19960724,0533, 17.5017, 129.9983, 5380,     97.9,  24.6121,  34.8405,  34.8373,2,   -999.0,    204.9,2, 24.5911
  492SSY9607_1,  P08N,    44,  1,      2,     22,2,19960724,0533, 17.5017, 129.9983, 5380,    201.7,  20.3081,  34.9584,  34.9533,2,   -999.0,    201.1,2, 20.2704
  492SSY9607_1,  P08N,    44,  1,      3,     21,2,19960724,0533, 17.5017, 129.9983, 5380,    301.1,  16.9799,  34.8042,  34.8064,2,   -999.0,    200.1,2, 16.9302
  492SSY9607_1,  P08N,    44,  1,      4,     20,2,19960724,0533, 17.5017, 129.9983, 5380,    398.7,  13.6137,  34.5056,  34.5151,2,   -999.0,    186.5,2, 13.5571
  492SSY9607_1,  P08N,    44,  1,      5,     19,2,19960724,0533, 17.5017, 129.9983, 5380,    500.8,  10.1956,  34.2790,  34.2817,2,   -999.0,    148.0,2, 10.1364
  492SSY9607_1,  P08N,    44,  1,      6,     18,2,19960724,0533, 17.5017, 129.9983, 5380,    601.0,   7.4262,  34.2157,  34.2164,2,   -999.0,    102.6,2,  7.3672
  492SSY9607_1,  P08N,    44,  1,      7,     17,2,19960724,0533, 17.5017, 129.9983, 5380,    700.1,   6.1355,  34.3202,  34.3202,2,   -999.0,     73.4,2,  6.0729
  492SSY9607_1,  P08N,    44,  1,      8,     16,2,19960724,0533, 17.5017, 129.9983, 5380,    798.8,   5.3157,  34.3877,  34.3891,2,   -999.0,     71.5,2,  5.2486
  492SSY9607_1,  P08N,    44,  1,      9,     15,2,19960724,0533, 17.5017, 129.9983, 5380,    900.5,   4.6919,  34.4415,  34.4398,2,   -999.0,     75.7,2,  4.6197
  492SSY9607_1,  P08N,    44,  1,     10,     14,2,19960724,0533, 17.5017, 129.9983, 5380,   1001.7,   4.1010,  34.4872,  34.4886,2,   -999.0,     83.3,2,  4.0244
  492SSY9607_1,  P08N,    44,  1,     11,     13,2,19960724,0533, 17.5017, 129.9983, 5380,   1248.5,   3.2352,  34.5577,  34.5596,2,   -999.0,     96.7,2,  3.1455
  492SSY9607_1,  P08N,    44,  1,     12,     12,2,19960724,0533, 17.5017, 129.9983, 5380,   1500.6,   2.7963,  34.5866,  34.5851,2,   -999.0,     99.5,2,  2.6906
  492SSY9607_1,  P08N,    44,  1,     13,     11,2,19960724,0533, 17.5017, 129.9983, 5380,   1749.1,   2.4424,  34.6085,  34.6070,2,   -999.0,    107.4,2,  2.3205
  492SSY9607_1,  P08N,    44,  1,     14,     10,2,19960724,0533, 17.5017, 129.9983, 5380,   1998.5,   2.1185,  34.6284,  34.6278,2,   -999.0,    115.2,2,  1.9802
  492SSY9607_1,  P08N,    44,  1,     15,      9,2,19960724,0533, 17.5017, 129.9983, 5380,   2250.5,   1.9295,  34.6434,  34.6446,2,   -999.0,    121.6,2,  1.7725
  492SSY9607_1,  P08N,    44,  1,     16,      8,2,19960724,0533, 17.5017, 129.9983, 5380,   2500.6,   1.8016,  34.6553,  34.6579,2,   -999.0,    128.8,2,  1.6247
  492SSY9607_1,  P08N,    44,  1,     17,      7,2,19960724,0533, 17.5017, 129.9983, 5380,   2999.2,   1.6616,  34.6705,  34.6745,2,   -999.0,    138.8,2,  1.4411
  492SSY9607_1,  P08N,    44,  1,     18,      6,2,19960724,0533, 17.5017, 129.9983, 5380,   3498.8,   1.5876,  34.6785,  34.6823,2,   -999.0,    149.0,2,  1.3192
  492SSY9607_1,  P08N,    44,  1,     19,      5,2,19960724,0533, 17.5017, 129.9983, 5380,   4001.6,   1.5696,  34.6836,  34.6845,2,   -999.0,    154.5,2,  1.2485
  492SSY9607_1,  P08N,    44,  1,     20,      4,2,19960724,0533, 17.5017, 129.9983, 5380,   4502.4,   1.5926,  34.6868,  34.6857,2,   -999.0,    155.4,2,  1.2144
  492SSY9607_1,  P08N,    44,  1,     21,      3,2,19960724,0533, 17.5017, 129.9983, 5380,   4998.3,   1.6396,  34.6889,  34.6894,2,   -999.0,    158.5,2,  1.2008
  492SSY9607_1,  P08N,    44,  1,     22,      2,2,19960724,0533, 17.5017, 129.9983, 5380,   5498.1,   1.7016,  34.6890,  34.6882,2,   -999.0,    160.5,2,  1.1979
  492SSY9607_1,  P08N,    44,  1,     23,      1,2,19960724,0533, 17.5017, 129.9983, 5380,   5513.4,   1.7036,  34.6890,  34.6884,2,   -999.0,    159.2,2,  1.1978