BOTTLE,20020620WHPSIOSA
EXPOCODE,SECT_ID,STNNBR,CASTNO,SAMPNO,BTLNBR,BTLNBR_FLAG_W,DATE,TIME,LATITUDE,LONGITUDE,DEPTH,CTDPRS,CTDTMP,CTDSAL,SALNTY,SALNTY_FLAG_W,CTDOXY,OXYGEN,OXYGEN_FLAG_W,THETA
,,,,,,,,,,,,DBAR,ITS-90,PSS-78,PSS-78,,UMOL/KG,UMOL/KG,,ITS-90
  492SSY9607_1,  P08N,    34,  1,      1,     23,2,19960721,0621, 22.5017, 129.9983, 5210,     50.9,  26.2117,  34.6926,  34.6900,2,   -999.0,    217.8,2, 26.2003
  492SSY9607_1,  P08N,    34,  1,      2,     22,2,19960721,0621, 22.5017, 129.9983, 5210,    101.1,  22.3576,  34.9674,  34.9726,2,   -999.0,    208.9,2, 22.3374
  492SSY9607_1,  P08N,    34,  1,      3,     21,2,19960721,0621, 22.5017, 129.9983, 5210,    201.1,  19.0704,  34.9243,  34.9247,2,   -999.0,    196.2,2, 19.0344
  492SSY9607_1,  P08N,    34,  1,      4,     20,2,19960721,0621, 22.5017, 129.9983, 5210,    299.5,  16.7840,  34.7750,  34.7774,2,   -999.0,    194.6,2, 16.7349
  492SSY9607_1,  P08N,    34,  1,      5,     19,2,19960721,0621, 22.5017, 129.9983, 5210,    399.1,  14.2106,  34.5537,  34.5549,2,   -999.0,    183.5,2, 14.1522
  492SSY9607_1,  P08N,    34,  1,      6,     18,2,19960721,0621, 22.5017, 129.9983, 5210,    499.6,  10.8744,  34.3134,  34.3117,2,   -999.0,    164.2,2, 10.8130
  492SSY9607_1,  P08N,    34,  1,      7,     17,2,19960721,0621, 22.5017, 129.9983, 5210,    600.7,   8.2190,  34.1701,  34.1733,2,   -999.0,    141.8,2,  8.1565
  492SSY9607_1,  P08N,    34,  1,      8,     16,2,19960721,0621, 22.5017, 129.9983, 5210,    701.4,   6.3435,  34.1469,  34.1497,2,   -999.0,    109.8,2,  6.2798
  492SSY9607_1,  P08N,    34,  1,      9,     15,2,19960721,0621, 22.5017, 129.9983, 5210,    800.7,   5.1488,  34.2088,  34.2113,2,   -999.0,     78.5,2,  5.0827
  492SSY9607_1,  P08N,    34,  1,     10,     14,2,19960721,0621, 22.5017, 129.9983, 5210,    899.4,   4.5149,  34.2848,  34.2858,2,   -999.0,     71.2,2,  4.4443
  492SSY9607_1,  P08N,    34,  1,     11,     13,2,19960721,0621, 22.5017, 129.9983, 5210,    998.1,   3.9531,  34.3628,  34.3650,2,   -999.0,     58.3,2,  3.8781
  492SSY9607_1,  P08N,    34,  1,     12,     12,2,19960721,0621, 22.5017, 129.9983, 5210,   1250.3,   3.1462,  34.4777,  34.4854,2,   -999.0,     69.3,2,  3.0574
  492SSY9607_1,  P08N,    34,  1,     13,     11,2,19960721,0621, 22.5017, 129.9983, 5210,   1499.1,   2.6574,  34.5456,  34.5452,2,   -999.0,     86.9,2,  2.5534
  492SSY9607_1,  P08N,    34,  1,     14,     10,2,19960721,0621, 22.5017, 129.9983, 5210,   1748.3,   2.2875,  34.5927,  34.5938,2,   -999.0,    104.5,2,  2.1677
  492SSY9607_1,  P08N,    34,  1,     15,      9,2,19960721,0621, 22.5017, 129.9983, 5210,   1999.8,   2.0125,  34.6196,  34.6178,2,   -999.0,    116.1,2,  1.8757
  492SSY9607_1,  P08N,    34,  1,     16,      8,2,19960721,0621, 22.5017, 129.9983, 5210,   2251.2,   1.8676,  34.6377,  34.6371,2,   -999.0,    124.7,2,  1.7116
  492SSY9607_1,  P08N,    34,  1,     17,      7,2,19960721,0621, 22.5017, 129.9983, 5210,   2498.9,   1.7666,  34.6497,  34.6501,2,   -999.0,   -999.0,5,  1.5905
  492SSY9607_1,  P08N,    34,  1,     18,      6,2,19960721,0621, 22.5017, 129.9983, 5210,   2998.5,   1.6186,  34.6697,  34.6678,2,   -999.0,    143.4,2,  1.3992
  492SSY9607_1,  P08N,    34,  1,     19,      5,2,19960721,0621, 22.5017, 129.9983, 5210,   3499.8,   1.5736,  34.6787,  34.6821,2,   -999.0,    157.2,3,  1.3055
  492SSY9607_1,  P08N,    34,  1,     20,      4,2,19960721,0621, 22.5017, 129.9983, 5210,   3999.0,   1.5656,  34.6847,  34.6839,2,   -999.0,    153.3,2,  1.2449
  492SSY9607_1,  P08N,    34,  1,     21,      3,2,19960721,0621, 22.5017, 129.9983, 5210,   4500.4,   1.5946,  34.6868,  34.6873,2,   -999.0,    157.4,2,  1.2166
  492SSY9607_1,  P08N,    34,  1,     22,      2,2,19960721,0621, 22.5017, 129.9983, 5210,   5002.4,   1.6386,  34.6889,  34.6886,2,   -999.0,    167.2,2,  1.1993
  492SSY9607_1,  P08N,    34,  1,     23,      1,2,19960721,0621, 22.5017, 129.9983, 5210,   5325.2,   1.6726,  34.6889,  34.6894,2,   -999.0,    165.7,2,  1.1920
  492SSY9607_1,  P08N,    35,  1,      1,     23,2,19960721,1115, 22.0033, 130.0017, 5670,    100.2,  23.0215,  34.9865,  34.9913,2,   -999.0,    202.9,2, 23.0010
  492SSY9607_1,  P08N,    35,  1,      2,     22,2,19960721,1115, 22.0033, 130.0017, 5670,    200.4,  19.3614,  34.9513,  34.9429,2,   -999.0,    190.3,2, 19.3251
  492SSY9607_1,  P08N,    35,  1,      3,     21,2,19960721,1115, 22.0033, 130.0017, 5670,    299.8,  16.3941,  34.7410,  34.7392,2,   -999.0,    191.4,2, 16.3458
  492SSY9607_1,  P08N,    35,  1,      4,     20,2,19960721,1115, 22.0033, 130.0017, 5670,    399.6,  13.6117,  34.5007,  34.5027,2,   -999.0,    177.4,2, 13.5550
  492SSY9607_1,  P08N,    35,  1,      5,     19,2,19960721,1115, 22.0033, 130.0017, 5670,    500.8,  10.6284,  34.3014,  34.3162,3,   -999.0,    164.4,2, 10.5678
  492SSY9607_1,  P08N,    35,  1,      6,     18,2,19960721,1115, 22.0033, 130.0017, 5670,    599.9,   8.2640,  34.1891,  34.1913,2,   -999.0,    135.4,2,  8.2014
  492SSY9607_1,  P08N,    35,  1,      7,     17,2,19960721,1115, 22.0033, 130.0017, 5670,    700.0,   6.3275,  34.1729,  34.1731,2,   -999.0,    100.1,2,  6.2640
  492SSY9607_1,  P08N,    35,  1,      8,     16,2,19960721,1115, 22.0033, 130.0017, 5670,    800.1,   5.0238,  34.2238,  34.2261,2,   -999.0,     73.3,2,  4.9585
  492SSY9607_1,  P08N,    35,  1,      9,     15,2,19960721,1115, 22.0033, 130.0017, 5670,    899.9,   4.3080,  34.3057,  34.3062,2,   -999.0,     60.7,2,  4.2387
  492SSY9607_1,  P08N,    35,  1,     10,     14,2,19960721,1115, 22.0033, 130.0017, 5670,   1000.7,   3.7701,  34.3917,  34.3915,2,   -999.0,     64.6,2,  3.6963
  492SSY9607_1,  P08N,    35,  1,     11,     13,2,19960721,1115, 22.0033, 130.0017, 5670,   1250.1,   3.0013,  34.4967,  34.4945,2,   -999.0,     73.1,2,  2.9138
  492SSY9607_1,  P08N,    35,  1,     12,     12,2,19960721,1115, 22.0033, 130.0017, 5670,   1499.2,   2.5354,  34.5626,  34.5641,2,   -999.0,     93.1,2,  2.4328
  492SSY9607_1,  P08N,    35,  1,     13,     11,2,19960721,1115, 22.0033, 130.0017, 5670,   1750.6,   2.1935,  34.6006,  34.5983,2,   -999.0,    107.4,2,  2.0747
  492SSY9607_1,  P08N,    35,  1,     14,     10,2,19960721,1115, 22.0033, 130.0017, 5670,   2000.9,   1.9705,  34.6277,  34.6294,2,   -999.0,    119.1,2,  1.8342
  492SSY9607_1,  P08N,    35,  1,     15,      9,2,19960721,1115, 22.0033, 130.0017, 5670,   2250.5,   1.8296,  34.6426,  34.6300,3,   -999.0,    126.9,2,  1.6743
  492SSY9607_1,  P08N,    35,  1,     16,      8,2,19960721,1115, 22.0033, 130.0017, 5670,   2499.7,   1.7426,  34.6557,  34.6511,2,   -999.0,    132.4,2,  1.5669
  492SSY9607_1,  P08N,    35,  1,     17,      7,2,19960721,1115, 22.0033, 130.0017, 5670,   3000.6,   1.6296,  34.6707,  34.6709,2,   -999.0,    144.6,2,  1.4097
  492SSY9607_1,  P08N,    35,  1,     18,      6,2,19960721,1115, 22.0033, 130.0017, 5670,   3501.8,   1.5666,  34.6797,  34.6800,2,   -999.0,    150.3,2,  1.2985
  492SSY9607_1,  P08N,    35,  1,     19,      5,2,19960721,1115, 22.0033, 130.0017, 5670,   3999.1,   1.5616,  34.6848,  34.6849,2,   -999.0,    160.9,3,  1.2410
  492SSY9607_1,  P08N,    35,  1,     20,      4,2,19960721,1115, 22.0033, 130.0017, 5670,   4501.6,   1.5916,  34.6868,  34.6837,2,   -999.0,    155.1,2,  1.2135
  492SSY9607_1,  P08N,    35,  1,     21,      3,2,19960721,1115, 22.0033, 130.0017, 5670,   5001.5,   1.6366,  34.6889,  34.6888,2,   -999.0,    158.0,2,  1.1975
  492SSY9607_1,  P08N,    35,  1,     22,      2,2,19960721,1115, 22.0033, 130.0017, 5670,   5498.4,   1.6926,  34.6889,  34.6869,2,   -999.0,    165.2,2,  1.1892
  492SSY9607_1,  P08N,    35,  1,     23,      1,2,19960721,1115, 22.0033, 130.0017, 5670,   5794.2,   1.7326,  34.6890,  34.6884,2,   -999.0,    166.8,2,  1.1891
  492SSY9607_1,  P08N,    36,  1,      1,     23,2,19960721,1652, 21.5017, 130.0017, 5580,     99.1,  23.1045,  34.9515,  34.9570,2,   -999.0,    198.1,2, 23.0841
  492SSY9607_1,  P08N,    36,  1,      2,     22,2,19960721,1652, 21.5017, 130.0017, 5580,    200.7,  19.1294,  34.9503,  34.9553,2,   -999.0,    203.1,2, 19.0934
  492SSY9607_1,  P08N,    36,  1,      3,     21,2,19960721,1652, 21.5017, 130.0017, 5580,    300.1,  16.7320,  34.7710,  34.7705,2,   -999.0,    194.0,2, 16.6829
  492SSY9607_1,  P08N,    36,  1,      4,     20,2,19960721,1652, 21.5017, 130.0017, 5580,    401.1,  13.3688,  34.4867,  34.4988,2,   -999.0,    178.3,2, 13.3125
  492SSY9607_1,  P08N,    36,  1,      5,     19,2,19960721,1652, 21.5017, 130.0017, 5580,    499.7,  10.3615,  34.2924,  34.2952,2,   -999.0,    145.9,2, 10.3019
  492SSY9607_1,  P08N,    36,  1,      6,     18,2,19960721,1652, 21.5017, 130.0017, 5580,    600.2,   7.9621,  34.1921,  34.2001,2,   -999.0,    121.6,2,  7.9007
  492SSY9607_1,  P08N,    36,  1,      7,     17,2,19960721,1652, 21.5017, 130.0017, 5580,    700.0,   5.8706,  34.1759,  34.1719,2,   -999.0,     92.5,2,  5.8095
  492SSY9607_1,  P08N,    36,  1,      8,     16,2,19960721,1652, 21.5017, 130.0017, 5580,    796.7,   4.9818,  34.2599,  34.2581,2,   -999.0,     68.3,2,  4.9170
  492SSY9607_1,  P08N,    36,  1,      9,     15,2,19960721,1652, 21.5017, 130.0017, 5580,    900.7,   4.3809,  34.3448,  34.3447,2,   -999.0,     61.0,2,  4.3110
  492SSY9607_1,  P08N,    36,  1,     10,     14,2,19960721,1652, 21.5017, 130.0017, 5580,    999.7,   3.8381,  34.4077,  34.4078,2,   -999.0,     64.1,2,  3.7638
  492SSY9607_1,  P08N,    36,  1,     11,     13,2,19960721,1652, 21.5017, 130.0017, 5580,   1249.6,   2.9783,  34.5078,  34.5098,2,   -999.0,     76.1,2,  2.8911
  492SSY9607_1,  P08N,    36,  1,     12,     12,2,19960721,1652, 21.5017, 130.0017, 5580,   1499.2,   2.5254,  34.5617,  34.5598,2,   -999.0,     93.4,2,  2.4229
  492SSY9607_1,  P08N,    36,  1,     13,     11,2,19960721,1652, 21.5017, 130.0017, 5580,   1819.6,   2.1315,  34.6087,  34.6084,2,   -999.0,    111.0,2,  2.0079
  492SSY9607_1,  P08N,    36,  1,     14,     10,2,19960721,1652, 21.5017, 130.0017, 5580,   2000.9,   1.9835,  34.6267,  34.6298,2,   -999.0,    119.1,2,  1.8470
  492SSY9607_1,  P08N,    36,  1,     15,      9,2,19960721,1652, 21.5017, 130.0017, 5580,   2249.9,   1.8406,  34.6447,  34.6450,2,   -999.0,    126.3,2,  1.6851
  492SSY9607_1,  P08N,    36,  1,     16,      8,2,19960721,1652, 21.5017, 130.0017, 5580,   2500.8,   1.7416,  34.6547,  34.6583,2,   -999.0,    133.2,2,  1.5658
  492SSY9607_1,  P08N,    36,  1,     17,      7,2,19960721,1652, 21.5017, 130.0017, 5580,   2999.5,   1.6216,  34.6707,  34.6729,2,   -999.0,    142.2,2,  1.4020
  492SSY9607_1,  P08N,    36,  1,     18,      6,2,19960721,1652, 21.5017, 130.0017, 5580,   3501.7,   1.5726,  34.6787,  34.6786,2,   -999.0,    150.0,2,  1.3043
  492SSY9607_1,  P08N,    36,  1,     19,      5,2,19960721,1652, 21.5017, 130.0017, 5580,   4002.6,   1.5676,  34.6838,  34.6853,2,   -999.0,    156.9,2,  1.2464
  492SSY9607_1,  P08N,    36,  1,     20,      4,2,19960721,1652, 21.5017, 130.0017, 5580,   4500.2,   1.5926,  34.6868,  34.6894,2,   -999.0,    155.5,2,  1.2147
  492SSY9607_1,  P08N,    36,  1,     21,      3,2,19960721,1652, 21.5017, 130.0017, 5580,   4999.3,   1.6336,  34.6889,  34.6936,2,   -999.0,    158.6,2,  1.1949
  492SSY9607_1,  P08N,    36,  1,     22,      2,2,19960721,1652, 21.5017, 130.0017, 5580,   5503.0,   1.6946,  34.6889,  34.6906,2,   -999.0,    162.1,2,  1.1905
  492SSY9607_1,  P08N,    36,  1,     23,      1,2,19960721,1652, 21.5017, 130.0017, 5580,   5685.7,   1.7186,  34.6889,-999.0000,5,   -999.0,    161.1,2,  1.1899
  492SSY9607_1,  P08N,    37,  1,      1,     23,2,19960721,2202, 21.0000, 130.0000, 5500,     98.4,  24.5581,  34.7365,  34.7392,2,   -999.0,    203.9,2, 24.5370
  492SSY9607_1,  P08N,    37,  1,      2,     22,2,19960721,2202, 21.0000, 130.0000, 5500,    202.9,  19.6833,  34.9683,  34.9702,2,   -999.0,    182.6,2, 19.6461
  492SSY9607_1,  P08N,    37,  1,      3,     21,2,19960721,2202, 21.0000, 130.0000, 5500,    300.2,  16.9259,  34.7960,  34.8056,2,   -999.0,    202.8,2, 16.8765
  492SSY9607_1,  P08N,    37,  1,      4,     20,2,19960721,2202, 21.0000, 130.0000, 5500,    399.3,  14.5465,  34.5748,  34.5940,3,   -999.0,    183.0,2, 14.4871
  492SSY9607_1,  P08N,    37,  1,      5,     19,2,19960721,2202, 21.0000, 130.0000, 5500,    501.8,  10.8794,  34.3135,  34.3166,2,   -999.0,    162.5,2, 10.8177
  492SSY9607_1,  P08N,    37,  1,      6,     18,2,19960721,2202, 21.0000, 130.0000, 5500,    599.2,   8.2340,  34.2082,  34.2123,2,   -999.0,    118.9,2,  8.1716
  492SSY9607_1,  P08N,    37,  1,      7,     17,2,19960721,2202, 21.0000, 130.0000, 5500,    701.3,   6.2025,  34.2129,  34.2190,2,   -999.0,     87.1,2,  6.1395
  492SSY9607_1,  P08N,    37,  1,      8,     16,2,19960721,2202, 21.0000, 130.0000, 5500,    802.4,   5.2987,  34.2709,  34.2705,2,   -999.0,     71.0,2,  5.2315
  492SSY9607_1,  P08N,    37,  1,      9,     15,2,19960721,2202, 21.0000, 130.0000, 5500,    902.4,   4.4779,  34.3207,  34.3186,2,   -999.0,     61.8,2,  4.4072
  492SSY9607_1,  P08N,    37,  1,     10,     14,2,19960721,2202, 21.0000, 130.0000, 5500,    998.4,   3.9001,  34.3987,  34.3991,2,   -999.0,     64.1,2,  3.8254
  492SSY9607_1,  P08N,    37,  1,     11,     13,2,19960721,2202, 21.0000, 130.0000, 5500,   1250.7,   3.2382,  34.4987,  34.4996,2,   -999.0,     76.4,2,  3.1485
  492SSY9607_1,  P08N,    37,  1,     12,     12,2,19960721,2202, 21.0000, 130.0000, 5500,   1497.6,   2.7103,  34.5637,  34.5635,2,   -999.0,     95.7,2,  2.6059
  492SSY9607_1,  P08N,    37,  1,     13,     11,2,19960721,2202, 21.0000, 130.0000, 5500,   1750.9,   2.3834,  34.6027,  34.6060,2,   -999.0,    108.0,2,  2.2621
  492SSY9607_1,  P08N,    37,  1,     14,     10,2,19960721,2202, 21.0000, 130.0000, 5500,   1999.3,   2.0875,  34.6267,  34.6270,2,   -999.0,    119.7,2,  1.9496
  492SSY9607_1,  P08N,    37,  1,     15,      9,2,19960721,2202, 21.0000, 130.0000, 5500,   2248.7,   1.8945,  34.6426,  34.6408,2,   -999.0,    126.2,2,  1.7383
  492SSY9607_1,  P08N,    37,  1,     16,      8,2,19960721,2202, 21.0000, 130.0000, 5500,   2500.4,   1.7536,  34.6547,  34.6536,2,   -999.0,    131.9,2,  1.5776
  492SSY9607_1,  P08N,    37,  1,     17,      7,2,19960721,2202, 21.0000, 130.0000, 5500,   2998.3,   1.6296,  34.6697,  34.6658,2,   -999.0,    141.8,2,  1.4099
  492SSY9607_1,  P08N,    37,  1,     18,      6,2,19960721,2202, 21.0000, 130.0000, 5500,   3497.3,   1.5726,  34.6788,  34.6778,2,   -999.0,    150.2,2,  1.3048
  492SSY9607_1,  P08N,    37,  1,     19,      5,2,19960721,2202, 21.0000, 130.0000, 5500,   3999.4,   1.5656,  34.6848,  34.6851,2,   -999.0,    156.1,2,  1.2448
  492SSY9607_1,  P08N,    37,  1,     20,      4,2,19960721,2202, 21.0000, 130.0000, 5500,   4500.5,   1.5926,  34.6868,  34.6918,2,   -999.0,    156.8,2,  1.2146
  492SSY9607_1,  P08N,    37,  1,     21,      3,2,19960721,2202, 21.0000, 130.0000, 5500,   4998.7,   1.6336,  34.6889,  34.6890,2,   -999.0,    159.1,2,  1.1949
  492SSY9607_1,  P08N,    37,  1,     22,      2,2,19960721,2202, 21.0000, 130.0000, 5500,   5501.9,   1.6936,  34.6889,  34.6904,2,   -999.0,    162.0,2,  1.1897
  492SSY9607_1,  P08N,    37,  1,     23,      1,2,19960721,2202, 21.0000, 130.0000, 5500,   5736.4,   1.7256,  34.6890,-999.0000,5,   -999.0,    160.1,2,  1.1900
  492SSY9607_1,  P08N,    38,  1,      1,     23,2,19960722,0327, 20.5017, 130.0017, 5800,    100.6,  24.4091,  34.8865,  34.9023,2,   -999.0,    207.7,2, 24.3877
  492SSY9607_1,  P08N,    38,  1,      2,     22,2,19960722,0327, 20.5017, 130.0017, 5800,    201.2,  20.1262,  34.9683,  34.9704,2,   -999.0,    189.6,2, 20.0887
  492SSY9607_1,  P08N,    38,  1,      3,     21,2,19960722,0327, 20.5017, 130.0017, 5800,    300.4,  16.8700,  34.7880,  34.7945,2,   -999.0,    197.2,2, 16.8206
  492SSY9607_1,  P08N,    38,  1,      4,     20,2,19960722,0327, 20.5017, 130.0017, 5800,    401.1,  14.4345,  34.5698,  34.5887,3,   -999.0,    187.8,2, 14.3752
  492SSY9607_1,  P08N,    38,  1,      5,     19,2,19960722,0327, 20.5017, 130.0017, 5800,    501.0,  11.6342,  34.3605,  34.3651,2,   -999.0,    165.3,2, 11.5698
  492SSY9607_1,  P08N,    38,  1,      6,     18,2,19960722,0327, 20.5017, 130.0017, 5800,    601.0,   8.9798,  34.2292,  34.2329,2,   -999.0,    133.2,2,  8.9139
  492SSY9607_1,  P08N,    38,  1,      7,     17,2,19960722,0327, 20.5017, 130.0017, 5800,    701.0,   6.8164,  34.1600,  34.1601,2,   -999.0,    112.4,2,  6.7503
  492SSY9607_1,  P08N,    38,  1,      8,     16,2,19960722,0327, 20.5017, 130.0017, 5800,    801.1,   5.4687,  34.2099,  34.2117,2,   -999.0,     80.8,2,  5.4006
  492SSY9607_1,  P08N,    38,  1,      9,     15,2,19960722,0327, 20.5017, 130.0017, 5800,    900.5,   4.7299,  34.2899,  34.2893,2,   -999.0,     64.5,2,  4.6576
  492SSY9607_1,  P08N,    38,  1,     10,     14,2,19960722,0327, 20.5017, 130.0017, 5800,   1001.0,   4.3180,  34.3848,  34.3862,2,   -999.0,     64.1,2,  4.2399
  492SSY9607_1,  P08N,    38,  1,     11,     13,2,19960722,0327, 20.5017, 130.0017, 5800,   1250.7,   3.3172,  34.4928,  34.4947,2,   -999.0,     76.3,2,  3.2267
  492SSY9607_1,  P08N,    38,  1,     12,     12,2,19960722,0327, 20.5017, 130.0017, 5800,   1500.1,   2.7233,  34.5627,  34.5663,2,   -999.0,     94.3,2,  2.6186
  492SSY9607_1,  P08N,    38,  1,     13,     11,2,19960722,0327, 20.5017, 130.0017, 5800,   1748.6,   2.4284,  34.6007,  34.6009,2,   -999.0,    107.0,2,  2.3067
  492SSY9607_1,  P08N,    38,  1,     14,     10,2,19960722,0327, 20.5017, 130.0017, 5800,   1999.8,   2.1725,  34.6237,  34.6237,2,   -999.0,    116.8,2,  2.0332
  492SSY9607_1,  P08N,    38,  1,     15,      9,2,19960722,0327, 20.5017, 130.0017, 5800,   2249.5,   1.9575,  34.6407,  34.6410,2,   -999.0,    122.5,2,  1.8002
  492SSY9607_1,  P08N,    38,  1,     16,      8,2,19960722,0327, 20.5017, 130.0017, 5800,   2500.7,   1.8496,  34.6507,  34.6479,2,   -999.0,    126.7,2,  1.6718
  492SSY9607_1,  P08N,    38,  1,     17,      7,2,19960722,0327, 20.5017, 130.0017, 5800,   2999.5,   1.6766,  34.6667,  34.6544,3,   -999.0,    137.7,2,  1.4558
  492SSY9607_1,  P08N,    38,  1,     18,      6,2,19960722,0327, 20.5017, 130.0017, 5800,   3500.8,   1.6006,  34.6767,  34.6772,2,   -999.0,    147.7,2,  1.3317
  492SSY9607_1,  P08N,    38,  1,     19,      5,2,19960722,0327, 20.5017, 130.0017, 5800,   4000.3,   1.5786,  34.6837,  34.6859,2,   -999.0,    153.9,2,  1.2573
  492SSY9607_1,  P08N,    38,  1,     20,      4,2,19960722,0327, 20.5017, 130.0017, 5800,   4499.0,   1.5996,  34.6868,  34.6839,2,   -999.0,    156.1,2,  1.2216
  492SSY9607_1,  P08N,    38,  1,     21,      3,2,19960722,0327, 20.5017, 130.0017, 5800,   5001.9,   1.6416,  34.6878,  34.6827,2,   -999.0,    157.5,2,  1.2023
  492SSY9607_1,  P08N,    38,  1,     22,      2,2,19960722,0327, 20.5017, 130.0017, 5800,   5500.0,   1.6946,  34.6889,  34.6894,2,   -999.0,    160.3,2,  1.1909
  492SSY9607_1,  P08N,    38,  1,     23,      1,2,19960722,0327, 20.5017, 130.0017, 5800,   5966.7,   1.7566,  34.6889,  34.6882,2,   -999.0,    161.7,2,  1.1892