BOTTLE,20020620WHPSIOSA
EXPOCODE,SECT_ID,STNNBR,CASTNO,SAMPNO,BTLNBR,BTLNBR_FLAG_W,DATE,TIME,LATITUDE,LONGITUDE,DEPTH,CTDPRS,CTDTMP,CTDSAL,SALNTY,SALNTY_FLAG_W,CTDOXY,OXYGEN,OXYGEN_FLAG_W,THETA
,,,,,,,,,,,,DBAR,ITS-90,PSS-78,PSS-78,,UMOL/KG,UMOL/KG,,ITS-90
  492SSY9607_1,  P08N,    55,  1,      1,     23,2,19960726,0557, 13.5017, 130.0017, 5850,    100.4,  26.3297,  34.7304,  34.7178,2,   -999.0,    198.6,2, 26.3071
  492SSY9607_1,  P08N,    55,  1,      2,     22,2,19960726,0557, 13.5017, 130.0017, 5850,    200.8,  18.3156,  34.8864,  34.8910,2,   -999.0,    181.2,2, 18.2807
  492SSY9607_1,  P08N,    55,  1,      3,     21,2,19960726,0557, 13.5017, 130.0017, 5850,    300.7,  12.8389,  34.4553,  34.4563,2,   -999.0,    154.1,2, 12.7980
  492SSY9607_1,  P08N,    55,  1,      4,     20,2,19960726,0557, 13.5017, 130.0017, 5850,    397.4,   9.6507,  34.4184,  34.4235,2,   -999.0,     94.7,2,  9.6055
  492SSY9607_1,  P08N,    55,  1,      5,     19,2,19960726,0557, 13.5017, 130.0017, 5850,    499.5,   7.7052,  34.4252,-999.0000,5,   -999.0,     70.9,2,  7.6552
  492SSY9607_1,  P08N,    55,  1,      6,     18,2,19960726,0557, 13.5017, 130.0017, 5850,    599.9,   6.6984,  34.4606,  34.4597,2,   -999.0,     71.6,2,  6.6425
  492SSY9607_1,  P08N,    55,  1,      7,     17,2,19960726,0557, 13.5017, 130.0017, 5850,    699.5,   6.0076,  34.4892,  34.4911,2,   -999.0,     77.4,2,  5.9455
  492SSY9607_1,  P08N,    55,  1,      8,     16,2,19960726,0557, 13.5017, 130.0017, 5850,    800.0,   5.5027,  34.5058,  34.5037,2,   -999.0,     83.1,2,  5.4342
  492SSY9607_1,  P08N,    55,  1,      9,     15,2,19960726,0557, 13.5017, 130.0017, 5850,    897.5,   5.1478,  34.5216,  34.5206,2,   -999.0,     87.0,2,  5.0726
  492SSY9607_1,  P08N,    55,  1,     10,     14,2,19960726,0557, 13.5017, 130.0017, 5850,    999.5,   4.6469,  34.5323,  34.5301,2,   -999.0,     89.4,2,  4.5663
  492SSY9607_1,  P08N,    55,  1,     11,     13,2,19960726,0557, 13.5017, 130.0017, 5850,   1249.4,   3.6961,  34.5476,  34.5492,2,   -999.0,     92.0,2,  3.6020
  492SSY9607_1,  P08N,    55,  1,     12,     12,2,19960726,0557, 13.5017, 130.0017, 5850,   1499.9,   3.0153,  34.5762,  34.5775,2,   -999.0,     99.7,2,  2.9071
  492SSY9607_1,  P08N,    55,  1,     13,     11,2,19960726,0557, 13.5017, 130.0017, 5850,   1750.0,   2.5944,  34.6029,  34.6044,2,   -999.0,    106.1,2,  2.4704
  492SSY9607_1,  P08N,    55,  1,     14,     10,2,19960726,0557, 13.5017, 130.0017, 5850,   1999.6,   2.2145,  34.6268,  34.6284,2,   -999.0,    114.4,2,  2.0746
  492SSY9607_1,  P08N,    55,  1,     15,      9,2,19960726,0557, 13.5017, 130.0017, 5850,   2250.3,   1.9765,  34.6417,  34.6432,2,   -999.0,    120.6,2,  1.8188
  492SSY9607_1,  P08N,    55,  1,     16,      8,2,19960726,0557, 13.5017, 130.0017, 5850,   2501.0,   1.8226,  34.6527,  34.6538,2,   -999.0,    127.4,2,  1.6453
  492SSY9607_1,  P08N,    55,  1,     17,      7,2,19960726,0557, 13.5017, 130.0017, 5850,   2999.0,   1.6676,  34.6668,  34.6650,2,   -999.0,    137.6,2,  1.4470
  492SSY9607_1,  P08N,    55,  1,     18,      6,2,19960726,0557, 13.5017, 130.0017, 5850,   3501.2,   1.5846,  34.6759,  34.6770,2,   -999.0,    149.0,2,  1.3161
  492SSY9607_1,  P08N,    55,  1,     19,      5,2,19960726,0557, 13.5017, 130.0017, 5850,   4000.6,   1.5756,  34.6801,  34.6790,2,   -999.0,    152.4,2,  1.2544
  492SSY9607_1,  P08N,    55,  1,     20,      4,2,19960726,0557, 13.5017, 130.0017, 5850,   4500.3,   1.6156,  34.6822,  34.6827,2,   -999.0,    154.1,2,  1.2370
  492SSY9607_1,  P08N,    55,  1,     21,      3,2,19960726,0557, 13.5017, 130.0017, 5850,   5000.9,   1.6716,  34.6825,  34.6825,2,   -999.0,    155.3,2,  1.2314
  492SSY9607_1,  P08N,    55,  1,     22,      2,2,19960726,0557, 13.5017, 130.0017, 5850,   5502.0,   1.7326,  34.6826,  34.6839,2,   -999.0,    156.3,2,  1.2273
  492SSY9607_1,  P08N,    55,  1,     23,      1,2,19960726,0557, 13.5017, 130.0017, 5850,   5993.3,   1.7996,  34.6828,  34.6821,2,   -999.0,    157.4,2,  1.2270
  492SSY9607_1,  P08N,    56,  1,      1,     23,2,19960726,1100, 13.0017, 129.9983, 5970,    101.4,  27.6034,  34.5657,  34.5576,2,   -999.0,    202.3,3, 27.5797
  492SSY9607_1,  P08N,    56,  1,      2,     22,2,19960726,1100, 13.0017, 129.9983, 5970,    201.6,  20.2851,  34.9323,  34.9397,2,   -999.0,    165.9,2, 20.2474
  492SSY9607_1,  P08N,    56,  1,      3,     21,2,19960726,1100, 13.0017, 129.9983, 5970,    301.5,  13.1199,  34.4745,  34.4780,2,   -999.0,    152.1,2, 13.0782
  492SSY9607_1,  P08N,    56,  1,      4,     20,2,19960726,1100, 13.0017, 129.9983, 5970,    401.4,   9.2818,  34.3852,  34.3899,2,   -999.0,    112.1,3,  9.2372
  492SSY9607_1,  P08N,    56,  1,      5,     19,2,19960726,1100, 13.0017, 129.9983, 5970,    502.1,   7.6502,  34.4332,-999.0000,5,   -999.0,     74.7,2,  7.6001
  492SSY9607_1,  P08N,    56,  1,      6,     18,2,19960726,1100, 13.0017, 129.9983, 5970,    602.3,   6.5394,  34.4624,  34.4595,2,   -999.0,     73.7,2,  6.4840
  492SSY9607_1,  P08N,    56,  1,      7,     17,2,19960726,1100, 13.0017, 129.9983, 5970,    701.3,   5.9966,  34.4961,  34.4968,2,   -999.0,     80.8,2,  5.9344
  492SSY9607_1,  P08N,    56,  1,      8,     16,2,19960726,1100, 13.0017, 129.9983, 5970,    799.2,   5.3737,  34.5037,  34.5031,2,   -999.0,     83.8,2,  5.3060
  492SSY9607_1,  P08N,    56,  1,      9,     15,2,19960726,1100, 13.0017, 129.9983, 5970,    900.4,   4.9608,  34.5244,  34.5273,2,   -999.0,     85.9,2,  4.8867
  492SSY9607_1,  P08N,    56,  1,     10,     14,2,19960726,1100, 13.0017, 129.9983, 5970,   1002.0,   4.5889,  34.5373,  34.5360,2,   -999.0,     89.1,2,  4.5085
  492SSY9607_1,  P08N,    56,  1,     11,     13,2,19960726,1100, 13.0017, 129.9983, 5970,   1252.0,   3.6851,  34.5566,  34.5533,2,   -999.0,     92.3,2,  3.5909
  492SSY9607_1,  P08N,    56,  1,     12,     12,2,19960726,1100, 13.0017, 129.9983, 5970,   1501.3,   3.0293,  34.5772,  34.5773,2,   -999.0,     99.6,2,  2.9209
  492SSY9607_1,  P08N,    56,  1,     13,     11,2,19960726,1100, 13.0017, 129.9983, 5970,   1752.2,   2.6454,  34.6020,  34.6032,2,   -999.0,    104.6,2,  2.5205
  492SSY9607_1,  P08N,    56,  1,     14,     10,2,19960726,1100, 13.0017, 129.9983, 5970,   2001.4,   2.2715,  34.6208,  34.6229,2,   -999.0,    112.4,2,  2.1306
  492SSY9607_1,  P08N,    56,  1,     15,      9,2,19960726,1100, 13.0017, 129.9983, 5970,   2500.6,   1.8476,  34.6507,  34.6505,2,   -999.0,    126.0,2,  1.6698
  492SSY9607_1,  P08N,    56,  1,     16,      8,2,19960726,1100, 13.0017, 129.9983, 5970,   3000.8,   1.6616,  34.6668,  34.6672,2,   -999.0,    138.2,2,  1.4410
  492SSY9607_1,  P08N,    56,  1,     17,      7,2,19960726,1100, 13.0017, 129.9983, 5970,   3501.1,   1.5856,  34.6758,  34.6540,3,   -999.0,    135.7,3,  1.3171
  492SSY9607_1,  P08N,    56,  1,     18,      6,2,19960726,1100, 13.0017, 129.9983, 5970,   4000.6,   1.5766,  34.6800,  34.6806,2,   -999.0,    153.4,2,  1.2554
  492SSY9607_1,  P08N,    56,  1,     19,      5,2,19960726,1100, 13.0017, 129.9983, 5970,   4501.8,   1.6156,  34.6823,  34.6816,2,   -999.0,    153.8,2,  1.2368
  492SSY9607_1,  P08N,    56,  1,     20,      4,2,19960726,1100, 13.0017, 129.9983, 5970,   5001.0,   1.6716,  34.6824,  34.6821,2,   -999.0,    153.9,2,  1.2314
  492SSY9607_1,  P08N,    56,  1,     21,      3,2,19960726,1100, 13.0017, 129.9983, 5970,   5502.0,   1.7356,  34.6826,  34.6829,2,   -999.0,    155.4,2,  1.2302
  492SSY9607_1,  P08N,    56,  1,     22,      2,2,19960726,1100, 13.0017, 129.9983, 5970,   6001.1,   1.8026,  34.6828,  34.6853,2,   -999.0,    155.5,3,  1.2288
  492SSY9607_1,  P08N,    56,  1,     23,      1,2,19960726,1100, 13.0017, 129.9983, 5970,   6040.3,   1.8086,  34.6828,  34.6810,2,   -999.0,    154.7,3,  1.2293
  492SSY9607_1,  P08N,    57,  1,      1,     23,2,19960726,1632, 12.5000, 130.0017, 5610,     99.0,  27.4124,  34.5797,  34.5684,2,   -999.0,    202.8,2, 27.3894
  492SSY9607_1,  P08N,    57,  1,      2,     22,2,19960726,1632, 12.5000, 130.0017, 5610,    199.7,  18.3266,  34.8143,  34.8349,3,   -999.0,    159.9,2, 18.2919
  492SSY9607_1,  P08N,    57,  1,      3,     21,2,19960726,1632, 12.5000, 130.0017, 5610,    299.4,  11.6032,  34.3886,  34.3948,2,   -999.0,    137.4,2, 11.5651
  492SSY9607_1,  P08N,    57,  1,      4,     20,2,19960726,1632, 12.5000, 130.0017, 5610,    398.6,   8.5729,  34.3967,  34.4003,2,   -999.0,     78.3,2,  8.5308
  492SSY9607_1,  P08N,    57,  1,      5,     19,2,19960726,1632, 12.5000, 130.0017, 5610,    500.0,   7.2423,  34.4269,  34.4286,2,   -999.0,     82.1,2,  7.1940
  492SSY9607_1,  P08N,    57,  1,      6,     18,2,19960726,1632, 12.5000, 130.0017, 5610,    599.8,   6.4085,  34.4684,  34.4668,2,   -999.0,     77.1,2,  6.3539
  492SSY9607_1,  P08N,    57,  1,      7,     17,2,19960726,1632, 12.5000, 130.0017, 5610,    700.7,   5.9176,  34.4961,  34.4972,2,   -999.0,     80.0,2,  5.8559
  492SSY9607_1,  P08N,    57,  1,      8,     16,2,19960726,1632, 12.5000, 130.0017, 5610,    800.4,   5.5077,  34.5138,  34.5112,2,   -999.0,     89.1,2,  5.4391
  492SSY9607_1,  P08N,    57,  1,      9,     15,2,19960726,1632, 12.5000, 130.0017, 5610,    900.0,   5.1188,  34.5226,  34.5250,2,   -999.0,     84.8,2,  5.0436
  492SSY9607_1,  P08N,    57,  1,     10,     14,2,19960726,1632, 12.5000, 130.0017, 5610,   1000.2,   4.7549,  34.5324,  34.5352,2,   -999.0,     84.7,2,  4.6734
  492SSY9607_1,  P08N,    57,  1,     11,     13,2,19960726,1632, 12.5000, 130.0017, 5610,   1249.0,   3.8241,  34.5577,  34.5574,2,   -999.0,     94.6,2,  3.7288
  492SSY9607_1,  P08N,    57,  1,     12,     12,2,19960726,1632, 12.5000, 130.0017, 5610,   1498.8,   3.0343,  34.5782,  34.5785,2,   -999.0,     99.1,2,  2.9260
  492SSY9607_1,  P08N,    57,  1,     13,     11,2,19960726,1632, 12.5000, 130.0017, 5610,   1748.1,   2.6004,  34.6040,  34.6084,2,   -999.0,    105.2,2,  2.4765
  492SSY9607_1,  P08N,    57,  1,     14,     10,2,19960726,1632, 12.5000, 130.0017, 5610,   1999.2,   2.2015,  34.6267,  34.6320,2,   -999.0,    113.5,2,  2.0618
  492SSY9607_1,  P08N,    57,  1,     15,      9,2,19960726,1632, 12.5000, 130.0017, 5610,   2250.8,   1.9655,  34.6437,  34.6463,2,   -999.0,    121.1,2,  1.8079
  492SSY9607_1,  P08N,    57,  1,     16,      8,2,19960726,1632, 12.5000, 130.0017, 5610,   2500.8,   1.8206,  34.6537,  34.6540,2,   -999.0,    127.1,2,  1.6433
  492SSY9607_1,  P08N,    57,  1,     17,      7,2,19960726,1632, 12.5000, 130.0017, 5610,   3000.8,   1.6356,  34.6688,  34.6711,2,   -999.0,    139.2,2,  1.4156
  492SSY9607_1,  P08N,    57,  1,     18,      6,2,19960726,1632, 12.5000, 130.0017, 5610,   3500.6,   1.5636,  34.6768,  34.6792,2,   -999.0,    150.3,2,  1.2957
  492SSY9607_1,  P08N,    57,  1,     19,      5,2,19960726,1632, 12.5000, 130.0017, 5610,   4000.8,   1.5696,  34.6811,  34.6821,2,   -999.0,    146.0,3,  1.2486
  492SSY9607_1,  P08N,    57,  1,     20,      4,2,19960726,1632, 12.5000, 130.0017, 5610,   4502.5,   1.6156,  34.6822,  34.6819,2,   -999.0,    161.9,3,  1.2367
  492SSY9607_1,  P08N,    57,  1,     21,      3,2,19960726,1632, 12.5000, 130.0017, 5610,   4999.2,   1.6736,  34.6825,  34.6833,2,   -999.0,    150.7,2,  1.2336
  492SSY9607_1,  P08N,    57,  1,     22,      2,2,19960726,1632, 12.5000, 130.0017, 5610,   5499.6,   1.7356,  34.6826,  34.6855,2,   -999.0,    155.5,2,  1.2305
  492SSY9607_1,  P08N,    57,  1,     23,      1,2,19960726,1632, 12.5000, 130.0017, 5610,   5773.3,   1.7726,  34.6828,  34.6833,2,   -999.0,    156.1,2,  1.2304
  492SSY9607_1,  P08N,    58,  1,      1,     23,2,19960726,2137, 12.0000, 130.0000, 5800,    101.8,  26.5486,  34.7395,  34.7416,2,   -999.0,    200.1,2, 26.5255
  492SSY9607_1,  P08N,    58,  1,      2,     22,2,19960726,2137, 12.0000, 130.0000, 5800,    200.9,  16.8829,  34.7086,  34.7034,2,   -999.0,    148.3,2, 16.8500
  492SSY9607_1,  P08N,    58,  1,      3,     21,2,19960726,2137, 12.0000, 130.0000, 5800,    300.7,  11.2723,  34.4614,  34.4595,2,   -999.0,    109.8,2, 11.2347
  492SSY9607_1,  P08N,    58,  1,      4,     20,2,19960726,2137, 12.0000, 130.0000, 5800,    401.6,   8.4170,  34.4116,  34.4139,2,   -999.0,     75.3,2,  8.3750
  492SSY9607_1,  P08N,    58,  1,      5,     19,2,19960726,2137, 12.0000, 130.0000, 5800,    501.6,   7.1063,  34.4368,  34.4343,2,   -999.0,     78.8,2,  7.0584
  492SSY9607_1,  P08N,    58,  1,      6,     18,2,19960726,2137, 12.0000, 130.0000, 5800,    601.7,   5.9306,  34.4120,  34.4190,2,   -999.0,     79.5,2,  5.8780
  492SSY9607_1,  P08N,    58,  1,      7,     17,2,19960726,2137, 12.0000, 130.0000, 5800,    702.1,   5.6207,  34.5039,  34.5071,2,   -999.0,     84.6,2,  5.5604
  492SSY9607_1,  P08N,    58,  1,      8,     16,2,19960726,2137, 12.0000, 130.0000, 5800,    801.3,   5.1968,  34.5196,  34.5226,2,   -999.0,     87.1,2,  5.1299
  492SSY9607_1,  P08N,    58,  1,      9,     15,2,19960726,2137, 12.0000, 130.0000, 5800,    902.4,   4.8578,  34.5304,  34.5309,2,   -999.0,     87.4,2,  4.7842
  492SSY9607_1,  P08N,    58,  1,     10,     14,2,19960726,2137, 12.0000, 130.0000, 5800,   1002.7,   4.5159,  34.5402,  34.5409,2,   -999.0,     87.3,2,  4.4360
  492SSY9607_1,  P08N,    58,  1,     11,     13,2,19960726,2137, 12.0000, 130.0000, 5800,   1251.2,   3.7151,  34.5637,  34.5590,2,   -999.0,     93.6,2,  3.6206
  492SSY9607_1,  P08N,    58,  1,     12,     12,2,19960726,2137, 12.0000, 130.0000, 5800,   1502.0,   2.9783,  34.5862,  34.5804,2,   -999.0,     98.8,2,  2.8704
  492SSY9607_1,  P08N,    58,  1,     13,     11,2,19960726,2137, 12.0000, 130.0000, 5800,   1750.3,   2.4614,  34.6139,  34.6097,2,   -999.0,    106.7,2,  2.3391
  492SSY9607_1,  P08N,    58,  1,     14,     10,2,19960726,2137, 12.0000, 130.0000, 5800,   2000.7,   2.1845,  34.6318,  34.6339,2,   -999.0,    115.0,2,  2.0450
  492SSY9607_1,  P08N,    58,  1,     15,      9,2,19960726,2137, 12.0000, 130.0000, 5800,   2252.2,   1.9405,  34.6457,  34.6483,2,   -999.0,    122.2,2,  1.7832
  492SSY9607_1,  P08N,    58,  1,     16,      8,2,19960726,2137, 12.0000, 130.0000, 5800,   2501.0,   1.7766,  34.6556,  34.6538,2,   -999.0,    128.4,2,  1.6001
  492SSY9607_1,  P08N,    58,  1,     17,      7,2,19960726,2137, 12.0000, 130.0000, 5800,   3001.4,   1.6146,  34.6697,  34.6721,2,   -999.0,    141.0,2,  1.3950
  492SSY9607_1,  P08N,    58,  1,     18,      6,2,19960726,2137, 12.0000, 130.0000, 5800,   3501.9,   1.5586,  34.6769,  34.6776,2,   -999.0,    150.2,2,  1.2907
  492SSY9607_1,  P08N,    58,  1,     19,      5,2,19960726,2137, 12.0000, 130.0000, 5800,   4000.9,   1.5676,  34.6811,  34.6821,2,   -999.0,    153.2,2,  1.2466
  492SSY9607_1,  P08N,    58,  1,     20,      4,2,19960726,2137, 12.0000, 130.0000, 5800,   4502.0,   1.6166,  34.6822,  34.6855,2,   -999.0,    155.4,2,  1.2377
  492SSY9607_1,  P08N,    58,  1,     21,      3,2,19960726,2137, 12.0000, 130.0000, 5800,   5001.2,   1.6756,  34.6824,  34.6766,2,   -999.0,    154.5,2,  1.2353
  492SSY9607_1,  P08N,    58,  1,     22,      2,2,19960726,2137, 12.0000, 130.0000, 5800,   5500.6,   1.7396,  34.6826,  34.6792,2,   -999.0,    155.1,2,  1.2342
  492SSY9607_1,  P08N,    58,  1,     23,      1,2,19960726,2137, 12.0000, 130.0000, 5800,   5741.8,   1.7716,  34.6827,  34.6790,2,   -999.0,    154.4,3,  1.2336
  492SSY9607_1,  P08N,    59,  1,      1,     23,2,19960727,0239, 11.5017, 130.0000, 5710,    100.1,  27.1955,  34.4645,  34.5653,3,   -999.0,    144.8,3, 27.1724
  492SSY9607_1,  P08N,    59,  1,      2,     22,2,19960727,0239, 11.5017, 130.0000, 5710,    300.1,   9.6347,  34.4284,  34.4351,2,   -999.0,     93.4,2,  9.6008
  492SSY9607_1,  P08N,    59,  1,      3,     21,2,19960727,0239, 11.5017, 130.0000, 5710,    400.4,   7.7221,  34.4232,  34.4251,2,   -999.0,     70.6,2,  7.6823
  492SSY9607_1,  P08N,    59,  1,      4,     20,2,19960727,0239, 11.5017, 130.0000, 5710,    499.9,   6.3675,  34.4162,  34.4247,2,   -999.0,     79.3,2,  6.3225
  492SSY9607_1,  P08N,    59,  1,      5,     19,2,19960727,0239, 11.5017, 130.0000, 5710,    598.9,   5.9346,  34.4870,  34.4890,2,   -999.0,     92.1,2,  5.8822
  492SSY9607_1,  P08N,    59,  1,      6,     18,2,19960727,0239, 11.5017, 130.0000, 5710,    698.8,   5.6916,  34.5240,  34.5269,2,   -999.0,     93.1,2,  5.6313
  492SSY9607_1,  P08N,    59,  1,      7,     17,2,19960727,0239, 11.5017, 130.0000, 5710,    800.7,   5.1758,  34.5116,  34.5140,2,   -999.0,     86.8,2,  5.1091
  492SSY9607_1,  P08N,    59,  1,      8,     16,2,19960727,0239, 11.5017, 130.0000, 5710,    900.3,   4.8358,  34.5324,  34.5334,2,   -999.0,     87.7,2,  4.7626
  492SSY9607_1,  P08N,    59,  1,      9,     15,2,19960727,0239, 11.5017, 130.0000, 5710,   1001.5,   4.4419,  34.5462,  34.5431,2,   -999.0,     90.2,2,  4.3627
  492SSY9607_1,  P08N,    59,  1,     10,     14,2,19960727,0239, 11.5017, 130.0000, 5710,   1250.5,   3.6231,  34.5666,  34.5671,2,   -999.0,     94.6,2,  3.5296
  492SSY9607_1,  P08N,    59,  1,     11,     13,2,19960727,0239, 11.5017, 130.0000, 5710,   1499.7,   3.0663,  34.5843,  34.5871,2,   -999.0,    101.4,2,  2.9576
  492SSY9607_1,  P08N,    59,  1,     12,     12,2,19960727,0239, 11.5017, 130.0000, 5710,   1751.2,   2.5834,  34.6100,  34.6093,2,   -999.0,    106.5,2,  2.4594
  492SSY9607_1,  P08N,    59,  1,     13,     11,2,19960727,0239, 11.5017, 130.0000, 5710,   1999.9,   2.2155,  34.6318,  34.6385,2,   -999.0,    114.4,2,  2.0756
  492SSY9607_1,  P08N,    59,  1,     14,     10,2,19960727,0239, 11.5017, 130.0000, 5710,   2250.5,   2.0025,  34.6437,  34.6463,2,   -999.0,    121.2,2,  1.8443
  492SSY9607_1,  P08N,    59,  1,     15,      9,2,19960727,0239, 11.5017, 130.0000, 5710,   2500.2,   1.8486,  34.6537,  34.6552,2,   -999.0,    127.8,2,  1.6708
  492SSY9607_1,  P08N,    59,  1,     16,      8,2,19960727,0239, 11.5017, 130.0000, 5710,   2998.9,   1.6356,  34.6688,  34.6713,2,   -999.0,    139.6,2,  1.4157
  492SSY9607_1,  P08N,    59,  1,     17,      7,2,19960727,0239, 11.5017, 130.0000, 5710,   3499.4,   1.5696,  34.6769,  34.6766,2,   -999.0,    148.4,2,  1.3016
  492SSY9607_1,  P08N,    59,  1,     18,      6,2,19960727,0239, 11.5017, 130.0000, 5710,   4000.5,   1.5726,  34.6811,  34.6831,2,   -999.0,    152.7,2,  1.2515
  492SSY9607_1,  P08N,    59,  1,     19,      5,2,19960727,0239, 11.5017, 130.0000, 5710,   4499.4,   1.6176,  34.6822,  34.6829,2,   -999.0,    153.6,2,  1.2390
  492SSY9607_1,  P08N,    59,  1,     20,      4,2,19960727,0239, 11.5017, 130.0000, 5710,   4998.9,   1.6756,  34.6824,  34.6833,2,   -999.0,    153.7,2,  1.2355
  492SSY9607_1,  P08N,    59,  1,     21,      3,2,19960727,0239, 11.5017, 130.0000, 5710,   5499.6,   1.7386,  34.6826,  34.6839,2,   -999.0,    154.1,2,  1.2334
  492SSY9607_1,  P08N,    59,  1,     22,      2,2,19960727,0239, 11.5017, 130.0000, 5710,   5816.2,   1.7796,  34.6828,  34.6833,2,   -999.0,    155.1,3,  1.2314
  492SSY9607_1,  P08N,    59,  1,     23,      1,2,19960727,0239, 11.5017, 130.0000, 5710,   5816.2,   1.7796,  34.6828,  34.6851,2,   -999.0,    154.8,3,  1.2314