BOTTLE,20020620WHPSIOSA
EXPOCODE,SECT_ID,STNNBR,CASTNO,SAMPNO,BTLNBR,BTLNBR_FLAG_W,DATE,TIME,LATITUDE,LONGITUDE,DEPTH,CTDPRS,CTDTMP,CTDSAL,SALNTY,SALNTY_FLAG_W,CTDOXY,OXYGEN,OXYGEN_FLAG_W,THETA
,,,,,,,,,,,,DBAR,ITS-90,PSS-78,PSS-78,,UMOL/KG,UMOL/KG,,ITS-90
  492SSY9607_1,  P08N,    50,  1,      1,     23,2,19960725,0657, 15.6683, 130.0033, 5760,    100.0,  27.2845,  34.5180,  34.5122,2,   -999.0,    202.1,3, 27.2613
  492SSY9607_1,  P08N,    50,  1,      2,     22,2,19960725,0657, 15.6683, 130.0033, 5760,    200.8,  21.8118,  35.0018,  35.0010,2,   -999.0,    192.9,2, 21.7722
  492SSY9607_1,  P08N,    50,  1,      3,     21,2,19960725,0657, 15.6683, 130.0033, 5760,    298.6,  17.2908,  34.8293,  34.8296,2,   -999.0,    200.8,2, 17.2409
  492SSY9607_1,  P08N,    50,  1,      4,     20,2,19960725,0657, 15.6683, 130.0033, 5760,    400.2,  13.2518,  34.4755,  34.4823,2,   -999.0,    182.3,2, 13.1960
  492SSY9607_1,  P08N,    50,  1,      5,     19,2,19960725,0657, 15.6683, 130.0033, 5760,    499.2,   8.9149,  34.2564,  34.2483,2,   -999.0,    120.9,2,  8.8606
  492SSY9607_1,  P08N,    50,  1,      6,     18,2,19960725,0657, 15.6683, 130.0033, 5760,    600.4,   7.7811,  34.4310,  34.4271,2,   -999.0,     65.4,2,  7.7204
  492SSY9607_1,  P08N,    50,  1,      7,     17,2,19960725,0657, 15.6683, 130.0033, 5760,    699.6,   6.2805,  34.3712,  34.3697,2,   -999.0,     77.4,2,  6.2171
  492SSY9607_1,  P08N,    50,  1,      8,     16,2,19960725,0657, 15.6683, 130.0033, 5760,    800.5,   5.3747,  34.4228,  34.4223,2,   -999.0,     78.0,2,  5.3070
  492SSY9607_1,  P08N,    50,  1,      9,     15,2,19960725,0657, 15.6683, 130.0033, 5760,    901.7,   4.8038,  34.4716,  34.4717,2,   -999.0,     81.0,2,  4.7308
  492SSY9607_1,  P08N,    50,  1,     10,     14,2,19960725,0657, 15.6683, 130.0033, 5760,    997.0,   4.4649,  34.5035,  34.5031,2,   -999.0,     85.9,2,  4.3859
  492SSY9607_1,  P08N,    50,  1,     11,     13,2,19960725,0657, 15.6683, 130.0033, 5760,   1249.6,   3.5282,  34.5480,  34.5511,2,   -999.0,     92.9,2,  3.4356
  492SSY9607_1,  P08N,    50,  1,     12,     12,2,19960725,0657, 15.6683, 130.0033, 5760,   1498.5,   2.8973,  34.5797,  34.5779,2,   -999.0,     97.4,2,  2.7906
  492SSY9607_1,  P08N,    50,  1,     13,     11,2,19960725,0657, 15.6683, 130.0033, 5760,   1748.2,   2.5414,  34.6045,  34.6027,2,   -999.0,    106.4,2,  2.4182
  492SSY9607_1,  P08N,    50,  1,     14,     10,2,19960725,0657, 15.6683, 130.0033, 5760,   1998.5,   2.2055,  34.6265,  34.6243,2,   -999.0,    114.1,2,  2.0658
  492SSY9607_1,  P08N,    50,  1,     15,      9,2,19960725,0657, 15.6683, 130.0033, 5760,   2248.9,   1.9795,  34.6424,  34.6428,2,   -999.0,    120.7,2,  1.8218
  492SSY9607_1,  P08N,    50,  1,     16,      8,2,19960725,0657, 15.6683, 130.0033, 5760,   2499.8,   1.8466,  34.6544,  34.6562,2,   -999.0,    126.5,2,  1.6689
  492SSY9607_1,  P08N,    50,  1,     17,      7,2,19960725,0657, 15.6683, 130.0033, 5760,   2998.4,   1.6786,  34.6694,  34.6747,2,   -999.0,    137.7,2,  1.4578
  492SSY9607_1,  P08N,    50,  1,     18,      6,2,19960725,0657, 15.6683, 130.0033, 5760,   3501.0,   1.6006,  34.6775,  34.6756,2,   -999.0,    148.0,2,  1.3317
  492SSY9607_1,  P08N,    50,  1,     19,      5,2,19960725,0657, 15.6683, 130.0033, 5760,   4002.1,   1.5786,  34.6837,  34.6814,2,   -999.0,    149.2,2,  1.2572
  492SSY9607_1,  P08N,    50,  1,     20,      4,2,19960725,0657, 15.6683, 130.0033, 5760,   4498.9,   1.6116,  34.6858,  34.6833,2,   -999.0,    154.6,2,  1.2332
  492SSY9607_1,  P08N,    50,  1,     21,      3,2,19960725,0657, 15.6683, 130.0033, 5760,   4998.2,   1.6646,  34.6870,  34.6843,2,   -999.0,    155.8,2,  1.2250
  492SSY9607_1,  P08N,    50,  1,     22,      2,2,19960725,0657, 15.6683, 130.0033, 5760,   5501.8,   1.7276,  34.6871,  34.6875,2,   -999.0,    156.5,2,  1.2225
  492SSY9607_1,  P08N,    50,  1,     23,      1,2,19960725,0657, 15.6683, 130.0033, 5760,   5907.8,   1.7826,  34.6872,  34.6884,2,   -999.0,    156.4,2,  1.2221
  492SSY9607_1,  P08N,    51,  1,      1,     23,2,19960725,1105, 15.3333, 130.0017, 5270,     51.7,  28.3272,  34.3221,  34.3227,2,   -999.0,    205.8,3, 28.3149
  492SSY9607_1,  P08N,    51,  1,      2,     22,2,19960725,1105, 15.3333, 130.0017, 5270,    100.6,  27.2005,  34.5480,  34.5393,2,   -999.0,    201.0,3, 27.1773
  492SSY9607_1,  P08N,    51,  1,      3,     21,2,19960725,1105, 15.3333, 130.0017, 5270,    202.3,  20.9280,  34.9996,  34.9974,2,   -999.0,    189.5,2, 20.8893
  492SSY9607_1,  P08N,    51,  1,      4,     20,2,19960725,1105, 15.3333, 130.0017, 5270,    307.0,  15.8172,  34.6966,  34.7008,2,   -999.0,    193.0,2, 15.7690
  492SSY9607_1,  P08N,    51,  1,      5,     19,2,19960725,1105, 15.3333, 130.0017, 5270,    398.9,  10.7284,  34.3003,  34.3062,2,   -999.0,    157.9,2, 10.6800
  492SSY9607_1,  P08N,    51,  1,      6,     18,2,19960725,1105, 15.3333, 130.0017, 5270,    496.3,   8.4270,  34.3483,  34.3482,2,   -999.0,     85.5,2,  8.3748
  492SSY9607_1,  P08N,    51,  1,      7,     17,2,19960725,1105, 15.3333, 130.0017, 5270,    601.0,   7.0343,  34.4336,  34.4284,2,   -999.0,     63.5,2,  6.9768
  492SSY9607_1,  P08N,    51,  1,      8,     16,2,19960725,1105, 15.3333, 130.0017, 5270,    701.3,   6.1715,  34.4463,  34.4465,2,   -999.0,     75.2,2,  6.1085
  492SSY9607_1,  P08N,    51,  1,      9,     15,2,19960725,1105, 15.3333, 130.0017, 5270,    800.3,   5.4077,  34.4639,  34.4603,2,   -999.0,     80.0,2,  5.3398
  492SSY9607_1,  P08N,    51,  1,     10,     14,2,19960725,1105, 15.3333, 130.0017, 5270,    900.7,   4.9468,  34.5107,  34.5079,2,   -999.0,     86.8,2,  4.8728
  492SSY9607_1,  P08N,    51,  1,     11,     13,2,19960725,1105, 15.3333, 130.0017, 5270,   1001.6,   4.3660,  34.5124,  34.5126,2,   -999.0,     85.0,2,  4.2873
  492SSY9607_1,  P08N,    51,  1,     12,     12,2,19960725,1105, 15.3333, 130.0017, 5270,   1252.7,   3.5282,  34.5510,  34.5499,2,   -999.0,     92.3,2,  3.4354
  492SSY9607_1,  P08N,    51,  1,     13,     11,2,19960725,1105, 15.3333, 130.0017, 5270,   1500.1,   2.9393,  34.5777,  34.5779,2,   -999.0,     98.7,2,  2.8320
  492SSY9607_1,  P08N,    51,  1,     14,     10,2,19960725,1105, 15.3333, 130.0017, 5270,   1752.5,   2.5424,  34.6025,  34.6025,2,   -999.0,    106.0,2,  2.4189
  492SSY9607_1,  P08N,    51,  1,     15,      9,2,19960725,1105, 15.3333, 130.0017, 5270,   2001.2,   2.1965,  34.6274,  34.6272,2,   -999.0,    114.1,2,  2.0568
  492SSY9607_1,  P08N,    51,  1,     16,      8,2,19960725,1105, 15.3333, 130.0017, 5270,   2249.9,   1.9675,  34.6434,  34.6440,2,   -999.0,    120.5,2,  1.8100
  492SSY9607_1,  P08N,    51,  1,     17,      7,2,19960725,1105, 15.3333, 130.0017, 5270,   2500.0,   1.8166,  34.6563,  34.6524,2,   -999.0,    126.5,2,  1.6395
  492SSY9607_1,  P08N,    51,  1,     18,      6,2,19960725,1105, 15.3333, 130.0017, 5270,   3000.0,   1.6676,  34.6695,  34.6678,2,   -999.0,    139.4,2,  1.4469
  492SSY9607_1,  P08N,    51,  1,     19,      5,2,19960725,1105, 15.3333, 130.0017, 5270,   3501.8,   1.5916,  34.6786,  34.6745,2,   -999.0,    147.2,2,  1.3228
  492SSY9607_1,  P08N,    51,  1,     20,      4,2,19960725,1105, 15.3333, 130.0017, 5270,   3999.8,   1.5766,  34.6837,  34.6845,2,   -999.0,    152.7,2,  1.2555
  492SSY9607_1,  P08N,    51,  1,     21,      3,2,19960725,1105, 15.3333, 130.0017, 5270,   4501.3,   1.6066,  34.6867,  34.6875,2,   -999.0,    155.4,2,  1.2281
  492SSY9607_1,  P08N,    51,  1,     22,      2,2,19960725,1105, 15.3333, 130.0017, 5270,   4999.7,   1.6636,  34.6870,  34.6855,2,   -999.0,    155.6,2,  1.2238
  492SSY9607_1,  P08N,    51,  1,     23,      1,2,19960725,1105, 15.3333, 130.0017, 5270,   5363.3,   1.7096,  34.6870,  34.6851,2,   -999.0,    156.8,2,  1.2228
  492SSY9607_1,  P08N,    52,  1,      1,     23,2,19960725,1514, 15.0000, 130.0033, 5920,     98.4,  27.7543,  34.3800,  34.3844,2,   -999.0,    203.2,3, 27.7313
  492SSY9607_1,  P08N,    52,  1,      2,     22,2,19960725,1514, 15.0000, 130.0033, 5920,    199.5,  21.1379,  34.9896,  34.9896,2,   -999.0,    191.9,2, 21.0995
  492SSY9607_1,  P08N,    52,  1,      3,     21,2,19960725,1514, 15.0000, 130.0033, 5920,    299.2,  15.1004,  34.6173,  34.6152,2,   -999.0,    175.8,2, 15.0549
  492SSY9607_1,  P08N,    52,  1,      4,     20,2,19960725,1514, 15.0000, 130.0033, 5920,    398.5,  11.0054,  34.3144,  34.3372,3,   -999.0,    162.0,3, 10.9562
  492SSY9607_1,  P08N,    52,  1,      5,     19,2,19960725,1514, 15.0000, 130.0033, 5920,    500.3,   8.3390,  34.3623,  34.3612,2,   -999.0,     81.7,2,  8.2867
  492SSY9607_1,  P08N,    52,  1,      6,     18,2,19960725,1514, 15.0000, 130.0033, 5920,    601.2,   6.8973,  34.4306,  34.4284,2,   -999.0,     66.7,2,  6.8404
  492SSY9607_1,  P08N,    52,  1,      7,     17,2,19960725,1514, 15.0000, 130.0033, 5920,    699.4,   6.1475,  34.4682,  34.4658,2,   -999.0,     70.4,2,  6.0847
  492SSY9607_1,  P08N,    52,  1,      8,     16,2,19960725,1514, 15.0000, 130.0033, 5920,    801.8,   5.4987,  34.4749,  34.4758,2,   -999.0,     80.3,2,  5.4300
  492SSY9607_1,  P08N,    52,  1,      9,     15,2,19960725,1514, 15.0000, 130.0033, 5920,    899.2,   4.9628,  34.5047,  34.5082,2,   -999.0,     83.5,2,  4.8888
  492SSY9607_1,  P08N,    52,  1,     10,     14,2,19960725,1514, 15.0000, 130.0033, 5920,   1000.4,   4.5139,  34.5274,  34.5254,2,   -999.0,     87.3,2,  4.4342
  492SSY9607_1,  P08N,    52,  1,     11,     13,2,19960725,1514, 15.0000, 130.0033, 5920,   1249.7,   3.6331,  34.5561,  34.5596,2,   -999.0,     93.3,2,  3.5396
  492SSY9607_1,  P08N,    52,  1,     12,     12,2,19960725,1514, 15.0000, 130.0033, 5920,   1498.8,   2.9693,  34.5807,  34.5836,2,   -999.0,    100.6,2,  2.8618
  492SSY9607_1,  P08N,    52,  1,     13,     11,2,19960725,1514, 15.0000, 130.0033, 5920,   1749.7,   2.5514,  34.6055,  34.6070,2,   -999.0,    106.7,2,  2.4280
  492SSY9607_1,  P08N,    52,  1,     14,     10,2,19960725,1514, 15.0000, 130.0033, 5920,   2000.1,   2.2145,  34.6304,  34.6280,2,   -999.0,    116.0,2,  2.0746
  492SSY9607_1,  P08N,    52,  1,     15,      9,2,19960725,1514, 15.0000, 130.0033, 5920,   2250.1,   1.9555,  34.6454,  34.6487,2,   -999.0,    122.6,2,  1.7981
  492SSY9607_1,  P08N,    52,  1,     16,      8,2,19960725,1514, 15.0000, 130.0033, 5920,   2499.3,   1.8286,  34.6554,  34.6599,2,   -999.0,    127.5,2,  1.6513
  492SSY9607_1,  P08N,    52,  1,     17,      7,2,19960725,1514, 15.0000, 130.0033, 5920,   2999.3,   1.6586,  34.6704,  34.6762,2,   -999.0,    139.3,2,  1.4382
  492SSY9607_1,  P08N,    52,  1,     18,      6,2,19960725,1514, 15.0000, 130.0033, 5920,   3499.7,   1.5836,  34.6785,  34.6788,2,   -999.0,    149.8,2,  1.3152
  492SSY9607_1,  P08N,    52,  1,     19,      5,2,19960725,1514, 15.0000, 130.0033, 5920,   4000.9,   1.5686,  34.6846,  34.6843,2,   -999.0,    153.3,2,  1.2476
  492SSY9607_1,  P08N,    52,  1,     20,      4,2,19960725,1514, 15.0000, 130.0033, 5920,   4501.2,   1.6086,  34.6858,  34.6884,2,   -999.0,    155.8,2,  1.2300
  492SSY9607_1,  P08N,    52,  1,     21,      3,2,19960725,1514, 15.0000, 130.0033, 5920,   5000.3,   1.6636,  34.6870,  34.6912,2,   -999.0,    156.8,2,  1.2238
  492SSY9607_1,  P08N,    52,  1,     22,      2,2,19960725,1514, 15.0000, 130.0033, 5920,   5500.6,   1.7286,  34.6871,  34.6865,2,   -999.0,    156.0,2,  1.2236
  492SSY9607_1,  P08N,    52,  1,     23,      1,2,19960725,1514, 15.0000, 130.0033, 5920,   5881.6,   1.7796,  34.6862,  34.6884,2,   -999.0,    156.5,2,  1.2227
  492SSY9607_1,  P08N,    53,  1,      1,     23,2,19960725,1956, 14.5000, 130.0000, 6000,    100.3,  27.3004,  34.4815,  34.4770,2,   -999.0,    204.6,3, 27.2773
  492SSY9607_1,  P08N,    53,  1,      2,     22,2,19960725,1956, 14.5000, 130.0000, 6000,    199.5,  21.4998,  35.0709,  35.0692,2,   -999.0,    178.7,2, 21.4609
  492SSY9607_1,  P08N,    53,  1,      3,     21,2,19960725,1956, 14.5000, 130.0000, 6000,    301.0,  15.5173,  34.6559,  34.6528,2,   -999.0,    177.1,2, 15.4706
  492SSY9607_1,  P08N,    53,  1,      4,     20,2,19960725,1956, 14.5000, 130.0000, 6000,    399.9,  10.9654,  34.4062,  34.4003,2,   -999.0,    118.2,2, 10.9161
  492SSY9607_1,  P08N,    53,  1,      5,     19,2,19960725,1956, 14.5000, 130.0000, 6000,    501.0,   8.4390,  34.3567,  34.3447,2,   -999.0,     88.6,2,  8.3862
  492SSY9607_1,  P08N,    53,  1,      6,     18,2,19960725,1956, 14.5000, 130.0000, 6000,    603.5,   7.0003,  34.4057,  34.3925,3,   -999.0,     68.0,2,  6.9427
  492SSY9607_1,  P08N,    53,  1,      7,     17,2,19960725,1956, 14.5000, 130.0000, 6000,    702.6,   6.2235,  34.4562,  34.4501,2,   -999.0,     71.0,2,  6.1600
  492SSY9607_1,  P08N,    53,  1,      8,     16,2,19960725,1956, 14.5000, 130.0000, 6000,    802.1,   5.6576,  34.4829,  34.4736,2,   -999.0,     75.7,2,  5.5880
  492SSY9607_1,  P08N,    53,  1,      9,     15,2,19960725,1956, 14.5000, 130.0000, 6000,    901.5,   5.1048,  34.5026,  34.5043,2,   -999.0,     79.1,2,  5.0296
  492SSY9607_1,  P08N,    53,  1,     10,     14,2,19960725,1956, 14.5000, 130.0000, 6000,    997.6,   4.6249,  34.5222,  34.5232,2,   -999.0,     86.2,2,  4.5446
  492SSY9607_1,  P08N,    53,  1,     11,     13,2,19960725,1956, 14.5000, 130.0000, 6000,   1250.8,   3.6861,  34.5546,  34.5547,2,   -999.0,     96.6,2,  3.5920
  492SSY9607_1,  P08N,    53,  1,     12,     12,2,19960725,1956, 14.5000, 130.0000, 6000,   1499.0,   3.0523,  34.5723,  34.5678,2,   -999.0,     98.1,2,  2.9438
  492SSY9607_1,  P08N,    53,  1,     13,     11,2,19960725,1956, 14.5000, 130.0000, 6000,   1750.2,   2.6104,  34.5980,  34.5950,2,   -999.0,    104.6,2,  2.4862
  492SSY9607_1,  P08N,    53,  1,     14,     10,2,19960725,1956, 14.5000, 130.0000, 6000,   2000.1,   2.2365,  34.6208,  34.6150,2,   -999.0,    111.9,2,  2.0963
  492SSY9607_1,  P08N,    53,  1,     15,      9,2,19960725,1956, 14.5000, 130.0000, 6000,   2249.0,   1.9775,  34.6407,  34.6263,3,   -999.0,    120.2,2,  1.8199
  492SSY9607_1,  P08N,    53,  1,     16,      8,2,19960725,1956, 14.5000, 130.0000, 6000,   2501.2,   1.8356,  34.6517,  34.6463,2,   -999.0,    126.0,2,  1.6580
  492SSY9607_1,  P08N,    53,  1,     17,      7,2,19960725,1956, 14.5000, 130.0000, 6000,   2998.0,   1.6726,  34.6657,  34.6660,2,   -999.0,    138.5,2,  1.4520
  492SSY9607_1,  P08N,    53,  1,     18,      6,2,19960725,1956, 14.5000, 130.0000, 6000,   3500.2,   1.5876,  34.6748,  34.6705,2,   -999.0,    148.8,2,  1.3191
  492SSY9607_1,  P08N,    53,  1,     19,      5,2,19960725,1956, 14.5000, 130.0000, 6000,   4001.4,   1.5726,  34.6811,  34.6794,2,   -999.0,    153.1,2,  1.2514
  492SSY9607_1,  P08N,    53,  1,     20,      4,2,19960725,1956, 14.5000, 130.0000, 6000,   4500.9,   1.6086,  34.6822,  34.6823,2,   -999.0,    154.4,2,  1.2301
  492SSY9607_1,  P08N,    53,  1,     21,      3,2,19960725,1956, 14.5000, 130.0000, 6000,   5000.0,   1.6656,  34.6834,  34.6839,2,   -999.0,    156.1,2,  1.2257
  492SSY9607_1,  P08N,    53,  1,     22,      2,2,19960725,1956, 14.5000, 130.0000, 6000,   5501.3,   1.7296,  34.6836,  34.6841,2,   -999.0,    155.9,2,  1.2245
  492SSY9607_1,  P08N,    53,  1,     23,      1,2,19960725,1956, 14.5000, 130.0000, 6000,   5639.8,   1.7486,  34.6837,  34.6833,2,   -999.0,    156.2,2,  1.2248
  492SSY9607_1,  P08N,    54,  1,      1,     23,2,19960726,0046, 14.0000, 130.0000, 5780,     99.1,  26.4197,  34.6434,  34.6428,2,   -999.0,    200.6,3, 26.3973
  492SSY9607_1,  P08N,    54,  1,      2,     22,2,19960726,0046, 14.0000, 130.0000, 5780,    200.1,  20.0862,  34.9993,  35.0002,2,   -999.0,    179.7,2, 20.0490
  492SSY9607_1,  P08N,    54,  1,      3,     21,2,19960726,0046, 14.0000, 130.0000, 5780,    300.3,  14.4695,  34.5693,  34.5775,2,   -999.0,    173.5,2, 14.4252
  492SSY9607_1,  P08N,    54,  1,      4,     20,2,19960726,0046, 14.0000, 130.0000, 5780,    399.0,  10.5515,  34.4370,  34.4412,2,   -999.0,    107.9,2, 10.5035
  492SSY9607_1,  P08N,    54,  1,      5,     19,2,19960726,0046, 14.0000, 130.0000, 5780,    500.4,   7.8711,  34.3933,  34.4117,3,   -999.0,     75.3,2,  7.8205
  492SSY9607_1,  P08N,    54,  1,      6,     18,2,19960726,0046, 14.0000, 130.0000, 5780,    600.3,   6.7664,  34.4025,  34.3954,2,   -999.0,     73.6,2,  6.7102
  492SSY9607_1,  P08N,    54,  1,      7,     17,2,19960726,0046, 14.0000, 130.0000, 5780,    700.6,   5.8786,  34.4240,  34.4259,2,   -999.0,     77.9,2,  5.8172
  492SSY9607_1,  P08N,    54,  1,      8,     16,2,19960726,0046, 14.0000, 130.0000, 5780,    800.3,   5.3517,  34.4757,  34.4744,2,   -999.0,     81.5,2,  5.2841
  492SSY9607_1,  P08N,    54,  1,      9,     15,2,19960726,0046, 14.0000, 130.0000, 5780,    900.9,   4.9268,  34.5054,  34.5004,2,   -999.0,     83.5,2,  4.8529
  492SSY9607_1,  P08N,    54,  1,     10,     14,2,19960726,0046, 14.0000, 130.0000, 5780,   1001.1,   4.3999,  34.5231,  34.5236,2,   -999.0,     88.3,2,  4.3211
  492SSY9607_1,  P08N,    54,  1,     11,     13,2,19960726,0046, 14.0000, 130.0000, 5780,   1250.5,   3.5411,  34.5565,  34.5533,2,   -999.0,     93.3,2,  3.4484
  492SSY9607_1,  P08N,    54,  1,     12,     12,2,19960726,0046, 14.0000, 130.0000, 5780,   1500.0,   2.9493,  34.5792,  34.5816,2,   -999.0,     99.2,2,  2.8419
  492SSY9607_1,  P08N,    54,  1,     13,     11,2,19960726,0046, 14.0000, 130.0000, 5780,   1748.9,   2.5264,  34.6030,  34.6011,2,   -999.0,    105.8,2,  2.4034
  492SSY9607_1,  P08N,    54,  1,     14,     10,2,19960726,0046, 14.0000, 130.0000, 5780,   1999.8,   2.1585,  34.6257,  34.6243,2,   -999.0,    113.7,2,  2.0195
  492SSY9607_1,  P08N,    54,  1,     15,      9,2,19960726,0046, 14.0000, 130.0000, 5780,   2250.9,   1.9445,  34.6407,  34.6408,2,   -999.0,    121.1,2,  1.7873
  492SSY9607_1,  P08N,    54,  1,     16,      8,2,19960726,0046, 14.0000, 130.0000, 5780,   2499.6,   1.8076,  34.6517,  34.6524,2,   -999.0,    127.6,2,  1.6307
  492SSY9607_1,  P08N,    54,  1,     17,      7,2,19960726,0046, 14.0000, 130.0000, 5780,   3000.9,   1.6546,  34.6667,  34.6428,3,   -999.0,    128.0,3,  1.4341
  492SSY9607_1,  P08N,    54,  1,     18,      6,2,19960726,0046, 14.0000, 130.0000, 5780,   3499.9,   1.5906,  34.6749,  34.6731,2,   -999.0,    147.6,2,  1.3221
  492SSY9607_1,  P08N,    54,  1,     19,      5,2,19960726,0046, 14.0000, 130.0000, 5780,   4000.3,   1.5726,  34.6810,  34.6792,2,   -999.0,    153.1,2,  1.2515
  492SSY9607_1,  P08N,    54,  1,     20,      4,2,19960726,0046, 14.0000, 130.0000, 5780,   4499.1,   1.6126,  34.6822,  34.6821,2,   -999.0,    154.6,2,  1.2342
  492SSY9607_1,  P08N,    54,  1,     21,      3,2,19960726,0046, 14.0000, 130.0000, 5780,   4999.8,   1.6686,  34.6834,  34.6806,2,   -999.0,    155.2,2,  1.2287
  492SSY9607_1,  P08N,    54,  1,     22,      2,2,19960726,0046, 14.0000, 130.0000, 5780,   5499.2,   1.7306,  34.6836,  34.6819,2,   -999.0,    156.1,2,  1.2257
  492SSY9607_1,  P08N,    54,  1,     23,      1,2,19960726,0046, 14.0000, 130.0000, 5780,   5920.5,   1.7886,  34.6837,  34.6794,2,   -999.0,    160.6,2,  1.2262