BOTTLE,20020620WHPSIOSA
EXPOCODE,SECT_ID,STNNBR,CASTNO,SAMPNO,BTLNBR,BTLNBR_FLAG_W,DATE,TIME,LATITUDE,LONGITUDE,DEPTH,CTDPRS,CTDTMP,CTDSAL,SALNTY,SALNTY_FLAG_W,CTDOXY,OXYGEN,OXYGEN_FLAG_W,THETA
,,,,,,,,,,,,DBAR,ITS-90,PSS-78,PSS-78,,UMOL/KG,UMOL/KG,,ITS-90
  492SSY9607_1,  P08N,    19,  1,      1,     23,2,19960718,1223, 26.6683, 131.1683, 4200,    101.7,  22.0167,  34.9104,  34.9050,2,   -999.0,    218.9,2, 21.9966
  492SSY9607_1,  P08N,    19,  1,      2,     22,2,19960718,1223, 26.6683, 131.1683, 4200,    151.6,  20.9350,  34.8773,  34.8725,2,   -999.0,    215.6,2, 20.9060
  492SSY9607_1,  P08N,    19,  1,      3,     21,2,19960718,1223, 26.6683, 131.1683, 4200,    201.7,  20.1792,  34.9143,  34.9101,2,   -999.0,    208.6,2, 20.1416
  492SSY9607_1,  P08N,    19,  1,      4,     20,2,19960718,1223, 26.6683, 131.1683, 4200,    250.1,  19.0114,  34.9302,  34.9352,2,   -999.0,    212.9,2, 18.9667
  492SSY9607_1,  P08N,    19,  1,      5,     19,2,19960718,1223, 26.6683, 131.1683, 4200,    300.4,  18.5126,  34.9292,  34.9322,2,   -999.0,    218.9,2, 18.4598
  492SSY9607_1,  P08N,    19,  1,      6,     18,2,19960718,1223, 26.6683, 131.1683, 4200,    401.1,  16.9159,  34.7950,  34.7894,2,   -999.0,    203.7,2, 16.8497
  492SSY9607_1,  P08N,    19,  1,      7,     17,2,19960718,1223, 26.6683, 131.1683, 4200,    500.5,  14.3536,  34.5708,  34.5694,2,   -999.0,    188.6,2, 14.2796
  492SSY9607_1,  P08N,    19,  1,      8,     16,2,19960718,1223, 26.6683, 131.1683, 4200,    601.1,  10.8504,  34.3315,  34.3337,2,   -999.0,    168.8,2, 10.7762
  492SSY9607_1,  P08N,    19,  1,      9,     15,2,19960718,1223, 26.6683, 131.1683, 4200,    700.8,   7.8131,  34.1821,  34.1825,2,   -999.0,    135.2,2,  7.7418
  492SSY9607_1,  P08N,    19,  1,     10,     14,2,19960718,1223, 26.6683, 131.1683, 4200,    801.8,   6.1315,  34.1850,  34.1986,3,   -999.0,    109.8,2,  6.0594
  492SSY9607_1,  P08N,    19,  1,     11,     13,2,19960718,1223, 26.6683, 131.1683, 4200,    901.7,   5.2957,  34.2609,  34.2555,2,   -999.0,     85.9,2,  5.2196
  492SSY9607_1,  P08N,    19,  1,     12,     12,2,19960718,1223, 26.6683, 131.1683, 4200,   1001.0,   4.6259,  34.3068,  34.3046,2,   -999.0,     79.6,2,  4.5456
  492SSY9607_1,  P08N,    19,  1,     13,     11,2,19960718,1223, 26.6683, 131.1683, 4200,   1252.1,   3.3332,  34.4568,  34.4542,2,   -999.0,     80.7,2,  3.2425
  492SSY9607_1,  P08N,    19,  1,     14,     10,2,19960718,1223, 26.6683, 131.1683, 4200,   1500.4,   2.7193,  34.5187,  34.5218,2,   -999.0,     87.3,2,  2.6147
  492SSY9607_1,  P08N,    19,  1,     15,      9,2,19960718,1223, 26.6683, 131.1683, 4200,   1749.4,   2.3694,  34.5647,  34.5645,2,   -999.0,    100.1,2,  2.2486
  492SSY9607_1,  P08N,    19,  1,     16,      8,2,19960718,1223, 26.6683, 131.1683, 4200,   2001.1,   2.0955,  34.6016,  34.6017,2,   -999.0,    111.8,2,  1.9574
  492SSY9607_1,  P08N,    19,  1,     17,      7,2,19960718,1223, 26.6683, 131.1683, 4200,   2251.6,   1.9185,  34.6267,  34.6259,2,   -999.0,    127.1,2,  1.7617
  492SSY9607_1,  P08N,    19,  1,     18,      6,2,19960718,1223, 26.6683, 131.1683, 4200,   2500.2,   1.8106,  34.6437,  34.6430,2,   -999.0,    134.1,2,  1.6336
  492SSY9607_1,  P08N,    19,  1,     20,      4,2,19960718,1223, 26.6683, 131.1683, 4200,   3000.6,   1.6256,  34.6677,  34.6634,2,   -999.0,    144.3,3,  1.4058
  492SSY9607_1,  P08N,    19,  1,     19,      5,2,19960718,1223, 26.6683, 131.1683, 4200,   3006.8,   1.6246,  34.6677,  34.6678,2,   -999.0,    145.5,2,  1.4042
  492SSY9607_1,  P08N,    19,  1,     21,      3,2,19960718,1223, 26.6683, 131.1683, 4200,   3501.2,   1.5726,  34.6788,  34.6762,2,   -999.0,    154.9,2,  1.3044
  492SSY9607_1,  P08N,    19,  1,     22,      2,2,19960718,1223, 26.6683, 131.1683, 4200,   4000.6,   1.5676,  34.6847,  34.6831,2,   -999.0,    158.7,2,  1.2466
  492SSY9607_1,  P08N,    19,  1,     23,      1,2,19960718,1223, 26.6683, 131.1683, 4200,   4492.4,   1.6046,  34.6858,  34.6861,2,   -999.0,    167.2,2,  1.2272
  492SSY9607_1,  P08N,    20,  1,      2,     22,2,19960718,1553, 26.4167, 131.1667, 2260,     10.6,  28.1432,  34.2805,  34.2777,2,   -999.0,    202.5,2, 28.1407
  492SSY9607_1,  P08N,    20,  1,      3,     21,2,19960718,1553, 26.4167, 131.1667, 2260,     25.5,  27.9813,  34.2765,  34.3035,2,   -999.0,    206.2,2, 27.9753
  492SSY9607_1,  P08N,    20,  1,      4,     20,2,19960718,1553, 26.4167, 131.1667, 2260,     50.2,  23.6663,  34.7644,  34.7662,2,   -999.0,    222.0,2, 23.6559
  492SSY9607_1,  P08N,    20,  1,      5,     19,2,19960718,1553, 26.4167, 131.1667, 2260,     76.3,  22.6126,  34.8914,  34.8920,2,   -999.0,    228.0,2, 22.5972
  492SSY9607_1,  P08N,    20,  1,      6,     18,2,19960718,1553, 26.4167, 131.1667, 2260,    100.4,  22.0007,  34.9034,  34.9084,2,   -999.0,    219.5,2, 21.9809
  492SSY9607_1,  P08N,    20,  1,      7,     17,2,19960718,1553, 26.4167, 131.1667, 2260,    150.9,  20.7300,  34.8713,  34.8719,2,   -999.0,    212.4,2, 20.7014
  492SSY9607_1,  P08N,    20,  1,      8,     16,2,19960718,1553, 26.4167, 131.1667, 2260,    200.8,  19.8612,  34.9203,  34.9196,2,   -999.0,    207.1,2, 19.8243
  492SSY9607_1,  P08N,    20,  1,      9,     15,2,19960718,1553, 26.4167, 131.1667, 2260,    251.2,  18.8245,  34.9312,  34.9293,2,   -999.0,    214.4,2, 18.7799
  492SSY9607_1,  P08N,    20,  1,     10,     14,2,19960718,1553, 26.4167, 131.1667, 2260,    299.2,  18.4706,  34.9322,  34.9279,2,   -999.0,    219.7,2, 18.4181
  492SSY9607_1,  P08N,    20,  1,     11,     13,2,19960718,1553, 26.4167, 131.1667, 2260,    398.2,  16.9909,  34.7981,  34.8038,2,   -999.0,    208.2,2, 16.9250
  492SSY9607_1,  P08N,    20,  1,     12,     12,2,19960718,1553, 26.4167, 131.1667, 2260,    500.3,  14.1866,  34.5578,  34.5588,2,   -999.0,    180.8,2, 14.1132
  492SSY9607_1,  P08N,    20,  1,     13,     11,2,19960718,1553, 26.4167, 131.1667, 2260,    601.7,  10.9604,  34.3374,  34.3394,2,   -999.0,    170.0,2, 10.8856
  492SSY9607_1,  P08N,    20,  1,     14,     10,2,19960718,1553, 26.4167, 131.1667, 2260,    701.4,   8.1860,  34.1931,  34.1935,2,   -999.0,    144.0,2,  8.1127
  492SSY9607_1,  P08N,    20,  1,     15,      9,2,19960718,1553, 26.4167, 131.1667, 2260,    801.7,   6.3455,  34.1830,  34.1809,2,   -999.0,    109.3,2,  6.2721
  492SSY9607_1,  P08N,    20,  1,     16,      8,2,19960718,1553, 26.4167, 131.1667, 2260,    899.9,   5.2157,  34.2509,  34.2528,2,   -999.0,     84.6,2,  5.1403
  492SSY9607_1,  P08N,    20,  1,     17,      7,2,19960718,1553, 26.4167, 131.1667, 2260,   1000.3,   4.4749,  34.3208,  34.3209,2,   -999.0,     76.2,2,  4.3959
  492SSY9607_1,  P08N,    20,  1,     18,      6,2,19960718,1553, 26.4167, 131.1667, 2260,   1249.9,   3.1912,  34.4617,  34.4607,2,   -999.0,     76.4,2,  3.1021
  492SSY9607_1,  P08N,    20,  1,     19,      5,2,19960718,1553, 26.4167, 131.1667, 2260,   1499.7,   2.7903,  34.5097,  34.5086,2,   -999.0,     86.8,2,  2.6849
  492SSY9607_1,  P08N,    20,  1,     20,      4,2,19960718,1553, 26.4167, 131.1667, 2260,   1749.8,   2.2775,  34.5747,  34.5739,2,   -999.0,    101.1,2,  2.1577
  492SSY9607_1,  P08N,    20,  1,     21,      3,2,19960718,1553, 26.4167, 131.1667, 2260,   1999.7,   2.0755,  34.6036,  34.6027,2,   -999.0,    113.5,2,  1.9378
  492SSY9607_1,  P08N,    20,  1,     22,      2,2,19960718,1553, 26.4167, 131.1667, 2260,   2250.9,   1.8696,  34.6347,  34.6257,3,   -999.0,    133.9,2,  1.7136
  492SSY9607_1,  P08N,    20,  1,     23,      1,2,19960718,1553, 26.4167, 131.1667, 2260,   2390.9,   1.8226,  34.6427,  34.6412,2,   -999.0,    139.9,2,  1.6551
  492SSY9607_1,  P08N,    21,  1,      1,     23,2,19960718,1825, 26.1683, 131.1683, 3180,     25.2,  27.7763,  34.3345,  34.3347,2,   -999.0,    201.6,2, 27.7704
  492SSY9607_1,  P08N,    21,  1,      2,     22,2,19960718,1825, 26.1683, 131.1683, 3180,     49.8,  24.2872,  34.6774,  34.6829,2,   -999.0,    219.6,2, 24.2766
  492SSY9607_1,  P08N,    21,  1,      3,     21,2,19960718,1825, 26.1683, 131.1683, 3180,     74.3,  23.0395,  34.8464,  34.8448,2,   -999.0,    220.9,2, 23.0243
  492SSY9607_1,  P08N,    21,  1,      4,     20,2,19960718,1825, 26.1683, 131.1683, 3180,     99.3,  22.1727,  34.8624,  34.8581,2,   -999.0,    211.8,2, 22.1529
  492SSY9607_1,  P08N,    21,  1,      5,     19,2,19960718,1825, 26.1683, 131.1683, 3180,    149.9,  20.8210,  34.8864,  34.8855,2,   -999.0,    205.2,2, 20.7925
  492SSY9607_1,  P08N,    21,  1,      6,     18,2,19960718,1825, 26.1683, 131.1683, 3180,    200.4,  19.1874,  34.9252,  34.9224,2,   -999.0,    207.8,2, 19.1514
  492SSY9607_1,  P08N,    21,  1,      7,     17,2,19960718,1825, 26.1683, 131.1683, 3180,    250.5,  18.6245,  34.9312,  34.9342,2,   -999.0,    213.0,2, 18.5804
  492SSY9607_1,  P08N,    21,  1,      8,     16,2,19960718,1825, 26.1683, 131.1683, 3180,    299.7,  18.2286,  34.9152,  34.9113,2,   -999.0,    211.0,2, 18.1766
  492SSY9607_1,  P08N,    21,  1,      9,     15,2,19960718,1825, 26.1683, 131.1683, 3180,    399.6,  16.9909,  34.8010,  34.7991,2,   -999.0,    200.4,2, 16.9247
  492SSY9607_1,  P08N,    21,  1,     10,     14,2,19960718,1825, 26.1683, 131.1683, 3180,    500.4,  14.6175,  34.5898,  34.5960,2,   -999.0,    183.7,2, 14.5426
  492SSY9607_1,  P08N,    21,  1,     11,     13,2,19960718,1825, 26.1683, 131.1683, 3180,    599.7,  11.5072,  34.3695,  34.3699,2,   -999.0,    166.8,2, 11.4304
  492SSY9607_1,  P08N,    21,  1,     12,     12,2,19960718,1825, 26.1683, 131.1683, 3180,    700.0,   8.1460,  34.1992,  34.2013,2,   -999.0,    138.1,2,  8.0731
  492SSY9607_1,  P08N,    21,  1,     13,     11,2,19960718,1825, 26.1683, 131.1683, 3180,    800.5,   6.7694,  34.1790,  34.1835,2,   -999.0,    115.2,2,  6.6936
  492SSY9607_1,  P08N,    21,  1,     14,     10,2,19960718,1825, 26.1683, 131.1683, 3180,    901.4,   5.2967,  34.2428,  34.2426,2,   -999.0,     84.6,2,  5.2206
  492SSY9607_1,  P08N,    21,  1,     15,      9,2,19960718,1825, 26.1683, 131.1683, 3180,   1000.5,   4.4129,  34.3138,  34.3121,2,   -999.0,     67.7,2,  4.3343
  492SSY9607_1,  P08N,    21,  1,     16,      8,2,19960718,1825, 26.1683, 131.1683, 3180,   1249.7,   3.3452,  34.4457,  34.4457,2,   -999.0,     69.1,2,  3.2546
  492SSY9607_1,  P08N,    21,  1,     17,      7,2,19960718,1825, 26.1683, 131.1683, 3180,   1500.6,   2.6964,  34.5167,  34.5147,2,   -999.0,     80.3,2,  2.5919
  492SSY9607_1,  P08N,    21,  1,     18,      6,2,19960718,1825, 26.1683, 131.1683, 3180,   1749.9,   2.2795,  34.5737,  34.5753,2,   -999.0,     99.2,2,  2.1597
  492SSY9607_1,  P08N,    21,  1,     19,      5,2,19960718,1825, 26.1683, 131.1683, 3180,   2000.4,   2.0325,  34.6117,  34.6088,2,   -999.0,    114.8,2,  1.8954
  492SSY9607_1,  P08N,    21,  1,     20,      4,2,19960718,1825, 26.1683, 131.1683, 3180,   2249.6,   1.8676,  34.6347,  34.6355,2,   -999.0,    125.7,2,  1.7117
  492SSY9607_1,  P08N,    21,  1,     21,      3,2,19960718,1825, 26.1683, 131.1683, 3180,   2499.8,   1.7716,  34.6487,  34.6483,2,   -999.0,    133.4,2,  1.5953
  492SSY9607_1,  P08N,    21,  1,     22,      2,2,19960718,1825, 26.1683, 131.1683, 3180,   3000.5,   1.6266,  34.6687,  34.6546,3,   -999.0,    143.0,2,  1.4068
  492SSY9607_1,  P08N,    21,  1,     23,      1,2,19960718,1825, 26.1683, 131.1683, 3180,   3260.1,   1.6056,  34.6728,  34.6731,2,   -999.0,    147.6,2,  1.3609
  492SSY9607_1,  P08N,    22,  1,      1,     23,2,19960718,2245, 26.0833, 130.5817, 5500,     50.9,  23.4004,  34.8165,  34.8119,2,   -999.0,    221.1,2, 23.3899
  492SSY9607_1,  P08N,    22,  1,      2,     22,2,19960718,2245, 26.0833, 130.5817, 5500,    101.5,  21.7458,  34.8784,  34.8767,2,   -999.0,    204.5,2, 21.7259
  492SSY9607_1,  P08N,    22,  1,      3,     21,2,19960718,2245, 26.0833, 130.5817, 5500,    150.6,  20.8170,  34.8803,  34.8790,2,   -999.0,    208.9,2, 20.7884
  492SSY9607_1,  P08N,    22,  1,      4,     20,2,19960718,2245, 26.0833, 130.5817, 5500,    200.1,  19.7503,  34.9213,  34.9200,2,   -999.0,    204.8,2, 19.7136
  492SSY9607_1,  P08N,    22,  1,      5,     19,2,19960718,2245, 26.0833, 130.5817, 5500,    251.1,  18.7135,  34.9312,  34.9316,2,   -999.0,    212.4,2, 18.6691
  492SSY9607_1,  P08N,    22,  1,      6,     18,2,19960718,2245, 26.0833, 130.5817, 5500,    301.4,  18.2956,  34.9142,  34.9131,2,   -999.0,    211.5,2, 18.2431
  492SSY9607_1,  P08N,    22,  1,      7,     17,2,19960718,2245, 26.0833, 130.5817, 5500,    401.1,  17.3508,  34.8261,  34.8318,2,   -999.0,    200.3,2, 17.2834
  492SSY9607_1,  P08N,    22,  1,      8,     16,2,19960718,2245, 26.0833, 130.5817, 5500,    501.1,  15.2044,  34.6409,  34.6428,2,   -999.0,    186.1,2, 15.1273
  492SSY9607_1,  P08N,    22,  1,      9,     15,2,19960718,2245, 26.0833, 130.5817, 5500,    602.3,  12.8439,  34.4546,  34.4577,2,   -999.0,    176.3,2, 12.7610
  492SSY9607_1,  P08N,    22,  1,     10,     14,2,19960718,2245, 26.0833, 130.5817, 5500,    702.5,   9.6027,  34.2843,  34.2954,2,   -999.0,    151.1,2,  9.5219
  492SSY9607_1,  P08N,    22,  1,     11,     13,2,19960718,2245, 26.0833, 130.5817, 5500,    801.3,   7.0113,  34.1680,  34.1725,2,   -999.0,    122.5,2,  6.9340
  492SSY9607_1,  P08N,    22,  1,     12,     12,2,19960718,2245, 26.0833, 130.5817, 5500,    900.4,   5.6436,  34.2239,  34.2267,2,   -999.0,     92.3,2,  5.5653
  492SSY9607_1,  P08N,    22,  1,     13,     11,2,19960718,2245, 26.0833, 130.5817, 5500,   1001.6,   4.8138,  34.3159,  34.3174,2,   -999.0,     75.5,2,  4.7321
  492SSY9607_1,  P08N,    22,  1,     14,     10,2,19960718,2245, 26.0833, 130.5817, 5500,   1250.9,   3.3782,  34.4387,  34.4426,2,   -999.0,     69.9,2,  3.2872
  492SSY9607_1,  P08N,    22,  1,     15,      9,2,19960718,2245, 26.0833, 130.5817, 5500,   1501.6,   2.7303,  34.5187,  34.5187,2,   -999.0,     82.4,2,  2.6255
  492SSY9607_1,  P08N,    22,  1,     16,      8,2,19960718,2245, 26.0833, 130.5817, 5500,   1754.3,   2.3234,  34.5757,  34.5733,2,   -999.0,     99.5,2,  2.2028
  492SSY9607_1,  P08N,    22,  1,     17,      7,2,19960718,2245, 26.0833, 130.5817, 5500,   2006.0,   2.1085,  34.6047,  34.6015,2,   -999.0,    112.0,2,  1.9698
  492SSY9607_1,  P08N,    22,  1,     18,      6,2,19960718,2245, 26.0833, 130.5817, 5500,   2257.4,   1.9365,  34.6287,  34.6259,2,   -999.0,    123.5,2,  1.7789
  492SSY9607_1,  P08N,    22,  1,     19,      5,2,19960718,2245, 26.0833, 130.5817, 5500,   2507.4,   1.7996,  34.6467,  34.6457,2,   -999.0,    131.0,2,  1.6221
  492SSY9607_1,  P08N,    22,  1,     20,      4,2,19960718,2245, 26.0833, 130.5817, 5500,   2996.8,   1.6416,  34.6667,  34.6668,2,   -999.0,    142.6,2,  1.4218
  492SSY9607_1,  P08N,    22,  1,     21,      3,2,19960718,2245, 26.0833, 130.5817, 5500,   3497.6,   1.5746,  34.6787,  34.6638,3,   -999.0,    151.6,2,  1.3067
  492SSY9607_1,  P08N,    22,  1,     22,      2,2,19960718,2245, 26.0833, 130.5817, 5500,   4000.4,   1.5586,  34.6848,  34.6853,2,   -999.0,    157.5,2,  1.2379
  492SSY9607_1,  P08N,    22,  1,     23,      1,2,19960718,2245, 26.0833, 130.5817, 5500,   4267.2,   1.5796,  34.6858,  34.6841,2,   -999.0,    157.2,2,  1.2287
  492SSY9607_1,  P08N,    23,  1,      1,     23,2,19960719,0331, 26.0000, 129.9983, 5530,    100.2,  22.2547,  34.8534,  34.8544,2,   -999.0,    203.2,2, 22.2347
  492SSY9607_1,  P08N,    23,  1,      2,     22,2,19960719,0331, 26.0000, 129.9983, 5530,    200.3,  19.8662,  34.9193,  34.9232,2,   -999.0,    202.8,2, 19.8293
  492SSY9607_1,  P08N,    23,  1,      3,     21,2,19960719,0331, 26.0000, 129.9983, 5530,    300.1,  18.2826,  34.9112,  34.9107,2,   -999.0,    210.8,2, 18.2304
  492SSY9607_1,  P08N,    23,  1,      4,     20,2,19960719,0331, 26.0000, 129.9983, 5530,    399.8,  16.5620,  34.7590,  34.7630,2,   -999.0,    197.9,2, 16.4970
  492SSY9607_1,  P08N,    23,  1,      5,     19,2,19960719,0331, 26.0000, 129.9983, 5530,    500.8,  14.2376,  34.5608,  34.5678,2,   -999.0,    182.4,2, 14.1640
  492SSY9607_1,  P08N,    23,  1,      6,     18,2,19960719,0331, 26.0000, 129.9983, 5530,    600.9,  11.6632,  34.3836,  34.3881,2,   -999.0,    169.2,2, 11.5855
  492SSY9607_1,  P08N,    23,  1,      7,     17,2,19960719,0331, 26.0000, 129.9983, 5530,    700.4,   8.8229,  34.2242,  34.2278,2,   -999.0,    148.8,2,  8.7464
  492SSY9607_1,  P08N,    23,  1,      8,     16,2,19960719,0331, 26.0000, 129.9983, 5530,    800.7,   6.5154,  34.1469,  34.1575,2,   -999.0,    123.1,2,  6.4412
  492SSY9607_1,  P08N,    23,  1,      9,     15,2,19960719,0331, 26.0000, 129.9983, 5530,    900.7,   5.2477,  34.2239,  34.2257,2,   -999.0,     85.0,2,  5.1721
  492SSY9607_1,  P08N,    23,  1,     10,     14,2,19960719,0331, 26.0000, 129.9983, 5530,   1001.2,   4.7579,  34.3388,  34.3500,3,   -999.0,     77.7,2,  4.6765
  492SSY9607_1,  P08N,    23,  1,     11,     13,2,19960719,0331, 26.0000, 129.9983, 5530,   1251.8,   3.3142,  34.4588,  34.4563,2,   -999.0,     75.8,2,  3.2237
  492SSY9607_1,  P08N,    23,  1,     12,     12,2,19960719,0331, 26.0000, 129.9983, 5530,   1500.5,   2.6464,  34.5267,  34.5252,2,   -999.0,     83.4,2,  2.5425
  492SSY9607_1,  P08N,    23,  1,     13,     11,2,19960719,0331, 26.0000, 129.9983, 5530,   1750.9,   2.3534,  34.5667,  34.5690,2,   -999.0,    100.6,2,  2.2327
  492SSY9607_1,  P08N,    23,  1,     14,     10,2,19960719,0331, 26.0000, 129.9983, 5530,   1999.9,   2.0625,  34.6077,  34.6091,2,   -999.0,    118.3,2,  1.9250
  492SSY9607_1,  P08N,    23,  1,     15,      9,2,19960719,0331, 26.0000, 129.9983, 5530,   2250.9,   1.8626,  34.6356,  34.6345,2,   -999.0,    125.5,2,  1.7067
  492SSY9607_1,  P08N,    23,  1,     16,      8,2,19960719,0331, 26.0000, 129.9983, 5530,   2499.6,   1.7276,  34.6537,  34.6536,2,   -999.0,    134.4,2,  1.5522
  492SSY9607_1,  P08N,    23,  1,     17,      7,2,19960719,0331, 26.0000, 129.9983, 5530,   3000.8,   1.5896,  34.6717,  34.6735,2,   -999.0,    145.7,2,  1.3706
  492SSY9607_1,  P08N,    23,  1,     18,      6,2,19960719,0331, 26.0000, 129.9983, 5530,   3500.0,   1.5516,  34.6808,  34.6816,2,   -999.0,    153.5,2,  1.2840
  492SSY9607_1,  P08N,    23,  1,     19,      5,2,19960719,0331, 26.0000, 129.9983, 5530,   3999.6,   1.5636,  34.6848,  34.6859,2,   -999.0,    156.0,2,  1.2428
  492SSY9607_1,  P08N,    23,  1,     20,      4,2,19960719,0331, 26.0000, 129.9983, 5530,   4501.3,   1.5986,  34.6868,  34.6865,2,   -999.0,    157.0,2,  1.2203
  492SSY9607_1,  P08N,    23,  1,     21,      3,2,19960719,0331, 26.0000, 129.9983, 5530,   4999.0,   1.6476,  34.6879,  34.6908,2,   -999.0,    159.1,2,  1.2084
  492SSY9607_1,  P08N,    23,  1,     22,      2,2,19960719,0331, 26.0000, 129.9983, 5530,   5500.4,   1.7106,  34.6878,  34.6904,2,   -999.0,    159.7,2,  1.2063
  492SSY9607_1,  P08N,    23,  1,     23,      1,2,19960719,0331, 26.0000, 129.9983, 5530,   5618.9,   1.7266,  34.6879,  34.6873,2,   -999.0,    162.0,2,  1.2063