BOTTLE,20020620WHPSIOSA
#code : jjward hyd_to_exchange.pl 
#original files copied from HTML directory: June 20, 2002
#original HYD file: p08n_bhy.txt   Thu Jun 20 09:34:41 2002
#original SUM file: p08n_bsu.txt   Thu Jun 20 10:16:25 2002
EXPOCODE,SECT_ID,STNNBR,CASTNO,SAMPNO,BTLNBR,BTLNBR_FLAG_W,DATE,TIME,LATITUDE,LONGITUDE,DEPTH,CTDPRS,CTDTMP,CTDSAL,SALNTY,SALNTY_FLAG_W,CTDOXY,OXYGEN,OXYGEN_FLAG_W,THETA
,,,,,,,,,,,,DBAR,ITS-90,PSS-78,PSS-78,,UMOL/KG,UMOL/KG,,ITS-90
  492SSY9607_1,  P08N,    01,  1,      1,     23,2,19960714,0242, 30.9200, 131.1750,  100,     10.0,  25.8488,  33.7672,  33.7212,2,   -999.0,    213.3,2, 25.8466
  492SSY9607_1,  P08N,    01,  1,      2,     22,2,19960714,0242, 30.9200, 131.1750,  100,     24.7,  22.4356,  34.3963,  34.4045,2,   -999.0,    212.6,2, 22.4307
  492SSY9607_1,  P08N,    01,  1,      3,     21,2,19960714,0242, 30.9200, 131.1750,  100,     50.1,  18.7595,  34.7301,  34.7315,2,   -999.0,    185.3,2, 18.7507
  492SSY9607_1,  P08N,    01,  1,      4,     20,2,19960714,0242, 30.9200, 131.1750,  100,     74.8,  18.6095,  34.7341,  34.7363,2,   -999.0,    188.4,2, 18.5964
  492SSY9607_1,  P08N,    01,  1,      6,     18,2,19960714,0242, 30.9200, 131.1750,  100,     92.9,  18.5875,  34.7341,  34.7337,2,   -999.0,    185.2,2, 18.5713
  492SSY9607_1,  P08N,    01,  1,      8,     16,2,19960714,0242, 30.9200, 131.1750,  100,     92.9,  18.5855,  34.7341,  34.7306,2,   -999.0,    185.5,2, 18.5693
  492SSY9607_1,  P08N,    01,  1,      7,     17,2,19960714,0242, 30.9200, 131.1750,  100,     93.0,  18.5795,  34.7342,  34.7319,2,   -999.0,    184.4,2, 18.5633
  492SSY9607_1,  P08N,    01,  1,      5,     19,2,19960714,0242, 30.9200, 131.1750,  100,     93.1,  18.5845,  34.7341,  34.7321,2,   -999.0,    184.6,2, 18.5682
  492SSY9607_1,  P08N,    01,  1,     22,      2,2,19960714,0242, 30.9200, 131.1750,  100,     93.1,  18.5675,  34.7351,  34.7374,2,   -999.0,    185.1,2, 18.5513
  492SSY9607_1,  P08N,    01,  1,     12,     12,2,19960714,0242, 30.9200, 131.1750,  100,     93.2,  18.5775,  34.7341,  34.7355,2,   -999.0,    185.2,2, 18.5612
  492SSY9607_1,  P08N,    01,  1,     13,     11,2,19960714,0242, 30.9200, 131.1750,  100,     93.2,  18.5755,  34.7351,  34.7404,2,   -999.0,    186.4,2, 18.5592
  492SSY9607_1,  P08N,    01,  1,     21,      3,2,19960714,0242, 30.9200, 131.1750,  100,     93.2,  18.5695,  34.7351,  34.7335,2,   -999.0,    186.0,2, 18.5532
  492SSY9607_1,  P08N,    01,  1,      9,     15,2,19960714,0242, 30.9200, 131.1750,  100,     93.4,  18.5905,  34.7341,  34.7313,2,   -999.0,    187.1,2, 18.5742
  492SSY9607_1,  P08N,    01,  1,     10,     14,2,19960714,0242, 30.9200, 131.1750,  100,     93.4,  18.5815,  34.7341,  34.7414,2,   -999.0,    185.1,2, 18.5652
  492SSY9607_1,  P08N,    01,  1,     19,      5,2,19960714,0242, 30.9200, 131.1750,  100,     93.4,  18.5725,  34.7351,  34.7323,2,   -999.0,    185.8,2, 18.5562
  492SSY9607_1,  P08N,    01,  1,     20,      4,2,19960714,0242, 30.9200, 131.1750,  100,     93.4,  18.5695,  34.7351,  34.7331,2,   -999.0,    185.4,2, 18.5532
  492SSY9607_1,  P08N,    01,  1,     23,      1,2,19960714,0242, 30.9200, 131.1750,  100,     93.4,  18.5715,  34.7351,  34.7337,2,   -999.0,    185.4,2, 18.5552
  492SSY9607_1,  P08N,    01,  1,     15,      9,2,19960714,0242, 30.9200, 131.1750,  100,     93.5,  18.5735,  34.7352,  34.7371,2,   -999.0,    185.7,2, 18.5572
  492SSY9607_1,  P08N,    01,  1,     17,      7,2,19960714,0242, 30.9200, 131.1750,  100,     93.5,  18.5735,  34.7352,  34.7376,2,   -999.0,    186.0,2, 18.5572
  492SSY9607_1,  P08N,    01,  1,     11,     13,2,19960714,0242, 30.9200, 131.1750,  100,     93.6,  18.5825,  34.7341,  34.7341,2,   -999.0,    186.5,2, 18.5662
  492SSY9607_1,  P08N,    01,  1,     14,     10,2,19960714,0242, 30.9200, 131.1750,  100,     93.6,  18.5745,  34.7351,  34.7337,2,   -999.0,    187.3,2, 18.5582
  492SSY9607_1,  P08N,    01,  1,     16,      8,2,19960714,0242, 30.9200, 131.1750,  100,     93.6,  18.5705,  34.7351,  34.7341,2,   -999.0,    185.8,2, 18.5542
  492SSY9607_1,  P08N,    01,  1,     18,      6,2,19960714,0242, 30.9200, 131.1750,  100,     93.6,  18.5735,  34.7351,  34.7333,2,   -999.0,    184.5,2, 18.5572
  492SSY9607_1,  P08N,    02,  1,      1,     23,2,19960714,0436, 30.6717, 131.3000,  165,     10.4,  26.2857,  33.7382,  33.7465,2,   -999.0,    214.1,2, 26.2834
  492SSY9607_1,  P08N,    02,  1,      2,     22,2,19960714,0436, 30.6717, 131.3000,  165,     25.2,  24.4201,  33.8482,  33.8145,2,   -999.0,    222.0,2, 24.4148
  492SSY9607_1,  P08N,    02,  1,      3,     21,2,19960714,0436, 30.6717, 131.3000,  165,     50.3,  22.8765,  34.1792,  34.1742,2,   -999.0,    218.2,2, 22.8663
  492SSY9607_1,  P08N,    02,  1,      4,     20,2,19960714,0436, 30.6717, 131.3000,  165,     75.8,  21.6038,  34.3822,  34.3840,2,   -999.0,    212.4,2, 21.5891
  492SSY9607_1,  P08N,    02,  1,      5,     19,2,19960714,0436, 30.6717, 131.3000,  165,    100.6,  20.8640,  34.4652,  34.4483,2,   -999.0,    212.4,2, 20.8449
  492SSY9607_1,  P08N,    02,  1,     15,      9,2,19960714,0436, 30.6717, 131.3000,  165,    149.8,  19.5113,  34.5931,  34.5975,2,   -999.0,    200.2,2, 19.4842
  492SSY9607_1,  P08N,    02,  1,     14,     10,2,19960714,0436, 30.6717, 131.3000,  165,    149.9,  19.5033,  34.5952,  34.5924,2,   -999.0,    200.9,2, 19.4761
  492SSY9607_1,  P08N,    02,  1,     13,     11,2,19960714,0436, 30.6717, 131.3000,  165,    150.0,  19.5033,  34.5941,  34.5895,2,   -999.0,    202.1,2, 19.4761
  492SSY9607_1,  P08N,    02,  1,      6,     18,2,19960714,0436, 30.6717, 131.3000,  165,    150.2,  19.5063,  34.5941,  34.5922,2,   -999.0,    204.9,2, 19.4791
  492SSY9607_1,  P08N,    02,  1,      7,     17,2,19960714,0436, 30.6717, 131.3000,  165,    150.6,  19.5113,  34.5932,  34.5924,2,   -999.0,    199.8,2, 19.4840
  492SSY9607_1,  P08N,    02,  1,     12,     12,2,19960714,0436, 30.6717, 131.3000,  165,    150.6,  19.4993,  34.5952,  34.5936,2,   -999.0,    198.6,2, 19.4720
  492SSY9607_1,  P08N,    02,  1,     16,      8,2,19960714,0436, 30.6717, 131.3000,  165,    150.7,  19.5103,  34.5941,  34.5897,2,   -999.0,    199.5,2, 19.4830
  492SSY9607_1,  P08N,    02,  1,      8,     16,2,19960714,0436, 30.6717, 131.3000,  165,    150.8,  19.5073,  34.5942,  34.5930,2,   -999.0,    195.3,2, 19.4800
  492SSY9607_1,  P08N,    02,  1,     22,      2,2,19960714,0436, 30.6717, 131.3000,  165,    150.8,  19.5013,  34.5962,  34.5928,2,   -999.0,    197.6,2, 19.4740
  492SSY9607_1,  P08N,    02,  1,      9,     15,2,19960714,0436, 30.6717, 131.3000,  165,    150.9,  19.5113,  34.5931,  34.5928,2,   -999.0,    201.2,2, 19.4840
  492SSY9607_1,  P08N,    02,  1,     11,     13,2,19960714,0436, 30.6717, 131.3000,  165,    151.0,  19.5023,  34.5952,  34.5934,2,   -999.0,    200.1,2, 19.4750
  492SSY9607_1,  P08N,    02,  1,     18,      6,2,19960714,0436, 30.6717, 131.3000,  165,    151.0,  19.5073,  34.5942,  34.5895,2,   -999.0,    197.1,2, 19.4799
  492SSY9607_1,  P08N,    02,  1,     21,      3,2,19960714,0436, 30.6717, 131.3000,  165,    151.0,  19.5043,  34.5952,  34.5952,2,   -999.0,    199.4,2, 19.4769
  492SSY9607_1,  P08N,    02,  1,     17,      7,2,19960714,0436, 30.6717, 131.3000,  165,    151.1,  19.5013,  34.5951,  34.5893,2,   -999.0,    200.2,2, 19.4739
  492SSY9607_1,  P08N,    02,  1,     19,      5,2,19960714,0436, 30.6717, 131.3000,  165,    151.2,  19.4993,  34.5962,  34.5928,2,   -999.0,    199.5,2, 19.4719
  492SSY9607_1,  P08N,    02,  1,     20,      4,2,19960714,0436, 30.6717, 131.3000,  165,    151.2,  19.4983,  34.5962,  34.5901,2,   -999.0,    196.3,2, 19.4709
  492SSY9607_1,  P08N,    02,  1,     10,     14,2,19960714,0436, 30.6717, 131.3000,  165,    151.3,  19.5063,  34.5942,  34.5930,2,   -999.0,    197.7,2, 19.4789
  492SSY9607_1,  P08N,    02,  1,     23,      1,2,19960714,0436, 30.6717, 131.3000,  165,    155.7,  19.4903,  34.5991,  34.5944,2,   -999.0,    197.8,2, 19.4621
  492SSY9607_1,  P08N,    03,  1,      1,     23,2,19960714,0541, 30.5833, 131.3483,  957,     11.3,  24.6131,  34.0293,  33.9909,2,   -999.0,    219.1,2, 24.6107
  492SSY9607_1,  P08N,    03,  1,      2,     22,2,19960714,0541, 30.5833, 131.3483,  957,     24.2,  23.3994,  34.0232,  34.0157,2,   -999.0,    227.3,2, 23.3944
  492SSY9607_1,  P08N,    03,  1,      3,     21,2,19960714,0541, 30.5833, 131.3483,  957,     50.6,  22.2157,  34.3683,  34.3712,2,   -999.0,    215.3,2, 22.2056
  492SSY9607_1,  P08N,    03,  1,      4,     20,2,19960714,0541, 30.5833, 131.3483,  957,     76.0,  20.9560,  34.5312,  34.5122,2,   -999.0,    207.4,2, 20.9415
  492SSY9607_1,  P08N,    03,  1,      5,     19,2,19960714,0541, 30.5833, 131.3483,  957,    103.6,  20.2661,  34.5242,  34.5187,2,   -999.0,    208.8,2, 20.2469
  492SSY9607_1,  P08N,    03,  1,      6,     18,2,19960714,0541, 30.5833, 131.3483,  957,    154.6,  19.1144,  34.5701,  34.5604,2,   -999.0,    214.5,3, 19.0868
  492SSY9607_1,  P08N,    03,  1,      7,     17,2,19960714,0541, 30.5833, 131.3483,  957,    202.4,  18.1806,  34.6280,  34.6375,2,   -999.0,    161.2,3, 18.1457
  492SSY9607_1,  P08N,    03,  1,      8,     16,2,19960714,0541, 30.5833, 131.3483,  957,    248.8,  13.0689,  34.5096,  34.5116,2,   -999.0,    198.6,3, 13.0347
  492SSY9607_1,  P08N,    03,  1,      9,     15,2,19960714,0541, 30.5833, 131.3483,  957,    297.3,  11.5042,  34.4415,  34.4420,2,   -999.0,    157.8,2, 11.4666
  492SSY9607_1,  P08N,    03,  1,     10,     14,2,19960714,0541, 30.5833, 131.3483,  957,    388.3,  10.2815,  34.3944,  34.4005,2,   -999.0,    143.2,2, 10.2356
  492SSY9607_1,  P08N,    03,  1,     11,     13,2,19960714,0541, 30.5833, 131.3483,  957,    490.4,   6.9923,  34.3100,  34.3119,2,   -999.0,    114.5,2,  6.9460
  492SSY9607_1,  P08N,    03,  1,     12,     12,2,19960714,0541, 30.5833, 131.3483,  957,    596.5,   5.7716,  34.3039,  34.3038,2,   -999.0,     93.0,2,  5.7203
  492SSY9607_1,  P08N,    03,  1,     13,     11,2,19960714,0541, 30.5833, 131.3483,  957,    700.3,   4.8208,  34.3128,  34.3129,2,   -999.0,     85.2,2,  4.7652
  492SSY9607_1,  P08N,    03,  1,     17,      7,2,19960714,0541, 30.5833, 131.3483,  957,    796.5,   3.8561,  34.3757,  34.3769,2,   -999.0,     71.4,2,  3.7980
  492SSY9607_1,  P08N,    03,  1,     18,      6,2,19960714,0541, 30.5833, 131.3483,  957,    796.7,   3.8561,  34.3757,  34.3775,2,   -999.0,     70.6,2,  3.7980
  492SSY9607_1,  P08N,    03,  1,     16,      8,2,19960714,0541, 30.5833, 131.3483,  957,    796.8,   3.8571,  34.3757,  34.3775,2,   -999.0,     71.2,2,  3.7990
  492SSY9607_1,  P08N,    03,  1,     15,      9,2,19960714,0541, 30.5833, 131.3483,  957,    797.5,   3.8571,  34.3757,  34.3797,2,   -999.0,     69.8,2,  3.7989
  492SSY9607_1,  P08N,    03,  1,     19,      5,2,19960714,0541, 30.5833, 131.3483,  957,    798.3,   3.8551,  34.3757,  34.3777,2,   -999.0,     66.6,2,  3.7969
  492SSY9607_1,  P08N,    03,  1,     14,     10,2,19960714,0541, 30.5833, 131.3483,  957,    798.6,   3.8571,  34.3757,  34.3769,2,   -999.0,     71.4,2,  3.7989
  492SSY9607_1,  P08N,    03,  1,     20,      4,2,19960714,0541, 30.5833, 131.3483,  957,    799.3,   3.8541,  34.3758,  34.3724,2,   -999.0,     71.7,2,  3.7958
  492SSY9607_1,  P08N,    03,  1,     21,      3,2,19960714,0541, 30.5833, 131.3483,  957,    800.2,   3.8541,  34.3757,  34.3783,2,   -999.0,     68.6,2,  3.7957
  492SSY9607_1,  P08N,    03,  1,     22,      2,2,19960714,0541, 30.5833, 131.3483,  957,    800.7,   3.8501,  34.3757,  34.3791,2,   -999.0,     68.0,2,  3.7917
  492SSY9607_1,  P08N,    03,  1,     23,      1,2,19960714,0541, 30.5833, 131.3483,  957,    869.4,   3.6201,  34.3997,  34.3982,2,   -999.0,     73.2,2,  3.5578
  492SSY9607_1,  P08N,    04,  1,      1,     23,2,19960714,0717, 30.5017, 131.4017, 1500,      9.7,  25.8808,  33.8403,  33.8705,2,   -999.0,    234.2,2, 25.8786
  492SSY9607_1,  P08N,    04,  1,      2,     22,2,19960714,0717, 30.5017, 131.4017, 1500,     24.7,  24.1042,  34.1983,  34.1770,2,   -999.0,    224.2,2, 24.0990
  492SSY9607_1,  P08N,    04,  1,      3,     21,2,19960714,0717, 30.5017, 131.4017, 1500,     50.2,  22.1727,  34.5143,  34.4872,2,   -999.0,    207.2,2, 22.1627
  492SSY9607_1,  P08N,    04,  1,      4,     20,2,19960714,0717, 30.5017, 131.4017, 1500,     75.5,  20.1282,  34.5041,  34.5016,2,   -999.0,    209.5,2, 20.1142
  492SSY9607_1,  P08N,    04,  1,      5,     19,2,19960714,0717, 30.5017, 131.4017, 1500,    100.7,  19.3694,  34.5592,  34.5574,2,   -999.0,    204.0,2, 19.3512
  492SSY9607_1,  P08N,    04,  1,      6,     18,2,19960714,0717, 30.5017, 131.4017, 1500,    151.1,  18.6705,  34.6422,  34.6434,2,   -999.0,    202.2,2, 18.6440
  492SSY9607_1,  P08N,    04,  1,      7,     17,2,19960714,0717, 30.5017, 131.4017, 1500,    201.0,  17.6478,  34.6200,  34.6211,2,   -999.0,    197.1,2, 17.6138
  492SSY9607_1,  P08N,    04,  1,      8,     16,2,19960714,0717, 30.5017, 131.4017, 1500,    250.9,  13.4758,  34.5277,  34.5271,2,   -999.0,    167.1,2, 13.4405
  492SSY9607_1,  P08N,    04,  1,      9,     15,2,19960714,0717, 30.5017, 131.4017, 1500,    300.3,  11.7422,  34.4555,  34.4640,2,   -999.0,    158.8,2, 11.7037
  492SSY9607_1,  P08N,    04,  1,     10,     14,2,19960714,0717, 30.5017, 131.4017, 1500,    403.0,  10.0506,  34.3953,  34.3991,2,   -999.0,    141.4,2, 10.0036
  492SSY9607_1,  P08N,    04,  1,     11,     13,2,19960714,0717, 30.5017, 131.4017, 1500,    502.4,   7.5372,  34.3371,  34.3369,2,   -999.0,    114.9,2,  7.4876
  492SSY9607_1,  P08N,    04,  1,     12,     12,2,19960714,0717, 30.5017, 131.4017, 1500,    601.2,   5.5827,  34.3229,  34.3215,2,   -999.0,     92.2,2,  5.5318
  492SSY9607_1,  P08N,    04,  1,     13,     11,2,19960714,0717, 30.5017, 131.4017, 1500,    700.0,   4.4089,  34.3338,  34.3333,2,   -999.0,     75.3,2,  4.3555
  492SSY9607_1,  P08N,    04,  1,     14,     10,2,19960714,0717, 30.5017, 131.4017, 1500,    799.9,   3.8651,  34.3737,  34.3718,2,   -999.0,     69.4,2,  3.8067
  492SSY9607_1,  P08N,    04,  1,     15,      9,2,19960714,0717, 30.5017, 131.4017, 1500,    899.9,   3.5032,  34.4137,  34.4135,2,   -999.0,     69.2,2,  3.4393
  492SSY9607_1,  P08N,    04,  1,     16,      8,2,19960714,0717, 30.5017, 131.4017, 1500,    999.4,   3.2532,  34.4427,  34.4410,2,   -999.0,     70.2,2,  3.1834
  492SSY9607_1,  P08N,    04,  1,     17,      7,2,19960714,0717, 30.5017, 131.4017, 1500,   1249.6,   2.8703,  34.4917,  34.4906,2,   -999.0,     77.5,2,  2.7842
  492SSY9607_1,  P08N,    04,  1,     18,      6,2,19960714,0717, 30.5017, 131.4017, 1500,   1499.6,   2.6284,  34.5237,  34.5234,2,   -999.0,     83.7,2,  2.5248
  492SSY9607_1,  P08N,    04,  1,     19,      5,2,19960714,0717, 30.5017, 131.4017, 1500,   1500.5,   2.6274,  34.5237,  34.5234,2,   -999.0,     86.7,2,  2.5237
  492SSY9607_1,  P08N,    04,  1,     21,      3,2,19960714,0717, 30.5017, 131.4017, 1500,   1500.7,   2.6274,  34.5237,  34.5236,2,   -999.0,     84.7,2,  2.5237
  492SSY9607_1,  P08N,    04,  1,     20,      4,2,19960714,0717, 30.5017, 131.4017, 1500,   1500.8,   2.6254,  34.5247,  34.5281,2,   -999.0,     82.2,2,  2.5217
  492SSY9607_1,  P08N,    04,  1,     22,      2,2,19960714,0717, 30.5017, 131.4017, 1500,   1500.8,   2.6264,  34.5237,  34.5216,2,   -999.0,     84.9,2,  2.5227
  492SSY9607_1,  P08N,    04,  1,     23,      1,2,19960714,0717, 30.5017, 131.4017, 1500,   1544.1,   2.5804,  34.5307,  34.5293,2,   -999.0,     87.0,2,  2.4738
  492SSY9607_1,  P08N,    05,  1,      1,     23,2,19960714,1007, 30.2017, 131.2033, 1400,     10.9,  26.4517,  33.9713,  33.9641,2,   -999.0,    214.3,2, 26.4492
  492SSY9607_1,  P08N,    05,  1,      2,     22,2,19960714,1007, 30.2017, 131.2033, 1400,     25.1,  25.6248,  34.4725,  34.4774,2,   -999.0,    219.7,2, 25.6193
  492SSY9607_1,  P08N,    05,  1,      3,     21,2,19960714,1007, 30.2017, 131.2033, 1400,     50.5,  24.1812,  34.6714,  34.6672,2,   -999.0,    214.0,2, 24.1705
  492SSY9607_1,  P08N,    05,  1,      4,     20,2,19960714,1007, 30.2017, 131.2033, 1400,     76.8,  23.2714,  34.7374,  34.7361,2,   -999.0,    210.1,2, 23.2556
  492SSY9607_1,  P08N,    05,  1,      5,     19,2,19960714,1007, 30.2017, 131.2033, 1400,    101.5,  21.2079,  34.8194,  34.8170,2,   -999.0,    200.4,2, 21.1884
  492SSY9607_1,  P08N,    05,  1,      6,     18,2,19960714,1007, 30.2017, 131.2033, 1400,    150.7,  18.9614,  34.6311,  34.6383,2,   -999.0,    214.8,3, 18.9347
  492SSY9607_1,  P08N,    05,  1,      7,     17,2,19960714,1007, 30.2017, 131.2033, 1400,    200.2,  16.5930,  34.6080,  34.6082,2,   -999.0,    195.0,2, 16.5606
  492SSY9607_1,  P08N,    05,  1,      8,     16,2,19960714,1007, 30.2017, 131.2033, 1400,    250.7,  15.0464,  34.5728,  34.5940,3,   -999.0,    180.8,2, 15.0084
  492SSY9607_1,  P08N,    05,  1,      9,     15,2,19960714,1007, 30.2017, 131.2033, 1400,    300.5,  12.3320,  34.4776,  34.4847,2,   -999.0,    164.6,2, 12.2922
  492SSY9607_1,  P08N,    05,  1,     10,     14,2,19960714,1007, 30.2017, 131.2033, 1400,    401.2,  10.1496,  34.3944,  34.3964,2,   -999.0,    144.1,2, 10.1025
  492SSY9607_1,  P08N,    05,  1,     11,     13,2,19960714,1007, 30.2017, 131.2033, 1400,    500.6,   7.4152,  34.3231,  34.3225,2,   -999.0,    123.7,2,  7.3663
  492SSY9607_1,  P08N,    05,  1,     12,     12,2,19960714,1007, 30.2017, 131.2033, 1400,    602.1,   5.5537,  34.3099,  34.3097,2,   -999.0,     95.9,2,  5.5029
  492SSY9607_1,  P08N,    05,  1,     13,     11,2,19960714,1007, 30.2017, 131.2033, 1400,    700.1,   4.6299,  34.3278,  34.3278,2,   -999.0,     77.2,2,  4.5753
  492SSY9607_1,  P08N,    05,  1,     14,     10,2,19960714,1007, 30.2017, 131.2033, 1400,    800.8,   4.1300,  34.3537,  34.3514,2,   -999.0,     76.5,2,  4.0700
  492SSY9607_1,  P08N,    05,  1,     15,      9,2,19960714,1007, 30.2017, 131.2033, 1400,    899.9,   3.6151,  34.3977,  34.4011,2,   -999.0,     69.4,2,  3.5505
  492SSY9607_1,  P08N,    05,  1,     16,      8,2,19960714,1007, 30.2017, 131.2033, 1400,   1000.3,   3.3202,  34.4308,  34.4326,2,   -999.0,     68.2,2,  3.2498
  492SSY9607_1,  P08N,    05,  1,     17,      7,2,19960714,1007, 30.2017, 131.2033, 1400,   1249.8,   2.8983,  34.4877,  34.4862,2,   -999.0,     79.4,2,  2.8119
  492SSY9607_1,  P08N,    05,  1,     22,      2,2,19960714,1007, 30.2017, 131.2033, 1400,   1501.1,   2.6074,  34.5267,  34.5252,2,   -999.0,     90.0,2,  2.5039
  492SSY9607_1,  P08N,    05,  1,     21,      3,2,19960714,1007, 30.2017, 131.2033, 1400,   1501.6,   2.6094,  34.5266,  34.5299,2,   -999.0,     88.6,2,  2.5058
  492SSY9607_1,  P08N,    05,  1,     20,      4,2,19960714,1007, 30.2017, 131.2033, 1400,   1502.2,   2.6094,  34.5267,  34.5222,2,   -999.0,     87.2,2,  2.5058
  492SSY9607_1,  P08N,    05,  1,     19,      5,2,19960714,1007, 30.2017, 131.2033, 1400,   1503.3,   2.6094,  34.5266,  34.5261,2,   -999.0,     87.9,2,  2.5057
  492SSY9607_1,  P08N,    05,  1,     18,      6,2,19960714,1007, 30.2017, 131.2033, 1400,   1503.6,   2.6094,  34.5267,  34.5244,2,   -999.0,     88.7,2,  2.5057
  492SSY9607_1,  P08N,    05,  1,     23,      1,2,19960714,1007, 30.2017, 131.2033, 1400,   1578.4,   2.5144,  34.5387,  34.5368,2,   -999.0,     90.0,2,  2.4058