BOTTLE,20020620WHPSIOSA
EXPOCODE,SECT_ID,STNNBR,CASTNO,SAMPNO,BTLNBR,BTLNBR_FLAG_W,DATE,TIME,LATITUDE,LONGITUDE,DEPTH,CTDPRS,CTDTMP,CTDSAL,SALNTY,SALNTY_FLAG_W,CTDOXY,OXYGEN,OXYGEN_FLAG_W,THETA
,,,,,,,,,,,,DBAR,ITS-90,PSS-78,PSS-78,,UMOL/KG,UMOL/KG,,ITS-90
  492SSY9607_1,  P08N,    29,  1,      1,     23,2,19960720,1022, 24.4183, 130.0017, 4500,     52.0,  24.4061,  34.8906,  34.8926,2,   -999.0,    222.5,2, 24.3951
  492SSY9607_1,  P08N,    29,  1,      2,     22,2,19960720,1022, 24.4183, 130.0017, 4500,     99.8,  21.4329,  34.9084,  34.9050,2,   -999.0,    218.1,2, 21.4135
  492SSY9607_1,  P08N,    29,  1,      3,     21,2,19960720,1022, 24.4183, 130.0017, 4500,    150.3,  19.8042,  34.9383,  34.9356,2,   -999.0,    203.7,2, 19.7766
  492SSY9607_1,  P08N,    29,  1,      4,     20,2,19960720,1022, 24.4183, 130.0017, 4500,    199.3,  18.8235,  34.9342,  34.9342,2,   -999.0,    211.3,2, 18.7881
  492SSY9607_1,  P08N,    29,  1,      5,     19,2,19960720,1022, 24.4183, 130.0017, 4500,    249.7,  18.0117,  34.8891,  34.8869,2,   -999.0,    206.3,2, 17.9687
  492SSY9607_1,  P08N,    29,  1,      6,     18,2,19960720,1022, 24.4183, 130.0017, 4500,    300.8,  17.1819,  34.8151,  34.8182,2,   -999.0,    201.0,2, 17.1318
  492SSY9607_1,  P08N,    29,  1,      7,     17,2,19960720,1022, 24.4183, 130.0017, 4500,    400.8,  14.9094,  34.6118,  34.6154,2,   -999.0,    188.0,2, 14.8488
  492SSY9607_1,  P08N,    29,  1,      8,     16,2,19960720,1022, 24.4183, 130.0017, 4500,    501.0,  12.2111,  34.3955,  34.4019,2,   -999.0,    179.6,2, 12.1446
  492SSY9607_1,  P08N,    29,  1,      9,     15,2,19960720,1022, 24.4183, 130.0017, 4500,    599.0,   9.1688,  34.2003,  34.1992,2,   -999.0,    157.6,2,  9.1023
  492SSY9607_1,  P08N,    29,  1,     10,     14,2,19960720,1022, 24.4183, 130.0017, 4500,    700.9,   7.1133,  34.1500,  34.1695,3,   -999.0,    127.1,2,  7.0457
  492SSY9607_1,  P08N,    29,  1,     11,     13,2,19960720,1022, 24.4183, 130.0017, 4500,    799.7,   5.6746,  34.1798,  34.1803,2,   -999.0,     96.0,2,  5.6055
  492SSY9607_1,  P08N,    29,  1,     12,     12,2,19960720,1022, 24.4183, 130.0017, 4500,    899.9,   4.7409,  34.2798,  34.2777,2,   -999.0,     68.9,2,  4.6686
  492SSY9607_1,  P08N,    29,  1,     13,     11,2,19960720,1022, 24.4183, 130.0017, 4500,    999.2,   4.1380,  34.3548,  34.3514,2,   -999.0,     64.3,2,  4.0615
  492SSY9607_1,  P08N,    29,  1,     14,     10,2,19960720,1022, 24.4183, 130.0017, 4500,   1248.1,   3.1562,  34.4778,  34.4756,2,   -999.0,     72.4,2,  3.0675
  492SSY9607_1,  P08N,    29,  1,     15,      9,2,19960720,1022, 24.4183, 130.0017, 4500,   1500.4,   2.6394,  34.5387,  34.5387,2,   -999.0,     86.5,2,  2.5356
  492SSY9607_1,  P08N,    29,  1,     16,      8,2,19960720,1022, 24.4183, 130.0017, 4500,   1750.3,   2.2974,  34.5827,  34.5836,2,   -999.0,    101.1,2,  2.1774
  492SSY9607_1,  P08N,    29,  1,     17,      7,2,19960720,1022, 24.4183, 130.0017, 4500,   1998.9,   2.0705,  34.6107,  34.6095,2,   -999.0,    114.8,2,  1.9329
  492SSY9607_1,  P08N,    29,  1,     18,      6,2,19960720,1022, 24.4183, 130.0017, 4500,   2248.3,   1.9045,  34.6336,  34.6308,2,   -999.0,    123.8,2,  1.7482
  492SSY9607_1,  P08N,    29,  1,     19,      5,2,19960720,1022, 24.4183, 130.0017, 4500,   2500.2,   1.7656,  34.6517,  34.6497,2,   -999.0,    132.1,2,  1.5894
  492SSY9607_1,  P08N,    29,  1,     20,      4,2,19960720,1022, 24.4183, 130.0017, 4500,   2999.5,   1.6426,  34.6678,  34.6642,2,   -999.0,    141.5,2,  1.4225
  492SSY9607_1,  P08N,    29,  1,     21,      3,2,19960720,1022, 24.4183, 130.0017, 4500,   3499.9,   1.5736,  34.6788,  34.6762,2,   -999.0,    156.5,2,  1.3055
  492SSY9607_1,  P08N,    29,  1,     22,      2,2,19960720,1022, 24.4183, 130.0017, 4500,   3999.7,   1.5726,  34.6837,  34.6857,2,   -999.0,    154.1,2,  1.2516
  492SSY9607_1,  P08N,    29,  1,     23,      1,2,19960720,1022, 24.4183, 130.0017, 4500,   4483.4,   1.5976,  34.6868,  34.6520,3,   -999.0,    154.0,3,  1.2214
  492SSY9607_1,  P08N,    30,  1,      1,     23,2,19960720,1442, 24.0000, 129.9983, 4200,     99.9,  21.4538,  34.9234,  34.9208,2,   -999.0,    211.7,2, 21.4344
  492SSY9607_1,  P08N,    30,  1,      2,     22,2,19960720,1442, 24.0000, 129.9983, 4200,    150.8,  20.1372,  34.9653,  34.9661,2,   -999.0,    206.8,2, 20.1091
  492SSY9607_1,  P08N,    30,  1,      3,     21,2,19960720,1442, 24.0000, 129.9983, 4200,    200.9,  19.3194,  34.9723,  34.9718,2,   -999.0,    212.9,2, 19.2831
  492SSY9607_1,  P08N,    30,  1,      4,     20,2,19960720,1442, 24.0000, 129.9983, 4200,    251.4,  18.4746,  34.9232,  34.9249,2,   -999.0,    209.9,2, 18.4305
  492SSY9607_1,  P08N,    30,  1,      5,     19,2,19960720,1442, 24.0000, 129.9983, 4200,    299.4,  17.7987,  34.8732,  34.8751,2,   -999.0,    206.5,2, 17.7476
  492SSY9607_1,  P08N,    30,  1,      6,     18,2,19960720,1442, 24.0000, 129.9983, 4200,    400.1,  15.7222,  34.6859,  34.6965,2,   -999.0,    193.1,2, 15.6595
  492SSY9607_1,  P08N,    30,  1,      7,     17,2,19960720,1442, 24.0000, 129.9983, 4200,    501.3,  12.0881,  34.3886,  34.3921,2,   -999.0,    181.6,2, 12.0221
  492SSY9607_1,  P08N,    30,  1,      8,     16,2,19960720,1442, 24.0000, 129.9983, 4200,    601.5,   9.7477,  34.2423,  34.2483,2,   -999.0,    157.9,2,  9.6783
  492SSY9607_1,  P08N,    30,  1,      9,     15,2,19960720,1442, 24.0000, 129.9983, 4200,    700.4,   7.3842,  34.1550,  34.1546,2,   -999.0,    128.5,2,  7.3152
  492SSY9607_1,  P08N,    30,  1,     10,     14,2,19960720,1442, 24.0000, 129.9983, 4200,    801.0,   5.4577,  34.1718,  34.1842,3,   -999.0,   -999.0,5,  5.3898
  492SSY9607_1,  P08N,    30,  1,     11,     13,2,19960720,1442, 24.0000, 129.9983, 4200,    899.2,   4.7379,  34.2588,  34.2602,2,   -999.0,     70.8,2,  4.6657
  492SSY9607_1,  P08N,    30,  1,     12,     12,2,19960720,1442, 24.0000, 129.9983, 4200,   1001.3,   4.1600,  34.3558,  34.3573,2,   -999.0,     64.9,2,  4.0832
  492SSY9607_1,  P08N,    30,  1,     13,     11,2,19960720,1442, 24.0000, 129.9983, 4200,   1252.4,   3.1392,  34.4727,  34.4754,2,   -999.0,     69.4,2,  3.0503
  492SSY9607_1,  P08N,    30,  1,     14,     10,2,19960720,1442, 24.0000, 129.9983, 4200,   1501.3,   2.6294,  34.5377,  34.5372,2,   -999.0,     87.5,2,  2.5256
  492SSY9607_1,  P08N,    30,  1,     15,      9,2,19960720,1442, 24.0000, 129.9983, 4200,   1751.3,   2.2455,  34.5856,  34.5891,2,   -999.0,    102.3,2,  2.1260
  492SSY9607_1,  P08N,    30,  1,     16,      8,2,19960720,1442, 24.0000, 129.9983, 4200,   1999.4,   2.0295,  34.6147,  34.6188,2,   -999.0,    114.8,2,  1.8925
  492SSY9607_1,  P08N,    30,  1,     17,      7,2,19960720,1442, 24.0000, 129.9983, 4200,   2248.6,   1.8576,  34.6386,  34.6391,2,   -999.0,    125.4,2,  1.7020
  492SSY9607_1,  P08N,    30,  1,     18,      6,2,19960720,1442, 24.0000, 129.9983, 4200,   2499.4,   1.7556,  34.6527,  34.6520,2,   -999.0,    132.6,2,  1.5797
  492SSY9607_1,  P08N,    30,  1,     19,      5,2,19960720,1442, 24.0000, 129.9983, 4200,   3000.5,   1.6346,  34.6677,  34.6660,2,   -999.0,    141.9,2,  1.4146
  492SSY9607_1,  P08N,    30,  1,     20,      4,2,19960720,1442, 24.0000, 129.9983, 4200,   3501.1,   1.5746,  34.6788,  34.6770,2,   -999.0,    149.5,2,  1.3063
  492SSY9607_1,  P08N,    30,  1,     21,      3,2,19960720,1442, 24.0000, 129.9983, 4200,   3999.6,   1.5766,  34.6837,  34.6827,2,   -999.0,    155.1,2,  1.2555
  492SSY9607_1,  P08N,    30,  1,     22,      2,2,19960720,1442, 24.0000, 129.9983, 4200,   4261.8,   1.5916,  34.6848,  34.6871,2,   -999.0,    155.1,2,  1.2409
  492SSY9607_1,  P08N,    30,  1,     23,      1,2,19960720,1442, 24.0000, 129.9983, 4200,   4261.8,   1.5916,  34.6848,  34.6882,2,   -999.0,    154.8,2,  1.2409
  492SSY9607_1,  P08N,    31,  1,      1,     23,2,19960720,1817, 23.6667, 129.9967, 3910,     24.8,  27.7383,  34.6066,  34.6139,2,   -999.0,    208.4,2, 27.7325
  492SSY9607_1,  P08N,    31,  1,      2,     22,2,19960720,1817, 23.6667, 129.9967, 3910,     50.9,  23.9632,  34.7844,  34.7721,2,   -999.0,    221.4,2, 23.9525
  492SSY9607_1,  P08N,    31,  1,      3,     21,2,19960720,1817, 23.6667, 129.9967, 3910,     99.5,  21.2249,  34.8914,  34.8914,2,   -999.0,    217.1,2, 21.2057
  492SSY9607_1,  P08N,    31,  1,      4,     20,2,19960720,1817, 23.6667, 129.9967, 3910,    150.4,  20.0222,  34.9273,  34.9279,2,   -999.0,    203.5,2, 19.9944
  492SSY9607_1,  P08N,    31,  1,      5,     19,2,19960720,1817, 23.6667, 129.9967, 3910,    199.2,  18.9734,  34.9403,  34.9468,2,   -999.0,    207.8,2, 18.9379
  492SSY9607_1,  P08N,    31,  1,      6,     18,2,19960720,1817, 23.6667, 129.9967, 3910,    250.0,  18.0117,  34.8762,  34.8808,2,   -999.0,    199.3,2, 17.9687
  492SSY9607_1,  P08N,    31,  1,      7,     17,2,19960720,1817, 23.6667, 129.9967, 3910,    299.8,  17.3488,  34.8311,  34.8345,2,   -999.0,    201.6,2, 17.2986
  492SSY9607_1,  P08N,    31,  1,      8,     16,2,19960720,1817, 23.6667, 129.9967, 3910,    400.5,  14.7695,  34.5988,  34.6042,2,   -999.0,    189.3,2, 14.7093
  492SSY9607_1,  P08N,    31,  1,      9,     15,2,19960720,1817, 23.6667, 129.9967, 3910,    500.0,  11.9701,  34.3805,  34.3830,2,   -999.0,    178.4,2, 11.9047
  492SSY9607_1,  P08N,    31,  1,     10,     14,2,19960720,1817, 23.6667, 129.9967, 3910,    601.0,   8.7319,  34.1972,  34.2630,3,   -999.0,    149.1,2,  8.6671
  492SSY9607_1,  P08N,    31,  1,     11,     13,2,19960720,1817, 23.6667, 129.9967, 3910,    699.9,   7.0083,  34.1530,  34.1538,2,   -999.0,    119.6,2,  6.9413
  492SSY9607_1,  P08N,    31,  1,     12,     12,2,19960720,1817, 23.6667, 129.9967, 3910,    799.4,   5.7626,  34.1809,  34.1813,2,   -999.0,     89.1,2,  5.6930
  492SSY9607_1,  P08N,    31,  1,     13,     11,2,19960720,1817, 23.6667, 129.9967, 3910,    901.3,   4.6769,  34.2458,  34.2465,2,   -999.0,     69.5,2,  4.6050
  492SSY9607_1,  P08N,    31,  1,     14,     10,2,19960720,1817, 23.6667, 129.9967, 3910,   1000.0,   4.1440,  34.3478,  34.3508,2,   -999.0,     61.2,2,  4.0674
  492SSY9607_1,  P08N,    31,  1,     15,      9,2,19960720,1817, 23.6667, 129.9967, 3910,   1251.1,   3.2062,  34.4697,  34.4713,2,   -999.0,     66.4,2,  3.1168
  492SSY9607_1,  P08N,    31,  1,     16,      8,2,19960720,1817, 23.6667, 129.9967, 3910,   1500.4,   2.6204,  34.5417,  34.5423,2,   -999.0,     84.6,2,  2.5168
  492SSY9607_1,  P08N,    31,  1,     17,      7,2,19960720,1817, 23.6667, 129.9967, 3910,   1748.9,   2.2755,  34.5817,  34.5846,2,   -999.0,    100.5,2,  2.1558
  492SSY9607_1,  P08N,    31,  1,     18,      6,2,19960720,1817, 23.6667, 129.9967, 3910,   1999.3,   2.0165,  34.6167,  34.6147,2,   -999.0,    113.4,2,  1.8797
  492SSY9607_1,  P08N,    31,  1,     19,      5,2,19960720,1817, 23.6667, 129.9967, 3910,   2251.7,   1.8666,  34.6366,  34.6412,2,   -999.0,    124.2,2,  1.7105
  492SSY9607_1,  P08N,    31,  1,     20,      4,2,19960720,1817, 23.6667, 129.9967, 3910,   2500.5,   1.7616,  34.6507,  34.6536,2,   -999.0,    132.7,2,  1.5855
  492SSY9607_1,  P08N,    31,  1,     21,      3,2,19960720,1817, 23.6667, 129.9967, 3910,   2998.9,   1.6216,  34.6697,  34.6694,2,   -999.0,    144.1,2,  1.4021
  492SSY9607_1,  P08N,    31,  1,     22,      2,2,19960720,1817, 23.6667, 129.9967, 3910,   3500.7,   1.5806,  34.6777,  34.6780,2,   -999.0,    149.1,2,  1.3122
  492SSY9607_1,  P08N,    31,  1,     23,      1,2,19960720,1817, 23.6667, 129.9967, 3910,   3975.9,   1.5716,  34.6837,  34.6853,2,   -999.0,    153.9,2,  1.2532
  492SSY9607_1,  P08N,    32,  1,      1,     23,2,19960720,2144, 23.3350, 130.0067, 4500,     48.7,  24.5321,  34.8816,  34.8796,2,   -999.0,    219.6,2, 24.5217
  492SSY9607_1,  P08N,    32,  1,      2,     22,2,19960720,2144, 23.3350, 130.0067, 4500,     99.9,  21.4239,  34.9114,  34.9105,2,   -999.0,    214.3,2, 21.4045
  492SSY9607_1,  P08N,    32,  1,      3,     21,2,19960720,2144, 23.3350, 130.0067, 4500,    149.2,  19.8602,  34.9263,  34.9295,2,   -999.0,    201.0,2, 19.8328
  492SSY9607_1,  P08N,    32,  1,      4,     20,2,19960720,2144, 23.3350, 130.0067, 4500,    200.0,  18.6085,  34.9192,  34.9196,2,   -999.0,    204.5,2, 18.5734
  492SSY9607_1,  P08N,    32,  1,      5,     19,2,19960720,2144, 23.3350, 130.0067, 4500,    299.9,  17.1399,  34.8141,  34.8237,2,   -999.0,    200.6,2, 17.0900
  492SSY9607_1,  P08N,    32,  1,      6,     18,2,19960720,2144, 23.3350, 130.0067, 4500,    399.6,  14.8954,  34.6098,  34.6172,2,   -999.0,    188.7,2, 14.8350
  492SSY9607_1,  P08N,    32,  1,      7,     17,2,19960720,2144, 23.3350, 130.0067, 4500,    498.5,  11.7292,  34.3595,  34.3622,2,   -999.0,    176.8,2, 11.6648
  492SSY9607_1,  P08N,    32,  1,      8,     16,2,19960720,2144, 23.3350, 130.0067, 4500,    600.4,   9.2078,  34.2192,  34.2180,2,   -999.0,    149.6,2,  9.1409
  492SSY9607_1,  P08N,    32,  1,      9,     15,2,19960720,2144, 23.3350, 130.0067, 4500,    699.0,   6.9963,  34.1610,  34.1632,2,   -999.0,    112.8,2,  6.9295
  492SSY9607_1,  P08N,    32,  1,     10,     14,2,19960720,2144, 23.3350, 130.0067, 4500,    799.8,   5.7156,  34.1779,  34.2078,3,   -999.0,     94.8,2,  5.6462
  492SSY9607_1,  P08N,    32,  1,     11,     13,2,19960720,2144, 23.3350, 130.0067, 4500,    899.6,   4.7579,  34.2358,  34.2361,2,   -999.0,     72.8,2,  4.6856
  492SSY9607_1,  P08N,    32,  1,     12,     12,2,19960720,2144, 23.3350, 130.0067, 4500,   1000.4,   4.1780,  34.3308,  34.3319,2,   -999.0,     60.7,2,  4.1012
  492SSY9607_1,  P08N,    32,  1,     13,     11,2,19960720,2144, 23.3350, 130.0067, 4500,   1249.1,   3.2402,  34.4647,  34.4648,2,   -999.0,     65.8,2,  3.1506
  492SSY9607_1,  P08N,    32,  1,     14,     10,2,19960720,2144, 23.3350, 130.0067, 4500,   1499.3,   2.6824,  34.5327,  34.5342,2,   -999.0,     84.4,2,  2.5782
  492SSY9607_1,  P08N,    32,  1,     15,      9,2,19960720,2144, 23.3350, 130.0067, 4500,   1750.6,   2.2775,  34.5816,  34.5794,2,   -999.0,    104.2,2,  2.1577
  492SSY9607_1,  P08N,    32,  1,     16,      8,2,19960720,2144, 23.3350, 130.0067, 4500,   2000.3,   2.0385,  34.6137,  34.6145,2,   -999.0,    114.2,2,  1.9013
  492SSY9607_1,  P08N,    32,  1,     17,      7,2,19960720,2144, 23.3350, 130.0067, 4500,   2250.3,   1.8606,  34.6367,  34.6400,2,   -999.0,    125.4,2,  1.7048
  492SSY9607_1,  P08N,    32,  1,     18,      6,2,19960720,2144, 23.3350, 130.0067, 4500,   2500.1,   1.7626,  34.6497,  34.6503,2,   -999.0,    132.3,2,  1.5865
  492SSY9607_1,  P08N,    32,  1,     19,      5,2,19960720,2144, 23.3350, 130.0067, 4500,   3000.7,   1.6156,  34.6697,  34.6682,2,   -999.0,    143.2,2,  1.3960
  492SSY9607_1,  P08N,    32,  1,     20,      4,2,19960720,2144, 23.3350, 130.0067, 4500,   3499.6,   1.5816,  34.6778,  34.6749,2,   -999.0,    148.7,2,  1.3133
  492SSY9607_1,  P08N,    32,  1,     21,      3,2,19960720,2144, 23.3350, 130.0067, 4500,   4000.0,   1.5656,  34.6848,  34.6814,2,   -999.0,    154.2,2,  1.2447
  492SSY9607_1,  P08N,    32,  1,     22,      2,2,19960720,2144, 23.3350, 130.0067, 4500,   4500.2,   1.5986,  34.6868,  34.6851,2,   -999.0,    156.5,2,  1.2205
  492SSY9607_1,  P08N,    32,  1,     23,      1,2,19960720,2144, 23.3350, 130.0067, 4500,   4636.3,   1.6096,  34.6868,  34.6884,2,   -999.0,    157.4,2,  1.2152
  492SSY9607_1,  P08N,    33,  1,      1,     23,2,19960721,0148, 23.0000, 130.0000, 4550,     99.9,  21.4568,  34.9614,  34.9608,2,   -999.0,    200.4,2, 21.4374
  492SSY9607_1,  P08N,    33,  1,      2,     22,2,19960721,0148, 23.0000, 130.0000, 4550,    150.7,  19.8392,  34.9473,  34.9462,2,   -999.0,    193.7,2, 19.8115
  492SSY9607_1,  P08N,    33,  1,      3,     21,2,19960721,0148, 23.0000, 130.0000, 4550,    200.1,  18.3296,  34.8912,  34.9157,3,   -999.0,    196.4,2, 18.2948
  492SSY9607_1,  P08N,    33,  1,      4,     20,2,19960721,0148, 23.0000, 130.0000, 4550,    299.7,  16.6920,  34.7710,  34.7762,2,   -999.0,    195.9,2, 16.6431
  492SSY9607_1,  P08N,    33,  1,      5,     19,2,19960721,0148, 23.0000, 130.0000, 4550,    399.5,  14.1276,  34.5497,  34.5586,2,   -999.0,    183.0,2, 14.0694
  492SSY9607_1,  P08N,    33,  1,      6,     18,2,19960721,0148, 23.0000, 130.0000, 4550,    501.8,  10.6554,  34.2894,  34.2983,2,   -999.0,    169.8,2, 10.5945
  492SSY9607_1,  P08N,    33,  1,      7,     17,2,19960721,0148, 23.0000, 130.0000, 4550,    600.8,   7.9941,  34.1631,  34.1628,2,   -999.0,    138.5,2,  7.9326
  492SSY9607_1,  P08N,    33,  1,      8,     16,2,19960721,0148, 23.0000, 130.0000, 4550,    699.3,   6.3735,  34.1529,  34.1601,2,   -999.0,    103.0,2,  6.3099
  492SSY9607_1,  P08N,    33,  1,      9,     15,2,19960721,0148, 23.0000, 130.0000, 4550,    800.1,   5.1028,  34.2088,  34.2080,2,   -999.0,     77.7,2,  5.0370
  492SSY9607_1,  P08N,    33,  1,     10,     14,2,19960721,0148, 23.0000, 130.0000, 4550,    900.5,   4.4089,  34.2907,  34.2917,2,   -999.0,     76.7,3,  4.3389
  492SSY9607_1,  P08N,    33,  1,     11,     13,2,19960721,0148, 23.0000, 130.0000, 4550,   1001.3,   3.9171,  34.3717,  34.3716,2,   -999.0,     80.9,3,  3.8421
  492SSY9607_1,  P08N,    33,  1,     12,     12,2,19960721,0148, 23.0000, 130.0000, 4550,   1250.6,   3.1472,  34.4767,  34.4756,2,   -999.0,     67.6,2,  3.0584
  492SSY9607_1,  P08N,    33,  1,     13,     11,2,19960721,0148, 23.0000, 130.0000, 4550,   1501.0,   2.5774,  34.5447,  34.5470,2,   -999.0,     87.5,2,  2.4742
  492SSY9607_1,  P08N,    33,  1,     14,     10,2,19960721,0148, 23.0000, 130.0000, 4550,   1750.4,   2.2645,  34.5887,  34.5893,2,   -999.0,    103.2,2,  2.1448
  492SSY9607_1,  P08N,    33,  1,     15,      9,2,19960721,0148, 23.0000, 130.0000, 4550,   2000.8,   2.0325,  34.6167,  34.6208,2,   -999.0,    114.9,2,  1.8953
  492SSY9607_1,  P08N,    33,  1,     16,      8,2,19960721,0148, 23.0000, 130.0000, 4550,   2251.1,   1.8606,  34.6377,  34.6391,2,   -999.0,    125.0,2,  1.7047
  492SSY9607_1,  P08N,    33,  1,     17,      7,2,19960721,0148, 23.0000, 130.0000, 4550,   2499.9,   1.7656,  34.6496,  34.6497,2,   -999.0,    131.5,2,  1.5894
  492SSY9607_1,  P08N,    33,  1,     18,      6,2,19960721,0148, 23.0000, 130.0000, 4550,   3000.2,   1.6166,  34.6697,  34.6719,2,   -999.0,    144.2,2,  1.3970
  492SSY9607_1,  P08N,    33,  1,     19,      5,2,19960721,0148, 23.0000, 130.0000, 4550,   3501.5,   1.5666,  34.6788,  34.6821,2,   -999.0,    166.8,3,  1.2985
  492SSY9607_1,  P08N,    33,  1,     20,      4,2,19960721,0148, 23.0000, 130.0000, 4550,   4000.2,   1.5646,  34.6848,  34.6835,2,   -999.0,    153.5,2,  1.2437
  492SSY9607_1,  P08N,    33,  1,     21,      3,2,19960721,0148, 23.0000, 130.0000, 4550,   4500.4,   1.5936,  34.6869,  34.6778,3,   -999.0,    156.5,2,  1.2156
  492SSY9607_1,  P08N,    33,  1,     22,      2,2,19960721,0148, 23.0000, 130.0000, 4550,   4607.4,   1.6056,  34.6868,  34.6855,2,   -999.0,    170.8,3,  1.2148
  492SSY9607_1,  P08N,    33,  1,     23,      1,2,19960721,0148, 23.0000, 130.0000, 4550,   4607.4,   1.6056,  34.6868,  34.6896,2,   -999.0,    168.5,3,  1.2148