BOTTLE,20020620WHPSIOSA
EXPOCODE,SECT_ID,STNNBR,CASTNO,SAMPNO,BTLNBR,BTLNBR_FLAG_W,DATE,TIME,LATITUDE,LONGITUDE,DEPTH,CTDPRS,CTDTMP,CTDSAL,SALNTY,SALNTY_FLAG_W,CTDOXY,OXYGEN,OXYGEN_FLAG_W,THETA
,,,,,,,,,,,,DBAR,ITS-90,PSS-78,PSS-78,,UMOL/KG,UMOL/KG,,ITS-90
  492SSY9607_1,  P08N,    65,  1,      1,     23,2,19960728,0952,  8.5017, 130.0017, 6100,    102.9,  17.4048,  34.7298,  34.7272,2,   -999.0,    147.2,2, 17.3876
  492SSY9607_1,  P08N,    65,  1,      2,     22,2,19960728,0952,  8.5017, 130.0017, 6100,    203.0,   9.7117,  34.4675,  34.4506,2,   -999.0,     91.4,2,  9.6887
  492SSY9607_1,  P08N,    65,  1,      3,     21,2,19960728,0952,  8.5017, 130.0017, 6100,    302.3,   8.3620,  34.5357,  34.5279,2,   -999.0,     77.7,2,  8.3306
  492SSY9607_1,  P08N,    65,  1,      4,     20,2,19960728,0952,  8.5017, 130.0017, 6100,    401.8,   7.6632,  34.5422,  34.5364,2,   -999.0,     84.2,2,  7.6233
  492SSY9607_1,  P08N,    65,  1,      5,     19,2,19960728,0952,  8.5017, 130.0017, 6100,    502.9,   7.1763,  34.5419,  34.5317,2,   -999.0,     87.5,2,  7.1279
  492SSY9607_1,  P08N,    65,  1,      6,     18,2,19960728,0952,  8.5017, 130.0017, 6100,    598.8,   6.6314,  34.5236,  34.5114,3,   -999.0,     95.8,2,  6.5758
  492SSY9607_1,  P08N,    65,  1,      7,     17,2,19960728,0952,  8.5017, 130.0017, 6100,    701.8,   6.1845,  34.5213,  34.5126,2,   -999.0,     88.0,2,  6.1213
  492SSY9607_1,  P08N,    65,  1,      8,     16,2,19960728,0952,  8.5017, 130.0017, 6100,    802.6,   5.7466,  34.5190,  34.5088,2,   -999.0,     90.0,2,  5.6764
  492SSY9607_1,  P08N,    65,  1,      9,     15,2,19960728,0952,  8.5017, 130.0017, 6100,    902.4,   5.2557,  34.5247,  34.5183,2,   -999.0,     87.6,2,  5.1794
  492SSY9607_1,  P08N,    65,  1,     10,     14,2,19960728,0952,  8.5017, 130.0017, 6100,   1001.7,   4.8378,  34.5394,  34.5334,2,   -999.0,     89.7,2,  4.7556
  492SSY9607_1,  P08N,    65,  1,     11,     13,2,19960728,0952,  8.5017, 130.0017, 6100,   1252.6,   3.6841,  34.5666,  34.5612,2,   -999.0,     97.3,2,  3.5898
  492SSY9607_1,  P08N,    65,  1,     12,     12,2,19960728,0952,  8.5017, 130.0017, 6100,   1501.8,   2.9543,  34.5922,  34.5836,2,   -999.0,    101.3,2,  2.8467
  492SSY9607_1,  P08N,    65,  1,     13,     11,2,19960728,0952,  8.5017, 130.0017, 6100,   1754.5,   2.4564,  34.6189,  34.6160,2,   -999.0,    109.2,2,  2.3338
  492SSY9607_1,  P08N,    65,  1,     14,     10,2,19960728,0952,  8.5017, 130.0017, 6100,   2003.9,   2.1535,  34.6358,  34.6310,2,   -999.0,    117.5,2,  2.0142
  492SSY9607_1,  P08N,    65,  1,     15,      9,2,19960728,0952,  8.5017, 130.0017, 6100,   2251.8,   1.9545,  34.6488,  34.6392,3,   -999.0,    124.4,2,  1.7970
  492SSY9607_1,  P08N,    65,  1,     16,      8,2,19960728,0952,  8.5017, 130.0017, 6100,   2502.6,   1.8006,  34.6577,  34.6391,3,   -999.0,    130.3,2,  1.6235
  492SSY9607_1,  P08N,    65,  1,     17,      7,2,19960728,0952,  8.5017, 130.0017, 6100,   3002.5,   1.5986,  34.6717,  34.6697,2,   -999.0,    143.4,2,  1.3792
  492SSY9607_1,  P08N,    65,  1,     18,      6,2,19960728,0952,  8.5017, 130.0017, 6100,   3500.5,   1.5456,  34.6788,  34.6727,2,   -999.0,    151.1,2,  1.2781
  492SSY9607_1,  P08N,    65,  1,     19,      5,2,19960728,0952,  8.5017, 130.0017, 6100,   4000.1,   1.5716,  34.6821,  34.6810,2,   -999.0,    150.1,2,  1.2506
  492SSY9607_1,  P08N,    65,  1,     20,      4,2,19960728,0952,  8.5017, 130.0017, 6100,   4500.7,   1.6216,  34.6822,  34.6782,2,   -999.0,    152.7,2,  1.2427
  492SSY9607_1,  P08N,    65,  1,     21,      3,2,19960728,0952,  8.5017, 130.0017, 6100,   5000.5,   1.6806,  34.6824,  34.6829,2,   -999.0,    153.8,2,  1.2402
  492SSY9607_1,  P08N,    65,  1,     22,      2,2,19960728,0952,  8.5017, 130.0017, 6100,   5501.8,   1.7446,  34.6826,  34.6774,2,   -999.0,    154.5,2,  1.2389
  492SSY9607_1,  P08N,    65,  1,     23,      1,3,19960728,0952,  8.5017, 130.0017, 6100,   5963.4,   1.8076,  34.6828,  34.6644,3,   -999.0,    150.6,3,  1.2387
  492SSY9607_1,  P08N,    66,  1,      1,     23,2,19960728,1649,  8.0033, 130.0050, 5660,    197.8,  10.1446,  34.3957,  34.3938,2,   -999.0,    107.0,2, 10.1216
  492SSY9607_1,  P08N,    66,  1,      2,     22,2,19960728,1649,  8.0033, 130.0050, 5660,    301.1,   8.5649,  34.5659,  34.5623,2,   -999.0,     74.5,2,  8.5332
  492SSY9607_1,  P08N,    66,  1,      3,     21,2,19960728,1649,  8.0033, 130.0050, 5660,    399.1,   7.9371,  34.5585,  34.5566,2,   -999.0,     76.1,2,  7.8967
  492SSY9607_1,  P08N,    66,  1,      4,     20,2,19960728,1649,  8.0033, 130.0050, 5660,    500.2,   7.3302,  34.5480,  34.5434,2,   -999.0,     83.2,2,  7.2815
  492SSY9607_1,  P08N,    66,  1,      5,     19,2,19960728,1649,  8.0033, 130.0050, 5660,    599.4,   6.9513,  34.5498,  34.5486,2,   -999.0,     84.8,2,  6.8943
  492SSY9607_1,  P08N,    66,  1,      6,     18,2,19960728,1649,  8.0033, 130.0050, 5660,    702.1,   6.4714,  34.5265,  34.5252,2,   -999.0,     89.4,2,  6.4066
  492SSY9607_1,  P08N,    66,  1,      7,     17,2,19960728,1649,  8.0033, 130.0050, 5660,    798.3,   6.0016,  34.5322,  34.5311,2,   -999.0,     98.5,2,  5.9302
  492SSY9607_1,  P08N,    66,  1,      8,     16,2,19960728,1649,  8.0033, 130.0050, 5660,    900.4,   5.3487,  34.5327,  34.5153,3,   -999.0,     91.7,2,  5.2720
  492SSY9607_1,  P08N,    66,  1,      9,     15,2,19960728,1649,  8.0033, 130.0050, 5660,   1001.9,   4.8638,  34.5334,  34.5330,2,   -999.0,     89.8,2,  4.7814
  492SSY9607_1,  P08N,    66,  1,     10,     14,2,19960728,1649,  8.0033, 130.0050, 5660,   1253.7,   3.5931,  34.5716,  34.5678,2,   -999.0,     95.9,2,  3.4996
  492SSY9607_1,  P08N,    66,  1,     11,     13,2,19960728,1649,  8.0033, 130.0050, 5660,   1501.7,   2.9213,  34.6012,  34.5952,2,   -999.0,    104.6,2,  2.8140
  492SSY9607_1,  P08N,    66,  1,     12,     12,2,19960728,1649,  8.0033, 130.0050, 5660,   1750.2,   2.5684,  34.6180,  34.6154,2,   -999.0,    108.6,2,  2.4447
  492SSY9607_1,  P08N,    66,  1,     13,     11,2,19960728,1649,  8.0033, 130.0050, 5660,   1997.6,   2.2725,  34.6329,  34.6324,2,   -999.0,    114.6,2,  2.1319
  492SSY9607_1,  P08N,    66,  1,     14,     10,2,19960728,1649,  8.0033, 130.0050, 5660,   2245.1,   2.0385,  34.6448,  34.6453,2,   -999.0,    123.3,2,  1.8802
  492SSY9607_1,  P08N,    66,  1,     15,      9,2,19960728,1649,  8.0033, 130.0050, 5660,   2499.3,   1.8596,  34.6547,  34.6548,2,   -999.0,    129.4,2,  1.6817
  492SSY9607_1,  P08N,    66,  1,     16,      8,2,19960728,1649,  8.0033, 130.0050, 5660,   3000.8,   1.6176,  34.6707,  34.6709,2,   -999.0,    141.8,2,  1.3980
  492SSY9607_1,  P08N,    66,  1,     17,      7,2,19960728,1649,  8.0033, 130.0050, 5660,   3499.8,   1.5446,  34.6788,  34.6741,2,   -999.0,    148.9,2,  1.2772
  492SSY9607_1,  P08N,    66,  1,     18,      6,2,19960728,1649,  8.0033, 130.0050, 5660,   4004.1,   1.5666,  34.6810,  34.6804,2,   -999.0,    153.2,2,  1.2453
  492SSY9607_1,  P08N,    66,  1,     19,      5,2,19960728,1649,  8.0033, 130.0050, 5660,   4500.4,   1.6176,  34.6822,  34.6818,2,   -999.0,    154.1,2,  1.2389
  492SSY9607_1,  P08N,    66,  1,     20,      4,2,19960728,1649,  8.0033, 130.0050, 5660,   4999.3,   1.6786,  34.6824,  34.6739,3,   -999.0,    153.1,2,  1.2384
  492SSY9607_1,  P08N,    66,  1,     21,      3,2,19960728,1649,  8.0033, 130.0050, 5660,   5502.4,   1.7436,  34.6826,  34.6800,2,   -999.0,    154.6,2,  1.2378
  492SSY9607_1,  P08N,    66,  1,     22,      2,2,19960728,1649,  8.0033, 130.0050, 5660,   5692.3,   1.7686,  34.6827,  34.6841,2,   -999.0,    154.7,2,  1.2372
  492SSY9607_1,  P08N,    66,  1,     23,      1,2,19960728,1649,  8.0033, 130.0050, 5660,   5692.3,   1.7686,  34.6827,  34.6776,2,   -999.0,    153.8,2,  1.2372