BOTTLE,20020620WHPSIOSA
EXPOCODE,SECT_ID,STNNBR,CASTNO,SAMPNO,BTLNBR,BTLNBR_FLAG_W,DATE,TIME,LATITUDE,LONGITUDE,DEPTH,CTDPRS,CTDTMP,CTDSAL,SALNTY,SALNTY_FLAG_W,CTDOXY,OXYGEN,OXYGEN_FLAG_W,THETA
,,,,,,,,,,,,DBAR,ITS-90,PSS-78,PSS-78,,UMOL/KG,UMOL/KG,,ITS-90
  492SSY9607_1,  P08N,    06,  1,      1,     23,2,19960714,1239, 30.0817, 131.0033,  680,     11.1,  29.1890,  34.1445,  34.0879,3,   -999.0,    201.2,2, 29.1863
  492SSY9607_1,  P08N,    06,  1,      2,     22,2,19960714,1239, 30.0817, 131.0033,  680,     25.5,  28.2532,  33.9855,  33.9688,2,   -999.0,    205.3,2, 28.2472
  492SSY9607_1,  P08N,    06,  1,      3,     21,2,19960714,1239, 30.0817, 131.0033,  680,     51.4,  26.3767,  33.9803,  33.9800,2,   -999.0,    207.5,2, 26.3651
  492SSY9607_1,  P08N,    06,  1,      4,     20,2,19960714,1239, 30.0817, 131.0033,  680,     76.3,  23.4834,  34.2753,  34.2758,2,   -999.0,    210.2,2, 23.4676
  492SSY9607_1,  P08N,    06,  1,      5,     19,2,19960714,1239, 30.0817, 131.0033,  680,    100.8,  22.3556,  34.4913,  34.4809,2,   -999.0,    202.4,2, 22.3355
  492SSY9607_1,  P08N,    06,  1,      6,     18,2,19960714,1239, 30.0817, 131.0033,  680,    149.8,  18.6205,  34.7031,  34.7044,2,   -999.0,    192.0,2, 18.5942
  492SSY9607_1,  P08N,    06,  1,      7,     17,2,19960714,1239, 30.0817, 131.0033,  680,    202.7,  16.3451,  34.6920,  34.6855,2,   -999.0,    184.1,2, 16.3126
  492SSY9607_1,  P08N,    06,  1,      8,     16,2,19960714,1239, 30.0817, 131.0033,  680,    255.3,  13.1748,  34.5257,  34.5309,2,   -999.0,    163.9,2, 13.1395
  492SSY9607_1,  P08N,    06,  1,      9,     15,2,19960714,1239, 30.0817, 131.0033,  680,    299.5,  11.1673,  34.4335,  34.4373,2,   -999.0,    150.3,2, 11.1301
  492SSY9607_1,  P08N,    06,  1,     10,     14,2,19960714,1239, 30.0817, 131.0033,  680,    400.2,   9.2648,  34.3753,  34.3769,2,   -999.0,    129.0,2,  9.2204
  492SSY9607_1,  P08N,    06,  1,     11,     13,2,19960714,1239, 30.0817, 131.0033,  680,    503.4,   7.5112,  34.3101,  34.3166,2,   -999.0,    115.5,2,  7.4617
  492SSY9607_1,  P08N,    06,  1,     12,     12,2,19960714,1239, 30.0817, 131.0033,  680,    603.3,   6.2695,  34.3010,  34.3009,2,   -999.0,     98.3,2,  6.2153
  492SSY9607_1,  P08N,    06,  1,     16,      8,2,19960714,1239, 30.0817, 131.0033,  680,    680.1,   4.9458,  34.3178,  34.3180,2,   -999.0,     82.3,2,  4.8912
  492SSY9607_1,  P08N,    06,  1,     15,      9,2,19960714,1239, 30.0817, 131.0033,  680,    680.9,   4.9458,  34.3189,  34.3162,2,   -999.0,     83.0,2,  4.8911
  492SSY9607_1,  P08N,    06,  1,     17,      7,2,19960714,1239, 30.0817, 131.0033,  680,    681.4,   4.9448,  34.3178,  34.3168,2,   -999.0,     83.6,2,  4.8901
  492SSY9607_1,  P08N,    06,  1,     18,      6,2,19960714,1239, 30.0817, 131.0033,  680,    685.0,   4.9448,  34.3179,  34.3205,2,   -999.0,     88.7,2,  4.8898
  492SSY9607_1,  P08N,    06,  1,     14,     10,2,19960714,1239, 30.0817, 131.0033,  680,    686.4,   4.9418,  34.3199,  34.3172,2,   -999.0,     84.7,2,  4.8867
  492SSY9607_1,  P08N,    06,  1,     19,      5,2,19960714,1239, 30.0817, 131.0033,  680,    690.8,   4.9298,  34.3198,  34.3213,2,   -999.0,     84.9,2,  4.8744
  492SSY9607_1,  P08N,    06,  1,     13,     11,2,19960714,1239, 30.0817, 131.0033,  680,    691.6,   4.9218,  34.3178,  34.3178,2,   -999.0,     84.7,2,  4.8664
  492SSY9607_1,  P08N,    06,  1,     20,      4,2,19960714,1239, 30.0817, 131.0033,  680,    694.9,   4.9198,  34.3209,  34.3207,2,   -999.0,     81.6,2,  4.8641
  492SSY9607_1,  P08N,    06,  1,     21,      3,2,19960714,1239, 30.0817, 131.0033,  680,    698.3,   4.8968,  34.3198,  34.3282,2,   -999.0,     85.2,2,  4.8409
  492SSY9607_1,  P08N,    06,  1,     22,      2,2,19960714,1239, 30.0817, 131.0033,  680,    700.9,   4.9058,  34.3208,  34.3209,2,   -999.0,     80.9,2,  4.8497
  492SSY9607_1,  P08N,    06,  1,     23,      1,2,19960714,1239, 30.0817, 131.0033,  680,    762.2,   4.3749,  34.3458,  34.3453,2,   -999.0,     80.2,2,  4.3166
  492SSY9607_1,  P08N,    07,  1,      1,     23,2,19960714,1446, 29.9150, 130.9200, 1370,     24.8,  28.9560,  34.1766,  34.2000,2,   -999.0,    200.5,2, 28.9501
  492SSY9607_1,  P08N,    07,  1,      2,     22,2,19960714,1446, 29.9150, 130.9200, 1370,     49.6,  28.0263,  34.2205,  34.1791,3,   -999.0,    203.3,2, 28.0146
  492SSY9607_1,  P08N,    07,  1,      3,     21,2,19960714,1446, 29.9150, 130.9200, 1370,     50.4,  28.0093,  34.2215,  34.2190,2,   -999.0,    205.0,2, 27.9974
  492SSY9607_1,  P08N,    07,  1,      4,     20,2,19960714,1446, 29.9150, 130.9200, 1370,     74.1,  25.3199,  34.5275,  34.5124,2,   -999.0,    210.6,2, 25.3037
  492SSY9607_1,  P08N,    07,  1,      5,     19,2,19960714,1446, 29.9150, 130.9200, 1370,    100.1,  24.2402,  34.6514,  34.6511,2,   -999.0,    206.7,2, 24.2190
  492SSY9607_1,  P08N,    07,  1,      6,     18,2,19960714,1446, 29.9150, 130.9200, 1370,    150.2,  22.6876,  34.7604,  34.7666,2,   -999.0,    198.3,2, 22.6572
  492SSY9607_1,  P08N,    07,  1,      7,     17,2,19960714,1446, 29.9150, 130.9200, 1370,    200.2,  20.6360,  34.8093,  34.8091,2,   -999.0,    192.4,2, 20.5982
  492SSY9607_1,  P08N,    07,  1,      8,     16,2,19960714,1446, 29.9150, 130.9200, 1370,    250.1,  15.6093,  34.6489,  34.6558,2,   -999.0,    175.7,2, 15.5704
  492SSY9607_1,  P08N,    07,  1,      9,     15,2,19960714,1446, 29.9150, 130.9200, 1370,    300.8,  14.5145,  34.5828,  34.5806,2,   -999.0,    169.5,2, 14.4700
  492SSY9607_1,  P08N,    07,  1,     10,     14,2,19960714,1446, 29.9150, 130.9200, 1370,    400.0,  10.2205,  34.4074,  34.4105,2,   -999.0,    140.9,2, 10.1734
  492SSY9607_1,  P08N,    07,  1,     11,     13,2,19960714,1446, 29.9150, 130.9200, 1370,    501.5,   7.3052,  34.3050,  34.3019,2,   -999.0,    112.3,2,  7.2567
  492SSY9607_1,  P08N,    07,  1,     12,     12,2,19960714,1446, 29.9150, 130.9200, 1370,    601.9,   6.1445,  34.2969,  34.3029,2,   -999.0,     98.5,2,  6.0911
  492SSY9607_1,  P08N,    07,  1,     13,     11,2,19960714,1446, 29.9150, 130.9200, 1370,    701.7,   4.9368,  34.2738,  34.2693,2,   -999.0,     87.1,2,  4.8805
  492SSY9607_1,  P08N,    07,  1,     14,     10,2,19960714,1446, 29.9150, 130.9200, 1370,    800.7,   4.4269,  34.3327,  34.3323,2,   -999.0,     77.5,2,  4.3651
  492SSY9607_1,  P08N,    07,  1,     15,      9,2,19960714,1446, 29.9150, 130.9200, 1370,    900.2,   3.9031,  34.3718,  34.3722,2,   -999.0,     61.3,2,  3.8364
  492SSY9607_1,  P08N,    07,  1,     16,      8,2,19960714,1446, 29.9150, 130.9200, 1370,   1002.7,   3.4582,  34.4158,  34.4129,2,   -999.0,     57.2,3,  3.3865
  492SSY9607_1,  P08N,    07,  1,     17,      7,2,19960714,1446, 29.9150, 130.9200, 1370,   1247.1,   2.8993,  34.4867,  34.4874,2,   -999.0,     65.1,3,  2.8131
  492SSY9607_1,  P08N,    07,  1,     18,      6,2,19960714,1446, 29.9150, 130.9200, 1370,   1247.4,   2.8983,  34.4867,  34.4847,2,   -999.0,     72.7,2,  2.8121
  492SSY9607_1,  P08N,    07,  1,     19,      5,2,19960714,1446, 29.9150, 130.9200, 1370,   1247.8,   2.8973,  34.4867,  34.5027,3,   -999.0,     68.4,2,  2.8110
  492SSY9607_1,  P08N,    07,  1,     20,      4,2,19960714,1446, 29.9150, 130.9200, 1370,   1248.2,   2.8973,  34.4867,  34.4841,2,   -999.0,     71.5,2,  2.8110
  492SSY9607_1,  P08N,    07,  1,     21,      3,2,19960714,1446, 29.9150, 130.9200, 1370,   1248.7,   2.8953,  34.4877,  34.4841,2,   -999.0,     68.4,3,  2.8090
  492SSY9607_1,  P08N,    07,  1,     22,      2,2,19960714,1446, 29.9150, 130.9200, 1370,   1249.9,   2.8963,  34.4867,  34.4833,2,   -999.0,     68.4,3,  2.8099
  492SSY9607_1,  P08N,    07,  1,     23,      1,2,19960714,1446, 29.9150, 130.9200, 1370,   1379.9,   2.7213,  34.5107,  34.5104,2,   -999.0,     72.7,3,  2.6264
  492SSY9607_1,  P08N,    08,  1,      1,     23,2,19960714,1751, 29.5817, 130.7017, 1300,      9.7,  29.3490,  34.1966,  34.2021,2,   -999.0,    198.2,2, 29.3466
  492SSY9607_1,  P08N,    08,  1,      2,     22,2,19960714,1751, 29.5817, 130.7017, 1300,     25.0,  29.0980,  34.1845,  34.1848,2,   -999.0,    199.0,2, 29.0920
  492SSY9607_1,  P08N,    08,  1,      3,     21,2,19960714,1751, 29.5817, 130.7017, 1300,     50.5,  27.4854,  34.2635,  34.2571,2,   -999.0,    207.7,2, 27.4737
  492SSY9607_1,  P08N,    08,  1,      4,     20,2,19960714,1751, 29.5817, 130.7017, 1300,     75.0,  25.7738,  34.4505,  34.4265,2,   -999.0,    215.8,2, 25.7572
  492SSY9607_1,  P08N,    08,  1,      5,     19,2,19960714,1751, 29.5817, 130.7017, 1300,    100.3,  24.5681,  34.6094,  34.6082,2,   -999.0,    156.4,3, 24.5466
  492SSY9607_1,  P08N,    08,  1,      6,     18,2,19960714,1751, 29.5817, 130.7017, 1300,    150.2,  22.2377,  34.8374,  34.8258,2,   -999.0,    156.4,3, 22.2077
  492SSY9607_1,  P08N,    08,  1,      7,     17,2,19960714,1751, 29.5817, 130.7017, 1300,    200.6,  20.0742,  34.8673,  34.8656,2,   -999.0,    187.7,2, 20.0370
  492SSY9607_1,  P08N,    08,  1,      8,     16,2,19960714,1751, 29.5817, 130.7017, 1300,    250.6,  17.7787,  34.7961,  34.7957,2,   -999.0,    187.3,2, 17.7360
  492SSY9607_1,  P08N,    08,  1,      9,     15,2,19960714,1751, 29.5817, 130.7017, 1300,    299.8,  16.6150,  34.7300,  34.7315,2,   -999.0,    178.4,2, 16.5663
  492SSY9607_1,  P08N,    08,  1,     10,     14,2,19960714,1751, 29.5817, 130.7017, 1300,    400.0,  13.7247,  34.5507,  34.5623,2,   -999.0,    170.0,2, 13.6675
  492SSY9607_1,  P08N,    08,  1,     11,     13,2,19960714,1751, 29.5817, 130.7017, 1300,    500.3,   8.9828,  34.3633,  34.3622,2,   -999.0,    127.6,2,  8.9281
  492SSY9607_1,  P08N,    08,  1,     12,     12,2,19960714,1751, 29.5817, 130.7017, 1300,    599.9,   5.9826,  34.3330,  34.3347,2,   -999.0,     84.7,2,  5.9300
  492SSY9607_1,  P08N,    08,  1,     13,     11,2,19960714,1751, 29.5817, 130.7017, 1300,    699.9,   4.7549,  34.3338,  34.3351,2,   -999.0,     70.4,2,  4.6996
  492SSY9607_1,  P08N,    08,  1,     14,     10,2,19960714,1751, 29.5817, 130.7017, 1300,    799.5,   3.7221,  34.3858,  34.3864,2,   -999.0,     62.1,2,  3.6646
  492SSY9607_1,  P08N,    08,  1,     15,      9,2,19960714,1751, 29.5817, 130.7017, 1300,    900.3,   3.3772,  34.4247,  34.4243,2,   -999.0,     58.1,3,  3.3141
  492SSY9607_1,  P08N,    08,  1,     16,      8,2,19960714,1751, 29.5817, 130.7017, 1300,   1000.7,   3.1632,  34.4516,  34.4524,2,   -999.0,     62.0,2,  3.0940
  492SSY9607_1,  P08N,    08,  1,     17,      7,2,19960714,1751, 29.5817, 130.7017, 1300,   1250.4,   2.8873,  34.4887,  34.4872,2,   -999.0,     67.4,3,  2.8009
  492SSY9607_1,  P08N,    08,  1,     18,      6,2,19960714,1751, 29.5817, 130.7017, 1300,   1250.7,   2.8873,  34.4877,  34.4876,2,   -999.0,     68.8,3,  2.8009
  492SSY9607_1,  P08N,    08,  1,     20,      4,2,19960714,1751, 29.5817, 130.7017, 1300,   1250.7,   2.8873,  34.4877,  34.4906,2,   -999.0,     68.1,3,  2.8009
  492SSY9607_1,  P08N,    08,  1,     22,      2,2,19960714,1751, 29.5817, 130.7017, 1300,   1250.7,   2.8873,  34.4877,  34.4898,2,   -999.0,     69.0,3,  2.8009
  492SSY9607_1,  P08N,    08,  1,     19,      5,2,19960714,1751, 29.5817, 130.7017, 1300,   1250.8,   2.8863,  34.4887,  34.4921,2,   -999.0,     67.7,3,  2.7999
  492SSY9607_1,  P08N,    08,  1,     21,      3,2,19960714,1751, 29.5817, 130.7017, 1300,   1250.8,   2.8873,  34.4877,  34.4882,2,   -999.0,     68.0,3,  2.8009
  492SSY9607_1,  P08N,    08,  1,     23,      1,2,19960714,1751, 29.5817, 130.7017, 1300,   1299.8,   2.8663,  34.4917,  34.4923,2,   -999.0,     69.7,3,  2.7762
  492SSY9607_1,  P08N,    17,  1,      1,     23,2,19960718,0506, 27.1650, 131.1683, 5060,     51.7,  23.7443,  34.7415,  34.7331,2,   -999.0,    230.8,2, 23.7335
  492SSY9607_1,  P08N,    17,  1,      2,     22,2,19960718,0506, 27.1650, 131.1683, 5060,    101.1,  22.1677,  34.8614,  34.8583,2,   -999.0,    224.9,2, 22.1476
  492SSY9607_1,  P08N,    17,  1,      3,     21,2,19960718,0506, 27.1650, 131.1683, 5060,    199.6,  19.4623,  34.9173,  34.9165,2,   -999.0,    211.1,2, 19.4261
  492SSY9607_1,  P08N,    17,  1,      4,     20,2,19960718,0506, 27.1650, 131.1683, 5060,    299.3,  18.2456,  34.9172,  34.9165,2,   -999.0,   -999.0,5, 18.1936
  492SSY9607_1,  P08N,    17,  1,      5,     19,2,19960718,0506, 27.1650, 131.1683, 5060,    399.4,  16.6200,  34.7660,  34.7689,2,   -999.0,    209.7,2, 16.5549
  492SSY9607_1,  P08N,    17,  1,      6,     18,2,19960718,0506, 27.1650, 131.1683, 5060,    499.8,  14.0936,  34.5508,  34.5533,2,   -999.0,    196.9,2, 14.0207
  492SSY9607_1,  P08N,    17,  1,      7,     17,2,19960718,0506, 27.1650, 131.1683, 5060,    600.0,  10.6624,  34.3194,  34.3184,2,   -999.0,    171.8,2, 10.5892
  492SSY9607_1,  P08N,    17,  1,      8,     16,2,19960718,0506, 27.1650, 131.1683, 5060,    701.2,   8.0031,  34.2011,  34.2096,2,   -999.0,    133.4,2,  7.9307
  492SSY9607_1,  P08N,    17,  1,      9,     15,2,19960718,0506, 27.1650, 131.1683, 5060,    802.0,   6.1395,  34.2000,  34.1970,2,   -999.0,    111.5,2,  6.0674
  492SSY9607_1,  P08N,    17,  1,     10,     14,2,19960718,0506, 27.1650, 131.1683, 5060,    901.7,   5.0678,  34.2778,  34.2866,2,   -999.0,     90.2,2,  4.9932
  492SSY9607_1,  P08N,    17,  1,     11,     13,2,19960718,0506, 27.1650, 131.1683, 5060,   1001.8,   4.3620,  34.3628,  34.3602,2,   -999.0,     80.4,2,  4.2836
  492SSY9607_1,  P08N,    17,  1,     12,     12,2,19960718,0506, 27.1650, 131.1683, 5060,   1250.3,   3.1822,  34.4617,  34.4599,2,   -999.0,     78.6,2,  3.0931
  492SSY9607_1,  P08N,    17,  1,     13,     11,2,19960718,0506, 27.1650, 131.1683, 5060,   1502.1,   2.6184,  34.5297,  34.5269,2,   -999.0,     93.6,2,  2.5147
  492SSY9607_1,  P08N,    17,  1,     14,     10,2,19960718,0506, 27.1650, 131.1683, 5060,   1750.0,   2.2855,  34.5767,  34.5735,2,   -999.0,    105.2,2,  2.1656
  492SSY9607_1,  P08N,    17,  1,     15,      9,2,19960718,0506, 27.1650, 131.1683, 5060,   2002.4,   2.0205,  34.6147,  34.6127,2,   -999.0,    125.3,2,  1.8834
  492SSY9607_1,  P08N,    17,  1,     16,      8,2,19960718,0506, 27.1650, 131.1683, 5060,   2251.6,   1.8885,  34.6337,  34.6343,2,   -999.0,    133.4,2,  1.7322
  492SSY9607_1,  P08N,    17,  1,     17,      7,2,19960718,0506, 27.1650, 131.1683, 5060,   2500.2,   1.7826,  34.6487,  34.6475,2,   -999.0,    141.3,2,  1.6061
  492SSY9607_1,  P08N,    17,  1,     18,      6,2,19960718,0506, 27.1650, 131.1683, 5060,   2998.5,   1.6126,  34.6707,  34.6721,2,   -999.0,    148.9,2,  1.3933
  492SSY9607_1,  P08N,    17,  1,     19,      5,2,19960718,0506, 27.1650, 131.1683, 5060,   3501.0,   1.5596,  34.6798,  34.6780,2,   -999.0,    161.3,2,  1.2917
  492SSY9607_1,  P08N,    17,  1,     20,      4,2,19960718,0506, 27.1650, 131.1683, 5060,   4001.2,   1.5636,  34.6848,  34.6821,2,   -999.0,    154.9,3,  1.2427
  492SSY9607_1,  P08N,    17,  1,     21,      3,2,19960718,0506, 27.1650, 131.1683, 5060,   4501.4,   1.5956,  34.6868,  34.6833,2,   -999.0,    170.0,2,  1.2174
  492SSY9607_1,  P08N,    17,  1,     22,      2,2,19960718,0506, 27.1650, 131.1683, 5060,   5000.4,   1.6506,  34.6878,  34.6845,2,   -999.0,   -999.0,5,  1.2112
  492SSY9607_1,  P08N,    17,  1,     23,      1,2,19960718,0506, 27.1650, 131.1683, 5060,   5340.0,   1.6916,  34.6879,  34.6871,2,   -999.0,    172.9,2,  1.2084
  492SSY9607_1,  P08N,    18,  1,      1,     23,2,19960718,0854, 26.9233, 131.1617, 5500,     51.8,  24.3032,  34.6444,  34.6331,2,   -999.0,    225.2,2, 24.2922
  492SSY9607_1,  P08N,    18,  1,      2,     22,2,19960718,0854, 26.9233, 131.1617, 5500,    101.2,  22.6336,  34.8764,  34.8704,2,   -999.0,    229.6,2, 22.6131
  492SSY9607_1,  P08N,    18,  1,      3,     21,2,19960718,0854, 26.9233, 131.1617, 5500,    200.9,  20.2451,  34.9123,  34.9111,2,   -999.0,    210.2,2, 20.2076
  492SSY9607_1,  P08N,    18,  1,      4,     20,2,19960718,0854, 26.9233, 131.1617, 5500,    301.6,  18.4666,  34.9252,  34.9269,2,   -999.0,    218.5,2, 18.4137
  492SSY9607_1,  P08N,    18,  1,      5,     19,2,19960718,0854, 26.9233, 131.1617, 5500,    400.4,  16.5220,  34.7570,  34.7565,2,   -999.0,    201.5,2, 16.4570
  492SSY9607_1,  P08N,    18,  1,      6,     18,2,19960718,0854, 26.9233, 131.1617, 5500,    502.5,  14.1516,  34.5538,  34.5564,2,   -999.0,    188.5,2, 14.0780
  492SSY9607_1,  P08N,    18,  1,      7,     17,2,19960718,0854, 26.9233, 131.1617, 5500,    600.3,  10.4275,  34.3114,  34.3117,2,   -999.0,    169.9,2, 10.3553
  492SSY9607_1,  P08N,    18,  1,      8,     16,2,19960718,0854, 26.9233, 131.1617, 5500,    702.4,   7.9621,  34.2071,  34.2064,2,   -999.0,    134.5,2,  7.8898
  492SSY9607_1,  P08N,    18,  1,      9,     15,2,19960718,0854, 26.9233, 131.1617, 5500,    800.8,   6.2725,  34.1919,  34.1970,2,   -999.0,    111.5,2,  6.1996
  492SSY9607_1,  P08N,    18,  1,     10,     14,2,19960718,0854, 26.9233, 131.1617, 5500,    901.0,   5.2197,  34.2689,  34.2820,3,   -999.0,     90.2,2,  5.1442
  492SSY9607_1,  P08N,    18,  1,     11,     13,2,19960718,0854, 26.9233, 131.1617, 5500,   1000.8,   4.3769,  34.3287,  34.3284,2,   -999.0,     75.3,2,  4.2986
  492SSY9607_1,  P08N,    18,  1,     12,     12,2,19960718,0854, 26.9233, 131.1617, 5500,   1252.5,   3.2512,  34.4558,  34.4561,2,   -999.0,     78.1,2,  3.1613
  492SSY9607_1,  P08N,    18,  1,     13,     11,2,19960718,0854, 26.9233, 131.1617, 5500,   1502.9,   2.6794,  34.5217,  34.5263,2,   -999.0,     87.1,2,  2.5749
  492SSY9607_1,  P08N,    18,  1,     14,     10,2,19960718,0854, 26.9233, 131.1617, 5500,   1754.2,   2.2835,  34.5766,  34.5745,2,   -999.0,    104.6,2,  2.1633
  492SSY9607_1,  P08N,    18,  1,     15,      9,2,19960718,0854, 26.9233, 131.1617, 5500,   2002.9,   2.0515,  34.6107,  34.6190,3,   -999.0,    126.9,2,  1.9139
  492SSY9607_1,  P08N,    18,  1,     16,      8,2,19960718,0854, 26.9233, 131.1617, 5500,   2250.3,   1.8945,  34.6326,  34.6345,2,   -999.0,    131.9,2,  1.7382
  492SSY9607_1,  P08N,    18,  1,     17,      7,2,19960718,0854, 26.9233, 131.1617, 5500,   2500.7,   1.7786,  34.6477,  34.6438,2,   -999.0,    135.5,2,  1.6021
  492SSY9607_1,  P08N,    18,  1,     18,      6,2,19960718,0854, 26.9233, 131.1617, 5500,   3000.4,   1.6116,  34.6688,  34.6690,2,   -999.0,    151.4,2,  1.3921
  492SSY9607_1,  P08N,    18,  1,     19,      5,2,19960718,0854, 26.9233, 131.1617, 5500,   3499.2,   1.5626,  34.6797,  34.6770,2,   -999.0,    161.5,2,  1.2948
  492SSY9607_1,  P08N,    18,  1,     20,      4,2,19960718,0854, 26.9233, 131.1617, 5500,   3992.8,   1.5746,  34.6838,  34.6814,2,   -999.0,    154.1,3,  1.2543
  492SSY9607_1,  P08N,    18,  1,     21,      3,2,19960718,0854, 26.9233, 131.1617, 5500,   4499.8,   1.6036,  34.6868,  34.6884,2,   -999.0,    163.4,2,  1.2254
  492SSY9607_1,  P08N,    18,  1,     22,      2,2,19960718,0854, 26.9233, 131.1617, 5500,   4999.7,   1.6536,  34.6879,  34.6873,2,   -999.0,    165.8,2,  1.2142
  492SSY9607_1,  P08N,    18,  1,     23,      1,2,19960718,0854, 26.9233, 131.1617, 5500,   5085.8,   1.6626,  34.6879,  34.6869,2,   -999.0,    170.4,2,  1.2123