BOTTLE,20020620WHPSIOSA
EXPOCODE,SECT_ID,STNNBR,CASTNO,SAMPNO,BTLNBR,BTLNBR_FLAG_W,DATE,TIME,LATITUDE,LONGITUDE,DEPTH,CTDPRS,CTDTMP,CTDSAL,SALNTY,SALNTY_FLAG_W,CTDOXY,OXYGEN,OXYGEN_FLAG_W,THETA
,,,,,,,,,,,,DBAR,ITS-90,PSS-78,PSS-78,,UMOL/KG,UMOL/KG,,ITS-90
  492SSY9607_1,  P08N,    24,  1,      1,     23,2,19960719,0842, 25.9083, 129.4250, 6200,    101.3,  20.2551,  34.9153,  34.9159,2,   -999.0,    210.1,2, 20.2363
  492SSY9607_1,  P08N,    24,  1,      2,     22,2,19960719,0842, 25.9083, 129.4250, 6200,    200.5,  18.3696,  34.9172,  34.9161,2,   -999.0,    209.8,2, 18.3347
  492SSY9607_1,  P08N,    24,  1,      3,     21,2,19960719,0842, 25.9083, 129.4250, 6200,    299.9,  17.0799,  34.8080,  34.8046,2,   -999.0,    200.1,2, 17.0302
  492SSY9607_1,  P08N,    24,  1,      4,     20,2,19960719,0842, 25.9083, 129.4250, 6200,    400.7,  14.9854,  34.6258,  34.6274,2,   -999.0,    186.4,2, 14.9246
  492SSY9607_1,  P08N,    24,  1,      5,     19,2,19960719,0842, 25.9083, 129.4250, 6200,    501.0,  12.1591,  34.4086,  34.4133,2,   -999.0,    171.2,2, 12.0928
  492SSY9607_1,  P08N,    24,  1,      6,     18,2,19960719,0842, 25.9083, 129.4250, 6200,    601.0,   9.8326,  34.2683,  34.2669,2,   -999.0,    156.2,2,  9.7629
  492SSY9607_1,  P08N,    24,  1,      7,     17,2,19960719,0842, 25.9083, 129.4250, 6200,    700.8,   7.4552,  34.2080,  34.1996,2,   -999.0,    125.8,2,  7.3857
  492SSY9607_1,  P08N,    24,  1,      8,     16,2,19960719,0842, 25.9083, 129.4250, 6200,    801.6,   6.1415,  34.2430,  34.1495,3,   -999.0,     96.4,2,  6.0693
  492SSY9607_1,  P08N,    24,  1,      9,     15,2,19960719,0842, 25.9083, 129.4250, 6200,    900.5,   5.1478,  34.2998,  34.2993,2,   -999.0,     81.3,2,  5.0727
  492SSY9607_1,  P08N,    24,  1,     10,     14,2,19960719,0842, 25.9083, 129.4250, 6200,   1001.6,   4.1130,  34.3737,  34.3895,3,   -999.0,     72.8,2,  4.0365
  492SSY9607_1,  P08N,    24,  1,     11,     13,2,19960719,0842, 25.9083, 129.4250, 6200,   1251.1,   3.0573,  34.4787,  34.4788,2,   -999.0,     72.1,2,  2.9692
  492SSY9607_1,  P08N,    24,  1,     12,     12,2,19960719,0842, 25.9083, 129.4250, 6200,   1499.6,   2.5894,  34.5347,  34.5379,2,   -999.0,     87.3,2,  2.4862
  492SSY9607_1,  P08N,    24,  1,     13,     11,2,19960719,0842, 25.9083, 129.4250, 6200,   1750.7,   2.2425,  34.5836,  34.6180,3,   -999.0,    102.3,2,  2.1231
  492SSY9607_1,  P08N,    24,  1,     14,     10,2,19960719,0842, 25.9083, 129.4250, 6200,   1999.9,   1.9855,  34.6187,  34.6184,2,   -999.0,    117.4,2,  1.8491
  492SSY9607_1,  P08N,    24,  1,     15,      9,2,19960719,0842, 25.9083, 129.4250, 6200,   2502.2,   1.7186,  34.6546,  34.6538,2,   -999.0,   -999.0,5,  1.5431
  492SSY9607_1,  P08N,    24,  1,     16,      8,2,19960719,0842, 25.9083, 129.4250, 6200,   2999.4,   1.6026,  34.6707,  34.6705,2,   -999.0,    145.4,2,  1.3834
  492SSY9607_1,  P08N,    24,  1,     17,      7,2,19960719,0842, 25.9083, 129.4250, 6200,   3498.2,   1.5566,  34.6798,  34.6786,2,   -999.0,    151.3,2,  1.2891
  492SSY9607_1,  P08N,    24,  1,     18,      6,2,19960719,0842, 25.9083, 129.4250, 6200,   4000.3,   1.5706,  34.6838,  34.6821,2,   -999.0,   -999.0,5,  1.2496
  492SSY9607_1,  P08N,    24,  1,     19,      5,2,19960719,0842, 25.9083, 129.4250, 6200,   4500.4,   1.6026,  34.6858,  34.6829,2,   -999.0,    156.4,2,  1.2243
  492SSY9607_1,  P08N,    24,  1,     20,      4,2,19960719,0842, 25.9083, 129.4250, 6200,   5000.4,   1.6506,  34.6878,  34.6894,2,   -999.0,    158.2,2,  1.2112
  492SSY9607_1,  P08N,    24,  1,     21,      3,2,19960719,0842, 25.9083, 129.4250, 6200,   5500.9,   1.7106,  34.6879,  34.5922,3,   -999.0,    158.3,2,  1.2062
  492SSY9607_1,  P08N,    24,  1,     22,      2,2,19960719,0842, 25.9083, 129.4250, 6200,   6000.4,   1.7796,  34.6879,  34.6902,2,   -999.0,    154.5,3,  1.2067
  492SSY9607_1,  P08N,    24,  1,     23,      1,2,19960719,0842, 25.9083, 129.4250, 6200,   6216.9,   1.8106,  34.6869,  34.6784,3,   -999.0,    156.5,3,  1.2070
  492SSY9607_1,  P08N,    25,  1,      1,     23,2,19960719,1407, 25.8317, 128.8317, 5500,    100.2,  20.2661,  34.9013,  34.9019,2,   -999.0,    221.7,2, 20.2474
  492SSY9607_1,  P08N,    25,  1,      2,     22,2,19960719,1407, 25.8317, 128.8317, 5500,    200.2,  18.2676,  34.9002,  34.9017,2,   -999.0,    205.7,2, 18.2329
  492SSY9607_1,  P08N,    25,  1,      3,     21,2,19960719,1407, 25.8317, 128.8317, 5500,    300.5,  16.7900,  34.7820,  34.7922,2,   -999.0,    200.9,2, 16.7407
  492SSY9607_1,  P08N,    25,  1,      4,     20,2,19960719,1407, 25.8317, 128.8317, 5500,    400.0,  14.5435,  34.5898,  34.5918,2,   -999.0,    182.9,2, 14.4840
  492SSY9607_1,  P08N,    25,  1,      5,     19,2,19960719,1407, 25.8317, 128.8317, 5500,    499.5,  11.9401,  34.3996,  34.4035,2,   -999.0,    171.5,2, 11.8749
  492SSY9607_1,  P08N,    25,  1,      6,     18,2,19960719,1407, 25.8317, 128.8317, 5500,    599.2,   9.4437,  34.2893,  34.3915,3,   -999.0,    144.6,2,  9.3759
  492SSY9607_1,  P08N,    25,  1,      7,     17,2,19960719,1407, 25.8317, 128.8317, 5500,    700.5,   7.2493,  34.2431,  34.2420,2,   -999.0,    116.6,2,  7.1809
  492SSY9607_1,  P08N,    25,  1,      8,     16,2,19960719,1407, 25.8317, 128.8317, 5500,    799.5,   5.7126,  34.2449,  34.2485,2,   -999.0,     89.4,2,  5.6432
  492SSY9607_1,  P08N,    25,  1,      9,     15,2,19960719,1407, 25.8317, 128.8317, 5500,    900.8,   4.7749,  34.3178,  34.3190,2,   -999.0,     73.4,2,  4.7023
  492SSY9607_1,  P08N,    25,  1,     10,     14,2,19960719,1407, 25.8317, 128.8317, 5500,   1000.5,   4.1190,  34.3787,  34.3846,2,   -999.0,     70.0,2,  4.0426
  492SSY9607_1,  P08N,    25,  1,     11,     13,2,19960719,1407, 25.8317, 128.8317, 5500,   1249.7,   3.0633,  34.4797,  34.4805,2,   -999.0,     71.3,2,  2.9753
  492SSY9607_1,  P08N,    25,  1,     12,     12,2,19960719,1407, 25.8317, 128.8317, 5500,   1499.6,   2.5514,  34.5376,  34.5379,2,   -999.0,     87.5,2,  2.4487
  492SSY9607_1,  P08N,    25,  1,     13,     11,2,19960719,1407, 25.8317, 128.8317, 5500,   1750.9,   2.2035,  34.5887,  34.5926,2,   -999.0,    103.7,2,  2.0846
  492SSY9607_1,  P08N,    25,  1,     14,     10,2,19960719,1407, 25.8317, 128.8317, 5500,   2000.6,   1.9825,  34.6177,  34.6231,2,   -999.0,    117.0,2,  1.8461
  492SSY9607_1,  P08N,    25,  1,     15,      9,2,19960719,1407, 25.8317, 128.8317, 5500,   2250.4,   1.8306,  34.6406,  34.6406,2,   -999.0,    127.1,2,  1.6753
  492SSY9607_1,  P08N,    25,  1,     16,      8,2,19960719,1407, 25.8317, 128.8317, 5500,   2498.3,   1.7216,  34.6556,  34.6568,2,   -999.0,    134.3,2,  1.5464
  492SSY9607_1,  P08N,    25,  1,     17,      7,2,19960719,1407, 25.8317, 128.8317, 5500,   3000.5,   1.5826,  34.6727,  34.6398,3,   -999.0,    140.2,2,  1.3637
  492SSY9607_1,  P08N,    25,  1,     18,      6,2,19960719,1407, 25.8317, 128.8317, 5500,   3499.4,   1.5506,  34.6807,  34.6819,2,   -999.0,    152.6,2,  1.2831
  492SSY9607_1,  P08N,    25,  1,     19,      5,2,19960719,1407, 25.8317, 128.8317, 5500,   3997.6,   1.5606,  34.6847,  34.6879,2,   -999.0,    154.1,2,  1.2401
  492SSY9607_1,  P08N,    25,  1,     20,      4,2,19960719,1407, 25.8317, 128.8317, 5500,   4499.9,   1.5956,  34.6868,  34.6861,2,   -999.0,    156.0,2,  1.2176
  492SSY9607_1,  P08N,    25,  1,     21,      3,2,19960719,1407, 25.8317, 128.8317, 5500,   5001.1,   1.6476,  34.6878,  34.6969,3,   -999.0,    158.1,2,  1.2082
  492SSY9607_1,  P08N,    25,  1,     22,      2,2,19960719,1407, 25.8317, 128.8317, 5500,   5500.2,   1.7106,  34.6879,  34.6857,2,   -999.0,    159.0,2,  1.2063
  492SSY9607_1,  P08N,    25,  1,     23,      1,2,19960719,1407, 25.8317, 128.8317, 5500,   5602.0,   1.7246,  34.6879,  34.6867,2,   -999.0,    159.1,2,  1.2066
  492SSY9607_1,  P08N,    26,  1,      1,     23,2,19960719,1827, 25.4983, 128.8333, 7510,     97.8,  20.4441,  34.9013,  34.8995,2,   -999.0,    221.7,2, 20.4257
  492SSY9607_1,  P08N,    26,  1,      2,     22,2,19960719,1827, 25.4983, 128.8333, 7510,    202.2,  18.0817,  34.8912,  34.8944,2,   -999.0,    204.7,2, 18.0468
  492SSY9607_1,  P08N,    26,  1,      3,     21,2,19960719,1827, 25.4983, 128.8333, 7510,    301.2,  16.8610,  34.7931,  34.7938,2,   -999.0,    198.9,2, 16.8115
  492SSY9607_1,  P08N,    26,  1,      4,     20,2,19960719,1827, 25.4983, 128.8333, 7510,    400.6,  14.5785,  34.5928,  34.5969,2,   -999.0,    183.9,2, 14.5188
  492SSY9607_1,  P08N,    26,  1,      5,     19,2,19960719,1827, 25.4983, 128.8333, 7510,    499.5,  11.7042,  34.3815,  34.3850,2,   -999.0,    168.1,2, 11.6398
  492SSY9607_1,  P08N,    26,  1,      6,     18,2,19960719,1827, 25.4983, 128.8333, 7510,    600.2,   9.1998,  34.2733,  34.2734,2,   -999.0,    142.5,2,  9.1329
  492SSY9607_1,  P08N,    26,  1,      7,     17,2,19960719,1827, 25.4983, 128.8333, 7510,    701.5,   7.0733,  34.2051,  34.2031,2,   -999.0,    115.5,2,  7.0058
  492SSY9607_1,  P08N,    26,  1,      8,     16,2,19960719,1827, 25.4983, 128.8333, 7510,    799.9,   5.6896,  34.2689,  34.2712,2,   -999.0,     88.1,2,  5.6203
  492SSY9607_1,  P08N,    26,  1,      9,     15,2,19960719,1827, 25.4983, 128.8333, 7510,    898.5,   4.7799,  34.3018,  34.3031,2,   -999.0,     73.0,2,  4.7075
  492SSY9607_1,  P08N,    26,  1,     10,     14,2,19960719,1827, 25.4983, 128.8333, 7510,   1000.4,   4.1780,  34.3948,  34.3899,2,   -999.0,     72.1,2,  4.1011
  492SSY9607_1,  P08N,    26,  1,     11,     13,2,19960719,1827, 25.4983, 128.8333, 7510,   1249.9,   3.1063,  34.4747,  34.4715,2,   -999.0,     70.5,2,  3.0179
  492SSY9607_1,  P08N,    26,  1,     12,     12,2,19960719,1827, 25.4983, 128.8333, 7510,   1499.6,   2.5904,  34.5316,  34.5281,2,   -999.0,     82.6,2,  2.4872
  492SSY9607_1,  P08N,    26,  1,     13,     11,2,19960719,1827, 25.4983, 128.8333, 7510,   1749.1,   2.2535,  34.5787,  34.5796,2,   -999.0,     99.9,2,  2.1341
  492SSY9607_1,  P08N,    26,  1,     14,     10,2,19960719,1827, 25.4983, 128.8333, 7510,   2000.8,   2.0155,  34.6157,  34.6176,2,   -999.0,    116.6,2,  1.8786
  492SSY9607_1,  P08N,    26,  1,     15,      9,2,19960719,1827, 25.4983, 128.8333, 7510,   2497.6,   1.7826,  34.6517,  34.6528,2,   -999.0,    132.1,2,  1.6063
  492SSY9607_1,  P08N,    26,  1,     16,      8,2,19960719,1827, 25.4983, 128.8333, 7510,   2999.8,   1.6216,  34.6697,  34.6656,2,   -999.0,    148.8,3,  1.4020
  492SSY9607_1,  P08N,    26,  1,     17,      7,2,19960719,1827, 25.4983, 128.8333, 7510,   3500.4,   1.5676,  34.6788,  34.6788,2,   -999.0,    150.6,2,  1.2996
  492SSY9607_1,  P08N,    26,  1,     18,      6,2,19960719,1827, 25.4983, 128.8333, 7510,   3999.2,   1.5706,  34.6838,  34.6835,2,   -999.0,    155.0,2,  1.2497
  492SSY9607_1,  P08N,    26,  1,     19,      5,2,19960719,1827, 25.4983, 128.8333, 7510,   4500.9,   1.6026,  34.6868,  34.6853,2,   -999.0,    156.1,2,  1.2243
  492SSY9607_1,  P08N,    26,  1,     20,      4,2,19960719,1827, 25.4983, 128.8333, 7510,   5001.6,   1.6516,  34.6879,  34.6865,2,   -999.0,    157.3,2,  1.2120
  492SSY9607_1,  P08N,    26,  1,     21,      3,2,19960719,1827, 25.4983, 128.8333, 7510,   5499.1,   1.7116,  34.6879,  34.6904,2,   -999.0,    158.3,2,  1.2074
  492SSY9607_1,  P08N,    26,  1,     22,      2,2,19960719,1827, 25.4983, 128.8333, 7510,   5999.3,   1.7796,  34.6879,  34.6884,2,   -999.0,    158.5,2,  1.2069
  492SSY9607_1,  P08N,    26,  1,     23,      1,3,19960719,1827, 25.4983, 128.8333, 7510,   6500.8,   1.8526,  34.6870,  34.6619,3,   -999.0,    151.8,3,  1.2078
  492SSY9607_1,  P08N,    27,  1,      1,     23,2,19960720,0024, 25.1717, 129.4150, 4950,     50.3,  22.5106,  34.8054,  34.8006,2,   -999.0,    230.5,2, 22.5005
  492SSY9607_1,  P08N,    27,  1,      2,     22,2,19960720,0024, 25.1717, 129.4150, 4950,     99.2,  20.1222,  34.9103,  34.9084,2,   -999.0,    224.5,2, 20.1038
  492SSY9607_1,  P08N,    27,  1,      3,     21,2,19960720,0024, 25.1717, 129.4150, 4950,    200.8,  18.1576,  34.9151,  34.9139,2,   -999.0,    211.5,2, 18.1229
  492SSY9607_1,  P08N,    27,  1,      4,     20,2,19960720,0024, 25.1717, 129.4150, 4950,    300.6,  16.7760,  34.7811,  34.7878,2,   -999.0,    197.6,2, 16.7267
  492SSY9607_1,  P08N,    27,  1,      5,     19,2,19960720,0024, 25.1717, 129.4150, 4950,    399.8,  14.4995,  34.5848,  34.5853,2,   -999.0,    180.7,2, 14.4402
  492SSY9607_1,  P08N,    27,  1,      6,     18,2,19960720,0024, 25.1717, 129.4150, 4950,    500.5,  11.5022,  34.3665,  34.3703,2,   -999.0,    169.7,2, 11.4384
  492SSY9607_1,  P08N,    27,  1,      7,     17,2,19960720,0024, 25.1717, 129.4150, 4950,    600.2,   8.9688,  34.2242,  34.2253,2,   -999.0,    149.2,2,  8.9030
  492SSY9607_1,  P08N,    27,  1,      8,     16,2,19960720,0024, 25.1717, 129.4150, 4950,    702.0,   7.0453,  34.1960,  34.1962,2,   -999.0,    115.5,2,  6.9779
  492SSY9607_1,  P08N,    27,  1,      9,     15,2,19960720,0024, 25.1717, 129.4150, 4950,    799.8,   6.1195,  34.2799,  34.2795,2,   -999.0,     92.7,2,  6.0476
  492SSY9607_1,  P08N,    27,  1,     10,     14,2,19960720,0024, 25.1717, 129.4150, 4950,    900.5,   5.2717,  34.3609,  34.3699,2,   -999.0,     83.5,2,  5.1957
  492SSY9607_1,  P08N,    27,  1,     11,     13,2,19960720,0024, 25.1717, 129.4150, 4950,   1000.1,   4.2250,  34.3737,  34.3756,2,   -999.0,     67.6,2,  4.1478
  492SSY9607_1,  P08N,    27,  1,     12,     12,2,19960720,0024, 25.1717, 129.4150, 4950,   1250.1,   3.1013,  34.4747,  34.4752,2,   -999.0,     71.8,2,  3.0129
  492SSY9607_1,  P08N,    27,  1,     13,     11,2,19960720,0024, 25.1717, 129.4150, 4950,   1502.1,   2.5504,  34.5396,  34.5385,2,   -999.0,     86.3,2,  2.4475
  492SSY9607_1,  P08N,    27,  1,     14,     10,2,19960720,0024, 25.1717, 129.4150, 4950,   1750.9,   2.2395,  34.5827,  34.5779,2,   -999.0,    101.5,2,  2.1201
  492SSY9607_1,  P08N,    27,  1,     15,      9,2,19960720,0024, 25.1717, 129.4150, 4950,   2000.8,   2.0055,  34.6157,  34.6147,2,   -999.0,    115.5,2,  1.8687
  492SSY9607_1,  P08N,    27,  1,     16,      8,2,19960720,0024, 25.1717, 129.4150, 4950,   2250.3,   1.8696,  34.6357,  34.6347,2,   -999.0,    125.1,2,  1.7136
  492SSY9607_1,  P08N,    27,  1,     17,      7,2,19960720,0024, 25.1717, 129.4150, 4950,   2499.9,   1.7666,  34.6507,  34.6477,2,   -999.0,    132.1,2,  1.5904
  492SSY9607_1,  P08N,    27,  1,     18,      6,2,19960720,0024, 25.1717, 129.4150, 4950,   3000.0,   1.6186,  34.6697,  34.6705,2,   -999.0,    143.6,2,  1.3990
  492SSY9607_1,  P08N,    27,  1,     19,      5,2,19960720,0024, 25.1717, 129.4150, 4950,   3500.1,   1.5666,  34.6788,  34.6792,2,   -999.0,    150.5,2,  1.2986
  492SSY9607_1,  P08N,    27,  1,     20,      4,2,19960720,0024, 25.1717, 129.4150, 4950,   3999.0,   1.5706,  34.6837,  34.6831,2,   -999.0,    153.3,2,  1.2497
  492SSY9607_1,  P08N,    27,  1,     21,      3,2,19960720,0024, 25.1717, 129.4150, 4950,   4500.5,   1.5996,  34.6868,  34.6884,2,   -999.0,    157.2,2,  1.2214
  492SSY9607_1,  P08N,    27,  1,     22,      2,2,19960720,0024, 25.1717, 129.4150, 4950,   5001.7,   1.6486,  34.6878,  34.6896,2,   -999.0,    157.5,2,  1.2091
  492SSY9607_1,  P08N,    27,  1,     23,      1,2,19960720,0024, 25.1717, 129.4150, 4950,   5075.3,   1.6576,  34.6878,  34.6882,2,   -999.0,    158.1,2,  1.2087
  492SSY9607_1,  P08N,    28,  1,      1,     23,2,19960720,0607, 24.8300, 130.0000, 4370,     50.3,  24.4411,  34.7365,  34.7347,2,   -999.0,    221.5,2, 24.4304
  492SSY9607_1,  P08N,    28,  1,      2,     22,2,19960720,0607, 24.8300, 130.0000, 4370,    100.0,  21.6658,  34.9574,  34.9606,2,   -999.0,   -999.0,5, 21.6462
  492SSY9607_1,  P08N,    28,  1,      3,     21,2,19960720,0607, 24.8300, 130.0000, 4370,    149.8,  20.2061,  34.9463,  34.9446,2,   -999.0,    204.4,2, 20.1782
  492SSY9607_1,  P08N,    28,  1,      4,     20,2,19960720,0607, 24.8300, 130.0000, 4370,    201.4,  19.0944,  34.9303,  34.9306,2,   -999.0,    196.5,2, 19.0583
  492SSY9607_1,  P08N,    28,  1,      5,     19,2,19960720,0607, 24.8300, 130.0000, 4370,    250.2,  18.2186,  34.8832,  34.8816,2,   -999.0,    196.8,2, 18.1752
  492SSY9607_1,  P08N,    28,  1,      6,     18,2,19960720,0607, 24.8300, 130.0000, 4370,    300.2,  17.2019,  34.8191,  34.8219,2,   -999.0,    201.8,2, 17.1518
  492SSY9607_1,  P08N,    28,  1,      7,     17,2,19960720,0607, 24.8300, 130.0000, 4370,    400.3,  15.3533,  34.6509,  34.6528,2,   -999.0,    191.7,2, 15.2915
  492SSY9607_1,  P08N,    28,  1,      8,     16,2,19960720,0607, 24.8300, 130.0000, 4370,    500.1,  12.3020,  34.4156,  34.4182,2,   -999.0,    172.7,2, 12.2354
  492SSY9607_1,  P08N,    28,  1,      9,     15,2,19960720,0607, 24.8300, 130.0000, 4370,    600.3,   9.5817,  34.2393,  34.2400,2,   -999.0,    157.7,2,  9.5132
  492SSY9607_1,  P08N,    28,  1,     10,     14,2,19960720,0607, 24.8300, 130.0000, 4370,    701.2,   7.3262,  34.1550,  34.3427,3,   -999.0,    143.8,3,  7.2575
  492SSY9607_1,  P08N,    28,  1,     11,     13,2,19960720,0607, 24.8300, 130.0000, 4370,    800.5,   5.6057,  34.2069,  34.2078,2,   -999.0,     91.9,2,  5.5368
  492SSY9607_1,  P08N,    28,  1,     12,     12,2,19960720,0607, 24.8300, 130.0000, 4370,    899.2,   4.7469,  34.2708,  34.2718,2,   -999.0,     74.6,2,  4.6747
  492SSY9607_1,  P08N,    28,  1,     13,     11,2,19960720,0607, 24.8300, 130.0000, 4370,    999.2,   4.2570,  34.3678,  34.3689,2,   -999.0,     68.2,2,  4.1796
  492SSY9607_1,  P08N,    28,  1,     14,     10,2,19960720,0607, 24.8300, 130.0000, 4370,   1251.9,   3.1752,  34.4647,  34.4668,2,   -999.0,     70.0,2,  3.0860
  492SSY9607_1,  P08N,    28,  1,     15,      9,2,19960720,0607, 24.8300, 130.0000, 4370,   1499.3,   2.5644,  34.5397,  34.5401,2,   -999.0,     86.7,2,  2.4615
  492SSY9607_1,  P08N,    28,  1,     16,      8,2,19960720,0607, 24.8300, 130.0000, 4370,   1750.6,   2.2815,  34.5867,  34.5873,2,   -999.0,    103.5,2,  2.1616
  492SSY9607_1,  P08N,    28,  1,     17,      7,2,19960720,0607, 24.8300, 130.0000, 4370,   2001.1,   2.0165,  34.6177,  34.6074,3,   -999.0,    115.1,2,  1.8795
  492SSY9607_1,  P08N,    28,  1,     18,      6,2,19960720,0607, 24.8300, 130.0000, 4370,   2251.2,   1.8646,  34.6377,  34.6361,2,   -999.0,    126.2,2,  1.7086
  492SSY9607_1,  P08N,    28,  1,     19,      5,2,19960720,0607, 24.8300, 130.0000, 4370,   2500.9,   1.7636,  34.6507,  34.6507,2,   -999.0,    132.5,2,  1.5874
  492SSY9607_1,  P08N,    28,  1,     20,      4,2,19960720,0607, 24.8300, 130.0000, 4370,   3000.0,   1.6146,  34.6697,  34.6664,2,   -999.0,    143.5,2,  1.3951
  492SSY9607_1,  P08N,    28,  1,     21,      3,2,19960720,0607, 24.8300, 130.0000, 4370,   3500.6,   1.5606,  34.6798,  34.6843,2,   -999.0,    151.6,2,  1.2927
  492SSY9607_1,  P08N,    28,  1,     22,      2,2,19960720,0607, 24.8300, 130.0000, 4370,   4001.9,   1.5656,  34.6847,  34.6825,2,   -999.0,    153.3,2,  1.2445
  492SSY9607_1,  P08N,    28,  1,     23,      1,2,19960720,0607, 24.8300, 130.0000, 4370,   4435.7,   1.5866,  34.6878,  34.6713,3,   -999.0,    155.6,2,  1.2163