BOTTLE,20020620WHPSIOSA
EXPOCODE,SECT_ID,STNNBR,CASTNO,SAMPNO,BTLNBR,BTLNBR_FLAG_W,DATE,TIME,LATITUDE,LONGITUDE,DEPTH,CTDPRS,CTDTMP,CTDSAL,SALNTY,SALNTY_FLAG_W,CTDOXY,OXYGEN,OXYGEN_FLAG_W,THETA
,,,,,,,,,,,,DBAR,ITS-90,PSS-78,PSS-78,,UMOL/KG,UMOL/KG,,ITS-90
  492SSY9607_1,  P08N,    60,  1,      1,     23,2,19960727,0737, 11.0017, 129.9983, 5850,    100.8,  25.9268,  34.5982,  34.5887,2,   -999.0,    179.0,2, 25.9043
  492SSY9607_1,  P08N,    60,  1,      2,     22,2,19960727,0737, 11.0017, 129.9983, 5850,    199.8,  13.5467,  34.5258,  34.5299,2,   -999.0,    147.1,2, 13.5186
  492SSY9607_1,  P08N,    60,  1,      3,     21,2,19960727,0737, 11.0017, 129.9983, 5850,    300.7,   9.7687,  34.4555,  34.4597,2,   -999.0,     91.1,2,  9.7344
  492SSY9607_1,  P08N,    60,  1,      4,     20,2,19960727,0737, 11.0017, 129.9983, 5850,    400.8,   7.7002,  34.4252,  34.4239,2,   -999.0,     71.3,2,  7.6603
  492SSY9607_1,  P08N,    60,  1,      5,     19,2,19960727,0737, 11.0017, 129.9983, 5850,    501.1,   6.4764,  34.4254,  34.4249,2,   -999.0,     76.0,2,  6.4309
  492SSY9607_1,  P08N,    60,  1,      6,     18,2,19960727,0737, 11.0017, 129.9983, 5850,    600.1,   5.9156,  34.4760,  34.4752,2,   -999.0,     86.4,2,  5.8632
  492SSY9607_1,  P08N,    60,  1,      7,     17,2,19960727,0737, 11.0017, 129.9983, 5850,    699.8,   5.7476,  34.5320,  34.5287,2,   -999.0,     94.9,2,  5.6868
  492SSY9607_1,  P08N,    60,  1,      8,     16,2,19960727,0737, 11.0017, 129.9983, 5850,    801.2,   5.3457,  34.5267,  34.5242,2,   -999.0,     91.4,2,  5.2780
  492SSY9607_1,  P08N,    60,  1,      9,     15,2,19960727,0737, 11.0017, 129.9983, 5850,    899.5,   4.9858,  34.5345,  34.5344,2,   -999.0,     90.0,2,  4.9116
  492SSY9607_1,  P08N,    60,  1,     10,     14,2,19960727,0737, 11.0017, 129.9983, 5850,   1000.3,   4.5509,  34.5402,  34.5360,2,   -999.0,     89.5,2,  4.4709
  492SSY9607_1,  P08N,    60,  1,     11,     13,2,19960727,0737, 11.0017, 129.9983, 5850,   1248.4,   3.7141,  34.5627,  34.5610,2,   -999.0,     92.9,2,  3.6199
  492SSY9607_1,  P08N,    60,  1,     12,     12,2,19960727,0737, 11.0017, 129.9983, 5850,   1500.6,   3.0133,  34.5863,  34.5857,2,   -999.0,    100.4,2,  2.9051
  492SSY9607_1,  P08N,    60,  1,     13,     11,2,19960727,0737, 11.0017, 129.9983, 5850,   1750.1,   2.5374,  34.6120,  34.6133,2,   -999.0,    106.5,2,  2.4141
  492SSY9607_1,  P08N,    60,  1,     14,     10,2,19960727,0737, 11.0017, 129.9983, 5850,   2000.1,   2.2295,  34.6318,  34.6276,2,   -999.0,    115.2,2,  2.0893
  492SSY9607_1,  P08N,    60,  1,     15,      9,2,19960727,0737, 11.0017, 129.9983, 5850,   2249.8,   1.9795,  34.6458,  34.6424,2,   -999.0,    122.7,2,  1.8217
  492SSY9607_1,  P08N,    60,  1,     16,      8,2,19960727,0737, 11.0017, 129.9983, 5850,   2498.5,   1.8086,  34.6556,  34.6536,2,   -999.0,    129.1,2,  1.6317
  492SSY9607_1,  P08N,    60,  1,     17,      7,2,19960727,0737, 11.0017, 129.9983, 5850,   3000.3,   1.6216,  34.6698,  34.6701,2,   -999.0,    141.3,2,  1.4019
  492SSY9607_1,  P08N,    60,  1,     18,      6,2,19960727,0737, 11.0017, 129.9983, 5850,   3500.9,   1.5636,  34.6778,  34.6784,2,   -999.0,    149.8,2,  1.2956
  492SSY9607_1,  P08N,    60,  1,     19,      5,2,19960727,0737, 11.0017, 129.9983, 5850,   4000.9,   1.5716,  34.6810,  34.6814,2,   -999.0,    152.6,2,  1.2505
  492SSY9607_1,  P08N,    60,  1,     20,      4,2,19960727,0737, 11.0017, 129.9983, 5850,   4501.5,   1.6186,  34.6823,  34.6814,2,   -999.0,    152.8,2,  1.2397
  492SSY9607_1,  P08N,    60,  1,     21,      3,2,19960727,0737, 11.0017, 129.9983, 5850,   5000.8,   1.6776,  34.6824,  34.6814,2,   -999.0,    153.9,2,  1.2372
  492SSY9607_1,  P08N,    60,  1,     22,      2,2,19960727,0737, 11.0017, 129.9983, 5850,   5501.0,   1.7426,  34.6826,  34.6812,2,   -999.0,    154.4,2,  1.2371
  492SSY9607_1,  P08N,    60,  1,     23,      1,2,19960727,0737, 11.0017, 129.9983, 5850,   5871.9,   1.7926,  34.6827,  34.6784,2,   -999.0,    153.8,3,  1.2365
  492SSY9607_1,  P08N,    61,  1,      1,     23,2,19960727,1239, 10.5000, 130.0000, 5820,     99.1,  24.5841,  34.5917,  34.5851,2,   -999.0,    184.5,2, 24.5629
  492SSY9607_1,  P08N,    61,  1,      2,     22,2,19960727,1239, 10.5000, 130.0000, 5820,    200.9,  14.2606,  34.5661,  34.5684,2,   -999.0,    148.5,2, 14.2313
  492SSY9607_1,  P08N,    61,  1,      3,     21,2,19960727,1239, 10.5000, 130.0000, 5820,    299.6,   9.4617,  34.4453,  34.4487,2,   -999.0,     94.7,2,  9.4283
  492SSY9607_1,  P08N,    61,  1,      4,     20,2,19960727,1239, 10.5000, 130.0000, 5820,    400.7,   7.7191,  34.4191,  34.4178,2,   -999.0,     73.2,2,  7.6793
  492SSY9607_1,  P08N,    61,  1,      5,     19,2,19960727,1239, 10.5000, 130.0000, 5820,    503.1,   6.3885,  34.4073,  34.4119,2,   -999.0,     79.1,2,  6.3431
  492SSY9607_1,  P08N,    61,  1,      6,     18,2,19960727,1239, 10.5000, 130.0000, 5820,    602.8,   6.0575,  34.4712,  34.4632,2,   -999.0,     83.4,2,  6.0043
  492SSY9607_1,  P08N,    61,  1,      7,     17,2,19960727,1239, 10.5000, 130.0000, 5820,    705.0,   5.8526,  34.5300,  34.5293,2,   -999.0,     93.0,2,  5.7908
  492SSY9607_1,  P08N,    61,  1,      8,     16,2,19960727,1239, 10.5000, 130.0000, 5820,    801.5,   5.3387,  34.5187,  34.5189,2,   -999.0,     89.1,2,  5.2710
  492SSY9607_1,  P08N,    61,  1,      9,     15,2,19960727,1239, 10.5000, 130.0000, 5820,    900.1,   4.9728,  34.5365,  34.5401,2,   -999.0,     91.1,2,  4.8986
  492SSY9607_1,  P08N,    61,  1,     10,     14,2,19960727,1239, 10.5000, 130.0000, 5820,    999.3,   4.6329,  34.5363,  34.5383,2,   -999.0,     89.3,2,  4.5524
  492SSY9607_1,  P08N,    61,  1,     11,     13,2,19960727,1239, 10.5000, 130.0000, 5820,   1247.4,   3.7561,  34.5607,  34.5610,2,   -999.0,     91.3,2,  3.6616
  492SSY9607_1,  P08N,    61,  1,     12,     12,2,19960727,1239, 10.5000, 130.0000, 5820,   1497.5,   3.0503,  34.5843,  34.5863,2,   -999.0,     99.2,2,  2.9419
  492SSY9607_1,  P08N,    61,  1,     13,     11,2,19960727,1239, 10.5000, 130.0000, 5820,   1749.9,   2.5564,  34.6110,  34.6182,2,   -999.0,    107.0,2,  2.4329
  492SSY9607_1,  P08N,    61,  1,     14,     10,2,19960727,1239, 10.5000, 130.0000, 5820,   1998.1,   2.2605,  34.6299,  34.6316,2,   -999.0,    114.2,2,  2.1200
  492SSY9607_1,  P08N,    61,  1,     15,      9,2,19960727,1239, 10.5000, 130.0000, 5820,   2243.1,   1.9905,  34.6448,  34.6461,2,   -999.0,    121.9,2,  1.8332
  492SSY9607_1,  P08N,    61,  1,     16,      8,2,19960727,1239, 10.5000, 130.0000, 5820,   2499.5,   1.8086,  34.6547,  34.6591,2,   -999.0,    128.1,2,  1.6317
  492SSY9607_1,  P08N,    61,  1,     17,      7,2,19960727,1239, 10.5000, 130.0000, 5820,   2999.4,   1.6156,  34.6697,  34.6735,2,   -999.0,    141.4,2,  1.3961
  492SSY9607_1,  P08N,    61,  1,     18,      6,2,19960727,1239, 10.5000, 130.0000, 5820,   3499.6,   1.5546,  34.6779,  34.6788,2,   -999.0,    149.9,2,  1.2870
  492SSY9607_1,  P08N,    61,  1,     19,      5,2,19960727,1239, 10.5000, 130.0000, 5820,   4000.7,   1.5716,  34.6811,  34.6808,2,   -999.0,    152.1,2,  1.2505
  492SSY9607_1,  P08N,    61,  1,     20,      4,2,19960727,1239, 10.5000, 130.0000, 5820,   4500.0,   1.6186,  34.6823,  34.6837,2,   -999.0,    152.8,2,  1.2399
  492SSY9607_1,  P08N,    61,  1,     21,      3,2,19960727,1239, 10.5000, 130.0000, 5820,   5009.5,   1.6796,  34.6824,  34.6839,2,   -999.0,    153.8,2,  1.2381
  492SSY9607_1,  P08N,    61,  1,     22,      2,2,19960727,1239, 10.5000, 130.0000, 5820,   5499.2,   1.7416,  34.6826,  34.6877,2,   -999.0,    154.7,2,  1.2363
  492SSY9607_1,  P08N,    61,  1,     23,      1,2,19960727,1239, 10.5000, 130.0000, 5820,   5982.2,   1.8076,  34.6828,  34.6839,2,   -999.0,    154.1,3,  1.2361
  492SSY9607_1,  P08N,    62,  1,      1,     23,2,19960727,1802, 10.0000, 129.9983, 5940,    102.1,  21.2389,  34.7725,  34.7697,2,   -999.0,    163.9,2, 21.2192
  492SSY9607_1,  P08N,    62,  1,      2,     22,2,19960727,1802, 10.0000, 129.9983, 5940,    201.8,  12.0651,  34.4609,  34.4691,2,   -999.0,    125.4,2, 12.0389
  492SSY9607_1,  P08N,    62,  1,      3,     21,2,19960727,1802, 10.0000, 129.9983, 5940,    299.3,   8.8469,  34.4149,  34.4166,2,   -999.0,     81.0,2,  8.8148
  492SSY9607_1,  P08N,    62,  1,      4,     20,2,19960727,1802, 10.0000, 129.9983, 5940,    398.8,   7.4542,  34.4291,  34.4286,2,   -999.0,     71.1,2,  7.4153
  492SSY9607_1,  P08N,    62,  1,      5,     19,2,19960727,1802, 10.0000, 129.9983, 5940,    501.1,   6.4774,  34.4404,  34.4357,2,   -999.0,     79.4,2,  6.4319
  492SSY9607_1,  P08N,    62,  1,      6,     18,2,19960727,1802, 10.0000, 129.9983, 5940,    599.6,   6.0156,  34.4931,  34.4913,2,   -999.0,     88.8,2,  5.9627
  492SSY9607_1,  P08N,    62,  1,      7,     17,2,19960727,1802, 10.0000, 129.9983, 5940,    700.8,   5.6187,  34.5039,  34.5039,2,   -999.0,     86.5,2,  5.5585
  492SSY9607_1,  P08N,    62,  1,      8,     16,2,19960727,1802, 10.0000, 129.9983, 5940,    800.4,   5.2527,  34.5207,  34.5200,2,   -999.0,     86.9,2,  5.1857
  492SSY9607_1,  P08N,    62,  1,      9,     15,2,19960727,1802, 10.0000, 129.9983, 5940,    900.4,   4.8468,  34.5334,  34.5336,2,   -999.0,     89.3,2,  4.7735
  492SSY9607_1,  P08N,    62,  1,     10,     14,2,19960727,1802, 10.0000, 129.9983, 5940,   1000.7,   4.4249,  34.5431,  34.5374,2,   -999.0,     90.8,2,  4.3459
  492SSY9607_1,  P08N,    62,  1,     11,     13,2,19960727,1802, 10.0000, 129.9983, 5940,   1250.2,   3.6011,  34.5656,  34.5639,2,   -999.0,     96.7,2,  3.5078
  492SSY9607_1,  P08N,    62,  1,     12,     12,2,19960727,1802, 10.0000, 129.9983, 5940,   1500.4,   2.9393,  34.5962,  34.5989,2,   -999.0,     99.3,2,  2.8319
  492SSY9607_1,  P08N,    62,  1,     13,     11,2,19960727,1802, 10.0000, 129.9983, 5940,   1750.4,   2.5264,  34.6160,  34.6170,2,   -999.0,    108.2,2,  2.4032
  492SSY9607_1,  P08N,    62,  1,     14,     10,2,19960727,1802, 10.0000, 129.9983, 5940,   2000.4,   2.1825,  34.6348,  34.6631,3,   -999.0,    117.4,2,  2.0430
  492SSY9607_1,  P08N,    62,  1,     15,      9,2,19960727,1802, 10.0000, 129.9983, 5940,   2500.4,   1.7606,  34.6587,  34.6597,2,   -999.0,    132.2,2,  1.5845
  492SSY9607_1,  P08N,    62,  1,     16,      8,2,19960727,1802, 10.0000, 129.9983, 5940,   3000.6,   1.5826,  34.6726,  34.6737,2,   -999.0,    145.1,2,  1.3637
  492SSY9607_1,  P08N,    62,  1,     17,      7,2,19960727,1802, 10.0000, 129.9983, 5940,   3499.7,   1.5436,  34.6788,  34.6760,2,   -999.0,    149.8,2,  1.2763
  492SSY9607_1,  P08N,    62,  1,     18,      6,2,19960727,1802, 10.0000, 129.9983, 5940,   4000.2,   1.5706,  34.6810,  34.6798,2,   -999.0,    153.4,2,  1.2496
  492SSY9607_1,  P08N,    62,  1,     19,      5,2,19960727,1802, 10.0000, 129.9983, 5940,   4500.4,   1.6196,  34.6823,  34.6843,2,   -999.0,    153.9,2,  1.2408
  492SSY9607_1,  P08N,    62,  1,     20,      4,2,19960727,1802, 10.0000, 129.9983, 5940,   5000.6,   1.6786,  34.6824,  34.6786,2,   -999.0,    154.3,2,  1.2382
  492SSY9607_1,  P08N,    62,  1,     21,      3,2,19960727,1802, 10.0000, 129.9983, 5940,   5501.1,   1.7436,  34.6826,  34.6825,2,   -999.0,    154.3,2,  1.2380
  492SSY9607_1,  P08N,    62,  1,     22,      2,2,19960727,1802, 10.0000, 129.9983, 5940,   6000.9,   1.8126,  34.6818,  34.6853,2,   -999.0,    158.3,2,  1.2384
  492SSY9607_1,  P08N,    62,  1,     23,      1,3,19960727,1802, 10.0000, 129.9983, 5940,   6074.1,   1.8236,  34.6818,  34.6265,3,   -999.0,    146.0,3,  1.2391
  492SSY9607_1,  P08N,    63,  1,      1,     23,2,19960727,2302,  9.5000, 130.0000, 5900,    103.7,  18.8945,  34.7505,  34.7504,2,   -999.0,    152.5,2, 18.8761
  492SSY9607_1,  P08N,    63,  1,      2,     22,2,19960727,2302,  9.5000, 130.0000, 5900,    204.0,  10.9634,  34.4082,  34.4037,2,   -999.0,    119.4,2, 10.9385
  492SSY9607_1,  P08N,    63,  1,      3,     21,2,19960727,2302,  9.5000, 130.0000, 5900,    304.1,   8.8429,  34.5030,  34.5006,2,   -999.0,     80.9,2,  8.8102
  492SSY9607_1,  P08N,    63,  1,      4,     20,2,19960727,2302,  9.5000, 130.0000, 5900,    400.9,   7.8861,  34.5364,  34.5295,2,   -999.0,     79.4,2,  7.8457
  492SSY9607_1,  P08N,    63,  1,      5,     19,2,19960727,2302,  9.5000, 130.0000, 5900,    500.0,   6.9583,  34.5058,  34.5039,2,   -999.0,     86.4,2,  6.9111
  492SSY9607_1,  P08N,    63,  1,      6,     18,2,19960727,2302,  9.5000, 130.0000, 5900,    601.4,   6.5204,  34.5315,  34.5254,2,   -999.0,     99.0,2,  6.4651
  492SSY9607_1,  P08N,    63,  1,      7,     17,2,19960727,2302,  9.5000, 130.0000, 5900,    702.4,   6.0326,  34.5322,  34.5328,2,   -999.0,     97.1,2,  5.9700
  492SSY9607_1,  P08N,    63,  1,      8,     16,2,19960727,2302,  9.5000, 130.0000, 5900,    801.2,   5.4857,  34.5228,  34.5199,2,   -999.0,     90.9,2,  5.4171
  492SSY9607_1,  P08N,    63,  1,      9,     15,2,19960727,2302,  9.5000, 130.0000, 5900,    900.5,   5.0388,  34.5345,  34.5320,2,   -999.0,     88.2,2,  4.9641
  492SSY9607_1,  P08N,    63,  1,     10,     14,2,19960727,2302,  9.5000, 130.0000, 5900,   1003.3,   4.5489,  34.5472,  34.5470,2,   -999.0,     90.9,2,  4.4687
  492SSY9607_1,  P08N,    63,  1,     11,     13,2,19960727,2302,  9.5000, 130.0000, 5900,   1252.2,   3.5811,  34.5706,  34.5733,2,   -999.0,     94.6,2,  3.4878
  492SSY9607_1,  P08N,    63,  1,     12,     12,2,19960727,2302,  9.5000, 130.0000, 5900,   1503.5,   2.8523,  34.6002,  34.6042,2,   -999.0,    102.3,2,  2.7457
  492SSY9607_1,  P08N,    63,  1,     13,     11,2,19960727,2302,  9.5000, 130.0000, 5900,   1751.8,   2.4494,  34.6199,  34.6198,2,   -999.0,    109.4,2,  2.3271
  492SSY9607_1,  P08N,    63,  1,     14,     10,2,19960727,2302,  9.5000, 130.0000, 5900,   2003.1,   2.1525,  34.6368,  34.6349,2,   -999.0,    117.3,2,  2.0132
  492SSY9607_1,  P08N,    63,  1,     15,      9,2,19960727,2302,  9.5000, 130.0000, 5900,   2250.8,   1.9185,  34.6497,  34.6491,2,   -999.0,    124.8,2,  1.7617
  492SSY9607_1,  P08N,    63,  1,     16,      8,2,19960727,2302,  9.5000, 130.0000, 5900,   2503.0,   1.7736,  34.6587,  34.6520,2,   -999.0,    130.9,2,  1.5970
  492SSY9607_1,  P08N,    63,  1,     17,      7,2,19960727,2302,  9.5000, 130.0000, 5900,   3000.8,   1.6066,  34.6707,  34.6676,2,   -999.0,    141.9,2,  1.3872
  492SSY9607_1,  P08N,    63,  1,     18,      6,2,19960727,2302,  9.5000, 130.0000, 5900,   3502.2,   1.5536,  34.6779,  34.6782,2,   -999.0,    149.5,2,  1.2858
  492SSY9607_1,  P08N,    63,  1,     19,      5,2,19960727,2302,  9.5000, 130.0000, 5900,   4002.4,   1.5696,  34.6810,  34.6788,2,   -999.0,    151.8,2,  1.2484
  492SSY9607_1,  P08N,    63,  1,     20,      4,2,19960727,2302,  9.5000, 130.0000, 5900,   4500.3,   1.6196,  34.6822,  34.6796,2,   -999.0,    152.7,2,  1.2408
  492SSY9607_1,  P08N,    63,  1,     21,      3,2,19960727,2302,  9.5000, 130.0000, 5900,   5000.8,   1.6796,  34.6825,  34.6788,2,   -999.0,    153.8,2,  1.2392
  492SSY9607_1,  P08N,    63,  1,     22,      2,2,19960727,2302,  9.5000, 130.0000, 5900,   5500.8,   1.7446,  34.6826,  34.6778,2,   -999.0,    153.5,2,  1.2390
  492SSY9607_1,  P08N,    63,  1,     23,      1,2,19960727,2302,  9.5000, 130.0000, 5900,   5988.6,   1.8116,  34.6818,  34.6812,2,   -999.0,    154.5,2,  1.2391
  492SSY9607_1,  P08N,    64,  1,      1,     23,2,19960728,0423,  9.0033, 129.9983, 5920,    103.2,  19.3404,  34.9299,  34.9316,2,   -999.0,    166.9,2, 19.3217
  492SSY9607_1,  P08N,    64,  1,      2,     22,2,19960728,0423,  9.0033, 129.9983, 5920,    200.6,  10.9654,  34.4482,  34.4518,2,   -999.0,    110.1,2, 10.9409
  492SSY9607_1,  P08N,    64,  1,      3,     21,2,19960728,0423,  9.0033, 129.9983, 5920,    299.6,   8.8469,  34.5400,  34.5358,2,   -999.0,     77.3,2,  8.8147
  492SSY9607_1,  P08N,    64,  1,      4,     20,2,19960728,0423,  9.0033, 129.9983, 5920,    399.3,   7.8591,  34.5434,  34.5387,2,   -999.0,     78.1,2,  7.8189
  492SSY9607_1,  P08N,    64,  1,      5,     19,2,19960728,0423,  9.0033, 129.9983, 5920,    500.9,   7.1653,  34.5359,  34.5342,2,   -999.0,     86.2,2,  7.1171
  492SSY9607_1,  P08N,    64,  1,      6,     18,2,19960728,0423,  9.0033, 129.9983, 5920,    603.1,   6.5044,  34.5265,  34.5277,2,   -999.0,     98.6,2,  6.4490
  492SSY9607_1,  P08N,    64,  1,      7,     17,2,19960728,0423,  9.0033, 129.9983, 5920,    701.1,   6.0086,  34.5331,  34.5352,2,   -999.0,    109.1,2,  5.9463
  492SSY9607_1,  P08N,    64,  1,      8,     16,2,19960728,0423,  9.0033, 129.9983, 5920,    800.7,   5.8466,  34.5362,  34.5368,2,   -999.0,    108.7,2,  5.7759
  492SSY9607_1,  P08N,    64,  1,      9,     15,2,19960728,0423,  9.0033, 129.9983, 5920,    903.4,   5.4807,  34.5289,  34.5281,2,   -999.0,     95.1,2,  5.4028
  492SSY9607_1,  P08N,    64,  1,     10,     14,2,19960728,0423,  9.0033, 129.9983, 5920,   1005.3,   4.8828,  34.5374,  34.5372,2,   -999.0,     90.8,2,  4.7999
  492SSY9607_1,  P08N,    64,  1,     11,     13,2,19960728,0423,  9.0033, 129.9983, 5920,   1251.4,   3.6601,  34.5726,  34.5728,2,   -999.0,     96.4,2,  3.5661
  492SSY9607_1,  P08N,    64,  1,     12,     12,2,19960728,0423,  9.0033, 129.9983, 5920,   1499.2,   2.9643,  34.5962,  34.5987,2,   -999.0,    102.6,2,  2.8567
  492SSY9607_1,  P08N,    64,  1,     13,     11,2,19960728,0423,  9.0033, 129.9983, 5920,   1750.1,   2.4894,  34.6170,  34.6204,2,   -999.0,    108.8,2,  2.3667
  492SSY9607_1,  P08N,    64,  1,     14,     10,2,19960728,0423,  9.0033, 129.9983, 5920,   1997.3,   2.1595,  34.6358,  34.6389,2,   -999.0,    117.0,2,  2.0206
  492SSY9607_1,  P08N,    64,  1,     15,      9,2,19960728,0423,  9.0033, 129.9983, 5920,   2500.7,   1.7916,  34.6577,  34.6593,2,   -999.0,    131.2,2,  1.6149
  492SSY9607_1,  P08N,    64,  1,     16,      8,2,19960728,0423,  9.0033, 129.9983, 5920,   3000.5,   1.6176,  34.6707,-999.0000,5,   -999.0,    141.8,2,  1.3980
  492SSY9607_1,  P08N,    64,  1,     17,      7,2,19960728,0423,  9.0033, 129.9983, 5920,   3501.2,   1.5496,  34.6788,  34.6794,2,   -999.0,    149.4,2,  1.2820
  492SSY9607_1,  P08N,    64,  1,     18,      6,2,19960728,0423,  9.0033, 129.9983, 5920,   4000.2,   1.5686,  34.6810,  34.6837,2,   -999.0,    153.1,2,  1.2477
  492SSY9607_1,  P08N,    64,  1,     19,      5,2,19960728,0423,  9.0033, 129.9983, 5920,   4497.9,   1.6196,  34.6823,  34.6851,2,   -999.0,    153.6,2,  1.2411
  492SSY9607_1,  P08N,    64,  1,     20,      4,2,19960728,0423,  9.0033, 129.9983, 5920,   4997.8,   1.6796,  34.6824,  34.6835,2,   -999.0,    153.2,2,  1.2395
  492SSY9607_1,  P08N,    64,  1,     21,      3,2,19960728,0423,  9.0033, 129.9983, 5920,   5498.3,   1.7436,  34.6826,  34.6861,2,   -999.0,    154.5,2,  1.2384
  492SSY9607_1,  P08N,    64,  1,     22,      2,2,19960728,0423,  9.0033, 129.9983, 5920,   6000.9,   1.8136,  34.6818,  34.6859,2,   -999.0,    154.2,3,  1.2394
  492SSY9607_1,  P08N,    64,  1,     23,      1,2,19960728,0423,  9.0033, 129.9983, 5920,   6033.4,   1.8176,  34.6819,  34.6865,2,   -999.0,    154.4,3,  1.2388