BOTTLE,20020809WHPSIObren
EXPOCODE,SECT_ID,STNNBR,CASTNO,SAMPNO,BTLNBR,BTLNBR_FLAG_W,DATE,TIME,LATITUDE,LONGITUDE,DEPTH,CTDPRS,CTDTMP,CTDSAL,CTDSAL_FLAG_W,SALNTY,SALNTY_FLAG_W,CTDOXY,CTDOXY_FLAG_W,OXYGEN,OXYGEN_FLAG_W,SILCAT,SILCAT_FLAG_W,NO2+NO3,NO2+NO3_FLAG_W,PHSPHT,PHSPHT_FLAG_W,CTDRAW,REVTMP,REVPRS,THETA
,,,,,,,,,,,,DBAR,ITS-90,PSS-78,,PSS-78,,UMOL/KG,,UMOL/KG,,UMOL/KG,,UMOL/KG,,UMOL/KG,,,DEG C,DBAR,ITS-90
     33KI127_1,  PRS2,     2, 12,     19,     19,2,20010614,2355, 22.7642,-157.9835, 4711,      3.8,  25.0364,  35.2429,2,  35.2420,2,    208.0,1,   -999.0,9,  -999.00,9,  -999.00,9,  -999.00,9,      5,-999.000,  -999.0, 25.0356
     33KI127_1,  PRS2,     2, 12,     18,     18,2,20010614,2355, 22.7642,-157.9835, 4711,      4.3,  25.0363,  35.2430,2,  35.2509,2,    208.1,1,   -999.0,9,  -999.00,9,  -999.00,9,  -999.00,9,      5,-999.000,  -999.0, 25.0354
     33KI127_1,  PRS2,     2, 12,     17,     17,2,20010614,2355, 22.7642,-157.9835, 4711,     24.5,  24.9391,  35.2476,2,  35.2459,2,    209.5,1,   -999.0,9,  -999.00,9,  -999.00,9,  -999.00,9,     26,-999.000,  -999.0, 24.9338
     33KI127_1,  PRS2,     2, 12,     16,     16,2,20010614,2355, 22.7642,-157.9835, 4711,     24.6,  24.9364,  35.2478,2,  35.2497,2,    209.7,1,   -999.0,9,  -999.00,9,  -999.00,9,  -999.00,9,     26,-999.000,  -999.0, 24.9311
     33KI127_1,  PRS2,     2, 12,     15,     23,2,20010614,2355, 22.7642,-157.9835, 4711,     45.3,  24.7787,  35.3417,2,  35.3325,2,    212.3,1,   -999.0,9,  -999.00,9,  -999.00,9,  -999.00,9,     47,-999.000,  -999.0, 24.7689
     33KI127_1,  PRS2,     2, 12,     14,     14,2,20010614,2355, 22.7642,-157.9835, 4711,     45.3,  24.7766,  35.3436,2,  35.3315,2,    212.3,1,   -999.0,9,  -999.00,9,  -999.00,9,  -999.00,9,     47,-999.000,  -999.0, 24.7669
     33KI127_1,  PRS2,     2, 12,     13,     13,2,20010614,2355, 22.7642,-157.9835, 4711,     74.6,  23.2311,  35.4104,2,  35.4084,2,    224.3,1,   -999.0,9,  -999.00,9,  -999.00,9,  -999.00,9,     76,-999.000,  -999.0, 23.2158
     33KI127_1,  PRS2,     2, 12,     12,     12,2,20010614,2355, 22.7642,-157.9835, 4711,     74.8,  23.2327,  35.4101,2,  35.4089,2,    224.3,1,   -999.0,9,  -999.00,9,  -999.00,9,  -999.00,9,     76,-999.000,  -999.0, 23.2173
     33KI127_1,  PRS2,     2, 12,     11,     11,2,20010614,2355, 22.7642,-157.9835, 4711,     99.1,  22.4836,  35.4065,2,  35.4653,4,    220.1,1,   -999.0,9,  -999.00,9,  -999.00,9,  -999.00,9,    101,-999.000,  -999.0, 22.4636
     33KI127_1,  PRS2,     2, 12,     10,     32,2,20010614,2355, 22.7642,-157.9835, 4711,     99.2,  22.4833,  35.4052,2,  35.4066,2,    220.1,1,   -999.0,9,  -999.00,9,  -999.00,9,  -999.00,9,    100,-999.000,  -999.0, 22.4633
     33KI127_1,  PRS2,     2, 12,      9,      3,2,20010614,2355, 22.7642,-157.9835, 4711,    124.3,  21.8779,  35.3490,2,  35.4109,4,    218.1,1,   -999.0,9,  -999.00,9,  -999.00,9,  -999.00,9,    126,-999.000,  -999.0, 21.8534
     33KI127_1,  PRS2,     2, 12,      8,     29,2,20010614,2355, 22.7642,-157.9835, 4711,    124.3,  21.8789,  35.3487,2,  35.3480,2,    218.2,1,   -999.0,9,  -999.00,9,  -999.00,9,  -999.00,9,    125,-999.000,  -999.0, 21.8544
     33KI127_1,  PRS2,     2, 12,      7,     28,2,20010614,2355, 22.7642,-157.9835, 4711,    148.2,  21.3064,  35.3157,2,  35.3151,2,    206.5,1,   -999.0,9,  -999.00,9,  -999.00,9,  -999.00,9,    149,-999.000,  -999.0, 21.2778
     33KI127_1,  PRS2,     2, 12,      6,      7,2,20010614,2355, 22.7642,-157.9835, 4711,    148.2,  21.3050,  35.3162,2,  35.3151,2,    206.7,1,   -999.0,9,  -999.00,9,  -999.00,9,  -999.00,9,    150,-999.000,  -999.0, 21.2763
     33KI127_1,  PRS2,     2, 12,      5,     38,2,20010614,2355, 22.7642,-157.9835, 4711,    173.3,  20.1229,  35.1853,2,  35.1723,2,    196.7,1,   -999.0,9,  -999.00,9,  -999.00,9,  -999.00,9,    174,-999.000,  -999.0, 20.0907
     33KI127_1,  PRS2,     2, 12,      4,     36,2,20010614,2355, 22.7642,-157.9835, 4711,    248.5,  17.0336,  34.7855,2,  34.7901,2,    201.2,1,   -999.0,9,  -999.00,9,  -999.00,9,  -999.00,9,    250,-999.000,  -999.0, 16.9926
     33KI127_1,  PRS2,     2, 12,      3,     35,2,20010614,2355, 22.7642,-157.9835, 4711,    349.9,  11.0233,  34.1764,2,  34.1775,2,    202.0,1,   -999.0,9,  -999.00,9,  -999.00,9,  -999.00,9,    351,-999.000,  -999.0, 10.9802
     33KI127_1,  PRS2,     2, 12,      2,     34,2,20010614,2355, 22.7642,-157.9835, 4711,    500.9,   6.8469,  34.0341,2,  34.0335,2,    106.2,1,   -999.0,9,  -999.00,9,  -999.00,9,  -999.00,9,    502,-999.000,  -999.0,  6.8003
     33KI127_1,  PRS2,     2, 12,      1,     33,2,20010614,2355, 22.7642,-157.9835, 4711,   1019.3,   3.8142,  34.4931,2,  34.4744,4,     40.5,1,   -999.0,9,  -999.00,9,  -999.00,9,  -999.00,9,   1020,-999.000,  -999.0,  3.7384
     33KI127_1,  PRS2,     2, 13,     16,     16,2,20010615,0246, 22.7692,-157.9877, 4704,      4.4,  25.0697,  35.2305,2,  35.2294,2,    209.5,1,   -999.0,9,  -999.00,9,  -999.00,9,  -999.00,9,      6,-999.000,  -999.0, 25.0687
     33KI127_1,  PRS2,     2, 13,     15,     23,2,20010615,0246, 22.7692,-157.9877, 4704,     23.7,  24.9544,  35.2488,2,  35.2459,2,    211.0,1,   -999.0,9,  -999.00,9,  -999.00,9,  -999.00,9,     25,-999.000,  -999.0, 24.9492
     33KI127_1,  PRS2,     2, 13,     14,     14,2,20010615,0246, 22.7692,-157.9877, 4704,     48.6,  24.6090,  35.4074,2,  35.4056,2,    217.8,1,   -999.0,9,  -999.00,9,  -999.00,9,  -999.00,9,     50,-999.000,  -999.0, 24.5986
     33KI127_1,  PRS2,     2, 13,     13,     13,2,20010615,0246, 22.7692,-157.9877, 4704,     75.2,  23.2757,  35.4094,2,  35.4080,2,    226.3,1,   -999.0,9,  -999.00,9,  -999.00,9,  -999.00,9,     77,-999.000,  -999.0, 23.2602
     33KI127_1,  PRS2,     2, 13,     12,     12,2,20010615,0246, 22.7692,-157.9877, 4704,     99.3,  22.6469,  35.4208,2,  35.4180,2,    220.9,1,   -999.0,9,  -999.00,9,  -999.00,9,  -999.00,9,    101,-999.000,  -999.0, 22.6268
     33KI127_1,  PRS2,     2, 13,     11,     11,2,20010615,0246, 22.7692,-157.9877, 4704,    124.0,  21.7261,  35.3422,2,  35.3397,2,    214.5,1,   -999.0,9,  -999.00,9,  -999.00,9,  -999.00,9,    125,-999.000,  -999.0, 21.7018
     33KI127_1,  PRS2,     2, 13,     10,     32,2,20010615,0246, 22.7692,-157.9877, 4704,    148.6,  20.6047,  35.2493,2,-999.0000,5,    202.7,1,   -999.0,9,  -999.00,9,  -999.00,9,  -999.00,9,    150,-999.000,  -999.0, 20.5766
     33KI127_1,  PRS2,     2, 13,      9,      3,2,20010615,0246, 22.7692,-157.9877, 4704,    173.5,  18.9849,  35.0613,2,  35.0565,2,    202.4,1,   -999.0,9,  -999.00,9,  -999.00,9,  -999.00,9,    175,-999.000,  -999.0, 18.9540
     33KI127_1,  PRS2,     2, 13,      8,     29,2,20010615,0246, 22.7692,-157.9877, 4704,    199.9,  17.3217,  34.8289,2,  34.8312,2,    203.2,1,   -999.0,9,  -999.00,9,  -999.00,9,  -999.00,9,    201,-999.000,  -999.0, 17.2883
     33KI127_1,  PRS2,     2, 13,      7,     28,2,20010615,0246, 22.7692,-157.9877, 4704,    248.5,  14.7134,  34.4804,2,  34.4834,2,    202.6,1,   -999.0,9,  -999.00,9,  -999.00,9,  -999.00,9,    249,-999.000,  -999.0, 14.6764
     33KI127_1,  PRS2,     2, 13,      6,      7,2,20010615,0246, 22.7692,-157.9877, 4704,    350.0,  10.8996,  34.1712,2,  34.1703,2,    202.5,1,   -999.0,9,  -999.00,9,  -999.00,9,  -999.00,9,    351,-999.000,  -999.0, 10.8568
     33KI127_1,  PRS2,     2, 13,      5,     38,2,20010615,0246, 22.7692,-157.9877, 4704,    478.5,   7.1373,  34.0308,2,  34.0309,2,    121.1,1,   -999.0,9,  -999.00,9,  -999.00,9,  -999.00,9,    480,-999.000,  -999.0,  7.0918
     33KI127_1,  PRS2,     2, 13,      4,     36,2,20010615,0246, 22.7692,-157.9877, 4704,    500.0,   6.7851,  34.0361,2,  34.0366,2,    109.3,1,   -999.0,9,  -999.00,9,  -999.00,9,  -999.00,9,    501,-999.000,  -999.0,  6.7388
     33KI127_1,  PRS2,     2, 13,      3,     35,2,20010615,0246, 22.7692,-157.9877, 4704,    722.9,   4.7250,  34.2535,2,  34.2517,2,     25.6,1,   -999.0,9,  -999.00,9,  -999.00,9,  -999.00,9,    724,-999.000,  -999.0,  4.6680
     33KI127_1,  PRS2,     2, 13,      2,     34,2,20010615,0246, 22.7692,-157.9877, 4704,    848.0,   4.2540,  34.3741,2,  34.3739,2,     24.2,1,   -999.0,9,  -999.00,9,  -999.00,9,  -999.00,9,    849,-999.000,  -999.0,  4.1893
     33KI127_1,  PRS2,     2, 13,      1,     33,2,20010615,0246, 22.7692,-157.9877, 4704,    848.0,   4.2540,  34.3741,2,  34.3731,2,     24.2,1,   -999.0,9,  -999.00,9,  -999.00,9,  -999.00,9,    849,-999.000,  -999.0,  4.1893
     33KI127_1,  PRS2,     2, 14,     22,     22,2,20010615,0553, 22.7507,-158.0018, 4724,      4.0,  25.0118,  35.2350,2,  35.2327,2,    211.8,1,   -999.0,9,  -999.00,9,  -999.00,9,  -999.00,9,      6,-999.000,  -999.0, 25.0110
     33KI127_1,  PRS2,     2, 14,     21,     21,2,20010615,0553, 22.7507,-158.0018, 4724,      4.1,  25.0118,  35.2353,2,  35.2410,2,    211.8,1,   -999.0,9,  -999.00,9,  -999.00,9,  -999.00,9,      5,-999.000,  -999.0, 25.0109
     33KI127_1,  PRS2,     2, 14,     19,     19,2,20010615,0553, 22.7507,-158.0018, 4724,     24.2,  24.9827,  35.2483,2,  35.2416,2,    211.9,1,   -999.0,9,  -999.00,9,  -999.00,9,  -999.00,9,     25,-999.000,  -999.0, 24.9774
     33KI127_1,  PRS2,     2, 14,     20,     20,2,20010615,0553, 22.7507,-158.0018, 4724,     24.3,  24.9761,  35.2504,2,  35.2454,2,    211.9,1,   -999.0,9,  -999.00,9,  -999.00,9,  -999.00,9,     25,-999.000,  -999.0, 24.9708
     33KI127_1,  PRS2,     2, 14,     18,     18,2,20010615,0553, 22.7507,-158.0018, 4724,     44.2,  24.4543,  35.3987,2,  35.4013,2,    220.1,1,   -999.0,9,  -999.00,9,  -999.00,9,  -999.00,9,     46,-999.000,  -999.0, 24.4449
     33KI127_1,  PRS2,     2, 14,     17,     17,2,20010615,0553, 22.7507,-158.0018, 4724,     44.2,  24.4577,  35.3986,2,  35.3959,2,    220.5,1,   -999.0,9,  -999.00,9,  -999.00,9,  -999.00,9,     45,-999.000,  -999.0, 24.4483
     33KI127_1,  PRS2,     2, 14,     16,     16,2,20010615,0553, 22.7507,-158.0018, 4724,     59.0,  23.6057,  35.4024,2,  35.3942,2,    228.0,1,   -999.0,9,  -999.00,9,  -999.00,9,  -999.00,9,     60,-999.000,  -999.0, 23.5934
     33KI127_1,  PRS2,     2, 14,     14,     14,2,20010615,0553, 22.7507,-158.0018, 4724,     74.2,  22.9905,  35.4134,2,  35.4068,2,    225.1,1,   -999.0,9,  -999.00,9,  -999.00,9,  -999.00,9,     75,-999.000,  -999.0, 22.9754
     33KI127_1,  PRS2,     2, 14,     15,     23,2,20010615,0553, 22.7507,-158.0018, 4724,     74.3,  22.9898,  35.4137,2,  35.4097,2,    225.2,1,   -999.0,9,  -999.00,9,  -999.00,9,  -999.00,9,     75,-999.000,  -999.0, 22.9747
     33KI127_1,  PRS2,     2, 14,     13,     13,2,20010615,0553, 22.7507,-158.0018, 4724,     83.6,  22.7652,  35.4223,2,  35.4229,2,    223.8,1,   -999.0,9,  -999.00,9,  -999.00,9,  -999.00,9,     85,-999.000,  -999.0, 22.7482
     33KI127_1,  PRS2,     2, 14,     12,     12,2,20010615,0553, 22.7507,-158.0018, 4724,     98.8,  22.4764,  35.4096,2,  35.4076,2,    224.1,1,   -999.0,9,  -999.00,9,  -999.00,9,  -999.00,9,    100,-999.000,  -999.0, 22.4565
     33KI127_1,  PRS2,     2, 14,     11,     11,2,20010615,0553, 22.7507,-158.0018, 4724,     99.0,  22.4848,  35.4094,2,  35.4080,2,    224.0,1,   -999.0,9,  -999.00,9,  -999.00,9,  -999.00,9,    100,-999.000,  -999.0, 22.4648
     33KI127_1,  PRS2,     2, 14,     10,     32,2,20010615,0553, 22.7507,-158.0018, 4724,    113.5,  21.8762,  35.3487,2,  35.3474,2,    216.3,1,   -999.0,9,  -999.00,9,  -999.00,9,  -999.00,9,    115,-999.000,  -999.0, 21.8538
     33KI127_1,  PRS2,     2, 14,      8,     29,2,20010615,0553, 22.7507,-158.0018, 4724,    123.8,  21.3902,  35.3198,2,  35.3198,2,    208.5,1,   -999.0,9,  -999.00,9,  -999.00,9,  -999.00,9,    125,-999.000,  -999.0, 21.3662
     33KI127_1,  PRS2,     2, 14,      9,      3,2,20010615,0553, 22.7507,-158.0018, 4724,    123.9,  21.3571,  35.3177,2,  35.3183,2,    208.6,1,   -999.0,9,  -999.00,9,  -999.00,9,  -999.00,9,    125,-999.000,  -999.0, 21.3331
     33KI127_1,  PRS2,     2, 14,      7,     28,2,20010615,0553, 22.7507,-158.0018, 4724,    133.8,  21.0396,  35.2936,2,  35.2919,2,    204.6,1,   -999.0,9,  -999.00,9,  -999.00,9,  -999.00,9,    135,-999.000,  -999.0, 21.0140
     33KI127_1,  PRS2,     2, 14,      6,      7,2,20010615,0553, 22.7507,-158.0018, 4724,    138.8,  20.8277,  35.2663,2,  35.2686,2,    207.1,1,   -999.0,9,  -999.00,9,  -999.00,9,  -999.00,9,    140,-999.000,  -999.0, 20.8013
     33KI127_1,  PRS2,     2, 14,      5,     38,2,20010615,0553, 22.7507,-158.0018, 4724,    149.2,  20.6615,  35.2473,2,  35.2647,4,    206.1,1,   -999.0,9,  -999.00,9,  -999.00,9,  -999.00,9,    150,-999.000,  -999.0, 20.6332
     33KI127_1,  PRS2,     2, 14,      3,     35,2,20010615,0553, 22.7507,-158.0018, 4724,    173.6,  19.7083,  35.1417,2,  35.1585,2,    197.0,1,   -999.0,9,  -999.00,9,  -999.00,9,  -999.00,9,    175,-999.000,  -999.0, 19.6765
     33KI127_1,  PRS2,     2, 14,      4,     36,2,20010615,0553, 22.7507,-158.0018, 4724,    173.7,  19.7074,  35.1418,2,  35.1453,2,    197.1,1,   -999.0,9,  -999.00,9,  -999.00,9,  -999.00,9,    175,-999.000,  -999.0, 19.6756
     33KI127_1,  PRS2,     2, 14,      2,     34,2,20010615,0553, 22.7507,-158.0018, 4724,    478.9,   7.3994,  34.0313,2,  34.0307,2,    135.8,1,   -999.0,9,  -999.00,9,  -999.00,9,  -999.00,9,    480,-999.000,  -999.0,  7.3529
     33KI127_1,  PRS2,     2, 14,      1,     33,2,20010615,0553, 22.7507,-158.0018, 4724,   1020.5,   3.9013,  34.4785,2,  34.4762,2,     38.3,1,   -999.0,9,  -999.00,9,  -999.00,9,  -999.00,9,   1022,-999.000,  -999.0,  3.8247
     33KI127_1,  PRS2,     2, 15,     22,     22,2,20010615,0854, 22.7480,-158.0033, 4724,      4.1,  24.9362,  35.2588,2,  35.2578,2,    210.5,2,   -999.0,5,  -999.00,9,  -999.00,9,  -999.00,9,      5,-999.000,  -999.0, 24.9353
     33KI127_1,  PRS2,     2, 15,     21,     21,2,20010615,0854, 22.7480,-158.0033, 4724,     23.9,  24.9330,  35.2580,2,  35.2580,2,    210.5,2,   -999.0,5,  -999.00,9,  -999.00,9,  -999.00,9,     25,-999.000,  -999.0, 24.9278
     33KI127_1,  PRS2,     2, 15,     20,     20,2,20010615,0854, 22.7480,-158.0033, 4724,     58.3,  23.7371,  35.3931,2,  35.3942,2,    225.5,2,    220.2,3,  -999.00,9,  -999.00,9,  -999.00,9,     59,-999.000,  -999.0, 23.7249
     33KI127_1,  PRS2,     2, 15,     19,     19,2,20010615,0854, 22.7480,-158.0033, 4724,     77.8,  23.1465,  35.4043,2,  35.4034,2,    225.1,2,   -999.0,5,  -999.00,9,  -999.00,9,  -999.00,9,     79,-999.000,  -999.0, 23.1305
     33KI127_1,  PRS2,     2, 15,     18,     18,2,20010615,0854, 22.7480,-158.0033, 4724,     99.6,  22.8380,  35.4168,2,  35.4210,2,    224.6,2,   -999.0,5,  -999.00,9,  -999.00,9,  -999.00,9,    101,-999.000,  -999.0, 22.8178
     33KI127_1,  PRS2,     2, 15,     17,     17,2,20010615,0854, 22.7480,-158.0033, 4724,    198.9,  19.7483,  35.1447,2,  35.1455,2,    200.3,2,   -999.0,5,  -999.00,9,  -999.00,9,  -999.00,9,    200,-999.000,  -999.0, 19.7118
     33KI127_1,  PRS2,     2, 15,     16,     16,2,20010615,0854, 22.7480,-158.0033, 4724,    399.4,   8.8334,  34.0754,2,  34.0754,2,    174.9,2,   -999.0,5,  -999.00,9,  -999.00,9,  -999.00,9,    401,-999.000,  -999.0,  8.7905
     33KI127_1,  PRS2,     2, 15,     15,     23,2,20010615,0854, 22.7480,-158.0033, 4724,    548.8,   6.1410,  34.0496,2,  34.0494,2,     83.4,2,   -999.0,5,  -999.00,9,  -999.00,9,  -999.00,9,    550,-999.000,  -999.0,  6.0926
     33KI127_1,  PRS2,     2, 15,     14,     14,2,20010615,0854, 22.7480,-158.0033, 4724,    700.1,   5.0082,  34.2174,2,  34.2166,2,     32.6,2,   -999.0,5,  -999.00,9,  -999.00,9,  -999.00,9,    702,-999.000,  -999.0,  4.9517
     33KI127_1,  PRS2,     2, 15,     13,     13,2,20010615,0854, 22.7480,-158.0033, 4724,    848.5,   4.2099,  34.3963,2,  34.3963,2,     26.9,2,     25.6,2,  -999.00,9,  -999.00,9,  -999.00,9,    849,-999.000,  -999.0,  4.1454
     33KI127_1,  PRS2,     2, 15,     12,     12,2,20010615,0854, 22.7480,-158.0033, 4724,    998.6,   3.8014,  34.4927,2,  34.4944,2,     40.5,2,     50.8,3,  -999.00,9,  -999.00,9,  -999.00,9,   1000,-999.000,  -999.0,  3.7274
     33KI127_1,  PRS2,     2, 15,     11,     11,2,20010615,0854, 22.7480,-158.0033, 4724,   1499.8,   2.7628,  34.5731,2,  34.5732,2,     64.2,2,   -999.0,5,  -999.00,9,  -999.00,9,  -999.00,9,   1500,-999.000,  -999.0,  2.6578
     33KI127_1,  PRS2,     2, 15,     10,     32,2,20010615,0854, 22.7480,-158.0033, 4724,   2002.3,   2.0911,  34.6204,2,  34.6203,2,     86.0,2,     86.7,2,  -999.00,9,  -999.00,9,  -999.00,9,   2004,-999.000,  -999.0,  1.9531
     33KI127_1,  PRS2,     2, 15,      9,      3,2,20010615,0854, 22.7480,-158.0033, 4724,   2500.9,   1.7150,  34.6531,2,  34.6533,2,    107.7,2,    108.4,2,  -999.00,9,  -999.00,9,  -999.00,9,   2502,-999.000,  -999.0,  1.5400
     33KI127_1,  PRS2,     2, 15,      8,     29,2,20010615,0854, 22.7480,-158.0033, 4724,   2998.0,   1.5282,  34.6726,2,  34.6720,2,    126.4,2,    126.2,2,  -999.00,9,  -999.00,9,  -999.00,9,   2999,-999.000,  -999.0,  1.3110
     33KI127_1,  PRS2,     2, 15,      3,     35,2,20010615,0854, 22.7480,-158.0033, 4724,   3499.2,   1.4536,  34.6829,2,  34.6832,2,    141.8,2,    141.4,2,  -999.00,9,  -999.00,9,  -999.00,9,   3500,-999.000,  -999.0,  1.1887
     33KI127_1,  PRS2,     2, 15,      4,     36,2,20010615,0854, 22.7480,-158.0033, 4724,   3499.4,   1.4536,  34.6829,2,  34.6826,2,    141.8,2,   -999.0,5,  -999.00,9,  -999.00,9,  -999.00,9,   3500,-999.000,  -999.0,  1.1886
     33KI127_1,  PRS2,     2, 15,      5,     38,2,20010615,0854, 22.7480,-158.0033, 4724,   3499.5,   1.4537,  34.6829,2,  34.6826,2,    141.8,2,   -999.0,5,  -999.00,9,  -999.00,9,  -999.00,9,   3501,-999.000,  -999.0,  1.1888
     33KI127_1,  PRS2,     2, 15,      7,     28,2,20010615,0854, 22.7480,-158.0033, 4724,   3499.7,   1.4540,  34.6829,2,  34.6826,2,    141.7,2,   -999.0,5,  -999.00,9,  -999.00,9,  -999.00,9,   3501,-999.000,  -999.0,  1.1890
     33KI127_1,  PRS2,     2, 15,      6,      7,2,20010615,0854, 22.7480,-158.0033, 4724,   3499.7,   1.4538,  34.6829,2,  34.6834,2,    141.8,2,   -999.0,5,  -999.00,9,  -999.00,9,  -999.00,9,   3500,-999.000,  -999.0,  1.1889
     33KI127_1,  PRS2,     2, 15,      2,     34,2,20010615,0854, 22.7480,-158.0033, 4724,   3998.1,   1.4542,  34.6873,2,  34.6873,2,    149.2,2,    148.3,2,  -999.00,9,  -999.00,9,  -999.00,9,   3998,-999.000,  -999.0,  1.1368
     33KI127_1,  PRS2,     2, 15,      1,     33,2,20010615,0854, 22.7480,-158.0033, 4724,   3998.1,   1.4542,  34.6873,2,  34.6871,2,    149.2,2,    149.0,2,  -999.00,9,  -999.00,9,  -999.00,9,   3998,-999.000,  -999.0,  1.1368
     33KI127_1,  PRS2,     6,  2,      6,      7,2,20010616,0549, 21.8477,-158.3652, 2475,      4.1,  25.9673,  34.9819,2,  34.9819,2,    205.2,1,   -999.0,9,  -999.00,9,  -999.00,9,  -999.00,9,      5,-999.000,  -999.0, 25.9663
     33KI127_1,  PRS2,     6,  2,      5,     38,2,20010616,0549, 21.8477,-158.3652, 2475,    101.4,  22.6282,  35.4214,2,  35.4212,2,    218.4,1,   -999.0,9,  -999.00,9,  -999.00,9,  -999.00,9,    103,-999.000,  -999.0, 22.6077
     33KI127_1,  PRS2,     6,  2,      4,     36,2,20010616,0549, 21.8477,-158.3652, 2475,    449.2,   7.6580,  34.0388,2,  34.0380,2,    145.2,1,   -999.0,9,  -999.00,9,  -999.00,9,  -999.00,9,    450,-999.000,  -999.0,  7.6136
     33KI127_1,  PRS2,     6,  2,      3,     35,2,20010616,0549, 21.8477,-158.3652, 2475,   1499.4,   2.8827,  34.5733,2,  34.5718,2,     68.0,1,   -999.0,9,  -999.00,9,  -999.00,9,  -999.00,9,   1501,-999.000,  -999.0,  2.7762
     33KI127_1,  PRS2,     6,  2,      2,     34,2,20010616,0549, 21.8477,-158.3652, 2475,   1999.4,   2.1695,  34.6193,2,  34.6181,2,     89.3,1,   -999.0,9,  -999.00,9,  -999.00,9,  -999.00,9,   2001,-999.000,  -999.0,  2.0306
     33KI127_1,  PRS2,     6,  2,      1,     33,2,20010616,0549, 21.8477,-158.3652, 2475,   1999.4,   2.1695,  34.6193,2,  34.6183,2,     89.3,1,   -999.0,9,  -999.00,9,  -999.00,9,  -999.00,9,   2001,-999.000,  -999.0,  2.0306