BOTTLE,20020809WHPSIObren
#code : jjward hyd_to_exchange.pl 
#original files copied from HTML directory: 20020809
#original HYD file: /whpo/11/HOTS/BOTTLE/hot127/hot127.sea   Fri Aug  9 09:51:28 2002
#original SUM file: /whpo/11/HOTS/BOTTLE/hot127/hot127.sum   Fri Aug  9 13:30:32 2002
EXPOCODE,SECT_ID,STNNBR,CASTNO,SAMPNO,BTLNBR,BTLNBR_FLAG_W,DATE,TIME,LATITUDE,LONGITUDE,DEPTH,CTDPRS,CTDTMP,CTDSAL,CTDSAL_FLAG_W,SALNTY,SALNTY_FLAG_W,CTDOXY,CTDOXY_FLAG_W,OXYGEN,OXYGEN_FLAG_W,SILCAT,SILCAT_FLAG_W,NO2+NO3,NO2+NO3_FLAG_W,PHSPHT,PHSPHT_FLAG_W,CTDRAW,REVTMP,REVPRS,THETA
,,,,,,,,,,,,DBAR,ITS-90,PSS-78,,PSS-78,,UMOL/KG,,UMOL/KG,,UMOL/KG,,UMOL/KG,,UMOL/KG,,,DEG C,DBAR,ITS-90
     33KI127_1,  PRS2,     1,  1,     16,     16,3,20010613,0016, 21.3437,-158.2707, 1480,      3.3,  26.5794,  34.8196,2,  34.8766,4,    204.9,3,    206.0,2,  -999.00,9,  -999.00,9,  -999.00,9,      5,-999.000,  -999.0, 26.5786
     33KI127_1,  PRS2,     1,  1,     15,     23,2,20010613,0016, 21.3437,-158.2707, 1480,      3.3,  26.5478,  34.8177,2,  34.8277,2,    205.0,2,    205.7,2,  -999.00,9,  -999.00,9,  -999.00,9,      5,-999.000,  -999.0, 26.5470
     33KI127_1,  PRS2,     1,  1,     14,     14,3,20010613,0016, 21.3437,-158.2707, 1480,     24.3,  26.3679,  34.8149,2,  34.8159,2,    206.6,2,    206.5,2,  -999.00,9,  -999.00,9,  -999.00,9,     25,-999.000,  -999.0, 26.3624
     33KI127_1,  PRS2,     1,  1,     13,     13,3,20010613,0016, 21.3437,-158.2707, 1480,     43.2,  25.8842,  35.0080,2,  35.0659,4,    213.4,3,    212.4,2,  -999.00,9,  -999.00,9,  -999.00,9,     44,-999.000,  -999.0, 25.8746
     33KI127_1,  PRS2,     1,  1,     12,     12,2,20010613,0016, 21.3437,-158.2707, 1480,     74.1,  24.1728,  35.3492,2,  35.3449,2,    216.3,2,    215.7,2,  -999.00,9,  -999.00,9,  -999.00,9,     75,-999.000,  -999.0, 24.1571
     33KI127_1,  PRS2,     1,  1,     11,     11,2,20010613,0016, 21.3437,-158.2707, 1480,     98.1,  22.6584,  35.2737,2,  35.2743,2,    202.7,2,    202.6,2,  -999.00,9,  -999.00,9,  -999.00,9,     99,-999.000,  -999.0, 22.6386
     33KI127_1,  PRS2,     1,  1,     10,     32,2,20010613,0016, 21.3437,-158.2707, 1480,    124.0,  20.8935,  35.1388,2,  35.1463,2,    195.8,2,    195.3,2,  -999.00,9,  -999.00,9,  -999.00,9,    125,-999.000,  -999.0, 20.8699
     33KI127_1,  PRS2,     1,  1,      9,      3,3,20010613,0016, 21.3437,-158.2707, 1480,    149.4,  19.4218,  35.0354,2,  35.0388,2,    191.6,2,    191.4,2,  -999.00,9,  -999.00,9,  -999.00,9,    151,-999.000,  -999.0, 19.3947
     33KI127_1,  PRS2,     1,  1,      8,     29,2,20010613,0016, 21.3437,-158.2707, 1480,    173.6,  18.0641,  34.9164,2,-999.0000,5,    193.4,2,    193.1,2,  -999.00,9,  -999.00,9,  -999.00,9,    175,-999.000,  -999.0, 18.0342
     33KI127_1,  PRS2,     1,  1,      7,     28,2,20010613,0016, 21.3437,-158.2707, 1480,    199.0,  16.4860,  34.7036,2,  34.7034,2,    187.1,2,    188.0,2,  -999.00,9,  -999.00,9,  -999.00,9,    200,-999.000,  -999.0, 16.4539
     33KI127_1,  PRS2,     1,  1,      6,      7,2,20010613,0016, 21.3437,-158.2707, 1480,    249.2,  13.9670,  34.4172,2,  34.4169,2,    183.9,2,    186.4,2,  -999.00,9,  -999.00,9,  -999.00,9,    251,-999.000,  -999.0, 13.9312
     33KI127_1,  PRS2,     1,  1,      5,     38,2,20010613,0016, 21.3437,-158.2707, 1480,    349.5,   9.7115,  34.1503,2,  34.1528,2,    155.6,2,    153.1,2,  -999.00,9,  -999.00,9,  -999.00,9,    351,-999.000,  -999.0,  9.6718
     33KI127_1,  PRS2,     1,  1,      4,     36,2,20010613,0016, 21.3437,-158.2707, 1480,    499.3,   6.6508,  34.1571,2,  34.1572,2,     71.2,2,     80.8,3,  -999.00,9,  -999.00,9,  -999.00,9,    501,-999.000,  -999.0,  6.6049
     33KI127_1,  PRS2,     1,  1,      3,     35,2,20010613,0016, 21.3437,-158.2707, 1480,    599.1,   5.9482,  34.2675,2,  34.2679,2,     40.3,2,     36.9,2,  -999.00,9,  -999.00,9,  -999.00,9,    600,-999.000,  -999.0,  5.8959
     33KI127_1,  PRS2,     1,  1,      2,     34,2,20010613,0016, 21.3437,-158.2707, 1480,    750.0,   5.1985,  34.3981,2,  34.4008,2,     33.3,2,     32.3,2,  -999.00,9,  -999.00,9,  -999.00,9,    751,-999.000,  -999.0,  5.1364
     33KI127_1,  PRS2,     1,  1,      1,     33,2,20010613,0016, 21.3437,-158.2707, 1480,   1018.6,   4.2556,  34.4902,2,  34.4899,2,     42.4,2,     43.3,2,  -999.00,9,  -999.00,9,  -999.00,9,   1020,-999.000,  -999.0,  4.1764
     33KI127_1,  PRS2,     2,  1,     24,     31,2,20010613,1254, 22.7492,-158.0002, 4724,      4.0,  24.8506,  35.2323,2,  35.2373,2,    208.7,2,    209.0,2,  -999.00,9,  -999.00,9,  -999.00,9,      5,-999.000,  -999.0, 24.8497
     33KI127_1,  PRS2,     2,  1,     23,     30,2,20010613,1254, 22.7492,-158.0002, 4724,    498.8,   6.8738,  34.0356,2,  34.0372,2,    111.5,2,    113.9,2,  -999.00,9,  -999.00,9,  -999.00,9,    500,-999.000,  -999.0,  6.8273
     33KI127_1,  PRS2,     2,  1,     22,     22,2,20010613,1254, 22.7492,-158.0002, 4724,    828.1,   4.3440,  34.3500,2,  34.3468,2,     23.1,2,     22.6,2,  -999.00,9,  -999.00,9,  -999.00,9,    829,-999.000,  -999.0,  4.2804
     33KI127_1,  PRS2,     2,  1,     21,     21,2,20010613,1254, 22.7492,-158.0002, 4724,    999.2,   3.8837,  34.4780,2,  34.4765,2,     39.8,2,     38.3,2,  -999.00,9,  -999.00,9,  -999.00,9,   1000,-999.000,  -999.0,  3.8090
     33KI127_1,  PRS2,     2,  1,     20,     20,2,20010613,1254, 22.7492,-158.0002, 4724,   1200.1,   3.3581,  34.5305,2,  34.5301,2,     50.9,2,     50.9,2,  -999.00,9,  -999.00,9,  -999.00,9,   1202,-999.000,  -999.0,  3.2713
     33KI127_1,  PRS2,     2,  1,     19,     19,2,20010613,1254, 22.7492,-158.0002, 4724,   1398.3,   2.9160,  34.5631,2,  34.5629,2,     60.6,2,     60.7,2,  -999.00,9,  -999.00,9,  -999.00,9,   1399,-999.000,  -999.0,  2.8175
     33KI127_1,  PRS2,     2,  1,     18,     18,2,20010613,1254, 22.7492,-158.0002, 4724,   1599.6,   2.5230,  34.5902,2,  34.5897,2,     71.5,2,     71.7,2,  -999.00,9,  -999.00,9,  -999.00,9,   1601,-999.000,  -999.0,  2.4126
     33KI127_1,  PRS2,     2,  1,     17,     17,2,20010613,1254, 22.7492,-158.0002, 4724,   1798.7,   2.3150,  34.6070,2,  34.6060,2,     78.9,2,     79.4,2,  -999.00,9,  -999.00,9,  -999.00,9,   1801,-999.000,  -999.0,  2.1909
     33KI127_1,  PRS2,     2,  1,     16,     16,2,20010613,1254, 22.7492,-158.0002, 4724,   1999.2,   2.0451,  34.6236,2,  34.6240,2,     87.1,2,     87.9,2,  -999.00,9,  -999.00,9,  -999.00,9,   2000,-999.000,  -999.0,  1.9080
     33KI127_1,  PRS2,     2,  1,     15,     23,2,20010613,1254, 22.7492,-158.0002, 4724,   2200.2,   1.8719,  34.6402,2,  34.6403,2,     97.5,2,     98.8,2,  -999.00,9,  -999.00,9,  -999.00,9,   2202,-999.000,  -999.0,  1.7205
     33KI127_1,  PRS2,     2,  1,     14,     14,2,20010613,1254, 22.7492,-158.0002, 4724,   2400.6,   1.7493,  34.6504,2,  34.6500,2,    104.3,2,    105.5,2,  -999.00,9,  -999.00,9,  -999.00,9,   2402,-999.000,  -999.0,  1.5826
     33KI127_1,  PRS2,     2,  1,     13,     13,2,20010613,1254, 22.7492,-158.0002, 4724,   2600.4,   1.6683,  34.6583,2,  34.6594,2,    111.8,2,    112.3,2,  -999.00,9,  -999.00,9,  -999.00,9,   2601,-999.000,  -999.0,  1.4852
     33KI127_1,  PRS2,     2,  1,     12,     12,2,20010613,1254, 22.7492,-158.0002, 4724,   2800.7,   1.5832,  34.6661,2,  34.6663,2,    118.0,2,    118.9,2,  -999.00,9,  -999.00,9,  -999.00,9,   2803,-999.000,  -999.0,  1.3834
     33KI127_1,  PRS2,     2,  1,     11,     11,2,20010613,1254, 22.7492,-158.0002, 4724,   2999.9,   1.5334,  34.6721,2,  34.6714,2,    125.6,2,    125.9,2,  -999.00,9,  -999.00,9,  -999.00,9,   3000,-999.000,  -999.0,  1.3159
     33KI127_1,  PRS2,     2,  1,     10,     32,2,20010613,1254, 22.7492,-158.0002, 4724,   3199.4,   1.5034,  34.6766,2,  34.6765,2,    131.3,2,    131.2,2,  -999.00,9,  -999.00,9,  -999.00,9,   3201,-999.000,  -999.0,  1.2673
     33KI127_1,  PRS2,     2,  1,      9,      3,2,20010613,1254, 22.7492,-158.0002, 4724,   3400.1,   1.4779,  34.6809,2,  34.6800,2,    136.3,2,    136.9,2,  -999.00,9,  -999.00,9,  -999.00,9,   3400,-999.000,  -999.0,  1.2224
     33KI127_1,  PRS2,     2,  1,      8,     29,2,20010613,1254, 22.7492,-158.0002, 4724,   3598.3,   1.4557,  34.6844,2,  34.6842,2,    141.9,2,    141.8,2,  -999.00,9,  -999.00,9,  -999.00,9,   3599,-999.000,  -999.0,  1.1806
     33KI127_1,  PRS2,     2,  1,      7,     28,2,20010613,1254, 22.7492,-158.0002, 4724,   3798.4,   1.4471,  34.6865,2,  34.6873,2,    146.5,2,    146.1,2,  -999.00,9,  -999.00,9,  -999.00,9,   3799,-999.000,  -999.0,  1.1513
     33KI127_1,  PRS2,     2,  1,      6,      7,2,20010613,1254, 22.7492,-158.0002, 4724,   3999.3,   1.4521,  34.6881,2,  34.6893,2,    149.1,2,    148.4,2,  -999.00,9,  -999.00,9,  -999.00,9,   4000,-999.000,  -999.0,  1.1346
     33KI127_1,  PRS2,     2,  1,      5,     38,2,20010613,1254, 22.7492,-158.0002, 4724,   4199.4,   1.4610,  34.6891,2,  34.6893,2,    151.0,2,   -999.0,5,  -999.00,9,  -999.00,9,  -999.00,9,   4201,-999.000,  -999.0,  1.1213
     33KI127_1,  PRS2,     2,  1,      4,     36,2,20010613,1254, 22.7492,-158.0002, 4724,   4399.7,   1.4759,  34.6897,2,  34.6906,2,    152.2,2,    152.0,2,  -999.00,9,  -999.00,9,  -999.00,9,   4400,-999.000,  -999.0,  1.1131
     33KI127_1,  PRS2,     2,  1,      3,     35,2,20010613,1254, 22.7492,-158.0002, 4724,   4499.3,   1.4852,  34.6900,2,  34.6983,4,    152.2,3,    152.1,2,  -999.00,9,  -999.00,9,  -999.00,9,   4501,-999.000,  -999.0,  1.1108
     33KI127_1,  PRS2,     2,  1,      2,     34,2,20010613,1254, 22.7492,-158.0002, 4724,   4599.3,   1.4919,  34.6902,2,  34.6910,2,    152.8,2,    152.6,2,  -999.00,9,  -999.00,9,  -999.00,9,   4600,-999.000,  -999.0,  1.1056
     33KI127_1,  PRS2,     2,  1,      1,     33,2,20010613,1254, 22.7492,-158.0002, 4724,   4802.7,   1.5030,  34.6910,2,  34.6920,2,    154.0,2,    152.6,2,  -999.00,9,  -999.00,9,  -999.00,9,   4804,-999.000,  -999.0,  1.0924
     33KI127_1,  PRS2,     2,  2,     24,     31,3,20010613,1909, 22.7508,-158.0045, 4723,      3.6,  24.8803,  35.2382,2,  35.2387,2,    207.2,2,    209.8,2,  -999.00,9,  -999.00,9,  -999.00,9,      5,-999.000,  -999.0, 24.8796
     33KI127_1,  PRS2,     2,  2,     23,     30,2,20010613,1909, 22.7508,-158.0045, 4723,     49.0,  24.3443,  35.3980,2,  35.3979,2,    215.9,2,    215.4,2,  -999.00,9,  -999.00,9,  -999.00,9,     50,-999.000,  -999.0, 24.3339
     33KI127_1,  PRS2,     2,  2,     22,     22,3,20010613,1909, 22.7508,-158.0045, 4723,    103.5,  22.3012,  35.3876,2,  35.3916,2,    217.5,2,    218.9,2,  -999.00,9,  -999.00,9,  -999.00,9,    105,-999.000,  -999.0, 22.2805
     33KI127_1,  PRS2,     2,  2,     21,     21,2,20010613,1909, 22.7508,-158.0045, 4723,    138.5,  21.2850,  35.3295,2,  35.3356,2,    204.1,2,    207.9,2,  -999.00,9,  -999.00,9,  -999.00,9,    139,-999.000,  -999.0, 21.2582
     33KI127_1,  PRS2,     2,  2,     20,     20,2,20010613,1909, 22.7508,-158.0045, 4723,    178.8,  19.7567,  35.1470,2,  35.1486,2,    197.7,2,    199.1,2,  -999.00,9,  -999.00,9,  -999.00,9,    180,-999.000,  -999.0, 19.7239
     33KI127_1,  PRS2,     2,  2,     19,     19,2,20010613,1909, 22.7508,-158.0045, 4723,    219.4,  17.5223,  34.8573,2,  34.8696,2,    199.9,2,    199.0,2,  -999.00,9,  -999.00,9,  -999.00,9,    221,-999.000,  -999.0, 17.4853
     33KI127_1,  PRS2,     2,  2,     18,     18,2,20010613,1909, 22.7508,-158.0045, 4723,    253.1,  16.4614,  34.7061,2,  34.7070,2,    201.4,2,    198.9,2,  -999.00,9,  -999.00,9,  -999.00,9,    254,-999.000,  -999.0, 16.4206
     33KI127_1,  PRS2,     2,  2,     17,     17,2,20010613,1909, 22.7508,-158.0045, 4723,    308.2,  12.5958,  34.2578,2,  34.2650,2,    203.1,2,    201.4,2,  -999.00,9,  -999.00,9,  -999.00,9,    310,-999.000,  -999.0, 12.5544
     33KI127_1,  PRS2,     2,  2,     16,     16,2,20010613,1909, 22.7508,-158.0045, 4723,    364.5,  10.4718,  34.1467,2,  34.1487,2,    199.8,2,    197.6,2,  -999.00,9,  -999.00,9,  -999.00,9,    365,-999.000,  -999.0, 10.4284
     33KI127_1,  PRS2,     2,  2,     15,     23,2,20010613,1909, 22.7508,-158.0045, 4723,    419.1,   8.8880,  34.0797,2,  34.0825,2,    178.5,2,    177.3,2,  -999.00,9,  -999.00,9,  -999.00,9,    421,-999.000,  -999.0,  8.8428
     33KI127_1,  PRS2,     2,  2,     14,     14,2,20010613,1909, 22.7508,-158.0045, 4723,    459.2,   7.7789,  34.0384,2,  34.0398,2,    147.9,2,    148.1,2,  -999.00,9,  -999.00,9,  -999.00,9,    460,-999.000,  -999.0,  7.7331
     33KI127_1,  PRS2,     2,  2,     13,     13,2,20010613,1909, 22.7508,-158.0045, 4723,    502.3,   7.3734,  34.0340,2,  34.0358,2,    132.8,2,    133.3,2,  -999.00,9,  -999.00,9,  -999.00,9,    503,-999.000,  -999.0,  7.3247
     33KI127_1,  PRS2,     2,  2,     12,     12,2,20010613,1909, 22.7508,-158.0045, 4723,    531.9,   6.5701,  34.0378,2,  34.0380,2,    101.3,2,    102.1,2,  -999.00,9,  -999.00,9,  -999.00,9,    533,-999.000,  -999.0,  6.5216
     33KI127_1,  PRS2,     2,  2,     11,     11,2,20010613,1909, 22.7508,-158.0045, 4723,    583.2,   5.9003,  34.0670,2,  34.0680,2,     72.5,2,     71.6,2,  -999.00,9,  -999.00,9,  -999.00,9,    583,-999.000,  -999.0,  5.8498
     33KI127_1,  PRS2,     2,  2,     10,     32,2,20010613,1909, 22.7508,-158.0045, 4723,    630.4,   5.3925,  34.1254,2,  34.1230,2,     48.3,2,     48.8,2,  -999.00,9,  -999.00,9,  -999.00,9,    631,-999.000,  -999.0,  5.3402
     33KI127_1,  PRS2,     2,  2,      9,      3,2,20010613,1909, 22.7508,-158.0045, 4723,    676.1,   5.0524,  34.2144,2,  34.2140,2,     33.7,2,     32.7,2,  -999.00,9,  -999.00,9,  -999.00,9,    677,-999.000,  -999.0,  4.9977
     33KI127_1,  PRS2,     2,  2,      8,     29,2,20010613,1909, 22.7508,-158.0045, 4723,    709.1,   4.8516,  34.2608,2,  34.2609,2,     29.1,2,     27.0,2,  -999.00,9,  -999.00,9,  -999.00,9,    710,-999.000,  -999.0,  4.7951
     33KI127_1,  PRS2,     2,  2,      7,     28,2,20010613,1909, 22.7508,-158.0045, 4723,    746.9,   4.6067,  34.2880,2,  34.2881,2,     25.0,2,     23.8,2,  -999.00,9,  -999.00,9,  -999.00,9,    749,-999.000,  -999.0,  4.5484
     33KI127_1,  PRS2,     2,  2,      6,      7,2,20010613,1909, 22.7508,-158.0045, 4723,    788.6,   4.3959,  34.3241,2,  34.3292,2,     24.6,2,     21.4,2,  -999.00,9,  -999.00,9,  -999.00,9,    789,-999.000,  -999.0,  4.3353
     33KI127_1,  PRS2,     2,  2,      5,     38,2,20010613,1909, 22.7508,-158.0045, 4723,    825.1,   4.2908,  34.3845,2,  34.3837,2,     29.9,2,     26.6,2,  -999.00,9,  -999.00,9,  -999.00,9,    826,-999.000,  -999.0,  4.2278
     33KI127_1,  PRS2,     2,  2,      4,     36,2,20010613,1909, 22.7508,-158.0045, 4723,    868.7,   4.1230,  34.4080,2,  34.4096,2,     27.6,2,     28.2,2,  -999.00,9,  -999.00,9,  -999.00,9,    870,-999.000,  -999.0,  4.0574
     33KI127_1,  PRS2,     2,  2,      3,     35,2,20010613,1909, 22.7508,-158.0045, 4723,    908.9,   4.0681,  34.4347,2,  34.4336,2,     31.8,2,     31.3,2,  -999.00,9,  -999.00,9,  -999.00,9,    909,-999.000,  -999.0,  3.9995
     33KI127_1,  PRS2,     2,  2,      2,     34,2,20010613,1909, 22.7508,-158.0045, 4723,    962.1,   3.9405,  34.4651,2,  34.4644,2,     37.2,2,     36.3,2,  -999.00,9,  -999.00,9,  -999.00,9,    963,-999.000,  -999.0,  3.8685
     33KI127_1,  PRS2,     2,  2,      1,     33,2,20010613,1909, 22.7508,-158.0045, 4723,   1019.8,   3.8412,  34.4909,2,  34.4917,2,     40.4,2,     41.1,2,  -999.00,9,  -999.00,9,  -999.00,9,   1020,-999.000,  -999.0,  3.7652
     33KI127_1,  PRS2,     2,  3,     16,     16,2,20010613,2123, 22.7647,-157.9790, 4712,      3.9,  24.9490,  35.2344,2,  35.2341,2,    207.4,1,   -999.0,9,  -999.00,9,  -999.00,9,  -999.00,9,      5,-999.000,  -999.0, 24.9481
     33KI127_1,  PRS2,     2,  3,     15,     23,2,20010613,2123, 22.7647,-157.9790, 4712,     24.1,  24.8777,  35.2419,2,  35.2416,2,    208.4,1,   -999.0,9,  -999.00,9,  -999.00,9,  -999.00,9,     25,-999.000,  -999.0, 24.8725
     33KI127_1,  PRS2,     2,  3,     14,     14,2,20010613,2123, 22.7647,-157.9790, 4712,     43.8,  24.5219,  35.3956,2,  35.3951,2,    212.9,1,   -999.0,9,  -999.00,9,  -999.00,9,  -999.00,9,     45,-999.000,  -999.0, 24.5125
     33KI127_1,  PRS2,     2,  3,     13,     13,2,20010613,2123, 22.7647,-157.9790, 4712,     74.2,  22.9202,  35.4118,2,  35.4103,2,    221.2,1,   -999.0,9,  -999.00,9,  -999.00,9,  -999.00,9,     76,-999.000,  -999.0, 22.9050
     33KI127_1,  PRS2,     2,  3,     12,     12,2,20010613,2123, 22.7647,-157.9790, 4712,     98.9,  22.4566,  35.4032,2,  35.4040,2,    219.9,1,   -999.0,9,  -999.00,9,  -999.00,9,  -999.00,9,    100,-999.000,  -999.0, 22.4367
     33KI127_1,  PRS2,     2,  3,     11,     11,2,20010613,2123, 22.7647,-157.9790, 4712,    123.9,  21.9146,  35.3501,2,  35.3514,2,    216.0,1,   -999.0,9,  -999.00,9,  -999.00,9,  -999.00,9,    125,-999.000,  -999.0, 21.8902
     33KI127_1,  PRS2,     2,  3,     10,     32,2,20010613,2123, 22.7647,-157.9790, 4712,    148.7,  21.1582,  35.3103,2,  35.3143,2,    202.8,1,   -999.0,9,  -999.00,9,  -999.00,9,  -999.00,9,    150,-999.000,  -999.0, 21.1295
     33KI127_1,  PRS2,     2,  3,      8,     29,2,20010613,2123, 22.7647,-157.9790, 4712,    177.2,  19.6803,  35.1380,2,  35.1453,2,    196.2,1,   -999.0,9,  -999.00,9,  -999.00,9,  -999.00,9,    178,-999.000,  -999.0, 19.6479
     33KI127_1,  PRS2,     2,  3,      9,      3,2,20010613,2123, 22.7647,-157.9790, 4712,    178.2,  19.6741,  35.1374,2,  35.1398,2,    195.9,1,   -999.0,9,  -999.00,9,  -999.00,9,  -999.00,9,    180,-999.000,  -999.0, 19.6415
     33KI127_1,  PRS2,     2,  3,      6,      7,2,20010613,2123, 22.7647,-157.9790, 4712,    200.2,  19.1171,  35.0742,2,  35.0835,2,    199.8,1,   -999.0,9,  -999.00,9,  -999.00,9,  -999.00,9,    201,-999.000,  -999.0, 19.0813
     33KI127_1,  PRS2,     2,  3,      7,     28,2,20010613,2123, 22.7647,-157.9790, 4712,    201.2,  19.0420,  35.0650,2,  35.0817,2,    199.9,1,   -999.0,9,  -999.00,9,  -999.00,9,  -999.00,9,    202,-999.000,  -999.0, 19.0061
     33KI127_1,  PRS2,     2,  3,      5,     38,2,20010613,2123, 22.7647,-157.9790, 4712,    248.7,  16.8147,  34.7535,2,  34.7561,2,    201.5,1,   -999.0,9,  -999.00,9,  -999.00,9,  -999.00,9,    249,-999.000,  -999.0, 16.7740
     33KI127_1,  PRS2,     2,  3,      4,     36,2,20010613,2123, 22.7647,-157.9790, 4712,    501.7,   7.0448,  34.0315,2,  34.0319,2,    118.9,1,   -999.0,9,  -999.00,9,  -999.00,9,  -999.00,9,    503,-999.000,  -999.0,  6.9973
     33KI127_1,  PRS2,     2,  3,      3,     35,2,20010613,2123, 22.7647,-157.9790, 4712,   1018.3,   3.8446,  34.4868,2,  34.4846,2,     40.3,1,   -999.0,9,  -999.00,9,  -999.00,9,  -999.00,9,   1019,-999.000,  -999.0,  3.7686
     33KI127_1,  PRS2,     2,  3,      2,     34,2,20010613,2123, 22.7647,-157.9790, 4712,   1018.4,   3.8452,  34.4874,2,  34.4864,2,     40.3,1,   -999.0,9,  -999.00,9,  -999.00,9,  -999.00,9,   1020,-999.000,  -999.0,  3.7692
     33KI127_1,  PRS2,     2,  3,      1,     33,2,20010613,2123, 22.7647,-157.9790, 4712,   1018.5,   3.8458,  34.4879,2,  34.4868,2,     40.3,1,   -999.0,9,  -999.00,9,  -999.00,9,  -999.00,9,   1020,-999.000,  -999.0,  3.7698