BOTTLE,20020809WHPSIObren
EXPOCODE,SECT_ID,STNNBR,CASTNO,SAMPNO,BTLNBR,BTLNBR_FLAG_W,DATE,TIME,LATITUDE,LONGITUDE,DEPTH,CTDPRS,CTDTMP,CTDSAL,CTDSAL_FLAG_W,SALNTY,SALNTY_FLAG_W,CTDOXY,CTDOXY_FLAG_W,OXYGEN,OXYGEN_FLAG_W,SILCAT,SILCAT_FLAG_W,NO2+NO3,NO2+NO3_FLAG_W,PHSPHT,PHSPHT_FLAG_W,CTDRAW,REVTMP,REVPRS,THETA
,,,,,,,,,,,,DBAR,ITS-90,PSS-78,,PSS-78,,UMOL/KG,,UMOL/KG,,UMOL/KG,,UMOL/KG,,UMOL/KG,,,DEG C,DBAR,ITS-90
     33KI127_1,  PRS2,     2,  4,     17,     17,2,20010614,0007, 22.7740,-158.0098, 4713,      3.5,  24.9612,  35.2445,2,  35.2448,2,    208.2,1,   -999.0,9,  -999.00,9,  -999.00,9,  -999.00,9,      5,-999.000,  -999.0, 24.9604
     33KI127_1,  PRS2,     2,  4,     16,     16,2,20010614,0007, 22.7740,-158.0098, 4713,     23.7,  24.9321,  35.2472,2,  35.2712,4,    208.3,1,   -999.0,9,  -999.00,9,  -999.00,9,  -999.00,9,     25,-999.000,  -999.0, 24.9270
     33KI127_1,  PRS2,     2,  4,     15,     23,2,20010614,0007, 22.7740,-158.0098, 4713,     23.9,  24.9338,  35.2471,2,  35.2469,2,    208.2,1,   -999.0,9,  -999.00,9,  -999.00,9,  -999.00,9,     25,-999.000,  -999.0, 24.9287
     33KI127_1,  PRS2,     2,  4,     14,     14,2,20010614,0007, 22.7740,-158.0098, 4713,     44.0,  24.7438,  35.3451,2,  35.3299,3,    211.2,1,   -999.0,9,  -999.00,9,  -999.00,9,  -999.00,9,     45,-999.000,  -999.0, 24.7343
     33KI127_1,  PRS2,     2,  4,     13,     13,2,20010614,0007, 22.7740,-158.0098, 4713,     44.0,  24.7465,  35.3431,2,  35.3269,3,    211.1,1,   -999.0,9,  -999.00,9,  -999.00,9,  -999.00,9,     45,-999.000,  -999.0, 24.7370
     33KI127_1,  PRS2,     2,  4,     11,     11,2,20010614,0007, 22.7740,-158.0098, 4713,     73.9,  23.0941,  35.3941,2,  35.3934,2,    222.6,1,   -999.0,9,  -999.00,9,  -999.00,9,  -999.00,9,     75,-999.000,  -999.0, 23.0790
     33KI127_1,  PRS2,     2,  4,     12,     12,2,20010614,0007, 22.7740,-158.0098, 4713,     74.0,  23.1241,  35.3942,2,  35.3947,2,    222.8,1,   -999.0,9,  -999.00,9,  -999.00,9,  -999.00,9,     75,-999.000,  -999.0, 23.1089
     33KI127_1,  PRS2,     2,  4,     10,     32,2,20010614,0007, 22.7740,-158.0098, 4713,    100.0,  22.4288,  35.3857,2,  35.3875,2,    218.7,1,   -999.0,9,  -999.00,9,  -999.00,9,  -999.00,9,    101,-999.000,  -999.0, 22.4087
     33KI127_1,  PRS2,     2,  4,      9,      3,2,20010614,0007, 22.7740,-158.0098, 4713,    124.0,  21.7707,  35.3379,2,  35.3388,2,    214.8,1,   -999.0,9,  -999.00,9,  -999.00,9,  -999.00,9,    126,-999.000,  -999.0, 21.7463
     33KI127_1,  PRS2,     2,  4,      8,     29,2,20010614,0007, 22.7740,-158.0098, 4713,    148.0,  20.9902,  35.2867,2,  35.2942,2,    207.9,1,   -999.0,9,  -999.00,9,  -999.00,9,  -999.00,9,    149,-999.000,  -999.0, 20.9618
     33KI127_1,  PRS2,     2,  4,      7,     28,2,20010614,0007, 22.7740,-158.0098, 4713,    173.3,  20.0349,  35.1778,2,  35.1829,2,    199.8,1,   -999.0,9,  -999.00,9,  -999.00,9,  -999.00,9,    175,-999.000,  -999.0, 20.0028
     33KI127_1,  PRS2,     2,  4,      6,      7,2,20010614,0007, 22.7740,-158.0098, 4713,    198.8,  18.7718,  35.0328,2,  35.0378,2,    199.4,1,   -999.0,9,  -999.00,9,  -999.00,9,  -999.00,9,    200,-999.000,  -999.0, 18.7366
     33KI127_1,  PRS2,     2,  4,      5,     38,2,20010614,0007, 22.7740,-158.0098, 4713,    250.5,  16.1640,  34.6650,2,  34.6682,2,    199.9,1,   -999.0,9,  -999.00,9,  -999.00,9,  -999.00,9,    252,-999.000,  -999.0, 16.1241
     33KI127_1,  PRS2,     2,  4,      3,     35,2,20010614,0007, 22.7740,-158.0098, 4713,    352.2,  10.9758,  34.1727,2,  34.1746,2,    203.1,1,   -999.0,9,  -999.00,9,  -999.00,9,  -999.00,9,    353,-999.000,  -999.0, 10.9325
     33KI127_1,  PRS2,     2,  4,      4,     36,2,20010614,0007, 22.7740,-158.0098, 4713,    352.3,  10.9703,  34.1723,2,  34.1742,2,    203.1,1,   -999.0,9,  -999.00,9,  -999.00,9,  -999.00,9,    353,-999.000,  -999.0, 10.9270
     33KI127_1,  PRS2,     2,  4,      2,     34,2,20010614,0007, 22.7740,-158.0098, 4713,    482.4,   7.2083,  34.0298,2,  34.0313,2,    126.4,1,   -999.0,9,  -999.00,9,  -999.00,9,  -999.00,9,    484,-999.000,  -999.0,  7.1622
     33KI127_1,  PRS2,     2,  4,      1,     33,2,20010614,0007, 22.7740,-158.0098, 4713,   1019.0,   3.8696,  34.4862,2,  34.4846,2,     39.6,1,   -999.0,9,  -999.00,9,  -999.00,9,  -999.00,9,   1021,-999.000,  -999.0,  3.7934
     33KI127_1,  PRS2,     2,  5,     17,     17,2,20010614,0255, 22.7492,-158.0042, 4724,      3.7,  24.9970,  35.2229,2,  35.2416,4,    209.7,1,   -999.0,9,  -999.00,9,  -999.00,9,  -999.00,9,      5,-999.000,  -999.0, 24.9962
     33KI127_1,  PRS2,     2,  5,     16,     16,2,20010614,0255, 22.7492,-158.0042, 4724,     23.3,  24.9349,  35.2333,2,  35.2333,2,    210.1,1,   -999.0,9,  -999.00,9,  -999.00,9,  -999.00,9,     24,-999.000,  -999.0, 24.9298
     33KI127_1,  PRS2,     2,  5,     14,     14,2,20010614,0255, 22.7492,-158.0042, 4724,     23.3,  24.9442,  35.2315,2,  35.2314,2,    209.9,1,   -999.0,9,  -999.00,9,  -999.00,9,  -999.00,9,     24,-999.000,  -999.0, 24.9391
     33KI127_1,  PRS2,     2,  5,     13,     13,2,20010614,0255, 22.7492,-158.0042, 4724,     23.3,  24.9455,  35.2310,2,  35.2320,2,    209.8,1,   -999.0,9,  -999.00,9,  -999.00,9,  -999.00,9,     24,-999.000,  -999.0, 24.9405
     33KI127_1,  PRS2,     2,  5,     15,     23,2,20010614,0255, 22.7492,-158.0042, 4724,     23.4,  24.9373,  35.2329,2,  35.2387,2,    210.0,1,   -999.0,9,  -999.00,9,  -999.00,9,  -999.00,9,     25,-999.000,  -999.0, 24.9322
     33KI127_1,  PRS2,     2,  5,     12,     12,2,20010614,0255, 22.7492,-158.0042, 4724,     44.4,  24.1316,  35.3927,2,  35.3934,2,    221.1,1,   -999.0,9,  -999.00,9,  -999.00,9,  -999.00,9,     46,-999.000,  -999.0, 24.1222
     33KI127_1,  PRS2,     2,  5,     11,     11,2,20010614,0255, 22.7492,-158.0042, 4724,     73.4,  22.9479,  35.4181,2,  35.4196,2,    223.5,1,   -999.0,9,  -999.00,9,  -999.00,9,  -999.00,9,     74,-999.000,  -999.0, 22.9329
     33KI127_1,  PRS2,     2,  5,     10,     32,2,20010614,0255, 22.7492,-158.0042, 4724,     98.6,  22.5416,  35.4159,2,  35.4182,2,    222.5,1,   -999.0,9,  -999.00,9,  -999.00,9,  -999.00,9,    100,-999.000,  -999.0, 22.5217
     33KI127_1,  PRS2,     2,  5,      9,      3,2,20010614,0255, 22.7492,-158.0042, 4724,    124.6,  21.7940,  35.3457,2,  35.3470,2,    213.6,1,   -999.0,9,  -999.00,9,  -999.00,9,  -999.00,9,    126,-999.000,  -999.0, 21.7695
     33KI127_1,  PRS2,     2,  5,      8,     29,2,20010614,0255, 22.7492,-158.0042, 4724,    147.9,  20.8968,  35.2775,2,  35.3145,3,    205.3,1,   -999.0,9,  -999.00,9,  -999.00,9,  -999.00,9,    149,-999.000,  -999.0, 20.8685
     33KI127_1,  PRS2,     2,  5,      7,     28,2,20010614,0255, 22.7492,-158.0042, 4724,    174.0,  19.7268,  35.1441,2,  35.1419,2,    199.8,1,   -999.0,9,  -999.00,9,  -999.00,9,  -999.00,9,    175,-999.000,  -999.0, 19.6949
     33KI127_1,  PRS2,     2,  5,      6,      7,2,20010614,0255, 22.7492,-158.0042, 4724,    198.8,  18.3392,  34.9737,2,  34.9744,2,    201.6,1,   -999.0,9,  -999.00,9,  -999.00,9,  -999.00,9,    201,-999.000,  -999.0, 18.3046
     33KI127_1,  PRS2,     2,  5,      5,     38,2,20010614,0255, 22.7492,-158.0042, 4724,    250.2,  14.6775,  34.4738,2,  34.4862,2,    201.9,1,   -999.0,9,  -999.00,9,  -999.00,9,  -999.00,9,    251,-999.000,  -999.0, 14.6403
     33KI127_1,  PRS2,     2,  5,      4,     36,2,20010614,0255, 22.7492,-158.0042, 4724,    347.7,  10.7404,  34.1643,2,  34.1681,2,    202.6,1,   -999.0,9,  -999.00,9,  -999.00,9,  -999.00,9,    348,-999.000,  -999.0, 10.6983
     33KI127_1,  PRS2,     2,  5,      3,     35,2,20010614,0255, 22.7492,-158.0042, 4724,    348.1,  10.7376,  34.1637,2,  34.1650,2,    202.8,1,   -999.0,9,  -999.00,9,  -999.00,9,  -999.00,9,    350,-999.000,  -999.0, 10.6954
     33KI127_1,  PRS2,     2,  5,      2,     34,2,20010614,0255, 22.7492,-158.0042, 4724,    817.3,   4.3636,  34.3300,2,  34.3305,2,     22.6,1,   -999.0,9,  -999.00,9,  -999.00,9,  -999.00,9,    819,-999.000,  -999.0,  4.3008
     33KI127_1,  PRS2,     2,  5,      1,     33,2,20010614,0255, 22.7492,-158.0042, 4724,    817.3,   4.3636,  34.3300,2,  34.3305,2,     22.6,1,   -999.0,9,  -999.00,9,  -999.00,9,  -999.00,9,    819,-999.000,  -999.0,  4.3008
     33KI127_1,  PRS2,     2,  6,     20,     20,2,20010614,0555, 22.7502,-157.9993, 4723,      3.5,  24.9261,  35.2406,2,  35.2672,4,    208.6,3,   -999.0,5,  -999.00,9,  -999.00,9,  -999.00,9,      5,-999.000,  -999.0, 24.9253
     33KI127_1,  PRS2,     2,  6,     19,     19,2,20010614,0555, 22.7502,-157.9993, 4723,      3.5,  24.9290,  35.2411,2,  35.2503,2,    208.6,2,    209.5,2,  -999.00,9,  -999.00,9,  -999.00,9,      4,-999.000,  -999.0, 24.9282
     33KI127_1,  PRS2,     2,  6,     18,     18,2,20010614,0555, 22.7502,-157.9993, 4723,     14.1,  24.9349,  35.2406,2,  35.2406,2,    208.6,2,   -999.0,5,  -999.00,9,  -999.00,9,  -999.00,9,     15,-999.000,  -999.0, 24.9319
     33KI127_1,  PRS2,     2,  6,     17,     17,2,20010614,0555, 22.7502,-157.9993, 4723,     24.2,  24.9323,  35.2417,2,  35.2558,3,    208.7,3,   -999.0,5,  -999.00,9,  -999.00,9,  -999.00,9,     26,-999.000,  -999.0, 24.9270
     33KI127_1,  PRS2,     2,  6,     16,     16,2,20010614,0555, 22.7502,-157.9993, 4723,     24.2,  24.9292,  35.2453,2,  35.2428,2,    208.7,2,    209.6,2,  -999.00,9,  -999.00,9,  -999.00,9,     26,-999.000,  -999.0, 24.9240
     33KI127_1,  PRS2,     2,  6,     15,     23,2,20010614,0555, 22.7502,-157.9993, 4723,     34.0,  24.9307,  35.2469,2,  35.2436,2,    208.8,2,   -999.0,5,  -999.00,9,  -999.00,9,  -999.00,9,     35,-999.000,  -999.0, 24.9234
     33KI127_1,  PRS2,     2,  6,     14,     14,2,20010614,0555, 22.7502,-157.9993, 4723,     44.0,  24.4560,  35.3984,2,  35.3949,2,    215.6,2,    214.2,2,  -999.00,9,  -999.00,9,  -999.00,9,     45,-999.000,  -999.0, 24.4466
     33KI127_1,  PRS2,     2,  6,     13,     13,2,20010614,0555, 22.7502,-157.9993, 4723,     59.5,  23.5283,  35.3887,2,  35.3865,2,    223.7,2,   -999.0,5,  -999.00,9,  -999.00,9,  -999.00,9,     61,-999.000,  -999.0, 23.5159
     33KI127_1,  PRS2,     2,  6,     12,     12,2,20010614,0555, 22.7502,-157.9993, 4723,     73.9,  23.1527,  35.4125,2,  35.4109,2,    222.6,2,    221.8,2,  -999.00,9,  -999.00,9,  -999.00,9,     75,-999.000,  -999.0, 23.1376
     33KI127_1,  PRS2,     2,  6,     11,     11,2,20010614,0555, 22.7502,-157.9993, 4723,     84.6,  22.8614,  35.4146,2,  35.4064,2,    220.9,2,    220.3,2,  -999.00,9,  -999.00,9,  -999.00,9,     86,-999.000,  -999.0, 22.8442
     33KI127_1,  PRS2,     2,  6,     10,     32,2,20010614,0555, 22.7502,-157.9993, 4723,     99.5,  22.6498,  35.4100,2,  35.4543,4,    219.2,3,    218.5,2,  -999.00,9,  -999.00,9,  -999.00,9,    101,-999.000,  -999.0, 22.6297
     33KI127_1,  PRS2,     2,  6,      9,      3,2,20010614,0555, 22.7502,-157.9993, 4723,    114.6,  22.5590,  35.4208,2,  35.4204,2,    216.5,2,    218.5,2,  -999.00,9,  -999.00,9,  -999.00,9,    116,-999.000,  -999.0, 22.5359
     33KI127_1,  PRS2,     2,  6,      8,     29,2,20010614,0555, 22.7502,-157.9993, 4723,    124.3,  22.0743,  35.3670,2,  35.3709,2,    216.9,2,    216.2,2,  -999.00,9,  -999.00,9,  -999.00,9,    125,-999.000,  -999.0, 22.0496
     33KI127_1,  PRS2,     2,  6,      7,     28,2,20010614,0555, 22.7502,-157.9993, 4723,    148.7,  21.5579,  35.3614,2,  35.4172,4,    209.7,3,    209.7,2,  -999.00,9,  -999.00,9,  -999.00,9,    150,-999.000,  -999.0, 21.5289
     33KI127_1,  PRS2,     2,  6,      6,      7,2,20010614,0555, 22.7502,-157.9993, 4723,    163.7,  20.3565,  35.2181,2,  35.2197,2,    197.4,2,    203.4,2,  -999.00,9,  -999.00,9,  -999.00,9,    165,-999.000,  -999.0, 20.3259
     33KI127_1,  PRS2,     2,  6,      5,     38,2,20010614,0555, 22.7502,-157.9993, 4723,    173.5,  20.2364,  35.2022,2,  35.2093,2,    201.1,2,    202.1,2,  -999.00,9,  -999.00,9,  -999.00,9,    175,-999.000,  -999.0, 20.2040
     33KI127_1,  PRS2,     2,  6,      4,     36,2,20010614,0555, 22.7502,-157.9993, 4723,    199.8,  19.1586,  35.0781,2,  35.0844,2,    198.1,2,    198.4,2,  -999.00,9,  -999.00,9,  -999.00,9,    201,-999.000,  -999.0, 19.1227
     33KI127_1,  PRS2,     2,  6,      3,     35,2,20010614,0555, 22.7502,-157.9993, 4723,    498.0,   7.3269,  34.0362,2,  34.0376,2,    130.5,2,   -999.0,5,  -999.00,9,  -999.00,9,  -999.00,9,    499,-999.000,  -999.0,  7.2787
     33KI127_1,  PRS2,     2,  6,      2,     34,2,20010614,0555, 22.7502,-157.9993, 4723,    826.5,   4.3106,  34.3452,2,  34.3425,2,     22.6,2,     22.2,2,  -999.00,9,  -999.00,9,  -999.00,9,    827,-999.000,  -999.0,  4.2474
     33KI127_1,  PRS2,     2,  6,      1,     33,2,20010614,0555, 22.7502,-157.9993, 4723,    826.5,   4.3106,  34.3452,2,  34.3429,2,     22.6,2,   -999.0,5,  -999.00,9,  -999.00,9,  -999.00,9,    827,-999.000,  -999.0,  4.2474
     33KI127_1,  PRS2,     2,  7,     20,     20,2,20010614,0850, 22.7502,-158.0107, 4725,      4.2,  24.9044,  35.2521,2,  35.2532,2,    207.6,1,   -999.0,9,  -999.00,9,  -999.00,9,  -999.00,9,      6,-999.000,  -999.0, 24.9035
     33KI127_1,  PRS2,     2,  7,     19,     19,2,20010614,0850, 22.7502,-158.0107, 4725,      4.2,  24.9047,  35.2519,2,  35.2820,4,    207.5,1,   -999.0,9,  -999.00,9,  -999.00,9,  -999.00,9,      6,-999.000,  -999.0, 24.9038
     33KI127_1,  PRS2,     2,  7,     18,     18,2,20010614,0850, 22.7502,-158.0107, 4725,      4.2,  24.9049,  35.2515,2,  35.3151,4,    207.3,1,   -999.0,9,  -999.00,9,  -999.00,9,  -999.00,9,      5,-999.000,  -999.0, 24.9040
     33KI127_1,  PRS2,     2,  7,     17,     17,2,20010614,0850, 22.7502,-158.0107, 4725,     23.9,  24.9099,  35.2545,2,  35.2552,2,    209.0,1,   -999.0,9,  -999.00,9,  -999.00,9,  -999.00,9,     25,-999.000,  -999.0, 24.9047
     33KI127_1,  PRS2,     2,  7,     16,     16,2,20010614,0850, 22.7502,-158.0107, 4725,     23.9,  24.9103,  35.2578,2,  35.2674,2,    209.2,1,   -999.0,9,  -999.00,9,  -999.00,9,  -999.00,9,     25,-999.000,  -999.0, 24.9052
     33KI127_1,  PRS2,     2,  7,     15,     23,2,20010614,0850, 22.7502,-158.0107, 4725,     23.9,  24.9112,  35.2579,2,  35.2568,2,    209.2,1,   -999.0,9,  -999.00,9,  -999.00,9,  -999.00,9,     25,-999.000,  -999.0, 24.9061
     33KI127_1,  PRS2,     2,  7,     13,     13,2,20010614,0850, 22.7502,-158.0107, 4725,     43.9,  23.7861,  35.3912,2,  35.3947,2,    225.3,1,   -999.0,9,  -999.00,9,  -999.00,9,  -999.00,9,     45,-999.000,  -999.0, 23.7770
     33KI127_1,  PRS2,     2,  7,     12,     12,2,20010614,0850, 22.7502,-158.0107, 4725,     43.9,  23.7890,  35.3908,2,  35.3930,2,    225.3,1,   -999.0,9,  -999.00,9,  -999.00,9,  -999.00,9,     45,-999.000,  -999.0, 23.7798
     33KI127_1,  PRS2,     2,  7,     14,     14,2,20010614,0850, 22.7502,-158.0107, 4725,     44.0,  23.7855,  35.3914,2,  35.3916,2,    225.2,1,   -999.0,9,  -999.00,9,  -999.00,9,  -999.00,9,     45,-999.000,  -999.0, 23.7763
     33KI127_1,  PRS2,     2,  7,     11,     11,2,20010614,0850, 22.7502,-158.0107, 4725,     73.5,  22.8768,  35.4185,2,  35.4342,4,    222.3,1,   -999.0,9,  -999.00,9,  -999.00,9,  -999.00,9,     75,-999.000,  -999.0, 22.8618
     33KI127_1,  PRS2,     2,  7,     10,     32,2,20010614,0850, 22.7502,-158.0107, 4725,     73.6,  22.8797,  35.4185,2,  35.4194,2,    222.4,1,   -999.0,9,  -999.00,9,  -999.00,9,  -999.00,9,     75,-999.000,  -999.0, 22.8647
     33KI127_1,  PRS2,     2,  7,      9,      3,2,20010614,0850, 22.7502,-158.0107, 4725,     73.7,  22.8842,  35.4193,2,  35.4200,2,    222.4,1,   -999.0,9,  -999.00,9,  -999.00,9,  -999.00,9,     75,-999.000,  -999.0, 22.8691
     33KI127_1,  PRS2,     2,  7,      8,     29,2,20010614,0850, 22.7502,-158.0107, 4725,     98.5,  22.6034,  35.4192,2,  35.4212,2,    219.0,1,   -999.0,9,  -999.00,9,  -999.00,9,  -999.00,9,    100,-999.000,  -999.0, 22.5835
     33KI127_1,  PRS2,     2,  7,      6,      7,2,20010614,0850, 22.7502,-158.0107, 4725,     98.5,  22.6094,  35.4198,2,  35.4200,2,    218.7,1,   -999.0,9,  -999.00,9,  -999.00,9,  -999.00,9,    100,-999.000,  -999.0, 22.5895
     33KI127_1,  PRS2,     2,  7,      7,     28,2,20010614,0850, 22.7502,-158.0107, 4725,     98.6,  22.6063,  35.4195,2,  35.4324,3,    218.8,1,   -999.0,9,  -999.00,9,  -999.00,9,  -999.00,9,    100,-999.000,  -999.0, 22.5864
     33KI127_1,  PRS2,     2,  7,      5,     38,2,20010614,0850, 22.7502,-158.0107, 4725,    148.7,  21.2808,  35.3265,2,  35.3427,4,    205.5,1,   -999.0,9,  -999.00,9,  -999.00,9,  -999.00,9,    149,-999.000,  -999.0, 21.2520
     33KI127_1,  PRS2,     2,  7,      3,     35,2,20010614,0850, 22.7502,-158.0107, 4725,    148.7,  21.2760,  35.3251,2,  35.3248,2,    205.6,1,   -999.0,9,  -999.00,9,  -999.00,9,  -999.00,9,    150,-999.000,  -999.0, 21.2473
     33KI127_1,  PRS2,     2,  7,      4,     36,2,20010614,0850, 22.7502,-158.0107, 4725,    148.9,  21.2784,  35.3253,2,  35.3273,2,    205.6,1,   -999.0,9,  -999.00,9,  -999.00,9,  -999.00,9,    151,-999.000,  -999.0, 21.2496
     33KI127_1,  PRS2,     2,  7,      2,     34,2,20010614,0850, 22.7502,-158.0107, 4725,    501.3,   7.0336,  34.0339,2,  34.0374,2,    115.9,1,   -999.0,9,  -999.00,9,  -999.00,9,  -999.00,9,    503,-999.000,  -999.0,  6.9862
     33KI127_1,  PRS2,     2,  7,      1,     33,2,20010614,0850, 22.7502,-158.0107, 4725,   1021.2,   3.8531,  34.4890,2,  34.2846,4,     39.9,1,   -999.0,9,  -999.00,9,  -999.00,9,  -999.00,9,   1023,-999.000,  -999.0,  3.7768