BOTTLE,20020809WHPSIObren
EXPOCODE,SECT_ID,STNNBR,CASTNO,SAMPNO,BTLNBR,BTLNBR_FLAG_W,DATE,TIME,LATITUDE,LONGITUDE,DEPTH,CTDPRS,CTDTMP,CTDSAL,CTDSAL_FLAG_W,SALNTY,SALNTY_FLAG_W,CTDOXY,CTDOXY_FLAG_W,OXYGEN,OXYGEN_FLAG_W,SILCAT,SILCAT_FLAG_W,NO2+NO3,NO2+NO3_FLAG_W,PHSPHT,PHSPHT_FLAG_W,CTDRAW,REVTMP,REVPRS,THETA
,,,,,,,,,,,,DBAR,ITS-90,PSS-78,,PSS-78,,UMOL/KG,,UMOL/KG,,UMOL/KG,,UMOL/KG,,UMOL/KG,,,DEG C,DBAR,ITS-90
     33KI127_1,  PRS2,     8,  1,     13,     13,2,20010615,2156, 22.3350,-158.1785, 4851,      3.8,  24.8667,  35.2754,2,  35.2739,2,    210.1,2,    211.2,2,  -999.00,9,  -999.00,9,  -999.00,9,      5,-999.000,  -999.0, 24.8659
     33KI127_1,  PRS2,     8,  1,     12,     12,2,20010615,2156, 22.3350,-158.1785, 4851,     23.4,  24.5991,  35.2921,2,  35.2901,2,    214.0,2,    213.6,2,  -999.00,9,  -999.00,9,  -999.00,9,     25,-999.000,  -999.0, 24.5941
     33KI127_1,  PRS2,     8,  1,     11,     11,2,20010615,2156, 22.3350,-158.1785, 4851,     43.4,  24.1308,  35.3227,2,  35.3202,2,    219.3,2,    219.2,2,  -999.00,9,  -999.00,9,  -999.00,9,     45,-999.000,  -999.0, 24.1216
     33KI127_1,  PRS2,     8,  1,     10,     32,2,20010615,2156, 22.3350,-158.1785, 4851,     73.6,  23.0116,  35.4173,2,  35.4182,2,    222.8,2,    222.3,2,  -999.00,9,  -999.00,9,  -999.00,9,     75,-999.000,  -999.0, 22.9965
     33KI127_1,  PRS2,     8,  1,      9,      3,2,20010615,2156, 22.3350,-158.1785, 4851,     98.8,  22.6736,  35.4179,2,  35.4176,2,    220.8,2,    220.4,2,  -999.00,9,  -999.00,9,  -999.00,9,    100,-999.000,  -999.0, 22.6536
     33KI127_1,  PRS2,     8,  1,      8,     29,2,20010615,2156, 22.3350,-158.1785, 4851,    123.4,  21.8981,  35.3860,2,  35.3811,2,    213.5,2,    213.3,2,  -999.00,9,  -999.00,9,  -999.00,9,    125,-999.000,  -999.0, 21.8737
     33KI127_1,  PRS2,     8,  1,      7,     28,2,20010615,2156, 22.3350,-158.1785, 4851,    149.1,  20.6035,  35.2514,2,  35.2481,2,    203.8,2,    205.3,2,  -999.00,9,  -999.00,9,  -999.00,9,    151,-999.000,  -999.0, 20.5753
     33KI127_1,  PRS2,     8,  1,      6,      7,2,20010615,2156, 22.3350,-158.1785, 4851,    174.2,  19.5686,  35.1164,2,  35.1177,2,    199.0,2,    199.0,2,  -999.00,9,  -999.00,9,  -999.00,9,    175,-999.000,  -999.0, 19.5368
     33KI127_1,  PRS2,     8,  1,      5,     38,2,20010615,2156, 22.3350,-158.1785, 4851,    200.8,  18.2354,  34.9551,2,  34.9697,2,    200.8,2,    199.2,2,  -999.00,9,  -999.00,9,  -999.00,9,    202,-999.000,  -999.0, 18.2006
     33KI127_1,  PRS2,     8,  1,      4,     36,2,20010615,2156, 22.3350,-158.1785, 4851,    349.9,  10.6575,  34.1606,2,  34.1607,2,    197.7,2,    198.9,2,  -999.00,9,  -999.00,9,  -999.00,9,    352,-999.000,  -999.0, 10.6154
     33KI127_1,  PRS2,     8,  1,      3,     35,2,20010615,2156, 22.3350,-158.1785, 4851,    500.6,   7.3709,  34.0412,2,  34.0411,2,    132.3,2,    131.0,2,  -999.00,9,  -999.00,9,  -999.00,9,    502,-999.000,  -999.0,  7.3223
     33KI127_1,  PRS2,     8,  1,      2,     34,2,20010615,2156, 22.3350,-158.1785, 4851,    749.5,   4.5470,  34.2854,2,  34.2844,2,     21.7,2,     21.0,2,  -999.00,9,  -999.00,9,  -999.00,9,    751,-999.000,  -999.0,  4.4888
     33KI127_1,  PRS2,     8,  1,      1,     33,2,20010615,2156, 22.3350,-158.1785, 4851,   1017.3,   3.7981,  34.4941,2,  34.4921,2,     43.5,2,     44.7,2,  -999.00,9,  -999.00,9,  -999.00,9,   1018,-999.000,  -999.0,  3.7226