BOTTLE,20020809WHPSIObren
EXPOCODE,SECT_ID,STNNBR,CASTNO,SAMPNO,BTLNBR,BTLNBR_FLAG_W,DATE,TIME,LATITUDE,LONGITUDE,DEPTH,CTDPRS,CTDTMP,CTDSAL,CTDSAL_FLAG_W,SALNTY,SALNTY_FLAG_W,CTDOXY,CTDOXY_FLAG_W,OXYGEN,OXYGEN_FLAG_W,SILCAT,SILCAT_FLAG_W,NO2+NO3,NO2+NO3_FLAG_W,PHSPHT,PHSPHT_FLAG_W,CTDRAW,REVTMP,REVPRS,THETA
,,,,,,,,,,,,DBAR,ITS-90,PSS-78,,PSS-78,,UMOL/KG,,UMOL/KG,,UMOL/KG,,UMOL/KG,,UMOL/KG,,,DEG C,DBAR,ITS-90
     33KI127_1,  PRS2,     2,  8,     20,     20,2,20010614,1158, 22.7497,-158.0083, 4725,      3.9,  24.8931,  35.2511,2,  35.2580,2,    210.2,1,   -999.0,9,  -999.00,9,  -999.00,9,  -999.00,9,      5,-999.000,  -999.0, 24.8923
     33KI127_1,  PRS2,     2,  8,     22,     22,2,20010614,1158, 22.7497,-158.0083, 4725,      4.0,  24.8914,  35.2509,2,  35.2511,2,    210.1,1,   -999.0,9,  -999.00,9,  -999.00,9,  -999.00,9,      5,-999.000,  -999.0, 24.8906
     33KI127_1,  PRS2,     2,  8,     21,     21,2,20010614,1158, 22.7497,-158.0083, 4725,      4.0,  24.8912,  35.2510,2,  35.2499,2,    210.2,1,   -999.0,9,  -999.00,9,  -999.00,9,  -999.00,9,      5,-999.000,  -999.0, 24.8903
     33KI127_1,  PRS2,     2,  8,     18,     18,2,20010614,1158, 22.7497,-158.0083, 4725,     23.5,  24.8899,  35.2503,2,  35.2810,4,    210.3,1,   -999.0,9,  -999.00,9,  -999.00,9,  -999.00,9,     25,-999.000,  -999.0, 24.8849
     33KI127_1,  PRS2,     2,  8,     17,     17,2,20010614,1158, 22.7497,-158.0083, 4725,     23.5,  24.8889,  35.2505,2,  35.2550,2,    210.3,1,   -999.0,9,  -999.00,9,  -999.00,9,  -999.00,9,     25,-999.000,  -999.0, 24.8838
     33KI127_1,  PRS2,     2,  8,     19,     19,2,20010614,1158, 22.7497,-158.0083, 4725,     23.6,  24.8902,  35.2503,2,  35.2548,2,    210.2,1,   -999.0,9,  -999.00,9,  -999.00,9,  -999.00,9,     25,-999.000,  -999.0, 24.8852
     33KI127_1,  PRS2,     2,  8,     16,     16,2,20010614,1158, 22.7497,-158.0083, 4725,     44.1,  24.3424,  35.3955,2,  35.3944,2,    218.9,1,   -999.0,9,  -999.00,9,  -999.00,9,  -999.00,9,     45,-999.000,  -999.0, 24.3330
     33KI127_1,  PRS2,     2,  8,     15,     23,2,20010614,1158, 22.7497,-158.0083, 4725,     44.1,  24.2660,  35.3951,2,  35.3940,2,    219.3,1,   -999.0,9,  -999.00,9,  -999.00,9,  -999.00,9,     45,-999.000,  -999.0, 24.2566
     33KI127_1,  PRS2,     2,  8,     14,     14,2,20010614,1158, 22.7497,-158.0083, 4725,     44.1,  24.1529,  35.3935,2,  35.3934,2,    221.6,1,   -999.0,9,  -999.00,9,  -999.00,9,  -999.00,9,     46,-999.000,  -999.0, 24.1435
     33KI127_1,  PRS2,     2,  8,     13,     13,2,20010614,1158, 22.7497,-158.0083, 4725,     73.4,  22.7101,  35.4058,2,  35.4066,2,    222.2,1,   -999.0,9,  -999.00,9,  -999.00,9,  -999.00,9,     74,-999.000,  -999.0, 22.6952
     33KI127_1,  PRS2,     2,  8,     12,     12,2,20010614,1158, 22.7497,-158.0083, 4725,     73.4,  22.6963,  35.4062,2,  35.4080,2,    222.0,1,   -999.0,9,  -999.00,9,  -999.00,9,  -999.00,9,     75,-999.000,  -999.0, 22.6815
     33KI127_1,  PRS2,     2,  8,     11,     11,2,20010614,1158, 22.7497,-158.0083, 4725,     73.4,  22.6971,  35.4059,2,  35.4101,2,    221.9,1,   -999.0,9,  -999.00,9,  -999.00,9,  -999.00,9,     74,-999.000,  -999.0, 22.6822
     33KI127_1,  PRS2,     2,  8,     10,     32,2,20010614,1158, 22.7497,-158.0083, 4725,     98.8,  22.2455,  35.3850,2,  35.3857,2,    217.6,1,   -999.0,9,  -999.00,9,  -999.00,9,  -999.00,9,    100,-999.000,  -999.0, 22.2258
     33KI127_1,  PRS2,     2,  8,      9,      3,2,20010614,1158, 22.7497,-158.0083, 4725,     99.3,  22.2430,  35.3842,2,  35.3845,2,    217.6,1,   -999.0,9,  -999.00,9,  -999.00,9,  -999.00,9,    100,-999.000,  -999.0, 22.2232
     33KI127_1,  PRS2,     2,  8,      8,     29,2,20010614,1158, 22.7497,-158.0083, 4725,     99.4,  22.2385,  35.3836,2,  35.3876,2,    217.6,1,   -999.0,9,  -999.00,9,  -999.00,9,  -999.00,9,    100,-999.000,  -999.0, 22.2187
     33KI127_1,  PRS2,     2,  8,      6,      7,2,20010614,1158, 22.7497,-158.0083, 4725,    122.6,  21.6284,  35.3507,2,  35.3510,2,    210.3,1,   -999.0,9,  -999.00,9,  -999.00,9,  -999.00,9,    124,-999.000,  -999.0, 21.6044
     33KI127_1,  PRS2,     2,  8,      5,     38,2,20010614,1158, 22.7497,-158.0083, 4725,    122.7,  21.6230,  35.3509,2,  35.3514,2,    209.6,1,   -999.0,9,  -999.00,9,  -999.00,9,  -999.00,9,    124,-999.000,  -999.0, 21.5990
     33KI127_1,  PRS2,     2,  8,      7,     28,2,20010614,1158, 22.7497,-158.0083, 4725,    123.3,  21.6262,  35.3501,2,  35.3500,2,    211.0,1,   -999.0,9,  -999.00,9,  -999.00,9,  -999.00,9,    124,-999.000,  -999.0, 21.6021
     33KI127_1,  PRS2,     2,  8,      4,     36,2,20010614,1158, 22.7497,-158.0083, 4725,    148.7,  20.5009,  35.2307,2,  35.2347,2,    207.7,1,   -999.0,9,  -999.00,9,  -999.00,9,  -999.00,9,    150,-999.000,  -999.0, 20.4729
     33KI127_1,  PRS2,     2,  8,      3,     35,2,20010614,1158, 22.7497,-158.0083, 4725,    173.7,  19.6541,  35.1332,2,  35.1386,2,    199.7,1,   -999.0,9,  -999.00,9,  -999.00,9,  -999.00,9,    175,-999.000,  -999.0, 19.6223
     33KI127_1,  PRS2,     2,  8,      2,     34,2,20010614,1158, 22.7497,-158.0083, 4725,    498.4,   7.0430,  34.0344,2,  34.0366,2,    116.2,1,   -999.0,9,  -999.00,9,  -999.00,9,  -999.00,9,    500,-999.000,  -999.0,  6.9959
     33KI127_1,  PRS2,     2,  8,      1,     33,2,20010614,1158, 22.7497,-158.0083, 4725,   1019.6,   3.8433,  34.4833,2,  34.4373,4,     39.8,1,   -999.0,9,  -999.00,9,  -999.00,9,  -999.00,9,   1020,-999.000,  -999.0,  3.7672
     33KI127_1,  PRS2,     2,  9,      4,     36,2,20010614,1441, 22.7630,-157.9505, 4698,      4.0,  24.8739,  35.2356,2,  35.2400,2,    208.4,1,   -999.0,9,  -999.00,9,  -999.00,9,  -999.00,9,      5,-999.000,  -999.0, 24.8730
     33KI127_1,  PRS2,     2,  9,      3,     35,2,20010614,1441, 22.7630,-157.9505, 4698,     89.0,  22.6199,  35.4160,2,  35.4160,2,    219.0,1,   -999.0,9,  -999.00,9,  -999.00,9,  -999.00,9,     90,-999.000,  -999.0, 22.6019
     33KI127_1,  PRS2,     2,  9,      2,     34,2,20010614,1441, 22.7630,-157.9505, 4698,    499.1,   7.3139,  34.0321,2,  34.0349,2,    131.4,1,   -999.0,9,  -999.00,9,  -999.00,9,  -999.00,9,    500,-999.000,  -999.0,  7.2657
     33KI127_1,  PRS2,     2,  9,      1,     33,2,20010614,1441, 22.7630,-157.9505, 4698,   1018.2,   3.8157,  34.4913,2,  34.4903,2,     40.7,1,   -999.0,9,  -999.00,9,  -999.00,9,  -999.00,9,   1019,-999.000,  -999.0,  3.7400
     33KI127_1,  PRS2,     2, 10,     23,     30,2,20010614,1753, 22.7647,-157.9647, 4704,      4.4,  24.8791,  35.2412,2,  35.2400,2,    209.1,2,   -999.0,5,  -999.00,9,  -999.00,9,  -999.00,9,      5,-999.000,  -999.0, 24.8782
     33KI127_1,  PRS2,     2, 10,     24,     31,2,20010614,1753, 22.7647,-157.9647, 4704,      4.5,  24.8773,  35.2412,2,  35.2390,2,    209.4,2,    209.1,2,  -999.00,9,  -999.00,9,  -999.00,9,      6,-999.000,  -999.0, 24.8763
     33KI127_1,  PRS2,     2, 10,     22,     22,2,20010614,1753, 22.7647,-157.9647, 4704,     13.8,  24.8790,  35.2410,2,  35.2672,4,    208.9,3,   -999.0,5,  -999.00,9,  -999.00,9,  -999.00,9,     16,-999.000,  -999.0, 24.8760
     33KI127_1,  PRS2,     2, 10,     21,     21,2,20010614,1753, 22.7647,-157.9647, 4704,     23.6,  24.8788,  35.2406,2,  35.2396,2,    208.7,2,   -999.0,5,  -999.00,9,  -999.00,9,  -999.00,9,     25,-999.000,  -999.0, 24.8737
     33KI127_1,  PRS2,     2, 10,     20,     20,2,20010614,1753, 22.7647,-157.9647, 4704,     33.4,  24.8450,  35.2726,2,  35.2678,2,    211.6,2,   -999.0,5,  -999.00,9,  -999.00,9,  -999.00,9,     35,-999.000,  -999.0, 24.8378
     33KI127_1,  PRS2,     2, 10,     19,     19,2,20010614,1753, 22.7647,-157.9647, 4704,     33.6,  24.8438,  35.2739,2,  35.2708,2,    211.7,2,   -999.0,5,  -999.00,9,  -999.00,9,  -999.00,9,     34,-999.000,  -999.0, 24.8365
     33KI127_1,  PRS2,     2, 10,     18,     18,2,20010614,1753, 22.7647,-157.9647, 4704,     43.8,  24.6933,  35.3821,2,  35.3782,2,    214.1,2,   -999.0,5,  -999.00,9,  -999.00,9,  -999.00,9,     46,-999.000,  -999.0, 24.6839
     33KI127_1,  PRS2,     2, 10,     17,     17,2,20010614,1753, 22.7647,-157.9647, 4704,     58.6,  23.9464,  35.3945,2,  35.3934,2,    224.3,2,   -999.0,5,  -999.00,9,  -999.00,9,  -999.00,9,     60,-999.000,  -999.0, 23.9341
     33KI127_1,  PRS2,     2, 10,     16,     16,2,20010614,1753, 22.7647,-157.9647, 4704,     73.8,  23.1675,  35.4050,2,  35.4034,2,    225.8,2,   -999.0,5,  -999.00,9,  -999.00,9,  -999.00,9,     75,-999.000,  -999.0, 23.1523
     33KI127_1,  PRS2,     2, 10,     15,     23,2,20010614,1753, 22.7647,-157.9647, 4704,     88.3,  22.7771,  35.4225,2,  35.4204,2,    222.1,2,   -999.0,5,  -999.00,9,  -999.00,9,  -999.00,9,     90,-999.000,  -999.0, 22.7591
     33KI127_1,  PRS2,     2, 10,     14,     14,2,20010614,1753, 22.7647,-157.9647, 4704,     93.3,  22.6672,  35.4235,2,  35.4224,2,    220.8,2,   -999.0,5,  -999.00,9,  -999.00,9,  -999.00,9,     94,-999.000,  -999.0, 22.6483
     33KI127_1,  PRS2,     2, 10,     13,     13,2,20010614,1753, 22.7647,-157.9647, 4704,     98.8,  22.5658,  35.4223,2,  35.4200,2,    219.3,2,   -999.0,5,  -999.00,9,  -999.00,9,  -999.00,9,    101,-999.000,  -999.0, 22.5459
     33KI127_1,  PRS2,     2, 10,     12,     12,2,20010614,1753, 22.7647,-157.9647, 4704,     99.2,  22.5656,  35.4224,2,  35.4210,2,    219.2,2,   -999.0,5,  -999.00,9,  -999.00,9,  -999.00,9,     99,-999.000,  -999.0, 22.5456
     33KI127_1,  PRS2,     2, 10,     11,     11,2,20010614,1753, 22.7647,-157.9647, 4704,    103.8,  22.4076,  35.4109,2,  35.4456,4,    218.0,3,   -999.0,5,  -999.00,9,  -999.00,9,  -999.00,9,    105,-999.000,  -999.0, 22.3868
     33KI127_1,  PRS2,     2, 10,     10,     32,2,20010614,1753, 22.7647,-157.9647, 4704,    109.2,  22.3641,  35.4226,2,  35.4458,4,    217.4,3,   -999.0,5,  -999.00,9,  -999.00,9,  -999.00,9,    111,-999.000,  -999.0, 22.3422
     33KI127_1,  PRS2,     2, 10,      9,      3,2,20010614,1753, 22.7647,-157.9647, 4704,    119.0,  21.9622,  35.4002,2,  35.3961,2,    213.0,2,   -999.0,5,  -999.00,9,  -999.00,9,  -999.00,9,    120,-999.000,  -999.0, 21.9386
     33KI127_1,  PRS2,     2, 10,      8,     29,2,20010614,1753, 22.7647,-157.9647, 4704,    123.5,  21.6647,  35.3586,2,  35.3595,2,    209.6,2,   -999.0,5,  -999.00,9,  -999.00,9,  -999.00,9,    126,-999.000,  -999.0, 21.6405
     33KI127_1,  PRS2,     2, 10,      7,     28,2,20010614,1753, 22.7647,-157.9647, 4704,    129.3,  21.5390,  35.3480,2,  35.3557,2,    209.7,2,   -999.0,5,  -999.00,9,  -999.00,9,  -999.00,9,    131,-999.000,  -999.0, 21.5138
     33KI127_1,  PRS2,     2, 10,      6,      7,2,20010614,1753, 22.7647,-157.9647, 4704,    139.4,  21.1563,  35.3113,2,  35.3112,2,    207.7,2,   -999.0,5,  -999.00,9,  -999.00,9,  -999.00,9,    141,-999.000,  -999.0, 21.1294
     33KI127_1,  PRS2,     2, 10,      5,     38,2,20010614,1753, 22.7647,-157.9647, 4704,    149.0,  20.6948,  35.2611,2,  35.2725,2,    203.0,2,   -999.0,5,  -999.00,9,  -999.00,9,  -999.00,9,    151,-999.000,  -999.0, 20.6665
     33KI127_1,  PRS2,     2, 10,      4,     36,2,20010614,1753, 22.7647,-157.9647, 4704,    149.1,  20.6935,  35.2606,2,  35.2615,2,    203.1,2,   -999.0,5,  -999.00,9,  -999.00,9,  -999.00,9,    151,-999.000,  -999.0, 20.6653
     33KI127_1,  PRS2,     2, 10,      3,     35,2,20010614,1753, 22.7647,-157.9647, 4704,    173.5,  19.1900,  35.0840,2,  35.0860,2,    199.5,2,   -999.0,5,  -999.00,9,  -999.00,9,  -999.00,9,    175,-999.000,  -999.0, 19.1588
     33KI127_1,  PRS2,     2, 10,      2,     34,2,20010614,1753, 22.7647,-157.9647, 4704,    523.2,   7.0088,  34.0330,2,  34.0372,2,    121.8,2,   -999.0,5,  -999.00,9,  -999.00,9,  -999.00,9,    525,-999.000,  -999.0,  6.9594
     33KI127_1,  PRS2,     2, 10,      1,     33,2,20010614,1753, 22.7647,-157.9647, 4704,   1019.4,   3.8091,  34.4898,2,  34.4911,2,     40.6,2,   -999.0,5,  -999.00,9,  -999.00,9,  -999.00,9,   1020,-999.000,  -999.0,  3.7333
     33KI127_1,  PRS2,     2, 11,     19,     19,2,20010614,2051, 22.7702,-157.9487, 4694,      3.3,  24.9495,  35.2407,2,  35.2383,2,    209.4,1,   -999.0,9,  -999.00,9,  -999.00,9,  -999.00,9,      4,-999.000,  -999.0, 24.9488
     33KI127_1,  PRS2,     2, 11,     18,     18,2,20010614,2051, 22.7702,-157.9487, 4694,     13.5,  24.9031,  35.2408,2,  35.2733,4,    209.7,1,   -999.0,9,  -999.00,9,  -999.00,9,  -999.00,9,     14,-999.000,  -999.0, 24.9002
     33KI127_1,  PRS2,     2, 11,     17,     17,2,20010614,2051, 22.7702,-157.9487, 4694,     13.5,  24.9072,  35.2405,2,  35.2684,4,    209.7,1,   -999.0,9,  -999.00,9,  -999.00,9,  -999.00,9,     15,-999.000,  -999.0, 24.9043
     33KI127_1,  PRS2,     2, 11,     16,     16,2,20010614,2051, 22.7702,-157.9487, 4694,     28.7,  24.7637,  35.3559,2,  35.3372,3,    213.0,1,   -999.0,9,  -999.00,9,  -999.00,9,  -999.00,9,     30,-999.000,  -999.0, 24.7575
     33KI127_1,  PRS2,     2, 11,     15,     23,2,20010614,2051, 22.7702,-157.9487, 4694,     35.7,  24.6327,  35.4086,2,  35.4074,2,    214.3,1,   -999.0,9,  -999.00,9,  -999.00,9,  -999.00,9,     37,-999.000,  -999.0, 24.6250
     33KI127_1,  PRS2,     2, 11,     14,     14,2,20010614,2051, 22.7702,-157.9487, 4694,     43.3,  23.8607,  35.3919,2,  35.3918,2,    225.7,1,   -999.0,9,  -999.00,9,  -999.00,9,  -999.00,9,     45,-999.000,  -999.0, 23.8516
     33KI127_1,  PRS2,     2, 11,     13,     13,2,20010614,2051, 22.7702,-157.9487, 4694,     50.1,  23.6543,  35.4080,2,  35.4052,2,    224.6,1,   -999.0,9,  -999.00,9,  -999.00,9,  -999.00,9,     51,-999.000,  -999.0, 23.6438
     33KI127_1,  PRS2,     2, 11,     12,     12,2,20010614,2051, 22.7702,-157.9487, 4694,     59.0,  23.4345,  35.4221,2,  35.4216,2,    224.6,1,   -999.0,9,  -999.00,9,  -999.00,9,  -999.00,9,     60,-999.000,  -999.0, 23.4223
     33KI127_1,  PRS2,     2, 11,     11,     11,2,20010614,2051, 22.7702,-157.9487, 4694,     59.0,  23.4464,  35.4229,2,  35.4229,2,    224.7,1,   -999.0,9,  -999.00,9,  -999.00,9,  -999.00,9,     60,-999.000,  -999.0, 23.4342
     33KI127_1,  PRS2,     2, 11,     10,     32,2,20010614,2051, 22.7702,-157.9487, 4694,     65.5,  23.2764,  35.4136,2,  35.4145,2,    225.2,1,   -999.0,9,  -999.00,9,  -999.00,9,  -999.00,9,     67,-999.000,  -999.0, 23.2629
     33KI127_1,  PRS2,     2, 11,      9,      3,2,20010614,2051, 22.7702,-157.9487, 4694,     73.8,  22.8866,  35.4073,2,  35.4111,2,    223.3,1,   -999.0,9,  -999.00,9,  -999.00,9,  -999.00,9,     74,-999.000,  -999.0, 22.8716
     33KI127_1,  PRS2,     2, 11,      8,     29,2,20010614,2051, 22.7702,-157.9487, 4694,     81.3,  22.7387,  35.4185,2,  35.4192,2,    221.9,1,   -999.0,9,  -999.00,9,  -999.00,9,  -999.00,9,     83,-999.000,  -999.0, 22.7222
     33KI127_1,  PRS2,     2, 11,      7,     28,2,20010614,2051, 22.7702,-157.9487, 4694,    519.5,   6.8205,  34.0357,2,  34.0356,2,    101.9,1,   -999.0,9,  -999.00,9,  -999.00,9,  -999.00,9,    521,-999.000,  -999.0,  6.7722
     33KI127_1,  PRS2,     2, 11,      1,     33,2,20010614,2051, 22.7702,-157.9487, 4694,   1020.3,   3.9306,  34.4746,2,  34.4740,2,     37.2,1,   -999.0,9,  -999.00,9,  -999.00,9,  -999.00,9,   1021,-999.000,  -999.0,  3.8538
     33KI127_1,  PRS2,     2, 11,      2,     34,2,20010614,2051, 22.7702,-157.9487, 4694,   1020.8,   3.9306,  34.4746,2,  34.4720,2,     37.2,1,   -999.0,9,  -999.00,9,  -999.00,9,  -999.00,9,   1022,-999.000,  -999.0,  3.8538
     33KI127_1,  PRS2,     2, 11,      3,     35,2,20010614,2051, 22.7702,-157.9487, 4694,   1021.0,   3.9305,  34.4746,2,  34.4722,2,     37.2,1,   -999.0,9,  -999.00,9,  -999.00,9,  -999.00,9,   1022,-999.000,  -999.0,  3.8537
     33KI127_1,  PRS2,     2, 11,      4,     36,2,20010614,2051, 22.7702,-157.9487, 4694,   1021.1,   3.9310,  34.4745,2,  34.4730,2,     37.2,1,   -999.0,9,  -999.00,9,  -999.00,9,  -999.00,9,   1023,-999.000,  -999.0,  3.8541
     33KI127_1,  PRS2,     2, 11,      6,      7,2,20010614,2051, 22.7702,-157.9487, 4694,   1021.2,   3.9310,  34.4745,2,  34.4730,2,     37.3,1,   -999.0,9,  -999.00,9,  -999.00,9,  -999.00,9,   1022,-999.000,  -999.0,  3.8542
     33KI127_1,  PRS2,     2, 11,      5,     38,2,20010614,2051, 22.7702,-157.9487, 4694,   1021.4,   3.9310,  34.4745,2,  34.4722,2,     37.2,1,   -999.0,9,  -999.00,9,  -999.00,9,  -999.00,9,   1023,-999.000,  -999.0,  3.8541