BOTTLE,20081205PRINUNIVRMKPRINUNIVRMK
EXPOCODE,SECT_ID,STNNBR,CASTNO,BTLNBR,DATE,LATITUDE,LONGITUDE,DEPTH,CTDPRS,CTDTMP,CTDSAL,CTDSAL_FLAG_W,SALNTY,SALNTY_FLAG_W,CTDOXY,CTDOXY_FLAG_W,OXYGEN,OXYGEN_FLAG_W,SILCAT,SILCAT_FLAG_W,NITRAT,NITRAT_FLAG_W,TCARBN,TCARBN_FLAG_W,ALKALI,ALKALI_FLAG_W,CHLORA,CHLORA_FLAG_W,THETA
,,,,,,,,METERS,DBARS,ITS-90,PSS-78,,PSS-78,,UMOL/KG,,UMOL/KG,,UMOL/KG,,UMOL/KG,,UMOL/KG,,UMOL/KG,,UG/L,,DEGC
  35MF20000719,  OISO,    11,  2,     20,20000802,-56.5000,  63.0000, 4871,      9.4,   0.1700,  33.8740,2,  -9.0000,9,    335.6,2,     -9.0,9,    -9.00,9,    -9.00,9,     -9.0,9,     -9.0,9,    -9.00,9,  0.16966864
  35MF20000719,  OISO,    11,  2,     19,20000802,-56.5000,  63.0000, 4871,     10.3,   0.1700,  33.8740,2,  33.8805,2,    334.8,2,    335.5,2,    32.80,2,    27.70,2,   2152.5,2,   2279.4,2,     0.14,2, 0.169636383
  35MF20000719,  OISO,    11,  2,     18,20000802,-56.5000,  63.0000, 4871,     11.8,   0.1700,  33.8740,2,  -9.0000,9,    336.5,2,     -9.0,9,    32.70,2,    27.60,2,   2153.9,2,   2283.9,2,     0.15,2,  0.16958528
  35MF20000719,  OISO,    11,  2,     17,20000802,-56.5000,  63.0000, 4871,     19.7,   0.1700,  33.8740,2,  33.8781,2,    335.9,2,    335.4,2,    32.60,2,    27.70,2,   2154.5,2,   2284.3,2,     0.14,2, 0.169305691
  35MF20000719,  OISO,    11,  2,     16,20000802,-56.5000,  63.0000, 4871,     27.8,   0.1700,  33.8740,2,  -9.0000,9,    335.8,2,     -9.0,9,    32.60,2,    27.60,2,   2155.0,2,   2284.0,2,     0.15,2, 0.169014567
  35MF20000719,  OISO,    11,  2,     15,20000802,-56.5000,  63.0000, 4871,     40.5,   0.1700,  33.8740,2,  -9.0000,9,    335.5,2,     -9.0,9,    32.70,2,    27.60,2,   2155.6,2,   2283.2,2,     0.14,2, 0.168561169
  35MF20000719,  OISO,    11,  2,     14,20000802,-56.5000,  63.0000, 4871,     46.9,   0.1800,  33.8730,2,  33.8795,2,    335.8,2,    335.2,2,    32.50,2,    27.60,2,   2155.0,2,   2282.4,2,     0.14,2, 0.178328154
  35MF20000719,  OISO,    11,  2,     13,20000802,-56.5000,  63.0000, 4871,     72.7,   0.1700,  33.8730,2,  -9.0000,9,    336.5,2,     -9.0,9,    32.60,2,    27.70,2,   2155.1,2,   2281.4,2,     0.12,2, 0.167398462
  35MF20000719,  OISO,    11,  2,     12,20000802,-56.5000,  63.0000, 4871,     99.5,   0.1700,  33.8730,2,  -9.0000,9,    336.6,2,     -9.0,9,    32.70,2,    27.70,2,   2154.3,2,   2281.1,2,     0.14,2, 0.166412448
  35MF20000719,  OISO,    11,  2,     23,20000802,-56.5000,  63.0000, 4871,    124.4,   0.1700,  33.8720,2,  -9.0000,9,    337.8,2,     -9.0,9,    -9.00,9,    -9.00,9,     -9.0,9,     -9.0,9,    -9.00,9, 0.165487178
  35MF20000719,  OISO,    11,  2,     11,20000802,-56.5000,  63.0000, 4871,    124.8,   0.1700,  33.8720,2,  -9.0000,9,    337.5,2,     -9.0,9,    32.80,2,    27.80,2,   2154.5,2,   2282.1,2,     0.14,2, 0.165473335
  35MF20000719,  OISO,    11,  2,     22,20000802,-56.5000,  63.0000, 4871,    148.5,   0.1800,  33.8740,2,  -9.0000,9,    337.8,2,     -9.0,9,    -9.00,9,    -9.00,9,     -9.0,9,     -9.0,9,    -9.00,9, 0.174567495
  35MF20000719,  OISO,    11,  2,     10,20000802,-56.5000,  63.0000, 4871,    149.1,   0.1900,  33.8750,2,  -9.0000,9,    337.2,2,     -9.0,9,    33.00,2,    27.90,2,   2154.4,2,   2282.9,2,    -9.00,9, 0.184532926
  35MF20000719,  OISO,    11,  2,     21,20000802,-56.5000,  63.0000, 4871,    200.0,   1.3700,  34.2570,2,  -9.0000,9,    241.9,2,     -9.0,9,    -9.00,9,    -9.00,9,     -9.0,9,     -9.0,9,    -9.00,9,  1.36045138
  35MF20000719,  OISO,    11,  2,      9,20000802,-56.5000,  63.0000, 4871,    200.3,   1.3700,  34.2580,2,  34.2792,2,    241.5,2,    236.6,2,    60.20,2,    31.60,2,   2216.7,2,   2304.5,2,    -9.00,9,  1.36043091
  35MF20000719,  OISO,    11,  2,      8,20000802,-56.5000,  63.0000, 4871,    245.4,   1.8200,  34.4130,2,  -9.0000,9,    199.9,2,     -9.0,9,    72.10,2,    33.20,2,   2241.7,2,   2315.8,2,    -9.00,9,  1.80720868
  35MF20000719,  OISO,    11,  2,      7,20000802,-56.5000,  63.0000, 4871,    297.8,   2.0400,  34.4990,2,  -9.0000,9,    185.1,2,     -9.0,9,    78.20,2,    33.30,2,   2248.5,2,   2322.7,2,    -9.00,9,  2.02376004
  35MF20000719,  OISO,    11,  2,      6,20000802,-56.5000,  63.0000, 4871,    389.5,   2.1000,  34.5790,2,  -9.0000,9,    179.7,2,     -9.0,9,    82.50,2,    32.70,2,   2252.7,2,   2329.7,2,    -9.00,9,  2.07821578
  35MF20000719,  OISO,    11,  2,      5,20000802,-56.5000,  63.0000, 4871,    495.5,   2.1100,  34.6380,2,  34.6830,2,    181.8,2,    176.3,2,    83.90,2,    31.90,2,   2250.6,2,   2333.0,2,    -9.00,9,  2.08171933
  35MF20000719,  OISO,    11,  2,      4,20000802,-56.5000,  63.0000, 4871,    598.3,   2.0900,  34.6740,2,  -9.0000,9,    185.5,2,     -9.0,9,    84.60,2,    31.40,2,   2246.4,2,   2331.7,2,    -9.00,9,  2.05544634
  35MF20000719,  OISO,    11,  2,      3,20000802,-56.5000,  63.0000, 4871,    799.3,   2.0000,  34.7170,2,  -9.0000,9,    193.6,2,     -9.0,9,    85.80,2,    30.50,2,   2244.2,2,   2339.1,2,    -9.00,9,  1.95303104
  35MF20000719,  OISO,    11,  2,      2,20000802,-56.5000,  63.0000, 4871,   1001.5,   1.8800,  34.7440,2,  -9.0000,9,    201.4,2,     -9.0,9,    87.40,2,    29.50,2,   2240.1,2,   2340.7,2,    -9.00,9,  1.82040332
  35MF20000719,  OISO,    11,  1,     18,20000802,-56.5000,  63.0000, 4871,   1001.6,   1.8600,  34.7430,2,  -9.0000,9,    195.3,2,     -9.0,9,    88.40,2,    29.50,2,   2242.9,2,   2341.5,2,    -9.00,9,  1.80055267
  35MF20000719,  OISO,    11,  1,     17,20000802,-56.5000,  63.0000, 4871,   1003.4,   1.8600,  34.7430,2,  34.7805,2,    196.0,2,    196.0,2,    89.60,2,    29.90,2,   2242.7,2,   2341.2,2,    -9.00,9,  1.80036706
  35MF20000719,  OISO,    11,  2,      1,20000802,-56.5000,  63.0000, 4871,   1005.3,   1.8800,  34.7440,2,  34.7845,2,    201.9,2,    195.4,2,    86.30,2,    29.10,2,   2242.8,2,   2342.2,2,    -9.00,9,  1.82007249
  35MF20000719,  OISO,    11,  1,     16,20000802,-56.5000,  63.0000, 4871,   1202.1,   1.7000,  34.7530,2,  -9.0000,9,    199.7,2,     -9.0,9,    91.50,2,    29.10,2,   2244.2,2,   2350.5,2,    -9.00,9,  1.62818375
  35MF20000719,  OISO,    11,  1,     15,20000802,-56.5000,  63.0000, 4871,   1406.8,   1.5200,  34.7500,2,  -9.0000,9,    200.6,2,     -9.0,9,    96.20,2,    29.30,2,   2241.8,2,   2345.9,2,    -9.00,9,  1.43560362
  35MF20000719,  OISO,    11,  1,     14,20000802,-56.5000,  63.0000, 4871,   1612.4,   1.3200,  34.7400,2,  -9.0000,9,    201.1,2,     -9.0,9,   102.70,2,    29.90,2,   2248.5,2,   2354.3,2,    -9.00,9,  1.22311643
  35MF20000719,  OISO,    11,  1,     13,20000802,-56.5000,  63.0000, 4871,   1830.6,   1.1600,  34.7320,2,  -9.0000,9,    202.2,2,     -9.0,9,   107.60,2,    30.50,2,   2251.8,2,   2356.2,2,    -9.00,9,  1.04905791
  35MF20000719,  OISO,    11,  1,     12,20000802,-56.5000,  63.0000, 4871,   2025.7,   0.9600,  34.7210,2,  34.7330,2,    202.4,2,    208.1,2,   114.40,2,    30.80,2,   2254.7,2,   2357.0,2,    -9.00,9, 0.837146124
  35MF20000719,  OISO,    11,  1,     11,20000802,-56.5000,  63.0000, 4871,   2538.0,   0.5800,  34.6980,2,  -9.0000,9,    204.0,2,     -9.0,9,   126.80,2,    31.30,2,   2256.6,2,   2352.1,2,    -9.00,9,  0.42307839
  35MF20000719,  OISO,    11,  1,     23,20000802,-56.5000,  63.0000, 4871,   3040.8,   0.3000,  34.6830,2,  -9.0000,9,    209.7,2,     -9.0,9,    -9.00,9,    -9.00,9,     -9.0,9,     -9.0,9,    -9.00,9, 0.106218334
  35MF20000719,  OISO,    11,  1,     10,20000802,-56.5000,  63.0000, 4871,   3041.9,   0.2900,  34.6830,2,  34.6900,2,    209.8,2,    217.3,2,   133.30,2,    32.00,2,   2259.6,2,   2357.6,2,    -9.00,9,0.0963088458
  35MF20000719,  OISO,    11,  1,     24,20000802,-56.5000,  63.0000, 4871,   3555.9,   0.0900,  34.6730,2,  -9.0000,9,    217.9,2,     -9.0,9,    -9.00,9,    -9.00,9,     -9.0,9,     -9.0,9,    -9.00,9,-0.145530316
  35MF20000719,  OISO,    11,  1,      9,20000802,-56.5000,  63.0000, 4871,   3559.0,   0.0900,  34.6740,2,  -9.0000,9,    217.9,2,     -9.0,9,   136.60,2,    32.20,2,   2254.1,2,   2350.2,2,    -9.00,9,-0.145827317
  35MF20000719,  OISO,    11,  1,      8,20000802,-56.5000,  63.0000, 4871,   4075.0,  -0.0600,  34.6670,2,  34.6724,2,    227.0,2,    232.3,2,   139.30,2,    32.10,2,   2252.0,2,   2349.1,2,    -9.00,9,-0.341946525
  35MF20000719,  OISO,    11,  1,      7,20000802,-56.5000,  63.0000, 4871,   4277.6,  -0.1000,  34.6640,2,  -9.0000,9,    230.8,2,     -9.0,9,   139.20,2,    32.20,2,   2253.5,2,   2354.7,2,    -9.00,9,-0.401343691
  35MF20000719,  OISO,    11,  1,      6,20000802,-56.5000,  63.0000, 4871,   4485.5,  -0.1500,  34.6620,2,  -9.0000,9,    234.7,2,     -9.0,9,   140.80,2,    32.40,2,   2252.9,2,   2354.0,2,    -9.00,9,-0.471499621
  35MF20000719,  OISO,    11,  1,      5,20000802,-56.5000,  63.0000, 4871,   4587.4,  -0.1600,  34.6610,2,  -9.0000,9,    237.3,2,    238.4,2,   141.10,2,    32.10,2,   2251.8,2,   2352.7,2,    -9.00,9,-0.492016841
  35MF20000719,  OISO,    11,  1,      4,20000802,-56.5000,  63.0000, 4871,   4691.1,  -0.1900,  34.6600,2,  -9.0000,9,    239.4,2,     -9.0,9,    -9.00,9,    31.30,2,     -9.0,9,     -9.0,9,    -9.00,9,-0.532200227
  35MF20000719,  OISO,    11,  1,      3,20000802,-56.5000,  63.0000, 4871,   4799.1,  -0.1900,  34.6590,2,  -9.0000,9,    241.0,2,     -9.0,9,   141.70,2,    32.10,2,   2252.5,2,   2352.0,2,    -9.00,9,-0.543966951
  35MF20000719,  OISO,    11,  1,      2,20000802,-56.5000,  63.0000, 4871,   4853.4,  -0.1900,  34.6590,2,  -9.0000,9,    243.2,2,     -9.0,9,   143.20,2,    32.00,2,     -9.0,9,     -9.0,9,    -9.00,9,-0.549948342
  35MF20000719,  OISO,    11,  1,      1,20000802,-56.5000,  63.0000, 4871,   4860.8,  -0.1900,  34.6590,2,  -9.0000,9,    243.4,2,    241.0,2,   142.70,2,    32.00,2,   2251.5,2,   2352.0,2,    -9.00,9,-0.550764007
  35MF20000719,  OISO,    13,  1,     17,20000806,-45.0000,  73.3200, 3591,     -9.0,  -9.0000,  -9.0000,9,  -9.0000,9,     -9.0,9,     -9.0,9,    -9.00,9,    -9.00,9,     -9.0,9,     -9.0,9,    -9.00,9,          -9
  35MF20000719,  OISO,    13,  1,     20,20000806,-45.0000,  73.3200, 3591,     -9.0,  -9.0000,  -9.0000,9,  -9.0000,9,     -9.0,9,     -9.0,9,    -9.00,9,    -9.00,9,     -9.0,9,     -9.0,9,    -9.00,9,          -9
  35MF20000719,  OISO,    13,  1,     19,20000806,-45.0000,  73.3200, 3591,     -9.0,  -9.0000,  -9.0000,9,  -9.0000,9,     -9.0,9,     -9.0,9,    -9.00,9,    -9.00,9,     -9.0,9,     -9.0,9,    -9.00,9,          -9
  35MF20000719,  OISO,    13,  1,     18,20000806,-45.0000,  73.3200, 3591,     -9.0,  -9.0000,  -9.0000,9,  -9.0000,9,     -9.0,9,     -9.0,9,    -9.00,9,    -9.00,9,     -9.0,9,     -9.0,9,    -9.00,9,          -9
  35MF20000719,  OISO,    13,  1,     16,20000806,-45.0000,  73.3200, 3591,     27.4,   8.6900,  34.2290,2,  -9.0000,9,     -9.0,9,     -9.0,9,     4.50,2,    14.90,2,   2081.2,2,   2275.6,2,     0.40,2,  8.68715009
  35MF20000719,  OISO,    13,  1,     15,20000806,-45.0000,  73.3200, 3591,     42.2,   8.7500,  34.2450,2,  -9.0000,9,     -9.0,9,     -9.0,9,     3.50,2,    14.50,2,   2081.9,2,   2276.2,2,    -9.00,9,  8.74558134
  35MF20000719,  OISO,    13,  1,     14,20000806,-45.0000,  73.3200, 3591,     47.6,   8.7600,  34.2480,2,  34.3045,2,     -9.0,9,    282.8,2,     3.40,2,    13.80,2,   2082.9,2,   2277.2,2,     0.37,2,  8.75500628
  35MF20000719,  OISO,    13,  1,     13,20000806,-45.0000,  73.3200, 3591,     76.8,   9.1400,  34.3600,2,  -9.0000,9,     -9.0,9,     -9.0,9,     3.60,2,    13.60,2,   2086.6,2,   2280.7,2,     0.30,2,  9.13169828
  35MF20000719,  OISO,    13,  1,     23,20000806,-45.0000,  73.3200, 3591,     97.8,   9.1700,  34.3700,2,  -9.0000,9,     -9.0,9,     -9.0,9,    -9.00,9,    -9.00,9,     -9.0,9,     -9.0,9,    -9.00,9,  9.15939556
  35MF20000719,  OISO,    13,  1,     12,20000806,-45.0000,  73.3200, 3591,    100.6,   9.1800,  34.3710,2,  -9.0000,9,     -9.0,9,     -9.0,9,     3.70,2,    13.20,2,   2085.6,2,   2280.7,2,     0.17,2,  9.16909027
  35MF20000719,  OISO,    13,  1,     11,20000806,-45.0000,  73.3200, 3591,    124.5,   9.3200,  34.4050,2,  -9.0000,9,     -9.0,9,     -9.0,9,     3.40,2,    13.20,2,   2084.6,2,   2283.4,2,     0.23,2,  9.30634193
  35MF20000719,  OISO,    13,  1,     10,20000806,-45.0000,  73.3200, 3591,    146.0,   9.2600,  34.3990,2,  -9.0000,9,     -9.0,9,     -9.0,9,     4.30,2,    13.50,2,   2086.2,2,   2282.6,2,    -9.00,9,  9.24401951
  35MF20000719,  OISO,    13,  1,      9,20000806,-45.0000,  73.3200, 3591,    200.7,  10.0300,  34.5920,2,  34.6286,2,     -9.0,9,    261.9,2,     3.90,2,    12.20,2,   2089.1,2,   2289.6,2,    -9.00,9,  10.0067687
  35MF20000719,  OISO,    13,  1,      8,20000806,-45.0000,  73.3200, 3591,    250.5,  10.1700,  34.7240,2,  -9.0000,9,     -9.0,9,     -9.0,9,     5.80,2,    14.00,2,   2109.8,2,   2293.5,2,    -9.00,9,   10.140642
  35MF20000719,  OISO,    13,  1,      7,20000806,-45.0000,  73.3200, 3591,    298.4,   9.7400,  34.6960,2,  -9.0000,9,     -9.0,9,     -9.0,9,     6.60,2,    15.40,2,   2118.7,2,   2291.0,2,    -9.00,9,  9.70588545
  35MF20000719,  OISO,    13,  1,      6,20000806,-45.0000,  73.3200, 3591,    400.6,   8.1300,  34.5210,2,  -9.0000,9,     -9.0,9,     -9.0,9,     9.80,2,    19.20,2,   2133.1,2,   2285.1,2,    -9.00,9,  8.08881169
  35MF20000719,  OISO,    13,  1,      5,20000806,-45.0000,  73.3200, 3591,    496.8,   7.2000,  34.4790,2,  34.5064,2,     -9.0,9,    215.3,2,    14.40,2,    22.30,2,   2150.8,2,   2286.5,2,    -9.00,9,  7.15208151
  35MF20000719,  OISO,    13,  1,      4,20000806,-45.0000,  73.3200, 3591,    595.8,   6.1100,  34.4030,2,  -9.0000,9,     -9.0,9,     -9.0,9,    18.40,2,    25.50,2,   2162.4,2,   2286.4,2,    -9.00,9,  6.05713184
  35MF20000719,  OISO,    13,  1,      3,20000806,-45.0000,  73.3200, 3591,    801.4,   4.5900,  34.3500,2,  -9.0000,9,     -9.0,9,     -9.0,9,    28.70,2,    28.90,2,   2183.8,2,   2292.6,2,    -9.00,9,   4.5270997
  35MF20000719,  OISO,    13,  1,      2,20000806,-45.0000,  73.3200, 3591,   1001.5,   3.5700,  34.3800,2,  -9.0000,9,     -9.0,9,     -9.0,9,    42.70,2,    32.00,2,   2209.5,2,   2304.4,2,    -9.00,9,  3.49774404
  35MF20000719,  OISO,    13,  1,      1,20000806,-45.0000,  73.3200, 3591,   1001.6,   3.5700,  34.3790,2,  34.3891,2,     -9.0,9,    203.2,2,    42.70,2,    31.70,2,   2208.7,2,   2304.1,2,    -9.00,9,   3.4977191
  35MF20000719,  OISO,    15,  1,     20,20000808,-40.0000,  76.2500, 3326,      5.7,  12.9600,  35.1490,2,  -9.0000,9,     -9.0,9,     -9.0,9,    -9.00,9,    -9.00,9,     -9.0,9,     -9.0,9,    -9.00,9,  12.9592234
  35MF20000719,  OISO,    15,  1,     19,20000808,-40.0000,  76.2500, 3326,      6.3,  12.9600,  35.1480,2,  35.1656,2,     -9.0,9,    256.1,2,     2.80,2,     5.60,2,   2073.1,2,   2311.6,2,     0.32,2,  12.9591372
  35MF20000719,  OISO,    15,  1,     18,20000808,-40.0000,  76.2500, 3326,     11.5,  12.9500,  35.1480,2,  -9.0000,9,     -9.0,9,     -9.0,9,     3.10,2,     5.50,2,   2073.4,2,   2312.3,2,     0.31,2,  12.9484254
  35MF20000719,  OISO,    15,  1,     17,20000808,-40.0000,  76.2500, 3326,     21.3,  12.9600,  35.1480,2,  35.1585,2,     -9.0,9,    256.2,2,     3.10,2,     5.60,2,   2071.1,2,   2311.3,2,     0.36,2,  12.9570908
  35MF20000719,  OISO,    15,  1,     16,20000808,-40.0000,  76.2500, 3326,     31.2,  12.9700,  35.1480,2,  -9.0000,9,     -9.0,9,     -9.0,9,     2.90,2,     5.50,2,   2073.4,2,   2311.8,2,     0.31,2,  12.9657326
  35MF20000719,  OISO,    15,  1,     15,20000808,-40.0000,  76.2500, 3326,     41.7,  12.9600,  35.1470,2,  -9.0000,9,     -9.0,9,     -9.0,9,     2.80,2,     5.40,2,   2073.9,2,   2311.6,2,     0.36,2,  12.9542968
  35MF20000719,  OISO,    15,  1,     14,20000808,-40.0000,  76.2500, 3326,     51.0,  12.9600,  35.1470,2,  35.1522,2,     -9.0,9,    256.0,2,     2.80,2,     5.50,2,   2073.0,2,   2311.4,2,     0.30,2,  12.9530311
  35MF20000719,  OISO,    15,  1,     23,20000808,-40.0000,  76.2500, 3326,     51.2,  12.9600,  35.1470,2,  -9.0000,9,     -9.0,9,     -9.0,9,    -9.00,9,    -9.00,9,     -9.0,9,     -9.0,9,    -9.00,9,  12.9529945
  35MF20000719,  OISO,    15,  1,     13,20000808,-40.0000,  76.2500, 3326,     73.1,  12.9700,  35.1480,2,  -9.0000,9,     -9.0,9,     -9.0,9,     3.70,2,     5.60,2,   2072.3,2,   2311.8,2,     0.31,2,  12.9599965
  35MF20000719,  OISO,    15,  1,     12,20000808,-40.0000,  76.2500, 3326,    100.7,  12.9800,  35.1490,2,  -9.0000,9,     -9.0,9,     -9.0,9,     2.80,2,     5.40,2,   2070.3,2,   2312.0,2,     0.30,2,  12.9661937
  35MF20000719,  OISO,    15,  1,     11,20000808,-40.0000,  76.2500, 3326,    120.7,  12.9800,  35.1490,2,  -9.0000,9,     -9.0,9,     -9.0,9,     4.20,2,     5.60,2,   2073.4,2,   2311.3,2,     0.31,2,  12.9634334
  35MF20000719,  OISO,    15,  1,     10,20000808,-40.0000,  76.2500, 3326,    152.7,  12.9900,  35.1520,2,  -9.0000,9,     -9.0,9,     -9.0,9,     3.00,2,     5.50,2,   2073.0,2,   2314.9,2,    -9.00,9,  12.9690045
  35MF20000719,  OISO,    15,  1,      9,20000808,-40.0000,  76.2500, 3326,    200.9,  13.0700,  35.1920,2,  35.2057,2,     -9.0,9,    252.8,2,     3.30,2,     5.80,2,   2076.1,2,   2312.8,2,    -9.00,9,  13.0422119
  35MF20000719,  OISO,    15,  1,      8,20000808,-40.0000,  76.2500, 3326,    250.3,  12.8700,  35.1760,2,  -9.0000,9,     -9.0,9,     -9.0,9,     3.90,2,     7.60,2,   2085.7,2,   2311.8,2,    -9.00,9,  12.8356761
  35MF20000719,  OISO,    15,  1,      7,20000808,-40.0000,  76.2500, 3326,    298.6,  12.4400,  35.1570,2,  -9.0000,9,     -9.0,9,     -9.0,9,     5.20,2,     9.20,2,   2095.9,2,   2310.2,2,    -9.00,9,  12.3998894
  35MF20000719,  OISO,    15,  1,      6,20000808,-40.0000,  76.2500, 3326,    400.3,  11.7700,  35.0590,2,  -9.0000,9,     -9.0,9,     -9.0,9,     4.60,2,    10.20,2,   2099.9,2,   2305.7,2,    -9.00,9,  11.7179478
  35MF20000719,  OISO,    15,  1,      5,20000808,-40.0000,  76.2500, 3326,    494.1,  11.0100,  34.9260,2,  -9.0000,9,     -9.0,9,    232.4,2,     5.70,2,    12.40,2,   2108.2,2,   2299.1,2,    -9.00,9,  10.9482618
  35MF20000719,  OISO,    15,  1,      4,20000808,-40.0000,  76.2500, 3326,    600.3,   9.8100,  34.7560,2,  -9.0000,9,     -9.0,9,     -9.0,9,     5.50,4,    -9.00,9,     -9.0,9,     -9.0,9,    -9.00,9,  9.73993712
  35MF20000719,  OISO,    15,  1,      3,20000808,-40.0000,  76.2500, 3326,    793.4,   7.3800,  34.5160,2,  -9.0000,9,     -9.0,9,     -9.0,9,    15.50,2,    23.40,2,   2151.9,2,   2286.6,2,    -9.00,9,   7.3008388
  35MF20000719,  OISO,    15,  1,      2,20000808,-40.0000,  76.2500, 3326,   1006.4,   4.8100,  34.3490,2,  -9.0000,9,     -9.0,9,     -9.0,9,    27.20,2,    28.90,2,   2179.9,2,   2290.0,2,    -9.00,9,  4.72780344
  35MF20000719,  OISO,    15,  1,      1,20000808,-40.0000,  76.2500, 3326,   1006.9,   4.8000,  34.3490,2,  34.3607,2,     -9.0,9,    216.6,2,    -9.00,9,    28.90,2,   2180.1,2,   2289.5,2,    -9.00,9,  4.71781821