BOTTLE,20081205PRINUNIVRMKPRINUNIVRMK
EXPOCODE,SECT_ID,STNNBR,CASTNO,BTLNBR,DATE,LATITUDE,LONGITUDE,DEPTH,CTDPRS,CTDTMP,CTDSAL,CTDSAL_FLAG_W,SALNTY,SALNTY_FLAG_W,CTDOXY,CTDOXY_FLAG_W,OXYGEN,OXYGEN_FLAG_W,SILCAT,SILCAT_FLAG_W,NITRAT,NITRAT_FLAG_W,TCARBN,TCARBN_FLAG_W,ALKALI,ALKALI_FLAG_W,CHLORA,CHLORA_FLAG_W,THETA
,,,,,,,,METERS,DBARS,ITS-90,PSS-78,,PSS-78,,UMOL/KG,,UMOL/KG,,UMOL/KG,,UMOL/KG,,UMOL/KG,,UMOL/KG,,UG/L,,DEGC
  35MF20000719,  OISO,    16,  1,     20,20000812,-35.0000,  73.3700, 4206,      6.0,  14.5500,  35.3520,2,  -9.0000,9,     -9.0,9,     -9.0,9,    -9.00,9,    -9.00,9,     -9.0,9,     -9.0,9,    -9.00,9,  14.5491082
  35MF20000719,  OISO,    16,  1,     19,20000812,-35.0000,  73.3700, 4206,      6.6,  14.5500,  35.3530,2,  35.3637,2,     -9.0,9,    250.6,2,     1.80,2,     1.50,2,   2062.1,2,   2323.7,2,     0.29,2,  14.5490164
  35MF20000719,  OISO,    16,  1,     18,20000812,-35.0000,  73.3700, 4206,      9.9,  14.5500,  35.3530,2,  -9.0000,9,     -9.0,9,     -9.0,9,     2.00,2,     1.80,2,   2063.5,2,   2323.2,2,     0.27,2,  14.5485356
  35MF20000719,  OISO,    16,  1,     17,20000812,-35.0000,  73.3700, 4206,     19.6,  14.5500,  35.3530,2,  35.3541,2,     -9.0,9,    252.0,2,     2.10,2,     2.20,2,   2066.1,2,   2323.4,2,     0.28,2,  14.5470984
  35MF20000719,  OISO,    16,  1,     16,20000812,-35.0000,  73.3700, 4206,     29.9,  14.5500,  35.3530,2,  -9.0000,9,     -9.0,9,     -9.0,9,     2.10,2,     2.30,2,   2063.7,2,   2323.7,2,     0.30,2,  14.5455699
  35MF20000719,  OISO,    16,  1,     15,20000812,-35.0000,  73.3700, 4206,     40.2,  14.5600,  35.3530,2,  -9.0000,9,     -9.0,9,     -9.0,9,     2.10,2,     2.10,2,   2061.8,2,   2323.6,2,     0.27,2,  14.5540451
  35MF20000719,  OISO,    16,  1,     14,20000812,-35.0000,  73.3700, 4206,     49.3,  14.5600,  35.3530,2,  35.3525,2,     -9.0,9,    250.6,2,     1.90,2,     2.20,2,   2063.3,2,   2323.8,2,     0.28,2,  14.5526905
  35MF20000719,  OISO,    16,  1,     13,20000812,-35.0000,  73.3700, 4206,     73.3,  14.5600,  35.3530,2,  -9.0000,9,     -9.0,9,     -9.0,9,     2.00,2,     2.10,2,   2063.1,2,   2323.7,2,     0.24,2,  14.5491304
  35MF20000719,  OISO,    16,  1,     23,20000812,-35.0000,  73.3700, 4206,     74.3,  14.5600,  35.3530,2,  -9.0000,9,     -9.0,9,     -9.0,9,    -9.00,9,    -9.00,9,     -9.0,9,     -9.0,9,    -9.00,9,  14.5489877
  35MF20000719,  OISO,    16,  1,     12,20000812,-35.0000,  73.3700, 4206,     98.2,  14.5700,  35.3530,2,  -9.0000,9,     -9.0,9,     -9.0,9,     1.90,2,     2.20,2,   2059.9,2,   2324.3,2,     0.32,2,  14.5554182
  35MF20000719,  OISO,    16,  1,     11,20000812,-35.0000,  73.3700, 4206,    126.6,  14.4400,  35.3440,2,  -9.0000,9,     -9.0,9,     -9.0,9,     2.00,2,     2.40,2,   2064.8,2,   2323.5,2,     0.13,2,  14.4213086
  35MF20000719,  OISO,    16,  1,     10,20000812,-35.0000,  73.3700, 4206,    149.9,  13.4400,  35.2550,2,  -9.0000,9,     -9.0,9,     -9.0,9,     3.10,2,     6.80,2,   2089.5,2,   2315.7,2,    -9.00,9,  13.4189088
  35MF20000719,  OISO,    16,  1,      9,20000812,-35.0000,  73.3700, 4206,    199.6,  12.7400,  35.2070,2,  35.2098,2,     -9.0,9,    237.6,2,     3.80,2,     8.00,2,   2095.1,2,   2311.3,2,    -9.00,9,  12.7128483
  35MF20000719,  OISO,    16,  1,      8,20000812,-35.0000,  73.3700, 4206,    247.8,  12.4800,  35.1710,2,  -9.0000,9,     -9.0,9,     -9.0,9,     4.00,2,     8.80,2,   2096.5,2,   2309.1,2,    -9.00,9,  12.4466947
  35MF20000719,  OISO,    16,  1,      7,20000812,-35.0000,  73.3700, 4206,    298.1,  12.2200,  35.1330,2,  -9.0000,9,     -9.0,9,     -9.0,9,     4.80,2,     9.50,2,   2097.0,2,   2308.3,2,    -9.00,9,  12.1804272
  35MF20000719,  OISO,    16,  1,      6,20000812,-35.0000,  73.3700, 4206,    396.6,  11.7800,  35.0640,2,  -9.0000,9,     -9.0,9,     -9.0,9,     4.80,2,    10.50,2,   2097.9,2,   2304.8,2,    -9.00,9,  11.7284073
  35MF20000719,  OISO,    16,  1,      5,20000812,-35.0000,  73.3700, 4206,    495.0,  11.2300,  34.9720,2,  34.9778,2,     -9.0,9,    238.9,2,     4.80,2,    11.40,2,   2103.1,2,   2300.4,2,    -9.00,9,  11.1673395
  35MF20000719,  OISO,    16,  1,     24,20000812,-35.0000,  73.3700, 4206,    597.7,  10.4500,  34.8510,2,  -9.0000,9,     -9.0,9,     -9.0,9,    -9.00,9,    -9.00,9,     -9.0,9,     -9.0,9,    -9.00,9,  10.3774209
  35MF20000719,  OISO,    16,  1,      4,20000812,-35.0000,  73.3700, 4206,    598.8,  10.4400,  34.8500,2,  -9.0000,9,     -9.0,9,     -9.0,9,     5.50,2,    13.70,2,   2116.3,2,   2295.7,2,    -9.00,9,  10.3673248
  35MF20000719,  OISO,    16,  1,      3,20000812,-35.0000,  73.3700, 4206,    798.9,   7.9100,  34.5560,2,  -9.0000,9,     -9.0,9,     -9.0,9,    13.20,2,    22.00,2,   2146.4,2,   2287.2,2,    -9.00,9,  7.82708753
  35MF20000719,  OISO,    16,  1,      2,20000812,-35.0000,  73.3700, 4206,   1004.4,   5.1400,  34.3690,2,  -9.0000,9,     -9.0,9,     -9.0,9,    26.30,2,    27.70,2,   2178.9,2,   2289.9,2,    -9.00,9,  5.05543386
  35MF20000719,  OISO,    16,  1,      1,20000812,-35.0000,  73.3700, 4206,   1005.1,   5.1300,  34.3680,2,  34.3713,2,     -9.0,9,    210.0,2,    26.20,2,    28.20,2,   2179.1,2,   2289.3,2,    -9.00,9,  5.04544238
  35MF20000719,  OISO,    17,  1,     24,20000813,-30.0000,  66.0000, 4733,      5.5,  17.7900,  35.8850,2,  35.8752,2,     -9.0,9,    235.3,2,     2.20,2,     0.10,2,   2054.9,2,   2349.8,2,     0.14,2,  17.7890601
  35MF20000719,  OISO,    17,  1,     23,20000813,-30.0000,  66.0000, 4733,     11.2,  17.8000,  35.8850,2,  -9.0000,9,     -9.0,9,     -9.0,9,     2.20,2,     0.10,2,   2054.4,2,   2349.5,2,     0.15,2,    17.79809
  35MF20000719,  OISO,    17,  1,     22,20000813,-30.0000,  66.0000, 4733,     30.5,  17.8000,  35.8850,2,  -9.0000,9,     -9.0,9,     -9.0,9,     1.70,2,     0.00,2,   2055.3,2,   2349.9,2,     0.16,2,  17.7947916
  35MF20000719,  OISO,    17,  1,     21,20000813,-30.0000,  66.0000, 4733,     49.5,  17.8100,  35.8840,2,  35.8853,2,     -9.0,9,    235.0,2,     1.70,2,     0.10,2,   2054.8,2,   2350.2,2,     0.15,2,  17.8015434
  35MF20000719,  OISO,    17,  1,     20,20000813,-30.0000,  66.0000, 4733,     74.7,  17.8100,  35.8830,2,  -9.0000,9,     -9.0,9,     -9.0,9,     2.10,2,     0.00,2,   2053.8,2,   2349.7,2,     0.21,2,  17.7972224
  35MF20000719,  OISO,    17,  1,     19,20000813,-30.0000,  66.0000, 4733,    101.0,  17.8100,  35.8820,2,  -9.0000,9,     -9.0,9,     -9.0,9,     1.80,2,     0.00,2,   2056.6,2,   2349.5,2,     0.19,2,   17.792718
  35MF20000719,  OISO,    17,  1,     18,20000813,-30.0000,  66.0000, 4733,    146.7,  15.5100,  35.5070,2,  -9.0000,9,     -9.0,9,     -9.0,9,     2.60,2,     3.30,2,   2076.6,2,   2326.2,2,     0.11,2,  15.4872069
  35MF20000719,  OISO,    17,  1,     17,20000813,-30.0000,  66.0000, 4733,    198.4,  13.9300,  35.3470,2,  35.3397,2,     -9.0,9,    230.5,2,     3.70,2,     6.90,2,   2089.4,2,   2316.5,2,     0.02,2,  13.9013375
  35MF20000719,  OISO,    17,  1,     16,20000813,-30.0000,  66.0000, 4733,    247.5,  13.4500,  35.3140,2,  -9.0000,9,     -9.0,9,     -9.0,9,     4.00,2,     7.50,2,   2088.0,2,   2315.4,2,    -9.00,9,   13.415007
  35MF20000719,  OISO,    17,  1,     15,20000813,-30.0000,  66.0000, 4733,    297.3,  13.1700,  35.2820,2,  -9.0000,9,     -9.0,9,     -9.0,9,     4.30,2,     7.90,2,   2091.0,2,   2315.0,2,    -9.00,9,  13.1284828
  35MF20000719,  OISO,    17,  1,     14,20000813,-30.0000,  66.0000, 4733,    398.8,  12.5900,  35.1880,2,  -9.0000,9,     -9.0,9,     -9.0,9,     4.50,2,     9.40,2,   2097.2,2,   2309.7,2,    -9.00,9,  12.5357745
  35MF20000719,  OISO,    17,  1,     13,20000813,-30.0000,  66.0000, 4733,    498.9,  11.8300,  35.0660,2,  35.0655,2,     -9.0,9,    231.1,2,     5.00,2,    11.10,2,   2104.0,2,   2303.4,2,    -9.00,9,  11.7646553
  35MF20000719,  OISO,    17,  1,     12,20000813,-30.0000,  66.0000, 4733,    747.5,   9.4500,  34.7210,2,  -9.0000,9,     -9.0,9,     -9.0,9,     8.10,2,    17.40,2,   2124.7,2,   2289.7,2,    -9.00,9,  9.36408763
  35MF20000719,  OISO,    17,  1,     11,20000813,-30.0000,  66.0000, 4733,   1000.8,   5.8000,  34.4180,2,  34.4270,2,     -9.0,9,    201.5,2,    24.50,2,    28.30,2,   2171.5,2,   2289.0,2,    -9.00,9,  5.71067772
  35MF20000719,  OISO,    17,  1,     10,20000813,-30.0000,  66.0000, 4733,   1248.7,   3.7500,  34.4110,2,  -9.0000,9,     -9.0,9,     -9.0,9,    52.20,2,    31.50,2,   2217.6,2,   2308.2,2,    -9.00,9,  3.65577166
  35MF20000719,  OISO,    17,  1,      9,20000813,-30.0000,  66.0000, 4733,   1499.5,   2.9800,  34.5380,2,  -9.0000,9,     -9.0,9,     -9.0,9,    73.40,2,    32.30,2,   2241.6,2,   2323.1,2,    -9.00,9,  2.87251428
  35MF20000719,  OISO,    17,  1,      8,20000813,-30.0000,  66.0000, 4733,   1747.5,   2.6300,  34.6360,2,  -9.0000,9,     -9.0,9,     -9.0,9,    81.90,2,    31.20,2,   2253.5,2,   2341.1,2,    -9.00,9,  2.50579291
  35MF20000719,  OISO,    17,  1,      7,20000813,-30.0000,  66.0000, 4733,   1996.9,   2.3600,  34.6940,2,  34.6981,2,     -9.0,9,    178.2,2,    96.80,2,    30.50,2,   2260.2,2,   2354.2,2,    -9.00,9,  2.21812162
  35MF20000719,  OISO,    17,  1,      6,20000813,-30.0000,  66.0000, 4733,   2493.6,   2.0200,  34.7310,2,  -9.0000,9,     -9.0,9,     -9.0,9,   109.30,2,    30.60,2,   2273.3,2,   2370.9,2,    -9.00,9,  1.83956638
  35MF20000719,  OISO,    17,  1,      5,20000813,-30.0000,  66.0000, 4733,   2995.3,   1.7500,  34.7310,2,  34.7307,2,     -9.0,9,    178.4,2,   119.50,2,    30.90,2,   2280.9,2,   2379.5,2,    -9.00,9,  1.52784846
  35MF20000719,  OISO,    17,  1,      4,20000813,-30.0000,  66.0000, 4733,   3501.3,   1.4000,  34.7210,2,  -9.0000,9,     -9.0,9,     -9.0,9,   125.40,2,    31.40,2,   2276.1,2,   2375.3,2,    -9.00,9,  1.13597496
  35MF20000719,  OISO,    17,  1,      3,20000813,-30.0000,  66.0000, 4733,   3999.0,   0.8200,  34.7010,2,  -9.0000,9,     -9.0,9,     -9.0,9,   133.70,2,    31.00,2,   2265.9,2,   2365.9,2,    -9.00,9, 0.520284763
  35MF20000719,  OISO,    17,  1,      2,20000813,-30.0000,  66.0000, 4733,   4503.6,   0.7700,  34.6970,2,  -9.0000,9,     -9.0,9,     -9.0,9,   133.40,2,    31.40,2,   2266.4,2,   2364.5,2,    -9.00,9, 0.417269585
  35MF20000719,  OISO,    17,  1,      1,20000813,-30.0000,  66.0000, 4733,   4505.0,   0.7700,  34.6970,2,  34.7039,2,     -9.0,9,    210.7,2,   133.50,2,    31.40,2,   2264.8,2,   2363.8,2,    -9.00,9, 0.417064275