BOTTLE,20081205PRINUNIVRMKPRINUNIVRMK
# 5/3/07 Initialized README file 
# Data from C. Lo Monaco 1/15/07 
# Ship: Marion Dufresne 
# Cruise: OISO-05 
# Dates: 7/19-8/16/2000 
# EXPOCODE:  35MF20000719 
# Region: SW Indian Ocean 
# Chief Scientist - N. Metzl 
# 12 stations 
# Hydro: Who - ; Status - final 
# 	Notes: 	only enough salinity to calibrate CTD 
# Nuts/O2: Who - ; Status - fina 
# 	Notes: No phosphate 
# TCO2: Who - C.LoMonaco; Status - final 
# 	Notes: CRM? 
# TA: Who - C.LoMonaco; Status - final 
# 	Notes: CRM? 
# fCO2: Who - ; Status - Underway only 
# Other: ChloroA 
EXPOCODE,SECT_ID,STNNBR,CASTNO,BTLNBR,DATE,LATITUDE,LONGITUDE,DEPTH,CTDPRS,CTDTMP,CTDSAL,CTDSAL_FLAG_W,SALNTY,SALNTY_FLAG_W,CTDOXY,CTDOXY_FLAG_W,OXYGEN,OXYGEN_FLAG_W,SILCAT,SILCAT_FLAG_W,NITRAT,NITRAT_FLAG_W,TCARBN,TCARBN_FLAG_W,ALKALI,ALKALI_FLAG_W,CHLORA,CHLORA_FLAG_W,THETA
,,,,,,,,METERS,DBARS,ITS-90,PSS-78,,PSS-78,,UMOL/KG,,UMOL/KG,,UMOL/KG,,UMOL/KG,,UMOL/KG,,UMOL/KG,,UG/L,,DEGC
  35MF20000719,  OISO,     1,  1,     20,20000722,-28.0000,  55.0000, 5182,      3.9,  20.8400,  35.7700,2,  -9.0000,9,     -9.0,9,     -9.0,9,    -9.00,9,    -9.00,9,   2010.8,2,   2337.3,2,    -9.00,9,  20.8392529
  35MF20000719,  OISO,     1,  1,     19,20000722,-28.0000,  55.0000, 5182,      5.3,  20.8400,  35.7700,2,  35.7768,2,     -9.0,9,    244.4,2,     1.73,2,     0.03,2,   2010.4,2,   2344.3,2,     0.09,2,  20.8389937
  35MF20000719,  OISO,     1,  1,     18,20000722,-28.0000,  55.0000, 5182,     10.1,  20.8300,  35.7700,2,  -9.0000,9,     -9.0,9,     -9.0,9,     1.94,2,     0.02,2,   2009.7,2,   2339.8,2,     0.09,2,  20.8280794
  35MF20000719,  OISO,     1,  1,     22,20000722,-28.0000,  55.0000, 5182,     10.8,  20.8300,  35.7700,2,  -9.0000,9,     -9.0,9,     -9.0,9,    -9.00,9,    -9.00,9,     -9.0,9,     -9.0,9,    -9.00,9,  20.8279518
  35MF20000719,  OISO,     1,  1,     21,20000722,-28.0000,  55.0000, 5182,     20.3,  20.8100,  35.7710,2,  -9.0000,9,     -9.0,9,     -9.0,9,    -9.00,9,    -9.00,9,     -9.0,9,     -9.0,9,    -9.00,9,  20.8061265
  35MF20000719,  OISO,     1,  1,     17,20000722,-28.0000,  55.0000, 5182,     21.2,  20.8100,  35.7700,2,  35.7883,2,     -9.0,9,    258.7,2,     1.60,2,     0.00,2,   2010.9,2,   2340.0,2,     0.08,2,  20.8059604
  35MF20000719,  OISO,     1,  1,     16,20000722,-28.0000,  55.0000, 5182,     30.7,  20.8100,  35.7710,2,  -9.0000,9,     -9.0,9,     -9.0,9,     2.20,2,     0.00,2,   2010.2,2,   2339.6,2,     0.11,2,  20.8041544
  35MF20000719,  OISO,     1,  1,     15,20000722,-28.0000,  55.0000, 5182,     39.1,  20.7900,  35.7780,2,  -9.0000,9,     -9.0,9,     -9.0,9,     2.30,2,     0.10,2,   2011.6,2,   2341.2,2,     0.11,2,   20.782562
  35MF20000719,  OISO,     1,  1,     14,20000722,-28.0000,  55.0000, 5182,     50.3,  20.6500,  35.7870,2,  35.7959,2,     -9.0,9,    249.2,2,     2.10,2,     0.00,2,   2013.1,2,   2342.0,2,     0.17,2,  20.6404671
  35MF20000719,  OISO,     1,  1,     23,20000722,-28.0000,  55.0000, 5182,     73.1,  20.1500,  35.7530,2,  -9.0000,9,     -9.0,9,     -9.0,9,    -9.00,9,    -9.00,9,     -9.0,9,     -9.0,9,    -9.00,9,  20.1363799
  35MF20000719,  OISO,     1,  1,     13,20000722,-28.0000,  55.0000, 5182,     74.5,  20.1400,  35.7540,2,  -9.0000,9,     -9.0,9,     -9.0,9,     2.10,2,     0.00,2,   2024.9,2,   2343.8,2,     0.22,2,  20.1261236
  35MF20000719,  OISO,     1,  1,     12,20000722,-28.0000,  55.0000, 5182,    101.8,  18.5700,  35.7040,2,  -9.0000,9,     -9.0,9,     -9.0,9,     2.40,2,     0.50,2,   2044.2,2,   2338.2,2,     0.34,2,  18.5520908
  35MF20000719,  OISO,     1,  1,     11,20000722,-28.0000,  55.0000, 5182,    126.4,  17.7100,  35.6700,2,  -9.0000,9,     -9.0,9,     -9.0,9,     2.40,2,     1.10,2,   2060.4,2,   2336.6,2,     0.17,2,  17.6884721
  35MF20000719,  OISO,     1,  1,     10,20000722,-28.0000,  55.0000, 5182,    148.8,  16.9600,  35.6350,2,  -9.0000,9,     -9.0,9,     -9.0,9,     2.50,2,     2.10,2,   2062.4,2,   2334.4,2,    -9.00,9,  16.9353969
  35MF20000719,  OISO,     1,  1,     24,20000722,-28.0000,  55.0000, 5182,    150.4,  16.9500,  35.6340,2,  -9.0000,9,     -9.0,9,     -9.0,9,    -9.00,9,    -9.00,9,     -9.0,9,     -9.0,9,    -9.00,9,   16.925135
  35MF20000719,  OISO,     1,  1,      9,20000722,-28.0000,  55.0000, 5182,    200.1,  15.8700,  35.5830,2,  35.5887,2,     -9.0,9,    212.1,2,     3.00,2,     4.00,2,   2080.8,2,   2334.0,2,    -9.00,9,   15.838355
  35MF20000719,  OISO,     1,  1,      8,20000722,-28.0000,  55.0000, 5182,    251.4,  14.9300,  35.5130,2,  -9.0000,9,     -9.0,9,     -9.0,9,     3.30,2,     5.40,2,   2090.3,2,   2330.8,2,    -9.00,9,  14.8918275
  35MF20000719,  OISO,     1,  1,      7,20000722,-28.0000,  55.0000, 5182,    301.3,  13.9600,  35.4010,2,  -9.0000,9,     -9.0,9,     -9.0,9,     3.30,2,     6.70,2,   2096.4,2,   2325.4,2,    -9.00,9,  13.9162177
  35MF20000719,  OISO,     1,  1,      6,20000722,-28.0000,  55.0000, 5182,    400.8,  12.7000,  35.2170,2,  -9.0000,9,     -9.0,9,     -9.0,9,     3.80,2,     8.60,2,   2098.2,2,   2316.5,2,    -9.00,9,  12.6451713
  35MF20000719,  OISO,     1,  1,      5,20000722,-28.0000,  55.0000, 5182,    500.6,  11.6000,  35.0360,2,  35.0458,2,     -9.0,9,    229.0,2,     4.70,2,    11.10,2,   2101.6,2,   2308.0,2,    -9.00,9,  11.5352508
  35MF20000719,  OISO,     1,  1,      4,20000722,-28.0000,  55.0000, 5182,    601.1,  10.7600,  34.9080,2,  -9.0000,9,     -9.0,9,     -9.0,9,     6.20,2,    13.30,2,   2106.4,2,   2299.1,2,    -9.00,9,  10.6856185
  35MF20000719,  OISO,     1,  1,      3,20000722,-28.0000,  55.0000, 5182,    799.0,   8.5800,  34.6370,2,  -9.0000,9,     -9.0,9,     -9.0,9,    10.90,2,    20.10,2,   2135.5,2,   2288.7,2,    -9.00,9,  8.49306141
  35MF20000719,  OISO,     1,  1,      1,20000722,-28.0000,  55.0000, 5182,   1001.6,   5.8100,  34.4510,2,  34.4634,2,     -9.0,9,    194.6,2,    28.40,2,    29.00,2,   2178.3,2,   2296.1,2,    -9.00,9,  5.72046931
  35MF20000719,  OISO,     1,  1,      2,20000722,-28.0000,  55.0000, 5182,   1002.1,   5.8100,  34.4510,2,  -9.0000,9,     -9.0,9,     -9.0,9,    27.90,2,    28.40,2,   2180.2,2,   2300.4,2,    -9.00,9,  5.72044576
  35MF20000719,  OISO,     2,  1,     19,20000722,-30.0000,  54.1000, 4833,      5.3,  20.1400,  35.8710,2,  35.8715,2,     -9.0,9,    228.1,2,     1.90,2,     0.10,2,   2018.9,2,   2347.1,2,     0.13,2,  20.1390192
  35MF20000719,  OISO,     2,  1,     20,20000722,-30.0000,  54.1000, 4833,      5.7,  20.1400,  35.8710,2,  -9.0000,9,     -9.0,9,     -9.0,9,    -9.00,9,    -9.00,9,     -9.0,9,     -9.0,9,    -9.00,9,  20.1389373
  35MF20000719,  OISO,     2,  1,     18,20000722,-30.0000,  54.1000, 4833,     10.4,  20.1400,  35.8710,2,  -9.0000,9,     -9.0,9,     -9.0,9,     1.50,2,     0.20,2,   2021.7,2,   2347.5,2,     0.12,2,  20.1380698
  35MF20000719,  OISO,     2,  1,     22,20000722,-30.0000,  54.1000, 4833,     11.8,  20.1400,  35.8710,2,  -9.0000,9,     -9.0,9,     -9.0,9,    -9.00,9,    -9.00,9,     -9.0,9,     -9.0,9,    -9.00,9,  20.1377998
  35MF20000719,  OISO,     2,  1,     21,20000722,-30.0000,  54.1000, 4833,     20.3,  20.1400,  35.8700,2,  -9.0000,9,     -9.0,9,     -9.0,9,    -9.00,9,    -9.00,9,     -9.0,9,     -9.0,9,    -9.00,9,  20.1362133
  35MF20000719,  OISO,     2,  1,     17,20000722,-30.0000,  54.1000, 4833,     20.7,  20.1400,  35.8700,2,  35.8697,2,     -9.0,9,    232.7,2,     1.60,2,     0.10,2,   2019.4,2,   2348.9,2,     0.10,2,  20.1361444
  35MF20000719,  OISO,     2,  1,     16,20000722,-30.0000,  54.1000, 4833,     30.1,  20.1400,  35.8700,2,  -9.0000,9,     -9.0,9,     -9.0,9,     1.80,2,     0.10,2,   2023.6,2,   2347.1,2,     0.15,2,  20.1343972
  35MF20000719,  OISO,     2,  1,     15,20000722,-30.0000,  54.1000, 4833,     40.7,  20.1400,  35.8700,2,  -9.0000,9,     -9.0,9,     -9.0,9,     1.80,2,     0.10,2,   2023.3,2,   2347.6,2,     0.13,2,  20.1324275
  35MF20000719,  OISO,     2,  1,     14,20000722,-30.0000,  54.1000, 4833,     50.7,  20.1400,  35.8690,2,  35.8735,2,     -9.0,9,    224.9,2,     1.80,2,     0.10,2,   2023.2,2,   2347.0,2,     0.14,2,  20.1305557
  35MF20000719,  OISO,     2,  1,     13,20000722,-30.0000,  54.1000, 4833,     72.8,  20.0800,  35.8670,2,  -9.0000,9,     -9.0,9,     -9.0,9,     1.70,2,     0.00,2,   2019.4,2,   2346.5,2,    -9.00,9,  20.0664662
  35MF20000719,  OISO,     2,  1,     12,20000722,-30.0000,  54.1000, 4833,    101.3,  19.9400,  35.8620,2,  -9.0000,9,     -9.0,9,     -9.0,9,     1.60,2,     0.20,2,   2022.7,2,   2347.9,2,     0.17,2,  19.9212439
  35MF20000719,  OISO,     2,  1,     11,20000722,-30.0000,  54.1000, 4833,    125.3,  18.0800,  35.7250,2,  -9.0000,9,     -9.0,9,     -9.0,9,     2.00,2,     0.30,2,   2053.2,2,   2338.5,2,     0.19,2,  18.0583522
  35MF20000719,  OISO,     2,  1,     23,20000722,-30.0000,  54.1000, 4833,    126.4,  18.1000,  35.7260,2,  -9.0000,9,     -9.0,9,     -9.0,9,    -9.00,9,    -9.00,9,     -9.0,9,     -9.0,9,    -9.00,9,  18.0781411
  35MF20000719,  OISO,     2,  1,     24,20000722,-30.0000,  54.1000, 4833,    149.1,  17.2500,  35.6920,2,  -9.0000,9,     -9.0,9,     -9.0,9,    -9.00,9,    -9.00,9,     -9.0,9,     -9.0,9,    -9.00,9,  17.2250489
  35MF20000719,  OISO,     2,  1,     10,20000722,-30.0000,  54.1000, 4833,    150.6,  17.3000,  35.6950,2,  -9.0000,9,     -9.0,9,     -9.0,9,     1.70,2,     0.70,2,   2057.1,2,   2338.7,2,    -9.00,9,   17.274741
  35MF20000719,  OISO,     2,  1,      9,20000722,-30.0000,  54.1000, 4833,    200.3,  15.6300,  35.5650,2,  35.5749,2,     -9.0,9,    220.8,2,     2.60,2,     3.20,2,   2072.1,2,   2331.3,2,    -9.00,9,   15.598661
  35MF20000719,  OISO,     2,  1,      8,20000722,-30.0000,  54.1000, 4833,    250.5,  14.4100,  35.4320,2,  -9.0000,9,     -9.0,9,     -9.0,9,     3.90,2,     6.00,2,   2085.2,2,   2322.0,2,    -9.00,9,  14.3728731
  35MF20000719,  OISO,     2,  1,      7,20000722,-30.0000,  54.1000, 4833,    303.0,  13.7300,  35.3560,2,  -9.0000,9,     -9.0,9,     -9.0,9,     4.40,2,     7.30,2,   2088.7,2,   2319.1,2,    -9.00,9,  13.6864814
  35MF20000719,  OISO,     2,  1,      6,20000722,-30.0000,  54.1000, 4833,    400.4,  12.9300,  35.2440,2,  -9.0000,9,     -9.0,9,     -9.0,9,     3.80,2,     8.80,2,   2092.8,2,   2312.6,2,    -9.00,9,  12.8745703
  35MF20000719,  OISO,     2,  1,      5,20000722,-30.0000,  54.1000, 4833,    502.6,  12.1700,  35.1200,2,  35.1237,2,     -9.0,9,    245.4,2,     4.30,2,    10.30,2,   2100.2,2,   2307.3,2,    -9.00,9,  12.1029228
  35MF20000719,  OISO,     2,  1,      4,20000722,-30.0000,  54.1000, 4833,    598.2,  11.3000,  34.9860,2,  -9.0000,9,     -9.0,9,     -9.0,9,     4.60,2,    12.20,2,   2106.6,2,   2300.2,2,    -9.00,9,  11.2236242
  35MF20000719,  OISO,     2,  1,      3,20000722,-30.0000,  54.1000, 4833,    800.5,   8.9400,  34.6750,2,  -9.0000,9,     -9.0,9,     -9.0,9,     9.20,2,    17.00,2,   2128.1,2,   2289.9,2,    -9.00,9,  8.85074707
  35MF20000719,  OISO,     2,  1,      1,20000722,-30.0000,  54.1000, 4833,   1001.2,   6.2400,  34.4580,2,  34.4646,2,     -9.0,9,    212.2,2,    22.80,2,    27.40,2,   2169.0,2,   2294.1,2,    -9.00,9,  6.14728087
  35MF20000719,  OISO,     2,  1,      2,20000722,-30.0000,  54.1000, 4833,   1001.9,   6.2300,  34.4570,2,  -9.0000,9,     -9.0,9,     -9.0,9,    22.20,2,    27.70,2,   2168.1,2,   2289.5,2,    -9.00,9,  6.13730404
  35MF20000719,  OISO,     3,  1,     20,20000723,-34.9800,  53.5200, 3675,      5.1,  17.7500,  35.7220,2,  -9.0000,9,     -9.0,9,     -9.0,9,    -9.00,9,    -9.00,9,     -9.0,9,     -9.0,9,    -9.00,9,  17.7491306
  35MF20000719,  OISO,     3,  1,     19,20000723,-34.9800,  53.5200, 3675,      7.6,  17.7500,  35.7220,2,  35.7245,2,     -9.0,9,    232.7,2,     2.60,2,     0.50,2,   2039.1,2,   2335.4,2,     0.27,2,  17.7487153
  35MF20000719,  OISO,     3,  1,     18,20000723,-34.9800,  53.5200, 3675,     10.0,  17.7500,  35.7220,2,  -9.0000,9,     -9.0,9,     -9.0,9,     2.20,2,     0.30,2,   2039.4,2,   2335.1,2,     0.27,2,  17.7482983
  35MF20000719,  OISO,     3,  1,     22,20000723,-34.9800,  53.5200, 3675,     11.4,  17.7500,  35.7220,2,  -9.0000,9,     -9.0,9,     -9.0,9,    -9.00,9,    -9.00,9,     -9.0,9,     -9.0,9,    -9.00,9,  17.7480601
  35MF20000719,  OISO,     3,  1,     17,20000723,-34.9800,  53.5200, 3675,     20.6,  17.7600,  35.7220,2,  35.7267,2,     -9.0,9,    238.6,2,     2.30,2,     0.40,2,   2039.3,2,   2336.4,2,     0.26,2,  17.7564837
  35MF20000719,  OISO,     3,  1,     21,20000723,-34.9800,  53.5200, 3675,     22.0,  17.7600,  35.7220,2,  -9.0000,9,     -9.0,9,     -9.0,9,    -9.00,9,    -9.00,9,     -9.0,9,     -9.0,9,    -9.00,9,  17.7562624
  35MF20000719,  OISO,     3,  1,     16,20000723,-34.9800,  53.5200, 3675,     31.0,  17.7600,  35.7220,2,  -9.0000,9,     -9.0,9,     -9.0,9,     2.50,2,     0.40,2,   2037.1,2,   2335.5,2,     0.25,2,  17.7547287
  35MF20000719,  OISO,     3,  1,     15,20000723,-34.9800,  53.5200, 3675,     40.4,  17.7600,  35.7220,2,  -9.0000,9,     -9.0,9,     -9.0,9,     2.50,2,     0.40,2,   2038.7,2,   2335.1,2,     0.27,2,  17.7531177
  35MF20000719,  OISO,     3,  1,     14,20000723,-34.9800,  53.5200, 3675,     48.7,  17.7600,  35.7220,2,  35.7336,2,     -9.0,9,    238.1,2,     2.20,2,     0.30,2,   2038.6,2,   2334.9,2,     0.26,2,  17.7517067
  35MF20000719,  OISO,     3,  1,     13,20000723,-34.9800,  53.5200, 3675,     72.9,  17.7400,  35.7200,2,  -9.0000,9,     -9.0,9,     -9.0,9,     2.10,2,     0.40,2,   2040.1,2,   2335.4,2,     0.25,2,  17.7275766
  35MF20000719,  OISO,     3,  1,     23,20000723,-34.9800,  53.5200, 3675,     74.2,  17.7300,  35.7200,2,  -9.0000,9,     -9.0,9,     -9.0,9,    -9.00,9,    -9.00,9,     -9.0,9,     -9.0,9,    -9.00,9,  17.7173614
  35MF20000719,  OISO,     3,  1,     12,20000723,-34.9800,  53.5200, 3675,    102.3,  17.6900,  35.7150,2,  -9.0000,9,     -9.0,9,     -9.0,9,     2.20,2,     0.40,2,   2037.6,2,   2336.6,2,     0.20,2,   17.672598
  35MF20000719,  OISO,     3,  1,     11,20000723,-34.9800,  53.5200, 3675,    126.7,  17.6700,  35.7120,2,  -9.0000,9,     -9.0,9,     -9.0,9,     2.40,2,     0.50,2,   2038.3,2,   2337.9,2,     0.16,2,   17.648452
  35MF20000719,  OISO,     3,  1,     24,20000723,-34.9800,  53.5200, 3675,    149.9,  17.6700,  35.7100,2,  -9.0000,9,     -9.0,9,     -9.0,9,    -9.00,9,    -9.00,9,     -9.0,9,     -9.0,9,    -9.00,9,  17.6444943
  35MF20000719,  OISO,     3,  1,     10,20000723,-34.9800,  53.5200, 3675,    152.4,  17.6700,  35.7100,2,  -9.0000,9,     -9.0,9,     -9.0,9,     2.40,2,     0.50,2,   2042.5,2,   2334.3,2,    -9.00,9,  17.6440588
  35MF20000719,  OISO,     3,  1,      9,20000723,-34.9800,  53.5200, 3675,    203.3,  16.6500,  35.5860,2,  35.5873,2,     -9.0,9,    226.7,2,     3.30,2,     3.00,2,   2056.5,2,   2328.4,2,    -9.00,9,    16.61678
  35MF20000719,  OISO,     3,  1,      8,20000723,-34.9800,  53.5200, 3675,    248.3,  15.6800,  35.5140,2,  -9.0000,9,     -9.0,9,     -9.0,9,     4.10,2,     5.20,2,   2075.0,2,   2322.8,2,    -9.00,9,  15.6410243
  35MF20000719,  OISO,     3,  1,      7,20000723,-34.9800,  53.5200, 3675,    301.5,  15.0500,  35.4720,2,  -9.0000,9,     -9.0,9,     -9.0,9,     4.30,2,     5.60,2,   2080.7,2,   2322.2,2,    -9.00,9,   15.003913
  35MF20000719,  OISO,     3,  1,      6,20000723,-34.9800,  53.5200, 3675,    397.4,  14.0200,  35.3780,2,  -9.0000,9,     -9.0,9,     -9.0,9,     4.30,2,     7.30,2,   2089.5,2,   2317.1,2,    -9.00,9,  13.9619225
  35MF20000719,  OISO,     3,  1,      5,20000723,-34.9800,  53.5200, 3675,    502.7,  13.1000,  35.2630,2,  35.2876,2,     -9.0,9,    231.7,2,     4.40,2,     8.60,2,   2092.4,2,   2312.2,2,    -9.00,9,  13.0295345
  35MF20000719,  OISO,     3,  1,      4,20000723,-34.9800,  53.5200, 3675,    600.1,  12.3100,  35.1360,2,  -9.0000,9,     -9.0,9,     -9.0,9,     4.80,2,    10.30,2,   2099.3,2,   2306.3,2,    -9.00,9,  12.2290032
  35MF20000719,  OISO,     3,  1,      3,20000723,-34.9800,  53.5200, 3675,    797.0,   9.8600,  34.7830,2,  -9.0000,9,     -9.0,9,     -9.0,9,     8.20,2,    16.70,2,   2119.9,2,   2290.1,2,    -9.00,9,  9.76575018
  35MF20000719,  OISO,     3,  1,      2,20000723,-34.9800,  53.5200, 3675,   1002.4,   7.2700,  34.5330,2,  -9.0000,9,     -9.0,9,     -9.0,9,    17.20,2,    24.30,2,   2157.2,2,   2291.9,2,    -9.00,9,  7.16940514
  35MF20000719,  OISO,     3,  1,      1,20000723,-34.9800,  53.5200, 3675,   1003.1,   7.2500,  34.5320,2,  34.5395,2,     -9.0,9,    213.9,2,    16.80,2,    24.40,2,   2152.3,2,   2286.9,2,    -9.00,9,  7.14947115