BOTTLE,20081205PRINUNIVRMKPRINUNIVRMK
EXPOCODE,SECT_ID,STNNBR,CASTNO,BTLNBR,DATE,LATITUDE,LONGITUDE,DEPTH,CTDPRS,CTDTMP,CTDSAL,CTDSAL_FLAG_W,SALNTY,SALNTY_FLAG_W,CTDOXY,CTDOXY_FLAG_W,OXYGEN,OXYGEN_FLAG_W,SILCAT,SILCAT_FLAG_W,NITRAT,NITRAT_FLAG_W,TCARBN,TCARBN_FLAG_W,ALKALI,ALKALI_FLAG_W,CHLORA,CHLORA_FLAG_W,THETA
,,,,,,,,METERS,DBARS,ITS-90,PSS-78,,PSS-78,,UMOL/KG,,UMOL/KG,,UMOL/KG,,UMOL/KG,,UMOL/KG,,UMOL/KG,,UG/L,,DEGC
  35MF20000719,  OISO,     4,  1,     20,20000724,-40.0000,  52.8200, 4218,      6.7,  16.5400,  35.5830,2,  -9.0000,9,    231.1,2,     -9.0,9,    -9.00,9,    -9.00,9,     -9.0,9,     -9.0,9,    -9.00,9,  16.5389092
  35MF20000719,  OISO,     4,  1,     19,20000724,-40.0000,  52.8200, 4218,      7.5,  16.5400,  35.5830,2,  35.5836,2,    230.9,2,    231.3,2,     3.20,2,     2.80,2,   2046.6,2,   2326.7,2,     0.28,2,  16.5387813
  35MF20000719,  OISO,     4,  1,     18,20000724,-40.0000,  52.8200, 4218,     10.2,  16.5400,  35.5830,2,  -9.0000,9,    231.3,2,     -9.0,9,     3.30,2,     2.70,2,   2053.5,2,   2325.5,2,     0.28,2,  16.5383459
  35MF20000719,  OISO,     4,  1,     22,20000724,-40.0000,  52.8200, 4218,     12.4,  16.5400,  35.5830,2,  -9.0000,9,    231.1,2,     -9.0,9,    -9.00,9,    -9.00,9,     -9.0,9,     -9.0,9,    -9.00,9,  16.5379945
  35MF20000719,  OISO,     4,  1,     17,20000724,-40.0000,  52.8200, 4218,     20.8,  16.5500,  35.5830,2,  35.5952,2,    231.2,2,    231.1,2,     3.20,2,     2.80,2,     -9.0,9,     -9.0,9,     0.29,2,  16.5466308
  35MF20000719,  OISO,     4,  1,     21,20000724,-40.0000,  52.8200, 4218,     21.1,  16.5500,  35.5830,2,  -9.0000,9,    231.0,2,     -9.0,9,    -9.00,9,    -9.00,9,     -9.0,9,     -9.0,9,    -9.00,9,   16.546576
  35MF20000719,  OISO,     4,  1,     16,20000724,-40.0000,  52.8200, 4218,     31.3,  16.5500,  35.5830,2,  -9.0000,9,    231.1,2,     -9.0,9,     3.20,2,     2.80,2,   2047.1,2,   2325.9,2,     0.27,2,  16.5449323
  35MF20000719,  OISO,     4,  1,     15,20000724,-40.0000,  52.8200, 4218,     39.9,  16.5500,  35.5820,2,  -9.0000,9,    231.4,2,     -9.0,9,     3.30,2,     2.80,2,   2050.0,2,   2325.6,2,     0.27,2,  16.5435278
  35MF20000719,  OISO,     4,  1,     23,20000724,-40.0000,  52.8200, 4218,     52.2,  16.5400,  35.5810,2,  -9.0000,9,    231.5,2,     -9.0,9,     3.10,2,     2.80,2,   2050.9,2,   2326.2,2,     0.29,2,  16.5315485
  35MF20000719,  OISO,     4,  1,     14,20000724,-40.0000,  52.8200, 4218,     52.7,  16.5400,  35.5810,2,  35.5861,2,    231.3,2,    230.8,2,    -9.00,9,    -9.00,9,     -9.0,9,     -9.0,9,    -9.00,9,  16.5314606
  35MF20000719,  OISO,     4,  1,     13,20000724,-40.0000,  52.8200, 4218,     76.6,  16.3900,  35.5580,2,  -9.0000,9,    231.5,2,     -9.0,9,     3.20,2,     3.00,2,   2049.4,2,   2326.7,2,     0.22,2,  16.3776556
  35MF20000719,  OISO,     4,  1,     12,20000724,-40.0000,  52.8200, 4218,    100.1,  16.3200,  35.5460,2,  -9.0000,9,    231.2,2,     -9.0,9,     3.20,2,     3.10,2,   2053.4,2,   2324.6,2,     0.26,2,  16.3039104
  35MF20000719,  OISO,     4,  1,     11,20000724,-40.0000,  52.8200, 4218,    125.9,  16.1400,  35.5120,2,  -9.0000,9,    230.7,2,     -9.0,9,     3.20,2,     3.70,2,   2052.5,2,   2324.0,2,     0.18,2,  16.1199155
  35MF20000719,  OISO,     4,  1,     24,20000724,-40.0000,  52.8200, 4218,    152.9,  15.8000,  35.4620,2,  -9.0000,9,    231.7,2,     -9.0,9,    -9.00,9,    -9.00,9,     -9.0,9,     -9.0,9,    -9.00,9,  15.7759456
  35MF20000719,  OISO,     4,  1,     10,20000724,-40.0000,  52.8200, 4218,    153.0,  15.7900,  35.4610,2,  -9.0000,9,    231.7,2,     -9.0,9,     3.30,2,     4.00,2,   2057.8,2,   2321.2,2,    -9.00,9,  15.7659357
  35MF20000719,  OISO,     4,  1,      9,20000724,-40.0000,  52.8200, 4218,    198.4,  15.5600,  35.4350,2,  35.4910,2,    233.3,2,    233.4,2,     3.20,2,     3.80,2,   2054.5,2,   2321.5,2,    -9.00,9,  15.5290639
  35MF20000719,  OISO,     4,  1,      8,20000724,-40.0000,  52.8200, 4218,    250.0,  14.2000,  35.2310,2,  -9.0000,9,    233.4,2,     -9.0,9,     3.50,2,     6.00,2,   2069.6,2,   2312.5,2,    -9.00,9,  14.1633802
  35MF20000719,  OISO,     4,  1,      7,20000724,-40.0000,  52.8200, 4218,    304.8,  14.1100,  35.3710,2,  -9.0000,9,    230.1,2,     -9.0,9,     4.00,2,     7.00,2,   2086.1,2,   2316.9,2,    -9.00,9,  14.0654044
  35MF20000719,  OISO,     7,  1,     19,20000728,-47.6700,  58.0000, 4479,      6.1,   5.3600,  33.7510,2,  33.7526,2,    304.5,2,    304.8,2,     6.10,2,    21.10,2,   2105.2,2,   2263.8,2,     0.31,2,  5.35952815
  35MF20000719,  OISO,     7,  1,     20,20000728,-47.6700,  58.0000, 4479,      6.2,   5.3600,  33.7510,2,  -9.0000,9,    305.1,2,     -9.0,9,    -9.00,9,    -9.00,9,     -9.0,9,     -9.0,9,    -9.00,9,  5.35951885
  35MF20000719,  OISO,     7,  1,     18,20000728,-47.6700,  58.0000, 4479,      9.7,   5.3600,  33.7510,2,  -9.0000,9,    305.4,2,     -9.0,9,     6.60,2,    21.60,2,   2103.6,2,   2262.4,2,    -9.00,9,  5.35924543
  35MF20000719,  OISO,     7,  1,     22,20000728,-47.6700,  58.0000, 4479,     11.8,   5.3600,  33.7510,2,  -9.0000,9,    304.9,2,     -9.0,9,    -9.00,9,    -9.00,9,     -9.0,9,     -9.0,9,    -9.00,9,  5.35908688
  35MF20000719,  OISO,     7,  1,     17,20000728,-47.6700,  58.0000, 4479,     20.4,   5.3600,  33.7510,2,  33.7503,2,    305.3,2,    305.4,2,     6.20,2,    21.20,2,   2105.2,2,   2262.4,2,     0.31,2,  5.35841708
  35MF20000719,  OISO,     7,  1,     21,20000728,-47.6700,  58.0000, 4479,     21.8,   5.3600,  33.7510,2,  -9.0000,9,    304.9,2,     -9.0,9,    -9.00,9,    -9.00,9,     -9.0,9,     -9.0,9,    -9.00,9,  5.35830803
  35MF20000719,  OISO,     7,  1,     16,20000728,-47.6700,  58.0000, 4479,     30.9,   5.3600,  33.7510,2,  -9.0000,9,    305.1,2,     -9.0,9,     6.00,2,    21.30,2,   2106.1,2,   2260.9,2,     0.36,2,  5.35759947
  35MF20000719,  OISO,     7,  1,     23,20000728,-47.6700,  58.0000, 4479,     31.0,   5.3600,  33.7510,2,  -9.0000,9,    304.9,2,     -9.0,9,    -9.00,9,    -9.00,9,     -9.0,9,     -9.0,9,    -9.00,9,  5.35758543
  35MF20000719,  OISO,     7,  1,     15,20000728,-47.6700,  58.0000, 4479,     39.5,   5.3600,  33.7510,2,  -9.0000,9,    305.2,2,     -9.0,9,     6.30,2,    21.20,2,   2099.2,2,   2260.7,2,     0.33,2,  5.35692798
  35MF20000719,  OISO,     7,  1,     14,20000728,-47.6700,  58.0000, 4479,     48.2,   5.3600,  33.7520,2,  33.7497,2,    305.2,2,    304.5,2,     6.00,2,    21.20,2,   2107.8,2,   2262.7,2,     0.31,2,  5.35624376
  35MF20000719,  OISO,     7,  1,     13,20000728,-47.6700,  58.0000, 4479,     75.5,   5.3700,  33.7530,2,  -9.0000,9,    305.1,2,     -9.0,9,     6.30,2,    21.50,2,   2106.7,2,   2262.6,2,     0.33,2,  5.36409427
  35MF20000719,  OISO,     7,  1,     12,20000728,-47.6700,  58.0000, 4479,     99.9,   5.3700,  33.7550,2,  -9.0000,9,    304.7,2,     -9.0,9,     6.30,2,    21.40,2,   2105.7,2,   2262.9,2,     0.32,2,  5.36216859
  35MF20000719,  OISO,     7,  1,     11,20000728,-47.6700,  58.0000, 4479,    127.7,   5.0400,  33.8490,2,  -9.0000,9,    293.8,2,     -9.0,9,    10.60,2,    23.50,2,   2121.7,2,   2265.8,2,     0.07,2,  5.03027294
  35MF20000719,  OISO,     7,  1,     10,20000728,-47.6700,  58.0000, 4479,    152.2,   4.4700,  33.9320,2,  -9.0000,9,    288.5,2,     -9.0,9,    12.90,2,    24.50,2,   2134.4,2,   2266.8,2,    -9.00,9,  4.45904451
  35MF20000719,  OISO,     7,  1,     24,20000728,-47.6700,  58.0000, 4479,    152.3,   4.4800,  33.9330,2,  -9.0000,9,    288.3,2,     -9.0,9,    -9.00,9,    -9.00,9,     -9.0,9,     -9.0,9,    -9.00,9,  4.46902629
  35MF20000719,  OISO,     7,  1,      9,20000728,-47.6700,  58.0000, 4479,    200.0,   3.9700,  34.0300,2,  34.0280,2,    277.0,2,    277.4,2,    16.90,2,    25.80,2,   2147.1,2,   2271.0,2,    -9.00,9,  3.95630098
  35MF20000719,  OISO,     7,  1,      8,20000728,-47.6700,  58.0000, 4479,    252.1,   4.3400,  34.1630,2,  -9.0000,9,    254.4,2,     -9.0,9,    17.50,2,    26.60,2,   2155.3,2,   2274.2,2,    -9.00,9,  4.32182737
  35MF20000719,  OISO,     7,  1,      7,20000728,-47.6700,  58.0000, 4479,    297.5,   3.7100,  34.1490,2,  -9.0000,9,    258.0,2,     -9.0,9,    20.10,2,    28.00,2,   2161.5,2,   2274.8,2,    -9.00,9,  3.68994839
  35MF20000719,  OISO,     7,  1,      6,20000728,-47.6700,  58.0000, 4479,    399.7,   3.5200,  34.2150,2,  -9.0000,9,    241.4,2,     -9.0,9,    25.40,2,    29.40,2,   2171.1,2,   2281.4,2,    -9.00,9,  3.49329977
  35MF20000719,  OISO,     7,  1,      5,20000728,-47.6700,  58.0000, 4479,    499.8,   2.9400,  34.2140,2,  34.2130,2,    238.0,2,    237.9,2,    31.60,2,    31.10,2,   2183.3,2,   2286.3,2,    -9.00,9,  2.90853083
  35MF20000719,  OISO,     7,  1,      4,20000728,-47.6700,  58.0000, 4479,    600.4,   2.8600,  34.2870,2,  -9.0000,9,    217.7,2,     -9.0,9,    42.50,2,    32.60,2,   2199.3,2,   2294.7,2,    -9.00,9,  2.82201476
  35MF20000719,  OISO,     7,  1,      3,20000728,-47.6700,  58.0000, 4479,    797.9,   2.7400,  34.4370,2,  -9.0000,9,    185.9,2,     -9.0,9,    60.80,2,    34.40,2,   2227.9,2,   2312.0,2,    -9.00,9,  2.68881797
  35MF20000719,  OISO,     7,  1,      1,20000728,-47.6700,  58.0000, 4479,   1002.9,   2.6800,  34.5650,2,  34.5623,2,    179.5,2,    179.5,2,    69.30,2,    33.80,2,   2241.0,2,   2326.5,2,    -9.00,9,   2.6142866
  35MF20000719,  OISO,     7,  1,      2,20000728,-47.6700,  58.0000, 4479,   1002.9,   2.6800,  34.5660,2,  -9.0000,9,    179.4,2,     -9.0,9,    71.70,2,    33.90,2,   2241.3,2,   2328.6,2,    -9.00,9,  2.61427948
  35MF20000719,  OISO,     9,  1,     20,20000729,-48.5000,  64.9800, 2091,     -0.5,   2.9400,  33.7840,2,  -9.0000,9,    320.5,2,     -9.0,9,    -9.00,9,    -9.00,9,     -9.0,9,     -9.0,9,    -9.00,9,  2.94002791
  35MF20000719,  OISO,     9,  1,     19,20000729,-48.5000,  64.9800, 2091,      3.4,   2.9400,  33.8240,2,  33.8236,2,    320.7,2,    320.9,2,    14.20,2,    25.60,2,   2131.6,2,   2271.3,2,     0.20,2,  2.93980372
  35MF20000719,  OISO,     9,  1,     22,20000729,-48.5000,  64.9800, 2091,     11.2,   2.9400,  33.8240,2,  -9.0000,9,    320.9,2,     -9.0,9,    -9.00,9,    -9.00,9,     -9.0,9,     -9.0,9,    -9.00,9,  2.93934696
  35MF20000719,  OISO,     9,  1,     18,20000729,-48.5000,  64.9800, 2091,     12.0,   2.9400,  33.8230,2,  -9.0000,9,    320.4,2,     -9.0,9,    14.10,2,    25.50,2,   2130.8,2,   2270.3,2,     0.21,2,  2.93930142
  35MF20000719,  OISO,     9,  1,     21,20000729,-48.5000,  64.9800, 2091,     17.7,   2.9400,  33.8230,2,  -9.0000,9,    320.5,2,     -9.0,9,    -9.00,9,    -9.00,9,     -9.0,9,     -9.0,9,    -9.00,9,   2.9389688
  35MF20000719,  OISO,     9,  1,     17,20000729,-48.5000,  64.9800, 2091,     22.2,   2.9300,  33.8230,2,  33.8253,2,    320.6,2,    320.8,2,    14.10,2,    25.50,2,   2130.3,2,   2270.6,2,     0.21,2,    2.928703
  35MF20000719,  OISO,     9,  1,     16,20000729,-48.5000,  64.9800, 2091,     32.2,   2.9400,  33.8240,2,  -9.0000,9,    320.4,2,     -9.0,9,    14.20,2,    25.50,2,   2128.3,2,   2266.7,2,     0.21,2,  2.93811518
  35MF20000719,  OISO,     9,  1,     15,20000729,-48.5000,  64.9800, 2091,     40.0,   2.9400,  33.8230,2,  -9.0000,9,    320.8,2,     -9.0,9,    14.30,2,    25.90,2,   2128.6,2,   2267.2,2,     0.21,2,  2.93766125
  35MF20000719,  OISO,     9,  1,     23,20000729,-48.5000,  64.9800, 2091,     47.0,   2.9300,  33.8240,2,  -9.0000,9,    321.0,2,     -9.0,9,    -9.00,9,    -9.00,9,     -9.0,9,     -9.0,9,    -9.00,9,  2.92725016
  35MF20000719,  OISO,     9,  1,     14,20000729,-48.5000,  64.9800, 2091,     48.8,   2.9300,  33.8240,2,  33.8259,2,    321.1,2,    320.6,2,    14.10,2,    25.60,2,   2130.7,2,   2269.0,2,     0.20,2,  2.92714335
  35MF20000719,  OISO,     9,  1,     13,20000729,-48.5000,  64.9800, 2091,     71.4,   2.9300,  33.8240,2,  -9.0000,9,    321.0,2,     -9.0,9,    14.70,2,    25.90,2,   2130.9,2,   2268.8,2,     0.31,2,  2.92580499
  35MF20000719,  OISO,     9,  1,     12,20000729,-48.5000,  64.9800, 2091,     98.7,   2.8900,  33.8270,2,  -9.0000,9,    320.9,2,     -9.0,9,    14.50,2,    25.80,2,   2133.6,2,   2268.7,2,     0.20,2,   2.8842115
  35MF20000719,  OISO,     9,  1,     11,20000729,-48.5000,  64.9800, 2091,    120.5,   2.8200,  33.8310,2,  -9.0000,9,    321.9,2,     -9.0,9,    15.00,2,    25.90,2,   2133.0,2,   2270.4,2,     0.19,2,  2.81298348
  35MF20000719,  OISO,     9,  1,     10,20000729,-48.5000,  64.9800, 2091,    147.8,   2.7800,  33.8340,2,  -9.0000,9,    321.5,2,     -9.0,9,    15.20,2,    26.10,2,   2134.9,2,   2270.4,2,    -9.00,9,  2.77140722
  35MF20000719,  OISO,     9,  1,     24,20000729,-48.5000,  64.9800, 2091,    148.2,   2.7900,  33.8330,2,  -9.0000,9,    321.6,2,     -9.0,9,    -9.00,9,    -9.00,9,     -9.0,9,     -9.0,9,    -9.00,9,  2.78137224
  35MF20000719,  OISO,     9,  1,      9,20000729,-48.5000,  64.9800, 2091,    198.5,   2.2700,  33.9490,2,  -9.0000,9,    291.3,2,     -9.0,9,    -9.00,9,    -9.00,9,     -9.0,9,     -9.0,9,    -9.00,9,  2.25916049
  35MF20000719,  OISO,     9,  1,      8,20000729,-48.5000,  64.9800, 2091,    250.1,   2.2100,  34.0710,2,  -9.0000,9,    261.5,2,     -9.0,9,    35.00,2,    30.90,2,   2179.6,2,   2282.5,2,    -9.00,9,  2.19630473
  35MF20000719,  OISO,     9,  1,      7,20000729,-48.5000,  64.9800, 2091,    293.9,   2.3100,  34.1600,2,  -9.0000,9,    237.8,2,     -9.0,9,    43.00,2,    32.60,2,   2195.8,2,   2288.8,2,    -9.00,9,  2.29351218
  35MF20000719,  OISO,     9,  1,      6,20000729,-48.5000,  64.9800, 2091,    401.0,   2.3500,  34.2970,2,  -9.0000,9,    206.2,2,     -9.0,9,    55.60,2,    34.60,2,   2217.0,2,   2299.4,2,    -9.00,9,  2.32692185
  35MF20000719,  OISO,     9,  1,      5,20000729,-48.5000,  64.9800, 2091,    504.6,   2.3500,  34.4070,2,  34.4070,2,    185.2,2,    187.1,2,    66.70,2,    35.60,2,   2235.2,2,   2310.6,2,    -9.00,9,  2.32042648
  35MF20000719,  OISO,     9,  1,      4,20000729,-48.5000,  64.9800, 2091,    598.1,   2.3800,  34.4820,2,  -9.0000,9,    176.1,2,     -9.0,9,    72.90,2,    36.10,2,   2244.1,2,   2319.3,2,    -9.00,9,  2.34426843
  35MF20000719,  OISO,     9,  1,      3,20000729,-48.5000,  64.9800, 2091,    804.5,   2.3000,  34.6030,2,  -9.0000,9,    177.1,2,     -9.0,9,    80.90,2,    34.30,2,   2247.0,2,   2329.2,2,    -9.00,9,  2.25092566
  35MF20000719,  OISO,     9,  1,      1,20000729,-48.5000,  64.9800, 2091,   1003.1,   2.2500,  34.6820,2,  34.6798,2,    186.6,2,    184.7,2,    83.10,2,    32.70,2,   2244.7,2,   2335.2,2,    -9.00,9,  2.18746318
  35MF20000719,  OISO,     9,  1,      2,20000729,-48.5000,  64.9800, 2091,   1004.8,   2.2500,  34.6820,2,  -9.0000,9,    186.4,2,     -9.0,9,    84.40,2,    32.70,2,   2244.3,2,   2335.4,2,    -9.00,9,  2.18733958
  35MF20000719,  OISO,    10,  1,     24,20000731,-50.6700,  68.4200, 1609,      6.6,   2.1300,  33.8680,2,  -9.0000,9,    323.5,2,     -9.0,9,    -9.00,9,    -9.00,9,     -9.0,9,     -9.0,9,    -9.00,9,   2.1296574
  35MF20000719,  OISO,    10,  1,     23,20000731,-50.6700,  68.4200, 1609,      6.9,   2.1300,  33.8690,2,  33.8689,2,    323.2,2,    324.4,2,    18.00,2,    28.20,2,   2137.1,2,   2275.0,2,     0.16,2,  2.12964549
  35MF20000719,  OISO,    10,  1,     22,20000731,-50.6700,  68.4200, 1609,     11.8,   2.1300,  33.8690,2,  -9.0000,9,    323.1,2,     -9.0,9,    18.70,2,    27.90,2,   2136.6,2,   2274.0,2,     0.14,2,  2.12938866
  35MF20000719,  OISO,    10,  1,     21,20000731,-50.6700,  68.4200, 1609,     20.0,   2.1400,  33.8700,2,  33.8674,2,    323.1,2,    324.3,2,    17.90,2,    28.30,2,   2136.3,2,   2273.4,2,     0.20,2,  2.13896363
  35MF20000719,  OISO,    10,  1,     20,20000731,-50.6700,  68.4200, 1609,     27.6,   2.1400,  33.8690,2,  -9.0000,9,    323.5,2,     -9.0,9,    18.00,2,    28.20,2,   2136.5,2,   2274.1,2,     0.20,2,  2.13856913
  35MF20000719,  OISO,    10,  1,     19,20000731,-50.6700,  68.4200, 1609,     39.9,   2.1400,  33.8690,2,  -9.0000,9,    323.4,2,     -9.0,9,    18.30,2,    28.10,2,   2135.4,2,   2273.5,2,     0.16,2,  2.13792456
  35MF20000719,  OISO,    10,  1,     17,20000731,-50.6700,  68.4200, 1609,     48.9,   2.1300,  33.8680,2,  -9.0000,9,    323.2,2,     -9.0,9,    18.50,2,    28.30,2,   2137.1,2,   2274.5,2,     0.19,2,    2.127455
  35MF20000719,  OISO,    10,  1,     18,20000731,-50.6700,  68.4200, 1609,     74.4,   2.1500,  33.8700,2,  33.8857,2,    323.9,2,    324.1,2,    18.90,2,    28.10,2,   2136.6,2,   2272.7,2,     0.18,2,  2.14609734
  35MF20000719,  OISO,    10,  1,     16,20000731,-50.6700,  68.4200, 1609,     98.2,   2.1500,  33.8700,2,  33.8683,2,    324.2,2,    324.0,2,    18.70,2,    28.20,2,   2137.0,2,   2274.7,2,     0.15,2,  2.14483234
  35MF20000719,  OISO,    10,  1,     15,20000731,-50.6700,  68.4200, 1609,    121.0,   2.1500,  33.8700,2,  -9.0000,9,    324.2,2,     -9.0,9,    18.60,2,    28.50,2,   2136.6,2,   2274.2,2,     0.19,2,   2.1436116
  35MF20000719,  OISO,    10,  1,     14,20000731,-50.6700,  68.4200, 1609,    149.8,   2.1500,  33.8700,2,  -9.0000,9,    324.8,2,     -9.0,9,    18.90,2,    28.50,2,   2135.4,2,   2273.0,2,     0.17,2,  2.14205135
  35MF20000719,  OISO,    10,  1,     13,20000731,-50.6700,  68.4200, 1609,    174.6,   2.1500,  33.8710,2,  -9.0000,9,    325.4,2,     -9.0,9,    20.20,2,    29.10,2,   2135.4,2,   2272.4,2,    -9.00,9,  2.14069752
  35MF20000719,  OISO,    10,  1,     12,20000731,-50.6700,  68.4200, 1609,    201.4,   2.1500,  33.8710,2,  33.8844,2,    325.3,2,    323.3,2,    18.80,2,    28.20,2,   2135.9,2,   2271.5,2,    -9.00,9,  2.13922116
  35MF20000719,  OISO,    10,  1,     11,20000731,-50.6700,  68.4200, 1609,    246.7,   2.0100,  34.0110,2,  -9.0000,9,    287.1,2,     -9.0,9,    28.50,2,    30.10,2,   2165.2,2,   2278.6,2,    -9.00,9,  1.99692849
  35MF20000719,  OISO,    10,  1,     10,20000731,-50.6700,  68.4200, 1609,    298.5,   2.2700,  34.1500,2,  34.1507,2,    247.3,2,    250.7,2,    34.20,2,    32.40,2,   2189.5,2,   2282.1,2,    -9.00,9,  2.25334619
  35MF20000719,  OISO,    10,  1,      9,20000731,-50.6700,  68.4200, 1609,    399.3,   2.4100,  34.2770,2,  -9.0000,9,    209.2,2,     -9.0,9,    -9.00,9,    -9.00,9,     -9.0,9,     -9.0,9,    -9.00,9,  2.38684407
  35MF20000719,  OISO,    10,  1,      8,20000731,-50.6700,  68.4200, 1609,    500.6,   2.4400,  34.3820,2,  34.3795,2,    184.0,2,    189.2,2,    57.50,2,    35.10,2,   2230.4,2,   2304.4,2,    -9.00,9,  2.41034213
  35MF20000719,  OISO,    10,  1,      7,20000731,-50.6700,  68.4200, 1609,    599.9,   2.4200,  34.4520,2,  -9.0000,9,    174.6,2,     -9.0,9,    67.10,2,    34.20,2,   2238.2,2,   2311.7,2,    -9.00,9,  2.38399239
  35MF20000719,  OISO,    10,  1,      6,20000731,-50.6700,  68.4200, 1609,    802.3,   2.3300,  34.5840,2,  -9.0000,9,    170.9,2,     -9.0,9,    77.50,2,    33.80,2,   2248.2,2,   2326.5,2,    -9.00,9,  2.28091189
  35MF20000719,  OISO,    10,  1,      5,20000731,-50.6700,  68.4200, 1609,   1002.4,   2.2600,  34.6670,2,  34.6802,2,    179.6,2,    179.8,2,    81.20,2,    31.60,2,   2246.9,2,   2333.0,2,    -9.00,9,  2.19743401
  35MF20000719,  OISO,    10,  1,      4,20000731,-50.6700,  68.4200, 1609,   1198.9,   2.2300,  34.7230,2,  -9.0000,9,    189.6,2,     -9.0,9,    81.40,2,    32.00,2,   2241.4,2,   2336.3,2,    -9.00,9,  2.15347101
  35MF20000719,  OISO,    10,  1,      3,20000731,-50.6700,  68.4200, 1609,   1398.7,   2.0600,  34.7470,2,  -9.0000,9,    199.8,2,     -9.0,9,    84.80,2,    30.20,2,   2239.8,2,   2338.6,2,    -9.00,9,  1.97028344
  35MF20000719,  OISO,    10,  1,      2,20000731,-50.6700,  68.4200, 1609,   1596.9,   1.8300,  34.7610,2,  -9.0000,9,    211.0,2,     -9.0,9,    93.30,2,    30.20,2,   2239.9,2,   2343.4,2,    -9.00,9,  1.72785413
  35MF20000719,  OISO,    10,  1,      1,20000731,-50.6700,  68.4200, 1609,   1598.6,   1.8200,  34.7610,2,  34.7609,2,    211.2,2,    202.0,2,    91.40,2,    29.80,2,   2240.7,2,   2343.5,2,    -9.00,9,  1.71785089