BOTTLE,20130611PRINUNIVRMK
EXPOCODE,SECT_ID,STNNBR,CASTNO,SAMPNO,BTLNBR,BTLNBR_FLAG_W,DATE,TIME,LATITUDE,LONGITUDE,DEPTH,CTDPRS,CTDTMP,CTDSAL,CTDSAL_FLAG_W,SALNTY,SALNTY_FLAG_W,CTDOXY,CTDOXY_FLAG_W,OXYGEN,OXYGEN_FLAG_W,SILCAT,SILCAT_FLAG_W,NITRAT,NITRAT_FLAG_W,PHSPHT,PHSPHT_FLAG_W,CFC-11,CFC-11_FLAG_W,CFC-12,CFC-12_FLAG_W,CFC113,CFC113_FLAG_W,CCL4,CCL4_FLAG_W,TCARBN,TCARBN_FLAG_W,ALKALI,ALKALI_FLAG_W,THETA
,,,,,,,,,,,METERS,DBAR,ITS-90,PSS-78,,PSS-78,,UMOL/KG,,UMOL/KG,,UMOL/KG,,UMOL/KG,,UMOL/KG,,PMOL/KG,,PMOL/KG,,PMOL/KG,,PMOL/KG,,UMOL/KG,,UMOL/KG,,DEG C
  18HU20090517, AR07W,   190,  1, 352064,      1,2,20090528,0245, 48.8912, -51.3997,  323,    304.7,   2.9032,  34.4828,2,  34.4832,2,    331.1,3,    269.1,6,    14.94,6,    15.14,6,     1.27,6, -999.000,9, -999.000,9, -999.000,9, -999.000,9,   -999.0,9,   -999.0,9,   2.8844
  18HU20090517, AR07W,   190,  1, 352065,      2,2,20090528,0245, 48.8912, -51.3997,  323,    281.3,   1.7606,  34.1995,2,  34.2005,2,    356.9,3,    292.3,2,    10.85,6,    13.45,6,     1.17,6, -999.000,9, -999.000,9, -999.000,9, -999.000,9,   -999.0,9,   -999.0,9,   1.7461
  18HU20090517, AR07W,   190,  1, 352066,      3,2,20090528,0245, 48.8912, -51.3997,  323,    250.6,   1.3241,  34.0347,2,  34.0309,6,    361.2,3,    296.8,2,    10.52,6,    12.60,6,     1.18,6, -999.000,9, -999.000,9, -999.000,9, -999.000,9,   -999.0,9,   -999.0,9,   1.3122
  18HU20090517, AR07W,   190,  1, 352067,      4,2,20090528,0245, 48.8912, -51.3997,  323,    201.3,  -0.7289,  33.5492,2,  33.5497,2,    389.9,3,    323.5,2,     9.06,6,    10.61,6,     1.03,6, -999.000,9, -999.000,9, -999.000,9, -999.000,9,   -999.0,9,   -999.0,9,  -0.7347
  18HU20090517, AR07W,   190,  1, 352068,      5,2,20090528,0245, 48.8912, -51.3997,  323,    151.4,  -1.4440,  33.1986,2,-999.0000,9,    399.5,3,    332.8,2,     9.23,6,     9.19,6,     1.01,6, -999.000,9, -999.000,9, -999.000,9, -999.000,9,   -999.0,9,   -999.0,9,  -1.4472
  18HU20090517, AR07W,   190,  1, 352069,      6,2,20090528,0245, 48.8912, -51.3997,  323,    125.3,  -1.5873,  33.0079,2,-999.0000,9,    402.4,3,    335.7,2,     9.44,6,     8.52,6,     1.01,6, -999.000,9, -999.000,9, -999.000,9, -999.000,9,   -999.0,9,   -999.0,9,  -1.5897
  18HU20090517, AR07W,   190,  1, 352070,      7,2,20090528,0245, 48.8912, -51.3997,  323,    100.6,  -1.6569,  32.9036,2,-999.0000,9,    403.9,3,    337.3,2,     9.45,6,     8.19,6,     1.03,6, -999.000,9, -999.000,9, -999.000,9, -999.000,9,   -999.0,9,   -999.0,9,  -1.6587
  18HU20090517, AR07W,   190,  1, 352071,      8,2,20090528,0245, 48.8912, -51.3997,  323,     80.0,  -1.7023,  32.8381,2,-999.0000,9,    405.2,3,    339.0,2,     9.47,6,     7.99,6,     1.01,6, -999.000,9, -999.000,9, -999.000,9, -999.000,9,   -999.0,9,   -999.0,9,  -1.7037
  18HU20090517, AR07W,   190,  1, 352072,      9,2,20090528,0245, 48.8912, -51.3997,  323,     60.4,  -1.7189,  32.7713,2,-999.0000,9,    406.4,3,    340.0,2,     9.60,6,     7.74,6,     0.99,6, -999.000,9, -999.000,9, -999.000,9, -999.000,9,   -999.0,9,   -999.0,9,  -1.7199
  18HU20090517, AR07W,   190,  1, 352073,     10,2,20090528,0245, 48.8912, -51.3997,  323,     50.1,  -1.5563,  32.7356,2,-999.0000,9,    412.5,3,    348.0,2,     8.70,6,     6.94,6,     0.93,6, -999.000,9, -999.000,9, -999.000,9, -999.000,9,   -999.0,9,   -999.0,9,  -1.5572
  18HU20090517, AR07W,   190,  1, 352074,     11,2,20090528,0245, 48.8912, -51.3997,  323,     40.8,  -1.3861,  32.6833,2,-999.0000,9,    418.9,3,    354.7,2,     7.92,6,     6.20,6,     0.90,6, -999.000,9, -999.000,9, -999.000,9, -999.000,9,   -999.0,9,   -999.0,9,  -1.3869
  18HU20090517, AR07W,   190,  1, 352075,     12,2,20090528,0245, 48.8912, -51.3997,  323,     30.8,  -0.9346,  32.5493,2,-999.0000,9,    432.1,3,    369.9,2,     5.32,6,     3.92,6,     0.71,6, -999.000,9, -999.000,9, -999.000,9, -999.000,9,   -999.0,9,   -999.0,9,  -0.9353
  18HU20090517, AR07W,   190,  1, 352076,     13,2,20090528,0245, 48.8912, -51.3997,  323,     20.4,  -0.2096,  32.1167,2,-999.0000,9,    459.2,3,    393.4,2,     2.88,6,     1.17,6,     0.45,6, -999.000,9, -999.000,9, -999.000,9, -999.000,9,   -999.0,9,   -999.0,9,  -0.2102
  18HU20090517, AR07W,   190,  1, 352077,     14,2,20090528,0245, 48.8912, -51.3997,  323,     10.6,  -0.0336,  32.0557,2,  32.0617,2,    464.3,3,    402.0,2,     1.60,6,     0.22,6,     0.34,6, -999.000,9, -999.000,9, -999.000,9, -999.000,9,   -999.0,9,   -999.0,9,  -0.0339
  18HU20090517, AR07W,   190,  1, 352078,     15,2,20090528,0245, 48.8912, -51.3997,  323,      3.3,  -0.0155,  32.0477,2,-999.0000,9,    465.7,3,    403.0,2,     1.53,6,     0.19,6,     0.35,6, -999.000,9, -999.000,9, -999.000,9, -999.000,9,   -999.0,9,   -999.0,9,  -0.0156
  18HU20090517, AR07W,   190,  1, 352079,     16,2,20090528,0245, 48.8912, -51.3997,  323,      3.2,  -0.0170,  32.0488,2,  32.0496,6,    466.0,3,   -999.0,9,  -999.00,9,  -999.00,9,  -999.00,9, -999.000,9, -999.000,9, -999.000,9, -999.000,9,   -999.0,9,   -999.0,9,  -0.0171
  18HU20090517, AR07W,   190,  1, 352080,     17,2,20090528,0245, 48.8912, -51.3997,  323,      3.0,  -0.0181,  32.0486,2,  32.0521,6,    466.0,3,   -999.0,9,  -999.00,9,  -999.00,9,  -999.00,9, -999.000,9, -999.000,9, -999.000,9, -999.000,9,   -999.0,9,   -999.0,9,  -0.0182
  18HU20090517, AR07W,   190,  1, 352081,     18,2,20090528,0245, 48.8912, -51.3997,  323,      3.1,  -0.0171,  32.0486,2,  32.0520,6,    465.8,3,   -999.0,9,  -999.00,9,  -999.00,9,  -999.00,9, -999.000,9, -999.000,9, -999.000,9, -999.000,9,   -999.0,9,   -999.0,9,  -0.0172
  18HU20090517, AR07W,   190,  1, 352082,     19,2,20090528,0245, 48.8912, -51.3997,  323,      3.0,  -0.0178,  32.0488,2,  32.0523,6,    466.2,3,   -999.0,9,  -999.00,9,  -999.00,9,  -999.00,9, -999.000,9, -999.000,9, -999.000,9, -999.000,9,   -999.0,9,   -999.0,9,  -0.0179
  18HU20090517, AR07W,   190,  1, 352083,     20,2,20090528,0245, 48.8912, -51.3997,  323,      3.0,  -0.0185,  32.0484,2,  32.0523,6,    466.1,3,   -999.0,9,  -999.00,9,  -999.00,9,  -999.00,9, -999.000,9, -999.000,9, -999.000,9, -999.000,9,   -999.0,9,   -999.0,9,  -0.0186
  18HU20090517, AR07W,   190,  1, 352084,     21,2,20090528,0245, 48.8912, -51.3997,  323,      2.9,  -0.0186,  32.0488,2,  32.0523,6,    466.1,3,   -999.0,9,  -999.00,9,  -999.00,9,  -999.00,9, -999.000,9, -999.000,9, -999.000,9, -999.000,9,   -999.0,9,   -999.0,9,  -0.0187
  18HU20090517, AR07W,   190,  1, 352085,     22,2,20090528,0245, 48.8912, -51.3997,  323,      2.8,  -0.0185,  32.0489,2,  32.0523,6,    466.0,3,   -999.0,9,  -999.00,9,  -999.00,9,  -999.00,9, -999.000,9, -999.000,9, -999.000,9, -999.000,9,   -999.0,9,   -999.0,9,  -0.0186
  18HU20090517, AR07W,   190,  1, 352086,     23,2,20090528,0245, 48.8912, -51.3997,  323,      2.9,  -0.0180,  32.0488,2,  32.0524,6,    466.0,3,   -999.0,9,  -999.00,9,  -999.00,9,  -999.00,9, -999.000,9, -999.000,9, -999.000,9, -999.000,9,   -999.0,9,   -999.0,9,  -0.0181
  18HU20090517, AR07W,   190,  1, 352087,     24,2,20090528,0245, 48.8912, -51.3997,  323,      2.8,  -0.0183,  32.0489,2,  32.0528,6,    466.2,3,   -999.0,9,  -999.00,9,  -999.00,9,  -999.00,9, -999.000,9, -999.000,9, -999.000,9, -999.000,9,   -999.0,9,   -999.0,9,  -0.0184
  18HU20090517, AR07W,   193,  1, 352088,      1,2,20090530,0102, 42.8508, -61.7342, 1045,   1017.3,   4.3393,  34.9464,2,  34.9486,2,    325.0,3,    263.0,2,    11.24,6,    17.91,6,     1.45,6, -999.000,9, -999.000,9, -999.000,9, -999.000,9,   -999.0,9,   -999.0,9,   4.2588
  18HU20090517, AR07W,   193,  1, 352089,      2,2,20090530,0102, 42.8508, -61.7342, 1045,    750.5,   4.5603,  34.9400,2,  34.9425,2,    316.4,3,    254.1,2,    11.04,6,    18.00,6,     1.47,6,    2.717,2, -999.000,9,    0.047,4,    3.531,2,   -999.0,9,   -999.0,9,   4.5011
  18HU20090517, AR07W,   193,  1, 352090,      3,2,20090530,0102, 42.8508, -61.7342, 1045,    500.6,   4.9451,  34.9029,2,  34.9038,2,    300.4,3,    240.4,2,    11.36,6,    18.56,6,     1.51,6,    2.673,2,    2.659,4,    0.156,2,    3.087,2,   -999.0,9,   -999.0,9,   4.9051
  18HU20090517, AR07W,   193,  1, 352091,      4,2,20090530,0102, 42.8508, -61.7342, 1045,    248.9,   7.0873,  34.9092,2,  34.9160,2,    236.5,3,    179.2,6,    13.17,6,    21.63,6,     1.72,6,    1.846,2,    1.881,4,    0.077,4,    2.012,4,   -999.0,9,   -999.0,9,   7.0638
  18HU20090517, AR07W,   193,  1, 352092,      5,2,20090530,0102, 42.8508, -61.7342, 1045,    199.0,   7.7862,  34.8895,2,  34.8870,2,    232.2,3,    177.1,2,    11.57,6,    20.38,6,     1.68,6,    2.087,2,    3.348,4,    0.114,2,    1.697,4,   -999.0,9,   -999.0,9,   7.7664
  18HU20090517, AR07W,   193,  1, 352093,      6,2,20090530,0102, 42.8508, -61.7342, 1045,    149.6,   9.0659,  34.9565,2,-999.0000,9,    230.0,3,    177.5,2,     9.56,6,    18.11,6,     1.52,6, -999.000,9, -999.000,9, -999.000,9, -999.000,9,   -999.0,9,   -999.0,9,   9.0496
  18HU20090517, AR07W,   193,  1, 352094,      7,2,20090530,0102, 42.8508, -61.7342, 1045,    101.8,   8.4865,  34.3880,2,-999.0000,9,    289.2,3,    240.8,2,     4.90,6,     9.69,6,     1.03,6,    3.299,2,    1.353,4,    0.127,2,    1.413,4,   -999.0,9,   -999.0,9,   8.4760
  18HU20090517, AR07W,   193,  1, 352095,      8,2,20090530,0102, 42.8508, -61.7342, 1045,     80.4,   7.0227,  33.8228,2,-999.0000,9,    321.6,3,    269.6,2,     2.91,6,     6.16,6,     0.85,6, -999.000,9, -999.000,9, -999.000,9, -999.000,9,   -999.0,9,   -999.0,9,   7.0154
  18HU20090517, AR07W,   193,  1, 352096,      9,2,20090530,0102, 42.8508, -61.7342, 1045,     58.7,   6.1812,  33.3807,2,-999.0000,9,    347.7,3,    294.3,2,     1.75,6,     2.81,6,     0.61,6, -999.000,9, -999.000,9, -999.000,9, -999.000,9,   -999.0,9,   -999.0,9,   6.1763
  18HU20090517, AR07W,   193,  1, 352097,     10,2,20090530,0102, 42.8508, -61.7342, 1045,     50.3,   6.0012,  33.1776,2,-999.0000,9,    359.2,3,    304.8,2,     1.45,6,     1.42,6,     0.52,6,    4.289,2,    3.980,4,    0.276,2,    1.622,4,   -999.0,9,   -999.0,9,   5.9971
  18HU20090517, AR07W,   193,  1, 352098,     11,2,20090530,0102, 42.8508, -61.7342, 1045,     39.2,   6.6147,  32.7986,2,-999.0000,9,    375.8,3,    321.9,2,     0.93,6,     0.13,6,     0.35,6, -999.000,9, -999.000,9, -999.000,9, -999.000,9,   -999.0,9,   -999.0,9,   6.6113
  18HU20090517, AR07W,   193,  1, 352099,     12,2,20090530,0102, 42.8508, -61.7342, 1045,     31.4,   7.7644,  32.6769,2,  32.6836,2,    366.9,3,    313.7,2,     0.87,6,     0.09,6,     0.33,6, -999.000,9, -999.000,9, -999.000,9, -999.000,9,   -999.0,9,   -999.0,9,   7.7614
  18HU20090517, AR07W,   193,  1, 352100,     13,2,20090530,0102, 42.8508, -61.7342, 1045,     18.9,   8.9067,  32.5797,2,-999.0000,9,    353.4,3,    302.1,2,     0.70,6,     0.10,6,     0.34,6, -999.000,9, -999.000,9, -999.000,9, -999.000,9,   -999.0,9,   -999.0,9,   8.9047
  18HU20090517, AR07W,   193,  1, 352101,     14,2,20090530,0102, 42.8508, -61.7342, 1045,     10.9,   8.9394,  32.5733,2,-999.0000,9,    352.9,3,    301.4,2,     0.77,6,     0.10,6,     0.36,6,    3.923,2,    4.691,4,    0.268,2,    1.368,4,   -999.0,9,   -999.0,9,   8.9383
  18HU20090517, AR07W,   193,  1, 352102,     15,2,20090530,0102, 42.8508, -61.7342, 1045,      3.5,   8.9397,  32.5703,2,-999.0000,9,    352.9,3,    301.4,2,     0.70,6,     0.07,6,     0.34,6, -999.000,9, -999.000,9, -999.000,9, -999.000,9,   -999.0,9,   -999.0,9,   8.9393
  18HU20090517, AR07W,   195,  1, 352103,      1,2,20090530,0715, 42.5333, -61.4002, 2850,   2784.1,   2.7956,  34.9189,2,  34.9211,2,    356.5,3,    322.4,3,    17.47,6,    17.19,6,     1.37,6,    1.752,2, -999.000,9,    0.146,2,    8.519,4,   -999.0,9,   -999.0,9,   2.5714
  18HU20090517, AR07W,   195,  1, 352104,      2,2,20090530,0715, 42.5333, -61.4002, 2850,   2711.4,   2.8008,  34.9192,2,  34.9212,2,    354.9,3,    278.1,2,    17.39,6,    17.30,6,     1.38,6, -999.000,9, -999.000,9, -999.000,9, -999.000,9,   -999.0,9,   -999.0,9,   2.5838
  18HU20090517, AR07W,   195,  1, 352105,      3,2,20090530,0715, 42.5333, -61.4002, 2850,   2560.1,   2.8983,  34.9243,2,  34.9254,2,    351.0,3,    268.5,2,    17.16,6,    17.52,6,     1.38,6, -999.000,9, -999.000,9, -999.000,9, -999.000,9,   -999.0,9,   -999.0,9,   2.6944
  18HU20090517, AR07W,   195,  1, 352106,      4,2,20090530,0715, 42.5333, -61.4002, 2850,   2394.3,   3.0569,  34.9315,2,  34.9332,2,    347.1,3,    265.2,2,    16.77,6,    17.83,6,     1.38,6, -999.000,9, -999.000,9, -999.000,9, -999.000,9,   -999.0,9,   -999.0,9,   2.8663
  18HU20090517, AR07W,   195,  1, 352107,      5,2,20090530,0715, 42.5333, -61.4002, 2850,   2200.9,   3.1956,  34.9345,2,  34.9368,2,    344.4,3,    264.5,2,    15.62,6,    17.82,6,     1.38,6, -999.000,9, -999.000,9, -999.000,9, -999.000,9,   -999.0,9,   -999.0,9,   3.0212
  18HU20090517, AR07W,   195,  1, 352108,      6,2,20090530,0715, 42.5333, -61.4002, 2850,   2001.9,   3.3289,  34.9329,2,  34.9352,2,    342.7,3,    266.7,2,    14.36,6,    17.73,6,     1.37,6,    1.957,2, -999.000,9,    0.155,2,   10.836,4,   -999.0,9,   -999.0,9,   3.1712
  18HU20090517, AR07W,   195,  1, 352109,      7,2,20090530,0715, 42.5333, -61.4002, 2850,   1753.9,   3.5044,  34.9346,2,  34.9366,2,    339.4,3,    266.0,2,    13.24,6,    17.90,6,     1.36,6, -999.000,9, -999.000,9, -999.000,9, -999.000,9,   -999.0,9,   -999.0,9,   3.3672
  18HU20090517, AR07W,   195,  1, 352110,      8,2,20090530,0715, 42.5333, -61.4002, 2850,   1499.8,   3.7439,  34.9408,2,  34.9421,2,    334.6,3,    264.2,2,    12.28,6,    17.93,6,     1.36,6,    2.608,2, -999.000,9,    0.225,2,   13.222,4,   -999.0,9,   -999.0,9,   3.6267
  18HU20090517, AR07W,   195,  1, 352111,      9,2,20090530,0715, 42.5333, -61.4002, 2850,   1250.3,   3.9674,  34.9454,2,  34.9470,2,    330.1,3,    263.1,2,    11.55,6,    17.91,6,     1.33,6, -999.000,9, -999.000,9, -999.000,9, -999.000,9,   -999.0,9,   -999.0,9,   3.8698
  18HU20090517, AR07W,   195,  1, 352112,     10,2,20090530,0715, 42.5333, -61.4002, 2850,   1001.6,   4.1851,  34.9417,2,  34.9434,2,    327.1,3,    261.9,2,    10.86,6,    17.75,6,     1.32,6,    3.425,2, -999.000,9,    0.304,2,   10.930,4,   -999.0,9,   -999.0,9,   4.1071
  18HU20090517, AR07W,   195,  1, 352113,     11,2,20090530,0715, 42.5333, -61.4002, 2850,    751.7,   4.5382,  34.9519,2,  34.9523,2,    316.0,3,    251.0,2,    10.80,6,    18.09,6,     1.33,6,    3.327,2, -999.000,9,    0.297,2,    9.248,4,   -999.0,9,   -999.0,9,   4.4790
  18HU20090517, AR07W,   195,  1, 352114,     12,2,20090530,0715, 42.5333, -61.4002, 2850,    501.3,   5.7994,  35.0195,2,  35.0202,2,    271.6,3,    187.9,6,    12.47,6,    20.63,6,     1.48,6,    2.291,2, -999.000,9,    0.178,2,    7.637,4,   -999.0,9,   -999.0,9,   5.7559
  18HU20090517, AR07W,   195,  1, 352115,     13,2,20090530,0715, 42.5333, -61.4002, 2850,    250.8,   8.2131,  34.9835,2,  34.9853,2,    222.1,3,   -999.0,9,    12.26,6,    21.74,6,     1.57,6,    2.300,2, -999.000,9,    0.184,2,    4.346,2,   -999.0,9,   -999.0,9,   8.1872
  18HU20090517, AR07W,   195,  1, 352116,     14,2,20090530,0715, 42.5333, -61.4002, 2850,    200.9,   8.8879,  35.0164,2,  35.0194,2,    220.0,3,   -999.0,9,    11.05,6,    20.51,6,     1.46,6, -999.000,9, -999.000,9, -999.000,9, -999.000,9,   -999.0,9,   -999.0,9,   8.8662
  18HU20090517, AR07W,   195,  1, 352117,     15,2,20090530,0715, 42.5333, -61.4002, 2850,    150.4,  10.1721,  35.1387,2,-999.0000,9,    219.5,3,   -999.0,9,     9.26,6,    18.37,6,     1.33,6, -999.000,9, -999.000,9, -999.000,9, -999.000,9,   -999.0,9,   -999.0,9,  10.1545
  18HU20090517, AR07W,   195,  1, 352118,     16,2,20090530,0715, 42.5333, -61.4002, 2850,    100.8,  10.8243,  35.0386,2,-999.0000,9,    269.6,3,    218.2,2,     5.25,6,    10.92,6,     0.88,6,    3.456,2, -999.000,9,    0.299,2,    6.612,4,   -999.0,9,   -999.0,9,  10.8120
  18HU20090517, AR07W,   195,  1, 352119,     17,2,20090530,0715, 42.5333, -61.4002, 2850,     80.4,   9.4947,  34.6203,2,-999.0000,9,    285.7,3,   -999.0,9,     4.84,6,     9.81,6,     0.84,6, -999.000,9, -999.000,9, -999.000,9, -999.000,9,   -999.0,9,   -999.0,9,   9.4858
  18HU20090517, AR07W,   195,  1, 352120,     18,2,20090530,0715, 42.5333, -61.4002, 2850,     60.4,   8.3371,  34.1753,2,-999.0000,9,    314.5,3,   -999.0,9,     3.20,6,     6.30,6,     0.68,6, -999.000,9, -999.000,9, -999.000,9, -999.000,9,   -999.0,9,   -999.0,9,   8.3310
  18HU20090517, AR07W,   195,  1, 352121,     19,2,20090530,0715, 42.5333, -61.4002, 2850,     50.4,   7.9387,  33.9784,2,-999.0000,9,    325.7,3,    271.0,2,     2.66,6,     4.78,6,     0.63,6,    4.386,2, -999.000,9,    0.403,2,    3.070,2,   -999.0,9,   -999.0,9,   7.9337
  18HU20090517, AR07W,   195,  1, 352122,     20,2,20090530,0715, 42.5333, -61.4002, 2850,     40.0,   6.9376,  33.6597,2,-999.0000,9,    338.6,3,   -999.0,9,     2.20,6,     3.85,6,     0.61,6, -999.000,9, -999.000,9, -999.000,9, -999.000,9,   -999.0,9,   -999.0,9,   6.9340
  18HU20090517, AR07W,   195,  1, 352123,     21,2,20090530,0715, 42.5333, -61.4002, 2850,     30.6,   6.7928,  33.3897,2,-999.0000,9,    355.8,3,   -999.0,9,     1.74,6,     1.04,6,     0.49,6, -999.000,9, -999.000,9, -999.000,9, -999.000,9,   -999.0,9,   -999.0,9,   6.7901
  18HU20090517, AR07W,   195,  1, 352124,     22,2,20090530,0715, 42.5333, -61.4002, 2850,     20.0,   9.3537,  32.7998,2,-999.0000,9,    353.4,3,   -999.0,9,     0.99,6,     0.10,6,     0.33,6, -999.000,9, -999.000,9, -999.000,9, -999.000,9,   -999.0,9,   -999.0,9,   9.3516
  18HU20090517, AR07W,   195,  1, 352125,     23,2,20090530,0715, 42.5333, -61.4002, 2850,     10.8,  10.6739,  32.6997,2,  32.7028,2,    337.9,3,    285.5,2,     0.88,6,     0.09,6,     0.32,6,    4.072,2, -999.000,9,    0.425,2,    3.451,2,   -999.0,9,   -999.0,9,  10.6726
  18HU20090517, AR07W,   195,  1, 352126,     24,2,20090530,0715, 42.5333, -61.4002, 2850,      3.1,  10.6799,  32.7014,2,-999.0000,9,    338.0,3,   -999.0,9,     0.83,6,     0.14,6,     0.31,6, -999.000,9, -999.000,9, -999.000,9, -999.000,9,   -999.0,9,   -999.0,9,  10.6795