BOTTLE,20130611PRINUNIVRMK
EXPOCODE,SECT_ID,STNNBR,CASTNO,SAMPNO,BTLNBR,BTLNBR_FLAG_W,DATE,TIME,LATITUDE,LONGITUDE,DEPTH,CTDPRS,CTDTMP,CTDSAL,CTDSAL_FLAG_W,SALNTY,SALNTY_FLAG_W,CTDOXY,CTDOXY_FLAG_W,OXYGEN,OXYGEN_FLAG_W,SILCAT,SILCAT_FLAG_W,NITRAT,NITRAT_FLAG_W,PHSPHT,PHSPHT_FLAG_W,CFC-11,CFC-11_FLAG_W,CFC-12,CFC-12_FLAG_W,CFC113,CFC113_FLAG_W,CCL4,CCL4_FLAG_W,TCARBN,TCARBN_FLAG_W,ALKALI,ALKALI_FLAG_W,THETA
,,,,,,,,,,,METERS,DBAR,ITS-90,PSS-78,,PSS-78,,UMOL/KG,,UMOL/KG,,UMOL/KG,,UMOL/KG,,UMOL/KG,,PMOL/KG,,PMOL/KG,,PMOL/KG,,PMOL/KG,,UMOL/KG,,UMOL/KG,,DEG C
  18HU20090517, AR07W,   103,  1, 351765,      1,2,20090523,0913, 57.7990, -51.3303, 3639,   3672.0,   1.6926,  34.8964,2,  34.8961,2,    393.6,3,    298.2,2,     9.72,6,    14.10,6,     1.00,6,    3.354,4, -999.000,9,    0.296,2,    3.726,2,   2161.9,2,   2306.5,2,   1.4023
  18HU20090517, AR07W,   103,  1, 351766,      2,2,20090523,0913, 57.7990, -51.3303, 3639,   3588.6,   1.7395,  34.8974,2,  34.8982,2,    390.8,3,    297.7,2,     9.42,6,    14.14,6,     0.98,6,    3.290,4,    0.359,4,    0.180,2,    3.682,2,   2162.2,2,   2302.9,2,   1.4568
  18HU20090517, AR07W,   103,  1, 351767,      3,2,20090523,0913, 57.7990, -51.3303, 3639,   3490.6,   1.8974,  34.8979,2,  34.8982,2,    386.7,3,    296.7,2,     9.69,6,    14.31,6,     0.99,6,    3.350,4,    0.408,4,    0.134,2,    3.660,2,   2159.4,2,   2304.9,2,   1.6210
  18HU20090517, AR07W,   103,  1, 351768,      4,2,20090523,0913, 57.7990, -51.3303, 3639,   3379.1,   2.1215,  34.8995,2,  34.9016,2,    380.9,3,    290.9,2,    10.67,6,    14.70,6,     1.00,6,    2.909,4, -999.000,9,    0.112,2,    3.260,2,   2156.4,2,   2304.6,2,   1.8512
  18HU20090517, AR07W,   103,  1, 351769,      5,2,20090523,0913, 57.7990, -51.3303, 3639,   3250.0,   2.3552,  34.9030,2,  34.9063,2,    373.6,3,    285.4,2,    12.42,6,    15.27,6,     1.04,6,    2.657,4, -999.000,9,    0.167,2,    3.000,2,   2158.0,2,   2311.3,2,   2.0928
  18HU20090517, AR07W,   103,  1, 351770,      6,2,20090523,0913, 57.7990, -51.3303, 3639,   3120.7,   2.5426,  34.9093,2,  34.9119,6,    368.4,3,    284.3,2,    12.34,6,    15.57,6,     1.06,6,    2.465,4, -999.000,9,    0.096,2,    2.819,2,   2161.1,2,   2306.0,2,   2.2894
  18HU20090517, AR07W,   103,  1, 351771,      7,2,20090523,0913, 57.7990, -51.3303, 3639,   2910.2,   2.7799,  34.9156,2,  34.9206,2,    362.8,3,    281.1,2,    12.16,6,    15.88,6,     1.08,6,    2.432,4, -999.000,9, -999.000,9,    2.743,2,   2160.9,2,   2305.8,2,   2.5432
  18HU20090517, AR07W,   103,  1, 351772,      8,2,20090523,0913, 57.7990, -51.3303, 3639,   2742.4,   2.9160,  34.9141,2,  34.9188,2,    360.2,3,    257.9,4,    11.59,6,    16.00,6,     1.11,6,    2.372,4, -999.000,9,    0.002,4,    2.615,2,   2161.5,2,   2309.5,2,   2.6936
  18HU20090517, AR07W,   103,  1, 351773,      9,2,20090523,0913, 57.7990, -51.3303, 3639,   2523.3,   3.0820,  34.9115,2,  34.9149,2,    356.5,3,    280.9,2,    11.19,6,    16.09,6,     1.07,6,    2.481,4, -999.000,9,    0.156,2,    2.713,2,   2158.9,2,   2307.5,2,   2.8783
  18HU20090517, AR07W,   103,  1, 351774,     10,2,20090523,0913, 57.7990, -51.3303, 3639,   2292.3,   3.2198,  34.9080,2,  34.9125,2,    352.9,3,    279.8,2,    10.90,6,    16.46,6,     1.12,6,    2.616,4, -999.000,9,    0.141,2,    2.868,2,   2160.9,2,   2297.9,2,   3.0363
  18HU20090517, AR07W,   103,  1, 351775,     11,2,20090523,0913, 57.7990, -51.3303, 3639,   2040.8,   3.3912,  34.9067,2,  34.9110,6,    348.9,3,    277.4,2,    10.68,6,    16.61,6,     1.10,6,    2.792,4, -999.000,9, -999.000,9,    2.974,2,   2158.2,2,   2304.6,2,   3.2290
  18HU20090517, AR07W,   103,  1, 351776,     12,2,20090523,0913, 57.7990, -51.3303, 3639,   1740.6,   3.6217,  34.9078,2,  34.9121,2,    344.2,3,    277.9,2,    10.17,6,    17.00,6,     1.09,6,    2.888,4, -999.000,9,    0.099,2,    2.968,2,   2160.8,2,   2301.9,2,   3.4842
  18HU20090517, AR07W,   103,  1, 351777,     13,2,20090523,0913, 57.7990, -51.3303, 3639,   1531.2,   3.5169,  34.8700,2,  34.8730,2,    354.5,3,    289.4,2,     8.99,6,    16.19,6,     1.06,6,    3.560,4, -999.000,9,    0.173,2,    3.857,2,   2159.5,2,   2299.9,2,   3.3997
  18HU20090517, AR07W,   103,  1, 351778,     14,2,20090523,0913, 57.7990, -51.3303, 3639,   1301.6,   3.5102,  34.8610,2,  34.8631,2,    354.7,3,    290.9,2,     8.78,6,    16.12,6,     1.04,6,    3.623,4,    0.692,4,    0.244,2,    3.947,2,   2158.7,6,   2297.3,6,   3.4129
  18HU20090517, AR07W,   103,  1, 351779,     15,2,20090523,0913, 57.7990, -51.3303, 3639,   1059.7,   3.5585,  34.8614,2,  34.8641,2,    352.6,3,    296.1,2,     8.60,6,    16.06,6,     1.10,3, -999.000,9, -999.000,9, -999.000,9,    0.000,4,   2159.4,6,   2306.2,6,   3.4808
  18HU20090517, AR07W,   103,  1, 351780,     16,2,20090523,0913, 57.7990, -51.3303, 3639,    871.6,   3.5116,  34.8493,2,  34.8543,2,    353.1,3,    293.9,2,     8.34,6,    15.91,6,     1.03,6,    4.815,4,    3.163,4,    0.398,2,    5.923,2,   -999.0,9,   2300.6,6,   3.4493
  18HU20090517, AR07W,   103,  1, 351781,     17,2,20090523,0913, 57.7990, -51.3303, 3639,    680.3,   3.4214,  34.8298,2,  34.8340,2,    358.1,3,    305.9,6,     8.01,6,    15.51,6,     1.00,6,    3.892,4,    1.046,4,    0.276,2,    4.522,2,   2159.3,6,   2302.9,6,   3.3743
  18HU20090517, AR07W,   103,  1, 351782,     18,2,20090523,0913, 57.7990, -51.3303, 3639,    512.3,   3.5433,  34.8399,2,  34.8434,2,    354.7,3,    301.1,2,     7.88,6,    15.45,6,     0.98,6,    3.842,4,    1.444,4,    0.242,2,    4.466,2,   2156.1,6,   2305.2,6,   3.5080
  18HU20090517, AR07W,   103,  1, 351783,     19,2,20090523,0913, 57.7990, -51.3303, 3639,    360.3,   3.8425,  34.8738,2,  34.8769,2,    352.0,3,    295.3,2,     7.96,6,    15.49,6,     1.00,6, -999.000,9, -999.000,9, -999.000,9,    0.010,4,   2157.4,6,   2299.5,6,   3.8172
  18HU20090517, AR07W,   103,  1, 351784,     20,2,20090523,0913, 57.7990, -51.3303, 3639,    239.4,   3.6106,  34.8309,2,  34.8330,2,    360.1,3,    304.5,2,     7.50,6,    14.77,6,     1.01,6,    5.086,4,    3.231,4,    0.402,2,    6.747,2,   2154.9,6,   2296.4,6,   3.5945
  18HU20090517, AR07W,   103,  1, 351785,     21,2,20090523,0913, 57.7990, -51.3303, 3639,    139.1,   3.5889,  34.8143,2,-999.0000,9,    363.1,3,    312.9,2,     6.93,6,    13.97,6,     0.90,6, -999.000,9, -999.000,9, -999.000,9,    0.000,4,   2152.7,6,   2300.8,6,   3.5797
  18HU20090517, AR07W,   103,  1, 351786,     22,2,20090523,0913, 57.7990, -51.3303, 3639,     70.8,   3.5958,  34.7838,2,-999.0000,9,    374.7,3,    321.2,2,     6.78,6,    12.02,6,     0.81,6,    4.098,4, -999.000,9,    0.226,2,    5.155,2,   2136.8,6,   2299.4,6,   3.5911
  18HU20090517, AR07W,   103,  1, 351787,     23,2,20090523,0913, 57.7990, -51.3303, 3639,     34.3,   3.5345,  34.7592,2,  34.7606,2,    384.7,3,    332.9,2,     6.40,6,    10.51,6,     0.75,6,    5.411,4,    4.084,4,    0.539,2,    7.673,2,   2128.2,6,   2300.6,6,   3.5323
  18HU20090517, AR07W,   103,  1, 351788,     24,2,20090523,0913, 57.7990, -51.3303, 3639,      2.3,   3.5324,  34.7593,2,-999.0000,9,    385.7,3,    333.6,2,     6.44,6,    10.55,6,     0.74,6,    5.354,4,    3.324,4,    0.433,2,    7.529,2,   2127.3,6,   2299.7,6,   3.5323
  18HU20090517, AR07W,   111,  1, 351789,      1,2,20090523,1415, 57.3755, -51.7828, 3550,    202.2,   3.6029,  34.8405,2,-999.0000,9,    356.5,3,   -999.0,9,  -999.00,9,  -999.00,9,  -999.00,9, -999.000,9, -999.000,9, -999.000,9, -999.000,9,   -999.0,9,   -999.0,9,   3.5894
  18HU20090517, AR07W,   111,  1, 351790,      2,2,20090523,1415, 57.3755, -51.7828, 3550,    149.2,   3.6226,  34.8390,2,-999.0000,9,    356.7,3,   -999.0,9,  -999.00,9,  -999.00,9,  -999.00,9, -999.000,9, -999.000,9, -999.000,9, -999.000,9,   -999.0,9,   -999.0,9,   3.6126
  18HU20090517, AR07W,   111,  1, 351791,      3,2,20090523,1415, 57.3755, -51.7828, 3550,    101.9,   3.6469,  34.8340,2,-999.0000,9,    358.4,3,   -999.0,9,  -999.00,9,  -999.00,9,  -999.00,9, -999.000,9, -999.000,9, -999.000,9, -999.000,9,   -999.0,9,   -999.0,9,   3.6401
  18HU20090517, AR07W,   111,  1, 351792,      4,2,20090523,1415, 57.3755, -51.7828, 3550,     80.7,   3.5934,  34.8196,2,-999.0000,9,    364.3,3,   -999.0,9,  -999.00,9,  -999.00,9,  -999.00,9, -999.000,9, -999.000,9, -999.000,9, -999.000,9,   -999.0,9,   -999.0,9,   3.5881
  18HU20090517, AR07W,   111,  1, 351793,      5,2,20090523,1415, 57.3755, -51.7828, 3550,     61.2,   3.5891,  34.8101,2,-999.0000,9,    369.5,3,   -999.0,9,  -999.00,9,  -999.00,9,  -999.00,9, -999.000,9, -999.000,9, -999.000,9, -999.000,9,   -999.0,9,   -999.0,9,   3.5851
  18HU20090517, AR07W,   111,  1, 351794,      6,2,20090523,1415, 57.3755, -51.7828, 3550,     49.1,   3.5840,  34.8073,2,-999.0000,9,    371.7,3,   -999.0,9,  -999.00,9,  -999.00,9,  -999.00,9, -999.000,9, -999.000,9, -999.000,9, -999.000,9,   -999.0,9,   -999.0,9,   3.5808
  18HU20090517, AR07W,   111,  1, 351795,      7,2,20090523,1415, 57.3755, -51.7828, 3550,     40.3,   3.5817,  34.8066,2,-999.0000,9,    371.9,3,   -999.0,9,  -999.00,9,  -999.00,9,  -999.00,9, -999.000,9, -999.000,9, -999.000,9, -999.000,9,   -999.0,9,   -999.0,9,   3.5791
  18HU20090517, AR07W,   111,  1, 351796,      8,2,20090523,1415, 57.3755, -51.7828, 3550,     30.1,   3.5713,  34.8044,2,-999.0000,9,    373.2,3,   -999.0,9,  -999.00,9,  -999.00,9,  -999.00,9, -999.000,9, -999.000,9, -999.000,9, -999.000,9,   -999.0,9,   -999.0,9,   3.5693
  18HU20090517, AR07W,   111,  1, 351797,      9,2,20090523,1415, 57.3755, -51.7828, 3550,     29.8,   3.5778,  34.8056,2,-999.0000,9,    373.4,3,   -999.0,9,  -999.00,9,  -999.00,9,  -999.00,9, -999.000,9, -999.000,9, -999.000,9, -999.000,9,   -999.0,9,   -999.0,9,   3.5759
  18HU20090517, AR07W,   111,  1, 351798,     10,2,20090523,1415, 57.3755, -51.7828, 3550,     20.6,   3.5698,  34.8043,2,-999.0000,9,    373.5,3,   -999.0,9,  -999.00,9,  -999.00,9,  -999.00,9, -999.000,9, -999.000,9, -999.000,9, -999.000,9,   -999.0,9,   -999.0,9,   3.5685
  18HU20090517, AR07W,   111,  1, 351799,     11,2,20090523,1415, 57.3755, -51.7828, 3550,     10.6,   3.5665,  34.8035,2,-999.0000,9,    373.9,3,   -999.0,9,  -999.00,9,  -999.00,9,  -999.00,9, -999.000,9, -999.000,9, -999.000,9, -999.000,9,   -999.0,9,   -999.0,9,   3.5658
  18HU20090517, AR07W,   111,  1, 351800,     12,2,20090523,1415, 57.3755, -51.7828, 3550,      4.2,   3.5654,  34.8028,2,-999.0000,9,    374.3,3,   -999.0,9,  -999.00,9,  -999.00,9,  -999.00,9, -999.000,9, -999.000,9, -999.000,9, -999.000,9,   -999.0,9,   -999.0,9,   3.5651
  18HU20090517, AR07W,   111,  1, 351801,     13,2,20090523,1415, 57.3755, -51.7828, 3550,      4.3,   3.5650,  34.8031,2,-999.0000,9,    374.2,3,   -999.0,9,  -999.00,9,  -999.00,9,  -999.00,9, -999.000,9, -999.000,9, -999.000,9, -999.000,9,   -999.0,9,   -999.0,9,   3.5647
  18HU20090517, AR07W,   112,  1, 351802,      1,2,20090523,1627, 57.3760, -51.7927, 3550,   3578.7,   1.7385,  34.8977,2,  34.9008,2,    390.4,3,    291.1,2,    10.31,6,    14.31,6,     0.91,6, -999.000,9, -999.000,9, -999.000,9, -999.000,9,   2166.1,2,   2302.4,2,   1.4569
  18HU20090517, AR07W,   112,  1, 351803,      2,2,20090523,1627, 57.3760, -51.7927, 3550,   3499.4,   1.8968,  34.8979,2,  34.9006,2,    386.7,3,    296.9,2,    10.06,6,    14.43,6,     0.89,6, -999.000,9, -999.000,9, -999.000,9, -999.000,9,   2162.9,2,   2306.0,2,   1.6195
  18HU20090517, AR07W,   112,  1, 351804,      3,2,20090523,1627, 57.3760, -51.7927, 3550,   3412.5,   2.0757,  34.8979,2,  34.9010,2,    382.4,3,    291.8,2,    10.56,6,    14.75,6,     0.92,6, -999.000,9, -999.000,9, -999.000,9, -999.000,9,   2162.1,2,   2299.1,2,   1.8031
  18HU20090517, AR07W,   112,  1, 351805,      4,2,20090523,1627, 57.3760, -51.7927, 3550,   3299.1,   2.2771,  34.9000,2,  34.9034,2,    375.1,3,    284.2,2,    12.28,6,    15.05,6,     0.93,6, -999.000,9, -999.000,9, -999.000,9, -999.000,9,   2162.2,2,   2301.0,2,   2.0115
  18HU20090517, AR07W,   112,  1, 351806,      5,2,20090523,1627, 57.3760, -51.7927, 3550,   3179.2,   2.4593,  34.9056,2,  34.9091,2,    369.1,3,    282.8,2,    14.26,6,    15.71,6,     0.97,6, -999.000,9, -999.000,9, -999.000,9, -999.000,9,   2163.4,2,   2313.7,2,   2.2019
  18HU20090517, AR07W,   112,  1, 351807,      6,2,20090523,1627, 57.3760, -51.7927, 3550,   3040.2,   2.6345,  34.9131,2,  34.9149,6,    364.4,3,    279.2,2,    13.01,6,    15.12,3,     0.94,6, -999.000,9, -999.000,9, -999.000,9, -999.000,9,   2164.2,2,   2309.8,2,   2.3876
  18HU20090517, AR07W,   112,  1, 351808,      7,2,20090523,1627, 57.3760, -51.7927, 3550,   2903.2,   2.7661,  34.9177,2,  34.9209,2,    361.5,3,    278.9,2,    12.03,3,    14.96,3,     0.94,6, -999.000,9, -999.000,9, -999.000,9, -999.000,9,   2163.2,2,   2308.0,2,   2.5304
  18HU20090517, AR07W,   112,  1, 351809,      8,2,20090523,1627, 57.3760, -51.7927, 3550,   2689.1,   2.9122,  34.9141,2,  34.9169,2,    358.3,3,    278.6,2,    12.32,6,    16.17,6,     0.97,6, -999.000,9, -999.000,9, -999.000,9, -999.000,9,   2161.4,2,   2309.3,2,   2.6952
  18HU20090517, AR07W,   112,  1, 351810,      9,2,20090523,1627, 57.3760, -51.7927, 3550,   2482.0,   3.0444,  34.9100,2,  34.9130,2,    355.5,3,    280.4,6,    11.57,6,    16.20,6,     0.99,6, -999.000,9, -999.000,9, -999.000,9, -999.000,9,   2161.7,2,   2311.5,2,   2.8455
  18HU20090517, AR07W,   112,  1, 351811,     10,2,20090523,1627, 57.3760, -51.7927, 3550,   2249.7,   3.1764,  34.9055,2,  34.9082,2,    352.4,3,    280.6,2,    11.42,6,    16.76,6,     0.98,6, -999.000,9, -999.000,9, -999.000,9, -999.000,9,   2159.4,2,   2306.3,2,   2.9978
  18HU20090517, AR07W,   112,  1, 351812,     11,2,20090523,1627, 57.3760, -51.7927, 3550,   2009.3,   3.3083,  34.9019,2,  34.9050,6,    348.9,3,    279.1,2,    11.14,6,    16.96,6,     1.00,6, -999.000,9, -999.000,9, -999.000,9, -999.000,9,   2162.4,2,   2306.3,2,   3.1504
  18HU20090517, AR07W,   112,  1, 351813,     12,2,20090523,1627, 57.3760, -51.7927, 3550,   1729.9,   3.5279,  34.9062,2,  34.9090,2,    343.8,3,    275.5,2,    10.69,6,    17.03,6,     0.99,6, -999.000,9, -999.000,9, -999.000,9, -999.000,9,   2164.7,2,   2302.9,2,   3.3926
  18HU20090517, AR07W,   112,  1, 351814,     13,2,20090523,1627, 57.3760, -51.7927, 3550,   1531.9,   3.5877,  34.8941,2,  34.8964,2,    344.4,3,    276.8,2,    10.19,6,    16.93,6,     0.98,6, -999.000,9, -999.000,9, -999.000,9, -999.000,9,   2165.0,2,   2301.2,2,   3.4695
  18HU20090517, AR07W,   112,  1, 351815,     14,2,20090523,1627, 57.3760, -51.7927, 3550,   1290.8,   3.4858,  34.8642,2,  34.8671,2,    353.6,3,    288.8,2,     8.99,6,    16.22,6,     0.96,6, -999.000,9, -999.000,9, -999.000,9, -999.000,9,   2163.5,2,   2298.1,2,   3.3896
  18HU20090517, AR07W,   112,  1, 351816,     15,2,20090523,1627, 57.3760, -51.7927, 3550,   1071.8,   3.4969,  34.8590,2,  34.8618,2,    352.8,3,    290.2,2,     9.00,6,    16.29,6,     0.94,6, -999.000,9, -999.000,9, -999.000,9, -999.000,9,   2162.4,2,   2300.6,2,   3.4187
  18HU20090517, AR07W,   112,  1, 351817,     16,2,20090523,1627, 57.3760, -51.7927, 3550,    871.5,   3.4973,  34.8535,2,  34.8565,2,    352.5,3,    291.1,2,     7.69,4,    14.15,4,     0.93,6, -999.000,9, -999.000,9, -999.000,9, -999.000,9,   2163.7,2,   2297.5,2,   3.4351
  18HU20090517, AR07W,   112,  1, 351818,     17,2,20090523,1627, 57.3760, -51.7927, 3550,    680.8,   3.4784,  34.8453,2,  34.8470,2,    353.1,3,    293.0,2,     8.56,6,    15.85,6,     0.94,6, -999.000,9, -999.000,9, -999.000,9, -999.000,9,   2162.0,2,   2299.1,2,   3.4309
  18HU20090517, AR07W,   112,  1, 351819,     18,2,20090523,1627, 57.3760, -51.7927, 3550,    506.7,   3.4176,  34.8330,2,  34.8354,2,    355.5,3,    296.7,2,     8.39,6,    15.74,6,     0.93,6, -999.000,9, -999.000,9, -999.000,9, -999.000,9,   2161.7,2,   2298.0,2,   3.3832
  18HU20090517, AR07W,   112,  1, 351820,     19,2,20090523,1627, 57.3760, -51.7927, 3550,    358.7,   3.5123,  34.8407,2,  34.8433,2,    353.5,3,    295.7,2,     8.18,6,    15.58,6,     0.92,6, -999.000,9, -999.000,9, -999.000,9, -999.000,9,   2161.3,2,   2303.1,2,   3.4881
  18HU20090517, AR07W,   112,  1, 351821,     20,2,20090523,1627, 57.3760, -51.7927, 3550,    240.8,   3.5849,  34.8417,2,  34.8439,2,    353.1,3,    295.9,2,     8.00,6,    15.46,6,     0.95,6, -999.000,9, -999.000,9, -999.000,9, -999.000,9,   2160.7,2,   2302.9,2,   3.5687
  18HU20090517, AR07W,   112,  1, 351822,     21,2,20090523,1627, 57.3760, -51.7927, 3550,    142.9,   3.6275,  34.8386,2,-999.0000,9,    354.7,3,    297.9,2,     7.84,6,    15.27,6,     1.01,6, -999.000,9, -999.000,9, -999.000,9, -999.000,9,   2157.9,2,   2297.3,2,   3.6180
  18HU20090517, AR07W,   112,  1, 351823,     22,2,20090523,1627, 57.3760, -51.7927, 3550,     71.2,   3.5791,  34.8234,2,  34.8244,2,    361.9,3,    304.9,2,     7.51,6,    14.59,6,     0.89,6, -999.000,9, -999.000,9, -999.000,9, -999.000,9,   2155.1,2,   2297.9,2,   3.5744
  18HU20090517, AR07W,   112,  1, 351824,     23,2,20090523,1627, 57.3760, -51.7927, 3550,     10.1,   3.5579,  34.8061,2,-999.0000,9,    370.7,3,    315.5,2,     6.58,6,    12.33,6,     0.78,3, -999.000,9, -999.000,9, -999.000,9, -999.000,9,   2149.4,2,   2299.2,2,   3.5572
  18HU20090517, AR07W,   112,  1, 351825,     24,2,20090523,1627, 57.3760, -51.7927, 3550,      3.1,   3.5522,  34.8028,2,-999.0000,9,    372.2,3,    316.4,2,     7.32,6,    13.90,6,     0.84,6, -999.000,9, -999.000,9, -999.000,9, -999.000,9,   2151.4,2,   2298.8,2,   3.5520