BOTTLE,20130611PRINUNIVRMK
EXPOCODE,SECT_ID,STNNBR,CASTNO,SAMPNO,BTLNBR,BTLNBR_FLAG_W,DATE,TIME,LATITUDE,LONGITUDE,DEPTH,CTDPRS,CTDTMP,CTDSAL,CTDSAL_FLAG_W,SALNTY,SALNTY_FLAG_W,CTDOXY,CTDOXY_FLAG_W,OXYGEN,OXYGEN_FLAG_W,SILCAT,SILCAT_FLAG_W,NITRAT,NITRAT_FLAG_W,PHSPHT,PHSPHT_FLAG_W,CFC-11,CFC-11_FLAG_W,CFC-12,CFC-12_FLAG_W,CFC113,CFC113_FLAG_W,CCL4,CCL4_FLAG_W,TCARBN,TCARBN_FLAG_W,ALKALI,ALKALI_FLAG_W,THETA
,,,,,,,,,,,METERS,DBAR,ITS-90,PSS-78,,PSS-78,,UMOL/KG,,UMOL/KG,,UMOL/KG,,UMOL/KG,,UMOL/KG,,PMOL/KG,,PMOL/KG,,PMOL/KG,,PMOL/KG,,UMOL/KG,,UMOL/KG,,DEG C
  18HU20090517, AR07W,    43,  1, 351586,      1,2,20090521,1602, 60.5667, -48.2282,  135,    123.0,   0.8324,  33.9554,2,-999.0000,9,    392.2,3,    331.3,2,     5.84,6,    11.25,6,     0.77,6,    5.464,2,    2.920,4,    0.038,4,    6.039,2,   2110.6,2,   2054.9,2,   0.8272
  18HU20090517, AR07W,    43,  1, 351587,      2,2,20090521,1602, 60.5667, -48.2282,  135,    100.8,   1.1460,  33.9424,2,-999.0000,9,    415.8,3,    361.4,2,     2.85,6,     6.08,6,     0.46,6,    5.629,2,    2.882,4,    0.080,4,    6.273,2,   2079.8,2,   1961.4,2,   1.1415
  18HU20090517, AR07W,    43,  1, 351588,      3,2,20090521,1602, 60.5667, -48.2282,  135,     80.0,   0.9562,  33.8374,2,-999.0000,9,    432.3,3,    374.5,6,     1.69,6,     3.34,6,     0.30,6,    5.722,2,    2.840,4,    0.092,4,    6.513,2,   2065.7,2,   1923.6,2,   0.9528
  18HU20090517, AR07W,    43,  1, 351589,      4,2,20090521,1602, 60.5667, -48.2282,  135,     60.4,   0.6738,  33.7513,2,-999.0000,9,    434.9,3,   -999.0,9,     1.42,6,     3.47,6,     0.31,6, -999.000,9, -999.000,9, -999.000,9, -999.000,9,   -999.0,9,   -999.0,9,   0.6714
  18HU20090517, AR07W,    43,  1, 351590,      5,2,20090521,1602, 60.5667, -48.2282,  135,     50.1,   0.5113,  33.6485,2,-999.0000,9,    451.7,3,    392.9,2,     0.55,6,     0.26,6,     0.16,6,    6.121,2,    3.615,4,    0.107,4,    7.013,2,   2044.6,2,   1876.1,2,   0.5094
  18HU20090517, AR07W,    43,  1, 351591,      6,2,20090521,1602, 60.5667, -48.2282,  135,     41.4,   0.1027,  33.5362,2,-999.0000,9,    439.6,3,   -999.0,9,     0.82,6,     2.09,6,     0.21,6, -999.000,9, -999.000,9, -999.000,9, -999.000,9,   -999.0,9,   -999.0,9,   0.1013
  18HU20090517, AR07W,    43,  1, 351592,      7,2,20090521,1602, 60.5667, -48.2282,  135,     30.7,   0.1241,  33.4592,2,  34.9096,4,    458.5,3,   -999.0,9,     0.33,6,     0.36,6,     0.12,6, -999.000,9, -999.000,9, -999.000,9, -999.000,9,   -999.0,9,   -999.0,9,   0.1230
  18HU20090517, AR07W,    43,  1, 351593,      8,2,20090521,1602, 60.5667, -48.2282,  135,     31.0,   0.1290,  33.4598,2,-999.0000,9,    459.5,3,   -999.0,9,  -999.00,9,  -999.00,9,  -999.00,9, -999.000,9, -999.000,9, -999.000,9, -999.000,9,   -999.0,9,   -999.0,9,   0.1279
  18HU20090517, AR07W,    43,  1, 351594,      9,2,20090521,1602, 60.5667, -48.2282,  135,     20.3,   0.1233,  33.3608,2,-999.0000,9,    454.4,3,   -999.0,9,     0.24,6,     0.92,6,     0.09,6, -999.000,9, -999.000,9, -999.000,9, -999.000,9,   -999.0,9,   -999.0,9,   0.1226
  18HU20090517, AR07W,    43,  1, 351595,     10,2,20090521,1602, 60.5667, -48.2282,  135,     10.7,   0.2326,  33.2696,2,-999.0000,9,    482.1,3,    422.0,2,     0.06,6,     0.06,6,     0.05,6, -999.000,9, -999.000,9, -999.000,9, -999.000,9,   1992.6,2,   1875.8,2,   0.2322
  18HU20090517, AR07W,    43,  1, 351596,     11,2,20090521,1602, 60.5667, -48.2282,  135,      1.1,   0.3150,  33.2182,2,-999.0000,9,    484.4,3,   -999.0,9,     0.00,6,     0.00,6,     0.02,6, -999.000,9, -999.000,9, -999.000,9, -999.000,9,   -999.0,9,   -999.0,9,   0.3150
  18HU20090517, AR07W,    43,  1, 351597,     12,2,20090521,1602, 60.5667, -48.2282,  135,      0.9,   0.3277,  33.2133,2,-999.0000,9,    484.6,3,   -999.0,9,  -999.00,9,  -999.00,9,  -999.00,9, -999.000,9, -999.000,9, -999.000,9, -999.000,9,   -999.0,9,   -999.0,9,   0.3277
  18HU20090517, AR07W,    45,  1, 351598,      1,2,20090521,1749, 60.4455, -48.3638,  135,    135.3,   1.4529,  34.1589,2,-999.0000,9,    386.8,3,    325.4,2,     5.78,6,    11.37,6,     0.76,6,    5.289,2,    2.220,4, -999.000,9,    5.644,2,   2122.3,2,   2262.2,2,   1.4464
  18HU20090517, AR07W,    45,  1, 351599,      2,2,20090521,1749, 60.4455, -48.3638,  135,    101.0,   1.4246,  34.1579,2,-999.0000,9,    386.3,3,    329.4,6,     5.69,6,    11.38,6,     0.78,6,    5.289,2,    1.850,4, -999.000,9,    5.653,2,   2120.3,2,   2266.9,2,   1.4198
  18HU20090517, AR07W,    45,  1, 351600,      3,2,20090521,1749, 60.4455, -48.3638,  135,     80.5,   1.3996,  34.1531,2,-999.0000,9,    387.0,3,    327.8,2,     5.75,6,    11.25,6,     0.77,6,    5.221,2,    1.431,4, -999.000,9,    5.612,2,   2117.5,2,   2259.0,2,   1.3958
  18HU20090517, AR07W,    45,  1, 351601,      4,2,20090521,1749, 60.4455, -48.3638,  135,     60.2,   0.7908,  33.8917,2,-999.0000,9,    413.4,3,   -999.0,9,     3.06,6,     6.68,6,     0.48,6, -999.000,9, -999.000,9, -999.000,9, -999.000,9,   -999.0,9,   -999.0,9,   0.7883
  18HU20090517, AR07W,    45,  1, 351602,      5,2,20090521,1749, 60.4455, -48.3638,  135,     50.8,   0.9172,  33.8804,2,-999.0000,9,    418.1,3,    362.1,2,     2.42,6,     5.78,6,     0.42,6,    5.626,2,    1.662,4,    0.052,4,    6.293,2,   2076.0,2,   2254.6,2,   0.9151
  18HU20090517, AR07W,    45,  1, 351603,      6,2,20090521,1749, 60.4455, -48.3638,  135,     40.7,   0.8372,  33.8275,2,-999.0000,9,    426.0,3,   -999.0,9,     1.87,6,     4.45,6,     0.36,6, -999.000,9, -999.000,9, -999.000,9, -999.000,9,   -999.0,9,   -999.0,9,   0.8355
  18HU20090517, AR07W,    45,  1, 351604,      7,2,20090521,1749, 60.4455, -48.3638,  135,     30.5,   0.5952,  33.7563,2,  33.7575,2,    430.7,3,   -999.0,9,     1.76,6,     3.89,6,     0.31,6, -999.000,9, -999.000,9, -999.000,9, -999.000,9,   -999.0,9,   -999.0,9,   0.5940
  18HU20090517, AR07W,    45,  1, 351605,      8,2,20090521,1749, 60.4455, -48.3638,  135,     20.3,   0.4118,  33.6908,2,-999.0000,9,    440.6,3,   -999.0,9,     1.36,6,     2.48,6,     0.25,6, -999.000,9, -999.000,9, -999.000,9, -999.000,9,   -999.0,9,   -999.0,9,   0.4110
  18HU20090517, AR07W,    45,  1, 351606,      9,2,20090521,1749, 60.4455, -48.3638,  135,     10.6,   0.3181,  33.6538,2,-999.0000,9,    445.5,3,    387.1,2,     1.18,6,     1.77,6,     0.24,6,    6.692,2,    2.998,4,    0.196,4,    7.878,2,   2055.1,2,   2229.9,2,   0.3177
  18HU20090517, AR07W,    45,  1, 351607,     10,2,20090521,1749, 60.4455, -48.3638,  135,      1.2,   0.2783,  33.6176,2,-999.0000,9,    452.9,3,   -999.0,9,     1.12,6,     1.23,6,     0.21,6, -999.000,9, -999.000,9, -999.000,9, -999.000,9,   -999.0,9,   -999.0,9,   0.2783
  18HU20090517, AR07W,    50,  1, 351608,      1,2,20090521,2036, 60.2912, -48.5417, 2770,   2790.9,   2.2333,  34.8992,2,  34.9009,2,    375.8,3,    290.4,6,    10.52,6,    14.36,6,     0.92,6,    3.560,2,    2.033,4,    0.246,2,    2.873,2,   2162.5,2,   2298.2,2,   2.0199
  18HU20090517, AR07W,    50,  1, 351609,      2,2,20090521,2036, 60.2912, -48.5417, 2770,   2718.8,   2.4671,  34.9043,2,  34.9063,2,    369.6,3,    289.5,2,    11.20,6,    15.00,6,     0.94,6,    3.353,2,    2.123,4,    0.225,2,    2.718,2,   2163.0,2,   2301.1,2,   2.2560
  18HU20090517, AR07W,    50,  1, 351610,      3,2,20090521,2036, 60.2912, -48.5417, 2770,   2530.8,   2.7588,  34.9123,2,  34.9148,6,    361.8,3,    284.3,2,    11.57,6,    15.45,6,     0.98,6,    3.163,2,    2.320,4,    0.197,2,    2.607,2,   2161.3,2,   2301.0,2,   2.5604
  18HU20090517, AR07W,    50,  1, 351611,      4,2,20090521,2036, 60.2912, -48.5417, 2770,   2360.2,   2.8889,  34.9141,2,  34.9163,2,    358.4,3,    281.8,2,    11.37,6,    15.82,6,     0.98,6,    3.094,2,    2.776,4,    0.199,2,    2.469,2,   2163.2,2,   2305.5,2,   2.7046
  18HU20090517, AR07W,    50,  1, 351612,      5,2,20090521,2036, 60.2912, -48.5417, 2770,   2248.3,   3.0401,  34.9137,2,  34.9156,2,    356.0,3,    282.3,2,    11.10,6,    15.60,6,     0.97,6,    3.229,2,    1.868,4,    0.220,2,    2.515,2,   2161.6,2,   2308.8,2,   2.8638
  18HU20090517, AR07W,    50,  1, 351613,      6,2,20090521,2036, 60.2912, -48.5417, 2770,   2150.6,   3.0683,  34.9108,2,  34.9125,6,    356.2,3,    282.2,2,    10.57,6,    15.74,6,     0.97,6,    3.397,2,    2.112,4,    0.223,2,    2.660,2,   2162.6,2,   2302.5,2,   2.9008
  18HU20090517, AR07W,    50,  1, 351614,      7,2,20090521,2036, 60.2912, -48.5417, 2770,   1999.4,   3.1060,  34.9107,2,  34.9126,2,    354.2,3,    278.9,2,    10.48,6,    15.53,6,     0.97,6,    3.383,2,    2.396,4,    0.219,2,    2.474,2,   2160.6,2,   2295.3,2,   2.9520
  18HU20090517, AR07W,    50,  1, 351615,      8,2,20090521,2036, 60.2912, -48.5417, 2770,   1812.0,   3.1291,  34.9110,2,  34.9122,2,    351.5,3,    282.6,2,    10.49,6,    15.51,6,     0.97,6,    3.397,2,    2.995,4,    0.232,2,    2.681,2,   2160.3,2,   2295.2,2,   2.9917
  18HU20090517, AR07W,    50,  1, 351616,      9,2,20090521,2036, 60.2912, -48.5417, 2770,   1631.2,   3.3019,  34.9137,2,  34.9163,2,    347.9,3,    280.2,2,    10.32,6,    15.77,6,     0.98,6,    3.437,2,    2.152,4,    0.235,2,    2.656,2,   2161.8,2,   2294.8,2,   3.1783
  18HU20090517, AR07W,    50,  1, 351617,     10,2,20090521,2036, 60.2912, -48.5417, 2770,   1431.5,   3.4539,  34.9147,2,  34.9157,2,    345.2,3,    280.2,2,     9.92,6,    15.91,6,     0.98,6,    3.625,2,    2.317,4,    0.240,2,    2.788,2,   2160.5,2,   2297.4,2,   3.3459
  18HU20090517, AR07W,    50,  1, 351618,     11,2,20090521,2036, 60.2912, -48.5417, 2770,   1232.6,   3.6299,  34.9151,2,  34.9167,2,    342.2,3,    277.8,2,     9.80,6,    16.06,6,     0.99,6,    3.652,2,    2.789,4,    0.277,2,    2.689,2,   2162.0,2,   2292.1,2,   3.5371
  18HU20090517, AR07W,    50,  1, 351619,     12,2,20090521,2036, 60.2912, -48.5417, 2770,   1050.8,   3.7264,  34.9052,2,  34.9069,2,    343.2,3,    281.5,2,     9.32,6,    15.99,6,     0.99,6,    3.993,2,    3.342,4,    0.297,2,    2.966,2,   2163.0,2,   2294.3,2,   3.6480
  18HU20090517, AR07W,    50,  1, 351620,     13,2,20090521,2036, 60.2912, -48.5417, 2770,    851.6,   3.9008,  34.9092,2,  34.9124,2,    346.4,3,    284.9,2,     8.73,6,    15.83,6,     0.98,6,    4.197,2,    4.184,4,    0.346,2,    3.182,2,   2162.8,2,   2295.9,2,   3.8374
  18HU20090517, AR07W,    50,  1, 351621,     14,2,20090521,2036, 60.2912, -48.5417, 2770,    670.8,   4.1025,  34.9281,2,  34.9297,2,    352.1,3,    293.9,2,     8.18,6,    15.54,6,     0.96,6, -999.000,9, -999.000,9, -999.000,9, -999.000,9,   2158.9,2,   -999.0,9,   4.0524
  18HU20090517, AR07W,    50,  1, 351622,     15,2,20090521,2036, 60.2912, -48.5417, 2770,    511.9,   4.3141,  34.9494,2,  34.9509,2,    352.5,3,    295.7,2,     8.03,6,    15.45,6,     0.96,6,    4.376,2,    5.741,4,    0.366,2,    3.545,2,   2160.3,2,   -999.0,9,   4.2756
  18HU20090517, AR07W,    50,  1, 351623,     16,2,20090521,2036, 60.2912, -48.5417, 2770,    371.3,   4.4483,  34.9610,2,  34.9633,2,    353.4,3,    297.2,2,     7.76,6,    15.20,6,     0.94,6,    4.304,2,    5.385,4,    0.395,2,    3.371,2,   2157.4,2,   2307.3,2,   4.4204
  18HU20090517, AR07W,    50,  1, 351624,     17,2,20090521,2036, 60.2912, -48.5417, 2770,    250.6,   4.4060,  34.9473,2,  34.9633,2,    355.1,3,    300.1,2,     7.68,6,    15.17,6,     0.93,6,    4.414,2,    4.150,4,    0.381,2,    3.586,2,   2157.5,2,   2305.5,2,   4.3875
  18HU20090517, AR07W,    50,  1, 351625,     18,2,20090521,2036, 60.2912, -48.5417, 2770,    151.1,   4.2104,  34.8690,2,-999.0000,9,    360.8,3,    305.9,2,     7.05,6,    14.08,6,     0.89,6,    4.307,6,    4.802,4,    0.381,6,    3.424,6,   2149.5,2,   2299.9,2,   4.1996
  18HU20090517, AR07W,    50,  1, 351626,     19,2,20090521,2036, 60.2912, -48.5417, 2770,    101.2,   3.5788,  34.6442,2,-999.0000,9,    375.3,3,    320.6,2,     5.30,6,    11.46,6,     0.74,6,    4.702,2,    5.067,4,    0.413,2,    3.954,2,   2126.4,2,   2292.1,2,   3.5722
  18HU20090517, AR07W,    50,  1, 351627,     20,2,20090521,2036, 60.2912, -48.5417, 2770,     50.8,   2.1764,  34.1614,2,-999.0000,9,    416.5,3,    361.0,2,     1.07,6,     3.75,6,     0.32,6,    4.846,2,    4.821,4,    0.445,2,    3.983,2,   2077.2,2,   2272.5,2,   2.1737
  18HU20090517, AR07W,    50,  1, 351628,     21,2,20090521,2036, 60.2912, -48.5417, 2770,     20.1,   1.8511,  34.0063,2,  34.0101,2,    452.2,3,    399.1,2,     0.20,6,     0.26,6,     0.11,6,    5.371,2,    4.109,4,    0.482,2,    4.548,2,   2034.5,2,   2226.7,2,   1.8501
  18HU20090517, AR07W,    50,  1, 351629,     22,2,20090521,2036, 60.2912, -48.5417, 2770,      2.2,   1.8848,  33.9963,2,-999.0000,9,    456.1,3,    399.8,2,     0.22,6,     0.31,6,     0.09,6,    5.181,2,    4.468,4,    0.476,2,    4.368,2,   2031.8,2,   1976.9,2,   1.8847
  18HU20090517, AR07W,    55,  1, 351630,      1,2,20090522,0126, 59.9838, -48.9000, 2860,   3045.3,   1.6463,  34.8948,2,  34.8994,2,    386.6,3,    297.5,2,     8.93,6,    13.89,6,     0.91,6,    4.078,2,    1.598,4,    0.458,4,    4.089,2,   2158.1,2,   2300.0,2,   1.4208
  18HU20090517, AR07W,    55,  1, 351631,      2,2,20090522,0126, 59.9838, -48.9000, 2860,   2948.3,   1.9079,  34.8964,2,  34.8984,2,    379.8,3,    293.3,2,     9.98,6,    14.29,6,     0.91,6,    4.061,2,    1.013,4,    0.270,2,    4.096,2,   2158.5,2,   2302.8,2,   1.6861
  18HU20090517, AR07W,    55,  1, 351632,      3,2,20090522,0126, 59.9838, -48.9000, 2860,   2862.4,   2.1532,  34.8978,2,  34.9000,2,    374.1,3,    289.2,2,    10.90,6,    14.64,6,     0.94,6,    3.481,2,    0.849,4,    0.269,2,    3.483,2,   2157.1,2,   2306.3,2,   1.9345
  18HU20090517, AR07W,    55,  1, 351633,      4,2,20090522,0126, 59.9838, -48.9000, 2860,   2760.6,   2.3436,  34.9023,2,  34.9045,2,    368.9,3,    286.4,2,    11.65,6,    15.05,6,     0.99,6,    3.292,2,    1.589,4,    0.327,2,    3.286,2,   2161.0,2,   2304.4,2,   2.1309
  18HU20090517, AR07W,    55,  1, 351634,      5,2,20090522,0126, 59.9838, -48.9000, 2860,   2503.8,   2.6007,  34.9075,2,  34.9098,2,    363.6,3,    284.7,2,    10.83,6,    15.20,6,     0.96,6,    3.399,2,    0.687,4,    0.294,2,    3.413,2,   2158.9,2,   2298.6,2,   2.4078
  18HU20090517, AR07W,    55,  1, 351635,      6,2,20090522,0126, 59.9838, -48.9000, 2860,   2498.9,   2.6017,  34.9066,2,  34.9090,6,    365.2,3,    286.3,2,    10.59,6,    15.15,6,     0.95,6,    3.443,2,    0.778,4,    0.228,2,    3.471,2,   2156.2,2,   2300.7,2,   2.4093
  18HU20090517, AR07W,    55,  1, 351636,      7,2,20090522,0126, 59.9838, -48.9000, 2860,   2335.8,   2.6302,  34.9072,2,  34.9098,2,    361.5,3,    284.7,2,    10.73,6,    15.41,6,     0.97,6,    3.348,2,    0.492,4,    0.173,2,    3.267,2,   2156.9,2,   2299.3,2,   2.4527
  18HU20090517, AR07W,    55,  1, 351637,      8,2,20090522,0126, 59.9838, -48.9000, 2860,   2161.0,   2.6814,  34.9084,2,  34.9100,2,    358.6,3,    284.3,2,    10.66,6,    15.41,6,     0.97,6,    3.397,2,    1.443,4,    0.227,2,    3.334,2,   2158.1,2,   2301.7,2,   2.5192
  18HU20090517, AR07W,    55,  1, 351638,      9,2,20090522,0126, 59.9838, -48.9000, 2860,   1986.2,   2.7727,  34.9097,2,  34.9122,2,    355.5,3,    283.6,2,    10.65,6,    15.42,6,     0.97,6,    3.391,2,    0.930,4,    0.311,2,    3.388,2,   2158.3,2,   2300.1,2,   2.6249
  18HU20090517, AR07W,    55,  1, 351639,     10,2,20090522,0126, 59.9838, -48.9000, 2860,   1782.5,   3.1099,  34.9124,2,  34.9144,2,    349.4,3,    279.7,2,    10.65,6,    16.10,6,     1.03,6,    3.309,2,    0.663,4,    0.182,2,    3.205,2,   2158.2,2,   2300.0,2,   2.9754
  18HU20090517, AR07W,    55,  1, 351640,     11,2,20090522,0126, 59.9838, -48.9000, 2860,   1587.0,   3.3029,  34.9103,2,  34.9132,2,    345.8,3,    278.4,6,    10.41,6,    16.28,6,     1.03,6,    3.331,2,    1.471,4,    0.255,2,    3.186,2,   2158.6,2,   2300.2,2,   3.1832
  18HU20090517, AR07W,    55,  1, 351641,     12,2,20090522,0126, 59.9838, -48.9000, 2860,   1378.8,   3.5103,  34.9144,2,  34.9169,2,    341.7,3,    276.3,2,    10.11,6,    16.59,6,     1.04,6,    3.542,2,    1.663,4,    0.238,2,    3.327,2,   2158.5,2,   2298.1,2,   3.4063
  18HU20090517, AR07W,    55,  1, 351642,     13,2,20090522,0126, 59.9838, -48.9000, 2860,   1184.1,   3.6889,  34.9116,2,  34.9134,2,    342.1,3,    278.8,2,     9.46,6,    16.22,6,     1.01,6,    3.946,2,    2.155,4,    0.257,2,    3.708,2,   2161.2,2,   2301.2,2,   3.5997
  18HU20090517, AR07W,    55,  1, 351643,     14,2,20090522,0126, 59.9838, -48.9000, 2860,    977.0,   3.6435,  34.8836,2,  34.8862,2,    347.7,3,    286.0,2,     8.83,6,    16.19,6,     1.03,6,    4.264,2,    0.680,4,    0.355,2,    4.044,2,   2159.5,2,   2297.0,2,   3.5718
  18HU20090517, AR07W,    55,  1, 351644,     15,2,20090522,0126, 59.9838, -48.9000, 2860,    798.6,   3.7265,  34.8805,2,  34.8817,2,    347.7,3,    288.2,2,     8.49,6,    16.00,6,     1.00,6,    4.333,2,    2.616,4,    0.335,2,    4.232,2,   2159.3,2,   2296.9,2,   3.6685
  18HU20090517, AR07W,    55,  1, 351645,     16,2,20090522,0126, 59.9838, -48.9000, 2860,    653.3,   4.0374,  34.9132,2,  34.9157,2,    353.3,3,    294.4,2,     7.96,6,    15.65,6,     0.98,6,    4.384,2,    3.119,4,    0.364,2,    4.453,2,   2156.6,2,   2297.8,2,   3.9890
  18HU20090517, AR07W,    55,  1, 351646,     17,2,20090522,0126, 59.9838, -48.9000, 2860,    498.6,   4.3595,  34.9528,2,  34.9547,2,    352.1,3,    295.6,2,     7.73,6,    15.46,6,     0.97,6,    4.452,2,    2.393,4,    0.314,2,    4.557,2,   2153.2,2,   2298.8,2,   4.3219
  18HU20090517, AR07W,    55,  1, 351647,     18,2,20090522,0126, 59.9838, -48.9000, 2860,    382.2,   4.4385,  34.9594,2,  34.9606,2,    352.7,3,    296.5,2,     7.61,6,    15.46,6,     0.96,6,    4.358,2,    2.350,4,    0.315,2,    4.527,2,   2152.0,2,   2298.4,2,   4.4098
  18HU20090517, AR07W,    55,  1, 351648,     19,2,20090522,0126, 59.9838, -48.9000, 2860,    268.3,   4.4500,  34.9512,2,  34.9518,2,    353.5,3,    297.9,2,     7.56,6,    15.30,6,     0.95,6,    4.455,2,    2.784,4,    0.382,2,    4.622,2,   2150.0,2,   2301.3,2,   4.4300
  18HU20090517, AR07W,    55,  1, 351649,     20,2,20090522,0126, 59.9838, -48.9000, 2860,    160.9,   4.1276,  34.8686,2,-999.0000,9,    350.7,3,    295.0,2,     7.34,6,    15.15,6,     0.95,6,    4.468,2,    3.137,4,    0.359,2,    4.598,2,   2150.7,2,   2297.7,2,   4.1162
  18HU20090517, AR07W,    55,  1, 351650,     21,2,20090522,0126, 59.9838, -48.9000, 2860,    100.6,   3.1752,  34.6449,2,-999.0000,9,    386.6,3,    331.9,2,     4.20,6,     9.32,6,     0.65,6,    5.539,2,    3.339,4,    0.473,2,    6.288,2,   2116.9,2,   2289.6,2,   3.1689
  18HU20090517, AR07W,    55,  1, 351651,     22,2,20090522,0126, 59.9838, -48.9000, 2860,     50.7,   2.7999,  34.4615,2,-999.0000,9,    406.7,3,    351.6,2,     2.05,6,     6.42,6,     0.45,6,    5.186,2,    3.251,4,    0.402,2,    5.853,2,   2094.7,2,   2287.2,2,   2.7969
  18HU20090517, AR07W,    55,  1, 351652,     23,2,20090522,0126, 59.9838, -48.9000, 2860,     21.0,   2.1751,  34.2061,2,-999.0000,9,    420.3,3,    367.4,2,     0.62,6,     3.21,6,     0.29,6,    5.647,2,    3.532,4,    0.462,2,    6.509,2,   2068.5,2,   2275.0,2,   2.1740
  18HU20090517, AR07W,    55,  1, 351653,     24,2,20090522,0126, 59.9838, -48.9000, 2860,      1.7,   2.0348,  34.1319,2,-999.0000,9,    428.8,3,    372.7,2,     0.38,6,     1.90,6,     0.18,6,    5.496,2,    3.949,4,    0.454,2,    6.431,2,   2060.7,2,   2275.2,2,   2.0347