BOTTLE,20130611PRINUNIVRMK
EXPOCODE,SECT_ID,STNNBR,CASTNO,SAMPNO,BTLNBR,BTLNBR_FLAG_W,DATE,TIME,LATITUDE,LONGITUDE,DEPTH,CTDPRS,CTDTMP,CTDSAL,CTDSAL_FLAG_W,SALNTY,SALNTY_FLAG_W,CTDOXY,CTDOXY_FLAG_W,OXYGEN,OXYGEN_FLAG_W,SILCAT,SILCAT_FLAG_W,NITRAT,NITRAT_FLAG_W,PHSPHT,PHSPHT_FLAG_W,CFC-11,CFC-11_FLAG_W,CFC-12,CFC-12_FLAG_W,CFC113,CFC113_FLAG_W,CCL4,CCL4_FLAG_W,TCARBN,TCARBN_FLAG_W,ALKALI,ALKALI_FLAG_W,THETA
,,,,,,,,,,,METERS,DBAR,ITS-90,PSS-78,,PSS-78,,UMOL/KG,,UMOL/KG,,UMOL/KG,,UMOL/KG,,UMOL/KG,,PMOL/KG,,PMOL/KG,,PMOL/KG,,PMOL/KG,,UMOL/KG,,UMOL/KG,,DEG C
  18HU20090517, AR07W,   181,  1, 352010,      1,2,20090526,0813, 55.2622, -53.9828, 2058,   2031.8,   2.9407,  34.9137,2,  34.9157,2,    356.3,3,    290.9,3,    11.51,6,    15.96,6,     1.09,6,    3.071,2,    0.789,4,    0.233,2,    2.327,2,   2157.3,2,   2313.6,2,   2.7862
  18HU20090517, AR07W,   181,  1, 352011,      2,2,20090526,0813, 55.2622, -53.9828, 2058,   1969.7,   2.9335,  34.9136,2,  34.9158,6,    354.9,3,    282.0,2,    11.34,6,    16.09,6,     1.09,6,    3.026,2,    0.048,4,    0.235,2,    2.091,2,   2160.5,2,   2303.1,2,   2.7847
  18HU20090517, AR07W,   181,  1, 352012,      3,2,20090526,0813, 55.2622, -53.9828, 2058,   1900.0,   2.9833,  34.9138,2,  34.9154,2,    353.4,3,    279.7,2,    11.26,6,    16.06,6,     1.09,6,    3.050,2, -999.000,9,    0.242,2,    2.111,2,   2160.2,2,   2302.6,2,   2.8401
  18HU20090517, AR07W,   181,  1, 352013,      4,2,20090526,0813, 55.2622, -53.9828, 2058,   1812.3,   3.0633,  34.9127,2,  34.9152,2,    351.5,3,    278.7,2,    11.06,6,    16.17,6,     1.10,6,    3.094,2,    0.126,4,    0.250,2,    2.156,2,   2160.9,2,   2305.1,2,   2.9268
  18HU20090517, AR07W,   181,  1, 352014,      5,2,20090526,0813, 55.2622, -53.9828, 2058,   1695.6,   3.1569,  34.9116,2,  34.9140,2,    349.5,3,    278.9,6,    10.96,6,    16.41,6,     1.10,6,    3.164,2,    0.541,4,    0.252,2,    2.198,2,   2159.1,2,   2302.1,2,   3.0295
  18HU20090517, AR07W,   181,  1, 352015,      6,2,20090526,0813, 55.2622, -53.9828, 2058,   1553.0,   3.3688,  34.9104,2,  34.9124,6,    346.1,3,    277.6,2,    10.65,6,    16.59,6,     1.12,6, -999.000,9, -999.000,9, -999.000,9,    0.000,4,   2160.0,2,   2307.7,2,   3.2513
  18HU20090517, AR07W,   181,  1, 352016,      7,2,20090526,0813, 55.2622, -53.9828, 2058,   1391.2,   3.5029,  34.9140,2,  34.9158,2,    342.8,3,    276.0,2,    10.49,6,    16.73,6,     1.12,6,    3.395,2,    0.095,4,    0.278,2,    2.256,2,   2161.9,2,   2300.9,2,   3.3979
  18HU20090517, AR07W,   181,  1, 352017,      8,2,20090526,0813, 55.2622, -53.9828, 2058,   1210.0,   3.5945,  34.9018,2,  34.9034,2,    342.8,3,    277.9,2,    10.01,6,    16.81,6,     1.12,6,    4.896,6,    1.669,4,    0.455,4,    3.774,6,   2161.3,2,   2298.0,2,   3.5040
  18HU20090517, AR07W,   181,  1, 352018,      9,2,20090526,0813, 55.2622, -53.9828, 2058,   1032.2,   3.5306,  34.8694,2,  34.8719,2,    350.8,3,    288.3,2,     9.08,6,    16.27,6,     1.09,6,    4.190,2,    1.071,4,    0.353,2,    2.832,2,   2159.3,2,   2298.1,2,   3.4553
  18HU20090517, AR07W,   181,  1, 352019,     10,2,20090526,0813, 55.2622, -53.9828, 2058,    850.2,   3.5722,  34.8704,2,  34.8721,2,    349.2,3,    289.1,2,     8.93,6,    16.25,6,     1.08,6,    4.218,2,    0.576,4,    0.365,2,    2.834,2,   2162.8,2,   2298.4,2,   3.5111
  18HU20090517, AR07W,   181,  1, 352020,     11,2,20090526,0813, 55.2622, -53.9828, 2058,    670.2,   3.7344,  34.8788,2,  34.8807,2,    346.7,3,    289.9,2,  -999.00,9,  -999.00,9,  -999.00,9,    4.216,2,    1.023,4,    0.357,2,    2.958,2,   2159.8,2,   2298.7,2,   3.6863
  18HU20090517, AR07W,   181,  1, 352021,     12,2,20090526,0813, 55.2622, -53.9828, 2058,    508.6,   3.7876,  34.8711,2,  34.8726,2,    349.4,3,    291.5,2,     8.45,6,    15.85,6,     1.07,6,    4.280,2,    1.565,4,    0.375,2,    3.020,2,   2158.8,2,   2299.3,2,   3.7515
  18HU20090517, AR07W,   181,  1, 352022,     13,2,20090526,0813, 55.2622, -53.9828, 2058,    369.6,   4.0494,  34.8773,2,  34.8789,2,    346.7,3,    290.8,2,     8.37,6,    15.80,6,     1.05,6,    4.235,2,    0.823,4,    0.382,2,    3.010,2,   2158.3,2,   2298.7,2,   4.0228
  18HU20090517, AR07W,   181,  1, 352023,     14,2,20090526,0813, 55.2622, -53.9828, 2058,    255.6,   4.0171,  34.8593,2,  34.8610,2,    350.4,3,    295.8,2,     8.15,6,    15.37,6,     1.03,6,    4.327,2,    1.232,4,    0.381,2,    3.122,2,   2155.8,2,   2294.4,2,   3.9990
  18HU20090517, AR07W,   181,  1, 352024,     15,2,20090526,0813, 55.2622, -53.9828, 2058,    156.2,   3.8857,  34.8097,2,-999.0000,9,    354.7,3,    299.3,2,     7.48,6,    14.79,6,     1.00,6,    4.435,2,    1.572,4,    0.399,2,    3.173,2,   2152.3,2,   2294.9,2,   3.8749
  18HU20090517, AR07W,   181,  1, 352025,     16,2,20090526,0813, 55.2622, -53.9828, 2058,    102.2,   3.7766,  34.7698,2,-999.0000,9,    356.7,3,    301.1,2,     7.34,6,    14.48,6,     0.98,6,    4.495,2,    1.805,4,    0.401,2,    3.206,2,   2149.4,2,   2293.7,2,   3.7697
  18HU20090517, AR07W,   181,  1, 352026,     17,2,20090526,0813, 55.2622, -53.9828, 2058,     52.0,   3.3970,  34.6697,2,-999.0000,9,    365.4,3,    309.1,2,     6.99,6,    13.49,6,     0.93,6,    4.685,2,    0.579,4,    0.445,2,    3.458,2,   2143.2,2,   2292.5,2,   3.3937
  18HU20090517, AR07W,   181,  1, 352027,     18,2,20090526,0813, 55.2622, -53.9828, 2058,     10.8,   2.9140,  34.5263,2,  34.5279,2,    381.4,3,    325.3,2,     6.35,6,    11.65,6,     0.83,6, -999.000,9, -999.000,9, -999.000,9, -999.000,9,   2130.9,2,   2283.4,2,   2.9134
  18HU20090517, AR07W,   181,  1, 352028,     19,2,20090526,0813, 55.2622, -53.9828, 2058,      3.1,   2.9106,  34.5264,2,-999.0000,9,    381.8,3,   -999.0,9,     6.16,6,    11.68,6,     0.82,6,    4.936,2,    1.169,4,    0.473,2,    3.717,2,   -999.0,9,   -999.0,9,   2.9104
  18HU20090517, AR07W,   187,  1, 352029,      1,2,20090526,1142, 55.4175, -53.8308, 2670,    202.1,   3.9659,  34.7965,2,-999.0000,9,    354.4,3,    296.6,6,     7.52,6,    14.83,6,     0.99,6, -999.000,9, -999.000,9, -999.000,9, -999.000,9,   -999.0,9,   -999.0,9,   3.9518
  18HU20090517, AR07W,   187,  1, 352030,      2,2,20090526,1142, 55.4175, -53.8308, 2670,    149.5,   3.8677,  34.7682,2,  34.7685,6,    354.7,3,    299.0,2,     7.40,6,    14.66,6,     0.99,6, -999.000,9, -999.000,9, -999.000,9, -999.000,9,   2152.4,2,   2294.9,2,   3.8574
  18HU20090517, AR07W,   187,  1, 352031,      3,2,20090526,1142, 55.4175, -53.8308, 2670,    100.3,   3.7460,  34.7296,2,-999.0000,9,    355.5,3,    300.3,2,     7.20,6,    14.57,6,     0.96,6, -999.000,9, -999.000,9, -999.000,9, -999.000,9,   -999.0,9,   -999.0,9,   3.7393
  18HU20090517, AR07W,   187,  1, 352032,      4,2,20090526,1142, 55.4175, -53.8308, 2670,     81.2,   3.5720,  34.6876,2,-999.0000,9,    359.5,3,    303.3,2,     7.08,6,    14.04,6,     0.95,6, -999.000,9, -999.000,9, -999.000,9, -999.000,9,   2148.7,2,   2291.5,2,   3.5667
  18HU20090517, AR07W,   187,  1, 352033,      5,2,20090526,1142, 55.4175, -53.8308, 2670,     59.1,   3.4066,  34.6501,2,-999.0000,9,    362.3,3,    306.4,2,     6.96,6,    13.78,6,     0.94,6, -999.000,9, -999.000,9, -999.000,9, -999.000,9,   -999.0,9,   -999.0,9,   3.4028
  18HU20090517, AR07W,   187,  1, 352034,      6,2,20090526,1142, 55.4175, -53.8308, 2670,     40.5,   2.8254,  34.5159,2,-999.0000,9,    374.0,3,    318.6,2,     6.57,6,    12.43,6,     0.87,6, -999.000,9, -999.000,9, -999.000,9, -999.000,9,   -999.0,9,   -999.0,9,   2.8230
  18HU20090517, AR07W,   187,  1, 352035,      7,2,20090526,1142, 55.4175, -53.8308, 2670,     51.6,   3.1244,  34.5979,2,  34.8095,3,    363.3,3,    307.0,2,     7.02,6,    13.54,6,     0.94,6, -999.000,9, -999.000,9, -999.000,9, -999.000,9,   -999.0,9,   -999.0,9,   3.1212
  18HU20090517, AR07W,   187,  1, 352036,      8,2,20090526,1142, 55.4175, -53.8308, 2670,     31.5,   2.7642,  34.4976,2,  34.8259,3,    376.6,3,    318.9,2,     6.52,6,    12.22,6,     0.86,6, -999.000,9, -999.000,9, -999.000,9, -999.000,9,   2133.9,2,   2282.9,2,   2.7624
  18HU20090517, AR07W,   187,  1, 352037,      9,2,20090526,1142, 55.4175, -53.8308, 2670,     31.9,   2.7470,  34.4922,2,-999.0000,9,    377.8,3,   -999.0,9,  -999.00,9,  -999.00,9,  -999.00,9, -999.000,9, -999.000,9, -999.000,9, -999.000,9,   -999.0,9,   -999.0,9,   2.7451
  18HU20090517, AR07W,   187,  1, 352038,     10,2,20090526,1142, 55.4175, -53.8308, 2670,     19.8,   2.6828,  34.4713,2,-999.0000,9,    380.9,3,    326.6,2,     6.34,6,    11.89,6,     0.84,6, -999.000,9, -999.000,9, -999.000,9, -999.000,9,   -999.0,9,   -999.0,9,   2.6817
  18HU20090517, AR07W,   187,  1, 352039,     11,2,20090526,1142, 55.4175, -53.8308, 2670,     10.3,   2.6837,  34.4697,2,-999.0000,9,    381.6,3,    324.4,2,     6.25,6,    11.83,6,     0.84,6, -999.000,9, -999.000,9, -999.000,9, -999.000,9,   -999.0,9,   -999.0,9,   2.6831
  18HU20090517, AR07W,   187,  1, 352040,     12,2,20090526,1142, 55.4175, -53.8308, 2670,      4.7,   2.6827,  34.4699,2,-999.0000,9,    381.3,3,    324.4,2,     6.26,6,    11.89,6,     0.84,6, -999.000,9, -999.000,9, -999.000,9, -999.000,9,   -999.0,9,   -999.0,9,   2.6824
  18HU20090517, AR07W,   187,  1, 352041,     13,2,20090526,1142, 55.4175, -53.8308, 2670,      4.2,   2.6832,  34.4700,2,-999.0000,9,    381.1,3,   -999.0,9,  -999.00,9,  -999.00,9,  -999.00,9, -999.000,9, -999.000,9, -999.000,9, -999.000,9,   -999.0,9,   -999.0,9,   2.6830
  18HU20090517, AR07W,   188,  1, 352042,      1,2,20090526,1338, 55.4192, -53.8268, 2521,   2708.0,   2.2118,  34.9022,2,  34.9044,2,    372.9,3,    287.3,2,    11.35,6,    15.29,6,     1.02,6,    3.453,2,    2.837,4,    0.240,2,    3.756,2,   2156.8,2,   2305.1,2,   2.0069
  18HU20090517, AR07W,   188,  1, 352043,      2,2,20090526,1338, 55.4192, -53.8268, 2521,   2590.1,   2.2599,  34.9036,2,  34.9054,2,    369.0,3,    287.1,2,    11.56,6,    15.43,6,     1.03,6,    3.386,2,    2.827,4,    0.245,2,    3.642,2,   2160.1,2,   2302.6,2,   2.0652
  18HU20090517, AR07W,   188,  1, 352044,      3,2,20090526,1338, 55.4192, -53.8268, 2521,   2509.3,   2.2758,  34.9040,2,  34.9054,6,    367.2,3,    287.2,2,    11.65,6,    15.49,6,     1.04,6,    3.406,2,    2.478,4,    0.235,2,    3.647,2,   2161.3,2,   2304.5,2,   2.0885
  18HU20090517, AR07W,   188,  1, 352045,      4,2,20090526,1338, 55.4192, -53.8268, 2521,   2410.5,   2.3543,  34.9060,2,  34.9062,2,    364.5,3,    285.5,2,    11.80,6,    15.68,6,     1.05,6,    3.345,2,    3.421,4,    0.235,2,    3.664,2,   2163.5,2,   2306.8,2,   2.1747
  18HU20090517, AR07W,   188,  1, 352046,      5,2,20090526,1338, 55.4192, -53.8268, 2521,   2288.8,   2.7152,  34.9127,2,  34.9145,6,    358.7,3,    284.4,2,    11.68,6,    16.03,6,     1.07,6,    3.141,2,    1.556,4,    0.207,2,    3.341,2,   2161.3,2,   2305.6,2,   2.5406
  18HU20090517, AR07W,   188,  1, 352047,      6,2,20090526,1338, 55.4192, -53.8268, 2521,   2150.0,   2.8557,  34.9141,2,  34.9147,6,    355.5,3,    280.9,2,    11.49,6,    16.19,6,     1.08,6,    3.104,2,    1.910,4,    0.197,2,    3.282,2,   2160.0,2,   2302.4,2,   2.6917
  18HU20090517, AR07W,   188,  1, 352048,      7,2,20090526,1338, 55.4192, -53.8268, 2521,   1990.9,   3.0248,  34.9135,2,  34.9185,2,    352.6,3,    281.0,2,    11.14,6,    16.41,6,     1.10,6,    3.261,2,    3.138,4,    0.223,2,    3.398,2,   2159.7,2,   2301.4,2,   2.8727
  18HU20090517, AR07W,   188,  1, 352049,      8,2,20090526,1338, 55.4192, -53.8268, 2521,   1807.6,   3.2428,  34.9118,2,  34.9144,2,    349.2,3,    279.1,6,    10.72,6,    16.58,6,     1.11,6,    3.507,2,    4.463,4,    0.224,2,    3.618,2,   2159.6,2,   2301.6,2,   3.1043
  18HU20090517, AR07W,   188,  1, 352050,      9,2,20090526,1338, 55.4192, -53.8268, 2521,   1609.9,   3.4066,  34.9147,2,  34.9161,2,    345.3,3,    279.1,2,    10.53,6,    16.78,6,     1.11,6,    3.495,2,    2.371,4,    0.261,2,    3.580,2,   2160.9,2,   2305.6,2,   3.2836
  18HU20090517, AR07W,   188,  1, 352051,     10,2,20090526,1338, 55.4192, -53.8268, 2521,   1462.1,   3.5396,  34.9129,2,  34.9147,2,    343.1,3,    276.6,2,    10.38,6,    16.81,6,     1.12,6,    3.697,2,    2.450,4,    0.235,2,    3.679,2,   2160.5,2,   2302.6,2,   3.4280
  18HU20090517, AR07W,   188,  1, 352052,     11,2,20090526,1338, 55.4192, -53.8268, 2521,   1161.0,   3.5791,  34.8837,2,  34.8856,2,    347.5,3,    284.1,2,     9.38,6,    16.67,6,     1.10,6,    4.331,2,    3.651,4,    0.293,2,    4.551,2,   2161.2,2,   2292.4,2,   3.4929
  18HU20090517, AR07W,   188,  1, 352053,     12,2,20090526,1338, 55.4192, -53.8268, 2521,   1020.7,   3.5881,  34.8687,2,  34.8698,2,    350.3,3,    288.4,2,     8.85,6,    16.34,6,     1.09,6,    4.577,2,    5.105,4,    0.376,2,    4.901,2,   2160.9,2,   2304.0,2,   3.5133
  18HU20090517, AR07W,   188,  1, 352054,     13,2,20090526,1338, 55.4192, -53.8268, 2521,    862.9,   3.4476,  34.8402,2,  34.8413,2,    357.4,3,    271.9,4,     8.38,6,    16.01,6,     1.08,6,    4.806,2,    5.623,4,    0.376,2,    5.364,2,   2156.8,2,   2298.4,2,   3.3864
  18HU20090517, AR07W,   188,  1, 352055,     14,2,20090526,1338, 55.4192, -53.8268, 2521,    769.3,   3.4649,  34.8401,2,  34.8415,2,    356.7,3,    296.4,2,     8.26,6,    15.89,6,     1.09,6,    4.878,2,    6.778,4,    0.408,2,    5.512,2,   2157.7,2,   2297.9,2,   3.4108
  18HU20090517, AR07W,   188,  1, 352056,     15,2,20090526,1338, 55.4192, -53.8268, 2521,    580.7,   3.4658,  34.8330,2,  34.8340,2,    357.7,3,    299.8,2,     8.10,6,    15.83,6,     1.07,6,    4.916,2,    5.858,4,    0.384,2,    5.636,2,   2157.1,2,   2298.3,2,   3.4258
  18HU20090517, AR07W,   188,  1, 352057,     16,2,20090526,1338, 55.4192, -53.8268, 2521,    419.9,   3.6384,  34.8429,2,  34.8434,2,    358.5,3,    300.8,2,     7.98,6,    15.54,6,     1.07,6,    4.863,2,    6.040,4,    0.400,2,    5.651,2,   2156.4,2,   2298.0,2,   3.6094
  18HU20090517, AR07W,   188,  1, 352058,     17,2,20090526,1338, 55.4192, -53.8268, 2521,    300.6,   3.7776,  34.8069,2,  34.8076,2,    365.6,3,    309.6,2,     7.29,6,    14.09,4,     1.00,6,    4.986,2,    5.454,4,    0.454,2,    5.879,2,   2149.9,2,   2294.1,2,   3.7568
  18HU20090517, AR07W,   188,  1, 352059,     18,2,20090526,1338, 55.4192, -53.8268, 2521,    251.6,   3.9494,  34.8218,2,-999.0000,9,    357.1,3,    302.3,2,     7.45,6,    14.61,6,     1.03,6,    4.915,2,    6.497,4,    0.387,2,    5.678,2,   2153.2,2,   2301.0,2,   3.9318
  18HU20090517, AR07W,   188,  1, 352060,     19,2,20090526,1338, 55.4192, -53.8268, 2521,    141.1,   3.8334,  34.7636,2,-999.0000,9,    354.4,3,    298.0,2,     7.41,6,    14.70,6,     1.03,6,    4.879,2,    5.588,4,    0.412,2,    5.462,2,   2150.8,2,   2303.0,2,   3.8238
  18HU20090517, AR07W,   188,  1, 352061,     20,2,20090526,1338, 55.4192, -53.8268, 2521,     49.9,   3.1355,  34.5908,2,-999.0000,9,    367.5,3,    310.8,2,     6.81,6,    13.22,6,     0.97,6,    5.186,2,    6.585,4,    0.455,2,    6.053,2,   2139.0,2,   2284.9,2,   3.1324
  18HU20090517, AR07W,   188,  1, 352062,     21,2,20090526,1338, 55.4192, -53.8268, 2521,     10.7,   2.8917,  34.5188,2,  34.5192,2,    376.3,3,    320.3,2,     6.70,6,    12.28,6,     0.92,6,    5.361,2,    6.095,4,    0.469,2,    6.402,2,   2131.0,2,   2284.4,2,   2.8911
  18HU20090517, AR07W,   188,  1, 352063,     22,2,20090526,1338, 55.4192, -53.8268, 2521,      2.8,   2.8887,  34.5186,2,-999.0000,9,    375.9,3,   -999.0,9,     6.83,6,    13.23,6,     0.97,6,    5.418,2,    6.832,4,    0.494,2,    6.492,2,   -999.0,9,   -999.0,9,   2.8885