BOTTLE,20130611PRINUNIVRMK
EXPOCODE,SECT_ID,STNNBR,CASTNO,SAMPNO,BTLNBR,BTLNBR_FLAG_W,DATE,TIME,LATITUDE,LONGITUDE,DEPTH,CTDPRS,CTDTMP,CTDSAL,CTDSAL_FLAG_W,SALNTY,SALNTY_FLAG_W,CTDOXY,CTDOXY_FLAG_W,OXYGEN,OXYGEN_FLAG_W,SILCAT,SILCAT_FLAG_W,NITRAT,NITRAT_FLAG_W,PHSPHT,PHSPHT_FLAG_W,CFC-11,CFC-11_FLAG_W,CFC-12,CFC-12_FLAG_W,CFC113,CFC113_FLAG_W,CCL4,CCL4_FLAG_W,TCARBN,TCARBN_FLAG_W,ALKALI,ALKALI_FLAG_W,THETA
,,,,,,,,,,,METERS,DBAR,ITS-90,PSS-78,,PSS-78,,UMOL/KG,,UMOL/KG,,UMOL/KG,,UMOL/KG,,UMOL/KG,,PMOL/KG,,PMOL/KG,,PMOL/KG,,PMOL/KG,,UMOL/KG,,UMOL/KG,,DEG C
  18HU20090517, AR07W,   146,  1, 351887,      1,2,20090525,0411, 56.1102, -53.1010, 3347,   3376.8,   1.7444,  34.8974,2,  34.9012,2,    388.4,3,    292.0,2,    10.33,6,    13.95,6,     0.92,6,    4.138,2,    1.260,4,    0.224,2,    4.396,2,   2162.5,2,   2297.5,2,   1.4835
  18HU20090517, AR07W,   146,  1, 351888,      2,2,20090525,0411, 56.1102, -53.1010, 3347,   3302.3,   1.8556,  34.8982,2,  34.9016,2,    385.5,3,    292.4,2,    10.16,6,    14.03,6,     0.92,6,    4.086,2,    1.808,4,    0.144,2,    4.380,2,   2156.7,2,   2304.7,2,   1.5997
  18HU20090517, AR07W,   146,  1, 351889,      3,2,20090525,0411, 56.1102, -53.1010, 3347,   3220.4,   2.0481,  34.8987,2,  34.9018,2,    380.9,3,    287.3,6,    10.64,6,    14.27,6,     0.94,6,    3.849,2,    1.751,4,    0.113,2,    4.167,2,   2155.6,2,   2296.3,2,   1.7960
  18HU20090517, AR07W,   146,  1, 351890,      4,2,20090525,0411, 56.1102, -53.1010, 3347,   3119.2,   2.3005,  34.9009,2,  34.9046,2,    373.2,3,   -999.0,9,    12.55,6,    15.07,6,     0.98,6,    3.353,2,    2.301,4,    0.124,2,    3.769,2,   2158.2,2,   2303.6,2,   2.0529
  18HU20090517, AR07W,   146,  1, 351891,      5,2,20090525,0411, 56.1102, -53.1010, 3347,   2999.7,   2.4492,  34.9057,2,  34.9085,2,    367.6,3,    280.6,2,    13.41,6,    15.41,6,     1.01,6,    2.971,2,    1.234,4,    0.070,4,    3.278,2,   2158.0,2,   2302.8,2,   2.2105
  18HU20090517, AR07W,   146,  1, 351892,      6,2,20090525,0411, 56.1102, -53.1010, 3347,   2860.0,   2.6336,  34.9130,2,  34.9158,6,    363.3,3,    278.9,2,    12.99,6,    15.65,6,     1.02,6,    2.936,2,    1.353,4,    0.024,4,    3.216,2,   2160.7,2,   2299.9,2,   2.4051
  18HU20090517, AR07W,   146,  1, 351893,      7,2,20090525,0411, 56.1102, -53.1010, 3347,   2701.5,   2.7865,  34.9149,2,  34.9178,2,    360.7,3,    278.6,2,    12.09,6,    15.55,6,     1.03,6,    3.083,2,    1.470,4,    0.066,4,    3.294,2,   -999.0,9,   2302.7,2,   2.5707
  18HU20090517, AR07W,   146,  1, 351894,      8,2,20090525,0411, 56.1102, -53.1010, 3347,   2521.4,   2.9244,  34.9131,2,  34.9157,6,    357.9,3,    278.7,2,    11.63,6,    15.65,6,     1.03,6,    3.118,2,    2.277,4,    0.089,4,    3.305,2,   -999.0,9,   2305.8,2,   2.7238
  18HU20090517, AR07W,   146,  1, 351895,      9,2,20090525,0411, 56.1102, -53.1010, 3347,   2322.8,   3.0740,  34.9091,2,  34.9123,2,    354.3,3,    277.9,2,    11.61,6,    15.94,6,     1.05,6,    3.073,2,    0.945,4,    0.044,4,    3.268,2,   -999.0,9,   2304.8,2,   2.8901
  18HU20090517, AR07W,   146,  1, 351896,     10,2,20090525,0411, 56.1102, -53.1010, 3347,   2101.4,   3.2062,  34.9054,2,  34.9080,2,    351.3,3,    277.3,2,    11.26,6,    16.00,6,     1.05,6,    3.251,2,    1.377,4,    0.020,4,    3.428,2,   -999.0,9,   2304.9,2,   3.0412
  18HU20090517, AR07W,   146,  1, 351897,     11,2,20090525,0411, 56.1102, -53.1010, 3347,   1880.9,   3.3285,  34.9019,2,  34.9050,2,    347.7,3,    276.1,2,    11.17,6,    16.63,6,     1.09,6,    3.344,2,    1.298,4,    0.072,4,    3.514,2,   -999.0,9,   2302.2,2,   3.1822
  18HU20090517, AR07W,   146,  1, 351898,     12,2,20090525,0411, 56.1102, -53.1010, 3347,   1641.3,   3.4797,  34.9019,2,  34.9043,2,    344.1,3,    275.3,6,    10.86,6,    16.55,6,     1.08,6,    3.568,2,    2.573,4,    0.071,4,    3.667,2,   -999.0,9,   2304.5,2,   3.3531
  18HU20090517, AR07W,   146,  1, 351899,     13,2,20090525,0411, 56.1102, -53.1010, 3347,   1398.9,   3.5929,  34.8956,2,  34.8978,2,    342.3,3,    275.6,2,    10.27,6,    16.45,6,     1.08,6,    3.914,2,    3.091,4,    0.075,4,    3.947,2,   -999.0,9,   2299.1,2,   3.4863
  18HU20090517, AR07W,   146,  1, 351900,     14,2,20090525,0411, 56.1102, -53.1010, 3347,   1179.6,   3.5351,  34.8694,2,  34.8718,2,    349.7,3,    285.5,2,     9.25,6,    16.07,6,     1.04,6,    4.495,2,    3.336,4,    0.150,2,    4.659,2,   -999.0,9,   2295.7,2,   3.4477
  18HU20090517, AR07W,   146,  1, 351901,     15,2,20090525,0411, 56.1102, -53.1010, 3347,    959.5,   3.5345,  34.8604,2,  34.8630,2,    351.1,3,    287.9,2,     8.92,6,    15.74,6,     1.06,6,    4.575,2,    1.812,4,    0.184,2,    4.857,2,   -999.0,9,   2295.0,2,   3.4651
  18HU20090517, AR07W,   146,  1, 351902,     16,2,20090525,0411, 56.1102, -53.1010, 3347,    760.2,   3.6139,  34.8669,2,  34.8689,2,    347.3,3,    285.5,2,     9.05,6,    15.84,6,     1.03,6,    4.632,2,    1.340,4,    0.148,2,    4.833,2,   -999.0,9,   2298.7,2,   3.5596
  18HU20090517, AR07W,   146,  1, 351903,     17,2,20090525,0411, 56.1102, -53.1010, 3347,    580.8,   3.5462,  34.8504,2,  34.8522,2,    349.5,3,    288.8,2,     8.63,6,    15.60,6,     1.03,6,    4.770,2,    3.012,4,    0.134,2,    5.194,2,   -999.0,9,   2303.0,2,   3.5058
  18HU20090517, AR07W,   146,  1, 351904,     18,2,20090525,0411, 56.1102, -53.1010, 3347,    430.0,   3.4641,  34.8324,2,  34.8343,2,    352.9,3,    293.5,2,     8.39,6,    15.53,6,     1.01,6,    4.859,2,    3.415,4,    0.221,2,    5.429,2,   -999.0,9,   2305.3,2,   3.4350
  18HU20090517, AR07W,   146,  1, 351905,     19,2,20090525,0411, 56.1102, -53.1010, 3347,    309.5,   3.5875,  34.8411,2,-999.0000,9,    348.6,3,    290.0,2,     8.41,6,    15.74,6,     1.04,6,    4.734,2,    2.590,4,    0.195,2,    5.156,2,   -999.0,9,   2299.2,2,   3.5665
  18HU20090517, AR07W,   146,  1, 351906,     20,2,20090525,0411, 56.1102, -53.1010, 3347,    200.7,   3.4538,  34.8177,2,-999.0000,9,    353.7,3,    295.7,2,     8.11,6,    15.28,6,     1.00,6,    4.881,2,    3.313,4,    0.190,2,    5.514,2,   -999.0,9,   2302.4,2,   3.4406
  18HU20090517, AR07W,   146,  1, 351907,     21,2,20090525,0411, 56.1102, -53.1010, 3347,    119.5,   3.3667,  34.7917,2,-999.0000,9,    368.6,3,    312.3,2,     7.77,6,    14.28,6,     0.95,6,    5.212,2,    3.608,4,    0.263,2,    6.264,2,   -999.0,9,   2299.6,2,   3.3590
  18HU20090517, AR07W,   146,  1, 351908,     22,2,20090525,0411, 56.1102, -53.1010, 3347,     50.5,   3.3616,  34.7916,2,-999.0000,9,    369.5,3,    312.4,2,     8.04,6,    14.28,6,     0.95,6,    5.200,2,    3.685,4,    0.279,2,    6.348,2,   -999.0,9,   2299.1,2,   3.3584
  18HU20090517, AR07W,   146,  1, 351909,     23,2,20090525,0411, 56.1102, -53.1010, 3347,     10.9,   3.3559,  34.7917,2,  34.7936,2,    369.3,3,    312.6,2,     7.88,6,    14.08,6,     0.95,6,    5.133,2,    3.491,4,    0.257,2,    6.255,2,   -999.0,9,   2301.1,2,   3.3552
  18HU20090517, AR07W,   146,  1, 351910,     24,2,20090525,0411, 56.1102, -53.1010, 3347,      2.3,   3.3582,  34.7912,2,-999.0000,9,    369.9,3,   -999.0,9,     7.97,6,    14.14,6,     0.97,6,    5.185,2,    3.044,4,    0.289,2,    6.294,2,   -999.0,9,   2299.2,2,   3.3581
  18HU20090517, AR07W,   154,  1, 351911,      1,2,20090525,0933, 55.8445, -53.3950, 3054,   3157.2,   1.7961,  34.8979,2,  34.8998,2,    384.6,3,    305.2,2,    10.32,6,    14.42,6,     0.97,6,    3.868,2,    0.966,4,    0.296,2,    3.140,2,   2157.1,2,   2311.6,2,   1.5562
  18HU20090517, AR07W,   154,  1, 351912,      2,2,20090525,0933, 55.8445, -53.3950, 3054,   3100.5,   1.8190,  34.8983,2,  34.8993,6,    382.6,3,    298.4,2,    10.41,6,    14.41,6,     0.98,6,    3.838,2,    0.761,4,    0.296,2,    3.006,2,   2160.8,2,   2312.8,2,   1.5842
  18HU20090517, AR07W,   154,  1, 351913,      3,2,20090525,0933, 55.8445, -53.3950, 3054,   3020.9,   1.9378,  34.8988,2,  34.9012,2,    379.5,3,    296.1,2,    10.47,6,    14.67,6,     0.99,6,    3.754,2,    0.084,4,    0.300,2,    2.962,2,   2160.5,2,   2306.9,2,   1.7082
  18HU20090517, AR07W,   154,  1, 351914,      4,2,20090525,0933, 55.8445, -53.3950, 3054,   2920.9,   2.1969,  34.9016,2,  34.9035,2,    373.6,3,    290.4,2,    11.35,6,    15.06,6,     1.01,6,    3.414,2,    0.190,4,    0.258,2,    2.767,2,   2158.9,2,   2305.2,2,   1.9715
  18HU20090517, AR07W,   154,  1, 351915,      5,2,20090525,0933, 55.8445, -53.3950, 3054,   2809.6,   2.4572,  34.9077,2,  34.9094,2,    367.2,3,    285.3,6,    12.14,6,    15.57,6,     1.04,6,    3.086,2,    0.313,4,    0.244,2,    2.531,2,   2159.8,2,   2308.5,2,   2.2374
  18HU20090517, AR07W,   154,  1, 351916,      6,2,20090525,0933, 55.8445, -53.3950, 3054,   2691.8,   2.6587,  34.9139,2,  34.9156,6,    362.4,3,    284.0,2,    12.21,6,    15.99,6,     1.06,6,    2.924,2,    0.194,4,    0.231,2,    2.443,2,   2158.5,2,   2307.4,2,   2.4464
  18HU20090517, AR07W,   154,  1, 351917,      7,2,20090525,0933, 55.8445, -53.3950, 3054,   2560.5,   2.7807,  34.9150,2,  34.9174,6,    360.1,3,    286.8,2,    11.77,6,    15.99,6,     1.05,6,    2.968,2, -999.000,9,    0.204,2,    2.368,2,   2159.6,2,   2308.4,2,   2.5790
  18HU20090517, AR07W,   154,  1, 351918,      8,2,20090525,0933, 55.8445, -53.3950, 3054,   2411.0,   2.9171,  34.9143,2,  34.9164,2,    357.2,3,    281.6,2,    11.38,6,    16.12,6,     1.06,6,    3.032,2, -999.000,9,    0.200,2,    2.401,2,   2157.6,2,   2307.9,2,   2.7274
  18HU20090517, AR07W,   154,  1, 351919,      9,2,20090525,0933, 55.8445, -53.3950, 3054,   2231.6,   3.0571,  34.9122,2,  34.9144,2,    354.0,3,    281.4,2,    11.19,6,    16.17,6,     1.05,6,    3.101,2,    0.317,4,    0.245,2,    2.441,2,   2158.6,2,   2312.9,2,   2.8822
  18HU20090517, AR07W,   154,  1, 351920,     10,2,20090525,0933, 55.8445, -53.3950, 3054,   2010.0,   3.2267,  34.9075,2,  34.9091,2,    350.5,3,    280.3,2,    10.89,6,    16.59,6,     1.07,6,    3.217,2,    0.055,4,    0.211,2,    2.561,2,   2158.5,2,   2306.1,2,   3.0699
  18HU20090517, AR07W,   154,  1, 351921,     11,2,20090525,0933, 55.8445, -53.3950, 3054,   1790.7,   3.3810,  34.9035,2,  34.9046,2,    346.4,3,    277.5,2,    11.04,6,    17.14,3,     1.08,6,    3.197,2, -999.000,9,    0.219,2,    2.502,2,   2160.3,2,   2306.0,2,   3.2422
  18HU20090517, AR07W,   154,  1, 351922,     12,2,20090525,0933, 55.8445, -53.3950, 3054,   1600.4,   3.5604,  34.9091,2,  34.9101,2,    343.4,3,    279.6,2,    10.41,6,    16.83,6,     1.07,6,    3.471,2,    0.109,4,    0.261,2,    2.637,2,   2159.6,2,   2303.8,2,   3.4364
  18HU20090517, AR07W,   154,  1, 351923,     13,2,20090525,0933, 55.8445, -53.3950, 3054,   1480.8,   3.6023,  34.9021,2,  34.9038,2,    343.2,3,    288.8,6,    10.16,6,    16.96,6,     1.07,6,    3.668,2,    0.322,4,    0.287,2,    2.830,2,   2159.2,2,   2304.4,2,   3.4884
  18HU20090517, AR07W,   154,  1, 351924,     14,2,20090525,0933, 55.8445, -53.3950, 3054,   1189.0,   3.5398,  34.8674,2,  34.8698,2,    350.9,3,   -999.0,9,     9.13,6,    16.59,6,     1.04,6,    4.282,2,    1.021,4,    0.372,2,    3.373,2,   2157.6,2,   2299.2,2,   3.4516
  18HU20090517, AR07W,   154,  1, 351925,     15,2,20090525,0933, 55.8445, -53.3950, 3054,    889.9,   3.3836,  34.8318,2,  34.8334,2,    358.5,3,    302.9,2,     8.23,6,    15.81,6,     1.00,6,    4.577,2,    1.267,4,    0.412,2,    3.824,2,   2152.9,2,   2299.8,2,   3.3208
  18HU20090517, AR07W,   154,  1, 351926,     16,2,20090525,0933, 55.8445, -53.3950, 3054,    740.8,   3.4001,  34.8324,2,  34.8340,2,    357.5,3,    305.8,2,     8.24,6,    15.92,6,     1.00,6,    4.595,2,    1.209,4,    0.407,2,    3.876,2,   2152.1,2,   2298.8,2,   3.3486
  18HU20090517, AR07W,   154,  1, 351927,     17,2,20090525,0933, 55.8445, -53.3950, 3054,    549.9,   3.4179,  34.8303,2,  34.8318,2,    356.8,3,    300.6,2,     8.27,6,    15.73,6,     0.99,6,    4.631,2,    1.041,4,    0.446,2,    3.862,2,   2151.1,2,   2301.2,2,   3.3804
  18HU20090517, AR07W,   154,  1, 351928,     18,2,20090525,0933, 55.8445, -53.3950, 3054,    399.0,   3.3656,  34.8181,2,  34.8200,2,    356.7,3,    300.9,2,     8.22,6,    15.84,6,     0.99,6,    4.631,2,    1.084,4,    0.406,2,    3.968,2,   2154.0,2,   2297.5,2,   3.3390
  18HU20090517, AR07W,   154,  1, 351929,     19,2,20090525,0933, 55.8445, -53.3950, 3054,    289.4,   3.3848,  34.8121,2,  34.8134,2,    361.3,3,    306.1,2,     8.04,6,    15.49,6,     0.96,6,    4.716,2,    1.587,4,    0.425,2,    4.165,2,   2150.4,2,   2297.8,2,   3.3657
  18HU20090517, AR07W,   154,  1, 351930,     20,2,20090525,0933, 55.8445, -53.3950, 3054,    179.3,   3.4892,  34.7896,2,-999.0000,9,    367.2,3,    315.3,2,     7.55,6,    13.80,6,     0.89,6,    4.825,2,    1.467,4,    0.455,2,    4.324,2,   2147.2,2,   2294.0,2,   3.4774
  18HU20090517, AR07W,   154,  1, 351931,     21,2,20090525,0933, 55.8445, -53.3950, 3054,    109.7,   3.4888,  34.7781,2,-999.0000,9,    371.4,3,    317.7,2,     7.17,6,    13.49,6,     0.87,6,    4.842,2,    1.579,4,    0.459,2,    4.314,2,   2145.8,2,   2296.6,2,   3.4816
  18HU20090517, AR07W,   154,  1, 351932,     22,2,20090525,0933, 55.8445, -53.3950, 3054,     49.9,   3.4809,  34.7744,2,-999.0000,9,    372.0,3,    321.1,2,     7.09,6,    13.38,6,     0.87,6,    4.866,2,    1.598,4,    0.463,2,    4.348,2,   2142.4,2,   2295.9,2,   3.4777
  18HU20090517, AR07W,   154,  1, 351933,     23,2,20090525,0933, 55.8445, -53.3950, 3054,     10.0,   3.5840,  34.7544,2,  34.7583,2,    373.3,3,    320.9,2,     6.80,6,    12.88,6,     0.83,6,    4.848,2,    1.064,4,    0.448,2,    4.292,2,   2139.5,2,   2300.3,2,   3.5833
  18HU20090517, AR07W,   154,  1, 351934,     24,2,20090525,0933, 55.8445, -53.3950, 3054,      1.3,   3.5780,  34.7553,2,-999.0000,9,    374.2,3,   -999.0,9,     6.77,6,    12.97,6,     0.83,6,    4.862,2,    1.620,4,    0.447,2,    4.337,2,   -999.0,9,   -999.0,9,   3.5779
  18HU20090517, AR07W,   162,  1, 351935,      1,2,20090525,1340, 55.6108, -53.6315, 3290,    201.8,   3.5961,  34.8075,2,-999.0000,9,    367.7,3,    309.8,6,     7.67,6,    14.44,6,     0.92,6, -999.000,9, -999.000,9, -999.000,9, -999.000,9,   -999.0,9,   -999.0,9,   3.5826
  18HU20090517, AR07W,   162,  1, 351936,      2,2,20090525,1340, 55.6108, -53.6315, 3290,    153.3,   3.8032,  34.8241,2,-999.0000,9,    358.6,3,    302.3,2,     7.83,6,    14.98,6,     0.95,6, -999.000,9, -999.000,9, -999.000,9, -999.000,9,   -999.0,9,   -999.0,9,   3.7927
  18HU20090517, AR07W,   162,  1, 351937,      3,2,20090525,1340, 55.6108, -53.6315, 3290,    101.7,   3.7529,  34.7883,2,-999.0000,9,    361.0,3,    302.3,2,     7.50,6,    14.49,6,     0.91,6, -999.000,9, -999.000,9, -999.000,9, -999.000,9,   -999.0,9,   -999.0,9,   3.7461
  18HU20090517, AR07W,   162,  1, 351938,      4,2,20090525,1340, 55.6108, -53.6315, 3290,     79.0,   3.6991,  34.7712,2,-999.0000,9,    364.3,3,    308.7,2,     7.38,6,    14.26,6,     0.90,6, -999.000,9, -999.000,9, -999.000,9, -999.000,9,   -999.0,9,   -999.0,9,   3.6938
  18HU20090517, AR07W,   162,  1, 351939,      5,2,20090525,1340, 55.6108, -53.6315, 3290,     61.3,   3.6571,  34.7612,2,-999.0000,9,    366.2,3,    310.4,2,     7.27,6,    14.02,6,     0.88,6, -999.000,9, -999.000,9, -999.000,9, -999.000,9,   -999.0,9,   -999.0,9,   3.6530
  18HU20090517, AR07W,   162,  1, 351940,      6,2,20090525,1340, 55.6108, -53.6315, 3290,     51.7,   3.6604,  34.7606,2,-999.0000,9,    365.8,3,    310.6,2,     7.30,6,    14.11,6,     0.88,6, -999.000,9, -999.000,9, -999.000,9, -999.000,9,   -999.0,9,   -999.0,9,   3.6570
  18HU20090517, AR07W,   162,  1, 351941,      7,2,20090525,1340, 55.6108, -53.6315, 3290,     39.7,   3.5951,  34.7390,2,-999.0000,9,    366.1,3,    311.6,2,     7.43,6,    13.93,6,     0.88,6, -999.000,9, -999.000,9, -999.000,9, -999.000,9,   -999.0,9,   -999.0,9,   3.5925
  18HU20090517, AR07W,   162,  1, 351942,      8,2,20090525,1340, 55.6108, -53.6315, 3290,     29.7,   3.5576,  34.7277,2,-999.0000,9,    367.2,3,   -999.0,9,     7.18,6,    13.81,6,     0.87,6, -999.000,9, -999.000,9, -999.000,9, -999.000,9,   -999.0,9,   -999.0,9,   3.5557
  18HU20090517, AR07W,   162,  1, 351943,      9,2,20090525,1340, 55.6108, -53.6315, 3290,     30.3,   3.5496,  34.7262,2,-999.0000,9,    367.4,3,   -999.0,9,  -999.00,9,  -999.00,9,  -999.00,9, -999.000,9, -999.000,9, -999.000,9, -999.000,9,   -999.0,9,   -999.0,9,   3.5476
  18HU20090517, AR07W,   162,  1, 351944,     10,2,20090525,1340, 55.6108, -53.6315, 3290,     20.0,   3.4881,  34.7105,2,-999.0000,9,    368.5,3,    314.6,2,     7.18,6,    13.65,6,     0.86,6, -999.000,9, -999.000,9, -999.000,9, -999.000,9,   -999.0,9,   -999.0,9,   3.4868
  18HU20090517, AR07W,   162,  1, 351945,     11,2,20090525,1340, 55.6108, -53.6315, 3290,     10.1,   3.3634,  34.6670,2,-999.0000,9,    368.4,3,    313.1,2,     7.22,6,    13.55,6,     0.87,6, -999.000,9, -999.000,9, -999.000,9, -999.000,9,   -999.0,9,   -999.0,9,   3.3628
  18HU20090517, AR07W,   162,  1, 351946,     12,2,20090525,1340, 55.6108, -53.6315, 3290,      2.5,   3.3519,  34.6568,2,-999.0000,9,    367.9,3,    312.7,2,     7.17,6,    13.58,6,     0.87,6, -999.000,9, -999.000,9, -999.000,9, -999.000,9,   -999.0,9,   -999.0,9,   3.3517
  18HU20090517, AR07W,   162,  1, 351947,     13,2,20090525,1340, 55.6108, -53.6315, 3290,      2.6,   3.3632,  34.6573,2,-999.0000,9,    368.1,3,   -999.0,9,  -999.00,9,  -999.00,9,  -999.00,9, -999.000,9, -999.000,9, -999.000,9, -999.000,9,   -999.0,9,   -999.0,9,   3.3630