BOTTLE,20130611PRINUNIVRMK
EXPOCODE,SECT_ID,STNNBR,CASTNO,SAMPNO,BTLNBR,BTLNBR_FLAG_W,DATE,TIME,LATITUDE,LONGITUDE,DEPTH,CTDPRS,CTDTMP,CTDSAL,CTDSAL_FLAG_W,SALNTY,SALNTY_FLAG_W,CTDOXY,CTDOXY_FLAG_W,OXYGEN,OXYGEN_FLAG_W,SILCAT,SILCAT_FLAG_W,NITRAT,NITRAT_FLAG_W,PHSPHT,PHSPHT_FLAG_W,CFC-11,CFC-11_FLAG_W,CFC-12,CFC-12_FLAG_W,CFC113,CFC113_FLAG_W,CCL4,CCL4_FLAG_W,TCARBN,TCARBN_FLAG_W,ALKALI,ALKALI_FLAG_W,THETA
,,,,,,,,,,,METERS,DBAR,ITS-90,PSS-78,,PSS-78,,UMOL/KG,,UMOL/KG,,UMOL/KG,,UMOL/KG,,UMOL/KG,,PMOL/KG,,PMOL/KG,,PMOL/KG,,PMOL/KG,,UMOL/KG,,UMOL/KG,,DEG C
  18HU20090517, AR07W,    83,  1, 351717,      1,2,20090522,2115, 58.6400, -50.4165, 3540,   3572.2,   1.6510,  34.8959,2,  34.8981,2,    392.8,3,    295.9,2,     9.69,6,    14.13,6,     0.90,6, -999.000,9, -999.000,9, -999.000,9, -999.000,9,   2166.2,2,   2308.3,2,   1.3723
  18HU20090517, AR07W,    83,  1, 351718,      2,2,20090522,2115, 58.6400, -50.4165, 3540,   3519.1,   1.7044,  34.8965,2,  34.8989,2,    390.4,3,    294.8,2,     9.73,6,    14.12,6,     0.90,6, -999.000,9, -999.000,9, -999.000,9, -999.000,9,   2165.3,2,   2308.9,2,   1.4299
  18HU20090517, AR07W,    83,  1, 351719,      3,2,20090522,2115, 58.6400, -50.4165, 3540,   3429.6,   1.9040,  34.8978,2,  34.9005,2,    385.8,3,    291.7,2,    10.04,6,    14.35,6,     0.91,6, -999.000,9, -999.000,9, -999.000,9, -999.000,9,   2162.9,2,   2307.3,2,   1.6338
  18HU20090517, AR07W,    83,  1, 351720,      4,2,20090522,2115, 58.6400, -50.4165, 3540,   3319.7,   2.1698,  34.8988,2,  34.9016,2,    378.6,3,    287.0,2,    11.52,6,    14.94,6,     0.94,6, -999.000,9, -999.000,9, -999.000,9, -999.000,9,   2164.6,2,   2305.9,2,   1.9046
  18HU20090517, AR07W,    83,  1, 351721,      5,2,20090522,2115, 58.6400, -50.4165, 3540,   3199.4,   2.3743,  34.9027,2,  34.9060,2,    371.3,3,    282.0,6,    13.17,6,    15.60,6,     0.97,6, -999.000,9, -999.000,9, -999.000,9, -999.000,9,   2163.1,2,   2314.5,2,   2.1168
  18HU20090517, AR07W,    83,  1, 351722,      6,2,20090522,2115, 58.6400, -50.4165, 3540,   3059.6,   2.5552,  34.9098,2,  34.9126,6,    366.0,3,    279.3,2,    13.49,6,    15.80,6,     1.00,6, -999.000,9, -999.000,9, -999.000,9, -999.000,9,   2165.0,2,   2307.6,2,   2.3080
  18HU20090517, AR07W,    83,  1, 351723,      7,2,20090522,2115, 58.6400, -50.4165, 3540,   2901.4,   2.7341,  34.9170,2,  34.9203,2,    361.8,3,    277.8,2,    13.12,6,    15.85,6,     1.01,6, -999.000,9, -999.000,9, -999.000,9, -999.000,9,   2163.5,2,   2306.1,2,   2.4992
  18HU20090517, AR07W,    83,  1, 351724,      8,2,20090522,2115, 58.6400, -50.4165, 3540,   2709.7,   2.8713,  34.9159,2,  34.9177,2,    358.9,3,    277.3,2,    12.42,6,    15.85,6,     1.01,6, -999.000,9, -999.000,9, -999.000,9, -999.000,9,   2162.7,2,   2302.9,2,   2.6531
  18HU20090517, AR07W,    83,  1, 351725,      9,2,20090522,2115, 58.6400, -50.4165, 3540,   2500.9,   3.0256,  34.9105,2,  34.9126,2,    355.9,3,    277.2,2,    11.77,6,    16.03,6,     1.02,6, -999.000,9, -999.000,9, -999.000,9, -999.000,9,   2161.0,2,   2302.8,2,   2.8252
  18HU20090517, AR07W,    83,  1, 351726,     10,2,20090522,2115, 58.6400, -50.4165, 3540,   2271.3,   3.1610,  34.9061,2,  34.9083,6,    353.2,3,    277.4,2,    11.29,6,    16.08,6,     1.04,6, -999.000,9, -999.000,9, -999.000,9, -999.000,9,   2163.0,2,   2306.2,2,   2.9806
  18HU20090517, AR07W,    83,  1, 351727,     11,2,20090522,2115, 58.6400, -50.4165, 3540,   2019.4,   3.3140,  34.9030,2,  34.9059,2,    349.4,3,    277.6,2,    11.08,6,    16.47,6,     1.06,2, -999.000,9, -999.000,9, -999.000,9, -999.000,9,   2163.4,2,   2307.6,2,   3.1550
  18HU20090517, AR07W,    83,  1, 351728,     12,2,20090522,2115, 58.6400, -50.4165, 3540,   1771.9,   3.4868,  34.9046,2,  34.9069,2,    344.6,3,    274.8,2,    10.69,6,    16.47,6,     1.04,6, -999.000,9, -999.000,9, -999.000,9, -999.000,9,   2164.0,2,   2306.2,2,   3.3483
  18HU20090517, AR07W,    83,  1, 351729,     13,2,20090522,2115, 58.6400, -50.4165, 3540,   1531.5,   3.5769,  34.8932,2,  34.8951,2,    344.8,3,    277.2,2,    10.03,6,    16.43,6,     1.03,6, -999.000,9, -999.000,9, -999.000,9, -999.000,9,   2164.4,2,   2306.2,2,   3.4589
  18HU20090517, AR07W,    83,  1, 351730,     14,2,20090522,2115, 58.6400, -50.4165, 3540,   1288.8,   3.5033,  34.8669,2,  34.8685,2,    351.9,3,    287.0,2,     8.95,6,    15.88,6,     1.02,6, -999.000,9, -999.000,9, -999.000,9, -999.000,9,   2162.1,2,   2306.6,2,   3.4071
  18HU20090517, AR07W,    83,  1, 351731,     15,2,20090522,2115, 58.6400, -50.4165, 3540,   1070.9,   3.5044,  34.8583,2,  34.8599,2,    353.1,3,    290.0,2,     8.57,6,    15.78,6,     1.00,6, -999.000,9, -999.000,9, -999.000,9, -999.000,9,   2160.2,2,   2304.8,2,   3.4262
  18HU20090517, AR07W,    83,  1, 351732,     16,2,20090522,2115, 58.6400, -50.4165, 3540,    870.6,   3.5227,  34.8555,2,  34.8569,2,    352.2,3,    290.2,2,     8.43,6,    15.85,6,     1.00,6, -999.000,9, -999.000,9, -999.000,9, -999.000,9,   2160.5,2,   2307.6,2,   3.4604
  18HU20090517, AR07W,    83,  1, 351733,     17,2,20090522,2115, 58.6400, -50.4165, 3540,    679.6,   3.4575,  34.8400,2,  34.8420,2,    354.9,3,    294.3,2,     8.02,6,    15.43,6,     0.97,6, -999.000,9, -999.000,9, -999.000,9, -999.000,9,   2162.9,2,   2306.2,2,   3.4102
  18HU20090517, AR07W,    83,  1, 351734,     18,2,20090522,2115, 58.6400, -50.4165, 3540,    510.1,   3.4693,  34.8381,2,-999.0000,9,    354.6,3,   -999.0,9,  -999.00,9,  -999.00,9,  -999.00,9, -999.000,9, -999.000,9, -999.000,9, -999.000,9,   -999.0,9,   -999.0,9,   3.4344
  18HU20090517, AR07W,    83,  1, 351735,     19,2,20090522,2115, 58.6400, -50.4165, 3540,    361.8,   3.6034,  34.8505,2,  34.8526,2,    352.3,3,    293.9,2,     7.89,6,    15.51,6,     0.97,6, -999.000,9, -999.000,9, -999.000,9, -999.000,9,   2160.0,2,   2305.7,2,   3.5787
  18HU20090517, AR07W,    83,  1, 351736,     20,2,20090522,2115, 58.6400, -50.4165, 3540,    239.9,   3.5888,  34.8304,2,  34.8321,2,    361.6,3,    304.2,2,     7.35,6,    14.44,6,     0.94,6, -999.000,9, -999.000,9, -999.000,9, -999.000,9,   2153.6,2,   2301.3,2,   3.5727
  18HU20090517, AR07W,    83,  1, 351737,     21,2,20090522,2115, 58.6400, -50.4165, 3540,    139.6,   3.4870,  34.8114,2,-999.0000,9,    369.8,3,    313.0,2,     7.12,6,    13.70,6,     0.90,6, -999.000,9, -999.000,9, -999.000,9, -999.000,9,   2150.9,2,   2304.0,2,   3.4779
  18HU20090517, AR07W,    83,  1, 351738,     22,2,20090522,2115, 58.6400, -50.4165, 3540,     71.1,   3.5908,  34.7948,2,-999.0000,9,    377.0,3,    319.8,2,     6.99,6,    12.55,6,     0.85,6, -999.000,9, -999.000,9, -999.000,9, -999.000,9,   2143.4,2,   2299.8,2,   3.5861
  18HU20090517, AR07W,    83,  1, 351739,     23,2,20090522,2115, 58.6400, -50.4165, 3540,     35.7,   3.6255,  34.7819,2,  34.7845,2,    384.7,3,    328.9,2,     6.73,6,    11.17,6,     0.76,6, -999.000,9, -999.000,9, -999.000,9, -999.000,9,   2134.1,2,   2294.2,2,   3.6232
  18HU20090517, AR07W,    83,  1, 351740,     24,2,20090522,2115, 58.6400, -50.4165, 3540,      2.7,   3.7269,  34.7835,2,-999.0000,9,    385.1,3,    329.2,2,     6.71,6,    11.02,6,     0.76,6, -999.000,9, -999.000,9, -999.000,9, -999.000,9,   2133.0,2,   2300.0,2,   3.7267
  18HU20090517, AR07W,    94,  1, 351741,      1,2,20090523,0300, 58.2158, -50.8797, 3566,   3598.5,   1.6558,  34.8961,2,  34.8962,2,    393.2,3,    317.5,3,     9.69,6,    14.01,6,     0.90,6,    3.956,2,    2.566,4,    0.294,2,    3.530,2,   2161.5,2,   2305.0,2,   1.3742
  18HU20090517, AR07W,    94,  1, 351742,      2,2,20090523,0300, 58.2158, -50.8797, 3566,   3521.3,   1.7598,  34.8972,2,  34.8990,2,    389.7,3,    296.3,2,     9.56,6,    14.08,6,     0.91,6,    3.930,2,    2.358,4,    0.313,2,    3.576,2,   2160.4,2,   2307.2,2,   1.4836
  18HU20090517, AR07W,    94,  1, 351743,      3,2,20090523,0300, 58.2158, -50.8797, 3566,   3431.7,   1.9749,  34.8973,2,  34.8989,2,    384.7,3,    292.4,2,    10.11,6,    14.37,6,     0.92,6,    3.732,2,    2.813,4,    0.291,2,    3.306,2,   2160.1,2,   2306.0,2,   1.7027
  18HU20090517, AR07W,    94,  1, 351744,      4,2,20090523,0300, 58.2158, -50.8797, 3566,   3319.9,   2.2285,  34.8999,2,  34.9019,2,    377.3,3,    288.0,2,    11.68,6,    15.07,6,     0.95,6,    3.272,2,    1.902,4,    0.288,2,    2.889,2,   2159.0,2,   2305.0,2,   1.9619
  18HU20090517, AR07W,    94,  1, 351745,      5,2,20090523,0300, 58.2158, -50.8797, 3566,   3201.3,   2.4177,  34.9049,2,  34.9060,2,    371.1,3,    283.3,2,    12.88,6,    15.60,6,     0.98,6,    2.974,2,    1.614,4,    0.215,2,    2.737,2,   2157.2,2,   2309.4,2,   2.1590
  18HU20090517, AR07W,    94,  1, 351746,      6,2,20090523,0300, 58.2158, -50.8797, 3566,   3061.0,   2.5962,  34.9116,2,  34.9129,2,    366.3,3,    281.4,2,    12.77,6,    15.68,6,     0.99,6,    2.873,2,    1.861,4,    0.234,2,    2.689,2,   2156.7,2,   2308.1,2,   2.3480
  18HU20090517, AR07W,    94,  1, 351747,      7,2,20090523,0300, 58.2158, -50.8797, 3566,   2899.7,   2.7648,  34.9160,2,  34.9176,2,    362.6,3,    279.9,6,    12.21,6,    15.82,6,     0.99,6,    2.872,2,    2.051,4,    0.227,2,    2.588,2,   2157.0,2,   2307.6,2,   2.5295
  18HU20090517, AR07W,    94,  1, 351748,      8,2,20090523,0300, 58.2158, -50.8797, 3566,   2710.3,   2.9149,  34.9141,2,  34.9162,2,    359.5,3,    279.3,2,    11.76,6,    15.95,6,     1.00,6,    2.871,2,    1.049,4,    0.225,2,    2.471,2,   2156.9,2,   2304.4,2,   2.6957
  18HU20090517, AR07W,    94,  1, 351749,      9,2,20090523,0300, 58.2158, -50.8797, 3566,   2501.1,   3.0597,  34.9113,2,  34.9133,2,    356.4,3,    279.4,2,    11.32,6,    16.09,6,     1.01,6,    3.011,2,    1.631,4,    0.237,2,    2.657,2,   2154.2,2,   2308.9,2,   2.8586
  18HU20090517, AR07W,    94,  1, 351750,     10,2,20090523,0300, 58.2158, -50.8797, 3566,   2271.2,   3.2191,  34.9067,2,  34.9078,2,    353.1,3,    279.4,2,    10.94,6,    16.32,6,     1.02,6,    3.170,2,    2.098,4,    0.253,2,    2.910,2,   2155.3,2,   2305.3,2,   3.0377
  18HU20090517, AR07W,    94,  1, 351751,     11,2,20090523,0300, 58.2158, -50.8797, 3566,   2021.3,   3.3995,  34.9115,2,  34.9135,2,    348.9,3,    278.7,2,    10.52,6,    16.38,6,     1.03,6,    3.341,2,    1.930,4,    0.244,2,    2.767,2,   2158.1,2,   2303.8,2,   3.2390
  18HU20090517, AR07W,    94,  1, 351752,     12,2,20090523,0300, 58.2158, -50.8797, 3566,   1770.1,   3.5931,  34.9079,2,  34.9097,2,    344.3,3,    277.0,2,    10.25,6,    16.78,6,     1.03,6,    3.509,2,    1.396,4,    0.312,2,    2.879,2,   2158.4,2,   2309.2,2,   3.4533
  18HU20090517, AR07W,    94,  1, 351753,     13,2,20090523,0300, 58.2158, -50.8797, 3566,   1532.6,   3.5347,  34.8755,2,  34.8776,2,    353.1,3,    290.8,2,     9.11,6,    16.30,6,     1.01,6,    4.150,2,    2.093,4,    0.353,2,    3.608,2,   2155.9,2,   2307.3,2,   3.4171
  18HU20090517, AR07W,    94,  1, 351754,     14,2,20090523,0300, 58.2158, -50.8797, 3566,   1291.2,   3.5023,  34.8616,2,  34.8635,2,    355.0,3,    291.4,2,     8.72,6,    16.05,6,     1.00,6,    4.453,2,    3.027,4,    0.382,2,    3.974,2,   2155.5,2,   2301.1,2,   3.4059
  18HU20090517, AR07W,    94,  1, 351755,     15,2,20090523,0300, 58.2158, -50.8797, 3566,   1070.6,   3.5126,  34.8563,2,  34.8576,2,    354.4,3,    292.9,2,     8.55,6,    15.96,6,     1.00,6,    4.534,2,    3.292,4,    0.386,2,    4.099,2,   2154.5,2,   2305.2,2,   3.4344
  18HU20090517, AR07W,    94,  1, 351756,     16,2,20090523,0300, 58.2158, -50.8797, 3566,    870.3,   3.5267,  34.8522,2,  34.8534,2,    353.1,3,    292.1,2,     8.34,6,    15.87,6,     0.99,6,    4.558,2,    2.598,4,    0.386,2,    4.155,2,   2156.8,2,   2303.5,2,   3.4644
  18HU20090517, AR07W,    94,  1, 351757,     17,2,20090523,0300, 58.2158, -50.8797, 3566,    680.6,   3.5170,  34.8435,2,  34.8450,2,    354.6,3,    298.0,2,     8.12,6,    15.53,6,     0.98,6,    4.572,2,    2.782,4,    0.412,2,    4.210,2,   2152.8,2,   2305.9,2,   3.4693
  18HU20090517, AR07W,    94,  1, 351758,     18,2,20090523,0300, 58.2158, -50.8797, 3566,    512.6,   3.9185,  34.8896,2,-999.0000,9,    348.6,3,   -999.0,9,  -999.00,9,  -999.00,9,  -999.00,9, -999.000,9, -999.000,9, -999.000,9, -999.000,9,   -999.0,9,   -999.0,9,   3.8816
  18HU20090517, AR07W,    94,  1, 351759,     19,2,20090523,0300, 58.2158, -50.8797, 3566,    361.3,   3.8329,  34.8649,2,  34.8664,2,    353.9,3,    297.5,2,     7.68,6,    15.28,6,     0.96,6,    4.578,2,    3.281,4,    0.407,2,    4.359,2,   2152.5,2,   2314.6,3,   3.8076
  18HU20090517, AR07W,    94,  1, 351760,     20,2,20090523,0300, 58.2158, -50.8797, 3566,    240.5,   3.9182,  34.8637,2,-999.0000,9,    353.2,3,    299.3,6,     7.52,6,    15.14,6,     0.95,6,    4.534,2,    2.534,4,    0.405,2,    4.321,2,   2153.7,2,   2298.7,2,   3.9014
  18HU20090517, AR07W,    94,  1, 351761,     21,2,20090523,0300, 58.2158, -50.8797, 3566,    140.4,   3.8602,  34.8353,2,-999.0000,9,    354.5,3,   -999.0,9,     7.26,6,    14.66,6,     0.93,6,    4.590,2,    2.775,4,    0.418,2,    4.423,2,   2153.0,2,   2298.0,2,   3.8506
  18HU20090517, AR07W,    94,  1, 351762,     22,2,20090523,0300, 58.2158, -50.8797, 3566,     71.2,   3.2944,  34.7188,2,-999.0000,9,    382.5,3,    328.2,2,     6.12,6,    10.19,6,     0.74,6,    5.049,2,    3.688,4,    0.450,2,    5.215,2,   2130.4,2,   2299.4,2,   3.2899
  18HU20090517, AR07W,    94,  1, 351763,     23,2,20090523,0300, 58.2158, -50.8797, 3566,     35.7,   3.4327,  34.7118,2,  34.7136,2,    388.3,3,    333.8,2,     6.10,6,     9.63,6,     0.71,6,    5.081,2,    3.375,4,    0.466,2,    5.309,2,   2122.4,2,   2298.0,2,   3.4304
  18HU20090517, AR07W,    94,  1, 351764,     24,2,20090523,0300, 58.2158, -50.8797, 3566,      3.1,   3.4383,  34.7123,2,  34.7130,2,    388.0,3,    333.4,2,     6.08,6,     9.54,6,     0.70,6,    5.040,2,    2.976,4,    0.458,2,    5.251,2,   2120.2,2,   2298.0,2,   3.4381