BOTTLE,20130611PRINUNIVRMK
# 2/23/12 Initialized README file  
# Data source: Jeff Jackson & Kumiko Azertu-Scott; 2/14/2012 
# SHIP: CCGS Hudson 
# Cruise: HUD2009015 
# Region: Labrador Sea and off Halifax; AR07W 
# 	Southern end of Labrador Sea section inaccessible due to ice cover 
# EXPOCODE: 18HU20090517 
# DATES: 5/17 - 6/1/2009 
# Chief Scientist: Ross Hendry 
# 40 stations with 24 place Rosette 
# Hydro: Who - I.Yasha;yaev; Status - final 
# 	Notes: Salt calibration with IAPSO Batch P149 & P150 
# 	Calibration check: 
# 	Bottle Salinity = 1.00191*CTDSAL - 0.064136; RSE=0.0043 
# Nuts: Who - K.Azetsu-Scott; Status - final 
# 	Notes: Nitrate is NO3+NO2 
# 	Nutrients run in duplicate 
# O2: Who - K.Azetsu-Scott; Status - final 
# 	Notes: CTDOXY values not yet calibrated; flag all 3 
# 	Oxygen precision +/-2.5umol/kg 
# 	Erratic blank values throughout cruise 
# TCO2: Who - K.Azetsu-Scott; Status - final 
# 	Notes:  
# TA: Who - K.Azetsu-Scott; Status - final 
# 	Notes: significant scatter 
# CFC: Who - K.Azetsu-Scott; Status - final 
# 	Notes: includes CFC-113 and CCl4 
# 	All CFC-12 flagged 3/4 
# Other:	C1-C9 aldehydes and keytones 
# 	I-129 
# 	O3 and NOx in air 
# 	O-18 
# References: 
EXPOCODE,SECT_ID,STNNBR,CASTNO,SAMPNO,BTLNBR,BTLNBR_FLAG_W,DATE,TIME,LATITUDE,LONGITUDE,DEPTH,CTDPRS,CTDTMP,CTDSAL,CTDSAL_FLAG_W,SALNTY,SALNTY_FLAG_W,CTDOXY,CTDOXY_FLAG_W,OXYGEN,OXYGEN_FLAG_W,SILCAT,SILCAT_FLAG_W,NITRAT,NITRAT_FLAG_W,PHSPHT,PHSPHT_FLAG_W,CFC-11,CFC-11_FLAG_W,CFC-12,CFC-12_FLAG_W,CFC113,CFC113_FLAG_W,CCL4,CCL4_FLAG_W,TCARBN,TCARBN_FLAG_W,ALKALI,ALKALI_FLAG_W,THETA
,,,,,,,,,,,METERS,DBAR,ITS-90,PSS-78,,PSS-78,,UMOL/KG,,UMOL/KG,,UMOL/KG,,UMOL/KG,,UMOL/KG,,PMOL/KG,,PMOL/KG,,PMOL/KG,,PMOL/KG,,UMOL/KG,,UMOL/KG,,DEG C
  18HU20090517, AR07W,     3,  1, 351467,      1,2,20090517,1435, 47.5500, -52.5893,  178,    167.6,  -1.0863,  33.0127,2,-999.0000,9,    382.1,3,    318.3,6,    11.56,6,     9.08,6,     0.98,6, -999.000,9, -999.000,9, -999.000,9, -999.000,9,   -999.0,9,   -999.0,9,  -1.0904
  18HU20090517, AR07W,     3,  1, 351468,      2,2,20090517,1435, 47.5500, -52.5893,  178,    150.1,  -1.2274,  32.9653,2,-999.0000,9,    392.1,3,   -999.0,9,     9.78,6,     8.67,6,     0.96,6, -999.000,9, -999.000,9, -999.000,9, -999.000,9,   -999.0,9,   -999.0,9,  -1.2308
  18HU20090517, AR07W,     3,  1, 351469,      3,2,20090517,1435, 47.5500, -52.5893,  178,    101.1,  -1.5123,  32.7561,2,-999.0000,9,    409.0,3,   -999.0,9,     5.10,6,     7.21,6,     0.86,6, -999.000,9, -999.000,9, -999.000,9, -999.000,9,   -999.0,9,   -999.0,9,  -1.5143
  18HU20090517, AR07W,     3,  1, 351470,      4,2,20090517,1435, 47.5500, -52.5893,  178,     75.5,  -1.4745,  32.6418,2,-999.0000,9,    417.5,3,   -999.0,9,     1.21,6,     5.50,6,     0.77,6, -999.000,9, -999.000,9, -999.000,9, -999.000,9,   -999.0,9,   -999.0,9,  -1.4760
  18HU20090517, AR07W,     3,  1, 351471,      5,2,20090517,1435, 47.5500, -52.5893,  178,     48.9,  -1.0472,  32.4568,2,  32.4360,6,    431.4,3,   -999.0,9,     0.17,6,     2.51,6,     0.58,6, -999.000,9, -999.000,9, -999.000,9, -999.000,9,   -999.0,9,   -999.0,9,  -1.0483
  18HU20090517, AR07W,     3,  1, 351472,      6,2,20090517,1435, 47.5500, -52.5893,  178,     39.8,   0.4465,  32.2839,2,-999.0000,9,    437.9,3,   -999.0,9,     0.00,6,     0.22,6,     0.38,6, -999.000,9, -999.000,9, -999.000,9, -999.000,9,   -999.0,9,   -999.0,9,   0.4451
  18HU20090517, AR07W,     3,  1, 351473,      7,2,20090517,1435, 47.5500, -52.5893,  178,     29.7,   1.6690,  32.1204,2,-999.0000,9,    426.6,3,   -999.0,9,     0.08,6,     0.00,6,     0.34,6, -999.000,9, -999.000,9, -999.000,9, -999.000,9,   -999.0,9,   -999.0,9,   1.6677
  18HU20090517, AR07W,     3,  1, 351474,      8,2,20090517,1435, 47.5500, -52.5893,  178,     20.4,   1.7815,  32.0865,2,-999.0000,9,    425.6,3,   -999.0,9,     0.00,6,     0.00,6,     0.33,6, -999.000,9, -999.000,9, -999.000,9, -999.000,9,   -999.0,9,   -999.0,9,   1.7806
  18HU20090517, AR07W,     3,  1, 351475,      9,2,20090517,1435, 47.5500, -52.5893,  178,     10.2,   1.9399,  32.0691,2,-999.0000,9,    423.9,3,   -999.0,9,     0.00,6,     0.00,6,     0.30,6, -999.000,9, -999.000,9, -999.000,9, -999.000,9,   -999.0,9,   -999.0,9,   1.9394
  18HU20090517, AR07W,     3,  1, 351476,     10,2,20090517,1435, 47.5500, -52.5893,  178,      5.5,   2.1979,  32.0593,2,-999.0000,9,    422.0,3,    364.6,6,     0.00,6,     0.00,6,     0.30,6, -999.000,9, -999.000,9, -999.000,9, -999.000,9,   -999.0,9,   -999.0,9,   2.1976
  18HU20090517, AR07W,     8,  1, 351477,      1,2,20090518,1427, 50.6587, -50.6573,  372,    199.9,   2.6751,  34.5663,2,  34.5634,6,    368.9,3,   -999.0,9,  -999.00,9,  -999.00,9,  -999.00,9, -999.000,9, -999.000,9, -999.000,9, -999.000,9,   -999.0,9,   -999.0,9,   2.6633
  18HU20090517, AR07W,     8,  1, 351478,      2,2,20090518,1427, 50.6587, -50.6573,  372,    199.9,   2.6761,  34.5666,2,  34.5643,6,    368.8,3,    290.8,6,     8.08,6,    13.37,6,     0.90,6, -999.000,9, -999.000,9, -999.000,9, -999.000,9,   -999.0,9,   -999.0,9,   2.6643
  18HU20090517, AR07W,     8,  1, 351479,      3,2,20090518,1427, 50.6587, -50.6573,  372,    150.9,   2.8362,  34.5186,2,-999.0000,9,    338.4,3,    252.5,4,    12.16,3,    14.83,6,     1.03,6, -999.000,9, -999.000,9, -999.000,9, -999.000,9,   -999.0,9,   -999.0,9,   2.8272
  18HU20090517, AR07W,     8,  1, 351480,      4,2,20090518,1427, 50.6587, -50.6573,  372,    101.6,   1.3477,  34.2076,2,-999.0000,9,    381.2,3,    322.6,6,     7.92,6,    12.10,6,     0.87,6, -999.000,9, -999.000,9, -999.000,9, -999.000,9,   -999.0,9,   -999.0,9,   1.3430
  18HU20090517, AR07W,     8,  1, 351481,      5,2,20090518,1427, 50.6587, -50.6573,  372,     80.3,   1.1487,  34.0835,2,-999.0000,9,    388.1,3,    336.0,6,     7.35,6,    10.94,6,     0.80,6, -999.000,9, -999.000,9, -999.000,9, -999.000,9,   -999.0,9,   -999.0,9,   1.1451
  18HU20090517, AR07W,     8,  1, 351482,      6,2,20090518,1427, 50.6587, -50.6573,  372,     60.7,   1.1642,  34.0478,2,-999.0000,9,    392.1,3,    336.1,6,     7.18,6,    10.60,6,     0.80,6, -999.000,9, -999.000,9, -999.000,9, -999.000,9,   -999.0,9,   -999.0,9,   1.1615
  18HU20090517, AR07W,     8,  1, 351483,      7,2,20090518,1427, 50.6587, -50.6573,  372,     49.7,   0.8667,  33.9757,2,-999.0000,9,    393.0,3,   -999.0,9,     7.15,6,    10.43,6,     0.78,6, -999.000,9, -999.000,9, -999.000,9, -999.000,9,   -999.0,9,   -999.0,9,   0.8646
  18HU20090517, AR07W,     8,  1, 351484,      8,2,20090518,1427, 50.6587, -50.6573,  372,     40.4,   0.9083,  33.9060,2,-999.0000,9,    398.3,3,   -999.0,9,     6.88,6,     9.87,6,     0.76,6, -999.000,9, -999.000,9, -999.000,9, -999.000,9,   -999.0,9,   -999.0,9,   0.9066
  18HU20090517, AR07W,     8,  1, 351485,      9,2,20090518,1427, 50.6587, -50.6573,  372,     30.9,   0.4962,  33.7300,2,-999.0000,9,    405.2,3,   -999.0,9,     6.65,6,     9.01,6,     0.73,6, -999.000,9, -999.000,9, -999.000,9, -999.000,9,   -999.0,9,   -999.0,9,   0.4950
  18HU20090517, AR07W,     8,  1, 351486,     10,2,20090518,1427, 50.6587, -50.6573,  372,     30.6,   0.4788,  33.7014,2,-999.0000,9,    410.2,3,   -999.0,9,  -999.00,9,  -999.00,9,  -999.00,9, -999.000,9, -999.000,9, -999.000,9, -999.000,9,   -999.0,9,   -999.0,9,   0.4776
  18HU20090517, AR07W,     8,  1, 351487,     11,2,20090518,1427, 50.6587, -50.6573,  372,     20.5,   0.8409,  33.3861,2,-999.0000,9,    448.5,3,   -999.0,9,     1.69,6,     1.21,6,     0.30,6, -999.000,9, -999.000,9, -999.000,9, -999.000,9,   -999.0,9,   -999.0,9,   0.8401
  18HU20090517, AR07W,     8,  1, 351488,     12,2,20090518,1427, 50.6587, -50.6573,  372,     11.0,   0.8000,  33.2561,2,-999.0000,9,    462.7,3,   -999.0,9,     1.97,6,     0.58,6,     0.25,6, -999.000,9, -999.000,9, -999.000,9, -999.000,9,   -999.0,9,   -999.0,9,   0.7996
  18HU20090517, AR07W,     8,  1, 351489,     13,2,20090518,1427, 50.6587, -50.6573,  372,      2.6,   0.8641,  33.1766,2,-999.0000,9,    463.8,3,   -999.0,9,     2.76,6,     0.51,6,     0.25,6, -999.000,9, -999.000,9, -999.000,9, -999.000,9,   -999.0,9,   -999.0,9,   0.8640
  18HU20090517, AR07W,     8,  1, 351490,     14,2,20090518,1427, 50.6587, -50.6573,  372,      2.4,   0.8739,  33.1758,2,-999.0000,9,    463.6,3,   -999.0,9,  -999.00,9,  -999.00,9,  -999.00,9, -999.000,9, -999.000,9, -999.000,9, -999.000,9,   -999.0,9,   -999.0,9,   0.8738
  18HU20090517, AR07W,    11,  1, 351491,      1,2,20090519,1149, 53.0037, -50.4003, 3412,    200.2,   3.5236,  34.7875,2,-999.0000,9,    361.1,3,    291.3,6,     7.75,6,    14.72,6,     0.96,6, -999.000,9, -999.000,9, -999.000,9, -999.000,9,   -999.0,9,   -999.0,9,   3.5103
  18HU20090517, AR07W,    11,  1, 351492,      2,2,20090519,1149, 53.0037, -50.4003, 3412,    150.1,   3.4341,  34.7545,2,-999.0000,9,    365.2,3,    306.8,2,     7.53,6,    14.17,6,     0.95,6, -999.000,9, -999.000,9, -999.000,9, -999.000,9,   -999.0,9,   -999.0,9,   3.4243
  18HU20090517, AR07W,    11,  1, 351493,      3,2,20090519,1149, 53.0037, -50.4003, 3412,    100.7,   3.3485,  34.7162,2,-999.0000,9,    375.4,3,    312.9,2,     7.13,6,    12.59,6,     0.89,6, -999.000,9, -999.000,9, -999.000,9, -999.000,9,   -999.0,9,   -999.0,9,   3.3421
  18HU20090517, AR07W,    11,  1, 351494,      4,2,20090519,1149, 53.0037, -50.4003, 3412,     80.3,   3.2990,  34.6529,2,-999.0000,9,    387.7,3,    331.4,2,     6.30,6,    10.32,6,     0.77,6, -999.000,9, -999.000,9, -999.000,9, -999.000,9,   -999.0,9,   -999.0,9,   3.2939
  18HU20090517, AR07W,    11,  1, 351495,      5,2,20090519,1149, 53.0037, -50.4003, 3412,     60.6,   3.3484,  34.6199,2,-999.0000,9,    394.2,3,    338.0,2,     5.93,6,     8.94,6,     0.69,6, -999.000,9, -999.000,9, -999.000,9, -999.000,9,   -999.0,9,   -999.0,9,   3.3446
  18HU20090517, AR07W,    11,  1, 351496,      6,2,20090519,1149, 53.0037, -50.4003, 3412,     50.2,   3.3023,  34.5663,2,-999.0000,9,    401.1,3,    350.3,2,     5.46,6,     8.16,6,     0.63,6, -999.000,9, -999.000,9, -999.000,9, -999.000,9,   -999.0,9,   -999.0,9,   3.2991
  18HU20090517, AR07W,    11,  1, 351497,      7,2,20090519,1149, 53.0037, -50.4003, 3412,     40.5,   3.2884,  34.5581,2,-999.0000,9,    402.4,3,    344.8,2,     5.41,6,     8.06,6,     0.63,6, -999.000,9, -999.000,9, -999.000,9, -999.000,9,   -999.0,9,   -999.0,9,   3.2859
  18HU20090517, AR07W,    11,  1, 351498,      8,2,20090519,1149, 53.0037, -50.4003, 3412,     29.7,   3.2195,  34.5357,2,-999.0000,9,    405.1,3,    350.3,2,     5.21,6,     7.72,6,     0.60,6, -999.000,9, -999.000,9, -999.000,9, -999.000,9,   -999.0,9,   -999.0,9,   3.2177
  18HU20090517, AR07W,    11,  1, 351499,      9,2,20090519,1149, 53.0037, -50.4003, 3412,     30.2,   3.2150,  34.5338,2,-999.0000,9,    405.3,3,   -999.0,9,  -999.00,9,  -999.00,9,  -999.00,9, -999.000,9, -999.000,9, -999.000,9, -999.000,9,   -999.0,9,   -999.0,9,   3.2131
  18HU20090517, AR07W,    11,  1, 351500,     10,2,20090519,1149, 53.0037, -50.4003, 3412,     20.8,   3.0746,  34.4693,2,-999.0000,9,    415.2,3,    358.5,2,  -999.00,9,  -999.00,9,  -999.00,9, -999.000,9, -999.000,9, -999.000,9, -999.000,9,   -999.0,9,   -999.0,9,   3.0733
  18HU20090517, AR07W,    11,  1, 351501,     11,2,20090519,1149, 53.0037, -50.4003, 3412,      9.9,   3.0727,  34.4569,2,-999.0000,9,    418.4,3,    362.5,2,     4.28,6,     6.09,6,     0.49,6, -999.000,9, -999.000,9, -999.000,9, -999.000,9,   -999.0,9,   -999.0,9,   3.0721
  18HU20090517, AR07W,    11,  1, 351502,     12,2,20090519,1149, 53.0037, -50.4003, 3412,      2.8,   3.1560,  34.4420,2,-999.0000,9,    419.1,3,    364.5,2,     4.27,6,     5.97,6,     0.48,6, -999.000,9, -999.000,9, -999.000,9, -999.000,9,   -999.0,9,   -999.0,9,   3.1558
  18HU20090517, AR07W,    11,  1, 351503,     13,2,20090519,1149, 53.0037, -50.4003, 3412,      2.4,   3.1563,  34.4424,2,-999.0000,9,    418.8,3,   -999.0,9,  -999.00,9,  -999.00,9,  -999.00,9, -999.000,9, -999.000,9, -999.000,9, -999.000,9,   -999.0,9,   -999.0,9,   3.1562
  18HU20090517, AR07W,    23,  1, 351504,      1,2,20090520,1144, 58.0197, -49.4933, 3447,    200.1,   3.5544,  34.8268,2,-999.0000,9,    369.2,3,    309.6,6,     7.54,6,    14.66,6,     0.97,6, -999.000,9, -999.000,9, -999.000,9, -999.000,9,   -999.0,9,   -999.0,9,   3.5411
  18HU20090517, AR07W,    23,  1, 351505,      2,2,20090520,1144, 58.0197, -49.4933, 3447,    150.2,   3.5424,  34.8241,2,-999.0000,9,    369.6,3,    308.5,2,     7.46,6,    14.49,6,     0.96,6, -999.000,9, -999.000,9, -999.000,9, -999.000,9,   -999.0,9,   -999.0,9,   3.5325
  18HU20090517, AR07W,    23,  1, 351506,      3,2,20090520,1144, 58.0197, -49.4933, 3447,    100.3,   3.5376,  34.8228,2,-999.0000,9,    369.3,3,    316.1,2,     7.40,6,    14.41,6,     0.96,6, -999.000,9, -999.000,9, -999.000,9, -999.000,9,   -999.0,9,   -999.0,9,   3.5310
  18HU20090517, AR07W,    23,  1, 351507,      4,2,20090520,1144, 58.0197, -49.4933, 3447,     79.8,   3.5359,  34.8225,2,-999.0000,9,    369.2,3,    309.6,2,     7.40,6,    14.53,6,     0.96,6, -999.000,9, -999.000,9, -999.000,9, -999.000,9,   -999.0,9,   -999.0,9,   3.5307
  18HU20090517, AR07W,    23,  1, 351508,      5,2,20090520,1144, 58.0197, -49.4933, 3447,     61.0,   3.5388,  34.8214,2,-999.0000,9,    369.8,3,    309.6,2,     7.36,6,    14.54,6,     0.95,6, -999.000,9, -999.000,9, -999.000,9, -999.000,9,   -999.0,9,   -999.0,9,   3.5348
  18HU20090517, AR07W,    23,  1, 351509,      6,2,20090520,1144, 58.0197, -49.4933, 3447,     50.8,   3.5789,  34.8136,2,-999.0000,9,    372.4,3,    312.7,2,     7.21,6,    14.02,6,     0.93,6, -999.000,9, -999.000,9, -999.000,9, -999.000,9,   -999.0,9,   -999.0,9,   3.5756
  18HU20090517, AR07W,    23,  1, 351510,      7,2,20090520,1144, 58.0197, -49.4933, 3447,     40.4,   3.6818,  34.8027,2,-999.0000,9,    377.3,3,    318.0,2,     7.11,6,    13.35,6,     0.89,6, -999.000,9, -999.000,9, -999.000,9, -999.000,9,   -999.0,9,   -999.0,9,   3.6791
  18HU20090517, AR07W,    23,  1, 351511,      8,2,20090520,1144, 58.0197, -49.4933, 3447,     29.9,   3.6813,  34.7968,2,-999.0000,9,    378.8,3,    319.3,2,     6.92,6,    13.22,6,     0.87,6, -999.000,9, -999.000,9, -999.000,9, -999.000,9,   -999.0,9,   -999.0,9,   3.6793
  18HU20090517, AR07W,    23,  1, 351512,      9,2,20090520,1144, 58.0197, -49.4933, 3447,     30.4,   3.6810,  34.7965,2,-999.0000,9,    379.0,3,   -999.0,9,  -999.00,9,  -999.00,9,  -999.00,9, -999.000,9, -999.000,9, -999.000,9, -999.000,9,   -999.0,9,   -999.0,9,   3.6790
  18HU20090517, AR07W,    23,  1, 351513,     10,2,20090520,1144, 58.0197, -49.4933, 3447,     19.7,   3.6947,  34.7935,2,-999.0000,9,    380.4,3,    321.4,2,     6.88,6,    12.95,6,     0.85,6, -999.000,9, -999.000,9, -999.000,9, -999.000,9,   -999.0,9,   -999.0,9,   3.6934
  18HU20090517, AR07W,    23,  1, 351514,     11,2,20090520,1144, 58.0197, -49.4933, 3447,      9.9,   3.8605,  34.7939,2,-999.0000,9,    379.4,3,    321.3,2,     6.88,6,    13.18,6,     0.85,6, -999.000,9, -999.000,9, -999.000,9, -999.000,9,   -999.0,9,   -999.0,9,   3.8598
  18HU20090517, AR07W,    23,  1, 351515,     12,2,20090520,1144, 58.0197, -49.4933, 3447,      1.7,   3.9528,  34.7928,2,-999.0000,9,    378.5,3,    319.1,2,     6.94,6,    13.35,6,     0.86,6, -999.000,9, -999.000,9, -999.000,9, -999.000,9,   -999.0,9,   -999.0,9,   3.9527
  18HU20090517, AR07W,    23,  1, 351516,     13,2,20090520,1144, 58.0197, -49.4933, 3447,      2.1,   3.9650,  34.7924,2,-999.0000,9,    378.2,3,   -999.0,9,  -999.00,9,  -999.00,9,  -999.00,9, -999.000,9, -999.000,9, -999.000,9, -999.000,9,   -999.0,9,   -999.0,9,   3.9649