BOTTLE,20130611PRINUNIVRMK
EXPOCODE,SECT_ID,STNNBR,CASTNO,SAMPNO,BTLNBR,BTLNBR_FLAG_W,DATE,TIME,LATITUDE,LONGITUDE,DEPTH,CTDPRS,CTDTMP,CTDSAL,CTDSAL_FLAG_W,SALNTY,SALNTY_FLAG_W,CTDOXY,CTDOXY_FLAG_W,OXYGEN,OXYGEN_FLAG_W,SILCAT,SILCAT_FLAG_W,NITRAT,NITRAT_FLAG_W,PHSPHT,PHSPHT_FLAG_W,CFC-11,CFC-11_FLAG_W,CFC-12,CFC-12_FLAG_W,CFC113,CFC113_FLAG_W,CCL4,CCL4_FLAG_W,TCARBN,TCARBN_FLAG_W,ALKALI,ALKALI_FLAG_W,THETA
,,,,,,,,,,,METERS,DBAR,ITS-90,PSS-78,,PSS-78,,UMOL/KG,,UMOL/KG,,UMOL/KG,,UMOL/KG,,UMOL/KG,,PMOL/KG,,PMOL/KG,,PMOL/KG,,PMOL/KG,,UMOL/KG,,UMOL/KG,,DEG C
  18HU20090517, AR07W,   212,  1, 352192,      1,2,20090531,1254, 43.8832, -62.8813,  370,    256.3,   7.6980,  34.7002,2,  34.6989,2,    217.0,3,    156.1,6,    17.75,6,    18.54,6,     1.45,6,    8.308,4,   11.660,4,    1.660,4,    0.951,4,   -999.0,9,   -999.0,9,   7.6726
  18HU20090517, AR07W,   212,  1, 352193,      2,2,20090531,1254, 43.8832, -62.8813,  370,    200.2,   7.9740,  34.6938,2,  34.6918,2,    216.8,3,    161.9,2,    13.12,6,    18.13,6,     1.39,6,    3.066,2,    2.231,4,    0.181,2,    0.831,4,   -999.0,9,   -999.0,9,   7.9539
  18HU20090517, AR07W,   212,  1, 352194,      3,2,20090531,1254, 43.8832, -62.8813,  370,    150.3,   8.5979,  34.6809,2,-999.0000,9,    225.4,3,    170.0,2,    11.68,6,    16.65,6,     1.28,6,    3.195,2,    2.243,4,    0.197,2,    0.675,4,   -999.0,9,   -999.0,9,   8.5821
  18HU20090517, AR07W,   212,  1, 352195,      4,2,20090531,1254, 43.8832, -62.8813,  370,    125.6,   8.4619,  34.5697,2,-999.0000,9,    232.5,3,    174.4,2,    11.31,6,    15.61,6,     1.24,6,    3.289,2,    2.177,4,    0.202,2,    0.731,4,   -999.0,9,   -999.0,9,   8.4489
  18HU20090517, AR07W,   212,  1, 352196,      5,2,20090531,1254, 43.8832, -62.8813,  370,    100.4,   8.3909,  34.4052,2,-999.0000,9,    242.8,3,    184.6,2,    10.50,6,    14.32,6,     1.18,6,    3.413,2, -999.000,9, -999.000,9,    0.000,4,   -999.0,9,   -999.0,9,   8.3806
  18HU20090517, AR07W,   212,  1, 352197,      6,2,20090531,1254, 43.8832, -62.8813,  370,     80.7,   8.4420,  34.2548,2,-999.0000,9,    279.1,3,    222.8,2,     6.67,6,    10.34,6,     0.91,6, -999.000,9, -999.000,9, -999.000,9, -999.000,9,   -999.0,9,   -999.0,9,   8.4337
  18HU20090517, AR07W,   212,  1, 352198,      7,2,20090531,1254, 43.8832, -62.8813,  370,     59.4,   6.4870,  33.5031,2,-999.0000,9,    327.5,3,    272.8,2,     3.05,6,     5.60,6,     0.70,6, -999.000,9, -999.000,9, -999.000,9, -999.000,9,   -999.0,9,   -999.0,9,   6.4819
  18HU20090517, AR07W,   212,  1, 352199,      8,2,20090531,1254, 43.8832, -62.8813,  370,     48.8,   6.0786,  33.1287,2,-999.0000,9,    350.3,3,    293.3,2,     1.91,6,     2.50,6,     0.56,6,    4.718,2,    3.188,4,    0.383,2,    0.781,4,   -999.0,9,   -999.0,9,   6.0746
  18HU20090517, AR07W,   212,  1, 352200,      9,2,20090531,1254, 43.8832, -62.8813,  370,     39.5,   6.0941,  32.7456,2,-999.0000,9,    375.4,3,    317.0,2,     1.12,6,     0.25,6,     0.40,6, -999.000,9, -999.000,9, -999.000,9, -999.000,9,   -999.0,9,   -999.0,9,   6.0909
  18HU20090517, AR07W,   212,  1, 352201,     10,2,20090531,1254, 43.8832, -62.8813,  370,     30.8,   6.7704,  32.3594,2,  32.2849,2,    375.6,3,    311.2,2,     0.64,6,     0.23,6,     0.35,6, -999.000,9, -999.000,9, -999.000,9, -999.000,9,   -999.0,9,   -999.0,9,   6.7677
  18HU20090517, AR07W,   212,  1, 352202,     11,2,20090531,1254, 43.8832, -62.8813,  370,     19.9,   8.7338,  31.9077,2,-999.0000,9,    353.4,3,    296.7,2,     0.52,6,     0.22,6,     0.34,6,    4.343,2,    2.755,4, -999.000,9,    0.000,4,   -999.0,9,   -999.0,9,   8.7318
  18HU20090517, AR07W,   212,  1, 352203,     12,2,20090531,1254, 43.8832, -62.8813,  370,      9.9,   8.7854,  31.8875,2,-999.0000,9,    353.1,3,    296.7,2,     0.54,6,     0.26,6,     0.34,6, -999.000,9, -999.000,9, -999.000,9, -999.000,9,   -999.0,9,   -999.0,9,   8.7844
  18HU20090517, AR07W,   212,  1, 352204,     13,2,20090531,1254, 43.8832, -62.8813,  370,      2.7,   8.8551,  31.7555,2,-999.0000,9,    352.2,3,    293.5,2,     0.49,6,     0.22,6,     0.34,6, -999.000,9, -999.000,9, -999.000,9, -999.000,9,   -999.0,9,   -999.0,9,   8.8548