BOTTLE,20141031SIOCCHAMB
EXPOCODE,SECT_ID,STNNBR,CASTNO,SAMPNO,BTLNBR,BTLNBR_FLAG_W,DATE,TIME,LATITUDE,LONGITUDE,DEPTH,CTDPRS,CTDTMP,CTDSAL,CTDSAL_FLAG_W,SALNTY,SALNTY_FLAG_W,CTDOXY,CTDOXY_FLAG_W,OXYGEN,OXYGEN_FLAG_W,SILCAT,SILCAT_FLAG_W,PHSPHT,PHSPHT_FLAG_W,REVPRS,CTDRAW,THETA,NO2+NO3,NO2+NO3_FLAG_W,REVTMP
,,,,,,,,,,,METERS,DBAR,ITS-90,PSS-78,,PSS-78,,UMOL/KG,,UMOL/KG,,UMOL/KG,,UMOL/KG,,DBAR,DBAR,ITS-90,UMOL/KG,,DEG C
33KB20130211,       PRS2,       2,          3,         24,       8024,2,20130212,       2145,  22.750333,-157.9990000,       4741,     7.9,  23.3575,  35.3062,2,  35.3062,2,    212.7,2,   213.3,2,    1.27,2,    0.11,2,  -999.0,       8,    23.3559,    0.08,2,     -999.0
33KB20130211,       PRS2,       2,          3,         23,       8023,2,20130212,       2145,  22.750333,-157.9990000,       4741,    66.8,  23.0160,  35.3502,2,  35.3494,2,    212.8,2,   214.1,2,    1.30,2,    0.10,2,  -999.0,      66,    23.0023,    0.03,2,     -999.0
33KB20130211,       PRS2,       2,          3,         22,       8022,2,20130212,       2145,  22.750333,-157.9990000,       4741,   126.2,  21.9053,  35.2885,2,  35.2895,2,    205.8,2,   206.1,2,    1.55,2,    0.11,2,  -999.0,     125,    21.8804,    0.37,2,     -999.0
33KB20130211,       PRS2,       2,          3,         21,       8021,2,20130212,       2145,  22.750333,-157.9990000,       4741,   183.3,  18.6710,  34.9247,2,  34.9284,2,    200.0,2,   197.3,2,    2.84,2,    0.23,2,  -999.0,     182,    18.6387,    2.55,2,     -999.0
33KB20130211,       PRS2,       2,          3,         20,       8020,2,20130212,       2145,  22.750333,-157.9990000,       4741,   238.9,  14.9285,  34.4242,2,  34.4190,2,    198.6,2,   199.0,2,    5.84,2,    0.48,2,  -999.0,     238,    14.8926,    6.19,2,     -999.0
33KB20130211,       PRS2,       2,          3,         19,       8019,2,20130212,       2145,  22.750333,-157.9990000,       4741,   274.8,  13.4268,  34.2847,2,  34.2874,2,    201.7,2,   201.2,2,    7.92,2,    0.62,2,  -999.0,     275,    13.3883,    8.44,2,     -999.0
33KB20130211,       PRS2,       2,          3,         18,       8018,2,20130212,       2145,  22.750333,-157.9990000,       4741,   310.8,  12.1067,  34.2122,2,  34.2005,2,    203.3,2,   202.9,2,   11.65,2,    0.84,2,  -999.0,     311,    12.0661,   11.72,2,     -999.0
33KB20130211,       PRS2,       2,          3,         17,       8017,2,20130212,       2145,  22.750333,-157.9990000,       4741,   343.9,  10.6806,  34.1489,2,  34.1489,2,    193.9,2,   194.7,2,   16.09,2,    1.06,2,  -999.0,     344,    10.6391,   14.80,2,     -999.0
33KB20130211,       PRS2,       2,          3,         16,       8016,2,20130212,       2145,  22.750333,-157.9990000,       4741,   377.8,   9.4188,  34.0906,2,  34.0893,2,    176.0,2,   175.0,2,   24.01,2,    1.39,2,  -999.0,     377,     9.3767,   19.58,2,     -999.0
33KB20130211,       PRS2,       2,          3,         15,       8015,2,20130212,       2145,  22.750333,-157.9990000,       4741,   410.9,   8.8488,  34.0749,2,  34.0762,2,    162.3,2,   162.6,2,   28.53,2,    1.54,2,  -999.0,     410,     8.8046,   21.64,2,     -999.0
33KB20130211,       PRS2,       2,          3,         14,       8014,2,20130212,       2145,  22.750333,-157.9990000,       4741,   445.6,   8.4216,  34.1380,2,  34.1356,2,    103.3,2,   107.4,2,   36.90,2,    2.01,2,  -999.0,     446,     8.3750,   26.93,2,     -999.0
33KB20130211,       PRS2,       2,          3,         13,       8025,2,20130212,       2145,  22.750333,-157.9990000,       4741,   480.6,   7.9221,  34.1403,2,  34.1415,2,     92.9,2,    92.5,2,   43.22,2,    2.17,2,  -999.0,     481,     7.8734,   29.30,2,     -999.0
33KB20130211,       PRS2,       2,          3,         12,       8012,2,20130212,       2145,  22.750333,-157.9990000,       4741,   535.6,   6.9355,  34.1005,2,  34.1023,2,     80.3,2,    79.1,2,   53.11,2,    2.40,2,  -999.0,     535,     6.8851,   32.64,2,     -999.0
33KB20130211,       PRS2,       2,          3,         11,       8011,2,20130212,       2145,  22.750333,-157.9990000,       4741,   594.9,   6.1363,  34.1311,2,  34.1268,2,     55.8,2,    56.0,2,   64.56,2,    2.62,2,  -999.0,     595,     6.0837,   35.78,2,     -999.0
33KB20130211,       PRS2,       2,          3,         10,       8010,2,20130212,       2145,  22.750333,-157.9990000,       4741,   633.4,   5.7367,  34.1944,2,  34.1922,2,     37.2,2,    36.5,2,   73.70,2,    2.81,2,  -999.0,     632,     5.6823,   38.40,2,     -999.0
33KB20130211,       PRS2,       2,          3,          9,       8009,2,20130212,       2145,  22.750333,-157.9990000,       4741,   695.7,   5.7492,  34.3239,2,  34.3256,2,     19.7,2,    20.2,2,   77.54,2,    2.98,2,  -999.0,     696,     5.6890,   39.86,2,     -999.0
33KB20130211,       PRS2,       2,          3,          8,       8008,2,20130212,       2145,  22.750333,-157.9990000,       4741,   740.2,   5.4668,  34.3699,2,  34.3494,4,     22.3,3,    25.4,2,   81.58,2,    2.95,2,  -999.0,     739,     5.4041,   40.84,2,     -999.0
33KB20130211,       PRS2,       2,          3,          7,       8026,2,20130212,       2145,  22.750333,-157.9990000,       4741,   785.0,   5.2994,  34.3973,2,  34.3986,2,     22.6,2,    22.9,2,   84.99,2,    3.01,2,  -999.0,     786,     5.2336,   41.00,2,     -999.0
33KB20130211,       PRS2,       2,          3,          6,       8006,2,20130212,       2145,  22.750333,-157.9990000,       4741,   838.8,   4.9543,  34.4199,2,  34.4202,2,     29.7,2,    28.8,2,   90.37,2,    2.99,2,  -999.0,     839,     4.8858,   41.38,2,     -999.0
33KB20130211,       PRS2,       2,          3,          5,       8005,2,20130212,       2145,  22.750333,-157.9990000,       4741,   891.2,   4.7760,  34.4466,2,  34.4455,2,     31.8,2,    31.4,2,   93.30,2,    2.99,2,  -999.0,     891,     4.7041,   41.50,2,     -999.0
33KB20130211,       PRS2,       2,          3,          4,       8004,2,20130212,       2145,  22.750333,-157.9990000,       4741,   922.5,   4.6833,  34.4585,2,  34.4593,2,     32.4,2,    32.6,2,   95.23,2,    3.01,2,  -999.0,     923,     4.6093,   41.92,2,     -999.0
33KB20130211,       PRS2,       2,          3,          3,       8003,2,20130212,       2145,  22.750333,-157.9990000,       4741,   956.5,   4.5495,  34.4709,2,  34.4707,2,     34.8,2,    34.5,2,   97.32,2,    3.01,2,  -999.0,     956,     4.4734,   41.91,2,     -999.0
33KB20130211,       PRS2,       2,          3,          2,       8002,2,20130212,       2145,  22.750333,-157.9990000,       4741,   989.0,   4.4344,  34.4769,2,  34.4781,2,     38.8,2,    38.6,2,   99.76,2,    2.99,2,  -999.0,     988,     4.3564,   41.72,2,     -999.0
33KB20130211,       PRS2,       2,          3,          1,       8001,2,20130212,       2145,  22.750333,-157.9990000,       4741,  1019.4,   4.3667,  34.4828,2,  34.4846,2,     39.1,2,    39.2,2,  100.95,2,    3.00,2,  -999.0,    1021,     4.2866,   41.81,2,     -999.0
33KB20130211,       PRS2,       2,          4,         22,       8022,2,20130213,       0024,  22.749667,-157.9920000,       4739,     7.3,  23.3959,  35.3066,2,  35.3070,2,    214.2,1,  -999.0,9, -999.00,9, -999.00,9,  -999.0,       8,    23.3944, -999.00,9,     -999.0
33KB20130211,       PRS2,       2,          4,         21,       8021,2,20130213,       0024,  22.749667,-157.9920000,       4739,     7.3,  23.3943,  35.3059,2,-999.0000,5,    214.2,1,  -999.0,9, -999.00,9, -999.00,9,  -999.0,       7,    23.3928, -999.00,9,     -999.0
33KB20130211,       PRS2,       2,          4,         20,       8020,2,20130213,       0024,  22.749667,-157.9920000,       4739,    24.8,  23.3799,  35.3069,2,  35.3072,2,    214.4,1,  -999.0,9, -999.00,9, -999.00,9,  -999.0,      25,    23.3748, -999.00,9,     -999.0
33KB20130211,       PRS2,       2,          4,         19,       8019,2,20130213,       0024,  22.749667,-157.9920000,       4739,    24.9,  23.3795,  35.3069,2,-999.0000,5,    214.6,1,  -999.0,9, -999.00,9, -999.00,9,  -999.0,      25,    23.3744, -999.00,9,     -999.0
33KB20130211,       PRS2,       2,          4,         18,       8018,2,20130213,       0024,  22.749667,-157.9920000,       4739,    45.0,  23.1451,  35.3309,2,  35.3348,2,    214.9,1,  -999.0,9, -999.00,9, -999.00,9,  -999.0,      45,    23.1359, -999.00,9,     -999.0
33KB20130211,       PRS2,       2,          4,         17,       8017,2,20130213,       0024,  22.749667,-157.9920000,       4739,    44.9,  23.1464,  35.3309,2,-999.0000,5,    214.9,1,  -999.0,9, -999.00,9, -999.00,9,  -999.0,      44,    23.1372, -999.00,9,     -999.0
33KB20130211,       PRS2,       2,          4,         16,       8016,2,20130213,       0024,  22.749667,-157.9920000,       4739,    75.7,  23.0169,  35.3575,2,  35.3585,2,    214.7,1,  -999.0,9, -999.00,9, -999.00,9,  -999.0,      74,    23.0014, -999.00,9,     -999.0
33KB20130211,       PRS2,       2,          4,         15,       8015,2,20130213,       0024,  22.749667,-157.9920000,       4739,    75.3,  23.0161,  35.3592,2,-999.0000,5,    214.6,1,  -999.0,9, -999.00,9, -999.00,9,  -999.0,      73,    23.0007, -999.00,9,     -999.0
33KB20130211,       PRS2,       2,          4,         14,       8014,2,20130213,       0024,  22.749667,-157.9920000,       4739,   100.2,  22.9752,  35.3798,2,  35.3800,2,    212.5,1,  -999.0,9, -999.00,9, -999.00,9,  -999.0,     100,    22.9547, -999.00,9,     -999.0
33KB20130211,       PRS2,       2,          4,         13,       8025,2,20130213,       0024,  22.749667,-157.9920000,       4739,   100.3,  22.9684,  35.3782,2,-999.0000,5,    212.5,1,  -999.0,9, -999.00,9, -999.00,9,  -999.0,     100,    22.9479, -999.00,9,     -999.0
33KB20130211,       PRS2,       2,          4,         12,       8012,2,20130213,       0024,  22.749667,-157.9920000,       4739,   126.7,  21.9788,  35.3008,2,  35.3011,2,    207.9,1,  -999.0,9, -999.00,9, -999.00,9,  -999.0,     126,    21.9537, -999.00,9,     -999.0
33KB20130211,       PRS2,       2,          4,         11,       8011,2,20130213,       0024,  22.749667,-157.9920000,       4739,   126.7,  21.9781,  35.3014,2,-999.0000,5,    207.9,1,  -999.0,9, -999.00,9, -999.00,9,  -999.0,     126,    21.9530, -999.00,9,     -999.0
33KB20130211,       PRS2,       2,          4,         10,       8010,2,20130213,       0024,  22.749667,-157.9920000,       4739,   149.9,  21.1603,  35.2761,2,  35.2765,2,    200.6,1,  -999.0,9, -999.00,9, -999.00,9,  -999.0,     150,    21.1314, -999.00,9,     -999.0
33KB20130211,       PRS2,       2,          4,          9,       8009,2,20130213,       0024,  22.749667,-157.9920000,       4739,   150.0,  21.1486,  35.2756,2,-999.0000,5,    200.5,1,  -999.0,9, -999.00,9, -999.00,9,  -999.0,     149,    21.1197, -999.00,9,     -999.0
33KB20130211,       PRS2,       2,          4,          8,       8008,2,20130213,       0024,  22.749667,-157.9920000,       4739,   175.7,  20.1774,  35.1811,2,  35.1750,2,    198.4,1,  -999.0,9, -999.00,9, -999.00,9,  -999.0,     175,    20.1447, -999.00,9,     -999.0
33KB20130211,       PRS2,       2,          4,          7,       8026,2,20130213,       0024,  22.749667,-157.9920000,       4739,   175.7,  20.1735,  35.1803,2,-999.0000,5,    198.3,1,  -999.0,9, -999.00,9, -999.00,9,  -999.0,     176,    20.1407, -999.00,9,     -999.0
33KB20130211,       PRS2,       2,          4,          6,       8006,2,20130213,       0024,  22.749667,-157.9920000,       4739,   200.0,  18.5770,  34.9059,2,  34.9050,2,    195.4,1,  -999.0,9, -999.00,9, -999.00,9,  -999.0,     199,    18.5419, -999.00,9,     -999.0
33KB20130211,       PRS2,       2,          4,          5,       8005,2,20130213,       0024,  22.749667,-157.9920000,       4739,   249.7,  14.7090,  34.3913,2,  34.4023,2,    197.8,1,  -999.0,9, -999.00,9, -999.00,9,  -999.0,     249,    14.6718, -999.00,9,     -999.0
33KB20130211,       PRS2,       2,          4,          4,       8004,2,20130213,       0024,  22.749667,-157.9920000,       4739,   350.5,  10.9919,  34.1608,2,  34.1607,2,    194.8,1,  -999.0,9, -999.00,9, -999.00,9,  -999.0,     351,    10.9489, -999.00,9,     -999.0
33KB20130211,       PRS2,       2,          4,          3,       8003,2,20130213,       0024,  22.749667,-157.9920000,       4739,   350.6,  10.9919,  34.1608,2,  34.1597,2,    194.9,1,  -999.0,9, -999.00,9, -999.00,9,  -999.0,     350,    10.9488, -999.00,9,     -999.0
33KB20130211,       PRS2,       2,          4,          2,       8002,2,20130213,       0024,  22.749667,-157.9920000,       4739,   430.5,   8.6686,  34.0848,2,  34.0786,2,    161.0,1,  -999.0,9, -999.00,9, -999.00,9,  -999.0,     430,     8.6228, -999.00,9,     -999.0
33KB20130211,       PRS2,       2,          4,          1,       8001,2,20130213,       0024,  22.749667,-157.9920000,       4739,  1020.5,   4.3860,  34.4810,2,  34.4816,2,     38.9,1,  -999.0,9, -999.00,9, -999.00,9,  -999.0,    1020,     4.3056, -999.00,9,     -999.0
33KB20130211,       PRS2,       2,          5,         18,       8018,2,20130213,       0258,  22.805167,-158.0088333,       4723,     7.8,  23.3525,  35.3160,2,  35.3169,2,    214.3,1,  -999.0,9, -999.00,9, -999.00,9,  -999.0,       7,    23.3509, -999.00,9,     -999.0
33KB20130211,       PRS2,       2,          5,         17,       8017,2,20130213,       0258,  22.805167,-158.0088333,       4723,     7.7,  23.3531,  35.3160,2,-999.0000,5,    214.4,1,  -999.0,9, -999.00,9, -999.00,9,  -999.0,       8,    23.3515, -999.00,9,     -999.0
33KB20130211,       PRS2,       2,          5,         16,       8016,2,20130213,       0258,  22.805167,-158.0088333,       4723,    24.8,  23.2749,  35.3261,2,-999.0000,5,    214.6,1,  -999.0,9, -999.00,9, -999.00,9,  -999.0,      24,    23.2698, -999.00,9,     -999.0
33KB20130211,       PRS2,       2,          5,         15,       8015,2,20130213,       0258,  22.805167,-158.0088333,       4723,    24.7,  23.2747,  35.3259,2,  35.3261,2,    214.7,1,  -999.0,9, -999.00,9, -999.00,9,  -999.0,      24,    23.2696, -999.00,9,     -999.0
33KB20130211,       PRS2,       2,          5,         14,       8014,2,20130213,       0258,  22.805167,-158.0088333,       4723,    44.6,  23.1186,  35.3481,2,  35.3490,2,    215.0,1,  -999.0,9, -999.00,9, -999.00,9,  -999.0,      44,    23.1094, -999.00,9,     -999.0
33KB20130211,       PRS2,       2,          5,         13,       8025,2,20130213,       0258,  22.805167,-158.0088333,       4723,    74.3,  23.0402,  35.3695,2,  35.3705,2,    214.2,1,  -999.0,9, -999.00,9, -999.00,9,  -999.0,      73,    23.0250, -999.00,9,     -999.0
33KB20130211,       PRS2,       2,          5,         12,       8012,2,20130213,       0258,  22.805167,-158.0088333,       4723,   100.7,  23.0030,  35.3708,2,  35.3715,2,    213.0,1,  -999.0,9, -999.00,9, -999.00,9,  -999.0,     100,    22.9824, -999.00,9,     -999.0
33KB20130211,       PRS2,       2,          5,         11,       8011,2,20130213,       0258,  22.805167,-158.0088333,       4723,   125.4,  22.4037,  35.3344,2,  35.3364,2,    209.1,1,  -999.0,9, -999.00,9, -999.00,9,  -999.0,     125,    22.3785, -999.00,9,     -999.0
33KB20130211,       PRS2,       2,          5,         10,       8010,2,20130213,       0258,  22.805167,-158.0088333,       4723,   136.9,  21.9249,  35.3119,2,-999.0000,5,    209.5,1,  -999.0,9, -999.00,9, -999.00,9,  -999.0,     137,    21.8978, -999.00,9,     -999.0
33KB20130211,       PRS2,       2,          5,          9,       8009,2,20130213,       0258,  22.805167,-158.0088333,       4723,   150.8,  21.1712,  35.2572,2,  35.2591,2,    203.8,1,  -999.0,9, -999.00,9, -999.00,9,  -999.0,     151,    21.1422, -999.00,9,     -999.0
33KB20130211,       PRS2,       2,          5,          8,       8008,2,20130213,       0258,  22.805167,-158.0088333,       4723,   176.3,  20.5342,  35.2025,2,  35.2040,2,    201.3,1,  -999.0,9, -999.00,9, -999.00,9,  -999.0,     176,    20.5010, -999.00,9,     -999.0
33KB20130211,       PRS2,       2,          5,          7,       8026,2,20130213,       0258,  22.805167,-158.0088333,       4723,   200.5,  19.5000,  35.0681,2,  35.0728,2,    205.5,1,  -999.0,9, -999.00,9, -999.00,9,  -999.0,     201,    19.4636, -999.00,9,     -999.0
33KB20130211,       PRS2,       2,          5,          6,       8006,2,20130213,       0258,  22.805167,-158.0088333,       4723,   250.6,  15.9025,  34.5349,2,  34.5321,2,    194.7,1,  -999.0,9, -999.00,9, -999.00,9,  -999.0,     252,    15.8631, -999.00,9,     -999.0
33KB20130211,       PRS2,       2,          5,          5,       8005,2,20130213,       0258,  22.805167,-158.0088333,       4723,   350.6,  11.2093,  34.1648,2,  34.1697,2,    195.9,1,  -999.0,9, -999.00,9, -999.00,9,  -999.0,     350,    11.1656, -999.00,9,     -999.0
33KB20130211,       PRS2,       2,          5,          4,       8004,2,20130213,       0258,  22.805167,-158.0088333,       4723,   350.7,  11.1810,  34.1685,2,  34.1679,2,    196.0,1,  -999.0,9, -999.00,9, -999.00,9,  -999.0,     350,    11.1374, -999.00,9,     -999.0
33KB20130211,       PRS2,       2,          5,          3,       8003,2,20130213,       0258,  22.805167,-158.0088333,       4723,   429.7,   8.8536,  34.0839,2,  34.0803,2,    167.4,1,  -999.0,9, -999.00,9, -999.00,9,  -999.0,     429,     8.8074, -999.00,9,     -999.0
33KB20130211,       PRS2,       2,          5,          2,       8002,2,20130213,       0258,  22.805167,-158.0088333,       4723,  1020.0,   4.3520,  34.4853,2,  34.4866,2,     39.6,1,  -999.0,9, -999.00,9, -999.00,9,  -999.0,    1020,     4.2720, -999.00,9,     -999.0
33KB20130211,       PRS2,       2,          5,          1,       8001,2,20130213,       0258,  22.805167,-158.0088333,       4723,  1019.9,   4.3535,  34.4852,2,  34.4871,2,     39.6,1,  -999.0,9, -999.00,9, -999.00,9,  -999.0,    1021,     4.2735, -999.00,9,     -999.0