BOTTLE,20141031SIOCCHAMB
EXPOCODE,SECT_ID,STNNBR,CASTNO,SAMPNO,BTLNBR,BTLNBR_FLAG_W,DATE,TIME,LATITUDE,LONGITUDE,DEPTH,CTDPRS,CTDTMP,CTDSAL,CTDSAL_FLAG_W,SALNTY,SALNTY_FLAG_W,CTDOXY,CTDOXY_FLAG_W,OXYGEN,OXYGEN_FLAG_W,SILCAT,SILCAT_FLAG_W,PHSPHT,PHSPHT_FLAG_W,REVPRS,CTDRAW,THETA,NO2+NO3,NO2+NO3_FLAG_W,REVTMP
,,,,,,,,,,,METERS,DBAR,ITS-90,PSS-78,,PSS-78,,UMOL/KG,,UMOL/KG,,UMOL/KG,,UMOL/KG,,DBAR,DBAR,ITS-90,UMOL/KG,,DEG C
33KB20130211,       PRS2,       2,         14,         22,       8022,2,20130214,       0553,  22.750667,-157.9995000,       4740,     7.5,  23.0451,  35.3635,2,-999.0000,5,    215.3,1,  -999.0,9, -999.00,9, -999.00,9,  -999.0,       6,    23.0435, -999.00,9,     -999.0
33KB20130211,       PRS2,       2,         14,         21,       8021,2,20130214,       0553,  22.750667,-157.9995000,       4740,     7.1,  23.0451,  35.3637,2,  35.3622,2,    214.9,1,  -999.0,9, -999.00,9, -999.00,9,  -999.0,       7,    23.0437, -999.00,9,     -999.0
33KB20130211,       PRS2,       2,         14,         20,       8020,2,20130214,       0553,  22.750667,-157.9995000,       4740,    24.6,  23.0538,  35.3624,2,-999.0000,5,    214.8,1,  -999.0,9, -999.00,9, -999.00,9,  -999.0,      25,    23.0487, -999.00,9,     -999.0
33KB20130211,       PRS2,       2,         14,         19,       8019,2,20130214,       0553,  22.750667,-157.9995000,       4740,    24.7,  23.0538,  35.3622,2,  35.3612,2,    214.7,1,  -999.0,9, -999.00,9, -999.00,9,  -999.0,      26,    23.0488, -999.00,9,     -999.0
33KB20130211,       PRS2,       2,         14,         18,       8018,2,20130214,       0553,  22.750667,-157.9995000,       4740,    45.9,  23.0507,  35.3611,2,-999.0000,5,    214.7,1,  -999.0,9, -999.00,9, -999.00,9,  -999.0,      45,    23.0413, -999.00,9,     -999.0
33KB20130211,       PRS2,       2,         14,         17,       8017,2,20130214,       0553,  22.750667,-157.9995000,       4740,    46.1,  23.0507,  35.3611,2,  35.3604,2,    214.7,1,  -999.0,9, -999.00,9, -999.00,9,  -999.0,      45,    23.0412, -999.00,9,     -999.0
33KB20130211,       PRS2,       2,         14,         16,       8016,2,20130214,       0553,  22.750667,-157.9995000,       4740,    60.3,  23.0349,  35.3599,2,  35.3585,2,    214.0,1,  -999.0,9, -999.00,9, -999.00,9,  -999.0,      61,    23.0226, -999.00,9,     -999.0
33KB20130211,       PRS2,       2,         14,         15,       8015,2,20130214,       0553,  22.750667,-157.9995000,       4740,    77.0,  23.0280,  35.3596,2,-999.0000,5,    213.3,1,  -999.0,9, -999.00,9, -999.00,9,  -999.0,      76,    23.0122, -999.00,9,     -999.0
33KB20130211,       PRS2,       2,         14,         14,       8014,2,20130214,       0553,  22.750667,-157.9995000,       4740,    76.9,  23.0281,  35.3595,2,  35.3587,2,    213.4,1,  -999.0,9, -999.00,9, -999.00,9,  -999.0,      75,    23.0123, -999.00,9,     -999.0
33KB20130211,       PRS2,       2,         14,         13,       8025,2,20130214,       0553,  22.750667,-157.9995000,       4740,    86.5,  23.0312,  35.3609,2,  35.3597,2,    214.2,1,  -999.0,9, -999.00,9, -999.00,9,  -999.0,      86,    23.0135, -999.00,9,     -999.0
33KB20130211,       PRS2,       2,         14,         12,       8012,2,20130214,       0553,  22.750667,-157.9995000,       4740,   101.7,  23.0358,  35.3769,2,-999.0000,5,    214.4,1,  -999.0,9, -999.00,9, -999.00,9,  -999.0,     101,    23.0149, -999.00,9,     -999.0
33KB20130211,       PRS2,       2,         14,         11,       8011,2,20130214,       0553,  22.750667,-157.9995000,       4740,   101.4,  23.0368,  35.3755,2,  35.3719,2,    214.6,1,  -999.0,9, -999.00,9, -999.00,9,  -999.0,     102,    23.0161, -999.00,9,     -999.0
33KB20130211,       PRS2,       2,         14,         10,       8010,2,20130214,       0553,  22.750667,-157.9995000,       4740,   114.0,  23.0314,  35.3965,2,  35.3957,2,    212.6,1,  -999.0,9, -999.00,9, -999.00,9,  -999.0,     115,    23.0081, -999.00,9,     -999.0
33KB20130211,       PRS2,       2,         14,          9,       8009,2,20130214,       0553,  22.750667,-157.9995000,       4740,   125.4,  23.0023,  35.3893,2,-999.0000,5,    211.7,1,  -999.0,9, -999.00,9, -999.00,9,  -999.0,     126,    22.9767, -999.00,9,     -999.0
33KB20130211,       PRS2,       2,         14,          8,       8008,2,20130214,       0553,  22.750667,-157.9995000,       4740,   125.3,  22.9987,  35.3882,2,  35.3876,2,    211.6,1,  -999.0,9, -999.00,9, -999.00,9,  -999.0,     126,    22.9730, -999.00,9,     -999.0
33KB20130211,       PRS2,       2,         14,          7,       8026,2,20130214,       0553,  22.750667,-157.9995000,       4740,   135.3,  22.9855,  35.3879,2,  35.3875,2,    212.0,1,  -999.0,9, -999.00,9, -999.00,9,  -999.0,     135,    22.9579, -999.00,9,     -999.0
33KB20130211,       PRS2,       2,         14,          6,       8006,2,20130214,       0553,  22.750667,-157.9995000,       4740,   150.9,  22.8087,  35.3682,2,-999.0000,5,    209.6,1,  -999.0,9, -999.00,9, -999.00,9,  -999.0,     149,    22.7780, -999.00,9,     -999.0
33KB20130211,       PRS2,       2,         14,          5,       8005,2,20130214,       0553,  22.750667,-157.9995000,       4740,   150.4,  22.8129,  35.3699,2,  35.3703,2,    209.8,1,  -999.0,9, -999.00,9, -999.00,9,  -999.0,     151,    22.7823, -999.00,9,     -999.0
33KB20130211,       PRS2,       2,         14,          4,       8004,2,20130214,       0553,  22.750667,-157.9995000,       4740,   175.2,  21.9697,  35.3102,2,-999.0000,5,    203.7,1,  -999.0,9, -999.00,9, -999.00,9,  -999.0,     175,    21.9351, -999.00,9,     -999.0
33KB20130211,       PRS2,       2,         14,          3,       8003,2,20130214,       0553,  22.750667,-157.9995000,       4740,   175.9,  21.9515,  35.3086,2,  35.3106,2,    203.8,1,  -999.0,9, -999.00,9, -999.00,9,  -999.0,     174,    21.9167, -999.00,9,     -999.0
33KB20130211,       PRS2,       2,         14,          2,       8002,2,20130214,       0553,  22.750667,-157.9995000,       4740,   442.2,   8.4884,  34.0743,2,  34.0737,2,    141.5,1,  -999.0,9, -999.00,9, -999.00,9,  -999.0,     442,     8.4419, -999.00,9,     -999.0
33KB20130211,       PRS2,       2,         14,          1,       8001,2,20130214,       0553,  22.750667,-157.9995000,       4740,  1020.2,   4.2179,  34.4951,2,  34.4954,2,     41.3,1,  -999.0,9, -999.00,9, -999.00,9,  -999.0,    1021,     4.1389, -999.00,9,     -999.0
33KB20130211,       PRS2,       2,         15,         12,       8012,2,20130214,       0904,  22.750167,-158.0001667,       4738,     7.1,  23.0039,  35.3642,2,  35.3630,2,    214.3,2,   214.9,2, -999.00,9, -999.00,9,  -999.0,       7,    23.0025, -999.00,9,     -999.0
33KB20130211,       PRS2,       2,         15,         11,       8011,2,20130214,       0904,  22.750167,-158.0001667,       4738,   125.5,  22.3411,  35.3333,2,  35.3429,2,    205.8,2,   206.6,2, -999.00,9, -999.00,9,  -999.0,     126,    22.3160, -999.00,9,     -999.0
33KB20130211,       PRS2,       2,         15,         10,       8010,2,20130214,       0904,  22.750167,-158.0001667,       4738,   440.8,   8.4826,  34.0807,2,  34.0805,2,    143.4,2,   143.8,2, -999.00,9, -999.00,9,  -999.0,     441,     8.4363, -999.00,9,     -999.0
33KB20130211,       PRS2,       2,         15,          9,       8009,2,20130214,       0904,  22.750167,-158.0001667,       4738,   800.2,   5.2072,  34.4067,2,  34.4047,2,     25.0,2,    23.4,2, -999.00,9, -999.00,9,  -999.0,     800,     5.1405, -999.00,9,     -999.0
33KB20130211,       PRS2,       2,         15,          8,       8008,2,20130214,       0904,  22.750167,-158.0001667,       4738,  1000.7,   4.4660,  34.4776,2,  34.4495,4,     37.9,3,  -999.0,5, -999.00,9, -999.00,9,  -999.0,    1000,     4.3868, -999.00,9,     -999.0
33KB20130211,       PRS2,       2,         15,          7,       8026,2,20130214,       0904,  22.750167,-158.0001667,       4738,  2001.2,   2.3050,  34.6109,2,-999.0000,5,     82.8,2,  -999.0,5, -999.00,9, -999.00,9,  -999.0,    2002,     2.1639, -999.00,9,     -999.0
33KB20130211,       PRS2,       2,         15,          6,       8006,2,20130214,       0904,  22.750167,-158.0001667,       4738,  2001.2,   2.3050,  34.6108,2,  34.6109,2,     82.8,2,    83.4,2, -999.00,9, -999.00,9,  -999.0,    2002,     2.1639, -999.00,9,     -999.0
33KB20130211,       PRS2,       2,         15,          5,       8005,2,20130214,       0904,  22.750167,-158.0001667,       4738,  3000.2,   1.6058,  34.6645,2,-999.0000,5,    121.2,2,  -999.0,5, -999.00,9, -999.00,9,  -999.0,    3000,     1.3867, -999.00,9,     -999.0
33KB20130211,       PRS2,       2,         15,          4,       8004,2,20130214,       0904,  22.750167,-158.0001667,       4738,  3000.2,   1.6047,  34.6651,2,  34.6637,2,    121.5,2,   121.6,2, -999.00,9, -999.00,9,  -999.0,    3001,     1.3856, -999.00,9,     -999.0
33KB20130211,       PRS2,       2,         15,          3,       8003,2,20130214,       0904,  22.750167,-158.0001667,       4738,  4000.8,   1.4700,  34.6846,2,-999.0000,5,    146.3,2,  -999.0,5, -999.00,9, -999.00,9,  -999.0,    3998,     1.1518, -999.00,9,     -999.0
33KB20130211,       PRS2,       2,         15,          2,       8002,2,20130214,       0904,  22.750167,-158.0001667,       4738,  4000.1,   1.4699,  34.6847,2,  34.6834,2,    146.3,2,   145.8,2, -999.00,9, -999.00,9,  -999.0,    4001,     1.1519, -999.00,9,     -999.0
33KB20130211,       PRS2,       2,         15,          1,       8001,2,20130214,       0904,  22.750167,-158.0001667,       4738,  4804.4,   1.5191,  34.6886,2,  34.6889,2,    153.0,2,   153.6,2, -999.00,9, -999.00,9,  -999.0,    4804,     1.1078, -999.00,9,     -999.0
33KB20130211,       PRS2,       6,          1,         13,       8025,2,20130215,       0651,  21.846833,-158.3633333,       2454,     6.7,  23.6965,  35.3209,2,  35.3196,2,    212.4,1,  -999.0,9, -999.00,9, -999.00,9,  -999.0,       5,    23.6951, -999.00,9,     -999.0
33KB20130211,       PRS2,       6,          1,         12,       8012,2,20130215,       0651,  21.846833,-158.3633333,       2454,    26.3,  23.7056,  35.3221,2,  35.3204,2,    212.6,1,  -999.0,9, -999.00,9, -999.00,9,  -999.0,      28,    23.7001, -999.00,9,     -999.0
33KB20130211,       PRS2,       6,          1,         11,       8011,2,20130215,       0651,  21.846833,-158.3633333,       2454,    46.9,  23.7089,  35.3214,2,  35.3196,2,    212.7,1,  -999.0,9, -999.00,9, -999.00,9,  -999.0,      45,    23.6991, -999.00,9,     -999.0
33KB20130211,       PRS2,       6,          1,         10,       8010,2,20130215,       0651,  21.846833,-158.3633333,       2454,    75.3,  23.4629,  35.2812,2,  35.2800,2,    211.3,1,  -999.0,9, -999.00,9, -999.00,9,  -999.0,      76,    23.4473, -999.00,9,     -999.0
33KB20130211,       PRS2,       6,          1,          9,       8009,2,20130215,       0651,  21.846833,-158.3633333,       2454,   100.3,  23.3718,  35.2800,2,  35.2790,2,    211.5,1,  -999.0,9, -999.00,9, -999.00,9,  -999.0,     100,    23.3511, -999.00,9,     -999.0
33KB20130211,       PRS2,       6,          1,          8,       8008,2,20130215,       0651,  21.846833,-158.3633333,       2454,   125.9,  21.8951,  35.1925,2,  35.1918,2,    198.8,1,  -999.0,9, -999.00,9, -999.00,9,  -999.0,     126,    21.8703, -999.00,9,     -999.0
33KB20130211,       PRS2,       6,          1,          7,       8026,2,20130215,       0651,  21.846833,-158.3633333,       2454,   150.4,  20.8496,  35.1237,2,  35.1244,2,    197.6,1,  -999.0,9, -999.00,9, -999.00,9,  -999.0,     149,    20.8209, -999.00,9,     -999.0
33KB20130211,       PRS2,       6,          1,          6,       8006,2,20130215,       0651,  21.846833,-158.3633333,       2454,   175.7,  19.8801,  35.0715,2,  35.0726,2,    194.9,1,  -999.0,9, -999.00,9, -999.00,9,  -999.0,     176,    19.8478, -999.00,9,     -999.0
33KB20130211,       PRS2,       6,          1,          5,       8005,2,20130215,       0651,  21.846833,-158.3633333,       2454,   500.2,   7.3553,  34.1535,2,  34.1521,2,     87.2,1,  -999.0,9, -999.00,9, -999.00,9,  -999.0,     499,     7.3067, -999.00,9,     -999.0
33KB20130211,       PRS2,       6,          1,          4,       8004,2,20130215,       0651,  21.846833,-158.3633333,       2454,  1000.6,   4.2882,  34.4753,2,  34.4750,2,     44.0,1,  -999.0,9, -999.00,9, -999.00,9,  -999.0,    1001,     4.2103, -999.00,9,     -999.0
33KB20130211,       PRS2,       6,          1,          3,       8003,2,20130215,       0651,  21.846833,-158.3633333,       2454,  1500.5,   2.9779,  34.5663,2,  34.5665,2,     65.2,1,  -999.0,9, -999.00,9, -999.00,9,  -999.0,    1499,     2.8703, -999.00,9,     -999.0
33KB20130211,       PRS2,       6,          1,          2,       8002,2,20130215,       0651,  21.846833,-158.3633333,       2454,  2000.0,   2.1904,  34.6149,2,  34.6164,2,     88.3,1,  -999.0,9, -999.00,9, -999.00,9,  -999.0,    1999,     2.0511, -999.00,9,     -999.0
33KB20130211,       PRS2,       6,          1,          1,       8001,2,20130215,       0651,  21.846833,-158.3633333,       2454,  2454.7,   1.8020,  34.6451,2,  34.6453,2,    106.1,1,  -999.0,9, -999.00,9, -999.00,9,  -999.0,    2456,     1.6295, -999.00,9,     -999.0
33KB20130211,       PRS2,      50,          1,         11,       8011,2,20130214,       2306,  22.800333,-157.9011667,       4681,    17.0,  23.0405,  35.3878,2,-999.0000,9,    213.3,1,  -999.0,9, -999.00,9, -999.00,9,  -999.0,      16,    23.0370, -999.00,9,     -999.0
33KB20130211,       PRS2,      50,          1,         10,       8010,2,20130214,       2306,  22.800333,-157.9011667,       4681,    24.6,  23.0477,  35.3878,2,-999.0000,9,    212.8,1,  -999.0,9, -999.00,9, -999.00,9,  -999.0,      24,    23.0426, -999.00,9,     -999.0
33KB20130211,       PRS2,      50,          1,          9,       8009,2,20130214,       2306,  22.800333,-157.9011667,       4681,    24.6,  23.0444,  35.3880,2,-999.0000,9,    212.5,1,  -999.0,9, -999.00,9, -999.00,9,  -999.0,      24,    23.0394, -999.00,9,     -999.0
33KB20130211,       PRS2,      50,          1,          8,       8008,2,20130214,       2306,  22.800333,-157.9011667,       4681,    39.7,  22.9735,  35.3858,2,-999.0000,9,    213.7,1,  -999.0,9, -999.00,9, -999.00,9,  -999.0,      40,    22.9654, -999.00,9,     -999.0
33KB20130211,       PRS2,      50,          1,          7,       8026,2,20130214,       2306,  22.800333,-157.9011667,       4681,    70.0,  22.9716,  35.3859,2,-999.0000,9,    213.5,1,  -999.0,9, -999.00,9, -999.00,9,  -999.0,      70,    22.9573, -999.00,9,     -999.0
33KB20130211,       PRS2,      50,          1,          6,       8006,2,20130214,       2306,  22.800333,-157.9011667,       4681,   150.6,  22.1082,  35.3318,2,-999.0000,9,    205.8,1,  -999.0,9, -999.00,9, -999.00,9,  -999.0,     150,    22.0783, -999.00,9,     -999.0
33KB20130211,       PRS2,      50,          1,          5,       8005,2,20130214,       2306,  22.800333,-157.9011667,       4681,   150.6,  22.1074,  35.3315,2,-999.0000,9,    205.8,1,  -999.0,9, -999.00,9, -999.00,9,  -999.0,     150,    22.0775, -999.00,9,     -999.0
33KB20130211,       PRS2,      50,          1,          4,       8004,2,20130214,       2306,  22.800333,-157.9011667,       4681,   150.3,  22.1108,  35.3320,2,-999.0000,9,    205.7,1,  -999.0,9, -999.00,9, -999.00,9,  -999.0,     150,    22.0809, -999.00,9,     -999.0
33KB20130211,       PRS2,      50,          1,          3,       8003,2,20130214,       2306,  22.800333,-157.9011667,       4681,   150.3,  22.1099,  35.3316,2,-999.0000,9,    205.4,1,  -999.0,9, -999.00,9, -999.00,9,  -999.0,     150,    22.0800, -999.00,9,     -999.0
33KB20130211,       PRS2,      50,          1,          2,       8002,2,20130214,       2306,  22.800333,-157.9011667,       4681,   150.4,  22.1020,  35.3311,2,-999.0000,9,    205.0,1,  -999.0,9, -999.00,9, -999.00,9,  -999.0,     149,    22.0721, -999.00,9,     -999.0
33KB20130211,       PRS2,      50,          1,          1,       8001,2,20130214,       2306,  22.800333,-157.9011667,       4681,   150.2,  22.0888,  35.3311,2,-999.0000,9,    204.5,1,  -999.0,9, -999.00,9, -999.00,9,  -999.0,     150,    22.0589, -999.00,9,     -999.0