BOTTLE,20141031SIOCCHAMB
EXPOCODE,SECT_ID,STNNBR,CASTNO,SAMPNO,BTLNBR,BTLNBR_FLAG_W,DATE,TIME,LATITUDE,LONGITUDE,DEPTH,CTDPRS,CTDTMP,CTDSAL,CTDSAL_FLAG_W,SALNTY,SALNTY_FLAG_W,CTDOXY,CTDOXY_FLAG_W,OXYGEN,OXYGEN_FLAG_W,SILCAT,SILCAT_FLAG_W,PHSPHT,PHSPHT_FLAG_W,REVPRS,CTDRAW,THETA,NO2+NO3,NO2+NO3_FLAG_W,REVTMP
,,,,,,,,,,,METERS,DBAR,ITS-90,PSS-78,,PSS-78,,UMOL/KG,,UMOL/KG,,UMOL/KG,,UMOL/KG,,DBAR,DBAR,ITS-90,UMOL/KG,,DEG C
33KB20130211,       PRS2,       2,         10,         19,       8019,2,20130213,       1746,  22.753667,-158.0123333,       4741,     7.4,  22.9907,  35.3829,2,-999.0000,5,    214.2,1,  -999.0,9, -999.00,9, -999.00,9,  -999.0,       6,    22.9892, -999.00,9,     -999.0
33KB20130211,       PRS2,       2,         10,         18,       8018,2,20130213,       1746,  22.753667,-158.0123333,       4741,     7.7,  22.9904,  35.3829,2,  35.3821,2,    214.2,1,  -999.0,9, -999.00,9, -999.00,9,  -999.0,       7,    22.9888, -999.00,9,     -999.0
33KB20130211,       PRS2,       2,         10,         17,       8017,2,20130213,       1746,  22.753667,-158.0123333,       4741,    26.4,  23.0025,  35.3826,2,-999.0000,5,    214.1,1,  -999.0,9, -999.00,9, -999.00,9,  -999.0,      26,    22.9971, -999.00,9,     -999.0
33KB20130211,       PRS2,       2,         10,         16,       8016,2,20130213,       1746,  22.753667,-158.0123333,       4741,    26.4,  22.9981,  35.3825,2,  35.3827,2,    214.1,1,  -999.0,9, -999.00,9, -999.00,9,  -999.0,      27,    22.9927, -999.00,9,     -999.0
33KB20130211,       PRS2,       2,         10,         15,       8015,2,20130213,       1746,  22.753667,-158.0123333,       4741,    46.6,  23.0073,  35.3827,2,-999.0000,5,    214.0,1,  -999.0,9, -999.00,9, -999.00,9,  -999.0,      45,    22.9978, -999.00,9,     -999.0
33KB20130211,       PRS2,       2,         10,         14,       8014,2,20130213,       1746,  22.753667,-158.0123333,       4741,    46.1,  23.0079,  35.3824,2,  35.3823,2,    214.1,1,  -999.0,9, -999.00,9, -999.00,9,  -999.0,      46,    22.9985, -999.00,9,     -999.0
33KB20130211,       PRS2,       2,         10,         13,       8025,2,20130213,       1746,  22.753667,-158.0123333,       4741,    76.4,  23.0114,  35.3827,2,-999.0000,5,    214.2,1,  -999.0,9, -999.00,9, -999.00,9,  -999.0,      75,    22.9958, -999.00,9,     -999.0
33KB20130211,       PRS2,       2,         10,         12,       8012,2,20130213,       1746,  22.753667,-158.0123333,       4741,    76.3,  23.0108,  35.3827,2,  35.3821,2,    214.3,1,  -999.0,9, -999.00,9, -999.00,9,  -999.0,      75,    22.9952, -999.00,9,     -999.0
33KB20130211,       PRS2,       2,         10,         11,       8011,2,20130213,       1746,  22.753667,-158.0123333,       4741,   101.6,  22.9849,  35.3870,2,-999.0000,5,    213.2,1,  -999.0,9, -999.00,9, -999.00,9,  -999.0,     101,    22.9641, -999.00,9,     -999.0
33KB20130211,       PRS2,       2,         10,         10,       8010,2,20130213,       1746,  22.753667,-158.0123333,       4741,   100.8,  22.9867,  35.3869,2,  35.3863,2,    213.1,1,  -999.0,9, -999.00,9, -999.00,9,  -999.0,     102,    22.9661, -999.00,9,     -999.0
33KB20130211,       PRS2,       2,         10,          9,       8009,2,20130213,       1746,  22.753667,-158.0123333,       4741,   126.2,  22.6998,  35.3693,2,-999.0000,5,    210.1,1,  -999.0,9, -999.00,9, -999.00,9,  -999.0,     125,    22.6743, -999.00,9,     -999.0
33KB20130211,       PRS2,       2,         10,          8,       8008,2,20130213,       1746,  22.753667,-158.0123333,       4741,   126.2,  22.6983,  35.3698,2,  35.3689,2,    209.8,1,  -999.0,9, -999.00,9, -999.00,9,  -999.0,     125,    22.6727, -999.00,9,     -999.0
33KB20130211,       PRS2,       2,         10,          7,       8026,2,20130213,       1746,  22.753667,-158.0123333,       4741,   150.0,  21.3103,  35.2623,2,-999.0000,5,    201.7,1,  -999.0,9, -999.00,9, -999.00,9,  -999.0,     149,    21.2812, -999.00,9,     -999.0
33KB20130211,       PRS2,       2,         10,          6,       8006,2,20130213,       1746,  22.753667,-158.0123333,       4741,   149.9,  21.2862,  35.2666,2,  35.2603,2,    201.6,1,  -999.0,9, -999.00,9, -999.00,9,  -999.0,     150,    21.2572, -999.00,9,     -999.0
33KB20130211,       PRS2,       2,         10,          5,       8005,2,20130213,       1746,  22.753667,-158.0123333,       4741,   176.1,  20.5055,  35.2582,2,-999.0000,5,    199.2,1,  -999.0,9, -999.00,9, -999.00,9,  -999.0,     177,    20.4723, -999.00,9,     -999.0
33KB20130211,       PRS2,       2,         10,          4,       8004,2,20130213,       1746,  22.753667,-158.0123333,       4741,   176.5,  20.5041,  35.2582,2,  35.2572,2,    199.2,1,  -999.0,9, -999.00,9, -999.00,9,  -999.0,     176,    20.4708, -999.00,9,     -999.0
33KB20130211,       PRS2,       2,         10,          3,       8003,2,20130213,       1746,  22.753667,-158.0123333,       4741,   430.4,   8.9472,  34.0763,2,  34.0762,2,    165.7,1,  -999.0,9, -999.00,9, -999.00,9,  -999.0,     428,     8.9005, -999.00,9,     -999.0
33KB20130211,       PRS2,       2,         10,          2,       8002,2,20130213,       1746,  22.753667,-158.0123333,       4741,  1020.0,   4.3847,  34.4816,2,-999.0000,5,     39.2,1,  -999.0,9, -999.00,9, -999.00,9,  -999.0,    1020,     4.3044, -999.00,9,     -999.0
33KB20130211,       PRS2,       2,         10,          1,       8001,2,20130213,       1746,  22.753667,-158.0123333,       4741,  1020.0,   4.3856,  34.4814,2,  34.4828,2,     39.2,1,  -999.0,9, -999.00,9, -999.00,9,  -999.0,    1020,     4.3053, -999.00,9,     -999.0
33KB20130211,       PRS2,       2,         11,         16,       8016,2,20130213,       2118,  22.800500,-157.9965000,       4721,     7.4,  23.0255,  35.3851,2,  35.3837,2,    214.6,1,  -999.0,9, -999.00,9, -999.00,9,  -999.0,       7,    23.0240, -999.00,9,     -999.0
33KB20130211,       PRS2,       2,         11,         15,       8015,2,20130213,       2118,  22.800500,-157.9965000,       4721,     7.4,  23.0262,  35.3854,2,-999.0000,5,    214.6,1,  -999.0,9, -999.00,9, -999.00,9,  -999.0,       6,    23.0246, -999.00,9,     -999.0
33KB20130211,       PRS2,       2,         11,         14,       8014,2,20130213,       2118,  22.800500,-157.9965000,       4721,    25.0,  23.0098,  35.3840,2,-999.0000,5,    213.9,1,  -999.0,9, -999.00,9, -999.00,9,  -999.0,      25,    23.0047, -999.00,9,     -999.0
33KB20130211,       PRS2,       2,         11,         13,       8025,2,20130213,       2118,  22.800500,-157.9965000,       4721,    25.0,  23.0104,  35.3839,2,-999.0000,5,    214.0,1,  -999.0,9, -999.00,9, -999.00,9,  -999.0,      25,    23.0052, -999.00,9,     -999.0
33KB20130211,       PRS2,       2,         11,         12,       8012,2,20130213,       2118,  22.800500,-157.9965000,       4721,    25.1,  23.0104,  35.3840,2,-999.0000,5,    214.0,1,  -999.0,9, -999.00,9, -999.00,9,  -999.0,      25,    23.0052, -999.00,9,     -999.0
33KB20130211,       PRS2,       2,         11,         11,       8011,2,20130213,       2118,  22.800500,-157.9965000,       4721,    25.2,  23.0098,  35.3841,2,-999.0000,5,    214.0,1,  -999.0,9, -999.00,9, -999.00,9,  -999.0,      25,    23.0047, -999.00,9,     -999.0
33KB20130211,       PRS2,       2,         11,         10,       8010,2,20130213,       2118,  22.800500,-157.9965000,       4721,    25.1,  23.0096,  35.3840,2,-999.0000,5,    214.1,1,  -999.0,9, -999.00,9, -999.00,9,  -999.0,      25,    23.0044, -999.00,9,     -999.0
33KB20130211,       PRS2,       2,         11,          9,       8009,2,20130213,       2118,  22.800500,-157.9965000,       4721,    25.1,  23.0096,  35.3840,2,-999.0000,5,    214.1,1,  -999.0,9, -999.00,9, -999.00,9,  -999.0,      25,    23.0045, -999.00,9,     -999.0
33KB20130211,       PRS2,       2,         11,          8,       8008,2,20130213,       2118,  22.800500,-157.9965000,       4721,    45.8,  23.0093,  35.3843,2,-999.0000,5,    214.2,1,  -999.0,9, -999.00,9, -999.00,9,  -999.0,      47,    23.0000, -999.00,9,     -999.0
33KB20130211,       PRS2,       2,         11,          7,       8026,2,20130213,       2118,  22.800500,-157.9965000,       4721,    75.6,  23.0103,  35.3846,2,-999.0000,5,    214.3,1,  -999.0,9, -999.00,9, -999.00,9,  -999.0,      75,    22.9949, -999.00,9,     -999.0
33KB20130211,       PRS2,       2,         11,          6,       8006,2,20130213,       2118,  22.800500,-157.9965000,       4721,   101.0,  22.9825,  35.3895,2,-999.0000,5,    212.7,1,  -999.0,9, -999.00,9, -999.00,9,  -999.0,     100,    22.9618, -999.00,9,     -999.0
33KB20130211,       PRS2,       2,         11,          5,       8005,2,20130213,       2118,  22.800500,-157.9965000,       4721,   124.6,  22.8238,  35.3817,2,-999.0000,5,    211.2,1,  -999.0,9, -999.00,9, -999.00,9,  -999.0,     124,    22.7985, -999.00,9,     -999.0
33KB20130211,       PRS2,       2,         11,          4,       8004,2,20130213,       2118,  22.800500,-157.9965000,       4721,   150.8,  21.6450,  35.2636,2,-999.0000,5,    202.8,1,  -999.0,9, -999.00,9, -999.00,9,  -999.0,     150,    21.6155, -999.00,9,     -999.0
33KB20130211,       PRS2,       2,         11,          3,       8003,2,20130213,       2118,  22.800500,-157.9965000,       4721,   176.0,  20.6518,  35.2208,2,-999.0000,5,    196.8,1,  -999.0,9, -999.00,9, -999.00,9,  -999.0,     176,    20.6185, -999.00,9,     -999.0
33KB20130211,       PRS2,       2,         11,          2,       8002,2,20130213,       2118,  22.800500,-157.9965000,       4721,   421.5,   9.2259,  34.0871,2,  34.0860,2,    171.2,1,  -999.0,9, -999.00,9, -999.00,9,  -999.0,     422,     9.1793, -999.00,9,     -999.0
33KB20130211,       PRS2,       2,         11,          1,       8001,2,20130213,       2118,  22.800500,-157.9965000,       4721,  1021.0,   4.3812,  34.4821,2,  34.4830,2,     38.8,1,  -999.0,9, -999.00,9, -999.00,9,  -999.0,    1021,     4.3008, -999.00,9,     -999.0
33KB20130211,       PRS2,       2,         12,         23,       8023,2,20130213,       2341,  22.802667,-157.9838333,       4710,     7.3,  23.0756,  35.3892,2,  35.3875,2,    215.0,1,  -999.0,9, -999.00,9, -999.00,9,  -999.0,       7,    23.0741, -999.00,9,     -999.0
33KB20130211,       PRS2,       2,         12,         22,       8022,2,20130213,       2341,  22.802667,-157.9838333,       4710,    24.4,  23.0184,  35.3850,2,  35.3841,2,    213.9,1,  -999.0,9, -999.00,9, -999.00,9,  -999.0,      24,    23.0134, -999.00,9,     -999.0
33KB20130211,       PRS2,       2,         12,         21,       8021,2,20130213,       2341,  22.802667,-157.9838333,       4710,    45.9,  23.0065,  35.3853,2,  35.3843,2,    214.3,1,  -999.0,9, -999.00,9, -999.00,9,  -999.0,      45,    22.9971, -999.00,9,     -999.0
33KB20130211,       PRS2,       2,         12,         20,       8020,2,20130213,       2341,  22.802667,-157.9838333,       4710,    76.0,  23.0028,  35.3882,2,  35.3867,2,    213.3,1,  -999.0,9, -999.00,9, -999.00,9,  -999.0,      75,    22.9872, -999.00,9,     -999.0
33KB20130211,       PRS2,       2,         12,         19,       8019,2,20130213,       2341,  22.802667,-157.9838333,       4710,   100.5,  22.9632,  35.3950,2,  35.3942,2,    213.3,1,  -999.0,9, -999.00,9, -999.00,9,  -999.0,     101,    22.9426, -999.00,9,     -999.0
33KB20130211,       PRS2,       2,         12,         18,       8018,2,20130213,       2341,  22.802667,-157.9838333,       4710,   125.4,  22.4356,  35.3407,2,  35.3532,2,    206.0,1,  -999.0,9, -999.00,9, -999.00,9,  -999.0,     124,    22.4104, -999.00,9,     -999.0
33KB20130211,       PRS2,       2,         12,         17,       8017,2,20130213,       2341,  22.802667,-157.9838333,       4710,   151.2,  21.1183,  35.2931,2,  35.2934,2,    199.9,1,  -999.0,9, -999.00,9, -999.00,9,  -999.0,     150,    21.0893, -999.00,9,     -999.0
33KB20130211,       PRS2,       2,         12,         16,       8016,2,20130213,       2341,  22.802667,-157.9838333,       4710,   200.0,  18.5897,  34.9404,2,-999.0000,5,    194.4,1,  -999.0,9, -999.00,9, -999.00,9,  -999.0,     199,    18.5546, -999.00,9,     -999.0
33KB20130211,       PRS2,       2,         12,         15,       8015,2,20130213,       2341,  22.802667,-157.9838333,       4710,   199.9,  18.5498,  34.9304,2,-999.0000,5,    194.4,1,  -999.0,9, -999.00,9, -999.00,9,  -999.0,     200,    18.5148, -999.00,9,     -999.0
33KB20130211,       PRS2,       2,         12,         14,       8014,2,20130213,       2341,  22.802667,-157.9838333,       4710,   249.9,  15.0535,  34.4534,2,  34.4512,2,    197.9,1,  -999.0,9, -999.00,9, -999.00,9,  -999.0,     250,    15.0156, -999.00,9,     -999.0
33KB20130211,       PRS2,       2,         12,         13,       8025,2,20130213,       2341,  22.802667,-157.9838333,       4710,   300.7,  12.3576,  34.2196,2,-999.0000,5,    201.8,1,  -999.0,9, -999.00,9, -999.00,9,  -999.0,     301,    12.3177, -999.00,9,     -999.0
33KB20130211,       PRS2,       2,         12,         12,       8012,2,20130213,       2341,  22.802667,-157.9838333,       4710,   300.8,  12.3590,  34.2195,2,-999.0000,5,    201.8,1,  -999.0,9, -999.00,9, -999.00,9,  -999.0,     301,    12.3192, -999.00,9,     -999.0
33KB20130211,       PRS2,       2,         12,         11,       8011,2,20130213,       2341,  22.802667,-157.9838333,       4710,   351.0,  10.9020,  34.1629,2,  34.1650,2,    192.3,1,  -999.0,9, -999.00,9, -999.00,9,  -999.0,     351,    10.8591, -999.00,9,     -999.0
33KB20130211,       PRS2,       2,         12,         10,       8010,2,20130213,       2341,  22.802667,-157.9838333,       4710,   400.6,   9.3967,  34.0902,2,-999.0000,5,    173.4,1,  -999.0,9, -999.00,9, -999.00,9,  -999.0,     400,     9.3520, -999.00,9,     -999.0
33KB20130211,       PRS2,       2,         12,          9,       8009,2,20130213,       2341,  22.802667,-157.9838333,       4710,   429.8,   8.8222,  34.0737,2,  34.0766,2,    163.6,1,  -999.0,9, -999.00,9, -999.00,9,  -999.0,     429,     8.7760, -999.00,9,     -999.0
33KB20130211,       PRS2,       2,         12,          8,       8008,2,20130213,       2341,  22.802667,-157.9838333,       4710,   498.6,   7.7784,  34.1252,2,-999.0000,5,     93.3,1,  -999.0,9, -999.00,9, -999.00,9,  -999.0,     498,     7.7285, -999.00,9,     -999.0
33KB20130211,       PRS2,       2,         12,          7,       8026,2,20130213,       2341,  22.802667,-157.9838333,       4710,   498.6,   7.5834,  34.1183,2,-999.0000,5,     91.2,1,  -999.0,9, -999.00,9, -999.00,9,  -999.0,     499,     7.5342, -999.00,9,     -999.0
33KB20130211,       PRS2,       2,         12,          6,       8006,2,20130213,       2341,  22.802667,-157.9838333,       4710,   600.4,   5.8536,  34.1624,2,-999.0000,5,     42.8,1,  -999.0,9, -999.00,9, -999.00,9,  -999.0,     601,     5.8017, -999.00,9,     -999.0
33KB20130211,       PRS2,       2,         12,          5,       8005,2,20130213,       2341,  22.802667,-157.9838333,       4710,   700.1,   5.6230,  34.3352,2,-999.0000,5,     22.4,1,  -999.0,9, -999.00,9, -999.00,9,  -999.0,     700,     5.5630, -999.00,9,     -999.0
33KB20130211,       PRS2,       2,         12,          4,       8004,2,20130213,       2341,  22.802667,-157.9838333,       4710,   770.4,   5.3163,  34.3976,2,-999.0000,5,     22.5,1,  -999.0,9, -999.00,9, -999.00,9,  -999.0,     770,     5.2517, -999.00,9,     -999.0
33KB20130211,       PRS2,       2,         12,          3,       8003,2,20130213,       2341,  22.802667,-157.9838333,       4710,   799.7,   5.1088,  34.4002,2,-999.0000,5,     27.6,1,  -999.0,9, -999.00,9, -999.00,9,  -999.0,     800,     5.0428, -999.00,9,     -999.0
33KB20130211,       PRS2,       2,         12,          2,       8002,2,20130213,       2341,  22.802667,-157.9838333,       4710,   900.7,   4.7534,  34.4495,2,-999.0000,5,     32.6,1,  -999.0,9, -999.00,9, -999.00,9,  -999.0,     901,     4.6808, -999.00,9,     -999.0
33KB20130211,       PRS2,       2,         12,          1,       8001,2,20130213,       2341,  22.802667,-157.9838333,       4710,  1020.3,   4.3151,  34.4894,2,  34.4905,2,     40.1,1,  -999.0,9, -999.00,9, -999.00,9,  -999.0,    1020,     4.2353, -999.00,9,     -999.0
33KB20130211,       PRS2,       2,         13,         11,       8011,2,20130214,       0254,  22.807500,-157.9866667,       4711,     6.7,  23.0341,  35.3890,2,-999.0000,5,    215.0,1,  -999.0,9, -999.00,9, -999.00,9,  -999.0,       8,    23.0328, -999.00,9,     -999.0
33KB20130211,       PRS2,       2,         13,         10,       8010,2,20130214,       0254,  22.807500,-157.9866667,       4711,    24.6,  23.0373,  35.3892,2,  35.3876,2,    215.0,1,  -999.0,9, -999.00,9, -999.00,9,  -999.0,      24,    23.0322, -999.00,9,     -999.0
33KB20130211,       PRS2,       2,         13,          9,       8009,2,20130214,       0254,  22.807500,-157.9866667,       4711,    45.2,  23.0054,  35.3863,2,-999.0000,5,    215.1,1,  -999.0,9, -999.00,9, -999.00,9,  -999.0,      44,    22.9962, -999.00,9,     -999.0
33KB20130211,       PRS2,       2,         13,          8,       8008,2,20130214,       0254,  22.807500,-157.9866667,       4711,    75.5,  23.0043,  35.3889,2,-999.0000,5,    214.7,1,  -999.0,9, -999.00,9, -999.00,9,  -999.0,      74,    22.9889, -999.00,9,     -999.0
33KB20130211,       PRS2,       2,         13,          7,       8026,2,20130214,       0254,  22.807500,-157.9866667,       4711,   100.6,  22.9845,  35.3901,2,  35.3892,2,    213.6,1,  -999.0,9, -999.00,9, -999.00,9,  -999.0,     100,    22.9639, -999.00,9,     -999.0
33KB20130211,       PRS2,       2,         13,          6,       8006,2,20130214,       0254,  22.807500,-157.9866667,       4711,   126.5,  22.9484,  35.3899,2,-999.0000,5,    213.9,1,  -999.0,9, -999.00,9, -999.00,9,  -999.0,     127,    22.9226, -999.00,9,     -999.0
33KB20130211,       PRS2,       2,         13,          5,       8005,2,20130214,       0254,  22.807500,-157.9866667,       4711,   151.5,  22.1269,  35.3136,2,-999.0000,5,    205.6,1,  -999.0,9, -999.00,9, -999.00,9,  -999.0,     150,    22.0967, -999.00,9,     -999.0
33KB20130211,       PRS2,       2,         13,          4,       8004,2,20130214,       0254,  22.807500,-157.9866667,       4711,   175.1,  21.1587,  35.2934,2,-999.0000,5,    200.7,1,  -999.0,9, -999.00,9, -999.00,9,  -999.0,     174,    21.1249, -999.00,9,     -999.0
33KB20130211,       PRS2,       2,         13,          3,       8003,2,20130214,       0254,  22.807500,-157.9866667,       4711,   410.8,   9.0106,  34.0791,2,  34.0772,2,    165.5,1,  -999.0,9, -999.00,9, -999.00,9,  -999.0,     409,     8.9659, -999.00,9,     -999.0
33KB20130211,       PRS2,       2,         13,          2,       8002,2,20130214,       0254,  22.807500,-157.9866667,       4711,  1021.3,   4.2851,  34.4913,2,-999.0000,5,     40.4,1,  -999.0,9, -999.00,9, -999.00,9,  -999.0,    1020,     4.2054, -999.00,9,     -999.0
33KB20130211,       PRS2,       2,         13,          1,       8001,2,20130214,       0254,  22.807500,-157.9866667,       4711,  1021.1,   4.2871,  34.4910,2,  34.4923,2,     40.4,1,  -999.0,9, -999.00,9, -999.00,9,  -999.0,    1021,     4.2074, -999.00,9,     -999.0