BOTTLE,20141031SIOCCHAMB
EXPOCODE,SECT_ID,STNNBR,CASTNO,SAMPNO,BTLNBR,BTLNBR_FLAG_W,DATE,TIME,LATITUDE,LONGITUDE,DEPTH,CTDPRS,CTDTMP,CTDSAL,CTDSAL_FLAG_W,SALNTY,SALNTY_FLAG_W,CTDOXY,CTDOXY_FLAG_W,OXYGEN,OXYGEN_FLAG_W,SILCAT,SILCAT_FLAG_W,PHSPHT,PHSPHT_FLAG_W,REVPRS,CTDRAW,THETA,NO2+NO3,NO2+NO3_FLAG_W,REVTMP
,,,,,,,,,,,METERS,DBAR,ITS-90,PSS-78,,PSS-78,,UMOL/KG,,UMOL/KG,,UMOL/KG,,UMOL/KG,,DBAR,DBAR,ITS-90,UMOL/KG,,DEG C
33KB20130211,       PRS2,       1,          1,         24,       8024,2,20130211,       2314,  21.343000,-158.2735000,       1566,     6.9,  24.0914,  35.2869,2,  35.2865,2,    210.3,2,   210.4,2, -999.00,9, -999.00,9,  -999.0,       8,    24.0900, -999.00,9,     -999.0
33KB20130211,       PRS2,       1,          1,         23,       8023,2,20130211,       2314,  21.343000,-158.2735000,       1566,     6.9,  24.0816,  35.2860,2,  35.2863,2,    210.6,2,   210.2,2, -999.00,9, -999.00,9,  -999.0,       9,    24.0801, -999.00,9,     -999.0
33KB20130211,       PRS2,       1,          1,         22,       8022,2,20130211,       2314,  21.343000,-158.2735000,       1566,    25.6,  23.9899,  35.3090,2,  35.3084,2,    210.7,2,   210.9,2, -999.00,9, -999.00,9,  -999.0,      25,    23.9845, -999.00,9,     -999.0
33KB20130211,       PRS2,       1,          1,         21,       8021,2,20130211,       2314,  21.343000,-158.2735000,       1566,    46.3,  23.9666,  35.3261,2,  35.3273,2,    210.9,2,   210.8,2, -999.00,9, -999.00,9,  -999.0,      46,    23.9569, -999.00,9,     -999.0
33KB20130211,       PRS2,       1,          1,         20,       8020,2,20130211,       2314,  21.343000,-158.2735000,       1566,    59.8,  23.9989,  35.3510,2,  35.3518,2,    210.5,2,   210.8,2, -999.00,9, -999.00,9,  -999.0,      60,    23.9863, -999.00,9,     -999.0
33KB20130211,       PRS2,       1,          1,         19,       8019,2,20130211,       2314,  21.343000,-158.2735000,       1566,    74.6,  23.9480,  35.3407,2,  35.3407,2,    211.5,2,   210.8,2, -999.00,9, -999.00,9,  -999.0,      75,    23.9323, -999.00,9,     -999.0
33KB20130211,       PRS2,       1,          1,         18,       8018,2,20130211,       2314,  21.343000,-158.2735000,       1566,   100.0,  22.1553,  35.2077,2,  35.2052,2,    207.5,2,   206.2,2, -999.00,9, -999.00,9,  -999.0,     100,    22.1354, -999.00,9,     -999.0
33KB20130211,       PRS2,       1,          1,         17,       8017,2,20130211,       2314,  21.343000,-158.2735000,       1566,   115.6,  20.8053,  35.1520,2,  35.1569,2,    188.7,2,   191.9,2, -999.00,9, -999.00,9,  -999.0,     114,    20.7834, -999.00,9,     -999.0
33KB20130211,       PRS2,       1,          1,         16,       8016,2,20130211,       2314,  21.343000,-158.2735000,       1566,   124.7,  20.1804,  35.0808,2,  35.0833,2,    188.7,2,   189.6,2, -999.00,9, -999.00,9,  -999.0,     124,    20.1572, -999.00,9,     -999.0
33KB20130211,       PRS2,       1,          1,         15,       8015,2,20130211,       2314,  21.343000,-158.2735000,       1566,   149.5,  18.8128,  34.9257,2,  34.9321,2,    190.1,2,   189.8,2, -999.00,9, -999.00,9,  -999.0,     150,    18.7864, -999.00,9,     -999.0
33KB20130211,       PRS2,       1,          1,         14,       8014,2,20130211,       2314,  21.343000,-158.2735000,       1566,   175.4,  16.7946,  34.6338,2,  34.6354,2,    185.7,2,   185.7,2, -999.00,9, -999.00,9,  -999.0,     176,    16.7660, -999.00,9,     -999.0
33KB20130211,       PRS2,       1,          1,         13,       8025,2,20130211,       2314,  21.343000,-158.2735000,       1566,   200.0,  15.2666,  34.4546,2,  34.4522,2,    183.3,2,   183.5,2, -999.00,9, -999.00,9,  -999.0,     199,    15.2361, -999.00,9,     -999.0
33KB20130211,       PRS2,       1,          1,         12,       8012,2,20130211,       2314,  21.343000,-158.2735000,       1566,   225.9,  13.8092,  34.2981,2,  34.2982,2,    179.6,2,   180.2,2, -999.00,9, -999.00,9,  -999.0,     225,    13.7770, -999.00,9,     -999.0
33KB20130211,       PRS2,       1,          1,         11,       8011,2,20130211,       2314,  21.343000,-158.2735000,       1566,   250.7,  12.6149,  34.1988,2,  34.1993,2,    174.7,2,   174.5,2, -999.00,9, -999.00,9,  -999.0,     250,    12.5813, -999.00,9,     -999.0
33KB20130211,       PRS2,       1,          1,         10,       8010,2,20130211,       2314,  21.343000,-158.2735000,       1566,   300.4,  10.5389,  34.1268,2,  34.1215,2,    162.0,2,   161.3,2, -999.00,9, -999.00,9,  -999.0,     300,    10.5030, -999.00,9,     -999.0
33KB20130211,       PRS2,       1,          1,          9,       8009,2,20130211,       2314,  21.343000,-158.2735000,       1566,   350.0,   9.0879,  34.1029,2,  34.1050,2,    142.6,2,   140.1,2, -999.00,9, -999.00,9,  -999.0,     350,     9.0498, -999.00,9,     -999.0
33KB20130211,       PRS2,       1,          1,          8,       8008,2,20130211,       2314,  21.343000,-158.2735000,       1566,   400.2,   8.1148,  34.1309,2,  34.1197,2,    108.1,2,   132.4,4, -999.00,9, -999.00,9,  -999.0,     399,     8.0739, -999.00,9,     -999.0
33KB20130211,       PRS2,       1,          1,          7,       8026,2,20130211,       2314,  21.343000,-158.2735000,       1566,   500.6,   6.8896,  34.1793,2,  34.1819,2,     74.7,2,    71.5,2, -999.00,9, -999.00,9,  -999.0,     502,     6.8428, -999.00,9,     -999.0
33KB20130211,       PRS2,       1,          1,          6,       8006,2,20130211,       2314,  21.343000,-158.2735000,       1566,   599.8,   5.7723,  34.2738,2,  34.2719,2,     43.1,2,    43.2,2, -999.00,9, -999.00,9,  -999.0,     598,     5.7207, -999.00,9,     -999.0
33KB20130211,       PRS2,       1,          1,          5,       8005,2,20130211,       2314,  21.343000,-158.2735000,       1566,   699.9,   5.0762,  34.4044,2,  34.4053,2,     36.6,2,    36.4,2, -999.00,9, -999.00,9,  -999.0,     701,     5.0191, -999.00,9,     -999.0
33KB20130211,       PRS2,       1,          1,          4,       8004,2,20130211,       2314,  21.343000,-158.2735000,       1566,   750.5,   4.9909,  34.4350,2,  34.4355,2,     38.1,2,    38.3,2, -999.00,9, -999.00,9,  -999.0,     749,     4.9299, -999.00,9,     -999.0
33KB20130211,       PRS2,       1,          1,          3,       8003,2,20130211,       2314,  21.343000,-158.2735000,       1566,   899.0,   4.4129,  34.4927,2,  34.4940,2,     44.2,2,    44.1,2, -999.00,9, -999.00,9,  -999.0,     898,     4.3427, -999.00,9,     -999.0
33KB20130211,       PRS2,       1,          1,          2,       8002,2,20130211,       2314,  21.343000,-158.2735000,       1566,   899.1,   4.4125,  34.4928,2,  34.4938,2,     44.2,2,    44.1,2, -999.00,9, -999.00,9,  -999.0,     898,     4.3423, -999.00,9,     -999.0
33KB20130211,       PRS2,       1,          1,          1,       8001,2,20130211,       2314,  21.343000,-158.2735000,       1566,  1019.6,   4.1022,  34.5118,2,  34.5144,2,     47.0,2,    47.1,2, -999.00,9, -999.00,9,  -999.0,    1021,     4.0240, -999.00,9,     -999.0
33KB20130211,       PRS2,       2,          1,         22,       8022,2,20130212,       1147,  22.749833,-158.0190000,       4743,     7.9,  23.4286,  35.3059,2,  35.3062,2,    214.0,1,  -999.0,9, -999.00,9, -999.00,9,  -999.0,       7,    23.4270, -999.00,9,     -999.0
33KB20130211,       PRS2,       2,          1,         21,       8021,2,20130212,       1147,  22.749833,-158.0190000,       4743,     8.0,  23.4287,  35.3058,2,  35.3058,2,    213.7,1,  -999.0,9, -999.00,9, -999.00,9,  -999.0,       7,    23.4271, -999.00,9,     -999.0
33KB20130211,       PRS2,       2,          1,         20,       8020,2,20130212,       1147,  22.749833,-158.0190000,       4743,     7.9,  23.4283,  35.3057,2,  35.3060,2,    213.4,1,  -999.0,9, -999.00,9, -999.00,9,  -999.0,       7,    23.4267, -999.00,9,     -999.0
33KB20130211,       PRS2,       2,          1,         19,       8019,2,20130212,       1147,  22.749833,-158.0190000,       4743,    25.4,  23.4297,  35.3063,2,  35.3058,2,    213.4,1,  -999.0,9, -999.00,9, -999.00,9,  -999.0,      25,    23.4244, -999.00,9,     -999.0
33KB20130211,       PRS2,       2,          1,         18,       8018,2,20130212,       1147,  22.749833,-158.0190000,       4743,    25.4,  23.4301,  35.3062,2,  35.3060,2,    213.5,1,  -999.0,9, -999.00,9, -999.00,9,  -999.0,      26,    23.4249, -999.00,9,     -999.0
33KB20130211,       PRS2,       2,          1,         17,       8017,2,20130212,       1147,  22.749833,-158.0190000,       4743,    25.4,  23.4331,  35.3056,2,  35.3058,2,    213.6,1,  -999.0,9, -999.00,9, -999.00,9,  -999.0,      25,    23.4279, -999.00,9,     -999.0
33KB20130211,       PRS2,       2,          1,         16,       8016,2,20130212,       1147,  22.749833,-158.0190000,       4743,    45.3,  23.1196,  35.3417,2,  35.3421,2,    215.1,1,  -999.0,9, -999.00,9, -999.00,9,  -999.0,      46,    23.1103, -999.00,9,     -999.0
33KB20130211,       PRS2,       2,          1,         15,       8015,2,20130212,       1147,  22.749833,-158.0190000,       4743,    45.6,  23.1195,  35.3418,2,  35.3449,2,    215.2,1,  -999.0,9, -999.00,9, -999.00,9,  -999.0,      45,    23.1102, -999.00,9,     -999.0
33KB20130211,       PRS2,       2,          1,         14,       8014,2,20130212,       1147,  22.749833,-158.0190000,       4743,    45.6,  23.1194,  35.3419,2,  35.3478,2,    215.4,1,  -999.0,9, -999.00,9, -999.00,9,  -999.0,      46,    23.1100, -999.00,9,     -999.0
33KB20130211,       PRS2,       2,          1,         13,       8025,2,20130212,       1147,  22.749833,-158.0190000,       4743,    74.4,  23.0168,  35.3702,2,  35.3705,2,    213.9,1,  -999.0,9, -999.00,9, -999.00,9,  -999.0,      74,    23.0016, -999.00,9,     -999.0
33KB20130211,       PRS2,       2,          1,         12,       8012,2,20130212,       1147,  22.749833,-158.0190000,       4743,    74.7,  23.0178,  35.3705,2,  35.3707,2,    213.8,1,  -999.0,9, -999.00,9, -999.00,9,  -999.0,      74,    23.0025, -999.00,9,     -999.0
33KB20130211,       PRS2,       2,          1,         11,       8011,2,20130212,       1147,  22.749833,-158.0190000,       4743,    75.1,  23.0185,  35.3704,2,  35.3699,2,    213.6,1,  -999.0,9, -999.00,9, -999.00,9,  -999.0,      73,    23.0031, -999.00,9,     -999.0
33KB20130211,       PRS2,       2,          1,         10,       8010,2,20130212,       1147,  22.749833,-158.0190000,       4743,    99.6,  22.9854,  35.3697,2,  35.3699,2,    213.2,1,  -999.0,9, -999.00,9, -999.00,9,  -999.0,     100,    22.9651, -999.00,9,     -999.0
33KB20130211,       PRS2,       2,          1,          9,       8009,2,20130212,       1147,  22.749833,-158.0190000,       4743,    99.6,  22.9853,  35.3697,2,  35.3695,2,    213.2,1,  -999.0,9, -999.00,9, -999.00,9,  -999.0,     100,    22.9650, -999.00,9,     -999.0
33KB20130211,       PRS2,       2,          1,          8,       8008,2,20130212,       1147,  22.749833,-158.0190000,       4743,   100.0,  22.9843,  35.3696,2,  35.3699,2,    213.4,1,  -999.0,9, -999.00,9, -999.00,9,  -999.0,      99,    22.9639, -999.00,9,     -999.0
33KB20130211,       PRS2,       2,          1,          7,       8026,2,20130212,       1147,  22.749833,-158.0190000,       4743,   123.8,  22.5830,  35.3482,2,  35.3506,2,    210.0,1,  -999.0,9, -999.00,9, -999.00,9,  -999.0,     124,    22.5580, -999.00,9,     -999.0
33KB20130211,       PRS2,       2,          1,          6,       8006,2,20130212,       1147,  22.749833,-158.0190000,       4743,   124.2,  22.5737,  35.3487,2,  35.3508,2,    210.0,1,  -999.0,9, -999.00,9, -999.00,9,  -999.0,     123,    22.5487, -999.00,9,     -999.0
33KB20130211,       PRS2,       2,          1,          5,       8005,2,20130212,       1147,  22.749833,-158.0190000,       4743,   124.3,  22.5597,  35.3458,2,  35.3500,2,    210.1,1,  -999.0,9, -999.00,9, -999.00,9,  -999.0,     123,    22.5346, -999.00,9,     -999.0
33KB20130211,       PRS2,       2,          1,          4,       8004,2,20130212,       1147,  22.749833,-158.0190000,       4743,   150.0,  20.9646,  35.2388,2,  35.2389,2,    204.3,1,  -999.0,9, -999.00,9, -999.00,9,  -999.0,     149,    20.9359, -999.00,9,     -999.0
33KB20130211,       PRS2,       2,          1,          3,       8003,2,20130212,       1147,  22.749833,-158.0190000,       4743,   175.2,  20.2834,  35.1753,2,  35.1809,2,    201.3,1,  -999.0,9, -999.00,9, -999.00,9,  -999.0,     175,    20.2506, -999.00,9,     -999.0
33KB20130211,       PRS2,       2,          1,          2,       8002,2,20130212,       1147,  22.749833,-158.0190000,       4743,   399.7,   9.4097,  34.0920,2,  34.0923,2,    178.2,1,  -999.0,9, -999.00,9, -999.00,9,  -999.0,     401,     9.3651, -999.00,9,     -999.0
33KB20130211,       PRS2,       2,          1,          1,       8001,2,20130212,       1147,  22.749833,-158.0190000,       4743,  1020.7,   4.2861,  34.4891,2,  34.4901,2,     40.2,1,  -999.0,9, -999.00,9, -999.00,9,  -999.0,    1021,     4.2064, -999.00,9,     -999.0
33KB20130211,       PRS2,       2,          2,         24,       8024,2,20130212,       1502,  22.749833,-158.0005000,       4739,     5.4,  23.3433,  35.3058,2,  35.3066,2,    214.5,2,   213.3,2,    1.27,2,    0.12,2,  -999.0,       6,    23.3422,    0.29,3,     -999.0
33KB20130211,       PRS2,       2,          2,         23,       8023,2,20130212,       1502,  22.749833,-158.0005000,       4739,   500.0,   7.7286,  34.1412,2,  34.1399,2,     88.8,2,    87.7,2,   45.06,2,    2.25,2,  -999.0,     499,     7.6787,   30.39,2,     -999.0
33KB20130211,       PRS2,       2,          2,         22,       8022,2,20130212,       1502,  22.749833,-158.0005000,       4739,   750.1,   5.3566,  34.3950,2,  34.3947,2,     22.0,2,    21.5,2,   83.95,2,    3.01,2,  -999.0,     751,     5.2936,   41.02,2,     -999.0
33KB20130211,       PRS2,       2,          2,         21,       8021,2,20130212,       1502,  22.749833,-158.0005000,       4739,   999.7,   4.3553,  34.4841,2,  34.4840,2,     39.5,2,    39.7,2,  101.18,2,    3.01,2,  -999.0,     998,     4.2769,   41.70,2,     -999.0
33KB20130211,       PRS2,       2,          2,         20,       8020,2,20130212,       1502,  22.749833,-158.0005000,       4739,  1199.7,   3.8366,  34.5204,2,  34.5199,2,     45.9,2,    47.2,2,  111.88,2,    3.01,2,  -999.0,    1201,     3.7455,   41.92,2,     -999.0
33KB20130211,       PRS2,       2,          2,         19,       8019,2,20130212,       1502,  22.749833,-158.0005000,       4739,  1399.8,   3.3607,  34.5463,2,  34.5459,2,     52.6,2,    55.0,2,  122.17,2,    2.97,2,  -999.0,    1400,     3.2573,   41.72,2,     -999.0
33KB20130211,       PRS2,       2,          2,         18,       8018,2,20130212,       1502,  22.749833,-158.0005000,       4739,  1600.3,   2.9311,  34.5724,2,  34.5718,2,     63.6,2,    63.9,2,  131.33,2,    2.94,2,  -999.0,    1601,     2.8157,   41.41,2,     -999.0
33KB20130211,       PRS2,       2,          2,         17,       8017,2,20130212,       1502,  22.749833,-158.0005000,       4739,  1800.1,   2.5701,  34.5943,2,  34.5930,2,     74.4,2,    74.3,2,  138.92,2,    2.88,2,  -999.0,    1800,     2.4424,   40.68,2,     -999.0
33KB20130211,       PRS2,       2,          2,         16,       8016,2,20130212,       1502,  22.749833,-158.0005000,       4739,  2000.5,   2.2525,  34.6136,2,  34.6138,2,     84.8,2,    85.5,2,  145.67,2,    2.81,2,  -999.0,    2001,     2.1122,   40.18,2,     -999.0
33KB20130211,       PRS2,       2,          2,         15,       8015,2,20130212,       1502,  22.749833,-158.0005000,       4739,  2200.9,   2.0601,  34.6262,2,  34.6258,2,     92.5,2,    92.8,2,  149.89,2,    2.78,2,  -999.0,    2200,     1.9055,   39.87,2,     -999.0
33KB20130211,       PRS2,       2,          2,         14,       8014,2,20130212,       1502,  22.749833,-158.0005000,       4739,  2401.7,   1.9210,  34.6372,2,  34.6360,2,     99.0,2,    99.9,2,  152.49,3,    2.75,2,  -999.0,    2402,     1.7511,   39.58,2,     -999.0
33KB20130211,       PRS2,       2,          2,         13,       8025,2,20130212,       1502,  22.749833,-158.0005000,       4739,  2599.7,   1.7822,  34.6483,2,  34.6464,2,    108.5,2,   108.8,2,  154.61,3,    2.71,2,  -999.0,    2599,     1.5970,   38.87,2,     -999.0
33KB20130211,       PRS2,       2,          2,         12,       8012,2,20130212,       1502,  22.749833,-158.0005000,       4739,  2800.4,   1.6890,  34.6563,2,  34.6570,2,    115.2,2,   115.7,2,  155.14,3,    2.65,2,  -999.0,    2802,     1.4870,   38.03,2,     -999.0
33KB20130211,       PRS2,       2,          2,         11,       8011,2,20130212,       1502,  22.749833,-158.0005000,       4739,  3000.8,   1.6108,  34.6632,2,  34.6629,2,    120.2,2,   120.4,2,  157.24,2,    2.60,2,  -999.0,    3000,     1.3915,   37.68,2,     -999.0
33KB20130211,       PRS2,       2,          2,         10,       8010,2,20130212,       1502,  22.749833,-158.0005000,       4739,  3200.2,   1.5704,  34.6683,2,  34.6684,2,    125.5,2,   126.0,2,  156.49,2,    2.57,2,  -999.0,    3200,     1.3326,   37.45,2,     -999.0
33KB20130211,       PRS2,       2,          2,          9,       8009,2,20130212,       1502,  22.749833,-158.0005000,       4739,  3400.3,   1.5274,  34.6739,2,  34.6736,2,    131.3,2,   130.9,2,  156.58,2,    2.56,2,  -999.0,    3400,     1.2707,   37.16,2,     -999.0
33KB20130211,       PRS2,       2,          2,          8,       8008,2,20130212,       1502,  22.749833,-158.0005000,       4739,  3600.3,   1.4954,  34.6785,2,  34.6779,2,    137.1,2,   136.9,2,  154.98,2,    2.53,2,  -999.0,    3602,     1.2190,   36.67,2,     -999.0
33KB20130211,       PRS2,       2,          2,          7,       8026,2,20130212,       1502,  22.749833,-158.0005000,       4739,  3800.8,   1.4754,  34.6816,2,  34.6808,2,    142.5,2,   141.8,2,  152.62,2,    2.49,2,  -999.0,    3802,     1.1786,   36.31,2,     -999.0
33KB20130211,       PRS2,       2,          2,          6,       8006,2,20130212,       1502,  22.749833,-158.0005000,       4739,  3999.5,   1.4711,  34.6842,2,  34.6834,2,    146.1,2,   145.5,2,  151.22,2,    2.48,2,  -999.0,    4000,     1.1531,   36.04,2,     -999.0
33KB20130211,       PRS2,       2,          2,          5,       8005,2,20130212,       1502,  22.749833,-158.0005000,       4739,  4200.9,   1.4740,  34.6856,2,  34.6846,2,    148.8,2,   148.1,2,  150.05,2,    2.46,2,  -999.0,    4200,     1.1338,   35.92,2,     -999.0
33KB20130211,       PRS2,       2,          2,          4,       8004,2,20130212,       1502,  22.749833,-158.0005000,       4739,  4399.1,   1.4828,  34.6872,2,  34.6861,2,    151.3,2,   150.8,2,  148.87,2,    2.45,2,  -999.0,    4399,     1.1199,   35.83,2,     -999.0
33KB20130211,       PRS2,       2,          2,          3,       8003,2,20130212,       1502,  22.749833,-158.0005000,       4739,  4501.4,   1.4905,  34.6874,2,  34.6867,2,    151.8,2,   151.4,2,  148.09,2,    2.44,2,  -999.0,    4502,     1.1156,   35.83,2,     -999.0
33KB20130211,       PRS2,       2,          2,          2,       8002,2,20130212,       1502,  22.749833,-158.0005000,       4739,  4599.2,   1.4983,  34.6878,2,  34.6871,2,    152.4,2,   152.7,2,  147.72,2,    2.44,2,  -999.0,    4601,     1.1119,   35.82,2,     -999.0
33KB20130211,       PRS2,       2,          2,          1,       8001,2,20130212,       1502,  22.749833,-158.0005000,       4739,  4809.0,   1.5197,  34.6881,2,  34.6875,2,    153.1,2,   154.0,2,  147.44,2,    2.44,2,  -999.0,    4808,     1.1078,   35.65,2,     -999.0