BOTTLE,20141031SIOCCHAMB
EXPOCODE,SECT_ID,STNNBR,CASTNO,SAMPNO,BTLNBR,BTLNBR_FLAG_W,DATE,TIME,LATITUDE,LONGITUDE,DEPTH,CTDPRS,CTDTMP,CTDSAL,CTDSAL_FLAG_W,SALNTY,SALNTY_FLAG_W,CTDOXY,CTDOXY_FLAG_W,OXYGEN,OXYGEN_FLAG_W,SILCAT,SILCAT_FLAG_W,PHSPHT,PHSPHT_FLAG_W,REVPRS,CTDRAW,THETA,NO2+NO3,NO2+NO3_FLAG_W,REVTMP
,,,,,,,,,,,METERS,DBAR,ITS-90,PSS-78,,PSS-78,,UMOL/KG,,UMOL/KG,,UMOL/KG,,UMOL/KG,,DBAR,DBAR,ITS-90,UMOL/KG,,DEG C
33KB20130211,       PRS2,       2,          6,         23,       8023,2,20130213,       0555,  22.749667,-157.9995000,       4741,     7.4,  23.1881,  35.3266,2,-999.0000,5,    214.4,2,  -999.0,5, -999.00,9, -999.00,9,  -999.0,       6,    23.1866, -999.00,9,     -999.0
33KB20130211,       PRS2,       2,          6,         22,       8022,2,20130213,       0555,  22.749667,-157.9995000,       4741,     7.3,  23.1883,  35.3266,2,  35.3275,2,    214.2,2,   213.5,2, -999.00,9, -999.00,9,  -999.0,       8,    23.1869, -999.00,9,     -999.0
33KB20130211,       PRS2,       2,          6,         21,       8021,2,20130213,       0555,  22.749667,-157.9995000,       4741,    16.2,  23.1961,  35.3255,2,-999.0000,5,    214.1,2,  -999.0,5, -999.00,9, -999.00,9,  -999.0,      16,    23.1927, -999.00,9,     -999.0
33KB20130211,       PRS2,       2,          6,         20,       8020,2,20130213,       0555,  22.749667,-157.9995000,       4741,    25.5,  23.1741,  35.3294,2,-999.0000,5,    214.0,2,  -999.0,5, -999.00,9, -999.00,9,  -999.0,      25,    23.1688, -999.00,9,     -999.0
33KB20130211,       PRS2,       2,          6,         19,       8019,2,20130213,       0555,  22.749667,-157.9995000,       4741,    25.5,  23.1706,  35.3303,2,  35.3328,2,    213.9,2,   214.1,2, -999.00,9, -999.00,9,  -999.0,      25,    23.1654, -999.00,9,     -999.0
33KB20130211,       PRS2,       2,          6,         18,       8018,2,20130213,       0555,  22.749667,-157.9995000,       4741,    35.2,  23.0816,  35.3466,2,-999.0000,5,    214.2,2,  -999.0,5, -999.00,9, -999.00,9,  -999.0,      35,    23.0744, -999.00,9,     -999.0
33KB20130211,       PRS2,       2,          6,         17,       8017,2,20130213,       0555,  22.749667,-157.9995000,       4741,    45.7,  23.0504,  35.3686,2,  35.3711,2,    214.1,2,   213.1,2, -999.00,9, -999.00,9,  -999.0,      45,    23.0410, -999.00,9,     -999.0
33KB20130211,       PRS2,       2,          6,         16,       8016,2,20130213,       0555,  22.749667,-157.9995000,       4741,    61.0,  23.0455,  35.3888,2,-999.0000,5,    213.6,2,  -999.0,5, -999.00,9, -999.00,9,  -999.0,      61,    23.0331, -999.00,9,     -999.0
33KB20130211,       PRS2,       2,          6,         15,       8015,2,20130213,       0555,  22.749667,-157.9995000,       4741,    75.9,  23.0248,  35.3891,2,  35.3892,2,    213.6,2,   213.6,2, -999.00,9, -999.00,9,  -999.0,      76,    23.0093, -999.00,9,     -999.0
33KB20130211,       PRS2,       2,          6,         14,       8014,2,20130213,       0555,  22.749667,-157.9995000,       4741,    85.3,  23.0203,  35.3900,2,  35.3898,2,    212.6,2,   212.8,2, -999.00,9, -999.00,9,  -999.0,      85,    23.0029, -999.00,9,     -999.0
33KB20130211,       PRS2,       2,          6,         13,       8025,2,20130213,       0555,  22.749667,-157.9995000,       4741,    91.0,  23.0194,  35.3900,2,-999.0000,5,    212.3,2,  -999.0,5, -999.00,9, -999.00,9,  -999.0,      91,    23.0008, -999.00,9,     -999.0
33KB20130211,       PRS2,       2,          6,         12,       8012,2,20130213,       0555,  22.749667,-157.9995000,       4741,   100.3,  23.0169,  35.3895,2,  35.3896,2,    212.0,2,   213.2,2, -999.00,9, -999.00,9,  -999.0,     100,    22.9964, -999.00,9,     -999.0
33KB20130211,       PRS2,       2,          6,         11,       8011,2,20130213,       0555,  22.749667,-157.9995000,       4741,   110.7,  23.0130,  35.3903,2,-999.0000,5,    213.4,2,  -999.0,5, -999.00,9, -999.00,9,  -999.0,     110,    22.9904, -999.00,9,     -999.0
33KB20130211,       PRS2,       2,          6,         10,       8010,2,20130213,       0555,  22.749667,-157.9995000,       4741,   115.0,  23.0071,  35.3892,2,  35.3904,2,    213.6,2,   212.4,2, -999.00,9, -999.00,9,  -999.0,     114,    22.9836, -999.00,9,     -999.0
33KB20130211,       PRS2,       2,          6,          9,       8009,2,20130213,       0555,  22.749667,-157.9995000,       4741,   125.6,  22.9861,  35.3817,2,  35.3813,2,    213.5,2,   212.1,2, -999.00,9, -999.00,9,  -999.0,     126,    22.9604, -999.00,9,     -999.0
33KB20130211,       PRS2,       2,          6,          8,       8008,2,20130213,       0555,  22.749667,-157.9995000,       4741,   131.9,  22.9765,  35.3781,2,  35.3553,4,    213.2,3,  -999.0,5, -999.00,9, -999.00,9,  -999.0,     132,    22.9496, -999.00,9,     -999.0
33KB20130211,       PRS2,       2,          6,          7,       8026,2,20130213,       0555,  22.749667,-157.9995000,       4741,   150.2,  22.6423,  35.3556,2,-999.0000,5,    208.1,2,   208.7,2, -999.00,9, -999.00,9,  -999.0,     150,    22.6119, -999.00,9,     -999.0
33KB20130211,       PRS2,       2,          6,          6,       8006,2,20130213,       0555,  22.749667,-157.9995000,       4741,   165.6,  21.7376,  35.3004,2,  35.3021,2,    201.1,2,   203.8,2, -999.00,9, -999.00,9,  -999.0,     165,    21.7051, -999.00,9,     -999.0
33KB20130211,       PRS2,       2,          6,          5,       8005,2,20130213,       0555,  22.749667,-157.9995000,       4741,   175.4,  21.4842,  35.3461,2,  35.3401,2,    202.1,2,   201.8,2, -999.00,9, -999.00,9,  -999.0,     175,    21.4500, -999.00,9,     -999.0
33KB20130211,       PRS2,       2,          6,          4,       8004,2,20130213,       0555,  22.749667,-157.9995000,       4741,   200.4,  20.8048,  35.3000,2,  35.2956,2,    197.7,2,   198.3,2, -999.00,9, -999.00,9,  -999.0,     201,    20.7666, -999.00,9,     -999.0
33KB20130211,       PRS2,       2,          6,          3,       8003,2,20130213,       0555,  22.749667,-157.9995000,       4741,   430.6,   9.1320,  34.0815,2,  34.0805,2,    167.8,2,   168.3,2, -999.00,9, -999.00,9,  -999.0,     431,     9.0847, -999.00,9,     -999.0
33KB20130211,       PRS2,       2,          6,          2,       8002,2,20130213,       0555,  22.749667,-157.9995000,       4741,   670.4,   5.7605,  34.3287,2,  34.3290,2,     19.6,2,    19.5,2, -999.00,9, -999.00,9,  -999.0,     671,     5.7025, -999.00,9,     -999.0
33KB20130211,       PRS2,       2,          6,          1,       8001,2,20130213,       0555,  22.749667,-157.9995000,       4741,  1020.8,   4.3313,  34.4858,2,  34.4864,2,     39.7,2,    39.5,2, -999.00,9, -999.00,9,  -999.0,    1021,     4.2514, -999.00,9,     -999.0
33KB20130211,       PRS2,       2,          7,         10,       8010,2,20130213,       0907,  22.750000,-157.9730000,       4728,     7.7,  23.0198,  35.3697,2,  35.3693,2,    214.2,1,  -999.0,9, -999.00,9, -999.00,9,  -999.0,       6,    23.0182, -999.00,9,     -999.0
33KB20130211,       PRS2,       2,          7,          9,       8009,2,20130213,       0907,  22.750000,-157.9730000,       4728,    25.9,  23.0224,  35.3692,2,  35.3687,2,    214.1,1,  -999.0,9, -999.00,9, -999.00,9,  -999.0,      26,    23.0171, -999.00,9,     -999.0
33KB20130211,       PRS2,       2,          7,          8,       8008,2,20130213,       0907,  22.750000,-157.9730000,       4728,    45.6,  23.0269,  35.3759,2,  35.3756,2,    214.2,1,  -999.0,9, -999.00,9, -999.00,9,  -999.0,      45,    23.0176, -999.00,9,     -999.0
33KB20130211,       PRS2,       2,          7,          7,       8026,2,20130213,       0907,  22.750000,-157.9730000,       4728,    75.1,  23.0106,  35.3879,2,  35.3878,2,    213.9,1,  -999.0,9, -999.00,9, -999.00,9,  -999.0,      74,    22.9952, -999.00,9,     -999.0
33KB20130211,       PRS2,       2,          7,          6,       8006,2,20130213,       0907,  22.750000,-157.9730000,       4728,    99.4,  23.0062,  35.3907,2,  35.3902,2,    213.8,1,  -999.0,9, -999.00,9, -999.00,9,  -999.0,      99,    22.9859, -999.00,9,     -999.0
33KB20130211,       PRS2,       2,          7,          5,       8005,2,20130213,       0907,  22.750000,-157.9730000,       4728,   126.0,  22.3385,  35.3378,2,  35.3319,2,    207.8,1,  -999.0,9, -999.00,9, -999.00,9,  -999.0,     126,    22.3133, -999.00,9,     -999.0
33KB20130211,       PRS2,       2,          7,          4,       8004,2,20130213,       0907,  22.750000,-157.9730000,       4728,   150.7,  20.9743,  35.2703,2,  35.2686,2,    198.4,1,  -999.0,9, -999.00,9, -999.00,9,  -999.0,     149,    20.9454, -999.00,9,     -999.0
33KB20130211,       PRS2,       2,          7,          3,       8003,2,20130213,       0907,  22.750000,-157.9730000,       4728,   175.5,  20.2267,  35.2034,2,  35.2020,2,    201.5,1,  -999.0,9, -999.00,9, -999.00,9,  -999.0,     175,    20.1940, -999.00,9,     -999.0
33KB20130211,       PRS2,       2,          7,          2,       8002,2,20130213,       0907,  22.750000,-157.9730000,       4728,   431.1,   8.9681,  34.0765,2,  34.0744,2,    160.4,1,  -999.0,9, -999.00,9, -999.00,9,  -999.0,     431,     8.9213, -999.00,9,     -999.0
33KB20130211,       PRS2,       2,          7,          1,       8001,2,20130213,       0907,  22.750000,-157.9730000,       4728,  1020.1,   4.3916,  34.4814,2,  34.4813,2,     39.0,1,  -999.0,9, -999.00,9, -999.00,9,  -999.0,    1020,     4.3112, -999.00,9,     -999.0
33KB20130211,       PRS2,       2,          8,         14,       8014,2,20130213,       1158,  22.750500,-158.0335000,       4748,     7.3,  23.0291,  35.3615,2,  35.3610,2,    213.7,1,  -999.0,9, -999.00,9, -999.00,9,  -999.0,       8,    23.0276, -999.00,9,     -999.0
33KB20130211,       PRS2,       2,          8,         13,       8025,2,20130213,       1158,  22.750500,-158.0335000,       4748,     7.3,  23.0290,  35.3616,2,  35.3614,2,    213.6,1,  -999.0,9, -999.00,9, -999.00,9,  -999.0,       8,    23.0275, -999.00,9,     -999.0
33KB20130211,       PRS2,       2,          8,         12,       8012,2,20130213,       1158,  22.750500,-158.0335000,       4748,    25.8,  23.0414,  35.3661,2,  35.3695,2,    213.0,1,  -999.0,9, -999.00,9, -999.00,9,  -999.0,      25,    23.0361, -999.00,9,     -999.0
33KB20130211,       PRS2,       2,          8,         11,       8011,2,20130213,       1158,  22.750500,-158.0335000,       4748,    25.7,  23.0466,  35.3707,2,  35.3699,2,    213.1,1,  -999.0,9, -999.00,9, -999.00,9,  -999.0,      25,    23.0413, -999.00,9,     -999.0
33KB20130211,       PRS2,       2,          8,         10,       8010,2,20130213,       1158,  22.750500,-158.0335000,       4748,    44.4,  23.0390,  35.3828,2,  35.3806,2,    214.2,1,  -999.0,9, -999.00,9, -999.00,9,  -999.0,      44,    23.0299, -999.00,9,     -999.0
33KB20130211,       PRS2,       2,          8,          9,       8009,2,20130213,       1158,  22.750500,-158.0335000,       4748,    44.4,  23.0397,  35.3828,2,  35.3819,2,    214.3,1,  -999.0,9, -999.00,9, -999.00,9,  -999.0,      43,    23.0306, -999.00,9,     -999.0
33KB20130211,       PRS2,       2,          8,          8,       8008,2,20130213,       1158,  22.750500,-158.0335000,       4748,    73.6,  23.0157,  35.3914,2,  35.3906,2,    213.9,1,  -999.0,9, -999.00,9, -999.00,9,  -999.0,      75,    23.0007, -999.00,9,     -999.0
33KB20130211,       PRS2,       2,          8,          7,       8026,2,20130213,       1158,  22.750500,-158.0335000,       4748,    74.2,  23.0157,  35.3914,2,  35.3906,2,    213.9,1,  -999.0,9, -999.00,9, -999.00,9,  -999.0,      73,    23.0005, -999.00,9,     -999.0
33KB20130211,       PRS2,       2,          8,          6,       8006,2,20130213,       1158,  22.750500,-158.0335000,       4748,   101.3,  22.9926,  35.3892,2,  35.3890,2,    213.6,1,  -999.0,9, -999.00,9, -999.00,9,  -999.0,     101,    22.9719, -999.00,9,     -999.0
33KB20130211,       PRS2,       2,          8,          5,       8005,2,20130213,       1158,  22.750500,-158.0335000,       4748,   101.2,  22.9921,  35.3891,2,  35.3884,2,    213.7,1,  -999.0,9, -999.00,9, -999.00,9,  -999.0,     102,    22.9714, -999.00,9,     -999.0
33KB20130211,       PRS2,       2,          8,          4,       8004,2,20130213,       1158,  22.750500,-158.0335000,       4748,   125.5,  22.1695,  35.3259,2,  35.3254,2,    207.4,1,  -999.0,9, -999.00,9, -999.00,9,  -999.0,     125,    22.1445, -999.00,9,     -999.0
33KB20130211,       PRS2,       2,          8,          3,       8003,2,20130213,       1158,  22.750500,-158.0335000,       4748,   125.1,  22.1836,  35.3327,2,  35.3177,3,    207.6,1,  -999.0,9, -999.00,9, -999.00,9,  -999.0,     125,    22.1587, -999.00,9,     -999.0
33KB20130211,       PRS2,       2,          8,          2,       8002,2,20130213,       1158,  22.750500,-158.0335000,       4748,   401.1,   9.1598,  34.0827,2,  34.0817,2,    168.7,1,  -999.0,9, -999.00,9, -999.00,9,  -999.0,     401,     9.1158, -999.00,9,     -999.0
33KB20130211,       PRS2,       2,          8,          1,       8001,2,20130213,       1158,  22.750500,-158.0335000,       4748,  1020.9,   4.2701,  34.4908,2,  34.4917,2,     40.6,1,  -999.0,9, -999.00,9, -999.00,9,  -999.0,    1020,     4.1906, -999.00,9,     -999.0
33KB20130211,       PRS2,       2,          9,         14,       8014,2,20130213,       1444,  22.752000,-158.0126667,       4743,     7.0,  22.9871,  35.3791,2,  35.3788,2,    213.9,1,  -999.0,9, -999.00,9, -999.00,9,  -999.0,       7,    22.9856, -999.00,9,     -999.0
33KB20130211,       PRS2,       2,          9,         13,       8025,2,20130213,       1444,  22.752000,-158.0126667,       4743,     7.1,  22.9867,  35.3789,2,-999.0000,5,    214.2,1,  -999.0,9, -999.00,9, -999.00,9,  -999.0,       7,    22.9852, -999.00,9,     -999.0
33KB20130211,       PRS2,       2,          9,         12,       8012,2,20130213,       1444,  22.752000,-158.0126667,       4743,     7.3,  22.9859,  35.3791,2,-999.0000,5,    214.3,1,  -999.0,9, -999.00,9, -999.00,9,  -999.0,       7,    22.9845, -999.00,9,     -999.0
33KB20130211,       PRS2,       2,          9,         11,       8011,2,20130213,       1444,  22.752000,-158.0126667,       4743,     7.2,  22.9849,  35.3793,2,-999.0000,5,    214.5,1,  -999.0,9, -999.00,9, -999.00,9,  -999.0,       7,    22.9834, -999.00,9,     -999.0
33KB20130211,       PRS2,       2,          9,         10,       8010,2,20130213,       1444,  22.752000,-158.0126667,       4743,     7.0,  22.9831,  35.3795,2,-999.0000,5,    214.6,1,  -999.0,9, -999.00,9, -999.00,9,  -999.0,       7,    22.9816, -999.00,9,     -999.0
33KB20130211,       PRS2,       2,          9,          9,       8009,2,20130213,       1444,  22.752000,-158.0126667,       4743,     7.5,  22.9823,  35.3796,2,-999.0000,5,    214.7,1,  -999.0,9, -999.00,9, -999.00,9,  -999.0,       7,    22.9808, -999.00,9,     -999.0
33KB20130211,       PRS2,       2,          9,          8,       8008,2,20130213,       1444,  22.752000,-158.0126667,       4743,     7.4,  22.9823,  35.3796,2,-999.0000,5,    214.9,1,  -999.0,9, -999.00,9, -999.00,9,  -999.0,       7,    22.9808, -999.00,9,     -999.0
33KB20130211,       PRS2,       2,          9,          7,       8026,2,20130213,       1444,  22.752000,-158.0126667,       4743,   420.5,   9.1521,  34.0821,2,  34.0815,2,    168.8,1,  -999.0,9, -999.00,9, -999.00,9,  -999.0,     420,     9.1059, -999.00,9,     -999.0
33KB20130211,       PRS2,       2,          9,          6,       8006,2,20130213,       1444,  22.752000,-158.0126667,       4743,  1020.2,   4.3476,  34.4847,2,-999.0000,5,     39.3,1,  -999.0,9, -999.00,9, -999.00,9,  -999.0,    1020,     4.2676, -999.00,9,     -999.0
33KB20130211,       PRS2,       2,          9,          5,       8005,2,20130213,       1444,  22.752000,-158.0126667,       4743,  1020.3,   4.3477,  34.4845,2,-999.0000,5,     39.3,1,  -999.0,9, -999.00,9, -999.00,9,  -999.0,    1020,     4.2677, -999.00,9,     -999.0
33KB20130211,       PRS2,       2,          9,          4,       8004,2,20130213,       1444,  22.752000,-158.0126667,       4743,  1020.0,   4.3486,  34.4845,2,-999.0000,5,     39.3,1,  -999.0,9, -999.00,9, -999.00,9,  -999.0,    1022,     4.2685, -999.00,9,     -999.0
33KB20130211,       PRS2,       2,          9,          3,       8003,2,20130213,       1444,  22.752000,-158.0126667,       4743,  1020.3,   4.3489,  34.4843,2,-999.0000,5,     39.3,1,  -999.0,9, -999.00,9, -999.00,9,  -999.0,    1019,     4.2689, -999.00,9,     -999.0
33KB20130211,       PRS2,       2,          9,          2,       8002,2,20130213,       1444,  22.752000,-158.0126667,       4743,  1020.3,   4.3494,  34.4846,2,-999.0000,5,     39.3,1,  -999.0,9, -999.00,9, -999.00,9,  -999.0,    1021,     4.2693, -999.00,9,     -999.0
33KB20130211,       PRS2,       2,          9,          1,       8001,2,20130213,       1444,  22.752000,-158.0126667,       4743,  1020.4,   4.3503,  34.4846,2,  34.4860,2,     39.4,1,  -999.0,9, -999.00,9, -999.00,9,  -999.0,    1019,     4.2702, -999.00,9,     -999.0