BOTTLE,20111222CCHDOSIOCBG
#code : Justin Fields merge_exchange.rb 
#original HYD file: /data/repeat/atlantic/ar18/ar18_b/original/2011.12.22_replace_cberys/processing/orig_hy1.csv  2011-12-22
# merged "BOTTLE,20090507PRINUNIVRMK": citation below, pCO2, NUTs/Oxy, DELC13/DELC14
#BOTTLE,20010822WHPSIOKJU
#code : jjward hyd_to_exchange.pl 
#original files copied from HTML directory: 20010822
#original HYD file: ar18_bhy.txt   Thu Apr  5 11:15:59 2001
#original SUM file: ar18_bsu.txt.tmp   Wed Aug 22 11:33:02 2001
#BOTTLE,20090507PRINUNIVRMK
#9/6/06 Original file from CCHDO  
# Ship: J.Hjort 
# Cruise: 58JH0792_1; WOCE line AR18b (at WHPO at 58JH1092_1) 
# Dates:7/12-7/28/1992 
# EXPOCODE  58JH19920712 
# Region: Around Iceland 
# Chief Scientist:J. Blindheim 
# 31 full depth stations;  with 12 place Rosette, 10l bottles 
# Hydro: Who - S. Osterhus; Status - final  
#       Notes: NBIS Mark III (not to WOCE standards) 
#       Accuracy of CTD salt values generally good only to 2 decimals 
#       Bottle salt not collected for all samples;  
#       Autosal; IAPSO batch 120; replicates almost always differed by less than 0.001 
#       CtdSal values replaced with new values interpolated from file sent from J.Blindheim (10/15/08) 
#       CTDSAL calibrated to bottle Salinity with CTDSALcorr= -0.6600 * 1.0189*CTDSAL  
#               based on simple regression using data deeper than 300dB 
# Nuts: Who - F. Rey; Status - final   
#       Notes: Reproducibility better than 1% for NO2,NO3,Si and less than 3% for PO4 
#       Relative to JH9408: 
#               nitrate high by ~1.5umol/kg 
#               phosphate low by ~0.15umol/kg 
#               some silicate low by ~1umol/kg 
# O2: Who - Eva Falck; Status - final 
#       Notes: final oxygen data from A.Olsen 01/31/2008 
# TCO2: Who - J. Olafsson; Status - final  
#       Notes: Data from J.Olafsson 10/20/06 
#       Revised data from J.Olafsson 4/22/09; merged 4/24/09 
# pCO2: Who - J. Olafsson; Status - final  
#       Notes: Data from Olafsson 10/20/06 reported at bottle theta 
# CFC: Who - E. Fogelqvist; Status - unknown  
#       Notes: no data in file 
# C-14: Who - R. Nydal,J. Gislefoss; Status - final 
#       Notes:  Data from Gislefoss et al., 1995 
#       8 profiles at stations 933,934,942,943,948,955,961 
#       AMS at Arizona see Slota et al. 1987 for method; and Trondheim 
# C-13: Who - O.Jansen,H. Jungner; Status - final 
#       Notes: Data from Gislefoss et al., 1995 
#       8 profiles at stations 933,934,942,943,948,955,961 
# H-3/He-3: Who - R. Bayer; Status - unknown   
#       Notes: 122 samples collected no data in file 
# References: 
# .  
# Slota, P.J., A.J.T. Jull, T.W. Linick and L.J. Toolin, Preparation of small samples for C14 accelerator targets by catalytic reduction of CO, Radiocarbon, 29(2), 303-306, 1987. 
EXPOCODE,SECT_ID,STNNBR,CASTNO,SAMPNO,BTLNBR,BTLNBR_FLAG_W,DATE,TIME,LATITUDE,LONGITUDE,DEPTH,CTDPRS,CTDTMP,CTDSAL,CTDSAL_FLAG_W,SALNTY,SALNTY_FLAG_W,OXYGEN,OXYGEN_FLAG_W,SILCAT,SILCAT_FLAG_W,NITRAT,NITRAT_FLAG_W,NITRIT,NITRIT_FLAG_W,PHSPHT,PHSPHT_FLAG_W,TCARBN,TCARBN_FLAG_W,PCO2,PCO2_FLAG_W,PCO2TMP,DELC14,DELC14_FLAG_W,C14ERR,DELC13,DELC13_FLAG_W,THETA
,,,,,,,,,,,METERS,DBAR,ITS-90,PSS-78,,PSS-78,,UMOL/KG,,UMOL/KG,,UMOL/KG,,UMOL/KG,,UMOL/KG,,UMOL/KG,,UATM,,DEG C,/MILLE,,/MILLE,/MILLE,,DEG C
58JH1092_1, AR18, 933, 1, 12, 12, 2, 19920715, 0330, 64.0008, -4.9927, 3225,    794.2,  -0.3160,  34.9074, 2,  34.9060, 2,    310.1, 2,     7.81, 2,    14.35, 2,     0.01, 2,     1.08, 2,   2156.2, 2,    335.9, 2,    -0.35,      0.5, 2,      8.8,     1.00, 2,  -0.3479
58JH1092_1, AR18, 933, 1, 11, 11, 2, 19920715, 0330, 64.0008, -4.9927, 3225,    991.1,  -0.6000,  34.9116, 2,  34.9100, 2,    304.0, 2,     8.99, 2,    14.66, 2,     0.01, 2,     1.06, 2,   2160.2, 2,    333.1, 2,    -0.64,    -23.4, 2,      4.1,     1.19, 2,  -0.6393
58JH1092_1, AR18, 933, 1, 10, 10, 2, 19920715, 0330, 64.0008, -4.9927, 3225,   1188.6,  -0.7290,  34.9143, 2,  34.9130, 2,    303.1, 2,     9.76, 2,    14.82, 2,     0.01, 2,     1.09, 2,   2165.1, 2,    328.9, 2,    -0.78,    -31.1, 2,      4.1,     1.27, 2,  -0.7770
58JH1092_1, AR18, 933, 1, 9, 9, 2, 19920715, 0330, 64.0008, -4.9927, 3225,   1386.4,  -0.8130,  34.9144, 2,  34.9130, 2,    313.0, 2,    10.42, 2,    14.82, 2,     0.01, 2,     1.08, 2,   2160.1, 2,    325.3, 2,    -0.87,    -44.3, 2,     11.7,     1.18, 2,  -0.8705
58JH1092_1, AR18, 933, 1, 8, 8, 2, 19920715, 0330, 64.0008, -4.9927, 3225,   1585.6,  -0.8680,  34.9147, 2,  34.9140, 2,    307.2, 2,    10.87, 2,    14.97, 2,     0.01, 2,     1.10, 2,   2158.9, 2,    323.3, 2,    -0.94,    -46.2, 2,      4.2,     1.16, 2,  -0.9359
58JH1092_1, AR18, 933, 1, 7, 7, 2, 19920715, 0330, 64.0008, -4.9927, 3225,   1783.1,  -0.8900,  34.9147, 2,  34.9130, 2,    303.1, 2,    11.25, 2,    15.01, 2,     0.02, 2,     1.12, 2,   2158.3, 2,    321.7, 2,    -0.97,    -57.7, 2,      4.3,     1.14, 2,  -0.9691
58JH1092_1, AR18, 933, 1, 6, 6, 2, 19920715, 0330, 64.0008, -4.9927, 3225,   1981.5,  -0.9200,  34.9147, 2,  34.9130, 2,    303.2, 2,    11.59, 2,    15.15, 2,     0.03, 2,     1.17, 2,   2159.2, 2,    321.4, 2,    -1.01,    -53.0, 2,      6.8,     1.16, 2,  -1.0109
58JH1092_1, AR18, 933, 1, 5, 5, 2, 19920715, 0330, 64.0008, -4.9927, 3225,   2229.9,  -0.9190,  34.9150, 2,  34.9130, 2,    303.4, 2,    11.93, 2,    15.04, 2,     0.02, 2,     1.14, 2,   2157.8, 2,    320.8, 2,    -1.03,    -62.7, 2,     10.7,     1.12, 2,  -1.0262
58JH1092_1, AR18, 933, 1, 4, 4, 2, 19920715, 0330, 64.0008, -4.9927, 3225,   2478.4,  -0.9060,  34.9123, 2,  34.9140, 2,    302.1, 2,    11.97, 2,    15.22, 2,     0.02, 2,     1.11, 2,   2158.2, 2,    321.3, 2,    -1.03,    -60.0, 2,      4.0,     1.16, 2,  -1.0307
58JH1092_1, AR18, 933, 1, 3, 3, 2, 19920715, 0330, 64.0008, -4.9927, 3225,   2727.1,  -0.8900,  34.9119, 2,  34.9130, 2,    302.8, 2,    11.97, 2,    15.11, 2,     0.01, 2,     1.08, 2,   2159.4, 2,    321.1, 2,    -1.03,    -68.5, 2,      3.9,     1.16, 2,  -1.0333
58JH1092_1, AR18, 933, 1, 2, 2, 2, 19920715, 0330, 64.0008, -4.9927, 3225,   2974.9,  -0.8720,  34.9126, 2,  34.9130, 2,    317.6, 4,  -999.00, 9,  -999.00, 9,  -999.00, 9,  -999.00, 9,   -999.0, 9,   -999.0, 9,  -999.00,   -999.0, 9,   -999.0,  -999.00, 9,  -1.0349
58JH1092_1, AR18, 933, 1, 1, 1, 2, 19920715, 0330, 64.0008, -4.9927, 3225,   3175.0,  -0.8550,  34.9126, 2,  34.9130, 2,    302.4, 2,    12.28, 2,    15.11, 2,     0.02, 2,     1.11, 2,   2159.7, 2,    320.8, 2,    -1.03,    -64.8, 2,      4.4,     1.15, 2,  -1.0346
58JH1092_1, AR18, 933, 2, 24, 12, 2, 19920715, 0330, 64.0015, -4.9638, 703,      5.5,   7.5010,  34.7975, 2, -999.0000, 9,    305.9, 2,     0.32, 2,     1.42, 2,     0.07, 2,     0.25, 2,   2081.0, 2,    285.4, 2,     7.50,     49.2, 2,      4.1,     1.85, 2,   7.5005
58JH1092_1, AR18, 933, 2, 23, 11, 2, 19920715, 0330, 64.0015, -4.9638, 703,     19.6,   7.4400,  34.7945, 2, -999.0000, 9,    308.2, 2,     0.38, 2,     1.57, 2,     0.07, 2,     0.25, 2,   2084.4, 2,    283.7, 2,     7.44,   -999.0, 9,   -999.0,  -999.00, 9,   7.4381
58JH1092_1, AR18, 933, 2, 22, 10, 2, 19920715, 0330, 64.0015, -4.9638, 703,     50.2,   4.0650,  34.8200, 2, -999.0000, 9,    311.4, 2,     4.46, 2,     8.25, 2,     0.23, 2,     0.86, 2,   2138.7, 2,    329.7, 2,     4.06,   -999.0, 9,   -999.0,     1.21, 2,   4.0615
58JH1092_1, AR18, 933, 2, 21, 9, 2, 19920715, 0330, 64.0015, -4.9638, 703,     74.6,   3.0870,  34.9528, 2, -999.0000, 9,    311.4, 2,     5.57, 2,    11.11, 2,     0.42, 2,     0.95, 2,   2149.1, 2,    346.5, 2,     3.08,   -999.0, 9,   -999.0,  -999.00, 9,   3.0824
58JH1092_1, AR18, 933, 2, 20, 8, 2, 19920715, 0330, 64.0015, -4.9638, 703,    100.4,   2.9330,  34.9680, 2, -999.0000, 9,    313.1, 2,     5.54, 2,    12.26, 2,     0.49, 2,     0.92, 2,   2142.3, 2,    343.1, 2,     2.93,     47.9, 2,      4.2,     1.13, 2,   2.9269
58JH1092_1, AR18, 933, 2, 19, 7, 2, 19920715, 0330, 64.0015, -4.9638, 703,    148.3,   2.6780,  34.9713, 2, -999.0000, 9,    315.0, 2,     5.47, 2,    12.80, 2,     0.02, 2,     0.90, 2,   2142.0, 2,    336.6, 2,     2.67,   -999.0, 9,   -999.0,  -999.00, 9,   2.6692
58JH1092_1, AR18, 933, 2, 18, 6, 2, 19920715, 0330, 64.0015, -4.9638, 703,    200.4,   2.4350,  34.9667, 2, -999.0000, 9,    314.3, 2,     5.52, 2,    12.84, 2,     0.02, 2,     0.91, 2,   2144.6, 2,    336.5, 2,     2.42,   -999.0, 9,   -999.0,     1.10, 2,   2.4234
58JH1092_1, AR18, 933, 2, 17, 5, 2, 19920715, 0330, 64.0015, -4.9638, 703,    249.7,   2.0870,  34.9598, 2, -999.0000, 9,    310.3, 2,     5.66, 2,    13.20, 2,     0.01, 2,     0.96, 2,   2148.8, 2,    337.2, 2,     2.07,   -999.0, 9,   -999.0,  -999.00, 9,   2.0732
58JH1092_1, AR18, 933, 2, 16, 4, 2, 19920715, 0330, 64.0015, -4.9638, 703,    301.2,   1.5550,  34.9368, 2, -999.0000, 9,    311.0, 2,     5.82, 2,    13.32, 2,     0.01, 2,     0.95, 2,   2145.9, 2,    338.2, 2,     1.54,   -999.0, 9,   -999.0,     1.07, 2,   1.5395
58JH1092_1, AR18, 933, 2, 15, 3, 2, 19920715, 0330, 64.0015, -4.9638, 703,    400.2,   0.6870,  34.9127, 2, -999.0000, 9,    303.2, 2,     6.36, 2,    13.94, 2,     0.02, 2,     1.00, 2,   2155.8, 2,    341.1, 2,     0.67,   -999.0, 9,   -999.0,  -999.00, 9,   0.6690
58JH1092_1, AR18, 933, 2, 14, 2, 2, 19920715, 0330, 64.0015, -4.9638, 703,    501.4,   0.1760,  34.8948, 2, -999.0000, 9,    302.6, 2,     6.81, 2,    14.03, 2,     0.01, 2,     1.02, 2,   2161.2, 2,    341.2, 2,     0.16,     44.5, 2,      4.1,     1.04, 2,   0.1551
58JH1092_1, AR18, 933, 2, 13, 1, 2, 19920715, 0330, 64.0015, -4.9638, 703,    695.4,  -0.2680,  34.9025, 2,  34.9070, 2,    301.5, 2,     7.57, 2,    14.08, 2,     0.01, 2,     1.02, 2,   2170.7, 2,   -999.0, 9,  -999.00,      4.7, 2,      4.0,     1.06, 2,  -0.2956
58JH1092_1, AR18, 934, 1, 12, 12, 4, 19920715, 1040, 63.7317, -5.9492, 2372,      4.5,   8.3720,  34.9111, 2, -999.0000, 9,   -999.0, 9,  -999.00, 9,  -999.00, 9,  -999.00, 9,  -999.00, 9,   -999.0, 9,   -999.0, 9,  -999.00,   -999.0, 9,   -999.0,  -999.00, 9,   8.3715
58JH1092_1, AR18, 934, 1, 11, 11, 2, 19920715, 1040, 63.7317, -5.9492, 2372,     25.3,   6.4630,  34.9630, 2,  34.8650, 2,    302.9, 2,     1.71, 2,     3.57, 2,     0.11, 2,     0.46, 2,   2073.2, 2,    273.4, 2,     6.46,   -999.0, 9,   -999.0,  -999.00, 9,   6.4608
58JH1092_1, AR18, 934, 1, 10, 10, 2, 19920715, 1040, 63.7317, -5.9492, 2372,     50.1,   5.7040,  34.8387, 2, -999.0000, 9,    303.8, 2,     3.47, 2,     8.80, 2,     0.31, 2,     0.77, 2,   2113.1, 2,    316.3, 2,     5.70,   -999.0, 9,   -999.0,     1.23, 2,   5.6999
58JH1092_1, AR18, 934, 1, 9, 9, 2, 19920715, 1040, 63.7317, -5.9492, 2372,     99.4,   4.0470,  34.8842, 2, -999.0000, 9,    309.8, 2,     4.48, 2,    11.33, 2,     0.27, 2,     0.88, 2,   2130.9, 2,    331.4, 2,     4.04,   -999.0, 9,   -999.0,  -999.00, 9,   4.0401
58JH1092_1, AR18, 934, 1, 8, 8, 2, 19920715, 1040, 63.7317, -5.9492, 2372,    200.0,   1.8830,  34.8066, 2, -999.0000, 9,    322.7, 2,     5.19, 2,    12.30, 2,     0.18, 2,     1.00, 2,   2133.4, 2,    336.0, 2,     1.87,   -999.0, 9,   -999.0,     1.04, 2,   1.8724
58JH1092_1, AR18, 934, 1, 7, 7, 2, 19920715, 1040, 63.7317, -5.9492, 2372,    501.0,   0.0960,  34.8978, 2, -999.0000, 9,    304.3, 2,     6.83, 2,    13.85, 2,     0.01, 2,     1.00, 2,   2150.7, 2,    339.0, 2,     0.08,   -999.0, 9,   -999.0,  -999.00, 9,   0.0755
58JH1092_1, AR18, 934, 1, 6, 6, 2, 19920715, 1040, 63.7317, -5.9492, 2372,    745.1,  -0.4000,  34.9070, 2, -999.0000, 9,    302.9, 2,     7.99, 2,    14.30, 2,     0.01, 2,     1.03, 2,   2159.1, 2,    334.1, 2,    -0.43,   -999.0, 9,   -999.0,     1.00, 2,  -0.4291
58JH1092_1, AR18, 934, 1, 5, 5, 2, 19920715, 1040, 63.7317, -5.9492, 2372,    991.1,  -0.6330,  34.9132, 2,  34.9100, 2,    300.9, 2,     9.07, 2,    14.53, 2,     0.01, 2,     1.02, 2,   2159.9, 2,    329.9, 2,    -0.67,   -999.0, 9,   -999.0,  -999.00, 9,  -0.6720
58JH1092_1, AR18, 934, 1, 4, 4, 2, 19920715, 1040, 63.7317, -5.9492, 2372,   1485.5,  -0.8390,  34.9158, 2, -999.0000, 9,    303.2, 2,    10.54, 2,    14.77, 2,     0.01, 2,     1.08, 2,   2149.9, 2,    324.8, 2,    -0.90,   -999.0, 9,   -999.0,  -999.00, 9,  -0.9016
58JH1092_1, AR18, 934, 1, 3, 3, 4, 19920715, 1040, 63.7317, -5.9492, 2372,   1783.0,  -0.8890,  34.9153, 2, -999.0000, 9,   -999.0, 9,  -999.00, 9,  -999.00, 9,  -999.00, 9,  -999.00, 9,   -999.0, 9,   -999.0, 9,  -999.00,   -999.0, 9,   -999.0,  -999.00, 9,  -0.9681
58JH1092_1, AR18, 934, 1, 2, 2, 2, 19920715, 1040, 63.7317, -5.9492, 2372,   1982.5,  -0.9050,  34.9144, 2,  34.9130, 2,    304.5, 2,    11.23, 2,    14.90, 2,     0.02, 2,     1.09, 2,   2160.3, 2,    322.5, 2,    -1.00,   -999.0, 9,   -999.0,     1.07, 2,  -0.9962
58JH1092_1, AR18, 934, 1, 1, 1, 2, 19920715, 1040, 63.7317, -5.9492, 2372,   2330.3,  -0.9010,  34.9142, 2,  34.9120, 2,    303.3, 2,    11.55, 2,    14.92, 2,     0.01, 2,     1.07, 2,   2159.6, 2,    322.8, 2,    -1.02,   -999.0, 9,   -999.0,     1.16, 2,  -1.0153
58JH1092_1, AR18, 935, 1, 12, 12, 2, 19920715, 1416, 63.4432, -6.9062, 1314,      5.3,   9.4960,  35.1505, 2, -999.0000, 9,    305.7, 2,     1.32, 2,     3.73, 2,     0.09, 2,     0.34, 2,   2050.1, 2,    264.5, 2,     9.50,   -999.0, 9,   -999.0,  -999.00, 9,   9.4954
58JH1092_1, AR18, 935, 1, 11, 11, 2, 19920715, 1416, 63.4432, -6.9062, 1314,     26.5,   9.4690,  35.1755, 2, -999.0000, 9,    296.8, 2,     1.83, 2,     5.61, 2,     0.12, 2,     0.43, 2,   2080.7, 2,    289.0, 2,     9.47,   -999.0, 9,   -999.0,  -999.00, 9,   9.4660
58JH1092_1, AR18, 935, 1, 10, 10, 2, 19920715, 1416, 63.4432, -6.9062, 1314,     50.3,   8.1860,  35.1858, 2, -999.0000, 9,    279.8, 2,     4.88, 2,    12.62, 2,     0.14, 2,     0.85, 2,   2128.0, 2,    359.2, 2,     8.18,   -999.0, 9,   -999.0,  -999.00, 9,   8.1809
58JH1092_1, AR18, 935, 1, 9, 9, 2, 19920715, 1416, 63.4432, -6.9062, 1314,    100.7,   7.7460,  35.2084, 2, -999.0000, 9,    277.6, 2,     6.28, 2,    13.86, 2,     0.02, 2,     0.91, 2,   2136.8, 2,    370.8, 2,     7.74,   -999.0, 9,   -999.0,  -999.00, 9,   7.7360
58JH1092_1, AR18, 935, 1, 8, 8, 2, 19920715, 1416, 63.4432, -6.9062, 1314,    199.7,   6.9530,  35.1547, 2,  35.1720, 2,    275.8, 2,     6.89, 2,    14.35, 2,     0.01, 2,     0.95, 2,   2139.3, 2,    371.5, 2,     6.93,   -999.0, 9,   -999.0,  -999.00, 9,   6.9343
58JH1092_1, AR18, 935, 1, 7, 7, 2, 19920715, 1416, 63.4432, -6.9062, 1314,    300.1,   5.0100,  34.9820, 2, -999.0000, 9,    291.2, 2,     6.39, 2,    13.84, 2,     0.03, 2,     0.93, 2,   2137.2, 2,    356.1, 2,     4.99,   -999.0, 9,   -999.0,  -999.00, 9,   4.9863
58JH1092_1, AR18, 935, 1, 6, 6, 2, 19920715, 1416, 63.4432, -6.9062, 1314,    401.7,   2.2160,  34.8550, 2, -999.0000, 9,    304.6, 2,     7.02, 2,    13.61, 2,     0.02, 2,     0.94, 2,   2146.7, 2,    346.6, 2,     2.19,   -999.0, 9,   -999.0,  -999.00, 9,   2.1929
58JH1092_1, AR18, 935, 1, 5, 5, 2, 19920715, 1416, 63.4432, -6.9062, 1314,    598.7,   0.1030,  34.8931, 2,  34.9060, 2,    304.3, 2,     6.93, 2,    13.68, 2,     0.02, 2,     0.95, 2,   2155.9, 2,    338.2, 2,     0.08,   -999.0, 9,   -999.0,  -999.00, 9,   0.0779
58JH1092_1, AR18, 935, 1, 4, 4, 2, 19920715, 1416, 63.4432, -6.9062, 1314,    794.5,  -0.3300,  34.9075, 2,  34.9100, 2,    303.8, 2,     8.03, 2,    13.97, 2,     0.01, 2,     0.98, 2,   2157.6, 2,    331.9, 2,    -0.36,   -999.0, 9,   -999.0,  -999.00, 9,  -0.3619
58JH1092_1, AR18, 935, 1, 3, 3, 2, 19920715, 1416, 63.4432, -6.9062, 1314,    989.2,  -0.5260,  34.9116, 2, -999.0000, 9,    301.5, 2,     8.82, 2,    14.11, 2,     0.01, 2,     0.98, 2,   2149.8, 2,    329.1, 2,    -0.57,   -999.0, 9,   -999.0,  -999.00, 9,  -0.5658
58JH1092_1, AR18, 935, 1, 2, 2, 2, 19920715, 1416, 63.4432, -6.9062, 1314,   1187.9,  -0.6790,  34.9151, 2, -999.0000, 9,    302.2, 2,     9.68, 2,    14.30, 2,     0.01, 2,     1.00, 2,   2147.3, 2,    326.9, 2,    -0.73,   -999.0, 9,   -999.0,  -999.00, 9,  -0.7275
58JH1092_1, AR18, 935, 1, 1, 1, 2, 19920715, 1416, 63.4432, -6.9062, 1314,   1288.2,  -0.7260,  34.9156, 2,  34.9130, 2,    303.3, 2,    10.02, 2,    14.50, 2,     0.02, 2,     1.00, 2,   2156.5, 2,    326.3, 2,    -0.78,   -999.0, 9,   -999.0,  -999.00, 9,  -0.7792
58JH1092_1, AR18, 936, 1, 12, 12, 3, 19920715, 1742, 63.2023, -7.8408, 740,      4.5,   9.6860,  35.1545, 2, -999.0000, 9,    305.8, 2,     1.11, 2,     4.44, 2,     0.09, 2,     0.36, 2,   -999.0, 9,   -999.0, 9,  -999.00,   -999.0, 9,   -999.0,  -999.00, 9,   9.6855
58JH1092_1, AR18, 936, 1, 11, 11, 2, 19920715, 1742, 63.2023, -7.8408, 740,     25.2,   9.5760,  35.1564, 2, -999.0000, 9,    302.1, 2,     1.27, 2,     4.92, 2,     0.09, 2,     0.39, 2,   -999.0, 9,   -999.0, 9,  -999.00,   -999.0, 9,   -999.0,  -999.00, 9,   9.5732
58JH1092_1, AR18, 936, 1, 10, 10, 2, 19920715, 1742, 63.2023, -7.8408, 740,     50.6,   8.8560,  35.1364, 2, -999.0000, 9,    276.9, 2,     1.92, 2,     6.40, 2,     0.13, 2,     0.54, 2,   -999.0, 9,   -999.0, 9,  -999.00,   -999.0, 9,   -999.0,  -999.00, 9,   8.8506
58JH1092_1, AR18, 936, 1, 9, 9, 3, 19920715, 1742, 63.2023, -7.8408, 740,    101.0,   7.7060,  35.1845, 2, -999.0000, 9,    292.7, 2,     6.18, 2,    14.02, 2,     0.03, 2,     0.92, 2,   -999.0, 9,   -999.0, 9,  -999.00,   -999.0, 9,   -999.0,  -999.00, 9,   7.6960
58JH1092_1, AR18, 936, 1, 8, 8, 2, 19920715, 1742, 63.2023, -7.8408, 740,    150.8,   7.5060,  35.1872, 2,  35.1870, 2,    278.0, 2,     6.46, 2,    14.18, 2,     0.01, 2,     0.94, 2,   -999.0, 9,   -999.0, 9,  -999.00,   -999.0, 9,   -999.0,  -999.00, 9,   7.4913
58JH1092_1, AR18, 936, 1, 7, 7, 2, 19920715, 1742, 63.2023, -7.8408, 740,    200.9,   7.3760,  35.1718, 2, -999.0000, 9,    276.1, 2,     6.58, 2,    14.37, 2,     0.01, 2,     0.96, 2,   -999.0, 9,   -999.0, 9,  -999.00,   -999.0, 9,   -999.0,  -999.00, 9,   7.3565
58JH1092_1, AR18, 936, 1, 6, 6, 2, 19920715, 1742, 63.2023, -7.8408, 740,    299.8,   5.5960,  35.0476, 2, -999.0000, 9,    283.9, 2,     7.00, 2,    14.31, 2,     0.01, 2,     1.01, 2,   -999.0, 9,   -999.0, 9,  -999.00,   -999.0, 9,   -999.0,  -999.00, 9,   5.5709
58JH1092_1, AR18, 936, 1, 5, 5, 2, 19920715, 1742, 63.2023, -7.8408, 740,    399.0,   1.1660,  34.8604, 2, -999.0000, 9,    315.5, 2,     6.44, 2,    13.32, 2,     0.01, 2,     0.93, 2,   -999.0, 9,   -999.0, 9,  -999.00,   -999.0, 9,   -999.0,  -999.00, 9,   1.1465
58JH1092_1, AR18, 936, 1, 4, 4, 3, 19920715, 1742, 63.2023, -7.8408, 740,    500.0,   0.1070,  34.8808, 2, -999.0000, 9,    305.9, 2,     7.29, 2,    13.87, 2,     0.01, 2,     0.97, 2,   -999.0, 9,   -999.0, 9,  -999.00,   -999.0, 9,   -999.0,  -999.00, 9,   0.0865
58JH1092_1, AR18, 936, 1, 3, 3, 2, 19920715, 1742, 63.2023, -7.8408, 740,    598.6,  -0.3890,  34.9024, 2, -999.0000, 9,    299.7, 2,     8.85, 2,    14.26, 2,     0.01, 2,     0.99, 2,   -999.0, 9,   -999.0, 9,  -999.00,   -999.0, 9,   -999.0,  -999.00, 9,  -0.4116
58JH1092_1, AR18, 936, 1, 2, 2, 2, 19920715, 1742, 63.2023, -7.8408, 740,    696.9,  -0.4440,  34.9086, 2, -999.0000, 9,    300.9, 2,     9.19, 2,    14.30, 2,     0.01, 2,     0.99, 2,   -999.0, 9,   -999.0, 9,  -999.00,   -999.0, 9,   -999.0,  -999.00, 9,  -0.4707
58JH1092_1, AR18, 936, 1, 1, 1, 3, 19920715, 1742, 63.2023, -7.8408, 740,    730.6,  -0.4430,  34.9084, 2,  34.9090, 2,    302.3, 2,     9.18, 2,    14.36, 2,     0.01, 2,     0.99, 2,   -999.0, 9,   -999.0, 9,  -999.00,   -999.0, 9,   -999.0,  -999.00, 9,  -0.4712