BOTTLE,20020814WHPSIOdm
EXPOCODE,SECT_ID,STNNBR,CASTNO,SAMPNO,BTLNBR,BTLNBR_FLAG_W,DATE,TIME,LATITUDE,LONGITUDE,DEPTH,CTDPRS,CTDTMP,CTDSAL,CTDSAL_FLAG_W,SALNTY,SALNTY_FLAG_W,CTDOXY,CTDOXY_FLAG_W,OXYGEN,OXYGEN_FLAG_W,SILCAT,SILCAT_FLAG_W,NITRAT,NITRAT_FLAG_W,NITRIT,NITRIT_FLAG_W,PHSPHT,PHSPHT_FLAG_W,CFC-11,CFC-11_FLAG_W,CFC-12,CFC-12_FLAG_W,TCARBN,TCARBN_FLAG_W,ALKALI,ALKALI_FLAG_W,PH,PH_FLAG_W,PHTEMP,THETA
,,,,,,,,,,,,DBAR,ITS-90,PSS-78,,PSS-78,,UMOL/KG,,UMOL/KG,,UMOL/KG,,UMOL/KG,,UMOL/KG,,UMOL/KG,,PMOL/KG,,PMOL/KG,,UMOL/KG,,UMOL/KG,,,,DEG C,DEG C
     3250031_1,   P31,    48,  1,     36,     36,2,19940205,1332,-10.1610,-168.2310, 4226,      2.4,  29.7691,  34.2517,2,  34.2526,2,    202.7,2,    193.9,2,     1.59,2,     0.00,2,     0.00,2,     0.17,2, -999.000,9, -999.000,9,   -999.0,9,   -999.0,9,  -999.00,9, -999.00, 29.7685
     3250031_1,   P31,    48,  1,     35,     35,2,19940205,1332,-10.1610,-168.2310, 4226,     17.2,  29.7762,  34.2508,2,  34.2526,2,    166.4,2,    194.1,2,     1.39,2,     0.00,2,     0.00,2,     0.17,2, -999.000,9, -999.000,9,   -999.0,9,   -999.0,9,  -999.00,9, -999.00, 29.7720
     3250031_1,   P31,    48,  1,     34,     34,2,19940205,1332,-10.1610,-168.2310, 4226,     56.4,  30.0287,  34.7846,2,  34.8334,2,    198.7,2,    199.1,2,     1.36,2,     0.00,2,     0.00,2,     0.19,2, -999.000,9, -999.000,9,   -999.0,9,   -999.0,9,  -999.00,9, -999.00, 30.0147
     3250031_1,   P31,    48,  1,     33,     33,2,19940205,1332,-10.1610,-168.2310, 4226,    107.0,  27.3499,  36.1537,2,  36.1464,2,    185.0,2,    185.9,2,     1.33,2,     0.04,2,     0.01,2,     0.31,2, -999.000,9, -999.000,9,   -999.0,9,   -999.0,9,  -999.00,9, -999.00, 27.3251
     3250031_1,   P31,    48,  1,     32,     32,2,19940205,1332,-10.1610,-168.2310, 4226,    207.4,  20.9814,  35.9279,2,  35.9186,2,    144.0,2,    143.6,2,     2.74,2,     7.83,2,     0.01,2,     0.80,2, -999.000,9, -999.000,9,   -999.0,9,   -999.0,9,  -999.00,9, -999.00, 20.9415
     3250031_1,   P31,    48,  1,     31,     31,2,19940205,1332,-10.1610,-168.2310, 4226,    307.8,  13.0001,  34.9808,2,  34.9752,2,     98.2,2,     95.7,2,    13.67,2,    21.04,2,     0.00,2,     1.67,2, -999.000,9, -999.000,9,   -999.0,9,   -999.0,9,  -999.00,9, -999.00, 12.9576
     3250031_1,   P31,    48,  1,     30,     30,2,19940205,1332,-10.1610,-168.2310, 4226,    407.6,   9.9529,  34.7080,2,  34.7062,2,    100.3,2,    101.4,2,    22.27,2,    27.24,2,     0.00,2,     1.99,2, -999.000,9, -999.000,9,   -999.0,9,   -999.0,9,  -999.00,9, -999.00,  9.9054
     3250031_1,   P31,    48,  1,     29,     29,2,19940205,1332,-10.1610,-168.2310, 4226,    506.1,   7.5505,  34.5651,2,  34.5647,2,    118.5,2,    120.0,2,    32.31,2,    31.07,2,     0.00,2,     2.17,2, -999.000,9, -999.000,9,   -999.0,9,   -999.0,9,  -999.00,9, -999.00,  7.5003
     3250031_1,   P31,    48,  1,     28,     28,2,19940205,1332,-10.1610,-168.2310, 4226,    603.8,   6.4691,  34.5263,2,  34.5256,2,    117.9,2,    118.7,2,    41.82,2,    33.59,2,     0.00,2,     2.33,2, -999.000,9, -999.000,9,   -999.0,9,   -999.0,9,  -999.00,9, -999.00,  6.4138
     3250031_1,   P31,    48,  1,     27,     27,2,19940205,1332,-10.1610,-168.2310, 4226,    701.6,   5.6820,  34.5111,2,  34.5107,2,    116.4,2,    117.1,2,    51.34,2,    35.23,2,     0.00,2,     2.44,2, -999.000,9, -999.000,9,   -999.0,9,   -999.0,9,  -999.00,9, -999.00,  5.6214
     3250031_1,   P31,    48,  1,     26,     26,2,19940205,1332,-10.1610,-168.2310, 4226,    798.4,   5.2768,  34.5080,2,-999.0000,5,    115.2,2,    117.9,2,    57.09,2,    35.82,2,     0.00,2,     2.48,2, -999.000,9, -999.000,9,   -999.0,9,   -999.0,9,  -999.00,9, -999.00,  5.2098
     3250031_1,   P31,    48,  1,     25,     25,2,19940205,1332,-10.1610,-168.2310, 4226,    897.5,   4.8962,  34.5134,2,  34.5131,2,    116.5,2,    117.8,2,    64.13,2,    36.42,2,     0.00,2,     2.53,2, -999.000,9, -999.000,9,   -999.0,9,   -999.0,9,  -999.00,9, -999.00,  4.8228
     3250031_1,   P31,    48,  1,     24,     24,2,19940205,1332,-10.1610,-168.2310, 4226,   1001.3,   4.4643,  34.5215,2,  34.5217,2,    120.5,2,    118.7,2,    72.27,2,    36.73,2,     0.00,2,     2.56,2, -999.000,9, -999.000,9,   -999.0,9,   -999.0,9,  -999.00,9, -999.00,  4.3849
     3250031_1,   P31,    48,  1,     23,     23,2,19940205,1332,-10.1610,-168.2310, 4226,   1206.3,   3.5881,  34.5516,2,  34.5518,2,    126.5,2,    125.8,2,    89.30,2,    36.88,2,     0.00,2,     2.57,2, -999.000,9, -999.000,9,   -999.0,9,   -999.0,9,  -999.00,9, -999.00,  3.4987
     3250031_1,   P31,    48,  1,     22,     22,2,19940205,1332,-10.1610,-168.2310, 4226,   1409.3,   3.0707,  34.5760,2,  34.5779,2,    133.0,2,    132.4,2,    99.72,2,    36.58,2,     0.00,2,     2.54,2, -999.000,9, -999.000,9,   -999.0,9,   -999.0,9,  -999.00,9, -999.00,  2.9696
     3250031_1,   P31,    48,  1,     21,     21,2,19940205,1332,-10.1610,-168.2310, 4226,   1612.2,   2.6748,  34.5994,2,  34.5993,2,    135.1,2,    135.7,2,   109.17,2,    36.48,2,     0.00,2,     2.53,2, -999.000,9, -999.000,9,   -999.0,9,   -999.0,9,  -999.00,9, -999.00,  2.5614
     3250031_1,   P31,    48,  1,     20,     20,2,19940205,1332,-10.1610,-168.2310, 4226,   1810.4,   2.4284,  34.6163,2,  34.6174,2,    136.1,2,    137.6,2,   116.47,2,    36.54,2,     0.00,2,     2.53,2, -999.000,9, -999.000,9,   -999.0,9,   -999.0,9,  -999.00,9, -999.00,  2.3017
     3250031_1,   P31,    48,  1,     19,     19,2,19940205,1332,-10.1610,-168.2310, 4226,   2003.0,   2.1952,  34.6332,2,  34.6345,2,    140.9,2,    139.8,2,   121.93,2,    36.34,2,     0.00,2,     2.52,2, -999.000,9, -999.000,9,   -999.0,9,   -999.0,9,  -999.00,9, -999.00,  2.0555
     3250031_1,   P31,    48,  1,     18,     18,2,19940205,1332,-10.1610,-168.2310, 4226,   2201.2,   2.0357,  34.6471,2,  34.6482,2,    134.6,2,    135.8,2,   130.68,2,    36.79,2,     0.00,2,     2.55,2, -999.000,9, -999.000,9,   -999.0,9,   -999.0,9,  -999.00,9, -999.00,  1.8814
     3250031_1,   P31,    48,  1,     17,     17,2,19940205,1332,-10.1610,-168.2310, 4226,   2420.5,   1.9047,  34.6568,2,  34.6574,2,    142.9,2,    142.1,2,   131.48,2,    36.35,2,     0.00,2,     2.51,2, -999.000,9, -999.000,9,   -999.0,9,   -999.0,9,  -999.00,9, -999.00,  1.7333
     3250031_1,   P31,    48,  1,     16,     16,2,19940205,1332,-10.1610,-168.2310, 4226,   2627.1,   1.8064,  34.6640,2,  34.6665,3,    145.2,2,    145.9,2,   133.90,2,    36.25,2,     0.00,2,     2.50,2, -999.000,9, -999.000,9,   -999.0,9,   -999.0,9,  -999.00,9, -999.00,  1.6181
     3250031_1,   P31,    48,  1,     15,     15,2,19940205,1332,-10.1610,-168.2310, 4226,   2834.4,   1.7171,  34.6704,2,  34.6710,2,    149.9,2,    149.6,2,   134.70,2,    36.00,2,     0.00,2,     2.48,2, -999.000,9, -999.000,9,   -999.0,9,   -999.0,9,  -999.00,9, -999.00,  1.5114
     3250031_1,   P31,    48,  1,     14,     14,2,19940205,1332,-10.1610,-168.2310, 4226,   2938.6,   1.6736,  34.6732,2,  34.6747,2,    152.7,2,    151.8,2,   135.50,2,    35.81,2,     0.00,2,     2.47,2, -999.000,9, -999.000,9,   -999.0,9,   -999.0,9,  -999.00,9, -999.00,  1.4588
     3250031_1,   P31,    48,  1,     13,     13,2,19940205,1332,-10.1610,-168.2310, 4226,   3043.1,   1.6464,  34.6752,2,  34.6763,2,    155.5,2,    153.4,2,   135.48,2,    35.56,2,     0.00,2,     2.46,2, -999.000,9, -999.000,9,   -999.0,9,   -999.0,9,  -999.00,9, -999.00,  1.4222
     3250031_1,   P31,    48,  1,     12,     12,2,19940205,1332,-10.1610,-168.2310, 4226,   3144.5,   1.6125,  34.6779,2,  34.6767,2,    156.5,2,    155.3,2,   135.87,2,    35.57,2,     0.00,2,     2.45,2, -999.000,9, -999.000,9,   -999.0,9,   -999.0,9,  -999.00,9, -999.00,  1.3792
     3250031_1,   P31,    48,  1,     11,     11,2,19940205,1332,-10.1610,-168.2310, 4226,   3247.2,   1.5941,  34.6791,2,  34.6785,2,    155.2,2,    157.4,2,   135.86,2,    35.37,2,     0.00,2,     2.44,2, -999.000,9, -999.000,9,   -999.0,9,   -999.0,9,  -999.00,9, -999.00,  1.3511
     3250031_1,   P31,    48,  1,     10,     10,2,19940205,1332,-10.1610,-168.2310, 4226,   3348.0,   1.5590,  34.6810,2,  34.6812,2,    157.2,2,    159.6,2,   135.43,2,    35.32,2,     0.00,2,     2.43,2, -999.000,9, -999.000,9,   -999.0,9,   -999.0,9,  -999.00,9, -999.00,  1.3068
     3250031_1,   P31,    48,  1,      9,      9,2,19940205,1332,-10.1610,-168.2310, 4226,   3451.3,   1.5486,  34.6826,2,  34.6838,2,    159.6,2,    160.5,2,   135.41,2,    35.23,2,     0.00,2,     2.43,2, -999.000,9, -999.000,9,   -999.0,9,   -999.0,9,  -999.00,9, -999.00,  1.2862
     3250031_1,   P31,    48,  1,      8,      8,2,19940205,1332,-10.1610,-168.2310, 4226,   3554.1,   1.5198,  34.6843,2,  34.6832,2,    162.8,2,    163.1,2,   134.78,2,    35.03,2,     0.00,2,     2.41,2, -999.000,9, -999.000,9,   -999.0,9,   -999.0,9,  -999.00,9, -999.00,  1.2476
     3250031_1,   P31,    48,  1,      7,      7,2,19940205,1332,-10.1610,-168.2310, 4226,   3655.9,   1.4849,  34.6862,2,  34.6867,2,    165.2,2,    165.9,2,   134.35,2,    34.88,2,     0.00,2,     2.41,2, -999.000,9, -999.000,9,   -999.0,9,   -999.0,9,  -999.00,9, -999.00,  1.2030
     3250031_1,   P31,    48,  1,      6,      6,2,19940205,1332,-10.1610,-168.2310, 4226,   3757.2,   1.4691,  34.6871,2,  34.6877,2,    167.9,2,    167.6,2,   134.13,2,    34.74,2,     0.00,2,     2.39,2,   -0.003,2,   -0.002,2,   -999.0,9,   -999.0,9,  -999.00,9, -999.00,  1.1771
     3250031_1,   P31,    48,  1,      5,      5,2,19940205,1332,-10.1610,-168.2310, 4226,   3858.1,   1.4494,  34.6892,2,  34.6891,2,    170.1,2,    169.5,2,   133.91,2,    34.54,2,     0.00,2,     2.38,2,    0.005,2,   -0.002,2,   -999.0,9,   -999.0,9,  -999.00,9, -999.00,  1.1472
     3250031_1,   P31,    48,  1,      4,      4,2,19940205,1332,-10.1610,-168.2310, 4226,   3959.1,   1.4298,  34.6905,2,  34.6906,2,    172.9,2,    171.1,2,   133.28,2,    34.50,2,     0.00,2,     2.38,2,    0.002,2,   -0.003,2,   -999.0,9,   -999.0,9,  -999.00,9, -999.00,  1.1173
     3250031_1,   P31,    48,  1,      3,      3,2,19940205,1332,-10.1610,-168.2310, 4226,   4059.3,   1.3986,  34.6920,2,  34.6904,2,    173.5,2,    174.4,2,   132.24,2,    34.30,2,     0.00,2,     2.37,2,    0.001,2,   -0.002,2,   -999.0,9,   -999.0,9,  -999.00,9, -999.00,  1.0760
     3250031_1,   P31,    48,  1,      2,      2,2,19940205,1332,-10.1610,-168.2310, 4226,   4158.7,   1.3771,  34.6939,2,  34.6938,2,    176.2,2,    176.4,2,   131.21,2,    34.11,2,     0.00,2,     2.34,2,    0.009,4,   -0.004,2,   -999.0,9,   -999.0,9,  -999.00,9, -999.00,  1.0443
     3250031_1,   P31,    48,  1,      1,      1,2,19940205,1332,-10.1610,-168.2310, 4226,   4282.1,   1.3649,  34.6948,2,  34.6936,2,    182.2,2,    179.1,2,   130.18,2,    33.96,2,     0.00,2,     2.34,2,   -0.001,2,   -0.001,2,   -999.0,9,   -999.0,9,  -999.00,9, -999.00,  1.0187