BOTTLE,20020814WHPSIOdm
EXPOCODE,SECT_ID,STNNBR,CASTNO,SAMPNO,BTLNBR,BTLNBR_FLAG_W,DATE,TIME,LATITUDE,LONGITUDE,DEPTH,CTDPRS,CTDTMP,CTDSAL,CTDSAL_FLAG_W,SALNTY,SALNTY_FLAG_W,CTDOXY,CTDOXY_FLAG_W,OXYGEN,OXYGEN_FLAG_W,SILCAT,SILCAT_FLAG_W,NITRAT,NITRAT_FLAG_W,NITRIT,NITRIT_FLAG_W,PHSPHT,PHSPHT_FLAG_W,CFC-11,CFC-11_FLAG_W,CFC-12,CFC-12_FLAG_W,TCARBN,TCARBN_FLAG_W,ALKALI,ALKALI_FLAG_W,PH,PH_FLAG_W,PHTEMP,THETA
,,,,,,,,,,,,DBAR,ITS-90,PSS-78,,PSS-78,,UMOL/KG,,UMOL/KG,,UMOL/KG,,UMOL/KG,,UMOL/KG,,UMOL/KG,,PMOL/KG,,PMOL/KG,,UMOL/KG,,UMOL/KG,,,,DEG C,DEG C
     3250031_1,   P31,    63,  1,     36,     36,2,19940208,1622, -9.6013,-170.6027, 4039,      4.2,  29.5840,  33.9909,2,  33.9904,2,    187.5,2,    194.8,2,     1.64,2,     0.04,2,     0.00,2,     0.16,2,    1.556,2,    0.871,2,   -999.0,9,   -999.0,9,  -999.00,9, -999.00, 29.5830
     3250031_1,   P31,    63,  1,     35,     35,2,19940208,1622, -9.6013,-170.6027, 4039,     16.4,  29.5814,  33.9919,2,  33.9917,2,    183.1,2,    194.4,2,     1.43,2,     0.00,2,     0.00,2,     0.16,2,    1.561,2,    0.865,2,   -999.0,9,   -999.0,9,  -999.00,9, -999.00, 29.5774
     3250031_1,   P31,    63,  1,     34,     34,2,19940208,1622, -9.6013,-170.6027, 4039,     55.1,  29.7004,  34.1072,2,  34.0848,2,    193.2,2,    194.7,2,     1.41,2,     0.04,2,     0.00,2,     0.16,2,    1.540,6,    0.861,6,   -999.0,9,   -999.0,9,  -999.00,9, -999.00, 29.6868
     3250031_1,   P31,    63,  1,     33,     33,2,19940208,1622, -9.6013,-170.6027, 4039,    105.8,  27.3874,  35.8460,2,  35.8546,2,    161.7,2,    155.2,2,     2.30,2,     3.89,2,     0.87,2,     0.62,2,    1.623,2,    0.866,2,   -999.0,9,   -999.0,9,  -999.00,9, -999.00, 27.3628
     3250031_1,   P31,    63,  1,     32,     32,2,19940208,1622, -9.6013,-170.6027, 4039,    206.0,  21.1633,  35.9232,2,  35.9010,2,    137.8,2,    135.9,2,     3.18,2,     9.01,2,     0.01,2,     0.88,2,    1.750,2,    0.921,2,   -999.0,9,   -999.0,9,  -999.00,9, -999.00, 21.1234
     3250031_1,   P31,    63,  1,     31,     31,2,19940208,1622, -9.6013,-170.6027, 4039,    306.2,  12.6454,  34.9352,2,  34.9301,2,     95.1,2,     93.0,2,    15.14,2,    22.20,2,     0.00,2,     1.74,2,    0.578,2,    0.300,2,   -999.0,9,   -999.0,9,  -999.00,9, -999.00, 12.6040
     3250031_1,   P31,    63,  1,     30,     30,2,19940208,1622, -9.6013,-170.6027, 4039,    406.3,   9.3646,  34.6930,2,  34.6906,2,     91.5,2,     92.5,2,    26.75,2,    29.58,2,     0.00,2,     2.11,2,    0.136,2,    0.078,2,   -999.0,9,   -999.0,9,  -999.00,9, -999.00,  9.3190
     3250031_1,   P31,    63,  1,     29,     29,2,19940208,1622, -9.6013,-170.6027, 4039,    507.8,   7.7578,  34.5973,2,  34.5963,2,    102.9,2,    103.7,2,    34.36,2,    32.21,2,     0.00,2,     2.24,2, -999.000,9, -999.000,9,   -999.0,9,   -999.0,9,  -999.00,9, -999.00,  7.7066
     3250031_1,   P31,    63,  1,     28,     28,2,19940208,1622, -9.6013,-170.6027, 4039,    607.5,   6.8412,  34.5547,2,  34.5527,2,    105.5,2,    105.1,2,    41.61,2,    34.07,2,     0.00,2,     2.37,2, -999.000,9, -999.000,9,   -999.0,9,   -999.0,9,  -999.00,9, -999.00,  6.7837
     3250031_1,   P31,    63,  1,     27,     27,2,19940208,1622, -9.6013,-170.6027, 4039,    706.9,   6.1188,  34.5265,2,  34.5262,2,    106.8,2,    111.2,2,    48.50,2,    35.01,2,     0.00,2,     2.43,2, -999.000,9, -999.000,9,   -999.0,9,   -999.0,9,  -999.00,9, -999.00,  6.0554
     3250031_1,   P31,    63,  1,     26,     26,2,19940208,1622, -9.6013,-170.6027, 4039,    808.2,   5.3918,  34.5147,2,  34.5154,2,    112.9,2,    112.7,2,    57.96,2,    36.09,2,     0.00,2,     2.52,2, -999.000,9, -999.000,9,   -999.0,9,   -999.0,9,  -999.00,9, -999.00,  5.3232
     3250031_1,   P31,    63,  1,     25,     25,2,19940208,1622, -9.6013,-170.6027, 4039,   1007.8,   4.3169,  34.5294,2,  34.5303,2,    115.8,2,    116.8,2,    76.27,2,    36.88,2,     0.00,2,     2.59,2, -999.000,9, -999.000,9,   -999.0,9,   -999.0,9,  -999.00,9, -999.00,  4.2381
     3250031_1,   P31,    63,  1,     24,     24,2,19940208,1622, -9.6013,-170.6027, 4039,   1202.2,   3.6167,  34.5551,2,  34.5550,2,    121.9,2,    122.7,2,    91.09,2,    36.84,2,     0.00,2,     2.58,2, -999.000,9, -999.000,9,   -999.0,9,   -999.0,9,  -999.00,9, -999.00,  3.5274
     3250031_1,   P31,    63,  1,     23,     23,2,19940208,1622, -9.6013,-170.6027, 4039,   1406.1,   3.0572,  34.5825,2,  34.5813,2,    127.0,2,    126.6,2,   103.90,2,    36.89,2,     0.00,2,     2.58,2, -999.000,9, -999.000,9,   -999.0,9,   -999.0,9,  -999.00,9, -999.00,  2.9565
     3250031_1,   P31,    63,  1,     22,     22,2,19940208,1622, -9.6013,-170.6027, 4039,   1613.4,   2.7015,  34.6001,2,  34.6000,2,    134.8,2,    132.8,2,   110.01,2,    36.55,2,     0.00,2,     2.55,2, -999.000,9, -999.000,9,   -999.0,9,   -999.0,9,  -999.00,9, -999.00,  2.5878
     3250031_1,   P31,    63,  1,     21,     21,2,19940208,1622, -9.6013,-170.6027, 4039,   1820.2,   2.4304,  34.6209,2,  34.6190,2,    128.3,2,    129.7,2,   119.93,2,    36.95,2,     0.00,2,     2.58,2, -999.000,9, -999.000,9,   -999.0,9,   -999.0,9,  -999.00,9, -999.00,  2.3029
     3250031_1,   P31,    63,  1,     20,     20,2,19940208,1622, -9.6013,-170.6027, 4039,   2022.6,   2.2101,  34.6351,2,  34.6348,2,    134.5,2,    134.1,2,   124.87,2,    36.66,2,     0.00,2,     2.56,2, -999.000,9, -999.000,9,   -999.0,9,   -999.0,9,  -999.00,9, -999.00,  2.0685
     3250031_1,   P31,    63,  1,     19,     19,2,19940208,1622, -9.6013,-170.6027, 4039,   2223.6,   2.0594,  34.6465,2,  34.6467,2,    137.2,2,    135.1,2,   130.08,2,    36.67,2,     0.00,2,     2.55,2, -999.000,9, -999.000,9,   -999.0,9,   -999.0,9,  -999.00,9, -999.00,  1.9028
     3250031_1,   P31,    63,  1,     18,     18,2,19940208,1622, -9.6013,-170.6027, 4039,   2429.4,   1.9271,  34.6560,2,  34.6558,2,    139.7,2,    138.8,2,   132.91,2,    36.47,2,     0.00,2,     2.54,2, -999.000,9, -999.000,9,   -999.0,9,   -999.0,9,  -999.00,9, -999.00,  1.7545
     3250031_1,   P31,    63,  1,     17,     17,2,19940208,1622, -9.6013,-170.6027, 4039,   2633.7,   1.8412,  34.6627,2,  34.6626,2,    143.1,2,    141.9,2,   134.53,2,    36.28,2,     0.00,2,     2.52,2, -999.000,9, -999.000,9,   -999.0,9,   -999.0,9,  -999.00,9, -999.00,  1.6517
     3250031_1,   P31,    63,  1,     16,     16,2,19940208,1622, -9.6013,-170.6027, 4039,   2836.4,   1.7429,  34.6696,2,  34.6705,2,    146.7,2,    146.8,2,   135.94,2,    35.94,2,     0.00,2,     2.50,2, -999.000,9, -999.000,9,   -999.0,9,   -999.0,9,  -999.00,9, -999.00,  1.5364
     3250031_1,   P31,    63,  1,     15,     15,2,19940208,1622, -9.6013,-170.6027, 4039,   2939.8,   1.7078,  34.6722,2,  34.6713,2,    150.0,2,    149.6,2,   135.71,2,    35.80,2,     0.00,2,     2.49,2, -999.000,9, -999.000,9,   -999.0,9,   -999.0,9,  -999.00,9, -999.00,  1.4923
     3250031_1,   P31,    63,  1,     14,     14,2,19940208,1622, -9.6013,-170.6027, 4039,   3041.7,   1.6718,  34.6745,2,  34.6750,2,    151.2,2,    151.4,2,   135.48,2,    35.65,2,     0.00,2,     2.47,2, -999.000,9, -999.000,9,   -999.0,9,   -999.0,9,  -999.00,9, -999.00,  1.4472
     3250031_1,   P31,    63,  1,     13,     13,2,19940208,1622, -9.6013,-170.6027, 4039,   3143.2,   1.6464,  34.6764,2,  34.6831,4,    151.5,2,    153.0,2,   135.87,2,    35.61,2,     0.00,2,     2.47,2, -999.000,9, -999.000,9,   -999.0,9,   -999.0,9,  -999.00,9, -999.00,  1.4125
     3250031_1,   P31,    63,  1,     12,     12,2,19940208,1622, -9.6013,-170.6027, 4039,   3245.8,   1.6205,  34.6782,2,  34.6779,2,    155.1,2,    155.2,2,   136.06,2,    35.47,2,     0.00,2,     2.46,2, -999.000,9, -999.000,9,   -999.0,9,   -999.0,9,  -999.00,9, -999.00,  1.3770
     3250031_1,   P31,    63,  1,     11,     11,2,19940208,1622, -9.6013,-170.6027, 4039,   3347.7,   1.5865,  34.6805,2,  34.6785,2,    157.3,2,    157.1,2,   135.62,2,    35.27,2,     0.00,2,     2.44,2, -999.000,9, -999.000,9,   -999.0,9,   -999.0,9,  -999.00,9, -999.00,  1.3337
     3250031_1,   P31,    63,  1,     10,     10,2,19940208,1622, -9.6013,-170.6027, 4039,   3450.1,   1.5561,  34.6827,2,  34.6805,2,    158.4,2,    159.6,2,   135.19,2,    35.13,2,     0.00,2,     2.44,2, -999.000,9, -999.000,9,   -999.0,9,   -999.0,9,  -999.00,9, -999.00,  1.2937
     3250031_1,   P31,    63,  1,      9,      9,2,19940208,1622, -9.6013,-170.6027, 4039,   3552.0,   1.5271,  34.6838,2,  34.6824,2,    161.9,2,    161.0,2,   135.78,2,    35.09,2,     0.00,2,     2.42,2, -999.000,9, -999.000,9,   -999.0,9,   -999.0,9,  -999.00,9, -999.00,  1.2549
     3250031_1,   P31,    63,  1,      8,      8,2,19940208,1622, -9.6013,-170.6027, 4039,   3653.7,   1.5061,  34.6858,2,  34.6846,2,    163.7,2,    162.9,2,   135.14,2,    34.90,2,     0.00,2,     2.42,2, -999.000,9, -999.000,9,   -999.0,9,   -999.0,9,  -999.00,9, -999.00,  1.2239
     3250031_1,   P31,    63,  1,      7,      7,2,19940208,1622, -9.6013,-170.6027, 4039,   3731.1,   1.4820,  34.6874,2,  34.6871,2,    164.2,2,    164.3,2,   135.53,2,    34.85,2,     0.00,2,     2.42,2, -999.000,9, -999.000,9,   -999.0,9,   -999.0,9,  -999.00,9, -999.00,  1.1924
     3250031_1,   P31,    63,  1,      5,      5,2,19940208,1622, -9.6013,-170.6027, 4039,   3806.3,   1.4574,  34.6897,2,  34.6887,2,    166.1,2,    169.1,2,   133.02,2,    34.52,2,     0.00,2,     2.40,2, -999.000,9, -999.000,9,   -999.0,9,   -999.0,9,  -999.00,9, -999.00,  1.1605
     3250031_1,   P31,    63,  1,     51,     51,2,19940208,1622, -9.6013,-170.6027, 4039,   3882.2,   1.3852,  34.6960,2,  34.6956,2,    177.6,2,    178.2,2,   127.16,2,    33.72,2,     0.00,2,     2.33,2,    0.002,2,   -0.001,2,   -999.0,9,   -999.0,9,  -999.00,9, -999.00,  1.0821
     3250031_1,   P31,    63,  1,      6,      6,2,19940208,1622, -9.6013,-170.6027, 4039,   3885.3,   1.3871,  34.6959,2,  34.6979,3,    177.1,2,    177.7,2,   127.76,2,    33.73,2,     0.00,2,     2.34,2,    0.003,2,   -0.002,2,   -999.0,9,   -999.0,9,  -999.00,9, -999.00,  1.0836
     3250031_1,   P31,    63,  1,      3,      3,2,19940208,1622, -9.6013,-170.6027, 4039,   3959.2,   1.3011,  34.7030,2,  34.7025,2,    188.2,2,    187.3,2,   122.50,2,    33.05,2,     0.00,2,     2.29,2, -999.000,9, -999.000,9,   -999.0,9,   -999.0,9,  -999.00,9, -999.00,  0.9921
     3250031_1,   P31,    63,  1,      2,      2,2,19940208,1622, -9.6013,-170.6027, 4039,   4035.7,   1.2053,  34.7074,2,  34.7078,2,    195.4,2,    195.7,2,   119.51,2,    32.47,2,     0.00,2,     2.24,2, -999.000,9, -999.000,9,   -999.0,9,   -999.0,9,  -999.00,9, -999.00,  0.8908
     3250031_1,   P31,    63,  1,      1,      1,2,19940208,1622, -9.6013,-170.6027, 4039,   4092.1,   1.1645,  34.7084,2,  34.7091,2,    198.9,2,    197.8,2,   119.68,2,    32.33,2,     0.00,2,     2.24,2, -999.000,9, -999.000,9,   -999.0,9,   -999.0,9,  -999.00,9, -999.00,  0.8451