BOTTLE,20020814WHPSIOdm
EXPOCODE,SECT_ID,STNNBR,CASTNO,SAMPNO,BTLNBR,BTLNBR_FLAG_W,DATE,TIME,LATITUDE,LONGITUDE,DEPTH,CTDPRS,CTDTMP,CTDSAL,CTDSAL_FLAG_W,SALNTY,SALNTY_FLAG_W,CTDOXY,CTDOXY_FLAG_W,OXYGEN,OXYGEN_FLAG_W,SILCAT,SILCAT_FLAG_W,NITRAT,NITRAT_FLAG_W,NITRIT,NITRIT_FLAG_W,PHSPHT,PHSPHT_FLAG_W,CFC-11,CFC-11_FLAG_W,CFC-12,CFC-12_FLAG_W,TCARBN,TCARBN_FLAG_W,ALKALI,ALKALI_FLAG_W,PH,PH_FLAG_W,PHTEMP,THETA
,,,,,,,,,,,,DBAR,ITS-90,PSS-78,,PSS-78,,UMOL/KG,,UMOL/KG,,UMOL/KG,,UMOL/KG,,UMOL/KG,,UMOL/KG,,PMOL/KG,,PMOL/KG,,UMOL/KG,,UMOL/KG,,,,DEG C,DEG C
     3250031_1,   P31,    89,  1,     20,     20,2,19940217,0630,-15.2195,-179.0568, 2250,      1.8,  29.4635,  34.9046,2,  34.9062,2,    192.7,2,    195.1,2,     1.50,2,     0.06,2,     0.00,2,     0.12,2, -999.000,9, -999.000,9,   1922.9,2,   2300.1,2,     8.17,2,   25.00, 29.4630
     3250031_1,   P31,    89,  1,     19,     19,2,19940217,0630,-15.2195,-179.0568, 2250,     11.5,  29.4708,  34.9049,2,  34.9153,2,    194.0,2,    196.8,2,     1.30,2,     0.07,2,     0.00,2,     0.12,2, -999.000,9, -999.000,9,   1922.7,2,   -999.0,9,     8.16,2,   25.00, 29.4679
     3250031_1,   P31,    89,  1,     18,     18,2,19940217,0630,-15.2195,-179.0568, 2250,     56.8,  26.3070,  35.6031,2,  35.6026,2,    213.9,2,    209.3,2,     1.29,2,     0.12,2,     0.00,2,     0.16,2, -999.000,9, -999.000,9,   1976.5,2,   -999.0,9,     8.13,2,   25.00, 26.2942
     3250031_1,   P31,    89,  1,     17,     17,2,19940217,0630,-15.2195,-179.0568, 2250,    106.3,  24.1378,  35.6665,2,  35.6654,2,    201.0,2,    200.9,2,     1.09,2,     0.12,2,     0.00,2,     0.18,2, -999.000,9, -999.000,9,   2001.1,2,   -999.0,9,     8.10,2,   25.00, 24.1153
     3250031_1,   P31,    89,  1,     16,     16,2,19940217,0630,-15.2195,-179.0568, 2250,    207.3,  20.1807,  35.7082,2,  35.7104,2,    171.4,2,    173.9,2,     1.61,2,     3.65,2,     0.00,2,     0.41,2, -999.000,9, -999.000,9,   2065.5,2,   -999.0,9,     7.99,2,   25.00, 20.1419
     3250031_1,   P31,    89,  1,     15,     15,2,19940217,0630,-15.2195,-179.0568, 2250,    307.0,  16.4848,  35.4195,2,  35.4155,2,    186.5,2,    186.2,2,     2.51,2,     5.99,2,     0.00,2,     0.56,2, -999.000,9, -999.000,9,   -999.0,9,   -999.0,9,     7.93,2,   25.00, 16.4349
     3250031_1,   P31,    89,  1,     14,     14,2,19940217,0630,-15.2195,-179.0568, 2250,    407.3,  11.6005,  34.7909,2,  34.7904,2,    151.6,2,    145.4,2,    11.01,2,    18.62,2,     0.01,2,     1.45,2, -999.000,9, -999.000,9,   2150.0,2,   -999.0,9,     7.74,2,   25.00, 11.5482
     3250031_1,   P31,    89,  1,     13,     13,2,19940217,0630,-15.2195,-179.0568, 2250,    508.7,   7.8103,  34.4697,2,  34.4735,2,    192.9,2,    189.7,2,    12.63,2,    23.57,2,     0.01,2,     1.67,2, -999.000,9, -999.000,9,   2156.9,2,   -999.0,9,     7.70,2,   25.00,  7.7589
     3250031_1,   P31,    89,  1,     12,     12,2,19940217,0630,-15.2195,-179.0568, 2250,    609.3,   6.0109,  34.3650,2,  34.3662,2,    193.8,2,    194.6,2,    21.14,2,    28.02,2,     0.01,2,     1.92,2, -999.000,9, -999.000,9,   2175.6,2,   2294.2,2,     7.66,2,   25.00,  5.9573
     3250031_1,   P31,    89,  1,     11,     11,2,19940217,0630,-15.2195,-179.0568, 2250,    709.8,   5.3472,  34.3787,2,  34.3811,2,    173.3,2,    173.2,2,    32.38,2,    30.91,2,     0.00,2,     2.11,2, -999.000,9, -999.000,9,   2222.8,2,   -999.0,9,     7.63,2,   25.00,  5.2878
     3250031_1,   P31,    89,  1,     10,     10,2,19940217,0630,-15.2195,-179.0568, 2250,    809.9,   4.5795,  34.4112,2,  34.4133,2,    163.4,2,    166.6,2,    47.43,2,    33.13,2,     0.00,2,     2.25,2, -999.000,9, -999.000,9,   2222.3,2,   2305.1,2,     7.60,2,   25.00,  4.5159
     3250031_1,   P31,    89,  1,      9,      9,2,19940217,0630,-15.2195,-179.0568, 2250,    910.8,   4.0331,  34.4564,2,  34.4574,2,    155.7,2,    157.6,2,    61.98,2,    34.45,2,     0.00,2,     2.35,2, -999.000,9, -999.000,9,   2241.6,2,   2331.0,2,     7.58,2,   25.00,  3.9646
     3250031_1,   P31,    89,  1,      8,      8,3,19940217,0630,-15.2195,-179.0568, 2250,   1011.5,   3.6418,  34.4918,2,  34.8291,4,    153.2,2,    162.3,4,    42.66,4,    23.91,4,     0.00,4,     1.67,4, -999.000,9, -999.000,9,   2181.1,4,   -999.0,9,     7.68,4,   25.00,  3.5680
     3250031_1,   P31,    89,  1,      7,      7,2,19940217,0630,-15.2195,-179.0568, 2250,   1212.8,   3.2308,  34.5445,2,  34.5460,2,    146.3,2,    145.3,2,    90.13,2,    35.83,2,     0.00,2,     2.45,2, -999.000,9, -999.000,9,   2277.6,2,   2366.2,2,     7.56,2,   25.00,  3.1442
     3250031_1,   P31,    89,  1,      6,      6,2,19940217,0630,-15.2195,-179.0568, 2250,   1415.8,   2.9300,  34.5708,2,  34.5718,2,    144.6,2,    143.5,2,    99.11,2,    36.10,2,     0.00,2,     2.48,2, -999.000,9, -999.000,9,   2288.4,2,   -999.0,9,  -999.00,9, -999.00,  2.8299
     3250031_1,   P31,    89,  1,      5,      5,2,19940217,0630,-15.2195,-179.0568, 2250,   1618.3,   2.6963,  34.5896,2,  34.5893,2,    143.1,2,    143.8,2,   105.36,2,    36.11,2,     0.00,2,     2.48,2, -999.000,9, -999.000,9,   2296.4,2,   2380.7,2,  -999.00,9, -999.00,  2.5822
     3250031_1,   P31,    89,  1,      4,      4,2,19940217,0630,-15.2195,-179.0568, 2250,   1821.0,   2.4464,  34.6118,2,  34.6119,2,    144.6,2,    143.9,2,   112.64,2,    36.32,2,     0.00,2,     2.49,2, -999.000,9, -999.000,9,   2302.7,2,   -999.0,9,  -999.00,9, -999.00,  2.3186
     3250031_1,   P31,    89,  1,      3,      3,2,19940217,0630,-15.2195,-179.0568, 2250,   2024.1,   2.2659,  34.6280,2,  34.6284,2,    145.0,2,    144.8,2,   118.66,2,    36.28,2,     0.00,2,     2.48,2, -999.000,9, -999.000,9,   2309.2,2,   2399.0,2,  -999.00,9, -999.00,  2.1234
     3250031_1,   P31,    89,  1,      2,      2,2,19940217,0630,-15.2195,-179.0568, 2250,   2124.6,   2.2088,  34.6334,2,  34.6340,2,    145.2,2,    145.2,2,   121.01,2,    36.39,2,     0.00,2,     2.49,2, -999.000,9, -999.000,9,   2309.8,2,   -999.0,9,  -999.00,9, -999.00,  2.0584
     3250031_1,   P31,    89,  1,      1,      1,2,19940217,0630,-15.2195,-179.0568, 2250,   2215.7,   2.1431,  34.6393,2,  34.6385,2,    144.1,3,    145.2,2,   122.96,2,    36.29,2,     0.00,2,     2.49,2, -999.000,9, -999.000,9,   2313.3,2,   2401.9,2,  -999.00,9, -999.00,  1.9858
     3250031_1,   P31,    90,  1,     24,     24,2,19940217,1038,-15.6127,-179.3508, 2483,      3.0,  29.1844,  34.8955,2,  34.8965,2,    193.9,2,    196.8,2,     1.37,2,     0.10,2,     0.00,2,     0.12,2, -999.000,9, -999.000,9,   -999.0,9,   -999.0,9,  -999.00,9, -999.00, 29.1837
     3250031_1,   P31,    90,  1,     23,     23,2,19940217,1038,-15.6127,-179.3508, 2483,      9.5,  29.1785,  34.8974,2,  34.8963,2,    191.8,2,    196.9,2,     1.18,2,     0.10,2,     0.00,2,     0.11,2, -999.000,9, -999.000,9,   -999.0,9,   -999.0,9,  -999.00,9, -999.00, 29.1762
     3250031_1,   P31,    90,  1,     22,     22,2,19940217,1038,-15.6127,-179.3508, 2483,     55.0,  27.1105,  35.5383,2,  35.5390,2,    210.9,2,    210.2,2,     1.35,2,     0.10,2,     0.00,2,     0.16,2, -999.000,9, -999.000,9,   -999.0,9,   -999.0,9,  -999.00,9, -999.00, 27.0978
     3250031_1,   P31,    90,  1,     21,     21,2,19940217,1038,-15.6127,-179.3508, 2483,    104.7,  24.2691,  35.7024,2,  35.6998,2,    200.4,2,    198.0,2,     1.16,2,     0.13,2,     0.03,2,     0.20,2, -999.000,9, -999.000,9,   -999.0,9,   -999.0,9,  -999.00,9, -999.00, 24.2468
     3250031_1,   P31,    90,  1,     20,     20,2,19940217,1038,-15.6127,-179.3508, 2483,    204.7,  20.2447,  35.7050,2,  35.7000,2,    184.3,2,    179.0,2,     1.69,2,     3.11,2,     0.01,2,     0.37,2, -999.000,9, -999.000,9,   -999.0,9,   -999.0,9,  -999.00,9, -999.00, 20.2063
     3250031_1,   P31,    90,  1,     19,     19,2,19940217,1038,-15.6127,-179.3508, 2483,    305.8,  17.0023,  35.4565,2,  35.4577,2,    184.9,2,    184.8,2,     2.41,2,     5.51,2,     0.01,2,     0.53,2, -999.000,9, -999.000,9,   -999.0,9,   -999.0,9,  -999.00,9, -999.00, 16.9515
     3250031_1,   P31,    90,  1,     18,     18,2,19940217,1038,-15.6127,-179.3508, 2483,    406.2,  12.6014,  35.0032,2,  34.9968,2,    180.0,2,    184.9,2,     4.95,2,    12.55,2,     0.00,2,     0.97,2, -999.000,9, -999.000,9,   -999.0,9,   -999.0,9,  -999.00,9, -999.00, 12.5462
     3250031_1,   P31,    90,  1,     17,     17,2,19940217,1038,-15.6127,-179.3508, 2483,    507.0,   8.5915,  34.5542,2,  34.5521,2,    197.8,2,    198.8,2,     8.94,2,    20.69,2,     0.01,2,     1.46,2, -999.000,9, -999.000,9,   -999.0,9,   -999.0,9,  -999.00,9, -999.00,  8.5373
     3250031_1,   P31,    90,  1,     16,     16,9,19940217,1038,-15.6127,-179.3508, 2483,    607.0,   6.7247,  34.4014,2,-999.0000,9,    197.5,2,   -999.0,9,  -999.00,9,  -999.00,9,  -999.00,9,  -999.00,9, -999.000,9, -999.000,9,   -999.0,9,   -999.0,9,  -999.00,9, -999.00,  6.6680
     3250031_1,   P31,    90,  1,     15,     15,2,19940217,1038,-15.6127,-179.3508, 2483,    706.2,   5.5762,  34.3612,2,  34.3629,2,    179.0,2,    187.6,2,    26.41,2,    29.70,2,     0.01,2,     2.02,2, -999.000,9, -999.000,9,   -999.0,9,   -999.0,9,  -999.00,9, -999.00,  5.5159
     3250031_1,   P31,    90,  1,     14,     14,2,19940217,1038,-15.6127,-179.3508, 2483,    805.8,   4.8168,  34.3975,2,  34.3998,2,    167.0,2,    170.5,2,    42.24,2,    32.44,2,     0.00,2,     2.19,2, -999.000,9, -999.000,9,   -999.0,9,   -999.0,9,  -999.00,9, -999.00,  4.7520
     3250031_1,   P31,    90,  1,     13,     13,2,19940217,1038,-15.6127,-179.3508, 2483,    906.8,   4.4188,  34.4247,2,  34.4259,2,    158.2,2,    163.2,2,    51.72,2,    33.60,2,     0.01,2,     2.28,2, -999.000,9, -999.000,9,   -999.0,9,   -999.0,9,  -999.00,9, -999.00,  4.3480
     3250031_1,   P31,    90,  1,     12,     12,2,19940217,1038,-15.6127,-179.3508, 2483,   1008.6,   3.9939,  34.4571,2,  34.4553,2,    158.6,2,    159.4,2,    61.96,2,    34.24,2,     0.00,2,     2.32,2, -999.000,9, -999.000,9,   -999.0,9,   -999.0,9,  -999.00,9, -999.00,  3.9176
     3250031_1,   P31,    90,  1,     11,     11,2,19940217,1038,-15.6127,-179.3508, 2483,   1211.3,   3.2851,  34.5168,2,  34.5174,2,    154.5,2,    154.6,2,    82.59,2,    35.25,2,     0.00,2,     2.39,2, -999.000,9, -999.000,9,   -999.0,9,   -999.0,9,  -999.00,9, -999.00,  3.1982
     3250031_1,   P31,    90,  1,     10,     10,2,19940217,1038,-15.6127,-179.3508, 2483,   1413.0,   2.8627,  34.5615,2,  34.5624,2,    150.9,2,    150.5,2,    97.00,2,    35.62,2,     0.01,2,     2.42,2, -999.000,9, -999.000,9,   -999.0,9,   -999.0,9,  -999.00,9, -999.00,  2.7636
     3250031_1,   P31,    90,  1,      8,      8,2,19940217,1038,-15.6127,-179.3508, 2483,   1615.5,   2.7049,  34.5850,2,  34.5858,2,    148.2,2,    146.5,2,   103.64,2,    36.06,2,     0.00,2,     2.45,2, -999.000,9, -999.000,9,   -999.0,9,   -999.0,9,  -999.00,9, -999.00,  2.5910
     3250031_1,   P31,    90,  1,      9,      9,2,19940217,1038,-15.6127,-179.3508, 2483,   1615.8,   2.7077,  34.5849,2,  34.5866,2,    148.2,2,    145.9,2,   104.03,2,    35.95,2,     0.00,2,     2.45,2, -999.000,9, -999.000,9,   -999.0,9,   -999.0,9,  -999.00,9, -999.00,  2.5937
     3250031_1,   P31,    90,  1,      7,      7,2,19940217,1038,-15.6127,-179.3508, 2483,   1817.5,   2.5496,  34.5984,2,  34.5996,2,    147.2,2,    146.4,2,   108.63,2,    36.06,2,     0.00,2,     2.46,2, -999.000,9, -999.000,9,   -999.0,9,   -999.0,9,  -999.00,9, -999.00,  2.4207
     3250031_1,   P31,    90,  1,      6,      6,2,19940217,1038,-15.6127,-179.3508, 2483,   2019.5,   2.3336,  34.6225,2,  34.6236,2,    145.7,2,    144.8,2,   116.40,2,    36.28,2,     0.00,2,     2.47,2, -999.000,9, -999.000,9,   -999.0,9,   -999.0,9,  -999.00,9, -999.00,  2.1904
     3250031_1,   P31,    90,  1,      5,      5,2,19940217,1038,-15.6127,-179.3508, 2483,   2121.0,   2.2312,  34.6330,2,  34.6336,2,    145.4,2,    146.3,2,   118.95,2,    36.18,2,     0.00,2,     2.47,2, -999.000,9, -999.000,9,   -999.0,9,   -999.0,9,  -999.00,9, -999.00,  2.0808
     3250031_1,   P31,    90,  1,      3,      3,2,19940217,1038,-15.6127,-179.3508, 2483,   2221.6,   2.1358,  34.6403,2,  34.6417,2,    146.6,2,    146.2,2,   122.31,2,    36.29,2,     0.00,2,     2.47,2, -999.000,9, -999.000,9,   -999.0,9,   -999.0,9,  -999.00,9, -999.00,  1.9781
     3250031_1,   P31,    90,  1,      2,      2,2,19940217,1038,-15.6127,-179.3508, 2483,   2322.5,   2.0722,  34.6449,2,  34.6456,2,    145.2,2,    146.0,2,   125.11,2,    36.34,2,     0.00,2,     2.47,2, -999.000,9, -999.000,9,   -999.0,9,   -999.0,9,  -999.00,9, -999.00,  1.9066
     3250031_1,   P31,    90,  1,      1,      1,2,19940217,1038,-15.6127,-179.3508, 2483,   2392.9,   2.0573,  34.6461,2,  34.6472,2,    145.7,2,    141.4,3,   124.90,2,    36.19,2,     0.00,2,     2.48,2, -999.000,9, -999.000,9,   -999.0,9,   -999.0,9,  -999.00,9, -999.00,  1.8857
     3250031_1,   P31,    91,  1,     18,     18,2,19940217,1355,-15.8673,-179.5268, 1478,      2.6,  29.1725,  34.7553,2,  34.7547,2,    199.7,2,    197.4,2,     1.27,2,     0.10,2,     0.00,2,     0.10,2, -999.000,9, -999.000,9,   -999.0,9,   -999.0,9,  -999.00,9, -999.00, 29.1719
     3250031_1,   P31,    91,  1,     17,     17,2,19940217,1355,-15.8673,-179.5268, 1478,      9.6,  29.1724,  34.7549,2,  34.7545,2,    189.5,2,    197.4,2,     1.06,2,     0.10,2,     0.00,2,     0.10,2, -999.000,9, -999.000,9,   -999.0,9,   -999.0,9,  -999.00,9, -999.00, 29.1701
     3250031_1,   P31,    91,  1,     16,     16,2,19940217,1355,-15.8673,-179.5268, 1478,     55.1,  26.5408,  35.6046,2,  35.5964,2,    208.5,2,    207.9,2,     1.04,2,     0.10,2,     0.00,2,     0.16,2, -999.000,9, -999.000,9,   -999.0,9,   -999.0,9,  -999.00,9, -999.00, 26.5283
     3250031_1,   P31,    91,  1,     15,     15,2,19940217,1355,-15.8673,-179.5268, 1478,    105.5,  24.1956,  35.6926,2,  35.6915,2,    196.7,2,    197.2,2,     1.01,2,     0.13,2,     0.08,2,     0.20,2, -999.000,9, -999.000,9,   -999.0,9,   -999.0,9,  -999.00,9, -999.00, 24.1732
     3250031_1,   P31,    91,  1,     14,     14,2,19940217,1355,-15.8673,-179.5268, 1478,    205.6,  20.6904,  35.7567,2,  35.7484,2,    179.6,2,    172.8,2,     1.36,2,     3.62,2,     0.02,2,     0.43,2, -999.000,9, -999.000,9,   -999.0,9,   -999.0,9,  -999.00,9, -999.00, 20.6513
     3250031_1,   P31,    91,  1,     13,     13,2,19940217,1355,-15.8673,-179.5268, 1478,    306.2,  17.0055,  35.4165,2,  35.4141,2,    176.2,2,    172.2,2,     2.97,2,     7.16,2,     0.01,2,     0.67,2, -999.000,9, -999.000,9,   -999.0,9,   -999.0,9,  -999.00,9, -999.00, 16.9546
     3250031_1,   P31,    91,  1,     12,     12,2,19940217,1355,-15.8673,-179.5268, 1478,    406.2,  11.8094,  34.8693,2,  34.8667,2,    173.8,2,    177.9,2,     6.77,2,    15.44,2,     0.01,2,     1.18,2, -999.000,9, -999.000,9,   -999.0,9,   -999.0,9,  -999.00,9, -999.00, 11.7565
     3250031_1,   P31,    91,  1,     11,     11,2,19940217,1355,-15.8673,-179.5268, 1478,    507.2,   9.2437,  34.6294,2,  34.6247,2,    186.0,2,    183.8,2,    11.67,2,    20.81,2,     0.01,2,     1.50,2, -999.000,9, -999.000,9,   -999.0,9,   -999.0,9,  -999.00,9, -999.00,  9.1869
     3250031_1,   P31,    91,  1,     10,     10,2,19940217,1355,-15.8673,-179.5268, 1478,    608.1,   6.8501,  34.4681,2,  34.4670,2,    186.4,2,    187.6,2,    23.13,2,    26.31,2,     0.01,2,     1.82,2, -999.000,9, -999.000,9,   -999.0,9,   -999.0,9,  -999.00,9, -999.00,  6.7926
     3250031_1,   P31,    91,  1,      9,      9,2,19940217,1355,-15.8673,-179.5268, 1478,    708.8,   5.8235,  34.3934,2,  34.3893,2,    181.8,2,    187.9,2,    26.76,2,    28.89,2,     0.01,2,     1.99,2, -999.000,9, -999.000,9,   -999.0,9,   -999.0,9,  -999.00,9, -999.00,  5.7616
     3250031_1,   P31,    91,  1,      8,      8,2,19940217,1355,-15.8673,-179.5268, 1478,    809.5,   5.0168,  34.4009,2,  34.4019,2,    174.8,2,    172.3,2,    39.87,2,    31.84,2,     0.01,2,     2.17,2, -999.000,9, -999.000,9,   -999.0,9,   -999.0,9,  -999.00,9, -999.00,  4.9505
     3250031_1,   P31,    91,  1,      7,      7,2,19940217,1355,-15.8673,-179.5268, 1478,    909.2,   4.5628,  34.4225,2,  34.4243,2,    164.1,2,    164.3,2,    49.35,2,    33.28,2,     0.00,2,     2.27,2, -999.000,9, -999.000,9,   -999.0,9,   -999.0,9,  -999.00,9, -999.00,  4.4908
     3250031_1,   P31,    91,  1,      6,      6,2,19940217,1355,-15.8673,-179.5268, 1478,   1009.7,   3.9828,  34.4585,2,  34.4586,2,    159.7,2,    159.5,2,    62.53,2,    34.24,2,     0.00,2,     2.34,2, -999.000,9, -999.000,9,   -999.0,9,   -999.0,9,  -999.00,9, -999.00,  3.9065
     3250031_1,   P31,    91,  1,      5,      5,2,19940217,1355,-15.8673,-179.5268, 1478,   1109.5,   3.7878,  34.4744,2,  34.4747,2,    158.6,2,    157.2,2,    68.21,2,    34.62,2,     0.01,2,     2.37,2, -999.000,9, -999.000,9,   -999.0,9,   -999.0,9,  -999.00,9, -999.00,  3.7048
     3250031_1,   P31,    91,  1,      4,      4,2,19940217,1355,-15.8673,-179.5268, 1478,   1208.2,   3.3782,  34.5135,2,  34.5126,2,    152.6,2,    153.6,2,    80.40,2,    35.16,2,     0.01,2,     2.41,2, -999.000,9, -999.000,9,   -999.0,9,   -999.0,9,  -999.00,9, -999.00,  3.2906
     3250031_1,   P31,    91,  1,      3,      3,2,19940217,1355,-15.8673,-179.5268, 1478,   1309.0,   3.2120,  34.5329,2,  34.5315,2,    151.1,2,    150.9,2,    86.92,2,    35.44,2,     0.01,2,     2.43,2, -999.000,9, -999.000,9,   -999.0,9,   -999.0,9,  -999.00,9, -999.00,  3.1178
     3250031_1,   P31,    91,  1,      2,      2,2,19940217,1355,-15.8673,-179.5268, 1478,   1409.9,   3.0587,  34.5502,2,  34.5496,2,    149.1,2,    149.0,2,    92.73,2,    35.67,2,     0.00,2,     2.44,2, -999.000,9, -999.000,9,   -999.0,9,   -999.0,9,  -999.00,9, -999.00,  2.9577
     3250031_1,   P31,    91,  1,      1,      1,2,19940217,1355,-15.8673,-179.5268, 1478,   1461.9,   2.9930,  34.5572,2,  34.5559,2,    147.2,3,    148.4,2,    95.17,2,    35.68,2,     0.00,2,     2.45,2, -999.000,9, -999.000,9,   -999.0,9,   -999.0,9,  -999.00,9, -999.00,  2.8885