BOTTLE,20020814WHPSIOdm
EXPOCODE,SECT_ID,STNNBR,CASTNO,SAMPNO,BTLNBR,BTLNBR_FLAG_W,DATE,TIME,LATITUDE,LONGITUDE,DEPTH,CTDPRS,CTDTMP,CTDSAL,CTDSAL_FLAG_W,SALNTY,SALNTY_FLAG_W,CTDOXY,CTDOXY_FLAG_W,OXYGEN,OXYGEN_FLAG_W,SILCAT,SILCAT_FLAG_W,NITRAT,NITRAT_FLAG_W,NITRIT,NITRIT_FLAG_W,PHSPHT,PHSPHT_FLAG_W,CFC-11,CFC-11_FLAG_W,CFC-12,CFC-12_FLAG_W,TCARBN,TCARBN_FLAG_W,ALKALI,ALKALI_FLAG_W,PH,PH_FLAG_W,PHTEMP,THETA
,,,,,,,,,,,,DBAR,ITS-90,PSS-78,,PSS-78,,UMOL/KG,,UMOL/KG,,UMOL/KG,,UMOL/KG,,UMOL/KG,,UMOL/KG,,PMOL/KG,,PMOL/KG,,UMOL/KG,,UMOL/KG,,,,DEG C,DEG C
     3250031_1,   P31,     6,  1,     36,     36,2,19940127,0453,-16.3182,-150.7690, 3872,      3.2,  29.6764,  36.0423,2,  36.0409,2,    193.5,2,    195.1,2,     1.65,2,     0.14,2,     0.00,2,     0.18,3,    1.590,2,    0.866,2,   -999.0,9,   -999.0,9,  -999.00,9, -999.00, 29.6756
     3250031_1,   P31,     6,  1,     35,     35,2,19940127,0453,-16.3182,-150.7690, 3872,     14.4,  29.2361,  36.1003,2,  36.0968,2,    198.4,2,    197.2,2,     1.44,2,     0.14,2,     0.00,2,     0.17,3,    1.594,2,    0.865,2,   -999.0,9,   -999.0,9,  -999.00,9, -999.00, 29.2325
     3250031_1,   P31,     6,  1,     34,     34,2,19940127,0453,-16.3182,-150.7690, 3872,     56.1,  27.1508,  36.2281,2,  36.2291,2,    204.4,2,    208.0,2,     1.24,2,     0.14,2,     0.00,2,     0.17,3,    1.770,2,    0.966,2,   -999.0,9,   -999.0,9,  -999.00,9, -999.00, 27.1378
     3250031_1,   P31,     6,  1,     33,     33,2,19940127,0453,-16.3182,-150.7690, 3872,    106.1,  25.3494,  36.1094,2,  36.1169,2,    202.5,2,    199.8,2,     1.03,2,     0.14,2,     0.00,2,     0.19,3,    1.777,2,    0.938,2,   -999.0,9,   -999.0,9,  -999.00,9, -999.00, 25.3260
     3250031_1,   P31,     6,  1,     32,     32,2,19940127,0453,-16.3182,-150.7690, 3872,    155.4,  23.6719,  36.1504,2,  36.1487,2,    186.8,2,    182.4,2,     1.01,2,     1.04,2,     0.09,2,     0.31,3,    1.653,2,    0.869,2,   -999.0,9,   -999.0,9,  -999.00,9, -999.00, 23.6393
     3250031_1,   P31,     6,  1,     31,     31,2,19940127,0453,-16.3182,-150.7690, 3872,    205.8,  22.0478,  36.0217,2,  36.0281,2,    180.8,2,    179.3,2,     1.17,2,     2.45,2,     0.03,2,     0.37,3,    1.853,6,    0.966,6,   -999.0,9,   -999.0,9,  -999.00,9, -999.00, 22.0068
     3250031_1,   P31,     6,  1,     30,     30,2,19940127,0453,-16.3182,-150.7690, 3872,    305.3,  15.9121,  35.2300,2,  35.2121,2,    166.8,2,    166.1,2,     3.89,2,     9.44,2,     0.00,2,     0.84,3,    1.482,2,    0.752,2,   -999.0,9,   -999.0,9,  -999.00,9, -999.00, 15.8637
     3250031_1,   P31,     6,  1,     29,     29,2,19940127,0453,-16.3182,-150.7690, 3872,    403.4,  10.5235,  34.6652,2,  34.6644,2,    144.0,2,    142.6,2,    12.83,2,    21.12,2,     0.00,2,     1.61,3,    0.720,2,    0.456,2,   -999.0,9,   -999.0,9,  -999.00,9, -999.00, 10.4748
     3250031_1,   P31,     6,  1,     28,     28,2,19940127,0453,-16.3182,-150.7690, 3872,    503.3,   7.6555,  34.4793,2,  34.4775,2,    142.8,2,    142.7,2,    22.32,2,    28.08,2,     0.00,2,     2.03,3,    0.266,4,    0.113,2,   -999.0,9,   -999.0,9,  -999.00,9, -999.00,  7.6052
     3250031_1,   P31,     6,  1,     27,     27,2,19940127,0453,-16.3182,-150.7690, 3872,    603.4,   6.2229,  34.4369,2,  34.4363,2,    149.3,2,    148.3,2,    32.19,2,    30.95,2,     0.00,2,     2.19,3,    0.087,2,    0.034,2,   -999.0,9,   -999.0,9,  -999.00,9, -999.00,  6.1688
     3250031_1,   P31,     6,  1,     26,     26,2,19940127,0453,-16.3182,-150.7690, 3872,    704.4,   5.3271,  34.4432,2,  34.4422,2,    144.5,2,    147.3,2,    44.07,2,    32.77,2,     0.00,2,     2.31,3,    0.033,2,    0.014,2,   -999.0,9,   -999.0,9,  -999.00,9, -999.00,  5.2682
     3250031_1,   P31,     6,  1,     25,     25,2,19940127,0453,-16.3182,-150.7690, 3872,    804.3,   4.8048,  34.4676,2,  34.4687,2,    136.0,2,    144.4,2,    55.43,2,    33.63,2,     0.00,2,     2.38,3,    0.027,3,    0.001,2,   -999.0,9,   -999.0,9,  -999.00,9, -999.00,  4.7402
     3250031_1,   P31,     6,  1,     24,     24,2,19940127,0453,-16.3182,-150.7690, 3872,    904.7,   4.3790,  34.4893,2,  34.4898,2,    140.5,2,    142.3,2,    64.43,2,    34.29,2,     0.00,2,     2.45,3, -999.000,9, -999.000,9,   -999.0,9,   -999.0,9,  -999.00,9, -999.00,  4.3086
     3250031_1,   P31,     6,  1,     23,     23,2,19940127,0453,-16.3182,-150.7690, 3872,   1005.2,   3.9851,  34.5065,2,  34.5061,2,    141.6,2,    142.6,2,    72.17,2,    34.74,2,     0.00,2,     2.48,3,    0.014,2,   -0.002,2,   -999.0,9,   -999.0,9,  -999.00,9, -999.00,  3.9091
     3250031_1,   P31,     6,  1,     22,     22,2,19940127,0453,-16.3182,-150.7690, 3872,   1104.7,   3.7033,  34.5225,2,  34.5222,2,    141.5,2,    141.6,2,    78.28,2,    35.05,2,     0.00,2,     2.50,3, -999.000,9, -999.000,9,   -999.0,9,   -999.0,9,  -999.00,9, -999.00,  3.6213
     3250031_1,   P31,     6,  1,     21,     21,2,19940127,0453,-16.3182,-150.7690, 3872,   1204.7,   3.4375,  34.5374,2,  34.5361,2,    142.9,2,    142.0,2,    84.23,2,    35.30,2,     0.00,2,     2.52,3, -999.000,9, -999.000,9,   -999.0,9,   -999.0,9,  -999.00,9, -999.00,  3.3497
     3250031_1,   P31,     6,  1,     20,     20,2,19940127,0453,-16.3182,-150.7690, 3872,   1404.1,   3.0259,  34.5667,2,  34.5659,2,    140.1,2,    142.2,2,    94.37,2,    35.55,2,     0.00,2,     2.54,3,    0.022,2,    0.015,2,   -999.0,9,   -999.0,9,  -999.00,9, -999.00,  2.9257
     3250031_1,   P31,     6,  1,     19,     19,2,19940127,0453,-16.3182,-150.7690, 3872,   1596.4,   2.6737,  34.5914,2,  34.5906,2,    147.0,2,    144.8,2,   102.72,2,    35.60,2,     0.00,2,     2.54,3, -999.000,9, -999.000,9,   -999.0,9,   -999.0,9,  -999.00,9, -999.00,  2.5616
     3250031_1,   P31,     6,  1,     18,     18,2,19940127,0453,-16.3182,-150.7690, 3872,   1784.7,   2.4037,  34.6104,2,  34.6096,2,    150.0,2,    148.3,2,   109.07,2,    35.35,2,     0.00,2,     2.54,3, -999.000,9, -999.000,9,   -999.0,9,   -999.0,9,  -999.00,9, -999.00,  2.2796
     3250031_1,   P31,     6,  1,     17,     17,2,19940127,0453,-16.3182,-150.7690, 3872,   1991.4,   2.2217,  34.6258,2,  34.6249,2,    148.9,2,    150.0,2,   113.92,2,    35.35,2,     0.00,2,     2.54,3,    0.002,2,   -0.002,2,   -999.0,9,   -999.0,9,  -999.00,9, -999.00,  2.0826
     3250031_1,   P31,     6,  1,     16,     16,2,19940127,0453,-16.3182,-150.7690, 3872,   2199.8,   2.0422,  34.6403,2,  34.6414,2,    154.8,2,    153.3,2,   117.84,2,    35.14,2,     0.00,2,     2.52,3, -999.000,9, -999.000,9,   -999.0,9,   -999.0,9,  -999.00,9, -999.00,  1.8880
     3250031_1,   P31,     6,  1,     15,     15,2,19940127,0453,-16.3182,-150.7690, 3872,   2408.7,   1.8900,  34.6534,2,  34.6529,2,    157.4,2,    155.8,2,   121.59,2,    34.94,2,     0.00,2,     2.53,3, -999.000,9, -999.000,9,   -999.0,9,   -999.0,9,  -999.00,9, -999.00,  1.7200
     3250031_1,   P31,     6,  1,     14,     14,2,19940127,0453,-16.3182,-150.7690, 3872,   2616.9,   1.8015,  34.6613,2,  34.6626,2,    161.5,2,    158.6,2,   123.57,2,    34.84,2,     0.00,2,     2.51,3,    0.011,2,    0.011,2,   -999.0,9,   -999.0,9,  -999.00,9, -999.00,  1.6142
     3250031_1,   P31,     6,  1,     13,     13,2,19940127,0453,-16.3182,-150.7690, 3872,   2719.9,   1.7595,  34.6647,2,  34.6649,2,    162.5,2,    160.2,2,   124.36,2,    34.74,2,     0.00,2,     2.51,3, -999.000,9, -999.000,9,   -999.0,9,   -999.0,9,  -999.00,9, -999.00,  1.5636
     3250031_1,   P31,     6,  1,     12,     12,2,19940127,0453,-16.3182,-150.7690, 3872,   2822.4,   1.7173,  34.6681,2,  34.6665,2,    162.1,2,    161.7,2,   124.75,2,    34.58,2,     0.00,2,     2.51,3, -999.000,9, -999.000,9,   -999.0,9,   -999.0,9,  -999.00,9, -999.00,  1.5127
     3250031_1,   P31,     6,  1,     11,     11,2,19940127,0453,-16.3182,-150.7690, 3872,   2923.9,   1.6659,  34.6724,2,  34.6714,2,    162.2,2,    163.8,2,   125.15,2,    34.53,2,     0.00,2,     2.50,3, -999.000,9, -999.000,9,   -999.0,9,   -999.0,9,  -999.00,9, -999.00,  1.4527
     3250031_1,   P31,     6,  1,     10,     10,2,19940127,0453,-16.3182,-150.7690, 3872,   3024.9,   1.6192,  34.6757,2,  34.6753,2,    166.1,2,    166.7,2,   125.13,2,    34.33,2,     0.00,2,     2.49,3,    0.006,2,   -0.002,2,   -999.0,9,   -999.0,9,  -999.00,9, -999.00,  1.3974
     3250031_1,   P31,     6,  1,      9,      9,2,19940127,0453,-16.3182,-150.7690, 3872,   3125.7,   1.5782,  34.6788,2,  34.6784,2,    169.0,2,    169.2,2,   125.32,2,    34.18,2,     0.00,2,     2.49,3, -999.000,9, -999.000,9,   -999.0,9,   -999.0,9,  -999.00,9, -999.00,  1.3476
     3250031_1,   P31,     6,  1,      8,      8,2,19940127,0453,-16.3182,-150.7690, 3872,   3227.7,   1.5550,  34.6808,2,  34.6802,2,    170.1,2,    170.8,2,   125.11,2,    34.03,2,     0.00,2,     2.49,3, -999.000,9, -999.000,9,   -999.0,9,   -999.0,9,  -999.00,9, -999.00,  1.3148
     3250031_1,   P31,     6,  1,      7,      7,2,19940127,0453,-16.3182,-150.7690, 3872,   3329.4,   1.5342,  34.6831,2,  34.6825,2,    170.8,2,    172.1,2,   124.70,2,    33.92,2,     0.00,2,     2.48,3, -999.000,9, -999.000,9,   -999.0,9,   -999.0,9,  -999.00,9, -999.00,  1.2844
     3250031_1,   P31,     6,  1,      6,      6,2,19940127,0453,-16.3182,-150.7690, 3872,   3431.1,   1.5117,  34.6852,2,  34.6841,2,    173.3,2,    173.8,2,   124.49,2,    33.82,2,     0.00,2,     2.48,3,    0.011,3,   -0.001,2,   -999.0,9,   -999.0,9,  -999.00,9, -999.00,  1.2522
     3250031_1,   P31,     6,  1,      5,      5,2,19940127,0453,-16.3182,-150.7690, 3872,   3532.9,   1.4956,  34.6867,2,  34.6857,2,    174.5,2,    175.5,2,   124.68,2,    33.67,2,     0.00,2,     2.48,3,    0.001,2,   -0.001,2,   -999.0,9,   -999.0,9,  -999.00,9, -999.00,  1.2262
     3250031_1,   P31,     6,  1,      4,      4,2,19940127,0453,-16.3182,-150.7690, 3872,   3633.8,   1.4855,  34.6881,2,  34.6872,2,    176.8,2,    176.4,2,   124.47,2,    33.62,2,     0.00,2,     2.48,3,    0.010,6,    0.009,6,   -999.0,9,   -999.0,9,  -999.00,9, -999.00,  1.2059
     3250031_1,   P31,     6,  1,      3,      3,2,19940127,0453,-16.3182,-150.7690, 3872,   3734.9,   1.4791,  34.6891,2,  34.6878,2,    177.4,2,    177.4,2,   124.46,2,    33.52,2,     0.00,2,     2.48,3,    0.006,2,    0.001,2,   -999.0,9,   -999.0,9,  -999.00,9, -999.00,  1.1891
     3250031_1,   P31,     6,  1,      2,      2,2,19940127,0453,-16.3182,-150.7690, 3872,   3835.6,   1.4779,  34.6895,2,  34.6894,2,    178.9,2,    178.1,2,   123.84,2,    33.47,2,     0.00,2,     2.49,3,    0.004,2,    0.019,4,   -999.0,9,   -999.0,9,  -999.00,9, -999.00,  1.1773
     3250031_1,   P31,     6,  1,      1,      1,2,19940127,0453,-16.3182,-150.7690, 3872,   3918.5,   1.4767,  34.6904,2,  34.6915,2,    180.9,2,    178.3,2,   123.63,2,    33.47,2,     0.00,2,     2.49,3,    0.007,2,   -0.003,2,   -999.0,9,   -999.0,9,  -999.00,9, -999.00,  1.1672