BOTTLE,20020814WHPSIOdm
EXPOCODE,SECT_ID,STNNBR,CASTNO,SAMPNO,BTLNBR,BTLNBR_FLAG_W,DATE,TIME,LATITUDE,LONGITUDE,DEPTH,CTDPRS,CTDTMP,CTDSAL,CTDSAL_FLAG_W,SALNTY,SALNTY_FLAG_W,CTDOXY,CTDOXY_FLAG_W,OXYGEN,OXYGEN_FLAG_W,SILCAT,SILCAT_FLAG_W,NITRAT,NITRAT_FLAG_W,NITRIT,NITRIT_FLAG_W,PHSPHT,PHSPHT_FLAG_W,CFC-11,CFC-11_FLAG_W,CFC-12,CFC-12_FLAG_W,TCARBN,TCARBN_FLAG_W,ALKALI,ALKALI_FLAG_W,PH,PH_FLAG_W,PHTEMP,THETA
,,,,,,,,,,,,DBAR,ITS-90,PSS-78,,PSS-78,,UMOL/KG,,UMOL/KG,,UMOL/KG,,UMOL/KG,,UMOL/KG,,UMOL/KG,,PMOL/KG,,PMOL/KG,,UMOL/KG,,UMOL/KG,,,,DEG C,DEG C
     3250031_1,   P31,    38,  1,     36,     36,2,19940203,1214,-10.5585,-164.6492, 4172,      3.2,  29.6714,  34.3582,2,  34.3678,2,    188.6,2,    200.3,2,     1.99,2,     0.00,2,     0.00,2,     0.16,2, -999.000,9, -999.000,9,   -999.0,9,   -999.0,9,  -999.00,9, -999.00, 29.6706
     3250031_1,   P31,    38,  1,     35,     35,2,19940203,1214,-10.5585,-164.6492, 4172,     15.7,  29.8802,  34.5858,2,  34.5869,2,    194.8,2,    199.7,2,     1.97,2,     0.00,2,     0.00,2,     0.17,2, -999.000,9, -999.000,9,   -999.0,9,   -999.0,9,  -999.00,9, -999.00, 29.8763
     3250031_1,   P31,    38,  1,     34,     34,2,19940203,1214,-10.5585,-164.6492, 4172,     55.5,  29.7289,  35.1642,2,  35.1648,2,    199.4,2,    204.6,2,     1.75,2,     0.00,2,     0.00,2,     0.18,2, -999.000,9, -999.000,9,   -999.0,9,   -999.0,9,  -999.00,9, -999.00, 29.7152
     3250031_1,   P31,    38,  1,     33,     33,2,19940203,1214,-10.5585,-164.6492, 4172,    105.8,  26.4045,  36.2948,2,  36.3073,2,    185.2,2,    177.6,2,     1.73,2,     1.12,2,     0.26,2,     0.39,2, -999.000,9, -999.000,9,   -999.0,9,   -999.0,9,  -999.00,9, -999.00, 26.3805
     3250031_1,   P31,    38,  1,     32,     32,2,19940203,1214,-10.5585,-164.6492, 4172,    205.8,  21.4591,  36.0134,2,  36.0074,2,    153.4,2,    152.0,2,     2.43,2,     6.90,2,     0.01,2,     0.72,2, -999.000,9, -999.000,9,   -999.0,9,   -999.0,9,  -999.00,9, -999.00, 21.4189
     3250031_1,   P31,    38,  1,     31,     31,2,19940203,1214,-10.5585,-164.6492, 4172,    306.3,  14.3739,  35.0999,2,  35.0940,2,    104.8,2,    102.2,2,    11.39,2,    18.34,2,     0.00,2,     1.50,2, -999.000,9, -999.000,9,   -999.0,9,   -999.0,9,  -999.00,9, -999.00, 14.3286
     3250031_1,   P31,    38,  1,     30,     30,2,19940203,1214,-10.5585,-164.6492, 4172,    406.6,   9.8686,  34.6782,2,  34.6752,2,     87.6,2,     86.8,2,    23.11,2,    28.04,2,     0.00,2,     2.08,2, -999.000,9, -999.000,9,   -999.0,9,   -999.0,9,  -999.00,9, -999.00,  9.8215
     3250031_1,   P31,    38,  1,     29,     29,2,19940203,1214,-10.5585,-164.6492, 4172,    507.0,   7.7584,  34.5785,2,  34.5772,2,    112.1,2,    113.7,2,    32.44,2,    31.26,2,     0.00,2,     2.17,2, -999.000,9, -999.000,9,   -999.0,9,   -999.0,9,  -999.00,9, -999.00,  7.7073
     3250031_1,   P31,    38,  1,     28,     28,2,19940203,1214,-10.5585,-164.6492, 4172,    608.2,   6.6617,  34.5397,2,  34.5397,2,     98.4,2,    105.8,2,    42.14,2,    34.35,2,     0.00,2,     2.36,2, -999.000,9, -999.000,9,   -999.0,9,   -999.0,9,  -999.00,9, -999.00,  6.6051
     3250031_1,   P31,    38,  1,     27,     27,2,19940203,1214,-10.5585,-164.6492, 4172,    709.5,   5.8006,  34.5210,2,  34.5208,2,    100.1,2,     98.3,2,    52.77,2,    36.88,2,     0.00,2,     2.54,2, -999.000,9, -999.000,9,   -999.0,9,   -999.0,9,  -999.00,9, -999.00,  5.7386
     3250031_1,   P31,    38,  1,     26,     26,2,19940203,1214,-10.5585,-164.6492, 4172,    809.6,   5.2500,  34.5148,2,  34.5153,2,    102.9,2,    104.5,2,    59.93,2,    37.22,2,     0.00,2,     2.56,2, -999.000,9, -999.000,9,   -999.0,9,   -999.0,9,  -999.00,9, -999.00,  5.1821
     3250031_1,   P31,    38,  1,     25,     25,2,19940203,1214,-10.5585,-164.6492, 4172,    910.8,   4.6745,  34.5205,2,  34.5208,2,    108.4,2,    109.3,2,    69.70,2,    37.37,2,     0.00,2,     2.58,2, -999.000,9, -999.000,9,   -999.0,9,   -999.0,9,  -999.00,9, -999.00,  4.6014
     3250031_1,   P31,    38,  1,     24,     24,2,19940203,1214,-10.5585,-164.6492, 4172,   1011.8,   4.2646,  34.5281,2,  34.5295,2,    112.7,2,    117.1,2,    76.72,2,    37.02,2,     0.00,2,     2.57,2, -999.000,9, -999.000,9,   -999.0,9,   -999.0,9,  -999.00,9, -999.00,  4.1859
     3250031_1,   P31,    38,  1,     23,     23,2,19940203,1214,-10.5585,-164.6492, 4172,   1212.8,   3.5551,  34.5549,2,  34.5542,2,    122.5,2,    124.6,2,    91.48,2,    36.97,2,     0.00,2,     2.56,2, -999.000,9, -999.000,9,   -999.0,9,   -999.0,9,  -999.00,9, -999.00,  3.4654
     3250031_1,   P31,    38,  1,     22,     22,2,19940203,1214,-10.5585,-164.6492, 4172,   1416.0,   3.1385,  34.5740,2,  34.5741,2,    127.7,2,    129.1,2,    99.99,2,    36.82,2,     0.00,2,     2.54,2, -999.000,9, -999.000,9,   -999.0,9,   -999.0,9,  -999.00,9, -999.00,  3.0361
     3250031_1,   P31,    38,  1,     21,     21,2,19940203,1214,-10.5585,-164.6492, 4172,   1619.0,   2.7014,  34.5971,2,  34.5969,2,    135.0,2,    136.7,2,   108.61,2,    36.47,2,     0.00,2,     2.52,2, -999.000,9, -999.000,9,   -999.0,9,   -999.0,9,  -999.00,9, -999.00,  2.5872
     3250031_1,   P31,    38,  1,     20,     20,2,19940203,1214,-10.5585,-164.6492, 4172,   1819.9,   2.3500,  34.6205,2,  34.6211,2,    140.5,2,    139.9,2,   116.79,2,    36.32,2,     0.00,2,     2.51,2, -999.000,9, -999.000,9,   -999.0,9,   -999.0,9,  -999.00,9, -999.00,  2.2236
     3250031_1,   P31,    38,  1,     19,     19,2,19940203,1214,-10.5585,-164.6492, 4172,   2022.1,   2.1306,  34.6368,2,  34.6374,2,    143.3,2,    143.6,2,   121.71,2,    36.07,2,     0.00,2,     2.48,2, -999.000,9, -999.000,9,   -999.0,9,   -999.0,9,  -999.00,9, -999.00,  1.9903
     3250031_1,   P31,    38,  1,     18,     18,2,19940203,1214,-10.5585,-164.6492, 4172,   2226.2,   1.9923,  34.6490,2,  34.6502,2,    144.5,2,    143.5,2,   127.29,2,    36.07,2,     0.00,2,     2.49,2, -999.000,9, -999.000,9,   -999.0,9,   -999.0,9,  -999.00,9, -999.00,  1.8366
     3250031_1,   P31,    38,  1,     17,     17,2,19940203,1214,-10.5585,-164.6492, 4172,   2431.2,   1.8648,  34.6601,2,  34.6588,2,    145.9,2,    144.1,2,   132.35,2,    36.12,2,     0.00,2,     2.49,2, -999.000,9, -999.000,9,   -999.0,9,   -999.0,9,  -999.00,9, -999.00,  1.6932
     3250031_1,   P31,    38,  1,     16,     16,2,19940203,1214,-10.5585,-164.6492, 4172,   2634.3,   1.7729,  34.6675,2,  34.6679,2,    148.2,2,    147.4,2,   134.17,2,    35.82,2,     0.00,2,     2.47,2, -999.000,9, -999.000,9,   -999.0,9,   -999.0,9,  -999.00,9, -999.00,  1.5846
     3250031_1,   P31,    38,  1,     15,     15,2,19940203,1214,-10.5585,-164.6492, 4172,   2839.0,   1.7100,  34.6716,2,  34.6720,2,    153.2,2,    151.0,2,   134.14,2,    35.68,2,     0.00,2,     2.45,2, -999.000,9, -999.000,9,   -999.0,9,   -999.0,9,  -999.00,9, -999.00,  1.5040
     3250031_1,   P31,    38,  1,     14,     14,2,19940203,1214,-10.5585,-164.6492, 4172,   3042.7,   1.6438,  34.6758,2,  34.6758,2,    157.5,2,    155.5,2,   134.31,2,    35.42,2,     0.00,2,     2.43,2, -999.000,9, -999.000,9,   -999.0,9,   -999.0,9,  -999.00,9, -999.00,  1.4197
     3250031_1,   P31,    38,  1,     13,     13,2,19940203,1214,-10.5585,-164.6492, 4172,   3145.4,   1.6083,  34.6779,2,  34.6779,2,    158.8,2,    158.2,2,   134.49,2,    35.28,2,     0.00,2,     2.42,2, -999.000,9, -999.000,9,   -999.0,9,   -999.0,9,  -999.00,9, -999.00,  1.3750
     3250031_1,   P31,    38,  1,     12,     12,2,19940203,1214,-10.5585,-164.6492, 4172,   3246.7,   1.5746,  34.6800,2,  34.6803,2,    160.8,2,    160.3,2,   134.25,2,    35.13,2,     0.00,2,     2.42,2, -999.000,9, -999.000,9,   -999.0,9,   -999.0,9,  -999.00,9, -999.00,  1.3322
     3250031_1,   P31,    38,  1,     11,     11,2,19940203,1214,-10.5585,-164.6492, 4172,   3348.9,   1.5520,  34.6819,2,  34.6815,2,    162.7,2,    162.0,2,   133.81,2,    34.93,2,     0.00,2,     2.41,2, -999.000,9, -999.000,9,   -999.0,9,   -999.0,9,  -999.00,9, -999.00,  1.2998
     3250031_1,   P31,    38,  1,     10,     10,2,19940203,1214,-10.5585,-164.6492, 4172,   3449.8,   1.5095,  34.6839,2,  34.6837,2,    164.2,2,    165.2,2,   132.95,2,    34.73,2,     0.00,2,     2.39,2, -999.000,9, -999.000,9,   -999.0,9,   -999.0,9,  -999.00,9, -999.00,  1.2482
     3250031_1,   P31,    38,  1,      9,      9,2,19940203,1214,-10.5585,-164.6492, 4172,   3553.5,   1.4972,  34.6849,2,  34.6854,2,    166.7,2,    166.5,2,   132.51,2,    34.63,2,     0.00,2,     2.39,2, -999.000,9, -999.000,9,   -999.0,9,   -999.0,9,  -999.00,9, -999.00,  1.2256
     3250031_1,   P31,    38,  1,      8,      8,2,19940203,1214,-10.5585,-164.6492, 4172,   3655.3,   1.4780,  34.6865,2,  34.6868,2,    168.2,2,    168.1,2,   132.68,2,    34.49,2,     0.00,2,     2.38,2, -999.000,9, -999.000,9,   -999.0,9,   -999.0,9,  -999.00,9, -999.00,  1.1964
     3250031_1,   P31,    38,  1,      7,      7,2,19940203,1214,-10.5585,-164.6492, 4172,   3756.5,   1.4441,  34.6882,2,  34.6884,2,    170.0,2,    171.2,2,   131.63,2,    34.29,2,     0.00,2,     2.36,2, -999.000,9, -999.000,9,   -999.0,9,   -999.0,9,  -999.00,9, -999.00,  1.1528
     3250031_1,   P31,    38,  1,      6,      6,2,19940203,1214,-10.5585,-164.6492, 4172,   3859.1,   1.4291,  34.6892,2,  34.6896,2,    171.8,2,    172.8,2,   131.39,2,    34.24,2,     0.00,2,     2.35,2,    0.007,2,   -0.001,2,   -999.0,9,   -999.0,9,  -999.00,9, -999.00,  1.1274
     3250031_1,   P31,    38,  1,     51,     51,2,19940203,1214,-10.5585,-164.6492, 4172,   3960.2,   1.4189,  34.6904,2,  34.6916,2,    173.8,2,    174.3,2,   131.53,2,    34.13,2,     0.00,2,     2.34,2,    0.003,2,    0.000,2,   -999.0,9,   -999.0,9,  -999.00,9, -999.00,  1.1065
     3250031_1,   P31,    38,  1,      5,      5,2,19940203,1214,-10.5585,-164.6492, 4172,   3962.4,   1.4196,  34.6906,2,  34.6904,2,    173.8,2,    174.5,2,   131.36,2,    34.18,2,     0.00,2,     2.34,2,    0.002,2,   -0.002,2,   -999.0,9,   -999.0,9,  -999.00,9, -999.00,  1.1069
     3250031_1,   P31,    38,  1,      3,      3,2,19940203,1214,-10.5585,-164.6492, 4172,   4063.7,   1.3917,  34.6921,2,  34.6924,2,    175.6,2,    177.3,2,   130.68,2,    33.79,2,     0.00,2,     2.33,2,    0.005,2,    0.006,2,   -999.0,9,   -999.0,9,  -999.00,9, -999.00,  1.0689
     3250031_1,   P31,    38,  1,      2,      2,2,19940203,1214,-10.5585,-164.6492, 4172,   4167.1,   1.3568,  34.6938,2,  34.6932,2,    177.1,2,    180.0,2,   129.23,2,    33.69,2,     0.00,2,     2.31,2,    0.001,2,   -0.003,2,   -999.0,9,   -999.0,9,  -999.00,9, -999.00,  1.0236
     3250031_1,   P31,    38,  1,      1,      1,2,19940203,1214,-10.5585,-164.6492, 4172,   4225.3,   1.3310,  34.6955,2,  34.6959,2,    183.4,2,    181.8,2,   127.98,2,    33.50,2,     0.00,2,     2.31,2,    0.001,2,   -0.002,2,   -999.0,9,   -999.0,9,  -999.00,9, -999.00,  0.9922