BOTTLE,20020814WHPSIOdm
EXPOCODE,SECT_ID,STNNBR,CASTNO,SAMPNO,BTLNBR,BTLNBR_FLAG_W,DATE,TIME,LATITUDE,LONGITUDE,DEPTH,CTDPRS,CTDTMP,CTDSAL,CTDSAL_FLAG_W,SALNTY,SALNTY_FLAG_W,CTDOXY,CTDOXY_FLAG_W,OXYGEN,OXYGEN_FLAG_W,SILCAT,SILCAT_FLAG_W,NITRAT,NITRAT_FLAG_W,NITRIT,NITRIT_FLAG_W,PHSPHT,PHSPHT_FLAG_W,CFC-11,CFC-11_FLAG_W,CFC-12,CFC-12_FLAG_W,TCARBN,TCARBN_FLAG_W,ALKALI,ALKALI_FLAG_W,PH,PH_FLAG_W,PHTEMP,THETA
,,,,,,,,,,,,DBAR,ITS-90,PSS-78,,PSS-78,,UMOL/KG,,UMOL/KG,,UMOL/KG,,UMOL/KG,,UMOL/KG,,UMOL/KG,,PMOL/KG,,PMOL/KG,,UMOL/KG,,UMOL/KG,,,,DEG C,DEG C
     3250031_1,   P31,     5,  1,     36,     36,2,19940126,2344,-16.6153,-150.5402, 3982,      2.0,  29.4017,  35.9813,2,  35.9811,2,    179.0,2,    195.3,2,     1.33,2,     0.14,2,     0.00,2,     0.20,3, -999.000,9, -999.000,9,   -999.0,9,   2375.3,2,     8.15,2,   25.00, 29.4012
     3250031_1,   P31,     5,  1,     35,     35,2,19940126,2344,-16.6153,-150.5402, 3982,     13.9,  29.3042,  35.9804,2,  35.9803,2,    193.4,2,    196.2,2,     1.12,2,     0.14,2,     0.00,2,     0.20,3, -999.000,9, -999.000,9,   -999.0,9,   2371.8,2,     8.14,2,   25.00, 29.3008
     3250031_1,   P31,     5,  1,     34,     34,2,19940126,2344,-16.6153,-150.5402, 3982,     55.4,  28.0699,  36.0924,2,  36.0956,2,    204.6,2,    205.3,2,     1.10,2,     0.14,2,     0.00,2,     0.17,3, -999.000,9, -999.000,9,   -999.0,9,   -999.0,9,     8.14,2,   25.00, 28.0568
     3250031_1,   P31,     5,  1,     33,     33,2,19940126,2344,-16.6153,-150.5402, 3982,    105.4,  26.3779,  36.2472,2,  36.2443,2,    205.1,2,    205.1,2,     0.90,2,     0.14,2,     0.00,2,     0.20,3, -999.000,9, -999.000,9,   -999.0,9,   2393.2,2,     8.12,2,   25.00, 26.3540
     3250031_1,   P31,     5,  1,     32,     32,2,19940126,2344,-16.6153,-150.5402, 3982,    205.2,  22.0045,  36.0140,2,  36.0081,2,    182.2,2,    178.5,2,     0.88,2,     2.55,2,     0.02,2,     0.40,3, -999.000,9, -999.000,9,   -999.0,9,   -999.0,9,     8.00,2,   25.00, 21.9637
     3250031_1,   P31,     5,  1,     31,     31,2,19940126,2344,-16.6153,-150.5402, 3982,    305.4,  17.0947,  35.3761,2,  35.3645,2,    172.6,2,    173.1,2,     2.34,2,     7.14,2,     0.00,2,     0.70,3, -999.000,9, -999.000,9,   -999.0,9,   2340.5,2,     7.91,2,   25.00, 17.0438
     3250031_1,   P31,     5,  1,     30,     30,2,19940126,2344,-16.6153,-150.5402, 3982,    405.4,  10.9608,  34.6936,2,  34.6877,2,    153.5,2,    150.1,2,    10.46,2,    19.54,2,     0.00,2,     1.52,3, -999.000,9, -999.000,9,   -999.0,9,   -999.0,9,     7.72,2,   25.00, 10.9107
     3250031_1,   P31,     5,  1,     29,     29,2,19940126,2344,-16.6153,-150.5402, 3982,    505.2,   7.8039,  34.4795,2,  34.4762,2,    145.2,2,    145.4,2,    20.43,2,    27.58,2,     0.00,2,     2.00,3, -999.000,9, -999.000,9,   -999.0,9,   2302.2,2,     7.62,2,   25.00,  7.7529
     3250031_1,   P31,     5,  1,     28,     28,2,19940126,2344,-16.6153,-150.5402, 3982,    605.1,   6.3827,  34.4385,2,  34.4390,2,    142.2,2,    147.4,2,    30.59,2,    30.95,2,     0.00,2,     2.19,3, -999.000,9, -999.000,9,   -999.0,9,   -999.0,9,     7.60,2,   25.00,  6.3277
     3250031_1,   P31,     5,  1,     27,     27,2,19940126,2344,-16.6153,-150.5402, 3982,    705.0,   5.3699,  34.4324,2,  34.4335,2,    150.2,2,    150.1,2,    41.49,2,    32.71,2,     0.00,2,     2.31,3, -999.000,9, -999.000,9,   -999.0,9,   2321.1,2,     7.59,2,   25.00,  5.3107
     3250031_1,   P31,     5,  1,     26,     26,2,19940126,2344,-16.6153,-150.5402, 3982,    804.9,   4.7636,  34.4677,2,  34.4674,2,    143.2,2,    144.7,2,    54.64,2,    33.92,2,     0.00,2,     2.39,3, -999.000,9, -999.000,9,   -999.0,9,   -999.0,9,     7.58,2,   25.00,  4.6992
     3250031_1,   P31,     5,  1,     25,     25,2,19940126,2344,-16.6153,-150.5402, 3982,    905.2,   4.2922,  34.4949,2,  34.4972,2,    142.1,2,    141.8,2,    65.97,2,    34.63,2,     0.00,2,     2.46,3, -999.000,9, -999.000,9,   -999.0,9,   2340.5,2,     7.57,2,   25.00,  4.2223
     3250031_1,   P31,     5,  1,     24,     24,2,19940126,2344,-16.6153,-150.5402, 3982,   1005.6,   3.9124,  34.5131,2,  34.5134,2,    140.5,2,    141.3,2,    73.42,2,    35.04,2,     0.00,2,     2.48,3, -999.000,9, -999.000,9,   -999.0,9,   -999.0,9,     7.56,2,   25.00,  3.8370
     3250031_1,   P31,     5,  1,     23,     23,2,19940126,2344,-16.6153,-150.5402, 3982,   1105.9,   3.5801,  34.5300,2,  34.5326,2,    139.8,2,    141.4,2,    80.72,2,    35.24,2,     0.00,2,     2.51,3, -999.000,9, -999.000,9,   -999.0,9,   2357.2,2,     7.56,2,   25.00,  3.4991
     3250031_1,   P31,     5,  1,     22,     22,2,19940126,2344,-16.6153,-150.5402, 3982,   1205.8,   3.3843,  34.5412,2,  34.5424,2,    142.2,2,    143.0,2,    84.85,2,    35.34,2,     0.00,2,     2.52,3, -999.000,9, -999.000,9,   -999.0,9,   -999.0,9,     7.56,2,   25.00,  3.2968
     3250031_1,   P31,     5,  1,     21,     21,2,19940126,2344,-16.6153,-150.5402, 3982,   1405.7,   2.9417,  34.5701,2,  34.5710,2,    142.3,2,    144.6,2,    95.66,2,    35.44,2,     0.00,2,     2.53,3, -999.000,9, -999.000,9,   -999.0,9,   -999.0,9,  -999.00,9, -999.00,  2.8423
     3250031_1,   P31,     5,  1,     20,     20,3,19940126,2344,-16.6153,-150.5402, 3982,   1606.3,   2.6385,  34.5945,2,  34.8035,4,    145.0,2,    150.8,4,    83.68,4,    30.08,4,     0.00,4,     2.19,4, -999.000,9, -999.000,9,   -999.0,9,   -999.0,9,     8.08,4,   25.00,  2.5261
     3250031_1,   P31,     5,  1,     19,     19,2,19940126,2344,-16.6153,-150.5402, 3982,   1807.0,   2.3913,  34.6137,2,  34.6151,2,    150.2,2,    148.4,2,   109.73,2,    35.54,2,     0.00,2,     2.54,3, -999.000,9, -999.000,9,   -999.0,9,   2389.9,2,     7.57,2,   25.00,  2.2655
     3250031_1,   P31,     5,  1,     18,     18,2,19940126,2344,-16.6153,-150.5402, 3982,   2007.2,   2.1799,  34.6307,2,  34.6324,2,    151.1,2,    149.8,2,   115.02,2,    35.48,2,     0.00,2,     2.52,3, -999.000,9, -999.000,9,   -999.0,9,   -999.0,9,     7.58,2,   25.00,  2.0401
     3250031_1,   P31,     5,  1,     17,     17,2,19940126,2344,-16.6153,-150.5402, 3982,   2208.1,   2.0444,  34.6429,2,  34.6439,2,    151.7,2,    150.7,2,   119.37,2,    35.43,2,     0.00,2,     2.53,3, -999.000,9, -999.000,9,   -999.0,9,   2408.0,2,     7.57,2,   25.00,  1.8894
     3250031_1,   P31,     5,  1,     16,     16,2,19940126,2344,-16.6153,-150.5402, 3982,   2409.7,   1.9384,  34.6528,2,  34.6545,2,    154.5,2,    152.6,2,   122.56,2,    35.28,2,     0.00,2,     2.52,3, -999.000,9, -999.000,9,   -999.0,9,   -999.0,9,     7.58,2,   25.00,  1.7674
     3250031_1,   P31,     5,  1,     15,     15,2,19940126,2344,-16.6153,-150.5402, 3982,   2611.7,   1.8283,  34.6598,2,  34.6611,2,    158.9,2,    163.1,4,   122.54,2,    34.92,2,     0.00,2,     2.51,3, -999.000,9, -999.000,9,   -999.0,9,   2407.9,2,     7.58,2,   25.00,  1.6410
     3250031_1,   P31,     5,  1,     14,     14,2,19940126,2344,-16.6153,-150.5402, 3982,   2712.4,   1.7839,  34.6633,2,  34.6654,2,    161.0,2,    159.5,2,   123.13,2,    34.67,2,     0.00,2,     2.51,3, -999.000,9, -999.000,9,   -999.0,9,   -999.0,9,     7.58,2,   25.00,  1.5882
     3250031_1,   P31,     5,  1,     13,     13,2,19940126,2344,-16.6153,-150.5402, 3982,   2813.1,   1.7397,  34.6671,2,  34.6676,2,    161.7,2,    161.5,2,   123.92,2,    34.62,2,     0.00,2,     2.51,3, -999.000,9, -999.000,9,   -999.0,9,   2408.0,2,     7.59,2,   25.00,  1.5355
     3250031_1,   P31,     5,  1,     12,     12,2,19940126,2344,-16.6153,-150.5402, 3982,   2914.2,   1.6884,  34.6714,2,  34.6733,2,    164.4,2,    163.4,2,   124.91,2,    34.61,2,     0.00,2,     2.50,3, -999.000,9, -999.000,9,   2301.7,2,   -999.0,9,     7.59,2,   25.00,  1.4756
     3250031_1,   P31,     5,  1,     11,     11,2,19940126,2344,-16.6153,-150.5402, 3982,   3015.1,   1.6506,  34.6741,2,  34.6746,2,    166.0,2,    165.2,2,   125.30,2,    34.51,2,     0.00,2,     2.48,3, -999.000,9, -999.000,9,   2300.6,2,   2404.9,2,     7.59,2,   25.00,  1.4290
     3250031_1,   P31,     5,  1,     10,     10,2,19940126,2344,-16.6153,-150.5402, 3982,   3116.1,   1.6180,  34.6772,2,  34.6774,2,    166.9,2,    167.1,2,   125.09,2,    34.36,2,     0.00,2,     2.48,3, -999.000,9, -999.000,9,   2298.1,2,   -999.0,9,     7.59,2,   25.00,  1.3874
     3250031_1,   P31,     5,  1,      9,      9,2,19940126,2344,-16.6153,-150.5402, 3982,   3217.3,   1.5880,  34.6795,2,  34.6813,2,    169.5,2,    169.8,2,   124.67,2,    34.21,2,     0.00,2,     2.48,3, -999.000,9, -999.000,9,   2297.4,2,   2402.9,2,     7.59,2,   25.00,  1.3482
     3250031_1,   P31,     5,  1,      8,      8,2,19940126,2344,-16.6153,-150.5402, 3982,   3318.6,   1.5558,  34.6821,2,  34.6818,2,    170.7,2,    171.4,2,   124.45,2,    34.05,2,     0.00,2,     2.47,3, -999.000,9, -999.000,9,   2295.7,2,   -999.0,9,     7.59,2,   25.00,  1.3067
     3250031_1,   P31,     5,  1,      7,      7,2,19940126,2344,-16.6153,-150.5402, 3982,   3419.7,   1.5431,  34.6836,2,  34.6840,2,    171.6,2,    172.3,2,   124.24,2,    33.95,2,     0.00,2,     2.46,3, -999.000,9, -999.000,9,   2294.7,2,   2401.8,2,     7.60,2,   25.00,  1.2840
     3250031_1,   P31,     5,  1,      6,      6,2,19940126,2344,-16.6153,-150.5402, 3982,   3521.2,   1.5120,  34.6861,2,  34.6867,2,    174.1,2,    174.3,2,   124.42,2,    33.75,2,     0.00,2,     2.46,3,    0.023,3,    0.005,2,   2292.9,2,   -999.0,9,     7.60,2,   25.00,  1.2433
     3250031_1,   P31,     5,  1,      5,      5,2,19940126,2344,-16.6153,-150.5402, 3982,   3622.4,   1.5000,  34.6871,2,  34.6875,2,    174.0,2,    175.7,2,   124.61,2,    33.75,2,     0.00,2,     2.46,3,    0.005,2,   -0.001,2,   2286.6,2,   2399.0,2,     7.60,2,   25.00,  1.2212
     3250031_1,   P31,     5,  1,      4,      4,2,19940126,2344,-16.6153,-150.5402, 3982,   3723.6,   1.4880,  34.6885,2,  34.6898,2,    177.0,2,    177.9,2,   124.19,2,    33.64,2,     0.00,2,     2.46,3,    0.026,3,    0.003,2,   2285.2,2,   -999.0,9,     7.60,2,   25.00,  1.1990
     3250031_1,   P31,     5,  1,      3,      3,2,19940126,2344,-16.6153,-150.5402, 3982,   3824.5,   1.4790,  34.6899,2,  34.6906,2,    177.7,2,    177.7,2,   123.17,2,    33.49,2,     0.00,2,     2.46,3,    0.007,2,    0.002,2,   2285.1,2,   2395.2,2,     7.60,2,   25.00,  1.1795
     3250031_1,   P31,     5,  1,      2,      2,2,19940126,2344,-16.6153,-150.5402, 3982,   3925.6,   1.4781,  34.6904,2,  34.6915,2,    178.6,2,    180.3,4,   122.95,2,    33.44,2,     0.00,2,     2.44,3, -999.000,9, -999.000,9,   2284.4,2,   -999.0,9,     7.60,2,   25.00,  1.1678
     3250031_1,   P31,     5,  1,      1,      1,2,19940126,2344,-16.6153,-150.5402, 3982,   4031.4,   1.4769,  34.6916,2,  34.6923,2,    180.0,3,    178.1,2,   122.94,2,    33.39,2,     0.00,2,     2.47,3,    0.013,2,    0.000,2,   2283.9,2,   2397.6,2,     7.60,2,   25.00,  1.1552