BOTTLE,20020814WHPSIOdm
EXPOCODE,SECT_ID,STNNBR,CASTNO,SAMPNO,BTLNBR,BTLNBR_FLAG_W,DATE,TIME,LATITUDE,LONGITUDE,DEPTH,CTDPRS,CTDTMP,CTDSAL,CTDSAL_FLAG_W,SALNTY,SALNTY_FLAG_W,CTDOXY,CTDOXY_FLAG_W,OXYGEN,OXYGEN_FLAG_W,SILCAT,SILCAT_FLAG_W,NITRAT,NITRAT_FLAG_W,NITRIT,NITRIT_FLAG_W,PHSPHT,PHSPHT_FLAG_W,CFC-11,CFC-11_FLAG_W,CFC-12,CFC-12_FLAG_W,TCARBN,TCARBN_FLAG_W,ALKALI,ALKALI_FLAG_W,PH,PH_FLAG_W,PHTEMP,THETA
,,,,,,,,,,,,DBAR,ITS-90,PSS-78,,PSS-78,,UMOL/KG,,UMOL/KG,,UMOL/KG,,UMOL/KG,,UMOL/KG,,UMOL/KG,,PMOL/KG,,PMOL/KG,,UMOL/KG,,UMOL/KG,,,,DEG C,DEG C
     3250031_1,   P31,    14,  1,     36,     36,2,19940129,0217,-14.6612,-154.3888, 5044,      0.8,  29.4769,  35.7472,2,  35.7462,2,    194.0,2,    194.0,2,     1.54,2,     0.16,2,     0.00,2,     0.21,2,    1.557,2,    0.832,2,   -999.0,9,   -999.0,9,  -999.00,9, -999.00, 29.4767
     3250031_1,   P31,    14,  1,     35,     35,2,19940129,0217,-14.6612,-154.3888, 5044,     12.6,  29.5588,  35.8882,2,  35.8702,2,    191.0,2,    194.0,2,     1.13,2,     0.21,2,     0.00,2,     0.22,2,    1.554,2,    0.788,3,   -999.0,9,   -999.0,9,  -999.00,9, -999.00, 29.5557
     3250031_1,   P31,    14,  1,     34,     34,2,19940129,0217,-14.6612,-154.3888, 5044,     54.5,  28.1150,  36.2520,2,  36.2289,2,    206.4,2,    205.8,2,     0.91,2,     0.21,2,     0.00,2,     0.20,2,    1.692,6,    0.926,6,   -999.0,9,   -999.0,9,  -999.00,9, -999.00, 28.1020
     3250031_1,   P31,    14,  1,     33,     33,2,19940129,0217,-14.6612,-154.3888, 5044,    103.9,  25.9704,  36.3918,2,  36.3898,2,    203.0,2,    196.3,2,     0.87,2,     0.21,2,     0.00,2,     0.27,2, -999.000,9, -999.000,9,   -999.0,9,   -999.0,9,  -999.00,9, -999.00, 25.9472
     3250031_1,   P31,    14,  1,     32,     32,2,19940129,0217,-14.6612,-154.3888, 5044,    204.2,  21.2326,  35.9833,2,  35.9732,2,    173.2,2,    170.6,2,     1.20,2,     4.32,2,     0.01,2,     0.54,2,    1.827,2,    0.961,2,   -999.0,9,   -999.0,9,  -999.00,9, -999.00, 21.1930
     3250031_1,   P31,    14,  1,     31,     31,2,19940129,0217,-14.6612,-154.3888, 5044,    304.8,  15.3362,  35.1548,2,  35.1521,2,    145.0,2,    147.7,2,     5.39,2,    11.99,2,     0.00,2,     1.08,2,    1.373,2,    0.716,2,   -999.0,9,   -999.0,9,  -999.00,9, -999.00, 15.2892
     3250031_1,   P31,    14,  1,     30,     30,2,19940129,0217,-14.6612,-154.3888, 5044,    404.3,  10.1238,  34.6545,2,  34.6468,2,    107.2,2,    107.1,2,    18.58,2,    25.24,2,     0.00,2,     1.94,2,    0.401,2,    0.189,2,   -999.0,9,   -999.0,9,  -999.00,9, -999.00, 10.0763
     3250031_1,   P31,    14,  1,     29,     29,2,19940129,0217,-14.6612,-154.3888, 5044,    603.0,   6.1590,  34.4654,2,  34.4650,2,    149.4,2,    148.4,2,    36.00,2,    31.19,2,     0.00,2,     2.19,2,    0.040,2,    0.018,2,   -999.0,9,   -999.0,9,  -999.00,9, -999.00,  6.1052
     3250031_1,   P31,    14,  1,     28,     28,2,19940129,0217,-14.6612,-154.3888, 5044,    801.2,   4.9307,  34.4756,2,  34.4762,2,    143.5,2,    143.9,2,    54.37,2,    33.68,2,     0.00,2,     2.36,2,    0.019,2,    0.007,2,   -999.0,9,   -999.0,9,  -999.00,9, -999.00,  4.8656
     3250031_1,   P31,    14,  1,     27,     27,2,19940129,0217,-14.6612,-154.3888, 5044,   1002.2,   4.2335,  34.5084,2,  34.5091,2,    136.5,2,    136.0,2,    70.04,2,    35.13,2,     0.00,2,     2.46,2,    0.018,2,    0.004,2,   -999.0,9,   -999.0,9,  -999.00,9, -999.00,  4.1559
     3250031_1,   P31,    14,  1,     26,     26,2,19940129,0217,-14.6612,-154.3888, 5044,   1252.2,   3.4116,  34.5471,2,  34.5470,2,    134.3,2,    137.2,2,    86.78,2,    35.63,2,     0.00,2,     2.50,2,    0.033,4,    0.003,2,   -999.0,9,   -999.0,9,  -999.00,9, -999.00,  3.3200
     3250031_1,   P31,    14,  1,     25,     25,2,19940129,0217,-14.6612,-154.3888, 5044,   1506.1,   2.8479,  34.5815,2,  34.5807,2,    142.1,2,    141.2,2,    98.85,2,    35.73,2,     0.00,2,     2.50,2,    0.010,3,   -0.005,2,   -999.0,9,   -999.0,9,  -999.00,9, -999.00,  2.7413
     3250031_1,   P31,    14,  1,     24,     24,2,19940129,0217,-14.6612,-154.3888, 5044,   1758.1,   2.4645,  34.6084,2,  34.6079,2,    145.9,2,    145.3,2,   108.22,2,    35.62,2,     0.00,2,     2.48,2, -999.000,9, -999.000,9,   -999.0,9,   -999.0,9,  -999.00,9, -999.00,  2.3417
     3250031_1,   P31,    14,  1,     23,     23,2,19940129,0217,-14.6612,-154.3888, 5044,   2009.4,   2.1644,  34.6327,2,  34.6315,2,    148.9,2,    148.5,2,   116.17,2,    35.67,2,     0.00,2,     2.48,2,    0.006,2,   -0.002,2,   -999.0,9,   -999.0,9,  -999.00,9, -999.00,  2.0247
     3250031_1,   P31,    14,  1,     22,     22,2,19940129,0217,-14.6612,-154.3888, 5044,   2263.4,   1.9830,  34.6478,2,  34.6493,2,    151.9,2,    151.4,2,   121.66,2,    35.52,2,     0.00,2,     2.47,2, -999.000,9, -999.000,9,   -999.0,9,   -999.0,9,  -999.00,9, -999.00,  1.8242
     3250031_1,   P31,    14,  1,     21,     21,2,19940129,0217,-14.6612,-154.3888, 5044,   2514.3,   1.8817,  34.6584,2,  34.6586,2,    153.9,2,    152.0,2,   125.01,2,    35.41,2,     0.00,2,     2.48,2,    0.011,4,    0.020,4,   -999.0,9,   -999.0,9,  -999.00,9, -999.00,  1.7023
     3250031_1,   P31,    14,  1,     20,     20,2,19940129,0217,-14.6612,-154.3888, 5044,   2756.0,   1.7598,  34.6668,2,  34.6678,2,    158.0,2,    157.7,2,   125.16,2,    34.96,2,     0.00,2,     2.45,2, -999.000,9, -999.000,9,   -999.0,9,   -999.0,9,  -999.00,9, -999.00,  1.5605
     3250031_1,   P31,    14,  1,     19,     19,2,19940129,0217,-14.6612,-154.3888, 5044,   3016.7,   1.6654,  34.6740,2,  34.6735,2,    164.7,2,    163.8,2,   125.31,2,    34.56,2,     0.00,2,     2.43,2, -999.000,9, -999.000,9,   -999.0,9,   -999.0,9,  -999.00,9, -999.00,  1.4433
     3250031_1,   P31,    14,  1,     18,     18,2,19940129,0217,-14.6612,-154.3888, 5044,   3222.9,   1.5894,  34.6793,2,  34.6801,2,    169.3,2,    168.6,2,   124.65,2,    34.20,2,     0.00,2,     2.40,2,    0.006,2,    0.004,2,   -999.0,9,   -999.0,9,  -999.00,9, -999.00,  1.3490
     3250031_1,   P31,    14,  1,     17,     17,2,19940129,0217,-14.6612,-154.3888, 5044,   3425.5,   1.5192,  34.6849,2,  34.6839,2,    172.3,2,    172.7,2,   125.40,2,    33.85,2,     0.00,2,     2.39,2, -999.000,9, -999.000,9,   -999.0,9,   -999.0,9,  -999.00,9, -999.00,  1.2601
     3250031_1,   P31,    14,  1,     16,     16,2,19940129,0217,-14.6612,-154.3888, 5044,   3525.6,   1.4957,  34.6866,2,  34.6876,2,    174.7,2,    174.8,2,   124.54,2,    33.75,2,     0.00,2,     2.38,2, -999.000,9, -999.000,9,   -999.0,9,   -999.0,9,  -999.00,9, -999.00,  1.2270
     3250031_1,   P31,    14,  1,     15,     15,2,19940129,0217,-14.6612,-154.3888, 5044,   3626.7,   1.4635,  34.6890,2,  34.6880,2,    176.6,2,    177.2,2,   123.89,2,    33.60,2,     0.00,2,     2.36,2, -999.000,9, -999.000,9,   -999.0,9,   -999.0,9,  -999.00,9, -999.00,  1.1852
     3250031_1,   P31,    14,  1,     14,     14,2,19940129,0217,-14.6612,-154.3888, 5044,   3729.9,   1.4474,  34.6903,2,  34.6925,2,    178.4,2,    179.1,2,   123.03,2,    33.40,2,     0.00,2,     2.35,2,    0.005,2,    0.006,2,   -999.0,9,   -999.0,9,  -999.00,9, -999.00,  1.1588
     3250031_1,   P31,    14,  1,     13,     13,2,19940129,0217,-14.6612,-154.3888, 5044,   3832.1,   1.4329,  34.6916,2,  34.6907,2,    180.1,2,    180.6,2,   123.58,2,    33.54,2,     0.00,2,     2.35,2, -999.000,9, -999.000,9,   -999.0,9,   -999.0,9,  -999.00,9, -999.00,  1.1339
     3250031_1,   P31,    14,  1,     12,     12,2,19940129,0217,-14.6612,-154.3888, 5044,   3932.7,   1.4247,  34.6927,2,  34.6915,2,    180.9,2,    181.5,2,   124.33,2,    33.54,2,     0.00,2,     2.35,2, -999.000,9, -999.000,9,   -999.0,9,   -999.0,9,  -999.00,9, -999.00,  1.1152
     3250031_1,   P31,    14,  1,     11,     11,2,19940129,0217,-14.6612,-154.3888, 5044,   4034.6,   1.4128,  34.6934,2,  34.6921,2,    182.6,2,    182.8,2,   123.87,2,    33.39,2,     0.00,2,     2.34,2, -999.000,9, -999.000,9,   -999.0,9,   -999.0,9,  -999.00,9, -999.00,  1.0925
     3250031_1,   P31,    14,  1,     10,     10,2,19940129,0217,-14.6612,-154.3888, 5044,   4134.8,   1.3984,  34.6947,2,  34.6933,2,    184.0,2,    184.1,2,   123.82,2,    33.29,2,     0.00,2,     2.34,2,    0.000,2,   -0.002,2,   -999.0,9,   -999.0,9,  -999.00,9, -999.00,  1.0676
     3250031_1,   P31,    14,  1,      9,      9,2,19940129,0217,-14.6612,-154.3888, 5044,   4236.2,   1.3911,  34.6959,2,  34.6945,2,    184.7,2,    185.4,2,   123.17,2,    33.18,2,     0.00,2,     2.33,2, -999.000,9, -999.000,9,   -999.0,9,   -999.0,9,  -999.00,9, -999.00,  1.0492
     3250031_1,   P31,    14,  1,      8,      8,2,19940129,0217,-14.6612,-154.3888, 5044,   4336.6,   1.3750,  34.6968,2,  34.6962,2,    185.9,2,    186.7,2,   123.11,2,    33.13,2,     0.00,2,     2.32,2, -999.000,9, -999.000,9,   -999.0,9,   -999.0,9,  -999.00,9, -999.00,  1.0224
     3250031_1,   P31,    14,  1,      7,      7,2,19940129,0217,-14.6612,-154.3888, 5044,   4438.6,   1.3643,  34.6981,2,  34.6986,2,    188.1,2,    188.0,2,   123.26,2,    33.03,2,     0.00,2,     2.32,2,    0.002,4,   -0.002,4,   -999.0,9,   -999.0,9,  -999.00,9, -999.00,  1.0005
     3250031_1,   P31,    14,  1,      6,      6,2,19940129,0217,-14.6612,-154.3888, 5044,   4540.7,   1.3391,  34.7000,2,  34.7003,2,    189.1,2,    189.8,2,   122.61,2,    32.88,2,     0.00,2,     2.31,2, -999.000,9, -999.000,9,   -999.0,9,   -999.0,9,  -999.00,9, -999.00,  0.9644
     3250031_1,   P31,    14,  1,      5,      5,2,19940129,0217,-14.6612,-154.3888, 5044,   4644.4,   1.3092,  34.7018,2,  34.7005,2,    191.0,2,    192.8,2,   122.35,2,    32.73,2,     0.00,2,     2.30,2,    0.003,3,   -0.002,3,   -999.0,9,   -999.0,9,  -999.00,9, -999.00,  0.9235
     3250031_1,   P31,    14,  1,      4,      4,2,19940129,0217,-14.6612,-154.3888, 5044,   4746.7,   1.3007,  34.7027,2,  34.7019,2,    193.5,2,    193.8,2,   121.90,2,    32.67,2,     0.00,2,     2.29,2,    0.010,3,    0.001,3,   -999.0,9,   -999.0,9,  -999.00,9, -999.00,  0.9033
     3250031_1,   P31,    14,  1,      3,      3,2,19940129,0217,-14.6612,-154.3888, 5044,   4848.6,   1.3037,  34.7031,2,  34.7029,2,    193.5,2,    194.5,2,   121.85,2,    32.62,2,     0.00,2,     2.29,2,    0.005,3,   -0.001,3,   -999.0,9,   -999.0,9,  -999.00,9, -999.00,  0.8942
     3250031_1,   P31,    14,  1,      2,      2,2,19940129,0217,-14.6612,-154.3888, 5044,   4950.4,   1.3082,  34.7036,2,  34.7035,2,    194.4,2,    194.8,2,   121.20,2,    32.62,2,     0.00,2,     2.29,2, -999.000,9, -999.000,9,   -999.0,9,   -999.0,9,  -999.00,9, -999.00,  0.8863
     3250031_1,   P31,    14,  1,      1,      1,2,19940129,0217,-14.6612,-154.3888, 5044,   5113.5,   1.3217,  34.7042,2,  34.7049,2,    197.7,2,    194.6,2,   121.94,2,    32.57,2,     0.00,2,     2.29,2,    0.005,3,    0.003,3,   -999.0,9,   -999.0,9,  -999.00,9, -999.00,  0.8796