BOTTLE,20020814WHPSIOdm
EXPOCODE,SECT_ID,STNNBR,CASTNO,SAMPNO,BTLNBR,BTLNBR_FLAG_W,DATE,TIME,LATITUDE,LONGITUDE,DEPTH,CTDPRS,CTDTMP,CTDSAL,CTDSAL_FLAG_W,SALNTY,SALNTY_FLAG_W,CTDOXY,CTDOXY_FLAG_W,OXYGEN,OXYGEN_FLAG_W,SILCAT,SILCAT_FLAG_W,NITRAT,NITRAT_FLAG_W,NITRIT,NITRIT_FLAG_W,PHSPHT,PHSPHT_FLAG_W,CFC-11,CFC-11_FLAG_W,CFC-12,CFC-12_FLAG_W,TCARBN,TCARBN_FLAG_W,ALKALI,ALKALI_FLAG_W,PH,PH_FLAG_W,PHTEMP,THETA
,,,,,,,,,,,,DBAR,ITS-90,PSS-78,,PSS-78,,UMOL/KG,,UMOL/KG,,UMOL/KG,,UMOL/KG,,UMOL/KG,,UMOL/KG,,PMOL/KG,,PMOL/KG,,UMOL/KG,,UMOL/KG,,,,DEG C,DEG C
     3250031_1,   P31,    50,  1,     36,     36,2,19940205,2323,-10.1853,-168.8445, 4463,      2.1,  29.8576,  34.3209,2,  34.3209,2,    190.4,2,    193.9,2,     1.61,2,     0.00,2,     0.00,2,     0.16,2, -999.000,9, -999.000,9,   1896.3,2,   2258.6,2,  -999.00,9, -999.00, 29.8570
     3250031_1,   P31,    50,  1,     35,     35,2,19940205,2323,-10.1853,-168.8445, 4463,     16.0,  29.8669,  34.3209,2,  34.3215,2,    188.6,2,    193.8,2,     1.59,2,     0.00,2,     0.00,2,     0.17,2, -999.000,9, -999.000,9,   1896.6,2,   2258.5,2,  -999.00,9, -999.00, 29.8629
     3250031_1,   P31,    50,  1,     34,     34,2,19940205,2323,-10.1853,-168.8445, 4463,     56.0,  29.9198,  34.4788,2,  34.5571,2,    192.5,2,    197.0,2,     1.57,2,     0.00,2,     0.00,2,     0.18,2, -999.000,9, -999.000,9,   1913.2,2,   2323.7,2,  -999.00,9, -999.00, 29.9059
     3250031_1,   P31,    50,  1,     33,     33,2,19940205,2323,-10.1853,-168.8445, 4463,    106.8,  27.0278,  35.9716,2,  35.9744,2,    159.7,2,    154.2,2,     2.26,2,     3.96,2,     0.69,2,     0.60,2, -999.000,9, -999.000,9,   2055.8,2,   2365.5,2,     8.04,2,   25.00, 27.0032
     3250031_1,   P31,    50,  1,     32,     32,2,19940205,2323,-10.1853,-168.8445, 4463,    206.9,  21.0275,  35.9390,2,  35.9491,2,    144.1,2,    143.4,2,     2.59,2,     7.76,2,     0.02,2,     0.80,2, -999.000,9, -999.000,9,   2115.3,2,   2369.6,2,     7.93,2,   25.00, 20.9876
     3250031_1,   P31,    50,  1,     31,     31,2,19940205,2323,-10.1853,-168.8445, 4463,    357.2,  11.5955,  34.8202,2,  34.8208,2,    102.1,2,     94.7,2,    17.21,2,    23.78,2,     0.00,2,     1.84,2, -999.000,9, -999.000,9,   2190.4,2,   2304.8,2,     7.65,2,   25.00, 11.5497
     3250031_1,   P31,    50,  1,     30,     30,2,19940205,2323,-10.1853,-168.8445, 4463,    506.6,   7.5854,  34.5735,2,  34.5712,2,    114.8,2,    110.4,2,    33.45,2,    31.81,2,     0.00,2,     2.23,2, -999.000,9, -999.000,9,   2218.5,2,   -999.0,9,     7.57,2,   25.00,  7.5350
     3250031_1,   P31,    50,  1,     29,     29,2,19940205,2323,-10.1853,-168.8445, 4463,    608.9,   6.3070,  34.5257,2,  34.5245,2,    108.1,2,    112.1,2,    44.35,2,    34.42,2,     0.00,2,     2.40,2, -999.000,9, -999.000,9,   2236.8,2,   2313.0,2,     7.55,2,   25.00,  6.2519
     3250031_1,   P31,    50,  1,     28,     28,2,19940205,2323,-10.1853,-168.8445, 4463,    710.1,   5.7787,  34.5172,2,  34.5147,2,    105.8,2,    109.5,2,    51.34,2,    35.85,2,     0.00,2,     2.49,2, -999.000,9, -999.000,9,   2248.4,2,   -999.0,9,     7.53,2,   25.00,  5.7168
     3250031_1,   P31,    50,  1,     27,     27,2,19940205,2323,-10.1853,-168.8445, 4463,    809.7,   5.2236,  34.5095,2,  34.5076,2,    118.2,2,    117.4,2,    58.34,2,    35.91,2,     0.00,2,     2.50,2, -999.000,9, -999.000,9,   2253.1,2,   2327.4,2,     7.53,2,   25.00,  5.1559
     3250031_1,   P31,    50,  1,     26,     26,2,19940205,2323,-10.1853,-168.8445, 4463,   1009.7,   4.2680,  34.5264,2,  34.5271,2,    120.4,2,    118.8,2,    75.67,2,    36.80,2,     0.00,2,     2.57,2, -999.000,9, -999.000,9,   2270.9,2,   -999.0,9,     7.53,2,   25.00,  4.1894
     3250031_1,   P31,    50,  1,     25,     25,2,19940205,2323,-10.1853,-168.8445, 4463,   1259.8,   3.5292,  34.5556,2,  34.5551,2,    126.4,2,    124.7,2,    90.87,2,    36.86,2,     0.00,2,     2.58,2, -999.000,9, -999.000,9,   2286.8,2,   2364.2,2,     7.53,2,   25.00,  3.4358
     3250031_1,   P31,    50,  1,     24,     24,2,19940205,2323,-10.1853,-168.8445, 4463,   1515.6,   2.8832,  34.5867,2,  34.5866,2,    131.7,2,    133.4,2,   103.17,2,    36.46,2,     0.00,2,     2.55,2, -999.000,9, -999.000,9,   2296.7,2,   -999.0,9,     7.54,2,   25.00,  2.7754
     3250031_1,   P31,    50,  1,     23,     23,2,19940205,2323,-10.1853,-168.8445, 4463,   1770.8,   2.4150,  34.6163,2,  34.6165,2,    137.4,2,    138.6,2,   114.42,2,    36.27,2,     0.00,2,     2.53,2, -999.000,9, -999.000,9,   2302.4,2,   2387.8,2,     7.55,2,   25.00,  2.2918
     3250031_1,   P31,    50,  1,     22,     22,2,19940205,2323,-10.1853,-168.8445, 4463,   2025.7,   2.1672,  34.6361,2,  34.6365,2,    138.9,2,    138.2,2,   123.41,2,    36.37,2,     0.00,2,     2.54,2, -999.000,9, -999.000,9,   2313.6,2,   -999.0,9,     7.55,2,   25.00,  2.0260
     3250031_1,   P31,    50,  1,     21,     21,2,19940205,2323,-10.1853,-168.8445, 4463,   2227.7,   1.9893,  34.6497,2,  34.6487,2,    139.4,2,    140.8,2,   128.39,2,    36.33,2,     0.00,2,     2.52,2, -999.000,9, -999.000,9,   2317.8,2,   2405.5,2,     7.56,2,   25.00,  1.8335
     3250031_1,   P31,    50,  1,     20,     20,2,19940205,2323,-10.1853,-168.8445, 4463,   2427.7,   1.8662,  34.6601,2,  34.6593,2,    140.4,2,    139.3,2,   133.66,2,    36.39,2,     0.00,2,     2.53,2, -999.000,9, -999.000,9,   2324.6,2,   -999.0,9,     7.56,2,   25.00,  1.6949
     3250031_1,   P31,    50,  1,     19,     19,2,19940205,2323,-10.1853,-168.8445, 4463,   2623.2,   1.7876,  34.6660,2,  34.6664,2,    142.0,2,    143.9,2,   135.11,2,    36.19,2,     0.00,2,     2.51,2, -999.000,9, -999.000,9,   2324.7,2,   2412.9,2,     7.57,2,   25.00,  1.6000
     3250031_1,   P31,    50,  1,     18,     18,2,19940205,2323,-10.1853,-168.8445, 4463,   2817.9,   1.7167,  34.6708,2,  34.6711,2,    145.9,2,    148.3,2,   135.33,2,    35.85,2,     0.00,2,     2.49,2, -999.000,9, -999.000,9,   2316.9,2,   -999.0,9,     7.57,2,   25.00,  1.5125
     3250031_1,   P31,    50,  1,     17,     17,2,19940205,2323,-10.1853,-168.8445, 4463,   3013.4,   1.6711,  34.6744,2,  34.6742,2,    151.6,2,    151.2,2,   135.76,2,    35.66,2,     0.00,2,     2.48,2, -999.000,9, -999.000,9,   2316.3,2,   2410.8,2,     7.58,2,   25.00,  1.4492
     3250031_1,   P31,    50,  1,     16,     16,2,19940205,2323,-10.1853,-168.8445, 4463,   3220.2,   1.6174,  34.6781,2,  34.6782,2,    154.4,2,    154.9,2,   135.17,2,    35.41,2,     0.00,2,     2.46,2, -999.000,9, -999.000,9,   2318.2,2,   2410.0,2,     7.58,2,   25.00,  1.3766
     3250031_1,   P31,    50,  1,     15,     15,2,19940205,2323,-10.1853,-168.8445, 4463,   3323.2,   1.5990,  34.6798,2,  34.6794,2,    157.4,2,    156.3,2,   134.98,2,    35.22,2,     0.00,2,     2.46,2, -999.000,9, -999.000,9,   2312.7,2,   -999.0,9,     7.58,2,   25.00,  1.3483
     3250031_1,   P31,    50,  1,     14,     14,2,19940205,2323,-10.1853,-168.8445, 4463,   3426.8,   1.5760,  34.6815,2,  34.6811,2,    159.9,2,    158.1,2,   134.59,2,    35.13,2,     0.00,2,     2.45,2, -999.000,9, -999.000,9,   2312.0,2,   2408.9,2,     7.58,2,   25.00,  1.3155
     3250031_1,   P31,    50,  1,     13,     13,2,19940205,2323,-10.1853,-168.8445, 4463,   3529.2,   1.5511,  34.6829,2,  34.6833,2,    161.2,2,    160.1,2,   134.41,2,    34.99,2,     0.00,2,     2.43,2, -999.000,9, -999.000,9,   2308.4,2,   2410.3,2,     7.59,2,   25.00,  1.2806
     3250031_1,   P31,    50,  1,     12,     12,2,19940205,2323,-10.1853,-168.8445, 4463,   3631.7,   1.5241,  34.6845,2,  34.6849,2,    163.1,2,    162.3,2,   134.43,2,    34.89,2,     0.00,2,     2.43,2, -999.000,9, -999.000,9,   2306.7,2,   -999.0,9,     7.59,2,   25.00,  1.2437
     3250031_1,   P31,    50,  1,     11,     11,2,19940205,2323,-10.1853,-168.8445, 4463,   3736.1,   1.4957,  34.6864,2,  34.6861,2,    166.2,2,    164.7,2,   134.04,2,    34.75,2,     0.00,2,     2.42,2, -999.000,9, -999.000,9,   -999.0,9,   2407.0,2,     7.59,2,   25.00,  1.2052
     3250031_1,   P31,    50,  1,     10,     10,2,19940205,2323,-10.1853,-168.8445, 4463,   3839.2,   1.4671,  34.6887,2,  34.6875,2,    169.0,2,    167.0,2,   133.45,2,    34.61,2,     0.00,2,     2.41,2, -999.000,9, -999.000,9,   2305.2,2,   -999.0,9,     7.59,2,   25.00,  1.1664
     3250031_1,   P31,    50,  1,      9,      9,2,19940205,2323,-10.1853,-168.8445, 4463,   3930.5,   1.4396,  34.6904,2,  34.6898,2,    169.7,2,    169.7,2,   132.86,2,    34.41,2,     0.00,2,     2.39,2, -999.000,9, -999.000,9,   2302.6,2,   2402.5,2,     7.60,2,   25.00,  1.1299
     3250031_1,   P31,    50,  1,      8,      8,2,19940205,2323,-10.1853,-168.8445, 4463,   4002.6,   1.4328,  34.6914,2,  34.6892,2,    173.0,2,    170.8,2,   132.27,2,    34.32,2,     0.00,2,     2.39,2, -999.000,9, -999.000,9,   2298.8,2,   -999.0,9,     7.60,2,   25.00,  1.1155
     3250031_1,   P31,    50,  1,      7,      7,2,19940205,2323,-10.1853,-168.8445, 4463,   4076.1,   1.4226,  34.6925,2,  34.6912,2,    173.2,2,    172.6,2,   131.27,2,    34.18,2,     0.00,2,     2.38,2,    0.000,2,   -0.002,2,   2297.2,2,   2399.5,2,     7.60,2,   25.00,  1.0976
     3250031_1,   P31,    50,  1,      6,      6,2,19940205,2323,-10.1853,-168.8445, 4463,   4148.9,   1.3595,  34.6956,2,  34.6963,2,    177.7,2,    178.4,2,   128.87,2,    33.74,2,     0.00,2,     2.35,2,    0.009,2,    0.021,3,   2288.7,2,   -999.0,9,     7.60,2,   25.00,  1.0283
     3250031_1,   P31,    50,  1,      5,      5,2,19940205,2323,-10.1853,-168.8445, 4463,   4222.8,   1.3466,  34.6959,2,  34.6965,2,    178.9,2,    180.3,2,   128.69,2,    33.65,2,     0.00,2,     2.34,2,    0.003,2,    0.000,2,   -999.0,9,   2392.5,2,     7.60,2,   25.00,  1.0076
     3250031_1,   P31,    50,  1,      4,      4,2,19940205,2323,-10.1853,-168.8445, 4463,   4295.7,   1.3198,  34.6976,2,  34.6971,2,    183.5,2,    183.2,2,   127.90,2,    33.50,2,     0.00,2,     2.33,2,    0.001,2,   -0.002,2,   2286.8,2,   -999.0,9,     7.60,2,   25.00,  0.9735
     3250031_1,   P31,    50,  1,      3,      3,2,19940205,2323,-10.1853,-168.8445, 4463,   4366.5,   1.2098,  34.7013,2,  34.7014,2,    190.4,2,    191.6,2,   124.92,2,    32.91,2,     0.00,2,     2.29,2,    0.016,4,   -0.001,2,   2276.9,2,   2381.8,2,     7.61,2,   25.00,  0.8588
     3250031_1,   P31,    50,  1,      2,      2,2,19940205,2323,-10.1853,-168.8445, 4463,   4460.6,   1.1052,  34.7055,2,  34.7062,2,    198.7,2,    199.9,2,   122.16,2,    32.33,2,     0.00,2,     2.24,2,    0.000,2,   -0.002,2,   2267.0,2,   -999.0,9,     7.61,2,   25.00,  0.7468
     3250031_1,   P31,    50,  1,      1,      1,2,19940205,2323,-10.1853,-168.8445, 4463,   4533.0,   1.0601,  34.7074,2,  34.7068,2,    202.4,2,    203.3,2,   121.19,2,    32.09,2,     0.00,2,     2.23,2,    0.004,2,    0.000,2,   2261.3,2,   2368.7,2,     7.84,4,   25.00,  0.6950