BOTTLE,20020814WHPSIOdm
EXPOCODE,SECT_ID,STNNBR,CASTNO,SAMPNO,BTLNBR,BTLNBR_FLAG_W,DATE,TIME,LATITUDE,LONGITUDE,DEPTH,CTDPRS,CTDTMP,CTDSAL,CTDSAL_FLAG_W,SALNTY,SALNTY_FLAG_W,CTDOXY,CTDOXY_FLAG_W,OXYGEN,OXYGEN_FLAG_W,SILCAT,SILCAT_FLAG_W,NITRAT,NITRAT_FLAG_W,NITRIT,NITRIT_FLAG_W,PHSPHT,PHSPHT_FLAG_W,CFC-11,CFC-11_FLAG_W,CFC-12,CFC-12_FLAG_W,TCARBN,TCARBN_FLAG_W,ALKALI,ALKALI_FLAG_W,PH,PH_FLAG_W,PHTEMP,THETA
,,,,,,,,,,,,DBAR,ITS-90,PSS-78,,PSS-78,,UMOL/KG,,UMOL/KG,,UMOL/KG,,UMOL/KG,,UMOL/KG,,UMOL/KG,,PMOL/KG,,PMOL/KG,,UMOL/KG,,UMOL/KG,,,,DEG C,DEG C
     3250031_1,   P31,    20,  1,     36,     36,2,19940130,1440,-13.5077,-157.3073, 5102,      3.0,  29.4988,  35.4511,2,  35.4511,2,    185.0,2,    192.9,2,     1.84,2,     0.08,2,     0.00,2,     0.19,2,    1.514,2,    0.835,2,   -999.0,9,   -999.0,9,  -999.00,9, -999.00, 29.4980
     3250031_1,   P31,    20,  1,     35,     35,2,19940130,1440,-13.5077,-157.3073, 5102,     16.3,  29.5118,  35.4642,2,  35.4675,2,    181.9,2,    193.1,2,     1.63,2,     0.09,2,     0.00,2,     0.20,2,    1.553,2,    0.859,2,   -999.0,9,   -999.0,9,  -999.00,9, -999.00, 29.5078
     3250031_1,   P31,    20,  1,     34,     34,2,19940130,1440,-13.5077,-157.3073, 5102,     55.9,  27.9610,  36.0104,2,  36.0094,2,    202.8,2,    204.5,2,     1.42,2,     0.08,2,     0.00,2,     0.18,2,    1.663,2,    0.925,2,   -999.0,9,   -999.0,9,  -999.00,9, -999.00, 27.9478
     3250031_1,   P31,    20,  1,     33,     33,2,19940130,1440,-13.5077,-157.3073, 5102,    106.0,  25.6206,  36.0482,2,  36.0584,2,    212.9,2,    199.8,2,     1.20,2,     0.13,2,     0.01,2,     0.20,2,    1.743,2,    0.938,2,   -999.0,9,   -999.0,9,  -999.00,9, -999.00, 25.5971
     3250031_1,   P31,    20,  1,     32,     32,2,19940130,1440,-13.5077,-157.3073, 5102,    205.2,  20.4542,  35.8406,2,  35.8406,2,    169.7,2,    166.2,2,     1.74,2,     5.07,2,     0.01,2,     0.56,2,    1.776,6,    0.934,6,   -999.0,9,   -999.0,9,  -999.00,9, -999.00, 20.4155
     3250031_1,   P31,    20,  1,     31,     31,2,19940130,1440,-13.5077,-157.3073, 5102,    304.5,  14.7842,  35.0993,2,  35.0913,2,    140.4,2,    145.0,2,     6.57,2,    13.20,2,     0.00,2,     1.14,2,    1.243,2,    0.634,2,   -999.0,9,   -999.0,9,  -999.00,9, -999.00, 14.7384
     3250031_1,   P31,    20,  1,     30,     30,2,19940130,1440,-13.5077,-157.3073, 5102,    404.7,  10.2180,  34.6641,2,  34.6586,2,    107.5,2,    106.8,2,    18.71,2,    25.27,2,     0.00,2,     1.92,2,    0.386,2,    0.188,2,   -999.0,9,   -999.0,9,  -999.00,9, -999.00, 10.1701
     3250031_1,   P31,    20,  1,     29,     29,2,19940130,1440,-13.5077,-157.3073, 5102,    603.2,   6.2773,  34.4727,2,  34.4738,2,    144.6,2,    147.4,2,    36.09,2,    31.02,2,     0.00,2,     2.16,2,    0.064,3,    0.028,2,   -999.0,9,   -999.0,9,  -999.00,9, -999.00,  6.2229
     3250031_1,   P31,    20,  1,     28,     28,2,19940130,1440,-13.5077,-157.3073, 5102,    804.3,   5.0307,  34.4865,2,  34.4883,2,    137.6,2,    136.6,2,    56.48,2,    34.31,2,     0.00,2,     2.38,2,    0.015,2,    0.001,2,   -999.0,9,   -999.0,9,  -999.00,9, -999.00,  4.9647
     3250031_1,   P31,    20,  1,     27,     27,2,19940130,1440,-13.5077,-157.3073, 5102,   1005.9,   4.1850,  34.5143,2,  34.5144,2,    134.1,2,    132.3,2,    73.59,2,    35.69,2,     0.00,2,     2.48,2,    0.009,2,    0.014,2,   -999.0,9,   -999.0,9,  -999.00,9, -999.00,  4.1074
     3250031_1,   P31,    20,  1,     26,     26,2,19940130,1440,-13.5077,-157.3073, 5102,   1255.5,   3.4373,  34.5486,2,  34.5500,2,    134.2,2,    134.1,2,    89.52,2,    36.05,2,     0.00,2,     2.52,2,    0.002,2,   -0.003,2,   -999.0,9,   -999.0,9,  -999.00,9, -999.00,  3.3453
     3250031_1,   P31,    20,  1,     25,     25,2,19940130,1440,-13.5077,-157.3073, 5102,   1506.7,   2.8387,  34.5820,2,  34.5826,2,    139.5,2,    140.3,2,   101.24,2,    35.86,2,     0.00,2,     2.51,2,    0.007,2,    0.000,2,   -999.0,9,   -999.0,9,  -999.00,9, -999.00,  2.7322
     3250031_1,   P31,    20,  1,     24,     24,2,19940130,1440,-13.5077,-157.3073, 5102,   1760.7,   2.4333,  34.6108,2,  34.6115,2,    144.4,2,    144.9,2,   110.59,2,    35.67,2,     0.00,2,     2.50,2, -999.000,9, -999.000,9,   -999.0,9,   -999.0,9,  -999.00,9, -999.00,  2.3107
     3250031_1,   P31,    20,  1,     23,     23,2,19940130,1440,-13.5077,-157.3073, 5102,   2011.5,   2.1546,  34.6325,2,  34.6323,2,    148.4,2,    149.2,2,   117.09,2,    35.34,2,     0.00,2,     2.47,2, -999.000,9, -999.000,9,   -999.0,9,   -999.0,9,  -999.00,9, -999.00,  2.0148
     3250031_1,   P31,    20,  1,     22,     22,2,19940130,1440,-13.5077,-157.3073, 5102,   2263.2,   1.9550,  34.6508,2,  34.6533,3,    150.0,2,    149.9,2,   124.09,2,    35.35,2,     0.00,2,     2.47,2, -999.000,9, -999.000,9,   -999.0,9,   -999.0,9,  -999.00,9, -999.00,  1.7966
     3250031_1,   P31,    20,  1,     21,     21,2,19940130,1440,-13.5077,-157.3073, 5102,   2516.9,   1.8668,  34.6607,2,  34.6610,2,    151.0,2,    150.1,2,   127.91,2,    35.36,2,     0.00,2,     2.48,2,    0.003,2,   -0.003,2,   -999.0,9,   -999.0,9,  -999.00,9, -999.00,  1.6875
     3250031_1,   P31,    20,  1,     20,     20,2,19940130,1440,-13.5077,-157.3073, 5102,   2771.0,   1.7790,  34.6687,2,  34.6692,2,    151.3,2,    152.0,2,   130.74,2,    35.22,2,     0.00,2,     2.47,2, -999.000,9, -999.000,9,   -999.0,9,   -999.0,9,  -999.00,9, -999.00,  1.5779
     3250031_1,   P31,    20,  1,     19,     19,2,19940130,1440,-13.5077,-157.3073, 5102,   3024.1,   1.7049,  34.6747,2,  34.6749,2,    154.9,2,    155.8,2,   131.93,2,    35.08,2,     0.00,2,     2.45,2, -999.000,9, -999.000,9,   -999.0,9,   -999.0,9,  -999.00,9, -999.00,  1.4813
     3250031_1,   P31,    20,  1,     18,     18,2,19940130,1440,-13.5077,-157.3073, 5102,   3225.2,   1.6471,  34.6783,2,  34.6800,2,    159.3,2,    159.7,2,   131.26,2,    34.79,2,     0.00,2,     2.43,2, -999.000,9, -999.000,9,   -999.0,9,   -999.0,9,  -999.00,9, -999.00,  1.4050
     3250031_1,   P31,    20,  1,     17,     17,2,19940130,1440,-13.5077,-157.3073, 5102,   3428.2,   1.5727,  34.6818,2,  34.6830,2,    168.2,2,    167.5,2,   128.13,2,    34.26,2,     0.00,2,     2.40,2, -999.000,9, -999.000,9,   -999.0,9,   -999.0,9,  -999.00,9, -999.00,  1.3121
     3250031_1,   P31,    20,  1,     16,     16,2,19940130,1440,-13.5077,-157.3073, 5102,   3632.8,   1.5172,  34.6855,2,  34.6883,3,    173.0,2,    173.3,2,   126.04,2,    33.88,2,     0.00,2,     2.37,2,    0.001,2,   -0.001,2,   -999.0,9,   -999.0,9,  -999.00,9, -999.00,  1.2369
     3250031_1,   P31,    20,  1,     15,     15,2,19940130,1440,-13.5077,-157.3073, 5102,   3733.7,   1.4921,  34.6878,2,  34.6863,2,    175.4,2,    176.1,2,   125.99,2,    33.89,2,     0.00,2,     2.36,2, -999.000,9, -999.000,9,   -999.0,9,   -999.0,9,  -999.00,9, -999.00,  1.2019
     3250031_1,   P31,    20,  1,     14,     14,2,19940130,1440,-13.5077,-157.3073, 5102,   3835.5,   1.4719,  34.6891,2,  34.6906,2,    177.4,2,    177.8,2,   125.54,2,    33.75,2,     0.00,2,     2.35,2, -999.000,9, -999.000,9,   -999.0,9,   -999.0,9,  -999.00,9, -999.00,  1.1715
     3250031_1,   P31,    20,  1,     13,     13,2,19940130,1440,-13.5077,-157.3073, 5102,   3934.6,   1.4545,  34.6908,2,  34.6936,3,    179.0,2,    179.1,2,   125.09,2,    33.46,2,     0.00,2,     2.34,2, -999.000,9, -999.000,9,   -999.0,9,   -999.0,9,  -999.00,9, -999.00,  1.1439
     3250031_1,   P31,    20,  1,     12,     12,2,19940130,1440,-13.5077,-157.3073, 5102,   4035.0,   1.4308,  34.6920,2,  34.6950,3,    180.3,2,    180.8,2,   124.84,2,    33.47,2,     0.00,2,     2.33,2,    0.035,4,   -0.004,2,   -999.0,9,   -999.0,9,  -999.00,9, -999.00,  1.1100
     3250031_1,   P31,    20,  1,     11,     11,2,19940130,1440,-13.5077,-157.3073, 5102,   4132.7,   1.3973,  34.6937,2,  34.6942,2,    183.3,2,    182.6,2,   125.19,2,    33.33,2,     0.00,2,     2.32,2, -999.000,9, -999.000,9,   -999.0,9,   -999.0,9,  -999.00,9, -999.00,  1.0667
     3250031_1,   P31,    20,  1,     10,     10,2,19940130,1440,-13.5077,-157.3073, 5102,   4229.2,   1.3803,  34.6958,2,  34.6954,2,    184.3,2,    184.2,2,   124.94,2,    33.29,2,     0.00,2,     2.31,2, -999.000,9, -999.000,9,   -999.0,9,   -999.0,9,  -999.00,9, -999.00,  1.0396
     3250031_1,   P31,    20,  1,      9,      9,2,19940130,1440,-13.5077,-157.3073, 5102,   4327.0,   1.3586,  34.6971,2,  34.6969,2,    185.2,2,    186.4,2,   124.29,2,    33.05,2,     0.00,2,     2.30,2, -999.000,9, -999.000,9,   -999.0,9,   -999.0,9,  -999.00,9, -999.00,  1.0076
     3250031_1,   P31,    20,  1,      8,      8,2,19940130,1440,-13.5077,-157.3073, 5102,   4422.0,   1.3337,  34.6989,2,  34.6999,2,    188.9,2,    188.6,2,   123.63,2,    32.97,2,     0.00,2,     2.30,2,    0.003,2,    0.002,2,   -999.0,9,   -999.0,9,  -999.00,9, -999.00,  0.9727
     3250031_1,   P31,    20,  1,      7,      7,2,19940130,1440,-13.5077,-157.3073, 5102,   4512.0,   1.3252,  34.6994,2,  34.7003,2,    190.8,2,    189.7,2,   123.18,2,    32.93,2,     0.00,2,     2.29,2,    0.003,2,   -0.001,2,   -999.0,9,   -999.0,9,  -999.00,9, -999.00,  0.9542
     3250031_1,   P31,    20,  1,      6,      6,2,19940130,1440,-13.5077,-157.3073, 5102,   4625.5,   1.2945,  34.7019,2,  34.7028,2,    191.8,2,    192.6,2,   122.33,2,    32.74,2,     0.00,2,     2.28,2,    0.012,3,   -0.003,2,   -999.0,9,   -999.0,9,  -999.00,9, -999.00,  0.9114
     3250031_1,   P31,    20,  1,      5,      5,2,19940130,1440,-13.5077,-157.3073, 5102,   4734.8,   1.2742,  34.7030,2,  34.7040,2,    193.7,2,    194.8,2,   121.68,2,    32.55,2,     0.00,2,     2.27,2,    0.010,2,    0.001,2,   -999.0,9,   -999.0,9,  -999.00,9, -999.00,  0.8790
     3250031_1,   P31,    20,  1,      4,      4,2,19940130,1440,-13.5077,-157.3073, 5102,   4840.5,   1.2780,  34.7034,2,  34.7044,2,    195.5,2,    195.4,2,   121.43,2,    32.56,2,     0.00,2,     2.27,2,    0.013,2,    0.010,2,   -999.0,9,   -999.0,9,  -999.00,9, -999.00,  0.8702
     3250031_1,   P31,    20,  1,      3,      3,2,19940130,1440,-13.5077,-157.3073, 5102,   4943.1,   1.2797,  34.7044,2,  34.7042,2,    198.2,2,    196.1,2,   121.38,2,    32.52,2,     0.00,2,     2.26,2,    0.005,2,    0.000,2,   -999.0,9,   -999.0,9,  -999.00,9, -999.00,  0.8596
     3250031_1,   P31,    20,  1,      2,      2,2,19940130,1440,-13.5077,-157.3073, 5102,   5047.0,   1.2863,  34.7045,2,  34.7054,2,    199.4,2,    196.4,2,   121.74,2,    32.62,2,     0.00,2,     2.26,2,    0.006,2,    0.003,2,   -999.0,9,   -999.0,9,  -999.00,9, -999.00,  0.8535
     3250031_1,   P31,    20,  1,      1,      1,2,19940130,1440,-13.5077,-157.3073, 5102,   5215.0,   1.3024,  34.7049,2,  34.7062,2,    198.4,2,    196.1,2,   122.10,2,    32.58,2,     0.00,2,     2.25,2,    0.001,2,   -0.002,2,   -999.0,9,   -999.0,9,  -999.00,9, -999.00,  0.8486