BOTTLE,20020814WHPSIOdm
EXPOCODE,SECT_ID,STNNBR,CASTNO,SAMPNO,BTLNBR,BTLNBR_FLAG_W,DATE,TIME,LATITUDE,LONGITUDE,DEPTH,CTDPRS,CTDTMP,CTDSAL,CTDSAL_FLAG_W,SALNTY,SALNTY_FLAG_W,CTDOXY,CTDOXY_FLAG_W,OXYGEN,OXYGEN_FLAG_W,SILCAT,SILCAT_FLAG_W,NITRAT,NITRAT_FLAG_W,NITRIT,NITRIT_FLAG_W,PHSPHT,PHSPHT_FLAG_W,CFC-11,CFC-11_FLAG_W,CFC-12,CFC-12_FLAG_W,TCARBN,TCARBN_FLAG_W,ALKALI,ALKALI_FLAG_W,PH,PH_FLAG_W,PHTEMP,THETA
,,,,,,,,,,,,DBAR,ITS-90,PSS-78,,PSS-78,,UMOL/KG,,UMOL/KG,,UMOL/KG,,UMOL/KG,,UMOL/KG,,UMOL/KG,,PMOL/KG,,PMOL/KG,,UMOL/KG,,UMOL/KG,,,,DEG C,DEG C
     3250031_1,   P31,    15,  1,     36,     36,2,19940129,0819,-14.4680,-154.8673, 4838,      1.0,  29.5691,  35.5793,2,  35.5784,2,    187.5,2,    194.7,2,     1.39,2,     0.17,2,     0.00,2,     0.20,2, -999.000,9, -999.000,9,   -999.0,9,   -999.0,9,  -999.00,9, -999.00, 29.5689
     3250031_1,   P31,    15,  1,     35,     35,2,19940129,0819,-14.4680,-154.8673, 4838,     11.1,  29.5678,  35.5789,2,  35.5800,2,    195.0,2,    193.9,2,     1.38,2,     0.17,2,     0.00,2,     0.20,2, -999.000,9, -999.000,9,   -999.0,9,   -999.0,9,  -999.00,9, -999.00, 29.5651
     3250031_1,   P31,    15,  1,     34,     34,2,19940129,0819,-14.4680,-154.8673, 4838,     54.0,  28.6443,  36.0164,2,  36.0105,2,    172.1,2,    200.9,2,     1.55,2,     0.16,2,     0.00,2,     0.17,2, -999.000,9, -999.000,9,   -999.0,9,   -999.0,9,  -999.00,9, -999.00, 28.6313
     3250031_1,   P31,    15,  1,     33,     33,2,19940129,0819,-14.4680,-154.8673, 4838,    104.3,  26.0423,  36.0303,2,  36.0239,2,    202.0,2,    205.7,2,     1.54,2,     0.16,2,     0.01,2,     0.17,2, -999.000,9, -999.000,9,   -999.0,9,   -999.0,9,  -999.00,9, -999.00, 26.0189
     3250031_1,   P31,    15,  1,     32,     32,2,19940129,0819,-14.4680,-154.8673, 4838,    204.0,  20.8081,  35.9175,2,  35.9072,2,    174.2,2,    168.7,2,     1.71,2,     4.83,2,     0.01,2,     0.54,2, -999.000,9, -999.000,9,   -999.0,9,   -999.0,9,  -999.00,9, -999.00, 20.7691
     3250031_1,   P31,    15,  1,     31,     31,2,19940129,0819,-14.4680,-154.8673, 4838,    304.0,  15.6326,  35.2003,2,  35.1896,2,    157.3,2,    151.4,2,     5.03,2,    11.48,2,     0.00,2,     1.01,2, -999.000,9, -999.000,9,   -999.0,9,   -999.0,9,  -999.00,9, -999.00, 15.5850
     3250031_1,   P31,    15,  1,     30,     30,2,19940129,0819,-14.4680,-154.8673, 4838,    404.3,  10.6000,  34.6819,2,  34.6822,2,    109.8,2,    110.2,2,    16.69,2,    23.72,2,     0.00,2,     1.83,2, -999.000,9, -999.000,9,   -999.0,9,   -999.0,9,  -999.00,9, -999.00, 10.5510
     3250031_1,   P31,    15,  1,     29,     29,2,19940129,0819,-14.4680,-154.8673, 4838,    603.5,   6.2163,  34.4774,2,  34.4764,2,    142.4,2,    145.8,2,    37.79,2,    31.41,2,     0.00,2,     2.18,2, -999.000,9, -999.000,9,   -999.0,9,   -999.0,9,  -999.00,9, -999.00,  6.1621
     3250031_1,   P31,    15,  1,     28,     28,2,19940129,0819,-14.4680,-154.8673, 4838,    803.4,   4.9965,  34.4829,2,  34.4845,2,    135.7,2,    139.7,2,    55.58,2,    34.05,2,     0.00,2,     2.35,2, -999.000,9, -999.000,9,   -999.0,9,   -999.0,9,  -999.00,9, -999.00,  4.9307
     3250031_1,   P31,    15,  1,     27,     27,2,19940129,0819,-14.4680,-154.8673, 4838,   1004.9,   4.1677,  34.5102,2,  34.5099,2,    133.7,2,    136.5,2,    71.77,2,    35.09,2,     0.00,2,     2.45,2, -999.000,9, -999.000,9,   -999.0,9,   -999.0,9,  -999.00,9, -999.00,  4.0903
     3250031_1,   P31,    15,  1,     26,     26,2,19940129,0819,-14.4680,-154.8673, 4838,   1205.6,   3.5270,  34.5434,2,  34.5436,2,    136.4,2,    135.0,2,    85.47,2,    35.79,2,     0.00,2,     2.50,2, -999.000,9, -999.000,9,   -999.0,9,   -999.0,9,  -999.00,9, -999.00,  3.4382
     3250031_1,   P31,    15,  1,     25,     25,2,19940129,0819,-14.4680,-154.8673, 4838,   1406.4,   3.0551,  34.5695,2,  34.5693,2,    140.1,2,    138.2,2,    95.52,2,    35.93,2,     0.00,2,     2.51,2, -999.000,9, -999.000,9,   -999.0,9,   -999.0,9,  -999.00,9, -999.00,  2.9544
     3250031_1,   P31,    15,  1,     24,     24,2,19940129,0819,-14.4680,-154.8673, 4838,   1607.6,   2.6653,  34.5945,2,  34.5950,2,    143.7,2,    142.0,2,   104.35,2,    35.88,2,     0.00,2,     2.50,2, -999.000,9, -999.000,9,   -999.0,9,   -999.0,9,  -999.00,9, -999.00,  2.5524
     3250031_1,   P31,    15,  1,     23,     23,2,19940129,0819,-14.4680,-154.8673, 4838,   1808.7,   2.3726,  34.6152,2,  34.6156,2,    147.0,2,    146.0,2,   110.95,2,    35.68,2,     0.00,2,     2.48,2, -999.000,9, -999.000,9,   -999.0,9,   -999.0,9,  -999.00,9, -999.00,  2.2468
     3250031_1,   P31,    15,  1,     22,     22,2,19940129,0819,-14.4680,-154.8673, 4838,   2008.8,   2.1747,  34.6318,2,  34.6332,2,    149.7,2,    148.0,2,   117.04,2,    35.58,2,     0.00,2,     2.48,2, -999.000,9, -999.000,9,   -999.0,9,   -999.0,9,  -999.00,9, -999.00,  2.0349
     3250031_1,   P31,    15,  1,     21,     21,2,19940129,0819,-14.4680,-154.8673, 4838,   2262.6,   2.0086,  34.6467,2,  34.6469,2,    147.9,2,    149.8,2,   121.80,2,    35.52,2,     0.00,2,     2.46,2, -999.000,9, -999.000,9,   -999.0,9,   -999.0,9,  -999.00,9, -999.00,  1.8495
     3250031_1,   P31,    15,  1,     20,     20,2,19940129,0819,-14.4680,-154.8673, 4838,   2516.2,   1.8704,  34.6580,2,  34.6581,2,    152.4,2,    153.1,2,   125.20,2,    35.27,2,     0.00,2,     2.45,2, -999.000,9, -999.000,9,   -999.0,9,   -999.0,9,  -999.00,9, -999.00,  1.6911
     3250031_1,   P31,    15,  1,     19,     19,2,19940129,0819,-14.4680,-154.8673, 4838,   2768.8,   1.7654,  34.6658,2,  34.6665,2,    157.4,2,    158.2,2,   126.19,2,    34.92,2,     0.00,2,     2.44,2, -999.000,9, -999.000,9,   -999.0,9,   -999.0,9,  -999.00,9, -999.00,  1.5648
     3250031_1,   P31,    15,  1,     18,     18,2,19940129,0819,-14.4680,-154.8673, 4838,   3022.4,   1.6830,  34.6734,2,  34.6738,2,    161.9,2,    161.8,2,   127.59,2,    34.77,2,     0.00,2,     2.42,2, -999.000,9, -999.000,9,   -999.0,9,   -999.0,9,  -999.00,9, -999.00,  1.4600
     3250031_1,   P31,    15,  1,     17,     17,2,19940129,0819,-14.4680,-154.8673, 4838,   3224.3,   1.6118,  34.6776,2,  34.6777,2,    166.7,2,    166.9,2,   126.55,2,    34.36,2,     0.00,2,     2.40,2, -999.000,9, -999.000,9,   -999.0,9,   -999.0,9,  -999.00,9, -999.00,  1.3707
     3250031_1,   P31,    15,  1,     16,     16,2,19940129,0819,-14.4680,-154.8673, 4838,   3427.1,   1.5457,  34.6830,2,  34.6841,2,    172.1,2,    171.7,2,   125.51,2,    34.01,2,     0.00,2,     2.37,2, -999.000,9, -999.000,9,   -999.0,9,   -999.0,9,  -999.00,9, -999.00,  1.2858
     3250031_1,   P31,    15,  1,     15,     15,2,19940129,0819,-14.4680,-154.8673, 4838,   3529.0,   1.5198,  34.6851,2,  34.6845,2,    173.7,2,    173.5,2,   125.69,2,    33.91,2,     0.00,2,     2.37,2, -999.000,9, -999.000,9,   -999.0,9,   -999.0,9,  -999.00,9, -999.00,  1.2502
     3250031_1,   P31,    15,  1,     14,     14,2,19940129,0819,-14.4680,-154.8673, 4838,   3631.5,   1.5022,  34.6865,2,  34.6872,2,    176.5,2,    175.3,2,   124.86,2,    33.81,2,     0.00,2,     2.36,2, -999.000,9, -999.000,9,   -999.0,9,   -999.0,9,  -999.00,9, -999.00,  1.2224
     3250031_1,   P31,    15,  1,     13,     13,2,19940129,0819,-14.4680,-154.8673, 4838,   3733.1,   1.4768,  34.6885,2,  34.6888,2,    176.8,2,    176.1,2,   124.84,2,    33.71,2,     0.00,2,     2.35,2, -999.000,9, -999.000,9,   -999.0,9,   -999.0,9,  -999.00,9, -999.00,  1.1871
     3250031_1,   P31,    15,  1,     12,     12,2,19940129,0819,-14.4680,-154.8673, 4838,   3834.8,   1.4554,  34.6906,2,  34.6901,2,    179.1,2,    179.0,2,   124.62,2,    33.60,2,     0.00,2,     2.34,2, -999.000,9, -999.000,9,   -999.0,9,   -999.0,9,  -999.00,9, -999.00,  1.1555
     3250031_1,   P31,    15,  1,     11,     11,2,19940129,0819,-14.4680,-154.8673, 4838,   3936.4,   1.4413,  34.6916,2,  34.6909,2,    180.3,2,    180.7,2,   124.19,2,    33.45,2,     0.00,2,     2.34,2, -999.000,9, -999.000,9,   -999.0,9,   -999.0,9,  -999.00,9, -999.00,  1.1309
     3250031_1,   P31,    15,  1,     10,     10,2,19940129,0819,-14.4680,-154.8673, 4838,   4038.8,   1.4321,  34.6923,2,  34.6917,2,    181.0,2,    181.7,2,   124.37,2,    33.35,2,     0.00,2,     2.33,2, -999.000,9, -999.000,9,   -999.0,9,   -999.0,9,  -999.00,9, -999.00,  1.1109
     3250031_1,   P31,    15,  1,      9,      9,2,19940129,0819,-14.4680,-154.8673, 4838,   4140.4,   1.4173,  34.6937,2,  34.6932,2,    182.7,2,    183.1,2,   124.15,2,    33.30,2,     0.00,2,     2.33,2, -999.000,9, -999.000,9,   -999.0,9,   -999.0,9,  -999.00,9, -999.00,  1.0853
     3250031_1,   P31,    15,  1,      8,      8,2,19940129,0819,-14.4680,-154.8673, 4838,   4241.5,   1.4035,  34.6948,2,  34.6952,2,    185.3,2,    184.9,2,   123.73,2,    33.20,2,     0.00,2,     2.32,2, -999.000,9, -999.000,9,   -999.0,9,   -999.0,9,  -999.00,9, -999.00,  1.0607
     3250031_1,   P31,    15,  1,      7,      7,2,19940129,0819,-14.4680,-154.8673, 4838,   4343.3,   1.3763,  34.6968,2,  34.6969,2,    185.2,2,    186.6,2,   123.10,2,    33.09,2,     0.00,2,     2.30,2, -999.000,9, -999.000,9,   -999.0,9,   -999.0,9,  -999.00,9, -999.00,  1.0229
     3250031_1,   P31,    15,  1,      6,      6,2,19940129,0819,-14.4680,-154.8673, 4838,   4446.2,   1.3542,  34.6985,2,  34.6981,2,    188.6,2,    188.3,2,   122.88,2,    32.89,2,     0.00,2,     2.30,2,    0.017,3,    0.003,2,   -999.0,9,   -999.0,9,  -999.00,9, -999.00,  0.9898
     3250031_1,   P31,    15,  1,      5,      5,2,19940129,0819,-14.4680,-154.8673, 4838,   4548.4,   1.3013,  34.7011,2,  34.7000,2,    192.4,2,    192.4,2,   122.26,2,    32.64,2,     0.00,2,     2.29,2,    0.015,2,    0.000,2,   -999.0,9,   -999.0,9,  -999.00,9, -999.00,  0.9269
     3250031_1,   P31,    15,  1,      4,      4,2,19940129,0819,-14.4680,-154.8673, 4838,   4650.4,   1.2972,  34.7023,2,  34.7022,2,    193.1,2,    193.6,2,   122.44,2,    32.59,2,     0.00,2,     2.29,2,    0.013,2,    0.007,2,   -999.0,9,   -999.0,9,  -999.00,9, -999.00,  0.9111
     3250031_1,   P31,    15,  1,      3,      3,2,19940129,0819,-14.4680,-154.8673, 4838,   4752.8,   1.2899,  34.7034,2,  34.7043,2,    193.5,2,    194.3,2,   122.41,2,    32.58,2,     0.00,2,     2.28,2,    0.003,2,    0.001,2,   -999.0,9,   -999.0,9,  -999.00,9, -999.00,  0.8921
     3250031_1,   P31,    15,  1,      2,      2,2,19940129,0819,-14.4680,-154.8673, 4838,   4855.3,   1.2913,  34.7031,2,  34.7039,2,    195.4,3,    195.0,2,   122.19,2,    32.48,2,     0.00,2,     2.27,2,    0.004,2,    0.002,2,   -999.0,9,   -999.0,9,  -999.00,9, -999.00,  0.8814
     3250031_1,   P31,    15,  1,      1,      1,2,19940129,0819,-14.4680,-154.8673, 4838,   4933.6,   1.2965,  34.7035,2,  34.7041,2,    195.7,3,    194.3,2,   121.77,2,    32.43,2,     0.00,2,     2.27,2,    0.004,2,   -0.001,2,   -999.0,9,   -999.0,9,  -999.00,9, -999.00,  0.8771