BOTTLE,20020814WHPSIOdm
EXPOCODE,SECT_ID,STNNBR,CASTNO,SAMPNO,BTLNBR,BTLNBR_FLAG_W,DATE,TIME,LATITUDE,LONGITUDE,DEPTH,CTDPRS,CTDTMP,CTDSAL,CTDSAL_FLAG_W,SALNTY,SALNTY_FLAG_W,CTDOXY,CTDOXY_FLAG_W,OXYGEN,OXYGEN_FLAG_W,SILCAT,SILCAT_FLAG_W,NITRAT,NITRAT_FLAG_W,NITRIT,NITRIT_FLAG_W,PHSPHT,PHSPHT_FLAG_W,CFC-11,CFC-11_FLAG_W,CFC-12,CFC-12_FLAG_W,TCARBN,TCARBN_FLAG_W,ALKALI,ALKALI_FLAG_W,PH,PH_FLAG_W,PHTEMP,THETA
,,,,,,,,,,,,DBAR,ITS-90,PSS-78,,PSS-78,,UMOL/KG,,UMOL/KG,,UMOL/KG,,UMOL/KG,,UMOL/KG,,UMOL/KG,,PMOL/KG,,PMOL/KG,,UMOL/KG,,UMOL/KG,,,,DEG C,DEG C
     3250031_1,   P31,    18,  1,     36,     36,2,19940130,0238,-13.9005,-156.3200, 5084,      0.6,  29.4854,  35.3947,2,  35.3963,2,    180.1,2,    193.4,2,     1.84,2,     0.13,2,     0.00,2,     0.19,2,    1.546,2,    0.853,2,   -999.0,9,   -999.0,9,  -999.00,9, -999.00, 29.4852
     3250031_1,   P31,    18,  1,     35,     35,2,19940130,0238,-13.9005,-156.3200, 5084,     11.5,  29.4997,  35.4005,2,  35.3993,2,    193.7,2,    193.1,2,     1.44,2,     0.08,2,     0.00,2,     0.20,2,    1.545,2,    0.855,2,   -999.0,9,   -999.0,9,  -999.00,9, -999.00, 29.4969
     3250031_1,   P31,    18,  1,     34,     34,2,19940130,0238,-13.9005,-156.3200, 5084,     54.3,  28.8335,  36.0063,2,  35.9995,2,    199.4,2,    202.9,2,     1.41,2,     0.09,2,     0.00,2,     0.22,2,    1.620,2,    0.879,2,   -999.0,9,   -999.0,9,  -999.00,9, -999.00, 28.8204
     3250031_1,   P31,    18,  1,     33,     33,2,19940130,0238,-13.9005,-156.3200, 5084,    104.0,  26.4367,  36.3547,2,  36.3649,2,    186.7,2,    187.6,2,     1.38,2,     0.15,2,     0.04,2,     0.30,2,    1.751,2,    0.917,2,   -999.0,9,   -999.0,9,  -999.00,9, -999.00, 26.4131
     3250031_1,   P31,    18,  1,     32,     32,2,19940130,0238,-13.9005,-156.3200, 5084,    203.5,  21.4937,  36.0183,2,  36.0216,2,    184.6,3,    168.2,2,     1.73,2,     4.34,2,     0.02,2,     0.53,2,    1.849,2,    0.985,2,   -999.0,9,   -999.0,9,  -999.00,9, -999.00, 21.4539
     3250031_1,   P31,    18,  1,     31,     31,2,19940130,0238,-13.9005,-156.3200, 5084,    300.2,  15.8307,  35.2123,2,-999.0000,5,    162.8,3,    149.2,2,     5.43,2,    11.00,2,     0.00,2,     1.01,2,    1.447,6,    0.738,6,   -999.0,9,   -999.0,9,  -999.00,9, -999.00, 15.7833
     3250031_1,   P31,    18,  1,     30,     30,2,19940130,0238,-13.9005,-156.3200, 5084,    393.5,  10.7829,  34.7009,2,  34.6996,2,    114.3,2,    113.0,2,    16.40,2,    23.21,2,     0.00,2,     1.80,2,    0.524,2,    0.261,2,   -999.0,9,   -999.0,9,  -999.00,9, -999.00, 10.7347
     3250031_1,   P31,    18,  1,     29,     29,2,19940130,0238,-13.9005,-156.3200, 5084,    591.5,   6.1883,  34.4640,2,  34.4664,2,    145.7,2,    149.9,2,    35.57,2,    30.91,2,     0.00,2,     2.15,2,    0.040,2,    0.014,2,   -999.0,9,   -999.0,9,  -999.00,9, -999.00,  6.1354
     3250031_1,   P31,    18,  1,     28,     28,2,19940130,0238,-13.9005,-156.3200, 5084,    800.4,   5.0429,  34.4804,2,  34.4858,2,    135.2,2,    140.2,2,    54.03,2,    33.83,2,     0.00,2,     2.35,2,    0.039,4,    0.001,3,   -999.0,9,   -999.0,9,  -999.00,9, -999.00,  4.9772
     3250031_1,   P31,    18,  1,     27,     27,2,19940130,0238,-13.9005,-156.3200, 5084,   1001.7,   4.2445,  34.5056,2,  34.5128,2,    134.5,2,    136.5,2,    69.75,2,    35.08,2,     0.00,2,     2.45,2,    0.003,2,   -0.004,2,   -999.0,9,   -999.0,9,  -999.00,9, -999.00,  4.1668
     3250031_1,   P31,    18,  1,     26,     26,2,19940130,0238,-13.9005,-156.3200, 5084,   1253.3,   3.4416,  34.5474,2,  34.5554,2,    133.4,2,    135.4,2,    87.32,2,    35.68,2,     0.00,2,     2.51,2,    0.004,2,   -0.005,2,   -999.0,9,   -999.0,9,  -999.00,9, -999.00,  3.3497
     3250031_1,   P31,    18,  1,     25,     25,2,19940130,0238,-13.9005,-156.3200, 5084,   1504.6,   2.8372,  34.5822,2,-999.0000,5,    139.6,2,    140.3,2,   100.54,2,    35.55,2,     0.00,2,     2.52,2,    0.013,3,   -0.003,2,   -999.0,9,   -999.0,9,  -999.00,9, -999.00,  2.7309
     3250031_1,   P31,    18,  1,     24,     24,2,19940130,0238,-13.9005,-156.3200, 5084,   1757.8,   2.4155,  34.6107,2,  34.6119,2,    144.0,2,    145.7,2,   110.26,2,    35.31,2,     0.00,2,     2.50,2, -999.000,9, -999.000,9,   -999.0,9,   -999.0,9,  -999.00,9, -999.00,  2.2934
     3250031_1,   P31,    18,  1,     23,     23,2,19940130,0238,-13.9005,-156.3200, 5084,   2009.3,   2.1378,  34.6346,2,  34.6352,2,    150.6,2,    147.8,2,   117.77,2,    35.22,2,     0.00,2,     2.49,2,    0.009,2,   -0.003,2,   -999.0,9,   -999.0,9,  -999.00,9, -999.00,  1.9985
     3250031_1,   P31,    18,  1,     22,     22,2,19940130,0238,-13.9005,-156.3200, 5084,   2259.9,   1.9809,  34.6489,2,  34.6509,2,    148.6,2,    149.4,2,   122.76,2,    35.18,2,     0.00,2,     2.48,2,    0.013,2,    0.011,2,   -999.0,9,   -999.0,9,  -999.00,9, -999.00,  1.8225
     3250031_1,   P31,    18,  1,     21,     21,2,19940130,0238,-13.9005,-156.3200, 5084,   2513.0,   1.8688,  34.6601,2,  34.6599,2,    152.0,2,    150.1,2,   127.20,2,    35.14,2,     0.00,2,     2.48,2, -999.000,9, -999.000,9,   -999.0,9,   -999.0,9,  -999.00,9, -999.00,  1.6898
     3250031_1,   P31,    18,  1,     20,     20,2,19940130,0238,-13.9005,-156.3200, 5084,   2767.7,   1.7829,  34.6681,2,  34.6697,2,    152.7,2,    152.3,2,   129.83,2,    35.00,2,     0.00,2,     2.47,2, -999.000,9, -999.000,9,   -999.0,9,   -999.0,9,  -999.00,9, -999.00,  1.5820
     3250031_1,   P31,    18,  1,     19,     19,2,19940130,0238,-13.9005,-156.3200, 5084,   3020.2,   1.7116,  34.6744,2,  34.6760,2,    157.1,2,    154.9,2,   131.45,2,    35.06,2,     0.00,2,     2.46,2,    0.004,2,   -0.003,2,   -999.0,9,   -999.0,9,  -999.00,9, -999.00,  1.4882
     3250031_1,   P31,    18,  1,     18,     18,2,19940130,0238,-13.9005,-156.3200, 5084,   3220.6,   1.6447,  34.6774,2,  34.6774,2,    161.5,2,    161.6,2,   128.75,2,    34.58,2,     0.00,2,     2.43,2, -999.000,9, -999.000,9,   -999.0,9,   -999.0,9,  -999.00,9, -999.00,  1.4032
     3250031_1,   P31,    18,  1,     17,     17,2,19940130,0238,-13.9005,-156.3200, 5084,   3423.0,   1.5822,  34.6813,2,  34.6819,2,    168.9,2,    166.1,2,   128.11,2,    34.34,2,     0.00,2,     2.40,2, -999.000,9, -999.000,9,   -999.0,9,   -999.0,9,  -999.00,9, -999.00,  1.3219
     3250031_1,   P31,    18,  1,     16,     16,2,19940130,0238,-13.9005,-156.3200, 5084,   3626.2,   1.5178,  34.6856,2,  34.6864,2,    172.8,2,    172.1,2,   126.25,2,    33.90,2,     0.00,2,     2.37,2,    0.010,2,    0.015,2,   -999.0,9,   -999.0,9,  -999.00,9, -999.00,  1.2382
     3250031_1,   P31,    18,  1,     15,     15,2,19940130,0238,-13.9005,-156.3200, 5084,   3727.8,   1.4860,  34.6874,2,  34.6878,2,    176.5,2,    176.0,2,   124.80,2,    33.62,2,     0.00,2,     2.36,2, -999.000,9, -999.000,9,   -999.0,9,   -999.0,9,  -999.00,9, -999.00,  1.1966
     3250031_1,   P31,    18,  1,     14,     14,2,19940130,0238,-13.9005,-156.3200, 5084,   3830.7,   1.4615,  34.6895,2,  34.6913,2,    179.2,2,    178.3,2,   124.17,2,    33.53,2,     0.00,2,     2.34,2, -999.000,9, -999.000,9,   -999.0,9,   -999.0,9,  -999.00,9, -999.00,  1.1619
     3250031_1,   P31,    18,  1,     13,     13,2,19940130,0238,-13.9005,-156.3200, 5084,   3933.8,   1.4376,  34.6914,2,-999.0000,5,    179.4,2,    179.9,2,   124.15,2,    33.29,2,     0.00,2,     2.34,2, -999.000,9, -999.000,9,   -999.0,9,   -999.0,9,  -999.00,9, -999.00,  1.1276
     3250031_1,   P31,    18,  1,     12,     12,2,19940130,0238,-13.9005,-156.3200, 5084,   4037.8,   1.4233,  34.6924,2,  34.6925,2,    180.9,2,    181.4,2,   124.53,2,    33.20,2,     0.00,2,     2.33,2,    0.002,2,   -0.002,2,   -999.0,9,   -999.0,9,  -999.00,9, -999.00,  1.1025
     3250031_1,   P31,    18,  1,     11,     11,2,19940130,0238,-13.9005,-156.3200, 5084,   4139.3,   1.4082,  34.6938,2,  34.6935,2,    181.4,2,    182.7,2,   124.30,2,    33.21,2,     0.00,2,     2.33,2, -999.000,9, -999.000,9,   -999.0,9,   -999.0,9,  -999.00,9, -999.00,  1.0766
     3250031_1,   P31,    18,  1,     10,     10,2,19940130,0238,-13.9005,-156.3200, 5084,   4239.3,   1.3812,  34.6956,2,  34.6952,2,    185.1,2,    184.3,2,   123.87,2,    33.22,2,     0.00,2,     2.32,2, -999.000,9, -999.000,9,   -999.0,9,   -999.0,9,  -999.00,9, -999.00,  1.0393
     3250031_1,   P31,    18,  1,      9,      9,2,19940130,0238,-13.9005,-156.3200, 5084,   4338.5,   1.3600,  34.6968,2,  34.6937,3,    185.4,2,    186.5,2,   123.64,2,    32.99,2,     0.00,2,     2.31,2, -999.000,9, -999.000,9,   -999.0,9,   -999.0,9,  -999.00,9, -999.00,  1.0076
     3250031_1,   P31,    18,  1,      8,      8,2,19940130,0238,-13.9005,-156.3200, 5084,   4437.2,   1.3430,  34.6982,2,  34.6986,2,    188.4,2,    188.1,2,   123.41,2,    32.90,2,     0.00,2,     2.30,2, -999.000,9, -999.000,9,   -999.0,9,   -999.0,9,  -999.00,9, -999.00,  0.9800
     3250031_1,   P31,    18,  1,      7,      7,2,19940130,0238,-13.9005,-156.3200, 5084,   4536.0,   1.3216,  34.6997,2,  34.7019,2,    190.2,2,    190.0,2,   122.58,2,    32.86,2,     0.00,2,     2.29,2, -999.000,9, -999.000,9,   -999.0,9,   -999.0,9,  -999.00,9, -999.00,  0.9480
     3250031_1,   P31,    18,  1,      6,      6,2,19940130,0238,-13.9005,-156.3200, 5084,   4634.3,   1.3073,  34.7009,2,  34.7013,2,    192.7,2,    191.8,2,   121.95,2,    32.67,2,     0.00,2,     2.28,2,    0.010,2,    0.000,2,   -999.0,9,   -999.0,9,  -999.00,9, -999.00,  0.9228
     3250031_1,   P31,    18,  1,      5,      5,2,19940130,0238,-13.9005,-156.3200, 5084,   4734.7,   1.2986,  34.7020,2,  34.7017,2,    193.5,2,    193.4,2,   121.52,2,    32.63,2,     0.00,2,     2.28,2,    0.004,2,   -0.004,2,   -999.0,9,   -999.0,9,  -999.00,9, -999.00,  0.9027
     3250031_1,   P31,    18,  1,      4,      4,2,19940130,0238,-13.9005,-156.3200, 5084,   4836.1,   1.2922,  34.7030,2,  34.7031,2,    194.1,2,    194.4,2,   121.29,2,    32.59,2,     0.00,2,     2.27,2, -999.000,9, -999.000,9,   -999.0,9,   -999.0,9,  -999.00,9, -999.00,  0.8845
     3250031_1,   P31,    18,  1,      3,      3,2,19940130,0238,-13.9005,-156.3200, 5084,   4932.6,   1.2940,  34.7032,2,  34.7035,2,    195.1,2,    195.2,2,   121.07,2,    32.55,2,     0.00,2,     2.26,2,    0.006,2,   -0.002,2,   -999.0,9,   -999.0,9,  -999.00,9, -999.00,  0.8748
     3250031_1,   P31,    18,  1,      2,      2,2,19940130,0238,-13.9005,-156.3200, 5084,   5028.6,   1.2972,  34.7037,2,  34.7052,2,    194.4,2,    195.7,2,   120.84,2,    32.46,2,     0.00,2,     2.26,2,    0.010,2,   -0.003,2,   -999.0,9,   -999.0,9,  -999.00,9, -999.00,  0.8663
     3250031_1,   P31,    18,  1,      1,      1,2,19940130,0238,-13.9005,-156.3200, 5084,   5178.3,   1.3082,  34.7040,2,  34.7068,3,    194.9,2,    195.9,2,   120.82,2,    32.37,2,     0.00,2,     2.27,2,    0.010,3,   -0.002,2,   -999.0,9,   -999.0,9,  -999.00,9, -999.00,  0.8587