BOTTLE,20020814WHPSIOdm
EXPOCODE,SECT_ID,STNNBR,CASTNO,SAMPNO,BTLNBR,BTLNBR_FLAG_W,DATE,TIME,LATITUDE,LONGITUDE,DEPTH,CTDPRS,CTDTMP,CTDSAL,CTDSAL_FLAG_W,SALNTY,SALNTY_FLAG_W,CTDOXY,CTDOXY_FLAG_W,OXYGEN,OXYGEN_FLAG_W,SILCAT,SILCAT_FLAG_W,NITRAT,NITRAT_FLAG_W,NITRIT,NITRIT_FLAG_W,PHSPHT,PHSPHT_FLAG_W,CFC-11,CFC-11_FLAG_W,CFC-12,CFC-12_FLAG_W,TCARBN,TCARBN_FLAG_W,ALKALI,ALKALI_FLAG_W,PH,PH_FLAG_W,PHTEMP,THETA
,,,,,,,,,,,,DBAR,ITS-90,PSS-78,,PSS-78,,UMOL/KG,,UMOL/KG,,UMOL/KG,,UMOL/KG,,UMOL/KG,,UMOL/KG,,PMOL/KG,,PMOL/KG,,UMOL/KG,,UMOL/KG,,,,DEG C,DEG C
     3250031_1,   P31,     9,  1,     36,     36,2,19940127,2111,-15.6177,-151.9675, 4498,      2.3,  29.6825,  35.9313,2,  35.9239,2,    189.2,2,    211.3,2,     1.81,2,     0.14,2,     0.00,2,     0.20,3, -999.000,9, -999.000,9,   1982.3,2,   2373.3,2,     8.15,2,   25.00, 29.6819
     3250031_1,   P31,     9,  1,     35,     35,2,19940127,2111,-15.6177,-151.9675, 4498,     16.5,  29.5150,  36.0175,2,  36.0354,2,    184.2,2,    196.9,2,     1.43,2,     0.14,2,     0.00,2,     0.20,3, -999.000,9, -999.000,9,   1983.5,2,   2380.8,2,     8.14,2,   25.00, 29.5109
     3250031_1,   P31,     9,  1,     34,     34,2,19940127,2111,-15.6177,-151.9675, 4498,     56.5,  28.2243,  36.1866,2,  36.1835,2,    211.5,2,    205.5,2,     1.40,2,     0.14,2,     0.00,2,     0.16,3, -999.000,9, -999.000,9,   1996.9,2,   -999.0,9,     8.15,2,   25.00, 28.2109
     3250031_1,   P31,     9,  1,     33,     33,2,19940127,2111,-15.6177,-151.9675, 4498,    106.4,  26.4274,  36.2177,2,  36.2101,2,    199.1,2,    206.9,2,     1.20,2,     0.14,2,     0.00,2,     0.18,3, -999.000,9, -999.000,9,   2008.2,2,   2392.6,2,     8.13,2,   25.00, 26.4033
     3250031_1,   P31,     9,  1,     32,     32,2,19940127,2111,-15.6177,-151.9675, 4498,    206.3,  22.5000,  36.2243,2,  36.2072,2,    177.0,2,    175.2,2,     1.36,2,     3.27,2,     0.04,2,     0.47,3, -999.000,9, -999.000,9,   2089.2,2,   -999.0,9,     8.01,2,   25.00, 22.4582
     3250031_1,   P31,     9,  1,     31,     31,2,19940127,2111,-15.6177,-151.9675, 4498,    306.2,  16.2944,  35.2775,2,  35.2699,2,    163.0,2,    164.3,2,     4.23,2,     9.31,2,     0.00,2,     0.85,3, -999.000,9, -999.000,9,   2105.7,2,   2329.7,2,     7.88,2,   25.00, 16.2451
     3250031_1,   P31,     9,  1,     30,     30,2,19940127,2111,-15.6177,-151.9675, 4498,    406.2,  11.2220,  34.7285,2,  34.7240,2,    138.1,2,    135.1,2,    12.88,2,    20.70,2,     0.00,2,     1.60,3, -999.000,9, -999.000,9,   2161.0,2,   -999.0,9,     7.70,2,   25.00, 11.1709
     3250031_1,   P31,     9,  1,     29,     29,2,19940127,2111,-15.6177,-151.9675, 4498,    506.1,   8.7096,  34.5629,2,  34.5579,2,    127.9,2,    124.6,2,    22.25,2,    27.52,2,     0.00,2,     2.03,3, -999.000,9, -999.000,9,   2195.0,2,   2302.2,2,     7.62,2,   25.00,  8.6550
     3250031_1,   P31,     9,  1,     28,     28,2,19940127,2111,-15.6177,-151.9675, 4498,    705.9,   6.0029,  34.4742,2,  34.4745,2,    137.8,2,    141.7,2,    40.48,2,    32.21,2,     0.00,2,     2.30,3, -999.000,9, -999.000,9,   2218.4,2,   -999.0,9,     7.59,2,   25.00,  5.9402
     3250031_1,   P31,     9,  1,     27,     27,2,19940127,2111,-15.6177,-151.9675, 4498,    905.7,   4.3910,  34.4981,2,  34.4996,2,    135.1,2,    138.6,2,    66.21,2,    34.99,2,     0.00,2,     2.49,3, -999.000,9, -999.000,9,   2252.1,2,   2347.5,2,     7.56,2,   25.00,  4.3204
     3250031_1,   P31,     9,  1,     26,     26,2,19940127,2111,-15.6177,-151.9675, 4498,   1156.3,   3.5178,  34.5384,2,  34.5380,2,    136.6,2,    139.3,2,    83.59,2,    35.69,2,     0.00,2,     2.54,3, -999.000,9, -999.000,9,   2272.2,2,   -999.0,9,     7.56,2,   25.00,  3.4332
     3250031_1,   P31,     9,  1,     25,     25,2,19940127,2111,-15.6177,-151.9675, 4498,   1407.0,   2.9722,  34.5686,2,  34.5692,2,    142.8,2,   -999.0,5,    95.08,2,    35.63,2,     0.00,2,     2.55,3, -999.000,9, -999.000,9,   2283.4,2,   2378.8,2,     7.56,2,   25.00,  2.8724
     3250031_1,   P31,     9,  1,     24,     24,2,19940127,2111,-15.6177,-151.9675, 4498,   1657.7,   2.5746,  34.5969,2,  34.5966,2,    146.6,2,    146.7,2,   104.47,2,    35.58,2,     0.00,2,     2.56,3, -999.000,9, -999.000,9,   2291.9,2,   -999.0,9,     7.56,2,   25.00,  2.4588
     3250031_1,   P31,     9,  1,     23,     23,2,19940127,2111,-15.6177,-151.9675, 4498,   1908.7,   2.2291,  34.6246,2,  34.6247,2,    149.2,2,    150.4,2,   113.06,2,    35.38,2,     0.00,2,     2.55,3, -999.000,9, -999.000,9,   2301.6,2,   2391.1,2,     7.57,2,   25.00,  2.0969
     3250031_1,   P31,     9,  1,     22,     22,2,19940127,2111,-15.6177,-151.9675, 4498,   2160.1,   2.0462,  34.6399,2,  34.6413,2,    154.7,2,    152.7,2,   117.89,2,    35.27,2,     0.00,2,     2.56,3, -999.000,9, -999.000,9,   2298.3,2,   -999.0,9,     7.58,2,   25.00,  1.8954
     3250031_1,   P31,     9,  1,     21,     21,2,19940127,2111,-15.6177,-151.9675, 4498,   2413.8,   1.9250,  34.6515,2,  34.6525,2,    155.0,2,    155.0,2,   121.78,2,    35.37,2,     0.00,2,     2.56,3, -999.000,9, -999.000,9,   2301.0,2,   2409.3,2,     7.58,2,   25.00,  1.7539
     3250031_1,   P31,     9,  1,     20,     20,2,19940127,2111,-15.6177,-151.9675, 4498,   2617.3,   1.8357,  34.6597,2,  34.6607,2,    157.9,2,    156.7,2,   123.92,2,    35.21,2,     0.00,2,     2.55,3, -999.000,9, -999.000,9,   2302.7,2,   -999.0,9,     7.58,2,   25.00,  1.6478
     3250031_1,   P31,     9,  1,     19,     19,2,19940127,2111,-15.6177,-151.9675, 4498,   2718.6,   1.7924,  34.6641,2,  34.6652,2,    160.3,2,    157.8,2,   124.88,2,    35.06,2,     0.00,2,     2.56,3, -999.000,9, -999.000,9,   2303.6,2,   2416.4,2,     7.58,2,   25.00,  1.5959
     3250031_1,   P31,     9,  1,     18,     18,2,19940127,2111,-15.6177,-151.9675, 4498,   2820.1,   1.7427,  34.6676,2,  34.6680,2,    161.0,2,    160.1,2,   125.05,2,    34.86,2,     0.00,2,     2.56,3, -999.000,9, -999.000,9,   2302.4,2,   -999.0,9,     7.59,2,   25.00,  1.5378
     3250031_1,   P31,     9,  1,     17,     17,2,19940127,2111,-15.6177,-151.9675, 4498,   2921.5,   1.7140,  34.6723,2,  34.6713,2,    162.2,2,    158.4,2,   127.61,2,    34.95,2,     0.00,2,     2.57,3, -999.000,9, -999.000,9,   2306.5,2,   2429.4,3,     7.59,2,   25.00,  1.5001
     3250031_1,   P31,     9,  1,     16,     16,2,19940127,2111,-15.6177,-151.9675, 4498,   3022.9,   1.6658,  34.6747,2,  34.6754,2,    164.7,2,    162.8,2,   126.78,2,    34.80,2,     0.00,2,     2.57,3, -999.000,9, -999.000,9,   2302.9,2,   2409.2,2,     7.59,2,   25.00,  1.4431
     3250031_1,   P31,     9,  1,     15,     15,2,19940127,2111,-15.6177,-151.9675, 4498,   3125.8,   1.6284,  34.6778,2,  34.6772,2,    163.1,2,    164.3,2,   127.74,2,    34.80,2,     0.00,2,     2.56,3, -999.000,9, -999.000,9,   2300.7,2,   2423.3,3,     7.59,2,   25.00,  1.3966
     3250031_1,   P31,     9,  1,     14,     14,2,19940127,2111,-15.6177,-151.9675, 4498,   3225.6,   1.6037,  34.6794,2,  34.6809,2,    165.0,2,    165.9,2,   126.91,2,    34.54,2,     0.00,2,     2.56,3, -999.000,9, -999.000,9,   2300.8,2,   -999.0,9,     7.59,2,   25.00,  1.3627
     3250031_1,   P31,     9,  1,     13,     13,2,19940127,2111,-15.6177,-151.9675, 4498,   3326.4,   1.5759,  34.6814,2,  34.6832,2,    169.1,2,    168.9,2,   126.27,2,    34.34,2,     0.00,2,     2.56,3, -999.000,9, -999.000,9,   -999.0,9,   2413.0,2,     7.59,2,   25.00,  1.3255
     3250031_1,   P31,     9,  1,     12,     12,2,19940127,2111,-15.6177,-151.9675, 4498,   3427.9,   1.5388,  34.6836,2,  34.6836,2,    172.8,2,    171.9,2,   124.64,2,    34.04,2,     0.00,2,     2.55,3, -999.000,9, -999.000,9,   -999.0,9,   -999.0,9,     7.59,2,   25.00,  1.2790
     3250031_1,   P31,     9,  1,     11,     11,2,19940127,2111,-15.6177,-151.9675, 4498,   3528.6,   1.5233,  34.6850,2,  34.6852,2,    174.0,2,    173.9,2,   124.01,2,    33.89,2,     0.00,2,     2.55,3, -999.000,9, -999.000,9,   -999.0,9,   2410.7,2,     7.60,2,   25.00,  1.2536
     3250031_1,   P31,     9,  1,     10,     10,2,19940127,2111,-15.6177,-151.9675, 4498,   3630.0,   1.4941,  34.6874,2,  34.6879,2,    175.8,2,    176.6,2,   123.78,2,    33.88,2,     0.00,2,     2.55,3, -999.000,9, -999.000,9,   -999.0,9,   -999.0,9,     7.60,2,   25.00,  1.2147
     3250031_1,   P31,     9,  1,      9,      9,2,19940127,2111,-15.6177,-151.9675, 4498,   3731.9,   1.4703,  34.6893,2,  34.6889,2,    178.1,2,    178.2,2,   123.75,2,    33.78,2,     0.00,2,     2.55,3, -999.000,9, -999.000,9,   -999.0,9,   2399.1,2,     7.60,2,   25.00,  1.1809
     3250031_1,   P31,     9,  1,      8,      8,2,19940127,2111,-15.6177,-151.9675, 4498,   3832.9,   1.4573,  34.6909,2,  34.6912,2,    179.3,2,    178.0,2,   123.12,2,    33.58,2,     0.00,2,     2.55,3, -999.000,9, -999.000,9,   -999.0,9,   -999.0,9,     7.64,3,   25.00,  1.1575
     3250031_1,   P31,     9,  1,      7,      7,2,19940127,2111,-15.6177,-151.9675, 4498,   3934.6,   1.4521,  34.6915,2,  34.6938,2,    180.5,2,    180.2,2,   122.49,2,    33.47,2,     0.00,2,     2.56,3, -999.000,9, -999.000,9,   -999.0,9,   2398.4,2,     7.60,2,   25.00,  1.1416
     3250031_1,   P31,     9,  1,      6,      6,2,19940127,2111,-15.6177,-151.9675, 4498,   4036.2,   1.4478,  34.6924,2,  34.6931,2,    181.5,2,    181.4,2,   122.26,2,    33.42,2,     0.00,2,     2.56,3, -999.000,9, -999.000,9,   -999.0,9,   -999.0,9,     7.60,2,   25.00,  1.1264
     3250031_1,   P31,     9,  1,      5,      5,2,19940127,2111,-15.6177,-151.9675, 4498,   4137.9,   1.4408,  34.6933,2,  34.6935,2,    182.6,2,    182.2,2,   122.82,2,    33.52,2,     0.00,2,     2.56,3, -999.000,9, -999.000,9,   -999.0,9,   2407.8,2,     7.60,2,   25.00,  1.1085
     3250031_1,   P31,     9,  1,      4,      4,2,19940127,2111,-15.6177,-151.9675, 4498,   4239.0,   1.4379,  34.6942,2,  34.6943,2,    183.8,2,    182.7,2,   122.98,2,    33.51,2,     0.00,2,     2.57,3, -999.000,9, -999.000,9,   -999.0,9,   -999.0,9,  -999.00,9, -999.00,  1.0944
     3250031_1,   P31,     9,  1,      3,      3,2,19940127,2111,-15.6177,-151.9675, 4498,   4340.8,   1.4267,  34.6951,2,  34.6953,2,    185.4,2,    184.5,2,   122.55,2,    33.26,2,     0.00,2,     2.58,3, -999.000,9, -999.000,9,   -999.0,9,   2405.3,2,  -999.00,9, -999.00,  1.0721
     3250031_1,   P31,     9,  1,      2,      2,2,19940127,2111,-15.6177,-151.9675, 4498,   4442.9,   1.4074,  34.6964,2,  34.6962,2,    183.9,3,    185.6,2,   121.93,2,    33.06,2,     0.00,2,     2.57,3, -999.000,9, -999.000,9,   -999.0,9,   -999.0,9,     7.60,2,   25.00,  1.0417
     3250031_1,   P31,     9,  1,      1,      1,2,19940127,2111,-15.6177,-151.9675, 4498,   4565.4,   1.3751,  34.6987,2,  34.7019,3,    181.8,3,    188.1,2,   121.30,2,    32.91,2,     0.00,2,     2.57,3, -999.000,9, -999.000,9,   -999.0,9,   2387.1,2,     7.61,2,   25.00,  0.9964