BOTTLE,20020814WHPSIOdm
EXPOCODE,SECT_ID,STNNBR,CASTNO,SAMPNO,BTLNBR,BTLNBR_FLAG_W,DATE,TIME,LATITUDE,LONGITUDE,DEPTH,CTDPRS,CTDTMP,CTDSAL,CTDSAL_FLAG_W,SALNTY,SALNTY_FLAG_W,CTDOXY,CTDOXY_FLAG_W,OXYGEN,OXYGEN_FLAG_W,SILCAT,SILCAT_FLAG_W,NITRAT,NITRAT_FLAG_W,NITRIT,NITRIT_FLAG_W,PHSPHT,PHSPHT_FLAG_W,CFC-11,CFC-11_FLAG_W,CFC-12,CFC-12_FLAG_W,TCARBN,TCARBN_FLAG_W,ALKALI,ALKALI_FLAG_W,PH,PH_FLAG_W,PHTEMP,THETA
,,,,,,,,,,,,DBAR,ITS-90,PSS-78,,PSS-78,,UMOL/KG,,UMOL/KG,,UMOL/KG,,UMOL/KG,,UMOL/KG,,UMOL/KG,,PMOL/KG,,PMOL/KG,,UMOL/KG,,UMOL/KG,,,,DEG C,DEG C
     3250031_1,   P31,    28,  1,     36,     36,2,19940201,1340,-12.0493,-160.9005, 3795,      2.2,  29.7474,  35.2568,2,  35.2566,2,    190.4,2,    193.0,2,     1.01,2,     0.00,2,     0.00,2,     0.18,2,    1.552,2,    0.861,2,   -999.0,9,   -999.0,9,  -999.00,9, -999.00, 29.7469
     3250031_1,   P31,    28,  1,     35,     35,2,19940201,1340,-12.0493,-160.9005, 3795,     15.0,  29.6500,  35.2811,2,  35.2807,2,    193.2,2,    193.3,2,     0.81,2,     0.00,2,     0.00,2,     0.18,2,    1.567,2,    0.882,2,   -999.0,9,   -999.0,9,  -999.00,9, -999.00, 29.6464
     3250031_1,   P31,    28,  1,     34,     34,2,19940201,1340,-12.0493,-160.9005, 3795,     55.0,  29.1591,  35.8889,2,  35.8681,2,    204.1,2,    202.4,2,     0.62,2,     0.00,2,     0.00,2,     0.19,2,    1.638,6,    0.903,6,   -999.0,9,   -999.0,9,  -999.00,9, -999.00, 29.1457
     3250031_1,   P31,    28,  1,     33,     33,2,19940201,1340,-12.0493,-160.9005, 3795,    105.3,  25.8893,  36.3594,2,  36.3696,2,    185.7,3,    187.6,2,     0.61,2,     0.09,2,     0.02,2,     0.29,2,    1.786,2,    0.978,2,   -999.0,9,   -999.0,9,  -999.00,9, -999.00, 25.8658
     3250031_1,   P31,    28,  1,     32,     32,2,19940201,1340,-12.0493,-160.9005, 3795,    204.4,  19.9392,  35.8053,2,  35.7838,2,    173.2,2,    163.0,2,     1.51,2,     5.99,2,     0.01,2,     0.67,2,    1.851,3,    0.947,2,   -999.0,9,   -999.0,9,  -999.00,9, -999.00, 19.9013
     3250031_1,   P31,    28,  1,     31,     31,2,19940201,1340,-12.0493,-160.9005, 3795,    304.8,  13.2426,  34.9277,2,  34.9199,2,    124.1,2,    119.9,2,     9.92,2,    17.68,2,     0.00,2,     1.48,2,    0.936,2,    0.472,2,   -999.0,9,   -999.0,9,  -999.00,9, -999.00, 13.2000
     3250031_1,   P31,    28,  1,     30,     30,2,19940201,1340,-12.0493,-160.9005, 3795,    401.3,   9.4771,  34.6398,2,  34.6394,2,    107.3,2,    110.6,2,    21.08,2,    26.69,2,     0.00,2,     1.98,2,    0.212,2,    0.123,2,   -999.0,9,   -999.0,9,  -999.00,9, -999.00,  9.4318
     3250031_1,   P31,    28,  1,     29,     29,2,19940201,1340,-12.0493,-160.9005, 3795,    500.3,   7.7842,  34.5769,2,  34.5745,2,    114.2,2,    108.7,2,    31.32,2,    31.45,2,     0.00,2,     2.22,2,    0.063,2,    0.014,2,   -999.0,9,   -999.0,9,  -999.00,9, -999.00,  7.7337
     3250031_1,   P31,    28,  1,     28,     28,2,19940201,1340,-12.0493,-160.9005, 3795,    601.0,   6.3499,  34.5091,2,  34.5100,2,    121.7,2,    126.9,2,    40.29,2,    32.82,2,     0.00,2,     2.29,2,    0.036,2,    0.013,2,   -999.0,9,   -999.0,9,  -999.00,9, -999.00,  6.2954
     3250031_1,   P31,    28,  1,     27,     27,2,19940201,1340,-12.0493,-160.9005, 3795,    698.1,   5.7386,  34.5041,2,  34.5039,2,    122.5,2,    119.3,2,    49.07,2,    34.79,2,     0.00,2,     2.43,2,    0.021,2,    0.023,2,   -999.0,9,   -999.0,9,  -999.00,9, -999.00,  5.6781
     3250031_1,   P31,    28,  1,     26,     26,2,19940201,1340,-12.0493,-160.9005, 3795,    790.4,   5.2586,  34.5000,2,  34.5012,2,    122.3,2,    120.1,2,    56.03,2,    35.45,2,     0.00,2,     2.48,2,    0.013,2,    0.003,2,   -999.0,9,   -999.0,9,  -999.00,9, -999.00,  5.1924
     3250031_1,   P31,    28,  1,     25,     25,2,19940201,1340,-12.0493,-160.9005, 3795,    982.7,   4.6828,  34.5115,2,  34.5108,2,    118.9,2,    116.8,2,    67.07,2,    36.44,2,     0.00,2,     2.56,2,    0.010,2,   -0.001,2,   -999.0,9,   -999.0,9,  -999.00,9, -999.00,  4.6034
     3250031_1,   P31,    28,  1,     24,     24,2,19940201,1340,-12.0493,-160.9005, 3795,   1183.0,   3.8098,  34.5373,2,  34.5364,2,    126.9,2,    125.6,2,    82.81,2,    36.41,2,     0.00,2,     2.57,2, -999.000,9, -999.000,9,   -999.0,9,   -999.0,9,  -999.00,9, -999.00,  3.7203
     3250031_1,   P31,    28,  1,     23,     23,2,19940201,1340,-12.0493,-160.9005, 3795,   1383.0,   3.1822,  34.5661,2,  34.5649,2,    130.4,2,    132.5,2,    94.81,2,    36.28,2,     0.00,2,     2.56,2, -999.000,9, -999.000,9,   -999.0,9,   -999.0,9,  -999.00,9, -999.00,  3.0821
     3250031_1,   P31,    28,  1,     22,     22,2,19940201,1340,-12.0493,-160.9005, 3795,   1585.1,   2.7946,  34.5874,2,  34.5885,2,    136.7,2,    138.5,2,   102.59,2,    35.99,2,     0.00,2,     2.54,2, -999.000,9, -999.000,9,   -999.0,9,   -999.0,9,  -999.00,9, -999.00,  2.6820
     3250031_1,   P31,    28,  1,     21,     21,2,19940201,1340,-12.0493,-160.9005, 3795,   1792.7,   2.4712,  34.6085,2,  34.6113,2,    143.5,2,    142.7,2,   109.69,2,    35.81,2,     0.00,2,     2.52,2, -999.000,9, -999.000,9,   -999.0,9,   -999.0,9,  -999.00,9, -999.00,  2.3454
     3250031_1,   P31,    28,  1,     20,     20,2,19940201,1340,-12.0493,-160.9005, 3795,   2002.3,   2.1479,  34.6332,2,  34.6323,2,    143.4,2,    146.5,2,   117.87,2,    35.63,2,     0.00,2,     2.50,2,    0.020,4,    0.003,2,   -999.0,9,   -999.0,9,  -999.00,9, -999.00,  2.0090
     3250031_1,   P31,    28,  1,     19,     19,2,19940201,1340,-12.0493,-160.9005, 3795,   2104.3,   2.0559,  34.6415,2,  34.6430,2,    147.0,2,    147.3,2,   121.01,2,    35.59,2,     0.00,2,     2.50,2, -999.000,9, -999.000,9,   -999.0,9,   -999.0,9,  -999.00,9, -999.00,  1.9097
     3250031_1,   P31,    28,  1,     18,     18,2,19940201,1340,-12.0493,-160.9005, 3795,   2204.2,   2.0069,  34.6465,2,  34.6481,2,    145.4,2,    147.7,2,   122.78,2,    35.61,2,     0.00,2,     2.50,2, -999.000,9, -999.000,9,   -999.0,9,   -999.0,9,  -999.00,9, -999.00,  1.8529
     3250031_1,   P31,    28,  1,     17,     17,3,19940201,1340,-12.0493,-160.9005, 3795,   2306.7,   1.9407,  34.6528,2,  34.6992,4,    147.2,2,    140.4,4,   102.67,4,    33.21,4,     0.00,4,     2.36,4, -999.000,9, -999.000,9,   -999.0,9,   -999.0,9,  -999.00,9, -999.00,  1.7788
     3250031_1,   P31,    28,  1,     16,     16,2,19940201,1340,-12.0493,-160.9005, 3795,   2406.6,   1.8722,  34.6588,2,  34.6609,2,    147.6,2,    148.9,2,   127.15,2,    35.54,2,     0.00,2,     2.49,2, -999.000,9, -999.000,9,   -999.0,9,   -999.0,9,  -999.00,9, -999.00,  1.7027
     3250031_1,   P31,    28,  1,     15,     15,2,19940201,1340,-12.0493,-160.9005, 3795,   2507.8,   1.8377,  34.6616,2,  34.6631,2,    150.3,2,    149.3,2,   128.74,2,    35.50,2,     0.00,2,     2.50,2, -999.000,9, -999.000,9,   -999.0,9,   -999.0,9,  -999.00,9, -999.00,  1.6597
     3250031_1,   P31,    28,  1,     14,     14,2,19940201,1340,-12.0493,-160.9005, 3795,   2608.0,   1.8203,  34.6640,2,  34.6653,2,    149.8,2,    149.8,2,   129.33,2,    35.46,2,     0.00,2,     2.50,2, -999.000,9, -999.000,9,   -999.0,9,   -999.0,9,  -999.00,9, -999.00,  1.6335
     3250031_1,   P31,    28,  1,     13,     13,2,19940201,1340,-12.0493,-160.9005, 3795,   2708.8,   1.7751,  34.6678,2,  34.6701,3,    152.7,2,    150.8,2,   130.52,2,    35.48,2,     0.00,2,     2.49,2, -999.000,9, -999.000,9,   -999.0,9,   -999.0,9,  -999.00,9, -999.00,  1.5799
     3250031_1,   P31,    28,  1,     12,     12,2,19940201,1340,-12.0493,-160.9005, 3795,   2809.0,   1.7565,  34.6698,2,  34.6705,2,    150.7,2,    151.4,2,   131.52,2,    35.49,2,     0.00,2,     2.49,2, -999.000,9, -999.000,9,   -999.0,9,   -999.0,9,  -999.00,9, -999.00,  1.5523
     3250031_1,   P31,    28,  1,     11,     11,2,19940201,1340,-12.0493,-160.9005, 3795,   2909.2,   1.7158,  34.6724,2,  34.6736,2,    155.4,2,    153.8,2,   131.90,2,    35.36,2,     0.00,2,     2.48,2, -999.000,9, -999.000,9,   -999.0,9,   -999.0,9,  -999.00,9, -999.00,  1.5030
     3250031_1,   P31,    28,  1,     10,     10,2,19940201,1340,-12.0493,-160.9005, 3795,   3008.3,   1.6899,  34.6743,2,  34.6739,2,    157.0,2,    155.1,2,   131.67,2,    35.22,2,     0.00,2,     2.48,2,    0.015,3,   -0.004,2,   -999.0,9,   -999.0,9,  -999.00,9, -999.00,  1.4681
     3250031_1,   P31,    28,  1,      9,      9,2,19940201,1340,-12.0493,-160.9005, 3795,   3107.7,   1.6624,  34.6762,2,  34.6759,2,    156.6,2,    157.3,2,   131.24,2,    35.14,2,     0.00,2,     2.47,2, -999.000,9, -999.000,9,   -999.0,9,   -999.0,9,  -999.00,9, -999.00,  1.4316
     3250031_1,   P31,    28,  1,      8,      8,2,19940201,1340,-12.0493,-160.9005, 3795,   3206.7,   1.6448,  34.6771,2,  34.6781,2,    159.0,2,    158.3,2,   131.21,2,    35.01,2,     0.00,2,     2.47,2, -999.000,9, -999.000,9,   -999.0,9,   -999.0,9,  -999.00,9, -999.00,  1.4046
     3250031_1,   P31,    28,  1,      7,      7,2,19940201,1340,-12.0493,-160.9005, 3795,   3308.2,   1.6311,  34.6784,2,  34.6796,2,    159.5,2,    159.6,2,   131.19,2,    34.92,2,     0.00,2,     2.46,2, -999.000,9, -999.000,9,   -999.0,9,   -999.0,9,  -999.00,9, -999.00,  1.3812
     3250031_1,   P31,    28,  1,      6,      6,2,19940201,1340,-12.0493,-160.9005, 3795,   3409.5,   1.6111,  34.6802,2,  34.6807,2,    161.5,2,    161.1,2,   130.96,2,    34.84,2,     0.00,2,     2.45,2,    0.014,4,    0.018,4,   -999.0,9,   -999.0,9,  -999.00,9, -999.00,  1.3514
     3250031_1,   P31,    28,  1,      5,      5,2,19940201,1340,-12.0493,-160.9005, 3795,   3511.9,   1.6000,  34.6811,2,  34.6819,2,    162.1,2,    163.1,2,   130.12,2,    34.70,2,     0.00,2,     2.44,2,    0.018,3,    0.003,2,   -999.0,9,   -999.0,9,  -999.00,9, -999.00,  1.3301
     3250031_1,   P31,    28,  1,      4,      4,2,19940201,1340,-12.0493,-160.9005, 3795,   3617.7,   1.5655,  34.6830,2,  34.6839,2,    165.8,2,    166.4,2,   128.48,2,    34.47,2,     0.00,2,     2.43,2,    0.006,2,    0.002,2,   -999.0,9,   -999.0,9,  -999.00,9, -999.00,  1.2856
     3250031_1,   P31,    28,  1,      3,      3,2,19940201,1340,-12.0493,-160.9005, 3795,   3720.9,   1.5453,  34.6846,2,  34.6859,2,    167.8,2,    168.5,2,   128.25,2,    34.19,2,     0.00,2,     2.42,2,    0.009,2,    0.000,2,   -999.0,9,   -999.0,9,  -999.00,9, -999.00,  1.2550
     3250031_1,   P31,    28,  1,      2,      2,2,19940201,1340,-12.0493,-160.9005, 3795,   3823.9,   1.5174,  34.6863,2,  34.6876,2,    170.1,2,    171.4,2,   127.62,2,    34.10,2,     0.00,2,     2.41,2,    0.000,2,   -0.004,2,   -999.0,9,   -999.0,9,  -999.00,9, -999.00,  1.2170
     3250031_1,   P31,    28,  1,      1,      1,2,19940201,1340,-12.0493,-160.9005, 3795,   3954.7,   1.4875,  34.6883,2,  34.6898,2,    174.7,2,    173.7,2,   126.79,2,    33.92,2,     0.00,2,     2.40,2,    0.008,2,   -0.003,2,   -999.0,9,   -999.0,9,  -999.00,9, -999.00,  1.1738
     3250031_1,   P31,    29,  1,     24,     24,2,19940201,1941,-11.9127,-161.2020, 2829,      3.2,  29.7778,  35.1128,2,  35.1120,2,    208.2,3,    193.3,2,     1.76,2,     0.00,2,     0.00,2,     0.19,2, -999.000,9, -999.000,9,   -999.0,9,   -999.0,9,  -999.00,9, -999.00, 29.7770
     3250031_1,   P31,    29,  1,     23,     23,2,19940201,1941,-11.9127,-161.2020, 2829,     14.1,  29.6713,  35.1316,2,  35.1071,2,    198.9,3,    193.4,2,     1.73,2,     0.00,2,     0.00,2,     0.19,2, -999.000,9, -999.000,9,   -999.0,9,   -999.0,9,  -999.00,9, -999.00, 29.6678
     3250031_1,   P31,    29,  1,     22,     22,2,19940201,1941,-11.9127,-161.2020, 2829,     54.0,  28.6005,  36.0654,2,  36.0561,2,    202.3,3,    204.6,2,     1.52,2,     0.00,2,     0.00,2,     0.20,2, -999.000,9, -999.000,9,   -999.0,9,   -999.0,9,  -999.00,9, -999.00, 28.5875
     3250031_1,   P31,    29,  1,     21,     21,2,19940201,1941,-11.9127,-161.2020, 2829,    103.7,  26.4763,  36.2688,2,  36.2656,2,    192.5,3,    197.3,2,     1.31,2,     0.00,2,     0.00,2,     0.24,2, -999.000,9, -999.000,9,   -999.0,9,   -999.0,9,  -999.00,9, -999.00, 26.4528
     3250031_1,   P31,    29,  1,     20,     20,2,19940201,1941,-11.9127,-161.2020, 2829,    204.0,  21.3123,  36.0287,2,  36.0003,2,    157.3,3,    165.1,2,     1.82,2,     4.96,2,     0.02,2,     0.62,2, -999.000,9, -999.000,9,   -999.0,9,   -999.0,9,  -999.00,9, -999.00, 21.2726
     3250031_1,   P31,    29,  1,     19,     19,2,19940201,1941,-11.9127,-161.2020, 2829,    303.6,  13.8899,  35.0040,2,  34.9926,2,    130.8,2,    125.4,2,     9.40,2,    16.01,2,     0.00,2,     1.39,2, -999.000,9, -999.000,9,   -999.0,9,   -999.0,9,  -999.00,9, -999.00, 13.8461
     3250031_1,   P31,    29,  1,     18,     18,2,19940201,1941,-11.9127,-161.2020, 2829,    404.2,   9.1551,  34.6228,2,  34.6228,2,    112.6,2,    114.7,2,    22.60,2,    27.04,2,     0.00,2,     2.00,2, -999.000,9, -999.000,9,   -999.0,9,   -999.0,9,  -999.00,9, -999.00,  9.1104
     3250031_1,   P31,    29,  1,     17,     17,2,19940201,1941,-11.9127,-161.2020, 2829,    504.1,   7.3483,  34.5550,2,  34.5546,2,    114.8,2,    112.8,2,    34.17,2,    32.01,2,     0.00,2,     2.25,2, -999.000,9, -999.000,9,   -999.0,9,   -999.0,9,  -999.00,9, -999.00,  7.2991
     3250031_1,   P31,    29,  1,     16,     16,2,19940201,1941,-11.9127,-161.2020, 2829,    603.2,   6.5251,  34.5344,2,  34.5352,2,    103.9,2,    102.4,2,    43.22,2,    35.02,2,     0.00,2,     2.43,2, -999.000,9, -999.000,9,   -999.0,9,   -999.0,9,  -999.00,9, -999.00,  6.4695
     3250031_1,   P31,    29,  1,     15,     15,2,19940201,1941,-11.9127,-161.2020, 2829,    704.1,   5.6865,  34.5115,2,  34.5111,2,    107.9,2,    107.5,2,    52.28,2,    36.12,2,     0.00,2,     2.52,2, -999.000,9, -999.000,9,   -999.0,9,   -999.0,9,  -999.00,9, -999.00,  5.6256
     3250031_1,   P31,    29,  1,     14,     14,2,19940201,1941,-11.9127,-161.2020, 2829,    804.2,   5.2988,  34.5146,2,  34.5152,2,    101.5,2,    100.6,2,    59.54,2,    37.47,2,     0.00,2,     2.61,2, -999.000,9, -999.000,9,   -999.0,9,   -999.0,9,  -999.00,9, -999.00,  5.2311
     3250031_1,   P31,    29,  1,     13,     13,2,19940201,1941,-11.9127,-161.2020, 2829,   1004.5,   4.4477,  34.5172,2,  34.5205,2,    113.7,2,    114.6,2,    71.95,2,    37.09,2,     0.00,2,     2.59,2, -999.000,9, -999.000,9,   -999.0,9,   -999.0,9,  -999.00,9, -999.00,  4.3682
     3250031_1,   P31,    29,  1,     12,     12,2,19940201,1941,-11.9127,-161.2020, 2829,   1205.2,   3.6402,  34.5485,2,  34.5502,2,    121.6,2,    121.5,2,    88.74,2,    37.16,2,     0.00,2,     2.60,2, -999.000,9, -999.000,9,   -999.0,9,   -999.0,9,  -999.00,9, -999.00,  3.5504
     3250031_1,   P31,    29,  1,     11,     11,2,19940201,1941,-11.9127,-161.2020, 2829,   1405.3,   3.1069,  34.5745,2,  34.5732,2,    126.8,2,    127.9,2,    99.78,2,    36.87,2,     0.00,2,     2.58,2, -999.000,9, -999.000,9,   -999.0,9,   -999.0,9,  -999.00,9, -999.00,  3.0057
     3250031_1,   P31,    29,  1,     10,     10,3,19940201,1941,-11.9127,-161.2020, 2829,   1606.1,   2.6711,  34.5984,2,  34.6512,4,    136.4,2,    128.3,4,    89.62,4,    34.07,4,     0.00,4,     2.40,4, -999.000,9, -999.000,9,   -999.0,9,   -999.0,9,  -999.00,9, -999.00,  2.5583
     3250031_1,   P31,    29,  1,      9,      9,2,19940201,1941,-11.9127,-161.2020, 2829,   1804.6,   2.3850,  34.6145,2,  34.6133,2,    144.2,2,    144.8,2,   112.37,2,    35.87,2,     0.00,2,     2.50,2, -999.000,9, -999.000,9,   -999.0,9,   -999.0,9,  -999.00,9, -999.00,  2.2593
     3250031_1,   P31,    29,  1,      8,      8,2,19940201,1941,-11.9127,-161.2020, 2829,   2004.7,   2.1327,  34.6341,2,  34.6353,2,    146.8,2,    147.4,2,   118.79,2,    35.69,2,     0.00,2,     2.48,2, -999.000,9, -999.000,9,   -999.0,9,   -999.0,9,  -999.00,9, -999.00,  1.9939
     3250031_1,   P31,    29,  1,      7,      7,2,19940201,1941,-11.9127,-161.2020, 2829,   2205.2,   1.9937,  34.6472,2,  34.6481,2,    145.8,2,    147.9,2,   123.71,2,    35.75,2,     0.00,2,     2.48,2, -999.000,9, -999.000,9,   -999.0,9,   -999.0,9,  -999.00,9, -999.00,  1.8398
     3250031_1,   P31,    29,  1,      6,      6,2,19940201,1941,-11.9127,-161.2020, 2829,   2306.8,   1.9426,  34.6530,2,  34.6538,2,    146.3,2,    147.7,2,   125.89,2,    35.72,2,     0.00,2,     2.48,2, -999.000,9, -999.000,9,   -999.0,9,   -999.0,9,  -999.00,9, -999.00,  1.7806
     3250031_1,   P31,    29,  1,      5,      5,2,19940201,1941,-11.9127,-161.2020, 2829,   2407.5,   1.8788,  34.6584,2,  34.6585,2,    148.9,2,    148.4,2,   128.49,2,    35.78,2,     0.00,2,     2.48,2, -999.000,9, -999.000,9,   -999.0,9,   -999.0,9,  -999.00,9, -999.00,  1.7091
     3250031_1,   P31,    29,  1,      4,      4,2,19940201,1941,-11.9127,-161.2020, 2829,   2508.2,   1.8589,  34.6608,2,  34.6609,2,    148.3,2,    148.3,2,   129.28,2,    35.75,2,     0.00,2,     2.48,2, -999.000,9, -999.000,9,   -999.0,9,   -999.0,9,  -999.00,9, -999.00,  1.6805
     3250031_1,   P31,    29,  1,      3,      3,2,19940201,1941,-11.9127,-161.2020, 2829,   2608.5,   1.8298,  34.6636,2,  34.6647,2,    149.5,2,    149.8,2,   130.07,2,    35.62,2,     0.00,2,     2.47,2, -999.000,9, -999.000,9,   -999.0,9,   -999.0,9,  -999.00,9, -999.00,  1.6428
     3250031_1,   P31,    29,  1,      2,      2,2,19940201,1941,-11.9127,-161.2020, 2829,   2709.8,   1.7840,  34.6671,2,  34.6678,2,    151.5,2,    150.2,2,   131.48,2,    35.63,2,     0.00,2,     2.47,2, -999.000,9, -999.000,9,   -999.0,9,   -999.0,9,  -999.00,9, -999.00,  1.5885
     3250031_1,   P31,    29,  1,      1,      1,2,19940201,1941,-11.9127,-161.2020, 2829,   2829.6,   1.7355,  34.6710,2,  34.6722,2,    151.1,2,    151.8,2,   133.10,2,    35.55,2,     0.00,2,     2.45,2, -999.000,9, -999.000,9,   -999.0,9,   -999.0,9,  -999.00,9, -999.00,  1.5298