BOTTLE,20020814WHPSIOdm
EXPOCODE,SECT_ID,STNNBR,CASTNO,SAMPNO,BTLNBR,BTLNBR_FLAG_W,DATE,TIME,LATITUDE,LONGITUDE,DEPTH,CTDPRS,CTDTMP,CTDSAL,CTDSAL_FLAG_W,SALNTY,SALNTY_FLAG_W,CTDOXY,CTDOXY_FLAG_W,OXYGEN,OXYGEN_FLAG_W,SILCAT,SILCAT_FLAG_W,NITRAT,NITRAT_FLAG_W,NITRIT,NITRIT_FLAG_W,PHSPHT,PHSPHT_FLAG_W,CFC-11,CFC-11_FLAG_W,CFC-12,CFC-12_FLAG_W,TCARBN,TCARBN_FLAG_W,ALKALI,ALKALI_FLAG_W,PH,PH_FLAG_W,PHTEMP,THETA
,,,,,,,,,,,,DBAR,ITS-90,PSS-78,,PSS-78,,UMOL/KG,,UMOL/KG,,UMOL/KG,,UMOL/KG,,UMOL/KG,,UMOL/KG,,PMOL/KG,,PMOL/KG,,UMOL/KG,,UMOL/KG,,,,DEG C,DEG C
     3250031_1,   P31,   101,  1,     36,     36,2,19940211,0453, -8.0172,-168.6365, 5231,      3.1,  29.6709,  34.8902,2,  34.8916,2,    197.5,2,    193.0,2,     1.94,2,     0.19,2,     0.00,2,     0.20,2, -999.000,9, -999.000,9,   1928.5,2,   -999.0,9,     8.15,2,   25.00, 29.6701
     3250031_1,   P31,   101,  1,     35,     35,2,19940211,0453, -8.0172,-168.6365, 5231,     13.8,  29.6741,  34.8921,2,  34.8914,2,    200.9,2,    192.9,2,     1.74,2,     0.19,2,     0.00,2,     0.20,2, -999.000,9, -999.000,9,   1928.7,2,   -999.0,9,     8.15,2,   25.00, 29.6707
     3250031_1,   P31,   101,  1,     34,     34,2,19940211,0453, -8.0172,-168.6365, 5231,     58.9,  29.6618,  35.2892,2,  35.2907,2,    168.8,2,    194.4,2,     1.91,2,     0.19,2,     0.00,2,     0.23,2, -999.000,9, -999.000,9,   1954.7,2,   2324.3,2,  -999.00,9, -999.00, 29.6473
     3250031_1,   P31,   101,  1,     33,     33,2,19940211,0453, -8.0172,-168.6365, 5231,    109.0,  28.8360,  35.5627,2,  35.5597,2,    186.2,2,    180.3,2,     2.08,2,     1.26,2,     0.38,2,     0.40,2, -999.000,9, -999.000,9,   1996.9,2,   2342.2,2,     8.10,2,   25.00, 28.8097
     3250031_1,   P31,   101,  1,     32,     32,2,19940211,0453, -8.0172,-168.6365, 5231,    209.0,  21.6902,  35.9887,2,  35.9881,2,    142.3,2,    139.1,2,     3.18,2,     8.66,2,     0.02,2,     0.85,2, -999.000,9, -999.000,9,   -999.0,9,   -999.0,9,  -999.00,9, -999.00, 21.6491
     3250031_1,   P31,   101,  1,     31,     31,2,19940211,0453, -8.0172,-168.6365, 5231,    310.0,  13.1452,  35.0186,2,  35.0027,2,     88.6,2,     88.4,2,    15.53,2,    22.69,2,     0.00,2,     1.72,2, -999.000,9, -999.000,9,   -999.0,9,   -999.0,9,  -999.00,9, -999.00, 13.1021
     3250031_1,   P31,   101,  1,     30,     30,2,19940211,0453, -8.0172,-168.6365, 5231,    409.9,   9.5699,  34.7099,2,  34.7065,2,    104.7,2,    106.8,2,    25.26,2,    28.28,2,     0.00,2,     1.98,2, -999.000,9, -999.000,9,   -999.0,9,   -999.0,9,  -999.00,9, -999.00,  9.5233
     3250031_1,   P31,   101,  1,     29,     29,2,19940211,0453, -8.0172,-168.6365, 5231,    604.4,   6.8720,  34.5498,2,  34.5497,2,    117.6,2,    119.6,2,    39.87,2,    32.74,2,     0.00,2,     2.25,2, -999.000,9, -999.000,9,   -999.0,9,   -999.0,9,  -999.00,9, -999.00,  6.8148
     3250031_1,   P31,   101,  1,     28,     28,2,19940211,0453, -8.0172,-168.6365, 5231,    809.4,   5.5850,  34.5362,2,  34.5366,2,     84.9,2,     85.6,2,    61.84,2,    38.71,2,     0.00,2,     2.67,2, -999.000,9, -999.000,9,   -999.0,9,   -999.0,9,  -999.00,9, -999.00,  5.5151
     3250031_1,   P31,   101,  1,     27,     27,2,19940211,0453, -8.0172,-168.6365, 5231,   1008.7,   4.6084,  34.5366,2,  34.5368,2,    100.2,2,     99.5,2,    77.13,2,    38.36,2,     0.00,2,     2.66,2, -999.000,9, -999.000,9,   -999.0,9,   -999.0,9,  -999.00,9, -999.00,  4.5273
     3250031_1,   P31,   101,  1,     26,     26,2,19940211,0453, -8.0172,-168.6365, 5231,   1263.4,   3.6227,  34.5589,2,  34.5596,2,    121.3,2,    119.7,2,    93.37,2,    37.28,2,     0.00,2,     2.59,2, -999.000,9, -999.000,9,   -999.0,9,   -999.0,9,  -999.00,9, -999.00,  3.5282
     3250031_1,   P31,   101,  1,     25,     25,2,19940211,0453, -8.0172,-168.6365, 5231,   1517.4,   2.9345,  34.5892,2,  34.5901,2,    126.3,2,    126.6,2,   107.35,2,    37.18,2,     0.00,2,     2.57,2, -999.000,9, -999.000,9,   -999.0,9,   -999.0,9,  -999.00,9, -999.00,  2.8259
     3250031_1,   P31,   101,  1,     24,     24,2,19940211,0453, -8.0172,-168.6365, 5231,   1771.5,   2.5157,  34.6165,2,  34.6170,2,    128.4,2,    126.6,2,   119.65,2,    37.33,2,     0.00,2,     2.58,2, -999.000,9, -999.000,9,   -999.0,9,   -999.0,9,  -999.00,9, -999.00,  2.3910
     3250031_1,   P31,   101,  1,     23,     23,2,19940211,0453, -8.0172,-168.6365, 5231,   2026.7,   2.2090,  34.6388,2,  34.6364,3,    128.6,2,    127.4,2,   129.40,2,    37.43,2,     0.00,2,     2.58,2, -999.000,9, -999.000,9,   -999.0,9,   -999.0,9,  -999.00,9, -999.00,  2.0671
     3250031_1,   P31,   101,  1,     22,     22,2,19940211,0453, -8.0172,-168.6365, 5231,   2277.3,   2.0469,  34.6493,2,  34.6492,2,    133.2,2,    131.4,2,   132.90,2,    37.18,2,     0.00,2,     2.56,2, -999.000,9, -999.000,9,   -999.0,9,   -999.0,9,  -999.00,9, -999.00,  1.8858
     3250031_1,   P31,   101,  1,     21,     21,2,19940211,0453, -8.0172,-168.6365, 5231,   2530.7,   1.8735,  34.6597,2,  34.6597,2,    142.0,2,    139.9,2,   134.35,2,    36.66,2,     0.00,2,     2.52,2, -999.000,9, -999.000,9,   -999.0,9,   -999.0,9,  -999.00,9, -999.00,  1.6928
     3250031_1,   P31,   101,  1,     20,     20,2,19940211,0453, -8.0172,-168.6365, 5231,   2787.6,   1.7563,  34.6689,2,  34.6693,2,    143.4,2,    143.0,2,   137.69,2,    36.46,2,     0.00,2,     2.50,2, -999.000,9, -999.000,9,   -999.0,9,   -999.0,9,  -999.00,9, -999.00,  1.5541
     3250031_1,   P31,   101,  1,     19,     19,2,19940211,0453, -8.0172,-168.6365, 5231,   3040.7,   1.6624,  34.6752,2,  34.6758,2,    149.1,2,    149.8,2,   137.25,2,    35.90,2,     0.00,2,     2.48,2, -999.000,9, -999.000,9,   -999.0,9,   -999.0,9,  -999.00,9, -999.00,  1.4381
     3250031_1,   P31,   101,  1,     18,     18,2,19940211,0453, -8.0172,-168.6365, 5231,   3243.6,   1.6060,  34.6794,2,  34.6784,2,    154.4,2,    153.9,2,   137.45,2,    35.75,2,     0.00,2,     2.45,2, -999.000,9, -999.000,9,   -999.0,9,   -999.0,9,  -999.00,9, -999.00,  1.3631
     3250031_1,   P31,   101,  1,     17,     17,2,19940211,0453, -8.0172,-168.6365, 5231,   3443.4,   1.5471,  34.6829,2,  34.6819,2,    158.9,2,    157.9,2,   137.01,2,    35.49,2,     0.00,2,     2.44,2, -999.000,9, -999.000,9,   -999.0,9,   -999.0,9,  -999.00,9, -999.00,  1.2855
     3250031_1,   P31,   101,  1,     16,     16,2,19940211,0453, -8.0172,-168.6365, 5231,   3645.0,   1.5008,  34.6854,2,  34.6861,2,    159.4,2,    161.1,2,   137.00,2,    35.29,2,     0.00,2,     2.42,2, -999.000,9, -999.000,9,   -999.0,9,   -999.0,9,  -999.00,9, -999.00,  1.2197
     3250031_1,   P31,   101,  1,     15,     15,2,19940211,0453, -8.0172,-168.6365, 5231,   3851.5,   1.4591,  34.6883,2,  34.6857,3,    163.0,2,    164.9,2,   136.78,2,    35.03,2,     0.00,2,     2.40,2, -999.000,9, -999.000,9,   -999.0,9,   -999.0,9,  -999.00,9, -999.00,  1.1573
     3250031_1,   P31,   101,  1,     14,     14,2,19940211,0453, -8.0172,-168.6365, 5231,   3956.9,   1.4564,  34.6892,2,  34.6894,2,    165.8,2,    165.8,2,   136.34,2,    34.98,2,     0.00,2,     2.40,2, -999.000,9, -999.000,9,   -999.0,9,   -999.0,9,     7.59,2,   25.00,  1.1434
     3250031_1,   P31,   101,  1,     13,     13,3,19940211,0453, -8.0172,-168.6365, 5231,   4057.7,   1.4472,  34.6905,2,  34.6270,4,    166.1,2,    110.6,4,    48.09,4,    32.23,4,     0.00,4,     2.25,4, -999.000,9, -999.000,9,   -999.0,9,   -999.0,9,  -999.00,9, -999.00,  1.1235
     3250031_1,   P31,   101,  1,     12,     12,2,19940211,0453, -8.0172,-168.6365, 5231,   4160.2,   1.4279,  34.6916,2,  34.6907,2,    169.4,2,    169.4,2,   134.64,2,    34.78,2,     0.00,2,     2.38,2, -999.000,9, -999.000,9,   2302.4,2,   2422.1,2,     7.59,2,   25.00,  1.0935
     3250031_1,   P31,   101,  1,     11,     11,2,19940211,0453, -8.0172,-168.6365, 5231,   4261.3,   1.4087,  34.6930,2,  34.6915,2,    173.0,2,    172.3,2,   133.79,2,    34.53,2,     0.00,2,     2.36,2, -999.000,9, -999.000,9,   2298.9,2,   2406.0,2,     7.60,2,   25.00,  1.0635
     3250031_1,   P31,   101,  1,     10,     10,2,19940211,0453, -8.0172,-168.6365, 5231,   4362.4,   1.4007,  34.6941,2,  34.6925,3,    174.3,2,    174.5,2,   132.74,2,    34.37,2,     0.00,2,     2.36,2, -999.000,9, -999.000,9,   2296.9,2,   2403.2,2,     7.60,2,   25.00,  1.0444
     3250031_1,   P31,   101,  1,      9,      9,2,19940211,0453, -8.0172,-168.6365, 5231,   4462.1,   1.3535,  34.6974,2,  34.6956,2,    178.9,2,    179.9,2,   130.45,2,    34.07,2,     0.00,2,     2.33,2, -999.000,9, -999.000,9,   2290.1,2,   2395.0,2,     7.60,2,   25.00,  0.9873
     3250031_1,   P31,   101,  1,      8,      8,2,19940211,0453, -8.0172,-168.6365, 5231,   4559.8,   1.2044,  34.7026,2,  34.7017,2,    185.9,2,    192.4,2,   125.71,2,    33.10,2,     0.00,2,     2.27,2, -999.000,9, -999.000,9,   2275.0,2,   2385.1,2,     7.61,2,   25.00,  0.8317
     3250031_1,   P31,   101,  1,      7,      7,2,19940211,0453, -8.0172,-168.6365, 5231,   4664.2,   1.1655,  34.7044,2,  34.7047,2,    196.4,2,    196.3,2,   124.28,2,    32.85,2,     0.00,2,     2.24,2, -999.000,9, -999.000,9,   2271.2,2,   2377.5,2,     7.61,2,   25.00,  0.7821
     3250031_1,   P31,   101,  1,      6,      6,2,19940211,0453, -8.0172,-168.6365, 5231,   4770.4,   1.1590,  34.7047,2,  34.7047,2,    195.8,2,    197.8,2,   123.65,2,    32.70,2,     0.00,2,     2.24,2, -999.000,9, -999.000,9,   2269.3,2,   2374.9,2,     7.61,2,   25.00,  0.7634
     3250031_1,   P31,   101,  1,      5,      5,2,19940211,0453, -8.0172,-168.6365, 5231,   4875.4,   1.1522,  34.7055,2,  34.7041,2,    197.1,2,    199.6,2,   122.83,2,    32.54,2,     0.00,2,     2.23,2, -999.000,9, -999.000,9,   2267.6,2,   2379.6,2,     7.61,2,   25.00,  0.7444
     3250031_1,   P31,   101,  1,      4,      4,2,19940211,0453, -8.0172,-168.6365, 5231,   4979.7,   1.1521,  34.7064,2,  34.7053,2,    201.8,2,    200.7,2,   122.21,2,    32.54,2,     0.00,2,     2.22,2, -999.000,9, -999.000,9,   2265.4,2,   2372.7,2,     7.61,2,   25.00,  0.7319
     3250031_1,   P31,   101,  1,      3,      3,2,19940211,0453, -8.0172,-168.6365, 5231,   5080.7,   1.1266,  34.7073,2,  34.7077,2,    205.0,3,    203.8,2,   120.98,2,    32.34,2,     0.00,2,     2.22,2, -999.000,9, -999.000,9,   -999.0,9,   2369.6,2,     7.61,2,   25.00,  0.6952
     3250031_1,   P31,   101,  1,      2,      2,2,19940211,0453, -8.0172,-168.6365, 5231,   5181.8,   1.1186,  34.7081,2,  34.7071,2,    207.6,3,    203.8,2,   120.57,2,    32.19,2,     0.00,2,     2.21,2, -999.000,9, -999.000,9,   2262.0,2,   2369.7,2,     7.61,2,   25.00,  0.6752
     3250031_1,   P31,   101,  1,      1,      1,2,19940211,0453, -8.0172,-168.6365, 5231,   5319.9,   1.1306,  34.7080,2,  34.7079,2,    207.2,3,    203.2,2,   120.75,2,    32.19,2,     0.00,2,     2.21,2, -999.000,9, -999.000,9,   2000.0,4,   -999.0,9,     7.61,2,   25.00,  0.6698