BOTTLE,20020814WHPSIOdm
EXPOCODE,SECT_ID,STNNBR,CASTNO,SAMPNO,BTLNBR,BTLNBR_FLAG_W,DATE,TIME,LATITUDE,LONGITUDE,DEPTH,CTDPRS,CTDTMP,CTDSAL,CTDSAL_FLAG_W,SALNTY,SALNTY_FLAG_W,CTDOXY,CTDOXY_FLAG_W,OXYGEN,OXYGEN_FLAG_W,SILCAT,SILCAT_FLAG_W,NITRAT,NITRAT_FLAG_W,NITRIT,NITRIT_FLAG_W,PHSPHT,PHSPHT_FLAG_W,CFC-11,CFC-11_FLAG_W,CFC-12,CFC-12_FLAG_W,TCARBN,TCARBN_FLAG_W,ALKALI,ALKALI_FLAG_W,PH,PH_FLAG_W,PHTEMP,THETA
,,,,,,,,,,,,DBAR,ITS-90,PSS-78,,PSS-78,,UMOL/KG,,UMOL/KG,,UMOL/KG,,UMOL/KG,,UMOL/KG,,UMOL/KG,,PMOL/KG,,PMOL/KG,,UMOL/KG,,UMOL/KG,,,,DEG C,DEG C
     3250031_1,   P31,    34,  1,     27,     27,2,19940202,1644,-11.1357,-163.1823, 2982,      2.8,  29.5821,  34.7484,2,  34.7225,2,    188.5,3,    193.6,2,     1.40,2,     0.00,2,     0.00,2,     0.15,2,    1.553,2,    0.877,2,   -999.0,9,   -999.0,9,  -999.00,9, -999.00, 29.5814
     3250031_1,   P31,    34,  1,     26,     26,2,19940202,1644,-11.1357,-163.1823, 2982,     15.0,  29.8272,  35.3128,2,  35.2999,2,    165.2,3,    194.4,2,     1.20,2,     0.00,2,     0.00,2,     0.15,2,    1.562,2,    0.860,2,   -999.0,9,   -999.0,9,  -999.00,9, -999.00, 29.8235
     3250031_1,   P31,    34,  1,     25,     25,3,19940202,1644,-11.1357,-163.1823, 2982,     55.2,  29.5020,  35.7360,2,  35.7270,4,    177.8,3,   -999.0,9,  -999.00,9,  -999.00,9,  -999.00,9,  -999.00,9, -999.000,9, -999.000,9,   -999.0,9,   -999.0,9,  -999.00,9, -999.00, 29.4884
     3250031_1,   P31,    34,  1,     24,     24,2,19940202,1644,-11.1357,-163.1823, 2982,    104.8,  27.1273,  36.1840,2,  36.2097,2,    203.3,2,    198.5,2,     1.19,2,     0.00,2,     0.00,2,     0.19,2,    1.730,6,    0.932,6,   -999.0,9,   -999.0,9,  -999.00,9, -999.00, 27.1030
     3250031_1,   P31,    34,  1,     23,     23,2,19940202,1644,-11.1357,-163.1823, 2982,    205.2,  21.5762,  36.0453,2,  36.0348,2,    165.7,2,    164.5,2,     1.37,2,     4.71,2,     0.02,2,     0.53,2,    1.854,2,    0.949,2,   -999.0,9,   -999.0,9,  -999.00,9, -999.00, 21.5360
     3250031_1,   P31,    34,  1,     22,     22,2,19940202,1644,-11.1357,-163.1823, 2982,    306.3,  14.5777,  35.0691,2,  35.0718,2,    122.6,2,    127.7,2,     7.79,2,    14.52,2,     0.00,2,     1.25,2,    1.222,2,    0.595,2,   -999.0,9,   -999.0,9,  -999.00,9, -999.00, 14.5321
     3250031_1,   P31,    34,  1,     21,     21,2,19940202,1644,-11.1357,-163.1823, 2982,    406.5,   9.5047,  34.6387,2,  34.6399,2,    101.7,2,    100.0,2,    22.30,2,    27.49,2,     0.00,2,     2.02,2,    0.209,2,    0.127,2,   -999.0,9,   -999.0,9,  -999.00,9, -999.00,  9.4587
     3250031_1,   P31,    34,  1,     20,     20,2,19940202,1644,-11.1357,-163.1823, 2982,    506.7,   7.6412,  34.5765,2,  34.5757,2,    103.4,2,    102.0,2,    33.86,2,    32.55,2,     0.00,2,     2.25,2,    0.037,2,    0.018,2,   -999.0,9,   -999.0,9,  -999.00,9, -999.00,  7.5905
     3250031_1,   P31,    34,  1,     19,     19,2,19940202,1644,-11.1357,-163.1823, 2982,    606.8,   6.4109,  34.5337,2,  34.5336,2,     96.9,2,     98.2,2,    45.25,2,    35.70,2,     0.00,2,     2.45,2,    0.014,2,    0.015,2,   -999.0,9,   -999.0,9,  -999.00,9, -999.00,  6.3555
     3250031_1,   P31,    34,  1,     18,     18,2,19940202,1644,-11.1357,-163.1823, 2982,    809.2,   5.2312,  34.5164,2,  34.5171,2,    102.2,2,    102.3,2,    60.71,2,    37.38,2,     0.00,2,     2.58,2,    0.006,2,   -0.002,2,   -999.0,9,   -999.0,9,  -999.00,9, -999.00,  5.1635
     3250031_1,   P31,    34,  1,     17,     17,2,19940202,1644,-11.1357,-163.1823, 2982,   1011.5,   4.2606,  34.5322,2,  34.5320,2,    112.1,2,    111.8,2,    78.11,2,    37.38,2,     0.00,2,     2.59,2, -999.000,9, -999.000,9,   -999.0,9,   -999.0,9,  -999.00,9, -999.00,  4.1819
     3250031_1,   P31,    34,  1,     16,     16,2,19940202,1644,-11.1357,-163.1823, 2982,   1210.8,   3.6500,  34.5529,2,  34.5544,2,    122.4,2,    120.8,2,    90.07,2,    36.94,2,     0.00,2,     2.56,2, -999.000,9, -999.000,9,   -999.0,9,   -999.0,9,  -999.00,9, -999.00,  3.5596
     3250031_1,   P31,    34,  1,     15,     15,2,19940202,1644,-11.1357,-163.1823, 2982,   1414.0,   3.1030,  34.5763,2,  34.5746,2,    125.7,2,    128.2,2,   100.47,2,    36.74,2,     0.00,2,     2.54,2, -999.000,9, -999.000,9,   -999.0,9,   -999.0,9,  -999.00,9, -999.00,  3.0011
     3250031_1,   P31,    34,  1,     14,     14,2,19940202,1644,-11.1357,-163.1823, 2982,   1616.0,   2.7495,  34.5952,2,  34.5953,2,    133.5,2,    133.8,2,   107.55,2,    36.40,2,     0.00,2,     2.52,2, -999.000,9, -999.000,9,   -999.0,9,   -999.0,9,  -999.00,9, -999.00,  2.6349
     3250031_1,   P31,    34,  1,     13,     13,2,19940202,1644,-11.1357,-163.1823, 2982,   1818.6,   2.3768,  34.6191,2,  34.6192,2,    139.0,2,    138.7,2,   115.89,2,    36.25,2,     0.00,2,     2.49,2, -999.000,9, -999.000,9,   -999.0,9,   -999.0,9,  -999.00,9, -999.00,  2.2501
     3250031_1,   P31,    34,  1,     12,     12,2,19940202,1644,-11.1357,-163.1823, 2982,   2020.2,   2.1415,  34.6371,2,  34.6369,2,    139.2,2,    141.8,2,   122.18,2,    36.15,2,     0.00,2,     2.48,2, -999.000,9, -999.000,9,   -999.0,9,   -999.0,9,  -999.00,9, -999.00,  2.0012
     3250031_1,   P31,    34,  1,     11,     11,2,19940202,1644,-11.1357,-163.1823, 2982,   2123.5,   2.0690,  34.6426,2,  34.6416,2,    141.4,2,    143.0,2,   123.94,2,    36.10,2,     0.00,2,     2.48,2, -999.000,9, -999.000,9,   -999.0,9,   -999.0,9,  -999.00,9, -999.00,  1.9209
     3250031_1,   P31,    34,  1,     10,     10,2,19940202,1644,-11.1357,-163.1823, 2982,   2225.8,   1.9901,  34.6494,2,  34.6481,3,    144.2,2,    145.0,2,   126.51,2,    36.06,2,     0.00,2,     2.47,2, -999.000,9, -999.000,9,   -999.0,9,   -999.0,9,  -999.00,9, -999.00,  1.8345
     3250031_1,   P31,    34,  1,      9,      9,2,19940202,1644,-11.1357,-163.1823, 2982,   2327.3,   1.9412,  34.6539,2,  34.6522,3,    146.0,2,    144.8,2,   128.28,2,    35.91,2,     0.00,2,     2.47,2, -999.000,9, -999.000,9,   -999.0,9,   -999.0,9,  -999.00,9, -999.00,  1.7774
     3250031_1,   P31,    34,  1,      8,      8,2,19940202,1644,-11.1357,-163.1823, 2982,   2426.1,   1.8791,  34.6596,2,  34.6581,2,    145.9,2,    145.0,2,   130.68,2,    35.86,2,     0.00,2,     2.47,2, -999.000,9, -999.000,9,   -999.0,9,   -999.0,9,  -999.00,9, -999.00,  1.7077
     3250031_1,   P31,    34,  1,      7,      7,2,19940202,1644,-11.1357,-163.1823, 2982,   2524.7,   1.8452,  34.6623,2,  34.6626,2,    147.9,2,    145.7,2,   132.26,2,    36.01,2,     0.00,2,     2.47,2, -999.000,9, -999.000,9,   -999.0,9,   -999.0,9,  -999.00,9, -999.00,  1.6656
     3250031_1,   P31,    34,  1,      6,      6,2,19940202,1644,-11.1357,-163.1823, 2982,   2625.3,   1.8047,  34.6657,2,  34.6655,2,    149.5,2,    147.9,2,   132.42,2,    35.77,2,     0.00,2,     2.46,2, -999.000,9, -999.000,9,   -999.0,9,   -999.0,9,  -999.00,9, -999.00,  1.6166
     3250031_1,   P31,    34,  1,      5,      5,2,19940202,1644,-11.1357,-163.1823, 2982,   2691.4,   1.7827,  34.6679,2,  34.6659,2,    149.6,2,    148.3,2,   133.61,2,    35.82,2,     0.00,2,     2.46,2,    0.000,2,   -0.007,2,   -999.0,9,   -999.0,9,  -999.00,9, -999.00,  1.5889
     3250031_1,   P31,    34,  1,     51,     51,3,19940202,1644,-11.1357,-163.1823, 2982,   2731.7,   1.7654,  34.6691,2,  34.6681,4,    149.0,2,    149.0,4,   132.95,4,    35.67,4,     0.00,4,     2.45,4,    0.014,4,   -0.006,2,   -999.0,9,   -999.0,9,  -999.00,9, -999.00,  1.5683
     3250031_1,   P31,    34,  1,      3,      3,2,19940202,1644,-11.1357,-163.1823, 2982,   2834.9,   1.7214,  34.6718,2,  34.6714,2,    150.4,2,    151.6,2,   134.34,2,    35.68,2,     0.00,2,     2.45,2, -999.000,9, -999.000,9,   -999.0,9,   -999.0,9,  -999.00,9, -999.00,  1.5155
     3250031_1,   P31,    34,  1,      2,      2,2,19940202,1644,-11.1357,-163.1823, 2982,   2937.3,   1.7049,  34.6735,2,  34.6712,3,    150.7,2,    151.8,2,   134.50,2,    35.58,2,     0.00,2,     2.44,2,    0.002,2,   -0.007,2,   -999.0,9,   -999.0,9,  -999.00,9, -999.00,  1.4897
     3250031_1,   P31,    34,  1,      1,      1,2,19940202,1644,-11.1357,-163.1823, 2982,   2997.6,   1.7092,  34.6734,2,  34.6728,2,    150.9,2,    152.2,2,   134.66,2,    35.63,2,     0.00,2,     2.44,2,    0.008,2,   -0.005,2,   -999.0,9,   -999.0,9,  -999.00,9, -999.00,  1.4881
     3250031_1,   P31,    35,  1,     33,     33,2,19940202,2134,-11.0005,-163.5802, 3467,      3.0,  29.9855,  34.6931,2,  34.6916,2,    197.6,3,    193.2,2,     1.08,2,     0.00,2,     0.00,2,     0.14,2,    1.576,2,    0.858,2,   -999.0,9,   -999.0,9,  -999.00,9, -999.00, 29.9848
     3250031_1,   P31,    35,  1,     32,     32,2,19940202,2134,-11.0005,-163.5802, 3467,     16.3,  29.7708,  34.6925,2,  34.7158,2,    199.0,3,    193.2,2,     1.06,2,     0.00,2,     0.00,2,     0.14,2,    1.558,2,    0.847,2,   -999.0,9,   -999.0,9,  -999.00,9, -999.00, 29.7668
     3250031_1,   P31,    35,  1,     31,     31,2,19940202,2134,-11.0005,-163.5802, 3467,     55.6,  29.2257,  35.8274,2,  35.8384,2,    196.8,3,    199.7,2,     0.85,2,     0.00,2,     0.00,2,     0.14,2,    1.625,2,    0.885,2,   -999.0,9,   -999.0,9,  -999.00,9, -999.00, 29.2122
     3250031_1,   P31,    35,  1,     30,     30,2,19940202,2134,-11.0005,-163.5802, 3467,    106.1,  26.3015,  36.3389,2,  36.3445,2,    185.4,3,    188.7,2,     0.83,2,     0.00,2,     0.00,2,     0.24,2,    1.743,2,    0.927,2,   -999.0,9,   -999.0,9,  -999.00,9, -999.00, 26.2775
     3250031_1,   P31,    35,  1,     29,     29,2,19940202,2134,-11.0005,-163.5802, 3467,    206.9,  19.4096,  35.7291,2,  35.7163,2,    163.7,2,    161.1,2,     2.08,2,     6.45,2,     0.01,2,     0.67,2,    1.794,2,    0.910,2,   -999.0,9,   -999.0,9,  -999.00,9, -999.00, 19.3720
     3250031_1,   P31,    35,  1,     28,     28,2,19940202,2134,-11.0005,-163.5802, 3467,    306.6,  13.5450,  34.9652,2,  34.9488,2,    111.9,2,    108.3,2,    10.83,2,    18.21,2,     0.00,2,     1.51,2,    0.939,6,    0.463,6,   -999.0,9,   -999.0,9,  -999.00,9, -999.00, 13.5015
     3250031_1,   P31,    35,  1,     27,     27,9,19940202,2134,-11.0005,-163.5802, 3467,    407.3,   9.0535,  34.6244,2,-999.0000,9,     98.4,2,   -999.0,9,  -999.00,9,  -999.00,9,  -999.00,9,  -999.00,9, -999.000,9, -999.000,9,   -999.0,9,   -999.0,9,  -999.00,9, -999.00,  9.0088
     3250031_1,   P31,    35,  1,     26,     26,2,19940202,2134,-11.0005,-163.5802, 3467,    508.8,   7.5106,  34.5719,2,  34.5726,2,    101.7,2,    102.9,2,    34.38,2,    32.47,2,     0.00,2,     2.24,2,    0.038,2,    0.022,2,   -999.0,9,   -999.0,9,  -999.00,9, -999.00,  7.4603
     3250031_1,   P31,    35,  1,     25,     25,2,19940202,2134,-11.0005,-163.5802, 3467,    609.2,   6.5302,  34.5375,2,  34.5374,2,    102.6,2,    104.3,2,    43.51,2,    34.88,2,     0.00,2,     2.38,2,    0.015,2,    0.005,2,   -999.0,9,   -999.0,9,  -999.00,9, -999.00,  6.4740
     3250031_1,   P31,    35,  1,     24,     24,2,19940202,2134,-11.0005,-163.5802, 3467,    708.5,   5.9979,  34.5251,2,  34.5260,2,     99.9,2,     98.9,2,    50.08,2,    36.70,2,     0.00,2,     2.50,2,    0.014,2,    0.012,2,   -999.0,9,   -999.0,9,  -999.00,9, -999.00,  5.9349
     3250031_1,   P31,    35,  1,     23,     23,2,19940202,2134,-11.0005,-163.5802, 3467,    808.3,   5.4326,  34.5156,2,  34.5158,2,    103.5,2,    103.3,2,    57.21,2,    37.20,2,     0.00,2,     2.54,2,    0.003,2,   -0.006,2,   -999.0,9,   -999.0,9,  -999.00,9, -999.00,  5.3637
     3250031_1,   P31,    35,  1,     22,     22,2,19940202,2134,-11.0005,-163.5802, 3467,    910.7,   4.7738,  34.5187,2,  34.5207,2,    108.0,2,    108.5,2,    67.49,2,    37.45,2,     0.00,2,     2.57,2, -999.000,9, -999.000,9,   -999.0,9,   -999.0,9,  -999.00,9, -999.00,  4.7001
     3250031_1,   P31,    35,  1,     21,     21,2,19940202,2134,-11.0005,-163.5802, 3467,   1012.3,   4.3610,  34.5252,2,  34.5254,2,    115.4,2,    113.4,2,    74.87,2,    37.45,2,     0.00,2,     2.57,2,    0.010,2,   -0.004,2,   -999.0,9,   -999.0,9,  -999.00,9, -999.00,  4.2815
     3250031_1,   P31,    35,  1,     20,     20,2,19940202,2134,-11.0005,-163.5802, 3467,   1214.8,   3.6573,  34.5508,2,  34.5496,2,    119.7,2,    119.8,2,    88.82,2,    37.35,2,     0.00,2,     2.57,2, -999.000,9, -999.000,9,   -999.0,9,   -999.0,9,  -999.00,9, -999.00,  3.5665
     3250031_1,   P31,    35,  1,     19,     19,2,19940202,2134,-11.0005,-163.5802, 3467,   1416.3,   3.1120,  34.5753,2,  34.5759,2,    128.7,2,    127.3,2,    99.95,2,    36.95,2,     0.00,2,     2.54,2, -999.000,9, -999.000,9,   -999.0,9,   -999.0,9,  -999.00,9, -999.00,  3.0098
     3250031_1,   P31,    35,  1,     18,     18,2,19940202,2134,-11.0005,-163.5802, 3467,   1618.9,   2.6922,  34.5976,2,  34.5983,2,    133.0,2,    135.4,2,   107.98,2,    36.56,2,     0.00,2,     2.50,2, -999.000,9, -999.000,9,   -999.0,9,   -999.0,9,  -999.00,9, -999.00,  2.5781
     3250031_1,   P31,    35,  1,     17,     17,2,19940202,2134,-11.0005,-163.5802, 3467,   1821.6,   2.3521,  34.6204,2,  34.6203,2,    139.3,2,    140.0,2,   116.13,2,    36.26,2,     0.00,2,     2.48,2, -999.000,9, -999.000,9,   -999.0,9,   -999.0,9,  -999.00,9, -999.00,  2.2255
     3250031_1,   P31,    35,  1,     16,     16,2,19940202,2134,-11.0005,-163.5802, 3467,   2024.1,   2.1476,  34.6364,2,  34.6386,2,    139.8,2,    140.8,2,   122.64,2,    36.31,2,     0.00,2,     2.48,2,    0.023,4,    0.041,4,   -999.0,9,   -999.0,9,  -999.00,9, -999.00,  2.0069
     3250031_1,   P31,    35,  1,     15,     15,2,19940202,2134,-11.0005,-163.5802, 3467,   2127.8,   2.0767,  34.6425,2,  34.6427,2,    141.2,2,    142.3,2,   124.22,2,    36.21,2,     0.00,2,     2.47,2, -999.000,9, -999.000,9,   -999.0,9,   -999.0,9,  -999.00,9, -999.00,  1.9281
     3250031_1,   P31,    35,  1,     14,     14,2,19940202,2134,-11.0005,-163.5802, 3467,   2229.3,   2.0341,  34.6460,2,  34.6470,2,    143.1,2,    143.4,2,   125.61,2,    36.16,2,     0.00,2,     2.47,2, -999.000,9, -999.000,9,   -999.0,9,   -999.0,9,  -999.00,9, -999.00,  1.8774
     3250031_1,   P31,    35,  1,     13,     13,2,19940202,2134,-11.0005,-163.5802, 3467,   2330.4,   1.9668,  34.6521,2,  34.6533,2,    141.9,2,    142.3,2,   129.02,2,    36.26,2,     0.00,2,     2.47,2, -999.000,9, -999.000,9,   -999.0,9,   -999.0,9,  -999.00,9, -999.00,  1.8024
     3250031_1,   P31,    35,  1,     12,     12,2,19940202,2134,-11.0005,-163.5802, 3467,   2432.5,   1.9174,  34.6563,2,  34.6574,2,    145.0,2,    144.7,2,   129.41,2,    36.17,2,     0.00,2,     2.46,2, -999.000,9, -999.000,9,   -999.0,9,   -999.0,9,  -999.00,9, -999.00,  1.7447
     3250031_1,   P31,    35,  1,     11,     11,2,19940202,2134,-11.0005,-163.5802, 3467,   2533.8,   1.8634,  34.6609,2,  34.6616,2,    146.6,2,    144.5,2,   132.45,2,    36.21,2,     0.00,2,     2.47,2, -999.000,9, -999.000,9,   -999.0,9,   -999.0,9,  -999.00,9, -999.00,  1.6826
     3250031_1,   P31,    35,  1,     10,     10,2,19940202,2134,-11.0005,-163.5802, 3467,   2634.3,   1.8169,  34.6649,2,  34.6647,2,    148.9,2,    146.4,2,   132.85,2,    36.07,2,     0.00,2,     2.46,2, -999.000,9, -999.000,9,   -999.0,9,   -999.0,9,  -999.00,9, -999.00,  1.6277
     3250031_1,   P31,    35,  1,      9,      9,2,19940202,2134,-11.0005,-163.5802, 3467,   2734.6,   1.7858,  34.6674,2,  34.6673,2,    146.9,2,    147.5,2,   133.85,2,    36.02,2,     0.00,2,     2.44,2, -999.000,9, -999.000,9,   -999.0,9,   -999.0,9,  -999.00,9, -999.00,  1.5880
     3250031_1,   P31,    35,  1,      8,      8,2,19940202,2134,-11.0005,-163.5802, 3467,   2836.7,   1.7436,  34.6707,2,  34.6706,2,    149.9,2,    149.8,2,   134.45,2,    35.87,2,     0.00,2,     2.43,2, -999.000,9, -999.000,9,   -999.0,9,   -999.0,9,  -999.00,9, -999.00,  1.5371
     3250031_1,   P31,    35,  1,      7,      7,2,19940202,2134,-11.0005,-163.5802, 3467,   2939.1,   1.7104,  34.6729,2,  34.6730,2,    153.0,2,    151.6,2,   135.06,2,    35.77,2,     0.00,2,     2.42,2, -999.000,9, -999.000,9,   -999.0,9,   -999.0,9,  -999.00,9, -999.00,  1.4949
     3250031_1,   P31,    35,  1,      6,      6,2,19940202,2134,-11.0005,-163.5802, 3467,   3040.0,   1.6788,  34.6748,2,  34.6759,2,    153.4,2,    153.1,2,   135.04,2,    35.68,2,     0.00,2,     2.41,2, -999.000,9, -999.000,9,   -999.0,9,   -999.0,9,  -999.00,9, -999.00,  1.4542
     3250031_1,   P31,    35,  1,      5,      5,2,19940202,2134,-11.0005,-163.5802, 3467,   3141.9,   1.6451,  34.6769,2,  34.6773,2,    156.3,2,    155.8,2,   134.40,2,    35.53,2,     0.00,2,     2.40,2,    0.004,2,   -0.002,2,   -999.0,9,   -999.0,9,  -999.00,9, -999.00,  1.4113
     3250031_1,   P31,    35,  1,     51,     51,3,19940202,2134,-11.0005,-163.5802, 3467,   3142.9,   1.6449,  34.6766,2,  34.6675,4,    156.3,2,    148.2,4,   124.43,4,    35.53,4,     0.00,4,     2.41,4,    0.022,4,    0.016,4,   -999.0,9,   -999.0,9,  -999.00,9, -999.00,  1.4110
     3250031_1,   P31,    35,  1,      3,      3,2,19940202,2134,-11.0005,-163.5802, 3467,   3244.1,   1.6162,  34.6787,2,  34.6785,2,    156.8,2,    157.4,2,   135.19,2,    35.33,2,     0.00,2,     2.40,2,    0.001,2,   -0.005,2,   -999.0,9,   -999.0,9,  -999.00,9, -999.00,  1.3730
     3250031_1,   P31,    35,  1,      2,      2,2,19940202,2134,-11.0005,-163.5802, 3467,   3346.8,   1.5886,  34.6803,2,  34.6802,2,    158.9,2,    159.9,2,   134.55,2,    35.23,2,     0.00,2,     2.38,2,    0.013,4,   -0.004,2,   -999.0,9,   -999.0,9,  -999.00,9, -999.00,  1.3358
     3250031_1,   P31,    35,  1,      1,      1,2,19940202,2134,-11.0005,-163.5802, 3467,   3496.1,   1.5413,  34.6832,2,  34.6838,2,    163.6,2,    163.4,2,   133.91,2,    34.99,2,     0.00,2,     2.37,2,    0.007,2,   -0.001,2,   -999.0,9,   -999.0,9,  -999.00,9, -999.00,  1.2745