BOTTLE,20020814WHPSIOdm
EXPOCODE,SECT_ID,STNNBR,CASTNO,SAMPNO,BTLNBR,BTLNBR_FLAG_W,DATE,TIME,LATITUDE,LONGITUDE,DEPTH,CTDPRS,CTDTMP,CTDSAL,CTDSAL_FLAG_W,SALNTY,SALNTY_FLAG_W,CTDOXY,CTDOXY_FLAG_W,OXYGEN,OXYGEN_FLAG_W,SILCAT,SILCAT_FLAG_W,NITRAT,NITRAT_FLAG_W,NITRIT,NITRIT_FLAG_W,PHSPHT,PHSPHT_FLAG_W,CFC-11,CFC-11_FLAG_W,CFC-12,CFC-12_FLAG_W,TCARBN,TCARBN_FLAG_W,ALKALI,ALKALI_FLAG_W,PH,PH_FLAG_W,PHTEMP,THETA
,,,,,,,,,,,,DBAR,ITS-90,PSS-78,,PSS-78,,UMOL/KG,,UMOL/KG,,UMOL/KG,,UMOL/KG,,UMOL/KG,,UMOL/KG,,PMOL/KG,,PMOL/KG,,UMOL/KG,,UMOL/KG,,,,DEG C,DEG C
     3250031_1,   P31,    87,  1,     24,     24,2,19940216,2133,-14.3940,-178.4637, 2449,      4.8,  29.6438,  34.4931,2,  34.4934,2,    196.4,2,    194.1,2,     1.62,2,     0.16,2,     0.00,2,     0.17,2, -999.000,9, -999.000,9,   -999.0,9,   -999.0,9,  -999.00,9, -999.00, 29.6427
     3250031_1,   P31,    87,  1,     23,     23,2,19940216,2133,-14.3940,-178.4637, 2449,     16.2,  29.5716,  34.5120,2,  34.5500,2,    196.3,2,    195.1,2,     1.59,2,     0.10,2,     0.00,2,     0.17,2, -999.000,9, -999.000,9,   -999.0,9,   -999.0,9,  -999.00,9, -999.00, 29.5676
     3250031_1,   P31,    87,  1,     22,     22,2,19940216,2133,-14.3940,-178.4637, 2449,     56.7,  27.9694,  35.3849,2,  35.4225,2,    207.5,2,    208.1,2,     1.56,2,     0.10,2,     0.00,2,     0.16,2, -999.000,9, -999.000,9,   -999.0,9,   -999.0,9,  -999.00,9, -999.00, 27.9560
     3250031_1,   P31,    87,  1,     21,     21,9,19940216,2133,-14.3940,-178.4637, 2449,    106.4,  24.8528,  35.7512,2,-999.0000,9,    194.5,2,   -999.0,9,  -999.00,9,  -999.00,9,  -999.00,9,  -999.00,9, -999.000,9, -999.000,9,   -999.0,9,   -999.0,9,  -999.00,9, -999.00, 24.8298
     3250031_1,   P31,    87,  1,     20,     20,2,19940216,2133,-14.3940,-178.4637, 2449,    206.8,  21.4872,  35.8569,2,  35.8505,2,    157.0,2,    166.2,2,     1.90,2,     3.58,2,     0.02,2,     0.46,2, -999.000,9, -999.000,9,   -999.0,9,   -999.0,9,  -999.00,9, -999.00, 21.4468
     3250031_1,   P31,    87,  1,     19,     19,2,19940216,2133,-14.3940,-178.4637, 2449,    306.9,  15.7333,  35.2443,2,  35.2381,2,    137.8,2,    145.4,2,     6.24,2,    11.84,2,     0.01,2,     1.05,2, -999.000,9, -999.000,9,   -999.0,9,   -999.0,9,  -999.00,9, -999.00, 15.6850
     3250031_1,   P31,    87,  1,     18,     18,2,19940216,2133,-14.3940,-178.4637, 2449,    407.5,  10.8597,  34.7399,2,  34.7402,2,    138.8,2,    136.1,2,    14.39,2,    21.51,2,     0.01,2,     1.63,2, -999.000,9, -999.000,9,   -999.0,9,   -999.0,9,  -999.00,9, -999.00, 10.8095
     3250031_1,   P31,    87,  1,     17,     17,2,19940216,2133,-14.3940,-178.4637, 2449,    507.6,   8.0353,  34.5255,2,  34.5260,2,    160.4,2,    159.2,2,    20.18,2,    26.13,2,     0.01,2,     1.86,2, -999.000,9, -999.000,9,   -999.0,9,   -999.0,9,  -999.00,9, -999.00,  7.9831
     3250031_1,   P31,    87,  1,     16,     16,2,19940216,2133,-14.3940,-178.4637, 2449,    607.5,   6.4967,  34.4465,2,  34.4481,2,    166.9,2,    167.3,2,    28.15,2,    29.30,2,     0.01,2,     2.03,2, -999.000,9, -999.000,9,   -999.0,9,   -999.0,9,  -999.00,9, -999.00,  6.4410
     3250031_1,   P31,    87,  1,     15,     15,2,19940216,2133,-14.3940,-178.4637, 2449,    708.2,   5.4034,  34.4279,2,  34.4288,2,    163.6,2,    163.8,2,    40.12,2,    31.89,2,     0.01,2,     2.20,2, -999.000,9, -999.000,9,   -999.0,9,   -999.0,9,  -999.00,9, -999.00,  5.3438
     3250031_1,   P31,    87,  1,     14,     14,2,19940216,2133,-14.3940,-178.4637, 2449,    808.5,   4.5682,  34.4429,2,  34.4443,2,    158.1,2,    159.4,2,    53.75,2,    33.64,2,     0.01,2,     2.32,2, -999.000,9, -999.000,9,   -999.0,9,   -999.0,9,  -999.00,9, -999.00,  4.5047
     3250031_1,   P31,    87,  1,     13,     13,2,19940216,2133,-14.3940,-178.4637, 2449,    909.3,   4.0368,  34.4749,2,  34.4744,2,    154.4,2,    153.4,2,    66.33,2,    34.81,2,     0.01,2,     2.39,2, -999.000,9, -999.000,9,   -999.0,9,   -999.0,9,  -999.00,9, -999.00,  3.9684
     3250031_1,   P31,    87,  1,     12,     12,2,19940216,2133,-14.3940,-178.4637, 2449,   1011.4,   3.7414,  34.5058,2,  34.5054,2,    148.4,2,    147.3,2,    76.23,2,    35.46,2,     0.01,2,     2.45,2, -999.000,9, -999.000,9,   -999.0,9,   -999.0,9,  -999.00,9, -999.00,  3.6668
     3250031_1,   P31,    87,  1,     11,     11,2,19940216,2133,-14.3940,-178.4637, 2449,   1112.8,   3.4933,  34.5310,2,  34.5299,2,    143.8,2,    143.5,2,    84.52,2,    35.89,2,     0.01,2,     2.49,2, -999.000,9, -999.000,9,   -999.0,9,   -999.0,9,  -999.00,9, -999.00,  3.4125
     3250031_1,   P31,    87,  1,     10,     10,2,19940216,2133,-14.3940,-178.4637, 2449,   1213.8,   3.2851,  34.5465,2,  34.5455,2,    144.3,2,    143.9,2,    89.70,2,    36.01,2,     0.01,2,     2.50,2, -999.000,9, -999.000,9,   -999.0,9,   -999.0,9,  -999.00,9, -999.00,  3.1979
     3250031_1,   P31,    87,  1,      9,      9,2,19940216,2133,-14.3940,-178.4637, 2449,   1416.3,   2.8912,  34.5737,2,  34.5730,2,    144.8,2,    144.3,2,    99.82,2,    36.17,2,     0.01,2,     2.50,2, -999.000,9, -999.000,9,   -999.0,9,   -999.0,9,  -999.00,9, -999.00,  2.7915
     3250031_1,   P31,    87,  1,      8,      8,2,19940216,2133,-14.3940,-178.4637, 2449,   1618.4,   2.6941,  34.5900,2,  34.5906,2,    144.6,2,    144.4,2,   105.69,2,    36.29,2,     0.01,2,     2.51,2, -999.000,9, -999.000,9,   -999.0,9,   -999.0,9,  -999.00,9, -999.00,  2.5801
     3250031_1,   P31,    87,  1,      7,      7,2,19940216,2133,-14.3940,-178.4637, 2449,   1820.5,   2.4558,  34.6113,2,  34.6109,2,    144.2,2,    145.3,2,   113.76,2,    36.40,2,     0.01,2,     2.52,2, -999.000,9, -999.000,9,   -999.0,9,   -999.0,9,  -999.00,9, -999.00,  2.3279
     3250031_1,   P31,    87,  1,      6,      6,2,19940216,2133,-14.3940,-178.4637, 2449,   1922.2,   2.3955,  34.6167,2,  34.6174,2,    143.9,2,    145.1,2,   116.06,2,    36.36,2,     0.01,2,     2.52,2, -999.000,9, -999.000,9,   -999.0,9,   -999.0,9,  -999.00,9, -999.00,  2.2598
     3250031_1,   P31,    87,  1,      5,      5,2,19940216,2133,-14.3940,-178.4637, 2449,   2024.0,   2.3011,  34.6254,2,  34.6264,2,    143.7,2,    145.4,2,   118.38,2,    36.42,2,     0.01,2,     2.52,2, -999.000,9, -999.000,9,   -999.0,9,   -999.0,9,  -999.00,9, -999.00,  2.1581
     3250031_1,   P31,    87,  1,      4,      4,2,19940216,2133,-14.3940,-178.4637, 2449,   2125.2,   2.2644,  34.6296,2,  34.6291,2,    145.3,2,    145.0,2,   119.13,2,    36.43,2,     0.01,2,     2.52,2, -999.000,9, -999.000,9,   -999.0,9,   -999.0,9,  -999.00,9, -999.00,  2.1132
     3250031_1,   P31,    87,  1,      3,      3,2,19940216,2133,-14.3940,-178.4637, 2449,   2226.4,   2.2410,  34.6321,2,  34.6319,2,    145.1,2,    144.6,2,   119.89,2,    36.38,2,     0.01,2,     2.52,2, -999.000,9, -999.000,9,   -999.0,9,   -999.0,9,  -999.00,9, -999.00,  2.0811
     3250031_1,   P31,    87,  1,      2,      2,2,19940216,2133,-14.3940,-178.4637, 2449,   2328.0,   2.2377,  34.6335,2,  34.6325,2,    145.6,2,    144.6,2,   120.45,2,    36.50,2,     0.01,2,     2.52,2, -999.000,9, -999.000,9,   -999.0,9,   -999.0,9,  -999.00,9, -999.00,  2.0688
     3250031_1,   P31,    87,  1,      1,      1,2,19940216,2133,-14.3940,-178.4637, 2449,   2399.4,   2.2327,  34.6344,2,  34.6341,2,    144.1,2,    144.3,2,   121.21,2,    36.51,2,     0.00,2,     2.53,2, -999.000,9, -999.000,9,   -999.0,9,   -999.0,9,  -999.00,9, -999.00,  2.0574
     3250031_1,   P31,    88,  1,     28,     28,2,19940217,0214,-14.8068,-178.7650, 2652,      2.3,  29.2126,  34.9140,2,  34.9142,2,    192.6,2,    195.8,2,     1.27,2,     0.10,2,     0.00,2,     0.14,2, -999.000,9, -999.000,9,   -999.0,9,   -999.0,9,  -999.00,9, -999.00, 29.2121
     3250031_1,   P31,    88,  1,     27,     27,2,19940217,0214,-14.8068,-178.7650, 2652,      9.9,  29.1354,  34.9053,2,  34.9284,2,    195.5,2,    196.9,2,     1.06,2,     0.10,2,     0.00,2,     0.14,2, -999.000,9, -999.000,9,   1927.2,2,   -999.0,9,  -999.00,9, -999.00, 29.1330
     3250031_1,   P31,    88,  1,     26,     26,2,19940217,0214,-14.8068,-178.7650, 2652,      9.9,  29.1501,  34.9014,2,  34.9284,2,    195.5,2,    195.8,2,     1.04,2,     0.10,2,     0.00,2,     0.14,2, -999.000,9, -999.000,9,   -999.0,9,   -999.0,9,  -999.00,9, -999.00, 29.1477
     3250031_1,   P31,    88,  1,     25,     25,2,19940217,0214,-14.8068,-178.7650, 2652,     55.0,  26.0308,  35.6292,2,  35.6271,2,    211.6,2,    206.9,2,     1.02,2,     0.16,2,     0.00,2,     0.17,2, -999.000,9, -999.000,9,   -999.0,9,   -999.0,9,  -999.00,9, -999.00, 26.0185
     3250031_1,   P31,    88,  1,     24,     24,2,19940217,0214,-14.8068,-178.7650, 2652,    105.3,  23.9474,  35.6884,2,  35.6866,2,    202.9,2,    200.8,2,     0.82,2,     0.16,2,     0.00,2,     0.18,2, -999.000,9, -999.000,9,   -999.0,9,   -999.0,9,  -999.00,9, -999.00, 23.9252
     3250031_1,   P31,    88,  1,     23,     23,2,19940217,0214,-14.8068,-178.7650, 2652,    206.2,  20.6233,  35.7307,2,  35.7282,2,    172.7,2,    177.3,2,     0.80,2,     0.16,2,     0.00,2,     0.17,2, -999.000,9, -999.000,9,   -999.0,9,   -999.0,9,  -999.00,9, -999.00, 20.5842
     3250031_1,   P31,    88,  1,     22,     22,2,19940217,0214,-14.8068,-178.7650, 2652,    306.7,  16.2964,  35.3059,2,  35.2996,2,    161.6,2,    156.7,2,     4.38,2,     9.67,2,     0.00,2,     0.88,2, -999.000,9, -999.000,9,   -999.0,9,   -999.0,9,  -999.00,9, -999.00, 16.2470
     3250031_1,   P31,    88,  1,     21,     21,2,19940217,0214,-14.8068,-178.7650, 2652,    407.3,  10.6673,  34.7182,2,  34.7208,2,    157.4,2,    158.9,2,    10.49,2,    19.34,2,     0.00,2,     1.45,2, -999.000,9, -999.000,9,   -999.0,9,   -999.0,9,  -999.00,9, -999.00, 10.6178
     3250031_1,   P31,    88,  1,     20,     20,2,19940217,0214,-14.8068,-178.7650, 2652,    508.3,   7.1906,  34.4315,2,  34.4356,2,    182.3,2,    186.5,2,    16.05,2,    25.60,2,     0.00,2,     1.77,2, -999.000,9, -999.000,9,   -999.0,9,   -999.0,9,  -999.00,9, -999.00,  7.1416
     3250031_1,   P31,    88,  1,     19,     19,2,19940217,0214,-14.8068,-178.7650, 2652,    608.7,   6.0152,  34.3930,2,  34.3930,2,    183.8,2,    183.2,2,    25.41,2,    29.00,2,     0.00,2,     1.98,2, -999.000,9, -999.000,9,   -999.0,9,   -999.0,9,  -999.00,9, -999.00,  5.9616
     3250031_1,   P31,    88,  1,     18,     18,2,19940217,0214,-14.8068,-178.7650, 2652,    709.8,   5.1132,  34.4263,2,  34.4258,2,    165.3,2,    163.4,2,    43.06,2,    32.31,2,     0.00,2,     2.20,2, -999.000,9, -999.000,9,   -999.0,9,   -999.0,9,  -999.00,9, -999.00,  5.0550
     3250031_1,   P31,    88,  1,     17,     17,2,19940217,0214,-14.8068,-178.7650, 2652,    810.0,   4.5130,  34.4528,2,  34.4521,2,    157.7,2,    156.2,2,    55.33,2,    33.72,2,     0.00,2,     2.30,2, -999.000,9, -999.000,9,   -999.0,9,   -999.0,9,  -999.00,9, -999.00,  4.4497
     3250031_1,   P31,    88,  1,     16,     16,2,19940217,0214,-14.8068,-178.7650, 2652,    910.8,   4.0901,  34.4815,2,  34.4792,2,    150.8,2,    150.4,2,    65.83,2,    34.62,2,     0.00,2,     2.36,2, -999.000,9, -999.000,9,   -999.0,9,   -999.0,9,  -999.00,9, -999.00,  4.0212
     3250031_1,   P31,    88,  1,     15,     15,2,19940217,0214,-14.8068,-178.7650, 2652,   1011.1,   3.7804,  34.4968,2,  34.4974,2,    149.1,2,    149.2,2,    72.73,2,    35.14,2,     0.00,2,     2.40,2, -999.000,9, -999.000,9,   -999.0,9,   -999.0,9,  -999.00,9, -999.00,  3.7056
     3250031_1,   P31,    88,  1,     14,     14,2,19940217,0214,-14.8068,-178.7650, 2652,   1211.9,   3.2529,  34.5475,2,  34.5466,2,    141.0,2,    143.1,2,    89.24,2,    35.99,2,     0.00,2,     2.45,2, -999.000,9, -999.000,9,   -999.0,9,   -999.0,9,  -999.00,9, -999.00,  3.1661
     3250031_1,   P31,    88,  1,     13,     13,2,19940217,0214,-14.8068,-178.7650, 2652,   1416.5,   2.8302,  34.5792,2,  34.5796,2,    141.9,2,    143.1,2,   101.37,2,    36.25,2,     0.00,2,     2.47,2, -999.000,9, -999.000,9,   -999.0,9,   -999.0,9,  -999.00,9, -999.00,  2.7312
     3250031_1,   P31,    88,  1,     12,     12,2,19940217,0214,-14.8068,-178.7650, 2652,   1617.9,   2.6503,  34.5935,2,  34.5935,2,    142.3,2,    143.4,2,   106.84,2,    36.19,2,     0.00,2,     2.47,2, -999.000,9, -999.000,9,   -999.0,9,   -999.0,9,  -999.00,9, -999.00,  2.5368
     3250031_1,   P31,    88,  1,     11,     11,2,19940217,0214,-14.8068,-178.7650, 2652,   1817.8,   2.4549,  34.6112,2,  34.6108,2,    143.8,2,    143.7,2,   112.76,2,    36.19,2,     0.00,2,     2.47,2, -999.000,9, -999.000,9,   -999.0,9,   -999.0,9,  -999.00,9, -999.00,  2.3272
     3250031_1,   P31,    88,  1,     10,     10,2,19940217,0214,-14.8068,-178.7650, 2652,   2023.2,   2.2582,  34.6287,2,  34.6291,2,    144.2,2,    144.7,2,   118.56,2,    36.13,2,     0.00,2,     2.49,2, -999.000,9, -999.000,9,   -999.0,9,   -999.0,9,  -999.00,9, -999.00,  2.1159
     3250031_1,   P31,    88,  1,      9,      9,2,19940217,0214,-14.8068,-178.7650, 2652,   2228.3,   2.1836,  34.6366,2,  34.6354,2,    144.5,2,    145.0,2,   120.49,2,    36.18,2,     0.00,2,     2.48,2, -999.000,9, -999.000,9,   -999.0,9,   -999.0,9,  -999.00,9, -999.00,  2.0245
     3250031_1,   P31,    88,  1,      8,      8,3,19940217,0214,-14.8068,-178.7650, 2652,   2431.0,   2.1866,  34.6377,2,  34.6713,4,    146.0,2,    144.5,4,    97.66,4,    33.33,4,     0.00,4,     2.30,4, -999.000,9, -999.000,9,   -999.0,9,   -999.0,9,  -999.00,9, -999.00,  2.0092
     3250031_1,   P31,    88,  1,      7,      7,2,19940217,0214,-14.8068,-178.7650, 2652,   2532.8,   2.1946,  34.6381,2,  34.6385,2,    145.9,2,    145.6,2,   121.03,2,    36.18,2,     0.00,2,     2.48,2, -999.000,9, -999.000,9,   -999.0,9,   -999.0,9,  -999.00,9, -999.00,  2.0077
     3250031_1,   P31,    88,  1,      4,      4,2,19940217,0214,-14.8068,-178.7650, 2652,   2617.4,   2.2017,  34.6387,2,  34.6372,2,    145.1,3,    145.3,2,   121.73,2,    36.17,2,     0.00,2,     2.48,2, -999.000,9, -999.000,9,   -999.0,9,   -999.0,9,  -999.00,9, -999.00,  2.0067
     3250031_1,   P31,    88,  1,      2,      2,2,19940217,0214,-14.8068,-178.7650, 2652,   2617.5,   2.2020,  34.6386,2,  34.6372,2,    145.1,3,    145.6,2,   120.89,2,    36.12,2,     0.00,2,     2.48,2, -999.000,9, -999.000,9,   -999.0,9,   -999.0,9,  -999.00,9, -999.00,  2.0070
     3250031_1,   P31,    88,  1,      6,      6,2,19940217,0214,-14.8068,-178.7650, 2652,   2617.6,   2.2020,  34.6386,2,  34.6381,2,    145.1,3,    144.7,2,   121.59,2,    36.23,2,     0.00,2,     2.48,2, -999.000,9, -999.000,9,   2309.8,2,   -999.0,9,  -999.00,9, -999.00,  2.0070
     3250031_1,   P31,    88,  1,      1,      1,2,19940217,0214,-14.8068,-178.7650, 2652,   2617.9,   2.2020,  34.6384,2,  34.6380,2,    145.1,3,    145.3,2,   120.87,2,    36.06,2,     0.00,2,     2.49,2, -999.000,9, -999.000,9,   -999.0,9,   -999.0,9,  -999.00,9, -999.00,  2.0070
     3250031_1,   P31,    88,  1,      3,      3,2,19940217,0214,-14.8068,-178.7650, 2652,   2618.0,   2.2018,  34.6386,2,  34.6372,2,    145.1,3,    145.1,2,   121.12,2,    36.17,2,     0.00,2,     2.48,2, -999.000,9, -999.000,9,   -999.0,9,   -999.0,9,  -999.00,9, -999.00,  2.0068
     3250031_1,   P31,    88,  1,      5,      5,2,19940217,0214,-14.8068,-178.7650, 2652,   2618.1,   2.2020,  34.6383,2,  34.6370,2,    145.1,3,    145.2,2,   121.96,2,    36.23,2,     0.00,2,     2.48,2, -999.000,9, -999.000,9,   -999.0,9,   -999.0,9,  -999.00,9, -999.00,  2.0070