BOTTLE,20020814WHPSIOdm
EXPOCODE,SECT_ID,STNNBR,CASTNO,SAMPNO,BTLNBR,BTLNBR_FLAG_W,DATE,TIME,LATITUDE,LONGITUDE,DEPTH,CTDPRS,CTDTMP,CTDSAL,CTDSAL_FLAG_W,SALNTY,SALNTY_FLAG_W,CTDOXY,CTDOXY_FLAG_W,OXYGEN,OXYGEN_FLAG_W,SILCAT,SILCAT_FLAG_W,NITRAT,NITRAT_FLAG_W,NITRIT,NITRIT_FLAG_W,PHSPHT,PHSPHT_FLAG_W,CFC-11,CFC-11_FLAG_W,CFC-12,CFC-12_FLAG_W,TCARBN,TCARBN_FLAG_W,ALKALI,ALKALI_FLAG_W,PH,PH_FLAG_W,PHTEMP,THETA
,,,,,,,,,,,,DBAR,ITS-90,PSS-78,,PSS-78,,UMOL/KG,,UMOL/KG,,UMOL/KG,,UMOL/KG,,UMOL/KG,,UMOL/KG,,PMOL/KG,,PMOL/KG,,UMOL/KG,,UMOL/KG,,,,DEG C,DEG C
     3250031_1,   P31,    74,  1,     36,     36,2,19940214,0922,-10.2593,-175.1215, 4130,      2.7,  29.6767,  33.6217,2,  33.6219,2,    185.9,2,    194.3,2,     1.63,2,     0.15,2,     0.00,2,     0.07,2,    1.569,3,    0.868,3,   -999.0,9,   -999.0,9,  -999.00,9, -999.00, 29.6760
     3250031_1,   P31,    74,  1,     35,     35,2,19940214,0922,-10.2593,-175.1215, 4130,     11.5,  29.6746,  33.6196,2,  33.6207,2,    185.0,2,    194.3,2,     1.60,2,     0.15,2,     0.01,2,     0.07,2, -999.000,9, -999.000,9,   -999.0,9,   -999.0,9,  -999.00,9, -999.00, 29.6717
     3250031_1,   P31,    74,  1,     34,     34,2,19940214,0922,-10.2593,-175.1215, 4130,     56.7,  29.5331,  34.6218,4,  34.5648,2,   -999.0,5,    200.6,2,     1.57,2,     0.15,2,     0.01,2,     0.18,2,    1.576,3,    0.855,3,   -999.0,9,   -999.0,9,  -999.00,9, -999.00, 29.5192
     3250031_1,   P31,    74,  1,     33,     33,2,19940214,0922,-10.2593,-175.1215, 4130,    106.4,  26.4188,  35.9765,2,  35.9814,2,    159.2,2,    144.0,2,     2.65,2,     5.29,2,     0.92,2,     0.69,2,    1.659,3,    0.869,3,   -999.0,9,   -999.0,9,  -999.00,9, -999.00, 26.3947
     3250031_1,   P31,    74,  1,     32,     32,2,19940214,0922,-10.2593,-175.1215, 4130,    206.1,  19.9702,  35.8008,2,  35.7499,2,    136.9,2,    134.5,2,     4.09,2,     9.62,2,     0.02,2,     0.92,2,    1.636,3,    0.856,3,   -999.0,9,   -999.0,9,  -999.00,9, -999.00, 19.9319
     3250031_1,   P31,    74,  1,     31,     31,2,19940214,0922,-10.2593,-175.1215, 4130,    305.8,  13.6035,  35.0364,2,  35.0297,2,     90.9,2,     91.8,2,    13.79,2,    21.04,2,     0.01,2,     1.66,2, -999.000,9, -999.000,9,   -999.0,9,   -999.0,9,  -999.00,9, -999.00, 13.5600
     3250031_1,   P31,    74,  1,     30,     30,2,19940214,0922,-10.2593,-175.1215, 4130,    406.8,  10.3718,  34.7486,2,  34.7400,2,    104.4,2,    106.8,2,    21.29,2,    26.30,2,     0.01,2,     1.90,2,    0.283,3,    0.152,3,   -999.0,9,   -999.0,9,  -999.00,9, -999.00, 10.3232
     3250031_1,   P31,    74,  1,     29,     29,2,19940214,0922,-10.2593,-175.1215, 4130,    507.3,   7.4287,  34.5463,2,  34.5481,2,    127.0,2,    133.6,2,    30.99,2,    30.14,2,     0.01,2,     2.08,2, -999.000,9, -999.000,9,   -999.0,9,   -999.0,9,  -999.00,9, -999.00,  7.3788
     3250031_1,   P31,    74,  1,     28,     28,2,19940214,0922,-10.2593,-175.1215, 4130,    608.9,   6.4075,  34.5117,2,  34.5120,2,    133.6,2,    128.5,2,    40.88,2,    32.95,2,     0.01,2,     2.26,2,    0.042,3,    0.021,3,   -999.0,9,   -999.0,9,  -999.00,9, -999.00,  6.3519
     3250031_1,   P31,    74,  1,     27,     27,2,19940214,0922,-10.2593,-175.1215, 4130,    709.7,   5.7392,  34.5086,2,  34.5089,2,    117.9,2,    116.5,2,    51.14,2,    35.45,2,     0.01,2,     2.43,2, -999.000,9, -999.000,9,   -999.0,9,   -999.0,9,  -999.00,9, -999.00,  5.6776
     3250031_1,   P31,    74,  1,     26,     26,2,19940214,0922,-10.2593,-175.1215, 4130,    810.4,   5.2096,  34.5060,2,  34.5060,2,    116.2,2,    116.9,2,    58.11,2,    36.19,2,     0.01,2,     2.49,2,    0.004,3,    0.000,3,   -999.0,9,   -999.0,9,  -999.00,9, -999.00,  5.1419
     3250031_1,   P31,    74,  1,     25,     25,2,19940214,0922,-10.2593,-175.1215, 4130,    911.0,   4.6664,  34.5132,2,  34.5164,2,    118.4,2,    117.7,2,    67.31,2,    36.82,2,     0.01,2,     2.54,2, -999.000,9, -999.000,9,   -999.0,9,   -999.0,9,  -999.00,9, -999.00,  4.5934
     3250031_1,   P31,    74,  1,     24,     24,2,19940214,0922,-10.2593,-175.1215, 4130,   1012.2,   4.3914,  34.5184,2,  34.5205,2,    119.8,2,    118.9,2,    72.84,2,    37.14,2,     0.01,2,     2.56,2, -999.000,9, -999.000,9,   -999.0,9,   -999.0,9,  -999.00,9, -999.00,  4.3117
     3250031_1,   P31,    74,  1,     23,     23,2,19940214,0922,-10.2593,-175.1215, 4130,   1213.4,   3.6443,  34.5468,2,  34.5469,2,    128.4,2,    125.0,2,    87.55,2,    37.20,2,     0.01,2,     2.56,2, -999.000,9, -999.000,9,   -999.0,9,   -999.0,9,  -999.00,9, -999.00,  3.5538
     3250031_1,   P31,    74,  1,     22,     22,2,19940214,0922,-10.2593,-175.1215, 4130,   1416.0,   3.0104,  34.5761,2,  34.5776,2,    133.5,2,    132.1,2,   100.39,2,    36.99,2,     0.01,2,     2.55,2, -999.000,9, -999.000,9,   -999.0,9,   -999.0,9,  -999.00,9, -999.00,  2.9094
     3250031_1,   P31,    74,  1,     21,     21,2,19940214,0922,-10.2593,-175.1215, 4130,   1614.5,   2.5974,  34.6005,2,  34.6018,2,    137.9,2,    138.1,2,   109.39,2,    36.68,2,     0.01,2,     2.52,2, -999.000,9, -999.000,9,   -999.0,9,   -999.0,9,  -999.00,9, -999.00,  2.4848
     3250031_1,   P31,    74,  1,     20,     20,2,19940214,0922,-10.2593,-175.1215, 4130,   1817.0,   2.2783,  34.6237,2,  34.6252,2,    136.0,2,    140.3,2,   117.97,2,    36.63,2,     0.01,2,     2.51,2, -999.000,9, -999.000,9,   -999.0,9,   -999.0,9,  -999.00,9, -999.00,  2.1531
     3250031_1,   P31,    74,  1,     19,     19,2,19940214,0922,-10.2593,-175.1215, 4130,   2024.1,   2.0970,  34.6383,2,  34.6405,2,    140.1,2,    138.7,2,   126.31,2,    36.79,2,     0.01,2,     2.53,2, -999.000,9, -999.000,9,   -999.0,9,   -999.0,9,  -999.00,9, -999.00,  1.9570
     3250031_1,   P31,    74,  1,     18,     18,2,19940214,0922,-10.2593,-175.1215, 4130,   2227.9,   1.9782,  34.6478,2,  34.6478,2,    141.0,2,    138.3,2,   131.14,2,    36.90,2,     0.01,2,     2.53,2, -999.000,9, -999.000,9,   -999.0,9,   -999.0,9,  -999.00,9, -999.00,  1.8226
     3250031_1,   P31,    74,  1,     17,     17,2,19940214,0922,-10.2593,-175.1215, 4130,   2429.7,   1.8742,  34.6554,2,  34.6557,2,    141.0,2,    139.8,2,   134.17,2,    36.85,2,     0.01,2,     2.52,2, -999.000,9, -999.000,9,   -999.0,9,   -999.0,9,  -999.00,9, -999.00,  1.7026
     3250031_1,   P31,    74,  1,     16,     16,2,19940214,0922,-10.2593,-175.1215, 4130,   2633.6,   1.7735,  34.6630,2,  34.6642,2,    142.2,2,    141.6,2,   137.45,2,    36.85,2,     0.01,2,     2.52,2,    0.002,3,   -0.004,3,   -999.0,9,   -999.0,9,  -999.00,9, -999.00,  1.5853
     3250031_1,   P31,    74,  1,     15,     15,2,19940214,0922,-10.2593,-175.1215, 4130,   2838.0,   1.7044,  34.6680,2,  34.6684,2,    145.2,2,    145.3,2,   138.03,2,    36.59,2,     0.01,2,     2.50,2, -999.000,9, -999.000,9,   -999.0,9,   -999.0,9,  -999.00,9, -999.00,  1.4986
     3250031_1,   P31,    74,  1,     14,     14,2,19940214,0922,-10.2593,-175.1215, 4130,   3042.2,   1.6528,  34.6723,2,  34.6735,2,    149.6,2,    148.3,2,   138.20,2,    36.39,2,     0.01,2,     2.48,2, -999.000,9, -999.000,9,   -999.0,9,   -999.0,9,  -999.00,9, -999.00,  1.4286
     3250031_1,   P31,    74,  1,     13,     13,3,19940214,0922,-10.2593,-175.1215, 4130,   3246.6,   1.6015,  34.6758,2,  34.6735,4,    152.6,2,    148.3,4,   138.16,4,    36.39,4,     0.01,4,     2.49,4, -999.000,9, -999.000,9,   -999.0,9,   -999.0,9,  -999.00,9, -999.00,  1.3584
     3250031_1,   P31,    74,  1,     12,     12,2,19940214,0922,-10.2593,-175.1215, 4130,   3348.9,   1.5839,  34.6772,2,  34.6777,2,    155.3,2,    153.9,2,   137.90,2,    36.02,2,     0.01,2,     2.46,2, -999.000,9, -999.000,9,   -999.0,9,   -999.0,9,  -999.00,9, -999.00,  1.3311
     3250031_1,   P31,    74,  1,     11,     11,2,19940214,0922,-10.2593,-175.1215, 4130,   3451.2,   1.5686,  34.6790,2,  34.6795,2,    157.3,2,    155.9,2,   137.03,2,    35.82,2,     0.01,2,     2.45,2, -999.000,9, -999.000,9,   -999.0,9,   -999.0,9,  -999.00,9, -999.00,  1.3058
     3250031_1,   P31,    74,  1,     10,     10,2,19940214,0922,-10.2593,-175.1215, 4130,   3553.5,   1.5256,  34.6816,2,  34.6815,2,    160.5,2,    159.1,2,   136.78,2,    35.66,2,     0.01,2,     2.43,2, -999.000,9, -999.000,9,   -999.0,9,   -999.0,9,  -999.00,9, -999.00,  1.2533
     3250031_1,   P31,    74,  1,      9,      9,2,19940214,0922,-10.2593,-175.1215, 4130,   3655.5,   1.4821,  34.6848,2,  34.6851,2,    165.6,2,    164.1,2,   134.67,2,    35.25,2,     0.01,2,     2.40,2, -999.000,9, -999.000,9,   -999.0,9,   -999.0,9,  -999.00,9, -999.00,  1.2004
     3250031_1,   P31,    74,  1,      8,      8,2,19940214,0922,-10.2593,-175.1215, 4130,   3706.4,   1.4530,  34.6871,2,  34.6871,2,    166.8,2,    167.7,2,   133.18,2,    34.99,2,     0.01,2,     2.38,2, -999.000,9, -999.000,9,   -999.0,9,   -999.0,9,  -999.00,9, -999.00,  1.1667
     3250031_1,   P31,    74,  1,      7,      7,2,19940214,0922,-10.2593,-175.1215, 4130,   3757.1,   1.3800,  34.6921,2,  34.6924,2,    170.6,2,    174.9,2,   129.67,2,    34.42,2,     0.01,2,     2.34,2, -999.000,9, -999.000,9,   -999.0,9,   -999.0,9,  -999.00,9, -999.00,  1.0903
     3250031_1,   P31,    74,  1,      6,      6,2,19940214,0922,-10.2593,-175.1215, 4130,   3809.0,   1.2960,  34.6980,2,  34.6973,2,    179.9,2,    183.6,2,   125.78,2,    33.80,2,     0.01,2,     2.30,2,    0.009,3,   -0.004,3,   -999.0,9,   -999.0,9,  -999.00,9, -999.00,  1.0031
     3250031_1,   P31,    74,  1,      5,      5,2,19940214,0922,-10.2593,-175.1215, 4130,   3859.8,   1.2689,  34.6998,2,  34.6993,2,    184.8,2,    186.6,2,   124.34,2,    33.49,2,     0.01,2,     2.28,2,    0.003,3,   -0.004,3,   -999.0,9,   -999.0,9,  -999.00,9, -999.00,  0.9713
     3250031_1,   P31,    74,  1,      4,      4,2,19940214,0922,-10.2593,-175.1215, 4130,   3910.6,   1.1885,  34.7057,2,  34.7058,2,    192.0,2,    195.2,2,   119.72,2,    32.81,2,     0.01,2,     2.23,2,    0.014,3,   -0.001,3,   -999.0,9,   -999.0,9,  -999.00,9, -999.00,  0.8878
     3250031_1,   P31,    74,  1,      3,      3,2,19940214,0922,-10.2593,-175.1215, 4130,   3960.9,   1.1572,  34.7068,2,  34.7069,2,    198.3,2,    198.0,2,   118.69,2,    32.60,2,     0.01,2,     2.21,2,    0.018,3,    0.009,3,   -999.0,9,   -999.0,9,  -999.00,9, -999.00,  0.8521
     3250031_1,   P31,    74,  1,      2,      2,2,19940214,0922,-10.2593,-175.1215, 4130,   4064.3,   1.1489,  34.7081,2,  34.7085,2,    201.2,2,    199.9,2,   118.25,2,    32.50,2,     0.01,2,     2.20,2,    0.016,3,    0.028,3,   -999.0,9,   -999.0,9,  -999.00,9, -999.00,  0.8328
     3250031_1,   P31,    74,  1,      1,      1,2,19940214,0922,-10.2593,-175.1215, 4130,   4125.3,   1.1354,  34.7080,2,  34.7099,2,    200.9,2,    200.3,2,   118.41,2,    32.45,2,     0.01,2,     2.20,2,    0.016,3,    0.002,3,   -999.0,9,   -999.0,9,  -999.00,9, -999.00,  0.8131