BOTTLE,20020814WHPSIOdm
EXPOCODE,SECT_ID,STNNBR,CASTNO,SAMPNO,BTLNBR,BTLNBR_FLAG_W,DATE,TIME,LATITUDE,LONGITUDE,DEPTH,CTDPRS,CTDTMP,CTDSAL,CTDSAL_FLAG_W,SALNTY,SALNTY_FLAG_W,CTDOXY,CTDOXY_FLAG_W,OXYGEN,OXYGEN_FLAG_W,SILCAT,SILCAT_FLAG_W,NITRAT,NITRAT_FLAG_W,NITRIT,NITRIT_FLAG_W,PHSPHT,PHSPHT_FLAG_W,CFC-11,CFC-11_FLAG_W,CFC-12,CFC-12_FLAG_W,TCARBN,TCARBN_FLAG_W,ALKALI,ALKALI_FLAG_W,PH,PH_FLAG_W,PHTEMP,THETA
,,,,,,,,,,,,DBAR,ITS-90,PSS-78,,PSS-78,,UMOL/KG,,UMOL/KG,,UMOL/KG,,UMOL/KG,,UMOL/KG,,UMOL/KG,,PMOL/KG,,PMOL/KG,,UMOL/KG,,UMOL/KG,,,,DEG C,DEG C
     3250031_1,   P31,    23,  1,     36,     36,2,19940131,0853,-12.9308,-158.7772, 5705,      2.6,  29.7620,  35.7430,2,  35.7430,2,    190.7,2,    192.9,2,     1.51,2,     0.00,2,     0.00,2,     0.19,2, -999.000,9, -999.000,9,   -999.0,9,   -999.0,9,  -999.00,9, -999.00, 29.7614
     3250031_1,   P31,    23,  1,     35,     35,2,19940131,0853,-12.9308,-158.7772, 5705,     12.9,  29.4733,  35.7275,2,  35.7274,2,    183.9,2,    193.5,2,     1.49,2,     0.00,2,     0.00,2,     0.18,2, -999.000,9, -999.000,9,   1968.5,2,   2361.0,2,     8.15,2,   25.00, 29.4701
     3250031_1,   P31,    23,  1,     34,     34,2,19940131,0853,-12.9308,-158.7772, 5705,     57.8,  28.5435,  36.0245,2,  36.0228,2,    196.4,2,    203.2,2,     1.48,2,     0.00,2,     0.00,2,     0.18,2, -999.000,9, -999.000,9,   1982.5,2,   2380.9,2,     8.15,2,   25.00, 28.5297
     3250031_1,   P31,    23,  1,     33,     33,2,19940131,0853,-12.9308,-158.7772, 5705,    107.9,  25.7478,  36.3484,2,  36.3434,2,    201.1,2,    192.7,2,     1.46,2,     0.00,2,     0.00,2,     0.25,2, -999.000,9, -999.000,9,   2038.0,2,   2396.1,2,  -999.00,9, -999.00, 25.7238
     3250031_1,   P31,    23,  1,     32,     32,2,19940131,0853,-12.9308,-158.7772, 5705,    207.2,  20.6238,  35.9012,2,  35.8883,2,    172.0,2,    168.1,2,     1.99,2,     4.72,2,     0.01,2,     0.56,2, -999.000,9, -999.000,9,   -999.0,9,   2370.1,2,     8.09,2,   25.00, 20.5845
     3250031_1,   P31,    23,  1,     31,     31,2,19940131,0853,-12.9308,-158.7772, 5705,    305.3,  13.7086,  34.9748,2,  34.9708,2,    140.7,2,    128.6,2,     9.40,2,    16.04,2,     0.00,2,     1.36,2, -999.000,9, -999.000,9,   2144.6,2,   2311.9,2,     7.76,2,   25.00, 13.6649
     3250031_1,   P31,    23,  1,     30,     30,2,19940131,0853,-12.9308,-158.7772, 5705,    404.5,   9.7565,  34.6343,2,  34.6314,2,    116.1,2,    118.1,2,    19.41,2,    25.32,2,     0.00,2,     1.89,2, -999.000,9, -999.000,9,   2184.8,2,   2306.4,2,     7.64,2,   25.00,  9.7100
     3250031_1,   P31,    23,  1,     29,     29,2,19940131,0853,-12.9308,-158.7772, 5705,    605.2,   6.1295,  34.4743,2,  34.4739,2,    139.5,2,    147.0,2,    38.35,2,    31.39,2,     0.00,2,     2.18,2, -999.000,9, -999.000,9,   2205.2,2,   2299.1,2,     7.60,2,   25.00,  6.0756
     3250031_1,   P31,    23,  1,     28,     28,2,19940131,0853,-12.9308,-158.7772, 5705,    805.2,   4.9749,  34.4839,2,  34.4855,2,    139.0,3,    138.4,2,    56.21,2,    34.18,2,     0.00,2,     2.37,2, -999.000,9, -999.000,9,   2234.3,2,   2328.7,2,     7.57,2,   25.00,  4.9091
     3250031_1,   P31,    23,  1,     27,     27,2,19940131,0853,-12.9308,-158.7772, 5705,   1005.1,   4.1729,  34.5167,2,  34.5170,2,    128.2,2,    129.6,2,    73.99,2,    35.91,2,     0.00,2,     2.50,2, -999.000,9, -999.000,9,   2259.8,2,   2347.3,2,     7.54,2,   25.00,  4.0954
     3250031_1,   P31,    23,  1,     26,     26,2,19940131,0853,-12.9308,-158.7772, 5705,   1256.9,   3.4739,  34.5531,2,  34.5547,2,    123.4,2,    124.5,2,    90.63,2,    36.85,2,     0.00,2,     2.59,2, -999.000,9, -999.000,9,   2280.3,2,   2369.5,2,     7.53,2,   25.00,  3.3814
     3250031_1,   P31,    23,  1,     25,     25,2,19940131,0853,-12.9308,-158.7772, 5705,   1508.3,   2.8871,  34.5831,2,  34.5828,2,    138.1,2,    134.9,2,   101.37,2,    36.17,2,     0.00,2,     2.56,2, -999.000,9, -999.000,9,   2286.1,2,   2375.6,2,     7.55,2,   25.00,  2.7799
     3250031_1,   P31,    23,  1,     24,     24,2,19940131,0853,-12.9308,-158.7772, 5705,   1761.0,   2.4091,  34.6112,2,  34.6123,2,    148.7,2,    145.5,2,   109.94,2,    35.64,2,     0.00,2,     2.50,2, -999.000,9, -999.000,9,   2289.4,2,   -999.0,9,     7.56,2,   25.00,  2.2868
     3250031_1,   P31,    23,  1,     23,     23,2,19940131,0853,-12.9308,-158.7772, 5705,   2013.2,   2.1009,  34.6372,2,  34.6372,2,    148.7,2,    147.7,2,   118.84,2,    35.54,2,     0.00,2,     2.51,2, -999.000,9, -999.000,9,   2300.7,2,   2399.4,2,     7.57,2,   25.00,  1.9617
     3250031_1,   P31,    23,  1,     22,     22,2,19940131,0853,-12.9308,-158.7772, 5705,   2265.3,   1.9518,  34.6513,2,  34.6532,2,    146.4,2,    148.7,2,   124.06,2,    35.41,2,     0.00,2,     2.50,2, -999.000,9, -999.000,9,   2306.2,2,   2408.9,2,     7.58,2,   25.00,  1.7933
     3250031_1,   P31,    23,  1,     21,     21,2,19940131,0853,-12.9308,-158.7772, 5705,   2518.4,   1.8563,  34.6620,2,  34.6610,2,    149.1,2,    148.3,2,   128.94,2,    35.51,2,     0.00,2,     2.51,2, -999.000,9, -999.000,9,   2310.5,2,   2410.3,2,     7.58,2,   25.00,  1.6770
     3250031_1,   P31,    23,  1,     20,     20,2,19940131,0853,-12.9308,-158.7772, 5705,   2771.7,   1.7493,  34.6703,2,  34.6719,2,    152.3,2,    151.4,2,   131.82,2,    35.32,2,     0.00,2,     2.49,2,    0.003,2,   -0.004,2,   2311.8,2,   2418.5,2,     7.58,2,   25.00,  1.5488
     3250031_1,   P31,    23,  1,     19,     19,2,19940131,0853,-12.9308,-158.7772, 5705,   3024.8,   1.6715,  34.6756,2,  34.6768,2,    154.2,2,    155.9,2,   132.03,2,    35.09,2,     0.00,2,     2.47,2, -999.000,9, -999.000,9,   2306.8,2,   2409.5,2,     7.58,2,   25.00,  1.4485
     3250031_1,   P31,    23,  1,     18,     18,2,19940131,0853,-12.9308,-158.7772, 5705,   3228.7,   1.6073,  34.6790,2,  34.6803,2,    161.6,2,    161.9,2,   130.17,2,    34.70,2,     0.00,2,     2.44,2, -999.000,9, -999.000,9,   2303.3,2,   2414.0,2,     7.58,2,   25.00,  1.3659
     3250031_1,   P31,    23,  1,     17,     17,2,19940131,0853,-12.9308,-158.7772, 5705,   3430.6,   1.5419,  34.6829,2,  34.6833,2,    165.2,2,    168.1,2,   128.12,2,    34.32,2,     0.00,2,     2.40,2, -999.000,9, -999.000,9,   -999.0,9,   2402.9,2,     7.59,2,   25.00,  1.2817
     3250031_1,   P31,    23,  1,     16,     16,2,19940131,0853,-12.9308,-158.7772, 5705,   3634.1,   1.4938,  34.6865,2,  34.6892,3,    170.4,2,    172.1,2,   127.10,2,    34.08,2,     0.00,2,     2.38,2, -999.000,9, -999.000,9,   2293.6,2,   2403.9,2,     7.60,2,   25.00,  1.2140
     3250031_1,   P31,    23,  1,     15,     15,2,19940131,0853,-12.9308,-158.7772, 5705,   3836.7,   1.4443,  34.6901,2,  34.6898,2,    173.5,2,    175.9,2,   126.29,2,    33.84,2,     0.00,2,     2.36,2, -999.000,9, -999.000,9,   2292.6,2,   2397.3,2,     7.60,2,   25.00,  1.1445
     3250031_1,   P31,    23,  1,     14,     14,2,19940131,0853,-12.9308,-158.7772, 5705,   4040.6,   1.4060,  34.6930,2,  34.6955,3,    178.5,2,    179.3,2,   125.88,2,    33.61,2,     0.00,2,     2.34,2, -999.000,9, -999.000,9,   2291.0,2,   2401.3,2,     7.60,2,   25.00,  1.0853
     3250031_1,   P31,    23,  1,     13,     13,2,19940131,0853,-12.9308,-158.7772, 5705,   4192.6,   1.3706,  34.6953,2,  34.6975,2,    182.9,2,    183.0,2,   124.46,2,    33.37,2,     0.00,2,     2.32,2, -999.000,9, -999.000,9,   2286.4,2,   2391.3,2,     7.61,2,   25.00,  1.0342
     3250031_1,   P31,    23,  1,     12,     12,2,19940131,0853,-12.9308,-158.7772, 5705,   4345.3,   1.3394,  34.6976,2,  34.6991,2,    186.2,2,    186.7,2,   123.24,2,    33.08,2,     0.00,2,     2.31,2, -999.000,9, -999.000,9,   2282.5,2,   2393.6,2,     7.61,2,   25.00,  0.9869
     3250031_1,   P31,    23,  1,     11,     11,2,19940131,0853,-12.9308,-158.7772, 5705,   4473.1,   1.3208,  34.6991,2,  34.6993,2,    187.8,2,    188.9,2,   122.84,2,    32.94,2,     0.00,2,     2.29,2, -999.000,9, -999.000,9,   2278.7,2,   2386.0,2,     7.60,2,   25.00,  0.9544
     3250031_1,   P31,    23,  1,     10,     10,2,19940131,0853,-12.9308,-158.7772, 5705,   4600.5,   1.3072,  34.7005,2,  34.7009,2,    191.8,2,    191.1,2,   122.23,2,    32.85,2,     0.00,2,     2.29,2, -999.000,9, -999.000,9,   2277.3,2,   2388.1,2,     7.61,2,   25.00,  0.9266
     3250031_1,   P31,    23,  1,      9,      9,2,19940131,0853,-12.9308,-158.7772, 5705,   4727.7,   1.2933,  34.7019,2,  34.7025,2,    194.5,2,    193.4,2,   121.42,2,    32.62,2,     0.00,2,     2.28,2, -999.000,9, -999.000,9,   2274.7,2,   2388.3,2,     7.61,2,   25.00,  0.8984
     3250031_1,   P31,    23,  1,      8,      8,2,19940131,0853,-12.9308,-158.7772, 5705,   4853.9,   1.2880,  34.7026,2,  34.7039,2,    195.2,2,    194.9,2,   120.82,2,    32.53,2,     0.00,2,     2.27,2, -999.000,9, -999.000,9,   2272.5,2,   2384.5,2,     7.61,2,   25.00,  0.8784
     3250031_1,   P31,    23,  1,      7,      7,2,19940131,0853,-12.9308,-158.7772, 5705,   4984.0,   1.2793,  34.7035,2,  34.7059,2,    197.0,2,    196.4,2,   120.22,2,    32.44,2,     0.00,2,     2.26,2,    0.002,2,   -0.006,2,   2270.2,2,   2389.3,2,     7.60,2,   25.00,  0.8543
     3250031_1,   P31,    23,  1,      6,      6,2,19940131,0853,-12.9308,-158.7772, 5705,   5110.0,   1.2841,  34.7046,2,  34.7061,2,    197.8,2,    197.1,2,   119.61,2,    32.20,2,     0.00,2,     2.26,2,    0.003,2,   -0.002,2,   2269.4,2,   2381.8,2,     7.61,2,   25.00,  0.8437
     3250031_1,   P31,    23,  1,      5,      5,2,19940131,0853,-12.9308,-158.7772, 5705,   5315.8,   1.3019,  34.7049,2,  34.7055,2,    198.1,2,    197.9,2,   119.81,2,    32.31,2,     0.00,2,     2.24,2,    0.005,2,   -0.004,2,   2261.9,2,   2374.9,2,     7.61,2,   25.00,  0.8356
     3250031_1,   P31,    23,  1,      4,      4,2,19940131,0853,-12.9308,-158.7772, 5705,   5519.8,   1.3252,  34.7051,2,  34.7053,2,    200.8,2,    197.8,2,   120.01,2,    32.31,2,     0.00,2,     2.25,2,    0.009,2,    0.005,2,   2277.2,2,   2389.2,2,     7.61,2,   25.00,  0.8324
     3250031_1,   P31,    23,  1,      3,      3,2,19940131,0853,-12.9308,-158.7772, 5705,   5649.0,   1.3412,  34.7052,2,  34.7048,2,    194.5,3,    197.8,2,   119.81,2,    32.27,2,     0.00,2,     2.24,2,    0.000,2,   -0.005,2,   2268.1,2,   2383.5,2,     7.61,2,   25.00,  0.8313
     3250031_1,   P31,    23,  1,      2,      2,9,19940131,0853,-12.9308,-158.7772, 5705,   5776.5,   1.3568,  34.7045,2,-999.0000,9,    194.9,3,   -999.0,9,  -999.00,9,  -999.00,9,  -999.00,9,  -999.00,9, -999.000,9, -999.000,9,   -999.0,9,   -999.0,9,     7.60,2,   25.00,  0.8298
     3250031_1,   P31,    23,  1,      1,      1,2,19940131,0853,-12.9308,-158.7772, 5705,   5884.0,   1.3702,  34.7051,2,  34.7064,2,    198.2,2,    197.8,2,   119.61,2,    32.28,2,     0.00,2,     2.24,2,    0.016,3,    0.001,2,   2267.5,2,   2388.8,2,     7.61,2,   25.00,  0.8286