BOTTLE,20020814WHPSIOdm
EXPOCODE,SECT_ID,STNNBR,CASTNO,SAMPNO,BTLNBR,BTLNBR_FLAG_W,DATE,TIME,LATITUDE,LONGITUDE,DEPTH,CTDPRS,CTDTMP,CTDSAL,CTDSAL_FLAG_W,SALNTY,SALNTY_FLAG_W,CTDOXY,CTDOXY_FLAG_W,OXYGEN,OXYGEN_FLAG_W,SILCAT,SILCAT_FLAG_W,NITRAT,NITRAT_FLAG_W,NITRIT,NITRIT_FLAG_W,PHSPHT,PHSPHT_FLAG_W,CFC-11,CFC-11_FLAG_W,CFC-12,CFC-12_FLAG_W,TCARBN,TCARBN_FLAG_W,ALKALI,ALKALI_FLAG_W,PH,PH_FLAG_W,PHTEMP,THETA
,,,,,,,,,,,,DBAR,ITS-90,PSS-78,,PSS-78,,UMOL/KG,,UMOL/KG,,UMOL/KG,,UMOL/KG,,UMOL/KG,,UMOL/KG,,PMOL/KG,,PMOL/KG,,UMOL/KG,,UMOL/KG,,,,DEG C,DEG C
     3250031_1,   P31,    57,  1,     36,     36,2,19940207,1101, -9.8763,-169.7733, 5160,      2.3,  29.5487,  34.0230,2,  34.0241,2,    191.5,2,    193.5,2,     1.83,2,     0.00,2,     0.00,2,     0.17,2,    1.533,2,    0.855,2,   -999.0,9,   2242.5,2,     8.16,2,   25.00, 29.5481
     3250031_1,   P31,    57,  1,     35,     35,2,19940207,1101, -9.8763,-169.7733, 5160,     11.5,  29.5684,  34.0278,2,  34.0464,2,    191.6,2,    194.2,2,     1.63,2,     0.00,2,     0.00,2,     0.18,2,    1.567,2,    0.884,2,   -999.0,9,   2241.1,2,     8.16,2,   25.00, 29.5656
     3250031_1,   P31,    57,  1,     34,     34,2,19940207,1101, -9.8763,-169.7733, 5160,     56.6,  30.0452,  34.6131,2,  34.6805,2,    199.8,2,    198.7,2,     1.80,2,     0.00,2,     0.00,2,     0.20,2,    1.562,2,    0.871,2,   -999.0,9,   2283.5,2,     8.15,2,   25.00, 30.0312
     3250031_1,   P31,    57,  1,     33,     33,2,19940207,1101, -9.8763,-169.7733, 5160,    106.8,  27.3261,  35.8688,2,  35.8681,2,    158.6,2,    155.7,2,     2.49,2,     3.75,2,     0.94,2,     0.61,2,    1.656,2,    0.915,2,   -999.0,9,   2363.2,2,  -999.00,9, -999.00, 27.3013
     3250031_1,   P31,    57,  1,     32,     32,2,19940207,1101, -9.8763,-169.7733, 5160,    207.2,  21.2144,  35.9502,2,  35.9542,2,    140.9,2,    139.0,2,     3.20,2,     8.36,2,     0.02,2,     0.85,2,    1.765,2,    0.930,2,   -999.0,9,   2371.3,2,     7.93,2,   25.00, 21.1742
     3250031_1,   P31,    57,  1,     31,     31,2,19940207,1101, -9.8763,-169.7733, 5160,    407.5,   9.5914,  34.7086,2,  34.7051,2,    101.3,2,    101.8,2,    24.95,2,    28.37,2,     0.00,2,     2.02,2,    0.192,6,    0.110,6,   -999.0,9,   2304.1,2,     7.60,2,   25.00,  9.5450
     3250031_1,   P31,    57,  1,     30,     30,2,19940207,1101, -9.8763,-169.7733, 5160,    609.0,   6.9647,  34.5359,2,  34.5326,2,    136.5,2,    137.6,2,    35.02,2,    30.76,2,     0.00,2,     2.13,2,    0.085,2,    0.045,2,   -999.0,9,   2307.9,2,     7.60,2,   25.00,  6.9065
     3250031_1,   P31,    57,  1,     29,     29,2,19940207,1101, -9.8763,-169.7733, 5160,    810.0,   5.3416,  34.5144,2,  34.5139,2,    112.7,2,    113.6,2,    58.65,2,    36.26,2,     0.00,2,     2.50,2,    0.012,2,    0.002,2,   -999.0,9,   2330.5,2,     7.53,2,   25.00,  5.2731
     3250031_1,   P31,    57,  1,     28,     28,2,19940207,1101, -9.8763,-169.7733, 5160,   1012.5,   4.3465,  34.5220,2,  34.5230,2,    120.7,2,    120.4,2,    74.62,2,    36.76,2,     0.00,2,     2.54,2, -999.000,9, -999.000,9,   -999.0,9,   2345.6,2,     7.53,2,   25.00,  4.2670
     3250031_1,   P31,    57,  1,     27,     27,2,19940207,1101, -9.8763,-169.7733, 5160,   1214.4,   3.6762,  34.5501,2,  34.5491,2,    124.3,2,    123.2,2,    89.13,2,    36.91,2,     0.00,2,     2.57,2, -999.000,9, -999.000,9,   -999.0,9,   2363.3,2,     7.53,2,   25.00,  3.5853
     3250031_1,   P31,    57,  1,     26,     26,2,19940207,1101, -9.8763,-169.7733, 5160,   1416.4,   3.0065,  34.5790,2,  34.5790,2,    133.2,2,    132.3,2,   101.44,2,    36.62,2,     0.00,2,     2.54,2, -999.000,9, -999.000,9,   -999.0,9,   2376.6,2,     7.54,2,   25.00,  2.9055
     3250031_1,   P31,    57,  1,     25,     25,2,19940207,1101, -9.8763,-169.7733, 5160,   1619.4,   2.6176,  34.6038,2,  34.6033,2,    134.9,2,    135.6,2,   110.94,2,    36.53,2,     0.00,2,     2.53,2, -999.000,9, -999.000,9,   -999.0,9,   2388.7,2,     7.55,2,   25.00,  2.5043
     3250031_1,   P31,    57,  1,     24,     24,2,19940207,1101, -9.8763,-169.7733, 5160,   1923.7,   2.2521,  34.6295,2,  34.6283,2,    137.7,2,    137.6,2,   121.42,2,    36.43,2,     0.00,2,     2.53,2, -999.000,9, -999.000,9,   -999.0,9,   2397.9,2,     7.55,2,   25.00,  2.1184
     3250031_1,   P31,    57,  1,     23,     23,2,19940207,1101, -9.8763,-169.7733, 5160,   2228.3,   2.0109,  34.6488,2,  34.6487,2,    138.0,2,    137.1,2,   130.58,2,    36.73,2,     0.00,2,     2.54,2, -999.000,9, -999.000,9,   -999.0,9,   2409.3,2,     7.55,2,   25.00,  1.8547
     3250031_1,   P31,    57,  1,     22,     22,2,19940207,1101, -9.8763,-169.7733, 5160,   2534.2,   1.8416,  34.6616,2,  34.6617,2,    141.1,2,    141.6,2,   134.64,2,    36.39,2,     0.00,2,     2.51,2,    0.001,2,   -0.002,2,   -999.0,9,   2420.4,2,     7.56,2,   25.00,  1.6612
     3250031_1,   P31,    57,  1,     21,     21,2,19940207,1101, -9.8763,-169.7733, 5160,   2839.7,   1.7212,  34.6704,2,  34.6716,2,    148.5,2,    147.8,2,   136.68,2,    36.10,2,     0.00,2,     2.49,2, -999.000,9, -999.000,9,   -999.0,9,   2414.9,2,     7.57,2,   25.00,  1.5149
     3250031_1,   P31,    57,  1,     20,     20,2,19940207,1101, -9.8763,-169.7733, 5160,   3145.7,   1.6300,  34.6772,2,  34.6781,2,    153.6,2,    154.1,2,   136.46,2,    35.66,2,     0.00,2,     2.46,2, -999.000,9, -999.000,9,   2318.2,2,   2419.3,2,     7.58,2,   25.00,  1.3962
     3250031_1,   P31,    57,  1,     19,     19,2,19940207,1101, -9.8763,-169.7733, 5160,   3451.9,   1.5598,  34.6821,2,  34.6824,2,    159.1,2,    159.7,2,   135.63,2,    35.18,2,     0.00,2,     2.43,2, -999.000,9, -999.000,9,   2311.3,2,   2416.8,2,     7.59,2,   25.00,  1.2971
     3250031_1,   P31,    57,  1,     18,     18,2,19940207,1101, -9.8763,-169.7733, 5160,   3656.4,   1.5123,  34.6853,2,  34.6853,2,    162.5,2,    163.0,2,   134.79,2,    34.88,2,     0.00,2,     2.42,2, -999.000,9, -999.000,9,   2308.9,2,   -999.0,9,     7.59,2,   25.00,  1.2297
     3250031_1,   P31,    57,  1,     17,     17,2,19940207,1101, -9.8763,-169.7733, 5160,   3860.7,   1.4408,  34.6893,2,  34.6901,2,    167.5,2,    167.8,2,   134.37,2,    34.59,2,     0.00,2,     2.40,2, -999.000,9, -999.000,9,   2306.1,2,   2411.5,2,     7.59,2,   25.00,  1.1386
     3250031_1,   P31,    57,  1,     16,     16,3,19940207,1101, -9.8763,-169.7733, 5160,   3963.6,   1.4100,  34.6912,2,  34.6932,4,    170.0,2,    170.4,4,   134.57,4,    34.55,4,     0.00,4,     2.38,4, -999.000,9, -999.000,9,   2304.7,2,   2414.5,2,     7.60,2,   25.00,  1.0975
     3250031_1,   P31,    57,  1,     15,     15,2,19940207,1101, -9.8763,-169.7733, 5160,   4066.3,   1.3388,  34.6991,2,  34.6999,2,    176.0,2,    183.8,2,   126.07,2,    33.47,2,     0.00,2,     2.31,2,    0.005,2,    0.001,2,   2282.7,2,   2389.3,2,     7.60,2,   25.00,  1.0172
     3250031_1,   P31,    57,  1,     14,     14,2,19940207,1101, -9.8763,-169.7733, 5160,   4168.9,   1.2835,  34.7058,2,  34.7070,2,    190.0,2,    192.2,2,   121.69,2,    32.74,2,     0.00,2,     2.26,2, -999.000,9, -999.000,9,   2270.5,2,   -999.0,9,     7.60,2,   25.00,  0.9522
     3250031_1,   P31,    57,  1,     13,     13,2,19940207,1101, -9.8763,-169.7733, 5160,   4244.9,   1.2017,  34.7086,2,  34.7086,2,    197.1,2,    198.1,2,   120.11,2,    32.25,2,     0.00,2,     2.23,2, -999.000,9, -999.000,9,   2263.8,2,   2374.3,2,     7.61,2,   25.00,  0.8645
     3250031_1,   P31,    57,  1,     12,     12,2,19940207,1101, -9.8763,-169.7733, 5160,   4321.9,   1.1403,  34.7099,2,  34.7100,2,    200.7,2,    201.4,2,   119.31,2,    32.01,2,     0.00,2,     2.22,2, -999.000,9, -999.000,9,   2261.6,2,   2377.3,2,     7.61,2,   25.00,  0.7963
     3250031_1,   P31,    57,  1,     11,     11,2,19940207,1101, -9.8763,-169.7733, 5160,   4399.4,   1.1114,  34.7100,2,  34.7090,2,    204.1,2,    203.3,2,   119.10,2,    31.97,2,     0.00,2,     2.21,2, -999.000,9, -999.000,9,   2258.8,2,   2373.6,2,     7.61,2,   25.00,  0.7597
     3250031_1,   P31,    57,  1,     10,     10,2,19940207,1101, -9.8763,-169.7733, 5160,   4476.7,   1.0831,  34.7090,2,  34.7080,2,    203.2,2,    204.6,2,   119.48,2,    32.03,2,     0.00,2,     2.21,2, -999.000,9, -999.000,9,   2260.5,2,   -999.0,9,     7.61,2,   25.00,  0.7236
     3250031_1,   P31,    57,  1,      9,      9,2,19940207,1101, -9.8763,-169.7733, 5160,   4552.9,   1.0656,  34.7090,2,  34.7094,2,    204.8,2,    205.0,2,   120.65,2,    32.08,2,     0.00,2,     2.22,2, -999.000,9, -999.000,9,   2258.8,2,   2368.8,2,     7.61,2,   25.00,  0.6980
     3250031_1,   P31,    57,  1,      8,      8,2,19940207,1101, -9.8763,-169.7733, 5160,   4630.5,   1.0526,  34.7085,2,  34.7096,2,    205.6,2,    205.5,2,   121.43,2,    32.03,2,     0.00,2,     2.21,2, -999.000,9, -999.000,9,   2259.4,2,   -999.0,9,     7.61,2,   25.00,  0.6766
     3250031_1,   P31,    57,  1,      7,      7,2,19940207,1101, -9.8763,-169.7733, 5160,   4707.4,   1.0534,  34.7082,2,  34.7094,2,    205.8,2,    205.7,2,   121.61,2,    31.99,2,     0.00,2,     2.21,2,    0.016,3,    0.006,2,   2260.0,2,   2372.1,2,     7.61,2,   25.00,  0.6685
     3250031_1,   P31,    57,  1,      6,      6,2,19940207,1101, -9.8763,-169.7733, 5160,   4784.5,   1.0593,  34.7080,2,  34.7155,4,    206.5,2,    205.7,2,   121.01,2,    31.95,2,     0.00,2,     2.22,2,    0.006,2,   -0.001,2,   2259.5,2,   -999.0,9,     7.61,2,   25.00,  0.6653
     3250031_1,   P31,    57,  1,      5,      5,2,19940207,1101, -9.8763,-169.7733, 5160,   4886.4,   1.0669,  34.7079,2,  34.7087,2,    206.9,2,    206.1,2,   120.80,2,    31.95,2,     0.00,2,     2.20,2,    0.008,2,    0.000,2,   2260.1,2,   2370.1,2,     7.61,2,   25.00,  0.6607
     3250031_1,   P31,    57,  1,      4,      4,2,19940207,1101, -9.8763,-169.7733, 5160,   4990.0,   1.0718,  34.7070,2,  34.7085,2,    207.0,2,    206.4,2,   121.18,2,    32.10,2,     0.00,2,     2.21,2,    0.005,2,    0.003,2,   2259.7,2,   -999.0,9,     7.61,2,   25.00,  0.6532
     3250031_1,   P31,    57,  1,      3,      3,2,19940207,1101, -9.8763,-169.7733, 5160,   5092.7,   1.0827,  34.7071,2,  34.7077,2,    206.7,2,    206.2,2,   121.56,2,    32.16,2,     0.00,2,     2.21,2,    0.010,3,    0.001,2,   -999.0,9,   2368.2,2,     7.61,2,   25.00,  0.6514
     3250031_1,   P31,    57,  1,      2,      2,2,19940207,1101, -9.8763,-169.7733, 5160,   5195.7,   1.0954,  34.7078,2,  34.7085,2,    204.5,3,    206.0,2,   121.95,2,    32.16,2,     0.00,2,     2.21,2,    0.012,4,    0.001,2,   -999.0,9,   2373.4,2,     7.61,2,   25.00,  0.6511
     3250031_1,   P31,    57,  1,      1,      1,2,19940207,1101, -9.8763,-169.7733, 5160,   5255.8,   1.1024,  34.7074,2,  34.7083,2,    202.6,3,    206.8,2,   121.94,2,    32.12,2,     0.00,2,     2.20,2,    0.010,2,    0.002,2,   -999.0,9,   2370.6,2,     7.61,2,   25.00,  0.6505