BOTTLE,20020814WHPSIOdm
EXPOCODE,SECT_ID,STNNBR,CASTNO,SAMPNO,BTLNBR,BTLNBR_FLAG_W,DATE,TIME,LATITUDE,LONGITUDE,DEPTH,CTDPRS,CTDTMP,CTDSAL,CTDSAL_FLAG_W,SALNTY,SALNTY_FLAG_W,CTDOXY,CTDOXY_FLAG_W,OXYGEN,OXYGEN_FLAG_W,SILCAT,SILCAT_FLAG_W,NITRAT,NITRAT_FLAG_W,NITRIT,NITRIT_FLAG_W,PHSPHT,PHSPHT_FLAG_W,CFC-11,CFC-11_FLAG_W,CFC-12,CFC-12_FLAG_W,TCARBN,TCARBN_FLAG_W,ALKALI,ALKALI_FLAG_W,PH,PH_FLAG_W,PHTEMP,THETA
,,,,,,,,,,,,DBAR,ITS-90,PSS-78,,PSS-78,,UMOL/KG,,UMOL/KG,,UMOL/KG,,UMOL/KG,,UMOL/KG,,UMOL/KG,,PMOL/KG,,PMOL/KG,,UMOL/KG,,UMOL/KG,,,,DEG C,DEG C
     3250031_1,   P31,    52,  1,     36,     36,2,19940206,0915,-10.0923,-169.1327, 4698,      2.3,  29.8933,  34.2443,2,  34.2440,2,    196.4,2,    193.6,2,     1.14,2,     0.00,2,     0.00,2,     0.17,2, -999.000,9, -999.000,9,   -999.0,9,   -999.0,9,  -999.00,9, -999.00, 29.8927
     3250031_1,   P31,    52,  1,     35,     35,2,19940206,0915,-10.0923,-169.1327, 4698,     16.9,  29.9154,  34.2563,2,  34.2550,2,    183.0,2,    196.8,2,     1.30,2,     0.00,2,     0.00,2,     0.17,2, -999.000,9, -999.000,9,   -999.0,9,   -999.0,9,  -999.00,9, -999.00, 29.9112
     3250031_1,   P31,    52,  1,     34,     34,2,19940206,0915,-10.0923,-169.1327, 4698,     54.5,  29.9494,  34.6620,2,  34.6631,2,    200.8,2,    196.7,2,     1.29,2,     0.00,2,     0.00,2,     0.19,2, -999.000,9, -999.000,9,   -999.0,9,   -999.0,9,  -999.00,9, -999.00, 29.9359
     3250031_1,   P31,    52,  1,     33,     33,2,19940206,0915,-10.0923,-169.1327, 4698,    103.7,  27.3861,  35.8424,2,  35.8400,2,    162.9,2,    157.2,2,     2.17,2,     3.94,2,     0.62,2,     0.60,2, -999.000,9, -999.000,9,   -999.0,9,   -999.0,9,  -999.00,9, -999.00, 27.3620
     3250031_1,   P31,    52,  1,     32,     32,2,19940206,0915,-10.0923,-169.1327, 4698,    206.9,  20.6137,  35.8677,2,  35.8542,2,    141.3,2,    136.9,2,     3.23,2,     9.08,2,     0.02,2,     0.89,2, -999.000,9, -999.000,9,   -999.0,9,   -999.0,9,  -999.00,9, -999.00, 20.5744
     3250031_1,   P31,    52,  1,     31,     31,9,19940206,0915,-10.0923,-169.1327, 4698,    307.0,  13.5656,  35.0274,2,-999.0000,9,     97.8,2,   -999.0,9,  -999.00,9,  -999.00,9,  -999.00,9,  -999.00,9, -999.000,9, -999.000,9,   -999.0,9,   -999.0,9,  -999.00,9, -999.00, 13.5220
     3250031_1,   P31,    52,  1,     30,     30,2,19940206,0915,-10.0923,-169.1327, 4698,    407.2,   9.7087,  34.7029,2,  34.7013,2,    109.1,2,    103.6,2,    23.00,2,    27.56,2,     0.00,2,     1.99,2, -999.000,9, -999.000,9,   -999.0,9,   -999.0,9,  -999.00,9, -999.00,  9.6620
     3250031_1,   P31,    52,  1,     29,     29,2,19940206,0915,-10.0923,-169.1327, 4698,    508.6,   7.4486,  34.5579,2,  34.5551,2,    137.2,2,    136.6,2,    30.54,2,    29.71,2,     0.00,2,     2.07,2, -999.000,9, -999.000,9,   -999.0,9,   -999.0,9,  -999.00,9, -999.00,  7.3985
     3250031_1,   P31,    52,  1,     28,     28,2,19940206,0915,-10.0923,-169.1327, 4698,    607.9,   6.5345,  34.5275,2,  34.5258,2,    121.8,2,    122.4,2,    40.08,2,    33.01,2,     0.00,2,     2.29,2, -999.000,9, -999.000,9,   -999.0,9,   -999.0,9,  -999.00,9, -999.00,  6.4785
     3250031_1,   P31,    52,  1,     27,     27,2,19940206,0915,-10.0923,-169.1327, 4698,    810.3,   5.2487,  34.5086,2,  34.5091,2,    116.8,2,    117.2,2,    57.57,2,    35.88,2,     0.00,2,     2.49,2, -999.000,9, -999.000,9,   -999.0,9,   -999.0,9,  -999.00,9, -999.00,  5.1808
     3250031_1,   P31,    52,  1,     26,     26,2,19940206,0915,-10.0923,-169.1327, 4698,   1012.2,   4.3644,  34.5251,2,  34.5237,2,    115.5,2,    118.6,2,    73.18,2,    36.73,2,     0.00,2,     2.56,2, -999.000,9, -999.000,9,   -999.0,9,   -999.0,9,  -999.00,9, -999.00,  4.2849
     3250031_1,   P31,    52,  1,     25,     25,2,19940206,0915,-10.0923,-169.1327, 4698,   1265.1,   3.4558,  34.5577,2,  34.5567,2,    125.9,2,    126.5,2,    91.39,2,    36.73,2,     0.00,2,     2.56,2, -999.000,9, -999.000,9,   -999.0,9,   -999.0,9,  -999.00,9, -999.00,  3.3628
     3250031_1,   P31,    52,  1,     24,     24,2,19940206,0915,-10.0923,-169.1327, 4698,   1518.6,   2.7882,  34.5918,2,  34.5908,2,    135.9,2,    134.7,2,   104.90,2,    36.39,2,     0.00,2,     2.55,2, -999.000,9, -999.000,9,   -999.0,9,   -999.0,9,  -999.00,9, -999.00,  2.6812
     3250031_1,   P31,    52,  1,     23,     23,2,19940206,0915,-10.0923,-169.1327, 4698,   1771.7,   2.3910,  34.6215,2,  34.6211,2,    137.3,2,    134.4,4,   117.40,2,    36.54,2,     0.00,2,     2.55,2, -999.000,9, -999.000,9,   -999.0,9,   -999.0,9,  -999.00,9, -999.00,  2.2681
     3250031_1,   P31,    52,  1,     22,     22,2,19940206,0915,-10.0923,-169.1327, 4698,   2025.9,   2.1201,  34.6405,2,  34.6421,2,    137.6,2,    136.1,2,   125.48,2,    36.45,2,     0.00,2,     2.55,2, -999.000,9, -999.000,9,   -999.0,9,   -999.0,9,  -999.00,9, -999.00,  1.9796
     3250031_1,   P31,    52,  1,     21,     21,2,19940206,0915,-10.0923,-169.1327, 4698,   2279.5,   1.9576,  34.6522,2,  34.6519,2,    140.1,2,    140.1,2,   129.50,2,    36.36,2,     0.00,2,     2.53,2, -999.000,9, -999.000,9,   -999.0,9,   -999.0,9,  -999.00,9, -999.00,  1.7978
     3250031_1,   P31,    52,  1,     20,     20,2,19940206,0915,-10.0923,-169.1327, 4698,   2534.6,   1.8453,  34.6622,2,  34.6625,2,    140.2,2,    141.4,2,   133.16,2,    36.41,2,     0.00,2,     2.53,2, -999.000,9, -999.000,9,   -999.0,9,   -999.0,9,  -999.00,9, -999.00,  1.6648
     3250031_1,   P31,    52,  1,     19,     19,2,19940206,0915,-10.0923,-169.1327, 4698,   2788.8,   1.7431,  34.6694,2,  34.6702,2,    146.0,2,    146.7,2,   136.04,2,    36.07,2,     0.00,2,     2.50,2, -999.000,9, -999.000,9,   -999.0,9,   -999.0,9,  -999.00,9, -999.00,  1.5411
     3250031_1,   P31,    52,  1,     18,     18,2,19940206,0915,-10.0923,-169.1327, 4698,   3043.7,   1.6641,  34.6750,2,  34.6743,2,    152.0,2,    151.7,2,   135.85,2,    35.73,2,     0.00,2,     2.47,2, -999.000,9, -999.000,9,   -999.0,9,   -999.0,9,  -999.00,9, -999.00,  1.4395
     3250031_1,   P31,    52,  1,     17,     17,2,19940206,0915,-10.0923,-169.1327, 4698,   3247.7,   1.6032,  34.6786,2,  34.6792,2,    155.5,2,    155.9,2,   135.45,2,    35.38,2,     0.00,2,     2.45,2, -999.000,9, -999.000,9,   -999.0,9,   -999.0,9,  -999.00,9, -999.00,  1.3600
     3250031_1,   P31,    52,  1,     16,     16,2,19940206,0915,-10.0923,-169.1327, 4698,   3451.6,   1.5707,  34.6814,2,  34.6816,2,    160.1,2,    158.9,2,   135.05,2,    35.24,2,     0.00,2,     2.44,2, -999.000,9, -999.000,9,   -999.0,9,   -999.0,9,  -999.00,9, -999.00,  1.3078
     3250031_1,   P31,    52,  1,     15,     15,2,19940206,0915,-10.0923,-169.1327, 4698,   3553.5,   1.5489,  34.6837,2,  34.6834,2,    161.5,2,    160.4,2,   134.66,2,    35.15,2,     0.00,2,     2.42,2, -999.000,9, -999.000,9,   -999.0,9,   -999.0,9,  -999.00,9, -999.00,  1.2760
     3250031_1,   P31,    52,  1,     14,     14,2,19940206,0915,-10.0923,-169.1327, 4698,   3656.2,   1.5250,  34.6847,2,  34.6844,2,    161.9,2,    162.7,2,   134.26,2,    34.96,2,     0.00,2,     2.42,2, -999.000,9, -999.000,9,   -999.0,9,   -999.0,9,  -999.00,9, -999.00,  1.2420
     3250031_1,   P31,    52,  1,     13,     13,2,19940206,0915,-10.0923,-169.1327, 4698,   3758.3,   1.4944,  34.6870,2,  34.6867,2,    165.5,2,    164.9,2,   133.86,2,    34.76,2,     0.00,2,     2.40,2, -999.000,9, -999.000,9,   -999.0,9,   -999.0,9,  -999.00,9, -999.00,  1.2015
     3250031_1,   P31,    52,  1,     12,     12,2,19940206,0915,-10.0923,-169.1327, 4698,   3860.7,   1.4638,  34.6888,2,  34.6881,2,    168.8,2,    167.0,2,   133.67,2,    34.72,2,     0.00,2,     2.39,2, -999.000,9, -999.000,9,   -999.0,9,   -999.0,9,  -999.00,9, -999.00,  1.1609
     3250031_1,   P31,    52,  1,     11,     11,2,19940206,0915,-10.0923,-169.1327, 4698,   3962.9,   1.4251,  34.6912,2,  34.6903,2,    171.2,2,    170.2,2,   133.28,2,    34.57,2,     0.00,2,     2.38,2, -999.000,9, -999.000,9,   -999.0,9,   -999.0,9,  -999.00,9, -999.00,  1.1123
     3250031_1,   P31,    52,  1,     10,     10,2,19940206,0915,-10.0923,-169.1327, 4698,   4065.4,   1.3916,  34.6933,2,  34.6924,2,    174.7,2,    174.3,2,   132.68,2,    34.33,2,     0.00,2,     2.35,2, -999.000,9, -999.000,9,   -999.0,9,   -999.0,9,  -999.00,9, -999.00,  1.0686
     3250031_1,   P31,    52,  1,      9,      9,2,19940206,0915,-10.0923,-169.1327, 4698,   4143.0,   1.3795,  34.6944,2,  34.6940,2,    176.9,2,    176.3,2,   131.67,2,    34.14,2,     0.00,2,     2.34,2, -999.000,9, -999.000,9,   -999.0,9,   -999.0,9,  -999.00,9, -999.00,  1.0483
     3250031_1,   P31,    52,  1,      8,      8,2,19940206,0915,-10.0923,-169.1327, 4698,   4219.4,   1.3589,  34.6979,2,  34.6964,2,    179.7,2,    179.7,2,   128.85,2,    33.80,2,     0.00,2,     2.33,2, -999.000,9, -999.000,9,   -999.0,9,   -999.0,9,  -999.00,9, -999.00,  1.0199
     3250031_1,   P31,    52,  1,      7,      7,2,19940206,0915,-10.0923,-169.1327, 4698,   4296.7,   1.2766,  34.7001,2,  34.7001,2,    186.0,2,    187.1,2,   126.06,2,    33.31,2,     0.00,2,     2.29,2,   -0.002,2,   -0.004,2,   -999.0,9,   -999.0,9,  -999.00,9, -999.00,  0.9314
     3250031_1,   P31,    52,  1,      6,      6,2,19940206,0915,-10.0923,-169.1327, 4698,   4371.8,   1.1828,  34.7056,2,  34.7056,2,    193.9,2,    196.4,2,   121.70,2,    32.52,2,     0.00,2,     2.23,2,    0.003,2,    0.003,2,   -999.0,9,   -999.0,9,  -999.00,9, -999.00,  0.8321
     3250031_1,   P31,    52,  1,      5,      5,2,19940206,0915,-10.0923,-169.1327, 4698,   4450.3,   1.1297,  34.7066,2,  34.7054,2,    197.8,2,    199.8,2,   121.51,2,    32.38,2,     0.00,2,     2.22,2,    0.003,2,   -0.001,2,   -999.0,9,   -999.0,9,  -999.00,9, -999.00,  0.7717
     3250031_1,   P31,    52,  1,      4,      4,2,19940206,0915,-10.0923,-169.1327, 4698,   4526.8,   1.1036,  34.7071,2,  34.7066,2,    201.5,2,    201.8,2,   121.13,2,    32.24,2,     0.00,2,     2.21,2,    0.000,2,   -0.003,2,   -999.0,9,   -999.0,9,  -999.00,9, -999.00,  0.7378
     3250031_1,   P31,    52,  1,      3,      3,2,19940206,0915,-10.0923,-169.1327, 4698,   4603.8,   1.0688,  34.7079,2,  34.7068,2,    203.6,2,    204.3,2,   120.55,2,    32.14,2,     0.00,2,     2.20,2,   -0.009,4,   -0.005,4,   -999.0,9,   -999.0,9,  -999.00,9, -999.00,  0.6953
     3250031_1,   P31,    52,  1,      2,      2,2,19940206,0915,-10.0923,-169.1327, 4698,   4680.6,   1.0447,  34.7083,2,  34.7073,2,    207.7,2,    205.4,2,   121.15,2,    32.15,2,     0.00,2,     2.20,2,    0.002,2,   -0.004,2,   -999.0,9,   -999.0,9,  -999.00,9, -999.00,  0.6632
     3250031_1,   P31,    52,  1,      1,      1,2,19940206,0915,-10.0923,-169.1327, 4698,   4732.4,   1.0484,  34.7082,2,  34.7075,2,    205.4,2,    203.0,3,   121.36,2,    32.10,2,     0.00,2,     2.20,2,    0.007,2,    0.006,2,   -999.0,9,   -999.0,9,  -999.00,9, -999.00,  0.6608