BOTTLE,20020814WHPSIOdm
EXPOCODE,SECT_ID,STNNBR,CASTNO,SAMPNO,BTLNBR,BTLNBR_FLAG_W,DATE,TIME,LATITUDE,LONGITUDE,DEPTH,CTDPRS,CTDTMP,CTDSAL,CTDSAL_FLAG_W,SALNTY,SALNTY_FLAG_W,CTDOXY,CTDOXY_FLAG_W,OXYGEN,OXYGEN_FLAG_W,SILCAT,SILCAT_FLAG_W,NITRAT,NITRAT_FLAG_W,NITRIT,NITRIT_FLAG_W,PHSPHT,PHSPHT_FLAG_W,CFC-11,CFC-11_FLAG_W,CFC-12,CFC-12_FLAG_W,TCARBN,TCARBN_FLAG_W,ALKALI,ALKALI_FLAG_W,PH,PH_FLAG_W,PHTEMP,THETA
,,,,,,,,,,,,DBAR,ITS-90,PSS-78,,PSS-78,,UMOL/KG,,UMOL/KG,,UMOL/KG,,UMOL/KG,,UMOL/KG,,UMOL/KG,,PMOL/KG,,PMOL/KG,,UMOL/KG,,UMOL/KG,,,,DEG C,DEG C
     3250031_1,   P31,    42,  1,     36,     36,2,19940204,0840,-10.1283,-165.7292, 4067,      2.5,  29.9604,  34.3506,2,  34.3494,2,    187.2,2,    193.9,2,     1.19,2,     0.00,2,     0.00,2,     0.17,2,    1.569,2,    0.861,2,   -999.0,9,   -999.0,9,  -999.00,9, -999.00, 29.9598
     3250031_1,   P31,    42,  1,     35,     35,2,19940204,0840,-10.1283,-165.7292, 4067,     11.2,  29.9841,  34.4046,2,  34.3947,2,    190.9,2,    193.8,2,     1.18,2,     0.00,2,     0.00,2,     0.17,2,    1.540,2,    0.832,2,   -999.0,9,   -999.0,9,  -999.00,9, -999.00, 29.9813
     3250031_1,   P31,    42,  1,     34,     34,2,19940204,0840,-10.1283,-165.7292, 4067,     54.8,  29.9924,  34.7070,2,  34.6873,2,    198.1,2,    195.6,2,     1.17,2,     0.00,2,     0.00,2,     0.18,2,    1.519,2,    0.822,2,   -999.0,9,   -999.0,9,  -999.00,9, -999.00, 29.9788
     3250031_1,   P31,    42,  1,     33,     33,2,19940204,0840,-10.1283,-165.7292, 4067,    104.7,  27.9013,  36.0044,2,  35.9862,2,    188.0,2,    191.3,2,     1.15,2,     0.11,2,     0.04,2,     0.28,2,    1.684,2,    0.919,2,   -999.0,9,   -999.0,9,  -999.00,9, -999.00, 27.8766
     3250031_1,   P31,    42,  1,     32,     32,2,19940204,0840,-10.1283,-165.7292, 4067,    206.0,  20.0314,  35.8094,2,  35.7870,2,    152.9,2,    145.8,2,     2.97,2,     8.11,2,     0.01,2,     0.82,2,    1.753,2,    0.890,6,   -999.0,9,   -999.0,9,  -999.00,9, -999.00, 19.9930
     3250031_1,   P31,    42,  1,     31,     31,2,19940204,0840,-10.1283,-165.7292, 4067,    305.8,  13.3230,  34.9797,2,  34.9805,2,    101.3,2,    100.3,2,    12.44,2,    19.89,2,     0.00,2,     1.62,2,    0.811,2,    0.430,2,   -999.0,9,   -999.0,9,  -999.00,9, -999.00, 13.2801
     3250031_1,   P31,    42,  1,     30,     30,2,19940204,0840,-10.1283,-165.7292, 4067,    406.8,   9.3200,  34.6634,2,  34.6682,2,    105.2,2,    106.2,2,    23.74,2,    27.98,2,     0.00,2,     2.02,2,    0.173,2,    0.082,2,   -999.0,9,   -999.0,9,  -999.00,9, -999.00,  9.2745
     3250031_1,   P31,    42,  1,     29,     29,2,19940204,0840,-10.1283,-165.7292, 4067,    507.6,   7.6302,  34.5711,2,  34.5702,2,    119.9,2,    119.4,2,    31.58,2,    30.87,2,     0.00,2,     2.16,2,    0.079,2,    0.046,2,   -999.0,9,   -999.0,9,  -999.00,9, -999.00,  7.5795
     3250031_1,   P31,    42,  1,     28,     28,2,19940204,0840,-10.1283,-165.7292, 4067,    607.2,   6.5888,  34.5285,2,  34.5295,2,    120.2,2,    120.1,2,    39.96,2,    33.04,2,     0.00,2,     2.30,2,    0.039,2,    0.022,2,   -999.0,9,   -999.0,9,  -999.00,9, -999.00,  6.5325
     3250031_1,   P31,    42,  1,     27,     27,2,19940204,0840,-10.1283,-165.7292, 4067,    709.2,   5.9261,  34.5169,2,  34.5165,2,    109.3,2,    112.7,2,    48.72,2,    35.22,2,     0.00,2,     2.44,2,    0.026,2,    0.014,2,   -999.0,9,   -999.0,9,  -999.00,9, -999.00,  5.8635
     3250031_1,   P31,    42,  1,     26,     26,2,19940204,0840,-10.1283,-165.7292, 4067,    809.1,   5.3114,  34.5100,2,  34.5110,2,    113.3,2,    114.8,2,    57.30,2,    36.02,2,     0.00,2,     2.50,2,    0.035,2,    0.025,2,   -999.0,9,   -999.0,9,  -999.00,9, -999.00,  5.2432
     3250031_1,   P31,    42,  1,     25,     25,2,19940204,0840,-10.1283,-165.7292, 4067,    909.8,   4.8746,  34.5143,2,  34.5154,2,    114.1,2,    115.4,2,    64.99,2,    36.52,2,     0.00,2,     2.55,2,   -0.001,2,   -0.002,2,   -999.0,9,   -999.0,9,  -999.00,9, -999.00,  4.8003
     3250031_1,   P31,    42,  1,     24,     24,2,19940204,0840,-10.1283,-165.7292, 4067,   1009.1,   4.4227,  34.5248,2,  34.5263,2,    117.0,2,    116.8,2,    73.80,2,    36.88,2,     0.00,2,     2.58,2,    0.007,2,   -0.002,2,   -999.0,9,   -999.0,9,  -999.00,9, -999.00,  4.3430
     3250031_1,   P31,    42,  1,     23,     23,2,19940204,0840,-10.1283,-165.7292, 4067,   1208.8,   3.6367,  34.5498,2,  34.5503,2,    124.3,2,    125.2,2,    88.83,2,    36.73,2,     0.00,2,     2.57,2, -999.000,9, -999.000,9,   -999.0,9,   -999.0,9,  -999.00,9, -999.00,  3.5466
     3250031_1,   P31,    42,  1,     22,     22,2,19940204,0840,-10.1283,-165.7292, 4067,   1412.3,   3.0488,  34.5778,2,  34.5778,2,    131.4,2,    131.6,2,   100.68,2,    36.49,2,     0.00,2,     2.55,2, -999.000,9, -999.000,9,   -999.0,9,   -999.0,9,  -999.00,9, -999.00,  2.9477
     3250031_1,   P31,    42,  1,     21,     21,2,19940204,0840,-10.1283,-165.7292, 4067,   1617.5,   2.5819,  34.6040,2,  34.6047,2,    136.7,2,    137.3,2,   110.63,2,    36.35,2,     0.00,2,     2.54,2,   -0.002,2,   -0.003,2,   -999.0,9,   -999.0,9,  -999.00,9, -999.00,  2.4693
     3250031_1,   P31,    42,  1,     20,     20,2,19940204,0840,-10.1283,-165.7292, 4067,   1820.3,   2.2771,  34.6260,2,  34.6261,2,    137.4,2,    139.1,2,   119.40,2,    36.40,2,     0.00,2,     2.53,2, -999.000,9, -999.000,9,   -999.0,9,   -999.0,9,  -999.00,9, -999.00,  2.1517
     3250031_1,   P31,    42,  1,     19,     19,2,19940204,0840,-10.1283,-165.7292, 4067,   2023.2,   2.1353,  34.6403,2,  34.6408,2,    134.9,2,    133.5,2,   127.74,2,    36.85,2,     0.00,2,     2.57,2, -999.000,9, -999.000,9,   -999.0,9,   -999.0,9,  -999.00,9, -999.00,  1.9948
     3250031_1,   P31,    42,  1,     18,     18,2,19940204,0840,-10.1283,-165.7292, 4067,   2227.4,   1.9648,  34.6508,2,  34.6522,2,    141.8,2,    139.8,2,   130.55,2,    36.46,2,     0.00,2,     2.54,2,    0.001,2,   -0.003,2,   -999.0,9,   -999.0,9,  -999.00,9, -999.00,  1.8094
     3250031_1,   P31,    42,  1,     17,     17,2,19940204,0840,-10.1283,-165.7292, 4067,   2431.3,   1.8618,  34.6591,2,  34.6589,2,    145.2,2,    143.1,2,   132.56,2,    36.27,2,     0.00,2,     2.51,2, -999.000,9, -999.000,9,   -999.0,9,   -999.0,9,  -999.00,9, -999.00,  1.6903
     3250031_1,   P31,    42,  1,     16,     16,2,19940204,0840,-10.1283,-165.7292, 4067,   2634.2,   1.7646,  34.6663,2,  34.6664,2,    150.2,2,    147.6,2,   133.55,2,    35.92,2,     0.00,2,     2.49,2, -999.000,9, -999.000,9,   -999.0,9,   -999.0,9,  -999.00,9, -999.00,  1.5765
     3250031_1,   P31,    42,  1,     15,     15,2,19940204,0840,-10.1283,-165.7292, 4067,   2736.1,   1.7295,  34.6693,2,  34.6675,2,    151.9,2,    149.4,2,   134.34,2,    35.83,2,     0.00,2,     2.48,2, -999.000,9, -999.000,9,   -999.0,9,   -999.0,9,  -999.00,9, -999.00,  1.5327
     3250031_1,   P31,    42,  1,     14,     14,2,19940204,0840,-10.1283,-165.7292, 4067,   2838.1,   1.6861,  34.6721,2,  34.6724,2,    154.2,2,    151.7,2,   134.52,2,    35.69,2,     0.00,2,     2.47,2,    0.002,2,   -0.002,2,   -999.0,9,   -999.0,9,  -999.00,9, -999.00,  1.4806
     3250031_1,   P31,    42,  1,     13,     13,2,19940204,0840,-10.1283,-165.7292, 4067,   2940.2,   1.6559,  34.6736,2,  34.6740,2,    151.9,2,    153.1,2,   134.90,2,    35.64,2,     0.00,2,     2.46,2, -999.000,9, -999.000,9,   -999.0,9,   -999.0,9,  -999.00,9, -999.00,  1.4414
     3250031_1,   P31,    42,  1,     12,     12,2,19940204,0840,-10.1283,-165.7292, 4067,   3041.9,   1.6243,  34.6760,2,  34.6764,2,    153.2,2,    155.1,2,   134.87,2,    35.50,2,     0.00,2,     2.46,2, -999.000,9, -999.000,9,   -999.0,9,   -999.0,9,  -999.00,9, -999.00,  1.4007
     3250031_1,   P31,    42,  1,     11,     11,2,19940204,0840,-10.1283,-165.7292, 4067,   3143.2,   1.6011,  34.6776,2,  34.6777,2,    155.2,2,    157.3,2,   134.22,2,    35.41,2,     0.00,2,     2.44,2, -999.000,9, -999.000,9,   -999.0,9,   -999.0,9,  -999.00,9, -999.00,  1.3682
     3250031_1,   P31,    42,  1,     10,     10,2,19940204,0840,-10.1283,-165.7292, 4067,   3245.7,   1.5813,  34.6794,2,  34.6797,2,    157.2,2,    158.6,2,   134.40,2,    35.31,2,     0.00,2,     2.43,2,    0.004,2,    0.002,2,   -999.0,9,   -999.0,9,  -999.00,9, -999.00,  1.3388
     3250031_1,   P31,    42,  1,      9,      9,2,19940204,0840,-10.1283,-165.7292, 4067,   3348.6,   1.5552,  34.6813,2,  34.6807,2,    160.2,2,    160.9,2,   133.95,2,    35.17,2,     0.00,2,     2.43,2, -999.000,9, -999.000,9,   -999.0,9,   -999.0,9,  -999.00,9, -999.00,  1.3030
     3250031_1,   P31,    42,  1,      8,      8,2,19940204,0840,-10.1283,-165.7292, 4067,   3450.5,   1.5371,  34.6827,2,  34.6824,2,    160.4,2,    162.3,2,   132.90,2,    35.08,2,     0.00,2,     2.42,2, -999.000,9, -999.000,9,   -999.0,9,   -999.0,9,  -999.00,9, -999.00,  1.2750
     3250031_1,   P31,    42,  1,      7,      7,2,19940204,0840,-10.1283,-165.7292, 4067,   3552.8,   1.5073,  34.6842,2,  34.6836,2,    163.0,2,    164.8,2,   133.28,2,    34.88,2,     0.00,2,     2.41,2, -999.000,9, -999.000,9,   -999.0,9,   -999.0,9,  -999.00,9, -999.00,  1.2355
     3250031_1,   P31,    42,  1,      6,      6,2,19940204,0840,-10.1283,-165.7292, 4067,   3655.1,   1.4749,  34.6865,2,  34.6864,2,    166.3,2,    167.4,2,   133.04,2,    34.79,2,     0.00,2,     2.40,2,    0.014,3,   -0.001,2,   -999.0,9,   -999.0,9,  -999.00,9, -999.00,  1.1934
     3250031_1,   P31,    42,  1,      5,      5,2,19940204,0840,-10.1283,-165.7292, 4067,   3757.4,   1.4633,  34.6875,2,  34.6873,2,    170.3,2,    169.0,2,   132.40,2,    34.65,2,     0.00,2,     2.39,2,    0.012,2,    0.000,2,   -999.0,9,   -999.0,9,  -999.00,9, -999.00,  1.1714
     3250031_1,   P31,    42,  1,      4,      4,2,19940204,0840,-10.1283,-165.7292, 4067,   3859.5,   1.4496,  34.6886,2,  34.6867,2,    171.9,2,    170.7,2,   131.96,2,    34.60,2,     0.00,2,     2.39,2,    0.017,3,    0.000,2,   -999.0,9,   -999.0,9,  -999.00,9, -999.00,  1.1472
     3250031_1,   P31,    42,  1,      3,      3,2,19940204,0840,-10.1283,-165.7292, 4067,   3961.6,   1.4253,  34.6901,2,  34.6891,2,    174.4,2,    173.4,2,   130.91,2,    34.26,2,     0.00,2,     2.37,2,    0.002,2,   -0.004,2,   -999.0,9,   -999.0,9,  -999.00,9, -999.00,  1.1127
     3250031_1,   P31,    42,  1,      2,      2,2,19940204,0840,-10.1283,-165.7292, 4067,   4064.3,   1.3684,  34.6929,2,  34.6928,2,    177.4,2,    178.4,2,   129.06,2,    33.97,2,     0.00,2,     2.35,2,    0.009,3,   -0.004,2,   -999.0,9,   -999.0,9,  -999.00,9, -999.00,  1.0462
     3250031_1,   P31,    42,  1,      1,      1,2,19940204,0840,-10.1283,-165.7292, 4067,   4156.7,   1.2939,  34.6961,2,  34.6958,2,    184.9,2,    184.3,2,   127.22,2,    33.53,2,     0.00,2,     2.32,2,    0.001,2,    0.001,2,   -999.0,9,   -999.0,9,  -999.00,9, -999.00,  0.9638
     3250031_1,   P31,    43,  1,     30,     30,2,19940204,1325,-10.0007,-166.0495, 3494,      2.3,  29.9208,  34.3681,2,  34.3676,2,    180.6,2,    193.5,2,     1.33,2,     0.00,2,     0.00,2,     0.16,2, -999.000,9, -999.000,9,   -999.0,9,   -999.0,9,  -999.00,9, -999.00, 29.9202
     3250031_1,   P31,    43,  1,     29,     29,2,19940204,1325,-10.0007,-166.0495, 3494,     15.4,  29.9581,  34.4170,2,  34.4236,2,    193.1,2,    193.9,2,     1.31,2,     0.00,2,     0.00,2,     0.17,2, -999.000,9, -999.000,9,   -999.0,9,   -999.0,9,  -999.00,9, -999.00, 29.9543
     3250031_1,   P31,    43,  1,     28,     28,2,19940204,1325,-10.0007,-166.0495, 3494,     55.5,  29.8890,  34.6176,2,  34.6643,2,    192.3,2,    196.7,2,     1.29,2,     0.00,2,     0.00,2,     0.18,2, -999.000,9, -999.000,9,   -999.0,9,   -999.0,9,  -999.00,9, -999.00, 29.8753
     3250031_1,   P31,    43,  1,     27,     27,2,19940204,1325,-10.0007,-166.0495, 3494,    105.3,  27.9615,  35.8452,2,  35.8689,2,    178.2,2,    175.2,2,     1.64,2,     1.50,2,     0.24,2,     0.42,2, -999.000,9, -999.000,9,   -999.0,9,   -999.0,9,  -999.00,9, -999.00, 27.9366
     3250031_1,   P31,    43,  1,     26,     26,2,19940204,1325,-10.0007,-166.0495, 3494,    206.3,  20.0726,  35.8144,2,  35.7966,2,    150.6,2,    145.7,2,     2.90,2,     8.13,2,     0.01,2,     0.82,2, -999.000,9, -999.000,9,   -999.0,9,   -999.0,9,  -999.00,9, -999.00, 20.0341
     3250031_1,   P31,    43,  1,     25,     25,2,19940204,1325,-10.0007,-166.0495, 3494,    306.4,  12.9329,  34.9516,2,  34.9465,2,     94.6,2,     91.8,2,    14.59,2,    21.86,2,     0.00,2,     1.73,2, -999.000,9, -999.000,9,   -999.0,9,   -999.0,9,  -999.00,9, -999.00, 12.8907
     3250031_1,   P31,    43,  1,     24,     24,2,19940204,1325,-10.0007,-166.0495, 3494,    407.1,   9.6589,  34.6829,2,  34.6766,2,    104.0,2,    104.7,2,    23.17,2,    27.58,2,     0.00,2,     2.02,2, -999.000,9, -999.000,9,   -999.0,9,   -999.0,9,  -999.00,9, -999.00,  9.6124
     3250031_1,   P31,    43,  1,     23,     23,2,19940204,1325,-10.0007,-166.0495, 3494,    507.9,   7.7556,  34.5772,2,  34.5742,2,    119.5,2,    120.1,2,    31.20,2,    30.56,2,     0.00,2,     2.14,2, -999.000,9, -999.000,9,   -999.0,9,   -999.0,9,  -999.00,9, -999.00,  7.7044
     3250031_1,   P31,    43,  1,     22,     22,2,19940204,1325,-10.0007,-166.0495, 3494,    608.5,   6.5131,  34.5278,2,  34.5291,2,    113.0,2,    116.3,2,    41.61,2,    33.59,2,     0.00,2,     2.33,2, -999.000,9, -999.000,9,   -999.0,9,   -999.0,9,  -999.00,9, -999.00,  6.4571
     3250031_1,   P31,    43,  1,     21,     21,2,19940204,1325,-10.0007,-166.0495, 3494,    708.7,   5.8914,  34.5141,2,  34.5146,2,    114.8,2,    116.4,2,    49.28,2,    34.97,2,     0.00,2,     2.43,2, -999.000,9, -999.000,9,   -999.0,9,   -999.0,9,  -999.00,9, -999.00,  5.8290
     3250031_1,   P31,    43,  1,     20,     20,2,19940204,1325,-10.0007,-166.0495, 3494,    809.0,   5.2902,  34.5100,2,  34.5116,2,    111.9,2,    114.5,2,    57.89,2,    36.15,2,     0.00,2,     2.51,2, -999.000,9, -999.000,9,   -999.0,9,   -999.0,9,  -999.00,9, -999.00,  5.2221
     3250031_1,   P31,    43,  1,     19,     19,2,19940204,1325,-10.0007,-166.0495, 3494,    909.7,   4.7813,  34.5162,2,  34.5173,2,    113.4,2,    115.8,2,    66.88,2,    36.64,2,     0.00,2,     2.55,2, -999.000,9, -999.000,9,   -999.0,9,   -999.0,9,  -999.00,9, -999.00,  4.7076
     3250031_1,   P31,    43,  1,     18,     18,2,19940204,1325,-10.0007,-166.0495, 3494,   1011.2,   4.3732,  34.5237,2,  34.5246,2,    121.5,2,    118.5,2,    74.06,2,    36.73,2,     0.00,2,     2.57,2, -999.000,9, -999.000,9,   -999.0,9,   -999.0,9,  -999.00,9, -999.00,  4.2937
     3250031_1,   P31,    43,  1,     17,     17,2,19940204,1325,-10.0007,-166.0495, 3494,   1111.8,   4.0108,  34.5370,2,  34.5362,2,    121.1,2,    120.9,2,    81.28,2,    36.82,2,     0.00,2,     2.57,2, -999.000,9, -999.000,9,   -999.0,9,   -999.0,9,  -999.00,9, -999.00,  3.9256
     3250031_1,   P31,    43,  1,     16,     16,2,19940204,1325,-10.0007,-166.0495, 3494,   1212.7,   3.6543,  34.5487,2,  34.5494,2,    125.7,2,    124.6,2,    87.98,2,    36.72,2,     0.00,2,     2.57,2, -999.000,9, -999.000,9,   -999.0,9,   -999.0,9,  -999.00,9, -999.00,  3.5637
     3250031_1,   P31,    43,  1,     15,     15,2,19940204,1325,-10.0007,-166.0495, 3494,   1415.7,   3.0388,  34.5777,2,  34.5793,2,    129.6,2,    131.5,2,   100.79,2,    36.46,2,     0.00,2,     2.55,2, -999.000,9, -999.000,9,   -999.0,9,   -999.0,9,  -999.00,9, -999.00,  2.9375
     3250031_1,   P31,    43,  1,     14,     14,2,19940204,1325,-10.0007,-166.0495, 3494,   1618.8,   2.6199,  34.6012,2,  34.6013,2,    136.4,2,    137.3,2,   109.79,2,    36.31,2,     0.00,2,     2.53,2, -999.000,9, -999.000,9,   -999.0,9,   -999.0,9,  -999.00,9, -999.00,  2.5067
     3250031_1,   P31,    43,  1,     13,     13,2,19940204,1325,-10.0007,-166.0495, 3494,   1819.8,   2.3354,  34.6225,2,  34.6231,2,    136.4,2,    139.1,2,   118.56,2,    36.30,2,     0.00,2,     2.53,2, -999.000,9, -999.000,9,   -999.0,9,   -999.0,9,  -999.00,9, -999.00,  2.2092
     3250031_1,   P31,    43,  1,     12,     12,2,19940204,1325,-10.0007,-166.0495, 3494,   2022.3,   2.1372,  34.6371,2,  34.6380,2,    139.0,2,    139.7,2,   124.49,2,    36.34,2,     0.00,2,     2.53,2, -999.000,9, -999.000,9,   -999.0,9,   -999.0,9,  -999.00,9, -999.00,  1.9968
     3250031_1,   P31,    43,  1,     11,     11,2,19940204,1325,-10.0007,-166.0495, 3494,   2225.8,   1.9678,  34.6505,2,  34.6502,2,    143.0,2,    142.1,2,   129.30,2,    36.24,2,     0.00,2,     2.52,2, -999.000,9, -999.000,9,   -999.0,9,   -999.0,9,  -999.00,9, -999.00,  1.8126
     3250031_1,   P31,    43,  1,     10,     10,2,19940204,1325,-10.0007,-166.0495, 3494,   2430.0,   1.8671,  34.6581,2,  34.6585,2,    140.6,2,    141.9,2,   133.56,2,    36.08,2,     0.00,2,     2.52,2, -999.000,9, -999.000,9,   -999.0,9,   -999.0,9,  -999.00,9, -999.00,  1.6956
     3250031_1,   P31,    43,  1,      9,      9,2,19940204,1325,-10.0007,-166.0495, 3494,   2634.1,   1.7983,  34.6641,2,  34.6648,2,    146.9,2,    146.2,2,   134.14,2,    35.98,2,     0.00,2,     2.51,2, -999.000,9, -999.000,9,   -999.0,9,   -999.0,9,  -999.00,9, -999.00,  1.6095
     3250031_1,   P31,    43,  1,      8,      8,2,19940204,1325,-10.0007,-166.0495, 3494,   2736.6,   1.7698,  34.6668,2,  34.6668,2,    146.9,2,    147.5,2,   134.11,2,    35.87,2,     0.00,2,     2.50,2, -999.000,9, -999.000,9,   -999.0,9,   -999.0,9,  -999.00,9, -999.00,  1.5721
     3250031_1,   P31,    43,  1,      7,      7,2,19940204,1325,-10.0007,-166.0495, 3494,   2839.3,   1.7339,  34.6693,2,  34.6680,2,    149.2,2,    149.0,2,   134.91,2,    35.77,2,     0.00,2,     2.49,2, -999.000,9, -999.000,9,   -999.0,9,   -999.0,9,  -999.00,9, -999.00,  1.5274
     3250031_1,   P31,    43,  1,      6,      6,2,19940204,1325,-10.0007,-166.0495, 3494,   2940.0,   1.6918,  34.6721,2,  34.6727,2,    148.7,2,    151.6,2,   134.67,2,    35.57,2,     0.00,2,     2.48,2, -999.000,9, -999.000,9,   -999.0,9,   -999.0,9,  -999.00,9, -999.00,  1.4766
     3250031_1,   P31,    43,  1,      5,      5,2,19940204,1325,-10.0007,-166.0495, 3494,   3042.4,   1.6560,  34.6747,2,  34.6747,2,    153.5,2,    154.4,2,   134.64,2,    35.46,2,     0.00,2,     2.47,2, -999.000,9, -999.000,9,   -999.0,9,   -999.0,9,  -999.00,9, -999.00,  1.4317
     3250031_1,   P31,    43,  1,      4,      4,2,19940204,1325,-10.0007,-166.0495, 3494,   3144.2,   1.6170,  34.6775,2,  34.6763,2,    155.5,2,    156.6,2,   134.20,2,    35.26,2,     0.00,2,     2.46,2, -999.000,9, -999.000,9,   -999.0,9,   -999.0,9,  -999.00,9, -999.00,  1.3837
     3250031_1,   P31,    43,  1,      3,      3,2,19940204,1325,-10.0007,-166.0495, 3494,   3246.3,   1.6001,  34.6784,2,  34.6761,2,    158.4,2,    157.7,2,   134.37,2,    35.20,2,     0.00,2,     2.45,2, -999.000,9, -999.000,9,   -999.0,9,   -999.0,9,  -999.00,9, -999.00,  1.3571
     3250031_1,   P31,    43,  1,      2,      2,2,19940204,1325,-10.0007,-166.0495, 3494,   3347.4,   1.5766,  34.6801,2,  34.6784,2,    160.2,2,    159.3,2,   134.34,2,    35.10,2,     0.00,2,     2.45,2, -999.000,9, -999.000,9,   -999.0,9,   -999.0,9,  -999.00,9, -999.00,  1.3241
     3250031_1,   P31,    43,  1,      1,      1,2,19940204,1325,-10.0007,-166.0495, 3494,   3489.5,   1.5469,  34.6822,2,  34.6818,2,    163.5,2,    162.9,2,   133.90,2,    35.04,2,     0.00,2,     2.43,2, -999.000,9, -999.000,9,   -999.0,9,   -999.0,9,  -999.00,9, -999.00,  1.2806