BOTTLE,20020814WHPSIOdm
EXPOCODE,SECT_ID,STNNBR,CASTNO,SAMPNO,BTLNBR,BTLNBR_FLAG_W,DATE,TIME,LATITUDE,LONGITUDE,DEPTH,CTDPRS,CTDTMP,CTDSAL,CTDSAL_FLAG_W,SALNTY,SALNTY_FLAG_W,CTDOXY,CTDOXY_FLAG_W,OXYGEN,OXYGEN_FLAG_W,SILCAT,SILCAT_FLAG_W,NITRAT,NITRAT_FLAG_W,NITRIT,NITRIT_FLAG_W,PHSPHT,PHSPHT_FLAG_W,CFC-11,CFC-11_FLAG_W,CFC-12,CFC-12_FLAG_W,TCARBN,TCARBN_FLAG_W,ALKALI,ALKALI_FLAG_W,PH,PH_FLAG_W,PHTEMP,THETA
,,,,,,,,,,,,DBAR,ITS-90,PSS-78,,PSS-78,,UMOL/KG,,UMOL/KG,,UMOL/KG,,UMOL/KG,,UMOL/KG,,UMOL/KG,,PMOL/KG,,PMOL/KG,,UMOL/KG,,UMOL/KG,,,,DEG C,DEG C
     3250031_1,   P31,    36,  1,     35,     35,2,19940203,0235,-10.8467,-163.9652, 3830,      2.5,  29.9797,  34.6740,2,  34.6679,2,    195.0,2,    193.4,2,     1.49,2,     0.00,2,     0.00,2,     0.16,2, -999.000,9, -999.000,9,   -999.0,9,   -999.0,9,  -999.00,9, -999.00, 29.9791
     3250031_1,   P31,    36,  1,     34,     34,2,19940203,0235,-10.8467,-163.9652, 3830,     10.9,  29.8529,  34.7108,2,  34.7319,2,    192.5,2,    194.0,2,     1.47,2,     0.00,2,     0.00,2,     0.17,2, -999.000,9, -999.000,9,   -999.0,9,   -999.0,9,  -999.00,9, -999.00, 29.8503
     3250031_1,   P31,    36,  1,     33,     33,2,19940203,0235,-10.8467,-163.9652, 3830,     54.6,  29.2403,  35.6735,2,  35.6263,2,    201.7,2,    201.8,2,     1.45,2,     0.00,2,     0.00,2,     0.19,2, -999.000,9, -999.000,9,   -999.0,9,   -999.0,9,  -999.00,9, -999.00, 29.2269
     3250031_1,   P31,    36,  1,     32,     32,2,19940203,0235,-10.8467,-163.9652, 3830,    104.6,  27.1373,  36.2790,2,  36.2586,2,    196.3,2,    196.1,2,     1.25,2,     0.00,2,     0.00,2,     0.25,2, -999.000,9, -999.000,9,   -999.0,9,   -999.0,9,  -999.00,9, -999.00, 27.1131
     3250031_1,   P31,    36,  1,     31,     31,2,19940203,0235,-10.8467,-163.9652, 3830,    205.0,  20.9374,  35.9562,2,  35.9530,2,    164.2,2,    165.5,2,     1.78,2,     4.88,2,     0.01,2,     0.58,2, -999.000,9, -999.000,9,   -999.0,9,   -999.0,9,  -999.00,9, -999.00, 20.8981
     3250031_1,   P31,    36,  1,     30,     30,2,19940203,0235,-10.8467,-163.9652, 3830,    306.0,  13.1556,  34.9240,2,  34.9120,2,    107.5,2,    100.8,2,    12.33,2,    19.39,2,     0.00,2,     1.62,2, -999.000,9, -999.000,9,   -999.0,9,   -999.0,9,  -999.00,9, -999.00, 13.1131
     3250031_1,   P31,    36,  1,     29,     29,2,19940203,0235,-10.8467,-163.9652, 3830,    406.4,   9.3720,  34.6423,2,  34.6427,2,     88.5,2,     87.2,2,    24.71,2,    29.09,2,     0.00,2,     2.13,2, -999.000,9, -999.000,9,   -999.0,9,   -999.0,9,  -999.00,9, -999.00,  9.3264
     3250031_1,   P31,    36,  1,     28,     28,2,19940203,0235,-10.8467,-163.9652, 3830,    506.8,   7.5306,  34.5728,2,  34.5749,2,     99.1,2,    103.2,4,    34.73,2,    32.66,2,     0.00,2,     2.26,2, -999.000,9, -999.000,9,   -999.0,9,   -999.0,9,  -999.00,9, -999.00,  7.4804
     3250031_1,   P31,    36,  1,     27,     27,2,19940203,0235,-10.8467,-163.9652, 3830,    607.7,   6.4146,  34.5337,2,  34.5353,2,    104.3,2,    103.2,4,    44.75,2,    35.17,2,     0.00,2,     2.42,2, -999.000,9, -999.000,9,   -999.0,9,   -999.0,9,  -999.00,9, -999.00,  6.3591
     3250031_1,   P31,    36,  1,     26,     26,2,19940203,0235,-10.8467,-163.9652, 3830,    708.7,   5.7341,  34.5198,2,  34.5747,4,    100.9,2,     99.5,2,    53.33,2,    36.91,2,     0.00,2,     2.54,2, -999.000,9, -999.000,9,   -999.0,9,   -999.0,9,  -999.00,9, -999.00,  5.6726
     3250031_1,   P31,    36,  1,     25,     25,2,19940203,0235,-10.8467,-163.9652, 3830,    809.5,   5.1686,  34.5114,2,  34.5142,2,    105.7,2,    109.4,4,    60.28,2,    36.77,2,     0.00,2,     2.54,2, -999.000,9, -999.000,9,   -999.0,9,   -999.0,9,  -999.00,9, -999.00,  5.1012
     3250031_1,   P31,    36,  1,     24,     24,2,19940203,0235,-10.8467,-163.9652, 3830,    910.1,   4.7522,  34.5189,2,  34.5203,2,    103.0,2,    108.5,2,    68.16,2,    37.32,2,     0.00,2,     2.59,2, -999.000,9, -999.000,9,   -999.0,9,   -999.0,9,  -999.00,9, -999.00,  4.6787
     3250031_1,   P31,    36,  1,     23,     23,2,19940203,0235,-10.8467,-163.9652, 3830,   1011.2,   4.3823,  34.5245,2,  34.5246,2,    112.0,2,    113.0,2,    73.68,2,    37.27,2,     0.00,2,     2.59,2, -999.000,9, -999.000,9,   -999.0,9,   -999.0,9,  -999.00,9, -999.00,  4.3027
     3250031_1,   P31,    36,  1,     22,     22,2,19940203,0235,-10.8467,-163.9652, 3830,   1212.9,   3.6207,  34.5516,2,  34.5537,2,    120.1,2,    119.8,2,    89.09,2,    37.13,2,     0.00,2,     2.60,2, -999.000,9, -999.000,9,   -999.0,9,   -999.0,9,  -999.00,9, -999.00,  3.5304
     3250031_1,   P31,    36,  1,     21,     21,2,19940203,0235,-10.8467,-163.9652, 3830,   1415.2,   3.1208,  34.5743,2,  34.5739,2,    128.5,2,    127.6,2,    98.88,2,    36.78,2,     0.00,2,     2.57,2, -999.000,9, -999.000,9,   -999.0,9,   -999.0,9,  -999.00,9, -999.00,  3.0187
     3250031_1,   P31,    36,  1,     20,     20,2,19940203,0235,-10.8467,-163.9652, 3830,   1618.5,   2.7092,  34.5965,2,  34.5967,2,    137.1,2,    135.5,2,   106.89,2,    36.34,2,     0.00,2,     2.53,2, -999.000,9, -999.000,9,   -999.0,9,   -999.0,9,  -999.00,9, -999.00,  2.5949
     3250031_1,   P31,    36,  1,     19,     19,2,19940203,0235,-10.8467,-163.9652, 3830,   1821.6,   2.2978,  34.6235,2,  34.6248,2,    141.1,2,    141.7,4,   115.99,2,    36.05,2,     0.00,2,     2.50,2, -999.000,9, -999.000,9,   -999.0,9,   -999.0,9,  -999.00,9, -999.00,  2.1720
     3250031_1,   P31,    36,  1,     18,     18,2,19940203,0235,-10.8467,-163.9652, 3830,   2024.1,   2.1127,  34.6390,2,  34.6411,2,    142.0,2,    141.5,2,   122.70,2,    36.05,2,     0.00,2,     2.50,2, -999.000,9, -999.000,9,   -999.0,9,   -999.0,9,  -999.00,9, -999.00,  1.9725
     3250031_1,   P31,    36,  1,     17,     17,2,19940203,0235,-10.8467,-163.9652, 3830,   2227.7,   1.9791,  34.6506,2,  34.6521,2,    142.7,2,    142.1,2,   127.49,2,    36.11,2,     0.00,2,     2.50,2, -999.000,9, -999.000,9,   -999.0,9,   -999.0,9,  -999.00,9, -999.00,  1.8235
     3250031_1,   P31,    36,  1,     16,     16,2,19940203,0235,-10.8467,-163.9652, 3830,   2431.5,   1.8527,  34.6610,2,  34.6627,2,    143.8,2,    143.8,2,   131.74,2,    36.06,2,     0.00,2,     2.50,2,    0.011,2,   -0.004,2,   -999.0,9,   -999.0,9,  -999.00,9, -999.00,  1.6813
     3250031_1,   P31,    36,  1,     15,     15,2,19940203,0235,-10.8467,-163.9652, 3830,   2635.2,   1.7874,  34.6666,2,  34.6682,2,    147.4,2,    147.7,2,   132.54,2,    35.82,2,     0.00,2,     2.48,2, -999.000,9, -999.000,9,   -999.0,9,   -999.0,9,  -999.00,9, -999.00,  1.5987
     3250031_1,   P31,    36,  1,     14,     14,2,19940203,0235,-10.8467,-163.9652, 3830,   2838.3,   1.7355,  34.6706,2,  34.6733,3,    150.2,2,    150.2,2,   133.35,2,    35.68,2,     0.00,2,     2.46,2, -999.000,9, -999.000,9,   -999.0,9,   -999.0,9,  -999.00,9, -999.00,  1.5290
     3250031_1,   P31,    36,  1,     13,     13,2,19940203,0235,-10.8467,-163.9652, 3830,   3043.1,   1.6857,  34.6741,2,  34.6751,2,    154.3,2,    152.8,2,   133.75,2,    35.38,2,     0.00,2,     2.45,2, -999.000,9, -999.000,9,   -999.0,9,   -999.0,9,  -999.00,9, -999.00,  1.4606
     3250031_1,   P31,    36,  1,     12,     12,2,19940203,0235,-10.8467,-163.9652, 3830,   3144.4,   1.6441,  34.6765,2,  34.6773,2,    156.0,2,    155.4,2,   133.73,2,    35.29,2,     0.00,2,     2.44,2, -999.000,9, -999.000,9,   -999.0,9,   -999.0,9,  -999.00,9, -999.00,  1.4101
     3250031_1,   P31,    36,  1,     11,     11,2,19940203,0235,-10.8467,-163.9652, 3830,   3246.8,   1.6159,  34.6787,2,  34.6785,2,    157.6,2,    157.7,2,   133.52,2,    35.20,2,     0.00,2,     2.43,2, -999.000,9, -999.000,9,   -999.0,9,   -999.0,9,  -999.00,9, -999.00,  1.3725
     3250031_1,   P31,    36,  1,     10,     10,2,19940203,0235,-10.8467,-163.9652, 3830,   3349.6,   1.5797,  34.6808,2,  34.6808,2,    161.6,2,    160.2,2,   133.50,2,    35.00,2,     0.00,2,     2.42,2, -999.000,9, -999.000,9,   -999.0,9,   -999.0,9,  -999.00,9, -999.00,  1.3269
     3250031_1,   P31,    36,  1,      9,      9,2,19940203,0235,-10.8467,-163.9652, 3830,   3451.2,   1.5497,  34.6825,2,  34.6830,2,    162.8,2,    162.9,2,   133.08,2,    34.86,2,     0.00,2,     2.42,2, -999.000,9, -999.000,9,   -999.0,9,   -999.0,9,  -999.00,9, -999.00,  1.2872
     3250031_1,   P31,    36,  1,      8,      8,2,19940203,0235,-10.8467,-163.9652, 3830,   3553.3,   1.5271,  34.6840,2,  34.6834,2,    163.7,2,    164.6,2,   132.45,2,    34.72,2,     0.00,2,     2.39,2, -999.000,9, -999.000,9,   -999.0,9,   -999.0,9,  -999.00,9, -999.00,  1.2548
     3250031_1,   P31,    36,  1,      7,      7,2,19940203,0235,-10.8467,-163.9652, 3830,   3655.7,   1.5088,  34.6850,2,  34.6861,2,    165.5,2,    166.6,2,   131.62,2,    34.52,2,     0.00,2,     2.38,2,   -0.002,2,   -0.002,2,   -999.0,9,   -999.0,9,  -999.00,9, -999.00,  1.2263
     3250031_1,   P31,    36,  1,      6,      6,2,19940203,0235,-10.8467,-163.9652, 3830,   3757.3,   1.4899,  34.6867,2,  34.6873,2,    168.4,2,    168.3,2,   131.00,2,    34.43,2,     0.00,2,     2.37,2,    0.001,2,   -0.003,2,   -999.0,9,   -999.0,9,  -999.00,9, -999.00,  1.1973
     3250031_1,   P31,    36,  1,      5,      5,2,19940203,0235,-10.8467,-163.9652, 3830,   3859.7,   1.4906,  34.6873,2,  34.6881,2,    170.6,2,    169.0,2,   130.98,2,    34.38,2,     0.00,2,     2.37,2,    0.005,2,   -0.001,2,   -999.0,9,   -999.0,9,  -999.00,9, -999.00,  1.1871
     3250031_1,   P31,    36,  1,     51,     51,2,19940203,0235,-10.8467,-163.9652, 3830,   3860.3,   1.4914,  34.6872,2,  34.6891,2,    170.6,2,    169.1,2,   130.77,2,    34.39,2,     0.00,2,     2.37,2, -999.000,9, -999.000,9,   -999.0,9,   -999.0,9,  -999.00,9, -999.00,  1.1878
     3250031_1,   P31,    36,  1,      3,      3,2,19940203,0235,-10.8467,-163.9652, 3830,   3962.7,   1.4863,  34.6880,2,  34.6877,2,    171.6,2,    170.1,2,   130.75,2,    34.29,2,     0.00,2,     2.36,2,    0.007,3,    0.011,3,   -999.0,9,   -999.0,9,  -999.00,9, -999.00,  1.1718
     3250031_1,   P31,    36,  1,      2,      2,2,19940203,0235,-10.8467,-163.9652, 3830,   4064.2,   1.3833,  34.6925,2,  34.6944,2,    177.0,2,    177.8,2,   128.91,2,    33.81,2,     0.00,2,     2.33,2,    0.002,2,    0.000,2,   -999.0,9,   -999.0,9,  -999.00,9, -999.00,  1.0606
     3250031_1,   P31,    36,  1,      1,      1,2,19940203,0235,-10.8467,-163.9652, 3830,   4146.4,   1.3434,  34.6945,2,  34.6958,2,    179.2,2,    181.3,2,   127.68,2,    33.61,2,     0.00,2,     2.31,2,   -0.001,2,   -0.005,2,   -999.0,9,   -999.0,9,  -999.00,9, -999.00,  1.0129
     3250031_1,   P31,    37,  1,     31,     31,2,19940203,0734,-10.6837,-164.3343, 3382,      1.8,  30.0384,  34.5878,2,  34.5889,2,    192.5,2,    194.1,2,     1.55,2,     0.00,2,     0.00,2,     0.16,2,    1.529,6,    0.827,6,   1909.1,2,   2281.5,2,     8.16,2,   25.00, 30.0380
     3250031_1,   P31,    37,  1,     30,     30,2,19940203,0734,-10.6837,-164.3343, 3382,     11.0,  29.9612,  34.5893,2,  34.5934,2,    191.8,2,    194.9,2,     1.17,2,     0.00,2,     0.00,2,     0.17,2, -999.000,9, -999.000,9,   -999.0,9,   -999.0,9,  -999.00,9, -999.00, 29.9585
     3250031_1,   P31,    37,  1,     29,     29,2,19940203,0734,-10.6837,-164.3343, 3382,     55.9,  29.3392,  35.5042,2,  35.4836,2,    202.2,2,    202.5,2,     1.34,2,     0.00,2,     0.00,2,     0.18,2,    1.590,2,    0.861,2,   -999.0,9,   -999.0,9,     8.16,2,   25.00, 29.3255
     3250031_1,   P31,    37,  1,     28,     28,2,19940203,0734,-10.6837,-164.3343, 3382,    105.9,  26.7213,  36.2470,2,  36.2659,2,    183.4,2,    178.0,2,     1.51,2,     0.83,2,     0.18,2,     0.36,2,    1.688,6,    0.892,6,   2046.5,2,   2393.2,2,     8.08,2,   25.00, 26.6971
     3250031_1,   P31,    37,  1,     27,     27,2,19940203,0734,-10.6837,-164.3343, 3382,    206.1,  21.1277,  35.9732,2,  35.9575,2,    152.4,2,    148.3,2,     2.59,2,     7.22,2,     0.02,2,     0.74,2,    1.833,3,    0.898,3,   2114.1,2,   2371.6,2,  -999.00,9, -999.00, 21.0878
     3250031_1,   P31,    37,  1,     26,     26,2,19940203,0734,-10.6837,-164.3343, 3382,    306.4,  13.8381,  35.0019,2,  34.9984,2,    105.5,2,    105.9,2,    11.00,2,    17.92,2,     0.01,2,     1.52,2,    0.995,2,    0.494,2,   2165.9,2,   2317.8,2,     7.73,2,   25.00, 13.7940
     3250031_1,   P31,    37,  1,     25,     25,2,19940203,0734,-10.6837,-164.3343, 3382,    407.3,   9.4840,  34.6484,2,  34.6435,2,     85.4,2,     84.7,2,    25.08,2,    29.39,2,     0.00,2,     2.15,2,    0.152,2,    0.079,2,   2217.8,2,   2305.0,2,     7.56,2,   25.00,  9.4379
     3250031_1,   P31,    37,  1,     24,     24,2,19940203,0734,-10.6837,-164.3343, 3382,    508.3,   7.5192,  34.5756,2,  34.5746,2,     99.4,2,    100.3,2,    34.77,2,    32.93,2,     0.00,2,     2.28,2,    0.052,2,    0.024,2,   2226.9,2,   2308.6,2,     7.55,2,   25.00,  7.4689
     3250031_1,   P31,    37,  1,     23,     23,2,19940203,0734,-10.6837,-164.3343, 3382,    608.6,   6.4033,  34.5332,2,  34.5349,2,     97.1,2,     98.9,2,    45.20,2,    35.80,2,     0.00,2,     2.45,2, -999.000,9, -999.000,9,   2242.2,2,   2315.4,2,     7.52,2,   25.00,  6.3478
     3250031_1,   P31,    37,  1,     22,     22,2,19940203,0734,-10.6837,-164.3343, 3382,    709.8,   5.7966,  34.5205,2,  34.5234,2,     99.7,2,     98.6,2,    52.52,2,    37.00,2,     0.00,2,     2.54,2,    0.006,2,   -0.001,2,   2253.9,2,   2321.4,2,     7.51,2,   25.00,  5.7346
     3250031_1,   P31,    37,  1,     21,     21,2,19940203,0734,-10.6837,-164.3343, 3382,    809.6,   5.3344,  34.5171,2,  34.5183,2,    100.8,2,    101.9,2,    59.11,2,    37.35,2,     0.00,2,     2.58,2, -999.000,9, -999.000,9,   2260.5,2,   -999.0,9,     7.51,2,   25.00,  5.2660
     3250031_1,   P31,    37,  1,     20,     20,2,19940203,0734,-10.6837,-164.3343, 3382,    910.3,   4.8678,  34.5150,2,  34.5160,2,    108.7,2,    108.4,2,    64.80,2,    37.36,2,     0.00,2,     2.58,2,    0.012,2,   -0.003,2,   2266.4,2,   2334.7,2,     7.52,2,   25.00,  4.7935
     3250031_1,   P31,    37,  1,     19,     19,2,19940203,0734,-10.6837,-164.3343, 3382,   1010.7,   4.4206,  34.5222,2,  34.5233,2,    110.9,2,    112.9,2,    73.46,2,    37.37,2,     0.00,2,     2.59,2, -999.000,9, -999.000,9,   2273.7,2,   2342.8,2,     7.52,2,   25.00,  4.3408
     3250031_1,   P31,    37,  1,     18,     18,2,19940203,0734,-10.6837,-164.3343, 3382,   1212.6,   3.5389,  34.5554,2,  34.5557,2,    121.3,2,    121.1,2,    91.34,2,    37.17,2,     0.00,2,     2.57,2,    0.001,2,   -0.002,2,   2284.6,2,   -999.0,9,     7.53,2,   25.00,  3.4494
     3250031_1,   P31,    37,  1,     17,     17,2,19940203,0734,-10.6837,-164.3343, 3382,   1414.4,   3.0768,  34.5769,2,  34.5774,2,    127.6,2,    128.8,2,   100.60,2,    36.78,2,     0.00,2,     2.55,2, -999.000,9, -999.000,9,   2291.1,2,   2382.3,2,     7.54,2,   25.00,  2.9752
     3250031_1,   P31,    37,  1,     16,     16,2,19940203,0734,-10.6837,-164.3343, 3382,   1616.9,   2.5936,  34.6035,2,  34.6055,2,    135.8,2,    137.1,2,   109.99,2,    36.24,2,     0.00,2,     2.51,2, -999.000,9, -999.000,9,   2302.7,2,   2393.3,2,     7.55,2,   25.00,  2.4809
     3250031_1,   P31,    37,  1,     15,     15,2,19940203,0734,-10.6837,-164.3343, 3382,   1819.7,   2.2707,  34.6262,2,  34.6271,2,    139.7,2,    139.9,2,   118.37,2,    36.14,2,     0.00,2,     2.51,2,    0.013,2,    0.009,2,   2304.5,2,   2402.9,2,     7.56,2,   25.00,  2.1454
     3250031_1,   P31,    37,  1,     14,     14,2,19940203,0734,-10.6837,-164.3343, 3382,   2025.8,   2.1250,  34.6367,2,  34.6387,2,    143.1,2,    143.4,2,   120.91,2,    35.95,2,     0.00,2,     2.49,2, -999.000,9, -999.000,9,   2306.2,2,   2403.5,2,     7.56,2,   25.00,  1.9845
     3250031_1,   P31,    37,  1,     13,     13,2,19940203,0734,-10.6837,-164.3343, 3382,   2227.7,   1.9984,  34.6487,2,  34.6500,2,    143.1,2,    142.1,2,   126.88,2,    36.10,2,     0.00,2,     2.50,2, -999.000,9, -999.000,9,   2312.6,2,   2409.1,2,     7.56,2,   25.00,  1.8425
     3250031_1,   P31,    37,  1,     12,     12,2,19940203,0734,-10.6837,-164.3343, 3382,   2430.0,   1.8676,  34.6600,2,  34.6612,2,    145.3,2,    144.3,2,   130.50,2,    36.01,2,     0.00,2,     2.48,2,    0.001,2,   -0.005,2,   2317.0,2,   2411.1,2,     7.57,2,   25.00,  1.6961
     3250031_1,   P31,    37,  1,     11,     11,2,19940203,0734,-10.6837,-164.3343, 3382,   2531.2,   1.8276,  34.6632,2,  34.6646,2,    147.4,2,    146.2,2,   131.08,2,    35.82,2,     0.00,2,     2.48,2, -999.000,9, -999.000,9,   2317.0,2,   2414.7,2,     7.57,2,   25.00,  1.6476
     3250031_1,   P31,    37,  1,     10,     10,2,19940203,0734,-10.6837,-164.3343, 3382,   2633.3,   1.7803,  34.6663,2,  34.6679,2,    148.6,2,    147.8,2,   132.28,2,    35.72,2,     0.00,2,     2.48,2, -999.000,9, -999.000,9,   2316.9,2,   2413.4,2,     7.57,2,   25.00,  1.5920
     3250031_1,   P31,    37,  1,      9,      9,2,19940203,0734,-10.6837,-164.3343, 3382,   2734.9,   1.7490,  34.6689,2,  34.6703,2,    150.7,2,    149.2,2,   133.48,2,    35.83,2,     0.00,2,     2.45,2, -999.000,9, -999.000,9,   2315.0,2,   2414.2,2,     7.57,2,   25.00,  1.5519
     3250031_1,   P31,    37,  1,      8,      8,2,19940203,0734,-10.6837,-164.3343, 3382,   2837.1,   1.7164,  34.6710,2,  34.6723,2,    152.7,2,    151.1,2,   134.07,2,    35.73,2,     0.00,2,     2.45,2, -999.000,9, -999.000,9,   2317.6,2,   2415.7,2,     7.58,2,   25.00,  1.5104
     3250031_1,   P31,    37,  1,      7,      7,2,19940203,0734,-10.6837,-164.3343, 3382,   2938.7,   1.6652,  34.6741,2,  34.6761,2,    154.2,2,    153.5,2,   134.45,2,    35.54,2,     0.00,2,     2.44,2, -999.000,9, -999.000,9,   2316.6,2,   -999.0,9,     7.58,2,   25.00,  1.4506
     3250031_1,   P31,    37,  1,      6,      6,2,19940203,0734,-10.6837,-164.3343, 3382,   3040.2,   1.6320,  34.6762,2,  34.6775,2,    155.8,2,    155.9,2,   133.80,2,    35.35,2,     0.00,2,     2.44,2, -999.000,9, -999.000,9,   2314.0,2,   2412.7,2,     7.58,2,   25.00,  1.4084
     3250031_1,   P31,    37,  1,     51,     51,3,19940203,0734,-10.6837,-164.3343, 3382,   3142.5,   1.6068,  34.6777,2,  34.6807,4,    157.6,2,    157.5,4,   132.51,4,    35.11,4,     0.00,4,     2.42,4,    0.001,2,    0.002,2,   2314.7,2,   2414.1,2,     7.58,2,   25.00,  1.3739
     3250031_1,   P31,    37,  1,      5,      5,2,19940203,0734,-10.6837,-164.3343, 3382,   3143.0,   1.6068,  34.6778,2,  34.6791,2,    157.6,2,    157.7,2,   133.16,2,    35.20,2,     0.00,2,     2.43,2,    0.004,2,   -0.002,2,   2313.9,2,   2414.5,2,     7.58,2,   25.00,  1.3738
     3250031_1,   P31,    37,  1,      3,      3,2,19940203,0734,-10.6837,-164.3343, 3382,   3244.8,   1.5674,  34.6803,2,  34.6794,2,    159.2,2,    160.2,2,   132.48,2,    35.02,2,     0.00,2,     2.42,2, -999.000,9, -999.000,9,   2312.7,2,   2412.3,2,     7.59,2,   25.00,  1.3253
     3250031_1,   P31,    37,  1,      2,      2,2,19940203,0734,-10.6837,-164.3343, 3382,   3347.0,   1.5341,  34.6824,2,  34.6841,2,    161.8,2,    162.6,2,   132.25,2,    34.82,2,     0.00,2,     2.41,2,    0.001,2,    0.004,2,   2311.1,2,   2412.7,2,     7.59,2,   25.00,  1.2826
     3250031_1,   P31,    37,  1,      1,      1,2,19940203,0734,-10.6837,-164.3343, 3382,   3408.3,   1.5345,  34.6830,2,  34.6837,2,    162.6,2,    163.0,2,   131.81,2,    34.78,2,     0.00,2,     2.40,2,    0.008,3,   -0.001,2,   2310.2,2,   2412.9,2,     7.59,2,   25.00,  1.2768