BOTTLE,20020814WHPSIOdm
EXPOCODE,SECT_ID,STNNBR,CASTNO,SAMPNO,BTLNBR,BTLNBR_FLAG_W,DATE,TIME,LATITUDE,LONGITUDE,DEPTH,CTDPRS,CTDTMP,CTDSAL,CTDSAL_FLAG_W,SALNTY,SALNTY_FLAG_W,CTDOXY,CTDOXY_FLAG_W,OXYGEN,OXYGEN_FLAG_W,SILCAT,SILCAT_FLAG_W,NITRAT,NITRAT_FLAG_W,NITRIT,NITRIT_FLAG_W,PHSPHT,PHSPHT_FLAG_W,CFC-11,CFC-11_FLAG_W,CFC-12,CFC-12_FLAG_W,TCARBN,TCARBN_FLAG_W,ALKALI,ALKALI_FLAG_W,PH,PH_FLAG_W,PHTEMP,THETA
,,,,,,,,,,,,DBAR,ITS-90,PSS-78,,PSS-78,,UMOL/KG,,UMOL/KG,,UMOL/KG,,UMOL/KG,,UMOL/KG,,UMOL/KG,,PMOL/KG,,PMOL/KG,,UMOL/KG,,UMOL/KG,,,,DEG C,DEG C
     3250031_1,   P31,    77,  1,     30,     30,2,19940214,2327,-10.7310,-175.9402, 3661,      3.3,  29.7349,  33.7072,2,  33.7075,2,    176.9,2,    193.3,2,     1.51,2,     0.15,2,     0.00,2,     0.11,2,    1.593,4,    0.901,4,   1866.6,2,   2219.6,2,     8.15,2,   25.00, 29.7341
     3250031_1,   P31,    77,  1,     29,     29,2,19940214,2327,-10.7310,-175.9402, 3661,     18.4,  29.6644,  33.7115,2,  33.7132,2,    183.4,2,    193.5,2,     1.49,2,     0.14,2,     0.00,2,     0.11,2,    1.596,4,    0.896,4,   1867.1,2,   2217.4,2,     8.15,2,   25.00, 29.6598
     3250031_1,   P31,    77,  1,     28,     28,2,19940214,2327,-10.7310,-175.9402, 3661,     58.4,  29.6055,  35.0009,2,  34.9794,2,    196.7,2,    202.5,2,     1.66,2,     0.14,2,     0.00,2,     0.20,2,    1.610,4,    0.893,4,   1942.0,2,   2304.6,2,     8.14,2,   25.00, 29.5912
     3250031_1,   P31,    77,  1,     27,     27,2,19940214,2327,-10.7310,-175.9402, 3661,    108.7,  26.1404,  36.0593,2,  36.0547,2,    151.6,2,    145.3,2,     2.55,2,     4.84,2,     0.72,2,     0.65,2,    1.683,4,    0.925,4,   -999.0,9,   -999.0,9,     8.02,2,   25.00, 26.1160
     3250031_1,   P31,    77,  1,     26,     26,2,19940214,2327,-10.7310,-175.9402, 3661,    208.8,  19.9233,  35.7965,2,  35.7546,2,    145.6,2,    141.1,2,     3.45,2,     8.74,2,     0.01,2,     0.85,2,    1.690,4,    0.906,4,   2120.4,2,   2357.0,2,     7.91,2,   25.00, 19.8846
     3250031_1,   P31,    77,  1,     25,     25,2,19940214,2327,-10.7310,-175.9402, 3661,    309.1,  13.9415,  35.0386,2,  35.0269,2,    113.7,2,    108.5,2,    11.10,2,    18.35,2,     0.01,2,     1.49,2,    0.907,4,    0.480,4,   2164.5,2,   -999.0,9,     7.73,2,   25.00, 13.8967
     3250031_1,   P31,    77,  1,     24,     24,2,19940214,2327,-10.7310,-175.9402, 3661,    409.6,  10.3327,  34.7428,2,  34.7387,2,    110.8,2,    108.4,2,    21.31,2,    26.37,2,     0.00,2,     1.89,2,    0.299,4,    0.161,4,   2194.6,2,   2305.9,2,     7.64,2,   25.00, 10.2838
     3250031_1,   P31,    77,  1,     23,     23,2,19940214,2327,-10.7310,-175.9402, 3661,    510.4,   7.5570,  34.5747,2,  34.5651,2,    112.3,2,    115.1,2,    33.34,2,    31.94,2,     0.00,2,     2.19,2,    0.055,4,    0.033,4,   2217.1,2,   -999.0,9,     7.58,2,   25.00,  7.5063
     3250031_1,   P31,    77,  1,     22,     22,2,19940214,2327,-10.7310,-175.9402, 3661,    611.2,   6.4929,  34.5304,2,  34.5311,2,    106.4,2,    111.9,2,    43.00,2,    34.82,2,     0.00,2,     2.37,2,    0.023,4,    0.009,4,   2234.6,2,   2316.9,2,     7.55,2,   25.00,  6.4367
     3250031_1,   P31,    77,  1,     21,     21,2,19940214,2327,-10.7310,-175.9402, 3661,    711.5,   5.9720,  34.5180,2,  34.5174,2,    112.6,2,    109.6,2,    48.83,2,    36.02,2,     0.00,2,     2.45,2, -999.000,9, -999.000,9,   2244.5,2,   -999.0,9,     7.54,2,   25.00,  5.9089
     3250031_1,   P31,    77,  1,     20,     20,2,19940214,2327,-10.7310,-175.9402, 3661,    811.4,   5.4136,  34.5087,2,  34.5091,2,    110.0,2,    112.2,2,    56.12,2,    36.80,2,     0.00,2,     2.50,2,    0.014,4,    0.017,4,   2252.4,2,   2326.1,2,     7.53,2,   25.00,  5.3446
     3250031_1,   P31,    77,  1,     19,     19,2,19940214,2327,-10.7310,-175.9402, 3661,    912.6,   4.9628,  34.5113,2,  34.5135,2,    112.6,2,    111.3,2,    63.80,2,    37.53,2,     0.00,2,     2.56,2, -999.000,9, -999.000,9,   2262.2,2,   -999.0,9,     7.52,2,   25.00,  4.8876
     3250031_1,   P31,    77,  1,     18,     18,2,19940214,2327,-10.7310,-175.9402, 3661,   1013.1,   4.5084,  34.5189,2,  34.5192,2,    115.3,2,    114.6,2,    71.68,2,    37.79,2,     0.00,2,     2.57,2, -999.000,9, -999.000,9,   2270.4,2,   2345.8,2,  -999.00,9, -999.00,  4.4276
     3250031_1,   P31,    77,  1,     17,     17,2,19940214,2327,-10.7310,-175.9402, 3661,   1213.0,   3.7957,  34.5440,2,  34.5444,2,    119.2,2,    121.7,2,    86.10,2,    37.57,2,     0.00,2,     2.58,2, -999.000,9, -999.000,9,   2282.3,2,   -999.0,9,     7.52,2,   25.00,  3.7038
     3250031_1,   P31,    77,  1,     16,     16,2,19940214,2327,-10.7310,-175.9402, 3661,   1414.1,   3.1674,  34.5707,2,  34.5715,2,    128.3,2,    128.8,2,    98.28,2,    37.25,2,     0.00,2,     2.56,2, -999.000,9, -999.000,9,   2295.4,2,   2373.4,2,     7.54,2,   25.00,  3.0649
     3250031_1,   P31,    77,  1,     15,     15,2,19940214,2327,-10.7310,-175.9402, 3661,   1616.2,   2.6588,  34.5987,2,  34.5994,2,    138.4,2,    136.5,2,   107.78,2,    36.82,2,     0.00,2,     2.52,2,    0.013,4,    0.004,4,   2301.5,2,   2385.1,2,     7.55,2,   25.00,  2.5453
     3250031_1,   P31,    77,  1,     14,     14,2,19940214,2327,-10.7310,-175.9402, 3661,   1820.7,   2.3218,  34.6211,2,  34.6226,2,    142.2,2,    140.7,2,   115.89,2,    36.66,2,     0.00,2,     2.50,2, -999.000,9, -999.000,9,   2309.4,2,   -999.0,9,     7.56,2,   25.00,  2.1957
     3250031_1,   P31,    77,  1,     13,     13,2,19940214,2327,-10.7310,-175.9402, 3661,   2024.4,   2.1058,  34.6372,2,  34.6399,3,    143.9,2,    143.6,2,   121.95,2,    36.60,2,     0.01,2,     2.49,2, -999.000,9, -999.000,9,   2313.7,2,   2403.9,2,     7.56,2,   25.00,  1.9656
     3250031_1,   P31,    77,  1,     12,     12,2,19940214,2327,-10.7310,-175.9402, 3661,   2229.3,   1.9710,  34.6492,2,  34.6503,2,    143.4,2,    141.8,2,   128.72,2,    36.80,2,     0.01,2,     2.50,2, -999.000,9, -999.000,9,   2319.2,2,   -999.0,9,     7.56,2,   25.00,  1.8154
     3250031_1,   P31,    77,  1,     11,     11,2,19940214,2327,-10.7310,-175.9402, 3661,   2432.6,   1.8685,  34.6581,2,  34.6582,2,    145.7,2,    145.1,2,   131.10,2,    36.59,2,     0.01,2,     2.49,2,    0.005,4,    0.019,4,   2322.1,2,   2413.6,2,     7.57,2,   25.00,  1.6967
     3250031_1,   P31,    77,  1,     10,     10,2,19940214,2327,-10.7310,-175.9402, 3661,   2636.8,   1.7807,  34.6634,2,  34.6643,2,    145.4,2,    144.2,2,   135.15,2,    36.63,2,     0.00,2,     2.50,2, -999.000,9, -999.000,9,   2324.7,2,   -999.0,9,     7.57,2,   25.00,  1.5920
     3250031_1,   P31,    77,  1,      9,      9,2,19940214,2327,-10.7310,-175.9402, 3661,   2840.6,   1.7117,  34.6673,2,  34.6675,2,    145.3,2,    144.3,2,   137.58,2,    36.63,2,     0.00,2,     2.50,2, -999.000,9, -999.000,9,   2327.0,2,   2420.0,2,     7.57,2,   25.00,  1.5055
     3250031_1,   P31,    77,  1,      8,      8,2,19940214,2327,-10.7310,-175.9402, 3661,   2942.3,   1.6854,  34.6690,2,  34.6699,2,    146.0,2,    145.5,2,   137.53,2,    36.57,2,     0.01,2,     2.50,2, -999.000,9, -999.000,9,   2326.4,2,   -999.0,9,     7.57,2,   25.00,  1.4700
     3250031_1,   P31,    77,  1,      7,      7,2,19940214,2327,-10.7310,-175.9402, 3661,   3043.7,   1.6504,  34.6715,2,  34.6736,2,    147.8,2,    147.1,2,   137.69,2,    36.46,2,     0.01,2,     2.49,2, -999.000,9, -999.000,9,   2325.5,2,   2418.3,2,     7.57,2,   25.00,  1.4261
     3250031_1,   P31,    77,  1,      6,      6,2,19940214,2327,-10.7310,-175.9402, 3661,   3143.1,   1.6200,  34.6745,2,  34.6754,2,    150.3,2,    149.4,2,   137.85,2,    36.29,2,     0.01,2,     2.48,2,    0.001,4,    0.004,4,   2322.3,2,   -999.0,9,     7.58,2,   25.00,  1.3867
     3250031_1,   P31,    77,  1,      5,      5,2,19940214,2327,-10.7310,-175.9402, 3661,   3244.0,   1.5842,  34.6770,2,  34.6770,2,    153.0,2,    152.5,2,   137.80,2,    36.08,2,     0.00,2,     2.46,2, -999.000,9, -999.000,9,   2321.1,2,   2417.7,2,     7.58,2,   25.00,  1.3418
     3250031_1,   P31,    77,  1,      4,      4,2,19940214,2327,-10.7310,-175.9402, 3661,   3345.6,   1.5421,  34.6801,2,  34.6801,2,    156.6,2,    156.7,2,   136.71,2,    35.81,2,     0.00,2,     2.44,2,   -0.002,4,   -0.002,4,   2316.8,2,   -999.0,9,     7.58,2,   25.00,  1.2905
     3250031_1,   P31,    77,  1,      3,      3,2,19940214,2327,-10.7310,-175.9402, 3661,   3447.8,   1.5261,  34.6817,2,  34.6786,3,    158.3,2,    159.1,2,   135.83,2,    35.60,2,     0.00,2,     2.43,2,   -0.003,4,   -0.001,4,   2315.1,2,   2413.0,2,     7.58,2,   25.00,  1.2646
     3250031_1,   P31,    77,  1,      2,      2,2,19940214,2327,-10.7310,-175.9402, 3661,   3551.0,   1.4815,  34.6852,2,  34.6847,2,    161.5,2,    164.0,2,   132.91,2,    35.23,2,     0.00,2,     2.40,2,   -0.003,4,   -0.005,4,   2309.2,2,   -999.0,9,     7.59,2,   25.00,  1.2106
     3250031_1,   P31,    77,  1,      1,      1,2,19940214,2327,-10.7310,-175.9402, 3661,   3641.9,   1.4304,  34.6890,2,  34.6893,2,    169.4,2,    169.5,2,   130.21,2,    34.75,2,     0.00,2,     2.37,2,   -0.003,4,   -0.002,4,   2274.4,2,   2400.1,2,     7.59,2,   25.00,  1.1514
     3250031_1,   P31,    78,  1,     27,     27,2,19940215,0421,-11.1452,-176.2205, 3404,      2.4,  29.8181,  33.6047,2,  33.6044,2,    205.3,2,    193.8,2,     1.83,2,     0.11,2,     0.00,2,     0.08,2, -999.000,9, -999.000,9,   -999.0,9,   -999.0,9,  -999.00,9, -999.00, 29.8175
     3250031_1,   P31,    78,  1,     26,     26,2,19940215,0421,-11.1452,-176.2205, 3404,     11.5,  29.7569,  33.5966,2,  33.5855,2,    198.3,2,    194.4,2,     1.62,2,     0.11,2,     0.00,2,     0.07,2, -999.000,9, -999.000,9,   -999.0,9,   -999.0,9,  -999.00,9, -999.00, 29.7541
     3250031_1,   P31,    78,  1,     25,     25,2,19940215,0421,-11.1452,-176.2205, 3404,     56.5,  29.5705,  34.9513,2,  35.0125,2,    195.1,2,    200.0,2,     1.78,2,     0.12,2,     0.00,2,     0.17,2, -999.000,9, -999.000,9,   -999.0,9,   -999.0,9,  -999.00,9, -999.00, 29.5567
     3250031_1,   P31,    78,  1,     24,     24,2,19940215,0421,-11.1452,-176.2205, 3404,    106.1,  27.2492,  36.0581,2,  36.0775,2,    164.0,2,    169.5,2,     2.12,2,     1.47,2,     0.19,2,     0.43,2, -999.000,9, -999.000,9,   -999.0,9,   -999.0,9,  -999.00,9, -999.00, 27.2246
     3250031_1,   P31,    78,  1,     23,     23,2,19940215,0421,-11.1452,-176.2205, 3404,    206.7,  21.5408,  35.9941,2,  35.9563,2,    127.2,2,    143.7,2,     2.83,2,     7.47,2,     0.02,2,     0.76,2, -999.000,9, -999.000,9,   -999.0,9,   -999.0,9,  -999.00,9, -999.00, 21.5003
     3250031_1,   P31,    78,  1,     22,     22,2,19940215,0421,-11.1452,-176.2205, 3404,    306.8,  14.5135,  35.0855,2,  35.0797,2,    105.4,2,    113.2,2,     9.76,2,    16.62,2,     0.01,2,     1.40,2, -999.000,9, -999.000,9,   -999.0,9,   -999.0,9,  -999.00,9, -999.00, 14.4678
     3250031_1,   P31,    78,  1,     21,     21,2,19940215,0421,-11.1452,-176.2205, 3404,    407.7,   9.8881,  34.6909,2,  34.6940,2,    100.3,2,    100.4,2,    22.17,2,    27.23,2,     0.01,2,     1.97,2, -999.000,9, -999.000,9,   -999.0,9,   -999.0,9,  -999.00,9, -999.00,  9.8408
     3250031_1,   P31,    78,  1,     20,     20,2,19940215,0421,-11.1452,-176.2205, 3404,    508.3,   8.0367,  34.5875,2,  34.5863,2,    118.0,2,    117.0,2,    29.65,2,    30.45,2,     0.01,2,     2.10,2, -999.000,9, -999.000,9,   -999.0,9,   -999.0,9,  -999.00,9, -999.00,  7.9844
     3250031_1,   P31,    78,  1,     19,     19,2,19940215,0421,-11.1452,-176.2205, 3404,    608.2,   6.6533,  34.5347,2,  34.5353,2,    112.2,2,    111.0,2,    41.15,2,    34.32,2,     0.01,2,     2.32,2, -999.000,9, -999.000,9,   -999.0,9,   -999.0,9,  -999.00,9, -999.00,  6.5966
     3250031_1,   P31,    78,  1,     18,     18,2,19940215,0421,-11.1452,-176.2205, 3404,    708.0,   5.9423,  34.5168,2,  34.5173,2,    111.3,2,    109.8,2,    49.01,2,    35.89,2,     0.01,2,     2.44,2, -999.000,9, -999.000,9,   -999.0,9,   -999.0,9,  -999.00,9, -999.00,  5.8797
     3250031_1,   P31,    78,  1,     17,     17,2,19940215,0421,-11.1452,-176.2205, 3404,    809.6,   5.3884,  34.5074,2,  34.5075,2,    113.8,2,    112.4,2,    55.96,2,    36.73,2,     0.01,2,     2.49,2, -999.000,9, -999.000,9,   -999.0,9,   -999.0,9,  -999.00,9, -999.00,  5.3197
     3250031_1,   P31,    78,  1,     16,     16,2,19940215,0421,-11.1452,-176.2205, 3404,    911.0,   4.8061,  34.5091,2,  34.5110,2,    115.7,2,    115.3,2,    64.95,2,    37.21,2,     0.00,2,     2.53,2, -999.000,9, -999.000,9,   -999.0,9,   -999.0,9,  -999.00,9, -999.00,  4.7321
     3250031_1,   P31,    78,  1,     15,     15,2,19940215,0421,-11.1452,-176.2205, 3404,   1011.7,   4.2912,  34.5234,2,  34.5232,2,    116.3,2,    116.8,2,    75.27,2,    37.63,2,     0.01,2,     2.56,2, -999.000,9, -999.000,9,   -999.0,9,   -999.0,9,  -999.00,9, -999.00,  4.2123
     3250031_1,   P31,    78,  1,     14,     14,2,19940215,0421,-11.1452,-176.2205, 3404,   1213.4,   3.6079,  34.5508,2,  34.5506,2,    122.2,2,    122.2,2,    89.42,2,    37.62,2,     0.01,2,     2.56,2, -999.000,9, -999.000,9,   -999.0,9,   -999.0,9,  -999.00,9, -999.00,  3.5177
     3250031_1,   P31,    78,  1,     13,     13,2,19940215,0421,-11.1452,-176.2205, 3404,   1415.3,   3.1325,  34.5709,2,  34.5714,2,    129.0,2,    130.0,2,    98.27,2,    37.20,2,     0.01,2,     2.53,2, -999.000,9, -999.000,9,   -999.0,9,   -999.0,9,  -999.00,9, -999.00,  3.0303
     3250031_1,   P31,    78,  1,     12,     12,2,19940215,0421,-11.1452,-176.2205, 3404,   1616.5,   2.6397,  34.5994,2,  34.5997,2,    135.7,2,    136.6,2,   108.21,2,    36.89,2,     0.00,2,     2.51,2, -999.000,9, -999.000,9,   -999.0,9,   -999.0,9,  -999.00,9, -999.00,  2.5264
     3250031_1,   P31,    78,  1,     11,     11,2,19940215,0421,-11.1452,-176.2205, 3404,   1818.2,   2.3066,  34.6207,2,  34.6214,2,    142.0,2,    143.1,2,   114.40,2,    36.47,2,     0.00,2,     2.47,2, -999.000,9, -999.000,9,   -999.0,9,   -999.0,9,  -999.00,9, -999.00,  2.1809
     3250031_1,   P31,    78,  1,     10,     10,2,19940215,0421,-11.1452,-176.2205, 3404,   2019.9,   2.1095,  34.6371,2,  34.6383,2,    140.8,2,    142.3,2,   121.48,2,    36.62,2,     0.00,2,     2.48,2, -999.000,9, -999.000,9,   -999.0,9,   -999.0,9,  -999.00,9, -999.00,  1.9697
     3250031_1,   P31,    78,  1,      9,      9,2,19940215,0421,-11.1452,-176.2205, 3404,   2222.0,   1.9637,  34.6490,2,  34.6495,2,    137.8,2,    139.2,2,   129.69,2,    36.88,2,     0.01,2,     2.51,2, -999.000,9, -999.000,9,   -999.0,9,   -999.0,9,  -999.00,9, -999.00,  1.8088
     3250031_1,   P31,    78,  1,      8,      8,2,19940215,0421,-11.1452,-176.2205, 3404,   2424.6,   1.8637,  34.6565,2,  34.6572,2,    139.7,2,    139.9,2,   133.76,2,    36.88,2,     0.01,2,     2.51,2, -999.000,9, -999.000,9,   -999.0,9,   -999.0,9,  -999.00,9, -999.00,  1.6927
     3250031_1,   P31,    78,  1,      7,      7,2,19940215,0421,-11.1452,-176.2205, 3404,   2625.8,   1.7931,  34.6616,2,  34.6631,2,    139.4,2,    141.0,2,   136.62,2,    36.93,2,     0.01,2,     2.50,2, -999.000,9, -999.000,9,   -999.0,9,   -999.0,9,  -999.00,9, -999.00,  1.6052
     3250031_1,   P31,    78,  1,      6,      6,2,19940215,0421,-11.1452,-176.2205, 3404,   2828.9,   1.7222,  34.6665,2,  34.6681,2,    142.0,2,    143.3,2,   138.26,2,    36.78,2,     0.00,2,     2.50,2, -999.000,9, -999.000,9,   -999.0,9,   -999.0,9,  -999.00,9, -999.00,  1.5169
     3250031_1,   P31,    78,  1,      5,      5,2,19940215,0421,-11.1452,-176.2205, 3404,   3031.6,   1.6576,  34.6707,2,  34.6716,2,    146.2,2,    145.8,2,   139.08,2,    36.57,2,     0.00,2,     2.49,2, -999.000,9, -999.000,9,   -999.0,9,   -999.0,9,  -999.00,9, -999.00,  1.4343
     3250031_1,   P31,    78,  1,      4,      4,2,19940215,0421,-11.1452,-176.2205, 3404,   3133.0,   1.6212,  34.6739,2,  34.6746,2,    147.6,2,    148.5,2,   138.01,2,    36.36,2,     0.00,2,     2.47,2, -999.000,9, -999.000,9,   -999.0,9,   -999.0,9,  -999.00,9, -999.00,  1.3889
     3250031_1,   P31,    78,  1,      3,      3,2,19940215,0421,-11.1452,-176.2205, 3404,   3235.0,   1.5888,  34.6762,2,  34.6764,2,    151.6,2,    151.2,2,   137.57,2,    36.25,2,     0.00,2,     2.46,2, -999.000,9, -999.000,9,   -999.0,9,   -999.0,9,  -999.00,9, -999.00,  1.3472
     3250031_1,   P31,    78,  1,      2,      2,2,19940215,0421,-11.1452,-176.2205, 3404,   3335.6,   1.5565,  34.6789,2,  34.6794,2,    156.7,3,    154.4,2,   137.33,2,    36.04,2,     0.00,2,     2.45,2, -999.000,9, -999.000,9,   -999.0,9,   -999.0,9,  -999.00,9, -999.00,  1.3057
     3250031_1,   P31,    78,  1,      1,      1,2,19940215,0421,-11.1452,-176.2205, 3404,   3381.6,   1.5525,  34.6799,2,  34.6806,2,    153.9,3,    155.2,2,   137.10,2,    35.94,2,     0.00,2,     2.44,2, -999.000,9, -999.000,9,   -999.0,9,   -999.0,9,  -999.00,9, -999.00,  1.2970