BOTTLE,20020814WHPSIOdm
EXPOCODE,SECT_ID,STNNBR,CASTNO,SAMPNO,BTLNBR,BTLNBR_FLAG_W,DATE,TIME,LATITUDE,LONGITUDE,DEPTH,CTDPRS,CTDTMP,CTDSAL,CTDSAL_FLAG_W,SALNTY,SALNTY_FLAG_W,CTDOXY,CTDOXY_FLAG_W,OXYGEN,OXYGEN_FLAG_W,SILCAT,SILCAT_FLAG_W,NITRAT,NITRAT_FLAG_W,NITRIT,NITRIT_FLAG_W,PHSPHT,PHSPHT_FLAG_W,CFC-11,CFC-11_FLAG_W,CFC-12,CFC-12_FLAG_W,TCARBN,TCARBN_FLAG_W,ALKALI,ALKALI_FLAG_W,PH,PH_FLAG_W,PHTEMP,THETA
,,,,,,,,,,,,DBAR,ITS-90,PSS-78,,PSS-78,,UMOL/KG,,UMOL/KG,,UMOL/KG,,UMOL/KG,,UMOL/KG,,UMOL/KG,,PMOL/KG,,PMOL/KG,,UMOL/KG,,UMOL/KG,,,,DEG C,DEG C
     3250031_1,   P31,    70,  1,     32,     32,2,19940213,1351,-10.0588,-173.6763, 3907,      3.5,  29.5998,  33.6200,2,  33.6205,2,    200.9,2,    199.6,2,     2.01,2,     0.05,2,     0.00,2,     0.11,2,    1.522,3,    0.830,3,   1864.5,2,   2215.6,2,     8.16,2,   25.00, 29.5990
     3250031_1,   P31,    70,  1,     31,     31,9,19940213,1351,-10.0588,-173.6763, 3907,     17.4,  29.6066,  33.6198,2,-999.0000,9,    198.5,2,   -999.0,9,  -999.00,9,  -999.00,9,  -999.00,9,  -999.00,9, -999.000,9, -999.000,9,   -999.0,9,   -999.0,9,  -999.00,9, -999.00, 29.6024
     3250031_1,   P31,    70,  1,     30,     30,2,19940213,1351,-10.0588,-173.6763, 3907,     57.8,  29.9861,  34.2424,2,  34.3329,2,    204.5,2,    203.6,2,     1.98,2,     0.05,2,     0.00,2,     0.17,2,    1.496,3,    0.818,3,   1905.1,2,   2259.2,2,     8.15,2,   25.00, 29.9718
     3250031_1,   P31,    70,  1,     29,     29,2,19940213,1351,-10.0588,-173.6763, 3907,    107.1,  27.2467,  35.7980,2,  35.7926,2,    156.9,2,    157.0,2,     2.87,2,     4.82,2,     0.78,2,     0.65,2,    1.593,3,    0.856,3,   2052.9,2,   2356.5,2,     8.03,2,   25.00, 27.2219
     3250031_1,   P31,    70,  1,     28,     28,2,19940213,1351,-10.0588,-173.6763, 3907,    207.7,  19.7920,  35.7652,2,  35.7441,2,    137.2,2,    138.7,2,     4.14,2,     9.09,2,     0.01,2,     0.89,2,    1.593,3,    0.822,3,   2124.3,2,   2352.2,2,     7.90,2,   25.00, 19.7536
     3250031_1,   P31,    70,  1,     27,     27,2,19940213,1351,-10.0588,-173.6763, 3907,    308.3,  13.2354,  34.9948,2,  34.9883,2,     91.8,2,     90.5,2,    15.15,2,    21.91,2,     0.01,2,     1.71,2,    0.665,3,    0.353,3,   2184.4,2,   2314.3,2,     7.68,2,   25.00, 13.1923
     3250031_1,   P31,    70,  1,     26,     26,2,19940213,1351,-10.0588,-173.6763, 3907,    408.1,   9.7471,  34.7036,2,  34.6992,2,    118.1,2,    118.5,2,    22.30,2,    26.57,2,     0.00,2,     1.89,2,    0.261,3,    0.145,3,   2192.4,2,   2304.5,2,     7.64,2,   25.00,  9.7001
     3250031_1,   P31,    70,  1,     25,     25,2,19940213,1351,-10.0588,-173.6763, 3907,    508.9,   7.8767,  34.5752,2,  34.5754,2,    129.1,2,    129.9,2,    29.45,2,    29.63,2,     0.00,2,     2.06,2,    0.125,3,    0.076,3,   2203.6,2,   -999.0,9,     7.61,2,   25.00,  7.8249
     3250031_1,   P31,    70,  1,     24,     24,2,19940213,1351,-10.0588,-173.6763, 3907,    609.5,   6.5773,  34.4962,2,  34.4973,2,    140.5,2,    145.6,2,    35.13,2,    31.04,2,     0.00,2,     2.13,2,    0.087,3,    0.054,3,   2207.4,2,   2306.4,2,     7.61,2,   25.00,  6.5209
     3250031_1,   P31,    70,  1,     23,     23,2,19940213,1351,-10.0588,-173.6763, 3907,    710.6,   5.8890,  34.5027,2,  34.5011,2,    133.0,2,    130.6,2,    47.07,2,    33.85,2,     0.00,2,     2.32,2,    0.043,3,    0.023,3,   2231.2,2,   -999.0,9,     7.57,2,   25.00,  5.8264
     3250031_1,   P31,    70,  1,     22,     22,2,19940213,1351,-10.0588,-173.6763, 3907,    810.9,   5.3826,  34.5075,2,  34.5085,2,    114.4,2,    116.8,2,    56.27,2,    36.05,2,     0.00,2,     2.48,2, -999.000,9, -999.000,9,   2250.4,2,   2325.1,2,     7.54,2,   25.00,  5.3138
     3250031_1,   P31,    70,  1,     21,     21,2,19940213,1351,-10.0588,-173.6763, 3907,    912.0,   4.8727,  34.5111,2,  34.5115,2,    117.0,2,    117.4,2,    64.93,2,    36.78,2,     0.00,2,     2.53,2,    0.009,3,   -0.001,3,   2259.9,2,   -999.0,9,     7.53,2,   25.00,  4.7982
     3250031_1,   P31,    70,  1,     20,     20,2,19940213,1351,-10.0588,-173.6763, 3907,   1012.3,   4.3693,  34.5210,2,  34.5225,2,    119.8,2,    118.8,2,    73.81,2,    37.10,2,     0.00,2,     2.56,2, -999.000,9, -999.000,9,   2270.2,2,   2343.5,2,     7.53,2,   25.00,  4.2898
     3250031_1,   P31,    70,  1,     19,     19,2,19940213,1351,-10.0588,-173.6763, 3907,   1213.9,   3.6475,  34.5485,2,  34.5479,2,    121.9,2,    124.3,2,    88.76,2,    37.20,2,     0.00,2,     2.58,2, -999.000,9, -999.000,9,   2285.5,2,   -999.0,9,     7.54,2,   25.00,  3.5569
     3250031_1,   P31,    70,  1,     18,     18,2,19940213,1351,-10.0588,-173.6763, 3907,   1416.4,   3.0371,  34.5763,2,  34.5764,2,    130.8,2,    132.5,2,   100.51,2,    36.99,2,     0.00,2,     2.56,2, -999.000,9, -999.000,9,   2294.8,2,   2375.7,2,     7.55,2,   25.00,  2.9358
     3250031_1,   P31,    70,  1,     17,     17,2,19940213,1351,-10.0588,-173.6763, 3907,   1619.9,   2.5597,  34.6052,2,  34.6060,2,    136.1,2,    137.7,2,   111.10,2,    36.84,2,     0.00,2,     2.54,2, -999.000,9, -999.000,9,   2303.6,2,   -999.0,9,     7.55,2,   25.00,  2.4472
     3250031_1,   P31,    70,  1,     16,     16,2,19940213,1351,-10.0588,-173.6763, 3907,   1822.5,   2.2740,  34.6258,2,  34.6267,2,    139.6,2,    140.5,2,   118.93,2,    36.68,2,     0.00,2,     2.53,2, -999.000,9, -999.000,9,   2312.0,2,   2396.6,2,     7.56,2,   25.00,  2.1484
     3250031_1,   P31,    70,  1,     15,     15,2,19940213,1351,-10.0588,-173.6763, 3907,   2024.8,   2.1185,  34.6385,2,  34.6393,2,    138.6,2,    139.4,2,   125.09,2,    36.84,2,     0.00,2,     2.54,2,    0.002,3,    0.004,3,   2317.7,2,   2403.8,2,     7.56,2,   25.00,  1.9782
     3250031_1,   P31,    70,  1,     14,     14,2,19940213,1351,-10.0588,-173.6763, 3907,   2229.5,   1.9966,  34.6480,2,  34.6507,2,    141.3,2,    139.0,2,   130.12,2,    36.89,2,     0.00,2,     2.54,2, -999.000,9, -999.000,9,   2320.6,2,   -999.0,9,     7.56,2,   25.00,  1.8406
     3250031_1,   P31,    70,  1,     13,     13,2,19940213,1351,-10.0588,-173.6763, 3907,   2431.7,   1.9140,  34.6546,2,  34.6560,2,    142.4,2,    139.4,2,   133.57,2,    36.99,2,     0.00,2,     2.55,2, -999.000,9, -999.000,9,   2325.1,2,   2410.7,2,     7.56,2,   25.00,  1.7415
     3250031_1,   P31,    70,  1,     12,     12,2,19940213,1351,-10.0588,-173.6763, 3907,   2632.8,   1.8033,  34.6630,2,  34.6637,2,    144.0,2,    142.2,2,   135.19,2,    36.84,2,     0.00,2,     2.53,2, -999.000,9, -999.000,9,   2326.2,2,   -999.0,9,     7.56,2,   25.00,  1.6145
     3250031_1,   P31,    70,  1,     11,     11,2,19940213,1351,-10.0588,-173.6763, 3907,   2836.7,   1.7198,  34.6691,2,  34.6692,2,    146.4,2,    145.9,2,   137.23,2,    36.57,2,     0.00,2,     2.51,2, -999.000,9, -999.000,9,   2324.2,2,   2415.8,2,     7.57,2,   25.00,  1.5138
     3250031_1,   P31,    70,  1,     10,     10,2,19940213,1351,-10.0588,-173.6763, 3907,   3040.1,   1.6720,  34.6732,2,  34.6730,2,    150.0,2,    148.9,2,   137.20,2,    36.42,2,     0.00,2,     2.50,2, -999.000,9, -999.000,9,   2318.0,2,   -999.0,9,     7.57,2,   25.00,  1.4475
     3250031_1,   P31,    70,  1,      9,      9,2,19940213,1351,-10.0588,-173.6763, 3907,   3141.8,   1.6466,  34.6755,2,  34.6746,2,    151.8,2,    150.7,2,   137.37,2,    36.26,2,     0.00,2,     2.49,2, -999.000,9, -999.000,9,   2315.8,2,   2415.3,2,     7.58,2,   25.00,  1.4128
     3250031_1,   P31,    70,  1,      8,      8,2,19940213,1351,-10.0588,-173.6763, 3907,   3240.3,   1.6350,  34.6763,2,  34.6779,2,    152.9,2,    152.0,2,   137.13,2,    36.21,2,     0.00,2,     2.48,2, -999.000,9, -999.000,9,   2314.5,2,   -999.0,9,     7.58,2,   25.00,  1.3918
     3250031_1,   P31,    70,  1,      7,      7,2,19940213,1351,-10.0588,-173.6763, 3907,   3339.1,   1.6052,  34.6785,2,  34.6785,2,    155.6,2,    153.5,2,   137.51,2,    36.00,2,     0.00,2,     2.48,2, -999.000,9, -999.000,9,   2312.5,2,   2413.5,2,     7.58,2,   25.00,  1.3528
     3250031_1,   P31,    70,  1,      6,      6,2,19940213,1351,-10.0588,-173.6763, 3907,   3442.5,   1.5759,  34.6800,2,  34.6829,3,    156.2,2,    156.7,2,   136.85,2,    35.90,2,     0.00,2,     2.47,2, -999.000,9, -999.000,9,   2311.5,2,   2413.4,2,     7.58,2,   25.00,  1.3138
     3250031_1,   P31,    70,  1,      5,      5,2,19940213,1351,-10.0588,-173.6763, 3907,   3547.2,   1.5497,  34.6823,2,  34.6827,2,    157.7,2,    158.8,2,   136.40,2,    35.79,2,     0.00,2,     2.45,2, -999.000,9, -999.000,9,   2309.0,2,   -999.0,9,     7.58,2,   25.00,  1.2774
     3250031_1,   P31,    70,  1,      4,      4,2,19940213,1351,-10.0588,-173.6763, 3907,   3649.6,   1.5111,  34.6853,2,  34.6849,2,    161.4,2,    162.7,2,   134.71,2,    35.48,2,     0.00,2,     2.43,2,    0.002,3,    0.001,3,   2306.6,2,   2410.6,2,     7.59,2,   25.00,  1.2292
     3250031_1,   P31,    70,  1,      3,      3,2,19940213,1351,-10.0588,-173.6763, 3907,   3727.7,   1.4694,  34.6874,2,  34.6880,2,    165.4,2,    165.7,2,   134.47,2,    35.22,2,     0.00,2,     2.42,2,   -0.001,3,   -0.001,3,   2303.5,2,   -999.0,9,     7.59,2,   25.00,  1.1805
     3250031_1,   P31,    70,  1,      2,      2,2,19940213,1351,-10.0588,-173.6763, 3907,   3804.1,   1.4503,  34.6892,2,  34.6884,2,    166.1,2,    167.8,2,   133.40,2,    35.11,2,     0.00,2,     2.41,2,   -0.002,3,    0.002,3,   2301.4,2,   2401.4,2,     7.59,2,   25.00,  1.1538
     3250031_1,   P31,    70,  1,      1,      1,2,19940213,1351,-10.0588,-173.6763, 3907,   3871.4,   1.3735,  34.6941,2,  34.6953,2,    177.4,2,    176.3,2,   129.48,2,    34.43,2,     0.00,2,     2.36,2,    0.009,3,    0.001,3,   2291.0,2,   2401.5,2,     7.60,2,   25.00,  1.0719
     3250031_1,   P31,    71,  1,     34,     34,2,19940213,1900,-10.1128,-174.1418, 4006,      6.1,  29.6105,  33.6583,2,  33.6588,2,    198.4,2,    193.8,2,     1.97,2,     0.10,2,     0.00,2,     0.11,2,    1.636,3,    0.920,3,   -999.0,9,   -999.0,9,  -999.00,9, -999.00, 29.6090
     3250031_1,   P31,    71,  1,     33,     33,2,19940213,1900,-10.1128,-174.1418, 4006,     24.5,  29.6146,  33.6618,2,  33.6621,2,    195.7,2,    193.5,2,     1.94,2,     0.10,2,     0.00,2,     0.12,2, -999.000,9, -999.000,9,   -999.0,9,   -999.0,9,  -999.00,9, -999.00, 29.6086
     3250031_1,   P31,    71,  1,     32,     32,2,19940213,1900,-10.1128,-174.1418, 4006,     64.4,  29.5789,  34.8787,2,  34.8682,2,    195.7,2,    199.3,2,     1.91,2,     0.15,2,     0.00,2,     0.21,2,    1.584,3,    0.876,3,   -999.0,9,   -999.0,9,  -999.00,9, -999.00, 29.5631
     3250031_1,   P31,    71,  1,     31,     31,9,19940213,1900,-10.1128,-174.1418, 4006,    114.3,  26.8931,  35.8477,2,-999.0000,9,    153.4,2,   -999.0,9,  -999.00,9,  -999.00,9,  -999.00,9,  -999.00,9, -999.000,9, -999.000,9,   -999.0,9,   -999.0,9,  -999.00,9, -999.00, 26.8668
     3250031_1,   P31,    71,  1,     30,     30,2,19940213,1900,-10.1128,-174.1418, 4006,    214.7,  20.0717,  35.8296,2,  35.8149,2,    141.3,2,    138.0,2,     3.53,2,     8.88,2,     0.01,2,     0.86,2,    1.728,3,    0.906,3,   -999.0,9,   -999.0,9,  -999.00,9, -999.00, 20.0317
     3250031_1,   P31,    71,  1,     29,     29,2,19940213,1900,-10.1128,-174.1418, 4006,    311.0,  13.6285,  35.0280,2,  35.0244,2,     99.0,2,     96.1,2,    13.36,2,    20.41,2,     0.00,2,     1.61,2, -999.000,9, -999.000,9,   -999.0,9,   -999.0,9,  -999.00,9, -999.00, 13.5842
     3250031_1,   P31,    71,  1,     28,     28,2,19940213,1900,-10.1128,-174.1418, 4006,    398.0,  10.0344,  34.7285,2,  34.7260,2,    102.5,2,    104.4,2,    22.85,2,    27.33,2,     0.00,2,     1.96,2,    0.251,3,    0.138,3,   -999.0,9,   -999.0,9,  -999.00,9, -999.00,  9.9878
     3250031_1,   P31,    71,  1,     27,     27,2,19940213,1900,-10.1128,-174.1418, 4006,    499.5,   7.9587,  34.5782,2,  34.5763,2,    124.8,2,    128.4,2,    29.05,2,    29.61,2,     0.00,2,     2.06,2, -999.000,9, -999.000,9,   -999.0,9,   -999.0,9,  -999.00,9, -999.00,  7.9076
     3250031_1,   P31,    71,  1,     26,     26,2,19940213,1900,-10.1128,-174.1418, 4006,    606.4,   6.4308,  34.5180,2,  34.5171,2,    128.0,2,    125.9,2,    40.93,2,    33.20,2,     0.00,2,     2.27,2,    0.051,3,    0.028,3,   -999.0,9,   -999.0,9,  -999.00,9, -999.00,  6.3753
     3250031_1,   P31,    71,  1,     25,     25,2,19940213,1900,-10.1128,-174.1418, 4006,    711.9,   5.8008,  34.5092,2,  34.5085,2,    117.7,2,    119.4,2,    49.53,2,    35.18,2,     0.00,2,     2.42,2, -999.000,9, -999.000,9,   -999.0,9,   -999.0,9,  -999.00,9, -999.00,  5.7386
     3250031_1,   P31,    71,  1,     24,     24,2,19940213,1900,-10.1128,-174.1418, 4006,    815.6,   5.2586,  34.5063,2,  34.5053,2,    120.2,2,    120.0,2,    57.06,2,    35.92,2,     0.00,2,     2.47,2,    0.013,3,    0.001,3,   -999.0,9,   -999.0,9,  -999.00,9, -999.00,  5.1901
     3250031_1,   P31,    71,  1,     23,     23,2,19940213,1900,-10.1128,-174.1418, 4006,    917.8,   4.8147,  34.5125,2,  34.5128,2,    117.4,2,    117.1,2,    65.34,2,    36.96,2,     0.00,2,     2.54,2, -999.000,9, -999.000,9,   -999.0,9,   -999.0,9,  -999.00,9, -999.00,  4.7400
     3250031_1,   P31,    71,  1,     22,     22,2,19940213,1900,-10.1128,-174.1418, 4006,   1018.4,   4.3736,  34.5209,2,  34.5226,2,    117.7,2,    120.4,2,    73.48,2,    37.12,2,     0.00,2,     2.56,2,    0.002,3,    0.000,3,   -999.0,9,   -999.0,9,  -999.00,9, -999.00,  4.2935
     3250031_1,   P31,    71,  1,     21,     21,2,19940213,1900,-10.1128,-174.1418, 4006,   1220.2,   3.6174,  34.5493,2,  34.5485,2,    122.4,2,    124.0,2,    89.16,2,    37.33,2,     0.00,2,     2.58,2, -999.000,9, -999.000,9,   -999.0,9,   -999.0,9,  -999.00,9, -999.00,  3.5266
     3250031_1,   P31,    71,  1,     20,     20,2,19940213,1900,-10.1128,-174.1418, 4006,   1423.4,   3.0204,  34.5769,2,  34.5776,2,    132.2,2,    132.8,2,   101.10,2,    37.01,2,     0.00,2,     2.55,2, -999.000,9, -999.000,9,   -999.0,9,   -999.0,9,  -999.00,9, -999.00,  2.9187
     3250031_1,   P31,    71,  1,     19,     19,2,19940213,1900,-10.1128,-174.1418, 4006,   1625.8,   2.6011,  34.6034,2,  34.6039,2,    137.6,2,    137.1,2,   111.14,2,    36.80,2,     0.00,2,     2.54,2, -999.000,9, -999.000,9,   -999.0,9,   -999.0,9,  -999.00,9, -999.00,  2.4875
     3250031_1,   P31,    71,  1,     18,     18,2,19940213,1900,-10.1128,-174.1418, 4006,   1829.0,   2.3129,  34.6239,2,  34.6224,2,    139.5,2,    138.7,2,   119.80,2,    36.91,2,     0.00,2,     2.54,2, -999.000,9, -999.000,9,   -999.0,9,   -999.0,9,  -999.00,9, -999.00,  2.1862
     3250031_1,   P31,    71,  1,     17,     17,2,19940213,1900,-10.1128,-174.1418, 4006,   2032.6,   2.1267,  34.6393,2,  34.6406,2,    135.6,2,    135.6,2,   128.04,2,    37.17,2,     0.00,2,     2.56,2, -999.000,9, -999.000,9,   -999.0,9,   -999.0,9,  -999.00,9, -999.00,  1.9856
     3250031_1,   P31,    71,  1,     16,     16,2,19940213,1900,-10.1128,-174.1418, 4006,   2237.0,   2.0024,  34.6474,2,  34.6485,2,    138.8,2,    139.3,2,   130.70,2,    36.91,2,     0.00,2,     2.54,2, -999.000,9, -999.000,9,   -999.0,9,   -999.0,9,  -999.00,9, -999.00,  1.8456
     3250031_1,   P31,    71,  1,     15,     15,2,19940213,1900,-10.1128,-174.1418, 4006,   2439.7,   1.8937,  34.6559,2,  34.6563,2,    139.8,2,    138.9,2,   135.04,2,    37.01,2,     0.00,2,     2.54,2, -999.000,9, -999.000,9,   -999.0,9,   -999.0,9,  -999.00,9, -999.00,  1.7208
     3250031_1,   P31,    71,  1,     14,     14,2,19940213,1900,-10.1128,-174.1418, 4006,   2643.0,   1.7837,  34.6640,2,  34.6650,2,    142.3,2,    141.7,2,   137.34,2,    36.80,2,     0.00,2,     2.53,2, -999.000,9, -999.000,9,   -999.0,9,   -999.0,9,  -999.00,9, -999.00,  1.5944
     3250031_1,   P31,    71,  1,     13,     13,2,19940213,1900,-10.1128,-174.1418, 4006,   2846.2,   1.7226,  34.6685,2,  34.6695,2,    145.1,2,    145.1,2,   137.15,2,    36.59,2,     0.00,2,     2.52,2, -999.000,9, -999.000,9,   -999.0,9,   -999.0,9,  -999.00,9, -999.00,  1.5156
     3250031_1,   P31,    71,  1,     12,     12,2,19940213,1900,-10.1128,-174.1418, 4006,   3045.7,   1.6734,  34.6726,2,  34.6724,2,    148.3,2,    146.9,2,   138.01,2,    36.48,2,     0.00,2,     2.50,2,    0.000,3,   -0.003,3,   -999.0,9,   -999.0,9,  -999.00,9, -999.00,  1.4484
     3250031_1,   P31,    71,  1,     11,     11,2,19940213,1900,-10.1128,-174.1418, 4006,   3146.6,   1.6446,  34.6748,2,  34.6742,2,    151.6,2,    149.3,2,   137.82,2,    36.38,2,     0.00,2,     2.49,2, -999.000,9, -999.000,9,   -999.0,9,   -999.0,9,  -999.00,9, -999.00,  1.4104
     3250031_1,   P31,    71,  1,     10,     10,2,19940213,1900,-10.1128,-174.1418, 4006,   3250.7,   1.6139,  34.6775,2,  34.6764,2,    151.5,2,    151.3,2,   137.21,2,    36.17,2,     0.00,2,     2.48,2, -999.000,9, -999.000,9,   -999.0,9,   -999.0,9,  -999.00,9, -999.00,  1.3701
     3250031_1,   P31,    71,  1,      9,      9,2,19940213,1900,-10.1128,-174.1418, 4006,   3352.2,   1.5897,  34.6796,2,  34.6793,2,    155.1,2,    153.6,2,   137.03,2,    36.06,2,     0.00,2,     2.46,2, -999.000,9, -999.000,9,   -999.0,9,   -999.0,9,  -999.00,9, -999.00,  1.3364
     3250031_1,   P31,    71,  1,      8,      8,2,19940213,1900,-10.1128,-174.1418, 4006,   3453.9,   1.5470,  34.6822,2,  34.6809,2,    157.8,2,    158.2,2,   137.05,2,    35.85,2,     0.00,2,     2.44,2, -999.000,9, -999.000,9,   -999.0,9,   -999.0,9,  -999.00,9, -999.00,  1.2843
     3250031_1,   P31,    71,  1,      7,      7,2,19940213,1900,-10.1128,-174.1418, 4006,   3554.9,   1.5335,  34.6833,2,  34.6836,2,    160.1,2,    159.8,2,   136.02,2,    35.64,2,     0.00,2,     2.44,2, -999.000,9, -999.000,9,   -999.0,9,   -999.0,9,  -999.00,9, -999.00,  1.2608
     3250031_1,   P31,    71,  1,      6,      6,2,19940213,1900,-10.1128,-174.1418, 4006,   3657.0,   1.4965,  34.6865,2,  34.6858,2,    164.5,2,    164.4,2,   134.80,2,    35.38,2,     0.00,2,     2.41,2, -999.000,9, -999.000,9,   -999.0,9,   -999.0,9,  -999.00,9, -999.00,  1.2142
     3250031_1,   P31,    71,  1,      5,      5,2,19940213,1900,-10.1128,-174.1418, 4006,   3733.5,   1.4740,  34.6877,2,  34.6864,2,    165.8,2,    166.4,2,   134.40,2,    35.22,2,     0.00,2,     2.40,2, -999.000,9, -999.000,9,   -999.0,9,   -999.0,9,  -999.00,9, -999.00,  1.1843
     3250031_1,   P31,    71,  1,      4,      4,2,19940213,1900,-10.1128,-174.1418, 4006,   3809.6,   1.4468,  34.6898,2,  34.6881,2,    168.2,2,    168.7,2,   133.39,2,    35.07,2,     0.00,2,     2.38,2,    0.001,3,   -0.001,3,   -999.0,9,   -999.0,9,  -999.00,9, -999.00,  1.1498
     3250031_1,   P31,    71,  1,      3,      3,2,19940213,1900,-10.1128,-174.1418, 4006,   3885.2,   1.3085,  34.6982,2,  34.6942,3,    177.2,2,    180.2,2,   128.49,2,    34.12,2,     0.00,2,     2.32,2,    0.000,3,   -0.003,3,   -999.0,9,   -999.0,9,  -999.00,9, -999.00,  1.0072
     3250031_1,   P31,    71,  1,      2,      2,2,19940213,1900,-10.1128,-174.1418, 4006,   3961.3,   1.1762,  34.7054,2,  34.7038,2,    186.0,2,    192.9,2,   123.85,2,    33.24,2,     0.00,2,     2.26,2,    0.003,3,    0.001,3,   -999.0,9,   -999.0,9,  -999.00,9, -999.00,  0.8705
     3250031_1,   P31,    71,  1,      1,      1,2,19940213,1900,-10.1128,-174.1418, 4006,   4013.4,   1.1266,  34.7079,2,  34.7060,2,    199.7,2,    198.1,2,   122.06,2,    32.82,2,     0.00,2,     2.23,2,    0.007,3,   -0.001,3,   -999.0,9,   -999.0,9,  -999.00,9, -999.00,  0.8166