BOTTLE,20020814WHPSIOdm
EXPOCODE,SECT_ID,STNNBR,CASTNO,SAMPNO,BTLNBR,BTLNBR_FLAG_W,DATE,TIME,LATITUDE,LONGITUDE,DEPTH,CTDPRS,CTDTMP,CTDSAL,CTDSAL_FLAG_W,SALNTY,SALNTY_FLAG_W,CTDOXY,CTDOXY_FLAG_W,OXYGEN,OXYGEN_FLAG_W,SILCAT,SILCAT_FLAG_W,NITRAT,NITRAT_FLAG_W,NITRIT,NITRIT_FLAG_W,PHSPHT,PHSPHT_FLAG_W,CFC-11,CFC-11_FLAG_W,CFC-12,CFC-12_FLAG_W,TCARBN,TCARBN_FLAG_W,ALKALI,ALKALI_FLAG_W,PH,PH_FLAG_W,PHTEMP,THETA
,,,,,,,,,,,,DBAR,ITS-90,PSS-78,,PSS-78,,UMOL/KG,,UMOL/KG,,UMOL/KG,,UMOL/KG,,UMOL/KG,,UMOL/KG,,PMOL/KG,,PMOL/KG,,UMOL/KG,,UMOL/KG,,,,DEG C,DEG C
     3250031_1,   P31,    55,  1,     36,     36,2,19940207,0027, -9.9643,-169.4952, 5284,      2.6,  29.6615,  34.0091,2,  33.9491,2,    189.6,2,    194.0,2,     1.46,2,     0.00,2,     0.00,2,     0.15,2,    1.590,2,    0.916,2,   -999.0,9,   -999.0,9,  -999.00,9, -999.00, 29.6608
     3250031_1,   P31,    55,  1,     35,     35,9,19940207,0027, -9.9643,-169.4952, 5284,     12.4,  29.6934,  34.1374,2,-999.0000,9,    186.3,2,   -999.0,9,  -999.00,9,  -999.00,9,  -999.00,9,  -999.00,9, -999.000,9, -999.000,9,   -999.0,9,   -999.0,9,  -999.00,9, -999.00, 29.6903
     3250031_1,   P31,    55,  1,     34,     34,2,19940207,0027, -9.9643,-169.4952, 5284,     57.4,  29.9654,  35.0868,4,  35.0233,2,   -999.0,5,    197.9,2,     1.62,2,     0.00,2,     0.00,2,     0.20,2,    1.601,2,    0.914,2,   -999.0,9,   -999.0,9,  -999.00,9, -999.00, 29.9512
     3250031_1,   P31,    55,  1,     33,     33,2,19940207,0027, -9.9643,-169.4952, 5284,    107.6,  26.8168,  35.9453,2,  35.9491,2,    155.4,2,    149.2,2,     2.32,2,     4.45,2,     0.82,2,     0.63,2, -999.000,9, -999.000,9,   -999.0,9,   -999.0,9,  -999.00,9, -999.00, 26.7922
     3250031_1,   P31,    55,  1,     32,     32,2,19940207,0027, -9.9643,-169.4952, 5284,    207.9,  20.2201,  35.8174,2,  35.8028,2,    134.1,2,    133.5,2,     3.91,2,     9.68,2,     0.01,2,     0.92,2,    1.775,2,    0.946,2,   -999.0,9,   -999.0,9,  -999.00,9, -999.00, 20.1811
     3250031_1,   P31,    55,  1,     31,     31,2,19940207,0027, -9.9643,-169.4952, 5284,    308.1,  13.6962,  35.0453,4,  35.0167,2,   -999.0,5,     93.2,2,    13.57,2,    20.64,2,     0.00,2,     1.65,2,    0.780,2,    0.420,2,   -999.0,9,   -999.0,9,  -999.00,9, -999.00, 13.6521
     3250031_1,   P31,    55,  1,     30,     30,2,19940207,0027, -9.9643,-169.4952, 5284,    508.0,   7.7765,  34.5824,2,  34.5798,2,    130.2,2,    129.7,2,    29.69,2,    29.40,2,     0.00,2,     2.05,2, -999.000,9, -999.000,9,   -999.0,9,   -999.0,9,  -999.00,9, -999.00,  7.7252
     3250031_1,   P31,    55,  1,     29,     29,2,19940207,0027, -9.9643,-169.4952, 5284,    753.6,   5.6906,  34.5106,2,  34.5099,2,    117.5,2,    119.7,2,    50.86,2,    34.63,2,     0.00,2,     2.40,2,    0.016,2,    0.021,2,   -999.0,9,   -999.0,9,  -999.00,9, -999.00,  5.6251
     3250031_1,   P31,    55,  1,     28,     28,2,19940207,0027, -9.9643,-169.4952, 5284,   1001.2,   4.4927,  34.5194,2,  34.5192,2,    117.5,2,    119.1,2,    70.71,2,    36.41,2,     0.00,2,     2.54,2, -999.000,9, -999.000,9,   -999.0,9,   -999.0,9,  -999.00,9, -999.00,  4.4131
     3250031_1,   P31,    55,  1,     27,     27,2,19940207,0027, -9.9643,-169.4952, 5284,   1251.1,   3.5236,  34.5544,2,  34.5528,2,    119.7,2,    126.4,2,    90.08,2,    36.67,2,     0.00,2,     2.55,2, -999.000,9, -999.000,9,   -999.0,9,   -999.0,9,  -999.00,9, -999.00,  3.4310
     3250031_1,   P31,    55,  1,     26,     26,2,19940207,0027, -9.9643,-169.4952, 5284,   1502.8,   2.8649,  34.5883,2,  34.5868,2,    134.9,2,    134.2,2,   105.02,2,    36.47,2,     0.00,2,     2.53,2,    0.004,2,    0.005,2,   -999.0,9,   -999.0,9,  -999.00,9, -999.00,  2.7584
     3250031_1,   P31,    55,  1,     25,     25,2,19940207,0027, -9.9643,-169.4952, 5284,   1754.2,   2.4109,  34.6180,2,  34.6177,2,    138.0,2,    137.3,2,   117.09,2,    36.53,2,     0.00,2,     2.52,2, -999.000,9, -999.000,9,   -999.0,9,   -999.0,9,  -999.00,9, -999.00,  2.2892
     3250031_1,   P31,    55,  1,     24,     24,2,19940207,0027, -9.9643,-169.4952, 5284,   2007.4,   2.1805,  34.6363,2,  34.6369,2,    136.1,2,    134.9,2,   125.93,2,    36.64,2,     0.00,2,     2.55,2, -999.000,9, -999.000,9,   -999.0,9,   -999.0,9,  -999.00,9, -999.00,  2.0407
     3250031_1,   P31,    55,  1,     23,     23,2,19940207,0027, -9.9643,-169.4952, 5284,   2251.2,   1.9949,  34.6502,2,  34.6499,2,    136.7,2,    137.7,2,   130.54,2,    36.45,2,     0.00,2,     2.54,2, -999.000,9, -999.000,9,   -999.0,9,   -999.0,9,  -999.00,9, -999.00,  1.8370
     3250031_1,   P31,    55,  1,     22,     22,2,19940207,0027, -9.9643,-169.4952, 5284,   2497.7,   1.8348,  34.6627,2,  34.6635,2,    143.4,2,    141.8,2,   133.78,2,    36.16,2,     0.00,2,     2.51,2,    0.002,2,    0.003,2,   -999.0,9,   -999.0,9,  -999.00,9, -999.00,  1.6578
     3250031_1,   P31,    55,  1,     21,     21,2,19940207,0027, -9.9643,-169.4952, 5284,   2748.0,   1.7409,  34.6697,2,  34.6683,2,    145.8,2,    146.7,2,   135.00,2,    35.92,2,     0.00,2,     2.50,2, -999.000,9, -999.000,9,   -999.0,9,   -999.0,9,  -999.00,9, -999.00,  1.5428
     3250031_1,   P31,    55,  1,     20,     20,2,19940207,0027, -9.9643,-169.4952, 5284,   2999.7,   1.6782,  34.6742,2,  34.6736,2,    150.7,2,    150.5,2,   134.79,2,    35.63,2,     0.00,2,     2.48,2, -999.000,9, -999.000,9,   -999.0,9,   -999.0,9,  -999.00,9, -999.00,  1.4575
     3250031_1,   P31,    55,  1,     19,     19,2,19940207,0027, -9.9643,-169.4952, 5284,   3200.0,   1.6254,  34.6784,2,  34.6772,2,    154.9,2,    154.4,2,   135.20,2,    35.49,2,     0.00,2,     2.46,2,    0.002,2,    0.003,2,   -999.0,9,   -999.0,9,  -999.00,9, -999.00,  1.3864
     3250031_1,   P31,    55,  1,     18,     18,2,19940207,0027, -9.9643,-169.4952, 5284,   3398.4,   1.5794,  34.6810,2,  34.6811,2,    158.4,2,    158.1,2,   135.81,2,    35.34,2,     0.00,2,     2.44,2, -999.000,9, -999.000,9,   -999.0,9,   -999.0,9,  -999.00,9, -999.00,  1.3217
     3250031_1,   P31,    55,  1,     17,     17,2,19940207,0027, -9.9643,-169.4952, 5284,   3594.8,   1.5408,  34.6842,2,  34.6835,2,    161.5,2,    160.9,2,   136.22,2,    35.06,2,     0.00,2,     2.43,2, -999.000,9, -999.000,9,   -999.0,9,   -999.0,9,  -999.00,9, -999.00,  1.2638
     3250031_1,   P31,    55,  1,     16,     16,2,19940207,0027, -9.9643,-169.4952, 5284,   3788.4,   1.5024,  34.6865,2,  34.6851,2,    163.6,2,    164.1,2,   135.60,2,    34.92,2,     0.00,2,     2.42,2, -999.000,9, -999.000,9,   -999.0,9,   -999.0,9,  -999.00,9, -999.00,  1.2061
     3250031_1,   P31,    55,  1,     15,     15,2,19940207,0027, -9.9643,-169.4952, 5284,   3885.4,   1.4828,  34.6888,2,  34.6867,2,    166.3,2,    166.2,2,   134.17,2,    34.68,2,     0.00,2,     2.40,2,    0.000,2,   -0.004,2,   -999.0,9,   -999.0,9,  -999.00,9, -999.00,  1.1767
     3250031_1,   P31,    55,  1,     14,     14,2,19940207,0027, -9.9643,-169.4952, 5284,   3986.5,   1.4416,  34.6906,2,  34.6895,2,    170.1,2,    170.0,2,   133.15,2,    34.39,2,     0.00,2,     2.39,2, -999.000,9, -999.000,9,   -999.0,9,   -999.0,9,  -999.00,9, -999.00,  1.1258
     3250031_1,   P31,    55,  1,     13,     13,2,19940207,0027, -9.9643,-169.4952, 5284,   4089.6,   1.3956,  34.6952,2,  34.6950,2,    178.9,2,    177.2,2,   128.10,2,    33.71,2,     0.00,2,     2.33,2, -999.000,9, -999.000,9,   -999.0,9,   -999.0,9,  -999.00,9, -999.00,  1.0698
     3250031_1,   P31,    55,  1,     12,     12,2,19940207,0027, -9.9643,-169.4952, 5284,   4166.7,   1.3216,  34.7022,2,  34.7019,2,    188.3,2,    187.1,2,   123.32,2,    33.03,2,     0.00,2,     2.29,2, -999.000,9, -999.000,9,   -999.0,9,   -999.0,9,  -999.00,9, -999.00,  0.9895
     3250031_1,   P31,    55,  1,     11,     11,2,19940207,0027, -9.9643,-169.4952, 5284,   4244.3,   1.2843,  34.7040,2,  34.7019,2,    191.1,2,    189.8,2,   123.31,2,    32.88,2,     0.00,2,     2.27,2,   -0.002,2,   -0.003,2,   -999.0,9,   -999.0,9,  -999.00,9, -999.00,  0.9446
     3250031_1,   P31,    55,  1,     10,     10,2,19940207,0027, -9.9643,-169.4952, 5284,   4322.1,   1.2430,  34.7090,2,  34.7065,2,    197.0,2,    196.1,2,   120.16,2,    32.35,2,     0.00,2,     2.24,2, -999.000,9, -999.000,9,   -999.0,9,   -999.0,9,  -999.00,9, -999.00,  0.8959
     3250031_1,   P31,    55,  1,      9,      9,2,19940207,0027, -9.9643,-169.4952, 5284,   4400.6,   1.1738,  34.7071,2,  34.7073,2,    201.2,2,    197.7,2,   121.53,2,    32.31,2,     0.00,2,     2.23,2, -999.000,9, -999.000,9,   -999.0,9,   -999.0,9,  -999.00,9, -999.00,  0.8201
     3250031_1,   P31,    55,  1,      8,      8,2,19940207,0027, -9.9643,-169.4952, 5284,   4505.1,   1.1400,  34.7104,2,  34.7107,2,    204.0,2,    202.7,2,   118.78,2,    31.78,2,     0.00,2,     2.20,2,    0.008,3,   -0.003,2,   -999.0,9,   -999.0,9,  -999.00,9, -999.00,  0.7755
     3250031_1,   P31,    55,  1,      7,      7,2,19940207,0027, -9.9643,-169.4952, 5284,   4610.5,   1.0878,  34.7091,2,  34.7085,2,    204.7,2,    204.1,2,   119.37,2,    31.93,2,     0.00,2,     2.20,2,    0.001,2,   -0.003,2,   -999.0,9,   -999.0,9,  -999.00,9, -999.00,  0.7129
     3250031_1,   P31,    55,  1,      6,      6,2,19940207,0027, -9.9643,-169.4952, 5284,   4714.2,   1.0761,  34.7084,2,  34.7093,2,    204.8,2,    204.7,2,   119.56,2,    31.89,2,     0.00,2,     2.20,2,    0.006,2,   -0.002,2,   -999.0,9,   -999.0,9,  -999.00,9, -999.00,  0.6897
     3250031_1,   P31,    55,  1,      5,      5,2,19940207,0027, -9.9643,-169.4952, 5284,   4868.4,   1.0678,  34.7085,2,  34.7072,2,    206.4,2,    205.4,2,   120.34,2,    31.99,2,     0.00,2,     2.20,2,    0.011,2,   -0.002,2,   -999.0,9,   -999.0,9,  -999.00,9, -999.00,  0.6637
     3250031_1,   P31,    55,  1,      4,      4,2,19940207,0027, -9.9643,-169.4952, 5284,   5024.9,   1.0779,  34.7083,2,  34.7086,2,    205.8,2,    205.9,2,   121.12,2,    32.00,2,     0.00,2,     2.20,2,    0.005,2,   -0.001,2,   -999.0,9,   -999.0,9,  -999.00,9, -999.00,  0.6549
     3250031_1,   P31,    55,  1,      3,      3,2,19940207,0027, -9.9643,-169.4952, 5284,   5182.4,   1.0940,  34.7082,2,  34.7085,2,    205.9,2,    205.8,2,   121.71,2,    32.00,2,     0.00,2,     2.20,2,    0.006,4,   -0.001,4,   -999.0,9,   -999.0,9,  -999.00,9, -999.00,  0.6514
     3250031_1,   P31,    55,  1,      2,      2,2,19940207,0027, -9.9643,-169.4952, 5284,   5318.8,   1.1090,  34.7077,2,  34.7077,2,    203.5,2,    205.5,2,   121.91,2,    32.01,2,     0.00,2,     2.21,2,    0.016,4,    0.000,2,   -999.0,9,   -999.0,9,  -999.00,9, -999.00,  0.6491
     3250031_1,   P31,    55,  1,      1,      1,2,19940207,0027, -9.9643,-169.4952, 5284,   5389.1,   1.1181,  34.7082,2,  34.7083,2,    204.6,2,    205.4,2,   121.11,2,    31.97,2,     0.00,2,     2.21,2,    0.008,2,   -0.001,2,   -999.0,9,   -999.0,9,  -999.00,9, -999.00,  0.6492