BOTTLE,20020814WHPSIOdm
EXPOCODE,SECT_ID,STNNBR,CASTNO,SAMPNO,BTLNBR,BTLNBR_FLAG_W,DATE,TIME,LATITUDE,LONGITUDE,DEPTH,CTDPRS,CTDTMP,CTDSAL,CTDSAL_FLAG_W,SALNTY,SALNTY_FLAG_W,CTDOXY,CTDOXY_FLAG_W,OXYGEN,OXYGEN_FLAG_W,SILCAT,SILCAT_FLAG_W,NITRAT,NITRAT_FLAG_W,NITRIT,NITRIT_FLAG_W,PHSPHT,PHSPHT_FLAG_W,CFC-11,CFC-11_FLAG_W,CFC-12,CFC-12_FLAG_W,TCARBN,TCARBN_FLAG_W,ALKALI,ALKALI_FLAG_W,PH,PH_FLAG_W,PHTEMP,THETA
,,,,,,,,,,,,DBAR,ITS-90,PSS-78,,PSS-78,,UMOL/KG,,UMOL/KG,,UMOL/KG,,UMOL/KG,,UMOL/KG,,UMOL/KG,,PMOL/KG,,PMOL/KG,,UMOL/KG,,UMOL/KG,,,,DEG C,DEG C
     3250031_1,   P31,    83,  1,     28,     28,2,19940216,0335,-12.7512,-177.3163, 3132,      2.5,  29.8449,  34.2858,2,  34.2884,2,    197.4,2,    193.0,2,     1.69,2,     0.09,2,     0.00,2,     0.17,2, -999.000,9, -999.000,9,   -999.0,9,   -999.0,9,  -999.00,9, -999.00, 29.8443
     3250031_1,   P31,    83,  1,     27,     27,2,19940216,0335,-12.7512,-177.3163, 3132,     11.3,  29.8427,  34.2887,2,  34.2921,2,    193.8,2,    190.9,2,     1.67,2,     0.09,2,     0.00,2,     0.16,2, -999.000,9, -999.000,9,   -999.0,9,   -999.0,9,  -999.00,9, -999.00, 29.8400
     3250031_1,   P31,    83,  1,     26,     26,2,19940216,0335,-12.7512,-177.3163, 3132,     56.5,  28.8651,  35.5478,2,  35.5668,2,    198.5,2,    202.9,2,     1.47,2,     0.09,2,     0.00,2,     0.19,2, -999.000,9, -999.000,9,   -999.0,9,   -999.0,9,  -999.00,9, -999.00, 28.8514
     3250031_1,   P31,    83,  1,     25,     25,2,19940216,0335,-12.7512,-177.3163, 3132,    106.8,  26.4135,  36.1376,4,  36.0834,2,   -999.0,5,    189.3,2,     1.63,2,     0.14,2,     0.00,2,     0.26,2, -999.000,9, -999.000,9,   -999.0,9,   -999.0,9,  -999.00,9, -999.00, 26.3893
     3250031_1,   P31,    83,  1,     24,     24,2,19940216,0335,-12.7512,-177.3163, 3132,    207.4,  19.1193,  35.6737,4,  35.7015,2,   -999.0,5,    147.8,2,     3.45,2,     7.92,2,     0.01,2,     0.81,2, -999.000,9, -999.000,9,   -999.0,9,   -999.0,9,  -999.00,9, -999.00, 19.0820
     3250031_1,   P31,    83,  1,     23,     23,2,19940216,0335,-12.7512,-177.3163, 3132,    307.5,  14.7783,  35.1294,2,  35.1248,2,    126.9,2,    131.9,2,     8.56,2,    14.73,2,     0.01,2,     1.25,2, -999.000,9, -999.000,9,   -999.0,9,   -999.0,9,  -999.00,9, -999.00, 14.7320
     3250031_1,   P31,    83,  1,     22,     22,2,19940216,0335,-12.7512,-177.3163, 3132,    407.8,  10.0000,  34.6710,2,  34.6802,2,    136.3,2,    134.6,2,    17.15,2,    23.58,2,     0.01,2,     1.74,2, -999.000,9, -999.000,9,   -999.0,9,   -999.0,9,  -999.00,9, -999.00,  9.9523
     3250031_1,   P31,    83,  1,     21,     21,2,19940216,0335,-12.7512,-177.3163, 3132,    509.0,   7.2723,  34.5256,2,  34.5241,2,    133.9,2,    140.3,2,    30.33,2,    29.96,2,     0.00,2,     2.07,2, -999.000,9, -999.000,9,   -999.0,9,   -999.0,9,  -999.00,9, -999.00,  7.2229
     3250031_1,   P31,    83,  1,     20,     20,2,19940216,0335,-12.7512,-177.3163, 3132,    609.4,   6.3249,  34.4944,2,  34.4954,2,    138.2,2,    137.8,2,    38.55,2,    32.27,2,     0.01,2,     2.21,2, -999.000,9, -999.000,9,   -999.0,9,   -999.0,9,  -999.00,9, -999.00,  6.2697
     3250031_1,   P31,    83,  1,     19,     19,2,19940216,0335,-12.7512,-177.3163, 3132,    609.7,   6.3081,  34.4956,2,  34.4962,2,    138.2,2,    137.9,2,    38.71,2,    32.38,2,     0.00,2,     2.22,2, -999.000,9, -999.000,9,   -999.0,9,   -999.0,9,  -999.00,9, -999.00,  6.2530
     3250031_1,   P31,    83,  1,     18,     18,2,19940216,0335,-12.7512,-177.3163, 3132,    710.0,   5.6830,  34.4947,2,  34.4953,2,    130.6,2,    128.8,2,    47.86,2,    34.53,2,     0.01,2,     2.37,2, -999.000,9, -999.000,9,   -999.0,9,   -999.0,9,  -999.00,9, -999.00,  5.6216
     3250031_1,   P31,    83,  1,     17,     17,2,19940216,0335,-12.7512,-177.3163, 3132,    810.8,   5.1022,  34.4938,2,  34.4949,2,    131.6,2,    129.1,2,    56.84,2,    35.43,2,     0.00,2,     2.43,2, -999.000,9, -999.000,9,   -999.0,9,   -999.0,9,  -999.00,9, -999.00,  5.0351
     3250031_1,   P31,    83,  1,     16,     16,2,19940216,0335,-12.7512,-177.3163, 3132,    911.7,   4.5295,  34.4856,2,  34.4869,2,    138.1,2,    141.2,2,    62.89,2,    35.01,2,     0.00,2,     2.40,2, -999.000,9, -999.000,9,   -999.0,9,   -999.0,9,  -999.00,9, -999.00,  4.4575
     3250031_1,   P31,    83,  1,     15,     15,2,19940216,0335,-12.7512,-177.3163, 3132,   1013.2,   4.0710,  34.5027,2,  34.5042,2,    138.1,2,    141.5,2,    72.09,2,    35.48,2,     0.00,2,     2.44,2, -999.000,9, -999.000,9,   -999.0,9,   -999.0,9,  -999.00,9, -999.00,  3.9937
     3250031_1,   P31,    83,  1,     14,     14,2,19940216,0335,-12.7512,-177.3163, 3132,   1214.3,   3.5399,  34.5391,2,  34.5390,2,    131.5,2,    137.3,2,    85.08,2,    36.22,2,     0.00,2,     2.49,2, -999.000,9, -999.000,9,   -999.0,9,   -999.0,9,  -999.00,9, -999.00,  3.4503
     3250031_1,   P31,    83,  1,     13,     13,2,19940216,0335,-12.7512,-177.3163, 3132,   1416.7,   2.9780,  34.5692,2,  34.5706,2,    142.9,2,    141.1,2,    97.48,2,    36.27,2,     0.00,2,     2.49,2, -999.000,9, -999.000,9,   -999.0,9,   -999.0,9,  -999.00,9, -999.00,  2.8774
     3250031_1,   P31,    83,  1,     12,     12,2,19940216,0335,-12.7512,-177.3163, 3132,   1618.7,   2.5788,  34.5985,2,  34.5990,2,    146.0,2,    143.7,2,   108.17,2,    36.27,2,     0.00,2,     2.49,2, -999.000,9, -999.000,9,   -999.0,9,   -999.0,9,  -999.00,9, -999.00,  2.4661
     3250031_1,   P31,    83,  1,     11,     11,2,19940216,0335,-12.7512,-177.3163, 3132,   1818.5,   2.3955,  34.6142,2,  34.6149,2,    142.5,2,    142.8,2,   113.96,2,    36.43,2,     0.00,2,     2.51,2, -999.000,9, -999.000,9,   -999.0,9,   -999.0,9,  -999.00,9, -999.00,  2.2686
     3250031_1,   P31,    83,  1,     10,     10,2,19940216,0335,-12.7512,-177.3163, 3132,   2017.2,   2.2043,  34.6300,2,  34.6299,2,    141.0,2,    142.7,2,   120.82,2,    36.59,2,     0.00,2,     2.52,2, -999.000,9, -999.000,9,   -999.0,9,   -999.0,9,  -999.00,9, -999.00,  2.0633
     3250031_1,   P31,    83,  1,      9,      9,2,19940216,0335,-12.7512,-177.3163, 3132,   2218.9,   2.0691,  34.6407,2,  34.6415,2,    144.6,2,    143.5,2,   125.57,2,    36.53,2,     0.00,2,     2.51,2, -999.000,9, -999.000,9,   -999.0,9,   -999.0,9,  -999.00,9, -999.00,  1.9127
     3250031_1,   P31,    83,  1,      8,      8,2,19940216,0335,-12.7512,-177.3163, 3132,   2429.2,   1.9011,  34.6524,2,  34.6543,2,    144.9,2,    143.9,2,   130.59,2,    36.64,2,     0.00,2,     2.52,2, -999.000,9, -999.000,9,   -999.0,9,   -999.0,9,  -999.00,9, -999.00,  1.7290
     3250031_1,   P31,    83,  1,      7,      7,2,19940216,0335,-12.7512,-177.3163, 3132,   2533.8,   1.7929,  34.6601,2,  34.6610,2,    143.6,2,    144.7,2,   133.21,2,    36.53,2,     0.00,2,     2.51,2,   -0.003,4,   -0.001,4,   -999.0,9,   -999.0,9,  -999.00,9, -999.00,  1.6134
     3250031_1,   P31,    83,  1,      6,      6,2,19940216,0335,-12.7512,-177.3163, 3132,   2634.9,   1.7604,  34.6626,2,  34.6636,2,    145.4,2,    144.6,2,   134.00,2,    36.58,2,     0.00,2,     2.51,2,   -0.004,4,   -0.005,4,   -999.0,9,   -999.0,9,  -999.00,9, -999.00,  1.5723
     3250031_1,   P31,    83,  1,      5,      5,2,19940216,0335,-12.7512,-177.3163, 3132,   2735.8,   1.7164,  34.6661,2,  34.6667,2,    145.4,2,    145.2,2,   136.44,2,    36.58,2,     0.00,2,     2.51,2, -999.000,9, -999.000,9,   -999.0,9,   -999.0,9,  -999.00,9, -999.00,  1.5199
     3250031_1,   P31,    83,  1,      4,      4,2,19940216,0335,-12.7512,-177.3163, 3132,   2838.8,   1.6971,  34.6678,2,  34.6693,2,    145.9,2,    145.5,2,   137.64,2,    36.58,2,     0.00,2,     2.51,2,   -0.003,4,    0.002,4,   -999.0,9,   -999.0,9,  -999.00,9, -999.00,  1.4914
     3250031_1,   P31,    83,  1,      3,      3,2,19940216,0335,-12.7512,-177.3163, 3132,   2940.2,   1.6875,  34.6692,2,  34.6688,2,    145.6,2,    145.6,2,   138.44,2,    36.64,2,     0.00,2,     2.51,2,   -0.003,4,   -0.001,4,   -999.0,9,   -999.0,9,  -999.00,9, -999.00,  1.4723
     3250031_1,   P31,    83,  1,      2,      2,2,19940216,0335,-12.7512,-177.3163, 3132,   3041.7,   1.6756,  34.6709,2,  34.6706,2,    146.5,2,    146.8,2,   138.19,2,    36.58,2,     0.00,2,     2.51,2,   -0.004,4,   -0.002,4,   -999.0,9,   -999.0,9,  -999.00,9, -999.00,  1.4509
     3250031_1,   P31,    83,  1,      1,      1,2,19940216,0335,-12.7512,-177.3163, 3132,   3129.3,   1.6730,  34.6712,2,  34.6733,3,    147.9,2,    147.2,2,   137.94,2,    36.42,2,     0.00,2,     2.51,2,    0.002,4,   -0.003,4,   -999.0,9,   -999.0,9,  -999.00,9, -999.00,  1.4398
     3250031_1,   P31,    84,  1,     26,     26,2,19940216,0810,-13.1502,-177.5903, 3154,      3.2,  29.6800,  34.1974,2,  34.1970,2,    195.1,2,    193.7,2,     1.54,2,     0.09,2,     0.00,2,     0.16,2, -999.000,9, -999.000,9,   -999.0,9,   -999.0,9,  -999.00,9, -999.00, 29.6792
     3250031_1,   P31,    84,  1,     25,     25,2,19940216,0810,-13.1502,-177.5903, 3154,     11.6,  29.6809,  34.2014,2,  34.1995,2,    194.2,2,    193.6,2,     1.34,2,     0.09,2,     0.00,2,     0.16,2, -999.000,9, -999.000,9,   -999.0,9,   -999.0,9,  -999.00,9, -999.00, 29.6780
     3250031_1,   P31,    84,  1,     24,     24,2,19940216,0810,-13.1502,-177.5903, 3154,     57.1,  28.5395,  35.6086,2,  35.5873,2,    199.9,2,    204.0,2,     1.33,2,     0.09,2,     0.00,2,     0.19,2, -999.000,9, -999.000,9,   -999.0,9,   -999.0,9,  -999.00,9, -999.00, 28.5259
     3250031_1,   P31,    84,  1,     23,     23,2,19940216,0810,-13.1502,-177.5903, 3154,    107.5,  25.9645,  35.6888,2,  35.6762,2,    197.0,2,    204.6,2,     1.31,2,     0.09,2,     0.00,2,     0.18,2,    1.810,4,    1.002,4,   -999.0,9,   -999.0,9,  -999.00,9, -999.00, 25.9405
     3250031_1,   P31,    84,  1,     22,     22,2,19940216,0810,-13.1502,-177.5903, 3154,    207.3,  21.9939,  36.0030,2,  36.0065,2,    161.4,2,    155.9,2,     1.85,2,     4.85,2,     0.02,2,     0.58,2,    1.759,4,    0.953,4,   -999.0,9,   -999.0,9,  -999.00,9, -999.00, 21.9527
     3250031_1,   P31,    84,  1,     21,     21,2,19940216,0810,-13.1502,-177.5903, 3154,    308.0,  14.2832,  35.0872,2,  35.1078,2,    138.2,2,    133.1,2,     8.44,2,    14.86,2,     0.01,2,     1.24,2,    1.097,4,    0.515,4,   -999.0,9,   -999.0,9,  -999.00,9, -999.00, 14.2379
     3250031_1,   P31,    84,  1,     20,     20,2,19940216,0810,-13.1502,-177.5903, 3154,    408.0,  10.2742,  34.7088,2,  34.7087,2,    104.8,2,    104.4,2,    20.18,2,    25.92,2,     0.01,2,     1.90,2,    0.326,4,    0.165,4,   -999.0,9,   -999.0,9,  -999.00,9, -999.00, 10.2257
     3250031_1,   P31,    84,  1,     19,     19,2,19940216,0810,-13.1502,-177.5903, 3154,    408.1,  10.2545,  34.7065,2,  34.7067,2,    104.8,2,    104.3,2,    20.34,2,    26.08,2,     0.01,2,     1.92,2, -999.000,9, -999.000,9,   -999.0,9,   -999.0,9,  -999.00,9, -999.00, 10.2060
     3250031_1,   P31,    84,  1,     18,     18,2,19940216,0810,-13.1502,-177.5903, 3154,    508.2,   7.4894,  34.5457,2,  34.5445,2,    129.6,2,    132.4,2,    30.06,2,    30.22,2,     0.01,2,     2.09,2,    0.327,4,    0.165,4,   -999.0,9,   -999.0,9,  -999.00,9, -999.00,  7.4392
     3250031_1,   P31,    84,  1,     17,     17,2,19940216,0810,-13.1502,-177.5903, 3154,    609.9,   6.4335,  34.5115,2,  34.5119,2,    125.1,2,    128.0,2,    40.14,2,    33.07,2,     0.01,2,     2.27,2,    0.052,4,    0.055,4,   -999.0,9,   -999.0,9,  -999.00,9, -999.00,  6.3777
     3250031_1,   P31,    84,  1,     16,     16,2,19940216,0810,-13.1502,-177.5903, 3154,    709.7,   5.7622,  34.5014,2,  34.5023,2,    123.2,2,    123.1,2,    48.77,2,    34.97,2,     0.00,2,     2.39,2,    0.027,4,    0.089,4,   -999.0,9,   -999.0,9,  -999.00,9, -999.00,  5.7005
     3250031_1,   P31,    84,  1,     15,     15,2,19940216,0810,-13.1502,-177.5903, 3154,    810.6,   5.2023,  34.4925,2,  34.4960,2,    124.9,2,    128.1,2,    55.56,2,    35.34,2,     0.00,2,     2.42,2,    0.015,4,    0.003,4,   -999.0,9,   -999.0,9,  -999.00,9, -999.00,  5.1347
     3250031_1,   P31,    84,  1,     14,     14,2,19940216,0810,-13.1502,-177.5903, 3154,    911.6,   4.4512,  34.4707,2,  34.4725,2,    150.2,2,    150.2,2,    60.52,2,    34.44,2,     0.00,2,     2.35,2, -999.000,9, -999.000,9,   -999.0,9,   -999.0,9,  -999.00,9, -999.00,  4.3797
     3250031_1,   P31,    84,  1,     13,     13,2,19940216,0810,-13.1502,-177.5903, 3154,   1012.7,   4.1524,  34.4923,2,  34.4924,2,    140.9,2,    145.8,2,    68.44,2,    35.13,2,     0.00,2,     2.40,2,    0.014,4,    0.040,4,   -999.0,9,   -999.0,9,  -999.00,9, -999.00,  4.0745
     3250031_1,   P31,    84,  1,     12,     12,2,19940216,0810,-13.1502,-177.5903, 3154,   1213.1,   3.4175,  34.5369,2,  34.5387,2,    141.8,2,    141.5,2,    86.68,2,    35.98,2,     0.00,2,     2.46,2,   -0.002,4,    0.001,4,   -999.0,9,   -999.0,9,  -999.00,9, -999.00,  3.3291
     3250031_1,   P31,    84,  1,     11,     11,2,19940216,0810,-13.1502,-177.5903, 3154,   1416.6,   3.0080,  34.5672,2,  34.5678,2,    141.3,2,    141.5,2,    96.85,2,    36.29,2,     0.01,2,     2.48,2, -999.000,9, -999.000,9,   -999.0,9,   -999.0,9,  -999.00,9, -999.00,  2.9070
     3250031_1,   P31,    84,  1,     10,     10,2,19940216,0810,-13.1502,-177.5903, 3154,   1619.4,   2.6747,  34.5934,2,  34.5932,2,    143.3,2,    141.4,2,   105.82,2,    36.45,2,     0.01,2,     2.50,2,   -0.005,4,   -0.004,4,   -999.0,9,   -999.0,9,  -999.00,9, -999.00,  2.5607
     3250031_1,   P31,    84,  1,      9,      9,2,19940216,0810,-13.1502,-177.5903, 3154,   1817.9,   2.4742,  34.6096,2,  34.6099,2,    142.0,2,    142.0,2,   112.00,2,    36.61,2,     0.01,2,     2.51,2, -999.000,9, -999.000,9,   -999.0,9,   -999.0,9,  -999.00,9, -999.00,  2.3463
     3250031_1,   P31,    84,  1,      8,      8,2,19940216,0810,-13.1502,-177.5903, 3154,   2019.7,   2.2352,  34.6284,2,  34.6290,2,    144.2,2,    142.4,2,   119.04,2,    36.66,2,     0.01,2,     2.51,2,   -0.002,4,   -0.001,4,   -999.0,9,   -999.0,9,  -999.00,9, -999.00,  2.0935
     3250031_1,   P31,    84,  1,      7,      7,2,19940216,0810,-13.1502,-177.5903, 3154,   2224.4,   2.0804,  34.6413,2,  34.6422,2,    142.0,2,    142.3,2,   125.60,2,    36.77,2,     0.01,2,     2.52,2, -999.000,9, -999.000,9,   -999.0,9,   -999.0,9,  -999.00,9, -999.00,  1.9234
     3250031_1,   P31,    84,  1,      6,      6,2,19940216,0810,-13.1502,-177.5903, 3154,   2428.8,   1.9625,  34.6498,2,  34.6502,2,    142.9,2,    143.1,2,   130.03,2,    36.72,2,     0.00,2,     2.51,2, -999.000,9, -999.000,9,   -999.0,9,   -999.0,9,  -999.00,9, -999.00,  1.7893
     3250031_1,   P31,    84,  1,      5,      5,2,19940216,0810,-13.1502,-177.5903, 3154,   2633.2,   1.8496,  34.6580,2,  34.6583,2,    144.5,2,    143.2,2,   134.10,2,    36.77,2,     0.00,2,     2.51,2, -999.000,9, -999.000,9,   -999.0,9,   -999.0,9,  -999.00,9, -999.00,  1.6600
     3250031_1,   P31,    84,  1,      4,      4,2,19940216,0810,-13.1502,-177.5903, 3154,   2735.2,   1.7582,  34.6635,2,  34.6636,2,    145.7,2,    144.0,2,   135.73,2,    36.72,2,     0.00,2,     2.52,2,   -0.005,4,   -0.003,4,   -999.0,9,   -999.0,9,  -999.00,9, -999.00,  1.5609
     3250031_1,   P31,    84,  1,      3,      3,2,19940216,0810,-13.1502,-177.5903, 3154,   2837.0,   1.6878,  34.6687,2,  34.6686,2,    146.3,2,    145.8,2,   137.15,2,    36.67,2,     0.00,2,     2.51,2, -999.000,9, -999.000,9,   -999.0,9,   -999.0,9,  -999.00,9, -999.00,  1.4824
     3250031_1,   P31,    84,  1,      2,      2,2,19940216,0810,-13.1502,-177.5903, 3154,   2938.7,   1.6727,  34.6703,2,  34.6700,2,    149.0,2,    146.3,2,   137.75,2,    36.56,2,     0.00,2,     2.50,2, -999.000,9, -999.000,9,   -999.0,9,   -999.0,9,  -999.00,9, -999.00,  1.4580
     3250031_1,   P31,    84,  1,      1,      1,2,19940216,0810,-13.1502,-177.5903, 3154,   3040.2,   1.6697,  34.6715,2,  34.6718,2,    146.1,2,    146.8,2,   138.35,2,    36.56,2,     0.00,2,     2.50,2,    0.003,4,    0.003,4,   -999.0,9,   -999.0,9,  -999.00,9, -999.00,  1.4453