BOTTLE,20020814WHPSIOdm
EXPOCODE,SECT_ID,STNNBR,CASTNO,SAMPNO,BTLNBR,BTLNBR_FLAG_W,DATE,TIME,LATITUDE,LONGITUDE,DEPTH,CTDPRS,CTDTMP,CTDSAL,CTDSAL_FLAG_W,SALNTY,SALNTY_FLAG_W,CTDOXY,CTDOXY_FLAG_W,OXYGEN,OXYGEN_FLAG_W,SILCAT,SILCAT_FLAG_W,NITRAT,NITRAT_FLAG_W,NITRIT,NITRIT_FLAG_W,PHSPHT,PHSPHT_FLAG_W,CFC-11,CFC-11_FLAG_W,CFC-12,CFC-12_FLAG_W,TCARBN,TCARBN_FLAG_W,ALKALI,ALKALI_FLAG_W,PH,PH_FLAG_W,PHTEMP,THETA
,,,,,,,,,,,,DBAR,ITS-90,PSS-78,,PSS-78,,UMOL/KG,,UMOL/KG,,UMOL/KG,,UMOL/KG,,UMOL/KG,,UMOL/KG,,PMOL/KG,,PMOL/KG,,UMOL/KG,,UMOL/KG,,,,DEG C,DEG C
     3250031_1,   P31,    49,  1,     36,     36,2,19940205,1840,-10.2532,-168.6660, 4065,      3.2,  29.8483,  34.2427,2,  34.2422,2,    204.7,2,    193.4,2,     1.47,2,     0.00,2,     0.00,2,     0.18,2,    1.534,2,    0.850,2,   -999.0,9,   -999.0,9,  -999.00,9, -999.00, 29.8476
     3250031_1,   P31,    49,  1,     35,     35,2,19940205,1840,-10.2532,-168.6660, 4065,     15.0,  29.8456,  34.2425,2,  34.2422,2,    192.4,2,    193.4,2,     1.45,2,     0.00,2,     0.00,2,     0.18,2,    1.572,2,    0.856,2,   -999.0,9,   -999.0,9,  -999.00,9, -999.00, 29.8419
     3250031_1,   P31,    49,  1,     34,     34,2,19940205,1840,-10.2532,-168.6660, 4065,     55.5,  30.1842,  34.9628,2,  35.0734,2,    175.8,2,    201.8,2,     1.43,2,     0.00,2,     0.00,2,     0.23,2,    1.569,2,    0.881,2,   -999.0,9,   -999.0,9,  -999.00,9, -999.00, 30.1704
     3250031_1,   P31,    49,  1,     33,     33,2,19940205,1840,-10.2532,-168.6660, 4065,    104.9,  27.0468,  36.0888,2,  36.0847,2,    181.1,2,    167.3,2,     1.77,2,     1.80,2,     0.32,2,     0.48,2,    1.676,2,    0.883,2,   -999.0,9,   -999.0,9,  -999.00,9, -999.00, 27.0226
     3250031_1,   P31,    49,  1,     32,     32,2,19940205,1840,-10.2532,-168.6660, 4065,    206.0,  20.0556,  35.8069,2,  35.8164,2,    148.2,2,    139.8,2,     3.36,2,     8.76,2,     0.02,2,     0.87,2,    1.738,2,    0.904,2,   -999.0,9,   -999.0,9,  -999.00,9, -999.00, 20.0172
     3250031_1,   P31,    49,  1,     31,     31,2,19940205,1840,-10.2532,-168.6660, 4065,    306.2,  14.1247,  35.0795,2,  35.0671,2,    104.5,2,    101.7,2,    11.76,2,    18.79,2,     0.01,2,     1.54,2,    0.912,2,    0.462,2,   -999.0,9,   -999.0,9,  -999.00,9, -999.00, 14.0800
     3250031_1,   P31,    49,  1,     30,     30,2,19940205,1840,-10.2532,-168.6660, 4065,    406.0,   9.3671,  34.6582,2,  34.6539,2,     95.5,2,     95.8,2,    24.82,2,    28.76,2,     0.01,2,     2.09,2, -999.000,9, -999.000,9,   -999.0,9,   -999.0,9,  -999.00,9, -999.00,  9.3216
     3250031_1,   P31,    49,  1,     29,     29,2,19940205,1840,-10.2532,-168.6660, 4065,    507.3,   7.7777,  34.5848,2,  34.5800,2,    107.5,2,    107.0,2,    33.04,2,    31.90,2,     0.00,2,     2.23,2, -999.000,9, -999.000,9,   -999.0,9,   -999.0,9,  -999.00,9, -999.00,  7.7265
     3250031_1,   P31,    49,  1,     28,     28,2,19940205,1840,-10.2532,-168.6660, 4065,    608.4,   6.6065,  34.5365,2,  34.5368,2,    106.3,2,    108.1,2,    41.98,2,    34.27,2,     0.00,2,     2.38,2, -999.000,9, -999.000,9,   -999.0,9,   -999.0,9,  -999.00,9, -999.00,  6.5500
     3250031_1,   P31,    49,  1,     27,     27,2,19940205,1840,-10.2532,-168.6660, 4065,    709.0,   5.8325,  34.5122,2,  34.5124,2,    112.9,2,    117.5,2,    48.96,2,    34.87,2,     0.01,2,     2.42,2, -999.000,9, -999.000,9,   -999.0,9,   -999.0,9,  -999.00,9, -999.00,  5.7704
     3250031_1,   P31,    49,  1,     26,     26,2,19940205,1840,-10.2532,-168.6660, 4065,    809.1,   5.2602,  34.5097,2,  34.5106,2,    114.2,2,    115.3,2,    57.75,2,    36.06,2,     0.01,2,     2.50,2, -999.000,9, -999.000,9,   -999.0,9,   -999.0,9,  -999.00,9, -999.00,  5.1923
     3250031_1,   P31,    49,  1,     25,     25,2,19940205,1840,-10.2532,-168.6660, 4065,   1005.2,   4.2913,  34.5260,2,  34.5258,2,    117.3,2,    119.0,2,    75.09,2,    36.86,2,     0.01,2,     2.56,2, -999.000,9, -999.000,9,   -999.0,9,   -999.0,9,  -999.00,9, -999.00,  4.2129
     3250031_1,   P31,    49,  1,     24,     24,2,19940205,1840,-10.2532,-168.6660, 4065,   1212.5,   3.5787,  34.5521,2,  34.5525,2,    123.6,2,    125.7,2,    89.71,2,    36.86,2,     0.01,2,     2.57,2, -999.000,9, -999.000,9,   -999.0,9,   -999.0,9,  -999.00,9, -999.00,  3.4889
     3250031_1,   P31,    49,  1,     23,     23,2,19940205,1840,-10.2532,-168.6660, 4065,   1415.2,   3.1410,  34.5733,2,  34.5721,2,    128.7,2,    129.4,2,    98.78,2,    36.76,2,     0.00,2,     2.56,2, -999.000,9, -999.000,9,   -999.0,9,   -999.0,9,  -999.00,9, -999.00,  3.0387
     3250031_1,   P31,    49,  1,     22,     22,2,19940205,1840,-10.2532,-168.6660, 4065,   1616.3,   2.6544,  34.5992,2,  34.5988,2,    134.1,2,    136.9,2,   108.37,2,    36.42,2,     0.00,2,     2.52,2, -999.000,9, -999.000,9,   -999.0,9,   -999.0,9,  -999.00,9, -999.00,  2.5409
     3250031_1,   P31,    49,  1,     21,     21,2,19940205,1840,-10.2532,-168.6660, 4065,   1820.6,   2.2970,  34.6255,2,  34.6249,2,    138.1,2,    138.4,2,   119.13,2,    36.47,2,     0.00,2,     2.53,2, -999.000,9, -999.000,9,   -999.0,9,   -999.0,9,  -999.00,9, -999.00,  2.1713
     3250031_1,   P31,    49,  1,     20,     20,2,19940205,1840,-10.2532,-168.6660, 4065,   2025.0,   2.0920,  34.6429,2,  34.6432,2,    138.4,2,    135.5,2,   128.39,2,    36.77,2,     0.00,2,     2.54,2, -999.000,9, -999.000,9,   -999.0,9,   -999.0,9,  -999.00,9, -999.00,  1.9520
     3250031_1,   P31,    49,  1,     19,     19,2,19940205,1840,-10.2532,-168.6660, 4065,   2224.8,   1.9612,  34.6517,2,  34.6528,2,    141.1,2,    139.5,2,   131.18,2,    36.48,2,     0.00,2,     2.52,2, -999.000,9, -999.000,9,   -999.0,9,   -999.0,9,  -999.00,9, -999.00,  1.8061
     3250031_1,   P31,    49,  1,     18,     18,2,19940205,1840,-10.2532,-168.6660, 4065,   2426.0,   1.8480,  34.6602,2,  34.6617,2,    143.4,2,    142.1,2,   134.20,2,    36.28,2,     0.00,2,     2.51,2,    0.005,2,   -0.006,2,   -999.0,9,   -999.0,9,  -999.00,9, -999.00,  1.6772
     3250031_1,   P31,    49,  1,     17,     17,2,19940205,1840,-10.2532,-168.6660, 4065,   2528.5,   1.8238,  34.6628,2,  34.6630,2,    144.2,2,    142.0,2,   134.38,2,    36.24,2,     0.00,2,     2.52,2, -999.000,9, -999.000,9,   -999.0,9,   -999.0,9,  -999.00,9, -999.00,  1.6441
     3250031_1,   P31,    49,  1,     16,     16,2,19940205,1840,-10.2532,-168.6660, 4065,   2631.8,   1.7683,  34.6669,2,  34.6664,2,    147.0,2,    145.3,2,   134.97,2,    36.09,2,     0.00,2,     2.50,2, -999.000,9, -999.000,9,   -999.0,9,   -999.0,9,  -999.00,9, -999.00,  1.5803
     3250031_1,   P31,    49,  1,     15,     15,2,19940205,1840,-10.2532,-168.6660, 4065,   2735.2,   1.7336,  34.6691,2,  34.6679,2,    148.0,2,    147.2,2,   134.74,2,    35.99,2,     0.00,2,     2.50,2, -999.000,9, -999.000,9,   -999.0,9,   -999.0,9,  -999.00,9, -999.00,  1.5368
     3250031_1,   P31,    49,  1,     14,     14,2,19940205,1840,-10.2532,-168.6660, 4065,   2836.5,   1.7156,  34.6705,2,  34.6709,2,    148.6,2,    148.5,2,   135.54,2,    35.90,2,     0.00,2,     2.48,2, -999.000,9, -999.000,9,   -999.0,9,   -999.0,9,  -999.00,9, -999.00,  1.5097
     3250031_1,   P31,    49,  1,     13,     13,2,19940205,1840,-10.2532,-168.6660, 4065,   2936.2,   1.6882,  34.6725,2,  34.6736,2,    149.4,2,    150.5,2,   135.72,2,    35.75,2,     0.00,2,     2.48,2, -999.000,9, -999.000,9,   -999.0,9,   -999.0,9,  -999.00,9, -999.00,  1.4733
     3250031_1,   P31,    49,  1,     12,     12,2,19940205,1840,-10.2532,-168.6660, 4065,   3037.5,   1.6554,  34.6750,2,  34.6756,2,    152.5,2,    152.3,2,   135.90,2,    35.66,2,     0.00,2,     2.47,2, -999.000,9, -999.000,9,   -999.0,9,   -999.0,9,  -999.00,9, -999.00,  1.4316
     3250031_1,   P31,    49,  1,     11,     11,2,19940205,1840,-10.2532,-168.6660, 4065,   3138.7,   1.6329,  34.6767,2,  34.6758,2,    155.0,2,    153.8,2,   136.28,2,    35.56,2,     0.00,2,     2.46,2, -999.000,9, -999.000,9,   -999.0,9,   -999.0,9,  -999.00,9, -999.00,  1.3997
     3250031_1,   P31,    49,  1,     10,     10,2,19940205,1840,-10.2532,-168.6660, 4065,   3243.3,   1.6121,  34.6783,2,  34.6775,2,    154.8,2,    155.2,2,   136.05,2,    35.41,2,     0.00,2,     2.46,2, -999.000,9, -999.000,9,   -999.0,9,   -999.0,9,  -999.00,9, -999.00,  1.3691
     3250031_1,   P31,    49,  1,      9,      9,2,19940205,1840,-10.2532,-168.6660, 4065,   3346.4,   1.5918,  34.6798,2,  34.6777,2,    157.7,2,    157.7,2,   135.62,2,    35.37,2,     0.00,2,     2.45,2, -999.000,9, -999.000,9,   -999.0,9,   -999.0,9,  -999.00,9, -999.00,  1.3390
     3250031_1,   P31,    49,  1,      8,      8,2,19940205,1840,-10.2532,-168.6660, 4065,   3450.1,   1.5640,  34.6816,2,  34.6809,2,    159.4,2,    159.2,2,   135.59,2,    35.22,2,     0.00,2,     2.44,2, -999.000,9, -999.000,9,   -999.0,9,   -999.0,9,  -999.00,9, -999.00,  1.3014
     3250031_1,   P31,    49,  1,      7,      7,2,19940205,1840,-10.2532,-168.6660, 4065,   3552.6,   1.5349,  34.6835,2,  34.6832,2,    161.3,2,    162.0,2,   135.78,2,    35.07,2,     0.00,2,     2.42,2, -999.000,9, -999.000,9,   -999.0,9,   -999.0,9,  -999.00,9, -999.00,  1.2624
     3250031_1,   P31,    49,  1,      6,      6,2,19940205,1840,-10.2532,-168.6660, 4065,   3655.3,   1.5100,  34.6853,2,  34.6850,2,    162.5,2,    163.2,2,   135.34,2,    34.98,2,     0.00,2,     2.42,2,    0.004,2,   -0.006,2,   -999.0,9,   -999.0,9,  -999.00,9, -999.00,  1.2275
     3250031_1,   P31,    49,  1,      5,      5,2,19940205,1840,-10.2532,-168.6660, 4065,   3757.7,   1.4862,  34.6869,2,  34.6858,2,    164.4,2,    165.9,2,   134.70,2,    34.88,2,     0.00,2,     2.40,2,    0.000,2,   -0.003,2,   -999.0,9,   -999.0,9,  -999.00,9, -999.00,  1.1936
     3250031_1,   P31,    49,  1,      4,      4,2,19940205,1840,-10.2532,-168.6660, 4065,   3859.0,   1.4622,  34.6885,2,  34.6863,2,    167.1,2,    167.7,2,   134.27,2,    34.69,2,     0.00,2,     2.39,2,    0.001,2,   -0.005,2,   -999.0,9,   -999.0,9,  -999.00,9, -999.00,  1.1595
     3250031_1,   P31,    49,  1,      3,      3,2,19940205,1840,-10.2532,-168.6660, 4065,   3960.1,   1.4381,  34.6899,2,  34.6887,2,    170.5,2,    170.0,2,   133.43,2,    34.44,2,     0.00,2,     2.38,2,    0.000,2,   -0.005,2,   -999.0,9,   -999.0,9,  -999.00,9, -999.00,  1.1253
     3250031_1,   P31,    49,  1,      2,      2,2,19940205,1840,-10.2532,-168.6660, 4065,   4064.3,   1.3883,  34.6933,2,  34.6908,2,    173.1,2,    174.6,2,   132.19,2,    34.29,2,     0.00,2,     2.36,2,    0.004,2,   -0.005,2,   -999.0,9,   -999.0,9,  -999.00,9, -999.00,  1.0655
     3250031_1,   P31,    49,  1,      1,      1,2,19940205,1840,-10.2532,-168.6660, 4065,   4131.6,   1.3862,  34.6932,2,  34.6930,2,    176.0,2,    175.4,2,   132.17,2,    34.15,2,     0.00,2,     2.36,2,    0.007,6,   -0.001,6,   -999.0,9,   -999.0,9,  -999.00,9, -999.00,  1.0561