BOTTLE,20020814WHPSIOdm
EXPOCODE,SECT_ID,STNNBR,CASTNO,SAMPNO,BTLNBR,BTLNBR_FLAG_W,DATE,TIME,LATITUDE,LONGITUDE,DEPTH,CTDPRS,CTDTMP,CTDSAL,CTDSAL_FLAG_W,SALNTY,SALNTY_FLAG_W,CTDOXY,CTDOXY_FLAG_W,OXYGEN,OXYGEN_FLAG_W,SILCAT,SILCAT_FLAG_W,NITRAT,NITRAT_FLAG_W,NITRIT,NITRIT_FLAG_W,PHSPHT,PHSPHT_FLAG_W,CFC-11,CFC-11_FLAG_W,CFC-12,CFC-12_FLAG_W,TCARBN,TCARBN_FLAG_W,ALKALI,ALKALI_FLAG_W,PH,PH_FLAG_W,PHTEMP,THETA
,,,,,,,,,,,,DBAR,ITS-90,PSS-78,,PSS-78,,UMOL/KG,,UMOL/KG,,UMOL/KG,,UMOL/KG,,UMOL/KG,,UMOL/KG,,PMOL/KG,,PMOL/KG,,UMOL/KG,,UMOL/KG,,,,DEG C,DEG C
     3250031_1,   P31,    73,  1,     36,     36,2,19940214,0455,-10.2200,-174.8465, 4356,      3.0,  29.8318,  33.6741,2,  33.6743,2,     26.3,4,    196.0,2,     1.45,2,     0.12,2,     0.00,2,     0.11,2, -999.000,9, -999.000,9,   1863.9,2,   2214.4,2,     8.15,2,   25.00, 29.8311
     3250031_1,   P31,    73,  1,     35,     35,2,19940214,0455,-10.2200,-174.8465, 4356,     13.6,  29.8239,  33.6702,2,  33.6708,2,     57.8,4,    194.6,2,     1.42,2,     0.12,2,     0.00,2,     0.11,2, -999.000,9, -999.000,9,   1864.8,2,   -999.0,9,     8.15,2,   25.00, 29.8206
     3250031_1,   P31,    73,  1,     34,     34,2,19940214,0455,-10.2200,-174.8465, 4356,     58.3,  29.7163,  34.1488,2,  34.1074,2,      2.7,4,    198.8,2,     1.40,2,     0.07,2,     0.00,2,     0.14,2, -999.000,9, -999.000,9,   1887.8,2,   2248.6,2,     8.15,2,   25.00, 29.7020
     3250031_1,   P31,    73,  1,     33,     33,2,19940214,0455,-10.2200,-174.8465, 4356,    107.9,  26.8565,  35.8926,2,  35.8885,2,      7.3,4,    153.0,2,     2.47,2,     4.47,2,     0.65,2,     0.63,2, -999.000,9, -999.000,9,   2055.7,2,   -999.0,9,     8.03,2,   25.00, 26.8317
     3250031_1,   P31,    73,  1,     32,     32,2,19940214,0455,-10.2200,-174.8465, 4356,    208.0,  20.8302,  35.8902,2,  35.8776,2,    135.6,2,    135.9,2,     3.37,2,     8.93,2,     0.01,2,     0.86,2, -999.000,9, -999.000,9,   2121.8,2,   2364.8,2,     7.92,2,   25.00, 20.7904
     3250031_1,   P31,    73,  1,     31,     31,2,19940214,0455,-10.2200,-174.8465, 4356,    309.3,  13.8778,  35.0638,2,  35.0481,2,     92.6,2,     91.8,2,    13.10,2,    20.60,2,     0.00,2,     1.64,2, -999.000,9, -999.000,9,   2179.3,2,   -999.0,9,     7.70,2,   25.00, 13.8331
     3250031_1,   P31,    73,  1,     30,     30,2,19940214,0455,-10.2200,-174.8465, 4356,    409.4,  10.6087,  34.7636,2,  34.7597,2,     99.3,2,     95.7,2,    20.62,2,    26.51,2,     0.00,2,     1.94,2, -999.000,9, -999.000,9,   2199.3,2,   2306.9,2,  -999.00,9, -999.00, 10.5590
     3250031_1,   P31,    73,  1,     29,     29,2,19940214,0455,-10.2200,-174.8465, 4356,    508.7,   8.3993,  34.6095,2,  34.6061,2,    117.6,2,    117.9,2,    27.59,2,    29.63,2,     0.00,2,     2.07,2, -999.000,9, -999.000,9,   2205.8,2,   -999.0,9,     7.60,2,   25.00,  8.3456
     3250031_1,   P31,    73,  1,     28,     28,2,19940214,0455,-10.2200,-174.8465, 4356,    610.6,   6.6671,  34.5252,2,  34.5252,2,    128.2,2,    125.1,2,    38.62,2,    32.81,2,     0.00,2,     2.25,2, -999.000,9, -999.000,9,   2221.1,2,   2308.4,2,     7.58,2,   25.00,  6.6102
     3250031_1,   P31,    73,  1,     27,     27,2,19940214,0455,-10.2200,-174.8465, 4356,    712.3,   5.8332,  34.5096,2,  34.5099,2,    122.0,2,    119.5,2,    48.91,2,    35.05,2,     0.00,2,     2.39,2, -999.000,9, -999.000,9,   2238.5,2,   -999.0,9,     7.55,2,   25.00,  5.7708
     3250031_1,   P31,    73,  1,     26,     26,2,19940214,0455,-10.2200,-174.8465, 4356,    811.6,   5.3728,  34.5085,2,  34.5085,2,    116.3,2,    116.3,2,    56.26,2,    36.20,2,     0.00,2,     2.48,2, -999.000,9, -999.000,9,   2250.2,2,   2326.3,2,  -999.00,9, -999.00,  5.3040
     3250031_1,   P31,    73,  1,     25,     25,2,19940214,0455,-10.2200,-174.8465, 4356,    912.2,   4.8732,  34.5120,2,  34.5127,2,    115.1,2,    115.9,2,    64.54,2,    36.99,2,     0.00,2,     2.53,2, -999.000,9, -999.000,9,   2259.4,2,   2339.1,2,  -999.00,9, -999.00,  4.7987
     3250031_1,   P31,    73,  1,     24,     24,2,19940214,0455,-10.2200,-174.8465, 4356,   1013.7,   4.4317,  34.5196,2,  34.5201,2,    120.9,2,    119.8,2,    71.93,2,    37.05,2,     0.00,2,     2.55,2, -999.000,9, -999.000,9,   2266.8,2,   -999.0,9,     7.53,2,   25.00,  4.3515
     3250031_1,   P31,    73,  1,     23,     23,2,19940214,0455,-10.2200,-174.8465, 4356,   1216.3,   3.6662,  34.5466,2,  34.5461,2,    123.6,2,    125.4,2,    86.84,2,    37.10,2,     0.00,2,     2.56,2, -999.000,9, -999.000,9,   2281.7,2,   -999.0,9,     7.53,2,   25.00,  3.5752
     3250031_1,   P31,    73,  1,     22,     22,2,19940214,0455,-10.2200,-174.8465, 4356,   1417.8,   3.0749,  34.5751,2,  34.5742,2,    128.7,2,    131.5,2,    98.16,2,    36.99,2,     0.00,2,     2.54,2, -999.000,9, -999.000,9,   2292.3,2,   2373.6,2,     7.54,2,   25.00,  2.9730
     3250031_1,   P31,    73,  1,     21,     21,2,19940214,0455,-10.2200,-174.8465, 4356,   1618.2,   2.6100,  34.6019,2,  34.6015,2,    137.9,2,    137.6,2,   108.11,2,    36.83,2,     0.00,2,     2.53,2, -999.000,9, -999.000,9,   2300.4,2,   -999.0,9,     7.55,2,   25.00,  2.4970
     3250031_1,   P31,    73,  1,     20,     20,2,19940214,0455,-10.2200,-174.8465, 4356,   1823.5,   2.2957,  34.6245,2,  34.6241,2,    138.6,2,    139.9,2,   117.45,2,    36.72,2,     0.00,2,     2.52,2, -999.000,9, -999.000,9,   2308.3,2,   2394.5,2,     7.56,2,   25.00,  2.1697
     3250031_1,   P31,    73,  1,     19,     19,2,19940214,0455,-10.2200,-174.8465, 4356,   2027.1,   2.1412,  34.6377,2,  34.6379,2,    139.2,2,    138.1,2,   124.77,2,    36.87,2,     0.00,2,     2.53,2, -999.000,9, -999.000,9,   2320.1,2,   2403.4,2,     7.56,2,   25.00,  2.0003
     3250031_1,   P31,    73,  1,     18,     18,2,19940214,0455,-10.2200,-174.8465, 4356,   2226.7,   1.9929,  34.6491,2,  34.6491,2,    136.9,2,    137.0,2,   131.01,2,    36.97,2,     0.00,2,     2.53,2, -999.000,9, -999.000,9,   2329.3,2,   -999.0,9,     7.56,2,   25.00,  1.8372
     3250031_1,   P31,    73,  1,     17,     17,2,19940214,0455,-10.2200,-174.8465, 4356,   2424.2,   1.8743,  34.6576,2,  34.6578,2,    140.0,2,    139.5,2,   133.82,2,    36.92,2,     0.00,2,     2.53,2, -999.000,9, -999.000,9,   2328.0,2,   -999.0,9,     7.56,2,   25.00,  1.7032
     3250031_1,   P31,    73,  1,     16,     16,2,19940214,0455,-10.2200,-174.8465, 4356,   2634.3,   1.8052,  34.6628,2,  34.6639,2,    140.9,2,    141.1,2,   136.25,2,    36.82,2,     0.00,2,     2.52,2,    0.006,3,    0.004,3,   2329.9,2,   2415.9,2,     7.56,2,   25.00,  1.6163
     3250031_1,   P31,    73,  1,     15,     15,2,19940214,0455,-10.2200,-174.8465, 4356,   2840.2,   1.7218,  34.6689,2,  34.6692,2,    146.5,2,    145.0,2,   137.23,2,    36.61,2,     0.00,2,     2.51,2, -999.000,9, -999.000,9,   2327.3,2,   2416.9,2,  -999.00,9, -999.00,  1.5154
     3250031_1,   P31,    73,  1,     14,     14,2,19940214,0455,-10.2200,-174.8465, 4356,   3042.1,   1.6646,  34.6738,2,  34.6741,2,    149.8,2,    149.1,2,   136.97,2,    36.34,2,     0.00,2,     2.48,2, -999.000,9, -999.000,9,   2324.9,2,   -999.0,9,     7.57,2,   25.00,  1.4401
     3250031_1,   P31,    73,  1,     13,     13,2,19940214,0455,-10.2200,-174.8465, 4356,   3246.0,   1.6118,  34.6776,2,  34.6779,2,    152.8,2,    152.6,2,   137.12,2,    36.08,2,     0.00,2,     2.47,2, -999.000,9, -999.000,9,   2320.2,2,   2418.1,2,     7.58,2,   25.00,  1.3685
     3250031_1,   P31,    73,  1,     12,     12,2,19940214,0455,-10.2200,-174.8465, 4356,   3452.0,   1.5679,  34.6809,2,  34.6814,2,    156.5,2,    155.8,2,   137.06,2,    35.92,2,     0.00,2,     2.45,2, -999.000,9, -999.000,9,   2319.2,2,   -999.0,9,     7.58,2,   25.00,  1.3050
     3250031_1,   P31,    73,  1,     11,     11,2,19940214,0455,-10.2200,-174.8465, 4356,   3553.6,   1.5366,  34.6827,2,  34.6828,2,    159.3,2,    158.5,2,   136.38,2,    35.60,2,     0.00,2,     2.44,2, -999.000,9, -999.000,9,   2317.4,2,   2411.7,2,     7.59,2,   25.00,  1.2640
     3250031_1,   P31,    73,  1,     10,     10,2,19940214,0455,-10.2200,-174.8465, 4356,   3653.2,   1.5126,  34.6848,2,  34.6848,2,    162.6,2,    161.7,2,   135.08,2,    35.39,2,     0.00,2,     2.42,2, -999.000,9, -999.000,9,   2313.5,2,   -999.0,9,     7.59,2,   25.00,  1.2303
     3250031_1,   P31,    73,  1,      9,      9,2,19940214,0455,-10.2200,-174.8465, 4356,   3756.7,   1.4228,  34.6914,2,  34.6911,2,    169.6,2,    171.6,2,   130.92,2,    34.66,2,     0.00,2,     2.36,2,    0.007,3,    0.000,3,   2303.0,2,   2403.0,2,     7.60,2,   25.00,  1.1321
     3250031_1,   P31,    73,  1,      8,      8,2,19940214,0455,-10.2200,-174.8465, 4356,   3860.3,   1.3231,  34.6984,2,  34.6990,2,    180.3,2,    182.0,2,   126.20,2,    33.92,2,     0.00,2,     2.31,2, -999.000,9, -999.000,9,   2289.2,2,   -999.0,9,     7.60,2,   25.00,  1.0241
     3250031_1,   P31,    73,  1,      7,      7,2,19940214,0455,-10.2200,-174.8465, 4356,   3911.3,   1.2739,  34.7018,2,  34.7019,2,    184.5,2,    186.9,2,   124.33,2,    33.56,2,     0.00,2,     2.28,2, -999.000,9, -999.000,9,   2284.6,2,   2385.3,2,     7.61,2,   25.00,  0.9707
     3250031_1,   P31,    73,  1,      6,      6,2,19940214,0455,-10.2200,-174.8465, 4356,   3962.3,   1.1857,  34.7069,2,  34.7080,2,    191.8,2,    194.7,2,   120.69,2,    32.77,2,     0.00,2,     2.24,2,    0.010,3,    0.017,3,   2275.1,2,   -999.0,9,     7.61,2,   25.00,  0.8796
     3250031_1,   P31,    73,  1,      5,      5,2,19940214,0455,-10.2200,-174.8465, 4356,   4014.5,   1.1668,  34.7077,2,  34.7085,2,    197.4,2,    197.4,2,   120.04,2,    32.72,2,     0.00,2,     2.23,2, -999.000,9, -999.000,9,   2271.9,2,   2373.8,2,  -999.00,9, -999.00,  0.8557
     3250031_1,   P31,    73,  1,      4,      4,2,19940214,0455,-10.2200,-174.8465, 4356,   4066.5,   1.1512,  34.7084,2,  34.7089,2,    198.2,2,    198.0,2,   119.99,2,    32.61,2,     0.00,2,     2.23,2,    0.010,3,    0.003,3,   2271.7,2,   -999.0,9,     7.61,2,   25.00,  0.8348
     3250031_1,   P31,    73,  1,      3,      3,2,19940214,0455,-10.2200,-174.8465, 4356,   4169.0,   1.1420,  34.7089,2,  34.7093,2,    200.2,2,    199.5,2,   119.34,2,    32.51,2,     0.00,2,     2.22,2,    0.005,3,    0.001,3,   2269.7,2,   2370.1,2,     7.61,2,   25.00,  0.8148
     3250031_1,   P31,    73,  1,      2,      2,2,19940214,0455,-10.2200,-174.8465, 4356,   4271.3,   1.1343,  34.7101,2,  34.7095,2,    201.1,2,    201.1,2,   118.89,2,    32.51,2,     0.00,2,     2.21,2,    0.013,3,    0.000,3,   2267.7,2,   -999.0,9,     7.61,2,   25.00,  0.7961
     3250031_1,   P31,    73,  1,      1,      1,2,19940214,0455,-10.2200,-174.8465, 4356,   4326.8,   1.1315,  34.7097,2,  34.7101,2,    202.9,2,    200.9,2,   118.84,2,    32.40,2,     0.00,2,     2.21,2,    0.009,3,    0.001,3,   2267.8,2,   2369.8,2,     7.61,2,   25.00,  0.7872