BOTTLE,20020814WHPSIOdm
EXPOCODE,SECT_ID,STNNBR,CASTNO,SAMPNO,BTLNBR,BTLNBR_FLAG_W,DATE,TIME,LATITUDE,LONGITUDE,DEPTH,CTDPRS,CTDTMP,CTDSAL,CTDSAL_FLAG_W,SALNTY,SALNTY_FLAG_W,CTDOXY,CTDOXY_FLAG_W,OXYGEN,OXYGEN_FLAG_W,SILCAT,SILCAT_FLAG_W,NITRAT,NITRAT_FLAG_W,NITRIT,NITRIT_FLAG_W,PHSPHT,PHSPHT_FLAG_W,CFC-11,CFC-11_FLAG_W,CFC-12,CFC-12_FLAG_W,TCARBN,TCARBN_FLAG_W,ALKALI,ALKALI_FLAG_W,PH,PH_FLAG_W,PHTEMP,THETA
,,,,,,,,,,,,DBAR,ITS-90,PSS-78,,PSS-78,,UMOL/KG,,UMOL/KG,,UMOL/KG,,UMOL/KG,,UMOL/KG,,UMOL/KG,,PMOL/KG,,PMOL/KG,,UMOL/KG,,UMOL/KG,,,,DEG C,DEG C
     3250031_1,   P31,    56,  1,     36,     36,2,19940207,0609, -9.9368,-169.6268, 5227,      2.7,  29.7360,  34.1841,2,  34.1832,2,    191.3,2,    193.1,2,     1.47,2,     0.00,2,     0.00,2,     0.17,2, -999.000,9, -999.000,9,   -999.0,9,   -999.0,9,  -999.00,9, -999.00, 29.7353
     3250031_1,   P31,    56,  1,     35,     35,2,19940207,0609, -9.9368,-169.6268, 5227,     13.6,  29.7711,  34.1999,2,  34.2001,2,    190.1,2,    193.1,2,     1.27,2,     0.00,2,     0.00,2,     0.17,2, -999.000,9, -999.000,9,   -999.0,9,   -999.0,9,  -999.00,9, -999.00, 29.7678
     3250031_1,   P31,    56,  1,     34,     34,2,19940207,0609, -9.9368,-169.6268, 5227,     58.4,  29.9629,  34.4850,2,  34.4713,2,    200.3,2,    196.0,2,     1.43,2,     0.00,2,     0.00,2,     0.18,2, -999.000,9, -999.000,9,   -999.0,9,   -999.0,9,  -999.00,9, -999.00, 29.9485
     3250031_1,   P31,    56,  1,     33,     33,2,19940207,0609, -9.9368,-169.6268, 5227,    108.5,  27.2462,  35.8538,2,  35.8481,2,    165.1,2,    153.4,2,     2.49,2,     4.35,2,     0.76,2,     0.63,2, -999.000,9, -999.000,9,   -999.0,9,   -999.0,9,  -999.00,9, -999.00, 27.2211
     3250031_1,   P31,    56,  1,     32,     32,2,19940207,0609, -9.9368,-169.6268, 5227,    209.2,  21.4717,  35.9644,2,  35.9499,2,    138.3,2,    138.1,2,     2.83,2,     8.57,2,     0.01,2,     0.86,2, -999.000,9, -999.000,9,   -999.0,9,   -999.0,9,  -999.00,9, -999.00, 21.4308
     3250031_1,   P31,    56,  1,     31,     31,2,19940207,0609, -9.9368,-169.6268, 5227,    408.0,   9.0783,  34.6673,2,  34.6662,2,    112.5,2,    114.4,2,    24.93,2,    28.02,2,     0.00,2,     2.00,2, -999.000,9, -999.000,9,   -999.0,9,   -999.0,9,  -999.00,9, -999.00,  9.0334
     3250031_1,   P31,    56,  1,     30,     30,2,19940207,0609, -9.9368,-169.6268, 5227,    610.3,   6.4309,  34.5123,2,  34.5114,2,    135.9,2,    134.3,2,    39.48,2,    32.08,2,     0.00,2,     2.23,2, -999.000,9, -999.000,9,   -999.0,9,   -999.0,9,  -999.00,9, -999.00,  6.3751
     3250031_1,   P31,    56,  1,     29,     29,2,19940207,0609, -9.9368,-169.6268, 5227,    811.6,   5.2151,  34.5077,2,  34.5073,2,    116.7,2,    117.4,2,    57.84,2,    35.93,2,     0.00,2,     2.50,2, -999.000,9, -999.000,9,   -999.0,9,   -999.0,9,  -999.00,9, -999.00,  5.1473
     3250031_1,   P31,    56,  1,     28,     28,2,19940207,0609, -9.9368,-169.6268, 5227,   1114.2,   3.8987,  34.5392,2,  34.5379,2,    120.9,2,    123.2,2,    82.92,2,    36.73,2,     0.00,2,     2.58,2, -999.000,9, -999.000,9,   -999.0,9,   -999.0,9,  -999.00,9, -999.00,  3.8143
     3250031_1,   P31,    56,  1,     27,     27,2,19940207,0609, -9.9368,-169.6268, 5227,   1417.9,   3.0407,  34.5769,2,  34.5751,2,    132.1,2,    132.5,2,    99.97,2,    36.53,2,     0.00,2,     2.55,2, -999.000,9, -999.000,9,   -999.0,9,   -999.0,9,  -999.00,9, -999.00,  2.9392
     3250031_1,   P31,    56,  1,     26,     26,2,19940207,0609, -9.9368,-169.6268, 5227,   1722.3,   2.5035,  34.6117,2,  34.6110,2,    136.3,2,    135.6,2,   114.60,2,    36.54,2,     0.00,2,     2.55,2, -999.000,9, -999.000,9,   -999.0,9,   -999.0,9,  -999.00,9, -999.00,  2.3831
     3250031_1,   P31,    56,  1,     25,     25,2,19940207,0609, -9.9368,-169.6268, 5227,   2025.7,   2.1898,  34.6362,2,  34.6366,2,    133.3,2,    134.5,2,   125.75,2,    36.69,2,     0.00,2,     2.57,2, -999.000,9, -999.000,9,   -999.0,9,   -999.0,9,  -999.00,9, -999.00,  2.0483
     3250031_1,   P31,    56,  1,     24,     24,2,19940207,0609, -9.9368,-169.6268, 5227,   2279.6,   1.9986,  34.6499,2,  34.6498,2,    138.3,2,    137.1,2,   130.94,2,    36.59,2,     0.00,2,     2.56,2, -999.000,9, -999.000,9,   -999.0,9,   -999.0,9,  -999.00,9, -999.00,  1.8381
     3250031_1,   P31,    56,  1,     23,     23,2,19940207,0609, -9.9368,-169.6268, 5227,   2532.6,   1.8568,  34.6611,2,  34.6616,2,    140.4,2,    141.2,2,   134.16,2,    36.39,2,     0.00,2,     2.54,2, -999.000,9, -999.000,9,   -999.0,9,   -999.0,9,  -999.00,9, -999.00,  1.6762
     3250031_1,   P31,    56,  1,     22,     22,2,19940207,0609, -9.9368,-169.6268, 5227,   2787.5,   1.7573,  34.6678,2,  34.6691,2,    148.4,2,    146.1,2,   134.75,2,    36.00,2,     0.00,2,     2.51,2, -999.000,9, -999.000,9,   -999.0,9,   -999.0,9,  -999.00,9, -999.00,  1.5551
     3250031_1,   P31,    56,  1,     21,     21,2,19940207,0609, -9.9368,-169.6268, 5227,   3038.0,   1.6747,  34.6745,2,  34.6726,2,    151.6,2,    151.1,2,   135.13,2,    35.71,2,     0.00,2,     2.49,2, -999.000,9, -999.000,9,   -999.0,9,   -999.0,9,  -999.00,9, -999.00,  1.4504
     3250031_1,   P31,    56,  1,     20,     20,2,19940207,0609, -9.9368,-169.6268, 5227,   3239.4,   1.6141,  34.6786,2,  34.6779,2,    155.9,2,    155.0,2,   135.51,2,    35.51,2,     0.00,2,     2.47,2, -999.000,9, -999.000,9,   -999.0,9,   -999.0,9,  -999.00,9, -999.00,  1.3714
     3250031_1,   P31,    56,  1,     19,     19,2,19940207,0609, -9.9368,-169.6268, 5227,   3440.9,   1.5718,  34.6814,2,  34.6819,2,    158.1,2,    158.7,2,   135.07,2,    35.27,2,     0.00,2,     2.45,2, -999.000,9, -999.000,9,   -999.0,9,   -999.0,9,  -999.00,9, -999.00,  1.3099
     3250031_1,   P31,    56,  1,     18,     18,2,19940207,0609, -9.9368,-169.6268, 5227,   3644.0,   1.5216,  34.6849,2,  34.6843,2,    161.5,2,    162.2,2,   135.25,2,    35.03,2,     0.00,2,     2.43,2, -999.000,9, -999.000,9,   -999.0,9,   -999.0,9,  -999.00,9, -999.00,  1.2400
     3250031_1,   P31,    56,  1,     17,     17,2,19940207,0609, -9.9368,-169.6268, 5227,   3848.2,   1.4687,  34.6879,2,  34.6872,2,    168.7,2,    167.7,2,   132.98,2,    34.63,2,     0.00,2,     2.40,2, -999.000,9, -999.000,9,   -999.0,9,   -999.0,9,  -999.00,9, -999.00,  1.1670
     3250031_1,   P31,    56,  1,     16,     16,2,19940207,0609, -9.9368,-169.6268, 5227,   3949.4,   1.4375,  34.6914,2,  34.6908,2,    173.2,2,    172.3,2,   130.92,2,    34.24,2,     0.00,2,     2.38,2, -999.000,9, -999.000,9,   -999.0,9,   -999.0,9,  -999.00,9, -999.00,  1.1258
     3250031_1,   P31,    56,  1,     15,     15,2,19940207,0609, -9.9368,-169.6268, 5227,   4025.8,   1.3978,  34.6940,2,  34.6939,2,    175.4,2,    176.0,2,   129.69,2,    34.00,2,     0.00,2,     2.36,2, -999.000,9, -999.000,9,   -999.0,9,   -999.0,9,  -999.00,9, -999.00,  1.0789
     3250031_1,   P31,    56,  1,     14,     14,2,19940207,0609, -9.9368,-169.6268, 5227,   4102.8,   1.3244,  34.6995,2,  34.6993,2,    183.2,2,    184.9,2,   124.86,2,    33.26,2,     0.00,2,     2.31,2, -999.000,9, -999.000,9,   -999.0,9,   -999.0,9,  -999.00,9, -999.00,  0.9992
     3250031_1,   P31,    56,  1,     13,     13,2,19940207,0609, -9.9368,-169.6268, 5227,   4178.4,   1.3062,  34.7016,2,  34.7024,2,    190.0,2,    187.5,2,   123.25,2,    33.02,2,     0.00,2,     2.29,2, -999.000,9, -999.000,9,   -999.0,9,   -999.0,9,  -999.00,9, -999.00,  0.9733
     3250031_1,   P31,    56,  1,     12,     12,2,19940207,0609, -9.9368,-169.6268, 5227,   4255.0,   1.2420,  34.7072,2,  34.7083,2,    194.2,2,    195.2,2,   120.08,2,    32.48,2,     0.00,2,     2.24,2, -999.000,9, -999.000,9,   -999.0,9,   -999.0,9,  -999.00,9, -999.00,  0.9024
     3250031_1,   P31,    56,  1,     11,     11,2,19940207,0609, -9.9368,-169.6268, 5227,   4331.1,   1.1984,  34.7093,2,  34.7084,2,    199.2,2,    199.4,2,   118.29,2,    32.14,2,     0.00,2,     2.23,2, -999.000,9, -999.000,9,   -999.0,9,   -999.0,9,  -999.00,9, -999.00,  0.8517
     3250031_1,   P31,    56,  1,     10,     10,2,19940207,0609, -9.9368,-169.6268, 5227,   4407.9,   1.1407,  34.7099,2,  34.7095,2,    200.7,2,    202.5,2,   118.07,2,    32.04,2,     0.00,2,     2.22,2, -999.000,9, -999.000,9,   -999.0,9,   -999.0,9,  -999.00,9, -999.00,  0.7871
     3250031_1,   P31,    56,  1,      9,      9,2,19940207,0609, -9.9368,-169.6268, 5227,   4484.8,   1.0940,  34.7086,2,  34.7082,2,    203.6,2,    203.8,2,   119.02,2,    32.05,2,     0.00,2,     2.22,2, -999.000,9, -999.000,9,   -999.0,9,   -999.0,9,  -999.00,9, -999.00,  0.7332
     3250031_1,   P31,    56,  1,      8,      8,2,19940207,0609, -9.9368,-169.6268, 5227,   4562.1,   1.0777,  34.7091,2,  34.7086,2,    204.4,2,    204.8,2,   119.19,2,    31.85,2,     0.00,2,     2.22,2, -999.000,9, -999.000,9,   -999.0,9,   -999.0,9,  -999.00,9, -999.00,  0.7087
     3250031_1,   P31,    56,  1,      7,      7,2,19940207,0609, -9.9368,-169.6268, 5227,   4664.4,   1.0626,  34.7084,2,  34.7088,2,    205.3,2,    205.8,2,   119.56,2,    32.00,2,     0.00,2,     2.21,2, -999.000,9, -999.000,9,   -999.0,9,   -999.0,9,  -999.00,9, -999.00,  0.6824
     3250031_1,   P31,    56,  1,      6,      6,2,19940207,0609, -9.9368,-169.6268, 5227,   4766.1,   1.0646,  34.7085,2,  34.7074,2,    205.0,2,    205.8,2,   119.92,2,    31.96,2,     0.00,2,     2.22,2,    0.007,2,    0.002,2,   -999.0,9,   -999.0,9,  -999.00,9, -999.00,  0.6726
     3250031_1,   P31,    56,  1,      5,      5,2,19940207,0609, -9.9368,-169.6268, 5227,   4868.7,   1.0684,  34.7080,2,  34.7073,2,    207.2,2,    206.0,2,   119.90,2,    31.96,2,     0.00,2,     2.21,2,    0.008,2,    0.003,2,   -999.0,9,   -999.0,9,  -999.00,9, -999.00,  0.6642
     3250031_1,   P31,    56,  1,      4,      4,2,19940207,0609, -9.9368,-169.6268, 5227,   4970.6,   1.0731,  34.7081,2,  34.7069,2,    205.9,2,    206.2,2,   119.87,2,    31.97,2,     0.00,2,     2.22,2,    0.005,2,    0.003,2,   -999.0,9,   -999.0,9,  -999.00,9, -999.00,  0.6567
     3250031_1,   P31,    56,  1,      3,      3,2,19940207,0609, -9.9368,-169.6268, 5227,   5074.4,   1.0808,  34.7076,2,  34.7047,3,    206.5,2,    206.6,2,   119.84,2,    31.97,2,     0.00,2,     2.22,2,    0.009,3,    0.001,2,   -999.0,9,   -999.0,9,  -999.00,9, -999.00,  0.6517
     3250031_1,   P31,    56,  1,      2,      2,2,19940207,0609, -9.9368,-169.6268, 5227,   5177.3,   1.0915,  34.7076,2,  34.7054,2,    206.3,2,    206.3,2,   120.01,2,    31.97,2,     0.00,2,     2.22,2,    0.014,4,    0.001,2,   -999.0,9,   -999.0,9,  -999.00,9, -999.00,  0.6496
     3250031_1,   P31,    56,  1,      1,      1,2,19940207,0609, -9.9368,-169.6268, 5227,   5313.5,   1.1074,  34.7078,2,  34.7077,2,    207.3,2,    206.5,2,   120.18,2,    32.02,2,     0.00,2,     2.22,2,    0.014,2,    0.006,2,   -999.0,9,   -999.0,9,  -999.00,9, -999.00,  0.6482