BOTTLE,20020814WHPSIOdm
EXPOCODE,SECT_ID,STNNBR,CASTNO,SAMPNO,BTLNBR,BTLNBR_FLAG_W,DATE,TIME,LATITUDE,LONGITUDE,DEPTH,CTDPRS,CTDTMP,CTDSAL,CTDSAL_FLAG_W,SALNTY,SALNTY_FLAG_W,CTDOXY,CTDOXY_FLAG_W,OXYGEN,OXYGEN_FLAG_W,SILCAT,SILCAT_FLAG_W,NITRAT,NITRAT_FLAG_W,NITRIT,NITRIT_FLAG_W,PHSPHT,PHSPHT_FLAG_W,CFC-11,CFC-11_FLAG_W,CFC-12,CFC-12_FLAG_W,TCARBN,TCARBN_FLAG_W,ALKALI,ALKALI_FLAG_W,PH,PH_FLAG_W,PHTEMP,THETA
,,,,,,,,,,,,DBAR,ITS-90,PSS-78,,PSS-78,,UMOL/KG,,UMOL/KG,,UMOL/KG,,UMOL/KG,,UMOL/KG,,UMOL/KG,,PMOL/KG,,PMOL/KG,,UMOL/KG,,UMOL/KG,,,,DEG C,DEG C
     3250031_1,   P31,    24,  1,     36,     36,2,19940131,1453,-12.7238,-159.2658, 5281,      3.1,  29.3889,  35.7205,2,  35.7074,2,    220.2,2,    193.1,2,     1.67,2,     0.00,2,     0.00,2,     0.19,2,    1.566,2,    0.877,2,   -999.0,9,   -999.0,9,  -999.00,9, -999.00, 29.3882
     3250031_1,   P31,    24,  1,     35,     35,2,19940131,1453,-12.7238,-159.2658, 5281,     15.9,  29.3968,  35.7887,2,  35.7880,2,    220.7,2,    193.4,2,     1.46,2,     0.00,2,     0.00,2,     0.19,2,    1.585,2,    0.859,2,   -999.0,9,   -999.0,9,  -999.00,9, -999.00, 29.3929
     3250031_1,   P31,    24,  1,     34,     34,2,19940131,1453,-12.7238,-159.2658, 5281,     56.8,  28.9579,  35.9189,2,  35.7874,4,    213.7,2,    199.2,2,     1.44,2,     0.00,2,     0.00,2,     0.18,2,    1.602,2,    0.869,2,   -999.0,9,   -999.0,9,  -999.00,9, -999.00, 28.9442
     3250031_1,   P31,    24,  1,     33,     33,2,19940131,1453,-12.7238,-159.2658, 5281,    106.3,  26.5759,  36.2113,2,  36.2037,2,    184.0,4,    199.7,2,     1.23,2,     0.00,2,     0.00,2,     0.21,2,    1.716,2,    0.921,2,   -999.0,9,   -999.0,9,  -999.00,9, -999.00, 26.5517
     3250031_1,   P31,    24,  1,     32,     32,2,19940131,1453,-12.7238,-159.2658, 5281,    205.0,  20.1869,  35.8625,4,  35.8148,2,   -999.0,5,    168.1,2,     1.95,2,     5.03,2,     0.01,2,     0.60,2,    1.840,6,    0.948,6,   -999.0,9,   -999.0,9,  -999.00,9, -999.00, 20.1485
     3250031_1,   P31,    24,  1,     31,     31,2,19940131,1453,-12.7238,-159.2658, 5281,    305.4,  14.6168,  35.0762,2,  35.0741,2,    148.7,2,    137.2,2,     7.66,2,    13.67,2,     0.00,2,     1.22,2,    1.227,2,    0.599,2,   -999.0,9,   -999.0,9,  -999.00,9, -999.00, 14.5712
     3250031_1,   P31,    24,  1,     30,     30,2,19940131,1453,-12.7238,-159.2658, 5281,    405.2,   9.9178,  34.6585,2,  34.6522,2,    114.8,2,    116.9,2,    19.67,2,    25.23,2,     0.00,2,     1.90,2,    0.281,2,    0.148,2,   -999.0,9,   -999.0,9,  -999.00,9, -999.00,  9.8707
     3250031_1,   P31,    24,  1,     29,     29,2,19940131,1453,-12.7238,-159.2658, 5281,    604.5,   6.2414,  34.4812,2,  34.4813,2,    143.0,2,    145.6,2,    37.24,2,    31.19,2,     0.00,2,     2.18,2,    0.080,3,    0.036,2,   -999.0,9,   -999.0,9,  -999.00,9, -999.00,  6.1870
     3250031_1,   P31,    24,  1,     28,     28,2,19940131,1453,-12.7238,-159.2658, 5281,    803.8,   5.1103,  34.4854,2,  34.4866,2,    133.6,2,    137.0,2,    55.03,2,    33.99,2,     0.00,2,     2.39,2,    0.022,2,    0.004,2,   -999.0,9,   -999.0,9,  -999.00,9, -999.00,  5.0438
     3250031_1,   P31,    24,  1,     27,     27,2,19940131,1453,-12.7238,-159.2658, 5281,   1006.0,   4.3185,  34.5107,2,  34.5119,2,    125.7,2,    130.3,2,    71.21,2,    35.63,2,     0.00,2,     2.51,2,    0.010,2,    0.019,2,   -999.0,9,   -999.0,9,  -999.00,9, -999.00,  4.2398
     3250031_1,   P31,    24,  1,     26,     26,2,19940131,1453,-12.7238,-159.2658, 5281,   1256.7,   3.3931,  34.5597,2,  34.5596,2,    123.9,2,    122.9,2,    93.45,2,    36.98,2,     0.00,2,     2.62,2,    0.005,2,   -0.001,2,   -999.0,9,   -999.0,9,  -999.00,9, -999.00,  3.3013
     3250031_1,   P31,    24,  1,     25,     25,2,19940131,1453,-12.7238,-159.2658, 5281,   1508.3,   2.8411,  34.5842,2,  34.5846,2,    135.1,2,    137.5,2,   101.47,2,    36.10,2,     0.00,2,     2.54,2, -999.000,9, -999.000,9,   -999.0,9,   -999.0,9,  -999.00,9, -999.00,  2.7344
     3250031_1,   P31,    24,  1,     24,     24,2,19940131,1453,-12.7238,-159.2658, 5281,   1759.0,   2.3522,  34.6163,2,  34.6172,2,    148.1,2,    145.8,2,   110.97,2,    35.61,2,     0.00,2,     2.51,2, -999.000,9, -999.000,9,   -999.0,9,   -999.0,9,  -999.00,9, -999.00,  2.2308
     3250031_1,   P31,    24,  1,     23,     23,2,19940131,1453,-12.7238,-159.2658, 5281,   2012.7,   2.1172,  34.6358,2,  34.6368,2,    149.7,2,    148.0,2,   117.26,2,    35.52,2,     0.00,2,     2.50,2,    0.014,4,    0.054,4,   -999.0,9,   -999.0,9,  -999.00,9, -999.00,  1.9779
     3250031_1,   P31,    24,  1,     22,     22,2,19940131,1453,-12.7238,-159.2658, 5281,   2265.0,   1.9497,  34.6520,2,  34.6539,2,    150.5,2,    148.9,2,   123.23,2,    35.48,2,     0.00,2,     2.49,2, -999.000,9, -999.000,9,   -999.0,9,   -999.0,9,  -999.00,9, -999.00,  1.7913
     3250031_1,   P31,    24,  1,     21,     21,2,19940131,1453,-12.7238,-159.2658, 5281,   2517.8,   1.8642,  34.6607,2,  34.6617,2,    149.7,2,    149.1,2,   128.47,2,    35.59,2,     0.00,2,     2.50,2, -999.000,9, -999.000,9,   -999.0,9,   -999.0,9,  -999.00,9, -999.00,  1.6848
     3250031_1,   P31,    24,  1,     20,     20,2,19940131,1453,-12.7238,-159.2658, 5281,   2771.6,   1.7724,  34.6691,2,  34.6703,2,    153.0,2,    150.6,2,   132.55,2,    35.60,2,     0.00,2,     2.49,2, -999.000,9, -999.000,9,   -999.0,9,   -999.0,9,  -999.00,9, -999.00,  1.5714
     3250031_1,   P31,    24,  1,     19,     19,2,19940131,1453,-12.7238,-159.2658, 5281,   3022.2,   1.7081,  34.6741,2,  34.6748,2,    155.1,2,    154.3,2,   133.14,2,    35.26,2,     0.00,2,     2.48,2,    0.005,2,   -0.009,2,   -999.0,9,   -999.0,9,  -999.00,9, -999.00,  1.4846
     3250031_1,   P31,    24,  1,     18,     18,2,19940131,1453,-12.7238,-159.2658, 5281,   3225.0,   1.6447,  34.6777,2,  34.6784,2,    160.6,2,    159.3,2,   131.68,2,    34.92,2,     0.00,2,     2.45,2, -999.000,9, -999.000,9,   -999.0,9,   -999.0,9,  -999.00,9, -999.00,  1.4027
     3250031_1,   P31,    24,  1,     17,     17,2,19940131,1453,-12.7238,-159.2658, 5281,   3426.4,   1.5823,  34.6814,2,  34.6823,2,    165.8,2,    164.6,2,   129.60,2,    34.53,2,     0.00,2,     2.43,2, -999.000,9, -999.000,9,   -999.0,9,   -999.0,9,  -999.00,9, -999.00,  1.3216
     3250031_1,   P31,    24,  1,     16,     16,2,19940131,1453,-12.7238,-159.2658, 5281,   3627.6,   1.5264,  34.6845,2,  34.6864,2,    169.6,2,    170.4,2,   127.34,2,    34.15,2,     0.00,2,     2.40,2,    0.003,2,   -0.005,2,   -999.0,9,   -999.0,9,  -999.00,9, -999.00,  1.2464
     3250031_1,   P31,    24,  1,     15,     15,2,19940131,1453,-12.7238,-159.2658, 5281,   3830.3,   1.4738,  34.6883,2,  34.6907,3,    175.8,2,    174.7,2,   126.91,2,    33.86,2,     0.00,2,     2.37,2, -999.000,9, -999.000,9,   -999.0,9,   -999.0,9,  -999.00,9, -999.00,  1.1739
     3250031_1,   P31,    24,  1,     14,     14,3,19940131,1453,-12.7238,-159.2658, 5281,   3932.3,   1.4513,  34.6900,2,  34.6966,4,    175.4,2,    184.0,4,   124.25,4,    33.13,4,     0.00,4,     2.32,4, -999.000,9, -999.000,9,   -999.0,9,   -999.0,9,  -999.00,9, -999.00,  1.1411
     3250031_1,   P31,    24,  1,     13,     13,2,19940131,1453,-12.7238,-159.2658, 5281,   4033.8,   1.4236,  34.6922,2,  34.6930,2,    180.0,2,    179.4,2,   125.64,2,    33.48,2,     0.00,2,     2.34,2,    0.000,2,   -0.009,2,   -999.0,9,   -999.0,9,  -999.00,9, -999.00,  1.1032
     3250031_1,   P31,    24,  1,     12,     12,2,19940131,1453,-12.7238,-159.2658, 5281,   4135.6,   1.3975,  34.6936,2,  34.6946,2,    179.3,2,    180.7,2,   125.62,2,    33.39,2,     0.00,2,     2.33,2, -999.000,9, -999.000,9,   -999.0,9,   -999.0,9,  -999.00,9, -999.00,  1.0666
     3250031_1,   P31,    24,  1,     11,     11,2,19940131,1453,-12.7238,-159.2658, 5281,   4238.3,   1.3792,  34.6948,2,  34.6957,2,    182.5,2,    183.2,2,   124.79,2,    33.25,2,     0.00,2,     2.32,2, -999.000,9, -999.000,9,   -999.0,9,   -999.0,9,  -999.00,9, -999.00,  1.0375
     3250031_1,   P31,    24,  1,     10,     10,2,19940131,1453,-12.7238,-159.2658, 5281,   4339.6,   1.3612,  34.6966,2,  34.6959,2,    185.8,2,    185.3,2,   124.16,2,    33.16,2,     0.00,2,     2.31,2, -999.000,9, -999.000,9,   -999.0,9,   -999.0,9,  -999.00,9, -999.00,  1.0087
     3250031_1,   P31,    24,  1,      9,      9,2,19940131,1453,-12.7238,-159.2658, 5281,   4440.2,   1.3322,  34.6982,2,  34.6985,2,    189.1,2,    188.5,2,   123.94,2,    32.97,2,     0.00,2,     2.30,2,    0.020,4,    0.002,2,   -999.0,9,   -999.0,9,  -999.00,9, -999.00,  0.9692
     3250031_1,   P31,    24,  1,      8,      8,2,19940131,1453,-12.7238,-159.2658, 5281,   4542.9,   1.3265,  34.6993,2,  34.6996,2,    188.9,2,    189.5,2,   123.92,2,    32.93,2,     0.00,2,     2.29,2, -999.000,9, -999.000,9,   -999.0,9,   -999.0,9,  -999.00,9, -999.00,  0.9519
     3250031_1,   P31,    24,  1,      7,      7,2,19940131,1453,-12.7238,-159.2658, 5281,   4645.8,   1.2955,  34.7014,2,  34.7020,2,    191.9,2,    193.1,2,   122.69,2,    32.64,2,     0.00,2,     2.27,2, -999.000,9, -999.000,9,   -999.0,9,   -999.0,9,  -999.00,9, -999.00,  0.9100
     3250031_1,   P31,    24,  1,      6,      6,2,19940131,1453,-12.7238,-159.2658, 5281,   4747.6,   1.2800,  34.7026,2,  34.7039,2,    194.8,2,    195.0,2,   122.06,2,    32.45,2,     0.00,2,     2.26,2,    0.002,2,   -0.004,2,   -999.0,9,   -999.0,9,  -999.00,9, -999.00,  0.8831
     3250031_1,   P31,    24,  1,      5,      5,2,19940131,1453,-12.7238,-159.2658, 5281,   4848.3,   1.2703,  34.7039,2,  34.7039,2,    195.1,2,    196.1,2,   121.64,2,    32.31,2,     0.00,2,     2.25,2,    0.027,4,    0.033,4,   -999.0,9,   -999.0,9,  -999.00,9, -999.00,  0.8618
     3250031_1,   P31,    24,  1,      4,      4,2,19940131,1453,-12.7238,-159.2658, 5281,   4950.7,   1.2581,  34.7050,2,  34.7053,2,    196.6,2,    197.8,2,   120.81,2,    32.27,2,     0.00,2,     2.25,2,    0.008,2,   -0.001,2,   -999.0,9,   -999.0,9,  -999.00,9, -999.00,  0.8378
     3250031_1,   P31,    24,  1,      3,      3,2,19940131,1453,-12.7238,-159.2658, 5281,   5052.2,   1.2578,  34.7055,2,  34.7060,2,    198.6,2,    198.5,2,   120.39,2,    32.23,2,     0.00,2,     2.25,2, -999.000,9, -999.000,9,   -999.0,9,   -999.0,9,  -999.00,9, -999.00,  0.8253
     3250031_1,   P31,    24,  1,      2,      2,2,19940131,1453,-12.7238,-159.2658, 5281,   5255.3,   1.2728,  34.7052,2,  34.7062,2,    198.3,2,    199.1,2,   120.17,2,    32.14,2,     0.00,2,     2.24,2,    0.009,2,    0.007,2,   -999.0,9,   -999.0,9,  -999.00,9, -999.00,  0.8150
     3250031_1,   P31,    24,  1,      1,      1,2,19940131,1453,-12.7238,-159.2658, 5281,   5398.3,   1.2891,  34.7057,2,  34.7066,2,    198.8,2,    199.4,2,   120.35,2,    32.15,2,     0.00,2,     2.25,2,    0.007,2,    0.019,2,   -999.0,9,   -999.0,9,  -999.00,9, -999.00,  0.8130