BOTTLE,20020814WHPSIOdm
EXPOCODE,SECT_ID,STNNBR,CASTNO,SAMPNO,BTLNBR,BTLNBR_FLAG_W,DATE,TIME,LATITUDE,LONGITUDE,DEPTH,CTDPRS,CTDTMP,CTDSAL,CTDSAL_FLAG_W,SALNTY,SALNTY_FLAG_W,CTDOXY,CTDOXY_FLAG_W,OXYGEN,OXYGEN_FLAG_W,SILCAT,SILCAT_FLAG_W,NITRAT,NITRAT_FLAG_W,NITRIT,NITRIT_FLAG_W,PHSPHT,PHSPHT_FLAG_W,CFC-11,CFC-11_FLAG_W,CFC-12,CFC-12_FLAG_W,TCARBN,TCARBN_FLAG_W,ALKALI,ALKALI_FLAG_W,PH,PH_FLAG_W,PHTEMP,THETA
,,,,,,,,,,,,DBAR,ITS-90,PSS-78,,PSS-78,,UMOL/KG,,UMOL/KG,,UMOL/KG,,UMOL/KG,,UMOL/KG,,UMOL/KG,,PMOL/KG,,PMOL/KG,,UMOL/KG,,UMOL/KG,,,,DEG C,DEG C
     3250031_1,   P31,    39,  1,     36,     36,2,19940203,1743,-10.4307,-164.9727, 5015,      3.6,  29.9716,  34.5199,2,  34.5229,2,    179.4,2,   -999.0,9,     1.68,2,     0.00,2,     0.00,2,     0.17,2, -999.000,9, -999.000,9,   -999.0,9,   -999.0,9,  -999.00,9, -999.00, 29.9707
     3250031_1,   P31,    39,  1,     35,     35,2,19940203,1743,-10.4307,-164.9727, 5015,     16.7,  29.9841,  34.5669,2,  34.5706,2,    189.7,2,    193.5,2,     1.47,2,     0.00,2,     0.00,2,     0.16,2, -999.000,9, -999.000,9,   1910.3,2,   2274.5,2,     8.16,2,   25.00, 29.9800
     3250031_1,   P31,    39,  1,     34,     34,2,19940203,1743,-10.4307,-164.9727, 5015,     56.1,  29.8000,  34.8085,4,  34.7290,2,   -999.0,5,    195.3,2,     1.45,2,     0.00,2,     0.00,2,     0.16,2,    1.527,2,    0.839,2,   1917.8,2,   2286.5,2,  -999.00,9, -999.00, 29.7862
     3250031_1,   P31,    39,  1,     33,     33,2,19940203,1743,-10.4307,-164.9727, 5015,    106.3,  27.7491,  36.0950,4,  36.0661,2,   -999.0,5,    192.8,2,     1.25,2,     0.00,2,     0.00,2,     0.24,2,    1.640,2,    0.874,2,   2013.7,2,   2374.6,2,     8.12,2,   25.00, 27.7241
     3250031_1,   P31,    39,  1,     32,     32,2,19940203,1743,-10.4307,-164.9727, 5015,    206.3,  21.2543,  35.9867,4,  35.9248,2,   -999.0,5,    146.8,2,     2.51,2,     7.53,2,     0.01,2,     0.77,2,    1.786,2,    0.931,2,   2115.6,2,   2365.3,2,     7.93,2,   25.00, 21.2142
     3250031_1,   P31,    39,  1,     31,     31,2,19940203,1743,-10.4307,-164.9727, 5015,    306.4,  14.4780,  35.1004,2,  35.0988,2,    107.8,2,    105.2,2,    10.90,2,    17.78,2,     0.00,2,     1.48,2,    0.983,2,    0.492,2,   2165.6,2,   2315.3,2,  -999.00,9, -999.00, 14.4325
     3250031_1,   P31,    39,  1,     30,     30,9,19940203,1743,-10.4307,-164.9727, 5015,    406.8,  10.0352,  34.7222,2,-999.0000,9,     98.5,2,   -999.0,9,  -999.00,9,  -999.00,9,  -999.00,9,  -999.00,9, -999.000,9, -999.000,9,   -999.0,9,   -999.0,9,  -999.00,9, -999.00,  9.9875
     3250031_1,   P31,    39,  1,     29,     29,2,19940203,1743,-10.4307,-164.9727, 5015,    606.8,   6.5778,  34.5396,2,  34.5378,2,     97.4,2,     98.8,2,    44.34,2,    35.39,2,     0.00,2,     2.44,2,    0.023,2,    0.004,2,   2242.2,2,   2312.5,2,     7.52,2,   25.00,  6.5216
     3250031_1,   P31,    39,  1,     28,     28,2,19940203,1743,-10.4307,-164.9727, 5015,    808.8,   5.3004,  34.5132,2,  34.5146,2,    108.1,2,    110.4,2,    58.99,2,    36.48,2,     0.00,2,     2.53,2,    0.011,2,    0.006,2,   2256.9,2,   2327.6,2,     7.52,2,   25.00,  5.2323
     3250031_1,   P31,    39,  1,     27,     27,2,19940203,1743,-10.4307,-164.9727, 5015,   1009.7,   4.3228,  34.5267,2,  34.5282,2,    116.8,2,    117.9,2,    75.75,2,    36.83,2,     0.00,2,     2.56,2, -999.000,9, -999.000,9,   2272.8,2,   2344.2,2,     7.53,2,   25.00,  4.2438
     3250031_1,   P31,    39,  1,     26,     26,2,19940203,1743,-10.4307,-164.9727, 5015,   1263.9,   3.3814,  34.5604,2,  34.5616,2,    125.4,2,    128.2,2,    93.86,2,    36.68,2,     0.00,2,     2.55,2, -999.000,9, -999.000,9,   2288.8,2,   -999.0,9,     7.54,2,   25.00,  3.2891
     3250031_1,   P31,    39,  1,     25,     25,2,19940203,1743,-10.4307,-164.9727, 5015,   1517.7,   2.8496,  34.5878,2,  34.5887,2,    136.0,2,    135.0,2,   104.49,2,    36.49,2,     0.00,2,     2.53,2, -999.000,9, -999.000,9,   2298.6,2,   2379.2,2,     7.55,2,   25.00,  2.7420
     3250031_1,   P31,    39,  1,     24,     24,2,19940203,1743,-10.4307,-164.9727, 5015,   1769.7,   2.3899,  34.6180,2,  34.6189,2,    140.9,2,    139.4,2,   115.71,2,    36.29,2,     0.00,2,     2.51,2,    0.005,2,   -0.003,2,   2307.5,2,   2391.9,2,     7.55,2,   25.00,  2.2672
     3250031_1,   P31,    39,  1,     23,     23,2,19940203,1743,-10.4307,-164.9727, 5015,   2023.2,   2.1352,  34.6363,2,  34.6384,2,    143.3,2,    143.7,2,   121.22,2,    36.00,2,     0.00,2,     2.50,2, -999.000,9, -999.000,9,   2311.2,2,   -999.0,9,     7.56,2,   25.00,  1.9947
     3250031_1,   P31,    39,  1,     22,     22,2,19940203,1743,-10.4307,-164.9727, 5015,   2275.1,   1.9461,  34.6529,2,  34.6539,2,    146.8,2,    145.4,2,   127.40,2,    35.95,2,     0.00,2,     2.48,2, -999.000,9, -999.000,9,   2316.4,2,   -999.0,9,     7.57,2,   25.00,  1.7868
     3250031_1,   P31,    39,  1,     21,     21,2,19940203,1743,-10.4307,-164.9727, 5015,   2530.4,   1.8282,  34.6631,2,  34.6629,2,    147.1,2,    145.7,2,   132.67,2,    36.05,2,     0.00,2,     2.48,2, -999.000,9, -999.000,9,   2319.3,2,   2412.0,2,     7.57,2,   25.00,  1.6483
     3250031_1,   P31,    39,  1,     20,     20,2,19940203,1743,-10.4307,-164.9727, 5015,   2786.0,   1.7237,  34.6702,2,  34.6708,2,    151.5,2,    150.7,2,   133.68,2,    35.71,2,     0.00,2,     2.46,2,    0.002,2,   -0.002,2,   2318.7,2,   -999.0,9,     7.57,2,   25.00,  1.5224
     3250031_1,   P31,    39,  1,     19,     19,2,19940203,1743,-10.4307,-164.9727, 5015,   3042.8,   1.6450,  34.6755,2,  34.6773,2,    157.1,2,    154.9,2,   134.48,2,    35.47,2,     0.00,2,     2.45,2, -999.000,9, -999.000,9,   2315.0,2,   2424.1,3,     7.58,2,   25.00,  1.4209
     3250031_1,   P31,    39,  1,     18,     18,2,19940203,1743,-10.4307,-164.9727, 5015,   3246.0,   1.5741,  34.6802,2,  34.6814,2,    162.1,2,    160.1,2,   134.05,2,    35.12,2,     0.00,2,     2.42,2, -999.000,9, -999.000,9,   2310.6,2,   -999.0,9,     7.58,2,   25.00,  1.3317
     3250031_1,   P31,    39,  1,     17,     17,2,19940203,1743,-10.4307,-164.9727, 5015,   3449.6,   1.5321,  34.6832,2,  34.6826,2,    162.9,2,    163.4,2,   133.83,2,    35.03,2,     0.00,2,     2.41,2, -999.000,9, -999.000,9,   2308.5,2,   2408.7,2,     7.59,2,   25.00,  1.2703
     3250031_1,   P31,    39,  1,     16,     16,2,19940203,1743,-10.4307,-164.9727, 5015,   3551.4,   1.5064,  34.6848,2,  34.6861,2,    165.4,2,    165.3,2,   132.78,2,    34.83,2,     0.00,2,     2.39,2, -999.000,9, -999.000,9,   2306.5,2,   2415.0,2,     7.59,2,   25.00,  1.2348
     3250031_1,   P31,    39,  1,     15,     15,2,19940203,1743,-10.4307,-164.9727, 5015,   3653.3,   1.4850,  34.6860,2,  34.6861,2,    168.4,2,    167.8,2,   132.76,2,    34.69,2,     0.00,2,     2.38,2,    0.000,2,   -0.003,2,   2304.4,2,   2412.9,2,     7.59,2,   25.00,  1.2034
     3250031_1,   P31,    39,  1,     14,     14,2,19940203,1743,-10.4307,-164.9727, 5015,   3756.8,   1.4764,  34.6866,2,  34.6873,2,    168.4,2,    168.9,2,   132.33,2,    34.59,2,     0.00,2,     2.38,2,    0.004,2,   -0.002,2,   2303.3,2,   2417.9,2,     7.59,2,   25.00,  1.1842
     3250031_1,   P31,    39,  1,     13,     13,2,19940203,1743,-10.4307,-164.9727, 5015,   3859.0,   1.4524,  34.6886,2,  34.6901,2,    171.0,2,    170.7,2,   131.90,2,    34.44,2,     0.00,2,     2.37,2,    0.005,2,    0.013,3,   2301.2,2,   2410.6,2,     7.59,2,   25.00,  1.1500
     3250031_1,   P31,    39,  1,     12,     12,2,19940203,1743,-10.4307,-164.9727, 5015,   3960.4,   1.4220,  34.6903,2,  34.6908,2,    173.3,2,    174.0,2,   131.27,2,    34.30,2,     0.00,2,     2.35,2,    0.018,4,    0.026,4,   2298.9,2,   2418.1,2,     7.60,2,   25.00,  1.1096
     3250031_1,   P31,    39,  1,     11,     11,2,19940203,1743,-10.4307,-164.9727, 5015,   4061.4,   1.3409,  34.6939,2,  34.6934,2,    179.7,2,    180.4,2,   128.61,2,    33.86,2,     0.00,2,     2.32,2,    0.003,2,   -0.003,2,   2292.2,2,   2399.3,2,  -999.00,9, -999.00,  1.0198
     3250031_1,   P31,    39,  1,     10,     10,2,19940203,1743,-10.4307,-164.9727, 5015,   4165.1,   1.2904,  34.6964,2,  34.6971,2,    185.1,2,    185.2,2,   126.97,2,    33.52,2,     0.00,2,     2.30,2,    0.004,2,    0.001,2,   2290.3,2,   -999.0,9,     7.60,2,   25.00,  0.9594
     3250031_1,   P31,    39,  1,      9,      9,2,19940203,1743,-10.4307,-164.9727, 5015,   4267.8,   1.2243,  34.6995,2,  34.6995,2,    190.1,2,    190.7,2,   125.14,2,    33.12,2,     0.00,2,     2.26,2,    0.004,2,    0.000,2,   2280.8,2,   2388.6,2,     7.61,2,   25.00,  0.8839
     3250031_1,   P31,    39,  1,      8,      8,2,19940203,1743,-10.4307,-164.9727, 5015,   4371.7,   1.1530,  34.7028,2,  34.7020,2,    196.1,2,    196.4,2,   123.32,2,    32.64,2,     0.00,2,     2.24,2,    0.015,3,    0.005,2,   2274.8,2,   2382.0,2,     7.61,2,   25.00,  0.8031
     3250031_1,   P31,    39,  1,      7,      7,2,19940203,1743,-10.4307,-164.9727, 5015,   4474.2,   1.1324,  34.7037,2,  34.7050,2,    199.3,2,    199.1,2,   122.70,2,    32.49,2,     0.00,2,     2.22,2,    0.003,2,    0.001,2,   2272.1,2,   2382.6,2,     7.61,2,   25.00,  0.7716
     3250031_1,   P31,    39,  1,      6,      6,2,19940203,1743,-10.4307,-164.9727, 5015,   4576.3,   1.1309,  34.7043,2,  34.7050,2,    198.9,2,    199.8,2,   122.29,2,    32.39,2,     0.00,2,     2.22,2,    0.010,2,    0.004,2,   2269.6,2,   2376.3,2,     7.61,2,   25.00,  0.7586
     3250031_1,   P31,    39,  1,      5,      5,2,19940203,1743,-10.4307,-164.9727, 5015,   4678.7,   1.1266,  34.7054,2,  34.7044,2,    199.5,2,    201.0,2,   122.07,2,    32.45,2,     0.00,2,     2.22,2,    0.005,2,   -0.001,2,   2269.8,2,   2378.4,2,     7.61,2,   25.00,  0.7427
     3250031_1,   P31,    39,  1,      4,      4,2,19940203,1743,-10.4307,-164.9727, 5015,   4781.5,   1.1184,  34.7058,2,  34.7064,2,    202.1,2,    202.3,2,   121.25,2,    32.01,2,     0.00,2,     2.21,2,    0.003,2,   -0.003,2,   2266.4,2,   2378.8,2,     7.61,2,   25.00,  0.7228
     3250031_1,   P31,    39,  1,      3,      3,2,19940203,1743,-10.4307,-164.9727, 5015,   4883.5,   1.1214,  34.7059,2,  34.7056,2,    202.9,2,    203.1,2,   121.43,2,    32.25,2,     0.00,2,     2.21,2,    0.009,2,    0.016,3,   2267.0,2,   2373.8,2,     7.61,2,   25.00,  0.7137
     3250031_1,   P31,    39,  1,      2,      2,2,19940203,1743,-10.4307,-164.9727, 5015,   4986.4,   1.1314,  34.7062,2,  34.7052,2,    202.7,2,    203.0,2,   121.41,2,    32.21,2,     0.00,2,     2.20,2,    0.016,4,   -0.002,2,   2267.8,2,   2373.1,2,     7.61,2,   25.00,  0.7111
     3250031_1,   P31,    39,  1,      1,      1,2,19940203,1743,-10.4307,-164.9727, 5015,   5111.1,   1.1426,  34.7068,2,  34.7062,2,    203.4,2,    203.4,2,   121.40,2,    32.16,2,     0.00,2,     2.21,2,    0.010,2,   -0.002,2,   2268.5,2,   2373.7,2,     7.61,2,   25.00,  0.7069