BOTTLE,20020814WHPSIOdm
EXPOCODE,SECT_ID,STNNBR,CASTNO,SAMPNO,BTLNBR,BTLNBR_FLAG_W,DATE,TIME,LATITUDE,LONGITUDE,DEPTH,CTDPRS,CTDTMP,CTDSAL,CTDSAL_FLAG_W,SALNTY,SALNTY_FLAG_W,CTDOXY,CTDOXY_FLAG_W,OXYGEN,OXYGEN_FLAG_W,SILCAT,SILCAT_FLAG_W,NITRAT,NITRAT_FLAG_W,NITRIT,NITRIT_FLAG_W,PHSPHT,PHSPHT_FLAG_W,CFC-11,CFC-11_FLAG_W,CFC-12,CFC-12_FLAG_W,TCARBN,TCARBN_FLAG_W,ALKALI,ALKALI_FLAG_W,PH,PH_FLAG_W,PHTEMP,THETA
,,,,,,,,,,,,DBAR,ITS-90,PSS-78,,PSS-78,,UMOL/KG,,UMOL/KG,,UMOL/KG,,UMOL/KG,,UMOL/KG,,UMOL/KG,,PMOL/KG,,PMOL/KG,,UMOL/KG,,UMOL/KG,,,,DEG C,DEG C
     3250031_1,   P31,    79,  1,     31,     31,2,19940215,0903,-11.5467,-176.4900, 3691,      2.5,  29.6728,  33.5663,2,  33.5669,2,    203.3,2,    193.9,2,     1.71,2,     0.16,2,     0.00,2,     0.09,2, -999.000,9, -999.000,9,   -999.0,9,   -999.0,9,  -999.00,9, -999.00, 29.6721
     3250031_1,   P31,    79,  1,     30,     30,2,19940215,0903,-11.5467,-176.4900, 3691,     12.3,  29.6795,  33.5666,2,  33.5673,2,    194.6,2,    194.3,2,     1.51,2,     0.16,2,     0.00,2,     0.09,2, -999.000,9, -999.000,9,   -999.0,9,   -999.0,9,  -999.00,9, -999.00, 29.6765
     3250031_1,   P31,    79,  1,     29,     29,2,19940215,0903,-11.5467,-176.4900, 3691,     57.3,  29.6746,  35.0189,2,  35.1666,2,    211.1,2,    200.2,2,     1.49,2,     0.16,2,     0.00,2,     0.18,2, -999.000,9, -999.000,9,   -999.0,9,   -999.0,9,  -999.00,9, -999.00, 29.6605
     3250031_1,   P31,    79,  1,     28,     28,2,19940215,0903,-11.5467,-176.4900, 3691,    107.1,  28.1099,  35.9552,2,  35.9914,2,    207.5,2,    197.8,2,     1.47,2,     0.15,2,     0.00,2,     0.23,2, -999.000,9, -999.000,9,   -999.0,9,   -999.0,9,  -999.00,9, -999.00, 28.0846
     3250031_1,   P31,    79,  1,     27,     27,2,19940215,0903,-11.5467,-176.4900, 3691,    207.6,  21.7701,  36.0203,2,  36.0061,2,    149.9,2,    144.1,2,     2.56,2,     7.26,2,     0.02,2,     0.76,2, -999.000,9, -999.000,9,   -999.0,9,   -999.0,9,  -999.00,9, -999.00, 21.7291
     3250031_1,   P31,    79,  1,     26,     26,2,19940215,0903,-11.5467,-176.4900, 3691,    308.6,  15.0106,  35.1431,2,  35.1369,2,    121.8,2,    115.6,2,     9.18,2,    15.80,2,     0.01,2,     1.35,2, -999.000,9, -999.000,9,   -999.0,9,   -999.0,9,  -999.00,9, -999.00, 14.9636
     3250031_1,   P31,    79,  1,     25,     25,2,19940215,0903,-11.5467,-176.4900, 3691,    408.8,  10.4202,  34.7103,2,  34.7224,2,    109.6,2,    104.0,2,    19.48,2,    25.39,2,     0.01,2,     1.90,2, -999.000,9, -999.000,9,   -999.0,9,   -999.0,9,  -999.00,9, -999.00, 10.3712
     3250031_1,   P31,    79,  1,     24,     24,2,19940215,0903,-11.5467,-176.4900, 3691,    509.0,   8.0418,  34.5893,2,  34.5864,2,    111.1,2,    112.8,2,    30.51,2,    30.91,2,     0.01,2,     2.14,2, -999.000,9, -999.000,9,   -999.0,9,   -999.0,9,  -999.00,9, -999.00,  7.9894
     3250031_1,   P31,    79,  1,     23,     23,2,19940215,0903,-11.5467,-176.4900, 3691,    608.9,   6.5879,  34.5203,2,  34.5208,2,    120.0,2,    122.8,2,    39.89,2,    33.43,2,     0.01,2,     2.27,2, -999.000,9, -999.000,9,   -999.0,9,   -999.0,9,  -999.00,9, -999.00,  6.5315
     3250031_1,   P31,    79,  1,     22,     22,2,19940215,0903,-11.5467,-176.4900, 3691,    709.8,   5.8556,  34.5132,2,  34.5134,2,    108.0,2,    112.9,2,    50.20,2,    35.84,2,     0.00,2,     2.44,2, -999.000,9, -999.000,9,   -999.0,9,   -999.0,9,  -999.00,9, -999.00,  5.7933
     3250031_1,   P31,    79,  1,     21,     21,2,19940215,0903,-11.5467,-176.4900, 3691,    809.3,   5.3735,  34.4995,2,  34.4987,2,    118.5,2,    122.2,2,    54.79,2,    35.79,2,     0.00,2,     2.44,2, -999.000,9, -999.000,9,   -999.0,9,   -999.0,9,  -999.00,9, -999.00,  5.3049
     3250031_1,   P31,    79,  1,     20,     20,2,19940215,0903,-11.5467,-176.4900, 3691,    909.5,   4.8518,  34.5055,2,  34.5065,2,    120.2,2,    120.2,2,    64.20,2,    36.79,2,     0.00,2,     2.50,2, -999.000,9, -999.000,9,   -999.0,9,   -999.0,9,  -999.00,9, -999.00,  4.7776
     3250031_1,   P31,    79,  1,     19,     19,2,19940215,0903,-11.5467,-176.4900, 3691,   1009.4,   4.4381,  34.5116,2,  34.5134,2,    126.3,2,    123.8,2,    71.04,2,    36.84,2,     0.00,2,     2.51,2, -999.000,9, -999.000,9,   -999.0,9,   -999.0,9,  -999.00,9, -999.00,  4.3583
     3250031_1,   P31,    79,  1,     18,     18,2,19940215,0903,-11.5467,-176.4900, 3691,   1211.1,   3.7377,  34.5421,2,  34.5425,2,    121.8,2,    123.6,2,    86.16,2,    37.47,2,     0.00,2,     2.56,2, -999.000,9, -999.000,9,   -999.0,9,   -999.0,9,  -999.00,9, -999.00,  3.6466
     3250031_1,   P31,    79,  1,     17,     17,2,19940215,0903,-11.5467,-176.4900, 3691,   1414.5,   3.1423,  34.5729,2,  34.5720,2,    126.7,2,    128.2,2,    99.78,2,    37.47,2,     0.00,2,     2.56,2, -999.000,9, -999.000,9,   -999.0,9,   -999.0,9,  -999.00,9, -999.00,  3.0400
     3250031_1,   P31,    79,  1,     16,     16,2,19940215,0903,-11.5467,-176.4900, 3691,   1617.2,   2.7157,  34.5949,2,  34.5959,2,    135.7,2,    136.4,2,   107.83,2,    37.05,2,     0.00,2,     2.52,2, -999.000,9, -999.000,9,   -999.0,9,   -999.0,9,  -999.00,9, -999.00,  2.6015
     3250031_1,   P31,    79,  1,     15,     15,2,19940215,0903,-11.5467,-176.4900, 3691,   1819.3,   2.3509,  34.6195,2,  34.6201,2,    140.5,2,    140.2,2,   116.59,2,    36.78,2,     0.00,2,     2.51,2, -999.000,9, -999.000,9,   -999.0,9,   -999.0,9,  -999.00,9, -999.00,  2.2245
     3250031_1,   P31,    79,  1,     14,     14,2,19940215,0903,-11.5467,-176.4900, 3691,   2021.1,   2.1085,  34.6378,2,  34.6380,2,    144.1,2,    142.4,2,   123.72,2,    36.73,2,     0.00,2,     2.51,2, -999.000,9, -999.000,9,   -999.0,9,   -999.0,9,  -999.00,9, -999.00,  1.9687
     3250031_1,   P31,    79,  1,     13,     13,2,19940215,0903,-11.5467,-176.4900, 3691,   2225.2,   1.9771,  34.6488,2,  34.6502,2,    143.5,2,    141.5,2,   129.13,2,    36.83,2,     0.00,2,     2.51,2, -999.000,9, -999.000,9,   -999.0,9,   -999.0,9,  -999.00,9, -999.00,  1.8218
     3250031_1,   P31,    79,  1,     12,     12,2,19940215,0903,-11.5467,-176.4900, 3691,   2429.5,   1.8582,  34.6575,2,  34.6587,2,    142.3,2,    140.9,2,   134.63,2,    36.99,2,     0.00,2,     2.53,2,   -0.002,4,   -0.004,4,   -999.0,9,   -999.0,9,  -999.00,9, -999.00,  1.6869
     3250031_1,   P31,    79,  1,     11,     11,2,19940215,0903,-11.5467,-176.4900, 3691,   2634.8,   1.7650,  34.6641,2,  34.6650,2,    143.7,2,    141.8,2,   138.12,2,    36.94,2,     0.00,2,     2.53,2, -999.000,9, -999.000,9,   -999.0,9,   -999.0,9,  -999.00,9, -999.00,  1.5768
     3250031_1,   P31,    79,  1,     10,     10,2,19940215,0903,-11.5467,-176.4900, 3691,   2839.4,   1.6941,  34.6686,2,  34.6695,2,    144.3,2,    143.6,2,   139.55,2,    36.83,2,     0.00,2,     2.51,2, -999.000,9, -999.000,9,   -999.0,9,   -999.0,9,  -999.00,9, -999.00,  1.4884
     3250031_1,   P31,    79,  1,      9,      9,2,19940215,0903,-11.5467,-176.4900, 3691,   3042.7,   1.6281,  34.6732,2,  34.6734,2,    148.0,2,    147.7,2,   138.67,2,    36.52,2,     0.00,2,     2.49,2, -999.000,9, -999.000,9,   -999.0,9,   -999.0,9,  -999.00,9, -999.00,  1.4044
     3250031_1,   P31,    79,  1,      8,      8,2,19940215,0903,-11.5467,-176.4900, 3691,   3144.5,   1.6222,  34.6746,2,  34.6754,2,    149.0,2,    148.6,2,   138.42,2,    36.52,2,     0.00,2,     2.48,2, -999.000,9, -999.000,9,   -999.0,9,   -999.0,9,  -999.00,9, -999.00,  1.3887
     3250031_1,   P31,    79,  1,      7,      7,2,19940215,0903,-11.5467,-176.4900, 3691,   3245.7,   1.5966,  34.6766,2,  34.6778,2,    151.4,2,    150.8,2,   137.96,2,    36.25,2,     0.00,2,     2.47,2, -999.000,9, -999.000,9,   -999.0,9,   -999.0,9,  -999.00,9, -999.00,  1.3537
     3250031_1,   P31,    79,  1,      6,      6,2,19940215,0903,-11.5467,-176.4900, 3691,   3347.1,   1.5810,  34.6778,2,  34.6786,2,    153.0,2,    152.7,2,   137.29,2,    36.25,2,     0.00,2,     2.46,2,    0.000,4,   -0.004,4,   -999.0,9,   -999.0,9,  -999.00,9, -999.00,  1.3284
     3250031_1,   P31,    79,  1,      5,      5,2,19940215,0903,-11.5467,-176.4900, 3691,   3447.9,   1.5428,  34.6811,2,  34.6802,2,    155.8,2,    155.9,2,   136.63,2,    35.93,2,     0.00,2,     2.45,2,   -0.001,4,   -0.003,4,   -999.0,9,   -999.0,9,  -999.00,9, -999.00,  1.2809
     3250031_1,   P31,    79,  1,      4,      4,2,19940215,0903,-11.5467,-176.4900, 3691,   3550.1,   1.5202,  34.6829,2,  34.6837,2,    159.9,2,    159.0,2,   133.89,2,    35.67,2,     0.00,2,     2.43,2,   -0.001,4,   -0.003,4,   -999.0,9,   -999.0,9,  -999.00,9, -999.00,  1.2484
     3250031_1,   P31,    79,  1,      3,      3,2,19940215,0903,-11.5467,-176.4900, 3691,   3601.8,   1.5071,  34.6834,2,  34.6847,2,    160.0,2,    160.4,2,   135.51,2,    35.62,2,     0.00,2,     2.42,2,   -0.005,4,   -0.001,4,   -999.0,9,   -999.0,9,  -999.00,9, -999.00,  1.2303
     3250031_1,   P31,    79,  1,      2,      2,2,19940215,0903,-11.5467,-176.4900, 3691,   3652.8,   1.4320,  34.6890,2,  34.6898,2,    164.3,2,    168.2,2,   132.37,2,    35.09,2,     0.00,2,     2.38,2,   -0.004,4,   -0.001,4,   -999.0,9,   -999.0,9,  -999.00,9, -999.00,  1.1519
     3250031_1,   P31,    79,  1,      1,      1,2,19940215,0903,-11.5467,-176.4900, 3691,   3679.6,   1.3759,  34.6931,2,  34.6922,2,    172.1,2,    171.8,2,   130.70,2,    34.83,2,     0.00,2,     2.36,2,    0.000,4,   -0.004,4,   -999.0,9,   -999.0,9,  -999.00,9, -999.00,  1.0944
     3250031_1,   P31,    80,  1,     36,     36,2,19940215,1246,-11.7015,-176.5962, 4035,      3.6,  29.6034,  33.7406,2,  33.7418,2,    195.3,2,    193.4,2,     1.50,2,     0.16,2,     0.00,2,     0.10,2, -999.000,9, -999.000,9,   -999.0,9,   -999.0,9,  -999.00,9, -999.00, 29.6025
     3250031_1,   P31,    80,  1,     35,     35,2,19940215,1246,-11.7015,-176.5962, 4035,     16.4,  29.6053,  33.7393,2,  33.7431,2,    196.6,2,    193.2,2,     1.66,2,     0.16,2,     0.00,2,     0.10,2, -999.000,9, -999.000,9,   -999.0,9,   -999.0,9,  -999.00,9, -999.00, 29.6013
     3250031_1,   P31,    80,  1,     34,     34,2,19940215,1246,-11.7015,-176.5962, 4035,     56.7,  29.7010,  35.0297,2,  35.0457,2,    200.1,2,    199.5,2,     1.46,2,     0.16,2,     0.00,2,     0.19,2, -999.000,9, -999.000,9,   -999.0,9,   -999.0,9,  -999.00,9, -999.00, 29.6870
     3250031_1,   P31,    80,  1,     33,     33,2,19940215,1246,-11.7015,-176.5962, 4035,    106.5,  27.4236,  36.1210,2,  36.1366,2,    191.4,2,    193.6,2,     1.62,2,     0.24,2,     0.01,2,     0.29,2, -999.000,9, -999.000,9,   -999.0,9,   -999.0,9,  -999.00,9, -999.00, 27.3988
     3250031_1,   P31,    80,  1,     32,     32,2,19940215,1246,-11.7015,-176.5962, 4035,    207.0,  20.6878,  35.8988,2,  35.8552,2,    145.2,2,    144.7,2,     2.88,2,     7.89,2,     0.01,2,     0.80,2, -999.000,9, -999.000,9,   -999.0,9,   -999.0,9,  -999.00,9, -999.00, 20.6484
     3250031_1,   P31,    80,  1,     31,     31,2,19940215,1246,-11.7015,-176.5962, 4035,    307.7,  14.2416,  35.0559,2,  35.0327,2,    114.8,2,    110.0,2,    10.54,2,    17.67,2,     0.01,2,     1.48,2, -999.000,9, -999.000,9,   -999.0,9,   -999.0,9,  -999.00,9, -999.00, 14.1964
     3250031_1,   P31,    80,  1,     30,     30,2,19940215,1246,-11.7015,-176.5962, 4035,    407.5,   9.4165,  34.6501,2,  34.6497,2,    108.1,2,    111.4,2,    22.97,2,    27.58,2,     0.00,2,     1.98,2, -999.000,9, -999.000,9,   -999.0,9,   -999.0,9,  -999.00,9, -999.00,  9.3706
     3250031_1,   P31,    80,  1,     29,     29,2,19940215,1246,-11.7015,-176.5962, 4035,    507.5,   7.5254,  34.5577,2,  34.5556,2,    119.7,2,    121.8,2,    32.65,2,    31.48,2,     0.00,2,     2.16,2, -999.000,9, -999.000,9,   -999.0,9,   -999.0,9,  -999.00,9, -999.00,  7.4752
     3250031_1,   P31,    80,  1,     28,     28,2,19940215,1246,-11.7015,-176.5962, 4035,    608.2,   6.2783,  34.5171,2,  34.5169,2,    123.9,2,    117.3,2,    44.36,2,    34.73,2,     0.00,2,     2.36,2, -999.000,9, -999.000,9,   -999.0,9,   -999.0,9,  -999.00,9, -999.00,  6.2234
     3250031_1,   P31,    80,  1,     27,     27,2,19940215,1246,-11.7015,-176.5962, 4035,    702.5,   5.6389,  34.4937,2,  34.4963,2,    125.6,2,    126.8,2,    49.67,2,    34.88,2,     0.00,2,     2.36,2, -999.000,9, -999.000,9,   -999.0,9,   -999.0,9,  -999.00,9, -999.00,  5.5785
     3250031_1,   P31,    80,  1,     26,     26,2,19940215,1246,-11.7015,-176.5962, 4035,    799.3,   5.1896,  34.5010,2,  34.5020,2,    118.4,2,    121.5,2,    57.55,2,    36.14,2,     0.00,2,     2.45,2, -999.000,9, -999.000,9,   -999.0,9,   -999.0,9,  -999.00,9, -999.00,  5.1230
     3250031_1,   P31,    80,  1,     25,     25,2,19940215,1246,-11.7015,-176.5962, 4035,    910.0,   4.6600,  34.5068,2,  34.5100,2,    120.6,2,    123.1,2,    66.20,2,    36.61,2,     0.00,2,     2.50,2, -999.000,9, -999.000,9,   -999.0,9,   -999.0,9,  -999.00,9, -999.00,  4.5871
     3250031_1,   P31,    80,  1,     24,     24,2,19940215,1246,-11.7015,-176.5962, 4035,   1009.1,   4.2734,  34.5200,2,  34.5230,2,    129.9,2,    121.1,2,    74.70,2,    37.24,2,     0.00,2,     2.54,2, -999.000,9, -999.000,9,   -999.0,9,   -999.0,9,  -999.00,9, -999.00,  4.1948
     3250031_1,   P31,    80,  1,     23,     23,2,19940215,1246,-11.7015,-176.5962, 4035,   1213.9,   3.5160,  34.5530,2,  34.5535,2,    130.3,2,    124.4,2,    90.75,2,    37.61,2,     0.00,2,     2.56,2, -999.000,9, -999.000,9,   -999.0,9,   -999.0,9,  -999.00,9, -999.00,  3.4266
     3250031_1,   P31,    80,  1,     22,     22,2,19940215,1246,-11.7015,-176.5962, 4035,   1410.8,   2.9993,  34.5787,2,  34.5804,2,    126.7,2,    131.7,2,   101.36,2,    37.29,2,     0.00,2,     2.54,2, -999.000,9, -999.000,9,   -999.0,9,   -999.0,9,  -999.00,9, -999.00,  2.8989
     3250031_1,   P31,    80,  1,     21,     21,2,19940215,1246,-11.7015,-176.5962, 4035,   1611.5,   2.6047,  34.6010,2,  34.6016,2,    136.8,2,    138.7,2,   109.43,2,    37.02,2,     0.00,2,     2.50,2, -999.000,9, -999.000,9,   -999.0,9,   -999.0,9,  -999.00,9, -999.00,  2.4923
     3250031_1,   P31,    80,  1,     20,     20,2,19940215,1246,-11.7015,-176.5962, 4035,   1820.1,   2.3124,  34.6217,2,  34.6228,2,    141.1,2,    141.5,2,   116.85,2,    36.86,2,     0.00,2,     2.50,2, -999.000,9, -999.000,9,   -999.0,9,   -999.0,9,  -999.00,9, -999.00,  2.1865
     3250031_1,   P31,    80,  1,     19,     19,3,19940215,1246,-11.7015,-176.5962, 4035,   2023.7,   2.0932,  34.6386,2,  34.5928,4,    143.2,2,    133.3,4,   105.56,4,    37.22,4,     0.00,4,     2.53,4, -999.000,9, -999.000,9,   -999.0,9,   -999.0,9,  -999.00,9, -999.00,  1.9533
     3250031_1,   P31,    80,  1,     18,     18,2,19940215,1246,-11.7015,-176.5962, 4035,   2225.7,   1.9569,  34.6493,2,  34.6502,2,    142.0,2,    141.9,2,   129.64,2,    36.85,2,     0.00,2,     2.50,2, -999.000,9, -999.000,9,   -999.0,9,   -999.0,9,  -999.00,9, -999.00,  1.8018
     3250031_1,   P31,    80,  1,     17,     17,2,19940215,1246,-11.7015,-176.5962, 4035,   2429.3,   1.8616,  34.6562,2,  34.6576,2,    140.6,2,    140.2,2,   134.76,2,    37.05,2,     0.00,2,     2.52,2, -999.000,9, -999.000,9,   -999.0,9,   -999.0,9,  -999.00,9, -999.00,  1.6903
     3250031_1,   P31,    80,  1,     16,     16,2,19940215,1246,-11.7015,-176.5962, 4035,   2629.7,   1.7734,  34.6624,2,  34.6655,3,    141.4,2,    141.1,2,   137.66,2,    37.05,2,     0.00,2,     2.52,2,    0.004,4,   -0.003,4,   -999.0,9,   -999.0,9,  -999.00,9, -999.00,  1.5855
     3250031_1,   P31,    80,  1,     15,     15,2,19940215,1246,-11.7015,-176.5962, 4035,   2826.8,   1.6987,  34.6676,2,  34.6693,2,    145.0,2,    143.7,2,   138.91,2,    36.89,2,     0.00,2,     2.51,2, -999.000,9, -999.000,9,   -999.0,9,   -999.0,9,  -999.00,9, -999.00,  1.4941
     3250031_1,   P31,    80,  1,     14,     14,2,19940215,1246,-11.7015,-176.5962, 4035,   3034.2,   1.6381,  34.6721,2,  34.6730,2,    148.5,2,    147.1,2,   139.53,2,    36.67,2,     0.00,2,     2.48,2, -999.000,9, -999.000,9,   -999.0,9,   -999.0,9,  -999.00,9, -999.00,  1.4150
     3250031_1,   P31,    80,  1,     13,     13,2,19940215,1246,-11.7015,-176.5962, 4035,   3138.5,   1.6084,  34.6740,2,  34.6762,2,    149.9,2,    149.8,2,   139.32,2,    36.51,2,     0.00,2,     2.47,2, -999.000,9, -999.000,9,   -999.0,9,   -999.0,9,  -999.00,9, -999.00,  1.3758
     3250031_1,   P31,    80,  1,     12,     12,2,19940215,1246,-11.7015,-176.5962, 4035,   3241.4,   1.5809,  34.6761,2,  34.6777,2,    152.8,2,    152.6,2,   139.11,2,    36.40,2,     0.00,2,     2.46,2, -999.000,9, -999.000,9,   -999.0,9,   -999.0,9,  -999.00,9, -999.00,  1.3389
     3250031_1,   P31,    80,  1,     11,     11,2,19940215,1246,-11.7015,-176.5962, 4035,   3342.7,   1.5490,  34.6792,2,  34.6801,2,    156.4,2,    155.2,2,   138.06,2,    36.14,2,     0.00,2,     2.44,2, -999.000,9, -999.000,9,   -999.0,9,   -999.0,9,  -999.00,9, -999.00,  1.2975
     3250031_1,   P31,    80,  1,     10,     10,2,19940215,1246,-11.7015,-176.5962, 4035,   3444.1,   1.5214,  34.6816,2,  34.6805,2,    158.8,2,    157.8,2,   137.02,2,    35.92,2,     0.00,2,     2.43,2, -999.000,9, -999.000,9,   -999.0,9,   -999.0,9,  -999.00,9, -999.00,  1.2604
     3250031_1,   P31,    80,  1,      9,      9,2,19940215,1246,-11.7015,-176.5962, 4035,   3544.7,   1.4856,  34.6843,2,  34.6839,2,    161.5,2,    162.4,2,   134.94,2,    35.50,2,     0.00,2,     2.40,2, -999.000,9, -999.000,9,   -999.0,9,   -999.0,9,  -999.00,9, -999.00,  1.2152
     3250031_1,   P31,    80,  1,      8,      8,2,19940215,1246,-11.7015,-176.5962, 4035,   3648.4,   1.4290,  34.6886,2,  34.6892,2,    169.5,2,    169.5,2,   132.46,2,    35.08,2,     0.00,2,     2.37,2, -999.000,9, -999.000,9,   -999.0,9,   -999.0,9,  -999.00,9, -999.00,  1.1494
     3250031_1,   P31,    80,  1,      7,      7,2,19940215,1246,-11.7015,-176.5962, 4035,   3699.3,   1.3766,  34.6926,2,  34.6931,2,    171.0,2,   -999.0,9,   129.80,2,    34.60,2,     0.00,2,     2.35,2, -999.000,9, -999.000,9,   -999.0,9,   -999.0,9,  -999.00,9, -999.00,  1.0930
     3250031_1,   P31,    80,  1,      6,      6,2,19940215,1246,-11.7015,-176.5962, 4035,   3751.5,   1.3288,  34.6953,2,  34.6959,2,    176.3,2,    175.2,2,   127.77,2,    34.28,2,     0.00,2,     2.31,2,   -0.002,4,   -0.004,4,   -999.0,9,   -999.0,9,  -999.00,9, -999.00,  1.0411
     3250031_1,   P31,    80,  1,      5,      5,2,19940215,1246,-11.7015,-176.5962, 4035,   3803.1,   1.2867,  34.6983,2,  34.6967,2,    182.7,2,    183.4,2,   125.95,2,    33.97,2,     0.00,2,     2.29,2,    0.004,4,   -0.003,4,   -999.0,9,   -999.0,9,  -999.00,9, -999.00,  0.9946
     3250031_1,   P31,    80,  1,      4,      4,2,19940215,1246,-11.7015,-176.5962, 4035,   3854.8,   1.2597,  34.7006,2,  34.6991,2,    186.7,2,    187.0,2,   124.33,2,    33.70,2,     0.00,2,     2.27,2,    0.006,4,    0.000,4,   -999.0,9,   -999.0,9,  -999.00,9, -999.00,  0.9629
     3250031_1,   P31,    80,  1,      3,      3,2,19940215,1246,-11.7015,-176.5962, 4035,   3906.0,   1.2359,  34.7020,2,  34.7022,2,    189.0,2,    189.8,2,   123.13,2,    33.39,2,     0.00,2,     2.25,2,   -0.002,4,   -0.003,4,   -999.0,9,   -999.0,9,  -999.00,9, -999.00,  0.9344
     3250031_1,   P31,    80,  1,      2,      2,2,19940215,1246,-11.7015,-176.5962, 4035,   3957.9,   1.2237,  34.7029,2,  34.7038,2,    191.5,2,    192.3,2,   122.52,2,    33.33,2,     0.00,2,     2.24,2,    0.004,4,   -0.003,4,   -999.0,9,   -999.0,9,  -999.00,9, -999.00,  0.9170
     3250031_1,   P31,    80,  1,      1,      1,2,19940215,1246,-11.7015,-176.5962, 4035,   4018.3,   1.1698,  34.7067,2,  34.7073,2,    198.5,3,    195.8,2,   120.92,2,    32.96,2,     0.00,2,     2.22,2,    0.009,4,    0.001,4,   -999.0,9,   -999.0,9,  -999.00,9, -999.00,  0.8582