BOTTLE,20020814WHPSIOdm
EXPOCODE,SECT_ID,STNNBR,CASTNO,SAMPNO,BTLNBR,BTLNBR_FLAG_W,DATE,TIME,LATITUDE,LONGITUDE,DEPTH,CTDPRS,CTDTMP,CTDSAL,CTDSAL_FLAG_W,SALNTY,SALNTY_FLAG_W,CTDOXY,CTDOXY_FLAG_W,OXYGEN,OXYGEN_FLAG_W,SILCAT,SILCAT_FLAG_W,NITRAT,NITRAT_FLAG_W,NITRIT,NITRIT_FLAG_W,PHSPHT,PHSPHT_FLAG_W,CFC-11,CFC-11_FLAG_W,CFC-12,CFC-12_FLAG_W,TCARBN,TCARBN_FLAG_W,ALKALI,ALKALI_FLAG_W,PH,PH_FLAG_W,PHTEMP,THETA
,,,,,,,,,,,,DBAR,ITS-90,PSS-78,,PSS-78,,UMOL/KG,,UMOL/KG,,UMOL/KG,,UMOL/KG,,UMOL/KG,,UMOL/KG,,PMOL/KG,,PMOL/KG,,UMOL/KG,,UMOL/KG,,,,DEG C,DEG C
     3250031_1,   P31,    75,  1,     36,     36,2,19940214,1356,-10.2957,-175.3645, 4008,      4.1,  29.5390,  33.5608,2,  33.5608,2,    192.2,2,    194.4,2,     2.05,2,     0.10,2,     0.00,2,     0.07,2, -999.000,9, -999.000,9,   -999.0,9,   -999.0,9,  -999.00,9, -999.00, 29.5380
     3250031_1,   P31,    75,  1,     35,     35,2,19940214,1356,-10.2957,-175.3645, 4008,     17.4,  29.5438,  33.5611,2,  33.5607,2,    196.1,2,    194.6,2,     2.03,2,     0.10,2,     0.00,2,     0.08,2, -999.000,9, -999.000,9,   -999.0,9,   -999.0,9,  -999.00,9, -999.00, 29.5396
     3250031_1,   P31,    75,  1,     34,     34,2,19940214,1356,-10.2957,-175.3645, 4008,     57.1,  29.1455,  34.9425,2,  34.9459,2,    191.1,2,    195.6,2,     2.20,2,     0.10,2,     0.00,2,     0.22,2, -999.000,9, -999.000,9,   -999.0,9,   -999.0,9,  -999.00,9, -999.00, 29.1317
     3250031_1,   P31,    75,  1,     33,     33,2,19940214,1356,-10.2957,-175.3645, 4008,    106.0,  26.7568,  35.9105,2,  35.9187,2,    149.2,2,    147.9,2,     3.09,2,     5.15,2,     0.56,2,     0.66,2, -999.000,9, -999.000,9,   -999.0,9,   -999.0,9,  -999.00,9, -999.00, 26.7326
     3250031_1,   P31,    75,  1,     32,     32,2,19940214,1356,-10.2957,-175.3645, 4008,    207.1,  19.7533,  35.7550,2,  35.7263,2,    136.2,2,    133.4,2,     4.54,2,     9.97,2,     0.01,2,     0.93,2, -999.000,9, -999.000,9,   -999.0,9,   -999.0,9,  -999.00,9, -999.00, 19.7152
     3250031_1,   P31,    75,  1,     31,     31,2,19940214,1356,-10.2957,-175.3645, 4008,    308.3,  12.9203,  34.9652,2,  34.9580,2,     99.2,2,     93.9,2,    15.34,2,    22.09,2,     0.01,2,     1.71,2, -999.000,9, -999.000,9,   -999.0,9,   -999.0,9,  -999.00,9, -999.00, 12.8779
     3250031_1,   P31,    75,  1,     30,     30,2,19940214,1356,-10.2957,-175.3645, 4008,    409.2,   9.8213,  34.7003,2,  34.6992,2,    106.7,2,    108.8,2,    22.84,2,    27.11,2,     0.01,2,     1.95,2, -999.000,9, -999.000,9,   -999.0,9,   -999.0,9,  -999.00,9, -999.00,  9.7740
     3250031_1,   P31,    75,  1,     29,     29,2,19940214,1356,-10.2957,-175.3645, 4008,    509.1,   7.6653,  34.5654,2,  34.5611,2,    122.6,2,    126.2,2,    31.26,2,    30.49,2,     0.01,2,     2.10,2, -999.000,9, -999.000,9,   -999.0,9,   -999.0,9,  -999.00,9, -999.00,  7.6143
     3250031_1,   P31,    75,  1,     28,     28,2,19940214,1356,-10.2957,-175.3645, 4008,    610.4,   6.5759,  34.5120,2,  34.5138,2,    136.3,2,    131.5,2,    38.40,2,    32.37,2,     0.00,2,     2.21,2, -999.000,9, -999.000,9,   -999.0,9,   -999.0,9,  -999.00,9, -999.00,  6.5194
     3250031_1,   P31,    75,  1,     27,     27,2,19940214,1356,-10.2957,-175.3645, 4008,    710.8,   5.6905,  34.4980,2,  34.4989,2,    126.8,2,    128.4,2,    49.40,2,    34.42,2,     0.00,2,     2.35,2, -999.000,9, -999.000,9,   -999.0,9,   -999.0,9,  -999.00,9, -999.00,  5.6290
     3250031_1,   P31,    75,  1,     26,     26,2,19940214,1356,-10.2957,-175.3645, 4008,    811.5,   5.1191,  34.5065,2,  34.5088,2,    115.2,2,    116.4,2,    60.43,2,    36.67,2,     0.00,2,     2.50,2, -999.000,9, -999.000,9,   -999.0,9,   -999.0,9,  -999.00,9, -999.00,  5.0519
     3250031_1,   P31,    75,  1,     25,     25,2,19940214,1356,-10.2957,-175.3645, 4008,    912.3,   4.7039,  34.5123,2,  34.5141,2,    117.4,2,    117.5,2,    67.81,2,    37.05,2,     0.00,2,     2.53,2, -999.000,9, -999.000,9,   -999.0,9,   -999.0,9,  -999.00,9, -999.00,  4.6306
     3250031_1,   P31,    75,  1,     24,     24,2,19940214,1356,-10.2957,-175.3645, 4008,   1013.6,   4.3617,  34.5199,2,  34.5200,2,    118.9,2,    119.1,2,    73.72,2,    37.26,2,     0.00,2,     2.55,2, -999.000,9, -999.000,9,   -999.0,9,   -999.0,9,  -999.00,9, -999.00,  4.2821
     3250031_1,   P31,    75,  1,     23,     23,2,19940214,1356,-10.2957,-175.3645, 4008,   1215.1,   3.8743,  34.5375,2,  34.5363,2,    124.2,2,    122.4,2,    83.21,2,    37.37,2,     0.00,2,     2.55,2, -999.000,9, -999.000,9,   -999.0,9,   -999.0,9,  -999.00,9, -999.00,  3.7815
     3250031_1,   P31,    75,  1,     22,     22,2,19940214,1356,-10.2957,-175.3645, 4008,   1417.7,   3.0379,  34.5740,2,  34.5741,2,    133.0,2,    132.6,2,    99.24,2,    37.16,2,     0.00,2,     2.53,2, -999.000,9, -999.000,9,   -999.0,9,   -999.0,9,  -999.00,9, -999.00,  2.9365
     3250031_1,   P31,    75,  1,     21,     21,2,19940214,1356,-10.2957,-175.3645, 4008,   1620.2,   2.6016,  34.5999,2,  34.5982,2,    134.7,2,    137.8,2,   108.64,2,    36.90,2,     0.00,2,     2.51,2, -999.000,9, -999.000,9,   -999.0,9,   -999.0,9,  -999.00,9, -999.00,  2.4885
     3250031_1,   P31,    75,  1,     20,     20,2,19940214,1356,-10.2957,-175.3645, 4008,   1822.8,   2.2851,  34.6227,2,  34.6226,2,    139.0,2,    140.0,2,   118.01,2,    36.86,2,     0.00,2,     2.50,2, -999.000,9, -999.000,9,   -999.0,9,   -999.0,9,  -999.00,9, -999.00,  2.1594
     3250031_1,   P31,    75,  1,     19,     19,2,19940214,1356,-10.2957,-175.3645, 4008,   2026.2,   2.0995,  34.6374,2,  34.6392,2,    141.0,2,    139.4,2,   125.37,2,    36.96,2,     0.00,2,     2.52,2, -999.000,9, -999.000,9,   -999.0,9,   -999.0,9,  -999.00,9, -999.00,  1.9593
     3250031_1,   P31,    75,  1,     18,     18,2,19940214,1356,-10.2957,-175.3645, 4008,   2229.3,   1.9715,  34.6473,2,  34.6480,2,    139.1,2,    140.4,2,   130.01,2,    37.02,2,     0.00,2,     2.52,2,    0.000,4,   -0.001,4,   -999.0,9,   -999.0,9,  -999.00,9, -999.00,  1.8159
     3250031_1,   P31,    75,  1,     17,     17,2,19940214,1356,-10.2957,-175.3645, 4008,   2432.8,   1.8625,  34.6549,2,  34.6553,2,    140.4,2,    140.3,2,   133.89,2,    36.92,2,     0.00,2,     2.52,2, -999.000,9, -999.000,9,   -999.0,9,   -999.0,9,  -999.00,9, -999.00,  1.6908
     3250031_1,   P31,    75,  1,     16,     16,2,19940214,1356,-10.2957,-175.3645, 4008,   2636.3,   1.7647,  34.6619,2,  34.6614,2,    140.7,2,    141.6,2,   137.40,2,    37.08,2,     0.00,2,     2.52,2, -999.000,9, -999.000,9,   -999.0,9,   -999.0,9,  -999.00,9, -999.00,  1.5764
     3250031_1,   P31,    75,  1,     15,     15,2,19940214,1356,-10.2957,-175.3645, 4008,   2840.2,   1.7045,  34.6661,2,  34.6685,2,    141.6,2,    143.2,2,   138.01,2,    36.87,2,     0.00,2,     2.51,2, -999.000,9, -999.000,9,   -999.0,9,   -999.0,9,  -999.00,9, -999.00,  1.4985
     3250031_1,   P31,    75,  1,     14,     14,2,19940214,1356,-10.2957,-175.3645, 4008,   2941.9,   1.6737,  34.6688,2,  34.6685,2,    147.0,2,    146.1,2,   138.83,2,    36.82,2,     0.00,2,     2.49,2, -999.000,9, -999.000,9,   -999.0,9,   -999.0,9,  -999.00,9, -999.00,  1.4586
     3250031_1,   P31,    75,  1,     13,     13,2,19940214,1356,-10.2957,-175.3645, 4008,   3043.7,   1.6546,  34.6709,2,  34.6719,2,    148.4,2,    147.5,2,   138.61,2,    36.72,2,     0.00,2,     2.49,2, -999.000,9, -999.000,9,   -999.0,9,   -999.0,9,  -999.00,9, -999.00,  1.4302
     3250031_1,   P31,    75,  1,     12,     12,2,19940214,1356,-10.2957,-175.3645, 4008,   3145.7,   1.6311,  34.6730,2,  34.6729,2,    151.1,2,    149.6,2,   138.38,2,    36.51,2,     0.00,2,     2.48,2, -999.000,9, -999.000,9,   -999.0,9,   -999.0,9,  -999.00,9, -999.00,  1.3973
     3250031_1,   P31,    75,  1,     11,     11,2,19940214,1356,-10.2957,-175.3645, 4008,   3247.6,   1.6091,  34.6744,2,  34.6755,2,    152.1,2,    151.0,2,   138.37,2,    36.41,2,     0.00,2,     2.47,2, -999.000,9, -999.000,9,   -999.0,9,   -999.0,9,  -999.00,9, -999.00,  1.3658
     3250031_1,   P31,    75,  1,     10,     10,2,19940214,1356,-10.2957,-175.3645, 4008,   3348.7,   1.5842,  34.6768,2,  34.6757,2,    154.8,2,    154.2,2,   137.31,2,    36.21,2,     0.00,2,     2.46,2, -999.000,9, -999.000,9,   -999.0,9,   -999.0,9,  -999.00,9, -999.00,  1.3314
     3250031_1,   P31,    75,  1,      9,      9,2,19940214,1356,-10.2957,-175.3645, 4008,   3424.9,   1.5693,  34.6777,2,  34.6763,2,    155.9,2,    155.2,2,   137.29,2,    36.10,2,     0.00,2,     2.46,2, -999.000,9, -999.000,9,   -999.0,9,   -999.0,9,  -999.00,9, -999.00,  1.3091
     3250031_1,   P31,    75,  1,      8,      8,2,19940214,1356,-10.2957,-175.3645, 4008,   3500.5,   1.5421,  34.6792,2,  34.6769,2,    157.2,2,    156.5,2,   137.28,2,    36.00,2,     0.00,2,     2.45,2, -999.000,9, -999.000,9,   -999.0,9,   -999.0,9,  -999.00,9, -999.00,  1.2748
     3250031_1,   P31,    75,  1,      7,      7,2,19940214,1356,-10.2957,-175.3645, 4008,   3576.6,   1.5091,  34.6819,2,  34.6822,2,    159.2,2,    160.9,2,   136.23,2,    35.69,2,     0.00,2,     2.43,2,   -0.002,4,   -0.004,4,   -999.0,9,   -999.0,9,  -999.00,9, -999.00,  1.2349
     3250031_1,   P31,    75,  1,      6,      6,2,19940214,1356,-10.2957,-175.3645, 4008,   3653.8,   1.4621,  34.6854,2,  34.6874,2,    166.5,2,    166.5,2,   133.32,2,    35.27,2,     0.00,2,     2.40,2,    0.013,4,    0.001,4,   -999.0,9,   -999.0,9,  -999.00,9, -999.00,  1.1811
     3250031_1,   P31,    75,  1,      5,      5,2,19940214,1356,-10.2957,-175.3645, 4008,   3730.3,   1.4146,  34.6891,2,  34.6896,2,    171.6,2,    172.4,2,   130.64,2,    34.80,2,     0.00,2,     2.37,2,    0.010,4,   -0.003,4,   -999.0,9,   -999.0,9,  -999.00,9, -999.00,  1.1268
     3250031_1,   P31,    75,  1,      4,      4,2,19940214,1356,-10.2957,-175.3645, 4008,   3806.0,   1.3038,  34.6978,2,  34.6943,3,    180.6,2,    182.7,2,   125.96,2,    33.92,2,     0.00,2,     2.31,2,    0.008,4,    0.002,4,   -999.0,9,   -999.0,9,  -999.00,9, -999.00,  1.0110
     3250031_1,   P31,    75,  1,      3,      3,2,19940214,1356,-10.2957,-175.3645, 4008,   3881.5,   1.2367,  34.7019,2,  34.7002,2,    189.9,2,    190.8,2,   122.53,2,    33.29,2,     0.00,2,     2.27,2, -999.000,9, -999.000,9,   -999.0,9,   -999.0,9,  -999.00,9, -999.00,  0.9377
     3250031_1,   P31,    75,  1,      2,      2,2,19940214,1356,-10.2957,-175.3645, 4008,   3957.7,   1.1911,  34.7048,2,  34.7034,2,    196.4,2,    195.3,2,   120.32,2,    32.82,2,     0.00,2,     2.25,2,    0.004,4,   -0.001,4,   -999.0,9,   -999.0,9,  -999.00,9, -999.00,  0.8853
     3250031_1,   P31,    75,  1,      1,      1,2,19940214,1356,-10.2957,-175.3645, 4008,   4017.6,   1.1933,  34.7052,2,  34.7059,2,    196.7,2,    195.5,2,   119.71,2,    32.82,2,     0.00,2,     2.25,2,    0.009,4,    0.000,4,   -999.0,9,   -999.0,9,  -999.00,9, -999.00,  0.8811
     3250031_1,   P31,    76,  1,     30,     30,2,19940214,1827,-10.3343,-175.6650, 3698,      3.8,  29.5123,  33.5768,2,  33.5776,2,    204.7,2,    193.8,2,     1.59,2,     0.12,2,     0.00,2,     0.11,2, -999.000,9, -999.000,9,   -999.0,9,   -999.0,9,  -999.00,9, -999.00, 29.5114
     3250031_1,   P31,    76,  1,     29,     29,2,19940214,1827,-10.3343,-175.6650, 3698,     16.9,  29.5168,  33.5783,2,  33.5779,2,    203.6,2,    193.8,2,     1.56,2,     0.12,2,     0.00,2,     0.11,2, -999.000,9, -999.000,9,   -999.0,9,   -999.0,9,  -999.00,9, -999.00, 29.5127
     3250031_1,   P31,    76,  1,     28,     28,2,19940214,1827,-10.3343,-175.6650, 3698,     57.3,  29.6437,  33.9886,2,  34.0090,2,    212.4,2,    198.3,2,     1.53,2,     0.13,2,     0.00,2,     0.12,2, -999.000,9, -999.000,9,   -999.0,9,   -999.0,9,  -999.00,9, -999.00, 29.6297
     3250031_1,   P31,    76,  1,     27,     27,2,19940214,1827,-10.3343,-175.6650, 3698,    107.2,  27.9097,  35.6852,2,  35.7000,2,    194.2,2,    170.2,2,     2.41,2,     2.98,2,     0.19,2,     0.52,2, -999.000,9, -999.000,9,   -999.0,9,   -999.0,9,  -999.00,9, -999.00, 27.8844
     3250031_1,   P31,    76,  1,     26,     26,9,19940214,1827,-10.3343,-175.6650, 3698,    207.4,  20.0475,  35.7866,2,-999.0000,9,    146.3,2,   -999.0,9,  -999.00,9,  -999.00,9,  -999.00,9,  -999.00,9, -999.000,9, -999.000,9,   -999.0,9,   -999.0,9,  -999.00,9, -999.00, 20.0089
     3250031_1,   P31,    76,  1,     25,     25,2,19940214,1827,-10.3343,-175.6650, 3698,    308.2,  14.1839,  35.0856,2,  35.0969,2,    103.6,2,    100.8,2,    11.91,2,    19.00,2,     0.01,2,     1.54,2, -999.000,9, -999.000,9,   -999.0,9,   -999.0,9,  -999.00,9, -999.00, 14.1388
     3250031_1,   P31,    76,  1,     24,     24,2,19940214,1827,-10.3343,-175.6650, 3698,    408.3,  10.3876,  34.7430,2,  34.7542,2,    108.6,2,    103.8,2,    20.32,2,    26.04,2,     0.01,2,     1.92,2, -999.000,9, -999.000,9,   -999.0,9,   -999.0,9,  -999.00,9, -999.00, 10.3387
     3250031_1,   P31,    76,  1,     23,     23,2,19940214,1827,-10.3343,-175.6650, 3698,    508.6,   8.0280,  34.5827,2,  34.5833,2,    122.1,2,    122.9,2,    29.10,2,    29.88,2,     0.01,2,     2.10,2, -999.000,9, -999.000,9,   -999.0,9,   -999.0,9,  -999.00,9, -999.00,  7.9757
     3250031_1,   P31,    76,  1,     22,     22,2,19940214,1827,-10.3343,-175.6650, 3698,    609.1,   6.6408,  34.5152,2,  34.5120,2,    131.2,2,    135.4,2,    36.59,2,    31.92,2,     0.01,2,     2.20,2, -999.000,9, -999.000,9,   -999.0,9,   -999.0,9,  -999.00,9, -999.00,  6.5841
     3250031_1,   P31,    76,  1,     21,     21,2,19940214,1827,-10.3343,-175.6650, 3698,    710.8,   5.7968,  34.5024,2,  34.4998,2,    130.0,2,    129.6,2,    47.77,2,    34.28,2,     0.00,2,     2.36,2, -999.000,9, -999.000,9,   -999.0,9,   -999.0,9,  -999.00,9, -999.00,  5.7348
     3250031_1,   P31,    76,  1,     20,     20,2,19940214,1827,-10.3343,-175.6650, 3698,    811.2,   5.3160,  34.5041,2,  34.5051,2,    116.2,2,    118.3,2,    56.76,2,    36.17,2,     0.00,2,     2.49,2, -999.000,9, -999.000,9,   -999.0,9,   -999.0,9,  -999.00,9, -999.00,  5.2475
     3250031_1,   P31,    76,  1,     19,     19,2,19940214,1827,-10.3343,-175.6650, 3698,    911.6,   4.7642,  34.5121,2,  34.5130,2,    113.3,2,    116.5,2,    66.51,2,    37.06,2,     0.00,2,     2.56,2, -999.000,9, -999.000,9,   -999.0,9,   -999.0,9,  -999.00,9, -999.00,  4.6905
     3250031_1,   P31,    76,  1,     18,     18,2,19940214,1827,-10.3343,-175.6650, 3698,   1012.5,   4.3695,  34.5194,2,  34.5203,2,    122.7,2,    120.6,2,    72.78,2,    37.11,2,     0.00,2,     2.57,2, -999.000,9, -999.000,9,   -999.0,9,   -999.0,9,  -999.00,9, -999.00,  4.2899
     3250031_1,   P31,    76,  1,     17,     17,2,19940214,1827,-10.3343,-175.6650, 3698,   1213.2,   3.6829,  34.5454,2,  34.5448,2,    121.4,2,    124.1,2,    86.74,2,    37.32,2,     0.00,2,     2.60,2, -999.000,9, -999.000,9,   -999.0,9,   -999.0,9,  -999.00,9, -999.00,  3.5920
     3250031_1,   P31,    76,  1,     16,     16,2,19940214,1827,-10.3343,-175.6650, 3698,   1415.2,   3.0915,  34.5717,2,  34.5716,2,    129.9,2,    131.9,2,    98.63,2,    37.11,2,     0.00,2,     2.58,2, -999.000,9, -999.000,9,   -999.0,9,   -999.0,9,  -999.00,9, -999.00,  2.9897
     3250031_1,   P31,    76,  1,     15,     15,2,19940214,1827,-10.3343,-175.6650, 3698,   1617.6,   2.5948,  34.6002,2,  34.5993,2,    136.2,2,    138.4,2,   109.36,2,    36.85,2,     0.00,2,     2.55,2, -999.000,9, -999.000,9,   -999.0,9,   -999.0,9,  -999.00,9, -999.00,  2.4820
     3250031_1,   P31,    76,  1,     14,     14,2,19940214,1827,-10.3343,-175.6650, 3698,   1820.7,   2.3723,  34.6161,2,  34.6164,2,    140.8,2,    140.7,2,   114.21,2,    36.69,2,     0.00,2,     2.54,2, -999.000,9, -999.000,9,   -999.0,9,   -999.0,9,  -999.00,9, -999.00,  2.2455
     3250031_1,   P31,    76,  1,     13,     13,2,19940214,1827,-10.3343,-175.6650, 3698,   2025.3,   2.1565,  34.6334,2,  34.6343,2,    143.2,2,    141.0,2,   122.69,2,    36.69,2,     0.00,2,     2.54,2, -999.000,9, -999.000,9,   -999.0,9,   -999.0,9,  -999.00,9, -999.00,  2.0155
     3250031_1,   P31,    76,  1,     12,     12,2,19940214,1827,-10.3343,-175.6650, 3698,   2227.6,   1.9302,  34.6502,2,  34.6514,2,    142.8,2,    141.4,2,   131.35,2,    36.84,2,     0.00,2,     2.54,2, -999.000,9, -999.000,9,   -999.0,9,   -999.0,9,  -999.00,9, -999.00,  1.7754
     3250031_1,   P31,    76,  1,     11,     11,2,19940214,1827,-10.3343,-175.6650, 3698,   2430.8,   1.8426,  34.6561,2,  34.6557,2,    140.7,2,    139.2,2,   136.06,2,    37.00,2,     0.00,2,     2.55,2, -999.000,9, -999.000,9,   -999.0,9,   -999.0,9,  -999.00,9, -999.00,  1.6715
     3250031_1,   P31,    76,  1,     10,     10,2,19940214,1827,-10.3343,-175.6650, 3698,   2634.5,   1.7809,  34.6612,2,  34.6614,2,    141.5,2,    142.5,2,   136.44,2,    36.89,2,     0.00,2,     2.55,2, -999.000,9, -999.000,9,   -999.0,9,   -999.0,9,  -999.00,9, -999.00,  1.5925
     3250031_1,   P31,    76,  1,      9,      9,2,19940214,1827,-10.3343,-175.6650, 3698,   2838.2,   1.7074,  34.6665,2,  34.6656,2,    143.5,2,    144.2,2,   137.87,2,    36.89,2,     0.00,2,     2.53,2, -999.000,9, -999.000,9,   -999.0,9,   -999.0,9,  -999.00,9, -999.00,  1.5015
     3250031_1,   P31,    76,  1,      8,      8,2,19940214,1827,-10.3343,-175.6650, 3698,   3041.6,   1.6585,  34.6706,2,  34.6703,2,    147.5,2,    147.4,2,   138.26,2,    36.63,2,     0.00,2,     2.51,2, -999.000,9, -999.000,9,   -999.0,9,   -999.0,9,  -999.00,9, -999.00,  1.4342
     3250031_1,   P31,    76,  1,      7,      7,2,19940214,1827,-10.3343,-175.6650, 3698,   3144.1,   1.6442,  34.6723,2,  34.6713,2,    148.8,2,    148.9,2,   138.44,2,    36.53,2,     0.00,2,     2.50,2, -999.000,9, -999.000,9,   -999.0,9,   -999.0,9,  -999.00,9, -999.00,  1.4102
     3250031_1,   P31,    76,  1,      6,      6,2,19940214,1827,-10.3343,-175.6650, 3698,   3245.9,   1.6169,  34.6743,2,  34.6756,2,    151.2,2,    151.8,2,   138.41,2,    36.42,2,     0.00,2,     2.49,2, -999.000,9, -999.000,9,   -999.0,9,   -999.0,9,  -999.00,9, -999.00,  1.3735
     3250031_1,   P31,    76,  1,      5,      5,2,19940214,1827,-10.3343,-175.6650, 3698,   3348.5,   1.5946,  34.6762,2,  34.6760,2,    152.1,2,    152.8,2,   138.17,2,    36.31,2,     0.00,2,     2.48,2, -999.000,9, -999.000,9,   -999.0,9,   -999.0,9,  -999.00,9, -999.00,  1.3415
     3250031_1,   P31,    76,  1,      4,      4,2,19940214,1827,-10.3343,-175.6650, 3698,   3425.2,   1.5597,  34.6789,2,  34.6782,2,    155.7,2,    156.3,2,   136.89,2,    36.00,2,     0.00,2,     2.45,2, -999.000,9, -999.000,9,   -999.0,9,   -999.0,9,  -999.00,9, -999.00,  1.2997
     3250031_1,   P31,    76,  1,      3,      3,2,19940214,1827,-10.3343,-175.6650, 3698,   3500.9,   1.5098,  34.6809,2,  34.6804,2,    158.9,2,    158.0,2,   136.24,2,    35.84,2,     0.00,2,     2.44,2, -999.000,9, -999.000,9,   -999.0,9,   -999.0,9,  -999.00,9, -999.00,  1.2433
     3250031_1,   P31,    76,  1,      2,      2,2,19940214,1827,-10.3343,-175.6650, 3698,   3577.6,   1.4749,  34.6839,2,  34.6830,2,    162.2,2,    163.0,2,   133.94,2,    35.53,2,     0.00,2,     2.42,2, -999.000,9, -999.000,9,   -999.0,9,   -999.0,9,  -999.00,9, -999.00,  1.2014
     3250031_1,   P31,    76,  1,      1,      1,2,19940214,1827,-10.3343,-175.6650, 3698,   3660.9,   1.3926,  34.6907,2,  34.6912,2,    169.8,2,    172.4,2,   129.61,2,    34.69,2,     0.00,2,     2.37,2, -999.000,9, -999.000,9,   -999.0,9,   -999.0,9,  -999.00,9, -999.00,  1.1126