BOTTLE,20020814WHPSIOdm
EXPOCODE,SECT_ID,STNNBR,CASTNO,SAMPNO,BTLNBR,BTLNBR_FLAG_W,DATE,TIME,LATITUDE,LONGITUDE,DEPTH,CTDPRS,CTDTMP,CTDSAL,CTDSAL_FLAG_W,SALNTY,SALNTY_FLAG_W,CTDOXY,CTDOXY_FLAG_W,OXYGEN,OXYGEN_FLAG_W,SILCAT,SILCAT_FLAG_W,NITRAT,NITRAT_FLAG_W,NITRIT,NITRIT_FLAG_W,PHSPHT,PHSPHT_FLAG_W,CFC-11,CFC-11_FLAG_W,CFC-12,CFC-12_FLAG_W,TCARBN,TCARBN_FLAG_W,ALKALI,ALKALI_FLAG_W,PH,PH_FLAG_W,PHTEMP,THETA
,,,,,,,,,,,,DBAR,ITS-90,PSS-78,,PSS-78,,UMOL/KG,,UMOL/KG,,UMOL/KG,,UMOL/KG,,UMOL/KG,,UMOL/KG,,PMOL/KG,,PMOL/KG,,UMOL/KG,,UMOL/KG,,,,DEG C,DEG C
     3250031_1,   P31,    11,  1,     36,     36,2,19940128,0855,-15.2380,-152.9327, 4665,      2.1,  29.5474,  35.6539,2,  35.6588,2,    197.2,2,    193.0,2,     1.83,2,     0.15,2,     0.00,2,     0.22,3, -999.000,9, -999.000,9,   -999.0,9,   -999.0,9,  -999.00,9, -999.00, 29.5469
     3250031_1,   P31,    11,  1,     35,     35,2,19940128,0855,-15.2380,-152.9327, 4665,     13.7,  29.6611,  35.7794,2,  35.7641,2,    197.3,2,    193.0,2,     1.63,2,     0.14,2,     0.00,2,     0.21,3, -999.000,9, -999.000,9,   -999.0,9,   -999.0,9,  -999.00,9, -999.00, 29.6577
     3250031_1,   P31,    11,  1,     34,     34,2,19940128,0855,-15.2380,-152.9327, 4665,     55.4,  27.9423,  36.2655,2,  36.2645,2,    205.1,2,    206.3,2,     1.42,2,     0.14,2,     0.00,2,     0.20,3, -999.000,9, -999.000,9,   -999.0,9,   -999.0,9,  -999.00,9, -999.00, 27.9292
     3250031_1,   P31,    11,  1,     33,     33,2,19940128,0855,-15.2380,-152.9327, 4665,    105.0,  26.1026,  36.3321,2,  36.3334,2,    191.6,2,    202.0,2,     1.40,2,     0.14,2,     0.00,2,     0.23,3, -999.000,9, -999.000,9,   -999.0,9,   -999.0,9,  -999.00,9, -999.00, 26.0790
     3250031_1,   P31,    11,  1,     32,     32,2,19940128,0855,-15.2380,-152.9327, 4665,    205.3,  22.0657,  36.1358,2,  36.1351,2,    165.7,2,    173.1,2,     1.38,2,     3.59,2,     0.04,2,     0.50,3, -999.000,9, -999.000,9,   -999.0,9,   -999.0,9,  -999.00,9, -999.00, 22.0247
     3250031_1,   P31,    11,  1,     31,     31,2,19940128,0855,-15.2380,-152.9327, 4665,    304.6,  16.3603,  35.2957,2,  35.2862,2,    163.6,2,    158.7,2,     4.47,2,     9.86,2,     0.00,2,     0.90,3, -999.000,9, -999.000,9,   -999.0,9,   -999.0,9,  -999.00,9, -999.00, 16.3111
     3250031_1,   P31,    11,  1,     30,     30,2,19940128,0855,-15.2380,-152.9327, 4665,    403.4,  10.7407,  34.6968,2,  34.6958,2,    129.9,2,    118.0,2,    15.99,2,    22.95,2,     0.00,2,     1.78,3, -999.000,9, -999.000,9,   -999.0,9,   -999.0,9,  -999.00,9, -999.00, 10.6914
     3250031_1,   P31,    11,  1,     29,     29,2,19940128,0855,-15.2380,-152.9327, 4665,    603.8,   6.3749,  34.4273,2,  34.4267,2,    156.0,2,    159.6,2,    29.17,2,    30.03,2,     0.00,2,     2.11,3, -999.000,9, -999.000,9,   -999.0,9,   -999.0,9,  -999.00,9, -999.00,  6.3201
     3250031_1,   P31,    11,  1,     28,     28,2,19940128,0855,-15.2380,-152.9327, 4665,    802.5,   4.8755,  34.4639,2,  34.4663,2,    145.7,2,    146.8,2,    54.11,2,    33.71,2,     0.00,2,     2.35,3, -999.000,9, -999.000,9,   -999.0,9,   -999.0,9,  -999.00,9, -999.00,  4.8106
     3250031_1,   P31,    11,  1,     27,     27,2,19940128,0855,-15.2380,-152.9327, 4665,   1003.0,   3.9623,  34.5095,2,  34.5092,2,    139.7,2,    141.4,2,    73.84,2,    35.19,2,     0.00,2,     2.47,3, -999.000,9, -999.000,9,   -999.0,9,   -999.0,9,  -999.00,9, -999.00,  3.8867
     3250031_1,   P31,    11,  1,     26,     26,2,19940128,0855,-15.2380,-152.9327, 4665,   1200.4,   3.4578,  34.5425,2,  34.5421,2,    140.9,2,    138.7,2,    85.38,2,    35.68,2,     0.00,2,     2.53,3, -999.000,9, -999.000,9,   -999.0,9,   -999.0,9,  -999.00,9, -999.00,  3.3701
     3250031_1,   P31,    11,  1,     25,     25,2,19940128,0855,-15.2380,-152.9327, 4665,   1394.1,   3.0334,  34.5624,2,  34.5631,2,    143.1,2,    143.2,2,    93.64,2,    35.67,2,     0.00,2,     2.52,3, -999.000,9, -999.000,9,   -999.0,9,   -999.0,9,  -999.00,9, -999.00,  2.9340
     3250031_1,   P31,    11,  1,     24,     24,2,19940128,0855,-15.2380,-152.9327, 4665,   1585.5,   2.6354,  34.5904,2,  34.5915,2,    147.3,2,    146.1,2,   103.52,2,    35.52,2,     0.00,2,     2.52,3, -999.000,9, -999.000,9,   -999.0,9,   -999.0,9,  -999.00,9, -999.00,  2.5247
     3250031_1,   P31,    11,  1,     23,     23,2,19940128,0855,-15.2380,-152.9327, 4665,   1787.9,   2.3810,  34.6126,2,  34.6141,2,    147.3,2,    147.5,2,   111.04,2,    35.72,2,     0.00,2,     2.53,3, -999.000,9, -999.000,9,   -999.0,9,   -999.0,9,  -999.00,9, -999.00,  2.2568
     3250031_1,   P31,    11,  1,     22,     22,2,19940128,0855,-15.2380,-152.9327, 4665,   1998.1,   2.1597,  34.6316,2,  34.6341,2,    151.3,2,    149.8,2,   116.89,2,    35.61,2,     0.00,2,     2.53,3, -999.000,9, -999.000,9,   -999.0,9,   -999.0,9,  -999.00,9, -999.00,  2.0210
     3250031_1,   P31,    11,  1,     21,     21,2,19940128,0855,-15.2380,-152.9327, 4665,   2207.6,   2.0232,  34.6444,2,  34.6458,2,    148.5,2,    150.0,2,   120.64,2,    35.51,2,     0.00,2,     2.54,3, -999.000,9, -999.000,9,   -999.0,9,   -999.0,9,  -999.00,9, -999.00,  1.8686
     3250031_1,   P31,    11,  1,     20,     20,2,19940128,0855,-15.2380,-152.9327, 4665,   2414.3,   1.9217,  34.6551,2,  34.6558,2,    149.5,2,    150.0,2,   125.02,2,    35.55,2,     0.00,2,     2.53,3, -999.000,9, -999.000,9,   -999.0,9,   -999.0,9,  -999.00,9, -999.00,  1.7506
     3250031_1,   P31,    11,  1,     19,     19,2,19940128,0855,-15.2380,-152.9327, 4665,   2618.0,   1.8413,  34.6622,2,  34.6635,2,    151.3,2,    152.0,2,   127.62,2,    35.50,2,     0.00,2,     2.53,3, -999.000,9, -999.000,9,   -999.0,9,   -999.0,9,  -999.00,9, -999.00,  1.6532
     3250031_1,   P31,    11,  1,     18,     18,2,19940128,0855,-15.2380,-152.9327, 4665,   2821.3,   1.7790,  34.6679,2,  34.6686,2,    156.1,2,    154.2,2,   129.43,2,    35.35,2,     0.00,2,     2.52,3, -999.000,9, -999.000,9,   -999.0,9,   -999.0,9,  -999.00,9, -999.00,  1.5732
     3250031_1,   P31,    11,  1,     17,     17,2,19940128,0855,-15.2380,-152.9327, 4665,   3023.8,   1.7012,  34.6728,2,  34.6736,2,    160.0,2,    159.4,2,   128.40,2,    35.00,2,     0.00,2,     2.49,3, -999.000,9, -999.000,9,   -999.0,9,   -999.0,9,  -999.00,9, -999.00,  1.4777
     3250031_1,   P31,    11,  1,     16,     16,2,19940128,0855,-15.2380,-152.9327, 4665,   3226.9,   1.6198,  34.6775,2,  34.6793,2,    166.9,2,    166.0,2,   125.95,2,    34.50,2,     0.00,2,     2.47,3, -999.000,9, -999.000,9,   -999.0,9,   -999.0,9,  -999.00,9, -999.00,  1.3782
     3250031_1,   P31,    11,  1,     15,     15,2,19940128,0855,-15.2380,-152.9327, 4665,   3430.2,   1.5709,  34.6817,2,  34.6817,2,    168.7,2,    169.8,2,   125.74,2,    34.30,2,     0.00,2,     2.46,3, -999.000,9, -999.000,9,   -999.0,9,   -999.0,9,  -999.00,9, -999.00,  1.3101
     3250031_1,   P31,    11,  1,     14,     14,2,19940128,0855,-15.2380,-152.9327, 4665,   3531.9,   1.5425,  34.6835,2,  34.6858,2,    171.6,2,    171.9,2,   125.72,2,    34.10,2,     0.00,2,     2.45,3, -999.000,9, -999.000,9,   -999.0,9,   -999.0,9,  -999.00,9, -999.00,  1.2720
     3250031_1,   P31,    11,  1,     13,     13,2,19940128,0855,-15.2380,-152.9327, 4665,   3633.3,   1.5085,  34.6860,2,  34.6852,2,    173.2,2,    174.4,2,   125.91,2,    34.05,2,     0.00,2,     2.45,3, -999.000,9, -999.000,9,   -999.0,9,   -999.0,9,  -999.00,9, -999.00,  1.2284
     3250031_1,   P31,    11,  1,     12,     12,2,19940128,0855,-15.2380,-152.9327, 4665,   3735.2,   1.4814,  34.6879,2,  34.6885,2,    176.3,2,    177.0,2,   124.68,2,    33.75,2,     0.00,2,     2.44,3, -999.000,9, -999.000,9,   -999.0,9,   -999.0,9,  -999.00,9, -999.00,  1.1913
     3250031_1,   P31,    11,  1,     11,     11,2,19940128,0855,-15.2380,-152.9327, 4665,   3836.6,   1.4545,  34.6900,2,  34.6895,2,    179.5,2,    179.1,2,   123.86,2,    33.60,2,     0.00,2,     2.42,3, -999.000,9, -999.000,9,   -999.0,9,   -999.0,9,  -999.00,9, -999.00,  1.1544
     3250031_1,   P31,    11,  1,     10,     10,2,19940128,0855,-15.2380,-152.9327, 4665,   3937.9,   1.4442,  34.6913,2,  34.6918,2,    179.3,2,    180.2,2,   124.45,2,    33.54,2,     0.00,2,     2.42,3, -999.000,9, -999.000,9,   -999.0,9,   -999.0,9,  -999.00,9, -999.00,  1.1336
     3250031_1,   P31,    11,  1,      9,      9,2,19940128,0855,-15.2380,-152.9327, 4665,   4040.0,   1.4075,  34.6934,2,  34.6942,2,    182.2,2,    182.8,2,   124.43,2,    33.44,2,     0.00,2,     2.41,3, -999.000,9, -999.000,9,   -999.0,9,   -999.0,9,  -999.00,9, -999.00,  1.0868
     3250031_1,   P31,    11,  1,      8,      8,2,19940128,0855,-15.2380,-152.9327, 4665,   4141.7,   1.3979,  34.6943,2,  34.6955,2,    182.2,2,    183.9,2,   123.61,2,    33.29,2,     0.00,2,     2.42,3, -999.000,9, -999.000,9,   -999.0,9,   -999.0,9,  -999.00,9, -999.00,  1.0663
     3250031_1,   P31,    11,  1,      7,      7,2,19940128,0855,-15.2380,-152.9327, 4665,   4243.9,   1.3761,  34.6961,2,  34.6957,2,    183.5,2,    186.0,2,   123.40,2,    33.14,2,     0.00,2,     2.40,3, -999.000,9, -999.000,9,   -999.0,9,   -999.0,9,  -999.00,9, -999.00,  1.0338
     3250031_1,   P31,    11,  1,      6,      6,2,19940128,0855,-15.2380,-152.9327, 4665,   4345.6,   1.3622,  34.6972,2,  34.6973,2,    187.4,2,    187.1,2,   122.38,2,    32.99,2,     0.00,2,     2.41,3,    0.012,3,    0.002,2,   -999.0,9,   -999.0,9,  -999.00,9, -999.00,  1.0090
     3250031_1,   P31,    11,  1,      5,      5,2,19940128,0855,-15.2380,-152.9327, 4665,   4447.3,   1.3536,  34.6984,2,  34.6979,2,    187.8,2,    188.4,2,   122.56,2,    32.98,2,     0.00,2,     2.40,3,    0.003,2,   -0.001,2,   -999.0,9,   -999.0,9,  -999.00,9, -999.00,  0.9891
     3250031_1,   P31,    11,  1,      4,      4,2,19940128,0855,-15.2380,-152.9327, 4665,   4549.6,   1.3471,  34.6992,2,  34.7014,2,    189.3,2,    189.9,2,   122.95,2,    32.98,2,     0.00,2,     2.39,3,    0.020,3,   -0.002,2,   -999.0,9,   -999.0,9,  -999.00,9, -999.00,  0.9711
     3250031_1,   P31,    11,  1,      3,      3,2,19940128,0855,-15.2380,-152.9327, 4665,   4650.9,   1.3501,  34.6996,2,  34.6990,2,    190.3,2,    190.3,2,   123.33,2,    32.88,2,     0.00,2,     2.39,3,    0.006,2,    0.002,2,   -999.0,9,   -999.0,9,  -999.00,9, -999.00,  0.9623
     3250031_1,   P31,    11,  1,      2,      2,2,19940128,0855,-15.2380,-152.9327, 4665,   4751.5,   1.3603,  34.6995,2,  34.7006,2,    192.1,2,    189.9,2,   122.71,2,    32.78,2,     0.00,2,     2.39,3,    0.007,2,    0.012,2,   -999.0,9,   -999.0,9,  -999.00,9, -999.00,  0.9604
     3250031_1,   P31,    11,  1,      1,      1,2,19940128,0855,-15.2380,-152.9327, 4665,   4851.7,   1.3648,  34.6998,2,  34.7006,2,    191.2,2,    190.0,2,   122.10,2,    32.77,2,     0.00,2,     2.41,3,    0.006,2,   -0.002,2,   -999.0,9,   -999.0,9,  -999.00,9, -999.00,  0.9528