BOTTLE,20020814WHPSIOdm
EXPOCODE,SECT_ID,STNNBR,CASTNO,SAMPNO,BTLNBR,BTLNBR_FLAG_W,DATE,TIME,LATITUDE,LONGITUDE,DEPTH,CTDPRS,CTDTMP,CTDSAL,CTDSAL_FLAG_W,SALNTY,SALNTY_FLAG_W,CTDOXY,CTDOXY_FLAG_W,OXYGEN,OXYGEN_FLAG_W,SILCAT,SILCAT_FLAG_W,NITRAT,NITRAT_FLAG_W,NITRIT,NITRIT_FLAG_W,PHSPHT,PHSPHT_FLAG_W,CFC-11,CFC-11_FLAG_W,CFC-12,CFC-12_FLAG_W,TCARBN,TCARBN_FLAG_W,ALKALI,ALKALI_FLAG_W,PH,PH_FLAG_W,PHTEMP,THETA
,,,,,,,,,,,,DBAR,ITS-90,PSS-78,,PSS-78,,UMOL/KG,,UMOL/KG,,UMOL/KG,,UMOL/KG,,UMOL/KG,,UMOL/KG,,PMOL/KG,,PMOL/KG,,UMOL/KG,,UMOL/KG,,,,DEG C,DEG C
     3250031_1,   P31,   102,  1,     36,     36,2,19940211,1614, -8.9110,-169.0023, 1005,      4.0,  29.8793,  34.6171,2,  34.6193,2,    186.7,2,    192.8,2,     1.72,2,     0.17,2,     0.00,2,     0.18,2, -999.000,9, -999.000,9,   1913.4,2,   2278.7,2,     8.16,2,   25.00, 29.8783
     3250031_1,   P31,   102,  1,     35,     35,2,19940211,1614, -8.9110,-169.0023, 1005,     17.9,  29.8915,  34.6174,2,  34.6182,2,    185.7,2,    192.7,2,     1.51,2,     0.22,2,     0.00,2,     0.17,2, -999.000,9, -999.000,9,   1913.1,2,   2279.4,2,     8.16,2,   25.00, 29.8870
     3250031_1,   P31,   102,  1,     34,     34,2,19940211,1614, -8.9110,-169.0023, 1005,     57.6,  29.9075,  34.6211,2,  34.6180,2,    190.7,2,    192.8,2,     1.49,2,     0.16,2,     0.00,2,     0.18,2, -999.000,9, -999.000,9,   1912.9,2,   2279.0,2,     8.16,2,   25.00, 29.8932
     3250031_1,   P31,   102,  1,     33,     33,2,19940211,1614, -8.9110,-169.0023, 1005,    108.2,  28.0344,  35.7165,2,  36.5987,4,    173.0,2,    167.0,2,     2.22,2,     2.89,2,     0.65,2,     0.53,2, -999.000,9, -999.000,9,   2029.8,2,   2350.9,2,     8.06,2,   25.00, 28.0088
     3250031_1,   P31,   102,  1,     32,     32,2,19940211,1614, -8.9110,-169.0023, 1005,    208.2,  20.5129,  35.8260,2,  35.7198,3,    138.5,2,    128.7,2,     4.26,2,    10.55,2,     0.00,2,     0.97,2, -999.000,9, -999.000,9,   -999.0,9,   -999.0,9,  -999.00,9, -999.00, 20.4735
     3250031_1,   P31,   102,  1,     31,     31,2,19940211,1614, -8.9110,-169.0023, 1005,    308.6,  13.4135,  35.0275,2,  35.0199,2,     90.0,2,     87.4,2,    14.91,2,    22.60,2,     0.00,2,     1.72,2, -999.000,9, -999.000,9,   -999.0,9,   -999.0,9,  -999.00,9, -999.00, 13.3699
     3250031_1,   P31,   102,  1,     30,     30,2,19940211,1614, -8.9110,-169.0023, 1005,    408.4,   9.5179,  34.7059,2,  34.7021,2,     94.3,2,    102.6,2,    25.56,2,    29.20,2,     0.00,2,     2.03,2, -999.000,9, -999.000,9,   -999.0,9,   -999.0,9,  -999.00,9, -999.00,  9.4716
     3250031_1,   P31,   102,  1,     29,     29,2,19940211,1614, -8.9110,-169.0023, 1005,    609.6,   6.9922,  34.5642,2,  34.5622,2,     98.1,2,     96.9,2,    41.65,2,    35.51,2,     0.00,2,     2.40,2, -999.000,9, -999.000,9,   -999.0,9,   -999.0,9,  -999.00,9, -999.00,  6.9338
     3250031_1,   P31,   102,  1,     28,     28,2,19940211,1614, -8.9110,-169.0023, 1005,    811.5,   5.5964,  34.5232,2,  34.5238,2,    106.5,2,    104.4,2,    57.21,2,    37.47,2,     0.00,2,     2.55,2, -999.000,9, -999.000,9,   -999.0,9,   -999.0,9,  -999.00,9, -999.00,  5.5262
     3250031_1,   P31,   102,  1,     27,     27,2,19940211,1614, -8.9110,-169.0023, 1005,   1012.6,   4.5123,  34.5271,2,  34.5263,2,    113.6,2,    113.3,2,    73.78,2,    37.95,2,     0.00,2,     2.59,2, -999.000,9, -999.000,9,   -999.0,9,   -999.0,9,  -999.00,9, -999.00,  4.4315
     3250031_1,   P31,   102,  1,     26,     26,2,19940211,1614, -8.9110,-169.0023, 1005,   1265.1,   3.5274,  34.5594,2,  34.5583,2,    123.6,2,    123.7,2,    93.39,2,    37.75,2,     0.00,2,     2.59,2, -999.000,9, -999.000,9,   -999.0,9,   -999.0,9,  -999.00,9, -999.00,  3.4336
     3250031_1,   P31,   102,  1,     25,     25,2,19940211,1614, -8.9110,-169.0023, 1005,   1517.0,   2.9072,  34.5935,2,  34.5937,2,    125.3,2,    122.9,2,   110.11,2,    38.12,2,     0.00,2,     2.62,2, -999.000,9, -999.000,9,   -999.0,9,   -999.0,9,  -999.00,9, -999.00,  2.7990
     3250031_1,   P31,   102,  1,     24,     24,2,19940211,1614, -8.9110,-169.0023, 1005,   1770.3,   2.6155,  34.6118,2,  34.6116,2,    125.0,2,    124.3,2,   118.03,2,    38.17,2,     0.00,2,     2.62,2, -999.000,9, -999.000,9,   -999.0,9,   -999.0,9,  -999.00,9, -999.00,  2.4896
     3250031_1,   P31,   102,  1,     23,     23,2,19940211,1614, -8.9110,-169.0023, 1005,   2023.6,   2.1364,  34.6421,2,  34.6421,2,    130.4,2,    131.7,2,   129.36,2,    37.70,2,     0.00,2,     2.59,2, -999.000,9, -999.000,9,   -999.0,9,   -999.0,9,  -999.00,9, -999.00,  1.9959
     3250031_1,   P31,   102,  1,     22,     22,2,19940211,1614, -8.9110,-169.0023, 1005,   2278.5,   1.9677,  34.6535,2,  34.6546,2,    138.4,2,    137.7,2,   131.40,2,    37.13,2,     0.00,2,     2.55,2, -999.000,9, -999.000,9,   -999.0,9,   -999.0,9,  -999.00,9, -999.00,  1.8079
     3250031_1,   P31,   102,  1,     21,     21,2,19940211,1614, -8.9110,-169.0023, 1005,   2533.0,   1.8244,  34.6634,2,  34.6623,2,    142.9,2,    142.9,2,   133.65,2,    36.87,2,     0.00,2,     2.53,2, -999.000,9, -999.000,9,   -999.0,9,   -999.0,9,  -999.00,9, -999.00,  1.6443
     3250031_1,   P31,   102,  1,     20,     20,2,19940211,1614, -8.9110,-169.0023, 1005,   2788.9,   1.7350,  34.6706,2,  34.6698,2,    146.5,2,    146.7,2,   135.29,2,    36.56,2,     0.00,2,     2.50,2, -999.000,9, -999.000,9,   -999.0,9,   -999.0,9,  -999.00,9, -999.00,  1.5332
     3250031_1,   P31,   102,  1,     19,     19,2,19940211,1614, -8.9110,-169.0023, 1005,   3043.2,   1.6498,  34.6765,2,  34.6765,2,    152.5,2,    151.7,2,   135.68,2,    36.41,2,     0.00,2,     2.48,2, -999.000,9, -999.000,9,   -999.0,9,   -999.0,9,  -999.00,9, -999.00,  1.4255
     3250031_1,   P31,   102,  1,     18,     18,2,19940211,1614, -8.9110,-169.0023, 1005,   3247.4,   1.5932,  34.6800,2,  34.6789,2,    156.6,2,    156.3,2,   135.45,2,    36.05,2,     0.00,2,     2.46,2, -999.000,9, -999.000,9,   -999.0,9,   -999.0,9,  -999.00,9, -999.00,  1.3502
     3250031_1,   P31,   102,  1,     17,     17,2,19940211,1614, -8.9110,-169.0023, 1005,   3452.2,   1.5445,  34.6836,2,  34.6826,2,    160.9,2,    160.1,2,   135.63,2,    36.16,2,     0.00,2,     2.45,2, -999.000,9, -999.000,9,   -999.0,9,   -999.0,9,  -999.00,9, -999.00,  1.2821
     3250031_1,   P31,   102,  1,     16,     16,2,19940211,1614, -8.9110,-169.0023, 1005,   3554.1,   1.5143,  34.6849,2,  34.6856,2,    161.0,2,    161.2,2,   136.65,2,    36.11,2,     0.00,2,     2.44,2, -999.000,9, -999.000,9,   2313.9,2,   2412.7,2,     7.59,2,   25.00,  1.2422
     3250031_1,   P31,   102,  1,     15,     15,2,19940211,1614, -8.9110,-169.0023, 1005,   3657.5,   1.4892,  34.6863,2,  34.6899,4,    163.5,2,    162.7,2,   136.62,2,    36.01,2,     0.00,2,     2.43,2, -999.000,9, -999.000,9,   -999.0,9,   -999.0,9,  -999.00,9, -999.00,  1.2071
     3250031_1,   P31,   102,  1,     14,     14,2,19940211,1614, -8.9110,-169.0023, 1005,   3759.6,   1.4595,  34.6880,2,  34.6899,4,    164.2,2,    164.5,2,   136.39,2,    35.75,2,     0.01,2,     2.42,2, -999.000,9, -999.000,9,   2311.8,2,   2463.0,4,  -999.00,9, -999.00,  1.1675
     3250031_1,   P31,   102,  1,     13,     13,2,19940211,1614, -8.9110,-169.0023, 1005,   3861.4,   1.4453,  34.6894,2,  34.6897,2,    166.8,2,    166.1,2,   136.15,2,    35.66,2,     0.00,2,     2.41,2, -999.000,9, -999.000,9,   -999.0,9,   -999.0,9,  -999.00,9, -999.00,  1.1429
     3250031_1,   P31,   102,  1,     12,     12,2,19940211,1614, -8.9110,-169.0023, 1005,   3963.8,   1.4384,  34.6903,2,  34.6909,2,    168.2,2,    167.0,2,   136.33,2,    35.51,2,     0.01,2,     2.41,2, -999.000,9, -999.000,9,   2309.6,2,   2409.5,2,     7.59,2,   25.00,  1.1252
     3250031_1,   P31,   102,  1,     11,     11,2,19940211,1614, -8.9110,-169.0023, 1005,   4066.6,   1.4144,  34.6919,2,  34.6915,2,    170.7,2,    171.2,2,   134.01,2,    35.20,2,     0.00,2,     2.40,2, -999.000,9, -999.000,9,   -999.0,9,   -999.0,9,  -999.00,9, -999.00,  1.0906
     3250031_1,   P31,   102,  1,     10,     10,2,19940211,1614, -8.9110,-169.0023, 1005,   4168.7,   1.3741,  34.6954,2,  34.6945,2,    176.0,2,    176.4,2,   130.66,2,    34.69,2,     0.00,2,     2.36,2, -999.000,9, -999.000,9,   2298.4,2,   2403.4,2,     7.60,2,   25.00,  1.0402
     3250031_1,   P31,   102,  1,      9,      9,2,19940211,1614, -8.9110,-169.0023, 1005,   4245.7,   1.2969,  34.7010,2,  34.7006,2,    182.0,2,    186.4,2,   125.11,2,    33.77,2,     0.00,2,     2.31,2, -999.000,9, -999.000,9,   2283.5,2,   2387.8,2,     7.60,2,   25.00,  0.9568
     3250031_1,   P31,   102,  1,      8,      8,2,19940211,1614, -8.9110,-169.0023, 1005,   4322.3,   1.1927,  34.7057,2,  34.7065,2,    192.9,2,    195.5,2,   121.64,2,    33.16,2,     0.00,2,     2.27,2, -999.000,9, -999.000,9,   2272.9,2,   2380.7,2,     7.61,2,   25.00,  0.8472
     3250031_1,   P31,   102,  1,      7,      7,2,19940211,1614, -8.9110,-169.0023, 1005,   4399.2,   1.1331,  34.7068,2,  34.7075,2,    198.4,2,    199.7,2,   121.41,2,    32.92,2,     0.00,2,     2.24,2, -999.000,9, -999.000,9,   2270.1,2,   2376.6,2,     7.61,2,   25.00,  0.7807
     3250031_1,   P31,   102,  1,      6,      6,2,19940211,1614, -8.9110,-169.0023, 1005,   4476.0,   1.0909,  34.7071,2,  34.7081,2,    200.2,2,    202.0,2,   121.18,2,    32.77,2,     0.00,2,     2.23,2, -999.000,9, -999.000,9,   2266.8,2,   2379.0,2,     7.61,2,   25.00,  0.7312
     3250031_1,   P31,   102,  1,      5,      5,2,19940211,1614, -8.9110,-169.0023, 1005,   4553.3,   1.0700,  34.7083,2,  34.7081,2,    203.8,2,    203.7,2,   121.15,2,    32.62,2,     0.00,2,     2.22,2, -999.000,9, -999.000,9,   2265.1,2,   2371.6,2,     7.61,2,   25.00,  0.7023
     3250031_1,   P31,   102,  1,      4,      4,2,19940211,1614, -8.9110,-169.0023, 1005,   4630.0,   1.0481,  34.7081,2,  34.7081,2,    205.5,2,    205.3,2,   121.33,2,    32.58,2,     0.00,2,     2.21,2, -999.000,9, -999.000,9,   2264.3,2,   2368.7,2,     7.61,2,   25.00,  0.6723
     3250031_1,   P31,   102,  1,      3,      3,2,19940211,1614, -8.9110,-169.0023, 1005,   4784.7,   1.0605,  34.7081,2,  34.7069,2,    206.6,2,    205.7,2,   121.31,2,    32.43,2,     0.00,2,     2.21,2, -999.000,9, -999.000,9,   2262.8,2,   2367.4,2,     7.61,2,   25.00,  0.6664
     3250031_1,   P31,   102,  1,      2,      2,2,19940211,1614, -8.9110,-169.0023, 1005,   4938.4,   1.0709,  34.7084,2,  34.7077,2,    206.6,2,    205.8,2,   120.68,2,    32.34,2,     0.00,2,     2.21,2, -999.000,9, -999.000,9,   2263.1,2,   2373.7,2,     7.61,2,   25.00,  0.6584
     3250031_1,   P31,   102,  1,      1,      1,2,19940211,1614, -8.9110,-169.0023, 1005,   5020.6,   1.0804,  34.7082,2,  34.7081,2,    202.9,3,    206.4,2,   120.25,2,    32.20,2,     0.00,2,     2.20,2, -999.000,9, -999.000,9,   2263.1,2,   2370.0,2,  -999.00,9, -999.00,  0.6578