BOTTLE,20020814WHPSIOdm
EXPOCODE,SECT_ID,STNNBR,CASTNO,SAMPNO,BTLNBR,BTLNBR_FLAG_W,DATE,TIME,LATITUDE,LONGITUDE,DEPTH,CTDPRS,CTDTMP,CTDSAL,CTDSAL_FLAG_W,SALNTY,SALNTY_FLAG_W,CTDOXY,CTDOXY_FLAG_W,OXYGEN,OXYGEN_FLAG_W,SILCAT,SILCAT_FLAG_W,NITRAT,NITRAT_FLAG_W,NITRIT,NITRIT_FLAG_W,PHSPHT,PHSPHT_FLAG_W,CFC-11,CFC-11_FLAG_W,CFC-12,CFC-12_FLAG_W,TCARBN,TCARBN_FLAG_W,ALKALI,ALKALI_FLAG_W,PH,PH_FLAG_W,PHTEMP,THETA
,,,,,,,,,,,,DBAR,ITS-90,PSS-78,,PSS-78,,UMOL/KG,,UMOL/KG,,UMOL/KG,,UMOL/KG,,UMOL/KG,,UMOL/KG,,PMOL/KG,,PMOL/KG,,UMOL/KG,,UMOL/KG,,,,DEG C,DEG C
     3250031_1,   P31,     3,  1,     30,     30,2,19940126,1334,-17.2598,-150.0528, 3098,      2.1,  29.3398,  35.9032,2,  35.8980,2,    179.6,2,    193.8,2,     1.72,2,     0.19,2,     0.00,2,     0.21,2, -999.000,9, -999.000,9,   -999.0,9,   -999.0,9,  -999.00,9, -999.00, 29.3393
     3250031_1,   P31,     3,  1,     29,     29,2,19940126,1334,-17.2598,-150.0528, 3098,     15.1,  29.2820,  35.9156,2,  35.9122,2,    181.8,2,    194.3,2,     1.70,2,     0.09,2,     0.00,2,     0.20,2, -999.000,9, -999.000,9,   -999.0,9,   -999.0,9,  -999.00,9, -999.00, 29.2783
     3250031_1,   P31,     3,  1,     28,     28,2,19940126,1334,-17.2598,-150.0528, 3098,     55.0,  27.8665,  36.2526,2,  36.2380,2,    202.9,2,    204.5,2,     1.50,2,     0.09,2,     0.00,2,     0.20,2, -999.000,9, -999.000,9,   -999.0,9,   -999.0,9,  -999.00,9, -999.00, 27.8536
     3250031_1,   P31,     3,  1,     27,     27,2,19940126,1334,-17.2598,-150.0528, 3098,    105.1,  26.4554,  36.3527,2,  36.3619,2,    204.5,2,    200.7,2,     1.29,2,     0.09,2,     0.00,2,     0.22,2, -999.000,9, -999.000,9,   -999.0,9,   -999.0,9,  -999.00,9, -999.00, 26.4315
     3250031_1,   P31,     3,  1,     26,     26,2,19940126,1334,-17.2598,-150.0528, 3098,    204.8,  21.6860,  35.9822,2,  35.9738,2,    177.5,2,    173.7,2,     1.28,2,     3.17,2,     0.01,2,     0.44,2, -999.000,9, -999.000,9,   -999.0,9,   -999.0,9,  -999.00,9, -999.00, 21.6457
     3250031_1,   P31,     3,  1,     25,     25,2,19940126,1334,-17.2598,-150.0528, 3098,    305.0,  16.5012,  35.3040,2,  35.2916,2,    168.4,2,    170.0,2,     3.11,2,     8.12,2,     0.00,2,     0.76,2, -999.000,9, -999.000,9,   -999.0,9,   -999.0,9,  -999.00,9, -999.00, 16.4516
     3250031_1,   P31,     3,  1,     24,     24,2,19940126,1334,-17.2598,-150.0528, 3098,    404.8,  11.1920,  34.7105,2,  34.7078,2,    150.2,2,    149.4,2,    10.52,2,    18.88,2,     0.00,2,     1.49,2, -999.000,9, -999.000,9,   -999.0,9,   -999.0,9,  -999.00,9, -999.00, 11.1412
     3250031_1,   P31,     3,  1,     23,     23,2,19940126,1334,-17.2598,-150.0528, 3098,    503.8,   8.1692,  34.4988,2,  34.4951,2,    144.4,2,    142.4,2,    19.78,2,    26.71,2,     0.00,2,     1.97,2, -999.000,9, -999.000,9,   -999.0,9,   -999.0,9,  -999.00,9, -999.00,  8.1170
     3250031_1,   P31,     3,  1,     22,     22,2,19940126,1334,-17.2598,-150.0528, 3098,    602.7,   6.2473,  34.4035,2,  34.4022,2,    159.7,2,    163.7,2,    26.07,2,    29.55,2,     0.00,2,     2.10,2, -999.000,9, -999.000,9,   -999.0,9,   -999.0,9,  -999.00,9, -999.00,  6.1931
     3250031_1,   P31,     3,  1,     21,     21,2,19940126,1334,-17.2598,-150.0528, 3098,    701.9,   5.4360,  34.4153,2,  34.4150,2,    157.6,2,    157.2,2,    38.30,2,    31.85,2,     0.00,2,     2.24,2, -999.000,9, -999.000,9,   -999.0,9,   -999.0,9,  -999.00,9, -999.00,  5.3768
     3250031_1,   P31,     3,  1,     20,     20,2,19940126,1334,-17.2598,-150.0528, 3098,    801.8,   4.7644,  34.4465,2,  34.4453,2,    145.8,2,    150.7,2,    52.77,2,    33.35,2,     0.00,2,     2.41,2, -999.000,9, -999.000,9,   -999.0,9,   -999.0,9,  -999.00,9, -999.00,  4.7003
     3250031_1,   P31,     3,  1,     19,     19,2,19940126,1334,-17.2598,-150.0528, 3098,    902.4,   4.4537,  34.4811,2,  34.4800,2,    141.8,2,    146.4,2,    61.88,2,    33.95,2,     0.00,2,     2.40,2, -999.000,9, -999.000,9,   -999.0,9,   -999.0,9,  -999.00,9, -999.00,  4.3830
     3250031_1,   P31,     3,  1,     18,     18,2,19940126,1334,-17.2598,-150.0528, 3098,   1003.1,   3.9144,  34.5040,2,  34.5024,2,    144.2,2,    144.6,2,    71.96,2,    34.46,2,     0.00,2,     2.46,2, -999.000,9, -999.000,9,   -999.0,9,   -999.0,9,  -999.00,9, -999.00,  3.8392
     3250031_1,   P31,     3,  1,     17,     17,2,19940126,1334,-17.2598,-150.0528, 3098,   1103.8,   3.5800,  34.5207,2,  34.5188,2,    143.2,2,    144.6,2,    79.07,2,    34.61,2,     0.00,2,     2.48,2, -999.000,9, -999.000,9,   -999.0,9,   -999.0,9,  -999.00,9, -999.00,  3.4992
     3250031_1,   P31,     3,  1,     16,     16,2,19940126,1334,-17.2598,-150.0528, 3098,   1204.4,   3.3788,  34.5426,2,  34.5414,2,    143.5,2,    141.9,2,    86.04,2,    35.01,2,     0.00,2,     2.51,2, -999.000,9, -999.000,9,   -999.0,9,   -999.0,9,  -999.00,9, -999.00,  3.2915
     3250031_1,   P31,     3,  1,     15,     15,2,19940126,1334,-17.2598,-150.0528, 3098,   1305.4,   3.1428,  34.5533,2,  34.5504,2,    143.3,2,    144.3,2,    90.38,2,    35.01,2,     0.00,2,     2.52,2, -999.000,9, -999.000,9,   -999.0,9,   -999.0,9,  -999.00,9, -999.00,  3.0496
     3250031_1,   P31,     3,  1,     14,     14,2,19940126,1334,-17.2598,-150.0528, 3098,   1406.2,   2.9584,  34.5657,2,  34.5645,2,    148.7,2,    145.2,2,    94.93,2,    35.11,2,     0.00,2,     2.53,2, -999.000,9, -999.000,9,   -999.0,9,   -999.0,9,  -999.00,9, -999.00,  2.8588
     3250031_1,   P31,     3,  1,     13,     13,2,19940126,1334,-17.2598,-150.0528, 3098,   1506.9,   2.7447,  34.5832,2,  34.5808,2,    148.2,2,    145.4,2,   100.67,2,    35.16,2,     0.00,2,     2.53,2, -999.000,9, -999.000,9,   -999.0,9,   -999.0,9,  -999.00,9, -999.00,  2.6392
     3250031_1,   P31,     3,  1,     12,     12,2,19940126,1334,-17.2598,-150.0528, 3098,   1607.0,   2.6043,  34.5943,2,  34.5925,2,    148.3,2,    145.7,2,   104.12,2,    35.11,2,     0.00,2,     2.53,2, -999.000,9, -999.000,9,   -999.0,9,   -999.0,9,  -999.00,9, -999.00,  2.4923
     3250031_1,   P31,     3,  1,     11,     11,2,19940126,1334,-17.2598,-150.0528, 3098,   1706.9,   2.4751,  34.6052,2,  34.6021,2,    149.9,2,    147.6,2,   107.21,2,    35.06,2,     0.00,2,     2.53,2, -999.000,9, -999.000,9,   -999.0,9,   -999.0,9,  -999.00,9, -999.00,  2.3564
     3250031_1,   P31,     3,  1,     10,     10,2,19940126,1334,-17.2598,-150.0528, 3098,   1807.4,   2.3735,  34.6137,2,  34.6109,2,    149.4,2,    148.4,2,   109.53,2,    35.07,2,     0.00,2,     2.53,2, -999.000,9, -999.000,9,   -999.0,9,   -999.0,9,  -999.00,9, -999.00,  2.2478
     3250031_1,   P31,     3,  1,      9,      9,2,19940126,1334,-17.2598,-150.0528, 3098,   1907.7,   2.2654,  34.6223,2,  34.6202,2,    151.0,2,    149.8,2,   112.44,2,    35.02,2,     0.00,2,     2.52,2, -999.000,9, -999.000,9,   -999.0,9,   -999.0,9,  -999.00,9, -999.00,  2.1328
     3250031_1,   P31,     3,  1,      8,      8,2,19940126,1334,-17.2598,-150.0528, 3098,   2008.1,   2.1530,  34.6313,2,  34.6286,3,    151.7,2,    151.6,2,   115.57,2,    35.12,2,     0.00,2,     2.52,2, -999.000,9, -999.000,9,   -999.0,9,   -999.0,9,  -999.00,9, -999.00,  2.0136
     3250031_1,   P31,     3,  1,      7,      7,2,19940126,1334,-17.2598,-150.0528, 3098,   2209.4,   1.9887,  34.6451,2,  34.6431,2,    155.5,2,    154.4,2,   119.72,2,    34.76,2,     0.00,2,     2.51,2, -999.000,9, -999.000,9,   -999.0,9,   -999.0,9,  -999.00,9, -999.00,  1.8346
     3250031_1,   P31,     3,  1,      6,      6,2,19940126,1334,-17.2598,-150.0528, 3098,   2411.4,   1.8711,  34.6554,2,  34.6541,2,    158.3,2,    156.9,2,   122.30,2,    34.51,2,     0.00,2,     2.50,2,    0.004,2,    0.000,2,   -999.0,9,   -999.0,9,  -999.00,9, -999.00,  1.7012
     3250031_1,   P31,     3,  1,      5,      5,2,19940126,1334,-17.2598,-150.0528, 3098,   2613.5,   1.7638,  34.6641,2,  34.6623,2,    160.0,2,    160.2,2,   123.48,2,    34.41,2,     0.00,2,     2.48,2,    0.010,2,    0.005,2,   -999.0,9,   -999.0,9,  -999.00,9, -999.00,  1.5776
     3250031_1,   P31,     3,  1,      4,      4,2,19940126,1334,-17.2598,-150.0528, 3098,   2815.7,   1.7096,  34.6695,2,  34.6674,2,    161.4,2,    162.9,2,   124.06,2,    34.21,2,     0.00,2,     2.48,2,    0.005,2,    0.003,2,   -999.0,9,   -999.0,9,  -999.00,9, -999.00,  1.5058
     3250031_1,   P31,     3,  1,      3,      3,2,19940126,1334,-17.2598,-150.0528, 3098,   3018.0,   1.6507,  34.6743,2,  34.6721,2,    164.9,2,    166.3,2,   124.44,2,    33.91,2,     0.00,2,     2.47,2,    0.013,4,    0.018,4,   -999.0,9,   -999.0,9,  -999.00,9, -999.00,  1.4288
     3250031_1,   P31,     3,  1,      2,      2,2,19940126,1334,-17.2598,-150.0528, 3098,   3118.6,   1.6304,  34.6767,2,  34.6743,2,    166.9,2,    167.4,2,   124.61,2,    33.86,2,     0.00,2,     2.47,2,    0.026,4,    0.002,2,   -999.0,9,   -999.0,9,  -999.00,9, -999.00,  1.3992
     3250031_1,   P31,     3,  1,      1,      1,2,19940126,1334,-17.2598,-150.0528, 3098,   3148.0,   1.6187,  34.6779,2,  34.6758,2,    169.0,2,    167.9,2,   124.99,2,    33.81,2,     0.00,2,     2.46,2,    0.002,2,    0.000,2,   -999.0,9,   -999.0,9,  -999.00,9, -999.00,  1.3849
     3250031_1,   P31,     4,  1,     36,     36,2,19940126,1804,-16.9527,-150.3035, 3895,      1.9,  29.4657,  36.0925,2,  36.0916,2,    191.1,2,    193.8,2,     1.51,2,     0.18,2,     0.00,2,     0.20,2,    1.510,2,    0.801,2,   -999.0,9,   -999.0,9,  -999.00,9, -999.00, 29.4652
     3250031_1,   P31,     4,  1,     35,     35,2,19940126,1804,-16.9527,-150.3035, 3895,     15.3,  29.3399,  36.1122,2,  36.1222,2,    196.6,2,    195.2,2,     1.31,2,     0.18,2,     0.00,2,     0.20,2,    1.736,2,    0.945,2,   -999.0,9,   -999.0,9,  -999.00,9, -999.00, 29.3362
     3250031_1,   P31,     4,  1,     34,     34,2,19940126,1804,-16.9527,-150.3035, 3895,     55.7,  27.8518,  36.1741,2,  36.1700,2,    202.1,2,    204.2,2,     1.10,2,     0.13,2,     0.00,2,     0.18,2,    1.559,2,    0.853,2,   -999.0,9,   -999.0,9,  -999.00,9, -999.00, 27.8387
     3250031_1,   P31,     4,  1,     33,     33,2,19940126,1804,-16.9527,-150.3035, 3895,    105.1,  26.3322,  36.2043,2,  36.1911,2,    204.0,2,    210.2,2,     1.08,2,     0.13,2,     0.00,2,  -999.00,5,    1.692,2,    0.906,2,   -999.0,9,   -999.0,9,  -999.00,9, -999.00, 26.3084
     3250031_1,   P31,     4,  1,     32,     32,2,19940126,1804,-16.9527,-150.3035, 3895,    204.6,  22.4073,  36.0822,2,  36.0802,2,    180.1,2,    176.8,2,     1.07,2,     2.58,2,     0.03,2,  -999.00,5,    1.809,6,    0.930,6,   -999.0,9,   -999.0,9,  -999.00,9, -999.00, 22.3660
     3250031_1,   P31,     4,  1,     31,     31,2,19940126,1804,-16.9527,-150.3035, 3895,    305.4,  16.7808,  35.3428,2,  35.3007,2,    175.3,2,    171.9,2,     2.34,2,     7.92,2,     0.00,2,  -999.00,5,    1.747,2,    0.877,2,   -999.0,9,   -999.0,9,  -999.00,9, -999.00, 16.7306
     3250031_1,   P31,     4,  1,     30,     30,2,19940126,1804,-16.9527,-150.3035, 3895,    404.6,  10.9999,  34.6906,2,  34.6841,2,    151.3,2,    147.2,2,    10.82,2,    19.90,2,     0.00,2,  -999.00,5,    0.733,2,    0.349,2,   -999.0,9,   -999.0,9,  -999.00,9, -999.00, 10.9497
     3250031_1,   P31,     4,  1,     29,     29,2,19940126,1804,-16.9527,-150.3035, 3895,    504.9,   8.0752,  34.4932,2,  34.4922,2,    139.3,2,    141.1,2,    19.86,2,    27.20,2,     0.00,2,  -999.00,5,    0.299,2,    0.166,2,   -999.0,9,   -999.0,9,  -999.00,9, -999.00,  8.0232
     3250031_1,   P31,     4,  1,     28,     28,2,19940126,1804,-16.9527,-150.3035, 3895,    604.4,   6.3595,  34.4340,2,  34.4351,2,    145.2,2,    150.9,2,    29.63,2,    30.61,2,     0.00,2,     2.17,2,    0.103,2,    0.056,2,   -999.0,9,   -999.0,9,  -999.00,9, -999.00,  6.3047
     3250031_1,   P31,     4,  1,     27,     27,2,19940126,1804,-16.9527,-150.3035, 3895,    704.5,   5.4144,  34.4227,2,  34.4230,2,    156.3,2,    155.1,2,    39.59,2,    32.13,2,     0.00,2,     2.27,2,    0.055,2,    0.038,2,   -999.0,9,   -999.0,9,  -999.00,9, -999.00,  5.3551
     3250031_1,   P31,     4,  1,     26,     26,2,19940126,1804,-16.9527,-150.3035, 3895,    804.5,   4.8418,  34.4587,2,  34.4588,2,    147.9,2,    147.5,2,    52.71,2,    33.54,2,     0.00,2,     2.36,2,    0.015,2,    0.004,2,   -999.0,9,   -999.0,9,  -999.00,9, -999.00,  4.7769
     3250031_1,   P31,     4,  1,     25,     25,2,19940126,1804,-16.9527,-150.3035, 3895,    905.5,   4.3119,  34.4753,2,  34.4764,2,    146.6,2,    147.1,2,    62.15,2,    34.26,2,     0.00,2,     2.41,2,    0.015,2,    0.002,2,   -999.0,9,   -999.0,9,  -999.00,9, -999.00,  4.2419
     3250031_1,   P31,     4,  1,     24,     24,2,19940126,1804,-16.9527,-150.3035, 3895,   1006.3,   3.9656,  34.5069,2,  34.5072,2,    144.2,2,    142.8,2,    72.00,2,    34.92,2,     0.00,2,     2.47,2, -999.000,9, -999.000,9,   -999.0,9,   -999.0,9,  -999.00,9, -999.00,  3.8897
     3250031_1,   P31,     4,  1,     23,     23,2,19940126,1804,-16.9527,-150.3035, 3895,   1106.3,   3.6308,  34.5256,2,  34.5246,2,    141.5,2,    142.8,2,    79.09,2,    35.23,2,     0.00,2,     2.48,2, -999.000,9, -999.000,9,   -999.0,9,   -999.0,9,  -999.00,9, -999.00,  3.5493
     3250031_1,   P31,     4,  1,     22,     22,2,19940126,1804,-16.9527,-150.3035, 3895,   1207.0,   3.4184,  34.5404,2,  34.5403,2,    142.2,2,    142.3,2,    84.33,2,    35.33,2,     0.00,2,     2.49,2,    0.002,2,   -0.004,2,   -999.0,9,   -999.0,9,  -999.00,9, -999.00,  3.3306
     3250031_1,   P31,     4,  1,     21,     21,2,19940126,1804,-16.9527,-150.3035, 3895,   1405.5,   2.9682,  34.5688,2,  34.5679,2,    146.3,2,    143.5,2,    94.92,2,    35.38,2,     0.00,2,  -999.00,5, -999.000,9, -999.000,9,   -999.0,9,   -999.0,9,  -999.00,9, -999.00,  2.8686
     3250031_1,   P31,     4,  1,     20,     20,2,19940126,1804,-16.9527,-150.3035, 3895,   1605.9,   2.6463,  34.5920,2,  34.5920,2,    150.6,3,    145.8,2,   102.75,2,    35.49,2,     0.00,2,  -999.00,5, -999.000,9, -999.000,9,   -999.0,9,   -999.0,9,  -999.00,9, -999.00,  2.5338
     3250031_1,   P31,     4,  1,     19,     19,2,19940126,1804,-16.9527,-150.3035, 3895,   1808.0,   2.3746,  34.6135,2,  34.6129,2,    146.5,2,    147.9,2,   109.90,2,    35.44,2,     0.00,2,  -999.00,5,    0.016,3,    0.001,2,   -999.0,9,   -999.0,9,  -999.00,9, -999.00,  2.2488
     3250031_1,   P31,     4,  1,     18,     18,2,19940126,1804,-16.9527,-150.3035, 3895,   2010.3,   2.1583,  34.6312,2,  34.6316,2,    150.5,2,    151.1,2,   115.17,2,    35.29,2,     0.00,2,  -999.00,5, -999.000,9, -999.000,9,   -999.0,9,   -999.0,9,  -999.00,9, -999.00,  2.0186
     3250031_1,   P31,     4,  1,     17,     17,2,19940126,1804,-16.9527,-150.3035, 3895,   2212.0,   2.0231,  34.6424,2,  34.6421,2,    152.7,2,    153.4,2,   118.11,2,    35.19,2,     0.00,2,  -999.00,5, -999.000,9, -999.000,9,   -999.0,9,   -999.0,9,  -999.00,9, -999.00,  1.8681
     3250031_1,   P31,     4,  1,     16,     16,2,19940126,1804,-16.9527,-150.3035, 3895,   2412.0,   1.9055,  34.6529,2,  34.6543,2,    157.5,2,    156.2,2,   120.67,2,    34.94,2,     0.00,2,  -999.00,5,    0.004,2,   -0.003,2,   -999.0,9,   -999.0,9,  -999.00,9, -999.00,  1.7349
     3250031_1,   P31,     4,  1,     15,     15,2,19940126,1804,-16.9527,-150.3035, 3895,   2510.6,   1.8604,  34.6564,2,  34.6560,2,    157.5,2,    157.0,2,   121.64,2,    34.84,2,     0.00,2,  -999.00,5, -999.000,9, -999.000,9,   -999.0,9,   -999.0,9,  -999.00,9, -999.00,  1.6818
     3250031_1,   P31,     4,  1,     14,     14,2,19940126,1804,-16.9527,-150.3035, 3895,   2608.0,   1.8066,  34.6611,2,  34.6605,2,    159.0,2,    158.7,2,   122.62,2,    34.59,2,     0.00,2,  -999.00,5, -999.000,9, -999.000,9,   -999.0,9,   -999.0,9,  -999.00,9, -999.00,  1.6201
     3250031_1,   P31,     4,  1,     13,     13,2,19940126,1804,-16.9527,-150.3035, 3895,   2706.2,   1.7687,  34.6646,2,  34.6646,2,    161.1,2,    160.4,2,   123.19,2,    34.70,2,     0.00,2,  -999.00,5,    0.007,2,    0.014,3,   -999.0,9,   -999.0,9,  -999.00,9, -999.00,  1.5739
     3250031_1,   P31,     4,  1,     12,     12,2,19940126,1804,-16.9527,-150.3035, 3895,   2804.2,   1.7522,  34.6664,2,  34.6657,2,    159.5,2,    160.6,2,   123.57,2,    34.60,2,     0.00,2,  -999.00,5, -999.000,9, -999.000,9,   -999.0,9,   -999.0,9,  -999.00,9, -999.00,  1.5486
     3250031_1,   P31,     4,  1,     11,     11,2,19940126,1804,-16.9527,-150.3035, 3895,   2903.8,   1.7192,  34.6693,2,  34.6685,2,    162.0,2,    162.3,2,   123.74,2,    34.55,2,     0.00,2,  -999.00,5, -999.000,9, -999.000,9,   -999.0,9,   -999.0,9,  -999.00,9, -999.00,  1.5069
     3250031_1,   P31,     4,  1,     10,     10,2,19940126,1804,-16.9527,-150.3035, 3895,   3004.9,   1.6892,  34.6721,2,  34.6714,2,    163.6,2,    163.4,2,   124.12,2,    34.61,2,     0.00,2,  -999.00,5,    0.007,2,   -0.004,2,   -999.0,9,   -999.0,9,  -999.00,9, -999.00,  1.4677
     3250031_1,   P31,     4,  1,      9,      9,2,19940126,1804,-16.9527,-150.3035, 3895,   3111.1,   1.6418,  34.6761,2,  34.6751,2,    166.9,2,    165.2,2,   124.69,2,    34.56,2,     0.00,2,     2.43,2, -999.000,9, -999.000,9,   -999.0,9,   -999.0,9,  -999.00,9, -999.00,  1.4111
     3250031_1,   P31,     4,  1,      8,      8,2,19940126,1804,-16.9527,-150.3035, 3895,   3216.5,   1.6085,  34.6784,2,  34.6776,2,    166.7,2,    169.6,2,   124.26,2,    34.31,2,     0.00,2,     2.41,2, -999.000,9, -999.000,9,   -999.0,9,   -999.0,9,  -999.00,9, -999.00,  1.3682
     3250031_1,   P31,     4,  1,      7,      7,2,19940126,1804,-16.9527,-150.3035, 3895,   3322.0,   1.5749,  34.6811,2,  34.6803,2,    170.5,2,    169.9,2,   124.24,2,    34.16,2,     0.00,2,     2.42,2, -999.000,9, -999.000,9,   -999.0,9,   -999.0,9,  -999.00,9, -999.00,  1.3250
     3250031_1,   P31,     4,  1,      6,      6,2,19940126,1804,-16.9527,-150.3035, 3895,   3425.8,   1.5528,  34.6832,2,  34.6828,2,    171.7,2,    171.1,2,   124.01,2,    34.11,2,     0.00,2,     2.42,2,    0.013,2,   -0.005,2,   -999.0,9,   -999.0,9,  -999.00,9, -999.00,  1.2928
     3250031_1,   P31,     4,  1,      5,      5,3,19940126,1804,-16.9527,-150.3035, 3895,   3529.7,   1.5239,  34.6857,2,  34.6985,4,    173.2,2,    173.1,4,   121.57,4,    33.61,4,     0.00,4,     2.39,4,    0.015,2,    0.000,2,   -999.0,9,   -999.0,9,  -999.00,9, -999.00,  1.2541
     3250031_1,   P31,     4,  1,      4,      4,2,19940126,1804,-16.9527,-150.3035, 3895,   3633.0,   1.5133,  34.6869,2,  34.6849,2,    174.4,2,    174.2,2,   123.35,2,    33.87,2,     0.00,2,     2.40,2,    0.007,6,    0.004,6,   -999.0,9,   -999.0,9,  -999.00,9, -999.00,  1.2331
     3250031_1,   P31,     4,  1,      3,      3,2,19940126,1804,-16.9527,-150.3035, 3895,   3735.0,   1.4988,  34.6886,2,  34.6873,2,    173.7,2,    175.7,2,   123.32,2,    33.77,2,     0.00,2,     2.39,2,    0.008,2,   -0.002,2,   -999.0,9,   -999.0,9,  -999.00,9, -999.00,  1.2083
     3250031_1,   P31,     4,  1,      2,      2,2,19940126,1804,-16.9527,-150.3035, 3895,   3836.9,   1.4927,  34.6896,2,  34.6892,2,    177.5,2,    176.3,2,   123.30,2,    33.62,2,     0.00,2,     2.40,2, -999.000,9, -999.000,9,   -999.0,9,   -999.0,9,  -999.00,9, -999.00,  1.1915
     3250031_1,   P31,     4,  1,      1,      1,2,19940126,1804,-16.9527,-150.3035, 3895,   3938.2,   1.4847,  34.6908,2,  34.6904,2,    179.5,2,    177.0,2,   123.47,2,    33.57,2,     0.00,2,     2.39,2,    0.007,2,   -0.005,2,   -999.0,9,   -999.0,9,  -999.00,9, -999.00,  1.1729