BOTTLE,20020814WHPSIOdm
EXPOCODE,SECT_ID,STNNBR,CASTNO,SAMPNO,BTLNBR,BTLNBR_FLAG_W,DATE,TIME,LATITUDE,LONGITUDE,DEPTH,CTDPRS,CTDTMP,CTDSAL,CTDSAL_FLAG_W,SALNTY,SALNTY_FLAG_W,CTDOXY,CTDOXY_FLAG_W,OXYGEN,OXYGEN_FLAG_W,SILCAT,SILCAT_FLAG_W,NITRAT,NITRAT_FLAG_W,NITRIT,NITRIT_FLAG_W,PHSPHT,PHSPHT_FLAG_W,CFC-11,CFC-11_FLAG_W,CFC-12,CFC-12_FLAG_W,TCARBN,TCARBN_FLAG_W,ALKALI,ALKALI_FLAG_W,PH,PH_FLAG_W,PHTEMP,THETA
,,,,,,,,,,,,DBAR,ITS-90,PSS-78,,PSS-78,,UMOL/KG,,UMOL/KG,,UMOL/KG,,UMOL/KG,,UMOL/KG,,UMOL/KG,,PMOL/KG,,PMOL/KG,,UMOL/KG,,UMOL/KG,,,,DEG C,DEG C
     3250031_1,   P31,    68,  1,     32,     32,2,19940213,0348, -9.9178,-172.7692, 3932,      4.3,  29.7608,  33.7586,2,  33.7574,2,    189.4,2,    193.3,2,     1.64,2,     0.15,2,     0.00,2,     0.15,2,    1.617,3,    0.897,3,   -999.0,9,   -999.0,9,  -999.00,9, -999.00, 29.7598
     3250031_1,   P31,    68,  1,     31,     31,9,19940213,0348, -9.9178,-172.7692, 3932,     12.5,  29.6995,  33.7552,2,-999.0000,9,    190.2,2,   -999.0,9,  -999.00,9,  -999.00,9,  -999.00,9,  -999.00,9, -999.000,9, -999.000,9,   -999.0,9,   -999.0,9,  -999.00,9, -999.00, 29.6964
     3250031_1,   P31,    68,  1,     30,     30,2,19940213,0348, -9.9178,-172.7692, 3932,     57.3,  30.0920,  34.8876,2,  34.9325,2,    199.1,2,    200.8,2,     1.80,2,     0.15,2,     0.00,2,     0.24,2,    1.634,3,    0.905,3,   -999.0,9,   -999.0,9,  -999.00,9, -999.00, 30.0777
     3250031_1,   P31,    68,  1,     29,     29,2,19940213,0348, -9.9178,-172.7692, 3932,    107.4,  27.3208,  35.8801,2,  35.8809,2,    162.7,2,    154.6,2,     2.50,2,     4.19,2,     0.65,2,     0.62,2,    1.712,3,    0.913,3,   -999.0,9,   -999.0,9,  -999.00,9, -999.00, 27.2959
     3250031_1,   P31,    68,  1,     28,     28,2,19940213,0348, -9.9178,-172.7692, 3932,    206.1,  21.4820,  35.9768,2,  35.9794,2,    143.5,2,    141.6,2,     2.85,2,     7.90,2,     0.02,2,     0.81,2,    1.877,3,    0.953,3,   -999.0,9,   -999.0,9,  -999.00,9, -999.00, 21.4417
     3250031_1,   P31,    68,  1,     27,     27,2,19940213,0348, -9.9178,-172.7692, 3932,    306.9,  12.7404,  34.9379,2,  34.9383,2,     93.4,2,     93.0,2,    14.96,2,    21.99,2,     0.00,2,     1.73,2,    0.643,2,    0.348,2,   -999.0,9,   -999.0,9,  -999.00,9, -999.00, 12.6986
     3250031_1,   P31,    68,  1,     26,     26,2,19940213,0348, -9.9178,-172.7692, 3932,    404.4,   9.5684,  34.6980,2,  34.6957,2,    111.4,2,    111.3,2,    23.58,2,    27.68,2,     0.00,2,     1.97,2, -999.000,9, -999.000,9,   -999.0,9,   -999.0,9,  -999.00,9, -999.00,  9.5225
     3250031_1,   P31,    68,  1,     25,     25,2,19940213,0348, -9.9178,-172.7692, 3932,    503.2,   7.9056,  34.5984,2,  34.5988,2,    113.8,2,    115.5,2,    32.02,2,    31.06,2,     0.00,2,     2.14,2,    0.095,2,    0.061,2,   -999.0,9,   -999.0,9,  -999.00,9, -999.00,  7.8544
     3250031_1,   P31,    68,  1,     24,     24,2,19940213,0348, -9.9178,-172.7692, 3932,    602.7,   7.0011,  34.5521,2,  34.5513,2,    117.6,2,    117.8,2,    38.44,2,    32.78,2,     0.00,2,     2.26,2,    0.058,2,    0.031,2,   -999.0,9,   -999.0,9,  -999.00,9, -999.00,  6.9434
     3250031_1,   P31,    68,  1,     23,     23,2,19940213,0348, -9.9178,-172.7692, 3932,    703.5,   6.1588,  34.5206,2,  34.5211,2,    124.1,2,    120.3,2,    45.96,2,    34.19,2,     0.00,2,     2.36,2,    0.037,2,    0.016,2,   -999.0,9,   -999.0,9,  -999.00,9, -999.00,  6.0955
     3250031_1,   P31,    68,  1,     22,     22,2,19940213,0348, -9.9178,-172.7692, 3932,    803.6,   5.4501,  34.5046,2,  34.5058,2,    120.3,2,    122.8,2,    53.50,2,    35.13,2,     0.00,2,     2.43,2,    0.017,2,    0.004,2,   -999.0,9,   -999.0,9,  -999.00,9, -999.00,  5.3815
     3250031_1,   P31,    68,  1,     21,     21,2,19940213,0348, -9.9178,-172.7692, 3932,    903.9,   4.8698,  34.5092,2,  34.5087,2,    118.6,2,    119.5,2,    63.09,2,    36.50,2,     0.00,2,     2.52,2, -999.000,9, -999.000,9,   -999.0,9,   -999.0,9,  -999.00,9, -999.00,  4.7961
     3250031_1,   P31,    68,  1,     20,     20,2,19940213,0348, -9.9178,-172.7692, 3932,   1004.5,   4.2759,  34.5237,2,  34.5243,2,    116.7,2,    119.4,2,    74.76,2,    37.18,2,     0.00,2,     2.57,2,    0.006,3,    0.002,3,   -999.0,9,   -999.0,9,  -999.00,9, -999.00,  4.1977
     3250031_1,   P31,    68,  1,     19,     19,2,19940213,0348, -9.9178,-172.7692, 3932,   1206.5,   3.5174,  34.5529,2,  34.5540,2,    125.8,2,    126.6,2,    90.11,2,    37.18,2,     0.00,2,     2.57,2, -999.000,9, -999.000,9,   -999.0,9,   -999.0,9,  -999.00,9, -999.00,  3.4286
     3250031_1,   P31,    68,  1,     18,     18,2,19940213,0348, -9.9178,-172.7692, 3932,   1409.5,   2.9940,  34.5788,2,  34.5795,2,    131.3,2,    132.6,2,   100.93,2,    37.02,2,     0.00,2,     2.56,2, -999.000,9, -999.000,9,   -999.0,9,   -999.0,9,  -999.00,9, -999.00,  2.8937
     3250031_1,   P31,    68,  1,     17,     17,2,19940213,0348, -9.9178,-172.7692, 3932,   1613.4,   2.5832,  34.6034,2,  34.6039,2,    137.3,2,    137.5,2,   110.37,2,    36.80,2,     0.00,2,     2.54,2,    0.008,3,   -0.001,3,   -999.0,9,   -999.0,9,  -999.00,9, -999.00,  2.4709
     3250031_1,   P31,    68,  1,     16,     16,2,19940213,0348, -9.9178,-172.7692, 3932,   1817.8,   2.3183,  34.6229,2,  34.6226,2,    139.3,2,    139.0,2,   118.40,2,    36.80,2,     0.00,2,     2.54,2, -999.000,9, -999.000,9,   -999.0,9,   -999.0,9,  -999.00,9, -999.00,  2.1925
     3250031_1,   P31,    68,  1,     15,     15,2,19940213,0348, -9.9178,-172.7692, 3932,   2020.0,   2.1525,  34.6365,2,  34.6369,2,    138.5,2,    137.7,2,   124.36,2,    36.85,2,     0.00,2,     2.55,2, -999.000,9, -999.000,9,   -999.0,9,   -999.0,9,  -999.00,9, -999.00,  2.0120
     3250031_1,   P31,    68,  1,     14,     14,2,19940213,0348, -9.9178,-172.7692, 3932,   2223.5,   1.9754,  34.6494,2,  34.6505,2,    139.5,2,    138.4,2,   129.81,2,    36.80,2,     0.00,2,     2.54,2,    0.003,3,    0.000,3,   -999.0,9,   -999.0,9,  -999.00,9, -999.00,  1.8202
     3250031_1,   P31,    68,  1,     13,     13,2,19940213,0348, -9.9178,-172.7692, 3932,   2428.1,   1.8597,  34.6582,2,  34.6601,2,    140.8,2,    140.0,2,   133.06,2,    36.80,2,     0.00,2,     2.54,2, -999.000,9, -999.000,9,   -999.0,9,   -999.0,9,  -999.00,9, -999.00,  1.6885
     3250031_1,   P31,    68,  1,     12,     12,2,19940213,0348, -9.9178,-172.7692, 3932,   2632.2,   1.7908,  34.6635,2,  34.6633,2,    142.5,2,    141.7,2,   135.52,2,    36.74,2,     0.00,2,     2.53,2, -999.000,9, -999.000,9,   -999.0,9,   -999.0,9,  -999.00,9, -999.00,  1.6024
     3250031_1,   P31,    68,  1,     11,     11,2,19940213,0348, -9.9178,-172.7692, 3932,   2834.6,   1.7167,  34.6693,2,  34.6706,2,    146.8,2,    145.6,2,   137.16,2,    36.48,2,     0.00,2,     2.52,2, -999.000,9, -999.000,9,   -999.0,9,   -999.0,9,  -999.00,9, -999.00,  1.5110
     3250031_1,   P31,    68,  1,     10,     10,2,19940213,0348, -9.9178,-172.7692, 3932,   3038.4,   1.6558,  34.6740,2,  34.6736,2,    148.8,2,    149.5,2,   137.13,2,    36.27,2,     0.00,2,     2.50,2,    0.005,3,   -0.001,3,   -999.0,9,   -999.0,9,  -999.00,9, -999.00,  1.4319
     3250031_1,   P31,    68,  1,      9,      9,2,19940213,0348, -9.9178,-172.7692, 3932,   3140.0,   1.6390,  34.6753,2,  34.6757,2,    150.6,2,    151.2,2,   137.53,2,    36.22,2,     0.00,2,     2.49,2, -999.000,9, -999.000,9,   -999.0,9,   -999.0,9,  -999.00,9, -999.00,  1.4056
     3250031_1,   P31,    68,  1,      8,      8,2,19940213,0348, -9.9178,-172.7692, 3932,   3241.8,   1.6109,  34.6778,2,  34.6765,2,    152.9,2,    153.2,2,   137.50,2,    36.06,2,     0.00,2,     2.48,2, -999.000,9, -999.000,9,   -999.0,9,   -999.0,9,  -999.00,9, -999.00,  1.3681
     3250031_1,   P31,    68,  1,      7,      7,2,19940213,0348, -9.9178,-172.7692, 3932,   3342.9,   1.5830,  34.6795,2,  34.6807,2,    155.1,2,    155.2,2,   137.06,2,    35.84,2,     0.00,2,     2.47,2, -999.000,9, -999.000,9,   -999.0,9,   -999.0,9,  -999.00,9, -999.00,  1.3308
     3250031_1,   P31,    68,  1,      6,      6,2,19940213,0348, -9.9178,-172.7692, 3932,   3444.8,   1.5648,  34.6811,2,  34.6819,2,    156.5,2,    157.1,2,   135.79,2,    35.63,2,     0.00,2,     2.46,2, -999.000,9, -999.000,9,   -999.0,9,   -999.0,9,  -999.00,9, -999.00,  1.3027
     3250031_1,   P31,    68,  1,      5,      5,2,19940213,0348, -9.9178,-172.7692, 3932,   3547.3,   1.5291,  34.6831,2,  34.6825,2,    160.4,2,    160.3,2,   134.73,2,    35.48,2,     0.00,2,     2.45,2, -999.000,9, -999.000,9,   -999.0,9,   -999.0,9,  -999.00,9, -999.00,  1.2573
     3250031_1,   P31,    68,  1,      4,      4,2,19940213,0348, -9.9178,-172.7692, 3932,   3648.3,   1.5024,  34.6854,2,  34.6843,2,    162.8,2,    163.9,2,   134.29,2,    35.32,2,     0.00,2,     2.44,2, -999.000,9, -999.000,9,   -999.0,9,   -999.0,9,  -999.00,9, -999.00,  1.2209
     3250031_1,   P31,    68,  1,      3,      3,2,19940213,0348, -9.9178,-172.7692, 3932,   3750.9,   1.4748,  34.6875,2,  34.6865,2,    165.2,2,    165.5,2,   134.06,2,    35.11,2,     0.00,2,     2.42,2,    0.011,3,    0.007,3,   -999.0,9,   -999.0,9,  -999.00,9, -999.00,  1.1833
     3250031_1,   P31,    68,  1,      2,      2,2,19940213,0348, -9.9178,-172.7692, 3932,   3853.0,   1.4496,  34.6897,2,  34.6888,2,    168.8,2,    169.4,2,   132.60,2,    34.90,2,     0.00,2,     2.40,2, -999.000,9, -999.000,9,   -999.0,9,   -999.0,9,  -999.00,9, -999.00,  1.1479
     3250031_1,   P31,    68,  1,      1,      1,2,19940213,0348, -9.9178,-172.7692, 3932,   3910.2,   1.4475,  34.6904,2,  34.6904,2,    170.9,2,    170.2,2,   132.16,2,    34.79,2,     0.00,2,     2.40,2, -999.000,9, -999.000,9,   -999.0,9,   -999.0,9,  -999.00,9, -999.00,  1.1398
     3250031_1,   P31,    69,  1,     33,     33,2,19940213,0848, -9.9942,-173.2152, 3968,      2.7,  29.6205,  33.8206,2,  33.8232,2,    192.6,2,    193.0,2,     1.34,2,     0.15,2,     0.00,2,     0.13,2, -999.000,9, -999.000,9,   -999.0,9,   -999.0,9,  -999.00,9, -999.00, 29.6199
     3250031_1,   P31,    69,  1,     32,     32,2,19940213,0848, -9.9942,-173.2152, 3968,     12.2,  29.6127,  33.8210,2,  33.8212,2,    188.2,2,    193.1,2,     1.33,2,     0.15,2,     0.00,2,     0.13,2, -999.000,9, -999.000,9,   -999.0,9,   -999.0,9,  -999.00,9, -999.00, 29.6097
     3250031_1,   P31,    69,  1,     31,     31,2,19940213,0848, -9.9942,-173.2152, 3968,     57.2,  30.1969,  34.8058,2,  34.8379,2,    196.1,2,    200.1,2,     1.49,2,     0.15,2,     0.00,2,     0.22,2, -999.000,9, -999.000,9,   -999.0,9,   -999.0,9,  -999.00,9, -999.00, 30.1827
     3250031_1,   P31,    69,  1,     30,     30,2,19940213,0848, -9.9942,-173.2152, 3968,    107.4,  27.0164,  35.8970,2,  35.9224,2,    154.1,2,    152.8,2,     2.03,2,     4.22,2,     0.55,2,     0.61,2, -999.000,9, -999.000,9,   -999.0,9,   -999.0,9,  -999.00,9, -999.00, 26.9917
     3250031_1,   P31,    69,  1,     29,     29,2,19940213,0848, -9.9942,-173.2152, 3968,    207.7,  20.2453,  35.8135,2,  35.8114,2,    137.8,2,    134.4,2,     3.30,2,     9.38,2,     0.01,2,     0.90,2, -999.000,9, -999.000,9,   -999.0,9,   -999.0,9,  -999.00,9, -999.00, 20.2064
     3250031_1,   P31,    69,  1,     28,     28,2,19940213,0848, -9.9942,-173.2152, 3968,    308.1,  13.9689,  35.0481,2,  35.0641,2,    107.0,2,    104.5,2,    11.00,2,    18.49,2,     0.00,2,     1.51,2, -999.000,9, -999.000,9,   -999.0,9,   -999.0,9,  -999.00,9, -999.00, 13.9242
     3250031_1,   P31,    69,  1,     27,     27,2,19940213,0848, -9.9942,-173.2152, 3968,    408.1,  10.2216,  34.7453,2,  34.7450,2,     92.4,2,     91.7,2,    22.57,2,    27.78,2,     0.00,2,     2.00,2, -999.000,9, -999.000,9,   -999.0,9,   -999.0,9,  -999.00,9, -999.00, 10.1732
     3250031_1,   P31,    69,  1,     26,     26,2,19940213,0848, -9.9942,-173.2152, 3968,    508.6,   7.9524,  34.5803,2,  34.5764,2,    132.3,2,    130.6,2,    27.89,2,    29.23,2,     0.00,2,     2.04,2, -999.000,9, -999.000,9,   -999.0,9,   -999.0,9,  -999.00,9, -999.00,  7.9004
     3250031_1,   P31,    69,  1,     25,     25,2,19940213,0848, -9.9942,-173.2152, 3968,    609.5,   6.7202,  34.5211,2,  34.5220,2,    139.6,2,    132.9,2,    36.52,2,    31.78,2,     0.00,2,     2.18,2, -999.000,9, -999.000,9,   -999.0,9,   -999.0,9,  -999.00,9, -999.00,  6.6632
     3250031_1,   P31,    69,  1,     24,     24,2,19940213,0848, -9.9942,-173.2152, 3968,    709.8,   6.0515,  34.5004,2,  34.4993,2,    129.8,2,    135.8,2,    43.14,2,    32.97,2,     0.00,2,     2.25,2, -999.000,9, -999.000,9,   -999.0,9,   -999.0,9,  -999.00,9, -999.00,  5.9881
     3250031_1,   P31,    69,  1,     23,     23,2,19940213,0848, -9.9942,-173.2152, 3968,    810.5,   5.4048,  34.5087,2,  34.5074,2,    114.6,2,    116.5,2,    55.47,2,    36.11,2,     0.00,2,     2.46,2, -999.000,9, -999.000,9,   -999.0,9,   -999.0,9,  -999.00,9, -999.00,  5.3359
     3250031_1,   P31,    69,  1,     22,     22,2,19940213,0848, -9.9942,-173.2152, 3968,    910.9,   4.8030,  34.5127,2,  34.5137,2,    114.8,2,    116.5,2,    65.82,2,    36.95,2,     0.00,2,     2.53,2, -999.000,9, -999.000,9,   -999.0,9,   -999.0,9,  -999.00,9, -999.00,  4.7290
     3250031_1,   P31,    69,  1,     21,     21,2,19940213,0848, -9.9942,-173.2152, 3968,   1012.7,   4.4019,  34.5217,2,  34.5213,2,    115.8,2,    117.2,2,    73.42,2,    37.26,2,     0.00,2,     2.56,2, -999.000,9, -999.000,9,   -999.0,9,   -999.0,9,  -999.00,9, -999.00,  4.3221
     3250031_1,   P31,    69,  1,     20,     20,2,19940213,0848, -9.9942,-173.2152, 3968,   1214.9,   3.5495,  34.5523,2,  34.5508,2,    124.2,2,    126.1,2,    89.89,2,    37.16,2,     0.00,2,     2.55,2, -999.000,9, -999.000,9,   -999.0,9,   -999.0,9,  -999.00,9, -999.00,  3.4597
     3250031_1,   P31,    69,  1,     19,     19,2,19940213,0848, -9.9942,-173.2152, 3968,   1417.3,   2.9327,  34.5826,2,  34.5834,2,    130.7,2,    133.2,2,   102.45,2,    36.95,2,     0.00,2,     2.54,2, -999.000,9, -999.000,9,   -999.0,9,   -999.0,9,  -999.00,9, -999.00,  2.8324
     3250031_1,   P31,    69,  1,     18,     18,2,19940213,0848, -9.9942,-173.2152, 3968,   1619.8,   2.5803,  34.6041,2,  34.6041,2,    140.2,2,    137.3,2,   110.36,2,    36.74,2,     0.00,2,     2.51,2, -999.000,9, -999.000,9,   -999.0,9,   -999.0,9,  -999.00,9, -999.00,  2.4675
     3250031_1,   P31,    69,  1,     17,     17,2,19940213,0848, -9.9942,-173.2152, 3968,   1821.9,   2.2822,  34.6259,2,  34.6265,2,    138.4,2,    138.8,2,   119.00,2,    36.79,2,     0.00,2,     2.51,2, -999.000,9, -999.000,9,   -999.0,9,   -999.0,9,  -999.00,9, -999.00,  2.1566
     3250031_1,   P31,    69,  1,     16,     16,2,19940213,0848, -9.9942,-173.2152, 3968,   2025.5,   2.0866,  34.6410,2,  34.6403,2,    140.3,2,    139.2,2,   125.59,2,    36.74,2,     0.00,2,     2.52,2, -999.000,9, -999.000,9,   -999.0,9,   -999.0,9,  -999.00,9, -999.00,  1.9466
     3250031_1,   P31,    69,  1,     15,     15,2,19940213,0848, -9.9942,-173.2152, 3968,   2227.4,   1.9590,  34.6514,2,  34.6505,2,    139.6,2,    137.9,2,   131.68,2,    36.95,2,     0.00,2,     2.52,2, -999.000,9, -999.000,9,   -999.0,9,   -999.0,9,  -999.00,9, -999.00,  1.8037
     3250031_1,   P31,    69,  1,     14,     14,2,19940213,0848, -9.9942,-173.2152, 3968,   2427.5,   1.8573,  34.6590,2,  34.6592,2,    139.7,2,    140.4,2,   133.93,2,    36.85,2,     0.00,2,     2.52,2, -999.000,9, -999.000,9,   -999.0,9,   -999.0,9,  -999.00,9, -999.00,  1.6862
     3250031_1,   P31,    69,  1,     13,     13,2,19940213,0848, -9.9942,-173.2152, 3968,   2632.3,   1.7836,  34.6648,2,  34.6659,2,    143.6,2,    143.0,2,   135.37,2,    36.69,2,     0.00,2,     2.51,2, -999.000,9, -999.000,9,   -999.0,9,   -999.0,9,  -999.00,9, -999.00,  1.5953
     3250031_1,   P31,    69,  1,     12,     12,2,19940213,0848, -9.9942,-173.2152, 3968,   2837.8,   1.7217,  34.6696,2,  34.6698,2,    145.6,2,    145.6,2,   135.98,2,    36.54,2,     0.00,2,     2.49,2, -999.000,9, -999.000,9,   -999.0,9,   -999.0,9,  -999.00,9, -999.00,  1.5156
     3250031_1,   P31,    69,  1,     11,     11,2,19940213,0848, -9.9942,-173.2152, 3968,   3043.4,   1.6518,  34.6752,2,  34.6741,2,    150.6,2,    150.0,2,   136.60,2,    36.17,2,     0.00,2,     2.47,2, -999.000,9, -999.000,9,   -999.0,9,   -999.0,9,  -999.00,9, -999.00,  1.4275
     3250031_1,   P31,    69,  1,     10,     10,2,19940213,0848, -9.9942,-173.2152, 3968,   3145.4,   1.6301,  34.6767,2,  34.6749,2,    152.8,2,    151.7,2,   136.59,2,    36.12,2,     0.00,2,     2.46,2, -999.000,9, -999.000,9,   -999.0,9,   -999.0,9,  -999.00,9, -999.00,  1.3963
     3250031_1,   P31,    69,  1,      9,      9,2,19940213,0848, -9.9942,-173.2152, 3968,   3247.4,   1.6005,  34.6788,2,  34.6777,2,    155.0,2,    153.8,2,   136.37,2,    35.96,2,     0.00,2,     2.46,2, -999.000,9, -999.000,9,   -999.0,9,   -999.0,9,  -999.00,9, -999.00,  1.3574
     3250031_1,   P31,    69,  1,      8,      8,2,19940213,0848, -9.9942,-173.2152, 3968,   3349.3,   1.5811,  34.6801,2,  34.6789,2,    156.2,2,    154.9,2,   135.74,2,    35.86,2,     0.00,2,     2.45,2, -999.000,9, -999.000,9,   -999.0,9,   -999.0,9,  -999.00,9, -999.00,  1.3283
     3250031_1,   P31,    69,  1,      7,      7,2,19940213,0848, -9.9942,-173.2152, 3968,   3451.5,   1.5539,  34.6822,2,  34.6817,2,    158.0,2,    157.1,2,   134.69,2,    35.65,2,     0.00,2,     2.43,2, -999.000,9, -999.000,9,   -999.0,9,   -999.0,9,  -999.00,9, -999.00,  1.2913
     3250031_1,   P31,    69,  1,      6,      6,2,19940213,0848, -9.9942,-173.2152, 3968,   3553.8,   1.5164,  34.6846,2,  34.6841,2,    160.7,2,    160.5,2,   134.27,2,    35.39,2,     0.00,2,     2.41,2, -999.000,9, -999.000,9,   -999.0,9,   -999.0,9,  -999.00,9, -999.00,  1.2443
     3250031_1,   P31,    69,  1,      5,      5,2,19940213,0848, -9.9942,-173.2152, 3968,   3655.5,   1.4841,  34.6866,2,  34.6854,2,    162.3,2,    164.0,2,   133.43,2,    35.23,2,     0.00,2,     2.40,2, -999.000,9, -999.000,9,   -999.0,9,   -999.0,9,  -999.00,9, -999.00,  1.2023
     3250031_1,   P31,    69,  1,      4,      4,2,19940213,0848, -9.9942,-173.2152, 3968,   3756.9,   1.4540,  34.6893,2,  34.6880,2,    167.5,2,    167.5,2,   133.01,2,    35.08,2,     0.00,2,     2.38,2, -999.000,9, -999.000,9,   -999.0,9,   -999.0,9,  -999.00,9, -999.00,  1.1624
     3250031_1,   P31,    69,  1,      3,      3,2,19940213,0848, -9.9942,-173.2152, 3968,   3858.4,   1.4298,  34.6908,2,  34.6896,2,    170.8,2,    170.3,2,   132.38,2,    34.82,2,     0.00,2,     2.37,2, -999.000,9, -999.000,9,   -999.0,9,   -999.0,9,  -999.00,9, -999.00,  1.1281
     3250031_1,   P31,    69,  1,      2,      2,2,19940213,0848, -9.9942,-173.2152, 3968,   3960.2,   1.3626,  34.6956,2,  34.6936,2,    177.4,2,    177.9,2,   128.90,2,    34.24,2,     0.00,2,     2.33,2, -999.000,9, -999.000,9,   -999.0,9,   -999.0,9,  -999.00,9, -999.00,  1.0518
     3250031_1,   P31,    69,  1,      1,      1,2,19940213,0848, -9.9942,-173.2152, 3968,   3989.4,   1.2650,  34.7018,2,  34.7012,2,    184.8,2,    188.0,2,   124.23,2,    33.41,2,     0.00,2,     2.28,2, -999.000,9, -999.000,9,   -999.0,9,   -999.0,9,  -999.00,9, -999.00,  0.9537