BOTTLE,20020814WHPSIOdm
EXPOCODE,SECT_ID,STNNBR,CASTNO,SAMPNO,BTLNBR,BTLNBR_FLAG_W,DATE,TIME,LATITUDE,LONGITUDE,DEPTH,CTDPRS,CTDTMP,CTDSAL,CTDSAL_FLAG_W,SALNTY,SALNTY_FLAG_W,CTDOXY,CTDOXY_FLAG_W,OXYGEN,OXYGEN_FLAG_W,SILCAT,SILCAT_FLAG_W,NITRAT,NITRAT_FLAG_W,NITRIT,NITRIT_FLAG_W,PHSPHT,PHSPHT_FLAG_W,CFC-11,CFC-11_FLAG_W,CFC-12,CFC-12_FLAG_W,TCARBN,TCARBN_FLAG_W,ALKALI,ALKALI_FLAG_W,PH,PH_FLAG_W,PHTEMP,THETA
,,,,,,,,,,,,DBAR,ITS-90,PSS-78,,PSS-78,,UMOL/KG,,UMOL/KG,,UMOL/KG,,UMOL/KG,,UMOL/KG,,UMOL/KG,,PMOL/KG,,PMOL/KG,,UMOL/KG,,UMOL/KG,,,,DEG C,DEG C
     3250031_1,   P31,    44,  1,     32,     32,2,19940204,1808, -9.8323,-166.4657, 3751,      3.1,  29.8715,  34.4374,2,  34.4377,2,    190.5,2,    193.6,2,     1.76,2,     0.00,2,     0.00,2,     0.18,2,    1.556,2,    0.864,2,   -999.0,9,   -999.0,9,  -999.00,9, -999.00, 29.8707
     3250031_1,   P31,    44,  1,     31,     31,2,19940204,1808, -9.8323,-166.4657, 3751,     15.4,  29.8711,  34.4367,2,  34.4357,2,    210.4,2,    193.6,2,     1.55,2,     0.00,2,     0.00,2,     0.19,2,    1.529,2,    0.826,2,   -999.0,9,   -999.0,9,  -999.00,9, -999.00, 29.8673
     3250031_1,   P31,    44,  1,     30,     30,2,19940204,1808, -9.8323,-166.4657, 3751,     55.6,  29.8858,  34.4943,2,  34.4948,2,    191.8,2,    193.9,2,     1.52,2,     0.00,2,     0.00,2,     0.19,2,    1.553,2,    0.842,2,   -999.0,9,   -999.0,9,  -999.00,9, -999.00, 29.8720
     3250031_1,   P31,    44,  1,     29,     29,2,19940204,1808, -9.8323,-166.4657, 3751,    106.2,  27.8706,  36.0050,2,  36.0046,2,    185.7,2,    181.7,2,     1.86,2,     0.50,2,     0.11,2,     0.36,2,    1.636,2,    0.880,2,   -999.0,9,   -999.0,9,  -999.00,9, -999.00, 27.8455
     3250031_1,   P31,    44,  1,     28,     28,2,19940204,1808, -9.8323,-166.4657, 3751,    206.3,  19.6602,  35.7451,2,  35.8054,2,    149.8,2,    147.5,2,     3.09,2,     7.84,2,     0.01,2,     0.81,2,    1.786,2,    0.920,2,   -999.0,9,   -999.0,9,  -999.00,9, -999.00, 19.6224
     3250031_1,   P31,    44,  1,     27,     27,2,19940204,1808, -9.8323,-166.4657, 3751,    307.0,  13.4704,  35.0090,2,  35.0042,2,    103.2,2,     96.0,2,    13.21,2,    20.35,2,     0.00,2,     1.64,2,    0.806,2,    0.410,2,   -999.0,9,   -999.0,9,  -999.00,9, -999.00, 13.4269
     3250031_1,   P31,    44,  1,     26,     26,2,19940204,1808, -9.8323,-166.4657, 3751,    407.5,   9.1864,  34.6565,2,  34.6488,2,    105.4,2,    105.4,2,    25.14,2,    28.48,2,     0.00,2,     2.05,2,    0.146,2,    0.083,2,   -999.0,9,   -999.0,9,  -999.00,9, -999.00,  9.1412
     3250031_1,   P31,    44,  1,     25,     25,2,19940204,1808, -9.8323,-166.4657, 3751,    507.5,   7.5632,  34.5679,2,  34.5654,2,    119.0,2,    120.9,2,    32.54,2,    30.92,2,     0.00,2,     2.16,2,    0.070,2,    0.038,2,   -999.0,9,   -999.0,9,  -999.00,9, -999.00,  7.5128
     3250031_1,   P31,    44,  1,     24,     24,2,19940204,1808, -9.8323,-166.4657, 3751,    606.9,   6.6126,  34.5293,2,  34.5288,2,    118.9,2,    119.5,2,    40.66,2,    33.12,2,     0.00,2,     2.31,2, -999.000,9, -999.000,9,   -999.0,9,   -999.0,9,  -999.00,9, -999.00,  6.5563
     3250031_1,   P31,    44,  1,     23,     23,2,19940204,1808, -9.8323,-166.4657, 3751,    706.5,   5.9046,  34.5140,2,  34.5123,2,    114.0,2,    114.9,2,    49.34,2,    34.99,2,     0.00,2,     2.44,2, -999.000,9, -999.000,9,   -999.0,9,   -999.0,9,  -999.00,9, -999.00,  5.8423
     3250031_1,   P31,    44,  1,     22,     22,2,19940204,1808, -9.8323,-166.4657, 3751,    805.4,   5.3561,  34.5104,2,  34.5118,2,    115.6,2,    116.1,2,    57.48,2,    35.84,2,     0.00,2,     2.49,2, -999.000,9, -999.000,9,   -999.0,9,   -999.0,9,  -999.00,9, -999.00,  5.2879
     3250031_1,   P31,    44,  1,     21,     21,2,19940204,1808, -9.8323,-166.4657, 3751,    904.5,   4.8602,  34.5135,2,  34.5135,2,    115.2,2,    116.6,2,    65.28,2,    36.63,2,     0.00,2,     2.54,2, -999.000,9, -999.000,9,   -999.0,9,   -999.0,9,  -999.00,9, -999.00,  4.7865
     3250031_1,   P31,    44,  1,     20,     20,2,19940204,1808, -9.8323,-166.4657, 3751,   1004.6,   4.4311,  34.5237,2,  34.5216,2,    118.0,2,    117.9,2,    73.47,2,    36.89,2,     0.00,2,     2.57,2, -999.000,9, -999.000,9,   -999.0,9,   -999.0,9,  -999.00,9, -999.00,  4.3517
     3250031_1,   P31,    44,  1,     19,     19,2,19940204,1808, -9.8323,-166.4657, 3751,   1211.5,   3.6712,  34.5480,2,  34.5465,2,    125.8,2,    124.7,2,    88.56,2,    36.84,2,     0.00,2,     2.58,2, -999.000,9, -999.000,9,   -999.0,9,   -999.0,9,  -999.00,9, -999.00,  3.5806
     3250031_1,   P31,    44,  1,     18,     18,2,19940204,1808, -9.8323,-166.4657, 3751,   1415.5,   3.0777,  34.5752,2,  34.5746,2,    131.4,2,    131.7,2,   100.50,2,    36.70,2,     0.00,2,     2.56,2, -999.000,9, -999.000,9,   -999.0,9,   -999.0,9,  -999.00,9, -999.00,  2.9760
     3250031_1,   P31,    44,  1,     17,     17,2,19940204,1808, -9.8323,-166.4657, 3751,   1618.0,   2.6832,  34.5978,2,  34.5968,2,    136.2,2,    136.5,2,   108.84,2,    36.41,2,     0.00,2,     2.53,2, -999.000,9, -999.000,9,   -999.0,9,   -999.0,9,  -999.00,9, -999.00,  2.5693
     3250031_1,   P31,    44,  1,     16,     16,2,19940204,1808, -9.8323,-166.4657, 3751,   1820.7,   2.3226,  34.6228,2,  34.6216,2,    139.0,2,    139.9,2,   118.29,2,    36.27,2,     0.00,2,     2.53,2, -999.000,9, -999.000,9,   -999.0,9,   -999.0,9,  -999.00,9, -999.00,  2.1965
     3250031_1,   P31,    44,  1,     15,     15,9,19940204,1808, -9.8323,-166.4657, 3751,   2023.6,   2.1217,  34.6379,2,-999.0000,9,    139.3,2,   -999.0,9,  -999.00,9,  -999.00,9,  -999.00,9,  -999.00,9, -999.000,9, -999.000,9,   -999.0,9,   -999.0,9,  -999.00,9, -999.00,  1.9814
     3250031_1,   P31,    44,  1,     14,     14,2,19940204,1808, -9.8323,-166.4657, 3751,   2225.4,   1.9687,  34.6509,2,  34.6509,2,    139.1,2,    138.5,2,   132.21,2,    36.52,2,     0.00,2,     2.54,2, -999.000,9, -999.000,9,   -999.0,9,   -999.0,9,  -999.00,9, -999.00,  1.8135
     3250031_1,   P31,    44,  1,     13,     13,2,19940204,1808, -9.8323,-166.4657, 3751,   2428.6,   1.8639,  34.6588,2,  34.6589,2,    143.6,2,    143.3,2,   133.38,2,    36.23,2,     0.00,2,     2.52,2, -999.000,9, -999.000,9,   -999.0,9,   -999.0,9,  -999.00,9, -999.00,  1.6926
     3250031_1,   P31,    44,  1,     12,     12,2,19940204,1808, -9.8323,-166.4657, 3751,   2633.4,   1.7768,  34.6652,2,  34.6656,2,    146.4,2,    147.5,2,   134.97,2,    35.99,2,     0.00,2,     2.50,2, -999.000,9, -999.000,9,   -999.0,9,   -999.0,9,  -999.00,9, -999.00,  1.5885
     3250031_1,   P31,    44,  1,     11,     11,2,19940204,1808, -9.8323,-166.4657, 3751,   2735.8,   1.7402,  34.6681,2,  34.6670,2,    149.4,2,    148.5,2,   134.09,2,    35.75,2,     0.00,2,     2.49,2, -999.000,9, -999.000,9,   -999.0,9,   -999.0,9,  -999.00,9, -999.00,  1.5432
     3250031_1,   P31,    44,  1,     10,     10,2,19940204,1808, -9.8323,-166.4657, 3751,   2836.3,   1.6914,  34.6713,2,  34.6686,3,    151.2,2,    151.4,2,   134.66,2,    35.61,2,     0.00,2,     2.48,2, -999.000,9, -999.000,9,   -999.0,9,   -999.0,9,  -999.00,9, -999.00,  1.4860
     3250031_1,   P31,    44,  1,      9,      9,2,19940204,1808, -9.8323,-166.4657, 3751,   2939.0,   1.6772,  34.6727,2,  34.6713,2,    153.5,2,    152.4,2,   135.02,2,    35.61,2,     0.00,2,     2.47,2, -999.000,9, -999.000,9,   -999.0,9,   -999.0,9,  -999.00,9, -999.00,  1.4623
     3250031_1,   P31,    44,  1,      8,      8,2,19940204,1808, -9.8323,-166.4657, 3751,   3039.9,   1.6354,  34.6755,2,  34.6751,2,    154.0,2,    154.8,2,   135.17,2,    35.52,2,     0.00,2,     2.46,2, -999.000,9, -999.000,9,   -999.0,9,   -999.0,9,  -999.00,9, -999.00,  1.4118
     3250031_1,   P31,    44,  1,      7,      7,2,19940204,1808, -9.8323,-166.4657, 3751,   3141.6,   1.6215,  34.6770,2,  34.6763,2,    155.4,2,    155.7,2,   135.74,2,    35.58,2,     0.00,2,     2.46,2, -999.000,9, -999.000,9,   -999.0,9,   -999.0,9,  -999.00,9, -999.00,  1.3883
     3250031_1,   P31,    44,  1,      6,      6,2,19940204,1808, -9.8323,-166.4657, 3751,   3244.2,   1.6012,  34.6786,2,  34.6784,2,    157.0,2,    157.3,2,   135.48,2,    35.49,2,     0.00,2,     2.45,2,    0.006,2,   -0.001,2,   -999.0,9,   -999.0,9,  -999.00,9, -999.00,  1.3584
     3250031_1,   P31,    44,  1,      5,      5,2,19940204,1808, -9.8323,-166.4657, 3751,   3344.2,   1.5569,  34.6813,2,  34.6810,2,    160.2,2,    160.8,2,   135.02,2,    35.29,2,     0.00,2,     2.43,2,    0.005,2,   -0.002,2,   -999.0,9,   -999.0,9,  -999.00,9, -999.00,  1.3052
     3250031_1,   P31,    44,  1,      4,      4,2,19940204,1808, -9.8323,-166.4657, 3751,   3447.2,   1.5231,  34.6830,2,  34.6832,2,    161.7,2,    163.2,2,   133.74,2,    34.95,2,     0.00,2,     2.42,2,    0.066,4,    0.038,4,   -999.0,9,   -999.0,9,  -999.00,9, -999.00,  1.2617
     3250031_1,   P31,    44,  1,      3,      3,2,19940204,1808, -9.8323,-166.4657, 3751,   3549.6,   1.5068,  34.6847,2,  34.6841,2,    166.8,2,    164.7,2,   132.67,2,    34.86,2,     0.00,2,     2.41,2,    0.002,2,   -0.004,2,   -999.0,9,   -999.0,9,  -999.00,9, -999.00,  1.2354
     3250031_1,   P31,    44,  1,      2,      2,2,19940204,1808, -9.8323,-166.4657, 3751,   3651.6,   1.4889,  34.6854,2,  34.6855,2,    165.5,2,    166.6,2,   132.41,2,    34.72,2,     0.00,2,     2.40,2,    0.004,4,    0.000,4,   -999.0,9,   -999.0,9,  -999.00,9, -999.00,  1.2074
     3250031_1,   P31,    44,  1,      1,      1,2,19940204,1808, -9.8323,-166.4657, 3751,   3783.4,   1.4530,  34.6880,2,  34.6877,2,    170.2,2,    169.8,2,   132.77,2,    34.53,2,     0.00,2,     2.38,2,    0.003,2,    0.003,2,   -999.0,9,   -999.0,9,  -999.00,9, -999.00,  1.1586
     3250031_1,   P31,    45,  1,     32,     32,2,19940204,2300, -9.9143,-166.9183, 3697,      2.1,  29.9655,  34.3744,2,  34.3757,2,    192.4,2,    194.0,2,     1.51,2,     0.00,2,     0.00,2,     0.17,2,    1.548,2,    0.871,2,   1894.8,2,   2258.2,2,     8.16,2,   25.00, 29.9650
     3250031_1,   P31,    45,  1,     31,     31,2,19940204,2300, -9.9143,-166.9183, 3697,     16.2,  29.9354,  34.3852,2,  34.3861,2,    171.3,2,    194.4,2,     1.31,2,     0.00,2,     0.00,2,     0.17,2,    1.521,2,    0.820,2,   1894.1,2,   -999.0,9,     8.16,2,   25.00, 29.9314
     3250031_1,   P31,    45,  1,     30,     30,2,19940204,2300, -9.9143,-166.9183, 3697,     56.5,  29.9911,  34.6078,2,  34.7178,2,    190.0,2,    197.4,2,     1.29,2,     0.00,2,     0.00,2,     0.18,2,    1.525,6,    0.810,6,   1913.9,2,   2285.7,2,     8.15,2,   25.00, 29.9771
     3250031_1,   P31,    45,  1,     29,     29,2,19940204,2300, -9.9143,-166.9183, 3697,    106.5,  27.1283,  36.1313,2,  36.1282,2,    185.0,2,    173.0,2,     1.64,2,     1.02,2,     0.18,2,     0.41,2,    1.681,2,    0.896,2,   2038.9,2,   -999.0,9,     8.08,2,   25.00, 27.1036
     3250031_1,   P31,    45,  1,     28,     28,2,19940204,2300, -9.9143,-166.9183, 3697,    206.6,  20.0500,  35.8091,2,  35.7973,2,    144.6,2,    144.0,2,     3.07,2,     8.34,2,     0.01,2,     0.83,2,    1.754,2,    0.900,2,   2122.3,2,   2356.9,2,     7.91,2,   25.00, 20.0115
     3250031_1,   P31,    45,  1,     27,     27,9,19940204,2300, -9.9143,-166.9183, 3697,    307.1,  13.8448,  35.0416,2,-999.0000,9,     94.8,2,   -999.0,9,  -999.00,9,  -999.00,9,  -999.00,9,  -999.00,9, -999.000,9, -999.000,9,   -999.0,9,   -999.0,9,  -999.00,9, -999.00, 13.8005
     3250031_1,   P31,    45,  1,     26,     26,2,19940204,2300, -9.9143,-166.9183, 3697,    406.3,  10.0994,  34.7225,2,  34.7209,2,    101.3,2,     99.0,2,    22.35,2,    27.12,2,     0.00,2,     1.98,2,    0.230,2,    0.117,6,   2207.0,2,   2303.6,2,     7.62,2,   25.00, 10.0517
     3250031_1,   P31,    45,  1,     25,     25,2,19940204,2300, -9.9143,-166.9183, 3697,    504.5,   8.2037,  34.5988,2,  34.5985,2,    122.7,2,    125.0,2,    28.15,2,    29.18,2,     0.00,2,     2.04,2,    0.131,2,    0.075,2,   2206.4,2,   -999.0,9,     7.61,2,   25.00,  8.1512
     3250031_1,   P31,    45,  1,     24,     24,2,19940204,2300, -9.9143,-166.9183, 3697,    603.0,   6.7706,  34.5347,2,  34.5355,2,    120.7,2,    120.3,2,    39.24,2,    32.82,2,     0.00,2,     2.27,2, -999.000,9, -999.000,9,   2227.5,2,   2309.7,2,     7.57,2,   25.00,  6.7139
     3250031_1,   P31,    45,  1,     23,     23,2,19940204,2300, -9.9143,-166.9183, 3697,    699.5,   6.0407,  34.5172,2,  34.5168,2,    112.5,2,    115.2,2,    47.78,2,    34.90,2,     0.00,2,     2.41,2,    0.021,2,    0.004,2,   2241.2,2,   2316.1,2,     7.55,2,   25.00,  5.9784
     3250031_1,   P31,    45,  1,     22,     22,2,19940204,2300, -9.9143,-166.9183, 3697,    794.6,   5.3408,  34.5101,2,  34.5116,2,    113.7,2,    115.4,2,    57.25,2,    36.14,2,     0.00,2,     2.49,2, -999.000,9, -999.000,9,   2253.9,2,   2328.5,2,     7.54,2,   25.00,  5.2737
     3250031_1,   P31,    45,  1,     21,     21,2,19940204,2300, -9.9143,-166.9183, 3697,    891.1,   4.8083,  34.5149,2,  34.5159,2,    115.0,2,    116.7,2,    66.57,2,    36.79,2,     0.00,2,     2.54,2,    0.005,2,   -0.004,2,   2265.4,2,   -999.0,9,     7.53,2,   25.00,  4.7360
     3250031_1,   P31,    45,  1,     20,     20,2,19940204,2300, -9.9143,-166.9183, 3697,    991.3,   4.3408,  34.5251,2,  34.5263,2,    116.8,2,    115.6,2,    75.37,2,    36.99,2,     0.00,2,     2.56,2, -999.000,9, -999.000,9,   2274.2,2,   2344.3,2,     7.53,2,   25.00,  4.2632
     3250031_1,   P31,    45,  1,     19,     19,2,19940204,2300, -9.9143,-166.9183, 3697,   1198.6,   3.7228,  34.5453,2,  34.5465,2,    126.1,2,    126.0,2,    87.21,2,    36.80,2,     0.00,2,     2.56,2, -999.000,9, -999.000,9,   2284.9,2,   2357.9,2,     7.54,2,   25.00,  3.6327
     3250031_1,   P31,    45,  1,     18,     18,2,19940204,2300, -9.9143,-166.9183, 3697,   1412.7,   3.0783,  34.5750,2,  34.5756,2,    131.8,2,    132.2,2,    99.95,2,    36.55,2,     0.00,2,     2.55,2, -999.000,9, -999.000,9,   2297.9,2,   -999.0,9,     7.55,2,   25.00,  2.9768
     3250031_1,   P31,    45,  1,     17,     17,2,19940204,2300, -9.9143,-166.9183, 3697,   1616.1,   2.7085,  34.5959,2,  34.5960,2,    135.8,2,    137.5,2,   107.36,2,    36.26,2,     0.00,2,     2.54,2, -999.000,9, -999.000,9,   2302.3,2,   2383.8,2,     7.55,2,   25.00,  2.5945
     3250031_1,   P31,    45,  1,     16,     16,2,19940204,2300, -9.9143,-166.9183, 3697,   1812.0,   2.3649,  34.6200,2,  34.6208,2,    141.3,2,    139.3,2,   116.25,2,    36.26,2,     0.00,2,     2.53,2, -999.000,9, -999.000,9,   2302.3,2,   2393.2,2,     7.56,2,   25.00,  2.2389
     3250031_1,   P31,    45,  1,     15,     15,2,19940204,2300, -9.9143,-166.9183, 3697,   2006.8,   2.1716,  34.6346,2,  34.6357,2,    142.8,2,    140.5,2,   122.13,2,    36.41,2,     0.00,2,     2.53,2,   -0.001,2,   -0.005,2,   2317.1,2,   2400.9,2,     7.56,2,   25.00,  2.0320
     3250031_1,   P31,    45,  1,     14,     14,2,19940204,2300, -9.9143,-166.9183, 3697,   2210.1,   2.0338,  34.6460,2,  34.6477,2,    143.5,2,    140.9,2,   127.09,2,    36.37,2,     0.00,2,     2.52,2, -999.000,9, -999.000,9,   2322.2,2,   -999.0,9,     7.56,2,   25.00,  1.8788
     3250031_1,   P31,    45,  1,     13,     13,2,19940204,2300, -9.9143,-166.9183, 3697,   2421.9,   1.8558,  34.6591,2,  34.6621,3,    143.1,2,    144.1,2,   132.53,2,    36.22,2,     0.00,2,     2.51,2, -999.000,9, -999.000,9,   2324.9,2,   2410.1,2,     7.57,2,   25.00,  1.6852
     3250031_1,   P31,    45,  1,     12,     12,2,19940204,2300, -9.9143,-166.9183, 3697,   2628.6,   1.7634,  34.6665,2,  34.6684,3,    148.2,2,    148.6,2,   134.13,2,    35.97,2,     0.00,2,     2.51,2,    0.003,2,   -0.005,2,   2323.4,2,   -999.0,9,     7.57,2,   25.00,  1.5758
     3250031_1,   P31,    45,  1,     11,     11,2,19940204,2300, -9.9143,-166.9183, 3697,   2726.6,   1.7179,  34.6696,2,  34.6699,2,    149.4,2,    151.1,2,   134.72,2,    35.88,2,     0.00,2,     2.49,2, -999.000,9, -999.000,9,   2322.7,2,   2412.5,2,     7.58,2,   25.00,  1.5222
     3250031_1,   P31,    45,  1,     10,     10,2,19940204,2300, -9.9143,-166.9183, 3697,   2823.2,   1.7072,  34.6703,2,  34.6713,2,    150.1,2,    150.6,2,   134.89,2,    35.88,2,     0.00,2,     2.48,2, -999.000,9, -999.000,9,   -999.0,9,   -999.0,9,     7.58,2,   25.00,  1.5027
     3250031_1,   P31,    45,  1,      9,      9,2,19940204,2300, -9.9143,-166.9183, 3697,   2920.0,   1.6823,  34.6726,2,  34.6731,2,    152.4,2,    153.0,2,   135.07,2,    35.84,2,     0.00,2,     2.48,2, -999.000,9, -999.000,9,   2321.4,2,   2414.9,2,     7.58,2,   25.00,  1.4691
     3250031_1,   P31,    45,  1,      8,      8,2,19940204,2300, -9.9143,-166.9183, 3697,   3021.1,   1.6461,  34.6749,2,  34.6763,2,    154.6,2,    154.3,2,   135.04,2,    35.59,2,     0.00,2,     2.47,2,   -0.001,2,   -0.004,2,   2320.2,2,   -999.0,9,     7.58,2,   25.00,  1.4240
     3250031_1,   P31,    45,  1,      7,      7,2,19940204,2300, -9.9143,-166.9183, 3697,   3123.5,   1.6087,  34.6770,2,  34.6792,3,    156.6,2,    156.6,2,   135.21,2,    35.45,2,     0.00,2,     2.46,2, -999.000,9, -999.000,9,   2317.4,2,   2410.9,2,     7.58,2,   25.00,  1.3776
     3250031_1,   P31,    45,  1,      6,      6,2,19940204,2300, -9.9143,-166.9183, 3697,   3229.0,   1.5943,  34.6790,2,  34.6804,2,    157.4,2,    157.5,2,   135.38,2,    35.45,2,     0.00,2,     2.45,2, -999.000,9, -999.000,9,   2317.3,2,   -999.0,9,     7.58,2,   25.00,  1.3531
     3250031_1,   P31,    45,  1,      5,      5,2,19940204,2300, -9.9143,-166.9183, 3697,   3332.5,   1.5736,  34.6802,2,  34.6802,2,    159.2,2,    159.6,2,   135.35,2,    35.30,2,     0.00,2,     2.44,2,    0.017,2,    0.007,2,   2315.7,2,   2410.3,2,     7.58,2,   25.00,  1.3226
     3250031_1,   P31,    45,  1,      4,      4,2,19940204,2300, -9.9143,-166.9183, 3697,   3437.9,   1.5506,  34.6821,2,  34.6822,2,    160.7,2,    161.4,2,   135.11,2,    35.16,2,     0.00,2,     2.44,2, -999.000,9, -999.000,9,   2314.8,2,   -999.0,9,     7.59,2,   25.00,  1.2895
     3250031_1,   P31,    45,  1,      3,      3,2,19940204,2300, -9.9143,-166.9183, 3697,   3541.1,   1.5253,  34.6836,2,  34.6839,2,    162.8,2,    163.3,2,   134.88,2,    35.06,2,     0.00,2,     2.44,2,    0.017,4,   -0.002,2,   2312.5,2,   2406.8,2,     7.59,2,   25.00,  1.2543
     3250031_1,   P31,    45,  1,      2,      2,2,19940204,2300, -9.9143,-166.9183, 3697,   3641.7,   1.5027,  34.6851,2,  34.6859,2,    164.1,2,    165.8,2,   134.23,2,    34.82,2,     0.00,2,     2.45,2, -999.000,9, -999.000,9,   2310.3,2,   2447.4,3,     7.59,2,   25.00,  1.2219
     3250031_1,   P31,    45,  1,      1,      1,2,19940204,2300, -9.9143,-166.9183, 3697,   3732.2,   1.4926,  34.6860,2,  34.6885,2,    167.5,2,    165.7,2,   133.38,2,    34.67,2,     0.00,2,     2.42,2,    0.009,2,   -0.003,2,   2308.9,2,   2391.1,3,     7.59,2,   25.00,  1.2026