BOTTLE,20020814WHPSIOdm
EXPOCODE,SECT_ID,STNNBR,CASTNO,SAMPNO,BTLNBR,BTLNBR_FLAG_W,DATE,TIME,LATITUDE,LONGITUDE,DEPTH,CTDPRS,CTDTMP,CTDSAL,CTDSAL_FLAG_W,SALNTY,SALNTY_FLAG_W,CTDOXY,CTDOXY_FLAG_W,OXYGEN,OXYGEN_FLAG_W,SILCAT,SILCAT_FLAG_W,NITRAT,NITRAT_FLAG_W,NITRIT,NITRIT_FLAG_W,PHSPHT,PHSPHT_FLAG_W,CFC-11,CFC-11_FLAG_W,CFC-12,CFC-12_FLAG_W,TCARBN,TCARBN_FLAG_W,ALKALI,ALKALI_FLAG_W,PH,PH_FLAG_W,PHTEMP,THETA
,,,,,,,,,,,,DBAR,ITS-90,PSS-78,,PSS-78,,UMOL/KG,,UMOL/KG,,UMOL/KG,,UMOL/KG,,UMOL/KG,,UMOL/KG,,PMOL/KG,,PMOL/KG,,UMOL/KG,,UMOL/KG,,,,DEG C,DEG C
     3250031_1,   P31,    25,  1,     36,     36,2,19940131,2052,-12.5340,-159.7637, 5124,      2.0,  29.7672,  35.1119,2,  35.1120,2,    199.0,3,    194.5,2,     1.48,2,     0.00,2,     0.00,2,     0.19,2, -999.000,9, -999.000,9,   -999.0,9,   -999.0,9,  -999.00,9, -999.00, 29.7667
     3250031_1,   P31,    25,  1,     35,     35,2,19940131,2052,-12.5340,-159.7637, 5124,     15.4,  29.6340,  35.1226,2,  35.1226,2,    189.1,3,    193.6,2,     1.46,2,     0.00,2,     0.00,2,     0.19,2, -999.000,9, -999.000,9,   -999.0,9,   -999.0,9,  -999.00,9, -999.00, 29.6303
     3250031_1,   P31,    25,  1,     34,     34,2,19940131,2052,-12.5340,-159.7637, 5124,     55.4,  28.7065,  36.0011,2,  35.9741,2,    195.3,2,    203.6,2,     1.25,2,     0.00,2,     0.00,2,     0.21,2, -999.000,9, -999.000,9,   -999.0,9,   -999.0,9,  -999.00,9, -999.00, 28.6932
     3250031_1,   P31,    25,  1,     33,     33,2,19940131,2052,-12.5340,-159.7637, 5124,    105.4,  27.2349,  36.2683,2,  36.2699,2,    206.5,2,    198.9,2,     1.22,2,     0.00,2,     0.00,2,     0.25,2, -999.000,9, -999.000,9,   -999.0,9,   -999.0,9,  -999.00,9, -999.00, 27.2105
     3250031_1,   P31,    25,  1,     32,     32,2,19940131,2052,-12.5340,-159.7637, 5124,    204.7,  21.5082,  36.0438,2,  36.0398,2,    171.1,2,    165.8,2,     1.57,2,     4.79,2,     0.01,2,     0.58,2, -999.000,9, -999.000,9,   -999.0,9,   -999.0,9,  -999.00,9, -999.00, 21.4681
     3250031_1,   P31,    25,  1,     31,     31,2,19940131,2052,-12.5340,-159.7637, 5124,    305.3,  14.7601,  35.0854,2,  35.0669,2,    139.8,2,    134.4,2,     7.47,2,    13.95,2,     0.00,2,     1.23,2, -999.000,9, -999.000,9,   -999.0,9,   -999.0,9,  -999.00,9, -999.00, 14.7142
     3250031_1,   P31,    25,  1,     30,     30,2,19940131,2052,-12.5340,-159.7637, 5124,    404.6,   9.9479,  34.6597,2,  34.6548,2,    115.6,2,    116.8,2,    19.85,2,    25.43,2,     0.00,2,     1.90,2, -999.000,9, -999.000,9,   -999.0,9,   -999.0,9,  -999.00,9, -999.00,  9.9008
     3250031_1,   P31,    25,  1,     29,     29,2,19940131,2052,-12.5340,-159.7637, 5124,    604.6,   6.1525,  34.4909,2,  34.4897,2,    140.0,2,    138.0,2,    40.02,2,    32.19,2,     0.00,2,     2.23,2, -999.000,9, -999.000,9,   -999.0,9,   -999.0,9,  -999.00,9, -999.00,  6.0986
     3250031_1,   P31,    25,  1,     28,     28,2,19940131,2052,-12.5340,-159.7637, 5124,    804.7,   5.1779,  34.4911,2,  34.4900,2,    130.5,2,    132.3,2,    55.03,2,    34.37,2,     0.00,2,     2.40,2, -999.000,9, -999.000,9,   -999.0,9,   -999.0,9,  -999.00,9, -999.00,  5.1109
     3250031_1,   P31,    25,  1,     27,     27,2,19940131,2052,-12.5340,-159.7637, 5124,   1005.6,   4.2976,  34.5118,2,  34.5116,2,    127.4,2,    129.9,2,    71.79,2,    35.69,2,     0.00,2,     2.49,2, -999.000,9, -999.000,9,   -999.0,9,   -999.0,9,  -999.00,9, -999.00,  4.2191
     3250031_1,   P31,    25,  1,     26,     26,2,19940131,2052,-12.5340,-159.7637, 5124,   1255.8,   3.4535,  34.5530,2,  34.5511,2,    128.2,2,    129.3,2,    89.66,2,    36.27,2,     0.00,2,     2.55,2, -999.000,9, -999.000,9,   -999.0,9,   -999.0,9,  -999.00,9, -999.00,  3.3613
     3250031_1,   P31,    25,  1,     25,     25,2,19940131,2052,-12.5340,-159.7637, 5124,   1507.5,   2.8520,  34.5841,2,  34.5849,2,    134.0,2,    137.3,2,   100.72,2,    35.83,2,     0.00,2,     2.53,2, -999.000,9, -999.000,9,   -999.0,9,   -999.0,9,  -999.00,9, -999.00,  2.7453
     3250031_1,   P31,    25,  1,     24,     24,2,19940131,2052,-12.5340,-159.7637, 5124,   1758.7,   2.3759,  34.6153,2,  34.6145,2,    143.3,2,    144.8,2,   110.99,2,    35.48,2,     0.00,2,     2.51,2, -999.000,9, -999.000,9,   -999.0,9,   -999.0,9,  -999.00,9, -999.00,  2.2542
     3250031_1,   P31,    25,  1,     23,     23,2,19940131,2052,-12.5340,-159.7637, 5124,   2011.8,   2.1245,  34.6350,2,  34.6344,2,    149.3,2,    148.1,2,   117.68,2,    35.38,2,     0.00,2,     2.48,2, -999.000,9, -999.000,9,   -999.0,9,   -999.0,9,  -999.00,9, -999.00,  1.9852
     3250031_1,   P31,    25,  1,     22,     22,2,19940131,2052,-12.5340,-159.7637, 5124,   2263.7,   1.9711,  34.6499,2,  34.6479,2,    150.1,2,    149.3,2,   122.85,2,    35.33,2,     0.00,2,     2.48,2, -999.000,9, -999.000,9,   -999.0,9,   -999.0,9,  -999.00,9, -999.00,  1.8125
     3250031_1,   P31,    25,  1,     21,     21,2,19940131,2052,-12.5340,-159.7637, 5124,   2517.1,   1.8502,  34.6612,2,  34.6625,2,    151.1,2,    149.6,2,   128.70,2,    35.47,2,     0.00,2,     2.49,2, -999.000,9, -999.000,9,   -999.0,9,   -999.0,9,  -999.00,9, -999.00,  1.6712
     3250031_1,   P31,    25,  1,     20,     20,2,19940131,2052,-12.5340,-159.7637, 5124,   2769.0,   1.7641,  34.6696,2,  34.6697,2,    152.8,2,    151.0,2,   131.96,2,    35.37,2,     0.00,2,     2.48,2, -999.000,9, -999.000,9,   -999.0,9,   -999.0,9,  -999.00,9, -999.00,  1.5635
     3250031_1,   P31,    25,  1,     19,     19,2,19940131,2052,-12.5340,-159.7637, 5124,   3021.8,   1.6950,  34.6749,2,  34.6762,2,    155.2,2,    155.0,2,   132.76,2,    35.12,2,     0.00,2,     2.46,2, -999.000,9, -999.000,9,   -999.0,9,   -999.0,9,  -999.00,9, -999.00,  1.4719
     3250031_1,   P31,    25,  1,     18,     18,2,19940131,2052,-12.5340,-159.7637, 5124,   3222.6,   1.6335,  34.6785,2,  34.6793,2,    157.5,2,    159.9,2,   131.50,2,    34.72,2,     0.00,2,     2.44,2, -999.000,9, -999.000,9,   -999.0,9,   -999.0,9,  -999.00,9, -999.00,  1.3920
     3250031_1,   P31,    25,  1,     17,     17,2,19940131,2052,-12.5340,-159.7637, 5124,   3425.3,   1.5679,  34.6822,2,  34.6819,2,    166.3,2,    166.3,2,   129.84,2,    34.38,2,     0.00,2,     2.41,2, -999.000,9, -999.000,9,   -999.0,9,   -999.0,9,  -999.00,9, -999.00,  1.3077
     3250031_1,   P31,    25,  1,     16,     16,2,19940131,2052,-12.5340,-159.7637, 5124,   3627.8,   1.5056,  34.6860,2,  34.6882,2,    170.6,2,    172.1,2,   127.98,2,    33.94,2,     0.00,2,     2.38,2, -999.000,9, -999.000,9,   -999.0,9,   -999.0,9,  -999.00,9, -999.00,  1.2261
     3250031_1,   P31,    25,  1,     15,     15,2,19940131,2052,-12.5340,-159.7637, 5124,   3729.7,   1.4801,  34.6877,2,  34.6888,2,    173.1,2,    174.7,2,   127.14,2,    33.79,2,     0.00,2,     2.37,2, -999.000,9, -999.000,9,   -999.0,9,   -999.0,9,  -999.00,9, -999.00,  1.1906
     3250031_1,   P31,    25,  1,     14,     14,2,19940131,2052,-12.5340,-159.7637, 5124,   3830.9,   1.4608,  34.6894,2,  34.6897,2,    176.5,2,    176.6,2,   126.51,2,    33.64,2,     0.00,2,     2.36,2, -999.000,9, -999.000,9,   -999.0,9,   -999.0,9,  -999.00,9, -999.00,  1.1612
     3250031_1,   P31,    25,  1,     13,     13,2,19940131,2052,-12.5340,-159.7637, 5124,   3933.1,   1.4364,  34.6909,2,  34.6907,2,    178.3,2,    178.5,2,   126.09,2,    33.54,2,     0.00,2,     2.35,2, -999.000,9, -999.000,9,   -999.0,9,   -999.0,9,  -999.00,9, -999.00,  1.1265
     3250031_1,   P31,    25,  1,     12,     12,2,19940131,2052,-12.5340,-159.7637, 5124,   4036.3,   1.4288,  34.6917,2,  34.6905,2,    178.5,2,    179.3,2,   126.47,2,    33.39,2,     0.00,2,     2.34,2, -999.000,9, -999.000,9,   -999.0,9,   -999.0,9,  -999.00,9, -999.00,  1.1080
     3250031_1,   P31,    25,  1,     11,     11,2,19940131,2052,-12.5340,-159.7637, 5124,   4138.1,   1.4055,  34.6932,2,  34.6931,2,    178.7,2,    180.9,2,   126.65,2,    33.34,2,     0.00,2,     2.34,2, -999.000,9, -999.000,9,   -999.0,9,   -999.0,9,  -999.00,9, -999.00,  1.0741
     3250031_1,   P31,    25,  1,     10,     10,2,19940131,2052,-12.5340,-159.7637, 5124,   4240.7,   1.3883,  34.6951,2,  34.6948,2,    183.0,2,    182.7,2,   125.82,2,    33.09,2,     0.00,2,     2.34,2, -999.000,9, -999.000,9,   -999.0,9,   -999.0,9,  -999.00,9, -999.00,  1.0460
     3250031_1,   P31,    25,  1,      9,      9,2,19940131,2052,-12.5340,-159.7637, 5124,   4343.1,   1.3668,  34.6963,2,  34.6968,2,    185.4,2,    185.6,2,   124.38,2,    32.89,2,     0.00,2,     2.32,2, -999.000,9, -999.000,9,   -999.0,9,   -999.0,9,  -999.00,9, -999.00,  1.0137
     3250031_1,   P31,    25,  1,      8,      8,2,19940131,2052,-12.5340,-159.7637, 5124,   4445.8,   1.3469,  34.6976,2,  34.6978,2,    187.5,2,    187.8,2,   123.35,2,    32.75,2,     0.00,2,     2.31,2, -999.000,9, -999.000,9,   -999.0,9,   -999.0,9,  -999.00,9, -999.00,  0.9828
     3250031_1,   P31,    25,  1,      7,      7,2,19940131,2052,-12.5340,-159.7637, 5124,   4548.7,   1.3136,  34.7001,2,  34.6997,2,    191.1,2,    191.5,2,   122.52,2,    32.50,2,     0.00,2,     2.29,2,    0.011,3,   -0.007,2,   -999.0,9,   -999.0,9,  -999.00,9, -999.00,  0.9388
     3250031_1,   P31,    25,  1,      6,      6,2,19940131,2052,-12.5340,-159.7637, 5124,   4650.3,   1.2886,  34.7018,2,  34.7021,2,    193.7,2,    193.4,2,   121.90,2,    32.35,2,     0.00,2,     2.28,2,    0.006,2,   -0.004,2,   -999.0,9,   -999.0,9,  -999.00,9, -999.00,  0.9028
     3250031_1,   P31,    25,  1,      5,      5,2,19940131,2052,-12.5340,-159.7637, 5124,   4752.3,   1.2713,  34.7033,2,  34.7021,2,    194.7,2,    195.7,2,   121.48,2,    32.20,2,     0.00,2,     2.26,2,    0.018,3,   -0.001,2,   -999.0,9,   -999.0,9,  -999.00,9, -999.00,  0.8741
     3250031_1,   P31,    25,  1,      4,      4,2,19940131,2052,-12.5340,-159.7637, 5124,   4853.7,   1.2574,  34.7048,2,  34.7042,2,    196.9,2,    197.4,2,   121.25,2,    32.10,2,     0.00,2,     2.25,2,    0.009,3,   -0.003,2,   -999.0,9,   -999.0,9,  -999.00,9, -999.00,  0.8487
     3250031_1,   P31,    25,  1,      3,      3,2,19940131,2052,-12.5340,-159.7637, 5124,   4954.9,   1.2468,  34.7052,2,  34.7050,2,    198.8,2,    198.9,2,   120.83,2,    32.00,2,     0.00,2,     2.25,2,    0.013,2,   -0.006,2,   -999.0,9,   -999.0,9,  -999.00,9, -999.00,  0.8264
     3250031_1,   P31,    25,  1,      2,      2,2,19940131,2052,-12.5340,-159.7637, 5124,   5056.5,   1.2532,  34.7053,2,  34.7038,2,    198.7,2,    199.4,2,   121.01,2,    32.00,2,     0.00,2,     2.25,2,    0.053,4,    0.083,4,   -999.0,9,   -999.0,9,  -999.00,9, -999.00,  0.8204
     3250031_1,   P31,    25,  1,      1,      1,9,19940131,2052,-12.5340,-159.7637, 5124,   5228.2,   1.2665,  34.7057,2,-999.0000,9,    200.9,2,   -999.0,9,  -999.00,9,  -999.00,9,  -999.00,9,  -999.00,9, -999.000,9, -999.000,9,   -999.0,9,   -999.0,9,  -999.00,9, -999.00,  0.8122