BOTTLE,20020814WHPSIOdm
EXPOCODE,SECT_ID,STNNBR,CASTNO,SAMPNO,BTLNBR,BTLNBR_FLAG_W,DATE,TIME,LATITUDE,LONGITUDE,DEPTH,CTDPRS,CTDTMP,CTDSAL,CTDSAL_FLAG_W,SALNTY,SALNTY_FLAG_W,CTDOXY,CTDOXY_FLAG_W,OXYGEN,OXYGEN_FLAG_W,SILCAT,SILCAT_FLAG_W,NITRAT,NITRAT_FLAG_W,NITRIT,NITRIT_FLAG_W,PHSPHT,PHSPHT_FLAG_W,CFC-11,CFC-11_FLAG_W,CFC-12,CFC-12_FLAG_W,TCARBN,TCARBN_FLAG_W,ALKALI,ALKALI_FLAG_W,PH,PH_FLAG_W,PHTEMP,THETA
,,,,,,,,,,,,DBAR,ITS-90,PSS-78,,PSS-78,,UMOL/KG,,UMOL/KG,,UMOL/KG,,UMOL/KG,,UMOL/KG,,UMOL/KG,,PMOL/KG,,PMOL/KG,,UMOL/KG,,UMOL/KG,,,,DEG C,DEG C
     3250031_1,   P31,     7,  1,     36,     36,2,19940127,0957,-15.9978,-151.0018, 4126,      2.5,  29.6578,  35.9707,2,  35.9661,2,    194.2,2,    193.8,2,     1.84,2,     0.13,2,     0.00,2,     0.21,3, -999.000,9, -999.000,9,   -999.0,9,   -999.0,9,  -999.00,9, -999.00, 29.6571
     3250031_1,   P31,     7,  1,     35,     35,2,19940127,0957,-15.9978,-151.0018, 4126,     10.9,  29.3869,  35.9911,2,  35.9934,2,    199.0,2,    195.2,2,     1.45,2,     0.12,2,     0.00,2,     0.20,3, -999.000,9, -999.000,9,   -999.0,9,   -999.0,9,  -999.00,9, -999.00, 29.3843
     3250031_1,   P31,     7,  1,     34,     34,2,19940127,0957,-15.9978,-151.0018, 4126,     55.9,  27.2317,  36.3083,2,  36.3088,2,    198.6,2,    205.1,2,     1.43,2,     0.12,2,     0.00,2,     0.22,3, -999.000,9, -999.000,9,   -999.0,9,   -999.0,9,  -999.00,9, -999.00, 27.2187
     3250031_1,   P31,     7,  1,     33,     33,2,19940127,0957,-15.9978,-151.0018, 4126,    105.6,  25.8555,  36.4179,2,  36.4189,2,    199.5,2,    198.8,2,     1.22,2,     0.12,2,     0.00,2,     0.25,3, -999.000,9, -999.000,9,   -999.0,9,   -999.0,9,  -999.00,9, -999.00, 25.8319
     3250031_1,   P31,     7,  1,     32,     32,2,19940127,0957,-15.9978,-151.0018, 4126,    205.5,  21.8813,  36.0386,2,  36.0370,2,    171.0,2,    172.0,2,     1.38,2,     3.52,2,     0.01,2,     0.47,3, -999.000,9, -999.000,9,   -999.0,9,   -999.0,9,  -999.00,9, -999.00, 21.8405
     3250031_1,   P31,     7,  1,     31,     31,2,19940127,0957,-15.9978,-151.0018, 4126,    305.8,  16.0443,  35.2501,2,  35.2505,2,    168.6,2,    164.8,2,     3.94,2,     9.52,2,     0.01,2,     0.88,3, -999.000,9, -999.000,9,   -999.0,9,   -999.0,9,  -999.00,9, -999.00, 15.9956
     3250031_1,   P31,     7,  1,     30,     30,2,19940127,0957,-15.9978,-151.0018, 4126,    405.5,  11.6989,  34.7737,2,  34.7767,2,    147.3,2,    145.5,2,    10.54,2,    18.48,2,     0.00,2,     1.46,3, -999.000,9, -999.000,9,   -999.0,9,   -999.0,9,  -999.00,9, -999.00, 11.6465
     3250031_1,   P31,     7,  1,     29,     29,2,19940127,0957,-15.9978,-151.0018, 4126,    505.4,   8.4120,  34.5246,2,  34.5203,2,    138.4,2,    137.4,2,    20.84,2,    27.00,2,     0.00,2,     1.99,3, -999.000,9, -999.000,9,   -999.0,9,   -999.0,9,  -999.00,9, -999.00,  8.3587
     3250031_1,   P31,     7,  1,     28,     28,2,19940127,0957,-15.9978,-151.0018, 4126,    605.2,   6.6592,  34.4475,2,  34.4466,2,    149.3,2,    148.2,2,    28.74,2,    30.09,2,     0.00,2,     2.15,3, -999.000,9, -999.000,9,   -999.0,9,   -999.0,9,  -999.00,9, -999.00,  6.6030
     3250031_1,   P31,     7,  1,     27,     27,2,19940127,0957,-15.9978,-151.0018, 4126,    705.6,   5.6332,  34.4543,2,  34.4549,2,    137.5,2,    146.9,2,    42.55,2,    32.32,2,     0.00,2,     2.29,3, -999.000,9, -999.000,9,   -999.0,9,   -999.0,9,  -999.00,9, -999.00,  5.5726
     3250031_1,   P31,     7,  1,     26,     26,2,19940127,0957,-15.9978,-151.0018, 4126,    805.4,   4.9248,  34.4757,2,  34.4741,2,    141.6,2,    142.8,2,    55.09,2,    33.74,2,     0.00,2,     2.40,3, -999.000,9, -999.000,9,   -999.0,9,   -999.0,9,  -999.00,9, -999.00,  4.8593
     3250031_1,   P31,     7,  1,     25,     25,2,19940127,0957,-15.9978,-151.0018, 4126,    906.0,   4.4023,  34.4989,2,  34.5000,2,    138.7,2,    137.8,2,    66.94,2,    34.77,2,     0.00,2,     2.48,3, -999.000,9, -999.000,9,   -999.0,9,   -999.0,9,  -999.00,9, -999.00,  4.3316
     3250031_1,   P31,     7,  1,     24,     24,2,19940127,0957,-15.9978,-151.0018, 4126,   1006.5,   3.9967,  34.5179,2,  34.5170,2,    128.3,2,    136.1,2,    75.12,2,    35.36,2,     0.00,2,     2.52,3, -999.000,9, -999.000,9,   -999.0,9,   -999.0,9,  -999.00,9, -999.00,  3.9205
     3250031_1,   P31,     7,  1,     23,     23,2,19940127,0957,-15.9978,-151.0018, 4126,   1107.1,   3.6927,  34.5294,2,  34.5276,2,    138.4,2,    139.1,2,    80.54,2,    35.52,2,     0.00,2,     2.53,3, -999.000,9, -999.000,9,   -999.0,9,   -999.0,9,  -999.00,9, -999.00,  3.6106
     3250031_1,   P31,     7,  1,     22,     22,2,19940127,0957,-15.9978,-151.0018, 4126,   1207.0,   3.4293,  34.5423,2,  34.5415,2,    139.6,2,    139.9,2,    85.61,2,    35.67,2,     0.00,2,     2.55,3, -999.000,9, -999.000,9,   -999.0,9,   -999.0,9,  -999.00,9, -999.00,  3.3414
     3250031_1,   P31,     7,  1,     21,     21,2,19940127,0957,-15.9978,-151.0018, 4126,   1406.7,   2.9955,  34.5685,2,  34.5676,2,    141.3,2,    142.4,2,    95.64,2,    35.83,2,     0.00,2,     2.56,3, -999.000,9, -999.000,9,   -999.0,9,   -999.0,9,  -999.00,9, -999.00,  2.8955
     3250031_1,   P31,     7,  1,     20,     20,2,19940127,0957,-15.9978,-151.0018, 4126,   1607.2,   2.6031,  34.5958,2,  34.5945,2,    144.7,2,    145.1,2,   105.04,2,    35.64,2,     0.00,2,     2.55,3, -999.000,9, -999.000,9,   -999.0,9,   -999.0,9,  -999.00,9, -999.00,  2.4911
     3250031_1,   P31,     7,  1,     19,     19,2,19940127,0957,-15.9978,-151.0018, 4126,   1806.3,   2.3712,  34.6137,2,  34.6129,2,    148.5,2,    147.5,2,   111.25,2,    35.65,2,     0.00,2,     2.55,3, -999.000,9, -999.000,9,   -999.0,9,   -999.0,9,  -999.00,9, -999.00,  2.2456
     3250031_1,   P31,     7,  1,     18,     18,2,19940127,0957,-15.9978,-151.0018, 4126,   2007.2,   2.1756,  34.6296,2,  34.6288,2,    151.9,2,    150.3,2,   115.97,2,    35.36,2,     0.00,2,     2.55,3, -999.000,9, -999.000,9,   -999.0,9,   -999.0,9,  -999.00,9, -999.00,  2.0359
     3250031_1,   P31,     7,  1,     17,     17,2,19940127,0957,-15.9978,-151.0018, 4126,   2210.1,   2.0463,  34.6405,2,  34.6400,2,    154.6,2,    152.4,2,   119.14,2,    35.32,2,     0.00,2,     2.54,3, -999.000,9, -999.000,9,   -999.0,9,   -999.0,9,  -999.00,9, -999.00,  1.8911
     3250031_1,   P31,     7,  1,     16,     16,2,19940127,0957,-15.9978,-151.0018, 4126,   2413.0,   1.9135,  34.6519,2,  34.6520,2,    155.7,2,    155.5,2,   121.33,2,    35.08,2,     0.00,2,     2.52,3, -999.000,9, -999.000,9,   -999.0,9,   -999.0,9,  -999.00,9, -999.00,  1.7426
     3250031_1,   P31,     7,  1,     15,     15,2,19940127,0957,-15.9978,-151.0018, 4126,   2616.0,   1.8331,  34.6599,2,  34.6589,2,    157.6,2,    156.2,2,   124.74,2,    35.14,2,     0.00,2,     2.53,3, -999.000,9, -999.000,9,   -999.0,9,   -999.0,9,  -999.00,9, -999.00,  1.6454
     3250031_1,   P31,     7,  1,     14,     14,2,19940127,0957,-15.9978,-151.0018, 4126,   2819.6,   1.7501,  34.6664,2,  34.6667,2,    160.5,2,    159.7,2,   125.14,2,    34.90,2,     0.00,2,     2.52,3, -999.000,9, -999.000,9,   -999.0,9,   -999.0,9,  -999.00,9, -999.00,  1.5451
     3250031_1,   P31,     7,  1,     13,     13,2,19940127,0957,-15.9978,-151.0018, 4126,   2921.6,   1.7027,  34.6702,2,  34.6687,2,    162.3,2,    162.3,2,   125.34,2,    34.76,2,     0.00,2,     2.51,3, -999.000,9, -999.000,9,   -999.0,9,   -999.0,9,  -999.00,9, -999.00,  1.4890
     3250031_1,   P31,     7,  1,     12,     12,2,19940127,0957,-15.9978,-151.0018, 4126,   3023.7,   1.6573,  34.6738,2,  34.6728,2,    164.8,2,    164.5,2,   126.15,2,    34.63,2,     0.00,2,     2.52,3, -999.000,9, -999.000,9,   -999.0,9,   -999.0,9,  -999.00,9, -999.00,  1.4347
     3250031_1,   P31,     7,  1,     11,     11,2,19940127,0957,-15.9978,-151.0018, 4126,   3125.5,   1.6137,  34.6771,2,  34.6762,2,    167.1,2,    167.1,2,   125.74,2,    34.34,2,     0.00,2,     2.50,3, -999.000,9, -999.000,9,   -999.0,9,   -999.0,9,  -999.00,9, -999.00,  1.3823
     3250031_1,   P31,     7,  1,     10,     10,2,19940127,0957,-15.9978,-151.0018, 4126,   3227.4,   1.5843,  34.6795,2,  34.6773,2,    168.9,2,    168.4,2,   126.35,2,    34.30,2,     0.00,2,     2.50,3, -999.000,9, -999.000,9,   -999.0,9,   -999.0,9,  -999.00,9, -999.00,  1.3435
     3250031_1,   P31,     7,  1,      9,      9,2,19940127,0957,-15.9978,-151.0018, 4126,   3328.5,   1.5456,  34.6825,2,  34.6795,3,    171.0,2,    171.7,2,   125.54,2,    34.21,2,     0.00,2,     2.49,3, -999.000,9, -999.000,9,   -999.0,9,   -999.0,9,  -999.00,9, -999.00,  1.2956
     3250031_1,   P31,     7,  1,      8,      8,2,19940127,0957,-15.9978,-151.0018, 4126,   3428.8,   1.5165,  34.6847,2,  34.6834,2,    173.6,2,    173.7,2,   124.73,2,    34.12,2,     0.00,2,     2.48,3, -999.000,9, -999.000,9,   -999.0,9,   -999.0,9,  -999.00,9, -999.00,  1.2572
     3250031_1,   P31,     7,  1,      7,      7,2,19940127,0957,-15.9978,-151.0018, 4126,   3528.7,   1.4921,  34.6864,2,  34.6850,2,    174.6,2,    175.8,2,   124.53,2,    33.83,2,     0.00,2,     2.49,3, -999.000,9, -999.000,9,   -999.0,9,   -999.0,9,  -999.00,9, -999.00,  1.2232
     3250031_1,   P31,     7,  1,      6,      6,2,19940127,0957,-15.9978,-151.0018, 4126,   3628.1,   1.4820,  34.6875,2,  34.6868,2,    175.8,2,    176.6,2,   124.53,2,    33.79,2,     0.00,2,     2.48,3,    0.000,2,   -0.002,2,   -999.0,9,   -999.0,9,  -999.00,9, -999.00,  1.2031
     3250031_1,   P31,     7,  1,      5,      5,2,19940127,0957,-15.9978,-151.0018, 4126,   3728.0,   1.4850,  34.6880,2,  34.6874,2,    176.0,2,    177.1,2,   124.33,2,    33.80,2,     0.00,2,     2.48,3,    0.009,2,    0.008,2,   -999.0,9,   -999.0,9,  -999.00,9, -999.00,  1.1956
     3250031_1,   P31,     7,  1,      4,      4,2,19940127,0957,-15.9978,-151.0018, 4126,   3828.8,   1.4861,  34.6888,2,  34.6880,2,    175.9,2,    177.3,2,   124.53,2,    33.66,2,     0.00,2,     2.48,3,    0.002,4,    0.007,4,   -999.0,9,   -999.0,9,  -999.00,9, -999.00,  1.1860
     3250031_1,   P31,     7,  1,      3,      3,2,19940127,0957,-15.9978,-151.0018, 4126,   3930.5,   1.4812,  34.6896,2,  34.6890,2,    178.3,2,    178.6,2,   124.33,2,    33.62,2,     0.00,2,     2.48,3,    0.008,3,    0.003,2,   -999.0,9,   -999.0,9,  -999.00,9, -999.00,  1.1703
     3250031_1,   P31,     7,  1,      2,      2,2,19940127,0957,-15.9978,-151.0018, 4126,   4032.4,   1.4740,  34.6907,2,  34.6901,2,    178.9,2,    179.4,2,   123.72,2,    33.58,2,     0.00,2,     2.48,3,    0.006,2,    0.002,2,   -999.0,9,   -999.0,9,  -999.00,9, -999.00,  1.1523
     3250031_1,   P31,     7,  1,      1,      1,2,19940127,0957,-15.9978,-151.0018, 4126,   4179.8,   1.4762,  34.6917,2,  34.6913,2,    181.4,2,    179.6,2,   123.72,2,    33.54,2,     0.00,2,     2.48,3,    0.014,4,    0.000,2,   -999.0,9,   -999.0,9,  -999.00,9, -999.00,  1.1382