BOTTLE,20020814WHPSIOdm
EXPOCODE,SECT_ID,STNNBR,CASTNO,SAMPNO,BTLNBR,BTLNBR_FLAG_W,DATE,TIME,LATITUDE,LONGITUDE,DEPTH,CTDPRS,CTDTMP,CTDSAL,CTDSAL_FLAG_W,SALNTY,SALNTY_FLAG_W,CTDOXY,CTDOXY_FLAG_W,OXYGEN,OXYGEN_FLAG_W,SILCAT,SILCAT_FLAG_W,NITRAT,NITRAT_FLAG_W,NITRIT,NITRIT_FLAG_W,PHSPHT,PHSPHT_FLAG_W,CFC-11,CFC-11_FLAG_W,CFC-12,CFC-12_FLAG_W,TCARBN,TCARBN_FLAG_W,ALKALI,ALKALI_FLAG_W,PH,PH_FLAG_W,PHTEMP,THETA
,,,,,,,,,,,,DBAR,ITS-90,PSS-78,,PSS-78,,UMOL/KG,,UMOL/KG,,UMOL/KG,,UMOL/KG,,UMOL/KG,,UMOL/KG,,PMOL/KG,,PMOL/KG,,UMOL/KG,,UMOL/KG,,,,DEG C,DEG C
     3250031_1,   P31,    46,  1,     33,     33,2,19940205,0344, -9.9898,-167.3652, 3691,      2.6,  29.8062,  34.3555,2,  34.3578,2,    177.3,3,    193.9,2,     1.54,2,     0.00,2,     0.00,2,     0.17,2,    1.573,2,    0.842,2,   -999.0,9,   -999.0,9,  -999.00,9, -999.00, 29.8056
     3250031_1,   P31,    46,  1,     32,     32,2,19940205,0344, -9.9898,-167.3652, 3691,     11.8,  29.8079,  34.3556,2,  34.3551,2,    184.2,3,    193.9,2,     1.35,2,     0.00,2,     0.00,2,     0.17,2, -999.000,9, -999.000,9,   -999.0,9,   -999.0,9,  -999.00,9, -999.00, 29.8050
     3250031_1,   P31,    46,  1,     31,     31,2,19940205,0344, -9.9898,-167.3652, 3691,     56.9,  29.8992,  35.0648,2,  35.1160,2,    192.0,3,    199.5,2,     1.34,2,     0.00,2,     0.00,2,     0.19,2,    1.567,2,    0.835,2,   -999.0,9,   -999.0,9,  -999.00,9, -999.00, 29.8851
     3250031_1,   P31,    46,  1,     30,     30,2,19940205,0344, -9.9898,-167.3652, 3691,    106.0,  26.7721,  36.1482,2,  36.1583,2,    166.0,2,    164.4,2,     1.87,2,     2.26,2,     0.38,2,     0.49,2,    1.671,2,    0.890,2,   -999.0,9,   -999.0,9,  -999.00,9, -999.00, 26.7479
     3250031_1,   P31,    46,  1,     29,     29,2,19940205,0344, -9.9898,-167.3652, 3691,    206.5,  19.8944,  35.7756,2,  35.7611,2,    141.0,2,    135.1,2,     4.04,2,     9.83,2,     0.01,2,     0.95,2,    1.713,2,    0.886,2,   -999.0,9,   -999.0,9,  -999.00,9, -999.00, 19.8561
     3250031_1,   P31,    46,  1,     28,     28,2,19940205,0344, -9.9898,-167.3652, 3691,    307.5,  13.5129,  35.0296,4,  34.9964,2,   -999.0,5,     98.1,2,    13.14,2,    20.18,2,     0.00,2,     1.64,2,    0.776,2,    0.394,2,   -999.0,9,   -999.0,9,  -999.00,9, -999.00, 13.4694
     3250031_1,   P31,    46,  1,     27,     27,2,19940205,0344, -9.9898,-167.3652, 3691,    407.7,   9.6972,  34.7005,2,  34.6976,2,    101.8,2,    102.7,2,    23.87,2,    27.82,2,     0.00,2,     2.03,2,    0.206,2,    0.126,2,   -999.0,9,   -999.0,9,  -999.00,9, -999.00,  9.6504
     3250031_1,   P31,    46,  1,     26,     26,2,19940205,0344, -9.9898,-167.3652, 3691,    508.0,   7.6506,  34.5674,2,  34.5668,2,    123.9,2,    125.7,2,    30.78,2,    30.22,2,     0.00,2,     2.13,2, -999.000,9, -999.000,9,   -999.0,9,   -999.0,9,  -999.00,9, -999.00,  7.5998
     3250031_1,   P31,    46,  1,     25,     25,2,19940205,0344, -9.9898,-167.3652, 3691,    605.0,   6.5161,  34.5238,2,  34.5242,2,    121.3,2,    122.4,2,    40.79,2,    33.07,2,     0.00,2,     2.31,2,    0.043,4,    0.014,2,   -999.0,9,   -999.0,9,  -999.00,9, -999.00,  6.4604
     3250031_1,   P31,    46,  1,     24,     24,2,19940205,0344, -9.9898,-167.3652, 3691,    701.5,   5.7629,  34.5106,2,  34.5119,2,    117.3,2,    117.9,2,    50.44,2,    35.00,2,     0.00,2,     2.44,2, -999.000,9, -999.000,9,   -999.0,9,   -999.0,9,  -999.00,9, -999.00,  5.7019
     3250031_1,   P31,    46,  1,     23,     23,2,19940205,0344, -9.9898,-167.3652, 3691,    805.3,   5.1540,  34.5094,2,  34.5097,2,    116.9,2,    117.2,2,    59.57,2,    36.09,2,     0.00,2,     2.52,2, -999.000,9, -999.000,9,   -999.0,9,   -999.0,9,  -999.00,9, -999.00,  5.0871
     3250031_1,   P31,    46,  1,     22,     22,2,19940205,0344, -9.9898,-167.3652, 3691,    908.8,   4.7194,  34.5142,2,  34.5160,2,    118.8,2,    118.1,2,    67.06,2,    36.44,2,     0.00,2,     2.55,2, -999.000,9, -999.000,9,   -999.0,9,   -999.0,9,  -999.00,9, -999.00,  4.6462
     3250031_1,   P31,    46,  1,     21,     21,2,19940205,0344, -9.9898,-167.3652, 3691,   1011.8,   4.2952,  34.5239,2,  34.5251,2,    120.6,2,    120.0,2,    75.33,2,    36.79,2,     0.00,2,     2.58,2, -999.000,9, -999.000,9,   -999.0,9,   -999.0,9,  -999.00,9, -999.00,  4.2162
     3250031_1,   P31,    46,  1,     20,     20,2,19940205,0344, -9.9898,-167.3652, 3691,   1212.9,   3.6005,  34.5502,2,  34.5502,2,    125.8,2,    126.6,2,    89.05,2,    36.70,2,     0.00,2,     2.58,2, -999.000,9, -999.000,9,   -999.0,9,   -999.0,9,  -999.00,9, -999.00,  3.5105
     3250031_1,   P31,    46,  1,     19,     19,2,19940205,0344, -9.9898,-167.3652, 3691,   1416.9,   3.1191,  34.5752,2,  34.5752,2,    130.3,2,    130.0,2,   100.13,2,    36.65,2,     0.00,2,     2.58,2, -999.000,9, -999.000,9,   -999.0,9,   -999.0,9,  -999.00,9, -999.00,  3.0169
     3250031_1,   P31,    46,  1,     18,     18,2,19940205,0344, -9.9898,-167.3652, 3691,   1619.5,   2.6409,  34.6005,2,  34.6019,2,    136.3,2,    137.2,2,   109.29,2,    36.30,2,     0.00,2,     2.55,2, -999.000,9, -999.000,9,   -999.0,9,   -999.0,9,  -999.00,9, -999.00,  2.5273
     3250031_1,   P31,    46,  1,     17,     17,2,19940205,0344, -9.9898,-167.3652, 3691,   1822.6,   2.3263,  34.6225,2,  34.6231,2,    139.9,2,    139.3,2,   117.44,2,    36.16,2,     0.00,2,     2.55,2, -999.000,9, -999.000,9,   -999.0,9,   -999.0,9,  -999.00,9, -999.00,  2.2000
     3250031_1,   P31,    46,  1,     16,     16,2,19940205,0344, -9.9898,-167.3652, 3691,   2025.0,   2.1491,  34.6363,2,  34.6365,2,    140.3,2,    139.5,2,   123.15,2,    36.26,2,     0.00,2,     2.55,2, -999.000,9, -999.000,9,   -999.0,9,   -999.0,9,  -999.00,9, -999.00,  2.0083
     3250031_1,   P31,    46,  1,     15,     15,2,19940205,0344, -9.9898,-167.3652, 3691,   2229.0,   1.9889,  34.6490,2,  34.6501,2,    141.8,2,    141.1,2,   128.53,2,    36.26,2,     0.00,2,     2.54,2, -999.000,9, -999.000,9,   -999.0,9,   -999.0,9,  -999.00,9, -999.00,  1.8330
     3250031_1,   P31,    46,  1,     14,     14,2,19940205,0344, -9.9898,-167.3652, 3691,   2430.6,   1.8501,  34.6601,2,  34.6609,2,    144.3,2,    144.1,2,   132.37,2,    36.12,2,     0.00,2,     2.52,2, -999.000,9, -999.000,9,   -999.0,9,   -999.0,9,  -999.00,9, -999.00,  1.6788
     3250031_1,   P31,    46,  1,     13,     13,2,19940205,0344, -9.9898,-167.3652, 3691,   2533.2,   1.7997,  34.6640,2,  34.6647,2,    144.8,2,    146.0,2,   133.37,2,    36.02,2,     0.00,2,     2.51,2, -999.000,9, -999.000,9,   -999.0,9,   -999.0,9,  -999.00,9, -999.00,  1.6201
     3250031_1,   P31,    46,  1,     12,     12,2,19940205,0344, -9.9898,-167.3652, 3691,   2636.6,   1.7660,  34.6668,2,  34.6674,2,    147.3,2,    147.3,2,   133.96,2,    35.98,2,     0.00,2,     2.50,2, -999.000,9, -999.000,9,   -999.0,9,   -999.0,9,  -999.00,9, -999.00,  1.5776
     3250031_1,   P31,    46,  1,     11,     11,2,19940205,0344, -9.9898,-167.3652, 3691,   2738.1,   1.7121,  34.6704,2,  34.6704,2,    148.6,2,    149.3,2,   134.96,2,    35.93,2,     0.00,2,     2.49,2, -999.000,9, -999.000,9,   -999.0,9,   -999.0,9,  -999.00,9, -999.00,  1.5155
     3250031_1,   P31,    46,  1,     10,     10,2,19940205,0344, -9.9898,-167.3652, 3691,   2837.5,   1.6625,  34.6735,2,  34.6728,2,    152.3,2,    151.7,2,   135.35,2,    35.74,2,     0.00,2,     2.49,2, -999.000,9, -999.000,9,   -999.0,9,   -999.0,9,  -999.00,9, -999.00,  1.4575
     3250031_1,   P31,    46,  1,      9,      9,2,19940205,0344, -9.9898,-167.3652, 3691,   2939.3,   1.6443,  34.6748,2,  34.6746,2,    152.8,2,    153.1,2,   134.91,2,    35.49,2,     0.00,2,     2.48,2, -999.000,9, -999.000,9,   -999.0,9,   -999.0,9,  -999.00,9, -999.00,  1.4301
     3250031_1,   P31,    46,  1,      8,      8,2,19940205,0344, -9.9898,-167.3652, 3691,   3042.2,   1.6195,  34.6765,2,  34.6768,2,    155.0,2,    155.2,2,   133.86,2,    35.40,2,     0.00,2,     2.47,2, -999.000,9, -999.000,9,   -999.0,9,   -999.0,9,  -999.00,9, -999.00,  1.3960
     3250031_1,   P31,    46,  1,      7,      7,2,19940205,0344, -9.9898,-167.3652, 3691,   3143.3,   1.6100,  34.6775,2,  34.6787,2,    155.8,2,    155.9,2,   134.45,2,    35.30,2,     0.00,2,     2.47,2, -999.000,9, -999.000,9,   -999.0,9,   -999.0,9,  -999.00,9, -999.00,  1.3769
     3250031_1,   P31,    46,  1,      6,      6,2,19940205,0344, -9.9898,-167.3652, 3691,   3244.8,   1.5916,  34.6791,2,  34.6797,2,    157.6,2,    157.4,2,   134.43,2,    35.30,2,     0.00,2,     2.46,2, -999.000,9, -999.000,9,   -999.0,9,   -999.0,9,  -999.00,9, -999.00,  1.3489
     3250031_1,   P31,    46,  1,      5,      5,2,19940205,0344, -9.9898,-167.3652, 3691,   3344.3,   1.5785,  34.6803,2,  34.6803,2,    159.3,2,    158.8,2,   134.40,2,    35.21,2,     0.00,2,     2.45,2, -999.000,9, -999.000,9,   -999.0,9,   -999.0,9,  -999.00,9, -999.00,  1.3262
     3250031_1,   P31,    46,  1,      4,      4,2,19940205,0344, -9.9898,-167.3652, 3691,   3444.4,   1.5477,  34.6826,2,  34.6823,2,    161.9,2,    161.3,2,   133.97,2,    35.01,2,     0.00,2,     2.45,2, -999.000,9, -999.000,9,   -999.0,9,   -999.0,9,  -999.00,9, -999.00,  1.2860
     3250031_1,   P31,    46,  1,      3,      3,2,19940205,0344, -9.9898,-167.3652, 3691,   3543.1,   1.5263,  34.6837,2,  34.6835,2,    162.2,2,    163.2,2,   133.74,2,    34.97,2,     0.00,2,     2.44,2, -999.000,9, -999.000,9,   -999.0,9,   -999.0,9,  -999.00,9, -999.00,  1.2550
     3250031_1,   P31,    46,  1,      2,      2,2,19940205,0344, -9.9898,-167.3652, 3691,   3640.9,   1.4988,  34.6856,2,  34.6851,2,    164.2,2,    165.6,2,   133.10,2,    34.77,2,     0.00,2,     2.43,2, -999.000,9, -999.000,9,   -999.0,9,   -999.0,9,  -999.00,9, -999.00,  1.2181
     3250031_1,   P31,    46,  1,      1,      1,2,19940205,0344, -9.9898,-167.3652, 3691,   3720.3,   1.4790,  34.6864,2,  34.6875,2,    166.6,2,    165.5,2,   133.07,2,    34.68,2,     0.00,2,     2.41,2, -999.000,9, -999.000,9,   -999.0,9,   -999.0,9,  -999.00,9, -999.00,  1.1906
     3250031_1,   P31,    47,  1,     35,     35,2,19940205,0833,-10.0788,-167.7962, 3882,      2.9,  29.8898,  34.3361,2,  34.3370,2,    186.3,2,    193.8,2,     1.48,2,     0.00,2,     0.00,2,     0.18,2,    1.561,2,    0.872,2,   -999.0,9,   -999.0,9,  -999.00,9, -999.00, 29.8891
     3250031_1,   P31,    47,  1,     34,     34,2,19940205,0833,-10.0788,-167.7962, 3882,     10.5,  29.8917,  34.3363,2,  34.3380,2,    190.4,2,    194.0,2,     1.47,2,     0.00,2,     0.00,2,     0.18,2, -999.000,9, -999.000,9,   -999.0,9,   -999.0,9,  -999.00,9, -999.00, 29.8891
     3250031_1,   P31,    47,  1,     33,     33,2,19940205,0833,-10.0788,-167.7962, 3882,     55.4,  29.6865,  35.3843,2,  35.3924,2,    198.0,2,    201.4,2,     1.45,2,     0.00,2,     0.00,2,     0.20,2,    1.577,2,    0.865,2,   -999.0,9,   -999.0,9,  -999.00,9, -999.00, 29.6728
     3250031_1,   P31,    47,  1,     32,     32,2,19940205,0833,-10.0788,-167.7962, 3882,    105.5,  27.7929,  35.8925,2,  35.8910,2,    200.5,2,    204.4,2,     1.25,2,     0.00,2,     0.00,2,     0.20,2,    1.646,2,    0.884,2,   -999.0,9,   -999.0,9,  -999.00,9, -999.00, 27.7681
     3250031_1,   P31,    47,  1,     31,     31,2,19940205,0833,-10.0788,-167.7962, 3882,    205.7,  21.2632,  35.9506,2,  35.9445,2,    144.7,2,    140.1,2,     3.05,2,     8.35,2,     0.01,2,     0.84,2,    1.801,2,    0.942,2,   -999.0,9,   -999.0,9,  -999.00,9, -999.00, 21.2233
     3250031_1,   P31,    47,  1,     30,     30,2,19940205,0833,-10.0788,-167.7962, 3882,    305.8,  13.6675,  35.0298,2,  35.0205,2,    103.8,2,     97.5,2,    12.67,2,    19.87,2,     0.00,2,     1.61,2,    0.812,2,    0.406,2,   -999.0,9,   -999.0,9,  -999.00,9, -999.00, 13.6238
     3250031_1,   P31,    47,  1,     29,     29,2,19940205,0833,-10.0788,-167.7962, 3882,    405.0,   9.7546,  34.7129,2,  34.7115,2,    100.0,2,    100.4,2,    23.77,2,    27.92,2,     0.00,2,     2.01,2, -999.000,9, -999.000,9,   -999.0,9,   -999.0,9,  -999.00,9, -999.00,  9.7080
     3250031_1,   P31,    47,  1,     28,     28,2,19940205,0833,-10.0788,-167.7962, 3882,    505.7,   7.6922,  34.5683,2,  34.5679,2,    131.5,2,    128.8,2,    30.13,2,    29.87,2,     0.00,2,     2.09,2,    0.127,2,    0.070,2,   -999.0,9,   -999.0,9,  -999.00,9, -999.00,  7.6415
     3250031_1,   P31,    47,  1,     27,     27,2,19940205,0833,-10.0788,-167.7962, 3882,    606.5,   6.7370,  34.5293,2,  34.5292,2,    120.9,2,    127.1,2,    37.96,2,    32.12,2,     0.00,2,     2.23,2, -999.000,9, -999.000,9,   -999.0,9,   -999.0,9,  -999.00,9, -999.00,  6.6802
     3250031_1,   P31,    47,  1,     26,     26,2,19940205,0833,-10.0788,-167.7962, 3882,    706.3,   6.0239,  34.5155,2,  34.5153,2,    118.6,2,    118.1,2,    47.07,2,    34.48,2,     0.00,2,     2.40,2,    0.017,2,    0.008,2,   -999.0,9,   -999.0,9,  -999.00,9, -999.00,  5.9610
     3250031_1,   P31,    47,  1,     25,     25,2,19940205,0833,-10.0788,-167.7962, 3882,    807.0,   5.3648,  34.5116,2,  34.5127,2,    116.4,2,    115.5,2,    56.94,2,    35.82,2,     0.00,2,     2.49,2, -999.000,9, -999.000,9,   -999.0,9,   -999.0,9,  -999.00,9, -999.00,  5.2964
     3250031_1,   P31,    47,  1,     24,     24,2,19940205,0833,-10.0788,-167.7962, 3882,    907.3,   4.7500,  34.5160,2,  34.5165,2,    115.3,2,    116.8,2,    66.84,2,    36.51,2,     0.00,2,     2.55,2, -999.000,9, -999.000,9,   -999.0,9,   -999.0,9,  -999.00,9, -999.00,  4.6767
     3250031_1,   P31,    47,  1,     23,     23,2,19940205,0833,-10.0788,-167.7962, 3882,   1008.9,   4.3686,  34.5241,2,  34.5241,2,    118.1,2,    118.4,2,    74.03,2,    36.81,2,     0.00,2,     2.57,2, -999.000,9, -999.000,9,   -999.0,9,   -999.0,9,  -999.00,9, -999.00,  4.2894
     3250031_1,   P31,    47,  1,     22,     22,2,19940205,0833,-10.0788,-167.7962, 3882,   1211.1,   3.7463,  34.5478,2,  34.5487,2,    120.9,2,    123.1,2,    87.22,2,    36.81,2,     0.00,2,     2.57,2, -999.000,9, -999.000,9,   -999.0,9,   -999.0,9,  -999.00,9, -999.00,  3.6551
     3250031_1,   P31,    47,  1,     21,     21,2,19940205,0833,-10.0788,-167.7962, 3882,   1412.8,   3.2039,  34.5693,2,  34.5695,2,    131.7,2,    130.2,2,    97.00,2,    36.57,2,     0.00,2,     2.55,2,    0.000,2,   -0.006,2,   -999.0,9,   -999.0,9,  -999.00,9, -999.00,  3.1011
     3250031_1,   P31,    47,  1,     20,     20,2,19940205,0833,-10.0788,-167.7962, 3882,   1615.3,   2.7099,  34.5962,2,  34.5958,2,    138.6,2,    135.4,2,   107.30,2,    36.37,2,     0.00,2,     2.53,2, -999.000,9, -999.000,9,   -999.0,9,   -999.0,9,  -999.00,9, -999.00,  2.5959
     3250031_1,   P31,    47,  1,     19,     19,2,19940205,0833,-10.0788,-167.7962, 3882,   1818.3,   2.3934,  34.6174,2,  34.6188,2,    141.3,2,    139.4,2,   115.07,2,    36.18,2,     0.00,2,     2.52,2, -999.000,9, -999.000,9,   -999.0,9,   -999.0,9,  -999.00,9, -999.00,  2.2666
     3250031_1,   P31,    47,  1,     18,     18,2,19940205,0833,-10.0788,-167.7962, 3882,   2023.2,   2.1768,  34.6347,2,  34.6349,2,    139.0,2,    139.5,2,   122.18,2,    36.18,2,     0.00,2,     2.53,2, -999.000,9, -999.000,9,   -999.0,9,   -999.0,9,  -999.00,9, -999.00,  2.0357
     3250031_1,   P31,    47,  1,     17,     17,2,19940205,0833,-10.0788,-167.7962, 3882,   2227.8,   2.0201,  34.6476,2,  34.6483,2,    139.7,2,    137.3,2,   129.42,2,    36.48,2,     0.00,2,     2.55,2,    0.003,2,   -0.001,2,   -999.0,9,   -999.0,9,  -999.00,9, -999.00,  1.8638
     3250031_1,   P31,    47,  1,     16,     16,2,19940205,0833,-10.0788,-167.7962, 3882,   2431.2,   1.8813,  34.6580,2,  34.6591,2,    142.7,2,    143.2,2,   130.65,2,    36.04,2,     0.00,2,     2.52,2, -999.000,9, -999.000,9,   -999.0,9,   -999.0,9,  -999.00,9, -999.00,  1.7094
     3250031_1,   P31,    47,  1,     15,     15,2,19940205,0833,-10.0788,-167.7962, 3882,   2532.7,   1.8361,  34.6617,2,  34.6607,2,    144.2,2,    144.6,2,   131.07,2,    36.09,2,     0.00,2,     2.50,2, -999.000,9, -999.000,9,   -999.0,9,   -999.0,9,  -999.00,9, -999.00,  1.6559
     3250031_1,   P31,    47,  1,     14,     14,2,19940205,0833,-10.0788,-167.7962, 3882,   2634.3,   1.7876,  34.6652,2,  34.6668,2,    146.7,2,    144.8,2,   133.95,2,    36.19,2,     0.00,2,     2.51,2, -999.000,9, -999.000,9,   -999.0,9,   -999.0,9,  -999.00,9, -999.00,  1.5990
     3250031_1,   P31,    47,  1,     13,     13,2,19940205,0833,-10.0788,-167.7962, 3882,   2735.6,   1.7332,  34.6690,2,  34.6692,2,    147.0,2,    147.4,2,   135.20,2,    36.10,2,     0.00,2,     2.49,2, -999.000,9, -999.000,9,   -999.0,9,   -999.0,9,  -999.00,9, -999.00,  1.5364
     3250031_1,   P31,    47,  1,     12,     12,2,19940205,0833,-10.0788,-167.7962, 3882,   2838.4,   1.6948,  34.6719,2,  34.6721,2,    148.0,2,    149.6,2,   136.25,2,    35.95,2,     0.00,2,     2.48,2, -999.000,9, -999.000,9,   -999.0,9,   -999.0,9,  -999.00,9, -999.00,  1.4892
     3250031_1,   P31,    47,  1,     11,     11,2,19940205,0833,-10.0788,-167.7962, 3882,   2940.3,   1.6688,  34.6734,2,  34.6729,2,    150.9,2,    152.1,2,   135.84,2,    35.76,2,     0.00,2,     2.47,2, -999.000,9, -999.000,9,   -999.0,9,   -999.0,9,  -999.00,9, -999.00,  1.4540
     3250031_1,   P31,    47,  1,     10,     10,2,19940205,0833,-10.0788,-167.7962, 3882,   3042.3,   1.6443,  34.6754,2,  34.6747,2,    153.5,2,    154.3,2,   135.44,2,    35.61,2,     0.00,2,     2.46,2,    0.001,2,   -0.004,2,   -999.0,9,   -999.0,9,  -999.00,9, -999.00,  1.4202
     3250031_1,   P31,    47,  1,      9,      9,2,19940205,0833,-10.0788,-167.7962, 3882,   3143.9,   1.6217,  34.6770,2,  34.6766,2,    155.7,2,    155.6,2,   135.04,2,    35.47,2,     0.00,2,     2.46,2, -999.000,9, -999.000,9,   -999.0,9,   -999.0,9,  -999.00,9, -999.00,  1.3883
     3250031_1,   P31,    47,  1,      8,      8,2,19940205,0833,-10.0788,-167.7962, 3882,   3246.4,   1.6040,  34.6781,2,  34.6784,2,    156.9,2,    157.1,2,   134.43,2,    35.37,2,     0.00,2,     2.45,2, -999.000,9, -999.000,9,   -999.0,9,   -999.0,9,  -999.00,9, -999.00,  1.3609
     3250031_1,   P31,    47,  1,      7,      7,2,19940205,0833,-10.0788,-167.7962, 3882,   3348.2,   1.5834,  34.6801,2,  34.6802,2,    157.5,2,    158.9,2,   134.65,2,    35.23,2,     0.00,2,     2.45,2,    0.009,3,   -0.003,2,   -999.0,9,   -999.0,9,  -999.00,9, -999.00,  1.3306
     3250031_1,   P31,    47,  1,      6,      6,2,19940205,0833,-10.0788,-167.7962, 3882,   3450.6,   1.5528,  34.6821,2,  34.6824,2,    160.7,2,    160.9,2,   134.04,2,    35.08,2,     0.00,2,     2.43,2, -999.000,9, -999.000,9,   -999.0,9,   -999.0,9,  -999.00,9, -999.00,  1.2903
     3250031_1,   P31,    47,  1,      5,      5,2,19940205,0833,-10.0788,-167.7962, 3882,   3552.6,   1.5236,  34.6841,2,  34.6832,2,    163.5,2,    163.7,2,   133.64,2,    34.94,2,     0.00,2,     2.42,2,    0.002,2,   -0.006,2,   -999.0,9,   -999.0,9,  -999.00,9, -999.00,  1.2514
     3250031_1,   P31,    47,  1,      4,      4,2,19940205,0833,-10.0788,-167.7962, 3882,   3654.4,   1.5173,  34.6844,2,  34.6839,2,    163.9,2,    164.6,2,   133.65,2,    34.94,2,     0.00,2,     2.41,2, -999.000,9, -999.000,9,   -999.0,9,   -999.0,9,  -999.00,9, -999.00,  1.2347
     3250031_1,   P31,    47,  1,      3,      3,2,19940205,0833,-10.0788,-167.7962, 3882,   3756.9,   1.4800,  34.6869,2,  34.6857,2,    168.3,2,    166.7,2,   133.25,2,    34.84,2,     0.00,2,     2.40,2,    0.005,2,   -0.003,2,   -999.0,9,   -999.0,9,  -999.00,9, -999.00,  1.1877
     3250031_1,   P31,    47,  1,      2,      2,2,19940205,0833,-10.0788,-167.7962, 3882,   3859.6,   1.4474,  34.6888,2,  34.6891,2,    171.5,2,    169.6,2,   132.65,2,    34.65,2,     0.00,2,     2.38,2, -999.000,9, -999.000,9,   -999.0,9,   -999.0,9,  -999.00,9, -999.00,  1.1451
     3250031_1,   P31,    47,  1,      1,      1,2,19940205,0833,-10.0788,-167.7962, 3882,   3927.3,   1.4331,  34.6899,2,  34.6914,2,    171.5,2,    170.8,2,   132.25,2,    34.51,2,     0.00,2,     2.36,2,    0.006,2,   -0.006,2,   -999.0,9,   -999.0,9,  -999.00,9, -999.00,  1.1239