BOTTLE,20020814WHPSIOdm
EXPOCODE,SECT_ID,STNNBR,CASTNO,SAMPNO,BTLNBR,BTLNBR_FLAG_W,DATE,TIME,LATITUDE,LONGITUDE,DEPTH,CTDPRS,CTDTMP,CTDSAL,CTDSAL_FLAG_W,SALNTY,SALNTY_FLAG_W,CTDOXY,CTDOXY_FLAG_W,OXYGEN,OXYGEN_FLAG_W,SILCAT,SILCAT_FLAG_W,NITRAT,NITRAT_FLAG_W,NITRIT,NITRIT_FLAG_W,PHSPHT,PHSPHT_FLAG_W,CFC-11,CFC-11_FLAG_W,CFC-12,CFC-12_FLAG_W,TCARBN,TCARBN_FLAG_W,ALKALI,ALKALI_FLAG_W,PH,PH_FLAG_W,PHTEMP,THETA
,,,,,,,,,,,,DBAR,ITS-90,PSS-78,,PSS-78,,UMOL/KG,,UMOL/KG,,UMOL/KG,,UMOL/KG,,UMOL/KG,,UMOL/KG,,PMOL/KG,,PMOL/KG,,UMOL/KG,,UMOL/KG,,,,DEG C,DEG C
     3250031_1,   P31,    41,  1,     36,     36,2,19940204,0350,-10.2305,-165.4822, 4548,      2.9,  30.1442,  34.4557,4,  34.4220,2,   -999.0,5,    200.1,2,     1.49,2,     0.00,2,     0.00,2,     0.17,2, -999.000,9, -999.000,9,   -999.0,9,   -999.0,9,  -999.00,9, -999.00, 30.1435
     3250031_1,   P31,    41,  1,     35,     35,2,19940204,0350,-10.2305,-165.4822, 4548,     11.3,  30.0843,  34.4967,2,  34.4958,2,    196.0,2,    198.2,2,     1.47,2,     0.00,2,     0.00,2,     0.17,2, -999.000,9, -999.000,9,   -999.0,9,   -999.0,9,  -999.00,9, -999.00, 30.0815
     3250031_1,   P31,    41,  1,     34,     34,2,19940204,0350,-10.2305,-165.4822, 4548,     56.8,  29.9432,  34.7201,4,  34.9091,2,   -999.0,5,    203.7,2,     1.45,2,     0.00,2,     0.00,2,     0.19,2, -999.000,9, -999.000,9,   -999.0,9,   -999.0,9,  -999.00,9, -999.00, 29.9291
     3250031_1,   P31,    41,  1,     33,     33,2,19940204,0350,-10.2305,-165.4822, 4548,    106.5,  27.8282,  36.0463,2,  36.0790,2,    210.9,3,    195.1,2,     1.43,2,     0.18,2,     0.05,2,     0.28,2, -999.000,9, -999.000,9,   -999.0,9,   -999.0,9,  -999.00,9, -999.00, 27.8032
     3250031_1,   P31,    41,  1,     32,     32,2,19940204,0350,-10.2305,-165.4822, 4548,    207.2,  21.0372,  35.9450,2,  35.9754,2,    153.3,2,    146.2,2,     2.50,2,     7.39,2,     0.02,2,     0.75,2, -999.000,9, -999.000,9,   -999.0,9,   -999.0,9,  -999.00,9, -999.00, 20.9972
     3250031_1,   P31,    41,  1,     31,     31,2,19940204,0350,-10.2305,-165.4822, 4548,    307.6,  13.5928,  35.0194,2,  35.0120,2,     98.6,2,     98.7,2,    12.67,2,    19.77,2,     0.00,2,     1.59,2, -999.000,9, -999.000,9,   -999.0,9,   -999.0,9,  -999.00,9, -999.00, 13.5491
     3250031_1,   P31,    41,  1,     30,     30,2,19940204,0350,-10.2305,-165.4822, 4548,    408.2,   9.8108,  34.6888,2,  34.6758,2,    102.2,2,     99.3,2,    23.39,2,    27.78,2,     0.00,2,     2.02,2, -999.000,9, -999.000,9,   -999.0,9,   -999.0,9,  -999.00,9, -999.00,  9.7637
     3250031_1,   P31,    41,  1,     29,     29,2,19940204,0350,-10.2305,-165.4822, 4548,    508.3,   7.6227,  34.5707,2,  34.5724,2,    115.3,2,    115.8,2,    32.29,2,    31.11,2,     0.00,2,     2.16,2, -999.000,9, -999.000,9,   -999.0,9,   -999.0,9,  -999.00,9, -999.00,  7.5720
     3250031_1,   P31,    41,  1,     28,     28,2,19940204,0350,-10.2305,-165.4822, 4548,    609.0,   6.6737,  34.5330,2,  34.5337,2,    112.8,2,    116.9,2,    40.28,2,    33.23,2,     0.00,2,     2.30,2, -999.000,9, -999.000,9,   -999.0,9,   -999.0,9,  -999.00,9, -999.00,  6.6169
     3250031_1,   P31,    41,  1,     27,     27,2,19940204,0350,-10.2305,-165.4822, 4548,    709.8,   5.8888,  34.5181,2,  34.5151,2,    113.5,2,    114.4,2,    49.56,2,    35.00,2,     0.00,2,     2.42,2, -999.000,9, -999.000,9,   -999.0,9,   -999.0,9,  -999.00,9, -999.00,  5.8263
     3250031_1,   P31,    41,  1,     26,     26,2,19940204,0350,-10.2305,-165.4822, 4548,    809.1,   5.3208,  34.5095,2,  34.5106,2,    113.8,2,    115.3,2,    57.03,2,    35.90,2,     0.00,2,     2.48,2, -999.000,9, -999.000,9,   -999.0,9,   -999.0,9,  -999.00,9, -999.00,  5.2525
     3250031_1,   P31,    41,  1,     25,     25,2,19940204,0350,-10.2305,-165.4822, 4548,   1011.6,   4.3550,  34.5258,2,  34.5279,2,    113.5,2,    114.3,2,    75.19,2,    37.14,2,     0.00,2,     2.58,2, -999.000,9, -999.000,9,   -999.0,9,   -999.0,9,  -999.00,9, -999.00,  4.2755
     3250031_1,   P31,    41,  1,     24,     24,2,19940204,0350,-10.2305,-165.4822, 4548,   1213.7,   3.6341,  34.5506,2,  34.5514,2,    122.7,2,    122.6,2,    88.90,2,    36.95,2,     0.00,2,     2.57,2, -999.000,9, -999.000,9,   -999.0,9,   -999.0,9,  -999.00,9, -999.00,  3.5436
     3250031_1,   P31,    41,  1,     23,     23,2,19940204,0350,-10.2305,-165.4822, 4548,   1417.0,   3.0926,  34.5737,2,  34.5742,2,    127.8,2,    130.1,2,    99.23,2,    36.61,2,     0.00,2,     2.55,2, -999.000,9, -999.000,9,   -999.0,9,   -999.0,9,  -999.00,9, -999.00,  2.9906
     3250031_1,   P31,    41,  1,     22,     22,2,19940204,0350,-10.2305,-165.4822, 4548,   1619.1,   2.6573,  34.5996,2,  34.6009,2,    136.6,2,    136.5,2,   108.76,2,    36.31,2,     0.00,2,     2.53,2, -999.000,9, -999.000,9,   -999.0,9,   -999.0,9,  -999.00,9, -999.00,  2.5436
     3250031_1,   P31,    41,  1,     21,     21,2,19940204,0350,-10.2305,-165.4822, 4548,   1821.0,   2.3605,  34.6197,2,  34.6212,2,    136.9,2,    138.4,2,   116.91,2,    36.36,2,     0.00,2,     2.52,2, -999.000,9, -999.000,9,   -999.0,9,   -999.0,9,  -999.00,9, -999.00,  2.2338
     3250031_1,   P31,    41,  1,     20,     20,2,19940204,0350,-10.2305,-165.4822, 4548,   2024.2,   2.1637,  34.6380,2,  34.6389,2,    133.3,2,    133.1,2,   126.61,2,    36.77,2,     0.00,2,     2.55,2, -999.000,9, -999.000,9,   -999.0,9,   -999.0,9,  -999.00,9, -999.00,  2.0227
     3250031_1,   P31,    41,  1,     19,     19,2,19940204,0350,-10.2305,-165.4822, 4548,   2227.5,   2.0088,  34.6475,2,  34.6493,2,    140.4,2,    139.7,2,   128.81,2,    36.32,2,     0.00,2,     2.52,2, -999.000,9, -999.000,9,   -999.0,9,   -999.0,9,  -999.00,9, -999.00,  1.8527
     3250031_1,   P31,    41,  1,     18,     18,2,19940204,0350,-10.2305,-165.4822, 4548,   2431.4,   1.8928,  34.6566,2,  34.6591,2,    144.0,2,    142.4,2,   131.64,2,    36.18,2,     0.00,2,     2.51,2, -999.000,9, -999.000,9,   -999.0,9,   -999.0,9,  -999.00,9, -999.00,  1.7207
     3250031_1,   P31,    41,  1,     17,     17,2,19940204,0350,-10.2305,-165.4822, 4548,   2634.9,   1.8028,  34.6638,2,  34.6652,2,    147.7,2,    146.2,2,   133.06,2,    35.98,2,     0.00,2,     2.49,2, -999.000,9, -999.000,9,   -999.0,9,   -999.0,9,  -999.00,9, -999.00,  1.6139
     3250031_1,   P31,    41,  1,     16,     16,2,19940204,0350,-10.2305,-165.4822, 4548,   2837.7,   1.7092,  34.6703,2,  34.6725,2,    151.1,2,    151.0,2,   133.86,2,    35.59,2,     0.00,2,     2.48,2, -999.000,9, -999.000,9,   -999.0,9,   -999.0,9,  -999.00,9, -999.00,  1.5033
     3250031_1,   P31,    41,  1,     15,     15,2,19940204,0350,-10.2305,-165.4822, 4548,   3042.6,   1.6467,  34.6746,2,  34.6760,2,    154.0,2,    154.6,2,   134.25,2,    35.40,2,     0.00,2,     2.46,2, -999.000,9, -999.000,9,   -999.0,9,   -999.0,9,  -999.00,9, -999.00,  1.4226
     3250031_1,   P31,    41,  1,     14,     14,2,19940204,0350,-10.2305,-165.4822, 4548,   3143.9,   1.6131,  34.6772,2,  34.6780,2,    156.7,2,    157.0,2,   133.83,2,    35.25,2,     0.00,2,     2.45,2, -999.000,9, -999.000,9,   -999.0,9,   -999.0,9,  -999.00,9, -999.00,  1.3799
     3250031_1,   P31,    41,  1,     13,     13,2,19940204,0350,-10.2305,-165.4822, 4548,   3245.5,   1.5940,  34.6781,2,  34.6792,2,    159.1,2,    158.5,2,   134.02,2,    35.16,2,     0.00,2,     2.44,2, -999.000,9, -999.000,9,   -999.0,9,   -999.0,9,  -999.00,9, -999.00,  1.3512
     3250031_1,   P31,    41,  1,     12,     12,2,19940204,0350,-10.2305,-165.4822, 4548,   3346.7,   1.5701,  34.6800,2,  34.6810,2,    161.8,2,    160.2,2,   134.00,2,    35.06,2,     0.00,2,     2.43,2, -999.000,9, -999.000,9,   -999.0,9,   -999.0,9,  -999.00,9, -999.00,  1.3178
     3250031_1,   P31,    41,  1,     11,     11,2,19940204,0350,-10.2305,-165.4822, 4548,   3448.8,   1.5570,  34.6817,2,  34.6819,2,    163.6,2,    161.7,2,   133.37,2,    34.92,2,     0.00,2,     2.43,2, -999.000,9, -999.000,9,   -999.0,9,   -999.0,9,  -999.00,9, -999.00,  1.2947
     3250031_1,   P31,    41,  1,     10,     10,2,19940204,0350,-10.2305,-165.4822, 4548,   3551.6,   1.5332,  34.6825,2,  34.6825,2,    164.9,2,    163.8,2,   133.35,2,    34.78,2,     0.00,2,     2.42,2, -999.000,9, -999.000,9,   -999.0,9,   -999.0,9,  -999.00,9, -999.00,  1.2609
     3250031_1,   P31,    41,  1,      9,      9,2,19940204,0350,-10.2305,-165.4822, 4548,   3653.7,   1.5115,  34.6843,2,  34.6841,2,    163.9,2,    165.5,2,   132.93,2,    34.68,2,     0.00,2,     2.41,2, -999.000,9, -999.000,9,   -999.0,9,   -999.0,9,  -999.00,9, -999.00,  1.2292
     3250031_1,   P31,    41,  1,      8,      8,2,19940204,0350,-10.2305,-165.4822, 4548,   3754.9,   1.4866,  34.6856,2,  34.6865,2,    167.0,2,    167.5,2,   132.50,2,    34.59,2,     0.00,2,     2.40,2, -999.000,9, -999.000,9,   -999.0,9,   -999.0,9,  -999.00,9, -999.00,  1.1943
     3250031_1,   P31,    41,  1,      7,      7,2,19940204,0350,-10.2305,-165.4822, 4548,   3857.9,   1.4715,  34.6869,2,  34.6881,2,    168.6,2,    169.3,2,   132.08,2,    34.49,2,     0.00,2,     2.39,2, -999.000,9, -999.000,9,   -999.0,9,   -999.0,9,  -999.00,9, -999.00,  1.1687
     3250031_1,   P31,    41,  1,      6,      6,2,19940204,0350,-10.2305,-165.4822, 4548,   3960.3,   1.4398,  34.6889,2,  34.6900,2,    172.2,2,    172.4,2,   131.05,2,    34.20,2,     0.00,2,     2.38,2, -999.000,9, -999.000,9,   -999.0,9,   -999.0,9,  -999.00,9, -999.00,  1.1269
     3250031_1,   P31,    41,  1,      5,      5,2,19940204,0350,-10.2305,-165.4822, 4548,   4062.3,   1.4078,  34.6908,2,  34.6912,2,    175.8,2,    175.6,2,   130.22,2,    33.81,2,     0.00,2,     2.36,2, -999.000,9, -999.000,9,   -999.0,9,   -999.0,9,  -999.00,9, -999.00,  1.0846
     3250031_1,   P31,    41,  1,      4,      4,2,19940204,0350,-10.2305,-165.4822, 4548,   4164.1,   1.3528,  34.6934,2,  34.6940,2,    181.1,2,    180.3,2,   128.78,2,    33.66,2,     0.00,2,     2.34,2, -999.000,9, -999.000,9,   -999.0,9,   -999.0,9,  -999.00,9, -999.00,  1.0201
     3250031_1,   P31,    41,  1,      3,      3,2,19940204,0350,-10.2305,-165.4822, 4548,   4266.3,   1.2691,  34.6968,2,  34.6983,2,    187.0,2,    187.7,2,   126.15,2,    33.17,2,     0.00,2,     2.32,2, -999.000,9, -999.000,9,   -999.0,9,   -999.0,9,  -999.00,9, -999.00,  0.9275
     3250031_1,   P31,    41,  1,      2,      2,2,19940204,0350,-10.2305,-165.4822, 4548,   4369.3,   1.1829,  34.7012,2,  34.7018,2,    194.2,2,    194.8,2,   123.93,2,    32.73,2,     0.00,2,     2.27,2, -999.000,9, -999.000,9,   -999.0,9,   -999.0,9,  -999.00,9, -999.00,  0.8325
     3250031_1,   P31,    41,  1,      1,      1,2,19940204,0350,-10.2305,-165.4822, 4548,   4412.7,   1.1484,  34.7027,2,  34.7040,2,    198.8,2,    197.7,2,   123.12,2,    32.44,2,     0.00,2,     2.26,2, -999.000,9, -999.000,9,   -999.0,9,   -999.0,9,  -999.00,9, -999.00,  0.7941