BOTTLE,20020814WHPSIOdm
EXPOCODE,SECT_ID,STNNBR,CASTNO,SAMPNO,BTLNBR,BTLNBR_FLAG_W,DATE,TIME,LATITUDE,LONGITUDE,DEPTH,CTDPRS,CTDTMP,CTDSAL,CTDSAL_FLAG_W,SALNTY,SALNTY_FLAG_W,CTDOXY,CTDOXY_FLAG_W,OXYGEN,OXYGEN_FLAG_W,SILCAT,SILCAT_FLAG_W,NITRAT,NITRAT_FLAG_W,NITRIT,NITRIT_FLAG_W,PHSPHT,PHSPHT_FLAG_W,CFC-11,CFC-11_FLAG_W,CFC-12,CFC-12_FLAG_W,TCARBN,TCARBN_FLAG_W,ALKALI,ALKALI_FLAG_W,PH,PH_FLAG_W,PHTEMP,THETA
,,,,,,,,,,,,DBAR,ITS-90,PSS-78,,PSS-78,,UMOL/KG,,UMOL/KG,,UMOL/KG,,UMOL/KG,,UMOL/KG,,UMOL/KG,,PMOL/KG,,PMOL/KG,,UMOL/KG,,UMOL/KG,,,,DEG C,DEG C
     3250031_1,   P31,    60,  1,     36,     36,2,19940208,0254, -9.7537,-170.1453, 4244,      3.7,  29.2710,  33.8265,2,  33.8253,2,    191.3,2,    195.6,2,     1.59,2,     0.05,2,     0.00,2,     0.16,2, -999.000,9, -999.000,9,   -999.0,9,   -999.0,9,  -999.00,9, -999.00, 29.2701
     3250031_1,   P31,    60,  1,     35,     35,2,19940208,0254, -9.7537,-170.1453, 4244,     11.3,  29.4705,  34.0215,2,  34.0075,2,    188.8,2,    194.5,2,     1.56,2,     0.05,2,     0.00,2,     0.16,2, -999.000,9, -999.000,9,   -999.0,9,   -999.0,9,  -999.00,9, -999.00, 29.4677
     3250031_1,   P31,    60,  1,     34,     34,2,19940208,0254, -9.7537,-170.1453, 4244,     56.2,  29.8485,  34.5626,4,  34.5942,2,   -999.0,5,    197.5,2,     1.53,2,     0.05,2,     0.00,2,     0.18,2, -999.000,9, -999.000,9,   -999.0,9,   -999.0,9,  -999.00,9, -999.00, 29.8347
     3250031_1,   P31,    60,  1,     33,     33,2,19940208,0254, -9.7537,-170.1453, 4244,    106.3,  26.9275,  35.9007,2,  35.9002,2,    153.5,2,    148.6,2,     2.40,2,     4.73,2,     0.99,2,     0.67,2, -999.000,9, -999.000,9,   -999.0,9,   -999.0,9,  -999.00,9, -999.00, 26.9031
     3250031_1,   P31,    60,  1,     32,     32,2,19940208,0254, -9.7537,-170.1453, 4244,    206.9,  21.3859,  35.9573,2,  35.9741,2,    139.3,2,    137.9,2,     2.91,2,     8.48,2,     0.02,2,     0.84,2, -999.000,9, -999.000,9,   -999.0,9,   -999.0,9,  -999.00,9, -999.00, 21.3456
     3250031_1,   P31,    60,  1,     31,     31,2,19940208,0254, -9.7537,-170.1453, 4244,    307.0,  12.9995,  34.9744,2,  34.9844,2,     99.6,2,     99.6,2,    12.91,2,    20.31,2,     0.00,2,     1.62,2, -999.000,9, -999.000,9,   -999.0,9,   -999.0,9,  -999.00,9, -999.00, 12.9571
     3250031_1,   P31,    60,  1,     30,     30,2,19940208,0254, -9.7537,-170.1453, 4244,    407.9,   9.3730,  34.6934,2,  34.6928,2,    101.1,2,    102.2,2,    25.24,2,    28.74,2,     0.00,2,     2.03,2, -999.000,9, -999.000,9,   -999.0,9,   -999.0,9,  -999.00,9, -999.00,  9.3272
     3250031_1,   P31,    60,  1,     29,     29,2,19940208,0254, -9.7537,-170.1453, 4244,    508.3,   7.8932,  34.5961,2,  34.5962,2,    118.0,2,    118.3,2,    30.95,2,    30.53,2,     0.00,2,     2.12,2, -999.000,9, -999.000,9,   -999.0,9,   -999.0,9,  -999.00,9, -999.00,  7.8415
     3250031_1,   P31,    60,  1,     28,     28,2,19940208,0254, -9.7537,-170.1453, 4244,    608.8,   6.6541,  34.5308,2,  34.5296,2,    126.9,2,    128.5,2,    38.63,2,    32.09,2,     0.00,2,     2.23,2, -999.000,9, -999.000,9,   -999.0,9,   -999.0,9,  -999.00,9, -999.00,  6.5974
     3250031_1,   P31,    60,  1,     27,     27,2,19940208,0254, -9.7537,-170.1453, 4244,    810.6,   5.3877,  34.5079,2,  34.5078,2,    117.9,2,    116.5,2,    55.11,2,    35.76,2,     0.00,2,     2.48,2, -999.000,9, -999.000,9,   -999.0,9,   -999.0,9,  -999.00,9, -999.00,  5.3189
     3250031_1,   P31,    60,  1,     26,     26,2,19940208,0254, -9.7537,-170.1453, 4244,   1012.3,   4.3920,  34.5250,2,  34.5251,2,    116.9,2,    116.4,2,    73.68,2,    36.99,2,     0.00,2,     2.58,2, -999.000,9, -999.000,9,   -999.0,9,   -999.0,9,  -999.00,9, -999.00,  4.3123
     3250031_1,   P31,    60,  1,     25,     25,2,19940208,0254, -9.7537,-170.1453, 4244,   1213.3,   3.6064,  34.5503,2,  34.5487,2,    125.8,2,    125.5,2,    88.08,2,    36.89,2,     0.00,2,     2.57,2, -999.000,9, -999.000,9,   -999.0,9,   -999.0,9,  -999.00,9, -999.00,  3.5163
     3250031_1,   P31,    60,  1,     24,     24,2,19940208,0254, -9.7537,-170.1453, 4244,   1415.7,   3.0275,  34.5780,2,  34.5763,2,    130.8,2,    132.5,2,   100.11,2,    36.70,2,     0.00,2,     2.55,2, -999.000,9, -999.000,9,   -999.0,9,   -999.0,9,  -999.00,9, -999.00,  2.9263
     3250031_1,   P31,    60,  1,     23,     23,2,19940208,0254, -9.7537,-170.1453, 4244,   1618.6,   2.6702,  34.6036,2,  34.6012,2,    131.3,2,    131.1,2,   112.20,2,    36.85,2,     0.00,2,     2.57,2, -999.000,9, -999.000,9,   -999.0,9,   -999.0,9,  -999.00,9, -999.00,  2.5563
     3250031_1,   P31,    60,  1,     22,     22,2,19940208,0254, -9.7537,-170.1453, 4244,   1822.2,   2.3719,  34.6204,2,  34.6203,2,    136.5,2,    137.4,2,   117.77,2,    36.46,2,     0.00,2,     2.54,2, -999.000,9, -999.000,9,   -999.0,9,   -999.0,9,  -999.00,9, -999.00,  2.2449
     3250031_1,   P31,    60,  1,     21,     21,2,19940208,0254, -9.7537,-170.1453, 4244,   2025.4,   2.1639,  34.6364,2,  34.6355,2,    138.0,2,    137.7,2,   124.20,2,    36.52,2,     0.00,2,     2.54,2, -999.000,9, -999.000,9,   -999.0,9,   -999.0,9,  -999.00,9, -999.00,  2.0228
     3250031_1,   P31,    60,  1,     20,     20,2,19940208,0254, -9.7537,-170.1453, 4244,   2228.4,   2.0388,  34.6474,2,  34.6459,2,    137.2,2,    136.6,2,   129.55,2,    36.62,2,     0.00,2,     2.56,2, -999.000,9, -999.000,9,   -999.0,9,   -999.0,9,  -999.00,9, -999.00,  1.8821
     3250031_1,   P31,    60,  1,     19,     19,2,19940208,0254, -9.7537,-170.1453, 4244,   2431.8,   1.9249,  34.6560,2,  34.6560,2,    138.1,2,    138.2,2,   132.95,2,    36.57,2,     0.00,2,     2.55,2, -999.000,9, -999.000,9,   -999.0,9,   -999.0,9,  -999.00,9, -999.00,  1.7521
     3250031_1,   P31,    60,  1,     18,     18,2,19940208,0254, -9.7537,-170.1453, 4244,   2635.4,   1.7993,  34.6653,2,  34.6646,2,    141.9,2,    144.0,2,   134.95,2,    36.23,2,     0.00,2,     2.52,2,    0.003,2,    0.000,2,   -999.0,9,   -999.0,9,  -999.00,9, -999.00,  1.6104
     3250031_1,   P31,    60,  1,     17,     17,2,19940208,0254, -9.7537,-170.1453, 4244,   2839.1,   1.7241,  34.6713,2,  34.6711,2,    147.7,2,    147.3,2,   135.53,2,    36.04,2,     0.00,2,     2.50,2, -999.000,9, -999.000,9,   -999.0,9,   -999.0,9,  -999.00,9, -999.00,  1.5178
     3250031_1,   P31,    60,  1,     16,     16,2,19940208,0254, -9.7537,-170.1453, 4244,   3042.5,   1.6690,  34.6746,2,  34.6743,2,    152.5,2,    151.3,2,   135.29,2,    35.75,2,     0.00,2,     2.48,2, -999.000,9, -999.000,9,   -999.0,9,   -999.0,9,  -999.00,9, -999.00,  1.4444
     3250031_1,   P31,    60,  1,     15,     15,2,19940208,0254, -9.7537,-170.1453, 4244,   3247.0,   1.6098,  34.6790,2,  34.6783,2,    155.8,2,    155.8,2,   135.25,2,    35.46,2,     0.00,2,     2.46,2, -999.000,9, -999.000,9,   -999.0,9,   -999.0,9,  -999.00,9, -999.00,  1.3665
     3250031_1,   P31,    60,  1,     14,     14,2,19940208,0254, -9.7537,-170.1453, 4244,   3451.3,   1.5673,  34.6817,2,  34.6814,2,    158.7,2,    158.4,2,   135.22,2,    35.26,2,     0.00,2,     2.44,2, -999.000,9, -999.000,9,   -999.0,9,   -999.0,9,  -999.00,9, -999.00,  1.3045
     3250031_1,   P31,    60,  1,     13,     13,2,19940208,0254, -9.7537,-170.1453, 4244,   3553.3,   1.5496,  34.6834,2,  34.6830,2,    160.2,2,    159.7,2,   135.39,2,    35.22,2,     0.00,2,     2.44,2, -999.000,9, -999.000,9,   -999.0,9,   -999.0,9,  -999.00,9, -999.00,  1.2767
     3250031_1,   P31,    60,  1,     12,     12,2,19940208,0254, -9.7537,-170.1453, 4244,   3654.9,   1.5281,  34.6845,2,  34.6842,2,    162.6,2,    161.7,2,   134.95,2,    35.12,2,     0.00,2,     2.43,2, -999.000,9, -999.000,9,   -999.0,9,   -999.0,9,  -999.00,9, -999.00,  1.2452
     3250031_1,   P31,    60,  1,     11,     11,2,19940208,0254, -9.7537,-170.1453, 4244,   3755.1,   1.5027,  34.6864,2,  34.6845,2,    164.1,2,    163.2,2,   134.91,2,    34.98,2,     0.00,2,     2.42,2, -999.000,9, -999.000,9,   -999.0,9,   -999.0,9,  -999.00,9, -999.00,  1.2100
     3250031_1,   P31,    60,  1,     10,     10,2,19940208,0254, -9.7537,-170.1453, 4244,   3855.5,   1.4619,  34.6889,2,  34.6880,2,    168.1,2,    167.4,2,   133.45,2,    34.69,2,     0.00,2,     2.40,2, -999.000,9, -999.000,9,   -999.0,9,   -999.0,9,  -999.00,9, -999.00,  1.1596
     3250031_1,   P31,    60,  1,      9,      9,2,19940208,0254, -9.7537,-170.1453, 4244,   3908.2,   1.4094,  34.6924,2,  34.6922,2,    170.4,2,    173.0,2,   130.78,2,    34.25,2,     0.00,2,     2.37,2, -999.000,9, -999.000,9,   -999.0,9,   -999.0,9,  -999.00,9, -999.00,  1.1029
     3250031_1,   P31,    60,  1,      8,      8,2,19940208,0254, -9.7537,-170.1453, 4244,   3960.3,   1.3484,  34.6969,2,  34.6957,2,    176.9,2,    179.9,2,   127.74,2,    33.77,2,     0.00,2,     2.33,2, -999.000,9, -999.000,9,   -999.0,9,   -999.0,9,  -999.00,9, -999.00,  1.0380
     3250031_1,   P31,    60,  1,      7,      7,2,19940208,0254, -9.7537,-170.1453, 4244,   4012.7,   1.3170,  34.6997,2,  34.6997,2,    183.6,2,    184.1,2,   125.52,2,    33.38,2,     0.00,2,     2.30,2, -999.000,9, -999.000,9,   -999.0,9,   -999.0,9,  -999.00,9, -999.00,  1.0018
     3250031_1,   P31,    60,  1,      6,      6,2,19940208,0254, -9.7537,-170.1453, 4244,   4063.5,   1.2669,  34.7022,2,  34.7023,2,    187.3,2,    187.1,2,   124.69,2,    33.19,2,     0.00,2,     2.29,2,    0.006,2,    0.002,2,   -999.0,9,   -999.0,9,  -999.00,9, -999.00,  0.9476
     3250031_1,   P31,    60,  1,      5,      5,2,19940208,0254, -9.7537,-170.1453, 4244,   4113.7,   1.1356,  34.7069,2,  34.7062,2,    197.8,2,    198.4,2,   120.91,2,    32.46,2,     0.00,2,     2.23,2,    0.004,2,    0.002,2,   -999.0,9,   -999.0,9,  -999.00,9, -999.00,  0.8146
     3250031_1,   P31,    60,  1,      4,      4,2,19940208,0254, -9.7537,-170.1453, 4244,   4163.2,   1.1032,  34.7077,2,  34.7078,2,    200.7,2,    200.4,2,   120.29,2,    32.27,2,     0.00,2,     2.23,2,    0.011,3,    0.003,2,   -999.0,9,   -999.0,9,  -999.00,9, -999.00,  0.7778
     3250031_1,   P31,    60,  1,      3,      3,2,19940208,0254, -9.7537,-170.1453, 4244,   4213.4,   1.0785,  34.7085,2,  34.7077,2,    204.3,2,    203.0,2,   119.87,2,    32.12,2,     0.00,2,     2.22,2,    0.011,4,    0.002,2,   -999.0,9,   -999.0,9,  -999.00,9, -999.00,  0.7484
     3250031_1,   P31,    60,  1,      2,      2,2,19940208,0254, -9.7537,-170.1453, 4244,   4265.0,   1.0655,  34.7091,2,  34.7075,2,    202.3,2,    205.0,2,   119.45,2,    32.08,2,     0.00,2,     2.21,2,    0.009,2,    0.003,2,   -999.0,9,   -999.0,9,  -999.00,9, -999.00,  0.7301
     3250031_1,   P31,    60,  1,      1,      1,2,19940208,0254, -9.7537,-170.1453, 4244,   4346.0,   1.0574,  34.7089,2,  34.7095,2,    204.3,2,    202.5,2,   119.61,2,    32.03,2,     0.00,2,     2.21,2,    0.010,2,    0.008,2,   -999.0,9,   -999.0,9,  -999.00,9, -999.00,  0.7133