BOTTLE,20020814WHPSIOdm
EXPOCODE,SECT_ID,STNNBR,CASTNO,SAMPNO,BTLNBR,BTLNBR_FLAG_W,DATE,TIME,LATITUDE,LONGITUDE,DEPTH,CTDPRS,CTDTMP,CTDSAL,CTDSAL_FLAG_W,SALNTY,SALNTY_FLAG_W,CTDOXY,CTDOXY_FLAG_W,OXYGEN,OXYGEN_FLAG_W,SILCAT,SILCAT_FLAG_W,NITRAT,NITRAT_FLAG_W,NITRIT,NITRIT_FLAG_W,PHSPHT,PHSPHT_FLAG_W,CFC-11,CFC-11_FLAG_W,CFC-12,CFC-12_FLAG_W,TCARBN,TCARBN_FLAG_W,ALKALI,ALKALI_FLAG_W,PH,PH_FLAG_W,PHTEMP,THETA
,,,,,,,,,,,,DBAR,ITS-90,PSS-78,,PSS-78,,UMOL/KG,,UMOL/KG,,UMOL/KG,,UMOL/KG,,UMOL/KG,,UMOL/KG,,PMOL/KG,,PMOL/KG,,UMOL/KG,,UMOL/KG,,,,DEG C,DEG C
     3250031_1,   P31,    61,  1,     36,     36,2,19940208,0728, -9.6962,-170.3280, 4318,      3.2,  29.2408,  33.7973,2,  33.7932,2,    188.1,2,    194.8,2,     1.74,2,     0.04,2,     0.00,2,     0.16,2,    1.574,2,    0.879,2,   1869.2,2,   2222.7,2,     8.16,2,   25.00, 29.2400
     3250031_1,   P31,    61,  1,     35,     35,2,19940208,0728, -9.6962,-170.3280, 4318,     11.7,  29.5581,  33.9929,2,  34.0094,2,    179.3,2,    194.2,2,     1.55,2,     0.03,2,     0.00,2,     0.16,2, -999.000,9, -999.000,9,   1881.3,2,   2236.7,2,     8.15,2,   25.00, 29.5552
     3250031_1,   P31,    61,  1,     34,     34,2,19940208,0728, -9.6962,-170.3280, 4318,     56.4,  29.8949,  34.8232,4,  34.9524,2,   -999.0,5,    200.3,2,     1.72,2,     0.03,2,     0.01,2,     0.22,2,    1.593,2,    0.888,2,   1945.6,2,   2306.3,2,     8.13,2,   25.00, 29.8809
     3250031_1,   P31,    61,  1,     33,     33,2,19940208,0728, -9.6962,-170.3280, 4318,    106.8,  27.0883,  35.8751,2,  35.8793,2,    161.0,2,    149.6,2,     2.61,2,     4.68,2,     0.88,2,     0.65,2,    1.679,2,    0.913,2,   2058.1,2,   2357.9,2,     8.02,2,   25.00, 27.0637
     3250031_1,   P31,    61,  1,     32,     32,2,19940208,0728, -9.6962,-170.3280, 4318,    207.2,  19.6301,  35.7435,2,  35.7369,2,    145.8,2,    131.0,2,     4.40,2,    10.41,2,     0.02,2,     0.98,2,    1.698,6,    0.893,6,   2131.0,2,   2356.5,2,     7.88,2,   25.00, 19.5922
     3250031_1,   P31,    61,  1,     31,     31,2,19940208,0728, -9.6962,-170.3280, 4318,    308.1,  12.3626,  34.9008,2,  34.9127,2,     97.0,2,     94.8,2,    15.54,2,    22.41,2,     0.01,2,     1.74,2,    0.582,2,    0.309,2,   2185.0,2,   -999.0,9,     7.67,2,   25.00, 12.3215
     3250031_1,   P31,    61,  1,     30,     30,2,19940208,0728, -9.6962,-170.3280, 4318,    407.8,   9.6014,  34.7080,2,  34.7052,2,     92.1,2,     93.7,2,    25.60,2,    29.00,2,     0.01,2,     2.06,2,    0.165,2,    0.087,2,   2212.3,2,   2303.1,2,     7.59,2,   25.00,  9.5549
     3250031_1,   P31,    61,  1,     29,     29,2,19940208,0728, -9.6962,-170.3280, 4318,    609.5,   6.7896,  34.5448,2,  34.5437,2,    113.1,2,    117.2,2,    39.99,2,    33.03,2,     0.01,2,     2.28,2,    0.046,2,    0.023,2,   2227.7,2,   -999.0,9,     7.56,2,   25.00,  6.7322
     3250031_1,   P31,    61,  1,     28,     28,2,19940208,0728, -9.6962,-170.3280, 4318,    811.1,   5.3530,  34.5064,2,  34.5056,2,    120.2,2,    120.9,2,    55.50,2,    35.37,2,     0.01,2,     2.45,2, -999.000,9, -999.000,9,   2247.8,2,   2327.8,2,     7.54,2,   25.00,  5.2843
     3250031_1,   P31,    61,  1,     27,     27,2,19940208,0728, -9.6962,-170.3280, 4318,   1012.6,   4.4379,  34.5227,2,  34.5225,2,    116.1,2,    117.3,2,    73.08,2,    36.85,2,     0.01,2,     2.56,2,    0.014,2,    0.006,2,   2270.2,2,   -999.0,9,     7.53,2,   25.00,  4.3578
     3250031_1,   P31,    61,  1,     26,     26,2,19940208,0728, -9.6962,-170.3280, 4318,   1208.8,   3.6130,  34.5530,2,  34.5532,2,    123.0,2,    123.8,2,    90.15,2,    36.91,2,     0.00,2,     2.57,2, -999.000,9, -999.000,9,   2288.3,2,   2362.5,2,     7.53,2,   25.00,  3.5232
     3250031_1,   P31,    61,  1,     25,     25,2,19940208,0728, -9.6962,-170.3280, 4318,   1407.0,   3.0689,  34.5814,2,  34.5809,2,    128.3,2,    127.0,2,   103.06,2,    37.01,2,     0.01,2,     2.57,2, -999.000,9, -999.000,9,   2301.2,2,   -999.0,9,     7.54,2,   25.00,  2.9680
     3250031_1,   P31,    61,  1,     24,     24,2,19940208,0728, -9.6962,-170.3280, 4318,   1610.4,   2.7072,  34.6036,2,  34.6023,2,    127.4,2,    127.0,2,   113.37,2,    37.21,2,     0.01,2,     2.59,2, -999.000,9, -999.000,9,   2311.2,2,   2388.4,2,     7.54,2,   25.00,  2.5936
     3250031_1,   P31,    61,  1,     23,     23,2,19940208,0728, -9.6962,-170.3280, 4318,   1816.1,   2.4260,  34.6220,2,  34.6212,2,    130.8,2,    128.4,2,   121.16,2,    37.21,2,     0.01,2,     2.58,2,    0.013,2,    0.014,2,   2319.0,2,   2399.5,2,     7.54,2,   25.00,  2.2989
     3250031_1,   P31,    61,  1,     22,     22,2,19940208,0728, -9.6962,-170.3280, 4318,   2022.4,   2.2115,  34.6351,2,  34.6353,2,    130.5,2,    133.4,2,   125.32,2,    36.88,2,     0.00,2,     2.55,2, -999.000,9, -999.000,9,   2320.6,2,   2402.7,2,     7.55,2,   25.00,  2.0699
     3250031_1,   P31,    61,  1,     21,     21,2,19940208,0728, -9.6962,-170.3280, 4318,   2226.7,   2.0230,  34.6471,2,  34.6471,2,    138.1,2,    138.1,2,   129.32,2,    36.59,2,     0.00,2,     2.53,2, -999.000,9, -999.000,9,   2321.2,2,   -999.0,9,     7.56,2,   25.00,  1.8667
     3250031_1,   P31,    61,  1,     20,     20,2,19940208,0728, -9.6962,-170.3280, 4318,   2431.1,   1.9001,  34.6578,2,  34.6577,2,    139.5,2,    139.1,2,   133.78,2,    36.54,2,     0.00,2,     2.53,2, -999.000,9, -999.000,9,   2325.7,2,   2410.9,2,     7.56,2,   25.00,  1.7279
     3250031_1,   P31,    61,  1,     19,     19,2,19940208,0728, -9.6962,-170.3280, 4318,   2636.2,   1.8130,  34.6642,2,  34.6652,2,    142.2,2,    143.0,2,   135.01,2,    36.40,2,     0.00,2,     2.51,2, -999.000,9, -999.000,9,   2325.6,2,   -999.0,9,     7.57,2,   25.00,  1.6237
     3250031_1,   P31,    61,  1,     18,     18,2,19940208,0728, -9.6962,-170.3280, 4318,   2839.3,   1.7212,  34.6706,2,  34.6713,2,    148.8,2,    148.6,2,   135.63,2,    36.01,2,     0.00,2,     2.49,2,    0.004,2,    0.000,2,   2323.2,2,   2415.7,2,     7.59,2,   25.00,  1.5149
     3250031_1,   P31,    61,  1,     17,     17,2,19940208,0728, -9.6962,-170.3280, 4318,   3042.6,   1.6667,  34.6752,2,  34.6746,2,    150.2,2,    151.3,2,   136.25,2,    35.78,2,     0.00,2,     2.48,2, -999.000,9, -999.000,9,   2321.2,2,   -999.0,9,     7.58,2,   25.00,  1.4421
     3250031_1,   P31,    61,  1,     16,     16,2,19940208,0728, -9.6962,-170.3280, 4318,   3246.8,   1.6163,  34.6785,2,  34.6780,2,    155.8,2,    155.0,2,   135.85,2,    35.54,2,     0.00,2,     2.46,2, -999.000,9, -999.000,9,   2318.1,2,   2411.5,2,     7.58,2,   25.00,  1.3729
     3250031_1,   P31,    61,  1,     15,     15,2,19940208,0728, -9.6962,-170.3280, 4318,   3450.5,   1.5560,  34.6825,2,  34.6825,2,    158.5,2,    159.4,2,   135.64,2,    35.29,2,     0.00,2,     2.43,2, -999.000,9, -999.000,9,   2315.6,2,   2413.9,2,     7.59,2,   25.00,  1.2936
     3250031_1,   P31,    61,  1,     14,     14,2,19940208,0728, -9.6962,-170.3280, 4318,   3654.7,   1.5056,  34.6858,2,  34.6866,2,    163.7,2,    163.4,2,   135.03,2,    35.01,2,     0.00,2,     2.41,2,    0.003,2,   -0.002,2,   2312.3,2,   2410.4,2,     7.59,2,   25.00,  1.2233
     3250031_1,   P31,    61,  1,     13,     13,2,19940208,0728, -9.6962,-170.3280, 4318,   3756.9,   1.4798,  34.6872,2,  34.6872,2,    164.5,2,    164.9,2,   135.24,2,    34.91,2,     0.00,2,     2.41,2, -999.000,9, -999.000,9,   2311.2,2,   2407.1,2,     7.59,2,   25.00,  1.1875
     3250031_1,   P31,    61,  1,     12,     12,2,19940208,0728, -9.6962,-170.3280, 4318,   3858.4,   1.4632,  34.6884,2,  34.6882,2,    166.5,2,    166.3,2,   135.25,2,    34.82,2,     0.00,2,     2.40,2, -999.000,9, -999.000,9,   2310.9,2,   2408.7,2,     7.59,2,   25.00,  1.1606
     3250031_1,   P31,    61,  1,     11,     11,2,19940208,0728, -9.6962,-170.3280, 4318,   3910.5,   1.4497,  34.6892,2,  34.6882,2,    168.1,2,    167.5,2,   135.04,2,    34.78,2,     0.00,2,     2.39,2, -999.000,9, -999.000,9,   2309.9,2,   2409.2,2,     7.59,2,   25.00,  1.1419
     3250031_1,   P31,    61,  1,     10,     10,2,19940208,0728, -9.6962,-170.3280, 4318,   3961.5,   1.4276,  34.6905,2,  34.6900,2,    168.7,2,    169.2,2,   134.84,2,    34.64,2,     0.00,2,     2.39,2,    0.000,2,   -0.002,2,   2307.5,2,   2409.4,2,     7.60,2,   25.00,  1.1149
     3250031_1,   P31,    61,  1,      9,      9,2,19940208,0728, -9.6962,-170.3280, 4318,   4013.0,   1.3884,  34.6941,2,  34.6916,2,    171.7,2,    174.9,2,   131.79,2,    34.15,2,     0.00,2,     2.36,2, -999.000,9, -999.000,9,   -999.0,9,   2395.8,2,     7.60,2,   25.00,  1.0712
     3250031_1,   P31,    61,  1,      8,      8,2,19940208,0728, -9.6962,-170.3280, 4318,   4064.4,   1.3560,  34.6963,2,  34.6957,2,    178.5,2,    179.2,2,   128.96,2,    33.81,2,     0.00,2,     2.33,2, -999.000,9, -999.000,9,   2299.5,2,   2393.2,2,     7.60,2,   25.00,  1.0341
     3250031_1,   P31,    61,  1,      7,      7,2,19940208,0728, -9.6962,-170.3280, 4318,   4116.1,   1.2622,  34.7011,2,  34.7001,2,    184.7,2,    187.1,2,   125.96,2,    33.23,2,     0.00,2,     2.29,2, -999.000,9, -999.000,9,   2284.4,2,   2387.2,2,     7.60,2,   25.00,  0.9373
     3250031_1,   P31,    61,  1,      6,      6,2,19940208,0728, -9.6962,-170.3280, 4318,   4167.1,   1.1377,  34.7059,2,  34.7059,2,    197.9,2,    198.8,2,   122.00,2,    32.46,2,     0.00,2,     2.24,2,    0.006,2,    0.002,2,   2270.0,2,   2373.3,2,  -999.00,9, -999.00,  0.8108
     3250031_1,   P31,    61,  1,     51,     51,9,19940208,0728, -9.6962,-170.3280, 4318,   4218.1,   1.1127,  34.7074,2,-999.0000,9,    199.5,3,   -999.0,9,  -999.00,9,  -999.00,9,  -999.00,9,  -999.00,9, -999.000,9, -999.000,9,   -999.0,9,   -999.0,9,  -999.00,9, -999.00,  0.7810
     3250031_1,   P31,    61,  1,      5,      5,2,19940208,0728, -9.6962,-170.3280, 4318,   4218.5,   1.1120,  34.7073,2,  34.7075,2,    199.5,2,    200.5,2,   120.82,2,    32.27,2,     0.00,2,     2.23,2,    0.011,3,    0.011,3,   2267.3,2,   2371.2,2,     7.61,2,   25.00,  0.7803
     3250031_1,   P31,    61,  1,      3,      3,2,19940208,0728, -9.6962,-170.3280, 4318,   4269.4,   1.1079,  34.7074,2,  34.7069,2,    203.4,2,    201.0,2,   120.43,2,    32.22,2,     0.00,2,     2.22,2,    0.005,2,    0.006,2,   2267.1,2,   -999.0,9,     7.61,2,   25.00,  0.7707
     3250031_1,   P31,    61,  1,      2,      2,2,19940208,0728, -9.6962,-170.3280, 4318,   4320.6,   1.0921,  34.7085,2,  34.7083,2,    202.2,2,    203.0,2,   119.84,2,    32.13,2,     0.00,2,     2.22,2,    0.002,2,   -0.001,2,   2265.0,2,   2367.5,2,     7.61,2,   25.00,  0.7498
     3250031_1,   P31,    61,  1,      1,      1,2,19940208,0728, -9.6962,-170.3280, 4318,   4361.7,   1.0957,  34.7087,2,  34.7072,2,    203.8,3,    202.7,2,   120.04,2,    32.14,2,     0.00,2,     2.21,2,    0.012,3,    0.004,2,   2264.6,2,   2366.3,2,     7.61,2,   25.00,  0.7487