BOTTLE,20020814WHPSIOdm
EXPOCODE,SECT_ID,STNNBR,CASTNO,SAMPNO,BTLNBR,BTLNBR_FLAG_W,DATE,TIME,LATITUDE,LONGITUDE,DEPTH,CTDPRS,CTDTMP,CTDSAL,CTDSAL_FLAG_W,SALNTY,SALNTY_FLAG_W,CTDOXY,CTDOXY_FLAG_W,OXYGEN,OXYGEN_FLAG_W,SILCAT,SILCAT_FLAG_W,NITRAT,NITRAT_FLAG_W,NITRIT,NITRIT_FLAG_W,PHSPHT,PHSPHT_FLAG_W,CFC-11,CFC-11_FLAG_W,CFC-12,CFC-12_FLAG_W,TCARBN,TCARBN_FLAG_W,ALKALI,ALKALI_FLAG_W,PH,PH_FLAG_W,PHTEMP,THETA
,,,,,,,,,,,,DBAR,ITS-90,PSS-78,,PSS-78,,UMOL/KG,,UMOL/KG,,UMOL/KG,,UMOL/KG,,UMOL/KG,,UMOL/KG,,PMOL/KG,,PMOL/KG,,UMOL/KG,,UMOL/KG,,,,DEG C,DEG C
     3250031_1,   P31,    62,  1,     36,     36,2,19940208,1158, -9.6462,-170.4715, 4261,      3.4,  29.3532,  33.9058,2,  33.9052,2,    192.5,2,    204.9,2,     1.63,2,     0.01,2,     0.00,2,     0.16,2, -999.000,9, -999.000,9,   -999.0,9,   -999.0,9,  -999.00,9, -999.00, 29.3524
     3250031_1,   P31,    62,  1,     35,     35,2,19940208,1158, -9.6462,-170.4715, 4261,     17.7,  29.3559,  33.9037,2,  33.9064,2,    195.7,2,    201.4,2,     1.61,2,     0.00,2,     0.00,2,     0.16,2, -999.000,9, -999.000,9,   -999.0,9,   -999.0,9,  -999.00,9, -999.00, 29.3516
     3250031_1,   P31,    62,  1,     34,     34,2,19940208,1158, -9.6462,-170.4715, 4261,     56.7,  29.9034,  34.4066,2,  34.4227,2,    201.4,2,    204.8,2,     1.76,2,     0.00,2,     0.00,2,     0.17,2, -999.000,9, -999.000,9,   -999.0,9,   -999.0,9,  -999.00,9, -999.00, 29.8894
     3250031_1,   P31,    62,  1,     33,     33,2,19940208,1158, -9.6462,-170.4715, 4261,    106.2,  27.5577,  35.7628,2,  35.7844,2,    180.2,2,    159.6,2,     2.82,2,     4.52,2,     0.68,2,     0.64,2, -999.000,9, -999.000,9,   -999.0,9,   -999.0,9,  -999.00,9, -999.00, 27.5329
     3250031_1,   P31,    62,  1,     32,     32,2,19940208,1158, -9.6462,-170.4715, 4261,    207.1,  20.5093,  35.8424,2,  35.8248,2,    143.4,2,    134.1,2,     4.06,2,     9.72,2,     0.02,2,     0.94,2, -999.000,9, -999.000,9,   -999.0,9,   -999.0,9,  -999.00,9, -999.00, 20.4701
     3250031_1,   P31,    62,  1,     31,     31,2,19940208,1158, -9.6462,-170.4715, 4261,    308.1,  12.6099,  34.9308,2,  34.9156,2,     95.7,2,     93.5,2,    15.77,2,    22.54,2,     0.00,2,     1.76,2, -999.000,9, -999.000,9,   -999.0,9,   -999.0,9,  -999.00,9, -999.00, 12.5682
     3250031_1,   P31,    62,  1,     30,     30,2,19940208,1158, -9.6462,-170.4715, 4261,    409.0,   9.9947,  34.7346,2,  34.7224,2,     86.6,2,     87.9,2,    25.33,2,    29.00,2,     0.00,2,     2.09,2, -999.000,9, -999.000,9,   -999.0,9,   -999.0,9,  -999.00,9, -999.00,  9.9469
     3250031_1,   P31,    62,  1,     29,     29,2,19940208,1158, -9.6462,-170.4715, 4261,    607.2,   6.9774,  34.5576,2,  34.5560,2,    106.9,2,    109.1,2,    40.13,2,    33.56,2,     0.00,2,     2.31,2, -999.000,9, -999.000,9,   -999.0,9,   -999.0,9,  -999.00,9, -999.00,  6.9193
     3250031_1,   P31,    62,  1,     28,     28,2,19940208,1158, -9.6462,-170.4715, 4261,    803.7,   5.4616,  34.5147,2,  34.5134,2,    111.8,2,    112.9,2,    56.60,2,    36.02,2,     0.00,2,     2.50,2, -999.000,9, -999.000,9,   -999.0,9,   -999.0,9,  -999.00,9, -999.00,  5.3929
     3250031_1,   P31,    62,  1,     27,     27,2,19940208,1158, -9.6462,-170.4715, 4261,   1006.2,   4.3920,  34.5253,2,  34.5256,2,    117.2,2,    117.5,2,    74.81,2,    36.96,2,     0.00,2,     2.57,2, -999.000,9, -999.000,9,   -999.0,9,   -999.0,9,  -999.00,9, -999.00,  4.3128
     3250031_1,   P31,    62,  1,     26,     26,2,19940208,1158, -9.6462,-170.4715, 4261,   1260.8,   3.3660,  34.5666,2,  34.5659,2,    124.3,2,    124.5,2,    97.03,2,    37.06,2,     0.00,2,     2.59,2, -999.000,9, -999.000,9,   -999.0,9,   -999.0,9,  -999.00,9, -999.00,  3.2741
     3250031_1,   P31,    62,  1,     25,     25,2,19940208,1158, -9.6462,-170.4715, 4261,   1514.1,   2.8259,  34.5939,2,  34.5946,2,    131.5,2,    129.5,2,   108.98,2,    36.92,2,     0.00,2,     2.57,2, -999.000,9, -999.000,9,   -999.0,9,   -999.0,9,  -999.00,9, -999.00,  2.7189
     3250031_1,   P31,    62,  1,     24,     24,2,19940208,1158, -9.6462,-170.4715, 4261,   1760.0,   2.4434,  34.6203,2,  34.6202,2,    129.4,2,    128.1,2,   121.03,2,    37.23,2,     0.00,2,     2.60,2, -999.000,9, -999.000,9,   -999.0,9,   -999.0,9,  -999.00,9, -999.00,  2.3207
     3250031_1,   P31,    62,  1,     23,     23,2,19940208,1158, -9.6462,-170.4715, 4261,   2005.3,   2.2298,  34.6336,2,  34.6346,2,    134.0,2,    132.9,2,   125.80,2,    36.99,2,     0.00,2,     2.57,2, -999.000,9, -999.000,9,   -999.0,9,   -999.0,9,  -999.00,9, -999.00,  2.0894
     3250031_1,   P31,    62,  1,     22,     22,2,19940208,1158, -9.6462,-170.4715, 4261,   2264.3,   2.0241,  34.6485,2,  34.6490,2,    136.8,2,    136.3,2,   131.04,2,    36.75,2,     0.00,2,     2.55,2, -999.000,9, -999.000,9,   -999.0,9,   -999.0,9,  -999.00,9, -999.00,  1.8645
     3250031_1,   P31,    62,  1,     21,     21,2,19940208,1158, -9.6462,-170.4715, 4261,   2522.3,   1.8755,  34.6589,2,  34.6590,2,    142.2,2,    140.6,2,   134.71,2,    36.56,2,     0.00,2,     2.53,2,    0.004,2,    0.001,2,   -999.0,9,   -999.0,9,  -999.00,9, -999.00,  1.6955
     3250031_1,   P31,    62,  1,     20,     20,2,19940208,1158, -9.6462,-170.4715, 4261,   2780.9,   1.7392,  34.6687,2,  34.6693,2,    146.8,2,    146.9,2,   136.15,2,    36.22,2,     0.00,2,     2.50,2, -999.000,9, -999.000,9,   -999.0,9,   -999.0,9,  -999.00,9, -999.00,  1.5380
     3250031_1,   P31,    62,  1,     19,     19,2,19940208,1158, -9.6462,-170.4715, 4261,   3036.9,   1.6670,  34.6749,2,  34.6756,2,    151.3,2,    151.6,2,   136.16,2,    35.89,2,     0.00,2,     2.48,2, -999.000,9, -999.000,9,   -999.0,9,   -999.0,9,  -999.00,9, -999.00,  1.4429
     3250031_1,   P31,    62,  1,     18,     18,2,19940208,1158, -9.6462,-170.4715, 4261,   3242.1,   1.6125,  34.6789,2,  34.6790,2,    154.2,2,    155.2,2,   136.37,2,    35.60,2,     0.00,2,     2.45,2, -999.000,9, -999.000,9,   -999.0,9,   -999.0,9,  -999.00,9, -999.00,  1.3696
     3250031_1,   P31,    62,  1,     17,     17,2,19940208,1158, -9.6462,-170.4715, 4261,   3444.5,   1.5471,  34.6826,2,  34.6822,2,    157.9,2,    159.5,2,   136.17,2,    35.31,2,     0.00,2,     2.44,2, -999.000,9, -999.000,9,   -999.0,9,   -999.0,9,  -999.00,9, -999.00,  1.2854
     3250031_1,   P31,    62,  1,     16,     16,2,19940208,1158, -9.6462,-170.4715, 4261,   3544.6,   1.5243,  34.6844,2,  34.6855,2,    160.3,2,    161.6,2,   135.96,2,    35.18,2,     0.00,2,     2.43,2, -999.000,9, -999.000,9,   -999.0,9,   -999.0,9,  -999.00,9, -999.00,  1.2529
     3250031_1,   P31,    62,  1,     15,     15,2,19940208,1158, -9.6462,-170.4715, 4261,   3642.3,   1.5046,  34.6850,2,  34.6852,2,    163.3,2,    162.8,2,   136.38,2,    35.09,2,     0.00,2,     2.43,2, -999.000,9, -999.000,9,   -999.0,9,   -999.0,9,  -999.00,9, -999.00,  1.2236
     3250031_1,   P31,    62,  1,     14,     14,2,19940208,1158, -9.6462,-170.4715, 4261,   3739.3,   1.4907,  34.6866,2,  34.6870,2,    164.8,2,    163.7,2,   136.38,2,    34.99,2,     0.00,2,     2.43,2, -999.000,9, -999.000,9,   -999.0,9,   -999.0,9,  -999.00,9, -999.00,  1.2000
     3250031_1,   P31,    62,  1,     13,     13,2,19940208,1158, -9.6462,-170.4715, 4261,   3787.6,   1.4824,  34.6874,2,  34.6880,2,    165.9,2,    165.9,2,   135.36,2,    34.95,2,     0.00,2,     2.42,2, -999.000,9, -999.000,9,   -999.0,9,   -999.0,9,  -999.00,9, -999.00,  1.1868
     3250031_1,   P31,    62,  1,     12,     12,2,19940208,1158, -9.6462,-170.4715, 4261,   3836.5,   1.4522,  34.6898,2,  34.6902,2,    169.2,2,    169.4,2,   133.31,2,    34.62,2,     0.00,2,     2.40,2, -999.000,9, -999.000,9,   -999.0,9,   -999.0,9,  -999.00,9, -999.00,  1.1522
     3250031_1,   P31,    62,  1,     11,     11,2,19940208,1158, -9.6462,-170.4715, 4261,   3886.5,   1.4357,  34.6915,2,  34.6912,2,    172.0,2,    171.9,2,   132.09,2,    34.53,2,     0.00,2,     2.39,2, -999.000,9, -999.000,9,   -999.0,9,   -999.0,9,  -999.00,9, -999.00,  1.1308
     3250031_1,   P31,    62,  1,     10,     10,2,19940208,1158, -9.6462,-170.4715, 4261,   3938.3,   1.3954,  34.6933,2,  34.6926,2,    173.0,2,    173.5,2,   132.30,2,    34.34,2,     0.00,2,     2.38,2, -999.000,9, -999.000,9,   -999.0,9,   -999.0,9,  -999.00,9, -999.00,  1.0860
     3250031_1,   P31,    62,  1,      9,      9,2,19940208,1158, -9.6462,-170.4715, 4261,   3989.3,   1.3185,  34.6988,2,  34.6988,2,    181.4,2,    182.7,2,   127.44,2,    33.66,2,     0.00,2,     2.32,2, -999.000,9, -999.000,9,   -999.0,9,   -999.0,9,  -999.00,9, -999.00,  1.0058
     3250031_1,   P31,    62,  1,      8,      8,2,19940208,1158, -9.6462,-170.4715, 4261,   3989.3,   1.3178,  34.6989,2,  34.6982,2,    181.4,2,    182.3,2,   127.44,2,    33.62,2,     0.00,2,     2.33,2, -999.000,9, -999.000,9,   -999.0,9,   -999.0,9,  -999.00,9, -999.00,  1.0051
     3250031_1,   P31,    62,  1,      7,      7,2,19940208,1158, -9.6462,-170.4715, 4261,   4040.8,   1.2035,  34.7062,2,  34.7063,2,    193.8,2,    194.5,2,   121.86,2,    32.70,2,     0.00,2,     2.27,2, -999.000,9, -999.000,9,   -999.0,9,   -999.0,9,  -999.00,9, -999.00,  0.8885
     3250031_1,   P31,    62,  1,      6,      6,2,19940208,1158, -9.6462,-170.4715, 4261,   4092.2,   1.1586,  34.7093,2,  34.7089,2,    199.0,2,    199.0,2,   119.88,2,    32.31,2,     0.00,2,     2.24,2,    0.006,2,   -0.001,2,   -999.0,9,   -999.0,9,  -999.00,9, -999.00,  0.8393
     3250031_1,   P31,    62,  1,     51,     51,2,19940208,1158, -9.6462,-170.4715, 4261,   4142.7,   1.0989,  34.7095,2,  34.7100,2,    202.5,2,   -999.0,5,   119.49,2,    32.08,2,     0.00,2,     2.23,2,    0.011,2,    0.002,2,   -999.0,9,   -999.0,9,  -999.00,9, -999.00,  0.7758
     3250031_1,   P31,    62,  1,      5,      5,2,19940208,1158, -9.6462,-170.4715, 4261,   4142.8,   1.0995,  34.7093,2,  34.7095,2,    202.5,2,    202.1,2,   119.69,2,    32.17,2,     0.00,2,     2.23,2,    0.006,2,    0.010,2,   -999.0,9,   -999.0,9,  -999.00,9, -999.00,  0.7764
     3250031_1,   P31,    62,  1,      3,      3,2,19940208,1158, -9.6462,-170.4715, 4261,   4194.4,   1.0839,  34.7094,2,  34.7080,2,    204.0,2,    202.6,2,   119.69,2,    32.14,2,     0.00,2,     2.23,2,    0.003,2,   -0.001,2,   -999.0,9,   -999.0,9,  -999.00,9, -999.00,  0.7557
     3250031_1,   P31,    62,  1,      2,      2,2,19940208,1158, -9.6462,-170.4715, 4261,   4245.2,   1.0680,  34.7093,2,  34.7100,2,    202.6,2,    203.1,2,   119.69,2,    32.15,2,     0.00,2,     2.22,2,    0.013,3,    0.002,2,   -999.0,9,   -999.0,9,  -999.00,9, -999.00,  0.7347
     3250031_1,   P31,    62,  1,      1,      1,2,19940208,1158, -9.6462,-170.4715, 4261,   4312.2,   1.0675,  34.7094,2,  34.7099,2,    204.1,2,    203.7,2,   119.70,2,    32.16,2,     0.00,2,     2.23,2,    0.006,2,    0.000,2,   -999.0,9,   -999.0,9,  -999.00,9, -999.00,  0.7268