BOTTLE,20020814WHPSIOdm
EXPOCODE,SECT_ID,STNNBR,CASTNO,SAMPNO,BTLNBR,BTLNBR_FLAG_W,DATE,TIME,LATITUDE,LONGITUDE,DEPTH,CTDPRS,CTDTMP,CTDSAL,CTDSAL_FLAG_W,SALNTY,SALNTY_FLAG_W,CTDOXY,CTDOXY_FLAG_W,OXYGEN,OXYGEN_FLAG_W,SILCAT,SILCAT_FLAG_W,NITRAT,NITRAT_FLAG_W,NITRIT,NITRIT_FLAG_W,PHSPHT,PHSPHT_FLAG_W,CFC-11,CFC-11_FLAG_W,CFC-12,CFC-12_FLAG_W,TCARBN,TCARBN_FLAG_W,ALKALI,ALKALI_FLAG_W,PH,PH_FLAG_W,PHTEMP,THETA
,,,,,,,,,,,,DBAR,ITS-90,PSS-78,,PSS-78,,UMOL/KG,,UMOL/KG,,UMOL/KG,,UMOL/KG,,UMOL/KG,,UMOL/KG,,PMOL/KG,,PMOL/KG,,UMOL/KG,,UMOL/KG,,,,DEG C,DEG C
     3250031_1,   P31,    58,  1,     36,     36,2,19940207,1622, -9.8318,-169.9067, 4953,      4.3,  29.5348,  34.0026,2,  34.0031,2,    192.6,3,    194.1,2,     2.04,2,     0.07,2,     0.00,2,     0.16,2, -999.000,9, -999.000,9,   -999.0,9,   -999.0,9,  -999.00,9, -999.00, 29.5337
     3250031_1,   P31,    58,  1,     35,     35,2,19940207,1622, -9.8318,-169.9067, 4953,     17.9,  29.5751,  34.0169,2,  34.0174,2,    126.2,3,    194.1,2,     1.85,2,     0.07,2,     0.00,2,     0.17,2, -999.000,9, -999.000,9,   -999.0,9,   -999.0,9,  -999.00,9, -999.00, 29.5707
     3250031_1,   P31,    58,  1,     34,     34,2,19940207,1622, -9.8318,-169.9067, 4953,     57.2,  30.1150,  34.6842,2,  34.7681,2,    200.1,3,    199.2,2,     1.83,2,     0.07,2,     0.00,2,     0.19,2, -999.000,9, -999.000,9,   -999.0,9,   -999.0,9,  -999.00,9, -999.00, 30.1008
     3250031_1,   P31,    58,  1,     33,     33,2,19940207,1622, -9.8318,-169.9067, 4953,    108.3,  27.4825,  35.8424,2,  35.8550,2,    155.5,2,    156.7,2,     2.72,2,     3.66,2,     0.92,2,     0.59,2, -999.000,9, -999.000,9,   -999.0,9,   -999.0,9,  -999.00,9, -999.00, 27.4573
     3250031_1,   P31,    58,  1,     32,     32,2,19940207,1622, -9.8318,-169.9067, 4953,    207.7,  21.2412,  35.9406,2,  35.9490,2,    139.5,2,    138.3,2,     3.42,2,     8.53,2,     0.02,2,     0.84,2, -999.000,9, -999.000,9,   -999.0,9,   -999.0,9,  -999.00,9, -999.00, 21.2009
     3250031_1,   P31,    58,  1,     31,     31,2,19940207,1622, -9.8318,-169.9067, 4953,    308.3,  12.6881,  34.9329,2,  34.9337,2,     98.3,2,     97.8,2,    14.93,2,    21.67,2,     0.00,2,     1.69,2, -999.000,9, -999.000,9,   -999.0,9,   -999.0,9,  -999.00,9, -999.00, 12.6463
     3250031_1,   P31,    58,  1,     30,     30,2,19940207,1622, -9.8318,-169.9067, 4953,    408.9,   9.3672,  34.6932,2,  34.6953,2,    101.6,2,    101.8,2,    25.90,2,    28.78,2,     0.00,2,     2.04,2, -999.000,9, -999.000,9,   -999.0,9,   -999.0,9,  -999.00,9, -999.00,  9.3213
     3250031_1,   P31,    58,  1,     29,     29,2,19940207,1622, -9.8318,-169.9067, 4953,    610.5,   6.7702,  34.5304,2,  34.5295,2,    132.1,2,    133.1,2,    37.41,2,    31.47,2,     0.00,2,     2.18,2, -999.000,9, -999.000,9,   -999.0,9,   -999.0,9,  -999.00,9, -999.00,  6.7128
     3250031_1,   P31,    58,  1,     28,     28,2,19940207,1622, -9.8318,-169.9067, 4953,    807.7,   5.3814,  34.5098,2,  34.5083,2,    117.1,2,    117.6,2,    55.99,2,    35.58,2,     0.00,2,     2.47,2, -999.000,9, -999.000,9,   -999.0,9,   -999.0,9,  -999.00,9, -999.00,  5.3129
     3250031_1,   P31,    58,  1,     27,     27,2,19940207,1622, -9.8318,-169.9067, 4953,   1011.2,   4.5381,  34.5214,2,  34.5216,2,    115.6,2,    117.0,2,    71.39,2,    36.77,2,     0.00,2,     2.56,2, -999.000,9, -999.000,9,   -999.0,9,   -999.0,9,  -999.00,9, -999.00,  4.4573
     3250031_1,   P31,    58,  1,     26,     26,2,19940207,1622, -9.8318,-169.9067, 4953,   1230.7,   3.6266,  34.5522,2,  34.5519,2,    125.1,2,    123.9,2,    89.73,2,    36.77,2,     0.00,2,     2.57,2, -999.000,9, -999.000,9,   -999.0,9,   -999.0,9,  -999.00,9, -999.00,  3.5348
     3250031_1,   P31,    58,  1,     25,     25,2,19940207,1622, -9.8318,-169.9067, 4953,   1517.3,   2.7696,  34.5941,2,  34.5943,2,    135.9,2,    134.4,2,   107.17,2,    36.47,2,     0.00,2,     2.54,2, -999.000,9, -999.000,9,   -999.0,9,   -999.0,9,  -999.00,9, -999.00,  2.6629
     3250031_1,   P31,    58,  1,     24,     24,2,19940207,1622, -9.8318,-169.9067, 4953,   1771.2,   2.4106,  34.6188,2,  34.6189,2,    137.0,2,    136.3,2,   117.35,2,    36.47,2,     0.00,2,     2.54,2, -999.000,9, -999.000,9,   -999.0,9,   -999.0,9,  -999.00,9, -999.00,  2.2875
     3250031_1,   P31,    58,  1,     23,     23,2,19940207,1622, -9.8318,-169.9067, 4953,   2026.4,   2.1518,  34.6382,2,  34.6365,2,    136.5,2,    136.1,2,   126.00,2,    36.62,2,     0.00,2,     2.55,2, -999.000,9, -999.000,9,   -999.0,9,   -999.0,9,  -999.00,9, -999.00,  2.0108
     3250031_1,   P31,    58,  1,     22,     22,2,19940207,1622, -9.8318,-169.9067, 4953,   2275.8,   1.9975,  34.6502,2,  34.6501,2,    138.6,2,    137.4,2,   131.41,2,    36.57,2,     0.00,2,     2.54,2,    0.000,2,   -0.001,2,   -999.0,9,   -999.0,9,  -999.00,9, -999.00,  1.8374
     3250031_1,   P31,    58,  1,     21,     21,2,19940207,1622, -9.8318,-169.9067, 4953,   2521.1,   1.8645,  34.6600,2,  34.6589,2,    142.1,2,    141.5,2,   134.44,2,    36.37,2,     0.00,2,     2.53,2, -999.000,9, -999.000,9,   -999.0,9,   -999.0,9,  -999.00,9, -999.00,  1.6848
     3250031_1,   P31,    58,  1,     20,     20,2,19940207,1622, -9.8318,-169.9067, 4953,   2778.8,   1.7389,  34.6697,2,  34.6689,2,    147.2,2,    147.2,2,   135.65,2,    35.98,2,     0.00,2,     2.50,2, -999.000,9, -999.000,9,   -999.0,9,   -999.0,9,  -999.00,9, -999.00,  1.5379
     3250031_1,   P31,    58,  1,     19,     19,2,19940207,1622, -9.8318,-169.9067, 4953,   3037.3,   1.6607,  34.6755,2,  34.6752,2,    151.4,2,    152.2,2,   135.63,2,    35.69,2,     0.00,2,     2.48,2, -999.000,9, -999.000,9,   -999.0,9,   -999.0,9,  -999.00,9, -999.00,  1.4367
     3250031_1,   P31,    58,  1,     18,     18,2,19940207,1622, -9.8318,-169.9067, 4953,   3240.1,   1.6141,  34.6788,2,  34.6786,2,    155.5,2,    156.1,2,   135.81,2,    35.44,2,     0.00,2,     2.46,2, -999.000,9, -999.000,9,   -999.0,9,   -999.0,9,  -999.00,9, -999.00,  1.3714
     3250031_1,   P31,    58,  1,     17,     17,2,19940207,1622, -9.8318,-169.9067, 4953,   3440.8,   1.5755,  34.6817,2,  34.6803,2,    157.6,2,    159.1,2,   135.79,2,    35.24,2,     0.00,2,     2.45,2, -999.000,9, -999.000,9,   -999.0,9,   -999.0,9,  -999.00,9, -999.00,  1.3135
     3250031_1,   P31,    58,  1,     16,     16,2,19940207,1622, -9.8318,-169.9067, 4953,   3541.8,   1.5527,  34.6832,2,  34.6844,2,    160.8,2,    160.0,2,   135.98,2,    35.15,2,     0.00,2,     2.44,2, -999.000,9, -999.000,9,   -999.0,9,   -999.0,9,  -999.00,9, -999.00,  1.2809
     3250031_1,   P31,    58,  1,     15,     15,2,19940207,1622, -9.8318,-169.9067, 4953,   3642.3,   1.5401,  34.6843,2,  34.6809,3,    161.3,2,    161.5,2,   135.55,2,    35.05,2,     0.00,2,     2.44,2, -999.000,9, -999.000,9,   -999.0,9,   -999.0,9,  -999.00,9, -999.00,  1.2582
     3250031_1,   P31,    58,  1,     14,     14,2,19940207,1622, -9.8318,-169.9067, 4953,   3743.0,   1.5145,  34.6858,2,  34.6844,2,    163.4,2,    163.3,2,   135.11,2,    34.90,2,     0.00,2,     2.42,2, -999.000,9, -999.000,9,   -999.0,9,   -999.0,9,  -999.00,9, -999.00,  1.2227
     3250031_1,   P31,    58,  1,     13,     13,2,19940207,1622, -9.8318,-169.9067, 4953,   3843.8,   1.4736,  34.6885,2,  34.6886,2,    166.1,2,    167.0,2,   134.48,2,    34.66,2,     0.00,2,     2.41,2, -999.000,9, -999.000,9,   -999.0,9,   -999.0,9,  -999.00,9, -999.00,  1.1722
     3250031_1,   P31,    58,  1,     12,     12,2,19940207,1622, -9.8318,-169.9067, 4953,   3945.6,   1.3893,  34.6937,2,  34.6935,2,    172.3,2,    175.4,2,   131.20,2,    34.07,2,     0.00,2,     2.36,2, -999.000,9, -999.000,9,   -999.0,9,   -999.0,9,  -999.00,9, -999.00,  1.0793
     3250031_1,   P31,    58,  1,     11,     11,2,19940207,1622, -9.8318,-169.9067, 4953,   4047.5,   1.2739,  34.7054,2,  34.7049,2,    188.8,2,    191.8,2,   121.21,2,    32.69,2,     0.00,2,     2.26,2, -999.000,9, -999.000,9,   -999.0,9,   -999.0,9,  -999.00,9, -999.00,  0.9561
     3250031_1,   P31,    58,  1,     10,     10,2,19940207,1622, -9.8318,-169.9067, 4953,   4126.0,   1.1910,  34.7086,2,  34.7072,2,    195.1,2,    197.8,2,   119.22,2,    32.30,2,     0.00,2,     2.23,2, -999.000,9, -999.000,9,   -999.0,9,   -999.0,9,  -999.00,9, -999.00,  0.8671
     3250031_1,   P31,    58,  1,      9,      9,2,19940207,1622, -9.8318,-169.9067, 4953,   4205.1,   1.1878,  34.7095,2,  34.7080,2,    198.8,2,    199.0,2,   119.01,2,    32.15,2,     0.00,2,     2.23,2, -999.000,9, -999.000,9,   -999.0,9,   -999.0,9,  -999.00,9, -999.00,  0.8554
     3250031_1,   P31,    58,  1,      8,      8,2,19940207,1622, -9.8318,-169.9067, 4953,   4285.1,   1.1474,  34.7108,2,  34.7100,2,    200.9,2,    201.6,2,   118.40,2,    32.01,2,     0.00,2,     2.22,2, -999.000,9, -999.000,9,   -999.0,9,   -999.0,9,  -999.00,9, -999.00,  0.8073
     3250031_1,   P31,    58,  1,      7,      7,2,19940207,1622, -9.8318,-169.9067, 4953,   4364.0,   1.0869,  34.7103,2,  34.7103,2,    203.7,2,    204.2,2,   118.58,2,    31.91,2,     0.00,2,     2.21,2, -999.000,9, -999.000,9,   -999.0,9,   -999.0,9,  -999.00,9, -999.00,  0.7399
     3250031_1,   P31,    58,  1,      6,      6,2,19940207,1622, -9.8318,-169.9067, 4953,   4442.8,   1.0474,  34.7091,2,  34.7094,2,    205.3,2,    205.2,2,   120.13,2,    32.01,2,     0.00,2,     2.21,2,    0.011,2,    0.011,2,   -999.0,9,   -999.0,9,  -999.00,9, -999.00,  0.6928
     3250031_1,   P31,    58,  1,      5,      5,2,19940207,1622, -9.8318,-169.9067, 4953,   4521.0,   1.0541,  34.7091,2,  34.7076,2,    204.9,2,    205.5,2,   120.70,2,    31.96,2,     0.00,2,     2.21,2,    0.017,2,    0.004,2,   -999.0,9,   -999.0,9,  -999.00,9, -999.00,  0.6905
     3250031_1,   P31,    58,  1,      4,      4,2,19940207,1622, -9.8318,-169.9067, 4953,   4674.8,   1.0619,  34.7087,2,  34.7074,2,    205.8,2,    205.9,2,   120.87,2,    32.01,2,     0.00,2,     2.20,2,    0.012,2,    0.014,2,   -999.0,9,   -999.0,9,  -999.00,9, -999.00,  0.6805
     3250031_1,   P31,    58,  1,      3,      3,2,19940207,1622, -9.8318,-169.9067, 4953,   4828.1,   1.0721,  34.7089,2,  34.7076,2,    206.6,2,    206.1,2,   120.66,2,    31.96,2,     0.00,2,     2.20,2,    0.004,2,   -0.002,2,   -999.0,9,   -999.0,9,  -999.00,9, -999.00,  0.6726
     3250031_1,   P31,    58,  1,      2,      2,2,19940207,1622, -9.8318,-169.9067, 4953,   4979.0,   1.0764,  34.7082,2,  34.7072,2,    206.5,2,    205.9,2,   120.83,2,    31.91,2,     0.00,2,     2.20,2,    0.007,2,   -0.001,2,   -999.0,9,   -999.0,9,  -999.00,9, -999.00,  0.6589
     3250031_1,   P31,    58,  1,      1,      1,2,19940207,1622, -9.8318,-169.9067, 4953,   5063.4,   1.0824,  34.7079,2,  34.7077,2,    205.8,2,    205.2,2,   120.62,2,    31.91,2,     0.00,2,     2.21,2,    0.010,2,   -0.003,2,   -999.0,9,   -999.0,9,  -999.00,9, -999.00,  0.6546