BOTTLE,20020814WHPSIOdm
EXPOCODE,SECT_ID,STNNBR,CASTNO,SAMPNO,BTLNBR,BTLNBR_FLAG_W,DATE,TIME,LATITUDE,LONGITUDE,DEPTH,CTDPRS,CTDTMP,CTDSAL,CTDSAL_FLAG_W,SALNTY,SALNTY_FLAG_W,CTDOXY,CTDOXY_FLAG_W,OXYGEN,OXYGEN_FLAG_W,SILCAT,SILCAT_FLAG_W,NITRAT,NITRAT_FLAG_W,NITRIT,NITRIT_FLAG_W,PHSPHT,PHSPHT_FLAG_W,CFC-11,CFC-11_FLAG_W,CFC-12,CFC-12_FLAG_W,TCARBN,TCARBN_FLAG_W,ALKALI,ALKALI_FLAG_W,PH,PH_FLAG_W,PHTEMP,THETA
,,,,,,,,,,,,DBAR,ITS-90,PSS-78,,PSS-78,,UMOL/KG,,UMOL/KG,,UMOL/KG,,UMOL/KG,,UMOL/KG,,UMOL/KG,,PMOL/KG,,PMOL/KG,,UMOL/KG,,UMOL/KG,,,,DEG C,DEG C
     3250031_1,   P31,     8,  1,     36,     36,2,19940127,1525,-15.8082,-151.4820, 4153,      2.0,  29.2962,  36.0155,2,  36.0151,2,    190.7,2,    198.0,2,     2.00,2,     0.14,2,     0.00,2,     0.20,3,    1.570,2,    0.848,2,   -999.0,9,   -999.0,9,  -999.00,9, -999.00, 29.2957
     3250031_1,   P31,     8,  1,     35,     35,2,19940127,1525,-15.8082,-151.4820, 4153,     16.0,  29.2771,  36.0415,2,  36.0407,2,    200.1,2,    197.8,2,     1.60,2,     0.14,2,     0.00,2,     0.19,3,    1.591,2,    0.850,2,   -999.0,9,   -999.0,9,  -999.00,9, -999.00, 29.2732
     3250031_1,   P31,     8,  1,     34,     34,2,19940127,1525,-15.8082,-151.4820, 4153,     56.1,  27.5201,  36.1643,2,  36.1647,2,    202.8,2,    206.1,2,     1.39,2,     0.14,2,     0.00,2,     0.18,3,    1.665,2,    0.870,2,   -999.0,9,   -999.0,9,  -999.00,9, -999.00, 27.5070
     3250031_1,   P31,     8,  1,     33,     33,2,19940127,1525,-15.8082,-151.4820, 4153,    105.9,  25.2258,  36.2896,2,  36.2865,2,    192.7,2,    193.5,2,     1.18,2,     0.13,2,     0.01,2,     0.26,3,    1.751,2,    0.913,2,   -999.0,9,   -999.0,9,  -999.00,9, -999.00, 25.2026
     3250031_1,   P31,     8,  1,     32,     32,2,19940127,1525,-15.8082,-151.4820, 4153,    206.0,  20.8559,  35.8848,2,  35.8825,2,    162.1,2,    171.0,2,     1.52,2,     4.38,2,     0.01,2,     0.51,3,    1.758,6,    0.893,6,   -999.0,9,   -999.0,9,  -999.00,9, -999.00, 20.8165
     3250031_1,   P31,     8,  1,     31,     31,2,19940127,1525,-15.8082,-151.4820, 4153,    305.7,  16.3347,  35.2909,2,  35.2814,2,    165.7,2,    165.6,2,     3.71,2,     9.22,2,     0.00,2,     0.83,3,    1.521,2,    0.751,2,   -999.0,9,   -999.0,9,  -999.00,9, -999.00, 16.2854
     3250031_1,   P31,     8,  1,     30,     30,2,19940127,1525,-15.8082,-151.4820, 4153,    405.8,  11.0595,  34.7171,2,  34.7220,2,    134.8,2,    134.7,2,    12.88,2,    20.70,2,     0.00,2,     1.61,3,    0.675,2,    0.327,2,   -999.0,9,   -999.0,9,  -999.00,9, -999.00, 11.0090
     3250031_1,   P31,     8,  1,     29,     29,2,19940127,1525,-15.8082,-151.4820, 4153,    504.9,   8.3263,  34.5368,2,  34.5354,2,    130.8,2,    130.9,2,    22.80,2,    27.70,2,     0.00,2,     2.02,3,    0.219,2,    0.110,2,   -999.0,9,   -999.0,9,  -999.00,9, -999.00,  8.2733
     3250031_1,   P31,     8,  1,     28,     28,2,19940127,1525,-15.8082,-151.4820, 4153,    605.0,   6.5837,  34.4559,2,  34.4545,2,    147.3,2,    148.8,2,    31.07,2,    30.49,2,     0.00,2,     2.16,3,    0.115,4,    0.037,2,   -999.0,9,   -999.0,9,  -999.00,9, -999.00,  6.5278
     3250031_1,   P31,     8,  1,     27,     27,2,19940127,1525,-15.8082,-151.4820, 4153,    804.9,   5.0780,  34.4663,2,  34.4666,2,    144.4,2,    145.1,2,    51.51,2,    33.44,2,     0.00,2,     2.36,3,    0.013,2,    0.002,2,   -999.0,9,   -999.0,9,  -999.00,9, -999.00,  5.0117
     3250031_1,   P31,     8,  1,     26,     26,2,19940127,1525,-15.8082,-151.4820, 4153,   1004.3,   4.1644,  34.5026,2,  34.5023,2,    141.2,2,    140.9,2,    69.45,2,    34.83,2,     0.00,2,     2.47,3,    0.006,2,    0.001,2,   -999.0,9,   -999.0,9,  -999.00,9, -999.00,  4.0871
     3250031_1,   P31,     8,  1,     25,     25,2,19940127,1525,-15.8082,-151.4820, 4153,   1203.6,   3.4158,  34.5402,2,  34.5394,2,    140.6,2,    141.7,2,    84.75,2,    35.37,2,     0.00,2,     2.52,3,    0.013,2,   -0.001,2,   -999.0,9,   -999.0,9,  -999.00,9, -999.00,  3.3282
     3250031_1,   P31,     8,  1,     24,     24,2,19940127,1525,-15.8082,-151.4820, 4153,   1400.6,   3.0687,  34.5670,2,  34.5672,2,    140.9,2,    140.0,2,    93.99,2,    35.82,2,     0.00,2,     2.56,3, -999.000,9, -999.000,9,   -999.0,9,   -999.0,9,  -999.00,9, -999.00,  2.9683
     3250031_1,   P31,     8,  1,     23,     23,2,19940127,1525,-15.8082,-151.4820, 4153,   1592.8,   2.7115,  34.5881,2,  34.5876,2,    143.1,2,    144.3,2,   102.00,2,    35.77,2,     0.00,2,     2.55,3, -999.000,9, -999.000,9,   -999.0,9,   -999.0,9,  -999.00,9, -999.00,  2.5994
     3250031_1,   P31,     8,  1,     22,     22,2,19940127,1525,-15.8082,-151.4820, 4153,   1784.0,   2.4282,  34.6092,2,  34.6102,2,    145.0,2,    147.4,2,   108.94,2,    35.67,2,     0.00,2,     2.55,3, -999.000,9, -999.000,9,   -999.0,9,   -999.0,9,  -999.00,9, -999.00,  2.3038
     3250031_1,   P31,     8,  1,     21,     21,2,19940127,1525,-15.8082,-151.4820, 4153,   1997.4,   2.1882,  34.6285,2,  34.6282,2,    150.9,2,    150.6,2,   114.59,2,    35.47,2,     0.00,2,     2.54,3,    0.000,2,   -0.004,2,   -999.0,9,   -999.0,9,  -999.00,9, -999.00,  2.0491
     3250031_1,   P31,     8,  1,     20,     20,2,19940127,1525,-15.8082,-151.4820, 4153,   2206.8,   2.0033,  34.6438,2,  34.6429,2,    152.0,2,    153.1,2,   118.72,2,    35.28,2,     0.00,2,     2.54,3, -999.000,9, -999.000,9,   -999.0,9,   -999.0,9,  -999.00,9, -999.00,  1.8491
     3250031_1,   P31,     8,  1,     19,     19,2,19940127,1525,-15.8082,-151.4820, 4153,   2413.5,   1.9051,  34.6549,2,  34.6551,2,    155.3,2,    153.0,2,   122.89,2,    35.43,2,     0.00,2,     2.56,3, -999.000,9, -999.000,9,   -999.0,9,   -999.0,9,  -999.00,9, -999.00,  1.7344
     3250031_1,   P31,     8,  1,     18,     18,2,19940127,1525,-15.8082,-151.4820, 4153,   2617.6,   1.8055,  34.6630,2,  34.6636,2,    154.3,2,    155.6,2,   125.49,2,    35.33,2,     0.00,2,     2.55,3,    0.005,2,   -0.004,2,   -999.0,9,   -999.0,9,  -999.00,9, -999.00,  1.6181
     3250031_1,   P31,     8,  1,     17,     17,2,19940127,1525,-15.8082,-151.4820, 4153,   2719.6,   1.7637,  34.6672,2,  34.6671,2,    156.0,2,    156.1,2,   127.50,2,    35.23,2,     0.00,2,     2.55,3, -999.000,9, -999.000,9,   -999.0,9,   -999.0,9,  -999.00,9, -999.00,  1.5677
     3250031_1,   P31,     8,  1,     16,     16,2,19940127,1525,-15.8082,-151.4820, 4153,   2821.4,   1.7451,  34.6696,2,  34.6706,2,    156.6,2,    156.0,2,   128.09,2,    35.18,2,     0.00,2,     2.55,3, -999.000,9, -999.000,9,   -999.0,9,   -999.0,9,  -999.00,9, -999.00,  1.5400
     3250031_1,   P31,     8,  1,     15,     15,2,19940127,1525,-15.8082,-151.4820, 4153,   2922.0,   1.7213,  34.6717,2,  34.6716,2,    158.0,2,    157.6,2,   127.67,2,    35.08,2,     0.00,2,     2.55,3, -999.000,9, -999.000,9,   -999.0,9,   -999.0,9,  -999.00,9, -999.00,  1.5072
     3250031_1,   P31,     8,  1,     14,     14,2,19940127,1525,-15.8082,-151.4820, 4153,   3021.4,   1.6641,  34.6751,2,  34.6746,2,    162.2,2,    161.4,2,   126.84,2,    34.84,2,     0.00,2,     2.54,3,    0.008,2,   -0.002,2,   -999.0,9,   -999.0,9,  -999.00,9, -999.00,  1.4416
     3250031_1,   P31,     8,  1,     13,     13,2,19940127,1525,-15.8082,-151.4820, 4153,   3123.5,   1.6238,  34.6775,2,  34.6775,2,    165.5,2,    164.2,2,   127.23,2,    34.74,2,     0.00,2,     2.54,3, -999.000,9, -999.000,9,   -999.0,9,   -999.0,9,  -999.00,9, -999.00,  1.3923
     3250031_1,   P31,     8,  1,     12,     12,2,19940127,1525,-15.8082,-151.4820, 4153,   3225.1,   1.5950,  34.6795,2,  34.6799,2,    167.6,2,    166.6,2,   127.21,2,    34.64,2,     0.00,2,     2.53,3, -999.000,9, -999.000,9,   -999.0,9,   -999.0,9,  -999.00,9, -999.00,  1.3542
     3250031_1,   P31,     8,  1,     11,     11,2,19940127,1525,-15.8082,-151.4820, 4153,   3326.1,   1.5686,  34.6814,2,  34.6807,2,    170.4,2,    168.9,2,   126.58,2,    34.34,2,     0.00,2,     2.53,3, -999.000,9, -999.000,9,   -999.0,9,   -999.0,9,  -999.00,9, -999.00,  1.3184
     3250031_1,   P31,     8,  1,     10,     10,2,19940127,1525,-15.8082,-151.4820, 4153,   3427.2,   1.5275,  34.6842,2,  34.6836,2,    174.0,2,    172.8,2,   124.95,2,    34.10,2,     0.00,2,     2.52,3,    0.007,2,    0.006,2,   -999.0,9,   -999.0,9,  -999.00,9, -999.00,  1.2680
     3250031_1,   P31,     8,  1,      9,      9,2,19940127,1525,-15.8082,-151.4820, 4153,   3529.3,   1.5068,  34.6860,2,  34.6860,2,    172.1,2,    174.4,2,   124.33,2,    33.95,2,     0.00,2,     2.52,3, -999.000,9, -999.000,9,   -999.0,9,   -999.0,9,  -999.00,9, -999.00,  1.2375
     3250031_1,   P31,     8,  1,      8,      8,2,19940127,1525,-15.8082,-151.4820, 4153,   3630.9,   1.4868,  34.6872,2,  34.6875,2,    174.2,2,    176.1,2,   123.71,2,    33.80,2,     0.00,2,     2.51,3, -999.000,9, -999.000,9,   -999.0,9,   -999.0,9,  -999.00,9, -999.00,  1.2075
     3250031_1,   P31,     8,  1,      7,      7,2,19940127,1525,-15.8082,-151.4820, 4153,   3732.1,   1.4742,  34.6888,2,  34.6889,2,    177.4,2,    177.7,2,   123.49,2,    33.71,2,     0.00,2,     2.51,3,    0.007,2,   -0.002,2,   -999.0,9,   -999.0,9,  -999.00,9, -999.00,  1.1847
     3250031_1,   P31,     8,  1,      6,      6,2,19940127,1525,-15.8082,-151.4820, 4153,   3834.2,   1.4654,  34.6899,2,  34.6903,2,    179.1,2,    178.9,2,   123.27,2,    33.66,2,     0.00,2,     2.51,3,    0.025,3,    0.005,2,   -999.0,9,   -999.0,9,  -999.00,9, -999.00,  1.1653
     3250031_1,   P31,     8,  1,      5,      5,2,19940127,1525,-15.8082,-151.4820, 4153,   3935.7,   1.4584,  34.6913,2,  34.6911,2,    180.6,2,    179.9,2,   123.06,2,    33.61,2,     0.00,2,     2.52,3,    0.015,2,    0.005,2,   -999.0,9,   -999.0,9,  -999.00,9, -999.00,  1.1476
     3250031_1,   P31,     8,  1,      4,      4,2,19940127,1525,-15.8082,-151.4820, 4153,   4037.2,   1.4423,  34.6926,2,  34.6923,2,    181.3,2,    181.3,2,   123.04,2,    33.46,2,     0.00,2,     2.52,3, -999.000,9, -999.000,9,   -999.0,9,   -999.0,9,  -999.00,9, -999.00,  1.1210
     3250031_1,   P31,     8,  1,      3,      3,2,19940127,1525,-15.8082,-151.4820, 4153,   4139.4,   1.4451,  34.6927,2,  34.6929,2,    181.7,2,    182.7,2,   123.02,2,    33.46,2,     0.00,2,     2.53,3,    0.005,2,    0.004,2,   -999.0,9,   -999.0,9,  -999.00,9, -999.00,  1.1125
     3250031_1,   P31,     8,  1,      2,      2,2,19940127,1525,-15.8082,-151.4820, 4153,   4240.9,   1.4285,  34.6939,2,  34.6941,2,    182.2,3,    183.5,2,   123.01,2,    33.37,2,     0.00,2,     2.53,3,    0.013,3,    0.059,3,   -999.0,9,   -999.0,9,  -999.00,9, -999.00,  1.0851
     3250031_1,   P31,     8,  1,      1,      1,2,19940127,1525,-15.8082,-151.4820, 4153,   4260.9,   1.4287,  34.6947,2,  34.6947,2,    181.6,2,    183.6,2,   123.19,2,    33.27,2,     0.00,2,     2.53,3,    0.004,2,    0.003,2,   -999.0,9,   -999.0,9,  -999.00,9, -999.00,  1.0830