BOTTLE,20020814WHPSIOdm
EXPOCODE,SECT_ID,STNNBR,CASTNO,SAMPNO,BTLNBR,BTLNBR_FLAG_W,DATE,TIME,LATITUDE,LONGITUDE,DEPTH,CTDPRS,CTDTMP,CTDSAL,CTDSAL_FLAG_W,SALNTY,SALNTY_FLAG_W,CTDOXY,CTDOXY_FLAG_W,OXYGEN,OXYGEN_FLAG_W,SILCAT,SILCAT_FLAG_W,NITRAT,NITRAT_FLAG_W,NITRIT,NITRIT_FLAG_W,PHSPHT,PHSPHT_FLAG_W,CFC-11,CFC-11_FLAG_W,CFC-12,CFC-12_FLAG_W,TCARBN,TCARBN_FLAG_W,ALKALI,ALKALI_FLAG_W,PH,PH_FLAG_W,PHTEMP,THETA
,,,,,,,,,,,,DBAR,ITS-90,PSS-78,,PSS-78,,UMOL/KG,,UMOL/KG,,UMOL/KG,,UMOL/KG,,UMOL/KG,,UMOL/KG,,PMOL/KG,,PMOL/KG,,UMOL/KG,,UMOL/KG,,,,DEG C,DEG C
     3250031_1,   P31,    16,  1,     36,     36,2,19940129,1433,-14.2690,-155.3568, 4676,      1.8,  29.3503,  35.1740,2,  35.1392,2,    203.9,2,    204.3,2,     2.39,2,     0.07,2,     0.00,2,     0.18,2,    1.562,2,    0.873,2,   1937.8,2,   2320.6,2,     8.16,2,   25.00, 29.3499
     3250031_1,   P31,    16,  1,     35,     35,2,19940129,1433,-14.2690,-155.3568, 4676,     13.9,  29.6568,  35.6043,2,  35.6068,2,    196.1,2,    206.1,2,     2.16,2,     0.12,2,     0.00,2,     0.18,2, -999.000,9, -999.000,9,   1964.5,2,   2351.1,2,     8.15,2,   25.00, 29.6533
     3250031_1,   P31,    16,  1,     34,     34,2,19940129,1433,-14.2690,-155.3568, 4676,     53.4,  28.5399,  36.0624,2,  36.0982,2,    211.1,2,    210.0,2,     1.93,2,     0.12,2,     0.00,2,     0.21,2, -999.000,9, -999.000,9,   1996.6,2,   2392.1,2,     8.14,2,   25.00, 28.5271
     3250031_1,   P31,    16,  1,     33,     33,2,19940129,1433,-14.2690,-155.3568, 4676,    103.8,  25.8665,  36.3492,2,  36.3443,2,    203.0,2,    200.0,2,     1.70,2,     0.11,2,     0.02,2,     0.26,2,    1.720,2,    0.908,2,   2036.5,2,   2402.4,2,     8.09,2,   25.00, 25.8433
     3250031_1,   P31,    16,  1,     32,     32,2,19940129,1433,-14.2690,-155.3568, 4676,    203.5,  21.8665,  36.0907,2,  36.1033,2,    172.4,2,    172.2,2,     1.66,2,     4.00,2,     0.02,2,     0.51,2,    1.878,2,    0.981,2,   2087.9,2,   2385.6,2,     7.99,2,   25.00, 21.8261
     3250031_1,   P31,    16,  1,     31,     31,2,19940129,1433,-14.2690,-155.3568, 4676,    304.0,  15.6235,  35.1745,2,  35.1808,2,    143.0,2,    140.5,2,     5.64,2,    11.91,2,     0.00,2,     1.09,2,    1.486,2,    0.753,2,   2125.7,2,   2327.6,2,     7.82,2,   25.00, 15.5759
     3250031_1,   P31,    16,  1,     30,     30,2,19940129,1433,-14.2690,-155.3568, 4676,    403.5,  10.6793,  34.6941,2,  34.6856,2,    116.4,2,    115.0,2,    16.77,2,    23.52,2,     0.00,2,     1.81,2,    0.507,2,    0.256,2,   2175.7,2,   2305.2,2,     7.65,2,   25.00, 10.6302
     3250031_1,   P31,    16,  1,     29,     29,2,19940129,1433,-14.2690,-155.3568, 4676,    602.9,   6.2463,  34.4803,2,  34.4810,2,    141.5,2,    143.1,2,    37.43,2,    31.44,2,     0.00,2,     2.18,2,    0.040,2,    0.018,2,   2209.3,2,   2321.8,2,     7.60,2,   25.00,  6.1920
     3250031_1,   P31,    16,  1,     28,     28,2,19940129,1433,-14.2690,-155.3568, 4676,    803.3,   4.9629,  34.4909,2,  34.4922,2,    134.7,2,    133.6,2,    57.57,2,    34.70,2,     0.00,2,     2.40,2,    0.035,4,    0.008,2,   2238.7,2,   2339.3,2,     7.56,2,   25.00,  4.8974
     3250031_1,   P31,    16,  1,     27,     27,2,19940129,1433,-14.2690,-155.3568, 4676,   1002.7,   4.2908,  34.5121,2,  34.5137,2,    130.3,2,    129.1,2,    72.09,2,    36.00,2,     0.00,2,     2.49,2,    0.003,2,    0.002,2,   2257.5,2,   2372.9,3,     7.55,2,   25.00,  4.2127
     3250031_1,   P31,    16,  1,     26,     26,2,19940129,1433,-14.2690,-155.3568, 4676,   1251.7,   3.4770,  34.5462,2,  34.5469,2,    136.2,2,    135.1,2,    87.31,2,    36.10,2,     0.00,2,     2.51,2,    0.001,2,   -0.001,2,   2271.7,2,   2370.4,2,     7.55,2,   25.00,  3.3849
     3250031_1,   P31,    16,  1,     25,     25,2,19940129,1433,-14.2690,-155.3568, 4676,   1499.2,   2.8455,  34.5823,2,  34.5851,2,    140.4,2,    139.6,2,   101.06,2,    36.10,2,     0.00,2,     2.51,2, -999.000,9, -999.000,9,   2289.3,2,   2388.2,2,     7.55,2,   25.00,  2.7395
     3250031_1,   P31,    16,  1,     24,     24,2,19940129,1433,-14.2690,-155.3568, 4676,   1746.7,   2.4295,  34.6109,2,  34.6120,2,    144.9,2,    145.6,2,   109.84,2,    35.85,2,     0.00,2,     2.49,2, -999.000,9, -999.000,9,   2296.3,2,   2402.6,2,     7.56,2,   25.00,  2.3081
     3250031_1,   P31,    16,  1,     23,     23,2,19940129,1433,-14.2690,-155.3568, 4676,   1999.5,   2.1243,  34.6347,2,  34.6355,2,    148.1,2,    149.1,2,   117.21,2,    35.65,2,     0.00,2,     2.47,2,    0.007,2,    0.005,2,   2300.2,2,   2420.7,3,     7.57,2,   25.00,  1.9860
     3250031_1,   P31,    16,  1,     22,     22,2,19940129,1433,-14.2690,-155.3568, 4676,   2255.9,   1.9677,  34.6494,2,  34.6516,2,    149.2,2,    150.3,2,   122.29,2,    35.54,2,     0.00,2,     2.46,2,    0.006,2,    0.002,2,   2312.4,2,   2412.9,2,     7.57,2,   25.00,  1.8099
     3250031_1,   P31,    16,  1,     21,     21,2,19940129,1433,-14.2690,-155.3568, 4676,   2512.4,   1.8550,  34.6600,2,  34.6610,2,    152.6,2,    152.2,2,   125.63,2,    35.49,2,     0.00,2,     2.46,2, -999.000,9, -999.000,9,   2310.3,2,   2418.5,2,     7.58,2,   25.00,  1.6763
     3250031_1,   P31,    16,  1,     20,     20,2,19940129,1433,-14.2690,-155.3568, 4676,   2763.9,   1.7779,  34.6667,2,  34.6677,2,    157.4,2,    155.5,2,   126.98,2,    35.29,2,     0.00,2,     2.43,2, -999.000,9, -999.000,9,   2309.4,2,   2417.5,2,     7.58,2,   25.00,  1.5775
     3250031_1,   P31,    16,  1,     19,     19,2,19940129,1433,-14.2690,-155.3568, 4676,   3017.6,   1.6647,  34.6741,2,  34.6765,2,    162.9,2,    162.8,2,   126.91,2,    34.89,2,     0.00,2,     2.41,2,    0.004,2,    0.000,2,   2302.9,2,   2414.1,2,     7.59,2,   25.00,  1.4426
     3250031_1,   P31,    16,  1,     18,     18,2,19940129,1433,-14.2690,-155.3568, 4676,   3220.9,   1.6002,  34.6782,2,  34.6789,2,    167.8,2,    167.7,2,   126.65,2,    34.69,2,     0.00,2,     2.39,2, -999.000,9, -999.000,9,   2298.5,2,   2420.2,2,     7.59,2,   25.00,  1.3597
     3250031_1,   P31,    16,  1,     17,     17,2,19940129,1433,-14.2690,-155.3568, 4676,   3424.3,   1.5537,  34.6828,2,  34.6820,2,    170.9,2,    171.0,2,   125.98,2,    34.33,2,     0.00,2,     2.38,2, -999.000,9, -999.000,9,   2296.4,2,   2420.0,2,     7.59,2,   25.00,  1.2939
     3250031_1,   P31,    16,  1,     16,     16,2,19940129,1433,-14.2690,-155.3568, 4676,   3526.0,   1.5265,  34.6845,2,  34.6851,2,    173.1,2,    173.1,2,   125.31,2,    34.08,2,     0.00,2,     2.36,2,    0.007,3,    0.003,2,   2294.1,2,   2415.7,2,     7.60,2,   25.00,  1.2570
     3250031_1,   P31,    16,  1,     15,     15,2,19940129,1433,-14.2690,-155.3568, 4676,   3628.3,   1.4963,  34.6863,2,  34.6867,2,    175.4,2,    174.9,2,   124.25,2,    33.88,2,     0.00,2,     2.35,2, -999.000,9, -999.000,9,   2292.0,2,   2414.4,2,     7.60,2,   25.00,  1.2170
     3250031_1,   P31,    16,  1,     14,     14,2,19940129,1433,-14.2690,-155.3568, 4676,   3729.8,   1.4766,  34.6886,2,  34.6890,2,    177.4,2,    177.1,2,   123.78,2,    33.68,2,     0.00,2,     2.34,2, -999.000,9, -999.000,9,   2290.8,2,   2400.8,2,     7.60,2,   25.00,  1.1872
     3250031_1,   P31,    16,  1,     13,     13,2,19940129,1433,-14.2690,-155.3568, 4676,   3832.3,   1.4645,  34.6897,2,  34.6896,2,    180.1,2,    178.8,2,   123.72,2,    33.68,2,     0.00,2,     2.33,2, -999.000,9, -999.000,9,   2292.2,2,   2399.9,2,     7.60,2,   25.00,  1.1646
     3250031_1,   P31,    16,  1,     12,     12,2,19940129,1433,-14.2690,-155.3568, 4676,   3934.4,   1.4418,  34.6915,2,  34.6916,2,    180.7,2,    180.4,2,   124.26,2,    33.63,2,     0.00,2,     2.33,2, -999.000,9, -999.000,9,   2286.8,2,   2399.1,2,     7.60,2,   25.00,  1.1316
     3250031_1,   P31,    16,  1,     11,     11,2,19940129,1433,-14.2690,-155.3568, 4676,   4036.1,   1.4219,  34.6932,2,  34.6931,2,    183.0,2,    182.0,2,   124.20,2,    33.53,2,     0.00,2,     2.32,2,    0.008,2,    0.004,2,   2285.7,2,   2397.8,2,     7.60,2,   25.00,  1.1013
     3250031_1,   P31,    16,  1,     10,     10,2,19940129,1433,-14.2690,-155.3568, 4676,   4137.5,   1.4061,  34.6944,2,  34.6943,2,    184.4,2,    184.4,2,   123.93,2,    33.38,2,     0.00,2,     2.31,2, -999.000,9, -999.000,9,   2284.8,2,   2397.5,2,     7.61,2,   25.00,  1.0747
     3250031_1,   P31,    16,  1,      9,      9,2,19940129,1433,-14.2690,-155.3568, 4676,   4240.4,   1.3919,  34.6957,2,  34.6953,2,    185.5,2,    185.1,2,   123.47,2,    33.23,2,     0.00,2,     2.31,2, -999.000,9, -999.000,9,   2284.0,2,   2395.1,2,     7.60,2,   25.00,  1.0496
     3250031_1,   P31,    16,  1,      8,      8,2,19940129,1433,-14.2690,-155.3568, 4676,   4342.6,   1.3834,  34.6963,2,  34.6969,2,    187.1,2,    187.2,2,   123.41,2,    33.08,2,     0.00,2,     2.30,2, -999.000,9, -999.000,9,   2282.0,2,   2396.9,2,     7.61,2,   25.00,  1.0299
     3250031_1,   P31,    16,  1,      7,      7,2,19940129,1433,-14.2690,-155.3568, 4676,   4443.6,   1.3483,  34.6986,2,  34.6994,2,    188.8,2,    190.0,2,   123.34,2,    32.88,2,     0.00,2,     2.29,2,    0.017,4,    0.002,2,   2279.9,2,   2397.6,2,  -999.00,9, -999.00,  0.9844
     3250031_1,   P31,    16,  1,      6,      6,2,19940129,1433,-14.2690,-155.3568, 4676,   4545.4,   1.3251,  34.7003,2,  34.7023,3,    190.6,2,    192.0,2,   122.88,2,    32.73,2,     0.00,2,     2.28,2,    0.011,3,    0.001,2,   2277.6,2,   2390.7,2,     7.61,2,   25.00,  0.9503
     3250031_1,   P31,    16,  1,      5,      5,2,19940129,1433,-14.2690,-155.3568, 4676,   4647.3,   1.3117,  34.7015,2,  34.7019,2,    192.1,2,    191.8,2,   123.42,2,    32.77,2,     0.00,2,     2.29,2,    0.003,2,    0.000,2,   2276.9,2,   2392.0,2,     7.61,2,   25.00,  0.9255
     3250031_1,   P31,    16,  1,      4,      4,2,19940129,1433,-14.2690,-155.3568, 4676,   4747.8,   1.2986,  34.7027,2,  34.7033,2,    191.4,2,    194.6,2,   123.16,2,    32.62,2,     0.00,2,     2.28,2,    0.003,2,    0.000,2,   2274.6,2,   2389.3,2,     7.61,2,   25.00,  0.9011
     3250031_1,   P31,    16,  1,      3,      3,2,19940129,1433,-14.2690,-155.3568, 4676,   4849.8,   1.3043,  34.7028,2,  34.7035,2,    197.0,2,    195.4,2,   122.69,2,    32.47,2,     0.00,2,     2.28,2,    0.009,2,   -0.002,2,   2274.0,2,   2390.2,2,     7.61,2,   25.00,  0.8946
     3250031_1,   P31,    16,  1,      2,      2,2,19940129,1433,-14.2690,-155.3568, 4676,   4951.7,   1.3134,  34.7031,2,  34.7035,2,    193.0,3,    195.5,2,   122.23,2,    32.42,2,     0.00,2,     2.27,2,    0.006,2,    0.005,2,   2273.9,2,   -999.0,9,     7.61,2,   25.00,  0.8912
     3250031_1,   P31,    16,  1,      1,      1,2,19940129,1433,-14.2690,-155.3568, 4676,   5017.4,   1.3197,  34.7026,2,  34.7051,3,    196.2,2,    194.9,2,   121.97,2,    32.42,2,     0.00,2,     2.28,2,    0.009,2,   -0.001,2,   2273.2,2,   2384.7,2,     7.61,2,   25.00,  0.8894