BOTTLE,20020814WHPSIOdm
EXPOCODE,SECT_ID,STNNBR,CASTNO,SAMPNO,BTLNBR,BTLNBR_FLAG_W,DATE,TIME,LATITUDE,LONGITUDE,DEPTH,CTDPRS,CTDTMP,CTDSAL,CTDSAL_FLAG_W,SALNTY,SALNTY_FLAG_W,CTDOXY,CTDOXY_FLAG_W,OXYGEN,OXYGEN_FLAG_W,SILCAT,SILCAT_FLAG_W,NITRAT,NITRAT_FLAG_W,NITRIT,NITRIT_FLAG_W,PHSPHT,PHSPHT_FLAG_W,CFC-11,CFC-11_FLAG_W,CFC-12,CFC-12_FLAG_W,TCARBN,TCARBN_FLAG_W,ALKALI,ALKALI_FLAG_W,PH,PH_FLAG_W,PHTEMP,THETA
,,,,,,,,,,,,DBAR,ITS-90,PSS-78,,PSS-78,,UMOL/KG,,UMOL/KG,,UMOL/KG,,UMOL/KG,,UMOL/KG,,UMOL/KG,,PMOL/KG,,PMOL/KG,,UMOL/KG,,UMOL/KG,,,,DEG C,DEG C
     3250031_1,   P31,    59,  1,     36,     36,2,19940207,2118, -9.7778,-170.0512, 4946,      2.5,  29.5012,  33.9935,2,  34.0133,2,    199.0,2,    193.7,2,     1.44,2,     0.06,2,     0.00,2,     0.17,2,    1.543,2,    0.861,2,   -999.0,9,   -999.0,9,  -999.00,9, -999.00, 29.5006
     3250031_1,   P31,    59,  1,     35,     35,2,19940207,2118, -9.7778,-170.0512, 4946,     16.1,  29.7052,  34.1267,4,  34.0913,2,   -999.0,5,    193.7,2,     1.42,2,     0.06,2,     0.00,2,     0.16,2,    1.557,2,    0.875,2,   -999.0,9,   -999.0,9,  -999.00,9, -999.00, 29.7012
     3250031_1,   P31,    59,  1,     34,     34,2,19940207,2118, -9.7778,-170.0512, 4946,     56.4,  29.7084,  34.8932,4,  34.8318,2,   -999.0,5,    199.6,2,     1.39,2,     0.06,2,     0.00,2,     0.21,2,    1.564,2,    0.886,2,   -999.0,9,   -999.0,9,  -999.00,9, -999.00, 29.6945
     3250031_1,   P31,    59,  1,     33,     33,9,19940207,2118, -9.7778,-170.0512, 4946,    106.2,  27.3539,  35.8398,2,-999.0000,9,    165.5,2,   -999.0,9,  -999.00,9,  -999.00,9,  -999.00,9,  -999.00,9, -999.000,9, -999.000,9,   -999.0,9,   -999.0,9,  -999.00,9, -999.00, 27.3293
     3250031_1,   P31,    59,  1,     32,     32,2,19940207,2118, -9.7778,-170.0512, 4946,    206.6,  20.5543,  35.8712,4,  35.8416,2,   -999.0,5,    133.9,2,     3.88,2,     9.58,2,     0.01,2,     0.92,2,    1.731,2,    0.925,2,   -999.0,9,   -999.0,9,  -999.00,9, -999.00, 20.5152
     3250031_1,   P31,    59,  1,     31,     31,2,19940207,2118, -9.7778,-170.0512, 4946,    306.9,  13.1812,  34.9796,2,  34.9691,2,    103.3,2,     99.7,2,    13.57,2,    20.59,2,     0.00,2,     1.64,2,    0.696,2,    0.367,2,   -999.0,9,   -999.0,9,  -999.00,9, -999.00, 13.1385
     3250031_1,   P31,    59,  1,     30,     30,2,19940207,2118, -9.7778,-170.0512, 4946,    407.6,   9.6277,  34.7151,2,  34.7101,2,     97.9,2,    100.1,2,    24.70,2,    28.27,2,     0.00,2,     2.02,2, -999.000,9, -999.000,9,   -999.0,9,   -999.0,9,  -999.00,9, -999.00,  9.5812
     3250031_1,   P31,    59,  1,     29,     29,2,19940207,2118, -9.7778,-170.0512, 4946,    608.1,   6.6919,  34.5250,2,  34.5239,2,    133.5,2,    135.5,2,    37.28,2,    31.39,2,     0.00,2,     2.18,2,    0.067,2,    0.041,2,   -999.0,9,   -999.0,9,  -999.00,9, -999.00,  6.6351
     3250031_1,   P31,    59,  1,     28,     28,2,19940207,2118, -9.7778,-170.0512, 4946,    810.1,   5.2885,  34.5084,2,  34.5231,4,    116.8,2,    117.3,2,    57.09,2,    35.81,2,     0.00,2,     2.49,2, -999.000,9, -999.000,9,   -999.0,9,   -999.0,9,  -999.00,9, -999.00,  5.2203
     3250031_1,   P31,    59,  1,     27,     27,2,19940207,2118, -9.7778,-170.0512, 4946,   1011.8,   4.4574,  34.5220,2,  34.5231,2,    117.4,2,    118.0,2,    73.22,2,    36.90,2,     0.00,2,     2.57,2,    0.003,2,    0.003,2,   -999.0,9,   -999.0,9,  -999.00,9, -999.00,  4.3772
     3250031_1,   P31,    59,  1,     26,     26,2,19940207,2118, -9.7778,-170.0512, 4946,   1262.5,   3.4817,  34.5571,2,  34.5547,2,    123.3,2,    126.8,2,    91.76,2,    36.76,2,     0.00,2,     2.57,2, -999.000,9, -999.000,9,   -999.0,9,   -999.0,9,  -999.00,9, -999.00,  3.3886
     3250031_1,   P31,    59,  1,     25,     25,2,19940207,2118, -9.7778,-170.0512, 4946,   1512.0,   2.7945,  34.5919,2,  34.5916,2,    136.2,2,    135.3,2,   106.01,2,    36.47,2,     0.00,2,     2.54,2, -999.000,9, -999.000,9,   -999.0,9,   -999.0,9,  -999.00,9, -999.00,  2.6880
     3250031_1,   P31,    59,  1,     24,     24,2,19940207,2118, -9.7778,-170.0512, 4946,   1766.5,   2.3555,  34.6221,2,  34.6211,2,    136.7,2,    137.6,2,   118.11,2,    36.37,2,     0.00,2,     2.54,2,    0.001,2,   -0.001,2,   -999.0,9,   -999.0,9,  -999.00,9, -999.00,  2.2334
     3250031_1,   P31,    59,  1,     23,     23,2,19940207,2118, -9.7778,-170.0512, 4946,   2022.9,   2.1604,  34.6373,2,  34.6364,2,    140.6,2,    137.9,2,   124.39,2,    36.48,2,     0.00,2,     2.54,2, -999.000,9, -999.000,9,   -999.0,9,   -999.0,9,  -999.00,9, -999.00,  2.0196
     3250031_1,   P31,    59,  1,     22,     22,2,19940207,2118, -9.7778,-170.0512, 4946,   2278.2,   1.9976,  34.6508,2,  34.6511,2,    134.5,2,    136.2,2,   131.39,2,    36.73,2,     0.00,2,     2.55,2,   -0.001,2,    0.001,2,   -999.0,9,   -999.0,9,  -999.00,9, -999.00,  1.8373
     3250031_1,   P31,    59,  1,     21,     21,2,19940207,2118, -9.7778,-170.0512, 4946,   2532.4,   1.8481,  34.6621,2,  34.6608,2,    140.6,2,    141.5,2,   135.45,2,    36.49,2,     0.00,2,     2.53,2, -999.000,9, -999.000,9,   -999.0,9,   -999.0,9,  -999.00,9, -999.00,  1.6677
     3250031_1,   P31,    59,  1,     20,     20,2,19940207,2118, -9.7778,-170.0512, 4946,   2784.3,   1.7345,  34.6695,2,  34.6690,2,    145.2,2,    147.2,2,   136.46,2,    36.10,2,     0.00,2,     2.50,2, -999.000,9, -999.000,9,   -999.0,9,   -999.0,9,  -999.00,9, -999.00,  1.5331
     3250031_1,   P31,    59,  1,     19,     19,2,19940207,2118, -9.7778,-170.0512, 4946,   3034.1,   1.6580,  34.6753,2,  34.6747,2,    152.2,2,    151.7,2,   135.62,2,    35.81,2,     0.00,2,     2.47,2, -999.000,9, -999.000,9,   -999.0,9,   -999.0,9,  -999.00,9, -999.00,  1.4344
     3250031_1,   P31,    59,  1,     18,     18,2,19940207,2118, -9.7778,-170.0512, 4946,   3232.3,   1.6079,  34.6792,2,  34.6779,2,    156.4,2,    155.6,2,   134.78,2,    35.57,2,     0.00,2,     2.46,2, -999.000,9, -999.000,9,   -999.0,9,   -999.0,9,  -999.00,9, -999.00,  1.3661
     3250031_1,   P31,    59,  1,     17,     17,2,19940207,2118, -9.7778,-170.0512, 4946,   3432.1,   1.5712,  34.6816,2,  34.6798,2,    158.1,2,    158.6,2,   134.97,2,    35.43,2,     0.00,2,     2.45,2, -999.000,9, -999.000,9,   -999.0,9,   -999.0,9,  -999.00,9, -999.00,  1.3102
     3250031_1,   P31,    59,  1,     16,     16,2,19940207,2118, -9.7778,-170.0512, 4946,   3532.5,   1.5507,  34.6831,2,  34.6814,2,    160.5,2,    160.8,2,   135.36,2,    35.39,2,     0.00,2,     2.43,2,    0.006,2,    0.001,2,   -999.0,9,   -999.0,9,  -999.00,9, -999.00,  1.2799
     3250031_1,   P31,    59,  1,     15,     15,2,19940207,2118, -9.7778,-170.0512, 4946,   3636.9,   1.5310,  34.6847,2,  34.6826,2,    162.2,2,    162.0,2,   136.17,2,    35.30,2,     0.00,2,     2.43,2, -999.000,9, -999.000,9,   -999.0,9,   -999.0,9,  -999.00,9, -999.00,  1.2499
     3250031_1,   P31,    59,  1,     14,     14,2,19940207,2118, -9.7778,-170.0512, 4946,   3739.7,   1.4848,  34.6874,2,  34.6851,2,    164.3,2,    165.6,2,   135.33,2,    34.95,2,     0.00,2,     2.41,2, -999.000,9, -999.000,9,   -999.0,9,   -999.0,9,  -999.00,9, -999.00,  1.1942
     3250031_1,   P31,    59,  1,     13,     13,2,19940207,2118, -9.7778,-170.0512, 4946,   3844.3,   1.3938,  34.6943,2,  34.6928,2,    169.8,2,    175.2,2,   130.22,2,    34.08,2,     0.00,2,     2.35,2, -999.000,9, -999.000,9,   -999.0,9,   -999.0,9,  -999.00,9, -999.00,  1.0945
     3250031_1,   P31,    59,  1,     12,     12,2,19940207,2118, -9.7778,-170.0512, 4946,   3949.5,   1.3599,  34.6975,2,  34.6960,2,    178.1,2,    180.6,2,   126.99,2,    33.69,2,     0.00,2,     2.32,2, -999.000,9, -999.000,9,   -999.0,9,   -999.0,9,  -999.00,9, -999.00,  1.0503
     3250031_1,   P31,    59,  1,     11,     11,2,19940207,2118, -9.7778,-170.0512, 4946,   4053.1,   1.2561,  34.7063,2,  34.7040,2,    189.8,2,    193.2,2,   120.44,2,    32.62,2,     0.00,2,     2.26,2, -999.000,9, -999.000,9,   -999.0,9,   -999.0,9,  -999.00,9, -999.00,  0.9382
     3250031_1,   P31,    59,  1,     10,     10,2,19940207,2118, -9.7778,-170.0512, 4946,   4130.9,   1.2220,  34.7083,2,  34.7062,2,    195.5,2,    196.6,2,   119.44,2,    32.47,2,     0.00,2,     2.24,2,    0.007,2,    0.001,2,   -999.0,9,   -999.0,9,  -999.00,9, -999.00,  0.8966
     3250031_1,   P31,    59,  1,      9,      9,2,19940207,2118, -9.7778,-170.0512, 4946,   4209.0,   1.1788,  34.7097,2,  34.7073,2,    201.0,2,    199.7,2,   119.62,2,    32.38,2,     0.00,2,     2.22,2, -999.000,9, -999.000,9,   -999.0,9,   -999.0,9,  -999.00,9, -999.00,  0.8462
     3250031_1,   P31,    59,  1,      8,      8,2,19940207,2118, -9.7778,-170.0512, 4946,   4286.1,   1.1142,  34.7101,2,  34.7099,2,    204.2,2,    202.1,2,   119.21,2,    32.19,2,     0.00,2,     2.21,2, -999.000,9, -999.000,9,   -999.0,9,   -999.0,9,  -999.00,9, -999.00,  0.7750
     3250031_1,   P31,    59,  1,      7,      7,2,19940207,2118, -9.7778,-170.0512, 4946,   4362.9,   1.0917,  34.7099,2,  34.7103,2,    205.6,2,    203.8,2,   119.58,2,    32.10,2,     0.00,2,     2.20,2, -999.000,9, -999.000,9,   -999.0,9,   -999.0,9,  -999.00,9, -999.00,  0.7447
     3250031_1,   P31,    59,  1,      6,      6,2,19940207,2118, -9.7778,-170.0512, 4946,   4439.0,   1.0839,  34.7098,2,  34.7101,2,    204.3,2,    203.6,2,   119.37,2,    32.01,2,     0.00,2,     2.20,2,    0.007,2,    0.000,2,   -999.0,9,   -999.0,9,  -999.00,9, -999.00,  0.7286
     3250031_1,   P31,    59,  1,      5,      5,2,19940207,2118, -9.7778,-170.0512, 4946,   4513.5,   1.0714,  34.7098,2,  34.7091,2,    204.6,2,    204.5,2,   119.75,2,    31.97,2,     0.00,2,     2.20,2,    0.008,2,    0.002,2,   -999.0,9,   -999.0,9,  -999.00,9, -999.00,  0.7081
     3250031_1,   P31,    59,  1,      4,      4,2,19940207,2118, -9.7778,-170.0512, 4946,   4664.8,   1.0857,  34.7092,2,  34.7097,2,    203.9,2,    205.0,2,   119.53,2,    32.02,2,     0.00,2,     2.21,2,    0.014,2,    0.001,2,   -999.0,9,   -999.0,9,  -999.00,9, -999.00,  0.7047
     3250031_1,   P31,    59,  1,      3,      3,2,19940207,2118, -9.7778,-170.0512, 4946,   4816.5,   1.0994,  34.7092,2,  34.7089,2,    204.0,2,    204.9,2,   119.32,2,    32.03,2,     0.00,2,     2.20,2,    0.008,2,    0.015,2,   -999.0,9,   -999.0,9,  -999.00,9, -999.00,  0.7003
     3250031_1,   P31,    59,  1,      2,      2,2,19940207,2118, -9.7778,-170.0512, 4946,   4967.0,   1.1154,  34.7090,2,  34.7073,2,    203.7,2,    204.0,2,   119.89,2,    32.08,2,     0.00,2,     2.20,2,    0.011,3,    0.000,2,   -999.0,9,   -999.0,9,  -999.00,9, -999.00,  0.6980
     3250031_1,   P31,    59,  1,      1,      1,2,19940207,2118, -9.7778,-170.0512, 4946,   5090.8,   1.1222,  34.7092,2,  34.7072,2,    204.9,2,    205.4,2,   120.66,2,    32.19,2,     0.00,2,     2.20,2,    0.012,2,    0.000,6,   -999.0,9,   -999.0,9,  -999.00,9, -999.00,  0.6897