BOTTLE,20020814WHPSIOdm
EXPOCODE,SECT_ID,STNNBR,CASTNO,SAMPNO,BTLNBR,BTLNBR_FLAG_W,DATE,TIME,LATITUDE,LONGITUDE,DEPTH,CTDPRS,CTDTMP,CTDSAL,CTDSAL_FLAG_W,SALNTY,SALNTY_FLAG_W,CTDOXY,CTDOXY_FLAG_W,OXYGEN,OXYGEN_FLAG_W,SILCAT,SILCAT_FLAG_W,NITRAT,NITRAT_FLAG_W,NITRIT,NITRIT_FLAG_W,PHSPHT,PHSPHT_FLAG_W,CFC-11,CFC-11_FLAG_W,CFC-12,CFC-12_FLAG_W,TCARBN,TCARBN_FLAG_W,ALKALI,ALKALI_FLAG_W,PH,PH_FLAG_W,PHTEMP,THETA
,,,,,,,,,,,,DBAR,ITS-90,PSS-78,,PSS-78,,UMOL/KG,,UMOL/KG,,UMOL/KG,,UMOL/KG,,UMOL/KG,,UMOL/KG,,PMOL/KG,,PMOL/KG,,UMOL/KG,,UMOL/KG,,,,DEG C,DEG C
     3250031_1,   P31,    66,  1,     30,     30,2,19940212,1722, -9.7915,-171.8515, 3520,      3.8,  29.6705,  34.0359,2,  34.0356,2,    196.5,2,    193.2,2,     1.62,2,     0.14,2,     0.00,2,     0.16,2,    1.568,2,    0.871,2,   -999.0,9,   -999.0,9,  -999.00,9, -999.00, 29.6695
     3250031_1,   P31,    66,  1,     29,     29,2,19940212,1722, -9.7915,-171.8515, 3520,     17.5,  29.6786,  34.0366,2,  34.0364,2,    187.3,2,    192.8,2,     1.43,2,     0.14,2,     0.00,2,     0.15,2,    1.566,2,    0.875,2,   -999.0,9,   -999.0,9,  -999.00,9, -999.00, 29.6743
     3250031_1,   P31,    66,  1,     28,     28,2,19940212,1722, -9.7915,-171.8515, 3520,     57.3,  30.0676,  34.8411,2,  34.8273,2,    195.4,2,    199.4,2,     1.61,2,     0.14,2,     0.00,2,     0.22,2,    1.600,2,    0.879,2,   -999.0,9,   -999.0,9,  -999.00,9, -999.00, 30.0533
     3250031_1,   P31,    66,  1,     27,     27,2,19940212,1722, -9.7915,-171.8515, 3520,    107.5,  27.3731,  35.9042,2,  35.9151,2,    165.3,2,    157.0,2,     2.34,2,     3.70,2,     0.50,2,     0.58,2,    1.605,2,    0.869,2,   -999.0,9,   -999.0,9,  -999.00,9, -999.00, 27.3481
     3250031_1,   P31,    66,  1,     26,     26,2,19940212,1722, -9.7915,-171.8515, 3520,    206.4,  21.3514,  35.9649,2,  35.9483,2,    142.2,2,    140.3,2,     3.06,2,     8.20,2,     0.02,2,     0.82,2,    1.798,6,    0.952,6,   -999.0,9,   -999.0,9,  -999.00,9, -999.00, 21.3112
     3250031_1,   P31,    66,  1,     25,     25,2,19940212,1722, -9.7915,-171.8515, 3520,    307.1,  14.1237,  35.0486,2,  35.0449,2,    114.6,2,    115.4,2,    10.21,2,    17.08,2,     0.00,2,     1.41,2,    0.963,2,    0.490,2,   -999.0,9,   -999.0,9,  -999.00,9, -999.00, 14.0789
     3250031_1,   P31,    66,  1,     24,     24,2,19940212,1722, -9.7915,-171.8515, 3520,    408.1,  10.0684,  34.7263,2,  34.7225,2,    103.7,2,    101.4,2,    22.31,2,    27.15,2,     0.00,2,     1.96,2,    0.244,2,    0.141,2,   -999.0,9,   -999.0,9,  -999.00,9, -999.00, 10.0205
     3250031_1,   P31,    66,  1,     23,     23,2,19940212,1722, -9.7915,-171.8515, 3520,    509.5,   7.8060,  34.5843,2,  34.5844,2,    133.1,2,    127.9,2,    30.37,2,    29.96,2,     0.00,2,     2.07,2,    0.125,2,    0.076,2,   -999.0,9,   -999.0,9,  -999.00,9, -999.00,  7.7544
     3250031_1,   P31,    66,  1,     22,     22,2,19940212,1722, -9.7915,-171.8515, 3520,    609.9,   6.8742,  34.5482,2,  34.5483,2,    120.5,2,    119.0,2,    39.35,2,    32.88,2,     0.00,2,     2.25,2,    0.046,2,    0.028,2,   -999.0,9,   -999.0,9,  -999.00,9, -999.00,  6.8164
     3250031_1,   P31,    66,  1,     21,     21,2,19940212,1722, -9.7915,-171.8515, 3520,    711.4,   5.9752,  34.5090,2,  34.5094,2,    116.8,2,    123.3,2,    46.87,2,    34.40,2,     0.00,2,     2.36,2,    0.022,2,    0.016,2,   -999.0,9,   -999.0,9,  -999.00,9, -999.00,  5.9121
     3250031_1,   P31,    66,  1,     20,     20,2,19940212,1722, -9.7915,-171.8515, 3520,    811.8,   5.5237,  34.5083,2,  34.5080,2,    118.6,2,    116.5,2,    53.66,2,    35.86,2,     0.00,2,     2.47,2,    0.010,2,    0.001,2,   -999.0,9,   -999.0,9,  -999.00,9, -999.00,  5.4539
     3250031_1,   P31,    66,  1,     19,     19,2,19940212,1722, -9.7915,-171.8515, 3520,    912.1,   4.8690,  34.5114,2,  34.5120,2,    116.8,2,    116.9,2,    63.96,2,    36.71,2,     0.00,2,     2.53,2,    0.010,2,   -0.002,2,   -999.0,9,   -999.0,9,  -999.00,9, -999.00,  4.7945
     3250031_1,   P31,    66,  1,     18,     18,2,19940212,1722, -9.7915,-171.8515, 3520,   1013.0,   4.4553,  34.5191,2,  34.5208,2,    118.2,2,    118.8,2,    71.53,2,    36.97,2,     0.00,2,     2.55,2,    0.006,2,   -0.001,2,   -999.0,9,   -999.0,9,  -999.00,9, -999.00,  4.3750
     3250031_1,   P31,    66,  1,     17,     17,2,19940212,1722, -9.7915,-171.8515, 3520,   1213.7,   3.7372,  34.5443,2,  34.5442,2,    126.0,2,    125.1,2,    85.85,2,    37.08,2,     0.00,2,     2.56,2, -999.000,9, -999.000,9,   -999.0,9,   -999.0,9,  -999.00,9, -999.00,  3.6458
     3250031_1,   P31,    66,  1,     16,     16,2,19940212,1722, -9.7915,-171.8515, 3520,   1416.9,   3.0405,  34.5770,2,  34.5770,2,    131.3,2,    131.2,2,   100.38,2,    36.92,2,     0.00,2,     2.55,2, -999.000,9, -999.000,9,   -999.0,9,   -999.0,9,  -999.00,9, -999.00,  2.9391
     3250031_1,   P31,    66,  1,     15,     15,2,19940212,1722, -9.7915,-171.8515, 3520,   1618.3,   2.6517,  34.6036,2,  34.6037,2,    134.6,2,    132.3,2,   112.11,2,    37.08,2,     0.00,2,     2.56,2, -999.000,9, -999.000,9,   -999.0,9,   -999.0,9,  -999.00,9, -999.00,  2.5381
     3250031_1,   P31,    66,  1,     14,     14,2,19940212,1722, -9.7915,-171.8515, 3520,   1814.2,   2.4139,  34.6198,2,  34.6204,2,    134.5,2,    133.5,2,   118.96,2,    37.13,2,     0.00,2,     2.56,2, -999.000,9, -999.000,9,   -999.0,9,   -999.0,9,  -999.00,9, -999.00,  2.2871
     3250031_1,   P31,    66,  1,     13,     13,2,19940212,1722, -9.7915,-171.8515, 3520,   2018.5,   2.2098,  34.6350,2,  34.6355,2,    133.7,2,    133.7,2,   125.72,2,    37.08,2,     0.00,2,     2.56,2,   -0.002,2,   -0.004,2,   -999.0,9,   -999.0,9,  -999.00,9, -999.00,  2.0686
     3250031_1,   P31,    66,  1,     12,     12,2,19940212,1722, -9.7915,-171.8515, 3520,   2224.3,   2.0232,  34.6473,2,  34.6479,2,    138.9,2,    137.8,2,   129.74,2,    36.87,2,     0.00,2,     2.54,2, -999.000,9, -999.000,9,   -999.0,9,   -999.0,9,  -999.00,9, -999.00,  1.8671
     3250031_1,   P31,    66,  1,     11,     11,2,19940212,1722, -9.7915,-171.8515, 3520,   2426.9,   1.8996,  34.6568,2,  34.6556,2,    141.5,2,    139.6,2,   132.58,2,    36.76,2,     0.00,2,     2.54,2, -999.000,9, -999.000,9,   -999.0,9,   -999.0,9,  -999.00,9, -999.00,  1.7277
     3250031_1,   P31,    66,  1,     10,     10,2,19940212,1722, -9.7915,-171.8515, 3520,   2630.1,   1.8013,  34.6634,2,  34.6641,2,    143.6,2,    142.5,2,   134.20,2,    36.55,2,     0.00,2,     2.52,2, -999.000,9, -999.000,9,   -999.0,9,   -999.0,9,  -999.00,9, -999.00,  1.6128
     3250031_1,   P31,    66,  1,      9,      9,2,19940212,1722, -9.7915,-171.8515, 3520,   2734.1,   1.7588,  34.6671,2,  34.6664,2,    144.7,2,    144.9,2,   135.00,2,    36.55,2,     0.00,2,     2.51,2, -999.000,9, -999.000,9,   -999.0,9,   -999.0,9,  -999.00,9, -999.00,  1.5616
     3250031_1,   P31,    66,  1,      8,      8,2,19940212,1722, -9.7915,-171.8515, 3520,   2838.8,   1.7310,  34.6691,2,  34.6690,2,    146.6,2,    146.5,2,   135.80,2,    36.45,2,     0.00,2,     2.51,2, -999.000,9, -999.000,9,   -999.0,9,   -999.0,9,  -999.00,9, -999.00,  1.5246
     3250031_1,   P31,    66,  1,      7,      7,2,19940212,1722, -9.7915,-171.8515, 3520,   2941.3,   1.6994,  34.6721,2,  34.6721,2,    148.6,2,    147.9,2,   136.61,2,    36.35,2,     0.00,2,     2.50,2, -999.000,9, -999.000,9,   -999.0,9,   -999.0,9,  -999.00,9, -999.00,  1.4839
     3250031_1,   P31,    66,  1,      6,      6,2,19940212,1722, -9.7915,-171.8515, 3520,   3042.6,   1.6715,  34.6742,2,  34.6745,2,    150.2,2,    149.8,2,   136.79,2,    36.29,2,     0.00,2,     2.48,2,    0.013,2,    0.026,2,   -999.0,9,   -999.0,9,  -999.00,9, -999.00,  1.4468
     3250031_1,   P31,    66,  1,      5,      5,2,19940212,1722, -9.7915,-171.8515, 3520,   3145.1,   1.6617,  34.6753,2,  34.6747,2,    150.9,2,    151.0,2,   136.56,2,    36.14,2,     0.00,2,     2.48,2, -999.000,9, -999.000,9,   -999.0,9,   -999.0,9,  -999.00,9, -999.00,  1.4272
     3250031_1,   P31,    66,  1,      4,      4,2,19940212,1722, -9.7915,-171.8515, 3520,   3248.4,   1.6090,  34.6783,2,  34.6782,2,    154.4,2,    154.8,2,   136.53,2,    35.88,2,     0.00,2,     2.46,2, -999.000,9, -999.000,9,   -999.0,9,   -999.0,9,  -999.00,9, -999.00,  1.3656
     3250031_1,   P31,    66,  1,      3,      3,2,19940212,1722, -9.7915,-171.8515, 3520,   3350.3,   1.5642,  34.6816,2,  34.6814,2,    157.0,2,    157.0,2,   135.27,2,    35.61,2,     0.00,2,     2.44,2, -999.000,9, -999.000,9,   -999.0,9,   -999.0,9,  -999.00,9, -999.00,  1.3117
     3250031_1,   P31,    66,  1,      2,      2,2,19940212,1722, -9.7915,-171.8515, 3520,   3452.5,   1.5267,  34.6840,2,  34.6838,2,    159.6,3,    160.6,2,   132.98,2,    35.30,2,     0.00,2,     2.43,2, -999.000,9, -999.000,9,   -999.0,9,   -999.0,9,  -999.00,9, -999.00,  1.2647
     3250031_1,   P31,    66,  1,      1,      1,2,19940212,1722, -9.7915,-171.8515, 3520,   3523.7,   1.5105,  34.6853,2,  34.6865,2,    161.2,2,    161.9,2,   133.16,2,    35.30,2,     0.00,2,     2.42,2,    0.021,2,    0.026,2,   -999.0,9,   -999.0,9,  -999.00,9, -999.00,  1.2416
     3250031_1,   P31,    67,  1,     32,     32,2,19940212,2228, -9.8585,-172.2990, 3905,      4.8,  29.5914,  33.7485,2,  33.7496,2,    193.9,2,    193.6,2,     1.70,2,     0.09,2,     0.00,2,     0.14,2, -999.000,9, -999.000,9,   1866.6,2,   2219.9,2,     8.16,2,   25.00, 29.5902
     3250031_1,   P31,    67,  1,     31,     31,9,19940212,2228, -9.8585,-172.2990, 3905,     17.2,  29.5507,  33.7617,2,-999.0000,9,    189.8,2,   -999.0,9,  -999.00,9,  -999.00,9,  -999.00,9,  -999.00,9, -999.000,9, -999.000,9,   -999.0,9,   -999.0,9,  -999.00,9, -999.00, 29.5465
     3250031_1,   P31,    67,  1,     30,     30,2,19940212,2228, -9.8585,-172.2990, 3905,     57.6,  30.1537,  34.6646,2,  34.7362,2,    191.9,2,    200.1,2,     1.86,2,     0.14,2,     0.00,2,     0.20,2, -999.000,9, -999.000,9,   1930.0,2,   2286.9,2,     8.14,2,   25.00, 30.1394
     3250031_1,   P31,    67,  1,     29,     29,2,19940212,2228, -9.8585,-172.2990, 3905,    106.1,  27.3078,  35.9264,2,  35.9223,2,    169.2,2,    159.6,2,     2.57,2,     3.33,2,     0.37,2,     0.56,2, -999.000,9, -999.000,9,   2046.3,2,   2363.1,2,     8.05,2,   25.00, 27.2832
     3250031_1,   P31,    67,  1,     28,     28,2,19940212,2228, -9.8585,-172.2990, 3905,    208.3,  19.9028,  35.7780,2,  35.7773,2,    133.7,2,    136.1,2,     4.02,2,     9.41,2,     0.01,2,     0.91,2, -999.000,9, -999.000,9,   2122.8,2,   -999.0,9,     7.90,2,   25.00, 19.8642
     3250031_1,   P31,    67,  1,     27,     27,2,19940212,2228, -9.8585,-172.2990, 3905,    307.3,  13.4930,  34.9992,2,  34.9977,2,    103.6,2,    102.6,2,    12.60,2,    19.59,2,     0.01,2,     1.58,2, -999.000,9, -999.000,9,   2170.0,2,   2312.4,2,     7.71,2,   25.00, 13.4496
     3250031_1,   P31,    67,  1,     26,     26,2,19940212,2228, -9.8585,-172.2990, 3905,    407.7,   9.7498,  34.7102,2,  34.7070,2,    100.7,2,    109.7,2,    23.02,2,    27.36,2,     0.00,2,     1.96,2, -999.000,9, -999.000,9,   2196.6,2,   -999.0,9,     7.62,2,   25.00,  9.7029
     3250031_1,   P31,    67,  1,     25,     25,2,19940212,2228, -9.8585,-172.2990, 3905,    508.3,   7.7425,  34.5838,2,  34.5825,2,    128.6,2,    125.9,2,    31.25,2,    30.37,2,     0.00,2,     2.11,2, -999.000,9, -999.000,9,   2206.1,2,   2305.1,2,  -999.00,9, -999.00,  7.6913
     3250031_1,   P31,    67,  1,     24,     24,2,19940212,2228, -9.8585,-172.2990, 3905,    609.5,   6.8380,  34.5441,2,  34.5445,2,    120.8,2,    121.6,2,    38.93,2,    32.77,2,     0.00,2,     2.26,2, -999.000,9, -999.000,9,   2221.3,2,   -999.0,9,     7.57,2,   25.00,  6.7803
     3250031_1,   P31,    67,  1,     23,     23,2,19940212,2228, -9.8585,-172.2990, 3905,    707.7,   6.2515,  34.5254,2,  34.5241,2,    115.0,2,    117.9,2,    45.53,2,    34.39,2,     0.00,2,     2.37,2, -999.000,9, -999.000,9,   2233.5,2,   2316.1,2,     7.55,2,   25.00,  6.1872
     3250031_1,   P31,    67,  1,     22,     22,2,19940212,2228, -9.8585,-172.2990, 3905,    802.3,   5.6339,  34.5069,2,  34.5080,2,    120.9,2,    120.9,2,    51.76,2,    35.12,2,     0.00,2,     2.42,2, -999.000,9, -999.000,9,   2240.2,2,   -999.0,9,     7.55,2,   25.00,  5.5643
     3250031_1,   P31,    67,  1,     21,     21,2,19940212,2228, -9.8585,-172.2990, 3905,    902.2,   5.0628,  34.5095,2,  34.5103,2,    117.2,2,    117.8,2,    61.51,2,    36.53,2,     0.00,2,     2.52,2, -999.000,9, -999.000,9,   2254.8,2,   2331.4,2,     7.54,2,   25.00,  4.9879
     3250031_1,   P31,    67,  1,     20,     20,2,19940212,2228, -9.8585,-172.2990, 3905,   1005.7,   4.5630,  34.5162,2,  34.5164,2,    115.9,2,    118.8,2,    70.19,2,    37.16,2,     0.00,2,     2.57,2, -999.000,9, -999.000,9,   2265.4,2,   -999.0,9,     7.53,2,   25.00,  4.4825
     3250031_1,   P31,    67,  1,     19,     19,2,19940212,2228, -9.8585,-172.2990, 3905,   1208.8,   3.7461,  34.5438,2,  34.5437,2,    125.4,2,    124.4,2,    85.82,2,    37.16,2,     0.00,2,     2.58,2, -999.000,9, -999.000,9,   2280.5,2,   2356.3,2,     7.54,2,   25.00,  3.6551
     3250031_1,   P31,    67,  1,     18,     18,2,19940212,2228, -9.8585,-172.2990, 3905,   1413.0,   3.0756,  34.5748,2,  34.5739,2,    131.9,2,    131.8,2,    99.43,2,    36.99,2,     0.00,2,     2.57,2, -999.000,9, -999.000,9,   2291.7,2,   2372.3,2,     7.55,2,   25.00,  2.9741
     3250031_1,   P31,    67,  1,     17,     17,2,19940212,2228, -9.8585,-172.2990, 3905,   1617.7,   2.6147,  34.6024,2,  34.6021,2,    138.2,2,    137.1,2,   109.24,2,    36.72,2,     0.00,2,     2.55,2, -999.000,9, -999.000,9,   2301.3,2,   -999.0,9,  -999.00,9, -999.00,  2.5016
     3250031_1,   P31,    67,  1,     16,     16,2,19940212,2228, -9.8585,-172.2990, 3905,   1818.1,   2.3369,  34.6237,2,  34.6232,2,    135.7,2,    136.2,2,   119.24,2,    36.88,2,     0.00,2,     2.56,2, -999.000,9, -999.000,9,   2310.8,2,   2397.8,2,     7.55,2,   25.00,  2.2108
     3250031_1,   P31,    67,  1,     15,     15,2,19940212,2228, -9.8585,-172.2990, 3905,   2015.8,   2.1631,  34.6363,2,  34.6367,2,    136.8,2,    137.5,2,   124.83,2,    36.82,2,     0.00,2,     2.56,2, -999.000,9, -999.000,9,   2314.8,2,   2403.5,2,     7.56,2,   25.00,  2.0228
     3250031_1,   P31,    67,  1,     14,     14,2,19940212,2228, -9.8585,-172.2990, 3905,   2219.4,   2.0232,  34.6474,2,  34.6483,2,    136.0,2,    136.5,2,   130.51,2,    37.07,2,     0.01,2,     2.57,2, -999.000,9, -999.000,9,   2322.2,2,   -999.0,9,     7.56,2,   25.00,  1.8676
     3250031_1,   P31,    67,  1,     13,     13,2,19940212,2228, -9.8585,-172.2990, 3905,   2426.9,   1.9058,  34.6565,2,  34.6569,2,    140.8,2,    139.4,2,   133.39,2,    36.91,2,     0.00,2,     2.56,2, -999.000,9, -999.000,9,   2323.4,2,   2413.9,2,     7.56,2,   25.00,  1.7338
     3250031_1,   P31,    67,  1,     12,     12,2,19940212,2228, -9.8585,-172.2990, 3905,   2632.8,   1.8144,  34.6634,2,  34.6632,2,    142.9,2,    142.3,2,   135.88,2,    36.75,2,     0.00,2,     2.54,2,    0.000,2,   -0.004,2,   2324.2,2,   -999.0,9,     7.57,2,   25.00,  1.6254
     3250031_1,   P31,    67,  1,     11,     11,2,19940212,2228, -9.8585,-172.2990, 3905,   2834.2,   1.7288,  34.6693,2,  34.6683,2,    146.7,2,    145.7,2,   137.13,2,    36.59,2,     0.00,2,     2.53,2, -999.000,9, -999.000,9,   2322.7,2,   2415.2,2,     7.57,2,   25.00,  1.5228
     3250031_1,   P31,    67,  1,     10,     10,2,19940212,2228, -9.8585,-172.2990, 3905,   3038.0,   1.6506,  34.6746,2,  34.6733,2,    150.9,2,    150.8,2,   137.14,2,    36.22,2,     0.00,2,     2.50,2, -999.000,9, -999.000,9,   2320.4,2,   -999.0,9,     7.58,2,   25.00,  1.4268
     3250031_1,   P31,    67,  1,      9,      9,2,19940212,2228, -9.8585,-172.2990, 3905,   3140.6,   1.6223,  34.6772,2,  34.6753,2,    152.1,2,    152.9,2,   135.70,2,    35.95,2,     0.00,2,     2.48,2, -999.000,9, -999.000,9,   2317.5,2,   2412.1,2,     7.58,2,   25.00,  1.3892
     3250031_1,   P31,    67,  1,      8,      8,2,19940212,2228, -9.8585,-172.2990, 3905,   3243.5,   1.5992,  34.6784,2,  34.6772,2,    154.6,2,    154.1,2,   136.13,2,    35.95,2,     0.00,2,     2.48,2, -999.000,9, -999.000,9,   2318.2,2,   -999.0,9,     7.58,2,   25.00,  1.3565
     3250031_1,   P31,    67,  1,      7,      7,2,19940212,2228, -9.8585,-172.2990, 3905,   3344.0,   1.5767,  34.6804,2,  34.6804,2,    156.4,2,    156.6,2,   135.51,2,    35.79,2,     0.00,2,     2.47,2, -999.000,9, -999.000,9,   2316.1,2,   2411.9,2,     7.58,2,   25.00,  1.3245
     3250031_1,   P31,    67,  1,      6,      6,2,19940212,2228, -9.8585,-172.2990, 3905,   3446.1,   1.5322,  34.6833,2,  34.6837,2,    159.9,2,    160.5,2,   135.32,2,    35.52,2,     0.00,2,     2.45,2,    0.001,2,   -0.002,2,   2312.6,2,   -999.0,9,     7.59,2,   25.00,  1.2707
     3250031_1,   P31,    67,  1,      5,      5,2,19940212,2228, -9.8585,-172.2990, 3905,   3548.0,   1.5036,  34.6857,2,  34.6845,2,    163.5,2,    162.4,2,   134.71,2,    35.41,2,     0.00,2,     2.44,2,    0.000,2,   -0.002,2,   2309.5,2,   2407.7,2,     7.59,2,   25.00,  1.2324
     3250031_1,   P31,    67,  1,      4,      4,2,19940212,2228, -9.8585,-172.2990, 3905,   3649.5,   1.4892,  34.6868,2,  34.6862,2,    165.7,2,    164.7,2,   133.68,2,    35.30,2,     0.00,2,     2.43,2,    0.003,2,   -0.006,2,   2306.9,2,   -999.0,9,     7.59,2,   25.00,  1.2079
     3250031_1,   P31,    67,  1,      3,      3,2,19940212,2228, -9.8585,-172.2990, 3905,   3752.0,   1.4480,  34.6901,2,  34.6887,2,    168.7,2,    169.1,2,   132.25,2,    34.88,2,     0.00,2,     2.41,2,    0.000,2,   -0.003,2,   2302.2,2,   2401.1,2,     7.59,2,   25.00,  1.1571
     3250031_1,   P31,    67,  1,      2,      2,2,19940212,2228, -9.8585,-172.2990, 3905,   3856.1,   1.4067,  34.6933,2,  34.6917,2,    173.9,2,    173.9,2,   130.63,2,    34.51,2,     0.00,2,     2.38,2,    0.008,3,    0.000,2,   2296.9,2,   -999.0,9,     7.60,2,   25.00,  1.1058
     3250031_1,   P31,    67,  1,      1,      1,2,19940212,2228, -9.8585,-172.2990, 3905,   3904.3,   1.3913,  34.6944,2,  34.6938,2,    172.8,2,    176.0,2,   129.41,2,    34.29,2,     0.00,2,     2.37,2,    0.006,2,   -0.003,2,   2293.3,2,   2394.5,2,     7.60,2,   25.00,  1.0857