BOTTLE,20020814WHPSIOdm
EXPOCODE,SECT_ID,STNNBR,CASTNO,SAMPNO,BTLNBR,BTLNBR_FLAG_W,DATE,TIME,LATITUDE,LONGITUDE,DEPTH,CTDPRS,CTDTMP,CTDSAL,CTDSAL_FLAG_W,SALNTY,SALNTY_FLAG_W,CTDOXY,CTDOXY_FLAG_W,OXYGEN,OXYGEN_FLAG_W,SILCAT,SILCAT_FLAG_W,NITRAT,NITRAT_FLAG_W,NITRIT,NITRIT_FLAG_W,PHSPHT,PHSPHT_FLAG_W,CFC-11,CFC-11_FLAG_W,CFC-12,CFC-12_FLAG_W,TCARBN,TCARBN_FLAG_W,ALKALI,ALKALI_FLAG_W,PH,PH_FLAG_W,PHTEMP,THETA
,,,,,,,,,,,,DBAR,ITS-90,PSS-78,,PSS-78,,UMOL/KG,,UMOL/KG,,UMOL/KG,,UMOL/KG,,UMOL/KG,,UMOL/KG,,PMOL/KG,,PMOL/KG,,UMOL/KG,,UMOL/KG,,,,DEG C,DEG C
     3250031_1,   P31,    81,  1,     33,     33,2,19940215,1729,-11.8623,-176.7087, 3940,      2.9,  29.6647,  34.0946,2,  34.0935,2,    190.2,2,    193.0,2,     1.49,2,     0.15,2,     0.00,2,     0.16,2, -999.000,9, -999.000,9,   -999.0,9,   2244.9,2,     8.16,2,   25.00, 29.6639
     3250031_1,   P31,    81,  1,     32,     32,2,19940215,1729,-11.8623,-176.7087, 3940,     15.9,  29.6728,  34.0951,2,  34.0949,2,    193.2,2,    192.3,2,     1.29,2,     0.15,2,     0.00,2,     0.16,2, -999.000,9, -999.000,9,   -999.0,9,   2246.2,2,     8.16,2,   25.00, 29.6689
     3250031_1,   P31,    81,  1,     31,     31,2,19940215,1729,-11.8623,-176.7087, 3940,     56.0,  28.9680,  35.5783,2,  35.6255,2,    206.5,2,    201.3,2,     1.09,2,     0.15,2,     0.00,2,     0.22,2, -999.000,9, -999.000,9,   -999.0,9,   -999.0,9,     8.15,2,   25.00, 28.9545
     3250031_1,   P31,    81,  1,     30,     30,2,19940215,1729,-11.8623,-176.7087, 3940,    105.8,  26.8729,  36.1943,2,  36.1922,2,    175.8,2,    180.8,2,     1.25,2,     0.28,2,     0.03,2,     0.34,2, -999.000,9, -999.000,9,   -999.0,9,   2386.7,2,     8.09,2,   25.00, 26.8486
     3250031_1,   P31,    81,  1,     29,     29,2,19940215,1729,-11.8623,-176.7087, 3940,    206.1,  21.0748,  35.9516,2,  35.9409,2,    153.7,2,    147.7,2,     2.33,2,     7.11,2,     0.01,2,     0.76,2, -999.000,9, -999.000,9,   -999.0,9,   -999.0,9,  -999.00,9, -999.00, 21.0350
     3250031_1,   P31,    81,  1,     28,     28,2,19940215,1729,-11.8623,-176.7087, 3940,    306.2,  14.8964,  35.1310,2,  35.1171,2,    120.3,2,    115.4,2,     8.89,2,    15.84,2,     0.01,2,     1.37,2, -999.000,9, -999.000,9,   -999.0,9,   2318.7,2,     7.77,2,   25.00, 14.8500
     3250031_1,   P31,    81,  1,     27,     27,2,19940215,1729,-11.8623,-176.7087, 3940,    406.6,  10.2354,  34.6980,2,  34.6895,2,    101.0,2,    102.2,2,    20.21,2,    26.21,2,     0.01,2,     1.95,2, -999.000,9, -999.000,9,   -999.0,9,   -999.0,9,     7.62,2,   25.00, 10.1872
     3250031_1,   P31,    81,  1,     26,     26,2,19940215,1729,-11.8623,-176.7087, 3940,    508.1,   7.5406,  34.5398,2,  34.5375,2,    140.0,2,    136.2,2,    28.79,2,    29.75,2,     0.01,2,     2.06,2, -999.000,9, -999.000,9,   -999.0,9,   2302.2,2,     7.61,2,   25.00,  7.4902
     3250031_1,   P31,    81,  1,     25,     25,2,19940215,1729,-11.8623,-176.7087, 3940,    608.2,   6.4989,  34.5013,2,  34.4998,2,    131.4,2,    136.5,2,    37.36,2,    32.06,2,     0.01,2,     2.21,2, -999.000,9, -999.000,9,   -999.0,9,   -999.0,9,     7.59,2,   25.00,  6.4430
     3250031_1,   P31,    81,  1,     24,     24,2,19940215,1729,-11.8623,-176.7087, 3940,    708.6,   5.8457,  34.4957,2,  34.4946,2,    131.8,2,    128.0,2,    46.12,2,    34.21,2,     0.01,2,     2.35,2, -999.000,9, -999.000,9,   2233.1,2,   2316.5,2,     7.56,2,   25.00,  5.7836
     3250031_1,   P31,    81,  1,     23,     23,2,19940215,1729,-11.8623,-176.7087, 3940,    808.8,   5.1844,  34.4860,2,  34.4846,2,    131.6,2,    133.2,2,    53.79,2,    34.84,2,     0.01,2,     2.40,2, -999.000,9, -999.000,9,   2241.3,2,   -999.0,9,     7.56,2,   25.00,  5.1170
     3250031_1,   P31,    81,  1,     22,     22,2,19940215,1729,-11.8623,-176.7087, 3940,    910.4,   4.7609,  34.5053,2,  34.5037,2,    126.2,2,    124.0,2,    63.32,2,    36.32,2,     0.01,2,     2.50,2, -999.000,9, -999.000,9,   2257.7,2,   2331.7,2,     7.54,2,   25.00,  4.6873
     3250031_1,   P31,    81,  1,     21,     21,2,19940215,1729,-11.8623,-176.7087, 3940,   1012.2,   4.3077,  34.5136,2,  34.5132,2,    126.0,2,    126.5,2,    71.95,2,    36.69,2,     0.01,2,     2.52,2, -999.000,9, -999.000,9,   2265.9,2,   -999.0,9,     7.54,2,   25.00,  4.2286
     3250031_1,   P31,    81,  1,     20,     20,2,19940215,1729,-11.8623,-176.7087, 3940,   1212.7,   3.6620,  34.5277,2,  34.5260,2,    137.1,2,    139.7,2,    81.75,2,    36.07,2,     0.01,2,     2.47,2, -999.000,9, -999.000,9,   2271.8,2,   2352.3,2,     7.56,2,   25.00,  3.5714
     3250031_1,   P31,    81,  1,     19,     19,3,19940215,1729,-11.8623,-176.7087, 3940,   1414.5,   3.1593,  34.5715,2,  34.5265,4,    127.9,2,    128.3,4,    76.30,4,    36.55,4,     0.01,4,     2.51,4, -999.000,9, -999.000,9,   2268.8,2,   -999.0,9,     7.54,2,   25.00,  3.0568
     3250031_1,   P31,    81,  1,     18,     18,2,19940215,1729,-11.8623,-176.7087, 3940,   1618.7,   2.7045,  34.5954,2,  34.5943,2,    136.8,2,    136.7,2,   107.34,2,    36.82,2,     0.01,2,     2.53,2, -999.000,9, -999.000,9,   2299.8,2,   2385.2,2,     7.55,2,   25.00,  2.5903
     3250031_1,   P31,    81,  1,     17,     17,2,19940215,1729,-11.8623,-176.7087, 3940,   1821.4,   2.3944,  34.6157,2,  34.6142,2,    141.5,2,    142.0,2,   113.69,2,    36.56,2,     0.01,2,     2.51,2, -999.000,9, -999.000,9,   2305.7,2,   -999.0,9,     7.56,2,   25.00,  2.2673
     3250031_1,   P31,    81,  1,     16,     16,2,19940215,1729,-11.8623,-176.7087, 3940,   2022.0,   2.1610,  34.6349,2,  34.6351,2,    141.8,2,    141.2,2,   121.13,2,    36.67,2,     0.01,2,     2.52,2, -999.000,9, -999.000,9,   2313.3,2,   2399.1,2,     7.56,2,   25.00,  2.0202
     3250031_1,   P31,    81,  1,     15,     15,2,19940215,1729,-11.8623,-176.7087, 3940,   2219.7,   1.9961,  34.6475,2,  34.6467,2,    141.8,2,    140.3,2,   128.50,2,    36.83,2,     0.01,2,     2.52,2, -999.000,9, -999.000,9,   2321.3,2,   -999.0,9,     7.56,2,   25.00,  1.8409
     3250031_1,   P31,    81,  1,     14,     14,2,19940215,1729,-11.8623,-176.7087, 3940,   2426.3,   1.9014,  34.6551,2,  34.6543,2,    142.5,2,    140.0,2,   132.32,2,    36.94,2,     0.01,2,     2.52,2, -999.000,9, -999.000,9,   2323.2,2,   2409.5,2,     7.56,2,   25.00,  1.7296
     3250031_1,   P31,    81,  1,     13,     13,2,19940215,1729,-11.8623,-176.7087, 3940,   2632.2,   1.8250,  34.6606,2,  34.6608,2,    142.0,2,    140.1,2,   136.60,2,    37.00,2,     0.01,2,     2.53,2, -999.000,9, -999.000,9,   2327.3,2,   -999.0,9,     7.56,2,   25.00,  1.6359
     3250031_1,   P31,    81,  1,     12,     12,2,19940215,1729,-11.8623,-176.7087, 3940,   2838.1,   1.7433,  34.6654,2,  34.6644,2,    142.2,2,    141.7,2,   139.26,2,    37.00,2,     0.01,2,     2.52,2,    0.000,4,   -0.003,4,   2329.6,2,   2417.3,2,     7.57,2,   25.00,  1.5367
     3250031_1,   P31,    81,  1,     11,     11,2,19940215,1729,-11.8623,-176.7087, 3940,   3042.0,   1.6700,  34.6707,2,  34.6692,2,    145.0,2,    144.7,2,   140.26,2,    36.80,2,     0.01,2,     2.51,2, -999.000,9, -999.000,9,   2328.9,2,   -999.0,9,  -999.00,9, -999.00,  1.4454
     3250031_1,   P31,    81,  1,     10,     10,2,19940215,1729,-11.8623,-176.7087, 3940,   3144.2,   1.6246,  34.6735,2,  34.6726,2,    146.7,2,    146.6,2,   139.59,2,    36.54,2,     0.00,2,     2.50,2, -999.000,9, -999.000,9,   2327.2,2,   2417.8,2,     7.57,2,   25.00,  1.3911
     3250031_1,   P31,    81,  1,      9,      9,2,19940215,1729,-11.8623,-176.7087, 3940,   3246.6,   1.5858,  34.6765,2,  34.6760,2,    149.7,2,    149.8,2,   138.71,2,    36.33,2,     0.00,2,     2.49,2, -999.000,9, -999.000,9,   2323.1,2,   -999.0,9,     7.57,2,   25.00,  1.3431
     3250031_1,   P31,    81,  1,      8,      8,2,19940215,1729,-11.8623,-176.7087, 3940,   3348.2,   1.5622,  34.6791,2,  34.6780,2,    152.4,2,    153.8,2,   137.62,2,    36.12,2,     0.00,2,     2.46,2, -999.000,9, -999.000,9,   2319.0,2,   2412.5,2,     7.58,2,   25.00,  1.3100
     3250031_1,   P31,    81,  1,      7,      7,2,19940215,1729,-11.8623,-176.7087, 3940,   3450.4,   1.5244,  34.6820,2,  34.6810,2,    158.4,2,    157.5,2,   136.75,2,    35.86,2,     0.00,2,     2.44,2, -999.000,9, -999.000,9,   2315.7,2,   -999.0,9,     7.58,2,   25.00,  1.2627
     3250031_1,   P31,    81,  1,      6,      6,2,19940215,1729,-11.8623,-176.7087, 3940,   3552.7,   1.4800,  34.6851,2,  34.6852,2,    163.3,2,    162.2,2,   135.05,2,    35.50,2,     0.00,2,     2.41,2, -999.000,9, -999.000,9,   2309.9,2,   2394.6,2,     7.59,2,   25.00,  1.2090
     3250031_1,   P31,    81,  1,      5,      5,2,19940215,1729,-11.8623,-176.7087, 3940,   3629.3,   1.4233,  34.6898,2,  34.6886,2,    167.7,2,    169.2,2,   132.54,2,    34.98,2,     0.00,2,     2.38,2,   -0.001,4,   -0.002,4,   2303.0,2,   2405.5,2,     7.59,2,   25.00,  1.1458
     3250031_1,   P31,    81,  1,      4,      4,2,19940215,1729,-11.8623,-176.7087, 3940,   3705.6,   1.3230,  34.6961,2,  34.6957,2,    176.2,2,    178.2,2,   128.23,2,    34.25,2,     0.00,2,     2.33,2,    0.010,4,   -0.004,4,   2292.1,2,   2395.4,2,     7.60,2,   25.00,  1.0402
     3250031_1,   P31,    81,  1,      3,      3,2,19940215,1729,-11.8623,-176.7087, 3940,   3781.9,   1.2703,  34.7003,2,  34.6989,2,    185.2,2,    184.9,2,   124.77,2,    33.67,2,     0.00,2,     2.29,2,    0.005,4,    0.002,4,   2284.9,2,   -999.0,9,     7.60,2,   25.00,  0.9809
     3250031_1,   P31,    81,  1,      2,      2,2,19940215,1729,-11.8623,-176.7087, 3940,   3858.3,   1.2327,  34.7035,2,  34.7023,2,    191.3,2,    189.3,2,   121.94,2,    33.26,2,     0.00,2,     2.27,2,    0.010,4,    0.002,4,   2279.3,2,   2384.6,2,     7.60,2,   25.00,  0.9363
     3250031_1,   P31,    81,  1,      1,      1,2,19940215,1729,-11.8623,-176.7087, 3940,   3943.0,   1.2061,  34.7054,2,  34.7057,2,    193.6,3,    192.7,2,   120.71,2,    33.05,2,     0.00,2,     2.25,2,    0.003,4,   -0.002,4,   -999.0,9,   -999.0,9,     7.61,2,   25.00,  0.9015
     3250031_1,   P31,    82,  1,     29,     29,2,19940215,2226,-12.2823,-176.9910, 3454,      4.5,  29.6730,  34.5084,2,  34.5084,2,    190.6,2,    192.0,2,     1.47,2,     0.16,2,     0.00,2,     0.18,2,    1.597,4,    0.875,4,   -999.0,9,   -999.0,9,  -999.00,9, -999.00, 29.6719
     3250031_1,   P31,    82,  1,     28,     28,2,19940215,2226,-12.2823,-176.9910, 3454,     16.7,  29.6395,  34.5216,2,  34.5088,2,    195.0,2,    193.0,2,     1.27,2,     0.16,2,     0.00,2,     0.18,2,    1.626,4,    0.923,4,   -999.0,9,   -999.0,9,  -999.00,9, -999.00, 29.6354
     3250031_1,   P31,    82,  1,     27,     27,3,19940215,2226,-12.2823,-176.9910, 3454,     56.6,  29.1882,  35.4183,2,  35.3568,4,    197.6,2,   -999.0,9,  -999.00,9,  -999.00,9,  -999.00,9,  -999.00,9, -999.000,9, -999.000,9,   -999.0,9,   -999.0,9,  -999.00,9, -999.00, 29.1745
     3250031_1,   P31,    82,  1,     26,     26,2,19940215,2226,-12.2823,-176.9910, 3454,    106.7,  27.1788,  36.0802,2,  36.0903,2,    192.3,2,    192.1,2,     1.24,2,     0.16,2,     0.00,2,     0.27,2,    1.735,4,    0.964,4,   -999.0,9,   -999.0,9,  -999.00,9, -999.00, 27.1541
     3250031_1,   P31,    82,  1,     25,     25,2,19940215,2226,-12.2823,-176.9910, 3454,    206.9,  20.4507,  35.8606,2,  35.8575,2,    145.0,2,    147.9,2,     2.87,2,     7.40,2,     0.00,2,     0.78,2,    1.808,4,    0.985,4,   -999.0,9,   -999.0,9,  -999.00,9, -999.00, 20.4116
     3250031_1,   P31,    82,  1,     24,     24,2,19940215,2226,-12.2823,-176.9910, 3454,    307.6,  13.6672,  35.0034,2,  35.0100,2,    113.5,2,    113.1,2,    10.74,2,    17.72,2,     0.01,2,     1.49,2,    1.020,4,    0.534,4,   -999.0,9,   -999.0,9,  -999.00,9, -999.00, 13.6233
     3250031_1,   P31,    82,  1,     23,     23,2,19940215,2226,-12.2823,-176.9910, 3454,    408.6,   9.3056,  34.6441,2,  34.6413,2,    117.0,2,    113.5,2,    23.19,2,    27.61,2,     0.01,2,     1.99,2,    0.223,4,    0.131,4,   -999.0,9,   -999.0,9,  -999.00,9, -999.00,  9.2600
     3250031_1,   P31,    82,  1,     22,     22,2,19940215,2226,-12.2823,-176.9910, 3454,    509.0,   7.5204,  34.5509,2,  34.5521,2,    122.2,2,    127.0,2,    30.87,2,    30.64,2,     0.00,2,     2.13,2,    0.105,4,    0.061,4,   -999.0,9,   -999.0,9,  -999.00,9, -999.00,  7.4700
     3250031_1,   P31,    82,  1,     21,     21,2,19940215,2226,-12.2823,-176.9910, 3454,    609.4,   6.3743,  34.4971,2,  34.4991,2,    129.8,2,    133.7,2,    38.19,2,    32.59,2,     0.00,2,     2.24,2,    0.057,4,    0.036,4,   -999.0,9,   -999.0,9,  -999.00,9, -999.00,  6.3189
     3250031_1,   P31,    82,  1,     20,     20,2,19940215,2226,-12.2823,-176.9910, 3454,    709.9,   5.7097,  34.4949,2,  34.4975,2,    129.5,2,    124.1,2,    48.08,2,    34.90,2,     0.00,2,     2.40,2,    0.022,4,    0.020,4,   -999.0,9,   -999.0,9,  -999.00,9, -999.00,  5.6482
     3250031_1,   P31,    82,  1,     19,     19,2,19940215,2226,-12.2823,-176.9910, 3454,    785.2,   5.3728,  34.4893,2,  34.4905,2,    128.5,2,    129.0,2,    52.09,2,    35.06,2,     0.00,2,     2.41,2,    0.015,4,    0.013,4,   -999.0,9,   -999.0,9,  -999.00,9, -999.00,  5.3064
     3250031_1,   P31,    82,  1,     18,     18,2,19940215,2226,-12.2823,-176.9910, 3454,    859.7,   5.0849,  34.5024,2,  34.5029,2,    120.7,2,    120.6,2,    59.24,2,    36.33,2,     0.00,2,     2.49,2,    0.012,4,    0.012,4,   -999.0,9,   -999.0,9,  -999.00,9, -999.00,  5.0136
     3250031_1,   P31,    82,  1,     17,     17,2,19940215,2226,-12.2823,-176.9910, 3454,    935.2,   4.5978,  34.4946,2,  34.4949,2,    128.4,2,    129.8,2,    64.00,2,    35.75,2,     0.00,2,     2.45,2, -999.000,9, -999.000,9,   -999.0,9,   -999.0,9,  -999.00,9, -999.00,  4.5232
     3250031_1,   P31,    82,  1,     16,     16,2,19940215,2226,-12.2823,-176.9910, 3454,   1012.2,   4.4343,  34.5063,2,  34.5063,2,    127.0,2,    129.5,2,    69.14,2,    36.39,2,     0.00,2,     2.49,2,    0.001,4,    0.003,4,   -999.0,9,   -999.0,9,  -999.00,9, -999.00,  4.3542
     3250031_1,   P31,    82,  1,     15,     15,2,19940215,2226,-12.2823,-176.9910, 3454,   1113.1,   3.9789,  34.5263,2,  34.5240,2,    127.3,2,    129.3,2,    78.75,2,    36.81,2,     0.00,2,     2.53,2, -999.000,9, -999.000,9,   -999.0,9,   -999.0,9,  -999.00,9, -999.00,  3.8939
     3250031_1,   P31,    82,  1,     14,     14,2,19940215,2226,-12.2823,-176.9910, 3454,   1214.3,   3.6156,  34.5389,2,  34.5383,2,    136.3,2,    133.9,2,    85.25,2,    36.60,2,     0.00,2,     2.52,2, -999.000,9, -999.000,9,   -999.0,9,   -999.0,9,  -999.00,9, -999.00,  3.5253
     3250031_1,   P31,    82,  1,     13,     13,2,19940215,2226,-12.2823,-176.9910, 3454,   1415.0,   3.0274,  34.5702,2,  34.5696,2,    135.3,2,    137.4,2,    97.84,2,    36.61,2,     0.00,2,     2.52,2, -999.000,9, -999.000,9,   -999.0,9,   -999.0,9,  -999.00,9, -999.00,  2.9263
     3250031_1,   P31,    82,  1,     12,     12,2,19940215,2226,-12.2823,-176.9910, 3454,   1616.2,   2.7171,  34.5936,2,  34.5937,2,    136.7,2,    138.2,2,   105.83,2,    36.82,2,     0.00,2,     2.53,2, -999.000,9, -999.000,9,   -999.0,9,   -999.0,9,  -999.00,9, -999.00,  2.6029
     3250031_1,   P31,    82,  1,     11,     11,2,19940215,2226,-12.2823,-176.9910, 3454,   1818.7,   2.3874,  34.6163,2,  34.6164,2,    140.3,2,    141.1,2,   114.13,2,    36.77,2,     0.00,2,     2.53,2, -999.000,9, -999.000,9,   -999.0,9,   -999.0,9,  -999.00,9, -999.00,  2.2605
     3250031_1,   P31,    82,  1,     10,     10,2,19940215,2226,-12.2823,-176.9910, 3454,   2023.1,   2.1471,  34.6358,2,  34.6358,2,    142.2,2,    141.9,2,   122.78,2,    36.77,2,     0.00,2,     2.53,2,    0.001,4,   -0.001,4,   -999.0,9,   -999.0,9,  -999.00,9, -999.00,  2.0065
     3250031_1,   P31,    82,  1,      9,      9,2,19940215,2226,-12.2823,-176.9910, 3454,   2226.6,   2.0420,  34.6450,2,  34.6441,2,    142.0,2,    141.5,2,   127.35,2,    36.83,2,     0.00,2,     2.53,2, -999.000,9, -999.000,9,   -999.0,9,   -999.0,9,  -999.00,9, -999.00,  1.8854
     3250031_1,   P31,    82,  1,      8,      8,2,19940215,2226,-12.2823,-176.9910, 3454,   2428.5,   1.9273,  34.6528,2,  34.6524,2,    140.4,2,    139.9,2,   132.80,2,    36.88,2,     0.00,2,     2.55,2, -999.000,9, -999.000,9,   -999.0,9,   -999.0,9,  -999.00,9, -999.00,  1.7548
     3250031_1,   P31,    82,  1,      7,      7,2,19940215,2226,-12.2823,-176.9910, 3454,   2631.2,   1.8269,  34.6606,2,  34.6614,2,    143.2,2,    140.6,2,   136.05,2,    36.94,2,     0.00,2,     2.54,2, -999.000,9, -999.000,9,   -999.0,9,   -999.0,9,  -999.00,9, -999.00,  1.6378
     3250031_1,   P31,    82,  1,      6,      6,2,19940215,2226,-12.2823,-176.9910, 3454,   2834.7,   1.7370,  34.6652,2,  34.6664,2,    142.8,2,    142.7,2,   137.87,2,    36.78,2,     0.00,2,     2.54,2, -999.000,9, -999.000,9,   -999.0,9,   -999.0,9,  -999.00,9, -999.00,  1.5308
     3250031_1,   P31,    82,  1,      5,      5,2,19940215,2226,-12.2823,-176.9910, 3454,   3037.9,   1.6329,  34.6726,2,  34.6721,2,    147.8,2,    147.7,2,   138.87,2,    36.57,2,     0.00,2,     2.51,2,   -0.005,4,   -0.003,4,   -999.0,9,   -999.0,9,  -999.00,9, -999.00,  1.4095
     3250031_1,   P31,    82,  1,      4,      4,2,19940215,2226,-12.2823,-176.9910, 3454,   3139.5,   1.5932,  34.6755,2,  34.6760,2,    149.3,2,    150.4,2,   139.03,2,    36.47,2,     0.00,2,     2.50,2, -999.000,9, -999.000,9,   -999.0,9,   -999.0,9,  -999.00,9, -999.00,  1.3609
     3250031_1,   P31,    82,  1,      3,      3,2,19940215,2226,-12.2823,-176.9910, 3454,   3242.2,   1.5500,  34.6786,2,  34.6784,2,    153.4,2,    153.4,2,   138.56,2,    36.20,2,     0.00,2,     2.48,2, -999.000,9, -999.000,9,   -999.0,9,   -999.0,9,  -999.00,9, -999.00,  1.3085
     3250031_1,   P31,    82,  1,      2,      2,2,19940215,2226,-12.2823,-176.9910, 3454,   3343.5,   1.5224,  34.6814,2,  34.6818,2,    156.5,2,    156.7,2,   137.26,2,    35.94,2,     0.00,2,     2.46,2, -999.000,9, -999.000,9,   -999.0,9,   -999.0,9,  -999.00,9, -999.00,  1.2715
     3250031_1,   P31,    82,  1,      1,      1,2,19940215,2226,-12.2823,-176.9910, 3454,   3446.4,   1.4738,  34.6853,2,  34.6851,2,    161.9,2,    162.0,2,   134.73,2,    35.52,2,     0.00,2,     2.44,2,    0.001,4,   -0.002,4,   -999.0,9,   -999.0,9,  -999.00,9, -999.00,  1.2138