BOTTLE,20020814WHPSIOdm
EXPOCODE,SECT_ID,STNNBR,CASTNO,SAMPNO,BTLNBR,BTLNBR_FLAG_W,DATE,TIME,LATITUDE,LONGITUDE,DEPTH,CTDPRS,CTDTMP,CTDSAL,CTDSAL_FLAG_W,SALNTY,SALNTY_FLAG_W,CTDOXY,CTDOXY_FLAG_W,OXYGEN,OXYGEN_FLAG_W,SILCAT,SILCAT_FLAG_W,NITRAT,NITRAT_FLAG_W,NITRIT,NITRIT_FLAG_W,PHSPHT,PHSPHT_FLAG_W,CFC-11,CFC-11_FLAG_W,CFC-12,CFC-12_FLAG_W,TCARBN,TCARBN_FLAG_W,ALKALI,ALKALI_FLAG_W,PH,PH_FLAG_W,PHTEMP,THETA
,,,,,,,,,,,,DBAR,ITS-90,PSS-78,,PSS-78,,UMOL/KG,,UMOL/KG,,UMOL/KG,,UMOL/KG,,UMOL/KG,,UMOL/KG,,PMOL/KG,,PMOL/KG,,UMOL/KG,,UMOL/KG,,,,DEG C,DEG C
     3250031_1,   P31,    13,  1,     36,     36,2,19940128,2023,-14.8527,-153.9007, 4363,      3.0,  29.4887,  35.9893,2,  35.9886,2,    192.9,2,    194.0,2,     1.63,2,     0.15,2,     0.00,2,     0.22,2,    1.648,2,    0.888,2,   -999.0,9,   -999.0,9,  -999.00,9, -999.00, 29.4879
     3250031_1,   P31,    13,  1,     35,     35,2,19940128,2023,-14.8527,-153.9007, 4363,     15.4,  29.4943,  35.9896,2,  35.9884,2,    189.5,2,    193.8,2,     1.42,2,     0.16,2,     0.00,2,     0.22,2, -999.000,9, -999.000,9,   -999.0,9,   -999.0,9,  -999.00,9, -999.00, 29.4905
     3250031_1,   P31,    13,  1,     34,     34,2,19940128,2023,-14.8527,-153.9007, 4363,     55.4,  28.2882,  36.2772,2,  36.2584,2,    197.9,2,    204.0,2,     1.21,2,     0.16,2,     0.00,2,     0.22,2, -999.000,9, -999.000,9,   -999.0,9,   -999.0,9,  -999.00,9, -999.00, 28.2750
     3250031_1,   P31,    13,  1,     33,     33,2,19940128,2023,-14.8527,-153.9007, 4363,    105.5,  25.6889,  36.4186,2,  36.4175,2,    204.6,2,    197.3,2,     1.18,2,     0.16,2,     0.00,2,     0.27,2, -999.000,9, -999.000,9,   -999.0,9,   -999.0,9,  -999.00,9, -999.00, 25.6654
     3250031_1,   P31,    13,  1,     32,     32,2,19940128,2023,-14.8527,-153.9007, 4363,    205.0,  20.9821,  35.9656,2,  35.9432,2,    169.6,2,    172.1,2,     1.16,2,     4.46,2,     0.01,2,     0.56,2, -999.000,9, -999.000,9,   -999.0,9,   -999.0,9,  -999.00,9, -999.00, 20.9426
     3250031_1,   P31,    13,  1,     31,     31,2,19940128,2023,-14.8527,-153.9007, 4363,    305.2,  15.2413,  35.1603,2,  35.1547,2,    153.1,2,    152.8,2,     5.38,2,    11.97,2,     0.00,2,     1.05,2, -999.000,9, -999.000,9,   -999.0,9,   -999.0,9,  -999.00,9, -999.00, 15.1944
     3250031_1,   P31,    13,  1,     30,     30,2,19940128,2023,-14.8527,-153.9007, 4363,    404.8,  10.8036,  34.7008,2,  34.6968,2,    115.4,2,    114.0,2,    15.88,2,    23.22,2,     0.00,2,     1.81,2, -999.000,9, -999.000,9,   -999.0,9,   -999.0,9,  -999.00,9, -999.00, 10.7539
     3250031_1,   P31,    13,  1,     29,     29,2,19940128,2023,-14.8527,-153.9007, 4363,    503.9,   8.1515,  34.5180,2,  34.5169,2,    135.5,2,    137.3,2,    22.13,2,    27.70,2,     0.00,2,     2.01,2, -999.000,9, -999.000,9,   -999.0,9,   -999.0,9,  -999.00,9, -999.00,  8.0993
     3250031_1,   P31,    13,  1,     28,     28,2,19940128,2023,-14.8527,-153.9007, 4363,    604.1,   6.6269,  34.4723,2,  34.4720,2,    144.8,2,    146.0,2,    31.71,2,    30.62,2,     0.00,2,     2.15,2, -999.000,9, -999.000,9,   -999.0,9,   -999.0,9,  -999.00,9, -999.00,  6.5708
     3250031_1,   P31,    13,  1,     27,     27,2,19940128,2023,-14.8527,-153.9007, 4363,    804.3,   5.0296,  34.4709,2,  34.4720,2,    146.0,2,    144.9,2,    52.78,2,    33.64,2,     0.00,2,     2.36,2, -999.000,9, -999.000,9,   -999.0,9,   -999.0,9,  -999.00,9, -999.00,  4.9636
     3250031_1,   P31,    13,  1,     26,     26,2,19940128,2023,-14.8527,-153.9007, 4363,    999.7,   4.1433,  34.5108,2,  34.5102,2,    137.2,2,    137.0,2,    71.53,2,    35.13,2,     0.00,2,     2.48,2, -999.000,9, -999.000,9,   -999.0,9,   -999.0,9,  -999.00,9, -999.00,  4.0665
     3250031_1,   P31,    13,  1,     25,     25,2,19940128,2023,-14.8527,-153.9007, 4363,   1201.4,   3.4917,  34.5403,2,  34.5406,2,    135.0,2,    139.1,2,    84.64,2,    35.61,2,     0.00,2,     2.51,2, -999.000,9, -999.000,9,   -999.0,9,   -999.0,9,  -999.00,9, -999.00,  3.4036
     3250031_1,   P31,    13,  1,     24,     24,2,19940128,2023,-14.8527,-153.9007, 4363,   1404.4,   3.0429,  34.5690,2,  34.5692,2,    140.7,2,    139.7,2,    95.42,2,    35.90,2,     0.00,2,     2.53,2, -999.000,9, -999.000,9,   -999.0,9,   -999.0,9,  -999.00,9, -999.00,  2.9425
     3250031_1,   P31,    13,  1,     23,     23,2,19940128,2023,-14.8527,-153.9007, 4363,   1608.0,   2.6682,  34.5943,2,  34.5945,2,    141.9,2,    142.9,2,   104.24,2,    35.84,2,     0.00,2,     2.53,2, -999.000,9, -999.000,9,   -999.0,9,   -999.0,9,  -999.00,9, -999.00,  2.5553
     3250031_1,   P31,    13,  1,     22,     22,2,19940128,2023,-14.8527,-153.9007, 4363,   1809.7,   2.3643,  34.6157,2,  34.6167,2,    146.4,2,    146.6,2,   111.42,2,    35.68,2,     0.00,2,     2.51,2, -999.000,9, -999.000,9,   -999.0,9,   -999.0,9,  -999.00,9, -999.00,  2.2385
     3250031_1,   P31,    13,  1,     21,     21,2,19940128,2023,-14.8527,-153.9007, 4363,   2011.5,   2.1701,  34.6321,2,  34.6318,2,    146.2,2,    148.0,2,   116.32,2,    35.57,2,     0.00,2,     2.51,2, -999.000,9, -999.000,9,   -999.0,9,   -999.0,9,  -999.00,9, -999.00,  2.0301
     3250031_1,   P31,    13,  1,     20,     20,2,19940128,2023,-14.8527,-153.9007, 4363,   2214.1,   2.0219,  34.6450,2,  34.6455,2,    151.5,2,    149.9,2,   121.08,2,    35.50,2,     0.00,2,     2.50,2, -999.000,9, -999.000,9,   -999.0,9,   -999.0,9,  -999.00,9, -999.00,  1.8668
     3250031_1,   P31,    13,  1,     19,     19,2,19940128,2023,-14.8527,-153.9007, 4363,   2416.3,   1.9284,  34.6540,2,  34.6551,2,    151.6,2,    150.8,2,   124.27,2,    35.44,2,     0.00,2,     2.51,2, -999.000,9, -999.000,9,   -999.0,9,   -999.0,9,  -999.00,9, -999.00,  1.7570
     3250031_1,   P31,    13,  1,     18,     18,2,19940128,2023,-14.8527,-153.9007, 4363,   2618.5,   1.8576,  34.6615,2,  34.6614,2,    153.9,2,    152.5,2,   126.89,2,    35.28,2,     0.00,2,     2.50,2, -999.000,9, -999.000,9,   -999.0,9,   -999.0,9,  -999.00,9, -999.00,  1.6692
     3250031_1,   P31,    13,  1,     17,     17,2,19940128,2023,-14.8527,-153.9007, 4363,   2821.1,   1.7666,  34.6677,2,  34.6673,2,    157.3,2,    156.3,2,   127.68,2,    34.97,2,     0.00,2,     2.50,2, -999.000,9, -999.000,9,   -999.0,9,   -999.0,9,  -999.00,9, -999.00,  1.5611
     3250031_1,   P31,    13,  1,     16,     16,2,19940128,2023,-14.8527,-153.9007, 4363,   2923.1,   1.7203,  34.6709,2,  34.6708,2,    159.8,2,    158.9,2,   127.67,2,    34.86,2,     0.00,2,     2.48,2, -999.000,9, -999.000,9,   -999.0,9,   -999.0,9,  -999.00,9, -999.00,  1.5061
     3250031_1,   P31,    13,  1,     15,     15,2,19940128,2023,-14.8527,-153.9007, 4363,   3024.1,   1.6829,  34.6732,2,  34.6728,2,    162.5,2,    162.0,2,   126.84,2,    34.79,2,     0.00,2,     2.48,2, -999.000,9, -999.000,9,   -999.0,9,   -999.0,9,  -999.00,9, -999.00,  1.4597
     3250031_1,   P31,    13,  1,     14,     14,2,19940128,2023,-14.8527,-153.9007, 4363,   3125.9,   1.6403,  34.6761,2,  34.6765,2,    165.3,2,    166.2,2,   126.21,2,    34.53,2,     0.00,2,     2.46,2, -999.000,9, -999.000,9,   -999.0,9,   -999.0,9,  -999.00,9, -999.00,  1.4082
     3250031_1,   P31,    13,  1,     13,     13,2,19940128,2023,-14.8527,-153.9007, 4363,   3227.4,   1.6071,  34.6783,2,  34.6788,2,    167.0,2,    167.5,2,   126.20,2,    34.42,2,     0.00,2,     2.45,2, -999.000,9, -999.000,9,   -999.0,9,   -999.0,9,  -999.00,9, -999.00,  1.3658
     3250031_1,   P31,    13,  1,     12,     12,2,19940128,2023,-14.8527,-153.9007, 4363,   3328.5,   1.5587,  34.6820,2,  34.6814,2,    169.3,2,    170.0,2,   126.18,2,    34.41,2,     0.00,2,     2.44,2, -999.000,9, -999.000,9,   -999.0,9,   -999.0,9,  -999.00,9, -999.00,  1.3085
     3250031_1,   P31,    13,  1,     11,     11,2,19940128,2023,-14.8527,-153.9007, 4363,   3429.7,   1.5380,  34.6837,2,  34.6822,2,    172.2,2,    171.9,2,   126.37,2,    34.45,2,     0.00,2,     2.43,2, -999.000,9, -999.000,9,   -999.0,9,   -999.0,9,  -999.00,9, -999.00,  1.2780
     3250031_1,   P31,    13,  1,     10,     10,2,19940128,2023,-14.8527,-153.9007, 4363,   3531.5,   1.5173,  34.6857,2,  34.6839,2,    173.9,2,    173.4,2,   125.94,2,    34.19,2,     0.00,2,     2.42,2, -999.000,9, -999.000,9,   -999.0,9,   -999.0,9,  -999.00,9, -999.00,  1.2475
     3250031_1,   P31,    13,  1,      9,      9,2,19940128,2023,-14.8527,-153.9007, 4363,   3633.4,   1.4934,  34.6873,2,  34.6863,2,    176.7,2,    175.7,2,   125.72,2,    34.13,2,     0.00,2,     2.41,2, -999.000,9, -999.000,9,   -999.0,9,   -999.0,9,  -999.00,9, -999.00,  1.2137
     3250031_1,   P31,    13,  1,      8,      8,2,19940128,2023,-14.8527,-153.9007, 4363,   3735.1,   1.4748,  34.6888,2,  34.6878,2,    177.6,2,    177.2,2,   125.30,2,    34.02,2,     0.00,2,     2.40,2, -999.000,9, -999.000,9,   -999.0,9,   -999.0,9,  -999.00,9, -999.00,  1.1849
     3250031_1,   P31,    13,  1,      7,      7,2,19940128,2023,-14.8527,-153.9007, 4363,   3836.3,   1.4450,  34.6911,2,  34.6912,2,    180.7,2,    179.7,2,   124.88,2,    33.86,2,     0.00,2,     2.38,2, -999.000,9, -999.000,9,   -999.0,9,   -999.0,9,  -999.00,9, -999.00,  1.1452
     3250031_1,   P31,    13,  1,      6,      6,2,19940128,2023,-14.8527,-153.9007, 4363,   3938.5,   1.4233,  34.6928,2,  34.6925,2,    181.9,2,    181.6,2,   124.06,2,    33.80,2,     0.00,2,     2.38,2,    0.002,2,    0.001,2,   -999.0,9,   -999.0,9,  -999.00,9, -999.00,  1.1132
     3250031_1,   P31,    13,  1,      5,      5,2,19940128,2023,-14.8527,-153.9007, 4363,   4040.5,   1.4026,  34.6944,2,  34.6935,2,    183.6,2,    183.3,2,   123.84,2,    33.69,2,     0.00,2,     2.38,2,    0.008,2,    0.002,2,   -999.0,9,   -999.0,9,  -999.00,9, -999.00,  1.0820
     3250031_1,   P31,    13,  1,      4,      4,2,19940128,2023,-14.8527,-153.9007, 4363,   4141.7,   1.3790,  34.6959,2,  34.6951,2,    184.0,2,    185.3,2,   123.22,2,    33.48,2,     0.00,2,     2.34,2,    0.004,2,    0.009,2,   -999.0,9,   -999.0,9,  -999.00,9, -999.00,  1.0480
     3250031_1,   P31,    13,  1,      3,      3,2,19940128,2023,-14.8527,-153.9007, 4363,   4243.4,   1.3707,  34.6971,2,  34.6951,2,    184.3,3,    186.6,2,   123.41,2,    33.27,2,     0.00,2,     2.34,2,    0.007,3,    0.005,2,   -999.0,9,   -999.0,9,  -999.00,9, -999.00,  1.0287
     3250031_1,   P31,    13,  1,      2,      2,2,19940128,2023,-14.8527,-153.9007, 4363,   4345.2,   1.3576,  34.6980,2,  34.6980,2,    187.7,2,    187.6,2,   123.39,2,    33.16,2,     0.00,2,     2.34,2,    0.008,2,    0.000,2,   -999.0,9,   -999.0,9,  -999.00,9, -999.00,  1.0046
     3250031_1,   P31,    13,  1,      1,      1,2,19940128,2023,-14.8527,-153.9007, 4363,   4429.8,   1.3490,  34.6988,2,  34.7000,2,    188.3,3,    188.9,2,   122.77,2,    33.15,2,     0.00,2,     2.35,2,    0.017,4,    0.005,2,   -999.0,9,   -999.0,9,  -999.00,9, -999.00,  0.9867