BOTTLE,20020814WHPSIOdm
EXPOCODE,SECT_ID,STNNBR,CASTNO,SAMPNO,BTLNBR,BTLNBR_FLAG_W,DATE,TIME,LATITUDE,LONGITUDE,DEPTH,CTDPRS,CTDTMP,CTDSAL,CTDSAL_FLAG_W,SALNTY,SALNTY_FLAG_W,CTDOXY,CTDOXY_FLAG_W,OXYGEN,OXYGEN_FLAG_W,SILCAT,SILCAT_FLAG_W,NITRAT,NITRAT_FLAG_W,NITRIT,NITRIT_FLAG_W,PHSPHT,PHSPHT_FLAG_W,CFC-11,CFC-11_FLAG_W,CFC-12,CFC-12_FLAG_W,TCARBN,TCARBN_FLAG_W,ALKALI,ALKALI_FLAG_W,PH,PH_FLAG_W,PHTEMP,THETA
,,,,,,,,,,,,DBAR,ITS-90,PSS-78,,PSS-78,,UMOL/KG,,UMOL/KG,,UMOL/KG,,UMOL/KG,,UMOL/KG,,UMOL/KG,,PMOL/KG,,PMOL/KG,,UMOL/KG,,UMOL/KG,,,,DEG C,DEG C
     3250031_1,   P31,    40,  1,     36,     36,2,19940203,2257,-10.3215,-165.2452, 4742,      3.0,  29.9112,  34.4237,4,  34.4858,2,   -999.0,5,    193.9,2,     1.67,2,     0.00,2,     0.00,2,     0.18,2, -999.000,9, -999.000,9,   -999.0,9,   -999.0,9,  -999.00,9, -999.00, 29.9104
     3250031_1,   P31,    40,  1,     35,     35,2,19940203,2257,-10.3215,-165.2452, 4742,     16.3,  29.9147,  34.5250,2,  34.5258,2,    189.4,2,    194.1,2,     1.47,2,     0.00,2,     0.00,2,     0.16,2, -999.000,9, -999.000,9,   -999.0,9,   -999.0,9,  -999.00,9, -999.00, 29.9107
     3250031_1,   P31,    40,  1,     34,     34,2,19940203,2257,-10.3215,-165.2452, 4742,     56.2,  29.5787,  35.0616,4,  34.9367,2,   -999.0,5,    196.2,2,     1.27,2,     0.00,2,     0.00,2,     0.17,2, -999.000,9, -999.000,9,   -999.0,9,   -999.0,9,  -999.00,9, -999.00, 29.5649
     3250031_1,   P31,    40,  1,     33,     33,2,19940203,2257,-10.3215,-165.2452, 4742,    106.6,  27.6919,  36.0584,2,  36.0701,2,    185.2,2,    184.9,2,     1.43,2,     0.26,2,     0.07,2,     0.31,2, -999.000,9, -999.000,9,   -999.0,9,   -999.0,9,  -999.00,9, -999.00, 27.6669
     3250031_1,   P31,    40,  1,     32,     32,2,19940203,2257,-10.3215,-165.2452, 4742,    206.5,  21.3390,  36.0009,2,  35.9430,2,    151.5,2,    147.0,2,     2.33,2,     7.46,2,     0.01,2,     0.76,2, -999.000,9, -999.000,9,   -999.0,9,   -999.0,9,  -999.00,9, -999.00, 21.2988
     3250031_1,   P31,    40,  1,     31,     31,2,19940203,2257,-10.3215,-165.2452, 4742,    306.4,  12.5192,  34.8962,2,  34.8983,2,     99.1,2,     97.4,2,    14.33,2,    21.46,2,     0.00,2,     1.69,2, -999.000,9, -999.000,9,   -999.0,9,   -999.0,9,  -999.00,9, -999.00, 12.4779
     3250031_1,   P31,    40,  1,     30,     30,2,19940203,2257,-10.3215,-165.2452, 4742,    407.5,   9.0087,  34.6435,2,  34.6436,2,     97.1,2,    107.4,2,    25.61,2,    28.66,2,     0.00,2,     2.05,2, -999.000,9, -999.000,9,   -999.0,9,   -999.0,9,  -999.00,9, -999.00,  8.9640
     3250031_1,   P31,    40,  1,     29,     29,2,19940203,2257,-10.3215,-165.2452, 4742,    605.4,   6.5879,  34.5301,2,  34.5308,2,    116.2,2,    119.0,2,    40.91,2,    33.25,2,     0.00,2,     2.30,2, -999.000,9, -999.000,9,   -999.0,9,   -999.0,9,  -999.00,9, -999.00,  6.5318
     3250031_1,   P31,    40,  1,     28,     28,2,19940203,2257,-10.3215,-165.2452, 4742,    802.6,   5.4841,  34.5147,2,  34.5155,2,    103.8,2,    107.7,2,    56.24,2,    36.51,2,     0.00,2,     2.52,2, -999.000,9, -999.000,9,   -999.0,9,   -999.0,9,  -999.00,9, -999.00,  5.4154
     3250031_1,   P31,    40,  1,     27,     27,2,19940203,2257,-10.3215,-165.2452, 4742,   1009.4,   4.4959,  34.5229,2,  34.5236,2,    117.9,2,    115.8,2,    72.75,2,    36.96,2,     0.00,2,     2.56,2, -999.000,9, -999.000,9,   -999.0,9,   -999.0,9,  -999.00,9, -999.00,  4.4156
     3250031_1,   P31,    40,  1,     26,     26,2,19940203,2257,-10.3215,-165.2452, 4742,   1263.0,   3.5052,  34.5551,2,  34.5552,2,    127.6,2,    125.8,2,    91.14,2,    36.82,2,     0.00,2,     2.56,2, -999.000,9, -999.000,9,   -999.0,9,   -999.0,9,  -999.00,9, -999.00,  3.4118
     3250031_1,   P31,    40,  1,     25,     25,2,19940203,2257,-10.3215,-165.2452, 4742,   1517.0,   2.7955,  34.5901,2,  34.5914,2,    133.9,2,    136.3,2,   105.14,2,    36.53,2,     0.00,2,     2.52,2, -999.000,9, -999.000,9,   -999.0,9,   -999.0,9,  -999.00,9, -999.00,  2.6886
     3250031_1,   P31,    40,  1,     24,     24,2,19940203,2257,-10.3215,-165.2452, 4742,   1770.7,   2.4144,  34.6182,2,  34.6183,2,    138.6,2,    135.9,2,   116.56,2,    36.64,2,     0.00,2,     2.52,2, -999.000,9, -999.000,9,   -999.0,9,   -999.0,9,  -999.00,9, -999.00,  2.2912
     3250031_1,   P31,    40,  1,     23,     23,2,19940203,2257,-10.3215,-165.2452, 4742,   2023.7,   2.1562,  34.6374,2,  34.6366,2,    136.5,2,    137.1,2,   125.66,2,    36.60,2,     0.00,2,     2.53,2, -999.000,9, -999.000,9,   -999.0,9,   -999.0,9,  -999.00,9, -999.00,  2.0154
     3250031_1,   P31,    40,  1,     22,     22,2,19940203,2257,-10.3215,-165.2452, 4742,   2278.7,   1.9797,  34.6497,2,  34.6513,2,    141.0,2,    140.6,2,   130.09,2,    36.51,2,     0.00,2,     2.52,2, -999.000,9, -999.000,9,   -999.0,9,   -999.0,9,  -999.00,9, -999.00,  1.8196
     3250031_1,   P31,    40,  1,     21,     21,2,19940203,2257,-10.3215,-165.2452, 4742,   2533.4,   1.8492,  34.6607,2,  34.6615,2,    143.9,2,    144.2,2,   133.34,2,    36.27,2,     0.00,2,     2.49,2, -999.000,9, -999.000,9,   -999.0,9,   -999.0,9,  -999.00,9, -999.00,  1.6687
     3250031_1,   P31,    40,  1,     20,     20,2,19940203,2257,-10.3215,-165.2452, 4742,   2735.8,   1.7619,  34.6677,2,  34.6686,2,    147.2,2,    148.3,2,   134.15,2,    35.88,2,     0.00,2,     2.47,2, -999.000,9, -999.000,9,   -999.0,9,   -999.0,9,  -999.00,9, -999.00,  1.5645
     3250031_1,   P31,    40,  1,     19,     19,2,19940203,2257,-10.3215,-165.2452, 4742,   2941.2,   1.6711,  34.6736,2,  34.6757,2,    153.5,2,    152.8,2,   134.54,2,    35.35,2,     0.00,2,     2.45,2, -999.000,9, -999.000,9,   -999.0,9,   -999.0,9,  -999.00,9, -999.00,  1.4561
     3250031_1,   P31,    40,  1,     18,     18,2,19940203,2257,-10.3215,-165.2452, 4742,   3041.5,   1.6444,  34.6753,2,  34.6751,2,    153.5,2,    154.8,2,   133.91,2,    35.21,2,     0.00,2,     2.44,2, -999.000,9, -999.000,9,   -999.0,9,   -999.0,9,  -999.00,9, -999.00,  1.4204
     3250031_1,   P31,    40,  1,     17,     17,2,19940203,2257,-10.3215,-165.2452, 4742,   3143.3,   1.6303,  34.6766,2,  34.6771,2,    156.3,2,    156.4,2,   133.49,2,    35.22,2,     0.00,2,     2.43,2, -999.000,9, -999.000,9,   -999.0,9,   -999.0,9,  -999.00,9, -999.00,  1.3967
     3250031_1,   P31,    40,  1,     16,     16,2,19940203,2257,-10.3215,-165.2452, 4742,   3244.6,   1.6031,  34.6784,2,  34.6783,2,    159.0,2,    158.2,2,   133.27,2,    35.13,2,     0.00,2,     2.42,2, -999.000,9, -999.000,9,   -999.0,9,   -999.0,9,  -999.00,9, -999.00,  1.3602
     3250031_1,   P31,    40,  1,     15,     15,2,19940203,2257,-10.3215,-165.2452, 4742,   3346.1,   1.5735,  34.6802,2,  34.6801,2,    161.9,2,    160.4,2,   133.46,2,    35.04,2,     0.00,2,     2.42,2, -999.000,9, -999.000,9,   -999.0,9,   -999.0,9,  -999.00,9, -999.00,  1.3212
     3250031_1,   P31,    40,  1,     14,     14,2,19940203,2257,-10.3215,-165.2452, 4742,   3449.1,   1.5556,  34.6817,2,  34.6836,2,    162.2,2,    161.9,2,   133.45,2,    34.90,2,     0.00,2,     2.41,2, -999.000,9, -999.000,9,   -999.0,9,   -999.0,9,  -999.00,9, -999.00,  1.2933
     3250031_1,   P31,    40,  1,     13,     13,2,19940203,2257,-10.3215,-165.2452, 4742,   3551.1,   1.5330,  34.6832,2,  34.6842,2,    164.8,2,    163.8,2,   133.43,2,    34.86,2,     0.00,2,     2.40,2, -999.000,9, -999.000,9,   -999.0,9,   -999.0,9,  -999.00,9, -999.00,  1.2607
     3250031_1,   P31,    40,  1,     12,     12,2,19940203,2257,-10.3215,-165.2452, 4742,   3653.8,   1.5093,  34.6847,2,  34.6846,2,    166.3,2,    165.3,2,   133.63,2,    34.82,2,     0.00,2,     2.40,2, -999.000,9, -999.000,9,   -999.0,9,   -999.0,9,  -999.00,9, -999.00,  1.2270
     3250031_1,   P31,    40,  1,     11,     11,2,19940203,2257,-10.3215,-165.2452, 4742,   3756.2,   1.4695,  34.6873,2,  34.6852,2,    169.3,2,    168.9,2,   132.79,2,    34.73,2,     0.00,2,     2.38,2, -999.000,9, -999.000,9,   -999.0,9,   -999.0,9,  -999.00,9, -999.00,  1.1776
     3250031_1,   P31,    40,  1,     10,     10,2,19940203,2257,-10.3215,-165.2452, 4742,   3859.8,   1.4335,  34.6892,2,  34.6878,2,    173.9,2,    168.9,4,   131.76,2,    34.44,2,     0.00,2,     2.36,2, -999.000,9, -999.000,9,   -999.0,9,   -999.0,9,  -999.00,9, -999.00,  1.1316
     3250031_1,   P31,    40,  1,      9,      9,2,19940203,2257,-10.3215,-165.2452, 4742,   3963.0,   1.3957,  34.6914,2,  34.6911,2,    176.3,2,    174.9,2,   130.32,2,    34.11,2,     0.00,2,     2.34,2, -999.000,9, -999.000,9,   -999.0,9,   -999.0,9,  -999.00,9, -999.00,  1.0837
     3250031_1,   P31,    40,  1,      8,      8,2,19940203,2257,-10.3215,-165.2452, 4742,   4065.4,   1.3598,  34.6938,2,  34.6937,2,    177.9,2,    178.6,2,   128.88,2,    33.72,2,     0.00,2,     2.32,2, -999.000,9, -999.000,9,   -999.0,9,   -999.0,9,  -999.00,9, -999.00,  1.0377
     3250031_1,   P31,    40,  1,      7,      7,2,19940203,2257,-10.3215,-165.2452, 4742,   4167.9,   1.2952,  34.6965,2,  34.6978,2,    182.6,2,    184.8,2,   126.24,2,    33.33,2,     0.00,2,     2.30,2, -999.000,9, -999.000,9,   -999.0,9,   -999.0,9,  -999.00,9, -999.00,  0.9638
     3250031_1,   P31,    40,  1,      6,      6,2,19940203,2257,-10.3215,-165.2452, 4742,   4271.8,   1.2386,  34.6989,2,  34.6998,2,    188.1,2,    189.6,2,   125.03,2,    33.10,2,     0.00,2,     2.27,2,    0.010,2,   -0.003,2,   -999.0,9,   -999.0,9,  -999.00,9, -999.00,  0.8973
     3250031_1,   P31,    40,  1,      5,      5,2,19940203,2257,-10.3215,-165.2452, 4742,   4372.7,   1.1912,  34.7014,2,  34.7016,2,    193.2,2,    193.7,2,   124.41,2,    32.91,2,     0.00,2,     2.25,2,    0.002,2,    0.000,2,   -999.0,9,   -999.0,9,  -999.00,9, -999.00,  0.8401
     3250031_1,   P31,    40,  1,      4,      4,2,19940203,2257,-10.3215,-165.2452, 4742,   4475.2,   1.1306,  34.7041,2,  34.7051,2,    199.5,2,    198.8,2,   123.00,2,    32.37,2,     0.01,2,     2.22,2,    0.006,2,    0.000,2,   -999.0,9,   -999.0,9,  -999.00,9, -999.00,  0.7698
     3250031_1,   P31,    40,  1,      3,      3,2,19940203,2257,-10.3215,-165.2452, 4742,   4576.4,   1.1232,  34.7045,2,  34.7054,2,    200.0,2,    200.3,2,   122.19,2,    32.49,2,     0.00,2,     2.21,2, -999.000,9, -999.000,9,   -999.0,9,   -999.0,9,  -999.00,9, -999.00,  0.7511
     3250031_1,   P31,    40,  1,      2,      2,2,19940203,2257,-10.3215,-165.2452, 4742,   4680.5,   1.1164,  34.7059,2,  34.7058,2,    201.8,2,    201.8,2,   121.78,2,    32.39,2,     0.00,2,     2.21,2,    0.003,2,   -0.004,2,   -999.0,9,   -999.0,9,  -999.00,9, -999.00,  0.7326
     3250031_1,   P31,    40,  1,      1,      1,2,19940203,2257,-10.3215,-165.2452, 4742,   4817.6,   1.1189,  34.7060,2,  34.7069,2,    201.2,3,    202.8,2,   121.97,2,    32.26,2,     0.00,2,     2.21,2,    0.001,2,   -0.001,2,   -999.0,9,   -999.0,9,  -999.00,9, -999.00,  0.7190