BOTTLE,20020814WHPSIOdm
EXPOCODE,SECT_ID,STNNBR,CASTNO,SAMPNO,BTLNBR,BTLNBR_FLAG_W,DATE,TIME,LATITUDE,LONGITUDE,DEPTH,CTDPRS,CTDTMP,CTDSAL,CTDSAL_FLAG_W,SALNTY,SALNTY_FLAG_W,CTDOXY,CTDOXY_FLAG_W,OXYGEN,OXYGEN_FLAG_W,SILCAT,SILCAT_FLAG_W,NITRAT,NITRAT_FLAG_W,NITRIT,NITRIT_FLAG_W,PHSPHT,PHSPHT_FLAG_W,CFC-11,CFC-11_FLAG_W,CFC-12,CFC-12_FLAG_W,TCARBN,TCARBN_FLAG_W,ALKALI,ALKALI_FLAG_W,PH,PH_FLAG_W,PHTEMP,THETA
,,,,,,,,,,,,DBAR,ITS-90,PSS-78,,PSS-78,,UMOL/KG,,UMOL/KG,,UMOL/KG,,UMOL/KG,,UMOL/KG,,UMOL/KG,,PMOL/KG,,PMOL/KG,,UMOL/KG,,UMOL/KG,,,,DEG C,DEG C
     3250031_1,   P31,    72,  1,     36,     36,2,19940214,0007,-10.1780,-174.5782, 4251,      2.3,  29.9711,  33.6661,2,  33.6662,2,     50.6,4,    194.0,2,     1.81,2,     0.16,2,     0.00,2,     0.11,2,    1.485,3,    0.814,3,   -999.0,9,   -999.0,9,  -999.00,9, -999.00, 29.9705
     3250031_1,   P31,    72,  1,     35,     35,2,19940214,0007,-10.1780,-174.5782, 4251,     13.4,  29.7578,  33.6575,2,  33.6602,2,    245.0,4,    194.0,2,     1.60,2,     0.16,2,     0.00,2,     0.11,2, -999.000,9, -999.000,9,   -999.0,9,   -999.0,9,  -999.00,9, -999.00, 29.7545
     3250031_1,   P31,    72,  1,     34,     34,2,19940214,0007,-10.1780,-174.5782, 4251,     58.7,  29.6771,  35.0027,2,  35.1321,2,     -0.1,4,    203.2,2,     1.57,2,     0.21,2,     0.00,2,     0.23,2,    1.605,3,    0.889,3,   -999.0,9,   -999.0,9,  -999.00,9, -999.00, 29.6626
     3250031_1,   P31,    72,  1,     33,     33,2,19940214,0007,-10.1780,-174.5782, 4251,    108.4,  26.4072,  35.9872,2,  35.9837,2,     -0.1,4,    145.2,2,     2.46,2,     5.11,2,     1.31,2,     0.70,2,    1.611,3,    0.865,3,   -999.0,9,   -999.0,9,  -999.00,9, -999.00, 26.3826
     3250031_1,   P31,    72,  1,     32,     32,2,19940214,0007,-10.1780,-174.5782, 4251,    208.7,  19.8224,  35.7659,2,  35.7557,2,    138.5,2,    139.5,2,     3.54,2,     9.04,2,     0.01,2,     0.87,2,    1.591,3,    0.829,3,   -999.0,9,   -999.0,9,  -999.00,9, -999.00, 19.7838
     3250031_1,   P31,    72,  1,     31,     31,2,19940214,0007,-10.1780,-174.5782, 4251,    308.4,  13.4496,  35.0287,2,  35.0258,2,     90.3,2,     89.2,2,    13.79,2,    21.48,2,     0.01,2,     1.72,2,    0.737,3,    0.380,3,   -999.0,9,   -999.0,9,  -999.00,9, -999.00, 13.4060
     3250031_1,   P31,    72,  1,     30,     30,2,19940214,0007,-10.1780,-174.5782, 4251,    409.8,   9.8823,  34.7096,2,  34.7100,2,    104.9,2,    104.1,2,    22.39,2,    27.46,2,     0.00,2,     1.97,2, -999.000,9, -999.000,9,   -999.0,9,   -999.0,9,  -999.00,9, -999.00,  9.8348
     3250031_1,   P31,    72,  1,     29,     29,2,19940214,0007,-10.1780,-174.5782, 4251,    510.4,   7.7255,  34.5701,2,  34.5774,2,    117.0,2,    115.0,2,    30.81,2,    31.32,2,     0.00,2,     2.16,2,    0.082,3,    0.046,3,   -999.0,9,   -999.0,9,  -999.00,9, -999.00,  7.6742
     3250031_1,   P31,    72,  1,     28,     28,2,19940214,0007,-10.1780,-174.5782, 4251,    611.5,   6.6724,  34.5235,2,  34.5194,2,    122.9,2,    130.3,2,    37.94,2,    32.57,2,     0.00,2,     2.23,2, -999.000,9, -999.000,9,   -999.0,9,   -999.0,9,  -999.00,9, -999.00,  6.6154
     3250031_1,   P31,    72,  1,     27,     27,2,19940214,0007,-10.1780,-174.5782, 4251,    711.6,   5.8429,  34.5105,2,  34.5114,2,    115.4,2,    117.7,2,    49.67,2,    35.56,2,     0.00,2,     2.42,2, -999.000,9, -999.000,9,   -999.0,9,   -999.0,9,  -999.00,9, -999.00,  5.7805
     3250031_1,   P31,    72,  1,     26,     26,2,19940214,0007,-10.1780,-174.5782, 4251,    812.2,   5.2283,  34.5071,2,  34.5089,2,    114.9,2,    118.0,2,    57.91,2,    36.50,2,     0.00,2,     2.50,2, -999.000,9, -999.000,9,   -999.0,9,   -999.0,9,  -999.00,9, -999.00,  5.1603
     3250031_1,   P31,    72,  1,     25,     25,2,19940214,0007,-10.1780,-174.5782, 4251,    913.5,   4.8290,  34.5118,2,  34.5173,3,    118.1,2,    116.5,2,    65.26,2,    37.18,2,     0.00,2,     2.55,2, -999.000,9, -999.000,9,   -999.0,9,   -999.0,9,  -999.00,9, -999.00,  4.7546
     3250031_1,   P31,    72,  1,     24,     24,2,19940214,0007,-10.1780,-174.5782, 4251,   1013.2,   4.4305,  34.5194,2,  34.5209,2,    120.0,2,    118.9,2,    72.25,2,    37.44,2,     0.00,2,     2.57,2,    0.013,3,    0.003,3,   -999.0,9,   -999.0,9,  -999.00,9, -999.00,  4.3504
     3250031_1,   P31,    72,  1,     23,     23,2,19940214,0007,-10.1780,-174.5782, 4251,   1214.9,   3.6370,  34.5493,2,  34.5486,2,    123.4,2,    124.7,2,    88.63,2,    37.54,2,     0.00,2,     2.58,2, -999.000,9, -999.000,9,   -999.0,9,   -999.0,9,  -999.00,9, -999.00,  3.5464
     3250031_1,   P31,    72,  1,     22,     22,2,19940214,0007,-10.1780,-174.5782, 4251,   1414.3,   2.9605,  34.5812,2,  34.5829,2,    133.2,2,    132.7,2,   102.04,2,    37.22,2,     0.00,2,     2.55,2, -999.000,9, -999.000,9,   -999.0,9,   -999.0,9,  -999.00,9, -999.00,  2.8601
     3250031_1,   P31,    72,  1,     21,     21,2,19940214,0007,-10.1780,-174.5782, 4251,   1610.3,   2.5745,  34.6048,2,  34.6053,2,    138.4,2,    137.6,2,   110.87,2,    37.01,2,     0.00,2,     2.53,2, -999.000,9, -999.000,9,   -999.0,9,   -999.0,9,  -999.00,9, -999.00,  2.4626
     3250031_1,   P31,    72,  1,     20,     20,2,19940214,0007,-10.1780,-174.5782, 4251,   1822.7,   2.3059,  34.6244,2,  34.6262,2,    139.2,2,    137.2,2,   120.44,2,    37.10,2,     0.00,2,     2.54,2, -999.000,9, -999.000,9,   -999.0,9,   -999.0,9,  -999.00,9, -999.00,  2.1799
     3250031_1,   P31,    72,  1,     19,     19,2,19940214,0007,-10.1780,-174.5782, 4251,   2025.8,   2.1086,  34.6394,2,  34.6411,2,    139.8,2,    138.4,2,   126.59,2,    37.10,2,     0.00,2,     2.53,2,    0.004,3,    0.001,3,   -999.0,9,   -999.0,9,  -999.00,9, -999.00,  1.9683
     3250031_1,   P31,    72,  1,     18,     18,2,19940214,0007,-10.1780,-174.5782, 4251,   2227.0,   1.9664,  34.6500,2,  34.6513,2,    138.2,2,    138.6,2,   131.61,2,    37.09,2,     0.00,2,     2.53,2, -999.000,9, -999.000,9,   -999.0,9,   -999.0,9,  -999.00,9, -999.00,  1.8111
     3250031_1,   P31,    72,  1,     17,     17,2,19940214,0007,-10.1780,-174.5782, 4251,   2428.2,   1.8939,  34.6563,2,  34.6565,2,    139.5,2,    139.0,2,   133.81,2,    36.99,2,     0.00,2,     2.54,2, -999.000,9, -999.000,9,   -999.0,9,   -999.0,9,  -999.00,9, -999.00,  1.7220
     3250031_1,   P31,    72,  1,     16,     16,2,19940214,0007,-10.1780,-174.5782, 4251,   2629.8,   1.8004,  34.6630,2,  34.6638,2,    141.9,2,    140.6,2,   135.61,2,    36.98,2,     0.00,2,     2.53,2, -999.000,9, -999.000,9,   -999.0,9,   -999.0,9,  -999.00,9, -999.00,  1.6120
     3250031_1,   P31,    72,  1,     15,     15,2,19940214,0007,-10.1780,-174.5782, 4251,   2830.9,   1.7270,  34.6686,2,  34.6693,2,    146.7,2,    144.2,2,   136.59,2,    36.76,2,     0.00,2,     2.51,2, -999.000,9, -999.000,9,   -999.0,9,   -999.0,9,  -999.00,9, -999.00,  1.5214
     3250031_1,   P31,    72,  1,     14,     14,2,19940214,0007,-10.1780,-174.5782, 4251,   3030.9,   1.6643,  34.6738,2,  34.6742,2,    148.2,2,    148.5,2,   137.16,2,    36.50,2,     0.00,2,     2.48,2, -999.000,9, -999.000,9,   -999.0,9,   -999.0,9,  -999.00,9, -999.00,  1.4409
     3250031_1,   P31,    72,  1,     13,     13,2,19940214,0007,-10.1780,-174.5782, 4251,   3129.5,   1.6330,  34.6760,2,  34.6769,2,    153.4,2,    150.9,2,   137.10,2,    36.28,2,     0.00,2,     2.47,2, -999.000,9, -999.000,9,   -999.0,9,   -999.0,9,  -999.00,9, -999.00,  1.4007
     3250031_1,   P31,    72,  1,     12,     12,2,19940214,0007,-10.1780,-174.5782, 4251,   3231.8,   1.6099,  34.6777,2,  34.6789,2,    152.8,2,    152.5,2,   137.46,2,    36.17,2,     0.00,2,     2.46,2, -999.000,9, -999.000,9,   -999.0,9,   -999.0,9,  -999.00,9, -999.00,  1.3681
     3250031_1,   P31,    72,  1,     11,     11,2,19940214,0007,-10.1780,-174.5782, 4251,   3334.2,   1.5962,  34.6795,2,  34.6785,2,    154.7,2,    153.3,2,   137.41,2,    36.16,2,     0.00,2,     2.46,2, -999.000,9, -999.000,9,   -999.0,9,   -999.0,9,  -999.00,9, -999.00,  1.3445
     3250031_1,   P31,    72,  1,     10,     10,2,19940214,0007,-10.1780,-174.5782, 4251,   3436.9,   1.5651,  34.6810,2,  34.6782,3,    156.8,2,    156.2,2,   137.14,2,    35.95,2,     0.00,2,     2.45,2, -999.000,9, -999.000,9,   -999.0,9,   -999.0,9,  -999.00,9, -999.00,  1.3038
     3250031_1,   P31,    72,  1,      9,      9,2,19940214,0007,-10.1780,-174.5782, 4251,   3539.8,   1.5353,  34.6836,2,  34.6833,2,    158.9,2,    159.7,2,   136.05,2,    35.73,2,     0.00,2,     2.43,2, -999.000,9, -999.000,9,   -999.0,9,   -999.0,9,  -999.00,9, -999.00,  1.2641
     3250031_1,   P31,    72,  1,      8,      8,2,19940214,0007,-10.1780,-174.5782, 4251,   3641.3,   1.4983,  34.6862,2,  34.6864,2,    162.8,2,    164.0,2,   134.75,2,    35.36,2,     0.00,2,     2.41,2, -999.000,9, -999.000,9,   -999.0,9,   -999.0,9,  -999.00,9, -999.00,  1.2176
     3250031_1,   P31,    72,  1,      7,      7,2,19940214,0007,-10.1780,-174.5782, 4251,   3767.5,   1.4540,  34.6893,2,  34.6906,2,    167.9,2,    168.3,2,   132.64,2,    34.94,2,     0.00,2,     2.38,2, -999.000,9, -999.000,9,   -999.0,9,   -999.0,9,  -999.00,9, -999.00,  1.1613
     3250031_1,   P31,    72,  1,      6,      6,2,19940214,0007,-10.1780,-174.5782, 4251,   3842.6,   1.3860,  34.6942,2,  34.6951,2,    173.6,2,    175.7,2,   128.72,2,    34.31,2,     0.00,2,     2.34,2,    0.003,3,   -0.001,3,   -999.0,9,   -999.0,9,  -999.00,9, -999.00,  1.0871
     3250031_1,   P31,    72,  1,      5,      5,2,19940214,0007,-10.1780,-174.5782, 4251,   3918.5,   1.3495,  34.6977,2,  34.6967,2,    178.9,2,    179.8,2,   126.04,2,    33.99,2,     0.00,2,     2.32,2,    0.007,3,   -0.001,3,   -999.0,9,   -999.0,9,  -999.00,9, -999.00,  1.0435
     3250031_1,   P31,    72,  1,      4,      4,2,19940214,0007,-10.1780,-174.5782, 4251,   3997.6,   1.1691,  34.7067,2,  34.7067,2,    194.8,2,    195.9,2,   120.00,2,    32.94,2,     0.00,2,     2.23,2, -999.000,9, -999.000,9,   -999.0,9,   -999.0,9,  -999.00,9, -999.00,  0.8597
     3250031_1,   P31,    72,  1,      3,      3,2,19940214,0007,-10.1780,-174.5782, 4251,   4074.7,   1.1373,  34.7084,2,  34.7087,2,    198.8,2,    198.6,2,   119.55,2,    32.72,2,     0.00,2,     2.23,2, -999.000,9, -999.000,9,   -999.0,9,   -999.0,9,  -999.00,9, -999.00,  0.8205
     3250031_1,   P31,    72,  1,      2,      2,2,19940214,0007,-10.1780,-174.5782, 4251,   4152.7,   1.1144,  34.7093,2,  34.7105,2,    201.2,2,    201.0,2,   118.71,2,    32.56,2,     0.00,2,     2.21,2,    0.016,3,    0.023,3,   -999.0,9,   -999.0,9,  -999.00,9, -999.00,  0.7898
     3250031_1,   P31,    72,  1,      1,      1,2,19940214,0007,-10.1780,-174.5782, 4251,   4239.8,   1.1042,  34.7104,2,  34.7109,2,    205.8,3,    203.0,2,   118.46,2,    32.45,2,     0.00,2,     2.21,2,    0.033,3,    0.032,3,   -999.0,9,   -999.0,9,  -999.00,9, -999.00,  0.7704