BOTTLE,20020814WHPSIOdm
EXPOCODE,SECT_ID,STNNBR,CASTNO,SAMPNO,BTLNBR,BTLNBR_FLAG_W,DATE,TIME,LATITUDE,LONGITUDE,DEPTH,CTDPRS,CTDTMP,CTDSAL,CTDSAL_FLAG_W,SALNTY,SALNTY_FLAG_W,CTDOXY,CTDOXY_FLAG_W,OXYGEN,OXYGEN_FLAG_W,SILCAT,SILCAT_FLAG_W,NITRAT,NITRAT_FLAG_W,NITRIT,NITRIT_FLAG_W,PHSPHT,PHSPHT_FLAG_W,CFC-11,CFC-11_FLAG_W,CFC-12,CFC-12_FLAG_W,TCARBN,TCARBN_FLAG_W,ALKALI,ALKALI_FLAG_W,PH,PH_FLAG_W,PHTEMP,THETA
,,,,,,,,,,,,DBAR,ITS-90,PSS-78,,PSS-78,,UMOL/KG,,UMOL/KG,,UMOL/KG,,UMOL/KG,,UMOL/KG,,UMOL/KG,,PMOL/KG,,PMOL/KG,,UMOL/KG,,UMOL/KG,,,,DEG C,DEG C
     3250031_1,   P31,    12,  1,     36,     36,2,19940128,1444,-15.0450,-153.4283, 4592,      1.8,  29.4737,  35.9321,2,  35.9318,2,    196.9,2,    193.3,2,     1.61,2,     0.14,2,     0.00,2,     0.20,2,    1.556,2,    0.861,2,   1981.0,2,   2373.3,2,     8.15,2,   25.00, 29.4732
     3250031_1,   P31,    12,  1,     35,     35,2,19940128,1444,-15.0450,-153.4283, 4592,     15.2,  29.4787,  35.9336,2,  35.9340,2,    196.3,2,    193.9,2,     1.59,2,     0.09,2,     0.00,2,     0.19,2,    1.570,2,    0.876,2,   1981.6,2,   -999.0,9,     8.15,2,   25.00, 29.4749
     3250031_1,   P31,    12,  1,     34,     34,2,19940128,1444,-15.0450,-153.4283, 4592,     55.3,  28.5958,  36.2427,2,  36.2250,2,    202.0,2,    202.1,2,     1.56,2,     0.14,2,     0.00,2,     0.20,2,    1.653,2,    0.922,2,   1999.9,2,   2395.6,2,     8.14,2,   25.00, 28.5825
     3250031_1,   P31,    12,  1,     33,     33,2,19940128,1444,-15.0450,-153.4283, 4592,    105.5,  26.4289,  36.4174,2,  36.4120,2,    200.6,2,    201.5,2,     1.35,2,     0.14,2,     0.00,2,     0.23,2,    1.748,2,    0.950,2,   2030.6,2,   2416.8,2,     8.12,2,   25.00, 26.4050
     3250031_1,   P31,    12,  1,     32,     32,2,19940128,1444,-15.0450,-153.4283, 4592,    205.0,  20.9501,  35.9498,2,  35.9387,2,    155.2,3,    165.1,2,     1.69,2,     4.33,2,     0.01,2,     0.53,2,    1.842,6,    0.961,6,   2087.9,2,   2382.0,2,     7.98,2,   25.00, 20.9108
     3250031_1,   P31,    12,  1,     31,     31,2,19940128,1444,-15.0450,-153.4283, 4592,    305.0,  15.2640,  35.1614,2,  35.1589,2,    161.3,2,    153.7,2,     5.86,2,    11.72,2,     0.00,2,     1.02,2,    1.338,2,    0.689,2,   2117.6,2,   2327.4,2,     7.84,2,   25.00, 15.2171
     3250031_1,   P31,    12,  1,     30,     30,2,19940128,1444,-15.0450,-153.4283, 4592,    404.3,  10.8177,  34.7061,2,  34.7039,2,    128.5,2,    127.8,2,    14.78,2,    21.97,2,     0.00,2,     1.69,2,    0.609,2,    0.313,2,   2168.2,2,   2305.4,2,     7.68,2,   25.00, 10.7681
     3250031_1,   P31,    12,  1,     29,     29,2,19940128,1444,-15.0450,-153.4283, 4592,    504.5,   7.7934,  34.4898,2,  34.4878,2,    145.1,2,    148.3,2,    21.87,2,    27.46,2,     0.00,2,     1.96,2,    0.251,2,    0.143,2,   2184.7,2,   2300.6,2,     7.63,2,   25.00,  7.7425
     3250031_1,   P31,    12,  1,     28,     28,2,19940128,1444,-15.0450,-153.4283, 4592,    604.3,   6.3396,  34.4473,2,  34.4470,2,    149.7,2,    150.6,2,    33.16,2,    30.68,2,     0.00,2,     2.15,2,    0.096,4,    0.041,2,   2203.1,2,   2318.0,2,     7.60,2,   25.00,  6.2849
     3250031_1,   P31,    12,  1,     27,     27,2,19940128,1444,-15.0450,-153.4283, 4592,    804.5,   4.7722,  34.4734,2,  34.4733,2,    146.6,2,    145.2,2,    56.52,2,    33.67,2,     0.00,2,     2.35,2,    0.006,2,    0.003,2,   2235.1,2,   2335.8,2,     7.58,2,   25.00,  4.7078
     3250031_1,   P31,    12,  1,     26,     26,2,19940128,1444,-15.0450,-153.4283, 4592,   1004.7,   3.9845,  34.5105,2,  34.5094,2,    138.2,2,    140.7,2,    73.59,2,    35.01,2,     0.00,2,     2.45,2,    0.003,2,    0.000,2,   2259.4,2,   2355.7,2,     7.56,2,   25.00,  3.9085
     3250031_1,   P31,    12,  1,     25,     25,2,19940128,1444,-15.0450,-153.4283, 4592,   1205.5,   3.4181,  34.5428,2,  34.5425,2,    139.2,2,    139.7,2,    86.75,2,    35.65,2,     0.00,2,     2.49,2,    0.017,3,   -0.001,2,   2268.7,2,   2365.0,2,     7.56,2,   25.00,  3.3304
     3250031_1,   P31,    12,  1,     24,     24,2,19940128,1444,-15.0450,-153.4283, 4592,   1407.5,   2.9660,  34.5729,2,  34.5733,2,    138.2,2,    140.8,2,    97.43,2,    35.75,2,     0.00,2,     2.51,2, -999.000,9, -999.000,9,   2280.7,2,   2386.3,2,     7.56,2,   25.00,  2.8661
     3250031_1,   P31,    12,  1,     23,     23,2,19940128,1444,-15.0450,-153.4283, 4592,   1608.2,   2.6237,  34.5931,2,  34.5933,2,    144.9,2,    145.7,2,   104.06,2,    35.55,2,     0.00,2,     2.50,2, -999.000,9, -999.000,9,   2286.8,2,   2393.1,2,     7.57,2,   25.00,  2.5113
     3250031_1,   P31,    12,  1,     22,     22,2,19940128,1444,-15.0450,-153.4283, 4592,   1808.6,   2.3733,  34.6149,2,  34.6161,2,    148.8,2,    146.6,2,   110.57,2,    35.55,2,     0.00,2,     2.50,2, -999.000,9, -999.000,9,   2293.6,2,   2394.5,2,     7.57,2,   25.00,  2.2475
     3250031_1,   P31,    12,  1,     21,     21,2,19940128,1444,-15.0450,-153.4283, 4592,   2010.1,   2.1681,  34.6319,2,  34.6318,2,    149.7,2,    148.6,2,   116.57,2,    35.60,2,     0.00,2,     2.49,2,    0.012,2,   -0.001,2,   2298.9,2,   2400.4,2,     7.57,2,   25.00,  2.0283
     3250031_1,   P31,    12,  1,     20,     20,2,19940128,1444,-15.0450,-153.4283, 4592,   2208.0,   2.0171,  34.6454,2,  34.6449,2,    151.9,2,    149.8,2,   121.27,2,    35.50,2,     0.00,2,     2.49,2, -999.000,9, -999.000,9,   2303.2,2,   2412.4,2,     7.57,2,   25.00,  1.8626
     3250031_1,   P31,    12,  1,     19,     19,2,19940128,1444,-15.0450,-153.4283, 4592,   2405.1,   1.9143,  34.6551,2,  34.6551,2,    151.4,2,    151.7,2,   124.23,2,    35.40,2,     0.00,2,     2.48,2, -999.000,9, -999.000,9,   2305.2,2,   2411.1,2,     7.58,2,   25.00,  1.7441
     3250031_1,   P31,    12,  1,     18,     18,2,19940128,1444,-15.0450,-153.4283, 4592,   2595.4,   1.8342,  34.6613,2,  34.6616,2,    153.2,2,    154.5,2,   125.19,2,    35.11,2,     0.00,2,     2.47,2, -999.000,9, -999.000,9,   2304.7,2,   2414.4,2,     7.58,2,   25.00,  1.6484
     3250031_1,   P31,    12,  1,     17,     17,2,19940128,1444,-15.0450,-153.4283, 4592,   2789.3,   1.7613,  34.6676,2,  34.6669,2,    158.5,2,    156.7,2,   126.97,2,    35.11,2,     0.00,2,     2.46,2, -999.000,9, -999.000,9,   2304.6,2,   2420.9,2,     7.58,2,   25.00,  1.5589
     3250031_1,   P31,    12,  1,     16,     16,2,19940128,1444,-15.0450,-153.4283, 4592,   2979.3,   1.7079,  34.6724,2,  34.6726,2,    159.6,2,    160.2,2,   127.33,2,    34.86,2,     0.00,2,     2.44,2, -999.000,9, -999.000,9,   2305.8,2,   2416.7,2,     7.56,3,   25.00,  1.4886
     3250031_1,   P31,    12,  1,     15,     15,2,19940128,1444,-15.0450,-153.4283, 4592,   3181.6,   1.6210,  34.6775,2,  34.6767,2,    165.3,2,    165.6,2,   126.49,2,    34.52,2,     0.00,2,     2.41,2, -999.000,9, -999.000,9,   2305.9,2,   2412.1,2,     7.59,2,   25.00,  1.3839
     3250031_1,   P31,    12,  1,     14,     14,2,19940128,1444,-15.0450,-153.4283, 4592,   3283.3,   1.5893,  34.6798,2,  34.6803,2,    166.4,2,    168.1,2,   126.06,2,    34.27,2,     0.00,2,     2.41,2, -999.000,9, -999.000,9,   2301.0,2,   2413.8,2,  -999.00,9, -999.00,  1.3429
     3250031_1,   P31,    12,  1,     13,     13,2,19940128,1444,-15.0450,-153.4283, 4592,   3385.1,   1.5559,  34.6826,2,  34.6826,2,    170.4,2,    170.3,2,   125.22,2,    34.17,2,     0.00,2,     2.39,2, -999.000,9, -999.000,9,   2301.4,2,   2404.1,2,     7.60,2,   25.00,  1.3001
     3250031_1,   P31,    12,  1,     12,     12,2,19940128,1444,-15.0450,-153.4283, 4592,   3486.5,   1.5269,  34.6846,2,  34.6846,2,    172.2,2,    172.5,2,   124.98,2,    34.07,2,     0.00,2,     2.39,2,    0.007,2,    0.003,2,   2297.4,2,   2405.3,2,     7.60,2,   25.00,  1.2614
     3250031_1,   P31,    12,  1,     11,     11,2,19940128,1444,-15.0450,-153.4283, 4592,   3587.9,   1.5099,  34.6861,2,  34.6852,2,    172.2,2,    173.8,2,   125.15,2,    33.98,2,     0.00,2,     2.38,2, -999.000,9, -999.000,9,   2294.2,2,   2403.9,2,     7.60,2,   25.00,  1.2344
     3250031_1,   P31,    12,  1,     10,     10,2,19940128,1444,-15.0450,-153.4283, 4592,   3691.2,   1.4911,  34.6875,2,  34.6864,2,    175.6,2,    175.6,2,   125.12,2,    33.88,2,     0.00,2,     2.37,2, -999.000,9, -999.000,9,   2294.4,2,   2404.9,2,     7.60,2,   25.00,  1.2054
     3250031_1,   P31,    12,  1,      9,      9,2,19940128,1444,-15.0450,-153.4283, 4592,   3796.5,   1.4696,  34.6896,2,  34.6883,2,    179.0,2,    177.9,2,   124.28,2,    33.73,2,     0.00,2,     2.36,2, -999.000,9, -999.000,9,   2293.6,2,   2402.5,2,     7.60,2,   25.00,  1.1734
     3250031_1,   P31,    12,  1,      8,      8,2,19940128,1444,-15.0450,-153.4283, 4592,   3901.7,   1.4356,  34.6919,2,  34.6917,2,    182.2,2,    180.8,2,   123.05,2,    33.44,2,     0.00,2,     2.34,2,    0.005,2,    0.006,2,   2289.6,2,   2402.8,2,     7.60,2,   25.00,  1.1291
     3250031_1,   P31,    12,  1,      7,      7,2,19940128,1444,-15.0450,-153.4283, 4592,   4007.5,   1.4228,  34.6929,2,  34.6930,2,    181.7,2,    182.1,2,   123.01,2,    33.44,2,     0.00,2,     2.34,2,    0.001,2,   -0.001,2,   2286.5,2,   2397.6,2,  -999.00,9, -999.00,  1.1053
     3250031_1,   P31,    12,  1,      6,      6,2,19940128,1444,-15.0450,-153.4283, 4592,   4114.2,   1.4245,  34.6936,2,  34.6940,2,    183.0,2,    182.7,2,   123.18,2,    33.44,2,     0.00,2,     2.33,2,    0.009,3,    0.000,2,   2287.0,2,   2396.4,2,     7.60,2,   25.00,  1.0953
     3250031_1,   P31,    12,  1,      5,      5,2,19940128,1444,-15.0450,-153.4283, 4592,   4219.0,   1.3764,  34.6964,2,  34.6958,2,    185.2,2,    186.0,2,   123.34,2,    33.29,2,     0.00,2,     2.32,2,    0.004,2,    0.000,2,   2285.1,2,   2395.4,2,     7.60,2,   25.00,  1.0369
     3250031_1,   P31,    12,  1,      4,      4,2,19940128,1444,-15.0450,-153.4283, 4592,   4323.4,   1.3688,  34.6970,2,  34.6966,2,    186.0,2,    187.2,2,   123.31,2,    33.05,2,     0.00,2,     2.32,2,    0.003,2,    0.001,2,   2283.3,2,   2396.1,2,     7.60,2,   25.00,  1.0179
     3250031_1,   P31,    12,  1,      3,      3,2,19940128,1444,-15.0450,-153.4283, 4592,   4428.7,   1.3705,  34.6978,2,  34.6956,3,    188.5,2,    187.7,2,   122.48,2,    33.00,2,     0.00,2,     2.32,2,    0.004,2,    0.001,2,   2283.2,2,   2392.1,2,     7.61,2,   25.00,  1.0076
     3250031_1,   P31,    12,  1,      2,      2,2,19940128,1444,-15.0450,-153.4283, 4592,   4531.7,   1.3592,  34.6992,2,  34.6982,2,    188.8,2,    188.6,2,   122.45,2,    33.00,2,     0.00,2,     2.31,2,    0.007,2,    0.005,2,   2280.9,2,   2395.5,2,     7.61,2,   25.00,  0.9849
     3250031_1,   P31,    12,  1,      1,      1,2,19940128,1444,-15.0450,-153.4283, 4592,   4649.3,   1.3439,  34.6999,2,  34.6999,2,    192.4,3,    189.2,2,   122.81,2,    32.95,2,     0.00,2,     2.31,2,    0.005,2,   -0.001,2,   2280.2,2,   2393.8,2,  -999.00,9, -999.00,  0.9565