BOTTLE,20020814WHPSIOdm
EXPOCODE,SECT_ID,STNNBR,CASTNO,SAMPNO,BTLNBR,BTLNBR_FLAG_W,DATE,TIME,LATITUDE,LONGITUDE,DEPTH,CTDPRS,CTDTMP,CTDSAL,CTDSAL_FLAG_W,SALNTY,SALNTY_FLAG_W,CTDOXY,CTDOXY_FLAG_W,OXYGEN,OXYGEN_FLAG_W,SILCAT,SILCAT_FLAG_W,NITRAT,NITRAT_FLAG_W,NITRIT,NITRIT_FLAG_W,PHSPHT,PHSPHT_FLAG_W,CFC-11,CFC-11_FLAG_W,CFC-12,CFC-12_FLAG_W,TCARBN,TCARBN_FLAG_W,ALKALI,ALKALI_FLAG_W,PH,PH_FLAG_W,PHTEMP,THETA
,,,,,,,,,,,,DBAR,ITS-90,PSS-78,,PSS-78,,UMOL/KG,,UMOL/KG,,UMOL/KG,,UMOL/KG,,UMOL/KG,,UMOL/KG,,PMOL/KG,,PMOL/KG,,UMOL/KG,,UMOL/KG,,,,DEG C,DEG C
     3250031_1,   P31,    22,  1,     36,     36,2,19940131,0241,-13.1233,-158.2857, 5088,      2.4,  29.6339,  35.5836,2,  35.5835,2,    192.3,2,    193.2,2,     1.42,2,     0.01,2,     0.00,2,     0.19,2,    1.556,2,    0.839,2,   -999.0,9,   -999.0,9,  -999.00,9, -999.00, 29.6334
     3250031_1,   P31,    22,  1,     35,     35,2,19940131,0241,-13.1233,-158.2857, 5088,     11.5,  29.6336,  35.6586,2,  35.7169,2,    193.4,2,    193.0,2,     1.39,2,     0.00,2,     0.00,2,     0.19,2, -999.000,9, -999.000,9,   -999.0,9,   -999.0,9,  -999.00,9, -999.00, 29.6308
     3250031_1,   P31,    22,  1,     34,     34,2,19940131,0241,-13.1233,-158.2857, 5088,     56.1,  29.0621,  35.9061,2,  35.9330,2,    193.9,2,    198.9,2,     1.18,2,     0.01,2,     0.00,2,     0.19,2,    1.613,2,    0.848,2,   -999.0,9,   -999.0,9,  -999.00,9, -999.00, 29.0485
     3250031_1,   P31,    22,  1,     33,     33,2,19940131,0241,-13.1233,-158.2857, 5088,    106.5,  26.7473,  36.1501,2,  36.1270,2,    197.3,2,    201.7,2,     1.15,2,     0.01,2,     0.00,2,     0.20,2,    1.646,2,    0.870,2,   -999.0,9,   -999.0,9,  -999.00,9, -999.00, 26.7230
     3250031_1,   P31,    22,  1,     32,     32,2,19940131,0241,-13.1233,-158.2857, 5088,    206.6,  21.0101,  35.9602,2,  35.9731,2,    176.9,2,    169.8,2,     1.48,2,     4.28,2,     0.01,2,     0.54,2,    1.856,6,    0.964,6,   -999.0,9,   -999.0,9,  -999.00,9, -999.00, 20.9703
     3250031_1,   P31,    22,  1,     31,     31,2,19940131,0241,-13.1233,-158.2857, 5088,    306.0,  14.0992,  35.0199,4,  34.9834,2,   -999.0,5,    136.5,2,     8.48,2,    15.05,2,     0.00,2,     1.29,2,    1.085,2,    0.528,2,   -999.0,9,   -999.0,9,  -999.00,9, -999.00, 14.0546
     3250031_1,   P31,    22,  1,     30,     30,2,19940131,0241,-13.1233,-158.2857, 5088,    405.9,   9.3365,  34.6062,2,  34.6039,2,    114.4,2,    118.3,2,    20.84,2,    26.05,2,     0.00,2,     1.95,2,    0.250,6,    0.136,6,   -999.0,9,   -999.0,9,  -999.00,9, -999.00,  9.2911
     3250031_1,   P31,    22,  1,     29,     29,2,19940131,0241,-13.1233,-158.2857, 5088,    603.5,   5.9385,  34.4708,2,  34.4707,2,    147.2,2,    146.3,2,    39.87,2,    31.45,2,     0.00,2,     2.20,2,    0.040,2,    0.023,2,   -999.0,9,   -999.0,9,  -999.00,9, -999.00,  5.8857
     3250031_1,   P31,    22,  1,     28,     28,2,19940131,0241,-13.1233,-158.2857, 5088,    805.5,   4.9075,  34.4904,2,  34.4907,2,    133.5,3,    134.4,2,    58.01,2,    34.20,2,     0.00,2,     2.40,2,    0.014,2,    0.007,2,   -999.0,9,   -999.0,9,  -999.00,9, -999.00,  4.8421
     3250031_1,   P31,    22,  1,     27,     27,2,19940131,0241,-13.1233,-158.2857, 5088,   1006.0,   4.2197,  34.5133,2,  34.5149,2,    127.4,2,    129.5,2,    72.15,2,    35.49,2,     0.00,2,     2.49,2,    0.002,2,   -0.004,2,   -999.0,9,   -999.0,9,  -999.00,9, -999.00,  4.1419
     3250031_1,   P31,    22,  1,     26,     26,2,19940131,0241,-13.1233,-158.2857, 5088,   1256.5,   3.4579,  34.5470,2,  34.5465,2,    136.0,2,    134.1,2,    86.78,2,    35.74,2,     0.00,2,     2.51,2,    0.013,2,    0.006,2,   -999.0,9,   -999.0,9,  -999.00,9, -999.00,  3.3656
     3250031_1,   P31,    22,  1,     25,     25,2,19940131,0241,-13.1233,-158.2857, 5088,   1507.6,   2.8290,  34.5810,2,  34.5848,2,    135.6,2,    140.6,2,    99.72,2,    35.51,2,     0.00,2,     2.49,2,    0.002,2,   -0.006,2,   -999.0,9,   -999.0,9,  -999.00,9, -999.00,  2.7225
     3250031_1,   P31,    22,  1,     24,     24,2,19940131,0241,-13.1233,-158.2857, 5088,   1754.9,   2.4142,  34.6116,2,  34.6120,2,    143.7,2,    144.5,2,   109.96,2,    35.32,2,     0.00,2,     2.49,2, -999.000,9, -999.000,9,   -999.0,9,   -999.0,9,  -999.00,9, -999.00,  2.2924
     3250031_1,   P31,    22,  1,     23,     23,2,19940131,0241,-13.1233,-158.2857, 5088,   2005.1,   2.1435,  34.6330,2,  34.6344,2,    148.9,2,    147.0,2,   117.03,2,    35.23,2,     0.00,2,     2.49,2,    0.002,2,    0.005,2,   -999.0,9,   -999.0,9,  -999.00,9, -999.00,  2.0045
     3250031_1,   P31,    22,  1,     22,     22,2,19940131,0241,-13.1233,-158.2857, 5088,   2261.8,   1.9755,  34.6494,2,  34.6497,2,    147.2,2,    147.9,2,   122.39,2,    35.33,2,     0.00,2,     2.48,2, -999.000,9, -999.000,9,   -999.0,9,   -999.0,9,  -999.00,9, -999.00,  1.8170
     3250031_1,   P31,    22,  1,     21,     21,2,19940131,0241,-13.1233,-158.2857, 5088,   2515.0,   1.8880,  34.6591,2,  34.6588,2,    150.3,2,    148.3,2,   126.41,2,    35.34,2,     0.00,2,     2.48,2,    0.004,2,   -0.002,2,   -999.0,9,   -999.0,9,  -999.00,9, -999.00,  1.7084
     3250031_1,   P31,    22,  1,     20,     20,2,19940131,0241,-13.1233,-158.2857, 5088,   2766.7,   1.7708,  34.6688,2,  34.6686,2,    149.7,2,    150.7,2,   130.05,2,    35.25,2,     0.00,2,     2.47,2, -999.000,9, -999.000,9,   -999.0,9,   -999.0,9,  -999.00,9, -999.00,  1.5703
     3250031_1,   P31,    22,  1,     19,     19,2,19940131,0241,-13.1233,-158.2857, 5088,   3018.2,   1.6948,  34.6750,2,  34.6746,2,    156.1,2,    154.3,2,   131.47,2,    35.11,2,     0.00,2,     2.46,2, -999.000,9, -999.000,9,   -999.0,9,   -999.0,9,  -999.00,9, -999.00,  1.4720
     3250031_1,   P31,    22,  1,     18,     18,2,19940131,0241,-13.1233,-158.2857, 5088,   3221.9,   1.6343,  34.6780,2,  34.6772,2,    157.9,2,    159.8,2,   130.42,2,    34.83,2,     0.00,2,     2.43,2, -999.000,9, -999.000,9,   -999.0,9,   -999.0,9,  -999.00,9, -999.00,  1.3929
     3250031_1,   P31,    22,  1,     17,     17,2,19940131,0241,-13.1233,-158.2857, 5088,   3424.6,   1.5647,  34.6817,2,  34.6817,2,    167.0,2,    167.0,2,   128.56,2,    34.35,2,     0.00,2,     2.39,2,    0.012,2,    0.004,2,   -999.0,9,   -999.0,9,  -999.00,9, -999.00,  1.3047
     3250031_1,   P31,    22,  1,     16,     16,2,19940131,0241,-13.1233,-158.2857, 5088,   3625.1,   1.5091,  34.6856,2,  34.6846,2,    169.4,2,    171.7,2,   127.11,2,    33.96,2,     0.00,2,     2.37,2, -999.000,9, -999.000,9,   -999.0,9,   -999.0,9,  -999.00,9, -999.00,  1.2298
     3250031_1,   P31,    22,  1,     15,     15,2,19940131,0241,-13.1233,-158.2857, 5088,   3725.4,   1.4804,  34.6875,2,  34.6866,2,    173.1,2,    173.8,2,   126.48,2,    33.82,2,     0.00,2,     2.36,2, -999.000,9, -999.000,9,   -999.0,9,   -999.0,9,  -999.00,9, -999.00,  1.1914
     3250031_1,   P31,    22,  1,     14,     14,2,19940131,0241,-13.1233,-158.2857, 5088,   3826.4,   1.4580,  34.6893,2,  34.6889,2,    175.2,2,    175.7,2,   125.85,2,    33.63,2,     0.00,2,     2.35,2, -999.000,9, -999.000,9,   -999.0,9,   -999.0,9,  -999.00,9, -999.00,  1.1589
     3250031_1,   P31,    22,  1,     13,     13,2,19940131,0241,-13.1233,-158.2857, 5088,   3929.4,   1.4324,  34.6911,2,  34.6916,2,    176.9,2,    177.5,2,   126.03,2,    33.54,2,     0.00,2,     2.34,2,    0.020,3,    0.006,2,   -999.0,9,   -999.0,9,  -999.00,9, -999.00,  1.1230
     3250031_1,   P31,    22,  1,     12,     12,2,19940131,0241,-13.1233,-158.2857, 5088,   4031.1,   1.4163,  34.6921,2,  34.6918,2,    176.4,2,    178.9,2,   125.81,2,    33.50,2,     0.00,2,     2.34,2, -999.000,9, -999.000,9,   -999.0,9,   -999.0,9,  -999.00,9, -999.00,  1.0963
     3250031_1,   P31,    22,  1,     11,     11,2,19940131,0241,-13.1233,-158.2857, 5088,   4134.9,   1.3884,  34.6940,2,  34.6928,2,    179.6,2,    181.9,2,   124.78,2,    33.27,2,     0.00,2,     2.32,2, -999.000,9, -999.000,9,   -999.0,9,   -999.0,9,  -999.00,9, -999.00,  1.0578
     3250031_1,   P31,    22,  1,     10,     10,2,19940131,0241,-13.1233,-158.2857, 5088,   4238.0,   1.3705,  34.6954,2,  34.6941,2,    182.8,2,    183.8,2,   124.35,2,    33.13,2,     0.00,2,     2.32,2, -999.000,9, -999.000,9,   -999.0,9,   -999.0,9,  -999.00,9, -999.00,  1.0291
     3250031_1,   P31,    22,  1,      9,      9,2,19940131,0241,-13.1233,-158.2857, 5088,   4341.1,   1.3519,  34.6969,2,  34.6953,2,    185.6,2,    186.0,2,   123.52,2,    32.94,2,     0.00,2,     2.30,2, -999.000,9, -999.000,9,   -999.0,9,   -999.0,9,  -999.00,9, -999.00,  0.9995
     3250031_1,   P31,    22,  1,      8,      8,2,19940131,0241,-13.1233,-158.2857, 5088,   4444.2,   1.3286,  34.6985,2,  34.6980,2,    187.2,2,    188.4,2,   122.50,2,    32.80,2,     0.00,2,     2.29,2, -999.000,9, -999.000,9,   -999.0,9,   -999.0,9,  -999.00,9, -999.00,  0.9653
     3250031_1,   P31,    22,  1,      7,      7,2,19940131,0241,-13.1233,-158.2857, 5088,   4546.3,   1.3209,  34.6998,2,  34.6990,2,    187.7,2,    190.1,2,   121.87,2,    32.71,2,     0.00,2,     2.28,2, -999.000,9, -999.000,9,   -999.0,9,   -999.0,9,  -999.00,9, -999.00,  0.9461
     3250031_1,   P31,    22,  1,      6,      6,2,19940131,0241,-13.1233,-158.2857, 5088,   4646.7,   1.3047,  34.7010,2,  34.7008,2,    190.5,2,    191.2,2,   121.45,2,    32.52,2,     0.00,2,     2.27,2,    0.008,2,    0.001,2,   -999.0,9,   -999.0,9,  -999.00,9, -999.00,  0.9188
     3250031_1,   P31,    22,  1,      5,      5,2,19940131,0241,-13.1233,-158.2857, 5088,   4748.1,   1.2901,  34.7022,2,  34.6998,3,    192.5,2,    193.7,2,   120.83,2,    32.38,2,     0.00,2,     2.26,2,    0.012,2,    0.003,2,   -999.0,9,   -999.0,9,  -999.00,9, -999.00,  0.8929
     3250031_1,   P31,    22,  1,      4,      4,2,19940131,0241,-13.1233,-158.2857, 5088,   4850.0,   1.2896,  34.7027,2,  34.7007,2,    192.9,2,    194.6,2,   120.81,2,    32.35,2,     0.00,2,     2.25,2,    0.002,2,    0.000,2,   -999.0,9,   -999.0,9,  -999.00,9, -999.00,  0.8804
     3250031_1,   P31,    22,  1,      3,      3,2,19940131,0241,-13.1233,-158.2857, 5088,   4952.1,   1.2841,  34.7034,2,  34.7011,2,    194.7,2,    195.7,2,   120.39,2,    32.26,2,     0.00,2,     2.25,2,    0.019,4,    0.002,2,   -999.0,9,   -999.0,9,  -999.00,9, -999.00,  0.8628
     3250031_1,   P31,    22,  1,      2,      2,2,19940131,0241,-13.1233,-158.2857, 5088,   5054.7,   1.2917,  34.7032,2,  34.7023,2,    196.3,2,    195.9,2,   120.57,2,    32.22,2,     0.00,2,     2.25,2,    0.002,2,    0.001,2,   -999.0,9,   -999.0,9,  -999.00,9, -999.00,  0.8578
     3250031_1,   P31,    22,  1,      1,      1,2,19940131,0241,-13.1233,-158.2857, 5088,   5198.4,   1.3016,  34.7041,2,  34.7036,2,    197.4,2,    195.1,2,   120.15,2,    32.12,2,     0.00,2,     2.26,2,    0.008,2,    0.002,2,   -999.0,9,   -999.0,9,  -999.00,9, -999.00,  0.8498