BOTTLE,20020814WHPSIOdm
EXPOCODE,SECT_ID,STNNBR,CASTNO,SAMPNO,BTLNBR,BTLNBR_FLAG_W,DATE,TIME,LATITUDE,LONGITUDE,DEPTH,CTDPRS,CTDTMP,CTDSAL,CTDSAL_FLAG_W,SALNTY,SALNTY_FLAG_W,CTDOXY,CTDOXY_FLAG_W,OXYGEN,OXYGEN_FLAG_W,SILCAT,SILCAT_FLAG_W,NITRAT,NITRAT_FLAG_W,NITRIT,NITRIT_FLAG_W,PHSPHT,PHSPHT_FLAG_W,CFC-11,CFC-11_FLAG_W,CFC-12,CFC-12_FLAG_W,TCARBN,TCARBN_FLAG_W,ALKALI,ALKALI_FLAG_W,PH,PH_FLAG_W,PHTEMP,THETA
,,,,,,,,,,,,DBAR,ITS-90,PSS-78,,PSS-78,,UMOL/KG,,UMOL/KG,,UMOL/KG,,UMOL/KG,,UMOL/KG,,UMOL/KG,,PMOL/KG,,PMOL/KG,,UMOL/KG,,UMOL/KG,,,,DEG C,DEG C
     3250031_1,   P31,    17,  1,     36,     36,2,19940129,2032,-14.0863,-155.8322, 5088,      1.7,  29.5650,  35.1713,2,  35.1683,2,    196.8,2,    193.5,2,     1.86,2,     0.10,2,     0.00,2,     0.19,2, -999.000,9, -999.000,9,   -999.0,9,   -999.0,9,  -999.00,9, -999.00, 29.5646
     3250031_1,   P31,    17,  1,     35,     35,2,19940129,2032,-14.0863,-155.8322, 5088,     15.0,  29.5662,  35.1726,2,  35.1694,2,    195.1,2,    193.4,2,     1.65,2,     0.10,2,     0.00,2,     0.19,2, -999.000,9, -999.000,9,   -999.0,9,   -999.0,9,  -999.00,9, -999.00, 29.5625
     3250031_1,   P31,    17,  1,     34,     34,2,19940129,2032,-14.0863,-155.8322, 5088,     55.0,  28.9759,  35.9465,2,  35.9577,2,    202.7,2,    203.7,2,     1.45,2,     0.10,2,     0.00,2,     0.20,2, -999.000,9, -999.000,9,   -999.0,9,   -999.0,9,  -999.00,9, -999.00, 28.9626
     3250031_1,   P31,    17,  1,     33,     33,2,19940129,2032,-14.0863,-155.8322, 5088,    105.1,  26.8773,  36.3468,2,  36.3528,2,    203.7,2,    200.8,2,     1.24,2,     0.10,2,     0.00,2,     0.24,2, -999.000,9, -999.000,9,   -999.0,9,   -999.0,9,  -999.00,9, -999.00, 26.8531
     3250031_1,   P31,    17,  1,     32,     32,2,19940129,2032,-14.0863,-155.8322, 5088,    204.7,  21.3944,  36.0239,2,  36.0267,2,    171.7,2,    169.3,2,     1.59,2,     4.37,2,     0.01,2,     0.54,2, -999.000,9, -999.000,9,   -999.0,9,   -999.0,9,  -999.00,9, -999.00, 21.3545
     3250031_1,   P31,    17,  1,     31,     31,2,19940129,2032,-14.0863,-155.8322, 5088,    304.9,  15.3041,  35.1421,2,-999.0000,5,    144.2,2,    144.5,2,     6.03,2,    12.08,2,     0.00,2,     1.10,2, -999.000,9, -999.000,9,   -999.0,9,   -999.0,9,  -999.00,9, -999.00, 15.2571
     3250031_1,   P31,    17,  1,     30,     30,2,19940129,2032,-14.0863,-155.8322, 5088,    404.8,  10.6664,  34.6913,2,  34.6855,2,    113.6,2,    111.2,2,    17.17,2,    23.67,2,     0.00,2,     1.85,2, -999.000,9, -999.000,9,   -999.0,9,   -999.0,9,  -999.00,9, -999.00, 10.6172
     3250031_1,   P31,    17,  1,     29,     29,2,19940129,2032,-14.0863,-155.8322, 5088,    604.4,   6.2409,  34.4725,2,  34.4704,2,    149.3,2,    146.4,2,    36.69,2,    31.05,2,     0.00,2,     2.18,2, -999.000,9, -999.000,9,   -999.0,9,   -999.0,9,  -999.00,9, -999.00,  6.1865
     3250031_1,   P31,    17,  1,     28,     28,2,19940129,2032,-14.0863,-155.8322, 5088,    805.1,   4.8711,  34.4820,2,  34.4805,2,    139.9,2,    141.3,2,    57.00,2,    33.83,2,     0.00,2,     2.37,2, -999.000,9, -999.000,9,   -999.0,9,   -999.0,9,  -999.00,9, -999.00,  4.8060
     3250031_1,   P31,    17,  1,     27,     27,2,19940129,2032,-14.0863,-155.8322, 5088,   1005.7,   4.1268,  34.5116,2,  34.5098,2,    134.6,2,    136.5,2,    72.90,2,    35.12,2,     0.00,2,     2.47,2, -999.000,9, -999.000,9,   -999.0,9,   -999.0,9,  -999.00,9, -999.00,  4.0497
     3250031_1,   P31,    17,  1,     26,     26,2,19940129,2032,-14.0863,-155.8322, 5088,   1256.5,   3.3543,  34.5534,2,  34.5528,2,    136.2,2,    134.2,2,    89.92,2,    35.92,2,     0.00,2,     2.53,2, -999.000,9, -999.000,9,   -999.0,9,   -999.0,9,  -999.00,9, -999.00,  3.2629
     3250031_1,   P31,    17,  1,     25,     25,2,19940129,2032,-14.0863,-155.8322, 5088,   1505.4,   2.7822,  34.5860,2,  34.5846,2,    140.8,2,    141.1,2,   101.22,2,    35.72,2,     0.00,2,     2.51,2, -999.000,9, -999.000,9,   -999.0,9,   -999.0,9,  -999.00,9, -999.00,  2.6764
     3250031_1,   P31,    17,  1,     24,     24,2,19940129,2032,-14.0863,-155.8322, 5088,   1755.9,   2.4183,  34.6115,2,  34.6087,2,    145.9,2,    145.2,2,   109.77,2,    35.58,2,     0.00,2,     2.49,2, -999.000,9, -999.000,9,   -999.0,9,   -999.0,9,  -999.00,9, -999.00,  2.2963
     3250031_1,   P31,    17,  1,     23,     23,2,19940129,2032,-14.0863,-155.8322, 5088,   2008.8,   2.1659,  34.6318,2,  34.6283,3,    149.0,2,    148.8,2,   116.06,2,    35.43,2,     0.00,2,     2.47,2, -999.000,9, -999.000,9,   -999.0,9,   -999.0,9,  -999.00,9, -999.00,  2.0262
     3250031_1,   P31,    17,  1,     22,     22,2,19940129,2032,-14.0863,-155.8322, 5088,   2262.0,   1.9847,  34.6491,2,  34.6480,2,    151.5,2,    149.8,2,   121.83,2,    35.43,2,     0.00,2,     2.47,2, -999.000,9, -999.000,9,   -999.0,9,   -999.0,9,  -999.00,9, -999.00,  1.8260
     3250031_1,   P31,    17,  1,     21,     21,2,19940129,2032,-14.0863,-155.8322, 5088,   2515.9,   1.8753,  34.6592,2,  34.6581,2,    152.4,2,    151.5,2,   125.85,2,    35.48,2,     0.00,2,     2.47,2, -999.000,9, -999.000,9,   -999.0,9,   -999.0,9,  -999.00,9, -999.00,  1.6959
     3250031_1,   P31,    17,  1,     20,     20,2,19940129,2032,-14.0863,-155.8322, 5088,   2769.6,   1.7798,  34.6680,2,  34.6666,2,    154.5,2,    153.8,2,   128.27,2,    35.29,2,     0.00,2,     2.46,2, -999.000,9, -999.000,9,   -999.0,9,   -999.0,9,  -999.00,9, -999.00,  1.5788
     3250031_1,   P31,    17,  1,     19,     19,2,19940129,2032,-14.0863,-155.8322, 5088,   3022.9,   1.6946,  34.6737,2,  34.6736,2,    159.4,2,    158.9,2,   128.65,2,    34.94,2,     0.00,2,     2.44,2, -999.000,9, -999.000,9,   -999.0,9,   -999.0,9,  -999.00,9, -999.00,  1.4714
     3250031_1,   P31,    17,  1,     18,     18,2,19940129,2032,-14.0863,-155.8322, 5088,   3227.5,   1.6195,  34.6775,2,  34.6768,2,    166.5,2,    165.7,2,   126.18,2,    34.34,2,     0.00,2,     2.41,2, -999.000,9, -999.000,9,   -999.0,9,   -999.0,9,  -999.00,9, -999.00,  1.3779
     3250031_1,   P31,    17,  1,     17,     17,2,19940129,2032,-14.0863,-155.8322, 5088,   3430.2,   1.5711,  34.6816,2,  34.6800,2,    169.0,2,    169.7,2,   125.14,2,    34.14,2,     0.00,2,     2.38,2, -999.000,9, -999.000,9,   -999.0,9,   -999.0,9,  -999.00,9, -999.00,  1.3103
     3250031_1,   P31,    17,  1,     16,     16,2,19940129,2032,-14.0863,-155.8322, 5088,   3633.6,   1.5118,  34.6859,2,  34.6852,2,    173.5,2,    174.7,2,   124.10,2,    33.75,2,     0.00,2,     2.36,2, -999.000,9, -999.000,9,   -999.0,9,   -999.0,9,  -999.00,9, -999.00,  1.2316
     3250031_1,   P31,    17,  1,     15,     15,2,19940129,2032,-14.0863,-155.8322, 5088,   3734.9,   1.4846,  34.6876,2,  34.6862,2,    176.6,2,    176.8,2,   123.27,2,    33.55,2,     0.00,2,     2.36,2, -999.000,9, -999.000,9,   -999.0,9,   -999.0,9,  -999.00,9, -999.00,  1.1945
     3250031_1,   P31,    17,  1,     14,     14,2,19940129,2032,-14.0863,-155.8322, 5088,   3837.1,   1.4586,  34.6898,2,  34.6895,2,    179.0,2,    178.8,2,   123.04,2,    33.36,2,     0.00,2,     2.35,2, -999.000,9, -999.000,9,   -999.0,9,   -999.0,9,  -999.00,9, -999.00,  1.1584
     3250031_1,   P31,    17,  1,     13,     13,2,19940129,2032,-14.0863,-155.8322, 5088,   3938.3,   1.4422,  34.6914,2,  34.6915,2,    181.5,2,    180.1,2,   123.42,2,    33.31,2,     0.00,2,     2.34,2, -999.000,9, -999.000,9,   -999.0,9,   -999.0,9,  -999.00,9, -999.00,  1.1316
     3250031_1,   P31,    17,  1,     12,     12,2,19940129,2032,-14.0863,-155.8322, 5088,   4041.0,   1.4252,  34.6928,2,  34.6914,2,    183.9,2,    182.0,2,   123.60,2,    33.36,2,     0.00,2,     2.33,2, -999.000,9, -999.000,9,   -999.0,9,   -999.0,9,  -999.00,9, -999.00,  1.1039
     3250031_1,   P31,    17,  1,     11,     11,2,19940129,2032,-14.0863,-155.8322, 5088,   4141.9,   1.4042,  34.6944,2,  34.6920,2,    184.7,2,    183.2,2,   124.18,2,    33.31,2,     0.00,2,     2.33,2, -999.000,9, -999.000,9,   -999.0,9,   -999.0,9,  -999.00,9, -999.00,  1.0724
     3250031_1,   P31,    17,  1,     10,     10,2,19940129,2032,-14.0863,-155.8322, 5088,   4244.1,   1.3893,  34.6953,2,  34.6935,2,    183.6,2,    184.5,2,   124.36,2,    33.16,2,     0.00,2,     2.32,2, -999.000,9, -999.000,9,   -999.0,9,   -999.0,9,  -999.00,9, -999.00,  1.0466
     3250031_1,   P31,    17,  1,      9,      9,2,19940129,2032,-14.0863,-155.8322, 5088,   4345.1,   1.3718,  34.6963,2,  34.6951,2,    185.5,2,    186.5,2,   123.32,2,    32.97,2,     0.00,2,     2.31,2, -999.000,9, -999.000,9,   -999.0,9,   -999.0,9,  -999.00,9, -999.00,  1.0183
     3250031_1,   P31,    17,  1,      8,      8,2,19940129,2032,-14.0863,-155.8322, 5088,   4447.8,   1.3464,  34.6982,2,  34.6984,2,    187.6,2,    188.5,2,   122.09,2,    32.82,2,     0.00,2,     2.30,2, -999.000,9, -999.000,9,   -999.0,9,   -999.0,9,  -999.00,9, -999.00,  0.9821
     3250031_1,   P31,    17,  1,      7,      7,2,19940129,2032,-14.0863,-155.8322, 5088,   4549.1,   1.3253,  34.7001,2,  34.7014,2,    189.9,2,    190.1,2,   122.26,2,    32.72,2,     0.00,2,     2.29,2, -999.000,9, -999.000,9,   -999.0,9,   -999.0,9,  -999.00,9, -999.00,  0.9501
     3250031_1,   P31,    17,  1,      6,      6,2,19940129,2032,-14.0863,-155.8322, 5088,   4651.4,   1.3109,  34.7011,2,  34.7015,2,    191.7,2,    192.0,2,   121.84,2,    32.58,2,     0.00,2,     2.28,2,    0.007,3,    0.001,2,   -999.0,9,   -999.0,9,  -999.00,9, -999.00,  0.9243
     3250031_1,   P31,    17,  1,      5,      5,2,19940129,2032,-14.0863,-155.8322, 5088,   4754.5,   1.3006,  34.7023,2,  34.7015,2,    193.4,2,    193.5,2,   121.41,2,    32.53,2,     0.00,2,     2.27,2,    0.002,2,    0.001,2,   -999.0,9,   -999.0,9,  -999.00,9, -999.00,  0.9023
     3250031_1,   P31,    17,  1,      4,      4,2,19940129,2032,-14.0863,-155.8322, 5088,   4855.9,   1.2966,  34.7032,2,  34.7028,2,    194.6,2,    194.8,2,   120.98,2,    32.48,2,     0.00,2,     2.27,2,    0.002,2,    0.001,2,   -999.0,9,   -999.0,9,  -999.00,9, -999.00,  0.8864
     3250031_1,   P31,    17,  1,      3,      3,2,19940129,2032,-14.0863,-155.8322, 5088,   4958.7,   1.2980,  34.7034,2,  34.7029,2,    194.9,2,    195.2,2,   120.56,2,    32.43,2,     0.00,2,     2.26,2,    0.003,2,    0.001,2,   -999.0,9,   -999.0,9,  -999.00,9, -999.00,  0.8755
     3250031_1,   P31,    17,  1,      2,      2,2,19940129,2032,-14.0863,-155.8322, 5088,   5060.6,   1.3078,  34.7034,2,  34.7041,2,    195.4,2,    195.3,2,   120.33,2,    32.39,2,     0.00,2,     2.26,2,    0.007,2,    0.006,2,   -999.0,9,   -999.0,9,  -999.00,9, -999.00,  0.8727
     3250031_1,   P31,    17,  1,      1,      1,2,19940129,2032,-14.0863,-155.8322, 5088,   5198.3,   1.3207,  34.7037,2,  34.7066,3,    196.0,2,    195.4,2,   120.31,2,    32.44,2,     0.00,2,     2.26,2,    0.003,2,    0.002,2,   -999.0,9,   -999.0,9,  -999.00,9, -999.00,  0.8683