BOTTLE,20020814WHPSIOdm
EXPOCODE,SECT_ID,STNNBR,CASTNO,SAMPNO,BTLNBR,BTLNBR_FLAG_W,DATE,TIME,LATITUDE,LONGITUDE,DEPTH,CTDPRS,CTDTMP,CTDSAL,CTDSAL_FLAG_W,SALNTY,SALNTY_FLAG_W,CTDOXY,CTDOXY_FLAG_W,OXYGEN,OXYGEN_FLAG_W,SILCAT,SILCAT_FLAG_W,NITRAT,NITRAT_FLAG_W,NITRIT,NITRIT_FLAG_W,PHSPHT,PHSPHT_FLAG_W,CFC-11,CFC-11_FLAG_W,CFC-12,CFC-12_FLAG_W,TCARBN,TCARBN_FLAG_W,ALKALI,ALKALI_FLAG_W,PH,PH_FLAG_W,PHTEMP,THETA
,,,,,,,,,,,,DBAR,ITS-90,PSS-78,,PSS-78,,UMOL/KG,,UMOL/KG,,UMOL/KG,,UMOL/KG,,UMOL/KG,,UMOL/KG,,PMOL/KG,,PMOL/KG,,UMOL/KG,,UMOL/KG,,,,DEG C,DEG C
     3250031_1,   P31,    27,  1,     36,     36,2,19940201,0823,-12.2030,-160.5462, 4846,      2.3,  29.7145,  35.0417,2,  35.0416,2,    188.9,2,    194.4,2,     1.58,2,     0.00,2,     0.00,2,     0.19,2, -999.000,9, -999.000,9,   1932.5,2,   2316.0,2,     8.16,2,   25.00, 29.7139
     3250031_1,   P31,    27,  1,     35,     35,9,19940201,0823,-12.2030,-160.5462, 4846,     10.6,  29.7180,  35.0437,2,-999.0000,9,    173.8,2,   -999.0,9,  -999.00,9,  -999.00,9,  -999.00,9,  -999.00,9, -999.000,9, -999.000,9,   -999.0,9,   -999.0,9,  -999.00,9, -999.00, 29.7154
     3250031_1,   P31,    27,  1,     34,     34,2,19940201,0823,-12.2030,-160.5462, 4846,     55.7,  29.2095,  35.9030,2,  35.8971,2,    208.0,2,    203.8,2,     1.56,2,     0.00,2,     0.00,2,     0.19,2, -999.000,9, -999.000,9,   1979.0,2,   2372.2,2,     8.15,2,   25.00, 29.1960
     3250031_1,   P31,    27,  1,     33,     33,2,19940201,0823,-12.2030,-160.5462, 4846,    105.5,  25.4724,  36.3763,2,  36.3646,2,    191.0,2,    190.0,2,     1.37,2,     0.06,2,     0.03,2,     0.33,2, -999.000,9, -999.000,9,   2053.1,2,   2406.6,2,     8.08,2,   25.00, 25.4491
     3250031_1,   P31,    27,  1,     32,     32,2,19940201,0823,-12.2030,-160.5462, 4846,    205.1,  19.7310,  35.7757,2,  35.7907,2,    158.8,2,    162.4,2,     2.28,2,     6.06,2,     0.01,2,     0.68,2, -999.000,9, -999.000,9,   2103.8,2,   2361.8,2,     7.94,2,   25.00, 19.6933
     3250031_1,   P31,    27,  1,     31,     31,2,19940201,0823,-12.2030,-160.5462, 4846,    304.8,  13.7187,  34.9691,2,  34.9732,2,    124.6,3,    123.6,2,     9.68,2,    16.33,2,     0.00,2,     1.41,2, -999.000,9, -999.000,9,   2149.7,2,   2316.5,2,     7.75,2,   25.00, 13.6751
     3250031_1,   P31,    27,  1,     30,     30,2,19940201,0823,-12.2030,-160.5462, 4846,    405.2,   9.2776,  34.6329,2,  34.6303,2,    114.4,2,    113.0,2,    22.47,2,    26.97,2,     0.00,2,     1.99,2, -999.000,9, -999.000,9,   2193.6,2,   2303.0,2,     7.62,2,   25.00,  9.2324
     3250031_1,   P31,    27,  1,     29,     29,2,19940201,0823,-12.2030,-160.5462, 4846,    604.8,   6.4000,  34.5044,2,  34.5062,2,    131.1,2,    131.6,2,    39.52,2,    32.27,2,     0.00,2,     2.26,2, -999.000,9, -999.000,9,   2215.6,2,   2316.6,2,     7.58,2,   25.00,  6.3449
     3250031_1,   P31,    27,  1,     28,     28,2,19940201,0823,-12.2030,-160.5462, 4846,    804.9,   5.2024,  34.4991,2,  34.4989,2,    118.8,2,    123.0,2,    56.61,2,    35.27,2,     0.00,2,     2.47,2, -999.000,9, -999.000,9,   2245.7,2,   2328.3,2,     7.54,2,   25.00,  5.1353
     3250031_1,   P31,    27,  1,     27,     27,2,19940201,0823,-12.2030,-160.5462, 4846,   1005.6,   4.3328,  34.5120,2,  34.5119,2,    124.2,2,    127.1,2,    71.16,2,    35.87,2,     0.00,2,     2.52,2, -999.000,9, -999.000,9,   2259.5,2,   -999.0,9,  -999.00,9, -999.00,  4.2541
     3250031_1,   P31,    27,  1,     26,     26,2,19940201,0823,-12.2030,-160.5462, 4846,   1256.2,   3.5509,  34.5507,2,  34.5497,2,    126.4,2,    125.1,2,    89.24,2,    36.71,2,     0.00,2,     2.59,2, -999.000,9, -999.000,9,   2280.9,2,   2365.4,2,     7.53,2,   25.00,  3.4576
     3250031_1,   P31,    27,  1,     25,     25,2,19940201,0823,-12.2030,-160.5462, 4846,   1506.8,   2.8720,  34.5818,2,  34.5815,2,    140.2,2,    138.3,2,   100.71,2,    36.03,2,     0.00,2,     2.53,2, -999.000,9, -999.000,9,   2287.6,2,   -999.0,9,     7.55,2,   25.00,  2.7651
     3250031_1,   P31,    27,  1,     24,     24,2,19940201,0823,-12.2030,-160.5462, 4846,   1758.3,   2.4180,  34.6121,2,  34.6114,2,    146.3,2,    144.0,2,   111.00,2,    35.74,2,     0.00,2,     2.51,2, -999.000,9, -999.000,9,   2294.9,2,   2391.2,2,     7.56,2,   25.00,  2.2958
     3250031_1,   P31,    27,  1,     23,     23,2,19940201,0823,-12.2030,-160.5462, 4846,   2009.3,   2.1038,  34.6374,2,  34.6368,2,    148.5,2,    146.7,2,   119.49,2,    35.65,2,     0.00,2,     2.50,2, -999.000,9, -999.000,9,   2303.6,2,   -999.0,9,     7.57,2,   25.00,  1.9649
     3250031_1,   P31,    27,  1,     22,     22,2,19940201,0823,-12.2030,-160.5462, 4846,   2213.1,   1.9836,  34.6487,2,  34.6492,2,    148.5,2,    147.4,2,   124.30,2,    35.42,2,     0.00,2,     2.49,2, -999.000,9, -999.000,9,   2308.4,2,   2405.5,2,     7.57,2,   25.00,  1.8292
     3250031_1,   P31,    27,  1,     21,     21,2,19940201,0823,-12.2030,-160.5462, 4846,   2414.2,   1.8835,  34.6586,2,  34.6576,2,    147.4,2,    147.8,2,   129.16,2,    35.42,2,     0.00,2,     2.50,2, -999.000,9, -999.000,9,   2312.0,2,   -999.0,9,     7.57,2,   25.00,  1.7131
     3250031_1,   P31,    27,  1,     20,     20,2,19940201,0823,-12.2030,-160.5462, 4846,   2617.2,   1.8051,  34.6662,2,  34.6661,2,    146.1,2,    147.3,2,   133.46,2,    35.48,2,     0.00,2,     2.51,2,    0.005,2,   -0.001,2,   2316.9,2,   2418.7,2,     7.57,2,   25.00,  1.6177
     3250031_1,   P31,    27,  1,     19,     19,2,19940201,0823,-12.2030,-160.5462, 4846,   2818.6,   1.7678,  34.6699,2,  34.6697,2,    152.0,2,    149.9,2,   133.66,2,    35.29,2,     0.00,2,     2.50,2, -999.000,9, -999.000,9,   2316.4,2,   -999.0,9,     7.58,2,   25.00,  1.5625
     3250031_1,   P31,    27,  1,     18,     18,2,19940201,0823,-12.2030,-160.5462, 4846,   3023.0,   1.6790,  34.6754,2,  34.6744,2,    155.5,2,    155.0,2,   133.64,2,    34.91,2,     0.00,2,     2.48,2, -999.000,9, -999.000,9,   2312.8,2,   2415.1,2,     7.58,2,   25.00,  1.4560
     3250031_1,   P31,    27,  1,     17,     17,2,19940201,0823,-12.2030,-160.5462, 4846,   3224.8,   1.6295,  34.6782,2,  34.6778,2,    160.8,2,    159.7,2,   132.39,2,    34.62,2,     0.00,2,     2.45,2, -999.000,9, -999.000,9,   2297.6,2,   -999.0,9,     7.58,2,   25.00,  1.3879
     3250031_1,   P31,    27,  1,     16,     16,2,19940201,0823,-12.2030,-160.5462, 4846,   3428.8,   1.5833,  34.6817,2,  34.6824,2,    166.3,2,    164.2,2,   130.93,2,    34.29,2,     0.00,2,     2.43,2, -999.000,9, -999.000,9,   2305.0,2,   2415.3,2,     7.59,2,   25.00,  1.3224
     3250031_1,   P31,    27,  1,     15,     15,2,19940201,0823,-12.2030,-160.5462, 4846,   3530.0,   1.5526,  34.6834,2,  34.6838,2,    169.7,2,    167.1,2,   130.30,2,    34.10,2,     0.00,2,     2.42,2, -999.000,9, -999.000,9,   2300.0,2,   -999.0,9,     7.59,2,   25.00,  1.2820
     3250031_1,   P31,    27,  1,     14,     14,2,19940201,0823,-12.2030,-160.5462, 4846,   3631.4,   1.5245,  34.6849,2,  34.6859,2,    170.8,2,    169.7,2,   129.47,2,    33.91,2,     0.00,2,     2.41,2, -999.000,9, -999.000,9,   2298.4,2,   2406.9,2,     7.59,2,   25.00,  1.2441
     3250031_1,   P31,    27,  1,     13,     13,2,19940201,0823,-12.2030,-160.5462, 4846,   3733.5,   1.4948,  34.6867,2,  34.6881,2,    174.4,2,    172.3,2,   128.23,2,    33.62,2,     0.00,2,     2.40,2, -999.000,9, -999.000,9,   2292.7,2,   2404.9,2,     7.60,2,   25.00,  1.2046
     3250031_1,   P31,    27,  1,     12,     12,2,19940201,0823,-12.2030,-160.5462, 4846,   3835.6,   1.4730,  34.6887,2,  34.6887,2,    175.3,2,    175.2,2,   127.40,2,    33.53,2,     0.00,2,     2.40,2, -999.000,9, -999.000,9,   2293.6,2,   2404.1,2,     7.60,2,   25.00,  1.1725
     3250031_1,   P31,    27,  1,     11,     11,2,19940201,0823,-12.2030,-160.5462, 4846,   3936.9,   1.4457,  34.6902,2,  34.6900,2,    178.6,2,    178.3,2,   126.37,2,    33.39,2,     0.00,2,     2.38,2, -999.000,9, -999.000,9,   2287.7,2,   2400.0,2,     7.60,2,   25.00,  1.1351
     3250031_1,   P31,    27,  1,     10,     10,2,19940201,0823,-12.2030,-160.5462, 4846,   4037.8,   1.3987,  34.6932,2,  34.6921,2,    182.2,2,    182.2,2,   126.16,2,    33.25,2,     0.00,2,     2.36,2, -999.000,9, -999.000,9,   2284.1,2,   2396.7,2,     7.60,2,   25.00,  1.0785
     3250031_1,   P31,    27,  1,      9,      9,2,19940201,0823,-12.2030,-160.5462, 4846,   4139.3,   1.3662,  34.6953,2,  34.6947,2,    183.7,2,    184.9,2,   125.74,2,    33.02,2,     0.00,2,     2.36,2, -999.000,9, -999.000,9,   2281.4,2,   2398.6,2,     7.60,2,   25.00,  1.0358
     3250031_1,   P31,    27,  1,      8,      8,2,19940201,0823,-12.2030,-160.5462, 4846,   4240.2,   1.2846,  34.7003,2,  34.6981,2,    188.0,2,    190.4,2,   123.91,2,    32.63,2,     0.00,2,     2.32,2, -999.000,9, -999.000,9,   2274.9,2,   2390.1,2,     7.58,3,   25.00,  0.9454
     3250031_1,   P31,    27,  1,      7,      7,2,19940201,0823,-12.2030,-160.5462, 4846,   4342.1,   1.2475,  34.7024,2,  34.7032,2,    192.1,2,    194.1,2,   122.48,2,    32.34,2,     0.00,2,     2.30,2, -999.000,9, -999.000,9,   2272.2,2,   2385.4,2,     7.61,2,   25.00,  0.8981
     3250031_1,   P31,    27,  1,      6,      6,2,19940201,0823,-12.2030,-160.5462, 4846,   4444.4,   1.2352,  34.7027,2,  34.7044,2,    195.2,2,    195.3,2,   122.07,2,    32.40,2,     0.00,2,     2.30,2,    0.010,2,    0.004,2,   2271.7,2,   2393.9,2,     7.61,2,   25.00,  0.8747
     3250031_1,   P31,    27,  1,      5,      5,2,19940201,0823,-12.2030,-160.5462, 4846,   4547.3,   1.2211,  34.7038,2,  34.7047,2,    197.8,2,    196.8,2,   121.85,2,    32.26,2,     0.00,2,     2.30,2,    0.005,2,   -0.001,2,   2269.2,2,   2385.9,2,     7.61,2,   25.00,  0.8493
     3250031_1,   P31,    27,  1,      4,      4,2,19940201,0823,-12.2030,-160.5462, 4846,   4650.3,   1.2223,  34.7048,2,  34.7051,2,    199.1,2,    197.7,2,   121.24,2,    32.32,2,     0.00,2,     2.29,2,    0.005,2,    0.000,2,   2268.1,2,   2386.7,2,     7.61,2,   25.00,  0.8386
     3250031_1,   P31,    27,  1,      3,      3,2,19940201,0823,-12.2030,-160.5462, 4846,   4750.8,   1.2304,  34.7050,2,  34.7057,2,    197.3,2,    197.9,2,   121.03,2,    32.38,2,     0.00,2,     2.29,2,    0.008,2,   -0.001,2,   2266.5,2,   2381.0,2,     7.61,2,   25.00,  0.8347
     3250031_1,   P31,    27,  1,      2,      2,2,19940201,0823,-12.2030,-160.5462, 4846,   4853.7,   1.2418,  34.7050,2,  34.7067,2,    196.9,3,    198.1,2,   120.61,2,    32.33,2,     0.00,2,     2.29,2,    0.006,2,    0.004,2,   2263.7,2,   2381.3,2,     7.61,2,   25.00,  0.8336
     3250031_1,   P31,    27,  1,      1,      1,2,19940201,0823,-12.2030,-160.5462, 4846,   4933.5,   1.2470,  34.7049,2,  34.7052,2,    197.1,2,    198.3,2,   120.60,2,    32.29,2,     0.00,2,     2.29,2,    0.004,2,   -0.001,2,   2266.8,2,   2382.0,2,     7.61,2,   25.00,  0.8292