BOTTLE,20020814WHPSIOdm
EXPOCODE,SECT_ID,STNNBR,CASTNO,SAMPNO,BTLNBR,BTLNBR_FLAG_W,DATE,TIME,LATITUDE,LONGITUDE,DEPTH,CTDPRS,CTDTMP,CTDSAL,CTDSAL_FLAG_W,SALNTY,SALNTY_FLAG_W,CTDOXY,CTDOXY_FLAG_W,OXYGEN,OXYGEN_FLAG_W,SILCAT,SILCAT_FLAG_W,NITRAT,NITRAT_FLAG_W,NITRIT,NITRIT_FLAG_W,PHSPHT,PHSPHT_FLAG_W,CFC-11,CFC-11_FLAG_W,CFC-12,CFC-12_FLAG_W,TCARBN,TCARBN_FLAG_W,ALKALI,ALKALI_FLAG_W,PH,PH_FLAG_W,PHTEMP,THETA
,,,,,,,,,,,,DBAR,ITS-90,PSS-78,,PSS-78,,UMOL/KG,,UMOL/KG,,UMOL/KG,,UMOL/KG,,UMOL/KG,,UMOL/KG,,PMOL/KG,,PMOL/KG,,UMOL/KG,,UMOL/KG,,,,DEG C,DEG C
     3250031_1,   P31,    32,  1,     25,     25,2,19940202,0823,-11.4503,-162.4025, 2611,      2.3,  29.8031,  34.9224,2,  34.9231,2,    191.5,2,    193.3,2,     1.35,2,     0.00,2,     0.00,2,     0.19,2,    1.613,2,    0.902,2,   1928.0,2,   2300.2,2,     8.16,2,   25.00, 29.8026
     3250031_1,   P31,    32,  1,     24,     24,2,19940202,0823,-11.4503,-162.4025, 2611,     10.2,  29.7116,  34.9494,2,  34.9312,2,    187.1,2,    193.2,2,     1.52,2,     0.00,2,     0.00,2,     0.18,2,    1.585,2,    0.850,2,   1926.3,2,   2301.3,2,     8.16,2,   25.00, 29.7091
     3250031_1,   P31,    32,  1,     23,     23,2,19940202,0823,-11.4503,-162.4025, 2611,     55.5,  28.8416,  35.9034,4,  35.8019,2,   -999.0,5,    200.6,2,     1.32,2,     0.00,2,     0.00,2,     0.18,2,    1.649,2,    0.800,3,   1972.6,2,   2359.4,2,     8.15,2,   25.00, 28.8282
     3250031_1,   P31,    32,  1,     22,     22,2,19940202,0823,-11.4503,-162.4025, 2611,    105.9,  27.2042,  36.2300,2,  36.2116,2,    203.5,2,    202.1,2,     1.30,2,     0.00,2,     0.00,2,     0.22,2,    1.740,6,    0.937,6,   2011.3,2,   2397.7,2,     8.13,2,   25.00, 27.1797
     3250031_1,   P31,    32,  1,     21,     21,2,19940202,0823,-11.4503,-162.4025, 2611,    206.3,  20.4021,  35.8847,2,  35.9033,2,    166.8,2,    167.0,2,     1.84,2,     4.85,2,     0.02,2,     0.59,2,    1.882,2,    0.958,2,   2092.3,2,   -999.0,9,     7.97,2,   25.00, 20.3632
     3250031_1,   P31,    32,  1,     20,     20,2,19940202,0823,-11.4503,-162.4025, 2611,    307.4,  14.0063,  35.0157,2,  35.0015,2,    117.9,2,    119.9,2,     9.52,2,    16.16,2,     0.00,2,     1.41,2,    1.113,3,    0.524,3,   2150.6,2,   2311.7,2,     7.76,2,   25.00, 13.9617
     3250031_1,   P31,    32,  1,     19,     19,2,19940202,0823,-11.4503,-162.4025, 2611,    407.0,   9.1361,  34.6364,2,  34.6360,2,     86.0,2,     87.0,2,    26.00,2,    29.84,2,     0.00,2,     2.18,2,    0.126,2,    0.070,2,   2214.8,2,   -999.0,9,     7.56,2,   25.00,  9.0912
     3250031_1,   P31,    32,  1,     18,     18,2,19940202,0823,-11.4503,-162.4025, 2611,    507.9,   7.2347,  34.5667,2,  34.5690,2,     96.5,2,     96.6,2,    38.64,2,    34.12,2,     0.00,2,     2.36,2,    0.032,2,    0.025,2,   2230.0,2,   2309.4,2,     7.54,2,   25.00,  7.1855
     3250031_1,   P31,    32,  1,     17,     17,2,19940202,0823,-11.4503,-162.4025, 2611,    609.3,   6.2324,  34.5306,2,  34.5313,2,     98.3,2,     95.9,2,    47.80,2,    36.40,2,     0.00,2,     2.51,2,    0.008,2,   -0.003,2,   2244.1,2,   -999.0,9,     7.51,2,   25.00,  6.1776
     3250031_1,   P31,    32,  1,     16,     16,2,19940202,0823,-11.4503,-162.4025, 2611,    710.4,   5.7951,  34.5171,2,  34.5196,2,    100.8,2,    101.1,2,    51.65,2,    36.60,2,     0.00,2,     2.54,2,    0.020,4,   -0.001,2,   2249.2,2,   2320.8,2,     7.52,2,   25.00,  5.7331
     3250031_1,   P31,    32,  1,     15,     15,2,19940202,0823,-11.4503,-162.4025, 2611,    810.2,   5.2874,  34.5077,2,  34.5096,2,    109.1,2,    108.8,2,    57.90,2,    36.76,2,     0.00,2,     2.56,2,    0.009,2,   -0.001,2,   2250.5,2,   2326.8,2,     7.52,2,   25.00,  5.2192
     3250031_1,   P31,    32,  1,     14,     14,2,19940202,0823,-11.4503,-162.4025, 2611,    911.9,   4.8005,  34.5171,2,  34.5165,2,    109.2,2,    110.4,2,    66.56,2,    37.11,2,     0.00,2,     2.59,2, -999.000,9, -999.000,9,   2261.4,2,   -999.0,9,     7.52,2,   25.00,  4.7265
     3250031_1,   P31,    32,  1,     13,     13,2,19940202,0823,-11.4503,-162.4025, 2611,   1012.2,   4.2281,  34.5260,2,  34.5277,2,    115.2,2,    114.2,2,    76.38,2,    37.32,2,     0.00,2,     2.61,2,    0.003,2,    0.014,2,   2271.5,2,   2345.5,2,     7.52,2,   25.00,  4.1496
     3250031_1,   P31,    32,  1,     12,     12,2,19940202,0823,-11.4503,-162.4025, 2611,   1213.7,   3.6129,  34.5543,2,  34.5538,2,    116.9,2,    119.3,2,    89.65,2,    37.27,2,     0.00,2,     2.61,2, -999.000,9, -999.000,9,   2285.7,2,   -999.0,9,     7.53,2,   25.00,  3.5227
     3250031_1,   P31,    32,  1,     11,     11,2,19940202,0823,-11.4503,-162.4025, 2611,   1416.4,   3.1233,  34.5753,2,  34.5755,2,    127.2,2,    128.1,2,   100.06,2,    36.73,2,     0.00,2,     2.57,2, -999.000,9, -999.000,9,   2290.6,2,   2370.2,2,     7.54,2,   25.00,  3.0211
     3250031_1,   P31,    32,  1,     10,     10,2,19940202,0823,-11.4503,-162.4025, 2611,   1618.4,   2.7266,  34.5951,2,  34.5957,2,    134.4,2,    134.1,2,   107.54,2,    36.49,2,     0.00,2,     2.55,2, -999.000,9, -999.000,9,   2298.9,2,   -999.0,9,     7.55,2,   25.00,  2.6121
     3250031_1,   P31,    32,  1,      9,      9,2,19940202,0823,-11.4503,-162.4025, 2611,   1821.4,   2.3325,  34.6193,2,  34.6195,2,    142.9,2,    143.4,2,   113.76,2,    35.99,2,     0.00,2,     2.51,2, -999.000,9, -999.000,9,   2302.8,2,   2390.7,2,     7.56,2,   25.00,  2.2062
     3250031_1,   P31,    32,  1,      8,      8,2,19940202,0823,-11.4503,-162.4025, 2611,   2024.9,   2.0955,  34.6383,2,  34.6394,2,    144.2,2,    146.3,2,   120.26,2,    35.80,2,     0.00,2,     2.49,2,    0.005,2,   -0.005,2,   2307.3,2,   -999.0,9,     7.57,2,   25.00,  1.9554
     3250031_1,   P31,    32,  1,      7,      7,2,19940202,0823,-11.4503,-162.4025, 2611,   2125.9,   2.0357,  34.6433,2,  34.6447,2,    146.4,2,    146.9,2,   122.05,2,    35.81,2,     0.00,2,     2.49,2, -999.000,9, -999.000,9,   2308.7,2,   2402.9,2,     7.57,2,   25.00,  1.8880
     3250031_1,   P31,    32,  1,      6,      6,2,19940202,0823,-11.4503,-162.4025, 2611,   2227.6,   2.0016,  34.6475,2,  34.6479,2,    147.6,2,    147.0,2,   123.24,2,    35.81,2,     0.00,2,     2.49,2, -999.000,9, -999.000,9,   2307.7,2,   -999.0,9,     7.57,2,   25.00,  1.8456
     3250031_1,   P31,    32,  1,     51,     51,2,19940202,0823,-11.4503,-162.4025, 2611,   2327.8,   1.9706,  34.6508,2,  34.6534,3,    145.8,2,    146.3,2,   125.03,2,    35.78,2,     0.00,2,     2.49,2,    0.003,2,   -0.005,2,   2312.8,2,   2407.1,2,     7.57,2,   25.00,  1.8064
     3250031_1,   P31,    32,  1,      5,      5,2,19940202,0823,-11.4503,-162.4025, 2611,   2329.1,   1.9706,  34.6511,2,  34.6516,2,    146.4,2,    146.5,2,   125.24,2,    35.87,2,     0.00,2,     2.49,2,    0.017,3,    0.020,3,   2311.4,2,   1984.5,4,     7.57,2,   25.00,  1.8063
     3250031_1,   P31,    32,  1,      3,      3,2,19940202,0823,-11.4503,-162.4025, 2611,   2430.3,   1.9216,  34.6558,2,  34.6554,2,    148.4,2,    146.5,2,   127.25,2,    35.83,2,     0.00,2,     2.49,2, -999.000,9, -999.000,9,   2314.0,2,   -999.0,9,     7.57,2,   25.00,  1.7490
     3250031_1,   P31,    32,  1,      2,      2,2,19940202,0823,-11.4503,-162.4025, 2611,   2532.2,   1.8568,  34.6616,2,  34.6609,2,    147.5,2,    147.3,2,   129.68,2,    35.79,2,     0.00,2,     2.50,2, -999.000,9, -999.000,9,   2312.8,2,   2414.9,2,     7.57,2,   25.00,  1.6763
     3250031_1,   P31,    32,  1,      1,      1,2,19940202,0823,-11.4503,-162.4025, 2611,   2619.7,   1.8156,  34.6649,2,  34.6655,2,    151.3,2,    148.3,2,   130.49,2,    35.79,2,     0.00,2,     2.49,2,    0.010,2,   -0.004,2,   2317.2,2,   2418.6,2,  -999.00,9, -999.00,  1.6278
     3250031_1,   P31,    33,  1,     26,     26,2,19940202,1237,-11.2862,-162.8008, 2665,      2.8,  29.7413,  34.8938,2,  34.8940,2,    200.4,2,    197.6,2,     1.50,2,     0.00,2,     0.00,2,     0.18,2, -999.000,9, -999.000,9,   -999.0,9,   -999.0,9,  -999.00,9, -999.00, 29.7406
     3250031_1,   P31,    33,  1,     25,     25,2,19940202,1237,-11.2862,-162.8008, 2665,     16.6,  29.5919,  34.9516,2,  34.9632,2,    198.6,2,    197.2,2,     1.30,2,     0.00,2,     0.00,2,     0.18,2, -999.000,9, -999.000,9,   -999.0,9,   -999.0,9,  -999.00,9, -999.00, 29.5878
     3250031_1,   P31,    33,  1,     24,     24,2,19940202,1237,-11.2862,-162.8008, 2665,     56.7,  28.9703,  35.8767,2,  35.8836,2,    206.1,2,    207.1,2,     1.10,2,     0.00,2,     0.00,2,     0.19,2, -999.000,9, -999.000,9,   -999.0,9,   -999.0,9,  -999.00,9, -999.00, 28.9566
     3250031_1,   P31,    33,  1,     23,     23,2,19940202,1237,-11.2862,-162.8008, 2665,    106.3,  27.3244,  36.1074,2,  36.1033,2,    206.9,2,    204.8,2,     0.89,2,     0.00,2,     0.00,2,     0.21,2, -999.000,9, -999.000,9,   -999.0,9,   -999.0,9,  -999.00,9, -999.00, 27.2997
     3250031_1,   P31,    33,  1,     22,     22,2,19940202,1237,-11.2862,-162.8008, 2665,    206.4,  21.9050,  36.1059,2,  36.1017,2,    165.6,2,    166.1,2,     1.43,2,     4.41,2,     0.03,2,     0.56,2, -999.000,9, -999.000,9,   -999.0,9,   -999.0,9,  -999.00,9, -999.00, 21.8640
     3250031_1,   P31,    33,  1,     21,     21,2,19940202,1237,-11.2862,-162.8008, 2665,    306.2,  13.5703,  34.9599,2,  34.9563,2,    128.5,2,    119.2,2,    10.04,2,    17.08,2,     0.00,2,     1.46,2, -999.000,9, -999.000,9,   -999.0,9,   -999.0,9,  -999.00,9, -999.00, 13.5268
     3250031_1,   P31,    33,  1,     20,     20,2,19940202,1237,-11.2862,-162.8008, 2665,    407.3,   8.9742,  34.6298,2,  34.6295,2,     89.6,2,     89.5,2,    26.73,2,    30.24,2,     0.00,2,     2.19,2, -999.000,9, -999.000,9,   -999.0,9,   -999.0,9,  -999.00,9, -999.00,  8.9297
     3250031_1,   P31,    33,  1,     19,     19,3,19940202,1237,-11.2862,-162.8008, 2665,    508.1,   7.4447,  34.5706,2,  34.7355,4,    102.5,2,    109.3,4,    30.01,4,    28.87,4,     0.00,4,     2.04,4, -999.000,9, -999.000,9,   -999.0,9,   -999.0,9,  -999.00,9, -999.00,  7.3946
     3250031_1,   P31,    33,  1,     18,     18,2,19940202,1237,-11.2862,-162.8008, 2665,    608.7,   6.3281,  34.5271,2,  34.5282,2,    101.0,2,    103.7,2,    45.05,2,    35.41,2,     0.00,2,     2.46,2, -999.000,9, -999.000,9,   -999.0,9,   -999.0,9,  -999.00,9, -999.00,  6.2729
     3250031_1,   P31,    33,  1,     17,     17,2,19940202,1237,-11.2862,-162.8008, 2665,    710.1,   5.6724,  34.5182,2,  34.5190,2,    101.0,2,     99.6,2,    54.22,2,    36.95,2,     0.00,2,     2.58,2, -999.000,9, -999.000,9,   -999.0,9,   -999.0,9,  -999.00,9, -999.00,  5.6110
     3250031_1,   P31,    33,  1,     16,     16,2,19940202,1237,-11.2862,-162.8008, 2665,    811.0,   5.1297,  34.5156,2,  34.5174,2,    103.6,2,    101.9,2,    61.94,2,    37.60,2,     0.00,2,     2.62,2, -999.000,9, -999.000,9,   -999.0,9,   -999.0,9,  -999.00,9, -999.00,  5.0624
     3250031_1,   P31,    33,  1,     15,     15,2,19940202,1237,-11.2862,-162.8008, 2665,    911.9,   4.6879,  34.5173,2,  34.5176,2,    108.2,2,    108.5,2,    68.74,2,    37.50,2,     0.00,2,     2.62,2, -999.000,9, -999.000,9,   -999.0,9,   -999.0,9,  -999.00,9, -999.00,  4.6146
     3250031_1,   P31,    33,  1,     14,     14,2,19940202,1237,-11.2862,-162.8008, 2665,   1013.2,   4.2936,  34.5245,2,  34.5262,2,    114.1,2,    114.2,2,    75.39,2,    37.25,2,     0.00,2,     2.61,2, -999.000,9, -999.000,9,   -999.0,9,   -999.0,9,  -999.00,9, -999.00,  4.2145
     3250031_1,   P31,    33,  1,     13,     13,2,19940202,1237,-11.2862,-162.8008, 2665,   1215.9,   3.6475,  34.5544,2,  34.5551,2,    120.3,2,    120.0,2,    90.88,2,    37.10,2,     0.00,2,     2.61,2, -999.000,9, -999.000,9,   -999.0,9,   -999.0,9,  -999.00,9, -999.00,  3.5567
     3250031_1,   P31,    33,  1,     12,     12,2,19940202,1237,-11.2862,-162.8008, 2665,   1417.1,   3.0840,  34.5774,2,  34.5771,2,    128.0,2,    129.2,2,   100.89,2,    36.71,2,     0.00,2,     2.58,2, -999.000,9, -999.000,9,   -999.0,9,   -999.0,9,  -999.00,9, -999.00,  2.9821
     3250031_1,   P31,    33,  1,     11,     11,2,19940202,1237,-11.2862,-162.8008, 2665,   1618.3,   2.6271,  34.6021,2,  34.6012,2,    134.0,2,    135.3,2,   110.29,2,    36.51,2,     0.00,2,     2.55,2, -999.000,9, -999.000,9,   -999.0,9,   -999.0,9,  -999.00,9, -999.00,  2.5138
     3250031_1,   P31,    33,  1,     10,     10,2,19940202,1237,-11.2862,-162.8008, 2665,   1823.0,   2.3473,  34.6215,2,  34.6209,2,    138.1,2,    139.2,2,   117.68,2,    36.31,2,     0.00,2,     2.54,2, -999.000,9, -999.000,9,   -999.0,9,   -999.0,9,  -999.00,9, -999.00,  2.2206
     3250031_1,   P31,    33,  1,      9,      9,2,19940202,1237,-11.2862,-162.8008, 2665,   2026.1,   2.1512,  34.6361,2,  34.6362,2,    140.9,2,    141.3,2,   122.19,2,    36.17,2,     0.00,2,     2.52,2, -999.000,9, -999.000,9,   -999.0,9,   -999.0,9,  -999.00,9, -999.00,  2.0102
     3250031_1,   P31,    33,  1,      8,      8,2,19940202,1237,-11.2862,-162.8008, 2665,   2126.4,   2.0534,  34.6441,2,  34.6433,2,    142.4,2,    142.3,2,   125.75,2,    36.17,2,     0.00,2,     2.52,2, -999.000,9, -999.000,9,   -999.0,9,   -999.0,9,  -999.00,9, -999.00,  1.9053
     3250031_1,   P31,    33,  1,      7,      7,2,19940202,1237,-11.2862,-162.8008, 2665,   2229.3,   1.9835,  34.6501,2,  34.6506,2,    144.0,2,    143.6,2,   127.11,2,    36.07,2,     0.00,2,     2.51,2, -999.000,9, -999.000,9,   -999.0,9,   -999.0,9,  -999.00,9, -999.00,  1.8277
     3250031_1,   P31,    33,  1,      6,      6,2,19940202,1237,-11.2862,-162.8008, 2665,   2330.4,   1.9320,  34.6548,2,  34.6551,2,    145.1,2,    145.1,2,   128.48,2,    35.92,2,     0.00,2,     2.51,2, -999.000,9, -999.000,9,   -999.0,9,   -999.0,9,  -999.00,9, -999.00,  1.7681
     3250031_1,   P31,    33,  1,      5,      5,2,19940202,1237,-11.2862,-162.8008, 2665,   2431.2,   1.8778,  34.6598,2,  34.6596,2,    147.1,2,    146.1,2,   130.26,2,    35.88,2,     0.00,2,     2.50,2, -999.000,9, -999.000,9,   -999.0,9,   -999.0,9,  -999.00,9, -999.00,  1.7060
     3250031_1,   P31,    33,  1,     51,     51,3,19940202,1237,-11.2862,-162.8008, 2665,   2431.6,   1.8775,  34.6597,2,  34.6531,4,    147.1,2,    143.7,4,   127.17,4,    36.07,4,     0.01,4,     2.51,4, -999.000,9, -999.000,9,   -999.0,9,   -999.0,9,  -999.00,9, -999.00,  1.7056
     3250031_1,   P31,    33,  1,      3,      3,2,19940202,1237,-11.2862,-162.8008, 2665,   2532.4,   1.8457,  34.6623,2,  34.6616,2,    145.3,2,    148.0,2,   130.37,2,    35.83,2,     0.00,2,     2.49,2, -999.000,9, -999.000,9,   -999.0,9,   -999.0,9,  -999.00,9, -999.00,  1.6654
     3250031_1,   P31,    33,  1,      2,      2,2,19940202,1237,-11.2862,-162.8008, 2665,   2633.3,   1.8002,  34.6666,2,  34.6659,2,    149.4,2,    148.7,2,   131.34,2,    35.88,2,     0.00,2,     2.48,2, -999.000,9, -999.000,9,   -999.0,9,   -999.0,9,  -999.00,9, -999.00,  1.6114
     3250031_1,   P31,    33,  1,      1,      1,2,19940202,1237,-11.2862,-162.8008, 2665,   2675.7,   1.7981,  34.6670,2,  34.6677,2,    150.7,2,    149.4,2,   131.90,2,    35.88,2,     0.00,2,     2.49,2, -999.000,9, -999.000,9,   -999.0,9,   -999.0,9,  -999.00,9, -999.00,  1.6055