BOTTLE,20020814WHPSIOdm
EXPOCODE,SECT_ID,STNNBR,CASTNO,SAMPNO,BTLNBR,BTLNBR_FLAG_W,DATE,TIME,LATITUDE,LONGITUDE,DEPTH,CTDPRS,CTDTMP,CTDSAL,CTDSAL_FLAG_W,SALNTY,SALNTY_FLAG_W,CTDOXY,CTDOXY_FLAG_W,OXYGEN,OXYGEN_FLAG_W,SILCAT,SILCAT_FLAG_W,NITRAT,NITRAT_FLAG_W,NITRIT,NITRIT_FLAG_W,PHSPHT,PHSPHT_FLAG_W,CFC-11,CFC-11_FLAG_W,CFC-12,CFC-12_FLAG_W,TCARBN,TCARBN_FLAG_W,ALKALI,ALKALI_FLAG_W,PH,PH_FLAG_W,PHTEMP,THETA
,,,,,,,,,,,,DBAR,ITS-90,PSS-78,,PSS-78,,UMOL/KG,,UMOL/KG,,UMOL/KG,,UMOL/KG,,UMOL/KG,,UMOL/KG,,PMOL/KG,,PMOL/KG,,UMOL/KG,,UMOL/KG,,,,DEG C,DEG C
     3250031_1,   P31,    21,  1,     36,     36,2,19940130,2041,-13.3155,-157.7923, 5250,      1.7,  29.4700,  35.7866,2,  35.7869,2,    184.3,2,    193.2,2,     1.73,2,     0.15,2,     0.00,2,     0.19,2, -999.000,9, -999.000,9,   -999.0,9,   -999.0,9,  -999.00,9, -999.00, 29.4695
     3250031_1,   P31,    21,  1,     35,     35,2,19940130,2041,-13.3155,-157.7923, 5250,     15.7,  29.3613,  35.8184,2,  35.8080,2,    189.9,2,    193.4,2,     1.53,2,     0.10,2,     0.00,2,     0.19,2, -999.000,9, -999.000,9,   -999.0,9,   -999.0,9,  -999.00,9, -999.00, 29.3575
     3250031_1,   P31,    21,  1,     34,     34,2,19940130,2041,-13.3155,-157.7923, 5250,     55.4,  28.4369,  36.0747,2,  36.0703,2,    169.4,2,    204.6,2,     1.51,2,     0.11,2,     0.00,2,     0.18,2, -999.000,9, -999.000,9,   -999.0,9,   -999.0,9,  -999.00,9, -999.00, 28.4236
     3250031_1,   P31,    21,  1,     33,     33,2,19940130,2041,-13.3155,-157.7923, 5250,    105.2,  25.1716,  36.0811,2,  36.0794,2,    192.6,2,    193.5,2,     1.31,2,     0.11,2,     0.00,2,     0.23,2, -999.000,9, -999.000,9,   -999.0,9,   -999.0,9,  -999.00,9, -999.00, 25.1486
     3250031_1,   P31,    21,  1,     32,     32,2,19940130,2041,-13.3155,-157.7923, 5250,    204.6,  21.2175,  35.9657,2,  35.9497,2,    173.5,2,    166.7,2,     1.67,2,     4.65,2,     0.01,2,     0.55,2, -999.000,9, -999.000,9,   -999.0,9,   -999.0,9,  -999.00,9, -999.00, 21.1778
     3250031_1,   P31,    21,  1,     31,     31,2,19940130,2041,-13.3155,-157.7923, 5250,    303.8,  15.6308,  35.2002,2,  35.2019,2,    160.8,2,    152.1,2,     5.36,2,    11.28,2,     0.00,2,     1.01,2, -999.000,9, -999.000,9,   -999.0,9,   -999.0,9,  -999.00,9, -999.00, 15.5832
     3250031_1,   P31,    21,  1,     30,     30,2,19940130,2041,-13.3155,-157.7923, 5250,    401.0,  10.2680,  34.6650,2,  34.6672,2,    112.9,2,    110.1,2,    18.12,2,    24.47,2,     0.00,2,     1.88,2, -999.000,9, -999.000,9,   -999.0,9,   -999.0,9,  -999.00,9, -999.00, 10.2204
     3250031_1,   P31,    21,  1,     29,     29,2,19940130,2041,-13.3155,-157.7923, 5250,    601.9,   6.4962,  34.4806,2,  34.4804,2,    145.5,2,    146.3,2,    34.41,2,    30.45,2,     0.00,2,     2.14,2, -999.000,9, -999.000,9,   -999.0,9,   -999.0,9,  -999.00,9, -999.00,  6.4410
     3250031_1,   P31,    21,  1,     28,     28,2,19940130,2041,-13.3155,-157.7923, 5250,    804.6,   4.9984,  34.4882,2,  34.4881,2,    133.8,2,    135.2,2,    56.49,2,    33.99,2,     0.00,2,     2.40,2, -999.000,9, -999.000,9,   -999.0,9,   -999.0,9,  -999.00,9, -999.00,  4.9325
     3250031_1,   P31,    21,  1,     27,     27,2,19940130,2041,-13.3155,-157.7923, 5250,   1004.8,   4.1315,  34.5153,2,  34.5156,2,    130.6,2,    132.7,2,    73.45,2,    35.24,2,     0.00,2,     2.50,2, -999.000,9, -999.000,9,   -999.0,9,   -999.0,9,  -999.00,9, -999.00,  4.0544
     3250031_1,   P31,    21,  1,     26,     26,2,19940130,2041,-13.3155,-157.7923, 5250,   1251.8,   3.3836,  34.5494,2,  34.5502,2,    135.7,2,    135.5,2,    88.33,2,    35.70,2,     0.00,2,     2.52,2, -999.000,9, -999.000,9,   -999.0,9,   -999.0,9,  -999.00,9, -999.00,  3.2923
     3250031_1,   P31,    21,  1,     25,     25,2,19940130,2041,-13.3155,-157.7923, 5250,   1503.4,   2.7572,  34.5888,2,  34.5902,2,    138.1,2,    138.6,2,   103.25,2,    35.92,2,     0.00,2,     2.53,2, -999.000,9, -999.000,9,   -999.0,9,   -999.0,9,  -999.00,9, -999.00,  2.6518
     3250031_1,   P31,    21,  1,     24,     24,2,19940130,2041,-13.3155,-157.7923, 5250,   1753.6,   2.3632,  34.6148,2,  34.6166,2,    147.5,2,    145.7,2,   111.42,2,    35.64,2,     0.00,2,     2.50,2, -999.000,9, -999.000,9,   -999.0,9,   -999.0,9,  -999.00,9, -999.00,  2.2421
     3250031_1,   P31,    21,  1,     23,     23,2,19940130,2041,-13.3155,-157.7923, 5250,   2007.3,   2.1163,  34.6350,2,  34.6357,2,    149.7,2,    148.3,2,   118.52,2,    35.52,2,     0.00,2,     2.49,2, -999.000,9, -999.000,9,   -999.0,9,   -999.0,9,  -999.00,9, -999.00,  1.9775
     3250031_1,   P31,    21,  1,     22,     22,2,19940130,2041,-13.3155,-157.7923, 5250,   2260.8,   1.9550,  34.6511,2,  34.6522,2,    153.3,2,    149.9,2,   123.72,2,    35.19,2,     0.00,2,     2.48,2, -999.000,9, -999.000,9,   -999.0,9,   -999.0,9,  -999.00,9, -999.00,  1.7968
     3250031_1,   P31,    21,  1,     21,     21,2,19940130,2041,-13.3155,-157.7923, 5250,   2517.3,   1.8609,  34.6618,2,  34.6620,2,    149.1,2,    149.5,2,   127.96,2,    35.21,2,     0.00,2,     2.48,2, -999.000,9, -999.000,9,   -999.0,9,   -999.0,9,  -999.00,9, -999.00,  1.6816
     3250031_1,   P31,    21,  1,     20,     20,2,19940130,2041,-13.3155,-157.7923, 5250,   2770.3,   1.7701,  34.6697,2,  34.6703,2,    152.1,2,    151.1,2,   130.82,2,    35.18,2,     0.00,2,     2.48,2, -999.000,9, -999.000,9,   -999.0,9,   -999.0,9,  -999.00,9, -999.00,  1.5693
     3250031_1,   P31,    21,  1,     19,     19,2,19940130,2041,-13.3155,-157.7923, 5250,   3024.4,   1.6920,  34.6754,2,  34.6756,2,    154.4,2,    155.9,2,   131.01,2,    35.01,2,     0.00,2,     2.46,2, -999.000,9, -999.000,9,   -999.0,9,   -999.0,9,  -999.00,9, -999.00,  1.4687
     3250031_1,   P31,    21,  1,     18,     18,2,19940130,2041,-13.3155,-157.7923, 5250,   3227.7,   1.6312,  34.6786,2,  34.6796,2,    161.2,2,    161.0,2,   130.38,2,    34.68,2,     0.00,2,     2.44,2, -999.000,9, -999.000,9,   -999.0,9,   -999.0,9,  -999.00,9, -999.00,  1.3893
     3250031_1,   P31,    21,  1,     17,     17,2,19940130,2041,-13.3155,-157.7923, 5250,   3429.7,   1.5721,  34.6824,2,  34.6813,2,    167.6,2,    167.1,2,   128.53,2,    34.31,2,     0.00,2,     2.41,2, -999.000,9, -999.000,9,   -999.0,9,   -999.0,9,  -999.00,9, -999.00,  1.3114
     3250031_1,   P31,    21,  1,     16,     16,2,19940130,2041,-13.3155,-157.7923, 5250,   3633.4,   1.5035,  34.6866,2,  34.6861,2,    171.3,2,    173.4,2,   126.49,2,    33.93,2,     0.00,2,     2.37,2, -999.000,9, -999.000,9,   -999.0,9,   -999.0,9,  -999.00,9, -999.00,  1.2235
     3250031_1,   P31,    21,  1,     15,     15,2,19940130,2041,-13.3155,-157.7923, 5250,   3734.3,   1.4764,  34.6885,2,  34.6884,2,    175.3,2,    176.2,2,   126.07,2,    33.60,2,     0.00,2,     2.36,2, -999.000,9, -999.000,9,   -999.0,9,   -999.0,9,  -999.00,9, -999.00,  1.1866
     3250031_1,   P31,    21,  1,     14,     14,2,19940130,2041,-13.3155,-157.7923, 5250,   3835.8,   1.4573,  34.6902,2,  34.6910,2,    175.2,2,    176.1,2,   127.28,2,    33.77,2,     0.00,2,     2.37,2,    0.008,2,    0.000,2,   -999.0,9,   -999.0,9,  -999.00,9, -999.00,  1.1572
     3250031_1,   P31,    21,  1,     13,     13,2,19940130,2041,-13.3155,-157.7923, 5250,   3937.6,   1.4334,  34.6915,2,  34.6924,2,    178.4,2,    178.0,2,   126.86,2,    33.64,2,     0.00,2,     2.36,2, -999.000,9, -999.000,9,   -999.0,9,   -999.0,9,  -999.00,9, -999.00,  1.1231
     3250031_1,   P31,    21,  1,     12,     12,2,19940130,2041,-13.3155,-157.7923, 5250,   4039.8,   1.4217,  34.6927,2,  34.6932,2,    178.2,2,    179.2,2,   126.65,2,    33.61,2,     0.00,2,     2.35,2,    0.007,2,   -0.008,2,   -999.0,9,   -999.0,9,  -999.00,9, -999.00,  1.1007
     3250031_1,   P31,    21,  1,     11,     11,2,19940130,2041,-13.3155,-157.7923, 5250,   4141.4,   1.4071,  34.6937,2,  34.6930,2,    179.7,2,    181.1,2,   126.24,2,    33.49,2,     0.00,2,     2.34,2, -999.000,9, -999.000,9,   -999.0,9,   -999.0,9,  -999.00,9, -999.00,  1.0753
     3250031_1,   P31,    21,  1,     10,     10,2,19940130,2041,-13.3155,-157.7923, 5250,   4242.5,   1.3902,  34.6955,2,  34.6948,2,    184.5,2,    182.7,2,   125.41,2,    33.36,2,     0.00,2,     2.33,2,    0.015,3,   -0.008,2,   -999.0,9,   -999.0,9,  -999.00,9, -999.00,  1.0477
     3250031_1,   P31,    21,  1,      9,      9,2,19940130,2041,-13.3155,-157.7923, 5250,   4345.1,   1.3690,  34.6968,2,  34.6968,2,    185.1,2,    184.7,2,   125.20,2,    33.23,2,     0.00,2,     2.33,2, -999.000,9, -999.000,9,   -999.0,9,   -999.0,9,  -999.00,9, -999.00,  1.0156
     3250031_1,   P31,    21,  1,      8,      8,2,19940130,2041,-13.3155,-157.7923, 5250,   4446.1,   1.3463,  34.6982,2,  34.6986,2,    186.8,2,    187.3,2,   124.59,2,    33.00,2,     0.00,2,     2.31,2, -999.000,9, -999.000,9,   -999.0,9,   -999.0,9,  -999.00,9, -999.00,  0.9822
     3250031_1,   P31,    21,  1,      7,      7,2,19940130,2041,-13.3155,-157.7923, 5250,   4547.5,   1.3149,  34.7008,2,  34.7013,2,    190.5,2,    190.8,2,   123.16,2,    32.77,2,     0.00,2,     2.29,2, -999.000,9, -999.000,9,   -999.0,9,   -999.0,9,  -999.00,9, -999.00,  0.9402
     3250031_1,   P31,    21,  1,      6,      6,2,19940130,2041,-13.3155,-157.7923, 5250,   4649.1,   1.3038,  34.7016,2,  34.7027,2,    191.9,2,    192.5,2,   122.55,2,    32.69,2,     0.00,2,     2.28,2,    0.007,2,   -0.006,2,   -999.0,9,   -999.0,9,  -999.00,9, -999.00,  0.9177
     3250031_1,   P31,    21,  1,      5,      5,2,19940130,2041,-13.3155,-157.7923, 5250,   4752.8,   1.2909,  34.7027,2,  34.7033,2,    193.5,2,    194.6,2,   121.94,2,    32.56,2,     0.00,2,     2.27,2,    0.004,2,   -0.005,2,   -999.0,9,   -999.0,9,  -999.00,9, -999.00,  0.8931
     3250031_1,   P31,    21,  1,      4,      4,2,19940130,2041,-13.3155,-157.7923, 5250,   4854.7,   1.2834,  34.7041,2,  34.7038,2,    194.9,2,    195.0,2,   121.53,2,    32.48,2,     0.00,2,     2.27,2,    0.004,2,   -0.006,2,   -999.0,9,   -999.0,9,  -999.00,9, -999.00,  0.8737
     3250031_1,   P31,    21,  1,      3,      3,2,19940130,2041,-13.3155,-157.7923, 5250,   5059.2,   1.2820,  34.7048,2,  34.7047,2,    198.2,2,    196.9,2,   121.32,2,    32.40,2,     0.00,2,     2.26,2,    0.018,4,   -0.006,2,   -999.0,9,   -999.0,9,  -999.00,9, -999.00,  0.8478
     3250031_1,   P31,    21,  1,      2,      2,2,19940130,2041,-13.3155,-157.7923, 5250,   5262.6,   1.3022,  34.7052,2,  34.7057,2,    198.9,2,    197.5,2,   120.70,2,    32.42,2,     0.00,2,     2.26,2,    0.002,2,   -0.003,2,   -999.0,9,   -999.0,9,  -999.00,9, -999.00,  0.8425
     3250031_1,   P31,    21,  1,      1,      1,2,19940130,2041,-13.3155,-157.7923, 5250,   5427.1,   1.3223,  34.7049,2,  34.7060,2,    197.4,2,    197.3,2,   121.10,2,    32.34,2,     0.00,2,     2.26,2,    0.010,2,   -0.004,2,   -999.0,9,   -999.0,9,  -999.00,9, -999.00,  0.8413