BOTTLE,20020814WHPSIOdm
EXPOCODE,SECT_ID,STNNBR,CASTNO,SAMPNO,BTLNBR,BTLNBR_FLAG_W,DATE,TIME,LATITUDE,LONGITUDE,DEPTH,CTDPRS,CTDTMP,CTDSAL,CTDSAL_FLAG_W,SALNTY,SALNTY_FLAG_W,CTDOXY,CTDOXY_FLAG_W,OXYGEN,OXYGEN_FLAG_W,SILCAT,SILCAT_FLAG_W,NITRAT,NITRAT_FLAG_W,NITRIT,NITRIT_FLAG_W,PHSPHT,PHSPHT_FLAG_W,CFC-11,CFC-11_FLAG_W,CFC-12,CFC-12_FLAG_W,TCARBN,TCARBN_FLAG_W,ALKALI,ALKALI_FLAG_W,PH,PH_FLAG_W,PHTEMP,THETA
,,,,,,,,,,,,DBAR,ITS-90,PSS-78,,PSS-78,,UMOL/KG,,UMOL/KG,,UMOL/KG,,UMOL/KG,,UMOL/KG,,UMOL/KG,,PMOL/KG,,PMOL/KG,,UMOL/KG,,UMOL/KG,,,,DEG C,DEG C
     3250031_1,   P31,    26,  1,     36,     36,2,19940201,0256,-12.3320,-160.2602, 4931,      1.9,  29.9990,  34.9805,2,  34.9849,2,    198.6,3,    196.1,2,     1.36,2,     0.00,2,     0.00,2,     0.18,2,    1.594,2,    0.840,2,   -999.0,9,   -999.0,9,  -999.00,9, -999.00, 29.9986
     3250031_1,   P31,    26,  1,     35,     35,2,19940201,0256,-12.3320,-160.2602, 4931,     11.5,  29.7980,  35.0679,2,  35.1027,2,    199.3,3,    193.6,2,     1.34,2,     0.00,2,     0.00,2,     0.18,2,    1.571,2,    0.864,2,   -999.0,9,   -999.0,9,  -999.00,9, -999.00, 29.7952
     3250031_1,   P31,    26,  1,     34,     34,2,19940201,0256,-12.3320,-160.2602, 4931,     56.1,  28.8377,  36.0182,4,  35.9647,2,   -999.0,5,    204.2,2,     1.32,2,     0.00,2,     0.00,2,     0.19,2,    1.665,6,    0.885,6,   -999.0,9,   -999.0,9,  -999.00,9, -999.00, 28.8241
     3250031_1,   P31,    26,  1,     33,     33,2,19940201,0256,-12.3320,-160.2602, 4931,    106.4,  26.7258,  36.3069,2,  36.3121,2,    199.2,3,    196.8,2,     1.13,2,     0.00,2,     0.00,2,     0.29,2,    1.767,2,    0.914,2,   -999.0,9,   -999.0,9,  -999.00,9, -999.00, 26.7015
     3250031_1,   P31,    26,  1,     32,     32,2,19940201,0256,-12.3320,-160.2602, 4931,    205.7,  20.8192,  35.9475,2,  35.9415,2,    198.1,3,    165.3,2,     1.66,2,     5.09,2,     0.01,2,     0.61,2,    1.908,2,    0.975,2,   -999.0,9,   -999.0,9,  -999.00,9, -999.00, 20.7799
     3250031_1,   P31,    26,  1,     31,     31,2,19940201,0256,-12.3320,-160.2602, 4931,    305.8,  14.3038,  35.0273,2,  35.0339,2,    141.7,2,    130.7,2,     8.30,2,    14.52,2,     0.00,2,     1.28,2,    1.196,2,    0.590,2,   -999.0,9,   -999.0,9,  -999.00,9, -999.00, 14.2588
     3250031_1,   P31,    26,  1,     30,     30,2,19940201,0256,-12.3320,-160.2602, 4931,    404.8,   9.6535,  34.6459,2,  34.6389,2,    120.8,2,    115.5,2,    20.66,2,    25.91,2,     0.00,2,     1.93,2,    0.238,3,    0.134,3,   -999.0,9,   -999.0,9,  -999.00,9, -999.00,  9.6073
     3250031_1,   P31,    26,  1,     29,     29,2,19940201,0256,-12.3320,-160.2602, 4931,    604.6,   6.4009,  34.5069,2,  34.5042,2,    129.7,2,    130.9,2,    38.95,2,    32.14,2,     0.00,2,     2.24,2,    0.038,3,    0.020,3,   -999.0,9,   -999.0,9,  -999.00,9, -999.00,  6.3458
     3250031_1,   P31,    26,  1,     28,     28,2,19940201,0256,-12.3320,-160.2602, 4931,    805.3,   5.2062,  34.4986,2,  34.4970,2,    120.8,2,    123.5,2,    55.98,2,    34.98,2,     0.00,2,     2.44,2,    0.030,4,    0.000,2,   -999.0,9,   -999.0,9,  -999.00,9, -999.00,  5.1390
     3250031_1,   P31,    26,  1,     27,     27,2,19940201,0256,-12.3320,-160.2602, 4931,   1004.9,   4.2871,  34.5127,2,  34.5130,2,    125.3,2,    127.4,2,    71.98,2,    35.73,2,     0.00,2,     2.50,2,   -0.002,2,   -0.003,2,   -999.0,9,   -999.0,9,  -999.00,9, -999.00,  4.2088
     3250031_1,   P31,    26,  1,     26,     26,2,19940201,0256,-12.3320,-160.2602, 4931,   1256.0,   3.4922,  34.5504,2,  34.5486,2,    128.6,2,    128.9,2,    88.71,2,    36.19,2,     0.00,2,     2.55,2,    0.002,2,   -0.004,2,   -999.0,9,   -999.0,9,  -999.00,9, -999.00,  3.3996
     3250031_1,   P31,    26,  1,     25,     25,2,19940201,0256,-12.3320,-160.2602, 4931,   1506.9,   2.8506,  34.5812,2,  34.5809,2,    140.1,2,    139.3,2,   100.34,2,    35.77,2,     0.00,2,     2.54,2,    0.013,4,   -0.004,2,   -999.0,9,   -999.0,9,  -999.00,9, -999.00,  2.7439
     3250031_1,   P31,    26,  1,     24,     24,2,19940201,0256,-12.3320,-160.2602, 4931,   1757.0,   2.3633,  34.6157,2,  34.6143,2,    145.0,2,    144.2,2,   112.18,2,    35.54,2,     0.00,2,     2.52,2, -999.000,9, -999.000,9,   -999.0,9,   -999.0,9,  -999.00,9, -999.00,  2.2419
     3250031_1,   P31,    26,  1,     23,     23,2,19940201,0256,-12.3320,-160.2602, 4931,   2006.2,   2.1008,  34.6366,2,  34.6348,2,    149.1,2,    147.2,2,   119.30,2,    35.06,2,     0.00,2,     2.50,2,    0.001,2,   -0.004,2,   -999.0,9,   -999.0,9,  -999.00,9, -999.00,  1.9622
     3250031_1,   P31,    26,  1,     22,     22,2,19940201,0256,-12.3320,-160.2602, 4931,   2260.8,   1.9314,  34.6529,2,  34.6534,2,    147.5,2,    147.7,2,   125.73,2,    35.28,2,     0.00,2,     2.49,2, -999.000,9, -999.000,9,   -999.0,9,   -999.0,9,  -999.00,9, -999.00,  1.7737
     3250031_1,   P31,    26,  1,     21,     21,2,19940201,0256,-12.3320,-160.2602, 4931,   2515.1,   1.8399,  34.6629,2,  34.6615,2,    150.5,2,    148.3,2,   129.60,2,    35.39,2,     0.00,2,     2.49,2,    0.015,3,   -0.005,2,   -999.0,9,   -999.0,9,  -999.00,9, -999.00,  1.6612
     3250031_1,   P31,    26,  1,     20,     20,2,19940201,0256,-12.3320,-160.2602, 4931,   2765.4,   1.7691,  34.6684,2,  34.6688,2,    149.3,2,    149.4,2,   132.28,2,    35.36,2,     0.00,2,     2.49,2, -999.000,9, -999.000,9,   -999.0,9,   -999.0,9,  -999.00,9, -999.00,  1.5687
     3250031_1,   P31,    26,  1,     19,     19,2,19940201,0256,-12.3320,-160.2602, 4931,   3014.3,   1.7077,  34.6735,2,  34.6742,2,    153.1,2,    152.5,2,   133.52,2,    35.28,2,     0.00,2,     2.47,2,    0.005,2,   -0.002,2,   -999.0,9,   -999.0,9,  -999.00,9, -999.00,  1.4850
     3250031_1,   P31,    26,  1,     18,     18,2,19940201,0256,-12.3320,-160.2602, 4931,   3214.0,   1.6507,  34.6765,2,  34.6760,2,    157.1,2,    157.6,2,   132.29,2,    34.95,2,     0.00,2,     2.45,2, -999.000,9, -999.000,9,   -999.0,9,   -999.0,9,  -999.00,9, -999.00,  1.4097
     3250031_1,   P31,    26,  1,     17,     17,2,19940201,0256,-12.3320,-160.2602, 4931,   3418.6,   1.5857,  34.6807,2,  34.6795,2,    164.5,2,    164.2,2,   130.03,2,    34.53,2,     0.00,2,     2.42,2, -999.000,9, -999.000,9,   -999.0,9,   -999.0,9,  -999.00,9, -999.00,  1.3257
     3250031_1,   P31,    26,  1,     16,     16,2,19940201,0256,-12.3320,-160.2602, 4931,   3519.4,   1.5560,  34.6823,2,  34.6821,2,    169.0,2,    167.0,2,   129.02,2,    34.25,2,     0.00,2,     2.40,2, -999.000,9, -999.000,9,   -999.0,9,   -999.0,9,  -999.00,9, -999.00,  1.2865
     3250031_1,   P31,    26,  1,     15,     15,2,19940201,0256,-12.3320,-160.2602, 4931,   3620.2,   1.5261,  34.6841,2,  34.6825,2,    171.2,2,    170.6,2,   128.00,2,    34.07,2,     0.00,2,     2.39,2,    0.010,2,    0.011,2,   -999.0,9,   -999.0,9,  -999.00,9, -999.00,  1.2469
     3250031_1,   P31,    26,  1,     14,     14,2,19940201,0256,-12.3320,-160.2602, 4931,   3720.4,   1.5047,  34.6855,2,  34.6854,2,    173.0,2,    172.2,2,   127.40,2,    33.99,2,     0.00,2,     2.37,2, -999.000,9, -999.000,9,   -999.0,9,   -999.0,9,  -999.00,9, -999.00,  1.2156
     3250031_1,   P31,    26,  1,     13,     13,2,19940201,0256,-12.3320,-160.2602, 4931,   3820.9,   1.4791,  34.6877,2,  34.6878,2,    170.2,2,    174.4,2,   126.79,2,    33.86,2,     0.00,2,     2.36,2, -999.000,9, -999.000,9,   -999.0,9,   -999.0,9,  -999.00,9, -999.00,  1.1800
     3250031_1,   P31,    26,  1,     12,     12,2,19940201,0256,-12.3320,-160.2602, 4931,   3921.3,   1.4532,  34.6894,2,  34.6880,2,    178.0,2,    176.3,2,   126.80,2,    33.63,2,     0.00,2,     2.36,2, -999.000,9, -999.000,9,   -999.0,9,   -999.0,9,  -999.00,9, -999.00,  1.1441
     3250031_1,   P31,    26,  1,     11,     11,2,19940201,0256,-12.3320,-160.2602, 4931,   4020.9,   1.4245,  34.6914,2,  34.6895,2,    177.8,2,    179.0,2,   126.60,2,    33.45,2,     0.00,2,     2.34,2, -999.000,9, -999.000,9,   -999.0,9,   -999.0,9,  -999.00,9, -999.00,  1.1055
     3250031_1,   P31,    26,  1,     10,     10,2,19940201,0256,-12.3320,-160.2602, 4931,   4120.8,   1.4064,  34.6928,2,  34.6911,2,    179.6,2,    181.3,2,   125.79,2,    33.42,2,     0.00,2,     2.33,2,    0.004,2,   -0.005,2,   -999.0,9,   -999.0,9,  -999.00,9, -999.00,  1.0769
     3250031_1,   P31,    26,  1,      9,      9,2,19940201,0256,-12.3320,-160.2602, 4931,   4220.7,   1.3782,  34.6945,2,  34.6936,2,    185.9,2,    184.1,2,   124.38,2,    33.09,2,     0.00,2,     2.32,2, -999.000,9, -999.000,9,   -999.0,9,   -999.0,9,  -999.00,9, -999.00,  1.0385
     3250031_1,   P31,    26,  1,      8,      8,2,19940201,0256,-12.3320,-160.2602, 4931,   4320.5,   1.3463,  34.6968,2,  34.6966,2,    187.6,2,    187.3,2,   122.77,2,    32.96,2,     0.00,2,     2.30,2, -999.000,9, -999.000,9,   -999.0,9,   -999.0,9,  -999.00,9, -999.00,  0.9964
     3250031_1,   P31,    26,  1,      7,      7,2,19940201,0256,-12.3320,-160.2602, 4931,   4421.5,   1.2884,  34.7004,2,  34.7016,2,    189.1,2,    192.2,2,   121.57,2,    32.58,2,     0.00,2,     2.28,2, -999.000,9, -999.000,9,   -999.0,9,   -999.0,9,  -999.00,9, -999.00,  0.9289
     3250031_1,   P31,    26,  1,      6,      6,2,19940201,0256,-12.3320,-160.2602, 4931,   4523.8,   1.2638,  34.7023,2,  34.7026,2,    193.4,2,    194.4,2,   121.38,2,    32.45,2,     0.00,2,     2.26,2,    0.024,4,    0.036,4,   -999.0,9,   -999.0,9,  -999.00,9, -999.00,  0.8933
     3250031_1,   P31,    26,  1,      5,      5,2,19940201,0256,-12.3320,-160.2602, 4931,   4627.2,   1.2297,  34.7038,2,  34.7031,2,    195.8,2,    197.1,2,   120.58,2,    32.32,2,     0.00,2,     2.25,2,    0.005,2,   -0.007,2,   -999.0,9,   -999.0,9,  -999.00,9, -999.00,  0.8484
     3250031_1,   P31,    26,  1,      4,      4,2,19940201,0256,-12.3320,-160.2602, 4931,   4729.3,   1.2148,  34.7045,2,  34.7049,2,    198.9,2,    198.7,2,   120.18,2,    32.29,2,     0.00,2,     2.24,2,    0.004,2,   -0.006,2,   -999.0,9,   -999.0,9,  -999.00,9, -999.00,  0.8222
     3250031_1,   P31,    26,  1,      3,      3,2,19940201,0256,-12.3320,-160.2602, 4931,   4831.6,   1.2156,  34.7047,2,  34.7044,2,    198.1,2,    199.1,2,   119.99,2,    32.25,2,     0.00,2,     2.24,2,    0.005,2,    0.002,2,   -999.0,9,   -999.0,9,  -999.00,9, -999.00,  0.8109
     3250031_1,   P31,    26,  1,      2,      2,2,19940201,0256,-12.3320,-160.2602, 4931,   4934.5,   1.2230,  34.7052,2,  34.7062,2,    197.5,2,    199.4,2,   119.99,2,    32.22,2,     0.00,2,     2.24,2,    0.005,2,    0.004,2,   -999.0,9,   -999.0,9,  -999.00,9, -999.00,  0.8059
     3250031_1,   P31,    26,  1,      1,      1,2,19940201,0256,-12.3320,-160.2602, 4931,   5016.3,   1.2327,  34.7054,2,  34.7077,2,    201.3,2,    199.3,2,   120.20,2,    32.14,2,     0.00,2,     2.23,2,    0.004,2,   -0.005,2,   -999.0,9,   -999.0,9,  -999.00,9, -999.00,  0.8054