BOTTLE,20020814WHPSIOdm
EXPOCODE,SECT_ID,STNNBR,CASTNO,SAMPNO,BTLNBR,BTLNBR_FLAG_W,DATE,TIME,LATITUDE,LONGITUDE,DEPTH,CTDPRS,CTDTMP,CTDSAL,CTDSAL_FLAG_W,SALNTY,SALNTY_FLAG_W,CTDOXY,CTDOXY_FLAG_W,OXYGEN,OXYGEN_FLAG_W,SILCAT,SILCAT_FLAG_W,NITRAT,NITRAT_FLAG_W,NITRIT,NITRIT_FLAG_W,PHSPHT,PHSPHT_FLAG_W,CFC-11,CFC-11_FLAG_W,CFC-12,CFC-12_FLAG_W,TCARBN,TCARBN_FLAG_W,ALKALI,ALKALI_FLAG_W,PH,PH_FLAG_W,PHTEMP,THETA
,,,,,,,,,,,,DBAR,ITS-90,PSS-78,,PSS-78,,UMOL/KG,,UMOL/KG,,UMOL/KG,,UMOL/KG,,UMOL/KG,,UMOL/KG,,PMOL/KG,,PMOL/KG,,UMOL/KG,,UMOL/KG,,,,DEG C,DEG C
     3250031_1,   P31,    85,  1,     28,     28,2,19940216,1252,-13.5642,-177.8782, 3196,      2.4,  29.6258,  34.2467,2,  34.2470,2,    195.8,2,    193.3,2,     1.77,2,     0.03,2,     0.00,2,     0.17,2, -999.000,9, -999.000,9,   1891.9,2,   2255.6,2,     8.16,2,   25.00, 29.6252
     3250031_1,   P31,    85,  1,     27,     27,2,19940216,1252,-13.5642,-177.8782, 3196,      7.7,  29.6290,  34.2469,2,  34.2466,2,    202.2,2,    193.3,2,     1.58,2,     0.03,2,     0.00,2,     0.17,2, -999.000,9, -999.000,9,   1892.1,2,   -999.0,9,     8.16,2,   25.00, 29.6272
     3250031_1,   P31,    85,  1,     26,     26,2,19940216,1252,-13.5642,-177.8782, 3196,     48.1,  28.6282,  35.0280,2,  35.0670,2,    194.6,2,    203.8,2,     1.58,2,     0.08,2,     0.00,2,     0.15,2, -999.000,9, -999.000,9,   1934.5,2,   2307.8,2,  -999.00,9, -999.00, 28.6167
     3250031_1,   P31,    85,  1,     25,     25,2,19940216,1252,-13.5642,-177.8782, 3196,     98.8,  25.8677,  35.7644,2,  35.7516,2,    209.1,2,    199.8,2,     1.39,2,     0.13,2,     0.00,2,     0.21,2, -999.000,9, -999.000,9,   1995.0,2,   -999.0,9,     8.15,2,   25.00, 25.8457
     3250031_1,   P31,    85,  1,     24,     24,2,19940216,1252,-13.5642,-177.8782, 3196,    192.1,  21.8882,  35.9178,2,  35.9148,2,    161.3,2,    163.6,2,     1.93,2,     3.79,2,     0.02,2,     0.50,2, -999.000,9, -999.000,9,   2075.3,2,   2362.7,2,     7.99,2,   25.00, 21.8501
     3250031_1,   P31,    85,  1,     23,     23,2,19940216,1252,-13.5642,-177.8782, 3196,    298.7,  15.6813,  35.2322,2,  35.2268,2,    144.3,2,    138.5,2,     6.79,2,    12.62,2,     0.01,2,     1.12,2, -999.000,9, -999.000,9,   2127.5,2,   -999.0,9,     7.82,2,   25.00, 15.6344
     3250031_1,   P31,    85,  1,     22,     22,2,19940216,1252,-13.5642,-177.8782, 3196,    398.7,  11.2828,  34.7917,2,  34.7894,2,    122.9,2,    122.7,2,    15.63,2,    22.24,2,     0.01,2,     1.70,2, -999.000,9, -999.000,9,   2173.6,2,   2310.4,2,     7.69,2,   25.00, 11.2325
     3250031_1,   P31,    85,  1,     21,     21,2,19940216,1252,-13.5642,-177.8782, 3196,    498.2,   7.8693,  34.5028,2,  34.5017,2,    175.9,2,    173.7,2,    17.43,2,    25.21,2,     0.01,2,     1.78,2, -999.000,9, -999.000,9,   2167.6,2,   -999.0,9,     7.68,2,   25.00,  7.8187
     3250031_1,   P31,    85,  1,     20,     20,2,19940216,1252,-13.5642,-177.8782, 3196,    600.7,   6.2838,  34.4386,2,  34.4397,2,    165.3,2,    166.4,2,    30.05,2,    29.76,2,     0.01,2,     2.05,2, -999.000,9, -999.000,9,   2194.2,2,   2301.4,2,     7.63,2,   25.00,  6.2297
     3250031_1,   P31,    85,  1,     19,     19,2,19940216,1252,-13.5642,-177.8782, 3196,    601.0,   6.2711,  34.4367,2,  34.4402,2,    165.3,2,    167.4,2,    30.23,2,    29.92,2,     0.01,2,     2.05,2, -999.000,9, -999.000,9,   2192.2,2,   -999.0,9,     7.63,2,   25.00,  6.2169
     3250031_1,   P31,    85,  1,     18,     18,2,19940216,1252,-13.5642,-177.8782, 3196,    701.3,   5.3538,  34.4331,2,  34.4343,2,    159.6,2,    162.0,2,    41.77,2,    32.12,2,     0.01,2,     2.19,2, -999.000,9, -999.000,9,   2211.0,2,   2313.2,2,     7.61,2,   25.00,  5.2950
     3250031_1,   P31,    85,  1,     17,     17,2,19940216,1252,-13.5642,-177.8782, 3196,    798.0,   4.8251,  34.4595,2,  34.4599,2,    150.6,2,    152.0,2,    53.51,2,    33.80,2,     0.01,2,     2.30,2, -999.000,9, -999.000,9,   2231.2,2,   -999.0,9,     7.58,2,   25.00,  4.7609
     3250031_1,   P31,    85,  1,     16,     16,2,19940216,1252,-13.5642,-177.8782, 3196,    898.2,   4.5176,  34.4746,2,  34.4746,2,    147.8,2,    147.9,2,    60.20,2,    34.54,2,     0.01,2,     2.36,2, -999.000,9, -999.000,9,   2240.3,2,   2335.1,2,     7.58,2,   25.00,  4.4467
     3250031_1,   P31,    85,  1,     15,     15,2,19940216,1252,-13.5642,-177.8782, 3196,   1000.1,   4.1654,  34.4946,2,  34.4949,2,    143.1,2,    144.9,2,    68.55,2,    35.28,2,     0.01,2,     2.40,2, -999.000,9, -999.000,9,   2252.8,2,   -999.0,9,     7.56,2,   25.00,  4.0884
     3250031_1,   P31,    85,  1,     14,     14,2,19940216,1252,-13.5642,-177.8782, 3196,   1203.9,   3.5034,  34.5324,2,  34.5326,2,    144.0,2,    143.7,2,    84.10,2,    35.91,2,     0.01,2,     2.45,2, -999.000,9, -999.000,9,   -999.0,9,   2355.6,2,     7.56,2,   25.00,  3.4150
     3250031_1,   P31,    85,  1,     13,     13,2,19940216,1252,-13.5642,-177.8782, 3196,   1408.6,   2.9813,  34.5648,2,  34.5651,2,    142.8,2,    145.3,2,    97.09,2,    36.07,2,     0.01,2,     2.47,2, -999.000,9, -999.000,9,   2270.7,2,   -999.0,9,     7.56,2,   25.00,  2.8813
     3250031_1,   P31,    85,  1,     12,     12,2,19940216,1252,-13.5642,-177.8782, 3196,   1611.7,   2.6847,  34.5880,2,  34.5891,2,    144.4,2,    146.9,2,   105.76,2,    36.17,2,     0.01,2,     2.48,2, -999.000,9, -999.000,9,   2292.9,2,   2380.9,2,     7.57,2,   25.00,  2.5714
     3250031_1,   P31,    85,  1,     11,     11,2,19940216,1252,-13.5642,-177.8782, 3196,   1814.4,   2.4967,  34.6067,2,  34.6072,2,    144.4,2,    144.5,2,   111.67,2,    36.43,2,     0.01,2,     2.49,2, -999.000,9, -999.000,9,   2299.2,2,   -999.0,9,     7.56,2,   25.00,  2.3687
     3250031_1,   P31,    85,  1,     10,     10,2,19940216,1252,-13.5642,-177.8782, 3196,   2017.8,   2.2933,  34.6236,2,  34.6235,2,    142.9,2,    143.9,2,   117.47,2,    36.59,2,     0.01,2,     2.50,2, -999.000,9, -999.000,9,   -999.0,9,   2395.0,2,     7.56,2,   25.00,  2.1509
     3250031_1,   P31,    85,  1,      9,      9,2,19940216,1252,-13.5642,-177.8782, 3196,   2221.1,   2.1069,  34.6379,2,  34.6375,2,    146.4,2,    144.1,2,   123.74,2,    36.59,2,     0.01,2,     2.50,2, -999.000,9, -999.000,9,   -999.0,9,   -999.0,9,     7.56,2,   25.00,  1.9498
     3250031_1,   P31,    85,  1,      8,      8,2,19940216,1252,-13.5642,-177.8782, 3196,   2424.2,   1.9495,  34.6505,2,  34.6503,2,    145.4,2,    144.1,2,   129.12,2,    36.75,2,     0.00,2,     2.50,2, -999.000,9, -999.000,9,   -999.0,9,   2406.1,2,     7.56,2,   25.00,  1.7770
     3250031_1,   P31,    85,  1,      7,      7,2,19940216,1252,-13.5642,-177.8782, 3196,   2627.8,   1.8598,  34.6573,2,  34.6591,2,    144.1,2,    145.1,2,   132.95,2,    36.75,2,     0.00,2,     2.50,2, -999.000,9, -999.000,9,   -999.0,9,   -999.0,9,     7.57,2,   25.00,  1.6705
     3250031_1,   P31,    85,  1,      6,      6,2,19940216,1252,-13.5642,-177.8782, 3196,   2729.7,   1.8281,  34.6602,2,  34.6610,2,    145.0,2,    144.8,2,   134.77,2,    36.80,2,     0.00,2,     2.51,2, -999.000,9, -999.000,9,   -999.0,9,   2411.6,2,     7.56,2,   25.00,  1.6299
     3250031_1,   P31,    85,  1,      5,      5,2,19940216,1252,-13.5642,-177.8782, 3196,   2831.8,   1.8064,  34.6624,2,  34.6616,2,    144.6,2,    144.7,2,   136.19,2,    36.80,2,     0.00,2,     2.51,2, -999.000,9, -999.000,9,   -999.0,9,   -999.0,9,     7.56,2,   25.00,  1.5990
     3250031_1,   P31,    85,  1,      4,      4,2,19940216,1252,-13.5642,-177.8782, 3196,   2933.4,   1.8004,  34.6630,2,  34.6626,2,    145.0,2,    145.3,2,   136.38,2,    36.80,2,     0.00,2,     2.51,2, -999.000,9, -999.000,9,   -999.0,9,   2412.9,2,     7.57,2,   25.00,  1.5835
     3250031_1,   P31,    85,  1,      3,      3,2,19940216,1252,-13.5642,-177.8782, 3196,   3034.9,   1.8008,  34.6636,2,  34.6626,2,    144.6,2,    144.4,2,   136.16,2,    36.65,2,     0.00,2,     2.50,2, -999.000,9, -999.000,9,   -999.0,9,   -999.0,9,     7.57,2,   25.00,  1.5740
     3250031_1,   P31,    85,  1,      2,      2,2,19940216,1252,-13.5642,-177.8782, 3196,   3136.1,   1.8060,  34.6641,2,  34.6627,2,    144.4,2,    144.6,2,   135.73,2,    36.75,2,     0.00,2,     2.50,2, -999.000,9, -999.000,9,   -999.0,9,   2413.2,2,     7.57,2,   25.00,  1.5692
     3250031_1,   P31,    85,  1,      1,      1,2,19940216,1252,-13.5642,-177.8782, 3196,   3170.5,   1.8085,  34.6639,2,  34.6639,2,    143.6,2,    144.4,2,   135.92,2,    36.80,2,     0.00,2,     2.50,2, -999.000,9, -999.000,9,   -999.0,9,   -999.0,9,     7.57,2,   25.00,  1.5682
     3250031_1,   P31,    86,  1,     20,     20,2,19940216,1726,-14.0233,-178.2045, 1674,      4.2,  29.6190,  34.2411,2,  34.2413,2,    188.4,2,    192.3,2,     1.64,2,     0.09,2,     0.00,2,     0.16,2, -999.000,9, -999.000,9,   -999.0,9,   -999.0,9,  -999.00,9, -999.00, 29.6180
     3250031_1,   P31,    86,  1,     19,     19,2,19940216,1726,-14.0233,-178.2045, 1674,     15.0,  29.6214,  34.2421,2,  34.2424,2,    192.0,2,    193.4,2,     1.61,2,     0.09,2,     0.00,2,     0.16,2, -999.000,9, -999.000,9,   -999.0,9,   -999.0,9,  -999.00,9, -999.00, 29.6178
     3250031_1,   P31,    86,  1,     18,     18,2,19940216,1726,-14.0233,-178.2045, 1674,     55.1,  28.6335,  35.6899,2,  35.6979,2,    199.9,2,    198.8,2,     1.41,2,     0.09,2,     0.00,2,     0.23,2, -999.000,9, -999.000,9,   -999.0,9,   -999.0,9,  -999.00,9, -999.00, 28.6203
     3250031_1,   P31,    86,  1,     17,     17,2,19940216,1726,-14.0233,-178.2045, 1674,    105.1,  25.9641,  35.9375,4,  35.8804,2,   -999.0,5,    192.1,2,     1.39,2,     0.16,2,     0.03,2,     0.24,2, -999.000,9, -999.000,9,   -999.0,9,   -999.0,9,  -999.00,9, -999.00, 25.9406
     3250031_1,   P31,    86,  1,     16,     16,2,19940216,1726,-14.0233,-178.2045, 1674,    206.0,  22.4838,  36.1215,2,  36.1169,2,    150.4,2,    149.0,2,     2.09,2,     6.01,2,     0.02,2,     0.68,2, -999.000,9, -999.000,9,   -999.0,9,   -999.0,9,  -999.00,9, -999.00, 22.4421
     3250031_1,   P31,    86,  1,     15,     15,2,19940216,1726,-14.0233,-178.2045, 1674,    307.0,  15.5023,  35.1985,2,  35.2189,2,    133.6,2,    134.5,2,     7.13,2,    13.12,2,     0.01,2,     1.15,2, -999.000,9, -999.000,9,   -999.0,9,   -999.0,9,  -999.00,9, -999.00, 15.4545
     3250031_1,   P31,    86,  1,     14,     14,2,19940216,1726,-14.0233,-178.2045, 1674,    407.6,  10.8551,  34.7464,2,  34.7613,2,    134.9,2,    134.2,2,    14.53,2,    21.60,2,     0.01,2,     1.63,2, -999.000,9, -999.000,9,   -999.0,9,   -999.0,9,  -999.00,9, -999.00, 10.8049
     3250031_1,   P31,    86,  1,     13,     13,2,19940216,1726,-14.0233,-178.2045, 1674,    508.3,   8.4816,  34.5481,2,  34.5529,2,    156.4,2,    155.9,2,    19.21,2,    25.43,2,     0.01,2,     1.82,2, -999.000,9, -999.000,9,   -999.0,9,   -999.0,9,  -999.00,9, -999.00,  8.4276
     3250031_1,   P31,    86,  1,     12,     12,2,19940216,1726,-14.0233,-178.2045, 1674,    609.4,   6.0936,  34.4277,2,  34.4327,2,    166.5,2,    169.8,2,    30.23,2,    29.85,2,     0.01,2,     2.05,2, -999.000,9, -999.000,9,   -999.0,9,   -999.0,9,  -999.00,9, -999.00,  6.0396
     3250031_1,   P31,    86,  1,     11,     11,2,19940216,1726,-14.0233,-178.2045, 1674,    708.8,   5.2399,  34.4133,2,  34.4142,2,    168.7,2,    168.2,2,    39.44,2,    31.91,2,     0.01,2,     2.17,2, -999.000,9, -999.000,9,   -999.0,9,   -999.0,9,  -999.00,9, -999.00,  5.1812
     3250031_1,   P31,    86,  1,     10,     10,2,19940216,1726,-14.0233,-178.2045, 1674,    808.6,   4.5557,  34.4246,2,  34.4256,2,    161.6,2,    163.8,2,    50.29,2,    33.35,2,     0.01,2,     2.27,2, -999.000,9, -999.000,9,   -999.0,9,   -999.0,9,  -999.00,9, -999.00,  4.4923
     3250031_1,   P31,    86,  1,      9,      9,2,19940216,1726,-14.0233,-178.2045, 1674,    909.4,   4.0701,  34.4813,2,  34.4819,2,    152.2,2,    151.3,2,    67.36,2,    34.94,2,     0.01,2,     2.38,2, -999.000,9, -999.000,9,   -999.0,9,   -999.0,9,  -999.00,9, -999.00,  4.0015
     3250031_1,   P31,    86,  1,      8,      8,2,19940216,1726,-14.0233,-178.2045, 1674,   1011.5,   3.7728,  34.5114,2,  34.5118,2,    143.5,2,    144.9,2,    77.40,2,    35.64,2,     0.00,2,     2.43,2, -999.000,9, -999.000,9,   -999.0,9,   -999.0,9,  -999.00,9, -999.00,  3.6980
     3250031_1,   P31,    86,  1,      7,      7,2,19940216,1726,-14.0233,-178.2045, 1674,   1112.6,   3.4632,  34.5330,2,  34.5332,2,    141.0,2,    143.6,2,    85.67,2,    35.96,2,     0.00,2,     2.46,2, -999.000,9, -999.000,9,   -999.0,9,   -999.0,9,  -999.00,9, -999.00,  3.3826
     3250031_1,   P31,    86,  1,      6,      6,2,19940216,1726,-14.0233,-178.2045, 1674,   1213.5,   3.1620,  34.5532,2,  34.5534,2,    145.3,2,    144.3,2,    92.52,2,    36.02,2,     0.00,2,     2.46,2, -999.000,9, -999.000,9,   -999.0,9,   -999.0,9,  -999.00,9, -999.00,  3.0760
     3250031_1,   P31,    86,  1,      5,      5,2,19940216,1726,-14.0233,-178.2045, 1674,   1313.3,   2.9432,  34.5691,2,  34.5689,2,    143.9,2,    145.0,2,    98.11,2,    36.02,2,     0.00,2,     2.47,2, -999.000,9, -999.000,9,   -999.0,9,   -999.0,9,  -999.00,9, -999.00,  2.8512
     3250031_1,   P31,    86,  1,      4,      4,2,19940216,1726,-14.0233,-178.2045, 1674,   1412.9,   2.8590,  34.5765,2,  34.5761,2,    145.6,2,    144.4,2,   100.53,2,    36.08,2,     0.00,2,     2.48,2, -999.000,9, -999.000,9,   -999.0,9,   -999.0,9,  -999.00,9, -999.00,  2.7599
     3250031_1,   P31,    86,  1,      3,      3,2,19940216,1726,-14.0233,-178.2045, 1674,   1514.1,   2.8108,  34.5807,2,  34.5803,2,    143.5,2,    144.2,2,   102.58,2,    36.19,2,     0.00,2,     2.47,2, -999.000,9, -999.000,9,   -999.0,9,   -999.0,9,  -999.00,9, -999.00,  2.7039
     3250031_1,   P31,    86,  1,      2,      2,2,19940216,1726,-14.0233,-178.2045, 1674,   1565.3,   2.6682,  34.5924,2,  34.5914,2,    143.3,2,    144.2,2,   107.12,2,    36.35,2,     0.00,2,     2.49,2, -999.000,9, -999.000,9,   -999.0,9,   -999.0,9,  -999.00,9, -999.00,  2.5588
     3250031_1,   P31,    86,  1,      1,      1,2,19940216,1726,-14.0233,-178.2045, 1674,   1634.9,   2.6451,  34.5946,2,  34.5950,2,    141.6,3,    144.4,2,   108.04,2,    36.30,2,     0.00,2,     2.48,2, -999.000,9, -999.000,9,   -999.0,9,   -999.0,9,  -999.00,9, -999.00,  2.5302