BOTTLE,20020814WHPSIOdm
#code : jjward hyd_to_exchange.pl 
#original files copied from HTML directory: 20020814
#original HYD file: p31hy.txt   Wed Aug 14 09:37:48 2002
#original SUM file: p31su.txt   Wed Aug 14 09:40:03 2002
EXPOCODE,SECT_ID,STNNBR,CASTNO,SAMPNO,BTLNBR,BTLNBR_FLAG_W,DATE,TIME,LATITUDE,LONGITUDE,DEPTH,CTDPRS,CTDTMP,CTDSAL,CTDSAL_FLAG_W,SALNTY,SALNTY_FLAG_W,CTDOXY,CTDOXY_FLAG_W,OXYGEN,OXYGEN_FLAG_W,SILCAT,SILCAT_FLAG_W,NITRAT,NITRAT_FLAG_W,NITRIT,NITRIT_FLAG_W,PHSPHT,PHSPHT_FLAG_W,CFC-11,CFC-11_FLAG_W,CFC-12,CFC-12_FLAG_W,TCARBN,TCARBN_FLAG_W,ALKALI,ALKALI_FLAG_W,PH,PH_FLAG_W,PHTEMP,THETA
,,,,,,,,,,,,DBAR,ITS-90,PSS-78,,PSS-78,,UMOL/KG,,UMOL/KG,,UMOL/KG,,UMOL/KG,,UMOL/KG,,UMOL/KG,,PMOL/KG,,PMOL/KG,,UMOL/KG,,UMOL/KG,,,,DEG C,DEG C
     3250031_1,   P31,     1,  1,     16,     16,2,19940126,0233,-17.4670,-149.9000,  937,      2.2,  29.6243,  35.9516,2,  35.9566,2,    201.5,2,    196.4,2,     1.81,2,     0.12,2,     0.00,2,     0.24,2,    1.748,2,    0.942,2,   -999.0,9,   -999.0,9,  -999.00,9, -999.00, 29.6238
     3250031_1,   P31,     1,  1,     15,     15,2,19940126,0233,-17.4670,-149.9000,  937,     15.2,  29.0534,  35.9922,2,  35.9876,2,    202.3,2,    196.5,2,     1.43,2,     0.12,2,     0.00,2,     0.23,2, -999.000,9, -999.000,9,   -999.0,9,   -999.0,9,  -999.00,9, -999.00, 29.0497
     3250031_1,   P31,     1,  1,     14,     14,2,19940126,0233,-17.4670,-149.9000,  937,     45.5,  28.2146,  36.0423,3,  36.0176,2,   -999.0,5,    198.5,2,     1.43,2,     0.11,2,     0.00,2,     0.23,2, -999.000,9, -999.000,9,   -999.0,9,   -999.0,9,  -999.00,9, -999.00, 28.2038
     3250031_1,   P31,     1,  1,     13,     13,2,19940126,0233,-17.4670,-149.9000,  937,     80.3,  26.3173,  36.1801,2,  36.1753,2,    190.9,2,    204.3,2,     1.05,2,     0.11,2,     0.00,2,     0.23,2, -999.000,9, -999.000,9,   -999.0,9,   -999.0,9,  -999.00,9, -999.00, 26.2991
     3250031_1,   P31,     1,  1,     12,     12,2,19940126,0233,-17.4670,-149.9000,  937,    105.5,  24.8418,  36.0942,2,  36.0929,2,    187.3,2,    202.8,2,     1.04,2,     0.11,2,     0.00,2,     0.24,2, -999.000,9, -999.000,9,   -999.0,9,   -999.0,9,  -999.00,9, -999.00, 24.8189
     3250031_1,   P31,     1,  1,     11,     11,2,19940126,0233,-17.4670,-149.9000,  937,    155.7,  22.7339,  35.9786,2,  35.9751,2,    184.3,2,    187.5,2,     1.03,2,     1.29,2,     0.06,2,     0.34,2,    1.770,2,    0.921,2,   -999.0,9,   -999.0,9,  -999.00,9, -999.00, 22.7022
     3250031_1,   P31,     1,  1,     10,     10,2,19940126,0233,-17.4670,-149.9000,  937,    206.0,  20.9399,  35.8220,2,  35.8259,2,    182.8,2,    183.3,2,     1.03,2,     2.57,2,     0.02,2,     0.41,2, -999.000,9, -999.000,9,   -999.0,9,   -999.0,9,  -999.00,9, -999.00, 20.9004
     3250031_1,   P31,     1,  1,      9,      9,2,19940126,0233,-17.4670,-149.9000,  937,    257.0,  18.6543,  35.5796,2,  35.5836,2,    165.4,2,    172.2,2,     1.58,2,     5.37,2,     0.01,2,     0.61,2, -999.000,9, -999.000,9,   -999.0,9,   -999.0,9,  -999.00,9, -999.00, 18.6088
     3250031_1,   P31,     1,  1,      8,      8,2,19940126,0233,-17.4670,-149.9000,  937,    306.6,  15.8928,  35.2323,2,  35.2290,2,    166.8,2,    166.7,2,     3.63,2,     9.40,2,     0.00,2,     0.89,2,    1.497,2,    0.793,2,   -999.0,9,   -999.0,9,  -999.00,9, -999.00, 15.8442
     3250031_1,   P31,     1,  1,      7,      7,2,19940126,0233,-17.4670,-149.9000,  937,    406.9,  11.9191,  34.8010,2,  34.7814,2,    156.9,2,    150.1,2,     9.59,2,    17.72,2,     0.00,2,     1.45,2, -999.000,9, -999.000,9,   -999.0,9,   -999.0,9,  -999.00,9, -999.00, 11.8659
     3250031_1,   P31,     1,  1,      6,      6,2,19940126,0233,-17.4670,-149.9000,  937,    507.6,   8.5607,  34.5299,2,  34.5328,2,    147.2,2,    140.8,2,    18.55,2,    25.82,2,     0.00,2,     1.95,2, -999.000,9, -999.000,9,   -999.0,9,   -999.0,9,  -999.00,9, -999.00,  8.5066
     3250031_1,   P31,     1,  1,      5,      5,2,19940126,0233,-17.4670,-149.9000,  937,    608.2,   6.4989,  34.4320,2,  34.4306,2,    151.1,2,    153.5,2,    28.26,2,    30.24,2,     0.00,2,     2.17,2,    0.134,2,    0.080,2,   -999.0,9,   -999.0,9,  -999.00,9, -999.00,  6.4431
     3250031_1,   P31,     1,  1,      4,      4,2,19940126,0233,-17.4670,-149.9000,  937,    708.6,   5.3110,  34.4347,2,  34.4320,2,    153.7,2,    153.2,2,    42.26,2,    32.36,2,     0.00,2,     2.32,2, -999.000,9, -999.000,9,   -999.0,9,   -999.0,9,  -999.00,9, -999.00,  5.2518
     3250031_1,   P31,     1,  1,      3,      3,2,19940126,0233,-17.4670,-149.9000,  937,    808.5,   4.6016,  34.4673,2,  34.4662,2,    140.3,2,    147.9,2,    57.42,2,    33.62,2,     0.00,2,     2.42,2,    0.017,2,    0.009,2,   -999.0,9,   -999.0,9,  -999.00,9, -999.00,  4.5379
     3250031_1,   P31,     1,  1,      2,      2,2,19940126,0233,-17.4670,-149.9000,  937,    908.5,   4.0045,  34.4977,2,  34.4937,2,    146.9,2,    146.4,2,    69.07,2,    34.38,2,     0.00,2,     2.49,2, -999.000,9, -999.000,9,   -999.0,9,   -999.0,9,  -999.00,9, -999.00,  3.9363
     3250031_1,   P31,     1,  1,      1,      1,2,19940126,0233,-17.4670,-149.9000,  937,   1008.0,   3.7817,  34.5099,2,  34.5081,2,    143.8,2,    146.2,2,    74.35,2,    34.89,2,     0.00,2,     2.52,2,    0.011,2,   -0.004,2,   -999.0,9,   -999.0,9,  -999.00,9, -999.00,  3.7071
     3250031_1,   P31,     2,  1,     24,     24,2,19940126,0946,-17.3980,-149.9417, 2621,      1.5,  29.5314,  35.9645,2,  35.9624,2,    190.2,2,    193.7,2,     1.80,2,     0.13,2,     0.00,2,     0.20,2,    1.614,2,    0.878,2,   1980.3,2,   2370.4,2,     8.15,2,   25.00, 29.5310
     3250031_1,   P31,     2,  1,     23,     23,2,19940126,0946,-17.3980,-149.9417, 2621,     12.6,  29.4977,  35.9624,2,  35.9616,2,    194.8,2,    194.3,2,     1.77,2,     0.14,2,     0.00,2,     0.19,2,    1.638,2,    0.900,2,   1980.6,2,   2433.4,3,     8.15,2,   25.00, 29.4946
     3250031_1,   P31,     2,  1,     22,     22,2,19940126,0946,-17.3980,-149.9417, 2621,     54.9,  26.8056,  36.2822,2,  36.2685,2,    211.0,2,    204.9,2,     1.55,2,     0.13,2,     0.01,2,     0.19,2,    1.739,2,    0.942,2,   2006.1,2,   2391.9,2,     8.14,2,   25.00, 26.7931
     3250031_1,   P31,     2,  1,     21,     21,2,19940126,0946,-17.3980,-149.9417, 2621,    105.1,  24.9161,  36.1091,2,  36.1042,2,    182.6,2,    201.4,2,     1.52,2,     0.13,2,     0.00,2,     0.19,2, -999.000,9, -999.000,9,   2015.6,2,   2380.1,2,     8.11,2,   25.00, 24.8933
     3250031_1,   P31,     2,  1,     20,     20,2,19940126,0946,-17.3980,-149.9417, 2621,    155.1,  22.9024,  35.9252,2,  35.9230,2,    195.4,2,    195.7,2,     1.31,2,     0.48,2,     0.09,2,     0.21,2,    1.969,2,    1.057,2,   2030.2,2,   2427.2,3,  -999.00,9, -999.00, 22.8707
     3250031_1,   P31,     2,  1,     19,     19,2,19940126,0946,-17.3980,-149.9417, 2621,    205.0,  21.1125,  35.8183,2,  35.8133,2,    189.1,2,    186.5,2,     1.28,2,     2.05,2,     0.01,2,     0.30,2,    1.959,6,    1.021,6,   2055.4,2,   2357.0,2,     8.02,2,   25.00, 21.0729
     3250031_1,   P31,     2,  1,     18,     18,2,19940126,0946,-17.3980,-149.9417, 2621,    254.9,  18.7204,  35.5799,2,  35.5715,2,    180.3,2,    175.7,2,     1.81,2,     5.27,2,     0.01,2,     0.55,2,    1.770,2,    0.907,2,   2082.2,2,   2401.6,3,     7.95,2,   25.00, 18.6752
     3250031_1,   P31,     2,  1,     17,     17,2,19940126,0946,-17.3980,-149.9417, 2621,    304.9,  16.3996,  35.2904,2,  35.2844,2,    167.2,2,    171.9,2,     3.26,2,     8.04,2,     0.00,2,     0.73,2,    1.559,2,    0.773,2,   2094.6,2,   2325.6,2,     7.90,2,   25.00, 16.3503
     3250031_1,   P31,     2,  1,     16,     16,2,19940126,0946,-17.3980,-149.9417, 2621,    404.8,  10.5791,  34.6695,2,  34.6663,2,    150.6,2,    145.7,2,    12.52,2,    20.78,2,     0.00,2,     1.58,2,    0.678,2,    0.335,2,   2158.1,2,   2298.0,2,  -999.00,9, -999.00, 10.5301
     3250031_1,   P31,     2,  1,     15,     15,2,19940126,0946,-17.3980,-149.9417, 2621,    504.2,   8.0346,  34.4978,2,  34.4949,2,    146.4,2,    141.7,2,    20.67,2,    27.30,2,     0.00,2,     1.98,2,    0.286,2,    0.129,2,   2186.8,2,   2361.1,3,     7.62,2,   25.00,  7.9828
     3250031_1,   P31,     2,  1,     14,     14,2,19940126,0946,-17.3980,-149.9417, 2621,    603.4,   6.4609,  34.4292,2,  34.4316,2,    147.5,2,    154.8,2,    28.08,2,    30.05,2,     0.00,2,     2.11,2,    0.135,2,    0.069,2,   2196.3,2,   2301.0,2,     7.61,2,   25.00,  6.4057
     3250031_1,   P31,     2,  1,     13,     13,2,19940126,0946,-17.3980,-149.9417, 2621,    703.6,   5.4011,  34.4139,2,  34.4134,2,    154.9,2,    157.5,2,    38.65,2,    32.00,2,     0.00,2,     2.23,2,    0.056,2,    0.031,2,   2210.2,2,   2312.1,2,     7.60,2,   25.00,  5.3420
     3250031_1,   P31,     2,  1,     12,     12,2,19940126,0946,-17.3980,-149.9417, 2621,    803.9,   4.9247,  34.4424,2,  34.4399,2,    148.1,2,    151.0,2,    49.23,2,    33.16,2,     0.00,2,     2.32,2,    0.020,2,    0.013,2,   2225.6,2,   2375.9,3,     7.58,2,   25.00,  4.8594
     3250031_1,   P31,     2,  1,     11,     11,2,19940126,0946,-17.3980,-149.9417, 2621,    904.0,   4.3553,  34.4784,2,  34.4795,2,    147.4,2,    146.4,2,    62.63,2,    34.06,2,     0.00,2,     2.39,2,    0.009,2,    0.003,2,   2238.8,2,   2405.6,3,  -999.00,9, -999.00,  4.2851
     3250031_1,   P31,     2,  1,     10,     10,2,19940126,0946,-17.3980,-149.9417, 2621,   1004.4,   3.9628,  34.5009,2,  34.5001,2,    146.9,2,    145.0,2,    70.85,2,    34.62,2,     0.00,2,     2.42,2,    0.009,2,    0.001,2,   2252.3,2,   2398.6,3,     7.57,2,   25.00,  3.8871
     3250031_1,   P31,     2,  1,      9,      9,2,19940126,0946,-17.3980,-149.9417, 2621,   1104.2,   3.6112,  34.5247,2,  34.5229,2,    146.4,2,    143.5,2,    79.67,2,    35.02,2,     0.00,2,     2.47,2, -999.000,9, -999.000,9,   2263.2,2,   2354.4,2,     7.56,2,   25.00,  3.5301
     3250031_1,   P31,     2,  1,      8,      8,2,19940126,0946,-17.3980,-149.9417, 2621,   1204.0,   3.2961,  34.5456,2,  34.5447,2,    140.5,2,    142.3,2,    87.03,2,    35.27,2,     0.00,2,     2.49,2,    0.007,2,    0.010,2,   2272.7,2,   2364.5,2,     7.56,2,   25.00,  3.2096
     3250031_1,   P31,     2,  1,      7,      7,2,19940126,0946,-17.3980,-149.9417, 2621,   1404.5,   2.9091,  34.5723,2,  34.5719,2,    147.3,2,    144.0,2,    96.75,2,    35.37,2,     0.00,2,     2.50,2,    0.004,2,   -0.001,2,   2281.9,2,   2408.2,3,     7.56,2,   25.00,  2.8101
     3250031_1,   P31,     2,  1,      6,      6,2,19940126,0946,-17.3980,-149.9417, 2621,   1605.2,   2.6090,  34.5942,2,  34.5947,2,    145.9,2,    146.3,2,   104.65,2,    35.42,2,     0.00,2,     2.50,2,    0.008,2,   -0.003,2,   2289.3,2,   2381.0,2,     7.57,2,   25.00,  2.4971
     3250031_1,   P31,     2,  1,      5,      5,2,19940126,0946,-17.3980,-149.9417, 2621,   1805.9,   2.3636,  34.6136,2,  34.6128,2,    149.7,2,    148.8,2,   110.48,2,    35.31,2,     0.00,2,     2.49,2,    0.018,2,    0.010,2,   2295.1,2,   2443.6,3,     7.57,2,   25.00,  2.2382
     3250031_1,   P31,     2,  1,      4,      4,2,19940126,0946,-17.3980,-149.9417, 2621,   2007.4,   2.1327,  34.6328,2,  34.6336,2,    150.2,2,    151.6,2,   115.99,2,    35.06,2,     0.00,2,  -999.00,5,    0.007,2,    0.006,2,   2298.3,2,   2396.6,2,     7.57,2,   25.00,  1.9936
     3250031_1,   P31,     2,  1,      3,      3,2,19940126,0946,-17.3980,-149.9417, 2621,   2260.5,   1.9658,  34.6476,2,  34.6460,2,    155.3,2,    155.0,2,   119.55,2,    34.91,2,     0.00,2,  -999.00,5,    0.023,3,    0.004,2,   2300.3,2,   2434.8,3,     7.58,2,   25.00,  1.8075
     3250031_1,   P31,     2,  1,      2,      2,2,19940126,0946,-17.3980,-149.9417, 2621,   2514.9,   1.8599,  34.6570,2,  34.6562,2,    158.6,2,    157.4,2,   122.33,2,    34.85,2,     0.00,2,  -999.00,5,    0.011,2,    0.004,2,   2300.4,2,   2400.3,2,     7.58,2,   25.00,  1.6809
     3250031_1,   P31,     2,  1,      1,      1,2,19940126,0946,-17.3980,-149.9417, 2621,   2679.8,   1.8299,  34.6610,2,  34.6601,2,    153.4,3,    158.7,2,   123.32,2,    34.75,2,     0.00,2,  -999.00,5,    0.035,4,    0.005,2,   2302.1,2,   2445.1,3,     7.58,2,   25.00,  1.6364