BOTTLE,20020814WHPSIOdm
EXPOCODE,SECT_ID,STNNBR,CASTNO,SAMPNO,BTLNBR,BTLNBR_FLAG_W,DATE,TIME,LATITUDE,LONGITUDE,DEPTH,CTDPRS,CTDTMP,CTDSAL,CTDSAL_FLAG_W,SALNTY,SALNTY_FLAG_W,CTDOXY,CTDOXY_FLAG_W,OXYGEN,OXYGEN_FLAG_W,SILCAT,SILCAT_FLAG_W,NITRAT,NITRAT_FLAG_W,NITRIT,NITRIT_FLAG_W,PHSPHT,PHSPHT_FLAG_W,CFC-11,CFC-11_FLAG_W,CFC-12,CFC-12_FLAG_W,TCARBN,TCARBN_FLAG_W,ALKALI,ALKALI_FLAG_W,PH,PH_FLAG_W,PHTEMP,THETA
,,,,,,,,,,,,DBAR,ITS-90,PSS-78,,PSS-78,,UMOL/KG,,UMOL/KG,,UMOL/KG,,UMOL/KG,,UMOL/KG,,UMOL/KG,,PMOL/KG,,PMOL/KG,,UMOL/KG,,UMOL/KG,,,,DEG C,DEG C
     3250031_1,   P31,    10,  1,     36,     36,2,19940128,0319,-15.4253,-152.4510, 4425,      2.5,  29.4597,  35.8308,2,  35.8274,2,    195.5,2,    193.8,2,     1.66,2,     0.10,2,     0.00,2,     0.22,3,    1.514,2,    0.798,2,   -999.0,9,   -999.0,9,  -999.00,9, -999.00, 29.4590
     3250031_1,   P31,    10,  1,     35,     35,2,19940128,0319,-15.4253,-152.4510, 4425,     11.4,  29.5061,  35.8783,2,  35.8836,2,    191.3,2,    194.0,2,     1.64,2,     0.10,2,     0.00,2,     0.22,3,    1.483,2,    0.775,2,   -999.0,9,   -999.0,9,  -999.00,9, -999.00, 29.5033
     3250031_1,   P31,    10,  1,     34,     34,2,19940128,0319,-15.4253,-152.4510, 4425,     56.6,  27.6739,  36.2348,2,  36.2287,2,    183.7,2,    206.6,2,     1.26,2,     0.10,2,     0.00,2,     0.19,3,    1.679,2,    0.889,2,   -999.0,9,   -999.0,9,  -999.00,9, -999.00, 27.6606
     3250031_1,   P31,    10,  1,     33,     33,2,19940128,0319,-15.4253,-152.4510, 4425,    106.3,  25.9131,  36.2578,2,  36.2850,2,    201.8,2,    200.9,2,     1.24,2,     0.05,2,     0.00,2,     0.22,3, -999.000,9, -999.000,9,   -999.0,9,   -999.0,9,  -999.00,9, -999.00, 25.8894
     3250031_1,   P31,    10,  1,     32,     32,2,19940128,0319,-15.4253,-152.4510, 4425,    206.0,  22.1306,  36.1614,2,  36.1750,2,    176.0,2,    174.7,2,     1.40,2,     3.20,2,     0.03,2,     0.48,3,    1.859,2,    0.942,2,   -999.0,9,   -999.0,9,  -999.00,9, -999.00, 22.0894
     3250031_1,   P31,    10,  1,     31,     31,2,19940128,0319,-15.4253,-152.4510, 4425,    305.7,  17.1695,  35.3842,2,  35.3833,2,    164.7,2,    160.0,2,     3.73,2,     8.49,2,     0.01,2,     0.82,3,    1.673,2,    0.820,2,   -999.0,9,   -999.0,9,  -999.00,9, -999.00, 17.1185
     3250031_1,   P31,    10,  1,     30,     30,2,19940128,0319,-15.4253,-152.4510, 4425,    405.5,  11.7152,  34.7772,2,  34.7668,2,    139.2,2,    134.4,2,    12.21,2,    19.70,2,     0.00,2,     1.54,3,    0.767,6,    0.385,6,   -999.0,9,   -999.0,9,  -999.00,9, -999.00, 11.6628
     3250031_1,   P31,    10,  1,     29,     29,2,19940128,0319,-15.4253,-152.4510, 4425,    504.4,   8.4969,  34.5520,2,  34.5516,2,    122.7,2,    125.8,2,    23.03,2,    27.61,2,     0.00,2,     2.02,3,    0.214,2,    0.118,2,   -999.0,9,   -999.0,9,  -999.00,9, -999.00,  8.4433
     3250031_1,   P31,    10,  1,     28,     28,2,19940128,0319,-15.4253,-152.4510, 4425,    604.9,   6.7272,  34.4762,2,  34.4734,2,    141.8,2,    142.9,2,    32.06,2,    30.48,2,     0.00,2,     2.17,3,    0.079,2,    0.038,2,   -999.0,9,   -999.0,9,  -999.00,9, -999.00,  6.6706
     3250031_1,   P31,    10,  1,     27,     27,2,19940128,0319,-15.4253,-152.4510, 4425,    703.5,   5.6364,  34.4388,2,  34.4383,2,    148.4,2,    152.7,2,    39.63,2,    31.87,2,     0.00,2,     2.25,3,    0.047,2,    0.020,2,   -999.0,9,   -999.0,9,  -999.00,9, -999.00,  5.5759
     3250031_1,   P31,    10,  1,     26,     26,2,19940128,0319,-15.4253,-152.4510, 4425,    802.3,   5.0126,  34.4664,2,  34.4661,2,    145.7,2,    146.0,2,    52.29,2,    33.30,2,     0.00,2,     2.37,3,    0.027,2,    0.008,2,   -999.0,9,   -999.0,9,  -999.00,9, -999.00,  4.9468
     3250031_1,   P31,    10,  1,     25,     25,2,19940128,0319,-15.4253,-152.4510, 4425,    904.6,   4.3833,  34.4878,2,  34.4904,2,    142.0,2,    143.2,2,    63.90,2,    34.30,2,     0.00,2,     2.44,3, -999.000,9, -999.000,9,   -999.0,9,   -999.0,9,  -999.00,9, -999.00,  4.3129
     3250031_1,   P31,    10,  1,     24,     24,2,19940128,0319,-15.4253,-152.4510, 4425,   1006.2,   3.9511,  34.5109,2,  34.5106,2,    137.9,2,    140.8,2,    74.10,2,    35.15,2,     0.00,2,     2.49,3,    0.020,2,    0.001,2,   -999.0,9,   -999.0,9,  -999.00,9, -999.00,  3.8753
     3250031_1,   P31,    10,  1,     23,     23,2,19940128,0319,-15.4253,-152.4510, 4425,   1207.0,   3.3545,  34.5455,2,  34.5449,2,    139.0,2,    140.4,2,    87.53,2,    35.69,2,     0.00,2,     2.54,3, -999.000,9, -999.000,9,   -999.0,9,   -999.0,9,  -999.00,9, -999.00,  3.2672
     3250031_1,   P31,    10,  1,     22,     22,2,19940128,0319,-15.4253,-152.4510, 4425,   1407.0,   2.9662,  34.5689,2,  34.5684,2,    145.0,2,    143.2,2,    95.90,2,    35.64,2,     0.00,2,     2.55,3, -999.000,9, -999.000,9,   -999.0,9,   -999.0,9,  -999.00,9, -999.00,  2.8664
     3250031_1,   P31,    10,  1,     21,     21,2,19940128,0319,-15.4253,-152.4510, 4425,   1605.9,   2.6342,  34.5914,2,  34.5910,2,    145.2,2,    145.8,2,   103.23,2,    35.54,2,     0.00,2,     2.56,3,    0.000,2,   -0.003,2,   -999.0,9,   -999.0,9,  -999.00,9, -999.00,  2.5219
     3250031_1,   P31,    10,  1,     20,     20,2,19940128,0319,-15.4253,-152.4510, 4425,   1808.9,   2.3594,  34.6137,2,  34.6137,2,    150.0,2,    147.9,2,   110.47,2,    35.44,2,     0.00,2,     2.56,3, -999.000,9, -999.000,9,   -999.0,9,   -999.0,9,  -999.00,9, -999.00,  2.2338
     3250031_1,   P31,    10,  1,     19,     19,2,19940128,0319,-15.4253,-152.4510, 4425,   2013.0,   2.1767,  34.6302,2,  34.6308,2,    148.1,2,    148.6,2,   115.86,2,    35.48,2,     0.00,2,     2.57,3, -999.000,9, -999.000,9,   -999.0,9,   -999.0,9,  -999.00,9, -999.00,  2.0365
     3250031_1,   P31,    10,  1,     18,     18,2,19940128,0319,-15.4253,-152.4510, 4425,   2214.5,   2.0346,  34.6428,2,  34.6408,2,    151.9,2,    150.3,2,   120.35,2,    35.53,2,     0.00,2,     2.57,3,    0.017,3,   -0.003,2,   -999.0,9,   -999.0,9,  -999.00,9, -999.00,  1.8792
     3250031_1,   P31,    10,  1,     17,     17,2,19940128,0319,-15.4253,-152.4510, 4425,   2414.6,   1.9515,  34.6509,2,  34.6498,2,    153.7,2,    151.9,2,   122.89,2,    35.43,2,     0.00,2,     2.57,3, -999.000,9, -999.000,9,   -999.0,9,   -999.0,9,  -999.00,9, -999.00,  1.7798
     3250031_1,   P31,    10,  1,     16,     16,2,19940128,0319,-15.4253,-152.4510, 4425,   2616.8,   1.8473,  34.6615,2,  34.6622,2,    153.6,2,    152.2,2,   126.45,2,    35.28,2,     0.00,2,     2.57,3, -999.000,9, -999.000,9,   -999.0,9,   -999.0,9,  -999.00,9, -999.00,  1.6592
     3250031_1,   P31,    10,  1,     15,     15,2,19940128,0319,-15.4253,-152.4510, 4425,   2821.2,   1.7591,  34.6658,2,  34.6651,2,    157.7,2,    159.5,2,   124.44,2,    34.83,2,     0.00,2,     2.54,3,    0.007,2,   -0.001,2,   -999.0,9,   -999.0,9,  -999.00,9, -999.00,  1.5537
     3250031_1,   P31,    10,  1,     14,     14,2,19940128,0319,-15.4253,-152.4510, 4425,   3024.2,   1.6827,  34.6729,2,  34.6726,2,    162.0,2,    161.6,2,   126.61,2,    34.88,2,     0.00,2,     2.54,3, -999.000,9, -999.000,9,   -999.0,9,   -999.0,9,  -999.00,9, -999.00,  1.4595
     3250031_1,   P31,    10,  1,     13,     13,2,19940128,0319,-15.4253,-152.4510, 4425,   3224.4,   1.6117,  34.6779,2,  34.6790,2,    166.2,2,    166.0,2,   126.59,2,    34.63,2,     0.00,2,     2.53,3,    0.005,2,    0.006,2,   -999.0,9,   -999.0,9,  -999.00,9, -999.00,  1.3706
     3250031_1,   P31,    10,  1,     12,     12,2,19940128,0319,-15.4253,-152.4510, 4425,   3325.4,   1.5892,  34.6795,2,  34.6774,2,    168.0,2,    167.8,2,   126.17,2,    34.42,2,     0.00,2,     2.53,3, -999.000,9, -999.000,9,   -999.0,9,   -999.0,9,  -999.00,9, -999.00,  1.3386
     3250031_1,   P31,    10,  1,     11,     11,2,19940128,0319,-15.4253,-152.4510, 4425,   3427.8,   1.5838,  34.6805,2,  34.6792,2,    167.9,2,    168.8,2,   125.55,2,    34.37,2,     0.00,2,     2.52,3, -999.000,9, -999.000,9,   -999.0,9,   -999.0,9,  -999.00,9, -999.00,  1.3230
     3250031_1,   P31,    10,  1,     10,     10,2,19940128,0319,-15.4253,-152.4510, 4425,   3528.5,   1.5623,  34.6822,2,  34.6816,2,    170.0,2,    170.7,2,   125.33,2,    34.12,2,     0.00,2,     2.53,3,    0.005,2,    0.000,2,   -999.0,9,   -999.0,9,  -999.00,9, -999.00,  1.2917
     3250031_1,   P31,    10,  1,      9,      9,2,19940128,0319,-15.4253,-152.4510, 4425,   3630.2,   1.5248,  34.6848,2,  34.6843,2,    172.2,2,    173.4,2,   124.51,2,    34.07,2,     0.00,2,     2.53,3, -999.000,9, -999.000,9,   -999.0,9,   -999.0,9,  -999.00,9, -999.00,  1.2446
     3250031_1,   P31,    10,  1,      8,      8,2,19940128,0319,-15.4253,-152.4510, 4425,   3732.3,   1.4972,  34.6872,2,  34.6884,2,    175.2,2,    175.9,2,   124.49,2,    33.97,2,     0.00,2,     2.52,3, -999.000,9, -999.000,9,   -999.0,9,   -999.0,9,  -999.00,9, -999.00,  1.2070
     3250031_1,   P31,    10,  1,      7,      7,2,19940128,0319,-15.4253,-152.4510, 4425,   3834.9,   1.4710,  34.6892,2,  34.6904,2,    179.4,2,    178.3,2,   123.88,2,    33.77,2,     0.00,2,     2.51,3, -999.000,9, -999.000,9,   -999.0,9,   -999.0,9,  -999.00,9, -999.00,  1.1707
     3250031_1,   P31,    10,  1,      6,      6,2,19940128,0319,-15.4253,-152.4510, 4425,   3938.0,   1.4358,  34.6916,2,  34.6911,2,    180.0,2,    180.4,2,   123.06,2,    33.57,2,     0.00,2,     2.50,3,    0.011,3,   -0.002,2,   -999.0,9,   -999.0,9,  -999.00,9, -999.00,  1.1254
     3250031_1,   P31,    10,  1,      5,      5,2,19940128,0319,-15.4253,-152.4510, 4425,   4040.3,   1.4097,  34.6932,2,-999.0000,5,    182.2,2,    182.8,2,   122.84,2,    33.37,2,     0.00,2,     2.50,3,    0.001,2,   -0.002,2,   -999.0,9,   -999.0,9,  -999.00,9, -999.00,  1.0889
     3250031_1,   P31,    10,  1,      4,      4,2,19940128,0319,-15.4253,-152.4510, 4425,   4142.1,   1.3978,  34.6944,2,-999.0000,5,    184.5,2,    183.9,2,   123.02,2,    33.32,2,     0.00,2,     2.50,3,    0.003,2,    0.001,2,   -999.0,9,   -999.0,9,  -999.00,9, -999.00,  1.0662
     3250031_1,   P31,    10,  1,      3,      3,2,19940128,0319,-15.4253,-152.4510, 4425,   4243.7,   1.3918,  34.6951,2,  34.6933,3,    185.4,2,    185.0,2,   123.60,2,    33.32,2,     0.00,2,     2.51,3,    0.007,2,    0.000,2,   -999.0,9,   -999.0,9,  -999.00,9, -999.00,  1.0491
     3250031_1,   P31,    10,  1,      2,      2,2,19940128,0319,-15.4253,-152.4510, 4425,   4345.1,   1.3762,  34.6962,2,  34.6966,2,    187.3,2,    186.5,2,   123.18,2,    33.07,2,     0.00,2,     2.51,3,    0.006,2,    0.000,2,   -999.0,9,   -999.0,9,  -999.00,9, -999.00,  1.0226
     3250031_1,   P31,    10,  1,      1,      1,2,19940128,0319,-15.4253,-152.4510, 4425,   4491.6,   1.3536,  34.6985,2,  34.6976,2,    184.5,3,    188.8,2,   121.97,2,    32.86,2,     0.00,2,     2.51,3,    0.005,2,   -0.001,2,   -999.0,9,   -999.0,9,  -999.00,9, -999.00,  0.9841