BOTTLE,20020814WHPSIOdm
EXPOCODE,SECT_ID,STNNBR,CASTNO,SAMPNO,BTLNBR,BTLNBR_FLAG_W,DATE,TIME,LATITUDE,LONGITUDE,DEPTH,CTDPRS,CTDTMP,CTDSAL,CTDSAL_FLAG_W,SALNTY,SALNTY_FLAG_W,CTDOXY,CTDOXY_FLAG_W,OXYGEN,OXYGEN_FLAG_W,SILCAT,SILCAT_FLAG_W,NITRAT,NITRAT_FLAG_W,NITRIT,NITRIT_FLAG_W,PHSPHT,PHSPHT_FLAG_W,CFC-11,CFC-11_FLAG_W,CFC-12,CFC-12_FLAG_W,TCARBN,TCARBN_FLAG_W,ALKALI,ALKALI_FLAG_W,PH,PH_FLAG_W,PHTEMP,THETA
,,,,,,,,,,,,DBAR,ITS-90,PSS-78,,PSS-78,,UMOL/KG,,UMOL/KG,,UMOL/KG,,UMOL/KG,,UMOL/KG,,UMOL/KG,,PMOL/KG,,PMOL/KG,,UMOL/KG,,UMOL/KG,,,,DEG C,DEG C
     3250031_1,   P31,    51,  1,     36,     36,2,19940206,0448,-10.1492,-168.9913, 4605,      6.5,  29.9694,  34.3760,2,  34.3778,2,    184.6,2,    193.4,2,     1.38,2,     0.00,2,     0.00,2,     0.16,2,    1.535,2,    0.840,2,   -999.0,9,   -999.0,9,  -999.00,9, -999.00, 29.9678
     3250031_1,   P31,    51,  1,     35,     35,2,19940206,0448,-10.1492,-168.9913, 4605,     13.2,  29.9688,  34.3750,2,  34.3737,2,    190.6,2,    193.5,2,     1.37,2,     0.00,2,     0.00,2,     0.17,2, -999.000,9, -999.000,9,   -999.0,9,   -999.0,9,  -999.00,9, -999.00, 29.9655
     3250031_1,   P31,    51,  1,     34,     34,2,19940206,0448,-10.1492,-168.9913, 4605,     57.4,  29.9710,  34.5130,2,  34.5412,2,    190.8,2,    195.7,2,     1.36,2,     0.00,2,     0.00,2,     0.18,2,    1.539,2,    0.835,2,   -999.0,9,   -999.0,9,  -999.00,9, -999.00, 29.9568
     3250031_1,   P31,    51,  1,     33,     33,2,19940206,0448,-10.1492,-168.9913, 4605,    107.9,  27.1176,  35.9479,2,  35.9509,2,    158.9,2,    154.2,2,     2.25,2,     3.95,2,     0.67,2,     0.61,2,    1.628,2,    0.865,2,   -999.0,9,   -999.0,9,  -999.00,9, -999.00, 27.0926
     3250031_1,   P31,    51,  1,     32,     32,2,19940206,0448,-10.1492,-168.9913, 4605,    227.7,  18.6362,  35.6127,2,  35.6086,2,    131.4,2,    127.8,2,     5.12,2,    11.24,2,     0.01,2,     1.04,2,    1.610,2,    0.822,2,   -999.0,9,   -999.0,9,  -999.00,9, -999.00, 18.5960
     3250031_1,   P31,    51,  1,     31,     31,2,19940206,0448,-10.1492,-168.9913, 4605,    348.5,  11.6329,  34.8465,2,  34.8356,2,     90.4,2,     92.9,2,    17.88,2,    24.31,2,     0.00,2,     1.85,2,    0.416,2,    0.214,2,   -999.0,9,   -999.0,9,  -999.00,9, -999.00, 11.5882
     3250031_1,   P31,    51,  1,     30,     30,2,19940206,0448,-10.1492,-168.9913, 4605,    468.6,   8.3446,  34.6089,2,  34.6115,2,    118.5,2,    115.7,2,    27.40,2,    29.29,2,     0.00,2,     2.07,2,    0.120,2,    0.063,2,   -999.0,9,   -999.0,9,  -999.00,9, -999.00,  8.2955
     3250031_1,   P31,    51,  1,     29,     29,2,19940206,0448,-10.1492,-168.9913, 4605,    589.7,   6.6651,  34.5338,2,  34.5322,2,    114.4,2,    117.9,2,    39.81,2,    33.13,2,     0.00,2,     2.30,2, -999.000,9, -999.000,9,   -999.0,9,   -999.0,9,  -999.00,9, -999.00,  6.6103
     3250031_1,   P31,    51,  1,     27,     27,2,19940206,0448,-10.1492,-168.9913, 4605,    710.8,   5.7738,  34.5178,2,  34.5175,2,    112.0,2,    104.2,2,    51.87,2,    36.26,2,     0.00,2,     2.52,2,    0.013,2,    0.004,2,   -999.0,9,   -999.0,9,  -999.00,9, -999.00,  5.7119
     3250031_1,   P31,    51,  1,     28,     28,2,19940206,0448,-10.1492,-168.9913, 4605,    710.9,   5.7775,  34.5178,2,  34.5171,2,    112.0,2,    103.6,2,    51.69,2,    36.36,2,     0.00,2,     2.51,2, -999.000,9, -999.000,9,   -999.0,9,   -999.0,9,  -999.00,9, -999.00,  5.7155
     3250031_1,   P31,    51,  1,     26,     26,2,19940206,0448,-10.1492,-168.9913, 4605,    811.8,   5.1941,  34.5100,2,  34.5098,2,    113.9,2,    116.1,2,    58.54,2,    35.92,2,     0.00,2,     2.50,2, -999.000,9, -999.000,9,   -999.0,9,   -999.0,9,  -999.00,9, -999.00,  5.1263
     3250031_1,   P31,    51,  1,     25,     25,2,19940206,0448,-10.1492,-168.9913, 4605,   1013.0,   4.4049,  34.5233,2,  34.5230,2,    117.8,2,    117.8,2,    73.22,2,    36.81,2,     0.00,2,     2.57,2,    0.005,2,    0.005,2,   -999.0,9,   -999.0,9,  -999.00,9, -999.00,  4.3250
     3250031_1,   P31,    51,  1,     24,     24,2,19940206,0448,-10.1492,-168.9913, 4605,   1264.1,   3.5237,  34.5555,2,  34.5544,2,    125.2,2,    125.0,2,    91.21,2,    36.92,2,     0.00,2,     2.58,2, -999.000,9, -999.000,9,   -999.0,9,   -999.0,9,  -999.00,9, -999.00,  3.4300
     3250031_1,   P31,    51,  1,     23,     23,2,19940206,0448,-10.1492,-168.9913, 4605,   1518.0,   2.8816,  34.5868,2,  34.5837,3,    134.3,2,    133.5,2,   103.56,2,    36.47,2,     0.00,2,     2.55,2, -999.000,9, -999.000,9,   -999.0,9,   -999.0,9,  -999.00,9, -999.00,  2.7736
     3250031_1,   P31,    51,  1,     22,     22,2,19940206,0448,-10.1492,-168.9913, 4605,   1768.6,   2.4265,  34.6166,2,  34.6155,2,    138.5,2,    137.7,2,   114.83,2,    36.27,2,     0.00,2,     2.53,2, -999.000,9, -999.000,9,   -999.0,9,   -999.0,9,  -999.00,9, -999.00,  2.3034
     3250031_1,   P31,    51,  1,     21,     21,2,19940206,0448,-10.1492,-168.9913, 4605,   2023.9,   2.1056,  34.6404,2,  34.6395,2,    135.2,2,    138.5,2,   125.21,2,    36.37,2,     0.00,2,     2.53,2,    0.001,2,   -0.002,2,   -999.0,9,   -999.0,9,  -999.00,9, -999.00,  1.9655
     3250031_1,   P31,    51,  1,     20,     20,2,19940206,0448,-10.1492,-168.9913, 4605,   2279.8,   1.9233,  34.6543,2,  34.6543,2,    141.5,2,    140.1,2,   130.61,2,    36.23,2,     0.00,2,     2.53,2, -999.000,9, -999.000,9,   -999.0,9,   -999.0,9,  -999.00,9, -999.00,  1.7640
     3250031_1,   P31,    51,  1,     19,     19,2,19940206,0448,-10.1492,-168.9913, 4605,   2533.6,   1.8231,  34.6632,2,  34.6627,2,    143.2,2,    142.4,2,   134.06,2,    36.13,2,     0.00,2,     2.53,2, -999.000,9, -999.000,9,   -999.0,9,   -999.0,9,  -999.00,9, -999.00,  1.6430
     3250031_1,   P31,    51,  1,     18,     18,2,19940206,0448,-10.1492,-168.9913, 4605,   2782.5,   1.7266,  34.6700,2,  34.6702,2,    148.3,2,    147.3,2,   134.87,2,    35.83,2,     0.00,2,     2.49,2,   -0.001,2,    0.001,2,   -999.0,9,   -999.0,9,  -999.00,9, -999.00,  1.5255
     3250031_1,   P31,    51,  1,     17,     17,2,19940206,0448,-10.1492,-168.9913, 4605,   3031.5,   1.6375,  34.6760,2,  34.6738,3,    154.3,2,    152.8,2,   134.86,2,    35.54,2,     0.00,2,     2.47,2, -999.000,9, -999.000,9,   -999.0,9,   -999.0,9,  -999.00,9, -999.00,  1.4146
     3250031_1,   P31,    51,  1,     16,     16,2,19940206,0448,-10.1492,-168.9913, 4605,   3243.3,   1.5909,  34.6796,2,  34.6787,2,    155.5,2,    156.1,2,   134.85,2,    35.29,2,     0.00,2,     2.45,2, -999.000,9, -999.000,9,   -999.0,9,   -999.0,9,  -999.00,9, -999.00,  1.3484
     3250031_1,   P31,    51,  1,     15,     15,2,19940206,0448,-10.1492,-168.9913, 4605,   3451.3,   1.5475,  34.6830,2,  34.6807,3,    160.5,2,    159.9,2,   134.64,2,    35.10,2,     0.00,2,     2.44,2, -999.000,9, -999.000,9,   -999.0,9,   -999.0,9,  -999.00,9, -999.00,  1.2851
     3250031_1,   P31,    51,  1,     14,     14,2,19940206,0448,-10.1492,-168.9913, 4605,   3553.4,   1.5347,  34.6841,2,  34.6844,2,    162.0,2,    161.5,2,   135.04,2,    35.05,2,     0.00,2,     2.42,2,    0.009,3,    0.005,2,   -999.0,9,   -999.0,9,  -999.00,9, -999.00,  1.2622
     3250031_1,   P31,    51,  1,     13,     13,2,19940206,0448,-10.1492,-168.9913, 4605,   3655.2,   1.5138,  34.6853,2,  34.6860,2,    163.7,2,    162.9,2,   135.65,2,    34.95,2,     0.00,2,     2.42,2, -999.000,9, -999.000,9,   -999.0,9,   -999.0,9,  -999.00,9, -999.00,  1.2313
     3250031_1,   P31,    51,  1,     12,     12,2,19940206,0448,-10.1492,-168.9913, 4605,   3754.0,   1.4844,  34.6871,2,  34.6878,2,    165.2,2,    165.2,2,   134.83,2,    34.76,2,     0.00,2,     2.42,2, -999.000,9, -999.000,9,   -999.0,9,   -999.0,9,  -999.00,9, -999.00,  1.1923
     3250031_1,   P31,    51,  1,     11,     11,2,19940206,0448,-10.1492,-168.9913, 4605,   3856.4,   1.4644,  34.6887,2,  34.6856,3,    168.5,2,    167.2,2,   134.00,2,    34.61,2,     0.00,2,     2.40,2, -999.000,9, -999.000,9,   -999.0,9,   -999.0,9,  -999.00,9, -999.00,  1.1620
     3250031_1,   P31,    51,  1,     10,     10,2,19940206,0448,-10.1492,-168.9913, 4605,   3956.9,   1.4485,  34.6899,2,  34.6870,3,    169.6,2,    168.9,2,   133.59,2,    34.46,2,     0.00,2,     2.40,2,    0.012,2,    0.008,2,   -999.0,9,   -999.0,9,  -999.00,9, -999.00,  1.1357
     3250031_1,   P31,    51,  1,      9,      9,2,19940206,0448,-10.1492,-168.9913, 4605,   4057.6,   1.4095,  34.6928,2,  34.6892,3,    174.6,2,    173.3,2,   131.75,2,    34.12,2,     0.00,2,     2.37,2, -999.000,9, -999.000,9,   -999.0,9,   -999.0,9,  -999.00,9, -999.00,  1.0868
     3250031_1,   P31,    51,  1,      8,      8,2,19940206,0448,-10.1492,-168.9913, 4605,   4157.7,   1.3480,  34.6959,2,  34.6957,2,    179.9,2,    180.1,2,   128.71,2,    33.63,2,     0.00,2,     2.33,2, -999.000,9, -999.000,9,   -999.0,9,   -999.0,9,  -999.00,9, -999.00,  1.0161
     3250031_1,   P31,    51,  1,      7,      7,2,19940206,0448,-10.1492,-168.9913, 4605,   4256.5,   1.3146,  34.6978,2,  34.6973,2,    183.6,2,    183.5,2,   126.31,2,    33.43,2,     0.00,2,     2.31,2, -999.000,9, -999.000,9,   -999.0,9,   -999.0,9,  -999.00,9, -999.00,  0.9728
     3250031_1,   P31,    51,  1,      6,      6,2,19940206,0448,-10.1492,-168.9913, 4605,   4328.5,   1.2646,  34.6999,2,  34.6990,2,    187.5,2,    187.8,2,   125.90,2,    33.04,2,     0.00,2,     2.30,2,    0.003,2,   -0.002,2,   -999.0,9,   -999.0,9,  -999.00,9, -999.00,  0.9162
     3250031_1,   P31,    51,  1,      5,      5,2,19940206,0448,-10.1492,-168.9913, 4605,   4399.5,   1.2303,  34.7018,2,  34.7004,2,    190.8,2,    192.2,2,   124.11,2,    32.79,2,     0.00,2,     2.28,2,    0.005,2,    0.004,2,   -999.0,9,   -999.0,9,  -999.00,9, -999.00,  0.8750
     3250031_1,   P31,    51,  1,      4,      4,2,19940206,0448,-10.1492,-168.9913, 4605,   4465.3,   1.1171,  34.7055,2,  34.7032,3,    198.2,2,    199.7,2,   121.53,2,    32.35,2,     0.00,2,     2.24,2,    0.004,2,   -0.001,2,   -999.0,9,   -999.0,9,  -999.00,9, -999.00,  0.7578
     3250031_1,   P31,    51,  1,      3,      3,2,19940206,0448,-10.1492,-168.9913, 4605,   4532.8,   1.0650,  34.7073,2,  34.7052,3,    203.3,2,    203.8,2,   120.54,2,    32.06,2,     0.00,2,     2.22,2,    0.001,2,   -0.004,2,   -999.0,9,   -999.0,9,  -999.00,9, -999.00,  0.6997
     3250031_1,   P31,    51,  1,      2,      2,2,19940206,0448,-10.1492,-168.9913, 4605,   4643.7,   1.0547,  34.7077,2,  34.7054,3,    205.4,2,    204.7,2,   120.53,2,    31.96,2,     0.00,2,     2.22,2,    0.010,4,   -0.001,2,   -999.0,9,   -999.0,9,  -999.00,9, -999.00,  0.6771
     3250031_1,   P31,    51,  1,      1,      1,2,19940206,0448,-10.1492,-168.9913, 4605,   4700.6,   1.0585,  34.7078,2,  34.7058,3,    205.5,2,    204.9,2,   120.33,2,    31.96,2,     0.00,2,     2.22,2,    0.010,3,    0.011,3,   -999.0,9,   -999.0,9,  -999.00,9, -999.00,  0.6743