BOTTLE,20020814WHPSIOdm
EXPOCODE,SECT_ID,STNNBR,CASTNO,SAMPNO,BTLNBR,BTLNBR_FLAG_W,DATE,TIME,LATITUDE,LONGITUDE,DEPTH,CTDPRS,CTDTMP,CTDSAL,CTDSAL_FLAG_W,SALNTY,SALNTY_FLAG_W,CTDOXY,CTDOXY_FLAG_W,OXYGEN,OXYGEN_FLAG_W,SILCAT,SILCAT_FLAG_W,NITRAT,NITRAT_FLAG_W,NITRIT,NITRIT_FLAG_W,PHSPHT,PHSPHT_FLAG_W,CFC-11,CFC-11_FLAG_W,CFC-12,CFC-12_FLAG_W,TCARBN,TCARBN_FLAG_W,ALKALI,ALKALI_FLAG_W,PH,PH_FLAG_W,PHTEMP,THETA
,,,,,,,,,,,,DBAR,ITS-90,PSS-78,,PSS-78,,UMOL/KG,,UMOL/KG,,UMOL/KG,,UMOL/KG,,UMOL/KG,,UMOL/KG,,PMOL/KG,,PMOL/KG,,UMOL/KG,,UMOL/KG,,,,DEG C,DEG C
     3250031_1,   P31,    30,  1,     24,     24,2,19940201,2341,-11.7520,-161.6137, 2646,      2.8,  29.7029,  35.3063,2,  35.3407,2,    193.4,2,    193.1,2,     1.43,2,     0.00,2,     0.00,2,     0.19,2,    1.558,2,    0.861,2,   -999.0,9,   -999.0,9,  -999.00,9, -999.00, 29.7022
     3250031_1,   P31,    30,  1,     23,     23,2,19940201,2341,-11.7520,-161.6137, 2646,     14.5,  29.7444,  35.4389,2,  35.4385,2,    191.7,2,    193.0,2,     1.38,2,     0.00,2,     0.00,2,     0.20,2,    1.529,2,    0.840,2,   -999.0,9,   -999.0,9,  -999.00,9, -999.00, 29.7408
     3250031_1,   P31,    30,  1,     22,     22,2,19940201,2341,-11.7520,-161.6137, 2646,     54.4,  28.9328,  35.9575,2,  35.9573,2,    201.6,2,    202.5,2,     1.33,2,     0.00,2,     0.00,2,     0.19,2,    1.583,2,    0.863,2,   -999.0,9,   -999.0,9,  -999.00,9, -999.00, 28.9196
     3250031_1,   P31,    30,  1,     21,     21,2,19940201,2341,-11.7520,-161.6137, 2646,    104.3,  27.3849,  36.2028,2,  36.2201,2,    183.8,2,    202.0,2,     1.28,2,     0.00,2,     0.00,2,     0.22,2,    1.691,2,    0.920,2,   -999.0,9,   -999.0,9,  -999.00,9, -999.00, 27.3606
     3250031_1,   P31,    30,  1,     20,     20,2,19940201,2341,-11.7520,-161.6137, 2646,    203.8,  21.9146,  36.1185,2,  36.1014,2,    161.5,2,    166.7,2,     1.60,2,     4.42,2,     0.02,2,     0.57,2,    1.857,6,    0.979,6,   -999.0,9,   -999.0,9,  -999.00,9, -999.00, 21.8741
     3250031_1,   P31,    30,  1,     19,     19,2,19940201,2341,-11.7520,-161.6137, 2646,    304.5,  13.6920,  34.9760,2,  34.9659,2,    128.1,2,    120.0,2,     9.76,2,    16.73,2,     0.00,2,     1.43,2,    1.051,2,    0.523,2,   -999.0,9,   -999.0,9,  -999.00,9, -999.00, 13.6485
     3250031_1,   P31,    30,  1,     18,     18,2,19940201,2341,-11.7520,-161.6137, 2646,    404.1,   9.6524,  34.6487,2,  34.6459,2,    118.4,2,    114.5,2,    20.48,2,    25.90,2,     0.00,2,     1.93,2,    0.249,2,    0.142,2,   -999.0,9,   -999.0,9,  -999.00,9, -999.00,  9.6062
     3250031_1,   P31,    30,  1,     17,     17,2,19940201,2341,-11.7520,-161.6137, 2646,    504.7,   7.4777,  34.5517,2,  34.5522,2,    109.1,2,    120.1,2,    31.76,2,    30.85,2,     0.00,2,     2.18,2,    0.064,2,    0.048,2,   -999.0,9,   -999.0,9,  -999.00,9, -999.00,  7.4280
     3250031_1,   P31,    30,  1,     16,     16,2,19940201,2341,-11.7520,-161.6137, 2646,    604.4,   6.5081,  34.5358,2,  34.5388,2,    102.3,2,     99.1,2,    43.41,2,    35.21,2,     0.00,2,     2.45,2,    0.011,2,    0.000,2,   -999.0,9,   -999.0,9,  -999.00,9, -999.00,  6.4525
     3250031_1,   P31,    30,  1,     15,     15,2,19940201,2341,-11.7520,-161.6137, 2646,    704.6,   5.9011,  34.5208,2,  34.5210,2,    100.7,2,     99.4,2,    50.69,2,    36.60,2,     0.00,2,     2.54,2,    0.020,4,    0.003,2,   -999.0,9,   -999.0,9,  -999.00,9, -999.00,  5.8390
     3250031_1,   P31,    30,  1,     14,     14,2,19940201,2341,-11.7520,-161.6137, 2646,    804.6,   5.3470,  34.5169,2,  34.5186,2,    101.9,2,     99.4,2,    58.72,2,    37.55,2,     0.00,2,     2.61,2,    0.003,2,   -0.001,2,   -999.0,9,   -999.0,9,  -999.00,9, -999.00,  5.2789
     3250031_1,   P31,    30,  1,     13,     13,2,19940201,2341,-11.7520,-161.6137, 2646,    905.2,   4.8917,  34.5158,2,  34.5180,2,    108.1,2,    108.2,2,    65.30,2,    37.21,2,     0.00,2,     2.59,2, -999.000,9, -999.000,9,   -999.0,9,   -999.0,9,  -999.00,9, -999.00,  4.8177
     3250031_1,   P31,    30,  1,     12,     12,2,19940201,2341,-11.7520,-161.6137, 2646,   1005.8,   4.3560,  34.5168,2,  34.5172,2,    117.8,2,    119.0,2,    72.64,2,    36.77,2,     0.00,2,     2.57,2,    0.003,4,    0.019,4,   -999.0,9,   -999.0,9,  -999.00,9, -999.00,  4.2770
     3250031_1,   P31,    30,  1,     11,     11,2,19940201,2341,-11.7520,-161.6137, 2646,   1206.8,   3.6520,  34.5477,2,  34.5472,2,    121.6,2,    120.8,2,    88.24,2,    37.22,2,     0.00,2,     2.61,2, -999.000,9, -999.000,9,   -999.0,9,   -999.0,9,  -999.00,9, -999.00,  3.5620
     3250031_1,   P31,    30,  1,     10,     10,2,19940201,2341,-11.7520,-161.6137, 2646,   1407.1,   3.1697,  34.5693,2,  34.5688,2,    133.4,2,    129.6,2,    96.87,2,    36.78,2,     0.00,2,     2.59,2,    0.002,2,    0.001,2,   -999.0,9,   -999.0,9,  -999.00,9, -999.00,  3.0677
     3250031_1,   P31,    30,  1,      9,      9,2,19940201,2341,-11.7520,-161.6137, 2646,   1607.3,   2.7254,  34.5939,2,  34.5931,2,    137.1,2,    137.4,2,   106.38,2,    36.35,2,     0.00,2,     2.54,2, -999.000,9, -999.000,9,   -999.0,9,   -999.0,9,  -999.00,9, -999.00,  2.6119
     3250031_1,   P31,    30,  1,      8,      8,2,19940201,2341,-11.7520,-161.6137, 2646,   1809.7,   2.4298,  34.6138,2,  34.6135,2,    141.8,2,    139.9,2,   113.72,2,    36.16,2,     0.00,2,     2.52,2,    0.004,2,   -0.003,2,   -999.0,9,   -999.0,9,  -999.00,9, -999.00,  2.3032
     3250031_1,   P31,    30,  1,      7,      7,2,19940201,2341,-11.7520,-161.6137, 2646,   2010.1,   2.1853,  34.6309,2,  34.6308,2,    144.9,2,    146.1,2,   118.00,2,    35.86,2,     0.00,2,     2.49,2, -999.000,9, -999.000,9,   -999.0,9,   -999.0,9,  -999.00,9, -999.00,  2.0452
     3250031_1,   P31,    30,  1,      6,      6,2,19940201,2341,-11.7520,-161.6137, 2646,   2110.3,   2.0890,  34.6388,2,  34.6387,2,    147.8,2,    147.0,2,   120.54,2,    35.77,2,     0.00,2,     2.49,2, -999.000,9, -999.000,9,   -999.0,9,   -999.0,9,  -999.00,9, -999.00,  1.9417
     3250031_1,   P31,    30,  1,      5,      5,2,19940201,2341,-11.7520,-161.6137, 2646,   2210.1,   2.0214,  34.6454,2,  34.6453,2,    145.0,2,    147.3,2,   123.30,2,    35.78,2,     0.00,2,     2.49,2, -999.000,9, -999.000,9,   -999.0,9,   -999.0,9,  -999.00,9, -999.00,  1.8666
     3250031_1,   P31,    30,  1,      4,      4,2,19940201,2341,-11.7520,-161.6137, 2646,   2310.3,   1.9508,  34.6523,2,  34.6528,2,    143.9,2,    147.3,2,   125.87,2,    35.79,2,     0.00,2,     2.49,2,    0.009,2,    0.020,3,   -999.0,9,   -999.0,9,  -999.00,9, -999.00,  1.7884
     3250031_1,   P31,    30,  1,      3,      3,2,19940201,2341,-11.7520,-161.6137, 2646,   2408.5,   1.8993,  34.6570,2,  34.6565,2,    147.4,2,    148.0,2,   127.86,2,    35.80,2,     0.00,2,     2.49,2, -999.000,9, -999.000,9,   -999.0,9,   -999.0,9,  -999.00,9, -999.00,  1.7291
     3250031_1,   P31,    30,  1,      2,      2,2,19940201,2341,-11.7520,-161.6137, 2646,   2508.5,   1.8598,  34.6607,2,  34.6612,2,    148.4,2,    148.1,2,   129.45,2,    35.80,2,     0.00,2,     2.49,2,    0.002,2,   -0.001,2,   -999.0,9,   -999.0,9,  -999.00,9, -999.00,  1.6814
     3250031_1,   P31,    30,  1,      1,      1,2,19940201,2341,-11.7520,-161.6137, 2646,   2653.6,   1.7895,  34.6663,2,  34.6665,2,    151.5,2,    150.6,2,   131.05,2,    35.66,2,     0.00,2,     2.48,2,    0.008,2,    0.000,2,   -999.0,9,   -999.0,9,  -999.00,9, -999.00,  1.5991
     3250031_1,   P31,    31,  1,     25,     25,2,19940202,0402,-11.6172,-162.0037, 2604,      1.6,  29.9135,  34.9552,2,  34.9553,2,    185.7,2,    192.8,2,     1.35,2,     0.00,2,     0.00,2,     0.19,2,    1.557,2,    0.838,2,   -999.0,9,   -999.0,9,  -999.00,9, -999.00, 29.9131
     3250031_1,   P31,    31,  1,     24,     24,2,19940202,0402,-11.6172,-162.0037, 2604,     10.4,  29.9011,  34.9557,2,  34.9555,2,    199.7,2,    193.3,2,     1.33,2,     0.00,2,     0.00,2,     0.18,2, -999.000,9, -999.000,9,   -999.0,9,   -999.0,9,  -999.00,9, -999.00, 29.8985
     3250031_1,   P31,    31,  1,     23,     23,2,19940202,0402,-11.6172,-162.0037, 2604,     55.1,  29.1095,  35.9681,2,  35.9648,2,    211.5,2,    203.2,2,     1.32,2,     0.00,2,     0.00,2,     0.19,2,    1.620,2,    0.902,2,   -999.0,9,   -999.0,9,  -999.00,9, -999.00, 29.0961
     3250031_1,   P31,    31,  1,     22,     22,2,19940202,0402,-11.6172,-162.0037, 2604,    105.2,  27.6860,  36.1734,2,  36.1727,2,    216.0,2,    202.3,2,     1.12,2,     0.00,2,     0.00,2,     0.20,2,    1.704,2,    0.941,2,   -999.0,9,   -999.0,9,  -999.00,9, -999.00, 27.6613
     3250031_1,   P31,    31,  1,     21,     21,2,19940202,0402,-11.6172,-162.0037, 2604,    205.6,  20.4683,  35.9134,2,  35.9342,2,    160.1,2,    165.4,2,     1.65,2,     5.10,2,     0.01,2,     0.61,2,    1.899,2,    0.979,2,   -999.0,9,   -999.0,9,  -999.00,9, -999.00, 20.4294
     3250031_1,   P31,    31,  1,     20,     20,2,19940202,0402,-11.6172,-162.0037, 2604,    305.1,  13.2596,  34.9232,2,  34.9268,2,    133.4,2,    115.0,2,    10.81,2,    17.71,2,     0.00,2,     1.51,2,    0.967,3,    0.475,2,   -999.0,9,   -999.0,9,  -999.00,9, -999.00, 13.2169
     3250031_1,   P31,    31,  1,     19,     19,2,19940202,0402,-11.6172,-162.0037, 2604,    405.4,   8.7361,  34.6163,2,  34.6153,2,     95.4,2,     96.0,2,    27.49,2,    30.20,2,     0.00,2,     2.17,2, -999.000,9, -999.000,9,   -999.0,9,   -999.0,9,  -999.00,9, -999.00,  8.6925
     3250031_1,   P31,    31,  1,     18,     18,2,19940202,0402,-11.6172,-162.0037, 2604,    505.1,   7.1729,  34.5582,2,  34.5572,2,    101.6,2,    101.4,2,    37.76,2,    33.74,2,     0.00,2,     2.34,2,    0.025,2,    0.010,2,   -999.0,9,   -999.0,9,  -999.00,9, -999.00,  7.1242
     3250031_1,   P31,    31,  1,     17,     17,2,19940202,0402,-11.6172,-162.0037, 2604,    605.1,   6.3552,  34.5294,2,  34.5287,2,    104.7,2,    101.4,2,    45.09,2,    35.48,2,     0.00,2,     2.46,2, -999.000,9, -999.000,9,   -999.0,9,   -999.0,9,  -999.00,9, -999.00,  6.3002
     3250031_1,   P31,    31,  1,     16,     16,2,19940202,0402,-11.6172,-162.0037, 2604,    704.6,   5.7734,  34.5204,2,  34.5212,2,     98.2,2,     97.7,2,    52.81,2,    36.98,2,     0.00,2,     2.56,2, -999.000,9, -999.000,9,   -999.0,9,   -999.0,9,  -999.00,9, -999.00,  5.7120
     3250031_1,   P31,    31,  1,     15,     15,2,19940202,0402,-11.6172,-162.0037, 2604,    805.0,   5.2436,  34.5128,2,  34.5124,2,    100.2,2,    104.2,2,    59.44,2,    37.14,2,     0.00,2,     2.59,2, -999.000,9, -999.000,9,   -999.0,9,   -999.0,9,  -999.00,9, -999.00,  5.1762
     3250031_1,   P31,    31,  1,     14,     14,2,19940202,0402,-11.6172,-162.0037, 2604,    905.9,   4.8581,  34.5210,2,  34.5210,2,    106.9,2,    106.0,2,    67.19,2,    37.45,2,     0.00,2,     2.62,2, -999.000,9, -999.000,9,   -999.0,9,   -999.0,9,  -999.00,9, -999.00,  4.7842
     3250031_1,   P31,    31,  1,     13,     13,2,19940202,0402,-11.6172,-162.0037, 2604,   1006.7,   4.3837,  34.5256,2,  34.5269,2,    110.5,2,    111.5,2,    74.60,2,    37.41,2,     0.00,2,     2.61,2, -999.000,9, -999.000,9,   -999.0,9,   -999.0,9,  -999.00,9, -999.00,  4.3045
     3250031_1,   P31,    31,  1,     12,     12,2,19940202,0402,-11.6172,-162.0037, 2604,   1206.3,   3.6607,  34.5496,2,  34.5487,2,    113.0,2,    118.1,2,    88.62,2,    37.42,2,     0.00,2,     2.62,2, -999.000,9, -999.000,9,   -999.0,9,   -999.0,9,  -999.00,9, -999.00,  3.5706
     3250031_1,   P31,    31,  1,     11,     11,2,19940202,0402,-11.6172,-162.0037, 2604,   1408.2,   3.1442,  34.5744,2,  34.5738,2,    127.8,2,    125.8,2,    99.80,2,    36.93,2,     0.00,2,     2.59,2, -999.000,9, -999.000,9,   -999.0,9,   -999.0,9,  -999.00,9, -999.00,  3.0424
     3250031_1,   P31,    31,  1,     10,     10,2,19940202,0402,-11.6172,-162.0037, 2604,   1608.7,   2.6902,  34.5955,2,  34.5941,2,    136.3,2,    137.2,2,   106.32,2,    36.29,2,     0.00,2,     2.53,2, -999.000,9, -999.000,9,   -999.0,9,   -999.0,9,  -999.00,9, -999.00,  2.5770
     3250031_1,   P31,    31,  1,      9,      9,2,19940202,0402,-11.6172,-162.0037, 2604,   1809.8,   2.3643,  34.6201,2,  34.6180,2,    142.1,2,    139.8,2,   115.67,2,    36.30,2,     0.00,2,     2.52,2, -999.000,9, -999.000,9,   -999.0,9,   -999.0,9,  -999.00,9, -999.00,  2.2385
     3250031_1,   P31,    31,  1,      8,      8,2,19940202,0402,-11.6172,-162.0037, 2604,   2010.5,   2.1419,  34.6345,2,  34.6335,2,    145.4,2,    145.8,2,   119.41,2,    35.96,2,     0.00,2,     2.50,2, -999.000,9, -999.000,9,   -999.0,9,   -999.0,9,  -999.00,9, -999.00,  2.0024
     3250031_1,   P31,    31,  1,      7,      7,2,19940202,0402,-11.6172,-162.0037, 2604,   2110.5,   2.0738,  34.6407,2,  34.6414,2,    145.0,2,    145.7,2,   122.00,2,    35.97,2,     0.00,2,     2.50,2, -999.000,9, -999.000,9,   -999.0,9,   -999.0,9,  -999.00,9, -999.00,  1.9268
     3250031_1,   P31,    31,  1,      6,      6,2,19940202,0402,-11.6172,-162.0037, 2604,   2209.8,   2.0173,  34.6456,2,  34.6455,2,    144.4,2,    147.6,2,   122.79,2,    35.83,2,     0.00,2,     2.49,2, -999.000,9, -999.000,9,   -999.0,9,   -999.0,9,  -999.00,9, -999.00,  1.8626
     3250031_1,   P31,    31,  1,     51,     51,9,19940202,0402,-11.6172,-162.0037, 2604,   2309.9,   1.9617,  34.6517,2,-999.0000,9,    146.3,2,   -999.0,9,  -999.00,9,  -999.00,9,  -999.00,9,  -999.00,9, -999.000,9, -999.000,9,   -999.0,9,   -999.0,9,  -999.00,9, -999.00,  1.7991
     3250031_1,   P31,    31,  1,      5,      5,2,19940202,0402,-11.6172,-162.0037, 2604,   2310.2,   1.9626,  34.6511,2,  34.6508,2,    146.3,2,    146.5,2,   125.80,2,    35.89,2,     0.00,2,     2.50,2, -999.000,9, -999.000,9,   -999.0,9,   -999.0,9,  -999.00,9, -999.00,  1.8000
     3250031_1,   P31,    31,  1,      3,      3,2,19940202,0402,-11.6172,-162.0037, 2604,   2412.1,   1.8914,  34.6578,2,  34.6567,2,    144.0,2,    147.5,2,   128.02,2,    35.85,2,     0.00,2,     2.49,2, -999.000,9, -999.000,9,   -999.0,9,   -999.0,9,  -999.00,9, -999.00,  1.7210
     3250031_1,   P31,    31,  1,      2,      2,2,19940202,0402,-11.6172,-162.0037, 2604,   2513.4,   1.8431,  34.6621,2,  34.6608,2,    148.3,2,    148.2,2,   129.85,2,    35.81,2,     0.00,2,     2.49,2, -999.000,9, -999.000,9,   -999.0,9,   -999.0,9,  -999.00,9, -999.00,  1.6645
     3250031_1,   P31,    31,  1,      1,      1,2,19940202,0402,-11.6172,-162.0037, 2604,   2609.9,   1.7965,  34.6659,2,  34.6683,2,    150.7,2,    149.5,2,   131.07,2,    35.72,2,     0.00,2,     2.48,2, -999.000,9, -999.000,9,   -999.0,9,   -999.0,9,  -999.00,9, -999.00,  1.6100