BOTTLE,20020814WHPSIOdm
EXPOCODE,SECT_ID,STNNBR,CASTNO,SAMPNO,BTLNBR,BTLNBR_FLAG_W,DATE,TIME,LATITUDE,LONGITUDE,DEPTH,CTDPRS,CTDTMP,CTDSAL,CTDSAL_FLAG_W,SALNTY,SALNTY_FLAG_W,CTDOXY,CTDOXY_FLAG_W,OXYGEN,OXYGEN_FLAG_W,SILCAT,SILCAT_FLAG_W,NITRAT,NITRAT_FLAG_W,NITRIT,NITRIT_FLAG_W,PHSPHT,PHSPHT_FLAG_W,CFC-11,CFC-11_FLAG_W,CFC-12,CFC-12_FLAG_W,TCARBN,TCARBN_FLAG_W,ALKALI,ALKALI_FLAG_W,PH,PH_FLAG_W,PHTEMP,THETA
,,,,,,,,,,,,DBAR,ITS-90,PSS-78,,PSS-78,,UMOL/KG,,UMOL/KG,,UMOL/KG,,UMOL/KG,,UMOL/KG,,UMOL/KG,,PMOL/KG,,PMOL/KG,,UMOL/KG,,UMOL/KG,,,,DEG C,DEG C
     3250031_1,   P31,    53,  1,     36,     36,2,19940206,1347,-10.0692,-169.2130, 5264,      2.2,  29.8003,  34.0567,2,  34.0580,2,    191.0,2,    193.8,2,     1.60,2,     0.00,2,     0.00,2,     0.16,2,    1.530,2,    0.837,2,   -999.0,9,   -999.0,9,  -999.00,9, -999.00, 29.7998
     3250031_1,   P31,    53,  1,     35,     35,2,19940206,1347,-10.0692,-169.2130, 5264,     17.7,  29.8024,  34.0601,2,  34.1087,2,    195.2,2,    193.7,2,     1.58,2,     0.01,2,     0.00,2,     0.16,2,    1.562,3,    0.852,2,   -999.0,9,   -999.0,9,  -999.00,9, -999.00, 29.7981
     3250031_1,   P31,    53,  1,     34,     34,2,19940206,1347,-10.0692,-169.2130, 5264,     57.0,  29.8996,  34.6287,2,  34.5528,2,    186.7,2,    195.9,2,     1.55,2,     0.00,2,     0.00,2,     0.18,2,    1.535,2,    0.841,2,   -999.0,9,   -999.0,9,  -999.00,9, -999.00, 29.8855
     3250031_1,   P31,    53,  1,     33,     33,2,19940206,1347,-10.0692,-169.2130, 5264,    108.0,  26.5047,  36.0129,2,  36.0416,2,    160.4,2,    143.9,2,     2.43,2,     4.99,2,     1.10,2,     0.69,2,    1.674,2,    0.885,2,   -999.0,9,   -999.0,9,  -999.00,9, -999.00, 26.4802
     3250031_1,   P31,    53,  1,     32,     32,2,19940206,1347,-10.0692,-169.2130, 5264,    207.9,  19.2215,  35.6839,2,  35.6957,2,    134.4,2,    128.7,2,     4.75,2,    10.77,2,     0.01,2,     1.01,2,    1.638,2,    0.826,2,   -999.0,9,   -999.0,9,  -999.00,9, -999.00, 19.1840
     3250031_1,   P31,    53,  1,     31,     31,2,19940206,1347,-10.0692,-169.2130, 5264,    308.9,  13.2869,  35.0032,2,  35.0012,2,     89.8,2,     89.7,2,    14.30,2,    21.47,2,     0.00,2,     1.70,2,    0.724,2,    0.340,2,   -999.0,9,   -999.0,9,  -999.00,9, -999.00, 13.2436
     3250031_1,   P31,    53,  1,     30,     30,2,19940206,1347,-10.0692,-169.2130, 5264,    509.9,   7.4648,  34.5591,2,  34.5563,2,    134.9,2,    136.5,2,    31.10,2,    29.76,2,     0.00,2,     2.06,2, -999.000,9, -999.000,9,   -999.0,9,   -999.0,9,  -999.00,9, -999.00,  7.4146
     3250031_1,   P31,    53,  1,     29,     29,2,19940206,1347,-10.0692,-169.2130, 5264,    761.5,   5.5358,  34.5095,2,  34.5104,2,    112.6,2,    114.9,2,    54.26,2,    35.82,2,     0.00,2,     2.47,2, -999.000,9, -999.000,9,   -999.0,9,   -999.0,9,  -999.00,9, -999.00,  5.4705
     3250031_1,   P31,    53,  1,     28,     28,2,19940206,1347,-10.0692,-169.2130, 5264,   1011.7,   4.2843,  34.5261,2,  34.5257,2,    118.9,2,    118.9,2,    76.11,2,    36.87,2,     0.00,2,     2.57,2, -999.000,9, -999.000,9,   -999.0,9,   -999.0,9,  -999.00,9, -999.00,  4.2054
     3250031_1,   P31,    53,  1,     27,     27,2,19940206,1347,-10.0692,-169.2130, 5264,   1266.3,   3.3970,  34.5595,2,  34.5599,2,    129.6,2,    127.6,2,    93.47,2,    36.72,2,     0.00,2,     2.56,2, -999.000,9, -999.000,9,   -999.0,9,   -999.0,9,  -999.00,9, -999.00,  3.3044
     3250031_1,   P31,    53,  1,     26,     26,2,19940206,1347,-10.0692,-169.2130, 5264,   1518.7,   2.7807,  34.5918,2,  34.5919,2,    136.4,2,    135.8,2,   106.08,2,    36.33,2,     0.00,2,     2.54,2, -999.000,9, -999.000,9,   -999.0,9,   -999.0,9,  -999.00,9, -999.00,  2.6738
     3250031_1,   P31,    53,  1,     25,     25,2,19940206,1347,-10.0692,-169.2130, 5264,   1772.1,   2.3980,  34.6180,2,  34.6189,2,    138.5,2,    137.7,2,   116.66,2,    36.39,2,     0.00,2,     2.54,2, -999.000,9, -999.000,9,   -999.0,9,   -999.0,9,  -999.00,9, -999.00,  2.2750
     3250031_1,   P31,    53,  1,     24,     24,2,19940206,1347,-10.0692,-169.2130, 5264,   2026.4,   2.1351,  34.6383,2,  34.6389,2,    138.7,2,    138.3,2,   125.30,2,    36.44,2,     0.00,2,     2.54,2, -999.000,9, -999.000,9,   -999.0,9,   -999.0,9,  -999.00,9, -999.00,  1.9944
     3250031_1,   P31,    53,  1,     23,     23,2,19940206,1347,-10.0692,-169.2130, 5264,   2280.3,   1.9314,  34.6542,2,  34.6531,2,    140.3,2,    139.0,2,   133.13,2,    36.55,2,     0.00,2,     2.54,2, -999.000,9, -999.000,9,   -999.0,9,   -999.0,9,  -999.00,9, -999.00,  1.7719
     3250031_1,   P31,    53,  1,     22,     22,2,19940206,1347,-10.0692,-169.2130, 5264,   2534.8,   1.8263,  34.6624,2,  34.6633,2,    142.4,2,    142.9,2,   135.76,2,    36.31,2,     0.00,2,     2.53,2,    0.002,2,   -0.005,2,   -999.0,9,   -999.0,9,  -999.00,9, -999.00,  1.6460
     3250031_1,   P31,    53,  1,     21,     21,2,19940206,1347,-10.0692,-169.2130, 5264,   2789.1,   1.7495,  34.6685,2,  34.6688,2,    145.4,2,    146.7,2,   136.76,2,    36.12,2,     0.00,2,     2.51,2, -999.000,9, -999.000,9,   -999.0,9,   -999.0,9,  -999.00,9, -999.00,  1.5473
     3250031_1,   P31,    53,  1,     20,     20,2,19940206,1347,-10.0692,-169.2130, 5264,   3045.1,   1.6710,  34.6741,2,  34.6751,2,    151.6,2,    151.8,2,   135.90,2,    35.73,2,     0.00,2,     2.48,2, -999.000,9, -999.000,9,   -999.0,9,   -999.0,9,  -999.00,9, -999.00,  1.4461
     3250031_1,   P31,    53,  1,     19,     19,2,19940206,1347,-10.0692,-169.2130, 5264,   3248.4,   1.6143,  34.6781,2,  34.6789,2,    155.7,2,    155.1,2,   135.87,2,    35.53,2,     0.00,2,     2.47,2, -999.000,9, -999.000,9,   -999.0,9,   -999.0,9,  -999.00,9, -999.00,  1.3707
     3250031_1,   P31,    53,  1,     18,     18,2,19940206,1347,-10.0692,-169.2130, 5264,   3453.7,   1.5612,  34.6818,2,  34.6830,2,    159.2,2,    159.4,2,   135.42,2,    35.29,2,     0.00,2,     2.44,2,    0.011,2,    0.007,2,   -999.0,9,   -999.0,9,  -999.00,9, -999.00,  1.2983
     3250031_1,   P31,    53,  1,     17,     17,2,19940206,1347,-10.0692,-169.2130, 5264,   3657.7,   1.5296,  34.6839,2,  34.6850,2,    162.6,2,    162.5,2,   134.77,2,    35.00,2,     0.00,2,     2.43,2, -999.000,9, -999.000,9,   -999.0,9,   -999.0,9,  -999.00,9, -999.00,  1.2464
     3250031_1,   P31,    53,  1,     16,     16,2,19940206,1347,-10.0692,-169.2130, 5264,   3862.6,   1.4853,  34.6875,2,  34.6877,2,    166.9,2,    167.1,2,   135.15,2,    34.86,2,     0.00,2,     2.41,2, -999.000,9, -999.000,9,   -999.0,9,   -999.0,9,  -999.00,9, -999.00,  1.1816
     3250031_1,   P31,    53,  1,     15,     15,2,19940206,1347,-10.0692,-169.2130, 5264,   3964.7,   1.4546,  34.6893,2,  34.6895,2,    167.8,2,    169.3,2,   134.50,2,    34.77,2,     0.00,2,     2.40,2, -999.000,9, -999.000,9,   -999.0,9,   -999.0,9,  -999.00,9, -999.00,  1.1408
     3250031_1,   P31,    53,  1,     14,     14,3,19940206,1347,-10.0692,-169.2130, 5264,   4041.7,   1.4323,  34.6909,2,  34.6976,4,    170.8,2,    181.9,4,   129.18,4,    33.69,4,     0.00,4,     2.33,4, -999.000,9, -999.000,9,   -999.0,9,   -999.0,9,  -999.00,9, -999.00,  1.1108
     3250031_1,   P31,    53,  1,     13,     13,2,19940206,1347,-10.0692,-169.2130, 5264,   4117.7,   1.3983,  34.6934,2,  34.6950,2,    173.2,2,    176.2,2,   131.17,2,    34.14,2,     0.00,2,     2.36,2,    0.013,3,    0.001,2,   -999.0,9,   -999.0,9,  -999.00,9, -999.00,  1.0693
     3250031_1,   P31,    53,  1,     12,     12,2,19940206,1347,-10.0692,-169.2130, 5264,   4195.0,   1.3608,  34.6967,2,  34.6980,2,    179.9,2,    181.4,2,   127.91,2,    33.55,2,     0.00,2,     2.33,2, -999.000,9, -999.000,9,   -999.0,9,   -999.0,9,  -999.00,9, -999.00,  1.0244
     3250031_1,   P31,    53,  1,     11,     11,2,19940206,1347,-10.0692,-169.2130, 5264,   4271.1,   1.2930,  34.6991,2,  34.7000,2,    185.5,2,    186.8,2,   126.07,2,    33.31,2,     0.00,2,     2.31,2, -999.000,9, -999.000,9,   -999.0,9,   -999.0,9,  -999.00,9, -999.00,  0.9502
     3250031_1,   P31,    53,  1,     10,     10,2,19940206,1347,-10.0692,-169.2130, 5264,   4348.3,   1.2184,  34.7049,2,  34.7047,2,    194.8,2,    195.4,2,   121.87,3,    32.72,2,     0.00,2,     2.26,2,    0.004,2,    0.006,2,   -999.0,9,   -999.0,9,  -999.00,9, -999.00,  0.8692
     3250031_1,   P31,    53,  1,      9,      9,2,19940206,1347,-10.0692,-169.2130, 5264,   4424.8,   1.1475,  34.7054,2,  34.7045,2,    199.1,2,    198.7,2,   122.83,3,    32.63,2,     0.00,2,     2.25,2, -999.000,9, -999.000,9,   -999.0,9,   -999.0,9,  -999.00,9, -999.00,  0.7918
     3250031_1,   P31,    53,  1,      8,      8,2,19940206,1347,-10.0692,-169.2130, 5264,   4501.4,   1.1108,  34.7061,2,  34.7053,2,    202.4,2,    200.9,2,   122.79,3,    32.49,2,     0.00,2,     2.24,2, -999.000,9, -999.000,9,   -999.0,9,   -999.0,9,  -999.00,9, -999.00,  0.7476
     3250031_1,   P31,    53,  1,      7,      7,2,19940206,1347,-10.0692,-169.2130, 5264,   4579.4,   1.0662,  34.7073,2,  34.7077,2,    203.8,2,    204.2,2,   121.97,2,    32.25,2,     0.00,2,     2.22,2,    0.005,2,   -0.003,2,   -999.0,9,   -999.0,9,  -999.00,9, -999.00,  0.6956
     3250031_1,   P31,    53,  1,      6,      6,2,19940206,1347,-10.0692,-169.2130, 5264,   4681.8,   1.0585,  34.7076,2,  34.7083,2,    206.3,2,    205.4,2,   120.95,2,    32.06,2,     0.00,2,     2.22,2,    0.002,2,   -0.002,2,   -999.0,9,   -999.0,9,  -999.00,9, -999.00,  0.6764
     3250031_1,   P31,    53,  1,      5,      5,2,19940206,1347,-10.0692,-169.2130, 5264,   4835.8,   1.0645,  34.7072,2,  34.7083,2,    205.7,2,    206.0,2,   120.72,2,    32.12,2,     0.00,2,     2.22,2,    0.006,2,    0.005,2,   -999.0,9,   -999.0,9,  -999.00,9, -999.00,  0.6643
     3250031_1,   P31,    53,  1,      4,      4,2,19940206,1347,-10.0692,-169.2130, 5264,   4989.7,   1.0752,  34.7072,2,  34.7075,2,    205.3,2,    206.3,2,   120.89,2,    32.12,2,     0.00,2,     2.22,2,    0.012,2,    0.004,2,   -999.0,9,   -999.0,9,  -999.00,9, -999.00,  0.6565
     3250031_1,   P31,    53,  1,      3,      3,2,19940206,1347,-10.0692,-169.2130, 5264,   5165.3,   1.0929,  34.7073,2,  34.7073,2,    206.6,2,    206.4,2,   121.45,2,    32.08,2,     0.00,2,     2.21,2,    0.004,2,    0.001,2,   -999.0,9,   -999.0,9,  -999.00,9, -999.00,  0.6524
     3250031_1,   P31,    53,  1,      2,      2,2,19940206,1347,-10.0692,-169.2130, 5264,   5268.0,   1.1054,  34.7074,2,  34.7073,2,    204.7,2,    206.3,2,   122.21,2,    32.18,2,     0.00,2,     2.22,2,    0.008,3,   -0.002,2,   -999.0,9,   -999.0,9,  -999.00,9, -999.00,  0.6519
     3250031_1,   P31,    53,  1,      1,      1,2,19940206,1347,-10.0692,-169.2130, 5264,   5339.2,   1.1144,  34.7073,2,  34.7081,2,    208.4,2,    205.9,2,   121.98,2,    32.19,2,     0.00,2,     2.22,2,    0.006,6,   -0.001,6,   -999.0,9,   -999.0,9,  -999.00,9, -999.00,  0.6518