BOTTLE,20020814WHPSIOdm
EXPOCODE,SECT_ID,STNNBR,CASTNO,SAMPNO,BTLNBR,BTLNBR_FLAG_W,DATE,TIME,LATITUDE,LONGITUDE,DEPTH,CTDPRS,CTDTMP,CTDSAL,CTDSAL_FLAG_W,SALNTY,SALNTY_FLAG_W,CTDOXY,CTDOXY_FLAG_W,OXYGEN,OXYGEN_FLAG_W,SILCAT,SILCAT_FLAG_W,NITRAT,NITRAT_FLAG_W,NITRIT,NITRIT_FLAG_W,PHSPHT,PHSPHT_FLAG_W,CFC-11,CFC-11_FLAG_W,CFC-12,CFC-12_FLAG_W,TCARBN,TCARBN_FLAG_W,ALKALI,ALKALI_FLAG_W,PH,PH_FLAG_W,PHTEMP,THETA
,,,,,,,,,,,,DBAR,ITS-90,PSS-78,,PSS-78,,UMOL/KG,,UMOL/KG,,UMOL/KG,,UMOL/KG,,UMOL/KG,,UMOL/KG,,PMOL/KG,,PMOL/KG,,UMOL/KG,,UMOL/KG,,,,DEG C,DEG C
     3250031_1,   P31,    64,  1,     34,     34,2,19940212,0645, -9.6500,-170.9115, 3900,      3.0,  29.6246,  34.0838,2,  34.0852,2,    195.4,2,    193.7,2,     1.76,2,     0.14,2,     0.00,2,     0.16,2,    1.520,2,    0.843,2,   1883.8,2,   2240.6,2,     8.15,2,   25.00, 29.6239
     3250031_1,   P31,    64,  1,     33,     33,2,19940212,0645, -9.6500,-170.9115, 3900,     13.1,  29.6410,  34.0846,2,  34.0847,2,    193.8,2,    193.4,2,     1.74,2,     0.19,2,     0.00,2,     0.16,2,    1.544,2,    0.847,2,   1884.3,2,   2241.7,2,     8.16,2,   25.00, 29.6378
     3250031_1,   P31,    64,  1,     32,     32,2,19940212,0645, -9.6500,-170.9115, 3900,     57.3,  29.8104,  34.4346,2,  34.4542,2,    189.3,2,    193.9,2,     1.73,2,     0.18,2,     0.00,2,     0.18,2,    1.519,6,    0.839,6,   1905.3,2,   -999.0,9,     8.15,2,   25.00, 29.7963
     3250031_1,   P31,    64,  1,     31,     31,2,19940212,0645, -9.6500,-170.9115, 3900,    108.0,  26.9862,  35.9023,4,  35.8679,2,   -999.0,5,    151.6,2,     2.65,2,     4.32,2,     1.05,2,     0.65,2,    1.646,2,    0.907,2,   2052.7,2,   2361.6,2,     8.03,2,   25.00, 26.9614
     3250031_1,   P31,    64,  1,     30,     30,2,19940212,0645, -9.6500,-170.9115, 3900,    208.4,  19.6441,  35.7528,4,  35.7763,2,   -999.0,5,    133.8,2,     4.14,2,     9.75,2,     0.01,2,     0.94,2,    1.768,2,    0.917,2,   2126.0,2,   -999.0,9,  -999.00,9, -999.00, 19.6059
     3250031_1,   P31,    64,  1,     29,     29,2,19940212,0645, -9.6500,-170.9115, 3900,    308.3,  12.9871,  34.9702,4,  34.9977,2,   -999.0,5,     86.5,2,    15.43,2,    22.38,2,     0.00,2,     1.75,2,    0.694,2,    0.364,2,   2186.5,2,   2315.5,2,     7.64,2,   25.00, 12.9445
     3250031_1,   P31,    64,  1,     28,     28,2,19940212,0645, -9.6500,-170.9115, 3900,    408.4,   9.7292,  34.7200,2,  34.7128,2,     84.9,2,     85.7,2,    26.52,2,    29.99,2,     0.00,2,     2.12,2,    0.171,2,    0.101,2,   2213.8,2,   -999.0,9,     7.58,2,   25.00,  9.6822
     3250031_1,   P31,    64,  1,     27,     27,2,19940212,0645, -9.6500,-170.9115, 3900,    509.9,   7.9366,  34.6062,2,  34.6051,2,    103.3,2,    102.7,2,    34.04,2,    32.55,2,     0.00,2,     2.23,2, -999.000,9, -999.000,9,   2220.3,2,   2306.6,2,     7.57,2,   25.00,  7.8845
     3250031_1,   P31,    64,  1,     26,     26,2,19940212,0645, -9.6500,-170.9115, 3900,    611.2,   6.8317,  34.5489,2,  34.5507,2,    108.8,2,    109.2,2,    41.74,2,    34.23,2,     0.00,2,     2.35,2,    0.031,2,    0.021,2,   2229.3,2,   -999.0,9,     7.55,2,   25.00,  6.7739
     3250031_1,   P31,    64,  1,     25,     25,2,19940212,0645, -9.6500,-170.9115, 3900,    711.8,   5.9153,  34.5216,2,  34.5225,2,    105.5,2,    110.4,2,    51.34,2,    35.86,2,     0.00,2,     2.47,2, -999.000,9, -999.000,9,   2243.7,2,   2322.1,2,     7.54,2,   25.00,  5.8525
     3250031_1,   P31,    64,  1,     24,     24,2,19940212,0645, -9.6500,-170.9115, 3900,    810.9,   5.3885,  34.5134,2,  34.5131,2,    113.8,2,    113.0,2,    57.35,2,    36.39,2,     0.00,2,     2.52,2,    0.008,2,    0.002,2,   2250.5,2,   -999.0,9,     7.53,2,   25.00,  5.3197
     3250031_1,   P31,    64,  1,     23,     23,2,19940212,0645, -9.6500,-170.9115, 3900,    910.0,   4.8440,  34.5156,2,  34.5164,2,    114.0,2,    115.0,2,    66.59,2,    37.12,2,     0.00,2,     2.56,2, -999.000,9, -999.000,9,   2260.7,2,   2335.0,2,     7.53,2,   25.00,  4.7698
     3250031_1,   P31,    64,  1,     22,     22,2,19940212,0645, -9.6500,-170.9115, 3900,   1011.4,   4.3685,  34.5269,2,  34.5262,2,    115.8,2,    116.2,2,    75.68,2,    37.43,2,     0.00,2,     2.58,2,    0.001,2,    0.001,2,   2270.1,2,   -999.0,9,     7.53,2,   25.00,  4.2890
     3250031_1,   P31,    64,  1,     21,     21,2,19940212,0645, -9.6500,-170.9115, 3900,   1215.7,   3.5899,  34.5561,2,  34.5538,2,    124.4,2,    122.1,2,    92.12,2,    37.48,2,     0.00,2,     2.59,2, -999.000,9, -999.000,9,   2286.1,2,   2369.1,2,     7.54,2,   25.00,  3.4997
     3250031_1,   P31,    64,  1,     20,     20,2,19940212,0645, -9.6500,-170.9115, 3900,   1415.2,   3.1066,  34.5791,2,  34.5793,2,    126.0,2,    126.1,2,   103.35,2,    37.43,2,     0.00,2,     2.59,2, -999.000,9, -999.000,9,   2296.2,2,   2375.8,2,     7.54,2,   25.00,  3.0046
     3250031_1,   P31,    64,  1,     19,     19,2,19940212,0645, -9.6500,-170.9115, 3900,   1612.7,   2.6913,  34.6013,2,  34.6015,2,    130.9,2,    131.8,2,   112.18,2,    37.26,2,     0.00,2,     2.57,2, -999.000,9, -999.000,9,   2303.6,2,   2385.4,2,     7.55,2,   25.00,  2.5777
     3250031_1,   P31,    64,  1,     18,     18,2,19940212,0645, -9.6500,-170.9115, 3900,   1817.2,   2.3886,  34.6211,2,  34.6214,2,    132.9,2,    133.4,2,   120.75,2,    37.26,2,     0.00,2,     2.57,2,   -0.002,2,    0.001,2,   2312.9,2,   2395.8,2,     7.55,2,   25.00,  2.2619
     3250031_1,   P31,    64,  1,     17,     17,2,19940212,0645, -9.6500,-170.9115, 3900,   2023.1,   2.1655,  34.6369,2,  34.6375,2,    136.7,2,    135.1,2,   127.01,2,    37.09,2,     0.00,2,     2.56,2, -999.000,9, -999.000,9,   2318.4,2,   2401.3,2,     7.55,2,   25.00,  2.0246
     3250031_1,   P31,    64,  1,     16,     16,2,19940212,0645, -9.6500,-170.9115, 3900,   2226.3,   2.0117,  34.6476,2,  34.6491,2,    136.2,2,    137.3,2,   130.25,2,    36.93,2,     0.00,2,     2.56,2, -999.000,9, -999.000,9,   2321.3,2,   2405.9,2,     7.56,2,   25.00,  1.8557
     3250031_1,   P31,    64,  1,     15,     15,2,19940212,0645, -9.6500,-170.9115, 3900,   2428.2,   1.8790,  34.6576,2,  34.6584,2,    140.4,2,    140.6,2,   132.90,2,    36.87,2,     0.00,2,     2.53,2, -999.000,9, -999.000,9,   2321.4,2,   2417.2,2,     7.57,2,   25.00,  1.7074
     3250031_1,   P31,    64,  1,     14,     14,2,19940212,0645, -9.6500,-170.9115, 3900,   2631.8,   1.8127,  34.6631,2,  34.6643,2,    144.6,2,    143.3,2,   134.52,2,    36.71,2,     0.00,2,     2.53,2,   -0.001,2,   -0.003,2,   2319.8,2,   2412.9,2,     7.57,2,   25.00,  1.6238
     3250031_1,   P31,    64,  1,     13,     13,2,19940212,0645, -9.6500,-170.9115, 3900,   2835.4,   1.7441,  34.6687,2,  34.6700,2,    147.4,2,    147.4,2,   135.31,2,    36.44,2,     0.00,2,     2.50,2, -999.000,9, -999.000,9,   2319.1,2,   2412.3,2,     7.57,2,   25.00,  1.5377
     3250031_1,   P31,    64,  1,     12,     12,2,19940212,0645, -9.6500,-170.9115, 3900,   3038.9,   1.6658,  34.6742,2,  34.6749,2,    151.9,2,    150.7,2,   136.31,2,    36.33,2,     0.00,2,     2.48,2, -999.000,9, -999.000,9,   2318.5,2,   2414.3,2,     7.58,2,   25.00,  1.4416
     3250031_1,   P31,    64,  1,     11,     11,2,19940212,0645, -9.6500,-170.9115, 3900,   3139.9,   1.6250,  34.6771,2,  34.6767,2,    154.1,2,    153.2,2,   136.47,2,    36.06,2,     0.00,2,     2.48,2, -999.000,9, -999.000,9,   2315.7,2,   2412.5,2,     7.58,2,   25.00,  1.3919
     3250031_1,   P31,    64,  1,     10,     10,2,19940212,0645, -9.6500,-170.9115, 3900,   3240.8,   1.5980,  34.6789,2,  34.6795,2,    155.8,2,    155.3,2,   136.42,2,    35.85,2,     0.00,2,     2.47,2,    0.002,2,   -0.001,2,   2313.7,2,   2411.4,2,     7.58,2,   25.00,  1.3556
     3250031_1,   P31,    64,  1,      9,      9,2,19940212,0645, -9.6500,-170.9115, 3900,   3343.2,   1.5825,  34.6799,2,  34.6807,2,    156.9,2,    156.5,2,   136.16,2,    35.79,2,     0.00,2,     2.46,2, -999.000,9, -999.000,9,   2313.1,2,   2414.2,2,     7.58,2,   25.00,  1.3302
     3250031_1,   P31,    64,  1,      8,      8,2,19940212,0645, -9.6500,-170.9115, 3900,   3445.1,   1.5583,  34.6815,2,  34.6825,2,    158.7,2,    158.5,2,   136.11,2,    35.57,2,     0.00,2,     2.46,2, -999.000,9, -999.000,9,   2311.9,2,   2415.6,2,     7.59,2,   25.00,  1.2963
     3250031_1,   P31,    64,  1,      7,      7,2,19940212,0645, -9.6500,-170.9115, 3900,   3547.8,   1.5389,  34.6832,2,  34.6846,2,    161.7,2,    160.7,2,   135.65,2,    35.57,2,     0.00,2,     2.44,2, -999.000,9, -999.000,9,   2309.8,2,   -999.0,9,     7.59,2,   25.00,  1.2668
     3250031_1,   P31,    64,  1,      6,      6,2,19940212,0645, -9.6500,-170.9115, 3900,   3649.6,   1.5076,  34.6852,2,  34.6866,2,    162.6,2,    163.6,2,   135.18,2,    35.25,2,     0.00,2,     2.43,2,    0.002,2,   -0.002,2,   2307.5,2,   2413.1,2,     7.59,2,   25.00,  1.2258
     3250031_1,   P31,    64,  1,      5,      5,2,19940212,0645, -9.6500,-170.9115, 3900,   3701.1,   1.4943,  34.6866,2,  34.6860,2,    165.8,2,    165.0,2,   134.92,2,    35.25,2,     0.00,2,     2.41,2, -999.000,9, -999.000,9,   2307.4,2,   2412.4,2,     7.59,2,   25.00,  1.2075
     3250031_1,   P31,    64,  1,      4,      4,2,19940212,0645, -9.6500,-170.9115, 3900,   3753.3,   1.4773,  34.6877,2,  34.6886,2,    165.6,2,    166.2,2,   134.45,2,    35.08,2,     0.00,2,     2.41,2,    0.004,2,    0.004,2,   2306.3,2,   2406.5,2,  -999.00,9, -999.00,  1.1854
     3250031_1,   P31,    64,  1,      3,      3,2,19940212,0645, -9.6500,-170.9115, 3900,   3804.9,   1.4328,  34.6908,2,  34.6904,2,    169.6,2,    170.8,2,   131.70,2,    34.76,2,     0.00,2,     2.38,2, -999.000,9, -999.000,9,   2300.8,2,   2402.9,2,     7.59,2,   25.00,  1.1367
     3250031_1,   P31,    64,  1,      2,      2,2,19940212,0645, -9.6500,-170.9115, 3900,   3856.0,   1.3850,  34.6937,2,  34.6938,2,    173.0,2,    175.2,2,   128.98,2,    34.34,2,     0.00,2,     2.35,2,    0.013,3,    0.000,2,   2295.2,2,   2400.9,2,     7.60,2,   25.00,  1.0847
     3250031_1,   P31,    64,  1,      1,      1,2,19940212,0645, -9.6500,-170.9115, 3900,   3912.8,   1.3516,  34.6961,2,  34.6967,2,    179.7,2,    179.3,2,   126.88,2,    34.12,2,     0.00,2,     2.34,2,    0.011,2,   -0.001,2,   2289.6,2,   2395.7,2,     7.60,2,   25.00,  1.0462
     3250031_1,   P31,    65,  1,     33,     33,2,19940212,1159, -9.7175,-171.3540, 3857,      3.6,  29.6182,  33.8867,2,  33.8879,2,    176.9,3,    194.2,2,     1.75,2,     0.09,2,     0.00,2,     0.15,2, -999.000,9, -999.000,9,   -999.0,9,   -999.0,9,  -999.00,9, -999.00, 29.6174
     3250031_1,   P31,    65,  1,     32,     32,2,19940212,1159, -9.7175,-171.3540, 3857,     17.2,  29.6277,  33.8871,2,  33.8875,2,    185.3,3,    194.0,2,     1.54,2,     0.09,2,     0.00,2,     0.15,2, -999.000,9, -999.000,9,   -999.0,9,   -999.0,9,  -999.00,9, -999.00, 29.6235
     3250031_1,   P31,    65,  1,     31,     31,2,19940212,1159, -9.7175,-171.3540, 3857,     57.0,  30.0317,  34.6689,2,  34.6709,2,    188.7,3,    198.8,2,     1.71,2,     0.14,2,     0.00,2,     0.20,2, -999.000,9, -999.000,9,   -999.0,9,   -999.0,9,  -999.00,9, -999.00, 30.0176
     3250031_1,   P31,    65,  1,     30,     30,2,19940212,1159, -9.7175,-171.3540, 3857,    107.0,  27.1564,  35.8247,2,  35.8121,2,    154.7,2,    149.4,2,     2.63,2,     5.12,2,     0.73,2,     0.67,2, -999.000,9, -999.000,9,   -999.0,9,   -999.0,9,  -999.00,9, -999.00, 27.1317
     3250031_1,   P31,    65,  1,     29,     29,2,19940212,1159, -9.7175,-171.3540, 3857,    207.8,  18.8755,  35.6878,2,  35.6343,2,    135.4,2,    131.7,2,     4.86,2,    10.67,2,     0.01,2,     0.99,2, -999.000,9, -999.000,9,   -999.0,9,   -999.0,9,  -999.00,9, -999.00, 18.8385
     3250031_1,   P31,    65,  1,     28,     28,2,19940212,1159, -9.7175,-171.3540, 3857,    308.0,  12.9284,  34.9608,2,  34.9491,2,     95.3,2,     93.8,2,    14.97,2,    22.11,2,     0.00,2,     1.71,2, -999.000,9, -999.000,9,   -999.0,9,   -999.0,9,  -999.00,9, -999.00, 12.8860
     3250031_1,   P31,    65,  1,     27,     27,2,19940212,1159, -9.7175,-171.3540, 3857,    407.8,   9.5893,  34.7042,2,  34.7019,2,    101.3,2,    102.0,2,    24.89,2,    28.63,2,     0.00,2,     2.01,2, -999.000,9, -999.000,9,   -999.0,9,   -999.0,9,  -999.00,9, -999.00,  9.5429
     3250031_1,   P31,    65,  1,     26,     26,2,19940212,1159, -9.7175,-171.3540, 3857,    509.1,   7.8441,  34.6003,2,  34.5991,2,    107.4,2,    107.1,2,    33.88,2,    32.16,2,     0.00,2,     2.19,2, -999.000,9, -999.000,9,   -999.0,9,   -999.0,9,  -999.00,9, -999.00,  7.7924
     3250031_1,   P31,    65,  1,     25,     25,2,19940212,1159, -9.7175,-171.3540, 3857,    609.9,   6.7797,  34.5443,2,  34.5467,2,    109.1,2,    115.6,2,    40.98,2,    33.57,2,     0.00,2,     2.30,2, -999.000,9, -999.000,9,   -999.0,9,   -999.0,9,  -999.00,9, -999.00,  6.7223
     3250031_1,   P31,    65,  1,     24,     24,2,19940212,1159, -9.7175,-171.3540, 3857,    711.4,   6.1191,  34.5244,2,  34.5253,2,    116.1,2,    114.1,2,    48.09,2,    35.08,2,     0.00,2,     2.41,2, -999.000,9, -999.000,9,   -999.0,9,   -999.0,9,  -999.00,9, -999.00,  6.0553
     3250031_1,   P31,    65,  1,     23,     23,2,19940212,1159, -9.7175,-171.3540, 3857,    811.2,   5.4697,  34.5058,2,  34.5080,2,    117.2,2,    119.3,2,    55.01,2,    35.82,2,     0.00,2,     2.46,2, -999.000,9, -999.000,9,   -999.0,9,   -999.0,9,  -999.00,9, -999.00,  5.4003
     3250031_1,   P31,    65,  1,     22,     22,2,19940212,1159, -9.7175,-171.3540, 3857,    912.2,   4.8592,  34.5113,2,  34.5123,2,    116.7,2,    118.2,2,    64.77,2,    36.81,2,     0.00,2,     2.53,2, -999.000,9, -999.000,9,   -999.0,9,   -999.0,9,  -999.00,9, -999.00,  4.7848
     3250031_1,   P31,    65,  1,     21,     21,2,19940212,1159, -9.7175,-171.3540, 3857,   1013.4,   4.3511,  34.5215,2,  34.5217,2,    117.2,2,    120.9,2,    74.38,2,    37.18,2,     0.00,2,     2.55,2, -999.000,9, -999.000,9,   -999.0,9,   -999.0,9,  -999.00,9, -999.00,  4.2715
     3250031_1,   P31,    65,  1,     20,     20,2,19940212,1159, -9.7175,-171.3540, 3857,   1215.3,   3.5596,  34.5512,2,  34.5515,2,    126.4,2,    126.4,2,    90.16,2,    37.18,2,     0.00,2,     2.56,2, -999.000,9, -999.000,9,   -999.0,9,   -999.0,9,  -999.00,9, -999.00,  3.4697
     3250031_1,   P31,    65,  1,     19,     19,2,19940212,1159, -9.7175,-171.3540, 3857,   1417.1,   2.9822,  34.5838,2,  34.5845,2,    128.0,2,    129.1,2,   105.02,2,    37.23,2,     0.00,2,     2.56,2, -999.000,9, -999.000,9,   -999.0,9,   -999.0,9,  -999.00,9, -999.00,  2.8814
     3250031_1,   P31,    65,  1,     18,     18,2,19940212,1159, -9.7175,-171.3540, 3857,   1620.3,   2.6150,  34.6059,2,  34.6063,2,    131.6,2,    132.0,2,   114.24,2,    37.28,2,     0.00,2,     2.56,2, -999.000,9, -999.000,9,   -999.0,9,   -999.0,9,  -999.00,9, -999.00,  2.5017
     3250031_1,   P31,    65,  1,     17,     17,2,19940212,1159, -9.7175,-171.3540, 3857,   1822.3,   2.3185,  34.6237,2,  34.6230,2,    140.6,2,    139.3,2,   120.00,2,    36.86,2,     0.00,2,     2.53,2, -999.000,9, -999.000,9,   -999.0,9,   -999.0,9,  -999.00,9, -999.00,  2.1923
     3250031_1,   P31,    65,  1,     16,     16,2,19940212,1159, -9.7175,-171.3540, 3857,   2026.2,   2.1578,  34.6362,2,  34.6381,2,    140.7,2,    138.8,2,   125.42,2,    36.96,2,     0.00,2,     2.53,2,   -0.001,2,   -0.003,2,   -999.0,9,   -999.0,9,  -999.00,9, -999.00,  2.0167
     3250031_1,   P31,    65,  1,     15,     15,2,19940212,1159, -9.7175,-171.3540, 3857,   2229.5,   1.9925,  34.6490,2,  34.6500,2,    139.9,2,    138.2,2,   131.73,2,    37.11,2,     0.00,2,     2.54,2, -999.000,9, -999.000,9,   -999.0,9,   -999.0,9,  -999.00,9, -999.00,  1.8365
     3250031_1,   P31,    65,  1,     14,     14,2,19940212,1159, -9.7175,-171.3540, 3857,   2433.0,   1.8563,  34.6589,2,  34.6591,2,    136.0,2,    140.5,2,   135.01,2,    36.95,2,     0.00,2,     2.53,2, -999.000,9, -999.000,9,   -999.0,9,   -999.0,9,  -999.00,9, -999.00,  1.6847
     3250031_1,   P31,    65,  1,     13,     13,2,19940212,1159, -9.7175,-171.3540, 3857,   2636.8,   1.7876,  34.6648,2,  34.6655,2,    143.3,2,    144.1,2,   136.22,2,    36.74,2,     0.00,2,     2.51,2, -999.000,9, -999.000,9,   -999.0,9,   -999.0,9,  -999.00,9, -999.00,  1.5988
     3250031_1,   P31,    65,  1,     12,     12,2,19940212,1159, -9.7175,-171.3540, 3857,   2839.1,   1.7314,  34.6692,2,  34.6698,2,    148.0,2,    146.7,2,   136.80,2,    36.58,2,     0.00,2,     2.50,2, -999.000,9, -999.000,9,   -999.0,9,   -999.0,9,  -999.00,9, -999.00,  1.5249
     3250031_1,   P31,    65,  1,     11,     11,2,19940212,1159, -9.7175,-171.3540, 3857,   3039.5,   1.6680,  34.6740,2,  34.6728,2,    152.3,2,    150.5,2,   136.76,2,    36.32,2,     0.00,2,     2.48,2, -999.000,9, -999.000,9,   -999.0,9,   -999.0,9,  -999.00,9, -999.00,  1.4437
     3250031_1,   P31,    65,  1,     10,     10,2,19940212,1159, -9.7175,-171.3540, 3857,   3140.7,   1.6260,  34.6769,2,  34.6751,2,    153.8,2,    153.2,2,   136.71,2,    36.11,2,     0.00,2,     2.46,2, -999.000,9, -999.000,9,   -999.0,9,   -999.0,9,  -999.00,9, -999.00,  1.3928
     3250031_1,   P31,    65,  1,      9,      9,2,19940212,1159, -9.7175,-171.3540, 3857,   3246.2,   1.6010,  34.6787,2,  34.6767,2,    156.8,2,    155.3,2,   136.66,2,    36.00,2,     0.00,2,     2.45,2, -999.000,9, -999.000,9,   -999.0,9,   -999.0,9,  -999.00,9, -999.00,  1.3580
     3250031_1,   P31,    65,  1,      8,      8,2,19940212,1159, -9.7175,-171.3540, 3857,   3349.1,   1.5813,  34.6803,2,  34.6794,2,    157.0,2,    157.0,2,   136.20,2,    35.90,2,     0.00,2,     2.45,2, -999.000,9, -999.000,9,   -999.0,9,   -999.0,9,  -999.00,9, -999.00,  1.3285
     3250031_1,   P31,    65,  1,      7,      7,2,19940212,1159, -9.7175,-171.3540, 3857,   3450.4,   1.5532,  34.6824,2,  34.6815,2,    160.0,2,    159.2,2,   135.94,2,    35.74,2,     0.00,2,     2.44,2, -999.000,9, -999.000,9,   -999.0,9,   -999.0,9,  -999.00,9, -999.00,  1.2907
     3250031_1,   P31,    65,  1,      6,      6,2,19940212,1159, -9.7175,-171.3540, 3857,   3551.9,   1.5395,  34.6837,2,  34.6831,2,    163.3,2,    161.0,2,   135.69,2,    35.58,2,     0.00,2,     2.43,2,    0.003,2,   -0.003,2,   -999.0,9,   -999.0,9,  -999.00,9, -999.00,  1.2670
     3250031_1,   P31,    65,  1,      5,      5,2,19940212,1159, -9.7175,-171.3540, 3857,   3653.3,   1.5140,  34.6855,2,  34.6839,2,    164.4,2,    164.0,2,   134.60,2,    35.31,2,     0.00,2,     2.41,2,    0.003,2,   -0.003,2,   -999.0,9,   -999.0,9,  -999.00,9, -999.00,  1.2316
     3250031_1,   P31,    65,  1,      4,      4,2,19940212,1159, -9.7175,-171.3540, 3857,   3705.7,   1.4990,  34.6866,2,  34.6854,2,    165.7,2,    166.0,2,   133.93,2,    35.21,2,     0.00,2,     2.40,2,    0.005,2,    0.001,2,   -999.0,9,   -999.0,9,  -999.00,9, -999.00,  1.2116
     3250031_1,   P31,    65,  1,      3,      3,2,19940212,1159, -9.7175,-171.3540, 3857,   3756.8,   1.4690,  34.6882,2,  34.6870,2,    168.3,2,    168.4,2,   132.64,2,    34.90,2,     0.00,2,     2.39,2,    0.011,3,   -0.001,2,   -999.0,9,   -999.0,9,  -999.00,9, -999.00,  1.1770
     3250031_1,   P31,    65,  1,      2,      2,2,19940212,1159, -9.7175,-171.3540, 3857,   3808.0,   1.4156,  34.6920,2,  34.6893,3,    172.0,2,    173.3,2,   130.11,2,    34.58,2,     0.00,2,     2.37,2,    0.005,2,   -0.003,2,   -999.0,9,   -999.0,9,  -999.00,9, -999.00,  1.1195
     3250031_1,   P31,    65,  1,      1,      1,2,19940212,1159, -9.7175,-171.3540, 3857,   3860.3,   1.3950,  34.6933,2,  34.6916,2,    174.7,2,    175.3,2,   129.86,2,    34.42,2,     0.00,2,     2.36,2,    0.004,2,    0.000,2,   -999.0,9,   -999.0,9,  -999.00,9, -999.00,  1.0940