BOTTLE,20020814WHPSIOdm
EXPOCODE,SECT_ID,STNNBR,CASTNO,SAMPNO,BTLNBR,BTLNBR_FLAG_W,DATE,TIME,LATITUDE,LONGITUDE,DEPTH,CTDPRS,CTDTMP,CTDSAL,CTDSAL_FLAG_W,SALNTY,SALNTY_FLAG_W,CTDOXY,CTDOXY_FLAG_W,OXYGEN,OXYGEN_FLAG_W,SILCAT,SILCAT_FLAG_W,NITRAT,NITRAT_FLAG_W,NITRIT,NITRIT_FLAG_W,PHSPHT,PHSPHT_FLAG_W,CFC-11,CFC-11_FLAG_W,CFC-12,CFC-12_FLAG_W,TCARBN,TCARBN_FLAG_W,ALKALI,ALKALI_FLAG_W,PH,PH_FLAG_W,PHTEMP,THETA
,,,,,,,,,,,,DBAR,ITS-90,PSS-78,,PSS-78,,UMOL/KG,,UMOL/KG,,UMOL/KG,,UMOL/KG,,UMOL/KG,,UMOL/KG,,PMOL/KG,,PMOL/KG,,UMOL/KG,,UMOL/KG,,,,DEG C,DEG C
     3250031_1,   P31,    54,  1,     36,     36,2,19940206,1906,-10.0192,-169.3657, 5200,      4.2,  29.6993,  34.1306,2,  34.1309,2,    178.4,3,    193.6,2,     1.71,2,     0.02,2,     0.00,2,     0.17,2, -999.000,9, -999.000,9,   1882.6,2,   2245.1,2,     8.16,2,   25.00, 29.6982
     3250031_1,   P31,    54,  1,     35,     35,2,19940206,1906,-10.0192,-169.3657, 5200,     17.6,  29.7489,  34.1598,2,  34.1607,2,    189.4,3,    193.1,2,     1.70,2,     0.02,2,     0.00,2,     0.18,2, -999.000,9, -999.000,9,   1886.7,2,   2245.9,2,  -999.00,9, -999.00, 29.7446
     3250031_1,   P31,    54,  1,     34,     34,2,19940206,1906,-10.0192,-169.3657, 5200,     57.1,  29.9052,  34.3095,2,  34.2897,2,    187.3,3,    193.6,2,     1.51,2,     0.07,2,     0.00,2,     0.18,2, -999.000,9, -999.000,9,   1927.3,2,   2256.4,2,     8.15,2,   25.00, 29.8911
     3250031_1,   P31,    54,  1,     33,     33,2,19940206,1906,-10.0192,-169.3657, 5200,    106.0,  28.2043,  35.6808,2,  35.6857,2,    175.9,2,    172.7,2,     2.22,2,     2.71,2,     0.26,2,     0.49,2, -999.000,9, -999.000,9,   2029.2,2,   2346.8,2,  -999.00,9, -999.00, 28.1791
     3250031_1,   P31,    54,  1,     32,     32,2,19940206,1906,-10.0192,-169.3657, 5200,    206.2,  20.9692,  35.9084,2,  35.9036,2,    140.9,2,    136.5,2,     3.47,2,     9.01,2,     0.01,2,     0.89,2, -999.000,9, -999.000,9,   2120.5,2,   2364.6,2,     7.92,2,   25.00, 20.9295
     3250031_1,   P31,    54,  1,     31,     31,2,19940206,1906,-10.0192,-169.3657, 5200,    306.6,  14.0617,  35.0830,2,  35.0797,2,     89.8,2,     91.1,2,    13.19,2,    20.32,2,     0.01,2,     1.63,2, -999.000,9, -999.000,9,   2176.8,2,   2316.5,2,     7.70,2,   25.00, 14.0171
     3250031_1,   P31,    54,  1,     30,     30,2,19940206,1906,-10.0192,-169.3657, 5200,    507.8,   7.7990,  34.5769,2,  34.5772,2,    136.2,2,    133.8,2,    29.22,2,    29.26,2,     0.00,2,     2.03,2, -999.000,9, -999.000,9,   2198.1,2,   2302.7,2,     7.62,2,   25.00,  7.7476
     3250031_1,   P31,    54,  1,     29,     29,2,19940206,1906,-10.0192,-169.3657, 5200,    760.3,   5.5801,  34.5090,2,  34.5095,2,    117.1,2,    118.8,2,    53.05,2,    35.38,2,     0.00,2,     2.44,2, -999.000,9, -999.000,9,   2241.8,2,   2321.0,2,     7.54,2,   25.00,  5.5147
     3250031_1,   P31,    54,  1,     28,     28,2,19940206,1906,-10.0192,-169.3657, 5200,   1012.4,   4.4078,  34.5225,2,  34.5232,2,    118.2,2,    118.1,2,    73.75,2,    36.92,2,     0.00,2,     2.56,2, -999.000,9, -999.000,9,   2267.0,2,   -999.0,9,     7.53,2,   25.00,  4.3279
     3250031_1,   P31,    54,  1,     27,     27,2,19940206,1906,-10.0192,-169.3657, 5200,   1263.7,   3.5060,  34.5550,2,  34.5542,2,    127.9,2,    127.7,2,    91.24,2,    36.77,2,     0.00,2,     2.56,2, -999.000,9, -999.000,9,   2285.0,2,   2361.2,2,     7.54,2,   25.00,  3.4126
     3250031_1,   P31,    54,  1,     26,     26,2,19940206,1906,-10.0192,-169.3657, 5200,   1517.5,   2.7829,  34.5925,2,  34.5910,2,    135.8,2,    135.4,2,   105.89,2,    36.37,2,     0.00,2,     2.53,2, -999.000,9, -999.000,9,   2296.3,2,   -999.0,9,     7.55,2,   25.00,  2.6761
     3250031_1,   P31,    54,  1,     25,     25,2,19940206,1906,-10.0192,-169.3657, 5200,   1770.6,   2.3766,  34.6210,2,  34.6208,2,    136.4,2,    136.3,2,   118.42,2,    36.51,2,     0.00,2,     2.54,2, -999.000,9, -999.000,9,   2309.9,2,   -999.0,9,     7.55,2,   25.00,  2.2539
     3250031_1,   P31,    54,  1,     24,     24,2,19940206,1906,-10.0192,-169.3657, 5200,   2024.2,   2.1469,  34.6393,2,  34.6379,2,    135.3,2,    136.0,2,   126.32,2,    36.71,2,     0.00,2,     2.56,2, -999.000,9, -999.000,9,   2319.0,2,   -999.0,9,     7.55,2,   25.00,  2.0062
     3250031_1,   P31,    54,  1,     23,     23,2,19940206,1906,-10.0192,-169.3657, 5200,   2278.8,   1.9594,  34.6528,2,  34.6519,2,    138.4,2,    138.3,2,   131.76,2,    36.71,2,     0.00,2,     2.55,2, -999.000,9, -999.000,9,   2323.9,2,   2409.1,2,     7.55,2,   25.00,  1.7996
     3250031_1,   P31,    54,  1,     22,     22,2,19940206,1906,-10.0192,-169.3657, 5200,   2532.0,   1.8041,  34.6648,2,  34.6654,2,    144.8,2,    143.3,2,   135.23,2,    36.41,2,     0.00,2,     2.52,2, -999.000,9, -999.000,9,   2323.4,2,   -999.0,9,     7.57,2,   25.00,  1.6245
     3250031_1,   P31,    54,  1,     21,     21,2,19940206,1906,-10.0192,-169.3657, 5200,   2786.8,   1.7225,  34.6705,2,  34.6709,2,    148.6,2,    148.3,2,   136.25,2,    36.11,2,     0.00,2,     2.50,2, -999.000,9, -999.000,9,   2320.1,2,   2412.8,2,     7.57,2,   25.00,  1.5211
     3250031_1,   P31,    54,  1,     20,     20,2,19940206,1906,-10.0192,-169.3657, 5200,   3042.5,   1.6635,  34.6751,2,  34.6750,2,    153.0,2,    152.1,2,   136.05,2,    35.81,2,     0.00,2,     2.47,2, -999.000,9, -999.000,9,   2323.2,2,   2415.9,2,     7.57,2,   25.00,  1.4390
     3250031_1,   P31,    54,  1,     19,     19,2,19940206,1906,-10.0192,-169.3657, 5200,   3246.9,   1.6084,  34.6790,2,  34.6792,2,    156.3,2,    155.4,2,   136.05,2,    35.51,2,     0.00,2,     2.46,2, -999.000,9, -999.000,9,   2319.5,2,   2416.1,2,     7.58,2,   25.00,  1.3651
     3250031_1,   P31,    54,  1,     18,     18,2,19940206,1906,-10.0192,-169.3657, 5200,   3452.6,   1.5675,  34.6820,2,  34.6811,2,    160.4,2,    159.1,2,   135.43,2,    35.26,2,     0.00,2,     2.44,2, -999.000,9, -999.000,9,   2314.1,2,   2411.0,2,     7.58,2,   25.00,  1.3045
     3250031_1,   P31,    54,  1,     17,     17,2,19940206,1906,-10.0192,-169.3657, 5200,   3655.5,   1.5148,  34.6854,2,  34.6862,2,    163.8,2,    163.5,2,   134.81,2,    35.01,2,     0.00,2,     2.42,2, -999.000,9, -999.000,9,   2313.2,2,   -999.0,9,     7.59,2,   25.00,  1.2322
     3250031_1,   P31,    54,  1,     16,     16,2,19940206,1906,-10.0192,-169.3657, 5200,   3758.3,   1.4980,  34.6869,2,  34.6872,2,    163.9,2,    165.1,2,   135.02,2,    34.91,2,     0.00,2,     2.42,2, -999.000,9, -999.000,9,   2309.1,2,   2407.6,2,     7.59,2,   25.00,  1.2050
     3250031_1,   P31,    54,  1,     15,     15,2,19940206,1906,-10.0192,-169.3657, 5200,   3861.2,   1.4736,  34.6884,2,  34.6882,2,    166.4,2,    166.6,2,   135.22,2,    34.81,2,     0.00,2,     2.41,2, -999.000,9, -999.000,9,   2309.2,2,   -999.0,9,     7.59,2,   25.00,  1.1704
     3250031_1,   P31,    54,  1,     14,     14,2,19940206,1906,-10.0192,-169.3657, 5200,   3963.5,   1.4490,  34.6902,2,  34.6903,2,    169.2,2,    169.0,2,   134.81,2,    34.71,2,     0.00,2,     2.40,2, -999.000,9, -999.000,9,   2308.2,2,   2407.4,2,     7.59,2,   25.00,  1.1355
     3250031_1,   P31,    54,  1,     13,     13,2,19940206,1906,-10.0192,-169.3657, 5200,   4066.3,   1.4052,  34.6949,2,  34.6943,2,    174.6,2,    177.4,2,   129.52,2,    34.02,2,     0.00,2,     2.35,2, -999.000,9, -999.000,9,   2295.4,2,   -999.0,9,     7.60,2,   25.00,  1.0817
     3250031_1,   P31,    54,  1,     12,     12,2,19940206,1906,-10.0192,-169.3657, 5200,   4168.0,   1.3289,  34.7010,2,  34.6999,2,    183.7,2,    186.1,2,   125.71,2,    33.32,2,     0.00,2,     2.30,2, -999.000,9, -999.000,9,   2285.6,2,   2383.7,2,     7.60,2,   25.00,  0.9964
     3250031_1,   P31,    54,  1,     11,     11,2,19940206,1906,-10.0192,-169.3657, 5200,   4245.8,   1.2715,  34.7023,2,  34.7017,2,    190.3,2,    189.9,2,   124.91,2,    33.02,2,     0.00,2,     2.28,2, -999.000,9, -999.000,9,   2282.9,2,   -999.0,9,  -999.00,9, -999.00,  0.9321
     3250031_1,   P31,    54,  1,     10,     10,2,19940206,1906,-10.0192,-169.3657, 5200,   4322.3,   1.2388,  34.7052,2,  34.7037,2,    191.3,2,    194.4,2,   122.53,2,    32.68,2,     0.00,2,     2.27,2, -999.000,9, -999.000,9,   2277.5,2,   2377.9,2,     7.60,2,   25.00,  0.8918
     3250031_1,   P31,    54,  1,      9,      9,2,19940206,1906,-10.0192,-169.3657, 5200,   4399.5,   1.1648,  34.7059,2,  34.7043,2,    197.7,2,    202.3,2,   121.93,2,    32.43,2,     0.00,2,     2.24,2, -999.000,9, -999.000,9,   2274.1,2,   -999.0,9,     7.61,2,   25.00,  0.8115
     3250031_1,   P31,    54,  1,      8,      8,2,19940206,1906,-10.0192,-169.3657, 5200,   4475.6,   1.0952,  34.7075,2,  34.7060,2,    202.4,2,    203.0,2,   121.34,2,    32.18,2,     0.00,2,     2.24,2, -999.000,9, -999.000,9,   2269.1,2,   2369.8,2,     7.61,2,   25.00,  0.7354
     3250031_1,   P31,    54,  1,      7,      7,2,19940206,1906,-10.0192,-169.3657, 5200,   4577.9,   1.0744,  34.7076,2,  34.7068,2,    204.1,2,    203.8,2,   121.34,2,    32.18,2,     0.00,2,     2.23,2, -999.000,9, -999.000,9,   2267.9,2,   2370.9,2,     7.61,2,   25.00,  0.7037
     3250031_1,   P31,    54,  1,      6,      6,2,19940206,1906,-10.0192,-169.3657, 5200,   4681.4,   1.0668,  34.7085,2,  34.7076,2,    206.2,2,    204.6,2,   121.53,2,    32.13,2,     0.00,2,     2.22,2,    0.001,2,   -0.004,2,   2266.1,2,   2378.3,2,     7.61,2,   25.00,  0.6845
     3250031_1,   P31,    54,  1,      5,      5,2,19940206,1906,-10.0192,-169.3657, 5200,   4783.9,   1.0579,  34.7083,2,  34.7062,2,    206.1,2,    206.0,2,   122.13,2,    32.13,2,     0.00,2,     2.22,2,    0.004,2,    0.006,2,   2264.4,2,   2370.2,2,     7.61,2,   25.00,  0.6640
     3250031_1,   P31,    54,  1,      4,      4,2,19940206,1906,-10.0192,-169.3657, 5200,   4886.7,   1.0659,  34.7083,2,  34.7076,2,    206.6,2,    205.7,2,   122.32,2,    32.08,2,     0.00,2,     2.22,2,    0.004,2,   -0.002,2,   2264.1,2,   2369.3,2,     7.61,2,   25.00,  0.6597
     3250031_1,   P31,    54,  1,      3,      3,2,19940206,1906,-10.0192,-169.3657, 5200,   5040.6,   1.0813,  34.7079,2,  34.7076,2,    206.6,2,    206.4,2,   121.93,2,    32.08,2,     0.00,2,     2.22,2,    0.000,2,   -0.002,2,   2262.6,2,   2368.0,2,     7.61,2,   25.00,  0.6563
     3250031_1,   P31,    54,  1,      2,      2,2,19940206,1906,-10.0192,-169.3657, 5200,   5196.2,   1.0994,  34.7082,2,  34.7068,2,    205.8,3,    206.4,2,   121.53,2,    32.08,2,     0.00,2,     2.21,2,    0.002,2,    0.000,2,   2264.5,2,   -999.0,9,     7.61,2,   25.00,  0.6549
     3250031_1,   P31,    54,  1,      1,      1,2,19940206,1906,-10.0192,-169.3657, 5200,   5298.9,   1.1102,  34.7082,2,  34.7066,2,    207.6,2,    206.2,2,   121.53,2,    32.02,2,     0.00,2,     2.21,2,    0.007,2,   -0.001,2,   2264.3,2,   2380.2,2,     7.61,2,   25.00,  0.6527