BOTTLE,20020814WHPSIOdm
EXPOCODE,SECT_ID,STNNBR,CASTNO,SAMPNO,BTLNBR,BTLNBR_FLAG_W,DATE,TIME,LATITUDE,LONGITUDE,DEPTH,CTDPRS,CTDTMP,CTDSAL,CTDSAL_FLAG_W,SALNTY,SALNTY_FLAG_W,CTDOXY,CTDOXY_FLAG_W,OXYGEN,OXYGEN_FLAG_W,SILCAT,SILCAT_FLAG_W,NITRAT,NITRAT_FLAG_W,NITRIT,NITRIT_FLAG_W,PHSPHT,PHSPHT_FLAG_W,CFC-11,CFC-11_FLAG_W,CFC-12,CFC-12_FLAG_W,TCARBN,TCARBN_FLAG_W,ALKALI,ALKALI_FLAG_W,PH,PH_FLAG_W,PHTEMP,THETA
,,,,,,,,,,,,DBAR,ITS-90,PSS-78,,PSS-78,,UMOL/KG,,UMOL/KG,,UMOL/KG,,UMOL/KG,,UMOL/KG,,UMOL/KG,,PMOL/KG,,PMOL/KG,,UMOL/KG,,UMOL/KG,,,,DEG C,DEG C
     3250031_1,   P31,    19,  1,     36,     36,2,19940130,0851,-13.7020,-156.8082, 5036,      2.9,  29.4633,  35.3648,2,  35.3642,2,    182.0,2,    192.8,2,     1.53,2,     0.13,2,     0.00,2,     0.19,2, -999.000,9, -999.000,9,   1949.8,2,   2334.6,2,     8.15,2,   25.00, 29.4625
     3250031_1,   P31,    19,  1,     35,     35,2,19940130,0851,-13.7020,-156.8082, 5036,     13.8,  29.4706,  35.3653,2,  35.3642,2,    181.3,2,    192.8,2,     1.52,2,     0.13,2,     0.00,2,     0.19,2, -999.000,9, -999.000,9,   1950.1,2,   2330.8,2,     8.15,2,   25.00, 29.4672
     3250031_1,   P31,    19,  1,     34,     34,2,19940130,0851,-13.7020,-156.8082, 5036,     57.0,  29.0388,  35.9926,2,  35.9916,2,    199.8,2,    199.5,2,     1.31,2,     0.12,2,     0.00,2,     0.19,2, -999.000,9, -999.000,9,   1984.8,2,   2376.4,2,     8.15,2,   25.00, 29.0249
     3250031_1,   P31,    19,  1,     33,     33,2,19940130,0851,-13.7020,-156.8082, 5036,    106.8,  26.0467,  36.1877,2,  36.1625,2,    202.8,2,    198.7,2,     1.29,2,     0.07,2,     0.00,2,     0.22,2, -999.000,9, -999.000,9,   2017.4,2,   2384.2,2,     8.11,2,   25.00, 26.0227
     3250031_1,   P31,    19,  1,     32,     32,2,19940130,0851,-13.7020,-156.8082, 5036,    206.4,  20.3695,  35.8416,2,  35.8616,2,    165.8,2,    166.0,2,     1.83,2,     5.17,2,     0.01,2,     0.58,2, -999.000,9, -999.000,9,   2091.8,2,   2369.7,2,     7.97,2,   25.00, 20.3306
     3250031_1,   P31,    19,  1,     31,     31,2,19940130,0851,-13.7020,-156.8082, 5036,    306.3,  14.6400,  35.0802,2,  35.0695,2,    142.7,2,    143.4,2,     7.06,2,    13.36,2,     0.01,2,     1.17,2, -999.000,9, -999.000,9,   2128.0,2,   2319.3,2,     7.81,2,   25.00, 14.5942
     3250031_1,   P31,    19,  1,     30,     30,2,19940130,0851,-13.7020,-156.8082, 5036,    406.3,   9.6193,  34.6230,2,  34.6218,2,    113.3,2,    112.8,2,    20.37,2,    25.96,2,     0.00,2,     1.96,2, -999.000,9, -999.000,9,   2188.7,2,   2303.7,2,     7.62,2,   25.00,  9.5730
     3250031_1,   P31,    19,  1,     29,     29,2,19940130,0851,-13.7020,-156.8082, 5036,    606.5,   6.1597,  34.4680,2,  34.4684,2,    146.8,2,    148.2,2,    37.23,2,    31.22,2,     0.00,2,     2.18,2, -999.000,9, -999.000,9,   2208.3,2,   2310.8,2,     7.60,2,   25.00,  6.1056
     3250031_1,   P31,    19,  1,     28,     28,2,19940130,0851,-13.7020,-156.8082, 5036,    806.2,   4.9835,  34.4838,2,  34.4845,2,    136.3,2,    138.9,2,    55.63,2,    34.15,2,     0.00,2,     2.36,2, -999.000,9, -999.000,9,   2234.0,2,   2332.3,2,     7.57,2,   25.00,  4.9176
     3250031_1,   P31,    19,  1,     27,     27,2,19940130,0851,-13.7020,-156.8082, 5036,   1006.6,   4.1247,  34.5124,2,  34.5126,2,    133.8,2,    135.0,2,    72.97,2,    35.43,2,     0.00,2,     2.47,2, -999.000,9, -999.000,9,   2256.8,2,   2343.7,2,     7.55,2,   25.00,  4.0475
     3250031_1,   P31,    19,  1,     26,     26,2,19940130,0851,-13.7020,-156.8082, 5036,   1256.9,   3.3926,  34.5523,2,  34.5525,2,    134.1,2,    132.9,2,    89.72,2,    36.13,2,     0.00,2,     2.53,2, -999.000,9, -999.000,9,   2279.3,2,   2368.9,2,     7.55,2,   25.00,  3.3008
     3250031_1,   P31,    19,  1,     25,     25,2,19940130,0851,-13.7020,-156.8082, 5036,   1509.3,   2.7955,  34.5854,2,  34.5864,2,    140.1,2,    140.0,2,   102.07,2,    35.97,2,     0.00,2,     2.51,2, -999.000,9, -999.000,9,   2288.9,2,   2377.2,2,     7.56,2,   25.00,  2.6892
     3250031_1,   P31,    19,  1,     24,     24,2,19940130,0851,-13.7020,-156.8082, 5036,   1760.6,   2.4090,  34.6119,2,  34.6126,2,    146.9,2,    145.1,2,   109.68,2,    35.77,2,     0.00,2,     2.49,2, -999.000,9, -999.000,9,   2296.1,2,   2392.5,2,     7.56,2,   25.00,  2.2868
     3250031_1,   P31,    19,  1,     23,     23,2,19940130,0851,-13.7020,-156.8082, 5036,   2012.7,   2.1275,  34.6350,2,  34.6356,2,    148.3,2,    147.7,2,   117.20,2,    35.67,2,     0.00,2,     2.48,2, -999.000,9, -999.000,9,   2302.4,2,   2398.4,2,     7.57,2,   25.00,  1.9881
     3250031_1,   P31,    19,  1,     22,     22,2,19940130,0851,-13.7020,-156.8082, 5036,   2266.1,   1.9682,  34.6497,2,  34.6521,2,    148.5,2,    150.1,2,   122.00,2,    35.56,2,     0.00,2,     2.47,2, -999.000,9, -999.000,9,   2306.0,2,   2409.2,2,     7.57,2,   25.00,  1.8095
     3250031_1,   P31,    19,  1,     21,     21,2,19940130,0851,-13.7020,-156.8082, 5036,   2518.2,   1.8656,  34.6608,2,  34.6611,2,    149.3,2,    150.0,2,   127.06,2,    35.66,2,     0.00,2,     2.47,2, -999.000,9, -999.000,9,   2311.3,2,   2409.6,2,     7.57,2,   25.00,  1.6862
     3250031_1,   P31,    19,  1,     20,     20,2,19940130,0851,-13.7020,-156.8082, 5036,   2770.3,   1.7738,  34.6695,2,  34.6692,2,    152.2,2,    151.4,2,   131.14,2,    35.66,2,     0.00,2,     2.47,2,    0.010,4,    0.015,4,   2313.0,2,   2416.6,2,     7.58,2,   25.00,  1.5729
     3250031_1,   P31,    19,  1,     19,     19,2,19940130,0851,-13.7020,-156.8082, 5036,   3024.2,   1.6955,  34.6749,2,  34.6767,2,    156.1,2,    155.5,2,   132.35,2,    35.50,2,     0.00,2,     2.44,2, -999.000,9, -999.000,9,   2311.1,2,   2414.7,2,     7.59,2,   25.00,  1.4721
     3250031_1,   P31,    19,  1,     18,     18,2,19940130,0851,-13.7020,-156.8082, 5036,   3227.4,   1.6449,  34.6784,2,  34.6800,2,    158.4,2,    159.1,2,   131.69,2,    35.15,2,     0.00,2,     2.43,2, -999.000,9, -999.000,9,   2307.8,2,   2418.4,2,     7.58,2,   25.00,  1.4027
     3250031_1,   P31,    19,  1,     17,     17,2,19940130,0851,-13.7020,-156.8082, 5036,   3429.8,   1.5935,  34.6815,2,  34.6822,2,    164.4,2,    164.3,2,   129.60,2,    34.80,2,     0.00,2,     2.40,2, -999.000,9, -999.000,9,   2301.6,2,   2405.6,2,     7.59,2,   25.00,  1.3322
     3250031_1,   P31,    19,  1,     16,     16,2,19940130,0851,-13.7020,-156.8082, 5036,   3633.2,   1.5335,  34.6848,2,  34.6875,3,    171.4,2,    170.7,2,   126.90,2,    34.30,2,     0.00,2,     2.37,2, -999.000,9, -999.000,9,   2298.3,2,   2401.7,2,     7.60,2,   25.00,  1.2527
     3250031_1,   P31,    19,  1,     15,     15,2,19940130,0851,-13.7020,-156.8082, 5036,   3734.3,   1.5083,  34.6867,2,  34.6879,2,    174.4,2,    173.8,2,   125.43,2,    34.00,2,     0.00,2,     2.36,2, -999.000,9, -999.000,9,   2292.5,2,   2398.3,2,     7.60,2,   25.00,  1.2176
     3250031_1,   P31,    19,  1,     14,     14,2,19940130,0851,-13.7020,-156.8082, 5036,   3836.6,   1.4804,  34.6885,2,  34.6903,2,    176.6,2,    176.6,2,   124.59,2,    33.84,2,     0.00,2,     2.34,2, -999.000,9, -999.000,9,   2288.1,2,   2400.3,2,     7.60,2,   25.00,  1.1796
     3250031_1,   P31,    19,  1,     13,     13,2,19940130,0851,-13.7020,-156.8082, 5036,   3938.6,   1.4535,  34.6907,2,  34.6913,2,    179.0,2,    178.8,2,   124.15,2,    33.79,2,     0.00,2,     2.33,2, -999.000,9, -999.000,9,   2288.2,2,   2394.1,2,     7.60,2,   25.00,  1.1425
     3250031_1,   P31,    19,  1,     12,     12,2,19940130,0851,-13.7020,-156.8082, 5036,   4040.3,   1.4230,  34.6928,2,  34.6927,2,    181.5,2,    180.7,2,   125.34,2,    33.69,2,     0.00,2,     2.32,2, -999.000,9, -999.000,9,   2287.0,2,   2418.3,3,     7.60,2,   25.00,  1.1019
     3250031_1,   P31,    19,  1,     11,     11,2,19940130,0851,-13.7020,-156.8082, 5036,   4141.0,   1.4043,  34.6940,2,  34.6943,2,    182.5,2,    181.7,2,   125.31,2,    33.44,2,     0.00,2,     2.32,2, -999.000,9, -999.000,9,   2281.0,2,   2400.2,2,     7.60,2,   25.00,  1.0726
     3250031_1,   P31,    19,  1,     10,     10,2,19940130,0851,-13.7020,-156.8082, 5036,   4243.8,   1.3826,  34.6955,2,  34.6964,2,    184.8,2,    184.4,2,   124.46,2,    33.28,2,     0.00,2,     2.31,2, -999.000,9, -999.000,9,   2282.4,2,   2398.5,2,     7.60,2,   25.00,  1.0402
     3250031_1,   P31,    19,  1,      9,      9,2,19940130,0851,-13.7020,-156.8082, 5036,   4345.5,   1.3676,  34.6964,2,  34.6970,2,    185.6,2,    185.4,2,   124.03,2,    33.18,2,     0.00,2,     2.29,2, -999.000,9, -999.000,9,   2282.9,2,   -999.0,9,     7.60,2,   25.00,  1.0142
     3250031_1,   P31,    19,  1,      8,      8,2,19940130,0851,-13.7020,-156.8082, 5036,   4447.8,   1.3435,  34.6983,2,  34.6992,2,    188.1,2,    187.5,2,   123.18,2,    33.03,2,     0.00,2,     2.29,2, -999.000,9, -999.000,9,   2281.1,2,   2396.2,2,     7.61,2,   25.00,  0.9793
     3250031_1,   P31,    19,  1,      7,      7,2,19940130,0851,-13.7020,-156.8082, 5036,   4549.7,   1.3254,  34.6997,2,  34.7004,2,    190.7,2,    189.8,2,   122.34,2,    32.93,2,     0.00,2,     2.28,2, -999.000,9, -999.000,9,   2280.7,2,   2390.0,2,     7.61,2,   25.00,  0.9501
     3250031_1,   P31,    19,  1,      6,      6,2,19940130,0851,-13.7020,-156.8082, 5036,   4651.5,   1.3034,  34.7015,2,  34.7024,2,    192.1,2,    192.0,2,   121.91,2,    32.68,2,     0.00,2,     2.27,2,    0.005,2,   -0.002,2,   2274.2,2,   2395.4,2,     7.61,2,   25.00,  0.9170
     3250031_1,   P31,    19,  1,      5,      5,2,19940130,0851,-13.7020,-156.8082, 5036,   4754.0,   1.2959,  34.7024,2,  34.7024,2,    194.2,2,    193.6,2,   121.87,2,    32.67,2,     0.00,2,     2.26,2,    0.006,2,   -0.001,2,   2271.4,2,   2389.1,2,     7.61,2,   25.00,  0.8978
     3250031_1,   P31,    19,  1,      4,      4,2,19940130,0851,-13.7020,-156.8082, 5036,   4855.7,   1.2966,  34.7025,2,  34.7038,2,    194.0,2,    194.1,2,   122.45,2,    32.77,2,     0.00,2,     2.26,2,    0.003,2,    0.004,2,   2271.4,2,   -999.0,9,     7.61,2,   25.00,  0.8865
     3250031_1,   P31,    19,  1,      3,      3,2,19940130,0851,-13.7020,-156.8082, 5036,   4958.3,   1.2910,  34.7037,2,  34.7050,2,    195.1,2,    195.5,2,   122.01,2,    32.62,2,     0.00,2,     2.25,2,    0.004,2,   -0.003,2,   2269.5,2,   2384.2,2,     7.61,2,   25.00,  0.8688
     3250031_1,   P31,    19,  1,      2,      2,2,19940130,0851,-13.7020,-156.8082, 5036,   5060.3,   1.2988,  34.7039,2,  34.7050,2,    192.5,2,    195.9,2,   121.38,2,    32.37,2,     0.00,2,     2.24,2,    0.009,2,   -0.001,2,   2271.9,2,   2384.2,2,     7.61,2,   25.00,  0.8640
     3250031_1,   P31,    19,  1,      1,      1,2,19940130,0851,-13.7020,-156.8082, 5036,   5116.0,   1.3042,  34.7041,2,  34.7042,2,    194.7,2,    195.1,2,   121.15,2,    32.51,2,     0.00,2,     2.25,2,    0.013,3,   -0.002,2,   2269.7,2,   2382.3,2,     7.61,2,   25.00,  0.8624