BOTTLE,20020809WHPSIObren
EXPOCODE,SECT_ID,STNNBR,CASTNO,SAMPNO,BTLNBR,BTLNBR_FLAG_W,DATE,TIME,LATITUDE,LONGITUDE,DEPTH,CTDPRS,CTDTMP,CTDSAL,CTDSAL_FLAG_W,SALNTY,SALNTY_FLAG_W,CTDOXY,CTDOXY_FLAG_W,OXYGEN,OXYGEN_FLAG_W,SILCAT,SILCAT_FLAG_W,NO2+NO3,NO2+NO3_FLAG_W,PHSPHT,PHSPHT_FLAG_W,CTDRAW,REVTMP,REVPRS,THETA
,,,,,,,,,,,,DBAR,ITS-90,PSS-78,,PSS-78,,UMOL/KG,,UMOL/KG,,UMOL/KG,,UMOL/KG,,UMOL/KG,,,DEG C,DBAR,ITS-90
     32MW081_1,  PRS2,     2,  7,     19,     19,2,19970312,0858, 22.7603,-158.0007, 4715,      7.0,  23.2287,  35.0274,2,-999.0000,5,    218.4,1,   -999.0,9,  -999.00,9,  -999.00,9,  -999.00,9,      7,-999.000,  -999.0, 23.2273
     32MW081_1,  PRS2,     2,  7,     18,     18,2,19970312,0858, 22.7603,-158.0007, 4715,      7.1,  23.2335,  35.0280,2,  35.0595,4,    218.4,1,   -999.0,9,  -999.00,9,  -999.00,9,  -999.00,9,      7,-999.000,  -999.0, 23.2320
     32MW081_1,  PRS2,     2,  7,     16,     16,2,19970312,0858, 22.7603,-158.0007, 4715,     11.9,  23.1434,  35.0243,2,  35.0237,2,    217.8,1,   -999.0,9,  -999.00,9,  -999.00,9,  -999.00,9,     13,-999.000,  -999.0, 23.1410
     32MW081_1,  PRS2,     2,  7,     17,     17,2,19970312,0858, 22.7603,-158.0007, 4715,     12.0,  23.1420,  35.0242,2,-999.0000,5,    217.8,1,   -999.0,9,  -999.00,9,  -999.00,9,  -999.00,9,     12,-999.000,  -999.0, 23.1396
     32MW081_1,  PRS2,     2,  7,     15,     15,2,19970312,0858, 22.7603,-158.0007, 4715,     21.7,  22.8977,  35.0425,2,-999.0000,5,    217.4,1,   -999.0,9,  -999.00,9,  -999.00,9,  -999.00,9,     22,-999.000,  -999.0, 22.8933
     32MW081_1,  PRS2,     2,  7,     14,     14,2,19970312,0858, 22.7603,-158.0007, 4715,     21.8,  22.8963,  35.0426,2,  35.1088,4,    217.5,1,   -999.0,9,  -999.00,9,  -999.00,9,  -999.00,9,     23,-999.000,  -999.0, 22.8919
     32MW081_1,  PRS2,     2,  7,     13,     13,2,19970312,0858, 22.7603,-158.0007, 4715,     31.8,  22.7994,  35.0550,2,-999.0000,5,    218.3,1,   -999.0,9,  -999.00,9,  -999.00,9,  -999.00,9,     31,-999.000,  -999.0, 22.7930
     32MW081_1,  PRS2,     2,  7,     12,     12,2,19970312,0858, 22.7603,-158.0007, 4715,     31.8,  22.7949,  35.0551,2,  35.0537,2,    218.3,1,   -999.0,9,  -999.00,9,  -999.00,9,  -999.00,9,     32,-999.000,  -999.0, 22.7884
     32MW081_1,  PRS2,     2,  7,     10,     32,2,19970312,0858, 22.7603,-158.0007, 4715,     41.8,  22.3757,  35.0844,2,  35.0843,2,    219.3,1,   -999.0,9,  -999.00,9,  -999.00,9,  -999.00,9,     42,-999.000,  -999.0, 22.3674
     32MW081_1,  PRS2,     2,  7,     11,     11,2,19970312,0858, 22.7603,-158.0007, 4715,     41.9,  22.3703,  35.0854,2,-999.0000,5,    219.9,1,   -999.0,9,  -999.00,9,  -999.00,9,  -999.00,9,     42,-999.000,  -999.0, 22.3619
     32MW081_1,  PRS2,     2,  7,      9,      3,2,19970312,0858, 22.7603,-158.0007, 4715,     52.0,  22.2052,  35.0813,2,-999.0000,5,    220.7,1,   -999.0,9,  -999.00,9,  -999.00,9,  -999.00,9,     52,-999.000,  -999.0, 22.1948
     32MW081_1,  PRS2,     2,  7,      8,     29,2,19970312,0858, 22.7603,-158.0007, 4715,     52.0,  22.2051,  35.0812,2,  35.0822,2,    220.5,1,   -999.0,9,  -999.00,9,  -999.00,9,  -999.00,9,     53,-999.000,  -999.0, 22.1948
     32MW081_1,  PRS2,     2,  7,      6,      7,2,19970312,0858, 22.7603,-158.0007, 4715,     60.8,  21.7565,  35.0741,2,  35.0797,2,    220.7,1,   -999.0,9,  -999.00,9,  -999.00,9,  -999.00,9,     62,-999.000,  -999.0, 21.7446
     32MW081_1,  PRS2,     2,  7,      7,     28,2,19970312,0858, 22.7603,-158.0007, 4715,     60.9,  21.7564,  35.0741,2,-999.0000,5,    220.7,1,   -999.0,9,  -999.00,9,  -999.00,9,  -999.00,9,     60,-999.000,  -999.0, 21.7445
     32MW081_1,  PRS2,     2,  7,      5,     38,2,19970312,0858, 22.7603,-158.0007, 4715,     70.0,  21.5533,  35.0728,2,-999.0000,5,    220.1,1,   -999.0,9,  -999.00,9,  -999.00,9,  -999.00,9,     70,-999.000,  -999.0, 21.5397
     32MW081_1,  PRS2,     2,  7,      4,     36,2,19970312,0858, 22.7603,-158.0007, 4715,     70.0,  21.5548,  35.0723,2,  35.0718,2,    220.1,1,   -999.0,9,  -999.00,9,  -999.00,9,  -999.00,9,     70,-999.000,  -999.0, 21.5411
     32MW081_1,  PRS2,     2,  7,      3,     35,2,19970312,0858, 22.7603,-158.0007, 4715,    120.2,  20.4635,  35.0749,2,  35.0756,2,    208.3,1,   -999.0,9,  -999.00,9,  -999.00,9,  -999.00,9,    120,-999.000,  -999.0, 20.4409
     32MW081_1,  PRS2,     2,  7,      2,     34,2,19970312,0858, 22.7603,-158.0007, 4715,    510.2,   6.7948,  34.0522,2,  34.0538,2,    111.2,1,   -999.0,9,  -999.00,9,  -999.00,9,  -999.00,9,    510,-999.000,  -999.0,  6.7475
     32MW081_1,  PRS2,     2,  7,      1,     33,2,19970312,0858, 22.7603,-158.0007, 4715,   1021.8,   3.8798,  34.4956,2,  34.5008,2,     40.0,1,   -999.0,9,  -999.00,9,  -999.00,9,  -999.00,9,   1022,-999.000,  -999.0,  3.8033
     32MW081_1,  PRS2,     2,  8,     19,     19,2,19970312,1158, 22.7480,-158.0017, 4725,      4.6,  23.3353,  35.0292,2,  35.0364,2,    215.9,1,   -999.0,9,  -999.00,9,  -999.00,9,  -999.00,9,      5,-999.000,  -999.0, 23.3343
     32MW081_1,  PRS2,     2,  8,     18,     18,2,19970312,1158, 22.7480,-158.0017, 4725,     78.9,  21.4562,  35.0737,2,  35.0743,2,    216.8,1,   -999.0,9,  -999.00,9,  -999.00,9,  -999.00,9,     79,-999.000,  -999.0, 21.4409
     32MW081_1,  PRS2,     2,  8,     17,     17,2,19970312,1158, 22.7480,-158.0017, 4725,     78.9,  21.4657,  35.0728,2,  35.0811,2,    216.7,1,   -999.0,9,  -999.00,9,  -999.00,9,  -999.00,9,     78,-999.000,  -999.0, 21.4503
     32MW081_1,  PRS2,     2,  8,     16,     16,2,19970312,1158, 22.7480,-158.0017, 4725,     88.3,  21.1608,  35.0679,2,  35.0667,2,    214.7,1,   -999.0,9,  -999.00,9,  -999.00,9,  -999.00,9,     89,-999.000,  -999.0, 21.1439
     32MW081_1,  PRS2,     2,  8,     15,     15,2,19970312,1158, 22.7480,-158.0017, 4725,     88.7,  21.1568,  35.0680,2,  35.0652,2,    215.0,1,   -999.0,9,  -999.00,9,  -999.00,9,  -999.00,9,     88,-999.000,  -999.0, 21.1397
     32MW081_1,  PRS2,     2,  8,     14,     14,2,19970312,1158, 22.7480,-158.0017, 4725,     99.7,  20.6890,  35.0677,2,  35.0663,2,    217.0,1,   -999.0,9,  -999.00,9,  -999.00,9,  -999.00,9,    100,-999.000,  -999.0, 20.6701
     32MW081_1,  PRS2,     2,  8,     13,     13,2,19970312,1158, 22.7480,-158.0017, 4725,     99.7,  20.6901,  35.0681,2,  35.0688,2,    217.0,1,   -999.0,9,  -999.00,9,  -999.00,9,  -999.00,9,    100,-999.000,  -999.0, 20.6712
     32MW081_1,  PRS2,     2,  8,     12,     12,2,19970312,1158, 22.7480,-158.0017, 4725,    109.1,  20.4570,  35.0748,2,  35.0749,2,    207.3,1,   -999.0,9,  -999.00,9,  -999.00,9,  -999.00,9,    109,-999.000,  -999.0, 20.4365
     32MW081_1,  PRS2,     2,  8,     10,     32,2,19970312,1158, 22.7480,-158.0017, 4725,    119.1,  20.1398,  35.0664,2,  35.0659,2,    199.7,1,   -999.0,9,  -999.00,9,  -999.00,9,  -999.00,9,    118,-999.000,  -999.0, 20.1177
     32MW081_1,  PRS2,     2,  8,     11,     11,2,19970312,1158, 22.7480,-158.0017, 4725,    119.7,  20.1402,  35.0659,2,  35.0707,2,    199.0,1,   -999.0,9,  -999.00,9,  -999.00,9,  -999.00,9,    121,-999.000,  -999.0, 20.1180
     32MW081_1,  PRS2,     2,  8,      9,      3,2,19970312,1158, 22.7480,-158.0017, 4725,    129.8,  19.4817,  35.0229,2,  35.0198,2,    201.5,1,   -999.0,9,  -999.00,9,  -999.00,9,  -999.00,9,    130,-999.000,  -999.0, 19.4582
     32MW081_1,  PRS2,     2,  8,      8,     29,2,19970312,1158, 22.7480,-158.0017, 4725,    139.0,  18.2752,  34.9219,2,  34.9237,2,    182.9,1,   -999.0,9,  -999.00,9,  -999.00,9,  -999.00,9,    139,-999.000,  -999.0, 18.2511
     32MW081_1,  PRS2,     2,  8,      7,     28,2,19970312,1158, 22.7480,-158.0017, 4725,    139.2,  18.2685,  34.9212,2,  34.9187,2,    181.7,1,   -999.0,9,  -999.00,9,  -999.00,9,  -999.00,9,    140,-999.000,  -999.0, 18.2444
     32MW081_1,  PRS2,     2,  8,      6,      7,2,19970312,1158, 22.7480,-158.0017, 4725,    149.8,  17.8080,  34.8776,2,  34.8738,2,    183.0,1,   -999.0,9,  -999.00,9,  -999.00,9,  -999.00,9,    151,-999.000,  -999.0, 17.7825
     32MW081_1,  PRS2,     2,  8,      5,     38,2,19970312,1158, 22.7480,-158.0017, 4725,    160.0,  17.3646,  34.8315,2,  34.8354,2,    198.3,1,   -999.0,9,  -999.00,9,  -999.00,9,  -999.00,9,    160,-999.000,  -999.0, 17.3378
     32MW081_1,  PRS2,     2,  8,      4,     36,2,19970312,1158, 22.7480,-158.0017, 4725,    160.0,  17.3677,  34.8322,2,  34.8371,2,    198.5,1,   -999.0,9,  -999.00,9,  -999.00,9,  -999.00,9,    160,-999.000,  -999.0, 17.3409
     32MW081_1,  PRS2,     2,  8,      3,     35,2,19970312,1158, 22.7480,-158.0017, 4725,    170.2,  16.2841,  34.7202,2,  34.7383,2,    196.1,1,   -999.0,9,  -999.00,9,  -999.00,9,  -999.00,9,    171,-999.000,  -999.0, 16.2569
     32MW081_1,  PRS2,     2,  8,      2,     34,2,19970312,1158, 22.7480,-158.0017, 4725,    530.3,   6.4096,  34.0559,2,  34.0554,2,     97.9,1,   -999.0,9,  -999.00,9,  -999.00,9,  -999.00,9,    531,-999.000,  -999.0,  6.3619
     32MW081_1,  PRS2,     2,  8,      1,     33,2,19970312,1158, 22.7480,-158.0017, 4725,   1021.9,   3.8472,  34.4995,2,  34.5018,2,     41.2,1,   -999.0,9,  -999.00,9,  -999.00,9,  -999.00,9,   1022,-999.000,  -999.0,  3.7709
     32MW081_1,  PRS2,     2,  9,     24,     31,2,19970312,1458, 22.7507,-158.0015, 4725,      1.6,  23.2948,  35.0270,2,  35.0312,2,    215.6,1,   -999.0,9,  -999.00,9,  -999.00,9,  -999.00,9,      3,-999.000,  -999.0, 23.2945
     32MW081_1,  PRS2,     2,  9,     23,     30,2,19970312,1458, 22.7507,-158.0015, 4725,      4.6,  23.2936,  35.0272,2,  35.0278,2,    215.7,1,   -999.0,9,  -999.00,9,  -999.00,9,  -999.00,9,      5,-999.000,  -999.0, 23.2927
     32MW081_1,  PRS2,     2,  9,     22,     22,2,19970312,1458, 22.7507,-158.0015, 4725,      9.9,  23.2966,  35.0267,2,  35.0273,2,    215.7,1,   -999.0,9,  -999.00,9,  -999.00,9,  -999.00,9,     10,-999.000,  -999.0, 23.2946
     32MW081_1,  PRS2,     2,  9,     21,     21,2,19970312,1458, 22.7507,-158.0015, 4725,     14.5,  23.2919,  35.0266,2,  35.0249,2,    215.8,1,   -999.0,9,  -999.00,9,  -999.00,9,  -999.00,9,     14,-999.000,  -999.0, 23.2889
     32MW081_1,  PRS2,     2,  9,     20,     20,2,19970312,1458, 22.7507,-158.0015, 4725,     19.8,  23.2352,  35.0255,2,  35.0255,2,    215.1,1,   -999.0,9,  -999.00,9,  -999.00,9,  -999.00,9,     20,-999.000,  -999.0, 23.2312
     32MW081_1,  PRS2,     2,  9,     19,     19,2,19970312,1458, 22.7507,-158.0015, 4725,     24.5,  23.1079,  35.0252,2,  35.0242,2,    214.5,1,   -999.0,9,  -999.00,9,  -999.00,9,  -999.00,9,     24,-999.000,  -999.0, 23.1029
     32MW081_1,  PRS2,     2,  9,     18,     18,2,19970312,1458, 22.7507,-158.0015, 4725,     29.1,  22.9906,  35.0325,2,  35.0314,2,    214.4,1,   -999.0,9,  -999.00,9,  -999.00,9,  -999.00,9,     29,-999.000,  -999.0, 22.9847
     32MW081_1,  PRS2,     2,  9,     17,     17,2,19970312,1458, 22.7507,-158.0015, 4725,     34.2,  22.4611,  35.0792,2,  35.0775,2,    215.7,1,   -999.0,9,  -999.00,9,  -999.00,9,  -999.00,9,     34,-999.000,  -999.0, 22.4543
     32MW081_1,  PRS2,     2,  9,     16,     16,2,19970312,1458, 22.7507,-158.0015, 4725,     39.5,  22.4369,  35.0796,2,  35.0794,2,    216.6,1,   -999.0,9,  -999.00,9,  -999.00,9,  -999.00,9,     39,-999.000,  -999.0, 22.4290
     32MW081_1,  PRS2,     2,  9,     15,     15,2,19970312,1458, 22.7507,-158.0015, 4725,     44.1,  22.4284,  35.0795,2,  35.0781,2,    216.6,1,   -999.0,9,  -999.00,9,  -999.00,9,  -999.00,9,     44,-999.000,  -999.0, 22.4196
     32MW081_1,  PRS2,     2,  9,     14,     14,2,19970312,1458, 22.7507,-158.0015, 4725,     49.7,  22.4118,  35.0822,2,  35.0837,2,    216.2,1,   -999.0,9,  -999.00,9,  -999.00,9,  -999.00,9,     50,-999.000,  -999.0, 22.4019
     32MW081_1,  PRS2,     2,  9,     13,     13,2,19970312,1458, 22.7507,-158.0015, 4725,     54.9,  22.3928,  35.0813,2,  35.0808,2,    217.2,1,   -999.0,9,  -999.00,9,  -999.00,9,  -999.00,9,     55,-999.000,  -999.0, 22.3818
     32MW081_1,  PRS2,     2,  9,     12,     12,2,19970312,1458, 22.7507,-158.0015, 4725,     64.7,  21.9272,  35.0633,2,  35.0636,2,    211.7,1,   -999.0,9,  -999.00,9,  -999.00,9,  -999.00,9,     65,-999.000,  -999.0, 21.9144
     32MW081_1,  PRS2,     2,  9,     11,     11,2,19970312,1458, 22.7507,-158.0015, 4725,     74.8,  21.8144,  35.0659,2,  35.0763,2,    210.3,1,   -999.0,9,  -999.00,9,  -999.00,9,  -999.00,9,     75,-999.000,  -999.0, 21.7997
     32MW081_1,  PRS2,     2,  9,     10,     32,2,19970312,1458, 22.7507,-158.0015, 4725,     84.6,  21.5328,  35.0662,2,  35.0680,2,    215.4,1,   -999.0,9,  -999.00,9,  -999.00,9,  -999.00,9,     84,-999.000,  -999.0, 21.5163
     32MW081_1,  PRS2,     2,  9,      9,      3,2,19970312,1458, 22.7507,-158.0015, 4725,     94.6,  20.9052,  35.0751,2,  35.0778,2,    213.8,1,   -999.0,9,  -999.00,9,  -999.00,9,  -999.00,9,     94,-999.000,  -999.0, 20.8872
     32MW081_1,  PRS2,     2,  9,      8,     29,2,19970312,1458, 22.7507,-158.0015, 4725,    104.2,  20.5611,  35.0758,2,  35.0814,2,    209.1,1,   -999.0,9,  -999.00,9,  -999.00,9,  -999.00,9,    104,-999.000,  -999.0, 20.5415
     32MW081_1,  PRS2,     2,  9,      7,     28,2,19970312,1458, 22.7507,-158.0015, 4725,    114.4,  20.5073,  35.0752,2,  35.0744,2,    206.8,1,   -999.0,9,  -999.00,9,  -999.00,9,  -999.00,9,    114,-999.000,  -999.0, 20.4858
     32MW081_1,  PRS2,     2,  9,      6,      7,2,19970312,1458, 22.7507,-158.0015, 4725,    124.3,  20.3695,  35.0729,2,  35.0735,2,    200.9,1,   -999.0,9,  -999.00,9,  -999.00,9,  -999.00,9,    125,-999.000,  -999.0, 20.3462
     32MW081_1,  PRS2,     2,  9,      5,     38,2,19970312,1458, 22.7507,-158.0015, 4725,    150.3,  19.7752,  35.0439,2,  35.0521,2,    203.0,1,   -999.0,9,  -999.00,9,  -999.00,9,  -999.00,9,    150,-999.000,  -999.0, 19.7477
     32MW081_1,  PRS2,     2,  9,      4,     36,2,19970312,1458, 22.7507,-158.0015, 4725,    176.1,  18.0347,  34.8997,2,  34.9026,2,    188.3,1,   -999.0,9,  -999.00,9,  -999.00,9,  -999.00,9,    176,-999.000,  -999.0, 18.0044
     32MW081_1,  PRS2,     2,  9,      3,     35,2,19970312,1458, 22.7507,-158.0015, 4725,    250.5,  14.9855,  34.5695,2,  34.5690,2,    197.8,1,   -999.0,9,  -999.00,9,  -999.00,9,  -999.00,9,    251,-999.000,  -999.0, 14.9477
     32MW081_1,  PRS2,     2,  9,      2,     34,2,19970312,1458, 22.7507,-158.0015, 4725,    541.2,   6.4482,  34.0534,2,  34.0541,2,     99.4,1,   -999.0,9,  -999.00,9,  -999.00,9,  -999.00,9,    541,-999.000,  -999.0,  6.3993
     32MW081_1,  PRS2,     2,  9,      1,     33,2,19970312,1458, 22.7507,-158.0015, 4725,   1019.7,   3.9040,  34.4940,2,  34.4936,2,     39.9,1,   -999.0,9,  -999.00,9,  -999.00,9,  -999.00,9,   1018,-999.000,  -999.0,  3.8274
     32MW081_1,  PRS2,     2, 10,     12,     12,2,19970312,1759, 22.7477,-157.9772, 4717,      5.2,  23.3408,  35.0259,2,  35.0243,2,    212.9,1,   -999.0,9,  -999.00,9,  -999.00,9,  -999.00,9,      6,-999.000,  -999.0, 23.3397
     32MW081_1,  PRS2,     2, 10,     11,     11,2,19970312,1759, 22.7477,-157.9772, 4717,     25.3,  22.6437,  35.0481,2,  35.0460,2,    211.7,1,   -999.0,9,  -999.00,9,  -999.00,9,  -999.00,9,     26,-999.000,  -999.0, 22.6386
     32MW081_1,  PRS2,     2, 10,     10,     32,2,19970312,1759, 22.7477,-157.9772, 4717,     46.7,  22.3028,  35.0659,2,  35.0719,2,    214.0,1,   -999.0,9,  -999.00,9,  -999.00,9,  -999.00,9,     48,-999.000,  -999.0, 22.2935
     32MW081_1,  PRS2,     2, 10,      9,      3,2,19970312,1759, 22.7477,-157.9772, 4717,     75.8,  21.5319,  35.0694,2,  35.0678,2,    214.9,1,   -999.0,9,  -999.00,9,  -999.00,9,  -999.00,9,     77,-999.000,  -999.0, 21.5172
     32MW081_1,  PRS2,     2, 10,      8,     29,2,19970312,1759, 22.7477,-157.9772, 4717,    100.0,  20.8831,  35.0764,2,  35.0753,2,    210.2,1,   -999.0,9,  -999.00,9,  -999.00,9,  -999.00,9,    100,-999.000,  -999.0, 20.8641
     32MW081_1,  PRS2,     2, 10,      7,     28,2,19970312,1759, 22.7477,-157.9772, 4717,    125.5,  20.0873,  35.0631,2,  35.0683,2,    199.9,1,   -999.0,9,  -999.00,9,  -999.00,9,  -999.00,9,    126,-999.000,  -999.0, 20.0641
     32MW081_1,  PRS2,     2, 10,      6,      7,2,19970312,1759, 22.7477,-157.9772, 4717,    151.7,  19.2979,  35.0104,2,  35.0157,2,    199.4,1,   -999.0,9,  -999.00,9,  -999.00,9,  -999.00,9,    152,-999.000,  -999.0, 19.2705
     32MW081_1,  PRS2,     2, 10,      5,     38,2,19970312,1759, 22.7477,-157.9772, 4717,    177.8,  18.3350,  34.9264,2,  34.9256,2,    196.1,1,   -999.0,9,  -999.00,9,  -999.00,9,  -999.00,9,    178,-999.000,  -999.0, 18.3041
     32MW081_1,  PRS2,     2, 10,      4,     36,2,19970312,1759, 22.7477,-157.9772, 4717,    252.2,  15.0916,  34.5594,2,  34.5593,2,    196.2,1,   -999.0,9,  -999.00,9,  -999.00,9,  -999.00,9,    253,-999.000,  -999.0, 15.0533
     32MW081_1,  PRS2,     2, 10,      3,     35,2,19970312,1759, 22.7477,-157.9772, 4717,    502.4,   6.9823,  34.0477,2,  34.0486,2,    120.3,1,   -999.0,9,  -999.00,9,  -999.00,9,  -999.00,9,    503,-999.000,  -999.0,  6.9350
     32MW081_1,  PRS2,     2, 10,      2,     34,2,19970312,1759, 22.7477,-157.9772, 4717,    748.2,   4.7829,  34.3287,2,  34.3264,2,     27.0,1,   -999.0,9,  -999.00,9,  -999.00,9,  -999.00,9,    748,-999.000,  -999.0,  4.7234
     32MW081_1,  PRS2,     2, 10,      1,     33,2,19970312,1759, 22.7477,-157.9772, 4717,   1019.2,   4.0024,  34.4749,2,  34.4793,2,     37.2,1,   -999.0,9,  -999.00,9,  -999.00,9,  -999.00,9,   1019,-999.000,  -999.0,  3.9252