BOTTLE,20020809WHPSIObren
EXPOCODE,SECT_ID,STNNBR,CASTNO,SAMPNO,BTLNBR,BTLNBR_FLAG_W,DATE,TIME,LATITUDE,LONGITUDE,DEPTH,CTDPRS,CTDTMP,CTDSAL,CTDSAL_FLAG_W,SALNTY,SALNTY_FLAG_W,CTDOXY,CTDOXY_FLAG_W,OXYGEN,OXYGEN_FLAG_W,SILCAT,SILCAT_FLAG_W,NO2+NO3,NO2+NO3_FLAG_W,PHSPHT,PHSPHT_FLAG_W,CTDRAW,REVTMP,REVPRS,THETA
,,,,,,,,,,,,DBAR,ITS-90,PSS-78,,PSS-78,,UMOL/KG,,UMOL/KG,,UMOL/KG,,UMOL/KG,,UMOL/KG,,,DEG C,DBAR,ITS-90
     32MW081_1,  PRS2,     2, 11,     15,     15,2,19970312,2057, 22.7712,-157.9533, 4690,      4.5,  23.4260,  35.0266,2,  35.0389,3,    212.3,1,   -999.0,9,  -999.00,9,  -999.00,9,  -999.00,9,      5,-999.000,  -999.0, 23.4250
     32MW081_1,  PRS2,     2, 11,     14,     14,2,19970312,2057, 22.7712,-157.9533, 4690,     25.4,  22.9501,  35.0356,2,  35.0325,2,    211.7,1,   -999.0,9,  -999.00,9,  -999.00,9,  -999.00,9,     26,-999.000,  -999.0, 22.9449
     32MW081_1,  PRS2,     2, 11,     13,     13,2,19970312,2057, 22.7712,-157.9533, 4690,     45.8,  22.5912,  35.0696,2,  35.0704,2,    209.9,1,   -999.0,9,  -999.00,9,  -999.00,9,  -999.00,9,     47,-999.000,  -999.0, 22.5820
     32MW081_1,  PRS2,     2, 11,     12,     12,2,19970312,2057, 22.7712,-157.9533, 4690,     75.7,  21.9057,  35.0806,2,  35.0850,2,    213.5,1,   -999.0,9,  -999.00,9,  -999.00,9,  -999.00,9,     76,-999.000,  -999.0, 21.8908
     32MW081_1,  PRS2,     2, 11,     11,     11,2,19970312,2057, 22.7712,-157.9533, 4690,    100.1,  20.4344,  35.0725,2,  35.0947,4,    210.3,1,   -999.0,9,  -999.00,9,  -999.00,9,  -999.00,9,    100,-999.000,  -999.0, 20.4156
     32MW081_1,  PRS2,     2, 11,     10,     32,2,19970312,2057, 22.7712,-157.9533, 4690,    127.2,  19.8203,  35.0471,2,  35.0487,2,    192.8,1,   -999.0,9,  -999.00,9,  -999.00,9,  -999.00,9,    128,-999.000,  -999.0, 19.7970
     32MW081_1,  PRS2,     2, 11,      9,      3,2,19970312,2057, 22.7712,-157.9533, 4690,    151.6,  19.4588,  35.0260,2,  35.0230,2,    200.4,1,   -999.0,9,  -999.00,9,  -999.00,9,  -999.00,9,    152,-999.000,  -999.0, 19.4313
     32MW081_1,  PRS2,     2, 11,      8,     29,2,19970312,2057, 22.7712,-157.9533, 4690,    177.2,  17.4029,  34.8373,2,  34.8397,2,    190.4,1,   -999.0,9,  -999.00,9,  -999.00,9,  -999.00,9,    178,-999.000,  -999.0, 17.3732
     32MW081_1,  PRS2,     2, 11,      7,     28,2,19970312,2057, 22.7712,-157.9533, 4690,    500.9,   6.9767,  34.0719,2,  34.0706,2,    111.8,1,   -999.0,9,  -999.00,9,  -999.00,9,  -999.00,9,    500,-999.000,  -999.0,  6.9296
     32MW081_1,  PRS2,     2, 11,      4,     36,2,19970312,2057, 22.7712,-157.9533, 4690,   1018.8,   3.9666,  34.4966,2,  34.4956,2,     40.0,1,   -999.0,9,  -999.00,9,  -999.00,9,  -999.00,9,   1019,-999.000,  -999.0,  3.8897
     32MW081_1,  PRS2,     2, 11,      2,     34,2,19970312,2057, 22.7712,-157.9533, 4690,   1018.8,   3.9665,  34.4965,2,  34.4976,2,     39.9,1,   -999.0,9,  -999.00,9,  -999.00,9,  -999.00,9,   1018,-999.000,  -999.0,  3.8896
     32MW081_1,  PRS2,     2, 11,      1,     33,2,19970312,2057, 22.7712,-157.9533, 4690,   1018.8,   3.9664,  34.4963,2,  34.4959,2,     39.9,1,   -999.0,9,  -999.00,9,  -999.00,9,  -999.00,9,   1019,-999.000,  -999.0,  3.8895
     32MW081_1,  PRS2,     2, 11,      5,     38,2,19970312,2057, 22.7712,-157.9533, 4690,   1019.0,   3.9664,  34.4967,2,  34.4956,2,     40.0,1,   -999.0,9,  -999.00,9,  -999.00,9,  -999.00,9,   1019,-999.000,  -999.0,  3.8894
     32MW081_1,  PRS2,     2, 11,      3,     35,2,19970312,2057, 22.7712,-157.9533, 4690,   1019.0,   3.9665,  34.4966,2,  34.4961,2,     40.0,1,   -999.0,9,  -999.00,9,  -999.00,9,  -999.00,9,   1019,-999.000,  -999.0,  3.8896
     32MW081_1,  PRS2,     2, 11,      6,      7,2,19970312,2057, 22.7712,-157.9533, 4690,   1019.1,   3.9664,  34.4967,2,  34.4977,2,     40.0,1,   -999.0,9,  -999.00,9,  -999.00,9,  -999.00,9,   1019,-999.000,  -999.0,  3.8894
     32MW081_1,  PRS2,     2, 12,     12,     12,2,19970312,2359, 22.7818,-157.9623, 4690,      4.9,  23.5848,  35.0308,2,  35.0232,2,    214.2,1,   -999.0,9,  -999.00,9,  -999.00,9,  -999.00,9,      5,-999.000,  -999.0, 23.5838
     32MW081_1,  PRS2,     2, 12,     11,     11,2,19970312,2359, 22.7818,-157.9623, 4690,     25.2,  23.1165,  35.0246,2,  35.0245,2,    212.2,1,   -999.0,9,  -999.00,9,  -999.00,9,  -999.00,9,     25,-999.000,  -999.0, 23.1114
     32MW081_1,  PRS2,     2, 12,     10,     32,2,19970312,2359, 22.7818,-157.9623, 4690,     49.5,  22.3629,  35.0479,2,  35.0474,2,    214.7,1,   -999.0,9,  -999.00,9,  -999.00,9,  -999.00,9,     49,-999.000,  -999.0, 22.3530
     32MW081_1,  PRS2,     2, 12,      9,      3,2,19970312,2359, 22.7818,-157.9623, 4690,     75.3,  21.5763,  35.0797,2,  35.0815,2,    213.2,1,   -999.0,9,  -999.00,9,  -999.00,9,  -999.00,9,     76,-999.000,  -999.0, 21.5616
     32MW081_1,  PRS2,     2, 12,      8,     29,2,19970312,2359, 22.7818,-157.9623, 4690,    100.2,  20.2393,  35.0681,2,  35.0715,2,    198.8,1,   -999.0,9,  -999.00,9,  -999.00,9,  -999.00,9,    101,-999.000,  -999.0, 20.2207
     32MW081_1,  PRS2,     2, 12,      7,     28,2,19970312,2359, 22.7818,-157.9623, 4690,    123.3,  19.2698,  35.0062,2,  35.0152,2,    197.8,1,   -999.0,9,  -999.00,9,  -999.00,9,  -999.00,9,    124,-999.000,  -999.0, 19.2476
     32MW081_1,  PRS2,     2, 12,      6,      7,2,19970312,2359, 22.7818,-157.9623, 4690,    149.9,  18.7524,  34.9659,2,  34.9635,2,    199.4,1,   -999.0,9,  -999.00,9,  -999.00,9,  -999.00,9,    150,-999.000,  -999.0, 18.7260
     32MW081_1,  PRS2,     2, 12,      5,     38,2,19970312,2359, 22.7818,-157.9623, 4690,    175.1,  17.3165,  34.8299,2,  34.8686,3,    196.7,1,   -999.0,9,  -999.00,9,  -999.00,9,  -999.00,9,    176,-999.000,  -999.0, 17.2873
     32MW081_1,  PRS2,     2, 12,      4,     36,2,19970312,2359, 22.7818,-157.9623, 4690,    250.7,  14.4296,  34.4821,2,  34.4828,2,    195.4,1,   -999.0,9,  -999.00,9,  -999.00,9,  -999.00,9,    251,-999.000,  -999.0, 14.3928
     32MW081_1,  PRS2,     2, 12,      3,     35,2,19970312,2359, 22.7818,-157.9623, 4690,    498.0,   6.7483,  34.0655,2,  34.0682,2,    102.9,1,   -999.0,9,  -999.00,9,  -999.00,9,  -999.00,9,    498,-999.000,  -999.0,  6.7024
     32MW081_1,  PRS2,     2, 12,      2,     34,2,19970312,2359, 22.7818,-157.9623, 4690,    747.2,   4.8851,  34.3318,2,  34.3324,2,     27.5,1,   -999.0,9,  -999.00,9,  -999.00,9,  -999.00,9,    747,-999.000,  -999.0,  4.8250
     32MW081_1,  PRS2,     2, 12,      1,     33,2,19970312,2359, 22.7818,-157.9623, 4690,   1020.8,   3.9544,  34.4849,2,  34.4861,2,     38.4,1,   -999.0,9,  -999.00,9,  -999.00,9,  -999.00,9,   1022,-999.000,  -999.0,  3.8774
     32MW081_1,  PRS2,     2, 13,     24,     31,2,19970313,0258, 22.7865,-157.9647, 4690,      2.2,  23.3903,  35.0322,2,  35.0325,2,    214.1,1,   -999.0,9,  -999.00,9,  -999.00,9,  -999.00,9,      3,-999.000,  -999.0, 23.3898
     32MW081_1,  PRS2,     2, 13,     23,     30,2,19970313,0258, 22.7865,-157.9647, 4690,      4.5,  23.3803,  35.0315,2,  35.0304,2,    213.9,1,   -999.0,9,  -999.00,9,  -999.00,9,  -999.00,9,      4,-999.000,  -999.0, 23.3793
     32MW081_1,  PRS2,     2, 13,     22,     22,2,19970313,0258, 22.7865,-157.9647, 4690,      9.5,  23.2149,  35.0272,2,  35.0294,2,    208.9,1,   -999.0,9,  -999.00,9,  -999.00,9,  -999.00,9,     10,-999.000,  -999.0, 23.2129
     32MW081_1,  PRS2,     2, 13,     21,     21,2,19970313,0258, 22.7865,-157.9647, 4690,     14.0,  23.1267,  35.0277,2,  35.0274,2,    209.5,1,   -999.0,9,  -999.00,9,  -999.00,9,  -999.00,9,     14,-999.000,  -999.0, 23.1238
     32MW081_1,  PRS2,     2, 13,     20,     20,2,19970313,0258, 22.7865,-157.9647, 4690,     19.4,  22.8910,  35.0451,2,  35.0424,2,    212.0,1,   -999.0,9,  -999.00,9,  -999.00,9,  -999.00,9,     19,-999.000,  -999.0, 22.8870
     32MW081_1,  PRS2,     2, 13,     19,     19,2,19970313,0258, 22.7865,-157.9647, 4690,     24.6,  22.7369,  35.0496,2,  35.0523,2,    212.5,1,   -999.0,9,  -999.00,9,  -999.00,9,  -999.00,9,     25,-999.000,  -999.0, 22.7320
     32MW081_1,  PRS2,     2, 13,     18,     18,2,19970313,0258, 22.7865,-157.9647, 4690,     29.4,  22.5493,  35.0508,2,  35.0540,2,    212.8,1,   -999.0,9,  -999.00,9,  -999.00,9,  -999.00,9,     29,-999.000,  -999.0, 22.5434
     32MW081_1,  PRS2,     2, 13,     17,     17,2,19970313,0258, 22.7865,-157.9647, 4690,     34.8,  22.4177,  35.0587,2,  35.0640,2,    212.8,1,   -999.0,9,  -999.00,9,  -999.00,9,  -999.00,9,     35,-999.000,  -999.0, 22.4107
     32MW081_1,  PRS2,     2, 13,     16,     16,2,19970313,0258, 22.7865,-157.9647, 4690,     39.7,  22.3359,  35.0620,2,  35.0660,2,    214.7,1,   -999.0,9,  -999.00,9,  -999.00,9,  -999.00,9,     40,-999.000,  -999.0, 22.3280
     32MW081_1,  PRS2,     2, 13,     15,     15,2,19970313,0258, 22.7865,-157.9647, 4690,     44.3,  22.1535,  35.0563,2,  35.0566,2,    211.4,1,   -999.0,9,  -999.00,9,  -999.00,9,  -999.00,9,     44,-999.000,  -999.0, 22.1447
     32MW081_1,  PRS2,     2, 13,     14,     14,2,19970313,0258, 22.7865,-157.9647, 4690,     48.8,  22.0373,  35.0615,2,  35.0618,2,    209.8,1,   -999.0,9,  -999.00,9,  -999.00,9,  -999.00,9,     49,-999.000,  -999.0, 22.0276
     32MW081_1,  PRS2,     2, 13,     13,     13,2,19970313,0258, 22.7865,-157.9647, 4690,     54.2,  22.0225,  35.0641,2,  35.0635,2,    210.1,1,   -999.0,9,  -999.00,9,  -999.00,9,  -999.00,9,     55,-999.000,  -999.0, 22.0118
     32MW081_1,  PRS2,     2, 13,     12,     12,2,19970313,0258, 22.7865,-157.9647, 4690,     65.0,  21.7405,  35.0820,2,  35.0805,2,    215.7,1,   -999.0,9,  -999.00,9,  -999.00,9,  -999.00,9,     65,-999.000,  -999.0, 21.7278
     32MW081_1,  PRS2,     2, 13,     11,     11,2,19970313,0258, 22.7865,-157.9647, 4690,     75.0,  21.2100,  35.0775,2,  35.0775,2,    210.6,1,   -999.0,9,  -999.00,9,  -999.00,9,  -999.00,9,     75,-999.000,  -999.0, 21.1955
     32MW081_1,  PRS2,     2, 13,     10,     32,2,19970313,0258, 22.7865,-157.9647, 4690,     85.2,  20.8808,  35.0783,2,  35.0769,2,    208.2,1,   -999.0,9,  -999.00,9,  -999.00,9,  -999.00,9,     85,-999.000,  -999.0, 20.8645
     32MW081_1,  PRS2,     2, 13,      9,      3,2,19970313,0258, 22.7865,-157.9647, 4690,     94.0,  20.5175,  35.0706,2,  35.0704,2,    206.5,1,   -999.0,9,  -999.00,9,  -999.00,9,  -999.00,9,     94,-999.000,  -999.0, 20.4998
     32MW081_1,  PRS2,     2, 13,      8,     29,2,19970313,0258, 22.7865,-157.9647, 4690,    105.4,  20.2781,  35.0722,2,  35.0709,2,    208.6,1,   -999.0,9,  -999.00,9,  -999.00,9,  -999.00,9,    106,-999.000,  -999.0, 20.2585
     32MW081_1,  PRS2,     2, 13,      7,     28,2,19970313,0258, 22.7865,-157.9647, 4690,    114.2,  19.9576,  35.0573,2,  35.0565,2,    202.4,1,   -999.0,9,  -999.00,9,  -999.00,9,  -999.00,9,    115,-999.000,  -999.0, 19.9365
     32MW081_1,  PRS2,     2, 13,      6,      7,2,19970313,0258, 22.7865,-157.9647, 4690,    124.3,  19.2512,  35.0030,2,  35.0089,2,    191.1,1,   -999.0,9,  -999.00,9,  -999.00,9,  -999.00,9,    125,-999.000,  -999.0, 19.2288
     32MW081_1,  PRS2,     2, 13,      5,     38,2,19970313,0258, 22.7865,-157.9647, 4690,    150.0,  18.4829,  34.9407,2,  34.9450,2,    193.6,1,   -999.0,9,  -999.00,9,  -999.00,9,  -999.00,9,    150,-999.000,  -999.0, 18.4567
     32MW081_1,  PRS2,     2, 13,      4,     36,2,19970313,0258, 22.7865,-157.9647, 4690,    175.6,  17.5340,  34.8518,2,  34.8513,2,    196.8,1,   -999.0,9,  -999.00,9,  -999.00,9,  -999.00,9,    176,-999.000,  -999.0, 17.5044
     32MW081_1,  PRS2,     2, 13,      3,     35,2,19970313,0258, 22.7865,-157.9647, 4690,    250.9,  14.2562,  34.4639,2,  34.4671,2,    184.1,1,   -999.0,9,  -999.00,9,  -999.00,9,  -999.00,9,    251,-999.000,  -999.0, 14.2196
     32MW081_1,  PRS2,     2, 13,      2,     34,2,19970313,0258, 22.7865,-157.9647, 4690,    500.7,   7.4049,  34.0724,2,  34.0716,2,    123.6,1,   -999.0,9,  -999.00,9,  -999.00,9,  -999.00,9,    501,-999.000,  -999.0,  7.3562
     32MW081_1,  PRS2,     2, 13,      1,     33,2,19970313,0258, 22.7865,-157.9647, 4690,   1024.9,   3.9305,  34.4891,2,  34.4905,2,     39.0,1,   -999.0,9,  -999.00,9,  -999.00,9,  -999.00,9,   1024,-999.000,  -999.0,  3.8533
     32MW081_1,  PRS2,     2, 14,     24,     31,2,19970313,0558, 22.8017,-157.9473, 4685,      4.7,  23.3695,  35.0308,2,  35.0302,2,    209.4,1,   -999.0,9,  -999.00,9,  -999.00,9,  -999.00,9,      5,-999.000,  -999.0, 23.3685
     32MW081_1,  PRS2,     2, 14,     23,     30,2,19970313,0558, 22.8017,-157.9473, 4685,     19.4,  23.0470,  35.0356,2,  35.0364,2,    208.6,1,   -999.0,9,  -999.00,9,  -999.00,9,  -999.00,9,     19,-999.000,  -999.0, 23.0430
     32MW081_1,  PRS2,     2, 14,     22,     22,2,19970313,0558, 22.8017,-157.9473, 4685,     24.7,  22.8361,  35.0496,2,  35.0475,2,    208.7,1,   -999.0,9,  -999.00,9,  -999.00,9,  -999.00,9,     25,-999.000,  -999.0, 22.8311
     32MW081_1,  PRS2,     2, 14,     21,     21,2,19970313,0558, 22.8017,-157.9473, 4685,     40.1,  22.4263,  35.0693,2,  35.0676,2,    210.0,1,   -999.0,9,  -999.00,9,  -999.00,9,  -999.00,9,     40,-999.000,  -999.0, 22.4183
     32MW081_1,  PRS2,     2, 14,     20,     20,3,19970313,0558, 22.8017,-157.9473, 4685,     44.6,  22.3610,  35.0648,2,  35.0652,2,    209.6,1,   -999.0,9,  -999.00,9,  -999.00,9,  -999.00,9,     45,-999.000,  -999.0, 22.3521
     32MW081_1,  PRS2,     2, 14,     19,     19,2,19970313,0558, 22.8017,-157.9473, 4685,     59.5,  22.0261,  35.0739,2,  35.0780,2,    211.7,1,   -999.0,9,  -999.00,9,  -999.00,9,  -999.00,9,     59,-999.000,  -999.0, 22.0143
     32MW081_1,  PRS2,     2, 14,     18,     18,2,19970313,0558, 22.8017,-157.9473, 4685,     75.0,  21.9468,  35.0728,2,  35.0788,2,    210.3,1,   -999.0,9,  -999.00,9,  -999.00,9,  -999.00,9,     75,-999.000,  -999.0, 21.9320
     32MW081_1,  PRS2,     2, 14,     17,     17,2,19970313,0558, 22.8017,-157.9473, 4685,     79.9,  21.8205,  35.0761,2,  35.0742,2,    209.9,1,   -999.0,9,  -999.00,9,  -999.00,9,  -999.00,9,     81,-999.000,  -999.0, 21.8048
     32MW081_1,  PRS2,     2, 14,     16,     16,4,19970313,0558, 22.8017,-157.9473, 4685,     99.3,  21.0748,  35.0810,2,-999.0000,5,    205.6,1,   -999.0,9,  -999.00,9,  -999.00,9,  -999.00,9,    100,-999.000,  -999.0, 21.0558
     32MW081_1,  PRS2,     2, 14,     15,     15,2,19970313,0558, 22.8017,-157.9473, 4685,    114.4,  20.6798,  35.0784,2,  35.0762,2,    208.2,1,   -999.0,9,  -999.00,9,  -999.00,9,  -999.00,9,    115,-999.000,  -999.0, 20.6582
     32MW081_1,  PRS2,     2, 14,     14,     14,2,19970313,0558, 22.8017,-157.9473, 4685,    119.0,  20.4584,  35.0738,2,  35.0797,2,    205.0,1,   -999.0,9,  -999.00,9,  -999.00,9,  -999.00,9,    120,-999.000,  -999.0, 20.4360
     32MW081_1,  PRS2,     2, 14,     13,     13,2,19970313,0558, 22.8017,-157.9473, 4685,    119.0,  20.4584,  35.0738,2,  35.0757,2,    204.6,1,   -999.0,9,  -999.00,9,  -999.00,9,  -999.00,9,    119,-999.000,  -999.0, 20.4360
     32MW081_1,  PRS2,     2, 14,     12,     12,2,19970313,0558, 22.8017,-157.9473, 4685,    124.3,  20.0887,  35.0636,2,  35.0620,2,    200.8,1,   -999.0,9,  -999.00,9,  -999.00,9,  -999.00,9,    125,-999.000,  -999.0, 20.0656
     32MW081_1,  PRS2,     2, 14,     11,     11,2,19970313,0558, 22.8017,-157.9473, 4685,    140.1,  19.5424,  35.0325,2,  35.0314,2,    193.6,1,   -999.0,9,  -999.00,9,  -999.00,9,  -999.00,9,    140,-999.000,  -999.0, 19.5169
     32MW081_1,  PRS2,     2, 14,     10,     32,2,19970313,0558, 22.8017,-157.9473, 4685,    149.5,  19.2163,  35.0074,2,  35.0126,2,    192.6,1,   -999.0,9,  -999.00,9,  -999.00,9,  -999.00,9,    150,-999.000,  -999.0, 19.1895
     32MW081_1,  PRS2,     2, 14,      9,      3,2,19970313,0558, 22.8017,-157.9473, 4685,    175.2,  18.5079,  34.9504,2,  34.9531,2,    194.6,1,   -999.0,9,  -999.00,9,  -999.00,9,  -999.00,9,    176,-999.000,  -999.0, 18.4773
     32MW081_1,  PRS2,     2, 14,      8,     29,2,19970313,0558, 22.8017,-157.9473, 4685,    180.7,  18.3500,  34.9364,2,  34.9332,2,    198.5,1,   -999.0,9,  -999.00,9,  -999.00,9,  -999.00,9,    181,-999.000,  -999.0, 18.3186
     32MW081_1,  PRS2,     2, 14,      7,     28,2,19970313,0558, 22.8017,-157.9473, 4685,    189.6,  18.1739,  34.9178,2,  34.9187,2,    199.1,1,   -999.0,9,  -999.00,9,  -999.00,9,  -999.00,9,    190,-999.000,  -999.0, 18.1412
     32MW081_1,  PRS2,     2, 14,      6,      7,3,19970313,0558, 22.8017,-157.9473, 4685,    199.5,  17.2031,  34.8138,2,  34.8148,2,    190.8,1,   -999.0,9,  -999.00,9,  -999.00,9,  -999.00,9,    200,-999.000,  -999.0, 17.1699
     32MW081_1,  PRS2,     2, 14,      5,     38,2,19970313,0558, 22.8017,-157.9473, 4685,    225.1,  15.8227,  34.6479,2,  34.7632,4,    192.9,1,   -999.0,9,  -999.00,9,  -999.00,9,  -999.00,9,    225,-999.000,  -999.0, 15.7874
     32MW081_1,  PRS2,     2, 14,      4,     36,2,19970313,0558, 22.8017,-157.9473, 4685,    251.3,  14.6265,  34.5048,2,  34.1586,4,    184.3,1,   -999.0,9,  -999.00,9,  -999.00,9,  -999.00,9,    251,-999.000,  -999.0, 14.5892
     32MW081_1,  PRS2,     2, 14,      3,     35,2,19970313,0558, 22.8017,-157.9473, 4685,    470.1,   8.1135,  34.0579,2,  34.0597,2,    155.7,1,   -999.0,9,  -999.00,9,  -999.00,9,  -999.00,9,    471,-999.000,  -999.0,  8.0653
     32MW081_1,  PRS2,     2, 14,      2,     34,2,19970313,0558, 22.8017,-157.9473, 4685,    600.8,   6.0528,  34.1092,2,  34.1075,2,     69.6,1,   -999.0,9,  -999.00,9,  -999.00,9,  -999.00,9,    601,-999.000,  -999.0,  6.0000
     32MW081_1,  PRS2,     2, 14,      1,     33,2,19970313,0558, 22.8017,-157.9473, 4685,   1021.1,   4.0380,  34.4852,2,  34.4762,4,     38.3,1,   -999.0,9,  -999.00,9,  -999.00,9,  -999.00,9,   1020,-999.000,  -999.0,  3.9603
     32MW081_1,  PRS2,     8,  1,      7,     28,2,19970313,2107, 22.4655,-158.1235, 4830,      4.5,  23.2949,  34.9571,2,  34.9580,2,    214.5,2,    215.0,2,  -999.00,9,  -999.00,9,  -999.00,9,      5,-999.000,  -999.0, 23.2940
     32MW081_1,  PRS2,     8,  1,      6,      7,2,19970313,2107, 22.4655,-158.1235, 4830,     50.4,  22.9136,  35.0326,2,  35.0338,2,    215.8,2,    216.2,2,  -999.00,9,  -999.00,9,  -999.00,9,     51,-999.000,  -999.0, 22.9034
     32MW081_1,  PRS2,     8,  1,      5,     38,2,19970313,2107, 22.4655,-158.1235, 4830,    120.7,  20.6899,  35.0737,2,  35.0751,2,    214.9,2,    214.6,2,  -999.00,9,  -999.00,9,  -999.00,9,    121,-999.000,  -999.0, 20.6671
     32MW081_1,  PRS2,     8,  1,      4,     36,2,19970313,2107, 22.4655,-158.1235, 4830,    219.7,  15.3311,  34.6117,2,  34.6226,2,    205.2,2,    205.1,2,  -999.00,9,  -999.00,9,  -999.00,9,    220,-999.000,  -999.0, 15.2974
     32MW081_1,  PRS2,     8,  1,      3,     35,2,19970313,2107, 22.4655,-158.1235, 4830,    501.1,   6.9508,  34.0552,2,  34.0572,2,    117.5,2,    116.3,2,  -999.00,9,  -999.00,9,  -999.00,9,    501,-999.000,  -999.0,  6.9038
     32MW081_1,  PRS2,     8,  1,      2,     34,2,19970313,2107, 22.4655,-158.1235, 4830,    801.3,   4.5454,  34.3468,2,  34.3466,2,     27.3,2,     26.7,2,  -999.00,9,  -999.00,9,  -999.00,9,    801,-999.000,  -999.0,  4.4828
     32MW081_1,  PRS2,     8,  1,      1,     33,2,19970313,2107, 22.4655,-158.1235, 4830,   1020.0,   3.9647,  34.4799,2,  34.4834,2,     40.6,2,     41.6,2,  -999.00,9,  -999.00,9,  -999.00,9,   1020,-999.000,  -999.0,  3.8877