BOTTLE,20020809WHPSIObren
EXPOCODE,SECT_ID,STNNBR,CASTNO,SAMPNO,BTLNBR,BTLNBR_FLAG_W,DATE,TIME,LATITUDE,LONGITUDE,DEPTH,CTDPRS,CTDTMP,CTDSAL,CTDSAL_FLAG_W,SALNTY,SALNTY_FLAG_W,CTDOXY,CTDOXY_FLAG_W,OXYGEN,OXYGEN_FLAG_W,SILCAT,SILCAT_FLAG_W,NO2+NO3,NO2+NO3_FLAG_W,PHSPHT,PHSPHT_FLAG_W,CTDRAW,REVTMP,REVPRS,THETA
,,,,,,,,,,,,DBAR,ITS-90,PSS-78,,PSS-78,,UMOL/KG,,UMOL/KG,,UMOL/KG,,UMOL/KG,,UMOL/KG,,,DEG C,DBAR,ITS-90
     32MW081_1,  PRS2,     2,  3,     13,     13,2,19970311,2157, 22.7422,-157.9555, 4710,      4.5,  23.3178,  35.0269,2,  35.0310,2,    220.9,1,   -999.0,9,  -999.00,9,  -999.00,9,  -999.00,9,      5,-999.000,  -999.0, 23.3169
     32MW081_1,  PRS2,     2,  3,     12,     12,2,19970311,2157, 22.7422,-157.9555, 4710,     24.4,  23.0607,  35.0254,2,  35.0233,2,    219.5,1,   -999.0,9,  -999.00,9,  -999.00,9,  -999.00,9,     25,-999.000,  -999.0, 23.0557
     32MW081_1,  PRS2,     2,  3,     11,     11,2,19970311,2157, 22.7422,-157.9555, 4710,     44.7,  22.5539,  35.0754,2,  35.0790,2,    221.5,1,   -999.0,9,  -999.00,9,  -999.00,9,  -999.00,9,     45,-999.000,  -999.0, 22.5450
     32MW081_1,  PRS2,     2,  3,     10,     32,2,19970311,2157, 22.7422,-157.9555, 4710,     44.7,  22.5539,  35.0750,2,  35.0738,2,    221.4,1,   -999.0,9,  -999.00,9,  -999.00,9,  -999.00,9,     44,-999.000,  -999.0, 22.5449
     32MW081_1,  PRS2,     2,  3,      9,      3,2,19970311,2157, 22.7422,-157.9555, 4710,     74.7,  21.7335,  35.0730,2,  35.0732,2,    221.7,1,   -999.0,9,  -999.00,9,  -999.00,9,  -999.00,9,     76,-999.000,  -999.0, 21.7189
     32MW081_1,  PRS2,     2,  3,      8,     29,2,19970311,2157, 22.7422,-157.9555, 4710,     99.5,  20.1777,  35.0674,2,  35.0683,2,    203.0,1,   -999.0,9,  -999.00,9,  -999.00,9,  -999.00,9,     99,-999.000,  -999.0, 20.1592
     32MW081_1,  PRS2,     2,  3,      7,     28,2,19970311,2157, 22.7422,-157.9555, 4710,    119.6,  19.3931,  35.0177,2,  35.0191,2,    203.8,1,   -999.0,9,  -999.00,9,  -999.00,9,  -999.00,9,    120,-999.000,  -999.0, 19.3715
     32MW081_1,  PRS2,     2,  3,      6,      7,2,19970311,2157, 22.7422,-157.9555, 4710,    149.5,  18.8068,  34.9695,2,  34.9672,2,    204.3,1,   -999.0,9,  -999.00,9,  -999.00,9,  -999.00,9,    149,-999.000,  -999.0, 18.7804
     32MW081_1,  PRS2,     2,  3,      5,     38,2,19970311,2157, 22.7422,-157.9555, 4710,    174.8,  16.8896,  34.7851,2,  34.7878,2,    192.7,1,   -999.0,9,  -999.00,9,  -999.00,9,  -999.00,9,    175,-999.000,  -999.0, 16.8609
     32MW081_1,  PRS2,     2,  3,      4,     36,2,19970311,2157, 22.7422,-157.9555, 4710,    249.7,  13.6531,  34.3900,2,  34.3906,2,    185.8,1,   -999.0,9,  -999.00,9,  -999.00,9,  -999.00,9,    250,-999.000,  -999.0, 13.6177
     32MW081_1,  PRS2,     2,  3,      3,     35,2,19970311,2157, 22.7422,-157.9555, 4710,    521.4,   6.6343,  34.0553,2,  34.0537,2,    108.2,1,   -999.0,9,  -999.00,9,  -999.00,9,  -999.00,9,    523,-999.000,  -999.0,  6.5865
     32MW081_1,  PRS2,     2,  3,      2,     34,2,19970311,2157, 22.7422,-157.9555, 4710,    750.3,   4.7199,  34.3130,2,  34.3064,2,     27.8,1,   -999.0,9,  -999.00,9,  -999.00,9,  -999.00,9,    752,-999.000,  -999.0,  4.6606
     32MW081_1,  PRS2,     2,  3,      1,     33,2,19970311,2157, 22.7422,-157.9555, 4710,   1019.6,   3.9820,  34.4768,2,  34.4749,2,     38.8,1,   -999.0,9,  -999.00,9,  -999.00,9,  -999.00,9,   1020,-999.000,  -999.0,  3.9049
     32MW081_1,  PRS2,     2,  4,     22,     22,2,19970311,2355, 22.7502,-158.0002, 4725,      4.3,  23.4127,  35.0256,2,  35.0264,2,    220.1,1,   -999.0,9,  -999.00,9,  -999.00,9,  -999.00,9,      4,-999.000,  -999.0, 23.4119
     32MW081_1,  PRS2,     2,  4,     21,     21,2,19970311,2355, 22.7502,-158.0002, 4725,     24.1,  23.0946,  35.0253,2,  35.0238,2,    219.9,1,   -999.0,9,  -999.00,9,  -999.00,9,  -999.00,9,     24,-999.000,  -999.0, 23.0897
     32MW081_1,  PRS2,     2,  4,     20,     20,2,19970311,2355, 22.7502,-158.0002, 4725,     45.1,  22.3619,  35.0772,2,  35.0755,2,    222.9,1,   -999.0,9,  -999.00,9,  -999.00,9,  -999.00,9,     45,-999.000,  -999.0, 22.3529
     32MW081_1,  PRS2,     2,  4,     19,     19,2,19970311,2355, 22.7502,-158.0002, 4725,     45.2,  22.3618,  35.0772,2,  35.0761,2,    222.8,1,   -999.0,9,  -999.00,9,  -999.00,9,  -999.00,9,     46,-999.000,  -999.0, 22.3528
     32MW081_1,  PRS2,     2,  4,     18,     18,2,19970311,2355, 22.7502,-158.0002, 4725,     75.2,  21.4984,  35.0687,2,  35.0684,2,    223.1,1,   -999.0,9,  -999.00,9,  -999.00,9,  -999.00,9,     75,-999.000,  -999.0, 21.4838
     32MW081_1,  PRS2,     2,  4,     17,     17,2,19970311,2355, 22.7502,-158.0002, 4725,     99.7,  20.6030,  35.0750,2,  35.0754,2,    218.4,1,   -999.0,9,  -999.00,9,  -999.00,9,  -999.00,9,    100,-999.000,  -999.0, 20.5842
     32MW081_1,  PRS2,     2,  4,     16,     16,2,19970311,2355, 22.7502,-158.0002, 4725,    109.3,  20.1916,  35.0685,2,  35.0687,2,    204.7,1,   -999.0,9,  -999.00,9,  -999.00,9,  -999.00,9,    110,-999.000,  -999.0, 20.1713
     32MW081_1,  PRS2,     2,  4,     15,     15,2,19970311,2355, 22.7502,-158.0002, 4725,    150.0,  18.1149,  34.9044,2,  34.9073,2,    200.4,1,   -999.0,9,  -999.00,9,  -999.00,9,  -999.00,9,    151,-999.000,  -999.0, 18.0891
     32MW081_1,  PRS2,     2,  4,     14,     14,2,19970311,2355, 22.7502,-158.0002, 4725,    174.8,  17.9549,  34.8908,2,  34.8907,2,    204.3,1,   -999.0,9,  -999.00,9,  -999.00,9,  -999.00,9,    174,-999.000,  -999.0, 17.9250
     32MW081_1,  PRS2,     2,  4,     13,     13,2,19970311,2355, 22.7502,-158.0002, 4725,    250.6,  14.0219,  34.4611,2,  34.4638,2,    201.3,1,   -999.0,9,  -999.00,9,  -999.00,9,  -999.00,9,    251,-999.000,  -999.0, 13.9858
     32MW081_1,  PRS2,     2,  4,     12,     12,2,19970311,2355, 22.7502,-158.0002, 4725,    300.1,  12.1409,  34.2580,2,  34.2613,2,    199.1,1,   -999.0,9,  -999.00,9,  -999.00,9,  -999.00,9,    300,-999.000,  -999.0, 12.1016
     32MW081_1,  PRS2,     2,  4,     11,     11,2,19970311,2355, 22.7502,-158.0002, 4725,    300.1,  12.1431,  34.2586,2,  34.2623,2,    198.9,1,   -999.0,9,  -999.00,9,  -999.00,9,  -999.00,9,    300,-999.000,  -999.0, 12.1038
     32MW081_1,  PRS2,     2,  4,     10,     32,2,19970311,2355, 22.7502,-158.0002, 4725,    349.7,  10.2575,  34.1578,2,  34.1636,2,    198.4,1,   -999.0,9,  -999.00,9,  -999.00,9,  -999.00,9,    350,-999.000,  -999.0, 10.2164
     32MW081_1,  PRS2,     2,  4,      8,     29,2,19970311,2355, 22.7502,-158.0002, 4725,    399.4,   8.9837,  34.1002,2,  34.1032,2,    176.7,1,   -999.0,9,  -999.00,9,  -999.00,9,  -999.00,9,    399,-999.000,  -999.0,  8.9404
     32MW081_1,  PRS2,     2,  4,      9,      3,4,19970311,2355, 22.7502,-158.0002, 4725,    399.6,   8.9837,  34.1001,2,-999.0000,5,    176.8,1,   -999.0,9,  -999.00,9,  -999.00,9,  -999.00,9,    400,-999.000,  -999.0,  8.9404
     32MW081_1,  PRS2,     2,  4,      6,      7,2,19970311,2355, 22.7502,-158.0002, 4725,    498.8,   6.7742,  34.0565,2,  34.0597,2,    109.1,1,   -999.0,9,  -999.00,9,  -999.00,9,  -999.00,9,    499,-999.000,  -999.0,  6.7281
     32MW081_1,  PRS2,     2,  4,      7,     28,2,19970311,2355, 22.7502,-158.0002, 4725,    499.0,   6.7744,  34.0564,2,  34.0578,2,    109.4,1,   -999.0,9,  -999.00,9,  -999.00,9,  -999.00,9,    499,-999.000,  -999.0,  6.7282
     32MW081_1,  PRS2,     2,  4,      5,     38,2,19970311,2355, 22.7502,-158.0002, 4725,    519.3,   6.4035,  34.0575,2,  34.0696,4,    102.4,1,   -999.0,9,  -999.00,9,  -999.00,9,  -999.00,9,    519,-999.000,  -999.0,  6.3569
     32MW081_1,  PRS2,     2,  4,      4,     36,2,19970311,2355, 22.7502,-158.0002, 4725,    599.6,   5.4957,  34.1606,2,  34.1452,3,     49.7,1,   -999.0,9,  -999.00,9,  -999.00,9,  -999.00,9,    599,-999.000,  -999.0,  5.4456
     32MW081_1,  PRS2,     2,  4,      3,     35,2,19970311,2355, 22.7502,-158.0002, 4725,    599.6,   5.4958,  34.1608,2,  34.1573,2,     49.6,1,   -999.0,9,  -999.00,9,  -999.00,9,  -999.00,9,    600,-999.000,  -999.0,  5.4457
     32MW081_1,  PRS2,     2,  4,      2,     34,2,19970311,2355, 22.7502,-158.0002, 4725,    749.7,   4.7399,  34.3483,2,  34.3479,2,     28.4,1,   -999.0,9,  -999.00,9,  -999.00,9,  -999.00,9,    750,-999.000,  -999.0,  4.6805
     32MW081_1,  PRS2,     2,  4,      1,     33,2,19970311,2355, 22.7502,-158.0002, 4725,   1021.5,   3.9178,  34.4856,2,  34.3590,4,     39.8,1,   -999.0,9,  -999.00,9,  -999.00,9,  -999.00,9,   1021,-999.000,  -999.0,  3.8410
     32MW081_1,  PRS2,     2,  5,     22,     22,2,19970312,0259, 22.7538,-157.9817, 4715,      4.3,  23.5927,  35.0283,2,  35.0312,2,    219.8,2,   -999.0,5,  -999.00,5,  -999.00,5,  -999.00,5,      5,-999.000,  -999.0, 23.5918
     32MW081_1,  PRS2,     2,  5,     21,     21,2,19970312,0259, 22.7538,-157.9817, 4715,     95.4,  20.9651,  35.0797,2,  35.0827,2,    212.1,2,   -999.0,5,  -999.00,5,  -999.00,5,  -999.00,5,     97,-999.000,  -999.0, 20.9469
     32MW081_1,  PRS2,     2,  5,     18,     18,2,19970312,0259, 22.7538,-157.9817, 4715,    106.4,  20.5557,  35.0707,2,  35.0747,2,    211.2,2,   -999.0,5,  -999.00,5,  -999.00,5,  -999.00,5,    107,-999.000,  -999.0, 20.5356
     32MW081_1,  PRS2,     2,  5,     17,     17,2,19970312,0259, 22.7538,-157.9817, 4715,    106.4,  20.5636,  35.0713,2,  35.0707,2,    210.7,2,   -999.0,5,  -999.00,5,  -999.00,5,  -999.00,5,    106,-999.000,  -999.0, 20.5436
     32MW081_1,  PRS2,     2,  5,     20,     20,2,19970312,0259, 22.7538,-157.9817, 4715,    106.6,  20.5434,  35.0707,2,-999.0000,5,    212.3,2,   -999.0,5,  -999.00,5,  -999.00,5,  -999.00,5,    107,-999.000,  -999.0, 20.5233
     32MW081_1,  PRS2,     2,  5,     19,     19,2,19970312,0259, 22.7538,-157.9817, 4715,    106.6,  20.5436,  35.0708,2,  35.0703,2,    211.8,2,   -999.0,5,  -999.00,5,  -999.00,5,  -999.00,5,    106,-999.000,  -999.0, 20.5236
     32MW081_1,  PRS2,     2,  5,     16,     16,2,19970312,0259, 22.7538,-157.9817, 4715,    210.0,  16.2751,  34.7183,2,  34.7221,2,    196.4,2,    206.0,2,     5.13,2,     4.13,2,     0.34,2,    210,-999.000,  -999.0, 16.2416
     32MW081_1,  PRS2,     2,  5,     15,     15,2,19970312,0259, 22.7538,-157.9817, 4715,    225.1,  15.2697,  34.5975,2,  34.6010,2,    202.8,2,    203.2,2,     7.47,2,     5.70,2,     0.45,2,    227,-999.000,  -999.0, 15.2352
     32MW081_1,  PRS2,     2,  5,     14,     14,2,19970312,0259, 22.7538,-157.9817, 4715,    234.4,  15.1665,  34.5781,2,  34.5765,2,    202.2,2,    200.4,2,     7.51,2,     6.05,2,     0.49,2,    236,-999.000,  -999.0, 15.1308
     32MW081_1,  PRS2,     2,  5,     13,     13,2,19970312,0259, 22.7538,-157.9817, 4715,    249.2,  14.5949,  34.4987,2,  34.5041,2,    194.5,2,    195.6,2,     7.03,2,     7.06,2,     0.56,2,    250,-999.000,  -999.0, 14.5579
     32MW081_1,  PRS2,     2,  5,     12,     12,2,19970312,0259, 22.7538,-157.9817, 4715,    275.9,  13.1204,  34.3392,2,  34.3409,2,    193.9,2,    195.9,2,     9.62,2,     9.48,2,     0.71,2,    276,-999.000,  -999.0, 13.0823
     32MW081_1,  PRS2,     2,  5,     11,     11,2,19970312,0259, 22.7538,-157.9817, 4715,    299.6,  11.8157,  34.2373,2,  34.2418,2,    194.9,2,    198.4,2,    13.13,2,    11.85,2,     0.88,2,    300,-999.000,  -999.0, 11.7771
     32MW081_1,  PRS2,     2,  5,     10,     32,2,19970312,0259, 22.7538,-157.9817, 4715,    326.1,  10.9596,  34.1919,2,  34.1924,2,    199.1,2,    199.2,2,    17.84,2,    15.44,2,     1.10,2,    326,-999.000,  -999.0, 10.9197
     32MW081_1,  PRS2,     2,  5,      9,      3,2,19970312,0259, 22.7538,-157.9817, 4715,    349.3,  10.4025,  34.1679,2,  34.1681,2,    196.0,2,    195.7,2,    15.14,2,    13.96,2,     1.01,2,    349,-999.000,  -999.0, 10.3610
     32MW081_1,  PRS2,     2,  5,      8,     29,2,19970312,0259, 22.7538,-157.9817, 4715,    398.9,   9.0855,  34.1021,2,  34.1024,2,    177.5,2,    177.3,2,    25.39,2,    19.83,2,     1.41,2,    400,-999.000,  -999.0,  9.0419
     32MW081_1,  PRS2,     2,  5,      6,      7,2,19970312,0259, 22.7538,-157.9817, 4715,    499.7,   7.0143,  34.0504,2,  34.0489,2,    121.6,2,    121.4,2,    46.64,2,    28.86,2,     2.05,2,    500,-999.000,  -999.0,  6.9672
     32MW081_1,  PRS2,     2,  5,      7,     28,2,19970312,0259, 22.7538,-157.9817, 4715,    499.9,   7.0131,  34.0496,2,  34.0526,2,    122.0,2,   -999.0,5,  -999.00,5,  -999.00,5,  -999.00,5,    500,-999.000,  -999.0,  6.9659
     32MW081_1,  PRS2,     2,  5,      5,     38,2,19970312,0259, 22.7538,-157.9817, 4715,    599.6,   5.6025,  34.1289,2,  34.1391,2,     52.9,2,     59.5,2,    71.89,2,    36.54,2,     2.63,2,    599,-999.000,  -999.0,  5.5519
     32MW081_1,  PRS2,     2,  5,      4,     36,2,19970312,0259, 22.7538,-157.9817, 4715,    700.0,   5.1743,  34.2322,2,  34.2356,2,     34.2,2,     34.0,2,    84.16,2,    39.61,2,     2.90,2,    700,-999.000,  -999.0,  5.1168
     32MW081_1,  PRS2,     2,  5,      3,     35,2,19970312,0259, 22.7538,-157.9817, 4715,    799.8,   4.6919,  34.3776,2,  34.3772,2,     29.4,2,     30.7,2,    94.19,2,    40.99,2,     2.99,2,    801,-999.000,  -999.0,  4.6285
     32MW081_1,  PRS2,     2,  5,      2,     34,2,19970312,0259, 22.7538,-157.9817, 4715,    899.7,   4.4019,  34.4339,2,  34.4709,4,     32.0,3,     32.8,2,   101.32,2,    41.90,2,     3.03,2,    900,-999.000,  -999.0,  4.3319
     32MW081_1,  PRS2,     2,  5,      1,     33,2,19970312,0259, 22.7538,-157.9817, 4715,   1019.7,   3.9787,  34.4751,2,  34.4767,2,     37.5,2,     39.1,2,   109.86,2,    41.97,2,     3.03,2,   1021,-999.000,  -999.0,  3.9016
     32MW081_1,  PRS2,     2,  6,     23,     30,2,19970312,0559, 22.7602,-157.9940, 4715,      4.4,  23.2558,  35.0287,2,  35.0260,2,    215.4,2,   -999.0,5,  -999.00,5,  -999.00,5,  -999.00,5,      5,-999.000,  -999.0, 23.2549
     32MW081_1,  PRS2,     2,  6,     22,     22,2,19970312,0559, 22.7602,-157.9940, 4715,      4.5,  23.2216,  35.0274,2,  35.0259,2,    214.4,2,    215.7,2,     1.56,2,    -0.01,2,     0.06,2,      5,-999.000,  -999.0, 23.2206
     32MW081_1,  PRS2,     2,  6,     21,     21,2,19970312,0559, 22.7602,-157.9940, 4715,     14.5,  23.0873,  35.0283,2,  35.0294,2,    216.0,2,    216.2,2,     1.53,2,     0.00,2,     0.06,2,     15,-999.000,  -999.0, 23.0844
     32MW081_1,  PRS2,     2,  6,     20,     20,2,19970312,0559, 22.7602,-157.9940, 4715,     24.8,  22.3489,  35.0593,2,  35.0577,2,    216.7,2,   -999.0,5,  -999.00,5,  -999.00,5,  -999.00,5,     25,-999.000,  -999.0, 22.3440
     32MW081_1,  PRS2,     2,  6,     19,     19,2,19970312,0559, 22.7602,-157.9940, 4715,     24.8,  22.3492,  35.0597,2,  35.0580,2,    217.2,2,    218.2,2,     2.14,2,     0.00,2,     0.06,2,     25,-999.000,  -999.0, 22.3442
     32MW081_1,  PRS2,     2,  6,     18,     18,2,19970312,0559, 22.7602,-157.9940, 4715,     35.5,  22.0516,  35.0636,2,  35.0611,2,    216.3,2,    217.3,2,     1.73,2,     0.02,2,     0.06,2,     36,-999.000,  -999.0, 22.0446
     32MW081_1,  PRS2,     2,  6,     17,     17,2,19970312,0559, 22.7602,-157.9940, 4715,     44.6,  21.7559,  35.0688,2,  35.0681,2,    209.7,2,    220.2,2,     1.72,2,     0.02,2,     0.05,2,     44,-999.000,  -999.0, 21.7471
     32MW081_1,  PRS2,     2,  6,     16,     16,2,19970312,0559, 22.7602,-157.9940, 4715,     59.9,  21.5033,  35.0694,2,  35.0684,2,    219.1,2,    218.7,2,     1.76,2,     0.01,2,     0.05,2,     60,-999.000,  -999.0, 21.4917
     32MW081_1,  PRS2,     2,  6,     15,     15,2,19970312,0559, 22.7602,-157.9940, 4715,     75.2,  21.2320,  35.0675,2,  35.0650,2,    216.0,2,    218.1,2,     1.87,2,     0.02,2,     0.06,2,     76,-999.000,  -999.0, 21.2175
     32MW081_1,  PRS2,     2,  6,     14,     14,2,19970312,0559, 22.7602,-157.9940, 4715,     85.5,  21.1998,  35.0703,2,  35.0684,2,    216.0,2,    217.7,2,     1.87,2,     0.02,2,     0.06,2,     85,-999.000,  -999.0, 21.1834
     32MW081_1,  PRS2,     2,  6,     13,     13,2,19970312,0559, 22.7602,-157.9940, 4715,     95.0,  21.1786,  35.0724,2,  35.0692,2,    215.8,2,    217.5,2,     2.23,2,     0.02,2,     0.06,2,     94,-999.000,  -999.0, 21.1603
     32MW081_1,  PRS2,     2,  6,     12,     12,2,19970312,0559, 22.7602,-157.9940, 4715,    105.0,  21.0900,  35.0755,2,  35.0729,2,    218.0,2,    216.2,2,     1.95,2,     0.05,2,     0.08,2,    105,-999.000,  -999.0, 21.0699
     32MW081_1,  PRS2,     2,  6,     11,     11,2,19970312,0559, 22.7602,-157.9940, 4715,    115.4,  20.6654,  35.0761,2,  35.0746,2,    211.2,2,    213.2,2,     2.40,2,     0.09,2,     0.09,2,    115,-999.000,  -999.0, 20.6436
     32MW081_1,  PRS2,     2,  6,     10,     32,2,19970312,0559, 22.7602,-157.9940, 4715,    119.0,  20.6281,  35.0743,2,  35.0739,2,    210.7,2,   -999.0,5,  -999.00,5,  -999.00,5,  -999.00,5,    120,-999.000,  -999.0, 20.6056
     32MW081_1,  PRS2,     2,  6,      9,      3,2,19970312,0559, 22.7602,-157.9940, 4715,    124.2,  20.6063,  35.0759,2,  35.0740,2,    210.9,2,    212.3,2,     2.21,2,     0.20,2,     0.09,2,    124,-999.000,  -999.0, 20.5828
     32MW081_1,  PRS2,     2,  6,      8,     29,2,19970312,0559, 22.7602,-157.9940, 4715,    134.9,  20.1138,  35.0663,2,  35.0824,4,    200.0,3,    211.3,2,     2.38,2,     0.57,2,     0.11,2,    135,-999.000,  -999.0, 20.0888
     32MW081_1,  PRS2,     2,  6,      7,     28,2,19970312,0559, 22.7602,-157.9940, 4715,    150.2,  19.6958,  35.0409,2,  35.0353,2,    204.6,2,    206.2,2,     2.65,2,     1.19,2,     0.16,2,    150,-999.000,  -999.0, 19.6683
     32MW081_1,  PRS2,     2,  6,      6,      7,2,19970312,0559, 22.7602,-157.9940, 4715,    159.6,  18.7813,  34.9668,2,  34.9633,2,    193.9,2,    201.4,2,  -999.00,5,  -999.00,5,  -999.00,5,    160,-999.000,  -999.0, 18.7531
     32MW081_1,  PRS2,     2,  6,      5,     38,2,19970312,0559, 22.7602,-157.9940, 4715,    174.6,  18.0857,  34.9030,2,  34.9099,2,    191.4,2,    201.5,2,     3.64,2,     2.65,2,     0.25,2,    175,-999.000,  -999.0, 18.0557
     32MW081_1,  PRS2,     2,  6,      4,     36,2,19970312,0559, 22.7602,-157.9940, 4715,    184.8,  17.8951,  34.8845,2,  34.8832,2,    200.0,2,    202.1,2,  -999.00,5,  -999.00,5,  -999.00,5,    185,-999.000,  -999.0, 17.8635
     32MW081_1,  PRS2,     2,  6,      3,     35,2,19970312,0559, 22.7602,-157.9940, 4715,    201.2,  17.0968,  34.8057,2,  34.8083,2,    200.4,2,    204.8,2,     4.64,2,     3.35,2,     0.30,2,    202,-999.000,  -999.0, 17.0635
     32MW081_1,  PRS2,     2,  6,      2,     34,2,19970312,0559, 22.7602,-157.9940, 4715,    561.4,   6.3921,  34.0543,2,  34.0582,2,    100.9,2,     99.0,2,  -999.00,5,  -999.00,5,  -999.00,5,    562,-999.000,  -999.0,  6.3415
     32MW081_1,  PRS2,     2,  6,      1,     33,2,19970312,0559, 22.7602,-157.9940, 4715,   1019.6,   3.9289,  34.4921,2,  34.4932,2,     39.8,2,     40.9,2,  -999.00,5,  -999.00,5,  -999.00,5,   1019,-999.000,  -999.0,  3.8522