BOTTLE,20020809WHPSIObren
#code : jjward hyd_to_exchange.pl 
#original files copied from HTML directory: 20020809
#original HYD file: /whpo/11/HOTS/BOTTLE/hot81/hot81.sea   Fri Aug  9 09:51:37 2002
#original SUM file: /whpo/11/HOTS/BOTTLE/hot81/hot81.sum   Fri Aug  9 13:30:41 2002
EXPOCODE,SECT_ID,STNNBR,CASTNO,SAMPNO,BTLNBR,BTLNBR_FLAG_W,DATE,TIME,LATITUDE,LONGITUDE,DEPTH,CTDPRS,CTDTMP,CTDSAL,CTDSAL_FLAG_W,SALNTY,SALNTY_FLAG_W,CTDOXY,CTDOXY_FLAG_W,OXYGEN,OXYGEN_FLAG_W,SILCAT,SILCAT_FLAG_W,NO2+NO3,NO2+NO3_FLAG_W,PHSPHT,PHSPHT_FLAG_W,CTDRAW,REVTMP,REVPRS,THETA
,,,,,,,,,,,,DBAR,ITS-90,PSS-78,,PSS-78,,UMOL/KG,,UMOL/KG,,UMOL/KG,,UMOL/KG,,UMOL/KG,,,DEG C,DBAR,ITS-90
     32MW081_1,  PRS2,     1,  1,     24,     31,2,19970314,0828, 21.3438,-158.2750, 1700,      4.8,  24.9892,  34.8523,2,  34.8429,2,    208.6,2,    208.6,2,     1.57,2,    -0.01,2,     0.09,2,      6,-999.000,  -999.0, 24.9882
     32MW081_1,  PRS2,     1,  1,     23,     30,2,19970314,0828, 21.3438,-158.2750, 1700,     24.6,  24.9337,  34.8727,2,  34.8726,2,    208.4,2,   -999.0,5,     2.41,2,    -0.01,2,     0.09,2,     25,-999.000,  -999.0, 24.9284
     32MW081_1,  PRS2,     1,  1,     22,     22,2,19970314,0828, 21.3438,-158.2750, 1700,     44.5,  24.5269,  34.9239,2,  34.9415,4,    208.0,3,   -999.0,5,     1.64,2,     0.01,2,     0.08,2,     45,-999.000,  -999.0, 24.5174
     32MW081_1,  PRS2,     1,  1,     21,     21,2,19970314,0828, 21.3438,-158.2750, 1700,     59.4,  24.3506,  34.9330,2,  34.9335,2,    212.0,2,   -999.0,5,     2.44,2,     0.00,2,     0.08,2,     60,-999.000,  -999.0, 24.3380
     32MW081_1,  PRS2,     1,  1,     20,     20,2,19970314,0828, 21.3438,-158.2750, 1700,     74.7,  23.4477,  34.9814,2,  34.9710,2,    208.1,2,   -999.0,5,     2.75,2,     0.03,2,     0.06,2,     75,-999.000,  -999.0, 23.4323
     32MW081_1,  PRS2,     1,  1,     19,     19,2,19970314,0828, 21.3438,-158.2750, 1700,     94.6,  22.9341,  35.0086,2,  35.0063,2,    209.3,2,    209.3,2,     1.85,2,     0.01,2,     0.08,2,     95,-999.000,  -999.0, 22.9148
     32MW081_1,  PRS2,     1,  1,     18,     18,2,19970314,0828, 21.3438,-158.2750, 1700,    104.6,  22.0548,  35.0382,2,  35.0373,2,    190.4,2,   -999.0,5,     2.71,2,     0.21,2,     0.14,2,    105,-999.000,  -999.0, 22.0341
     32MW081_1,  PRS2,     1,  1,     17,     17,2,19970314,0828, 21.3438,-158.2750, 1700,    114.8,  21.6064,  35.0394,2,  35.0492,2,    197.2,2,   -999.0,5,     2.30,2,     0.59,2,     0.18,2,    115,-999.000,  -999.0, 21.5840
     32MW081_1,  PRS2,     1,  1,     16,     16,4,19970314,0828, 21.3438,-158.2750, 1700,    124.6,  21.2445,  35.0214,2,-999.0000,5,    194.5,2,   -999.0,5,  -999.00,5,  -999.00,5,  -999.00,5,    125,-999.000,  -999.0, 21.2205
     32MW081_1,  PRS2,     1,  1,     15,     15,2,19970314,0828, 21.3438,-158.2750, 1700,    150.3,  19.9758,  35.0059,2,  35.0073,2,    182.8,2,   -999.0,5,     2.83,2,     1.76,2,     0.21,2,    150,-999.000,  -999.0, 19.9480
     32MW081_1,  PRS2,     1,  1,     14,     14,2,19970314,0828, 21.3438,-158.2750, 1700,    174.6,  18.7365,  34.9302,2,  34.9320,2,    186.9,2,   -999.0,5,     3.52,2,     2.86,2,     0.29,2,    174,-999.000,  -999.0, 18.7057
     32MW081_1,  PRS2,     1,  1,     13,     13,2,19970314,0828, 21.3438,-158.2750, 1700,    199.6,  17.7970,  34.8430,2,  34.8429,2,    179.9,2,   -999.0,5,     4.39,2,     4.00,2,     0.37,2,    199,-999.000,  -999.0, 17.7630
     32MW081_1,  PRS2,     1,  1,     12,     12,2,19970314,0828, 21.3438,-158.2750, 1700,    223.9,  16.4506,  34.7100,2,  34.7157,2,    198.4,2,   -999.0,5,     5.35,2,     4.74,2,     0.42,2,    225,-999.000,  -999.0, 16.4145
     32MW081_1,  PRS2,     1,  1,     11,     11,2,19970314,0828, 21.3438,-158.2750, 1700,    250.4,  15.6327,  34.6284,2,  34.6307,2,    199.0,2,    199.0,2,     6.13,2,     5.65,2,     0.47,2,    251,-999.000,  -999.0, 15.5938
     32MW081_1,  PRS2,     1,  1,     10,     32,2,19970314,0828, 21.3438,-158.2750, 1700,    379.4,   9.8593,  34.1503,2,  34.1495,2,    171.7,2,    171.7,2,    24.21,2,    18.43,2,     1.34,2,    380,-999.000,  -999.0,  9.8157
     32MW081_1,  PRS2,     1,  1,      9,      3,2,19970314,0828, 21.3438,-158.2750, 1700,    431.4,   9.0529,  34.1042,2,  34.1086,2,    172.2,2,   -999.0,5,    27.28,2,    20.51,2,     1.50,2,    432,-999.000,  -999.0,  9.0058
     32MW081_1,  PRS2,     1,  1,      8,     29,2,19970314,0828, 21.3438,-158.2750, 1700,    500.0,   7.4805,  34.1249,2,  34.1281,2,    111.2,2,   -999.0,5,    46.20,2,    28.11,2,     2.06,2,    500,-999.000,  -999.0,  7.4315
     32MW081_1,  PRS2,     1,  1,      7,     28,2,19970314,0828, 21.3438,-158.2750, 1700,    575.9,   6.4889,  34.1948,2,  34.1985,2,     54.4,2,   -999.0,5,    62.50,2,    34.69,2,     2.60,2,    577,-999.000,  -999.0,  6.4364
     32MW081_1,  PRS2,     1,  1,      6,      7,2,19970314,0828, 21.3438,-158.2750, 1700,    649.8,   5.9128,  34.2748,2,  34.2770,2,     36.7,2,   -999.0,5,    72.85,2,    37.84,2,     2.83,2,    651,-999.000,  -999.0,  5.8561
     32MW081_1,  PRS2,     1,  1,      5,     38,2,19970314,0828, 21.3438,-158.2750, 1700,    725.8,   5.1200,  34.3599,2,  34.3613,2,     30.2,2,     30.2,2,    86.78,2,    40.18,2,     2.96,2,    726,-999.000,  -999.0,  5.0605
     32MW081_1,  PRS2,     1,  1,      4,     36,2,19970314,0828, 21.3438,-158.2750, 1700,    799.8,   4.8424,  34.3921,2,  34.3942,2,     31.0,2,   -999.0,5,    92.02,2,    40.65,2,     2.99,2,    800,-999.000,  -999.0,  4.7780
     32MW081_1,  PRS2,     1,  1,      3,     35,2,19970314,0828, 21.3438,-158.2750, 1700,    874.4,   4.5509,  34.4624,2,  34.4660,2,     38.9,2,   -999.0,5,    96.93,2,    40.89,2,     3.00,2,    874,-999.000,  -999.0,  4.4820
     32MW081_1,  PRS2,     1,  1,      2,     34,2,19970314,0828, 21.3438,-158.2750, 1700,    950.1,   4.3413,  34.4679,2,  34.4788,4,     39.4,3,   -999.0,5,   101.60,2,    41.18,2,     3.01,2,    951,-999.000,  -999.0,  4.2674
     32MW081_1,  PRS2,     1,  1,      1,     33,2,19970314,0828, 21.3438,-158.2750, 1700,   1022.4,   4.2380,  34.4808,2,  34.4850,2,     41.8,2,     41.8,2,   103.81,2,    41.37,2,     3.01,2,   1022,-999.000,  -999.0,  4.1586
     32MW081_1,  PRS2,     2,  1,     24,     31,2,19970311,1437, 22.7472,-157.9793, 4721,      4.4,  23.0548,  35.0247,2,  35.0300,2,    216.7,2,    214.7,2,     1.77,2,     0.00,2,     0.09,2,      5,-999.000,  -999.0, 23.0539
     32MW081_1,  PRS2,     2,  1,     23,     30,2,19970311,1437, 22.7472,-157.9793, 4721,     73.0,  20.9869,  35.0797,2,  35.0882,2,    216.2,2,    216.2,2,     1.84,2,     0.01,2,     0.09,2,     73,-999.000,  -999.0, 20.9730
     32MW081_1,  PRS2,     2,  1,     22,     22,2,19970311,1437, 22.7472,-157.9793, 4721,    516.6,   7.3788,  34.0573,2,  34.0677,4,    133.6,3,    132.7,2,    41.69,2,    26.96,2,     1.90,2,    517,-999.000,  -999.0,  7.3286
     32MW081_1,  PRS2,     2,  1,     21,     21,2,19970311,1437, 22.7472,-157.9793, 4721,    746.5,   4.7255,  34.3056,2,  34.3034,2,     25.6,2,     24.5,2,    92.97,2,    41.01,2,     2.95,2,    747,-999.000,  -999.0,  4.6665
     32MW081_1,  PRS2,     2,  1,     20,     20,2,19970311,1437, 22.7472,-157.9793, 4721,   1200.2,   3.5233,  34.5278,2,  34.5262,2,     50.3,2,     51.0,2,   116.61,2,    41.35,2,     2.95,2,   1200,-999.000,  -999.0,  3.4350
     32MW081_1,  PRS2,     2,  1,     19,     19,2,19970311,1437, 22.7472,-157.9793, 4721,   1400.7,   3.0834,  34.5585,2,  34.5641,4,     59.8,3,     58.9,2,   127.08,2,    41.25,2,     2.94,2,   1401,-999.000,  -999.0,  2.9829
     32MW081_1,  PRS2,     2,  1,     18,     18,2,19970311,1437, 22.7472,-157.9793, 4721,   1599.9,   2.7218,  34.5819,2,  34.5824,2,     68.4,2,     67.2,2,   135.11,2,    40.86,2,     2.90,2,   1600,-999.000,  -999.0,  2.6090
     32MW081_1,  PRS2,     2,  1,     17,     17,2,19970311,1437, 22.7472,-157.9793, 4721,   1799.9,   2.4023,  34.6023,2,  34.6037,2,     78.3,2,     79.7,2,   141.87,2,    40.35,2,     2.85,2,   1799,-999.000,  -999.0,  2.2769
     32MW081_1,  PRS2,     2,  1,     16,     16,2,19970311,1437, 22.7472,-157.9793, 4721,   1999.7,   2.1267,  34.6175,2,  34.6215,2,     85.8,2,     85.8,2,   148.59,2,    39.84,2,     2.83,2,   1999,-999.000,  -999.0,  1.9884
     32MW081_1,  PRS2,     2,  1,     15,     15,2,19970311,1437, 22.7472,-157.9793, 4721,   2200.1,   1.8925,  34.6344,2,  34.6342,2,     94.3,2,     94.5,2,   154.52,2,    39.39,2,     2.76,2,   2199,-999.000,  -999.0,  1.7408
     32MW081_1,  PRS2,     2,  1,     14,     14,2,19970311,1437, 22.7472,-157.9793, 4721,   2400.9,   1.7583,  34.6457,2,  34.6463,2,    102.0,2,    102.1,2,   157.29,2,    38.85,2,     2.73,2,   2401,-999.000,  -999.0,  1.5914
     32MW081_1,  PRS2,     2,  1,     13,     13,2,19970311,1437, 22.7472,-157.9793, 4721,   2600.1,   1.6610,  34.6573,2,  34.6584,2,    113.0,2,    110.7,2,   155.85,3,    38.30,2,     2.68,2,   2600,-999.000,  -999.0,  1.4780
     32MW081_1,  PRS2,     2,  1,     12,     12,2,19970311,1437, 22.7472,-157.9793, 4721,   2800.1,   1.5785,  34.6656,2,  34.6658,2,    120.4,2,    120.2,2,   156.41,2,    37.84,2,     2.63,2,   2799,-999.000,  -999.0,  1.3788
     32MW081_1,  PRS2,     2,  1,     11,     11,2,19970311,1437, 22.7472,-157.9793, 4721,   3000.8,   1.5227,  34.6719,2,  34.6698,2,    126.0,2,    127.2,2,   155.47,2,    37.46,2,     2.60,2,   3000,-999.000,  -999.0,  1.3053
     32MW081_1,  PRS2,     2,  1,     10,     32,2,19970311,1437, 22.7472,-157.9793, 4721,   3200.6,   1.4864,  34.6770,2,  34.6773,2,    132.4,2,    133.3,2,   154.10,2,    37.00,2,     2.56,2,   3200,-999.000,  -999.0,  1.2505
     32MW081_1,  PRS2,     2,  1,      9,      3,2,19970311,1437, 22.7472,-157.9793, 4721,   3400.7,   1.4602,  34.6812,2,  34.6800,2,    138.2,2,    138.6,2,   152.71,2,    36.60,2,     2.54,2,   3401,-999.000,  -999.0,  1.2051
     32MW081_1,  PRS2,     2,  1,      8,     29,2,19970311,1437, 22.7472,-157.9793, 4721,   3601.4,   1.4476,  34.6840,2,  34.6848,2,    141.9,2,    143.2,2,   151.18,2,    36.35,2,     2.52,2,   3602,-999.000,  -999.0,  1.1724
     32MW081_1,  PRS2,     2,  1,      7,     28,2,19970311,1437, 22.7472,-157.9793, 4721,   3800.5,   1.4410,  34.6863,2,  34.6932,4,    146.6,3,    146.5,2,   149.00,2,    36.10,2,     2.50,2,   3801,-999.000,  -999.0,  1.1451
     32MW081_1,  PRS2,     2,  1,      6,      7,2,19970311,1437, 22.7472,-157.9793, 4721,   4001.7,   1.4476,  34.6876,2,  34.6863,2,    148.9,2,    149.0,2,   148.18,2,    35.92,2,     2.48,2,   4002,-999.000,  -999.0,  1.1299
     32MW081_1,  PRS2,     2,  1,      5,     38,2,19970311,1437, 22.7472,-157.9793, 4721,   4201.7,   1.4561,  34.6890,2,  34.6892,2,    151.3,2,    151.3,2,   146.77,2,    35.92,2,     2.47,2,   4202,-999.000,  -999.0,  1.1162
     32MW081_1,  PRS2,     2,  1,      4,     36,2,19970311,1437, 22.7472,-157.9793, 4721,   4400.6,   1.4754,  34.6894,2,  34.6886,2,    152.2,2,    151.4,2,   146.73,2,    35.84,2,     2.46,2,   4400,-999.000,  -999.0,  1.1126
     32MW081_1,  PRS2,     2,  1,      3,     35,2,19970311,1437, 22.7472,-157.9793, 4721,   4500.6,   1.4852,  34.6895,2,  34.6877,2,    151.2,2,    152.7,2,   146.56,2,    36.06,3,     2.46,2,   4500,-999.000,  -999.0,  1.1106
     32MW081_1,  PRS2,     2,  1,      2,     34,2,19970311,1437, 22.7472,-157.9793, 4721,   4601.0,   1.4943,  34.6900,2,  34.6911,2,    153.3,2,    152.5,2,   146.83,2,    35.91,2,     2.47,2,   4601,-999.000,  -999.0,  1.1078
     32MW081_1,  PRS2,     2,  1,      1,     33,2,19970311,1437, 22.7472,-157.9793, 4721,   4798.8,   1.4979,  34.6915,2,  34.6905,2,    156.2,2,    155.9,2,   143.79,3,    35.61,2,     2.44,2,   4798,-999.000,  -999.0,  1.0879
     32MW081_1,  PRS2,     2,  2,     24,     31,2,19970311,1930, 22.7417,-157.9720, 4715,      4.7,  23.1211,  35.0292,2,  35.0269,2,    222.4,2,    214.9,2,     1.60,2,     0.00,2,     0.05,2,      5,-999.000,  -999.0, 23.1201
     32MW081_1,  PRS2,     2,  2,     23,     30,2,19970311,1930, 22.7417,-157.9720, 4715,     74.8,  21.6521,  35.0700,2,  35.0679,2,    224.0,2,    220.1,2,     1.74,2,     0.01,2,     0.05,2,     75,-999.000,  -999.0, 21.6375
     32MW081_1,  PRS2,     2,  2,     22,     22,2,19970311,1930, 22.7417,-157.9720, 4715,     86.8,  21.4801,  35.0714,2,  35.0668,2,    224.8,2,    219.2,2,     1.80,2,     0.02,2,     0.05,2,     87,-999.000,  -999.0, 21.4633
     32MW081_1,  PRS2,     2,  2,     21,     21,2,19970311,1930, 22.7417,-157.9720, 4715,    119.7,  20.4922,  35.0751,2,  35.0748,2,    212.9,2,    208.7,2,     2.37,2,     0.28,2,     0.10,2,    119,-999.000,  -999.0, 20.4697
     32MW081_1,  PRS2,     2,  2,     20,     20,2,19970311,1930, 22.7417,-157.9720, 4715,    156.5,  18.9182,  34.9794,2,  34.9785,2,    204.0,2,    202.3,2,     2.99,2,     1.87,2,     0.19,2,    157,-999.000,  -999.0, 18.8904
     32MW081_1,  PRS2,     2,  2,     19,     19,2,19970311,1930, 22.7417,-157.9720, 4715,    227.1,  16.1329,  34.7043,2,  34.7000,2,    211.1,2,    205.8,2,     6.89,2,     4.31,2,     0.35,2,    227,-999.000,  -999.0, 16.0968
     32MW081_1,  PRS2,     2,  2,     18,     18,2,19970311,1930, 22.7417,-157.9720, 4715,    314.3,  11.7952,  34.2368,2,  34.2340,2,    199.0,2,    197.3,2,    12.14,2,    11.91,2,     0.84,2,    315,-999.000,  -999.0, 11.7548
     32MW081_1,  PRS2,     2,  2,     17,     17,2,19970311,1930, 22.7417,-157.9720, 4715,    356.6,  10.4866,  34.1644,2,  34.1624,2,    197.2,2,    197.2,2,    17.38,2,    15.00,2,     1.06,2,    356,-999.000,  -999.0, 10.4440
     32MW081_1,  PRS2,     2,  2,     16,     16,2,19970311,1930, 22.7417,-157.9720, 4715,    398.6,   9.3307,  34.1134,2,  34.1105,2,    182.1,2,    181.5,2,    23.71,2,    18.88,2,     1.33,2,    398,-999.000,  -999.0,  9.2864
     32MW081_1,  PRS2,     2,  2,     15,     15,2,19970311,1930, 22.7417,-157.9720, 4715,    428.2,   8.8363,  34.0943,2,  34.0950,2,    176.2,2,    171.2,2,    27.52,2,    20.87,2,     1.47,2,    429,-999.000,  -999.0,  8.7902
     32MW081_1,  PRS2,     2,  2,     14,     14,2,19970311,1930, 22.7417,-157.9720, 4715,    510.8,   6.9841,  34.0596,2,  34.0615,2,    124.4,2,    116.0,2,    47.89,2,    29.57,2,     2.10,2,    511,-999.000,  -999.0,  6.9360
     32MW081_1,  PRS2,     2,  2,     13,     13,2,19970311,1930, 22.7417,-157.9720, 4715,    520.5,   6.8114,  34.0585,2,  34.0582,2,    106.3,2,    110.5,2,    50.37,2,    30.30,2,     2.16,2,    521,-999.000,  -999.0,  6.7630
     32MW081_1,  PRS2,     2,  2,     12,     12,2,19970311,1930, 22.7417,-157.9720, 4715,    547.1,   6.3927,  34.0597,2,  34.0587,2,     98.6,2,     97.7,2,    55.99,2,    32.24,2,     2.31,2,    548,-999.000,  -999.0,  6.3434
     32MW081_1,  PRS2,     2,  2,     11,     11,2,19970311,1930, 22.7417,-157.9720, 4715,    598.6,   5.7015,  34.1020,2,  34.0999,2,     69.3,2,     65.5,2,    69.20,2,    36.23,2,     2.60,2,    599,-999.000,  -999.0,  5.6506
     32MW081_1,  PRS2,     2,  2,     10,     32,2,19970311,1930, 22.7417,-157.9720, 4715,    632.5,   5.4578,  34.1854,2,  34.1834,2,     39.7,2,     42.2,2,    76.97,2,    38.47,2,     2.79,2,    633,-999.000,  -999.0,  5.4049
     32MW081_1,  PRS2,     2,  2,      9,      3,2,19970311,1930, 22.7417,-157.9720, 4715,    648.9,   5.3146,  34.2064,2,  34.2082,2,     38.0,2,     38.4,2,    80.13,2,    39.24,2,     2.86,2,    650,-999.000,  -999.0,  5.2609
     32MW081_1,  PRS2,     2,  2,      8,     29,2,19970311,1930, 22.7417,-157.9720, 4715,    690.4,   5.1233,  34.2664,2,  34.2647,2,     32.7,2,     31.0,2,    85.76,2,    40.28,2,     2.94,2,    690,-999.000,  -999.0,  5.0669
     32MW081_1,  PRS2,     2,  2,      7,     28,2,19970311,1930, 22.7417,-157.9720, 4715,    749.4,   4.7896,  34.3007,2,  34.3000,2,     26.0,2,     25.4,2,    92.38,2,    41.21,2,     3.00,2,    750,-999.000,  -999.0,  4.7299
     32MW081_1,  PRS2,     2,  2,      6,      7,2,19970311,1930, 22.7417,-157.9720, 4715,    763.9,   4.7955,  34.3282,2,  34.3281,2,     27.2,2,     26.9,2,    93.08,2,    41.23,2,     3.00,2,    764,-999.000,  -999.0,  4.7346
     32MW081_1,  PRS2,     2,  2,      5,     38,2,19970311,1930, 22.7417,-157.9720, 4715,    799.9,   4.7309,  34.3645,2,  34.3617,2,     29.4,2,     28.0,2,    94.14,2,    41.35,2,     3.00,2,    800,-999.000,  -999.0,  4.6673
     32MW081_1,  PRS2,     2,  2,      4,     36,2,19970311,1930, 22.7417,-157.9720, 4715,    850.0,   4.5412,  34.4210,2,  34.4225,2,     31.4,2,     30.3,2,    97.65,2,    41.52,2,     3.01,2,    850,-999.000,  -999.0,  4.4744
     32MW081_1,  PRS2,     2,  2,      3,     35,2,19970311,1930, 22.7417,-157.9720, 4715,    900.4,   4.3028,  34.4363,2,  34.4329,2,     30.8,2,     31.6,2,   103.42,2,    41.81,2,     3.04,2,    900,-999.000,  -999.0,  4.2334
     32MW081_1,  PRS2,     2,  2,      2,     34,2,19970311,1930, 22.7417,-157.9720, 4715,    949.9,   4.1286,  34.4545,2,  34.4527,2,     34.8,2,     34.2,2,   106.44,2,    41.77,2,     3.04,2,    951,-999.000,  -999.0,  4.0562
     32MW081_1,  PRS2,     2,  2,      1,     33,2,19970311,1930, 22.7417,-157.9720, 4715,   1026.7,   3.9557,  34.4842,2,  34.4807,2,     39.0,2,     39.9,2,   109.72,2,    41.82,2,     3.02,2,   1027,-999.000,  -999.0,  3.8782