BOTTLE,20020809WHPSIObren
EXPOCODE,SECT_ID,STNNBR,CASTNO,SAMPNO,BTLNBR,BTLNBR_FLAG_W,DATE,TIME,LATITUDE,LONGITUDE,DEPTH,CTDPRS,CTDTMP,CTDSAL,CTDSAL_FLAG_W,SALNTY,SALNTY_FLAG_W,CTDOXY,CTDOXY_FLAG_W,OXYGEN,OXYGEN_FLAG_W,SILCAT,SILCAT_FLAG_W,NO2+NO3,NO2+NO3_FLAG_W,PHSPHT,PHSPHT_FLAG_W,CTDRAW,REVTMP,REVPRS,THETA
,,,,,,,,,,,,DBAR,ITS-90,PSS-78,,PSS-78,,UMOL/KG,,UMOL/KG,,UMOL/KG,,UMOL/KG,,UMOL/KG,,,DEG C,DBAR,ITS-90
     32MW081_1,  PRS2,     8,  2,     24,     31,2,19970313,2253, 22.4475,-158.1043, 4825,      4.6,  23.4112,  34.9888,2,  35.0042,4,    214.7,3,    214.5,2,  -999.00,9,  -999.00,9,  -999.00,9,      5,-999.000,  -999.0, 23.4102
     32MW081_1,  PRS2,     8,  2,     23,     30,2,19970313,2253, 22.4475,-158.1043, 4825,     14.2,  23.2815,  35.0076,2,  35.0331,4,    214.6,3,    214.8,2,  -999.00,9,  -999.00,9,  -999.00,9,     14,-999.000,  -999.0, 23.2785
     32MW081_1,  PRS2,     8,  2,     22,     22,2,19970313,2253, 22.4475,-158.1043, 4825,     24.3,  23.2719,  35.0096,2,  35.0106,2,    215.0,2,    215.1,2,  -999.00,9,  -999.00,9,  -999.00,9,     25,-999.000,  -999.0, 23.2669
     32MW081_1,  PRS2,     8,  2,     21,     21,2,19970313,2253, 22.4475,-158.1043, 4825,     35.0,  23.1203,  35.0275,2,  35.0295,2,    215.5,2,    215.7,2,  -999.00,9,  -999.00,9,  -999.00,9,     35,-999.000,  -999.0, 23.1131
     32MW081_1,  PRS2,     8,  2,     20,     20,2,19970313,2253, 22.4475,-158.1043, 4825,     44.6,  23.0526,  35.0277,2,  35.0275,2,    215.7,2,    215.5,2,  -999.00,9,  -999.00,9,  -999.00,9,     46,-999.000,  -999.0, 23.0435
     32MW081_1,  PRS2,     8,  2,     19,     19,2,19970313,2253, 22.4475,-158.1043, 4825,     49.0,  22.8673,  35.0411,2,  35.0402,2,    216.4,2,    216.4,2,  -999.00,9,  -999.00,9,  -999.00,9,     50,-999.000,  -999.0, 22.8574
     32MW081_1,  PRS2,     8,  2,     18,     18,2,19970313,2253, 22.4475,-158.1043, 4825,     59.5,  22.5383,  35.0816,2,  35.0826,2,    218.6,2,    218.4,2,  -999.00,9,  -999.00,9,  -999.00,9,     60,-999.000,  -999.0, 22.5263
     32MW081_1,  PRS2,     8,  2,     17,     17,2,19970313,2253, 22.4475,-158.1043, 4825,     74.0,  22.4302,  35.0798,2,  35.0834,2,    219.5,2,    218.5,2,  -999.00,9,  -999.00,9,  -999.00,9,     75,-999.000,  -999.0, 22.4154
     32MW081_1,  PRS2,     8,  2,     16,     16,4,19970313,2253, 22.4475,-158.1043, 4825,     84.8,  22.1970,  35.0656,2,-999.0000,5,    219.8,2,   -999.0,5,  -999.00,9,  -999.00,9,  -999.00,9,     86,-999.000,  -999.0, 22.1801
     32MW081_1,  PRS2,     8,  2,     15,     15,2,19970313,2253, 22.4475,-158.1043, 4825,     94.1,  21.7249,  35.0812,2,  35.0864,2,    219.4,2,    219.2,2,  -999.00,9,  -999.00,9,  -999.00,9,     94,-999.000,  -999.0, 21.7064
     32MW081_1,  PRS2,     8,  2,     14,     14,2,19970313,2253, 22.4475,-158.1043, 4825,    104.5,  21.2339,  35.0812,2,  35.0987,4,    219.1,3,    217.1,2,  -999.00,9,  -999.00,9,  -999.00,9,    104,-999.000,  -999.0, 21.2138
     32MW081_1,  PRS2,     8,  2,     13,     13,2,19970313,2253, 22.4475,-158.1043, 4825,    114.3,  20.8839,  35.0785,2,  35.0770,2,    215.1,2,    215.4,2,  -999.00,9,  -999.00,9,  -999.00,9,    115,-999.000,  -999.0, 20.8621
     32MW081_1,  PRS2,     8,  2,     12,     12,2,19970313,2253, 22.4475,-158.1043, 4825,    124.0,  20.4628,  35.0686,2,  35.0686,2,    213.1,2,    214.0,2,  -999.00,9,  -999.00,9,  -999.00,9,    124,-999.000,  -999.0, 20.4395
     32MW081_1,  PRS2,     8,  2,     11,     11,2,19970313,2253, 22.4475,-158.1043, 4825,    134.3,  20.0023,  35.0655,2,  35.0731,2,    208.3,2,    203.2,2,  -999.00,9,  -999.00,9,  -999.00,9,    134,-999.000,  -999.0, 19.9774
     32MW081_1,  PRS2,     8,  2,     10,     32,2,19970313,2253, 22.4475,-158.1043, 4825,    149.9,  19.4786,  35.0324,2,  35.0298,2,    199.1,2,    200.0,2,  -999.00,9,  -999.00,9,  -999.00,9,    150,-999.000,  -999.0, 19.4514
     32MW081_1,  PRS2,     8,  2,      9,      3,2,19970313,2253, 22.4475,-158.1043, 4825,    159.3,  18.5317,  34.9492,2,  34.9608,2,    199.6,2,    200.4,2,  -999.00,9,  -999.00,9,  -999.00,9,    160,-999.000,  -999.0, 18.5038
     32MW081_1,  PRS2,     8,  2,      8,     29,2,19970313,2253, 22.4475,-158.1043, 4825,    174.3,  17.7597,  34.8703,2,  34.8821,2,    204.1,2,    201.7,2,  -999.00,9,  -999.00,9,  -999.00,9,    175,-999.000,  -999.0, 17.7301
     32MW081_1,  PRS2,     8,  2,      7,     28,2,19970313,2253, 22.4475,-158.1043, 4825,    184.7,  17.0801,  34.8023,2,  34.8004,2,    201.1,2,    202.2,2,  -999.00,9,  -999.00,9,  -999.00,9,    185,-999.000,  -999.0, 17.0495
     32MW081_1,  PRS2,     8,  2,      6,      7,2,19970313,2253, 22.4475,-158.1043, 4825,    199.3,  16.6215,  34.7528,2,  34.7504,2,    203.5,2,    203.2,2,  -999.00,9,  -999.00,9,  -999.00,9,    200,-999.000,  -999.0, 16.5892
     32MW081_1,  PRS2,     8,  2,      5,     38,2,19970313,2253, 22.4475,-158.1043, 4825,    224.3,  15.5033,  34.6322,2,  34.6315,2,    204.8,2,    204.4,2,  -999.00,9,  -999.00,9,  -999.00,9,    224,-999.000,  -999.0, 15.4686
     32MW081_1,  PRS2,     8,  2,      4,     36,2,19970313,2253, 22.4475,-158.1043, 4825,    234.6,  14.8544,  34.5680,2,  34.5636,2,    204.3,2,    205.6,2,  -999.00,9,  -999.00,9,  -999.00,9,    235,-999.000,  -999.0, 14.8192
     32MW081_1,  PRS2,     8,  2,      3,     35,2,19970313,2253, 22.4475,-158.1043, 4825,    249.4,  14.6285,  34.5437,2,  34.5435,2,    207.0,2,    205.6,2,  -999.00,9,  -999.00,9,  -999.00,9,    249,-999.000,  -999.0, 14.5915
     32MW081_1,  PRS2,     8,  2,      2,     34,2,19970313,2253, 22.4475,-158.1043, 4825,    275.6,  13.6367,  34.4406,2,  34.4477,2,    205.7,2,    205.7,2,  -999.00,9,  -999.00,9,  -999.00,9,    277,-999.000,  -999.0, 13.5977
     32MW081_1,  PRS2,     8,  2,      1,     33,2,19970313,2253, 22.4475,-158.1043, 4825,    299.5,  12.7244,  34.3297,2,  34.3298,2,    197.9,2,    200.7,2,  -999.00,9,  -999.00,9,  -999.00,9,    300,-999.000,  -999.0, 12.6839
     32MW081_1,  PRS2,     8,  3,      5,     38,2,19970314,0101, 22.4553,-158.0833, 4825,     22.7,  23.2956,  35.0131,2,-999.0000,9,    211.9,1,   -999.0,9,  -999.00,9,  -999.00,9,  -999.00,9,     22,-999.000,  -999.0, 23.2909
     32MW081_1,  PRS2,     8,  3,      4,     36,2,19970314,0101, 22.4553,-158.0833, 4825,     71.6,  22.4992,  35.0749,2,-999.0000,9,    216.5,1,   -999.0,9,  -999.00,9,  -999.00,9,  -999.00,9,     71,-999.000,  -999.0, 22.4849
     32MW081_1,  PRS2,     8,  3,      3,     35,2,19970314,0101, 22.4553,-158.0833, 4825,    114.8,  20.8204,  35.0931,2,-999.0000,9,    207.0,1,   -999.0,9,  -999.00,9,  -999.00,9,  -999.00,9,    115,-999.000,  -999.0, 20.7986
     32MW081_1,  PRS2,     8,  3,      2,     34,2,19970314,0101, 22.4553,-158.0833, 4825,    133.6,  20.0912,  35.0626,2,-999.0000,9,    200.3,1,   -999.0,9,  -999.00,9,  -999.00,9,  -999.00,9,    134,-999.000,  -999.0, 20.0664
     32MW081_1,  PRS2,     8,  3,      1,     33,2,19970314,0101, 22.4553,-158.0833, 4825,    165.9,  18.7017,  34.9549,2,-999.0000,9,    196.7,1,   -999.0,9,  -999.00,9,  -999.00,9,  -999.00,9,    165,-999.000,  -999.0, 18.6725